{"text_format":"1","workbook":"xlsx","n_sheets":13,"sheets":["Registro de cambios","configuracion","DIGITADOR","DATOS","Turnos","referentes","Otras referencias","AGD_MUESTREOS","AGD_MUESTRAS","AGD_PARAMETRO","AGD_MUESTRAS_VARIABLES","AGD_AUTORIAS","MAPA"],"not_rendered":{"charts":0,"images":0,"macros":1,"external_links":0,"defined_names":5,"comments":2,"pivot_tables":0},"unopened":[],"bounds":{"document_bytes":16777216,"sheet_cells":100000,"rows_first":2000,"rows_last":500,"rows_between":2000,"halvings":0,"cell_chars":16384,"cell_head_chars":4096},"cells_cut":1,"cells_raw":0,"read":"whole","date_system":"1900"}

{"sheet":"Registro de cambios","index":0,"n_rows":11,"n_cols":12,"rows_kept":11,"cut":false,"hidden":true,"merged":[[2,0,3,3],[3,4,3,11],[4,5,4,9],[7,5,7,9],[10,5,10,9],[9,5,9,9],[8,5,8,9],[6,5,6,9],[5,5,5,9]]}
[]
[]
["EL REGISTRO DE CAMBIOS SIEMPRE INSERTARLO EN LA FILA 6"]
[null,null,null,null,"REGISTRO DE CAMBIOS"]
[null,null,null,null,"VERSIÓN No.","CAMBIO REALIZADO",null,null,null,null,"FECHA","AUTOR"]
[null,null,null,null,"20241113i","Actualización del código de la macro.\n\nSe eliminó la URL de la antigua API de portete:\n       http://portete.invemar.org.co:7003/ArgosWebServices-RESTWebService-context-root/rest/1.0\n\nFue reemplazada por la URL de la API de ARGOS:\n       https://argos.invemar.org.co/api/\n\nLa API contiene End Points que permiten tener mayor control, facilitan la descarga de referentes (listas de usuarios, estaciones, especies, etc.) que corresponden a criterios específicos como el proyecto usado en la plantilla para evitar descargar data innecesaria.\n\nDel mismo modo, también permite la carga de información a la BDD del INVEMAR.\n\nLa macro toma los Endpoints desde la hoja configuracion de una tabla llamada \"Configuración referentes\", a la que se le puede modificar las rutas de la API o agregar nuevas. cabe resaltar que se puede \"quemar\" directamente en la macro los Endpoints que lo requieran.",null,null,null,null,"2024-11-13","Juan Palomino"]
[null,null,null,null,"20220822m","Se corrigió el mapeo de la columna comportamiento.\nSe corrigió la fórmula de la longitud.\nSe agregó la hoja MAPA para representar de manera gráfica las coordenadas de latitud y longitud de las muestras que se recolecten.",null,null,null,null,"2022-08-22","Kevin Moreno"]
[null,null,null,null,"20220706m","Se modifico la plantilla en la pestaña digitador para aceptar mas de un proyecto [ beata en este caso ]",null,null,null,null,"2022-07-06","Santiago Dangond"]
[null,null,null,null,"20220419m","Se arreglaron las formulas y actualizaron las macros para descargar referes (cambios comentados en el codigo ). \nSe añadio el nombre del archivo a los parametros.",null,null,null,null,"2022-04-19","Santiago Dangond"]
[null,null,null,null,"1.0","Se realizan ajustes y se agregan nuevos referentes.\n",null,null,null,null,"2019-07-15"]
[null,null,null,null,"1.0","Se realizan ajustes y se agregan nuevos referentes.\nSe agregan nuevas columnas: ORIGEN REGISTRO, TIPO EVIDENCIA Y TIPO DOBLE",null,null,null,null,"2019-08-12"]

{"sheet":"configuracion","index":1,"n_rows":107,"n_cols":80,"rows_kept":107,"cut":false,"hidden":true,"merged":[[23,0,26,0],[0,0,2,0],[3,0,5,0],[7,0,8,0],[9,0,15,0],[17,0,21,0],[45,4,46,6],[45,7,46,9],[45,10,46,12],[61,0,61,2],[28,0,35,0],[37,0,42,0],[45,0,45,1]]}
["general","urlServicio","https://argos.invemar.org.co/api/"]
[null,"fila de inicio",2,null,null,null,null,null,null,null,null,null,null,null,null,null,null,null,null,null,null,null,null,null,null,null,null,null,null,null,null,null,null,null,null,null,null,null,null,null,null,null,null,null,null,null,null,null,null,null,null,null,null,null,null,null,null,null,null,null,null,null,null,null,null,null,null,null,null,null,null,null,null,null,null,null,null,null,null,{"$cut":{"chars":32767,"head":"{\n  \"items\" : [ {\n    \"IdMetodologia\" : 792,\n    \"IdParametro\" : 903,\n    \"IdUnidadMedida\" : 100,\n    \"TipoDato\" : 4,\n    \"Tabla\" : \"AG_LOV\",\n    \"Conjunto\" : 1103,\n    \"ParametroOVariable\" : 0,\n    \"EsCabecera\" : 0,\n    \"Vigencia\" : \"S\",\n    \"NombreColumna\" : \"ORIGEN_REGISTRO\",\n    \"Orden\" : 1,\n    \"UsoGrafica\" : null,\n    \"links\" : [ {\n      \"rel\" : \"self\",\n      \"href\" : \"http://portete.invemar.org.co:7003/ArgosWebServices-RESTWebService-context-root/rest/1.0/referente/000300000124ACED0005737200146A6176612E6D6174682E426967446563696D616C54C71557F981284F0300024900057363616C654C0006696E7456616C7400164C6A6176612F6D6174682F426967496E74656765723B787200106A6176612E6C616E672E4E756D62657286AC951D0B94E08B020000787000000000737200146A6176612E6D6174682E426967496E74656765728CFC9F1FA93BFB1D030006490008626974436F756E744900096269744C656E67746849001366697273744E6F6E7A65726F427974654E756D49000C6C6F776573745365744269744900067369676E756D5B00096D61676E69747564657400025B427871007E0002FFFFFFFFFFFFFFFFFFFFFFFEFFFFFFFE00000001757200025B42ACF317F8060854E00200007870000000020318787800000124ACED0005737200146A6176612E6D6174682E426967446563696D616C54C71557F981284F0300024900057363616C654C0006696E7456616C7400164C6A6176612F6D6174682F426967496E74656765723B787200106A6176612E6C616E672E4E756D62657286AC951D0B94E08B020000787000000000737200146A6176612E6D6174682E426967496E74656765728CFC9F1FA93BFB1D030006490008626974436F756E744900096269744C656E67746849001366697273744E6F6E7A65726F427974654E756D49000C6C6F776573745365744269744900067369676E756D5B00096D61676E69747564657400025B427871007E0002FFFFFFFFFFFFFFFFFFFFFFFEFFFFFFFE00000001757200025B42ACF317F8060854E00200007870000000020387787800000123ACED0005737200146A6176612E6D6174682E426967446563696D616C54C71557F981284F0300024900057363616C654C0006696E7456616C7400164C6A6176612F6D6174682F426967496E74656765723B787200106A6176612E6C616E672E4E756D62657286AC951D0B94E08B020000787000000000737200146A6176612E6D6174682E426967496E74656765728CFC9F1FA93BFB1D030006490008626974436F756E744900096269744C656E67746849001366697273744E6F6E7A65726F427974654E756D49000C6C6F776573745365744269744900067369676E756D5B00096D61676E69747564657400025B427871007E0002FFFFFFFFFFFFFFFFFFFFFFFEFFFFFFFE00000001757200025B42ACF317F8060854E0020000787000000001647878\",\n      \"name\" : \"referente\",\n      \"kind\" : \"item\"\n    }, {\n      \"rel\" : \"canonical\",\n      \"href\" : \"http://portete.invemar.org.co:7003/ArgosWebServices-RESTWebService-context-root/rest/1.0/referente/000300000124ACED0005737200146A6176612E6D6174682E426967446563696D616C54C71557F981284F0300024900057363616C654C0006696E7456616C7400164C6A6176612F6D6174682F426967496E74656765723B787200106A6176612E6C616E672E4E756D62657286AC951D0B94E08B020000787000000000737200146A6176612E6D6174682E426967496E74656765728CFC9F1FA93BFB1D030006490008626974436F756E744900096269744C656E67746849001366697273744E6F6E7A65726F427974654E756D49000C6C6F776573745365744269744900067369676E756D5B00096D61676E69747564657400025B427871007E0002FFFFFFFFFFFFFFFFFFFFFFFEFFFFFFFE00000001757200025B42ACF317F8060854E00200007870000000020318787800000124ACED0005737200146A6176612E6D6174682E426967446563696D616C54C71557F981284F0300024900057363616C654C0006696E7456616C7400164C6A6176612F6D6174682F426967496E74656765723B787200106A6176612E6C616E672E4E756D62657286AC951D0B94E08B020000787000000000737200146A6176612E6D6174682E426967496E74656765728CFC9F1FA93BFB1D030006490008626974436F756E744900096269744C656E67746849001366697273744E6F6E7A65726F427974654E756D49000C6C6F776573745365744269744900067369676E756D5B00096D61676E69747564657400025B427871007E0002FFFFFFFFFFFFFFFFFFFFFFFEFFFFFFFE00000001757200025B42ACF317F8060854E00200007870000000020387787800000123ACED0005737200146A6176612E6D6174682E426967446563696D616C54C71557F981284F0300024900057363616C654C0006696E7456616C7400164C6A6176612F6D6174682F426967496E74656765723B787200106A6176612E6C616E672E4E756D62657286AC951D0B94E08B020000787000000000737200146A6176612E6D6174682E426967496E74656765728CFC9F1FA93BFB1D030006490008626974436F756E744900096269744C656E67746849001366697273744E6F6E7A65726F427974654E756D49000C6C6F776573745365744269744900067369676E7"}}]
[null,"fila de fin",3500]
["metodologias","Metodologias",792]
[null,"Referentes",500]
[null,"Cantidad maxima de referentes ",500]
["estaciones/investigadores","proyectos",2366]
["Lista especies","metodologias",792]
[null,"proyectos",2366]
["MUESTREOS","ID_MUESTREO","DATOS,B"]
[null,"ID_ESTACION","DATOS,Q"]
[null,"ID_PROYECTO",{"$f":"DIGITADOR!B9","v":""}]
[null,"ID_METODOLOGIA",792]
[null,"ID_TEMATICAS",250]
[null,"FECHA","DATOS,N"]
[null,"NOTAS"]
[null,"cantidad",3500]
["parametro muestreo","ID_MUESTREO","DATOS,B","DATOS,B","DATOS,B"]
[null,"ID_PARAMETRO",1055,1170,1169]
[null,"ID_METODOLOGIA",792,792,792]
[null,"ID_UNIDAD_MEDIDA",100,100,100]
[null,"VALOR","DIGITADOR,B,6","DIGITADOR,B,11","DIGITADOR,B,12"]
[null,"cantidad",3500,3500,3500]
["muestra","ID_MUESTRA","DATOS,BU"]
[null,"ID_MUESTREO","DATOS,B"]
[null,"NOTAS","DATOS,BS"]
[null,"ES_REPLICA",1]
[null,"cantidad",3500]
["muestra variable","ID_PARAMETRO",903,904,828,1136,905,906,908,909,614,829,910,912,612,611,597,598,1050,1051,1028,1052,1053,1054,1155,1082,1083,1070,1156,1157,564,608,609,166,589,591,595,1137,607,907,1650]
[null,"ID_METODOLOGIA",792,792,792,792,792,792,792,792,792,792,792,792,792,792,792,792,792,792,792,792,792,792,792,792,792,792,792,792,792,792,792,792,792,792,792,792,792,792,792]
[null,"ID_UNIDAD_MEDIDA",100,100,100,100,100,100,100,100,100,100,100,100,100,100,100,100,100,100,100,100,100,100,100,100,100,100,100,100,19,19,19,10,100,100,100,100,100,100,100]
[null,"ID_MUESTRA","DATOS,BU","DATOS,BU","DATOS,BU","DATOS,BU","DATOS,BU","DATOS,BU","DATOS,BU","DATOS,BU","DATOS,BU","DATOS,BU","DATOS,BU","DATOS,BU","DATOS,BU","DATOS,BU","DATOS,BU","DATOS,BU","DATOS,BU","DATOS,BU","DATOS,BU","DATOS,BU","DATOS,BU","DATOS,BU","DATOS,BU","DATOS,BU","DATOS,BU","DATOS,BU","DATOS,BU","DATOS,BU","DATOS,BU","DATOS,BU","DATOS,BU","DATOS,BU","DATOS,BU","DATOS,BU","DATOS,BU","DATOS,BU","DATOS,BU","DATOS,BU","DATOS,BU"]
[null,"ID_METODO"]
[null,"VALOR","DATOS,CJ","DATOS,BV","DATOS,G","DATOS,H","DATOS,BW","DATOS,BX","DATOS,S","DATOS,BY","DATOS,BZ","DATOS,CA","DATOS,T","DATOS,CB","DATOS,CD","DATOS,CC","DATOS,CE","DATOS,CF","DATOS,AJ","DATOS,AK","DATOS,AL","DATOS,AM","DATOS,AN","DATOS,AO","DATOS,AP","DATOS,AQ","DATOS,AR","DATOS,AS","DATOS,CK","DATOS,CL","DATOS,AV","DATOS,AW","DATOS,AX","DATOS,AY","DATOS,BN","DATOS,BO","DATOS,CG","DATOS,CH","DATOS,BR","DATOS,M","DATOS,X"]
[null,"QUALITY_FLAG"]
[null,"PRECISION"]
[null,"cantidad",3500,3500,3500,3500,3500,3500,3500,3500,3500,3500,3500,3500,3500,3500,3500,3500,3500,3500,3500,3500,3500,3500,3500,3500,3500,3500,3500,3500,3500,3500,3500,3500,3500,3500,3500,3500,3500,3500,3500]
["autoria","ID_FUNCIONARIO","DIGITADOR,B,2","DATOS,CB"]
[null,"ID_TAREA",5,21]
[null,"ORDEN",1,2]
[null,"FECHA","DIGITADOR,B,8","DATOS,CC"]
[null,"ID_MUESTREO","DATOS,BT","DATOS,B"]
[null,"ENTIDAD","DIGITADOR,B,4","DATOS,G"]
[null,"cantidad",3500,3500]
[]
["REGISTROS GENERADOS",null,"REGISTROS CARGADOS",null,"792 - AVES",null,null,"791 - MAMIFEROS",null,null,"793 - TORTUGAS"]
["MUESTREOS",null,null,null,null,null,null,791,"MAMIFEROS",null,null,793,"TORTUGA"]
["parametro muestreo",null,null,null,"ID_PARAMETRO","NOMBRE_COLUMNA","TABLA","ID_PARAMETRO","NOMBRE_COLUMNA","TABLA","ID_PARAMETRO","NOMBRE_COLUMNA","TABLA"]
["muestra",null,null,null,166,"TAMANO_cm",null,367,"PROFUNDIDAD_M",null,367,"PROFUND_m"]
["muestra variable",null,null,null,564,"NUMERO_ANIMALES",null,564,"NUM_ANIMALES",null,564,"NUMERO_ANIMALES"]
["autoria",null,null,null,589,"COMPORTAMIENTO",null,585,"ESPECIE",null,586,"ANGULO_OBSERVACION"]
["registros correctos",null,null,null,591,"DIRECCION_GRUPO",null,586,"ANGULO_OBSERVACION",null,587,"ACCION",440]
["Fecha de carga",null,null,null,595,"EVIDENCIA",443,587,"ACCION",440,588,"CAUSE_DEAD",449]
["json error",null,null,null,597,"LAT_DECIMAL",null,588,"CAUSE_DEAD",449,591,"DIRECCION_GRUPO"]
["error",null,null,null,598,"LON_DECIMAL",null,589,"COMPORTAMIENTO",null,592,"DISEASES",446]
[null,null,null,null,607,"TIPO_DOBLE",null,590,"COMPOSICION_GRUPAL",441,593,"DISTANCIA_B_M"]
[null,null,null,null,608,"NUMERO_ADULTOS",null,591,"DIRECCION_GRUPO",null,595,"EVIDENCIA",443]
["Atributo","Descripción","Código",null,609,"NUMERO_JOVENES",null,592,"DISEASES",446,596,"INTERACTION_FISHE",447]
["Tipo Nodo","Estaciones",{"$f":"VLOOKUP(B59,'Otras referencias'!$A$29:$C$39,2,FALSE)","v":40},null,611,"TIEMPO_FINAL",null,593,"DISTANCIA_M",null,597,"LAT_DECIMAL"]
[null,null,null,null,612,"TIEMPO_INICIAL",null,595,"EVIDENCIA",443,598,"LON_DECIMAL"]
[null,null,null,null,614,"TIPO_CONTRATO",452,596,"INTERACTION_FISHE",447,599,"LOCATION"]
["CONFIGURACION REFERENTES",null,null,null,828,"ENTIDAD",1100,597,"LATITUD_DECIMAL",null,600,"NECROPSY",448]
["Ruta de la API","Endpoint","Descripción",null,829,"REGION",459,598,"LONGITUD_DECIMAL",null,601,"PISTOLAS",439]
["URL - AGM Campo",{"$f":"CONCATENATE(\"parametros/agmcampo/\",$C$4,\"\")","v":"parametros/agmcampo/792"},"Listado de referentes AGM_CAMPO.",null,903,"ORIGEN_REGISTRO",1103,599,"LOCATION",null,602,"RELACION_DOBLE"]
["URL - Especies",{"$f":"IF($C$8=\"\",\"\",CONCATENATE(\"especies/filt/\",$C$9,\",\",$C$8,\"/\"))","v":"especies/filt/2366,792/"},"Especies por proyecto\n(No todos los proyectos tienen asociados una lista de especies)",null,904,"EVENT_TYPE",434,600,"NECROPSY",448,603,"SEASON",450]
["URL - Estaciones",{"$f":"CONCATENATE(\"estaciones/\", $C$59, \"/\",$C$9,\"\")","v":"estaciones/40/2366"},"Estaciones/parcelas por proyecto, cambia dependiendo del Tipo de Nodo, cuyo estado sea VIGENTE.",null,905,"TIPO_ORIGEN",905,601,"PISTOLAS",439,604,"STATUS",1046]
["URL - Usuarios",{"$f":"CONCATENATE(\"parametros/usersByProject/\",$C$7,\"\")","v":"parametros/usersByProject/2366"},"Usuarios por proyecto.",null,906,"CERTEZA_DATOS",437,602,"RELACION_DOBLE",null,607,"TIPO_DOBLE"]
["URL - Entidades","estaciones/get-entidades","Listado de entidades.",null,907,"EMBARCACION",1104,603,"SEASON",450,608,"NUM_ADULTOS"]
["Atributos de la API","codigo_in","nombre_in",null,908,"TURNO",null,604,"STATUS",1046,609,"NUM_JOVENES"]
["Rango de atributos de la API","B70:C71","nombre_in",null,909,"CONTRATO",453,607,"TIPO_DOBLE",null,611,"TIEMPO_FINAL"]
["URL - Plantillas","plantillas/","Endpoint para la carga de datos al sistema.",null,910,"ID_AVISTAMIENTO",null,608,"NUM_ADULTOS",null,612,"TIEMPO_INICIAL"]
[null,null,null,null,912,"OBSERVADOR_TURNO",null,609,"NUM_JOVENES",null,614,"TIPO_CONTRATO",452]
[null,null,null,null,1028,"ORDEN",null,610,"FECHA_MUESTRA",null,828,"ENTIDAD",1100]
[null,null,null,null,1050,"PHYLUM",null,611,"TIEMPO_INICIAL",null,829,"REGION",459]
[null,null,null,null,1051,"CLASE",null,612,"TIEMPO_FINAL",null,903,"ORIGEN_REGISTRO",1103]
[null,null,null,null,1052,"FAMILIA",null,614,"CONTRATO_TIPO",452,904,"EVENT_TYPE",434]
[null,null,null,null,1053,"GENERO",null,828,"ENTIDAD",1045,905,"TIPO_ORIGEN",905]
[null,null,null,null,1054,"EPITETO_ESPECIFICO",null,829,"REGION",459,906,"CERTEZA_DATOS",437]
[null,null,null,null,1055,"VERSION_PLANTILLA",null,903,"ORIGEN_REGISTRO",1103,907,"EMBARCACION",1104]
[null,null,null,null,1070,"AUTOR",null,904,"EVENT_TYPE",434,908,"TURNO"]
[null,null,null,null,1082,"NOMBRE_COMUN",null,905,"TIPO_REGISTRO",905,909,"CONTRATO",453]
[null,null,null,null,1083,"COMMUN_NAME",null,906,"CERTEZA_DATOS",437,910,"ID_AVISTAMIENTO"]
[null,null,null,null,1136,"NRO_EXPEDIENTE_ANLA",null,907,"EMBARCACION",1104,912,"OBSERVADOR_TURNO"]
[null,null,null,null,1137,"EVIDENCIA_TIPO",1091,908,"TURNO",null,1028,"ORDEN"]
[null,null,null,null,1155,"NOMBRE_CIENTIFICO",null,909,"CONTRATO",453,1050,"PHYLUM"]
[null,null,null,null,1156,"ESTATUS_VERIFICACION",1102,910,"ID_AVISTAMIENTO",null,1051,"CLASE"]
[null,null,null,null,1157,"ESTADO_REG_BIOLOGICO",1101,911,"COD_SIBM",null,1052,"FAMILIA"]
[null,null,null,null,1169,"URL_METADATO",null,912,"OBSERVADOR_TURNO",null,1053,"GENERO"]
[null,null,null,null,1170,"ARCHIVO_FUENTE",null,914,"EMBARQUE",null,1054,"EPITETO_ESPECIFICO"]
[null,null,null,null,null,null,null,1028,"ORDEN",null,1055,"VERSION_PLANTILLA"]
[null,null,null,null,null,null,null,1050,"PHYLUM",null,1070,"AUTOR"]
[null,null,null,null,null,null,null,1051,"CLASE",null,1082,"NOMBRE_COMUN"]
[null,null,null,null,null,null,null,1052,"FAMILIA",null,1083,"COMMUN_NAME"]
[null,null,null,null,null,null,null,1053,"GENERO",null,1134,"DIRECCION_BARCO"]
[null,null,null,null,null,null,null,1054,"EPITETO_ESPECIFICO",null,1136,"NRO_EXPEDIENTE_ANLA"]
[null,null,null,null,null,null,null,1055,"VERSION_PLANTILLA",null,1137,"EVIDENCIA_TIPO",1091]
[null,null,null,null,null,null,null,1070,"AUTOR",null,1155,"NOMBRE_CIENTIFICO"]
[null,null,null,null,null,null,null,1082,"NOMBRE_COMUN",null,1156,"ESTATUS_VERIFICACION",1102]
[null,null,null,null,null,null,null,1083,"COMMUN_NAME",null,1157,"ESTADO_REG_BIOLOGICO",1101]
[null,null,null,null,null,null,null,1134,"DIRECCION_BARCO",null,1169,"URL_METADATO"]
[null,null,null,null,null,null,null,1136,"NRO_EXPEDIENTE_ANLA",null,1170,"ARCHIVO_FUENTE"]
[null,null,null,null,null,null,null,1137,"EVIDENCIA_TIPO",1091]
[null,null,null,null,null,null,null,1155,"NOMBRE_CIENTIFICO"]
[null,null,null,null,null,null,null,1156,"ESTATUS_VERIFICACION",1102]
[null,null,null,null,null,null,null,1157,"ESTADO_REG_BIOLOGICO",1101]
[null,null,null,null,null,null,null,1169,"URL_METADATO"]
[null,null,null,null,null,null,null,1170,"ARCHIVO_FUENTE"]

{"sheet":"DIGITADOR","index":2,"n_rows":26,"n_cols":4,"rows_kept":26,"cut":false,"hidden":false,"merged":[[14,3,16,9],[0,0,0,1],[0,3,6,9],[6,0,7,0],[7,3,11,9],[12,3,13,9]]}
["Recolección de Información\nAvistamientos de Aves Marinas",null,null,"Recomendaciones generales: \n¡Precaución! No inserte Filas o Columnas.\nEn los casos en que falte un valor a ingresar que provenga de la hoja de referencias, informe para que el administrador del sistema haga las adiciones necesarias.\nEsta es una plantilla programada. Las columnas de color oscuro se llenan automaticamente, principalmente a partir de los contenidos de la hoja de referencias. \nNO UTILICE PUNTO Y COMA (;) en ningun campo, por ser el separador de variables (columnas). Tampoco escriba las unidades de medida, no son necesarias.\nPara el correcto funcionamiento de la hoja debe estar activa la opcion de Excel de ejecutar macros (al abrir la hoja acepte la opcion habilitar macros, mensaje de Excel que aparece en la parte superior de la hoja en un recuadro amarillo). La extensión del archivo debe ser .xlsm\nSe recomienda renombrar el archivo de la siguiente manera: SIMAC_Riqueza_NombreEstacion_FechaMonitoreo.xlsm"]
["Código del digitador",{"$f":"IF(B3=\"\",\"\",INDEX(referentes!AZ:BA,MATCH(B3,referentes!BA:BA,0),1))","v":""}]
["Nombre del responsable"]
["Entidad"]
[]
["Versión de la plantilla",{"$f":"'Registro de cambios'!$E$6","v":"20241113i"}]
["Fecha en la que ingresa los datos en esta hoja","DD/MM/AAAA"]
[null,"3000-12-12",null,"Previamente a iniciar el llenado de la plantilla, debe presionar el botón \"Descargar referentes\" para que los referentes de ésta plantilla sean actualizados. \nLuego de llenar completamente la plantilla, haga clic sobre el botón \"Generar tablas\" para que los datos sean organizados antes de cargarlos al Sistema de Información.\nAntes de presionar el botón \"Generar tablas\" verifique que:\na. No haya celdas con valores como \"#N/A\" o \"#¡REF!\"\nb. No se esten aplicando filtros en la hoja de datos \nPara finalizar, presione el botón \"Cargar datos\"."]
["Cod_Proyecto",{"$f":"IF(B10=\"\",\"\",INDEX('Otras referencias'!P6:Q51,MATCH(B10,'Otras referencias'!Q6:Q51,0),1))","v":""}]
["Nombre del Proyecto"]
["Nombre del archivo",{"$f":"MID(CELL(\"FILENAME\",N63),FIND(\"[\",CELL(\"FILENAME\",N63))+1,   FIND(\"]\",CELL(\"FILENAME\",N63))-FIND(\"[\",CELL(\"FILENAME\",N63))-1)","v":"OFM_Aves_20241113i.xlsm"}]
["DOI Metadato"]
["Fuente Plantilla","http://cinto.invemar.org.co/download/Plantillas_ARGOS_Plus/",null,"Si requiere ayuda contacte a:\nKevin S. Moreno (kevin.moreno@invemar.org.co)  - Apoyo técnico software"]
[]
[null,null,null,"El custodio de los datos es el único autorizado para distribuir este conjunto de datos. El observador y el digitador se comprometen a tomar las medidas necesarias para salvaguardar este conjunto de datos de modo que copia de los mismos no sean obtenidas y/o usadas por terceros no relacionados con el propósito para la cual se recolectó."]
[]
[]
[null,"REGISTROS GENERADOS","REGISTROS CARGADOS"]
["Muestreos",{"$f":"IF(configuracion!B47=\"\",\"\",configuracion!B47)","v":""},{"$f":"IF(configuracion!C47=\"\",\"\",configuracion!C47)","v":""}]
["Parámetros del muestreo",{"$f":"IF(configuracion!B48=\"\",\"\",configuracion!B48)","v":""},{"$f":"IF(configuracion!C48=\"\",\"\",configuracion!C48)","v":""}]
["Muestras",{"$f":"IF(configuracion!B49=\"\",\"\",configuracion!B49)","v":""},{"$f":"IF(configuracion!C49=\"\",\"\",configuracion!C49)","v":""}]
["Variables",{"$f":"IF(configuracion!B50=\"\",\"\",configuracion!B50)","v":""},{"$f":"IF(configuracion!C50=\"\",\"\",configuracion!C50)","v":""}]
["Autores",{"$f":"IF(configuracion!B51=\"\",\"\",configuracion!B51)","v":""},{"$f":"IF(configuracion!C51=\"\",\"\",configuracion!C51)","v":""}]
["Registros correctos",{"$f":"IF(configuracion!B52=\"\",\"\",configuracion!B52)","v":""},{"$f":"IF(configuracion!C52=\"\",\"\",configuracion!C52)","v":""}]
["json error",{"$f":"IF(configuracion!B53=\"\",\"\",configuracion!B53)","v":""},{"$f":"IF(configuracion!C53=\"\",\"\",configuracion!C53)","v":""}]
["error",{"$f":"IF(configuracion!B54=\"\",\"\",configuracion!B54)","v":""},{"$f":"IF(configuracion!C54=\"\",\"\",configuracion!C54)","v":""}]

{"sheet":"DATOS","index":3,"n_rows":502,"n_cols":90,"rows_kept":502,"cut":false,"hidden":false,"merged":[]}
[{"$f":"DIGITADOR!B8","v":"3000-12-12"},"ID MUESTREO","ID INGRESO AVES","ORIGEN REGISTRO","EVENT TYPE","TIPO REGISTRO","ENTIDAD","NRO. EXPEDIENTE ANLA","CONTRATO","CONTRATO TIPO","CAMPAÑA","EMBARCACIÓN","BARCO","Fecha Muestreo","E+F","CONSECUTIVO","ID ESTACION","FECHA","TURNO","ID AVISTAMIENTO","AÑO","MES","DIA","OBSERVADOR","OBSERVADOR TURNO","TIEMPO INICIAL","TIEMPO FINAL","REGION","LAT GRADOS","LAT\nMINS","LAT\nSEGS","LON\nGRADOS","LON\nMINSs","LON\nSEGS","CERTEZA DATOS","PHYLUM","CLASE","ORDEN","FAMILIA","GENERO","EPITETO\nESPECIFICO","NOMBRE CIENTÍFICO","NOMBRE COMUN","NOMBRE COMUN EN INGLÉS","AUTOR\nNOMBRE CIENTIFICO","ESTATUS\nVERIFICACION DE IDENTIFICACION","ESTADO\nREGISTRO BIOLOGICO","NUMERO ANIMALES","NUMERO ADULTOS","NUMERO JUVENILES","TAMAÑO (cm)","COMPORTAMIENTO","FY","OW","FV","EA","PR","PE","RE","O ",null,null,null,null,null,"RESUMEN\n(COMPORTAMIENTO)","DIRECCION GRUPO","EVIDENCIA","TIPO EVIDENCIA","TIPO DOBLE","OBSERVACIONES","AGD_MUESTREO","ID_MUESTRA","CDG EVENT TYPE","CDG TIPO ORIGEN","CDG CERTEZA DATOS","CDG CONTRATO","CDG TIPO CONTRATO","CDG REGION","CDG\nOBSERVADOR TURNO","Fecha + Tiempo Inicial","Fecha + Tiempo Final","LAT DECIMAL","LON DECIMAL","CDG EVIDENCIA","CDG\nTIPO EVIDENCIA","OBSERVADOR","CDG\nORIGEN REGISTRO","CDG\nESTATUS VERIFICACION DE IDENTIFICACION","CDG ESTADO REGISTRO BIOLOGICO"]
[{"$f":"TEXT(A1,\"yyyymmdd\")","v":"30001212"},{"$f":"IF(BT2=\"\",\"\",IF(COUNTIF($BT2:BT2, BT2)>1, \"\", BT2))","v":""},null,null,null,null,null,null,null,null,null,null,{"$f":"IF(L2=\"\",\"\",INDEX(referentes!AK:AL,MATCH(L2,referentes!AL:AL,0),1))","v":""},{"$f":"IF(R2=\"\",\"\",R2)","v":""},null,1,{"$f":"IF(K2=\"\",\"\",INDEX('Otras referencias'!F:I,MATCH(K2,'Otras referencias'!I:I,0),1))","v":""},{"$f":"IF(U2=\"\",\"\",DATEVALUE(CONCATENATE(U2,\"/\",TEXT(V2,\"00\"),\"/\",TEXT(W2,\"00\"))))","v":""},null,null,null,null,null,null,null,null,null,null,null,null,null,null,null,null,null,null,null,null,null,null,null,null,null,null,null,null,null,null,null,null,null,null,{"$f":"IF(ISERR(FIND($BA$1,AZ2)),0,1)","v":0},{"$f":"IF(ISERR(FIND($BB$1,AZ2)),0,1)","v":0},{"$f":"IF(ISERR(FIND($BC$1,AZ2)),0,1)","v":0},{"$f":"IF(ISERR(FIND($BD$1,AZ2)),0,1)","v":0},{"$f":"IF(ISERR(FIND($BE$1,AZ2)),0,1)","v":0},{"$f":"IF(ISERR(FIND($BF$1,AZ2)),0,1)","v":0},{"$f":"IF(ISERR(FIND($BG$1,AZ2)),0,1)","v":0},{"$f":"IF(ISERR(FIND($BH$1,AZ2)),0,1)","v":0},null,null,null,null,null,{"$f":"BA2+2*BB2+4*BC2+8*BD2+16*BE2+32*BF2+64*BG2+128*BH2","v":0},null,null,null,null,null,{"$f":"IF(R2<>\"\",CONCATENATE($A$2,DIGITADOR!$M$1,ROW()-2),\"\")","v":""},{"$f":"IF(B2=\"\",\"\",CONCATENATE(B2,ROW()-1))","v":""},{"$f":"IF(E2=\"\",\"\",INDEX(referentes!D:E,MATCH(E2,referentes!E:E,0),1))","v":""},{"$f":"IF(F2=\"\",\"\",INDEX(referentes!J:K,MATCH(F2,referentes!K:K,0),1))","v":""},{"$f":"IF(AI2=\"\",\"\",INDEX(referentes!M:N,MATCH(AI2,referentes!N:N,0),1))","v":""},{"$f":"IF(I2=\"\",\"\",INDEX(referentes!P:Q,MATCH(I2,referentes!Q:Q,0),1))","v":""},{"$f":"IF(J2=\"\",\"\",INDEX(referentes!S:T,MATCH(J2,referentes!T:T,0),1))","v":""},{"$f":"IF(AB2=\"\",\"\",INDEX(referentes!V:W,MATCH(AB2,referentes!W:W,0),1))","v":""},{"$f":"IF(Y2=\"\",\"\",INDEX(referentes!AZ:BA,MATCH(Y2,referentes!BA:BA,0),1))","v":""},{"$f":"IF(Z2=\"\",IF(R2=\"\",\"\",R2),R2+Z2)","v":""},{"$f":"IF(AA2=\"\",IF(R2=\"\",\"\",R2),R2+AA2)","v":""},{"$f":"IF(OR(AC2=\"\",AD2=\"\",AE2=\"\"),\"\",AD2/60+AE2/3600+AC2)","v":""},{"$f":"IF(OR(AF2=\"\",AG2=\"\",AH2=\"\"),\"\",(ABS(AF2)+(AG2/60)+(AH2/3600))*-1)","v":""},{"$f":"IF(BP2=\"\",\"\",INDEX(referentes!AE:AF,MATCH(BP2,referentes!AF:AF,0),1))","v":""},{"$f":"IF(BQ2=\"\",\"\",INDEX(referentes!AH:AI,MATCH(BQ2,referentes!AI:AI,0),1))","v":""},"Juancho",{"$f":"IF(D2=\"\",\"\",INDEX(referentes!A:B,MATCH(D2,referentes!B:B,0),1))","v":""},{"$f":"IF(AT2=\"\",\"\",INDEX(referentes!Y:Z,MATCH(AT2,referentes!Z:Z,0),1))","v":""},{"$f":"IF(AU2=\"\",\"\",INDEX(referentes!AB:AC,MATCH(AU2,referentes!AC:AC,0),1))","v":""}]
[{"$f":"DIGITADOR!$B$2","v":""},{"$f":"IF(BT3=\"\",\"\",IF(COUNTIF($BT3:BT3, BT3)>1, \"\", BT3))","v":""},null,null,null,null,null,null,null,null,null,null,{"$f":"IF(L3=\"\",\"\",INDEX(referentes!AK:AL,MATCH(L3,referentes!AL:AL,0),1))","v":""},{"$f":"IF(B3=B2,\"\",IF(R2=\"\",\"\",R2))","v":""},null,{"$f":"P2+1","v":2},{"$f":"IF(K3=\"\",\"\",INDEX('Otras referencias'!F:I,MATCH(K3,'Otras referencias'!I:I,0),1))","v":""},{"$f":"IF(U3=\"\",\"\",DATEVALUE(CONCATENATE(U3,\"/\",TEXT(V3,\"00\"),\"/\",TEXT(W3,\"00\"))))","v":""},null,null,null,null,null,null,null,null,null,null,null,null,null,null,null,null,null,null,null,null,null,null,null,null,null,null,null,null,null,null,null,null,null,null,{"$f":"IF(ISERR(FIND($BA$1,AZ3)),0,1)","v":0},{"$f":"IF(ISERR(FIND($BB$1,AZ3)),0,1)","v":0},{"$f":"IF(ISERR(FIND($BC$1,AZ3)),0,1)","v":0},{"$f":"IF(ISERR(FIND($BD$1,AZ3)),0,1)","v":0},{"$f":"IF(ISERR(FIND($BE$1,AZ3)),0,1)","v":0},{"$f":"IF(ISERR(FIND($BF$1,AZ3)),0,1)","v":0},{"$f":"IF(ISERR(FIND($BG$1,AZ3)),0,1)","v":0},{"$f":"IF(ISERR(FIND($BH$1,AZ3)),0,1)","v":0},null,null,null,null,null,{"$f":"BA3+2*BB3+4*BC3+8*BD3+16*BE3+32*BF3+64*BG3+128*BH3","v":0},null,null,null,null,null,{"$f":"IF(R3<>\"\",CONCATENATE($A$2,DIGITADOR!$M$1,ROW()-2),\"\")","v":""},{"$f":"IF(B3=\"\",\"\",CONCATENATE(B3,ROW()-1))","v":""},{"$f":"IF(E3=\"\",\"\",INDEX(referentes!D:E,MATCH(E3,referentes!E:E,0),1))","v":""},{"$f":"IF(F3=\"\",\"\",INDEX(referentes!J:K,MATCH(F3,referentes!K:K,0),1))","v":""},{"$f":"IF(AI3=\"\",\"\",INDEX(referentes!M:N,MATCH(AI3,referentes!N:N,0),1))","v":""},{"$f":"IF(I3=\"\",\"\",INDEX(referentes!P:Q,MATCH(I3,referentes!Q:Q,0),1))","v":""},{"$f":"IF(J3=\"\",\"\",INDEX(referentes!S:T,MATCH(J3,referentes!T:T,0),1))","v":""},{"$f":"IF(AB3=\"\",\"\",INDEX(referentes!V:W,MATCH(AB3,referentes!W:W,0),1))","v":""},{"$f":"IF(Y3=\"\",\"\",INDEX(referentes!AZ:BA,MATCH(Y3,referentes!BA:BA,0),1))","v":""},{"$f":"IF(Z3=\"\",IF(R3=\"\",\"\",R3),R3+Z3)","v":""},{"$f":"IF(AA3=\"\",IF(R3=\"\",\"\",R3),R3+AA3)","v":""},{"$f":"IF(OR(AC3=\"\",AD3=\"\",AE3=\"\"),\"\",AD3/60+AE3/3600+AC3)","v":""},{"$f":"IF(OR(AF3=\"\",AG3=\"\",AH3=\"\"),\"\",(ABS(AF3)+(AG3/60)+(AH3/3600))*-1)","v":""},{"$f":"IF(BP3=\"\",\"\",INDEX(referentes!AE:AF,MATCH(BP3,referentes!AF:AF,0),1))","v":""},{"$f":"IF(BQ3=\"\",\"\",INDEX(referentes!AH:AI,MATCH(BQ3,referentes!AI:AI,0),1))","v":""},"Juancho",{"$f":"IF(D3=\"\",\"\",INDEX(referentes!A:B,MATCH(D3,referentes!B:B,0),1))","v":""},{"$f":"IF(AT3=\"\",\"\",INDEX(referentes!Y:Z,MATCH(AT3,referentes!Z:Z,0),1))","v":""},{"$f":"IF(AU3=\"\",\"\",INDEX(referentes!AB:AC,MATCH(AU3,referentes!AC:AC,0),1))","v":""}]
[null,{"$f":"IF(BT4=\"\",\"\",IF(COUNTIF($BT4:BT4, BT4)>1, \"\", BT4))","v":""},null,null,null,null,null,null,null,null,null,null,{"$f":"IF(L4=\"\",\"\",INDEX(referentes!AK:AL,MATCH(L4,referentes!AL:AL,0),1))","v":""},{"$f":"IF(B4=B3,\"\",IF(R3=\"\",\"\",R3))","v":""},null,{"$f":"P3+1","v":3},{"$f":"IF(K4=\"\",\"\",INDEX('Otras referencias'!F:I,MATCH(K4,'Otras referencias'!I:I,0),1))","v":""},"",null,null,null,null,null,null,null,null,null,null,null,null,null,null,null,null,null,null,null,null,null,null,null,null,null,null,null,null,null,null,null,null,null,null,{"$f":"IF(ISERR(FIND($BA$1,AZ4)),0,1)","v":0},0,0,0,0,0,0,0,null,null,null,null,null,0,null,null,null,null,null,{"$f":"IF(R4<>\"\",CONCATENATE($A$2,DIGITADOR!$M$1,ROW()-2),\"\")","v":""},"",{"$f":"IF(E4=\"\",\"\",INDEX(referentes!D:E,MATCH(E4,referentes!E:E,0),1))","v":""},{"$f":"IF(F4=\"\",\"\",INDEX(referentes!J:K,MATCH(F4,referentes!K:K,0),1))","v":""},{"$f":"IF(AI4=\"\",\"\",INDEX(referentes!M:N,MATCH(AI4,referentes!N:N,0),1))","v":""},{"$f":"IF(I4=\"\",\"\",INDEX(referentes!P:Q,MATCH(I4,referentes!Q:Q,0),1))","v":""},{"$f":"IF(J4=\"\",\"\",INDEX(referentes!S:T,MATCH(J4,referentes!T:T,0),1))","v":""},{"$f":"IF(AB4=\"\",\"\",INDEX(referentes!V:W,MATCH(AB4,referentes!W:W,0),1))","v":""},{"$f":"IF(Y4=\"\",\"\",INDEX(referentes!AZ:BA,MATCH(Y4,referentes!BA:BA,0),1))","v":""},{"$f":"IF(Z4=\"\",IF(R4=\"\",\"\",R4),R4+Z4)","v":""},"","","",{"$f":"IF(BP4=\"\",\"\",INDEX(referentes!AE:AF,MATCH(BP4,referentes!AF:AF,0),1))","v":""},{"$f":"IF(BQ4=\"\",\"\",INDEX(referentes!AH:AI,MATCH(BQ4,referentes!AI:AI,0),1))","v":""},"Juancho",{"$f":"IF(D4=\"\",\"\",INDEX(referentes!A:B,MATCH(D4,referentes!B:B,0),1))","v":""},{"$f":"IF(AT4=\"\",\"\",INDEX(referentes!Y:Z,MATCH(AT4,referentes!Z:Z,0),1))","v":""},{"$f":"IF(AU4=\"\",\"\",INDEX(referentes!AB:AC,MATCH(AU4,referentes!AC:AC,0),1))","v":""}]
[null,{"$f":"IF(BT5=\"\",\"\",IF(COUNTIF($BT5:BT5, BT5)>1, \"\", BT5))","v":""},null,null,null,null,null,null,null,null,null,null,{"$f":"IF(L5=\"\",\"\",INDEX(referentes!AK:AL,MATCH(L5,referentes!AL:AL,0),1))","v":""},"",null,4,{"$f":"IF(K5=\"\",\"\",INDEX('Otras referencias'!F:I,MATCH(K5,'Otras referencias'!I:I,0),1))","v":""},"",null,null,null,null,null,null,null,null,null,null,null,null,null,null,null,null,null,null,null,null,null,null,null,null,null,null,null,null,null,null,null,null,null,null,0,0,0,0,0,0,0,0,null,null,null,null,null,0,null,null,null,null,null,{"$f":"IF(R5<>\"\",CONCATENATE($A$2,DIGITADOR!$M$1,ROW()-2),\"\")","v":""},"",{"$f":"IF(E5=\"\",\"\",INDEX(referentes!D:E,MATCH(E5,referentes!E:E,0),1))","v":""},{"$f":"IF(F5=\"\",\"\",INDEX(referentes!J:K,MATCH(F5,referentes!K:K,0),1))","v":""},{"$f":"IF(AI5=\"\",\"\",INDEX(referentes!M:N,MATCH(AI5,referentes!N:N,0),1))","v":""},{"$f":"IF(I5=\"\",\"\",INDEX(referentes!P:Q,MATCH(I5,referentes!Q:Q,0),1))","v":""},{"$f":"IF(J5=\"\",\"\",INDEX(referentes!S:T,MATCH(J5,referentes!T:T,0),1))","v":""},{"$f":"IF(AB5=\"\",\"\",INDEX(referentes!V:W,MATCH(AB5,referentes!W:W,0),1))","v":""},{"$f":"IF(Y5=\"\",\"\",INDEX(referentes!AZ:BA,MATCH(Y5,referentes!BA:BA,0),1))","v":""},{"$f":"IF(Z5=\"\",IF(R5=\"\",\"\",R5),R5+Z5)","v":""},"","","",{"$f":"IF(BP5=\"\",\"\",INDEX(referentes!AE:AF,MATCH(BP5,referentes!AF:AF,0),1))","v":""},{"$f":"IF(BQ5=\"\",\"\",INDEX(referentes!AH:AI,MATCH(BQ5,referentes!AI:AI,0),1))","v":""},"Juancho",{"$f":"IF(D5=\"\",\"\",INDEX(referentes!A:B,MATCH(D5,referentes!B:B,0),1))","v":""},{"$f":"IF(AT5=\"\",\"\",INDEX(referentes!Y:Z,MATCH(AT5,referentes!Z:Z,0),1))","v":""},{"$f":"IF(AU5=\"\",\"\",INDEX(referentes!AB:AC,MATCH(AU5,referentes!AC:AC,0),1))","v":""}]
[null,{"$f":"IF(BT6=\"\",\"\",IF(COUNTIF($BT6:BT6, BT6)>1, \"\", BT6))","v":""},null,null,null,null,null,null,null,null,null,null,{"$f":"IF(L6=\"\",\"\",INDEX(referentes!AK:AL,MATCH(L6,referentes!AL:AL,0),1))","v":""},"",null,5,{"$f":"IF(K6=\"\",\"\",INDEX('Otras referencias'!F:I,MATCH(K6,'Otras referencias'!I:I,0),1))","v":""},"",null,null,null,null,null,null,null,null,null,null,null,null,null,null,null,null,null,null,null,null,null,null,null,null,null,null,null,null,null,null,null,null,null,null,0,0,0,0,0,0,0,0,null,null,null,null,null,0,null,null,null,null,null,{"$f":"IF(R6<>\"\",CONCATENATE($A$2,DIGITADOR!$M$1,ROW()-2),\"\")","v":""},"",{"$f":"IF(E6=\"\",\"\",INDEX(referentes!D:E,MATCH(E6,referentes!E:E,0),1))","v":""},{"$f":"IF(F6=\"\",\"\",INDEX(referentes!J:K,MATCH(F6,referentes!K:K,0),1))","v":""},{"$f":"IF(AI6=\"\",\"\",INDEX(referentes!M:N,MATCH(AI6,referentes!N:N,0),1))","v":""},{"$f":"IF(I6=\"\",\"\",INDEX(referentes!P:Q,MATCH(I6,referentes!Q:Q,0),1))","v":""},{"$f":"IF(J6=\"\",\"\",INDEX(referentes!S:T,MATCH(J6,referentes!T:T,0),1))","v":""},{"$f":"IF(AB6=\"\",\"\",INDEX(referentes!V:W,MATCH(AB6,referentes!W:W,0),1))","v":""},{"$f":"IF(Y6=\"\",\"\",INDEX(referentes!AZ:BA,MATCH(Y6,referentes!BA:BA,0),1))","v":""},"","","","",{"$f":"IF(BP6=\"\",\"\",INDEX(referentes!AE:AF,MATCH(BP6,referentes!AF:AF,0),1))","v":""},{"$f":"IF(BQ6=\"\",\"\",INDEX(referentes!AH:AI,MATCH(BQ6,referentes!AI:AI,0),1))","v":""},"Juancho",{"$f":"IF(D6=\"\",\"\",INDEX(referentes!A:B,MATCH(D6,referentes!B:B,0),1))","v":""},{"$f":"IF(AT6=\"\",\"\",INDEX(referentes!Y:Z,MATCH(AT6,referentes!Z:Z,0),1))","v":""},{"$f":"IF(AU6=\"\",\"\",INDEX(referentes!AB:AC,MATCH(AU6,referentes!AC:AC,0),1))","v":""}]
[null,{"$f":"IF(BT7=\"\",\"\",IF(COUNTIF($BT7:BT7, BT7)>1, \"\", BT7))","v":""},null,null,null,null,null,null,null,null,null,null,{"$f":"IF(L7=\"\",\"\",INDEX(referentes!AK:AL,MATCH(L7,referentes!AL:AL,0),1))","v":""},"",null,6,{"$f":"IF(K7=\"\",\"\",INDEX('Otras referencias'!F:I,MATCH(K7,'Otras referencias'!I:I,0),1))","v":""},"",null,null,null,null,null,null,null,null,null,null,null,null,null,null,null,null,null,null,null,null,null,null,null,null,null,null,null,null,null,null,null,null,null,null,0,0,0,0,0,0,0,0,null,null,null,null,null,0,null,null,null,null,null,{"$f":"IF(R7<>\"\",CONCATENATE($A$2,DIGITADOR!$M$1,ROW()-2),\"\")","v":""},"",{"$f":"IF(E7=\"\",\"\",INDEX(referentes!D:E,MATCH(E7,referentes!E:E,0),1))","v":""},{"$f":"IF(F7=\"\",\"\",INDEX(referentes!J:K,MATCH(F7,referentes!K:K,0),1))","v":""},{"$f":"IF(AI7=\"\",\"\",INDEX(referentes!M:N,MATCH(AI7,referentes!N:N,0),1))","v":""},{"$f":"IF(I7=\"\",\"\",INDEX(referentes!P:Q,MATCH(I7,referentes!Q:Q,0),1))","v":""},{"$f":"IF(J7=\"\",\"\",INDEX(referentes!S:T,MATCH(J7,referentes!T:T,0),1))","v":""},{"$f":"IF(AB7=\"\",\"\",INDEX(referentes!V:W,MATCH(AB7,referentes!W:W,0),1))","v":""},{"$f":"IF(Y7=\"\",\"\",INDEX(referentes!AZ:BA,MATCH(Y7,referentes!BA:BA,0),1))","v":""},"","","","",{"$f":"IF(BP7=\"\",\"\",INDEX(referentes!AE:AF,MATCH(BP7,referentes!AF:AF,0),1))","v":""},{"$f":"IF(BQ7=\"\",\"\",INDEX(referentes!AH:AI,MATCH(BQ7,referentes!AI:AI,0),1))","v":""},null,{"$f":"IF(D7=\"\",\"\",INDEX(referentes!A:B,MATCH(D7,referentes!B:B,0),1))","v":""},{"$f":"IF(AT7=\"\",\"\",INDEX(referentes!Y:Z,MATCH(AT7,referentes!Z:Z,0),1))","v":""},{"$f":"IF(AU7=\"\",\"\",INDEX(referentes!AB:AC,MATCH(AU7,referentes!AC:AC,0),1))","v":""}]
[null,{"$f":"IF(BT8=\"\",\"\",IF(COUNTIF($BT8:BT8, BT8)>1, \"\", BT8))","v":""},null,null,null,null,null,null,null,null,null,null,{"$f":"IF(L8=\"\",\"\",INDEX(referentes!AK:AL,MATCH(L8,referentes!AL:AL,0),1))","v":""},"",null,7,{"$f":"IF(K8=\"\",\"\",INDEX('Otras referencias'!F:I,MATCH(K8,'Otras referencias'!I:I,0),1))","v":""},"",null,null,null,null,null,null,null,null,null,null,null,null,null,null,null,null,null,null,null,null,null,null,null,null,null,null,null,null,null,null,null,null,null,null,0,0,0,0,0,0,0,0,null,null,null,null,null,0,null,null,null,null,null,{"$f":"IF(R8<>\"\",CONCATENATE($A$2,DIGITADOR!$M$1,ROW()-2),\"\")","v":""},"",{"$f":"IF(E8=\"\",\"\",INDEX(referentes!D:E,MATCH(E8,referentes!E:E,0),1))","v":""},{"$f":"IF(F8=\"\",\"\",INDEX(referentes!J:K,MATCH(F8,referentes!K:K,0),1))","v":""},{"$f":"IF(AI8=\"\",\"\",INDEX(referentes!M:N,MATCH(AI8,referentes!N:N,0),1))","v":""},{"$f":"IF(I8=\"\",\"\",INDEX(referentes!P:Q,MATCH(I8,referentes!Q:Q,0),1))","v":""},{"$f":"IF(J8=\"\",\"\",INDEX(referentes!S:T,MATCH(J8,referentes!T:T,0),1))","v":""},{"$f":"IF(AB8=\"\",\"\",INDEX(referentes!V:W,MATCH(AB8,referentes!W:W,0),1))","v":""},{"$f":"IF(Y8=\"\",\"\",INDEX(referentes!AZ:BA,MATCH(Y8,referentes!BA:BA,0),1))","v":""},"","","","",{"$f":"IF(BP8=\"\",\"\",INDEX(referentes!AE:AF,MATCH(BP8,referentes!AF:AF,0),1))","v":""},{"$f":"IF(BQ8=\"\",\"\",INDEX(referentes!AH:AI,MATCH(BQ8,referentes!AI:AI,0),1))","v":""},null,{"$f":"IF(D8=\"\",\"\",INDEX(referentes!A:B,MATCH(D8,referentes!B:B,0),1))","v":""},{"$f":"IF(AT8=\"\",\"\",INDEX(referentes!Y:Z,MATCH(AT8,referentes!Z:Z,0),1))","v":""},{"$f":"IF(AU8=\"\",\"\",INDEX(referentes!AB:AC,MATCH(AU8,referentes!AC:AC,0),1))","v":""}]
[null,{"$f":"IF(BT9=\"\",\"\",IF(COUNTIF($BT9:BT9, BT9)>1, \"\", BT9))","v":""},null,null,null,null,null,null,null,null,null,null,{"$f":"IF(L9=\"\",\"\",INDEX(referentes!AK:AL,MATCH(L9,referentes!AL:AL,0),1))","v":""},"",null,8,{"$f":"IF(K9=\"\",\"\",INDEX('Otras referencias'!F:I,MATCH(K9,'Otras referencias'!I:I,0),1))","v":""},"",null,null,null,null,null,null,null,null,null,null,null,null,null,null,null,null,null,null,null,null,null,null,null,null,null,null,null,null,null,null,null,null,null,null,0,0,0,0,0,0,0,0,null,null,null,null,null,0,null,null,null,null,null,{"$f":"IF(R9<>\"\",CONCATENATE($A$2,DIGITADOR!$M$1,ROW()-2),\"\")","v":""},"",{"$f":"IF(E9=\"\",\"\",INDEX(referentes!D:E,MATCH(E9,referentes!E:E,0),1))","v":""},{"$f":"IF(F9=\"\",\"\",INDEX(referentes!J:K,MATCH(F9,referentes!K:K,0),1))","v":""},{"$f":"IF(AI9=\"\",\"\",INDEX(referentes!M:N,MATCH(AI9,referentes!N:N,0),1))","v":""},{"$f":"IF(I9=\"\",\"\",INDEX(referentes!P:Q,MATCH(I9,referentes!Q:Q,0),1))","v":""},{"$f":"IF(J9=\"\",\"\",INDEX(referentes!S:T,MATCH(J9,referentes!T:T,0),1))","v":""},{"$f":"IF(AB9=\"\",\"\",INDEX(referentes!V:W,MATCH(AB9,referentes!W:W,0),1))","v":""},{"$f":"IF(Y9=\"\",\"\",INDEX(referentes!AZ:BA,MATCH(Y9,referentes!BA:BA,0),1))","v":""},"","","","",{"$f":"IF(BP9=\"\",\"\",INDEX(referentes!AE:AF,MATCH(BP9,referentes!AF:AF,0),1))","v":""},{"$f":"IF(BQ9=\"\",\"\",INDEX(referentes!AH:AI,MATCH(BQ9,referentes!AI:AI,0),1))","v":""},null,{"$f":"IF(D9=\"\",\"\",INDEX(referentes!A:B,MATCH(D9,referentes!B:B,0),1))","v":""},{"$f":"IF(AT9=\"\",\"\",INDEX(referentes!Y:Z,MATCH(AT9,referentes!Z:Z,0),1))","v":""},{"$f":"IF(AU9=\"\",\"\",INDEX(referentes!AB:AC,MATCH(AU9,referentes!AC:AC,0),1))","v":""}]
[null,{"$f":"IF(BT10=\"\",\"\",IF(COUNTIF($BT10:BT10, BT10)>1, \"\", BT10))","v":""},null,null,null,null,null,null,null,null,null,null,{"$f":"IF(L10=\"\",\"\",INDEX(referentes!AK:AL,MATCH(L10,referentes!AL:AL,0),1))","v":""},"",null,9,{"$f":"IF(K10=\"\",\"\",INDEX('Otras referencias'!F:I,MATCH(K10,'Otras referencias'!I:I,0),1))","v":""},"",null,null,null,null,null,null,null,null,null,null,null,null,null,null,null,null,null,null,null,null,null,null,null,null,null,null,null,null,null,null,null,null,null,null,0,0,0,0,0,0,0,0,null,null,null,null,null,0,null,null,null,null,null,{"$f":"IF(R10<>\"\",CONCATENATE($A$2,DIGITADOR!$M$1,ROW()-2),\"\")","v":""},"",{"$f":"IF(E10=\"\",\"\",INDEX(referentes!D:E,MATCH(E10,referentes!E:E,0),1))","v":""},{"$f":"IF(F10=\"\",\"\",INDEX(referentes!J:K,MATCH(F10,referentes!K:K,0),1))","v":""},{"$f":"IF(AI10=\"\",\"\",INDEX(referentes!M:N,MATCH(AI10,referentes!N:N,0),1))","v":""},{"$f":"IF(I10=\"\",\"\",INDEX(referentes!P:Q,MATCH(I10,referentes!Q:Q,0),1))","v":""},{"$f":"IF(J10=\"\",\"\",INDEX(referentes!S:T,MATCH(J10,referentes!T:T,0),1))","v":""},{"$f":"IF(AB10=\"\",\"\",INDEX(referentes!V:W,MATCH(AB10,referentes!W:W,0),1))","v":""},{"$f":"IF(Y10=\"\",\"\",INDEX(referentes!AZ:BA,MATCH(Y10,referentes!BA:BA,0),1))","v":""},"","","","",{"$f":"IF(BP10=\"\",\"\",INDEX(referentes!AE:AF,MATCH(BP10,referentes!AF:AF,0),1))","v":""},{"$f":"IF(BQ10=\"\",\"\",INDEX(referentes!AH:AI,MATCH(BQ10,referentes!AI:AI,0),1))","v":""},null,{"$f":"IF(D10=\"\",\"\",INDEX(referentes!A:B,MATCH(D10,referentes!B:B,0),1))","v":""},{"$f":"IF(AT10=\"\",\"\",INDEX(referentes!Y:Z,MATCH(AT10,referentes!Z:Z,0),1))","v":""},{"$f":"IF(AU10=\"\",\"\",INDEX(referentes!AB:AC,MATCH(AU10,referentes!AC:AC,0),1))","v":""}]
[null,{"$f":"IF(BT11=\"\",\"\",IF(COUNTIF($BT11:BT11, BT11)>1, \"\", BT11))","v":""},null,null,null,null,null,null,null,null,null,null,{"$f":"IF(L11=\"\",\"\",INDEX(referentes!AK:AL,MATCH(L11,referentes!AL:AL,0),1))","v":""},"",null,10,{"$f":"IF(K11=\"\",\"\",INDEX('Otras referencias'!F:I,MATCH(K11,'Otras referencias'!I:I,0),1))","v":""},"",null,null,null,null,null,null,null,null,null,null,null,null,null,null,null,null,null,null,null,null,null,null,null,null,null,null,null,null,null,null,null,null,null,null,0,0,0,0,0,0,0,0,null,null,null,null,null,0,null,null,null,null,null,{"$f":"IF(R11<>\"\",CONCATENATE($A$2,DIGITADOR!$M$1,ROW()-2),\"\")","v":""},"",{"$f":"IF(E11=\"\",\"\",INDEX(referentes!D:E,MATCH(E11,referentes!E:E,0),1))","v":""},{"$f":"IF(F11=\"\",\"\",INDEX(referentes!J:K,MATCH(F11,referentes!K:K,0),1))","v":""},{"$f":"IF(AI11=\"\",\"\",INDEX(referentes!M:N,MATCH(AI11,referentes!N:N,0),1))","v":""},{"$f":"IF(I11=\"\",\"\",INDEX(referentes!P:Q,MATCH(I11,referentes!Q:Q,0),1))","v":""},{"$f":"IF(J11=\"\",\"\",INDEX(referentes!S:T,MATCH(J11,referentes!T:T,0),1))","v":""},{"$f":"IF(AB11=\"\",\"\",INDEX(referentes!V:W,MATCH(AB11,referentes!W:W,0),1))","v":""},{"$f":"IF(Y11=\"\",\"\",INDEX(referentes!AZ:BA,MATCH(Y11,referentes!BA:BA,0),1))","v":""},"","","","",{"$f":"IF(BP11=\"\",\"\",INDEX(referentes!AE:AF,MATCH(BP11,referentes!AF:AF,0),1))","v":""},{"$f":"IF(BQ11=\"\",\"\",INDEX(referentes!AH:AI,MATCH(BQ11,referentes!AI:AI,0),1))","v":""},null,{"$f":"IF(D11=\"\",\"\",INDEX(referentes!A:B,MATCH(D11,referentes!B:B,0),1))","v":""},{"$f":"IF(AT11=\"\",\"\",INDEX(referentes!Y:Z,MATCH(AT11,referentes!Z:Z,0),1))","v":""},{"$f":"IF(AU11=\"\",\"\",INDEX(referentes!AB:AC,MATCH(AU11,referentes!AC:AC,0),1))","v":""}]
[null,{"$f":"IF(BT12=\"\",\"\",IF(COUNTIF($BT12:BT12, BT12)>1, \"\", BT12))","v":""},null,null,null,null,null,null,null,null,null,null,{"$f":"IF(L12=\"\",\"\",INDEX(referentes!AK:AL,MATCH(L12,referentes!AL:AL,0),1))","v":""},"",null,11,{"$f":"IF(K12=\"\",\"\",INDEX('Otras referencias'!F:I,MATCH(K12,'Otras referencias'!I:I,0),1))","v":""},"",null,null,null,null,null,null,null,null,null,null,null,null,null,null,null,null,null,null,null,null,null,null,null,null,null,null,null,null,null,null,null,null,null,null,0,0,0,0,0,0,0,0,null,null,null,null,null,0,null,null,null,null,null,{"$f":"IF(R12<>\"\",CONCATENATE($A$2,DIGITADOR!$M$1,ROW()-2),\"\")","v":""},"",{"$f":"IF(E12=\"\",\"\",INDEX(referentes!D:E,MATCH(E12,referentes!E:E,0),1))","v":""},{"$f":"IF(F12=\"\",\"\",INDEX(referentes!J:K,MATCH(F12,referentes!K:K,0),1))","v":""},{"$f":"IF(AI12=\"\",\"\",INDEX(referentes!M:N,MATCH(AI12,referentes!N:N,0),1))","v":""},{"$f":"IF(I12=\"\",\"\",INDEX(referentes!P:Q,MATCH(I12,referentes!Q:Q,0),1))","v":""},{"$f":"IF(J12=\"\",\"\",INDEX(referentes!S:T,MATCH(J12,referentes!T:T,0),1))","v":""},{"$f":"IF(AB12=\"\",\"\",INDEX(referentes!V:W,MATCH(AB12,referentes!W:W,0),1))","v":""},{"$f":"IF(Y12=\"\",\"\",INDEX(referentes!AZ:BA,MATCH(Y12,referentes!BA:BA,0),1))","v":""},"","","","",{"$f":"IF(BP12=\"\",\"\",INDEX(referentes!AE:AF,MATCH(BP12,referentes!AF:AF,0),1))","v":""},{"$f":"IF(BQ12=\"\",\"\",INDEX(referentes!AH:AI,MATCH(BQ12,referentes!AI:AI,0),1))","v":""},null,{"$f":"IF(D12=\"\",\"\",INDEX(referentes!A:B,MATCH(D12,referentes!B:B,0),1))","v":""},{"$f":"IF(AT12=\"\",\"\",INDEX(referentes!Y:Z,MATCH(AT12,referentes!Z:Z,0),1))","v":""},{"$f":"IF(AU12=\"\",\"\",INDEX(referentes!AB:AC,MATCH(AU12,referentes!AC:AC,0),1))","v":""}]
[null,{"$f":"IF(BT13=\"\",\"\",IF(COUNTIF($BT13:BT13, BT13)>1, \"\", BT13))","v":""},null,null,null,null,null,null,null,null,null,null,{"$f":"IF(L13=\"\",\"\",INDEX(referentes!AK:AL,MATCH(L13,referentes!AL:AL,0),1))","v":""},"",null,12,{"$f":"IF(K13=\"\",\"\",INDEX('Otras referencias'!F:I,MATCH(K13,'Otras referencias'!I:I,0),1))","v":""},"",null,null,null,null,null,null,null,null,null,null,null,null,null,null,null,null,null,null,null,null,null,null,null,null,null,null,null,null,null,null,null,null,null,null,0,0,0,0,0,0,0,0,null,null,null,null,null,0,null,null,null,null,null,{"$f":"IF(R13<>\"\",CONCATENATE($A$2,DIGITADOR!$M$1,ROW()-2),\"\")","v":""},"",{"$f":"IF(E13=\"\",\"\",INDEX(referentes!D:E,MATCH(E13,referentes!E:E,0),1))","v":""},{"$f":"IF(F13=\"\",\"\",INDEX(referentes!J:K,MATCH(F13,referentes!K:K,0),1))","v":""},{"$f":"IF(AI13=\"\",\"\",INDEX(referentes!M:N,MATCH(AI13,referentes!N:N,0),1))","v":""},{"$f":"IF(I13=\"\",\"\",INDEX(referentes!P:Q,MATCH(I13,referentes!Q:Q,0),1))","v":""},{"$f":"IF(J13=\"\",\"\",INDEX(referentes!S:T,MATCH(J13,referentes!T:T,0),1))","v":""},{"$f":"IF(AB13=\"\",\"\",INDEX(referentes!V:W,MATCH(AB13,referentes!W:W,0),1))","v":""},{"$f":"IF(Y13=\"\",\"\",INDEX(referentes!AZ:BA,MATCH(Y13,referentes!BA:BA,0),1))","v":""},"","","","",{"$f":"IF(BP13=\"\",\"\",INDEX(referentes!AE:AF,MATCH(BP13,referentes!AF:AF,0),1))","v":""},{"$f":"IF(BQ13=\"\",\"\",INDEX(referentes!AH:AI,MATCH(BQ13,referentes!AI:AI,0),1))","v":""},null,{"$f":"IF(D13=\"\",\"\",INDEX(referentes!A:B,MATCH(D13,referentes!B:B,0),1))","v":""},{"$f":"IF(AT13=\"\",\"\",INDEX(referentes!Y:Z,MATCH(AT13,referentes!Z:Z,0),1))","v":""},{"$f":"IF(AU13=\"\",\"\",INDEX(referentes!AB:AC,MATCH(AU13,referentes!AC:AC,0),1))","v":""}]
[null,{"$f":"IF(BT14=\"\",\"\",IF(COUNTIF($BT14:BT14, BT14)>1, \"\", BT14))","v":""},null,null,null,null,null,null,null,null,null,null,{"$f":"IF(L14=\"\",\"\",INDEX(referentes!AK:AL,MATCH(L14,referentes!AL:AL,0),1))","v":""},"",null,13,{"$f":"IF(K14=\"\",\"\",INDEX('Otras referencias'!F:I,MATCH(K14,'Otras referencias'!I:I,0),1))","v":""},"",null,null,null,null,null,null,null,null,null,null,null,null,null,null,null,null,null,null,null,null,null,null,null,null,null,null,null,null,null,null,null,null,null,null,0,0,0,0,0,0,0,0,null,null,null,null,null,0,null,null,null,null,null,{"$f":"IF(R14<>\"\",CONCATENATE($A$2,DIGITADOR!$M$1,ROW()-2),\"\")","v":""},"",{"$f":"IF(E14=\"\",\"\",INDEX(referentes!D:E,MATCH(E14,referentes!E:E,0),1))","v":""},{"$f":"IF(F14=\"\",\"\",INDEX(referentes!J:K,MATCH(F14,referentes!K:K,0),1))","v":""},{"$f":"IF(AI14=\"\",\"\",INDEX(referentes!M:N,MATCH(AI14,referentes!N:N,0),1))","v":""},{"$f":"IF(I14=\"\",\"\",INDEX(referentes!P:Q,MATCH(I14,referentes!Q:Q,0),1))","v":""},{"$f":"IF(J14=\"\",\"\",INDEX(referentes!S:T,MATCH(J14,referentes!T:T,0),1))","v":""},{"$f":"IF(AB14=\"\",\"\",INDEX(referentes!V:W,MATCH(AB14,referentes!W:W,0),1))","v":""},{"$f":"IF(Y14=\"\",\"\",INDEX(referentes!AZ:BA,MATCH(Y14,referentes!BA:BA,0),1))","v":""},"","","","",{"$f":"IF(BP14=\"\",\"\",INDEX(referentes!AE:AF,MATCH(BP14,referentes!AF:AF,0),1))","v":""},{"$f":"IF(BQ14=\"\",\"\",INDEX(referentes!AH:AI,MATCH(BQ14,referentes!AI:AI,0),1))","v":""},null,{"$f":"IF(D14=\"\",\"\",INDEX(referentes!A:B,MATCH(D14,referentes!B:B,0),1))","v":""},{"$f":"IF(AT14=\"\",\"\",INDEX(referentes!Y:Z,MATCH(AT14,referentes!Z:Z,0),1))","v":""},{"$f":"IF(AU14=\"\",\"\",INDEX(referentes!AB:AC,MATCH(AU14,referentes!AC:AC,0),1))","v":""}]
[null,{"$f":"IF(BT15=\"\",\"\",IF(COUNTIF($BT15:BT15, BT15)>1, \"\", BT15))","v":""},null,null,null,null,null,null,null,null,null,null,{"$f":"IF(L15=\"\",\"\",INDEX(referentes!AK:AL,MATCH(L15,referentes!AL:AL,0),1))","v":""},"",null,14,{"$f":"IF(K15=\"\",\"\",INDEX('Otras referencias'!F:I,MATCH(K15,'Otras referencias'!I:I,0),1))","v":""},"",null,null,null,null,null,null,null,null,null,null,null,null,null,null,null,null,null,null,null,null,null,null,null,null,null,null,null,null,null,null,null,null,null,null,0,0,0,0,0,0,0,0,null,null,null,null,null,0,null,null,null,null,null,{"$f":"IF(R15<>\"\",CONCATENATE($A$2,DIGITADOR!$M$1,ROW()-2),\"\")","v":""},"",{"$f":"IF(E15=\"\",\"\",INDEX(referentes!D:E,MATCH(E15,referentes!E:E,0),1))","v":""},{"$f":"IF(F15=\"\",\"\",INDEX(referentes!J:K,MATCH(F15,referentes!K:K,0),1))","v":""},{"$f":"IF(AI15=\"\",\"\",INDEX(referentes!M:N,MATCH(AI15,referentes!N:N,0),1))","v":""},{"$f":"IF(I15=\"\",\"\",INDEX(referentes!P:Q,MATCH(I15,referentes!Q:Q,0),1))","v":""},{"$f":"IF(J15=\"\",\"\",INDEX(referentes!S:T,MATCH(J15,referentes!T:T,0),1))","v":""},{"$f":"IF(AB15=\"\",\"\",INDEX(referentes!V:W,MATCH(AB15,referentes!W:W,0),1))","v":""},{"$f":"IF(Y15=\"\",\"\",INDEX(referentes!AZ:BA,MATCH(Y15,referentes!BA:BA,0),1))","v":""},"","","","",{"$f":"IF(BP15=\"\",\"\",INDEX(referentes!AE:AF,MATCH(BP15,referentes!AF:AF,0),1))","v":""},{"$f":"IF(BQ15=\"\",\"\",INDEX(referentes!AH:AI,MATCH(BQ15,referentes!AI:AI,0),1))","v":""},null,{"$f":"IF(D15=\"\",\"\",INDEX(referentes!A:B,MATCH(D15,referentes!B:B,0),1))","v":""},{"$f":"IF(AT15=\"\",\"\",INDEX(referentes!Y:Z,MATCH(AT15,referentes!Z:Z,0),1))","v":""},{"$f":"IF(AU15=\"\",\"\",INDEX(referentes!AB:AC,MATCH(AU15,referentes!AC:AC,0),1))","v":""}]
[null,{"$f":"IF(BT16=\"\",\"\",IF(COUNTIF($BT16:BT16, BT16)>1, \"\", BT16))","v":""},null,null,null,null,null,null,null,null,null,null,{"$f":"IF(L16=\"\",\"\",INDEX(referentes!AK:AL,MATCH(L16,referentes!AL:AL,0),1))","v":""},"",null,15,{"$f":"IF(K16=\"\",\"\",INDEX('Otras referencias'!F:I,MATCH(K16,'Otras referencias'!I:I,0),1))","v":""},"",null,null,null,null,null,null,null,null,null,null,null,null,null,null,null,null,null,null,null,null,null,null,null,null,null,null,null,null,null,null,null,null,null,null,0,0,0,0,0,0,0,0,null,null,null,null,null,0,null,null,null,null,null,{"$f":"IF(R16<>\"\",CONCATENATE($A$2,DIGITADOR!$M$1,ROW()-2),\"\")","v":""},"",{"$f":"IF(E16=\"\",\"\",INDEX(referentes!D:E,MATCH(E16,referentes!E:E,0),1))","v":""},{"$f":"IF(F16=\"\",\"\",INDEX(referentes!J:K,MATCH(F16,referentes!K:K,0),1))","v":""},{"$f":"IF(AI16=\"\",\"\",INDEX(referentes!M:N,MATCH(AI16,referentes!N:N,0),1))","v":""},{"$f":"IF(I16=\"\",\"\",INDEX(referentes!P:Q,MATCH(I16,referentes!Q:Q,0),1))","v":""},{"$f":"IF(J16=\"\",\"\",INDEX(referentes!S:T,MATCH(J16,referentes!T:T,0),1))","v":""},{"$f":"IF(AB16=\"\",\"\",INDEX(referentes!V:W,MATCH(AB16,referentes!W:W,0),1))","v":""},{"$f":"IF(Y16=\"\",\"\",INDEX(referentes!AZ:BA,MATCH(Y16,referentes!BA:BA,0),1))","v":""},"","","","",{"$f":"IF(BP16=\"\",\"\",INDEX(referentes!AE:AF,MATCH(BP16,referentes!AF:AF,0),1))","v":""},{"$f":"IF(BQ16=\"\",\"\",INDEX(referentes!AH:AI,MATCH(BQ16,referentes!AI:AI,0),1))","v":""},null,{"$f":"IF(D16=\"\",\"\",INDEX(referentes!A:B,MATCH(D16,referentes!B:B,0),1))","v":""},{"$f":"IF(AT16=\"\",\"\",INDEX(referentes!Y:Z,MATCH(AT16,referentes!Z:Z,0),1))","v":""},{"$f":"IF(AU16=\"\",\"\",INDEX(referentes!AB:AC,MATCH(AU16,referentes!AC:AC,0),1))","v":""}]
[null,{"$f":"IF(BT17=\"\",\"\",IF(COUNTIF($BT17:BT17, BT17)>1, \"\", BT17))","v":""},null,null,null,null,null,null,null,null,null,null,{"$f":"IF(L17=\"\",\"\",INDEX(referentes!AK:AL,MATCH(L17,referentes!AL:AL,0),1))","v":""},"",null,16,{"$f":"IF(K17=\"\",\"\",INDEX('Otras referencias'!F:I,MATCH(K17,'Otras referencias'!I:I,0),1))","v":""},"",null,null,null,null,null,null,null,null,null,null,null,null,null,null,null,null,null,null,null,null,null,null,null,null,null,null,null,null,null,null,null,null,null,null,0,0,0,0,0,0,0,0,null,null,null,null,null,0,null,null,null,null,null,{"$f":"IF(R17<>\"\",CONCATENATE($A$2,DIGITADOR!$M$1,ROW()-2),\"\")","v":""},"",{"$f":"IF(E17=\"\",\"\",INDEX(referentes!D:E,MATCH(E17,referentes!E:E,0),1))","v":""},{"$f":"IF(F17=\"\",\"\",INDEX(referentes!J:K,MATCH(F17,referentes!K:K,0),1))","v":""},{"$f":"IF(AI17=\"\",\"\",INDEX(referentes!M:N,MATCH(AI17,referentes!N:N,0),1))","v":""},{"$f":"IF(I17=\"\",\"\",INDEX(referentes!P:Q,MATCH(I17,referentes!Q:Q,0),1))","v":""},{"$f":"IF(J17=\"\",\"\",INDEX(referentes!S:T,MATCH(J17,referentes!T:T,0),1))","v":""},{"$f":"IF(AB17=\"\",\"\",INDEX(referentes!V:W,MATCH(AB17,referentes!W:W,0),1))","v":""},{"$f":"IF(Y17=\"\",\"\",INDEX(referentes!AZ:BA,MATCH(Y17,referentes!BA:BA,0),1))","v":""},"","","","",{"$f":"IF(BP17=\"\",\"\",INDEX(referentes!AE:AF,MATCH(BP17,referentes!AF:AF,0),1))","v":""},{"$f":"IF(BQ17=\"\",\"\",INDEX(referentes!AH:AI,MATCH(BQ17,referentes!AI:AI,0),1))","v":""},null,{"$f":"IF(D17=\"\",\"\",INDEX(referentes!A:B,MATCH(D17,referentes!B:B,0),1))","v":""},{"$f":"IF(AT17=\"\",\"\",INDEX(referentes!Y:Z,MATCH(AT17,referentes!Z:Z,0),1))","v":""},{"$f":"IF(AU17=\"\",\"\",INDEX(referentes!AB:AC,MATCH(AU17,referentes!AC:AC,0),1))","v":""}]
[null,{"$f":"IF(BT18=\"\",\"\",IF(COUNTIF($BT18:BT18, BT18)>1, \"\", BT18))","v":""},null,null,null,null,null,null,null,null,null,null,{"$f":"IF(L18=\"\",\"\",INDEX(referentes!AK:AL,MATCH(L18,referentes!AL:AL,0),1))","v":""},"",null,17,{"$f":"IF(K18=\"\",\"\",INDEX('Otras referencias'!F:I,MATCH(K18,'Otras referencias'!I:I,0),1))","v":""},"",null,null,null,null,null,null,null,null,null,null,null,null,null,null,null,null,null,null,null,null,null,null,null,null,null,null,null,null,null,null,null,null,null,null,0,0,0,0,0,0,0,0,null,null,null,null,null,0,null,null,null,null,null,{"$f":"IF(R18<>\"\",CONCATENATE($A$2,DIGITADOR!$M$1,ROW()-2),\"\")","v":""},"",{"$f":"IF(E18=\"\",\"\",INDEX(referentes!D:E,MATCH(E18,referentes!E:E,0),1))","v":""},{"$f":"IF(F18=\"\",\"\",INDEX(referentes!J:K,MATCH(F18,referentes!K:K,0),1))","v":""},{"$f":"IF(AI18=\"\",\"\",INDEX(referentes!M:N,MATCH(AI18,referentes!N:N,0),1))","v":""},{"$f":"IF(I18=\"\",\"\",INDEX(referentes!P:Q,MATCH(I18,referentes!Q:Q,0),1))","v":""},{"$f":"IF(J18=\"\",\"\",INDEX(referentes!S:T,MATCH(J18,referentes!T:T,0),1))","v":""},{"$f":"IF(AB18=\"\",\"\",INDEX(referentes!V:W,MATCH(AB18,referentes!W:W,0),1))","v":""},{"$f":"IF(Y18=\"\",\"\",INDEX(referentes!AZ:BA,MATCH(Y18,referentes!BA:BA,0),1))","v":""},"","","","",{"$f":"IF(BP18=\"\",\"\",INDEX(referentes!AE:AF,MATCH(BP18,referentes!AF:AF,0),1))","v":""},{"$f":"IF(BQ18=\"\",\"\",INDEX(referentes!AH:AI,MATCH(BQ18,referentes!AI:AI,0),1))","v":""},null,{"$f":"IF(D18=\"\",\"\",INDEX(referentes!A:B,MATCH(D18,referentes!B:B,0),1))","v":""},{"$f":"IF(AT18=\"\",\"\",INDEX(referentes!Y:Z,MATCH(AT18,referentes!Z:Z,0),1))","v":""},{"$f":"IF(AU18=\"\",\"\",INDEX(referentes!AB:AC,MATCH(AU18,referentes!AC:AC,0),1))","v":""}]
[null,{"$f":"IF(BT19=\"\",\"\",IF(COUNTIF($BT19:BT19, BT19)>1, \"\", BT19))","v":""},null,null,null,null,null,null,null,null,null,null,{"$f":"IF(L19=\"\",\"\",INDEX(referentes!AK:AL,MATCH(L19,referentes!AL:AL,0),1))","v":""},"",null,18,{"$f":"IF(K19=\"\",\"\",INDEX('Otras referencias'!F:I,MATCH(K19,'Otras referencias'!I:I,0),1))","v":""},"",null,null,null,null,null,null,null,null,null,null,null,null,null,null,null,null,null,null,null,null,null,null,null,null,null,null,null,null,null,null,null,null,null,null,0,0,0,0,0,0,0,0,null,null,null,null,null,0,null,null,null,null,null,{"$f":"IF(R19<>\"\",CONCATENATE($A$2,DIGITADOR!$M$1,ROW()-2),\"\")","v":""},"",{"$f":"IF(E19=\"\",\"\",INDEX(referentes!D:E,MATCH(E19,referentes!E:E,0),1))","v":""},{"$f":"IF(F19=\"\",\"\",INDEX(referentes!J:K,MATCH(F19,referentes!K:K,0),1))","v":""},{"$f":"IF(AI19=\"\",\"\",INDEX(referentes!M:N,MATCH(AI19,referentes!N:N,0),1))","v":""},{"$f":"IF(I19=\"\",\"\",INDEX(referentes!P:Q,MATCH(I19,referentes!Q:Q,0),1))","v":""},{"$f":"IF(J19=\"\",\"\",INDEX(referentes!S:T,MATCH(J19,referentes!T:T,0),1))","v":""},{"$f":"IF(AB19=\"\",\"\",INDEX(referentes!V:W,MATCH(AB19,referentes!W:W,0),1))","v":""},{"$f":"IF(Y19=\"\",\"\",INDEX(referentes!AZ:BA,MATCH(Y19,referentes!BA:BA,0),1))","v":""},"","","","",{"$f":"IF(BP19=\"\",\"\",INDEX(referentes!AE:AF,MATCH(BP19,referentes!AF:AF,0),1))","v":""},{"$f":"IF(BQ19=\"\",\"\",INDEX(referentes!AH:AI,MATCH(BQ19,referentes!AI:AI,0),1))","v":""},null,{"$f":"IF(D19=\"\",\"\",INDEX(referentes!A:B,MATCH(D19,referentes!B:B,0),1))","v":""},{"$f":"IF(AT19=\"\",\"\",INDEX(referentes!Y:Z,MATCH(AT19,referentes!Z:Z,0),1))","v":""},{"$f":"IF(AU19=\"\",\"\",INDEX(referentes!AB:AC,MATCH(AU19,referentes!AC:AC,0),1))","v":""}]
[null,{"$f":"IF(BT20=\"\",\"\",IF(COUNTIF($BT20:BT20, BT20)>1, \"\", BT20))","v":""},null,null,null,null,null,null,null,null,null,null,{"$f":"IF(L20=\"\",\"\",INDEX(referentes!AK:AL,MATCH(L20,referentes!AL:AL,0),1))","v":""},"",null,19,{"$f":"IF(K20=\"\",\"\",INDEX('Otras referencias'!F:I,MATCH(K20,'Otras referencias'!I:I,0),1))","v":""},"",null,null,null,null,null,null,null,null,null,null,null,null,null,null,null,null,null,null,null,null,null,null,null,null,null,null,null,null,null,null,null,null,null,null,0,0,0,0,0,0,0,0,null,null,null,null,null,0,null,null,null,null,null,{"$f":"IF(R20<>\"\",CONCATENATE($A$2,DIGITADOR!$M$1,ROW()-2),\"\")","v":""},"",{"$f":"IF(E20=\"\",\"\",INDEX(referentes!D:E,MATCH(E20,referentes!E:E,0),1))","v":""},{"$f":"IF(F20=\"\",\"\",INDEX(referentes!J:K,MATCH(F20,referentes!K:K,0),1))","v":""},{"$f":"IF(AI20=\"\",\"\",INDEX(referentes!M:N,MATCH(AI20,referentes!N:N,0),1))","v":""},{"$f":"IF(I20=\"\",\"\",INDEX(referentes!P:Q,MATCH(I20,referentes!Q:Q,0),1))","v":""},{"$f":"IF(J20=\"\",\"\",INDEX(referentes!S:T,MATCH(J20,referentes!T:T,0),1))","v":""},{"$f":"IF(AB20=\"\",\"\",INDEX(referentes!V:W,MATCH(AB20,referentes!W:W,0),1))","v":""},{"$f":"IF(Y20=\"\",\"\",INDEX(referentes!AZ:BA,MATCH(Y20,referentes!BA:BA,0),1))","v":""},"","","","",{"$f":"IF(BP20=\"\",\"\",INDEX(referentes!AE:AF,MATCH(BP20,referentes!AF:AF,0),1))","v":""},{"$f":"IF(BQ20=\"\",\"\",INDEX(referentes!AH:AI,MATCH(BQ20,referentes!AI:AI,0),1))","v":""},null,{"$f":"IF(D20=\"\",\"\",INDEX(referentes!A:B,MATCH(D20,referentes!B:B,0),1))","v":""},{"$f":"IF(AT20=\"\",\"\",INDEX(referentes!Y:Z,MATCH(AT20,referentes!Z:Z,0),1))","v":""},{"$f":"IF(AU20=\"\",\"\",INDEX(referentes!AB:AC,MATCH(AU20,referentes!AC:AC,0),1))","v":""}]
[null,{"$f":"IF(BT21=\"\",\"\",IF(COUNTIF($BT21:BT21, BT21)>1, \"\", BT21))","v":""},null,null,null,null,null,null,null,null,null,null,{"$f":"IF(L21=\"\",\"\",INDEX(referentes!AK:AL,MATCH(L21,referentes!AL:AL,0),1))","v":""},"",null,20,{"$f":"IF(K21=\"\",\"\",INDEX('Otras referencias'!F:I,MATCH(K21,'Otras referencias'!I:I,0),1))","v":""},"",null,null,null,null,null,null,null,null,null,null,null,null,null,null,null,null,null,null,null,null,null,null,null,null,null,null,null,null,null,null,null,null,null,null,0,0,0,0,0,0,0,0,null,null,null,null,null,0,null,null,null,null,null,{"$f":"IF(R21<>\"\",CONCATENATE($A$2,DIGITADOR!$M$1,ROW()-2),\"\")","v":""},"",{"$f":"IF(E21=\"\",\"\",INDEX(referentes!D:E,MATCH(E21,referentes!E:E,0),1))","v":""},{"$f":"IF(F21=\"\",\"\",INDEX(referentes!J:K,MATCH(F21,referentes!K:K,0),1))","v":""},{"$f":"IF(AI21=\"\",\"\",INDEX(referentes!M:N,MATCH(AI21,referentes!N:N,0),1))","v":""},{"$f":"IF(I21=\"\",\"\",INDEX(referentes!P:Q,MATCH(I21,referentes!Q:Q,0),1))","v":""},{"$f":"IF(J21=\"\",\"\",INDEX(referentes!S:T,MATCH(J21,referentes!T:T,0),1))","v":""},{"$f":"IF(AB21=\"\",\"\",INDEX(referentes!V:W,MATCH(AB21,referentes!W:W,0),1))","v":""},{"$f":"IF(Y21=\"\",\"\",INDEX(referentes!AZ:BA,MATCH(Y21,referentes!BA:BA,0),1))","v":""},"","","","",{"$f":"IF(BP21=\"\",\"\",INDEX(referentes!AE:AF,MATCH(BP21,referentes!AF:AF,0),1))","v":""},{"$f":"IF(BQ21=\"\",\"\",INDEX(referentes!AH:AI,MATCH(BQ21,referentes!AI:AI,0),1))","v":""},null,{"$f":"IF(D21=\"\",\"\",INDEX(referentes!A:B,MATCH(D21,referentes!B:B,0),1))","v":""},{"$f":"IF(AT21=\"\",\"\",INDEX(referentes!Y:Z,MATCH(AT21,referentes!Z:Z,0),1))","v":""},{"$f":"IF(AU21=\"\",\"\",INDEX(referentes!AB:AC,MATCH(AU21,referentes!AC:AC,0),1))","v":""}]
[null,{"$f":"IF(BT22=\"\",\"\",IF(COUNTIF($BT22:BT22, BT22)>1, \"\", BT22))","v":""},null,null,null,null,null,null,null,null,null,null,{"$f":"IF(L22=\"\",\"\",INDEX(referentes!AK:AL,MATCH(L22,referentes!AL:AL,0),1))","v":""},"",null,21,{"$f":"IF(K22=\"\",\"\",INDEX('Otras referencias'!F:I,MATCH(K22,'Otras referencias'!I:I,0),1))","v":""},"",null,null,null,null,null,null,null,null,null,null,null,null,null,null,null,null,null,null,null,null,null,null,null,null,null,null,null,null,null,null,null,null,null,null,0,0,0,0,0,0,0,0,null,null,null,null,null,0,null,null,null,null,null,{"$f":"IF(R22<>\"\",CONCATENATE($A$2,DIGITADOR!$M$1,ROW()-2),\"\")","v":""},"",{"$f":"IF(E22=\"\",\"\",INDEX(referentes!D:E,MATCH(E22,referentes!E:E,0),1))","v":""},{"$f":"IF(F22=\"\",\"\",INDEX(referentes!J:K,MATCH(F22,referentes!K:K,0),1))","v":""},{"$f":"IF(AI22=\"\",\"\",INDEX(referentes!M:N,MATCH(AI22,referentes!N:N,0),1))","v":""},{"$f":"IF(I22=\"\",\"\",INDEX(referentes!P:Q,MATCH(I22,referentes!Q:Q,0),1))","v":""},{"$f":"IF(J22=\"\",\"\",INDEX(referentes!S:T,MATCH(J22,referentes!T:T,0),1))","v":""},{"$f":"IF(AB22=\"\",\"\",INDEX(referentes!V:W,MATCH(AB22,referentes!W:W,0),1))","v":""},{"$f":"IF(Y22=\"\",\"\",INDEX(referentes!AZ:BA,MATCH(Y22,referentes!BA:BA,0),1))","v":""},"","","","",{"$f":"IF(BP22=\"\",\"\",INDEX(referentes!AE:AF,MATCH(BP22,referentes!AF:AF,0),1))","v":""},{"$f":"IF(BQ22=\"\",\"\",INDEX(referentes!AH:AI,MATCH(BQ22,referentes!AI:AI,0),1))","v":""},null,{"$f":"IF(D22=\"\",\"\",INDEX(referentes!A:B,MATCH(D22,referentes!B:B,0),1))","v":""},{"$f":"IF(AT22=\"\",\"\",INDEX(referentes!Y:Z,MATCH(AT22,referentes!Z:Z,0),1))","v":""},{"$f":"IF(AU22=\"\",\"\",INDEX(referentes!AB:AC,MATCH(AU22,referentes!AC:AC,0),1))","v":""}]
[null,{"$f":"IF(BT23=\"\",\"\",IF(COUNTIF($BT23:BT23, BT23)>1, \"\", BT23))","v":""},null,null,null,null,null,null,null,null,null,null,{"$f":"IF(L23=\"\",\"\",INDEX(referentes!AK:AL,MATCH(L23,referentes!AL:AL,0),1))","v":""},"",null,22,{"$f":"IF(K23=\"\",\"\",INDEX('Otras referencias'!F:I,MATCH(K23,'Otras referencias'!I:I,0),1))","v":""},"",null,null,null,null,null,null,null,null,null,null,null,null,null,null,null,null,null,null,null,null,null,null,null,null,null,null,null,null,null,null,null,null,null,null,0,0,0,0,0,0,0,0,null,null,null,null,null,0,null,null,null,null,null,{"$f":"IF(R23<>\"\",CONCATENATE($A$2,DIGITADOR!$M$1,ROW()-2),\"\")","v":""},"",{"$f":"IF(E23=\"\",\"\",INDEX(referentes!D:E,MATCH(E23,referentes!E:E,0),1))","v":""},{"$f":"IF(F23=\"\",\"\",INDEX(referentes!J:K,MATCH(F23,referentes!K:K,0),1))","v":""},{"$f":"IF(AI23=\"\",\"\",INDEX(referentes!M:N,MATCH(AI23,referentes!N:N,0),1))","v":""},{"$f":"IF(I23=\"\",\"\",INDEX(referentes!P:Q,MATCH(I23,referentes!Q:Q,0),1))","v":""},{"$f":"IF(J23=\"\",\"\",INDEX(referentes!S:T,MATCH(J23,referentes!T:T,0),1))","v":""},{"$f":"IF(AB23=\"\",\"\",INDEX(referentes!V:W,MATCH(AB23,referentes!W:W,0),1))","v":""},{"$f":"IF(Y23=\"\",\"\",INDEX(referentes!AZ:BA,MATCH(Y23,referentes!BA:BA,0),1))","v":""},"","","","",{"$f":"IF(BP23=\"\",\"\",INDEX(referentes!AE:AF,MATCH(BP23,referentes!AF:AF,0),1))","v":""},{"$f":"IF(BQ23=\"\",\"\",INDEX(referentes!AH:AI,MATCH(BQ23,referentes!AI:AI,0),1))","v":""},null,{"$f":"IF(D23=\"\",\"\",INDEX(referentes!A:B,MATCH(D23,referentes!B:B,0),1))","v":""},{"$f":"IF(AT23=\"\",\"\",INDEX(referentes!Y:Z,MATCH(AT23,referentes!Z:Z,0),1))","v":""},{"$f":"IF(AU23=\"\",\"\",INDEX(referentes!AB:AC,MATCH(AU23,referentes!AC:AC,0),1))","v":""}]
[null,{"$f":"IF(BT24=\"\",\"\",IF(COUNTIF($BT24:BT24, BT24)>1, \"\", BT24))","v":""},null,null,null,null,null,null,null,null,null,null,{"$f":"IF(L24=\"\",\"\",INDEX(referentes!AK:AL,MATCH(L24,referentes!AL:AL,0),1))","v":""},"",null,23,{"$f":"IF(K24=\"\",\"\",INDEX('Otras referencias'!F:I,MATCH(K24,'Otras referencias'!I:I,0),1))","v":""},"",null,null,null,null,null,null,null,null,null,null,null,null,null,null,null,null,null,null,null,null,null,null,null,null,null,null,null,null,null,null,null,null,null,null,0,0,0,0,0,0,0,0,null,null,null,null,null,0,null,null,null,null,null,{"$f":"IF(R24<>\"\",CONCATENATE($A$2,DIGITADOR!$M$1,ROW()-2),\"\")","v":""},"",{"$f":"IF(E24=\"\",\"\",INDEX(referentes!D:E,MATCH(E24,referentes!E:E,0),1))","v":""},{"$f":"IF(F24=\"\",\"\",INDEX(referentes!J:K,MATCH(F24,referentes!K:K,0),1))","v":""},{"$f":"IF(AI24=\"\",\"\",INDEX(referentes!M:N,MATCH(AI24,referentes!N:N,0),1))","v":""},{"$f":"IF(I24=\"\",\"\",INDEX(referentes!P:Q,MATCH(I24,referentes!Q:Q,0),1))","v":""},{"$f":"IF(J24=\"\",\"\",INDEX(referentes!S:T,MATCH(J24,referentes!T:T,0),1))","v":""},{"$f":"IF(AB24=\"\",\"\",INDEX(referentes!V:W,MATCH(AB24,referentes!W:W,0),1))","v":""},{"$f":"IF(Y24=\"\",\"\",INDEX(referentes!AZ:BA,MATCH(Y24,referentes!BA:BA,0),1))","v":""},"","","","",{"$f":"IF(BP24=\"\",\"\",INDEX(referentes!AE:AF,MATCH(BP24,referentes!AF:AF,0),1))","v":""},{"$f":"IF(BQ24=\"\",\"\",INDEX(referentes!AH:AI,MATCH(BQ24,referentes!AI:AI,0),1))","v":""},null,{"$f":"IF(D24=\"\",\"\",INDEX(referentes!A:B,MATCH(D24,referentes!B:B,0),1))","v":""},{"$f":"IF(AT24=\"\",\"\",INDEX(referentes!Y:Z,MATCH(AT24,referentes!Z:Z,0),1))","v":""},{"$f":"IF(AU24=\"\",\"\",INDEX(referentes!AB:AC,MATCH(AU24,referentes!AC:AC,0),1))","v":""}]
[null,{"$f":"IF(BT25=\"\",\"\",IF(COUNTIF($BT25:BT25, BT25)>1, \"\", BT25))","v":""},null,null,null,null,null,null,null,null,null,null,{"$f":"IF(L25=\"\",\"\",INDEX(referentes!AK:AL,MATCH(L25,referentes!AL:AL,0),1))","v":""},"",null,24,{"$f":"IF(K25=\"\",\"\",INDEX('Otras referencias'!F:I,MATCH(K25,'Otras referencias'!I:I,0),1))","v":""},"",null,null,null,null,null,null,null,null,null,null,null,null,null,null,null,null,null,null,null,null,null,null,null,null,null,null,null,null,null,null,null,null,null,null,0,0,0,0,0,0,0,0,null,null,null,null,null,0,null,null,null,null,null,{"$f":"IF(R25<>\"\",CONCATENATE($A$2,DIGITADOR!$M$1,ROW()-2),\"\")","v":""},"",{"$f":"IF(E25=\"\",\"\",INDEX(referentes!D:E,MATCH(E25,referentes!E:E,0),1))","v":""},{"$f":"IF(F25=\"\",\"\",INDEX(referentes!J:K,MATCH(F25,referentes!K:K,0),1))","v":""},{"$f":"IF(AI25=\"\",\"\",INDEX(referentes!M:N,MATCH(AI25,referentes!N:N,0),1))","v":""},{"$f":"IF(I25=\"\",\"\",INDEX(referentes!P:Q,MATCH(I25,referentes!Q:Q,0),1))","v":""},{"$f":"IF(J25=\"\",\"\",INDEX(referentes!S:T,MATCH(J25,referentes!T:T,0),1))","v":""},{"$f":"IF(AB25=\"\",\"\",INDEX(referentes!V:W,MATCH(AB25,referentes!W:W,0),1))","v":""},{"$f":"IF(Y25=\"\",\"\",INDEX(referentes!AZ:BA,MATCH(Y25,referentes!BA:BA,0),1))","v":""},"","","","",{"$f":"IF(BP25=\"\",\"\",INDEX(referentes!AE:AF,MATCH(BP25,referentes!AF:AF,0),1))","v":""},{"$f":"IF(BQ25=\"\",\"\",INDEX(referentes!AH:AI,MATCH(BQ25,referentes!AI:AI,0),1))","v":""},null,{"$f":"IF(D25=\"\",\"\",INDEX(referentes!A:B,MATCH(D25,referentes!B:B,0),1))","v":""},{"$f":"IF(AT25=\"\",\"\",INDEX(referentes!Y:Z,MATCH(AT25,referentes!Z:Z,0),1))","v":""},{"$f":"IF(AU25=\"\",\"\",INDEX(referentes!AB:AC,MATCH(AU25,referentes!AC:AC,0),1))","v":""}]
[null,{"$f":"IF(BT26=\"\",\"\",IF(COUNTIF($BT26:BT26, BT26)>1, \"\", BT26))","v":""},null,null,null,null,null,null,null,null,null,null,{"$f":"IF(L26=\"\",\"\",INDEX(referentes!AK:AL,MATCH(L26,referentes!AL:AL,0),1))","v":""},"",null,25,{"$f":"IF(K26=\"\",\"\",INDEX('Otras referencias'!F:I,MATCH(K26,'Otras referencias'!I:I,0),1))","v":""},"",null,null,null,null,null,null,null,null,null,null,null,null,null,null,null,null,null,null,null,null,null,null,null,null,null,null,null,null,null,null,null,null,null,null,0,0,0,0,0,0,0,0,null,null,null,null,null,0,null,null,null,null,null,{"$f":"IF(R26<>\"\",CONCATENATE($A$2,DIGITADOR!$M$1,ROW()-2),\"\")","v":""},"",{"$f":"IF(E26=\"\",\"\",INDEX(referentes!D:E,MATCH(E26,referentes!E:E,0),1))","v":""},{"$f":"IF(F26=\"\",\"\",INDEX(referentes!J:K,MATCH(F26,referentes!K:K,0),1))","v":""},{"$f":"IF(AI26=\"\",\"\",INDEX(referentes!M:N,MATCH(AI26,referentes!N:N,0),1))","v":""},{"$f":"IF(I26=\"\",\"\",INDEX(referentes!P:Q,MATCH(I26,referentes!Q:Q,0),1))","v":""},{"$f":"IF(J26=\"\",\"\",INDEX(referentes!S:T,MATCH(J26,referentes!T:T,0),1))","v":""},{"$f":"IF(AB26=\"\",\"\",INDEX(referentes!V:W,MATCH(AB26,referentes!W:W,0),1))","v":""},{"$f":"IF(Y26=\"\",\"\",INDEX(referentes!AZ:BA,MATCH(Y26,referentes!BA:BA,0),1))","v":""},"","","","",{"$f":"IF(BP26=\"\",\"\",INDEX(referentes!AE:AF,MATCH(BP26,referentes!AF:AF,0),1))","v":""},{"$f":"IF(BQ26=\"\",\"\",INDEX(referentes!AH:AI,MATCH(BQ26,referentes!AI:AI,0),1))","v":""},null,{"$f":"IF(D26=\"\",\"\",INDEX(referentes!A:B,MATCH(D26,referentes!B:B,0),1))","v":""},{"$f":"IF(AT26=\"\",\"\",INDEX(referentes!Y:Z,MATCH(AT26,referentes!Z:Z,0),1))","v":""},{"$f":"IF(AU26=\"\",\"\",INDEX(referentes!AB:AC,MATCH(AU26,referentes!AC:AC,0),1))","v":""}]
[null,{"$f":"IF(BT27=\"\",\"\",IF(COUNTIF($BT27:BT27, BT27)>1, \"\", BT27))","v":""},null,null,null,null,null,null,null,null,null,null,{"$f":"IF(L27=\"\",\"\",INDEX(referentes!AK:AL,MATCH(L27,referentes!AL:AL,0),1))","v":""},"",null,26,{"$f":"IF(K27=\"\",\"\",INDEX('Otras referencias'!F:I,MATCH(K27,'Otras referencias'!I:I,0),1))","v":""},"",null,null,null,null,null,null,null,null,null,null,null,null,null,null,null,null,null,null,null,null,null,null,null,null,null,null,null,null,null,null,null,null,null,null,0,0,0,0,0,0,0,0,null,null,null,null,null,0,null,null,null,null,null,{"$f":"IF(R27<>\"\",CONCATENATE($A$2,DIGITADOR!$M$1,ROW()-2),\"\")","v":""},"",{"$f":"IF(E27=\"\",\"\",INDEX(referentes!D:E,MATCH(E27,referentes!E:E,0),1))","v":""},{"$f":"IF(F27=\"\",\"\",INDEX(referentes!J:K,MATCH(F27,referentes!K:K,0),1))","v":""},{"$f":"IF(AI27=\"\",\"\",INDEX(referentes!M:N,MATCH(AI27,referentes!N:N,0),1))","v":""},{"$f":"IF(I27=\"\",\"\",INDEX(referentes!P:Q,MATCH(I27,referentes!Q:Q,0),1))","v":""},{"$f":"IF(J27=\"\",\"\",INDEX(referentes!S:T,MATCH(J27,referentes!T:T,0),1))","v":""},{"$f":"IF(AB27=\"\",\"\",INDEX(referentes!V:W,MATCH(AB27,referentes!W:W,0),1))","v":""},{"$f":"IF(Y27=\"\",\"\",INDEX(referentes!AZ:BA,MATCH(Y27,referentes!BA:BA,0),1))","v":""},"","","","",{"$f":"IF(BP27=\"\",\"\",INDEX(referentes!AE:AF,MATCH(BP27,referentes!AF:AF,0),1))","v":""},{"$f":"IF(BQ27=\"\",\"\",INDEX(referentes!AH:AI,MATCH(BQ27,referentes!AI:AI,0),1))","v":""},null,{"$f":"IF(D27=\"\",\"\",INDEX(referentes!A:B,MATCH(D27,referentes!B:B,0),1))","v":""},{"$f":"IF(AT27=\"\",\"\",INDEX(referentes!Y:Z,MATCH(AT27,referentes!Z:Z,0),1))","v":""},{"$f":"IF(AU27=\"\",\"\",INDEX(referentes!AB:AC,MATCH(AU27,referentes!AC:AC,0),1))","v":""}]
[null,{"$f":"IF(BT28=\"\",\"\",IF(COUNTIF($BT28:BT28, BT28)>1, \"\", BT28))","v":""},null,null,null,null,null,null,null,null,null,null,{"$f":"IF(L28=\"\",\"\",INDEX(referentes!AK:AL,MATCH(L28,referentes!AL:AL,0),1))","v":""},"",null,27,{"$f":"IF(K28=\"\",\"\",INDEX('Otras referencias'!F:I,MATCH(K28,'Otras referencias'!I:I,0),1))","v":""},"",null,null,null,null,null,null,null,null,null,null,null,null,null,null,null,null,null,null,null,null,null,null,null,null,null,null,null,null,null,null,null,null,null,null,0,0,0,0,0,0,0,0,null,null,null,null,null,0,null,null,null,null,null,{"$f":"IF(R28<>\"\",CONCATENATE($A$2,DIGITADOR!$M$1,ROW()-2),\"\")","v":""},"",{"$f":"IF(E28=\"\",\"\",INDEX(referentes!D:E,MATCH(E28,referentes!E:E,0),1))","v":""},{"$f":"IF(F28=\"\",\"\",INDEX(referentes!J:K,MATCH(F28,referentes!K:K,0),1))","v":""},{"$f":"IF(AI28=\"\",\"\",INDEX(referentes!M:N,MATCH(AI28,referentes!N:N,0),1))","v":""},{"$f":"IF(I28=\"\",\"\",INDEX(referentes!P:Q,MATCH(I28,referentes!Q:Q,0),1))","v":""},{"$f":"IF(J28=\"\",\"\",INDEX(referentes!S:T,MATCH(J28,referentes!T:T,0),1))","v":""},{"$f":"IF(AB28=\"\",\"\",INDEX(referentes!V:W,MATCH(AB28,referentes!W:W,0),1))","v":""},{"$f":"IF(Y28=\"\",\"\",INDEX(referentes!AZ:BA,MATCH(Y28,referentes!BA:BA,0),1))","v":""},"","","","",{"$f":"IF(BP28=\"\",\"\",INDEX(referentes!AE:AF,MATCH(BP28,referentes!AF:AF,0),1))","v":""},{"$f":"IF(BQ28=\"\",\"\",INDEX(referentes!AH:AI,MATCH(BQ28,referentes!AI:AI,0),1))","v":""},null,{"$f":"IF(D28=\"\",\"\",INDEX(referentes!A:B,MATCH(D28,referentes!B:B,0),1))","v":""},{"$f":"IF(AT28=\"\",\"\",INDEX(referentes!Y:Z,MATCH(AT28,referentes!Z:Z,0),1))","v":""},{"$f":"IF(AU28=\"\",\"\",INDEX(referentes!AB:AC,MATCH(AU28,referentes!AC:AC,0),1))","v":""}]
[null,{"$f":"IF(BT29=\"\",\"\",IF(COUNTIF($BT29:BT29, BT29)>1, \"\", BT29))","v":""},null,null,null,null,null,null,null,null,null,null,{"$f":"IF(L29=\"\",\"\",INDEX(referentes!AK:AL,MATCH(L29,referentes!AL:AL,0),1))","v":""},"",null,28,{"$f":"IF(K29=\"\",\"\",INDEX('Otras referencias'!F:I,MATCH(K29,'Otras referencias'!I:I,0),1))","v":""},"",null,null,null,null,null,null,null,null,null,null,null,null,null,null,null,null,null,null,null,null,null,null,null,null,null,null,null,null,null,null,null,null,null,null,0,0,0,0,0,0,0,0,null,null,null,null,null,0,null,null,null,null,null,{"$f":"IF(R29<>\"\",CONCATENATE($A$2,DIGITADOR!$M$1,ROW()-2),\"\")","v":""},"",{"$f":"IF(E29=\"\",\"\",INDEX(referentes!D:E,MATCH(E29,referentes!E:E,0),1))","v":""},{"$f":"IF(F29=\"\",\"\",INDEX(referentes!J:K,MATCH(F29,referentes!K:K,0),1))","v":""},{"$f":"IF(AI29=\"\",\"\",INDEX(referentes!M:N,MATCH(AI29,referentes!N:N,0),1))","v":""},{"$f":"IF(I29=\"\",\"\",INDEX(referentes!P:Q,MATCH(I29,referentes!Q:Q,0),1))","v":""},{"$f":"IF(J29=\"\",\"\",INDEX(referentes!S:T,MATCH(J29,referentes!T:T,0),1))","v":""},{"$f":"IF(AB29=\"\",\"\",INDEX(referentes!V:W,MATCH(AB29,referentes!W:W,0),1))","v":""},{"$f":"IF(Y29=\"\",\"\",INDEX(referentes!AZ:BA,MATCH(Y29,referentes!BA:BA,0),1))","v":""},"","","","",{"$f":"IF(BP29=\"\",\"\",INDEX(referentes!AE:AF,MATCH(BP29,referentes!AF:AF,0),1))","v":""},{"$f":"IF(BQ29=\"\",\"\",INDEX(referentes!AH:AI,MATCH(BQ29,referentes!AI:AI,0),1))","v":""},null,{"$f":"IF(D29=\"\",\"\",INDEX(referentes!A:B,MATCH(D29,referentes!B:B,0),1))","v":""},{"$f":"IF(AT29=\"\",\"\",INDEX(referentes!Y:Z,MATCH(AT29,referentes!Z:Z,0),1))","v":""},{"$f":"IF(AU29=\"\",\"\",INDEX(referentes!AB:AC,MATCH(AU29,referentes!AC:AC,0),1))","v":""}]
[null,{"$f":"IF(BT30=\"\",\"\",IF(COUNTIF($BT30:BT30, BT30)>1, \"\", BT30))","v":""},null,null,null,null,null,null,null,null,null,null,{"$f":"IF(L30=\"\",\"\",INDEX(referentes!AK:AL,MATCH(L30,referentes!AL:AL,0),1))","v":""},"",null,29,{"$f":"IF(K30=\"\",\"\",INDEX('Otras referencias'!F:I,MATCH(K30,'Otras referencias'!I:I,0),1))","v":""},"",null,null,null,null,null,null,null,null,null,null,null,null,null,null,null,null,null,null,null,null,null,null,null,null,null,null,null,null,null,null,null,null,null,null,0,0,0,0,0,0,0,0,null,null,null,null,null,0,null,null,null,null,null,{"$f":"IF(R30<>\"\",CONCATENATE($A$2,DIGITADOR!$M$1,ROW()-2),\"\")","v":""},"",{"$f":"IF(E30=\"\",\"\",INDEX(referentes!D:E,MATCH(E30,referentes!E:E,0),1))","v":""},{"$f":"IF(F30=\"\",\"\",INDEX(referentes!J:K,MATCH(F30,referentes!K:K,0),1))","v":""},{"$f":"IF(AI30=\"\",\"\",INDEX(referentes!M:N,MATCH(AI30,referentes!N:N,0),1))","v":""},{"$f":"IF(I30=\"\",\"\",INDEX(referentes!P:Q,MATCH(I30,referentes!Q:Q,0),1))","v":""},{"$f":"IF(J30=\"\",\"\",INDEX(referentes!S:T,MATCH(J30,referentes!T:T,0),1))","v":""},{"$f":"IF(AB30=\"\",\"\",INDEX(referentes!V:W,MATCH(AB30,referentes!W:W,0),1))","v":""},{"$f":"IF(Y30=\"\",\"\",INDEX(referentes!AZ:BA,MATCH(Y30,referentes!BA:BA,0),1))","v":""},"","","","",{"$f":"IF(BP30=\"\",\"\",INDEX(referentes!AE:AF,MATCH(BP30,referentes!AF:AF,0),1))","v":""},{"$f":"IF(BQ30=\"\",\"\",INDEX(referentes!AH:AI,MATCH(BQ30,referentes!AI:AI,0),1))","v":""},null,{"$f":"IF(D30=\"\",\"\",INDEX(referentes!A:B,MATCH(D30,referentes!B:B,0),1))","v":""},{"$f":"IF(AT30=\"\",\"\",INDEX(referentes!Y:Z,MATCH(AT30,referentes!Z:Z,0),1))","v":""},{"$f":"IF(AU30=\"\",\"\",INDEX(referentes!AB:AC,MATCH(AU30,referentes!AC:AC,0),1))","v":""}]
[null,{"$f":"IF(BT31=\"\",\"\",IF(COUNTIF($BT31:BT31, BT31)>1, \"\", BT31))","v":""},null,null,null,null,null,null,null,null,null,null,{"$f":"IF(L31=\"\",\"\",INDEX(referentes!AK:AL,MATCH(L31,referentes!AL:AL,0),1))","v":""},"",null,30,{"$f":"IF(K31=\"\",\"\",INDEX('Otras referencias'!F:I,MATCH(K31,'Otras referencias'!I:I,0),1))","v":""},"",null,null,null,null,null,null,null,null,null,null,null,null,null,null,null,null,null,null,null,null,null,null,null,null,null,null,null,null,null,null,null,null,null,null,0,0,0,0,0,0,0,0,null,null,null,null,null,0,null,null,null,null,null,{"$f":"IF(R31<>\"\",CONCATENATE($A$2,DIGITADOR!$M$1,ROW()-2),\"\")","v":""},"",{"$f":"IF(E31=\"\",\"\",INDEX(referentes!D:E,MATCH(E31,referentes!E:E,0),1))","v":""},{"$f":"IF(F31=\"\",\"\",INDEX(referentes!J:K,MATCH(F31,referentes!K:K,0),1))","v":""},{"$f":"IF(AI31=\"\",\"\",INDEX(referentes!M:N,MATCH(AI31,referentes!N:N,0),1))","v":""},{"$f":"IF(I31=\"\",\"\",INDEX(referentes!P:Q,MATCH(I31,referentes!Q:Q,0),1))","v":""},{"$f":"IF(J31=\"\",\"\",INDEX(referentes!S:T,MATCH(J31,referentes!T:T,0),1))","v":""},{"$f":"IF(AB31=\"\",\"\",INDEX(referentes!V:W,MATCH(AB31,referentes!W:W,0),1))","v":""},{"$f":"IF(Y31=\"\",\"\",INDEX(referentes!AZ:BA,MATCH(Y31,referentes!BA:BA,0),1))","v":""},"","","","",{"$f":"IF(BP31=\"\",\"\",INDEX(referentes!AE:AF,MATCH(BP31,referentes!AF:AF,0),1))","v":""},{"$f":"IF(BQ31=\"\",\"\",INDEX(referentes!AH:AI,MATCH(BQ31,referentes!AI:AI,0),1))","v":""},null,{"$f":"IF(D31=\"\",\"\",INDEX(referentes!A:B,MATCH(D31,referentes!B:B,0),1))","v":""},{"$f":"IF(AT31=\"\",\"\",INDEX(referentes!Y:Z,MATCH(AT31,referentes!Z:Z,0),1))","v":""},{"$f":"IF(AU31=\"\",\"\",INDEX(referentes!AB:AC,MATCH(AU31,referentes!AC:AC,0),1))","v":""}]
[null,{"$f":"IF(BT32=\"\",\"\",IF(COUNTIF($BT32:BT32, BT32)>1, \"\", BT32))","v":""},null,null,null,null,null,null,null,null,null,null,{"$f":"IF(L32=\"\",\"\",INDEX(referentes!AK:AL,MATCH(L32,referentes!AL:AL,0),1))","v":""},"",null,31,{"$f":"IF(K32=\"\",\"\",INDEX('Otras referencias'!F:I,MATCH(K32,'Otras referencias'!I:I,0),1))","v":""},"",null,null,null,null,null,null,null,null,null,null,null,null,null,null,null,null,null,null,null,null,null,null,null,null,null,null,null,null,null,null,null,null,null,null,0,0,0,0,0,0,0,0,null,null,null,null,null,0,null,null,null,null,null,{"$f":"IF(R32<>\"\",CONCATENATE($A$2,DIGITADOR!$M$1,ROW()-2),\"\")","v":""},"",{"$f":"IF(E32=\"\",\"\",INDEX(referentes!D:E,MATCH(E32,referentes!E:E,0),1))","v":""},{"$f":"IF(F32=\"\",\"\",INDEX(referentes!J:K,MATCH(F32,referentes!K:K,0),1))","v":""},{"$f":"IF(AI32=\"\",\"\",INDEX(referentes!M:N,MATCH(AI32,referentes!N:N,0),1))","v":""},{"$f":"IF(I32=\"\",\"\",INDEX(referentes!P:Q,MATCH(I32,referentes!Q:Q,0),1))","v":""},{"$f":"IF(J32=\"\",\"\",INDEX(referentes!S:T,MATCH(J32,referentes!T:T,0),1))","v":""},{"$f":"IF(AB32=\"\",\"\",INDEX(referentes!V:W,MATCH(AB32,referentes!W:W,0),1))","v":""},{"$f":"IF(Y32=\"\",\"\",INDEX(referentes!AZ:BA,MATCH(Y32,referentes!BA:BA,0),1))","v":""},"","","","",{"$f":"IF(BP32=\"\",\"\",INDEX(referentes!AE:AF,MATCH(BP32,referentes!AF:AF,0),1))","v":""},{"$f":"IF(BQ32=\"\",\"\",INDEX(referentes!AH:AI,MATCH(BQ32,referentes!AI:AI,0),1))","v":""},null,{"$f":"IF(D32=\"\",\"\",INDEX(referentes!A:B,MATCH(D32,referentes!B:B,0),1))","v":""},{"$f":"IF(AT32=\"\",\"\",INDEX(referentes!Y:Z,MATCH(AT32,referentes!Z:Z,0),1))","v":""},{"$f":"IF(AU32=\"\",\"\",INDEX(referentes!AB:AC,MATCH(AU32,referentes!AC:AC,0),1))","v":""}]
[null,{"$f":"IF(BT33=\"\",\"\",IF(COUNTIF($BT33:BT33, BT33)>1, \"\", BT33))","v":""},null,null,null,null,null,null,null,null,null,null,{"$f":"IF(L33=\"\",\"\",INDEX(referentes!AK:AL,MATCH(L33,referentes!AL:AL,0),1))","v":""},"",null,32,{"$f":"IF(K33=\"\",\"\",INDEX('Otras referencias'!F:I,MATCH(K33,'Otras referencias'!I:I,0),1))","v":""},"",null,null,null,null,null,null,null,null,null,null,null,null,null,null,null,null,null,null,null,null,null,null,null,null,null,null,null,null,null,null,null,null,null,null,0,0,0,0,0,0,0,0,null,null,null,null,null,0,null,null,null,null,null,{"$f":"IF(R33<>\"\",CONCATENATE($A$2,DIGITADOR!$M$1,ROW()-2),\"\")","v":""},"",{"$f":"IF(E33=\"\",\"\",INDEX(referentes!D:E,MATCH(E33,referentes!E:E,0),1))","v":""},{"$f":"IF(F33=\"\",\"\",INDEX(referentes!J:K,MATCH(F33,referentes!K:K,0),1))","v":""},{"$f":"IF(AI33=\"\",\"\",INDEX(referentes!M:N,MATCH(AI33,referentes!N:N,0),1))","v":""},{"$f":"IF(I33=\"\",\"\",INDEX(referentes!P:Q,MATCH(I33,referentes!Q:Q,0),1))","v":""},{"$f":"IF(J33=\"\",\"\",INDEX(referentes!S:T,MATCH(J33,referentes!T:T,0),1))","v":""},{"$f":"IF(AB33=\"\",\"\",INDEX(referentes!V:W,MATCH(AB33,referentes!W:W,0),1))","v":""},{"$f":"IF(Y33=\"\",\"\",INDEX(referentes!AZ:BA,MATCH(Y33,referentes!BA:BA,0),1))","v":""},"","","","",{"$f":"IF(BP33=\"\",\"\",INDEX(referentes!AE:AF,MATCH(BP33,referentes!AF:AF,0),1))","v":""},{"$f":"IF(BQ33=\"\",\"\",INDEX(referentes!AH:AI,MATCH(BQ33,referentes!AI:AI,0),1))","v":""},null,{"$f":"IF(D33=\"\",\"\",INDEX(referentes!A:B,MATCH(D33,referentes!B:B,0),1))","v":""},{"$f":"IF(AT33=\"\",\"\",INDEX(referentes!Y:Z,MATCH(AT33,referentes!Z:Z,0),1))","v":""},{"$f":"IF(AU33=\"\",\"\",INDEX(referentes!AB:AC,MATCH(AU33,referentes!AC:AC,0),1))","v":""}]
[null,{"$f":"IF(BT34=\"\",\"\",IF(COUNTIF($BT34:BT34, BT34)>1, \"\", BT34))","v":""},null,null,null,null,null,null,null,null,null,null,{"$f":"IF(L34=\"\",\"\",INDEX(referentes!AK:AL,MATCH(L34,referentes!AL:AL,0),1))","v":""},"",null,33,{"$f":"IF(K34=\"\",\"\",INDEX('Otras referencias'!F:I,MATCH(K34,'Otras referencias'!I:I,0),1))","v":""},"",null,null,null,null,null,null,null,null,null,null,null,null,null,null,null,null,null,null,null,null,null,null,null,null,null,null,null,null,null,null,null,null,null,null,0,0,0,0,0,0,0,0,null,null,null,null,null,0,null,null,null,null,null,{"$f":"IF(R34<>\"\",CONCATENATE($A$2,DIGITADOR!$M$1,ROW()-2),\"\")","v":""},"",{"$f":"IF(E34=\"\",\"\",INDEX(referentes!D:E,MATCH(E34,referentes!E:E,0),1))","v":""},{"$f":"IF(F34=\"\",\"\",INDEX(referentes!J:K,MATCH(F34,referentes!K:K,0),1))","v":""},{"$f":"IF(AI34=\"\",\"\",INDEX(referentes!M:N,MATCH(AI34,referentes!N:N,0),1))","v":""},{"$f":"IF(I34=\"\",\"\",INDEX(referentes!P:Q,MATCH(I34,referentes!Q:Q,0),1))","v":""},{"$f":"IF(J34=\"\",\"\",INDEX(referentes!S:T,MATCH(J34,referentes!T:T,0),1))","v":""},{"$f":"IF(AB34=\"\",\"\",INDEX(referentes!V:W,MATCH(AB34,referentes!W:W,0),1))","v":""},{"$f":"IF(Y34=\"\",\"\",INDEX(referentes!AZ:BA,MATCH(Y34,referentes!BA:BA,0),1))","v":""},"","","","",{"$f":"IF(BP34=\"\",\"\",INDEX(referentes!AE:AF,MATCH(BP34,referentes!AF:AF,0),1))","v":""},{"$f":"IF(BQ34=\"\",\"\",INDEX(referentes!AH:AI,MATCH(BQ34,referentes!AI:AI,0),1))","v":""},null,{"$f":"IF(D34=\"\",\"\",INDEX(referentes!A:B,MATCH(D34,referentes!B:B,0),1))","v":""},{"$f":"IF(AT34=\"\",\"\",INDEX(referentes!Y:Z,MATCH(AT34,referentes!Z:Z,0),1))","v":""},{"$f":"IF(AU34=\"\",\"\",INDEX(referentes!AB:AC,MATCH(AU34,referentes!AC:AC,0),1))","v":""}]
[null,{"$f":"IF(BT35=\"\",\"\",IF(COUNTIF($BT35:BT35, BT35)>1, \"\", BT35))","v":""},null,null,null,null,null,null,null,null,null,null,{"$f":"IF(L35=\"\",\"\",INDEX(referentes!AK:AL,MATCH(L35,referentes!AL:AL,0),1))","v":""},"",null,34,{"$f":"IF(K35=\"\",\"\",INDEX('Otras referencias'!F:I,MATCH(K35,'Otras referencias'!I:I,0),1))","v":""},"",null,null,null,null,null,null,null,null,null,null,null,null,null,null,null,null,null,null,null,null,null,null,null,null,null,null,null,null,null,null,null,null,null,null,0,0,0,0,0,0,0,0,null,null,null,null,null,0,null,null,null,null,null,{"$f":"IF(R35<>\"\",CONCATENATE($A$2,DIGITADOR!$M$1,ROW()-2),\"\")","v":""},"",{"$f":"IF(E35=\"\",\"\",INDEX(referentes!D:E,MATCH(E35,referentes!E:E,0),1))","v":""},{"$f":"IF(F35=\"\",\"\",INDEX(referentes!J:K,MATCH(F35,referentes!K:K,0),1))","v":""},{"$f":"IF(AI35=\"\",\"\",INDEX(referentes!M:N,MATCH(AI35,referentes!N:N,0),1))","v":""},{"$f":"IF(I35=\"\",\"\",INDEX(referentes!P:Q,MATCH(I35,referentes!Q:Q,0),1))","v":""},{"$f":"IF(J35=\"\",\"\",INDEX(referentes!S:T,MATCH(J35,referentes!T:T,0),1))","v":""},{"$f":"IF(AB35=\"\",\"\",INDEX(referentes!V:W,MATCH(AB35,referentes!W:W,0),1))","v":""},{"$f":"IF(Y35=\"\",\"\",INDEX(referentes!AZ:BA,MATCH(Y35,referentes!BA:BA,0),1))","v":""},"","","","",{"$f":"IF(BP35=\"\",\"\",INDEX(referentes!AE:AF,MATCH(BP35,referentes!AF:AF,0),1))","v":""},{"$f":"IF(BQ35=\"\",\"\",INDEX(referentes!AH:AI,MATCH(BQ35,referentes!AI:AI,0),1))","v":""},null,{"$f":"IF(D35=\"\",\"\",INDEX(referentes!A:B,MATCH(D35,referentes!B:B,0),1))","v":""},{"$f":"IF(AT35=\"\",\"\",INDEX(referentes!Y:Z,MATCH(AT35,referentes!Z:Z,0),1))","v":""},{"$f":"IF(AU35=\"\",\"\",INDEX(referentes!AB:AC,MATCH(AU35,referentes!AC:AC,0),1))","v":""}]
[null,{"$f":"IF(BT36=\"\",\"\",IF(COUNTIF($BT36:BT36, BT36)>1, \"\", BT36))","v":""},null,null,null,null,null,null,null,null,null,null,{"$f":"IF(L36=\"\",\"\",INDEX(referentes!AK:AL,MATCH(L36,referentes!AL:AL,0),1))","v":""},"",null,35,{"$f":"IF(K36=\"\",\"\",INDEX('Otras referencias'!F:I,MATCH(K36,'Otras referencias'!I:I,0),1))","v":""},"",null,null,null,null,null,null,null,null,null,null,null,null,null,null,null,null,null,null,null,null,null,null,null,null,null,null,null,null,null,null,null,null,null,null,0,0,0,0,0,0,0,0,null,null,null,null,null,0,null,null,null,null,null,{"$f":"IF(R36<>\"\",CONCATENATE($A$2,DIGITADOR!$M$1,ROW()-2),\"\")","v":""},"",{"$f":"IF(E36=\"\",\"\",INDEX(referentes!D:E,MATCH(E36,referentes!E:E,0),1))","v":""},{"$f":"IF(F36=\"\",\"\",INDEX(referentes!J:K,MATCH(F36,referentes!K:K,0),1))","v":""},{"$f":"IF(AI36=\"\",\"\",INDEX(referentes!M:N,MATCH(AI36,referentes!N:N,0),1))","v":""},{"$f":"IF(I36=\"\",\"\",INDEX(referentes!P:Q,MATCH(I36,referentes!Q:Q,0),1))","v":""},{"$f":"IF(J36=\"\",\"\",INDEX(referentes!S:T,MATCH(J36,referentes!T:T,0),1))","v":""},{"$f":"IF(AB36=\"\",\"\",INDEX(referentes!V:W,MATCH(AB36,referentes!W:W,0),1))","v":""},{"$f":"IF(Y36=\"\",\"\",INDEX(referentes!AZ:BA,MATCH(Y36,referentes!BA:BA,0),1))","v":""},"","","","",{"$f":"IF(BP36=\"\",\"\",INDEX(referentes!AE:AF,MATCH(BP36,referentes!AF:AF,0),1))","v":""},{"$f":"IF(BQ36=\"\",\"\",INDEX(referentes!AH:AI,MATCH(BQ36,referentes!AI:AI,0),1))","v":""},null,{"$f":"IF(D36=\"\",\"\",INDEX(referentes!A:B,MATCH(D36,referentes!B:B,0),1))","v":""},{"$f":"IF(AT36=\"\",\"\",INDEX(referentes!Y:Z,MATCH(AT36,referentes!Z:Z,0),1))","v":""},{"$f":"IF(AU36=\"\",\"\",INDEX(referentes!AB:AC,MATCH(AU36,referentes!AC:AC,0),1))","v":""}]
[null,{"$f":"IF(BT37=\"\",\"\",IF(COUNTIF($BT37:BT37, BT37)>1, \"\", BT37))","v":""},null,null,null,null,null,null,null,null,null,null,{"$f":"IF(L37=\"\",\"\",INDEX(referentes!AK:AL,MATCH(L37,referentes!AL:AL,0),1))","v":""},"",null,36,{"$f":"IF(K37=\"\",\"\",INDEX('Otras referencias'!F:I,MATCH(K37,'Otras referencias'!I:I,0),1))","v":""},"",null,null,null,null,null,null,null,null,null,null,null,null,null,null,null,null,null,null,null,null,null,null,null,null,null,null,null,null,null,null,null,null,null,null,0,0,0,0,0,0,0,0,null,null,null,null,null,0,null,null,null,null,null,{"$f":"IF(R37<>\"\",CONCATENATE($A$2,DIGITADOR!$M$1,ROW()-2),\"\")","v":""},"",{"$f":"IF(E37=\"\",\"\",INDEX(referentes!D:E,MATCH(E37,referentes!E:E,0),1))","v":""},{"$f":"IF(F37=\"\",\"\",INDEX(referentes!J:K,MATCH(F37,referentes!K:K,0),1))","v":""},{"$f":"IF(AI37=\"\",\"\",INDEX(referentes!M:N,MATCH(AI37,referentes!N:N,0),1))","v":""},{"$f":"IF(I37=\"\",\"\",INDEX(referentes!P:Q,MATCH(I37,referentes!Q:Q,0),1))","v":""},{"$f":"IF(J37=\"\",\"\",INDEX(referentes!S:T,MATCH(J37,referentes!T:T,0),1))","v":""},{"$f":"IF(AB37=\"\",\"\",INDEX(referentes!V:W,MATCH(AB37,referentes!W:W,0),1))","v":""},{"$f":"IF(Y37=\"\",\"\",INDEX(referentes!AZ:BA,MATCH(Y37,referentes!BA:BA,0),1))","v":""},"","","","",{"$f":"IF(BP37=\"\",\"\",INDEX(referentes!AE:AF,MATCH(BP37,referentes!AF:AF,0),1))","v":""},{"$f":"IF(BQ37=\"\",\"\",INDEX(referentes!AH:AI,MATCH(BQ37,referentes!AI:AI,0),1))","v":""},null,{"$f":"IF(D37=\"\",\"\",INDEX(referentes!A:B,MATCH(D37,referentes!B:B,0),1))","v":""},{"$f":"IF(AT37=\"\",\"\",INDEX(referentes!Y:Z,MATCH(AT37,referentes!Z:Z,0),1))","v":""},{"$f":"IF(AU37=\"\",\"\",INDEX(referentes!AB:AC,MATCH(AU37,referentes!AC:AC,0),1))","v":""}]
[null,{"$f":"IF(BT38=\"\",\"\",IF(COUNTIF($BT38:BT38, BT38)>1, \"\", BT38))","v":""},null,null,null,null,null,null,null,null,null,null,{"$f":"IF(L38=\"\",\"\",INDEX(referentes!AK:AL,MATCH(L38,referentes!AL:AL,0),1))","v":""},"",null,37,{"$f":"IF(K38=\"\",\"\",INDEX('Otras referencias'!F:I,MATCH(K38,'Otras referencias'!I:I,0),1))","v":""},"",null,null,null,null,null,null,null,null,null,null,null,null,null,null,null,null,null,null,null,null,null,null,null,null,null,null,null,null,null,null,null,null,null,null,0,0,0,0,0,0,0,0,null,null,null,null,null,0,null,null,null,null,null,{"$f":"IF(R38<>\"\",CONCATENATE($A$2,DIGITADOR!$M$1,ROW()-2),\"\")","v":""},"",{"$f":"IF(E38=\"\",\"\",INDEX(referentes!D:E,MATCH(E38,referentes!E:E,0),1))","v":""},{"$f":"IF(F38=\"\",\"\",INDEX(referentes!J:K,MATCH(F38,referentes!K:K,0),1))","v":""},{"$f":"IF(AI38=\"\",\"\",INDEX(referentes!M:N,MATCH(AI38,referentes!N:N,0),1))","v":""},{"$f":"IF(I38=\"\",\"\",INDEX(referentes!P:Q,MATCH(I38,referentes!Q:Q,0),1))","v":""},{"$f":"IF(J38=\"\",\"\",INDEX(referentes!S:T,MATCH(J38,referentes!T:T,0),1))","v":""},{"$f":"IF(AB38=\"\",\"\",INDEX(referentes!V:W,MATCH(AB38,referentes!W:W,0),1))","v":""},{"$f":"IF(Y38=\"\",\"\",INDEX(referentes!AZ:BA,MATCH(Y38,referentes!BA:BA,0),1))","v":""},"","","","",{"$f":"IF(BP38=\"\",\"\",INDEX(referentes!AE:AF,MATCH(BP38,referentes!AF:AF,0),1))","v":""},{"$f":"IF(BQ38=\"\",\"\",INDEX(referentes!AH:AI,MATCH(BQ38,referentes!AI:AI,0),1))","v":""},null,{"$f":"IF(D38=\"\",\"\",INDEX(referentes!A:B,MATCH(D38,referentes!B:B,0),1))","v":""},{"$f":"IF(AT38=\"\",\"\",INDEX(referentes!Y:Z,MATCH(AT38,referentes!Z:Z,0),1))","v":""},{"$f":"IF(AU38=\"\",\"\",INDEX(referentes!AB:AC,MATCH(AU38,referentes!AC:AC,0),1))","v":""}]
[null,{"$f":"IF(BT39=\"\",\"\",IF(COUNTIF($BT39:BT39, BT39)>1, \"\", BT39))","v":""},null,null,null,null,null,null,null,null,null,null,{"$f":"IF(L39=\"\",\"\",INDEX(referentes!AK:AL,MATCH(L39,referentes!AL:AL,0),1))","v":""},"",null,38,{"$f":"IF(K39=\"\",\"\",INDEX('Otras referencias'!F:I,MATCH(K39,'Otras referencias'!I:I,0),1))","v":""},"",null,null,null,null,null,null,null,null,null,null,null,null,null,null,null,null,null,null,null,null,null,null,null,null,null,null,null,null,null,null,null,null,null,null,0,0,0,0,0,0,0,0,null,null,null,null,null,0,null,null,null,null,null,{"$f":"IF(R39<>\"\",CONCATENATE($A$2,DIGITADOR!$M$1,ROW()-2),\"\")","v":""},"",{"$f":"IF(E39=\"\",\"\",INDEX(referentes!D:E,MATCH(E39,referentes!E:E,0),1))","v":""},{"$f":"IF(F39=\"\",\"\",INDEX(referentes!J:K,MATCH(F39,referentes!K:K,0),1))","v":""},{"$f":"IF(AI39=\"\",\"\",INDEX(referentes!M:N,MATCH(AI39,referentes!N:N,0),1))","v":""},{"$f":"IF(I39=\"\",\"\",INDEX(referentes!P:Q,MATCH(I39,referentes!Q:Q,0),1))","v":""},{"$f":"IF(J39=\"\",\"\",INDEX(referentes!S:T,MATCH(J39,referentes!T:T,0),1))","v":""},{"$f":"IF(AB39=\"\",\"\",INDEX(referentes!V:W,MATCH(AB39,referentes!W:W,0),1))","v":""},{"$f":"IF(Y39=\"\",\"\",INDEX(referentes!AZ:BA,MATCH(Y39,referentes!BA:BA,0),1))","v":""},"","","","",{"$f":"IF(BP39=\"\",\"\",INDEX(referentes!AE:AF,MATCH(BP39,referentes!AF:AF,0),1))","v":""},{"$f":"IF(BQ39=\"\",\"\",INDEX(referentes!AH:AI,MATCH(BQ39,referentes!AI:AI,0),1))","v":""},null,{"$f":"IF(D39=\"\",\"\",INDEX(referentes!A:B,MATCH(D39,referentes!B:B,0),1))","v":""},{"$f":"IF(AT39=\"\",\"\",INDEX(referentes!Y:Z,MATCH(AT39,referentes!Z:Z,0),1))","v":""},{"$f":"IF(AU39=\"\",\"\",INDEX(referentes!AB:AC,MATCH(AU39,referentes!AC:AC,0),1))","v":""}]
[null,{"$f":"IF(BT40=\"\",\"\",IF(COUNTIF($BT40:BT40, BT40)>1, \"\", BT40))","v":""},null,null,null,null,null,null,null,null,null,null,{"$f":"IF(L40=\"\",\"\",INDEX(referentes!AK:AL,MATCH(L40,referentes!AL:AL,0),1))","v":""},"",null,39,{"$f":"IF(K40=\"\",\"\",INDEX('Otras referencias'!F:I,MATCH(K40,'Otras referencias'!I:I,0),1))","v":""},"",null,null,null,null,null,null,null,null,null,null,null,null,null,null,null,null,null,null,null,null,null,null,null,null,null,null,null,null,null,null,null,null,null,null,0,0,0,0,0,0,0,0,null,null,null,null,null,0,null,null,null,null,null,{"$f":"IF(R40<>\"\",CONCATENATE($A$2,DIGITADOR!$M$1,ROW()-2),\"\")","v":""},"",{"$f":"IF(E40=\"\",\"\",INDEX(referentes!D:E,MATCH(E40,referentes!E:E,0),1))","v":""},{"$f":"IF(F40=\"\",\"\",INDEX(referentes!J:K,MATCH(F40,referentes!K:K,0),1))","v":""},{"$f":"IF(AI40=\"\",\"\",INDEX(referentes!M:N,MATCH(AI40,referentes!N:N,0),1))","v":""},{"$f":"IF(I40=\"\",\"\",INDEX(referentes!P:Q,MATCH(I40,referentes!Q:Q,0),1))","v":""},{"$f":"IF(J40=\"\",\"\",INDEX(referentes!S:T,MATCH(J40,referentes!T:T,0),1))","v":""},{"$f":"IF(AB40=\"\",\"\",INDEX(referentes!V:W,MATCH(AB40,referentes!W:W,0),1))","v":""},{"$f":"IF(Y40=\"\",\"\",INDEX(referentes!AZ:BA,MATCH(Y40,referentes!BA:BA,0),1))","v":""},"","","","",{"$f":"IF(BP40=\"\",\"\",INDEX(referentes!AE:AF,MATCH(BP40,referentes!AF:AF,0),1))","v":""},{"$f":"IF(BQ40=\"\",\"\",INDEX(referentes!AH:AI,MATCH(BQ40,referentes!AI:AI,0),1))","v":""},null,{"$f":"IF(D40=\"\",\"\",INDEX(referentes!A:B,MATCH(D40,referentes!B:B,0),1))","v":""},{"$f":"IF(AT40=\"\",\"\",INDEX(referentes!Y:Z,MATCH(AT40,referentes!Z:Z,0),1))","v":""},{"$f":"IF(AU40=\"\",\"\",INDEX(referentes!AB:AC,MATCH(AU40,referentes!AC:AC,0),1))","v":""}]
[null,{"$f":"IF(BT41=\"\",\"\",IF(COUNTIF($BT41:BT41, BT41)>1, \"\", BT41))","v":""},null,null,null,null,null,null,null,null,null,null,{"$f":"IF(L41=\"\",\"\",INDEX(referentes!AK:AL,MATCH(L41,referentes!AL:AL,0),1))","v":""},"",null,40,{"$f":"IF(K41=\"\",\"\",INDEX('Otras referencias'!F:I,MATCH(K41,'Otras referencias'!I:I,0),1))","v":""},"",null,null,null,null,null,null,null,null,null,null,null,null,null,null,null,null,null,null,null,null,null,null,null,null,null,null,null,null,null,null,null,null,null,null,0,0,0,0,0,0,0,0,null,null,null,null,null,0,null,null,null,null,null,{"$f":"IF(R41<>\"\",CONCATENATE($A$2,DIGITADOR!$M$1,ROW()-2),\"\")","v":""},"",{"$f":"IF(E41=\"\",\"\",INDEX(referentes!D:E,MATCH(E41,referentes!E:E,0),1))","v":""},{"$f":"IF(F41=\"\",\"\",INDEX(referentes!J:K,MATCH(F41,referentes!K:K,0),1))","v":""},{"$f":"IF(AI41=\"\",\"\",INDEX(referentes!M:N,MATCH(AI41,referentes!N:N,0),1))","v":""},{"$f":"IF(I41=\"\",\"\",INDEX(referentes!P:Q,MATCH(I41,referentes!Q:Q,0),1))","v":""},{"$f":"IF(J41=\"\",\"\",INDEX(referentes!S:T,MATCH(J41,referentes!T:T,0),1))","v":""},{"$f":"IF(AB41=\"\",\"\",INDEX(referentes!V:W,MATCH(AB41,referentes!W:W,0),1))","v":""},{"$f":"IF(Y41=\"\",\"\",INDEX(referentes!AZ:BA,MATCH(Y41,referentes!BA:BA,0),1))","v":""},"","","","",{"$f":"IF(BP41=\"\",\"\",INDEX(referentes!AE:AF,MATCH(BP41,referentes!AF:AF,0),1))","v":""},{"$f":"IF(BQ41=\"\",\"\",INDEX(referentes!AH:AI,MATCH(BQ41,referentes!AI:AI,0),1))","v":""},null,{"$f":"IF(D41=\"\",\"\",INDEX(referentes!A:B,MATCH(D41,referentes!B:B,0),1))","v":""},{"$f":"IF(AT41=\"\",\"\",INDEX(referentes!Y:Z,MATCH(AT41,referentes!Z:Z,0),1))","v":""},{"$f":"IF(AU41=\"\",\"\",INDEX(referentes!AB:AC,MATCH(AU41,referentes!AC:AC,0),1))","v":""}]
[null,{"$f":"IF(BT42=\"\",\"\",IF(COUNTIF($BT42:BT42, BT42)>1, \"\", BT42))","v":""},null,null,null,null,null,null,null,null,null,null,{"$f":"IF(L42=\"\",\"\",INDEX(referentes!AK:AL,MATCH(L42,referentes!AL:AL,0),1))","v":""},"",null,41,{"$f":"IF(K42=\"\",\"\",INDEX('Otras referencias'!F:I,MATCH(K42,'Otras referencias'!I:I,0),1))","v":""},"",null,null,null,null,null,null,null,null,null,null,null,null,null,null,null,null,null,null,null,null,null,null,null,null,null,null,null,null,null,null,null,null,null,null,0,0,0,0,0,0,0,0,null,null,null,null,null,0,null,null,null,null,null,{"$f":"IF(R42<>\"\",CONCATENATE($A$2,DIGITADOR!$M$1,ROW()-2),\"\")","v":""},"",{"$f":"IF(E42=\"\",\"\",INDEX(referentes!D:E,MATCH(E42,referentes!E:E,0),1))","v":""},{"$f":"IF(F42=\"\",\"\",INDEX(referentes!J:K,MATCH(F42,referentes!K:K,0),1))","v":""},{"$f":"IF(AI42=\"\",\"\",INDEX(referentes!M:N,MATCH(AI42,referentes!N:N,0),1))","v":""},{"$f":"IF(I42=\"\",\"\",INDEX(referentes!P:Q,MATCH(I42,referentes!Q:Q,0),1))","v":""},{"$f":"IF(J42=\"\",\"\",INDEX(referentes!S:T,MATCH(J42,referentes!T:T,0),1))","v":""},{"$f":"IF(AB42=\"\",\"\",INDEX(referentes!V:W,MATCH(AB42,referentes!W:W,0),1))","v":""},{"$f":"IF(Y42=\"\",\"\",INDEX(referentes!AZ:BA,MATCH(Y42,referentes!BA:BA,0),1))","v":""},"","","","",{"$f":"IF(BP42=\"\",\"\",INDEX(referentes!AE:AF,MATCH(BP42,referentes!AF:AF,0),1))","v":""},{"$f":"IF(BQ42=\"\",\"\",INDEX(referentes!AH:AI,MATCH(BQ42,referentes!AI:AI,0),1))","v":""},null,{"$f":"IF(D42=\"\",\"\",INDEX(referentes!A:B,MATCH(D42,referentes!B:B,0),1))","v":""},{"$f":"IF(AT42=\"\",\"\",INDEX(referentes!Y:Z,MATCH(AT42,referentes!Z:Z,0),1))","v":""},{"$f":"IF(AU42=\"\",\"\",INDEX(referentes!AB:AC,MATCH(AU42,referentes!AC:AC,0),1))","v":""}]
[null,{"$f":"IF(BT43=\"\",\"\",IF(COUNTIF($BT43:BT43, BT43)>1, \"\", BT43))","v":""},null,null,null,null,null,null,null,null,null,null,{"$f":"IF(L43=\"\",\"\",INDEX(referentes!AK:AL,MATCH(L43,referentes!AL:AL,0),1))","v":""},"",null,42,{"$f":"IF(K43=\"\",\"\",INDEX('Otras referencias'!F:I,MATCH(K43,'Otras referencias'!I:I,0),1))","v":""},"",null,null,null,null,null,null,null,null,null,null,null,null,null,null,null,null,null,null,null,null,null,null,null,null,null,null,null,null,null,null,null,null,null,null,0,0,0,0,0,0,0,0,null,null,null,null,null,0,null,null,null,null,null,{"$f":"IF(R43<>\"\",CONCATENATE($A$2,DIGITADOR!$M$1,ROW()-2),\"\")","v":""},"",{"$f":"IF(E43=\"\",\"\",INDEX(referentes!D:E,MATCH(E43,referentes!E:E,0),1))","v":""},{"$f":"IF(F43=\"\",\"\",INDEX(referentes!J:K,MATCH(F43,referentes!K:K,0),1))","v":""},{"$f":"IF(AI43=\"\",\"\",INDEX(referentes!M:N,MATCH(AI43,referentes!N:N,0),1))","v":""},{"$f":"IF(I43=\"\",\"\",INDEX(referentes!P:Q,MATCH(I43,referentes!Q:Q,0),1))","v":""},{"$f":"IF(J43=\"\",\"\",INDEX(referentes!S:T,MATCH(J43,referentes!T:T,0),1))","v":""},{"$f":"IF(AB43=\"\",\"\",INDEX(referentes!V:W,MATCH(AB43,referentes!W:W,0),1))","v":""},{"$f":"IF(Y43=\"\",\"\",INDEX(referentes!AZ:BA,MATCH(Y43,referentes!BA:BA,0),1))","v":""},"","","","",{"$f":"IF(BP43=\"\",\"\",INDEX(referentes!AE:AF,MATCH(BP43,referentes!AF:AF,0),1))","v":""},{"$f":"IF(BQ43=\"\",\"\",INDEX(referentes!AH:AI,MATCH(BQ43,referentes!AI:AI,0),1))","v":""},null,{"$f":"IF(D43=\"\",\"\",INDEX(referentes!A:B,MATCH(D43,referentes!B:B,0),1))","v":""},{"$f":"IF(AT43=\"\",\"\",INDEX(referentes!Y:Z,MATCH(AT43,referentes!Z:Z,0),1))","v":""},{"$f":"IF(AU43=\"\",\"\",INDEX(referentes!AB:AC,MATCH(AU43,referentes!AC:AC,0),1))","v":""}]
[null,{"$f":"IF(BT44=\"\",\"\",IF(COUNTIF($BT44:BT44, BT44)>1, \"\", BT44))","v":""},null,null,null,null,null,null,null,null,null,null,{"$f":"IF(L44=\"\",\"\",INDEX(referentes!AK:AL,MATCH(L44,referentes!AL:AL,0),1))","v":""},"",null,43,{"$f":"IF(K44=\"\",\"\",INDEX('Otras referencias'!F:I,MATCH(K44,'Otras referencias'!I:I,0),1))","v":""},"",null,null,null,null,null,null,null,null,null,null,null,null,null,null,null,null,null,null,null,null,null,null,null,null,null,null,null,null,null,null,null,null,null,null,0,0,0,0,0,0,0,0,null,null,null,null,null,0,null,null,null,null,null,{"$f":"IF(R44<>\"\",CONCATENATE($A$2,DIGITADOR!$M$1,ROW()-2),\"\")","v":""},"",{"$f":"IF(E44=\"\",\"\",INDEX(referentes!D:E,MATCH(E44,referentes!E:E,0),1))","v":""},{"$f":"IF(F44=\"\",\"\",INDEX(referentes!J:K,MATCH(F44,referentes!K:K,0),1))","v":""},{"$f":"IF(AI44=\"\",\"\",INDEX(referentes!M:N,MATCH(AI44,referentes!N:N,0),1))","v":""},{"$f":"IF(I44=\"\",\"\",INDEX(referentes!P:Q,MATCH(I44,referentes!Q:Q,0),1))","v":""},{"$f":"IF(J44=\"\",\"\",INDEX(referentes!S:T,MATCH(J44,referentes!T:T,0),1))","v":""},{"$f":"IF(AB44=\"\",\"\",INDEX(referentes!V:W,MATCH(AB44,referentes!W:W,0),1))","v":""},{"$f":"IF(Y44=\"\",\"\",INDEX(referentes!AZ:BA,MATCH(Y44,referentes!BA:BA,0),1))","v":""},"","","","",{"$f":"IF(BP44=\"\",\"\",INDEX(referentes!AE:AF,MATCH(BP44,referentes!AF:AF,0),1))","v":""},{"$f":"IF(BQ44=\"\",\"\",INDEX(referentes!AH:AI,MATCH(BQ44,referentes!AI:AI,0),1))","v":""},null,{"$f":"IF(D44=\"\",\"\",INDEX(referentes!A:B,MATCH(D44,referentes!B:B,0),1))","v":""},{"$f":"IF(AT44=\"\",\"\",INDEX(referentes!Y:Z,MATCH(AT44,referentes!Z:Z,0),1))","v":""},{"$f":"IF(AU44=\"\",\"\",INDEX(referentes!AB:AC,MATCH(AU44,referentes!AC:AC,0),1))","v":""}]
[null,{"$f":"IF(BT45=\"\",\"\",IF(COUNTIF($BT45:BT45, BT45)>1, \"\", BT45))","v":""},null,null,null,null,null,null,null,null,null,null,{"$f":"IF(L45=\"\",\"\",INDEX(referentes!AK:AL,MATCH(L45,referentes!AL:AL,0),1))","v":""},"",null,44,{"$f":"IF(K45=\"\",\"\",INDEX('Otras referencias'!F:I,MATCH(K45,'Otras referencias'!I:I,0),1))","v":""},"",null,null,null,null,null,null,null,null,null,null,null,null,null,null,null,null,null,null,null,null,null,null,null,null,null,null,null,null,null,null,null,null,null,null,0,0,0,0,0,0,0,0,null,null,null,null,null,0,null,null,null,null,null,{"$f":"IF(R45<>\"\",CONCATENATE($A$2,DIGITADOR!$M$1,ROW()-2),\"\")","v":""},"",{"$f":"IF(E45=\"\",\"\",INDEX(referentes!D:E,MATCH(E45,referentes!E:E,0),1))","v":""},{"$f":"IF(F45=\"\",\"\",INDEX(referentes!J:K,MATCH(F45,referentes!K:K,0),1))","v":""},{"$f":"IF(AI45=\"\",\"\",INDEX(referentes!M:N,MATCH(AI45,referentes!N:N,0),1))","v":""},{"$f":"IF(I45=\"\",\"\",INDEX(referentes!P:Q,MATCH(I45,referentes!Q:Q,0),1))","v":""},{"$f":"IF(J45=\"\",\"\",INDEX(referentes!S:T,MATCH(J45,referentes!T:T,0),1))","v":""},{"$f":"IF(AB45=\"\",\"\",INDEX(referentes!V:W,MATCH(AB45,referentes!W:W,0),1))","v":""},{"$f":"IF(Y45=\"\",\"\",INDEX(referentes!AZ:BA,MATCH(Y45,referentes!BA:BA,0),1))","v":""},"","","","",{"$f":"IF(BP45=\"\",\"\",INDEX(referentes!AE:AF,MATCH(BP45,referentes!AF:AF,0),1))","v":""},{"$f":"IF(BQ45=\"\",\"\",INDEX(referentes!AH:AI,MATCH(BQ45,referentes!AI:AI,0),1))","v":""},null,{"$f":"IF(D45=\"\",\"\",INDEX(referentes!A:B,MATCH(D45,referentes!B:B,0),1))","v":""},{"$f":"IF(AT45=\"\",\"\",INDEX(referentes!Y:Z,MATCH(AT45,referentes!Z:Z,0),1))","v":""},{"$f":"IF(AU45=\"\",\"\",INDEX(referentes!AB:AC,MATCH(AU45,referentes!AC:AC,0),1))","v":""}]
[null,{"$f":"IF(BT46=\"\",\"\",IF(COUNTIF($BT46:BT46, BT46)>1, \"\", BT46))","v":""},null,null,null,null,null,null,null,null,null,null,{"$f":"IF(L46=\"\",\"\",INDEX(referentes!AK:AL,MATCH(L46,referentes!AL:AL,0),1))","v":""},"",null,45,{"$f":"IF(K46=\"\",\"\",INDEX('Otras referencias'!F:I,MATCH(K46,'Otras referencias'!I:I,0),1))","v":""},"",null,null,null,null,null,null,null,null,null,null,null,null,null,null,null,null,null,null,null,null,null,null,null,null,null,null,null,null,null,null,null,null,null,null,0,0,0,0,0,0,0,0,null,null,null,null,null,0,null,null,null,null,null,{"$f":"IF(R46<>\"\",CONCATENATE($A$2,DIGITADOR!$M$1,ROW()-2),\"\")","v":""},"",{"$f":"IF(E46=\"\",\"\",INDEX(referentes!D:E,MATCH(E46,referentes!E:E,0),1))","v":""},{"$f":"IF(F46=\"\",\"\",INDEX(referentes!J:K,MATCH(F46,referentes!K:K,0),1))","v":""},{"$f":"IF(AI46=\"\",\"\",INDEX(referentes!M:N,MATCH(AI46,referentes!N:N,0),1))","v":""},{"$f":"IF(I46=\"\",\"\",INDEX(referentes!P:Q,MATCH(I46,referentes!Q:Q,0),1))","v":""},{"$f":"IF(J46=\"\",\"\",INDEX(referentes!S:T,MATCH(J46,referentes!T:T,0),1))","v":""},{"$f":"IF(AB46=\"\",\"\",INDEX(referentes!V:W,MATCH(AB46,referentes!W:W,0),1))","v":""},{"$f":"IF(Y46=\"\",\"\",INDEX(referentes!AZ:BA,MATCH(Y46,referentes!BA:BA,0),1))","v":""},"","","","",{"$f":"IF(BP46=\"\",\"\",INDEX(referentes!AE:AF,MATCH(BP46,referentes!AF:AF,0),1))","v":""},{"$f":"IF(BQ46=\"\",\"\",INDEX(referentes!AH:AI,MATCH(BQ46,referentes!AI:AI,0),1))","v":""},null,{"$f":"IF(D46=\"\",\"\",INDEX(referentes!A:B,MATCH(D46,referentes!B:B,0),1))","v":""},{"$f":"IF(AT46=\"\",\"\",INDEX(referentes!Y:Z,MATCH(AT46,referentes!Z:Z,0),1))","v":""},{"$f":"IF(AU46=\"\",\"\",INDEX(referentes!AB:AC,MATCH(AU46,referentes!AC:AC,0),1))","v":""}]
[null,{"$f":"IF(BT47=\"\",\"\",IF(COUNTIF($BT47:BT47, BT47)>1, \"\", BT47))","v":""},null,null,null,null,null,null,null,null,null,null,{"$f":"IF(L47=\"\",\"\",INDEX(referentes!AK:AL,MATCH(L47,referentes!AL:AL,0),1))","v":""},"",null,46,{"$f":"IF(K47=\"\",\"\",INDEX('Otras referencias'!F:I,MATCH(K47,'Otras referencias'!I:I,0),1))","v":""},"",null,null,null,null,null,null,null,null,null,null,null,null,null,null,null,null,null,null,null,null,null,null,null,null,null,null,null,null,null,null,null,null,null,null,0,0,0,0,0,0,0,0,null,null,null,null,null,0,null,null,null,null,null,{"$f":"IF(R47<>\"\",CONCATENATE($A$2,DIGITADOR!$M$1,ROW()-2),\"\")","v":""},"",{"$f":"IF(E47=\"\",\"\",INDEX(referentes!D:E,MATCH(E47,referentes!E:E,0),1))","v":""},{"$f":"IF(F47=\"\",\"\",INDEX(referentes!J:K,MATCH(F47,referentes!K:K,0),1))","v":""},{"$f":"IF(AI47=\"\",\"\",INDEX(referentes!M:N,MATCH(AI47,referentes!N:N,0),1))","v":""},{"$f":"IF(I47=\"\",\"\",INDEX(referentes!P:Q,MATCH(I47,referentes!Q:Q,0),1))","v":""},{"$f":"IF(J47=\"\",\"\",INDEX(referentes!S:T,MATCH(J47,referentes!T:T,0),1))","v":""},{"$f":"IF(AB47=\"\",\"\",INDEX(referentes!V:W,MATCH(AB47,referentes!W:W,0),1))","v":""},{"$f":"IF(Y47=\"\",\"\",INDEX(referentes!AZ:BA,MATCH(Y47,referentes!BA:BA,0),1))","v":""},"","","","",{"$f":"IF(BP47=\"\",\"\",INDEX(referentes!AE:AF,MATCH(BP47,referentes!AF:AF,0),1))","v":""},{"$f":"IF(BQ47=\"\",\"\",INDEX(referentes!AH:AI,MATCH(BQ47,referentes!AI:AI,0),1))","v":""},null,{"$f":"IF(D47=\"\",\"\",INDEX(referentes!A:B,MATCH(D47,referentes!B:B,0),1))","v":""},{"$f":"IF(AT47=\"\",\"\",INDEX(referentes!Y:Z,MATCH(AT47,referentes!Z:Z,0),1))","v":""},{"$f":"IF(AU47=\"\",\"\",INDEX(referentes!AB:AC,MATCH(AU47,referentes!AC:AC,0),1))","v":""}]
[null,{"$f":"IF(BT48=\"\",\"\",IF(COUNTIF($BT48:BT48, BT48)>1, \"\", BT48))","v":""},null,null,null,null,null,null,null,null,null,null,{"$f":"IF(L48=\"\",\"\",INDEX(referentes!AK:AL,MATCH(L48,referentes!AL:AL,0),1))","v":""},"",null,47,{"$f":"IF(K48=\"\",\"\",INDEX('Otras referencias'!F:I,MATCH(K48,'Otras referencias'!I:I,0),1))","v":""},"",null,null,null,null,null,null,null,null,null,null,null,null,null,null,null,null,null,null,null,null,null,null,null,null,null,null,null,null,null,null,null,null,null,null,0,0,0,0,0,0,0,0,null,null,null,null,null,0,null,null,null,null,null,{"$f":"IF(R48<>\"\",CONCATENATE($A$2,DIGITADOR!$M$1,ROW()-2),\"\")","v":""},"",{"$f":"IF(E48=\"\",\"\",INDEX(referentes!D:E,MATCH(E48,referentes!E:E,0),1))","v":""},{"$f":"IF(F48=\"\",\"\",INDEX(referentes!J:K,MATCH(F48,referentes!K:K,0),1))","v":""},{"$f":"IF(AI48=\"\",\"\",INDEX(referentes!M:N,MATCH(AI48,referentes!N:N,0),1))","v":""},{"$f":"IF(I48=\"\",\"\",INDEX(referentes!P:Q,MATCH(I48,referentes!Q:Q,0),1))","v":""},{"$f":"IF(J48=\"\",\"\",INDEX(referentes!S:T,MATCH(J48,referentes!T:T,0),1))","v":""},{"$f":"IF(AB48=\"\",\"\",INDEX(referentes!V:W,MATCH(AB48,referentes!W:W,0),1))","v":""},{"$f":"IF(Y48=\"\",\"\",INDEX(referentes!AZ:BA,MATCH(Y48,referentes!BA:BA,0),1))","v":""},"","","","",{"$f":"IF(BP48=\"\",\"\",INDEX(referentes!AE:AF,MATCH(BP48,referentes!AF:AF,0),1))","v":""},{"$f":"IF(BQ48=\"\",\"\",INDEX(referentes!AH:AI,MATCH(BQ48,referentes!AI:AI,0),1))","v":""},null,{"$f":"IF(D48=\"\",\"\",INDEX(referentes!A:B,MATCH(D48,referentes!B:B,0),1))","v":""},{"$f":"IF(AT48=\"\",\"\",INDEX(referentes!Y:Z,MATCH(AT48,referentes!Z:Z,0),1))","v":""},{"$f":"IF(AU48=\"\",\"\",INDEX(referentes!AB:AC,MATCH(AU48,referentes!AC:AC,0),1))","v":""}]
[null,{"$f":"IF(BT49=\"\",\"\",IF(COUNTIF($BT49:BT49, BT49)>1, \"\", BT49))","v":""},null,null,null,null,null,null,null,null,null,null,{"$f":"IF(L49=\"\",\"\",INDEX(referentes!AK:AL,MATCH(L49,referentes!AL:AL,0),1))","v":""},"",null,48,{"$f":"IF(K49=\"\",\"\",INDEX('Otras referencias'!F:I,MATCH(K49,'Otras referencias'!I:I,0),1))","v":""},"",null,null,null,null,null,null,null,null,null,null,null,null,null,null,null,null,null,null,null,null,null,null,null,null,null,null,null,null,null,null,null,null,null,null,0,0,0,0,0,0,0,0,null,null,null,null,null,0,null,null,null,null,null,{"$f":"IF(R49<>\"\",CONCATENATE($A$2,DIGITADOR!$M$1,ROW()-2),\"\")","v":""},"",{"$f":"IF(E49=\"\",\"\",INDEX(referentes!D:E,MATCH(E49,referentes!E:E,0),1))","v":""},{"$f":"IF(F49=\"\",\"\",INDEX(referentes!J:K,MATCH(F49,referentes!K:K,0),1))","v":""},{"$f":"IF(AI49=\"\",\"\",INDEX(referentes!M:N,MATCH(AI49,referentes!N:N,0),1))","v":""},{"$f":"IF(I49=\"\",\"\",INDEX(referentes!P:Q,MATCH(I49,referentes!Q:Q,0),1))","v":""},{"$f":"IF(J49=\"\",\"\",INDEX(referentes!S:T,MATCH(J49,referentes!T:T,0),1))","v":""},{"$f":"IF(AB49=\"\",\"\",INDEX(referentes!V:W,MATCH(AB49,referentes!W:W,0),1))","v":""},{"$f":"IF(Y49=\"\",\"\",INDEX(referentes!AZ:BA,MATCH(Y49,referentes!BA:BA,0),1))","v":""},"","","","",{"$f":"IF(BP49=\"\",\"\",INDEX(referentes!AE:AF,MATCH(BP49,referentes!AF:AF,0),1))","v":""},{"$f":"IF(BQ49=\"\",\"\",INDEX(referentes!AH:AI,MATCH(BQ49,referentes!AI:AI,0),1))","v":""},null,{"$f":"IF(D49=\"\",\"\",INDEX(referentes!A:B,MATCH(D49,referentes!B:B,0),1))","v":""},{"$f":"IF(AT49=\"\",\"\",INDEX(referentes!Y:Z,MATCH(AT49,referentes!Z:Z,0),1))","v":""},{"$f":"IF(AU49=\"\",\"\",INDEX(referentes!AB:AC,MATCH(AU49,referentes!AC:AC,0),1))","v":""}]
[null,{"$f":"IF(BT50=\"\",\"\",IF(COUNTIF($BT50:BT50, BT50)>1, \"\", BT50))","v":""},null,null,null,null,null,null,null,null,null,null,{"$f":"IF(L50=\"\",\"\",INDEX(referentes!AK:AL,MATCH(L50,referentes!AL:AL,0),1))","v":""},"",null,49,{"$f":"IF(K50=\"\",\"\",INDEX('Otras referencias'!F:I,MATCH(K50,'Otras referencias'!I:I,0),1))","v":""},"",null,null,null,null,null,null,null,null,null,null,null,null,null,null,null,null,null,null,null,null,null,null,null,null,null,null,null,null,null,null,null,null,null,null,0,0,0,0,0,0,0,0,null,null,null,null,null,0,null,null,null,null,null,{"$f":"IF(R50<>\"\",CONCATENATE($A$2,DIGITADOR!$M$1,ROW()-2),\"\")","v":""},"",{"$f":"IF(E50=\"\",\"\",INDEX(referentes!D:E,MATCH(E50,referentes!E:E,0),1))","v":""},{"$f":"IF(F50=\"\",\"\",INDEX(referentes!J:K,MATCH(F50,referentes!K:K,0),1))","v":""},{"$f":"IF(AI50=\"\",\"\",INDEX(referentes!M:N,MATCH(AI50,referentes!N:N,0),1))","v":""},{"$f":"IF(I50=\"\",\"\",INDEX(referentes!P:Q,MATCH(I50,referentes!Q:Q,0),1))","v":""},{"$f":"IF(J50=\"\",\"\",INDEX(referentes!S:T,MATCH(J50,referentes!T:T,0),1))","v":""},{"$f":"IF(AB50=\"\",\"\",INDEX(referentes!V:W,MATCH(AB50,referentes!W:W,0),1))","v":""},{"$f":"IF(Y50=\"\",\"\",INDEX(referentes!AZ:BA,MATCH(Y50,referentes!BA:BA,0),1))","v":""},"","","","",{"$f":"IF(BP50=\"\",\"\",INDEX(referentes!AE:AF,MATCH(BP50,referentes!AF:AF,0),1))","v":""},{"$f":"IF(BQ50=\"\",\"\",INDEX(referentes!AH:AI,MATCH(BQ50,referentes!AI:AI,0),1))","v":""},null,{"$f":"IF(D50=\"\",\"\",INDEX(referentes!A:B,MATCH(D50,referentes!B:B,0),1))","v":""},{"$f":"IF(AT50=\"\",\"\",INDEX(referentes!Y:Z,MATCH(AT50,referentes!Z:Z,0),1))","v":""},{"$f":"IF(AU50=\"\",\"\",INDEX(referentes!AB:AC,MATCH(AU50,referentes!AC:AC,0),1))","v":""}]
[null,{"$f":"IF(BT51=\"\",\"\",IF(COUNTIF($BT51:BT51, BT51)>1, \"\", BT51))","v":""},null,null,null,null,null,null,null,null,null,null,{"$f":"IF(L51=\"\",\"\",INDEX(referentes!AK:AL,MATCH(L51,referentes!AL:AL,0),1))","v":""},"",null,50,{"$f":"IF(K51=\"\",\"\",INDEX('Otras referencias'!F:I,MATCH(K51,'Otras referencias'!I:I,0),1))","v":""},"",null,null,null,null,null,null,null,null,null,null,null,null,null,null,null,null,null,null,null,null,null,null,null,null,null,null,null,null,null,null,null,null,null,null,0,0,0,0,0,0,0,0,null,null,null,null,null,0,null,null,null,null,null,{"$f":"IF(R51<>\"\",CONCATENATE($A$2,DIGITADOR!$M$1,ROW()-2),\"\")","v":""},"",{"$f":"IF(E51=\"\",\"\",INDEX(referentes!D:E,MATCH(E51,referentes!E:E,0),1))","v":""},{"$f":"IF(F51=\"\",\"\",INDEX(referentes!J:K,MATCH(F51,referentes!K:K,0),1))","v":""},{"$f":"IF(AI51=\"\",\"\",INDEX(referentes!M:N,MATCH(AI51,referentes!N:N,0),1))","v":""},{"$f":"IF(I51=\"\",\"\",INDEX(referentes!P:Q,MATCH(I51,referentes!Q:Q,0),1))","v":""},{"$f":"IF(J51=\"\",\"\",INDEX(referentes!S:T,MATCH(J51,referentes!T:T,0),1))","v":""},{"$f":"IF(AB51=\"\",\"\",INDEX(referentes!V:W,MATCH(AB51,referentes!W:W,0),1))","v":""},{"$f":"IF(Y51=\"\",\"\",INDEX(referentes!AZ:BA,MATCH(Y51,referentes!BA:BA,0),1))","v":""},"","","","",{"$f":"IF(BP51=\"\",\"\",INDEX(referentes!AE:AF,MATCH(BP51,referentes!AF:AF,0),1))","v":""},{"$f":"IF(BQ51=\"\",\"\",INDEX(referentes!AH:AI,MATCH(BQ51,referentes!AI:AI,0),1))","v":""},null,{"$f":"IF(D51=\"\",\"\",INDEX(referentes!A:B,MATCH(D51,referentes!B:B,0),1))","v":""},{"$f":"IF(AT51=\"\",\"\",INDEX(referentes!Y:Z,MATCH(AT51,referentes!Z:Z,0),1))","v":""},{"$f":"IF(AU51=\"\",\"\",INDEX(referentes!AB:AC,MATCH(AU51,referentes!AC:AC,0),1))","v":""}]
[null,{"$f":"IF(BT52=\"\",\"\",IF(COUNTIF($BT52:BT52, BT52)>1, \"\", BT52))","v":""},null,null,null,null,null,null,null,null,null,null,{"$f":"IF(L52=\"\",\"\",INDEX(referentes!AK:AL,MATCH(L52,referentes!AL:AL,0),1))","v":""},"",null,51,{"$f":"IF(K52=\"\",\"\",INDEX('Otras referencias'!F:I,MATCH(K52,'Otras referencias'!I:I,0),1))","v":""},"",null,null,null,null,null,null,null,null,null,null,null,null,null,null,null,null,null,null,null,null,null,null,null,null,null,null,null,null,null,null,null,null,null,null,0,0,0,0,0,0,0,0,null,null,null,null,null,0,null,null,null,null,null,{"$f":"IF(R52<>\"\",CONCATENATE($A$2,DIGITADOR!$M$1,ROW()-2),\"\")","v":""},"",{"$f":"IF(E52=\"\",\"\",INDEX(referentes!D:E,MATCH(E52,referentes!E:E,0),1))","v":""},{"$f":"IF(F52=\"\",\"\",INDEX(referentes!J:K,MATCH(F52,referentes!K:K,0),1))","v":""},{"$f":"IF(AI52=\"\",\"\",INDEX(referentes!M:N,MATCH(AI52,referentes!N:N,0),1))","v":""},{"$f":"IF(I52=\"\",\"\",INDEX(referentes!P:Q,MATCH(I52,referentes!Q:Q,0),1))","v":""},{"$f":"IF(J52=\"\",\"\",INDEX(referentes!S:T,MATCH(J52,referentes!T:T,0),1))","v":""},{"$f":"IF(AB52=\"\",\"\",INDEX(referentes!V:W,MATCH(AB52,referentes!W:W,0),1))","v":""},{"$f":"IF(Y52=\"\",\"\",INDEX(referentes!AZ:BA,MATCH(Y52,referentes!BA:BA,0),1))","v":""},"","","","",{"$f":"IF(BP52=\"\",\"\",INDEX(referentes!AE:AF,MATCH(BP52,referentes!AF:AF,0),1))","v":""},{"$f":"IF(BQ52=\"\",\"\",INDEX(referentes!AH:AI,MATCH(BQ52,referentes!AI:AI,0),1))","v":""},null,{"$f":"IF(D52=\"\",\"\",INDEX(referentes!A:B,MATCH(D52,referentes!B:B,0),1))","v":""},{"$f":"IF(AT52=\"\",\"\",INDEX(referentes!Y:Z,MATCH(AT52,referentes!Z:Z,0),1))","v":""},{"$f":"IF(AU52=\"\",\"\",INDEX(referentes!AB:AC,MATCH(AU52,referentes!AC:AC,0),1))","v":""}]
[null,{"$f":"IF(BT53=\"\",\"\",IF(COUNTIF($BT53:BT53, BT53)>1, \"\", BT53))","v":""},null,null,null,null,null,null,null,null,null,null,{"$f":"IF(L53=\"\",\"\",INDEX(referentes!AK:AL,MATCH(L53,referentes!AL:AL,0),1))","v":""},"",null,52,{"$f":"IF(K53=\"\",\"\",INDEX('Otras referencias'!F:I,MATCH(K53,'Otras referencias'!I:I,0),1))","v":""},"",null,null,null,null,null,null,null,null,null,null,null,null,null,null,null,null,null,null,null,null,null,null,null,null,null,null,null,null,null,null,null,null,null,null,0,0,0,0,0,0,0,0,null,null,null,null,null,0,null,null,null,null,null,{"$f":"IF(R53<>\"\",CONCATENATE($A$2,DIGITADOR!$M$1,ROW()-2),\"\")","v":""},"",{"$f":"IF(E53=\"\",\"\",INDEX(referentes!D:E,MATCH(E53,referentes!E:E,0),1))","v":""},{"$f":"IF(F53=\"\",\"\",INDEX(referentes!J:K,MATCH(F53,referentes!K:K,0),1))","v":""},{"$f":"IF(AI53=\"\",\"\",INDEX(referentes!M:N,MATCH(AI53,referentes!N:N,0),1))","v":""},{"$f":"IF(I53=\"\",\"\",INDEX(referentes!P:Q,MATCH(I53,referentes!Q:Q,0),1))","v":""},{"$f":"IF(J53=\"\",\"\",INDEX(referentes!S:T,MATCH(J53,referentes!T:T,0),1))","v":""},{"$f":"IF(AB53=\"\",\"\",INDEX(referentes!V:W,MATCH(AB53,referentes!W:W,0),1))","v":""},{"$f":"IF(Y53=\"\",\"\",INDEX(referentes!AZ:BA,MATCH(Y53,referentes!BA:BA,0),1))","v":""},"","","","",{"$f":"IF(BP53=\"\",\"\",INDEX(referentes!AE:AF,MATCH(BP53,referentes!AF:AF,0),1))","v":""},{"$f":"IF(BQ53=\"\",\"\",INDEX(referentes!AH:AI,MATCH(BQ53,referentes!AI:AI,0),1))","v":""},null,{"$f":"IF(D53=\"\",\"\",INDEX(referentes!A:B,MATCH(D53,referentes!B:B,0),1))","v":""},{"$f":"IF(AT53=\"\",\"\",INDEX(referentes!Y:Z,MATCH(AT53,referentes!Z:Z,0),1))","v":""},{"$f":"IF(AU53=\"\",\"\",INDEX(referentes!AB:AC,MATCH(AU53,referentes!AC:AC,0),1))","v":""}]
[null,{"$f":"IF(BT54=\"\",\"\",IF(COUNTIF($BT54:BT54, BT54)>1, \"\", BT54))","v":""},null,null,null,null,null,null,null,null,null,null,{"$f":"IF(L54=\"\",\"\",INDEX(referentes!AK:AL,MATCH(L54,referentes!AL:AL,0),1))","v":""},"",null,53,{"$f":"IF(K54=\"\",\"\",INDEX('Otras referencias'!F:I,MATCH(K54,'Otras referencias'!I:I,0),1))","v":""},"",null,null,null,null,null,null,null,null,null,null,null,null,null,null,null,null,null,null,null,null,null,null,null,null,null,null,null,null,null,null,null,null,null,null,0,0,0,0,0,0,0,0,null,null,null,null,null,0,null,null,null,null,null,{"$f":"IF(R54<>\"\",CONCATENATE($A$2,DIGITADOR!$M$1,ROW()-2),\"\")","v":""},"",{"$f":"IF(E54=\"\",\"\",INDEX(referentes!D:E,MATCH(E54,referentes!E:E,0),1))","v":""},{"$f":"IF(F54=\"\",\"\",INDEX(referentes!J:K,MATCH(F54,referentes!K:K,0),1))","v":""},{"$f":"IF(AI54=\"\",\"\",INDEX(referentes!M:N,MATCH(AI54,referentes!N:N,0),1))","v":""},{"$f":"IF(I54=\"\",\"\",INDEX(referentes!P:Q,MATCH(I54,referentes!Q:Q,0),1))","v":""},{"$f":"IF(J54=\"\",\"\",INDEX(referentes!S:T,MATCH(J54,referentes!T:T,0),1))","v":""},{"$f":"IF(AB54=\"\",\"\",INDEX(referentes!V:W,MATCH(AB54,referentes!W:W,0),1))","v":""},{"$f":"IF(Y54=\"\",\"\",INDEX(referentes!AZ:BA,MATCH(Y54,referentes!BA:BA,0),1))","v":""},"","","","",{"$f":"IF(BP54=\"\",\"\",INDEX(referentes!AE:AF,MATCH(BP54,referentes!AF:AF,0),1))","v":""},{"$f":"IF(BQ54=\"\",\"\",INDEX(referentes!AH:AI,MATCH(BQ54,referentes!AI:AI,0),1))","v":""},null,{"$f":"IF(D54=\"\",\"\",INDEX(referentes!A:B,MATCH(D54,referentes!B:B,0),1))","v":""},{"$f":"IF(AT54=\"\",\"\",INDEX(referentes!Y:Z,MATCH(AT54,referentes!Z:Z,0),1))","v":""},{"$f":"IF(AU54=\"\",\"\",INDEX(referentes!AB:AC,MATCH(AU54,referentes!AC:AC,0),1))","v":""}]
[null,{"$f":"IF(BT55=\"\",\"\",IF(COUNTIF($BT55:BT55, BT55)>1, \"\", BT55))","v":""},null,null,null,null,null,null,null,null,null,null,{"$f":"IF(L55=\"\",\"\",INDEX(referentes!AK:AL,MATCH(L55,referentes!AL:AL,0),1))","v":""},"",null,54,{"$f":"IF(K55=\"\",\"\",INDEX('Otras referencias'!F:I,MATCH(K55,'Otras referencias'!I:I,0),1))","v":""},"",null,null,null,null,null,null,null,null,null,null,null,null,null,null,null,null,null,null,null,null,null,null,null,null,null,null,null,null,null,null,null,null,null,null,0,0,0,0,0,0,0,0,null,null,null,null,null,0,null,null,null,null,null,{"$f":"IF(R55<>\"\",CONCATENATE($A$2,DIGITADOR!$M$1,ROW()-2),\"\")","v":""},"",{"$f":"IF(E55=\"\",\"\",INDEX(referentes!D:E,MATCH(E55,referentes!E:E,0),1))","v":""},{"$f":"IF(F55=\"\",\"\",INDEX(referentes!J:K,MATCH(F55,referentes!K:K,0),1))","v":""},{"$f":"IF(AI55=\"\",\"\",INDEX(referentes!M:N,MATCH(AI55,referentes!N:N,0),1))","v":""},{"$f":"IF(I55=\"\",\"\",INDEX(referentes!P:Q,MATCH(I55,referentes!Q:Q,0),1))","v":""},{"$f":"IF(J55=\"\",\"\",INDEX(referentes!S:T,MATCH(J55,referentes!T:T,0),1))","v":""},{"$f":"IF(AB55=\"\",\"\",INDEX(referentes!V:W,MATCH(AB55,referentes!W:W,0),1))","v":""},{"$f":"IF(Y55=\"\",\"\",INDEX(referentes!AZ:BA,MATCH(Y55,referentes!BA:BA,0),1))","v":""},"","","","",{"$f":"IF(BP55=\"\",\"\",INDEX(referentes!AE:AF,MATCH(BP55,referentes!AF:AF,0),1))","v":""},{"$f":"IF(BQ55=\"\",\"\",INDEX(referentes!AH:AI,MATCH(BQ55,referentes!AI:AI,0),1))","v":""},null,{"$f":"IF(D55=\"\",\"\",INDEX(referentes!A:B,MATCH(D55,referentes!B:B,0),1))","v":""},{"$f":"IF(AT55=\"\",\"\",INDEX(referentes!Y:Z,MATCH(AT55,referentes!Z:Z,0),1))","v":""},{"$f":"IF(AU55=\"\",\"\",INDEX(referentes!AB:AC,MATCH(AU55,referentes!AC:AC,0),1))","v":""}]
[null,{"$f":"IF(BT56=\"\",\"\",IF(COUNTIF($BT56:BT56, BT56)>1, \"\", BT56))","v":""},null,null,null,null,null,null,null,null,null,null,{"$f":"IF(L56=\"\",\"\",INDEX(referentes!AK:AL,MATCH(L56,referentes!AL:AL,0),1))","v":""},"",null,55,{"$f":"IF(K56=\"\",\"\",INDEX('Otras referencias'!F:I,MATCH(K56,'Otras referencias'!I:I,0),1))","v":""},"",null,null,null,null,null,null,null,null,null,null,null,null,null,null,null,null,null,null,null,null,null,null,null,null,null,null,null,null,null,null,null,null,null,null,0,0,0,0,0,0,0,0,null,null,null,null,null,0,null,null,null,null,null,{"$f":"IF(R56<>\"\",CONCATENATE($A$2,DIGITADOR!$M$1,ROW()-2),\"\")","v":""},"",{"$f":"IF(E56=\"\",\"\",INDEX(referentes!D:E,MATCH(E56,referentes!E:E,0),1))","v":""},{"$f":"IF(F56=\"\",\"\",INDEX(referentes!J:K,MATCH(F56,referentes!K:K,0),1))","v":""},{"$f":"IF(AI56=\"\",\"\",INDEX(referentes!M:N,MATCH(AI56,referentes!N:N,0),1))","v":""},{"$f":"IF(I56=\"\",\"\",INDEX(referentes!P:Q,MATCH(I56,referentes!Q:Q,0),1))","v":""},{"$f":"IF(J56=\"\",\"\",INDEX(referentes!S:T,MATCH(J56,referentes!T:T,0),1))","v":""},{"$f":"IF(AB56=\"\",\"\",INDEX(referentes!V:W,MATCH(AB56,referentes!W:W,0),1))","v":""},{"$f":"IF(Y56=\"\",\"\",INDEX(referentes!AZ:BA,MATCH(Y56,referentes!BA:BA,0),1))","v":""},"","","","",{"$f":"IF(BP56=\"\",\"\",INDEX(referentes!AE:AF,MATCH(BP56,referentes!AF:AF,0),1))","v":""},{"$f":"IF(BQ56=\"\",\"\",INDEX(referentes!AH:AI,MATCH(BQ56,referentes!AI:AI,0),1))","v":""},null,{"$f":"IF(D56=\"\",\"\",INDEX(referentes!A:B,MATCH(D56,referentes!B:B,0),1))","v":""},{"$f":"IF(AT56=\"\",\"\",INDEX(referentes!Y:Z,MATCH(AT56,referentes!Z:Z,0),1))","v":""},{"$f":"IF(AU56=\"\",\"\",INDEX(referentes!AB:AC,MATCH(AU56,referentes!AC:AC,0),1))","v":""}]
[null,{"$f":"IF(BT57=\"\",\"\",IF(COUNTIF($BT57:BT57, BT57)>1, \"\", BT57))","v":""},null,null,null,null,null,null,null,null,null,null,{"$f":"IF(L57=\"\",\"\",INDEX(referentes!AK:AL,MATCH(L57,referentes!AL:AL,0),1))","v":""},"",null,56,{"$f":"IF(K57=\"\",\"\",INDEX('Otras referencias'!F:I,MATCH(K57,'Otras referencias'!I:I,0),1))","v":""},"",null,null,null,null,null,null,null,null,null,null,null,null,null,null,null,null,null,null,null,null,null,null,null,null,null,null,null,null,null,null,null,null,null,null,0,0,0,0,0,0,0,0,null,null,null,null,null,0,null,null,null,null,null,{"$f":"IF(R57<>\"\",CONCATENATE($A$2,DIGITADOR!$M$1,ROW()-2),\"\")","v":""},"",{"$f":"IF(E57=\"\",\"\",INDEX(referentes!D:E,MATCH(E57,referentes!E:E,0),1))","v":""},{"$f":"IF(F57=\"\",\"\",INDEX(referentes!J:K,MATCH(F57,referentes!K:K,0),1))","v":""},{"$f":"IF(AI57=\"\",\"\",INDEX(referentes!M:N,MATCH(AI57,referentes!N:N,0),1))","v":""},{"$f":"IF(I57=\"\",\"\",INDEX(referentes!P:Q,MATCH(I57,referentes!Q:Q,0),1))","v":""},{"$f":"IF(J57=\"\",\"\",INDEX(referentes!S:T,MATCH(J57,referentes!T:T,0),1))","v":""},{"$f":"IF(AB57=\"\",\"\",INDEX(referentes!V:W,MATCH(AB57,referentes!W:W,0),1))","v":""},{"$f":"IF(Y57=\"\",\"\",INDEX(referentes!AZ:BA,MATCH(Y57,referentes!BA:BA,0),1))","v":""},"","","","",{"$f":"IF(BP57=\"\",\"\",INDEX(referentes!AE:AF,MATCH(BP57,referentes!AF:AF,0),1))","v":""},{"$f":"IF(BQ57=\"\",\"\",INDEX(referentes!AH:AI,MATCH(BQ57,referentes!AI:AI,0),1))","v":""},null,{"$f":"IF(D57=\"\",\"\",INDEX(referentes!A:B,MATCH(D57,referentes!B:B,0),1))","v":""},{"$f":"IF(AT57=\"\",\"\",INDEX(referentes!Y:Z,MATCH(AT57,referentes!Z:Z,0),1))","v":""},{"$f":"IF(AU57=\"\",\"\",INDEX(referentes!AB:AC,MATCH(AU57,referentes!AC:AC,0),1))","v":""}]
[null,{"$f":"IF(BT58=\"\",\"\",IF(COUNTIF($BT58:BT58, BT58)>1, \"\", BT58))","v":""},null,null,null,null,null,null,null,null,null,null,{"$f":"IF(L58=\"\",\"\",INDEX(referentes!AK:AL,MATCH(L58,referentes!AL:AL,0),1))","v":""},"",null,57,{"$f":"IF(K58=\"\",\"\",INDEX('Otras referencias'!F:I,MATCH(K58,'Otras referencias'!I:I,0),1))","v":""},"",null,null,null,null,null,null,null,null,null,null,null,null,null,null,null,null,null,null,null,null,null,null,null,null,null,null,null,null,null,null,null,null,null,null,0,0,0,0,0,0,0,0,null,null,null,null,null,0,null,null,null,null,null,{"$f":"IF(R58<>\"\",CONCATENATE($A$2,DIGITADOR!$M$1,ROW()-2),\"\")","v":""},"",{"$f":"IF(E58=\"\",\"\",INDEX(referentes!D:E,MATCH(E58,referentes!E:E,0),1))","v":""},{"$f":"IF(F58=\"\",\"\",INDEX(referentes!J:K,MATCH(F58,referentes!K:K,0),1))","v":""},{"$f":"IF(AI58=\"\",\"\",INDEX(referentes!M:N,MATCH(AI58,referentes!N:N,0),1))","v":""},{"$f":"IF(I58=\"\",\"\",INDEX(referentes!P:Q,MATCH(I58,referentes!Q:Q,0),1))","v":""},{"$f":"IF(J58=\"\",\"\",INDEX(referentes!S:T,MATCH(J58,referentes!T:T,0),1))","v":""},{"$f":"IF(AB58=\"\",\"\",INDEX(referentes!V:W,MATCH(AB58,referentes!W:W,0),1))","v":""},{"$f":"IF(Y58=\"\",\"\",INDEX(referentes!AZ:BA,MATCH(Y58,referentes!BA:BA,0),1))","v":""},"","","","",{"$f":"IF(BP58=\"\",\"\",INDEX(referentes!AE:AF,MATCH(BP58,referentes!AF:AF,0),1))","v":""},{"$f":"IF(BQ58=\"\",\"\",INDEX(referentes!AH:AI,MATCH(BQ58,referentes!AI:AI,0),1))","v":""},null,{"$f":"IF(D58=\"\",\"\",INDEX(referentes!A:B,MATCH(D58,referentes!B:B,0),1))","v":""},{"$f":"IF(AT58=\"\",\"\",INDEX(referentes!Y:Z,MATCH(AT58,referentes!Z:Z,0),1))","v":""},{"$f":"IF(AU58=\"\",\"\",INDEX(referentes!AB:AC,MATCH(AU58,referentes!AC:AC,0),1))","v":""}]
[null,{"$f":"IF(BT59=\"\",\"\",IF(COUNTIF($BT59:BT59, BT59)>1, \"\", BT59))","v":""},null,null,null,null,null,null,null,null,null,null,{"$f":"IF(L59=\"\",\"\",INDEX(referentes!AK:AL,MATCH(L59,referentes!AL:AL,0),1))","v":""},"",null,58,{"$f":"IF(K59=\"\",\"\",INDEX('Otras referencias'!F:I,MATCH(K59,'Otras referencias'!I:I,0),1))","v":""},"",null,null,null,null,null,null,null,null,null,null,null,null,null,null,null,null,null,null,null,null,null,null,null,null,null,null,null,null,null,null,null,null,null,null,0,0,0,0,0,0,0,0,null,null,null,null,null,0,null,null,null,null,null,{"$f":"IF(R59<>\"\",CONCATENATE($A$2,DIGITADOR!$M$1,ROW()-2),\"\")","v":""},"",{"$f":"IF(E59=\"\",\"\",INDEX(referentes!D:E,MATCH(E59,referentes!E:E,0),1))","v":""},{"$f":"IF(F59=\"\",\"\",INDEX(referentes!J:K,MATCH(F59,referentes!K:K,0),1))","v":""},{"$f":"IF(AI59=\"\",\"\",INDEX(referentes!M:N,MATCH(AI59,referentes!N:N,0),1))","v":""},{"$f":"IF(I59=\"\",\"\",INDEX(referentes!P:Q,MATCH(I59,referentes!Q:Q,0),1))","v":""},{"$f":"IF(J59=\"\",\"\",INDEX(referentes!S:T,MATCH(J59,referentes!T:T,0),1))","v":""},{"$f":"IF(AB59=\"\",\"\",INDEX(referentes!V:W,MATCH(AB59,referentes!W:W,0),1))","v":""},{"$f":"IF(Y59=\"\",\"\",INDEX(referentes!AZ:BA,MATCH(Y59,referentes!BA:BA,0),1))","v":""},"","","","",{"$f":"IF(BP59=\"\",\"\",INDEX(referentes!AE:AF,MATCH(BP59,referentes!AF:AF,0),1))","v":""},{"$f":"IF(BQ59=\"\",\"\",INDEX(referentes!AH:AI,MATCH(BQ59,referentes!AI:AI,0),1))","v":""},null,{"$f":"IF(D59=\"\",\"\",INDEX(referentes!A:B,MATCH(D59,referentes!B:B,0),1))","v":""},{"$f":"IF(AT59=\"\",\"\",INDEX(referentes!Y:Z,MATCH(AT59,referentes!Z:Z,0),1))","v":""},{"$f":"IF(AU59=\"\",\"\",INDEX(referentes!AB:AC,MATCH(AU59,referentes!AC:AC,0),1))","v":""}]
[null,{"$f":"IF(BT60=\"\",\"\",IF(COUNTIF($BT60:BT60, BT60)>1, \"\", BT60))","v":""},null,null,null,null,null,null,null,null,null,null,{"$f":"IF(L60=\"\",\"\",INDEX(referentes!AK:AL,MATCH(L60,referentes!AL:AL,0),1))","v":""},"",null,59,{"$f":"IF(K60=\"\",\"\",INDEX('Otras referencias'!F:I,MATCH(K60,'Otras referencias'!I:I,0),1))","v":""},"",null,null,null,null,null,null,null,null,null,null,null,null,null,null,null,null,null,null,null,null,null,null,null,null,null,null,null,null,null,null,null,null,null,null,0,0,0,0,0,0,0,0,null,null,null,null,null,0,null,null,null,null,null,{"$f":"IF(R60<>\"\",CONCATENATE($A$2,DIGITADOR!$M$1,ROW()-2),\"\")","v":""},"",{"$f":"IF(E60=\"\",\"\",INDEX(referentes!D:E,MATCH(E60,referentes!E:E,0),1))","v":""},{"$f":"IF(F60=\"\",\"\",INDEX(referentes!J:K,MATCH(F60,referentes!K:K,0),1))","v":""},{"$f":"IF(AI60=\"\",\"\",INDEX(referentes!M:N,MATCH(AI60,referentes!N:N,0),1))","v":""},{"$f":"IF(I60=\"\",\"\",INDEX(referentes!P:Q,MATCH(I60,referentes!Q:Q,0),1))","v":""},{"$f":"IF(J60=\"\",\"\",INDEX(referentes!S:T,MATCH(J60,referentes!T:T,0),1))","v":""},{"$f":"IF(AB60=\"\",\"\",INDEX(referentes!V:W,MATCH(AB60,referentes!W:W,0),1))","v":""},{"$f":"IF(Y60=\"\",\"\",INDEX(referentes!AZ:BA,MATCH(Y60,referentes!BA:BA,0),1))","v":""},"","","","",{"$f":"IF(BP60=\"\",\"\",INDEX(referentes!AE:AF,MATCH(BP60,referentes!AF:AF,0),1))","v":""},{"$f":"IF(BQ60=\"\",\"\",INDEX(referentes!AH:AI,MATCH(BQ60,referentes!AI:AI,0),1))","v":""},null,{"$f":"IF(D60=\"\",\"\",INDEX(referentes!A:B,MATCH(D60,referentes!B:B,0),1))","v":""},{"$f":"IF(AT60=\"\",\"\",INDEX(referentes!Y:Z,MATCH(AT60,referentes!Z:Z,0),1))","v":""},{"$f":"IF(AU60=\"\",\"\",INDEX(referentes!AB:AC,MATCH(AU60,referentes!AC:AC,0),1))","v":""}]
[null,{"$f":"IF(BT61=\"\",\"\",IF(COUNTIF($BT61:BT61, BT61)>1, \"\", BT61))","v":""},null,null,null,null,null,null,null,null,null,null,{"$f":"IF(L61=\"\",\"\",INDEX(referentes!AK:AL,MATCH(L61,referentes!AL:AL,0),1))","v":""},"",null,60,{"$f":"IF(K61=\"\",\"\",INDEX('Otras referencias'!F:I,MATCH(K61,'Otras referencias'!I:I,0),1))","v":""},"",null,null,null,null,null,null,null,null,null,null,null,null,null,null,null,null,null,null,null,null,null,null,null,null,null,null,null,null,null,null,null,null,null,null,0,0,0,0,0,0,0,0,null,null,null,null,null,0,null,null,null,null,null,{"$f":"IF(R61<>\"\",CONCATENATE($A$2,DIGITADOR!$M$1,ROW()-2),\"\")","v":""},"",{"$f":"IF(E61=\"\",\"\",INDEX(referentes!D:E,MATCH(E61,referentes!E:E,0),1))","v":""},{"$f":"IF(F61=\"\",\"\",INDEX(referentes!J:K,MATCH(F61,referentes!K:K,0),1))","v":""},{"$f":"IF(AI61=\"\",\"\",INDEX(referentes!M:N,MATCH(AI61,referentes!N:N,0),1))","v":""},{"$f":"IF(I61=\"\",\"\",INDEX(referentes!P:Q,MATCH(I61,referentes!Q:Q,0),1))","v":""},{"$f":"IF(J61=\"\",\"\",INDEX(referentes!S:T,MATCH(J61,referentes!T:T,0),1))","v":""},{"$f":"IF(AB61=\"\",\"\",INDEX(referentes!V:W,MATCH(AB61,referentes!W:W,0),1))","v":""},{"$f":"IF(Y61=\"\",\"\",INDEX(referentes!AZ:BA,MATCH(Y61,referentes!BA:BA,0),1))","v":""},"","","","",{"$f":"IF(BP61=\"\",\"\",INDEX(referentes!AE:AF,MATCH(BP61,referentes!AF:AF,0),1))","v":""},{"$f":"IF(BQ61=\"\",\"\",INDEX(referentes!AH:AI,MATCH(BQ61,referentes!AI:AI,0),1))","v":""},null,{"$f":"IF(D61=\"\",\"\",INDEX(referentes!A:B,MATCH(D61,referentes!B:B,0),1))","v":""},{"$f":"IF(AT61=\"\",\"\",INDEX(referentes!Y:Z,MATCH(AT61,referentes!Z:Z,0),1))","v":""},{"$f":"IF(AU61=\"\",\"\",INDEX(referentes!AB:AC,MATCH(AU61,referentes!AC:AC,0),1))","v":""}]
[null,{"$f":"IF(BT62=\"\",\"\",IF(COUNTIF($BT62:BT62, BT62)>1, \"\", BT62))","v":""},null,null,null,null,null,null,null,null,null,null,{"$f":"IF(L62=\"\",\"\",INDEX(referentes!AK:AL,MATCH(L62,referentes!AL:AL,0),1))","v":""},"",null,61,{"$f":"IF(K62=\"\",\"\",INDEX('Otras referencias'!F:I,MATCH(K62,'Otras referencias'!I:I,0),1))","v":""},"",null,null,null,null,null,null,null,null,null,null,null,null,null,null,null,null,null,null,null,null,null,null,null,null,null,null,null,null,null,null,null,null,null,null,0,0,0,0,0,0,0,0,null,null,null,null,null,0,null,null,null,null,null,{"$f":"IF(R62<>\"\",CONCATENATE($A$2,DIGITADOR!$M$1,ROW()-2),\"\")","v":""},"",{"$f":"IF(E62=\"\",\"\",INDEX(referentes!D:E,MATCH(E62,referentes!E:E,0),1))","v":""},{"$f":"IF(F62=\"\",\"\",INDEX(referentes!J:K,MATCH(F62,referentes!K:K,0),1))","v":""},{"$f":"IF(AI62=\"\",\"\",INDEX(referentes!M:N,MATCH(AI62,referentes!N:N,0),1))","v":""},{"$f":"IF(I62=\"\",\"\",INDEX(referentes!P:Q,MATCH(I62,referentes!Q:Q,0),1))","v":""},{"$f":"IF(J62=\"\",\"\",INDEX(referentes!S:T,MATCH(J62,referentes!T:T,0),1))","v":""},{"$f":"IF(AB62=\"\",\"\",INDEX(referentes!V:W,MATCH(AB62,referentes!W:W,0),1))","v":""},{"$f":"IF(Y62=\"\",\"\",INDEX(referentes!AZ:BA,MATCH(Y62,referentes!BA:BA,0),1))","v":""},"","","","",{"$f":"IF(BP62=\"\",\"\",INDEX(referentes!AE:AF,MATCH(BP62,referentes!AF:AF,0),1))","v":""},{"$f":"IF(BQ62=\"\",\"\",INDEX(referentes!AH:AI,MATCH(BQ62,referentes!AI:AI,0),1))","v":""},null,{"$f":"IF(D62=\"\",\"\",INDEX(referentes!A:B,MATCH(D62,referentes!B:B,0),1))","v":""},{"$f":"IF(AT62=\"\",\"\",INDEX(referentes!Y:Z,MATCH(AT62,referentes!Z:Z,0),1))","v":""},{"$f":"IF(AU62=\"\",\"\",INDEX(referentes!AB:AC,MATCH(AU62,referentes!AC:AC,0),1))","v":""}]
[null,{"$f":"IF(BT63=\"\",\"\",IF(COUNTIF($BT63:BT63, BT63)>1, \"\", BT63))","v":""},null,null,null,null,null,null,null,null,null,null,{"$f":"IF(L63=\"\",\"\",INDEX(referentes!AK:AL,MATCH(L63,referentes!AL:AL,0),1))","v":""},"",null,62,{"$f":"IF(K63=\"\",\"\",INDEX('Otras referencias'!F:I,MATCH(K63,'Otras referencias'!I:I,0),1))","v":""},"",null,null,null,null,null,null,null,null,null,null,null,null,null,null,null,null,null,null,null,null,null,null,null,null,null,null,null,null,null,null,null,null,null,null,0,0,0,0,0,0,0,0,null,null,null,null,null,0,null,null,null,null,null,{"$f":"IF(R63<>\"\",CONCATENATE($A$2,DIGITADOR!$M$1,ROW()-2),\"\")","v":""},"",{"$f":"IF(E63=\"\",\"\",INDEX(referentes!D:E,MATCH(E63,referentes!E:E,0),1))","v":""},{"$f":"IF(F63=\"\",\"\",INDEX(referentes!J:K,MATCH(F63,referentes!K:K,0),1))","v":""},{"$f":"IF(AI63=\"\",\"\",INDEX(referentes!M:N,MATCH(AI63,referentes!N:N,0),1))","v":""},{"$f":"IF(I63=\"\",\"\",INDEX(referentes!P:Q,MATCH(I63,referentes!Q:Q,0),1))","v":""},{"$f":"IF(J63=\"\",\"\",INDEX(referentes!S:T,MATCH(J63,referentes!T:T,0),1))","v":""},{"$f":"IF(AB63=\"\",\"\",INDEX(referentes!V:W,MATCH(AB63,referentes!W:W,0),1))","v":""},{"$f":"IF(Y63=\"\",\"\",INDEX(referentes!AZ:BA,MATCH(Y63,referentes!BA:BA,0),1))","v":""},"","","","",{"$f":"IF(BP63=\"\",\"\",INDEX(referentes!AE:AF,MATCH(BP63,referentes!AF:AF,0),1))","v":""},{"$f":"IF(BQ63=\"\",\"\",INDEX(referentes!AH:AI,MATCH(BQ63,referentes!AI:AI,0),1))","v":""},null,{"$f":"IF(D63=\"\",\"\",INDEX(referentes!A:B,MATCH(D63,referentes!B:B,0),1))","v":""},{"$f":"IF(AT63=\"\",\"\",INDEX(referentes!Y:Z,MATCH(AT63,referentes!Z:Z,0),1))","v":""},{"$f":"IF(AU63=\"\",\"\",INDEX(referentes!AB:AC,MATCH(AU63,referentes!AC:AC,0),1))","v":""}]
[null,{"$f":"IF(BT64=\"\",\"\",IF(COUNTIF($BT64:BT64, BT64)>1, \"\", BT64))","v":""},null,null,null,null,null,null,null,null,null,null,{"$f":"IF(L64=\"\",\"\",INDEX(referentes!AK:AL,MATCH(L64,referentes!AL:AL,0),1))","v":""},"",null,63,{"$f":"IF(K64=\"\",\"\",INDEX('Otras referencias'!F:I,MATCH(K64,'Otras referencias'!I:I,0),1))","v":""},"",null,null,null,null,null,null,null,null,null,null,null,null,null,null,null,null,null,null,null,null,null,null,null,null,null,null,null,null,null,null,null,null,null,null,0,0,0,0,0,0,0,0,null,null,null,null,null,0,null,null,null,null,null,{"$f":"IF(R64<>\"\",CONCATENATE($A$2,DIGITADOR!$M$1,ROW()-2),\"\")","v":""},"",{"$f":"IF(E64=\"\",\"\",INDEX(referentes!D:E,MATCH(E64,referentes!E:E,0),1))","v":""},{"$f":"IF(F64=\"\",\"\",INDEX(referentes!J:K,MATCH(F64,referentes!K:K,0),1))","v":""},{"$f":"IF(AI64=\"\",\"\",INDEX(referentes!M:N,MATCH(AI64,referentes!N:N,0),1))","v":""},{"$f":"IF(I64=\"\",\"\",INDEX(referentes!P:Q,MATCH(I64,referentes!Q:Q,0),1))","v":""},{"$f":"IF(J64=\"\",\"\",INDEX(referentes!S:T,MATCH(J64,referentes!T:T,0),1))","v":""},{"$f":"IF(AB64=\"\",\"\",INDEX(referentes!V:W,MATCH(AB64,referentes!W:W,0),1))","v":""},{"$f":"IF(Y64=\"\",\"\",INDEX(referentes!AZ:BA,MATCH(Y64,referentes!BA:BA,0),1))","v":""},"","","","",{"$f":"IF(BP64=\"\",\"\",INDEX(referentes!AE:AF,MATCH(BP64,referentes!AF:AF,0),1))","v":""},{"$f":"IF(BQ64=\"\",\"\",INDEX(referentes!AH:AI,MATCH(BQ64,referentes!AI:AI,0),1))","v":""},null,{"$f":"IF(D64=\"\",\"\",INDEX(referentes!A:B,MATCH(D64,referentes!B:B,0),1))","v":""},{"$f":"IF(AT64=\"\",\"\",INDEX(referentes!Y:Z,MATCH(AT64,referentes!Z:Z,0),1))","v":""},{"$f":"IF(AU64=\"\",\"\",INDEX(referentes!AB:AC,MATCH(AU64,referentes!AC:AC,0),1))","v":""}]
[null,{"$f":"IF(BT65=\"\",\"\",IF(COUNTIF($BT65:BT65, BT65)>1, \"\", BT65))","v":""},null,null,null,null,null,null,null,null,null,null,{"$f":"IF(L65=\"\",\"\",INDEX(referentes!AK:AL,MATCH(L65,referentes!AL:AL,0),1))","v":""},"",null,64,{"$f":"IF(K65=\"\",\"\",INDEX('Otras referencias'!F:I,MATCH(K65,'Otras referencias'!I:I,0),1))","v":""},"",null,null,null,null,null,null,null,null,null,null,null,null,null,null,null,null,null,null,null,null,null,null,null,null,null,null,null,null,null,null,null,null,null,null,0,0,0,0,0,0,0,0,null,null,null,null,null,0,null,null,null,null,null,{"$f":"IF(R65<>\"\",CONCATENATE($A$2,DIGITADOR!$M$1,ROW()-2),\"\")","v":""},"",{"$f":"IF(E65=\"\",\"\",INDEX(referentes!D:E,MATCH(E65,referentes!E:E,0),1))","v":""},{"$f":"IF(F65=\"\",\"\",INDEX(referentes!J:K,MATCH(F65,referentes!K:K,0),1))","v":""},{"$f":"IF(AI65=\"\",\"\",INDEX(referentes!M:N,MATCH(AI65,referentes!N:N,0),1))","v":""},{"$f":"IF(I65=\"\",\"\",INDEX(referentes!P:Q,MATCH(I65,referentes!Q:Q,0),1))","v":""},{"$f":"IF(J65=\"\",\"\",INDEX(referentes!S:T,MATCH(J65,referentes!T:T,0),1))","v":""},{"$f":"IF(AB65=\"\",\"\",INDEX(referentes!V:W,MATCH(AB65,referentes!W:W,0),1))","v":""},{"$f":"IF(Y65=\"\",\"\",INDEX(referentes!AZ:BA,MATCH(Y65,referentes!BA:BA,0),1))","v":""},"","","","",{"$f":"IF(BP65=\"\",\"\",INDEX(referentes!AE:AF,MATCH(BP65,referentes!AF:AF,0),1))","v":""},{"$f":"IF(BQ65=\"\",\"\",INDEX(referentes!AH:AI,MATCH(BQ65,referentes!AI:AI,0),1))","v":""},null,{"$f":"IF(D65=\"\",\"\",INDEX(referentes!A:B,MATCH(D65,referentes!B:B,0),1))","v":""},{"$f":"IF(AT65=\"\",\"\",INDEX(referentes!Y:Z,MATCH(AT65,referentes!Z:Z,0),1))","v":""},{"$f":"IF(AU65=\"\",\"\",INDEX(referentes!AB:AC,MATCH(AU65,referentes!AC:AC,0),1))","v":""}]
[null,{"$f":"IF(BT66=\"\",\"\",IF(COUNTIF($BT66:BT66, BT66)>1, \"\", BT66))","v":""},null,null,null,null,null,null,null,null,null,null,{"$f":"IF(L66=\"\",\"\",INDEX(referentes!AK:AL,MATCH(L66,referentes!AL:AL,0),1))","v":""},"",null,65,{"$f":"IF(K66=\"\",\"\",INDEX('Otras referencias'!F:I,MATCH(K66,'Otras referencias'!I:I,0),1))","v":""},"",null,null,null,null,null,null,null,null,null,null,null,null,null,null,null,null,null,null,null,null,null,null,null,null,null,null,null,null,null,null,null,null,null,null,0,0,0,0,0,0,0,0,null,null,null,null,null,0,null,null,null,null,null,{"$f":"IF(R66<>\"\",CONCATENATE($A$2,DIGITADOR!$M$1,ROW()-2),\"\")","v":""},"",{"$f":"IF(E66=\"\",\"\",INDEX(referentes!D:E,MATCH(E66,referentes!E:E,0),1))","v":""},{"$f":"IF(F66=\"\",\"\",INDEX(referentes!J:K,MATCH(F66,referentes!K:K,0),1))","v":""},{"$f":"IF(AI66=\"\",\"\",INDEX(referentes!M:N,MATCH(AI66,referentes!N:N,0),1))","v":""},{"$f":"IF(I66=\"\",\"\",INDEX(referentes!P:Q,MATCH(I66,referentes!Q:Q,0),1))","v":""},{"$f":"IF(J66=\"\",\"\",INDEX(referentes!S:T,MATCH(J66,referentes!T:T,0),1))","v":""},{"$f":"IF(AB66=\"\",\"\",INDEX(referentes!V:W,MATCH(AB66,referentes!W:W,0),1))","v":""},{"$f":"IF(Y66=\"\",\"\",INDEX(referentes!AZ:BA,MATCH(Y66,referentes!BA:BA,0),1))","v":""},"","","","",{"$f":"IF(BP66=\"\",\"\",INDEX(referentes!AE:AF,MATCH(BP66,referentes!AF:AF,0),1))","v":""},{"$f":"IF(BQ66=\"\",\"\",INDEX(referentes!AH:AI,MATCH(BQ66,referentes!AI:AI,0),1))","v":""},null,{"$f":"IF(D66=\"\",\"\",INDEX(referentes!A:B,MATCH(D66,referentes!B:B,0),1))","v":""},{"$f":"IF(AT66=\"\",\"\",INDEX(referentes!Y:Z,MATCH(AT66,referentes!Z:Z,0),1))","v":""},{"$f":"IF(AU66=\"\",\"\",INDEX(referentes!AB:AC,MATCH(AU66,referentes!AC:AC,0),1))","v":""}]
[null,{"$f":"IF(BT67=\"\",\"\",IF(COUNTIF($BT67:BT67, BT67)>1, \"\", BT67))","v":""},null,null,null,null,null,null,null,null,null,null,{"$f":"IF(L67=\"\",\"\",INDEX(referentes!AK:AL,MATCH(L67,referentes!AL:AL,0),1))","v":""},"",null,66,{"$f":"IF(K67=\"\",\"\",INDEX('Otras referencias'!F:I,MATCH(K67,'Otras referencias'!I:I,0),1))","v":""},{"$f":"IF(U67=\"\",\"\",DATEVALUE(CONCATENATE(U67,\"/\",TEXT(V67,\"00\"),\"/\",TEXT(W67,\"00\"))))","v":""},null,null,null,null,null,null,null,null,null,null,null,null,null,null,null,null,null,null,null,null,null,null,null,null,null,null,null,null,null,null,null,null,null,null,{"$f":"IF(ISERR(FIND($BA$1,AZ67)),0,1)","v":0},{"$f":"IF(ISERR(FIND($BB$1,AZ67)),0,1)","v":0},{"$f":"IF(ISERR(FIND($BC$1,AZ67)),0,1)","v":0},{"$f":"IF(ISERR(FIND($BD$1,AZ67)),0,1)","v":0},{"$f":"IF(ISERR(FIND($BE$1,AZ67)),0,1)","v":0},{"$f":"IF(ISERR(FIND($BF$1,AZ67)),0,1)","v":0},{"$f":"IF(ISERR(FIND($BG$1,AZ67)),0,1)","v":0},{"$f":"IF(ISERR(FIND($BH$1,AZ67)),0,1)","v":0},null,null,null,null,null,{"$f":"BA67+2*BB67+4*BC67+8*BD67+16*BE67+32*BF67+64*BG67+128*BH67","v":0},null,null,null,null,null,{"$f":"IF(R67<>\"\",CONCATENATE($A$2,DIGITADOR!$M$1,ROW()-2),\"\")","v":""},{"$f":"IF(B67=\"\",\"\",CONCATENATE(B67,ROW()-1))","v":""},{"$f":"IF(E67=\"\",\"\",INDEX(referentes!D:E,MATCH(E67,referentes!E:E,0),1))","v":""},{"$f":"IF(F67=\"\",\"\",INDEX(referentes!J:K,MATCH(F67,referentes!K:K,0),1))","v":""},{"$f":"IF(AI67=\"\",\"\",INDEX(referentes!M:N,MATCH(AI67,referentes!N:N,0),1))","v":""},{"$f":"IF(I67=\"\",\"\",INDEX(referentes!P:Q,MATCH(I67,referentes!Q:Q,0),1))","v":""},{"$f":"IF(J67=\"\",\"\",INDEX(referentes!S:T,MATCH(J67,referentes!T:T,0),1))","v":""},{"$f":"IF(AB67=\"\",\"\",INDEX(referentes!V:W,MATCH(AB67,referentes!W:W,0),1))","v":""},{"$f":"IF(Y67=\"\",\"\",INDEX(referentes!AZ:BA,MATCH(Y67,referentes!BA:BA,0),1))","v":""},{"$f":"IF(Z67=\"\",IF(R67=\"\",\"\",R67),R67+Z67)","v":""},{"$f":"IF(AA67=\"\",IF(R67=\"\",\"\",R67),R67+AA67)","v":""},{"$f":"IF(OR(AC67=\"\",AD67=\"\",AE67=\"\"),\"\",AD67/60+AE67/3600+AC67)","v":""},{"$f":"IF(OR(AF67=\"\",AG67=\"\",AH67=\"\"),\"\",(ABS(AF67)+(AG67/60)+(AH67/3600))*-1)","v":""},{"$f":"IF(BP67=\"\",\"\",INDEX(referentes!AE:AF,MATCH(BP67,referentes!AF:AF,0),1))","v":""},{"$f":"IF(BQ67=\"\",\"\",INDEX(referentes!AH:AI,MATCH(BQ67,referentes!AI:AI,0),1))","v":""},null,{"$f":"IF(D67=\"\",\"\",INDEX(referentes!A:B,MATCH(D67,referentes!B:B,0),1))","v":""},{"$f":"IF(AT67=\"\",\"\",INDEX(referentes!Y:Z,MATCH(AT67,referentes!Z:Z,0),1))","v":""},{"$f":"IF(AU67=\"\",\"\",INDEX(referentes!AB:AC,MATCH(AU67,referentes!AC:AC,0),1))","v":""}]
[null,{"$f":"IF(BT68=\"\",\"\",IF(COUNTIF($BT68:BT68, BT68)>1, \"\", BT68))","v":""},null,null,null,null,null,null,null,null,null,null,{"$f":"IF(L68=\"\",\"\",INDEX(referentes!AK:AL,MATCH(L68,referentes!AL:AL,0),1))","v":""},{"$f":"IF(B68=B67,\"\",IF(R67=\"\",\"\",R67))","v":""},null,{"$f":"P67+1","v":67},{"$f":"IF(K68=\"\",\"\",INDEX('Otras referencias'!F:I,MATCH(K68,'Otras referencias'!I:I,0),1))","v":""},"",null,null,null,null,null,null,null,null,null,null,null,null,null,null,null,null,null,null,null,null,null,null,null,null,null,null,null,null,null,null,null,null,null,null,0,0,0,0,0,0,0,0,null,null,null,null,null,0,null,null,null,null,null,{"$f":"IF(R68<>\"\",CONCATENATE($A$2,DIGITADOR!$M$1,ROW()-2),\"\")","v":""},"",{"$f":"IF(E68=\"\",\"\",INDEX(referentes!D:E,MATCH(E68,referentes!E:E,0),1))","v":""},{"$f":"IF(F68=\"\",\"\",INDEX(referentes!J:K,MATCH(F68,referentes!K:K,0),1))","v":""},{"$f":"IF(AI68=\"\",\"\",INDEX(referentes!M:N,MATCH(AI68,referentes!N:N,0),1))","v":""},{"$f":"IF(I68=\"\",\"\",INDEX(referentes!P:Q,MATCH(I68,referentes!Q:Q,0),1))","v":""},{"$f":"IF(J68=\"\",\"\",INDEX(referentes!S:T,MATCH(J68,referentes!T:T,0),1))","v":""},{"$f":"IF(AB68=\"\",\"\",INDEX(referentes!V:W,MATCH(AB68,referentes!W:W,0),1))","v":""},{"$f":"IF(Y68=\"\",\"\",INDEX(referentes!AZ:BA,MATCH(Y68,referentes!BA:BA,0),1))","v":""},"","","","",{"$f":"IF(BP68=\"\",\"\",INDEX(referentes!AE:AF,MATCH(BP68,referentes!AF:AF,0),1))","v":""},{"$f":"IF(BQ68=\"\",\"\",INDEX(referentes!AH:AI,MATCH(BQ68,referentes!AI:AI,0),1))","v":""},null,{"$f":"IF(D68=\"\",\"\",INDEX(referentes!A:B,MATCH(D68,referentes!B:B,0),1))","v":""},{"$f":"IF(AT68=\"\",\"\",INDEX(referentes!Y:Z,MATCH(AT68,referentes!Z:Z,0),1))","v":""},{"$f":"IF(AU68=\"\",\"\",INDEX(referentes!AB:AC,MATCH(AU68,referentes!AC:AC,0),1))","v":""}]
[null,{"$f":"IF(BT69=\"\",\"\",IF(COUNTIF($BT69:BT69, BT69)>1, \"\", BT69))","v":""},null,null,null,null,null,null,null,null,null,null,{"$f":"IF(L69=\"\",\"\",INDEX(referentes!AK:AL,MATCH(L69,referentes!AL:AL,0),1))","v":""},"",null,68,{"$f":"IF(K69=\"\",\"\",INDEX('Otras referencias'!F:I,MATCH(K69,'Otras referencias'!I:I,0),1))","v":""},"",null,null,null,null,null,null,null,null,null,null,null,null,null,null,null,null,null,null,null,null,null,null,null,null,null,null,null,null,null,null,null,null,null,null,0,0,0,0,0,0,0,0,null,null,null,null,null,0,null,null,null,null,null,{"$f":"IF(R69<>\"\",CONCATENATE($A$2,DIGITADOR!$M$1,ROW()-2),\"\")","v":""},"",{"$f":"IF(E69=\"\",\"\",INDEX(referentes!D:E,MATCH(E69,referentes!E:E,0),1))","v":""},{"$f":"IF(F69=\"\",\"\",INDEX(referentes!J:K,MATCH(F69,referentes!K:K,0),1))","v":""},{"$f":"IF(AI69=\"\",\"\",INDEX(referentes!M:N,MATCH(AI69,referentes!N:N,0),1))","v":""},{"$f":"IF(I69=\"\",\"\",INDEX(referentes!P:Q,MATCH(I69,referentes!Q:Q,0),1))","v":""},{"$f":"IF(J69=\"\",\"\",INDEX(referentes!S:T,MATCH(J69,referentes!T:T,0),1))","v":""},{"$f":"IF(AB69=\"\",\"\",INDEX(referentes!V:W,MATCH(AB69,referentes!W:W,0),1))","v":""},{"$f":"IF(Y69=\"\",\"\",INDEX(referentes!AZ:BA,MATCH(Y69,referentes!BA:BA,0),1))","v":""},"","","","",{"$f":"IF(BP69=\"\",\"\",INDEX(referentes!AE:AF,MATCH(BP69,referentes!AF:AF,0),1))","v":""},{"$f":"IF(BQ69=\"\",\"\",INDEX(referentes!AH:AI,MATCH(BQ69,referentes!AI:AI,0),1))","v":""},null,{"$f":"IF(D69=\"\",\"\",INDEX(referentes!A:B,MATCH(D69,referentes!B:B,0),1))","v":""},{"$f":"IF(AT69=\"\",\"\",INDEX(referentes!Y:Z,MATCH(AT69,referentes!Z:Z,0),1))","v":""},{"$f":"IF(AU69=\"\",\"\",INDEX(referentes!AB:AC,MATCH(AU69,referentes!AC:AC,0),1))","v":""}]
[null,{"$f":"IF(BT70=\"\",\"\",IF(COUNTIF($BT70:BT70, BT70)>1, \"\", BT70))","v":""},null,null,null,null,null,null,null,null,null,null,{"$f":"IF(L70=\"\",\"\",INDEX(referentes!AK:AL,MATCH(L70,referentes!AL:AL,0),1))","v":""},"",null,69,{"$f":"IF(K70=\"\",\"\",INDEX('Otras referencias'!F:I,MATCH(K70,'Otras referencias'!I:I,0),1))","v":""},"",null,null,null,null,null,null,null,null,null,null,null,null,null,null,null,null,null,null,null,null,null,null,null,null,null,null,null,null,null,null,null,null,null,null,0,0,0,0,0,0,0,0,null,null,null,null,null,0,null,null,null,null,null,{"$f":"IF(R70<>\"\",CONCATENATE($A$2,DIGITADOR!$M$1,ROW()-2),\"\")","v":""},"",{"$f":"IF(E70=\"\",\"\",INDEX(referentes!D:E,MATCH(E70,referentes!E:E,0),1))","v":""},{"$f":"IF(F70=\"\",\"\",INDEX(referentes!J:K,MATCH(F70,referentes!K:K,0),1))","v":""},{"$f":"IF(AI70=\"\",\"\",INDEX(referentes!M:N,MATCH(AI70,referentes!N:N,0),1))","v":""},{"$f":"IF(I70=\"\",\"\",INDEX(referentes!P:Q,MATCH(I70,referentes!Q:Q,0),1))","v":""},{"$f":"IF(J70=\"\",\"\",INDEX(referentes!S:T,MATCH(J70,referentes!T:T,0),1))","v":""},{"$f":"IF(AB70=\"\",\"\",INDEX(referentes!V:W,MATCH(AB70,referentes!W:W,0),1))","v":""},{"$f":"IF(Y70=\"\",\"\",INDEX(referentes!AZ:BA,MATCH(Y70,referentes!BA:BA,0),1))","v":""},"","","","",{"$f":"IF(BP70=\"\",\"\",INDEX(referentes!AE:AF,MATCH(BP70,referentes!AF:AF,0),1))","v":""},{"$f":"IF(BQ70=\"\",\"\",INDEX(referentes!AH:AI,MATCH(BQ70,referentes!AI:AI,0),1))","v":""},null,{"$f":"IF(D70=\"\",\"\",INDEX(referentes!A:B,MATCH(D70,referentes!B:B,0),1))","v":""},{"$f":"IF(AT70=\"\",\"\",INDEX(referentes!Y:Z,MATCH(AT70,referentes!Z:Z,0),1))","v":""},{"$f":"IF(AU70=\"\",\"\",INDEX(referentes!AB:AC,MATCH(AU70,referentes!AC:AC,0),1))","v":""}]
[null,{"$f":"IF(BT71=\"\",\"\",IF(COUNTIF($BT71:BT71, BT71)>1, \"\", BT71))","v":""},null,null,null,null,null,null,null,null,null,null,{"$f":"IF(L71=\"\",\"\",INDEX(referentes!AK:AL,MATCH(L71,referentes!AL:AL,0),1))","v":""},"",null,70,{"$f":"IF(K71=\"\",\"\",INDEX('Otras referencias'!F:I,MATCH(K71,'Otras referencias'!I:I,0),1))","v":""},"",null,null,null,null,null,null,null,null,null,null,null,null,null,null,null,null,null,null,null,null,null,null,null,null,null,null,null,null,null,null,null,null,null,null,0,0,0,0,0,0,0,0,null,null,null,null,null,0,null,null,null,null,null,{"$f":"IF(R71<>\"\",CONCATENATE($A$2,DIGITADOR!$M$1,ROW()-2),\"\")","v":""},"",{"$f":"IF(E71=\"\",\"\",INDEX(referentes!D:E,MATCH(E71,referentes!E:E,0),1))","v":""},{"$f":"IF(F71=\"\",\"\",INDEX(referentes!J:K,MATCH(F71,referentes!K:K,0),1))","v":""},{"$f":"IF(AI71=\"\",\"\",INDEX(referentes!M:N,MATCH(AI71,referentes!N:N,0),1))","v":""},{"$f":"IF(I71=\"\",\"\",INDEX(referentes!P:Q,MATCH(I71,referentes!Q:Q,0),1))","v":""},{"$f":"IF(J71=\"\",\"\",INDEX(referentes!S:T,MATCH(J71,referentes!T:T,0),1))","v":""},{"$f":"IF(AB71=\"\",\"\",INDEX(referentes!V:W,MATCH(AB71,referentes!W:W,0),1))","v":""},{"$f":"IF(Y71=\"\",\"\",INDEX(referentes!AZ:BA,MATCH(Y71,referentes!BA:BA,0),1))","v":""},"","","","",{"$f":"IF(BP71=\"\",\"\",INDEX(referentes!AE:AF,MATCH(BP71,referentes!AF:AF,0),1))","v":""},{"$f":"IF(BQ71=\"\",\"\",INDEX(referentes!AH:AI,MATCH(BQ71,referentes!AI:AI,0),1))","v":""},null,{"$f":"IF(D71=\"\",\"\",INDEX(referentes!A:B,MATCH(D71,referentes!B:B,0),1))","v":""},{"$f":"IF(AT71=\"\",\"\",INDEX(referentes!Y:Z,MATCH(AT71,referentes!Z:Z,0),1))","v":""},{"$f":"IF(AU71=\"\",\"\",INDEX(referentes!AB:AC,MATCH(AU71,referentes!AC:AC,0),1))","v":""}]
[null,{"$f":"IF(BT72=\"\",\"\",IF(COUNTIF($BT72:BT72, BT72)>1, \"\", BT72))","v":""},null,null,null,null,null,null,null,null,null,null,{"$f":"IF(L72=\"\",\"\",INDEX(referentes!AK:AL,MATCH(L72,referentes!AL:AL,0),1))","v":""},"",null,71,{"$f":"IF(K72=\"\",\"\",INDEX('Otras referencias'!F:I,MATCH(K72,'Otras referencias'!I:I,0),1))","v":""},"",null,null,null,null,null,null,null,null,null,null,null,null,null,null,null,null,null,null,null,null,null,null,null,null,null,null,null,null,null,null,null,null,null,null,0,0,0,0,0,0,0,0,null,null,null,null,null,0,null,null,null,null,null,{"$f":"IF(R72<>\"\",CONCATENATE($A$2,DIGITADOR!$M$1,ROW()-2),\"\")","v":""},"",{"$f":"IF(E72=\"\",\"\",INDEX(referentes!D:E,MATCH(E72,referentes!E:E,0),1))","v":""},{"$f":"IF(F72=\"\",\"\",INDEX(referentes!J:K,MATCH(F72,referentes!K:K,0),1))","v":""},{"$f":"IF(AI72=\"\",\"\",INDEX(referentes!M:N,MATCH(AI72,referentes!N:N,0),1))","v":""},{"$f":"IF(I72=\"\",\"\",INDEX(referentes!P:Q,MATCH(I72,referentes!Q:Q,0),1))","v":""},{"$f":"IF(J72=\"\",\"\",INDEX(referentes!S:T,MATCH(J72,referentes!T:T,0),1))","v":""},{"$f":"IF(AB72=\"\",\"\",INDEX(referentes!V:W,MATCH(AB72,referentes!W:W,0),1))","v":""},{"$f":"IF(Y72=\"\",\"\",INDEX(referentes!AZ:BA,MATCH(Y72,referentes!BA:BA,0),1))","v":""},"","","","",{"$f":"IF(BP72=\"\",\"\",INDEX(referentes!AE:AF,MATCH(BP72,referentes!AF:AF,0),1))","v":""},{"$f":"IF(BQ72=\"\",\"\",INDEX(referentes!AH:AI,MATCH(BQ72,referentes!AI:AI,0),1))","v":""},null,{"$f":"IF(D72=\"\",\"\",INDEX(referentes!A:B,MATCH(D72,referentes!B:B,0),1))","v":""},{"$f":"IF(AT72=\"\",\"\",INDEX(referentes!Y:Z,MATCH(AT72,referentes!Z:Z,0),1))","v":""},{"$f":"IF(AU72=\"\",\"\",INDEX(referentes!AB:AC,MATCH(AU72,referentes!AC:AC,0),1))","v":""}]
[null,{"$f":"IF(BT73=\"\",\"\",IF(COUNTIF($BT73:BT73, BT73)>1, \"\", BT73))","v":""},null,null,null,null,null,null,null,null,null,null,{"$f":"IF(L73=\"\",\"\",INDEX(referentes!AK:AL,MATCH(L73,referentes!AL:AL,0),1))","v":""},"",null,72,{"$f":"IF(K73=\"\",\"\",INDEX('Otras referencias'!F:I,MATCH(K73,'Otras referencias'!I:I,0),1))","v":""},"",null,null,null,null,null,null,null,null,null,null,null,null,null,null,null,null,null,null,null,null,null,null,null,null,null,null,null,null,null,null,null,null,null,null,0,0,0,0,0,0,0,0,null,null,null,null,null,0,null,null,null,null,null,{"$f":"IF(R73<>\"\",CONCATENATE($A$2,DIGITADOR!$M$1,ROW()-2),\"\")","v":""},"",{"$f":"IF(E73=\"\",\"\",INDEX(referentes!D:E,MATCH(E73,referentes!E:E,0),1))","v":""},{"$f":"IF(F73=\"\",\"\",INDEX(referentes!J:K,MATCH(F73,referentes!K:K,0),1))","v":""},{"$f":"IF(AI73=\"\",\"\",INDEX(referentes!M:N,MATCH(AI73,referentes!N:N,0),1))","v":""},{"$f":"IF(I73=\"\",\"\",INDEX(referentes!P:Q,MATCH(I73,referentes!Q:Q,0),1))","v":""},{"$f":"IF(J73=\"\",\"\",INDEX(referentes!S:T,MATCH(J73,referentes!T:T,0),1))","v":""},{"$f":"IF(AB73=\"\",\"\",INDEX(referentes!V:W,MATCH(AB73,referentes!W:W,0),1))","v":""},{"$f":"IF(Y73=\"\",\"\",INDEX(referentes!AZ:BA,MATCH(Y73,referentes!BA:BA,0),1))","v":""},"","","","",{"$f":"IF(BP73=\"\",\"\",INDEX(referentes!AE:AF,MATCH(BP73,referentes!AF:AF,0),1))","v":""},{"$f":"IF(BQ73=\"\",\"\",INDEX(referentes!AH:AI,MATCH(BQ73,referentes!AI:AI,0),1))","v":""},null,{"$f":"IF(D73=\"\",\"\",INDEX(referentes!A:B,MATCH(D73,referentes!B:B,0),1))","v":""},{"$f":"IF(AT73=\"\",\"\",INDEX(referentes!Y:Z,MATCH(AT73,referentes!Z:Z,0),1))","v":""},{"$f":"IF(AU73=\"\",\"\",INDEX(referentes!AB:AC,MATCH(AU73,referentes!AC:AC,0),1))","v":""}]
[null,{"$f":"IF(BT74=\"\",\"\",IF(COUNTIF($BT74:BT74, BT74)>1, \"\", BT74))","v":""},null,null,null,null,null,null,null,null,null,null,{"$f":"IF(L74=\"\",\"\",INDEX(referentes!AK:AL,MATCH(L74,referentes!AL:AL,0),1))","v":""},"",null,73,{"$f":"IF(K74=\"\",\"\",INDEX('Otras referencias'!F:I,MATCH(K74,'Otras referencias'!I:I,0),1))","v":""},"",null,null,null,null,null,null,null,null,null,null,null,null,null,null,null,null,null,null,null,null,null,null,null,null,null,null,null,null,null,null,null,null,null,null,0,0,0,0,0,0,0,0,null,null,null,null,null,0,null,null,null,null,null,{"$f":"IF(R74<>\"\",CONCATENATE($A$2,DIGITADOR!$M$1,ROW()-2),\"\")","v":""},"",{"$f":"IF(E74=\"\",\"\",INDEX(referentes!D:E,MATCH(E74,referentes!E:E,0),1))","v":""},{"$f":"IF(F74=\"\",\"\",INDEX(referentes!J:K,MATCH(F74,referentes!K:K,0),1))","v":""},{"$f":"IF(AI74=\"\",\"\",INDEX(referentes!M:N,MATCH(AI74,referentes!N:N,0),1))","v":""},{"$f":"IF(I74=\"\",\"\",INDEX(referentes!P:Q,MATCH(I74,referentes!Q:Q,0),1))","v":""},{"$f":"IF(J74=\"\",\"\",INDEX(referentes!S:T,MATCH(J74,referentes!T:T,0),1))","v":""},{"$f":"IF(AB74=\"\",\"\",INDEX(referentes!V:W,MATCH(AB74,referentes!W:W,0),1))","v":""},{"$f":"IF(Y74=\"\",\"\",INDEX(referentes!AZ:BA,MATCH(Y74,referentes!BA:BA,0),1))","v":""},"","","","",{"$f":"IF(BP74=\"\",\"\",INDEX(referentes!AE:AF,MATCH(BP74,referentes!AF:AF,0),1))","v":""},{"$f":"IF(BQ74=\"\",\"\",INDEX(referentes!AH:AI,MATCH(BQ74,referentes!AI:AI,0),1))","v":""},null,{"$f":"IF(D74=\"\",\"\",INDEX(referentes!A:B,MATCH(D74,referentes!B:B,0),1))","v":""},{"$f":"IF(AT74=\"\",\"\",INDEX(referentes!Y:Z,MATCH(AT74,referentes!Z:Z,0),1))","v":""},{"$f":"IF(AU74=\"\",\"\",INDEX(referentes!AB:AC,MATCH(AU74,referentes!AC:AC,0),1))","v":""}]
[null,{"$f":"IF(BT75=\"\",\"\",IF(COUNTIF($BT75:BT75, BT75)>1, \"\", BT75))","v":""},null,null,null,null,null,null,null,null,null,null,{"$f":"IF(L75=\"\",\"\",INDEX(referentes!AK:AL,MATCH(L75,referentes!AL:AL,0),1))","v":""},"",null,74,{"$f":"IF(K75=\"\",\"\",INDEX('Otras referencias'!F:I,MATCH(K75,'Otras referencias'!I:I,0),1))","v":""},"",null,null,null,null,null,null,null,null,null,null,null,null,null,null,null,null,null,null,null,null,null,null,null,null,null,null,null,null,null,null,null,null,null,null,0,0,0,0,0,0,0,0,null,null,null,null,null,0,null,null,null,null,null,{"$f":"IF(R75<>\"\",CONCATENATE($A$2,DIGITADOR!$M$1,ROW()-2),\"\")","v":""},"",{"$f":"IF(E75=\"\",\"\",INDEX(referentes!D:E,MATCH(E75,referentes!E:E,0),1))","v":""},{"$f":"IF(F75=\"\",\"\",INDEX(referentes!J:K,MATCH(F75,referentes!K:K,0),1))","v":""},{"$f":"IF(AI75=\"\",\"\",INDEX(referentes!M:N,MATCH(AI75,referentes!N:N,0),1))","v":""},{"$f":"IF(I75=\"\",\"\",INDEX(referentes!P:Q,MATCH(I75,referentes!Q:Q,0),1))","v":""},{"$f":"IF(J75=\"\",\"\",INDEX(referentes!S:T,MATCH(J75,referentes!T:T,0),1))","v":""},{"$f":"IF(AB75=\"\",\"\",INDEX(referentes!V:W,MATCH(AB75,referentes!W:W,0),1))","v":""},{"$f":"IF(Y75=\"\",\"\",INDEX(referentes!AZ:BA,MATCH(Y75,referentes!BA:BA,0),1))","v":""},"","","","",{"$f":"IF(BP75=\"\",\"\",INDEX(referentes!AE:AF,MATCH(BP75,referentes!AF:AF,0),1))","v":""},{"$f":"IF(BQ75=\"\",\"\",INDEX(referentes!AH:AI,MATCH(BQ75,referentes!AI:AI,0),1))","v":""},null,{"$f":"IF(D75=\"\",\"\",INDEX(referentes!A:B,MATCH(D75,referentes!B:B,0),1))","v":""},{"$f":"IF(AT75=\"\",\"\",INDEX(referentes!Y:Z,MATCH(AT75,referentes!Z:Z,0),1))","v":""},{"$f":"IF(AU75=\"\",\"\",INDEX(referentes!AB:AC,MATCH(AU75,referentes!AC:AC,0),1))","v":""}]
[null,{"$f":"IF(BT76=\"\",\"\",IF(COUNTIF($BT76:BT76, BT76)>1, \"\", BT76))","v":""},null,null,null,null,null,null,null,null,null,null,{"$f":"IF(L76=\"\",\"\",INDEX(referentes!AK:AL,MATCH(L76,referentes!AL:AL,0),1))","v":""},"",null,75,{"$f":"IF(K76=\"\",\"\",INDEX('Otras referencias'!F:I,MATCH(K76,'Otras referencias'!I:I,0),1))","v":""},"",null,null,null,null,null,null,null,null,null,null,null,null,null,null,null,null,null,null,null,null,null,null,null,null,null,null,null,null,null,null,null,null,null,null,0,0,0,0,0,0,0,0,null,null,null,null,null,0,null,null,null,null,null,{"$f":"IF(R76<>\"\",CONCATENATE($A$2,DIGITADOR!$M$1,ROW()-2),\"\")","v":""},"",{"$f":"IF(E76=\"\",\"\",INDEX(referentes!D:E,MATCH(E76,referentes!E:E,0),1))","v":""},{"$f":"IF(F76=\"\",\"\",INDEX(referentes!J:K,MATCH(F76,referentes!K:K,0),1))","v":""},{"$f":"IF(AI76=\"\",\"\",INDEX(referentes!M:N,MATCH(AI76,referentes!N:N,0),1))","v":""},{"$f":"IF(I76=\"\",\"\",INDEX(referentes!P:Q,MATCH(I76,referentes!Q:Q,0),1))","v":""},{"$f":"IF(J76=\"\",\"\",INDEX(referentes!S:T,MATCH(J76,referentes!T:T,0),1))","v":""},{"$f":"IF(AB76=\"\",\"\",INDEX(referentes!V:W,MATCH(AB76,referentes!W:W,0),1))","v":""},{"$f":"IF(Y76=\"\",\"\",INDEX(referentes!AZ:BA,MATCH(Y76,referentes!BA:BA,0),1))","v":""},"","","","",{"$f":"IF(BP76=\"\",\"\",INDEX(referentes!AE:AF,MATCH(BP76,referentes!AF:AF,0),1))","v":""},{"$f":"IF(BQ76=\"\",\"\",INDEX(referentes!AH:AI,MATCH(BQ76,referentes!AI:AI,0),1))","v":""},null,{"$f":"IF(D76=\"\",\"\",INDEX(referentes!A:B,MATCH(D76,referentes!B:B,0),1))","v":""},{"$f":"IF(AT76=\"\",\"\",INDEX(referentes!Y:Z,MATCH(AT76,referentes!Z:Z,0),1))","v":""},{"$f":"IF(AU76=\"\",\"\",INDEX(referentes!AB:AC,MATCH(AU76,referentes!AC:AC,0),1))","v":""}]
[null,{"$f":"IF(BT77=\"\",\"\",IF(COUNTIF($BT77:BT77, BT77)>1, \"\", BT77))","v":""},null,null,null,null,null,null,null,null,null,null,{"$f":"IF(L77=\"\",\"\",INDEX(referentes!AK:AL,MATCH(L77,referentes!AL:AL,0),1))","v":""},"",null,76,{"$f":"IF(K77=\"\",\"\",INDEX('Otras referencias'!F:I,MATCH(K77,'Otras referencias'!I:I,0),1))","v":""},"",null,null,null,null,null,null,null,null,null,null,null,null,null,null,null,null,null,null,null,null,null,null,null,null,null,null,null,null,null,null,null,null,null,null,0,0,0,0,0,0,0,0,null,null,null,null,null,0,null,null,null,null,null,{"$f":"IF(R77<>\"\",CONCATENATE($A$2,DIGITADOR!$M$1,ROW()-2),\"\")","v":""},"",{"$f":"IF(E77=\"\",\"\",INDEX(referentes!D:E,MATCH(E77,referentes!E:E,0),1))","v":""},{"$f":"IF(F77=\"\",\"\",INDEX(referentes!J:K,MATCH(F77,referentes!K:K,0),1))","v":""},{"$f":"IF(AI77=\"\",\"\",INDEX(referentes!M:N,MATCH(AI77,referentes!N:N,0),1))","v":""},{"$f":"IF(I77=\"\",\"\",INDEX(referentes!P:Q,MATCH(I77,referentes!Q:Q,0),1))","v":""},{"$f":"IF(J77=\"\",\"\",INDEX(referentes!S:T,MATCH(J77,referentes!T:T,0),1))","v":""},{"$f":"IF(AB77=\"\",\"\",INDEX(referentes!V:W,MATCH(AB77,referentes!W:W,0),1))","v":""},{"$f":"IF(Y77=\"\",\"\",INDEX(referentes!AZ:BA,MATCH(Y77,referentes!BA:BA,0),1))","v":""},"","","","",{"$f":"IF(BP77=\"\",\"\",INDEX(referentes!AE:AF,MATCH(BP77,referentes!AF:AF,0),1))","v":""},{"$f":"IF(BQ77=\"\",\"\",INDEX(referentes!AH:AI,MATCH(BQ77,referentes!AI:AI,0),1))","v":""},null,{"$f":"IF(D77=\"\",\"\",INDEX(referentes!A:B,MATCH(D77,referentes!B:B,0),1))","v":""},{"$f":"IF(AT77=\"\",\"\",INDEX(referentes!Y:Z,MATCH(AT77,referentes!Z:Z,0),1))","v":""},{"$f":"IF(AU77=\"\",\"\",INDEX(referentes!AB:AC,MATCH(AU77,referentes!AC:AC,0),1))","v":""}]
[null,{"$f":"IF(BT78=\"\",\"\",IF(COUNTIF($BT78:BT78, BT78)>1, \"\", BT78))","v":""},null,null,null,null,null,null,null,null,null,null,{"$f":"IF(L78=\"\",\"\",INDEX(referentes!AK:AL,MATCH(L78,referentes!AL:AL,0),1))","v":""},"",null,77,{"$f":"IF(K78=\"\",\"\",INDEX('Otras referencias'!F:I,MATCH(K78,'Otras referencias'!I:I,0),1))","v":""},"",null,null,null,null,null,null,null,null,null,null,null,null,null,null,null,null,null,null,null,null,null,null,null,null,null,null,null,null,null,null,null,null,null,null,0,0,0,0,0,0,0,0,null,null,null,null,null,0,null,null,null,null,null,{"$f":"IF(R78<>\"\",CONCATENATE($A$2,DIGITADOR!$M$1,ROW()-2),\"\")","v":""},"",{"$f":"IF(E78=\"\",\"\",INDEX(referentes!D:E,MATCH(E78,referentes!E:E,0),1))","v":""},{"$f":"IF(F78=\"\",\"\",INDEX(referentes!J:K,MATCH(F78,referentes!K:K,0),1))","v":""},{"$f":"IF(AI78=\"\",\"\",INDEX(referentes!M:N,MATCH(AI78,referentes!N:N,0),1))","v":""},{"$f":"IF(I78=\"\",\"\",INDEX(referentes!P:Q,MATCH(I78,referentes!Q:Q,0),1))","v":""},{"$f":"IF(J78=\"\",\"\",INDEX(referentes!S:T,MATCH(J78,referentes!T:T,0),1))","v":""},{"$f":"IF(AB78=\"\",\"\",INDEX(referentes!V:W,MATCH(AB78,referentes!W:W,0),1))","v":""},{"$f":"IF(Y78=\"\",\"\",INDEX(referentes!AZ:BA,MATCH(Y78,referentes!BA:BA,0),1))","v":""},"","","","",{"$f":"IF(BP78=\"\",\"\",INDEX(referentes!AE:AF,MATCH(BP78,referentes!AF:AF,0),1))","v":""},{"$f":"IF(BQ78=\"\",\"\",INDEX(referentes!AH:AI,MATCH(BQ78,referentes!AI:AI,0),1))","v":""},null,{"$f":"IF(D78=\"\",\"\",INDEX(referentes!A:B,MATCH(D78,referentes!B:B,0),1))","v":""},{"$f":"IF(AT78=\"\",\"\",INDEX(referentes!Y:Z,MATCH(AT78,referentes!Z:Z,0),1))","v":""},{"$f":"IF(AU78=\"\",\"\",INDEX(referentes!AB:AC,MATCH(AU78,referentes!AC:AC,0),1))","v":""}]
[null,{"$f":"IF(BT79=\"\",\"\",IF(COUNTIF($BT79:BT79, BT79)>1, \"\", BT79))","v":""},null,null,null,null,null,null,null,null,null,null,{"$f":"IF(L79=\"\",\"\",INDEX(referentes!AK:AL,MATCH(L79,referentes!AL:AL,0),1))","v":""},"",null,78,{"$f":"IF(K79=\"\",\"\",INDEX('Otras referencias'!F:I,MATCH(K79,'Otras referencias'!I:I,0),1))","v":""},"",null,null,null,null,null,null,null,null,null,null,null,null,null,null,null,null,null,null,null,null,null,null,null,null,null,null,null,null,null,null,null,null,null,null,0,0,0,0,0,0,0,0,null,null,null,null,null,0,null,null,null,null,null,{"$f":"IF(R79<>\"\",CONCATENATE($A$2,DIGITADOR!$M$1,ROW()-2),\"\")","v":""},"",{"$f":"IF(E79=\"\",\"\",INDEX(referentes!D:E,MATCH(E79,referentes!E:E,0),1))","v":""},{"$f":"IF(F79=\"\",\"\",INDEX(referentes!J:K,MATCH(F79,referentes!K:K,0),1))","v":""},{"$f":"IF(AI79=\"\",\"\",INDEX(referentes!M:N,MATCH(AI79,referentes!N:N,0),1))","v":""},{"$f":"IF(I79=\"\",\"\",INDEX(referentes!P:Q,MATCH(I79,referentes!Q:Q,0),1))","v":""},{"$f":"IF(J79=\"\",\"\",INDEX(referentes!S:T,MATCH(J79,referentes!T:T,0),1))","v":""},{"$f":"IF(AB79=\"\",\"\",INDEX(referentes!V:W,MATCH(AB79,referentes!W:W,0),1))","v":""},{"$f":"IF(Y79=\"\",\"\",INDEX(referentes!AZ:BA,MATCH(Y79,referentes!BA:BA,0),1))","v":""},"","","","",{"$f":"IF(BP79=\"\",\"\",INDEX(referentes!AE:AF,MATCH(BP79,referentes!AF:AF,0),1))","v":""},{"$f":"IF(BQ79=\"\",\"\",INDEX(referentes!AH:AI,MATCH(BQ79,referentes!AI:AI,0),1))","v":""},null,{"$f":"IF(D79=\"\",\"\",INDEX(referentes!A:B,MATCH(D79,referentes!B:B,0),1))","v":""},{"$f":"IF(AT79=\"\",\"\",INDEX(referentes!Y:Z,MATCH(AT79,referentes!Z:Z,0),1))","v":""},{"$f":"IF(AU79=\"\",\"\",INDEX(referentes!AB:AC,MATCH(AU79,referentes!AC:AC,0),1))","v":""}]
[null,{"$f":"IF(BT80=\"\",\"\",IF(COUNTIF($BT80:BT80, BT80)>1, \"\", BT80))","v":""},null,null,null,null,null,null,null,null,null,null,{"$f":"IF(L80=\"\",\"\",INDEX(referentes!AK:AL,MATCH(L80,referentes!AL:AL,0),1))","v":""},"",null,79,{"$f":"IF(K80=\"\",\"\",INDEX('Otras referencias'!F:I,MATCH(K80,'Otras referencias'!I:I,0),1))","v":""},"",null,null,null,null,null,null,null,null,null,null,null,null,null,null,null,null,null,null,null,null,null,null,null,null,null,null,null,null,null,null,null,null,null,null,0,0,0,0,0,0,0,0,null,null,null,null,null,0,null,null,null,null,null,{"$f":"IF(R80<>\"\",CONCATENATE($A$2,DIGITADOR!$M$1,ROW()-2),\"\")","v":""},"",{"$f":"IF(E80=\"\",\"\",INDEX(referentes!D:E,MATCH(E80,referentes!E:E,0),1))","v":""},{"$f":"IF(F80=\"\",\"\",INDEX(referentes!J:K,MATCH(F80,referentes!K:K,0),1))","v":""},{"$f":"IF(AI80=\"\",\"\",INDEX(referentes!M:N,MATCH(AI80,referentes!N:N,0),1))","v":""},{"$f":"IF(I80=\"\",\"\",INDEX(referentes!P:Q,MATCH(I80,referentes!Q:Q,0),1))","v":""},{"$f":"IF(J80=\"\",\"\",INDEX(referentes!S:T,MATCH(J80,referentes!T:T,0),1))","v":""},{"$f":"IF(AB80=\"\",\"\",INDEX(referentes!V:W,MATCH(AB80,referentes!W:W,0),1))","v":""},{"$f":"IF(Y80=\"\",\"\",INDEX(referentes!AZ:BA,MATCH(Y80,referentes!BA:BA,0),1))","v":""},"","","","",{"$f":"IF(BP80=\"\",\"\",INDEX(referentes!AE:AF,MATCH(BP80,referentes!AF:AF,0),1))","v":""},{"$f":"IF(BQ80=\"\",\"\",INDEX(referentes!AH:AI,MATCH(BQ80,referentes!AI:AI,0),1))","v":""},null,{"$f":"IF(D80=\"\",\"\",INDEX(referentes!A:B,MATCH(D80,referentes!B:B,0),1))","v":""},{"$f":"IF(AT80=\"\",\"\",INDEX(referentes!Y:Z,MATCH(AT80,referentes!Z:Z,0),1))","v":""},{"$f":"IF(AU80=\"\",\"\",INDEX(referentes!AB:AC,MATCH(AU80,referentes!AC:AC,0),1))","v":""}]
[null,{"$f":"IF(BT81=\"\",\"\",IF(COUNTIF($BT81:BT81, BT81)>1, \"\", BT81))","v":""},null,null,null,null,null,null,null,null,null,null,{"$f":"IF(L81=\"\",\"\",INDEX(referentes!AK:AL,MATCH(L81,referentes!AL:AL,0),1))","v":""},"",null,80,{"$f":"IF(K81=\"\",\"\",INDEX('Otras referencias'!F:I,MATCH(K81,'Otras referencias'!I:I,0),1))","v":""},"",null,null,null,null,null,null,null,null,null,null,null,null,null,null,null,null,null,null,null,null,null,null,null,null,null,null,null,null,null,null,null,null,null,null,0,0,0,0,0,0,0,0,null,null,null,null,null,0,null,null,null,null,null,{"$f":"IF(R81<>\"\",CONCATENATE($A$2,DIGITADOR!$M$1,ROW()-2),\"\")","v":""},"",{"$f":"IF(E81=\"\",\"\",INDEX(referentes!D:E,MATCH(E81,referentes!E:E,0),1))","v":""},{"$f":"IF(F81=\"\",\"\",INDEX(referentes!J:K,MATCH(F81,referentes!K:K,0),1))","v":""},{"$f":"IF(AI81=\"\",\"\",INDEX(referentes!M:N,MATCH(AI81,referentes!N:N,0),1))","v":""},{"$f":"IF(I81=\"\",\"\",INDEX(referentes!P:Q,MATCH(I81,referentes!Q:Q,0),1))","v":""},{"$f":"IF(J81=\"\",\"\",INDEX(referentes!S:T,MATCH(J81,referentes!T:T,0),1))","v":""},{"$f":"IF(AB81=\"\",\"\",INDEX(referentes!V:W,MATCH(AB81,referentes!W:W,0),1))","v":""},{"$f":"IF(Y81=\"\",\"\",INDEX(referentes!AZ:BA,MATCH(Y81,referentes!BA:BA,0),1))","v":""},"","","","",{"$f":"IF(BP81=\"\",\"\",INDEX(referentes!AE:AF,MATCH(BP81,referentes!AF:AF,0),1))","v":""},{"$f":"IF(BQ81=\"\",\"\",INDEX(referentes!AH:AI,MATCH(BQ81,referentes!AI:AI,0),1))","v":""},null,{"$f":"IF(D81=\"\",\"\",INDEX(referentes!A:B,MATCH(D81,referentes!B:B,0),1))","v":""},{"$f":"IF(AT81=\"\",\"\",INDEX(referentes!Y:Z,MATCH(AT81,referentes!Z:Z,0),1))","v":""},{"$f":"IF(AU81=\"\",\"\",INDEX(referentes!AB:AC,MATCH(AU81,referentes!AC:AC,0),1))","v":""}]
[null,{"$f":"IF(BT82=\"\",\"\",IF(COUNTIF($BT82:BT82, BT82)>1, \"\", BT82))","v":""},null,null,null,null,null,null,null,null,null,null,{"$f":"IF(L82=\"\",\"\",INDEX(referentes!AK:AL,MATCH(L82,referentes!AL:AL,0),1))","v":""},"",null,81,{"$f":"IF(K82=\"\",\"\",INDEX('Otras referencias'!F:I,MATCH(K82,'Otras referencias'!I:I,0),1))","v":""},"",null,null,null,null,null,null,null,null,null,null,null,null,null,null,null,null,null,null,null,null,null,null,null,null,null,null,null,null,null,null,null,null,null,null,0,0,0,0,0,0,0,0,null,null,null,null,null,0,null,null,null,null,null,{"$f":"IF(R82<>\"\",CONCATENATE($A$2,DIGITADOR!$M$1,ROW()-2),\"\")","v":""},"",{"$f":"IF(E82=\"\",\"\",INDEX(referentes!D:E,MATCH(E82,referentes!E:E,0),1))","v":""},{"$f":"IF(F82=\"\",\"\",INDEX(referentes!J:K,MATCH(F82,referentes!K:K,0),1))","v":""},{"$f":"IF(AI82=\"\",\"\",INDEX(referentes!M:N,MATCH(AI82,referentes!N:N,0),1))","v":""},{"$f":"IF(I82=\"\",\"\",INDEX(referentes!P:Q,MATCH(I82,referentes!Q:Q,0),1))","v":""},{"$f":"IF(J82=\"\",\"\",INDEX(referentes!S:T,MATCH(J82,referentes!T:T,0),1))","v":""},{"$f":"IF(AB82=\"\",\"\",INDEX(referentes!V:W,MATCH(AB82,referentes!W:W,0),1))","v":""},{"$f":"IF(Y82=\"\",\"\",INDEX(referentes!AZ:BA,MATCH(Y82,referentes!BA:BA,0),1))","v":""},"","","","",{"$f":"IF(BP82=\"\",\"\",INDEX(referentes!AE:AF,MATCH(BP82,referentes!AF:AF,0),1))","v":""},{"$f":"IF(BQ82=\"\",\"\",INDEX(referentes!AH:AI,MATCH(BQ82,referentes!AI:AI,0),1))","v":""},null,{"$f":"IF(D82=\"\",\"\",INDEX(referentes!A:B,MATCH(D82,referentes!B:B,0),1))","v":""},{"$f":"IF(AT82=\"\",\"\",INDEX(referentes!Y:Z,MATCH(AT82,referentes!Z:Z,0),1))","v":""},{"$f":"IF(AU82=\"\",\"\",INDEX(referentes!AB:AC,MATCH(AU82,referentes!AC:AC,0),1))","v":""}]
[null,{"$f":"IF(BT83=\"\",\"\",IF(COUNTIF($BT83:BT83, BT83)>1, \"\", BT83))","v":""},null,null,null,null,null,null,null,null,null,null,{"$f":"IF(L83=\"\",\"\",INDEX(referentes!AK:AL,MATCH(L83,referentes!AL:AL,0),1))","v":""},"",null,82,{"$f":"IF(K83=\"\",\"\",INDEX('Otras referencias'!F:I,MATCH(K83,'Otras referencias'!I:I,0),1))","v":""},"",null,null,null,null,null,null,null,null,null,null,null,null,null,null,null,null,null,null,null,null,null,null,null,null,null,null,null,null,null,null,null,null,null,null,0,0,0,0,0,0,0,0,null,null,null,null,null,0,null,null,null,null,null,{"$f":"IF(R83<>\"\",CONCATENATE($A$2,DIGITADOR!$M$1,ROW()-2),\"\")","v":""},"",{"$f":"IF(E83=\"\",\"\",INDEX(referentes!D:E,MATCH(E83,referentes!E:E,0),1))","v":""},{"$f":"IF(F83=\"\",\"\",INDEX(referentes!J:K,MATCH(F83,referentes!K:K,0),1))","v":""},{"$f":"IF(AI83=\"\",\"\",INDEX(referentes!M:N,MATCH(AI83,referentes!N:N,0),1))","v":""},{"$f":"IF(I83=\"\",\"\",INDEX(referentes!P:Q,MATCH(I83,referentes!Q:Q,0),1))","v":""},{"$f":"IF(J83=\"\",\"\",INDEX(referentes!S:T,MATCH(J83,referentes!T:T,0),1))","v":""},{"$f":"IF(AB83=\"\",\"\",INDEX(referentes!V:W,MATCH(AB83,referentes!W:W,0),1))","v":""},{"$f":"IF(Y83=\"\",\"\",INDEX(referentes!AZ:BA,MATCH(Y83,referentes!BA:BA,0),1))","v":""},"","","","",{"$f":"IF(BP83=\"\",\"\",INDEX(referentes!AE:AF,MATCH(BP83,referentes!AF:AF,0),1))","v":""},{"$f":"IF(BQ83=\"\",\"\",INDEX(referentes!AH:AI,MATCH(BQ83,referentes!AI:AI,0),1))","v":""},null,{"$f":"IF(D83=\"\",\"\",INDEX(referentes!A:B,MATCH(D83,referentes!B:B,0),1))","v":""},{"$f":"IF(AT83=\"\",\"\",INDEX(referentes!Y:Z,MATCH(AT83,referentes!Z:Z,0),1))","v":""},{"$f":"IF(AU83=\"\",\"\",INDEX(referentes!AB:AC,MATCH(AU83,referentes!AC:AC,0),1))","v":""}]
[null,{"$f":"IF(BT84=\"\",\"\",IF(COUNTIF($BT84:BT84, BT84)>1, \"\", BT84))","v":""},null,null,null,null,null,null,null,null,null,null,{"$f":"IF(L84=\"\",\"\",INDEX(referentes!AK:AL,MATCH(L84,referentes!AL:AL,0),1))","v":""},"",null,83,{"$f":"IF(K84=\"\",\"\",INDEX('Otras referencias'!F:I,MATCH(K84,'Otras referencias'!I:I,0),1))","v":""},"",null,null,null,null,null,null,null,null,null,null,null,null,null,null,null,null,null,null,null,null,null,null,null,null,null,null,null,null,null,null,null,null,null,null,0,0,0,0,0,0,0,0,null,null,null,null,null,0,null,null,null,null,null,{"$f":"IF(R84<>\"\",CONCATENATE($A$2,DIGITADOR!$M$1,ROW()-2),\"\")","v":""},"",{"$f":"IF(E84=\"\",\"\",INDEX(referentes!D:E,MATCH(E84,referentes!E:E,0),1))","v":""},{"$f":"IF(F84=\"\",\"\",INDEX(referentes!J:K,MATCH(F84,referentes!K:K,0),1))","v":""},{"$f":"IF(AI84=\"\",\"\",INDEX(referentes!M:N,MATCH(AI84,referentes!N:N,0),1))","v":""},{"$f":"IF(I84=\"\",\"\",INDEX(referentes!P:Q,MATCH(I84,referentes!Q:Q,0),1))","v":""},{"$f":"IF(J84=\"\",\"\",INDEX(referentes!S:T,MATCH(J84,referentes!T:T,0),1))","v":""},{"$f":"IF(AB84=\"\",\"\",INDEX(referentes!V:W,MATCH(AB84,referentes!W:W,0),1))","v":""},{"$f":"IF(Y84=\"\",\"\",INDEX(referentes!AZ:BA,MATCH(Y84,referentes!BA:BA,0),1))","v":""},"","","","",{"$f":"IF(BP84=\"\",\"\",INDEX(referentes!AE:AF,MATCH(BP84,referentes!AF:AF,0),1))","v":""},{"$f":"IF(BQ84=\"\",\"\",INDEX(referentes!AH:AI,MATCH(BQ84,referentes!AI:AI,0),1))","v":""},null,{"$f":"IF(D84=\"\",\"\",INDEX(referentes!A:B,MATCH(D84,referentes!B:B,0),1))","v":""},{"$f":"IF(AT84=\"\",\"\",INDEX(referentes!Y:Z,MATCH(AT84,referentes!Z:Z,0),1))","v":""},{"$f":"IF(AU84=\"\",\"\",INDEX(referentes!AB:AC,MATCH(AU84,referentes!AC:AC,0),1))","v":""}]
[null,{"$f":"IF(BT85=\"\",\"\",IF(COUNTIF($BT85:BT85, BT85)>1, \"\", BT85))","v":""},null,null,null,null,null,null,null,null,null,null,{"$f":"IF(L85=\"\",\"\",INDEX(referentes!AK:AL,MATCH(L85,referentes!AL:AL,0),1))","v":""},"",null,84,{"$f":"IF(K85=\"\",\"\",INDEX('Otras referencias'!F:I,MATCH(K85,'Otras referencias'!I:I,0),1))","v":""},"",null,null,null,null,null,null,null,null,null,null,null,null,null,null,null,null,null,null,null,null,null,null,null,null,null,null,null,null,null,null,null,null,null,null,0,0,0,0,0,0,0,0,null,null,null,null,null,0,null,null,null,null,null,{"$f":"IF(R85<>\"\",CONCATENATE($A$2,DIGITADOR!$M$1,ROW()-2),\"\")","v":""},"",{"$f":"IF(E85=\"\",\"\",INDEX(referentes!D:E,MATCH(E85,referentes!E:E,0),1))","v":""},{"$f":"IF(F85=\"\",\"\",INDEX(referentes!J:K,MATCH(F85,referentes!K:K,0),1))","v":""},{"$f":"IF(AI85=\"\",\"\",INDEX(referentes!M:N,MATCH(AI85,referentes!N:N,0),1))","v":""},{"$f":"IF(I85=\"\",\"\",INDEX(referentes!P:Q,MATCH(I85,referentes!Q:Q,0),1))","v":""},{"$f":"IF(J85=\"\",\"\",INDEX(referentes!S:T,MATCH(J85,referentes!T:T,0),1))","v":""},{"$f":"IF(AB85=\"\",\"\",INDEX(referentes!V:W,MATCH(AB85,referentes!W:W,0),1))","v":""},{"$f":"IF(Y85=\"\",\"\",INDEX(referentes!AZ:BA,MATCH(Y85,referentes!BA:BA,0),1))","v":""},"","","","",{"$f":"IF(BP85=\"\",\"\",INDEX(referentes!AE:AF,MATCH(BP85,referentes!AF:AF,0),1))","v":""},{"$f":"IF(BQ85=\"\",\"\",INDEX(referentes!AH:AI,MATCH(BQ85,referentes!AI:AI,0),1))","v":""},null,{"$f":"IF(D85=\"\",\"\",INDEX(referentes!A:B,MATCH(D85,referentes!B:B,0),1))","v":""},{"$f":"IF(AT85=\"\",\"\",INDEX(referentes!Y:Z,MATCH(AT85,referentes!Z:Z,0),1))","v":""},{"$f":"IF(AU85=\"\",\"\",INDEX(referentes!AB:AC,MATCH(AU85,referentes!AC:AC,0),1))","v":""}]
[null,{"$f":"IF(BT86=\"\",\"\",IF(COUNTIF($BT86:BT86, BT86)>1, \"\", BT86))","v":""},null,null,null,null,null,null,null,null,null,null,{"$f":"IF(L86=\"\",\"\",INDEX(referentes!AK:AL,MATCH(L86,referentes!AL:AL,0),1))","v":""},"",null,85,{"$f":"IF(K86=\"\",\"\",INDEX('Otras referencias'!F:I,MATCH(K86,'Otras referencias'!I:I,0),1))","v":""},"",null,null,null,null,null,null,null,null,null,null,null,null,null,null,null,null,null,null,null,null,null,null,null,null,null,null,null,null,null,null,null,null,null,null,0,0,0,0,0,0,0,0,null,null,null,null,null,0,null,null,null,null,null,{"$f":"IF(R86<>\"\",CONCATENATE($A$2,DIGITADOR!$M$1,ROW()-2),\"\")","v":""},"",{"$f":"IF(E86=\"\",\"\",INDEX(referentes!D:E,MATCH(E86,referentes!E:E,0),1))","v":""},{"$f":"IF(F86=\"\",\"\",INDEX(referentes!J:K,MATCH(F86,referentes!K:K,0),1))","v":""},{"$f":"IF(AI86=\"\",\"\",INDEX(referentes!M:N,MATCH(AI86,referentes!N:N,0),1))","v":""},{"$f":"IF(I86=\"\",\"\",INDEX(referentes!P:Q,MATCH(I86,referentes!Q:Q,0),1))","v":""},{"$f":"IF(J86=\"\",\"\",INDEX(referentes!S:T,MATCH(J86,referentes!T:T,0),1))","v":""},{"$f":"IF(AB86=\"\",\"\",INDEX(referentes!V:W,MATCH(AB86,referentes!W:W,0),1))","v":""},{"$f":"IF(Y86=\"\",\"\",INDEX(referentes!AZ:BA,MATCH(Y86,referentes!BA:BA,0),1))","v":""},"","","","",{"$f":"IF(BP86=\"\",\"\",INDEX(referentes!AE:AF,MATCH(BP86,referentes!AF:AF,0),1))","v":""},{"$f":"IF(BQ86=\"\",\"\",INDEX(referentes!AH:AI,MATCH(BQ86,referentes!AI:AI,0),1))","v":""},null,{"$f":"IF(D86=\"\",\"\",INDEX(referentes!A:B,MATCH(D86,referentes!B:B,0),1))","v":""},{"$f":"IF(AT86=\"\",\"\",INDEX(referentes!Y:Z,MATCH(AT86,referentes!Z:Z,0),1))","v":""},{"$f":"IF(AU86=\"\",\"\",INDEX(referentes!AB:AC,MATCH(AU86,referentes!AC:AC,0),1))","v":""}]
[null,{"$f":"IF(BT87=\"\",\"\",IF(COUNTIF($BT87:BT87, BT87)>1, \"\", BT87))","v":""},null,null,null,null,null,null,null,null,null,null,{"$f":"IF(L87=\"\",\"\",INDEX(referentes!AK:AL,MATCH(L87,referentes!AL:AL,0),1))","v":""},"",null,86,{"$f":"IF(K87=\"\",\"\",INDEX('Otras referencias'!F:I,MATCH(K87,'Otras referencias'!I:I,0),1))","v":""},"",null,null,null,null,null,null,null,null,null,null,null,null,null,null,null,null,null,null,null,null,null,null,null,null,null,null,null,null,null,null,null,null,null,null,0,0,0,0,0,0,0,0,null,null,null,null,null,0,null,null,null,null,null,{"$f":"IF(R87<>\"\",CONCATENATE($A$2,DIGITADOR!$M$1,ROW()-2),\"\")","v":""},"",{"$f":"IF(E87=\"\",\"\",INDEX(referentes!D:E,MATCH(E87,referentes!E:E,0),1))","v":""},{"$f":"IF(F87=\"\",\"\",INDEX(referentes!J:K,MATCH(F87,referentes!K:K,0),1))","v":""},{"$f":"IF(AI87=\"\",\"\",INDEX(referentes!M:N,MATCH(AI87,referentes!N:N,0),1))","v":""},{"$f":"IF(I87=\"\",\"\",INDEX(referentes!P:Q,MATCH(I87,referentes!Q:Q,0),1))","v":""},{"$f":"IF(J87=\"\",\"\",INDEX(referentes!S:T,MATCH(J87,referentes!T:T,0),1))","v":""},{"$f":"IF(AB87=\"\",\"\",INDEX(referentes!V:W,MATCH(AB87,referentes!W:W,0),1))","v":""},{"$f":"IF(Y87=\"\",\"\",INDEX(referentes!AZ:BA,MATCH(Y87,referentes!BA:BA,0),1))","v":""},"","","","",{"$f":"IF(BP87=\"\",\"\",INDEX(referentes!AE:AF,MATCH(BP87,referentes!AF:AF,0),1))","v":""},{"$f":"IF(BQ87=\"\",\"\",INDEX(referentes!AH:AI,MATCH(BQ87,referentes!AI:AI,0),1))","v":""},null,{"$f":"IF(D87=\"\",\"\",INDEX(referentes!A:B,MATCH(D87,referentes!B:B,0),1))","v":""},{"$f":"IF(AT87=\"\",\"\",INDEX(referentes!Y:Z,MATCH(AT87,referentes!Z:Z,0),1))","v":""},{"$f":"IF(AU87=\"\",\"\",INDEX(referentes!AB:AC,MATCH(AU87,referentes!AC:AC,0),1))","v":""}]
[null,{"$f":"IF(BT88=\"\",\"\",IF(COUNTIF($BT88:BT88, BT88)>1, \"\", BT88))","v":""},null,null,null,null,null,null,null,null,null,null,{"$f":"IF(L88=\"\",\"\",INDEX(referentes!AK:AL,MATCH(L88,referentes!AL:AL,0),1))","v":""},"",null,87,{"$f":"IF(K88=\"\",\"\",INDEX('Otras referencias'!F:I,MATCH(K88,'Otras referencias'!I:I,0),1))","v":""},"",null,null,null,null,null,null,null,null,null,null,null,null,null,null,null,null,null,null,null,null,null,null,null,null,null,null,null,null,null,null,null,null,null,null,0,0,0,0,0,0,0,0,null,null,null,null,null,0,null,null,null,null,null,{"$f":"IF(R88<>\"\",CONCATENATE($A$2,DIGITADOR!$M$1,ROW()-2),\"\")","v":""},"",{"$f":"IF(E88=\"\",\"\",INDEX(referentes!D:E,MATCH(E88,referentes!E:E,0),1))","v":""},{"$f":"IF(F88=\"\",\"\",INDEX(referentes!J:K,MATCH(F88,referentes!K:K,0),1))","v":""},{"$f":"IF(AI88=\"\",\"\",INDEX(referentes!M:N,MATCH(AI88,referentes!N:N,0),1))","v":""},{"$f":"IF(I88=\"\",\"\",INDEX(referentes!P:Q,MATCH(I88,referentes!Q:Q,0),1))","v":""},{"$f":"IF(J88=\"\",\"\",INDEX(referentes!S:T,MATCH(J88,referentes!T:T,0),1))","v":""},{"$f":"IF(AB88=\"\",\"\",INDEX(referentes!V:W,MATCH(AB88,referentes!W:W,0),1))","v":""},{"$f":"IF(Y88=\"\",\"\",INDEX(referentes!AZ:BA,MATCH(Y88,referentes!BA:BA,0),1))","v":""},"","","","",{"$f":"IF(BP88=\"\",\"\",INDEX(referentes!AE:AF,MATCH(BP88,referentes!AF:AF,0),1))","v":""},{"$f":"IF(BQ88=\"\",\"\",INDEX(referentes!AH:AI,MATCH(BQ88,referentes!AI:AI,0),1))","v":""},null,{"$f":"IF(D88=\"\",\"\",INDEX(referentes!A:B,MATCH(D88,referentes!B:B,0),1))","v":""},{"$f":"IF(AT88=\"\",\"\",INDEX(referentes!Y:Z,MATCH(AT88,referentes!Z:Z,0),1))","v":""},{"$f":"IF(AU88=\"\",\"\",INDEX(referentes!AB:AC,MATCH(AU88,referentes!AC:AC,0),1))","v":""}]
[null,{"$f":"IF(BT89=\"\",\"\",IF(COUNTIF($BT89:BT89, BT89)>1, \"\", BT89))","v":""},null,null,null,null,null,null,null,null,null,null,{"$f":"IF(L89=\"\",\"\",INDEX(referentes!AK:AL,MATCH(L89,referentes!AL:AL,0),1))","v":""},"",null,88,{"$f":"IF(K89=\"\",\"\",INDEX('Otras referencias'!F:I,MATCH(K89,'Otras referencias'!I:I,0),1))","v":""},"",null,null,null,null,null,null,null,null,null,null,null,null,null,null,null,null,null,null,null,null,null,null,null,null,null,null,null,null,null,null,null,null,null,null,0,0,0,0,0,0,0,0,null,null,null,null,null,0,null,null,null,null,null,{"$f":"IF(R89<>\"\",CONCATENATE($A$2,DIGITADOR!$M$1,ROW()-2),\"\")","v":""},"",{"$f":"IF(E89=\"\",\"\",INDEX(referentes!D:E,MATCH(E89,referentes!E:E,0),1))","v":""},{"$f":"IF(F89=\"\",\"\",INDEX(referentes!J:K,MATCH(F89,referentes!K:K,0),1))","v":""},{"$f":"IF(AI89=\"\",\"\",INDEX(referentes!M:N,MATCH(AI89,referentes!N:N,0),1))","v":""},{"$f":"IF(I89=\"\",\"\",INDEX(referentes!P:Q,MATCH(I89,referentes!Q:Q,0),1))","v":""},{"$f":"IF(J89=\"\",\"\",INDEX(referentes!S:T,MATCH(J89,referentes!T:T,0),1))","v":""},{"$f":"IF(AB89=\"\",\"\",INDEX(referentes!V:W,MATCH(AB89,referentes!W:W,0),1))","v":""},{"$f":"IF(Y89=\"\",\"\",INDEX(referentes!AZ:BA,MATCH(Y89,referentes!BA:BA,0),1))","v":""},"","","","",{"$f":"IF(BP89=\"\",\"\",INDEX(referentes!AE:AF,MATCH(BP89,referentes!AF:AF,0),1))","v":""},{"$f":"IF(BQ89=\"\",\"\",INDEX(referentes!AH:AI,MATCH(BQ89,referentes!AI:AI,0),1))","v":""},null,{"$f":"IF(D89=\"\",\"\",INDEX(referentes!A:B,MATCH(D89,referentes!B:B,0),1))","v":""},{"$f":"IF(AT89=\"\",\"\",INDEX(referentes!Y:Z,MATCH(AT89,referentes!Z:Z,0),1))","v":""},{"$f":"IF(AU89=\"\",\"\",INDEX(referentes!AB:AC,MATCH(AU89,referentes!AC:AC,0),1))","v":""}]
[null,{"$f":"IF(BT90=\"\",\"\",IF(COUNTIF($BT90:BT90, BT90)>1, \"\", BT90))","v":""},null,null,null,null,null,null,null,null,null,null,{"$f":"IF(L90=\"\",\"\",INDEX(referentes!AK:AL,MATCH(L90,referentes!AL:AL,0),1))","v":""},"",null,89,{"$f":"IF(K90=\"\",\"\",INDEX('Otras referencias'!F:I,MATCH(K90,'Otras referencias'!I:I,0),1))","v":""},"",null,null,null,null,null,null,null,null,null,null,null,null,null,null,null,null,null,null,null,null,null,null,null,null,null,null,null,null,null,null,null,null,null,null,0,0,0,0,0,0,0,0,null,null,null,null,null,0,null,null,null,null,null,{"$f":"IF(R90<>\"\",CONCATENATE($A$2,DIGITADOR!$M$1,ROW()-2),\"\")","v":""},"",{"$f":"IF(E90=\"\",\"\",INDEX(referentes!D:E,MATCH(E90,referentes!E:E,0),1))","v":""},{"$f":"IF(F90=\"\",\"\",INDEX(referentes!J:K,MATCH(F90,referentes!K:K,0),1))","v":""},{"$f":"IF(AI90=\"\",\"\",INDEX(referentes!M:N,MATCH(AI90,referentes!N:N,0),1))","v":""},{"$f":"IF(I90=\"\",\"\",INDEX(referentes!P:Q,MATCH(I90,referentes!Q:Q,0),1))","v":""},{"$f":"IF(J90=\"\",\"\",INDEX(referentes!S:T,MATCH(J90,referentes!T:T,0),1))","v":""},{"$f":"IF(AB90=\"\",\"\",INDEX(referentes!V:W,MATCH(AB90,referentes!W:W,0),1))","v":""},{"$f":"IF(Y90=\"\",\"\",INDEX(referentes!AZ:BA,MATCH(Y90,referentes!BA:BA,0),1))","v":""},"","","","",{"$f":"IF(BP90=\"\",\"\",INDEX(referentes!AE:AF,MATCH(BP90,referentes!AF:AF,0),1))","v":""},{"$f":"IF(BQ90=\"\",\"\",INDEX(referentes!AH:AI,MATCH(BQ90,referentes!AI:AI,0),1))","v":""},null,{"$f":"IF(D90=\"\",\"\",INDEX(referentes!A:B,MATCH(D90,referentes!B:B,0),1))","v":""},{"$f":"IF(AT90=\"\",\"\",INDEX(referentes!Y:Z,MATCH(AT90,referentes!Z:Z,0),1))","v":""},{"$f":"IF(AU90=\"\",\"\",INDEX(referentes!AB:AC,MATCH(AU90,referentes!AC:AC,0),1))","v":""}]
[null,{"$f":"IF(BT91=\"\",\"\",IF(COUNTIF($BT91:BT91, BT91)>1, \"\", BT91))","v":""},null,null,null,null,null,null,null,null,null,null,{"$f":"IF(L91=\"\",\"\",INDEX(referentes!AK:AL,MATCH(L91,referentes!AL:AL,0),1))","v":""},"",null,90,{"$f":"IF(K91=\"\",\"\",INDEX('Otras referencias'!F:I,MATCH(K91,'Otras referencias'!I:I,0),1))","v":""},"",null,null,null,null,null,null,null,null,null,null,null,null,null,null,null,null,null,null,null,null,null,null,null,null,null,null,null,null,null,null,null,null,null,null,0,0,0,0,0,0,0,0,null,null,null,null,null,0,null,null,null,null,null,{"$f":"IF(R91<>\"\",CONCATENATE($A$2,DIGITADOR!$M$1,ROW()-2),\"\")","v":""},"",{"$f":"IF(E91=\"\",\"\",INDEX(referentes!D:E,MATCH(E91,referentes!E:E,0),1))","v":""},{"$f":"IF(F91=\"\",\"\",INDEX(referentes!J:K,MATCH(F91,referentes!K:K,0),1))","v":""},{"$f":"IF(AI91=\"\",\"\",INDEX(referentes!M:N,MATCH(AI91,referentes!N:N,0),1))","v":""},{"$f":"IF(I91=\"\",\"\",INDEX(referentes!P:Q,MATCH(I91,referentes!Q:Q,0),1))","v":""},{"$f":"IF(J91=\"\",\"\",INDEX(referentes!S:T,MATCH(J91,referentes!T:T,0),1))","v":""},{"$f":"IF(AB91=\"\",\"\",INDEX(referentes!V:W,MATCH(AB91,referentes!W:W,0),1))","v":""},{"$f":"IF(Y91=\"\",\"\",INDEX(referentes!AZ:BA,MATCH(Y91,referentes!BA:BA,0),1))","v":""},"","","","",{"$f":"IF(BP91=\"\",\"\",INDEX(referentes!AE:AF,MATCH(BP91,referentes!AF:AF,0),1))","v":""},{"$f":"IF(BQ91=\"\",\"\",INDEX(referentes!AH:AI,MATCH(BQ91,referentes!AI:AI,0),1))","v":""},null,{"$f":"IF(D91=\"\",\"\",INDEX(referentes!A:B,MATCH(D91,referentes!B:B,0),1))","v":""},{"$f":"IF(AT91=\"\",\"\",INDEX(referentes!Y:Z,MATCH(AT91,referentes!Z:Z,0),1))","v":""},{"$f":"IF(AU91=\"\",\"\",INDEX(referentes!AB:AC,MATCH(AU91,referentes!AC:AC,0),1))","v":""}]
[null,{"$f":"IF(BT92=\"\",\"\",IF(COUNTIF($BT92:BT92, BT92)>1, \"\", BT92))","v":""},null,null,null,null,null,null,null,null,null,null,{"$f":"IF(L92=\"\",\"\",INDEX(referentes!AK:AL,MATCH(L92,referentes!AL:AL,0),1))","v":""},"",null,91,{"$f":"IF(K92=\"\",\"\",INDEX('Otras referencias'!F:I,MATCH(K92,'Otras referencias'!I:I,0),1))","v":""},"",null,null,null,null,null,null,null,null,null,null,null,null,null,null,null,null,null,null,null,null,null,null,null,null,null,null,null,null,null,null,null,null,null,null,0,0,0,0,0,0,0,0,null,null,null,null,null,0,null,null,null,null,null,{"$f":"IF(R92<>\"\",CONCATENATE($A$2,DIGITADOR!$M$1,ROW()-2),\"\")","v":""},"",{"$f":"IF(E92=\"\",\"\",INDEX(referentes!D:E,MATCH(E92,referentes!E:E,0),1))","v":""},{"$f":"IF(F92=\"\",\"\",INDEX(referentes!J:K,MATCH(F92,referentes!K:K,0),1))","v":""},{"$f":"IF(AI92=\"\",\"\",INDEX(referentes!M:N,MATCH(AI92,referentes!N:N,0),1))","v":""},{"$f":"IF(I92=\"\",\"\",INDEX(referentes!P:Q,MATCH(I92,referentes!Q:Q,0),1))","v":""},{"$f":"IF(J92=\"\",\"\",INDEX(referentes!S:T,MATCH(J92,referentes!T:T,0),1))","v":""},{"$f":"IF(AB92=\"\",\"\",INDEX(referentes!V:W,MATCH(AB92,referentes!W:W,0),1))","v":""},{"$f":"IF(Y92=\"\",\"\",INDEX(referentes!AZ:BA,MATCH(Y92,referentes!BA:BA,0),1))","v":""},"","","","",{"$f":"IF(BP92=\"\",\"\",INDEX(referentes!AE:AF,MATCH(BP92,referentes!AF:AF,0),1))","v":""},{"$f":"IF(BQ92=\"\",\"\",INDEX(referentes!AH:AI,MATCH(BQ92,referentes!AI:AI,0),1))","v":""},null,{"$f":"IF(D92=\"\",\"\",INDEX(referentes!A:B,MATCH(D92,referentes!B:B,0),1))","v":""},{"$f":"IF(AT92=\"\",\"\",INDEX(referentes!Y:Z,MATCH(AT92,referentes!Z:Z,0),1))","v":""},{"$f":"IF(AU92=\"\",\"\",INDEX(referentes!AB:AC,MATCH(AU92,referentes!AC:AC,0),1))","v":""}]
[null,{"$f":"IF(BT93=\"\",\"\",IF(COUNTIF($BT93:BT93, BT93)>1, \"\", BT93))","v":""},null,null,null,null,null,null,null,null,null,null,{"$f":"IF(L93=\"\",\"\",INDEX(referentes!AK:AL,MATCH(L93,referentes!AL:AL,0),1))","v":""},"",null,92,{"$f":"IF(K93=\"\",\"\",INDEX('Otras referencias'!F:I,MATCH(K93,'Otras referencias'!I:I,0),1))","v":""},"",null,null,null,null,null,null,null,null,null,null,null,null,null,null,null,null,null,null,null,null,null,null,null,null,null,null,null,null,null,null,null,null,null,null,0,0,0,0,0,0,0,0,null,null,null,null,null,0,null,null,null,null,null,{"$f":"IF(R93<>\"\",CONCATENATE($A$2,DIGITADOR!$M$1,ROW()-2),\"\")","v":""},"",{"$f":"IF(E93=\"\",\"\",INDEX(referentes!D:E,MATCH(E93,referentes!E:E,0),1))","v":""},{"$f":"IF(F93=\"\",\"\",INDEX(referentes!J:K,MATCH(F93,referentes!K:K,0),1))","v":""},{"$f":"IF(AI93=\"\",\"\",INDEX(referentes!M:N,MATCH(AI93,referentes!N:N,0),1))","v":""},{"$f":"IF(I93=\"\",\"\",INDEX(referentes!P:Q,MATCH(I93,referentes!Q:Q,0),1))","v":""},{"$f":"IF(J93=\"\",\"\",INDEX(referentes!S:T,MATCH(J93,referentes!T:T,0),1))","v":""},{"$f":"IF(AB93=\"\",\"\",INDEX(referentes!V:W,MATCH(AB93,referentes!W:W,0),1))","v":""},{"$f":"IF(Y93=\"\",\"\",INDEX(referentes!AZ:BA,MATCH(Y93,referentes!BA:BA,0),1))","v":""},"","","","",{"$f":"IF(BP93=\"\",\"\",INDEX(referentes!AE:AF,MATCH(BP93,referentes!AF:AF,0),1))","v":""},{"$f":"IF(BQ93=\"\",\"\",INDEX(referentes!AH:AI,MATCH(BQ93,referentes!AI:AI,0),1))","v":""},null,{"$f":"IF(D93=\"\",\"\",INDEX(referentes!A:B,MATCH(D93,referentes!B:B,0),1))","v":""},{"$f":"IF(AT93=\"\",\"\",INDEX(referentes!Y:Z,MATCH(AT93,referentes!Z:Z,0),1))","v":""},{"$f":"IF(AU93=\"\",\"\",INDEX(referentes!AB:AC,MATCH(AU93,referentes!AC:AC,0),1))","v":""}]
[null,{"$f":"IF(BT94=\"\",\"\",IF(COUNTIF($BT94:BT94, BT94)>1, \"\", BT94))","v":""},null,null,null,null,null,null,null,null,null,null,{"$f":"IF(L94=\"\",\"\",INDEX(referentes!AK:AL,MATCH(L94,referentes!AL:AL,0),1))","v":""},"",null,93,{"$f":"IF(K94=\"\",\"\",INDEX('Otras referencias'!F:I,MATCH(K94,'Otras referencias'!I:I,0),1))","v":""},"",null,null,null,null,null,null,null,null,null,null,null,null,null,null,null,null,null,null,null,null,null,null,null,null,null,null,null,null,null,null,null,null,null,null,0,0,0,0,0,0,0,0,null,null,null,null,null,0,null,null,null,null,null,{"$f":"IF(R94<>\"\",CONCATENATE($A$2,DIGITADOR!$M$1,ROW()-2),\"\")","v":""},"",{"$f":"IF(E94=\"\",\"\",INDEX(referentes!D:E,MATCH(E94,referentes!E:E,0),1))","v":""},{"$f":"IF(F94=\"\",\"\",INDEX(referentes!J:K,MATCH(F94,referentes!K:K,0),1))","v":""},{"$f":"IF(AI94=\"\",\"\",INDEX(referentes!M:N,MATCH(AI94,referentes!N:N,0),1))","v":""},{"$f":"IF(I94=\"\",\"\",INDEX(referentes!P:Q,MATCH(I94,referentes!Q:Q,0),1))","v":""},{"$f":"IF(J94=\"\",\"\",INDEX(referentes!S:T,MATCH(J94,referentes!T:T,0),1))","v":""},{"$f":"IF(AB94=\"\",\"\",INDEX(referentes!V:W,MATCH(AB94,referentes!W:W,0),1))","v":""},{"$f":"IF(Y94=\"\",\"\",INDEX(referentes!AZ:BA,MATCH(Y94,referentes!BA:BA,0),1))","v":""},"","","","",{"$f":"IF(BP94=\"\",\"\",INDEX(referentes!AE:AF,MATCH(BP94,referentes!AF:AF,0),1))","v":""},{"$f":"IF(BQ94=\"\",\"\",INDEX(referentes!AH:AI,MATCH(BQ94,referentes!AI:AI,0),1))","v":""},null,{"$f":"IF(D94=\"\",\"\",INDEX(referentes!A:B,MATCH(D94,referentes!B:B,0),1))","v":""},{"$f":"IF(AT94=\"\",\"\",INDEX(referentes!Y:Z,MATCH(AT94,referentes!Z:Z,0),1))","v":""},{"$f":"IF(AU94=\"\",\"\",INDEX(referentes!AB:AC,MATCH(AU94,referentes!AC:AC,0),1))","v":""}]
[null,{"$f":"IF(BT95=\"\",\"\",IF(COUNTIF($BT95:BT95, BT95)>1, \"\", BT95))","v":""},null,null,null,null,null,null,null,null,null,null,{"$f":"IF(L95=\"\",\"\",INDEX(referentes!AK:AL,MATCH(L95,referentes!AL:AL,0),1))","v":""},"",null,94,{"$f":"IF(K95=\"\",\"\",INDEX('Otras referencias'!F:I,MATCH(K95,'Otras referencias'!I:I,0),1))","v":""},"",null,null,null,null,null,null,null,null,null,null,null,null,null,null,null,null,null,null,null,null,null,null,null,null,null,null,null,null,null,null,null,null,null,null,0,0,0,0,0,0,0,0,null,null,null,null,null,0,null,null,null,null,null,{"$f":"IF(R95<>\"\",CONCATENATE($A$2,DIGITADOR!$M$1,ROW()-2),\"\")","v":""},"",{"$f":"IF(E95=\"\",\"\",INDEX(referentes!D:E,MATCH(E95,referentes!E:E,0),1))","v":""},{"$f":"IF(F95=\"\",\"\",INDEX(referentes!J:K,MATCH(F95,referentes!K:K,0),1))","v":""},{"$f":"IF(AI95=\"\",\"\",INDEX(referentes!M:N,MATCH(AI95,referentes!N:N,0),1))","v":""},{"$f":"IF(I95=\"\",\"\",INDEX(referentes!P:Q,MATCH(I95,referentes!Q:Q,0),1))","v":""},{"$f":"IF(J95=\"\",\"\",INDEX(referentes!S:T,MATCH(J95,referentes!T:T,0),1))","v":""},{"$f":"IF(AB95=\"\",\"\",INDEX(referentes!V:W,MATCH(AB95,referentes!W:W,0),1))","v":""},{"$f":"IF(Y95=\"\",\"\",INDEX(referentes!AZ:BA,MATCH(Y95,referentes!BA:BA,0),1))","v":""},"","","","",{"$f":"IF(BP95=\"\",\"\",INDEX(referentes!AE:AF,MATCH(BP95,referentes!AF:AF,0),1))","v":""},{"$f":"IF(BQ95=\"\",\"\",INDEX(referentes!AH:AI,MATCH(BQ95,referentes!AI:AI,0),1))","v":""},null,{"$f":"IF(D95=\"\",\"\",INDEX(referentes!A:B,MATCH(D95,referentes!B:B,0),1))","v":""},{"$f":"IF(AT95=\"\",\"\",INDEX(referentes!Y:Z,MATCH(AT95,referentes!Z:Z,0),1))","v":""},{"$f":"IF(AU95=\"\",\"\",INDEX(referentes!AB:AC,MATCH(AU95,referentes!AC:AC,0),1))","v":""}]
[null,{"$f":"IF(BT96=\"\",\"\",IF(COUNTIF($BT96:BT96, BT96)>1, \"\", BT96))","v":""},null,null,null,null,null,null,null,null,null,null,{"$f":"IF(L96=\"\",\"\",INDEX(referentes!AK:AL,MATCH(L96,referentes!AL:AL,0),1))","v":""},"",null,95,{"$f":"IF(K96=\"\",\"\",INDEX('Otras referencias'!F:I,MATCH(K96,'Otras referencias'!I:I,0),1))","v":""},"",null,null,null,null,null,null,null,null,null,null,null,null,null,null,null,null,null,null,null,null,null,null,null,null,null,null,null,null,null,null,null,null,null,null,0,0,0,0,0,0,0,0,null,null,null,null,null,0,null,null,null,null,null,{"$f":"IF(R96<>\"\",CONCATENATE($A$2,DIGITADOR!$M$1,ROW()-2),\"\")","v":""},"",{"$f":"IF(E96=\"\",\"\",INDEX(referentes!D:E,MATCH(E96,referentes!E:E,0),1))","v":""},{"$f":"IF(F96=\"\",\"\",INDEX(referentes!J:K,MATCH(F96,referentes!K:K,0),1))","v":""},{"$f":"IF(AI96=\"\",\"\",INDEX(referentes!M:N,MATCH(AI96,referentes!N:N,0),1))","v":""},{"$f":"IF(I96=\"\",\"\",INDEX(referentes!P:Q,MATCH(I96,referentes!Q:Q,0),1))","v":""},{"$f":"IF(J96=\"\",\"\",INDEX(referentes!S:T,MATCH(J96,referentes!T:T,0),1))","v":""},{"$f":"IF(AB96=\"\",\"\",INDEX(referentes!V:W,MATCH(AB96,referentes!W:W,0),1))","v":""},{"$f":"IF(Y96=\"\",\"\",INDEX(referentes!AZ:BA,MATCH(Y96,referentes!BA:BA,0),1))","v":""},"","","","",{"$f":"IF(BP96=\"\",\"\",INDEX(referentes!AE:AF,MATCH(BP96,referentes!AF:AF,0),1))","v":""},{"$f":"IF(BQ96=\"\",\"\",INDEX(referentes!AH:AI,MATCH(BQ96,referentes!AI:AI,0),1))","v":""},null,{"$f":"IF(D96=\"\",\"\",INDEX(referentes!A:B,MATCH(D96,referentes!B:B,0),1))","v":""},{"$f":"IF(AT96=\"\",\"\",INDEX(referentes!Y:Z,MATCH(AT96,referentes!Z:Z,0),1))","v":""},{"$f":"IF(AU96=\"\",\"\",INDEX(referentes!AB:AC,MATCH(AU96,referentes!AC:AC,0),1))","v":""}]
[null,{"$f":"IF(BT97=\"\",\"\",IF(COUNTIF($BT97:BT97, BT97)>1, \"\", BT97))","v":""},null,null,null,null,null,null,null,null,null,null,{"$f":"IF(L97=\"\",\"\",INDEX(referentes!AK:AL,MATCH(L97,referentes!AL:AL,0),1))","v":""},"",null,96,{"$f":"IF(K97=\"\",\"\",INDEX('Otras referencias'!F:I,MATCH(K97,'Otras referencias'!I:I,0),1))","v":""},"",null,null,null,null,null,null,null,null,null,null,null,null,null,null,null,null,null,null,null,null,null,null,null,null,null,null,null,null,null,null,null,null,null,null,0,0,0,0,0,0,0,0,null,null,null,null,null,0,null,null,null,null,null,{"$f":"IF(R97<>\"\",CONCATENATE($A$2,DIGITADOR!$M$1,ROW()-2),\"\")","v":""},"",{"$f":"IF(E97=\"\",\"\",INDEX(referentes!D:E,MATCH(E97,referentes!E:E,0),1))","v":""},{"$f":"IF(F97=\"\",\"\",INDEX(referentes!J:K,MATCH(F97,referentes!K:K,0),1))","v":""},{"$f":"IF(AI97=\"\",\"\",INDEX(referentes!M:N,MATCH(AI97,referentes!N:N,0),1))","v":""},{"$f":"IF(I97=\"\",\"\",INDEX(referentes!P:Q,MATCH(I97,referentes!Q:Q,0),1))","v":""},{"$f":"IF(J97=\"\",\"\",INDEX(referentes!S:T,MATCH(J97,referentes!T:T,0),1))","v":""},{"$f":"IF(AB97=\"\",\"\",INDEX(referentes!V:W,MATCH(AB97,referentes!W:W,0),1))","v":""},{"$f":"IF(Y97=\"\",\"\",INDEX(referentes!AZ:BA,MATCH(Y97,referentes!BA:BA,0),1))","v":""},"","","","",{"$f":"IF(BP97=\"\",\"\",INDEX(referentes!AE:AF,MATCH(BP97,referentes!AF:AF,0),1))","v":""},{"$f":"IF(BQ97=\"\",\"\",INDEX(referentes!AH:AI,MATCH(BQ97,referentes!AI:AI,0),1))","v":""},null,{"$f":"IF(D97=\"\",\"\",INDEX(referentes!A:B,MATCH(D97,referentes!B:B,0),1))","v":""},{"$f":"IF(AT97=\"\",\"\",INDEX(referentes!Y:Z,MATCH(AT97,referentes!Z:Z,0),1))","v":""},{"$f":"IF(AU97=\"\",\"\",INDEX(referentes!AB:AC,MATCH(AU97,referentes!AC:AC,0),1))","v":""}]
[null,{"$f":"IF(BT98=\"\",\"\",IF(COUNTIF($BT98:BT98, BT98)>1, \"\", BT98))","v":""},null,null,null,null,null,null,null,null,null,null,{"$f":"IF(L98=\"\",\"\",INDEX(referentes!AK:AL,MATCH(L98,referentes!AL:AL,0),1))","v":""},"",null,97,{"$f":"IF(K98=\"\",\"\",INDEX('Otras referencias'!F:I,MATCH(K98,'Otras referencias'!I:I,0),1))","v":""},"",null,null,null,null,null,null,null,null,null,null,null,null,null,null,null,null,null,null,null,null,null,null,null,null,null,null,null,null,null,null,null,null,null,null,0,0,0,0,0,0,0,0,null,null,null,null,null,0,null,null,null,null,null,{"$f":"IF(R98<>\"\",CONCATENATE($A$2,DIGITADOR!$M$1,ROW()-2),\"\")","v":""},"",{"$f":"IF(E98=\"\",\"\",INDEX(referentes!D:E,MATCH(E98,referentes!E:E,0),1))","v":""},{"$f":"IF(F98=\"\",\"\",INDEX(referentes!J:K,MATCH(F98,referentes!K:K,0),1))","v":""},{"$f":"IF(AI98=\"\",\"\",INDEX(referentes!M:N,MATCH(AI98,referentes!N:N,0),1))","v":""},{"$f":"IF(I98=\"\",\"\",INDEX(referentes!P:Q,MATCH(I98,referentes!Q:Q,0),1))","v":""},{"$f":"IF(J98=\"\",\"\",INDEX(referentes!S:T,MATCH(J98,referentes!T:T,0),1))","v":""},{"$f":"IF(AB98=\"\",\"\",INDEX(referentes!V:W,MATCH(AB98,referentes!W:W,0),1))","v":""},{"$f":"IF(Y98=\"\",\"\",INDEX(referentes!AZ:BA,MATCH(Y98,referentes!BA:BA,0),1))","v":""},"","","","",{"$f":"IF(BP98=\"\",\"\",INDEX(referentes!AE:AF,MATCH(BP98,referentes!AF:AF,0),1))","v":""},{"$f":"IF(BQ98=\"\",\"\",INDEX(referentes!AH:AI,MATCH(BQ98,referentes!AI:AI,0),1))","v":""},null,{"$f":"IF(D98=\"\",\"\",INDEX(referentes!A:B,MATCH(D98,referentes!B:B,0),1))","v":""},{"$f":"IF(AT98=\"\",\"\",INDEX(referentes!Y:Z,MATCH(AT98,referentes!Z:Z,0),1))","v":""},{"$f":"IF(AU98=\"\",\"\",INDEX(referentes!AB:AC,MATCH(AU98,referentes!AC:AC,0),1))","v":""}]
[null,{"$f":"IF(BT99=\"\",\"\",IF(COUNTIF($BT99:BT99, BT99)>1, \"\", BT99))","v":""},null,null,null,null,null,null,null,null,null,null,{"$f":"IF(L99=\"\",\"\",INDEX(referentes!AK:AL,MATCH(L99,referentes!AL:AL,0),1))","v":""},"",null,98,{"$f":"IF(K99=\"\",\"\",INDEX('Otras referencias'!F:I,MATCH(K99,'Otras referencias'!I:I,0),1))","v":""},"",null,null,null,null,null,null,null,null,null,null,null,null,null,null,null,null,null,null,null,null,null,null,null,null,null,null,null,null,null,null,null,null,null,null,0,0,0,0,0,0,0,0,null,null,null,null,null,0,null,null,null,null,null,{"$f":"IF(R99<>\"\",CONCATENATE($A$2,DIGITADOR!$M$1,ROW()-2),\"\")","v":""},"",{"$f":"IF(E99=\"\",\"\",INDEX(referentes!D:E,MATCH(E99,referentes!E:E,0),1))","v":""},{"$f":"IF(F99=\"\",\"\",INDEX(referentes!J:K,MATCH(F99,referentes!K:K,0),1))","v":""},{"$f":"IF(AI99=\"\",\"\",INDEX(referentes!M:N,MATCH(AI99,referentes!N:N,0),1))","v":""},{"$f":"IF(I99=\"\",\"\",INDEX(referentes!P:Q,MATCH(I99,referentes!Q:Q,0),1))","v":""},{"$f":"IF(J99=\"\",\"\",INDEX(referentes!S:T,MATCH(J99,referentes!T:T,0),1))","v":""},{"$f":"IF(AB99=\"\",\"\",INDEX(referentes!V:W,MATCH(AB99,referentes!W:W,0),1))","v":""},{"$f":"IF(Y99=\"\",\"\",INDEX(referentes!AZ:BA,MATCH(Y99,referentes!BA:BA,0),1))","v":""},"","","","",{"$f":"IF(BP99=\"\",\"\",INDEX(referentes!AE:AF,MATCH(BP99,referentes!AF:AF,0),1))","v":""},{"$f":"IF(BQ99=\"\",\"\",INDEX(referentes!AH:AI,MATCH(BQ99,referentes!AI:AI,0),1))","v":""},null,{"$f":"IF(D99=\"\",\"\",INDEX(referentes!A:B,MATCH(D99,referentes!B:B,0),1))","v":""},{"$f":"IF(AT99=\"\",\"\",INDEX(referentes!Y:Z,MATCH(AT99,referentes!Z:Z,0),1))","v":""},{"$f":"IF(AU99=\"\",\"\",INDEX(referentes!AB:AC,MATCH(AU99,referentes!AC:AC,0),1))","v":""}]
[null,{"$f":"IF(BT100=\"\",\"\",IF(COUNTIF($BT100:BT100, BT100)>1, \"\", BT100))","v":""},null,null,null,null,null,null,null,null,null,null,{"$f":"IF(L100=\"\",\"\",INDEX(referentes!AK:AL,MATCH(L100,referentes!AL:AL,0),1))","v":""},"",null,99,{"$f":"IF(K100=\"\",\"\",INDEX('Otras referencias'!F:I,MATCH(K100,'Otras referencias'!I:I,0),1))","v":""},"",null,null,null,null,null,null,null,null,null,null,null,null,null,null,null,null,null,null,null,null,null,null,null,null,null,null,null,null,null,null,null,null,null,null,0,0,0,0,0,0,0,0,null,null,null,null,null,0,null,null,null,null,null,{"$f":"IF(R100<>\"\",CONCATENATE($A$2,DIGITADOR!$M$1,ROW()-2),\"\")","v":""},"",{"$f":"IF(E100=\"\",\"\",INDEX(referentes!D:E,MATCH(E100,referentes!E:E,0),1))","v":""},{"$f":"IF(F100=\"\",\"\",INDEX(referentes!J:K,MATCH(F100,referentes!K:K,0),1))","v":""},{"$f":"IF(AI100=\"\",\"\",INDEX(referentes!M:N,MATCH(AI100,referentes!N:N,0),1))","v":""},{"$f":"IF(I100=\"\",\"\",INDEX(referentes!P:Q,MATCH(I100,referentes!Q:Q,0),1))","v":""},{"$f":"IF(J100=\"\",\"\",INDEX(referentes!S:T,MATCH(J100,referentes!T:T,0),1))","v":""},{"$f":"IF(AB100=\"\",\"\",INDEX(referentes!V:W,MATCH(AB100,referentes!W:W,0),1))","v":""},{"$f":"IF(Y100=\"\",\"\",INDEX(referentes!AZ:BA,MATCH(Y100,referentes!BA:BA,0),1))","v":""},"","","","",{"$f":"IF(BP100=\"\",\"\",INDEX(referentes!AE:AF,MATCH(BP100,referentes!AF:AF,0),1))","v":""},{"$f":"IF(BQ100=\"\",\"\",INDEX(referentes!AH:AI,MATCH(BQ100,referentes!AI:AI,0),1))","v":""},null,{"$f":"IF(D100=\"\",\"\",INDEX(referentes!A:B,MATCH(D100,referentes!B:B,0),1))","v":""},{"$f":"IF(AT100=\"\",\"\",INDEX(referentes!Y:Z,MATCH(AT100,referentes!Z:Z,0),1))","v":""},{"$f":"IF(AU100=\"\",\"\",INDEX(referentes!AB:AC,MATCH(AU100,referentes!AC:AC,0),1))","v":""}]
[null,{"$f":"IF(BT101=\"\",\"\",IF(COUNTIF($BT101:BT101, BT101)>1, \"\", BT101))","v":""},null,null,null,null,null,null,null,null,null,null,{"$f":"IF(L101=\"\",\"\",INDEX(referentes!AK:AL,MATCH(L101,referentes!AL:AL,0),1))","v":""},"",null,100,{"$f":"IF(K101=\"\",\"\",INDEX('Otras referencias'!F:I,MATCH(K101,'Otras referencias'!I:I,0),1))","v":""},"",null,null,null,null,null,null,null,null,null,null,null,null,null,null,null,null,null,null,null,null,null,null,null,null,null,null,null,null,null,null,null,null,null,null,0,0,0,0,0,0,0,0,null,null,null,null,null,0,null,null,null,null,null,{"$f":"IF(R101<>\"\",CONCATENATE($A$2,DIGITADOR!$M$1,ROW()-2),\"\")","v":""},"",{"$f":"IF(E101=\"\",\"\",INDEX(referentes!D:E,MATCH(E101,referentes!E:E,0),1))","v":""},{"$f":"IF(F101=\"\",\"\",INDEX(referentes!J:K,MATCH(F101,referentes!K:K,0),1))","v":""},{"$f":"IF(AI101=\"\",\"\",INDEX(referentes!M:N,MATCH(AI101,referentes!N:N,0),1))","v":""},{"$f":"IF(I101=\"\",\"\",INDEX(referentes!P:Q,MATCH(I101,referentes!Q:Q,0),1))","v":""},{"$f":"IF(J101=\"\",\"\",INDEX(referentes!S:T,MATCH(J101,referentes!T:T,0),1))","v":""},{"$f":"IF(AB101=\"\",\"\",INDEX(referentes!V:W,MATCH(AB101,referentes!W:W,0),1))","v":""},{"$f":"IF(Y101=\"\",\"\",INDEX(referentes!AZ:BA,MATCH(Y101,referentes!BA:BA,0),1))","v":""},"","","","",{"$f":"IF(BP101=\"\",\"\",INDEX(referentes!AE:AF,MATCH(BP101,referentes!AF:AF,0),1))","v":""},{"$f":"IF(BQ101=\"\",\"\",INDEX(referentes!AH:AI,MATCH(BQ101,referentes!AI:AI,0),1))","v":""},null,{"$f":"IF(D101=\"\",\"\",INDEX(referentes!A:B,MATCH(D101,referentes!B:B,0),1))","v":""},{"$f":"IF(AT101=\"\",\"\",INDEX(referentes!Y:Z,MATCH(AT101,referentes!Z:Z,0),1))","v":""},{"$f":"IF(AU101=\"\",\"\",INDEX(referentes!AB:AC,MATCH(AU101,referentes!AC:AC,0),1))","v":""}]
[null,{"$f":"IF(BT102=\"\",\"\",IF(COUNTIF($BT102:BT102, BT102)>1, \"\", BT102))","v":""},null,null,null,null,null,null,null,null,null,null,{"$f":"IF(L102=\"\",\"\",INDEX(referentes!AK:AL,MATCH(L102,referentes!AL:AL,0),1))","v":""},"",null,101,{"$f":"IF(K102=\"\",\"\",INDEX('Otras referencias'!F:I,MATCH(K102,'Otras referencias'!I:I,0),1))","v":""},"",null,null,null,null,null,null,null,null,null,null,null,null,null,null,null,null,null,null,null,null,null,null,null,null,null,null,null,null,null,null,null,null,null,null,0,0,0,0,0,0,0,0,null,null,null,null,null,0,null,null,null,null,null,{"$f":"IF(R102<>\"\",CONCATENATE($A$2,DIGITADOR!$M$1,ROW()-2),\"\")","v":""},"",{"$f":"IF(E102=\"\",\"\",INDEX(referentes!D:E,MATCH(E102,referentes!E:E,0),1))","v":""},{"$f":"IF(F102=\"\",\"\",INDEX(referentes!J:K,MATCH(F102,referentes!K:K,0),1))","v":""},{"$f":"IF(AI102=\"\",\"\",INDEX(referentes!M:N,MATCH(AI102,referentes!N:N,0),1))","v":""},{"$f":"IF(I102=\"\",\"\",INDEX(referentes!P:Q,MATCH(I102,referentes!Q:Q,0),1))","v":""},{"$f":"IF(J102=\"\",\"\",INDEX(referentes!S:T,MATCH(J102,referentes!T:T,0),1))","v":""},{"$f":"IF(AB102=\"\",\"\",INDEX(referentes!V:W,MATCH(AB102,referentes!W:W,0),1))","v":""},{"$f":"IF(Y102=\"\",\"\",INDEX(referentes!AZ:BA,MATCH(Y102,referentes!BA:BA,0),1))","v":""},"","","","",{"$f":"IF(BP102=\"\",\"\",INDEX(referentes!AE:AF,MATCH(BP102,referentes!AF:AF,0),1))","v":""},{"$f":"IF(BQ102=\"\",\"\",INDEX(referentes!AH:AI,MATCH(BQ102,referentes!AI:AI,0),1))","v":""},null,{"$f":"IF(D102=\"\",\"\",INDEX(referentes!A:B,MATCH(D102,referentes!B:B,0),1))","v":""},{"$f":"IF(AT102=\"\",\"\",INDEX(referentes!Y:Z,MATCH(AT102,referentes!Z:Z,0),1))","v":""},{"$f":"IF(AU102=\"\",\"\",INDEX(referentes!AB:AC,MATCH(AU102,referentes!AC:AC,0),1))","v":""}]
[null,{"$f":"IF(BT103=\"\",\"\",IF(COUNTIF($BT103:BT103, BT103)>1, \"\", BT103))","v":""},null,null,null,null,null,null,null,null,null,null,{"$f":"IF(L103=\"\",\"\",INDEX(referentes!AK:AL,MATCH(L103,referentes!AL:AL,0),1))","v":""},"",null,102,{"$f":"IF(K103=\"\",\"\",INDEX('Otras referencias'!F:I,MATCH(K103,'Otras referencias'!I:I,0),1))","v":""},"",null,null,null,null,null,null,null,null,null,null,null,null,null,null,null,null,null,null,null,null,null,null,null,null,null,null,null,null,null,null,null,null,null,null,0,0,0,0,0,0,0,0,null,null,null,null,null,0,null,null,null,null,null,{"$f":"IF(R103<>\"\",CONCATENATE($A$2,DIGITADOR!$M$1,ROW()-2),\"\")","v":""},"",{"$f":"IF(E103=\"\",\"\",INDEX(referentes!D:E,MATCH(E103,referentes!E:E,0),1))","v":""},{"$f":"IF(F103=\"\",\"\",INDEX(referentes!J:K,MATCH(F103,referentes!K:K,0),1))","v":""},{"$f":"IF(AI103=\"\",\"\",INDEX(referentes!M:N,MATCH(AI103,referentes!N:N,0),1))","v":""},{"$f":"IF(I103=\"\",\"\",INDEX(referentes!P:Q,MATCH(I103,referentes!Q:Q,0),1))","v":""},{"$f":"IF(J103=\"\",\"\",INDEX(referentes!S:T,MATCH(J103,referentes!T:T,0),1))","v":""},{"$f":"IF(AB103=\"\",\"\",INDEX(referentes!V:W,MATCH(AB103,referentes!W:W,0),1))","v":""},{"$f":"IF(Y103=\"\",\"\",INDEX(referentes!AZ:BA,MATCH(Y103,referentes!BA:BA,0),1))","v":""},"","","","",{"$f":"IF(BP103=\"\",\"\",INDEX(referentes!AE:AF,MATCH(BP103,referentes!AF:AF,0),1))","v":""},{"$f":"IF(BQ103=\"\",\"\",INDEX(referentes!AH:AI,MATCH(BQ103,referentes!AI:AI,0),1))","v":""},null,{"$f":"IF(D103=\"\",\"\",INDEX(referentes!A:B,MATCH(D103,referentes!B:B,0),1))","v":""},{"$f":"IF(AT103=\"\",\"\",INDEX(referentes!Y:Z,MATCH(AT103,referentes!Z:Z,0),1))","v":""},{"$f":"IF(AU103=\"\",\"\",INDEX(referentes!AB:AC,MATCH(AU103,referentes!AC:AC,0),1))","v":""}]
[null,{"$f":"IF(BT104=\"\",\"\",IF(COUNTIF($BT104:BT104, BT104)>1, \"\", BT104))","v":""},null,null,null,null,null,null,null,null,null,null,{"$f":"IF(L104=\"\",\"\",INDEX(referentes!AK:AL,MATCH(L104,referentes!AL:AL,0),1))","v":""},"",null,103,{"$f":"IF(K104=\"\",\"\",INDEX('Otras referencias'!F:I,MATCH(K104,'Otras referencias'!I:I,0),1))","v":""},"",null,null,null,null,null,null,null,null,null,null,null,null,null,null,null,null,null,null,null,null,null,null,null,null,null,null,null,null,null,null,null,null,null,null,0,0,0,0,0,0,0,0,null,null,null,null,null,0,null,null,null,null,null,{"$f":"IF(R104<>\"\",CONCATENATE($A$2,DIGITADOR!$M$1,ROW()-2),\"\")","v":""},"",{"$f":"IF(E104=\"\",\"\",INDEX(referentes!D:E,MATCH(E104,referentes!E:E,0),1))","v":""},{"$f":"IF(F104=\"\",\"\",INDEX(referentes!J:K,MATCH(F104,referentes!K:K,0),1))","v":""},{"$f":"IF(AI104=\"\",\"\",INDEX(referentes!M:N,MATCH(AI104,referentes!N:N,0),1))","v":""},{"$f":"IF(I104=\"\",\"\",INDEX(referentes!P:Q,MATCH(I104,referentes!Q:Q,0),1))","v":""},{"$f":"IF(J104=\"\",\"\",INDEX(referentes!S:T,MATCH(J104,referentes!T:T,0),1))","v":""},{"$f":"IF(AB104=\"\",\"\",INDEX(referentes!V:W,MATCH(AB104,referentes!W:W,0),1))","v":""},{"$f":"IF(Y104=\"\",\"\",INDEX(referentes!AZ:BA,MATCH(Y104,referentes!BA:BA,0),1))","v":""},"","","","",{"$f":"IF(BP104=\"\",\"\",INDEX(referentes!AE:AF,MATCH(BP104,referentes!AF:AF,0),1))","v":""},{"$f":"IF(BQ104=\"\",\"\",INDEX(referentes!AH:AI,MATCH(BQ104,referentes!AI:AI,0),1))","v":""},null,{"$f":"IF(D104=\"\",\"\",INDEX(referentes!A:B,MATCH(D104,referentes!B:B,0),1))","v":""},{"$f":"IF(AT104=\"\",\"\",INDEX(referentes!Y:Z,MATCH(AT104,referentes!Z:Z,0),1))","v":""},{"$f":"IF(AU104=\"\",\"\",INDEX(referentes!AB:AC,MATCH(AU104,referentes!AC:AC,0),1))","v":""}]
[null,{"$f":"IF(BT105=\"\",\"\",IF(COUNTIF($BT105:BT105, BT105)>1, \"\", BT105))","v":""},null,null,null,null,null,null,null,null,null,null,{"$f":"IF(L105=\"\",\"\",INDEX(referentes!AK:AL,MATCH(L105,referentes!AL:AL,0),1))","v":""},"",null,104,{"$f":"IF(K105=\"\",\"\",INDEX('Otras referencias'!F:I,MATCH(K105,'Otras referencias'!I:I,0),1))","v":""},"",null,null,null,null,null,null,null,null,null,null,null,null,null,null,null,null,null,null,null,null,null,null,null,null,null,null,null,null,null,null,null,null,null,null,0,0,0,0,0,0,0,0,null,null,null,null,null,0,null,null,null,null,null,{"$f":"IF(R105<>\"\",CONCATENATE($A$2,DIGITADOR!$M$1,ROW()-2),\"\")","v":""},"",{"$f":"IF(E105=\"\",\"\",INDEX(referentes!D:E,MATCH(E105,referentes!E:E,0),1))","v":""},{"$f":"IF(F105=\"\",\"\",INDEX(referentes!J:K,MATCH(F105,referentes!K:K,0),1))","v":""},{"$f":"IF(AI105=\"\",\"\",INDEX(referentes!M:N,MATCH(AI105,referentes!N:N,0),1))","v":""},{"$f":"IF(I105=\"\",\"\",INDEX(referentes!P:Q,MATCH(I105,referentes!Q:Q,0),1))","v":""},{"$f":"IF(J105=\"\",\"\",INDEX(referentes!S:T,MATCH(J105,referentes!T:T,0),1))","v":""},{"$f":"IF(AB105=\"\",\"\",INDEX(referentes!V:W,MATCH(AB105,referentes!W:W,0),1))","v":""},{"$f":"IF(Y105=\"\",\"\",INDEX(referentes!AZ:BA,MATCH(Y105,referentes!BA:BA,0),1))","v":""},"","","","",{"$f":"IF(BP105=\"\",\"\",INDEX(referentes!AE:AF,MATCH(BP105,referentes!AF:AF,0),1))","v":""},{"$f":"IF(BQ105=\"\",\"\",INDEX(referentes!AH:AI,MATCH(BQ105,referentes!AI:AI,0),1))","v":""},null,{"$f":"IF(D105=\"\",\"\",INDEX(referentes!A:B,MATCH(D105,referentes!B:B,0),1))","v":""},{"$f":"IF(AT105=\"\",\"\",INDEX(referentes!Y:Z,MATCH(AT105,referentes!Z:Z,0),1))","v":""},{"$f":"IF(AU105=\"\",\"\",INDEX(referentes!AB:AC,MATCH(AU105,referentes!AC:AC,0),1))","v":""}]
[null,{"$f":"IF(BT106=\"\",\"\",IF(COUNTIF($BT106:BT106, BT106)>1, \"\", BT106))","v":""},null,null,null,null,null,null,null,null,null,null,{"$f":"IF(L106=\"\",\"\",INDEX(referentes!AK:AL,MATCH(L106,referentes!AL:AL,0),1))","v":""},"",null,105,{"$f":"IF(K106=\"\",\"\",INDEX('Otras referencias'!F:I,MATCH(K106,'Otras referencias'!I:I,0),1))","v":""},"",null,null,null,null,null,null,null,null,null,null,null,null,null,null,null,null,null,null,null,null,null,null,null,null,null,null,null,null,null,null,null,null,null,null,0,0,0,0,0,0,0,0,null,null,null,null,null,0,null,null,null,null,null,{"$f":"IF(R106<>\"\",CONCATENATE($A$2,DIGITADOR!$M$1,ROW()-2),\"\")","v":""},"",{"$f":"IF(E106=\"\",\"\",INDEX(referentes!D:E,MATCH(E106,referentes!E:E,0),1))","v":""},{"$f":"IF(F106=\"\",\"\",INDEX(referentes!J:K,MATCH(F106,referentes!K:K,0),1))","v":""},{"$f":"IF(AI106=\"\",\"\",INDEX(referentes!M:N,MATCH(AI106,referentes!N:N,0),1))","v":""},{"$f":"IF(I106=\"\",\"\",INDEX(referentes!P:Q,MATCH(I106,referentes!Q:Q,0),1))","v":""},{"$f":"IF(J106=\"\",\"\",INDEX(referentes!S:T,MATCH(J106,referentes!T:T,0),1))","v":""},{"$f":"IF(AB106=\"\",\"\",INDEX(referentes!V:W,MATCH(AB106,referentes!W:W,0),1))","v":""},{"$f":"IF(Y106=\"\",\"\",INDEX(referentes!AZ:BA,MATCH(Y106,referentes!BA:BA,0),1))","v":""},"","","","",{"$f":"IF(BP106=\"\",\"\",INDEX(referentes!AE:AF,MATCH(BP106,referentes!AF:AF,0),1))","v":""},{"$f":"IF(BQ106=\"\",\"\",INDEX(referentes!AH:AI,MATCH(BQ106,referentes!AI:AI,0),1))","v":""},null,{"$f":"IF(D106=\"\",\"\",INDEX(referentes!A:B,MATCH(D106,referentes!B:B,0),1))","v":""},{"$f":"IF(AT106=\"\",\"\",INDEX(referentes!Y:Z,MATCH(AT106,referentes!Z:Z,0),1))","v":""},{"$f":"IF(AU106=\"\",\"\",INDEX(referentes!AB:AC,MATCH(AU106,referentes!AC:AC,0),1))","v":""}]
[null,{"$f":"IF(BT107=\"\",\"\",IF(COUNTIF($BT107:BT107, BT107)>1, \"\", BT107))","v":""},null,null,null,null,null,null,null,null,null,null,{"$f":"IF(L107=\"\",\"\",INDEX(referentes!AK:AL,MATCH(L107,referentes!AL:AL,0),1))","v":""},"",null,106,{"$f":"IF(K107=\"\",\"\",INDEX('Otras referencias'!F:I,MATCH(K107,'Otras referencias'!I:I,0),1))","v":""},"",null,null,null,null,null,null,null,null,null,null,null,null,null,null,null,null,null,null,null,null,null,null,null,null,null,null,null,null,null,null,null,null,null,null,0,0,0,0,0,0,0,0,null,null,null,null,null,0,null,null,null,null,null,{"$f":"IF(R107<>\"\",CONCATENATE($A$2,DIGITADOR!$M$1,ROW()-2),\"\")","v":""},"",{"$f":"IF(E107=\"\",\"\",INDEX(referentes!D:E,MATCH(E107,referentes!E:E,0),1))","v":""},{"$f":"IF(F107=\"\",\"\",INDEX(referentes!J:K,MATCH(F107,referentes!K:K,0),1))","v":""},{"$f":"IF(AI107=\"\",\"\",INDEX(referentes!M:N,MATCH(AI107,referentes!N:N,0),1))","v":""},{"$f":"IF(I107=\"\",\"\",INDEX(referentes!P:Q,MATCH(I107,referentes!Q:Q,0),1))","v":""},{"$f":"IF(J107=\"\",\"\",INDEX(referentes!S:T,MATCH(J107,referentes!T:T,0),1))","v":""},{"$f":"IF(AB107=\"\",\"\",INDEX(referentes!V:W,MATCH(AB107,referentes!W:W,0),1))","v":""},{"$f":"IF(Y107=\"\",\"\",INDEX(referentes!AZ:BA,MATCH(Y107,referentes!BA:BA,0),1))","v":""},"","","","",{"$f":"IF(BP107=\"\",\"\",INDEX(referentes!AE:AF,MATCH(BP107,referentes!AF:AF,0),1))","v":""},{"$f":"IF(BQ107=\"\",\"\",INDEX(referentes!AH:AI,MATCH(BQ107,referentes!AI:AI,0),1))","v":""},null,{"$f":"IF(D107=\"\",\"\",INDEX(referentes!A:B,MATCH(D107,referentes!B:B,0),1))","v":""},{"$f":"IF(AT107=\"\",\"\",INDEX(referentes!Y:Z,MATCH(AT107,referentes!Z:Z,0),1))","v":""},{"$f":"IF(AU107=\"\",\"\",INDEX(referentes!AB:AC,MATCH(AU107,referentes!AC:AC,0),1))","v":""}]
[null,{"$f":"IF(BT108=\"\",\"\",IF(COUNTIF($BT108:BT108, BT108)>1, \"\", BT108))","v":""},null,null,null,null,null,null,null,null,null,null,{"$f":"IF(L108=\"\",\"\",INDEX(referentes!AK:AL,MATCH(L108,referentes!AL:AL,0),1))","v":""},"",null,107,{"$f":"IF(K108=\"\",\"\",INDEX('Otras referencias'!F:I,MATCH(K108,'Otras referencias'!I:I,0),1))","v":""},"",null,null,null,null,null,null,null,null,null,null,null,null,null,null,null,null,null,null,null,null,null,null,null,null,null,null,null,null,null,null,null,null,null,null,0,0,0,0,0,0,0,0,null,null,null,null,null,0,null,null,null,null,null,{"$f":"IF(R108<>\"\",CONCATENATE($A$2,DIGITADOR!$M$1,ROW()-2),\"\")","v":""},"",{"$f":"IF(E108=\"\",\"\",INDEX(referentes!D:E,MATCH(E108,referentes!E:E,0),1))","v":""},{"$f":"IF(F108=\"\",\"\",INDEX(referentes!J:K,MATCH(F108,referentes!K:K,0),1))","v":""},{"$f":"IF(AI108=\"\",\"\",INDEX(referentes!M:N,MATCH(AI108,referentes!N:N,0),1))","v":""},{"$f":"IF(I108=\"\",\"\",INDEX(referentes!P:Q,MATCH(I108,referentes!Q:Q,0),1))","v":""},{"$f":"IF(J108=\"\",\"\",INDEX(referentes!S:T,MATCH(J108,referentes!T:T,0),1))","v":""},{"$f":"IF(AB108=\"\",\"\",INDEX(referentes!V:W,MATCH(AB108,referentes!W:W,0),1))","v":""},{"$f":"IF(Y108=\"\",\"\",INDEX(referentes!AZ:BA,MATCH(Y108,referentes!BA:BA,0),1))","v":""},"","","","",{"$f":"IF(BP108=\"\",\"\",INDEX(referentes!AE:AF,MATCH(BP108,referentes!AF:AF,0),1))","v":""},{"$f":"IF(BQ108=\"\",\"\",INDEX(referentes!AH:AI,MATCH(BQ108,referentes!AI:AI,0),1))","v":""},null,{"$f":"IF(D108=\"\",\"\",INDEX(referentes!A:B,MATCH(D108,referentes!B:B,0),1))","v":""},{"$f":"IF(AT108=\"\",\"\",INDEX(referentes!Y:Z,MATCH(AT108,referentes!Z:Z,0),1))","v":""},{"$f":"IF(AU108=\"\",\"\",INDEX(referentes!AB:AC,MATCH(AU108,referentes!AC:AC,0),1))","v":""}]
[null,{"$f":"IF(BT109=\"\",\"\",IF(COUNTIF($BT109:BT109, BT109)>1, \"\", BT109))","v":""},null,null,null,null,null,null,null,null,null,null,{"$f":"IF(L109=\"\",\"\",INDEX(referentes!AK:AL,MATCH(L109,referentes!AL:AL,0),1))","v":""},"",null,108,{"$f":"IF(K109=\"\",\"\",INDEX('Otras referencias'!F:I,MATCH(K109,'Otras referencias'!I:I,0),1))","v":""},"",null,null,null,null,null,null,null,null,null,null,null,null,null,null,null,null,null,null,null,null,null,null,null,null,null,null,null,null,null,null,null,null,null,null,0,0,0,0,0,0,0,0,null,null,null,null,null,0,null,null,null,null,null,{"$f":"IF(R109<>\"\",CONCATENATE($A$2,DIGITADOR!$M$1,ROW()-2),\"\")","v":""},"",{"$f":"IF(E109=\"\",\"\",INDEX(referentes!D:E,MATCH(E109,referentes!E:E,0),1))","v":""},{"$f":"IF(F109=\"\",\"\",INDEX(referentes!J:K,MATCH(F109,referentes!K:K,0),1))","v":""},{"$f":"IF(AI109=\"\",\"\",INDEX(referentes!M:N,MATCH(AI109,referentes!N:N,0),1))","v":""},{"$f":"IF(I109=\"\",\"\",INDEX(referentes!P:Q,MATCH(I109,referentes!Q:Q,0),1))","v":""},{"$f":"IF(J109=\"\",\"\",INDEX(referentes!S:T,MATCH(J109,referentes!T:T,0),1))","v":""},{"$f":"IF(AB109=\"\",\"\",INDEX(referentes!V:W,MATCH(AB109,referentes!W:W,0),1))","v":""},{"$f":"IF(Y109=\"\",\"\",INDEX(referentes!AZ:BA,MATCH(Y109,referentes!BA:BA,0),1))","v":""},"","","","",{"$f":"IF(BP109=\"\",\"\",INDEX(referentes!AE:AF,MATCH(BP109,referentes!AF:AF,0),1))","v":""},{"$f":"IF(BQ109=\"\",\"\",INDEX(referentes!AH:AI,MATCH(BQ109,referentes!AI:AI,0),1))","v":""},null,{"$f":"IF(D109=\"\",\"\",INDEX(referentes!A:B,MATCH(D109,referentes!B:B,0),1))","v":""},{"$f":"IF(AT109=\"\",\"\",INDEX(referentes!Y:Z,MATCH(AT109,referentes!Z:Z,0),1))","v":""},{"$f":"IF(AU109=\"\",\"\",INDEX(referentes!AB:AC,MATCH(AU109,referentes!AC:AC,0),1))","v":""}]
[null,{"$f":"IF(BT110=\"\",\"\",IF(COUNTIF($BT110:BT110, BT110)>1, \"\", BT110))","v":""},null,null,null,null,null,null,null,null,null,null,{"$f":"IF(L110=\"\",\"\",INDEX(referentes!AK:AL,MATCH(L110,referentes!AL:AL,0),1))","v":""},"",null,109,{"$f":"IF(K110=\"\",\"\",INDEX('Otras referencias'!F:I,MATCH(K110,'Otras referencias'!I:I,0),1))","v":""},"",null,null,null,null,null,null,null,null,null,null,null,null,null,null,null,null,null,null,null,null,null,null,null,null,null,null,null,null,null,null,null,null,null,null,0,0,0,0,0,0,0,0,null,null,null,null,null,0,null,null,null,null,null,{"$f":"IF(R110<>\"\",CONCATENATE($A$2,DIGITADOR!$M$1,ROW()-2),\"\")","v":""},"",{"$f":"IF(E110=\"\",\"\",INDEX(referentes!D:E,MATCH(E110,referentes!E:E,0),1))","v":""},{"$f":"IF(F110=\"\",\"\",INDEX(referentes!J:K,MATCH(F110,referentes!K:K,0),1))","v":""},{"$f":"IF(AI110=\"\",\"\",INDEX(referentes!M:N,MATCH(AI110,referentes!N:N,0),1))","v":""},{"$f":"IF(I110=\"\",\"\",INDEX(referentes!P:Q,MATCH(I110,referentes!Q:Q,0),1))","v":""},{"$f":"IF(J110=\"\",\"\",INDEX(referentes!S:T,MATCH(J110,referentes!T:T,0),1))","v":""},{"$f":"IF(AB110=\"\",\"\",INDEX(referentes!V:W,MATCH(AB110,referentes!W:W,0),1))","v":""},{"$f":"IF(Y110=\"\",\"\",INDEX(referentes!AZ:BA,MATCH(Y110,referentes!BA:BA,0),1))","v":""},"","","","",{"$f":"IF(BP110=\"\",\"\",INDEX(referentes!AE:AF,MATCH(BP110,referentes!AF:AF,0),1))","v":""},{"$f":"IF(BQ110=\"\",\"\",INDEX(referentes!AH:AI,MATCH(BQ110,referentes!AI:AI,0),1))","v":""},null,{"$f":"IF(D110=\"\",\"\",INDEX(referentes!A:B,MATCH(D110,referentes!B:B,0),1))","v":""},{"$f":"IF(AT110=\"\",\"\",INDEX(referentes!Y:Z,MATCH(AT110,referentes!Z:Z,0),1))","v":""},{"$f":"IF(AU110=\"\",\"\",INDEX(referentes!AB:AC,MATCH(AU110,referentes!AC:AC,0),1))","v":""}]
[null,{"$f":"IF(BT111=\"\",\"\",IF(COUNTIF($BT111:BT111, BT111)>1, \"\", BT111))","v":""},null,null,null,null,null,null,null,null,null,null,{"$f":"IF(L111=\"\",\"\",INDEX(referentes!AK:AL,MATCH(L111,referentes!AL:AL,0),1))","v":""},"",null,110,{"$f":"IF(K111=\"\",\"\",INDEX('Otras referencias'!F:I,MATCH(K111,'Otras referencias'!I:I,0),1))","v":""},"",null,null,null,null,null,null,null,null,null,null,null,null,null,null,null,null,null,null,null,null,null,null,null,null,null,null,null,null,null,null,null,null,null,null,0,0,0,0,0,0,0,0,null,null,null,null,null,0,null,null,null,null,null,{"$f":"IF(R111<>\"\",CONCATENATE($A$2,DIGITADOR!$M$1,ROW()-2),\"\")","v":""},"",{"$f":"IF(E111=\"\",\"\",INDEX(referentes!D:E,MATCH(E111,referentes!E:E,0),1))","v":""},{"$f":"IF(F111=\"\",\"\",INDEX(referentes!J:K,MATCH(F111,referentes!K:K,0),1))","v":""},{"$f":"IF(AI111=\"\",\"\",INDEX(referentes!M:N,MATCH(AI111,referentes!N:N,0),1))","v":""},{"$f":"IF(I111=\"\",\"\",INDEX(referentes!P:Q,MATCH(I111,referentes!Q:Q,0),1))","v":""},{"$f":"IF(J111=\"\",\"\",INDEX(referentes!S:T,MATCH(J111,referentes!T:T,0),1))","v":""},{"$f":"IF(AB111=\"\",\"\",INDEX(referentes!V:W,MATCH(AB111,referentes!W:W,0),1))","v":""},{"$f":"IF(Y111=\"\",\"\",INDEX(referentes!AZ:BA,MATCH(Y111,referentes!BA:BA,0),1))","v":""},"","","","",{"$f":"IF(BP111=\"\",\"\",INDEX(referentes!AE:AF,MATCH(BP111,referentes!AF:AF,0),1))","v":""},{"$f":"IF(BQ111=\"\",\"\",INDEX(referentes!AH:AI,MATCH(BQ111,referentes!AI:AI,0),1))","v":""},null,{"$f":"IF(D111=\"\",\"\",INDEX(referentes!A:B,MATCH(D111,referentes!B:B,0),1))","v":""},{"$f":"IF(AT111=\"\",\"\",INDEX(referentes!Y:Z,MATCH(AT111,referentes!Z:Z,0),1))","v":""},{"$f":"IF(AU111=\"\",\"\",INDEX(referentes!AB:AC,MATCH(AU111,referentes!AC:AC,0),1))","v":""}]
[null,{"$f":"IF(BT112=\"\",\"\",IF(COUNTIF($BT112:BT112, BT112)>1, \"\", BT112))","v":""},null,null,null,null,null,null,null,null,null,null,{"$f":"IF(L112=\"\",\"\",INDEX(referentes!AK:AL,MATCH(L112,referentes!AL:AL,0),1))","v":""},"",null,111,{"$f":"IF(K112=\"\",\"\",INDEX('Otras referencias'!F:I,MATCH(K112,'Otras referencias'!I:I,0),1))","v":""},"",null,null,null,null,null,null,null,null,null,null,null,null,null,null,null,null,null,null,null,null,null,null,null,null,null,null,null,null,null,null,null,null,null,null,0,0,0,0,0,0,0,0,null,null,null,null,null,0,null,null,null,null,null,{"$f":"IF(R112<>\"\",CONCATENATE($A$2,DIGITADOR!$M$1,ROW()-2),\"\")","v":""},"",{"$f":"IF(E112=\"\",\"\",INDEX(referentes!D:E,MATCH(E112,referentes!E:E,0),1))","v":""},{"$f":"IF(F112=\"\",\"\",INDEX(referentes!J:K,MATCH(F112,referentes!K:K,0),1))","v":""},{"$f":"IF(AI112=\"\",\"\",INDEX(referentes!M:N,MATCH(AI112,referentes!N:N,0),1))","v":""},{"$f":"IF(I112=\"\",\"\",INDEX(referentes!P:Q,MATCH(I112,referentes!Q:Q,0),1))","v":""},{"$f":"IF(J112=\"\",\"\",INDEX(referentes!S:T,MATCH(J112,referentes!T:T,0),1))","v":""},{"$f":"IF(AB112=\"\",\"\",INDEX(referentes!V:W,MATCH(AB112,referentes!W:W,0),1))","v":""},{"$f":"IF(Y112=\"\",\"\",INDEX(referentes!AZ:BA,MATCH(Y112,referentes!BA:BA,0),1))","v":""},"","","","",{"$f":"IF(BP112=\"\",\"\",INDEX(referentes!AE:AF,MATCH(BP112,referentes!AF:AF,0),1))","v":""},{"$f":"IF(BQ112=\"\",\"\",INDEX(referentes!AH:AI,MATCH(BQ112,referentes!AI:AI,0),1))","v":""},null,{"$f":"IF(D112=\"\",\"\",INDEX(referentes!A:B,MATCH(D112,referentes!B:B,0),1))","v":""},{"$f":"IF(AT112=\"\",\"\",INDEX(referentes!Y:Z,MATCH(AT112,referentes!Z:Z,0),1))","v":""},{"$f":"IF(AU112=\"\",\"\",INDEX(referentes!AB:AC,MATCH(AU112,referentes!AC:AC,0),1))","v":""}]
[null,{"$f":"IF(BT113=\"\",\"\",IF(COUNTIF($BT113:BT113, BT113)>1, \"\", BT113))","v":""},null,null,null,null,null,null,null,null,null,null,{"$f":"IF(L113=\"\",\"\",INDEX(referentes!AK:AL,MATCH(L113,referentes!AL:AL,0),1))","v":""},"",null,112,{"$f":"IF(K113=\"\",\"\",INDEX('Otras referencias'!F:I,MATCH(K113,'Otras referencias'!I:I,0),1))","v":""},"",null,null,null,null,null,null,null,null,null,null,null,null,null,null,null,null,null,null,null,null,null,null,null,null,null,null,null,null,null,null,null,null,null,null,0,0,0,0,0,0,0,0,null,null,null,null,null,0,null,null,null,null,null,{"$f":"IF(R113<>\"\",CONCATENATE($A$2,DIGITADOR!$M$1,ROW()-2),\"\")","v":""},"",{"$f":"IF(E113=\"\",\"\",INDEX(referentes!D:E,MATCH(E113,referentes!E:E,0),1))","v":""},{"$f":"IF(F113=\"\",\"\",INDEX(referentes!J:K,MATCH(F113,referentes!K:K,0),1))","v":""},{"$f":"IF(AI113=\"\",\"\",INDEX(referentes!M:N,MATCH(AI113,referentes!N:N,0),1))","v":""},{"$f":"IF(I113=\"\",\"\",INDEX(referentes!P:Q,MATCH(I113,referentes!Q:Q,0),1))","v":""},{"$f":"IF(J113=\"\",\"\",INDEX(referentes!S:T,MATCH(J113,referentes!T:T,0),1))","v":""},{"$f":"IF(AB113=\"\",\"\",INDEX(referentes!V:W,MATCH(AB113,referentes!W:W,0),1))","v":""},{"$f":"IF(Y113=\"\",\"\",INDEX(referentes!AZ:BA,MATCH(Y113,referentes!BA:BA,0),1))","v":""},"","","","",{"$f":"IF(BP113=\"\",\"\",INDEX(referentes!AE:AF,MATCH(BP113,referentes!AF:AF,0),1))","v":""},{"$f":"IF(BQ113=\"\",\"\",INDEX(referentes!AH:AI,MATCH(BQ113,referentes!AI:AI,0),1))","v":""},null,{"$f":"IF(D113=\"\",\"\",INDEX(referentes!A:B,MATCH(D113,referentes!B:B,0),1))","v":""},{"$f":"IF(AT113=\"\",\"\",INDEX(referentes!Y:Z,MATCH(AT113,referentes!Z:Z,0),1))","v":""},{"$f":"IF(AU113=\"\",\"\",INDEX(referentes!AB:AC,MATCH(AU113,referentes!AC:AC,0),1))","v":""}]
[null,{"$f":"IF(BT114=\"\",\"\",IF(COUNTIF($BT114:BT114, BT114)>1, \"\", BT114))","v":""},null,null,null,null,null,null,null,null,null,null,{"$f":"IF(L114=\"\",\"\",INDEX(referentes!AK:AL,MATCH(L114,referentes!AL:AL,0),1))","v":""},"",null,113,{"$f":"IF(K114=\"\",\"\",INDEX('Otras referencias'!F:I,MATCH(K114,'Otras referencias'!I:I,0),1))","v":""},"",null,null,null,null,null,null,null,null,null,null,null,null,null,null,null,null,null,null,null,null,null,null,null,null,null,null,null,null,null,null,null,null,null,null,0,0,0,0,0,0,0,0,null,null,null,null,null,0,null,null,null,null,null,{"$f":"IF(R114<>\"\",CONCATENATE($A$2,DIGITADOR!$M$1,ROW()-2),\"\")","v":""},"",{"$f":"IF(E114=\"\",\"\",INDEX(referentes!D:E,MATCH(E114,referentes!E:E,0),1))","v":""},{"$f":"IF(F114=\"\",\"\",INDEX(referentes!J:K,MATCH(F114,referentes!K:K,0),1))","v":""},{"$f":"IF(AI114=\"\",\"\",INDEX(referentes!M:N,MATCH(AI114,referentes!N:N,0),1))","v":""},{"$f":"IF(I114=\"\",\"\",INDEX(referentes!P:Q,MATCH(I114,referentes!Q:Q,0),1))","v":""},{"$f":"IF(J114=\"\",\"\",INDEX(referentes!S:T,MATCH(J114,referentes!T:T,0),1))","v":""},{"$f":"IF(AB114=\"\",\"\",INDEX(referentes!V:W,MATCH(AB114,referentes!W:W,0),1))","v":""},{"$f":"IF(Y114=\"\",\"\",INDEX(referentes!AZ:BA,MATCH(Y114,referentes!BA:BA,0),1))","v":""},"","","","",{"$f":"IF(BP114=\"\",\"\",INDEX(referentes!AE:AF,MATCH(BP114,referentes!AF:AF,0),1))","v":""},{"$f":"IF(BQ114=\"\",\"\",INDEX(referentes!AH:AI,MATCH(BQ114,referentes!AI:AI,0),1))","v":""},null,{"$f":"IF(D114=\"\",\"\",INDEX(referentes!A:B,MATCH(D114,referentes!B:B,0),1))","v":""},{"$f":"IF(AT114=\"\",\"\",INDEX(referentes!Y:Z,MATCH(AT114,referentes!Z:Z,0),1))","v":""},{"$f":"IF(AU114=\"\",\"\",INDEX(referentes!AB:AC,MATCH(AU114,referentes!AC:AC,0),1))","v":""}]
[null,{"$f":"IF(BT115=\"\",\"\",IF(COUNTIF($BT115:BT115, BT115)>1, \"\", BT115))","v":""},null,null,null,null,null,null,null,null,null,null,{"$f":"IF(L115=\"\",\"\",INDEX(referentes!AK:AL,MATCH(L115,referentes!AL:AL,0),1))","v":""},"",null,114,{"$f":"IF(K115=\"\",\"\",INDEX('Otras referencias'!F:I,MATCH(K115,'Otras referencias'!I:I,0),1))","v":""},"",null,null,null,null,null,null,null,null,null,null,null,null,null,null,null,null,null,null,null,null,null,null,null,null,null,null,null,null,null,null,null,null,null,null,0,0,0,0,0,0,0,0,null,null,null,null,null,0,null,null,null,null,null,{"$f":"IF(R115<>\"\",CONCATENATE($A$2,DIGITADOR!$M$1,ROW()-2),\"\")","v":""},"",{"$f":"IF(E115=\"\",\"\",INDEX(referentes!D:E,MATCH(E115,referentes!E:E,0),1))","v":""},{"$f":"IF(F115=\"\",\"\",INDEX(referentes!J:K,MATCH(F115,referentes!K:K,0),1))","v":""},{"$f":"IF(AI115=\"\",\"\",INDEX(referentes!M:N,MATCH(AI115,referentes!N:N,0),1))","v":""},{"$f":"IF(I115=\"\",\"\",INDEX(referentes!P:Q,MATCH(I115,referentes!Q:Q,0),1))","v":""},{"$f":"IF(J115=\"\",\"\",INDEX(referentes!S:T,MATCH(J115,referentes!T:T,0),1))","v":""},{"$f":"IF(AB115=\"\",\"\",INDEX(referentes!V:W,MATCH(AB115,referentes!W:W,0),1))","v":""},{"$f":"IF(Y115=\"\",\"\",INDEX(referentes!AZ:BA,MATCH(Y115,referentes!BA:BA,0),1))","v":""},"","","","",{"$f":"IF(BP115=\"\",\"\",INDEX(referentes!AE:AF,MATCH(BP115,referentes!AF:AF,0),1))","v":""},{"$f":"IF(BQ115=\"\",\"\",INDEX(referentes!AH:AI,MATCH(BQ115,referentes!AI:AI,0),1))","v":""},null,{"$f":"IF(D115=\"\",\"\",INDEX(referentes!A:B,MATCH(D115,referentes!B:B,0),1))","v":""},{"$f":"IF(AT115=\"\",\"\",INDEX(referentes!Y:Z,MATCH(AT115,referentes!Z:Z,0),1))","v":""},{"$f":"IF(AU115=\"\",\"\",INDEX(referentes!AB:AC,MATCH(AU115,referentes!AC:AC,0),1))","v":""}]
[null,{"$f":"IF(BT116=\"\",\"\",IF(COUNTIF($BT116:BT116, BT116)>1, \"\", BT116))","v":""},null,null,null,null,null,null,null,null,null,null,{"$f":"IF(L116=\"\",\"\",INDEX(referentes!AK:AL,MATCH(L116,referentes!AL:AL,0),1))","v":""},"",null,115,{"$f":"IF(K116=\"\",\"\",INDEX('Otras referencias'!F:I,MATCH(K116,'Otras referencias'!I:I,0),1))","v":""},"",null,null,null,null,null,null,null,null,null,null,null,null,null,null,null,null,null,null,null,null,null,null,null,null,null,null,null,null,null,null,null,null,null,null,0,0,0,0,0,0,0,0,null,null,null,null,null,0,null,null,null,null,null,{"$f":"IF(R116<>\"\",CONCATENATE($A$2,DIGITADOR!$M$1,ROW()-2),\"\")","v":""},"",{"$f":"IF(E116=\"\",\"\",INDEX(referentes!D:E,MATCH(E116,referentes!E:E,0),1))","v":""},{"$f":"IF(F116=\"\",\"\",INDEX(referentes!J:K,MATCH(F116,referentes!K:K,0),1))","v":""},{"$f":"IF(AI116=\"\",\"\",INDEX(referentes!M:N,MATCH(AI116,referentes!N:N,0),1))","v":""},{"$f":"IF(I116=\"\",\"\",INDEX(referentes!P:Q,MATCH(I116,referentes!Q:Q,0),1))","v":""},{"$f":"IF(J116=\"\",\"\",INDEX(referentes!S:T,MATCH(J116,referentes!T:T,0),1))","v":""},{"$f":"IF(AB116=\"\",\"\",INDEX(referentes!V:W,MATCH(AB116,referentes!W:W,0),1))","v":""},{"$f":"IF(Y116=\"\",\"\",INDEX(referentes!AZ:BA,MATCH(Y116,referentes!BA:BA,0),1))","v":""},"","","","",{"$f":"IF(BP116=\"\",\"\",INDEX(referentes!AE:AF,MATCH(BP116,referentes!AF:AF,0),1))","v":""},{"$f":"IF(BQ116=\"\",\"\",INDEX(referentes!AH:AI,MATCH(BQ116,referentes!AI:AI,0),1))","v":""},null,{"$f":"IF(D116=\"\",\"\",INDEX(referentes!A:B,MATCH(D116,referentes!B:B,0),1))","v":""},{"$f":"IF(AT116=\"\",\"\",INDEX(referentes!Y:Z,MATCH(AT116,referentes!Z:Z,0),1))","v":""},{"$f":"IF(AU116=\"\",\"\",INDEX(referentes!AB:AC,MATCH(AU116,referentes!AC:AC,0),1))","v":""}]
[null,{"$f":"IF(BT117=\"\",\"\",IF(COUNTIF($BT117:BT117, BT117)>1, \"\", BT117))","v":""},null,null,null,null,null,null,null,null,null,null,{"$f":"IF(L117=\"\",\"\",INDEX(referentes!AK:AL,MATCH(L117,referentes!AL:AL,0),1))","v":""},"",null,116,{"$f":"IF(K117=\"\",\"\",INDEX('Otras referencias'!F:I,MATCH(K117,'Otras referencias'!I:I,0),1))","v":""},"",null,null,null,null,null,null,null,null,null,null,null,null,null,null,null,null,null,null,null,null,null,null,null,null,null,null,null,null,null,null,null,null,null,null,0,0,0,0,0,0,0,0,null,null,null,null,null,0,null,null,null,null,null,{"$f":"IF(R117<>\"\",CONCATENATE($A$2,DIGITADOR!$M$1,ROW()-2),\"\")","v":""},"",{"$f":"IF(E117=\"\",\"\",INDEX(referentes!D:E,MATCH(E117,referentes!E:E,0),1))","v":""},{"$f":"IF(F117=\"\",\"\",INDEX(referentes!J:K,MATCH(F117,referentes!K:K,0),1))","v":""},{"$f":"IF(AI117=\"\",\"\",INDEX(referentes!M:N,MATCH(AI117,referentes!N:N,0),1))","v":""},{"$f":"IF(I117=\"\",\"\",INDEX(referentes!P:Q,MATCH(I117,referentes!Q:Q,0),1))","v":""},{"$f":"IF(J117=\"\",\"\",INDEX(referentes!S:T,MATCH(J117,referentes!T:T,0),1))","v":""},{"$f":"IF(AB117=\"\",\"\",INDEX(referentes!V:W,MATCH(AB117,referentes!W:W,0),1))","v":""},{"$f":"IF(Y117=\"\",\"\",INDEX(referentes!AZ:BA,MATCH(Y117,referentes!BA:BA,0),1))","v":""},"","","","",{"$f":"IF(BP117=\"\",\"\",INDEX(referentes!AE:AF,MATCH(BP117,referentes!AF:AF,0),1))","v":""},{"$f":"IF(BQ117=\"\",\"\",INDEX(referentes!AH:AI,MATCH(BQ117,referentes!AI:AI,0),1))","v":""},null,{"$f":"IF(D117=\"\",\"\",INDEX(referentes!A:B,MATCH(D117,referentes!B:B,0),1))","v":""},{"$f":"IF(AT117=\"\",\"\",INDEX(referentes!Y:Z,MATCH(AT117,referentes!Z:Z,0),1))","v":""},{"$f":"IF(AU117=\"\",\"\",INDEX(referentes!AB:AC,MATCH(AU117,referentes!AC:AC,0),1))","v":""}]
[null,{"$f":"IF(BT118=\"\",\"\",IF(COUNTIF($BT118:BT118, BT118)>1, \"\", BT118))","v":""},null,null,null,null,null,null,null,null,null,null,{"$f":"IF(L118=\"\",\"\",INDEX(referentes!AK:AL,MATCH(L118,referentes!AL:AL,0),1))","v":""},"",null,117,{"$f":"IF(K118=\"\",\"\",INDEX('Otras referencias'!F:I,MATCH(K118,'Otras referencias'!I:I,0),1))","v":""},"",null,null,null,null,null,null,null,null,null,null,null,null,null,null,null,null,null,null,null,null,null,null,null,null,null,null,null,null,null,null,null,null,null,null,0,0,0,0,0,0,0,0,null,null,null,null,null,0,null,null,null,null,null,{"$f":"IF(R118<>\"\",CONCATENATE($A$2,DIGITADOR!$M$1,ROW()-2),\"\")","v":""},"",{"$f":"IF(E118=\"\",\"\",INDEX(referentes!D:E,MATCH(E118,referentes!E:E,0),1))","v":""},{"$f":"IF(F118=\"\",\"\",INDEX(referentes!J:K,MATCH(F118,referentes!K:K,0),1))","v":""},{"$f":"IF(AI118=\"\",\"\",INDEX(referentes!M:N,MATCH(AI118,referentes!N:N,0),1))","v":""},{"$f":"IF(I118=\"\",\"\",INDEX(referentes!P:Q,MATCH(I118,referentes!Q:Q,0),1))","v":""},{"$f":"IF(J118=\"\",\"\",INDEX(referentes!S:T,MATCH(J118,referentes!T:T,0),1))","v":""},{"$f":"IF(AB118=\"\",\"\",INDEX(referentes!V:W,MATCH(AB118,referentes!W:W,0),1))","v":""},{"$f":"IF(Y118=\"\",\"\",INDEX(referentes!AZ:BA,MATCH(Y118,referentes!BA:BA,0),1))","v":""},"","","","",{"$f":"IF(BP118=\"\",\"\",INDEX(referentes!AE:AF,MATCH(BP118,referentes!AF:AF,0),1))","v":""},{"$f":"IF(BQ118=\"\",\"\",INDEX(referentes!AH:AI,MATCH(BQ118,referentes!AI:AI,0),1))","v":""},null,{"$f":"IF(D118=\"\",\"\",INDEX(referentes!A:B,MATCH(D118,referentes!B:B,0),1))","v":""},{"$f":"IF(AT118=\"\",\"\",INDEX(referentes!Y:Z,MATCH(AT118,referentes!Z:Z,0),1))","v":""},{"$f":"IF(AU118=\"\",\"\",INDEX(referentes!AB:AC,MATCH(AU118,referentes!AC:AC,0),1))","v":""}]
[null,{"$f":"IF(BT119=\"\",\"\",IF(COUNTIF($BT119:BT119, BT119)>1, \"\", BT119))","v":""},null,null,null,null,null,null,null,null,null,null,{"$f":"IF(L119=\"\",\"\",INDEX(referentes!AK:AL,MATCH(L119,referentes!AL:AL,0),1))","v":""},"",null,118,{"$f":"IF(K119=\"\",\"\",INDEX('Otras referencias'!F:I,MATCH(K119,'Otras referencias'!I:I,0),1))","v":""},"",null,null,null,null,null,null,null,null,null,null,null,null,null,null,null,null,null,null,null,null,null,null,null,null,null,null,null,null,null,null,null,null,null,null,0,0,0,0,0,0,0,0,null,null,null,null,null,0,null,null,null,null,null,{"$f":"IF(R119<>\"\",CONCATENATE($A$2,DIGITADOR!$M$1,ROW()-2),\"\")","v":""},"",{"$f":"IF(E119=\"\",\"\",INDEX(referentes!D:E,MATCH(E119,referentes!E:E,0),1))","v":""},{"$f":"IF(F119=\"\",\"\",INDEX(referentes!J:K,MATCH(F119,referentes!K:K,0),1))","v":""},{"$f":"IF(AI119=\"\",\"\",INDEX(referentes!M:N,MATCH(AI119,referentes!N:N,0),1))","v":""},{"$f":"IF(I119=\"\",\"\",INDEX(referentes!P:Q,MATCH(I119,referentes!Q:Q,0),1))","v":""},{"$f":"IF(J119=\"\",\"\",INDEX(referentes!S:T,MATCH(J119,referentes!T:T,0),1))","v":""},{"$f":"IF(AB119=\"\",\"\",INDEX(referentes!V:W,MATCH(AB119,referentes!W:W,0),1))","v":""},{"$f":"IF(Y119=\"\",\"\",INDEX(referentes!AZ:BA,MATCH(Y119,referentes!BA:BA,0),1))","v":""},"","","","",{"$f":"IF(BP119=\"\",\"\",INDEX(referentes!AE:AF,MATCH(BP119,referentes!AF:AF,0),1))","v":""},{"$f":"IF(BQ119=\"\",\"\",INDEX(referentes!AH:AI,MATCH(BQ119,referentes!AI:AI,0),1))","v":""},null,{"$f":"IF(D119=\"\",\"\",INDEX(referentes!A:B,MATCH(D119,referentes!B:B,0),1))","v":""},{"$f":"IF(AT119=\"\",\"\",INDEX(referentes!Y:Z,MATCH(AT119,referentes!Z:Z,0),1))","v":""},{"$f":"IF(AU119=\"\",\"\",INDEX(referentes!AB:AC,MATCH(AU119,referentes!AC:AC,0),1))","v":""}]
[null,{"$f":"IF(BT120=\"\",\"\",IF(COUNTIF($BT120:BT120, BT120)>1, \"\", BT120))","v":""},null,null,null,null,null,null,null,null,null,null,{"$f":"IF(L120=\"\",\"\",INDEX(referentes!AK:AL,MATCH(L120,referentes!AL:AL,0),1))","v":""},"",null,119,{"$f":"IF(K120=\"\",\"\",INDEX('Otras referencias'!F:I,MATCH(K120,'Otras referencias'!I:I,0),1))","v":""},"",null,null,null,null,null,null,null,null,null,null,null,null,null,null,null,null,null,null,null,null,null,null,null,null,null,null,null,null,null,null,null,null,null,null,0,0,0,0,0,0,0,0,null,null,null,null,null,0,null,null,null,null,null,{"$f":"IF(R120<>\"\",CONCATENATE($A$2,DIGITADOR!$M$1,ROW()-2),\"\")","v":""},"",{"$f":"IF(E120=\"\",\"\",INDEX(referentes!D:E,MATCH(E120,referentes!E:E,0),1))","v":""},{"$f":"IF(F120=\"\",\"\",INDEX(referentes!J:K,MATCH(F120,referentes!K:K,0),1))","v":""},{"$f":"IF(AI120=\"\",\"\",INDEX(referentes!M:N,MATCH(AI120,referentes!N:N,0),1))","v":""},{"$f":"IF(I120=\"\",\"\",INDEX(referentes!P:Q,MATCH(I120,referentes!Q:Q,0),1))","v":""},{"$f":"IF(J120=\"\",\"\",INDEX(referentes!S:T,MATCH(J120,referentes!T:T,0),1))","v":""},{"$f":"IF(AB120=\"\",\"\",INDEX(referentes!V:W,MATCH(AB120,referentes!W:W,0),1))","v":""},{"$f":"IF(Y120=\"\",\"\",INDEX(referentes!AZ:BA,MATCH(Y120,referentes!BA:BA,0),1))","v":""},"","","","",{"$f":"IF(BP120=\"\",\"\",INDEX(referentes!AE:AF,MATCH(BP120,referentes!AF:AF,0),1))","v":""},{"$f":"IF(BQ120=\"\",\"\",INDEX(referentes!AH:AI,MATCH(BQ120,referentes!AI:AI,0),1))","v":""},null,{"$f":"IF(D120=\"\",\"\",INDEX(referentes!A:B,MATCH(D120,referentes!B:B,0),1))","v":""},{"$f":"IF(AT120=\"\",\"\",INDEX(referentes!Y:Z,MATCH(AT120,referentes!Z:Z,0),1))","v":""},{"$f":"IF(AU120=\"\",\"\",INDEX(referentes!AB:AC,MATCH(AU120,referentes!AC:AC,0),1))","v":""}]
[null,{"$f":"IF(BT121=\"\",\"\",IF(COUNTIF($BT121:BT121, BT121)>1, \"\", BT121))","v":""},null,null,null,null,null,null,null,null,null,null,{"$f":"IF(L121=\"\",\"\",INDEX(referentes!AK:AL,MATCH(L121,referentes!AL:AL,0),1))","v":""},"",null,120,{"$f":"IF(K121=\"\",\"\",INDEX('Otras referencias'!F:I,MATCH(K121,'Otras referencias'!I:I,0),1))","v":""},"",null,null,null,null,null,null,null,null,null,null,null,null,null,null,null,null,null,null,null,null,null,null,null,null,null,null,null,null,null,null,null,null,null,null,0,0,0,0,0,0,0,0,null,null,null,null,null,0,null,null,null,null,null,{"$f":"IF(R121<>\"\",CONCATENATE($A$2,DIGITADOR!$M$1,ROW()-2),\"\")","v":""},"",{"$f":"IF(E121=\"\",\"\",INDEX(referentes!D:E,MATCH(E121,referentes!E:E,0),1))","v":""},{"$f":"IF(F121=\"\",\"\",INDEX(referentes!J:K,MATCH(F121,referentes!K:K,0),1))","v":""},{"$f":"IF(AI121=\"\",\"\",INDEX(referentes!M:N,MATCH(AI121,referentes!N:N,0),1))","v":""},{"$f":"IF(I121=\"\",\"\",INDEX(referentes!P:Q,MATCH(I121,referentes!Q:Q,0),1))","v":""},{"$f":"IF(J121=\"\",\"\",INDEX(referentes!S:T,MATCH(J121,referentes!T:T,0),1))","v":""},{"$f":"IF(AB121=\"\",\"\",INDEX(referentes!V:W,MATCH(AB121,referentes!W:W,0),1))","v":""},{"$f":"IF(Y121=\"\",\"\",INDEX(referentes!AZ:BA,MATCH(Y121,referentes!BA:BA,0),1))","v":""},"","","","",{"$f":"IF(BP121=\"\",\"\",INDEX(referentes!AE:AF,MATCH(BP121,referentes!AF:AF,0),1))","v":""},{"$f":"IF(BQ121=\"\",\"\",INDEX(referentes!AH:AI,MATCH(BQ121,referentes!AI:AI,0),1))","v":""},null,{"$f":"IF(D121=\"\",\"\",INDEX(referentes!A:B,MATCH(D121,referentes!B:B,0),1))","v":""},{"$f":"IF(AT121=\"\",\"\",INDEX(referentes!Y:Z,MATCH(AT121,referentes!Z:Z,0),1))","v":""},{"$f":"IF(AU121=\"\",\"\",INDEX(referentes!AB:AC,MATCH(AU121,referentes!AC:AC,0),1))","v":""}]
[null,{"$f":"IF(BT122=\"\",\"\",IF(COUNTIF($BT122:BT122, BT122)>1, \"\", BT122))","v":""},null,null,null,null,null,null,null,null,null,null,{"$f":"IF(L122=\"\",\"\",INDEX(referentes!AK:AL,MATCH(L122,referentes!AL:AL,0),1))","v":""},"",null,121,{"$f":"IF(K122=\"\",\"\",INDEX('Otras referencias'!F:I,MATCH(K122,'Otras referencias'!I:I,0),1))","v":""},"",null,null,null,null,null,null,null,null,null,null,null,null,null,null,null,null,null,null,null,null,null,null,null,null,null,null,null,null,null,null,null,null,null,null,0,0,0,0,0,0,0,0,null,null,null,null,null,0,null,null,null,null,null,{"$f":"IF(R122<>\"\",CONCATENATE($A$2,DIGITADOR!$M$1,ROW()-2),\"\")","v":""},"",{"$f":"IF(E122=\"\",\"\",INDEX(referentes!D:E,MATCH(E122,referentes!E:E,0),1))","v":""},{"$f":"IF(F122=\"\",\"\",INDEX(referentes!J:K,MATCH(F122,referentes!K:K,0),1))","v":""},{"$f":"IF(AI122=\"\",\"\",INDEX(referentes!M:N,MATCH(AI122,referentes!N:N,0),1))","v":""},{"$f":"IF(I122=\"\",\"\",INDEX(referentes!P:Q,MATCH(I122,referentes!Q:Q,0),1))","v":""},{"$f":"IF(J122=\"\",\"\",INDEX(referentes!S:T,MATCH(J122,referentes!T:T,0),1))","v":""},{"$f":"IF(AB122=\"\",\"\",INDEX(referentes!V:W,MATCH(AB122,referentes!W:W,0),1))","v":""},{"$f":"IF(Y122=\"\",\"\",INDEX(referentes!AZ:BA,MATCH(Y122,referentes!BA:BA,0),1))","v":""},"","","","",{"$f":"IF(BP122=\"\",\"\",INDEX(referentes!AE:AF,MATCH(BP122,referentes!AF:AF,0),1))","v":""},{"$f":"IF(BQ122=\"\",\"\",INDEX(referentes!AH:AI,MATCH(BQ122,referentes!AI:AI,0),1))","v":""},null,{"$f":"IF(D122=\"\",\"\",INDEX(referentes!A:B,MATCH(D122,referentes!B:B,0),1))","v":""},{"$f":"IF(AT122=\"\",\"\",INDEX(referentes!Y:Z,MATCH(AT122,referentes!Z:Z,0),1))","v":""},{"$f":"IF(AU122=\"\",\"\",INDEX(referentes!AB:AC,MATCH(AU122,referentes!AC:AC,0),1))","v":""}]
[null,{"$f":"IF(BT123=\"\",\"\",IF(COUNTIF($BT123:BT123, BT123)>1, \"\", BT123))","v":""},null,null,null,null,null,null,null,null,null,null,{"$f":"IF(L123=\"\",\"\",INDEX(referentes!AK:AL,MATCH(L123,referentes!AL:AL,0),1))","v":""},"",null,122,{"$f":"IF(K123=\"\",\"\",INDEX('Otras referencias'!F:I,MATCH(K123,'Otras referencias'!I:I,0),1))","v":""},"",null,null,null,null,null,null,null,null,null,null,null,null,null,null,null,null,null,null,null,null,null,null,null,null,null,null,null,null,null,null,null,null,null,null,0,0,0,0,0,0,0,0,null,null,null,null,null,0,null,null,null,null,null,{"$f":"IF(R123<>\"\",CONCATENATE($A$2,DIGITADOR!$M$1,ROW()-2),\"\")","v":""},"",{"$f":"IF(E123=\"\",\"\",INDEX(referentes!D:E,MATCH(E123,referentes!E:E,0),1))","v":""},{"$f":"IF(F123=\"\",\"\",INDEX(referentes!J:K,MATCH(F123,referentes!K:K,0),1))","v":""},{"$f":"IF(AI123=\"\",\"\",INDEX(referentes!M:N,MATCH(AI123,referentes!N:N,0),1))","v":""},{"$f":"IF(I123=\"\",\"\",INDEX(referentes!P:Q,MATCH(I123,referentes!Q:Q,0),1))","v":""},{"$f":"IF(J123=\"\",\"\",INDEX(referentes!S:T,MATCH(J123,referentes!T:T,0),1))","v":""},{"$f":"IF(AB123=\"\",\"\",INDEX(referentes!V:W,MATCH(AB123,referentes!W:W,0),1))","v":""},{"$f":"IF(Y123=\"\",\"\",INDEX(referentes!AZ:BA,MATCH(Y123,referentes!BA:BA,0),1))","v":""},"","","","",{"$f":"IF(BP123=\"\",\"\",INDEX(referentes!AE:AF,MATCH(BP123,referentes!AF:AF,0),1))","v":""},{"$f":"IF(BQ123=\"\",\"\",INDEX(referentes!AH:AI,MATCH(BQ123,referentes!AI:AI,0),1))","v":""},null,{"$f":"IF(D123=\"\",\"\",INDEX(referentes!A:B,MATCH(D123,referentes!B:B,0),1))","v":""},{"$f":"IF(AT123=\"\",\"\",INDEX(referentes!Y:Z,MATCH(AT123,referentes!Z:Z,0),1))","v":""},{"$f":"IF(AU123=\"\",\"\",INDEX(referentes!AB:AC,MATCH(AU123,referentes!AC:AC,0),1))","v":""}]
[null,{"$f":"IF(BT124=\"\",\"\",IF(COUNTIF($BT124:BT124, BT124)>1, \"\", BT124))","v":""},null,null,null,null,null,null,null,null,null,null,{"$f":"IF(L124=\"\",\"\",INDEX(referentes!AK:AL,MATCH(L124,referentes!AL:AL,0),1))","v":""},"",null,123,{"$f":"IF(K124=\"\",\"\",INDEX('Otras referencias'!F:I,MATCH(K124,'Otras referencias'!I:I,0),1))","v":""},"",null,null,null,null,null,null,null,null,null,null,null,null,null,null,null,null,null,null,null,null,null,null,null,null,null,null,null,null,null,null,null,null,null,null,0,0,0,0,0,0,0,0,null,null,null,null,null,0,null,null,null,null,null,{"$f":"IF(R124<>\"\",CONCATENATE($A$2,DIGITADOR!$M$1,ROW()-2),\"\")","v":""},"",{"$f":"IF(E124=\"\",\"\",INDEX(referentes!D:E,MATCH(E124,referentes!E:E,0),1))","v":""},{"$f":"IF(F124=\"\",\"\",INDEX(referentes!J:K,MATCH(F124,referentes!K:K,0),1))","v":""},{"$f":"IF(AI124=\"\",\"\",INDEX(referentes!M:N,MATCH(AI124,referentes!N:N,0),1))","v":""},{"$f":"IF(I124=\"\",\"\",INDEX(referentes!P:Q,MATCH(I124,referentes!Q:Q,0),1))","v":""},{"$f":"IF(J124=\"\",\"\",INDEX(referentes!S:T,MATCH(J124,referentes!T:T,0),1))","v":""},{"$f":"IF(AB124=\"\",\"\",INDEX(referentes!V:W,MATCH(AB124,referentes!W:W,0),1))","v":""},{"$f":"IF(Y124=\"\",\"\",INDEX(referentes!AZ:BA,MATCH(Y124,referentes!BA:BA,0),1))","v":""},"","","","",{"$f":"IF(BP124=\"\",\"\",INDEX(referentes!AE:AF,MATCH(BP124,referentes!AF:AF,0),1))","v":""},{"$f":"IF(BQ124=\"\",\"\",INDEX(referentes!AH:AI,MATCH(BQ124,referentes!AI:AI,0),1))","v":""},null,{"$f":"IF(D124=\"\",\"\",INDEX(referentes!A:B,MATCH(D124,referentes!B:B,0),1))","v":""},{"$f":"IF(AT124=\"\",\"\",INDEX(referentes!Y:Z,MATCH(AT124,referentes!Z:Z,0),1))","v":""},{"$f":"IF(AU124=\"\",\"\",INDEX(referentes!AB:AC,MATCH(AU124,referentes!AC:AC,0),1))","v":""}]
[null,{"$f":"IF(BT125=\"\",\"\",IF(COUNTIF($BT125:BT125, BT125)>1, \"\", BT125))","v":""},null,null,null,null,null,null,null,null,null,null,{"$f":"IF(L125=\"\",\"\",INDEX(referentes!AK:AL,MATCH(L125,referentes!AL:AL,0),1))","v":""},"",null,124,{"$f":"IF(K125=\"\",\"\",INDEX('Otras referencias'!F:I,MATCH(K125,'Otras referencias'!I:I,0),1))","v":""},"",null,null,null,null,null,null,null,null,null,null,null,null,null,null,null,null,null,null,null,null,null,null,null,null,null,null,null,null,null,null,null,null,null,null,0,0,0,0,0,0,0,0,null,null,null,null,null,0,null,null,null,null,null,{"$f":"IF(R125<>\"\",CONCATENATE($A$2,DIGITADOR!$M$1,ROW()-2),\"\")","v":""},"",{"$f":"IF(E125=\"\",\"\",INDEX(referentes!D:E,MATCH(E125,referentes!E:E,0),1))","v":""},{"$f":"IF(F125=\"\",\"\",INDEX(referentes!J:K,MATCH(F125,referentes!K:K,0),1))","v":""},{"$f":"IF(AI125=\"\",\"\",INDEX(referentes!M:N,MATCH(AI125,referentes!N:N,0),1))","v":""},{"$f":"IF(I125=\"\",\"\",INDEX(referentes!P:Q,MATCH(I125,referentes!Q:Q,0),1))","v":""},{"$f":"IF(J125=\"\",\"\",INDEX(referentes!S:T,MATCH(J125,referentes!T:T,0),1))","v":""},{"$f":"IF(AB125=\"\",\"\",INDEX(referentes!V:W,MATCH(AB125,referentes!W:W,0),1))","v":""},{"$f":"IF(Y125=\"\",\"\",INDEX(referentes!AZ:BA,MATCH(Y125,referentes!BA:BA,0),1))","v":""},"","","","",{"$f":"IF(BP125=\"\",\"\",INDEX(referentes!AE:AF,MATCH(BP125,referentes!AF:AF,0),1))","v":""},{"$f":"IF(BQ125=\"\",\"\",INDEX(referentes!AH:AI,MATCH(BQ125,referentes!AI:AI,0),1))","v":""},null,{"$f":"IF(D125=\"\",\"\",INDEX(referentes!A:B,MATCH(D125,referentes!B:B,0),1))","v":""},{"$f":"IF(AT125=\"\",\"\",INDEX(referentes!Y:Z,MATCH(AT125,referentes!Z:Z,0),1))","v":""},{"$f":"IF(AU125=\"\",\"\",INDEX(referentes!AB:AC,MATCH(AU125,referentes!AC:AC,0),1))","v":""}]
[null,{"$f":"IF(BT126=\"\",\"\",IF(COUNTIF($BT126:BT126, BT126)>1, \"\", BT126))","v":""},null,null,null,null,null,null,null,null,null,null,{"$f":"IF(L126=\"\",\"\",INDEX(referentes!AK:AL,MATCH(L126,referentes!AL:AL,0),1))","v":""},"",null,125,{"$f":"IF(K126=\"\",\"\",INDEX('Otras referencias'!F:I,MATCH(K126,'Otras referencias'!I:I,0),1))","v":""},"",null,null,null,null,null,null,null,null,null,null,null,null,null,null,null,null,null,null,null,null,null,null,null,null,null,null,null,null,null,null,null,null,null,null,0,0,0,0,0,0,0,0,null,null,null,null,null,0,null,null,null,null,null,{"$f":"IF(R126<>\"\",CONCATENATE($A$2,DIGITADOR!$M$1,ROW()-2),\"\")","v":""},"",{"$f":"IF(E126=\"\",\"\",INDEX(referentes!D:E,MATCH(E126,referentes!E:E,0),1))","v":""},{"$f":"IF(F126=\"\",\"\",INDEX(referentes!J:K,MATCH(F126,referentes!K:K,0),1))","v":""},{"$f":"IF(AI126=\"\",\"\",INDEX(referentes!M:N,MATCH(AI126,referentes!N:N,0),1))","v":""},{"$f":"IF(I126=\"\",\"\",INDEX(referentes!P:Q,MATCH(I126,referentes!Q:Q,0),1))","v":""},{"$f":"IF(J126=\"\",\"\",INDEX(referentes!S:T,MATCH(J126,referentes!T:T,0),1))","v":""},{"$f":"IF(AB126=\"\",\"\",INDEX(referentes!V:W,MATCH(AB126,referentes!W:W,0),1))","v":""},{"$f":"IF(Y126=\"\",\"\",INDEX(referentes!AZ:BA,MATCH(Y126,referentes!BA:BA,0),1))","v":""},"","","","",{"$f":"IF(BP126=\"\",\"\",INDEX(referentes!AE:AF,MATCH(BP126,referentes!AF:AF,0),1))","v":""},{"$f":"IF(BQ126=\"\",\"\",INDEX(referentes!AH:AI,MATCH(BQ126,referentes!AI:AI,0),1))","v":""},null,{"$f":"IF(D126=\"\",\"\",INDEX(referentes!A:B,MATCH(D126,referentes!B:B,0),1))","v":""},{"$f":"IF(AT126=\"\",\"\",INDEX(referentes!Y:Z,MATCH(AT126,referentes!Z:Z,0),1))","v":""},{"$f":"IF(AU126=\"\",\"\",INDEX(referentes!AB:AC,MATCH(AU126,referentes!AC:AC,0),1))","v":""}]
[null,{"$f":"IF(BT127=\"\",\"\",IF(COUNTIF($BT127:BT127, BT127)>1, \"\", BT127))","v":""},null,null,null,null,null,null,null,null,null,null,{"$f":"IF(L127=\"\",\"\",INDEX(referentes!AK:AL,MATCH(L127,referentes!AL:AL,0),1))","v":""},"",null,126,{"$f":"IF(K127=\"\",\"\",INDEX('Otras referencias'!F:I,MATCH(K127,'Otras referencias'!I:I,0),1))","v":""},"",null,null,null,null,null,null,null,null,null,null,null,null,null,null,null,null,null,null,null,null,null,null,null,null,null,null,null,null,null,null,null,null,null,null,0,0,0,0,0,0,0,0,null,null,null,null,null,0,null,null,null,null,null,{"$f":"IF(R127<>\"\",CONCATENATE($A$2,DIGITADOR!$M$1,ROW()-2),\"\")","v":""},"",{"$f":"IF(E127=\"\",\"\",INDEX(referentes!D:E,MATCH(E127,referentes!E:E,0),1))","v":""},{"$f":"IF(F127=\"\",\"\",INDEX(referentes!J:K,MATCH(F127,referentes!K:K,0),1))","v":""},{"$f":"IF(AI127=\"\",\"\",INDEX(referentes!M:N,MATCH(AI127,referentes!N:N,0),1))","v":""},{"$f":"IF(I127=\"\",\"\",INDEX(referentes!P:Q,MATCH(I127,referentes!Q:Q,0),1))","v":""},{"$f":"IF(J127=\"\",\"\",INDEX(referentes!S:T,MATCH(J127,referentes!T:T,0),1))","v":""},{"$f":"IF(AB127=\"\",\"\",INDEX(referentes!V:W,MATCH(AB127,referentes!W:W,0),1))","v":""},{"$f":"IF(Y127=\"\",\"\",INDEX(referentes!AZ:BA,MATCH(Y127,referentes!BA:BA,0),1))","v":""},"","","","",{"$f":"IF(BP127=\"\",\"\",INDEX(referentes!AE:AF,MATCH(BP127,referentes!AF:AF,0),1))","v":""},{"$f":"IF(BQ127=\"\",\"\",INDEX(referentes!AH:AI,MATCH(BQ127,referentes!AI:AI,0),1))","v":""},null,{"$f":"IF(D127=\"\",\"\",INDEX(referentes!A:B,MATCH(D127,referentes!B:B,0),1))","v":""},{"$f":"IF(AT127=\"\",\"\",INDEX(referentes!Y:Z,MATCH(AT127,referentes!Z:Z,0),1))","v":""},{"$f":"IF(AU127=\"\",\"\",INDEX(referentes!AB:AC,MATCH(AU127,referentes!AC:AC,0),1))","v":""}]
[null,{"$f":"IF(BT128=\"\",\"\",IF(COUNTIF($BT128:BT128, BT128)>1, \"\", BT128))","v":""},null,null,null,null,null,null,null,null,null,null,{"$f":"IF(L128=\"\",\"\",INDEX(referentes!AK:AL,MATCH(L128,referentes!AL:AL,0),1))","v":""},"",null,127,{"$f":"IF(K128=\"\",\"\",INDEX('Otras referencias'!F:I,MATCH(K128,'Otras referencias'!I:I,0),1))","v":""},"",null,null,null,null,null,null,null,null,null,null,null,null,null,null,null,null,null,null,null,null,null,null,null,null,null,null,null,null,null,null,null,null,null,null,0,0,0,0,0,0,0,0,null,null,null,null,null,0,null,null,null,null,null,{"$f":"IF(R128<>\"\",CONCATENATE($A$2,DIGITADOR!$M$1,ROW()-2),\"\")","v":""},"",{"$f":"IF(E128=\"\",\"\",INDEX(referentes!D:E,MATCH(E128,referentes!E:E,0),1))","v":""},{"$f":"IF(F128=\"\",\"\",INDEX(referentes!J:K,MATCH(F128,referentes!K:K,0),1))","v":""},{"$f":"IF(AI128=\"\",\"\",INDEX(referentes!M:N,MATCH(AI128,referentes!N:N,0),1))","v":""},{"$f":"IF(I128=\"\",\"\",INDEX(referentes!P:Q,MATCH(I128,referentes!Q:Q,0),1))","v":""},{"$f":"IF(J128=\"\",\"\",INDEX(referentes!S:T,MATCH(J128,referentes!T:T,0),1))","v":""},{"$f":"IF(AB128=\"\",\"\",INDEX(referentes!V:W,MATCH(AB128,referentes!W:W,0),1))","v":""},{"$f":"IF(Y128=\"\",\"\",INDEX(referentes!AZ:BA,MATCH(Y128,referentes!BA:BA,0),1))","v":""},"","","","",{"$f":"IF(BP128=\"\",\"\",INDEX(referentes!AE:AF,MATCH(BP128,referentes!AF:AF,0),1))","v":""},{"$f":"IF(BQ128=\"\",\"\",INDEX(referentes!AH:AI,MATCH(BQ128,referentes!AI:AI,0),1))","v":""},null,{"$f":"IF(D128=\"\",\"\",INDEX(referentes!A:B,MATCH(D128,referentes!B:B,0),1))","v":""},{"$f":"IF(AT128=\"\",\"\",INDEX(referentes!Y:Z,MATCH(AT128,referentes!Z:Z,0),1))","v":""},{"$f":"IF(AU128=\"\",\"\",INDEX(referentes!AB:AC,MATCH(AU128,referentes!AC:AC,0),1))","v":""}]
[null,{"$f":"IF(BT129=\"\",\"\",IF(COUNTIF($BT129:BT129, BT129)>1, \"\", BT129))","v":""},null,null,null,null,null,null,null,null,null,null,{"$f":"IF(L129=\"\",\"\",INDEX(referentes!AK:AL,MATCH(L129,referentes!AL:AL,0),1))","v":""},"",null,128,{"$f":"IF(K129=\"\",\"\",INDEX('Otras referencias'!F:I,MATCH(K129,'Otras referencias'!I:I,0),1))","v":""},"",null,null,null,null,null,null,null,null,null,null,null,null,null,null,null,null,null,null,null,null,null,null,null,null,null,null,null,null,null,null,null,null,null,null,0,0,0,0,0,0,0,0,null,null,null,null,null,0,null,null,null,null,null,{"$f":"IF(R129<>\"\",CONCATENATE($A$2,DIGITADOR!$M$1,ROW()-2),\"\")","v":""},"",{"$f":"IF(E129=\"\",\"\",INDEX(referentes!D:E,MATCH(E129,referentes!E:E,0),1))","v":""},{"$f":"IF(F129=\"\",\"\",INDEX(referentes!J:K,MATCH(F129,referentes!K:K,0),1))","v":""},{"$f":"IF(AI129=\"\",\"\",INDEX(referentes!M:N,MATCH(AI129,referentes!N:N,0),1))","v":""},{"$f":"IF(I129=\"\",\"\",INDEX(referentes!P:Q,MATCH(I129,referentes!Q:Q,0),1))","v":""},{"$f":"IF(J129=\"\",\"\",INDEX(referentes!S:T,MATCH(J129,referentes!T:T,0),1))","v":""},{"$f":"IF(AB129=\"\",\"\",INDEX(referentes!V:W,MATCH(AB129,referentes!W:W,0),1))","v":""},{"$f":"IF(Y129=\"\",\"\",INDEX(referentes!AZ:BA,MATCH(Y129,referentes!BA:BA,0),1))","v":""},"","","","",{"$f":"IF(BP129=\"\",\"\",INDEX(referentes!AE:AF,MATCH(BP129,referentes!AF:AF,0),1))","v":""},{"$f":"IF(BQ129=\"\",\"\",INDEX(referentes!AH:AI,MATCH(BQ129,referentes!AI:AI,0),1))","v":""},null,{"$f":"IF(D129=\"\",\"\",INDEX(referentes!A:B,MATCH(D129,referentes!B:B,0),1))","v":""},{"$f":"IF(AT129=\"\",\"\",INDEX(referentes!Y:Z,MATCH(AT129,referentes!Z:Z,0),1))","v":""},{"$f":"IF(AU129=\"\",\"\",INDEX(referentes!AB:AC,MATCH(AU129,referentes!AC:AC,0),1))","v":""}]
[null,{"$f":"IF(BT130=\"\",\"\",IF(COUNTIF($BT130:BT130, BT130)>1, \"\", BT130))","v":""},null,null,null,null,null,null,null,null,null,null,{"$f":"IF(L130=\"\",\"\",INDEX(referentes!AK:AL,MATCH(L130,referentes!AL:AL,0),1))","v":""},"",null,129,{"$f":"IF(K130=\"\",\"\",INDEX('Otras referencias'!F:I,MATCH(K130,'Otras referencias'!I:I,0),1))","v":""},"",null,null,null,null,null,null,null,null,null,null,null,null,null,null,null,null,null,null,null,null,null,null,null,null,null,null,null,null,null,null,null,null,null,null,0,0,0,0,0,0,0,0,null,null,null,null,null,0,null,null,null,null,null,{"$f":"IF(R130<>\"\",CONCATENATE($A$2,DIGITADOR!$M$1,ROW()-2),\"\")","v":""},"",{"$f":"IF(E130=\"\",\"\",INDEX(referentes!D:E,MATCH(E130,referentes!E:E,0),1))","v":""},{"$f":"IF(F130=\"\",\"\",INDEX(referentes!J:K,MATCH(F130,referentes!K:K,0),1))","v":""},{"$f":"IF(AI130=\"\",\"\",INDEX(referentes!M:N,MATCH(AI130,referentes!N:N,0),1))","v":""},{"$f":"IF(I130=\"\",\"\",INDEX(referentes!P:Q,MATCH(I130,referentes!Q:Q,0),1))","v":""},{"$f":"IF(J130=\"\",\"\",INDEX(referentes!S:T,MATCH(J130,referentes!T:T,0),1))","v":""},{"$f":"IF(AB130=\"\",\"\",INDEX(referentes!V:W,MATCH(AB130,referentes!W:W,0),1))","v":""},{"$f":"IF(Y130=\"\",\"\",INDEX(referentes!AZ:BA,MATCH(Y130,referentes!BA:BA,0),1))","v":""},"","","","",{"$f":"IF(BP130=\"\",\"\",INDEX(referentes!AE:AF,MATCH(BP130,referentes!AF:AF,0),1))","v":""},{"$f":"IF(BQ130=\"\",\"\",INDEX(referentes!AH:AI,MATCH(BQ130,referentes!AI:AI,0),1))","v":""},null,{"$f":"IF(D130=\"\",\"\",INDEX(referentes!A:B,MATCH(D130,referentes!B:B,0),1))","v":""},{"$f":"IF(AT130=\"\",\"\",INDEX(referentes!Y:Z,MATCH(AT130,referentes!Z:Z,0),1))","v":""},{"$f":"IF(AU130=\"\",\"\",INDEX(referentes!AB:AC,MATCH(AU130,referentes!AC:AC,0),1))","v":""}]
[null,{"$f":"IF(BT131=\"\",\"\",IF(COUNTIF($BT131:BT131, BT131)>1, \"\", BT131))","v":""},null,null,null,null,null,null,null,null,null,null,{"$f":"IF(L131=\"\",\"\",INDEX(referentes!AK:AL,MATCH(L131,referentes!AL:AL,0),1))","v":""},"",null,130,{"$f":"IF(K131=\"\",\"\",INDEX('Otras referencias'!F:I,MATCH(K131,'Otras referencias'!I:I,0),1))","v":""},{"$f":"IF(U131=\"\",\"\",DATEVALUE(CONCATENATE(U131,\"/\",TEXT(V131,\"00\"),\"/\",TEXT(W131,\"00\"))))","v":""},null,null,null,null,null,null,null,null,null,null,null,null,null,null,null,null,null,null,null,null,null,null,null,null,null,null,null,null,null,null,null,null,null,null,{"$f":"IF(ISERR(FIND($BA$1,AZ131)),0,1)","v":0},{"$f":"IF(ISERR(FIND($BB$1,AZ131)),0,1)","v":0},{"$f":"IF(ISERR(FIND($BC$1,AZ131)),0,1)","v":0},{"$f":"IF(ISERR(FIND($BD$1,AZ131)),0,1)","v":0},{"$f":"IF(ISERR(FIND($BE$1,AZ131)),0,1)","v":0},{"$f":"IF(ISERR(FIND($BF$1,AZ131)),0,1)","v":0},{"$f":"IF(ISERR(FIND($BG$1,AZ131)),0,1)","v":0},{"$f":"IF(ISERR(FIND($BH$1,AZ131)),0,1)","v":0},null,null,null,null,null,{"$f":"BA131+2*BB131+4*BC131+8*BD131+16*BE131+32*BF131+64*BG131+128*BH131","v":0},null,null,null,null,null,{"$f":"IF(R131<>\"\",CONCATENATE($A$2,DIGITADOR!$M$1,ROW()-2),\"\")","v":""},{"$f":"IF(B131=\"\",\"\",CONCATENATE(B131,ROW()-1))","v":""},{"$f":"IF(E131=\"\",\"\",INDEX(referentes!D:E,MATCH(E131,referentes!E:E,0),1))","v":""},{"$f":"IF(F131=\"\",\"\",INDEX(referentes!J:K,MATCH(F131,referentes!K:K,0),1))","v":""},{"$f":"IF(AI131=\"\",\"\",INDEX(referentes!M:N,MATCH(AI131,referentes!N:N,0),1))","v":""},{"$f":"IF(I131=\"\",\"\",INDEX(referentes!P:Q,MATCH(I131,referentes!Q:Q,0),1))","v":""},{"$f":"IF(J131=\"\",\"\",INDEX(referentes!S:T,MATCH(J131,referentes!T:T,0),1))","v":""},{"$f":"IF(AB131=\"\",\"\",INDEX(referentes!V:W,MATCH(AB131,referentes!W:W,0),1))","v":""},{"$f":"IF(Y131=\"\",\"\",INDEX(referentes!AZ:BA,MATCH(Y131,referentes!BA:BA,0),1))","v":""},{"$f":"IF(Z131=\"\",IF(R131=\"\",\"\",R131),R131+Z131)","v":""},{"$f":"IF(AA131=\"\",IF(R131=\"\",\"\",R131),R131+AA131)","v":""},{"$f":"IF(OR(AC131=\"\",AD131=\"\",AE131=\"\"),\"\",AD131/60+AE131/3600+AC131)","v":""},{"$f":"IF(OR(AF131=\"\",AG131=\"\",AH131=\"\"),\"\",(ABS(AF131)+(AG131/60)+(AH131/3600))*-1)","v":""},{"$f":"IF(BP131=\"\",\"\",INDEX(referentes!AE:AF,MATCH(BP131,referentes!AF:AF,0),1))","v":""},{"$f":"IF(BQ131=\"\",\"\",INDEX(referentes!AH:AI,MATCH(BQ131,referentes!AI:AI,0),1))","v":""},null,{"$f":"IF(D131=\"\",\"\",INDEX(referentes!A:B,MATCH(D131,referentes!B:B,0),1))","v":""},{"$f":"IF(AT131=\"\",\"\",INDEX(referentes!Y:Z,MATCH(AT131,referentes!Z:Z,0),1))","v":""},{"$f":"IF(AU131=\"\",\"\",INDEX(referentes!AB:AC,MATCH(AU131,referentes!AC:AC,0),1))","v":""}]
[null,{"$f":"IF(BT132=\"\",\"\",IF(COUNTIF($BT132:BT132, BT132)>1, \"\", BT132))","v":""},null,null,null,null,null,null,null,null,null,null,{"$f":"IF(L132=\"\",\"\",INDEX(referentes!AK:AL,MATCH(L132,referentes!AL:AL,0),1))","v":""},{"$f":"IF(B132=B131,\"\",IF(R131=\"\",\"\",R131))","v":""},null,{"$f":"P131+1","v":131},{"$f":"IF(K132=\"\",\"\",INDEX('Otras referencias'!F:I,MATCH(K132,'Otras referencias'!I:I,0),1))","v":""},"",null,null,null,null,null,null,null,null,null,null,null,null,null,null,null,null,null,null,null,null,null,null,null,null,null,null,null,null,null,null,null,null,null,null,0,0,0,0,0,0,0,0,null,null,null,null,null,0,null,null,null,null,null,{"$f":"IF(R132<>\"\",CONCATENATE($A$2,DIGITADOR!$M$1,ROW()-2),\"\")","v":""},"",{"$f":"IF(E132=\"\",\"\",INDEX(referentes!D:E,MATCH(E132,referentes!E:E,0),1))","v":""},{"$f":"IF(F132=\"\",\"\",INDEX(referentes!J:K,MATCH(F132,referentes!K:K,0),1))","v":""},{"$f":"IF(AI132=\"\",\"\",INDEX(referentes!M:N,MATCH(AI132,referentes!N:N,0),1))","v":""},{"$f":"IF(I132=\"\",\"\",INDEX(referentes!P:Q,MATCH(I132,referentes!Q:Q,0),1))","v":""},{"$f":"IF(J132=\"\",\"\",INDEX(referentes!S:T,MATCH(J132,referentes!T:T,0),1))","v":""},{"$f":"IF(AB132=\"\",\"\",INDEX(referentes!V:W,MATCH(AB132,referentes!W:W,0),1))","v":""},{"$f":"IF(Y132=\"\",\"\",INDEX(referentes!AZ:BA,MATCH(Y132,referentes!BA:BA,0),1))","v":""},"","","","",{"$f":"IF(BP132=\"\",\"\",INDEX(referentes!AE:AF,MATCH(BP132,referentes!AF:AF,0),1))","v":""},{"$f":"IF(BQ132=\"\",\"\",INDEX(referentes!AH:AI,MATCH(BQ132,referentes!AI:AI,0),1))","v":""},null,{"$f":"IF(D132=\"\",\"\",INDEX(referentes!A:B,MATCH(D132,referentes!B:B,0),1))","v":""},{"$f":"IF(AT132=\"\",\"\",INDEX(referentes!Y:Z,MATCH(AT132,referentes!Z:Z,0),1))","v":""},{"$f":"IF(AU132=\"\",\"\",INDEX(referentes!AB:AC,MATCH(AU132,referentes!AC:AC,0),1))","v":""}]
[null,{"$f":"IF(BT133=\"\",\"\",IF(COUNTIF($BT133:BT133, BT133)>1, \"\", BT133))","v":""},null,null,null,null,null,null,null,null,null,null,{"$f":"IF(L133=\"\",\"\",INDEX(referentes!AK:AL,MATCH(L133,referentes!AL:AL,0),1))","v":""},"",null,132,{"$f":"IF(K133=\"\",\"\",INDEX('Otras referencias'!F:I,MATCH(K133,'Otras referencias'!I:I,0),1))","v":""},"",null,null,null,null,null,null,null,null,null,null,null,null,null,null,null,null,null,null,null,null,null,null,null,null,null,null,null,null,null,null,null,null,null,null,0,0,0,0,0,0,0,0,null,null,null,null,null,0,null,null,null,null,null,{"$f":"IF(R133<>\"\",CONCATENATE($A$2,DIGITADOR!$M$1,ROW()-2),\"\")","v":""},"",{"$f":"IF(E133=\"\",\"\",INDEX(referentes!D:E,MATCH(E133,referentes!E:E,0),1))","v":""},{"$f":"IF(F133=\"\",\"\",INDEX(referentes!J:K,MATCH(F133,referentes!K:K,0),1))","v":""},{"$f":"IF(AI133=\"\",\"\",INDEX(referentes!M:N,MATCH(AI133,referentes!N:N,0),1))","v":""},{"$f":"IF(I133=\"\",\"\",INDEX(referentes!P:Q,MATCH(I133,referentes!Q:Q,0),1))","v":""},{"$f":"IF(J133=\"\",\"\",INDEX(referentes!S:T,MATCH(J133,referentes!T:T,0),1))","v":""},{"$f":"IF(AB133=\"\",\"\",INDEX(referentes!V:W,MATCH(AB133,referentes!W:W,0),1))","v":""},{"$f":"IF(Y133=\"\",\"\",INDEX(referentes!AZ:BA,MATCH(Y133,referentes!BA:BA,0),1))","v":""},"","","","",{"$f":"IF(BP133=\"\",\"\",INDEX(referentes!AE:AF,MATCH(BP133,referentes!AF:AF,0),1))","v":""},{"$f":"IF(BQ133=\"\",\"\",INDEX(referentes!AH:AI,MATCH(BQ133,referentes!AI:AI,0),1))","v":""},null,{"$f":"IF(D133=\"\",\"\",INDEX(referentes!A:B,MATCH(D133,referentes!B:B,0),1))","v":""},{"$f":"IF(AT133=\"\",\"\",INDEX(referentes!Y:Z,MATCH(AT133,referentes!Z:Z,0),1))","v":""},{"$f":"IF(AU133=\"\",\"\",INDEX(referentes!AB:AC,MATCH(AU133,referentes!AC:AC,0),1))","v":""}]
[null,{"$f":"IF(BT134=\"\",\"\",IF(COUNTIF($BT134:BT134, BT134)>1, \"\", BT134))","v":""},null,null,null,null,null,null,null,null,null,null,{"$f":"IF(L134=\"\",\"\",INDEX(referentes!AK:AL,MATCH(L134,referentes!AL:AL,0),1))","v":""},"",null,133,{"$f":"IF(K134=\"\",\"\",INDEX('Otras referencias'!F:I,MATCH(K134,'Otras referencias'!I:I,0),1))","v":""},"",null,null,null,null,null,null,null,null,null,null,null,null,null,null,null,null,null,null,null,null,null,null,null,null,null,null,null,null,null,null,null,null,null,null,0,0,0,0,0,0,0,0,null,null,null,null,null,0,null,null,null,null,null,{"$f":"IF(R134<>\"\",CONCATENATE($A$2,DIGITADOR!$M$1,ROW()-2),\"\")","v":""},"",{"$f":"IF(E134=\"\",\"\",INDEX(referentes!D:E,MATCH(E134,referentes!E:E,0),1))","v":""},{"$f":"IF(F134=\"\",\"\",INDEX(referentes!J:K,MATCH(F134,referentes!K:K,0),1))","v":""},{"$f":"IF(AI134=\"\",\"\",INDEX(referentes!M:N,MATCH(AI134,referentes!N:N,0),1))","v":""},{"$f":"IF(I134=\"\",\"\",INDEX(referentes!P:Q,MATCH(I134,referentes!Q:Q,0),1))","v":""},{"$f":"IF(J134=\"\",\"\",INDEX(referentes!S:T,MATCH(J134,referentes!T:T,0),1))","v":""},{"$f":"IF(AB134=\"\",\"\",INDEX(referentes!V:W,MATCH(AB134,referentes!W:W,0),1))","v":""},{"$f":"IF(Y134=\"\",\"\",INDEX(referentes!AZ:BA,MATCH(Y134,referentes!BA:BA,0),1))","v":""},"","","","",{"$f":"IF(BP134=\"\",\"\",INDEX(referentes!AE:AF,MATCH(BP134,referentes!AF:AF,0),1))","v":""},{"$f":"IF(BQ134=\"\",\"\",INDEX(referentes!AH:AI,MATCH(BQ134,referentes!AI:AI,0),1))","v":""},null,{"$f":"IF(D134=\"\",\"\",INDEX(referentes!A:B,MATCH(D134,referentes!B:B,0),1))","v":""},{"$f":"IF(AT134=\"\",\"\",INDEX(referentes!Y:Z,MATCH(AT134,referentes!Z:Z,0),1))","v":""},{"$f":"IF(AU134=\"\",\"\",INDEX(referentes!AB:AC,MATCH(AU134,referentes!AC:AC,0),1))","v":""}]
[null,{"$f":"IF(BT135=\"\",\"\",IF(COUNTIF($BT135:BT135, BT135)>1, \"\", BT135))","v":""},null,null,null,null,null,null,null,null,null,null,{"$f":"IF(L135=\"\",\"\",INDEX(referentes!AK:AL,MATCH(L135,referentes!AL:AL,0),1))","v":""},"",null,134,{"$f":"IF(K135=\"\",\"\",INDEX('Otras referencias'!F:I,MATCH(K135,'Otras referencias'!I:I,0),1))","v":""},"",null,null,null,null,null,null,null,null,null,null,null,null,null,null,null,null,null,null,null,null,null,null,null,null,null,null,null,null,null,null,null,null,null,null,0,0,0,0,0,0,0,0,null,null,null,null,null,0,null,null,null,null,null,{"$f":"IF(R135<>\"\",CONCATENATE($A$2,DIGITADOR!$M$1,ROW()-2),\"\")","v":""},"",{"$f":"IF(E135=\"\",\"\",INDEX(referentes!D:E,MATCH(E135,referentes!E:E,0),1))","v":""},{"$f":"IF(F135=\"\",\"\",INDEX(referentes!J:K,MATCH(F135,referentes!K:K,0),1))","v":""},{"$f":"IF(AI135=\"\",\"\",INDEX(referentes!M:N,MATCH(AI135,referentes!N:N,0),1))","v":""},{"$f":"IF(I135=\"\",\"\",INDEX(referentes!P:Q,MATCH(I135,referentes!Q:Q,0),1))","v":""},{"$f":"IF(J135=\"\",\"\",INDEX(referentes!S:T,MATCH(J135,referentes!T:T,0),1))","v":""},{"$f":"IF(AB135=\"\",\"\",INDEX(referentes!V:W,MATCH(AB135,referentes!W:W,0),1))","v":""},{"$f":"IF(Y135=\"\",\"\",INDEX(referentes!AZ:BA,MATCH(Y135,referentes!BA:BA,0),1))","v":""},"","","","",{"$f":"IF(BP135=\"\",\"\",INDEX(referentes!AE:AF,MATCH(BP135,referentes!AF:AF,0),1))","v":""},{"$f":"IF(BQ135=\"\",\"\",INDEX(referentes!AH:AI,MATCH(BQ135,referentes!AI:AI,0),1))","v":""},null,{"$f":"IF(D135=\"\",\"\",INDEX(referentes!A:B,MATCH(D135,referentes!B:B,0),1))","v":""},{"$f":"IF(AT135=\"\",\"\",INDEX(referentes!Y:Z,MATCH(AT135,referentes!Z:Z,0),1))","v":""},{"$f":"IF(AU135=\"\",\"\",INDEX(referentes!AB:AC,MATCH(AU135,referentes!AC:AC,0),1))","v":""}]
[null,{"$f":"IF(BT136=\"\",\"\",IF(COUNTIF($BT136:BT136, BT136)>1, \"\", BT136))","v":""},null,null,null,null,null,null,null,null,null,null,{"$f":"IF(L136=\"\",\"\",INDEX(referentes!AK:AL,MATCH(L136,referentes!AL:AL,0),1))","v":""},"",null,135,{"$f":"IF(K136=\"\",\"\",INDEX('Otras referencias'!F:I,MATCH(K136,'Otras referencias'!I:I,0),1))","v":""},"",null,null,null,null,null,null,null,null,null,null,null,null,null,null,null,null,null,null,null,null,null,null,null,null,null,null,null,null,null,null,null,null,null,null,0,0,0,0,0,0,0,0,null,null,null,null,null,0,null,null,null,null,null,{"$f":"IF(R136<>\"\",CONCATENATE($A$2,DIGITADOR!$M$1,ROW()-2),\"\")","v":""},"",{"$f":"IF(E136=\"\",\"\",INDEX(referentes!D:E,MATCH(E136,referentes!E:E,0),1))","v":""},{"$f":"IF(F136=\"\",\"\",INDEX(referentes!J:K,MATCH(F136,referentes!K:K,0),1))","v":""},{"$f":"IF(AI136=\"\",\"\",INDEX(referentes!M:N,MATCH(AI136,referentes!N:N,0),1))","v":""},{"$f":"IF(I136=\"\",\"\",INDEX(referentes!P:Q,MATCH(I136,referentes!Q:Q,0),1))","v":""},{"$f":"IF(J136=\"\",\"\",INDEX(referentes!S:T,MATCH(J136,referentes!T:T,0),1))","v":""},{"$f":"IF(AB136=\"\",\"\",INDEX(referentes!V:W,MATCH(AB136,referentes!W:W,0),1))","v":""},{"$f":"IF(Y136=\"\",\"\",INDEX(referentes!AZ:BA,MATCH(Y136,referentes!BA:BA,0),1))","v":""},"","","","",{"$f":"IF(BP136=\"\",\"\",INDEX(referentes!AE:AF,MATCH(BP136,referentes!AF:AF,0),1))","v":""},{"$f":"IF(BQ136=\"\",\"\",INDEX(referentes!AH:AI,MATCH(BQ136,referentes!AI:AI,0),1))","v":""},null,{"$f":"IF(D136=\"\",\"\",INDEX(referentes!A:B,MATCH(D136,referentes!B:B,0),1))","v":""},{"$f":"IF(AT136=\"\",\"\",INDEX(referentes!Y:Z,MATCH(AT136,referentes!Z:Z,0),1))","v":""},{"$f":"IF(AU136=\"\",\"\",INDEX(referentes!AB:AC,MATCH(AU136,referentes!AC:AC,0),1))","v":""}]
[null,{"$f":"IF(BT137=\"\",\"\",IF(COUNTIF($BT137:BT137, BT137)>1, \"\", BT137))","v":""},null,null,null,null,null,null,null,null,null,null,{"$f":"IF(L137=\"\",\"\",INDEX(referentes!AK:AL,MATCH(L137,referentes!AL:AL,0),1))","v":""},"",null,136,{"$f":"IF(K137=\"\",\"\",INDEX('Otras referencias'!F:I,MATCH(K137,'Otras referencias'!I:I,0),1))","v":""},"",null,null,null,null,null,null,null,null,null,null,null,null,null,null,null,null,null,null,null,null,null,null,null,null,null,null,null,null,null,null,null,null,null,null,0,0,0,0,0,0,0,0,null,null,null,null,null,0,null,null,null,null,null,{"$f":"IF(R137<>\"\",CONCATENATE($A$2,DIGITADOR!$M$1,ROW()-2),\"\")","v":""},"",{"$f":"IF(E137=\"\",\"\",INDEX(referentes!D:E,MATCH(E137,referentes!E:E,0),1))","v":""},{"$f":"IF(F137=\"\",\"\",INDEX(referentes!J:K,MATCH(F137,referentes!K:K,0),1))","v":""},{"$f":"IF(AI137=\"\",\"\",INDEX(referentes!M:N,MATCH(AI137,referentes!N:N,0),1))","v":""},{"$f":"IF(I137=\"\",\"\",INDEX(referentes!P:Q,MATCH(I137,referentes!Q:Q,0),1))","v":""},{"$f":"IF(J137=\"\",\"\",INDEX(referentes!S:T,MATCH(J137,referentes!T:T,0),1))","v":""},{"$f":"IF(AB137=\"\",\"\",INDEX(referentes!V:W,MATCH(AB137,referentes!W:W,0),1))","v":""},{"$f":"IF(Y137=\"\",\"\",INDEX(referentes!AZ:BA,MATCH(Y137,referentes!BA:BA,0),1))","v":""},"","","","",{"$f":"IF(BP137=\"\",\"\",INDEX(referentes!AE:AF,MATCH(BP137,referentes!AF:AF,0),1))","v":""},{"$f":"IF(BQ137=\"\",\"\",INDEX(referentes!AH:AI,MATCH(BQ137,referentes!AI:AI,0),1))","v":""},null,{"$f":"IF(D137=\"\",\"\",INDEX(referentes!A:B,MATCH(D137,referentes!B:B,0),1))","v":""},{"$f":"IF(AT137=\"\",\"\",INDEX(referentes!Y:Z,MATCH(AT137,referentes!Z:Z,0),1))","v":""},{"$f":"IF(AU137=\"\",\"\",INDEX(referentes!AB:AC,MATCH(AU137,referentes!AC:AC,0),1))","v":""}]
[null,{"$f":"IF(BT138=\"\",\"\",IF(COUNTIF($BT138:BT138, BT138)>1, \"\", BT138))","v":""},null,null,null,null,null,null,null,null,null,null,{"$f":"IF(L138=\"\",\"\",INDEX(referentes!AK:AL,MATCH(L138,referentes!AL:AL,0),1))","v":""},"",null,137,{"$f":"IF(K138=\"\",\"\",INDEX('Otras referencias'!F:I,MATCH(K138,'Otras referencias'!I:I,0),1))","v":""},"",null,null,null,null,null,null,null,null,null,null,null,null,null,null,null,null,null,null,null,null,null,null,null,null,null,null,null,null,null,null,null,null,null,null,0,0,0,0,0,0,0,0,null,null,null,null,null,0,null,null,null,null,null,{"$f":"IF(R138<>\"\",CONCATENATE($A$2,DIGITADOR!$M$1,ROW()-2),\"\")","v":""},"",{"$f":"IF(E138=\"\",\"\",INDEX(referentes!D:E,MATCH(E138,referentes!E:E,0),1))","v":""},{"$f":"IF(F138=\"\",\"\",INDEX(referentes!J:K,MATCH(F138,referentes!K:K,0),1))","v":""},{"$f":"IF(AI138=\"\",\"\",INDEX(referentes!M:N,MATCH(AI138,referentes!N:N,0),1))","v":""},{"$f":"IF(I138=\"\",\"\",INDEX(referentes!P:Q,MATCH(I138,referentes!Q:Q,0),1))","v":""},{"$f":"IF(J138=\"\",\"\",INDEX(referentes!S:T,MATCH(J138,referentes!T:T,0),1))","v":""},{"$f":"IF(AB138=\"\",\"\",INDEX(referentes!V:W,MATCH(AB138,referentes!W:W,0),1))","v":""},{"$f":"IF(Y138=\"\",\"\",INDEX(referentes!AZ:BA,MATCH(Y138,referentes!BA:BA,0),1))","v":""},"","","","",{"$f":"IF(BP138=\"\",\"\",INDEX(referentes!AE:AF,MATCH(BP138,referentes!AF:AF,0),1))","v":""},{"$f":"IF(BQ138=\"\",\"\",INDEX(referentes!AH:AI,MATCH(BQ138,referentes!AI:AI,0),1))","v":""},null,{"$f":"IF(D138=\"\",\"\",INDEX(referentes!A:B,MATCH(D138,referentes!B:B,0),1))","v":""},{"$f":"IF(AT138=\"\",\"\",INDEX(referentes!Y:Z,MATCH(AT138,referentes!Z:Z,0),1))","v":""},{"$f":"IF(AU138=\"\",\"\",INDEX(referentes!AB:AC,MATCH(AU138,referentes!AC:AC,0),1))","v":""}]
[null,{"$f":"IF(BT139=\"\",\"\",IF(COUNTIF($BT139:BT139, BT139)>1, \"\", BT139))","v":""},null,null,null,null,null,null,null,null,null,null,{"$f":"IF(L139=\"\",\"\",INDEX(referentes!AK:AL,MATCH(L139,referentes!AL:AL,0),1))","v":""},"",null,138,{"$f":"IF(K139=\"\",\"\",INDEX('Otras referencias'!F:I,MATCH(K139,'Otras referencias'!I:I,0),1))","v":""},"",null,null,null,null,null,null,null,null,null,null,null,null,null,null,null,null,null,null,null,null,null,null,null,null,null,null,null,null,null,null,null,null,null,null,0,0,0,0,0,0,0,0,null,null,null,null,null,0,null,null,null,null,null,{"$f":"IF(R139<>\"\",CONCATENATE($A$2,DIGITADOR!$M$1,ROW()-2),\"\")","v":""},"",{"$f":"IF(E139=\"\",\"\",INDEX(referentes!D:E,MATCH(E139,referentes!E:E,0),1))","v":""},{"$f":"IF(F139=\"\",\"\",INDEX(referentes!J:K,MATCH(F139,referentes!K:K,0),1))","v":""},{"$f":"IF(AI139=\"\",\"\",INDEX(referentes!M:N,MATCH(AI139,referentes!N:N,0),1))","v":""},{"$f":"IF(I139=\"\",\"\",INDEX(referentes!P:Q,MATCH(I139,referentes!Q:Q,0),1))","v":""},{"$f":"IF(J139=\"\",\"\",INDEX(referentes!S:T,MATCH(J139,referentes!T:T,0),1))","v":""},{"$f":"IF(AB139=\"\",\"\",INDEX(referentes!V:W,MATCH(AB139,referentes!W:W,0),1))","v":""},{"$f":"IF(Y139=\"\",\"\",INDEX(referentes!AZ:BA,MATCH(Y139,referentes!BA:BA,0),1))","v":""},"","","","",{"$f":"IF(BP139=\"\",\"\",INDEX(referentes!AE:AF,MATCH(BP139,referentes!AF:AF,0),1))","v":""},{"$f":"IF(BQ139=\"\",\"\",INDEX(referentes!AH:AI,MATCH(BQ139,referentes!AI:AI,0),1))","v":""},null,{"$f":"IF(D139=\"\",\"\",INDEX(referentes!A:B,MATCH(D139,referentes!B:B,0),1))","v":""},{"$f":"IF(AT139=\"\",\"\",INDEX(referentes!Y:Z,MATCH(AT139,referentes!Z:Z,0),1))","v":""},{"$f":"IF(AU139=\"\",\"\",INDEX(referentes!AB:AC,MATCH(AU139,referentes!AC:AC,0),1))","v":""}]
[null,{"$f":"IF(BT140=\"\",\"\",IF(COUNTIF($BT140:BT140, BT140)>1, \"\", BT140))","v":""},null,null,null,null,null,null,null,null,null,null,{"$f":"IF(L140=\"\",\"\",INDEX(referentes!AK:AL,MATCH(L140,referentes!AL:AL,0),1))","v":""},"",null,139,{"$f":"IF(K140=\"\",\"\",INDEX('Otras referencias'!F:I,MATCH(K140,'Otras referencias'!I:I,0),1))","v":""},"",null,null,null,null,null,null,null,null,null,null,null,null,null,null,null,null,null,null,null,null,null,null,null,null,null,null,null,null,null,null,null,null,null,null,0,0,0,0,0,0,0,0,null,null,null,null,null,0,null,null,null,null,null,{"$f":"IF(R140<>\"\",CONCATENATE($A$2,DIGITADOR!$M$1,ROW()-2),\"\")","v":""},"",{"$f":"IF(E140=\"\",\"\",INDEX(referentes!D:E,MATCH(E140,referentes!E:E,0),1))","v":""},{"$f":"IF(F140=\"\",\"\",INDEX(referentes!J:K,MATCH(F140,referentes!K:K,0),1))","v":""},{"$f":"IF(AI140=\"\",\"\",INDEX(referentes!M:N,MATCH(AI140,referentes!N:N,0),1))","v":""},{"$f":"IF(I140=\"\",\"\",INDEX(referentes!P:Q,MATCH(I140,referentes!Q:Q,0),1))","v":""},{"$f":"IF(J140=\"\",\"\",INDEX(referentes!S:T,MATCH(J140,referentes!T:T,0),1))","v":""},{"$f":"IF(AB140=\"\",\"\",INDEX(referentes!V:W,MATCH(AB140,referentes!W:W,0),1))","v":""},{"$f":"IF(Y140=\"\",\"\",INDEX(referentes!AZ:BA,MATCH(Y140,referentes!BA:BA,0),1))","v":""},"","","","",{"$f":"IF(BP140=\"\",\"\",INDEX(referentes!AE:AF,MATCH(BP140,referentes!AF:AF,0),1))","v":""},{"$f":"IF(BQ140=\"\",\"\",INDEX(referentes!AH:AI,MATCH(BQ140,referentes!AI:AI,0),1))","v":""},null,{"$f":"IF(D140=\"\",\"\",INDEX(referentes!A:B,MATCH(D140,referentes!B:B,0),1))","v":""},{"$f":"IF(AT140=\"\",\"\",INDEX(referentes!Y:Z,MATCH(AT140,referentes!Z:Z,0),1))","v":""},{"$f":"IF(AU140=\"\",\"\",INDEX(referentes!AB:AC,MATCH(AU140,referentes!AC:AC,0),1))","v":""}]
[null,{"$f":"IF(BT141=\"\",\"\",IF(COUNTIF($BT141:BT141, BT141)>1, \"\", BT141))","v":""},null,null,null,null,null,null,null,null,null,null,{"$f":"IF(L141=\"\",\"\",INDEX(referentes!AK:AL,MATCH(L141,referentes!AL:AL,0),1))","v":""},"",null,140,{"$f":"IF(K141=\"\",\"\",INDEX('Otras referencias'!F:I,MATCH(K141,'Otras referencias'!I:I,0),1))","v":""},"",null,null,null,null,null,null,null,null,null,null,null,null,null,null,null,null,null,null,null,null,null,null,null,null,null,null,null,null,null,null,null,null,null,null,0,0,0,0,0,0,0,0,null,null,null,null,null,0,null,null,null,null,null,{"$f":"IF(R141<>\"\",CONCATENATE($A$2,DIGITADOR!$M$1,ROW()-2),\"\")","v":""},"",{"$f":"IF(E141=\"\",\"\",INDEX(referentes!D:E,MATCH(E141,referentes!E:E,0),1))","v":""},{"$f":"IF(F141=\"\",\"\",INDEX(referentes!J:K,MATCH(F141,referentes!K:K,0),1))","v":""},{"$f":"IF(AI141=\"\",\"\",INDEX(referentes!M:N,MATCH(AI141,referentes!N:N,0),1))","v":""},{"$f":"IF(I141=\"\",\"\",INDEX(referentes!P:Q,MATCH(I141,referentes!Q:Q,0),1))","v":""},{"$f":"IF(J141=\"\",\"\",INDEX(referentes!S:T,MATCH(J141,referentes!T:T,0),1))","v":""},{"$f":"IF(AB141=\"\",\"\",INDEX(referentes!V:W,MATCH(AB141,referentes!W:W,0),1))","v":""},{"$f":"IF(Y141=\"\",\"\",INDEX(referentes!AZ:BA,MATCH(Y141,referentes!BA:BA,0),1))","v":""},"","","","",{"$f":"IF(BP141=\"\",\"\",INDEX(referentes!AE:AF,MATCH(BP141,referentes!AF:AF,0),1))","v":""},{"$f":"IF(BQ141=\"\",\"\",INDEX(referentes!AH:AI,MATCH(BQ141,referentes!AI:AI,0),1))","v":""},null,{"$f":"IF(D141=\"\",\"\",INDEX(referentes!A:B,MATCH(D141,referentes!B:B,0),1))","v":""},{"$f":"IF(AT141=\"\",\"\",INDEX(referentes!Y:Z,MATCH(AT141,referentes!Z:Z,0),1))","v":""},{"$f":"IF(AU141=\"\",\"\",INDEX(referentes!AB:AC,MATCH(AU141,referentes!AC:AC,0),1))","v":""}]
[null,{"$f":"IF(BT142=\"\",\"\",IF(COUNTIF($BT142:BT142, BT142)>1, \"\", BT142))","v":""},null,null,null,null,null,null,null,null,null,null,{"$f":"IF(L142=\"\",\"\",INDEX(referentes!AK:AL,MATCH(L142,referentes!AL:AL,0),1))","v":""},"",null,141,{"$f":"IF(K142=\"\",\"\",INDEX('Otras referencias'!F:I,MATCH(K142,'Otras referencias'!I:I,0),1))","v":""},"",null,null,null,null,null,null,null,null,null,null,null,null,null,null,null,null,null,null,null,null,null,null,null,null,null,null,null,null,null,null,null,null,null,null,0,0,0,0,0,0,0,0,null,null,null,null,null,0,null,null,null,null,null,{"$f":"IF(R142<>\"\",CONCATENATE($A$2,DIGITADOR!$M$1,ROW()-2),\"\")","v":""},"",{"$f":"IF(E142=\"\",\"\",INDEX(referentes!D:E,MATCH(E142,referentes!E:E,0),1))","v":""},{"$f":"IF(F142=\"\",\"\",INDEX(referentes!J:K,MATCH(F142,referentes!K:K,0),1))","v":""},{"$f":"IF(AI142=\"\",\"\",INDEX(referentes!M:N,MATCH(AI142,referentes!N:N,0),1))","v":""},{"$f":"IF(I142=\"\",\"\",INDEX(referentes!P:Q,MATCH(I142,referentes!Q:Q,0),1))","v":""},{"$f":"IF(J142=\"\",\"\",INDEX(referentes!S:T,MATCH(J142,referentes!T:T,0),1))","v":""},{"$f":"IF(AB142=\"\",\"\",INDEX(referentes!V:W,MATCH(AB142,referentes!W:W,0),1))","v":""},{"$f":"IF(Y142=\"\",\"\",INDEX(referentes!AZ:BA,MATCH(Y142,referentes!BA:BA,0),1))","v":""},"","","","",{"$f":"IF(BP142=\"\",\"\",INDEX(referentes!AE:AF,MATCH(BP142,referentes!AF:AF,0),1))","v":""},{"$f":"IF(BQ142=\"\",\"\",INDEX(referentes!AH:AI,MATCH(BQ142,referentes!AI:AI,0),1))","v":""},null,{"$f":"IF(D142=\"\",\"\",INDEX(referentes!A:B,MATCH(D142,referentes!B:B,0),1))","v":""},{"$f":"IF(AT142=\"\",\"\",INDEX(referentes!Y:Z,MATCH(AT142,referentes!Z:Z,0),1))","v":""},{"$f":"IF(AU142=\"\",\"\",INDEX(referentes!AB:AC,MATCH(AU142,referentes!AC:AC,0),1))","v":""}]
[null,{"$f":"IF(BT143=\"\",\"\",IF(COUNTIF($BT143:BT143, BT143)>1, \"\", BT143))","v":""},null,null,null,null,null,null,null,null,null,null,{"$f":"IF(L143=\"\",\"\",INDEX(referentes!AK:AL,MATCH(L143,referentes!AL:AL,0),1))","v":""},"",null,142,{"$f":"IF(K143=\"\",\"\",INDEX('Otras referencias'!F:I,MATCH(K143,'Otras referencias'!I:I,0),1))","v":""},"",null,null,null,null,null,null,null,null,null,null,null,null,null,null,null,null,null,null,null,null,null,null,null,null,null,null,null,null,null,null,null,null,null,null,0,0,0,0,0,0,0,0,null,null,null,null,null,0,null,null,null,null,null,{"$f":"IF(R143<>\"\",CONCATENATE($A$2,DIGITADOR!$M$1,ROW()-2),\"\")","v":""},"",{"$f":"IF(E143=\"\",\"\",INDEX(referentes!D:E,MATCH(E143,referentes!E:E,0),1))","v":""},{"$f":"IF(F143=\"\",\"\",INDEX(referentes!J:K,MATCH(F143,referentes!K:K,0),1))","v":""},{"$f":"IF(AI143=\"\",\"\",INDEX(referentes!M:N,MATCH(AI143,referentes!N:N,0),1))","v":""},{"$f":"IF(I143=\"\",\"\",INDEX(referentes!P:Q,MATCH(I143,referentes!Q:Q,0),1))","v":""},{"$f":"IF(J143=\"\",\"\",INDEX(referentes!S:T,MATCH(J143,referentes!T:T,0),1))","v":""},{"$f":"IF(AB143=\"\",\"\",INDEX(referentes!V:W,MATCH(AB143,referentes!W:W,0),1))","v":""},{"$f":"IF(Y143=\"\",\"\",INDEX(referentes!AZ:BA,MATCH(Y143,referentes!BA:BA,0),1))","v":""},"","","","",{"$f":"IF(BP143=\"\",\"\",INDEX(referentes!AE:AF,MATCH(BP143,referentes!AF:AF,0),1))","v":""},{"$f":"IF(BQ143=\"\",\"\",INDEX(referentes!AH:AI,MATCH(BQ143,referentes!AI:AI,0),1))","v":""},null,{"$f":"IF(D143=\"\",\"\",INDEX(referentes!A:B,MATCH(D143,referentes!B:B,0),1))","v":""},{"$f":"IF(AT143=\"\",\"\",INDEX(referentes!Y:Z,MATCH(AT143,referentes!Z:Z,0),1))","v":""},{"$f":"IF(AU143=\"\",\"\",INDEX(referentes!AB:AC,MATCH(AU143,referentes!AC:AC,0),1))","v":""}]
[null,{"$f":"IF(BT144=\"\",\"\",IF(COUNTIF($BT144:BT144, BT144)>1, \"\", BT144))","v":""},null,null,null,null,null,null,null,null,null,null,{"$f":"IF(L144=\"\",\"\",INDEX(referentes!AK:AL,MATCH(L144,referentes!AL:AL,0),1))","v":""},"",null,143,{"$f":"IF(K144=\"\",\"\",INDEX('Otras referencias'!F:I,MATCH(K144,'Otras referencias'!I:I,0),1))","v":""},"",null,null,null,null,null,null,null,null,null,null,null,null,null,null,null,null,null,null,null,null,null,null,null,null,null,null,null,null,null,null,null,null,null,null,0,0,0,0,0,0,0,0,null,null,null,null,null,0,null,null,null,null,null,{"$f":"IF(R144<>\"\",CONCATENATE($A$2,DIGITADOR!$M$1,ROW()-2),\"\")","v":""},"",{"$f":"IF(E144=\"\",\"\",INDEX(referentes!D:E,MATCH(E144,referentes!E:E,0),1))","v":""},{"$f":"IF(F144=\"\",\"\",INDEX(referentes!J:K,MATCH(F144,referentes!K:K,0),1))","v":""},{"$f":"IF(AI144=\"\",\"\",INDEX(referentes!M:N,MATCH(AI144,referentes!N:N,0),1))","v":""},{"$f":"IF(I144=\"\",\"\",INDEX(referentes!P:Q,MATCH(I144,referentes!Q:Q,0),1))","v":""},{"$f":"IF(J144=\"\",\"\",INDEX(referentes!S:T,MATCH(J144,referentes!T:T,0),1))","v":""},{"$f":"IF(AB144=\"\",\"\",INDEX(referentes!V:W,MATCH(AB144,referentes!W:W,0),1))","v":""},{"$f":"IF(Y144=\"\",\"\",INDEX(referentes!AZ:BA,MATCH(Y144,referentes!BA:BA,0),1))","v":""},"","","","",{"$f":"IF(BP144=\"\",\"\",INDEX(referentes!AE:AF,MATCH(BP144,referentes!AF:AF,0),1))","v":""},{"$f":"IF(BQ144=\"\",\"\",INDEX(referentes!AH:AI,MATCH(BQ144,referentes!AI:AI,0),1))","v":""},null,{"$f":"IF(D144=\"\",\"\",INDEX(referentes!A:B,MATCH(D144,referentes!B:B,0),1))","v":""},{"$f":"IF(AT144=\"\",\"\",INDEX(referentes!Y:Z,MATCH(AT144,referentes!Z:Z,0),1))","v":""},{"$f":"IF(AU144=\"\",\"\",INDEX(referentes!AB:AC,MATCH(AU144,referentes!AC:AC,0),1))","v":""}]
[null,{"$f":"IF(BT145=\"\",\"\",IF(COUNTIF($BT145:BT145, BT145)>1, \"\", BT145))","v":""},null,null,null,null,null,null,null,null,null,null,{"$f":"IF(L145=\"\",\"\",INDEX(referentes!AK:AL,MATCH(L145,referentes!AL:AL,0),1))","v":""},"",null,144,{"$f":"IF(K145=\"\",\"\",INDEX('Otras referencias'!F:I,MATCH(K145,'Otras referencias'!I:I,0),1))","v":""},"",null,null,null,null,null,null,null,null,null,null,null,null,null,null,null,null,null,null,null,null,null,null,null,null,null,null,null,null,null,null,null,null,null,null,0,0,0,0,0,0,0,0,null,null,null,null,null,0,null,null,null,null,null,{"$f":"IF(R145<>\"\",CONCATENATE($A$2,DIGITADOR!$M$1,ROW()-2),\"\")","v":""},"",{"$f":"IF(E145=\"\",\"\",INDEX(referentes!D:E,MATCH(E145,referentes!E:E,0),1))","v":""},{"$f":"IF(F145=\"\",\"\",INDEX(referentes!J:K,MATCH(F145,referentes!K:K,0),1))","v":""},{"$f":"IF(AI145=\"\",\"\",INDEX(referentes!M:N,MATCH(AI145,referentes!N:N,0),1))","v":""},{"$f":"IF(I145=\"\",\"\",INDEX(referentes!P:Q,MATCH(I145,referentes!Q:Q,0),1))","v":""},{"$f":"IF(J145=\"\",\"\",INDEX(referentes!S:T,MATCH(J145,referentes!T:T,0),1))","v":""},{"$f":"IF(AB145=\"\",\"\",INDEX(referentes!V:W,MATCH(AB145,referentes!W:W,0),1))","v":""},{"$f":"IF(Y145=\"\",\"\",INDEX(referentes!AZ:BA,MATCH(Y145,referentes!BA:BA,0),1))","v":""},"","","","",{"$f":"IF(BP145=\"\",\"\",INDEX(referentes!AE:AF,MATCH(BP145,referentes!AF:AF,0),1))","v":""},{"$f":"IF(BQ145=\"\",\"\",INDEX(referentes!AH:AI,MATCH(BQ145,referentes!AI:AI,0),1))","v":""},null,{"$f":"IF(D145=\"\",\"\",INDEX(referentes!A:B,MATCH(D145,referentes!B:B,0),1))","v":""},{"$f":"IF(AT145=\"\",\"\",INDEX(referentes!Y:Z,MATCH(AT145,referentes!Z:Z,0),1))","v":""},{"$f":"IF(AU145=\"\",\"\",INDEX(referentes!AB:AC,MATCH(AU145,referentes!AC:AC,0),1))","v":""}]
[null,{"$f":"IF(BT146=\"\",\"\",IF(COUNTIF($BT146:BT146, BT146)>1, \"\", BT146))","v":""},null,null,null,null,null,null,null,null,null,null,{"$f":"IF(L146=\"\",\"\",INDEX(referentes!AK:AL,MATCH(L146,referentes!AL:AL,0),1))","v":""},"",null,145,{"$f":"IF(K146=\"\",\"\",INDEX('Otras referencias'!F:I,MATCH(K146,'Otras referencias'!I:I,0),1))","v":""},"",null,null,null,null,null,null,null,null,null,null,null,null,null,null,null,null,null,null,null,null,null,null,null,null,null,null,null,null,null,null,null,null,null,null,0,0,0,0,0,0,0,0,null,null,null,null,null,0,null,null,null,null,null,{"$f":"IF(R146<>\"\",CONCATENATE($A$2,DIGITADOR!$M$1,ROW()-2),\"\")","v":""},"",{"$f":"IF(E146=\"\",\"\",INDEX(referentes!D:E,MATCH(E146,referentes!E:E,0),1))","v":""},{"$f":"IF(F146=\"\",\"\",INDEX(referentes!J:K,MATCH(F146,referentes!K:K,0),1))","v":""},{"$f":"IF(AI146=\"\",\"\",INDEX(referentes!M:N,MATCH(AI146,referentes!N:N,0),1))","v":""},{"$f":"IF(I146=\"\",\"\",INDEX(referentes!P:Q,MATCH(I146,referentes!Q:Q,0),1))","v":""},{"$f":"IF(J146=\"\",\"\",INDEX(referentes!S:T,MATCH(J146,referentes!T:T,0),1))","v":""},{"$f":"IF(AB146=\"\",\"\",INDEX(referentes!V:W,MATCH(AB146,referentes!W:W,0),1))","v":""},{"$f":"IF(Y146=\"\",\"\",INDEX(referentes!AZ:BA,MATCH(Y146,referentes!BA:BA,0),1))","v":""},"","","","",{"$f":"IF(BP146=\"\",\"\",INDEX(referentes!AE:AF,MATCH(BP146,referentes!AF:AF,0),1))","v":""},{"$f":"IF(BQ146=\"\",\"\",INDEX(referentes!AH:AI,MATCH(BQ146,referentes!AI:AI,0),1))","v":""},null,{"$f":"IF(D146=\"\",\"\",INDEX(referentes!A:B,MATCH(D146,referentes!B:B,0),1))","v":""},{"$f":"IF(AT146=\"\",\"\",INDEX(referentes!Y:Z,MATCH(AT146,referentes!Z:Z,0),1))","v":""},{"$f":"IF(AU146=\"\",\"\",INDEX(referentes!AB:AC,MATCH(AU146,referentes!AC:AC,0),1))","v":""}]
[null,{"$f":"IF(BT147=\"\",\"\",IF(COUNTIF($BT147:BT147, BT147)>1, \"\", BT147))","v":""},null,null,null,null,null,null,null,null,null,null,{"$f":"IF(L147=\"\",\"\",INDEX(referentes!AK:AL,MATCH(L147,referentes!AL:AL,0),1))","v":""},"",null,146,{"$f":"IF(K147=\"\",\"\",INDEX('Otras referencias'!F:I,MATCH(K147,'Otras referencias'!I:I,0),1))","v":""},"",null,null,null,null,null,null,null,null,null,null,null,null,null,null,null,null,null,null,null,null,null,null,null,null,null,null,null,null,null,null,null,null,null,null,0,0,0,0,0,0,0,0,null,null,null,null,null,0,null,null,null,null,null,{"$f":"IF(R147<>\"\",CONCATENATE($A$2,DIGITADOR!$M$1,ROW()-2),\"\")","v":""},"",{"$f":"IF(E147=\"\",\"\",INDEX(referentes!D:E,MATCH(E147,referentes!E:E,0),1))","v":""},{"$f":"IF(F147=\"\",\"\",INDEX(referentes!J:K,MATCH(F147,referentes!K:K,0),1))","v":""},{"$f":"IF(AI147=\"\",\"\",INDEX(referentes!M:N,MATCH(AI147,referentes!N:N,0),1))","v":""},{"$f":"IF(I147=\"\",\"\",INDEX(referentes!P:Q,MATCH(I147,referentes!Q:Q,0),1))","v":""},{"$f":"IF(J147=\"\",\"\",INDEX(referentes!S:T,MATCH(J147,referentes!T:T,0),1))","v":""},{"$f":"IF(AB147=\"\",\"\",INDEX(referentes!V:W,MATCH(AB147,referentes!W:W,0),1))","v":""},{"$f":"IF(Y147=\"\",\"\",INDEX(referentes!AZ:BA,MATCH(Y147,referentes!BA:BA,0),1))","v":""},"","","","",{"$f":"IF(BP147=\"\",\"\",INDEX(referentes!AE:AF,MATCH(BP147,referentes!AF:AF,0),1))","v":""},{"$f":"IF(BQ147=\"\",\"\",INDEX(referentes!AH:AI,MATCH(BQ147,referentes!AI:AI,0),1))","v":""},null,{"$f":"IF(D147=\"\",\"\",INDEX(referentes!A:B,MATCH(D147,referentes!B:B,0),1))","v":""},{"$f":"IF(AT147=\"\",\"\",INDEX(referentes!Y:Z,MATCH(AT147,referentes!Z:Z,0),1))","v":""},{"$f":"IF(AU147=\"\",\"\",INDEX(referentes!AB:AC,MATCH(AU147,referentes!AC:AC,0),1))","v":""}]
[null,{"$f":"IF(BT148=\"\",\"\",IF(COUNTIF($BT148:BT148, BT148)>1, \"\", BT148))","v":""},null,null,null,null,null,null,null,null,null,null,{"$f":"IF(L148=\"\",\"\",INDEX(referentes!AK:AL,MATCH(L148,referentes!AL:AL,0),1))","v":""},"",null,147,{"$f":"IF(K148=\"\",\"\",INDEX('Otras referencias'!F:I,MATCH(K148,'Otras referencias'!I:I,0),1))","v":""},"",null,null,null,null,null,null,null,null,null,null,null,null,null,null,null,null,null,null,null,null,null,null,null,null,null,null,null,null,null,null,null,null,null,null,0,0,0,0,0,0,0,0,null,null,null,null,null,0,null,null,null,null,null,{"$f":"IF(R148<>\"\",CONCATENATE($A$2,DIGITADOR!$M$1,ROW()-2),\"\")","v":""},"",{"$f":"IF(E148=\"\",\"\",INDEX(referentes!D:E,MATCH(E148,referentes!E:E,0),1))","v":""},{"$f":"IF(F148=\"\",\"\",INDEX(referentes!J:K,MATCH(F148,referentes!K:K,0),1))","v":""},{"$f":"IF(AI148=\"\",\"\",INDEX(referentes!M:N,MATCH(AI148,referentes!N:N,0),1))","v":""},{"$f":"IF(I148=\"\",\"\",INDEX(referentes!P:Q,MATCH(I148,referentes!Q:Q,0),1))","v":""},{"$f":"IF(J148=\"\",\"\",INDEX(referentes!S:T,MATCH(J148,referentes!T:T,0),1))","v":""},{"$f":"IF(AB148=\"\",\"\",INDEX(referentes!V:W,MATCH(AB148,referentes!W:W,0),1))","v":""},{"$f":"IF(Y148=\"\",\"\",INDEX(referentes!AZ:BA,MATCH(Y148,referentes!BA:BA,0),1))","v":""},"","","","",{"$f":"IF(BP148=\"\",\"\",INDEX(referentes!AE:AF,MATCH(BP148,referentes!AF:AF,0),1))","v":""},{"$f":"IF(BQ148=\"\",\"\",INDEX(referentes!AH:AI,MATCH(BQ148,referentes!AI:AI,0),1))","v":""},null,{"$f":"IF(D148=\"\",\"\",INDEX(referentes!A:B,MATCH(D148,referentes!B:B,0),1))","v":""},{"$f":"IF(AT148=\"\",\"\",INDEX(referentes!Y:Z,MATCH(AT148,referentes!Z:Z,0),1))","v":""},{"$f":"IF(AU148=\"\",\"\",INDEX(referentes!AB:AC,MATCH(AU148,referentes!AC:AC,0),1))","v":""}]
[null,{"$f":"IF(BT149=\"\",\"\",IF(COUNTIF($BT149:BT149, BT149)>1, \"\", BT149))","v":""},null,null,null,null,null,null,null,null,null,null,{"$f":"IF(L149=\"\",\"\",INDEX(referentes!AK:AL,MATCH(L149,referentes!AL:AL,0),1))","v":""},"",null,148,{"$f":"IF(K149=\"\",\"\",INDEX('Otras referencias'!F:I,MATCH(K149,'Otras referencias'!I:I,0),1))","v":""},"",null,null,null,null,null,null,null,null,null,null,null,null,null,null,null,null,null,null,null,null,null,null,null,null,null,null,null,null,null,null,null,null,null,null,0,0,0,0,0,0,0,0,null,null,null,null,null,0,null,null,null,null,null,{"$f":"IF(R149<>\"\",CONCATENATE($A$2,DIGITADOR!$M$1,ROW()-2),\"\")","v":""},"",{"$f":"IF(E149=\"\",\"\",INDEX(referentes!D:E,MATCH(E149,referentes!E:E,0),1))","v":""},{"$f":"IF(F149=\"\",\"\",INDEX(referentes!J:K,MATCH(F149,referentes!K:K,0),1))","v":""},{"$f":"IF(AI149=\"\",\"\",INDEX(referentes!M:N,MATCH(AI149,referentes!N:N,0),1))","v":""},{"$f":"IF(I149=\"\",\"\",INDEX(referentes!P:Q,MATCH(I149,referentes!Q:Q,0),1))","v":""},{"$f":"IF(J149=\"\",\"\",INDEX(referentes!S:T,MATCH(J149,referentes!T:T,0),1))","v":""},{"$f":"IF(AB149=\"\",\"\",INDEX(referentes!V:W,MATCH(AB149,referentes!W:W,0),1))","v":""},{"$f":"IF(Y149=\"\",\"\",INDEX(referentes!AZ:BA,MATCH(Y149,referentes!BA:BA,0),1))","v":""},"","","","",{"$f":"IF(BP149=\"\",\"\",INDEX(referentes!AE:AF,MATCH(BP149,referentes!AF:AF,0),1))","v":""},{"$f":"IF(BQ149=\"\",\"\",INDEX(referentes!AH:AI,MATCH(BQ149,referentes!AI:AI,0),1))","v":""},null,{"$f":"IF(D149=\"\",\"\",INDEX(referentes!A:B,MATCH(D149,referentes!B:B,0),1))","v":""},{"$f":"IF(AT149=\"\",\"\",INDEX(referentes!Y:Z,MATCH(AT149,referentes!Z:Z,0),1))","v":""},{"$f":"IF(AU149=\"\",\"\",INDEX(referentes!AB:AC,MATCH(AU149,referentes!AC:AC,0),1))","v":""}]
[null,{"$f":"IF(BT150=\"\",\"\",IF(COUNTIF($BT150:BT150, BT150)>1, \"\", BT150))","v":""},null,null,null,null,null,null,null,null,null,null,{"$f":"IF(L150=\"\",\"\",INDEX(referentes!AK:AL,MATCH(L150,referentes!AL:AL,0),1))","v":""},"",null,149,{"$f":"IF(K150=\"\",\"\",INDEX('Otras referencias'!F:I,MATCH(K150,'Otras referencias'!I:I,0),1))","v":""},"",null,null,null,null,null,null,null,null,null,null,null,null,null,null,null,null,null,null,null,null,null,null,null,null,null,null,null,null,null,null,null,null,null,null,0,0,0,0,0,0,0,0,null,null,null,null,null,0,null,null,null,null,null,{"$f":"IF(R150<>\"\",CONCATENATE($A$2,DIGITADOR!$M$1,ROW()-2),\"\")","v":""},"",{"$f":"IF(E150=\"\",\"\",INDEX(referentes!D:E,MATCH(E150,referentes!E:E,0),1))","v":""},{"$f":"IF(F150=\"\",\"\",INDEX(referentes!J:K,MATCH(F150,referentes!K:K,0),1))","v":""},{"$f":"IF(AI150=\"\",\"\",INDEX(referentes!M:N,MATCH(AI150,referentes!N:N,0),1))","v":""},{"$f":"IF(I150=\"\",\"\",INDEX(referentes!P:Q,MATCH(I150,referentes!Q:Q,0),1))","v":""},{"$f":"IF(J150=\"\",\"\",INDEX(referentes!S:T,MATCH(J150,referentes!T:T,0),1))","v":""},{"$f":"IF(AB150=\"\",\"\",INDEX(referentes!V:W,MATCH(AB150,referentes!W:W,0),1))","v":""},{"$f":"IF(Y150=\"\",\"\",INDEX(referentes!AZ:BA,MATCH(Y150,referentes!BA:BA,0),1))","v":""},"","","","",{"$f":"IF(BP150=\"\",\"\",INDEX(referentes!AE:AF,MATCH(BP150,referentes!AF:AF,0),1))","v":""},{"$f":"IF(BQ150=\"\",\"\",INDEX(referentes!AH:AI,MATCH(BQ150,referentes!AI:AI,0),1))","v":""},null,{"$f":"IF(D150=\"\",\"\",INDEX(referentes!A:B,MATCH(D150,referentes!B:B,0),1))","v":""},{"$f":"IF(AT150=\"\",\"\",INDEX(referentes!Y:Z,MATCH(AT150,referentes!Z:Z,0),1))","v":""},{"$f":"IF(AU150=\"\",\"\",INDEX(referentes!AB:AC,MATCH(AU150,referentes!AC:AC,0),1))","v":""}]
[null,{"$f":"IF(BT151=\"\",\"\",IF(COUNTIF($BT151:BT151, BT151)>1, \"\", BT151))","v":""},null,null,null,null,null,null,null,null,null,null,{"$f":"IF(L151=\"\",\"\",INDEX(referentes!AK:AL,MATCH(L151,referentes!AL:AL,0),1))","v":""},"",null,150,{"$f":"IF(K151=\"\",\"\",INDEX('Otras referencias'!F:I,MATCH(K151,'Otras referencias'!I:I,0),1))","v":""},"",null,null,null,null,null,null,null,null,null,null,null,null,null,null,null,null,null,null,null,null,null,null,null,null,null,null,null,null,null,null,null,null,null,null,0,0,0,0,0,0,0,0,null,null,null,null,null,0,null,null,null,null,null,{"$f":"IF(R151<>\"\",CONCATENATE($A$2,DIGITADOR!$M$1,ROW()-2),\"\")","v":""},"",{"$f":"IF(E151=\"\",\"\",INDEX(referentes!D:E,MATCH(E151,referentes!E:E,0),1))","v":""},{"$f":"IF(F151=\"\",\"\",INDEX(referentes!J:K,MATCH(F151,referentes!K:K,0),1))","v":""},{"$f":"IF(AI151=\"\",\"\",INDEX(referentes!M:N,MATCH(AI151,referentes!N:N,0),1))","v":""},{"$f":"IF(I151=\"\",\"\",INDEX(referentes!P:Q,MATCH(I151,referentes!Q:Q,0),1))","v":""},{"$f":"IF(J151=\"\",\"\",INDEX(referentes!S:T,MATCH(J151,referentes!T:T,0),1))","v":""},{"$f":"IF(AB151=\"\",\"\",INDEX(referentes!V:W,MATCH(AB151,referentes!W:W,0),1))","v":""},{"$f":"IF(Y151=\"\",\"\",INDEX(referentes!AZ:BA,MATCH(Y151,referentes!BA:BA,0),1))","v":""},"","","","",{"$f":"IF(BP151=\"\",\"\",INDEX(referentes!AE:AF,MATCH(BP151,referentes!AF:AF,0),1))","v":""},{"$f":"IF(BQ151=\"\",\"\",INDEX(referentes!AH:AI,MATCH(BQ151,referentes!AI:AI,0),1))","v":""},null,{"$f":"IF(D151=\"\",\"\",INDEX(referentes!A:B,MATCH(D151,referentes!B:B,0),1))","v":""},{"$f":"IF(AT151=\"\",\"\",INDEX(referentes!Y:Z,MATCH(AT151,referentes!Z:Z,0),1))","v":""},{"$f":"IF(AU151=\"\",\"\",INDEX(referentes!AB:AC,MATCH(AU151,referentes!AC:AC,0),1))","v":""}]
[null,{"$f":"IF(BT152=\"\",\"\",IF(COUNTIF($BT152:BT152, BT152)>1, \"\", BT152))","v":""},null,null,null,null,null,null,null,null,null,null,{"$f":"IF(L152=\"\",\"\",INDEX(referentes!AK:AL,MATCH(L152,referentes!AL:AL,0),1))","v":""},"",null,151,{"$f":"IF(K152=\"\",\"\",INDEX('Otras referencias'!F:I,MATCH(K152,'Otras referencias'!I:I,0),1))","v":""},"",null,null,null,null,null,null,null,null,null,null,null,null,null,null,null,null,null,null,null,null,null,null,null,null,null,null,null,null,null,null,null,null,null,null,0,0,0,0,0,0,0,0,null,null,null,null,null,0,null,null,null,null,null,{"$f":"IF(R152<>\"\",CONCATENATE($A$2,DIGITADOR!$M$1,ROW()-2),\"\")","v":""},"",{"$f":"IF(E152=\"\",\"\",INDEX(referentes!D:E,MATCH(E152,referentes!E:E,0),1))","v":""},{"$f":"IF(F152=\"\",\"\",INDEX(referentes!J:K,MATCH(F152,referentes!K:K,0),1))","v":""},{"$f":"IF(AI152=\"\",\"\",INDEX(referentes!M:N,MATCH(AI152,referentes!N:N,0),1))","v":""},{"$f":"IF(I152=\"\",\"\",INDEX(referentes!P:Q,MATCH(I152,referentes!Q:Q,0),1))","v":""},{"$f":"IF(J152=\"\",\"\",INDEX(referentes!S:T,MATCH(J152,referentes!T:T,0),1))","v":""},{"$f":"IF(AB152=\"\",\"\",INDEX(referentes!V:W,MATCH(AB152,referentes!W:W,0),1))","v":""},{"$f":"IF(Y152=\"\",\"\",INDEX(referentes!AZ:BA,MATCH(Y152,referentes!BA:BA,0),1))","v":""},"","","","",{"$f":"IF(BP152=\"\",\"\",INDEX(referentes!AE:AF,MATCH(BP152,referentes!AF:AF,0),1))","v":""},{"$f":"IF(BQ152=\"\",\"\",INDEX(referentes!AH:AI,MATCH(BQ152,referentes!AI:AI,0),1))","v":""},null,{"$f":"IF(D152=\"\",\"\",INDEX(referentes!A:B,MATCH(D152,referentes!B:B,0),1))","v":""},{"$f":"IF(AT152=\"\",\"\",INDEX(referentes!Y:Z,MATCH(AT152,referentes!Z:Z,0),1))","v":""},{"$f":"IF(AU152=\"\",\"\",INDEX(referentes!AB:AC,MATCH(AU152,referentes!AC:AC,0),1))","v":""}]
[null,{"$f":"IF(BT153=\"\",\"\",IF(COUNTIF($BT153:BT153, BT153)>1, \"\", BT153))","v":""},null,null,null,null,null,null,null,null,null,null,{"$f":"IF(L153=\"\",\"\",INDEX(referentes!AK:AL,MATCH(L153,referentes!AL:AL,0),1))","v":""},"",null,152,{"$f":"IF(K153=\"\",\"\",INDEX('Otras referencias'!F:I,MATCH(K153,'Otras referencias'!I:I,0),1))","v":""},"",null,null,null,null,null,null,null,null,null,null,null,null,null,null,null,null,null,null,null,null,null,null,null,null,null,null,null,null,null,null,null,null,null,null,0,0,0,0,0,0,0,0,null,null,null,null,null,0,null,null,null,null,null,{"$f":"IF(R153<>\"\",CONCATENATE($A$2,DIGITADOR!$M$1,ROW()-2),\"\")","v":""},"",{"$f":"IF(E153=\"\",\"\",INDEX(referentes!D:E,MATCH(E153,referentes!E:E,0),1))","v":""},{"$f":"IF(F153=\"\",\"\",INDEX(referentes!J:K,MATCH(F153,referentes!K:K,0),1))","v":""},{"$f":"IF(AI153=\"\",\"\",INDEX(referentes!M:N,MATCH(AI153,referentes!N:N,0),1))","v":""},{"$f":"IF(I153=\"\",\"\",INDEX(referentes!P:Q,MATCH(I153,referentes!Q:Q,0),1))","v":""},{"$f":"IF(J153=\"\",\"\",INDEX(referentes!S:T,MATCH(J153,referentes!T:T,0),1))","v":""},{"$f":"IF(AB153=\"\",\"\",INDEX(referentes!V:W,MATCH(AB153,referentes!W:W,0),1))","v":""},{"$f":"IF(Y153=\"\",\"\",INDEX(referentes!AZ:BA,MATCH(Y153,referentes!BA:BA,0),1))","v":""},"","","","",{"$f":"IF(BP153=\"\",\"\",INDEX(referentes!AE:AF,MATCH(BP153,referentes!AF:AF,0),1))","v":""},{"$f":"IF(BQ153=\"\",\"\",INDEX(referentes!AH:AI,MATCH(BQ153,referentes!AI:AI,0),1))","v":""},null,{"$f":"IF(D153=\"\",\"\",INDEX(referentes!A:B,MATCH(D153,referentes!B:B,0),1))","v":""},{"$f":"IF(AT153=\"\",\"\",INDEX(referentes!Y:Z,MATCH(AT153,referentes!Z:Z,0),1))","v":""},{"$f":"IF(AU153=\"\",\"\",INDEX(referentes!AB:AC,MATCH(AU153,referentes!AC:AC,0),1))","v":""}]
[null,{"$f":"IF(BT154=\"\",\"\",IF(COUNTIF($BT154:BT154, BT154)>1, \"\", BT154))","v":""},null,null,null,null,null,null,null,null,null,null,{"$f":"IF(L154=\"\",\"\",INDEX(referentes!AK:AL,MATCH(L154,referentes!AL:AL,0),1))","v":""},"",null,153,{"$f":"IF(K154=\"\",\"\",INDEX('Otras referencias'!F:I,MATCH(K154,'Otras referencias'!I:I,0),1))","v":""},"",null,null,null,null,null,null,null,null,null,null,null,null,null,null,null,null,null,null,null,null,null,null,null,null,null,null,null,null,null,null,null,null,null,null,0,0,0,0,0,0,0,0,null,null,null,null,null,0,null,null,null,null,null,{"$f":"IF(R154<>\"\",CONCATENATE($A$2,DIGITADOR!$M$1,ROW()-2),\"\")","v":""},"",{"$f":"IF(E154=\"\",\"\",INDEX(referentes!D:E,MATCH(E154,referentes!E:E,0),1))","v":""},{"$f":"IF(F154=\"\",\"\",INDEX(referentes!J:K,MATCH(F154,referentes!K:K,0),1))","v":""},{"$f":"IF(AI154=\"\",\"\",INDEX(referentes!M:N,MATCH(AI154,referentes!N:N,0),1))","v":""},{"$f":"IF(I154=\"\",\"\",INDEX(referentes!P:Q,MATCH(I154,referentes!Q:Q,0),1))","v":""},{"$f":"IF(J154=\"\",\"\",INDEX(referentes!S:T,MATCH(J154,referentes!T:T,0),1))","v":""},{"$f":"IF(AB154=\"\",\"\",INDEX(referentes!V:W,MATCH(AB154,referentes!W:W,0),1))","v":""},{"$f":"IF(Y154=\"\",\"\",INDEX(referentes!AZ:BA,MATCH(Y154,referentes!BA:BA,0),1))","v":""},"","","","",{"$f":"IF(BP154=\"\",\"\",INDEX(referentes!AE:AF,MATCH(BP154,referentes!AF:AF,0),1))","v":""},{"$f":"IF(BQ154=\"\",\"\",INDEX(referentes!AH:AI,MATCH(BQ154,referentes!AI:AI,0),1))","v":""},null,{"$f":"IF(D154=\"\",\"\",INDEX(referentes!A:B,MATCH(D154,referentes!B:B,0),1))","v":""},{"$f":"IF(AT154=\"\",\"\",INDEX(referentes!Y:Z,MATCH(AT154,referentes!Z:Z,0),1))","v":""},{"$f":"IF(AU154=\"\",\"\",INDEX(referentes!AB:AC,MATCH(AU154,referentes!AC:AC,0),1))","v":""}]
[null,{"$f":"IF(BT155=\"\",\"\",IF(COUNTIF($BT155:BT155, BT155)>1, \"\", BT155))","v":""},null,null,null,null,null,null,null,null,null,null,{"$f":"IF(L155=\"\",\"\",INDEX(referentes!AK:AL,MATCH(L155,referentes!AL:AL,0),1))","v":""},"",null,154,{"$f":"IF(K155=\"\",\"\",INDEX('Otras referencias'!F:I,MATCH(K155,'Otras referencias'!I:I,0),1))","v":""},"",null,null,null,null,null,null,null,null,null,null,null,null,null,null,null,null,null,null,null,null,null,null,null,null,null,null,null,null,null,null,null,null,null,null,0,0,0,0,0,0,0,0,null,null,null,null,null,0,null,null,null,null,null,{"$f":"IF(R155<>\"\",CONCATENATE($A$2,DIGITADOR!$M$1,ROW()-2),\"\")","v":""},"",{"$f":"IF(E155=\"\",\"\",INDEX(referentes!D:E,MATCH(E155,referentes!E:E,0),1))","v":""},{"$f":"IF(F155=\"\",\"\",INDEX(referentes!J:K,MATCH(F155,referentes!K:K,0),1))","v":""},{"$f":"IF(AI155=\"\",\"\",INDEX(referentes!M:N,MATCH(AI155,referentes!N:N,0),1))","v":""},{"$f":"IF(I155=\"\",\"\",INDEX(referentes!P:Q,MATCH(I155,referentes!Q:Q,0),1))","v":""},{"$f":"IF(J155=\"\",\"\",INDEX(referentes!S:T,MATCH(J155,referentes!T:T,0),1))","v":""},{"$f":"IF(AB155=\"\",\"\",INDEX(referentes!V:W,MATCH(AB155,referentes!W:W,0),1))","v":""},{"$f":"IF(Y155=\"\",\"\",INDEX(referentes!AZ:BA,MATCH(Y155,referentes!BA:BA,0),1))","v":""},"","","","",{"$f":"IF(BP155=\"\",\"\",INDEX(referentes!AE:AF,MATCH(BP155,referentes!AF:AF,0),1))","v":""},{"$f":"IF(BQ155=\"\",\"\",INDEX(referentes!AH:AI,MATCH(BQ155,referentes!AI:AI,0),1))","v":""},null,{"$f":"IF(D155=\"\",\"\",INDEX(referentes!A:B,MATCH(D155,referentes!B:B,0),1))","v":""},{"$f":"IF(AT155=\"\",\"\",INDEX(referentes!Y:Z,MATCH(AT155,referentes!Z:Z,0),1))","v":""},{"$f":"IF(AU155=\"\",\"\",INDEX(referentes!AB:AC,MATCH(AU155,referentes!AC:AC,0),1))","v":""}]
[null,{"$f":"IF(BT156=\"\",\"\",IF(COUNTIF($BT156:BT156, BT156)>1, \"\", BT156))","v":""},null,null,null,null,null,null,null,null,null,null,{"$f":"IF(L156=\"\",\"\",INDEX(referentes!AK:AL,MATCH(L156,referentes!AL:AL,0),1))","v":""},"",null,155,{"$f":"IF(K156=\"\",\"\",INDEX('Otras referencias'!F:I,MATCH(K156,'Otras referencias'!I:I,0),1))","v":""},"",null,null,null,null,null,null,null,null,null,null,null,null,null,null,null,null,null,null,null,null,null,null,null,null,null,null,null,null,null,null,null,null,null,null,0,0,0,0,0,0,0,0,null,null,null,null,null,0,null,null,null,null,null,{"$f":"IF(R156<>\"\",CONCATENATE($A$2,DIGITADOR!$M$1,ROW()-2),\"\")","v":""},"",{"$f":"IF(E156=\"\",\"\",INDEX(referentes!D:E,MATCH(E156,referentes!E:E,0),1))","v":""},{"$f":"IF(F156=\"\",\"\",INDEX(referentes!J:K,MATCH(F156,referentes!K:K,0),1))","v":""},{"$f":"IF(AI156=\"\",\"\",INDEX(referentes!M:N,MATCH(AI156,referentes!N:N,0),1))","v":""},{"$f":"IF(I156=\"\",\"\",INDEX(referentes!P:Q,MATCH(I156,referentes!Q:Q,0),1))","v":""},{"$f":"IF(J156=\"\",\"\",INDEX(referentes!S:T,MATCH(J156,referentes!T:T,0),1))","v":""},{"$f":"IF(AB156=\"\",\"\",INDEX(referentes!V:W,MATCH(AB156,referentes!W:W,0),1))","v":""},{"$f":"IF(Y156=\"\",\"\",INDEX(referentes!AZ:BA,MATCH(Y156,referentes!BA:BA,0),1))","v":""},"","","","",{"$f":"IF(BP156=\"\",\"\",INDEX(referentes!AE:AF,MATCH(BP156,referentes!AF:AF,0),1))","v":""},{"$f":"IF(BQ156=\"\",\"\",INDEX(referentes!AH:AI,MATCH(BQ156,referentes!AI:AI,0),1))","v":""},null,{"$f":"IF(D156=\"\",\"\",INDEX(referentes!A:B,MATCH(D156,referentes!B:B,0),1))","v":""},{"$f":"IF(AT156=\"\",\"\",INDEX(referentes!Y:Z,MATCH(AT156,referentes!Z:Z,0),1))","v":""},{"$f":"IF(AU156=\"\",\"\",INDEX(referentes!AB:AC,MATCH(AU156,referentes!AC:AC,0),1))","v":""}]
[null,{"$f":"IF(BT157=\"\",\"\",IF(COUNTIF($BT157:BT157, BT157)>1, \"\", BT157))","v":""},null,null,null,null,null,null,null,null,null,null,{"$f":"IF(L157=\"\",\"\",INDEX(referentes!AK:AL,MATCH(L157,referentes!AL:AL,0),1))","v":""},"",null,156,{"$f":"IF(K157=\"\",\"\",INDEX('Otras referencias'!F:I,MATCH(K157,'Otras referencias'!I:I,0),1))","v":""},"",null,null,null,null,null,null,null,null,null,null,null,null,null,null,null,null,null,null,null,null,null,null,null,null,null,null,null,null,null,null,null,null,null,null,0,0,0,0,0,0,0,0,null,null,null,null,null,0,null,null,null,null,null,{"$f":"IF(R157<>\"\",CONCATENATE($A$2,DIGITADOR!$M$1,ROW()-2),\"\")","v":""},"",{"$f":"IF(E157=\"\",\"\",INDEX(referentes!D:E,MATCH(E157,referentes!E:E,0),1))","v":""},{"$f":"IF(F157=\"\",\"\",INDEX(referentes!J:K,MATCH(F157,referentes!K:K,0),1))","v":""},{"$f":"IF(AI157=\"\",\"\",INDEX(referentes!M:N,MATCH(AI157,referentes!N:N,0),1))","v":""},{"$f":"IF(I157=\"\",\"\",INDEX(referentes!P:Q,MATCH(I157,referentes!Q:Q,0),1))","v":""},{"$f":"IF(J157=\"\",\"\",INDEX(referentes!S:T,MATCH(J157,referentes!T:T,0),1))","v":""},{"$f":"IF(AB157=\"\",\"\",INDEX(referentes!V:W,MATCH(AB157,referentes!W:W,0),1))","v":""},{"$f":"IF(Y157=\"\",\"\",INDEX(referentes!AZ:BA,MATCH(Y157,referentes!BA:BA,0),1))","v":""},"","","","",{"$f":"IF(BP157=\"\",\"\",INDEX(referentes!AE:AF,MATCH(BP157,referentes!AF:AF,0),1))","v":""},{"$f":"IF(BQ157=\"\",\"\",INDEX(referentes!AH:AI,MATCH(BQ157,referentes!AI:AI,0),1))","v":""},null,{"$f":"IF(D157=\"\",\"\",INDEX(referentes!A:B,MATCH(D157,referentes!B:B,0),1))","v":""},{"$f":"IF(AT157=\"\",\"\",INDEX(referentes!Y:Z,MATCH(AT157,referentes!Z:Z,0),1))","v":""},{"$f":"IF(AU157=\"\",\"\",INDEX(referentes!AB:AC,MATCH(AU157,referentes!AC:AC,0),1))","v":""}]
[null,{"$f":"IF(BT158=\"\",\"\",IF(COUNTIF($BT158:BT158, BT158)>1, \"\", BT158))","v":""},null,null,null,null,null,null,null,null,null,null,{"$f":"IF(L158=\"\",\"\",INDEX(referentes!AK:AL,MATCH(L158,referentes!AL:AL,0),1))","v":""},"",null,157,{"$f":"IF(K158=\"\",\"\",INDEX('Otras referencias'!F:I,MATCH(K158,'Otras referencias'!I:I,0),1))","v":""},"",null,null,null,null,null,null,null,null,null,null,null,null,null,null,null,null,null,null,null,null,null,null,null,null,null,null,null,null,null,null,null,null,null,null,0,0,0,0,0,0,0,0,null,null,null,null,null,0,null,null,null,null,null,{"$f":"IF(R158<>\"\",CONCATENATE($A$2,DIGITADOR!$M$1,ROW()-2),\"\")","v":""},"",{"$f":"IF(E158=\"\",\"\",INDEX(referentes!D:E,MATCH(E158,referentes!E:E,0),1))","v":""},{"$f":"IF(F158=\"\",\"\",INDEX(referentes!J:K,MATCH(F158,referentes!K:K,0),1))","v":""},{"$f":"IF(AI158=\"\",\"\",INDEX(referentes!M:N,MATCH(AI158,referentes!N:N,0),1))","v":""},{"$f":"IF(I158=\"\",\"\",INDEX(referentes!P:Q,MATCH(I158,referentes!Q:Q,0),1))","v":""},{"$f":"IF(J158=\"\",\"\",INDEX(referentes!S:T,MATCH(J158,referentes!T:T,0),1))","v":""},{"$f":"IF(AB158=\"\",\"\",INDEX(referentes!V:W,MATCH(AB158,referentes!W:W,0),1))","v":""},{"$f":"IF(Y158=\"\",\"\",INDEX(referentes!AZ:BA,MATCH(Y158,referentes!BA:BA,0),1))","v":""},"","","","",{"$f":"IF(BP158=\"\",\"\",INDEX(referentes!AE:AF,MATCH(BP158,referentes!AF:AF,0),1))","v":""},{"$f":"IF(BQ158=\"\",\"\",INDEX(referentes!AH:AI,MATCH(BQ158,referentes!AI:AI,0),1))","v":""},null,{"$f":"IF(D158=\"\",\"\",INDEX(referentes!A:B,MATCH(D158,referentes!B:B,0),1))","v":""},{"$f":"IF(AT158=\"\",\"\",INDEX(referentes!Y:Z,MATCH(AT158,referentes!Z:Z,0),1))","v":""},{"$f":"IF(AU158=\"\",\"\",INDEX(referentes!AB:AC,MATCH(AU158,referentes!AC:AC,0),1))","v":""}]
[null,{"$f":"IF(BT159=\"\",\"\",IF(COUNTIF($BT159:BT159, BT159)>1, \"\", BT159))","v":""},null,null,null,null,null,null,null,null,null,null,{"$f":"IF(L159=\"\",\"\",INDEX(referentes!AK:AL,MATCH(L159,referentes!AL:AL,0),1))","v":""},"",null,158,{"$f":"IF(K159=\"\",\"\",INDEX('Otras referencias'!F:I,MATCH(K159,'Otras referencias'!I:I,0),1))","v":""},"",null,null,null,null,null,null,null,null,null,null,null,null,null,null,null,null,null,null,null,null,null,null,null,null,null,null,null,null,null,null,null,null,null,null,0,0,0,0,0,0,0,0,null,null,null,null,null,0,null,null,null,null,null,{"$f":"IF(R159<>\"\",CONCATENATE($A$2,DIGITADOR!$M$1,ROW()-2),\"\")","v":""},"",{"$f":"IF(E159=\"\",\"\",INDEX(referentes!D:E,MATCH(E159,referentes!E:E,0),1))","v":""},{"$f":"IF(F159=\"\",\"\",INDEX(referentes!J:K,MATCH(F159,referentes!K:K,0),1))","v":""},{"$f":"IF(AI159=\"\",\"\",INDEX(referentes!M:N,MATCH(AI159,referentes!N:N,0),1))","v":""},{"$f":"IF(I159=\"\",\"\",INDEX(referentes!P:Q,MATCH(I159,referentes!Q:Q,0),1))","v":""},{"$f":"IF(J159=\"\",\"\",INDEX(referentes!S:T,MATCH(J159,referentes!T:T,0),1))","v":""},{"$f":"IF(AB159=\"\",\"\",INDEX(referentes!V:W,MATCH(AB159,referentes!W:W,0),1))","v":""},{"$f":"IF(Y159=\"\",\"\",INDEX(referentes!AZ:BA,MATCH(Y159,referentes!BA:BA,0),1))","v":""},"","","","",{"$f":"IF(BP159=\"\",\"\",INDEX(referentes!AE:AF,MATCH(BP159,referentes!AF:AF,0),1))","v":""},{"$f":"IF(BQ159=\"\",\"\",INDEX(referentes!AH:AI,MATCH(BQ159,referentes!AI:AI,0),1))","v":""},null,{"$f":"IF(D159=\"\",\"\",INDEX(referentes!A:B,MATCH(D159,referentes!B:B,0),1))","v":""},{"$f":"IF(AT159=\"\",\"\",INDEX(referentes!Y:Z,MATCH(AT159,referentes!Z:Z,0),1))","v":""},{"$f":"IF(AU159=\"\",\"\",INDEX(referentes!AB:AC,MATCH(AU159,referentes!AC:AC,0),1))","v":""}]
[null,{"$f":"IF(BT160=\"\",\"\",IF(COUNTIF($BT160:BT160, BT160)>1, \"\", BT160))","v":""},null,null,null,null,null,null,null,null,null,null,{"$f":"IF(L160=\"\",\"\",INDEX(referentes!AK:AL,MATCH(L160,referentes!AL:AL,0),1))","v":""},"",null,159,{"$f":"IF(K160=\"\",\"\",INDEX('Otras referencias'!F:I,MATCH(K160,'Otras referencias'!I:I,0),1))","v":""},"",null,null,null,null,null,null,null,null,null,null,null,null,null,null,null,null,null,null,null,null,null,null,null,null,null,null,null,null,null,null,null,null,null,null,0,0,0,0,0,0,0,0,null,null,null,null,null,0,null,null,null,null,null,{"$f":"IF(R160<>\"\",CONCATENATE($A$2,DIGITADOR!$M$1,ROW()-2),\"\")","v":""},"",{"$f":"IF(E160=\"\",\"\",INDEX(referentes!D:E,MATCH(E160,referentes!E:E,0),1))","v":""},{"$f":"IF(F160=\"\",\"\",INDEX(referentes!J:K,MATCH(F160,referentes!K:K,0),1))","v":""},{"$f":"IF(AI160=\"\",\"\",INDEX(referentes!M:N,MATCH(AI160,referentes!N:N,0),1))","v":""},{"$f":"IF(I160=\"\",\"\",INDEX(referentes!P:Q,MATCH(I160,referentes!Q:Q,0),1))","v":""},{"$f":"IF(J160=\"\",\"\",INDEX(referentes!S:T,MATCH(J160,referentes!T:T,0),1))","v":""},{"$f":"IF(AB160=\"\",\"\",INDEX(referentes!V:W,MATCH(AB160,referentes!W:W,0),1))","v":""},{"$f":"IF(Y160=\"\",\"\",INDEX(referentes!AZ:BA,MATCH(Y160,referentes!BA:BA,0),1))","v":""},"","","","",{"$f":"IF(BP160=\"\",\"\",INDEX(referentes!AE:AF,MATCH(BP160,referentes!AF:AF,0),1))","v":""},{"$f":"IF(BQ160=\"\",\"\",INDEX(referentes!AH:AI,MATCH(BQ160,referentes!AI:AI,0),1))","v":""},null,{"$f":"IF(D160=\"\",\"\",INDEX(referentes!A:B,MATCH(D160,referentes!B:B,0),1))","v":""},{"$f":"IF(AT160=\"\",\"\",INDEX(referentes!Y:Z,MATCH(AT160,referentes!Z:Z,0),1))","v":""},{"$f":"IF(AU160=\"\",\"\",INDEX(referentes!AB:AC,MATCH(AU160,referentes!AC:AC,0),1))","v":""}]
[null,{"$f":"IF(BT161=\"\",\"\",IF(COUNTIF($BT161:BT161, BT161)>1, \"\", BT161))","v":""},null,null,null,null,null,null,null,null,null,null,{"$f":"IF(L161=\"\",\"\",INDEX(referentes!AK:AL,MATCH(L161,referentes!AL:AL,0),1))","v":""},"",null,160,{"$f":"IF(K161=\"\",\"\",INDEX('Otras referencias'!F:I,MATCH(K161,'Otras referencias'!I:I,0),1))","v":""},"",null,null,null,null,null,null,null,null,null,null,null,null,null,null,null,null,null,null,null,null,null,null,null,null,null,null,null,null,null,null,null,null,null,null,0,0,0,0,0,0,0,0,null,null,null,null,null,0,null,null,null,null,null,{"$f":"IF(R161<>\"\",CONCATENATE($A$2,DIGITADOR!$M$1,ROW()-2),\"\")","v":""},"",{"$f":"IF(E161=\"\",\"\",INDEX(referentes!D:E,MATCH(E161,referentes!E:E,0),1))","v":""},{"$f":"IF(F161=\"\",\"\",INDEX(referentes!J:K,MATCH(F161,referentes!K:K,0),1))","v":""},{"$f":"IF(AI161=\"\",\"\",INDEX(referentes!M:N,MATCH(AI161,referentes!N:N,0),1))","v":""},{"$f":"IF(I161=\"\",\"\",INDEX(referentes!P:Q,MATCH(I161,referentes!Q:Q,0),1))","v":""},{"$f":"IF(J161=\"\",\"\",INDEX(referentes!S:T,MATCH(J161,referentes!T:T,0),1))","v":""},{"$f":"IF(AB161=\"\",\"\",INDEX(referentes!V:W,MATCH(AB161,referentes!W:W,0),1))","v":""},{"$f":"IF(Y161=\"\",\"\",INDEX(referentes!AZ:BA,MATCH(Y161,referentes!BA:BA,0),1))","v":""},"","","","",{"$f":"IF(BP161=\"\",\"\",INDEX(referentes!AE:AF,MATCH(BP161,referentes!AF:AF,0),1))","v":""},{"$f":"IF(BQ161=\"\",\"\",INDEX(referentes!AH:AI,MATCH(BQ161,referentes!AI:AI,0),1))","v":""},null,{"$f":"IF(D161=\"\",\"\",INDEX(referentes!A:B,MATCH(D161,referentes!B:B,0),1))","v":""},{"$f":"IF(AT161=\"\",\"\",INDEX(referentes!Y:Z,MATCH(AT161,referentes!Z:Z,0),1))","v":""},{"$f":"IF(AU161=\"\",\"\",INDEX(referentes!AB:AC,MATCH(AU161,referentes!AC:AC,0),1))","v":""}]
[null,{"$f":"IF(BT162=\"\",\"\",IF(COUNTIF($BT162:BT162, BT162)>1, \"\", BT162))","v":""},null,null,null,null,null,null,null,null,null,null,{"$f":"IF(L162=\"\",\"\",INDEX(referentes!AK:AL,MATCH(L162,referentes!AL:AL,0),1))","v":""},"",null,161,{"$f":"IF(K162=\"\",\"\",INDEX('Otras referencias'!F:I,MATCH(K162,'Otras referencias'!I:I,0),1))","v":""},"",null,null,null,null,null,null,null,null,null,null,null,null,null,null,null,null,null,null,null,null,null,null,null,null,null,null,null,null,null,null,null,null,null,null,0,0,0,0,0,0,0,0,null,null,null,null,null,0,null,null,null,null,null,{"$f":"IF(R162<>\"\",CONCATENATE($A$2,DIGITADOR!$M$1,ROW()-2),\"\")","v":""},"",{"$f":"IF(E162=\"\",\"\",INDEX(referentes!D:E,MATCH(E162,referentes!E:E,0),1))","v":""},{"$f":"IF(F162=\"\",\"\",INDEX(referentes!J:K,MATCH(F162,referentes!K:K,0),1))","v":""},{"$f":"IF(AI162=\"\",\"\",INDEX(referentes!M:N,MATCH(AI162,referentes!N:N,0),1))","v":""},{"$f":"IF(I162=\"\",\"\",INDEX(referentes!P:Q,MATCH(I162,referentes!Q:Q,0),1))","v":""},{"$f":"IF(J162=\"\",\"\",INDEX(referentes!S:T,MATCH(J162,referentes!T:T,0),1))","v":""},{"$f":"IF(AB162=\"\",\"\",INDEX(referentes!V:W,MATCH(AB162,referentes!W:W,0),1))","v":""},{"$f":"IF(Y162=\"\",\"\",INDEX(referentes!AZ:BA,MATCH(Y162,referentes!BA:BA,0),1))","v":""},"","","","",{"$f":"IF(BP162=\"\",\"\",INDEX(referentes!AE:AF,MATCH(BP162,referentes!AF:AF,0),1))","v":""},{"$f":"IF(BQ162=\"\",\"\",INDEX(referentes!AH:AI,MATCH(BQ162,referentes!AI:AI,0),1))","v":""},null,{"$f":"IF(D162=\"\",\"\",INDEX(referentes!A:B,MATCH(D162,referentes!B:B,0),1))","v":""},{"$f":"IF(AT162=\"\",\"\",INDEX(referentes!Y:Z,MATCH(AT162,referentes!Z:Z,0),1))","v":""},{"$f":"IF(AU162=\"\",\"\",INDEX(referentes!AB:AC,MATCH(AU162,referentes!AC:AC,0),1))","v":""}]
[null,{"$f":"IF(BT163=\"\",\"\",IF(COUNTIF($BT163:BT163, BT163)>1, \"\", BT163))","v":""},null,null,null,null,null,null,null,null,null,null,{"$f":"IF(L163=\"\",\"\",INDEX(referentes!AK:AL,MATCH(L163,referentes!AL:AL,0),1))","v":""},"",null,162,{"$f":"IF(K163=\"\",\"\",INDEX('Otras referencias'!F:I,MATCH(K163,'Otras referencias'!I:I,0),1))","v":""},"",null,null,null,null,null,null,null,null,null,null,null,null,null,null,null,null,null,null,null,null,null,null,null,null,null,null,null,null,null,null,null,null,null,null,0,0,0,0,0,0,0,0,null,null,null,null,null,0,null,null,null,null,null,{"$f":"IF(R163<>\"\",CONCATENATE($A$2,DIGITADOR!$M$1,ROW()-2),\"\")","v":""},"",{"$f":"IF(E163=\"\",\"\",INDEX(referentes!D:E,MATCH(E163,referentes!E:E,0),1))","v":""},{"$f":"IF(F163=\"\",\"\",INDEX(referentes!J:K,MATCH(F163,referentes!K:K,0),1))","v":""},{"$f":"IF(AI163=\"\",\"\",INDEX(referentes!M:N,MATCH(AI163,referentes!N:N,0),1))","v":""},{"$f":"IF(I163=\"\",\"\",INDEX(referentes!P:Q,MATCH(I163,referentes!Q:Q,0),1))","v":""},{"$f":"IF(J163=\"\",\"\",INDEX(referentes!S:T,MATCH(J163,referentes!T:T,0),1))","v":""},{"$f":"IF(AB163=\"\",\"\",INDEX(referentes!V:W,MATCH(AB163,referentes!W:W,0),1))","v":""},{"$f":"IF(Y163=\"\",\"\",INDEX(referentes!AZ:BA,MATCH(Y163,referentes!BA:BA,0),1))","v":""},"","","","",{"$f":"IF(BP163=\"\",\"\",INDEX(referentes!AE:AF,MATCH(BP163,referentes!AF:AF,0),1))","v":""},{"$f":"IF(BQ163=\"\",\"\",INDEX(referentes!AH:AI,MATCH(BQ163,referentes!AI:AI,0),1))","v":""},null,{"$f":"IF(D163=\"\",\"\",INDEX(referentes!A:B,MATCH(D163,referentes!B:B,0),1))","v":""},{"$f":"IF(AT163=\"\",\"\",INDEX(referentes!Y:Z,MATCH(AT163,referentes!Z:Z,0),1))","v":""},{"$f":"IF(AU163=\"\",\"\",INDEX(referentes!AB:AC,MATCH(AU163,referentes!AC:AC,0),1))","v":""}]
[null,{"$f":"IF(BT164=\"\",\"\",IF(COUNTIF($BT164:BT164, BT164)>1, \"\", BT164))","v":""},null,null,null,null,null,null,null,null,null,null,{"$f":"IF(L164=\"\",\"\",INDEX(referentes!AK:AL,MATCH(L164,referentes!AL:AL,0),1))","v":""},"",null,163,{"$f":"IF(K164=\"\",\"\",INDEX('Otras referencias'!F:I,MATCH(K164,'Otras referencias'!I:I,0),1))","v":""},"",null,null,null,null,null,null,null,null,null,null,null,null,null,null,null,null,null,null,null,null,null,null,null,null,null,null,null,null,null,null,null,null,null,null,0,0,0,0,0,0,0,0,null,null,null,null,null,0,null,null,null,null,null,{"$f":"IF(R164<>\"\",CONCATENATE($A$2,DIGITADOR!$M$1,ROW()-2),\"\")","v":""},"",{"$f":"IF(E164=\"\",\"\",INDEX(referentes!D:E,MATCH(E164,referentes!E:E,0),1))","v":""},{"$f":"IF(F164=\"\",\"\",INDEX(referentes!J:K,MATCH(F164,referentes!K:K,0),1))","v":""},{"$f":"IF(AI164=\"\",\"\",INDEX(referentes!M:N,MATCH(AI164,referentes!N:N,0),1))","v":""},{"$f":"IF(I164=\"\",\"\",INDEX(referentes!P:Q,MATCH(I164,referentes!Q:Q,0),1))","v":""},{"$f":"IF(J164=\"\",\"\",INDEX(referentes!S:T,MATCH(J164,referentes!T:T,0),1))","v":""},{"$f":"IF(AB164=\"\",\"\",INDEX(referentes!V:W,MATCH(AB164,referentes!W:W,0),1))","v":""},{"$f":"IF(Y164=\"\",\"\",INDEX(referentes!AZ:BA,MATCH(Y164,referentes!BA:BA,0),1))","v":""},"","","","",{"$f":"IF(BP164=\"\",\"\",INDEX(referentes!AE:AF,MATCH(BP164,referentes!AF:AF,0),1))","v":""},{"$f":"IF(BQ164=\"\",\"\",INDEX(referentes!AH:AI,MATCH(BQ164,referentes!AI:AI,0),1))","v":""},null,{"$f":"IF(D164=\"\",\"\",INDEX(referentes!A:B,MATCH(D164,referentes!B:B,0),1))","v":""},{"$f":"IF(AT164=\"\",\"\",INDEX(referentes!Y:Z,MATCH(AT164,referentes!Z:Z,0),1))","v":""},{"$f":"IF(AU164=\"\",\"\",INDEX(referentes!AB:AC,MATCH(AU164,referentes!AC:AC,0),1))","v":""}]
[null,{"$f":"IF(BT165=\"\",\"\",IF(COUNTIF($BT165:BT165, BT165)>1, \"\", BT165))","v":""},null,null,null,null,null,null,null,null,null,null,{"$f":"IF(L165=\"\",\"\",INDEX(referentes!AK:AL,MATCH(L165,referentes!AL:AL,0),1))","v":""},"",null,164,{"$f":"IF(K165=\"\",\"\",INDEX('Otras referencias'!F:I,MATCH(K165,'Otras referencias'!I:I,0),1))","v":""},"",null,null,null,null,null,null,null,null,null,null,null,null,null,null,null,null,null,null,null,null,null,null,null,null,null,null,null,null,null,null,null,null,null,null,0,0,0,0,0,0,0,0,null,null,null,null,null,0,null,null,null,null,null,{"$f":"IF(R165<>\"\",CONCATENATE($A$2,DIGITADOR!$M$1,ROW()-2),\"\")","v":""},"",{"$f":"IF(E165=\"\",\"\",INDEX(referentes!D:E,MATCH(E165,referentes!E:E,0),1))","v":""},{"$f":"IF(F165=\"\",\"\",INDEX(referentes!J:K,MATCH(F165,referentes!K:K,0),1))","v":""},{"$f":"IF(AI165=\"\",\"\",INDEX(referentes!M:N,MATCH(AI165,referentes!N:N,0),1))","v":""},{"$f":"IF(I165=\"\",\"\",INDEX(referentes!P:Q,MATCH(I165,referentes!Q:Q,0),1))","v":""},{"$f":"IF(J165=\"\",\"\",INDEX(referentes!S:T,MATCH(J165,referentes!T:T,0),1))","v":""},{"$f":"IF(AB165=\"\",\"\",INDEX(referentes!V:W,MATCH(AB165,referentes!W:W,0),1))","v":""},{"$f":"IF(Y165=\"\",\"\",INDEX(referentes!AZ:BA,MATCH(Y165,referentes!BA:BA,0),1))","v":""},"","","","",{"$f":"IF(BP165=\"\",\"\",INDEX(referentes!AE:AF,MATCH(BP165,referentes!AF:AF,0),1))","v":""},{"$f":"IF(BQ165=\"\",\"\",INDEX(referentes!AH:AI,MATCH(BQ165,referentes!AI:AI,0),1))","v":""},null,{"$f":"IF(D165=\"\",\"\",INDEX(referentes!A:B,MATCH(D165,referentes!B:B,0),1))","v":""},{"$f":"IF(AT165=\"\",\"\",INDEX(referentes!Y:Z,MATCH(AT165,referentes!Z:Z,0),1))","v":""},{"$f":"IF(AU165=\"\",\"\",INDEX(referentes!AB:AC,MATCH(AU165,referentes!AC:AC,0),1))","v":""}]
[null,{"$f":"IF(BT166=\"\",\"\",IF(COUNTIF($BT166:BT166, BT166)>1, \"\", BT166))","v":""},null,null,null,null,null,null,null,null,null,null,{"$f":"IF(L166=\"\",\"\",INDEX(referentes!AK:AL,MATCH(L166,referentes!AL:AL,0),1))","v":""},"",null,165,{"$f":"IF(K166=\"\",\"\",INDEX('Otras referencias'!F:I,MATCH(K166,'Otras referencias'!I:I,0),1))","v":""},"",null,null,null,null,null,null,null,null,null,null,null,null,null,null,null,null,null,null,null,null,null,null,null,null,null,null,null,null,null,null,null,null,null,null,0,0,0,0,0,0,0,0,null,null,null,null,null,0,null,null,null,null,null,{"$f":"IF(R166<>\"\",CONCATENATE($A$2,DIGITADOR!$M$1,ROW()-2),\"\")","v":""},"",{"$f":"IF(E166=\"\",\"\",INDEX(referentes!D:E,MATCH(E166,referentes!E:E,0),1))","v":""},{"$f":"IF(F166=\"\",\"\",INDEX(referentes!J:K,MATCH(F166,referentes!K:K,0),1))","v":""},{"$f":"IF(AI166=\"\",\"\",INDEX(referentes!M:N,MATCH(AI166,referentes!N:N,0),1))","v":""},{"$f":"IF(I166=\"\",\"\",INDEX(referentes!P:Q,MATCH(I166,referentes!Q:Q,0),1))","v":""},{"$f":"IF(J166=\"\",\"\",INDEX(referentes!S:T,MATCH(J166,referentes!T:T,0),1))","v":""},{"$f":"IF(AB166=\"\",\"\",INDEX(referentes!V:W,MATCH(AB166,referentes!W:W,0),1))","v":""},{"$f":"IF(Y166=\"\",\"\",INDEX(referentes!AZ:BA,MATCH(Y166,referentes!BA:BA,0),1))","v":""},"","","","",{"$f":"IF(BP166=\"\",\"\",INDEX(referentes!AE:AF,MATCH(BP166,referentes!AF:AF,0),1))","v":""},{"$f":"IF(BQ166=\"\",\"\",INDEX(referentes!AH:AI,MATCH(BQ166,referentes!AI:AI,0),1))","v":""},null,{"$f":"IF(D166=\"\",\"\",INDEX(referentes!A:B,MATCH(D166,referentes!B:B,0),1))","v":""},{"$f":"IF(AT166=\"\",\"\",INDEX(referentes!Y:Z,MATCH(AT166,referentes!Z:Z,0),1))","v":""},{"$f":"IF(AU166=\"\",\"\",INDEX(referentes!AB:AC,MATCH(AU166,referentes!AC:AC,0),1))","v":""}]
[null,{"$f":"IF(BT167=\"\",\"\",IF(COUNTIF($BT167:BT167, BT167)>1, \"\", BT167))","v":""},null,null,null,null,null,null,null,null,null,null,{"$f":"IF(L167=\"\",\"\",INDEX(referentes!AK:AL,MATCH(L167,referentes!AL:AL,0),1))","v":""},"",null,166,{"$f":"IF(K167=\"\",\"\",INDEX('Otras referencias'!F:I,MATCH(K167,'Otras referencias'!I:I,0),1))","v":""},"",null,null,null,null,null,null,null,null,null,null,null,null,null,null,null,null,null,null,null,null,null,null,null,null,null,null,null,null,null,null,null,null,null,null,0,0,0,0,0,0,0,0,null,null,null,null,null,0,null,null,null,null,null,{"$f":"IF(R167<>\"\",CONCATENATE($A$2,DIGITADOR!$M$1,ROW()-2),\"\")","v":""},"",{"$f":"IF(E167=\"\",\"\",INDEX(referentes!D:E,MATCH(E167,referentes!E:E,0),1))","v":""},{"$f":"IF(F167=\"\",\"\",INDEX(referentes!J:K,MATCH(F167,referentes!K:K,0),1))","v":""},{"$f":"IF(AI167=\"\",\"\",INDEX(referentes!M:N,MATCH(AI167,referentes!N:N,0),1))","v":""},{"$f":"IF(I167=\"\",\"\",INDEX(referentes!P:Q,MATCH(I167,referentes!Q:Q,0),1))","v":""},{"$f":"IF(J167=\"\",\"\",INDEX(referentes!S:T,MATCH(J167,referentes!T:T,0),1))","v":""},{"$f":"IF(AB167=\"\",\"\",INDEX(referentes!V:W,MATCH(AB167,referentes!W:W,0),1))","v":""},{"$f":"IF(Y167=\"\",\"\",INDEX(referentes!AZ:BA,MATCH(Y167,referentes!BA:BA,0),1))","v":""},"","","","",{"$f":"IF(BP167=\"\",\"\",INDEX(referentes!AE:AF,MATCH(BP167,referentes!AF:AF,0),1))","v":""},{"$f":"IF(BQ167=\"\",\"\",INDEX(referentes!AH:AI,MATCH(BQ167,referentes!AI:AI,0),1))","v":""},null,{"$f":"IF(D167=\"\",\"\",INDEX(referentes!A:B,MATCH(D167,referentes!B:B,0),1))","v":""},{"$f":"IF(AT167=\"\",\"\",INDEX(referentes!Y:Z,MATCH(AT167,referentes!Z:Z,0),1))","v":""},{"$f":"IF(AU167=\"\",\"\",INDEX(referentes!AB:AC,MATCH(AU167,referentes!AC:AC,0),1))","v":""}]
[null,{"$f":"IF(BT168=\"\",\"\",IF(COUNTIF($BT168:BT168, BT168)>1, \"\", BT168))","v":""},null,null,null,null,null,null,null,null,null,null,{"$f":"IF(L168=\"\",\"\",INDEX(referentes!AK:AL,MATCH(L168,referentes!AL:AL,0),1))","v":""},"",null,167,{"$f":"IF(K168=\"\",\"\",INDEX('Otras referencias'!F:I,MATCH(K168,'Otras referencias'!I:I,0),1))","v":""},"",null,null,null,null,null,null,null,null,null,null,null,null,null,null,null,null,null,null,null,null,null,null,null,null,null,null,null,null,null,null,null,null,null,null,0,0,0,0,0,0,0,0,null,null,null,null,null,0,null,null,null,null,null,{"$f":"IF(R168<>\"\",CONCATENATE($A$2,DIGITADOR!$M$1,ROW()-2),\"\")","v":""},"",{"$f":"IF(E168=\"\",\"\",INDEX(referentes!D:E,MATCH(E168,referentes!E:E,0),1))","v":""},{"$f":"IF(F168=\"\",\"\",INDEX(referentes!J:K,MATCH(F168,referentes!K:K,0),1))","v":""},{"$f":"IF(AI168=\"\",\"\",INDEX(referentes!M:N,MATCH(AI168,referentes!N:N,0),1))","v":""},{"$f":"IF(I168=\"\",\"\",INDEX(referentes!P:Q,MATCH(I168,referentes!Q:Q,0),1))","v":""},{"$f":"IF(J168=\"\",\"\",INDEX(referentes!S:T,MATCH(J168,referentes!T:T,0),1))","v":""},{"$f":"IF(AB168=\"\",\"\",INDEX(referentes!V:W,MATCH(AB168,referentes!W:W,0),1))","v":""},{"$f":"IF(Y168=\"\",\"\",INDEX(referentes!AZ:BA,MATCH(Y168,referentes!BA:BA,0),1))","v":""},"","","","",{"$f":"IF(BP168=\"\",\"\",INDEX(referentes!AE:AF,MATCH(BP168,referentes!AF:AF,0),1))","v":""},{"$f":"IF(BQ168=\"\",\"\",INDEX(referentes!AH:AI,MATCH(BQ168,referentes!AI:AI,0),1))","v":""},null,{"$f":"IF(D168=\"\",\"\",INDEX(referentes!A:B,MATCH(D168,referentes!B:B,0),1))","v":""},{"$f":"IF(AT168=\"\",\"\",INDEX(referentes!Y:Z,MATCH(AT168,referentes!Z:Z,0),1))","v":""},{"$f":"IF(AU168=\"\",\"\",INDEX(referentes!AB:AC,MATCH(AU168,referentes!AC:AC,0),1))","v":""}]
[null,{"$f":"IF(BT169=\"\",\"\",IF(COUNTIF($BT169:BT169, BT169)>1, \"\", BT169))","v":""},null,null,null,null,null,null,null,null,null,null,{"$f":"IF(L169=\"\",\"\",INDEX(referentes!AK:AL,MATCH(L169,referentes!AL:AL,0),1))","v":""},"",null,168,{"$f":"IF(K169=\"\",\"\",INDEX('Otras referencias'!F:I,MATCH(K169,'Otras referencias'!I:I,0),1))","v":""},"",null,null,null,null,null,null,null,null,null,null,null,null,null,null,null,null,null,null,null,null,null,null,null,null,null,null,null,null,null,null,null,null,null,null,0,0,0,0,0,0,0,0,null,null,null,null,null,0,null,null,null,null,null,{"$f":"IF(R169<>\"\",CONCATENATE($A$2,DIGITADOR!$M$1,ROW()-2),\"\")","v":""},"",{"$f":"IF(E169=\"\",\"\",INDEX(referentes!D:E,MATCH(E169,referentes!E:E,0),1))","v":""},{"$f":"IF(F169=\"\",\"\",INDEX(referentes!J:K,MATCH(F169,referentes!K:K,0),1))","v":""},{"$f":"IF(AI169=\"\",\"\",INDEX(referentes!M:N,MATCH(AI169,referentes!N:N,0),1))","v":""},{"$f":"IF(I169=\"\",\"\",INDEX(referentes!P:Q,MATCH(I169,referentes!Q:Q,0),1))","v":""},{"$f":"IF(J169=\"\",\"\",INDEX(referentes!S:T,MATCH(J169,referentes!T:T,0),1))","v":""},{"$f":"IF(AB169=\"\",\"\",INDEX(referentes!V:W,MATCH(AB169,referentes!W:W,0),1))","v":""},{"$f":"IF(Y169=\"\",\"\",INDEX(referentes!AZ:BA,MATCH(Y169,referentes!BA:BA,0),1))","v":""},"","","","",{"$f":"IF(BP169=\"\",\"\",INDEX(referentes!AE:AF,MATCH(BP169,referentes!AF:AF,0),1))","v":""},{"$f":"IF(BQ169=\"\",\"\",INDEX(referentes!AH:AI,MATCH(BQ169,referentes!AI:AI,0),1))","v":""},null,{"$f":"IF(D169=\"\",\"\",INDEX(referentes!A:B,MATCH(D169,referentes!B:B,0),1))","v":""},{"$f":"IF(AT169=\"\",\"\",INDEX(referentes!Y:Z,MATCH(AT169,referentes!Z:Z,0),1))","v":""},{"$f":"IF(AU169=\"\",\"\",INDEX(referentes!AB:AC,MATCH(AU169,referentes!AC:AC,0),1))","v":""}]
[null,{"$f":"IF(BT170=\"\",\"\",IF(COUNTIF($BT170:BT170, BT170)>1, \"\", BT170))","v":""},null,null,null,null,null,null,null,null,null,null,{"$f":"IF(L170=\"\",\"\",INDEX(referentes!AK:AL,MATCH(L170,referentes!AL:AL,0),1))","v":""},"",null,169,{"$f":"IF(K170=\"\",\"\",INDEX('Otras referencias'!F:I,MATCH(K170,'Otras referencias'!I:I,0),1))","v":""},"",null,null,null,null,null,null,null,null,null,null,null,null,null,null,null,null,null,null,null,null,null,null,null,null,null,null,null,null,null,null,null,null,null,null,0,0,0,0,0,0,0,0,null,null,null,null,null,0,null,null,null,null,null,{"$f":"IF(R170<>\"\",CONCATENATE($A$2,DIGITADOR!$M$1,ROW()-2),\"\")","v":""},"",{"$f":"IF(E170=\"\",\"\",INDEX(referentes!D:E,MATCH(E170,referentes!E:E,0),1))","v":""},{"$f":"IF(F170=\"\",\"\",INDEX(referentes!J:K,MATCH(F170,referentes!K:K,0),1))","v":""},{"$f":"IF(AI170=\"\",\"\",INDEX(referentes!M:N,MATCH(AI170,referentes!N:N,0),1))","v":""},{"$f":"IF(I170=\"\",\"\",INDEX(referentes!P:Q,MATCH(I170,referentes!Q:Q,0),1))","v":""},{"$f":"IF(J170=\"\",\"\",INDEX(referentes!S:T,MATCH(J170,referentes!T:T,0),1))","v":""},{"$f":"IF(AB170=\"\",\"\",INDEX(referentes!V:W,MATCH(AB170,referentes!W:W,0),1))","v":""},{"$f":"IF(Y170=\"\",\"\",INDEX(referentes!AZ:BA,MATCH(Y170,referentes!BA:BA,0),1))","v":""},"","","","",{"$f":"IF(BP170=\"\",\"\",INDEX(referentes!AE:AF,MATCH(BP170,referentes!AF:AF,0),1))","v":""},{"$f":"IF(BQ170=\"\",\"\",INDEX(referentes!AH:AI,MATCH(BQ170,referentes!AI:AI,0),1))","v":""},null,{"$f":"IF(D170=\"\",\"\",INDEX(referentes!A:B,MATCH(D170,referentes!B:B,0),1))","v":""},{"$f":"IF(AT170=\"\",\"\",INDEX(referentes!Y:Z,MATCH(AT170,referentes!Z:Z,0),1))","v":""},{"$f":"IF(AU170=\"\",\"\",INDEX(referentes!AB:AC,MATCH(AU170,referentes!AC:AC,0),1))","v":""}]
[null,{"$f":"IF(BT171=\"\",\"\",IF(COUNTIF($BT171:BT171, BT171)>1, \"\", BT171))","v":""},null,null,null,null,null,null,null,null,null,null,{"$f":"IF(L171=\"\",\"\",INDEX(referentes!AK:AL,MATCH(L171,referentes!AL:AL,0),1))","v":""},"",null,170,{"$f":"IF(K171=\"\",\"\",INDEX('Otras referencias'!F:I,MATCH(K171,'Otras referencias'!I:I,0),1))","v":""},"",null,null,null,null,null,null,null,null,null,null,null,null,null,null,null,null,null,null,null,null,null,null,null,null,null,null,null,null,null,null,null,null,null,null,0,0,0,0,0,0,0,0,null,null,null,null,null,0,null,null,null,null,null,{"$f":"IF(R171<>\"\",CONCATENATE($A$2,DIGITADOR!$M$1,ROW()-2),\"\")","v":""},"",{"$f":"IF(E171=\"\",\"\",INDEX(referentes!D:E,MATCH(E171,referentes!E:E,0),1))","v":""},{"$f":"IF(F171=\"\",\"\",INDEX(referentes!J:K,MATCH(F171,referentes!K:K,0),1))","v":""},{"$f":"IF(AI171=\"\",\"\",INDEX(referentes!M:N,MATCH(AI171,referentes!N:N,0),1))","v":""},{"$f":"IF(I171=\"\",\"\",INDEX(referentes!P:Q,MATCH(I171,referentes!Q:Q,0),1))","v":""},{"$f":"IF(J171=\"\",\"\",INDEX(referentes!S:T,MATCH(J171,referentes!T:T,0),1))","v":""},{"$f":"IF(AB171=\"\",\"\",INDEX(referentes!V:W,MATCH(AB171,referentes!W:W,0),1))","v":""},{"$f":"IF(Y171=\"\",\"\",INDEX(referentes!AZ:BA,MATCH(Y171,referentes!BA:BA,0),1))","v":""},"","","","",{"$f":"IF(BP171=\"\",\"\",INDEX(referentes!AE:AF,MATCH(BP171,referentes!AF:AF,0),1))","v":""},{"$f":"IF(BQ171=\"\",\"\",INDEX(referentes!AH:AI,MATCH(BQ171,referentes!AI:AI,0),1))","v":""},null,{"$f":"IF(D171=\"\",\"\",INDEX(referentes!A:B,MATCH(D171,referentes!B:B,0),1))","v":""},{"$f":"IF(AT171=\"\",\"\",INDEX(referentes!Y:Z,MATCH(AT171,referentes!Z:Z,0),1))","v":""},{"$f":"IF(AU171=\"\",\"\",INDEX(referentes!AB:AC,MATCH(AU171,referentes!AC:AC,0),1))","v":""}]
[null,{"$f":"IF(BT172=\"\",\"\",IF(COUNTIF($BT172:BT172, BT172)>1, \"\", BT172))","v":""},null,null,null,null,null,null,null,null,null,null,{"$f":"IF(L172=\"\",\"\",INDEX(referentes!AK:AL,MATCH(L172,referentes!AL:AL,0),1))","v":""},"",null,171,{"$f":"IF(K172=\"\",\"\",INDEX('Otras referencias'!F:I,MATCH(K172,'Otras referencias'!I:I,0),1))","v":""},"",null,null,null,null,null,null,null,null,null,null,null,null,null,null,null,null,null,null,null,null,null,null,null,null,null,null,null,null,null,null,null,null,null,null,0,0,0,0,0,0,0,0,null,null,null,null,null,0,null,null,null,null,null,{"$f":"IF(R172<>\"\",CONCATENATE($A$2,DIGITADOR!$M$1,ROW()-2),\"\")","v":""},"",{"$f":"IF(E172=\"\",\"\",INDEX(referentes!D:E,MATCH(E172,referentes!E:E,0),1))","v":""},{"$f":"IF(F172=\"\",\"\",INDEX(referentes!J:K,MATCH(F172,referentes!K:K,0),1))","v":""},{"$f":"IF(AI172=\"\",\"\",INDEX(referentes!M:N,MATCH(AI172,referentes!N:N,0),1))","v":""},{"$f":"IF(I172=\"\",\"\",INDEX(referentes!P:Q,MATCH(I172,referentes!Q:Q,0),1))","v":""},{"$f":"IF(J172=\"\",\"\",INDEX(referentes!S:T,MATCH(J172,referentes!T:T,0),1))","v":""},{"$f":"IF(AB172=\"\",\"\",INDEX(referentes!V:W,MATCH(AB172,referentes!W:W,0),1))","v":""},{"$f":"IF(Y172=\"\",\"\",INDEX(referentes!AZ:BA,MATCH(Y172,referentes!BA:BA,0),1))","v":""},"","","","",{"$f":"IF(BP172=\"\",\"\",INDEX(referentes!AE:AF,MATCH(BP172,referentes!AF:AF,0),1))","v":""},{"$f":"IF(BQ172=\"\",\"\",INDEX(referentes!AH:AI,MATCH(BQ172,referentes!AI:AI,0),1))","v":""},null,{"$f":"IF(D172=\"\",\"\",INDEX(referentes!A:B,MATCH(D172,referentes!B:B,0),1))","v":""},{"$f":"IF(AT172=\"\",\"\",INDEX(referentes!Y:Z,MATCH(AT172,referentes!Z:Z,0),1))","v":""},{"$f":"IF(AU172=\"\",\"\",INDEX(referentes!AB:AC,MATCH(AU172,referentes!AC:AC,0),1))","v":""}]
[null,{"$f":"IF(BT173=\"\",\"\",IF(COUNTIF($BT173:BT173, BT173)>1, \"\", BT173))","v":""},null,null,null,null,null,null,null,null,null,null,{"$f":"IF(L173=\"\",\"\",INDEX(referentes!AK:AL,MATCH(L173,referentes!AL:AL,0),1))","v":""},"",null,172,{"$f":"IF(K173=\"\",\"\",INDEX('Otras referencias'!F:I,MATCH(K173,'Otras referencias'!I:I,0),1))","v":""},"",null,null,null,null,null,null,null,null,null,null,null,null,null,null,null,null,null,null,null,null,null,null,null,null,null,null,null,null,null,null,null,null,null,null,0,0,0,0,0,0,0,0,null,null,null,null,null,0,null,null,null,null,null,{"$f":"IF(R173<>\"\",CONCATENATE($A$2,DIGITADOR!$M$1,ROW()-2),\"\")","v":""},"",{"$f":"IF(E173=\"\",\"\",INDEX(referentes!D:E,MATCH(E173,referentes!E:E,0),1))","v":""},{"$f":"IF(F173=\"\",\"\",INDEX(referentes!J:K,MATCH(F173,referentes!K:K,0),1))","v":""},{"$f":"IF(AI173=\"\",\"\",INDEX(referentes!M:N,MATCH(AI173,referentes!N:N,0),1))","v":""},{"$f":"IF(I173=\"\",\"\",INDEX(referentes!P:Q,MATCH(I173,referentes!Q:Q,0),1))","v":""},{"$f":"IF(J173=\"\",\"\",INDEX(referentes!S:T,MATCH(J173,referentes!T:T,0),1))","v":""},{"$f":"IF(AB173=\"\",\"\",INDEX(referentes!V:W,MATCH(AB173,referentes!W:W,0),1))","v":""},{"$f":"IF(Y173=\"\",\"\",INDEX(referentes!AZ:BA,MATCH(Y173,referentes!BA:BA,0),1))","v":""},"","","","",{"$f":"IF(BP173=\"\",\"\",INDEX(referentes!AE:AF,MATCH(BP173,referentes!AF:AF,0),1))","v":""},{"$f":"IF(BQ173=\"\",\"\",INDEX(referentes!AH:AI,MATCH(BQ173,referentes!AI:AI,0),1))","v":""},null,{"$f":"IF(D173=\"\",\"\",INDEX(referentes!A:B,MATCH(D173,referentes!B:B,0),1))","v":""},{"$f":"IF(AT173=\"\",\"\",INDEX(referentes!Y:Z,MATCH(AT173,referentes!Z:Z,0),1))","v":""},{"$f":"IF(AU173=\"\",\"\",INDEX(referentes!AB:AC,MATCH(AU173,referentes!AC:AC,0),1))","v":""}]
[null,{"$f":"IF(BT174=\"\",\"\",IF(COUNTIF($BT174:BT174, BT174)>1, \"\", BT174))","v":""},null,null,null,null,null,null,null,null,null,null,{"$f":"IF(L174=\"\",\"\",INDEX(referentes!AK:AL,MATCH(L174,referentes!AL:AL,0),1))","v":""},"",null,173,{"$f":"IF(K174=\"\",\"\",INDEX('Otras referencias'!F:I,MATCH(K174,'Otras referencias'!I:I,0),1))","v":""},"",null,null,null,null,null,null,null,null,null,null,null,null,null,null,null,null,null,null,null,null,null,null,null,null,null,null,null,null,null,null,null,null,null,null,0,0,0,0,0,0,0,0,null,null,null,null,null,0,null,null,null,null,null,{"$f":"IF(R174<>\"\",CONCATENATE($A$2,DIGITADOR!$M$1,ROW()-2),\"\")","v":""},"",{"$f":"IF(E174=\"\",\"\",INDEX(referentes!D:E,MATCH(E174,referentes!E:E,0),1))","v":""},{"$f":"IF(F174=\"\",\"\",INDEX(referentes!J:K,MATCH(F174,referentes!K:K,0),1))","v":""},{"$f":"IF(AI174=\"\",\"\",INDEX(referentes!M:N,MATCH(AI174,referentes!N:N,0),1))","v":""},{"$f":"IF(I174=\"\",\"\",INDEX(referentes!P:Q,MATCH(I174,referentes!Q:Q,0),1))","v":""},{"$f":"IF(J174=\"\",\"\",INDEX(referentes!S:T,MATCH(J174,referentes!T:T,0),1))","v":""},{"$f":"IF(AB174=\"\",\"\",INDEX(referentes!V:W,MATCH(AB174,referentes!W:W,0),1))","v":""},{"$f":"IF(Y174=\"\",\"\",INDEX(referentes!AZ:BA,MATCH(Y174,referentes!BA:BA,0),1))","v":""},"","","","",{"$f":"IF(BP174=\"\",\"\",INDEX(referentes!AE:AF,MATCH(BP174,referentes!AF:AF,0),1))","v":""},{"$f":"IF(BQ174=\"\",\"\",INDEX(referentes!AH:AI,MATCH(BQ174,referentes!AI:AI,0),1))","v":""},null,{"$f":"IF(D174=\"\",\"\",INDEX(referentes!A:B,MATCH(D174,referentes!B:B,0),1))","v":""},{"$f":"IF(AT174=\"\",\"\",INDEX(referentes!Y:Z,MATCH(AT174,referentes!Z:Z,0),1))","v":""},{"$f":"IF(AU174=\"\",\"\",INDEX(referentes!AB:AC,MATCH(AU174,referentes!AC:AC,0),1))","v":""}]
[null,{"$f":"IF(BT175=\"\",\"\",IF(COUNTIF($BT175:BT175, BT175)>1, \"\", BT175))","v":""},null,null,null,null,null,null,null,null,null,null,{"$f":"IF(L175=\"\",\"\",INDEX(referentes!AK:AL,MATCH(L175,referentes!AL:AL,0),1))","v":""},"",null,174,{"$f":"IF(K175=\"\",\"\",INDEX('Otras referencias'!F:I,MATCH(K175,'Otras referencias'!I:I,0),1))","v":""},"",null,null,null,null,null,null,null,null,null,null,null,null,null,null,null,null,null,null,null,null,null,null,null,null,null,null,null,null,null,null,null,null,null,null,0,0,0,0,0,0,0,0,null,null,null,null,null,0,null,null,null,null,null,{"$f":"IF(R175<>\"\",CONCATENATE($A$2,DIGITADOR!$M$1,ROW()-2),\"\")","v":""},"",{"$f":"IF(E175=\"\",\"\",INDEX(referentes!D:E,MATCH(E175,referentes!E:E,0),1))","v":""},{"$f":"IF(F175=\"\",\"\",INDEX(referentes!J:K,MATCH(F175,referentes!K:K,0),1))","v":""},{"$f":"IF(AI175=\"\",\"\",INDEX(referentes!M:N,MATCH(AI175,referentes!N:N,0),1))","v":""},{"$f":"IF(I175=\"\",\"\",INDEX(referentes!P:Q,MATCH(I175,referentes!Q:Q,0),1))","v":""},{"$f":"IF(J175=\"\",\"\",INDEX(referentes!S:T,MATCH(J175,referentes!T:T,0),1))","v":""},{"$f":"IF(AB175=\"\",\"\",INDEX(referentes!V:W,MATCH(AB175,referentes!W:W,0),1))","v":""},{"$f":"IF(Y175=\"\",\"\",INDEX(referentes!AZ:BA,MATCH(Y175,referentes!BA:BA,0),1))","v":""},"","","","",{"$f":"IF(BP175=\"\",\"\",INDEX(referentes!AE:AF,MATCH(BP175,referentes!AF:AF,0),1))","v":""},{"$f":"IF(BQ175=\"\",\"\",INDEX(referentes!AH:AI,MATCH(BQ175,referentes!AI:AI,0),1))","v":""},null,{"$f":"IF(D175=\"\",\"\",INDEX(referentes!A:B,MATCH(D175,referentes!B:B,0),1))","v":""},{"$f":"IF(AT175=\"\",\"\",INDEX(referentes!Y:Z,MATCH(AT175,referentes!Z:Z,0),1))","v":""},{"$f":"IF(AU175=\"\",\"\",INDEX(referentes!AB:AC,MATCH(AU175,referentes!AC:AC,0),1))","v":""}]
[null,{"$f":"IF(BT176=\"\",\"\",IF(COUNTIF($BT176:BT176, BT176)>1, \"\", BT176))","v":""},null,null,null,null,null,null,null,null,null,null,{"$f":"IF(L176=\"\",\"\",INDEX(referentes!AK:AL,MATCH(L176,referentes!AL:AL,0),1))","v":""},"",null,175,{"$f":"IF(K176=\"\",\"\",INDEX('Otras referencias'!F:I,MATCH(K176,'Otras referencias'!I:I,0),1))","v":""},"",null,null,null,null,null,null,null,null,null,null,null,null,null,null,null,null,null,null,null,null,null,null,null,null,null,null,null,null,null,null,null,null,null,null,0,0,0,0,0,0,0,0,null,null,null,null,null,0,null,null,null,null,null,{"$f":"IF(R176<>\"\",CONCATENATE($A$2,DIGITADOR!$M$1,ROW()-2),\"\")","v":""},"",{"$f":"IF(E176=\"\",\"\",INDEX(referentes!D:E,MATCH(E176,referentes!E:E,0),1))","v":""},{"$f":"IF(F176=\"\",\"\",INDEX(referentes!J:K,MATCH(F176,referentes!K:K,0),1))","v":""},{"$f":"IF(AI176=\"\",\"\",INDEX(referentes!M:N,MATCH(AI176,referentes!N:N,0),1))","v":""},{"$f":"IF(I176=\"\",\"\",INDEX(referentes!P:Q,MATCH(I176,referentes!Q:Q,0),1))","v":""},{"$f":"IF(J176=\"\",\"\",INDEX(referentes!S:T,MATCH(J176,referentes!T:T,0),1))","v":""},{"$f":"IF(AB176=\"\",\"\",INDEX(referentes!V:W,MATCH(AB176,referentes!W:W,0),1))","v":""},{"$f":"IF(Y176=\"\",\"\",INDEX(referentes!AZ:BA,MATCH(Y176,referentes!BA:BA,0),1))","v":""},"","","","",{"$f":"IF(BP176=\"\",\"\",INDEX(referentes!AE:AF,MATCH(BP176,referentes!AF:AF,0),1))","v":""},{"$f":"IF(BQ176=\"\",\"\",INDEX(referentes!AH:AI,MATCH(BQ176,referentes!AI:AI,0),1))","v":""},null,{"$f":"IF(D176=\"\",\"\",INDEX(referentes!A:B,MATCH(D176,referentes!B:B,0),1))","v":""},{"$f":"IF(AT176=\"\",\"\",INDEX(referentes!Y:Z,MATCH(AT176,referentes!Z:Z,0),1))","v":""},{"$f":"IF(AU176=\"\",\"\",INDEX(referentes!AB:AC,MATCH(AU176,referentes!AC:AC,0),1))","v":""}]
[null,{"$f":"IF(BT177=\"\",\"\",IF(COUNTIF($BT177:BT177, BT177)>1, \"\", BT177))","v":""},null,null,null,null,null,null,null,null,null,null,{"$f":"IF(L177=\"\",\"\",INDEX(referentes!AK:AL,MATCH(L177,referentes!AL:AL,0),1))","v":""},"",null,176,{"$f":"IF(K177=\"\",\"\",INDEX('Otras referencias'!F:I,MATCH(K177,'Otras referencias'!I:I,0),1))","v":""},"",null,null,null,null,null,null,null,null,null,null,null,null,null,null,null,null,null,null,null,null,null,null,null,null,null,null,null,null,null,null,null,null,null,null,0,0,0,0,0,0,0,0,null,null,null,null,null,0,null,null,null,null,null,{"$f":"IF(R177<>\"\",CONCATENATE($A$2,DIGITADOR!$M$1,ROW()-2),\"\")","v":""},"",{"$f":"IF(E177=\"\",\"\",INDEX(referentes!D:E,MATCH(E177,referentes!E:E,0),1))","v":""},{"$f":"IF(F177=\"\",\"\",INDEX(referentes!J:K,MATCH(F177,referentes!K:K,0),1))","v":""},{"$f":"IF(AI177=\"\",\"\",INDEX(referentes!M:N,MATCH(AI177,referentes!N:N,0),1))","v":""},{"$f":"IF(I177=\"\",\"\",INDEX(referentes!P:Q,MATCH(I177,referentes!Q:Q,0),1))","v":""},{"$f":"IF(J177=\"\",\"\",INDEX(referentes!S:T,MATCH(J177,referentes!T:T,0),1))","v":""},{"$f":"IF(AB177=\"\",\"\",INDEX(referentes!V:W,MATCH(AB177,referentes!W:W,0),1))","v":""},{"$f":"IF(Y177=\"\",\"\",INDEX(referentes!AZ:BA,MATCH(Y177,referentes!BA:BA,0),1))","v":""},"","","","",{"$f":"IF(BP177=\"\",\"\",INDEX(referentes!AE:AF,MATCH(BP177,referentes!AF:AF,0),1))","v":""},{"$f":"IF(BQ177=\"\",\"\",INDEX(referentes!AH:AI,MATCH(BQ177,referentes!AI:AI,0),1))","v":""},null,{"$f":"IF(D177=\"\",\"\",INDEX(referentes!A:B,MATCH(D177,referentes!B:B,0),1))","v":""},{"$f":"IF(AT177=\"\",\"\",INDEX(referentes!Y:Z,MATCH(AT177,referentes!Z:Z,0),1))","v":""},{"$f":"IF(AU177=\"\",\"\",INDEX(referentes!AB:AC,MATCH(AU177,referentes!AC:AC,0),1))","v":""}]
[null,{"$f":"IF(BT178=\"\",\"\",IF(COUNTIF($BT178:BT178, BT178)>1, \"\", BT178))","v":""},null,null,null,null,null,null,null,null,null,null,{"$f":"IF(L178=\"\",\"\",INDEX(referentes!AK:AL,MATCH(L178,referentes!AL:AL,0),1))","v":""},"",null,177,{"$f":"IF(K178=\"\",\"\",INDEX('Otras referencias'!F:I,MATCH(K178,'Otras referencias'!I:I,0),1))","v":""},"",null,null,null,null,null,null,null,null,null,null,null,null,null,null,null,null,null,null,null,null,null,null,null,null,null,null,null,null,null,null,null,null,null,null,0,0,0,0,0,0,0,0,null,null,null,null,null,0,null,null,null,null,null,{"$f":"IF(R178<>\"\",CONCATENATE($A$2,DIGITADOR!$M$1,ROW()-2),\"\")","v":""},"",{"$f":"IF(E178=\"\",\"\",INDEX(referentes!D:E,MATCH(E178,referentes!E:E,0),1))","v":""},{"$f":"IF(F178=\"\",\"\",INDEX(referentes!J:K,MATCH(F178,referentes!K:K,0),1))","v":""},{"$f":"IF(AI178=\"\",\"\",INDEX(referentes!M:N,MATCH(AI178,referentes!N:N,0),1))","v":""},{"$f":"IF(I178=\"\",\"\",INDEX(referentes!P:Q,MATCH(I178,referentes!Q:Q,0),1))","v":""},{"$f":"IF(J178=\"\",\"\",INDEX(referentes!S:T,MATCH(J178,referentes!T:T,0),1))","v":""},{"$f":"IF(AB178=\"\",\"\",INDEX(referentes!V:W,MATCH(AB178,referentes!W:W,0),1))","v":""},{"$f":"IF(Y178=\"\",\"\",INDEX(referentes!AZ:BA,MATCH(Y178,referentes!BA:BA,0),1))","v":""},"","","","",{"$f":"IF(BP178=\"\",\"\",INDEX(referentes!AE:AF,MATCH(BP178,referentes!AF:AF,0),1))","v":""},{"$f":"IF(BQ178=\"\",\"\",INDEX(referentes!AH:AI,MATCH(BQ178,referentes!AI:AI,0),1))","v":""},null,{"$f":"IF(D178=\"\",\"\",INDEX(referentes!A:B,MATCH(D178,referentes!B:B,0),1))","v":""},{"$f":"IF(AT178=\"\",\"\",INDEX(referentes!Y:Z,MATCH(AT178,referentes!Z:Z,0),1))","v":""},{"$f":"IF(AU178=\"\",\"\",INDEX(referentes!AB:AC,MATCH(AU178,referentes!AC:AC,0),1))","v":""}]
[null,{"$f":"IF(BT179=\"\",\"\",IF(COUNTIF($BT179:BT179, BT179)>1, \"\", BT179))","v":""},null,null,null,null,null,null,null,null,null,null,{"$f":"IF(L179=\"\",\"\",INDEX(referentes!AK:AL,MATCH(L179,referentes!AL:AL,0),1))","v":""},"",null,178,{"$f":"IF(K179=\"\",\"\",INDEX('Otras referencias'!F:I,MATCH(K179,'Otras referencias'!I:I,0),1))","v":""},"",null,null,null,null,null,null,null,null,null,null,null,null,null,null,null,null,null,null,null,null,null,null,null,null,null,null,null,null,null,null,null,null,null,null,0,0,0,0,0,0,0,0,null,null,null,null,null,0,null,null,null,null,null,{"$f":"IF(R179<>\"\",CONCATENATE($A$2,DIGITADOR!$M$1,ROW()-2),\"\")","v":""},"",{"$f":"IF(E179=\"\",\"\",INDEX(referentes!D:E,MATCH(E179,referentes!E:E,0),1))","v":""},{"$f":"IF(F179=\"\",\"\",INDEX(referentes!J:K,MATCH(F179,referentes!K:K,0),1))","v":""},{"$f":"IF(AI179=\"\",\"\",INDEX(referentes!M:N,MATCH(AI179,referentes!N:N,0),1))","v":""},{"$f":"IF(I179=\"\",\"\",INDEX(referentes!P:Q,MATCH(I179,referentes!Q:Q,0),1))","v":""},{"$f":"IF(J179=\"\",\"\",INDEX(referentes!S:T,MATCH(J179,referentes!T:T,0),1))","v":""},{"$f":"IF(AB179=\"\",\"\",INDEX(referentes!V:W,MATCH(AB179,referentes!W:W,0),1))","v":""},{"$f":"IF(Y179=\"\",\"\",INDEX(referentes!AZ:BA,MATCH(Y179,referentes!BA:BA,0),1))","v":""},"","","","",{"$f":"IF(BP179=\"\",\"\",INDEX(referentes!AE:AF,MATCH(BP179,referentes!AF:AF,0),1))","v":""},{"$f":"IF(BQ179=\"\",\"\",INDEX(referentes!AH:AI,MATCH(BQ179,referentes!AI:AI,0),1))","v":""},null,{"$f":"IF(D179=\"\",\"\",INDEX(referentes!A:B,MATCH(D179,referentes!B:B,0),1))","v":""},{"$f":"IF(AT179=\"\",\"\",INDEX(referentes!Y:Z,MATCH(AT179,referentes!Z:Z,0),1))","v":""},{"$f":"IF(AU179=\"\",\"\",INDEX(referentes!AB:AC,MATCH(AU179,referentes!AC:AC,0),1))","v":""}]
[null,{"$f":"IF(BT180=\"\",\"\",IF(COUNTIF($BT180:BT180, BT180)>1, \"\", BT180))","v":""},null,null,null,null,null,null,null,null,null,null,{"$f":"IF(L180=\"\",\"\",INDEX(referentes!AK:AL,MATCH(L180,referentes!AL:AL,0),1))","v":""},"",null,179,{"$f":"IF(K180=\"\",\"\",INDEX('Otras referencias'!F:I,MATCH(K180,'Otras referencias'!I:I,0),1))","v":""},"",null,null,null,null,null,null,null,null,null,null,null,null,null,null,null,null,null,null,null,null,null,null,null,null,null,null,null,null,null,null,null,null,null,null,0,0,0,0,0,0,0,0,null,null,null,null,null,0,null,null,null,null,null,{"$f":"IF(R180<>\"\",CONCATENATE($A$2,DIGITADOR!$M$1,ROW()-2),\"\")","v":""},"",{"$f":"IF(E180=\"\",\"\",INDEX(referentes!D:E,MATCH(E180,referentes!E:E,0),1))","v":""},{"$f":"IF(F180=\"\",\"\",INDEX(referentes!J:K,MATCH(F180,referentes!K:K,0),1))","v":""},{"$f":"IF(AI180=\"\",\"\",INDEX(referentes!M:N,MATCH(AI180,referentes!N:N,0),1))","v":""},{"$f":"IF(I180=\"\",\"\",INDEX(referentes!P:Q,MATCH(I180,referentes!Q:Q,0),1))","v":""},{"$f":"IF(J180=\"\",\"\",INDEX(referentes!S:T,MATCH(J180,referentes!T:T,0),1))","v":""},{"$f":"IF(AB180=\"\",\"\",INDEX(referentes!V:W,MATCH(AB180,referentes!W:W,0),1))","v":""},{"$f":"IF(Y180=\"\",\"\",INDEX(referentes!AZ:BA,MATCH(Y180,referentes!BA:BA,0),1))","v":""},"","","","",{"$f":"IF(BP180=\"\",\"\",INDEX(referentes!AE:AF,MATCH(BP180,referentes!AF:AF,0),1))","v":""},{"$f":"IF(BQ180=\"\",\"\",INDEX(referentes!AH:AI,MATCH(BQ180,referentes!AI:AI,0),1))","v":""},null,{"$f":"IF(D180=\"\",\"\",INDEX(referentes!A:B,MATCH(D180,referentes!B:B,0),1))","v":""},{"$f":"IF(AT180=\"\",\"\",INDEX(referentes!Y:Z,MATCH(AT180,referentes!Z:Z,0),1))","v":""},{"$f":"IF(AU180=\"\",\"\",INDEX(referentes!AB:AC,MATCH(AU180,referentes!AC:AC,0),1))","v":""}]
[null,{"$f":"IF(BT181=\"\",\"\",IF(COUNTIF($BT181:BT181, BT181)>1, \"\", BT181))","v":""},null,null,null,null,null,null,null,null,null,null,{"$f":"IF(L181=\"\",\"\",INDEX(referentes!AK:AL,MATCH(L181,referentes!AL:AL,0),1))","v":""},"",null,180,{"$f":"IF(K181=\"\",\"\",INDEX('Otras referencias'!F:I,MATCH(K181,'Otras referencias'!I:I,0),1))","v":""},"",null,null,null,null,null,null,null,null,null,null,null,null,null,null,null,null,null,null,null,null,null,null,null,null,null,null,null,null,null,null,null,null,null,null,0,0,0,0,0,0,0,0,null,null,null,null,null,0,null,null,null,null,null,{"$f":"IF(R181<>\"\",CONCATENATE($A$2,DIGITADOR!$M$1,ROW()-2),\"\")","v":""},"",{"$f":"IF(E181=\"\",\"\",INDEX(referentes!D:E,MATCH(E181,referentes!E:E,0),1))","v":""},{"$f":"IF(F181=\"\",\"\",INDEX(referentes!J:K,MATCH(F181,referentes!K:K,0),1))","v":""},{"$f":"IF(AI181=\"\",\"\",INDEX(referentes!M:N,MATCH(AI181,referentes!N:N,0),1))","v":""},{"$f":"IF(I181=\"\",\"\",INDEX(referentes!P:Q,MATCH(I181,referentes!Q:Q,0),1))","v":""},{"$f":"IF(J181=\"\",\"\",INDEX(referentes!S:T,MATCH(J181,referentes!T:T,0),1))","v":""},{"$f":"IF(AB181=\"\",\"\",INDEX(referentes!V:W,MATCH(AB181,referentes!W:W,0),1))","v":""},{"$f":"IF(Y181=\"\",\"\",INDEX(referentes!AZ:BA,MATCH(Y181,referentes!BA:BA,0),1))","v":""},"","","","",{"$f":"IF(BP181=\"\",\"\",INDEX(referentes!AE:AF,MATCH(BP181,referentes!AF:AF,0),1))","v":""},{"$f":"IF(BQ181=\"\",\"\",INDEX(referentes!AH:AI,MATCH(BQ181,referentes!AI:AI,0),1))","v":""},null,{"$f":"IF(D181=\"\",\"\",INDEX(referentes!A:B,MATCH(D181,referentes!B:B,0),1))","v":""},{"$f":"IF(AT181=\"\",\"\",INDEX(referentes!Y:Z,MATCH(AT181,referentes!Z:Z,0),1))","v":""},{"$f":"IF(AU181=\"\",\"\",INDEX(referentes!AB:AC,MATCH(AU181,referentes!AC:AC,0),1))","v":""}]
[null,{"$f":"IF(BT182=\"\",\"\",IF(COUNTIF($BT182:BT182, BT182)>1, \"\", BT182))","v":""},null,null,null,null,null,null,null,null,null,null,{"$f":"IF(L182=\"\",\"\",INDEX(referentes!AK:AL,MATCH(L182,referentes!AL:AL,0),1))","v":""},"",null,181,{"$f":"IF(K182=\"\",\"\",INDEX('Otras referencias'!F:I,MATCH(K182,'Otras referencias'!I:I,0),1))","v":""},"",null,null,null,null,null,null,null,null,null,null,null,null,null,null,null,null,null,null,null,null,null,null,null,null,null,null,null,null,null,null,null,null,null,null,0,0,0,0,0,0,0,0,null,null,null,null,null,0,null,null,null,null,null,{"$f":"IF(R182<>\"\",CONCATENATE($A$2,DIGITADOR!$M$1,ROW()-2),\"\")","v":""},"",{"$f":"IF(E182=\"\",\"\",INDEX(referentes!D:E,MATCH(E182,referentes!E:E,0),1))","v":""},{"$f":"IF(F182=\"\",\"\",INDEX(referentes!J:K,MATCH(F182,referentes!K:K,0),1))","v":""},{"$f":"IF(AI182=\"\",\"\",INDEX(referentes!M:N,MATCH(AI182,referentes!N:N,0),1))","v":""},{"$f":"IF(I182=\"\",\"\",INDEX(referentes!P:Q,MATCH(I182,referentes!Q:Q,0),1))","v":""},{"$f":"IF(J182=\"\",\"\",INDEX(referentes!S:T,MATCH(J182,referentes!T:T,0),1))","v":""},{"$f":"IF(AB182=\"\",\"\",INDEX(referentes!V:W,MATCH(AB182,referentes!W:W,0),1))","v":""},{"$f":"IF(Y182=\"\",\"\",INDEX(referentes!AZ:BA,MATCH(Y182,referentes!BA:BA,0),1))","v":""},"","","","",{"$f":"IF(BP182=\"\",\"\",INDEX(referentes!AE:AF,MATCH(BP182,referentes!AF:AF,0),1))","v":""},{"$f":"IF(BQ182=\"\",\"\",INDEX(referentes!AH:AI,MATCH(BQ182,referentes!AI:AI,0),1))","v":""},null,{"$f":"IF(D182=\"\",\"\",INDEX(referentes!A:B,MATCH(D182,referentes!B:B,0),1))","v":""},{"$f":"IF(AT182=\"\",\"\",INDEX(referentes!Y:Z,MATCH(AT182,referentes!Z:Z,0),1))","v":""},{"$f":"IF(AU182=\"\",\"\",INDEX(referentes!AB:AC,MATCH(AU182,referentes!AC:AC,0),1))","v":""}]
[null,{"$f":"IF(BT183=\"\",\"\",IF(COUNTIF($BT183:BT183, BT183)>1, \"\", BT183))","v":""},null,null,null,null,null,null,null,null,null,null,{"$f":"IF(L183=\"\",\"\",INDEX(referentes!AK:AL,MATCH(L183,referentes!AL:AL,0),1))","v":""},"",null,182,{"$f":"IF(K183=\"\",\"\",INDEX('Otras referencias'!F:I,MATCH(K183,'Otras referencias'!I:I,0),1))","v":""},"",null,null,null,null,null,null,null,null,null,null,null,null,null,null,null,null,null,null,null,null,null,null,null,null,null,null,null,null,null,null,null,null,null,null,0,0,0,0,0,0,0,0,null,null,null,null,null,0,null,null,null,null,null,{"$f":"IF(R183<>\"\",CONCATENATE($A$2,DIGITADOR!$M$1,ROW()-2),\"\")","v":""},"",{"$f":"IF(E183=\"\",\"\",INDEX(referentes!D:E,MATCH(E183,referentes!E:E,0),1))","v":""},{"$f":"IF(F183=\"\",\"\",INDEX(referentes!J:K,MATCH(F183,referentes!K:K,0),1))","v":""},{"$f":"IF(AI183=\"\",\"\",INDEX(referentes!M:N,MATCH(AI183,referentes!N:N,0),1))","v":""},{"$f":"IF(I183=\"\",\"\",INDEX(referentes!P:Q,MATCH(I183,referentes!Q:Q,0),1))","v":""},{"$f":"IF(J183=\"\",\"\",INDEX(referentes!S:T,MATCH(J183,referentes!T:T,0),1))","v":""},{"$f":"IF(AB183=\"\",\"\",INDEX(referentes!V:W,MATCH(AB183,referentes!W:W,0),1))","v":""},{"$f":"IF(Y183=\"\",\"\",INDEX(referentes!AZ:BA,MATCH(Y183,referentes!BA:BA,0),1))","v":""},"","","","",{"$f":"IF(BP183=\"\",\"\",INDEX(referentes!AE:AF,MATCH(BP183,referentes!AF:AF,0),1))","v":""},{"$f":"IF(BQ183=\"\",\"\",INDEX(referentes!AH:AI,MATCH(BQ183,referentes!AI:AI,0),1))","v":""},null,{"$f":"IF(D183=\"\",\"\",INDEX(referentes!A:B,MATCH(D183,referentes!B:B,0),1))","v":""},{"$f":"IF(AT183=\"\",\"\",INDEX(referentes!Y:Z,MATCH(AT183,referentes!Z:Z,0),1))","v":""},{"$f":"IF(AU183=\"\",\"\",INDEX(referentes!AB:AC,MATCH(AU183,referentes!AC:AC,0),1))","v":""}]
[null,{"$f":"IF(BT184=\"\",\"\",IF(COUNTIF($BT184:BT184, BT184)>1, \"\", BT184))","v":""},null,null,null,null,null,null,null,null,null,null,{"$f":"IF(L184=\"\",\"\",INDEX(referentes!AK:AL,MATCH(L184,referentes!AL:AL,0),1))","v":""},"",null,183,{"$f":"IF(K184=\"\",\"\",INDEX('Otras referencias'!F:I,MATCH(K184,'Otras referencias'!I:I,0),1))","v":""},"",null,null,null,null,null,null,null,null,null,null,null,null,null,null,null,null,null,null,null,null,null,null,null,null,null,null,null,null,null,null,null,null,null,null,0,0,0,0,0,0,0,0,null,null,null,null,null,0,null,null,null,null,null,{"$f":"IF(R184<>\"\",CONCATENATE($A$2,DIGITADOR!$M$1,ROW()-2),\"\")","v":""},"",{"$f":"IF(E184=\"\",\"\",INDEX(referentes!D:E,MATCH(E184,referentes!E:E,0),1))","v":""},{"$f":"IF(F184=\"\",\"\",INDEX(referentes!J:K,MATCH(F184,referentes!K:K,0),1))","v":""},{"$f":"IF(AI184=\"\",\"\",INDEX(referentes!M:N,MATCH(AI184,referentes!N:N,0),1))","v":""},{"$f":"IF(I184=\"\",\"\",INDEX(referentes!P:Q,MATCH(I184,referentes!Q:Q,0),1))","v":""},{"$f":"IF(J184=\"\",\"\",INDEX(referentes!S:T,MATCH(J184,referentes!T:T,0),1))","v":""},{"$f":"IF(AB184=\"\",\"\",INDEX(referentes!V:W,MATCH(AB184,referentes!W:W,0),1))","v":""},{"$f":"IF(Y184=\"\",\"\",INDEX(referentes!AZ:BA,MATCH(Y184,referentes!BA:BA,0),1))","v":""},"","","","",{"$f":"IF(BP184=\"\",\"\",INDEX(referentes!AE:AF,MATCH(BP184,referentes!AF:AF,0),1))","v":""},{"$f":"IF(BQ184=\"\",\"\",INDEX(referentes!AH:AI,MATCH(BQ184,referentes!AI:AI,0),1))","v":""},null,{"$f":"IF(D184=\"\",\"\",INDEX(referentes!A:B,MATCH(D184,referentes!B:B,0),1))","v":""},{"$f":"IF(AT184=\"\",\"\",INDEX(referentes!Y:Z,MATCH(AT184,referentes!Z:Z,0),1))","v":""},{"$f":"IF(AU184=\"\",\"\",INDEX(referentes!AB:AC,MATCH(AU184,referentes!AC:AC,0),1))","v":""}]
[null,{"$f":"IF(BT185=\"\",\"\",IF(COUNTIF($BT185:BT185, BT185)>1, \"\", BT185))","v":""},null,null,null,null,null,null,null,null,null,null,{"$f":"IF(L185=\"\",\"\",INDEX(referentes!AK:AL,MATCH(L185,referentes!AL:AL,0),1))","v":""},"",null,184,{"$f":"IF(K185=\"\",\"\",INDEX('Otras referencias'!F:I,MATCH(K185,'Otras referencias'!I:I,0),1))","v":""},"",null,null,null,null,null,null,null,null,null,null,null,null,null,null,null,null,null,null,null,null,null,null,null,null,null,null,null,null,null,null,null,null,null,null,0,0,0,0,0,0,0,0,null,null,null,null,null,0,null,null,null,null,null,{"$f":"IF(R185<>\"\",CONCATENATE($A$2,DIGITADOR!$M$1,ROW()-2),\"\")","v":""},"",{"$f":"IF(E185=\"\",\"\",INDEX(referentes!D:E,MATCH(E185,referentes!E:E,0),1))","v":""},{"$f":"IF(F185=\"\",\"\",INDEX(referentes!J:K,MATCH(F185,referentes!K:K,0),1))","v":""},{"$f":"IF(AI185=\"\",\"\",INDEX(referentes!M:N,MATCH(AI185,referentes!N:N,0),1))","v":""},{"$f":"IF(I185=\"\",\"\",INDEX(referentes!P:Q,MATCH(I185,referentes!Q:Q,0),1))","v":""},{"$f":"IF(J185=\"\",\"\",INDEX(referentes!S:T,MATCH(J185,referentes!T:T,0),1))","v":""},{"$f":"IF(AB185=\"\",\"\",INDEX(referentes!V:W,MATCH(AB185,referentes!W:W,0),1))","v":""},{"$f":"IF(Y185=\"\",\"\",INDEX(referentes!AZ:BA,MATCH(Y185,referentes!BA:BA,0),1))","v":""},"","","","",{"$f":"IF(BP185=\"\",\"\",INDEX(referentes!AE:AF,MATCH(BP185,referentes!AF:AF,0),1))","v":""},{"$f":"IF(BQ185=\"\",\"\",INDEX(referentes!AH:AI,MATCH(BQ185,referentes!AI:AI,0),1))","v":""},null,{"$f":"IF(D185=\"\",\"\",INDEX(referentes!A:B,MATCH(D185,referentes!B:B,0),1))","v":""},{"$f":"IF(AT185=\"\",\"\",INDEX(referentes!Y:Z,MATCH(AT185,referentes!Z:Z,0),1))","v":""},{"$f":"IF(AU185=\"\",\"\",INDEX(referentes!AB:AC,MATCH(AU185,referentes!AC:AC,0),1))","v":""}]
[null,{"$f":"IF(BT186=\"\",\"\",IF(COUNTIF($BT186:BT186, BT186)>1, \"\", BT186))","v":""},null,null,null,null,null,null,null,null,null,null,{"$f":"IF(L186=\"\",\"\",INDEX(referentes!AK:AL,MATCH(L186,referentes!AL:AL,0),1))","v":""},"",null,185,{"$f":"IF(K186=\"\",\"\",INDEX('Otras referencias'!F:I,MATCH(K186,'Otras referencias'!I:I,0),1))","v":""},"",null,null,null,null,null,null,null,null,null,null,null,null,null,null,null,null,null,null,null,null,null,null,null,null,null,null,null,null,null,null,null,null,null,null,0,0,0,0,0,0,0,0,null,null,null,null,null,0,null,null,null,null,null,{"$f":"IF(R186<>\"\",CONCATENATE($A$2,DIGITADOR!$M$1,ROW()-2),\"\")","v":""},"",{"$f":"IF(E186=\"\",\"\",INDEX(referentes!D:E,MATCH(E186,referentes!E:E,0),1))","v":""},{"$f":"IF(F186=\"\",\"\",INDEX(referentes!J:K,MATCH(F186,referentes!K:K,0),1))","v":""},{"$f":"IF(AI186=\"\",\"\",INDEX(referentes!M:N,MATCH(AI186,referentes!N:N,0),1))","v":""},{"$f":"IF(I186=\"\",\"\",INDEX(referentes!P:Q,MATCH(I186,referentes!Q:Q,0),1))","v":""},{"$f":"IF(J186=\"\",\"\",INDEX(referentes!S:T,MATCH(J186,referentes!T:T,0),1))","v":""},{"$f":"IF(AB186=\"\",\"\",INDEX(referentes!V:W,MATCH(AB186,referentes!W:W,0),1))","v":""},{"$f":"IF(Y186=\"\",\"\",INDEX(referentes!AZ:BA,MATCH(Y186,referentes!BA:BA,0),1))","v":""},"","","","",{"$f":"IF(BP186=\"\",\"\",INDEX(referentes!AE:AF,MATCH(BP186,referentes!AF:AF,0),1))","v":""},{"$f":"IF(BQ186=\"\",\"\",INDEX(referentes!AH:AI,MATCH(BQ186,referentes!AI:AI,0),1))","v":""},null,{"$f":"IF(D186=\"\",\"\",INDEX(referentes!A:B,MATCH(D186,referentes!B:B,0),1))","v":""},{"$f":"IF(AT186=\"\",\"\",INDEX(referentes!Y:Z,MATCH(AT186,referentes!Z:Z,0),1))","v":""},{"$f":"IF(AU186=\"\",\"\",INDEX(referentes!AB:AC,MATCH(AU186,referentes!AC:AC,0),1))","v":""}]
[null,{"$f":"IF(BT187=\"\",\"\",IF(COUNTIF($BT187:BT187, BT187)>1, \"\", BT187))","v":""},null,null,null,null,null,null,null,null,null,null,{"$f":"IF(L187=\"\",\"\",INDEX(referentes!AK:AL,MATCH(L187,referentes!AL:AL,0),1))","v":""},"",null,186,{"$f":"IF(K187=\"\",\"\",INDEX('Otras referencias'!F:I,MATCH(K187,'Otras referencias'!I:I,0),1))","v":""},"",null,null,null,null,null,null,null,null,null,null,null,null,null,null,null,null,null,null,null,null,null,null,null,null,null,null,null,null,null,null,null,null,null,null,0,0,0,0,0,0,0,0,null,null,null,null,null,0,null,null,null,null,null,{"$f":"IF(R187<>\"\",CONCATENATE($A$2,DIGITADOR!$M$1,ROW()-2),\"\")","v":""},"",{"$f":"IF(E187=\"\",\"\",INDEX(referentes!D:E,MATCH(E187,referentes!E:E,0),1))","v":""},{"$f":"IF(F187=\"\",\"\",INDEX(referentes!J:K,MATCH(F187,referentes!K:K,0),1))","v":""},{"$f":"IF(AI187=\"\",\"\",INDEX(referentes!M:N,MATCH(AI187,referentes!N:N,0),1))","v":""},{"$f":"IF(I187=\"\",\"\",INDEX(referentes!P:Q,MATCH(I187,referentes!Q:Q,0),1))","v":""},{"$f":"IF(J187=\"\",\"\",INDEX(referentes!S:T,MATCH(J187,referentes!T:T,0),1))","v":""},{"$f":"IF(AB187=\"\",\"\",INDEX(referentes!V:W,MATCH(AB187,referentes!W:W,0),1))","v":""},{"$f":"IF(Y187=\"\",\"\",INDEX(referentes!AZ:BA,MATCH(Y187,referentes!BA:BA,0),1))","v":""},"","","","",{"$f":"IF(BP187=\"\",\"\",INDEX(referentes!AE:AF,MATCH(BP187,referentes!AF:AF,0),1))","v":""},{"$f":"IF(BQ187=\"\",\"\",INDEX(referentes!AH:AI,MATCH(BQ187,referentes!AI:AI,0),1))","v":""},null,{"$f":"IF(D187=\"\",\"\",INDEX(referentes!A:B,MATCH(D187,referentes!B:B,0),1))","v":""},{"$f":"IF(AT187=\"\",\"\",INDEX(referentes!Y:Z,MATCH(AT187,referentes!Z:Z,0),1))","v":""},{"$f":"IF(AU187=\"\",\"\",INDEX(referentes!AB:AC,MATCH(AU187,referentes!AC:AC,0),1))","v":""}]
[null,{"$f":"IF(BT188=\"\",\"\",IF(COUNTIF($BT188:BT188, BT188)>1, \"\", BT188))","v":""},null,null,null,null,null,null,null,null,null,null,{"$f":"IF(L188=\"\",\"\",INDEX(referentes!AK:AL,MATCH(L188,referentes!AL:AL,0),1))","v":""},"",null,187,{"$f":"IF(K188=\"\",\"\",INDEX('Otras referencias'!F:I,MATCH(K188,'Otras referencias'!I:I,0),1))","v":""},"",null,null,null,null,null,null,null,null,null,null,null,null,null,null,null,null,null,null,null,null,null,null,null,null,null,null,null,null,null,null,null,null,null,null,0,0,0,0,0,0,0,0,null,null,null,null,null,0,null,null,null,null,null,{"$f":"IF(R188<>\"\",CONCATENATE($A$2,DIGITADOR!$M$1,ROW()-2),\"\")","v":""},"",{"$f":"IF(E188=\"\",\"\",INDEX(referentes!D:E,MATCH(E188,referentes!E:E,0),1))","v":""},{"$f":"IF(F188=\"\",\"\",INDEX(referentes!J:K,MATCH(F188,referentes!K:K,0),1))","v":""},{"$f":"IF(AI188=\"\",\"\",INDEX(referentes!M:N,MATCH(AI188,referentes!N:N,0),1))","v":""},{"$f":"IF(I188=\"\",\"\",INDEX(referentes!P:Q,MATCH(I188,referentes!Q:Q,0),1))","v":""},{"$f":"IF(J188=\"\",\"\",INDEX(referentes!S:T,MATCH(J188,referentes!T:T,0),1))","v":""},{"$f":"IF(AB188=\"\",\"\",INDEX(referentes!V:W,MATCH(AB188,referentes!W:W,0),1))","v":""},{"$f":"IF(Y188=\"\",\"\",INDEX(referentes!AZ:BA,MATCH(Y188,referentes!BA:BA,0),1))","v":""},"","","","",{"$f":"IF(BP188=\"\",\"\",INDEX(referentes!AE:AF,MATCH(BP188,referentes!AF:AF,0),1))","v":""},{"$f":"IF(BQ188=\"\",\"\",INDEX(referentes!AH:AI,MATCH(BQ188,referentes!AI:AI,0),1))","v":""},null,{"$f":"IF(D188=\"\",\"\",INDEX(referentes!A:B,MATCH(D188,referentes!B:B,0),1))","v":""},{"$f":"IF(AT188=\"\",\"\",INDEX(referentes!Y:Z,MATCH(AT188,referentes!Z:Z,0),1))","v":""},{"$f":"IF(AU188=\"\",\"\",INDEX(referentes!AB:AC,MATCH(AU188,referentes!AC:AC,0),1))","v":""}]
[null,{"$f":"IF(BT189=\"\",\"\",IF(COUNTIF($BT189:BT189, BT189)>1, \"\", BT189))","v":""},null,null,null,null,null,null,null,null,null,null,{"$f":"IF(L189=\"\",\"\",INDEX(referentes!AK:AL,MATCH(L189,referentes!AL:AL,0),1))","v":""},"",null,188,{"$f":"IF(K189=\"\",\"\",INDEX('Otras referencias'!F:I,MATCH(K189,'Otras referencias'!I:I,0),1))","v":""},"",null,null,null,null,null,null,null,null,null,null,null,null,null,null,null,null,null,null,null,null,null,null,null,null,null,null,null,null,null,null,null,null,null,null,0,0,0,0,0,0,0,0,null,null,null,null,null,0,null,null,null,null,null,{"$f":"IF(R189<>\"\",CONCATENATE($A$2,DIGITADOR!$M$1,ROW()-2),\"\")","v":""},"",{"$f":"IF(E189=\"\",\"\",INDEX(referentes!D:E,MATCH(E189,referentes!E:E,0),1))","v":""},{"$f":"IF(F189=\"\",\"\",INDEX(referentes!J:K,MATCH(F189,referentes!K:K,0),1))","v":""},{"$f":"IF(AI189=\"\",\"\",INDEX(referentes!M:N,MATCH(AI189,referentes!N:N,0),1))","v":""},{"$f":"IF(I189=\"\",\"\",INDEX(referentes!P:Q,MATCH(I189,referentes!Q:Q,0),1))","v":""},{"$f":"IF(J189=\"\",\"\",INDEX(referentes!S:T,MATCH(J189,referentes!T:T,0),1))","v":""},{"$f":"IF(AB189=\"\",\"\",INDEX(referentes!V:W,MATCH(AB189,referentes!W:W,0),1))","v":""},{"$f":"IF(Y189=\"\",\"\",INDEX(referentes!AZ:BA,MATCH(Y189,referentes!BA:BA,0),1))","v":""},"","","","",{"$f":"IF(BP189=\"\",\"\",INDEX(referentes!AE:AF,MATCH(BP189,referentes!AF:AF,0),1))","v":""},{"$f":"IF(BQ189=\"\",\"\",INDEX(referentes!AH:AI,MATCH(BQ189,referentes!AI:AI,0),1))","v":""},null,{"$f":"IF(D189=\"\",\"\",INDEX(referentes!A:B,MATCH(D189,referentes!B:B,0),1))","v":""},{"$f":"IF(AT189=\"\",\"\",INDEX(referentes!Y:Z,MATCH(AT189,referentes!Z:Z,0),1))","v":""},{"$f":"IF(AU189=\"\",\"\",INDEX(referentes!AB:AC,MATCH(AU189,referentes!AC:AC,0),1))","v":""}]
[null,{"$f":"IF(BT190=\"\",\"\",IF(COUNTIF($BT190:BT190, BT190)>1, \"\", BT190))","v":""},null,null,null,null,null,null,null,null,null,null,{"$f":"IF(L190=\"\",\"\",INDEX(referentes!AK:AL,MATCH(L190,referentes!AL:AL,0),1))","v":""},"",null,189,{"$f":"IF(K190=\"\",\"\",INDEX('Otras referencias'!F:I,MATCH(K190,'Otras referencias'!I:I,0),1))","v":""},"",null,null,null,null,null,null,null,null,null,null,null,null,null,null,null,null,null,null,null,null,null,null,null,null,null,null,null,null,null,null,null,null,null,null,0,0,0,0,0,0,0,0,null,null,null,null,null,0,null,null,null,null,null,{"$f":"IF(R190<>\"\",CONCATENATE($A$2,DIGITADOR!$M$1,ROW()-2),\"\")","v":""},"",{"$f":"IF(E190=\"\",\"\",INDEX(referentes!D:E,MATCH(E190,referentes!E:E,0),1))","v":""},{"$f":"IF(F190=\"\",\"\",INDEX(referentes!J:K,MATCH(F190,referentes!K:K,0),1))","v":""},{"$f":"IF(AI190=\"\",\"\",INDEX(referentes!M:N,MATCH(AI190,referentes!N:N,0),1))","v":""},{"$f":"IF(I190=\"\",\"\",INDEX(referentes!P:Q,MATCH(I190,referentes!Q:Q,0),1))","v":""},{"$f":"IF(J190=\"\",\"\",INDEX(referentes!S:T,MATCH(J190,referentes!T:T,0),1))","v":""},{"$f":"IF(AB190=\"\",\"\",INDEX(referentes!V:W,MATCH(AB190,referentes!W:W,0),1))","v":""},{"$f":"IF(Y190=\"\",\"\",INDEX(referentes!AZ:BA,MATCH(Y190,referentes!BA:BA,0),1))","v":""},"","","","",{"$f":"IF(BP190=\"\",\"\",INDEX(referentes!AE:AF,MATCH(BP190,referentes!AF:AF,0),1))","v":""},{"$f":"IF(BQ190=\"\",\"\",INDEX(referentes!AH:AI,MATCH(BQ190,referentes!AI:AI,0),1))","v":""},null,{"$f":"IF(D190=\"\",\"\",INDEX(referentes!A:B,MATCH(D190,referentes!B:B,0),1))","v":""},{"$f":"IF(AT190=\"\",\"\",INDEX(referentes!Y:Z,MATCH(AT190,referentes!Z:Z,0),1))","v":""},{"$f":"IF(AU190=\"\",\"\",INDEX(referentes!AB:AC,MATCH(AU190,referentes!AC:AC,0),1))","v":""}]
[null,{"$f":"IF(BT191=\"\",\"\",IF(COUNTIF($BT191:BT191, BT191)>1, \"\", BT191))","v":""},null,null,null,null,null,null,null,null,null,null,{"$f":"IF(L191=\"\",\"\",INDEX(referentes!AK:AL,MATCH(L191,referentes!AL:AL,0),1))","v":""},"",null,190,{"$f":"IF(K191=\"\",\"\",INDEX('Otras referencias'!F:I,MATCH(K191,'Otras referencias'!I:I,0),1))","v":""},"",null,null,null,null,null,null,null,null,null,null,null,null,null,null,null,null,null,null,null,null,null,null,null,null,null,null,null,null,null,null,null,null,null,null,0,0,0,0,0,0,0,0,null,null,null,null,null,0,null,null,null,null,null,{"$f":"IF(R191<>\"\",CONCATENATE($A$2,DIGITADOR!$M$1,ROW()-2),\"\")","v":""},"",{"$f":"IF(E191=\"\",\"\",INDEX(referentes!D:E,MATCH(E191,referentes!E:E,0),1))","v":""},{"$f":"IF(F191=\"\",\"\",INDEX(referentes!J:K,MATCH(F191,referentes!K:K,0),1))","v":""},{"$f":"IF(AI191=\"\",\"\",INDEX(referentes!M:N,MATCH(AI191,referentes!N:N,0),1))","v":""},{"$f":"IF(I191=\"\",\"\",INDEX(referentes!P:Q,MATCH(I191,referentes!Q:Q,0),1))","v":""},{"$f":"IF(J191=\"\",\"\",INDEX(referentes!S:T,MATCH(J191,referentes!T:T,0),1))","v":""},{"$f":"IF(AB191=\"\",\"\",INDEX(referentes!V:W,MATCH(AB191,referentes!W:W,0),1))","v":""},{"$f":"IF(Y191=\"\",\"\",INDEX(referentes!AZ:BA,MATCH(Y191,referentes!BA:BA,0),1))","v":""},"","","","",{"$f":"IF(BP191=\"\",\"\",INDEX(referentes!AE:AF,MATCH(BP191,referentes!AF:AF,0),1))","v":""},{"$f":"IF(BQ191=\"\",\"\",INDEX(referentes!AH:AI,MATCH(BQ191,referentes!AI:AI,0),1))","v":""},null,{"$f":"IF(D191=\"\",\"\",INDEX(referentes!A:B,MATCH(D191,referentes!B:B,0),1))","v":""},{"$f":"IF(AT191=\"\",\"\",INDEX(referentes!Y:Z,MATCH(AT191,referentes!Z:Z,0),1))","v":""},{"$f":"IF(AU191=\"\",\"\",INDEX(referentes!AB:AC,MATCH(AU191,referentes!AC:AC,0),1))","v":""}]
[null,{"$f":"IF(BT192=\"\",\"\",IF(COUNTIF($BT192:BT192, BT192)>1, \"\", BT192))","v":""},null,null,null,null,null,null,null,null,null,null,{"$f":"IF(L192=\"\",\"\",INDEX(referentes!AK:AL,MATCH(L192,referentes!AL:AL,0),1))","v":""},"",null,191,{"$f":"IF(K192=\"\",\"\",INDEX('Otras referencias'!F:I,MATCH(K192,'Otras referencias'!I:I,0),1))","v":""},"",null,null,null,null,null,null,null,null,null,null,null,null,null,null,null,null,null,null,null,null,null,null,null,null,null,null,null,null,null,null,null,null,null,null,0,0,0,0,0,0,0,0,null,null,null,null,null,0,null,null,null,null,null,{"$f":"IF(R192<>\"\",CONCATENATE($A$2,DIGITADOR!$M$1,ROW()-2),\"\")","v":""},"",{"$f":"IF(E192=\"\",\"\",INDEX(referentes!D:E,MATCH(E192,referentes!E:E,0),1))","v":""},{"$f":"IF(F192=\"\",\"\",INDEX(referentes!J:K,MATCH(F192,referentes!K:K,0),1))","v":""},{"$f":"IF(AI192=\"\",\"\",INDEX(referentes!M:N,MATCH(AI192,referentes!N:N,0),1))","v":""},{"$f":"IF(I192=\"\",\"\",INDEX(referentes!P:Q,MATCH(I192,referentes!Q:Q,0),1))","v":""},{"$f":"IF(J192=\"\",\"\",INDEX(referentes!S:T,MATCH(J192,referentes!T:T,0),1))","v":""},{"$f":"IF(AB192=\"\",\"\",INDEX(referentes!V:W,MATCH(AB192,referentes!W:W,0),1))","v":""},{"$f":"IF(Y192=\"\",\"\",INDEX(referentes!AZ:BA,MATCH(Y192,referentes!BA:BA,0),1))","v":""},"","","","",{"$f":"IF(BP192=\"\",\"\",INDEX(referentes!AE:AF,MATCH(BP192,referentes!AF:AF,0),1))","v":""},{"$f":"IF(BQ192=\"\",\"\",INDEX(referentes!AH:AI,MATCH(BQ192,referentes!AI:AI,0),1))","v":""},null,{"$f":"IF(D192=\"\",\"\",INDEX(referentes!A:B,MATCH(D192,referentes!B:B,0),1))","v":""},{"$f":"IF(AT192=\"\",\"\",INDEX(referentes!Y:Z,MATCH(AT192,referentes!Z:Z,0),1))","v":""},{"$f":"IF(AU192=\"\",\"\",INDEX(referentes!AB:AC,MATCH(AU192,referentes!AC:AC,0),1))","v":""}]
[null,{"$f":"IF(BT193=\"\",\"\",IF(COUNTIF($BT193:BT193, BT193)>1, \"\", BT193))","v":""},null,null,null,null,null,null,null,null,null,null,{"$f":"IF(L193=\"\",\"\",INDEX(referentes!AK:AL,MATCH(L193,referentes!AL:AL,0),1))","v":""},"",null,192,{"$f":"IF(K193=\"\",\"\",INDEX('Otras referencias'!F:I,MATCH(K193,'Otras referencias'!I:I,0),1))","v":""},"",null,null,null,null,null,null,null,null,null,null,null,null,null,null,null,null,null,null,null,null,null,null,null,null,null,null,null,null,null,null,null,null,null,null,0,0,0,0,0,0,0,0,null,null,null,null,null,0,null,null,null,null,null,{"$f":"IF(R193<>\"\",CONCATENATE($A$2,DIGITADOR!$M$1,ROW()-2),\"\")","v":""},"",{"$f":"IF(E193=\"\",\"\",INDEX(referentes!D:E,MATCH(E193,referentes!E:E,0),1))","v":""},{"$f":"IF(F193=\"\",\"\",INDEX(referentes!J:K,MATCH(F193,referentes!K:K,0),1))","v":""},{"$f":"IF(AI193=\"\",\"\",INDEX(referentes!M:N,MATCH(AI193,referentes!N:N,0),1))","v":""},{"$f":"IF(I193=\"\",\"\",INDEX(referentes!P:Q,MATCH(I193,referentes!Q:Q,0),1))","v":""},{"$f":"IF(J193=\"\",\"\",INDEX(referentes!S:T,MATCH(J193,referentes!T:T,0),1))","v":""},{"$f":"IF(AB193=\"\",\"\",INDEX(referentes!V:W,MATCH(AB193,referentes!W:W,0),1))","v":""},{"$f":"IF(Y193=\"\",\"\",INDEX(referentes!AZ:BA,MATCH(Y193,referentes!BA:BA,0),1))","v":""},"","","","",{"$f":"IF(BP193=\"\",\"\",INDEX(referentes!AE:AF,MATCH(BP193,referentes!AF:AF,0),1))","v":""},{"$f":"IF(BQ193=\"\",\"\",INDEX(referentes!AH:AI,MATCH(BQ193,referentes!AI:AI,0),1))","v":""},null,{"$f":"IF(D193=\"\",\"\",INDEX(referentes!A:B,MATCH(D193,referentes!B:B,0),1))","v":""},{"$f":"IF(AT193=\"\",\"\",INDEX(referentes!Y:Z,MATCH(AT193,referentes!Z:Z,0),1))","v":""},{"$f":"IF(AU193=\"\",\"\",INDEX(referentes!AB:AC,MATCH(AU193,referentes!AC:AC,0),1))","v":""}]
[null,{"$f":"IF(BT194=\"\",\"\",IF(COUNTIF($BT194:BT194, BT194)>1, \"\", BT194))","v":""},null,null,null,null,null,null,null,null,null,null,{"$f":"IF(L194=\"\",\"\",INDEX(referentes!AK:AL,MATCH(L194,referentes!AL:AL,0),1))","v":""},"",null,193,{"$f":"IF(K194=\"\",\"\",INDEX('Otras referencias'!F:I,MATCH(K194,'Otras referencias'!I:I,0),1))","v":""},"",null,null,null,null,null,null,null,null,null,null,null,null,null,null,null,null,null,null,null,null,null,null,null,null,null,null,null,null,null,null,null,null,null,null,0,0,0,0,0,0,0,0,null,null,null,null,null,0,null,null,null,null,null,{"$f":"IF(R194<>\"\",CONCATENATE($A$2,DIGITADOR!$M$1,ROW()-2),\"\")","v":""},"",{"$f":"IF(E194=\"\",\"\",INDEX(referentes!D:E,MATCH(E194,referentes!E:E,0),1))","v":""},{"$f":"IF(F194=\"\",\"\",INDEX(referentes!J:K,MATCH(F194,referentes!K:K,0),1))","v":""},{"$f":"IF(AI194=\"\",\"\",INDEX(referentes!M:N,MATCH(AI194,referentes!N:N,0),1))","v":""},{"$f":"IF(I194=\"\",\"\",INDEX(referentes!P:Q,MATCH(I194,referentes!Q:Q,0),1))","v":""},{"$f":"IF(J194=\"\",\"\",INDEX(referentes!S:T,MATCH(J194,referentes!T:T,0),1))","v":""},{"$f":"IF(AB194=\"\",\"\",INDEX(referentes!V:W,MATCH(AB194,referentes!W:W,0),1))","v":""},{"$f":"IF(Y194=\"\",\"\",INDEX(referentes!AZ:BA,MATCH(Y194,referentes!BA:BA,0),1))","v":""},"","","","",{"$f":"IF(BP194=\"\",\"\",INDEX(referentes!AE:AF,MATCH(BP194,referentes!AF:AF,0),1))","v":""},{"$f":"IF(BQ194=\"\",\"\",INDEX(referentes!AH:AI,MATCH(BQ194,referentes!AI:AI,0),1))","v":""},null,{"$f":"IF(D194=\"\",\"\",INDEX(referentes!A:B,MATCH(D194,referentes!B:B,0),1))","v":""},{"$f":"IF(AT194=\"\",\"\",INDEX(referentes!Y:Z,MATCH(AT194,referentes!Z:Z,0),1))","v":""},{"$f":"IF(AU194=\"\",\"\",INDEX(referentes!AB:AC,MATCH(AU194,referentes!AC:AC,0),1))","v":""}]
[null,{"$f":"IF(BT195=\"\",\"\",IF(COUNTIF($BT195:BT195, BT195)>1, \"\", BT195))","v":""},null,null,null,null,null,null,null,null,null,null,{"$f":"IF(L195=\"\",\"\",INDEX(referentes!AK:AL,MATCH(L195,referentes!AL:AL,0),1))","v":""},"",null,194,{"$f":"IF(K195=\"\",\"\",INDEX('Otras referencias'!F:I,MATCH(K195,'Otras referencias'!I:I,0),1))","v":""},{"$f":"IF(U195=\"\",\"\",DATEVALUE(CONCATENATE(U195,\"/\",TEXT(V195,\"00\"),\"/\",TEXT(W195,\"00\"))))","v":""},null,null,null,null,null,null,null,null,null,null,null,null,null,null,null,null,null,null,null,null,null,null,null,null,null,null,null,null,null,null,null,null,null,null,{"$f":"IF(ISERR(FIND($BA$1,AZ195)),0,1)","v":0},{"$f":"IF(ISERR(FIND($BB$1,AZ195)),0,1)","v":0},{"$f":"IF(ISERR(FIND($BC$1,AZ195)),0,1)","v":0},{"$f":"IF(ISERR(FIND($BD$1,AZ195)),0,1)","v":0},{"$f":"IF(ISERR(FIND($BE$1,AZ195)),0,1)","v":0},{"$f":"IF(ISERR(FIND($BF$1,AZ195)),0,1)","v":0},{"$f":"IF(ISERR(FIND($BG$1,AZ195)),0,1)","v":0},{"$f":"IF(ISERR(FIND($BH$1,AZ195)),0,1)","v":0},null,null,null,null,null,{"$f":"BA195+2*BB195+4*BC195+8*BD195+16*BE195+32*BF195+64*BG195+128*BH195","v":0},null,null,null,null,null,{"$f":"IF(R195<>\"\",CONCATENATE($A$2,DIGITADOR!$M$1,ROW()-2),\"\")","v":""},{"$f":"IF(B195=\"\",\"\",CONCATENATE(B195,ROW()-1))","v":""},{"$f":"IF(E195=\"\",\"\",INDEX(referentes!D:E,MATCH(E195,referentes!E:E,0),1))","v":""},{"$f":"IF(F195=\"\",\"\",INDEX(referentes!J:K,MATCH(F195,referentes!K:K,0),1))","v":""},{"$f":"IF(AI195=\"\",\"\",INDEX(referentes!M:N,MATCH(AI195,referentes!N:N,0),1))","v":""},{"$f":"IF(I195=\"\",\"\",INDEX(referentes!P:Q,MATCH(I195,referentes!Q:Q,0),1))","v":""},{"$f":"IF(J195=\"\",\"\",INDEX(referentes!S:T,MATCH(J195,referentes!T:T,0),1))","v":""},{"$f":"IF(AB195=\"\",\"\",INDEX(referentes!V:W,MATCH(AB195,referentes!W:W,0),1))","v":""},{"$f":"IF(Y195=\"\",\"\",INDEX(referentes!AZ:BA,MATCH(Y195,referentes!BA:BA,0),1))","v":""},{"$f":"IF(Z195=\"\",IF(R195=\"\",\"\",R195),R195+Z195)","v":""},{"$f":"IF(AA195=\"\",IF(R195=\"\",\"\",R195),R195+AA195)","v":""},{"$f":"IF(OR(AC195=\"\",AD195=\"\",AE195=\"\"),\"\",AD195/60+AE195/3600+AC195)","v":""},{"$f":"IF(OR(AF195=\"\",AG195=\"\",AH195=\"\"),\"\",(ABS(AF195)+(AG195/60)+(AH195/3600))*-1)","v":""},{"$f":"IF(BP195=\"\",\"\",INDEX(referentes!AE:AF,MATCH(BP195,referentes!AF:AF,0),1))","v":""},{"$f":"IF(BQ195=\"\",\"\",INDEX(referentes!AH:AI,MATCH(BQ195,referentes!AI:AI,0),1))","v":""},null,{"$f":"IF(D195=\"\",\"\",INDEX(referentes!A:B,MATCH(D195,referentes!B:B,0),1))","v":""},{"$f":"IF(AT195=\"\",\"\",INDEX(referentes!Y:Z,MATCH(AT195,referentes!Z:Z,0),1))","v":""},{"$f":"IF(AU195=\"\",\"\",INDEX(referentes!AB:AC,MATCH(AU195,referentes!AC:AC,0),1))","v":""}]
[null,{"$f":"IF(BT196=\"\",\"\",IF(COUNTIF($BT196:BT196, BT196)>1, \"\", BT196))","v":""},null,null,null,null,null,null,null,null,null,null,{"$f":"IF(L196=\"\",\"\",INDEX(referentes!AK:AL,MATCH(L196,referentes!AL:AL,0),1))","v":""},{"$f":"IF(B196=B195,\"\",IF(R195=\"\",\"\",R195))","v":""},null,{"$f":"P195+1","v":195},{"$f":"IF(K196=\"\",\"\",INDEX('Otras referencias'!F:I,MATCH(K196,'Otras referencias'!I:I,0),1))","v":""},"",null,null,null,null,null,null,null,null,null,null,null,null,null,null,null,null,null,null,null,null,null,null,null,null,null,null,null,null,null,null,null,null,null,null,0,0,0,0,0,0,0,0,null,null,null,null,null,0,null,null,null,null,null,{"$f":"IF(R196<>\"\",CONCATENATE($A$2,DIGITADOR!$M$1,ROW()-2),\"\")","v":""},"",{"$f":"IF(E196=\"\",\"\",INDEX(referentes!D:E,MATCH(E196,referentes!E:E,0),1))","v":""},{"$f":"IF(F196=\"\",\"\",INDEX(referentes!J:K,MATCH(F196,referentes!K:K,0),1))","v":""},{"$f":"IF(AI196=\"\",\"\",INDEX(referentes!M:N,MATCH(AI196,referentes!N:N,0),1))","v":""},{"$f":"IF(I196=\"\",\"\",INDEX(referentes!P:Q,MATCH(I196,referentes!Q:Q,0),1))","v":""},{"$f":"IF(J196=\"\",\"\",INDEX(referentes!S:T,MATCH(J196,referentes!T:T,0),1))","v":""},{"$f":"IF(AB196=\"\",\"\",INDEX(referentes!V:W,MATCH(AB196,referentes!W:W,0),1))","v":""},{"$f":"IF(Y196=\"\",\"\",INDEX(referentes!AZ:BA,MATCH(Y196,referentes!BA:BA,0),1))","v":""},"","","","",{"$f":"IF(BP196=\"\",\"\",INDEX(referentes!AE:AF,MATCH(BP196,referentes!AF:AF,0),1))","v":""},{"$f":"IF(BQ196=\"\",\"\",INDEX(referentes!AH:AI,MATCH(BQ196,referentes!AI:AI,0),1))","v":""},null,{"$f":"IF(D196=\"\",\"\",INDEX(referentes!A:B,MATCH(D196,referentes!B:B,0),1))","v":""},{"$f":"IF(AT196=\"\",\"\",INDEX(referentes!Y:Z,MATCH(AT196,referentes!Z:Z,0),1))","v":""},{"$f":"IF(AU196=\"\",\"\",INDEX(referentes!AB:AC,MATCH(AU196,referentes!AC:AC,0),1))","v":""}]
[null,{"$f":"IF(BT197=\"\",\"\",IF(COUNTIF($BT197:BT197, BT197)>1, \"\", BT197))","v":""},null,null,null,null,null,null,null,null,null,null,{"$f":"IF(L197=\"\",\"\",INDEX(referentes!AK:AL,MATCH(L197,referentes!AL:AL,0),1))","v":""},"",null,196,{"$f":"IF(K197=\"\",\"\",INDEX('Otras referencias'!F:I,MATCH(K197,'Otras referencias'!I:I,0),1))","v":""},"",null,null,null,null,null,null,null,null,null,null,null,null,null,null,null,null,null,null,null,null,null,null,null,null,null,null,null,null,null,null,null,null,null,null,0,0,0,0,0,0,0,0,null,null,null,null,null,0,null,null,null,null,null,{"$f":"IF(R197<>\"\",CONCATENATE($A$2,DIGITADOR!$M$1,ROW()-2),\"\")","v":""},"",{"$f":"IF(E197=\"\",\"\",INDEX(referentes!D:E,MATCH(E197,referentes!E:E,0),1))","v":""},{"$f":"IF(F197=\"\",\"\",INDEX(referentes!J:K,MATCH(F197,referentes!K:K,0),1))","v":""},{"$f":"IF(AI197=\"\",\"\",INDEX(referentes!M:N,MATCH(AI197,referentes!N:N,0),1))","v":""},{"$f":"IF(I197=\"\",\"\",INDEX(referentes!P:Q,MATCH(I197,referentes!Q:Q,0),1))","v":""},{"$f":"IF(J197=\"\",\"\",INDEX(referentes!S:T,MATCH(J197,referentes!T:T,0),1))","v":""},{"$f":"IF(AB197=\"\",\"\",INDEX(referentes!V:W,MATCH(AB197,referentes!W:W,0),1))","v":""},{"$f":"IF(Y197=\"\",\"\",INDEX(referentes!AZ:BA,MATCH(Y197,referentes!BA:BA,0),1))","v":""},"","","","",{"$f":"IF(BP197=\"\",\"\",INDEX(referentes!AE:AF,MATCH(BP197,referentes!AF:AF,0),1))","v":""},{"$f":"IF(BQ197=\"\",\"\",INDEX(referentes!AH:AI,MATCH(BQ197,referentes!AI:AI,0),1))","v":""},null,{"$f":"IF(D197=\"\",\"\",INDEX(referentes!A:B,MATCH(D197,referentes!B:B,0),1))","v":""},{"$f":"IF(AT197=\"\",\"\",INDEX(referentes!Y:Z,MATCH(AT197,referentes!Z:Z,0),1))","v":""},{"$f":"IF(AU197=\"\",\"\",INDEX(referentes!AB:AC,MATCH(AU197,referentes!AC:AC,0),1))","v":""}]
[null,{"$f":"IF(BT198=\"\",\"\",IF(COUNTIF($BT198:BT198, BT198)>1, \"\", BT198))","v":""},null,null,null,null,null,null,null,null,null,null,{"$f":"IF(L198=\"\",\"\",INDEX(referentes!AK:AL,MATCH(L198,referentes!AL:AL,0),1))","v":""},"",null,197,{"$f":"IF(K198=\"\",\"\",INDEX('Otras referencias'!F:I,MATCH(K198,'Otras referencias'!I:I,0),1))","v":""},"",null,null,null,null,null,null,null,null,null,null,null,null,null,null,null,null,null,null,null,null,null,null,null,null,null,null,null,null,null,null,null,null,null,null,0,0,0,0,0,0,0,0,null,null,null,null,null,0,null,null,null,null,null,{"$f":"IF(R198<>\"\",CONCATENATE($A$2,DIGITADOR!$M$1,ROW()-2),\"\")","v":""},"",{"$f":"IF(E198=\"\",\"\",INDEX(referentes!D:E,MATCH(E198,referentes!E:E,0),1))","v":""},{"$f":"IF(F198=\"\",\"\",INDEX(referentes!J:K,MATCH(F198,referentes!K:K,0),1))","v":""},{"$f":"IF(AI198=\"\",\"\",INDEX(referentes!M:N,MATCH(AI198,referentes!N:N,0),1))","v":""},{"$f":"IF(I198=\"\",\"\",INDEX(referentes!P:Q,MATCH(I198,referentes!Q:Q,0),1))","v":""},{"$f":"IF(J198=\"\",\"\",INDEX(referentes!S:T,MATCH(J198,referentes!T:T,0),1))","v":""},{"$f":"IF(AB198=\"\",\"\",INDEX(referentes!V:W,MATCH(AB198,referentes!W:W,0),1))","v":""},{"$f":"IF(Y198=\"\",\"\",INDEX(referentes!AZ:BA,MATCH(Y198,referentes!BA:BA,0),1))","v":""},"","","","",{"$f":"IF(BP198=\"\",\"\",INDEX(referentes!AE:AF,MATCH(BP198,referentes!AF:AF,0),1))","v":""},{"$f":"IF(BQ198=\"\",\"\",INDEX(referentes!AH:AI,MATCH(BQ198,referentes!AI:AI,0),1))","v":""},null,{"$f":"IF(D198=\"\",\"\",INDEX(referentes!A:B,MATCH(D198,referentes!B:B,0),1))","v":""},{"$f":"IF(AT198=\"\",\"\",INDEX(referentes!Y:Z,MATCH(AT198,referentes!Z:Z,0),1))","v":""},{"$f":"IF(AU198=\"\",\"\",INDEX(referentes!AB:AC,MATCH(AU198,referentes!AC:AC,0),1))","v":""}]
[null,{"$f":"IF(BT199=\"\",\"\",IF(COUNTIF($BT199:BT199, BT199)>1, \"\", BT199))","v":""},null,null,null,null,null,null,null,null,null,null,{"$f":"IF(L199=\"\",\"\",INDEX(referentes!AK:AL,MATCH(L199,referentes!AL:AL,0),1))","v":""},"",null,198,{"$f":"IF(K199=\"\",\"\",INDEX('Otras referencias'!F:I,MATCH(K199,'Otras referencias'!I:I,0),1))","v":""},"",null,null,null,null,null,null,null,null,null,null,null,null,null,null,null,null,null,null,null,null,null,null,null,null,null,null,null,null,null,null,null,null,null,null,0,0,0,0,0,0,0,0,null,null,null,null,null,0,null,null,null,null,null,{"$f":"IF(R199<>\"\",CONCATENATE($A$2,DIGITADOR!$M$1,ROW()-2),\"\")","v":""},"",{"$f":"IF(E199=\"\",\"\",INDEX(referentes!D:E,MATCH(E199,referentes!E:E,0),1))","v":""},{"$f":"IF(F199=\"\",\"\",INDEX(referentes!J:K,MATCH(F199,referentes!K:K,0),1))","v":""},{"$f":"IF(AI199=\"\",\"\",INDEX(referentes!M:N,MATCH(AI199,referentes!N:N,0),1))","v":""},{"$f":"IF(I199=\"\",\"\",INDEX(referentes!P:Q,MATCH(I199,referentes!Q:Q,0),1))","v":""},{"$f":"IF(J199=\"\",\"\",INDEX(referentes!S:T,MATCH(J199,referentes!T:T,0),1))","v":""},{"$f":"IF(AB199=\"\",\"\",INDEX(referentes!V:W,MATCH(AB199,referentes!W:W,0),1))","v":""},{"$f":"IF(Y199=\"\",\"\",INDEX(referentes!AZ:BA,MATCH(Y199,referentes!BA:BA,0),1))","v":""},"","","","",{"$f":"IF(BP199=\"\",\"\",INDEX(referentes!AE:AF,MATCH(BP199,referentes!AF:AF,0),1))","v":""},{"$f":"IF(BQ199=\"\",\"\",INDEX(referentes!AH:AI,MATCH(BQ199,referentes!AI:AI,0),1))","v":""},null,{"$f":"IF(D199=\"\",\"\",INDEX(referentes!A:B,MATCH(D199,referentes!B:B,0),1))","v":""},{"$f":"IF(AT199=\"\",\"\",INDEX(referentes!Y:Z,MATCH(AT199,referentes!Z:Z,0),1))","v":""},{"$f":"IF(AU199=\"\",\"\",INDEX(referentes!AB:AC,MATCH(AU199,referentes!AC:AC,0),1))","v":""}]
[null,{"$f":"IF(BT200=\"\",\"\",IF(COUNTIF($BT200:BT200, BT200)>1, \"\", BT200))","v":""},null,null,null,null,null,null,null,null,null,null,{"$f":"IF(L200=\"\",\"\",INDEX(referentes!AK:AL,MATCH(L200,referentes!AL:AL,0),1))","v":""},"",null,199,{"$f":"IF(K200=\"\",\"\",INDEX('Otras referencias'!F:I,MATCH(K200,'Otras referencias'!I:I,0),1))","v":""},"",null,null,null,null,null,null,null,null,null,null,null,null,null,null,null,null,null,null,null,null,null,null,null,null,null,null,null,null,null,null,null,null,null,null,0,0,0,0,0,0,0,0,null,null,null,null,null,0,null,null,null,null,null,{"$f":"IF(R200<>\"\",CONCATENATE($A$2,DIGITADOR!$M$1,ROW()-2),\"\")","v":""},"",{"$f":"IF(E200=\"\",\"\",INDEX(referentes!D:E,MATCH(E200,referentes!E:E,0),1))","v":""},{"$f":"IF(F200=\"\",\"\",INDEX(referentes!J:K,MATCH(F200,referentes!K:K,0),1))","v":""},{"$f":"IF(AI200=\"\",\"\",INDEX(referentes!M:N,MATCH(AI200,referentes!N:N,0),1))","v":""},{"$f":"IF(I200=\"\",\"\",INDEX(referentes!P:Q,MATCH(I200,referentes!Q:Q,0),1))","v":""},{"$f":"IF(J200=\"\",\"\",INDEX(referentes!S:T,MATCH(J200,referentes!T:T,0),1))","v":""},{"$f":"IF(AB200=\"\",\"\",INDEX(referentes!V:W,MATCH(AB200,referentes!W:W,0),1))","v":""},{"$f":"IF(Y200=\"\",\"\",INDEX(referentes!AZ:BA,MATCH(Y200,referentes!BA:BA,0),1))","v":""},"","","","",{"$f":"IF(BP200=\"\",\"\",INDEX(referentes!AE:AF,MATCH(BP200,referentes!AF:AF,0),1))","v":""},{"$f":"IF(BQ200=\"\",\"\",INDEX(referentes!AH:AI,MATCH(BQ200,referentes!AI:AI,0),1))","v":""},null,{"$f":"IF(D200=\"\",\"\",INDEX(referentes!A:B,MATCH(D200,referentes!B:B,0),1))","v":""},{"$f":"IF(AT200=\"\",\"\",INDEX(referentes!Y:Z,MATCH(AT200,referentes!Z:Z,0),1))","v":""},{"$f":"IF(AU200=\"\",\"\",INDEX(referentes!AB:AC,MATCH(AU200,referentes!AC:AC,0),1))","v":""}]
[null,{"$f":"IF(BT201=\"\",\"\",IF(COUNTIF($BT201:BT201, BT201)>1, \"\", BT201))","v":""},null,null,null,null,null,null,null,null,null,null,{"$f":"IF(L201=\"\",\"\",INDEX(referentes!AK:AL,MATCH(L201,referentes!AL:AL,0),1))","v":""},"",null,200,{"$f":"IF(K201=\"\",\"\",INDEX('Otras referencias'!F:I,MATCH(K201,'Otras referencias'!I:I,0),1))","v":""},"",null,null,null,null,null,null,null,null,null,null,null,null,null,null,null,null,null,null,null,null,null,null,null,null,null,null,null,null,null,null,null,null,null,null,0,0,0,0,0,0,0,0,null,null,null,null,null,0,null,null,null,null,null,{"$f":"IF(R201<>\"\",CONCATENATE($A$2,DIGITADOR!$M$1,ROW()-2),\"\")","v":""},"",{"$f":"IF(E201=\"\",\"\",INDEX(referentes!D:E,MATCH(E201,referentes!E:E,0),1))","v":""},{"$f":"IF(F201=\"\",\"\",INDEX(referentes!J:K,MATCH(F201,referentes!K:K,0),1))","v":""},{"$f":"IF(AI201=\"\",\"\",INDEX(referentes!M:N,MATCH(AI201,referentes!N:N,0),1))","v":""},{"$f":"IF(I201=\"\",\"\",INDEX(referentes!P:Q,MATCH(I201,referentes!Q:Q,0),1))","v":""},{"$f":"IF(J201=\"\",\"\",INDEX(referentes!S:T,MATCH(J201,referentes!T:T,0),1))","v":""},{"$f":"IF(AB201=\"\",\"\",INDEX(referentes!V:W,MATCH(AB201,referentes!W:W,0),1))","v":""},{"$f":"IF(Y201=\"\",\"\",INDEX(referentes!AZ:BA,MATCH(Y201,referentes!BA:BA,0),1))","v":""},"","","","",{"$f":"IF(BP201=\"\",\"\",INDEX(referentes!AE:AF,MATCH(BP201,referentes!AF:AF,0),1))","v":""},{"$f":"IF(BQ201=\"\",\"\",INDEX(referentes!AH:AI,MATCH(BQ201,referentes!AI:AI,0),1))","v":""},null,{"$f":"IF(D201=\"\",\"\",INDEX(referentes!A:B,MATCH(D201,referentes!B:B,0),1))","v":""},{"$f":"IF(AT201=\"\",\"\",INDEX(referentes!Y:Z,MATCH(AT201,referentes!Z:Z,0),1))","v":""},{"$f":"IF(AU201=\"\",\"\",INDEX(referentes!AB:AC,MATCH(AU201,referentes!AC:AC,0),1))","v":""}]
[null,{"$f":"IF(BT202=\"\",\"\",IF(COUNTIF($BT202:BT202, BT202)>1, \"\", BT202))","v":""},null,null,null,null,null,null,null,null,null,null,{"$f":"IF(L202=\"\",\"\",INDEX(referentes!AK:AL,MATCH(L202,referentes!AL:AL,0),1))","v":""},"",null,201,{"$f":"IF(K202=\"\",\"\",INDEX('Otras referencias'!F:I,MATCH(K202,'Otras referencias'!I:I,0),1))","v":""},"",null,null,null,null,null,null,null,null,null,null,null,null,null,null,null,null,null,null,null,null,null,null,null,null,null,null,null,null,null,null,null,null,null,null,0,0,0,0,0,0,0,0,null,null,null,null,null,0,null,null,null,null,null,{"$f":"IF(R202<>\"\",CONCATENATE($A$2,DIGITADOR!$M$1,ROW()-2),\"\")","v":""},"",{"$f":"IF(E202=\"\",\"\",INDEX(referentes!D:E,MATCH(E202,referentes!E:E,0),1))","v":""},{"$f":"IF(F202=\"\",\"\",INDEX(referentes!J:K,MATCH(F202,referentes!K:K,0),1))","v":""},{"$f":"IF(AI202=\"\",\"\",INDEX(referentes!M:N,MATCH(AI202,referentes!N:N,0),1))","v":""},{"$f":"IF(I202=\"\",\"\",INDEX(referentes!P:Q,MATCH(I202,referentes!Q:Q,0),1))","v":""},{"$f":"IF(J202=\"\",\"\",INDEX(referentes!S:T,MATCH(J202,referentes!T:T,0),1))","v":""},{"$f":"IF(AB202=\"\",\"\",INDEX(referentes!V:W,MATCH(AB202,referentes!W:W,0),1))","v":""},{"$f":"IF(Y202=\"\",\"\",INDEX(referentes!AZ:BA,MATCH(Y202,referentes!BA:BA,0),1))","v":""},"","","","",{"$f":"IF(BP202=\"\",\"\",INDEX(referentes!AE:AF,MATCH(BP202,referentes!AF:AF,0),1))","v":""},{"$f":"IF(BQ202=\"\",\"\",INDEX(referentes!AH:AI,MATCH(BQ202,referentes!AI:AI,0),1))","v":""},null,{"$f":"IF(D202=\"\",\"\",INDEX(referentes!A:B,MATCH(D202,referentes!B:B,0),1))","v":""},{"$f":"IF(AT202=\"\",\"\",INDEX(referentes!Y:Z,MATCH(AT202,referentes!Z:Z,0),1))","v":""},{"$f":"IF(AU202=\"\",\"\",INDEX(referentes!AB:AC,MATCH(AU202,referentes!AC:AC,0),1))","v":""}]
[null,{"$f":"IF(BT203=\"\",\"\",IF(COUNTIF($BT203:BT203, BT203)>1, \"\", BT203))","v":""},null,null,null,null,null,null,null,null,null,null,{"$f":"IF(L203=\"\",\"\",INDEX(referentes!AK:AL,MATCH(L203,referentes!AL:AL,0),1))","v":""},"",null,202,{"$f":"IF(K203=\"\",\"\",INDEX('Otras referencias'!F:I,MATCH(K203,'Otras referencias'!I:I,0),1))","v":""},"",null,null,null,null,null,null,null,null,null,null,null,null,null,null,null,null,null,null,null,null,null,null,null,null,null,null,null,null,null,null,null,null,null,null,0,0,0,0,0,0,0,0,null,null,null,null,null,0,null,null,null,null,null,{"$f":"IF(R203<>\"\",CONCATENATE($A$2,DIGITADOR!$M$1,ROW()-2),\"\")","v":""},"",{"$f":"IF(E203=\"\",\"\",INDEX(referentes!D:E,MATCH(E203,referentes!E:E,0),1))","v":""},{"$f":"IF(F203=\"\",\"\",INDEX(referentes!J:K,MATCH(F203,referentes!K:K,0),1))","v":""},{"$f":"IF(AI203=\"\",\"\",INDEX(referentes!M:N,MATCH(AI203,referentes!N:N,0),1))","v":""},{"$f":"IF(I203=\"\",\"\",INDEX(referentes!P:Q,MATCH(I203,referentes!Q:Q,0),1))","v":""},{"$f":"IF(J203=\"\",\"\",INDEX(referentes!S:T,MATCH(J203,referentes!T:T,0),1))","v":""},{"$f":"IF(AB203=\"\",\"\",INDEX(referentes!V:W,MATCH(AB203,referentes!W:W,0),1))","v":""},{"$f":"IF(Y203=\"\",\"\",INDEX(referentes!AZ:BA,MATCH(Y203,referentes!BA:BA,0),1))","v":""},"","","","",{"$f":"IF(BP203=\"\",\"\",INDEX(referentes!AE:AF,MATCH(BP203,referentes!AF:AF,0),1))","v":""},{"$f":"IF(BQ203=\"\",\"\",INDEX(referentes!AH:AI,MATCH(BQ203,referentes!AI:AI,0),1))","v":""},null,{"$f":"IF(D203=\"\",\"\",INDEX(referentes!A:B,MATCH(D203,referentes!B:B,0),1))","v":""},{"$f":"IF(AT203=\"\",\"\",INDEX(referentes!Y:Z,MATCH(AT203,referentes!Z:Z,0),1))","v":""},{"$f":"IF(AU203=\"\",\"\",INDEX(referentes!AB:AC,MATCH(AU203,referentes!AC:AC,0),1))","v":""}]
[null,{"$f":"IF(BT204=\"\",\"\",IF(COUNTIF($BT204:BT204, BT204)>1, \"\", BT204))","v":""},null,null,null,null,null,null,null,null,null,null,{"$f":"IF(L204=\"\",\"\",INDEX(referentes!AK:AL,MATCH(L204,referentes!AL:AL,0),1))","v":""},"",null,203,{"$f":"IF(K204=\"\",\"\",INDEX('Otras referencias'!F:I,MATCH(K204,'Otras referencias'!I:I,0),1))","v":""},"",null,null,null,null,null,null,null,null,null,null,null,null,null,null,null,null,null,null,null,null,null,null,null,null,null,null,null,null,null,null,null,null,null,null,0,0,0,0,0,0,0,0,null,null,null,null,null,0,null,null,null,null,null,{"$f":"IF(R204<>\"\",CONCATENATE($A$2,DIGITADOR!$M$1,ROW()-2),\"\")","v":""},"",{"$f":"IF(E204=\"\",\"\",INDEX(referentes!D:E,MATCH(E204,referentes!E:E,0),1))","v":""},{"$f":"IF(F204=\"\",\"\",INDEX(referentes!J:K,MATCH(F204,referentes!K:K,0),1))","v":""},{"$f":"IF(AI204=\"\",\"\",INDEX(referentes!M:N,MATCH(AI204,referentes!N:N,0),1))","v":""},{"$f":"IF(I204=\"\",\"\",INDEX(referentes!P:Q,MATCH(I204,referentes!Q:Q,0),1))","v":""},{"$f":"IF(J204=\"\",\"\",INDEX(referentes!S:T,MATCH(J204,referentes!T:T,0),1))","v":""},{"$f":"IF(AB204=\"\",\"\",INDEX(referentes!V:W,MATCH(AB204,referentes!W:W,0),1))","v":""},{"$f":"IF(Y204=\"\",\"\",INDEX(referentes!AZ:BA,MATCH(Y204,referentes!BA:BA,0),1))","v":""},"","","","",{"$f":"IF(BP204=\"\",\"\",INDEX(referentes!AE:AF,MATCH(BP204,referentes!AF:AF,0),1))","v":""},{"$f":"IF(BQ204=\"\",\"\",INDEX(referentes!AH:AI,MATCH(BQ204,referentes!AI:AI,0),1))","v":""},null,{"$f":"IF(D204=\"\",\"\",INDEX(referentes!A:B,MATCH(D204,referentes!B:B,0),1))","v":""},{"$f":"IF(AT204=\"\",\"\",INDEX(referentes!Y:Z,MATCH(AT204,referentes!Z:Z,0),1))","v":""},{"$f":"IF(AU204=\"\",\"\",INDEX(referentes!AB:AC,MATCH(AU204,referentes!AC:AC,0),1))","v":""}]
[null,{"$f":"IF(BT205=\"\",\"\",IF(COUNTIF($BT205:BT205, BT205)>1, \"\", BT205))","v":""},null,null,null,null,null,null,null,null,null,null,{"$f":"IF(L205=\"\",\"\",INDEX(referentes!AK:AL,MATCH(L205,referentes!AL:AL,0),1))","v":""},"",null,204,{"$f":"IF(K205=\"\",\"\",INDEX('Otras referencias'!F:I,MATCH(K205,'Otras referencias'!I:I,0),1))","v":""},"",null,null,null,null,null,null,null,null,null,null,null,null,null,null,null,null,null,null,null,null,null,null,null,null,null,null,null,null,null,null,null,null,null,null,0,0,0,0,0,0,0,0,null,null,null,null,null,0,null,null,null,null,null,{"$f":"IF(R205<>\"\",CONCATENATE($A$2,DIGITADOR!$M$1,ROW()-2),\"\")","v":""},"",{"$f":"IF(E205=\"\",\"\",INDEX(referentes!D:E,MATCH(E205,referentes!E:E,0),1))","v":""},{"$f":"IF(F205=\"\",\"\",INDEX(referentes!J:K,MATCH(F205,referentes!K:K,0),1))","v":""},{"$f":"IF(AI205=\"\",\"\",INDEX(referentes!M:N,MATCH(AI205,referentes!N:N,0),1))","v":""},{"$f":"IF(I205=\"\",\"\",INDEX(referentes!P:Q,MATCH(I205,referentes!Q:Q,0),1))","v":""},{"$f":"IF(J205=\"\",\"\",INDEX(referentes!S:T,MATCH(J205,referentes!T:T,0),1))","v":""},{"$f":"IF(AB205=\"\",\"\",INDEX(referentes!V:W,MATCH(AB205,referentes!W:W,0),1))","v":""},{"$f":"IF(Y205=\"\",\"\",INDEX(referentes!AZ:BA,MATCH(Y205,referentes!BA:BA,0),1))","v":""},"","","","",{"$f":"IF(BP205=\"\",\"\",INDEX(referentes!AE:AF,MATCH(BP205,referentes!AF:AF,0),1))","v":""},{"$f":"IF(BQ205=\"\",\"\",INDEX(referentes!AH:AI,MATCH(BQ205,referentes!AI:AI,0),1))","v":""},null,{"$f":"IF(D205=\"\",\"\",INDEX(referentes!A:B,MATCH(D205,referentes!B:B,0),1))","v":""},{"$f":"IF(AT205=\"\",\"\",INDEX(referentes!Y:Z,MATCH(AT205,referentes!Z:Z,0),1))","v":""},{"$f":"IF(AU205=\"\",\"\",INDEX(referentes!AB:AC,MATCH(AU205,referentes!AC:AC,0),1))","v":""}]
[null,{"$f":"IF(BT206=\"\",\"\",IF(COUNTIF($BT206:BT206, BT206)>1, \"\", BT206))","v":""},null,null,null,null,null,null,null,null,null,null,{"$f":"IF(L206=\"\",\"\",INDEX(referentes!AK:AL,MATCH(L206,referentes!AL:AL,0),1))","v":""},"",null,205,{"$f":"IF(K206=\"\",\"\",INDEX('Otras referencias'!F:I,MATCH(K206,'Otras referencias'!I:I,0),1))","v":""},"",null,null,null,null,null,null,null,null,null,null,null,null,null,null,null,null,null,null,null,null,null,null,null,null,null,null,null,null,null,null,null,null,null,null,0,0,0,0,0,0,0,0,null,null,null,null,null,0,null,null,null,null,null,{"$f":"IF(R206<>\"\",CONCATENATE($A$2,DIGITADOR!$M$1,ROW()-2),\"\")","v":""},"",{"$f":"IF(E206=\"\",\"\",INDEX(referentes!D:E,MATCH(E206,referentes!E:E,0),1))","v":""},{"$f":"IF(F206=\"\",\"\",INDEX(referentes!J:K,MATCH(F206,referentes!K:K,0),1))","v":""},{"$f":"IF(AI206=\"\",\"\",INDEX(referentes!M:N,MATCH(AI206,referentes!N:N,0),1))","v":""},{"$f":"IF(I206=\"\",\"\",INDEX(referentes!P:Q,MATCH(I206,referentes!Q:Q,0),1))","v":""},{"$f":"IF(J206=\"\",\"\",INDEX(referentes!S:T,MATCH(J206,referentes!T:T,0),1))","v":""},{"$f":"IF(AB206=\"\",\"\",INDEX(referentes!V:W,MATCH(AB206,referentes!W:W,0),1))","v":""},{"$f":"IF(Y206=\"\",\"\",INDEX(referentes!AZ:BA,MATCH(Y206,referentes!BA:BA,0),1))","v":""},"","","","",{"$f":"IF(BP206=\"\",\"\",INDEX(referentes!AE:AF,MATCH(BP206,referentes!AF:AF,0),1))","v":""},{"$f":"IF(BQ206=\"\",\"\",INDEX(referentes!AH:AI,MATCH(BQ206,referentes!AI:AI,0),1))","v":""},null,{"$f":"IF(D206=\"\",\"\",INDEX(referentes!A:B,MATCH(D206,referentes!B:B,0),1))","v":""},{"$f":"IF(AT206=\"\",\"\",INDEX(referentes!Y:Z,MATCH(AT206,referentes!Z:Z,0),1))","v":""},{"$f":"IF(AU206=\"\",\"\",INDEX(referentes!AB:AC,MATCH(AU206,referentes!AC:AC,0),1))","v":""}]
[null,{"$f":"IF(BT207=\"\",\"\",IF(COUNTIF($BT207:BT207, BT207)>1, \"\", BT207))","v":""},null,null,null,null,null,null,null,null,null,null,{"$f":"IF(L207=\"\",\"\",INDEX(referentes!AK:AL,MATCH(L207,referentes!AL:AL,0),1))","v":""},"",null,206,{"$f":"IF(K207=\"\",\"\",INDEX('Otras referencias'!F:I,MATCH(K207,'Otras referencias'!I:I,0),1))","v":""},"",null,null,null,null,null,null,null,null,null,null,null,null,null,null,null,null,null,null,null,null,null,null,null,null,null,null,null,null,null,null,null,null,null,null,0,0,0,0,0,0,0,0,null,null,null,null,null,0,null,null,null,null,null,{"$f":"IF(R207<>\"\",CONCATENATE($A$2,DIGITADOR!$M$1,ROW()-2),\"\")","v":""},"",{"$f":"IF(E207=\"\",\"\",INDEX(referentes!D:E,MATCH(E207,referentes!E:E,0),1))","v":""},{"$f":"IF(F207=\"\",\"\",INDEX(referentes!J:K,MATCH(F207,referentes!K:K,0),1))","v":""},{"$f":"IF(AI207=\"\",\"\",INDEX(referentes!M:N,MATCH(AI207,referentes!N:N,0),1))","v":""},{"$f":"IF(I207=\"\",\"\",INDEX(referentes!P:Q,MATCH(I207,referentes!Q:Q,0),1))","v":""},{"$f":"IF(J207=\"\",\"\",INDEX(referentes!S:T,MATCH(J207,referentes!T:T,0),1))","v":""},{"$f":"IF(AB207=\"\",\"\",INDEX(referentes!V:W,MATCH(AB207,referentes!W:W,0),1))","v":""},{"$f":"IF(Y207=\"\",\"\",INDEX(referentes!AZ:BA,MATCH(Y207,referentes!BA:BA,0),1))","v":""},"","","","",{"$f":"IF(BP207=\"\",\"\",INDEX(referentes!AE:AF,MATCH(BP207,referentes!AF:AF,0),1))","v":""},{"$f":"IF(BQ207=\"\",\"\",INDEX(referentes!AH:AI,MATCH(BQ207,referentes!AI:AI,0),1))","v":""},null,{"$f":"IF(D207=\"\",\"\",INDEX(referentes!A:B,MATCH(D207,referentes!B:B,0),1))","v":""},{"$f":"IF(AT207=\"\",\"\",INDEX(referentes!Y:Z,MATCH(AT207,referentes!Z:Z,0),1))","v":""},{"$f":"IF(AU207=\"\",\"\",INDEX(referentes!AB:AC,MATCH(AU207,referentes!AC:AC,0),1))","v":""}]
[null,{"$f":"IF(BT208=\"\",\"\",IF(COUNTIF($BT208:BT208, BT208)>1, \"\", BT208))","v":""},null,null,null,null,null,null,null,null,null,null,{"$f":"IF(L208=\"\",\"\",INDEX(referentes!AK:AL,MATCH(L208,referentes!AL:AL,0),1))","v":""},"",null,207,{"$f":"IF(K208=\"\",\"\",INDEX('Otras referencias'!F:I,MATCH(K208,'Otras referencias'!I:I,0),1))","v":""},"",null,null,null,null,null,null,null,null,null,null,null,null,null,null,null,null,null,null,null,null,null,null,null,null,null,null,null,null,null,null,null,null,null,null,0,0,0,0,0,0,0,0,null,null,null,null,null,0,null,null,null,null,null,{"$f":"IF(R208<>\"\",CONCATENATE($A$2,DIGITADOR!$M$1,ROW()-2),\"\")","v":""},"",{"$f":"IF(E208=\"\",\"\",INDEX(referentes!D:E,MATCH(E208,referentes!E:E,0),1))","v":""},{"$f":"IF(F208=\"\",\"\",INDEX(referentes!J:K,MATCH(F208,referentes!K:K,0),1))","v":""},{"$f":"IF(AI208=\"\",\"\",INDEX(referentes!M:N,MATCH(AI208,referentes!N:N,0),1))","v":""},{"$f":"IF(I208=\"\",\"\",INDEX(referentes!P:Q,MATCH(I208,referentes!Q:Q,0),1))","v":""},{"$f":"IF(J208=\"\",\"\",INDEX(referentes!S:T,MATCH(J208,referentes!T:T,0),1))","v":""},{"$f":"IF(AB208=\"\",\"\",INDEX(referentes!V:W,MATCH(AB208,referentes!W:W,0),1))","v":""},{"$f":"IF(Y208=\"\",\"\",INDEX(referentes!AZ:BA,MATCH(Y208,referentes!BA:BA,0),1))","v":""},"","","","",{"$f":"IF(BP208=\"\",\"\",INDEX(referentes!AE:AF,MATCH(BP208,referentes!AF:AF,0),1))","v":""},{"$f":"IF(BQ208=\"\",\"\",INDEX(referentes!AH:AI,MATCH(BQ208,referentes!AI:AI,0),1))","v":""},null,{"$f":"IF(D208=\"\",\"\",INDEX(referentes!A:B,MATCH(D208,referentes!B:B,0),1))","v":""},{"$f":"IF(AT208=\"\",\"\",INDEX(referentes!Y:Z,MATCH(AT208,referentes!Z:Z,0),1))","v":""},{"$f":"IF(AU208=\"\",\"\",INDEX(referentes!AB:AC,MATCH(AU208,referentes!AC:AC,0),1))","v":""}]
[null,{"$f":"IF(BT209=\"\",\"\",IF(COUNTIF($BT209:BT209, BT209)>1, \"\", BT209))","v":""},null,null,null,null,null,null,null,null,null,null,{"$f":"IF(L209=\"\",\"\",INDEX(referentes!AK:AL,MATCH(L209,referentes!AL:AL,0),1))","v":""},"",null,208,{"$f":"IF(K209=\"\",\"\",INDEX('Otras referencias'!F:I,MATCH(K209,'Otras referencias'!I:I,0),1))","v":""},"",null,null,null,null,null,null,null,null,null,null,null,null,null,null,null,null,null,null,null,null,null,null,null,null,null,null,null,null,null,null,null,null,null,null,0,0,0,0,0,0,0,0,null,null,null,null,null,0,null,null,null,null,null,{"$f":"IF(R209<>\"\",CONCATENATE($A$2,DIGITADOR!$M$1,ROW()-2),\"\")","v":""},"",{"$f":"IF(E209=\"\",\"\",INDEX(referentes!D:E,MATCH(E209,referentes!E:E,0),1))","v":""},{"$f":"IF(F209=\"\",\"\",INDEX(referentes!J:K,MATCH(F209,referentes!K:K,0),1))","v":""},{"$f":"IF(AI209=\"\",\"\",INDEX(referentes!M:N,MATCH(AI209,referentes!N:N,0),1))","v":""},{"$f":"IF(I209=\"\",\"\",INDEX(referentes!P:Q,MATCH(I209,referentes!Q:Q,0),1))","v":""},{"$f":"IF(J209=\"\",\"\",INDEX(referentes!S:T,MATCH(J209,referentes!T:T,0),1))","v":""},{"$f":"IF(AB209=\"\",\"\",INDEX(referentes!V:W,MATCH(AB209,referentes!W:W,0),1))","v":""},{"$f":"IF(Y209=\"\",\"\",INDEX(referentes!AZ:BA,MATCH(Y209,referentes!BA:BA,0),1))","v":""},"","","","",{"$f":"IF(BP209=\"\",\"\",INDEX(referentes!AE:AF,MATCH(BP209,referentes!AF:AF,0),1))","v":""},{"$f":"IF(BQ209=\"\",\"\",INDEX(referentes!AH:AI,MATCH(BQ209,referentes!AI:AI,0),1))","v":""},null,{"$f":"IF(D209=\"\",\"\",INDEX(referentes!A:B,MATCH(D209,referentes!B:B,0),1))","v":""},{"$f":"IF(AT209=\"\",\"\",INDEX(referentes!Y:Z,MATCH(AT209,referentes!Z:Z,0),1))","v":""},{"$f":"IF(AU209=\"\",\"\",INDEX(referentes!AB:AC,MATCH(AU209,referentes!AC:AC,0),1))","v":""}]
[null,{"$f":"IF(BT210=\"\",\"\",IF(COUNTIF($BT210:BT210, BT210)>1, \"\", BT210))","v":""},null,null,null,null,null,null,null,null,null,null,{"$f":"IF(L210=\"\",\"\",INDEX(referentes!AK:AL,MATCH(L210,referentes!AL:AL,0),1))","v":""},"",null,209,{"$f":"IF(K210=\"\",\"\",INDEX('Otras referencias'!F:I,MATCH(K210,'Otras referencias'!I:I,0),1))","v":""},"",null,null,null,null,null,null,null,null,null,null,null,null,null,null,null,null,null,null,null,null,null,null,null,null,null,null,null,null,null,null,null,null,null,null,0,0,0,0,0,0,0,0,null,null,null,null,null,0,null,null,null,null,null,{"$f":"IF(R210<>\"\",CONCATENATE($A$2,DIGITADOR!$M$1,ROW()-2),\"\")","v":""},"",{"$f":"IF(E210=\"\",\"\",INDEX(referentes!D:E,MATCH(E210,referentes!E:E,0),1))","v":""},{"$f":"IF(F210=\"\",\"\",INDEX(referentes!J:K,MATCH(F210,referentes!K:K,0),1))","v":""},{"$f":"IF(AI210=\"\",\"\",INDEX(referentes!M:N,MATCH(AI210,referentes!N:N,0),1))","v":""},{"$f":"IF(I210=\"\",\"\",INDEX(referentes!P:Q,MATCH(I210,referentes!Q:Q,0),1))","v":""},{"$f":"IF(J210=\"\",\"\",INDEX(referentes!S:T,MATCH(J210,referentes!T:T,0),1))","v":""},{"$f":"IF(AB210=\"\",\"\",INDEX(referentes!V:W,MATCH(AB210,referentes!W:W,0),1))","v":""},{"$f":"IF(Y210=\"\",\"\",INDEX(referentes!AZ:BA,MATCH(Y210,referentes!BA:BA,0),1))","v":""},"","","","",{"$f":"IF(BP210=\"\",\"\",INDEX(referentes!AE:AF,MATCH(BP210,referentes!AF:AF,0),1))","v":""},{"$f":"IF(BQ210=\"\",\"\",INDEX(referentes!AH:AI,MATCH(BQ210,referentes!AI:AI,0),1))","v":""},null,{"$f":"IF(D210=\"\",\"\",INDEX(referentes!A:B,MATCH(D210,referentes!B:B,0),1))","v":""},{"$f":"IF(AT210=\"\",\"\",INDEX(referentes!Y:Z,MATCH(AT210,referentes!Z:Z,0),1))","v":""},{"$f":"IF(AU210=\"\",\"\",INDEX(referentes!AB:AC,MATCH(AU210,referentes!AC:AC,0),1))","v":""}]
[null,{"$f":"IF(BT211=\"\",\"\",IF(COUNTIF($BT211:BT211, BT211)>1, \"\", BT211))","v":""},null,null,null,null,null,null,null,null,null,null,{"$f":"IF(L211=\"\",\"\",INDEX(referentes!AK:AL,MATCH(L211,referentes!AL:AL,0),1))","v":""},"",null,210,{"$f":"IF(K211=\"\",\"\",INDEX('Otras referencias'!F:I,MATCH(K211,'Otras referencias'!I:I,0),1))","v":""},"",null,null,null,null,null,null,null,null,null,null,null,null,null,null,null,null,null,null,null,null,null,null,null,null,null,null,null,null,null,null,null,null,null,null,0,0,0,0,0,0,0,0,null,null,null,null,null,0,null,null,null,null,null,{"$f":"IF(R211<>\"\",CONCATENATE($A$2,DIGITADOR!$M$1,ROW()-2),\"\")","v":""},"",{"$f":"IF(E211=\"\",\"\",INDEX(referentes!D:E,MATCH(E211,referentes!E:E,0),1))","v":""},{"$f":"IF(F211=\"\",\"\",INDEX(referentes!J:K,MATCH(F211,referentes!K:K,0),1))","v":""},{"$f":"IF(AI211=\"\",\"\",INDEX(referentes!M:N,MATCH(AI211,referentes!N:N,0),1))","v":""},{"$f":"IF(I211=\"\",\"\",INDEX(referentes!P:Q,MATCH(I211,referentes!Q:Q,0),1))","v":""},{"$f":"IF(J211=\"\",\"\",INDEX(referentes!S:T,MATCH(J211,referentes!T:T,0),1))","v":""},{"$f":"IF(AB211=\"\",\"\",INDEX(referentes!V:W,MATCH(AB211,referentes!W:W,0),1))","v":""},{"$f":"IF(Y211=\"\",\"\",INDEX(referentes!AZ:BA,MATCH(Y211,referentes!BA:BA,0),1))","v":""},"","","","",{"$f":"IF(BP211=\"\",\"\",INDEX(referentes!AE:AF,MATCH(BP211,referentes!AF:AF,0),1))","v":""},{"$f":"IF(BQ211=\"\",\"\",INDEX(referentes!AH:AI,MATCH(BQ211,referentes!AI:AI,0),1))","v":""},null,{"$f":"IF(D211=\"\",\"\",INDEX(referentes!A:B,MATCH(D211,referentes!B:B,0),1))","v":""},{"$f":"IF(AT211=\"\",\"\",INDEX(referentes!Y:Z,MATCH(AT211,referentes!Z:Z,0),1))","v":""},{"$f":"IF(AU211=\"\",\"\",INDEX(referentes!AB:AC,MATCH(AU211,referentes!AC:AC,0),1))","v":""}]
[null,{"$f":"IF(BT212=\"\",\"\",IF(COUNTIF($BT212:BT212, BT212)>1, \"\", BT212))","v":""},null,null,null,null,null,null,null,null,null,null,{"$f":"IF(L212=\"\",\"\",INDEX(referentes!AK:AL,MATCH(L212,referentes!AL:AL,0),1))","v":""},"",null,211,{"$f":"IF(K212=\"\",\"\",INDEX('Otras referencias'!F:I,MATCH(K212,'Otras referencias'!I:I,0),1))","v":""},"",null,null,null,null,null,null,null,null,null,null,null,null,null,null,null,null,null,null,null,null,null,null,null,null,null,null,null,null,null,null,null,null,null,null,0,0,0,0,0,0,0,0,null,null,null,null,null,0,null,null,null,null,null,{"$f":"IF(R212<>\"\",CONCATENATE($A$2,DIGITADOR!$M$1,ROW()-2),\"\")","v":""},"",{"$f":"IF(E212=\"\",\"\",INDEX(referentes!D:E,MATCH(E212,referentes!E:E,0),1))","v":""},{"$f":"IF(F212=\"\",\"\",INDEX(referentes!J:K,MATCH(F212,referentes!K:K,0),1))","v":""},{"$f":"IF(AI212=\"\",\"\",INDEX(referentes!M:N,MATCH(AI212,referentes!N:N,0),1))","v":""},{"$f":"IF(I212=\"\",\"\",INDEX(referentes!P:Q,MATCH(I212,referentes!Q:Q,0),1))","v":""},{"$f":"IF(J212=\"\",\"\",INDEX(referentes!S:T,MATCH(J212,referentes!T:T,0),1))","v":""},{"$f":"IF(AB212=\"\",\"\",INDEX(referentes!V:W,MATCH(AB212,referentes!W:W,0),1))","v":""},{"$f":"IF(Y212=\"\",\"\",INDEX(referentes!AZ:BA,MATCH(Y212,referentes!BA:BA,0),1))","v":""},"","","","",{"$f":"IF(BP212=\"\",\"\",INDEX(referentes!AE:AF,MATCH(BP212,referentes!AF:AF,0),1))","v":""},{"$f":"IF(BQ212=\"\",\"\",INDEX(referentes!AH:AI,MATCH(BQ212,referentes!AI:AI,0),1))","v":""},null,{"$f":"IF(D212=\"\",\"\",INDEX(referentes!A:B,MATCH(D212,referentes!B:B,0),1))","v":""},{"$f":"IF(AT212=\"\",\"\",INDEX(referentes!Y:Z,MATCH(AT212,referentes!Z:Z,0),1))","v":""},{"$f":"IF(AU212=\"\",\"\",INDEX(referentes!AB:AC,MATCH(AU212,referentes!AC:AC,0),1))","v":""}]
[null,{"$f":"IF(BT213=\"\",\"\",IF(COUNTIF($BT213:BT213, BT213)>1, \"\", BT213))","v":""},null,null,null,null,null,null,null,null,null,null,{"$f":"IF(L213=\"\",\"\",INDEX(referentes!AK:AL,MATCH(L213,referentes!AL:AL,0),1))","v":""},"",null,212,{"$f":"IF(K213=\"\",\"\",INDEX('Otras referencias'!F:I,MATCH(K213,'Otras referencias'!I:I,0),1))","v":""},"",null,null,null,null,null,null,null,null,null,null,null,null,null,null,null,null,null,null,null,null,null,null,null,null,null,null,null,null,null,null,null,null,null,null,0,0,0,0,0,0,0,0,null,null,null,null,null,0,null,null,null,null,null,{"$f":"IF(R213<>\"\",CONCATENATE($A$2,DIGITADOR!$M$1,ROW()-2),\"\")","v":""},"",{"$f":"IF(E213=\"\",\"\",INDEX(referentes!D:E,MATCH(E213,referentes!E:E,0),1))","v":""},{"$f":"IF(F213=\"\",\"\",INDEX(referentes!J:K,MATCH(F213,referentes!K:K,0),1))","v":""},{"$f":"IF(AI213=\"\",\"\",INDEX(referentes!M:N,MATCH(AI213,referentes!N:N,0),1))","v":""},{"$f":"IF(I213=\"\",\"\",INDEX(referentes!P:Q,MATCH(I213,referentes!Q:Q,0),1))","v":""},{"$f":"IF(J213=\"\",\"\",INDEX(referentes!S:T,MATCH(J213,referentes!T:T,0),1))","v":""},{"$f":"IF(AB213=\"\",\"\",INDEX(referentes!V:W,MATCH(AB213,referentes!W:W,0),1))","v":""},{"$f":"IF(Y213=\"\",\"\",INDEX(referentes!AZ:BA,MATCH(Y213,referentes!BA:BA,0),1))","v":""},"","","","",{"$f":"IF(BP213=\"\",\"\",INDEX(referentes!AE:AF,MATCH(BP213,referentes!AF:AF,0),1))","v":""},{"$f":"IF(BQ213=\"\",\"\",INDEX(referentes!AH:AI,MATCH(BQ213,referentes!AI:AI,0),1))","v":""},null,{"$f":"IF(D213=\"\",\"\",INDEX(referentes!A:B,MATCH(D213,referentes!B:B,0),1))","v":""},{"$f":"IF(AT213=\"\",\"\",INDEX(referentes!Y:Z,MATCH(AT213,referentes!Z:Z,0),1))","v":""},{"$f":"IF(AU213=\"\",\"\",INDEX(referentes!AB:AC,MATCH(AU213,referentes!AC:AC,0),1))","v":""}]
[null,{"$f":"IF(BT214=\"\",\"\",IF(COUNTIF($BT214:BT214, BT214)>1, \"\", BT214))","v":""},null,null,null,null,null,null,null,null,null,null,{"$f":"IF(L214=\"\",\"\",INDEX(referentes!AK:AL,MATCH(L214,referentes!AL:AL,0),1))","v":""},"",null,213,{"$f":"IF(K214=\"\",\"\",INDEX('Otras referencias'!F:I,MATCH(K214,'Otras referencias'!I:I,0),1))","v":""},"",null,null,null,null,null,null,null,null,null,null,null,null,null,null,null,null,null,null,null,null,null,null,null,null,null,null,null,null,null,null,null,null,null,null,0,0,0,0,0,0,0,0,null,null,null,null,null,0,null,null,null,null,null,{"$f":"IF(R214<>\"\",CONCATENATE($A$2,DIGITADOR!$M$1,ROW()-2),\"\")","v":""},"",{"$f":"IF(E214=\"\",\"\",INDEX(referentes!D:E,MATCH(E214,referentes!E:E,0),1))","v":""},{"$f":"IF(F214=\"\",\"\",INDEX(referentes!J:K,MATCH(F214,referentes!K:K,0),1))","v":""},{"$f":"IF(AI214=\"\",\"\",INDEX(referentes!M:N,MATCH(AI214,referentes!N:N,0),1))","v":""},{"$f":"IF(I214=\"\",\"\",INDEX(referentes!P:Q,MATCH(I214,referentes!Q:Q,0),1))","v":""},{"$f":"IF(J214=\"\",\"\",INDEX(referentes!S:T,MATCH(J214,referentes!T:T,0),1))","v":""},{"$f":"IF(AB214=\"\",\"\",INDEX(referentes!V:W,MATCH(AB214,referentes!W:W,0),1))","v":""},{"$f":"IF(Y214=\"\",\"\",INDEX(referentes!AZ:BA,MATCH(Y214,referentes!BA:BA,0),1))","v":""},"","","","",{"$f":"IF(BP214=\"\",\"\",INDEX(referentes!AE:AF,MATCH(BP214,referentes!AF:AF,0),1))","v":""},{"$f":"IF(BQ214=\"\",\"\",INDEX(referentes!AH:AI,MATCH(BQ214,referentes!AI:AI,0),1))","v":""},null,{"$f":"IF(D214=\"\",\"\",INDEX(referentes!A:B,MATCH(D214,referentes!B:B,0),1))","v":""},{"$f":"IF(AT214=\"\",\"\",INDEX(referentes!Y:Z,MATCH(AT214,referentes!Z:Z,0),1))","v":""},{"$f":"IF(AU214=\"\",\"\",INDEX(referentes!AB:AC,MATCH(AU214,referentes!AC:AC,0),1))","v":""}]
[null,{"$f":"IF(BT215=\"\",\"\",IF(COUNTIF($BT215:BT215, BT215)>1, \"\", BT215))","v":""},null,null,null,null,null,null,null,null,null,null,{"$f":"IF(L215=\"\",\"\",INDEX(referentes!AK:AL,MATCH(L215,referentes!AL:AL,0),1))","v":""},"",null,214,{"$f":"IF(K215=\"\",\"\",INDEX('Otras referencias'!F:I,MATCH(K215,'Otras referencias'!I:I,0),1))","v":""},"",null,null,null,null,null,null,null,null,null,null,null,null,null,null,null,null,null,null,null,null,null,null,null,null,null,null,null,null,null,null,null,null,null,null,0,0,0,0,0,0,0,0,null,null,null,null,null,0,null,null,null,null,null,{"$f":"IF(R215<>\"\",CONCATENATE($A$2,DIGITADOR!$M$1,ROW()-2),\"\")","v":""},"",{"$f":"IF(E215=\"\",\"\",INDEX(referentes!D:E,MATCH(E215,referentes!E:E,0),1))","v":""},{"$f":"IF(F215=\"\",\"\",INDEX(referentes!J:K,MATCH(F215,referentes!K:K,0),1))","v":""},{"$f":"IF(AI215=\"\",\"\",INDEX(referentes!M:N,MATCH(AI215,referentes!N:N,0),1))","v":""},{"$f":"IF(I215=\"\",\"\",INDEX(referentes!P:Q,MATCH(I215,referentes!Q:Q,0),1))","v":""},{"$f":"IF(J215=\"\",\"\",INDEX(referentes!S:T,MATCH(J215,referentes!T:T,0),1))","v":""},{"$f":"IF(AB215=\"\",\"\",INDEX(referentes!V:W,MATCH(AB215,referentes!W:W,0),1))","v":""},{"$f":"IF(Y215=\"\",\"\",INDEX(referentes!AZ:BA,MATCH(Y215,referentes!BA:BA,0),1))","v":""},"","","","",{"$f":"IF(BP215=\"\",\"\",INDEX(referentes!AE:AF,MATCH(BP215,referentes!AF:AF,0),1))","v":""},{"$f":"IF(BQ215=\"\",\"\",INDEX(referentes!AH:AI,MATCH(BQ215,referentes!AI:AI,0),1))","v":""},null,{"$f":"IF(D215=\"\",\"\",INDEX(referentes!A:B,MATCH(D215,referentes!B:B,0),1))","v":""},{"$f":"IF(AT215=\"\",\"\",INDEX(referentes!Y:Z,MATCH(AT215,referentes!Z:Z,0),1))","v":""},{"$f":"IF(AU215=\"\",\"\",INDEX(referentes!AB:AC,MATCH(AU215,referentes!AC:AC,0),1))","v":""}]
[null,{"$f":"IF(BT216=\"\",\"\",IF(COUNTIF($BT216:BT216, BT216)>1, \"\", BT216))","v":""},null,null,null,null,null,null,null,null,null,null,{"$f":"IF(L216=\"\",\"\",INDEX(referentes!AK:AL,MATCH(L216,referentes!AL:AL,0),1))","v":""},"",null,215,{"$f":"IF(K216=\"\",\"\",INDEX('Otras referencias'!F:I,MATCH(K216,'Otras referencias'!I:I,0),1))","v":""},"",null,null,null,null,null,null,null,null,null,null,null,null,null,null,null,null,null,null,null,null,null,null,null,null,null,null,null,null,null,null,null,null,null,null,0,0,0,0,0,0,0,0,null,null,null,null,null,0,null,null,null,null,null,{"$f":"IF(R216<>\"\",CONCATENATE($A$2,DIGITADOR!$M$1,ROW()-2),\"\")","v":""},"",{"$f":"IF(E216=\"\",\"\",INDEX(referentes!D:E,MATCH(E216,referentes!E:E,0),1))","v":""},{"$f":"IF(F216=\"\",\"\",INDEX(referentes!J:K,MATCH(F216,referentes!K:K,0),1))","v":""},{"$f":"IF(AI216=\"\",\"\",INDEX(referentes!M:N,MATCH(AI216,referentes!N:N,0),1))","v":""},{"$f":"IF(I216=\"\",\"\",INDEX(referentes!P:Q,MATCH(I216,referentes!Q:Q,0),1))","v":""},{"$f":"IF(J216=\"\",\"\",INDEX(referentes!S:T,MATCH(J216,referentes!T:T,0),1))","v":""},{"$f":"IF(AB216=\"\",\"\",INDEX(referentes!V:W,MATCH(AB216,referentes!W:W,0),1))","v":""},{"$f":"IF(Y216=\"\",\"\",INDEX(referentes!AZ:BA,MATCH(Y216,referentes!BA:BA,0),1))","v":""},"","","","",{"$f":"IF(BP216=\"\",\"\",INDEX(referentes!AE:AF,MATCH(BP216,referentes!AF:AF,0),1))","v":""},{"$f":"IF(BQ216=\"\",\"\",INDEX(referentes!AH:AI,MATCH(BQ216,referentes!AI:AI,0),1))","v":""},null,{"$f":"IF(D216=\"\",\"\",INDEX(referentes!A:B,MATCH(D216,referentes!B:B,0),1))","v":""},{"$f":"IF(AT216=\"\",\"\",INDEX(referentes!Y:Z,MATCH(AT216,referentes!Z:Z,0),1))","v":""},{"$f":"IF(AU216=\"\",\"\",INDEX(referentes!AB:AC,MATCH(AU216,referentes!AC:AC,0),1))","v":""}]
[null,{"$f":"IF(BT217=\"\",\"\",IF(COUNTIF($BT217:BT217, BT217)>1, \"\", BT217))","v":""},null,null,null,null,null,null,null,null,null,null,{"$f":"IF(L217=\"\",\"\",INDEX(referentes!AK:AL,MATCH(L217,referentes!AL:AL,0),1))","v":""},"",null,216,{"$f":"IF(K217=\"\",\"\",INDEX('Otras referencias'!F:I,MATCH(K217,'Otras referencias'!I:I,0),1))","v":""},"",null,null,null,null,null,null,null,null,null,null,null,null,null,null,null,null,null,null,null,null,null,null,null,null,null,null,null,null,null,null,null,null,null,null,0,0,0,0,0,0,0,0,null,null,null,null,null,0,null,null,null,null,null,{"$f":"IF(R217<>\"\",CONCATENATE($A$2,DIGITADOR!$M$1,ROW()-2),\"\")","v":""},"",{"$f":"IF(E217=\"\",\"\",INDEX(referentes!D:E,MATCH(E217,referentes!E:E,0),1))","v":""},{"$f":"IF(F217=\"\",\"\",INDEX(referentes!J:K,MATCH(F217,referentes!K:K,0),1))","v":""},{"$f":"IF(AI217=\"\",\"\",INDEX(referentes!M:N,MATCH(AI217,referentes!N:N,0),1))","v":""},{"$f":"IF(I217=\"\",\"\",INDEX(referentes!P:Q,MATCH(I217,referentes!Q:Q,0),1))","v":""},{"$f":"IF(J217=\"\",\"\",INDEX(referentes!S:T,MATCH(J217,referentes!T:T,0),1))","v":""},{"$f":"IF(AB217=\"\",\"\",INDEX(referentes!V:W,MATCH(AB217,referentes!W:W,0),1))","v":""},{"$f":"IF(Y217=\"\",\"\",INDEX(referentes!AZ:BA,MATCH(Y217,referentes!BA:BA,0),1))","v":""},"","","","",{"$f":"IF(BP217=\"\",\"\",INDEX(referentes!AE:AF,MATCH(BP217,referentes!AF:AF,0),1))","v":""},{"$f":"IF(BQ217=\"\",\"\",INDEX(referentes!AH:AI,MATCH(BQ217,referentes!AI:AI,0),1))","v":""},null,{"$f":"IF(D217=\"\",\"\",INDEX(referentes!A:B,MATCH(D217,referentes!B:B,0),1))","v":""},{"$f":"IF(AT217=\"\",\"\",INDEX(referentes!Y:Z,MATCH(AT217,referentes!Z:Z,0),1))","v":""},{"$f":"IF(AU217=\"\",\"\",INDEX(referentes!AB:AC,MATCH(AU217,referentes!AC:AC,0),1))","v":""}]
[null,{"$f":"IF(BT218=\"\",\"\",IF(COUNTIF($BT218:BT218, BT218)>1, \"\", BT218))","v":""},null,null,null,null,null,null,null,null,null,null,{"$f":"IF(L218=\"\",\"\",INDEX(referentes!AK:AL,MATCH(L218,referentes!AL:AL,0),1))","v":""},"",null,217,{"$f":"IF(K218=\"\",\"\",INDEX('Otras referencias'!F:I,MATCH(K218,'Otras referencias'!I:I,0),1))","v":""},"",null,null,null,null,null,null,null,null,null,null,null,null,null,null,null,null,null,null,null,null,null,null,null,null,null,null,null,null,null,null,null,null,null,null,0,0,0,0,0,0,0,0,null,null,null,null,null,0,null,null,null,null,null,{"$f":"IF(R218<>\"\",CONCATENATE($A$2,DIGITADOR!$M$1,ROW()-2),\"\")","v":""},"",{"$f":"IF(E218=\"\",\"\",INDEX(referentes!D:E,MATCH(E218,referentes!E:E,0),1))","v":""},{"$f":"IF(F218=\"\",\"\",INDEX(referentes!J:K,MATCH(F218,referentes!K:K,0),1))","v":""},{"$f":"IF(AI218=\"\",\"\",INDEX(referentes!M:N,MATCH(AI218,referentes!N:N,0),1))","v":""},{"$f":"IF(I218=\"\",\"\",INDEX(referentes!P:Q,MATCH(I218,referentes!Q:Q,0),1))","v":""},{"$f":"IF(J218=\"\",\"\",INDEX(referentes!S:T,MATCH(J218,referentes!T:T,0),1))","v":""},{"$f":"IF(AB218=\"\",\"\",INDEX(referentes!V:W,MATCH(AB218,referentes!W:W,0),1))","v":""},{"$f":"IF(Y218=\"\",\"\",INDEX(referentes!AZ:BA,MATCH(Y218,referentes!BA:BA,0),1))","v":""},"","","","",{"$f":"IF(BP218=\"\",\"\",INDEX(referentes!AE:AF,MATCH(BP218,referentes!AF:AF,0),1))","v":""},{"$f":"IF(BQ218=\"\",\"\",INDEX(referentes!AH:AI,MATCH(BQ218,referentes!AI:AI,0),1))","v":""},null,{"$f":"IF(D218=\"\",\"\",INDEX(referentes!A:B,MATCH(D218,referentes!B:B,0),1))","v":""},{"$f":"IF(AT218=\"\",\"\",INDEX(referentes!Y:Z,MATCH(AT218,referentes!Z:Z,0),1))","v":""},{"$f":"IF(AU218=\"\",\"\",INDEX(referentes!AB:AC,MATCH(AU218,referentes!AC:AC,0),1))","v":""}]
[null,{"$f":"IF(BT219=\"\",\"\",IF(COUNTIF($BT219:BT219, BT219)>1, \"\", BT219))","v":""},null,null,null,null,null,null,null,null,null,null,{"$f":"IF(L219=\"\",\"\",INDEX(referentes!AK:AL,MATCH(L219,referentes!AL:AL,0),1))","v":""},"",null,218,{"$f":"IF(K219=\"\",\"\",INDEX('Otras referencias'!F:I,MATCH(K219,'Otras referencias'!I:I,0),1))","v":""},"",null,null,null,null,null,null,null,null,null,null,null,null,null,null,null,null,null,null,null,null,null,null,null,null,null,null,null,null,null,null,null,null,null,null,0,0,0,0,0,0,0,0,null,null,null,null,null,0,null,null,null,null,null,{"$f":"IF(R219<>\"\",CONCATENATE($A$2,DIGITADOR!$M$1,ROW()-2),\"\")","v":""},"",{"$f":"IF(E219=\"\",\"\",INDEX(referentes!D:E,MATCH(E219,referentes!E:E,0),1))","v":""},{"$f":"IF(F219=\"\",\"\",INDEX(referentes!J:K,MATCH(F219,referentes!K:K,0),1))","v":""},{"$f":"IF(AI219=\"\",\"\",INDEX(referentes!M:N,MATCH(AI219,referentes!N:N,0),1))","v":""},{"$f":"IF(I219=\"\",\"\",INDEX(referentes!P:Q,MATCH(I219,referentes!Q:Q,0),1))","v":""},{"$f":"IF(J219=\"\",\"\",INDEX(referentes!S:T,MATCH(J219,referentes!T:T,0),1))","v":""},{"$f":"IF(AB219=\"\",\"\",INDEX(referentes!V:W,MATCH(AB219,referentes!W:W,0),1))","v":""},{"$f":"IF(Y219=\"\",\"\",INDEX(referentes!AZ:BA,MATCH(Y219,referentes!BA:BA,0),1))","v":""},"","","","",{"$f":"IF(BP219=\"\",\"\",INDEX(referentes!AE:AF,MATCH(BP219,referentes!AF:AF,0),1))","v":""},{"$f":"IF(BQ219=\"\",\"\",INDEX(referentes!AH:AI,MATCH(BQ219,referentes!AI:AI,0),1))","v":""},null,{"$f":"IF(D219=\"\",\"\",INDEX(referentes!A:B,MATCH(D219,referentes!B:B,0),1))","v":""},{"$f":"IF(AT219=\"\",\"\",INDEX(referentes!Y:Z,MATCH(AT219,referentes!Z:Z,0),1))","v":""},{"$f":"IF(AU219=\"\",\"\",INDEX(referentes!AB:AC,MATCH(AU219,referentes!AC:AC,0),1))","v":""}]
[null,{"$f":"IF(BT220=\"\",\"\",IF(COUNTIF($BT220:BT220, BT220)>1, \"\", BT220))","v":""},null,null,null,null,null,null,null,null,null,null,{"$f":"IF(L220=\"\",\"\",INDEX(referentes!AK:AL,MATCH(L220,referentes!AL:AL,0),1))","v":""},"",null,219,{"$f":"IF(K220=\"\",\"\",INDEX('Otras referencias'!F:I,MATCH(K220,'Otras referencias'!I:I,0),1))","v":""},"",null,null,null,null,null,null,null,null,null,null,null,null,null,null,null,null,null,null,null,null,null,null,null,null,null,null,null,null,null,null,null,null,null,null,0,0,0,0,0,0,0,0,null,null,null,null,null,0,null,null,null,null,null,{"$f":"IF(R220<>\"\",CONCATENATE($A$2,DIGITADOR!$M$1,ROW()-2),\"\")","v":""},"",{"$f":"IF(E220=\"\",\"\",INDEX(referentes!D:E,MATCH(E220,referentes!E:E,0),1))","v":""},{"$f":"IF(F220=\"\",\"\",INDEX(referentes!J:K,MATCH(F220,referentes!K:K,0),1))","v":""},{"$f":"IF(AI220=\"\",\"\",INDEX(referentes!M:N,MATCH(AI220,referentes!N:N,0),1))","v":""},{"$f":"IF(I220=\"\",\"\",INDEX(referentes!P:Q,MATCH(I220,referentes!Q:Q,0),1))","v":""},{"$f":"IF(J220=\"\",\"\",INDEX(referentes!S:T,MATCH(J220,referentes!T:T,0),1))","v":""},{"$f":"IF(AB220=\"\",\"\",INDEX(referentes!V:W,MATCH(AB220,referentes!W:W,0),1))","v":""},{"$f":"IF(Y220=\"\",\"\",INDEX(referentes!AZ:BA,MATCH(Y220,referentes!BA:BA,0),1))","v":""},"","","","",{"$f":"IF(BP220=\"\",\"\",INDEX(referentes!AE:AF,MATCH(BP220,referentes!AF:AF,0),1))","v":""},{"$f":"IF(BQ220=\"\",\"\",INDEX(referentes!AH:AI,MATCH(BQ220,referentes!AI:AI,0),1))","v":""},null,{"$f":"IF(D220=\"\",\"\",INDEX(referentes!A:B,MATCH(D220,referentes!B:B,0),1))","v":""},{"$f":"IF(AT220=\"\",\"\",INDEX(referentes!Y:Z,MATCH(AT220,referentes!Z:Z,0),1))","v":""},{"$f":"IF(AU220=\"\",\"\",INDEX(referentes!AB:AC,MATCH(AU220,referentes!AC:AC,0),1))","v":""}]
[null,{"$f":"IF(BT221=\"\",\"\",IF(COUNTIF($BT221:BT221, BT221)>1, \"\", BT221))","v":""},null,null,null,null,null,null,null,null,null,null,{"$f":"IF(L221=\"\",\"\",INDEX(referentes!AK:AL,MATCH(L221,referentes!AL:AL,0),1))","v":""},"",null,220,{"$f":"IF(K221=\"\",\"\",INDEX('Otras referencias'!F:I,MATCH(K221,'Otras referencias'!I:I,0),1))","v":""},"",null,null,null,null,null,null,null,null,null,null,null,null,null,null,null,null,null,null,null,null,null,null,null,null,null,null,null,null,null,null,null,null,null,null,0,0,0,0,0,0,0,0,null,null,null,null,null,0,null,null,null,null,null,{"$f":"IF(R221<>\"\",CONCATENATE($A$2,DIGITADOR!$M$1,ROW()-2),\"\")","v":""},"",{"$f":"IF(E221=\"\",\"\",INDEX(referentes!D:E,MATCH(E221,referentes!E:E,0),1))","v":""},{"$f":"IF(F221=\"\",\"\",INDEX(referentes!J:K,MATCH(F221,referentes!K:K,0),1))","v":""},{"$f":"IF(AI221=\"\",\"\",INDEX(referentes!M:N,MATCH(AI221,referentes!N:N,0),1))","v":""},{"$f":"IF(I221=\"\",\"\",INDEX(referentes!P:Q,MATCH(I221,referentes!Q:Q,0),1))","v":""},{"$f":"IF(J221=\"\",\"\",INDEX(referentes!S:T,MATCH(J221,referentes!T:T,0),1))","v":""},{"$f":"IF(AB221=\"\",\"\",INDEX(referentes!V:W,MATCH(AB221,referentes!W:W,0),1))","v":""},{"$f":"IF(Y221=\"\",\"\",INDEX(referentes!AZ:BA,MATCH(Y221,referentes!BA:BA,0),1))","v":""},"","","","",{"$f":"IF(BP221=\"\",\"\",INDEX(referentes!AE:AF,MATCH(BP221,referentes!AF:AF,0),1))","v":""},{"$f":"IF(BQ221=\"\",\"\",INDEX(referentes!AH:AI,MATCH(BQ221,referentes!AI:AI,0),1))","v":""},null,{"$f":"IF(D221=\"\",\"\",INDEX(referentes!A:B,MATCH(D221,referentes!B:B,0),1))","v":""},{"$f":"IF(AT221=\"\",\"\",INDEX(referentes!Y:Z,MATCH(AT221,referentes!Z:Z,0),1))","v":""},{"$f":"IF(AU221=\"\",\"\",INDEX(referentes!AB:AC,MATCH(AU221,referentes!AC:AC,0),1))","v":""}]
[null,{"$f":"IF(BT222=\"\",\"\",IF(COUNTIF($BT222:BT222, BT222)>1, \"\", BT222))","v":""},null,null,null,null,null,null,null,null,null,null,{"$f":"IF(L222=\"\",\"\",INDEX(referentes!AK:AL,MATCH(L222,referentes!AL:AL,0),1))","v":""},"",null,221,{"$f":"IF(K222=\"\",\"\",INDEX('Otras referencias'!F:I,MATCH(K222,'Otras referencias'!I:I,0),1))","v":""},"",null,null,null,null,null,null,null,null,null,null,null,null,null,null,null,null,null,null,null,null,null,null,null,null,null,null,null,null,null,null,null,null,null,null,0,0,0,0,0,0,0,0,null,null,null,null,null,0,null,null,null,null,null,{"$f":"IF(R222<>\"\",CONCATENATE($A$2,DIGITADOR!$M$1,ROW()-2),\"\")","v":""},"",{"$f":"IF(E222=\"\",\"\",INDEX(referentes!D:E,MATCH(E222,referentes!E:E,0),1))","v":""},{"$f":"IF(F222=\"\",\"\",INDEX(referentes!J:K,MATCH(F222,referentes!K:K,0),1))","v":""},{"$f":"IF(AI222=\"\",\"\",INDEX(referentes!M:N,MATCH(AI222,referentes!N:N,0),1))","v":""},{"$f":"IF(I222=\"\",\"\",INDEX(referentes!P:Q,MATCH(I222,referentes!Q:Q,0),1))","v":""},{"$f":"IF(J222=\"\",\"\",INDEX(referentes!S:T,MATCH(J222,referentes!T:T,0),1))","v":""},{"$f":"IF(AB222=\"\",\"\",INDEX(referentes!V:W,MATCH(AB222,referentes!W:W,0),1))","v":""},{"$f":"IF(Y222=\"\",\"\",INDEX(referentes!AZ:BA,MATCH(Y222,referentes!BA:BA,0),1))","v":""},"","","","",{"$f":"IF(BP222=\"\",\"\",INDEX(referentes!AE:AF,MATCH(BP222,referentes!AF:AF,0),1))","v":""},{"$f":"IF(BQ222=\"\",\"\",INDEX(referentes!AH:AI,MATCH(BQ222,referentes!AI:AI,0),1))","v":""},null,{"$f":"IF(D222=\"\",\"\",INDEX(referentes!A:B,MATCH(D222,referentes!B:B,0),1))","v":""},{"$f":"IF(AT222=\"\",\"\",INDEX(referentes!Y:Z,MATCH(AT222,referentes!Z:Z,0),1))","v":""},{"$f":"IF(AU222=\"\",\"\",INDEX(referentes!AB:AC,MATCH(AU222,referentes!AC:AC,0),1))","v":""}]
[null,{"$f":"IF(BT223=\"\",\"\",IF(COUNTIF($BT223:BT223, BT223)>1, \"\", BT223))","v":""},null,null,null,null,null,null,null,null,null,null,{"$f":"IF(L223=\"\",\"\",INDEX(referentes!AK:AL,MATCH(L223,referentes!AL:AL,0),1))","v":""},"",null,222,{"$f":"IF(K223=\"\",\"\",INDEX('Otras referencias'!F:I,MATCH(K223,'Otras referencias'!I:I,0),1))","v":""},"",null,null,null,null,null,null,null,null,null,null,null,null,null,null,null,null,null,null,null,null,null,null,null,null,null,null,null,null,null,null,null,null,null,null,0,0,0,0,0,0,0,0,null,null,null,null,null,0,null,null,null,null,null,{"$f":"IF(R223<>\"\",CONCATENATE($A$2,DIGITADOR!$M$1,ROW()-2),\"\")","v":""},"",{"$f":"IF(E223=\"\",\"\",INDEX(referentes!D:E,MATCH(E223,referentes!E:E,0),1))","v":""},{"$f":"IF(F223=\"\",\"\",INDEX(referentes!J:K,MATCH(F223,referentes!K:K,0),1))","v":""},{"$f":"IF(AI223=\"\",\"\",INDEX(referentes!M:N,MATCH(AI223,referentes!N:N,0),1))","v":""},{"$f":"IF(I223=\"\",\"\",INDEX(referentes!P:Q,MATCH(I223,referentes!Q:Q,0),1))","v":""},{"$f":"IF(J223=\"\",\"\",INDEX(referentes!S:T,MATCH(J223,referentes!T:T,0),1))","v":""},{"$f":"IF(AB223=\"\",\"\",INDEX(referentes!V:W,MATCH(AB223,referentes!W:W,0),1))","v":""},{"$f":"IF(Y223=\"\",\"\",INDEX(referentes!AZ:BA,MATCH(Y223,referentes!BA:BA,0),1))","v":""},"","","","",{"$f":"IF(BP223=\"\",\"\",INDEX(referentes!AE:AF,MATCH(BP223,referentes!AF:AF,0),1))","v":""},{"$f":"IF(BQ223=\"\",\"\",INDEX(referentes!AH:AI,MATCH(BQ223,referentes!AI:AI,0),1))","v":""},null,{"$f":"IF(D223=\"\",\"\",INDEX(referentes!A:B,MATCH(D223,referentes!B:B,0),1))","v":""},{"$f":"IF(AT223=\"\",\"\",INDEX(referentes!Y:Z,MATCH(AT223,referentes!Z:Z,0),1))","v":""},{"$f":"IF(AU223=\"\",\"\",INDEX(referentes!AB:AC,MATCH(AU223,referentes!AC:AC,0),1))","v":""}]
[null,{"$f":"IF(BT224=\"\",\"\",IF(COUNTIF($BT224:BT224, BT224)>1, \"\", BT224))","v":""},null,null,null,null,null,null,null,null,null,null,{"$f":"IF(L224=\"\",\"\",INDEX(referentes!AK:AL,MATCH(L224,referentes!AL:AL,0),1))","v":""},"",null,223,{"$f":"IF(K224=\"\",\"\",INDEX('Otras referencias'!F:I,MATCH(K224,'Otras referencias'!I:I,0),1))","v":""},"",null,null,null,null,null,null,null,null,null,null,null,null,null,null,null,null,null,null,null,null,null,null,null,null,null,null,null,null,null,null,null,null,null,null,0,0,0,0,0,0,0,0,null,null,null,null,null,0,null,null,null,null,null,{"$f":"IF(R224<>\"\",CONCATENATE($A$2,DIGITADOR!$M$1,ROW()-2),\"\")","v":""},"",{"$f":"IF(E224=\"\",\"\",INDEX(referentes!D:E,MATCH(E224,referentes!E:E,0),1))","v":""},{"$f":"IF(F224=\"\",\"\",INDEX(referentes!J:K,MATCH(F224,referentes!K:K,0),1))","v":""},{"$f":"IF(AI224=\"\",\"\",INDEX(referentes!M:N,MATCH(AI224,referentes!N:N,0),1))","v":""},{"$f":"IF(I224=\"\",\"\",INDEX(referentes!P:Q,MATCH(I224,referentes!Q:Q,0),1))","v":""},{"$f":"IF(J224=\"\",\"\",INDEX(referentes!S:T,MATCH(J224,referentes!T:T,0),1))","v":""},{"$f":"IF(AB224=\"\",\"\",INDEX(referentes!V:W,MATCH(AB224,referentes!W:W,0),1))","v":""},{"$f":"IF(Y224=\"\",\"\",INDEX(referentes!AZ:BA,MATCH(Y224,referentes!BA:BA,0),1))","v":""},"","","","",{"$f":"IF(BP224=\"\",\"\",INDEX(referentes!AE:AF,MATCH(BP224,referentes!AF:AF,0),1))","v":""},{"$f":"IF(BQ224=\"\",\"\",INDEX(referentes!AH:AI,MATCH(BQ224,referentes!AI:AI,0),1))","v":""},null,{"$f":"IF(D224=\"\",\"\",INDEX(referentes!A:B,MATCH(D224,referentes!B:B,0),1))","v":""},{"$f":"IF(AT224=\"\",\"\",INDEX(referentes!Y:Z,MATCH(AT224,referentes!Z:Z,0),1))","v":""},{"$f":"IF(AU224=\"\",\"\",INDEX(referentes!AB:AC,MATCH(AU224,referentes!AC:AC,0),1))","v":""}]
[null,{"$f":"IF(BT225=\"\",\"\",IF(COUNTIF($BT225:BT225, BT225)>1, \"\", BT225))","v":""},null,null,null,null,null,null,null,null,null,null,{"$f":"IF(L225=\"\",\"\",INDEX(referentes!AK:AL,MATCH(L225,referentes!AL:AL,0),1))","v":""},"",null,224,{"$f":"IF(K225=\"\",\"\",INDEX('Otras referencias'!F:I,MATCH(K225,'Otras referencias'!I:I,0),1))","v":""},"",null,null,null,null,null,null,null,null,null,null,null,null,null,null,null,null,null,null,null,null,null,null,null,null,null,null,null,null,null,null,null,null,null,null,0,0,0,0,0,0,0,0,null,null,null,null,null,0,null,null,null,null,null,{"$f":"IF(R225<>\"\",CONCATENATE($A$2,DIGITADOR!$M$1,ROW()-2),\"\")","v":""},"",{"$f":"IF(E225=\"\",\"\",INDEX(referentes!D:E,MATCH(E225,referentes!E:E,0),1))","v":""},{"$f":"IF(F225=\"\",\"\",INDEX(referentes!J:K,MATCH(F225,referentes!K:K,0),1))","v":""},{"$f":"IF(AI225=\"\",\"\",INDEX(referentes!M:N,MATCH(AI225,referentes!N:N,0),1))","v":""},{"$f":"IF(I225=\"\",\"\",INDEX(referentes!P:Q,MATCH(I225,referentes!Q:Q,0),1))","v":""},{"$f":"IF(J225=\"\",\"\",INDEX(referentes!S:T,MATCH(J225,referentes!T:T,0),1))","v":""},{"$f":"IF(AB225=\"\",\"\",INDEX(referentes!V:W,MATCH(AB225,referentes!W:W,0),1))","v":""},{"$f":"IF(Y225=\"\",\"\",INDEX(referentes!AZ:BA,MATCH(Y225,referentes!BA:BA,0),1))","v":""},"","","","",{"$f":"IF(BP225=\"\",\"\",INDEX(referentes!AE:AF,MATCH(BP225,referentes!AF:AF,0),1))","v":""},{"$f":"IF(BQ225=\"\",\"\",INDEX(referentes!AH:AI,MATCH(BQ225,referentes!AI:AI,0),1))","v":""},null,{"$f":"IF(D225=\"\",\"\",INDEX(referentes!A:B,MATCH(D225,referentes!B:B,0),1))","v":""},{"$f":"IF(AT225=\"\",\"\",INDEX(referentes!Y:Z,MATCH(AT225,referentes!Z:Z,0),1))","v":""},{"$f":"IF(AU225=\"\",\"\",INDEX(referentes!AB:AC,MATCH(AU225,referentes!AC:AC,0),1))","v":""}]
[null,{"$f":"IF(BT226=\"\",\"\",IF(COUNTIF($BT226:BT226, BT226)>1, \"\", BT226))","v":""},null,null,null,null,null,null,null,null,null,null,{"$f":"IF(L226=\"\",\"\",INDEX(referentes!AK:AL,MATCH(L226,referentes!AL:AL,0),1))","v":""},"",null,225,{"$f":"IF(K226=\"\",\"\",INDEX('Otras referencias'!F:I,MATCH(K226,'Otras referencias'!I:I,0),1))","v":""},"",null,null,null,null,null,null,null,null,null,null,null,null,null,null,null,null,null,null,null,null,null,null,null,null,null,null,null,null,null,null,null,null,null,null,0,0,0,0,0,0,0,0,null,null,null,null,null,0,null,null,null,null,null,{"$f":"IF(R226<>\"\",CONCATENATE($A$2,DIGITADOR!$M$1,ROW()-2),\"\")","v":""},"",{"$f":"IF(E226=\"\",\"\",INDEX(referentes!D:E,MATCH(E226,referentes!E:E,0),1))","v":""},{"$f":"IF(F226=\"\",\"\",INDEX(referentes!J:K,MATCH(F226,referentes!K:K,0),1))","v":""},{"$f":"IF(AI226=\"\",\"\",INDEX(referentes!M:N,MATCH(AI226,referentes!N:N,0),1))","v":""},{"$f":"IF(I226=\"\",\"\",INDEX(referentes!P:Q,MATCH(I226,referentes!Q:Q,0),1))","v":""},{"$f":"IF(J226=\"\",\"\",INDEX(referentes!S:T,MATCH(J226,referentes!T:T,0),1))","v":""},{"$f":"IF(AB226=\"\",\"\",INDEX(referentes!V:W,MATCH(AB226,referentes!W:W,0),1))","v":""},{"$f":"IF(Y226=\"\",\"\",INDEX(referentes!AZ:BA,MATCH(Y226,referentes!BA:BA,0),1))","v":""},"","","","",{"$f":"IF(BP226=\"\",\"\",INDEX(referentes!AE:AF,MATCH(BP226,referentes!AF:AF,0),1))","v":""},{"$f":"IF(BQ226=\"\",\"\",INDEX(referentes!AH:AI,MATCH(BQ226,referentes!AI:AI,0),1))","v":""},null,{"$f":"IF(D226=\"\",\"\",INDEX(referentes!A:B,MATCH(D226,referentes!B:B,0),1))","v":""},{"$f":"IF(AT226=\"\",\"\",INDEX(referentes!Y:Z,MATCH(AT226,referentes!Z:Z,0),1))","v":""},{"$f":"IF(AU226=\"\",\"\",INDEX(referentes!AB:AC,MATCH(AU226,referentes!AC:AC,0),1))","v":""}]
[null,{"$f":"IF(BT227=\"\",\"\",IF(COUNTIF($BT227:BT227, BT227)>1, \"\", BT227))","v":""},null,null,null,null,null,null,null,null,null,null,{"$f":"IF(L227=\"\",\"\",INDEX(referentes!AK:AL,MATCH(L227,referentes!AL:AL,0),1))","v":""},"",null,226,{"$f":"IF(K227=\"\",\"\",INDEX('Otras referencias'!F:I,MATCH(K227,'Otras referencias'!I:I,0),1))","v":""},"",null,null,null,null,null,null,null,null,null,null,null,null,null,null,null,null,null,null,null,null,null,null,null,null,null,null,null,null,null,null,null,null,null,null,0,0,0,0,0,0,0,0,null,null,null,null,null,0,null,null,null,null,null,{"$f":"IF(R227<>\"\",CONCATENATE($A$2,DIGITADOR!$M$1,ROW()-2),\"\")","v":""},"",{"$f":"IF(E227=\"\",\"\",INDEX(referentes!D:E,MATCH(E227,referentes!E:E,0),1))","v":""},{"$f":"IF(F227=\"\",\"\",INDEX(referentes!J:K,MATCH(F227,referentes!K:K,0),1))","v":""},{"$f":"IF(AI227=\"\",\"\",INDEX(referentes!M:N,MATCH(AI227,referentes!N:N,0),1))","v":""},{"$f":"IF(I227=\"\",\"\",INDEX(referentes!P:Q,MATCH(I227,referentes!Q:Q,0),1))","v":""},{"$f":"IF(J227=\"\",\"\",INDEX(referentes!S:T,MATCH(J227,referentes!T:T,0),1))","v":""},{"$f":"IF(AB227=\"\",\"\",INDEX(referentes!V:W,MATCH(AB227,referentes!W:W,0),1))","v":""},{"$f":"IF(Y227=\"\",\"\",INDEX(referentes!AZ:BA,MATCH(Y227,referentes!BA:BA,0),1))","v":""},"","","","",{"$f":"IF(BP227=\"\",\"\",INDEX(referentes!AE:AF,MATCH(BP227,referentes!AF:AF,0),1))","v":""},{"$f":"IF(BQ227=\"\",\"\",INDEX(referentes!AH:AI,MATCH(BQ227,referentes!AI:AI,0),1))","v":""},null,{"$f":"IF(D227=\"\",\"\",INDEX(referentes!A:B,MATCH(D227,referentes!B:B,0),1))","v":""},{"$f":"IF(AT227=\"\",\"\",INDEX(referentes!Y:Z,MATCH(AT227,referentes!Z:Z,0),1))","v":""},{"$f":"IF(AU227=\"\",\"\",INDEX(referentes!AB:AC,MATCH(AU227,referentes!AC:AC,0),1))","v":""}]
[null,{"$f":"IF(BT228=\"\",\"\",IF(COUNTIF($BT228:BT228, BT228)>1, \"\", BT228))","v":""},null,null,null,null,null,null,null,null,null,null,{"$f":"IF(L228=\"\",\"\",INDEX(referentes!AK:AL,MATCH(L228,referentes!AL:AL,0),1))","v":""},"",null,227,{"$f":"IF(K228=\"\",\"\",INDEX('Otras referencias'!F:I,MATCH(K228,'Otras referencias'!I:I,0),1))","v":""},"",null,null,null,null,null,null,null,null,null,null,null,null,null,null,null,null,null,null,null,null,null,null,null,null,null,null,null,null,null,null,null,null,null,null,0,0,0,0,0,0,0,0,null,null,null,null,null,0,null,null,null,null,null,{"$f":"IF(R228<>\"\",CONCATENATE($A$2,DIGITADOR!$M$1,ROW()-2),\"\")","v":""},"",{"$f":"IF(E228=\"\",\"\",INDEX(referentes!D:E,MATCH(E228,referentes!E:E,0),1))","v":""},{"$f":"IF(F228=\"\",\"\",INDEX(referentes!J:K,MATCH(F228,referentes!K:K,0),1))","v":""},{"$f":"IF(AI228=\"\",\"\",INDEX(referentes!M:N,MATCH(AI228,referentes!N:N,0),1))","v":""},{"$f":"IF(I228=\"\",\"\",INDEX(referentes!P:Q,MATCH(I228,referentes!Q:Q,0),1))","v":""},{"$f":"IF(J228=\"\",\"\",INDEX(referentes!S:T,MATCH(J228,referentes!T:T,0),1))","v":""},{"$f":"IF(AB228=\"\",\"\",INDEX(referentes!V:W,MATCH(AB228,referentes!W:W,0),1))","v":""},{"$f":"IF(Y228=\"\",\"\",INDEX(referentes!AZ:BA,MATCH(Y228,referentes!BA:BA,0),1))","v":""},"","","","",{"$f":"IF(BP228=\"\",\"\",INDEX(referentes!AE:AF,MATCH(BP228,referentes!AF:AF,0),1))","v":""},{"$f":"IF(BQ228=\"\",\"\",INDEX(referentes!AH:AI,MATCH(BQ228,referentes!AI:AI,0),1))","v":""},null,{"$f":"IF(D228=\"\",\"\",INDEX(referentes!A:B,MATCH(D228,referentes!B:B,0),1))","v":""},{"$f":"IF(AT228=\"\",\"\",INDEX(referentes!Y:Z,MATCH(AT228,referentes!Z:Z,0),1))","v":""},{"$f":"IF(AU228=\"\",\"\",INDEX(referentes!AB:AC,MATCH(AU228,referentes!AC:AC,0),1))","v":""}]
[null,{"$f":"IF(BT229=\"\",\"\",IF(COUNTIF($BT229:BT229, BT229)>1, \"\", BT229))","v":""},null,null,null,null,null,null,null,null,null,null,{"$f":"IF(L229=\"\",\"\",INDEX(referentes!AK:AL,MATCH(L229,referentes!AL:AL,0),1))","v":""},"",null,228,{"$f":"IF(K229=\"\",\"\",INDEX('Otras referencias'!F:I,MATCH(K229,'Otras referencias'!I:I,0),1))","v":""},"",null,null,null,null,null,null,null,null,null,null,null,null,null,null,null,null,null,null,null,null,null,null,null,null,null,null,null,null,null,null,null,null,null,null,0,0,0,0,0,0,0,0,null,null,null,null,null,0,null,null,null,null,null,{"$f":"IF(R229<>\"\",CONCATENATE($A$2,DIGITADOR!$M$1,ROW()-2),\"\")","v":""},"",{"$f":"IF(E229=\"\",\"\",INDEX(referentes!D:E,MATCH(E229,referentes!E:E,0),1))","v":""},{"$f":"IF(F229=\"\",\"\",INDEX(referentes!J:K,MATCH(F229,referentes!K:K,0),1))","v":""},{"$f":"IF(AI229=\"\",\"\",INDEX(referentes!M:N,MATCH(AI229,referentes!N:N,0),1))","v":""},{"$f":"IF(I229=\"\",\"\",INDEX(referentes!P:Q,MATCH(I229,referentes!Q:Q,0),1))","v":""},{"$f":"IF(J229=\"\",\"\",INDEX(referentes!S:T,MATCH(J229,referentes!T:T,0),1))","v":""},{"$f":"IF(AB229=\"\",\"\",INDEX(referentes!V:W,MATCH(AB229,referentes!W:W,0),1))","v":""},{"$f":"IF(Y229=\"\",\"\",INDEX(referentes!AZ:BA,MATCH(Y229,referentes!BA:BA,0),1))","v":""},"","","","",{"$f":"IF(BP229=\"\",\"\",INDEX(referentes!AE:AF,MATCH(BP229,referentes!AF:AF,0),1))","v":""},{"$f":"IF(BQ229=\"\",\"\",INDEX(referentes!AH:AI,MATCH(BQ229,referentes!AI:AI,0),1))","v":""},null,{"$f":"IF(D229=\"\",\"\",INDEX(referentes!A:B,MATCH(D229,referentes!B:B,0),1))","v":""},{"$f":"IF(AT229=\"\",\"\",INDEX(referentes!Y:Z,MATCH(AT229,referentes!Z:Z,0),1))","v":""},{"$f":"IF(AU229=\"\",\"\",INDEX(referentes!AB:AC,MATCH(AU229,referentes!AC:AC,0),1))","v":""}]
[null,{"$f":"IF(BT230=\"\",\"\",IF(COUNTIF($BT230:BT230, BT230)>1, \"\", BT230))","v":""},null,null,null,null,null,null,null,null,null,null,{"$f":"IF(L230=\"\",\"\",INDEX(referentes!AK:AL,MATCH(L230,referentes!AL:AL,0),1))","v":""},"",null,229,{"$f":"IF(K230=\"\",\"\",INDEX('Otras referencias'!F:I,MATCH(K230,'Otras referencias'!I:I,0),1))","v":""},"",null,null,null,null,null,null,null,null,null,null,null,null,null,null,null,null,null,null,null,null,null,null,null,null,null,null,null,null,null,null,null,null,null,null,0,0,0,0,0,0,0,0,null,null,null,null,null,0,null,null,null,null,null,{"$f":"IF(R230<>\"\",CONCATENATE($A$2,DIGITADOR!$M$1,ROW()-2),\"\")","v":""},"",{"$f":"IF(E230=\"\",\"\",INDEX(referentes!D:E,MATCH(E230,referentes!E:E,0),1))","v":""},{"$f":"IF(F230=\"\",\"\",INDEX(referentes!J:K,MATCH(F230,referentes!K:K,0),1))","v":""},{"$f":"IF(AI230=\"\",\"\",INDEX(referentes!M:N,MATCH(AI230,referentes!N:N,0),1))","v":""},{"$f":"IF(I230=\"\",\"\",INDEX(referentes!P:Q,MATCH(I230,referentes!Q:Q,0),1))","v":""},{"$f":"IF(J230=\"\",\"\",INDEX(referentes!S:T,MATCH(J230,referentes!T:T,0),1))","v":""},{"$f":"IF(AB230=\"\",\"\",INDEX(referentes!V:W,MATCH(AB230,referentes!W:W,0),1))","v":""},{"$f":"IF(Y230=\"\",\"\",INDEX(referentes!AZ:BA,MATCH(Y230,referentes!BA:BA,0),1))","v":""},"","","","",{"$f":"IF(BP230=\"\",\"\",INDEX(referentes!AE:AF,MATCH(BP230,referentes!AF:AF,0),1))","v":""},{"$f":"IF(BQ230=\"\",\"\",INDEX(referentes!AH:AI,MATCH(BQ230,referentes!AI:AI,0),1))","v":""},null,{"$f":"IF(D230=\"\",\"\",INDEX(referentes!A:B,MATCH(D230,referentes!B:B,0),1))","v":""},{"$f":"IF(AT230=\"\",\"\",INDEX(referentes!Y:Z,MATCH(AT230,referentes!Z:Z,0),1))","v":""},{"$f":"IF(AU230=\"\",\"\",INDEX(referentes!AB:AC,MATCH(AU230,referentes!AC:AC,0),1))","v":""}]
[null,{"$f":"IF(BT231=\"\",\"\",IF(COUNTIF($BT231:BT231, BT231)>1, \"\", BT231))","v":""},null,null,null,null,null,null,null,null,null,null,{"$f":"IF(L231=\"\",\"\",INDEX(referentes!AK:AL,MATCH(L231,referentes!AL:AL,0),1))","v":""},"",null,230,{"$f":"IF(K231=\"\",\"\",INDEX('Otras referencias'!F:I,MATCH(K231,'Otras referencias'!I:I,0),1))","v":""},"",null,null,null,null,null,null,null,null,null,null,null,null,null,null,null,null,null,null,null,null,null,null,null,null,null,null,null,null,null,null,null,null,null,null,0,0,0,0,0,0,0,0,null,null,null,null,null,0,null,null,null,null,null,{"$f":"IF(R231<>\"\",CONCATENATE($A$2,DIGITADOR!$M$1,ROW()-2),\"\")","v":""},"",{"$f":"IF(E231=\"\",\"\",INDEX(referentes!D:E,MATCH(E231,referentes!E:E,0),1))","v":""},{"$f":"IF(F231=\"\",\"\",INDEX(referentes!J:K,MATCH(F231,referentes!K:K,0),1))","v":""},{"$f":"IF(AI231=\"\",\"\",INDEX(referentes!M:N,MATCH(AI231,referentes!N:N,0),1))","v":""},{"$f":"IF(I231=\"\",\"\",INDEX(referentes!P:Q,MATCH(I231,referentes!Q:Q,0),1))","v":""},{"$f":"IF(J231=\"\",\"\",INDEX(referentes!S:T,MATCH(J231,referentes!T:T,0),1))","v":""},{"$f":"IF(AB231=\"\",\"\",INDEX(referentes!V:W,MATCH(AB231,referentes!W:W,0),1))","v":""},{"$f":"IF(Y231=\"\",\"\",INDEX(referentes!AZ:BA,MATCH(Y231,referentes!BA:BA,0),1))","v":""},"","","","",{"$f":"IF(BP231=\"\",\"\",INDEX(referentes!AE:AF,MATCH(BP231,referentes!AF:AF,0),1))","v":""},{"$f":"IF(BQ231=\"\",\"\",INDEX(referentes!AH:AI,MATCH(BQ231,referentes!AI:AI,0),1))","v":""},null,{"$f":"IF(D231=\"\",\"\",INDEX(referentes!A:B,MATCH(D231,referentes!B:B,0),1))","v":""},{"$f":"IF(AT231=\"\",\"\",INDEX(referentes!Y:Z,MATCH(AT231,referentes!Z:Z,0),1))","v":""},{"$f":"IF(AU231=\"\",\"\",INDEX(referentes!AB:AC,MATCH(AU231,referentes!AC:AC,0),1))","v":""}]
[null,{"$f":"IF(BT232=\"\",\"\",IF(COUNTIF($BT232:BT232, BT232)>1, \"\", BT232))","v":""},null,null,null,null,null,null,null,null,null,null,{"$f":"IF(L232=\"\",\"\",INDEX(referentes!AK:AL,MATCH(L232,referentes!AL:AL,0),1))","v":""},"",null,231,{"$f":"IF(K232=\"\",\"\",INDEX('Otras referencias'!F:I,MATCH(K232,'Otras referencias'!I:I,0),1))","v":""},"",null,null,null,null,null,null,null,null,null,null,null,null,null,null,null,null,null,null,null,null,null,null,null,null,null,null,null,null,null,null,null,null,null,null,0,0,0,0,0,0,0,0,null,null,null,null,null,0,null,null,null,null,null,{"$f":"IF(R232<>\"\",CONCATENATE($A$2,DIGITADOR!$M$1,ROW()-2),\"\")","v":""},"",{"$f":"IF(E232=\"\",\"\",INDEX(referentes!D:E,MATCH(E232,referentes!E:E,0),1))","v":""},{"$f":"IF(F232=\"\",\"\",INDEX(referentes!J:K,MATCH(F232,referentes!K:K,0),1))","v":""},{"$f":"IF(AI232=\"\",\"\",INDEX(referentes!M:N,MATCH(AI232,referentes!N:N,0),1))","v":""},{"$f":"IF(I232=\"\",\"\",INDEX(referentes!P:Q,MATCH(I232,referentes!Q:Q,0),1))","v":""},{"$f":"IF(J232=\"\",\"\",INDEX(referentes!S:T,MATCH(J232,referentes!T:T,0),1))","v":""},{"$f":"IF(AB232=\"\",\"\",INDEX(referentes!V:W,MATCH(AB232,referentes!W:W,0),1))","v":""},{"$f":"IF(Y232=\"\",\"\",INDEX(referentes!AZ:BA,MATCH(Y232,referentes!BA:BA,0),1))","v":""},"","","","",{"$f":"IF(BP232=\"\",\"\",INDEX(referentes!AE:AF,MATCH(BP232,referentes!AF:AF,0),1))","v":""},{"$f":"IF(BQ232=\"\",\"\",INDEX(referentes!AH:AI,MATCH(BQ232,referentes!AI:AI,0),1))","v":""},null,{"$f":"IF(D232=\"\",\"\",INDEX(referentes!A:B,MATCH(D232,referentes!B:B,0),1))","v":""},{"$f":"IF(AT232=\"\",\"\",INDEX(referentes!Y:Z,MATCH(AT232,referentes!Z:Z,0),1))","v":""},{"$f":"IF(AU232=\"\",\"\",INDEX(referentes!AB:AC,MATCH(AU232,referentes!AC:AC,0),1))","v":""}]
[null,{"$f":"IF(BT233=\"\",\"\",IF(COUNTIF($BT233:BT233, BT233)>1, \"\", BT233))","v":""},null,null,null,null,null,null,null,null,null,null,{"$f":"IF(L233=\"\",\"\",INDEX(referentes!AK:AL,MATCH(L233,referentes!AL:AL,0),1))","v":""},"",null,232,{"$f":"IF(K233=\"\",\"\",INDEX('Otras referencias'!F:I,MATCH(K233,'Otras referencias'!I:I,0),1))","v":""},"",null,null,null,null,null,null,null,null,null,null,null,null,null,null,null,null,null,null,null,null,null,null,null,null,null,null,null,null,null,null,null,null,null,null,0,0,0,0,0,0,0,0,null,null,null,null,null,0,null,null,null,null,null,{"$f":"IF(R233<>\"\",CONCATENATE($A$2,DIGITADOR!$M$1,ROW()-2),\"\")","v":""},"",{"$f":"IF(E233=\"\",\"\",INDEX(referentes!D:E,MATCH(E233,referentes!E:E,0),1))","v":""},{"$f":"IF(F233=\"\",\"\",INDEX(referentes!J:K,MATCH(F233,referentes!K:K,0),1))","v":""},{"$f":"IF(AI233=\"\",\"\",INDEX(referentes!M:N,MATCH(AI233,referentes!N:N,0),1))","v":""},{"$f":"IF(I233=\"\",\"\",INDEX(referentes!P:Q,MATCH(I233,referentes!Q:Q,0),1))","v":""},{"$f":"IF(J233=\"\",\"\",INDEX(referentes!S:T,MATCH(J233,referentes!T:T,0),1))","v":""},{"$f":"IF(AB233=\"\",\"\",INDEX(referentes!V:W,MATCH(AB233,referentes!W:W,0),1))","v":""},{"$f":"IF(Y233=\"\",\"\",INDEX(referentes!AZ:BA,MATCH(Y233,referentes!BA:BA,0),1))","v":""},"","","","",{"$f":"IF(BP233=\"\",\"\",INDEX(referentes!AE:AF,MATCH(BP233,referentes!AF:AF,0),1))","v":""},{"$f":"IF(BQ233=\"\",\"\",INDEX(referentes!AH:AI,MATCH(BQ233,referentes!AI:AI,0),1))","v":""},null,{"$f":"IF(D233=\"\",\"\",INDEX(referentes!A:B,MATCH(D233,referentes!B:B,0),1))","v":""},{"$f":"IF(AT233=\"\",\"\",INDEX(referentes!Y:Z,MATCH(AT233,referentes!Z:Z,0),1))","v":""},{"$f":"IF(AU233=\"\",\"\",INDEX(referentes!AB:AC,MATCH(AU233,referentes!AC:AC,0),1))","v":""}]
[null,{"$f":"IF(BT234=\"\",\"\",IF(COUNTIF($BT234:BT234, BT234)>1, \"\", BT234))","v":""},null,null,null,null,null,null,null,null,null,null,{"$f":"IF(L234=\"\",\"\",INDEX(referentes!AK:AL,MATCH(L234,referentes!AL:AL,0),1))","v":""},"",null,233,{"$f":"IF(K234=\"\",\"\",INDEX('Otras referencias'!F:I,MATCH(K234,'Otras referencias'!I:I,0),1))","v":""},"",null,null,null,null,null,null,null,null,null,null,null,null,null,null,null,null,null,null,null,null,null,null,null,null,null,null,null,null,null,null,null,null,null,null,0,0,0,0,0,0,0,0,null,null,null,null,null,0,null,null,null,null,null,{"$f":"IF(R234<>\"\",CONCATENATE($A$2,DIGITADOR!$M$1,ROW()-2),\"\")","v":""},"",{"$f":"IF(E234=\"\",\"\",INDEX(referentes!D:E,MATCH(E234,referentes!E:E,0),1))","v":""},{"$f":"IF(F234=\"\",\"\",INDEX(referentes!J:K,MATCH(F234,referentes!K:K,0),1))","v":""},{"$f":"IF(AI234=\"\",\"\",INDEX(referentes!M:N,MATCH(AI234,referentes!N:N,0),1))","v":""},{"$f":"IF(I234=\"\",\"\",INDEX(referentes!P:Q,MATCH(I234,referentes!Q:Q,0),1))","v":""},{"$f":"IF(J234=\"\",\"\",INDEX(referentes!S:T,MATCH(J234,referentes!T:T,0),1))","v":""},{"$f":"IF(AB234=\"\",\"\",INDEX(referentes!V:W,MATCH(AB234,referentes!W:W,0),1))","v":""},{"$f":"IF(Y234=\"\",\"\",INDEX(referentes!AZ:BA,MATCH(Y234,referentes!BA:BA,0),1))","v":""},"","","","",{"$f":"IF(BP234=\"\",\"\",INDEX(referentes!AE:AF,MATCH(BP234,referentes!AF:AF,0),1))","v":""},{"$f":"IF(BQ234=\"\",\"\",INDEX(referentes!AH:AI,MATCH(BQ234,referentes!AI:AI,0),1))","v":""},null,{"$f":"IF(D234=\"\",\"\",INDEX(referentes!A:B,MATCH(D234,referentes!B:B,0),1))","v":""},{"$f":"IF(AT234=\"\",\"\",INDEX(referentes!Y:Z,MATCH(AT234,referentes!Z:Z,0),1))","v":""},{"$f":"IF(AU234=\"\",\"\",INDEX(referentes!AB:AC,MATCH(AU234,referentes!AC:AC,0),1))","v":""}]
[null,{"$f":"IF(BT235=\"\",\"\",IF(COUNTIF($BT235:BT235, BT235)>1, \"\", BT235))","v":""},null,null,null,null,null,null,null,null,null,null,{"$f":"IF(L235=\"\",\"\",INDEX(referentes!AK:AL,MATCH(L235,referentes!AL:AL,0),1))","v":""},"",null,234,{"$f":"IF(K235=\"\",\"\",INDEX('Otras referencias'!F:I,MATCH(K235,'Otras referencias'!I:I,0),1))","v":""},"",null,null,null,null,null,null,null,null,null,null,null,null,null,null,null,null,null,null,null,null,null,null,null,null,null,null,null,null,null,null,null,null,null,null,0,0,0,0,0,0,0,0,null,null,null,null,null,0,null,null,null,null,null,{"$f":"IF(R235<>\"\",CONCATENATE($A$2,DIGITADOR!$M$1,ROW()-2),\"\")","v":""},"",{"$f":"IF(E235=\"\",\"\",INDEX(referentes!D:E,MATCH(E235,referentes!E:E,0),1))","v":""},{"$f":"IF(F235=\"\",\"\",INDEX(referentes!J:K,MATCH(F235,referentes!K:K,0),1))","v":""},{"$f":"IF(AI235=\"\",\"\",INDEX(referentes!M:N,MATCH(AI235,referentes!N:N,0),1))","v":""},{"$f":"IF(I235=\"\",\"\",INDEX(referentes!P:Q,MATCH(I235,referentes!Q:Q,0),1))","v":""},{"$f":"IF(J235=\"\",\"\",INDEX(referentes!S:T,MATCH(J235,referentes!T:T,0),1))","v":""},{"$f":"IF(AB235=\"\",\"\",INDEX(referentes!V:W,MATCH(AB235,referentes!W:W,0),1))","v":""},{"$f":"IF(Y235=\"\",\"\",INDEX(referentes!AZ:BA,MATCH(Y235,referentes!BA:BA,0),1))","v":""},"","","","",{"$f":"IF(BP235=\"\",\"\",INDEX(referentes!AE:AF,MATCH(BP235,referentes!AF:AF,0),1))","v":""},{"$f":"IF(BQ235=\"\",\"\",INDEX(referentes!AH:AI,MATCH(BQ235,referentes!AI:AI,0),1))","v":""},null,{"$f":"IF(D235=\"\",\"\",INDEX(referentes!A:B,MATCH(D235,referentes!B:B,0),1))","v":""},{"$f":"IF(AT235=\"\",\"\",INDEX(referentes!Y:Z,MATCH(AT235,referentes!Z:Z,0),1))","v":""},{"$f":"IF(AU235=\"\",\"\",INDEX(referentes!AB:AC,MATCH(AU235,referentes!AC:AC,0),1))","v":""}]
[null,{"$f":"IF(BT236=\"\",\"\",IF(COUNTIF($BT236:BT236, BT236)>1, \"\", BT236))","v":""},null,null,null,null,null,null,null,null,null,null,{"$f":"IF(L236=\"\",\"\",INDEX(referentes!AK:AL,MATCH(L236,referentes!AL:AL,0),1))","v":""},"",null,235,{"$f":"IF(K236=\"\",\"\",INDEX('Otras referencias'!F:I,MATCH(K236,'Otras referencias'!I:I,0),1))","v":""},"",null,null,null,null,null,null,null,null,null,null,null,null,null,null,null,null,null,null,null,null,null,null,null,null,null,null,null,null,null,null,null,null,null,null,0,0,0,0,0,0,0,0,null,null,null,null,null,0,null,null,null,null,null,{"$f":"IF(R236<>\"\",CONCATENATE($A$2,DIGITADOR!$M$1,ROW()-2),\"\")","v":""},"",{"$f":"IF(E236=\"\",\"\",INDEX(referentes!D:E,MATCH(E236,referentes!E:E,0),1))","v":""},{"$f":"IF(F236=\"\",\"\",INDEX(referentes!J:K,MATCH(F236,referentes!K:K,0),1))","v":""},{"$f":"IF(AI236=\"\",\"\",INDEX(referentes!M:N,MATCH(AI236,referentes!N:N,0),1))","v":""},{"$f":"IF(I236=\"\",\"\",INDEX(referentes!P:Q,MATCH(I236,referentes!Q:Q,0),1))","v":""},{"$f":"IF(J236=\"\",\"\",INDEX(referentes!S:T,MATCH(J236,referentes!T:T,0),1))","v":""},{"$f":"IF(AB236=\"\",\"\",INDEX(referentes!V:W,MATCH(AB236,referentes!W:W,0),1))","v":""},{"$f":"IF(Y236=\"\",\"\",INDEX(referentes!AZ:BA,MATCH(Y236,referentes!BA:BA,0),1))","v":""},"","","","",{"$f":"IF(BP236=\"\",\"\",INDEX(referentes!AE:AF,MATCH(BP236,referentes!AF:AF,0),1))","v":""},{"$f":"IF(BQ236=\"\",\"\",INDEX(referentes!AH:AI,MATCH(BQ236,referentes!AI:AI,0),1))","v":""},null,{"$f":"IF(D236=\"\",\"\",INDEX(referentes!A:B,MATCH(D236,referentes!B:B,0),1))","v":""},{"$f":"IF(AT236=\"\",\"\",INDEX(referentes!Y:Z,MATCH(AT236,referentes!Z:Z,0),1))","v":""},{"$f":"IF(AU236=\"\",\"\",INDEX(referentes!AB:AC,MATCH(AU236,referentes!AC:AC,0),1))","v":""}]
[null,{"$f":"IF(BT237=\"\",\"\",IF(COUNTIF($BT237:BT237, BT237)>1, \"\", BT237))","v":""},null,null,null,null,null,null,null,null,null,null,{"$f":"IF(L237=\"\",\"\",INDEX(referentes!AK:AL,MATCH(L237,referentes!AL:AL,0),1))","v":""},"",null,236,{"$f":"IF(K237=\"\",\"\",INDEX('Otras referencias'!F:I,MATCH(K237,'Otras referencias'!I:I,0),1))","v":""},"",null,null,null,null,null,null,null,null,null,null,null,null,null,null,null,null,null,null,null,null,null,null,null,null,null,null,null,null,null,null,null,null,null,null,0,0,0,0,0,0,0,0,null,null,null,null,null,0,null,null,null,null,null,{"$f":"IF(R237<>\"\",CONCATENATE($A$2,DIGITADOR!$M$1,ROW()-2),\"\")","v":""},"",{"$f":"IF(E237=\"\",\"\",INDEX(referentes!D:E,MATCH(E237,referentes!E:E,0),1))","v":""},{"$f":"IF(F237=\"\",\"\",INDEX(referentes!J:K,MATCH(F237,referentes!K:K,0),1))","v":""},{"$f":"IF(AI237=\"\",\"\",INDEX(referentes!M:N,MATCH(AI237,referentes!N:N,0),1))","v":""},{"$f":"IF(I237=\"\",\"\",INDEX(referentes!P:Q,MATCH(I237,referentes!Q:Q,0),1))","v":""},{"$f":"IF(J237=\"\",\"\",INDEX(referentes!S:T,MATCH(J237,referentes!T:T,0),1))","v":""},{"$f":"IF(AB237=\"\",\"\",INDEX(referentes!V:W,MATCH(AB237,referentes!W:W,0),1))","v":""},{"$f":"IF(Y237=\"\",\"\",INDEX(referentes!AZ:BA,MATCH(Y237,referentes!BA:BA,0),1))","v":""},"","","","",{"$f":"IF(BP237=\"\",\"\",INDEX(referentes!AE:AF,MATCH(BP237,referentes!AF:AF,0),1))","v":""},{"$f":"IF(BQ237=\"\",\"\",INDEX(referentes!AH:AI,MATCH(BQ237,referentes!AI:AI,0),1))","v":""},null,{"$f":"IF(D237=\"\",\"\",INDEX(referentes!A:B,MATCH(D237,referentes!B:B,0),1))","v":""},{"$f":"IF(AT237=\"\",\"\",INDEX(referentes!Y:Z,MATCH(AT237,referentes!Z:Z,0),1))","v":""},{"$f":"IF(AU237=\"\",\"\",INDEX(referentes!AB:AC,MATCH(AU237,referentes!AC:AC,0),1))","v":""}]
[null,{"$f":"IF(BT238=\"\",\"\",IF(COUNTIF($BT238:BT238, BT238)>1, \"\", BT238))","v":""},null,null,null,null,null,null,null,null,null,null,{"$f":"IF(L238=\"\",\"\",INDEX(referentes!AK:AL,MATCH(L238,referentes!AL:AL,0),1))","v":""},"",null,237,{"$f":"IF(K238=\"\",\"\",INDEX('Otras referencias'!F:I,MATCH(K238,'Otras referencias'!I:I,0),1))","v":""},"",null,null,null,null,null,null,null,null,null,null,null,null,null,null,null,null,null,null,null,null,null,null,null,null,null,null,null,null,null,null,null,null,null,null,0,0,0,0,0,0,0,0,null,null,null,null,null,0,null,null,null,null,null,{"$f":"IF(R238<>\"\",CONCATENATE($A$2,DIGITADOR!$M$1,ROW()-2),\"\")","v":""},"",{"$f":"IF(E238=\"\",\"\",INDEX(referentes!D:E,MATCH(E238,referentes!E:E,0),1))","v":""},{"$f":"IF(F238=\"\",\"\",INDEX(referentes!J:K,MATCH(F238,referentes!K:K,0),1))","v":""},{"$f":"IF(AI238=\"\",\"\",INDEX(referentes!M:N,MATCH(AI238,referentes!N:N,0),1))","v":""},{"$f":"IF(I238=\"\",\"\",INDEX(referentes!P:Q,MATCH(I238,referentes!Q:Q,0),1))","v":""},{"$f":"IF(J238=\"\",\"\",INDEX(referentes!S:T,MATCH(J238,referentes!T:T,0),1))","v":""},{"$f":"IF(AB238=\"\",\"\",INDEX(referentes!V:W,MATCH(AB238,referentes!W:W,0),1))","v":""},{"$f":"IF(Y238=\"\",\"\",INDEX(referentes!AZ:BA,MATCH(Y238,referentes!BA:BA,0),1))","v":""},"","","","",{"$f":"IF(BP238=\"\",\"\",INDEX(referentes!AE:AF,MATCH(BP238,referentes!AF:AF,0),1))","v":""},{"$f":"IF(BQ238=\"\",\"\",INDEX(referentes!AH:AI,MATCH(BQ238,referentes!AI:AI,0),1))","v":""},null,{"$f":"IF(D238=\"\",\"\",INDEX(referentes!A:B,MATCH(D238,referentes!B:B,0),1))","v":""},{"$f":"IF(AT238=\"\",\"\",INDEX(referentes!Y:Z,MATCH(AT238,referentes!Z:Z,0),1))","v":""},{"$f":"IF(AU238=\"\",\"\",INDEX(referentes!AB:AC,MATCH(AU238,referentes!AC:AC,0),1))","v":""}]
[null,{"$f":"IF(BT239=\"\",\"\",IF(COUNTIF($BT239:BT239, BT239)>1, \"\", BT239))","v":""},null,null,null,null,null,null,null,null,null,null,{"$f":"IF(L239=\"\",\"\",INDEX(referentes!AK:AL,MATCH(L239,referentes!AL:AL,0),1))","v":""},"",null,238,{"$f":"IF(K239=\"\",\"\",INDEX('Otras referencias'!F:I,MATCH(K239,'Otras referencias'!I:I,0),1))","v":""},"",null,null,null,null,null,null,null,null,null,null,null,null,null,null,null,null,null,null,null,null,null,null,null,null,null,null,null,null,null,null,null,null,null,null,0,0,0,0,0,0,0,0,null,null,null,null,null,0,null,null,null,null,null,{"$f":"IF(R239<>\"\",CONCATENATE($A$2,DIGITADOR!$M$1,ROW()-2),\"\")","v":""},"",{"$f":"IF(E239=\"\",\"\",INDEX(referentes!D:E,MATCH(E239,referentes!E:E,0),1))","v":""},{"$f":"IF(F239=\"\",\"\",INDEX(referentes!J:K,MATCH(F239,referentes!K:K,0),1))","v":""},{"$f":"IF(AI239=\"\",\"\",INDEX(referentes!M:N,MATCH(AI239,referentes!N:N,0),1))","v":""},{"$f":"IF(I239=\"\",\"\",INDEX(referentes!P:Q,MATCH(I239,referentes!Q:Q,0),1))","v":""},{"$f":"IF(J239=\"\",\"\",INDEX(referentes!S:T,MATCH(J239,referentes!T:T,0),1))","v":""},{"$f":"IF(AB239=\"\",\"\",INDEX(referentes!V:W,MATCH(AB239,referentes!W:W,0),1))","v":""},{"$f":"IF(Y239=\"\",\"\",INDEX(referentes!AZ:BA,MATCH(Y239,referentes!BA:BA,0),1))","v":""},"","","","",{"$f":"IF(BP239=\"\",\"\",INDEX(referentes!AE:AF,MATCH(BP239,referentes!AF:AF,0),1))","v":""},{"$f":"IF(BQ239=\"\",\"\",INDEX(referentes!AH:AI,MATCH(BQ239,referentes!AI:AI,0),1))","v":""},null,{"$f":"IF(D239=\"\",\"\",INDEX(referentes!A:B,MATCH(D239,referentes!B:B,0),1))","v":""},{"$f":"IF(AT239=\"\",\"\",INDEX(referentes!Y:Z,MATCH(AT239,referentes!Z:Z,0),1))","v":""},{"$f":"IF(AU239=\"\",\"\",INDEX(referentes!AB:AC,MATCH(AU239,referentes!AC:AC,0),1))","v":""}]
[null,{"$f":"IF(BT240=\"\",\"\",IF(COUNTIF($BT240:BT240, BT240)>1, \"\", BT240))","v":""},null,null,null,null,null,null,null,null,null,null,{"$f":"IF(L240=\"\",\"\",INDEX(referentes!AK:AL,MATCH(L240,referentes!AL:AL,0),1))","v":""},"",null,239,{"$f":"IF(K240=\"\",\"\",INDEX('Otras referencias'!F:I,MATCH(K240,'Otras referencias'!I:I,0),1))","v":""},"",null,null,null,null,null,null,null,null,null,null,null,null,null,null,null,null,null,null,null,null,null,null,null,null,null,null,null,null,null,null,null,null,null,null,0,0,0,0,0,0,0,0,null,null,null,null,null,0,null,null,null,null,null,{"$f":"IF(R240<>\"\",CONCATENATE($A$2,DIGITADOR!$M$1,ROW()-2),\"\")","v":""},"",{"$f":"IF(E240=\"\",\"\",INDEX(referentes!D:E,MATCH(E240,referentes!E:E,0),1))","v":""},{"$f":"IF(F240=\"\",\"\",INDEX(referentes!J:K,MATCH(F240,referentes!K:K,0),1))","v":""},{"$f":"IF(AI240=\"\",\"\",INDEX(referentes!M:N,MATCH(AI240,referentes!N:N,0),1))","v":""},{"$f":"IF(I240=\"\",\"\",INDEX(referentes!P:Q,MATCH(I240,referentes!Q:Q,0),1))","v":""},{"$f":"IF(J240=\"\",\"\",INDEX(referentes!S:T,MATCH(J240,referentes!T:T,0),1))","v":""},{"$f":"IF(AB240=\"\",\"\",INDEX(referentes!V:W,MATCH(AB240,referentes!W:W,0),1))","v":""},{"$f":"IF(Y240=\"\",\"\",INDEX(referentes!AZ:BA,MATCH(Y240,referentes!BA:BA,0),1))","v":""},"","","","",{"$f":"IF(BP240=\"\",\"\",INDEX(referentes!AE:AF,MATCH(BP240,referentes!AF:AF,0),1))","v":""},{"$f":"IF(BQ240=\"\",\"\",INDEX(referentes!AH:AI,MATCH(BQ240,referentes!AI:AI,0),1))","v":""},null,{"$f":"IF(D240=\"\",\"\",INDEX(referentes!A:B,MATCH(D240,referentes!B:B,0),1))","v":""},{"$f":"IF(AT240=\"\",\"\",INDEX(referentes!Y:Z,MATCH(AT240,referentes!Z:Z,0),1))","v":""},{"$f":"IF(AU240=\"\",\"\",INDEX(referentes!AB:AC,MATCH(AU240,referentes!AC:AC,0),1))","v":""}]
[null,{"$f":"IF(BT241=\"\",\"\",IF(COUNTIF($BT241:BT241, BT241)>1, \"\", BT241))","v":""},null,null,null,null,null,null,null,null,null,null,{"$f":"IF(L241=\"\",\"\",INDEX(referentes!AK:AL,MATCH(L241,referentes!AL:AL,0),1))","v":""},"",null,240,{"$f":"IF(K241=\"\",\"\",INDEX('Otras referencias'!F:I,MATCH(K241,'Otras referencias'!I:I,0),1))","v":""},"",null,null,null,null,null,null,null,null,null,null,null,null,null,null,null,null,null,null,null,null,null,null,null,null,null,null,null,null,null,null,null,null,null,null,0,0,0,0,0,0,0,0,null,null,null,null,null,0,null,null,null,null,null,{"$f":"IF(R241<>\"\",CONCATENATE($A$2,DIGITADOR!$M$1,ROW()-2),\"\")","v":""},"",{"$f":"IF(E241=\"\",\"\",INDEX(referentes!D:E,MATCH(E241,referentes!E:E,0),1))","v":""},{"$f":"IF(F241=\"\",\"\",INDEX(referentes!J:K,MATCH(F241,referentes!K:K,0),1))","v":""},{"$f":"IF(AI241=\"\",\"\",INDEX(referentes!M:N,MATCH(AI241,referentes!N:N,0),1))","v":""},{"$f":"IF(I241=\"\",\"\",INDEX(referentes!P:Q,MATCH(I241,referentes!Q:Q,0),1))","v":""},{"$f":"IF(J241=\"\",\"\",INDEX(referentes!S:T,MATCH(J241,referentes!T:T,0),1))","v":""},{"$f":"IF(AB241=\"\",\"\",INDEX(referentes!V:W,MATCH(AB241,referentes!W:W,0),1))","v":""},{"$f":"IF(Y241=\"\",\"\",INDEX(referentes!AZ:BA,MATCH(Y241,referentes!BA:BA,0),1))","v":""},"","","","",{"$f":"IF(BP241=\"\",\"\",INDEX(referentes!AE:AF,MATCH(BP241,referentes!AF:AF,0),1))","v":""},{"$f":"IF(BQ241=\"\",\"\",INDEX(referentes!AH:AI,MATCH(BQ241,referentes!AI:AI,0),1))","v":""},null,{"$f":"IF(D241=\"\",\"\",INDEX(referentes!A:B,MATCH(D241,referentes!B:B,0),1))","v":""},{"$f":"IF(AT241=\"\",\"\",INDEX(referentes!Y:Z,MATCH(AT241,referentes!Z:Z,0),1))","v":""},{"$f":"IF(AU241=\"\",\"\",INDEX(referentes!AB:AC,MATCH(AU241,referentes!AC:AC,0),1))","v":""}]
[null,{"$f":"IF(BT242=\"\",\"\",IF(COUNTIF($BT242:BT242, BT242)>1, \"\", BT242))","v":""},null,null,null,null,null,null,null,null,null,null,{"$f":"IF(L242=\"\",\"\",INDEX(referentes!AK:AL,MATCH(L242,referentes!AL:AL,0),1))","v":""},"",null,241,{"$f":"IF(K242=\"\",\"\",INDEX('Otras referencias'!F:I,MATCH(K242,'Otras referencias'!I:I,0),1))","v":""},"",null,null,null,null,null,null,null,null,null,null,null,null,null,null,null,null,null,null,null,null,null,null,null,null,null,null,null,null,null,null,null,null,null,null,0,0,0,0,0,0,0,0,null,null,null,null,null,0,null,null,null,null,null,{"$f":"IF(R242<>\"\",CONCATENATE($A$2,DIGITADOR!$M$1,ROW()-2),\"\")","v":""},"",{"$f":"IF(E242=\"\",\"\",INDEX(referentes!D:E,MATCH(E242,referentes!E:E,0),1))","v":""},{"$f":"IF(F242=\"\",\"\",INDEX(referentes!J:K,MATCH(F242,referentes!K:K,0),1))","v":""},{"$f":"IF(AI242=\"\",\"\",INDEX(referentes!M:N,MATCH(AI242,referentes!N:N,0),1))","v":""},{"$f":"IF(I242=\"\",\"\",INDEX(referentes!P:Q,MATCH(I242,referentes!Q:Q,0),1))","v":""},{"$f":"IF(J242=\"\",\"\",INDEX(referentes!S:T,MATCH(J242,referentes!T:T,0),1))","v":""},{"$f":"IF(AB242=\"\",\"\",INDEX(referentes!V:W,MATCH(AB242,referentes!W:W,0),1))","v":""},{"$f":"IF(Y242=\"\",\"\",INDEX(referentes!AZ:BA,MATCH(Y242,referentes!BA:BA,0),1))","v":""},"","","","",{"$f":"IF(BP242=\"\",\"\",INDEX(referentes!AE:AF,MATCH(BP242,referentes!AF:AF,0),1))","v":""},{"$f":"IF(BQ242=\"\",\"\",INDEX(referentes!AH:AI,MATCH(BQ242,referentes!AI:AI,0),1))","v":""},null,{"$f":"IF(D242=\"\",\"\",INDEX(referentes!A:B,MATCH(D242,referentes!B:B,0),1))","v":""},{"$f":"IF(AT242=\"\",\"\",INDEX(referentes!Y:Z,MATCH(AT242,referentes!Z:Z,0),1))","v":""},{"$f":"IF(AU242=\"\",\"\",INDEX(referentes!AB:AC,MATCH(AU242,referentes!AC:AC,0),1))","v":""}]
[null,{"$f":"IF(BT243=\"\",\"\",IF(COUNTIF($BT243:BT243, BT243)>1, \"\", BT243))","v":""},null,null,null,null,null,null,null,null,null,null,{"$f":"IF(L243=\"\",\"\",INDEX(referentes!AK:AL,MATCH(L243,referentes!AL:AL,0),1))","v":""},"",null,242,{"$f":"IF(K243=\"\",\"\",INDEX('Otras referencias'!F:I,MATCH(K243,'Otras referencias'!I:I,0),1))","v":""},"",null,null,null,null,null,null,null,null,null,null,null,null,null,null,null,null,null,null,null,null,null,null,null,null,null,null,null,null,null,null,null,null,null,null,0,0,0,0,0,0,0,0,null,null,null,null,null,0,null,null,null,null,null,{"$f":"IF(R243<>\"\",CONCATENATE($A$2,DIGITADOR!$M$1,ROW()-2),\"\")","v":""},"",{"$f":"IF(E243=\"\",\"\",INDEX(referentes!D:E,MATCH(E243,referentes!E:E,0),1))","v":""},{"$f":"IF(F243=\"\",\"\",INDEX(referentes!J:K,MATCH(F243,referentes!K:K,0),1))","v":""},{"$f":"IF(AI243=\"\",\"\",INDEX(referentes!M:N,MATCH(AI243,referentes!N:N,0),1))","v":""},{"$f":"IF(I243=\"\",\"\",INDEX(referentes!P:Q,MATCH(I243,referentes!Q:Q,0),1))","v":""},{"$f":"IF(J243=\"\",\"\",INDEX(referentes!S:T,MATCH(J243,referentes!T:T,0),1))","v":""},{"$f":"IF(AB243=\"\",\"\",INDEX(referentes!V:W,MATCH(AB243,referentes!W:W,0),1))","v":""},{"$f":"IF(Y243=\"\",\"\",INDEX(referentes!AZ:BA,MATCH(Y243,referentes!BA:BA,0),1))","v":""},"","","","",{"$f":"IF(BP243=\"\",\"\",INDEX(referentes!AE:AF,MATCH(BP243,referentes!AF:AF,0),1))","v":""},{"$f":"IF(BQ243=\"\",\"\",INDEX(referentes!AH:AI,MATCH(BQ243,referentes!AI:AI,0),1))","v":""},null,{"$f":"IF(D243=\"\",\"\",INDEX(referentes!A:B,MATCH(D243,referentes!B:B,0),1))","v":""},{"$f":"IF(AT243=\"\",\"\",INDEX(referentes!Y:Z,MATCH(AT243,referentes!Z:Z,0),1))","v":""},{"$f":"IF(AU243=\"\",\"\",INDEX(referentes!AB:AC,MATCH(AU243,referentes!AC:AC,0),1))","v":""}]
[null,{"$f":"IF(BT244=\"\",\"\",IF(COUNTIF($BT244:BT244, BT244)>1, \"\", BT244))","v":""},null,null,null,null,null,null,null,null,null,null,{"$f":"IF(L244=\"\",\"\",INDEX(referentes!AK:AL,MATCH(L244,referentes!AL:AL,0),1))","v":""},"",null,243,{"$f":"IF(K244=\"\",\"\",INDEX('Otras referencias'!F:I,MATCH(K244,'Otras referencias'!I:I,0),1))","v":""},"",null,null,null,null,null,null,null,null,null,null,null,null,null,null,null,null,null,null,null,null,null,null,null,null,null,null,null,null,null,null,null,null,null,null,0,0,0,0,0,0,0,0,null,null,null,null,null,0,null,null,null,null,null,{"$f":"IF(R244<>\"\",CONCATENATE($A$2,DIGITADOR!$M$1,ROW()-2),\"\")","v":""},"",{"$f":"IF(E244=\"\",\"\",INDEX(referentes!D:E,MATCH(E244,referentes!E:E,0),1))","v":""},{"$f":"IF(F244=\"\",\"\",INDEX(referentes!J:K,MATCH(F244,referentes!K:K,0),1))","v":""},{"$f":"IF(AI244=\"\",\"\",INDEX(referentes!M:N,MATCH(AI244,referentes!N:N,0),1))","v":""},{"$f":"IF(I244=\"\",\"\",INDEX(referentes!P:Q,MATCH(I244,referentes!Q:Q,0),1))","v":""},{"$f":"IF(J244=\"\",\"\",INDEX(referentes!S:T,MATCH(J244,referentes!T:T,0),1))","v":""},{"$f":"IF(AB244=\"\",\"\",INDEX(referentes!V:W,MATCH(AB244,referentes!W:W,0),1))","v":""},{"$f":"IF(Y244=\"\",\"\",INDEX(referentes!AZ:BA,MATCH(Y244,referentes!BA:BA,0),1))","v":""},"","","","",{"$f":"IF(BP244=\"\",\"\",INDEX(referentes!AE:AF,MATCH(BP244,referentes!AF:AF,0),1))","v":""},{"$f":"IF(BQ244=\"\",\"\",INDEX(referentes!AH:AI,MATCH(BQ244,referentes!AI:AI,0),1))","v":""},null,{"$f":"IF(D244=\"\",\"\",INDEX(referentes!A:B,MATCH(D244,referentes!B:B,0),1))","v":""},{"$f":"IF(AT244=\"\",\"\",INDEX(referentes!Y:Z,MATCH(AT244,referentes!Z:Z,0),1))","v":""},{"$f":"IF(AU244=\"\",\"\",INDEX(referentes!AB:AC,MATCH(AU244,referentes!AC:AC,0),1))","v":""}]
[null,{"$f":"IF(BT245=\"\",\"\",IF(COUNTIF($BT245:BT245, BT245)>1, \"\", BT245))","v":""},null,null,null,null,null,null,null,null,null,null,{"$f":"IF(L245=\"\",\"\",INDEX(referentes!AK:AL,MATCH(L245,referentes!AL:AL,0),1))","v":""},"",null,244,{"$f":"IF(K245=\"\",\"\",INDEX('Otras referencias'!F:I,MATCH(K245,'Otras referencias'!I:I,0),1))","v":""},"",null,null,null,null,null,null,null,null,null,null,null,null,null,null,null,null,null,null,null,null,null,null,null,null,null,null,null,null,null,null,null,null,null,null,0,0,0,0,0,0,0,0,null,null,null,null,null,0,null,null,null,null,null,{"$f":"IF(R245<>\"\",CONCATENATE($A$2,DIGITADOR!$M$1,ROW()-2),\"\")","v":""},"",{"$f":"IF(E245=\"\",\"\",INDEX(referentes!D:E,MATCH(E245,referentes!E:E,0),1))","v":""},{"$f":"IF(F245=\"\",\"\",INDEX(referentes!J:K,MATCH(F245,referentes!K:K,0),1))","v":""},{"$f":"IF(AI245=\"\",\"\",INDEX(referentes!M:N,MATCH(AI245,referentes!N:N,0),1))","v":""},{"$f":"IF(I245=\"\",\"\",INDEX(referentes!P:Q,MATCH(I245,referentes!Q:Q,0),1))","v":""},{"$f":"IF(J245=\"\",\"\",INDEX(referentes!S:T,MATCH(J245,referentes!T:T,0),1))","v":""},{"$f":"IF(AB245=\"\",\"\",INDEX(referentes!V:W,MATCH(AB245,referentes!W:W,0),1))","v":""},{"$f":"IF(Y245=\"\",\"\",INDEX(referentes!AZ:BA,MATCH(Y245,referentes!BA:BA,0),1))","v":""},"","","","",{"$f":"IF(BP245=\"\",\"\",INDEX(referentes!AE:AF,MATCH(BP245,referentes!AF:AF,0),1))","v":""},{"$f":"IF(BQ245=\"\",\"\",INDEX(referentes!AH:AI,MATCH(BQ245,referentes!AI:AI,0),1))","v":""},null,{"$f":"IF(D245=\"\",\"\",INDEX(referentes!A:B,MATCH(D245,referentes!B:B,0),1))","v":""},{"$f":"IF(AT245=\"\",\"\",INDEX(referentes!Y:Z,MATCH(AT245,referentes!Z:Z,0),1))","v":""},{"$f":"IF(AU245=\"\",\"\",INDEX(referentes!AB:AC,MATCH(AU245,referentes!AC:AC,0),1))","v":""}]
[null,{"$f":"IF(BT246=\"\",\"\",IF(COUNTIF($BT246:BT246, BT246)>1, \"\", BT246))","v":""},null,null,null,null,null,null,null,null,null,null,{"$f":"IF(L246=\"\",\"\",INDEX(referentes!AK:AL,MATCH(L246,referentes!AL:AL,0),1))","v":""},"",null,245,{"$f":"IF(K246=\"\",\"\",INDEX('Otras referencias'!F:I,MATCH(K246,'Otras referencias'!I:I,0),1))","v":""},"",null,null,null,null,null,null,null,null,null,null,null,null,null,null,null,null,null,null,null,null,null,null,null,null,null,null,null,null,null,null,null,null,null,null,0,0,0,0,0,0,0,0,null,null,null,null,null,0,null,null,null,null,null,{"$f":"IF(R246<>\"\",CONCATENATE($A$2,DIGITADOR!$M$1,ROW()-2),\"\")","v":""},"",{"$f":"IF(E246=\"\",\"\",INDEX(referentes!D:E,MATCH(E246,referentes!E:E,0),1))","v":""},{"$f":"IF(F246=\"\",\"\",INDEX(referentes!J:K,MATCH(F246,referentes!K:K,0),1))","v":""},{"$f":"IF(AI246=\"\",\"\",INDEX(referentes!M:N,MATCH(AI246,referentes!N:N,0),1))","v":""},{"$f":"IF(I246=\"\",\"\",INDEX(referentes!P:Q,MATCH(I246,referentes!Q:Q,0),1))","v":""},{"$f":"IF(J246=\"\",\"\",INDEX(referentes!S:T,MATCH(J246,referentes!T:T,0),1))","v":""},{"$f":"IF(AB246=\"\",\"\",INDEX(referentes!V:W,MATCH(AB246,referentes!W:W,0),1))","v":""},{"$f":"IF(Y246=\"\",\"\",INDEX(referentes!AZ:BA,MATCH(Y246,referentes!BA:BA,0),1))","v":""},"","","","",{"$f":"IF(BP246=\"\",\"\",INDEX(referentes!AE:AF,MATCH(BP246,referentes!AF:AF,0),1))","v":""},{"$f":"IF(BQ246=\"\",\"\",INDEX(referentes!AH:AI,MATCH(BQ246,referentes!AI:AI,0),1))","v":""},null,{"$f":"IF(D246=\"\",\"\",INDEX(referentes!A:B,MATCH(D246,referentes!B:B,0),1))","v":""},{"$f":"IF(AT246=\"\",\"\",INDEX(referentes!Y:Z,MATCH(AT246,referentes!Z:Z,0),1))","v":""},{"$f":"IF(AU246=\"\",\"\",INDEX(referentes!AB:AC,MATCH(AU246,referentes!AC:AC,0),1))","v":""}]
[null,{"$f":"IF(BT247=\"\",\"\",IF(COUNTIF($BT247:BT247, BT247)>1, \"\", BT247))","v":""},null,null,null,null,null,null,null,null,null,null,{"$f":"IF(L247=\"\",\"\",INDEX(referentes!AK:AL,MATCH(L247,referentes!AL:AL,0),1))","v":""},"",null,246,{"$f":"IF(K247=\"\",\"\",INDEX('Otras referencias'!F:I,MATCH(K247,'Otras referencias'!I:I,0),1))","v":""},"",null,null,null,null,null,null,null,null,null,null,null,null,null,null,null,null,null,null,null,null,null,null,null,null,null,null,null,null,null,null,null,null,null,null,0,0,0,0,0,0,0,0,null,null,null,null,null,0,null,null,null,null,null,{"$f":"IF(R247<>\"\",CONCATENATE($A$2,DIGITADOR!$M$1,ROW()-2),\"\")","v":""},"",{"$f":"IF(E247=\"\",\"\",INDEX(referentes!D:E,MATCH(E247,referentes!E:E,0),1))","v":""},{"$f":"IF(F247=\"\",\"\",INDEX(referentes!J:K,MATCH(F247,referentes!K:K,0),1))","v":""},{"$f":"IF(AI247=\"\",\"\",INDEX(referentes!M:N,MATCH(AI247,referentes!N:N,0),1))","v":""},{"$f":"IF(I247=\"\",\"\",INDEX(referentes!P:Q,MATCH(I247,referentes!Q:Q,0),1))","v":""},{"$f":"IF(J247=\"\",\"\",INDEX(referentes!S:T,MATCH(J247,referentes!T:T,0),1))","v":""},{"$f":"IF(AB247=\"\",\"\",INDEX(referentes!V:W,MATCH(AB247,referentes!W:W,0),1))","v":""},{"$f":"IF(Y247=\"\",\"\",INDEX(referentes!AZ:BA,MATCH(Y247,referentes!BA:BA,0),1))","v":""},"","","","",{"$f":"IF(BP247=\"\",\"\",INDEX(referentes!AE:AF,MATCH(BP247,referentes!AF:AF,0),1))","v":""},{"$f":"IF(BQ247=\"\",\"\",INDEX(referentes!AH:AI,MATCH(BQ247,referentes!AI:AI,0),1))","v":""},null,{"$f":"IF(D247=\"\",\"\",INDEX(referentes!A:B,MATCH(D247,referentes!B:B,0),1))","v":""},{"$f":"IF(AT247=\"\",\"\",INDEX(referentes!Y:Z,MATCH(AT247,referentes!Z:Z,0),1))","v":""},{"$f":"IF(AU247=\"\",\"\",INDEX(referentes!AB:AC,MATCH(AU247,referentes!AC:AC,0),1))","v":""}]
[null,{"$f":"IF(BT248=\"\",\"\",IF(COUNTIF($BT248:BT248, BT248)>1, \"\", BT248))","v":""},null,null,null,null,null,null,null,null,null,null,{"$f":"IF(L248=\"\",\"\",INDEX(referentes!AK:AL,MATCH(L248,referentes!AL:AL,0),1))","v":""},"",null,247,{"$f":"IF(K248=\"\",\"\",INDEX('Otras referencias'!F:I,MATCH(K248,'Otras referencias'!I:I,0),1))","v":""},"",null,null,null,null,null,null,null,null,null,null,null,null,null,null,null,null,null,null,null,null,null,null,null,null,null,null,null,null,null,null,null,null,null,null,0,0,0,0,0,0,0,0,null,null,null,null,null,0,null,null,null,null,null,{"$f":"IF(R248<>\"\",CONCATENATE($A$2,DIGITADOR!$M$1,ROW()-2),\"\")","v":""},"",{"$f":"IF(E248=\"\",\"\",INDEX(referentes!D:E,MATCH(E248,referentes!E:E,0),1))","v":""},{"$f":"IF(F248=\"\",\"\",INDEX(referentes!J:K,MATCH(F248,referentes!K:K,0),1))","v":""},{"$f":"IF(AI248=\"\",\"\",INDEX(referentes!M:N,MATCH(AI248,referentes!N:N,0),1))","v":""},{"$f":"IF(I248=\"\",\"\",INDEX(referentes!P:Q,MATCH(I248,referentes!Q:Q,0),1))","v":""},{"$f":"IF(J248=\"\",\"\",INDEX(referentes!S:T,MATCH(J248,referentes!T:T,0),1))","v":""},{"$f":"IF(AB248=\"\",\"\",INDEX(referentes!V:W,MATCH(AB248,referentes!W:W,0),1))","v":""},{"$f":"IF(Y248=\"\",\"\",INDEX(referentes!AZ:BA,MATCH(Y248,referentes!BA:BA,0),1))","v":""},"","","","",{"$f":"IF(BP248=\"\",\"\",INDEX(referentes!AE:AF,MATCH(BP248,referentes!AF:AF,0),1))","v":""},{"$f":"IF(BQ248=\"\",\"\",INDEX(referentes!AH:AI,MATCH(BQ248,referentes!AI:AI,0),1))","v":""},null,{"$f":"IF(D248=\"\",\"\",INDEX(referentes!A:B,MATCH(D248,referentes!B:B,0),1))","v":""},{"$f":"IF(AT248=\"\",\"\",INDEX(referentes!Y:Z,MATCH(AT248,referentes!Z:Z,0),1))","v":""},{"$f":"IF(AU248=\"\",\"\",INDEX(referentes!AB:AC,MATCH(AU248,referentes!AC:AC,0),1))","v":""}]
[null,{"$f":"IF(BT249=\"\",\"\",IF(COUNTIF($BT249:BT249, BT249)>1, \"\", BT249))","v":""},null,null,null,null,null,null,null,null,null,null,{"$f":"IF(L249=\"\",\"\",INDEX(referentes!AK:AL,MATCH(L249,referentes!AL:AL,0),1))","v":""},"",null,248,{"$f":"IF(K249=\"\",\"\",INDEX('Otras referencias'!F:I,MATCH(K249,'Otras referencias'!I:I,0),1))","v":""},"",null,null,null,null,null,null,null,null,null,null,null,null,null,null,null,null,null,null,null,null,null,null,null,null,null,null,null,null,null,null,null,null,null,null,0,0,0,0,0,0,0,0,null,null,null,null,null,0,null,null,null,null,null,{"$f":"IF(R249<>\"\",CONCATENATE($A$2,DIGITADOR!$M$1,ROW()-2),\"\")","v":""},"",{"$f":"IF(E249=\"\",\"\",INDEX(referentes!D:E,MATCH(E249,referentes!E:E,0),1))","v":""},{"$f":"IF(F249=\"\",\"\",INDEX(referentes!J:K,MATCH(F249,referentes!K:K,0),1))","v":""},{"$f":"IF(AI249=\"\",\"\",INDEX(referentes!M:N,MATCH(AI249,referentes!N:N,0),1))","v":""},{"$f":"IF(I249=\"\",\"\",INDEX(referentes!P:Q,MATCH(I249,referentes!Q:Q,0),1))","v":""},{"$f":"IF(J249=\"\",\"\",INDEX(referentes!S:T,MATCH(J249,referentes!T:T,0),1))","v":""},{"$f":"IF(AB249=\"\",\"\",INDEX(referentes!V:W,MATCH(AB249,referentes!W:W,0),1))","v":""},{"$f":"IF(Y249=\"\",\"\",INDEX(referentes!AZ:BA,MATCH(Y249,referentes!BA:BA,0),1))","v":""},"","","","",{"$f":"IF(BP249=\"\",\"\",INDEX(referentes!AE:AF,MATCH(BP249,referentes!AF:AF,0),1))","v":""},{"$f":"IF(BQ249=\"\",\"\",INDEX(referentes!AH:AI,MATCH(BQ249,referentes!AI:AI,0),1))","v":""},null,{"$f":"IF(D249=\"\",\"\",INDEX(referentes!A:B,MATCH(D249,referentes!B:B,0),1))","v":""},{"$f":"IF(AT249=\"\",\"\",INDEX(referentes!Y:Z,MATCH(AT249,referentes!Z:Z,0),1))","v":""},{"$f":"IF(AU249=\"\",\"\",INDEX(referentes!AB:AC,MATCH(AU249,referentes!AC:AC,0),1))","v":""}]
[null,{"$f":"IF(BT250=\"\",\"\",IF(COUNTIF($BT250:BT250, BT250)>1, \"\", BT250))","v":""},null,null,null,null,null,null,null,null,null,null,{"$f":"IF(L250=\"\",\"\",INDEX(referentes!AK:AL,MATCH(L250,referentes!AL:AL,0),1))","v":""},"",null,249,{"$f":"IF(K250=\"\",\"\",INDEX('Otras referencias'!F:I,MATCH(K250,'Otras referencias'!I:I,0),1))","v":""},"",null,null,null,null,null,null,null,null,null,null,null,null,null,null,null,null,null,null,null,null,null,null,null,null,null,null,null,null,null,null,null,null,null,null,0,0,0,0,0,0,0,0,null,null,null,null,null,0,null,null,null,null,null,{"$f":"IF(R250<>\"\",CONCATENATE($A$2,DIGITADOR!$M$1,ROW()-2),\"\")","v":""},"",{"$f":"IF(E250=\"\",\"\",INDEX(referentes!D:E,MATCH(E250,referentes!E:E,0),1))","v":""},{"$f":"IF(F250=\"\",\"\",INDEX(referentes!J:K,MATCH(F250,referentes!K:K,0),1))","v":""},{"$f":"IF(AI250=\"\",\"\",INDEX(referentes!M:N,MATCH(AI250,referentes!N:N,0),1))","v":""},{"$f":"IF(I250=\"\",\"\",INDEX(referentes!P:Q,MATCH(I250,referentes!Q:Q,0),1))","v":""},{"$f":"IF(J250=\"\",\"\",INDEX(referentes!S:T,MATCH(J250,referentes!T:T,0),1))","v":""},{"$f":"IF(AB250=\"\",\"\",INDEX(referentes!V:W,MATCH(AB250,referentes!W:W,0),1))","v":""},{"$f":"IF(Y250=\"\",\"\",INDEX(referentes!AZ:BA,MATCH(Y250,referentes!BA:BA,0),1))","v":""},"","","","",{"$f":"IF(BP250=\"\",\"\",INDEX(referentes!AE:AF,MATCH(BP250,referentes!AF:AF,0),1))","v":""},{"$f":"IF(BQ250=\"\",\"\",INDEX(referentes!AH:AI,MATCH(BQ250,referentes!AI:AI,0),1))","v":""},null,{"$f":"IF(D250=\"\",\"\",INDEX(referentes!A:B,MATCH(D250,referentes!B:B,0),1))","v":""},{"$f":"IF(AT250=\"\",\"\",INDEX(referentes!Y:Z,MATCH(AT250,referentes!Z:Z,0),1))","v":""},{"$f":"IF(AU250=\"\",\"\",INDEX(referentes!AB:AC,MATCH(AU250,referentes!AC:AC,0),1))","v":""}]
[null,{"$f":"IF(BT251=\"\",\"\",IF(COUNTIF($BT251:BT251, BT251)>1, \"\", BT251))","v":""},null,null,null,null,null,null,null,null,null,null,{"$f":"IF(L251=\"\",\"\",INDEX(referentes!AK:AL,MATCH(L251,referentes!AL:AL,0),1))","v":""},"",null,250,{"$f":"IF(K251=\"\",\"\",INDEX('Otras referencias'!F:I,MATCH(K251,'Otras referencias'!I:I,0),1))","v":""},"",null,null,null,null,null,null,null,null,null,null,null,null,null,null,null,null,null,null,null,null,null,null,null,null,null,null,null,null,null,null,null,null,null,null,0,0,0,0,0,0,0,0,null,null,null,null,null,0,null,null,null,null,null,{"$f":"IF(R251<>\"\",CONCATENATE($A$2,DIGITADOR!$M$1,ROW()-2),\"\")","v":""},"",{"$f":"IF(E251=\"\",\"\",INDEX(referentes!D:E,MATCH(E251,referentes!E:E,0),1))","v":""},{"$f":"IF(F251=\"\",\"\",INDEX(referentes!J:K,MATCH(F251,referentes!K:K,0),1))","v":""},{"$f":"IF(AI251=\"\",\"\",INDEX(referentes!M:N,MATCH(AI251,referentes!N:N,0),1))","v":""},{"$f":"IF(I251=\"\",\"\",INDEX(referentes!P:Q,MATCH(I251,referentes!Q:Q,0),1))","v":""},{"$f":"IF(J251=\"\",\"\",INDEX(referentes!S:T,MATCH(J251,referentes!T:T,0),1))","v":""},{"$f":"IF(AB251=\"\",\"\",INDEX(referentes!V:W,MATCH(AB251,referentes!W:W,0),1))","v":""},{"$f":"IF(Y251=\"\",\"\",INDEX(referentes!AZ:BA,MATCH(Y251,referentes!BA:BA,0),1))","v":""},"","","","",{"$f":"IF(BP251=\"\",\"\",INDEX(referentes!AE:AF,MATCH(BP251,referentes!AF:AF,0),1))","v":""},{"$f":"IF(BQ251=\"\",\"\",INDEX(referentes!AH:AI,MATCH(BQ251,referentes!AI:AI,0),1))","v":""},null,{"$f":"IF(D251=\"\",\"\",INDEX(referentes!A:B,MATCH(D251,referentes!B:B,0),1))","v":""},{"$f":"IF(AT251=\"\",\"\",INDEX(referentes!Y:Z,MATCH(AT251,referentes!Z:Z,0),1))","v":""},{"$f":"IF(AU251=\"\",\"\",INDEX(referentes!AB:AC,MATCH(AU251,referentes!AC:AC,0),1))","v":""}]
[null,{"$f":"IF(BT252=\"\",\"\",IF(COUNTIF($BT252:BT252, BT252)>1, \"\", BT252))","v":""},null,null,null,null,null,null,null,null,null,null,{"$f":"IF(L252=\"\",\"\",INDEX(referentes!AK:AL,MATCH(L252,referentes!AL:AL,0),1))","v":""},"",null,251,{"$f":"IF(K252=\"\",\"\",INDEX('Otras referencias'!F:I,MATCH(K252,'Otras referencias'!I:I,0),1))","v":""},"",null,null,null,null,null,null,null,null,null,null,null,null,null,null,null,null,null,null,null,null,null,null,null,null,null,null,null,null,null,null,null,null,null,null,0,0,0,0,0,0,0,0,null,null,null,null,null,0,null,null,null,null,null,{"$f":"IF(R252<>\"\",CONCATENATE($A$2,DIGITADOR!$M$1,ROW()-2),\"\")","v":""},"",{"$f":"IF(E252=\"\",\"\",INDEX(referentes!D:E,MATCH(E252,referentes!E:E,0),1))","v":""},{"$f":"IF(F252=\"\",\"\",INDEX(referentes!J:K,MATCH(F252,referentes!K:K,0),1))","v":""},{"$f":"IF(AI252=\"\",\"\",INDEX(referentes!M:N,MATCH(AI252,referentes!N:N,0),1))","v":""},{"$f":"IF(I252=\"\",\"\",INDEX(referentes!P:Q,MATCH(I252,referentes!Q:Q,0),1))","v":""},{"$f":"IF(J252=\"\",\"\",INDEX(referentes!S:T,MATCH(J252,referentes!T:T,0),1))","v":""},{"$f":"IF(AB252=\"\",\"\",INDEX(referentes!V:W,MATCH(AB252,referentes!W:W,0),1))","v":""},{"$f":"IF(Y252=\"\",\"\",INDEX(referentes!AZ:BA,MATCH(Y252,referentes!BA:BA,0),1))","v":""},"","","","",{"$f":"IF(BP252=\"\",\"\",INDEX(referentes!AE:AF,MATCH(BP252,referentes!AF:AF,0),1))","v":""},{"$f":"IF(BQ252=\"\",\"\",INDEX(referentes!AH:AI,MATCH(BQ252,referentes!AI:AI,0),1))","v":""},null,{"$f":"IF(D252=\"\",\"\",INDEX(referentes!A:B,MATCH(D252,referentes!B:B,0),1))","v":""},{"$f":"IF(AT252=\"\",\"\",INDEX(referentes!Y:Z,MATCH(AT252,referentes!Z:Z,0),1))","v":""},{"$f":"IF(AU252=\"\",\"\",INDEX(referentes!AB:AC,MATCH(AU252,referentes!AC:AC,0),1))","v":""}]
[null,{"$f":"IF(BT253=\"\",\"\",IF(COUNTIF($BT253:BT253, BT253)>1, \"\", BT253))","v":""},null,null,null,null,null,null,null,null,null,null,{"$f":"IF(L253=\"\",\"\",INDEX(referentes!AK:AL,MATCH(L253,referentes!AL:AL,0),1))","v":""},"",null,252,{"$f":"IF(K253=\"\",\"\",INDEX('Otras referencias'!F:I,MATCH(K253,'Otras referencias'!I:I,0),1))","v":""},"",null,null,null,null,null,null,null,null,null,null,null,null,null,null,null,null,null,null,null,null,null,null,null,null,null,null,null,null,null,null,null,null,null,null,0,0,0,0,0,0,0,0,null,null,null,null,null,0,null,null,null,null,null,{"$f":"IF(R253<>\"\",CONCATENATE($A$2,DIGITADOR!$M$1,ROW()-2),\"\")","v":""},"",{"$f":"IF(E253=\"\",\"\",INDEX(referentes!D:E,MATCH(E253,referentes!E:E,0),1))","v":""},{"$f":"IF(F253=\"\",\"\",INDEX(referentes!J:K,MATCH(F253,referentes!K:K,0),1))","v":""},{"$f":"IF(AI253=\"\",\"\",INDEX(referentes!M:N,MATCH(AI253,referentes!N:N,0),1))","v":""},{"$f":"IF(I253=\"\",\"\",INDEX(referentes!P:Q,MATCH(I253,referentes!Q:Q,0),1))","v":""},{"$f":"IF(J253=\"\",\"\",INDEX(referentes!S:T,MATCH(J253,referentes!T:T,0),1))","v":""},{"$f":"IF(AB253=\"\",\"\",INDEX(referentes!V:W,MATCH(AB253,referentes!W:W,0),1))","v":""},{"$f":"IF(Y253=\"\",\"\",INDEX(referentes!AZ:BA,MATCH(Y253,referentes!BA:BA,0),1))","v":""},"","","","",{"$f":"IF(BP253=\"\",\"\",INDEX(referentes!AE:AF,MATCH(BP253,referentes!AF:AF,0),1))","v":""},{"$f":"IF(BQ253=\"\",\"\",INDEX(referentes!AH:AI,MATCH(BQ253,referentes!AI:AI,0),1))","v":""},null,{"$f":"IF(D253=\"\",\"\",INDEX(referentes!A:B,MATCH(D253,referentes!B:B,0),1))","v":""},{"$f":"IF(AT253=\"\",\"\",INDEX(referentes!Y:Z,MATCH(AT253,referentes!Z:Z,0),1))","v":""},{"$f":"IF(AU253=\"\",\"\",INDEX(referentes!AB:AC,MATCH(AU253,referentes!AC:AC,0),1))","v":""}]
[null,{"$f":"IF(BT254=\"\",\"\",IF(COUNTIF($BT254:BT254, BT254)>1, \"\", BT254))","v":""},null,null,null,null,null,null,null,null,null,null,{"$f":"IF(L254=\"\",\"\",INDEX(referentes!AK:AL,MATCH(L254,referentes!AL:AL,0),1))","v":""},"",null,253,{"$f":"IF(K254=\"\",\"\",INDEX('Otras referencias'!F:I,MATCH(K254,'Otras referencias'!I:I,0),1))","v":""},"",null,null,null,null,null,null,null,null,null,null,null,null,null,null,null,null,null,null,null,null,null,null,null,null,null,null,null,null,null,null,null,null,null,null,0,0,0,0,0,0,0,0,null,null,null,null,null,0,null,null,null,null,null,{"$f":"IF(R254<>\"\",CONCATENATE($A$2,DIGITADOR!$M$1,ROW()-2),\"\")","v":""},"",{"$f":"IF(E254=\"\",\"\",INDEX(referentes!D:E,MATCH(E254,referentes!E:E,0),1))","v":""},{"$f":"IF(F254=\"\",\"\",INDEX(referentes!J:K,MATCH(F254,referentes!K:K,0),1))","v":""},{"$f":"IF(AI254=\"\",\"\",INDEX(referentes!M:N,MATCH(AI254,referentes!N:N,0),1))","v":""},{"$f":"IF(I254=\"\",\"\",INDEX(referentes!P:Q,MATCH(I254,referentes!Q:Q,0),1))","v":""},{"$f":"IF(J254=\"\",\"\",INDEX(referentes!S:T,MATCH(J254,referentes!T:T,0),1))","v":""},{"$f":"IF(AB254=\"\",\"\",INDEX(referentes!V:W,MATCH(AB254,referentes!W:W,0),1))","v":""},{"$f":"IF(Y254=\"\",\"\",INDEX(referentes!AZ:BA,MATCH(Y254,referentes!BA:BA,0),1))","v":""},"","","","",{"$f":"IF(BP254=\"\",\"\",INDEX(referentes!AE:AF,MATCH(BP254,referentes!AF:AF,0),1))","v":""},{"$f":"IF(BQ254=\"\",\"\",INDEX(referentes!AH:AI,MATCH(BQ254,referentes!AI:AI,0),1))","v":""},null,{"$f":"IF(D254=\"\",\"\",INDEX(referentes!A:B,MATCH(D254,referentes!B:B,0),1))","v":""},{"$f":"IF(AT254=\"\",\"\",INDEX(referentes!Y:Z,MATCH(AT254,referentes!Z:Z,0),1))","v":""},{"$f":"IF(AU254=\"\",\"\",INDEX(referentes!AB:AC,MATCH(AU254,referentes!AC:AC,0),1))","v":""}]
[null,{"$f":"IF(BT255=\"\",\"\",IF(COUNTIF($BT255:BT255, BT255)>1, \"\", BT255))","v":""},null,null,null,null,null,null,null,null,null,null,{"$f":"IF(L255=\"\",\"\",INDEX(referentes!AK:AL,MATCH(L255,referentes!AL:AL,0),1))","v":""},"",null,254,{"$f":"IF(K255=\"\",\"\",INDEX('Otras referencias'!F:I,MATCH(K255,'Otras referencias'!I:I,0),1))","v":""},"",null,null,null,null,null,null,null,null,null,null,null,null,null,null,null,null,null,null,null,null,null,null,null,null,null,null,null,null,null,null,null,null,null,null,0,0,0,0,0,0,0,0,null,null,null,null,null,0,null,null,null,null,null,{"$f":"IF(R255<>\"\",CONCATENATE($A$2,DIGITADOR!$M$1,ROW()-2),\"\")","v":""},"",{"$f":"IF(E255=\"\",\"\",INDEX(referentes!D:E,MATCH(E255,referentes!E:E,0),1))","v":""},{"$f":"IF(F255=\"\",\"\",INDEX(referentes!J:K,MATCH(F255,referentes!K:K,0),1))","v":""},{"$f":"IF(AI255=\"\",\"\",INDEX(referentes!M:N,MATCH(AI255,referentes!N:N,0),1))","v":""},{"$f":"IF(I255=\"\",\"\",INDEX(referentes!P:Q,MATCH(I255,referentes!Q:Q,0),1))","v":""},{"$f":"IF(J255=\"\",\"\",INDEX(referentes!S:T,MATCH(J255,referentes!T:T,0),1))","v":""},{"$f":"IF(AB255=\"\",\"\",INDEX(referentes!V:W,MATCH(AB255,referentes!W:W,0),1))","v":""},{"$f":"IF(Y255=\"\",\"\",INDEX(referentes!AZ:BA,MATCH(Y255,referentes!BA:BA,0),1))","v":""},"","","","",{"$f":"IF(BP255=\"\",\"\",INDEX(referentes!AE:AF,MATCH(BP255,referentes!AF:AF,0),1))","v":""},{"$f":"IF(BQ255=\"\",\"\",INDEX(referentes!AH:AI,MATCH(BQ255,referentes!AI:AI,0),1))","v":""},null,{"$f":"IF(D255=\"\",\"\",INDEX(referentes!A:B,MATCH(D255,referentes!B:B,0),1))","v":""},{"$f":"IF(AT255=\"\",\"\",INDEX(referentes!Y:Z,MATCH(AT255,referentes!Z:Z,0),1))","v":""},{"$f":"IF(AU255=\"\",\"\",INDEX(referentes!AB:AC,MATCH(AU255,referentes!AC:AC,0),1))","v":""}]
[null,{"$f":"IF(BT256=\"\",\"\",IF(COUNTIF($BT256:BT256, BT256)>1, \"\", BT256))","v":""},null,null,null,null,null,null,null,null,null,null,{"$f":"IF(L256=\"\",\"\",INDEX(referentes!AK:AL,MATCH(L256,referentes!AL:AL,0),1))","v":""},"",null,255,{"$f":"IF(K256=\"\",\"\",INDEX('Otras referencias'!F:I,MATCH(K256,'Otras referencias'!I:I,0),1))","v":""},"",null,null,null,null,null,null,null,null,null,null,null,null,null,null,null,null,null,null,null,null,null,null,null,null,null,null,null,null,null,null,null,null,null,null,0,0,0,0,0,0,0,0,null,null,null,null,null,0,null,null,null,null,null,{"$f":"IF(R256<>\"\",CONCATENATE($A$2,DIGITADOR!$M$1,ROW()-2),\"\")","v":""},"",{"$f":"IF(E256=\"\",\"\",INDEX(referentes!D:E,MATCH(E256,referentes!E:E,0),1))","v":""},{"$f":"IF(F256=\"\",\"\",INDEX(referentes!J:K,MATCH(F256,referentes!K:K,0),1))","v":""},{"$f":"IF(AI256=\"\",\"\",INDEX(referentes!M:N,MATCH(AI256,referentes!N:N,0),1))","v":""},{"$f":"IF(I256=\"\",\"\",INDEX(referentes!P:Q,MATCH(I256,referentes!Q:Q,0),1))","v":""},{"$f":"IF(J256=\"\",\"\",INDEX(referentes!S:T,MATCH(J256,referentes!T:T,0),1))","v":""},{"$f":"IF(AB256=\"\",\"\",INDEX(referentes!V:W,MATCH(AB256,referentes!W:W,0),1))","v":""},{"$f":"IF(Y256=\"\",\"\",INDEX(referentes!AZ:BA,MATCH(Y256,referentes!BA:BA,0),1))","v":""},"","","","",{"$f":"IF(BP256=\"\",\"\",INDEX(referentes!AE:AF,MATCH(BP256,referentes!AF:AF,0),1))","v":""},{"$f":"IF(BQ256=\"\",\"\",INDEX(referentes!AH:AI,MATCH(BQ256,referentes!AI:AI,0),1))","v":""},null,{"$f":"IF(D256=\"\",\"\",INDEX(referentes!A:B,MATCH(D256,referentes!B:B,0),1))","v":""},{"$f":"IF(AT256=\"\",\"\",INDEX(referentes!Y:Z,MATCH(AT256,referentes!Z:Z,0),1))","v":""},{"$f":"IF(AU256=\"\",\"\",INDEX(referentes!AB:AC,MATCH(AU256,referentes!AC:AC,0),1))","v":""}]
[null,{"$f":"IF(BT257=\"\",\"\",IF(COUNTIF($BT257:BT257, BT257)>1, \"\", BT257))","v":""},null,null,null,null,null,null,null,null,null,null,{"$f":"IF(L257=\"\",\"\",INDEX(referentes!AK:AL,MATCH(L257,referentes!AL:AL,0),1))","v":""},"",null,256,{"$f":"IF(K257=\"\",\"\",INDEX('Otras referencias'!F:I,MATCH(K257,'Otras referencias'!I:I,0),1))","v":""},"",null,null,null,null,null,null,null,null,null,null,null,null,null,null,null,null,null,null,null,null,null,null,null,null,null,null,null,null,null,null,null,null,null,null,0,0,0,0,0,0,0,0,null,null,null,null,null,0,null,null,null,null,null,{"$f":"IF(R257<>\"\",CONCATENATE($A$2,DIGITADOR!$M$1,ROW()-2),\"\")","v":""},"",{"$f":"IF(E257=\"\",\"\",INDEX(referentes!D:E,MATCH(E257,referentes!E:E,0),1))","v":""},{"$f":"IF(F257=\"\",\"\",INDEX(referentes!J:K,MATCH(F257,referentes!K:K,0),1))","v":""},{"$f":"IF(AI257=\"\",\"\",INDEX(referentes!M:N,MATCH(AI257,referentes!N:N,0),1))","v":""},{"$f":"IF(I257=\"\",\"\",INDEX(referentes!P:Q,MATCH(I257,referentes!Q:Q,0),1))","v":""},{"$f":"IF(J257=\"\",\"\",INDEX(referentes!S:T,MATCH(J257,referentes!T:T,0),1))","v":""},{"$f":"IF(AB257=\"\",\"\",INDEX(referentes!V:W,MATCH(AB257,referentes!W:W,0),1))","v":""},{"$f":"IF(Y257=\"\",\"\",INDEX(referentes!AZ:BA,MATCH(Y257,referentes!BA:BA,0),1))","v":""},"","","","",{"$f":"IF(BP257=\"\",\"\",INDEX(referentes!AE:AF,MATCH(BP257,referentes!AF:AF,0),1))","v":""},{"$f":"IF(BQ257=\"\",\"\",INDEX(referentes!AH:AI,MATCH(BQ257,referentes!AI:AI,0),1))","v":""},null,{"$f":"IF(D257=\"\",\"\",INDEX(referentes!A:B,MATCH(D257,referentes!B:B,0),1))","v":""},{"$f":"IF(AT257=\"\",\"\",INDEX(referentes!Y:Z,MATCH(AT257,referentes!Z:Z,0),1))","v":""},{"$f":"IF(AU257=\"\",\"\",INDEX(referentes!AB:AC,MATCH(AU257,referentes!AC:AC,0),1))","v":""}]
[null,{"$f":"IF(BT258=\"\",\"\",IF(COUNTIF($BT258:BT258, BT258)>1, \"\", BT258))","v":""},null,null,null,null,null,null,null,null,null,null,{"$f":"IF(L258=\"\",\"\",INDEX(referentes!AK:AL,MATCH(L258,referentes!AL:AL,0),1))","v":""},"",null,257,{"$f":"IF(K258=\"\",\"\",INDEX('Otras referencias'!F:I,MATCH(K258,'Otras referencias'!I:I,0),1))","v":""},"",null,null,null,null,null,null,null,null,null,null,null,null,null,null,null,null,null,null,null,null,null,null,null,null,null,null,null,null,null,null,null,null,null,null,0,0,0,0,0,0,0,0,null,null,null,null,null,0,null,null,null,null,null,{"$f":"IF(R258<>\"\",CONCATENATE($A$2,DIGITADOR!$M$1,ROW()-2),\"\")","v":""},"",{"$f":"IF(E258=\"\",\"\",INDEX(referentes!D:E,MATCH(E258,referentes!E:E,0),1))","v":""},{"$f":"IF(F258=\"\",\"\",INDEX(referentes!J:K,MATCH(F258,referentes!K:K,0),1))","v":""},{"$f":"IF(AI258=\"\",\"\",INDEX(referentes!M:N,MATCH(AI258,referentes!N:N,0),1))","v":""},{"$f":"IF(I258=\"\",\"\",INDEX(referentes!P:Q,MATCH(I258,referentes!Q:Q,0),1))","v":""},{"$f":"IF(J258=\"\",\"\",INDEX(referentes!S:T,MATCH(J258,referentes!T:T,0),1))","v":""},{"$f":"IF(AB258=\"\",\"\",INDEX(referentes!V:W,MATCH(AB258,referentes!W:W,0),1))","v":""},{"$f":"IF(Y258=\"\",\"\",INDEX(referentes!AZ:BA,MATCH(Y258,referentes!BA:BA,0),1))","v":""},"","","","",{"$f":"IF(BP258=\"\",\"\",INDEX(referentes!AE:AF,MATCH(BP258,referentes!AF:AF,0),1))","v":""},{"$f":"IF(BQ258=\"\",\"\",INDEX(referentes!AH:AI,MATCH(BQ258,referentes!AI:AI,0),1))","v":""},null,{"$f":"IF(D258=\"\",\"\",INDEX(referentes!A:B,MATCH(D258,referentes!B:B,0),1))","v":""},{"$f":"IF(AT258=\"\",\"\",INDEX(referentes!Y:Z,MATCH(AT258,referentes!Z:Z,0),1))","v":""},{"$f":"IF(AU258=\"\",\"\",INDEX(referentes!AB:AC,MATCH(AU258,referentes!AC:AC,0),1))","v":""}]
[null,{"$f":"IF(BT259=\"\",\"\",IF(COUNTIF($BT259:BT259, BT259)>1, \"\", BT259))","v":""},null,null,null,null,null,null,null,null,null,null,{"$f":"IF(L259=\"\",\"\",INDEX(referentes!AK:AL,MATCH(L259,referentes!AL:AL,0),1))","v":""},"",null,258,{"$f":"IF(K259=\"\",\"\",INDEX('Otras referencias'!F:I,MATCH(K259,'Otras referencias'!I:I,0),1))","v":""},{"$f":"IF(U259=\"\",\"\",DATEVALUE(CONCATENATE(U259,\"/\",TEXT(V259,\"00\"),\"/\",TEXT(W259,\"00\"))))","v":""},null,null,null,null,null,null,null,null,null,null,null,null,null,null,null,null,null,null,null,null,null,null,null,null,null,null,null,null,null,null,null,null,null,null,{"$f":"IF(ISERR(FIND($BA$1,AZ259)),0,1)","v":0},{"$f":"IF(ISERR(FIND($BB$1,AZ259)),0,1)","v":0},{"$f":"IF(ISERR(FIND($BC$1,AZ259)),0,1)","v":0},{"$f":"IF(ISERR(FIND($BD$1,AZ259)),0,1)","v":0},{"$f":"IF(ISERR(FIND($BE$1,AZ259)),0,1)","v":0},{"$f":"IF(ISERR(FIND($BF$1,AZ259)),0,1)","v":0},{"$f":"IF(ISERR(FIND($BG$1,AZ259)),0,1)","v":0},{"$f":"IF(ISERR(FIND($BH$1,AZ259)),0,1)","v":0},null,null,null,null,null,{"$f":"BA259+2*BB259+4*BC259+8*BD259+16*BE259+32*BF259+64*BG259+128*BH259","v":0},null,null,null,null,null,{"$f":"IF(R259<>\"\",CONCATENATE($A$2,DIGITADOR!$M$1,ROW()-2),\"\")","v":""},{"$f":"IF(B259=\"\",\"\",CONCATENATE(B259,ROW()-1))","v":""},{"$f":"IF(E259=\"\",\"\",INDEX(referentes!D:E,MATCH(E259,referentes!E:E,0),1))","v":""},{"$f":"IF(F259=\"\",\"\",INDEX(referentes!J:K,MATCH(F259,referentes!K:K,0),1))","v":""},{"$f":"IF(AI259=\"\",\"\",INDEX(referentes!M:N,MATCH(AI259,referentes!N:N,0),1))","v":""},{"$f":"IF(I259=\"\",\"\",INDEX(referentes!P:Q,MATCH(I259,referentes!Q:Q,0),1))","v":""},{"$f":"IF(J259=\"\",\"\",INDEX(referentes!S:T,MATCH(J259,referentes!T:T,0),1))","v":""},{"$f":"IF(AB259=\"\",\"\",INDEX(referentes!V:W,MATCH(AB259,referentes!W:W,0),1))","v":""},{"$f":"IF(Y259=\"\",\"\",INDEX(referentes!AZ:BA,MATCH(Y259,referentes!BA:BA,0),1))","v":""},{"$f":"IF(Z259=\"\",IF(R259=\"\",\"\",R259),R259+Z259)","v":""},{"$f":"IF(AA259=\"\",IF(R259=\"\",\"\",R259),R259+AA259)","v":""},{"$f":"IF(OR(AC259=\"\",AD259=\"\",AE259=\"\"),\"\",AD259/60+AE259/3600+AC259)","v":""},{"$f":"IF(OR(AF259=\"\",AG259=\"\",AH259=\"\"),\"\",(ABS(AF259)+(AG259/60)+(AH259/3600))*-1)","v":""},{"$f":"IF(BP259=\"\",\"\",INDEX(referentes!AE:AF,MATCH(BP259,referentes!AF:AF,0),1))","v":""},{"$f":"IF(BQ259=\"\",\"\",INDEX(referentes!AH:AI,MATCH(BQ259,referentes!AI:AI,0),1))","v":""},null,{"$f":"IF(D259=\"\",\"\",INDEX(referentes!A:B,MATCH(D259,referentes!B:B,0),1))","v":""},{"$f":"IF(AT259=\"\",\"\",INDEX(referentes!Y:Z,MATCH(AT259,referentes!Z:Z,0),1))","v":""},{"$f":"IF(AU259=\"\",\"\",INDEX(referentes!AB:AC,MATCH(AU259,referentes!AC:AC,0),1))","v":""}]
[null,{"$f":"IF(BT260=\"\",\"\",IF(COUNTIF($BT260:BT260, BT260)>1, \"\", BT260))","v":""},null,null,null,null,null,null,null,null,null,null,{"$f":"IF(L260=\"\",\"\",INDEX(referentes!AK:AL,MATCH(L260,referentes!AL:AL,0),1))","v":""},{"$f":"IF(B260=B259,\"\",IF(R259=\"\",\"\",R259))","v":""},null,{"$f":"P259+1","v":259},{"$f":"IF(K260=\"\",\"\",INDEX('Otras referencias'!F:I,MATCH(K260,'Otras referencias'!I:I,0),1))","v":""},"",null,null,null,null,null,null,null,null,null,null,null,null,null,null,null,null,null,null,null,null,null,null,null,null,null,null,null,null,null,null,null,null,null,null,0,0,0,0,0,0,0,0,null,null,null,null,null,0,null,null,null,null,null,{"$f":"IF(R260<>\"\",CONCATENATE($A$2,DIGITADOR!$M$1,ROW()-2),\"\")","v":""},"",{"$f":"IF(E260=\"\",\"\",INDEX(referentes!D:E,MATCH(E260,referentes!E:E,0),1))","v":""},{"$f":"IF(F260=\"\",\"\",INDEX(referentes!J:K,MATCH(F260,referentes!K:K,0),1))","v":""},{"$f":"IF(AI260=\"\",\"\",INDEX(referentes!M:N,MATCH(AI260,referentes!N:N,0),1))","v":""},{"$f":"IF(I260=\"\",\"\",INDEX(referentes!P:Q,MATCH(I260,referentes!Q:Q,0),1))","v":""},{"$f":"IF(J260=\"\",\"\",INDEX(referentes!S:T,MATCH(J260,referentes!T:T,0),1))","v":""},{"$f":"IF(AB260=\"\",\"\",INDEX(referentes!V:W,MATCH(AB260,referentes!W:W,0),1))","v":""},{"$f":"IF(Y260=\"\",\"\",INDEX(referentes!AZ:BA,MATCH(Y260,referentes!BA:BA,0),1))","v":""},"","","","",{"$f":"IF(BP260=\"\",\"\",INDEX(referentes!AE:AF,MATCH(BP260,referentes!AF:AF,0),1))","v":""},{"$f":"IF(BQ260=\"\",\"\",INDEX(referentes!AH:AI,MATCH(BQ260,referentes!AI:AI,0),1))","v":""},null,{"$f":"IF(D260=\"\",\"\",INDEX(referentes!A:B,MATCH(D260,referentes!B:B,0),1))","v":""},{"$f":"IF(AT260=\"\",\"\",INDEX(referentes!Y:Z,MATCH(AT260,referentes!Z:Z,0),1))","v":""},{"$f":"IF(AU260=\"\",\"\",INDEX(referentes!AB:AC,MATCH(AU260,referentes!AC:AC,0),1))","v":""}]
[null,{"$f":"IF(BT261=\"\",\"\",IF(COUNTIF($BT261:BT261, BT261)>1, \"\", BT261))","v":""},null,null,null,null,null,null,null,null,null,null,{"$f":"IF(L261=\"\",\"\",INDEX(referentes!AK:AL,MATCH(L261,referentes!AL:AL,0),1))","v":""},"",null,260,{"$f":"IF(K261=\"\",\"\",INDEX('Otras referencias'!F:I,MATCH(K261,'Otras referencias'!I:I,0),1))","v":""},"",null,null,null,null,null,null,null,null,null,null,null,null,null,null,null,null,null,null,null,null,null,null,null,null,null,null,null,null,null,null,null,null,null,null,0,0,0,0,0,0,0,0,null,null,null,null,null,0,null,null,null,null,null,{"$f":"IF(R261<>\"\",CONCATENATE($A$2,DIGITADOR!$M$1,ROW()-2),\"\")","v":""},"",{"$f":"IF(E261=\"\",\"\",INDEX(referentes!D:E,MATCH(E261,referentes!E:E,0),1))","v":""},{"$f":"IF(F261=\"\",\"\",INDEX(referentes!J:K,MATCH(F261,referentes!K:K,0),1))","v":""},{"$f":"IF(AI261=\"\",\"\",INDEX(referentes!M:N,MATCH(AI261,referentes!N:N,0),1))","v":""},{"$f":"IF(I261=\"\",\"\",INDEX(referentes!P:Q,MATCH(I261,referentes!Q:Q,0),1))","v":""},{"$f":"IF(J261=\"\",\"\",INDEX(referentes!S:T,MATCH(J261,referentes!T:T,0),1))","v":""},{"$f":"IF(AB261=\"\",\"\",INDEX(referentes!V:W,MATCH(AB261,referentes!W:W,0),1))","v":""},{"$f":"IF(Y261=\"\",\"\",INDEX(referentes!AZ:BA,MATCH(Y261,referentes!BA:BA,0),1))","v":""},"","","","",{"$f":"IF(BP261=\"\",\"\",INDEX(referentes!AE:AF,MATCH(BP261,referentes!AF:AF,0),1))","v":""},{"$f":"IF(BQ261=\"\",\"\",INDEX(referentes!AH:AI,MATCH(BQ261,referentes!AI:AI,0),1))","v":""},null,{"$f":"IF(D261=\"\",\"\",INDEX(referentes!A:B,MATCH(D261,referentes!B:B,0),1))","v":""},{"$f":"IF(AT261=\"\",\"\",INDEX(referentes!Y:Z,MATCH(AT261,referentes!Z:Z,0),1))","v":""},{"$f":"IF(AU261=\"\",\"\",INDEX(referentes!AB:AC,MATCH(AU261,referentes!AC:AC,0),1))","v":""}]
[null,{"$f":"IF(BT262=\"\",\"\",IF(COUNTIF($BT262:BT262, BT262)>1, \"\", BT262))","v":""},null,null,null,null,null,null,null,null,null,null,{"$f":"IF(L262=\"\",\"\",INDEX(referentes!AK:AL,MATCH(L262,referentes!AL:AL,0),1))","v":""},"",null,261,{"$f":"IF(K262=\"\",\"\",INDEX('Otras referencias'!F:I,MATCH(K262,'Otras referencias'!I:I,0),1))","v":""},"",null,null,null,null,null,null,null,null,null,null,null,null,null,null,null,null,null,null,null,null,null,null,null,null,null,null,null,null,null,null,null,null,null,null,0,0,0,0,0,0,0,0,null,null,null,null,null,0,null,null,null,null,null,{"$f":"IF(R262<>\"\",CONCATENATE($A$2,DIGITADOR!$M$1,ROW()-2),\"\")","v":""},"",{"$f":"IF(E262=\"\",\"\",INDEX(referentes!D:E,MATCH(E262,referentes!E:E,0),1))","v":""},{"$f":"IF(F262=\"\",\"\",INDEX(referentes!J:K,MATCH(F262,referentes!K:K,0),1))","v":""},{"$f":"IF(AI262=\"\",\"\",INDEX(referentes!M:N,MATCH(AI262,referentes!N:N,0),1))","v":""},{"$f":"IF(I262=\"\",\"\",INDEX(referentes!P:Q,MATCH(I262,referentes!Q:Q,0),1))","v":""},{"$f":"IF(J262=\"\",\"\",INDEX(referentes!S:T,MATCH(J262,referentes!T:T,0),1))","v":""},{"$f":"IF(AB262=\"\",\"\",INDEX(referentes!V:W,MATCH(AB262,referentes!W:W,0),1))","v":""},{"$f":"IF(Y262=\"\",\"\",INDEX(referentes!AZ:BA,MATCH(Y262,referentes!BA:BA,0),1))","v":""},"","","","",{"$f":"IF(BP262=\"\",\"\",INDEX(referentes!AE:AF,MATCH(BP262,referentes!AF:AF,0),1))","v":""},{"$f":"IF(BQ262=\"\",\"\",INDEX(referentes!AH:AI,MATCH(BQ262,referentes!AI:AI,0),1))","v":""},null,{"$f":"IF(D262=\"\",\"\",INDEX(referentes!A:B,MATCH(D262,referentes!B:B,0),1))","v":""},{"$f":"IF(AT262=\"\",\"\",INDEX(referentes!Y:Z,MATCH(AT262,referentes!Z:Z,0),1))","v":""},{"$f":"IF(AU262=\"\",\"\",INDEX(referentes!AB:AC,MATCH(AU262,referentes!AC:AC,0),1))","v":""}]
[null,{"$f":"IF(BT263=\"\",\"\",IF(COUNTIF($BT263:BT263, BT263)>1, \"\", BT263))","v":""},null,null,null,null,null,null,null,null,null,null,{"$f":"IF(L263=\"\",\"\",INDEX(referentes!AK:AL,MATCH(L263,referentes!AL:AL,0),1))","v":""},"",null,262,{"$f":"IF(K263=\"\",\"\",INDEX('Otras referencias'!F:I,MATCH(K263,'Otras referencias'!I:I,0),1))","v":""},"",null,null,null,null,null,null,null,null,null,null,null,null,null,null,null,null,null,null,null,null,null,null,null,null,null,null,null,null,null,null,null,null,null,null,0,0,0,0,0,0,0,0,null,null,null,null,null,0,null,null,null,null,null,{"$f":"IF(R263<>\"\",CONCATENATE($A$2,DIGITADOR!$M$1,ROW()-2),\"\")","v":""},"",{"$f":"IF(E263=\"\",\"\",INDEX(referentes!D:E,MATCH(E263,referentes!E:E,0),1))","v":""},{"$f":"IF(F263=\"\",\"\",INDEX(referentes!J:K,MATCH(F263,referentes!K:K,0),1))","v":""},{"$f":"IF(AI263=\"\",\"\",INDEX(referentes!M:N,MATCH(AI263,referentes!N:N,0),1))","v":""},{"$f":"IF(I263=\"\",\"\",INDEX(referentes!P:Q,MATCH(I263,referentes!Q:Q,0),1))","v":""},{"$f":"IF(J263=\"\",\"\",INDEX(referentes!S:T,MATCH(J263,referentes!T:T,0),1))","v":""},{"$f":"IF(AB263=\"\",\"\",INDEX(referentes!V:W,MATCH(AB263,referentes!W:W,0),1))","v":""},{"$f":"IF(Y263=\"\",\"\",INDEX(referentes!AZ:BA,MATCH(Y263,referentes!BA:BA,0),1))","v":""},"","","","",{"$f":"IF(BP263=\"\",\"\",INDEX(referentes!AE:AF,MATCH(BP263,referentes!AF:AF,0),1))","v":""},{"$f":"IF(BQ263=\"\",\"\",INDEX(referentes!AH:AI,MATCH(BQ263,referentes!AI:AI,0),1))","v":""},null,{"$f":"IF(D263=\"\",\"\",INDEX(referentes!A:B,MATCH(D263,referentes!B:B,0),1))","v":""},{"$f":"IF(AT263=\"\",\"\",INDEX(referentes!Y:Z,MATCH(AT263,referentes!Z:Z,0),1))","v":""},{"$f":"IF(AU263=\"\",\"\",INDEX(referentes!AB:AC,MATCH(AU263,referentes!AC:AC,0),1))","v":""}]
[null,{"$f":"IF(BT264=\"\",\"\",IF(COUNTIF($BT264:BT264, BT264)>1, \"\", BT264))","v":""},null,null,null,null,null,null,null,null,null,null,{"$f":"IF(L264=\"\",\"\",INDEX(referentes!AK:AL,MATCH(L264,referentes!AL:AL,0),1))","v":""},"",null,263,{"$f":"IF(K264=\"\",\"\",INDEX('Otras referencias'!F:I,MATCH(K264,'Otras referencias'!I:I,0),1))","v":""},"",null,null,null,null,null,null,null,null,null,null,null,null,null,null,null,null,null,null,null,null,null,null,null,null,null,null,null,null,null,null,null,null,null,null,0,0,0,0,0,0,0,0,null,null,null,null,null,0,null,null,null,null,null,{"$f":"IF(R264<>\"\",CONCATENATE($A$2,DIGITADOR!$M$1,ROW()-2),\"\")","v":""},"",{"$f":"IF(E264=\"\",\"\",INDEX(referentes!D:E,MATCH(E264,referentes!E:E,0),1))","v":""},{"$f":"IF(F264=\"\",\"\",INDEX(referentes!J:K,MATCH(F264,referentes!K:K,0),1))","v":""},{"$f":"IF(AI264=\"\",\"\",INDEX(referentes!M:N,MATCH(AI264,referentes!N:N,0),1))","v":""},{"$f":"IF(I264=\"\",\"\",INDEX(referentes!P:Q,MATCH(I264,referentes!Q:Q,0),1))","v":""},{"$f":"IF(J264=\"\",\"\",INDEX(referentes!S:T,MATCH(J264,referentes!T:T,0),1))","v":""},{"$f":"IF(AB264=\"\",\"\",INDEX(referentes!V:W,MATCH(AB264,referentes!W:W,0),1))","v":""},{"$f":"IF(Y264=\"\",\"\",INDEX(referentes!AZ:BA,MATCH(Y264,referentes!BA:BA,0),1))","v":""},"","","","",{"$f":"IF(BP264=\"\",\"\",INDEX(referentes!AE:AF,MATCH(BP264,referentes!AF:AF,0),1))","v":""},{"$f":"IF(BQ264=\"\",\"\",INDEX(referentes!AH:AI,MATCH(BQ264,referentes!AI:AI,0),1))","v":""},null,{"$f":"IF(D264=\"\",\"\",INDEX(referentes!A:B,MATCH(D264,referentes!B:B,0),1))","v":""},{"$f":"IF(AT264=\"\",\"\",INDEX(referentes!Y:Z,MATCH(AT264,referentes!Z:Z,0),1))","v":""},{"$f":"IF(AU264=\"\",\"\",INDEX(referentes!AB:AC,MATCH(AU264,referentes!AC:AC,0),1))","v":""}]
[null,{"$f":"IF(BT265=\"\",\"\",IF(COUNTIF($BT265:BT265, BT265)>1, \"\", BT265))","v":""},null,null,null,null,null,null,null,null,null,null,{"$f":"IF(L265=\"\",\"\",INDEX(referentes!AK:AL,MATCH(L265,referentes!AL:AL,0),1))","v":""},"",null,264,{"$f":"IF(K265=\"\",\"\",INDEX('Otras referencias'!F:I,MATCH(K265,'Otras referencias'!I:I,0),1))","v":""},"",null,null,null,null,null,null,null,null,null,null,null,null,null,null,null,null,null,null,null,null,null,null,null,null,null,null,null,null,null,null,null,null,null,null,0,0,0,0,0,0,0,0,null,null,null,null,null,0,null,null,null,null,null,{"$f":"IF(R265<>\"\",CONCATENATE($A$2,DIGITADOR!$M$1,ROW()-2),\"\")","v":""},"",{"$f":"IF(E265=\"\",\"\",INDEX(referentes!D:E,MATCH(E265,referentes!E:E,0),1))","v":""},{"$f":"IF(F265=\"\",\"\",INDEX(referentes!J:K,MATCH(F265,referentes!K:K,0),1))","v":""},{"$f":"IF(AI265=\"\",\"\",INDEX(referentes!M:N,MATCH(AI265,referentes!N:N,0),1))","v":""},{"$f":"IF(I265=\"\",\"\",INDEX(referentes!P:Q,MATCH(I265,referentes!Q:Q,0),1))","v":""},{"$f":"IF(J265=\"\",\"\",INDEX(referentes!S:T,MATCH(J265,referentes!T:T,0),1))","v":""},{"$f":"IF(AB265=\"\",\"\",INDEX(referentes!V:W,MATCH(AB265,referentes!W:W,0),1))","v":""},{"$f":"IF(Y265=\"\",\"\",INDEX(referentes!AZ:BA,MATCH(Y265,referentes!BA:BA,0),1))","v":""},"","","","",{"$f":"IF(BP265=\"\",\"\",INDEX(referentes!AE:AF,MATCH(BP265,referentes!AF:AF,0),1))","v":""},{"$f":"IF(BQ265=\"\",\"\",INDEX(referentes!AH:AI,MATCH(BQ265,referentes!AI:AI,0),1))","v":""},null,{"$f":"IF(D265=\"\",\"\",INDEX(referentes!A:B,MATCH(D265,referentes!B:B,0),1))","v":""},{"$f":"IF(AT265=\"\",\"\",INDEX(referentes!Y:Z,MATCH(AT265,referentes!Z:Z,0),1))","v":""},{"$f":"IF(AU265=\"\",\"\",INDEX(referentes!AB:AC,MATCH(AU265,referentes!AC:AC,0),1))","v":""}]
[null,{"$f":"IF(BT266=\"\",\"\",IF(COUNTIF($BT266:BT266, BT266)>1, \"\", BT266))","v":""},null,null,null,null,null,null,null,null,null,null,{"$f":"IF(L266=\"\",\"\",INDEX(referentes!AK:AL,MATCH(L266,referentes!AL:AL,0),1))","v":""},"",null,265,{"$f":"IF(K266=\"\",\"\",INDEX('Otras referencias'!F:I,MATCH(K266,'Otras referencias'!I:I,0),1))","v":""},"",null,null,null,null,null,null,null,null,null,null,null,null,null,null,null,null,null,null,null,null,null,null,null,null,null,null,null,null,null,null,null,null,null,null,0,0,0,0,0,0,0,0,null,null,null,null,null,0,null,null,null,null,null,{"$f":"IF(R266<>\"\",CONCATENATE($A$2,DIGITADOR!$M$1,ROW()-2),\"\")","v":""},"",{"$f":"IF(E266=\"\",\"\",INDEX(referentes!D:E,MATCH(E266,referentes!E:E,0),1))","v":""},{"$f":"IF(F266=\"\",\"\",INDEX(referentes!J:K,MATCH(F266,referentes!K:K,0),1))","v":""},{"$f":"IF(AI266=\"\",\"\",INDEX(referentes!M:N,MATCH(AI266,referentes!N:N,0),1))","v":""},{"$f":"IF(I266=\"\",\"\",INDEX(referentes!P:Q,MATCH(I266,referentes!Q:Q,0),1))","v":""},{"$f":"IF(J266=\"\",\"\",INDEX(referentes!S:T,MATCH(J266,referentes!T:T,0),1))","v":""},{"$f":"IF(AB266=\"\",\"\",INDEX(referentes!V:W,MATCH(AB266,referentes!W:W,0),1))","v":""},{"$f":"IF(Y266=\"\",\"\",INDEX(referentes!AZ:BA,MATCH(Y266,referentes!BA:BA,0),1))","v":""},"","","","",{"$f":"IF(BP266=\"\",\"\",INDEX(referentes!AE:AF,MATCH(BP266,referentes!AF:AF,0),1))","v":""},{"$f":"IF(BQ266=\"\",\"\",INDEX(referentes!AH:AI,MATCH(BQ266,referentes!AI:AI,0),1))","v":""},null,{"$f":"IF(D266=\"\",\"\",INDEX(referentes!A:B,MATCH(D266,referentes!B:B,0),1))","v":""},{"$f":"IF(AT266=\"\",\"\",INDEX(referentes!Y:Z,MATCH(AT266,referentes!Z:Z,0),1))","v":""},{"$f":"IF(AU266=\"\",\"\",INDEX(referentes!AB:AC,MATCH(AU266,referentes!AC:AC,0),1))","v":""}]
[null,{"$f":"IF(BT267=\"\",\"\",IF(COUNTIF($BT267:BT267, BT267)>1, \"\", BT267))","v":""},null,null,null,null,null,null,null,null,null,null,{"$f":"IF(L267=\"\",\"\",INDEX(referentes!AK:AL,MATCH(L267,referentes!AL:AL,0),1))","v":""},"",null,266,{"$f":"IF(K267=\"\",\"\",INDEX('Otras referencias'!F:I,MATCH(K267,'Otras referencias'!I:I,0),1))","v":""},"",null,null,null,null,null,null,null,null,null,null,null,null,null,null,null,null,null,null,null,null,null,null,null,null,null,null,null,null,null,null,null,null,null,null,0,0,0,0,0,0,0,0,null,null,null,null,null,0,null,null,null,null,null,{"$f":"IF(R267<>\"\",CONCATENATE($A$2,DIGITADOR!$M$1,ROW()-2),\"\")","v":""},"",{"$f":"IF(E267=\"\",\"\",INDEX(referentes!D:E,MATCH(E267,referentes!E:E,0),1))","v":""},{"$f":"IF(F267=\"\",\"\",INDEX(referentes!J:K,MATCH(F267,referentes!K:K,0),1))","v":""},{"$f":"IF(AI267=\"\",\"\",INDEX(referentes!M:N,MATCH(AI267,referentes!N:N,0),1))","v":""},{"$f":"IF(I267=\"\",\"\",INDEX(referentes!P:Q,MATCH(I267,referentes!Q:Q,0),1))","v":""},{"$f":"IF(J267=\"\",\"\",INDEX(referentes!S:T,MATCH(J267,referentes!T:T,0),1))","v":""},{"$f":"IF(AB267=\"\",\"\",INDEX(referentes!V:W,MATCH(AB267,referentes!W:W,0),1))","v":""},{"$f":"IF(Y267=\"\",\"\",INDEX(referentes!AZ:BA,MATCH(Y267,referentes!BA:BA,0),1))","v":""},"","","","",{"$f":"IF(BP267=\"\",\"\",INDEX(referentes!AE:AF,MATCH(BP267,referentes!AF:AF,0),1))","v":""},{"$f":"IF(BQ267=\"\",\"\",INDEX(referentes!AH:AI,MATCH(BQ267,referentes!AI:AI,0),1))","v":""},null,{"$f":"IF(D267=\"\",\"\",INDEX(referentes!A:B,MATCH(D267,referentes!B:B,0),1))","v":""},{"$f":"IF(AT267=\"\",\"\",INDEX(referentes!Y:Z,MATCH(AT267,referentes!Z:Z,0),1))","v":""},{"$f":"IF(AU267=\"\",\"\",INDEX(referentes!AB:AC,MATCH(AU267,referentes!AC:AC,0),1))","v":""}]
[null,{"$f":"IF(BT268=\"\",\"\",IF(COUNTIF($BT268:BT268, BT268)>1, \"\", BT268))","v":""},null,null,null,null,null,null,null,null,null,null,{"$f":"IF(L268=\"\",\"\",INDEX(referentes!AK:AL,MATCH(L268,referentes!AL:AL,0),1))","v":""},"",null,267,{"$f":"IF(K268=\"\",\"\",INDEX('Otras referencias'!F:I,MATCH(K268,'Otras referencias'!I:I,0),1))","v":""},"",null,null,null,null,null,null,null,null,null,null,null,null,null,null,null,null,null,null,null,null,null,null,null,null,null,null,null,null,null,null,null,null,null,null,0,0,0,0,0,0,0,0,null,null,null,null,null,0,null,null,null,null,null,{"$f":"IF(R268<>\"\",CONCATENATE($A$2,DIGITADOR!$M$1,ROW()-2),\"\")","v":""},"",{"$f":"IF(E268=\"\",\"\",INDEX(referentes!D:E,MATCH(E268,referentes!E:E,0),1))","v":""},{"$f":"IF(F268=\"\",\"\",INDEX(referentes!J:K,MATCH(F268,referentes!K:K,0),1))","v":""},{"$f":"IF(AI268=\"\",\"\",INDEX(referentes!M:N,MATCH(AI268,referentes!N:N,0),1))","v":""},{"$f":"IF(I268=\"\",\"\",INDEX(referentes!P:Q,MATCH(I268,referentes!Q:Q,0),1))","v":""},{"$f":"IF(J268=\"\",\"\",INDEX(referentes!S:T,MATCH(J268,referentes!T:T,0),1))","v":""},{"$f":"IF(AB268=\"\",\"\",INDEX(referentes!V:W,MATCH(AB268,referentes!W:W,0),1))","v":""},{"$f":"IF(Y268=\"\",\"\",INDEX(referentes!AZ:BA,MATCH(Y268,referentes!BA:BA,0),1))","v":""},"","","","",{"$f":"IF(BP268=\"\",\"\",INDEX(referentes!AE:AF,MATCH(BP268,referentes!AF:AF,0),1))","v":""},{"$f":"IF(BQ268=\"\",\"\",INDEX(referentes!AH:AI,MATCH(BQ268,referentes!AI:AI,0),1))","v":""},null,{"$f":"IF(D268=\"\",\"\",INDEX(referentes!A:B,MATCH(D268,referentes!B:B,0),1))","v":""},{"$f":"IF(AT268=\"\",\"\",INDEX(referentes!Y:Z,MATCH(AT268,referentes!Z:Z,0),1))","v":""},{"$f":"IF(AU268=\"\",\"\",INDEX(referentes!AB:AC,MATCH(AU268,referentes!AC:AC,0),1))","v":""}]
[null,{"$f":"IF(BT269=\"\",\"\",IF(COUNTIF($BT269:BT269, BT269)>1, \"\", BT269))","v":""},null,null,null,null,null,null,null,null,null,null,{"$f":"IF(L269=\"\",\"\",INDEX(referentes!AK:AL,MATCH(L269,referentes!AL:AL,0),1))","v":""},"",null,268,{"$f":"IF(K269=\"\",\"\",INDEX('Otras referencias'!F:I,MATCH(K269,'Otras referencias'!I:I,0),1))","v":""},"",null,null,null,null,null,null,null,null,null,null,null,null,null,null,null,null,null,null,null,null,null,null,null,null,null,null,null,null,null,null,null,null,null,null,0,0,0,0,0,0,0,0,null,null,null,null,null,0,null,null,null,null,null,{"$f":"IF(R269<>\"\",CONCATENATE($A$2,DIGITADOR!$M$1,ROW()-2),\"\")","v":""},"",{"$f":"IF(E269=\"\",\"\",INDEX(referentes!D:E,MATCH(E269,referentes!E:E,0),1))","v":""},{"$f":"IF(F269=\"\",\"\",INDEX(referentes!J:K,MATCH(F269,referentes!K:K,0),1))","v":""},{"$f":"IF(AI269=\"\",\"\",INDEX(referentes!M:N,MATCH(AI269,referentes!N:N,0),1))","v":""},{"$f":"IF(I269=\"\",\"\",INDEX(referentes!P:Q,MATCH(I269,referentes!Q:Q,0),1))","v":""},{"$f":"IF(J269=\"\",\"\",INDEX(referentes!S:T,MATCH(J269,referentes!T:T,0),1))","v":""},{"$f":"IF(AB269=\"\",\"\",INDEX(referentes!V:W,MATCH(AB269,referentes!W:W,0),1))","v":""},{"$f":"IF(Y269=\"\",\"\",INDEX(referentes!AZ:BA,MATCH(Y269,referentes!BA:BA,0),1))","v":""},"","","","",{"$f":"IF(BP269=\"\",\"\",INDEX(referentes!AE:AF,MATCH(BP269,referentes!AF:AF,0),1))","v":""},{"$f":"IF(BQ269=\"\",\"\",INDEX(referentes!AH:AI,MATCH(BQ269,referentes!AI:AI,0),1))","v":""},null,{"$f":"IF(D269=\"\",\"\",INDEX(referentes!A:B,MATCH(D269,referentes!B:B,0),1))","v":""},{"$f":"IF(AT269=\"\",\"\",INDEX(referentes!Y:Z,MATCH(AT269,referentes!Z:Z,0),1))","v":""},{"$f":"IF(AU269=\"\",\"\",INDEX(referentes!AB:AC,MATCH(AU269,referentes!AC:AC,0),1))","v":""}]
[null,{"$f":"IF(BT270=\"\",\"\",IF(COUNTIF($BT270:BT270, BT270)>1, \"\", BT270))","v":""},null,null,null,null,null,null,null,null,null,null,{"$f":"IF(L270=\"\",\"\",INDEX(referentes!AK:AL,MATCH(L270,referentes!AL:AL,0),1))","v":""},"",null,269,{"$f":"IF(K270=\"\",\"\",INDEX('Otras referencias'!F:I,MATCH(K270,'Otras referencias'!I:I,0),1))","v":""},"",null,null,null,null,null,null,null,null,null,null,null,null,null,null,null,null,null,null,null,null,null,null,null,null,null,null,null,null,null,null,null,null,null,null,0,0,0,0,0,0,0,0,null,null,null,null,null,0,null,null,null,null,null,{"$f":"IF(R270<>\"\",CONCATENATE($A$2,DIGITADOR!$M$1,ROW()-2),\"\")","v":""},"",{"$f":"IF(E270=\"\",\"\",INDEX(referentes!D:E,MATCH(E270,referentes!E:E,0),1))","v":""},{"$f":"IF(F270=\"\",\"\",INDEX(referentes!J:K,MATCH(F270,referentes!K:K,0),1))","v":""},{"$f":"IF(AI270=\"\",\"\",INDEX(referentes!M:N,MATCH(AI270,referentes!N:N,0),1))","v":""},{"$f":"IF(I270=\"\",\"\",INDEX(referentes!P:Q,MATCH(I270,referentes!Q:Q,0),1))","v":""},{"$f":"IF(J270=\"\",\"\",INDEX(referentes!S:T,MATCH(J270,referentes!T:T,0),1))","v":""},{"$f":"IF(AB270=\"\",\"\",INDEX(referentes!V:W,MATCH(AB270,referentes!W:W,0),1))","v":""},{"$f":"IF(Y270=\"\",\"\",INDEX(referentes!AZ:BA,MATCH(Y270,referentes!BA:BA,0),1))","v":""},"","","","",{"$f":"IF(BP270=\"\",\"\",INDEX(referentes!AE:AF,MATCH(BP270,referentes!AF:AF,0),1))","v":""},{"$f":"IF(BQ270=\"\",\"\",INDEX(referentes!AH:AI,MATCH(BQ270,referentes!AI:AI,0),1))","v":""},null,{"$f":"IF(D270=\"\",\"\",INDEX(referentes!A:B,MATCH(D270,referentes!B:B,0),1))","v":""},{"$f":"IF(AT270=\"\",\"\",INDEX(referentes!Y:Z,MATCH(AT270,referentes!Z:Z,0),1))","v":""},{"$f":"IF(AU270=\"\",\"\",INDEX(referentes!AB:AC,MATCH(AU270,referentes!AC:AC,0),1))","v":""}]
[null,{"$f":"IF(BT271=\"\",\"\",IF(COUNTIF($BT271:BT271, BT271)>1, \"\", BT271))","v":""},null,null,null,null,null,null,null,null,null,null,{"$f":"IF(L271=\"\",\"\",INDEX(referentes!AK:AL,MATCH(L271,referentes!AL:AL,0),1))","v":""},"",null,270,{"$f":"IF(K271=\"\",\"\",INDEX('Otras referencias'!F:I,MATCH(K271,'Otras referencias'!I:I,0),1))","v":""},"",null,null,null,null,null,null,null,null,null,null,null,null,null,null,null,null,null,null,null,null,null,null,null,null,null,null,null,null,null,null,null,null,null,null,0,0,0,0,0,0,0,0,null,null,null,null,null,0,null,null,null,null,null,{"$f":"IF(R271<>\"\",CONCATENATE($A$2,DIGITADOR!$M$1,ROW()-2),\"\")","v":""},"",{"$f":"IF(E271=\"\",\"\",INDEX(referentes!D:E,MATCH(E271,referentes!E:E,0),1))","v":""},{"$f":"IF(F271=\"\",\"\",INDEX(referentes!J:K,MATCH(F271,referentes!K:K,0),1))","v":""},{"$f":"IF(AI271=\"\",\"\",INDEX(referentes!M:N,MATCH(AI271,referentes!N:N,0),1))","v":""},{"$f":"IF(I271=\"\",\"\",INDEX(referentes!P:Q,MATCH(I271,referentes!Q:Q,0),1))","v":""},{"$f":"IF(J271=\"\",\"\",INDEX(referentes!S:T,MATCH(J271,referentes!T:T,0),1))","v":""},{"$f":"IF(AB271=\"\",\"\",INDEX(referentes!V:W,MATCH(AB271,referentes!W:W,0),1))","v":""},{"$f":"IF(Y271=\"\",\"\",INDEX(referentes!AZ:BA,MATCH(Y271,referentes!BA:BA,0),1))","v":""},"","","","",{"$f":"IF(BP271=\"\",\"\",INDEX(referentes!AE:AF,MATCH(BP271,referentes!AF:AF,0),1))","v":""},{"$f":"IF(BQ271=\"\",\"\",INDEX(referentes!AH:AI,MATCH(BQ271,referentes!AI:AI,0),1))","v":""},null,{"$f":"IF(D271=\"\",\"\",INDEX(referentes!A:B,MATCH(D271,referentes!B:B,0),1))","v":""},{"$f":"IF(AT271=\"\",\"\",INDEX(referentes!Y:Z,MATCH(AT271,referentes!Z:Z,0),1))","v":""},{"$f":"IF(AU271=\"\",\"\",INDEX(referentes!AB:AC,MATCH(AU271,referentes!AC:AC,0),1))","v":""}]
[null,{"$f":"IF(BT272=\"\",\"\",IF(COUNTIF($BT272:BT272, BT272)>1, \"\", BT272))","v":""},null,null,null,null,null,null,null,null,null,null,{"$f":"IF(L272=\"\",\"\",INDEX(referentes!AK:AL,MATCH(L272,referentes!AL:AL,0),1))","v":""},"",null,271,{"$f":"IF(K272=\"\",\"\",INDEX('Otras referencias'!F:I,MATCH(K272,'Otras referencias'!I:I,0),1))","v":""},"",null,null,null,null,null,null,null,null,null,null,null,null,null,null,null,null,null,null,null,null,null,null,null,null,null,null,null,null,null,null,null,null,null,null,0,0,0,0,0,0,0,0,null,null,null,null,null,0,null,null,null,null,null,{"$f":"IF(R272<>\"\",CONCATENATE($A$2,DIGITADOR!$M$1,ROW()-2),\"\")","v":""},"",{"$f":"IF(E272=\"\",\"\",INDEX(referentes!D:E,MATCH(E272,referentes!E:E,0),1))","v":""},{"$f":"IF(F272=\"\",\"\",INDEX(referentes!J:K,MATCH(F272,referentes!K:K,0),1))","v":""},{"$f":"IF(AI272=\"\",\"\",INDEX(referentes!M:N,MATCH(AI272,referentes!N:N,0),1))","v":""},{"$f":"IF(I272=\"\",\"\",INDEX(referentes!P:Q,MATCH(I272,referentes!Q:Q,0),1))","v":""},{"$f":"IF(J272=\"\",\"\",INDEX(referentes!S:T,MATCH(J272,referentes!T:T,0),1))","v":""},{"$f":"IF(AB272=\"\",\"\",INDEX(referentes!V:W,MATCH(AB272,referentes!W:W,0),1))","v":""},{"$f":"IF(Y272=\"\",\"\",INDEX(referentes!AZ:BA,MATCH(Y272,referentes!BA:BA,0),1))","v":""},"","","","",{"$f":"IF(BP272=\"\",\"\",INDEX(referentes!AE:AF,MATCH(BP272,referentes!AF:AF,0),1))","v":""},{"$f":"IF(BQ272=\"\",\"\",INDEX(referentes!AH:AI,MATCH(BQ272,referentes!AI:AI,0),1))","v":""},null,{"$f":"IF(D272=\"\",\"\",INDEX(referentes!A:B,MATCH(D272,referentes!B:B,0),1))","v":""},{"$f":"IF(AT272=\"\",\"\",INDEX(referentes!Y:Z,MATCH(AT272,referentes!Z:Z,0),1))","v":""},{"$f":"IF(AU272=\"\",\"\",INDEX(referentes!AB:AC,MATCH(AU272,referentes!AC:AC,0),1))","v":""}]
[null,{"$f":"IF(BT273=\"\",\"\",IF(COUNTIF($BT273:BT273, BT273)>1, \"\", BT273))","v":""},null,null,null,null,null,null,null,null,null,null,{"$f":"IF(L273=\"\",\"\",INDEX(referentes!AK:AL,MATCH(L273,referentes!AL:AL,0),1))","v":""},"",null,272,{"$f":"IF(K273=\"\",\"\",INDEX('Otras referencias'!F:I,MATCH(K273,'Otras referencias'!I:I,0),1))","v":""},"",null,null,null,null,null,null,null,null,null,null,null,null,null,null,null,null,null,null,null,null,null,null,null,null,null,null,null,null,null,null,null,null,null,null,0,0,0,0,0,0,0,0,null,null,null,null,null,0,null,null,null,null,null,{"$f":"IF(R273<>\"\",CONCATENATE($A$2,DIGITADOR!$M$1,ROW()-2),\"\")","v":""},"",{"$f":"IF(E273=\"\",\"\",INDEX(referentes!D:E,MATCH(E273,referentes!E:E,0),1))","v":""},{"$f":"IF(F273=\"\",\"\",INDEX(referentes!J:K,MATCH(F273,referentes!K:K,0),1))","v":""},{"$f":"IF(AI273=\"\",\"\",INDEX(referentes!M:N,MATCH(AI273,referentes!N:N,0),1))","v":""},{"$f":"IF(I273=\"\",\"\",INDEX(referentes!P:Q,MATCH(I273,referentes!Q:Q,0),1))","v":""},{"$f":"IF(J273=\"\",\"\",INDEX(referentes!S:T,MATCH(J273,referentes!T:T,0),1))","v":""},{"$f":"IF(AB273=\"\",\"\",INDEX(referentes!V:W,MATCH(AB273,referentes!W:W,0),1))","v":""},{"$f":"IF(Y273=\"\",\"\",INDEX(referentes!AZ:BA,MATCH(Y273,referentes!BA:BA,0),1))","v":""},"","","","",{"$f":"IF(BP273=\"\",\"\",INDEX(referentes!AE:AF,MATCH(BP273,referentes!AF:AF,0),1))","v":""},{"$f":"IF(BQ273=\"\",\"\",INDEX(referentes!AH:AI,MATCH(BQ273,referentes!AI:AI,0),1))","v":""},null,{"$f":"IF(D273=\"\",\"\",INDEX(referentes!A:B,MATCH(D273,referentes!B:B,0),1))","v":""},{"$f":"IF(AT273=\"\",\"\",INDEX(referentes!Y:Z,MATCH(AT273,referentes!Z:Z,0),1))","v":""},{"$f":"IF(AU273=\"\",\"\",INDEX(referentes!AB:AC,MATCH(AU273,referentes!AC:AC,0),1))","v":""}]
[null,{"$f":"IF(BT274=\"\",\"\",IF(COUNTIF($BT274:BT274, BT274)>1, \"\", BT274))","v":""},null,null,null,null,null,null,null,null,null,null,{"$f":"IF(L274=\"\",\"\",INDEX(referentes!AK:AL,MATCH(L274,referentes!AL:AL,0),1))","v":""},"",null,273,{"$f":"IF(K274=\"\",\"\",INDEX('Otras referencias'!F:I,MATCH(K274,'Otras referencias'!I:I,0),1))","v":""},"",null,null,null,null,null,null,null,null,null,null,null,null,null,null,null,null,null,null,null,null,null,null,null,null,null,null,null,null,null,null,null,null,null,null,0,0,0,0,0,0,0,0,null,null,null,null,null,0,null,null,null,null,null,{"$f":"IF(R274<>\"\",CONCATENATE($A$2,DIGITADOR!$M$1,ROW()-2),\"\")","v":""},"",{"$f":"IF(E274=\"\",\"\",INDEX(referentes!D:E,MATCH(E274,referentes!E:E,0),1))","v":""},{"$f":"IF(F274=\"\",\"\",INDEX(referentes!J:K,MATCH(F274,referentes!K:K,0),1))","v":""},{"$f":"IF(AI274=\"\",\"\",INDEX(referentes!M:N,MATCH(AI274,referentes!N:N,0),1))","v":""},{"$f":"IF(I274=\"\",\"\",INDEX(referentes!P:Q,MATCH(I274,referentes!Q:Q,0),1))","v":""},{"$f":"IF(J274=\"\",\"\",INDEX(referentes!S:T,MATCH(J274,referentes!T:T,0),1))","v":""},{"$f":"IF(AB274=\"\",\"\",INDEX(referentes!V:W,MATCH(AB274,referentes!W:W,0),1))","v":""},{"$f":"IF(Y274=\"\",\"\",INDEX(referentes!AZ:BA,MATCH(Y274,referentes!BA:BA,0),1))","v":""},"","","","",{"$f":"IF(BP274=\"\",\"\",INDEX(referentes!AE:AF,MATCH(BP274,referentes!AF:AF,0),1))","v":""},{"$f":"IF(BQ274=\"\",\"\",INDEX(referentes!AH:AI,MATCH(BQ274,referentes!AI:AI,0),1))","v":""},null,{"$f":"IF(D274=\"\",\"\",INDEX(referentes!A:B,MATCH(D274,referentes!B:B,0),1))","v":""},{"$f":"IF(AT274=\"\",\"\",INDEX(referentes!Y:Z,MATCH(AT274,referentes!Z:Z,0),1))","v":""},{"$f":"IF(AU274=\"\",\"\",INDEX(referentes!AB:AC,MATCH(AU274,referentes!AC:AC,0),1))","v":""}]
[null,{"$f":"IF(BT275=\"\",\"\",IF(COUNTIF($BT275:BT275, BT275)>1, \"\", BT275))","v":""},null,null,null,null,null,null,null,null,null,null,{"$f":"IF(L275=\"\",\"\",INDEX(referentes!AK:AL,MATCH(L275,referentes!AL:AL,0),1))","v":""},"",null,274,{"$f":"IF(K275=\"\",\"\",INDEX('Otras referencias'!F:I,MATCH(K275,'Otras referencias'!I:I,0),1))","v":""},"",null,null,null,null,null,null,null,null,null,null,null,null,null,null,null,null,null,null,null,null,null,null,null,null,null,null,null,null,null,null,null,null,null,null,0,0,0,0,0,0,0,0,null,null,null,null,null,0,null,null,null,null,null,{"$f":"IF(R275<>\"\",CONCATENATE($A$2,DIGITADOR!$M$1,ROW()-2),\"\")","v":""},"",{"$f":"IF(E275=\"\",\"\",INDEX(referentes!D:E,MATCH(E275,referentes!E:E,0),1))","v":""},{"$f":"IF(F275=\"\",\"\",INDEX(referentes!J:K,MATCH(F275,referentes!K:K,0),1))","v":""},{"$f":"IF(AI275=\"\",\"\",INDEX(referentes!M:N,MATCH(AI275,referentes!N:N,0),1))","v":""},{"$f":"IF(I275=\"\",\"\",INDEX(referentes!P:Q,MATCH(I275,referentes!Q:Q,0),1))","v":""},{"$f":"IF(J275=\"\",\"\",INDEX(referentes!S:T,MATCH(J275,referentes!T:T,0),1))","v":""},{"$f":"IF(AB275=\"\",\"\",INDEX(referentes!V:W,MATCH(AB275,referentes!W:W,0),1))","v":""},{"$f":"IF(Y275=\"\",\"\",INDEX(referentes!AZ:BA,MATCH(Y275,referentes!BA:BA,0),1))","v":""},"","","","",{"$f":"IF(BP275=\"\",\"\",INDEX(referentes!AE:AF,MATCH(BP275,referentes!AF:AF,0),1))","v":""},{"$f":"IF(BQ275=\"\",\"\",INDEX(referentes!AH:AI,MATCH(BQ275,referentes!AI:AI,0),1))","v":""},null,{"$f":"IF(D275=\"\",\"\",INDEX(referentes!A:B,MATCH(D275,referentes!B:B,0),1))","v":""},{"$f":"IF(AT275=\"\",\"\",INDEX(referentes!Y:Z,MATCH(AT275,referentes!Z:Z,0),1))","v":""},{"$f":"IF(AU275=\"\",\"\",INDEX(referentes!AB:AC,MATCH(AU275,referentes!AC:AC,0),1))","v":""}]
[null,{"$f":"IF(BT276=\"\",\"\",IF(COUNTIF($BT276:BT276, BT276)>1, \"\", BT276))","v":""},null,null,null,null,null,null,null,null,null,null,{"$f":"IF(L276=\"\",\"\",INDEX(referentes!AK:AL,MATCH(L276,referentes!AL:AL,0),1))","v":""},"",null,275,{"$f":"IF(K276=\"\",\"\",INDEX('Otras referencias'!F:I,MATCH(K276,'Otras referencias'!I:I,0),1))","v":""},"",null,null,null,null,null,null,null,null,null,null,null,null,null,null,null,null,null,null,null,null,null,null,null,null,null,null,null,null,null,null,null,null,null,null,0,0,0,0,0,0,0,0,null,null,null,null,null,0,null,null,null,null,null,{"$f":"IF(R276<>\"\",CONCATENATE($A$2,DIGITADOR!$M$1,ROW()-2),\"\")","v":""},"",{"$f":"IF(E276=\"\",\"\",INDEX(referentes!D:E,MATCH(E276,referentes!E:E,0),1))","v":""},{"$f":"IF(F276=\"\",\"\",INDEX(referentes!J:K,MATCH(F276,referentes!K:K,0),1))","v":""},{"$f":"IF(AI276=\"\",\"\",INDEX(referentes!M:N,MATCH(AI276,referentes!N:N,0),1))","v":""},{"$f":"IF(I276=\"\",\"\",INDEX(referentes!P:Q,MATCH(I276,referentes!Q:Q,0),1))","v":""},{"$f":"IF(J276=\"\",\"\",INDEX(referentes!S:T,MATCH(J276,referentes!T:T,0),1))","v":""},{"$f":"IF(AB276=\"\",\"\",INDEX(referentes!V:W,MATCH(AB276,referentes!W:W,0),1))","v":""},{"$f":"IF(Y276=\"\",\"\",INDEX(referentes!AZ:BA,MATCH(Y276,referentes!BA:BA,0),1))","v":""},"","","","",{"$f":"IF(BP276=\"\",\"\",INDEX(referentes!AE:AF,MATCH(BP276,referentes!AF:AF,0),1))","v":""},{"$f":"IF(BQ276=\"\",\"\",INDEX(referentes!AH:AI,MATCH(BQ276,referentes!AI:AI,0),1))","v":""},null,{"$f":"IF(D276=\"\",\"\",INDEX(referentes!A:B,MATCH(D276,referentes!B:B,0),1))","v":""},{"$f":"IF(AT276=\"\",\"\",INDEX(referentes!Y:Z,MATCH(AT276,referentes!Z:Z,0),1))","v":""},{"$f":"IF(AU276=\"\",\"\",INDEX(referentes!AB:AC,MATCH(AU276,referentes!AC:AC,0),1))","v":""}]
[null,{"$f":"IF(BT277=\"\",\"\",IF(COUNTIF($BT277:BT277, BT277)>1, \"\", BT277))","v":""},null,null,null,null,null,null,null,null,null,null,{"$f":"IF(L277=\"\",\"\",INDEX(referentes!AK:AL,MATCH(L277,referentes!AL:AL,0),1))","v":""},"",null,276,{"$f":"IF(K277=\"\",\"\",INDEX('Otras referencias'!F:I,MATCH(K277,'Otras referencias'!I:I,0),1))","v":""},"",null,null,null,null,null,null,null,null,null,null,null,null,null,null,null,null,null,null,null,null,null,null,null,null,null,null,null,null,null,null,null,null,null,null,0,0,0,0,0,0,0,0,null,null,null,null,null,0,null,null,null,null,null,{"$f":"IF(R277<>\"\",CONCATENATE($A$2,DIGITADOR!$M$1,ROW()-2),\"\")","v":""},"",{"$f":"IF(E277=\"\",\"\",INDEX(referentes!D:E,MATCH(E277,referentes!E:E,0),1))","v":""},{"$f":"IF(F277=\"\",\"\",INDEX(referentes!J:K,MATCH(F277,referentes!K:K,0),1))","v":""},{"$f":"IF(AI277=\"\",\"\",INDEX(referentes!M:N,MATCH(AI277,referentes!N:N,0),1))","v":""},{"$f":"IF(I277=\"\",\"\",INDEX(referentes!P:Q,MATCH(I277,referentes!Q:Q,0),1))","v":""},{"$f":"IF(J277=\"\",\"\",INDEX(referentes!S:T,MATCH(J277,referentes!T:T,0),1))","v":""},{"$f":"IF(AB277=\"\",\"\",INDEX(referentes!V:W,MATCH(AB277,referentes!W:W,0),1))","v":""},{"$f":"IF(Y277=\"\",\"\",INDEX(referentes!AZ:BA,MATCH(Y277,referentes!BA:BA,0),1))","v":""},"","","","",{"$f":"IF(BP277=\"\",\"\",INDEX(referentes!AE:AF,MATCH(BP277,referentes!AF:AF,0),1))","v":""},{"$f":"IF(BQ277=\"\",\"\",INDEX(referentes!AH:AI,MATCH(BQ277,referentes!AI:AI,0),1))","v":""},null,{"$f":"IF(D277=\"\",\"\",INDEX(referentes!A:B,MATCH(D277,referentes!B:B,0),1))","v":""},{"$f":"IF(AT277=\"\",\"\",INDEX(referentes!Y:Z,MATCH(AT277,referentes!Z:Z,0),1))","v":""},{"$f":"IF(AU277=\"\",\"\",INDEX(referentes!AB:AC,MATCH(AU277,referentes!AC:AC,0),1))","v":""}]
[null,{"$f":"IF(BT278=\"\",\"\",IF(COUNTIF($BT278:BT278, BT278)>1, \"\", BT278))","v":""},null,null,null,null,null,null,null,null,null,null,{"$f":"IF(L278=\"\",\"\",INDEX(referentes!AK:AL,MATCH(L278,referentes!AL:AL,0),1))","v":""},"",null,277,{"$f":"IF(K278=\"\",\"\",INDEX('Otras referencias'!F:I,MATCH(K278,'Otras referencias'!I:I,0),1))","v":""},"",null,null,null,null,null,null,null,null,null,null,null,null,null,null,null,null,null,null,null,null,null,null,null,null,null,null,null,null,null,null,null,null,null,null,0,0,0,0,0,0,0,0,null,null,null,null,null,0,null,null,null,null,null,{"$f":"IF(R278<>\"\",CONCATENATE($A$2,DIGITADOR!$M$1,ROW()-2),\"\")","v":""},"",{"$f":"IF(E278=\"\",\"\",INDEX(referentes!D:E,MATCH(E278,referentes!E:E,0),1))","v":""},{"$f":"IF(F278=\"\",\"\",INDEX(referentes!J:K,MATCH(F278,referentes!K:K,0),1))","v":""},{"$f":"IF(AI278=\"\",\"\",INDEX(referentes!M:N,MATCH(AI278,referentes!N:N,0),1))","v":""},{"$f":"IF(I278=\"\",\"\",INDEX(referentes!P:Q,MATCH(I278,referentes!Q:Q,0),1))","v":""},{"$f":"IF(J278=\"\",\"\",INDEX(referentes!S:T,MATCH(J278,referentes!T:T,0),1))","v":""},{"$f":"IF(AB278=\"\",\"\",INDEX(referentes!V:W,MATCH(AB278,referentes!W:W,0),1))","v":""},{"$f":"IF(Y278=\"\",\"\",INDEX(referentes!AZ:BA,MATCH(Y278,referentes!BA:BA,0),1))","v":""},"","","","",{"$f":"IF(BP278=\"\",\"\",INDEX(referentes!AE:AF,MATCH(BP278,referentes!AF:AF,0),1))","v":""},{"$f":"IF(BQ278=\"\",\"\",INDEX(referentes!AH:AI,MATCH(BQ278,referentes!AI:AI,0),1))","v":""},null,{"$f":"IF(D278=\"\",\"\",INDEX(referentes!A:B,MATCH(D278,referentes!B:B,0),1))","v":""},{"$f":"IF(AT278=\"\",\"\",INDEX(referentes!Y:Z,MATCH(AT278,referentes!Z:Z,0),1))","v":""},{"$f":"IF(AU278=\"\",\"\",INDEX(referentes!AB:AC,MATCH(AU278,referentes!AC:AC,0),1))","v":""}]
[null,{"$f":"IF(BT279=\"\",\"\",IF(COUNTIF($BT279:BT279, BT279)>1, \"\", BT279))","v":""},null,null,null,null,null,null,null,null,null,null,{"$f":"IF(L279=\"\",\"\",INDEX(referentes!AK:AL,MATCH(L279,referentes!AL:AL,0),1))","v":""},"",null,278,{"$f":"IF(K279=\"\",\"\",INDEX('Otras referencias'!F:I,MATCH(K279,'Otras referencias'!I:I,0),1))","v":""},"",null,null,null,null,null,null,null,null,null,null,null,null,null,null,null,null,null,null,null,null,null,null,null,null,null,null,null,null,null,null,null,null,null,null,0,0,0,0,0,0,0,0,null,null,null,null,null,0,null,null,null,null,null,{"$f":"IF(R279<>\"\",CONCATENATE($A$2,DIGITADOR!$M$1,ROW()-2),\"\")","v":""},"",{"$f":"IF(E279=\"\",\"\",INDEX(referentes!D:E,MATCH(E279,referentes!E:E,0),1))","v":""},{"$f":"IF(F279=\"\",\"\",INDEX(referentes!J:K,MATCH(F279,referentes!K:K,0),1))","v":""},{"$f":"IF(AI279=\"\",\"\",INDEX(referentes!M:N,MATCH(AI279,referentes!N:N,0),1))","v":""},{"$f":"IF(I279=\"\",\"\",INDEX(referentes!P:Q,MATCH(I279,referentes!Q:Q,0),1))","v":""},{"$f":"IF(J279=\"\",\"\",INDEX(referentes!S:T,MATCH(J279,referentes!T:T,0),1))","v":""},{"$f":"IF(AB279=\"\",\"\",INDEX(referentes!V:W,MATCH(AB279,referentes!W:W,0),1))","v":""},{"$f":"IF(Y279=\"\",\"\",INDEX(referentes!AZ:BA,MATCH(Y279,referentes!BA:BA,0),1))","v":""},"","","","",{"$f":"IF(BP279=\"\",\"\",INDEX(referentes!AE:AF,MATCH(BP279,referentes!AF:AF,0),1))","v":""},{"$f":"IF(BQ279=\"\",\"\",INDEX(referentes!AH:AI,MATCH(BQ279,referentes!AI:AI,0),1))","v":""},null,{"$f":"IF(D279=\"\",\"\",INDEX(referentes!A:B,MATCH(D279,referentes!B:B,0),1))","v":""},{"$f":"IF(AT279=\"\",\"\",INDEX(referentes!Y:Z,MATCH(AT279,referentes!Z:Z,0),1))","v":""},{"$f":"IF(AU279=\"\",\"\",INDEX(referentes!AB:AC,MATCH(AU279,referentes!AC:AC,0),1))","v":""}]
[null,{"$f":"IF(BT280=\"\",\"\",IF(COUNTIF($BT280:BT280, BT280)>1, \"\", BT280))","v":""},null,null,null,null,null,null,null,null,null,null,{"$f":"IF(L280=\"\",\"\",INDEX(referentes!AK:AL,MATCH(L280,referentes!AL:AL,0),1))","v":""},"",null,279,{"$f":"IF(K280=\"\",\"\",INDEX('Otras referencias'!F:I,MATCH(K280,'Otras referencias'!I:I,0),1))","v":""},"",null,null,null,null,null,null,null,null,null,null,null,null,null,null,null,null,null,null,null,null,null,null,null,null,null,null,null,null,null,null,null,null,null,null,0,0,0,0,0,0,0,0,null,null,null,null,null,0,null,null,null,null,null,{"$f":"IF(R280<>\"\",CONCATENATE($A$2,DIGITADOR!$M$1,ROW()-2),\"\")","v":""},"",{"$f":"IF(E280=\"\",\"\",INDEX(referentes!D:E,MATCH(E280,referentes!E:E,0),1))","v":""},{"$f":"IF(F280=\"\",\"\",INDEX(referentes!J:K,MATCH(F280,referentes!K:K,0),1))","v":""},{"$f":"IF(AI280=\"\",\"\",INDEX(referentes!M:N,MATCH(AI280,referentes!N:N,0),1))","v":""},{"$f":"IF(I280=\"\",\"\",INDEX(referentes!P:Q,MATCH(I280,referentes!Q:Q,0),1))","v":""},{"$f":"IF(J280=\"\",\"\",INDEX(referentes!S:T,MATCH(J280,referentes!T:T,0),1))","v":""},{"$f":"IF(AB280=\"\",\"\",INDEX(referentes!V:W,MATCH(AB280,referentes!W:W,0),1))","v":""},{"$f":"IF(Y280=\"\",\"\",INDEX(referentes!AZ:BA,MATCH(Y280,referentes!BA:BA,0),1))","v":""},"","","","",{"$f":"IF(BP280=\"\",\"\",INDEX(referentes!AE:AF,MATCH(BP280,referentes!AF:AF,0),1))","v":""},{"$f":"IF(BQ280=\"\",\"\",INDEX(referentes!AH:AI,MATCH(BQ280,referentes!AI:AI,0),1))","v":""},null,{"$f":"IF(D280=\"\",\"\",INDEX(referentes!A:B,MATCH(D280,referentes!B:B,0),1))","v":""},{"$f":"IF(AT280=\"\",\"\",INDEX(referentes!Y:Z,MATCH(AT280,referentes!Z:Z,0),1))","v":""},{"$f":"IF(AU280=\"\",\"\",INDEX(referentes!AB:AC,MATCH(AU280,referentes!AC:AC,0),1))","v":""}]
[null,{"$f":"IF(BT281=\"\",\"\",IF(COUNTIF($BT281:BT281, BT281)>1, \"\", BT281))","v":""},null,null,null,null,null,null,null,null,null,null,{"$f":"IF(L281=\"\",\"\",INDEX(referentes!AK:AL,MATCH(L281,referentes!AL:AL,0),1))","v":""},"",null,280,{"$f":"IF(K281=\"\",\"\",INDEX('Otras referencias'!F:I,MATCH(K281,'Otras referencias'!I:I,0),1))","v":""},"",null,null,null,null,null,null,null,null,null,null,null,null,null,null,null,null,null,null,null,null,null,null,null,null,null,null,null,null,null,null,null,null,null,null,0,0,0,0,0,0,0,0,null,null,null,null,null,0,null,null,null,null,null,{"$f":"IF(R281<>\"\",CONCATENATE($A$2,DIGITADOR!$M$1,ROW()-2),\"\")","v":""},"",{"$f":"IF(E281=\"\",\"\",INDEX(referentes!D:E,MATCH(E281,referentes!E:E,0),1))","v":""},{"$f":"IF(F281=\"\",\"\",INDEX(referentes!J:K,MATCH(F281,referentes!K:K,0),1))","v":""},{"$f":"IF(AI281=\"\",\"\",INDEX(referentes!M:N,MATCH(AI281,referentes!N:N,0),1))","v":""},{"$f":"IF(I281=\"\",\"\",INDEX(referentes!P:Q,MATCH(I281,referentes!Q:Q,0),1))","v":""},{"$f":"IF(J281=\"\",\"\",INDEX(referentes!S:T,MATCH(J281,referentes!T:T,0),1))","v":""},{"$f":"IF(AB281=\"\",\"\",INDEX(referentes!V:W,MATCH(AB281,referentes!W:W,0),1))","v":""},{"$f":"IF(Y281=\"\",\"\",INDEX(referentes!AZ:BA,MATCH(Y281,referentes!BA:BA,0),1))","v":""},"","","","",{"$f":"IF(BP281=\"\",\"\",INDEX(referentes!AE:AF,MATCH(BP281,referentes!AF:AF,0),1))","v":""},{"$f":"IF(BQ281=\"\",\"\",INDEX(referentes!AH:AI,MATCH(BQ281,referentes!AI:AI,0),1))","v":""},null,{"$f":"IF(D281=\"\",\"\",INDEX(referentes!A:B,MATCH(D281,referentes!B:B,0),1))","v":""},{"$f":"IF(AT281=\"\",\"\",INDEX(referentes!Y:Z,MATCH(AT281,referentes!Z:Z,0),1))","v":""},{"$f":"IF(AU281=\"\",\"\",INDEX(referentes!AB:AC,MATCH(AU281,referentes!AC:AC,0),1))","v":""}]
[null,{"$f":"IF(BT282=\"\",\"\",IF(COUNTIF($BT282:BT282, BT282)>1, \"\", BT282))","v":""},null,null,null,null,null,null,null,null,null,null,{"$f":"IF(L282=\"\",\"\",INDEX(referentes!AK:AL,MATCH(L282,referentes!AL:AL,0),1))","v":""},"",null,281,{"$f":"IF(K282=\"\",\"\",INDEX('Otras referencias'!F:I,MATCH(K282,'Otras referencias'!I:I,0),1))","v":""},"",null,null,null,null,null,null,null,null,null,null,null,null,null,null,null,null,null,null,null,null,null,null,null,null,null,null,null,null,null,null,null,null,null,null,0,0,0,0,0,0,0,0,null,null,null,null,null,0,null,null,null,null,null,{"$f":"IF(R282<>\"\",CONCATENATE($A$2,DIGITADOR!$M$1,ROW()-2),\"\")","v":""},"",{"$f":"IF(E282=\"\",\"\",INDEX(referentes!D:E,MATCH(E282,referentes!E:E,0),1))","v":""},{"$f":"IF(F282=\"\",\"\",INDEX(referentes!J:K,MATCH(F282,referentes!K:K,0),1))","v":""},{"$f":"IF(AI282=\"\",\"\",INDEX(referentes!M:N,MATCH(AI282,referentes!N:N,0),1))","v":""},{"$f":"IF(I282=\"\",\"\",INDEX(referentes!P:Q,MATCH(I282,referentes!Q:Q,0),1))","v":""},{"$f":"IF(J282=\"\",\"\",INDEX(referentes!S:T,MATCH(J282,referentes!T:T,0),1))","v":""},{"$f":"IF(AB282=\"\",\"\",INDEX(referentes!V:W,MATCH(AB282,referentes!W:W,0),1))","v":""},{"$f":"IF(Y282=\"\",\"\",INDEX(referentes!AZ:BA,MATCH(Y282,referentes!BA:BA,0),1))","v":""},"","","","",{"$f":"IF(BP282=\"\",\"\",INDEX(referentes!AE:AF,MATCH(BP282,referentes!AF:AF,0),1))","v":""},{"$f":"IF(BQ282=\"\",\"\",INDEX(referentes!AH:AI,MATCH(BQ282,referentes!AI:AI,0),1))","v":""},null,{"$f":"IF(D282=\"\",\"\",INDEX(referentes!A:B,MATCH(D282,referentes!B:B,0),1))","v":""},{"$f":"IF(AT282=\"\",\"\",INDEX(referentes!Y:Z,MATCH(AT282,referentes!Z:Z,0),1))","v":""},{"$f":"IF(AU282=\"\",\"\",INDEX(referentes!AB:AC,MATCH(AU282,referentes!AC:AC,0),1))","v":""}]
[null,{"$f":"IF(BT283=\"\",\"\",IF(COUNTIF($BT283:BT283, BT283)>1, \"\", BT283))","v":""},null,null,null,null,null,null,null,null,null,null,{"$f":"IF(L283=\"\",\"\",INDEX(referentes!AK:AL,MATCH(L283,referentes!AL:AL,0),1))","v":""},"",null,282,{"$f":"IF(K283=\"\",\"\",INDEX('Otras referencias'!F:I,MATCH(K283,'Otras referencias'!I:I,0),1))","v":""},"",null,null,null,null,null,null,null,null,null,null,null,null,null,null,null,null,null,null,null,null,null,null,null,null,null,null,null,null,null,null,null,null,null,null,0,0,0,0,0,0,0,0,null,null,null,null,null,0,null,null,null,null,null,{"$f":"IF(R283<>\"\",CONCATENATE($A$2,DIGITADOR!$M$1,ROW()-2),\"\")","v":""},"",{"$f":"IF(E283=\"\",\"\",INDEX(referentes!D:E,MATCH(E283,referentes!E:E,0),1))","v":""},{"$f":"IF(F283=\"\",\"\",INDEX(referentes!J:K,MATCH(F283,referentes!K:K,0),1))","v":""},{"$f":"IF(AI283=\"\",\"\",INDEX(referentes!M:N,MATCH(AI283,referentes!N:N,0),1))","v":""},{"$f":"IF(I283=\"\",\"\",INDEX(referentes!P:Q,MATCH(I283,referentes!Q:Q,0),1))","v":""},{"$f":"IF(J283=\"\",\"\",INDEX(referentes!S:T,MATCH(J283,referentes!T:T,0),1))","v":""},{"$f":"IF(AB283=\"\",\"\",INDEX(referentes!V:W,MATCH(AB283,referentes!W:W,0),1))","v":""},{"$f":"IF(Y283=\"\",\"\",INDEX(referentes!AZ:BA,MATCH(Y283,referentes!BA:BA,0),1))","v":""},"","","","",{"$f":"IF(BP283=\"\",\"\",INDEX(referentes!AE:AF,MATCH(BP283,referentes!AF:AF,0),1))","v":""},{"$f":"IF(BQ283=\"\",\"\",INDEX(referentes!AH:AI,MATCH(BQ283,referentes!AI:AI,0),1))","v":""},null,{"$f":"IF(D283=\"\",\"\",INDEX(referentes!A:B,MATCH(D283,referentes!B:B,0),1))","v":""},{"$f":"IF(AT283=\"\",\"\",INDEX(referentes!Y:Z,MATCH(AT283,referentes!Z:Z,0),1))","v":""},{"$f":"IF(AU283=\"\",\"\",INDEX(referentes!AB:AC,MATCH(AU283,referentes!AC:AC,0),1))","v":""}]
[null,{"$f":"IF(BT284=\"\",\"\",IF(COUNTIF($BT284:BT284, BT284)>1, \"\", BT284))","v":""},null,null,null,null,null,null,null,null,null,null,{"$f":"IF(L284=\"\",\"\",INDEX(referentes!AK:AL,MATCH(L284,referentes!AL:AL,0),1))","v":""},"",null,283,{"$f":"IF(K284=\"\",\"\",INDEX('Otras referencias'!F:I,MATCH(K284,'Otras referencias'!I:I,0),1))","v":""},"",null,null,null,null,null,null,null,null,null,null,null,null,null,null,null,null,null,null,null,null,null,null,null,null,null,null,null,null,null,null,null,null,null,null,0,0,0,0,0,0,0,0,null,null,null,null,null,0,null,null,null,null,null,{"$f":"IF(R284<>\"\",CONCATENATE($A$2,DIGITADOR!$M$1,ROW()-2),\"\")","v":""},"",{"$f":"IF(E284=\"\",\"\",INDEX(referentes!D:E,MATCH(E284,referentes!E:E,0),1))","v":""},{"$f":"IF(F284=\"\",\"\",INDEX(referentes!J:K,MATCH(F284,referentes!K:K,0),1))","v":""},{"$f":"IF(AI284=\"\",\"\",INDEX(referentes!M:N,MATCH(AI284,referentes!N:N,0),1))","v":""},{"$f":"IF(I284=\"\",\"\",INDEX(referentes!P:Q,MATCH(I284,referentes!Q:Q,0),1))","v":""},{"$f":"IF(J284=\"\",\"\",INDEX(referentes!S:T,MATCH(J284,referentes!T:T,0),1))","v":""},{"$f":"IF(AB284=\"\",\"\",INDEX(referentes!V:W,MATCH(AB284,referentes!W:W,0),1))","v":""},{"$f":"IF(Y284=\"\",\"\",INDEX(referentes!AZ:BA,MATCH(Y284,referentes!BA:BA,0),1))","v":""},"","","","",{"$f":"IF(BP284=\"\",\"\",INDEX(referentes!AE:AF,MATCH(BP284,referentes!AF:AF,0),1))","v":""},{"$f":"IF(BQ284=\"\",\"\",INDEX(referentes!AH:AI,MATCH(BQ284,referentes!AI:AI,0),1))","v":""},null,{"$f":"IF(D284=\"\",\"\",INDEX(referentes!A:B,MATCH(D284,referentes!B:B,0),1))","v":""},{"$f":"IF(AT284=\"\",\"\",INDEX(referentes!Y:Z,MATCH(AT284,referentes!Z:Z,0),1))","v":""},{"$f":"IF(AU284=\"\",\"\",INDEX(referentes!AB:AC,MATCH(AU284,referentes!AC:AC,0),1))","v":""}]
[null,{"$f":"IF(BT285=\"\",\"\",IF(COUNTIF($BT285:BT285, BT285)>1, \"\", BT285))","v":""},null,null,null,null,null,null,null,null,null,null,{"$f":"IF(L285=\"\",\"\",INDEX(referentes!AK:AL,MATCH(L285,referentes!AL:AL,0),1))","v":""},"",null,284,{"$f":"IF(K285=\"\",\"\",INDEX('Otras referencias'!F:I,MATCH(K285,'Otras referencias'!I:I,0),1))","v":""},"",null,null,null,null,null,null,null,null,null,null,null,null,null,null,null,null,null,null,null,null,null,null,null,null,null,null,null,null,null,null,null,null,null,null,0,0,0,0,0,0,0,0,null,null,null,null,null,0,null,null,null,null,null,{"$f":"IF(R285<>\"\",CONCATENATE($A$2,DIGITADOR!$M$1,ROW()-2),\"\")","v":""},"",{"$f":"IF(E285=\"\",\"\",INDEX(referentes!D:E,MATCH(E285,referentes!E:E,0),1))","v":""},{"$f":"IF(F285=\"\",\"\",INDEX(referentes!J:K,MATCH(F285,referentes!K:K,0),1))","v":""},{"$f":"IF(AI285=\"\",\"\",INDEX(referentes!M:N,MATCH(AI285,referentes!N:N,0),1))","v":""},{"$f":"IF(I285=\"\",\"\",INDEX(referentes!P:Q,MATCH(I285,referentes!Q:Q,0),1))","v":""},{"$f":"IF(J285=\"\",\"\",INDEX(referentes!S:T,MATCH(J285,referentes!T:T,0),1))","v":""},{"$f":"IF(AB285=\"\",\"\",INDEX(referentes!V:W,MATCH(AB285,referentes!W:W,0),1))","v":""},{"$f":"IF(Y285=\"\",\"\",INDEX(referentes!AZ:BA,MATCH(Y285,referentes!BA:BA,0),1))","v":""},"","","","",{"$f":"IF(BP285=\"\",\"\",INDEX(referentes!AE:AF,MATCH(BP285,referentes!AF:AF,0),1))","v":""},{"$f":"IF(BQ285=\"\",\"\",INDEX(referentes!AH:AI,MATCH(BQ285,referentes!AI:AI,0),1))","v":""},null,{"$f":"IF(D285=\"\",\"\",INDEX(referentes!A:B,MATCH(D285,referentes!B:B,0),1))","v":""},{"$f":"IF(AT285=\"\",\"\",INDEX(referentes!Y:Z,MATCH(AT285,referentes!Z:Z,0),1))","v":""},{"$f":"IF(AU285=\"\",\"\",INDEX(referentes!AB:AC,MATCH(AU285,referentes!AC:AC,0),1))","v":""}]
[null,{"$f":"IF(BT286=\"\",\"\",IF(COUNTIF($BT286:BT286, BT286)>1, \"\", BT286))","v":""},null,null,null,null,null,null,null,null,null,null,{"$f":"IF(L286=\"\",\"\",INDEX(referentes!AK:AL,MATCH(L286,referentes!AL:AL,0),1))","v":""},"",null,285,{"$f":"IF(K286=\"\",\"\",INDEX('Otras referencias'!F:I,MATCH(K286,'Otras referencias'!I:I,0),1))","v":""},"",null,null,null,null,null,null,null,null,null,null,null,null,null,null,null,null,null,null,null,null,null,null,null,null,null,null,null,null,null,null,null,null,null,null,0,0,0,0,0,0,0,0,null,null,null,null,null,0,null,null,null,null,null,{"$f":"IF(R286<>\"\",CONCATENATE($A$2,DIGITADOR!$M$1,ROW()-2),\"\")","v":""},"",{"$f":"IF(E286=\"\",\"\",INDEX(referentes!D:E,MATCH(E286,referentes!E:E,0),1))","v":""},{"$f":"IF(F286=\"\",\"\",INDEX(referentes!J:K,MATCH(F286,referentes!K:K,0),1))","v":""},{"$f":"IF(AI286=\"\",\"\",INDEX(referentes!M:N,MATCH(AI286,referentes!N:N,0),1))","v":""},{"$f":"IF(I286=\"\",\"\",INDEX(referentes!P:Q,MATCH(I286,referentes!Q:Q,0),1))","v":""},{"$f":"IF(J286=\"\",\"\",INDEX(referentes!S:T,MATCH(J286,referentes!T:T,0),1))","v":""},{"$f":"IF(AB286=\"\",\"\",INDEX(referentes!V:W,MATCH(AB286,referentes!W:W,0),1))","v":""},{"$f":"IF(Y286=\"\",\"\",INDEX(referentes!AZ:BA,MATCH(Y286,referentes!BA:BA,0),1))","v":""},"","","","",{"$f":"IF(BP286=\"\",\"\",INDEX(referentes!AE:AF,MATCH(BP286,referentes!AF:AF,0),1))","v":""},{"$f":"IF(BQ286=\"\",\"\",INDEX(referentes!AH:AI,MATCH(BQ286,referentes!AI:AI,0),1))","v":""},null,{"$f":"IF(D286=\"\",\"\",INDEX(referentes!A:B,MATCH(D286,referentes!B:B,0),1))","v":""},{"$f":"IF(AT286=\"\",\"\",INDEX(referentes!Y:Z,MATCH(AT286,referentes!Z:Z,0),1))","v":""},{"$f":"IF(AU286=\"\",\"\",INDEX(referentes!AB:AC,MATCH(AU286,referentes!AC:AC,0),1))","v":""}]
[null,{"$f":"IF(BT287=\"\",\"\",IF(COUNTIF($BT287:BT287, BT287)>1, \"\", BT287))","v":""},null,null,null,null,null,null,null,null,null,null,{"$f":"IF(L287=\"\",\"\",INDEX(referentes!AK:AL,MATCH(L287,referentes!AL:AL,0),1))","v":""},"",null,286,{"$f":"IF(K287=\"\",\"\",INDEX('Otras referencias'!F:I,MATCH(K287,'Otras referencias'!I:I,0),1))","v":""},"",null,null,null,null,null,null,null,null,null,null,null,null,null,null,null,null,null,null,null,null,null,null,null,null,null,null,null,null,null,null,null,null,null,null,0,0,0,0,0,0,0,0,null,null,null,null,null,0,null,null,null,null,null,{"$f":"IF(R287<>\"\",CONCATENATE($A$2,DIGITADOR!$M$1,ROW()-2),\"\")","v":""},"",{"$f":"IF(E287=\"\",\"\",INDEX(referentes!D:E,MATCH(E287,referentes!E:E,0),1))","v":""},{"$f":"IF(F287=\"\",\"\",INDEX(referentes!J:K,MATCH(F287,referentes!K:K,0),1))","v":""},{"$f":"IF(AI287=\"\",\"\",INDEX(referentes!M:N,MATCH(AI287,referentes!N:N,0),1))","v":""},{"$f":"IF(I287=\"\",\"\",INDEX(referentes!P:Q,MATCH(I287,referentes!Q:Q,0),1))","v":""},{"$f":"IF(J287=\"\",\"\",INDEX(referentes!S:T,MATCH(J287,referentes!T:T,0),1))","v":""},{"$f":"IF(AB287=\"\",\"\",INDEX(referentes!V:W,MATCH(AB287,referentes!W:W,0),1))","v":""},{"$f":"IF(Y287=\"\",\"\",INDEX(referentes!AZ:BA,MATCH(Y287,referentes!BA:BA,0),1))","v":""},"","","","",{"$f":"IF(BP287=\"\",\"\",INDEX(referentes!AE:AF,MATCH(BP287,referentes!AF:AF,0),1))","v":""},{"$f":"IF(BQ287=\"\",\"\",INDEX(referentes!AH:AI,MATCH(BQ287,referentes!AI:AI,0),1))","v":""},null,{"$f":"IF(D287=\"\",\"\",INDEX(referentes!A:B,MATCH(D287,referentes!B:B,0),1))","v":""},{"$f":"IF(AT287=\"\",\"\",INDEX(referentes!Y:Z,MATCH(AT287,referentes!Z:Z,0),1))","v":""},{"$f":"IF(AU287=\"\",\"\",INDEX(referentes!AB:AC,MATCH(AU287,referentes!AC:AC,0),1))","v":""}]
[null,{"$f":"IF(BT288=\"\",\"\",IF(COUNTIF($BT288:BT288, BT288)>1, \"\", BT288))","v":""},null,null,null,null,null,null,null,null,null,null,{"$f":"IF(L288=\"\",\"\",INDEX(referentes!AK:AL,MATCH(L288,referentes!AL:AL,0),1))","v":""},"",null,287,{"$f":"IF(K288=\"\",\"\",INDEX('Otras referencias'!F:I,MATCH(K288,'Otras referencias'!I:I,0),1))","v":""},"",null,null,null,null,null,null,null,null,null,null,null,null,null,null,null,null,null,null,null,null,null,null,null,null,null,null,null,null,null,null,null,null,null,null,0,0,0,0,0,0,0,0,null,null,null,null,null,0,null,null,null,null,null,{"$f":"IF(R288<>\"\",CONCATENATE($A$2,DIGITADOR!$M$1,ROW()-2),\"\")","v":""},"",{"$f":"IF(E288=\"\",\"\",INDEX(referentes!D:E,MATCH(E288,referentes!E:E,0),1))","v":""},{"$f":"IF(F288=\"\",\"\",INDEX(referentes!J:K,MATCH(F288,referentes!K:K,0),1))","v":""},{"$f":"IF(AI288=\"\",\"\",INDEX(referentes!M:N,MATCH(AI288,referentes!N:N,0),1))","v":""},{"$f":"IF(I288=\"\",\"\",INDEX(referentes!P:Q,MATCH(I288,referentes!Q:Q,0),1))","v":""},{"$f":"IF(J288=\"\",\"\",INDEX(referentes!S:T,MATCH(J288,referentes!T:T,0),1))","v":""},{"$f":"IF(AB288=\"\",\"\",INDEX(referentes!V:W,MATCH(AB288,referentes!W:W,0),1))","v":""},{"$f":"IF(Y288=\"\",\"\",INDEX(referentes!AZ:BA,MATCH(Y288,referentes!BA:BA,0),1))","v":""},"","","","",{"$f":"IF(BP288=\"\",\"\",INDEX(referentes!AE:AF,MATCH(BP288,referentes!AF:AF,0),1))","v":""},{"$f":"IF(BQ288=\"\",\"\",INDEX(referentes!AH:AI,MATCH(BQ288,referentes!AI:AI,0),1))","v":""},null,{"$f":"IF(D288=\"\",\"\",INDEX(referentes!A:B,MATCH(D288,referentes!B:B,0),1))","v":""},{"$f":"IF(AT288=\"\",\"\",INDEX(referentes!Y:Z,MATCH(AT288,referentes!Z:Z,0),1))","v":""},{"$f":"IF(AU288=\"\",\"\",INDEX(referentes!AB:AC,MATCH(AU288,referentes!AC:AC,0),1))","v":""}]
[null,{"$f":"IF(BT289=\"\",\"\",IF(COUNTIF($BT289:BT289, BT289)>1, \"\", BT289))","v":""},null,null,null,null,null,null,null,null,null,null,{"$f":"IF(L289=\"\",\"\",INDEX(referentes!AK:AL,MATCH(L289,referentes!AL:AL,0),1))","v":""},"",null,288,{"$f":"IF(K289=\"\",\"\",INDEX('Otras referencias'!F:I,MATCH(K289,'Otras referencias'!I:I,0),1))","v":""},"",null,null,null,null,null,null,null,null,null,null,null,null,null,null,null,null,null,null,null,null,null,null,null,null,null,null,null,null,null,null,null,null,null,null,0,0,0,0,0,0,0,0,null,null,null,null,null,0,null,null,null,null,null,{"$f":"IF(R289<>\"\",CONCATENATE($A$2,DIGITADOR!$M$1,ROW()-2),\"\")","v":""},"",{"$f":"IF(E289=\"\",\"\",INDEX(referentes!D:E,MATCH(E289,referentes!E:E,0),1))","v":""},{"$f":"IF(F289=\"\",\"\",INDEX(referentes!J:K,MATCH(F289,referentes!K:K,0),1))","v":""},{"$f":"IF(AI289=\"\",\"\",INDEX(referentes!M:N,MATCH(AI289,referentes!N:N,0),1))","v":""},{"$f":"IF(I289=\"\",\"\",INDEX(referentes!P:Q,MATCH(I289,referentes!Q:Q,0),1))","v":""},{"$f":"IF(J289=\"\",\"\",INDEX(referentes!S:T,MATCH(J289,referentes!T:T,0),1))","v":""},{"$f":"IF(AB289=\"\",\"\",INDEX(referentes!V:W,MATCH(AB289,referentes!W:W,0),1))","v":""},{"$f":"IF(Y289=\"\",\"\",INDEX(referentes!AZ:BA,MATCH(Y289,referentes!BA:BA,0),1))","v":""},"","","","",{"$f":"IF(BP289=\"\",\"\",INDEX(referentes!AE:AF,MATCH(BP289,referentes!AF:AF,0),1))","v":""},{"$f":"IF(BQ289=\"\",\"\",INDEX(referentes!AH:AI,MATCH(BQ289,referentes!AI:AI,0),1))","v":""},null,{"$f":"IF(D289=\"\",\"\",INDEX(referentes!A:B,MATCH(D289,referentes!B:B,0),1))","v":""},{"$f":"IF(AT289=\"\",\"\",INDEX(referentes!Y:Z,MATCH(AT289,referentes!Z:Z,0),1))","v":""},{"$f":"IF(AU289=\"\",\"\",INDEX(referentes!AB:AC,MATCH(AU289,referentes!AC:AC,0),1))","v":""}]
[null,{"$f":"IF(BT290=\"\",\"\",IF(COUNTIF($BT290:BT290, BT290)>1, \"\", BT290))","v":""},null,null,null,null,null,null,null,null,null,null,{"$f":"IF(L290=\"\",\"\",INDEX(referentes!AK:AL,MATCH(L290,referentes!AL:AL,0),1))","v":""},"",null,289,{"$f":"IF(K290=\"\",\"\",INDEX('Otras referencias'!F:I,MATCH(K290,'Otras referencias'!I:I,0),1))","v":""},"",null,null,null,null,null,null,null,null,null,null,null,null,null,null,null,null,null,null,null,null,null,null,null,null,null,null,null,null,null,null,null,null,null,null,0,0,0,0,0,0,0,0,null,null,null,null,null,0,null,null,null,null,null,{"$f":"IF(R290<>\"\",CONCATENATE($A$2,DIGITADOR!$M$1,ROW()-2),\"\")","v":""},"",{"$f":"IF(E290=\"\",\"\",INDEX(referentes!D:E,MATCH(E290,referentes!E:E,0),1))","v":""},{"$f":"IF(F290=\"\",\"\",INDEX(referentes!J:K,MATCH(F290,referentes!K:K,0),1))","v":""},{"$f":"IF(AI290=\"\",\"\",INDEX(referentes!M:N,MATCH(AI290,referentes!N:N,0),1))","v":""},{"$f":"IF(I290=\"\",\"\",INDEX(referentes!P:Q,MATCH(I290,referentes!Q:Q,0),1))","v":""},{"$f":"IF(J290=\"\",\"\",INDEX(referentes!S:T,MATCH(J290,referentes!T:T,0),1))","v":""},{"$f":"IF(AB290=\"\",\"\",INDEX(referentes!V:W,MATCH(AB290,referentes!W:W,0),1))","v":""},{"$f":"IF(Y290=\"\",\"\",INDEX(referentes!AZ:BA,MATCH(Y290,referentes!BA:BA,0),1))","v":""},"","","","",{"$f":"IF(BP290=\"\",\"\",INDEX(referentes!AE:AF,MATCH(BP290,referentes!AF:AF,0),1))","v":""},{"$f":"IF(BQ290=\"\",\"\",INDEX(referentes!AH:AI,MATCH(BQ290,referentes!AI:AI,0),1))","v":""},null,{"$f":"IF(D290=\"\",\"\",INDEX(referentes!A:B,MATCH(D290,referentes!B:B,0),1))","v":""},{"$f":"IF(AT290=\"\",\"\",INDEX(referentes!Y:Z,MATCH(AT290,referentes!Z:Z,0),1))","v":""},{"$f":"IF(AU290=\"\",\"\",INDEX(referentes!AB:AC,MATCH(AU290,referentes!AC:AC,0),1))","v":""}]
[null,{"$f":"IF(BT291=\"\",\"\",IF(COUNTIF($BT291:BT291, BT291)>1, \"\", BT291))","v":""},null,null,null,null,null,null,null,null,null,null,{"$f":"IF(L291=\"\",\"\",INDEX(referentes!AK:AL,MATCH(L291,referentes!AL:AL,0),1))","v":""},"",null,290,{"$f":"IF(K291=\"\",\"\",INDEX('Otras referencias'!F:I,MATCH(K291,'Otras referencias'!I:I,0),1))","v":""},"",null,null,null,null,null,null,null,null,null,null,null,null,null,null,null,null,null,null,null,null,null,null,null,null,null,null,null,null,null,null,null,null,null,null,0,0,0,0,0,0,0,0,null,null,null,null,null,0,null,null,null,null,null,{"$f":"IF(R291<>\"\",CONCATENATE($A$2,DIGITADOR!$M$1,ROW()-2),\"\")","v":""},"",{"$f":"IF(E291=\"\",\"\",INDEX(referentes!D:E,MATCH(E291,referentes!E:E,0),1))","v":""},{"$f":"IF(F291=\"\",\"\",INDEX(referentes!J:K,MATCH(F291,referentes!K:K,0),1))","v":""},{"$f":"IF(AI291=\"\",\"\",INDEX(referentes!M:N,MATCH(AI291,referentes!N:N,0),1))","v":""},{"$f":"IF(I291=\"\",\"\",INDEX(referentes!P:Q,MATCH(I291,referentes!Q:Q,0),1))","v":""},{"$f":"IF(J291=\"\",\"\",INDEX(referentes!S:T,MATCH(J291,referentes!T:T,0),1))","v":""},{"$f":"IF(AB291=\"\",\"\",INDEX(referentes!V:W,MATCH(AB291,referentes!W:W,0),1))","v":""},{"$f":"IF(Y291=\"\",\"\",INDEX(referentes!AZ:BA,MATCH(Y291,referentes!BA:BA,0),1))","v":""},"","","","",{"$f":"IF(BP291=\"\",\"\",INDEX(referentes!AE:AF,MATCH(BP291,referentes!AF:AF,0),1))","v":""},{"$f":"IF(BQ291=\"\",\"\",INDEX(referentes!AH:AI,MATCH(BQ291,referentes!AI:AI,0),1))","v":""},null,{"$f":"IF(D291=\"\",\"\",INDEX(referentes!A:B,MATCH(D291,referentes!B:B,0),1))","v":""},{"$f":"IF(AT291=\"\",\"\",INDEX(referentes!Y:Z,MATCH(AT291,referentes!Z:Z,0),1))","v":""},{"$f":"IF(AU291=\"\",\"\",INDEX(referentes!AB:AC,MATCH(AU291,referentes!AC:AC,0),1))","v":""}]
[null,{"$f":"IF(BT292=\"\",\"\",IF(COUNTIF($BT292:BT292, BT292)>1, \"\", BT292))","v":""},null,null,null,null,null,null,null,null,null,null,{"$f":"IF(L292=\"\",\"\",INDEX(referentes!AK:AL,MATCH(L292,referentes!AL:AL,0),1))","v":""},"",null,291,{"$f":"IF(K292=\"\",\"\",INDEX('Otras referencias'!F:I,MATCH(K292,'Otras referencias'!I:I,0),1))","v":""},"",null,null,null,null,null,null,null,null,null,null,null,null,null,null,null,null,null,null,null,null,null,null,null,null,null,null,null,null,null,null,null,null,null,null,0,0,0,0,0,0,0,0,null,null,null,null,null,0,null,null,null,null,null,{"$f":"IF(R292<>\"\",CONCATENATE($A$2,DIGITADOR!$M$1,ROW()-2),\"\")","v":""},"",{"$f":"IF(E292=\"\",\"\",INDEX(referentes!D:E,MATCH(E292,referentes!E:E,0),1))","v":""},{"$f":"IF(F292=\"\",\"\",INDEX(referentes!J:K,MATCH(F292,referentes!K:K,0),1))","v":""},{"$f":"IF(AI292=\"\",\"\",INDEX(referentes!M:N,MATCH(AI292,referentes!N:N,0),1))","v":""},{"$f":"IF(I292=\"\",\"\",INDEX(referentes!P:Q,MATCH(I292,referentes!Q:Q,0),1))","v":""},{"$f":"IF(J292=\"\",\"\",INDEX(referentes!S:T,MATCH(J292,referentes!T:T,0),1))","v":""},{"$f":"IF(AB292=\"\",\"\",INDEX(referentes!V:W,MATCH(AB292,referentes!W:W,0),1))","v":""},{"$f":"IF(Y292=\"\",\"\",INDEX(referentes!AZ:BA,MATCH(Y292,referentes!BA:BA,0),1))","v":""},"","","","",{"$f":"IF(BP292=\"\",\"\",INDEX(referentes!AE:AF,MATCH(BP292,referentes!AF:AF,0),1))","v":""},{"$f":"IF(BQ292=\"\",\"\",INDEX(referentes!AH:AI,MATCH(BQ292,referentes!AI:AI,0),1))","v":""},null,{"$f":"IF(D292=\"\",\"\",INDEX(referentes!A:B,MATCH(D292,referentes!B:B,0),1))","v":""},{"$f":"IF(AT292=\"\",\"\",INDEX(referentes!Y:Z,MATCH(AT292,referentes!Z:Z,0),1))","v":""},{"$f":"IF(AU292=\"\",\"\",INDEX(referentes!AB:AC,MATCH(AU292,referentes!AC:AC,0),1))","v":""}]
[null,{"$f":"IF(BT293=\"\",\"\",IF(COUNTIF($BT293:BT293, BT293)>1, \"\", BT293))","v":""},null,null,null,null,null,null,null,null,null,null,{"$f":"IF(L293=\"\",\"\",INDEX(referentes!AK:AL,MATCH(L293,referentes!AL:AL,0),1))","v":""},"",null,292,{"$f":"IF(K293=\"\",\"\",INDEX('Otras referencias'!F:I,MATCH(K293,'Otras referencias'!I:I,0),1))","v":""},"",null,null,null,null,null,null,null,null,null,null,null,null,null,null,null,null,null,null,null,null,null,null,null,null,null,null,null,null,null,null,null,null,null,null,0,0,0,0,0,0,0,0,null,null,null,null,null,0,null,null,null,null,null,{"$f":"IF(R293<>\"\",CONCATENATE($A$2,DIGITADOR!$M$1,ROW()-2),\"\")","v":""},"",{"$f":"IF(E293=\"\",\"\",INDEX(referentes!D:E,MATCH(E293,referentes!E:E,0),1))","v":""},{"$f":"IF(F293=\"\",\"\",INDEX(referentes!J:K,MATCH(F293,referentes!K:K,0),1))","v":""},{"$f":"IF(AI293=\"\",\"\",INDEX(referentes!M:N,MATCH(AI293,referentes!N:N,0),1))","v":""},{"$f":"IF(I293=\"\",\"\",INDEX(referentes!P:Q,MATCH(I293,referentes!Q:Q,0),1))","v":""},{"$f":"IF(J293=\"\",\"\",INDEX(referentes!S:T,MATCH(J293,referentes!T:T,0),1))","v":""},{"$f":"IF(AB293=\"\",\"\",INDEX(referentes!V:W,MATCH(AB293,referentes!W:W,0),1))","v":""},{"$f":"IF(Y293=\"\",\"\",INDEX(referentes!AZ:BA,MATCH(Y293,referentes!BA:BA,0),1))","v":""},"","","","",{"$f":"IF(BP293=\"\",\"\",INDEX(referentes!AE:AF,MATCH(BP293,referentes!AF:AF,0),1))","v":""},{"$f":"IF(BQ293=\"\",\"\",INDEX(referentes!AH:AI,MATCH(BQ293,referentes!AI:AI,0),1))","v":""},null,{"$f":"IF(D293=\"\",\"\",INDEX(referentes!A:B,MATCH(D293,referentes!B:B,0),1))","v":""},{"$f":"IF(AT293=\"\",\"\",INDEX(referentes!Y:Z,MATCH(AT293,referentes!Z:Z,0),1))","v":""},{"$f":"IF(AU293=\"\",\"\",INDEX(referentes!AB:AC,MATCH(AU293,referentes!AC:AC,0),1))","v":""}]
[null,{"$f":"IF(BT294=\"\",\"\",IF(COUNTIF($BT294:BT294, BT294)>1, \"\", BT294))","v":""},null,null,null,null,null,null,null,null,null,null,{"$f":"IF(L294=\"\",\"\",INDEX(referentes!AK:AL,MATCH(L294,referentes!AL:AL,0),1))","v":""},"",null,293,{"$f":"IF(K294=\"\",\"\",INDEX('Otras referencias'!F:I,MATCH(K294,'Otras referencias'!I:I,0),1))","v":""},"",null,null,null,null,null,null,null,null,null,null,null,null,null,null,null,null,null,null,null,null,null,null,null,null,null,null,null,null,null,null,null,null,null,null,0,0,0,0,0,0,0,0,null,null,null,null,null,0,null,null,null,null,null,{"$f":"IF(R294<>\"\",CONCATENATE($A$2,DIGITADOR!$M$1,ROW()-2),\"\")","v":""},"",{"$f":"IF(E294=\"\",\"\",INDEX(referentes!D:E,MATCH(E294,referentes!E:E,0),1))","v":""},{"$f":"IF(F294=\"\",\"\",INDEX(referentes!J:K,MATCH(F294,referentes!K:K,0),1))","v":""},{"$f":"IF(AI294=\"\",\"\",INDEX(referentes!M:N,MATCH(AI294,referentes!N:N,0),1))","v":""},{"$f":"IF(I294=\"\",\"\",INDEX(referentes!P:Q,MATCH(I294,referentes!Q:Q,0),1))","v":""},{"$f":"IF(J294=\"\",\"\",INDEX(referentes!S:T,MATCH(J294,referentes!T:T,0),1))","v":""},{"$f":"IF(AB294=\"\",\"\",INDEX(referentes!V:W,MATCH(AB294,referentes!W:W,0),1))","v":""},{"$f":"IF(Y294=\"\",\"\",INDEX(referentes!AZ:BA,MATCH(Y294,referentes!BA:BA,0),1))","v":""},"","","","",{"$f":"IF(BP294=\"\",\"\",INDEX(referentes!AE:AF,MATCH(BP294,referentes!AF:AF,0),1))","v":""},{"$f":"IF(BQ294=\"\",\"\",INDEX(referentes!AH:AI,MATCH(BQ294,referentes!AI:AI,0),1))","v":""},null,{"$f":"IF(D294=\"\",\"\",INDEX(referentes!A:B,MATCH(D294,referentes!B:B,0),1))","v":""},{"$f":"IF(AT294=\"\",\"\",INDEX(referentes!Y:Z,MATCH(AT294,referentes!Z:Z,0),1))","v":""},{"$f":"IF(AU294=\"\",\"\",INDEX(referentes!AB:AC,MATCH(AU294,referentes!AC:AC,0),1))","v":""}]
[null,{"$f":"IF(BT295=\"\",\"\",IF(COUNTIF($BT295:BT295, BT295)>1, \"\", BT295))","v":""},null,null,null,null,null,null,null,null,null,null,{"$f":"IF(L295=\"\",\"\",INDEX(referentes!AK:AL,MATCH(L295,referentes!AL:AL,0),1))","v":""},"",null,294,{"$f":"IF(K295=\"\",\"\",INDEX('Otras referencias'!F:I,MATCH(K295,'Otras referencias'!I:I,0),1))","v":""},"",null,null,null,null,null,null,null,null,null,null,null,null,null,null,null,null,null,null,null,null,null,null,null,null,null,null,null,null,null,null,null,null,null,null,0,0,0,0,0,0,0,0,null,null,null,null,null,0,null,null,null,null,null,{"$f":"IF(R295<>\"\",CONCATENATE($A$2,DIGITADOR!$M$1,ROW()-2),\"\")","v":""},"",{"$f":"IF(E295=\"\",\"\",INDEX(referentes!D:E,MATCH(E295,referentes!E:E,0),1))","v":""},{"$f":"IF(F295=\"\",\"\",INDEX(referentes!J:K,MATCH(F295,referentes!K:K,0),1))","v":""},{"$f":"IF(AI295=\"\",\"\",INDEX(referentes!M:N,MATCH(AI295,referentes!N:N,0),1))","v":""},{"$f":"IF(I295=\"\",\"\",INDEX(referentes!P:Q,MATCH(I295,referentes!Q:Q,0),1))","v":""},{"$f":"IF(J295=\"\",\"\",INDEX(referentes!S:T,MATCH(J295,referentes!T:T,0),1))","v":""},{"$f":"IF(AB295=\"\",\"\",INDEX(referentes!V:W,MATCH(AB295,referentes!W:W,0),1))","v":""},{"$f":"IF(Y295=\"\",\"\",INDEX(referentes!AZ:BA,MATCH(Y295,referentes!BA:BA,0),1))","v":""},"","","","",{"$f":"IF(BP295=\"\",\"\",INDEX(referentes!AE:AF,MATCH(BP295,referentes!AF:AF,0),1))","v":""},{"$f":"IF(BQ295=\"\",\"\",INDEX(referentes!AH:AI,MATCH(BQ295,referentes!AI:AI,0),1))","v":""},null,{"$f":"IF(D295=\"\",\"\",INDEX(referentes!A:B,MATCH(D295,referentes!B:B,0),1))","v":""},{"$f":"IF(AT295=\"\",\"\",INDEX(referentes!Y:Z,MATCH(AT295,referentes!Z:Z,0),1))","v":""},{"$f":"IF(AU295=\"\",\"\",INDEX(referentes!AB:AC,MATCH(AU295,referentes!AC:AC,0),1))","v":""}]
[null,{"$f":"IF(BT296=\"\",\"\",IF(COUNTIF($BT296:BT296, BT296)>1, \"\", BT296))","v":""},null,null,null,null,null,null,null,null,null,null,{"$f":"IF(L296=\"\",\"\",INDEX(referentes!AK:AL,MATCH(L296,referentes!AL:AL,0),1))","v":""},"",null,295,{"$f":"IF(K296=\"\",\"\",INDEX('Otras referencias'!F:I,MATCH(K296,'Otras referencias'!I:I,0),1))","v":""},"",null,null,null,null,null,null,null,null,null,null,null,null,null,null,null,null,null,null,null,null,null,null,null,null,null,null,null,null,null,null,null,null,null,null,0,0,0,0,0,0,0,0,null,null,null,null,null,0,null,null,null,null,null,{"$f":"IF(R296<>\"\",CONCATENATE($A$2,DIGITADOR!$M$1,ROW()-2),\"\")","v":""},"",{"$f":"IF(E296=\"\",\"\",INDEX(referentes!D:E,MATCH(E296,referentes!E:E,0),1))","v":""},{"$f":"IF(F296=\"\",\"\",INDEX(referentes!J:K,MATCH(F296,referentes!K:K,0),1))","v":""},{"$f":"IF(AI296=\"\",\"\",INDEX(referentes!M:N,MATCH(AI296,referentes!N:N,0),1))","v":""},{"$f":"IF(I296=\"\",\"\",INDEX(referentes!P:Q,MATCH(I296,referentes!Q:Q,0),1))","v":""},{"$f":"IF(J296=\"\",\"\",INDEX(referentes!S:T,MATCH(J296,referentes!T:T,0),1))","v":""},{"$f":"IF(AB296=\"\",\"\",INDEX(referentes!V:W,MATCH(AB296,referentes!W:W,0),1))","v":""},{"$f":"IF(Y296=\"\",\"\",INDEX(referentes!AZ:BA,MATCH(Y296,referentes!BA:BA,0),1))","v":""},"","","","",{"$f":"IF(BP296=\"\",\"\",INDEX(referentes!AE:AF,MATCH(BP296,referentes!AF:AF,0),1))","v":""},{"$f":"IF(BQ296=\"\",\"\",INDEX(referentes!AH:AI,MATCH(BQ296,referentes!AI:AI,0),1))","v":""},null,{"$f":"IF(D296=\"\",\"\",INDEX(referentes!A:B,MATCH(D296,referentes!B:B,0),1))","v":""},{"$f":"IF(AT296=\"\",\"\",INDEX(referentes!Y:Z,MATCH(AT296,referentes!Z:Z,0),1))","v":""},{"$f":"IF(AU296=\"\",\"\",INDEX(referentes!AB:AC,MATCH(AU296,referentes!AC:AC,0),1))","v":""}]
[null,{"$f":"IF(BT297=\"\",\"\",IF(COUNTIF($BT297:BT297, BT297)>1, \"\", BT297))","v":""},null,null,null,null,null,null,null,null,null,null,{"$f":"IF(L297=\"\",\"\",INDEX(referentes!AK:AL,MATCH(L297,referentes!AL:AL,0),1))","v":""},"",null,296,{"$f":"IF(K297=\"\",\"\",INDEX('Otras referencias'!F:I,MATCH(K297,'Otras referencias'!I:I,0),1))","v":""},"",null,null,null,null,null,null,null,null,null,null,null,null,null,null,null,null,null,null,null,null,null,null,null,null,null,null,null,null,null,null,null,null,null,null,0,0,0,0,0,0,0,0,null,null,null,null,null,0,null,null,null,null,null,{"$f":"IF(R297<>\"\",CONCATENATE($A$2,DIGITADOR!$M$1,ROW()-2),\"\")","v":""},"",{"$f":"IF(E297=\"\",\"\",INDEX(referentes!D:E,MATCH(E297,referentes!E:E,0),1))","v":""},{"$f":"IF(F297=\"\",\"\",INDEX(referentes!J:K,MATCH(F297,referentes!K:K,0),1))","v":""},{"$f":"IF(AI297=\"\",\"\",INDEX(referentes!M:N,MATCH(AI297,referentes!N:N,0),1))","v":""},{"$f":"IF(I297=\"\",\"\",INDEX(referentes!P:Q,MATCH(I297,referentes!Q:Q,0),1))","v":""},{"$f":"IF(J297=\"\",\"\",INDEX(referentes!S:T,MATCH(J297,referentes!T:T,0),1))","v":""},{"$f":"IF(AB297=\"\",\"\",INDEX(referentes!V:W,MATCH(AB297,referentes!W:W,0),1))","v":""},{"$f":"IF(Y297=\"\",\"\",INDEX(referentes!AZ:BA,MATCH(Y297,referentes!BA:BA,0),1))","v":""},"","","","",{"$f":"IF(BP297=\"\",\"\",INDEX(referentes!AE:AF,MATCH(BP297,referentes!AF:AF,0),1))","v":""},{"$f":"IF(BQ297=\"\",\"\",INDEX(referentes!AH:AI,MATCH(BQ297,referentes!AI:AI,0),1))","v":""},null,{"$f":"IF(D297=\"\",\"\",INDEX(referentes!A:B,MATCH(D297,referentes!B:B,0),1))","v":""},{"$f":"IF(AT297=\"\",\"\",INDEX(referentes!Y:Z,MATCH(AT297,referentes!Z:Z,0),1))","v":""},{"$f":"IF(AU297=\"\",\"\",INDEX(referentes!AB:AC,MATCH(AU297,referentes!AC:AC,0),1))","v":""}]
[null,{"$f":"IF(BT298=\"\",\"\",IF(COUNTIF($BT298:BT298, BT298)>1, \"\", BT298))","v":""},null,null,null,null,null,null,null,null,null,null,{"$f":"IF(L298=\"\",\"\",INDEX(referentes!AK:AL,MATCH(L298,referentes!AL:AL,0),1))","v":""},"",null,297,{"$f":"IF(K298=\"\",\"\",INDEX('Otras referencias'!F:I,MATCH(K298,'Otras referencias'!I:I,0),1))","v":""},"",null,null,null,null,null,null,null,null,null,null,null,null,null,null,null,null,null,null,null,null,null,null,null,null,null,null,null,null,null,null,null,null,null,null,0,0,0,0,0,0,0,0,null,null,null,null,null,0,null,null,null,null,null,{"$f":"IF(R298<>\"\",CONCATENATE($A$2,DIGITADOR!$M$1,ROW()-2),\"\")","v":""},"",{"$f":"IF(E298=\"\",\"\",INDEX(referentes!D:E,MATCH(E298,referentes!E:E,0),1))","v":""},{"$f":"IF(F298=\"\",\"\",INDEX(referentes!J:K,MATCH(F298,referentes!K:K,0),1))","v":""},{"$f":"IF(AI298=\"\",\"\",INDEX(referentes!M:N,MATCH(AI298,referentes!N:N,0),1))","v":""},{"$f":"IF(I298=\"\",\"\",INDEX(referentes!P:Q,MATCH(I298,referentes!Q:Q,0),1))","v":""},{"$f":"IF(J298=\"\",\"\",INDEX(referentes!S:T,MATCH(J298,referentes!T:T,0),1))","v":""},{"$f":"IF(AB298=\"\",\"\",INDEX(referentes!V:W,MATCH(AB298,referentes!W:W,0),1))","v":""},{"$f":"IF(Y298=\"\",\"\",INDEX(referentes!AZ:BA,MATCH(Y298,referentes!BA:BA,0),1))","v":""},"","","","",{"$f":"IF(BP298=\"\",\"\",INDEX(referentes!AE:AF,MATCH(BP298,referentes!AF:AF,0),1))","v":""},{"$f":"IF(BQ298=\"\",\"\",INDEX(referentes!AH:AI,MATCH(BQ298,referentes!AI:AI,0),1))","v":""},null,{"$f":"IF(D298=\"\",\"\",INDEX(referentes!A:B,MATCH(D298,referentes!B:B,0),1))","v":""},{"$f":"IF(AT298=\"\",\"\",INDEX(referentes!Y:Z,MATCH(AT298,referentes!Z:Z,0),1))","v":""},{"$f":"IF(AU298=\"\",\"\",INDEX(referentes!AB:AC,MATCH(AU298,referentes!AC:AC,0),1))","v":""}]
[null,{"$f":"IF(BT299=\"\",\"\",IF(COUNTIF($BT299:BT299, BT299)>1, \"\", BT299))","v":""},null,null,null,null,null,null,null,null,null,null,{"$f":"IF(L299=\"\",\"\",INDEX(referentes!AK:AL,MATCH(L299,referentes!AL:AL,0),1))","v":""},"",null,298,{"$f":"IF(K299=\"\",\"\",INDEX('Otras referencias'!F:I,MATCH(K299,'Otras referencias'!I:I,0),1))","v":""},"",null,null,null,null,null,null,null,null,null,null,null,null,null,null,null,null,null,null,null,null,null,null,null,null,null,null,null,null,null,null,null,null,null,null,0,0,0,0,0,0,0,0,null,null,null,null,null,0,null,null,null,null,null,{"$f":"IF(R299<>\"\",CONCATENATE($A$2,DIGITADOR!$M$1,ROW()-2),\"\")","v":""},"",{"$f":"IF(E299=\"\",\"\",INDEX(referentes!D:E,MATCH(E299,referentes!E:E,0),1))","v":""},{"$f":"IF(F299=\"\",\"\",INDEX(referentes!J:K,MATCH(F299,referentes!K:K,0),1))","v":""},{"$f":"IF(AI299=\"\",\"\",INDEX(referentes!M:N,MATCH(AI299,referentes!N:N,0),1))","v":""},{"$f":"IF(I299=\"\",\"\",INDEX(referentes!P:Q,MATCH(I299,referentes!Q:Q,0),1))","v":""},{"$f":"IF(J299=\"\",\"\",INDEX(referentes!S:T,MATCH(J299,referentes!T:T,0),1))","v":""},{"$f":"IF(AB299=\"\",\"\",INDEX(referentes!V:W,MATCH(AB299,referentes!W:W,0),1))","v":""},{"$f":"IF(Y299=\"\",\"\",INDEX(referentes!AZ:BA,MATCH(Y299,referentes!BA:BA,0),1))","v":""},"","","","",{"$f":"IF(BP299=\"\",\"\",INDEX(referentes!AE:AF,MATCH(BP299,referentes!AF:AF,0),1))","v":""},{"$f":"IF(BQ299=\"\",\"\",INDEX(referentes!AH:AI,MATCH(BQ299,referentes!AI:AI,0),1))","v":""},null,{"$f":"IF(D299=\"\",\"\",INDEX(referentes!A:B,MATCH(D299,referentes!B:B,0),1))","v":""},{"$f":"IF(AT299=\"\",\"\",INDEX(referentes!Y:Z,MATCH(AT299,referentes!Z:Z,0),1))","v":""},{"$f":"IF(AU299=\"\",\"\",INDEX(referentes!AB:AC,MATCH(AU299,referentes!AC:AC,0),1))","v":""}]
[null,{"$f":"IF(BT300=\"\",\"\",IF(COUNTIF($BT300:BT300, BT300)>1, \"\", BT300))","v":""},null,null,null,null,null,null,null,null,null,null,{"$f":"IF(L300=\"\",\"\",INDEX(referentes!AK:AL,MATCH(L300,referentes!AL:AL,0),1))","v":""},"",null,299,{"$f":"IF(K300=\"\",\"\",INDEX('Otras referencias'!F:I,MATCH(K300,'Otras referencias'!I:I,0),1))","v":""},"",null,null,null,null,null,null,null,null,null,null,null,null,null,null,null,null,null,null,null,null,null,null,null,null,null,null,null,null,null,null,null,null,null,null,0,0,0,0,0,0,0,0,null,null,null,null,null,0,null,null,null,null,null,{"$f":"IF(R300<>\"\",CONCATENATE($A$2,DIGITADOR!$M$1,ROW()-2),\"\")","v":""},"",{"$f":"IF(E300=\"\",\"\",INDEX(referentes!D:E,MATCH(E300,referentes!E:E,0),1))","v":""},{"$f":"IF(F300=\"\",\"\",INDEX(referentes!J:K,MATCH(F300,referentes!K:K,0),1))","v":""},{"$f":"IF(AI300=\"\",\"\",INDEX(referentes!M:N,MATCH(AI300,referentes!N:N,0),1))","v":""},{"$f":"IF(I300=\"\",\"\",INDEX(referentes!P:Q,MATCH(I300,referentes!Q:Q,0),1))","v":""},{"$f":"IF(J300=\"\",\"\",INDEX(referentes!S:T,MATCH(J300,referentes!T:T,0),1))","v":""},{"$f":"IF(AB300=\"\",\"\",INDEX(referentes!V:W,MATCH(AB300,referentes!W:W,0),1))","v":""},{"$f":"IF(Y300=\"\",\"\",INDEX(referentes!AZ:BA,MATCH(Y300,referentes!BA:BA,0),1))","v":""},"","","","",{"$f":"IF(BP300=\"\",\"\",INDEX(referentes!AE:AF,MATCH(BP300,referentes!AF:AF,0),1))","v":""},{"$f":"IF(BQ300=\"\",\"\",INDEX(referentes!AH:AI,MATCH(BQ300,referentes!AI:AI,0),1))","v":""},null,{"$f":"IF(D300=\"\",\"\",INDEX(referentes!A:B,MATCH(D300,referentes!B:B,0),1))","v":""},{"$f":"IF(AT300=\"\",\"\",INDEX(referentes!Y:Z,MATCH(AT300,referentes!Z:Z,0),1))","v":""},{"$f":"IF(AU300=\"\",\"\",INDEX(referentes!AB:AC,MATCH(AU300,referentes!AC:AC,0),1))","v":""}]
[null,{"$f":"IF(BT301=\"\",\"\",IF(COUNTIF($BT301:BT301, BT301)>1, \"\", BT301))","v":""},null,null,null,null,null,null,null,null,null,null,{"$f":"IF(L301=\"\",\"\",INDEX(referentes!AK:AL,MATCH(L301,referentes!AL:AL,0),1))","v":""},"",null,300,{"$f":"IF(K301=\"\",\"\",INDEX('Otras referencias'!F:I,MATCH(K301,'Otras referencias'!I:I,0),1))","v":""},"",null,null,null,null,null,null,null,null,null,null,null,null,null,null,null,null,null,null,null,null,null,null,null,null,null,null,null,null,null,null,null,null,null,null,0,0,0,0,0,0,0,0,null,null,null,null,null,0,null,null,null,null,null,{"$f":"IF(R301<>\"\",CONCATENATE($A$2,DIGITADOR!$M$1,ROW()-2),\"\")","v":""},"",{"$f":"IF(E301=\"\",\"\",INDEX(referentes!D:E,MATCH(E301,referentes!E:E,0),1))","v":""},{"$f":"IF(F301=\"\",\"\",INDEX(referentes!J:K,MATCH(F301,referentes!K:K,0),1))","v":""},{"$f":"IF(AI301=\"\",\"\",INDEX(referentes!M:N,MATCH(AI301,referentes!N:N,0),1))","v":""},{"$f":"IF(I301=\"\",\"\",INDEX(referentes!P:Q,MATCH(I301,referentes!Q:Q,0),1))","v":""},{"$f":"IF(J301=\"\",\"\",INDEX(referentes!S:T,MATCH(J301,referentes!T:T,0),1))","v":""},{"$f":"IF(AB301=\"\",\"\",INDEX(referentes!V:W,MATCH(AB301,referentes!W:W,0),1))","v":""},{"$f":"IF(Y301=\"\",\"\",INDEX(referentes!AZ:BA,MATCH(Y301,referentes!BA:BA,0),1))","v":""},"","","","",{"$f":"IF(BP301=\"\",\"\",INDEX(referentes!AE:AF,MATCH(BP301,referentes!AF:AF,0),1))","v":""},{"$f":"IF(BQ301=\"\",\"\",INDEX(referentes!AH:AI,MATCH(BQ301,referentes!AI:AI,0),1))","v":""},null,{"$f":"IF(D301=\"\",\"\",INDEX(referentes!A:B,MATCH(D301,referentes!B:B,0),1))","v":""},{"$f":"IF(AT301=\"\",\"\",INDEX(referentes!Y:Z,MATCH(AT301,referentes!Z:Z,0),1))","v":""},{"$f":"IF(AU301=\"\",\"\",INDEX(referentes!AB:AC,MATCH(AU301,referentes!AC:AC,0),1))","v":""}]
[null,{"$f":"IF(BT302=\"\",\"\",IF(COUNTIF($BT302:BT302, BT302)>1, \"\", BT302))","v":""},null,null,null,null,null,null,null,null,null,null,{"$f":"IF(L302=\"\",\"\",INDEX(referentes!AK:AL,MATCH(L302,referentes!AL:AL,0),1))","v":""},"",null,301,{"$f":"IF(K302=\"\",\"\",INDEX('Otras referencias'!F:I,MATCH(K302,'Otras referencias'!I:I,0),1))","v":""},"",null,null,null,null,null,null,null,null,null,null,null,null,null,null,null,null,null,null,null,null,null,null,null,null,null,null,null,null,null,null,null,null,null,null,0,0,0,0,0,0,0,0,null,null,null,null,null,0,null,null,null,null,null,{"$f":"IF(R302<>\"\",CONCATENATE($A$2,DIGITADOR!$M$1,ROW()-2),\"\")","v":""},"",{"$f":"IF(E302=\"\",\"\",INDEX(referentes!D:E,MATCH(E302,referentes!E:E,0),1))","v":""},{"$f":"IF(F302=\"\",\"\",INDEX(referentes!J:K,MATCH(F302,referentes!K:K,0),1))","v":""},{"$f":"IF(AI302=\"\",\"\",INDEX(referentes!M:N,MATCH(AI302,referentes!N:N,0),1))","v":""},{"$f":"IF(I302=\"\",\"\",INDEX(referentes!P:Q,MATCH(I302,referentes!Q:Q,0),1))","v":""},{"$f":"IF(J302=\"\",\"\",INDEX(referentes!S:T,MATCH(J302,referentes!T:T,0),1))","v":""},{"$f":"IF(AB302=\"\",\"\",INDEX(referentes!V:W,MATCH(AB302,referentes!W:W,0),1))","v":""},{"$f":"IF(Y302=\"\",\"\",INDEX(referentes!AZ:BA,MATCH(Y302,referentes!BA:BA,0),1))","v":""},"","","","",{"$f":"IF(BP302=\"\",\"\",INDEX(referentes!AE:AF,MATCH(BP302,referentes!AF:AF,0),1))","v":""},{"$f":"IF(BQ302=\"\",\"\",INDEX(referentes!AH:AI,MATCH(BQ302,referentes!AI:AI,0),1))","v":""},null,{"$f":"IF(D302=\"\",\"\",INDEX(referentes!A:B,MATCH(D302,referentes!B:B,0),1))","v":""},{"$f":"IF(AT302=\"\",\"\",INDEX(referentes!Y:Z,MATCH(AT302,referentes!Z:Z,0),1))","v":""},{"$f":"IF(AU302=\"\",\"\",INDEX(referentes!AB:AC,MATCH(AU302,referentes!AC:AC,0),1))","v":""}]
[null,{"$f":"IF(BT303=\"\",\"\",IF(COUNTIF($BT303:BT303, BT303)>1, \"\", BT303))","v":""},null,null,null,null,null,null,null,null,null,null,{"$f":"IF(L303=\"\",\"\",INDEX(referentes!AK:AL,MATCH(L303,referentes!AL:AL,0),1))","v":""},"",null,302,{"$f":"IF(K303=\"\",\"\",INDEX('Otras referencias'!F:I,MATCH(K303,'Otras referencias'!I:I,0),1))","v":""},"",null,null,null,null,null,null,null,null,null,null,null,null,null,null,null,null,null,null,null,null,null,null,null,null,null,null,null,null,null,null,null,null,null,null,0,0,0,0,0,0,0,0,null,null,null,null,null,0,null,null,null,null,null,{"$f":"IF(R303<>\"\",CONCATENATE($A$2,DIGITADOR!$M$1,ROW()-2),\"\")","v":""},"",{"$f":"IF(E303=\"\",\"\",INDEX(referentes!D:E,MATCH(E303,referentes!E:E,0),1))","v":""},{"$f":"IF(F303=\"\",\"\",INDEX(referentes!J:K,MATCH(F303,referentes!K:K,0),1))","v":""},{"$f":"IF(AI303=\"\",\"\",INDEX(referentes!M:N,MATCH(AI303,referentes!N:N,0),1))","v":""},{"$f":"IF(I303=\"\",\"\",INDEX(referentes!P:Q,MATCH(I303,referentes!Q:Q,0),1))","v":""},{"$f":"IF(J303=\"\",\"\",INDEX(referentes!S:T,MATCH(J303,referentes!T:T,0),1))","v":""},{"$f":"IF(AB303=\"\",\"\",INDEX(referentes!V:W,MATCH(AB303,referentes!W:W,0),1))","v":""},{"$f":"IF(Y303=\"\",\"\",INDEX(referentes!AZ:BA,MATCH(Y303,referentes!BA:BA,0),1))","v":""},"","","","",{"$f":"IF(BP303=\"\",\"\",INDEX(referentes!AE:AF,MATCH(BP303,referentes!AF:AF,0),1))","v":""},{"$f":"IF(BQ303=\"\",\"\",INDEX(referentes!AH:AI,MATCH(BQ303,referentes!AI:AI,0),1))","v":""},null,{"$f":"IF(D303=\"\",\"\",INDEX(referentes!A:B,MATCH(D303,referentes!B:B,0),1))","v":""},{"$f":"IF(AT303=\"\",\"\",INDEX(referentes!Y:Z,MATCH(AT303,referentes!Z:Z,0),1))","v":""},{"$f":"IF(AU303=\"\",\"\",INDEX(referentes!AB:AC,MATCH(AU303,referentes!AC:AC,0),1))","v":""}]
[null,{"$f":"IF(BT304=\"\",\"\",IF(COUNTIF($BT304:BT304, BT304)>1, \"\", BT304))","v":""},null,null,null,null,null,null,null,null,null,null,{"$f":"IF(L304=\"\",\"\",INDEX(referentes!AK:AL,MATCH(L304,referentes!AL:AL,0),1))","v":""},"",null,303,{"$f":"IF(K304=\"\",\"\",INDEX('Otras referencias'!F:I,MATCH(K304,'Otras referencias'!I:I,0),1))","v":""},"",null,null,null,null,null,null,null,null,null,null,null,null,null,null,null,null,null,null,null,null,null,null,null,null,null,null,null,null,null,null,null,null,null,null,0,0,0,0,0,0,0,0,null,null,null,null,null,0,null,null,null,null,null,{"$f":"IF(R304<>\"\",CONCATENATE($A$2,DIGITADOR!$M$1,ROW()-2),\"\")","v":""},"",{"$f":"IF(E304=\"\",\"\",INDEX(referentes!D:E,MATCH(E304,referentes!E:E,0),1))","v":""},{"$f":"IF(F304=\"\",\"\",INDEX(referentes!J:K,MATCH(F304,referentes!K:K,0),1))","v":""},{"$f":"IF(AI304=\"\",\"\",INDEX(referentes!M:N,MATCH(AI304,referentes!N:N,0),1))","v":""},{"$f":"IF(I304=\"\",\"\",INDEX(referentes!P:Q,MATCH(I304,referentes!Q:Q,0),1))","v":""},{"$f":"IF(J304=\"\",\"\",INDEX(referentes!S:T,MATCH(J304,referentes!T:T,0),1))","v":""},{"$f":"IF(AB304=\"\",\"\",INDEX(referentes!V:W,MATCH(AB304,referentes!W:W,0),1))","v":""},{"$f":"IF(Y304=\"\",\"\",INDEX(referentes!AZ:BA,MATCH(Y304,referentes!BA:BA,0),1))","v":""},"","","","",{"$f":"IF(BP304=\"\",\"\",INDEX(referentes!AE:AF,MATCH(BP304,referentes!AF:AF,0),1))","v":""},{"$f":"IF(BQ304=\"\",\"\",INDEX(referentes!AH:AI,MATCH(BQ304,referentes!AI:AI,0),1))","v":""},null,{"$f":"IF(D304=\"\",\"\",INDEX(referentes!A:B,MATCH(D304,referentes!B:B,0),1))","v":""},{"$f":"IF(AT304=\"\",\"\",INDEX(referentes!Y:Z,MATCH(AT304,referentes!Z:Z,0),1))","v":""},{"$f":"IF(AU304=\"\",\"\",INDEX(referentes!AB:AC,MATCH(AU304,referentes!AC:AC,0),1))","v":""}]
[null,{"$f":"IF(BT305=\"\",\"\",IF(COUNTIF($BT305:BT305, BT305)>1, \"\", BT305))","v":""},null,null,null,null,null,null,null,null,null,null,{"$f":"IF(L305=\"\",\"\",INDEX(referentes!AK:AL,MATCH(L305,referentes!AL:AL,0),1))","v":""},"",null,304,{"$f":"IF(K305=\"\",\"\",INDEX('Otras referencias'!F:I,MATCH(K305,'Otras referencias'!I:I,0),1))","v":""},"",null,null,null,null,null,null,null,null,null,null,null,null,null,null,null,null,null,null,null,null,null,null,null,null,null,null,null,null,null,null,null,null,null,null,0,0,0,0,0,0,0,0,null,null,null,null,null,0,null,null,null,null,null,{"$f":"IF(R305<>\"\",CONCATENATE($A$2,DIGITADOR!$M$1,ROW()-2),\"\")","v":""},"",{"$f":"IF(E305=\"\",\"\",INDEX(referentes!D:E,MATCH(E305,referentes!E:E,0),1))","v":""},{"$f":"IF(F305=\"\",\"\",INDEX(referentes!J:K,MATCH(F305,referentes!K:K,0),1))","v":""},{"$f":"IF(AI305=\"\",\"\",INDEX(referentes!M:N,MATCH(AI305,referentes!N:N,0),1))","v":""},{"$f":"IF(I305=\"\",\"\",INDEX(referentes!P:Q,MATCH(I305,referentes!Q:Q,0),1))","v":""},{"$f":"IF(J305=\"\",\"\",INDEX(referentes!S:T,MATCH(J305,referentes!T:T,0),1))","v":""},{"$f":"IF(AB305=\"\",\"\",INDEX(referentes!V:W,MATCH(AB305,referentes!W:W,0),1))","v":""},{"$f":"IF(Y305=\"\",\"\",INDEX(referentes!AZ:BA,MATCH(Y305,referentes!BA:BA,0),1))","v":""},"","","","",{"$f":"IF(BP305=\"\",\"\",INDEX(referentes!AE:AF,MATCH(BP305,referentes!AF:AF,0),1))","v":""},{"$f":"IF(BQ305=\"\",\"\",INDEX(referentes!AH:AI,MATCH(BQ305,referentes!AI:AI,0),1))","v":""},null,{"$f":"IF(D305=\"\",\"\",INDEX(referentes!A:B,MATCH(D305,referentes!B:B,0),1))","v":""},{"$f":"IF(AT305=\"\",\"\",INDEX(referentes!Y:Z,MATCH(AT305,referentes!Z:Z,0),1))","v":""},{"$f":"IF(AU305=\"\",\"\",INDEX(referentes!AB:AC,MATCH(AU305,referentes!AC:AC,0),1))","v":""}]
[null,{"$f":"IF(BT306=\"\",\"\",IF(COUNTIF($BT306:BT306, BT306)>1, \"\", BT306))","v":""},null,null,null,null,null,null,null,null,null,null,{"$f":"IF(L306=\"\",\"\",INDEX(referentes!AK:AL,MATCH(L306,referentes!AL:AL,0),1))","v":""},"",null,305,{"$f":"IF(K306=\"\",\"\",INDEX('Otras referencias'!F:I,MATCH(K306,'Otras referencias'!I:I,0),1))","v":""},"",null,null,null,null,null,null,null,null,null,null,null,null,null,null,null,null,null,null,null,null,null,null,null,null,null,null,null,null,null,null,null,null,null,null,0,0,0,0,0,0,0,0,null,null,null,null,null,0,null,null,null,null,null,{"$f":"IF(R306<>\"\",CONCATENATE($A$2,DIGITADOR!$M$1,ROW()-2),\"\")","v":""},"",{"$f":"IF(E306=\"\",\"\",INDEX(referentes!D:E,MATCH(E306,referentes!E:E,0),1))","v":""},{"$f":"IF(F306=\"\",\"\",INDEX(referentes!J:K,MATCH(F306,referentes!K:K,0),1))","v":""},{"$f":"IF(AI306=\"\",\"\",INDEX(referentes!M:N,MATCH(AI306,referentes!N:N,0),1))","v":""},{"$f":"IF(I306=\"\",\"\",INDEX(referentes!P:Q,MATCH(I306,referentes!Q:Q,0),1))","v":""},{"$f":"IF(J306=\"\",\"\",INDEX(referentes!S:T,MATCH(J306,referentes!T:T,0),1))","v":""},{"$f":"IF(AB306=\"\",\"\",INDEX(referentes!V:W,MATCH(AB306,referentes!W:W,0),1))","v":""},{"$f":"IF(Y306=\"\",\"\",INDEX(referentes!AZ:BA,MATCH(Y306,referentes!BA:BA,0),1))","v":""},"","","","",{"$f":"IF(BP306=\"\",\"\",INDEX(referentes!AE:AF,MATCH(BP306,referentes!AF:AF,0),1))","v":""},{"$f":"IF(BQ306=\"\",\"\",INDEX(referentes!AH:AI,MATCH(BQ306,referentes!AI:AI,0),1))","v":""},null,{"$f":"IF(D306=\"\",\"\",INDEX(referentes!A:B,MATCH(D306,referentes!B:B,0),1))","v":""},{"$f":"IF(AT306=\"\",\"\",INDEX(referentes!Y:Z,MATCH(AT306,referentes!Z:Z,0),1))","v":""},{"$f":"IF(AU306=\"\",\"\",INDEX(referentes!AB:AC,MATCH(AU306,referentes!AC:AC,0),1))","v":""}]
[null,{"$f":"IF(BT307=\"\",\"\",IF(COUNTIF($BT307:BT307, BT307)>1, \"\", BT307))","v":""},null,null,null,null,null,null,null,null,null,null,{"$f":"IF(L307=\"\",\"\",INDEX(referentes!AK:AL,MATCH(L307,referentes!AL:AL,0),1))","v":""},"",null,306,{"$f":"IF(K307=\"\",\"\",INDEX('Otras referencias'!F:I,MATCH(K307,'Otras referencias'!I:I,0),1))","v":""},"",null,null,null,null,null,null,null,null,null,null,null,null,null,null,null,null,null,null,null,null,null,null,null,null,null,null,null,null,null,null,null,null,null,null,0,0,0,0,0,0,0,0,null,null,null,null,null,0,null,null,null,null,null,{"$f":"IF(R307<>\"\",CONCATENATE($A$2,DIGITADOR!$M$1,ROW()-2),\"\")","v":""},"",{"$f":"IF(E307=\"\",\"\",INDEX(referentes!D:E,MATCH(E307,referentes!E:E,0),1))","v":""},{"$f":"IF(F307=\"\",\"\",INDEX(referentes!J:K,MATCH(F307,referentes!K:K,0),1))","v":""},{"$f":"IF(AI307=\"\",\"\",INDEX(referentes!M:N,MATCH(AI307,referentes!N:N,0),1))","v":""},{"$f":"IF(I307=\"\",\"\",INDEX(referentes!P:Q,MATCH(I307,referentes!Q:Q,0),1))","v":""},{"$f":"IF(J307=\"\",\"\",INDEX(referentes!S:T,MATCH(J307,referentes!T:T,0),1))","v":""},{"$f":"IF(AB307=\"\",\"\",INDEX(referentes!V:W,MATCH(AB307,referentes!W:W,0),1))","v":""},{"$f":"IF(Y307=\"\",\"\",INDEX(referentes!AZ:BA,MATCH(Y307,referentes!BA:BA,0),1))","v":""},"","","","",{"$f":"IF(BP307=\"\",\"\",INDEX(referentes!AE:AF,MATCH(BP307,referentes!AF:AF,0),1))","v":""},{"$f":"IF(BQ307=\"\",\"\",INDEX(referentes!AH:AI,MATCH(BQ307,referentes!AI:AI,0),1))","v":""},null,{"$f":"IF(D307=\"\",\"\",INDEX(referentes!A:B,MATCH(D307,referentes!B:B,0),1))","v":""},{"$f":"IF(AT307=\"\",\"\",INDEX(referentes!Y:Z,MATCH(AT307,referentes!Z:Z,0),1))","v":""},{"$f":"IF(AU307=\"\",\"\",INDEX(referentes!AB:AC,MATCH(AU307,referentes!AC:AC,0),1))","v":""}]
[null,{"$f":"IF(BT308=\"\",\"\",IF(COUNTIF($BT308:BT308, BT308)>1, \"\", BT308))","v":""},null,null,null,null,null,null,null,null,null,null,{"$f":"IF(L308=\"\",\"\",INDEX(referentes!AK:AL,MATCH(L308,referentes!AL:AL,0),1))","v":""},"",null,307,{"$f":"IF(K308=\"\",\"\",INDEX('Otras referencias'!F:I,MATCH(K308,'Otras referencias'!I:I,0),1))","v":""},"",null,null,null,null,null,null,null,null,null,null,null,null,null,null,null,null,null,null,null,null,null,null,null,null,null,null,null,null,null,null,null,null,null,null,0,0,0,0,0,0,0,0,null,null,null,null,null,0,null,null,null,null,null,{"$f":"IF(R308<>\"\",CONCATENATE($A$2,DIGITADOR!$M$1,ROW()-2),\"\")","v":""},"",{"$f":"IF(E308=\"\",\"\",INDEX(referentes!D:E,MATCH(E308,referentes!E:E,0),1))","v":""},{"$f":"IF(F308=\"\",\"\",INDEX(referentes!J:K,MATCH(F308,referentes!K:K,0),1))","v":""},{"$f":"IF(AI308=\"\",\"\",INDEX(referentes!M:N,MATCH(AI308,referentes!N:N,0),1))","v":""},{"$f":"IF(I308=\"\",\"\",INDEX(referentes!P:Q,MATCH(I308,referentes!Q:Q,0),1))","v":""},{"$f":"IF(J308=\"\",\"\",INDEX(referentes!S:T,MATCH(J308,referentes!T:T,0),1))","v":""},{"$f":"IF(AB308=\"\",\"\",INDEX(referentes!V:W,MATCH(AB308,referentes!W:W,0),1))","v":""},{"$f":"IF(Y308=\"\",\"\",INDEX(referentes!AZ:BA,MATCH(Y308,referentes!BA:BA,0),1))","v":""},"","","","",{"$f":"IF(BP308=\"\",\"\",INDEX(referentes!AE:AF,MATCH(BP308,referentes!AF:AF,0),1))","v":""},{"$f":"IF(BQ308=\"\",\"\",INDEX(referentes!AH:AI,MATCH(BQ308,referentes!AI:AI,0),1))","v":""},null,{"$f":"IF(D308=\"\",\"\",INDEX(referentes!A:B,MATCH(D308,referentes!B:B,0),1))","v":""},{"$f":"IF(AT308=\"\",\"\",INDEX(referentes!Y:Z,MATCH(AT308,referentes!Z:Z,0),1))","v":""},{"$f":"IF(AU308=\"\",\"\",INDEX(referentes!AB:AC,MATCH(AU308,referentes!AC:AC,0),1))","v":""}]
[null,{"$f":"IF(BT309=\"\",\"\",IF(COUNTIF($BT309:BT309, BT309)>1, \"\", BT309))","v":""},null,null,null,null,null,null,null,null,null,null,{"$f":"IF(L309=\"\",\"\",INDEX(referentes!AK:AL,MATCH(L309,referentes!AL:AL,0),1))","v":""},"",null,308,{"$f":"IF(K309=\"\",\"\",INDEX('Otras referencias'!F:I,MATCH(K309,'Otras referencias'!I:I,0),1))","v":""},"",null,null,null,null,null,null,null,null,null,null,null,null,null,null,null,null,null,null,null,null,null,null,null,null,null,null,null,null,null,null,null,null,null,null,0,0,0,0,0,0,0,0,null,null,null,null,null,0,null,null,null,null,null,{"$f":"IF(R309<>\"\",CONCATENATE($A$2,DIGITADOR!$M$1,ROW()-2),\"\")","v":""},"",{"$f":"IF(E309=\"\",\"\",INDEX(referentes!D:E,MATCH(E309,referentes!E:E,0),1))","v":""},{"$f":"IF(F309=\"\",\"\",INDEX(referentes!J:K,MATCH(F309,referentes!K:K,0),1))","v":""},{"$f":"IF(AI309=\"\",\"\",INDEX(referentes!M:N,MATCH(AI309,referentes!N:N,0),1))","v":""},{"$f":"IF(I309=\"\",\"\",INDEX(referentes!P:Q,MATCH(I309,referentes!Q:Q,0),1))","v":""},{"$f":"IF(J309=\"\",\"\",INDEX(referentes!S:T,MATCH(J309,referentes!T:T,0),1))","v":""},{"$f":"IF(AB309=\"\",\"\",INDEX(referentes!V:W,MATCH(AB309,referentes!W:W,0),1))","v":""},{"$f":"IF(Y309=\"\",\"\",INDEX(referentes!AZ:BA,MATCH(Y309,referentes!BA:BA,0),1))","v":""},"","","","",{"$f":"IF(BP309=\"\",\"\",INDEX(referentes!AE:AF,MATCH(BP309,referentes!AF:AF,0),1))","v":""},{"$f":"IF(BQ309=\"\",\"\",INDEX(referentes!AH:AI,MATCH(BQ309,referentes!AI:AI,0),1))","v":""},null,{"$f":"IF(D309=\"\",\"\",INDEX(referentes!A:B,MATCH(D309,referentes!B:B,0),1))","v":""},{"$f":"IF(AT309=\"\",\"\",INDEX(referentes!Y:Z,MATCH(AT309,referentes!Z:Z,0),1))","v":""},{"$f":"IF(AU309=\"\",\"\",INDEX(referentes!AB:AC,MATCH(AU309,referentes!AC:AC,0),1))","v":""}]
[null,{"$f":"IF(BT310=\"\",\"\",IF(COUNTIF($BT310:BT310, BT310)>1, \"\", BT310))","v":""},null,null,null,null,null,null,null,null,null,null,{"$f":"IF(L310=\"\",\"\",INDEX(referentes!AK:AL,MATCH(L310,referentes!AL:AL,0),1))","v":""},"",null,309,{"$f":"IF(K310=\"\",\"\",INDEX('Otras referencias'!F:I,MATCH(K310,'Otras referencias'!I:I,0),1))","v":""},"",null,null,null,null,null,null,null,null,null,null,null,null,null,null,null,null,null,null,null,null,null,null,null,null,null,null,null,null,null,null,null,null,null,null,0,0,0,0,0,0,0,0,null,null,null,null,null,0,null,null,null,null,null,{"$f":"IF(R310<>\"\",CONCATENATE($A$2,DIGITADOR!$M$1,ROW()-2),\"\")","v":""},"",{"$f":"IF(E310=\"\",\"\",INDEX(referentes!D:E,MATCH(E310,referentes!E:E,0),1))","v":""},{"$f":"IF(F310=\"\",\"\",INDEX(referentes!J:K,MATCH(F310,referentes!K:K,0),1))","v":""},{"$f":"IF(AI310=\"\",\"\",INDEX(referentes!M:N,MATCH(AI310,referentes!N:N,0),1))","v":""},{"$f":"IF(I310=\"\",\"\",INDEX(referentes!P:Q,MATCH(I310,referentes!Q:Q,0),1))","v":""},{"$f":"IF(J310=\"\",\"\",INDEX(referentes!S:T,MATCH(J310,referentes!T:T,0),1))","v":""},{"$f":"IF(AB310=\"\",\"\",INDEX(referentes!V:W,MATCH(AB310,referentes!W:W,0),1))","v":""},{"$f":"IF(Y310=\"\",\"\",INDEX(referentes!AZ:BA,MATCH(Y310,referentes!BA:BA,0),1))","v":""},"","","","",{"$f":"IF(BP310=\"\",\"\",INDEX(referentes!AE:AF,MATCH(BP310,referentes!AF:AF,0),1))","v":""},{"$f":"IF(BQ310=\"\",\"\",INDEX(referentes!AH:AI,MATCH(BQ310,referentes!AI:AI,0),1))","v":""},null,{"$f":"IF(D310=\"\",\"\",INDEX(referentes!A:B,MATCH(D310,referentes!B:B,0),1))","v":""},{"$f":"IF(AT310=\"\",\"\",INDEX(referentes!Y:Z,MATCH(AT310,referentes!Z:Z,0),1))","v":""},{"$f":"IF(AU310=\"\",\"\",INDEX(referentes!AB:AC,MATCH(AU310,referentes!AC:AC,0),1))","v":""}]
[null,{"$f":"IF(BT311=\"\",\"\",IF(COUNTIF($BT311:BT311, BT311)>1, \"\", BT311))","v":""},null,null,null,null,null,null,null,null,null,null,{"$f":"IF(L311=\"\",\"\",INDEX(referentes!AK:AL,MATCH(L311,referentes!AL:AL,0),1))","v":""},"",null,310,{"$f":"IF(K311=\"\",\"\",INDEX('Otras referencias'!F:I,MATCH(K311,'Otras referencias'!I:I,0),1))","v":""},"",null,null,null,null,null,null,null,null,null,null,null,null,null,null,null,null,null,null,null,null,null,null,null,null,null,null,null,null,null,null,null,null,null,null,0,0,0,0,0,0,0,0,null,null,null,null,null,0,null,null,null,null,null,{"$f":"IF(R311<>\"\",CONCATENATE($A$2,DIGITADOR!$M$1,ROW()-2),\"\")","v":""},"",{"$f":"IF(E311=\"\",\"\",INDEX(referentes!D:E,MATCH(E311,referentes!E:E,0),1))","v":""},{"$f":"IF(F311=\"\",\"\",INDEX(referentes!J:K,MATCH(F311,referentes!K:K,0),1))","v":""},{"$f":"IF(AI311=\"\",\"\",INDEX(referentes!M:N,MATCH(AI311,referentes!N:N,0),1))","v":""},{"$f":"IF(I311=\"\",\"\",INDEX(referentes!P:Q,MATCH(I311,referentes!Q:Q,0),1))","v":""},{"$f":"IF(J311=\"\",\"\",INDEX(referentes!S:T,MATCH(J311,referentes!T:T,0),1))","v":""},{"$f":"IF(AB311=\"\",\"\",INDEX(referentes!V:W,MATCH(AB311,referentes!W:W,0),1))","v":""},{"$f":"IF(Y311=\"\",\"\",INDEX(referentes!AZ:BA,MATCH(Y311,referentes!BA:BA,0),1))","v":""},"","","","",{"$f":"IF(BP311=\"\",\"\",INDEX(referentes!AE:AF,MATCH(BP311,referentes!AF:AF,0),1))","v":""},{"$f":"IF(BQ311=\"\",\"\",INDEX(referentes!AH:AI,MATCH(BQ311,referentes!AI:AI,0),1))","v":""},null,{"$f":"IF(D311=\"\",\"\",INDEX(referentes!A:B,MATCH(D311,referentes!B:B,0),1))","v":""},{"$f":"IF(AT311=\"\",\"\",INDEX(referentes!Y:Z,MATCH(AT311,referentes!Z:Z,0),1))","v":""},{"$f":"IF(AU311=\"\",\"\",INDEX(referentes!AB:AC,MATCH(AU311,referentes!AC:AC,0),1))","v":""}]
[null,{"$f":"IF(BT312=\"\",\"\",IF(COUNTIF($BT312:BT312, BT312)>1, \"\", BT312))","v":""},null,null,null,null,null,null,null,null,null,null,{"$f":"IF(L312=\"\",\"\",INDEX(referentes!AK:AL,MATCH(L312,referentes!AL:AL,0),1))","v":""},"",null,311,{"$f":"IF(K312=\"\",\"\",INDEX('Otras referencias'!F:I,MATCH(K312,'Otras referencias'!I:I,0),1))","v":""},"",null,null,null,null,null,null,null,null,null,null,null,null,null,null,null,null,null,null,null,null,null,null,null,null,null,null,null,null,null,null,null,null,null,null,0,0,0,0,0,0,0,0,null,null,null,null,null,0,null,null,null,null,null,{"$f":"IF(R312<>\"\",CONCATENATE($A$2,DIGITADOR!$M$1,ROW()-2),\"\")","v":""},"",{"$f":"IF(E312=\"\",\"\",INDEX(referentes!D:E,MATCH(E312,referentes!E:E,0),1))","v":""},{"$f":"IF(F312=\"\",\"\",INDEX(referentes!J:K,MATCH(F312,referentes!K:K,0),1))","v":""},{"$f":"IF(AI312=\"\",\"\",INDEX(referentes!M:N,MATCH(AI312,referentes!N:N,0),1))","v":""},{"$f":"IF(I312=\"\",\"\",INDEX(referentes!P:Q,MATCH(I312,referentes!Q:Q,0),1))","v":""},{"$f":"IF(J312=\"\",\"\",INDEX(referentes!S:T,MATCH(J312,referentes!T:T,0),1))","v":""},{"$f":"IF(AB312=\"\",\"\",INDEX(referentes!V:W,MATCH(AB312,referentes!W:W,0),1))","v":""},{"$f":"IF(Y312=\"\",\"\",INDEX(referentes!AZ:BA,MATCH(Y312,referentes!BA:BA,0),1))","v":""},"","","","",{"$f":"IF(BP312=\"\",\"\",INDEX(referentes!AE:AF,MATCH(BP312,referentes!AF:AF,0),1))","v":""},{"$f":"IF(BQ312=\"\",\"\",INDEX(referentes!AH:AI,MATCH(BQ312,referentes!AI:AI,0),1))","v":""},null,{"$f":"IF(D312=\"\",\"\",INDEX(referentes!A:B,MATCH(D312,referentes!B:B,0),1))","v":""},{"$f":"IF(AT312=\"\",\"\",INDEX(referentes!Y:Z,MATCH(AT312,referentes!Z:Z,0),1))","v":""},{"$f":"IF(AU312=\"\",\"\",INDEX(referentes!AB:AC,MATCH(AU312,referentes!AC:AC,0),1))","v":""}]
[null,{"$f":"IF(BT313=\"\",\"\",IF(COUNTIF($BT313:BT313, BT313)>1, \"\", BT313))","v":""},null,null,null,null,null,null,null,null,null,null,{"$f":"IF(L313=\"\",\"\",INDEX(referentes!AK:AL,MATCH(L313,referentes!AL:AL,0),1))","v":""},"",null,312,{"$f":"IF(K313=\"\",\"\",INDEX('Otras referencias'!F:I,MATCH(K313,'Otras referencias'!I:I,0),1))","v":""},"",null,null,null,null,null,null,null,null,null,null,null,null,null,null,null,null,null,null,null,null,null,null,null,null,null,null,null,null,null,null,null,null,null,null,0,0,0,0,0,0,0,0,null,null,null,null,null,0,null,null,null,null,null,{"$f":"IF(R313<>\"\",CONCATENATE($A$2,DIGITADOR!$M$1,ROW()-2),\"\")","v":""},"",{"$f":"IF(E313=\"\",\"\",INDEX(referentes!D:E,MATCH(E313,referentes!E:E,0),1))","v":""},{"$f":"IF(F313=\"\",\"\",INDEX(referentes!J:K,MATCH(F313,referentes!K:K,0),1))","v":""},{"$f":"IF(AI313=\"\",\"\",INDEX(referentes!M:N,MATCH(AI313,referentes!N:N,0),1))","v":""},{"$f":"IF(I313=\"\",\"\",INDEX(referentes!P:Q,MATCH(I313,referentes!Q:Q,0),1))","v":""},{"$f":"IF(J313=\"\",\"\",INDEX(referentes!S:T,MATCH(J313,referentes!T:T,0),1))","v":""},{"$f":"IF(AB313=\"\",\"\",INDEX(referentes!V:W,MATCH(AB313,referentes!W:W,0),1))","v":""},{"$f":"IF(Y313=\"\",\"\",INDEX(referentes!AZ:BA,MATCH(Y313,referentes!BA:BA,0),1))","v":""},"","","","",{"$f":"IF(BP313=\"\",\"\",INDEX(referentes!AE:AF,MATCH(BP313,referentes!AF:AF,0),1))","v":""},{"$f":"IF(BQ313=\"\",\"\",INDEX(referentes!AH:AI,MATCH(BQ313,referentes!AI:AI,0),1))","v":""},null,{"$f":"IF(D313=\"\",\"\",INDEX(referentes!A:B,MATCH(D313,referentes!B:B,0),1))","v":""},{"$f":"IF(AT313=\"\",\"\",INDEX(referentes!Y:Z,MATCH(AT313,referentes!Z:Z,0),1))","v":""},{"$f":"IF(AU313=\"\",\"\",INDEX(referentes!AB:AC,MATCH(AU313,referentes!AC:AC,0),1))","v":""}]
[null,{"$f":"IF(BT314=\"\",\"\",IF(COUNTIF($BT314:BT314, BT314)>1, \"\", BT314))","v":""},null,null,null,null,null,null,null,null,null,null,{"$f":"IF(L314=\"\",\"\",INDEX(referentes!AK:AL,MATCH(L314,referentes!AL:AL,0),1))","v":""},"",null,313,{"$f":"IF(K314=\"\",\"\",INDEX('Otras referencias'!F:I,MATCH(K314,'Otras referencias'!I:I,0),1))","v":""},"",null,null,null,null,null,null,null,null,null,null,null,null,null,null,null,null,null,null,null,null,null,null,null,null,null,null,null,null,null,null,null,null,null,null,0,0,0,0,0,0,0,0,null,null,null,null,null,0,null,null,null,null,null,{"$f":"IF(R314<>\"\",CONCATENATE($A$2,DIGITADOR!$M$1,ROW()-2),\"\")","v":""},"",{"$f":"IF(E314=\"\",\"\",INDEX(referentes!D:E,MATCH(E314,referentes!E:E,0),1))","v":""},{"$f":"IF(F314=\"\",\"\",INDEX(referentes!J:K,MATCH(F314,referentes!K:K,0),1))","v":""},{"$f":"IF(AI314=\"\",\"\",INDEX(referentes!M:N,MATCH(AI314,referentes!N:N,0),1))","v":""},{"$f":"IF(I314=\"\",\"\",INDEX(referentes!P:Q,MATCH(I314,referentes!Q:Q,0),1))","v":""},{"$f":"IF(J314=\"\",\"\",INDEX(referentes!S:T,MATCH(J314,referentes!T:T,0),1))","v":""},{"$f":"IF(AB314=\"\",\"\",INDEX(referentes!V:W,MATCH(AB314,referentes!W:W,0),1))","v":""},{"$f":"IF(Y314=\"\",\"\",INDEX(referentes!AZ:BA,MATCH(Y314,referentes!BA:BA,0),1))","v":""},"","","","",{"$f":"IF(BP314=\"\",\"\",INDEX(referentes!AE:AF,MATCH(BP314,referentes!AF:AF,0),1))","v":""},{"$f":"IF(BQ314=\"\",\"\",INDEX(referentes!AH:AI,MATCH(BQ314,referentes!AI:AI,0),1))","v":""},null,{"$f":"IF(D314=\"\",\"\",INDEX(referentes!A:B,MATCH(D314,referentes!B:B,0),1))","v":""},{"$f":"IF(AT314=\"\",\"\",INDEX(referentes!Y:Z,MATCH(AT314,referentes!Z:Z,0),1))","v":""},{"$f":"IF(AU314=\"\",\"\",INDEX(referentes!AB:AC,MATCH(AU314,referentes!AC:AC,0),1))","v":""}]
[null,{"$f":"IF(BT315=\"\",\"\",IF(COUNTIF($BT315:BT315, BT315)>1, \"\", BT315))","v":""},null,null,null,null,null,null,null,null,null,null,{"$f":"IF(L315=\"\",\"\",INDEX(referentes!AK:AL,MATCH(L315,referentes!AL:AL,0),1))","v":""},"",null,314,{"$f":"IF(K315=\"\",\"\",INDEX('Otras referencias'!F:I,MATCH(K315,'Otras referencias'!I:I,0),1))","v":""},"",null,null,null,null,null,null,null,null,null,null,null,null,null,null,null,null,null,null,null,null,null,null,null,null,null,null,null,null,null,null,null,null,null,null,0,0,0,0,0,0,0,0,null,null,null,null,null,0,null,null,null,null,null,{"$f":"IF(R315<>\"\",CONCATENATE($A$2,DIGITADOR!$M$1,ROW()-2),\"\")","v":""},"",{"$f":"IF(E315=\"\",\"\",INDEX(referentes!D:E,MATCH(E315,referentes!E:E,0),1))","v":""},{"$f":"IF(F315=\"\",\"\",INDEX(referentes!J:K,MATCH(F315,referentes!K:K,0),1))","v":""},{"$f":"IF(AI315=\"\",\"\",INDEX(referentes!M:N,MATCH(AI315,referentes!N:N,0),1))","v":""},{"$f":"IF(I315=\"\",\"\",INDEX(referentes!P:Q,MATCH(I315,referentes!Q:Q,0),1))","v":""},{"$f":"IF(J315=\"\",\"\",INDEX(referentes!S:T,MATCH(J315,referentes!T:T,0),1))","v":""},{"$f":"IF(AB315=\"\",\"\",INDEX(referentes!V:W,MATCH(AB315,referentes!W:W,0),1))","v":""},{"$f":"IF(Y315=\"\",\"\",INDEX(referentes!AZ:BA,MATCH(Y315,referentes!BA:BA,0),1))","v":""},"","","","",{"$f":"IF(BP315=\"\",\"\",INDEX(referentes!AE:AF,MATCH(BP315,referentes!AF:AF,0),1))","v":""},{"$f":"IF(BQ315=\"\",\"\",INDEX(referentes!AH:AI,MATCH(BQ315,referentes!AI:AI,0),1))","v":""},null,{"$f":"IF(D315=\"\",\"\",INDEX(referentes!A:B,MATCH(D315,referentes!B:B,0),1))","v":""},{"$f":"IF(AT315=\"\",\"\",INDEX(referentes!Y:Z,MATCH(AT315,referentes!Z:Z,0),1))","v":""},{"$f":"IF(AU315=\"\",\"\",INDEX(referentes!AB:AC,MATCH(AU315,referentes!AC:AC,0),1))","v":""}]
[null,{"$f":"IF(BT316=\"\",\"\",IF(COUNTIF($BT316:BT316, BT316)>1, \"\", BT316))","v":""},null,null,null,null,null,null,null,null,null,null,{"$f":"IF(L316=\"\",\"\",INDEX(referentes!AK:AL,MATCH(L316,referentes!AL:AL,0),1))","v":""},"",null,315,{"$f":"IF(K316=\"\",\"\",INDEX('Otras referencias'!F:I,MATCH(K316,'Otras referencias'!I:I,0),1))","v":""},"",null,null,null,null,null,null,null,null,null,null,null,null,null,null,null,null,null,null,null,null,null,null,null,null,null,null,null,null,null,null,null,null,null,null,0,0,0,0,0,0,0,0,null,null,null,null,null,0,null,null,null,null,null,{"$f":"IF(R316<>\"\",CONCATENATE($A$2,DIGITADOR!$M$1,ROW()-2),\"\")","v":""},"",{"$f":"IF(E316=\"\",\"\",INDEX(referentes!D:E,MATCH(E316,referentes!E:E,0),1))","v":""},{"$f":"IF(F316=\"\",\"\",INDEX(referentes!J:K,MATCH(F316,referentes!K:K,0),1))","v":""},{"$f":"IF(AI316=\"\",\"\",INDEX(referentes!M:N,MATCH(AI316,referentes!N:N,0),1))","v":""},{"$f":"IF(I316=\"\",\"\",INDEX(referentes!P:Q,MATCH(I316,referentes!Q:Q,0),1))","v":""},{"$f":"IF(J316=\"\",\"\",INDEX(referentes!S:T,MATCH(J316,referentes!T:T,0),1))","v":""},{"$f":"IF(AB316=\"\",\"\",INDEX(referentes!V:W,MATCH(AB316,referentes!W:W,0),1))","v":""},{"$f":"IF(Y316=\"\",\"\",INDEX(referentes!AZ:BA,MATCH(Y316,referentes!BA:BA,0),1))","v":""},"","","","",{"$f":"IF(BP316=\"\",\"\",INDEX(referentes!AE:AF,MATCH(BP316,referentes!AF:AF,0),1))","v":""},{"$f":"IF(BQ316=\"\",\"\",INDEX(referentes!AH:AI,MATCH(BQ316,referentes!AI:AI,0),1))","v":""},null,{"$f":"IF(D316=\"\",\"\",INDEX(referentes!A:B,MATCH(D316,referentes!B:B,0),1))","v":""},{"$f":"IF(AT316=\"\",\"\",INDEX(referentes!Y:Z,MATCH(AT316,referentes!Z:Z,0),1))","v":""},{"$f":"IF(AU316=\"\",\"\",INDEX(referentes!AB:AC,MATCH(AU316,referentes!AC:AC,0),1))","v":""}]
[null,{"$f":"IF(BT317=\"\",\"\",IF(COUNTIF($BT317:BT317, BT317)>1, \"\", BT317))","v":""},null,null,null,null,null,null,null,null,null,null,{"$f":"IF(L317=\"\",\"\",INDEX(referentes!AK:AL,MATCH(L317,referentes!AL:AL,0),1))","v":""},"",null,316,{"$f":"IF(K317=\"\",\"\",INDEX('Otras referencias'!F:I,MATCH(K317,'Otras referencias'!I:I,0),1))","v":""},"",null,null,null,null,null,null,null,null,null,null,null,null,null,null,null,null,null,null,null,null,null,null,null,null,null,null,null,null,null,null,null,null,null,null,0,0,0,0,0,0,0,0,null,null,null,null,null,0,null,null,null,null,null,{"$f":"IF(R317<>\"\",CONCATENATE($A$2,DIGITADOR!$M$1,ROW()-2),\"\")","v":""},"",{"$f":"IF(E317=\"\",\"\",INDEX(referentes!D:E,MATCH(E317,referentes!E:E,0),1))","v":""},{"$f":"IF(F317=\"\",\"\",INDEX(referentes!J:K,MATCH(F317,referentes!K:K,0),1))","v":""},{"$f":"IF(AI317=\"\",\"\",INDEX(referentes!M:N,MATCH(AI317,referentes!N:N,0),1))","v":""},{"$f":"IF(I317=\"\",\"\",INDEX(referentes!P:Q,MATCH(I317,referentes!Q:Q,0),1))","v":""},{"$f":"IF(J317=\"\",\"\",INDEX(referentes!S:T,MATCH(J317,referentes!T:T,0),1))","v":""},{"$f":"IF(AB317=\"\",\"\",INDEX(referentes!V:W,MATCH(AB317,referentes!W:W,0),1))","v":""},{"$f":"IF(Y317=\"\",\"\",INDEX(referentes!AZ:BA,MATCH(Y317,referentes!BA:BA,0),1))","v":""},"","","","",{"$f":"IF(BP317=\"\",\"\",INDEX(referentes!AE:AF,MATCH(BP317,referentes!AF:AF,0),1))","v":""},{"$f":"IF(BQ317=\"\",\"\",INDEX(referentes!AH:AI,MATCH(BQ317,referentes!AI:AI,0),1))","v":""},null,{"$f":"IF(D317=\"\",\"\",INDEX(referentes!A:B,MATCH(D317,referentes!B:B,0),1))","v":""},{"$f":"IF(AT317=\"\",\"\",INDEX(referentes!Y:Z,MATCH(AT317,referentes!Z:Z,0),1))","v":""},{"$f":"IF(AU317=\"\",\"\",INDEX(referentes!AB:AC,MATCH(AU317,referentes!AC:AC,0),1))","v":""}]
[null,{"$f":"IF(BT318=\"\",\"\",IF(COUNTIF($BT318:BT318, BT318)>1, \"\", BT318))","v":""},null,null,null,null,null,null,null,null,null,null,{"$f":"IF(L318=\"\",\"\",INDEX(referentes!AK:AL,MATCH(L318,referentes!AL:AL,0),1))","v":""},"",null,317,{"$f":"IF(K318=\"\",\"\",INDEX('Otras referencias'!F:I,MATCH(K318,'Otras referencias'!I:I,0),1))","v":""},"",null,null,null,null,null,null,null,null,null,null,null,null,null,null,null,null,null,null,null,null,null,null,null,null,null,null,null,null,null,null,null,null,null,null,0,0,0,0,0,0,0,0,null,null,null,null,null,0,null,null,null,null,null,{"$f":"IF(R318<>\"\",CONCATENATE($A$2,DIGITADOR!$M$1,ROW()-2),\"\")","v":""},"",{"$f":"IF(E318=\"\",\"\",INDEX(referentes!D:E,MATCH(E318,referentes!E:E,0),1))","v":""},{"$f":"IF(F318=\"\",\"\",INDEX(referentes!J:K,MATCH(F318,referentes!K:K,0),1))","v":""},{"$f":"IF(AI318=\"\",\"\",INDEX(referentes!M:N,MATCH(AI318,referentes!N:N,0),1))","v":""},{"$f":"IF(I318=\"\",\"\",INDEX(referentes!P:Q,MATCH(I318,referentes!Q:Q,0),1))","v":""},{"$f":"IF(J318=\"\",\"\",INDEX(referentes!S:T,MATCH(J318,referentes!T:T,0),1))","v":""},{"$f":"IF(AB318=\"\",\"\",INDEX(referentes!V:W,MATCH(AB318,referentes!W:W,0),1))","v":""},{"$f":"IF(Y318=\"\",\"\",INDEX(referentes!AZ:BA,MATCH(Y318,referentes!BA:BA,0),1))","v":""},"","","","",{"$f":"IF(BP318=\"\",\"\",INDEX(referentes!AE:AF,MATCH(BP318,referentes!AF:AF,0),1))","v":""},{"$f":"IF(BQ318=\"\",\"\",INDEX(referentes!AH:AI,MATCH(BQ318,referentes!AI:AI,0),1))","v":""},null,{"$f":"IF(D318=\"\",\"\",INDEX(referentes!A:B,MATCH(D318,referentes!B:B,0),1))","v":""},{"$f":"IF(AT318=\"\",\"\",INDEX(referentes!Y:Z,MATCH(AT318,referentes!Z:Z,0),1))","v":""},{"$f":"IF(AU318=\"\",\"\",INDEX(referentes!AB:AC,MATCH(AU318,referentes!AC:AC,0),1))","v":""}]
[null,{"$f":"IF(BT319=\"\",\"\",IF(COUNTIF($BT319:BT319, BT319)>1, \"\", BT319))","v":""},null,null,null,null,null,null,null,null,null,null,{"$f":"IF(L319=\"\",\"\",INDEX(referentes!AK:AL,MATCH(L319,referentes!AL:AL,0),1))","v":""},"",null,318,{"$f":"IF(K319=\"\",\"\",INDEX('Otras referencias'!F:I,MATCH(K319,'Otras referencias'!I:I,0),1))","v":""},"",null,null,null,null,null,null,null,null,null,null,null,null,null,null,null,null,null,null,null,null,null,null,null,null,null,null,null,null,null,null,null,null,null,null,0,0,0,0,0,0,0,0,null,null,null,null,null,0,null,null,null,null,null,{"$f":"IF(R319<>\"\",CONCATENATE($A$2,DIGITADOR!$M$1,ROW()-2),\"\")","v":""},"",{"$f":"IF(E319=\"\",\"\",INDEX(referentes!D:E,MATCH(E319,referentes!E:E,0),1))","v":""},{"$f":"IF(F319=\"\",\"\",INDEX(referentes!J:K,MATCH(F319,referentes!K:K,0),1))","v":""},{"$f":"IF(AI319=\"\",\"\",INDEX(referentes!M:N,MATCH(AI319,referentes!N:N,0),1))","v":""},{"$f":"IF(I319=\"\",\"\",INDEX(referentes!P:Q,MATCH(I319,referentes!Q:Q,0),1))","v":""},{"$f":"IF(J319=\"\",\"\",INDEX(referentes!S:T,MATCH(J319,referentes!T:T,0),1))","v":""},{"$f":"IF(AB319=\"\",\"\",INDEX(referentes!V:W,MATCH(AB319,referentes!W:W,0),1))","v":""},{"$f":"IF(Y319=\"\",\"\",INDEX(referentes!AZ:BA,MATCH(Y319,referentes!BA:BA,0),1))","v":""},"","","","",{"$f":"IF(BP319=\"\",\"\",INDEX(referentes!AE:AF,MATCH(BP319,referentes!AF:AF,0),1))","v":""},{"$f":"IF(BQ319=\"\",\"\",INDEX(referentes!AH:AI,MATCH(BQ319,referentes!AI:AI,0),1))","v":""},null,{"$f":"IF(D319=\"\",\"\",INDEX(referentes!A:B,MATCH(D319,referentes!B:B,0),1))","v":""},{"$f":"IF(AT319=\"\",\"\",INDEX(referentes!Y:Z,MATCH(AT319,referentes!Z:Z,0),1))","v":""},{"$f":"IF(AU319=\"\",\"\",INDEX(referentes!AB:AC,MATCH(AU319,referentes!AC:AC,0),1))","v":""}]
[null,{"$f":"IF(BT320=\"\",\"\",IF(COUNTIF($BT320:BT320, BT320)>1, \"\", BT320))","v":""},null,null,null,null,null,null,null,null,null,null,{"$f":"IF(L320=\"\",\"\",INDEX(referentes!AK:AL,MATCH(L320,referentes!AL:AL,0),1))","v":""},"",null,319,{"$f":"IF(K320=\"\",\"\",INDEX('Otras referencias'!F:I,MATCH(K320,'Otras referencias'!I:I,0),1))","v":""},"",null,null,null,null,null,null,null,null,null,null,null,null,null,null,null,null,null,null,null,null,null,null,null,null,null,null,null,null,null,null,null,null,null,null,0,0,0,0,0,0,0,0,null,null,null,null,null,0,null,null,null,null,null,{"$f":"IF(R320<>\"\",CONCATENATE($A$2,DIGITADOR!$M$1,ROW()-2),\"\")","v":""},"",{"$f":"IF(E320=\"\",\"\",INDEX(referentes!D:E,MATCH(E320,referentes!E:E,0),1))","v":""},{"$f":"IF(F320=\"\",\"\",INDEX(referentes!J:K,MATCH(F320,referentes!K:K,0),1))","v":""},{"$f":"IF(AI320=\"\",\"\",INDEX(referentes!M:N,MATCH(AI320,referentes!N:N,0),1))","v":""},{"$f":"IF(I320=\"\",\"\",INDEX(referentes!P:Q,MATCH(I320,referentes!Q:Q,0),1))","v":""},{"$f":"IF(J320=\"\",\"\",INDEX(referentes!S:T,MATCH(J320,referentes!T:T,0),1))","v":""},{"$f":"IF(AB320=\"\",\"\",INDEX(referentes!V:W,MATCH(AB320,referentes!W:W,0),1))","v":""},{"$f":"IF(Y320=\"\",\"\",INDEX(referentes!AZ:BA,MATCH(Y320,referentes!BA:BA,0),1))","v":""},"","","","",{"$f":"IF(BP320=\"\",\"\",INDEX(referentes!AE:AF,MATCH(BP320,referentes!AF:AF,0),1))","v":""},{"$f":"IF(BQ320=\"\",\"\",INDEX(referentes!AH:AI,MATCH(BQ320,referentes!AI:AI,0),1))","v":""},null,{"$f":"IF(D320=\"\",\"\",INDEX(referentes!A:B,MATCH(D320,referentes!B:B,0),1))","v":""},{"$f":"IF(AT320=\"\",\"\",INDEX(referentes!Y:Z,MATCH(AT320,referentes!Z:Z,0),1))","v":""},{"$f":"IF(AU320=\"\",\"\",INDEX(referentes!AB:AC,MATCH(AU320,referentes!AC:AC,0),1))","v":""}]
[null,{"$f":"IF(BT321=\"\",\"\",IF(COUNTIF($BT321:BT321, BT321)>1, \"\", BT321))","v":""},null,null,null,null,null,null,null,null,null,null,{"$f":"IF(L321=\"\",\"\",INDEX(referentes!AK:AL,MATCH(L321,referentes!AL:AL,0),1))","v":""},"",null,320,{"$f":"IF(K321=\"\",\"\",INDEX('Otras referencias'!F:I,MATCH(K321,'Otras referencias'!I:I,0),1))","v":""},"",null,null,null,null,null,null,null,null,null,null,null,null,null,null,null,null,null,null,null,null,null,null,null,null,null,null,null,null,null,null,null,null,null,null,0,0,0,0,0,0,0,0,null,null,null,null,null,0,null,null,null,null,null,{"$f":"IF(R321<>\"\",CONCATENATE($A$2,DIGITADOR!$M$1,ROW()-2),\"\")","v":""},"",{"$f":"IF(E321=\"\",\"\",INDEX(referentes!D:E,MATCH(E321,referentes!E:E,0),1))","v":""},{"$f":"IF(F321=\"\",\"\",INDEX(referentes!J:K,MATCH(F321,referentes!K:K,0),1))","v":""},{"$f":"IF(AI321=\"\",\"\",INDEX(referentes!M:N,MATCH(AI321,referentes!N:N,0),1))","v":""},{"$f":"IF(I321=\"\",\"\",INDEX(referentes!P:Q,MATCH(I321,referentes!Q:Q,0),1))","v":""},{"$f":"IF(J321=\"\",\"\",INDEX(referentes!S:T,MATCH(J321,referentes!T:T,0),1))","v":""},{"$f":"IF(AB321=\"\",\"\",INDEX(referentes!V:W,MATCH(AB321,referentes!W:W,0),1))","v":""},{"$f":"IF(Y321=\"\",\"\",INDEX(referentes!AZ:BA,MATCH(Y321,referentes!BA:BA,0),1))","v":""},"","","","",{"$f":"IF(BP321=\"\",\"\",INDEX(referentes!AE:AF,MATCH(BP321,referentes!AF:AF,0),1))","v":""},{"$f":"IF(BQ321=\"\",\"\",INDEX(referentes!AH:AI,MATCH(BQ321,referentes!AI:AI,0),1))","v":""},null,{"$f":"IF(D321=\"\",\"\",INDEX(referentes!A:B,MATCH(D321,referentes!B:B,0),1))","v":""},{"$f":"IF(AT321=\"\",\"\",INDEX(referentes!Y:Z,MATCH(AT321,referentes!Z:Z,0),1))","v":""},{"$f":"IF(AU321=\"\",\"\",INDEX(referentes!AB:AC,MATCH(AU321,referentes!AC:AC,0),1))","v":""}]
[null,{"$f":"IF(BT322=\"\",\"\",IF(COUNTIF($BT322:BT322, BT322)>1, \"\", BT322))","v":""},null,null,null,null,null,null,null,null,null,null,{"$f":"IF(L322=\"\",\"\",INDEX(referentes!AK:AL,MATCH(L322,referentes!AL:AL,0),1))","v":""},"",null,321,{"$f":"IF(K322=\"\",\"\",INDEX('Otras referencias'!F:I,MATCH(K322,'Otras referencias'!I:I,0),1))","v":""},"",null,null,null,null,null,null,null,null,null,null,null,null,null,null,null,null,null,null,null,null,null,null,null,null,null,null,null,null,null,null,null,null,null,null,0,0,0,0,0,0,0,0,null,null,null,null,null,0,null,null,null,null,null,{"$f":"IF(R322<>\"\",CONCATENATE($A$2,DIGITADOR!$M$1,ROW()-2),\"\")","v":""},"",{"$f":"IF(E322=\"\",\"\",INDEX(referentes!D:E,MATCH(E322,referentes!E:E,0),1))","v":""},{"$f":"IF(F322=\"\",\"\",INDEX(referentes!J:K,MATCH(F322,referentes!K:K,0),1))","v":""},{"$f":"IF(AI322=\"\",\"\",INDEX(referentes!M:N,MATCH(AI322,referentes!N:N,0),1))","v":""},{"$f":"IF(I322=\"\",\"\",INDEX(referentes!P:Q,MATCH(I322,referentes!Q:Q,0),1))","v":""},{"$f":"IF(J322=\"\",\"\",INDEX(referentes!S:T,MATCH(J322,referentes!T:T,0),1))","v":""},{"$f":"IF(AB322=\"\",\"\",INDEX(referentes!V:W,MATCH(AB322,referentes!W:W,0),1))","v":""},{"$f":"IF(Y322=\"\",\"\",INDEX(referentes!AZ:BA,MATCH(Y322,referentes!BA:BA,0),1))","v":""},"","","","",{"$f":"IF(BP322=\"\",\"\",INDEX(referentes!AE:AF,MATCH(BP322,referentes!AF:AF,0),1))","v":""},{"$f":"IF(BQ322=\"\",\"\",INDEX(referentes!AH:AI,MATCH(BQ322,referentes!AI:AI,0),1))","v":""},null,{"$f":"IF(D322=\"\",\"\",INDEX(referentes!A:B,MATCH(D322,referentes!B:B,0),1))","v":""},{"$f":"IF(AT322=\"\",\"\",INDEX(referentes!Y:Z,MATCH(AT322,referentes!Z:Z,0),1))","v":""},{"$f":"IF(AU322=\"\",\"\",INDEX(referentes!AB:AC,MATCH(AU322,referentes!AC:AC,0),1))","v":""}]
[null,{"$f":"IF(BT323=\"\",\"\",IF(COUNTIF($BT323:BT323, BT323)>1, \"\", BT323))","v":""},null,null,null,null,null,null,null,null,null,null,{"$f":"IF(L323=\"\",\"\",INDEX(referentes!AK:AL,MATCH(L323,referentes!AL:AL,0),1))","v":""},"",null,322,{"$f":"IF(K323=\"\",\"\",INDEX('Otras referencias'!F:I,MATCH(K323,'Otras referencias'!I:I,0),1))","v":""},{"$f":"IF(U323=\"\",\"\",DATEVALUE(CONCATENATE(U323,\"/\",TEXT(V323,\"00\"),\"/\",TEXT(W323,\"00\"))))","v":""},null,null,null,null,null,null,null,null,null,null,null,null,null,null,null,null,null,null,null,null,null,null,null,null,null,null,null,null,null,null,null,null,null,null,{"$f":"IF(ISERR(FIND($BA$1,AZ323)),0,1)","v":0},{"$f":"IF(ISERR(FIND($BB$1,AZ323)),0,1)","v":0},{"$f":"IF(ISERR(FIND($BC$1,AZ323)),0,1)","v":0},{"$f":"IF(ISERR(FIND($BD$1,AZ323)),0,1)","v":0},{"$f":"IF(ISERR(FIND($BE$1,AZ323)),0,1)","v":0},{"$f":"IF(ISERR(FIND($BF$1,AZ323)),0,1)","v":0},{"$f":"IF(ISERR(FIND($BG$1,AZ323)),0,1)","v":0},{"$f":"IF(ISERR(FIND($BH$1,AZ323)),0,1)","v":0},null,null,null,null,null,{"$f":"BA323+2*BB323+4*BC323+8*BD323+16*BE323+32*BF323+64*BG323+128*BH323","v":0},null,null,null,null,null,{"$f":"IF(R323<>\"\",CONCATENATE($A$2,DIGITADOR!$M$1,ROW()-2),\"\")","v":""},{"$f":"IF(B323=\"\",\"\",CONCATENATE(B323,ROW()-1))","v":""},{"$f":"IF(E323=\"\",\"\",INDEX(referentes!D:E,MATCH(E323,referentes!E:E,0),1))","v":""},{"$f":"IF(F323=\"\",\"\",INDEX(referentes!J:K,MATCH(F323,referentes!K:K,0),1))","v":""},{"$f":"IF(AI323=\"\",\"\",INDEX(referentes!M:N,MATCH(AI323,referentes!N:N,0),1))","v":""},{"$f":"IF(I323=\"\",\"\",INDEX(referentes!P:Q,MATCH(I323,referentes!Q:Q,0),1))","v":""},{"$f":"IF(J323=\"\",\"\",INDEX(referentes!S:T,MATCH(J323,referentes!T:T,0),1))","v":""},{"$f":"IF(AB323=\"\",\"\",INDEX(referentes!V:W,MATCH(AB323,referentes!W:W,0),1))","v":""},{"$f":"IF(Y323=\"\",\"\",INDEX(referentes!AZ:BA,MATCH(Y323,referentes!BA:BA,0),1))","v":""},{"$f":"IF(Z323=\"\",IF(R323=\"\",\"\",R323),R323+Z323)","v":""},{"$f":"IF(AA323=\"\",IF(R323=\"\",\"\",R323),R323+AA323)","v":""},{"$f":"IF(OR(AC323=\"\",AD323=\"\",AE323=\"\"),\"\",AD323/60+AE323/3600+AC323)","v":""},{"$f":"IF(OR(AF323=\"\",AG323=\"\",AH323=\"\"),\"\",(ABS(AF323)+(AG323/60)+(AH323/3600))*-1)","v":""},{"$f":"IF(BP323=\"\",\"\",INDEX(referentes!AE:AF,MATCH(BP323,referentes!AF:AF,0),1))","v":""},{"$f":"IF(BQ323=\"\",\"\",INDEX(referentes!AH:AI,MATCH(BQ323,referentes!AI:AI,0),1))","v":""},null,{"$f":"IF(D323=\"\",\"\",INDEX(referentes!A:B,MATCH(D323,referentes!B:B,0),1))","v":""},{"$f":"IF(AT323=\"\",\"\",INDEX(referentes!Y:Z,MATCH(AT323,referentes!Z:Z,0),1))","v":""},{"$f":"IF(AU323=\"\",\"\",INDEX(referentes!AB:AC,MATCH(AU323,referentes!AC:AC,0),1))","v":""}]
[null,{"$f":"IF(BT324=\"\",\"\",IF(COUNTIF($BT324:BT324, BT324)>1, \"\", BT324))","v":""},null,null,null,null,null,null,null,null,null,null,{"$f":"IF(L324=\"\",\"\",INDEX(referentes!AK:AL,MATCH(L324,referentes!AL:AL,0),1))","v":""},{"$f":"IF(B324=B323,\"\",IF(R323=\"\",\"\",R323))","v":""},null,{"$f":"P323+1","v":323},{"$f":"IF(K324=\"\",\"\",INDEX('Otras referencias'!F:I,MATCH(K324,'Otras referencias'!I:I,0),1))","v":""},"",null,null,null,null,null,null,null,null,null,null,null,null,null,null,null,null,null,null,null,null,null,null,null,null,null,null,null,null,null,null,null,null,null,null,0,0,0,0,0,0,0,0,null,null,null,null,null,0,null,null,null,null,null,{"$f":"IF(R324<>\"\",CONCATENATE($A$2,DIGITADOR!$M$1,ROW()-2),\"\")","v":""},"",{"$f":"IF(E324=\"\",\"\",INDEX(referentes!D:E,MATCH(E324,referentes!E:E,0),1))","v":""},{"$f":"IF(F324=\"\",\"\",INDEX(referentes!J:K,MATCH(F324,referentes!K:K,0),1))","v":""},{"$f":"IF(AI324=\"\",\"\",INDEX(referentes!M:N,MATCH(AI324,referentes!N:N,0),1))","v":""},{"$f":"IF(I324=\"\",\"\",INDEX(referentes!P:Q,MATCH(I324,referentes!Q:Q,0),1))","v":""},{"$f":"IF(J324=\"\",\"\",INDEX(referentes!S:T,MATCH(J324,referentes!T:T,0),1))","v":""},{"$f":"IF(AB324=\"\",\"\",INDEX(referentes!V:W,MATCH(AB324,referentes!W:W,0),1))","v":""},{"$f":"IF(Y324=\"\",\"\",INDEX(referentes!AZ:BA,MATCH(Y324,referentes!BA:BA,0),1))","v":""},"","","","",{"$f":"IF(BP324=\"\",\"\",INDEX(referentes!AE:AF,MATCH(BP324,referentes!AF:AF,0),1))","v":""},{"$f":"IF(BQ324=\"\",\"\",INDEX(referentes!AH:AI,MATCH(BQ324,referentes!AI:AI,0),1))","v":""},null,{"$f":"IF(D324=\"\",\"\",INDEX(referentes!A:B,MATCH(D324,referentes!B:B,0),1))","v":""},{"$f":"IF(AT324=\"\",\"\",INDEX(referentes!Y:Z,MATCH(AT324,referentes!Z:Z,0),1))","v":""},{"$f":"IF(AU324=\"\",\"\",INDEX(referentes!AB:AC,MATCH(AU324,referentes!AC:AC,0),1))","v":""}]
[null,{"$f":"IF(BT325=\"\",\"\",IF(COUNTIF($BT325:BT325, BT325)>1, \"\", BT325))","v":""},null,null,null,null,null,null,null,null,null,null,{"$f":"IF(L325=\"\",\"\",INDEX(referentes!AK:AL,MATCH(L325,referentes!AL:AL,0),1))","v":""},"",null,324,{"$f":"IF(K325=\"\",\"\",INDEX('Otras referencias'!F:I,MATCH(K325,'Otras referencias'!I:I,0),1))","v":""},"",null,null,null,null,null,null,null,null,null,null,null,null,null,null,null,null,null,null,null,null,null,null,null,null,null,null,null,null,null,null,null,null,null,null,0,0,0,0,0,0,0,0,null,null,null,null,null,0,null,null,null,null,null,{"$f":"IF(R325<>\"\",CONCATENATE($A$2,DIGITADOR!$M$1,ROW()-2),\"\")","v":""},"",{"$f":"IF(E325=\"\",\"\",INDEX(referentes!D:E,MATCH(E325,referentes!E:E,0),1))","v":""},{"$f":"IF(F325=\"\",\"\",INDEX(referentes!J:K,MATCH(F325,referentes!K:K,0),1))","v":""},{"$f":"IF(AI325=\"\",\"\",INDEX(referentes!M:N,MATCH(AI325,referentes!N:N,0),1))","v":""},{"$f":"IF(I325=\"\",\"\",INDEX(referentes!P:Q,MATCH(I325,referentes!Q:Q,0),1))","v":""},{"$f":"IF(J325=\"\",\"\",INDEX(referentes!S:T,MATCH(J325,referentes!T:T,0),1))","v":""},{"$f":"IF(AB325=\"\",\"\",INDEX(referentes!V:W,MATCH(AB325,referentes!W:W,0),1))","v":""},{"$f":"IF(Y325=\"\",\"\",INDEX(referentes!AZ:BA,MATCH(Y325,referentes!BA:BA,0),1))","v":""},"","","","",{"$f":"IF(BP325=\"\",\"\",INDEX(referentes!AE:AF,MATCH(BP325,referentes!AF:AF,0),1))","v":""},{"$f":"IF(BQ325=\"\",\"\",INDEX(referentes!AH:AI,MATCH(BQ325,referentes!AI:AI,0),1))","v":""},null,{"$f":"IF(D325=\"\",\"\",INDEX(referentes!A:B,MATCH(D325,referentes!B:B,0),1))","v":""},{"$f":"IF(AT325=\"\",\"\",INDEX(referentes!Y:Z,MATCH(AT325,referentes!Z:Z,0),1))","v":""},{"$f":"IF(AU325=\"\",\"\",INDEX(referentes!AB:AC,MATCH(AU325,referentes!AC:AC,0),1))","v":""}]
[null,{"$f":"IF(BT326=\"\",\"\",IF(COUNTIF($BT326:BT326, BT326)>1, \"\", BT326))","v":""},null,null,null,null,null,null,null,null,null,null,{"$f":"IF(L326=\"\",\"\",INDEX(referentes!AK:AL,MATCH(L326,referentes!AL:AL,0),1))","v":""},"",null,325,{"$f":"IF(K326=\"\",\"\",INDEX('Otras referencias'!F:I,MATCH(K326,'Otras referencias'!I:I,0),1))","v":""},"",null,null,null,null,null,null,null,null,null,null,null,null,null,null,null,null,null,null,null,null,null,null,null,null,null,null,null,null,null,null,null,null,null,null,0,0,0,0,0,0,0,0,null,null,null,null,null,0,null,null,null,null,null,{"$f":"IF(R326<>\"\",CONCATENATE($A$2,DIGITADOR!$M$1,ROW()-2),\"\")","v":""},"",{"$f":"IF(E326=\"\",\"\",INDEX(referentes!D:E,MATCH(E326,referentes!E:E,0),1))","v":""},{"$f":"IF(F326=\"\",\"\",INDEX(referentes!J:K,MATCH(F326,referentes!K:K,0),1))","v":""},{"$f":"IF(AI326=\"\",\"\",INDEX(referentes!M:N,MATCH(AI326,referentes!N:N,0),1))","v":""},{"$f":"IF(I326=\"\",\"\",INDEX(referentes!P:Q,MATCH(I326,referentes!Q:Q,0),1))","v":""},{"$f":"IF(J326=\"\",\"\",INDEX(referentes!S:T,MATCH(J326,referentes!T:T,0),1))","v":""},{"$f":"IF(AB326=\"\",\"\",INDEX(referentes!V:W,MATCH(AB326,referentes!W:W,0),1))","v":""},{"$f":"IF(Y326=\"\",\"\",INDEX(referentes!AZ:BA,MATCH(Y326,referentes!BA:BA,0),1))","v":""},"","","","",{"$f":"IF(BP326=\"\",\"\",INDEX(referentes!AE:AF,MATCH(BP326,referentes!AF:AF,0),1))","v":""},{"$f":"IF(BQ326=\"\",\"\",INDEX(referentes!AH:AI,MATCH(BQ326,referentes!AI:AI,0),1))","v":""},null,{"$f":"IF(D326=\"\",\"\",INDEX(referentes!A:B,MATCH(D326,referentes!B:B,0),1))","v":""},{"$f":"IF(AT326=\"\",\"\",INDEX(referentes!Y:Z,MATCH(AT326,referentes!Z:Z,0),1))","v":""},{"$f":"IF(AU326=\"\",\"\",INDEX(referentes!AB:AC,MATCH(AU326,referentes!AC:AC,0),1))","v":""}]
[null,{"$f":"IF(BT327=\"\",\"\",IF(COUNTIF($BT327:BT327, BT327)>1, \"\", BT327))","v":""},null,null,null,null,null,null,null,null,null,null,{"$f":"IF(L327=\"\",\"\",INDEX(referentes!AK:AL,MATCH(L327,referentes!AL:AL,0),1))","v":""},"",null,326,{"$f":"IF(K327=\"\",\"\",INDEX('Otras referencias'!F:I,MATCH(K327,'Otras referencias'!I:I,0),1))","v":""},"",null,null,null,null,null,null,null,null,null,null,null,null,null,null,null,null,null,null,null,null,null,null,null,null,null,null,null,null,null,null,null,null,null,null,0,0,0,0,0,0,0,0,null,null,null,null,null,0,null,null,null,null,null,{"$f":"IF(R327<>\"\",CONCATENATE($A$2,DIGITADOR!$M$1,ROW()-2),\"\")","v":""},"",{"$f":"IF(E327=\"\",\"\",INDEX(referentes!D:E,MATCH(E327,referentes!E:E,0),1))","v":""},{"$f":"IF(F327=\"\",\"\",INDEX(referentes!J:K,MATCH(F327,referentes!K:K,0),1))","v":""},{"$f":"IF(AI327=\"\",\"\",INDEX(referentes!M:N,MATCH(AI327,referentes!N:N,0),1))","v":""},{"$f":"IF(I327=\"\",\"\",INDEX(referentes!P:Q,MATCH(I327,referentes!Q:Q,0),1))","v":""},{"$f":"IF(J327=\"\",\"\",INDEX(referentes!S:T,MATCH(J327,referentes!T:T,0),1))","v":""},{"$f":"IF(AB327=\"\",\"\",INDEX(referentes!V:W,MATCH(AB327,referentes!W:W,0),1))","v":""},{"$f":"IF(Y327=\"\",\"\",INDEX(referentes!AZ:BA,MATCH(Y327,referentes!BA:BA,0),1))","v":""},"","","","",{"$f":"IF(BP327=\"\",\"\",INDEX(referentes!AE:AF,MATCH(BP327,referentes!AF:AF,0),1))","v":""},{"$f":"IF(BQ327=\"\",\"\",INDEX(referentes!AH:AI,MATCH(BQ327,referentes!AI:AI,0),1))","v":""},null,{"$f":"IF(D327=\"\",\"\",INDEX(referentes!A:B,MATCH(D327,referentes!B:B,0),1))","v":""},{"$f":"IF(AT327=\"\",\"\",INDEX(referentes!Y:Z,MATCH(AT327,referentes!Z:Z,0),1))","v":""},{"$f":"IF(AU327=\"\",\"\",INDEX(referentes!AB:AC,MATCH(AU327,referentes!AC:AC,0),1))","v":""}]
[null,{"$f":"IF(BT328=\"\",\"\",IF(COUNTIF($BT328:BT328, BT328)>1, \"\", BT328))","v":""},null,null,null,null,null,null,null,null,null,null,{"$f":"IF(L328=\"\",\"\",INDEX(referentes!AK:AL,MATCH(L328,referentes!AL:AL,0),1))","v":""},"",null,327,{"$f":"IF(K328=\"\",\"\",INDEX('Otras referencias'!F:I,MATCH(K328,'Otras referencias'!I:I,0),1))","v":""},"",null,null,null,null,null,null,null,null,null,null,null,null,null,null,null,null,null,null,null,null,null,null,null,null,null,null,null,null,null,null,null,null,null,null,0,0,0,0,0,0,0,0,null,null,null,null,null,0,null,null,null,null,null,{"$f":"IF(R328<>\"\",CONCATENATE($A$2,DIGITADOR!$M$1,ROW()-2),\"\")","v":""},"",{"$f":"IF(E328=\"\",\"\",INDEX(referentes!D:E,MATCH(E328,referentes!E:E,0),1))","v":""},{"$f":"IF(F328=\"\",\"\",INDEX(referentes!J:K,MATCH(F328,referentes!K:K,0),1))","v":""},{"$f":"IF(AI328=\"\",\"\",INDEX(referentes!M:N,MATCH(AI328,referentes!N:N,0),1))","v":""},{"$f":"IF(I328=\"\",\"\",INDEX(referentes!P:Q,MATCH(I328,referentes!Q:Q,0),1))","v":""},{"$f":"IF(J328=\"\",\"\",INDEX(referentes!S:T,MATCH(J328,referentes!T:T,0),1))","v":""},{"$f":"IF(AB328=\"\",\"\",INDEX(referentes!V:W,MATCH(AB328,referentes!W:W,0),1))","v":""},{"$f":"IF(Y328=\"\",\"\",INDEX(referentes!AZ:BA,MATCH(Y328,referentes!BA:BA,0),1))","v":""},"","","","",{"$f":"IF(BP328=\"\",\"\",INDEX(referentes!AE:AF,MATCH(BP328,referentes!AF:AF,0),1))","v":""},{"$f":"IF(BQ328=\"\",\"\",INDEX(referentes!AH:AI,MATCH(BQ328,referentes!AI:AI,0),1))","v":""},null,{"$f":"IF(D328=\"\",\"\",INDEX(referentes!A:B,MATCH(D328,referentes!B:B,0),1))","v":""},{"$f":"IF(AT328=\"\",\"\",INDEX(referentes!Y:Z,MATCH(AT328,referentes!Z:Z,0),1))","v":""},{"$f":"IF(AU328=\"\",\"\",INDEX(referentes!AB:AC,MATCH(AU328,referentes!AC:AC,0),1))","v":""}]
[null,{"$f":"IF(BT329=\"\",\"\",IF(COUNTIF($BT329:BT329, BT329)>1, \"\", BT329))","v":""},null,null,null,null,null,null,null,null,null,null,{"$f":"IF(L329=\"\",\"\",INDEX(referentes!AK:AL,MATCH(L329,referentes!AL:AL,0),1))","v":""},"",null,328,{"$f":"IF(K329=\"\",\"\",INDEX('Otras referencias'!F:I,MATCH(K329,'Otras referencias'!I:I,0),1))","v":""},"",null,null,null,null,null,null,null,null,null,null,null,null,null,null,null,null,null,null,null,null,null,null,null,null,null,null,null,null,null,null,null,null,null,null,0,0,0,0,0,0,0,0,null,null,null,null,null,0,null,null,null,null,null,{"$f":"IF(R329<>\"\",CONCATENATE($A$2,DIGITADOR!$M$1,ROW()-2),\"\")","v":""},"",{"$f":"IF(E329=\"\",\"\",INDEX(referentes!D:E,MATCH(E329,referentes!E:E,0),1))","v":""},{"$f":"IF(F329=\"\",\"\",INDEX(referentes!J:K,MATCH(F329,referentes!K:K,0),1))","v":""},{"$f":"IF(AI329=\"\",\"\",INDEX(referentes!M:N,MATCH(AI329,referentes!N:N,0),1))","v":""},{"$f":"IF(I329=\"\",\"\",INDEX(referentes!P:Q,MATCH(I329,referentes!Q:Q,0),1))","v":""},{"$f":"IF(J329=\"\",\"\",INDEX(referentes!S:T,MATCH(J329,referentes!T:T,0),1))","v":""},{"$f":"IF(AB329=\"\",\"\",INDEX(referentes!V:W,MATCH(AB329,referentes!W:W,0),1))","v":""},{"$f":"IF(Y329=\"\",\"\",INDEX(referentes!AZ:BA,MATCH(Y329,referentes!BA:BA,0),1))","v":""},"","","","",{"$f":"IF(BP329=\"\",\"\",INDEX(referentes!AE:AF,MATCH(BP329,referentes!AF:AF,0),1))","v":""},{"$f":"IF(BQ329=\"\",\"\",INDEX(referentes!AH:AI,MATCH(BQ329,referentes!AI:AI,0),1))","v":""},null,{"$f":"IF(D329=\"\",\"\",INDEX(referentes!A:B,MATCH(D329,referentes!B:B,0),1))","v":""},{"$f":"IF(AT329=\"\",\"\",INDEX(referentes!Y:Z,MATCH(AT329,referentes!Z:Z,0),1))","v":""},{"$f":"IF(AU329=\"\",\"\",INDEX(referentes!AB:AC,MATCH(AU329,referentes!AC:AC,0),1))","v":""}]
[null,{"$f":"IF(BT330=\"\",\"\",IF(COUNTIF($BT330:BT330, BT330)>1, \"\", BT330))","v":""},null,null,null,null,null,null,null,null,null,null,{"$f":"IF(L330=\"\",\"\",INDEX(referentes!AK:AL,MATCH(L330,referentes!AL:AL,0),1))","v":""},"",null,329,{"$f":"IF(K330=\"\",\"\",INDEX('Otras referencias'!F:I,MATCH(K330,'Otras referencias'!I:I,0),1))","v":""},"",null,null,null,null,null,null,null,null,null,null,null,null,null,null,null,null,null,null,null,null,null,null,null,null,null,null,null,null,null,null,null,null,null,null,0,0,0,0,0,0,0,0,null,null,null,null,null,0,null,null,null,null,null,{"$f":"IF(R330<>\"\",CONCATENATE($A$2,DIGITADOR!$M$1,ROW()-2),\"\")","v":""},"",{"$f":"IF(E330=\"\",\"\",INDEX(referentes!D:E,MATCH(E330,referentes!E:E,0),1))","v":""},{"$f":"IF(F330=\"\",\"\",INDEX(referentes!J:K,MATCH(F330,referentes!K:K,0),1))","v":""},{"$f":"IF(AI330=\"\",\"\",INDEX(referentes!M:N,MATCH(AI330,referentes!N:N,0),1))","v":""},{"$f":"IF(I330=\"\",\"\",INDEX(referentes!P:Q,MATCH(I330,referentes!Q:Q,0),1))","v":""},{"$f":"IF(J330=\"\",\"\",INDEX(referentes!S:T,MATCH(J330,referentes!T:T,0),1))","v":""},{"$f":"IF(AB330=\"\",\"\",INDEX(referentes!V:W,MATCH(AB330,referentes!W:W,0),1))","v":""},{"$f":"IF(Y330=\"\",\"\",INDEX(referentes!AZ:BA,MATCH(Y330,referentes!BA:BA,0),1))","v":""},"","","","",{"$f":"IF(BP330=\"\",\"\",INDEX(referentes!AE:AF,MATCH(BP330,referentes!AF:AF,0),1))","v":""},{"$f":"IF(BQ330=\"\",\"\",INDEX(referentes!AH:AI,MATCH(BQ330,referentes!AI:AI,0),1))","v":""},null,{"$f":"IF(D330=\"\",\"\",INDEX(referentes!A:B,MATCH(D330,referentes!B:B,0),1))","v":""},{"$f":"IF(AT330=\"\",\"\",INDEX(referentes!Y:Z,MATCH(AT330,referentes!Z:Z,0),1))","v":""},{"$f":"IF(AU330=\"\",\"\",INDEX(referentes!AB:AC,MATCH(AU330,referentes!AC:AC,0),1))","v":""}]
[null,{"$f":"IF(BT331=\"\",\"\",IF(COUNTIF($BT331:BT331, BT331)>1, \"\", BT331))","v":""},null,null,null,null,null,null,null,null,null,null,{"$f":"IF(L331=\"\",\"\",INDEX(referentes!AK:AL,MATCH(L331,referentes!AL:AL,0),1))","v":""},"",null,330,{"$f":"IF(K331=\"\",\"\",INDEX('Otras referencias'!F:I,MATCH(K331,'Otras referencias'!I:I,0),1))","v":""},"",null,null,null,null,null,null,null,null,null,null,null,null,null,null,null,null,null,null,null,null,null,null,null,null,null,null,null,null,null,null,null,null,null,null,0,0,0,0,0,0,0,0,null,null,null,null,null,0,null,null,null,null,null,{"$f":"IF(R331<>\"\",CONCATENATE($A$2,DIGITADOR!$M$1,ROW()-2),\"\")","v":""},"",{"$f":"IF(E331=\"\",\"\",INDEX(referentes!D:E,MATCH(E331,referentes!E:E,0),1))","v":""},{"$f":"IF(F331=\"\",\"\",INDEX(referentes!J:K,MATCH(F331,referentes!K:K,0),1))","v":""},{"$f":"IF(AI331=\"\",\"\",INDEX(referentes!M:N,MATCH(AI331,referentes!N:N,0),1))","v":""},{"$f":"IF(I331=\"\",\"\",INDEX(referentes!P:Q,MATCH(I331,referentes!Q:Q,0),1))","v":""},{"$f":"IF(J331=\"\",\"\",INDEX(referentes!S:T,MATCH(J331,referentes!T:T,0),1))","v":""},{"$f":"IF(AB331=\"\",\"\",INDEX(referentes!V:W,MATCH(AB331,referentes!W:W,0),1))","v":""},{"$f":"IF(Y331=\"\",\"\",INDEX(referentes!AZ:BA,MATCH(Y331,referentes!BA:BA,0),1))","v":""},"","","","",{"$f":"IF(BP331=\"\",\"\",INDEX(referentes!AE:AF,MATCH(BP331,referentes!AF:AF,0),1))","v":""},{"$f":"IF(BQ331=\"\",\"\",INDEX(referentes!AH:AI,MATCH(BQ331,referentes!AI:AI,0),1))","v":""},null,{"$f":"IF(D331=\"\",\"\",INDEX(referentes!A:B,MATCH(D331,referentes!B:B,0),1))","v":""},{"$f":"IF(AT331=\"\",\"\",INDEX(referentes!Y:Z,MATCH(AT331,referentes!Z:Z,0),1))","v":""},{"$f":"IF(AU331=\"\",\"\",INDEX(referentes!AB:AC,MATCH(AU331,referentes!AC:AC,0),1))","v":""}]
[null,{"$f":"IF(BT332=\"\",\"\",IF(COUNTIF($BT332:BT332, BT332)>1, \"\", BT332))","v":""},null,null,null,null,null,null,null,null,null,null,{"$f":"IF(L332=\"\",\"\",INDEX(referentes!AK:AL,MATCH(L332,referentes!AL:AL,0),1))","v":""},"",null,331,{"$f":"IF(K332=\"\",\"\",INDEX('Otras referencias'!F:I,MATCH(K332,'Otras referencias'!I:I,0),1))","v":""},"",null,null,null,null,null,null,null,null,null,null,null,null,null,null,null,null,null,null,null,null,null,null,null,null,null,null,null,null,null,null,null,null,null,null,0,0,0,0,0,0,0,0,null,null,null,null,null,0,null,null,null,null,null,{"$f":"IF(R332<>\"\",CONCATENATE($A$2,DIGITADOR!$M$1,ROW()-2),\"\")","v":""},"",{"$f":"IF(E332=\"\",\"\",INDEX(referentes!D:E,MATCH(E332,referentes!E:E,0),1))","v":""},{"$f":"IF(F332=\"\",\"\",INDEX(referentes!J:K,MATCH(F332,referentes!K:K,0),1))","v":""},{"$f":"IF(AI332=\"\",\"\",INDEX(referentes!M:N,MATCH(AI332,referentes!N:N,0),1))","v":""},{"$f":"IF(I332=\"\",\"\",INDEX(referentes!P:Q,MATCH(I332,referentes!Q:Q,0),1))","v":""},{"$f":"IF(J332=\"\",\"\",INDEX(referentes!S:T,MATCH(J332,referentes!T:T,0),1))","v":""},{"$f":"IF(AB332=\"\",\"\",INDEX(referentes!V:W,MATCH(AB332,referentes!W:W,0),1))","v":""},{"$f":"IF(Y332=\"\",\"\",INDEX(referentes!AZ:BA,MATCH(Y332,referentes!BA:BA,0),1))","v":""},"","","","",{"$f":"IF(BP332=\"\",\"\",INDEX(referentes!AE:AF,MATCH(BP332,referentes!AF:AF,0),1))","v":""},{"$f":"IF(BQ332=\"\",\"\",INDEX(referentes!AH:AI,MATCH(BQ332,referentes!AI:AI,0),1))","v":""},null,{"$f":"IF(D332=\"\",\"\",INDEX(referentes!A:B,MATCH(D332,referentes!B:B,0),1))","v":""},{"$f":"IF(AT332=\"\",\"\",INDEX(referentes!Y:Z,MATCH(AT332,referentes!Z:Z,0),1))","v":""},{"$f":"IF(AU332=\"\",\"\",INDEX(referentes!AB:AC,MATCH(AU332,referentes!AC:AC,0),1))","v":""}]
[null,{"$f":"IF(BT333=\"\",\"\",IF(COUNTIF($BT333:BT333, BT333)>1, \"\", BT333))","v":""},null,null,null,null,null,null,null,null,null,null,{"$f":"IF(L333=\"\",\"\",INDEX(referentes!AK:AL,MATCH(L333,referentes!AL:AL,0),1))","v":""},"",null,332,{"$f":"IF(K333=\"\",\"\",INDEX('Otras referencias'!F:I,MATCH(K333,'Otras referencias'!I:I,0),1))","v":""},"",null,null,null,null,null,null,null,null,null,null,null,null,null,null,null,null,null,null,null,null,null,null,null,null,null,null,null,null,null,null,null,null,null,null,0,0,0,0,0,0,0,0,null,null,null,null,null,0,null,null,null,null,null,{"$f":"IF(R333<>\"\",CONCATENATE($A$2,DIGITADOR!$M$1,ROW()-2),\"\")","v":""},"",{"$f":"IF(E333=\"\",\"\",INDEX(referentes!D:E,MATCH(E333,referentes!E:E,0),1))","v":""},{"$f":"IF(F333=\"\",\"\",INDEX(referentes!J:K,MATCH(F333,referentes!K:K,0),1))","v":""},{"$f":"IF(AI333=\"\",\"\",INDEX(referentes!M:N,MATCH(AI333,referentes!N:N,0),1))","v":""},{"$f":"IF(I333=\"\",\"\",INDEX(referentes!P:Q,MATCH(I333,referentes!Q:Q,0),1))","v":""},{"$f":"IF(J333=\"\",\"\",INDEX(referentes!S:T,MATCH(J333,referentes!T:T,0),1))","v":""},{"$f":"IF(AB333=\"\",\"\",INDEX(referentes!V:W,MATCH(AB333,referentes!W:W,0),1))","v":""},{"$f":"IF(Y333=\"\",\"\",INDEX(referentes!AZ:BA,MATCH(Y333,referentes!BA:BA,0),1))","v":""},"","","","",{"$f":"IF(BP333=\"\",\"\",INDEX(referentes!AE:AF,MATCH(BP333,referentes!AF:AF,0),1))","v":""},{"$f":"IF(BQ333=\"\",\"\",INDEX(referentes!AH:AI,MATCH(BQ333,referentes!AI:AI,0),1))","v":""},null,{"$f":"IF(D333=\"\",\"\",INDEX(referentes!A:B,MATCH(D333,referentes!B:B,0),1))","v":""},{"$f":"IF(AT333=\"\",\"\",INDEX(referentes!Y:Z,MATCH(AT333,referentes!Z:Z,0),1))","v":""},{"$f":"IF(AU333=\"\",\"\",INDEX(referentes!AB:AC,MATCH(AU333,referentes!AC:AC,0),1))","v":""}]
[null,{"$f":"IF(BT334=\"\",\"\",IF(COUNTIF($BT334:BT334, BT334)>1, \"\", BT334))","v":""},null,null,null,null,null,null,null,null,null,null,{"$f":"IF(L334=\"\",\"\",INDEX(referentes!AK:AL,MATCH(L334,referentes!AL:AL,0),1))","v":""},"",null,333,{"$f":"IF(K334=\"\",\"\",INDEX('Otras referencias'!F:I,MATCH(K334,'Otras referencias'!I:I,0),1))","v":""},"",null,null,null,null,null,null,null,null,null,null,null,null,null,null,null,null,null,null,null,null,null,null,null,null,null,null,null,null,null,null,null,null,null,null,0,0,0,0,0,0,0,0,null,null,null,null,null,0,null,null,null,null,null,{"$f":"IF(R334<>\"\",CONCATENATE($A$2,DIGITADOR!$M$1,ROW()-2),\"\")","v":""},"",{"$f":"IF(E334=\"\",\"\",INDEX(referentes!D:E,MATCH(E334,referentes!E:E,0),1))","v":""},{"$f":"IF(F334=\"\",\"\",INDEX(referentes!J:K,MATCH(F334,referentes!K:K,0),1))","v":""},{"$f":"IF(AI334=\"\",\"\",INDEX(referentes!M:N,MATCH(AI334,referentes!N:N,0),1))","v":""},{"$f":"IF(I334=\"\",\"\",INDEX(referentes!P:Q,MATCH(I334,referentes!Q:Q,0),1))","v":""},{"$f":"IF(J334=\"\",\"\",INDEX(referentes!S:T,MATCH(J334,referentes!T:T,0),1))","v":""},{"$f":"IF(AB334=\"\",\"\",INDEX(referentes!V:W,MATCH(AB334,referentes!W:W,0),1))","v":""},{"$f":"IF(Y334=\"\",\"\",INDEX(referentes!AZ:BA,MATCH(Y334,referentes!BA:BA,0),1))","v":""},"","","","",{"$f":"IF(BP334=\"\",\"\",INDEX(referentes!AE:AF,MATCH(BP334,referentes!AF:AF,0),1))","v":""},{"$f":"IF(BQ334=\"\",\"\",INDEX(referentes!AH:AI,MATCH(BQ334,referentes!AI:AI,0),1))","v":""},null,{"$f":"IF(D334=\"\",\"\",INDEX(referentes!A:B,MATCH(D334,referentes!B:B,0),1))","v":""},{"$f":"IF(AT334=\"\",\"\",INDEX(referentes!Y:Z,MATCH(AT334,referentes!Z:Z,0),1))","v":""},{"$f":"IF(AU334=\"\",\"\",INDEX(referentes!AB:AC,MATCH(AU334,referentes!AC:AC,0),1))","v":""}]
[null,{"$f":"IF(BT335=\"\",\"\",IF(COUNTIF($BT335:BT335, BT335)>1, \"\", BT335))","v":""},null,null,null,null,null,null,null,null,null,null,{"$f":"IF(L335=\"\",\"\",INDEX(referentes!AK:AL,MATCH(L335,referentes!AL:AL,0),1))","v":""},"",null,334,{"$f":"IF(K335=\"\",\"\",INDEX('Otras referencias'!F:I,MATCH(K335,'Otras referencias'!I:I,0),1))","v":""},"",null,null,null,null,null,null,null,null,null,null,null,null,null,null,null,null,null,null,null,null,null,null,null,null,null,null,null,null,null,null,null,null,null,null,0,0,0,0,0,0,0,0,null,null,null,null,null,0,null,null,null,null,null,{"$f":"IF(R335<>\"\",CONCATENATE($A$2,DIGITADOR!$M$1,ROW()-2),\"\")","v":""},"",{"$f":"IF(E335=\"\",\"\",INDEX(referentes!D:E,MATCH(E335,referentes!E:E,0),1))","v":""},{"$f":"IF(F335=\"\",\"\",INDEX(referentes!J:K,MATCH(F335,referentes!K:K,0),1))","v":""},{"$f":"IF(AI335=\"\",\"\",INDEX(referentes!M:N,MATCH(AI335,referentes!N:N,0),1))","v":""},{"$f":"IF(I335=\"\",\"\",INDEX(referentes!P:Q,MATCH(I335,referentes!Q:Q,0),1))","v":""},{"$f":"IF(J335=\"\",\"\",INDEX(referentes!S:T,MATCH(J335,referentes!T:T,0),1))","v":""},{"$f":"IF(AB335=\"\",\"\",INDEX(referentes!V:W,MATCH(AB335,referentes!W:W,0),1))","v":""},{"$f":"IF(Y335=\"\",\"\",INDEX(referentes!AZ:BA,MATCH(Y335,referentes!BA:BA,0),1))","v":""},"","","","",{"$f":"IF(BP335=\"\",\"\",INDEX(referentes!AE:AF,MATCH(BP335,referentes!AF:AF,0),1))","v":""},{"$f":"IF(BQ335=\"\",\"\",INDEX(referentes!AH:AI,MATCH(BQ335,referentes!AI:AI,0),1))","v":""},null,{"$f":"IF(D335=\"\",\"\",INDEX(referentes!A:B,MATCH(D335,referentes!B:B,0),1))","v":""},{"$f":"IF(AT335=\"\",\"\",INDEX(referentes!Y:Z,MATCH(AT335,referentes!Z:Z,0),1))","v":""},{"$f":"IF(AU335=\"\",\"\",INDEX(referentes!AB:AC,MATCH(AU335,referentes!AC:AC,0),1))","v":""}]
[null,{"$f":"IF(BT336=\"\",\"\",IF(COUNTIF($BT336:BT336, BT336)>1, \"\", BT336))","v":""},null,null,null,null,null,null,null,null,null,null,{"$f":"IF(L336=\"\",\"\",INDEX(referentes!AK:AL,MATCH(L336,referentes!AL:AL,0),1))","v":""},"",null,335,{"$f":"IF(K336=\"\",\"\",INDEX('Otras referencias'!F:I,MATCH(K336,'Otras referencias'!I:I,0),1))","v":""},"",null,null,null,null,null,null,null,null,null,null,null,null,null,null,null,null,null,null,null,null,null,null,null,null,null,null,null,null,null,null,null,null,null,null,0,0,0,0,0,0,0,0,null,null,null,null,null,0,null,null,null,null,null,{"$f":"IF(R336<>\"\",CONCATENATE($A$2,DIGITADOR!$M$1,ROW()-2),\"\")","v":""},"",{"$f":"IF(E336=\"\",\"\",INDEX(referentes!D:E,MATCH(E336,referentes!E:E,0),1))","v":""},{"$f":"IF(F336=\"\",\"\",INDEX(referentes!J:K,MATCH(F336,referentes!K:K,0),1))","v":""},{"$f":"IF(AI336=\"\",\"\",INDEX(referentes!M:N,MATCH(AI336,referentes!N:N,0),1))","v":""},{"$f":"IF(I336=\"\",\"\",INDEX(referentes!P:Q,MATCH(I336,referentes!Q:Q,0),1))","v":""},{"$f":"IF(J336=\"\",\"\",INDEX(referentes!S:T,MATCH(J336,referentes!T:T,0),1))","v":""},{"$f":"IF(AB336=\"\",\"\",INDEX(referentes!V:W,MATCH(AB336,referentes!W:W,0),1))","v":""},{"$f":"IF(Y336=\"\",\"\",INDEX(referentes!AZ:BA,MATCH(Y336,referentes!BA:BA,0),1))","v":""},"","","","",{"$f":"IF(BP336=\"\",\"\",INDEX(referentes!AE:AF,MATCH(BP336,referentes!AF:AF,0),1))","v":""},{"$f":"IF(BQ336=\"\",\"\",INDEX(referentes!AH:AI,MATCH(BQ336,referentes!AI:AI,0),1))","v":""},null,{"$f":"IF(D336=\"\",\"\",INDEX(referentes!A:B,MATCH(D336,referentes!B:B,0),1))","v":""},{"$f":"IF(AT336=\"\",\"\",INDEX(referentes!Y:Z,MATCH(AT336,referentes!Z:Z,0),1))","v":""},{"$f":"IF(AU336=\"\",\"\",INDEX(referentes!AB:AC,MATCH(AU336,referentes!AC:AC,0),1))","v":""}]
[null,{"$f":"IF(BT337=\"\",\"\",IF(COUNTIF($BT337:BT337, BT337)>1, \"\", BT337))","v":""},null,null,null,null,null,null,null,null,null,null,{"$f":"IF(L337=\"\",\"\",INDEX(referentes!AK:AL,MATCH(L337,referentes!AL:AL,0),1))","v":""},"",null,336,{"$f":"IF(K337=\"\",\"\",INDEX('Otras referencias'!F:I,MATCH(K337,'Otras referencias'!I:I,0),1))","v":""},"",null,null,null,null,null,null,null,null,null,null,null,null,null,null,null,null,null,null,null,null,null,null,null,null,null,null,null,null,null,null,null,null,null,null,0,0,0,0,0,0,0,0,null,null,null,null,null,0,null,null,null,null,null,{"$f":"IF(R337<>\"\",CONCATENATE($A$2,DIGITADOR!$M$1,ROW()-2),\"\")","v":""},"",{"$f":"IF(E337=\"\",\"\",INDEX(referentes!D:E,MATCH(E337,referentes!E:E,0),1))","v":""},{"$f":"IF(F337=\"\",\"\",INDEX(referentes!J:K,MATCH(F337,referentes!K:K,0),1))","v":""},{"$f":"IF(AI337=\"\",\"\",INDEX(referentes!M:N,MATCH(AI337,referentes!N:N,0),1))","v":""},{"$f":"IF(I337=\"\",\"\",INDEX(referentes!P:Q,MATCH(I337,referentes!Q:Q,0),1))","v":""},{"$f":"IF(J337=\"\",\"\",INDEX(referentes!S:T,MATCH(J337,referentes!T:T,0),1))","v":""},{"$f":"IF(AB337=\"\",\"\",INDEX(referentes!V:W,MATCH(AB337,referentes!W:W,0),1))","v":""},{"$f":"IF(Y337=\"\",\"\",INDEX(referentes!AZ:BA,MATCH(Y337,referentes!BA:BA,0),1))","v":""},"","","","",{"$f":"IF(BP337=\"\",\"\",INDEX(referentes!AE:AF,MATCH(BP337,referentes!AF:AF,0),1))","v":""},{"$f":"IF(BQ337=\"\",\"\",INDEX(referentes!AH:AI,MATCH(BQ337,referentes!AI:AI,0),1))","v":""},null,{"$f":"IF(D337=\"\",\"\",INDEX(referentes!A:B,MATCH(D337,referentes!B:B,0),1))","v":""},{"$f":"IF(AT337=\"\",\"\",INDEX(referentes!Y:Z,MATCH(AT337,referentes!Z:Z,0),1))","v":""},{"$f":"IF(AU337=\"\",\"\",INDEX(referentes!AB:AC,MATCH(AU337,referentes!AC:AC,0),1))","v":""}]
[null,{"$f":"IF(BT338=\"\",\"\",IF(COUNTIF($BT338:BT338, BT338)>1, \"\", BT338))","v":""},null,null,null,null,null,null,null,null,null,null,{"$f":"IF(L338=\"\",\"\",INDEX(referentes!AK:AL,MATCH(L338,referentes!AL:AL,0),1))","v":""},"",null,337,{"$f":"IF(K338=\"\",\"\",INDEX('Otras referencias'!F:I,MATCH(K338,'Otras referencias'!I:I,0),1))","v":""},"",null,null,null,null,null,null,null,null,null,null,null,null,null,null,null,null,null,null,null,null,null,null,null,null,null,null,null,null,null,null,null,null,null,null,0,0,0,0,0,0,0,0,null,null,null,null,null,0,null,null,null,null,null,{"$f":"IF(R338<>\"\",CONCATENATE($A$2,DIGITADOR!$M$1,ROW()-2),\"\")","v":""},"",{"$f":"IF(E338=\"\",\"\",INDEX(referentes!D:E,MATCH(E338,referentes!E:E,0),1))","v":""},{"$f":"IF(F338=\"\",\"\",INDEX(referentes!J:K,MATCH(F338,referentes!K:K,0),1))","v":""},{"$f":"IF(AI338=\"\",\"\",INDEX(referentes!M:N,MATCH(AI338,referentes!N:N,0),1))","v":""},{"$f":"IF(I338=\"\",\"\",INDEX(referentes!P:Q,MATCH(I338,referentes!Q:Q,0),1))","v":""},{"$f":"IF(J338=\"\",\"\",INDEX(referentes!S:T,MATCH(J338,referentes!T:T,0),1))","v":""},{"$f":"IF(AB338=\"\",\"\",INDEX(referentes!V:W,MATCH(AB338,referentes!W:W,0),1))","v":""},{"$f":"IF(Y338=\"\",\"\",INDEX(referentes!AZ:BA,MATCH(Y338,referentes!BA:BA,0),1))","v":""},"","","","",{"$f":"IF(BP338=\"\",\"\",INDEX(referentes!AE:AF,MATCH(BP338,referentes!AF:AF,0),1))","v":""},{"$f":"IF(BQ338=\"\",\"\",INDEX(referentes!AH:AI,MATCH(BQ338,referentes!AI:AI,0),1))","v":""},null,{"$f":"IF(D338=\"\",\"\",INDEX(referentes!A:B,MATCH(D338,referentes!B:B,0),1))","v":""},{"$f":"IF(AT338=\"\",\"\",INDEX(referentes!Y:Z,MATCH(AT338,referentes!Z:Z,0),1))","v":""},{"$f":"IF(AU338=\"\",\"\",INDEX(referentes!AB:AC,MATCH(AU338,referentes!AC:AC,0),1))","v":""}]
[null,{"$f":"IF(BT339=\"\",\"\",IF(COUNTIF($BT339:BT339, BT339)>1, \"\", BT339))","v":""},null,null,null,null,null,null,null,null,null,null,{"$f":"IF(L339=\"\",\"\",INDEX(referentes!AK:AL,MATCH(L339,referentes!AL:AL,0),1))","v":""},"",null,338,{"$f":"IF(K339=\"\",\"\",INDEX('Otras referencias'!F:I,MATCH(K339,'Otras referencias'!I:I,0),1))","v":""},"",null,null,null,null,null,null,null,null,null,null,null,null,null,null,null,null,null,null,null,null,null,null,null,null,null,null,null,null,null,null,null,null,null,null,0,0,0,0,0,0,0,0,null,null,null,null,null,0,null,null,null,null,null,{"$f":"IF(R339<>\"\",CONCATENATE($A$2,DIGITADOR!$M$1,ROW()-2),\"\")","v":""},"",{"$f":"IF(E339=\"\",\"\",INDEX(referentes!D:E,MATCH(E339,referentes!E:E,0),1))","v":""},{"$f":"IF(F339=\"\",\"\",INDEX(referentes!J:K,MATCH(F339,referentes!K:K,0),1))","v":""},{"$f":"IF(AI339=\"\",\"\",INDEX(referentes!M:N,MATCH(AI339,referentes!N:N,0),1))","v":""},{"$f":"IF(I339=\"\",\"\",INDEX(referentes!P:Q,MATCH(I339,referentes!Q:Q,0),1))","v":""},{"$f":"IF(J339=\"\",\"\",INDEX(referentes!S:T,MATCH(J339,referentes!T:T,0),1))","v":""},{"$f":"IF(AB339=\"\",\"\",INDEX(referentes!V:W,MATCH(AB339,referentes!W:W,0),1))","v":""},{"$f":"IF(Y339=\"\",\"\",INDEX(referentes!AZ:BA,MATCH(Y339,referentes!BA:BA,0),1))","v":""},"","","","",{"$f":"IF(BP339=\"\",\"\",INDEX(referentes!AE:AF,MATCH(BP339,referentes!AF:AF,0),1))","v":""},{"$f":"IF(BQ339=\"\",\"\",INDEX(referentes!AH:AI,MATCH(BQ339,referentes!AI:AI,0),1))","v":""},null,{"$f":"IF(D339=\"\",\"\",INDEX(referentes!A:B,MATCH(D339,referentes!B:B,0),1))","v":""},{"$f":"IF(AT339=\"\",\"\",INDEX(referentes!Y:Z,MATCH(AT339,referentes!Z:Z,0),1))","v":""},{"$f":"IF(AU339=\"\",\"\",INDEX(referentes!AB:AC,MATCH(AU339,referentes!AC:AC,0),1))","v":""}]
[null,{"$f":"IF(BT340=\"\",\"\",IF(COUNTIF($BT340:BT340, BT340)>1, \"\", BT340))","v":""},null,null,null,null,null,null,null,null,null,null,{"$f":"IF(L340=\"\",\"\",INDEX(referentes!AK:AL,MATCH(L340,referentes!AL:AL,0),1))","v":""},"",null,339,{"$f":"IF(K340=\"\",\"\",INDEX('Otras referencias'!F:I,MATCH(K340,'Otras referencias'!I:I,0),1))","v":""},"",null,null,null,null,null,null,null,null,null,null,null,null,null,null,null,null,null,null,null,null,null,null,null,null,null,null,null,null,null,null,null,null,null,null,0,0,0,0,0,0,0,0,null,null,null,null,null,0,null,null,null,null,null,{"$f":"IF(R340<>\"\",CONCATENATE($A$2,DIGITADOR!$M$1,ROW()-2),\"\")","v":""},"",{"$f":"IF(E340=\"\",\"\",INDEX(referentes!D:E,MATCH(E340,referentes!E:E,0),1))","v":""},{"$f":"IF(F340=\"\",\"\",INDEX(referentes!J:K,MATCH(F340,referentes!K:K,0),1))","v":""},{"$f":"IF(AI340=\"\",\"\",INDEX(referentes!M:N,MATCH(AI340,referentes!N:N,0),1))","v":""},{"$f":"IF(I340=\"\",\"\",INDEX(referentes!P:Q,MATCH(I340,referentes!Q:Q,0),1))","v":""},{"$f":"IF(J340=\"\",\"\",INDEX(referentes!S:T,MATCH(J340,referentes!T:T,0),1))","v":""},{"$f":"IF(AB340=\"\",\"\",INDEX(referentes!V:W,MATCH(AB340,referentes!W:W,0),1))","v":""},{"$f":"IF(Y340=\"\",\"\",INDEX(referentes!AZ:BA,MATCH(Y340,referentes!BA:BA,0),1))","v":""},"","","","",{"$f":"IF(BP340=\"\",\"\",INDEX(referentes!AE:AF,MATCH(BP340,referentes!AF:AF,0),1))","v":""},{"$f":"IF(BQ340=\"\",\"\",INDEX(referentes!AH:AI,MATCH(BQ340,referentes!AI:AI,0),1))","v":""},null,{"$f":"IF(D340=\"\",\"\",INDEX(referentes!A:B,MATCH(D340,referentes!B:B,0),1))","v":""},{"$f":"IF(AT340=\"\",\"\",INDEX(referentes!Y:Z,MATCH(AT340,referentes!Z:Z,0),1))","v":""},{"$f":"IF(AU340=\"\",\"\",INDEX(referentes!AB:AC,MATCH(AU340,referentes!AC:AC,0),1))","v":""}]
[null,{"$f":"IF(BT341=\"\",\"\",IF(COUNTIF($BT341:BT341, BT341)>1, \"\", BT341))","v":""},null,null,null,null,null,null,null,null,null,null,{"$f":"IF(L341=\"\",\"\",INDEX(referentes!AK:AL,MATCH(L341,referentes!AL:AL,0),1))","v":""},"",null,340,{"$f":"IF(K341=\"\",\"\",INDEX('Otras referencias'!F:I,MATCH(K341,'Otras referencias'!I:I,0),1))","v":""},"",null,null,null,null,null,null,null,null,null,null,null,null,null,null,null,null,null,null,null,null,null,null,null,null,null,null,null,null,null,null,null,null,null,null,0,0,0,0,0,0,0,0,null,null,null,null,null,0,null,null,null,null,null,{"$f":"IF(R341<>\"\",CONCATENATE($A$2,DIGITADOR!$M$1,ROW()-2),\"\")","v":""},"",{"$f":"IF(E341=\"\",\"\",INDEX(referentes!D:E,MATCH(E341,referentes!E:E,0),1))","v":""},{"$f":"IF(F341=\"\",\"\",INDEX(referentes!J:K,MATCH(F341,referentes!K:K,0),1))","v":""},{"$f":"IF(AI341=\"\",\"\",INDEX(referentes!M:N,MATCH(AI341,referentes!N:N,0),1))","v":""},{"$f":"IF(I341=\"\",\"\",INDEX(referentes!P:Q,MATCH(I341,referentes!Q:Q,0),1))","v":""},{"$f":"IF(J341=\"\",\"\",INDEX(referentes!S:T,MATCH(J341,referentes!T:T,0),1))","v":""},{"$f":"IF(AB341=\"\",\"\",INDEX(referentes!V:W,MATCH(AB341,referentes!W:W,0),1))","v":""},{"$f":"IF(Y341=\"\",\"\",INDEX(referentes!AZ:BA,MATCH(Y341,referentes!BA:BA,0),1))","v":""},"","","","",{"$f":"IF(BP341=\"\",\"\",INDEX(referentes!AE:AF,MATCH(BP341,referentes!AF:AF,0),1))","v":""},{"$f":"IF(BQ341=\"\",\"\",INDEX(referentes!AH:AI,MATCH(BQ341,referentes!AI:AI,0),1))","v":""},null,{"$f":"IF(D341=\"\",\"\",INDEX(referentes!A:B,MATCH(D341,referentes!B:B,0),1))","v":""},{"$f":"IF(AT341=\"\",\"\",INDEX(referentes!Y:Z,MATCH(AT341,referentes!Z:Z,0),1))","v":""},{"$f":"IF(AU341=\"\",\"\",INDEX(referentes!AB:AC,MATCH(AU341,referentes!AC:AC,0),1))","v":""}]
[null,{"$f":"IF(BT342=\"\",\"\",IF(COUNTIF($BT342:BT342, BT342)>1, \"\", BT342))","v":""},null,null,null,null,null,null,null,null,null,null,{"$f":"IF(L342=\"\",\"\",INDEX(referentes!AK:AL,MATCH(L342,referentes!AL:AL,0),1))","v":""},"",null,341,{"$f":"IF(K342=\"\",\"\",INDEX('Otras referencias'!F:I,MATCH(K342,'Otras referencias'!I:I,0),1))","v":""},"",null,null,null,null,null,null,null,null,null,null,null,null,null,null,null,null,null,null,null,null,null,null,null,null,null,null,null,null,null,null,null,null,null,null,0,0,0,0,0,0,0,0,null,null,null,null,null,0,null,null,null,null,null,{"$f":"IF(R342<>\"\",CONCATENATE($A$2,DIGITADOR!$M$1,ROW()-2),\"\")","v":""},"",{"$f":"IF(E342=\"\",\"\",INDEX(referentes!D:E,MATCH(E342,referentes!E:E,0),1))","v":""},{"$f":"IF(F342=\"\",\"\",INDEX(referentes!J:K,MATCH(F342,referentes!K:K,0),1))","v":""},{"$f":"IF(AI342=\"\",\"\",INDEX(referentes!M:N,MATCH(AI342,referentes!N:N,0),1))","v":""},{"$f":"IF(I342=\"\",\"\",INDEX(referentes!P:Q,MATCH(I342,referentes!Q:Q,0),1))","v":""},{"$f":"IF(J342=\"\",\"\",INDEX(referentes!S:T,MATCH(J342,referentes!T:T,0),1))","v":""},{"$f":"IF(AB342=\"\",\"\",INDEX(referentes!V:W,MATCH(AB342,referentes!W:W,0),1))","v":""},{"$f":"IF(Y342=\"\",\"\",INDEX(referentes!AZ:BA,MATCH(Y342,referentes!BA:BA,0),1))","v":""},"","","","",{"$f":"IF(BP342=\"\",\"\",INDEX(referentes!AE:AF,MATCH(BP342,referentes!AF:AF,0),1))","v":""},{"$f":"IF(BQ342=\"\",\"\",INDEX(referentes!AH:AI,MATCH(BQ342,referentes!AI:AI,0),1))","v":""},null,{"$f":"IF(D342=\"\",\"\",INDEX(referentes!A:B,MATCH(D342,referentes!B:B,0),1))","v":""},{"$f":"IF(AT342=\"\",\"\",INDEX(referentes!Y:Z,MATCH(AT342,referentes!Z:Z,0),1))","v":""},{"$f":"IF(AU342=\"\",\"\",INDEX(referentes!AB:AC,MATCH(AU342,referentes!AC:AC,0),1))","v":""}]
[null,{"$f":"IF(BT343=\"\",\"\",IF(COUNTIF($BT343:BT343, BT343)>1, \"\", BT343))","v":""},null,null,null,null,null,null,null,null,null,null,{"$f":"IF(L343=\"\",\"\",INDEX(referentes!AK:AL,MATCH(L343,referentes!AL:AL,0),1))","v":""},"",null,342,{"$f":"IF(K343=\"\",\"\",INDEX('Otras referencias'!F:I,MATCH(K343,'Otras referencias'!I:I,0),1))","v":""},"",null,null,null,null,null,null,null,null,null,null,null,null,null,null,null,null,null,null,null,null,null,null,null,null,null,null,null,null,null,null,null,null,null,null,0,0,0,0,0,0,0,0,null,null,null,null,null,0,null,null,null,null,null,{"$f":"IF(R343<>\"\",CONCATENATE($A$2,DIGITADOR!$M$1,ROW()-2),\"\")","v":""},"",{"$f":"IF(E343=\"\",\"\",INDEX(referentes!D:E,MATCH(E343,referentes!E:E,0),1))","v":""},{"$f":"IF(F343=\"\",\"\",INDEX(referentes!J:K,MATCH(F343,referentes!K:K,0),1))","v":""},{"$f":"IF(AI343=\"\",\"\",INDEX(referentes!M:N,MATCH(AI343,referentes!N:N,0),1))","v":""},{"$f":"IF(I343=\"\",\"\",INDEX(referentes!P:Q,MATCH(I343,referentes!Q:Q,0),1))","v":""},{"$f":"IF(J343=\"\",\"\",INDEX(referentes!S:T,MATCH(J343,referentes!T:T,0),1))","v":""},{"$f":"IF(AB343=\"\",\"\",INDEX(referentes!V:W,MATCH(AB343,referentes!W:W,0),1))","v":""},{"$f":"IF(Y343=\"\",\"\",INDEX(referentes!AZ:BA,MATCH(Y343,referentes!BA:BA,0),1))","v":""},"","","","",{"$f":"IF(BP343=\"\",\"\",INDEX(referentes!AE:AF,MATCH(BP343,referentes!AF:AF,0),1))","v":""},{"$f":"IF(BQ343=\"\",\"\",INDEX(referentes!AH:AI,MATCH(BQ343,referentes!AI:AI,0),1))","v":""},null,{"$f":"IF(D343=\"\",\"\",INDEX(referentes!A:B,MATCH(D343,referentes!B:B,0),1))","v":""},{"$f":"IF(AT343=\"\",\"\",INDEX(referentes!Y:Z,MATCH(AT343,referentes!Z:Z,0),1))","v":""},{"$f":"IF(AU343=\"\",\"\",INDEX(referentes!AB:AC,MATCH(AU343,referentes!AC:AC,0),1))","v":""}]
[null,{"$f":"IF(BT344=\"\",\"\",IF(COUNTIF($BT344:BT344, BT344)>1, \"\", BT344))","v":""},null,null,null,null,null,null,null,null,null,null,{"$f":"IF(L344=\"\",\"\",INDEX(referentes!AK:AL,MATCH(L344,referentes!AL:AL,0),1))","v":""},"",null,343,{"$f":"IF(K344=\"\",\"\",INDEX('Otras referencias'!F:I,MATCH(K344,'Otras referencias'!I:I,0),1))","v":""},"",null,null,null,null,null,null,null,null,null,null,null,null,null,null,null,null,null,null,null,null,null,null,null,null,null,null,null,null,null,null,null,null,null,null,0,0,0,0,0,0,0,0,null,null,null,null,null,0,null,null,null,null,null,{"$f":"IF(R344<>\"\",CONCATENATE($A$2,DIGITADOR!$M$1,ROW()-2),\"\")","v":""},"",{"$f":"IF(E344=\"\",\"\",INDEX(referentes!D:E,MATCH(E344,referentes!E:E,0),1))","v":""},{"$f":"IF(F344=\"\",\"\",INDEX(referentes!J:K,MATCH(F344,referentes!K:K,0),1))","v":""},{"$f":"IF(AI344=\"\",\"\",INDEX(referentes!M:N,MATCH(AI344,referentes!N:N,0),1))","v":""},{"$f":"IF(I344=\"\",\"\",INDEX(referentes!P:Q,MATCH(I344,referentes!Q:Q,0),1))","v":""},{"$f":"IF(J344=\"\",\"\",INDEX(referentes!S:T,MATCH(J344,referentes!T:T,0),1))","v":""},{"$f":"IF(AB344=\"\",\"\",INDEX(referentes!V:W,MATCH(AB344,referentes!W:W,0),1))","v":""},{"$f":"IF(Y344=\"\",\"\",INDEX(referentes!AZ:BA,MATCH(Y344,referentes!BA:BA,0),1))","v":""},"","","","",{"$f":"IF(BP344=\"\",\"\",INDEX(referentes!AE:AF,MATCH(BP344,referentes!AF:AF,0),1))","v":""},{"$f":"IF(BQ344=\"\",\"\",INDEX(referentes!AH:AI,MATCH(BQ344,referentes!AI:AI,0),1))","v":""},null,{"$f":"IF(D344=\"\",\"\",INDEX(referentes!A:B,MATCH(D344,referentes!B:B,0),1))","v":""},{"$f":"IF(AT344=\"\",\"\",INDEX(referentes!Y:Z,MATCH(AT344,referentes!Z:Z,0),1))","v":""},{"$f":"IF(AU344=\"\",\"\",INDEX(referentes!AB:AC,MATCH(AU344,referentes!AC:AC,0),1))","v":""}]
[null,{"$f":"IF(BT345=\"\",\"\",IF(COUNTIF($BT345:BT345, BT345)>1, \"\", BT345))","v":""},null,null,null,null,null,null,null,null,null,null,{"$f":"IF(L345=\"\",\"\",INDEX(referentes!AK:AL,MATCH(L345,referentes!AL:AL,0),1))","v":""},"",null,344,{"$f":"IF(K345=\"\",\"\",INDEX('Otras referencias'!F:I,MATCH(K345,'Otras referencias'!I:I,0),1))","v":""},"",null,null,null,null,null,null,null,null,null,null,null,null,null,null,null,null,null,null,null,null,null,null,null,null,null,null,null,null,null,null,null,null,null,null,0,0,0,0,0,0,0,0,null,null,null,null,null,0,null,null,null,null,null,{"$f":"IF(R345<>\"\",CONCATENATE($A$2,DIGITADOR!$M$1,ROW()-2),\"\")","v":""},"",{"$f":"IF(E345=\"\",\"\",INDEX(referentes!D:E,MATCH(E345,referentes!E:E,0),1))","v":""},{"$f":"IF(F345=\"\",\"\",INDEX(referentes!J:K,MATCH(F345,referentes!K:K,0),1))","v":""},{"$f":"IF(AI345=\"\",\"\",INDEX(referentes!M:N,MATCH(AI345,referentes!N:N,0),1))","v":""},{"$f":"IF(I345=\"\",\"\",INDEX(referentes!P:Q,MATCH(I345,referentes!Q:Q,0),1))","v":""},{"$f":"IF(J345=\"\",\"\",INDEX(referentes!S:T,MATCH(J345,referentes!T:T,0),1))","v":""},{"$f":"IF(AB345=\"\",\"\",INDEX(referentes!V:W,MATCH(AB345,referentes!W:W,0),1))","v":""},{"$f":"IF(Y345=\"\",\"\",INDEX(referentes!AZ:BA,MATCH(Y345,referentes!BA:BA,0),1))","v":""},"","","","",{"$f":"IF(BP345=\"\",\"\",INDEX(referentes!AE:AF,MATCH(BP345,referentes!AF:AF,0),1))","v":""},{"$f":"IF(BQ345=\"\",\"\",INDEX(referentes!AH:AI,MATCH(BQ345,referentes!AI:AI,0),1))","v":""},null,{"$f":"IF(D345=\"\",\"\",INDEX(referentes!A:B,MATCH(D345,referentes!B:B,0),1))","v":""},{"$f":"IF(AT345=\"\",\"\",INDEX(referentes!Y:Z,MATCH(AT345,referentes!Z:Z,0),1))","v":""},{"$f":"IF(AU345=\"\",\"\",INDEX(referentes!AB:AC,MATCH(AU345,referentes!AC:AC,0),1))","v":""}]
[null,{"$f":"IF(BT346=\"\",\"\",IF(COUNTIF($BT346:BT346, BT346)>1, \"\", BT346))","v":""},null,null,null,null,null,null,null,null,null,null,{"$f":"IF(L346=\"\",\"\",INDEX(referentes!AK:AL,MATCH(L346,referentes!AL:AL,0),1))","v":""},"",null,345,{"$f":"IF(K346=\"\",\"\",INDEX('Otras referencias'!F:I,MATCH(K346,'Otras referencias'!I:I,0),1))","v":""},"",null,null,null,null,null,null,null,null,null,null,null,null,null,null,null,null,null,null,null,null,null,null,null,null,null,null,null,null,null,null,null,null,null,null,0,0,0,0,0,0,0,0,null,null,null,null,null,0,null,null,null,null,null,{"$f":"IF(R346<>\"\",CONCATENATE($A$2,DIGITADOR!$M$1,ROW()-2),\"\")","v":""},"",{"$f":"IF(E346=\"\",\"\",INDEX(referentes!D:E,MATCH(E346,referentes!E:E,0),1))","v":""},{"$f":"IF(F346=\"\",\"\",INDEX(referentes!J:K,MATCH(F346,referentes!K:K,0),1))","v":""},{"$f":"IF(AI346=\"\",\"\",INDEX(referentes!M:N,MATCH(AI346,referentes!N:N,0),1))","v":""},{"$f":"IF(I346=\"\",\"\",INDEX(referentes!P:Q,MATCH(I346,referentes!Q:Q,0),1))","v":""},{"$f":"IF(J346=\"\",\"\",INDEX(referentes!S:T,MATCH(J346,referentes!T:T,0),1))","v":""},{"$f":"IF(AB346=\"\",\"\",INDEX(referentes!V:W,MATCH(AB346,referentes!W:W,0),1))","v":""},{"$f":"IF(Y346=\"\",\"\",INDEX(referentes!AZ:BA,MATCH(Y346,referentes!BA:BA,0),1))","v":""},"","","","",{"$f":"IF(BP346=\"\",\"\",INDEX(referentes!AE:AF,MATCH(BP346,referentes!AF:AF,0),1))","v":""},{"$f":"IF(BQ346=\"\",\"\",INDEX(referentes!AH:AI,MATCH(BQ346,referentes!AI:AI,0),1))","v":""},null,{"$f":"IF(D346=\"\",\"\",INDEX(referentes!A:B,MATCH(D346,referentes!B:B,0),1))","v":""},{"$f":"IF(AT346=\"\",\"\",INDEX(referentes!Y:Z,MATCH(AT346,referentes!Z:Z,0),1))","v":""},{"$f":"IF(AU346=\"\",\"\",INDEX(referentes!AB:AC,MATCH(AU346,referentes!AC:AC,0),1))","v":""}]
[null,{"$f":"IF(BT347=\"\",\"\",IF(COUNTIF($BT347:BT347, BT347)>1, \"\", BT347))","v":""},null,null,null,null,null,null,null,null,null,null,{"$f":"IF(L347=\"\",\"\",INDEX(referentes!AK:AL,MATCH(L347,referentes!AL:AL,0),1))","v":""},"",null,346,{"$f":"IF(K347=\"\",\"\",INDEX('Otras referencias'!F:I,MATCH(K347,'Otras referencias'!I:I,0),1))","v":""},"",null,null,null,null,null,null,null,null,null,null,null,null,null,null,null,null,null,null,null,null,null,null,null,null,null,null,null,null,null,null,null,null,null,null,0,0,0,0,0,0,0,0,null,null,null,null,null,0,null,null,null,null,null,{"$f":"IF(R347<>\"\",CONCATENATE($A$2,DIGITADOR!$M$1,ROW()-2),\"\")","v":""},"",{"$f":"IF(E347=\"\",\"\",INDEX(referentes!D:E,MATCH(E347,referentes!E:E,0),1))","v":""},{"$f":"IF(F347=\"\",\"\",INDEX(referentes!J:K,MATCH(F347,referentes!K:K,0),1))","v":""},{"$f":"IF(AI347=\"\",\"\",INDEX(referentes!M:N,MATCH(AI347,referentes!N:N,0),1))","v":""},{"$f":"IF(I347=\"\",\"\",INDEX(referentes!P:Q,MATCH(I347,referentes!Q:Q,0),1))","v":""},{"$f":"IF(J347=\"\",\"\",INDEX(referentes!S:T,MATCH(J347,referentes!T:T,0),1))","v":""},{"$f":"IF(AB347=\"\",\"\",INDEX(referentes!V:W,MATCH(AB347,referentes!W:W,0),1))","v":""},{"$f":"IF(Y347=\"\",\"\",INDEX(referentes!AZ:BA,MATCH(Y347,referentes!BA:BA,0),1))","v":""},"","","","",{"$f":"IF(BP347=\"\",\"\",INDEX(referentes!AE:AF,MATCH(BP347,referentes!AF:AF,0),1))","v":""},{"$f":"IF(BQ347=\"\",\"\",INDEX(referentes!AH:AI,MATCH(BQ347,referentes!AI:AI,0),1))","v":""},null,{"$f":"IF(D347=\"\",\"\",INDEX(referentes!A:B,MATCH(D347,referentes!B:B,0),1))","v":""},{"$f":"IF(AT347=\"\",\"\",INDEX(referentes!Y:Z,MATCH(AT347,referentes!Z:Z,0),1))","v":""},{"$f":"IF(AU347=\"\",\"\",INDEX(referentes!AB:AC,MATCH(AU347,referentes!AC:AC,0),1))","v":""}]
[null,{"$f":"IF(BT348=\"\",\"\",IF(COUNTIF($BT348:BT348, BT348)>1, \"\", BT348))","v":""},null,null,null,null,null,null,null,null,null,null,{"$f":"IF(L348=\"\",\"\",INDEX(referentes!AK:AL,MATCH(L348,referentes!AL:AL,0),1))","v":""},"",null,347,{"$f":"IF(K348=\"\",\"\",INDEX('Otras referencias'!F:I,MATCH(K348,'Otras referencias'!I:I,0),1))","v":""},"",null,null,null,null,null,null,null,null,null,null,null,null,null,null,null,null,null,null,null,null,null,null,null,null,null,null,null,null,null,null,null,null,null,null,0,0,0,0,0,0,0,0,null,null,null,null,null,0,null,null,null,null,null,{"$f":"IF(R348<>\"\",CONCATENATE($A$2,DIGITADOR!$M$1,ROW()-2),\"\")","v":""},"",{"$f":"IF(E348=\"\",\"\",INDEX(referentes!D:E,MATCH(E348,referentes!E:E,0),1))","v":""},{"$f":"IF(F348=\"\",\"\",INDEX(referentes!J:K,MATCH(F348,referentes!K:K,0),1))","v":""},{"$f":"IF(AI348=\"\",\"\",INDEX(referentes!M:N,MATCH(AI348,referentes!N:N,0),1))","v":""},{"$f":"IF(I348=\"\",\"\",INDEX(referentes!P:Q,MATCH(I348,referentes!Q:Q,0),1))","v":""},{"$f":"IF(J348=\"\",\"\",INDEX(referentes!S:T,MATCH(J348,referentes!T:T,0),1))","v":""},{"$f":"IF(AB348=\"\",\"\",INDEX(referentes!V:W,MATCH(AB348,referentes!W:W,0),1))","v":""},{"$f":"IF(Y348=\"\",\"\",INDEX(referentes!AZ:BA,MATCH(Y348,referentes!BA:BA,0),1))","v":""},"","","","",{"$f":"IF(BP348=\"\",\"\",INDEX(referentes!AE:AF,MATCH(BP348,referentes!AF:AF,0),1))","v":""},{"$f":"IF(BQ348=\"\",\"\",INDEX(referentes!AH:AI,MATCH(BQ348,referentes!AI:AI,0),1))","v":""},null,{"$f":"IF(D348=\"\",\"\",INDEX(referentes!A:B,MATCH(D348,referentes!B:B,0),1))","v":""},{"$f":"IF(AT348=\"\",\"\",INDEX(referentes!Y:Z,MATCH(AT348,referentes!Z:Z,0),1))","v":""},{"$f":"IF(AU348=\"\",\"\",INDEX(referentes!AB:AC,MATCH(AU348,referentes!AC:AC,0),1))","v":""}]
[null,{"$f":"IF(BT349=\"\",\"\",IF(COUNTIF($BT349:BT349, BT349)>1, \"\", BT349))","v":""},null,null,null,null,null,null,null,null,null,null,{"$f":"IF(L349=\"\",\"\",INDEX(referentes!AK:AL,MATCH(L349,referentes!AL:AL,0),1))","v":""},"",null,348,{"$f":"IF(K349=\"\",\"\",INDEX('Otras referencias'!F:I,MATCH(K349,'Otras referencias'!I:I,0),1))","v":""},"",null,null,null,null,null,null,null,null,null,null,null,null,null,null,null,null,null,null,null,null,null,null,null,null,null,null,null,null,null,null,null,null,null,null,0,0,0,0,0,0,0,0,null,null,null,null,null,0,null,null,null,null,null,{"$f":"IF(R349<>\"\",CONCATENATE($A$2,DIGITADOR!$M$1,ROW()-2),\"\")","v":""},"",{"$f":"IF(E349=\"\",\"\",INDEX(referentes!D:E,MATCH(E349,referentes!E:E,0),1))","v":""},{"$f":"IF(F349=\"\",\"\",INDEX(referentes!J:K,MATCH(F349,referentes!K:K,0),1))","v":""},{"$f":"IF(AI349=\"\",\"\",INDEX(referentes!M:N,MATCH(AI349,referentes!N:N,0),1))","v":""},{"$f":"IF(I349=\"\",\"\",INDEX(referentes!P:Q,MATCH(I349,referentes!Q:Q,0),1))","v":""},{"$f":"IF(J349=\"\",\"\",INDEX(referentes!S:T,MATCH(J349,referentes!T:T,0),1))","v":""},{"$f":"IF(AB349=\"\",\"\",INDEX(referentes!V:W,MATCH(AB349,referentes!W:W,0),1))","v":""},{"$f":"IF(Y349=\"\",\"\",INDEX(referentes!AZ:BA,MATCH(Y349,referentes!BA:BA,0),1))","v":""},"","","","",{"$f":"IF(BP349=\"\",\"\",INDEX(referentes!AE:AF,MATCH(BP349,referentes!AF:AF,0),1))","v":""},{"$f":"IF(BQ349=\"\",\"\",INDEX(referentes!AH:AI,MATCH(BQ349,referentes!AI:AI,0),1))","v":""},null,{"$f":"IF(D349=\"\",\"\",INDEX(referentes!A:B,MATCH(D349,referentes!B:B,0),1))","v":""},{"$f":"IF(AT349=\"\",\"\",INDEX(referentes!Y:Z,MATCH(AT349,referentes!Z:Z,0),1))","v":""},{"$f":"IF(AU349=\"\",\"\",INDEX(referentes!AB:AC,MATCH(AU349,referentes!AC:AC,0),1))","v":""}]
[null,{"$f":"IF(BT350=\"\",\"\",IF(COUNTIF($BT350:BT350, BT350)>1, \"\", BT350))","v":""},null,null,null,null,null,null,null,null,null,null,{"$f":"IF(L350=\"\",\"\",INDEX(referentes!AK:AL,MATCH(L350,referentes!AL:AL,0),1))","v":""},"",null,349,{"$f":"IF(K350=\"\",\"\",INDEX('Otras referencias'!F:I,MATCH(K350,'Otras referencias'!I:I,0),1))","v":""},"",null,null,null,null,null,null,null,null,null,null,null,null,null,null,null,null,null,null,null,null,null,null,null,null,null,null,null,null,null,null,null,null,null,null,0,0,0,0,0,0,0,0,null,null,null,null,null,0,null,null,null,null,null,{"$f":"IF(R350<>\"\",CONCATENATE($A$2,DIGITADOR!$M$1,ROW()-2),\"\")","v":""},"",{"$f":"IF(E350=\"\",\"\",INDEX(referentes!D:E,MATCH(E350,referentes!E:E,0),1))","v":""},{"$f":"IF(F350=\"\",\"\",INDEX(referentes!J:K,MATCH(F350,referentes!K:K,0),1))","v":""},{"$f":"IF(AI350=\"\",\"\",INDEX(referentes!M:N,MATCH(AI350,referentes!N:N,0),1))","v":""},{"$f":"IF(I350=\"\",\"\",INDEX(referentes!P:Q,MATCH(I350,referentes!Q:Q,0),1))","v":""},{"$f":"IF(J350=\"\",\"\",INDEX(referentes!S:T,MATCH(J350,referentes!T:T,0),1))","v":""},{"$f":"IF(AB350=\"\",\"\",INDEX(referentes!V:W,MATCH(AB350,referentes!W:W,0),1))","v":""},{"$f":"IF(Y350=\"\",\"\",INDEX(referentes!AZ:BA,MATCH(Y350,referentes!BA:BA,0),1))","v":""},"","","","",{"$f":"IF(BP350=\"\",\"\",INDEX(referentes!AE:AF,MATCH(BP350,referentes!AF:AF,0),1))","v":""},{"$f":"IF(BQ350=\"\",\"\",INDEX(referentes!AH:AI,MATCH(BQ350,referentes!AI:AI,0),1))","v":""},null,{"$f":"IF(D350=\"\",\"\",INDEX(referentes!A:B,MATCH(D350,referentes!B:B,0),1))","v":""},{"$f":"IF(AT350=\"\",\"\",INDEX(referentes!Y:Z,MATCH(AT350,referentes!Z:Z,0),1))","v":""},{"$f":"IF(AU350=\"\",\"\",INDEX(referentes!AB:AC,MATCH(AU350,referentes!AC:AC,0),1))","v":""}]
[null,{"$f":"IF(BT351=\"\",\"\",IF(COUNTIF($BT351:BT351, BT351)>1, \"\", BT351))","v":""},null,null,null,null,null,null,null,null,null,null,{"$f":"IF(L351=\"\",\"\",INDEX(referentes!AK:AL,MATCH(L351,referentes!AL:AL,0),1))","v":""},"",null,350,{"$f":"IF(K351=\"\",\"\",INDEX('Otras referencias'!F:I,MATCH(K351,'Otras referencias'!I:I,0),1))","v":""},"",null,null,null,null,null,null,null,null,null,null,null,null,null,null,null,null,null,null,null,null,null,null,null,null,null,null,null,null,null,null,null,null,null,null,0,0,0,0,0,0,0,0,null,null,null,null,null,0,null,null,null,null,null,{"$f":"IF(R351<>\"\",CONCATENATE($A$2,DIGITADOR!$M$1,ROW()-2),\"\")","v":""},"",{"$f":"IF(E351=\"\",\"\",INDEX(referentes!D:E,MATCH(E351,referentes!E:E,0),1))","v":""},{"$f":"IF(F351=\"\",\"\",INDEX(referentes!J:K,MATCH(F351,referentes!K:K,0),1))","v":""},{"$f":"IF(AI351=\"\",\"\",INDEX(referentes!M:N,MATCH(AI351,referentes!N:N,0),1))","v":""},{"$f":"IF(I351=\"\",\"\",INDEX(referentes!P:Q,MATCH(I351,referentes!Q:Q,0),1))","v":""},{"$f":"IF(J351=\"\",\"\",INDEX(referentes!S:T,MATCH(J351,referentes!T:T,0),1))","v":""},{"$f":"IF(AB351=\"\",\"\",INDEX(referentes!V:W,MATCH(AB351,referentes!W:W,0),1))","v":""},{"$f":"IF(Y351=\"\",\"\",INDEX(referentes!AZ:BA,MATCH(Y351,referentes!BA:BA,0),1))","v":""},"","","","",{"$f":"IF(BP351=\"\",\"\",INDEX(referentes!AE:AF,MATCH(BP351,referentes!AF:AF,0),1))","v":""},{"$f":"IF(BQ351=\"\",\"\",INDEX(referentes!AH:AI,MATCH(BQ351,referentes!AI:AI,0),1))","v":""},null,{"$f":"IF(D351=\"\",\"\",INDEX(referentes!A:B,MATCH(D351,referentes!B:B,0),1))","v":""},{"$f":"IF(AT351=\"\",\"\",INDEX(referentes!Y:Z,MATCH(AT351,referentes!Z:Z,0),1))","v":""},{"$f":"IF(AU351=\"\",\"\",INDEX(referentes!AB:AC,MATCH(AU351,referentes!AC:AC,0),1))","v":""}]
[null,{"$f":"IF(BT352=\"\",\"\",IF(COUNTIF($BT352:BT352, BT352)>1, \"\", BT352))","v":""},null,null,null,null,null,null,null,null,null,null,{"$f":"IF(L352=\"\",\"\",INDEX(referentes!AK:AL,MATCH(L352,referentes!AL:AL,0),1))","v":""},"",null,351,{"$f":"IF(K352=\"\",\"\",INDEX('Otras referencias'!F:I,MATCH(K352,'Otras referencias'!I:I,0),1))","v":""},"",null,null,null,null,null,null,null,null,null,null,null,null,null,null,null,null,null,null,null,null,null,null,null,null,null,null,null,null,null,null,null,null,null,null,0,0,0,0,0,0,0,0,null,null,null,null,null,0,null,null,null,null,null,{"$f":"IF(R352<>\"\",CONCATENATE($A$2,DIGITADOR!$M$1,ROW()-2),\"\")","v":""},"",{"$f":"IF(E352=\"\",\"\",INDEX(referentes!D:E,MATCH(E352,referentes!E:E,0),1))","v":""},{"$f":"IF(F352=\"\",\"\",INDEX(referentes!J:K,MATCH(F352,referentes!K:K,0),1))","v":""},{"$f":"IF(AI352=\"\",\"\",INDEX(referentes!M:N,MATCH(AI352,referentes!N:N,0),1))","v":""},{"$f":"IF(I352=\"\",\"\",INDEX(referentes!P:Q,MATCH(I352,referentes!Q:Q,0),1))","v":""},{"$f":"IF(J352=\"\",\"\",INDEX(referentes!S:T,MATCH(J352,referentes!T:T,0),1))","v":""},{"$f":"IF(AB352=\"\",\"\",INDEX(referentes!V:W,MATCH(AB352,referentes!W:W,0),1))","v":""},{"$f":"IF(Y352=\"\",\"\",INDEX(referentes!AZ:BA,MATCH(Y352,referentes!BA:BA,0),1))","v":""},"","","","",{"$f":"IF(BP352=\"\",\"\",INDEX(referentes!AE:AF,MATCH(BP352,referentes!AF:AF,0),1))","v":""},{"$f":"IF(BQ352=\"\",\"\",INDEX(referentes!AH:AI,MATCH(BQ352,referentes!AI:AI,0),1))","v":""},null,{"$f":"IF(D352=\"\",\"\",INDEX(referentes!A:B,MATCH(D352,referentes!B:B,0),1))","v":""},{"$f":"IF(AT352=\"\",\"\",INDEX(referentes!Y:Z,MATCH(AT352,referentes!Z:Z,0),1))","v":""},{"$f":"IF(AU352=\"\",\"\",INDEX(referentes!AB:AC,MATCH(AU352,referentes!AC:AC,0),1))","v":""}]
[null,{"$f":"IF(BT353=\"\",\"\",IF(COUNTIF($BT353:BT353, BT353)>1, \"\", BT353))","v":""},null,null,null,null,null,null,null,null,null,null,{"$f":"IF(L353=\"\",\"\",INDEX(referentes!AK:AL,MATCH(L353,referentes!AL:AL,0),1))","v":""},"",null,352,{"$f":"IF(K353=\"\",\"\",INDEX('Otras referencias'!F:I,MATCH(K353,'Otras referencias'!I:I,0),1))","v":""},"",null,null,null,null,null,null,null,null,null,null,null,null,null,null,null,null,null,null,null,null,null,null,null,null,null,null,null,null,null,null,null,null,null,null,0,0,0,0,0,0,0,0,null,null,null,null,null,0,null,null,null,null,null,{"$f":"IF(R353<>\"\",CONCATENATE($A$2,DIGITADOR!$M$1,ROW()-2),\"\")","v":""},"",{"$f":"IF(E353=\"\",\"\",INDEX(referentes!D:E,MATCH(E353,referentes!E:E,0),1))","v":""},{"$f":"IF(F353=\"\",\"\",INDEX(referentes!J:K,MATCH(F353,referentes!K:K,0),1))","v":""},{"$f":"IF(AI353=\"\",\"\",INDEX(referentes!M:N,MATCH(AI353,referentes!N:N,0),1))","v":""},{"$f":"IF(I353=\"\",\"\",INDEX(referentes!P:Q,MATCH(I353,referentes!Q:Q,0),1))","v":""},{"$f":"IF(J353=\"\",\"\",INDEX(referentes!S:T,MATCH(J353,referentes!T:T,0),1))","v":""},{"$f":"IF(AB353=\"\",\"\",INDEX(referentes!V:W,MATCH(AB353,referentes!W:W,0),1))","v":""},{"$f":"IF(Y353=\"\",\"\",INDEX(referentes!AZ:BA,MATCH(Y353,referentes!BA:BA,0),1))","v":""},"","","","",{"$f":"IF(BP353=\"\",\"\",INDEX(referentes!AE:AF,MATCH(BP353,referentes!AF:AF,0),1))","v":""},{"$f":"IF(BQ353=\"\",\"\",INDEX(referentes!AH:AI,MATCH(BQ353,referentes!AI:AI,0),1))","v":""},null,{"$f":"IF(D353=\"\",\"\",INDEX(referentes!A:B,MATCH(D353,referentes!B:B,0),1))","v":""},{"$f":"IF(AT353=\"\",\"\",INDEX(referentes!Y:Z,MATCH(AT353,referentes!Z:Z,0),1))","v":""},{"$f":"IF(AU353=\"\",\"\",INDEX(referentes!AB:AC,MATCH(AU353,referentes!AC:AC,0),1))","v":""}]
[null,{"$f":"IF(BT354=\"\",\"\",IF(COUNTIF($BT354:BT354, BT354)>1, \"\", BT354))","v":""},null,null,null,null,null,null,null,null,null,null,{"$f":"IF(L354=\"\",\"\",INDEX(referentes!AK:AL,MATCH(L354,referentes!AL:AL,0),1))","v":""},"",null,353,{"$f":"IF(K354=\"\",\"\",INDEX('Otras referencias'!F:I,MATCH(K354,'Otras referencias'!I:I,0),1))","v":""},"",null,null,null,null,null,null,null,null,null,null,null,null,null,null,null,null,null,null,null,null,null,null,null,null,null,null,null,null,null,null,null,null,null,null,0,0,0,0,0,0,0,0,null,null,null,null,null,0,null,null,null,null,null,{"$f":"IF(R354<>\"\",CONCATENATE($A$2,DIGITADOR!$M$1,ROW()-2),\"\")","v":""},"",{"$f":"IF(E354=\"\",\"\",INDEX(referentes!D:E,MATCH(E354,referentes!E:E,0),1))","v":""},{"$f":"IF(F354=\"\",\"\",INDEX(referentes!J:K,MATCH(F354,referentes!K:K,0),1))","v":""},{"$f":"IF(AI354=\"\",\"\",INDEX(referentes!M:N,MATCH(AI354,referentes!N:N,0),1))","v":""},{"$f":"IF(I354=\"\",\"\",INDEX(referentes!P:Q,MATCH(I354,referentes!Q:Q,0),1))","v":""},{"$f":"IF(J354=\"\",\"\",INDEX(referentes!S:T,MATCH(J354,referentes!T:T,0),1))","v":""},{"$f":"IF(AB354=\"\",\"\",INDEX(referentes!V:W,MATCH(AB354,referentes!W:W,0),1))","v":""},{"$f":"IF(Y354=\"\",\"\",INDEX(referentes!AZ:BA,MATCH(Y354,referentes!BA:BA,0),1))","v":""},"","","","",{"$f":"IF(BP354=\"\",\"\",INDEX(referentes!AE:AF,MATCH(BP354,referentes!AF:AF,0),1))","v":""},{"$f":"IF(BQ354=\"\",\"\",INDEX(referentes!AH:AI,MATCH(BQ354,referentes!AI:AI,0),1))","v":""},null,{"$f":"IF(D354=\"\",\"\",INDEX(referentes!A:B,MATCH(D354,referentes!B:B,0),1))","v":""},{"$f":"IF(AT354=\"\",\"\",INDEX(referentes!Y:Z,MATCH(AT354,referentes!Z:Z,0),1))","v":""},{"$f":"IF(AU354=\"\",\"\",INDEX(referentes!AB:AC,MATCH(AU354,referentes!AC:AC,0),1))","v":""}]
[null,{"$f":"IF(BT355=\"\",\"\",IF(COUNTIF($BT355:BT355, BT355)>1, \"\", BT355))","v":""},null,null,null,null,null,null,null,null,null,null,{"$f":"IF(L355=\"\",\"\",INDEX(referentes!AK:AL,MATCH(L355,referentes!AL:AL,0),1))","v":""},"",null,354,{"$f":"IF(K355=\"\",\"\",INDEX('Otras referencias'!F:I,MATCH(K355,'Otras referencias'!I:I,0),1))","v":""},"",null,null,null,null,null,null,null,null,null,null,null,null,null,null,null,null,null,null,null,null,null,null,null,null,null,null,null,null,null,null,null,null,null,null,0,0,0,0,0,0,0,0,null,null,null,null,null,0,null,null,null,null,null,{"$f":"IF(R355<>\"\",CONCATENATE($A$2,DIGITADOR!$M$1,ROW()-2),\"\")","v":""},"",{"$f":"IF(E355=\"\",\"\",INDEX(referentes!D:E,MATCH(E355,referentes!E:E,0),1))","v":""},{"$f":"IF(F355=\"\",\"\",INDEX(referentes!J:K,MATCH(F355,referentes!K:K,0),1))","v":""},{"$f":"IF(AI355=\"\",\"\",INDEX(referentes!M:N,MATCH(AI355,referentes!N:N,0),1))","v":""},{"$f":"IF(I355=\"\",\"\",INDEX(referentes!P:Q,MATCH(I355,referentes!Q:Q,0),1))","v":""},{"$f":"IF(J355=\"\",\"\",INDEX(referentes!S:T,MATCH(J355,referentes!T:T,0),1))","v":""},{"$f":"IF(AB355=\"\",\"\",INDEX(referentes!V:W,MATCH(AB355,referentes!W:W,0),1))","v":""},{"$f":"IF(Y355=\"\",\"\",INDEX(referentes!AZ:BA,MATCH(Y355,referentes!BA:BA,0),1))","v":""},"","","","",{"$f":"IF(BP355=\"\",\"\",INDEX(referentes!AE:AF,MATCH(BP355,referentes!AF:AF,0),1))","v":""},{"$f":"IF(BQ355=\"\",\"\",INDEX(referentes!AH:AI,MATCH(BQ355,referentes!AI:AI,0),1))","v":""},null,{"$f":"IF(D355=\"\",\"\",INDEX(referentes!A:B,MATCH(D355,referentes!B:B,0),1))","v":""},{"$f":"IF(AT355=\"\",\"\",INDEX(referentes!Y:Z,MATCH(AT355,referentes!Z:Z,0),1))","v":""},{"$f":"IF(AU355=\"\",\"\",INDEX(referentes!AB:AC,MATCH(AU355,referentes!AC:AC,0),1))","v":""}]
[null,{"$f":"IF(BT356=\"\",\"\",IF(COUNTIF($BT356:BT356, BT356)>1, \"\", BT356))","v":""},null,null,null,null,null,null,null,null,null,null,{"$f":"IF(L356=\"\",\"\",INDEX(referentes!AK:AL,MATCH(L356,referentes!AL:AL,0),1))","v":""},"",null,355,{"$f":"IF(K356=\"\",\"\",INDEX('Otras referencias'!F:I,MATCH(K356,'Otras referencias'!I:I,0),1))","v":""},"",null,null,null,null,null,null,null,null,null,null,null,null,null,null,null,null,null,null,null,null,null,null,null,null,null,null,null,null,null,null,null,null,null,null,0,0,0,0,0,0,0,0,null,null,null,null,null,0,null,null,null,null,null,{"$f":"IF(R356<>\"\",CONCATENATE($A$2,DIGITADOR!$M$1,ROW()-2),\"\")","v":""},"",{"$f":"IF(E356=\"\",\"\",INDEX(referentes!D:E,MATCH(E356,referentes!E:E,0),1))","v":""},{"$f":"IF(F356=\"\",\"\",INDEX(referentes!J:K,MATCH(F356,referentes!K:K,0),1))","v":""},{"$f":"IF(AI356=\"\",\"\",INDEX(referentes!M:N,MATCH(AI356,referentes!N:N,0),1))","v":""},{"$f":"IF(I356=\"\",\"\",INDEX(referentes!P:Q,MATCH(I356,referentes!Q:Q,0),1))","v":""},{"$f":"IF(J356=\"\",\"\",INDEX(referentes!S:T,MATCH(J356,referentes!T:T,0),1))","v":""},{"$f":"IF(AB356=\"\",\"\",INDEX(referentes!V:W,MATCH(AB356,referentes!W:W,0),1))","v":""},{"$f":"IF(Y356=\"\",\"\",INDEX(referentes!AZ:BA,MATCH(Y356,referentes!BA:BA,0),1))","v":""},"","","","",{"$f":"IF(BP356=\"\",\"\",INDEX(referentes!AE:AF,MATCH(BP356,referentes!AF:AF,0),1))","v":""},{"$f":"IF(BQ356=\"\",\"\",INDEX(referentes!AH:AI,MATCH(BQ356,referentes!AI:AI,0),1))","v":""},null,{"$f":"IF(D356=\"\",\"\",INDEX(referentes!A:B,MATCH(D356,referentes!B:B,0),1))","v":""},{"$f":"IF(AT356=\"\",\"\",INDEX(referentes!Y:Z,MATCH(AT356,referentes!Z:Z,0),1))","v":""},{"$f":"IF(AU356=\"\",\"\",INDEX(referentes!AB:AC,MATCH(AU356,referentes!AC:AC,0),1))","v":""}]
[null,{"$f":"IF(BT357=\"\",\"\",IF(COUNTIF($BT357:BT357, BT357)>1, \"\", BT357))","v":""},null,null,null,null,null,null,null,null,null,null,{"$f":"IF(L357=\"\",\"\",INDEX(referentes!AK:AL,MATCH(L357,referentes!AL:AL,0),1))","v":""},"",null,356,{"$f":"IF(K357=\"\",\"\",INDEX('Otras referencias'!F:I,MATCH(K357,'Otras referencias'!I:I,0),1))","v":""},"",null,null,null,null,null,null,null,null,null,null,null,null,null,null,null,null,null,null,null,null,null,null,null,null,null,null,null,null,null,null,null,null,null,null,0,0,0,0,0,0,0,0,null,null,null,null,null,0,null,null,null,null,null,{"$f":"IF(R357<>\"\",CONCATENATE($A$2,DIGITADOR!$M$1,ROW()-2),\"\")","v":""},"",{"$f":"IF(E357=\"\",\"\",INDEX(referentes!D:E,MATCH(E357,referentes!E:E,0),1))","v":""},{"$f":"IF(F357=\"\",\"\",INDEX(referentes!J:K,MATCH(F357,referentes!K:K,0),1))","v":""},{"$f":"IF(AI357=\"\",\"\",INDEX(referentes!M:N,MATCH(AI357,referentes!N:N,0),1))","v":""},{"$f":"IF(I357=\"\",\"\",INDEX(referentes!P:Q,MATCH(I357,referentes!Q:Q,0),1))","v":""},{"$f":"IF(J357=\"\",\"\",INDEX(referentes!S:T,MATCH(J357,referentes!T:T,0),1))","v":""},{"$f":"IF(AB357=\"\",\"\",INDEX(referentes!V:W,MATCH(AB357,referentes!W:W,0),1))","v":""},{"$f":"IF(Y357=\"\",\"\",INDEX(referentes!AZ:BA,MATCH(Y357,referentes!BA:BA,0),1))","v":""},"","","","",{"$f":"IF(BP357=\"\",\"\",INDEX(referentes!AE:AF,MATCH(BP357,referentes!AF:AF,0),1))","v":""},{"$f":"IF(BQ357=\"\",\"\",INDEX(referentes!AH:AI,MATCH(BQ357,referentes!AI:AI,0),1))","v":""},null,{"$f":"IF(D357=\"\",\"\",INDEX(referentes!A:B,MATCH(D357,referentes!B:B,0),1))","v":""},{"$f":"IF(AT357=\"\",\"\",INDEX(referentes!Y:Z,MATCH(AT357,referentes!Z:Z,0),1))","v":""},{"$f":"IF(AU357=\"\",\"\",INDEX(referentes!AB:AC,MATCH(AU357,referentes!AC:AC,0),1))","v":""}]
[null,{"$f":"IF(BT358=\"\",\"\",IF(COUNTIF($BT358:BT358, BT358)>1, \"\", BT358))","v":""},null,null,null,null,null,null,null,null,null,null,{"$f":"IF(L358=\"\",\"\",INDEX(referentes!AK:AL,MATCH(L358,referentes!AL:AL,0),1))","v":""},"",null,357,{"$f":"IF(K358=\"\",\"\",INDEX('Otras referencias'!F:I,MATCH(K358,'Otras referencias'!I:I,0),1))","v":""},"",null,null,null,null,null,null,null,null,null,null,null,null,null,null,null,null,null,null,null,null,null,null,null,null,null,null,null,null,null,null,null,null,null,null,0,0,0,0,0,0,0,0,null,null,null,null,null,0,null,null,null,null,null,{"$f":"IF(R358<>\"\",CONCATENATE($A$2,DIGITADOR!$M$1,ROW()-2),\"\")","v":""},"",{"$f":"IF(E358=\"\",\"\",INDEX(referentes!D:E,MATCH(E358,referentes!E:E,0),1))","v":""},{"$f":"IF(F358=\"\",\"\",INDEX(referentes!J:K,MATCH(F358,referentes!K:K,0),1))","v":""},{"$f":"IF(AI358=\"\",\"\",INDEX(referentes!M:N,MATCH(AI358,referentes!N:N,0),1))","v":""},{"$f":"IF(I358=\"\",\"\",INDEX(referentes!P:Q,MATCH(I358,referentes!Q:Q,0),1))","v":""},{"$f":"IF(J358=\"\",\"\",INDEX(referentes!S:T,MATCH(J358,referentes!T:T,0),1))","v":""},{"$f":"IF(AB358=\"\",\"\",INDEX(referentes!V:W,MATCH(AB358,referentes!W:W,0),1))","v":""},{"$f":"IF(Y358=\"\",\"\",INDEX(referentes!AZ:BA,MATCH(Y358,referentes!BA:BA,0),1))","v":""},"","","","",{"$f":"IF(BP358=\"\",\"\",INDEX(referentes!AE:AF,MATCH(BP358,referentes!AF:AF,0),1))","v":""},{"$f":"IF(BQ358=\"\",\"\",INDEX(referentes!AH:AI,MATCH(BQ358,referentes!AI:AI,0),1))","v":""},null,{"$f":"IF(D358=\"\",\"\",INDEX(referentes!A:B,MATCH(D358,referentes!B:B,0),1))","v":""},{"$f":"IF(AT358=\"\",\"\",INDEX(referentes!Y:Z,MATCH(AT358,referentes!Z:Z,0),1))","v":""},{"$f":"IF(AU358=\"\",\"\",INDEX(referentes!AB:AC,MATCH(AU358,referentes!AC:AC,0),1))","v":""}]
[null,{"$f":"IF(BT359=\"\",\"\",IF(COUNTIF($BT359:BT359, BT359)>1, \"\", BT359))","v":""},null,null,null,null,null,null,null,null,null,null,{"$f":"IF(L359=\"\",\"\",INDEX(referentes!AK:AL,MATCH(L359,referentes!AL:AL,0),1))","v":""},"",null,358,{"$f":"IF(K359=\"\",\"\",INDEX('Otras referencias'!F:I,MATCH(K359,'Otras referencias'!I:I,0),1))","v":""},"",null,null,null,null,null,null,null,null,null,null,null,null,null,null,null,null,null,null,null,null,null,null,null,null,null,null,null,null,null,null,null,null,null,null,0,0,0,0,0,0,0,0,null,null,null,null,null,0,null,null,null,null,null,{"$f":"IF(R359<>\"\",CONCATENATE($A$2,DIGITADOR!$M$1,ROW()-2),\"\")","v":""},"",{"$f":"IF(E359=\"\",\"\",INDEX(referentes!D:E,MATCH(E359,referentes!E:E,0),1))","v":""},{"$f":"IF(F359=\"\",\"\",INDEX(referentes!J:K,MATCH(F359,referentes!K:K,0),1))","v":""},{"$f":"IF(AI359=\"\",\"\",INDEX(referentes!M:N,MATCH(AI359,referentes!N:N,0),1))","v":""},{"$f":"IF(I359=\"\",\"\",INDEX(referentes!P:Q,MATCH(I359,referentes!Q:Q,0),1))","v":""},{"$f":"IF(J359=\"\",\"\",INDEX(referentes!S:T,MATCH(J359,referentes!T:T,0),1))","v":""},{"$f":"IF(AB359=\"\",\"\",INDEX(referentes!V:W,MATCH(AB359,referentes!W:W,0),1))","v":""},{"$f":"IF(Y359=\"\",\"\",INDEX(referentes!AZ:BA,MATCH(Y359,referentes!BA:BA,0),1))","v":""},"","","","",{"$f":"IF(BP359=\"\",\"\",INDEX(referentes!AE:AF,MATCH(BP359,referentes!AF:AF,0),1))","v":""},{"$f":"IF(BQ359=\"\",\"\",INDEX(referentes!AH:AI,MATCH(BQ359,referentes!AI:AI,0),1))","v":""},null,{"$f":"IF(D359=\"\",\"\",INDEX(referentes!A:B,MATCH(D359,referentes!B:B,0),1))","v":""},{"$f":"IF(AT359=\"\",\"\",INDEX(referentes!Y:Z,MATCH(AT359,referentes!Z:Z,0),1))","v":""},{"$f":"IF(AU359=\"\",\"\",INDEX(referentes!AB:AC,MATCH(AU359,referentes!AC:AC,0),1))","v":""}]
[null,{"$f":"IF(BT360=\"\",\"\",IF(COUNTIF($BT360:BT360, BT360)>1, \"\", BT360))","v":""},null,null,null,null,null,null,null,null,null,null,{"$f":"IF(L360=\"\",\"\",INDEX(referentes!AK:AL,MATCH(L360,referentes!AL:AL,0),1))","v":""},"",null,359,{"$f":"IF(K360=\"\",\"\",INDEX('Otras referencias'!F:I,MATCH(K360,'Otras referencias'!I:I,0),1))","v":""},"",null,null,null,null,null,null,null,null,null,null,null,null,null,null,null,null,null,null,null,null,null,null,null,null,null,null,null,null,null,null,null,null,null,null,0,0,0,0,0,0,0,0,null,null,null,null,null,0,null,null,null,null,null,{"$f":"IF(R360<>\"\",CONCATENATE($A$2,DIGITADOR!$M$1,ROW()-2),\"\")","v":""},"",{"$f":"IF(E360=\"\",\"\",INDEX(referentes!D:E,MATCH(E360,referentes!E:E,0),1))","v":""},{"$f":"IF(F360=\"\",\"\",INDEX(referentes!J:K,MATCH(F360,referentes!K:K,0),1))","v":""},{"$f":"IF(AI360=\"\",\"\",INDEX(referentes!M:N,MATCH(AI360,referentes!N:N,0),1))","v":""},{"$f":"IF(I360=\"\",\"\",INDEX(referentes!P:Q,MATCH(I360,referentes!Q:Q,0),1))","v":""},{"$f":"IF(J360=\"\",\"\",INDEX(referentes!S:T,MATCH(J360,referentes!T:T,0),1))","v":""},{"$f":"IF(AB360=\"\",\"\",INDEX(referentes!V:W,MATCH(AB360,referentes!W:W,0),1))","v":""},{"$f":"IF(Y360=\"\",\"\",INDEX(referentes!AZ:BA,MATCH(Y360,referentes!BA:BA,0),1))","v":""},"","","","",{"$f":"IF(BP360=\"\",\"\",INDEX(referentes!AE:AF,MATCH(BP360,referentes!AF:AF,0),1))","v":""},{"$f":"IF(BQ360=\"\",\"\",INDEX(referentes!AH:AI,MATCH(BQ360,referentes!AI:AI,0),1))","v":""},null,{"$f":"IF(D360=\"\",\"\",INDEX(referentes!A:B,MATCH(D360,referentes!B:B,0),1))","v":""},{"$f":"IF(AT360=\"\",\"\",INDEX(referentes!Y:Z,MATCH(AT360,referentes!Z:Z,0),1))","v":""},{"$f":"IF(AU360=\"\",\"\",INDEX(referentes!AB:AC,MATCH(AU360,referentes!AC:AC,0),1))","v":""}]
[null,{"$f":"IF(BT361=\"\",\"\",IF(COUNTIF($BT361:BT361, BT361)>1, \"\", BT361))","v":""},null,null,null,null,null,null,null,null,null,null,{"$f":"IF(L361=\"\",\"\",INDEX(referentes!AK:AL,MATCH(L361,referentes!AL:AL,0),1))","v":""},"",null,360,{"$f":"IF(K361=\"\",\"\",INDEX('Otras referencias'!F:I,MATCH(K361,'Otras referencias'!I:I,0),1))","v":""},"",null,null,null,null,null,null,null,null,null,null,null,null,null,null,null,null,null,null,null,null,null,null,null,null,null,null,null,null,null,null,null,null,null,null,0,0,0,0,0,0,0,0,null,null,null,null,null,0,null,null,null,null,null,{"$f":"IF(R361<>\"\",CONCATENATE($A$2,DIGITADOR!$M$1,ROW()-2),\"\")","v":""},"",{"$f":"IF(E361=\"\",\"\",INDEX(referentes!D:E,MATCH(E361,referentes!E:E,0),1))","v":""},{"$f":"IF(F361=\"\",\"\",INDEX(referentes!J:K,MATCH(F361,referentes!K:K,0),1))","v":""},{"$f":"IF(AI361=\"\",\"\",INDEX(referentes!M:N,MATCH(AI361,referentes!N:N,0),1))","v":""},{"$f":"IF(I361=\"\",\"\",INDEX(referentes!P:Q,MATCH(I361,referentes!Q:Q,0),1))","v":""},{"$f":"IF(J361=\"\",\"\",INDEX(referentes!S:T,MATCH(J361,referentes!T:T,0),1))","v":""},{"$f":"IF(AB361=\"\",\"\",INDEX(referentes!V:W,MATCH(AB361,referentes!W:W,0),1))","v":""},{"$f":"IF(Y361=\"\",\"\",INDEX(referentes!AZ:BA,MATCH(Y361,referentes!BA:BA,0),1))","v":""},"","","","",{"$f":"IF(BP361=\"\",\"\",INDEX(referentes!AE:AF,MATCH(BP361,referentes!AF:AF,0),1))","v":""},{"$f":"IF(BQ361=\"\",\"\",INDEX(referentes!AH:AI,MATCH(BQ361,referentes!AI:AI,0),1))","v":""},null,{"$f":"IF(D361=\"\",\"\",INDEX(referentes!A:B,MATCH(D361,referentes!B:B,0),1))","v":""},{"$f":"IF(AT361=\"\",\"\",INDEX(referentes!Y:Z,MATCH(AT361,referentes!Z:Z,0),1))","v":""},{"$f":"IF(AU361=\"\",\"\",INDEX(referentes!AB:AC,MATCH(AU361,referentes!AC:AC,0),1))","v":""}]
[null,{"$f":"IF(BT362=\"\",\"\",IF(COUNTIF($BT362:BT362, BT362)>1, \"\", BT362))","v":""},null,null,null,null,null,null,null,null,null,null,{"$f":"IF(L362=\"\",\"\",INDEX(referentes!AK:AL,MATCH(L362,referentes!AL:AL,0),1))","v":""},"",null,361,{"$f":"IF(K362=\"\",\"\",INDEX('Otras referencias'!F:I,MATCH(K362,'Otras referencias'!I:I,0),1))","v":""},"",null,null,null,null,null,null,null,null,null,null,null,null,null,null,null,null,null,null,null,null,null,null,null,null,null,null,null,null,null,null,null,null,null,null,0,0,0,0,0,0,0,0,null,null,null,null,null,0,null,null,null,null,null,{"$f":"IF(R362<>\"\",CONCATENATE($A$2,DIGITADOR!$M$1,ROW()-2),\"\")","v":""},"",{"$f":"IF(E362=\"\",\"\",INDEX(referentes!D:E,MATCH(E362,referentes!E:E,0),1))","v":""},{"$f":"IF(F362=\"\",\"\",INDEX(referentes!J:K,MATCH(F362,referentes!K:K,0),1))","v":""},{"$f":"IF(AI362=\"\",\"\",INDEX(referentes!M:N,MATCH(AI362,referentes!N:N,0),1))","v":""},{"$f":"IF(I362=\"\",\"\",INDEX(referentes!P:Q,MATCH(I362,referentes!Q:Q,0),1))","v":""},{"$f":"IF(J362=\"\",\"\",INDEX(referentes!S:T,MATCH(J362,referentes!T:T,0),1))","v":""},{"$f":"IF(AB362=\"\",\"\",INDEX(referentes!V:W,MATCH(AB362,referentes!W:W,0),1))","v":""},{"$f":"IF(Y362=\"\",\"\",INDEX(referentes!AZ:BA,MATCH(Y362,referentes!BA:BA,0),1))","v":""},"","","","",{"$f":"IF(BP362=\"\",\"\",INDEX(referentes!AE:AF,MATCH(BP362,referentes!AF:AF,0),1))","v":""},{"$f":"IF(BQ362=\"\",\"\",INDEX(referentes!AH:AI,MATCH(BQ362,referentes!AI:AI,0),1))","v":""},null,{"$f":"IF(D362=\"\",\"\",INDEX(referentes!A:B,MATCH(D362,referentes!B:B,0),1))","v":""},{"$f":"IF(AT362=\"\",\"\",INDEX(referentes!Y:Z,MATCH(AT362,referentes!Z:Z,0),1))","v":""},{"$f":"IF(AU362=\"\",\"\",INDEX(referentes!AB:AC,MATCH(AU362,referentes!AC:AC,0),1))","v":""}]
[null,{"$f":"IF(BT363=\"\",\"\",IF(COUNTIF($BT363:BT363, BT363)>1, \"\", BT363))","v":""},null,null,null,null,null,null,null,null,null,null,{"$f":"IF(L363=\"\",\"\",INDEX(referentes!AK:AL,MATCH(L363,referentes!AL:AL,0),1))","v":""},"",null,362,{"$f":"IF(K363=\"\",\"\",INDEX('Otras referencias'!F:I,MATCH(K363,'Otras referencias'!I:I,0),1))","v":""},"",null,null,null,null,null,null,null,null,null,null,null,null,null,null,null,null,null,null,null,null,null,null,null,null,null,null,null,null,null,null,null,null,null,null,0,0,0,0,0,0,0,0,null,null,null,null,null,0,null,null,null,null,null,{"$f":"IF(R363<>\"\",CONCATENATE($A$2,DIGITADOR!$M$1,ROW()-2),\"\")","v":""},"",{"$f":"IF(E363=\"\",\"\",INDEX(referentes!D:E,MATCH(E363,referentes!E:E,0),1))","v":""},{"$f":"IF(F363=\"\",\"\",INDEX(referentes!J:K,MATCH(F363,referentes!K:K,0),1))","v":""},{"$f":"IF(AI363=\"\",\"\",INDEX(referentes!M:N,MATCH(AI363,referentes!N:N,0),1))","v":""},{"$f":"IF(I363=\"\",\"\",INDEX(referentes!P:Q,MATCH(I363,referentes!Q:Q,0),1))","v":""},{"$f":"IF(J363=\"\",\"\",INDEX(referentes!S:T,MATCH(J363,referentes!T:T,0),1))","v":""},{"$f":"IF(AB363=\"\",\"\",INDEX(referentes!V:W,MATCH(AB363,referentes!W:W,0),1))","v":""},{"$f":"IF(Y363=\"\",\"\",INDEX(referentes!AZ:BA,MATCH(Y363,referentes!BA:BA,0),1))","v":""},"","","","",{"$f":"IF(BP363=\"\",\"\",INDEX(referentes!AE:AF,MATCH(BP363,referentes!AF:AF,0),1))","v":""},{"$f":"IF(BQ363=\"\",\"\",INDEX(referentes!AH:AI,MATCH(BQ363,referentes!AI:AI,0),1))","v":""},null,{"$f":"IF(D363=\"\",\"\",INDEX(referentes!A:B,MATCH(D363,referentes!B:B,0),1))","v":""},{"$f":"IF(AT363=\"\",\"\",INDEX(referentes!Y:Z,MATCH(AT363,referentes!Z:Z,0),1))","v":""},{"$f":"IF(AU363=\"\",\"\",INDEX(referentes!AB:AC,MATCH(AU363,referentes!AC:AC,0),1))","v":""}]
[null,{"$f":"IF(BT364=\"\",\"\",IF(COUNTIF($BT364:BT364, BT364)>1, \"\", BT364))","v":""},null,null,null,null,null,null,null,null,null,null,{"$f":"IF(L364=\"\",\"\",INDEX(referentes!AK:AL,MATCH(L364,referentes!AL:AL,0),1))","v":""},"",null,363,{"$f":"IF(K364=\"\",\"\",INDEX('Otras referencias'!F:I,MATCH(K364,'Otras referencias'!I:I,0),1))","v":""},"",null,null,null,null,null,null,null,null,null,null,null,null,null,null,null,null,null,null,null,null,null,null,null,null,null,null,null,null,null,null,null,null,null,null,0,0,0,0,0,0,0,0,null,null,null,null,null,0,null,null,null,null,null,{"$f":"IF(R364<>\"\",CONCATENATE($A$2,DIGITADOR!$M$1,ROW()-2),\"\")","v":""},"",{"$f":"IF(E364=\"\",\"\",INDEX(referentes!D:E,MATCH(E364,referentes!E:E,0),1))","v":""},{"$f":"IF(F364=\"\",\"\",INDEX(referentes!J:K,MATCH(F364,referentes!K:K,0),1))","v":""},{"$f":"IF(AI364=\"\",\"\",INDEX(referentes!M:N,MATCH(AI364,referentes!N:N,0),1))","v":""},{"$f":"IF(I364=\"\",\"\",INDEX(referentes!P:Q,MATCH(I364,referentes!Q:Q,0),1))","v":""},{"$f":"IF(J364=\"\",\"\",INDEX(referentes!S:T,MATCH(J364,referentes!T:T,0),1))","v":""},{"$f":"IF(AB364=\"\",\"\",INDEX(referentes!V:W,MATCH(AB364,referentes!W:W,0),1))","v":""},{"$f":"IF(Y364=\"\",\"\",INDEX(referentes!AZ:BA,MATCH(Y364,referentes!BA:BA,0),1))","v":""},"","","","",{"$f":"IF(BP364=\"\",\"\",INDEX(referentes!AE:AF,MATCH(BP364,referentes!AF:AF,0),1))","v":""},{"$f":"IF(BQ364=\"\",\"\",INDEX(referentes!AH:AI,MATCH(BQ364,referentes!AI:AI,0),1))","v":""},null,{"$f":"IF(D364=\"\",\"\",INDEX(referentes!A:B,MATCH(D364,referentes!B:B,0),1))","v":""},{"$f":"IF(AT364=\"\",\"\",INDEX(referentes!Y:Z,MATCH(AT364,referentes!Z:Z,0),1))","v":""},{"$f":"IF(AU364=\"\",\"\",INDEX(referentes!AB:AC,MATCH(AU364,referentes!AC:AC,0),1))","v":""}]
[null,{"$f":"IF(BT365=\"\",\"\",IF(COUNTIF($BT365:BT365, BT365)>1, \"\", BT365))","v":""},null,null,null,null,null,null,null,null,null,null,{"$f":"IF(L365=\"\",\"\",INDEX(referentes!AK:AL,MATCH(L365,referentes!AL:AL,0),1))","v":""},"",null,364,{"$f":"IF(K365=\"\",\"\",INDEX('Otras referencias'!F:I,MATCH(K365,'Otras referencias'!I:I,0),1))","v":""},"",null,null,null,null,null,null,null,null,null,null,null,null,null,null,null,null,null,null,null,null,null,null,null,null,null,null,null,null,null,null,null,null,null,null,0,0,0,0,0,0,0,0,null,null,null,null,null,0,null,null,null,null,null,{"$f":"IF(R365<>\"\",CONCATENATE($A$2,DIGITADOR!$M$1,ROW()-2),\"\")","v":""},"",{"$f":"IF(E365=\"\",\"\",INDEX(referentes!D:E,MATCH(E365,referentes!E:E,0),1))","v":""},{"$f":"IF(F365=\"\",\"\",INDEX(referentes!J:K,MATCH(F365,referentes!K:K,0),1))","v":""},{"$f":"IF(AI365=\"\",\"\",INDEX(referentes!M:N,MATCH(AI365,referentes!N:N,0),1))","v":""},{"$f":"IF(I365=\"\",\"\",INDEX(referentes!P:Q,MATCH(I365,referentes!Q:Q,0),1))","v":""},{"$f":"IF(J365=\"\",\"\",INDEX(referentes!S:T,MATCH(J365,referentes!T:T,0),1))","v":""},{"$f":"IF(AB365=\"\",\"\",INDEX(referentes!V:W,MATCH(AB365,referentes!W:W,0),1))","v":""},{"$f":"IF(Y365=\"\",\"\",INDEX(referentes!AZ:BA,MATCH(Y365,referentes!BA:BA,0),1))","v":""},"","","","",{"$f":"IF(BP365=\"\",\"\",INDEX(referentes!AE:AF,MATCH(BP365,referentes!AF:AF,0),1))","v":""},{"$f":"IF(BQ365=\"\",\"\",INDEX(referentes!AH:AI,MATCH(BQ365,referentes!AI:AI,0),1))","v":""},null,{"$f":"IF(D365=\"\",\"\",INDEX(referentes!A:B,MATCH(D365,referentes!B:B,0),1))","v":""},{"$f":"IF(AT365=\"\",\"\",INDEX(referentes!Y:Z,MATCH(AT365,referentes!Z:Z,0),1))","v":""},{"$f":"IF(AU365=\"\",\"\",INDEX(referentes!AB:AC,MATCH(AU365,referentes!AC:AC,0),1))","v":""}]
[null,{"$f":"IF(BT366=\"\",\"\",IF(COUNTIF($BT366:BT366, BT366)>1, \"\", BT366))","v":""},null,null,null,null,null,null,null,null,null,null,{"$f":"IF(L366=\"\",\"\",INDEX(referentes!AK:AL,MATCH(L366,referentes!AL:AL,0),1))","v":""},"",null,365,{"$f":"IF(K366=\"\",\"\",INDEX('Otras referencias'!F:I,MATCH(K366,'Otras referencias'!I:I,0),1))","v":""},"",null,null,null,null,null,null,null,null,null,null,null,null,null,null,null,null,null,null,null,null,null,null,null,null,null,null,null,null,null,null,null,null,null,null,0,0,0,0,0,0,0,0,null,null,null,null,null,0,null,null,null,null,null,{"$f":"IF(R366<>\"\",CONCATENATE($A$2,DIGITADOR!$M$1,ROW()-2),\"\")","v":""},"",{"$f":"IF(E366=\"\",\"\",INDEX(referentes!D:E,MATCH(E366,referentes!E:E,0),1))","v":""},{"$f":"IF(F366=\"\",\"\",INDEX(referentes!J:K,MATCH(F366,referentes!K:K,0),1))","v":""},{"$f":"IF(AI366=\"\",\"\",INDEX(referentes!M:N,MATCH(AI366,referentes!N:N,0),1))","v":""},{"$f":"IF(I366=\"\",\"\",INDEX(referentes!P:Q,MATCH(I366,referentes!Q:Q,0),1))","v":""},{"$f":"IF(J366=\"\",\"\",INDEX(referentes!S:T,MATCH(J366,referentes!T:T,0),1))","v":""},{"$f":"IF(AB366=\"\",\"\",INDEX(referentes!V:W,MATCH(AB366,referentes!W:W,0),1))","v":""},{"$f":"IF(Y366=\"\",\"\",INDEX(referentes!AZ:BA,MATCH(Y366,referentes!BA:BA,0),1))","v":""},"","","","",{"$f":"IF(BP366=\"\",\"\",INDEX(referentes!AE:AF,MATCH(BP366,referentes!AF:AF,0),1))","v":""},{"$f":"IF(BQ366=\"\",\"\",INDEX(referentes!AH:AI,MATCH(BQ366,referentes!AI:AI,0),1))","v":""},null,{"$f":"IF(D366=\"\",\"\",INDEX(referentes!A:B,MATCH(D366,referentes!B:B,0),1))","v":""},{"$f":"IF(AT366=\"\",\"\",INDEX(referentes!Y:Z,MATCH(AT366,referentes!Z:Z,0),1))","v":""},{"$f":"IF(AU366=\"\",\"\",INDEX(referentes!AB:AC,MATCH(AU366,referentes!AC:AC,0),1))","v":""}]
[null,{"$f":"IF(BT367=\"\",\"\",IF(COUNTIF($BT367:BT367, BT367)>1, \"\", BT367))","v":""},null,null,null,null,null,null,null,null,null,null,{"$f":"IF(L367=\"\",\"\",INDEX(referentes!AK:AL,MATCH(L367,referentes!AL:AL,0),1))","v":""},"",null,366,{"$f":"IF(K367=\"\",\"\",INDEX('Otras referencias'!F:I,MATCH(K367,'Otras referencias'!I:I,0),1))","v":""},"",null,null,null,null,null,null,null,null,null,null,null,null,null,null,null,null,null,null,null,null,null,null,null,null,null,null,null,null,null,null,null,null,null,null,0,0,0,0,0,0,0,0,null,null,null,null,null,0,null,null,null,null,null,{"$f":"IF(R367<>\"\",CONCATENATE($A$2,DIGITADOR!$M$1,ROW()-2),\"\")","v":""},"",{"$f":"IF(E367=\"\",\"\",INDEX(referentes!D:E,MATCH(E367,referentes!E:E,0),1))","v":""},{"$f":"IF(F367=\"\",\"\",INDEX(referentes!J:K,MATCH(F367,referentes!K:K,0),1))","v":""},{"$f":"IF(AI367=\"\",\"\",INDEX(referentes!M:N,MATCH(AI367,referentes!N:N,0),1))","v":""},{"$f":"IF(I367=\"\",\"\",INDEX(referentes!P:Q,MATCH(I367,referentes!Q:Q,0),1))","v":""},{"$f":"IF(J367=\"\",\"\",INDEX(referentes!S:T,MATCH(J367,referentes!T:T,0),1))","v":""},{"$f":"IF(AB367=\"\",\"\",INDEX(referentes!V:W,MATCH(AB367,referentes!W:W,0),1))","v":""},{"$f":"IF(Y367=\"\",\"\",INDEX(referentes!AZ:BA,MATCH(Y367,referentes!BA:BA,0),1))","v":""},"","","","",{"$f":"IF(BP367=\"\",\"\",INDEX(referentes!AE:AF,MATCH(BP367,referentes!AF:AF,0),1))","v":""},{"$f":"IF(BQ367=\"\",\"\",INDEX(referentes!AH:AI,MATCH(BQ367,referentes!AI:AI,0),1))","v":""},null,{"$f":"IF(D367=\"\",\"\",INDEX(referentes!A:B,MATCH(D367,referentes!B:B,0),1))","v":""},{"$f":"IF(AT367=\"\",\"\",INDEX(referentes!Y:Z,MATCH(AT367,referentes!Z:Z,0),1))","v":""},{"$f":"IF(AU367=\"\",\"\",INDEX(referentes!AB:AC,MATCH(AU367,referentes!AC:AC,0),1))","v":""}]
[null,{"$f":"IF(BT368=\"\",\"\",IF(COUNTIF($BT368:BT368, BT368)>1, \"\", BT368))","v":""},null,null,null,null,null,null,null,null,null,null,{"$f":"IF(L368=\"\",\"\",INDEX(referentes!AK:AL,MATCH(L368,referentes!AL:AL,0),1))","v":""},"",null,367,{"$f":"IF(K368=\"\",\"\",INDEX('Otras referencias'!F:I,MATCH(K368,'Otras referencias'!I:I,0),1))","v":""},"",null,null,null,null,null,null,null,null,null,null,null,null,null,null,null,null,null,null,null,null,null,null,null,null,null,null,null,null,null,null,null,null,null,null,0,0,0,0,0,0,0,0,null,null,null,null,null,0,null,null,null,null,null,{"$f":"IF(R368<>\"\",CONCATENATE($A$2,DIGITADOR!$M$1,ROW()-2),\"\")","v":""},"",{"$f":"IF(E368=\"\",\"\",INDEX(referentes!D:E,MATCH(E368,referentes!E:E,0),1))","v":""},{"$f":"IF(F368=\"\",\"\",INDEX(referentes!J:K,MATCH(F368,referentes!K:K,0),1))","v":""},{"$f":"IF(AI368=\"\",\"\",INDEX(referentes!M:N,MATCH(AI368,referentes!N:N,0),1))","v":""},{"$f":"IF(I368=\"\",\"\",INDEX(referentes!P:Q,MATCH(I368,referentes!Q:Q,0),1))","v":""},{"$f":"IF(J368=\"\",\"\",INDEX(referentes!S:T,MATCH(J368,referentes!T:T,0),1))","v":""},{"$f":"IF(AB368=\"\",\"\",INDEX(referentes!V:W,MATCH(AB368,referentes!W:W,0),1))","v":""},{"$f":"IF(Y368=\"\",\"\",INDEX(referentes!AZ:BA,MATCH(Y368,referentes!BA:BA,0),1))","v":""},"","","","",{"$f":"IF(BP368=\"\",\"\",INDEX(referentes!AE:AF,MATCH(BP368,referentes!AF:AF,0),1))","v":""},{"$f":"IF(BQ368=\"\",\"\",INDEX(referentes!AH:AI,MATCH(BQ368,referentes!AI:AI,0),1))","v":""},null,{"$f":"IF(D368=\"\",\"\",INDEX(referentes!A:B,MATCH(D368,referentes!B:B,0),1))","v":""},{"$f":"IF(AT368=\"\",\"\",INDEX(referentes!Y:Z,MATCH(AT368,referentes!Z:Z,0),1))","v":""},{"$f":"IF(AU368=\"\",\"\",INDEX(referentes!AB:AC,MATCH(AU368,referentes!AC:AC,0),1))","v":""}]
[null,{"$f":"IF(BT369=\"\",\"\",IF(COUNTIF($BT369:BT369, BT369)>1, \"\", BT369))","v":""},null,null,null,null,null,null,null,null,null,null,{"$f":"IF(L369=\"\",\"\",INDEX(referentes!AK:AL,MATCH(L369,referentes!AL:AL,0),1))","v":""},"",null,368,{"$f":"IF(K369=\"\",\"\",INDEX('Otras referencias'!F:I,MATCH(K369,'Otras referencias'!I:I,0),1))","v":""},"",null,null,null,null,null,null,null,null,null,null,null,null,null,null,null,null,null,null,null,null,null,null,null,null,null,null,null,null,null,null,null,null,null,null,0,0,0,0,0,0,0,0,null,null,null,null,null,0,null,null,null,null,null,{"$f":"IF(R369<>\"\",CONCATENATE($A$2,DIGITADOR!$M$1,ROW()-2),\"\")","v":""},"",{"$f":"IF(E369=\"\",\"\",INDEX(referentes!D:E,MATCH(E369,referentes!E:E,0),1))","v":""},{"$f":"IF(F369=\"\",\"\",INDEX(referentes!J:K,MATCH(F369,referentes!K:K,0),1))","v":""},{"$f":"IF(AI369=\"\",\"\",INDEX(referentes!M:N,MATCH(AI369,referentes!N:N,0),1))","v":""},{"$f":"IF(I369=\"\",\"\",INDEX(referentes!P:Q,MATCH(I369,referentes!Q:Q,0),1))","v":""},{"$f":"IF(J369=\"\",\"\",INDEX(referentes!S:T,MATCH(J369,referentes!T:T,0),1))","v":""},{"$f":"IF(AB369=\"\",\"\",INDEX(referentes!V:W,MATCH(AB369,referentes!W:W,0),1))","v":""},{"$f":"IF(Y369=\"\",\"\",INDEX(referentes!AZ:BA,MATCH(Y369,referentes!BA:BA,0),1))","v":""},"","","","",{"$f":"IF(BP369=\"\",\"\",INDEX(referentes!AE:AF,MATCH(BP369,referentes!AF:AF,0),1))","v":""},{"$f":"IF(BQ369=\"\",\"\",INDEX(referentes!AH:AI,MATCH(BQ369,referentes!AI:AI,0),1))","v":""},null,{"$f":"IF(D369=\"\",\"\",INDEX(referentes!A:B,MATCH(D369,referentes!B:B,0),1))","v":""},{"$f":"IF(AT369=\"\",\"\",INDEX(referentes!Y:Z,MATCH(AT369,referentes!Z:Z,0),1))","v":""},{"$f":"IF(AU369=\"\",\"\",INDEX(referentes!AB:AC,MATCH(AU369,referentes!AC:AC,0),1))","v":""}]
[null,{"$f":"IF(BT370=\"\",\"\",IF(COUNTIF($BT370:BT370, BT370)>1, \"\", BT370))","v":""},null,null,null,null,null,null,null,null,null,null,{"$f":"IF(L370=\"\",\"\",INDEX(referentes!AK:AL,MATCH(L370,referentes!AL:AL,0),1))","v":""},"",null,369,{"$f":"IF(K370=\"\",\"\",INDEX('Otras referencias'!F:I,MATCH(K370,'Otras referencias'!I:I,0),1))","v":""},"",null,null,null,null,null,null,null,null,null,null,null,null,null,null,null,null,null,null,null,null,null,null,null,null,null,null,null,null,null,null,null,null,null,null,0,0,0,0,0,0,0,0,null,null,null,null,null,0,null,null,null,null,null,{"$f":"IF(R370<>\"\",CONCATENATE($A$2,DIGITADOR!$M$1,ROW()-2),\"\")","v":""},"",{"$f":"IF(E370=\"\",\"\",INDEX(referentes!D:E,MATCH(E370,referentes!E:E,0),1))","v":""},{"$f":"IF(F370=\"\",\"\",INDEX(referentes!J:K,MATCH(F370,referentes!K:K,0),1))","v":""},{"$f":"IF(AI370=\"\",\"\",INDEX(referentes!M:N,MATCH(AI370,referentes!N:N,0),1))","v":""},{"$f":"IF(I370=\"\",\"\",INDEX(referentes!P:Q,MATCH(I370,referentes!Q:Q,0),1))","v":""},{"$f":"IF(J370=\"\",\"\",INDEX(referentes!S:T,MATCH(J370,referentes!T:T,0),1))","v":""},{"$f":"IF(AB370=\"\",\"\",INDEX(referentes!V:W,MATCH(AB370,referentes!W:W,0),1))","v":""},{"$f":"IF(Y370=\"\",\"\",INDEX(referentes!AZ:BA,MATCH(Y370,referentes!BA:BA,0),1))","v":""},"","","","",{"$f":"IF(BP370=\"\",\"\",INDEX(referentes!AE:AF,MATCH(BP370,referentes!AF:AF,0),1))","v":""},{"$f":"IF(BQ370=\"\",\"\",INDEX(referentes!AH:AI,MATCH(BQ370,referentes!AI:AI,0),1))","v":""},null,{"$f":"IF(D370=\"\",\"\",INDEX(referentes!A:B,MATCH(D370,referentes!B:B,0),1))","v":""},{"$f":"IF(AT370=\"\",\"\",INDEX(referentes!Y:Z,MATCH(AT370,referentes!Z:Z,0),1))","v":""},{"$f":"IF(AU370=\"\",\"\",INDEX(referentes!AB:AC,MATCH(AU370,referentes!AC:AC,0),1))","v":""}]
[null,{"$f":"IF(BT371=\"\",\"\",IF(COUNTIF($BT371:BT371, BT371)>1, \"\", BT371))","v":""},null,null,null,null,null,null,null,null,null,null,{"$f":"IF(L371=\"\",\"\",INDEX(referentes!AK:AL,MATCH(L371,referentes!AL:AL,0),1))","v":""},"",null,370,{"$f":"IF(K371=\"\",\"\",INDEX('Otras referencias'!F:I,MATCH(K371,'Otras referencias'!I:I,0),1))","v":""},"",null,null,null,null,null,null,null,null,null,null,null,null,null,null,null,null,null,null,null,null,null,null,null,null,null,null,null,null,null,null,null,null,null,null,0,0,0,0,0,0,0,0,null,null,null,null,null,0,null,null,null,null,null,{"$f":"IF(R371<>\"\",CONCATENATE($A$2,DIGITADOR!$M$1,ROW()-2),\"\")","v":""},"",{"$f":"IF(E371=\"\",\"\",INDEX(referentes!D:E,MATCH(E371,referentes!E:E,0),1))","v":""},{"$f":"IF(F371=\"\",\"\",INDEX(referentes!J:K,MATCH(F371,referentes!K:K,0),1))","v":""},{"$f":"IF(AI371=\"\",\"\",INDEX(referentes!M:N,MATCH(AI371,referentes!N:N,0),1))","v":""},{"$f":"IF(I371=\"\",\"\",INDEX(referentes!P:Q,MATCH(I371,referentes!Q:Q,0),1))","v":""},{"$f":"IF(J371=\"\",\"\",INDEX(referentes!S:T,MATCH(J371,referentes!T:T,0),1))","v":""},{"$f":"IF(AB371=\"\",\"\",INDEX(referentes!V:W,MATCH(AB371,referentes!W:W,0),1))","v":""},{"$f":"IF(Y371=\"\",\"\",INDEX(referentes!AZ:BA,MATCH(Y371,referentes!BA:BA,0),1))","v":""},"","","","",{"$f":"IF(BP371=\"\",\"\",INDEX(referentes!AE:AF,MATCH(BP371,referentes!AF:AF,0),1))","v":""},{"$f":"IF(BQ371=\"\",\"\",INDEX(referentes!AH:AI,MATCH(BQ371,referentes!AI:AI,0),1))","v":""},null,{"$f":"IF(D371=\"\",\"\",INDEX(referentes!A:B,MATCH(D371,referentes!B:B,0),1))","v":""},{"$f":"IF(AT371=\"\",\"\",INDEX(referentes!Y:Z,MATCH(AT371,referentes!Z:Z,0),1))","v":""},{"$f":"IF(AU371=\"\",\"\",INDEX(referentes!AB:AC,MATCH(AU371,referentes!AC:AC,0),1))","v":""}]
[null,{"$f":"IF(BT372=\"\",\"\",IF(COUNTIF($BT372:BT372, BT372)>1, \"\", BT372))","v":""},null,null,null,null,null,null,null,null,null,null,{"$f":"IF(L372=\"\",\"\",INDEX(referentes!AK:AL,MATCH(L372,referentes!AL:AL,0),1))","v":""},"",null,371,{"$f":"IF(K372=\"\",\"\",INDEX('Otras referencias'!F:I,MATCH(K372,'Otras referencias'!I:I,0),1))","v":""},"",null,null,null,null,null,null,null,null,null,null,null,null,null,null,null,null,null,null,null,null,null,null,null,null,null,null,null,null,null,null,null,null,null,null,0,0,0,0,0,0,0,0,null,null,null,null,null,0,null,null,null,null,null,{"$f":"IF(R372<>\"\",CONCATENATE($A$2,DIGITADOR!$M$1,ROW()-2),\"\")","v":""},"",{"$f":"IF(E372=\"\",\"\",INDEX(referentes!D:E,MATCH(E372,referentes!E:E,0),1))","v":""},{"$f":"IF(F372=\"\",\"\",INDEX(referentes!J:K,MATCH(F372,referentes!K:K,0),1))","v":""},{"$f":"IF(AI372=\"\",\"\",INDEX(referentes!M:N,MATCH(AI372,referentes!N:N,0),1))","v":""},{"$f":"IF(I372=\"\",\"\",INDEX(referentes!P:Q,MATCH(I372,referentes!Q:Q,0),1))","v":""},{"$f":"IF(J372=\"\",\"\",INDEX(referentes!S:T,MATCH(J372,referentes!T:T,0),1))","v":""},{"$f":"IF(AB372=\"\",\"\",INDEX(referentes!V:W,MATCH(AB372,referentes!W:W,0),1))","v":""},{"$f":"IF(Y372=\"\",\"\",INDEX(referentes!AZ:BA,MATCH(Y372,referentes!BA:BA,0),1))","v":""},"","","","",{"$f":"IF(BP372=\"\",\"\",INDEX(referentes!AE:AF,MATCH(BP372,referentes!AF:AF,0),1))","v":""},{"$f":"IF(BQ372=\"\",\"\",INDEX(referentes!AH:AI,MATCH(BQ372,referentes!AI:AI,0),1))","v":""},null,{"$f":"IF(D372=\"\",\"\",INDEX(referentes!A:B,MATCH(D372,referentes!B:B,0),1))","v":""},{"$f":"IF(AT372=\"\",\"\",INDEX(referentes!Y:Z,MATCH(AT372,referentes!Z:Z,0),1))","v":""},{"$f":"IF(AU372=\"\",\"\",INDEX(referentes!AB:AC,MATCH(AU372,referentes!AC:AC,0),1))","v":""}]
[null,{"$f":"IF(BT373=\"\",\"\",IF(COUNTIF($BT373:BT373, BT373)>1, \"\", BT373))","v":""},null,null,null,null,null,null,null,null,null,null,{"$f":"IF(L373=\"\",\"\",INDEX(referentes!AK:AL,MATCH(L373,referentes!AL:AL,0),1))","v":""},"",null,372,{"$f":"IF(K373=\"\",\"\",INDEX('Otras referencias'!F:I,MATCH(K373,'Otras referencias'!I:I,0),1))","v":""},"",null,null,null,null,null,null,null,null,null,null,null,null,null,null,null,null,null,null,null,null,null,null,null,null,null,null,null,null,null,null,null,null,null,null,0,0,0,0,0,0,0,0,null,null,null,null,null,0,null,null,null,null,null,{"$f":"IF(R373<>\"\",CONCATENATE($A$2,DIGITADOR!$M$1,ROW()-2),\"\")","v":""},"",{"$f":"IF(E373=\"\",\"\",INDEX(referentes!D:E,MATCH(E373,referentes!E:E,0),1))","v":""},{"$f":"IF(F373=\"\",\"\",INDEX(referentes!J:K,MATCH(F373,referentes!K:K,0),1))","v":""},{"$f":"IF(AI373=\"\",\"\",INDEX(referentes!M:N,MATCH(AI373,referentes!N:N,0),1))","v":""},{"$f":"IF(I373=\"\",\"\",INDEX(referentes!P:Q,MATCH(I373,referentes!Q:Q,0),1))","v":""},{"$f":"IF(J373=\"\",\"\",INDEX(referentes!S:T,MATCH(J373,referentes!T:T,0),1))","v":""},{"$f":"IF(AB373=\"\",\"\",INDEX(referentes!V:W,MATCH(AB373,referentes!W:W,0),1))","v":""},{"$f":"IF(Y373=\"\",\"\",INDEX(referentes!AZ:BA,MATCH(Y373,referentes!BA:BA,0),1))","v":""},"","","","",{"$f":"IF(BP373=\"\",\"\",INDEX(referentes!AE:AF,MATCH(BP373,referentes!AF:AF,0),1))","v":""},{"$f":"IF(BQ373=\"\",\"\",INDEX(referentes!AH:AI,MATCH(BQ373,referentes!AI:AI,0),1))","v":""},null,{"$f":"IF(D373=\"\",\"\",INDEX(referentes!A:B,MATCH(D373,referentes!B:B,0),1))","v":""},{"$f":"IF(AT373=\"\",\"\",INDEX(referentes!Y:Z,MATCH(AT373,referentes!Z:Z,0),1))","v":""},{"$f":"IF(AU373=\"\",\"\",INDEX(referentes!AB:AC,MATCH(AU373,referentes!AC:AC,0),1))","v":""}]
[null,{"$f":"IF(BT374=\"\",\"\",IF(COUNTIF($BT374:BT374, BT374)>1, \"\", BT374))","v":""},null,null,null,null,null,null,null,null,null,null,{"$f":"IF(L374=\"\",\"\",INDEX(referentes!AK:AL,MATCH(L374,referentes!AL:AL,0),1))","v":""},"",null,373,{"$f":"IF(K374=\"\",\"\",INDEX('Otras referencias'!F:I,MATCH(K374,'Otras referencias'!I:I,0),1))","v":""},"",null,null,null,null,null,null,null,null,null,null,null,null,null,null,null,null,null,null,null,null,null,null,null,null,null,null,null,null,null,null,null,null,null,null,0,0,0,0,0,0,0,0,null,null,null,null,null,0,null,null,null,null,null,{"$f":"IF(R374<>\"\",CONCATENATE($A$2,DIGITADOR!$M$1,ROW()-2),\"\")","v":""},"",{"$f":"IF(E374=\"\",\"\",INDEX(referentes!D:E,MATCH(E374,referentes!E:E,0),1))","v":""},{"$f":"IF(F374=\"\",\"\",INDEX(referentes!J:K,MATCH(F374,referentes!K:K,0),1))","v":""},{"$f":"IF(AI374=\"\",\"\",INDEX(referentes!M:N,MATCH(AI374,referentes!N:N,0),1))","v":""},{"$f":"IF(I374=\"\",\"\",INDEX(referentes!P:Q,MATCH(I374,referentes!Q:Q,0),1))","v":""},{"$f":"IF(J374=\"\",\"\",INDEX(referentes!S:T,MATCH(J374,referentes!T:T,0),1))","v":""},{"$f":"IF(AB374=\"\",\"\",INDEX(referentes!V:W,MATCH(AB374,referentes!W:W,0),1))","v":""},{"$f":"IF(Y374=\"\",\"\",INDEX(referentes!AZ:BA,MATCH(Y374,referentes!BA:BA,0),1))","v":""},"","","","",{"$f":"IF(BP374=\"\",\"\",INDEX(referentes!AE:AF,MATCH(BP374,referentes!AF:AF,0),1))","v":""},{"$f":"IF(BQ374=\"\",\"\",INDEX(referentes!AH:AI,MATCH(BQ374,referentes!AI:AI,0),1))","v":""},null,{"$f":"IF(D374=\"\",\"\",INDEX(referentes!A:B,MATCH(D374,referentes!B:B,0),1))","v":""},{"$f":"IF(AT374=\"\",\"\",INDEX(referentes!Y:Z,MATCH(AT374,referentes!Z:Z,0),1))","v":""},{"$f":"IF(AU374=\"\",\"\",INDEX(referentes!AB:AC,MATCH(AU374,referentes!AC:AC,0),1))","v":""}]
[null,{"$f":"IF(BT375=\"\",\"\",IF(COUNTIF($BT375:BT375, BT375)>1, \"\", BT375))","v":""},null,null,null,null,null,null,null,null,null,null,{"$f":"IF(L375=\"\",\"\",INDEX(referentes!AK:AL,MATCH(L375,referentes!AL:AL,0),1))","v":""},"",null,374,{"$f":"IF(K375=\"\",\"\",INDEX('Otras referencias'!F:I,MATCH(K375,'Otras referencias'!I:I,0),1))","v":""},"",null,null,null,null,null,null,null,null,null,null,null,null,null,null,null,null,null,null,null,null,null,null,null,null,null,null,null,null,null,null,null,null,null,null,0,0,0,0,0,0,0,0,null,null,null,null,null,0,null,null,null,null,null,{"$f":"IF(R375<>\"\",CONCATENATE($A$2,DIGITADOR!$M$1,ROW()-2),\"\")","v":""},"",{"$f":"IF(E375=\"\",\"\",INDEX(referentes!D:E,MATCH(E375,referentes!E:E,0),1))","v":""},{"$f":"IF(F375=\"\",\"\",INDEX(referentes!J:K,MATCH(F375,referentes!K:K,0),1))","v":""},{"$f":"IF(AI375=\"\",\"\",INDEX(referentes!M:N,MATCH(AI375,referentes!N:N,0),1))","v":""},{"$f":"IF(I375=\"\",\"\",INDEX(referentes!P:Q,MATCH(I375,referentes!Q:Q,0),1))","v":""},{"$f":"IF(J375=\"\",\"\",INDEX(referentes!S:T,MATCH(J375,referentes!T:T,0),1))","v":""},{"$f":"IF(AB375=\"\",\"\",INDEX(referentes!V:W,MATCH(AB375,referentes!W:W,0),1))","v":""},{"$f":"IF(Y375=\"\",\"\",INDEX(referentes!AZ:BA,MATCH(Y375,referentes!BA:BA,0),1))","v":""},"","","","",{"$f":"IF(BP375=\"\",\"\",INDEX(referentes!AE:AF,MATCH(BP375,referentes!AF:AF,0),1))","v":""},{"$f":"IF(BQ375=\"\",\"\",INDEX(referentes!AH:AI,MATCH(BQ375,referentes!AI:AI,0),1))","v":""},null,{"$f":"IF(D375=\"\",\"\",INDEX(referentes!A:B,MATCH(D375,referentes!B:B,0),1))","v":""},{"$f":"IF(AT375=\"\",\"\",INDEX(referentes!Y:Z,MATCH(AT375,referentes!Z:Z,0),1))","v":""},{"$f":"IF(AU375=\"\",\"\",INDEX(referentes!AB:AC,MATCH(AU375,referentes!AC:AC,0),1))","v":""}]
[null,{"$f":"IF(BT376=\"\",\"\",IF(COUNTIF($BT376:BT376, BT376)>1, \"\", BT376))","v":""},null,null,null,null,null,null,null,null,null,null,{"$f":"IF(L376=\"\",\"\",INDEX(referentes!AK:AL,MATCH(L376,referentes!AL:AL,0),1))","v":""},"",null,375,{"$f":"IF(K376=\"\",\"\",INDEX('Otras referencias'!F:I,MATCH(K376,'Otras referencias'!I:I,0),1))","v":""},"",null,null,null,null,null,null,null,null,null,null,null,null,null,null,null,null,null,null,null,null,null,null,null,null,null,null,null,null,null,null,null,null,null,null,0,0,0,0,0,0,0,0,null,null,null,null,null,0,null,null,null,null,null,{"$f":"IF(R376<>\"\",CONCATENATE($A$2,DIGITADOR!$M$1,ROW()-2),\"\")","v":""},"",{"$f":"IF(E376=\"\",\"\",INDEX(referentes!D:E,MATCH(E376,referentes!E:E,0),1))","v":""},{"$f":"IF(F376=\"\",\"\",INDEX(referentes!J:K,MATCH(F376,referentes!K:K,0),1))","v":""},{"$f":"IF(AI376=\"\",\"\",INDEX(referentes!M:N,MATCH(AI376,referentes!N:N,0),1))","v":""},{"$f":"IF(I376=\"\",\"\",INDEX(referentes!P:Q,MATCH(I376,referentes!Q:Q,0),1))","v":""},{"$f":"IF(J376=\"\",\"\",INDEX(referentes!S:T,MATCH(J376,referentes!T:T,0),1))","v":""},{"$f":"IF(AB376=\"\",\"\",INDEX(referentes!V:W,MATCH(AB376,referentes!W:W,0),1))","v":""},{"$f":"IF(Y376=\"\",\"\",INDEX(referentes!AZ:BA,MATCH(Y376,referentes!BA:BA,0),1))","v":""},"","","","",{"$f":"IF(BP376=\"\",\"\",INDEX(referentes!AE:AF,MATCH(BP376,referentes!AF:AF,0),1))","v":""},{"$f":"IF(BQ376=\"\",\"\",INDEX(referentes!AH:AI,MATCH(BQ376,referentes!AI:AI,0),1))","v":""},null,{"$f":"IF(D376=\"\",\"\",INDEX(referentes!A:B,MATCH(D376,referentes!B:B,0),1))","v":""},{"$f":"IF(AT376=\"\",\"\",INDEX(referentes!Y:Z,MATCH(AT376,referentes!Z:Z,0),1))","v":""},{"$f":"IF(AU376=\"\",\"\",INDEX(referentes!AB:AC,MATCH(AU376,referentes!AC:AC,0),1))","v":""}]
[null,{"$f":"IF(BT377=\"\",\"\",IF(COUNTIF($BT377:BT377, BT377)>1, \"\", BT377))","v":""},null,null,null,null,null,null,null,null,null,null,{"$f":"IF(L377=\"\",\"\",INDEX(referentes!AK:AL,MATCH(L377,referentes!AL:AL,0),1))","v":""},"",null,376,{"$f":"IF(K377=\"\",\"\",INDEX('Otras referencias'!F:I,MATCH(K377,'Otras referencias'!I:I,0),1))","v":""},"",null,null,null,null,null,null,null,null,null,null,null,null,null,null,null,null,null,null,null,null,null,null,null,null,null,null,null,null,null,null,null,null,null,null,0,0,0,0,0,0,0,0,null,null,null,null,null,0,null,null,null,null,null,{"$f":"IF(R377<>\"\",CONCATENATE($A$2,DIGITADOR!$M$1,ROW()-2),\"\")","v":""},"",{"$f":"IF(E377=\"\",\"\",INDEX(referentes!D:E,MATCH(E377,referentes!E:E,0),1))","v":""},{"$f":"IF(F377=\"\",\"\",INDEX(referentes!J:K,MATCH(F377,referentes!K:K,0),1))","v":""},{"$f":"IF(AI377=\"\",\"\",INDEX(referentes!M:N,MATCH(AI377,referentes!N:N,0),1))","v":""},{"$f":"IF(I377=\"\",\"\",INDEX(referentes!P:Q,MATCH(I377,referentes!Q:Q,0),1))","v":""},{"$f":"IF(J377=\"\",\"\",INDEX(referentes!S:T,MATCH(J377,referentes!T:T,0),1))","v":""},{"$f":"IF(AB377=\"\",\"\",INDEX(referentes!V:W,MATCH(AB377,referentes!W:W,0),1))","v":""},{"$f":"IF(Y377=\"\",\"\",INDEX(referentes!AZ:BA,MATCH(Y377,referentes!BA:BA,0),1))","v":""},"","","","",{"$f":"IF(BP377=\"\",\"\",INDEX(referentes!AE:AF,MATCH(BP377,referentes!AF:AF,0),1))","v":""},{"$f":"IF(BQ377=\"\",\"\",INDEX(referentes!AH:AI,MATCH(BQ377,referentes!AI:AI,0),1))","v":""},null,{"$f":"IF(D377=\"\",\"\",INDEX(referentes!A:B,MATCH(D377,referentes!B:B,0),1))","v":""},{"$f":"IF(AT377=\"\",\"\",INDEX(referentes!Y:Z,MATCH(AT377,referentes!Z:Z,0),1))","v":""},{"$f":"IF(AU377=\"\",\"\",INDEX(referentes!AB:AC,MATCH(AU377,referentes!AC:AC,0),1))","v":""}]
[null,{"$f":"IF(BT378=\"\",\"\",IF(COUNTIF($BT378:BT378, BT378)>1, \"\", BT378))","v":""},null,null,null,null,null,null,null,null,null,null,{"$f":"IF(L378=\"\",\"\",INDEX(referentes!AK:AL,MATCH(L378,referentes!AL:AL,0),1))","v":""},"",null,377,{"$f":"IF(K378=\"\",\"\",INDEX('Otras referencias'!F:I,MATCH(K378,'Otras referencias'!I:I,0),1))","v":""},"",null,null,null,null,null,null,null,null,null,null,null,null,null,null,null,null,null,null,null,null,null,null,null,null,null,null,null,null,null,null,null,null,null,null,0,0,0,0,0,0,0,0,null,null,null,null,null,0,null,null,null,null,null,{"$f":"IF(R378<>\"\",CONCATENATE($A$2,DIGITADOR!$M$1,ROW()-2),\"\")","v":""},"",{"$f":"IF(E378=\"\",\"\",INDEX(referentes!D:E,MATCH(E378,referentes!E:E,0),1))","v":""},{"$f":"IF(F378=\"\",\"\",INDEX(referentes!J:K,MATCH(F378,referentes!K:K,0),1))","v":""},{"$f":"IF(AI378=\"\",\"\",INDEX(referentes!M:N,MATCH(AI378,referentes!N:N,0),1))","v":""},{"$f":"IF(I378=\"\",\"\",INDEX(referentes!P:Q,MATCH(I378,referentes!Q:Q,0),1))","v":""},{"$f":"IF(J378=\"\",\"\",INDEX(referentes!S:T,MATCH(J378,referentes!T:T,0),1))","v":""},{"$f":"IF(AB378=\"\",\"\",INDEX(referentes!V:W,MATCH(AB378,referentes!W:W,0),1))","v":""},{"$f":"IF(Y378=\"\",\"\",INDEX(referentes!AZ:BA,MATCH(Y378,referentes!BA:BA,0),1))","v":""},"","","","",{"$f":"IF(BP378=\"\",\"\",INDEX(referentes!AE:AF,MATCH(BP378,referentes!AF:AF,0),1))","v":""},{"$f":"IF(BQ378=\"\",\"\",INDEX(referentes!AH:AI,MATCH(BQ378,referentes!AI:AI,0),1))","v":""},null,{"$f":"IF(D378=\"\",\"\",INDEX(referentes!A:B,MATCH(D378,referentes!B:B,0),1))","v":""},{"$f":"IF(AT378=\"\",\"\",INDEX(referentes!Y:Z,MATCH(AT378,referentes!Z:Z,0),1))","v":""},{"$f":"IF(AU378=\"\",\"\",INDEX(referentes!AB:AC,MATCH(AU378,referentes!AC:AC,0),1))","v":""}]
[null,{"$f":"IF(BT379=\"\",\"\",IF(COUNTIF($BT379:BT379, BT379)>1, \"\", BT379))","v":""},null,null,null,null,null,null,null,null,null,null,{"$f":"IF(L379=\"\",\"\",INDEX(referentes!AK:AL,MATCH(L379,referentes!AL:AL,0),1))","v":""},"",null,378,{"$f":"IF(K379=\"\",\"\",INDEX('Otras referencias'!F:I,MATCH(K379,'Otras referencias'!I:I,0),1))","v":""},"",null,null,null,null,null,null,null,null,null,null,null,null,null,null,null,null,null,null,null,null,null,null,null,null,null,null,null,null,null,null,null,null,null,null,0,0,0,0,0,0,0,0,null,null,null,null,null,0,null,null,null,null,null,{"$f":"IF(R379<>\"\",CONCATENATE($A$2,DIGITADOR!$M$1,ROW()-2),\"\")","v":""},"",{"$f":"IF(E379=\"\",\"\",INDEX(referentes!D:E,MATCH(E379,referentes!E:E,0),1))","v":""},{"$f":"IF(F379=\"\",\"\",INDEX(referentes!J:K,MATCH(F379,referentes!K:K,0),1))","v":""},{"$f":"IF(AI379=\"\",\"\",INDEX(referentes!M:N,MATCH(AI379,referentes!N:N,0),1))","v":""},{"$f":"IF(I379=\"\",\"\",INDEX(referentes!P:Q,MATCH(I379,referentes!Q:Q,0),1))","v":""},{"$f":"IF(J379=\"\",\"\",INDEX(referentes!S:T,MATCH(J379,referentes!T:T,0),1))","v":""},{"$f":"IF(AB379=\"\",\"\",INDEX(referentes!V:W,MATCH(AB379,referentes!W:W,0),1))","v":""},{"$f":"IF(Y379=\"\",\"\",INDEX(referentes!AZ:BA,MATCH(Y379,referentes!BA:BA,0),1))","v":""},"","","","",{"$f":"IF(BP379=\"\",\"\",INDEX(referentes!AE:AF,MATCH(BP379,referentes!AF:AF,0),1))","v":""},{"$f":"IF(BQ379=\"\",\"\",INDEX(referentes!AH:AI,MATCH(BQ379,referentes!AI:AI,0),1))","v":""},null,{"$f":"IF(D379=\"\",\"\",INDEX(referentes!A:B,MATCH(D379,referentes!B:B,0),1))","v":""},{"$f":"IF(AT379=\"\",\"\",INDEX(referentes!Y:Z,MATCH(AT379,referentes!Z:Z,0),1))","v":""},{"$f":"IF(AU379=\"\",\"\",INDEX(referentes!AB:AC,MATCH(AU379,referentes!AC:AC,0),1))","v":""}]
[null,{"$f":"IF(BT380=\"\",\"\",IF(COUNTIF($BT380:BT380, BT380)>1, \"\", BT380))","v":""},null,null,null,null,null,null,null,null,null,null,{"$f":"IF(L380=\"\",\"\",INDEX(referentes!AK:AL,MATCH(L380,referentes!AL:AL,0),1))","v":""},"",null,379,{"$f":"IF(K380=\"\",\"\",INDEX('Otras referencias'!F:I,MATCH(K380,'Otras referencias'!I:I,0),1))","v":""},"",null,null,null,null,null,null,null,null,null,null,null,null,null,null,null,null,null,null,null,null,null,null,null,null,null,null,null,null,null,null,null,null,null,null,0,0,0,0,0,0,0,0,null,null,null,null,null,0,null,null,null,null,null,{"$f":"IF(R380<>\"\",CONCATENATE($A$2,DIGITADOR!$M$1,ROW()-2),\"\")","v":""},"",{"$f":"IF(E380=\"\",\"\",INDEX(referentes!D:E,MATCH(E380,referentes!E:E,0),1))","v":""},{"$f":"IF(F380=\"\",\"\",INDEX(referentes!J:K,MATCH(F380,referentes!K:K,0),1))","v":""},{"$f":"IF(AI380=\"\",\"\",INDEX(referentes!M:N,MATCH(AI380,referentes!N:N,0),1))","v":""},{"$f":"IF(I380=\"\",\"\",INDEX(referentes!P:Q,MATCH(I380,referentes!Q:Q,0),1))","v":""},{"$f":"IF(J380=\"\",\"\",INDEX(referentes!S:T,MATCH(J380,referentes!T:T,0),1))","v":""},{"$f":"IF(AB380=\"\",\"\",INDEX(referentes!V:W,MATCH(AB380,referentes!W:W,0),1))","v":""},{"$f":"IF(Y380=\"\",\"\",INDEX(referentes!AZ:BA,MATCH(Y380,referentes!BA:BA,0),1))","v":""},"","","","",{"$f":"IF(BP380=\"\",\"\",INDEX(referentes!AE:AF,MATCH(BP380,referentes!AF:AF,0),1))","v":""},{"$f":"IF(BQ380=\"\",\"\",INDEX(referentes!AH:AI,MATCH(BQ380,referentes!AI:AI,0),1))","v":""},null,{"$f":"IF(D380=\"\",\"\",INDEX(referentes!A:B,MATCH(D380,referentes!B:B,0),1))","v":""},{"$f":"IF(AT380=\"\",\"\",INDEX(referentes!Y:Z,MATCH(AT380,referentes!Z:Z,0),1))","v":""},{"$f":"IF(AU380=\"\",\"\",INDEX(referentes!AB:AC,MATCH(AU380,referentes!AC:AC,0),1))","v":""}]
[null,{"$f":"IF(BT381=\"\",\"\",IF(COUNTIF($BT381:BT381, BT381)>1, \"\", BT381))","v":""},null,null,null,null,null,null,null,null,null,null,{"$f":"IF(L381=\"\",\"\",INDEX(referentes!AK:AL,MATCH(L381,referentes!AL:AL,0),1))","v":""},"",null,380,{"$f":"IF(K381=\"\",\"\",INDEX('Otras referencias'!F:I,MATCH(K381,'Otras referencias'!I:I,0),1))","v":""},"",null,null,null,null,null,null,null,null,null,null,null,null,null,null,null,null,null,null,null,null,null,null,null,null,null,null,null,null,null,null,null,null,null,null,0,0,0,0,0,0,0,0,null,null,null,null,null,0,null,null,null,null,null,{"$f":"IF(R381<>\"\",CONCATENATE($A$2,DIGITADOR!$M$1,ROW()-2),\"\")","v":""},"",{"$f":"IF(E381=\"\",\"\",INDEX(referentes!D:E,MATCH(E381,referentes!E:E,0),1))","v":""},{"$f":"IF(F381=\"\",\"\",INDEX(referentes!J:K,MATCH(F381,referentes!K:K,0),1))","v":""},{"$f":"IF(AI381=\"\",\"\",INDEX(referentes!M:N,MATCH(AI381,referentes!N:N,0),1))","v":""},{"$f":"IF(I381=\"\",\"\",INDEX(referentes!P:Q,MATCH(I381,referentes!Q:Q,0),1))","v":""},{"$f":"IF(J381=\"\",\"\",INDEX(referentes!S:T,MATCH(J381,referentes!T:T,0),1))","v":""},{"$f":"IF(AB381=\"\",\"\",INDEX(referentes!V:W,MATCH(AB381,referentes!W:W,0),1))","v":""},{"$f":"IF(Y381=\"\",\"\",INDEX(referentes!AZ:BA,MATCH(Y381,referentes!BA:BA,0),1))","v":""},"","","","",{"$f":"IF(BP381=\"\",\"\",INDEX(referentes!AE:AF,MATCH(BP381,referentes!AF:AF,0),1))","v":""},{"$f":"IF(BQ381=\"\",\"\",INDEX(referentes!AH:AI,MATCH(BQ381,referentes!AI:AI,0),1))","v":""},null,{"$f":"IF(D381=\"\",\"\",INDEX(referentes!A:B,MATCH(D381,referentes!B:B,0),1))","v":""},{"$f":"IF(AT381=\"\",\"\",INDEX(referentes!Y:Z,MATCH(AT381,referentes!Z:Z,0),1))","v":""},{"$f":"IF(AU381=\"\",\"\",INDEX(referentes!AB:AC,MATCH(AU381,referentes!AC:AC,0),1))","v":""}]
[null,{"$f":"IF(BT382=\"\",\"\",IF(COUNTIF($BT382:BT382, BT382)>1, \"\", BT382))","v":""},null,null,null,null,null,null,null,null,null,null,{"$f":"IF(L382=\"\",\"\",INDEX(referentes!AK:AL,MATCH(L382,referentes!AL:AL,0),1))","v":""},"",null,381,{"$f":"IF(K382=\"\",\"\",INDEX('Otras referencias'!F:I,MATCH(K382,'Otras referencias'!I:I,0),1))","v":""},"",null,null,null,null,null,null,null,null,null,null,null,null,null,null,null,null,null,null,null,null,null,null,null,null,null,null,null,null,null,null,null,null,null,null,0,0,0,0,0,0,0,0,null,null,null,null,null,0,null,null,null,null,null,{"$f":"IF(R382<>\"\",CONCATENATE($A$2,DIGITADOR!$M$1,ROW()-2),\"\")","v":""},"",{"$f":"IF(E382=\"\",\"\",INDEX(referentes!D:E,MATCH(E382,referentes!E:E,0),1))","v":""},{"$f":"IF(F382=\"\",\"\",INDEX(referentes!J:K,MATCH(F382,referentes!K:K,0),1))","v":""},{"$f":"IF(AI382=\"\",\"\",INDEX(referentes!M:N,MATCH(AI382,referentes!N:N,0),1))","v":""},{"$f":"IF(I382=\"\",\"\",INDEX(referentes!P:Q,MATCH(I382,referentes!Q:Q,0),1))","v":""},{"$f":"IF(J382=\"\",\"\",INDEX(referentes!S:T,MATCH(J382,referentes!T:T,0),1))","v":""},{"$f":"IF(AB382=\"\",\"\",INDEX(referentes!V:W,MATCH(AB382,referentes!W:W,0),1))","v":""},{"$f":"IF(Y382=\"\",\"\",INDEX(referentes!AZ:BA,MATCH(Y382,referentes!BA:BA,0),1))","v":""},"","","","",{"$f":"IF(BP382=\"\",\"\",INDEX(referentes!AE:AF,MATCH(BP382,referentes!AF:AF,0),1))","v":""},{"$f":"IF(BQ382=\"\",\"\",INDEX(referentes!AH:AI,MATCH(BQ382,referentes!AI:AI,0),1))","v":""},null,{"$f":"IF(D382=\"\",\"\",INDEX(referentes!A:B,MATCH(D382,referentes!B:B,0),1))","v":""},{"$f":"IF(AT382=\"\",\"\",INDEX(referentes!Y:Z,MATCH(AT382,referentes!Z:Z,0),1))","v":""},{"$f":"IF(AU382=\"\",\"\",INDEX(referentes!AB:AC,MATCH(AU382,referentes!AC:AC,0),1))","v":""}]
[null,{"$f":"IF(BT383=\"\",\"\",IF(COUNTIF($BT383:BT383, BT383)>1, \"\", BT383))","v":""},null,null,null,null,null,null,null,null,null,null,{"$f":"IF(L383=\"\",\"\",INDEX(referentes!AK:AL,MATCH(L383,referentes!AL:AL,0),1))","v":""},"",null,382,{"$f":"IF(K383=\"\",\"\",INDEX('Otras referencias'!F:I,MATCH(K383,'Otras referencias'!I:I,0),1))","v":""},"",null,null,null,null,null,null,null,null,null,null,null,null,null,null,null,null,null,null,null,null,null,null,null,null,null,null,null,null,null,null,null,null,null,null,0,0,0,0,0,0,0,0,null,null,null,null,null,0,null,null,null,null,null,{"$f":"IF(R383<>\"\",CONCATENATE($A$2,DIGITADOR!$M$1,ROW()-2),\"\")","v":""},"",{"$f":"IF(E383=\"\",\"\",INDEX(referentes!D:E,MATCH(E383,referentes!E:E,0),1))","v":""},{"$f":"IF(F383=\"\",\"\",INDEX(referentes!J:K,MATCH(F383,referentes!K:K,0),1))","v":""},{"$f":"IF(AI383=\"\",\"\",INDEX(referentes!M:N,MATCH(AI383,referentes!N:N,0),1))","v":""},{"$f":"IF(I383=\"\",\"\",INDEX(referentes!P:Q,MATCH(I383,referentes!Q:Q,0),1))","v":""},{"$f":"IF(J383=\"\",\"\",INDEX(referentes!S:T,MATCH(J383,referentes!T:T,0),1))","v":""},{"$f":"IF(AB383=\"\",\"\",INDEX(referentes!V:W,MATCH(AB383,referentes!W:W,0),1))","v":""},{"$f":"IF(Y383=\"\",\"\",INDEX(referentes!AZ:BA,MATCH(Y383,referentes!BA:BA,0),1))","v":""},"","","","",{"$f":"IF(BP383=\"\",\"\",INDEX(referentes!AE:AF,MATCH(BP383,referentes!AF:AF,0),1))","v":""},{"$f":"IF(BQ383=\"\",\"\",INDEX(referentes!AH:AI,MATCH(BQ383,referentes!AI:AI,0),1))","v":""},null,{"$f":"IF(D383=\"\",\"\",INDEX(referentes!A:B,MATCH(D383,referentes!B:B,0),1))","v":""},{"$f":"IF(AT383=\"\",\"\",INDEX(referentes!Y:Z,MATCH(AT383,referentes!Z:Z,0),1))","v":""},{"$f":"IF(AU383=\"\",\"\",INDEX(referentes!AB:AC,MATCH(AU383,referentes!AC:AC,0),1))","v":""}]
[null,{"$f":"IF(BT384=\"\",\"\",IF(COUNTIF($BT384:BT384, BT384)>1, \"\", BT384))","v":""},null,null,null,null,null,null,null,null,null,null,{"$f":"IF(L384=\"\",\"\",INDEX(referentes!AK:AL,MATCH(L384,referentes!AL:AL,0),1))","v":""},"",null,383,{"$f":"IF(K384=\"\",\"\",INDEX('Otras referencias'!F:I,MATCH(K384,'Otras referencias'!I:I,0),1))","v":""},"",null,null,null,null,null,null,null,null,null,null,null,null,null,null,null,null,null,null,null,null,null,null,null,null,null,null,null,null,null,null,null,null,null,null,0,0,0,0,0,0,0,0,null,null,null,null,null,0,null,null,null,null,null,{"$f":"IF(R384<>\"\",CONCATENATE($A$2,DIGITADOR!$M$1,ROW()-2),\"\")","v":""},"",{"$f":"IF(E384=\"\",\"\",INDEX(referentes!D:E,MATCH(E384,referentes!E:E,0),1))","v":""},{"$f":"IF(F384=\"\",\"\",INDEX(referentes!J:K,MATCH(F384,referentes!K:K,0),1))","v":""},{"$f":"IF(AI384=\"\",\"\",INDEX(referentes!M:N,MATCH(AI384,referentes!N:N,0),1))","v":""},{"$f":"IF(I384=\"\",\"\",INDEX(referentes!P:Q,MATCH(I384,referentes!Q:Q,0),1))","v":""},{"$f":"IF(J384=\"\",\"\",INDEX(referentes!S:T,MATCH(J384,referentes!T:T,0),1))","v":""},{"$f":"IF(AB384=\"\",\"\",INDEX(referentes!V:W,MATCH(AB384,referentes!W:W,0),1))","v":""},{"$f":"IF(Y384=\"\",\"\",INDEX(referentes!AZ:BA,MATCH(Y384,referentes!BA:BA,0),1))","v":""},"","","","",{"$f":"IF(BP384=\"\",\"\",INDEX(referentes!AE:AF,MATCH(BP384,referentes!AF:AF,0),1))","v":""},{"$f":"IF(BQ384=\"\",\"\",INDEX(referentes!AH:AI,MATCH(BQ384,referentes!AI:AI,0),1))","v":""},null,{"$f":"IF(D384=\"\",\"\",INDEX(referentes!A:B,MATCH(D384,referentes!B:B,0),1))","v":""},{"$f":"IF(AT384=\"\",\"\",INDEX(referentes!Y:Z,MATCH(AT384,referentes!Z:Z,0),1))","v":""},{"$f":"IF(AU384=\"\",\"\",INDEX(referentes!AB:AC,MATCH(AU384,referentes!AC:AC,0),1))","v":""}]
[null,{"$f":"IF(BT385=\"\",\"\",IF(COUNTIF($BT385:BT385, BT385)>1, \"\", BT385))","v":""},null,null,null,null,null,null,null,null,null,null,{"$f":"IF(L385=\"\",\"\",INDEX(referentes!AK:AL,MATCH(L385,referentes!AL:AL,0),1))","v":""},"",null,384,{"$f":"IF(K385=\"\",\"\",INDEX('Otras referencias'!F:I,MATCH(K385,'Otras referencias'!I:I,0),1))","v":""},"",null,null,null,null,null,null,null,null,null,null,null,null,null,null,null,null,null,null,null,null,null,null,null,null,null,null,null,null,null,null,null,null,null,null,0,0,0,0,0,0,0,0,null,null,null,null,null,0,null,null,null,null,null,{"$f":"IF(R385<>\"\",CONCATENATE($A$2,DIGITADOR!$M$1,ROW()-2),\"\")","v":""},"",{"$f":"IF(E385=\"\",\"\",INDEX(referentes!D:E,MATCH(E385,referentes!E:E,0),1))","v":""},{"$f":"IF(F385=\"\",\"\",INDEX(referentes!J:K,MATCH(F385,referentes!K:K,0),1))","v":""},{"$f":"IF(AI385=\"\",\"\",INDEX(referentes!M:N,MATCH(AI385,referentes!N:N,0),1))","v":""},{"$f":"IF(I385=\"\",\"\",INDEX(referentes!P:Q,MATCH(I385,referentes!Q:Q,0),1))","v":""},{"$f":"IF(J385=\"\",\"\",INDEX(referentes!S:T,MATCH(J385,referentes!T:T,0),1))","v":""},{"$f":"IF(AB385=\"\",\"\",INDEX(referentes!V:W,MATCH(AB385,referentes!W:W,0),1))","v":""},{"$f":"IF(Y385=\"\",\"\",INDEX(referentes!AZ:BA,MATCH(Y385,referentes!BA:BA,0),1))","v":""},"","","","",{"$f":"IF(BP385=\"\",\"\",INDEX(referentes!AE:AF,MATCH(BP385,referentes!AF:AF,0),1))","v":""},{"$f":"IF(BQ385=\"\",\"\",INDEX(referentes!AH:AI,MATCH(BQ385,referentes!AI:AI,0),1))","v":""},null,{"$f":"IF(D385=\"\",\"\",INDEX(referentes!A:B,MATCH(D385,referentes!B:B,0),1))","v":""},{"$f":"IF(AT385=\"\",\"\",INDEX(referentes!Y:Z,MATCH(AT385,referentes!Z:Z,0),1))","v":""},{"$f":"IF(AU385=\"\",\"\",INDEX(referentes!AB:AC,MATCH(AU385,referentes!AC:AC,0),1))","v":""}]
[null,{"$f":"IF(BT386=\"\",\"\",IF(COUNTIF($BT386:BT386, BT386)>1, \"\", BT386))","v":""},null,null,null,null,null,null,null,null,null,null,{"$f":"IF(L386=\"\",\"\",INDEX(referentes!AK:AL,MATCH(L386,referentes!AL:AL,0),1))","v":""},"",null,385,{"$f":"IF(K386=\"\",\"\",INDEX('Otras referencias'!F:I,MATCH(K386,'Otras referencias'!I:I,0),1))","v":""},"",null,null,null,null,null,null,null,null,null,null,null,null,null,null,null,null,null,null,null,null,null,null,null,null,null,null,null,null,null,null,null,null,null,null,0,0,0,0,0,0,0,0,null,null,null,null,null,0,null,null,null,null,null,{"$f":"IF(R386<>\"\",CONCATENATE($A$2,DIGITADOR!$M$1,ROW()-2),\"\")","v":""},"",{"$f":"IF(E386=\"\",\"\",INDEX(referentes!D:E,MATCH(E386,referentes!E:E,0),1))","v":""},{"$f":"IF(F386=\"\",\"\",INDEX(referentes!J:K,MATCH(F386,referentes!K:K,0),1))","v":""},{"$f":"IF(AI386=\"\",\"\",INDEX(referentes!M:N,MATCH(AI386,referentes!N:N,0),1))","v":""},{"$f":"IF(I386=\"\",\"\",INDEX(referentes!P:Q,MATCH(I386,referentes!Q:Q,0),1))","v":""},{"$f":"IF(J386=\"\",\"\",INDEX(referentes!S:T,MATCH(J386,referentes!T:T,0),1))","v":""},{"$f":"IF(AB386=\"\",\"\",INDEX(referentes!V:W,MATCH(AB386,referentes!W:W,0),1))","v":""},{"$f":"IF(Y386=\"\",\"\",INDEX(referentes!AZ:BA,MATCH(Y386,referentes!BA:BA,0),1))","v":""},"","","","",{"$f":"IF(BP386=\"\",\"\",INDEX(referentes!AE:AF,MATCH(BP386,referentes!AF:AF,0),1))","v":""},{"$f":"IF(BQ386=\"\",\"\",INDEX(referentes!AH:AI,MATCH(BQ386,referentes!AI:AI,0),1))","v":""},null,{"$f":"IF(D386=\"\",\"\",INDEX(referentes!A:B,MATCH(D386,referentes!B:B,0),1))","v":""},{"$f":"IF(AT386=\"\",\"\",INDEX(referentes!Y:Z,MATCH(AT386,referentes!Z:Z,0),1))","v":""},{"$f":"IF(AU386=\"\",\"\",INDEX(referentes!AB:AC,MATCH(AU386,referentes!AC:AC,0),1))","v":""}]
[null,{"$f":"IF(BT387=\"\",\"\",IF(COUNTIF($BT387:BT387, BT387)>1, \"\", BT387))","v":""},null,null,null,null,null,null,null,null,null,null,{"$f":"IF(L387=\"\",\"\",INDEX(referentes!AK:AL,MATCH(L387,referentes!AL:AL,0),1))","v":""},"",null,386,{"$f":"IF(K387=\"\",\"\",INDEX('Otras referencias'!F:I,MATCH(K387,'Otras referencias'!I:I,0),1))","v":""},{"$f":"IF(U387=\"\",\"\",DATEVALUE(CONCATENATE(U387,\"/\",TEXT(V387,\"00\"),\"/\",TEXT(W387,\"00\"))))","v":""},null,null,null,null,null,null,null,null,null,null,null,null,null,null,null,null,null,null,null,null,null,null,null,null,null,null,null,null,null,null,null,null,null,null,{"$f":"IF(ISERR(FIND($BA$1,AZ387)),0,1)","v":0},{"$f":"IF(ISERR(FIND($BB$1,AZ387)),0,1)","v":0},{"$f":"IF(ISERR(FIND($BC$1,AZ387)),0,1)","v":0},{"$f":"IF(ISERR(FIND($BD$1,AZ387)),0,1)","v":0},{"$f":"IF(ISERR(FIND($BE$1,AZ387)),0,1)","v":0},{"$f":"IF(ISERR(FIND($BF$1,AZ387)),0,1)","v":0},{"$f":"IF(ISERR(FIND($BG$1,AZ387)),0,1)","v":0},{"$f":"IF(ISERR(FIND($BH$1,AZ387)),0,1)","v":0},null,null,null,null,null,{"$f":"BA387+2*BB387+4*BC387+8*BD387+16*BE387+32*BF387+64*BG387+128*BH387","v":0},null,null,null,null,null,{"$f":"IF(R387<>\"\",CONCATENATE($A$2,DIGITADOR!$M$1,ROW()-2),\"\")","v":""},{"$f":"IF(B387=\"\",\"\",CONCATENATE(B387,ROW()-1))","v":""},{"$f":"IF(E387=\"\",\"\",INDEX(referentes!D:E,MATCH(E387,referentes!E:E,0),1))","v":""},{"$f":"IF(F387=\"\",\"\",INDEX(referentes!J:K,MATCH(F387,referentes!K:K,0),1))","v":""},{"$f":"IF(AI387=\"\",\"\",INDEX(referentes!M:N,MATCH(AI387,referentes!N:N,0),1))","v":""},{"$f":"IF(I387=\"\",\"\",INDEX(referentes!P:Q,MATCH(I387,referentes!Q:Q,0),1))","v":""},{"$f":"IF(J387=\"\",\"\",INDEX(referentes!S:T,MATCH(J387,referentes!T:T,0),1))","v":""},{"$f":"IF(AB387=\"\",\"\",INDEX(referentes!V:W,MATCH(AB387,referentes!W:W,0),1))","v":""},{"$f":"IF(Y387=\"\",\"\",INDEX(referentes!AZ:BA,MATCH(Y387,referentes!BA:BA,0),1))","v":""},{"$f":"IF(Z387=\"\",IF(R387=\"\",\"\",R387),R387+Z387)","v":""},{"$f":"IF(AA387=\"\",IF(R387=\"\",\"\",R387),R387+AA387)","v":""},{"$f":"IF(OR(AC387=\"\",AD387=\"\",AE387=\"\"),\"\",AD387/60+AE387/3600+AC387)","v":""},{"$f":"IF(OR(AF387=\"\",AG387=\"\",AH387=\"\"),\"\",(ABS(AF387)+(AG387/60)+(AH387/3600))*-1)","v":""},{"$f":"IF(BP387=\"\",\"\",INDEX(referentes!AE:AF,MATCH(BP387,referentes!AF:AF,0),1))","v":""},{"$f":"IF(BQ387=\"\",\"\",INDEX(referentes!AH:AI,MATCH(BQ387,referentes!AI:AI,0),1))","v":""},null,{"$f":"IF(D387=\"\",\"\",INDEX(referentes!A:B,MATCH(D387,referentes!B:B,0),1))","v":""},{"$f":"IF(AT387=\"\",\"\",INDEX(referentes!Y:Z,MATCH(AT387,referentes!Z:Z,0),1))","v":""},{"$f":"IF(AU387=\"\",\"\",INDEX(referentes!AB:AC,MATCH(AU387,referentes!AC:AC,0),1))","v":""}]
[null,{"$f":"IF(BT388=\"\",\"\",IF(COUNTIF($BT388:BT388, BT388)>1, \"\", BT388))","v":""},null,null,null,null,null,null,null,null,null,null,{"$f":"IF(L388=\"\",\"\",INDEX(referentes!AK:AL,MATCH(L388,referentes!AL:AL,0),1))","v":""},{"$f":"IF(B388=B387,\"\",IF(R387=\"\",\"\",R387))","v":""},null,{"$f":"P387+1","v":387},{"$f":"IF(K388=\"\",\"\",INDEX('Otras referencias'!F:I,MATCH(K388,'Otras referencias'!I:I,0),1))","v":""},"",null,null,null,null,null,null,null,null,null,null,null,null,null,null,null,null,null,null,null,null,null,null,null,null,null,null,null,null,null,null,null,null,null,null,0,0,0,0,0,0,0,0,null,null,null,null,null,0,null,null,null,null,null,{"$f":"IF(R388<>\"\",CONCATENATE($A$2,DIGITADOR!$M$1,ROW()-2),\"\")","v":""},"",{"$f":"IF(E388=\"\",\"\",INDEX(referentes!D:E,MATCH(E388,referentes!E:E,0),1))","v":""},{"$f":"IF(F388=\"\",\"\",INDEX(referentes!J:K,MATCH(F388,referentes!K:K,0),1))","v":""},{"$f":"IF(AI388=\"\",\"\",INDEX(referentes!M:N,MATCH(AI388,referentes!N:N,0),1))","v":""},{"$f":"IF(I388=\"\",\"\",INDEX(referentes!P:Q,MATCH(I388,referentes!Q:Q,0),1))","v":""},{"$f":"IF(J388=\"\",\"\",INDEX(referentes!S:T,MATCH(J388,referentes!T:T,0),1))","v":""},{"$f":"IF(AB388=\"\",\"\",INDEX(referentes!V:W,MATCH(AB388,referentes!W:W,0),1))","v":""},{"$f":"IF(Y388=\"\",\"\",INDEX(referentes!AZ:BA,MATCH(Y388,referentes!BA:BA,0),1))","v":""},"","","","",{"$f":"IF(BP388=\"\",\"\",INDEX(referentes!AE:AF,MATCH(BP388,referentes!AF:AF,0),1))","v":""},{"$f":"IF(BQ388=\"\",\"\",INDEX(referentes!AH:AI,MATCH(BQ388,referentes!AI:AI,0),1))","v":""},null,{"$f":"IF(D388=\"\",\"\",INDEX(referentes!A:B,MATCH(D388,referentes!B:B,0),1))","v":""},{"$f":"IF(AT388=\"\",\"\",INDEX(referentes!Y:Z,MATCH(AT388,referentes!Z:Z,0),1))","v":""},{"$f":"IF(AU388=\"\",\"\",INDEX(referentes!AB:AC,MATCH(AU388,referentes!AC:AC,0),1))","v":""}]
[null,{"$f":"IF(BT389=\"\",\"\",IF(COUNTIF($BT389:BT389, BT389)>1, \"\", BT389))","v":""},null,null,null,null,null,null,null,null,null,null,{"$f":"IF(L389=\"\",\"\",INDEX(referentes!AK:AL,MATCH(L389,referentes!AL:AL,0),1))","v":""},"",null,388,{"$f":"IF(K389=\"\",\"\",INDEX('Otras referencias'!F:I,MATCH(K389,'Otras referencias'!I:I,0),1))","v":""},"",null,null,null,null,null,null,null,null,null,null,null,null,null,null,null,null,null,null,null,null,null,null,null,null,null,null,null,null,null,null,null,null,null,null,0,0,0,0,0,0,0,0,null,null,null,null,null,0,null,null,null,null,null,{"$f":"IF(R389<>\"\",CONCATENATE($A$2,DIGITADOR!$M$1,ROW()-2),\"\")","v":""},"",{"$f":"IF(E389=\"\",\"\",INDEX(referentes!D:E,MATCH(E389,referentes!E:E,0),1))","v":""},{"$f":"IF(F389=\"\",\"\",INDEX(referentes!J:K,MATCH(F389,referentes!K:K,0),1))","v":""},{"$f":"IF(AI389=\"\",\"\",INDEX(referentes!M:N,MATCH(AI389,referentes!N:N,0),1))","v":""},{"$f":"IF(I389=\"\",\"\",INDEX(referentes!P:Q,MATCH(I389,referentes!Q:Q,0),1))","v":""},{"$f":"IF(J389=\"\",\"\",INDEX(referentes!S:T,MATCH(J389,referentes!T:T,0),1))","v":""},{"$f":"IF(AB389=\"\",\"\",INDEX(referentes!V:W,MATCH(AB389,referentes!W:W,0),1))","v":""},{"$f":"IF(Y389=\"\",\"\",INDEX(referentes!AZ:BA,MATCH(Y389,referentes!BA:BA,0),1))","v":""},"","","","",{"$f":"IF(BP389=\"\",\"\",INDEX(referentes!AE:AF,MATCH(BP389,referentes!AF:AF,0),1))","v":""},{"$f":"IF(BQ389=\"\",\"\",INDEX(referentes!AH:AI,MATCH(BQ389,referentes!AI:AI,0),1))","v":""},null,{"$f":"IF(D389=\"\",\"\",INDEX(referentes!A:B,MATCH(D389,referentes!B:B,0),1))","v":""},{"$f":"IF(AT389=\"\",\"\",INDEX(referentes!Y:Z,MATCH(AT389,referentes!Z:Z,0),1))","v":""},{"$f":"IF(AU389=\"\",\"\",INDEX(referentes!AB:AC,MATCH(AU389,referentes!AC:AC,0),1))","v":""}]
[null,{"$f":"IF(BT390=\"\",\"\",IF(COUNTIF($BT390:BT390, BT390)>1, \"\", BT390))","v":""},null,null,null,null,null,null,null,null,null,null,{"$f":"IF(L390=\"\",\"\",INDEX(referentes!AK:AL,MATCH(L390,referentes!AL:AL,0),1))","v":""},"",null,389,{"$f":"IF(K390=\"\",\"\",INDEX('Otras referencias'!F:I,MATCH(K390,'Otras referencias'!I:I,0),1))","v":""},"",null,null,null,null,null,null,null,null,null,null,null,null,null,null,null,null,null,null,null,null,null,null,null,null,null,null,null,null,null,null,null,null,null,null,0,0,0,0,0,0,0,0,null,null,null,null,null,0,null,null,null,null,null,{"$f":"IF(R390<>\"\",CONCATENATE($A$2,DIGITADOR!$M$1,ROW()-2),\"\")","v":""},"",{"$f":"IF(E390=\"\",\"\",INDEX(referentes!D:E,MATCH(E390,referentes!E:E,0),1))","v":""},{"$f":"IF(F390=\"\",\"\",INDEX(referentes!J:K,MATCH(F390,referentes!K:K,0),1))","v":""},{"$f":"IF(AI390=\"\",\"\",INDEX(referentes!M:N,MATCH(AI390,referentes!N:N,0),1))","v":""},{"$f":"IF(I390=\"\",\"\",INDEX(referentes!P:Q,MATCH(I390,referentes!Q:Q,0),1))","v":""},{"$f":"IF(J390=\"\",\"\",INDEX(referentes!S:T,MATCH(J390,referentes!T:T,0),1))","v":""},{"$f":"IF(AB390=\"\",\"\",INDEX(referentes!V:W,MATCH(AB390,referentes!W:W,0),1))","v":""},{"$f":"IF(Y390=\"\",\"\",INDEX(referentes!AZ:BA,MATCH(Y390,referentes!BA:BA,0),1))","v":""},"","","","",{"$f":"IF(BP390=\"\",\"\",INDEX(referentes!AE:AF,MATCH(BP390,referentes!AF:AF,0),1))","v":""},{"$f":"IF(BQ390=\"\",\"\",INDEX(referentes!AH:AI,MATCH(BQ390,referentes!AI:AI,0),1))","v":""},null,{"$f":"IF(D390=\"\",\"\",INDEX(referentes!A:B,MATCH(D390,referentes!B:B,0),1))","v":""},{"$f":"IF(AT390=\"\",\"\",INDEX(referentes!Y:Z,MATCH(AT390,referentes!Z:Z,0),1))","v":""},{"$f":"IF(AU390=\"\",\"\",INDEX(referentes!AB:AC,MATCH(AU390,referentes!AC:AC,0),1))","v":""}]
[null,{"$f":"IF(BT391=\"\",\"\",IF(COUNTIF($BT391:BT391, BT391)>1, \"\", BT391))","v":""},null,null,null,null,null,null,null,null,null,null,{"$f":"IF(L391=\"\",\"\",INDEX(referentes!AK:AL,MATCH(L391,referentes!AL:AL,0),1))","v":""},"",null,390,{"$f":"IF(K391=\"\",\"\",INDEX('Otras referencias'!F:I,MATCH(K391,'Otras referencias'!I:I,0),1))","v":""},"",null,null,null,null,null,null,null,null,null,null,null,null,null,null,null,null,null,null,null,null,null,null,null,null,null,null,null,null,null,null,null,null,null,null,0,0,0,0,0,0,0,0,null,null,null,null,null,0,null,null,null,null,null,{"$f":"IF(R391<>\"\",CONCATENATE($A$2,DIGITADOR!$M$1,ROW()-2),\"\")","v":""},"",{"$f":"IF(E391=\"\",\"\",INDEX(referentes!D:E,MATCH(E391,referentes!E:E,0),1))","v":""},{"$f":"IF(F391=\"\",\"\",INDEX(referentes!J:K,MATCH(F391,referentes!K:K,0),1))","v":""},{"$f":"IF(AI391=\"\",\"\",INDEX(referentes!M:N,MATCH(AI391,referentes!N:N,0),1))","v":""},{"$f":"IF(I391=\"\",\"\",INDEX(referentes!P:Q,MATCH(I391,referentes!Q:Q,0),1))","v":""},{"$f":"IF(J391=\"\",\"\",INDEX(referentes!S:T,MATCH(J391,referentes!T:T,0),1))","v":""},{"$f":"IF(AB391=\"\",\"\",INDEX(referentes!V:W,MATCH(AB391,referentes!W:W,0),1))","v":""},{"$f":"IF(Y391=\"\",\"\",INDEX(referentes!AZ:BA,MATCH(Y391,referentes!BA:BA,0),1))","v":""},"","","","",{"$f":"IF(BP391=\"\",\"\",INDEX(referentes!AE:AF,MATCH(BP391,referentes!AF:AF,0),1))","v":""},{"$f":"IF(BQ391=\"\",\"\",INDEX(referentes!AH:AI,MATCH(BQ391,referentes!AI:AI,0),1))","v":""},null,{"$f":"IF(D391=\"\",\"\",INDEX(referentes!A:B,MATCH(D391,referentes!B:B,0),1))","v":""},{"$f":"IF(AT391=\"\",\"\",INDEX(referentes!Y:Z,MATCH(AT391,referentes!Z:Z,0),1))","v":""},{"$f":"IF(AU391=\"\",\"\",INDEX(referentes!AB:AC,MATCH(AU391,referentes!AC:AC,0),1))","v":""}]
[null,{"$f":"IF(BT392=\"\",\"\",IF(COUNTIF($BT392:BT392, BT392)>1, \"\", BT392))","v":""},null,null,null,null,null,null,null,null,null,null,{"$f":"IF(L392=\"\",\"\",INDEX(referentes!AK:AL,MATCH(L392,referentes!AL:AL,0),1))","v":""},"",null,391,{"$f":"IF(K392=\"\",\"\",INDEX('Otras referencias'!F:I,MATCH(K392,'Otras referencias'!I:I,0),1))","v":""},"",null,null,null,null,null,null,null,null,null,null,null,null,null,null,null,null,null,null,null,null,null,null,null,null,null,null,null,null,null,null,null,null,null,null,0,0,0,0,0,0,0,0,null,null,null,null,null,0,null,null,null,null,null,{"$f":"IF(R392<>\"\",CONCATENATE($A$2,DIGITADOR!$M$1,ROW()-2),\"\")","v":""},"",{"$f":"IF(E392=\"\",\"\",INDEX(referentes!D:E,MATCH(E392,referentes!E:E,0),1))","v":""},{"$f":"IF(F392=\"\",\"\",INDEX(referentes!J:K,MATCH(F392,referentes!K:K,0),1))","v":""},{"$f":"IF(AI392=\"\",\"\",INDEX(referentes!M:N,MATCH(AI392,referentes!N:N,0),1))","v":""},{"$f":"IF(I392=\"\",\"\",INDEX(referentes!P:Q,MATCH(I392,referentes!Q:Q,0),1))","v":""},{"$f":"IF(J392=\"\",\"\",INDEX(referentes!S:T,MATCH(J392,referentes!T:T,0),1))","v":""},{"$f":"IF(AB392=\"\",\"\",INDEX(referentes!V:W,MATCH(AB392,referentes!W:W,0),1))","v":""},{"$f":"IF(Y392=\"\",\"\",INDEX(referentes!AZ:BA,MATCH(Y392,referentes!BA:BA,0),1))","v":""},"","","","",{"$f":"IF(BP392=\"\",\"\",INDEX(referentes!AE:AF,MATCH(BP392,referentes!AF:AF,0),1))","v":""},{"$f":"IF(BQ392=\"\",\"\",INDEX(referentes!AH:AI,MATCH(BQ392,referentes!AI:AI,0),1))","v":""},null,{"$f":"IF(D392=\"\",\"\",INDEX(referentes!A:B,MATCH(D392,referentes!B:B,0),1))","v":""},{"$f":"IF(AT392=\"\",\"\",INDEX(referentes!Y:Z,MATCH(AT392,referentes!Z:Z,0),1))","v":""},{"$f":"IF(AU392=\"\",\"\",INDEX(referentes!AB:AC,MATCH(AU392,referentes!AC:AC,0),1))","v":""}]
[null,{"$f":"IF(BT393=\"\",\"\",IF(COUNTIF($BT393:BT393, BT393)>1, \"\", BT393))","v":""},null,null,null,null,null,null,null,null,null,null,{"$f":"IF(L393=\"\",\"\",INDEX(referentes!AK:AL,MATCH(L393,referentes!AL:AL,0),1))","v":""},"",null,392,{"$f":"IF(K393=\"\",\"\",INDEX('Otras referencias'!F:I,MATCH(K393,'Otras referencias'!I:I,0),1))","v":""},"",null,null,null,null,null,null,null,null,null,null,null,null,null,null,null,null,null,null,null,null,null,null,null,null,null,null,null,null,null,null,null,null,null,null,0,0,0,0,0,0,0,0,null,null,null,null,null,0,null,null,null,null,null,{"$f":"IF(R393<>\"\",CONCATENATE($A$2,DIGITADOR!$M$1,ROW()-2),\"\")","v":""},"",{"$f":"IF(E393=\"\",\"\",INDEX(referentes!D:E,MATCH(E393,referentes!E:E,0),1))","v":""},{"$f":"IF(F393=\"\",\"\",INDEX(referentes!J:K,MATCH(F393,referentes!K:K,0),1))","v":""},{"$f":"IF(AI393=\"\",\"\",INDEX(referentes!M:N,MATCH(AI393,referentes!N:N,0),1))","v":""},{"$f":"IF(I393=\"\",\"\",INDEX(referentes!P:Q,MATCH(I393,referentes!Q:Q,0),1))","v":""},{"$f":"IF(J393=\"\",\"\",INDEX(referentes!S:T,MATCH(J393,referentes!T:T,0),1))","v":""},{"$f":"IF(AB393=\"\",\"\",INDEX(referentes!V:W,MATCH(AB393,referentes!W:W,0),1))","v":""},{"$f":"IF(Y393=\"\",\"\",INDEX(referentes!AZ:BA,MATCH(Y393,referentes!BA:BA,0),1))","v":""},"","","","",{"$f":"IF(BP393=\"\",\"\",INDEX(referentes!AE:AF,MATCH(BP393,referentes!AF:AF,0),1))","v":""},{"$f":"IF(BQ393=\"\",\"\",INDEX(referentes!AH:AI,MATCH(BQ393,referentes!AI:AI,0),1))","v":""},null,{"$f":"IF(D393=\"\",\"\",INDEX(referentes!A:B,MATCH(D393,referentes!B:B,0),1))","v":""},{"$f":"IF(AT393=\"\",\"\",INDEX(referentes!Y:Z,MATCH(AT393,referentes!Z:Z,0),1))","v":""},{"$f":"IF(AU393=\"\",\"\",INDEX(referentes!AB:AC,MATCH(AU393,referentes!AC:AC,0),1))","v":""}]
[null,{"$f":"IF(BT394=\"\",\"\",IF(COUNTIF($BT394:BT394, BT394)>1, \"\", BT394))","v":""},null,null,null,null,null,null,null,null,null,null,{"$f":"IF(L394=\"\",\"\",INDEX(referentes!AK:AL,MATCH(L394,referentes!AL:AL,0),1))","v":""},"",null,393,{"$f":"IF(K394=\"\",\"\",INDEX('Otras referencias'!F:I,MATCH(K394,'Otras referencias'!I:I,0),1))","v":""},"",null,null,null,null,null,null,null,null,null,null,null,null,null,null,null,null,null,null,null,null,null,null,null,null,null,null,null,null,null,null,null,null,null,null,0,0,0,0,0,0,0,0,null,null,null,null,null,0,null,null,null,null,null,{"$f":"IF(R394<>\"\",CONCATENATE($A$2,DIGITADOR!$M$1,ROW()-2),\"\")","v":""},"",{"$f":"IF(E394=\"\",\"\",INDEX(referentes!D:E,MATCH(E394,referentes!E:E,0),1))","v":""},{"$f":"IF(F394=\"\",\"\",INDEX(referentes!J:K,MATCH(F394,referentes!K:K,0),1))","v":""},{"$f":"IF(AI394=\"\",\"\",INDEX(referentes!M:N,MATCH(AI394,referentes!N:N,0),1))","v":""},{"$f":"IF(I394=\"\",\"\",INDEX(referentes!P:Q,MATCH(I394,referentes!Q:Q,0),1))","v":""},{"$f":"IF(J394=\"\",\"\",INDEX(referentes!S:T,MATCH(J394,referentes!T:T,0),1))","v":""},{"$f":"IF(AB394=\"\",\"\",INDEX(referentes!V:W,MATCH(AB394,referentes!W:W,0),1))","v":""},{"$f":"IF(Y394=\"\",\"\",INDEX(referentes!AZ:BA,MATCH(Y394,referentes!BA:BA,0),1))","v":""},"","","","",{"$f":"IF(BP394=\"\",\"\",INDEX(referentes!AE:AF,MATCH(BP394,referentes!AF:AF,0),1))","v":""},{"$f":"IF(BQ394=\"\",\"\",INDEX(referentes!AH:AI,MATCH(BQ394,referentes!AI:AI,0),1))","v":""},null,{"$f":"IF(D394=\"\",\"\",INDEX(referentes!A:B,MATCH(D394,referentes!B:B,0),1))","v":""},{"$f":"IF(AT394=\"\",\"\",INDEX(referentes!Y:Z,MATCH(AT394,referentes!Z:Z,0),1))","v":""},{"$f":"IF(AU394=\"\",\"\",INDEX(referentes!AB:AC,MATCH(AU394,referentes!AC:AC,0),1))","v":""}]
[null,{"$f":"IF(BT395=\"\",\"\",IF(COUNTIF($BT395:BT395, BT395)>1, \"\", BT395))","v":""},null,null,null,null,null,null,null,null,null,null,{"$f":"IF(L395=\"\",\"\",INDEX(referentes!AK:AL,MATCH(L395,referentes!AL:AL,0),1))","v":""},"",null,394,{"$f":"IF(K395=\"\",\"\",INDEX('Otras referencias'!F:I,MATCH(K395,'Otras referencias'!I:I,0),1))","v":""},"",null,null,null,null,null,null,null,null,null,null,null,null,null,null,null,null,null,null,null,null,null,null,null,null,null,null,null,null,null,null,null,null,null,null,0,0,0,0,0,0,0,0,null,null,null,null,null,0,null,null,null,null,null,{"$f":"IF(R395<>\"\",CONCATENATE($A$2,DIGITADOR!$M$1,ROW()-2),\"\")","v":""},"",{"$f":"IF(E395=\"\",\"\",INDEX(referentes!D:E,MATCH(E395,referentes!E:E,0),1))","v":""},{"$f":"IF(F395=\"\",\"\",INDEX(referentes!J:K,MATCH(F395,referentes!K:K,0),1))","v":""},{"$f":"IF(AI395=\"\",\"\",INDEX(referentes!M:N,MATCH(AI395,referentes!N:N,0),1))","v":""},{"$f":"IF(I395=\"\",\"\",INDEX(referentes!P:Q,MATCH(I395,referentes!Q:Q,0),1))","v":""},{"$f":"IF(J395=\"\",\"\",INDEX(referentes!S:T,MATCH(J395,referentes!T:T,0),1))","v":""},{"$f":"IF(AB395=\"\",\"\",INDEX(referentes!V:W,MATCH(AB395,referentes!W:W,0),1))","v":""},{"$f":"IF(Y395=\"\",\"\",INDEX(referentes!AZ:BA,MATCH(Y395,referentes!BA:BA,0),1))","v":""},"","","","",{"$f":"IF(BP395=\"\",\"\",INDEX(referentes!AE:AF,MATCH(BP395,referentes!AF:AF,0),1))","v":""},{"$f":"IF(BQ395=\"\",\"\",INDEX(referentes!AH:AI,MATCH(BQ395,referentes!AI:AI,0),1))","v":""},null,{"$f":"IF(D395=\"\",\"\",INDEX(referentes!A:B,MATCH(D395,referentes!B:B,0),1))","v":""},{"$f":"IF(AT395=\"\",\"\",INDEX(referentes!Y:Z,MATCH(AT395,referentes!Z:Z,0),1))","v":""},{"$f":"IF(AU395=\"\",\"\",INDEX(referentes!AB:AC,MATCH(AU395,referentes!AC:AC,0),1))","v":""}]
[null,{"$f":"IF(BT396=\"\",\"\",IF(COUNTIF($BT396:BT396, BT396)>1, \"\", BT396))","v":""},null,null,null,null,null,null,null,null,null,null,{"$f":"IF(L396=\"\",\"\",INDEX(referentes!AK:AL,MATCH(L396,referentes!AL:AL,0),1))","v":""},"",null,395,{"$f":"IF(K396=\"\",\"\",INDEX('Otras referencias'!F:I,MATCH(K396,'Otras referencias'!I:I,0),1))","v":""},"",null,null,null,null,null,null,null,null,null,null,null,null,null,null,null,null,null,null,null,null,null,null,null,null,null,null,null,null,null,null,null,null,null,null,0,0,0,0,0,0,0,0,null,null,null,null,null,0,null,null,null,null,null,{"$f":"IF(R396<>\"\",CONCATENATE($A$2,DIGITADOR!$M$1,ROW()-2),\"\")","v":""},"",{"$f":"IF(E396=\"\",\"\",INDEX(referentes!D:E,MATCH(E396,referentes!E:E,0),1))","v":""},{"$f":"IF(F396=\"\",\"\",INDEX(referentes!J:K,MATCH(F396,referentes!K:K,0),1))","v":""},{"$f":"IF(AI396=\"\",\"\",INDEX(referentes!M:N,MATCH(AI396,referentes!N:N,0),1))","v":""},{"$f":"IF(I396=\"\",\"\",INDEX(referentes!P:Q,MATCH(I396,referentes!Q:Q,0),1))","v":""},{"$f":"IF(J396=\"\",\"\",INDEX(referentes!S:T,MATCH(J396,referentes!T:T,0),1))","v":""},{"$f":"IF(AB396=\"\",\"\",INDEX(referentes!V:W,MATCH(AB396,referentes!W:W,0),1))","v":""},{"$f":"IF(Y396=\"\",\"\",INDEX(referentes!AZ:BA,MATCH(Y396,referentes!BA:BA,0),1))","v":""},"","","","",{"$f":"IF(BP396=\"\",\"\",INDEX(referentes!AE:AF,MATCH(BP396,referentes!AF:AF,0),1))","v":""},{"$f":"IF(BQ396=\"\",\"\",INDEX(referentes!AH:AI,MATCH(BQ396,referentes!AI:AI,0),1))","v":""},null,{"$f":"IF(D396=\"\",\"\",INDEX(referentes!A:B,MATCH(D396,referentes!B:B,0),1))","v":""},{"$f":"IF(AT396=\"\",\"\",INDEX(referentes!Y:Z,MATCH(AT396,referentes!Z:Z,0),1))","v":""},{"$f":"IF(AU396=\"\",\"\",INDEX(referentes!AB:AC,MATCH(AU396,referentes!AC:AC,0),1))","v":""}]
[null,{"$f":"IF(BT397=\"\",\"\",IF(COUNTIF($BT397:BT397, BT397)>1, \"\", BT397))","v":""},null,null,null,null,null,null,null,null,null,null,{"$f":"IF(L397=\"\",\"\",INDEX(referentes!AK:AL,MATCH(L397,referentes!AL:AL,0),1))","v":""},"",null,396,{"$f":"IF(K397=\"\",\"\",INDEX('Otras referencias'!F:I,MATCH(K397,'Otras referencias'!I:I,0),1))","v":""},"",null,null,null,null,null,null,null,null,null,null,null,null,null,null,null,null,null,null,null,null,null,null,null,null,null,null,null,null,null,null,null,null,null,null,0,0,0,0,0,0,0,0,null,null,null,null,null,0,null,null,null,null,null,{"$f":"IF(R397<>\"\",CONCATENATE($A$2,DIGITADOR!$M$1,ROW()-2),\"\")","v":""},"",{"$f":"IF(E397=\"\",\"\",INDEX(referentes!D:E,MATCH(E397,referentes!E:E,0),1))","v":""},{"$f":"IF(F397=\"\",\"\",INDEX(referentes!J:K,MATCH(F397,referentes!K:K,0),1))","v":""},{"$f":"IF(AI397=\"\",\"\",INDEX(referentes!M:N,MATCH(AI397,referentes!N:N,0),1))","v":""},{"$f":"IF(I397=\"\",\"\",INDEX(referentes!P:Q,MATCH(I397,referentes!Q:Q,0),1))","v":""},{"$f":"IF(J397=\"\",\"\",INDEX(referentes!S:T,MATCH(J397,referentes!T:T,0),1))","v":""},{"$f":"IF(AB397=\"\",\"\",INDEX(referentes!V:W,MATCH(AB397,referentes!W:W,0),1))","v":""},{"$f":"IF(Y397=\"\",\"\",INDEX(referentes!AZ:BA,MATCH(Y397,referentes!BA:BA,0),1))","v":""},"","","","",{"$f":"IF(BP397=\"\",\"\",INDEX(referentes!AE:AF,MATCH(BP397,referentes!AF:AF,0),1))","v":""},{"$f":"IF(BQ397=\"\",\"\",INDEX(referentes!AH:AI,MATCH(BQ397,referentes!AI:AI,0),1))","v":""},null,{"$f":"IF(D397=\"\",\"\",INDEX(referentes!A:B,MATCH(D397,referentes!B:B,0),1))","v":""},{"$f":"IF(AT397=\"\",\"\",INDEX(referentes!Y:Z,MATCH(AT397,referentes!Z:Z,0),1))","v":""},{"$f":"IF(AU397=\"\",\"\",INDEX(referentes!AB:AC,MATCH(AU397,referentes!AC:AC,0),1))","v":""}]
[null,{"$f":"IF(BT398=\"\",\"\",IF(COUNTIF($BT398:BT398, BT398)>1, \"\", BT398))","v":""},null,null,null,null,null,null,null,null,null,null,{"$f":"IF(L398=\"\",\"\",INDEX(referentes!AK:AL,MATCH(L398,referentes!AL:AL,0),1))","v":""},"",null,397,{"$f":"IF(K398=\"\",\"\",INDEX('Otras referencias'!F:I,MATCH(K398,'Otras referencias'!I:I,0),1))","v":""},"",null,null,null,null,null,null,null,null,null,null,null,null,null,null,null,null,null,null,null,null,null,null,null,null,null,null,null,null,null,null,null,null,null,null,0,0,0,0,0,0,0,0,null,null,null,null,null,0,null,null,null,null,null,{"$f":"IF(R398<>\"\",CONCATENATE($A$2,DIGITADOR!$M$1,ROW()-2),\"\")","v":""},"",{"$f":"IF(E398=\"\",\"\",INDEX(referentes!D:E,MATCH(E398,referentes!E:E,0),1))","v":""},{"$f":"IF(F398=\"\",\"\",INDEX(referentes!J:K,MATCH(F398,referentes!K:K,0),1))","v":""},{"$f":"IF(AI398=\"\",\"\",INDEX(referentes!M:N,MATCH(AI398,referentes!N:N,0),1))","v":""},{"$f":"IF(I398=\"\",\"\",INDEX(referentes!P:Q,MATCH(I398,referentes!Q:Q,0),1))","v":""},{"$f":"IF(J398=\"\",\"\",INDEX(referentes!S:T,MATCH(J398,referentes!T:T,0),1))","v":""},{"$f":"IF(AB398=\"\",\"\",INDEX(referentes!V:W,MATCH(AB398,referentes!W:W,0),1))","v":""},{"$f":"IF(Y398=\"\",\"\",INDEX(referentes!AZ:BA,MATCH(Y398,referentes!BA:BA,0),1))","v":""},"","","","",{"$f":"IF(BP398=\"\",\"\",INDEX(referentes!AE:AF,MATCH(BP398,referentes!AF:AF,0),1))","v":""},{"$f":"IF(BQ398=\"\",\"\",INDEX(referentes!AH:AI,MATCH(BQ398,referentes!AI:AI,0),1))","v":""},null,{"$f":"IF(D398=\"\",\"\",INDEX(referentes!A:B,MATCH(D398,referentes!B:B,0),1))","v":""},{"$f":"IF(AT398=\"\",\"\",INDEX(referentes!Y:Z,MATCH(AT398,referentes!Z:Z,0),1))","v":""},{"$f":"IF(AU398=\"\",\"\",INDEX(referentes!AB:AC,MATCH(AU398,referentes!AC:AC,0),1))","v":""}]
[null,{"$f":"IF(BT399=\"\",\"\",IF(COUNTIF($BT399:BT399, BT399)>1, \"\", BT399))","v":""},null,null,null,null,null,null,null,null,null,null,{"$f":"IF(L399=\"\",\"\",INDEX(referentes!AK:AL,MATCH(L399,referentes!AL:AL,0),1))","v":""},"",null,398,{"$f":"IF(K399=\"\",\"\",INDEX('Otras referencias'!F:I,MATCH(K399,'Otras referencias'!I:I,0),1))","v":""},"",null,null,null,null,null,null,null,null,null,null,null,null,null,null,null,null,null,null,null,null,null,null,null,null,null,null,null,null,null,null,null,null,null,null,0,0,0,0,0,0,0,0,null,null,null,null,null,0,null,null,null,null,null,{"$f":"IF(R399<>\"\",CONCATENATE($A$2,DIGITADOR!$M$1,ROW()-2),\"\")","v":""},"",{"$f":"IF(E399=\"\",\"\",INDEX(referentes!D:E,MATCH(E399,referentes!E:E,0),1))","v":""},{"$f":"IF(F399=\"\",\"\",INDEX(referentes!J:K,MATCH(F399,referentes!K:K,0),1))","v":""},{"$f":"IF(AI399=\"\",\"\",INDEX(referentes!M:N,MATCH(AI399,referentes!N:N,0),1))","v":""},{"$f":"IF(I399=\"\",\"\",INDEX(referentes!P:Q,MATCH(I399,referentes!Q:Q,0),1))","v":""},{"$f":"IF(J399=\"\",\"\",INDEX(referentes!S:T,MATCH(J399,referentes!T:T,0),1))","v":""},{"$f":"IF(AB399=\"\",\"\",INDEX(referentes!V:W,MATCH(AB399,referentes!W:W,0),1))","v":""},{"$f":"IF(Y399=\"\",\"\",INDEX(referentes!AZ:BA,MATCH(Y399,referentes!BA:BA,0),1))","v":""},"","","","",{"$f":"IF(BP399=\"\",\"\",INDEX(referentes!AE:AF,MATCH(BP399,referentes!AF:AF,0),1))","v":""},{"$f":"IF(BQ399=\"\",\"\",INDEX(referentes!AH:AI,MATCH(BQ399,referentes!AI:AI,0),1))","v":""},null,{"$f":"IF(D399=\"\",\"\",INDEX(referentes!A:B,MATCH(D399,referentes!B:B,0),1))","v":""},{"$f":"IF(AT399=\"\",\"\",INDEX(referentes!Y:Z,MATCH(AT399,referentes!Z:Z,0),1))","v":""},{"$f":"IF(AU399=\"\",\"\",INDEX(referentes!AB:AC,MATCH(AU399,referentes!AC:AC,0),1))","v":""}]
[null,{"$f":"IF(BT400=\"\",\"\",IF(COUNTIF($BT400:BT400, BT400)>1, \"\", BT400))","v":""},null,null,null,null,null,null,null,null,null,null,{"$f":"IF(L400=\"\",\"\",INDEX(referentes!AK:AL,MATCH(L400,referentes!AL:AL,0),1))","v":""},"",null,399,{"$f":"IF(K400=\"\",\"\",INDEX('Otras referencias'!F:I,MATCH(K400,'Otras referencias'!I:I,0),1))","v":""},"",null,null,null,null,null,null,null,null,null,null,null,null,null,null,null,null,null,null,null,null,null,null,null,null,null,null,null,null,null,null,null,null,null,null,0,0,0,0,0,0,0,0,null,null,null,null,null,0,null,null,null,null,null,{"$f":"IF(R400<>\"\",CONCATENATE($A$2,DIGITADOR!$M$1,ROW()-2),\"\")","v":""},"",{"$f":"IF(E400=\"\",\"\",INDEX(referentes!D:E,MATCH(E400,referentes!E:E,0),1))","v":""},{"$f":"IF(F400=\"\",\"\",INDEX(referentes!J:K,MATCH(F400,referentes!K:K,0),1))","v":""},{"$f":"IF(AI400=\"\",\"\",INDEX(referentes!M:N,MATCH(AI400,referentes!N:N,0),1))","v":""},{"$f":"IF(I400=\"\",\"\",INDEX(referentes!P:Q,MATCH(I400,referentes!Q:Q,0),1))","v":""},{"$f":"IF(J400=\"\",\"\",INDEX(referentes!S:T,MATCH(J400,referentes!T:T,0),1))","v":""},{"$f":"IF(AB400=\"\",\"\",INDEX(referentes!V:W,MATCH(AB400,referentes!W:W,0),1))","v":""},{"$f":"IF(Y400=\"\",\"\",INDEX(referentes!AZ:BA,MATCH(Y400,referentes!BA:BA,0),1))","v":""},"","","","",{"$f":"IF(BP400=\"\",\"\",INDEX(referentes!AE:AF,MATCH(BP400,referentes!AF:AF,0),1))","v":""},{"$f":"IF(BQ400=\"\",\"\",INDEX(referentes!AH:AI,MATCH(BQ400,referentes!AI:AI,0),1))","v":""},null,{"$f":"IF(D400=\"\",\"\",INDEX(referentes!A:B,MATCH(D400,referentes!B:B,0),1))","v":""},{"$f":"IF(AT400=\"\",\"\",INDEX(referentes!Y:Z,MATCH(AT400,referentes!Z:Z,0),1))","v":""},{"$f":"IF(AU400=\"\",\"\",INDEX(referentes!AB:AC,MATCH(AU400,referentes!AC:AC,0),1))","v":""}]
[null,{"$f":"IF(BT401=\"\",\"\",IF(COUNTIF($BT401:BT401, BT401)>1, \"\", BT401))","v":""},null,null,null,null,null,null,null,null,null,null,{"$f":"IF(L401=\"\",\"\",INDEX(referentes!AK:AL,MATCH(L401,referentes!AL:AL,0),1))","v":""},"",null,400,{"$f":"IF(K401=\"\",\"\",INDEX('Otras referencias'!F:I,MATCH(K401,'Otras referencias'!I:I,0),1))","v":""},"",null,null,null,null,null,null,null,null,null,null,null,null,null,null,null,null,null,null,null,null,null,null,null,null,null,null,null,null,null,null,null,null,null,null,0,0,0,0,0,0,0,0,null,null,null,null,null,0,null,null,null,null,null,{"$f":"IF(R401<>\"\",CONCATENATE($A$2,DIGITADOR!$M$1,ROW()-2),\"\")","v":""},"",{"$f":"IF(E401=\"\",\"\",INDEX(referentes!D:E,MATCH(E401,referentes!E:E,0),1))","v":""},{"$f":"IF(F401=\"\",\"\",INDEX(referentes!J:K,MATCH(F401,referentes!K:K,0),1))","v":""},{"$f":"IF(AI401=\"\",\"\",INDEX(referentes!M:N,MATCH(AI401,referentes!N:N,0),1))","v":""},{"$f":"IF(I401=\"\",\"\",INDEX(referentes!P:Q,MATCH(I401,referentes!Q:Q,0),1))","v":""},{"$f":"IF(J401=\"\",\"\",INDEX(referentes!S:T,MATCH(J401,referentes!T:T,0),1))","v":""},{"$f":"IF(AB401=\"\",\"\",INDEX(referentes!V:W,MATCH(AB401,referentes!W:W,0),1))","v":""},{"$f":"IF(Y401=\"\",\"\",INDEX(referentes!AZ:BA,MATCH(Y401,referentes!BA:BA,0),1))","v":""},"","","","",{"$f":"IF(BP401=\"\",\"\",INDEX(referentes!AE:AF,MATCH(BP401,referentes!AF:AF,0),1))","v":""},{"$f":"IF(BQ401=\"\",\"\",INDEX(referentes!AH:AI,MATCH(BQ401,referentes!AI:AI,0),1))","v":""},null,{"$f":"IF(D401=\"\",\"\",INDEX(referentes!A:B,MATCH(D401,referentes!B:B,0),1))","v":""},{"$f":"IF(AT401=\"\",\"\",INDEX(referentes!Y:Z,MATCH(AT401,referentes!Z:Z,0),1))","v":""},{"$f":"IF(AU401=\"\",\"\",INDEX(referentes!AB:AC,MATCH(AU401,referentes!AC:AC,0),1))","v":""}]
[null,{"$f":"IF(BT402=\"\",\"\",IF(COUNTIF($BT402:BT402, BT402)>1, \"\", BT402))","v":""},null,null,null,null,null,null,null,null,null,null,{"$f":"IF(L402=\"\",\"\",INDEX(referentes!AK:AL,MATCH(L402,referentes!AL:AL,0),1))","v":""},"",null,401,{"$f":"IF(K402=\"\",\"\",INDEX('Otras referencias'!F:I,MATCH(K402,'Otras referencias'!I:I,0),1))","v":""},"",null,null,null,null,null,null,null,null,null,null,null,null,null,null,null,null,null,null,null,null,null,null,null,null,null,null,null,null,null,null,null,null,null,null,0,0,0,0,0,0,0,0,null,null,null,null,null,0,null,null,null,null,null,{"$f":"IF(R402<>\"\",CONCATENATE($A$2,DIGITADOR!$M$1,ROW()-2),\"\")","v":""},"",{"$f":"IF(E402=\"\",\"\",INDEX(referentes!D:E,MATCH(E402,referentes!E:E,0),1))","v":""},{"$f":"IF(F402=\"\",\"\",INDEX(referentes!J:K,MATCH(F402,referentes!K:K,0),1))","v":""},{"$f":"IF(AI402=\"\",\"\",INDEX(referentes!M:N,MATCH(AI402,referentes!N:N,0),1))","v":""},{"$f":"IF(I402=\"\",\"\",INDEX(referentes!P:Q,MATCH(I402,referentes!Q:Q,0),1))","v":""},{"$f":"IF(J402=\"\",\"\",INDEX(referentes!S:T,MATCH(J402,referentes!T:T,0),1))","v":""},{"$f":"IF(AB402=\"\",\"\",INDEX(referentes!V:W,MATCH(AB402,referentes!W:W,0),1))","v":""},{"$f":"IF(Y402=\"\",\"\",INDEX(referentes!AZ:BA,MATCH(Y402,referentes!BA:BA,0),1))","v":""},"","","","",{"$f":"IF(BP402=\"\",\"\",INDEX(referentes!AE:AF,MATCH(BP402,referentes!AF:AF,0),1))","v":""},{"$f":"IF(BQ402=\"\",\"\",INDEX(referentes!AH:AI,MATCH(BQ402,referentes!AI:AI,0),1))","v":""},null,{"$f":"IF(D402=\"\",\"\",INDEX(referentes!A:B,MATCH(D402,referentes!B:B,0),1))","v":""},{"$f":"IF(AT402=\"\",\"\",INDEX(referentes!Y:Z,MATCH(AT402,referentes!Z:Z,0),1))","v":""},{"$f":"IF(AU402=\"\",\"\",INDEX(referentes!AB:AC,MATCH(AU402,referentes!AC:AC,0),1))","v":""}]
[null,{"$f":"IF(BT403=\"\",\"\",IF(COUNTIF($BT403:BT403, BT403)>1, \"\", BT403))","v":""},null,null,null,null,null,null,null,null,null,null,{"$f":"IF(L403=\"\",\"\",INDEX(referentes!AK:AL,MATCH(L403,referentes!AL:AL,0),1))","v":""},"",null,402,{"$f":"IF(K403=\"\",\"\",INDEX('Otras referencias'!F:I,MATCH(K403,'Otras referencias'!I:I,0),1))","v":""},"",null,null,null,null,null,null,null,null,null,null,null,null,null,null,null,null,null,null,null,null,null,null,null,null,null,null,null,null,null,null,null,null,null,null,0,0,0,0,0,0,0,0,null,null,null,null,null,0,null,null,null,null,null,{"$f":"IF(R403<>\"\",CONCATENATE($A$2,DIGITADOR!$M$1,ROW()-2),\"\")","v":""},"",{"$f":"IF(E403=\"\",\"\",INDEX(referentes!D:E,MATCH(E403,referentes!E:E,0),1))","v":""},{"$f":"IF(F403=\"\",\"\",INDEX(referentes!J:K,MATCH(F403,referentes!K:K,0),1))","v":""},{"$f":"IF(AI403=\"\",\"\",INDEX(referentes!M:N,MATCH(AI403,referentes!N:N,0),1))","v":""},{"$f":"IF(I403=\"\",\"\",INDEX(referentes!P:Q,MATCH(I403,referentes!Q:Q,0),1))","v":""},{"$f":"IF(J403=\"\",\"\",INDEX(referentes!S:T,MATCH(J403,referentes!T:T,0),1))","v":""},{"$f":"IF(AB403=\"\",\"\",INDEX(referentes!V:W,MATCH(AB403,referentes!W:W,0),1))","v":""},{"$f":"IF(Y403=\"\",\"\",INDEX(referentes!AZ:BA,MATCH(Y403,referentes!BA:BA,0),1))","v":""},"","","","",{"$f":"IF(BP403=\"\",\"\",INDEX(referentes!AE:AF,MATCH(BP403,referentes!AF:AF,0),1))","v":""},{"$f":"IF(BQ403=\"\",\"\",INDEX(referentes!AH:AI,MATCH(BQ403,referentes!AI:AI,0),1))","v":""},null,{"$f":"IF(D403=\"\",\"\",INDEX(referentes!A:B,MATCH(D403,referentes!B:B,0),1))","v":""},{"$f":"IF(AT403=\"\",\"\",INDEX(referentes!Y:Z,MATCH(AT403,referentes!Z:Z,0),1))","v":""},{"$f":"IF(AU403=\"\",\"\",INDEX(referentes!AB:AC,MATCH(AU403,referentes!AC:AC,0),1))","v":""}]
[null,{"$f":"IF(BT404=\"\",\"\",IF(COUNTIF($BT404:BT404, BT404)>1, \"\", BT404))","v":""},null,null,null,null,null,null,null,null,null,null,{"$f":"IF(L404=\"\",\"\",INDEX(referentes!AK:AL,MATCH(L404,referentes!AL:AL,0),1))","v":""},"",null,403,{"$f":"IF(K404=\"\",\"\",INDEX('Otras referencias'!F:I,MATCH(K404,'Otras referencias'!I:I,0),1))","v":""},"",null,null,null,null,null,null,null,null,null,null,null,null,null,null,null,null,null,null,null,null,null,null,null,null,null,null,null,null,null,null,null,null,null,null,0,0,0,0,0,0,0,0,null,null,null,null,null,0,null,null,null,null,null,{"$f":"IF(R404<>\"\",CONCATENATE($A$2,DIGITADOR!$M$1,ROW()-2),\"\")","v":""},"",{"$f":"IF(E404=\"\",\"\",INDEX(referentes!D:E,MATCH(E404,referentes!E:E,0),1))","v":""},{"$f":"IF(F404=\"\",\"\",INDEX(referentes!J:K,MATCH(F404,referentes!K:K,0),1))","v":""},{"$f":"IF(AI404=\"\",\"\",INDEX(referentes!M:N,MATCH(AI404,referentes!N:N,0),1))","v":""},{"$f":"IF(I404=\"\",\"\",INDEX(referentes!P:Q,MATCH(I404,referentes!Q:Q,0),1))","v":""},{"$f":"IF(J404=\"\",\"\",INDEX(referentes!S:T,MATCH(J404,referentes!T:T,0),1))","v":""},{"$f":"IF(AB404=\"\",\"\",INDEX(referentes!V:W,MATCH(AB404,referentes!W:W,0),1))","v":""},{"$f":"IF(Y404=\"\",\"\",INDEX(referentes!AZ:BA,MATCH(Y404,referentes!BA:BA,0),1))","v":""},"","","","",{"$f":"IF(BP404=\"\",\"\",INDEX(referentes!AE:AF,MATCH(BP404,referentes!AF:AF,0),1))","v":""},{"$f":"IF(BQ404=\"\",\"\",INDEX(referentes!AH:AI,MATCH(BQ404,referentes!AI:AI,0),1))","v":""},null,{"$f":"IF(D404=\"\",\"\",INDEX(referentes!A:B,MATCH(D404,referentes!B:B,0),1))","v":""},{"$f":"IF(AT404=\"\",\"\",INDEX(referentes!Y:Z,MATCH(AT404,referentes!Z:Z,0),1))","v":""},{"$f":"IF(AU404=\"\",\"\",INDEX(referentes!AB:AC,MATCH(AU404,referentes!AC:AC,0),1))","v":""}]
[null,{"$f":"IF(BT405=\"\",\"\",IF(COUNTIF($BT405:BT405, BT405)>1, \"\", BT405))","v":""},null,null,null,null,null,null,null,null,null,null,{"$f":"IF(L405=\"\",\"\",INDEX(referentes!AK:AL,MATCH(L405,referentes!AL:AL,0),1))","v":""},"",null,404,{"$f":"IF(K405=\"\",\"\",INDEX('Otras referencias'!F:I,MATCH(K405,'Otras referencias'!I:I,0),1))","v":""},"",null,null,null,null,null,null,null,null,null,null,null,null,null,null,null,null,null,null,null,null,null,null,null,null,null,null,null,null,null,null,null,null,null,null,0,0,0,0,0,0,0,0,null,null,null,null,null,0,null,null,null,null,null,{"$f":"IF(R405<>\"\",CONCATENATE($A$2,DIGITADOR!$M$1,ROW()-2),\"\")","v":""},"",{"$f":"IF(E405=\"\",\"\",INDEX(referentes!D:E,MATCH(E405,referentes!E:E,0),1))","v":""},{"$f":"IF(F405=\"\",\"\",INDEX(referentes!J:K,MATCH(F405,referentes!K:K,0),1))","v":""},{"$f":"IF(AI405=\"\",\"\",INDEX(referentes!M:N,MATCH(AI405,referentes!N:N,0),1))","v":""},{"$f":"IF(I405=\"\",\"\",INDEX(referentes!P:Q,MATCH(I405,referentes!Q:Q,0),1))","v":""},{"$f":"IF(J405=\"\",\"\",INDEX(referentes!S:T,MATCH(J405,referentes!T:T,0),1))","v":""},{"$f":"IF(AB405=\"\",\"\",INDEX(referentes!V:W,MATCH(AB405,referentes!W:W,0),1))","v":""},{"$f":"IF(Y405=\"\",\"\",INDEX(referentes!AZ:BA,MATCH(Y405,referentes!BA:BA,0),1))","v":""},"","","","",{"$f":"IF(BP405=\"\",\"\",INDEX(referentes!AE:AF,MATCH(BP405,referentes!AF:AF,0),1))","v":""},{"$f":"IF(BQ405=\"\",\"\",INDEX(referentes!AH:AI,MATCH(BQ405,referentes!AI:AI,0),1))","v":""},null,{"$f":"IF(D405=\"\",\"\",INDEX(referentes!A:B,MATCH(D405,referentes!B:B,0),1))","v":""},{"$f":"IF(AT405=\"\",\"\",INDEX(referentes!Y:Z,MATCH(AT405,referentes!Z:Z,0),1))","v":""},{"$f":"IF(AU405=\"\",\"\",INDEX(referentes!AB:AC,MATCH(AU405,referentes!AC:AC,0),1))","v":""}]
[null,{"$f":"IF(BT406=\"\",\"\",IF(COUNTIF($BT406:BT406, BT406)>1, \"\", BT406))","v":""},null,null,null,null,null,null,null,null,null,null,{"$f":"IF(L406=\"\",\"\",INDEX(referentes!AK:AL,MATCH(L406,referentes!AL:AL,0),1))","v":""},"",null,405,{"$f":"IF(K406=\"\",\"\",INDEX('Otras referencias'!F:I,MATCH(K406,'Otras referencias'!I:I,0),1))","v":""},"",null,null,null,null,null,null,null,null,null,null,null,null,null,null,null,null,null,null,null,null,null,null,null,null,null,null,null,null,null,null,null,null,null,null,0,0,0,0,0,0,0,0,null,null,null,null,null,0,null,null,null,null,null,{"$f":"IF(R406<>\"\",CONCATENATE($A$2,DIGITADOR!$M$1,ROW()-2),\"\")","v":""},"",{"$f":"IF(E406=\"\",\"\",INDEX(referentes!D:E,MATCH(E406,referentes!E:E,0),1))","v":""},{"$f":"IF(F406=\"\",\"\",INDEX(referentes!J:K,MATCH(F406,referentes!K:K,0),1))","v":""},{"$f":"IF(AI406=\"\",\"\",INDEX(referentes!M:N,MATCH(AI406,referentes!N:N,0),1))","v":""},{"$f":"IF(I406=\"\",\"\",INDEX(referentes!P:Q,MATCH(I406,referentes!Q:Q,0),1))","v":""},{"$f":"IF(J406=\"\",\"\",INDEX(referentes!S:T,MATCH(J406,referentes!T:T,0),1))","v":""},{"$f":"IF(AB406=\"\",\"\",INDEX(referentes!V:W,MATCH(AB406,referentes!W:W,0),1))","v":""},{"$f":"IF(Y406=\"\",\"\",INDEX(referentes!AZ:BA,MATCH(Y406,referentes!BA:BA,0),1))","v":""},"","","","",{"$f":"IF(BP406=\"\",\"\",INDEX(referentes!AE:AF,MATCH(BP406,referentes!AF:AF,0),1))","v":""},{"$f":"IF(BQ406=\"\",\"\",INDEX(referentes!AH:AI,MATCH(BQ406,referentes!AI:AI,0),1))","v":""},null,{"$f":"IF(D406=\"\",\"\",INDEX(referentes!A:B,MATCH(D406,referentes!B:B,0),1))","v":""},{"$f":"IF(AT406=\"\",\"\",INDEX(referentes!Y:Z,MATCH(AT406,referentes!Z:Z,0),1))","v":""},{"$f":"IF(AU406=\"\",\"\",INDEX(referentes!AB:AC,MATCH(AU406,referentes!AC:AC,0),1))","v":""}]
[null,{"$f":"IF(BT407=\"\",\"\",IF(COUNTIF($BT407:BT407, BT407)>1, \"\", BT407))","v":""},null,null,null,null,null,null,null,null,null,null,{"$f":"IF(L407=\"\",\"\",INDEX(referentes!AK:AL,MATCH(L407,referentes!AL:AL,0),1))","v":""},"",null,406,{"$f":"IF(K407=\"\",\"\",INDEX('Otras referencias'!F:I,MATCH(K407,'Otras referencias'!I:I,0),1))","v":""},"",null,null,null,null,null,null,null,null,null,null,null,null,null,null,null,null,null,null,null,null,null,null,null,null,null,null,null,null,null,null,null,null,null,null,0,0,0,0,0,0,0,0,null,null,null,null,null,0,null,null,null,null,null,{"$f":"IF(R407<>\"\",CONCATENATE($A$2,DIGITADOR!$M$1,ROW()-2),\"\")","v":""},"",{"$f":"IF(E407=\"\",\"\",INDEX(referentes!D:E,MATCH(E407,referentes!E:E,0),1))","v":""},{"$f":"IF(F407=\"\",\"\",INDEX(referentes!J:K,MATCH(F407,referentes!K:K,0),1))","v":""},{"$f":"IF(AI407=\"\",\"\",INDEX(referentes!M:N,MATCH(AI407,referentes!N:N,0),1))","v":""},{"$f":"IF(I407=\"\",\"\",INDEX(referentes!P:Q,MATCH(I407,referentes!Q:Q,0),1))","v":""},{"$f":"IF(J407=\"\",\"\",INDEX(referentes!S:T,MATCH(J407,referentes!T:T,0),1))","v":""},{"$f":"IF(AB407=\"\",\"\",INDEX(referentes!V:W,MATCH(AB407,referentes!W:W,0),1))","v":""},{"$f":"IF(Y407=\"\",\"\",INDEX(referentes!AZ:BA,MATCH(Y407,referentes!BA:BA,0),1))","v":""},"","","","",{"$f":"IF(BP407=\"\",\"\",INDEX(referentes!AE:AF,MATCH(BP407,referentes!AF:AF,0),1))","v":""},{"$f":"IF(BQ407=\"\",\"\",INDEX(referentes!AH:AI,MATCH(BQ407,referentes!AI:AI,0),1))","v":""},null,{"$f":"IF(D407=\"\",\"\",INDEX(referentes!A:B,MATCH(D407,referentes!B:B,0),1))","v":""},{"$f":"IF(AT407=\"\",\"\",INDEX(referentes!Y:Z,MATCH(AT407,referentes!Z:Z,0),1))","v":""},{"$f":"IF(AU407=\"\",\"\",INDEX(referentes!AB:AC,MATCH(AU407,referentes!AC:AC,0),1))","v":""}]
[null,{"$f":"IF(BT408=\"\",\"\",IF(COUNTIF($BT408:BT408, BT408)>1, \"\", BT408))","v":""},null,null,null,null,null,null,null,null,null,null,{"$f":"IF(L408=\"\",\"\",INDEX(referentes!AK:AL,MATCH(L408,referentes!AL:AL,0),1))","v":""},"",null,407,{"$f":"IF(K408=\"\",\"\",INDEX('Otras referencias'!F:I,MATCH(K408,'Otras referencias'!I:I,0),1))","v":""},"",null,null,null,null,null,null,null,null,null,null,null,null,null,null,null,null,null,null,null,null,null,null,null,null,null,null,null,null,null,null,null,null,null,null,0,0,0,0,0,0,0,0,null,null,null,null,null,0,null,null,null,null,null,{"$f":"IF(R408<>\"\",CONCATENATE($A$2,DIGITADOR!$M$1,ROW()-2),\"\")","v":""},"",{"$f":"IF(E408=\"\",\"\",INDEX(referentes!D:E,MATCH(E408,referentes!E:E,0),1))","v":""},{"$f":"IF(F408=\"\",\"\",INDEX(referentes!J:K,MATCH(F408,referentes!K:K,0),1))","v":""},{"$f":"IF(AI408=\"\",\"\",INDEX(referentes!M:N,MATCH(AI408,referentes!N:N,0),1))","v":""},{"$f":"IF(I408=\"\",\"\",INDEX(referentes!P:Q,MATCH(I408,referentes!Q:Q,0),1))","v":""},{"$f":"IF(J408=\"\",\"\",INDEX(referentes!S:T,MATCH(J408,referentes!T:T,0),1))","v":""},{"$f":"IF(AB408=\"\",\"\",INDEX(referentes!V:W,MATCH(AB408,referentes!W:W,0),1))","v":""},{"$f":"IF(Y408=\"\",\"\",INDEX(referentes!AZ:BA,MATCH(Y408,referentes!BA:BA,0),1))","v":""},"","","","",{"$f":"IF(BP408=\"\",\"\",INDEX(referentes!AE:AF,MATCH(BP408,referentes!AF:AF,0),1))","v":""},{"$f":"IF(BQ408=\"\",\"\",INDEX(referentes!AH:AI,MATCH(BQ408,referentes!AI:AI,0),1))","v":""},null,{"$f":"IF(D408=\"\",\"\",INDEX(referentes!A:B,MATCH(D408,referentes!B:B,0),1))","v":""},{"$f":"IF(AT408=\"\",\"\",INDEX(referentes!Y:Z,MATCH(AT408,referentes!Z:Z,0),1))","v":""},{"$f":"IF(AU408=\"\",\"\",INDEX(referentes!AB:AC,MATCH(AU408,referentes!AC:AC,0),1))","v":""}]
[null,{"$f":"IF(BT409=\"\",\"\",IF(COUNTIF($BT409:BT409, BT409)>1, \"\", BT409))","v":""},null,null,null,null,null,null,null,null,null,null,{"$f":"IF(L409=\"\",\"\",INDEX(referentes!AK:AL,MATCH(L409,referentes!AL:AL,0),1))","v":""},"",null,408,{"$f":"IF(K409=\"\",\"\",INDEX('Otras referencias'!F:I,MATCH(K409,'Otras referencias'!I:I,0),1))","v":""},"",null,null,null,null,null,null,null,null,null,null,null,null,null,null,null,null,null,null,null,null,null,null,null,null,null,null,null,null,null,null,null,null,null,null,0,0,0,0,0,0,0,0,null,null,null,null,null,0,null,null,null,null,null,{"$f":"IF(R409<>\"\",CONCATENATE($A$2,DIGITADOR!$M$1,ROW()-2),\"\")","v":""},"",{"$f":"IF(E409=\"\",\"\",INDEX(referentes!D:E,MATCH(E409,referentes!E:E,0),1))","v":""},{"$f":"IF(F409=\"\",\"\",INDEX(referentes!J:K,MATCH(F409,referentes!K:K,0),1))","v":""},{"$f":"IF(AI409=\"\",\"\",INDEX(referentes!M:N,MATCH(AI409,referentes!N:N,0),1))","v":""},{"$f":"IF(I409=\"\",\"\",INDEX(referentes!P:Q,MATCH(I409,referentes!Q:Q,0),1))","v":""},{"$f":"IF(J409=\"\",\"\",INDEX(referentes!S:T,MATCH(J409,referentes!T:T,0),1))","v":""},{"$f":"IF(AB409=\"\",\"\",INDEX(referentes!V:W,MATCH(AB409,referentes!W:W,0),1))","v":""},{"$f":"IF(Y409=\"\",\"\",INDEX(referentes!AZ:BA,MATCH(Y409,referentes!BA:BA,0),1))","v":""},"","","","",{"$f":"IF(BP409=\"\",\"\",INDEX(referentes!AE:AF,MATCH(BP409,referentes!AF:AF,0),1))","v":""},{"$f":"IF(BQ409=\"\",\"\",INDEX(referentes!AH:AI,MATCH(BQ409,referentes!AI:AI,0),1))","v":""},null,{"$f":"IF(D409=\"\",\"\",INDEX(referentes!A:B,MATCH(D409,referentes!B:B,0),1))","v":""},{"$f":"IF(AT409=\"\",\"\",INDEX(referentes!Y:Z,MATCH(AT409,referentes!Z:Z,0),1))","v":""},{"$f":"IF(AU409=\"\",\"\",INDEX(referentes!AB:AC,MATCH(AU409,referentes!AC:AC,0),1))","v":""}]
[null,{"$f":"IF(BT410=\"\",\"\",IF(COUNTIF($BT410:BT410, BT410)>1, \"\", BT410))","v":""},null,null,null,null,null,null,null,null,null,null,{"$f":"IF(L410=\"\",\"\",INDEX(referentes!AK:AL,MATCH(L410,referentes!AL:AL,0),1))","v":""},"",null,409,{"$f":"IF(K410=\"\",\"\",INDEX('Otras referencias'!F:I,MATCH(K410,'Otras referencias'!I:I,0),1))","v":""},"",null,null,null,null,null,null,null,null,null,null,null,null,null,null,null,null,null,null,null,null,null,null,null,null,null,null,null,null,null,null,null,null,null,null,0,0,0,0,0,0,0,0,null,null,null,null,null,0,null,null,null,null,null,{"$f":"IF(R410<>\"\",CONCATENATE($A$2,DIGITADOR!$M$1,ROW()-2),\"\")","v":""},"",{"$f":"IF(E410=\"\",\"\",INDEX(referentes!D:E,MATCH(E410,referentes!E:E,0),1))","v":""},{"$f":"IF(F410=\"\",\"\",INDEX(referentes!J:K,MATCH(F410,referentes!K:K,0),1))","v":""},{"$f":"IF(AI410=\"\",\"\",INDEX(referentes!M:N,MATCH(AI410,referentes!N:N,0),1))","v":""},{"$f":"IF(I410=\"\",\"\",INDEX(referentes!P:Q,MATCH(I410,referentes!Q:Q,0),1))","v":""},{"$f":"IF(J410=\"\",\"\",INDEX(referentes!S:T,MATCH(J410,referentes!T:T,0),1))","v":""},{"$f":"IF(AB410=\"\",\"\",INDEX(referentes!V:W,MATCH(AB410,referentes!W:W,0),1))","v":""},{"$f":"IF(Y410=\"\",\"\",INDEX(referentes!AZ:BA,MATCH(Y410,referentes!BA:BA,0),1))","v":""},"","","","",{"$f":"IF(BP410=\"\",\"\",INDEX(referentes!AE:AF,MATCH(BP410,referentes!AF:AF,0),1))","v":""},{"$f":"IF(BQ410=\"\",\"\",INDEX(referentes!AH:AI,MATCH(BQ410,referentes!AI:AI,0),1))","v":""},null,{"$f":"IF(D410=\"\",\"\",INDEX(referentes!A:B,MATCH(D410,referentes!B:B,0),1))","v":""},{"$f":"IF(AT410=\"\",\"\",INDEX(referentes!Y:Z,MATCH(AT410,referentes!Z:Z,0),1))","v":""},{"$f":"IF(AU410=\"\",\"\",INDEX(referentes!AB:AC,MATCH(AU410,referentes!AC:AC,0),1))","v":""}]
[null,{"$f":"IF(BT411=\"\",\"\",IF(COUNTIF($BT411:BT411, BT411)>1, \"\", BT411))","v":""},null,null,null,null,null,null,null,null,null,null,{"$f":"IF(L411=\"\",\"\",INDEX(referentes!AK:AL,MATCH(L411,referentes!AL:AL,0),1))","v":""},"",null,410,{"$f":"IF(K411=\"\",\"\",INDEX('Otras referencias'!F:I,MATCH(K411,'Otras referencias'!I:I,0),1))","v":""},"",null,null,null,null,null,null,null,null,null,null,null,null,null,null,null,null,null,null,null,null,null,null,null,null,null,null,null,null,null,null,null,null,null,null,0,0,0,0,0,0,0,0,null,null,null,null,null,0,null,null,null,null,null,{"$f":"IF(R411<>\"\",CONCATENATE($A$2,DIGITADOR!$M$1,ROW()-2),\"\")","v":""},"",{"$f":"IF(E411=\"\",\"\",INDEX(referentes!D:E,MATCH(E411,referentes!E:E,0),1))","v":""},{"$f":"IF(F411=\"\",\"\",INDEX(referentes!J:K,MATCH(F411,referentes!K:K,0),1))","v":""},{"$f":"IF(AI411=\"\",\"\",INDEX(referentes!M:N,MATCH(AI411,referentes!N:N,0),1))","v":""},{"$f":"IF(I411=\"\",\"\",INDEX(referentes!P:Q,MATCH(I411,referentes!Q:Q,0),1))","v":""},{"$f":"IF(J411=\"\",\"\",INDEX(referentes!S:T,MATCH(J411,referentes!T:T,0),1))","v":""},{"$f":"IF(AB411=\"\",\"\",INDEX(referentes!V:W,MATCH(AB411,referentes!W:W,0),1))","v":""},{"$f":"IF(Y411=\"\",\"\",INDEX(referentes!AZ:BA,MATCH(Y411,referentes!BA:BA,0),1))","v":""},"","","","",{"$f":"IF(BP411=\"\",\"\",INDEX(referentes!AE:AF,MATCH(BP411,referentes!AF:AF,0),1))","v":""},{"$f":"IF(BQ411=\"\",\"\",INDEX(referentes!AH:AI,MATCH(BQ411,referentes!AI:AI,0),1))","v":""},null,{"$f":"IF(D411=\"\",\"\",INDEX(referentes!A:B,MATCH(D411,referentes!B:B,0),1))","v":""},{"$f":"IF(AT411=\"\",\"\",INDEX(referentes!Y:Z,MATCH(AT411,referentes!Z:Z,0),1))","v":""},{"$f":"IF(AU411=\"\",\"\",INDEX(referentes!AB:AC,MATCH(AU411,referentes!AC:AC,0),1))","v":""}]
[null,{"$f":"IF(BT412=\"\",\"\",IF(COUNTIF($BT412:BT412, BT412)>1, \"\", BT412))","v":""},null,null,null,null,null,null,null,null,null,null,{"$f":"IF(L412=\"\",\"\",INDEX(referentes!AK:AL,MATCH(L412,referentes!AL:AL,0),1))","v":""},"",null,411,{"$f":"IF(K412=\"\",\"\",INDEX('Otras referencias'!F:I,MATCH(K412,'Otras referencias'!I:I,0),1))","v":""},"",null,null,null,null,null,null,null,null,null,null,null,null,null,null,null,null,null,null,null,null,null,null,null,null,null,null,null,null,null,null,null,null,null,null,0,0,0,0,0,0,0,0,null,null,null,null,null,0,null,null,null,null,null,{"$f":"IF(R412<>\"\",CONCATENATE($A$2,DIGITADOR!$M$1,ROW()-2),\"\")","v":""},"",{"$f":"IF(E412=\"\",\"\",INDEX(referentes!D:E,MATCH(E412,referentes!E:E,0),1))","v":""},{"$f":"IF(F412=\"\",\"\",INDEX(referentes!J:K,MATCH(F412,referentes!K:K,0),1))","v":""},{"$f":"IF(AI412=\"\",\"\",INDEX(referentes!M:N,MATCH(AI412,referentes!N:N,0),1))","v":""},{"$f":"IF(I412=\"\",\"\",INDEX(referentes!P:Q,MATCH(I412,referentes!Q:Q,0),1))","v":""},{"$f":"IF(J412=\"\",\"\",INDEX(referentes!S:T,MATCH(J412,referentes!T:T,0),1))","v":""},{"$f":"IF(AB412=\"\",\"\",INDEX(referentes!V:W,MATCH(AB412,referentes!W:W,0),1))","v":""},{"$f":"IF(Y412=\"\",\"\",INDEX(referentes!AZ:BA,MATCH(Y412,referentes!BA:BA,0),1))","v":""},"","","","",{"$f":"IF(BP412=\"\",\"\",INDEX(referentes!AE:AF,MATCH(BP412,referentes!AF:AF,0),1))","v":""},{"$f":"IF(BQ412=\"\",\"\",INDEX(referentes!AH:AI,MATCH(BQ412,referentes!AI:AI,0),1))","v":""},null,{"$f":"IF(D412=\"\",\"\",INDEX(referentes!A:B,MATCH(D412,referentes!B:B,0),1))","v":""},{"$f":"IF(AT412=\"\",\"\",INDEX(referentes!Y:Z,MATCH(AT412,referentes!Z:Z,0),1))","v":""},{"$f":"IF(AU412=\"\",\"\",INDEX(referentes!AB:AC,MATCH(AU412,referentes!AC:AC,0),1))","v":""}]
[null,{"$f":"IF(BT413=\"\",\"\",IF(COUNTIF($BT413:BT413, BT413)>1, \"\", BT413))","v":""},null,null,null,null,null,null,null,null,null,null,{"$f":"IF(L413=\"\",\"\",INDEX(referentes!AK:AL,MATCH(L413,referentes!AL:AL,0),1))","v":""},"",null,412,{"$f":"IF(K413=\"\",\"\",INDEX('Otras referencias'!F:I,MATCH(K413,'Otras referencias'!I:I,0),1))","v":""},"",null,null,null,null,null,null,null,null,null,null,null,null,null,null,null,null,null,null,null,null,null,null,null,null,null,null,null,null,null,null,null,null,null,null,0,0,0,0,0,0,0,0,null,null,null,null,null,0,null,null,null,null,null,{"$f":"IF(R413<>\"\",CONCATENATE($A$2,DIGITADOR!$M$1,ROW()-2),\"\")","v":""},"",{"$f":"IF(E413=\"\",\"\",INDEX(referentes!D:E,MATCH(E413,referentes!E:E,0),1))","v":""},{"$f":"IF(F413=\"\",\"\",INDEX(referentes!J:K,MATCH(F413,referentes!K:K,0),1))","v":""},{"$f":"IF(AI413=\"\",\"\",INDEX(referentes!M:N,MATCH(AI413,referentes!N:N,0),1))","v":""},{"$f":"IF(I413=\"\",\"\",INDEX(referentes!P:Q,MATCH(I413,referentes!Q:Q,0),1))","v":""},{"$f":"IF(J413=\"\",\"\",INDEX(referentes!S:T,MATCH(J413,referentes!T:T,0),1))","v":""},{"$f":"IF(AB413=\"\",\"\",INDEX(referentes!V:W,MATCH(AB413,referentes!W:W,0),1))","v":""},{"$f":"IF(Y413=\"\",\"\",INDEX(referentes!AZ:BA,MATCH(Y413,referentes!BA:BA,0),1))","v":""},"","","","",{"$f":"IF(BP413=\"\",\"\",INDEX(referentes!AE:AF,MATCH(BP413,referentes!AF:AF,0),1))","v":""},{"$f":"IF(BQ413=\"\",\"\",INDEX(referentes!AH:AI,MATCH(BQ413,referentes!AI:AI,0),1))","v":""},null,{"$f":"IF(D413=\"\",\"\",INDEX(referentes!A:B,MATCH(D413,referentes!B:B,0),1))","v":""},{"$f":"IF(AT413=\"\",\"\",INDEX(referentes!Y:Z,MATCH(AT413,referentes!Z:Z,0),1))","v":""},{"$f":"IF(AU413=\"\",\"\",INDEX(referentes!AB:AC,MATCH(AU413,referentes!AC:AC,0),1))","v":""}]
[null,{"$f":"IF(BT414=\"\",\"\",IF(COUNTIF($BT414:BT414, BT414)>1, \"\", BT414))","v":""},null,null,null,null,null,null,null,null,null,null,{"$f":"IF(L414=\"\",\"\",INDEX(referentes!AK:AL,MATCH(L414,referentes!AL:AL,0),1))","v":""},"",null,413,{"$f":"IF(K414=\"\",\"\",INDEX('Otras referencias'!F:I,MATCH(K414,'Otras referencias'!I:I,0),1))","v":""},"",null,null,null,null,null,null,null,null,null,null,null,null,null,null,null,null,null,null,null,null,null,null,null,null,null,null,null,null,null,null,null,null,null,null,0,0,0,0,0,0,0,0,null,null,null,null,null,0,null,null,null,null,null,{"$f":"IF(R414<>\"\",CONCATENATE($A$2,DIGITADOR!$M$1,ROW()-2),\"\")","v":""},"",{"$f":"IF(E414=\"\",\"\",INDEX(referentes!D:E,MATCH(E414,referentes!E:E,0),1))","v":""},{"$f":"IF(F414=\"\",\"\",INDEX(referentes!J:K,MATCH(F414,referentes!K:K,0),1))","v":""},{"$f":"IF(AI414=\"\",\"\",INDEX(referentes!M:N,MATCH(AI414,referentes!N:N,0),1))","v":""},{"$f":"IF(I414=\"\",\"\",INDEX(referentes!P:Q,MATCH(I414,referentes!Q:Q,0),1))","v":""},{"$f":"IF(J414=\"\",\"\",INDEX(referentes!S:T,MATCH(J414,referentes!T:T,0),1))","v":""},{"$f":"IF(AB414=\"\",\"\",INDEX(referentes!V:W,MATCH(AB414,referentes!W:W,0),1))","v":""},{"$f":"IF(Y414=\"\",\"\",INDEX(referentes!AZ:BA,MATCH(Y414,referentes!BA:BA,0),1))","v":""},"","","","",{"$f":"IF(BP414=\"\",\"\",INDEX(referentes!AE:AF,MATCH(BP414,referentes!AF:AF,0),1))","v":""},{"$f":"IF(BQ414=\"\",\"\",INDEX(referentes!AH:AI,MATCH(BQ414,referentes!AI:AI,0),1))","v":""},null,{"$f":"IF(D414=\"\",\"\",INDEX(referentes!A:B,MATCH(D414,referentes!B:B,0),1))","v":""},{"$f":"IF(AT414=\"\",\"\",INDEX(referentes!Y:Z,MATCH(AT414,referentes!Z:Z,0),1))","v":""},{"$f":"IF(AU414=\"\",\"\",INDEX(referentes!AB:AC,MATCH(AU414,referentes!AC:AC,0),1))","v":""}]
[null,{"$f":"IF(BT415=\"\",\"\",IF(COUNTIF($BT415:BT415, BT415)>1, \"\", BT415))","v":""},null,null,null,null,null,null,null,null,null,null,{"$f":"IF(L415=\"\",\"\",INDEX(referentes!AK:AL,MATCH(L415,referentes!AL:AL,0),1))","v":""},"",null,414,{"$f":"IF(K415=\"\",\"\",INDEX('Otras referencias'!F:I,MATCH(K415,'Otras referencias'!I:I,0),1))","v":""},"",null,null,null,null,null,null,null,null,null,null,null,null,null,null,null,null,null,null,null,null,null,null,null,null,null,null,null,null,null,null,null,null,null,null,0,0,0,0,0,0,0,0,null,null,null,null,null,0,null,null,null,null,null,{"$f":"IF(R415<>\"\",CONCATENATE($A$2,DIGITADOR!$M$1,ROW()-2),\"\")","v":""},"",{"$f":"IF(E415=\"\",\"\",INDEX(referentes!D:E,MATCH(E415,referentes!E:E,0),1))","v":""},{"$f":"IF(F415=\"\",\"\",INDEX(referentes!J:K,MATCH(F415,referentes!K:K,0),1))","v":""},{"$f":"IF(AI415=\"\",\"\",INDEX(referentes!M:N,MATCH(AI415,referentes!N:N,0),1))","v":""},{"$f":"IF(I415=\"\",\"\",INDEX(referentes!P:Q,MATCH(I415,referentes!Q:Q,0),1))","v":""},{"$f":"IF(J415=\"\",\"\",INDEX(referentes!S:T,MATCH(J415,referentes!T:T,0),1))","v":""},{"$f":"IF(AB415=\"\",\"\",INDEX(referentes!V:W,MATCH(AB415,referentes!W:W,0),1))","v":""},{"$f":"IF(Y415=\"\",\"\",INDEX(referentes!AZ:BA,MATCH(Y415,referentes!BA:BA,0),1))","v":""},"","","","",{"$f":"IF(BP415=\"\",\"\",INDEX(referentes!AE:AF,MATCH(BP415,referentes!AF:AF,0),1))","v":""},{"$f":"IF(BQ415=\"\",\"\",INDEX(referentes!AH:AI,MATCH(BQ415,referentes!AI:AI,0),1))","v":""},null,{"$f":"IF(D415=\"\",\"\",INDEX(referentes!A:B,MATCH(D415,referentes!B:B,0),1))","v":""},{"$f":"IF(AT415=\"\",\"\",INDEX(referentes!Y:Z,MATCH(AT415,referentes!Z:Z,0),1))","v":""},{"$f":"IF(AU415=\"\",\"\",INDEX(referentes!AB:AC,MATCH(AU415,referentes!AC:AC,0),1))","v":""}]
[null,{"$f":"IF(BT416=\"\",\"\",IF(COUNTIF($BT416:BT416, BT416)>1, \"\", BT416))","v":""},null,null,null,null,null,null,null,null,null,null,{"$f":"IF(L416=\"\",\"\",INDEX(referentes!AK:AL,MATCH(L416,referentes!AL:AL,0),1))","v":""},"",null,415,{"$f":"IF(K416=\"\",\"\",INDEX('Otras referencias'!F:I,MATCH(K416,'Otras referencias'!I:I,0),1))","v":""},"",null,null,null,null,null,null,null,null,null,null,null,null,null,null,null,null,null,null,null,null,null,null,null,null,null,null,null,null,null,null,null,null,null,null,0,0,0,0,0,0,0,0,null,null,null,null,null,0,null,null,null,null,null,{"$f":"IF(R416<>\"\",CONCATENATE($A$2,DIGITADOR!$M$1,ROW()-2),\"\")","v":""},"",{"$f":"IF(E416=\"\",\"\",INDEX(referentes!D:E,MATCH(E416,referentes!E:E,0),1))","v":""},{"$f":"IF(F416=\"\",\"\",INDEX(referentes!J:K,MATCH(F416,referentes!K:K,0),1))","v":""},{"$f":"IF(AI416=\"\",\"\",INDEX(referentes!M:N,MATCH(AI416,referentes!N:N,0),1))","v":""},{"$f":"IF(I416=\"\",\"\",INDEX(referentes!P:Q,MATCH(I416,referentes!Q:Q,0),1))","v":""},{"$f":"IF(J416=\"\",\"\",INDEX(referentes!S:T,MATCH(J416,referentes!T:T,0),1))","v":""},{"$f":"IF(AB416=\"\",\"\",INDEX(referentes!V:W,MATCH(AB416,referentes!W:W,0),1))","v":""},{"$f":"IF(Y416=\"\",\"\",INDEX(referentes!AZ:BA,MATCH(Y416,referentes!BA:BA,0),1))","v":""},"","","","",{"$f":"IF(BP416=\"\",\"\",INDEX(referentes!AE:AF,MATCH(BP416,referentes!AF:AF,0),1))","v":""},{"$f":"IF(BQ416=\"\",\"\",INDEX(referentes!AH:AI,MATCH(BQ416,referentes!AI:AI,0),1))","v":""},null,{"$f":"IF(D416=\"\",\"\",INDEX(referentes!A:B,MATCH(D416,referentes!B:B,0),1))","v":""},{"$f":"IF(AT416=\"\",\"\",INDEX(referentes!Y:Z,MATCH(AT416,referentes!Z:Z,0),1))","v":""},{"$f":"IF(AU416=\"\",\"\",INDEX(referentes!AB:AC,MATCH(AU416,referentes!AC:AC,0),1))","v":""}]
[null,{"$f":"IF(BT417=\"\",\"\",IF(COUNTIF($BT417:BT417, BT417)>1, \"\", BT417))","v":""},null,null,null,null,null,null,null,null,null,null,{"$f":"IF(L417=\"\",\"\",INDEX(referentes!AK:AL,MATCH(L417,referentes!AL:AL,0),1))","v":""},"",null,416,{"$f":"IF(K417=\"\",\"\",INDEX('Otras referencias'!F:I,MATCH(K417,'Otras referencias'!I:I,0),1))","v":""},"",null,null,null,null,null,null,null,null,null,null,null,null,null,null,null,null,null,null,null,null,null,null,null,null,null,null,null,null,null,null,null,null,null,null,0,0,0,0,0,0,0,0,null,null,null,null,null,0,null,null,null,null,null,{"$f":"IF(R417<>\"\",CONCATENATE($A$2,DIGITADOR!$M$1,ROW()-2),\"\")","v":""},"",{"$f":"IF(E417=\"\",\"\",INDEX(referentes!D:E,MATCH(E417,referentes!E:E,0),1))","v":""},{"$f":"IF(F417=\"\",\"\",INDEX(referentes!J:K,MATCH(F417,referentes!K:K,0),1))","v":""},{"$f":"IF(AI417=\"\",\"\",INDEX(referentes!M:N,MATCH(AI417,referentes!N:N,0),1))","v":""},{"$f":"IF(I417=\"\",\"\",INDEX(referentes!P:Q,MATCH(I417,referentes!Q:Q,0),1))","v":""},{"$f":"IF(J417=\"\",\"\",INDEX(referentes!S:T,MATCH(J417,referentes!T:T,0),1))","v":""},{"$f":"IF(AB417=\"\",\"\",INDEX(referentes!V:W,MATCH(AB417,referentes!W:W,0),1))","v":""},{"$f":"IF(Y417=\"\",\"\",INDEX(referentes!AZ:BA,MATCH(Y417,referentes!BA:BA,0),1))","v":""},"","","","",{"$f":"IF(BP417=\"\",\"\",INDEX(referentes!AE:AF,MATCH(BP417,referentes!AF:AF,0),1))","v":""},{"$f":"IF(BQ417=\"\",\"\",INDEX(referentes!AH:AI,MATCH(BQ417,referentes!AI:AI,0),1))","v":""},null,{"$f":"IF(D417=\"\",\"\",INDEX(referentes!A:B,MATCH(D417,referentes!B:B,0),1))","v":""},{"$f":"IF(AT417=\"\",\"\",INDEX(referentes!Y:Z,MATCH(AT417,referentes!Z:Z,0),1))","v":""},{"$f":"IF(AU417=\"\",\"\",INDEX(referentes!AB:AC,MATCH(AU417,referentes!AC:AC,0),1))","v":""}]
[null,{"$f":"IF(BT418=\"\",\"\",IF(COUNTIF($BT418:BT418, BT418)>1, \"\", BT418))","v":""},null,null,null,null,null,null,null,null,null,null,{"$f":"IF(L418=\"\",\"\",INDEX(referentes!AK:AL,MATCH(L418,referentes!AL:AL,0),1))","v":""},"",null,417,{"$f":"IF(K418=\"\",\"\",INDEX('Otras referencias'!F:I,MATCH(K418,'Otras referencias'!I:I,0),1))","v":""},"",null,null,null,null,null,null,null,null,null,null,null,null,null,null,null,null,null,null,null,null,null,null,null,null,null,null,null,null,null,null,null,null,null,null,0,0,0,0,0,0,0,0,null,null,null,null,null,0,null,null,null,null,null,{"$f":"IF(R418<>\"\",CONCATENATE($A$2,DIGITADOR!$M$1,ROW()-2),\"\")","v":""},"",{"$f":"IF(E418=\"\",\"\",INDEX(referentes!D:E,MATCH(E418,referentes!E:E,0),1))","v":""},{"$f":"IF(F418=\"\",\"\",INDEX(referentes!J:K,MATCH(F418,referentes!K:K,0),1))","v":""},{"$f":"IF(AI418=\"\",\"\",INDEX(referentes!M:N,MATCH(AI418,referentes!N:N,0),1))","v":""},{"$f":"IF(I418=\"\",\"\",INDEX(referentes!P:Q,MATCH(I418,referentes!Q:Q,0),1))","v":""},{"$f":"IF(J418=\"\",\"\",INDEX(referentes!S:T,MATCH(J418,referentes!T:T,0),1))","v":""},{"$f":"IF(AB418=\"\",\"\",INDEX(referentes!V:W,MATCH(AB418,referentes!W:W,0),1))","v":""},{"$f":"IF(Y418=\"\",\"\",INDEX(referentes!AZ:BA,MATCH(Y418,referentes!BA:BA,0),1))","v":""},"","","","",{"$f":"IF(BP418=\"\",\"\",INDEX(referentes!AE:AF,MATCH(BP418,referentes!AF:AF,0),1))","v":""},{"$f":"IF(BQ418=\"\",\"\",INDEX(referentes!AH:AI,MATCH(BQ418,referentes!AI:AI,0),1))","v":""},null,{"$f":"IF(D418=\"\",\"\",INDEX(referentes!A:B,MATCH(D418,referentes!B:B,0),1))","v":""},{"$f":"IF(AT418=\"\",\"\",INDEX(referentes!Y:Z,MATCH(AT418,referentes!Z:Z,0),1))","v":""},{"$f":"IF(AU418=\"\",\"\",INDEX(referentes!AB:AC,MATCH(AU418,referentes!AC:AC,0),1))","v":""}]
[null,{"$f":"IF(BT419=\"\",\"\",IF(COUNTIF($BT419:BT419, BT419)>1, \"\", BT419))","v":""},null,null,null,null,null,null,null,null,null,null,{"$f":"IF(L419=\"\",\"\",INDEX(referentes!AK:AL,MATCH(L419,referentes!AL:AL,0),1))","v":""},"",null,418,{"$f":"IF(K419=\"\",\"\",INDEX('Otras referencias'!F:I,MATCH(K419,'Otras referencias'!I:I,0),1))","v":""},"",null,null,null,null,null,null,null,null,null,null,null,null,null,null,null,null,null,null,null,null,null,null,null,null,null,null,null,null,null,null,null,null,null,null,0,0,0,0,0,0,0,0,null,null,null,null,null,0,null,null,null,null,null,{"$f":"IF(R419<>\"\",CONCATENATE($A$2,DIGITADOR!$M$1,ROW()-2),\"\")","v":""},"",{"$f":"IF(E419=\"\",\"\",INDEX(referentes!D:E,MATCH(E419,referentes!E:E,0),1))","v":""},{"$f":"IF(F419=\"\",\"\",INDEX(referentes!J:K,MATCH(F419,referentes!K:K,0),1))","v":""},{"$f":"IF(AI419=\"\",\"\",INDEX(referentes!M:N,MATCH(AI419,referentes!N:N,0),1))","v":""},{"$f":"IF(I419=\"\",\"\",INDEX(referentes!P:Q,MATCH(I419,referentes!Q:Q,0),1))","v":""},{"$f":"IF(J419=\"\",\"\",INDEX(referentes!S:T,MATCH(J419,referentes!T:T,0),1))","v":""},{"$f":"IF(AB419=\"\",\"\",INDEX(referentes!V:W,MATCH(AB419,referentes!W:W,0),1))","v":""},{"$f":"IF(Y419=\"\",\"\",INDEX(referentes!AZ:BA,MATCH(Y419,referentes!BA:BA,0),1))","v":""},"","","","",{"$f":"IF(BP419=\"\",\"\",INDEX(referentes!AE:AF,MATCH(BP419,referentes!AF:AF,0),1))","v":""},{"$f":"IF(BQ419=\"\",\"\",INDEX(referentes!AH:AI,MATCH(BQ419,referentes!AI:AI,0),1))","v":""},null,{"$f":"IF(D419=\"\",\"\",INDEX(referentes!A:B,MATCH(D419,referentes!B:B,0),1))","v":""},{"$f":"IF(AT419=\"\",\"\",INDEX(referentes!Y:Z,MATCH(AT419,referentes!Z:Z,0),1))","v":""},{"$f":"IF(AU419=\"\",\"\",INDEX(referentes!AB:AC,MATCH(AU419,referentes!AC:AC,0),1))","v":""}]
[null,{"$f":"IF(BT420=\"\",\"\",IF(COUNTIF($BT420:BT420, BT420)>1, \"\", BT420))","v":""},null,null,null,null,null,null,null,null,null,null,{"$f":"IF(L420=\"\",\"\",INDEX(referentes!AK:AL,MATCH(L420,referentes!AL:AL,0),1))","v":""},"",null,419,{"$f":"IF(K420=\"\",\"\",INDEX('Otras referencias'!F:I,MATCH(K420,'Otras referencias'!I:I,0),1))","v":""},"",null,null,null,null,null,null,null,null,null,null,null,null,null,null,null,null,null,null,null,null,null,null,null,null,null,null,null,null,null,null,null,null,null,null,0,0,0,0,0,0,0,0,null,null,null,null,null,0,null,null,null,null,null,{"$f":"IF(R420<>\"\",CONCATENATE($A$2,DIGITADOR!$M$1,ROW()-2),\"\")","v":""},"",{"$f":"IF(E420=\"\",\"\",INDEX(referentes!D:E,MATCH(E420,referentes!E:E,0),1))","v":""},{"$f":"IF(F420=\"\",\"\",INDEX(referentes!J:K,MATCH(F420,referentes!K:K,0),1))","v":""},{"$f":"IF(AI420=\"\",\"\",INDEX(referentes!M:N,MATCH(AI420,referentes!N:N,0),1))","v":""},{"$f":"IF(I420=\"\",\"\",INDEX(referentes!P:Q,MATCH(I420,referentes!Q:Q,0),1))","v":""},{"$f":"IF(J420=\"\",\"\",INDEX(referentes!S:T,MATCH(J420,referentes!T:T,0),1))","v":""},{"$f":"IF(AB420=\"\",\"\",INDEX(referentes!V:W,MATCH(AB420,referentes!W:W,0),1))","v":""},{"$f":"IF(Y420=\"\",\"\",INDEX(referentes!AZ:BA,MATCH(Y420,referentes!BA:BA,0),1))","v":""},"","","","",{"$f":"IF(BP420=\"\",\"\",INDEX(referentes!AE:AF,MATCH(BP420,referentes!AF:AF,0),1))","v":""},{"$f":"IF(BQ420=\"\",\"\",INDEX(referentes!AH:AI,MATCH(BQ420,referentes!AI:AI,0),1))","v":""},null,{"$f":"IF(D420=\"\",\"\",INDEX(referentes!A:B,MATCH(D420,referentes!B:B,0),1))","v":""},{"$f":"IF(AT420=\"\",\"\",INDEX(referentes!Y:Z,MATCH(AT420,referentes!Z:Z,0),1))","v":""},{"$f":"IF(AU420=\"\",\"\",INDEX(referentes!AB:AC,MATCH(AU420,referentes!AC:AC,0),1))","v":""}]
[null,{"$f":"IF(BT421=\"\",\"\",IF(COUNTIF($BT421:BT421, BT421)>1, \"\", BT421))","v":""},null,null,null,null,null,null,null,null,null,null,{"$f":"IF(L421=\"\",\"\",INDEX(referentes!AK:AL,MATCH(L421,referentes!AL:AL,0),1))","v":""},"",null,420,{"$f":"IF(K421=\"\",\"\",INDEX('Otras referencias'!F:I,MATCH(K421,'Otras referencias'!I:I,0),1))","v":""},"",null,null,null,null,null,null,null,null,null,null,null,null,null,null,null,null,null,null,null,null,null,null,null,null,null,null,null,null,null,null,null,null,null,null,0,0,0,0,0,0,0,0,null,null,null,null,null,0,null,null,null,null,null,{"$f":"IF(R421<>\"\",CONCATENATE($A$2,DIGITADOR!$M$1,ROW()-2),\"\")","v":""},"",{"$f":"IF(E421=\"\",\"\",INDEX(referentes!D:E,MATCH(E421,referentes!E:E,0),1))","v":""},{"$f":"IF(F421=\"\",\"\",INDEX(referentes!J:K,MATCH(F421,referentes!K:K,0),1))","v":""},{"$f":"IF(AI421=\"\",\"\",INDEX(referentes!M:N,MATCH(AI421,referentes!N:N,0),1))","v":""},{"$f":"IF(I421=\"\",\"\",INDEX(referentes!P:Q,MATCH(I421,referentes!Q:Q,0),1))","v":""},{"$f":"IF(J421=\"\",\"\",INDEX(referentes!S:T,MATCH(J421,referentes!T:T,0),1))","v":""},{"$f":"IF(AB421=\"\",\"\",INDEX(referentes!V:W,MATCH(AB421,referentes!W:W,0),1))","v":""},{"$f":"IF(Y421=\"\",\"\",INDEX(referentes!AZ:BA,MATCH(Y421,referentes!BA:BA,0),1))","v":""},"","","","",{"$f":"IF(BP421=\"\",\"\",INDEX(referentes!AE:AF,MATCH(BP421,referentes!AF:AF,0),1))","v":""},{"$f":"IF(BQ421=\"\",\"\",INDEX(referentes!AH:AI,MATCH(BQ421,referentes!AI:AI,0),1))","v":""},null,{"$f":"IF(D421=\"\",\"\",INDEX(referentes!A:B,MATCH(D421,referentes!B:B,0),1))","v":""},{"$f":"IF(AT421=\"\",\"\",INDEX(referentes!Y:Z,MATCH(AT421,referentes!Z:Z,0),1))","v":""},{"$f":"IF(AU421=\"\",\"\",INDEX(referentes!AB:AC,MATCH(AU421,referentes!AC:AC,0),1))","v":""}]
[null,{"$f":"IF(BT422=\"\",\"\",IF(COUNTIF($BT422:BT422, BT422)>1, \"\", BT422))","v":""},null,null,null,null,null,null,null,null,null,null,{"$f":"IF(L422=\"\",\"\",INDEX(referentes!AK:AL,MATCH(L422,referentes!AL:AL,0),1))","v":""},"",null,421,{"$f":"IF(K422=\"\",\"\",INDEX('Otras referencias'!F:I,MATCH(K422,'Otras referencias'!I:I,0),1))","v":""},"",null,null,null,null,null,null,null,null,null,null,null,null,null,null,null,null,null,null,null,null,null,null,null,null,null,null,null,null,null,null,null,null,null,null,0,0,0,0,0,0,0,0,null,null,null,null,null,0,null,null,null,null,null,{"$f":"IF(R422<>\"\",CONCATENATE($A$2,DIGITADOR!$M$1,ROW()-2),\"\")","v":""},"",{"$f":"IF(E422=\"\",\"\",INDEX(referentes!D:E,MATCH(E422,referentes!E:E,0),1))","v":""},{"$f":"IF(F422=\"\",\"\",INDEX(referentes!J:K,MATCH(F422,referentes!K:K,0),1))","v":""},{"$f":"IF(AI422=\"\",\"\",INDEX(referentes!M:N,MATCH(AI422,referentes!N:N,0),1))","v":""},{"$f":"IF(I422=\"\",\"\",INDEX(referentes!P:Q,MATCH(I422,referentes!Q:Q,0),1))","v":""},{"$f":"IF(J422=\"\",\"\",INDEX(referentes!S:T,MATCH(J422,referentes!T:T,0),1))","v":""},{"$f":"IF(AB422=\"\",\"\",INDEX(referentes!V:W,MATCH(AB422,referentes!W:W,0),1))","v":""},{"$f":"IF(Y422=\"\",\"\",INDEX(referentes!AZ:BA,MATCH(Y422,referentes!BA:BA,0),1))","v":""},"","","","",{"$f":"IF(BP422=\"\",\"\",INDEX(referentes!AE:AF,MATCH(BP422,referentes!AF:AF,0),1))","v":""},{"$f":"IF(BQ422=\"\",\"\",INDEX(referentes!AH:AI,MATCH(BQ422,referentes!AI:AI,0),1))","v":""},null,{"$f":"IF(D422=\"\",\"\",INDEX(referentes!A:B,MATCH(D422,referentes!B:B,0),1))","v":""},{"$f":"IF(AT422=\"\",\"\",INDEX(referentes!Y:Z,MATCH(AT422,referentes!Z:Z,0),1))","v":""},{"$f":"IF(AU422=\"\",\"\",INDEX(referentes!AB:AC,MATCH(AU422,referentes!AC:AC,0),1))","v":""}]
[null,{"$f":"IF(BT423=\"\",\"\",IF(COUNTIF($BT423:BT423, BT423)>1, \"\", BT423))","v":""},null,null,null,null,null,null,null,null,null,null,{"$f":"IF(L423=\"\",\"\",INDEX(referentes!AK:AL,MATCH(L423,referentes!AL:AL,0),1))","v":""},"",null,422,{"$f":"IF(K423=\"\",\"\",INDEX('Otras referencias'!F:I,MATCH(K423,'Otras referencias'!I:I,0),1))","v":""},"",null,null,null,null,null,null,null,null,null,null,null,null,null,null,null,null,null,null,null,null,null,null,null,null,null,null,null,null,null,null,null,null,null,null,0,0,0,0,0,0,0,0,null,null,null,null,null,0,null,null,null,null,null,{"$f":"IF(R423<>\"\",CONCATENATE($A$2,DIGITADOR!$M$1,ROW()-2),\"\")","v":""},"",{"$f":"IF(E423=\"\",\"\",INDEX(referentes!D:E,MATCH(E423,referentes!E:E,0),1))","v":""},{"$f":"IF(F423=\"\",\"\",INDEX(referentes!J:K,MATCH(F423,referentes!K:K,0),1))","v":""},{"$f":"IF(AI423=\"\",\"\",INDEX(referentes!M:N,MATCH(AI423,referentes!N:N,0),1))","v":""},{"$f":"IF(I423=\"\",\"\",INDEX(referentes!P:Q,MATCH(I423,referentes!Q:Q,0),1))","v":""},{"$f":"IF(J423=\"\",\"\",INDEX(referentes!S:T,MATCH(J423,referentes!T:T,0),1))","v":""},{"$f":"IF(AB423=\"\",\"\",INDEX(referentes!V:W,MATCH(AB423,referentes!W:W,0),1))","v":""},{"$f":"IF(Y423=\"\",\"\",INDEX(referentes!AZ:BA,MATCH(Y423,referentes!BA:BA,0),1))","v":""},"","","","",{"$f":"IF(BP423=\"\",\"\",INDEX(referentes!AE:AF,MATCH(BP423,referentes!AF:AF,0),1))","v":""},{"$f":"IF(BQ423=\"\",\"\",INDEX(referentes!AH:AI,MATCH(BQ423,referentes!AI:AI,0),1))","v":""},null,{"$f":"IF(D423=\"\",\"\",INDEX(referentes!A:B,MATCH(D423,referentes!B:B,0),1))","v":""},{"$f":"IF(AT423=\"\",\"\",INDEX(referentes!Y:Z,MATCH(AT423,referentes!Z:Z,0),1))","v":""},{"$f":"IF(AU423=\"\",\"\",INDEX(referentes!AB:AC,MATCH(AU423,referentes!AC:AC,0),1))","v":""}]
[null,{"$f":"IF(BT424=\"\",\"\",IF(COUNTIF($BT424:BT424, BT424)>1, \"\", BT424))","v":""},null,null,null,null,null,null,null,null,null,null,{"$f":"IF(L424=\"\",\"\",INDEX(referentes!AK:AL,MATCH(L424,referentes!AL:AL,0),1))","v":""},"",null,423,{"$f":"IF(K424=\"\",\"\",INDEX('Otras referencias'!F:I,MATCH(K424,'Otras referencias'!I:I,0),1))","v":""},"",null,null,null,null,null,null,null,null,null,null,null,null,null,null,null,null,null,null,null,null,null,null,null,null,null,null,null,null,null,null,null,null,null,null,0,0,0,0,0,0,0,0,null,null,null,null,null,0,null,null,null,null,null,{"$f":"IF(R424<>\"\",CONCATENATE($A$2,DIGITADOR!$M$1,ROW()-2),\"\")","v":""},"",{"$f":"IF(E424=\"\",\"\",INDEX(referentes!D:E,MATCH(E424,referentes!E:E,0),1))","v":""},{"$f":"IF(F424=\"\",\"\",INDEX(referentes!J:K,MATCH(F424,referentes!K:K,0),1))","v":""},{"$f":"IF(AI424=\"\",\"\",INDEX(referentes!M:N,MATCH(AI424,referentes!N:N,0),1))","v":""},{"$f":"IF(I424=\"\",\"\",INDEX(referentes!P:Q,MATCH(I424,referentes!Q:Q,0),1))","v":""},{"$f":"IF(J424=\"\",\"\",INDEX(referentes!S:T,MATCH(J424,referentes!T:T,0),1))","v":""},{"$f":"IF(AB424=\"\",\"\",INDEX(referentes!V:W,MATCH(AB424,referentes!W:W,0),1))","v":""},{"$f":"IF(Y424=\"\",\"\",INDEX(referentes!AZ:BA,MATCH(Y424,referentes!BA:BA,0),1))","v":""},"","","","",{"$f":"IF(BP424=\"\",\"\",INDEX(referentes!AE:AF,MATCH(BP424,referentes!AF:AF,0),1))","v":""},{"$f":"IF(BQ424=\"\",\"\",INDEX(referentes!AH:AI,MATCH(BQ424,referentes!AI:AI,0),1))","v":""},null,{"$f":"IF(D424=\"\",\"\",INDEX(referentes!A:B,MATCH(D424,referentes!B:B,0),1))","v":""},{"$f":"IF(AT424=\"\",\"\",INDEX(referentes!Y:Z,MATCH(AT424,referentes!Z:Z,0),1))","v":""},{"$f":"IF(AU424=\"\",\"\",INDEX(referentes!AB:AC,MATCH(AU424,referentes!AC:AC,0),1))","v":""}]
[null,{"$f":"IF(BT425=\"\",\"\",IF(COUNTIF($BT425:BT425, BT425)>1, \"\", BT425))","v":""},null,null,null,null,null,null,null,null,null,null,{"$f":"IF(L425=\"\",\"\",INDEX(referentes!AK:AL,MATCH(L425,referentes!AL:AL,0),1))","v":""},"",null,424,{"$f":"IF(K425=\"\",\"\",INDEX('Otras referencias'!F:I,MATCH(K425,'Otras referencias'!I:I,0),1))","v":""},"",null,null,null,null,null,null,null,null,null,null,null,null,null,null,null,null,null,null,null,null,null,null,null,null,null,null,null,null,null,null,null,null,null,null,0,0,0,0,0,0,0,0,null,null,null,null,null,0,null,null,null,null,null,{"$f":"IF(R425<>\"\",CONCATENATE($A$2,DIGITADOR!$M$1,ROW()-2),\"\")","v":""},"",{"$f":"IF(E425=\"\",\"\",INDEX(referentes!D:E,MATCH(E425,referentes!E:E,0),1))","v":""},{"$f":"IF(F425=\"\",\"\",INDEX(referentes!J:K,MATCH(F425,referentes!K:K,0),1))","v":""},{"$f":"IF(AI425=\"\",\"\",INDEX(referentes!M:N,MATCH(AI425,referentes!N:N,0),1))","v":""},{"$f":"IF(I425=\"\",\"\",INDEX(referentes!P:Q,MATCH(I425,referentes!Q:Q,0),1))","v":""},{"$f":"IF(J425=\"\",\"\",INDEX(referentes!S:T,MATCH(J425,referentes!T:T,0),1))","v":""},{"$f":"IF(AB425=\"\",\"\",INDEX(referentes!V:W,MATCH(AB425,referentes!W:W,0),1))","v":""},{"$f":"IF(Y425=\"\",\"\",INDEX(referentes!AZ:BA,MATCH(Y425,referentes!BA:BA,0),1))","v":""},"","","","",{"$f":"IF(BP425=\"\",\"\",INDEX(referentes!AE:AF,MATCH(BP425,referentes!AF:AF,0),1))","v":""},{"$f":"IF(BQ425=\"\",\"\",INDEX(referentes!AH:AI,MATCH(BQ425,referentes!AI:AI,0),1))","v":""},null,{"$f":"IF(D425=\"\",\"\",INDEX(referentes!A:B,MATCH(D425,referentes!B:B,0),1))","v":""},{"$f":"IF(AT425=\"\",\"\",INDEX(referentes!Y:Z,MATCH(AT425,referentes!Z:Z,0),1))","v":""},{"$f":"IF(AU425=\"\",\"\",INDEX(referentes!AB:AC,MATCH(AU425,referentes!AC:AC,0),1))","v":""}]
[null,{"$f":"IF(BT426=\"\",\"\",IF(COUNTIF($BT426:BT426, BT426)>1, \"\", BT426))","v":""},null,null,null,null,null,null,null,null,null,null,{"$f":"IF(L426=\"\",\"\",INDEX(referentes!AK:AL,MATCH(L426,referentes!AL:AL,0),1))","v":""},"",null,425,{"$f":"IF(K426=\"\",\"\",INDEX('Otras referencias'!F:I,MATCH(K426,'Otras referencias'!I:I,0),1))","v":""},"",null,null,null,null,null,null,null,null,null,null,null,null,null,null,null,null,null,null,null,null,null,null,null,null,null,null,null,null,null,null,null,null,null,null,0,0,0,0,0,0,0,0,null,null,null,null,null,0,null,null,null,null,null,{"$f":"IF(R426<>\"\",CONCATENATE($A$2,DIGITADOR!$M$1,ROW()-2),\"\")","v":""},"",{"$f":"IF(E426=\"\",\"\",INDEX(referentes!D:E,MATCH(E426,referentes!E:E,0),1))","v":""},{"$f":"IF(F426=\"\",\"\",INDEX(referentes!J:K,MATCH(F426,referentes!K:K,0),1))","v":""},{"$f":"IF(AI426=\"\",\"\",INDEX(referentes!M:N,MATCH(AI426,referentes!N:N,0),1))","v":""},{"$f":"IF(I426=\"\",\"\",INDEX(referentes!P:Q,MATCH(I426,referentes!Q:Q,0),1))","v":""},{"$f":"IF(J426=\"\",\"\",INDEX(referentes!S:T,MATCH(J426,referentes!T:T,0),1))","v":""},{"$f":"IF(AB426=\"\",\"\",INDEX(referentes!V:W,MATCH(AB426,referentes!W:W,0),1))","v":""},{"$f":"IF(Y426=\"\",\"\",INDEX(referentes!AZ:BA,MATCH(Y426,referentes!BA:BA,0),1))","v":""},"","","","",{"$f":"IF(BP426=\"\",\"\",INDEX(referentes!AE:AF,MATCH(BP426,referentes!AF:AF,0),1))","v":""},{"$f":"IF(BQ426=\"\",\"\",INDEX(referentes!AH:AI,MATCH(BQ426,referentes!AI:AI,0),1))","v":""},null,{"$f":"IF(D426=\"\",\"\",INDEX(referentes!A:B,MATCH(D426,referentes!B:B,0),1))","v":""},{"$f":"IF(AT426=\"\",\"\",INDEX(referentes!Y:Z,MATCH(AT426,referentes!Z:Z,0),1))","v":""},{"$f":"IF(AU426=\"\",\"\",INDEX(referentes!AB:AC,MATCH(AU426,referentes!AC:AC,0),1))","v":""}]
[null,{"$f":"IF(BT427=\"\",\"\",IF(COUNTIF($BT427:BT427, BT427)>1, \"\", BT427))","v":""},null,null,null,null,null,null,null,null,null,null,{"$f":"IF(L427=\"\",\"\",INDEX(referentes!AK:AL,MATCH(L427,referentes!AL:AL,0),1))","v":""},"",null,426,{"$f":"IF(K427=\"\",\"\",INDEX('Otras referencias'!F:I,MATCH(K427,'Otras referencias'!I:I,0),1))","v":""},"",null,null,null,null,null,null,null,null,null,null,null,null,null,null,null,null,null,null,null,null,null,null,null,null,null,null,null,null,null,null,null,null,null,null,0,0,0,0,0,0,0,0,null,null,null,null,null,0,null,null,null,null,null,{"$f":"IF(R427<>\"\",CONCATENATE($A$2,DIGITADOR!$M$1,ROW()-2),\"\")","v":""},"",{"$f":"IF(E427=\"\",\"\",INDEX(referentes!D:E,MATCH(E427,referentes!E:E,0),1))","v":""},{"$f":"IF(F427=\"\",\"\",INDEX(referentes!J:K,MATCH(F427,referentes!K:K,0),1))","v":""},{"$f":"IF(AI427=\"\",\"\",INDEX(referentes!M:N,MATCH(AI427,referentes!N:N,0),1))","v":""},{"$f":"IF(I427=\"\",\"\",INDEX(referentes!P:Q,MATCH(I427,referentes!Q:Q,0),1))","v":""},{"$f":"IF(J427=\"\",\"\",INDEX(referentes!S:T,MATCH(J427,referentes!T:T,0),1))","v":""},{"$f":"IF(AB427=\"\",\"\",INDEX(referentes!V:W,MATCH(AB427,referentes!W:W,0),1))","v":""},{"$f":"IF(Y427=\"\",\"\",INDEX(referentes!AZ:BA,MATCH(Y427,referentes!BA:BA,0),1))","v":""},"","","","",{"$f":"IF(BP427=\"\",\"\",INDEX(referentes!AE:AF,MATCH(BP427,referentes!AF:AF,0),1))","v":""},{"$f":"IF(BQ427=\"\",\"\",INDEX(referentes!AH:AI,MATCH(BQ427,referentes!AI:AI,0),1))","v":""},null,{"$f":"IF(D427=\"\",\"\",INDEX(referentes!A:B,MATCH(D427,referentes!B:B,0),1))","v":""},{"$f":"IF(AT427=\"\",\"\",INDEX(referentes!Y:Z,MATCH(AT427,referentes!Z:Z,0),1))","v":""},{"$f":"IF(AU427=\"\",\"\",INDEX(referentes!AB:AC,MATCH(AU427,referentes!AC:AC,0),1))","v":""}]
[null,{"$f":"IF(BT428=\"\",\"\",IF(COUNTIF($BT428:BT428, BT428)>1, \"\", BT428))","v":""},null,null,null,null,null,null,null,null,null,null,{"$f":"IF(L428=\"\",\"\",INDEX(referentes!AK:AL,MATCH(L428,referentes!AL:AL,0),1))","v":""},"",null,427,{"$f":"IF(K428=\"\",\"\",INDEX('Otras referencias'!F:I,MATCH(K428,'Otras referencias'!I:I,0),1))","v":""},"",null,null,null,null,null,null,null,null,null,null,null,null,null,null,null,null,null,null,null,null,null,null,null,null,null,null,null,null,null,null,null,null,null,null,0,0,0,0,0,0,0,0,null,null,null,null,null,0,null,null,null,null,null,{"$f":"IF(R428<>\"\",CONCATENATE($A$2,DIGITADOR!$M$1,ROW()-2),\"\")","v":""},"",{"$f":"IF(E428=\"\",\"\",INDEX(referentes!D:E,MATCH(E428,referentes!E:E,0),1))","v":""},{"$f":"IF(F428=\"\",\"\",INDEX(referentes!J:K,MATCH(F428,referentes!K:K,0),1))","v":""},{"$f":"IF(AI428=\"\",\"\",INDEX(referentes!M:N,MATCH(AI428,referentes!N:N,0),1))","v":""},{"$f":"IF(I428=\"\",\"\",INDEX(referentes!P:Q,MATCH(I428,referentes!Q:Q,0),1))","v":""},{"$f":"IF(J428=\"\",\"\",INDEX(referentes!S:T,MATCH(J428,referentes!T:T,0),1))","v":""},{"$f":"IF(AB428=\"\",\"\",INDEX(referentes!V:W,MATCH(AB428,referentes!W:W,0),1))","v":""},{"$f":"IF(Y428=\"\",\"\",INDEX(referentes!AZ:BA,MATCH(Y428,referentes!BA:BA,0),1))","v":""},"","","","",{"$f":"IF(BP428=\"\",\"\",INDEX(referentes!AE:AF,MATCH(BP428,referentes!AF:AF,0),1))","v":""},{"$f":"IF(BQ428=\"\",\"\",INDEX(referentes!AH:AI,MATCH(BQ428,referentes!AI:AI,0),1))","v":""},null,{"$f":"IF(D428=\"\",\"\",INDEX(referentes!A:B,MATCH(D428,referentes!B:B,0),1))","v":""},{"$f":"IF(AT428=\"\",\"\",INDEX(referentes!Y:Z,MATCH(AT428,referentes!Z:Z,0),1))","v":""},{"$f":"IF(AU428=\"\",\"\",INDEX(referentes!AB:AC,MATCH(AU428,referentes!AC:AC,0),1))","v":""}]
[null,{"$f":"IF(BT429=\"\",\"\",IF(COUNTIF($BT429:BT429, BT429)>1, \"\", BT429))","v":""},null,null,null,null,null,null,null,null,null,null,{"$f":"IF(L429=\"\",\"\",INDEX(referentes!AK:AL,MATCH(L429,referentes!AL:AL,0),1))","v":""},"",null,428,{"$f":"IF(K429=\"\",\"\",INDEX('Otras referencias'!F:I,MATCH(K429,'Otras referencias'!I:I,0),1))","v":""},"",null,null,null,null,null,null,null,null,null,null,null,null,null,null,null,null,null,null,null,null,null,null,null,null,null,null,null,null,null,null,null,null,null,null,0,0,0,0,0,0,0,0,null,null,null,null,null,0,null,null,null,null,null,{"$f":"IF(R429<>\"\",CONCATENATE($A$2,DIGITADOR!$M$1,ROW()-2),\"\")","v":""},"",{"$f":"IF(E429=\"\",\"\",INDEX(referentes!D:E,MATCH(E429,referentes!E:E,0),1))","v":""},{"$f":"IF(F429=\"\",\"\",INDEX(referentes!J:K,MATCH(F429,referentes!K:K,0),1))","v":""},{"$f":"IF(AI429=\"\",\"\",INDEX(referentes!M:N,MATCH(AI429,referentes!N:N,0),1))","v":""},{"$f":"IF(I429=\"\",\"\",INDEX(referentes!P:Q,MATCH(I429,referentes!Q:Q,0),1))","v":""},{"$f":"IF(J429=\"\",\"\",INDEX(referentes!S:T,MATCH(J429,referentes!T:T,0),1))","v":""},{"$f":"IF(AB429=\"\",\"\",INDEX(referentes!V:W,MATCH(AB429,referentes!W:W,0),1))","v":""},{"$f":"IF(Y429=\"\",\"\",INDEX(referentes!AZ:BA,MATCH(Y429,referentes!BA:BA,0),1))","v":""},"","","","",{"$f":"IF(BP429=\"\",\"\",INDEX(referentes!AE:AF,MATCH(BP429,referentes!AF:AF,0),1))","v":""},{"$f":"IF(BQ429=\"\",\"\",INDEX(referentes!AH:AI,MATCH(BQ429,referentes!AI:AI,0),1))","v":""},null,{"$f":"IF(D429=\"\",\"\",INDEX(referentes!A:B,MATCH(D429,referentes!B:B,0),1))","v":""},{"$f":"IF(AT429=\"\",\"\",INDEX(referentes!Y:Z,MATCH(AT429,referentes!Z:Z,0),1))","v":""},{"$f":"IF(AU429=\"\",\"\",INDEX(referentes!AB:AC,MATCH(AU429,referentes!AC:AC,0),1))","v":""}]
[null,{"$f":"IF(BT430=\"\",\"\",IF(COUNTIF($BT430:BT430, BT430)>1, \"\", BT430))","v":""},null,null,null,null,null,null,null,null,null,null,{"$f":"IF(L430=\"\",\"\",INDEX(referentes!AK:AL,MATCH(L430,referentes!AL:AL,0),1))","v":""},"",null,429,{"$f":"IF(K430=\"\",\"\",INDEX('Otras referencias'!F:I,MATCH(K430,'Otras referencias'!I:I,0),1))","v":""},"",null,null,null,null,null,null,null,null,null,null,null,null,null,null,null,null,null,null,null,null,null,null,null,null,null,null,null,null,null,null,null,null,null,null,0,0,0,0,0,0,0,0,null,null,null,null,null,0,null,null,null,null,null,{"$f":"IF(R430<>\"\",CONCATENATE($A$2,DIGITADOR!$M$1,ROW()-2),\"\")","v":""},"",{"$f":"IF(E430=\"\",\"\",INDEX(referentes!D:E,MATCH(E430,referentes!E:E,0),1))","v":""},{"$f":"IF(F430=\"\",\"\",INDEX(referentes!J:K,MATCH(F430,referentes!K:K,0),1))","v":""},{"$f":"IF(AI430=\"\",\"\",INDEX(referentes!M:N,MATCH(AI430,referentes!N:N,0),1))","v":""},{"$f":"IF(I430=\"\",\"\",INDEX(referentes!P:Q,MATCH(I430,referentes!Q:Q,0),1))","v":""},{"$f":"IF(J430=\"\",\"\",INDEX(referentes!S:T,MATCH(J430,referentes!T:T,0),1))","v":""},{"$f":"IF(AB430=\"\",\"\",INDEX(referentes!V:W,MATCH(AB430,referentes!W:W,0),1))","v":""},{"$f":"IF(Y430=\"\",\"\",INDEX(referentes!AZ:BA,MATCH(Y430,referentes!BA:BA,0),1))","v":""},"","","","",{"$f":"IF(BP430=\"\",\"\",INDEX(referentes!AE:AF,MATCH(BP430,referentes!AF:AF,0),1))","v":""},{"$f":"IF(BQ430=\"\",\"\",INDEX(referentes!AH:AI,MATCH(BQ430,referentes!AI:AI,0),1))","v":""},null,{"$f":"IF(D430=\"\",\"\",INDEX(referentes!A:B,MATCH(D430,referentes!B:B,0),1))","v":""},{"$f":"IF(AT430=\"\",\"\",INDEX(referentes!Y:Z,MATCH(AT430,referentes!Z:Z,0),1))","v":""},{"$f":"IF(AU430=\"\",\"\",INDEX(referentes!AB:AC,MATCH(AU430,referentes!AC:AC,0),1))","v":""}]
[null,{"$f":"IF(BT431=\"\",\"\",IF(COUNTIF($BT431:BT431, BT431)>1, \"\", BT431))","v":""},null,null,null,null,null,null,null,null,null,null,{"$f":"IF(L431=\"\",\"\",INDEX(referentes!AK:AL,MATCH(L431,referentes!AL:AL,0),1))","v":""},"",null,430,{"$f":"IF(K431=\"\",\"\",INDEX('Otras referencias'!F:I,MATCH(K431,'Otras referencias'!I:I,0),1))","v":""},"",null,null,null,null,null,null,null,null,null,null,null,null,null,null,null,null,null,null,null,null,null,null,null,null,null,null,null,null,null,null,null,null,null,null,0,0,0,0,0,0,0,0,null,null,null,null,null,0,null,null,null,null,null,{"$f":"IF(R431<>\"\",CONCATENATE($A$2,DIGITADOR!$M$1,ROW()-2),\"\")","v":""},"",{"$f":"IF(E431=\"\",\"\",INDEX(referentes!D:E,MATCH(E431,referentes!E:E,0),1))","v":""},{"$f":"IF(F431=\"\",\"\",INDEX(referentes!J:K,MATCH(F431,referentes!K:K,0),1))","v":""},{"$f":"IF(AI431=\"\",\"\",INDEX(referentes!M:N,MATCH(AI431,referentes!N:N,0),1))","v":""},{"$f":"IF(I431=\"\",\"\",INDEX(referentes!P:Q,MATCH(I431,referentes!Q:Q,0),1))","v":""},{"$f":"IF(J431=\"\",\"\",INDEX(referentes!S:T,MATCH(J431,referentes!T:T,0),1))","v":""},{"$f":"IF(AB431=\"\",\"\",INDEX(referentes!V:W,MATCH(AB431,referentes!W:W,0),1))","v":""},{"$f":"IF(Y431=\"\",\"\",INDEX(referentes!AZ:BA,MATCH(Y431,referentes!BA:BA,0),1))","v":""},"","","","",{"$f":"IF(BP431=\"\",\"\",INDEX(referentes!AE:AF,MATCH(BP431,referentes!AF:AF,0),1))","v":""},{"$f":"IF(BQ431=\"\",\"\",INDEX(referentes!AH:AI,MATCH(BQ431,referentes!AI:AI,0),1))","v":""},null,{"$f":"IF(D431=\"\",\"\",INDEX(referentes!A:B,MATCH(D431,referentes!B:B,0),1))","v":""},{"$f":"IF(AT431=\"\",\"\",INDEX(referentes!Y:Z,MATCH(AT431,referentes!Z:Z,0),1))","v":""},{"$f":"IF(AU431=\"\",\"\",INDEX(referentes!AB:AC,MATCH(AU431,referentes!AC:AC,0),1))","v":""}]
[null,{"$f":"IF(BT432=\"\",\"\",IF(COUNTIF($BT432:BT432, BT432)>1, \"\", BT432))","v":""},null,null,null,null,null,null,null,null,null,null,{"$f":"IF(L432=\"\",\"\",INDEX(referentes!AK:AL,MATCH(L432,referentes!AL:AL,0),1))","v":""},"",null,431,{"$f":"IF(K432=\"\",\"\",INDEX('Otras referencias'!F:I,MATCH(K432,'Otras referencias'!I:I,0),1))","v":""},"",null,null,null,null,null,null,null,null,null,null,null,null,null,null,null,null,null,null,null,null,null,null,null,null,null,null,null,null,null,null,null,null,null,null,0,0,0,0,0,0,0,0,null,null,null,null,null,0,null,null,null,null,null,{"$f":"IF(R432<>\"\",CONCATENATE($A$2,DIGITADOR!$M$1,ROW()-2),\"\")","v":""},"",{"$f":"IF(E432=\"\",\"\",INDEX(referentes!D:E,MATCH(E432,referentes!E:E,0),1))","v":""},{"$f":"IF(F432=\"\",\"\",INDEX(referentes!J:K,MATCH(F432,referentes!K:K,0),1))","v":""},{"$f":"IF(AI432=\"\",\"\",INDEX(referentes!M:N,MATCH(AI432,referentes!N:N,0),1))","v":""},{"$f":"IF(I432=\"\",\"\",INDEX(referentes!P:Q,MATCH(I432,referentes!Q:Q,0),1))","v":""},{"$f":"IF(J432=\"\",\"\",INDEX(referentes!S:T,MATCH(J432,referentes!T:T,0),1))","v":""},{"$f":"IF(AB432=\"\",\"\",INDEX(referentes!V:W,MATCH(AB432,referentes!W:W,0),1))","v":""},{"$f":"IF(Y432=\"\",\"\",INDEX(referentes!AZ:BA,MATCH(Y432,referentes!BA:BA,0),1))","v":""},"","","","",{"$f":"IF(BP432=\"\",\"\",INDEX(referentes!AE:AF,MATCH(BP432,referentes!AF:AF,0),1))","v":""},{"$f":"IF(BQ432=\"\",\"\",INDEX(referentes!AH:AI,MATCH(BQ432,referentes!AI:AI,0),1))","v":""},null,{"$f":"IF(D432=\"\",\"\",INDEX(referentes!A:B,MATCH(D432,referentes!B:B,0),1))","v":""},{"$f":"IF(AT432=\"\",\"\",INDEX(referentes!Y:Z,MATCH(AT432,referentes!Z:Z,0),1))","v":""},{"$f":"IF(AU432=\"\",\"\",INDEX(referentes!AB:AC,MATCH(AU432,referentes!AC:AC,0),1))","v":""}]
[null,{"$f":"IF(BT433=\"\",\"\",IF(COUNTIF($BT433:BT433, BT433)>1, \"\", BT433))","v":""},null,null,null,null,null,null,null,null,null,null,{"$f":"IF(L433=\"\",\"\",INDEX(referentes!AK:AL,MATCH(L433,referentes!AL:AL,0),1))","v":""},"",null,432,{"$f":"IF(K433=\"\",\"\",INDEX('Otras referencias'!F:I,MATCH(K433,'Otras referencias'!I:I,0),1))","v":""},"",null,null,null,null,null,null,null,null,null,null,null,null,null,null,null,null,null,null,null,null,null,null,null,null,null,null,null,null,null,null,null,null,null,null,0,0,0,0,0,0,0,0,null,null,null,null,null,0,null,null,null,null,null,{"$f":"IF(R433<>\"\",CONCATENATE($A$2,DIGITADOR!$M$1,ROW()-2),\"\")","v":""},"",{"$f":"IF(E433=\"\",\"\",INDEX(referentes!D:E,MATCH(E433,referentes!E:E,0),1))","v":""},{"$f":"IF(F433=\"\",\"\",INDEX(referentes!J:K,MATCH(F433,referentes!K:K,0),1))","v":""},{"$f":"IF(AI433=\"\",\"\",INDEX(referentes!M:N,MATCH(AI433,referentes!N:N,0),1))","v":""},{"$f":"IF(I433=\"\",\"\",INDEX(referentes!P:Q,MATCH(I433,referentes!Q:Q,0),1))","v":""},{"$f":"IF(J433=\"\",\"\",INDEX(referentes!S:T,MATCH(J433,referentes!T:T,0),1))","v":""},{"$f":"IF(AB433=\"\",\"\",INDEX(referentes!V:W,MATCH(AB433,referentes!W:W,0),1))","v":""},{"$f":"IF(Y433=\"\",\"\",INDEX(referentes!AZ:BA,MATCH(Y433,referentes!BA:BA,0),1))","v":""},"","","","",{"$f":"IF(BP433=\"\",\"\",INDEX(referentes!AE:AF,MATCH(BP433,referentes!AF:AF,0),1))","v":""},{"$f":"IF(BQ433=\"\",\"\",INDEX(referentes!AH:AI,MATCH(BQ433,referentes!AI:AI,0),1))","v":""},null,{"$f":"IF(D433=\"\",\"\",INDEX(referentes!A:B,MATCH(D433,referentes!B:B,0),1))","v":""},{"$f":"IF(AT433=\"\",\"\",INDEX(referentes!Y:Z,MATCH(AT433,referentes!Z:Z,0),1))","v":""},{"$f":"IF(AU433=\"\",\"\",INDEX(referentes!AB:AC,MATCH(AU433,referentes!AC:AC,0),1))","v":""}]
[null,{"$f":"IF(BT434=\"\",\"\",IF(COUNTIF($BT434:BT434, BT434)>1, \"\", BT434))","v":""},null,null,null,null,null,null,null,null,null,null,{"$f":"IF(L434=\"\",\"\",INDEX(referentes!AK:AL,MATCH(L434,referentes!AL:AL,0),1))","v":""},"",null,433,{"$f":"IF(K434=\"\",\"\",INDEX('Otras referencias'!F:I,MATCH(K434,'Otras referencias'!I:I,0),1))","v":""},"",null,null,null,null,null,null,null,null,null,null,null,null,null,null,null,null,null,null,null,null,null,null,null,null,null,null,null,null,null,null,null,null,null,null,0,0,0,0,0,0,0,0,null,null,null,null,null,0,null,null,null,null,null,{"$f":"IF(R434<>\"\",CONCATENATE($A$2,DIGITADOR!$M$1,ROW()-2),\"\")","v":""},"",{"$f":"IF(E434=\"\",\"\",INDEX(referentes!D:E,MATCH(E434,referentes!E:E,0),1))","v":""},{"$f":"IF(F434=\"\",\"\",INDEX(referentes!J:K,MATCH(F434,referentes!K:K,0),1))","v":""},{"$f":"IF(AI434=\"\",\"\",INDEX(referentes!M:N,MATCH(AI434,referentes!N:N,0),1))","v":""},{"$f":"IF(I434=\"\",\"\",INDEX(referentes!P:Q,MATCH(I434,referentes!Q:Q,0),1))","v":""},{"$f":"IF(J434=\"\",\"\",INDEX(referentes!S:T,MATCH(J434,referentes!T:T,0),1))","v":""},{"$f":"IF(AB434=\"\",\"\",INDEX(referentes!V:W,MATCH(AB434,referentes!W:W,0),1))","v":""},{"$f":"IF(Y434=\"\",\"\",INDEX(referentes!AZ:BA,MATCH(Y434,referentes!BA:BA,0),1))","v":""},"","","","",{"$f":"IF(BP434=\"\",\"\",INDEX(referentes!AE:AF,MATCH(BP434,referentes!AF:AF,0),1))","v":""},{"$f":"IF(BQ434=\"\",\"\",INDEX(referentes!AH:AI,MATCH(BQ434,referentes!AI:AI,0),1))","v":""},null,{"$f":"IF(D434=\"\",\"\",INDEX(referentes!A:B,MATCH(D434,referentes!B:B,0),1))","v":""},{"$f":"IF(AT434=\"\",\"\",INDEX(referentes!Y:Z,MATCH(AT434,referentes!Z:Z,0),1))","v":""},{"$f":"IF(AU434=\"\",\"\",INDEX(referentes!AB:AC,MATCH(AU434,referentes!AC:AC,0),1))","v":""}]
[null,{"$f":"IF(BT435=\"\",\"\",IF(COUNTIF($BT435:BT435, BT435)>1, \"\", BT435))","v":""},null,null,null,null,null,null,null,null,null,null,{"$f":"IF(L435=\"\",\"\",INDEX(referentes!AK:AL,MATCH(L435,referentes!AL:AL,0),1))","v":""},"",null,434,{"$f":"IF(K435=\"\",\"\",INDEX('Otras referencias'!F:I,MATCH(K435,'Otras referencias'!I:I,0),1))","v":""},"",null,null,null,null,null,null,null,null,null,null,null,null,null,null,null,null,null,null,null,null,null,null,null,null,null,null,null,null,null,null,null,null,null,null,0,0,0,0,0,0,0,0,null,null,null,null,null,0,null,null,null,null,null,{"$f":"IF(R435<>\"\",CONCATENATE($A$2,DIGITADOR!$M$1,ROW()-2),\"\")","v":""},"",{"$f":"IF(E435=\"\",\"\",INDEX(referentes!D:E,MATCH(E435,referentes!E:E,0),1))","v":""},{"$f":"IF(F435=\"\",\"\",INDEX(referentes!J:K,MATCH(F435,referentes!K:K,0),1))","v":""},{"$f":"IF(AI435=\"\",\"\",INDEX(referentes!M:N,MATCH(AI435,referentes!N:N,0),1))","v":""},{"$f":"IF(I435=\"\",\"\",INDEX(referentes!P:Q,MATCH(I435,referentes!Q:Q,0),1))","v":""},{"$f":"IF(J435=\"\",\"\",INDEX(referentes!S:T,MATCH(J435,referentes!T:T,0),1))","v":""},{"$f":"IF(AB435=\"\",\"\",INDEX(referentes!V:W,MATCH(AB435,referentes!W:W,0),1))","v":""},{"$f":"IF(Y435=\"\",\"\",INDEX(referentes!AZ:BA,MATCH(Y435,referentes!BA:BA,0),1))","v":""},"","","","",{"$f":"IF(BP435=\"\",\"\",INDEX(referentes!AE:AF,MATCH(BP435,referentes!AF:AF,0),1))","v":""},{"$f":"IF(BQ435=\"\",\"\",INDEX(referentes!AH:AI,MATCH(BQ435,referentes!AI:AI,0),1))","v":""},null,{"$f":"IF(D435=\"\",\"\",INDEX(referentes!A:B,MATCH(D435,referentes!B:B,0),1))","v":""},{"$f":"IF(AT435=\"\",\"\",INDEX(referentes!Y:Z,MATCH(AT435,referentes!Z:Z,0),1))","v":""},{"$f":"IF(AU435=\"\",\"\",INDEX(referentes!AB:AC,MATCH(AU435,referentes!AC:AC,0),1))","v":""}]
[null,{"$f":"IF(BT436=\"\",\"\",IF(COUNTIF($BT436:BT436, BT436)>1, \"\", BT436))","v":""},null,null,null,null,null,null,null,null,null,null,{"$f":"IF(L436=\"\",\"\",INDEX(referentes!AK:AL,MATCH(L436,referentes!AL:AL,0),1))","v":""},"",null,435,{"$f":"IF(K436=\"\",\"\",INDEX('Otras referencias'!F:I,MATCH(K436,'Otras referencias'!I:I,0),1))","v":""},"",null,null,null,null,null,null,null,null,null,null,null,null,null,null,null,null,null,null,null,null,null,null,null,null,null,null,null,null,null,null,null,null,null,null,0,0,0,0,0,0,0,0,null,null,null,null,null,0,null,null,null,null,null,{"$f":"IF(R436<>\"\",CONCATENATE($A$2,DIGITADOR!$M$1,ROW()-2),\"\")","v":""},"",{"$f":"IF(E436=\"\",\"\",INDEX(referentes!D:E,MATCH(E436,referentes!E:E,0),1))","v":""},{"$f":"IF(F436=\"\",\"\",INDEX(referentes!J:K,MATCH(F436,referentes!K:K,0),1))","v":""},{"$f":"IF(AI436=\"\",\"\",INDEX(referentes!M:N,MATCH(AI436,referentes!N:N,0),1))","v":""},{"$f":"IF(I436=\"\",\"\",INDEX(referentes!P:Q,MATCH(I436,referentes!Q:Q,0),1))","v":""},{"$f":"IF(J436=\"\",\"\",INDEX(referentes!S:T,MATCH(J436,referentes!T:T,0),1))","v":""},{"$f":"IF(AB436=\"\",\"\",INDEX(referentes!V:W,MATCH(AB436,referentes!W:W,0),1))","v":""},{"$f":"IF(Y436=\"\",\"\",INDEX(referentes!AZ:BA,MATCH(Y436,referentes!BA:BA,0),1))","v":""},"","","","",{"$f":"IF(BP436=\"\",\"\",INDEX(referentes!AE:AF,MATCH(BP436,referentes!AF:AF,0),1))","v":""},{"$f":"IF(BQ436=\"\",\"\",INDEX(referentes!AH:AI,MATCH(BQ436,referentes!AI:AI,0),1))","v":""},null,{"$f":"IF(D436=\"\",\"\",INDEX(referentes!A:B,MATCH(D436,referentes!B:B,0),1))","v":""},{"$f":"IF(AT436=\"\",\"\",INDEX(referentes!Y:Z,MATCH(AT436,referentes!Z:Z,0),1))","v":""},{"$f":"IF(AU436=\"\",\"\",INDEX(referentes!AB:AC,MATCH(AU436,referentes!AC:AC,0),1))","v":""}]
[null,{"$f":"IF(BT437=\"\",\"\",IF(COUNTIF($BT437:BT437, BT437)>1, \"\", BT437))","v":""},null,null,null,null,null,null,null,null,null,null,{"$f":"IF(L437=\"\",\"\",INDEX(referentes!AK:AL,MATCH(L437,referentes!AL:AL,0),1))","v":""},"",null,436,{"$f":"IF(K437=\"\",\"\",INDEX('Otras referencias'!F:I,MATCH(K437,'Otras referencias'!I:I,0),1))","v":""},"",null,null,null,null,null,null,null,null,null,null,null,null,null,null,null,null,null,null,null,null,null,null,null,null,null,null,null,null,null,null,null,null,null,null,0,0,0,0,0,0,0,0,null,null,null,null,null,0,null,null,null,null,null,{"$f":"IF(R437<>\"\",CONCATENATE($A$2,DIGITADOR!$M$1,ROW()-2),\"\")","v":""},"",{"$f":"IF(E437=\"\",\"\",INDEX(referentes!D:E,MATCH(E437,referentes!E:E,0),1))","v":""},{"$f":"IF(F437=\"\",\"\",INDEX(referentes!J:K,MATCH(F437,referentes!K:K,0),1))","v":""},{"$f":"IF(AI437=\"\",\"\",INDEX(referentes!M:N,MATCH(AI437,referentes!N:N,0),1))","v":""},{"$f":"IF(I437=\"\",\"\",INDEX(referentes!P:Q,MATCH(I437,referentes!Q:Q,0),1))","v":""},{"$f":"IF(J437=\"\",\"\",INDEX(referentes!S:T,MATCH(J437,referentes!T:T,0),1))","v":""},{"$f":"IF(AB437=\"\",\"\",INDEX(referentes!V:W,MATCH(AB437,referentes!W:W,0),1))","v":""},{"$f":"IF(Y437=\"\",\"\",INDEX(referentes!AZ:BA,MATCH(Y437,referentes!BA:BA,0),1))","v":""},"","","","",{"$f":"IF(BP437=\"\",\"\",INDEX(referentes!AE:AF,MATCH(BP437,referentes!AF:AF,0),1))","v":""},{"$f":"IF(BQ437=\"\",\"\",INDEX(referentes!AH:AI,MATCH(BQ437,referentes!AI:AI,0),1))","v":""},null,{"$f":"IF(D437=\"\",\"\",INDEX(referentes!A:B,MATCH(D437,referentes!B:B,0),1))","v":""},{"$f":"IF(AT437=\"\",\"\",INDEX(referentes!Y:Z,MATCH(AT437,referentes!Z:Z,0),1))","v":""},{"$f":"IF(AU437=\"\",\"\",INDEX(referentes!AB:AC,MATCH(AU437,referentes!AC:AC,0),1))","v":""}]
[null,{"$f":"IF(BT438=\"\",\"\",IF(COUNTIF($BT438:BT438, BT438)>1, \"\", BT438))","v":""},null,null,null,null,null,null,null,null,null,null,{"$f":"IF(L438=\"\",\"\",INDEX(referentes!AK:AL,MATCH(L438,referentes!AL:AL,0),1))","v":""},"",null,437,{"$f":"IF(K438=\"\",\"\",INDEX('Otras referencias'!F:I,MATCH(K438,'Otras referencias'!I:I,0),1))","v":""},"",null,null,null,null,null,null,null,null,null,null,null,null,null,null,null,null,null,null,null,null,null,null,null,null,null,null,null,null,null,null,null,null,null,null,0,0,0,0,0,0,0,0,null,null,null,null,null,0,null,null,null,null,null,{"$f":"IF(R438<>\"\",CONCATENATE($A$2,DIGITADOR!$M$1,ROW()-2),\"\")","v":""},"",{"$f":"IF(E438=\"\",\"\",INDEX(referentes!D:E,MATCH(E438,referentes!E:E,0),1))","v":""},{"$f":"IF(F438=\"\",\"\",INDEX(referentes!J:K,MATCH(F438,referentes!K:K,0),1))","v":""},{"$f":"IF(AI438=\"\",\"\",INDEX(referentes!M:N,MATCH(AI438,referentes!N:N,0),1))","v":""},{"$f":"IF(I438=\"\",\"\",INDEX(referentes!P:Q,MATCH(I438,referentes!Q:Q,0),1))","v":""},{"$f":"IF(J438=\"\",\"\",INDEX(referentes!S:T,MATCH(J438,referentes!T:T,0),1))","v":""},{"$f":"IF(AB438=\"\",\"\",INDEX(referentes!V:W,MATCH(AB438,referentes!W:W,0),1))","v":""},{"$f":"IF(Y438=\"\",\"\",INDEX(referentes!AZ:BA,MATCH(Y438,referentes!BA:BA,0),1))","v":""},"","","","",{"$f":"IF(BP438=\"\",\"\",INDEX(referentes!AE:AF,MATCH(BP438,referentes!AF:AF,0),1))","v":""},{"$f":"IF(BQ438=\"\",\"\",INDEX(referentes!AH:AI,MATCH(BQ438,referentes!AI:AI,0),1))","v":""},null,{"$f":"IF(D438=\"\",\"\",INDEX(referentes!A:B,MATCH(D438,referentes!B:B,0),1))","v":""},{"$f":"IF(AT438=\"\",\"\",INDEX(referentes!Y:Z,MATCH(AT438,referentes!Z:Z,0),1))","v":""},{"$f":"IF(AU438=\"\",\"\",INDEX(referentes!AB:AC,MATCH(AU438,referentes!AC:AC,0),1))","v":""}]
[null,{"$f":"IF(BT439=\"\",\"\",IF(COUNTIF($BT439:BT439, BT439)>1, \"\", BT439))","v":""},null,null,null,null,null,null,null,null,null,null,{"$f":"IF(L439=\"\",\"\",INDEX(referentes!AK:AL,MATCH(L439,referentes!AL:AL,0),1))","v":""},"",null,438,{"$f":"IF(K439=\"\",\"\",INDEX('Otras referencias'!F:I,MATCH(K439,'Otras referencias'!I:I,0),1))","v":""},"",null,null,null,null,null,null,null,null,null,null,null,null,null,null,null,null,null,null,null,null,null,null,null,null,null,null,null,null,null,null,null,null,null,null,0,0,0,0,0,0,0,0,null,null,null,null,null,0,null,null,null,null,null,{"$f":"IF(R439<>\"\",CONCATENATE($A$2,DIGITADOR!$M$1,ROW()-2),\"\")","v":""},"",{"$f":"IF(E439=\"\",\"\",INDEX(referentes!D:E,MATCH(E439,referentes!E:E,0),1))","v":""},{"$f":"IF(F439=\"\",\"\",INDEX(referentes!J:K,MATCH(F439,referentes!K:K,0),1))","v":""},{"$f":"IF(AI439=\"\",\"\",INDEX(referentes!M:N,MATCH(AI439,referentes!N:N,0),1))","v":""},{"$f":"IF(I439=\"\",\"\",INDEX(referentes!P:Q,MATCH(I439,referentes!Q:Q,0),1))","v":""},{"$f":"IF(J439=\"\",\"\",INDEX(referentes!S:T,MATCH(J439,referentes!T:T,0),1))","v":""},{"$f":"IF(AB439=\"\",\"\",INDEX(referentes!V:W,MATCH(AB439,referentes!W:W,0),1))","v":""},{"$f":"IF(Y439=\"\",\"\",INDEX(referentes!AZ:BA,MATCH(Y439,referentes!BA:BA,0),1))","v":""},"","","","",{"$f":"IF(BP439=\"\",\"\",INDEX(referentes!AE:AF,MATCH(BP439,referentes!AF:AF,0),1))","v":""},{"$f":"IF(BQ439=\"\",\"\",INDEX(referentes!AH:AI,MATCH(BQ439,referentes!AI:AI,0),1))","v":""},null,{"$f":"IF(D439=\"\",\"\",INDEX(referentes!A:B,MATCH(D439,referentes!B:B,0),1))","v":""},{"$f":"IF(AT439=\"\",\"\",INDEX(referentes!Y:Z,MATCH(AT439,referentes!Z:Z,0),1))","v":""},{"$f":"IF(AU439=\"\",\"\",INDEX(referentes!AB:AC,MATCH(AU439,referentes!AC:AC,0),1))","v":""}]
[null,{"$f":"IF(BT440=\"\",\"\",IF(COUNTIF($BT440:BT440, BT440)>1, \"\", BT440))","v":""},null,null,null,null,null,null,null,null,null,null,{"$f":"IF(L440=\"\",\"\",INDEX(referentes!AK:AL,MATCH(L440,referentes!AL:AL,0),1))","v":""},"",null,439,{"$f":"IF(K440=\"\",\"\",INDEX('Otras referencias'!F:I,MATCH(K440,'Otras referencias'!I:I,0),1))","v":""},"",null,null,null,null,null,null,null,null,null,null,null,null,null,null,null,null,null,null,null,null,null,null,null,null,null,null,null,null,null,null,null,null,null,null,0,0,0,0,0,0,0,0,null,null,null,null,null,0,null,null,null,null,null,{"$f":"IF(R440<>\"\",CONCATENATE($A$2,DIGITADOR!$M$1,ROW()-2),\"\")","v":""},"",{"$f":"IF(E440=\"\",\"\",INDEX(referentes!D:E,MATCH(E440,referentes!E:E,0),1))","v":""},{"$f":"IF(F440=\"\",\"\",INDEX(referentes!J:K,MATCH(F440,referentes!K:K,0),1))","v":""},{"$f":"IF(AI440=\"\",\"\",INDEX(referentes!M:N,MATCH(AI440,referentes!N:N,0),1))","v":""},{"$f":"IF(I440=\"\",\"\",INDEX(referentes!P:Q,MATCH(I440,referentes!Q:Q,0),1))","v":""},{"$f":"IF(J440=\"\",\"\",INDEX(referentes!S:T,MATCH(J440,referentes!T:T,0),1))","v":""},{"$f":"IF(AB440=\"\",\"\",INDEX(referentes!V:W,MATCH(AB440,referentes!W:W,0),1))","v":""},{"$f":"IF(Y440=\"\",\"\",INDEX(referentes!AZ:BA,MATCH(Y440,referentes!BA:BA,0),1))","v":""},"","","","",{"$f":"IF(BP440=\"\",\"\",INDEX(referentes!AE:AF,MATCH(BP440,referentes!AF:AF,0),1))","v":""},{"$f":"IF(BQ440=\"\",\"\",INDEX(referentes!AH:AI,MATCH(BQ440,referentes!AI:AI,0),1))","v":""},null,{"$f":"IF(D440=\"\",\"\",INDEX(referentes!A:B,MATCH(D440,referentes!B:B,0),1))","v":""},{"$f":"IF(AT440=\"\",\"\",INDEX(referentes!Y:Z,MATCH(AT440,referentes!Z:Z,0),1))","v":""},{"$f":"IF(AU440=\"\",\"\",INDEX(referentes!AB:AC,MATCH(AU440,referentes!AC:AC,0),1))","v":""}]
[null,{"$f":"IF(BT441=\"\",\"\",IF(COUNTIF($BT441:BT441, BT441)>1, \"\", BT441))","v":""},null,null,null,null,null,null,null,null,null,null,{"$f":"IF(L441=\"\",\"\",INDEX(referentes!AK:AL,MATCH(L441,referentes!AL:AL,0),1))","v":""},"",null,440,{"$f":"IF(K441=\"\",\"\",INDEX('Otras referencias'!F:I,MATCH(K441,'Otras referencias'!I:I,0),1))","v":""},"",null,null,null,null,null,null,null,null,null,null,null,null,null,null,null,null,null,null,null,null,null,null,null,null,null,null,null,null,null,null,null,null,null,null,0,0,0,0,0,0,0,0,null,null,null,null,null,0,null,null,null,null,null,{"$f":"IF(R441<>\"\",CONCATENATE($A$2,DIGITADOR!$M$1,ROW()-2),\"\")","v":""},"",{"$f":"IF(E441=\"\",\"\",INDEX(referentes!D:E,MATCH(E441,referentes!E:E,0),1))","v":""},{"$f":"IF(F441=\"\",\"\",INDEX(referentes!J:K,MATCH(F441,referentes!K:K,0),1))","v":""},{"$f":"IF(AI441=\"\",\"\",INDEX(referentes!M:N,MATCH(AI441,referentes!N:N,0),1))","v":""},{"$f":"IF(I441=\"\",\"\",INDEX(referentes!P:Q,MATCH(I441,referentes!Q:Q,0),1))","v":""},{"$f":"IF(J441=\"\",\"\",INDEX(referentes!S:T,MATCH(J441,referentes!T:T,0),1))","v":""},{"$f":"IF(AB441=\"\",\"\",INDEX(referentes!V:W,MATCH(AB441,referentes!W:W,0),1))","v":""},{"$f":"IF(Y441=\"\",\"\",INDEX(referentes!AZ:BA,MATCH(Y441,referentes!BA:BA,0),1))","v":""},"","","","",{"$f":"IF(BP441=\"\",\"\",INDEX(referentes!AE:AF,MATCH(BP441,referentes!AF:AF,0),1))","v":""},{"$f":"IF(BQ441=\"\",\"\",INDEX(referentes!AH:AI,MATCH(BQ441,referentes!AI:AI,0),1))","v":""},null,{"$f":"IF(D441=\"\",\"\",INDEX(referentes!A:B,MATCH(D441,referentes!B:B,0),1))","v":""},{"$f":"IF(AT441=\"\",\"\",INDEX(referentes!Y:Z,MATCH(AT441,referentes!Z:Z,0),1))","v":""},{"$f":"IF(AU441=\"\",\"\",INDEX(referentes!AB:AC,MATCH(AU441,referentes!AC:AC,0),1))","v":""}]
[null,{"$f":"IF(BT442=\"\",\"\",IF(COUNTIF($BT442:BT442, BT442)>1, \"\", BT442))","v":""},null,null,null,null,null,null,null,null,null,null,{"$f":"IF(L442=\"\",\"\",INDEX(referentes!AK:AL,MATCH(L442,referentes!AL:AL,0),1))","v":""},"",null,441,{"$f":"IF(K442=\"\",\"\",INDEX('Otras referencias'!F:I,MATCH(K442,'Otras referencias'!I:I,0),1))","v":""},"",null,null,null,null,null,null,null,null,null,null,null,null,null,null,null,null,null,null,null,null,null,null,null,null,null,null,null,null,null,null,null,null,null,null,0,0,0,0,0,0,0,0,null,null,null,null,null,0,null,null,null,null,null,{"$f":"IF(R442<>\"\",CONCATENATE($A$2,DIGITADOR!$M$1,ROW()-2),\"\")","v":""},"",{"$f":"IF(E442=\"\",\"\",INDEX(referentes!D:E,MATCH(E442,referentes!E:E,0),1))","v":""},{"$f":"IF(F442=\"\",\"\",INDEX(referentes!J:K,MATCH(F442,referentes!K:K,0),1))","v":""},{"$f":"IF(AI442=\"\",\"\",INDEX(referentes!M:N,MATCH(AI442,referentes!N:N,0),1))","v":""},{"$f":"IF(I442=\"\",\"\",INDEX(referentes!P:Q,MATCH(I442,referentes!Q:Q,0),1))","v":""},{"$f":"IF(J442=\"\",\"\",INDEX(referentes!S:T,MATCH(J442,referentes!T:T,0),1))","v":""},{"$f":"IF(AB442=\"\",\"\",INDEX(referentes!V:W,MATCH(AB442,referentes!W:W,0),1))","v":""},{"$f":"IF(Y442=\"\",\"\",INDEX(referentes!AZ:BA,MATCH(Y442,referentes!BA:BA,0),1))","v":""},"","","","",{"$f":"IF(BP442=\"\",\"\",INDEX(referentes!AE:AF,MATCH(BP442,referentes!AF:AF,0),1))","v":""},{"$f":"IF(BQ442=\"\",\"\",INDEX(referentes!AH:AI,MATCH(BQ442,referentes!AI:AI,0),1))","v":""},null,{"$f":"IF(D442=\"\",\"\",INDEX(referentes!A:B,MATCH(D442,referentes!B:B,0),1))","v":""},{"$f":"IF(AT442=\"\",\"\",INDEX(referentes!Y:Z,MATCH(AT442,referentes!Z:Z,0),1))","v":""},{"$f":"IF(AU442=\"\",\"\",INDEX(referentes!AB:AC,MATCH(AU442,referentes!AC:AC,0),1))","v":""}]
[null,{"$f":"IF(BT443=\"\",\"\",IF(COUNTIF($BT443:BT443, BT443)>1, \"\", BT443))","v":""},null,null,null,null,null,null,null,null,null,null,{"$f":"IF(L443=\"\",\"\",INDEX(referentes!AK:AL,MATCH(L443,referentes!AL:AL,0),1))","v":""},"",null,442,{"$f":"IF(K443=\"\",\"\",INDEX('Otras referencias'!F:I,MATCH(K443,'Otras referencias'!I:I,0),1))","v":""},"",null,null,null,null,null,null,null,null,null,null,null,null,null,null,null,null,null,null,null,null,null,null,null,null,null,null,null,null,null,null,null,null,null,null,0,0,0,0,0,0,0,0,null,null,null,null,null,0,null,null,null,null,null,{"$f":"IF(R443<>\"\",CONCATENATE($A$2,DIGITADOR!$M$1,ROW()-2),\"\")","v":""},"",{"$f":"IF(E443=\"\",\"\",INDEX(referentes!D:E,MATCH(E443,referentes!E:E,0),1))","v":""},{"$f":"IF(F443=\"\",\"\",INDEX(referentes!J:K,MATCH(F443,referentes!K:K,0),1))","v":""},{"$f":"IF(AI443=\"\",\"\",INDEX(referentes!M:N,MATCH(AI443,referentes!N:N,0),1))","v":""},{"$f":"IF(I443=\"\",\"\",INDEX(referentes!P:Q,MATCH(I443,referentes!Q:Q,0),1))","v":""},{"$f":"IF(J443=\"\",\"\",INDEX(referentes!S:T,MATCH(J443,referentes!T:T,0),1))","v":""},{"$f":"IF(AB443=\"\",\"\",INDEX(referentes!V:W,MATCH(AB443,referentes!W:W,0),1))","v":""},{"$f":"IF(Y443=\"\",\"\",INDEX(referentes!AZ:BA,MATCH(Y443,referentes!BA:BA,0),1))","v":""},"","","","",{"$f":"IF(BP443=\"\",\"\",INDEX(referentes!AE:AF,MATCH(BP443,referentes!AF:AF,0),1))","v":""},{"$f":"IF(BQ443=\"\",\"\",INDEX(referentes!AH:AI,MATCH(BQ443,referentes!AI:AI,0),1))","v":""},null,{"$f":"IF(D443=\"\",\"\",INDEX(referentes!A:B,MATCH(D443,referentes!B:B,0),1))","v":""},{"$f":"IF(AT443=\"\",\"\",INDEX(referentes!Y:Z,MATCH(AT443,referentes!Z:Z,0),1))","v":""},{"$f":"IF(AU443=\"\",\"\",INDEX(referentes!AB:AC,MATCH(AU443,referentes!AC:AC,0),1))","v":""}]
[null,{"$f":"IF(BT444=\"\",\"\",IF(COUNTIF($BT444:BT444, BT444)>1, \"\", BT444))","v":""},null,null,null,null,null,null,null,null,null,null,{"$f":"IF(L444=\"\",\"\",INDEX(referentes!AK:AL,MATCH(L444,referentes!AL:AL,0),1))","v":""},"",null,443,{"$f":"IF(K444=\"\",\"\",INDEX('Otras referencias'!F:I,MATCH(K444,'Otras referencias'!I:I,0),1))","v":""},"",null,null,null,null,null,null,null,null,null,null,null,null,null,null,null,null,null,null,null,null,null,null,null,null,null,null,null,null,null,null,null,null,null,null,0,0,0,0,0,0,0,0,null,null,null,null,null,0,null,null,null,null,null,{"$f":"IF(R444<>\"\",CONCATENATE($A$2,DIGITADOR!$M$1,ROW()-2),\"\")","v":""},"",{"$f":"IF(E444=\"\",\"\",INDEX(referentes!D:E,MATCH(E444,referentes!E:E,0),1))","v":""},{"$f":"IF(F444=\"\",\"\",INDEX(referentes!J:K,MATCH(F444,referentes!K:K,0),1))","v":""},{"$f":"IF(AI444=\"\",\"\",INDEX(referentes!M:N,MATCH(AI444,referentes!N:N,0),1))","v":""},{"$f":"IF(I444=\"\",\"\",INDEX(referentes!P:Q,MATCH(I444,referentes!Q:Q,0),1))","v":""},{"$f":"IF(J444=\"\",\"\",INDEX(referentes!S:T,MATCH(J444,referentes!T:T,0),1))","v":""},{"$f":"IF(AB444=\"\",\"\",INDEX(referentes!V:W,MATCH(AB444,referentes!W:W,0),1))","v":""},{"$f":"IF(Y444=\"\",\"\",INDEX(referentes!AZ:BA,MATCH(Y444,referentes!BA:BA,0),1))","v":""},"","","","",{"$f":"IF(BP444=\"\",\"\",INDEX(referentes!AE:AF,MATCH(BP444,referentes!AF:AF,0),1))","v":""},{"$f":"IF(BQ444=\"\",\"\",INDEX(referentes!AH:AI,MATCH(BQ444,referentes!AI:AI,0),1))","v":""},null,{"$f":"IF(D444=\"\",\"\",INDEX(referentes!A:B,MATCH(D444,referentes!B:B,0),1))","v":""},{"$f":"IF(AT444=\"\",\"\",INDEX(referentes!Y:Z,MATCH(AT444,referentes!Z:Z,0),1))","v":""},{"$f":"IF(AU444=\"\",\"\",INDEX(referentes!AB:AC,MATCH(AU444,referentes!AC:AC,0),1))","v":""}]
[null,{"$f":"IF(BT445=\"\",\"\",IF(COUNTIF($BT445:BT445, BT445)>1, \"\", BT445))","v":""},null,null,null,null,null,null,null,null,null,null,{"$f":"IF(L445=\"\",\"\",INDEX(referentes!AK:AL,MATCH(L445,referentes!AL:AL,0),1))","v":""},"",null,444,{"$f":"IF(K445=\"\",\"\",INDEX('Otras referencias'!F:I,MATCH(K445,'Otras referencias'!I:I,0),1))","v":""},"",null,null,null,null,null,null,null,null,null,null,null,null,null,null,null,null,null,null,null,null,null,null,null,null,null,null,null,null,null,null,null,null,null,null,0,0,0,0,0,0,0,0,null,null,null,null,null,0,null,null,null,null,null,{"$f":"IF(R445<>\"\",CONCATENATE($A$2,DIGITADOR!$M$1,ROW()-2),\"\")","v":""},"",{"$f":"IF(E445=\"\",\"\",INDEX(referentes!D:E,MATCH(E445,referentes!E:E,0),1))","v":""},{"$f":"IF(F445=\"\",\"\",INDEX(referentes!J:K,MATCH(F445,referentes!K:K,0),1))","v":""},{"$f":"IF(AI445=\"\",\"\",INDEX(referentes!M:N,MATCH(AI445,referentes!N:N,0),1))","v":""},{"$f":"IF(I445=\"\",\"\",INDEX(referentes!P:Q,MATCH(I445,referentes!Q:Q,0),1))","v":""},{"$f":"IF(J445=\"\",\"\",INDEX(referentes!S:T,MATCH(J445,referentes!T:T,0),1))","v":""},{"$f":"IF(AB445=\"\",\"\",INDEX(referentes!V:W,MATCH(AB445,referentes!W:W,0),1))","v":""},{"$f":"IF(Y445=\"\",\"\",INDEX(referentes!AZ:BA,MATCH(Y445,referentes!BA:BA,0),1))","v":""},"","","","",{"$f":"IF(BP445=\"\",\"\",INDEX(referentes!AE:AF,MATCH(BP445,referentes!AF:AF,0),1))","v":""},{"$f":"IF(BQ445=\"\",\"\",INDEX(referentes!AH:AI,MATCH(BQ445,referentes!AI:AI,0),1))","v":""},null,{"$f":"IF(D445=\"\",\"\",INDEX(referentes!A:B,MATCH(D445,referentes!B:B,0),1))","v":""},{"$f":"IF(AT445=\"\",\"\",INDEX(referentes!Y:Z,MATCH(AT445,referentes!Z:Z,0),1))","v":""},{"$f":"IF(AU445=\"\",\"\",INDEX(referentes!AB:AC,MATCH(AU445,referentes!AC:AC,0),1))","v":""}]
[null,{"$f":"IF(BT446=\"\",\"\",IF(COUNTIF($BT446:BT446, BT446)>1, \"\", BT446))","v":""},null,null,null,null,null,null,null,null,null,null,{"$f":"IF(L446=\"\",\"\",INDEX(referentes!AK:AL,MATCH(L446,referentes!AL:AL,0),1))","v":""},"",null,445,{"$f":"IF(K446=\"\",\"\",INDEX('Otras referencias'!F:I,MATCH(K446,'Otras referencias'!I:I,0),1))","v":""},"",null,null,null,null,null,null,null,null,null,null,null,null,null,null,null,null,null,null,null,null,null,null,null,null,null,null,null,null,null,null,null,null,null,null,0,0,0,0,0,0,0,0,null,null,null,null,null,0,null,null,null,null,null,{"$f":"IF(R446<>\"\",CONCATENATE($A$2,DIGITADOR!$M$1,ROW()-2),\"\")","v":""},"",{"$f":"IF(E446=\"\",\"\",INDEX(referentes!D:E,MATCH(E446,referentes!E:E,0),1))","v":""},{"$f":"IF(F446=\"\",\"\",INDEX(referentes!J:K,MATCH(F446,referentes!K:K,0),1))","v":""},{"$f":"IF(AI446=\"\",\"\",INDEX(referentes!M:N,MATCH(AI446,referentes!N:N,0),1))","v":""},{"$f":"IF(I446=\"\",\"\",INDEX(referentes!P:Q,MATCH(I446,referentes!Q:Q,0),1))","v":""},{"$f":"IF(J446=\"\",\"\",INDEX(referentes!S:T,MATCH(J446,referentes!T:T,0),1))","v":""},{"$f":"IF(AB446=\"\",\"\",INDEX(referentes!V:W,MATCH(AB446,referentes!W:W,0),1))","v":""},{"$f":"IF(Y446=\"\",\"\",INDEX(referentes!AZ:BA,MATCH(Y446,referentes!BA:BA,0),1))","v":""},"","","","",{"$f":"IF(BP446=\"\",\"\",INDEX(referentes!AE:AF,MATCH(BP446,referentes!AF:AF,0),1))","v":""},{"$f":"IF(BQ446=\"\",\"\",INDEX(referentes!AH:AI,MATCH(BQ446,referentes!AI:AI,0),1))","v":""},null,{"$f":"IF(D446=\"\",\"\",INDEX(referentes!A:B,MATCH(D446,referentes!B:B,0),1))","v":""},{"$f":"IF(AT446=\"\",\"\",INDEX(referentes!Y:Z,MATCH(AT446,referentes!Z:Z,0),1))","v":""},{"$f":"IF(AU446=\"\",\"\",INDEX(referentes!AB:AC,MATCH(AU446,referentes!AC:AC,0),1))","v":""}]
[null,{"$f":"IF(BT447=\"\",\"\",IF(COUNTIF($BT447:BT447, BT447)>1, \"\", BT447))","v":""},null,null,null,null,null,null,null,null,null,null,{"$f":"IF(L447=\"\",\"\",INDEX(referentes!AK:AL,MATCH(L447,referentes!AL:AL,0),1))","v":""},"",null,446,{"$f":"IF(K447=\"\",\"\",INDEX('Otras referencias'!F:I,MATCH(K447,'Otras referencias'!I:I,0),1))","v":""},"",null,null,null,null,null,null,null,null,null,null,null,null,null,null,null,null,null,null,null,null,null,null,null,null,null,null,null,null,null,null,null,null,null,null,0,0,0,0,0,0,0,0,null,null,null,null,null,0,null,null,null,null,null,{"$f":"IF(R447<>\"\",CONCATENATE($A$2,DIGITADOR!$M$1,ROW()-2),\"\")","v":""},"",{"$f":"IF(E447=\"\",\"\",INDEX(referentes!D:E,MATCH(E447,referentes!E:E,0),1))","v":""},{"$f":"IF(F447=\"\",\"\",INDEX(referentes!J:K,MATCH(F447,referentes!K:K,0),1))","v":""},{"$f":"IF(AI447=\"\",\"\",INDEX(referentes!M:N,MATCH(AI447,referentes!N:N,0),1))","v":""},{"$f":"IF(I447=\"\",\"\",INDEX(referentes!P:Q,MATCH(I447,referentes!Q:Q,0),1))","v":""},{"$f":"IF(J447=\"\",\"\",INDEX(referentes!S:T,MATCH(J447,referentes!T:T,0),1))","v":""},{"$f":"IF(AB447=\"\",\"\",INDEX(referentes!V:W,MATCH(AB447,referentes!W:W,0),1))","v":""},{"$f":"IF(Y447=\"\",\"\",INDEX(referentes!AZ:BA,MATCH(Y447,referentes!BA:BA,0),1))","v":""},"","","","",{"$f":"IF(BP447=\"\",\"\",INDEX(referentes!AE:AF,MATCH(BP447,referentes!AF:AF,0),1))","v":""},{"$f":"IF(BQ447=\"\",\"\",INDEX(referentes!AH:AI,MATCH(BQ447,referentes!AI:AI,0),1))","v":""},null,{"$f":"IF(D447=\"\",\"\",INDEX(referentes!A:B,MATCH(D447,referentes!B:B,0),1))","v":""},{"$f":"IF(AT447=\"\",\"\",INDEX(referentes!Y:Z,MATCH(AT447,referentes!Z:Z,0),1))","v":""},{"$f":"IF(AU447=\"\",\"\",INDEX(referentes!AB:AC,MATCH(AU447,referentes!AC:AC,0),1))","v":""}]
[null,{"$f":"IF(BT448=\"\",\"\",IF(COUNTIF($BT448:BT448, BT448)>1, \"\", BT448))","v":""},null,null,null,null,null,null,null,null,null,null,{"$f":"IF(L448=\"\",\"\",INDEX(referentes!AK:AL,MATCH(L448,referentes!AL:AL,0),1))","v":""},"",null,447,{"$f":"IF(K448=\"\",\"\",INDEX('Otras referencias'!F:I,MATCH(K448,'Otras referencias'!I:I,0),1))","v":""},"",null,null,null,null,null,null,null,null,null,null,null,null,null,null,null,null,null,null,null,null,null,null,null,null,null,null,null,null,null,null,null,null,null,null,0,0,0,0,0,0,0,0,null,null,null,null,null,0,null,null,null,null,null,{"$f":"IF(R448<>\"\",CONCATENATE($A$2,DIGITADOR!$M$1,ROW()-2),\"\")","v":""},"",{"$f":"IF(E448=\"\",\"\",INDEX(referentes!D:E,MATCH(E448,referentes!E:E,0),1))","v":""},{"$f":"IF(F448=\"\",\"\",INDEX(referentes!J:K,MATCH(F448,referentes!K:K,0),1))","v":""},{"$f":"IF(AI448=\"\",\"\",INDEX(referentes!M:N,MATCH(AI448,referentes!N:N,0),1))","v":""},{"$f":"IF(I448=\"\",\"\",INDEX(referentes!P:Q,MATCH(I448,referentes!Q:Q,0),1))","v":""},{"$f":"IF(J448=\"\",\"\",INDEX(referentes!S:T,MATCH(J448,referentes!T:T,0),1))","v":""},{"$f":"IF(AB448=\"\",\"\",INDEX(referentes!V:W,MATCH(AB448,referentes!W:W,0),1))","v":""},{"$f":"IF(Y448=\"\",\"\",INDEX(referentes!AZ:BA,MATCH(Y448,referentes!BA:BA,0),1))","v":""},"","","","",{"$f":"IF(BP448=\"\",\"\",INDEX(referentes!AE:AF,MATCH(BP448,referentes!AF:AF,0),1))","v":""},{"$f":"IF(BQ448=\"\",\"\",INDEX(referentes!AH:AI,MATCH(BQ448,referentes!AI:AI,0),1))","v":""},null,{"$f":"IF(D448=\"\",\"\",INDEX(referentes!A:B,MATCH(D448,referentes!B:B,0),1))","v":""},{"$f":"IF(AT448=\"\",\"\",INDEX(referentes!Y:Z,MATCH(AT448,referentes!Z:Z,0),1))","v":""},{"$f":"IF(AU448=\"\",\"\",INDEX(referentes!AB:AC,MATCH(AU448,referentes!AC:AC,0),1))","v":""}]
[null,{"$f":"IF(BT449=\"\",\"\",IF(COUNTIF($BT449:BT449, BT449)>1, \"\", BT449))","v":""},null,null,null,null,null,null,null,null,null,null,{"$f":"IF(L449=\"\",\"\",INDEX(referentes!AK:AL,MATCH(L449,referentes!AL:AL,0),1))","v":""},"",null,448,{"$f":"IF(K449=\"\",\"\",INDEX('Otras referencias'!F:I,MATCH(K449,'Otras referencias'!I:I,0),1))","v":""},"",null,null,null,null,null,null,null,null,null,null,null,null,null,null,null,null,null,null,null,null,null,null,null,null,null,null,null,null,null,null,null,null,null,null,0,0,0,0,0,0,0,0,null,null,null,null,null,0,null,null,null,null,null,{"$f":"IF(R449<>\"\",CONCATENATE($A$2,DIGITADOR!$M$1,ROW()-2),\"\")","v":""},"",{"$f":"IF(E449=\"\",\"\",INDEX(referentes!D:E,MATCH(E449,referentes!E:E,0),1))","v":""},{"$f":"IF(F449=\"\",\"\",INDEX(referentes!J:K,MATCH(F449,referentes!K:K,0),1))","v":""},{"$f":"IF(AI449=\"\",\"\",INDEX(referentes!M:N,MATCH(AI449,referentes!N:N,0),1))","v":""},{"$f":"IF(I449=\"\",\"\",INDEX(referentes!P:Q,MATCH(I449,referentes!Q:Q,0),1))","v":""},{"$f":"IF(J449=\"\",\"\",INDEX(referentes!S:T,MATCH(J449,referentes!T:T,0),1))","v":""},{"$f":"IF(AB449=\"\",\"\",INDEX(referentes!V:W,MATCH(AB449,referentes!W:W,0),1))","v":""},{"$f":"IF(Y449=\"\",\"\",INDEX(referentes!AZ:BA,MATCH(Y449,referentes!BA:BA,0),1))","v":""},"","","","",{"$f":"IF(BP449=\"\",\"\",INDEX(referentes!AE:AF,MATCH(BP449,referentes!AF:AF,0),1))","v":""},{"$f":"IF(BQ449=\"\",\"\",INDEX(referentes!AH:AI,MATCH(BQ449,referentes!AI:AI,0),1))","v":""},null,{"$f":"IF(D449=\"\",\"\",INDEX(referentes!A:B,MATCH(D449,referentes!B:B,0),1))","v":""},{"$f":"IF(AT449=\"\",\"\",INDEX(referentes!Y:Z,MATCH(AT449,referentes!Z:Z,0),1))","v":""},{"$f":"IF(AU449=\"\",\"\",INDEX(referentes!AB:AC,MATCH(AU449,referentes!AC:AC,0),1))","v":""}]
[null,{"$f":"IF(BT450=\"\",\"\",IF(COUNTIF($BT450:BT450, BT450)>1, \"\", BT450))","v":""},null,null,null,null,null,null,null,null,null,null,{"$f":"IF(L450=\"\",\"\",INDEX(referentes!AK:AL,MATCH(L450,referentes!AL:AL,0),1))","v":""},"",null,449,{"$f":"IF(K450=\"\",\"\",INDEX('Otras referencias'!F:I,MATCH(K450,'Otras referencias'!I:I,0),1))","v":""},"",null,null,null,null,null,null,null,null,null,null,null,null,null,null,null,null,null,null,null,null,null,null,null,null,null,null,null,null,null,null,null,null,null,null,0,0,0,0,0,0,0,0,null,null,null,null,null,0,null,null,null,null,null,{"$f":"IF(R450<>\"\",CONCATENATE($A$2,DIGITADOR!$M$1,ROW()-2),\"\")","v":""},"",{"$f":"IF(E450=\"\",\"\",INDEX(referentes!D:E,MATCH(E450,referentes!E:E,0),1))","v":""},{"$f":"IF(F450=\"\",\"\",INDEX(referentes!J:K,MATCH(F450,referentes!K:K,0),1))","v":""},{"$f":"IF(AI450=\"\",\"\",INDEX(referentes!M:N,MATCH(AI450,referentes!N:N,0),1))","v":""},{"$f":"IF(I450=\"\",\"\",INDEX(referentes!P:Q,MATCH(I450,referentes!Q:Q,0),1))","v":""},{"$f":"IF(J450=\"\",\"\",INDEX(referentes!S:T,MATCH(J450,referentes!T:T,0),1))","v":""},{"$f":"IF(AB450=\"\",\"\",INDEX(referentes!V:W,MATCH(AB450,referentes!W:W,0),1))","v":""},{"$f":"IF(Y450=\"\",\"\",INDEX(referentes!AZ:BA,MATCH(Y450,referentes!BA:BA,0),1))","v":""},"","","","",{"$f":"IF(BP450=\"\",\"\",INDEX(referentes!AE:AF,MATCH(BP450,referentes!AF:AF,0),1))","v":""},{"$f":"IF(BQ450=\"\",\"\",INDEX(referentes!AH:AI,MATCH(BQ450,referentes!AI:AI,0),1))","v":""},null,{"$f":"IF(D450=\"\",\"\",INDEX(referentes!A:B,MATCH(D450,referentes!B:B,0),1))","v":""},{"$f":"IF(AT450=\"\",\"\",INDEX(referentes!Y:Z,MATCH(AT450,referentes!Z:Z,0),1))","v":""},{"$f":"IF(AU450=\"\",\"\",INDEX(referentes!AB:AC,MATCH(AU450,referentes!AC:AC,0),1))","v":""}]
[null,{"$f":"IF(BT451=\"\",\"\",IF(COUNTIF($BT451:BT451, BT451)>1, \"\", BT451))","v":""},null,null,null,null,null,null,null,null,null,null,{"$f":"IF(L451=\"\",\"\",INDEX(referentes!AK:AL,MATCH(L451,referentes!AL:AL,0),1))","v":""},"",null,450,{"$f":"IF(K451=\"\",\"\",INDEX('Otras referencias'!F:I,MATCH(K451,'Otras referencias'!I:I,0),1))","v":""},{"$f":"IF(U451=\"\",\"\",DATEVALUE(CONCATENATE(U451,\"/\",TEXT(V451,\"00\"),\"/\",TEXT(W451,\"00\"))))","v":""},null,null,null,null,null,null,null,null,null,null,null,null,null,null,null,null,null,null,null,null,null,null,null,null,null,null,null,null,null,null,null,null,null,null,{"$f":"IF(ISERR(FIND($BA$1,AZ451)),0,1)","v":0},{"$f":"IF(ISERR(FIND($BB$1,AZ451)),0,1)","v":0},{"$f":"IF(ISERR(FIND($BC$1,AZ451)),0,1)","v":0},{"$f":"IF(ISERR(FIND($BD$1,AZ451)),0,1)","v":0},{"$f":"IF(ISERR(FIND($BE$1,AZ451)),0,1)","v":0},{"$f":"IF(ISERR(FIND($BF$1,AZ451)),0,1)","v":0},{"$f":"IF(ISERR(FIND($BG$1,AZ451)),0,1)","v":0},{"$f":"IF(ISERR(FIND($BH$1,AZ451)),0,1)","v":0},null,null,null,null,null,{"$f":"BA451+2*BB451+4*BC451+8*BD451+16*BE451+32*BF451+64*BG451+128*BH451","v":0},null,null,null,null,null,{"$f":"IF(R451<>\"\",CONCATENATE($A$2,DIGITADOR!$M$1,ROW()-2),\"\")","v":""},{"$f":"IF(B451=\"\",\"\",CONCATENATE(B451,ROW()-1))","v":""},{"$f":"IF(E451=\"\",\"\",INDEX(referentes!D:E,MATCH(E451,referentes!E:E,0),1))","v":""},{"$f":"IF(F451=\"\",\"\",INDEX(referentes!J:K,MATCH(F451,referentes!K:K,0),1))","v":""},{"$f":"IF(AI451=\"\",\"\",INDEX(referentes!M:N,MATCH(AI451,referentes!N:N,0),1))","v":""},{"$f":"IF(I451=\"\",\"\",INDEX(referentes!P:Q,MATCH(I451,referentes!Q:Q,0),1))","v":""},{"$f":"IF(J451=\"\",\"\",INDEX(referentes!S:T,MATCH(J451,referentes!T:T,0),1))","v":""},{"$f":"IF(AB451=\"\",\"\",INDEX(referentes!V:W,MATCH(AB451,referentes!W:W,0),1))","v":""},{"$f":"IF(Y451=\"\",\"\",INDEX(referentes!AZ:BA,MATCH(Y451,referentes!BA:BA,0),1))","v":""},{"$f":"IF(Z451=\"\",IF(R451=\"\",\"\",R451),R451+Z451)","v":""},{"$f":"IF(AA451=\"\",IF(R451=\"\",\"\",R451),R451+AA451)","v":""},{"$f":"IF(OR(AC451=\"\",AD451=\"\",AE451=\"\"),\"\",AD451/60+AE451/3600+AC451)","v":""},{"$f":"IF(OR(AF451=\"\",AG451=\"\",AH451=\"\"),\"\",(ABS(AF451)+(AG451/60)+(AH451/3600))*-1)","v":""},{"$f":"IF(BP451=\"\",\"\",INDEX(referentes!AE:AF,MATCH(BP451,referentes!AF:AF,0),1))","v":""},{"$f":"IF(BQ451=\"\",\"\",INDEX(referentes!AH:AI,MATCH(BQ451,referentes!AI:AI,0),1))","v":""},null,{"$f":"IF(D451=\"\",\"\",INDEX(referentes!A:B,MATCH(D451,referentes!B:B,0),1))","v":""},{"$f":"IF(AT451=\"\",\"\",INDEX(referentes!Y:Z,MATCH(AT451,referentes!Z:Z,0),1))","v":""},{"$f":"IF(AU451=\"\",\"\",INDEX(referentes!AB:AC,MATCH(AU451,referentes!AC:AC,0),1))","v":""}]
[null,{"$f":"IF(BT452=\"\",\"\",IF(COUNTIF($BT452:BT452, BT452)>1, \"\", BT452))","v":""},null,null,null,null,null,null,null,null,null,null,{"$f":"IF(L452=\"\",\"\",INDEX(referentes!AK:AL,MATCH(L452,referentes!AL:AL,0),1))","v":""},{"$f":"IF(B452=B451,\"\",IF(R451=\"\",\"\",R451))","v":""},null,{"$f":"P451+1","v":451},{"$f":"IF(K452=\"\",\"\",INDEX('Otras referencias'!F:I,MATCH(K452,'Otras referencias'!I:I,0),1))","v":""},"",null,null,null,null,null,null,null,null,null,null,null,null,null,null,null,null,null,null,null,null,null,null,null,null,null,null,null,null,null,null,null,null,null,null,0,0,0,0,0,0,0,0,null,null,null,null,null,0,null,null,null,null,null,{"$f":"IF(R452<>\"\",CONCATENATE($A$2,DIGITADOR!$M$1,ROW()-2),\"\")","v":""},"",{"$f":"IF(E452=\"\",\"\",INDEX(referentes!D:E,MATCH(E452,referentes!E:E,0),1))","v":""},{"$f":"IF(F452=\"\",\"\",INDEX(referentes!J:K,MATCH(F452,referentes!K:K,0),1))","v":""},{"$f":"IF(AI452=\"\",\"\",INDEX(referentes!M:N,MATCH(AI452,referentes!N:N,0),1))","v":""},{"$f":"IF(I452=\"\",\"\",INDEX(referentes!P:Q,MATCH(I452,referentes!Q:Q,0),1))","v":""},{"$f":"IF(J452=\"\",\"\",INDEX(referentes!S:T,MATCH(J452,referentes!T:T,0),1))","v":""},{"$f":"IF(AB452=\"\",\"\",INDEX(referentes!V:W,MATCH(AB452,referentes!W:W,0),1))","v":""},{"$f":"IF(Y452=\"\",\"\",INDEX(referentes!AZ:BA,MATCH(Y452,referentes!BA:BA,0),1))","v":""},"","","","",{"$f":"IF(BP452=\"\",\"\",INDEX(referentes!AE:AF,MATCH(BP452,referentes!AF:AF,0),1))","v":""},{"$f":"IF(BQ452=\"\",\"\",INDEX(referentes!AH:AI,MATCH(BQ452,referentes!AI:AI,0),1))","v":""},null,{"$f":"IF(D452=\"\",\"\",INDEX(referentes!A:B,MATCH(D452,referentes!B:B,0),1))","v":""},{"$f":"IF(AT452=\"\",\"\",INDEX(referentes!Y:Z,MATCH(AT452,referentes!Z:Z,0),1))","v":""},{"$f":"IF(AU452=\"\",\"\",INDEX(referentes!AB:AC,MATCH(AU452,referentes!AC:AC,0),1))","v":""}]
[null,{"$f":"IF(BT453=\"\",\"\",IF(COUNTIF($BT453:BT453, BT453)>1, \"\", BT453))","v":""},null,null,null,null,null,null,null,null,null,null,{"$f":"IF(L453=\"\",\"\",INDEX(referentes!AK:AL,MATCH(L453,referentes!AL:AL,0),1))","v":""},"",null,452,{"$f":"IF(K453=\"\",\"\",INDEX('Otras referencias'!F:I,MATCH(K453,'Otras referencias'!I:I,0),1))","v":""},"",null,null,null,null,null,null,null,null,null,null,null,null,null,null,null,null,null,null,null,null,null,null,null,null,null,null,null,null,null,null,null,null,null,null,0,0,0,0,0,0,0,0,null,null,null,null,null,0,null,null,null,null,null,{"$f":"IF(R453<>\"\",CONCATENATE($A$2,DIGITADOR!$M$1,ROW()-2),\"\")","v":""},"",{"$f":"IF(E453=\"\",\"\",INDEX(referentes!D:E,MATCH(E453,referentes!E:E,0),1))","v":""},{"$f":"IF(F453=\"\",\"\",INDEX(referentes!J:K,MATCH(F453,referentes!K:K,0),1))","v":""},{"$f":"IF(AI453=\"\",\"\",INDEX(referentes!M:N,MATCH(AI453,referentes!N:N,0),1))","v":""},{"$f":"IF(I453=\"\",\"\",INDEX(referentes!P:Q,MATCH(I453,referentes!Q:Q,0),1))","v":""},{"$f":"IF(J453=\"\",\"\",INDEX(referentes!S:T,MATCH(J453,referentes!T:T,0),1))","v":""},{"$f":"IF(AB453=\"\",\"\",INDEX(referentes!V:W,MATCH(AB453,referentes!W:W,0),1))","v":""},{"$f":"IF(Y453=\"\",\"\",INDEX(referentes!AZ:BA,MATCH(Y453,referentes!BA:BA,0),1))","v":""},"","","","",{"$f":"IF(BP453=\"\",\"\",INDEX(referentes!AE:AF,MATCH(BP453,referentes!AF:AF,0),1))","v":""},{"$f":"IF(BQ453=\"\",\"\",INDEX(referentes!AH:AI,MATCH(BQ453,referentes!AI:AI,0),1))","v":""},null,{"$f":"IF(D453=\"\",\"\",INDEX(referentes!A:B,MATCH(D453,referentes!B:B,0),1))","v":""},{"$f":"IF(AT453=\"\",\"\",INDEX(referentes!Y:Z,MATCH(AT453,referentes!Z:Z,0),1))","v":""},{"$f":"IF(AU453=\"\",\"\",INDEX(referentes!AB:AC,MATCH(AU453,referentes!AC:AC,0),1))","v":""}]
[null,{"$f":"IF(BT454=\"\",\"\",IF(COUNTIF($BT454:BT454, BT454)>1, \"\", BT454))","v":""},null,null,null,null,null,null,null,null,null,null,{"$f":"IF(L454=\"\",\"\",INDEX(referentes!AK:AL,MATCH(L454,referentes!AL:AL,0),1))","v":""},"",null,453,{"$f":"IF(K454=\"\",\"\",INDEX('Otras referencias'!F:I,MATCH(K454,'Otras referencias'!I:I,0),1))","v":""},"",null,null,null,null,null,null,null,null,null,null,null,null,null,null,null,null,null,null,null,null,null,null,null,null,null,null,null,null,null,null,null,null,null,null,0,0,0,0,0,0,0,0,null,null,null,null,null,0,null,null,null,null,null,{"$f":"IF(R454<>\"\",CONCATENATE($A$2,DIGITADOR!$M$1,ROW()-2),\"\")","v":""},"",{"$f":"IF(E454=\"\",\"\",INDEX(referentes!D:E,MATCH(E454,referentes!E:E,0),1))","v":""},{"$f":"IF(F454=\"\",\"\",INDEX(referentes!J:K,MATCH(F454,referentes!K:K,0),1))","v":""},{"$f":"IF(AI454=\"\",\"\",INDEX(referentes!M:N,MATCH(AI454,referentes!N:N,0),1))","v":""},{"$f":"IF(I454=\"\",\"\",INDEX(referentes!P:Q,MATCH(I454,referentes!Q:Q,0),1))","v":""},{"$f":"IF(J454=\"\",\"\",INDEX(referentes!S:T,MATCH(J454,referentes!T:T,0),1))","v":""},{"$f":"IF(AB454=\"\",\"\",INDEX(referentes!V:W,MATCH(AB454,referentes!W:W,0),1))","v":""},{"$f":"IF(Y454=\"\",\"\",INDEX(referentes!AZ:BA,MATCH(Y454,referentes!BA:BA,0),1))","v":""},"","","","",{"$f":"IF(BP454=\"\",\"\",INDEX(referentes!AE:AF,MATCH(BP454,referentes!AF:AF,0),1))","v":""},{"$f":"IF(BQ454=\"\",\"\",INDEX(referentes!AH:AI,MATCH(BQ454,referentes!AI:AI,0),1))","v":""},null,{"$f":"IF(D454=\"\",\"\",INDEX(referentes!A:B,MATCH(D454,referentes!B:B,0),1))","v":""},{"$f":"IF(AT454=\"\",\"\",INDEX(referentes!Y:Z,MATCH(AT454,referentes!Z:Z,0),1))","v":""},{"$f":"IF(AU454=\"\",\"\",INDEX(referentes!AB:AC,MATCH(AU454,referentes!AC:AC,0),1))","v":""}]
[null,{"$f":"IF(BT455=\"\",\"\",IF(COUNTIF($BT455:BT455, BT455)>1, \"\", BT455))","v":""},null,null,null,null,null,null,null,null,null,null,{"$f":"IF(L455=\"\",\"\",INDEX(referentes!AK:AL,MATCH(L455,referentes!AL:AL,0),1))","v":""},"",null,454,{"$f":"IF(K455=\"\",\"\",INDEX('Otras referencias'!F:I,MATCH(K455,'Otras referencias'!I:I,0),1))","v":""},"",null,null,null,null,null,null,null,null,null,null,null,null,null,null,null,null,null,null,null,null,null,null,null,null,null,null,null,null,null,null,null,null,null,null,0,0,0,0,0,0,0,0,null,null,null,null,null,0,null,null,null,null,null,{"$f":"IF(R455<>\"\",CONCATENATE($A$2,DIGITADOR!$M$1,ROW()-2),\"\")","v":""},"",{"$f":"IF(E455=\"\",\"\",INDEX(referentes!D:E,MATCH(E455,referentes!E:E,0),1))","v":""},{"$f":"IF(F455=\"\",\"\",INDEX(referentes!J:K,MATCH(F455,referentes!K:K,0),1))","v":""},{"$f":"IF(AI455=\"\",\"\",INDEX(referentes!M:N,MATCH(AI455,referentes!N:N,0),1))","v":""},{"$f":"IF(I455=\"\",\"\",INDEX(referentes!P:Q,MATCH(I455,referentes!Q:Q,0),1))","v":""},{"$f":"IF(J455=\"\",\"\",INDEX(referentes!S:T,MATCH(J455,referentes!T:T,0),1))","v":""},{"$f":"IF(AB455=\"\",\"\",INDEX(referentes!V:W,MATCH(AB455,referentes!W:W,0),1))","v":""},{"$f":"IF(Y455=\"\",\"\",INDEX(referentes!AZ:BA,MATCH(Y455,referentes!BA:BA,0),1))","v":""},"","","","",{"$f":"IF(BP455=\"\",\"\",INDEX(referentes!AE:AF,MATCH(BP455,referentes!AF:AF,0),1))","v":""},{"$f":"IF(BQ455=\"\",\"\",INDEX(referentes!AH:AI,MATCH(BQ455,referentes!AI:AI,0),1))","v":""},null,{"$f":"IF(D455=\"\",\"\",INDEX(referentes!A:B,MATCH(D455,referentes!B:B,0),1))","v":""},{"$f":"IF(AT455=\"\",\"\",INDEX(referentes!Y:Z,MATCH(AT455,referentes!Z:Z,0),1))","v":""},{"$f":"IF(AU455=\"\",\"\",INDEX(referentes!AB:AC,MATCH(AU455,referentes!AC:AC,0),1))","v":""}]
[null,{"$f":"IF(BT456=\"\",\"\",IF(COUNTIF($BT456:BT456, BT456)>1, \"\", BT456))","v":""},null,null,null,null,null,null,null,null,null,null,{"$f":"IF(L456=\"\",\"\",INDEX(referentes!AK:AL,MATCH(L456,referentes!AL:AL,0),1))","v":""},"",null,455,{"$f":"IF(K456=\"\",\"\",INDEX('Otras referencias'!F:I,MATCH(K456,'Otras referencias'!I:I,0),1))","v":""},"",null,null,null,null,null,null,null,null,null,null,null,null,null,null,null,null,null,null,null,null,null,null,null,null,null,null,null,null,null,null,null,null,null,null,0,0,0,0,0,0,0,0,null,null,null,null,null,0,null,null,null,null,null,{"$f":"IF(R456<>\"\",CONCATENATE($A$2,DIGITADOR!$M$1,ROW()-2),\"\")","v":""},"",{"$f":"IF(E456=\"\",\"\",INDEX(referentes!D:E,MATCH(E456,referentes!E:E,0),1))","v":""},{"$f":"IF(F456=\"\",\"\",INDEX(referentes!J:K,MATCH(F456,referentes!K:K,0),1))","v":""},{"$f":"IF(AI456=\"\",\"\",INDEX(referentes!M:N,MATCH(AI456,referentes!N:N,0),1))","v":""},{"$f":"IF(I456=\"\",\"\",INDEX(referentes!P:Q,MATCH(I456,referentes!Q:Q,0),1))","v":""},{"$f":"IF(J456=\"\",\"\",INDEX(referentes!S:T,MATCH(J456,referentes!T:T,0),1))","v":""},{"$f":"IF(AB456=\"\",\"\",INDEX(referentes!V:W,MATCH(AB456,referentes!W:W,0),1))","v":""},{"$f":"IF(Y456=\"\",\"\",INDEX(referentes!AZ:BA,MATCH(Y456,referentes!BA:BA,0),1))","v":""},"","","","",{"$f":"IF(BP456=\"\",\"\",INDEX(referentes!AE:AF,MATCH(BP456,referentes!AF:AF,0),1))","v":""},{"$f":"IF(BQ456=\"\",\"\",INDEX(referentes!AH:AI,MATCH(BQ456,referentes!AI:AI,0),1))","v":""},null,{"$f":"IF(D456=\"\",\"\",INDEX(referentes!A:B,MATCH(D456,referentes!B:B,0),1))","v":""},{"$f":"IF(AT456=\"\",\"\",INDEX(referentes!Y:Z,MATCH(AT456,referentes!Z:Z,0),1))","v":""},{"$f":"IF(AU456=\"\",\"\",INDEX(referentes!AB:AC,MATCH(AU456,referentes!AC:AC,0),1))","v":""}]
[null,{"$f":"IF(BT457=\"\",\"\",IF(COUNTIF($BT457:BT457, BT457)>1, \"\", BT457))","v":""},null,null,null,null,null,null,null,null,null,null,{"$f":"IF(L457=\"\",\"\",INDEX(referentes!AK:AL,MATCH(L457,referentes!AL:AL,0),1))","v":""},"",null,456,{"$f":"IF(K457=\"\",\"\",INDEX('Otras referencias'!F:I,MATCH(K457,'Otras referencias'!I:I,0),1))","v":""},"",null,null,null,null,null,null,null,null,null,null,null,null,null,null,null,null,null,null,null,null,null,null,null,null,null,null,null,null,null,null,null,null,null,null,0,0,0,0,0,0,0,0,null,null,null,null,null,0,null,null,null,null,null,{"$f":"IF(R457<>\"\",CONCATENATE($A$2,DIGITADOR!$M$1,ROW()-2),\"\")","v":""},"",{"$f":"IF(E457=\"\",\"\",INDEX(referentes!D:E,MATCH(E457,referentes!E:E,0),1))","v":""},{"$f":"IF(F457=\"\",\"\",INDEX(referentes!J:K,MATCH(F457,referentes!K:K,0),1))","v":""},{"$f":"IF(AI457=\"\",\"\",INDEX(referentes!M:N,MATCH(AI457,referentes!N:N,0),1))","v":""},{"$f":"IF(I457=\"\",\"\",INDEX(referentes!P:Q,MATCH(I457,referentes!Q:Q,0),1))","v":""},{"$f":"IF(J457=\"\",\"\",INDEX(referentes!S:T,MATCH(J457,referentes!T:T,0),1))","v":""},{"$f":"IF(AB457=\"\",\"\",INDEX(referentes!V:W,MATCH(AB457,referentes!W:W,0),1))","v":""},{"$f":"IF(Y457=\"\",\"\",INDEX(referentes!AZ:BA,MATCH(Y457,referentes!BA:BA,0),1))","v":""},"","","","",{"$f":"IF(BP457=\"\",\"\",INDEX(referentes!AE:AF,MATCH(BP457,referentes!AF:AF,0),1))","v":""},{"$f":"IF(BQ457=\"\",\"\",INDEX(referentes!AH:AI,MATCH(BQ457,referentes!AI:AI,0),1))","v":""},null,{"$f":"IF(D457=\"\",\"\",INDEX(referentes!A:B,MATCH(D457,referentes!B:B,0),1))","v":""},{"$f":"IF(AT457=\"\",\"\",INDEX(referentes!Y:Z,MATCH(AT457,referentes!Z:Z,0),1))","v":""},{"$f":"IF(AU457=\"\",\"\",INDEX(referentes!AB:AC,MATCH(AU457,referentes!AC:AC,0),1))","v":""}]
[null,{"$f":"IF(BT458=\"\",\"\",IF(COUNTIF($BT458:BT458, BT458)>1, \"\", BT458))","v":""},null,null,null,null,null,null,null,null,null,null,{"$f":"IF(L458=\"\",\"\",INDEX(referentes!AK:AL,MATCH(L458,referentes!AL:AL,0),1))","v":""},"",null,457,{"$f":"IF(K458=\"\",\"\",INDEX('Otras referencias'!F:I,MATCH(K458,'Otras referencias'!I:I,0),1))","v":""},"",null,null,null,null,null,null,null,null,null,null,null,null,null,null,null,null,null,null,null,null,null,null,null,null,null,null,null,null,null,null,null,null,null,null,0,0,0,0,0,0,0,0,null,null,null,null,null,0,null,null,null,null,null,{"$f":"IF(R458<>\"\",CONCATENATE($A$2,DIGITADOR!$M$1,ROW()-2),\"\")","v":""},"",{"$f":"IF(E458=\"\",\"\",INDEX(referentes!D:E,MATCH(E458,referentes!E:E,0),1))","v":""},{"$f":"IF(F458=\"\",\"\",INDEX(referentes!J:K,MATCH(F458,referentes!K:K,0),1))","v":""},{"$f":"IF(AI458=\"\",\"\",INDEX(referentes!M:N,MATCH(AI458,referentes!N:N,0),1))","v":""},{"$f":"IF(I458=\"\",\"\",INDEX(referentes!P:Q,MATCH(I458,referentes!Q:Q,0),1))","v":""},{"$f":"IF(J458=\"\",\"\",INDEX(referentes!S:T,MATCH(J458,referentes!T:T,0),1))","v":""},{"$f":"IF(AB458=\"\",\"\",INDEX(referentes!V:W,MATCH(AB458,referentes!W:W,0),1))","v":""},{"$f":"IF(Y458=\"\",\"\",INDEX(referentes!AZ:BA,MATCH(Y458,referentes!BA:BA,0),1))","v":""},"","","","",{"$f":"IF(BP458=\"\",\"\",INDEX(referentes!AE:AF,MATCH(BP458,referentes!AF:AF,0),1))","v":""},{"$f":"IF(BQ458=\"\",\"\",INDEX(referentes!AH:AI,MATCH(BQ458,referentes!AI:AI,0),1))","v":""},null,{"$f":"IF(D458=\"\",\"\",INDEX(referentes!A:B,MATCH(D458,referentes!B:B,0),1))","v":""},{"$f":"IF(AT458=\"\",\"\",INDEX(referentes!Y:Z,MATCH(AT458,referentes!Z:Z,0),1))","v":""},{"$f":"IF(AU458=\"\",\"\",INDEX(referentes!AB:AC,MATCH(AU458,referentes!AC:AC,0),1))","v":""}]
[null,{"$f":"IF(BT459=\"\",\"\",IF(COUNTIF($BT459:BT459, BT459)>1, \"\", BT459))","v":""},null,null,null,null,null,null,null,null,null,null,{"$f":"IF(L459=\"\",\"\",INDEX(referentes!AK:AL,MATCH(L459,referentes!AL:AL,0),1))","v":""},"",null,458,{"$f":"IF(K459=\"\",\"\",INDEX('Otras referencias'!F:I,MATCH(K459,'Otras referencias'!I:I,0),1))","v":""},"",null,null,null,null,null,null,null,null,null,null,null,null,null,null,null,null,null,null,null,null,null,null,null,null,null,null,null,null,null,null,null,null,null,null,0,0,0,0,0,0,0,0,null,null,null,null,null,0,null,null,null,null,null,{"$f":"IF(R459<>\"\",CONCATENATE($A$2,DIGITADOR!$M$1,ROW()-2),\"\")","v":""},"",{"$f":"IF(E459=\"\",\"\",INDEX(referentes!D:E,MATCH(E459,referentes!E:E,0),1))","v":""},{"$f":"IF(F459=\"\",\"\",INDEX(referentes!J:K,MATCH(F459,referentes!K:K,0),1))","v":""},{"$f":"IF(AI459=\"\",\"\",INDEX(referentes!M:N,MATCH(AI459,referentes!N:N,0),1))","v":""},{"$f":"IF(I459=\"\",\"\",INDEX(referentes!P:Q,MATCH(I459,referentes!Q:Q,0),1))","v":""},{"$f":"IF(J459=\"\",\"\",INDEX(referentes!S:T,MATCH(J459,referentes!T:T,0),1))","v":""},{"$f":"IF(AB459=\"\",\"\",INDEX(referentes!V:W,MATCH(AB459,referentes!W:W,0),1))","v":""},{"$f":"IF(Y459=\"\",\"\",INDEX(referentes!AZ:BA,MATCH(Y459,referentes!BA:BA,0),1))","v":""},"","","","",{"$f":"IF(BP459=\"\",\"\",INDEX(referentes!AE:AF,MATCH(BP459,referentes!AF:AF,0),1))","v":""},{"$f":"IF(BQ459=\"\",\"\",INDEX(referentes!AH:AI,MATCH(BQ459,referentes!AI:AI,0),1))","v":""},null,{"$f":"IF(D459=\"\",\"\",INDEX(referentes!A:B,MATCH(D459,referentes!B:B,0),1))","v":""},{"$f":"IF(AT459=\"\",\"\",INDEX(referentes!Y:Z,MATCH(AT459,referentes!Z:Z,0),1))","v":""},{"$f":"IF(AU459=\"\",\"\",INDEX(referentes!AB:AC,MATCH(AU459,referentes!AC:AC,0),1))","v":""}]
[null,{"$f":"IF(BT460=\"\",\"\",IF(COUNTIF($BT460:BT460, BT460)>1, \"\", BT460))","v":""},null,null,null,null,null,null,null,null,null,null,{"$f":"IF(L460=\"\",\"\",INDEX(referentes!AK:AL,MATCH(L460,referentes!AL:AL,0),1))","v":""},"",null,459,{"$f":"IF(K460=\"\",\"\",INDEX('Otras referencias'!F:I,MATCH(K460,'Otras referencias'!I:I,0),1))","v":""},"",null,null,null,null,null,null,null,null,null,null,null,null,null,null,null,null,null,null,null,null,null,null,null,null,null,null,null,null,null,null,null,null,null,null,0,0,0,0,0,0,0,0,null,null,null,null,null,0,null,null,null,null,null,{"$f":"IF(R460<>\"\",CONCATENATE($A$2,DIGITADOR!$M$1,ROW()-2),\"\")","v":""},"",{"$f":"IF(E460=\"\",\"\",INDEX(referentes!D:E,MATCH(E460,referentes!E:E,0),1))","v":""},{"$f":"IF(F460=\"\",\"\",INDEX(referentes!J:K,MATCH(F460,referentes!K:K,0),1))","v":""},{"$f":"IF(AI460=\"\",\"\",INDEX(referentes!M:N,MATCH(AI460,referentes!N:N,0),1))","v":""},{"$f":"IF(I460=\"\",\"\",INDEX(referentes!P:Q,MATCH(I460,referentes!Q:Q,0),1))","v":""},{"$f":"IF(J460=\"\",\"\",INDEX(referentes!S:T,MATCH(J460,referentes!T:T,0),1))","v":""},{"$f":"IF(AB460=\"\",\"\",INDEX(referentes!V:W,MATCH(AB460,referentes!W:W,0),1))","v":""},{"$f":"IF(Y460=\"\",\"\",INDEX(referentes!AZ:BA,MATCH(Y460,referentes!BA:BA,0),1))","v":""},"","","","",{"$f":"IF(BP460=\"\",\"\",INDEX(referentes!AE:AF,MATCH(BP460,referentes!AF:AF,0),1))","v":""},{"$f":"IF(BQ460=\"\",\"\",INDEX(referentes!AH:AI,MATCH(BQ460,referentes!AI:AI,0),1))","v":""},null,{"$f":"IF(D460=\"\",\"\",INDEX(referentes!A:B,MATCH(D460,referentes!B:B,0),1))","v":""},{"$f":"IF(AT460=\"\",\"\",INDEX(referentes!Y:Z,MATCH(AT460,referentes!Z:Z,0),1))","v":""},{"$f":"IF(AU460=\"\",\"\",INDEX(referentes!AB:AC,MATCH(AU460,referentes!AC:AC,0),1))","v":""}]
[null,{"$f":"IF(BT461=\"\",\"\",IF(COUNTIF($BT461:BT461, BT461)>1, \"\", BT461))","v":""},null,null,null,null,null,null,null,null,null,null,{"$f":"IF(L461=\"\",\"\",INDEX(referentes!AK:AL,MATCH(L461,referentes!AL:AL,0),1))","v":""},"",null,460,{"$f":"IF(K461=\"\",\"\",INDEX('Otras referencias'!F:I,MATCH(K461,'Otras referencias'!I:I,0),1))","v":""},"",null,null,null,null,null,null,null,null,null,null,null,null,null,null,null,null,null,null,null,null,null,null,null,null,null,null,null,null,null,null,null,null,null,null,0,0,0,0,0,0,0,0,null,null,null,null,null,0,null,null,null,null,null,{"$f":"IF(R461<>\"\",CONCATENATE($A$2,DIGITADOR!$M$1,ROW()-2),\"\")","v":""},"",{"$f":"IF(E461=\"\",\"\",INDEX(referentes!D:E,MATCH(E461,referentes!E:E,0),1))","v":""},{"$f":"IF(F461=\"\",\"\",INDEX(referentes!J:K,MATCH(F461,referentes!K:K,0),1))","v":""},{"$f":"IF(AI461=\"\",\"\",INDEX(referentes!M:N,MATCH(AI461,referentes!N:N,0),1))","v":""},{"$f":"IF(I461=\"\",\"\",INDEX(referentes!P:Q,MATCH(I461,referentes!Q:Q,0),1))","v":""},{"$f":"IF(J461=\"\",\"\",INDEX(referentes!S:T,MATCH(J461,referentes!T:T,0),1))","v":""},{"$f":"IF(AB461=\"\",\"\",INDEX(referentes!V:W,MATCH(AB461,referentes!W:W,0),1))","v":""},{"$f":"IF(Y461=\"\",\"\",INDEX(referentes!AZ:BA,MATCH(Y461,referentes!BA:BA,0),1))","v":""},"","","","",{"$f":"IF(BP461=\"\",\"\",INDEX(referentes!AE:AF,MATCH(BP461,referentes!AF:AF,0),1))","v":""},{"$f":"IF(BQ461=\"\",\"\",INDEX(referentes!AH:AI,MATCH(BQ461,referentes!AI:AI,0),1))","v":""},null,{"$f":"IF(D461=\"\",\"\",INDEX(referentes!A:B,MATCH(D461,referentes!B:B,0),1))","v":""},{"$f":"IF(AT461=\"\",\"\",INDEX(referentes!Y:Z,MATCH(AT461,referentes!Z:Z,0),1))","v":""},{"$f":"IF(AU461=\"\",\"\",INDEX(referentes!AB:AC,MATCH(AU461,referentes!AC:AC,0),1))","v":""}]
[null,{"$f":"IF(BT462=\"\",\"\",IF(COUNTIF($BT462:BT462, BT462)>1, \"\", BT462))","v":""},null,null,null,null,null,null,null,null,null,null,{"$f":"IF(L462=\"\",\"\",INDEX(referentes!AK:AL,MATCH(L462,referentes!AL:AL,0),1))","v":""},"",null,461,{"$f":"IF(K462=\"\",\"\",INDEX('Otras referencias'!F:I,MATCH(K462,'Otras referencias'!I:I,0),1))","v":""},"",null,null,null,null,null,null,null,null,null,null,null,null,null,null,null,null,null,null,null,null,null,null,null,null,null,null,null,null,null,null,null,null,null,null,0,0,0,0,0,0,0,0,null,null,null,null,null,0,null,null,null,null,null,{"$f":"IF(R462<>\"\",CONCATENATE($A$2,DIGITADOR!$M$1,ROW()-2),\"\")","v":""},"",{"$f":"IF(E462=\"\",\"\",INDEX(referentes!D:E,MATCH(E462,referentes!E:E,0),1))","v":""},{"$f":"IF(F462=\"\",\"\",INDEX(referentes!J:K,MATCH(F462,referentes!K:K,0),1))","v":""},{"$f":"IF(AI462=\"\",\"\",INDEX(referentes!M:N,MATCH(AI462,referentes!N:N,0),1))","v":""},{"$f":"IF(I462=\"\",\"\",INDEX(referentes!P:Q,MATCH(I462,referentes!Q:Q,0),1))","v":""},{"$f":"IF(J462=\"\",\"\",INDEX(referentes!S:T,MATCH(J462,referentes!T:T,0),1))","v":""},{"$f":"IF(AB462=\"\",\"\",INDEX(referentes!V:W,MATCH(AB462,referentes!W:W,0),1))","v":""},{"$f":"IF(Y462=\"\",\"\",INDEX(referentes!AZ:BA,MATCH(Y462,referentes!BA:BA,0),1))","v":""},"","","","",{"$f":"IF(BP462=\"\",\"\",INDEX(referentes!AE:AF,MATCH(BP462,referentes!AF:AF,0),1))","v":""},{"$f":"IF(BQ462=\"\",\"\",INDEX(referentes!AH:AI,MATCH(BQ462,referentes!AI:AI,0),1))","v":""},null,{"$f":"IF(D462=\"\",\"\",INDEX(referentes!A:B,MATCH(D462,referentes!B:B,0),1))","v":""},{"$f":"IF(AT462=\"\",\"\",INDEX(referentes!Y:Z,MATCH(AT462,referentes!Z:Z,0),1))","v":""},{"$f":"IF(AU462=\"\",\"\",INDEX(referentes!AB:AC,MATCH(AU462,referentes!AC:AC,0),1))","v":""}]
[null,{"$f":"IF(BT463=\"\",\"\",IF(COUNTIF($BT463:BT463, BT463)>1, \"\", BT463))","v":""},null,null,null,null,null,null,null,null,null,null,{"$f":"IF(L463=\"\",\"\",INDEX(referentes!AK:AL,MATCH(L463,referentes!AL:AL,0),1))","v":""},"",null,462,{"$f":"IF(K463=\"\",\"\",INDEX('Otras referencias'!F:I,MATCH(K463,'Otras referencias'!I:I,0),1))","v":""},"",null,null,null,null,null,null,null,null,null,null,null,null,null,null,null,null,null,null,null,null,null,null,null,null,null,null,null,null,null,null,null,null,null,null,0,0,0,0,0,0,0,0,null,null,null,null,null,0,null,null,null,null,null,{"$f":"IF(R463<>\"\",CONCATENATE($A$2,DIGITADOR!$M$1,ROW()-2),\"\")","v":""},"",{"$f":"IF(E463=\"\",\"\",INDEX(referentes!D:E,MATCH(E463,referentes!E:E,0),1))","v":""},{"$f":"IF(F463=\"\",\"\",INDEX(referentes!J:K,MATCH(F463,referentes!K:K,0),1))","v":""},{"$f":"IF(AI463=\"\",\"\",INDEX(referentes!M:N,MATCH(AI463,referentes!N:N,0),1))","v":""},{"$f":"IF(I463=\"\",\"\",INDEX(referentes!P:Q,MATCH(I463,referentes!Q:Q,0),1))","v":""},{"$f":"IF(J463=\"\",\"\",INDEX(referentes!S:T,MATCH(J463,referentes!T:T,0),1))","v":""},{"$f":"IF(AB463=\"\",\"\",INDEX(referentes!V:W,MATCH(AB463,referentes!W:W,0),1))","v":""},{"$f":"IF(Y463=\"\",\"\",INDEX(referentes!AZ:BA,MATCH(Y463,referentes!BA:BA,0),1))","v":""},"","","","",{"$f":"IF(BP463=\"\",\"\",INDEX(referentes!AE:AF,MATCH(BP463,referentes!AF:AF,0),1))","v":""},{"$f":"IF(BQ463=\"\",\"\",INDEX(referentes!AH:AI,MATCH(BQ463,referentes!AI:AI,0),1))","v":""},null,{"$f":"IF(D463=\"\",\"\",INDEX(referentes!A:B,MATCH(D463,referentes!B:B,0),1))","v":""},{"$f":"IF(AT463=\"\",\"\",INDEX(referentes!Y:Z,MATCH(AT463,referentes!Z:Z,0),1))","v":""},{"$f":"IF(AU463=\"\",\"\",INDEX(referentes!AB:AC,MATCH(AU463,referentes!AC:AC,0),1))","v":""}]
[null,{"$f":"IF(BT464=\"\",\"\",IF(COUNTIF($BT464:BT464, BT464)>1, \"\", BT464))","v":""},null,null,null,null,null,null,null,null,null,null,{"$f":"IF(L464=\"\",\"\",INDEX(referentes!AK:AL,MATCH(L464,referentes!AL:AL,0),1))","v":""},"",null,463,{"$f":"IF(K464=\"\",\"\",INDEX('Otras referencias'!F:I,MATCH(K464,'Otras referencias'!I:I,0),1))","v":""},"",null,null,null,null,null,null,null,null,null,null,null,null,null,null,null,null,null,null,null,null,null,null,null,null,null,null,null,null,null,null,null,null,null,null,0,0,0,0,0,0,0,0,null,null,null,null,null,0,null,null,null,null,null,{"$f":"IF(R464<>\"\",CONCATENATE($A$2,DIGITADOR!$M$1,ROW()-2),\"\")","v":""},"",{"$f":"IF(E464=\"\",\"\",INDEX(referentes!D:E,MATCH(E464,referentes!E:E,0),1))","v":""},{"$f":"IF(F464=\"\",\"\",INDEX(referentes!J:K,MATCH(F464,referentes!K:K,0),1))","v":""},{"$f":"IF(AI464=\"\",\"\",INDEX(referentes!M:N,MATCH(AI464,referentes!N:N,0),1))","v":""},{"$f":"IF(I464=\"\",\"\",INDEX(referentes!P:Q,MATCH(I464,referentes!Q:Q,0),1))","v":""},{"$f":"IF(J464=\"\",\"\",INDEX(referentes!S:T,MATCH(J464,referentes!T:T,0),1))","v":""},{"$f":"IF(AB464=\"\",\"\",INDEX(referentes!V:W,MATCH(AB464,referentes!W:W,0),1))","v":""},{"$f":"IF(Y464=\"\",\"\",INDEX(referentes!AZ:BA,MATCH(Y464,referentes!BA:BA,0),1))","v":""},"","","","",{"$f":"IF(BP464=\"\",\"\",INDEX(referentes!AE:AF,MATCH(BP464,referentes!AF:AF,0),1))","v":""},{"$f":"IF(BQ464=\"\",\"\",INDEX(referentes!AH:AI,MATCH(BQ464,referentes!AI:AI,0),1))","v":""},null,{"$f":"IF(D464=\"\",\"\",INDEX(referentes!A:B,MATCH(D464,referentes!B:B,0),1))","v":""},{"$f":"IF(AT464=\"\",\"\",INDEX(referentes!Y:Z,MATCH(AT464,referentes!Z:Z,0),1))","v":""},{"$f":"IF(AU464=\"\",\"\",INDEX(referentes!AB:AC,MATCH(AU464,referentes!AC:AC,0),1))","v":""}]
[null,{"$f":"IF(BT465=\"\",\"\",IF(COUNTIF($BT465:BT465, BT465)>1, \"\", BT465))","v":""},null,null,null,null,null,null,null,null,null,null,{"$f":"IF(L465=\"\",\"\",INDEX(referentes!AK:AL,MATCH(L465,referentes!AL:AL,0),1))","v":""},"",null,464,{"$f":"IF(K465=\"\",\"\",INDEX('Otras referencias'!F:I,MATCH(K465,'Otras referencias'!I:I,0),1))","v":""},"",null,null,null,null,null,null,null,null,null,null,null,null,null,null,null,null,null,null,null,null,null,null,null,null,null,null,null,null,null,null,null,null,null,null,0,0,0,0,0,0,0,0,null,null,null,null,null,0,null,null,null,null,null,{"$f":"IF(R465<>\"\",CONCATENATE($A$2,DIGITADOR!$M$1,ROW()-2),\"\")","v":""},"",{"$f":"IF(E465=\"\",\"\",INDEX(referentes!D:E,MATCH(E465,referentes!E:E,0),1))","v":""},{"$f":"IF(F465=\"\",\"\",INDEX(referentes!J:K,MATCH(F465,referentes!K:K,0),1))","v":""},{"$f":"IF(AI465=\"\",\"\",INDEX(referentes!M:N,MATCH(AI465,referentes!N:N,0),1))","v":""},{"$f":"IF(I465=\"\",\"\",INDEX(referentes!P:Q,MATCH(I465,referentes!Q:Q,0),1))","v":""},{"$f":"IF(J465=\"\",\"\",INDEX(referentes!S:T,MATCH(J465,referentes!T:T,0),1))","v":""},{"$f":"IF(AB465=\"\",\"\",INDEX(referentes!V:W,MATCH(AB465,referentes!W:W,0),1))","v":""},{"$f":"IF(Y465=\"\",\"\",INDEX(referentes!AZ:BA,MATCH(Y465,referentes!BA:BA,0),1))","v":""},"","","","",{"$f":"IF(BP465=\"\",\"\",INDEX(referentes!AE:AF,MATCH(BP465,referentes!AF:AF,0),1))","v":""},{"$f":"IF(BQ465=\"\",\"\",INDEX(referentes!AH:AI,MATCH(BQ465,referentes!AI:AI,0),1))","v":""},null,{"$f":"IF(D465=\"\",\"\",INDEX(referentes!A:B,MATCH(D465,referentes!B:B,0),1))","v":""},{"$f":"IF(AT465=\"\",\"\",INDEX(referentes!Y:Z,MATCH(AT465,referentes!Z:Z,0),1))","v":""},{"$f":"IF(AU465=\"\",\"\",INDEX(referentes!AB:AC,MATCH(AU465,referentes!AC:AC,0),1))","v":""}]
[null,{"$f":"IF(BT466=\"\",\"\",IF(COUNTIF($BT466:BT466, BT466)>1, \"\", BT466))","v":""},null,null,null,null,null,null,null,null,null,null,{"$f":"IF(L466=\"\",\"\",INDEX(referentes!AK:AL,MATCH(L466,referentes!AL:AL,0),1))","v":""},"",null,465,{"$f":"IF(K466=\"\",\"\",INDEX('Otras referencias'!F:I,MATCH(K466,'Otras referencias'!I:I,0),1))","v":""},"",null,null,null,null,null,null,null,null,null,null,null,null,null,null,null,null,null,null,null,null,null,null,null,null,null,null,null,null,null,null,null,null,null,null,0,0,0,0,0,0,0,0,null,null,null,null,null,0,null,null,null,null,null,{"$f":"IF(R466<>\"\",CONCATENATE($A$2,DIGITADOR!$M$1,ROW()-2),\"\")","v":""},"",{"$f":"IF(E466=\"\",\"\",INDEX(referentes!D:E,MATCH(E466,referentes!E:E,0),1))","v":""},{"$f":"IF(F466=\"\",\"\",INDEX(referentes!J:K,MATCH(F466,referentes!K:K,0),1))","v":""},{"$f":"IF(AI466=\"\",\"\",INDEX(referentes!M:N,MATCH(AI466,referentes!N:N,0),1))","v":""},{"$f":"IF(I466=\"\",\"\",INDEX(referentes!P:Q,MATCH(I466,referentes!Q:Q,0),1))","v":""},{"$f":"IF(J466=\"\",\"\",INDEX(referentes!S:T,MATCH(J466,referentes!T:T,0),1))","v":""},{"$f":"IF(AB466=\"\",\"\",INDEX(referentes!V:W,MATCH(AB466,referentes!W:W,0),1))","v":""},{"$f":"IF(Y466=\"\",\"\",INDEX(referentes!AZ:BA,MATCH(Y466,referentes!BA:BA,0),1))","v":""},"","","","",{"$f":"IF(BP466=\"\",\"\",INDEX(referentes!AE:AF,MATCH(BP466,referentes!AF:AF,0),1))","v":""},{"$f":"IF(BQ466=\"\",\"\",INDEX(referentes!AH:AI,MATCH(BQ466,referentes!AI:AI,0),1))","v":""},null,{"$f":"IF(D466=\"\",\"\",INDEX(referentes!A:B,MATCH(D466,referentes!B:B,0),1))","v":""},{"$f":"IF(AT466=\"\",\"\",INDEX(referentes!Y:Z,MATCH(AT466,referentes!Z:Z,0),1))","v":""},{"$f":"IF(AU466=\"\",\"\",INDEX(referentes!AB:AC,MATCH(AU466,referentes!AC:AC,0),1))","v":""}]
[null,{"$f":"IF(BT467=\"\",\"\",IF(COUNTIF($BT467:BT467, BT467)>1, \"\", BT467))","v":""},null,null,null,null,null,null,null,null,null,null,{"$f":"IF(L467=\"\",\"\",INDEX(referentes!AK:AL,MATCH(L467,referentes!AL:AL,0),1))","v":""},"",null,466,{"$f":"IF(K467=\"\",\"\",INDEX('Otras referencias'!F:I,MATCH(K467,'Otras referencias'!I:I,0),1))","v":""},"",null,null,null,null,null,null,null,null,null,null,null,null,null,null,null,null,null,null,null,null,null,null,null,null,null,null,null,null,null,null,null,null,null,null,0,0,0,0,0,0,0,0,null,null,null,null,null,0,null,null,null,null,null,{"$f":"IF(R467<>\"\",CONCATENATE($A$2,DIGITADOR!$M$1,ROW()-2),\"\")","v":""},"",{"$f":"IF(E467=\"\",\"\",INDEX(referentes!D:E,MATCH(E467,referentes!E:E,0),1))","v":""},{"$f":"IF(F467=\"\",\"\",INDEX(referentes!J:K,MATCH(F467,referentes!K:K,0),1))","v":""},{"$f":"IF(AI467=\"\",\"\",INDEX(referentes!M:N,MATCH(AI467,referentes!N:N,0),1))","v":""},{"$f":"IF(I467=\"\",\"\",INDEX(referentes!P:Q,MATCH(I467,referentes!Q:Q,0),1))","v":""},{"$f":"IF(J467=\"\",\"\",INDEX(referentes!S:T,MATCH(J467,referentes!T:T,0),1))","v":""},{"$f":"IF(AB467=\"\",\"\",INDEX(referentes!V:W,MATCH(AB467,referentes!W:W,0),1))","v":""},{"$f":"IF(Y467=\"\",\"\",INDEX(referentes!AZ:BA,MATCH(Y467,referentes!BA:BA,0),1))","v":""},"","","","",{"$f":"IF(BP467=\"\",\"\",INDEX(referentes!AE:AF,MATCH(BP467,referentes!AF:AF,0),1))","v":""},{"$f":"IF(BQ467=\"\",\"\",INDEX(referentes!AH:AI,MATCH(BQ467,referentes!AI:AI,0),1))","v":""},null,{"$f":"IF(D467=\"\",\"\",INDEX(referentes!A:B,MATCH(D467,referentes!B:B,0),1))","v":""},{"$f":"IF(AT467=\"\",\"\",INDEX(referentes!Y:Z,MATCH(AT467,referentes!Z:Z,0),1))","v":""},{"$f":"IF(AU467=\"\",\"\",INDEX(referentes!AB:AC,MATCH(AU467,referentes!AC:AC,0),1))","v":""}]
[null,{"$f":"IF(BT468=\"\",\"\",IF(COUNTIF($BT468:BT468, BT468)>1, \"\", BT468))","v":""},null,null,null,null,null,null,null,null,null,null,{"$f":"IF(L468=\"\",\"\",INDEX(referentes!AK:AL,MATCH(L468,referentes!AL:AL,0),1))","v":""},"",null,467,{"$f":"IF(K468=\"\",\"\",INDEX('Otras referencias'!F:I,MATCH(K468,'Otras referencias'!I:I,0),1))","v":""},"",null,null,null,null,null,null,null,null,null,null,null,null,null,null,null,null,null,null,null,null,null,null,null,null,null,null,null,null,null,null,null,null,null,null,0,0,0,0,0,0,0,0,null,null,null,null,null,0,null,null,null,null,null,{"$f":"IF(R468<>\"\",CONCATENATE($A$2,DIGITADOR!$M$1,ROW()-2),\"\")","v":""},"",{"$f":"IF(E468=\"\",\"\",INDEX(referentes!D:E,MATCH(E468,referentes!E:E,0),1))","v":""},{"$f":"IF(F468=\"\",\"\",INDEX(referentes!J:K,MATCH(F468,referentes!K:K,0),1))","v":""},{"$f":"IF(AI468=\"\",\"\",INDEX(referentes!M:N,MATCH(AI468,referentes!N:N,0),1))","v":""},{"$f":"IF(I468=\"\",\"\",INDEX(referentes!P:Q,MATCH(I468,referentes!Q:Q,0),1))","v":""},{"$f":"IF(J468=\"\",\"\",INDEX(referentes!S:T,MATCH(J468,referentes!T:T,0),1))","v":""},{"$f":"IF(AB468=\"\",\"\",INDEX(referentes!V:W,MATCH(AB468,referentes!W:W,0),1))","v":""},{"$f":"IF(Y468=\"\",\"\",INDEX(referentes!AZ:BA,MATCH(Y468,referentes!BA:BA,0),1))","v":""},"","","","",{"$f":"IF(BP468=\"\",\"\",INDEX(referentes!AE:AF,MATCH(BP468,referentes!AF:AF,0),1))","v":""},{"$f":"IF(BQ468=\"\",\"\",INDEX(referentes!AH:AI,MATCH(BQ468,referentes!AI:AI,0),1))","v":""},null,{"$f":"IF(D468=\"\",\"\",INDEX(referentes!A:B,MATCH(D468,referentes!B:B,0),1))","v":""},{"$f":"IF(AT468=\"\",\"\",INDEX(referentes!Y:Z,MATCH(AT468,referentes!Z:Z,0),1))","v":""},{"$f":"IF(AU468=\"\",\"\",INDEX(referentes!AB:AC,MATCH(AU468,referentes!AC:AC,0),1))","v":""}]
[null,{"$f":"IF(BT469=\"\",\"\",IF(COUNTIF($BT469:BT469, BT469)>1, \"\", BT469))","v":""},null,null,null,null,null,null,null,null,null,null,{"$f":"IF(L469=\"\",\"\",INDEX(referentes!AK:AL,MATCH(L469,referentes!AL:AL,0),1))","v":""},"",null,468,{"$f":"IF(K469=\"\",\"\",INDEX('Otras referencias'!F:I,MATCH(K469,'Otras referencias'!I:I,0),1))","v":""},"",null,null,null,null,null,null,null,null,null,null,null,null,null,null,null,null,null,null,null,null,null,null,null,null,null,null,null,null,null,null,null,null,null,null,0,0,0,0,0,0,0,0,null,null,null,null,null,0,null,null,null,null,null,{"$f":"IF(R469<>\"\",CONCATENATE($A$2,DIGITADOR!$M$1,ROW()-2),\"\")","v":""},"",{"$f":"IF(E469=\"\",\"\",INDEX(referentes!D:E,MATCH(E469,referentes!E:E,0),1))","v":""},{"$f":"IF(F469=\"\",\"\",INDEX(referentes!J:K,MATCH(F469,referentes!K:K,0),1))","v":""},{"$f":"IF(AI469=\"\",\"\",INDEX(referentes!M:N,MATCH(AI469,referentes!N:N,0),1))","v":""},{"$f":"IF(I469=\"\",\"\",INDEX(referentes!P:Q,MATCH(I469,referentes!Q:Q,0),1))","v":""},{"$f":"IF(J469=\"\",\"\",INDEX(referentes!S:T,MATCH(J469,referentes!T:T,0),1))","v":""},{"$f":"IF(AB469=\"\",\"\",INDEX(referentes!V:W,MATCH(AB469,referentes!W:W,0),1))","v":""},{"$f":"IF(Y469=\"\",\"\",INDEX(referentes!AZ:BA,MATCH(Y469,referentes!BA:BA,0),1))","v":""},"","","","",{"$f":"IF(BP469=\"\",\"\",INDEX(referentes!AE:AF,MATCH(BP469,referentes!AF:AF,0),1))","v":""},{"$f":"IF(BQ469=\"\",\"\",INDEX(referentes!AH:AI,MATCH(BQ469,referentes!AI:AI,0),1))","v":""},null,{"$f":"IF(D469=\"\",\"\",INDEX(referentes!A:B,MATCH(D469,referentes!B:B,0),1))","v":""},{"$f":"IF(AT469=\"\",\"\",INDEX(referentes!Y:Z,MATCH(AT469,referentes!Z:Z,0),1))","v":""},{"$f":"IF(AU469=\"\",\"\",INDEX(referentes!AB:AC,MATCH(AU469,referentes!AC:AC,0),1))","v":""}]
[null,{"$f":"IF(BT470=\"\",\"\",IF(COUNTIF($BT470:BT470, BT470)>1, \"\", BT470))","v":""},null,null,null,null,null,null,null,null,null,null,{"$f":"IF(L470=\"\",\"\",INDEX(referentes!AK:AL,MATCH(L470,referentes!AL:AL,0),1))","v":""},"",null,469,{"$f":"IF(K470=\"\",\"\",INDEX('Otras referencias'!F:I,MATCH(K470,'Otras referencias'!I:I,0),1))","v":""},"",null,null,null,null,null,null,null,null,null,null,null,null,null,null,null,null,null,null,null,null,null,null,null,null,null,null,null,null,null,null,null,null,null,null,0,0,0,0,0,0,0,0,null,null,null,null,null,0,null,null,null,null,null,{"$f":"IF(R470<>\"\",CONCATENATE($A$2,DIGITADOR!$M$1,ROW()-2),\"\")","v":""},"",{"$f":"IF(E470=\"\",\"\",INDEX(referentes!D:E,MATCH(E470,referentes!E:E,0),1))","v":""},{"$f":"IF(F470=\"\",\"\",INDEX(referentes!J:K,MATCH(F470,referentes!K:K,0),1))","v":""},{"$f":"IF(AI470=\"\",\"\",INDEX(referentes!M:N,MATCH(AI470,referentes!N:N,0),1))","v":""},{"$f":"IF(I470=\"\",\"\",INDEX(referentes!P:Q,MATCH(I470,referentes!Q:Q,0),1))","v":""},{"$f":"IF(J470=\"\",\"\",INDEX(referentes!S:T,MATCH(J470,referentes!T:T,0),1))","v":""},{"$f":"IF(AB470=\"\",\"\",INDEX(referentes!V:W,MATCH(AB470,referentes!W:W,0),1))","v":""},{"$f":"IF(Y470=\"\",\"\",INDEX(referentes!AZ:BA,MATCH(Y470,referentes!BA:BA,0),1))","v":""},"","","","",{"$f":"IF(BP470=\"\",\"\",INDEX(referentes!AE:AF,MATCH(BP470,referentes!AF:AF,0),1))","v":""},{"$f":"IF(BQ470=\"\",\"\",INDEX(referentes!AH:AI,MATCH(BQ470,referentes!AI:AI,0),1))","v":""},null,{"$f":"IF(D470=\"\",\"\",INDEX(referentes!A:B,MATCH(D470,referentes!B:B,0),1))","v":""},{"$f":"IF(AT470=\"\",\"\",INDEX(referentes!Y:Z,MATCH(AT470,referentes!Z:Z,0),1))","v":""},{"$f":"IF(AU470=\"\",\"\",INDEX(referentes!AB:AC,MATCH(AU470,referentes!AC:AC,0),1))","v":""}]
[null,{"$f":"IF(BT471=\"\",\"\",IF(COUNTIF($BT471:BT471, BT471)>1, \"\", BT471))","v":""},null,null,null,null,null,null,null,null,null,null,{"$f":"IF(L471=\"\",\"\",INDEX(referentes!AK:AL,MATCH(L471,referentes!AL:AL,0),1))","v":""},"",null,470,{"$f":"IF(K471=\"\",\"\",INDEX('Otras referencias'!F:I,MATCH(K471,'Otras referencias'!I:I,0),1))","v":""},"",null,null,null,null,null,null,null,null,null,null,null,null,null,null,null,null,null,null,null,null,null,null,null,null,null,null,null,null,null,null,null,null,null,null,0,0,0,0,0,0,0,0,null,null,null,null,null,0,null,null,null,null,null,{"$f":"IF(R471<>\"\",CONCATENATE($A$2,DIGITADOR!$M$1,ROW()-2),\"\")","v":""},"",{"$f":"IF(E471=\"\",\"\",INDEX(referentes!D:E,MATCH(E471,referentes!E:E,0),1))","v":""},{"$f":"IF(F471=\"\",\"\",INDEX(referentes!J:K,MATCH(F471,referentes!K:K,0),1))","v":""},{"$f":"IF(AI471=\"\",\"\",INDEX(referentes!M:N,MATCH(AI471,referentes!N:N,0),1))","v":""},{"$f":"IF(I471=\"\",\"\",INDEX(referentes!P:Q,MATCH(I471,referentes!Q:Q,0),1))","v":""},{"$f":"IF(J471=\"\",\"\",INDEX(referentes!S:T,MATCH(J471,referentes!T:T,0),1))","v":""},{"$f":"IF(AB471=\"\",\"\",INDEX(referentes!V:W,MATCH(AB471,referentes!W:W,0),1))","v":""},{"$f":"IF(Y471=\"\",\"\",INDEX(referentes!AZ:BA,MATCH(Y471,referentes!BA:BA,0),1))","v":""},"","","","",{"$f":"IF(BP471=\"\",\"\",INDEX(referentes!AE:AF,MATCH(BP471,referentes!AF:AF,0),1))","v":""},{"$f":"IF(BQ471=\"\",\"\",INDEX(referentes!AH:AI,MATCH(BQ471,referentes!AI:AI,0),1))","v":""},null,{"$f":"IF(D471=\"\",\"\",INDEX(referentes!A:B,MATCH(D471,referentes!B:B,0),1))","v":""},{"$f":"IF(AT471=\"\",\"\",INDEX(referentes!Y:Z,MATCH(AT471,referentes!Z:Z,0),1))","v":""},{"$f":"IF(AU471=\"\",\"\",INDEX(referentes!AB:AC,MATCH(AU471,referentes!AC:AC,0),1))","v":""}]
[null,{"$f":"IF(BT472=\"\",\"\",IF(COUNTIF($BT472:BT472, BT472)>1, \"\", BT472))","v":""},null,null,null,null,null,null,null,null,null,null,{"$f":"IF(L472=\"\",\"\",INDEX(referentes!AK:AL,MATCH(L472,referentes!AL:AL,0),1))","v":""},"",null,471,{"$f":"IF(K472=\"\",\"\",INDEX('Otras referencias'!F:I,MATCH(K472,'Otras referencias'!I:I,0),1))","v":""},"",null,null,null,null,null,null,null,null,null,null,null,null,null,null,null,null,null,null,null,null,null,null,null,null,null,null,null,null,null,null,null,null,null,null,0,0,0,0,0,0,0,0,null,null,null,null,null,0,null,null,null,null,null,{"$f":"IF(R472<>\"\",CONCATENATE($A$2,DIGITADOR!$M$1,ROW()-2),\"\")","v":""},"",{"$f":"IF(E472=\"\",\"\",INDEX(referentes!D:E,MATCH(E472,referentes!E:E,0),1))","v":""},{"$f":"IF(F472=\"\",\"\",INDEX(referentes!J:K,MATCH(F472,referentes!K:K,0),1))","v":""},{"$f":"IF(AI472=\"\",\"\",INDEX(referentes!M:N,MATCH(AI472,referentes!N:N,0),1))","v":""},{"$f":"IF(I472=\"\",\"\",INDEX(referentes!P:Q,MATCH(I472,referentes!Q:Q,0),1))","v":""},{"$f":"IF(J472=\"\",\"\",INDEX(referentes!S:T,MATCH(J472,referentes!T:T,0),1))","v":""},{"$f":"IF(AB472=\"\",\"\",INDEX(referentes!V:W,MATCH(AB472,referentes!W:W,0),1))","v":""},{"$f":"IF(Y472=\"\",\"\",INDEX(referentes!AZ:BA,MATCH(Y472,referentes!BA:BA,0),1))","v":""},"","","","",{"$f":"IF(BP472=\"\",\"\",INDEX(referentes!AE:AF,MATCH(BP472,referentes!AF:AF,0),1))","v":""},{"$f":"IF(BQ472=\"\",\"\",INDEX(referentes!AH:AI,MATCH(BQ472,referentes!AI:AI,0),1))","v":""},null,{"$f":"IF(D472=\"\",\"\",INDEX(referentes!A:B,MATCH(D472,referentes!B:B,0),1))","v":""},{"$f":"IF(AT472=\"\",\"\",INDEX(referentes!Y:Z,MATCH(AT472,referentes!Z:Z,0),1))","v":""},{"$f":"IF(AU472=\"\",\"\",INDEX(referentes!AB:AC,MATCH(AU472,referentes!AC:AC,0),1))","v":""}]
[null,{"$f":"IF(BT473=\"\",\"\",IF(COUNTIF($BT473:BT473, BT473)>1, \"\", BT473))","v":""},null,null,null,null,null,null,null,null,null,null,{"$f":"IF(L473=\"\",\"\",INDEX(referentes!AK:AL,MATCH(L473,referentes!AL:AL,0),1))","v":""},"",null,472,{"$f":"IF(K473=\"\",\"\",INDEX('Otras referencias'!F:I,MATCH(K473,'Otras referencias'!I:I,0),1))","v":""},"",null,null,null,null,null,null,null,null,null,null,null,null,null,null,null,null,null,null,null,null,null,null,null,null,null,null,null,null,null,null,null,null,null,null,0,0,0,0,0,0,0,0,null,null,null,null,null,0,null,null,null,null,null,{"$f":"IF(R473<>\"\",CONCATENATE($A$2,DIGITADOR!$M$1,ROW()-2),\"\")","v":""},"",{"$f":"IF(E473=\"\",\"\",INDEX(referentes!D:E,MATCH(E473,referentes!E:E,0),1))","v":""},{"$f":"IF(F473=\"\",\"\",INDEX(referentes!J:K,MATCH(F473,referentes!K:K,0),1))","v":""},{"$f":"IF(AI473=\"\",\"\",INDEX(referentes!M:N,MATCH(AI473,referentes!N:N,0),1))","v":""},{"$f":"IF(I473=\"\",\"\",INDEX(referentes!P:Q,MATCH(I473,referentes!Q:Q,0),1))","v":""},{"$f":"IF(J473=\"\",\"\",INDEX(referentes!S:T,MATCH(J473,referentes!T:T,0),1))","v":""},{"$f":"IF(AB473=\"\",\"\",INDEX(referentes!V:W,MATCH(AB473,referentes!W:W,0),1))","v":""},{"$f":"IF(Y473=\"\",\"\",INDEX(referentes!AZ:BA,MATCH(Y473,referentes!BA:BA,0),1))","v":""},"","","","",{"$f":"IF(BP473=\"\",\"\",INDEX(referentes!AE:AF,MATCH(BP473,referentes!AF:AF,0),1))","v":""},{"$f":"IF(BQ473=\"\",\"\",INDEX(referentes!AH:AI,MATCH(BQ473,referentes!AI:AI,0),1))","v":""},null,{"$f":"IF(D473=\"\",\"\",INDEX(referentes!A:B,MATCH(D473,referentes!B:B,0),1))","v":""},{"$f":"IF(AT473=\"\",\"\",INDEX(referentes!Y:Z,MATCH(AT473,referentes!Z:Z,0),1))","v":""},{"$f":"IF(AU473=\"\",\"\",INDEX(referentes!AB:AC,MATCH(AU473,referentes!AC:AC,0),1))","v":""}]
[null,{"$f":"IF(BT474=\"\",\"\",IF(COUNTIF($BT474:BT474, BT474)>1, \"\", BT474))","v":""},null,null,null,null,null,null,null,null,null,null,{"$f":"IF(L474=\"\",\"\",INDEX(referentes!AK:AL,MATCH(L474,referentes!AL:AL,0),1))","v":""},"",null,473,{"$f":"IF(K474=\"\",\"\",INDEX('Otras referencias'!F:I,MATCH(K474,'Otras referencias'!I:I,0),1))","v":""},"",null,null,null,null,null,null,null,null,null,null,null,null,null,null,null,null,null,null,null,null,null,null,null,null,null,null,null,null,null,null,null,null,null,null,0,0,0,0,0,0,0,0,null,null,null,null,null,0,null,null,null,null,null,{"$f":"IF(R474<>\"\",CONCATENATE($A$2,DIGITADOR!$M$1,ROW()-2),\"\")","v":""},"",{"$f":"IF(E474=\"\",\"\",INDEX(referentes!D:E,MATCH(E474,referentes!E:E,0),1))","v":""},{"$f":"IF(F474=\"\",\"\",INDEX(referentes!J:K,MATCH(F474,referentes!K:K,0),1))","v":""},{"$f":"IF(AI474=\"\",\"\",INDEX(referentes!M:N,MATCH(AI474,referentes!N:N,0),1))","v":""},{"$f":"IF(I474=\"\",\"\",INDEX(referentes!P:Q,MATCH(I474,referentes!Q:Q,0),1))","v":""},{"$f":"IF(J474=\"\",\"\",INDEX(referentes!S:T,MATCH(J474,referentes!T:T,0),1))","v":""},{"$f":"IF(AB474=\"\",\"\",INDEX(referentes!V:W,MATCH(AB474,referentes!W:W,0),1))","v":""},{"$f":"IF(Y474=\"\",\"\",INDEX(referentes!AZ:BA,MATCH(Y474,referentes!BA:BA,0),1))","v":""},"","","","",{"$f":"IF(BP474=\"\",\"\",INDEX(referentes!AE:AF,MATCH(BP474,referentes!AF:AF,0),1))","v":""},{"$f":"IF(BQ474=\"\",\"\",INDEX(referentes!AH:AI,MATCH(BQ474,referentes!AI:AI,0),1))","v":""},null,{"$f":"IF(D474=\"\",\"\",INDEX(referentes!A:B,MATCH(D474,referentes!B:B,0),1))","v":""},{"$f":"IF(AT474=\"\",\"\",INDEX(referentes!Y:Z,MATCH(AT474,referentes!Z:Z,0),1))","v":""},{"$f":"IF(AU474=\"\",\"\",INDEX(referentes!AB:AC,MATCH(AU474,referentes!AC:AC,0),1))","v":""}]
[null,{"$f":"IF(BT475=\"\",\"\",IF(COUNTIF($BT475:BT475, BT475)>1, \"\", BT475))","v":""},null,null,null,null,null,null,null,null,null,null,{"$f":"IF(L475=\"\",\"\",INDEX(referentes!AK:AL,MATCH(L475,referentes!AL:AL,0),1))","v":""},"",null,474,{"$f":"IF(K475=\"\",\"\",INDEX('Otras referencias'!F:I,MATCH(K475,'Otras referencias'!I:I,0),1))","v":""},"",null,null,null,null,null,null,null,null,null,null,null,null,null,null,null,null,null,null,null,null,null,null,null,null,null,null,null,null,null,null,null,null,null,null,0,0,0,0,0,0,0,0,null,null,null,null,null,0,null,null,null,null,null,{"$f":"IF(R475<>\"\",CONCATENATE($A$2,DIGITADOR!$M$1,ROW()-2),\"\")","v":""},"",{"$f":"IF(E475=\"\",\"\",INDEX(referentes!D:E,MATCH(E475,referentes!E:E,0),1))","v":""},{"$f":"IF(F475=\"\",\"\",INDEX(referentes!J:K,MATCH(F475,referentes!K:K,0),1))","v":""},{"$f":"IF(AI475=\"\",\"\",INDEX(referentes!M:N,MATCH(AI475,referentes!N:N,0),1))","v":""},{"$f":"IF(I475=\"\",\"\",INDEX(referentes!P:Q,MATCH(I475,referentes!Q:Q,0),1))","v":""},{"$f":"IF(J475=\"\",\"\",INDEX(referentes!S:T,MATCH(J475,referentes!T:T,0),1))","v":""},{"$f":"IF(AB475=\"\",\"\",INDEX(referentes!V:W,MATCH(AB475,referentes!W:W,0),1))","v":""},{"$f":"IF(Y475=\"\",\"\",INDEX(referentes!AZ:BA,MATCH(Y475,referentes!BA:BA,0),1))","v":""},"","","","",{"$f":"IF(BP475=\"\",\"\",INDEX(referentes!AE:AF,MATCH(BP475,referentes!AF:AF,0),1))","v":""},{"$f":"IF(BQ475=\"\",\"\",INDEX(referentes!AH:AI,MATCH(BQ475,referentes!AI:AI,0),1))","v":""},null,{"$f":"IF(D475=\"\",\"\",INDEX(referentes!A:B,MATCH(D475,referentes!B:B,0),1))","v":""},{"$f":"IF(AT475=\"\",\"\",INDEX(referentes!Y:Z,MATCH(AT475,referentes!Z:Z,0),1))","v":""},{"$f":"IF(AU475=\"\",\"\",INDEX(referentes!AB:AC,MATCH(AU475,referentes!AC:AC,0),1))","v":""}]
[null,{"$f":"IF(BT476=\"\",\"\",IF(COUNTIF($BT476:BT476, BT476)>1, \"\", BT476))","v":""},null,null,null,null,null,null,null,null,null,null,{"$f":"IF(L476=\"\",\"\",INDEX(referentes!AK:AL,MATCH(L476,referentes!AL:AL,0),1))","v":""},"",null,475,{"$f":"IF(K476=\"\",\"\",INDEX('Otras referencias'!F:I,MATCH(K476,'Otras referencias'!I:I,0),1))","v":""},"",null,null,null,null,null,null,null,null,null,null,null,null,null,null,null,null,null,null,null,null,null,null,null,null,null,null,null,null,null,null,null,null,null,null,0,0,0,0,0,0,0,0,null,null,null,null,null,0,null,null,null,null,null,{"$f":"IF(R476<>\"\",CONCATENATE($A$2,DIGITADOR!$M$1,ROW()-2),\"\")","v":""},"",{"$f":"IF(E476=\"\",\"\",INDEX(referentes!D:E,MATCH(E476,referentes!E:E,0),1))","v":""},{"$f":"IF(F476=\"\",\"\",INDEX(referentes!J:K,MATCH(F476,referentes!K:K,0),1))","v":""},{"$f":"IF(AI476=\"\",\"\",INDEX(referentes!M:N,MATCH(AI476,referentes!N:N,0),1))","v":""},{"$f":"IF(I476=\"\",\"\",INDEX(referentes!P:Q,MATCH(I476,referentes!Q:Q,0),1))","v":""},{"$f":"IF(J476=\"\",\"\",INDEX(referentes!S:T,MATCH(J476,referentes!T:T,0),1))","v":""},{"$f":"IF(AB476=\"\",\"\",INDEX(referentes!V:W,MATCH(AB476,referentes!W:W,0),1))","v":""},{"$f":"IF(Y476=\"\",\"\",INDEX(referentes!AZ:BA,MATCH(Y476,referentes!BA:BA,0),1))","v":""},"","","","",{"$f":"IF(BP476=\"\",\"\",INDEX(referentes!AE:AF,MATCH(BP476,referentes!AF:AF,0),1))","v":""},{"$f":"IF(BQ476=\"\",\"\",INDEX(referentes!AH:AI,MATCH(BQ476,referentes!AI:AI,0),1))","v":""},null,{"$f":"IF(D476=\"\",\"\",INDEX(referentes!A:B,MATCH(D476,referentes!B:B,0),1))","v":""},{"$f":"IF(AT476=\"\",\"\",INDEX(referentes!Y:Z,MATCH(AT476,referentes!Z:Z,0),1))","v":""},{"$f":"IF(AU476=\"\",\"\",INDEX(referentes!AB:AC,MATCH(AU476,referentes!AC:AC,0),1))","v":""}]
[null,{"$f":"IF(BT477=\"\",\"\",IF(COUNTIF($BT477:BT477, BT477)>1, \"\", BT477))","v":""},null,null,null,null,null,null,null,null,null,null,{"$f":"IF(L477=\"\",\"\",INDEX(referentes!AK:AL,MATCH(L477,referentes!AL:AL,0),1))","v":""},"",null,476,{"$f":"IF(K477=\"\",\"\",INDEX('Otras referencias'!F:I,MATCH(K477,'Otras referencias'!I:I,0),1))","v":""},"",null,null,null,null,null,null,null,null,null,null,null,null,null,null,null,null,null,null,null,null,null,null,null,null,null,null,null,null,null,null,null,null,null,null,0,0,0,0,0,0,0,0,null,null,null,null,null,0,null,null,null,null,null,{"$f":"IF(R477<>\"\",CONCATENATE($A$2,DIGITADOR!$M$1,ROW()-2),\"\")","v":""},"",{"$f":"IF(E477=\"\",\"\",INDEX(referentes!D:E,MATCH(E477,referentes!E:E,0),1))","v":""},{"$f":"IF(F477=\"\",\"\",INDEX(referentes!J:K,MATCH(F477,referentes!K:K,0),1))","v":""},{"$f":"IF(AI477=\"\",\"\",INDEX(referentes!M:N,MATCH(AI477,referentes!N:N,0),1))","v":""},{"$f":"IF(I477=\"\",\"\",INDEX(referentes!P:Q,MATCH(I477,referentes!Q:Q,0),1))","v":""},{"$f":"IF(J477=\"\",\"\",INDEX(referentes!S:T,MATCH(J477,referentes!T:T,0),1))","v":""},{"$f":"IF(AB477=\"\",\"\",INDEX(referentes!V:W,MATCH(AB477,referentes!W:W,0),1))","v":""},{"$f":"IF(Y477=\"\",\"\",INDEX(referentes!AZ:BA,MATCH(Y477,referentes!BA:BA,0),1))","v":""},"","","","",{"$f":"IF(BP477=\"\",\"\",INDEX(referentes!AE:AF,MATCH(BP477,referentes!AF:AF,0),1))","v":""},{"$f":"IF(BQ477=\"\",\"\",INDEX(referentes!AH:AI,MATCH(BQ477,referentes!AI:AI,0),1))","v":""},null,{"$f":"IF(D477=\"\",\"\",INDEX(referentes!A:B,MATCH(D477,referentes!B:B,0),1))","v":""},{"$f":"IF(AT477=\"\",\"\",INDEX(referentes!Y:Z,MATCH(AT477,referentes!Z:Z,0),1))","v":""},{"$f":"IF(AU477=\"\",\"\",INDEX(referentes!AB:AC,MATCH(AU477,referentes!AC:AC,0),1))","v":""}]
[null,{"$f":"IF(BT478=\"\",\"\",IF(COUNTIF($BT478:BT478, BT478)>1, \"\", BT478))","v":""},null,null,null,null,null,null,null,null,null,null,{"$f":"IF(L478=\"\",\"\",INDEX(referentes!AK:AL,MATCH(L478,referentes!AL:AL,0),1))","v":""},"",null,477,{"$f":"IF(K478=\"\",\"\",INDEX('Otras referencias'!F:I,MATCH(K478,'Otras referencias'!I:I,0),1))","v":""},"",null,null,null,null,null,null,null,null,null,null,null,null,null,null,null,null,null,null,null,null,null,null,null,null,null,null,null,null,null,null,null,null,null,null,0,0,0,0,0,0,0,0,null,null,null,null,null,0,null,null,null,null,null,{"$f":"IF(R478<>\"\",CONCATENATE($A$2,DIGITADOR!$M$1,ROW()-2),\"\")","v":""},"",{"$f":"IF(E478=\"\",\"\",INDEX(referentes!D:E,MATCH(E478,referentes!E:E,0),1))","v":""},{"$f":"IF(F478=\"\",\"\",INDEX(referentes!J:K,MATCH(F478,referentes!K:K,0),1))","v":""},{"$f":"IF(AI478=\"\",\"\",INDEX(referentes!M:N,MATCH(AI478,referentes!N:N,0),1))","v":""},{"$f":"IF(I478=\"\",\"\",INDEX(referentes!P:Q,MATCH(I478,referentes!Q:Q,0),1))","v":""},{"$f":"IF(J478=\"\",\"\",INDEX(referentes!S:T,MATCH(J478,referentes!T:T,0),1))","v":""},{"$f":"IF(AB478=\"\",\"\",INDEX(referentes!V:W,MATCH(AB478,referentes!W:W,0),1))","v":""},{"$f":"IF(Y478=\"\",\"\",INDEX(referentes!AZ:BA,MATCH(Y478,referentes!BA:BA,0),1))","v":""},"","","","",{"$f":"IF(BP478=\"\",\"\",INDEX(referentes!AE:AF,MATCH(BP478,referentes!AF:AF,0),1))","v":""},{"$f":"IF(BQ478=\"\",\"\",INDEX(referentes!AH:AI,MATCH(BQ478,referentes!AI:AI,0),1))","v":""},null,{"$f":"IF(D478=\"\",\"\",INDEX(referentes!A:B,MATCH(D478,referentes!B:B,0),1))","v":""},{"$f":"IF(AT478=\"\",\"\",INDEX(referentes!Y:Z,MATCH(AT478,referentes!Z:Z,0),1))","v":""},{"$f":"IF(AU478=\"\",\"\",INDEX(referentes!AB:AC,MATCH(AU478,referentes!AC:AC,0),1))","v":""}]
[null,{"$f":"IF(BT479=\"\",\"\",IF(COUNTIF($BT479:BT479, BT479)>1, \"\", BT479))","v":""},null,null,null,null,null,null,null,null,null,null,{"$f":"IF(L479=\"\",\"\",INDEX(referentes!AK:AL,MATCH(L479,referentes!AL:AL,0),1))","v":""},"",null,478,{"$f":"IF(K479=\"\",\"\",INDEX('Otras referencias'!F:I,MATCH(K479,'Otras referencias'!I:I,0),1))","v":""},"",null,null,null,null,null,null,null,null,null,null,null,null,null,null,null,null,null,null,null,null,null,null,null,null,null,null,null,null,null,null,null,null,null,null,0,0,0,0,0,0,0,0,null,null,null,null,null,0,null,null,null,null,null,{"$f":"IF(R479<>\"\",CONCATENATE($A$2,DIGITADOR!$M$1,ROW()-2),\"\")","v":""},"",{"$f":"IF(E479=\"\",\"\",INDEX(referentes!D:E,MATCH(E479,referentes!E:E,0),1))","v":""},{"$f":"IF(F479=\"\",\"\",INDEX(referentes!J:K,MATCH(F479,referentes!K:K,0),1))","v":""},{"$f":"IF(AI479=\"\",\"\",INDEX(referentes!M:N,MATCH(AI479,referentes!N:N,0),1))","v":""},{"$f":"IF(I479=\"\",\"\",INDEX(referentes!P:Q,MATCH(I479,referentes!Q:Q,0),1))","v":""},{"$f":"IF(J479=\"\",\"\",INDEX(referentes!S:T,MATCH(J479,referentes!T:T,0),1))","v":""},{"$f":"IF(AB479=\"\",\"\",INDEX(referentes!V:W,MATCH(AB479,referentes!W:W,0),1))","v":""},{"$f":"IF(Y479=\"\",\"\",INDEX(referentes!AZ:BA,MATCH(Y479,referentes!BA:BA,0),1))","v":""},"","","","",{"$f":"IF(BP479=\"\",\"\",INDEX(referentes!AE:AF,MATCH(BP479,referentes!AF:AF,0),1))","v":""},{"$f":"IF(BQ479=\"\",\"\",INDEX(referentes!AH:AI,MATCH(BQ479,referentes!AI:AI,0),1))","v":""},null,{"$f":"IF(D479=\"\",\"\",INDEX(referentes!A:B,MATCH(D479,referentes!B:B,0),1))","v":""},{"$f":"IF(AT479=\"\",\"\",INDEX(referentes!Y:Z,MATCH(AT479,referentes!Z:Z,0),1))","v":""},{"$f":"IF(AU479=\"\",\"\",INDEX(referentes!AB:AC,MATCH(AU479,referentes!AC:AC,0),1))","v":""}]
[null,{"$f":"IF(BT480=\"\",\"\",IF(COUNTIF($BT480:BT480, BT480)>1, \"\", BT480))","v":""},null,null,null,null,null,null,null,null,null,null,{"$f":"IF(L480=\"\",\"\",INDEX(referentes!AK:AL,MATCH(L480,referentes!AL:AL,0),1))","v":""},"",null,479,{"$f":"IF(K480=\"\",\"\",INDEX('Otras referencias'!F:I,MATCH(K480,'Otras referencias'!I:I,0),1))","v":""},"",null,null,null,null,null,null,null,null,null,null,null,null,null,null,null,null,null,null,null,null,null,null,null,null,null,null,null,null,null,null,null,null,null,null,0,0,0,0,0,0,0,0,null,null,null,null,null,0,null,null,null,null,null,{"$f":"IF(R480<>\"\",CONCATENATE($A$2,DIGITADOR!$M$1,ROW()-2),\"\")","v":""},"",{"$f":"IF(E480=\"\",\"\",INDEX(referentes!D:E,MATCH(E480,referentes!E:E,0),1))","v":""},{"$f":"IF(F480=\"\",\"\",INDEX(referentes!J:K,MATCH(F480,referentes!K:K,0),1))","v":""},{"$f":"IF(AI480=\"\",\"\",INDEX(referentes!M:N,MATCH(AI480,referentes!N:N,0),1))","v":""},{"$f":"IF(I480=\"\",\"\",INDEX(referentes!P:Q,MATCH(I480,referentes!Q:Q,0),1))","v":""},{"$f":"IF(J480=\"\",\"\",INDEX(referentes!S:T,MATCH(J480,referentes!T:T,0),1))","v":""},{"$f":"IF(AB480=\"\",\"\",INDEX(referentes!V:W,MATCH(AB480,referentes!W:W,0),1))","v":""},{"$f":"IF(Y480=\"\",\"\",INDEX(referentes!AZ:BA,MATCH(Y480,referentes!BA:BA,0),1))","v":""},"","","","",{"$f":"IF(BP480=\"\",\"\",INDEX(referentes!AE:AF,MATCH(BP480,referentes!AF:AF,0),1))","v":""},{"$f":"IF(BQ480=\"\",\"\",INDEX(referentes!AH:AI,MATCH(BQ480,referentes!AI:AI,0),1))","v":""},null,{"$f":"IF(D480=\"\",\"\",INDEX(referentes!A:B,MATCH(D480,referentes!B:B,0),1))","v":""},{"$f":"IF(AT480=\"\",\"\",INDEX(referentes!Y:Z,MATCH(AT480,referentes!Z:Z,0),1))","v":""},{"$f":"IF(AU480=\"\",\"\",INDEX(referentes!AB:AC,MATCH(AU480,referentes!AC:AC,0),1))","v":""}]
[null,{"$f":"IF(BT481=\"\",\"\",IF(COUNTIF($BT481:BT481, BT481)>1, \"\", BT481))","v":""},null,null,null,null,null,null,null,null,null,null,{"$f":"IF(L481=\"\",\"\",INDEX(referentes!AK:AL,MATCH(L481,referentes!AL:AL,0),1))","v":""},"",null,480,{"$f":"IF(K481=\"\",\"\",INDEX('Otras referencias'!F:I,MATCH(K481,'Otras referencias'!I:I,0),1))","v":""},"",null,null,null,null,null,null,null,null,null,null,null,null,null,null,null,null,null,null,null,null,null,null,null,null,null,null,null,null,null,null,null,null,null,null,0,0,0,0,0,0,0,0,null,null,null,null,null,0,null,null,null,null,null,{"$f":"IF(R481<>\"\",CONCATENATE($A$2,DIGITADOR!$M$1,ROW()-2),\"\")","v":""},"",{"$f":"IF(E481=\"\",\"\",INDEX(referentes!D:E,MATCH(E481,referentes!E:E,0),1))","v":""},{"$f":"IF(F481=\"\",\"\",INDEX(referentes!J:K,MATCH(F481,referentes!K:K,0),1))","v":""},{"$f":"IF(AI481=\"\",\"\",INDEX(referentes!M:N,MATCH(AI481,referentes!N:N,0),1))","v":""},{"$f":"IF(I481=\"\",\"\",INDEX(referentes!P:Q,MATCH(I481,referentes!Q:Q,0),1))","v":""},{"$f":"IF(J481=\"\",\"\",INDEX(referentes!S:T,MATCH(J481,referentes!T:T,0),1))","v":""},{"$f":"IF(AB481=\"\",\"\",INDEX(referentes!V:W,MATCH(AB481,referentes!W:W,0),1))","v":""},{"$f":"IF(Y481=\"\",\"\",INDEX(referentes!AZ:BA,MATCH(Y481,referentes!BA:BA,0),1))","v":""},"","","","",{"$f":"IF(BP481=\"\",\"\",INDEX(referentes!AE:AF,MATCH(BP481,referentes!AF:AF,0),1))","v":""},{"$f":"IF(BQ481=\"\",\"\",INDEX(referentes!AH:AI,MATCH(BQ481,referentes!AI:AI,0),1))","v":""},null,{"$f":"IF(D481=\"\",\"\",INDEX(referentes!A:B,MATCH(D481,referentes!B:B,0),1))","v":""},{"$f":"IF(AT481=\"\",\"\",INDEX(referentes!Y:Z,MATCH(AT481,referentes!Z:Z,0),1))","v":""},{"$f":"IF(AU481=\"\",\"\",INDEX(referentes!AB:AC,MATCH(AU481,referentes!AC:AC,0),1))","v":""}]
[null,{"$f":"IF(BT482=\"\",\"\",IF(COUNTIF($BT482:BT482, BT482)>1, \"\", BT482))","v":""},null,null,null,null,null,null,null,null,null,null,{"$f":"IF(L482=\"\",\"\",INDEX(referentes!AK:AL,MATCH(L482,referentes!AL:AL,0),1))","v":""},"",null,481,{"$f":"IF(K482=\"\",\"\",INDEX('Otras referencias'!F:I,MATCH(K482,'Otras referencias'!I:I,0),1))","v":""},"",null,null,null,null,null,null,null,null,null,null,null,null,null,null,null,null,null,null,null,null,null,null,null,null,null,null,null,null,null,null,null,null,null,null,0,0,0,0,0,0,0,0,null,null,null,null,null,0,null,null,null,null,null,{"$f":"IF(R482<>\"\",CONCATENATE($A$2,DIGITADOR!$M$1,ROW()-2),\"\")","v":""},"",{"$f":"IF(E482=\"\",\"\",INDEX(referentes!D:E,MATCH(E482,referentes!E:E,0),1))","v":""},{"$f":"IF(F482=\"\",\"\",INDEX(referentes!J:K,MATCH(F482,referentes!K:K,0),1))","v":""},{"$f":"IF(AI482=\"\",\"\",INDEX(referentes!M:N,MATCH(AI482,referentes!N:N,0),1))","v":""},{"$f":"IF(I482=\"\",\"\",INDEX(referentes!P:Q,MATCH(I482,referentes!Q:Q,0),1))","v":""},{"$f":"IF(J482=\"\",\"\",INDEX(referentes!S:T,MATCH(J482,referentes!T:T,0),1))","v":""},{"$f":"IF(AB482=\"\",\"\",INDEX(referentes!V:W,MATCH(AB482,referentes!W:W,0),1))","v":""},{"$f":"IF(Y482=\"\",\"\",INDEX(referentes!AZ:BA,MATCH(Y482,referentes!BA:BA,0),1))","v":""},"","","","",{"$f":"IF(BP482=\"\",\"\",INDEX(referentes!AE:AF,MATCH(BP482,referentes!AF:AF,0),1))","v":""},{"$f":"IF(BQ482=\"\",\"\",INDEX(referentes!AH:AI,MATCH(BQ482,referentes!AI:AI,0),1))","v":""},null,{"$f":"IF(D482=\"\",\"\",INDEX(referentes!A:B,MATCH(D482,referentes!B:B,0),1))","v":""},{"$f":"IF(AT482=\"\",\"\",INDEX(referentes!Y:Z,MATCH(AT482,referentes!Z:Z,0),1))","v":""},{"$f":"IF(AU482=\"\",\"\",INDEX(referentes!AB:AC,MATCH(AU482,referentes!AC:AC,0),1))","v":""}]
[null,{"$f":"IF(BT483=\"\",\"\",IF(COUNTIF($BT483:BT483, BT483)>1, \"\", BT483))","v":""},null,null,null,null,null,null,null,null,null,null,{"$f":"IF(L483=\"\",\"\",INDEX(referentes!AK:AL,MATCH(L483,referentes!AL:AL,0),1))","v":""},"",null,482,{"$f":"IF(K483=\"\",\"\",INDEX('Otras referencias'!F:I,MATCH(K483,'Otras referencias'!I:I,0),1))","v":""},"",null,null,null,null,null,null,null,null,null,null,null,null,null,null,null,null,null,null,null,null,null,null,null,null,null,null,null,null,null,null,null,null,null,null,0,0,0,0,0,0,0,0,null,null,null,null,null,0,null,null,null,null,null,{"$f":"IF(R483<>\"\",CONCATENATE($A$2,DIGITADOR!$M$1,ROW()-2),\"\")","v":""},"",{"$f":"IF(E483=\"\",\"\",INDEX(referentes!D:E,MATCH(E483,referentes!E:E,0),1))","v":""},{"$f":"IF(F483=\"\",\"\",INDEX(referentes!J:K,MATCH(F483,referentes!K:K,0),1))","v":""},{"$f":"IF(AI483=\"\",\"\",INDEX(referentes!M:N,MATCH(AI483,referentes!N:N,0),1))","v":""},{"$f":"IF(I483=\"\",\"\",INDEX(referentes!P:Q,MATCH(I483,referentes!Q:Q,0),1))","v":""},{"$f":"IF(J483=\"\",\"\",INDEX(referentes!S:T,MATCH(J483,referentes!T:T,0),1))","v":""},{"$f":"IF(AB483=\"\",\"\",INDEX(referentes!V:W,MATCH(AB483,referentes!W:W,0),1))","v":""},{"$f":"IF(Y483=\"\",\"\",INDEX(referentes!AZ:BA,MATCH(Y483,referentes!BA:BA,0),1))","v":""},"","","","",{"$f":"IF(BP483=\"\",\"\",INDEX(referentes!AE:AF,MATCH(BP483,referentes!AF:AF,0),1))","v":""},{"$f":"IF(BQ483=\"\",\"\",INDEX(referentes!AH:AI,MATCH(BQ483,referentes!AI:AI,0),1))","v":""},null,{"$f":"IF(D483=\"\",\"\",INDEX(referentes!A:B,MATCH(D483,referentes!B:B,0),1))","v":""},{"$f":"IF(AT483=\"\",\"\",INDEX(referentes!Y:Z,MATCH(AT483,referentes!Z:Z,0),1))","v":""},{"$f":"IF(AU483=\"\",\"\",INDEX(referentes!AB:AC,MATCH(AU483,referentes!AC:AC,0),1))","v":""}]
[null,{"$f":"IF(BT484=\"\",\"\",IF(COUNTIF($BT484:BT484, BT484)>1, \"\", BT484))","v":""},null,null,null,null,null,null,null,null,null,null,{"$f":"IF(L484=\"\",\"\",INDEX(referentes!AK:AL,MATCH(L484,referentes!AL:AL,0),1))","v":""},"",null,483,{"$f":"IF(K484=\"\",\"\",INDEX('Otras referencias'!F:I,MATCH(K484,'Otras referencias'!I:I,0),1))","v":""},"",null,null,null,null,null,null,null,null,null,null,null,null,null,null,null,null,null,null,null,null,null,null,null,null,null,null,null,null,null,null,null,null,null,null,0,0,0,0,0,0,0,0,null,null,null,null,null,0,null,null,null,null,null,{"$f":"IF(R484<>\"\",CONCATENATE($A$2,DIGITADOR!$M$1,ROW()-2),\"\")","v":""},"",{"$f":"IF(E484=\"\",\"\",INDEX(referentes!D:E,MATCH(E484,referentes!E:E,0),1))","v":""},{"$f":"IF(F484=\"\",\"\",INDEX(referentes!J:K,MATCH(F484,referentes!K:K,0),1))","v":""},{"$f":"IF(AI484=\"\",\"\",INDEX(referentes!M:N,MATCH(AI484,referentes!N:N,0),1))","v":""},{"$f":"IF(I484=\"\",\"\",INDEX(referentes!P:Q,MATCH(I484,referentes!Q:Q,0),1))","v":""},{"$f":"IF(J484=\"\",\"\",INDEX(referentes!S:T,MATCH(J484,referentes!T:T,0),1))","v":""},{"$f":"IF(AB484=\"\",\"\",INDEX(referentes!V:W,MATCH(AB484,referentes!W:W,0),1))","v":""},{"$f":"IF(Y484=\"\",\"\",INDEX(referentes!AZ:BA,MATCH(Y484,referentes!BA:BA,0),1))","v":""},"","","","",{"$f":"IF(BP484=\"\",\"\",INDEX(referentes!AE:AF,MATCH(BP484,referentes!AF:AF,0),1))","v":""},{"$f":"IF(BQ484=\"\",\"\",INDEX(referentes!AH:AI,MATCH(BQ484,referentes!AI:AI,0),1))","v":""},null,{"$f":"IF(D484=\"\",\"\",INDEX(referentes!A:B,MATCH(D484,referentes!B:B,0),1))","v":""},{"$f":"IF(AT484=\"\",\"\",INDEX(referentes!Y:Z,MATCH(AT484,referentes!Z:Z,0),1))","v":""},{"$f":"IF(AU484=\"\",\"\",INDEX(referentes!AB:AC,MATCH(AU484,referentes!AC:AC,0),1))","v":""}]
[null,{"$f":"IF(BT485=\"\",\"\",IF(COUNTIF($BT485:BT485, BT485)>1, \"\", BT485))","v":""},null,null,null,null,null,null,null,null,null,null,{"$f":"IF(L485=\"\",\"\",INDEX(referentes!AK:AL,MATCH(L485,referentes!AL:AL,0),1))","v":""},"",null,484,{"$f":"IF(K485=\"\",\"\",INDEX('Otras referencias'!F:I,MATCH(K485,'Otras referencias'!I:I,0),1))","v":""},"",null,null,null,null,null,null,null,null,null,null,null,null,null,null,null,null,null,null,null,null,null,null,null,null,null,null,null,null,null,null,null,null,null,null,0,0,0,0,0,0,0,0,null,null,null,null,null,0,null,null,null,null,null,{"$f":"IF(R485<>\"\",CONCATENATE($A$2,DIGITADOR!$M$1,ROW()-2),\"\")","v":""},"",{"$f":"IF(E485=\"\",\"\",INDEX(referentes!D:E,MATCH(E485,referentes!E:E,0),1))","v":""},{"$f":"IF(F485=\"\",\"\",INDEX(referentes!J:K,MATCH(F485,referentes!K:K,0),1))","v":""},{"$f":"IF(AI485=\"\",\"\",INDEX(referentes!M:N,MATCH(AI485,referentes!N:N,0),1))","v":""},{"$f":"IF(I485=\"\",\"\",INDEX(referentes!P:Q,MATCH(I485,referentes!Q:Q,0),1))","v":""},{"$f":"IF(J485=\"\",\"\",INDEX(referentes!S:T,MATCH(J485,referentes!T:T,0),1))","v":""},{"$f":"IF(AB485=\"\",\"\",INDEX(referentes!V:W,MATCH(AB485,referentes!W:W,0),1))","v":""},{"$f":"IF(Y485=\"\",\"\",INDEX(referentes!AZ:BA,MATCH(Y485,referentes!BA:BA,0),1))","v":""},"","","","",{"$f":"IF(BP485=\"\",\"\",INDEX(referentes!AE:AF,MATCH(BP485,referentes!AF:AF,0),1))","v":""},{"$f":"IF(BQ485=\"\",\"\",INDEX(referentes!AH:AI,MATCH(BQ485,referentes!AI:AI,0),1))","v":""},null,{"$f":"IF(D485=\"\",\"\",INDEX(referentes!A:B,MATCH(D485,referentes!B:B,0),1))","v":""},{"$f":"IF(AT485=\"\",\"\",INDEX(referentes!Y:Z,MATCH(AT485,referentes!Z:Z,0),1))","v":""},{"$f":"IF(AU485=\"\",\"\",INDEX(referentes!AB:AC,MATCH(AU485,referentes!AC:AC,0),1))","v":""}]
[null,{"$f":"IF(BT486=\"\",\"\",IF(COUNTIF($BT486:BT486, BT486)>1, \"\", BT486))","v":""},null,null,null,null,null,null,null,null,null,null,{"$f":"IF(L486=\"\",\"\",INDEX(referentes!AK:AL,MATCH(L486,referentes!AL:AL,0),1))","v":""},"",null,485,{"$f":"IF(K486=\"\",\"\",INDEX('Otras referencias'!F:I,MATCH(K486,'Otras referencias'!I:I,0),1))","v":""},"",null,null,null,null,null,null,null,null,null,null,null,null,null,null,null,null,null,null,null,null,null,null,null,null,null,null,null,null,null,null,null,null,null,null,0,0,0,0,0,0,0,0,null,null,null,null,null,0,null,null,null,null,null,{"$f":"IF(R486<>\"\",CONCATENATE($A$2,DIGITADOR!$M$1,ROW()-2),\"\")","v":""},"",{"$f":"IF(E486=\"\",\"\",INDEX(referentes!D:E,MATCH(E486,referentes!E:E,0),1))","v":""},{"$f":"IF(F486=\"\",\"\",INDEX(referentes!J:K,MATCH(F486,referentes!K:K,0),1))","v":""},{"$f":"IF(AI486=\"\",\"\",INDEX(referentes!M:N,MATCH(AI486,referentes!N:N,0),1))","v":""},{"$f":"IF(I486=\"\",\"\",INDEX(referentes!P:Q,MATCH(I486,referentes!Q:Q,0),1))","v":""},{"$f":"IF(J486=\"\",\"\",INDEX(referentes!S:T,MATCH(J486,referentes!T:T,0),1))","v":""},{"$f":"IF(AB486=\"\",\"\",INDEX(referentes!V:W,MATCH(AB486,referentes!W:W,0),1))","v":""},{"$f":"IF(Y486=\"\",\"\",INDEX(referentes!AZ:BA,MATCH(Y486,referentes!BA:BA,0),1))","v":""},"","","","",{"$f":"IF(BP486=\"\",\"\",INDEX(referentes!AE:AF,MATCH(BP486,referentes!AF:AF,0),1))","v":""},{"$f":"IF(BQ486=\"\",\"\",INDEX(referentes!AH:AI,MATCH(BQ486,referentes!AI:AI,0),1))","v":""},null,{"$f":"IF(D486=\"\",\"\",INDEX(referentes!A:B,MATCH(D486,referentes!B:B,0),1))","v":""},{"$f":"IF(AT486=\"\",\"\",INDEX(referentes!Y:Z,MATCH(AT486,referentes!Z:Z,0),1))","v":""},{"$f":"IF(AU486=\"\",\"\",INDEX(referentes!AB:AC,MATCH(AU486,referentes!AC:AC,0),1))","v":""}]
[null,{"$f":"IF(BT487=\"\",\"\",IF(COUNTIF($BT487:BT487, BT487)>1, \"\", BT487))","v":""},null,null,null,null,null,null,null,null,null,null,{"$f":"IF(L487=\"\",\"\",INDEX(referentes!AK:AL,MATCH(L487,referentes!AL:AL,0),1))","v":""},"",null,486,{"$f":"IF(K487=\"\",\"\",INDEX('Otras referencias'!F:I,MATCH(K487,'Otras referencias'!I:I,0),1))","v":""},"",null,null,null,null,null,null,null,null,null,null,null,null,null,null,null,null,null,null,null,null,null,null,null,null,null,null,null,null,null,null,null,null,null,null,0,0,0,0,0,0,0,0,null,null,null,null,null,0,null,null,null,null,null,{"$f":"IF(R487<>\"\",CONCATENATE($A$2,DIGITADOR!$M$1,ROW()-2),\"\")","v":""},"",{"$f":"IF(E487=\"\",\"\",INDEX(referentes!D:E,MATCH(E487,referentes!E:E,0),1))","v":""},{"$f":"IF(F487=\"\",\"\",INDEX(referentes!J:K,MATCH(F487,referentes!K:K,0),1))","v":""},{"$f":"IF(AI487=\"\",\"\",INDEX(referentes!M:N,MATCH(AI487,referentes!N:N,0),1))","v":""},{"$f":"IF(I487=\"\",\"\",INDEX(referentes!P:Q,MATCH(I487,referentes!Q:Q,0),1))","v":""},{"$f":"IF(J487=\"\",\"\",INDEX(referentes!S:T,MATCH(J487,referentes!T:T,0),1))","v":""},{"$f":"IF(AB487=\"\",\"\",INDEX(referentes!V:W,MATCH(AB487,referentes!W:W,0),1))","v":""},{"$f":"IF(Y487=\"\",\"\",INDEX(referentes!AZ:BA,MATCH(Y487,referentes!BA:BA,0),1))","v":""},"","","","",{"$f":"IF(BP487=\"\",\"\",INDEX(referentes!AE:AF,MATCH(BP487,referentes!AF:AF,0),1))","v":""},{"$f":"IF(BQ487=\"\",\"\",INDEX(referentes!AH:AI,MATCH(BQ487,referentes!AI:AI,0),1))","v":""},null,{"$f":"IF(D487=\"\",\"\",INDEX(referentes!A:B,MATCH(D487,referentes!B:B,0),1))","v":""},{"$f":"IF(AT487=\"\",\"\",INDEX(referentes!Y:Z,MATCH(AT487,referentes!Z:Z,0),1))","v":""},{"$f":"IF(AU487=\"\",\"\",INDEX(referentes!AB:AC,MATCH(AU487,referentes!AC:AC,0),1))","v":""}]
[null,{"$f":"IF(BT488=\"\",\"\",IF(COUNTIF($BT488:BT488, BT488)>1, \"\", BT488))","v":""},null,null,null,null,null,null,null,null,null,null,{"$f":"IF(L488=\"\",\"\",INDEX(referentes!AK:AL,MATCH(L488,referentes!AL:AL,0),1))","v":""},"",null,487,{"$f":"IF(K488=\"\",\"\",INDEX('Otras referencias'!F:I,MATCH(K488,'Otras referencias'!I:I,0),1))","v":""},"",null,null,null,null,null,null,null,null,null,null,null,null,null,null,null,null,null,null,null,null,null,null,null,null,null,null,null,null,null,null,null,null,null,null,0,0,0,0,0,0,0,0,null,null,null,null,null,0,null,null,null,null,null,{"$f":"IF(R488<>\"\",CONCATENATE($A$2,DIGITADOR!$M$1,ROW()-2),\"\")","v":""},"",{"$f":"IF(E488=\"\",\"\",INDEX(referentes!D:E,MATCH(E488,referentes!E:E,0),1))","v":""},{"$f":"IF(F488=\"\",\"\",INDEX(referentes!J:K,MATCH(F488,referentes!K:K,0),1))","v":""},{"$f":"IF(AI488=\"\",\"\",INDEX(referentes!M:N,MATCH(AI488,referentes!N:N,0),1))","v":""},{"$f":"IF(I488=\"\",\"\",INDEX(referentes!P:Q,MATCH(I488,referentes!Q:Q,0),1))","v":""},{"$f":"IF(J488=\"\",\"\",INDEX(referentes!S:T,MATCH(J488,referentes!T:T,0),1))","v":""},{"$f":"IF(AB488=\"\",\"\",INDEX(referentes!V:W,MATCH(AB488,referentes!W:W,0),1))","v":""},{"$f":"IF(Y488=\"\",\"\",INDEX(referentes!AZ:BA,MATCH(Y488,referentes!BA:BA,0),1))","v":""},"","","","",{"$f":"IF(BP488=\"\",\"\",INDEX(referentes!AE:AF,MATCH(BP488,referentes!AF:AF,0),1))","v":""},{"$f":"IF(BQ488=\"\",\"\",INDEX(referentes!AH:AI,MATCH(BQ488,referentes!AI:AI,0),1))","v":""},null,{"$f":"IF(D488=\"\",\"\",INDEX(referentes!A:B,MATCH(D488,referentes!B:B,0),1))","v":""},{"$f":"IF(AT488=\"\",\"\",INDEX(referentes!Y:Z,MATCH(AT488,referentes!Z:Z,0),1))","v":""},{"$f":"IF(AU488=\"\",\"\",INDEX(referentes!AB:AC,MATCH(AU488,referentes!AC:AC,0),1))","v":""}]
[null,{"$f":"IF(BT489=\"\",\"\",IF(COUNTIF($BT489:BT489, BT489)>1, \"\", BT489))","v":""},null,null,null,null,null,null,null,null,null,null,{"$f":"IF(L489=\"\",\"\",INDEX(referentes!AK:AL,MATCH(L489,referentes!AL:AL,0),1))","v":""},"",null,488,{"$f":"IF(K489=\"\",\"\",INDEX('Otras referencias'!F:I,MATCH(K489,'Otras referencias'!I:I,0),1))","v":""},"",null,null,null,null,null,null,null,null,null,null,null,null,null,null,null,null,null,null,null,null,null,null,null,null,null,null,null,null,null,null,null,null,null,null,0,0,0,0,0,0,0,0,null,null,null,null,null,0,null,null,null,null,null,{"$f":"IF(R489<>\"\",CONCATENATE($A$2,DIGITADOR!$M$1,ROW()-2),\"\")","v":""},"",{"$f":"IF(E489=\"\",\"\",INDEX(referentes!D:E,MATCH(E489,referentes!E:E,0),1))","v":""},{"$f":"IF(F489=\"\",\"\",INDEX(referentes!J:K,MATCH(F489,referentes!K:K,0),1))","v":""},{"$f":"IF(AI489=\"\",\"\",INDEX(referentes!M:N,MATCH(AI489,referentes!N:N,0),1))","v":""},{"$f":"IF(I489=\"\",\"\",INDEX(referentes!P:Q,MATCH(I489,referentes!Q:Q,0),1))","v":""},{"$f":"IF(J489=\"\",\"\",INDEX(referentes!S:T,MATCH(J489,referentes!T:T,0),1))","v":""},{"$f":"IF(AB489=\"\",\"\",INDEX(referentes!V:W,MATCH(AB489,referentes!W:W,0),1))","v":""},{"$f":"IF(Y489=\"\",\"\",INDEX(referentes!AZ:BA,MATCH(Y489,referentes!BA:BA,0),1))","v":""},"","","","",{"$f":"IF(BP489=\"\",\"\",INDEX(referentes!AE:AF,MATCH(BP489,referentes!AF:AF,0),1))","v":""},{"$f":"IF(BQ489=\"\",\"\",INDEX(referentes!AH:AI,MATCH(BQ489,referentes!AI:AI,0),1))","v":""},null,{"$f":"IF(D489=\"\",\"\",INDEX(referentes!A:B,MATCH(D489,referentes!B:B,0),1))","v":""},{"$f":"IF(AT489=\"\",\"\",INDEX(referentes!Y:Z,MATCH(AT489,referentes!Z:Z,0),1))","v":""},{"$f":"IF(AU489=\"\",\"\",INDEX(referentes!AB:AC,MATCH(AU489,referentes!AC:AC,0),1))","v":""}]
[null,{"$f":"IF(BT490=\"\",\"\",IF(COUNTIF($BT490:BT490, BT490)>1, \"\", BT490))","v":""},null,null,null,null,null,null,null,null,null,null,{"$f":"IF(L490=\"\",\"\",INDEX(referentes!AK:AL,MATCH(L490,referentes!AL:AL,0),1))","v":""},"",null,489,{"$f":"IF(K490=\"\",\"\",INDEX('Otras referencias'!F:I,MATCH(K490,'Otras referencias'!I:I,0),1))","v":""},"",null,null,null,null,null,null,null,null,null,null,null,null,null,null,null,null,null,null,null,null,null,null,null,null,null,null,null,null,null,null,null,null,null,null,0,0,0,0,0,0,0,0,null,null,null,null,null,0,null,null,null,null,null,{"$f":"IF(R490<>\"\",CONCATENATE($A$2,DIGITADOR!$M$1,ROW()-2),\"\")","v":""},"",{"$f":"IF(E490=\"\",\"\",INDEX(referentes!D:E,MATCH(E490,referentes!E:E,0),1))","v":""},{"$f":"IF(F490=\"\",\"\",INDEX(referentes!J:K,MATCH(F490,referentes!K:K,0),1))","v":""},{"$f":"IF(AI490=\"\",\"\",INDEX(referentes!M:N,MATCH(AI490,referentes!N:N,0),1))","v":""},{"$f":"IF(I490=\"\",\"\",INDEX(referentes!P:Q,MATCH(I490,referentes!Q:Q,0),1))","v":""},{"$f":"IF(J490=\"\",\"\",INDEX(referentes!S:T,MATCH(J490,referentes!T:T,0),1))","v":""},{"$f":"IF(AB490=\"\",\"\",INDEX(referentes!V:W,MATCH(AB490,referentes!W:W,0),1))","v":""},{"$f":"IF(Y490=\"\",\"\",INDEX(referentes!AZ:BA,MATCH(Y490,referentes!BA:BA,0),1))","v":""},"","","","",{"$f":"IF(BP490=\"\",\"\",INDEX(referentes!AE:AF,MATCH(BP490,referentes!AF:AF,0),1))","v":""},{"$f":"IF(BQ490=\"\",\"\",INDEX(referentes!AH:AI,MATCH(BQ490,referentes!AI:AI,0),1))","v":""},null,{"$f":"IF(D490=\"\",\"\",INDEX(referentes!A:B,MATCH(D490,referentes!B:B,0),1))","v":""},{"$f":"IF(AT490=\"\",\"\",INDEX(referentes!Y:Z,MATCH(AT490,referentes!Z:Z,0),1))","v":""},{"$f":"IF(AU490=\"\",\"\",INDEX(referentes!AB:AC,MATCH(AU490,referentes!AC:AC,0),1))","v":""}]
[null,{"$f":"IF(BT491=\"\",\"\",IF(COUNTIF($BT491:BT491, BT491)>1, \"\", BT491))","v":""},null,null,null,null,null,null,null,null,null,null,{"$f":"IF(L491=\"\",\"\",INDEX(referentes!AK:AL,MATCH(L491,referentes!AL:AL,0),1))","v":""},"",null,490,{"$f":"IF(K491=\"\",\"\",INDEX('Otras referencias'!F:I,MATCH(K491,'Otras referencias'!I:I,0),1))","v":""},"",null,null,null,null,null,null,null,null,null,null,null,null,null,null,null,null,null,null,null,null,null,null,null,null,null,null,null,null,null,null,null,null,null,null,0,0,0,0,0,0,0,0,null,null,null,null,null,0,null,null,null,null,null,{"$f":"IF(R491<>\"\",CONCATENATE($A$2,DIGITADOR!$M$1,ROW()-2),\"\")","v":""},"",{"$f":"IF(E491=\"\",\"\",INDEX(referentes!D:E,MATCH(E491,referentes!E:E,0),1))","v":""},{"$f":"IF(F491=\"\",\"\",INDEX(referentes!J:K,MATCH(F491,referentes!K:K,0),1))","v":""},{"$f":"IF(AI491=\"\",\"\",INDEX(referentes!M:N,MATCH(AI491,referentes!N:N,0),1))","v":""},{"$f":"IF(I491=\"\",\"\",INDEX(referentes!P:Q,MATCH(I491,referentes!Q:Q,0),1))","v":""},{"$f":"IF(J491=\"\",\"\",INDEX(referentes!S:T,MATCH(J491,referentes!T:T,0),1))","v":""},{"$f":"IF(AB491=\"\",\"\",INDEX(referentes!V:W,MATCH(AB491,referentes!W:W,0),1))","v":""},{"$f":"IF(Y491=\"\",\"\",INDEX(referentes!AZ:BA,MATCH(Y491,referentes!BA:BA,0),1))","v":""},"","","","",{"$f":"IF(BP491=\"\",\"\",INDEX(referentes!AE:AF,MATCH(BP491,referentes!AF:AF,0),1))","v":""},{"$f":"IF(BQ491=\"\",\"\",INDEX(referentes!AH:AI,MATCH(BQ491,referentes!AI:AI,0),1))","v":""},null,{"$f":"IF(D491=\"\",\"\",INDEX(referentes!A:B,MATCH(D491,referentes!B:B,0),1))","v":""},{"$f":"IF(AT491=\"\",\"\",INDEX(referentes!Y:Z,MATCH(AT491,referentes!Z:Z,0),1))","v":""},{"$f":"IF(AU491=\"\",\"\",INDEX(referentes!AB:AC,MATCH(AU491,referentes!AC:AC,0),1))","v":""}]
[null,{"$f":"IF(BT492=\"\",\"\",IF(COUNTIF($BT492:BT492, BT492)>1, \"\", BT492))","v":""},null,null,null,null,null,null,null,null,null,null,{"$f":"IF(L492=\"\",\"\",INDEX(referentes!AK:AL,MATCH(L492,referentes!AL:AL,0),1))","v":""},"",null,491,{"$f":"IF(K492=\"\",\"\",INDEX('Otras referencias'!F:I,MATCH(K492,'Otras referencias'!I:I,0),1))","v":""},"",null,null,null,null,null,null,null,null,null,null,null,null,null,null,null,null,null,null,null,null,null,null,null,null,null,null,null,null,null,null,null,null,null,null,0,0,0,0,0,0,0,0,null,null,null,null,null,0,null,null,null,null,null,{"$f":"IF(R492<>\"\",CONCATENATE($A$2,DIGITADOR!$M$1,ROW()-2),\"\")","v":""},"",{"$f":"IF(E492=\"\",\"\",INDEX(referentes!D:E,MATCH(E492,referentes!E:E,0),1))","v":""},{"$f":"IF(F492=\"\",\"\",INDEX(referentes!J:K,MATCH(F492,referentes!K:K,0),1))","v":""},{"$f":"IF(AI492=\"\",\"\",INDEX(referentes!M:N,MATCH(AI492,referentes!N:N,0),1))","v":""},{"$f":"IF(I492=\"\",\"\",INDEX(referentes!P:Q,MATCH(I492,referentes!Q:Q,0),1))","v":""},{"$f":"IF(J492=\"\",\"\",INDEX(referentes!S:T,MATCH(J492,referentes!T:T,0),1))","v":""},{"$f":"IF(AB492=\"\",\"\",INDEX(referentes!V:W,MATCH(AB492,referentes!W:W,0),1))","v":""},{"$f":"IF(Y492=\"\",\"\",INDEX(referentes!AZ:BA,MATCH(Y492,referentes!BA:BA,0),1))","v":""},"","","","",{"$f":"IF(BP492=\"\",\"\",INDEX(referentes!AE:AF,MATCH(BP492,referentes!AF:AF,0),1))","v":""},{"$f":"IF(BQ492=\"\",\"\",INDEX(referentes!AH:AI,MATCH(BQ492,referentes!AI:AI,0),1))","v":""},null,{"$f":"IF(D492=\"\",\"\",INDEX(referentes!A:B,MATCH(D492,referentes!B:B,0),1))","v":""},{"$f":"IF(AT492=\"\",\"\",INDEX(referentes!Y:Z,MATCH(AT492,referentes!Z:Z,0),1))","v":""},{"$f":"IF(AU492=\"\",\"\",INDEX(referentes!AB:AC,MATCH(AU492,referentes!AC:AC,0),1))","v":""}]
[null,{"$f":"IF(BT493=\"\",\"\",IF(COUNTIF($BT493:BT493, BT493)>1, \"\", BT493))","v":""},null,null,null,null,null,null,null,null,null,null,{"$f":"IF(L493=\"\",\"\",INDEX(referentes!AK:AL,MATCH(L493,referentes!AL:AL,0),1))","v":""},"",null,492,{"$f":"IF(K493=\"\",\"\",INDEX('Otras referencias'!F:I,MATCH(K493,'Otras referencias'!I:I,0),1))","v":""},"",null,null,null,null,null,null,null,null,null,null,null,null,null,null,null,null,null,null,null,null,null,null,null,null,null,null,null,null,null,null,null,null,null,null,0,0,0,0,0,0,0,0,null,null,null,null,null,0,null,null,null,null,null,{"$f":"IF(R493<>\"\",CONCATENATE($A$2,DIGITADOR!$M$1,ROW()-2),\"\")","v":""},"",{"$f":"IF(E493=\"\",\"\",INDEX(referentes!D:E,MATCH(E493,referentes!E:E,0),1))","v":""},{"$f":"IF(F493=\"\",\"\",INDEX(referentes!J:K,MATCH(F493,referentes!K:K,0),1))","v":""},{"$f":"IF(AI493=\"\",\"\",INDEX(referentes!M:N,MATCH(AI493,referentes!N:N,0),1))","v":""},{"$f":"IF(I493=\"\",\"\",INDEX(referentes!P:Q,MATCH(I493,referentes!Q:Q,0),1))","v":""},{"$f":"IF(J493=\"\",\"\",INDEX(referentes!S:T,MATCH(J493,referentes!T:T,0),1))","v":""},{"$f":"IF(AB493=\"\",\"\",INDEX(referentes!V:W,MATCH(AB493,referentes!W:W,0),1))","v":""},{"$f":"IF(Y493=\"\",\"\",INDEX(referentes!AZ:BA,MATCH(Y493,referentes!BA:BA,0),1))","v":""},"","","","",{"$f":"IF(BP493=\"\",\"\",INDEX(referentes!AE:AF,MATCH(BP493,referentes!AF:AF,0),1))","v":""},{"$f":"IF(BQ493=\"\",\"\",INDEX(referentes!AH:AI,MATCH(BQ493,referentes!AI:AI,0),1))","v":""},null,{"$f":"IF(D493=\"\",\"\",INDEX(referentes!A:B,MATCH(D493,referentes!B:B,0),1))","v":""},{"$f":"IF(AT493=\"\",\"\",INDEX(referentes!Y:Z,MATCH(AT493,referentes!Z:Z,0),1))","v":""},{"$f":"IF(AU493=\"\",\"\",INDEX(referentes!AB:AC,MATCH(AU493,referentes!AC:AC,0),1))","v":""}]
[null,{"$f":"IF(BT494=\"\",\"\",IF(COUNTIF($BT494:BT494, BT494)>1, \"\", BT494))","v":""},null,null,null,null,null,null,null,null,null,null,{"$f":"IF(L494=\"\",\"\",INDEX(referentes!AK:AL,MATCH(L494,referentes!AL:AL,0),1))","v":""},"",null,493,{"$f":"IF(K494=\"\",\"\",INDEX('Otras referencias'!F:I,MATCH(K494,'Otras referencias'!I:I,0),1))","v":""},"",null,null,null,null,null,null,null,null,null,null,null,null,null,null,null,null,null,null,null,null,null,null,null,null,null,null,null,null,null,null,null,null,null,null,0,0,0,0,0,0,0,0,null,null,null,null,null,0,null,null,null,null,null,{"$f":"IF(R494<>\"\",CONCATENATE($A$2,DIGITADOR!$M$1,ROW()-2),\"\")","v":""},"",{"$f":"IF(E494=\"\",\"\",INDEX(referentes!D:E,MATCH(E494,referentes!E:E,0),1))","v":""},{"$f":"IF(F494=\"\",\"\",INDEX(referentes!J:K,MATCH(F494,referentes!K:K,0),1))","v":""},{"$f":"IF(AI494=\"\",\"\",INDEX(referentes!M:N,MATCH(AI494,referentes!N:N,0),1))","v":""},{"$f":"IF(I494=\"\",\"\",INDEX(referentes!P:Q,MATCH(I494,referentes!Q:Q,0),1))","v":""},{"$f":"IF(J494=\"\",\"\",INDEX(referentes!S:T,MATCH(J494,referentes!T:T,0),1))","v":""},{"$f":"IF(AB494=\"\",\"\",INDEX(referentes!V:W,MATCH(AB494,referentes!W:W,0),1))","v":""},{"$f":"IF(Y494=\"\",\"\",INDEX(referentes!AZ:BA,MATCH(Y494,referentes!BA:BA,0),1))","v":""},"","","","",{"$f":"IF(BP494=\"\",\"\",INDEX(referentes!AE:AF,MATCH(BP494,referentes!AF:AF,0),1))","v":""},{"$f":"IF(BQ494=\"\",\"\",INDEX(referentes!AH:AI,MATCH(BQ494,referentes!AI:AI,0),1))","v":""},null,{"$f":"IF(D494=\"\",\"\",INDEX(referentes!A:B,MATCH(D494,referentes!B:B,0),1))","v":""},{"$f":"IF(AT494=\"\",\"\",INDEX(referentes!Y:Z,MATCH(AT494,referentes!Z:Z,0),1))","v":""},{"$f":"IF(AU494=\"\",\"\",INDEX(referentes!AB:AC,MATCH(AU494,referentes!AC:AC,0),1))","v":""}]
[null,{"$f":"IF(BT495=\"\",\"\",IF(COUNTIF($BT495:BT495, BT495)>1, \"\", BT495))","v":""},null,null,null,null,null,null,null,null,null,null,{"$f":"IF(L495=\"\",\"\",INDEX(referentes!AK:AL,MATCH(L495,referentes!AL:AL,0),1))","v":""},"",null,494,{"$f":"IF(K495=\"\",\"\",INDEX('Otras referencias'!F:I,MATCH(K495,'Otras referencias'!I:I,0),1))","v":""},"",null,null,null,null,null,null,null,null,null,null,null,null,null,null,null,null,null,null,null,null,null,null,null,null,null,null,null,null,null,null,null,null,null,null,0,0,0,0,0,0,0,0,null,null,null,null,null,0,null,null,null,null,null,{"$f":"IF(R495<>\"\",CONCATENATE($A$2,DIGITADOR!$M$1,ROW()-2),\"\")","v":""},"",{"$f":"IF(E495=\"\",\"\",INDEX(referentes!D:E,MATCH(E495,referentes!E:E,0),1))","v":""},{"$f":"IF(F495=\"\",\"\",INDEX(referentes!J:K,MATCH(F495,referentes!K:K,0),1))","v":""},{"$f":"IF(AI495=\"\",\"\",INDEX(referentes!M:N,MATCH(AI495,referentes!N:N,0),1))","v":""},{"$f":"IF(I495=\"\",\"\",INDEX(referentes!P:Q,MATCH(I495,referentes!Q:Q,0),1))","v":""},{"$f":"IF(J495=\"\",\"\",INDEX(referentes!S:T,MATCH(J495,referentes!T:T,0),1))","v":""},{"$f":"IF(AB495=\"\",\"\",INDEX(referentes!V:W,MATCH(AB495,referentes!W:W,0),1))","v":""},{"$f":"IF(Y495=\"\",\"\",INDEX(referentes!AZ:BA,MATCH(Y495,referentes!BA:BA,0),1))","v":""},"","","","",{"$f":"IF(BP495=\"\",\"\",INDEX(referentes!AE:AF,MATCH(BP495,referentes!AF:AF,0),1))","v":""},{"$f":"IF(BQ495=\"\",\"\",INDEX(referentes!AH:AI,MATCH(BQ495,referentes!AI:AI,0),1))","v":""},null,{"$f":"IF(D495=\"\",\"\",INDEX(referentes!A:B,MATCH(D495,referentes!B:B,0),1))","v":""},{"$f":"IF(AT495=\"\",\"\",INDEX(referentes!Y:Z,MATCH(AT495,referentes!Z:Z,0),1))","v":""},{"$f":"IF(AU495=\"\",\"\",INDEX(referentes!AB:AC,MATCH(AU495,referentes!AC:AC,0),1))","v":""}]
[null,{"$f":"IF(BT496=\"\",\"\",IF(COUNTIF($BT496:BT496, BT496)>1, \"\", BT496))","v":""},null,null,null,null,null,null,null,null,null,null,{"$f":"IF(L496=\"\",\"\",INDEX(referentes!AK:AL,MATCH(L496,referentes!AL:AL,0),1))","v":""},"",null,495,{"$f":"IF(K496=\"\",\"\",INDEX('Otras referencias'!F:I,MATCH(K496,'Otras referencias'!I:I,0),1))","v":""},"",null,null,null,null,null,null,null,null,null,null,null,null,null,null,null,null,null,null,null,null,null,null,null,null,null,null,null,null,null,null,null,null,null,null,0,0,0,0,0,0,0,0,null,null,null,null,null,0,null,null,null,null,null,{"$f":"IF(R496<>\"\",CONCATENATE($A$2,DIGITADOR!$M$1,ROW()-2),\"\")","v":""},"",{"$f":"IF(E496=\"\",\"\",INDEX(referentes!D:E,MATCH(E496,referentes!E:E,0),1))","v":""},{"$f":"IF(F496=\"\",\"\",INDEX(referentes!J:K,MATCH(F496,referentes!K:K,0),1))","v":""},{"$f":"IF(AI496=\"\",\"\",INDEX(referentes!M:N,MATCH(AI496,referentes!N:N,0),1))","v":""},{"$f":"IF(I496=\"\",\"\",INDEX(referentes!P:Q,MATCH(I496,referentes!Q:Q,0),1))","v":""},{"$f":"IF(J496=\"\",\"\",INDEX(referentes!S:T,MATCH(J496,referentes!T:T,0),1))","v":""},{"$f":"IF(AB496=\"\",\"\",INDEX(referentes!V:W,MATCH(AB496,referentes!W:W,0),1))","v":""},{"$f":"IF(Y496=\"\",\"\",INDEX(referentes!AZ:BA,MATCH(Y496,referentes!BA:BA,0),1))","v":""},"","","","",{"$f":"IF(BP496=\"\",\"\",INDEX(referentes!AE:AF,MATCH(BP496,referentes!AF:AF,0),1))","v":""},{"$f":"IF(BQ496=\"\",\"\",INDEX(referentes!AH:AI,MATCH(BQ496,referentes!AI:AI,0),1))","v":""},null,{"$f":"IF(D496=\"\",\"\",INDEX(referentes!A:B,MATCH(D496,referentes!B:B,0),1))","v":""},{"$f":"IF(AT496=\"\",\"\",INDEX(referentes!Y:Z,MATCH(AT496,referentes!Z:Z,0),1))","v":""},{"$f":"IF(AU496=\"\",\"\",INDEX(referentes!AB:AC,MATCH(AU496,referentes!AC:AC,0),1))","v":""}]
[null,{"$f":"IF(BT497=\"\",\"\",IF(COUNTIF($BT497:BT497, BT497)>1, \"\", BT497))","v":""},null,null,null,null,null,null,null,null,null,null,{"$f":"IF(L497=\"\",\"\",INDEX(referentes!AK:AL,MATCH(L497,referentes!AL:AL,0),1))","v":""},"",null,496,{"$f":"IF(K497=\"\",\"\",INDEX('Otras referencias'!F:I,MATCH(K497,'Otras referencias'!I:I,0),1))","v":""},"",null,null,null,null,null,null,null,null,null,null,null,null,null,null,null,null,null,null,null,null,null,null,null,null,null,null,null,null,null,null,null,null,null,null,0,0,0,0,0,0,0,0,null,null,null,null,null,0,null,null,null,null,null,{"$f":"IF(R497<>\"\",CONCATENATE($A$2,DIGITADOR!$M$1,ROW()-2),\"\")","v":""},"",{"$f":"IF(E497=\"\",\"\",INDEX(referentes!D:E,MATCH(E497,referentes!E:E,0),1))","v":""},{"$f":"IF(F497=\"\",\"\",INDEX(referentes!J:K,MATCH(F497,referentes!K:K,0),1))","v":""},{"$f":"IF(AI497=\"\",\"\",INDEX(referentes!M:N,MATCH(AI497,referentes!N:N,0),1))","v":""},{"$f":"IF(I497=\"\",\"\",INDEX(referentes!P:Q,MATCH(I497,referentes!Q:Q,0),1))","v":""},{"$f":"IF(J497=\"\",\"\",INDEX(referentes!S:T,MATCH(J497,referentes!T:T,0),1))","v":""},{"$f":"IF(AB497=\"\",\"\",INDEX(referentes!V:W,MATCH(AB497,referentes!W:W,0),1))","v":""},{"$f":"IF(Y497=\"\",\"\",INDEX(referentes!AZ:BA,MATCH(Y497,referentes!BA:BA,0),1))","v":""},"","","","",{"$f":"IF(BP497=\"\",\"\",INDEX(referentes!AE:AF,MATCH(BP497,referentes!AF:AF,0),1))","v":""},{"$f":"IF(BQ497=\"\",\"\",INDEX(referentes!AH:AI,MATCH(BQ497,referentes!AI:AI,0),1))","v":""},null,{"$f":"IF(D497=\"\",\"\",INDEX(referentes!A:B,MATCH(D497,referentes!B:B,0),1))","v":""},{"$f":"IF(AT497=\"\",\"\",INDEX(referentes!Y:Z,MATCH(AT497,referentes!Z:Z,0),1))","v":""},{"$f":"IF(AU497=\"\",\"\",INDEX(referentes!AB:AC,MATCH(AU497,referentes!AC:AC,0),1))","v":""}]
[null,{"$f":"IF(BT498=\"\",\"\",IF(COUNTIF($BT498:BT498, BT498)>1, \"\", BT498))","v":""},null,null,null,null,null,null,null,null,null,null,{"$f":"IF(L498=\"\",\"\",INDEX(referentes!AK:AL,MATCH(L498,referentes!AL:AL,0),1))","v":""},"",null,497,{"$f":"IF(K498=\"\",\"\",INDEX('Otras referencias'!F:I,MATCH(K498,'Otras referencias'!I:I,0),1))","v":""},"",null,null,null,null,null,null,null,null,null,null,null,null,null,null,null,null,null,null,null,null,null,null,null,null,null,null,null,null,null,null,null,null,null,null,0,0,0,0,0,0,0,0,null,null,null,null,null,0,null,null,null,null,null,{"$f":"IF(R498<>\"\",CONCATENATE($A$2,DIGITADOR!$M$1,ROW()-2),\"\")","v":""},"",{"$f":"IF(E498=\"\",\"\",INDEX(referentes!D:E,MATCH(E498,referentes!E:E,0),1))","v":""},{"$f":"IF(F498=\"\",\"\",INDEX(referentes!J:K,MATCH(F498,referentes!K:K,0),1))","v":""},{"$f":"IF(AI498=\"\",\"\",INDEX(referentes!M:N,MATCH(AI498,referentes!N:N,0),1))","v":""},{"$f":"IF(I498=\"\",\"\",INDEX(referentes!P:Q,MATCH(I498,referentes!Q:Q,0),1))","v":""},{"$f":"IF(J498=\"\",\"\",INDEX(referentes!S:T,MATCH(J498,referentes!T:T,0),1))","v":""},{"$f":"IF(AB498=\"\",\"\",INDEX(referentes!V:W,MATCH(AB498,referentes!W:W,0),1))","v":""},{"$f":"IF(Y498=\"\",\"\",INDEX(referentes!AZ:BA,MATCH(Y498,referentes!BA:BA,0),1))","v":""},"","","","",{"$f":"IF(BP498=\"\",\"\",INDEX(referentes!AE:AF,MATCH(BP498,referentes!AF:AF,0),1))","v":""},{"$f":"IF(BQ498=\"\",\"\",INDEX(referentes!AH:AI,MATCH(BQ498,referentes!AI:AI,0),1))","v":""},null,{"$f":"IF(D498=\"\",\"\",INDEX(referentes!A:B,MATCH(D498,referentes!B:B,0),1))","v":""},{"$f":"IF(AT498=\"\",\"\",INDEX(referentes!Y:Z,MATCH(AT498,referentes!Z:Z,0),1))","v":""},{"$f":"IF(AU498=\"\",\"\",INDEX(referentes!AB:AC,MATCH(AU498,referentes!AC:AC,0),1))","v":""}]
[null,{"$f":"IF(BT499=\"\",\"\",IF(COUNTIF($BT499:BT499, BT499)>1, \"\", BT499))","v":""},null,null,null,null,null,null,null,null,null,null,{"$f":"IF(L499=\"\",\"\",INDEX(referentes!AK:AL,MATCH(L499,referentes!AL:AL,0),1))","v":""},"",null,498,{"$f":"IF(K499=\"\",\"\",INDEX('Otras referencias'!F:I,MATCH(K499,'Otras referencias'!I:I,0),1))","v":""},"",null,null,null,null,null,null,null,null,null,null,null,null,null,null,null,null,null,null,null,null,null,null,null,null,null,null,null,null,null,null,null,null,null,null,0,0,0,0,0,0,0,0,null,null,null,null,null,0,null,null,null,null,null,{"$f":"IF(R499<>\"\",CONCATENATE($A$2,DIGITADOR!$M$1,ROW()-2),\"\")","v":""},"",{"$f":"IF(E499=\"\",\"\",INDEX(referentes!D:E,MATCH(E499,referentes!E:E,0),1))","v":""},{"$f":"IF(F499=\"\",\"\",INDEX(referentes!J:K,MATCH(F499,referentes!K:K,0),1))","v":""},{"$f":"IF(AI499=\"\",\"\",INDEX(referentes!M:N,MATCH(AI499,referentes!N:N,0),1))","v":""},{"$f":"IF(I499=\"\",\"\",INDEX(referentes!P:Q,MATCH(I499,referentes!Q:Q,0),1))","v":""},{"$f":"IF(J499=\"\",\"\",INDEX(referentes!S:T,MATCH(J499,referentes!T:T,0),1))","v":""},{"$f":"IF(AB499=\"\",\"\",INDEX(referentes!V:W,MATCH(AB499,referentes!W:W,0),1))","v":""},{"$f":"IF(Y499=\"\",\"\",INDEX(referentes!AZ:BA,MATCH(Y499,referentes!BA:BA,0),1))","v":""},"","","","",{"$f":"IF(BP499=\"\",\"\",INDEX(referentes!AE:AF,MATCH(BP499,referentes!AF:AF,0),1))","v":""},{"$f":"IF(BQ499=\"\",\"\",INDEX(referentes!AH:AI,MATCH(BQ499,referentes!AI:AI,0),1))","v":""},null,{"$f":"IF(D499=\"\",\"\",INDEX(referentes!A:B,MATCH(D499,referentes!B:B,0),1))","v":""},{"$f":"IF(AT499=\"\",\"\",INDEX(referentes!Y:Z,MATCH(AT499,referentes!Z:Z,0),1))","v":""},{"$f":"IF(AU499=\"\",\"\",INDEX(referentes!AB:AC,MATCH(AU499,referentes!AC:AC,0),1))","v":""}]
[null,{"$f":"IF(BT500=\"\",\"\",IF(COUNTIF($BT500:BT500, BT500)>1, \"\", BT500))","v":""},null,null,null,null,null,null,null,null,null,null,{"$f":"IF(L500=\"\",\"\",INDEX(referentes!AK:AL,MATCH(L500,referentes!AL:AL,0),1))","v":""},"",null,499,{"$f":"IF(K500=\"\",\"\",INDEX('Otras referencias'!F:I,MATCH(K500,'Otras referencias'!I:I,0),1))","v":""},"",null,null,null,null,null,null,null,null,null,null,null,null,null,null,null,null,null,null,null,null,null,null,null,null,null,null,null,null,null,null,null,null,null,null,0,0,0,0,0,0,0,0,null,null,null,null,null,0,null,null,null,null,null,{"$f":"IF(R500<>\"\",CONCATENATE($A$2,DIGITADOR!$M$1,ROW()-2),\"\")","v":""},"",{"$f":"IF(E500=\"\",\"\",INDEX(referentes!D:E,MATCH(E500,referentes!E:E,0),1))","v":""},{"$f":"IF(F500=\"\",\"\",INDEX(referentes!J:K,MATCH(F500,referentes!K:K,0),1))","v":""},{"$f":"IF(AI500=\"\",\"\",INDEX(referentes!M:N,MATCH(AI500,referentes!N:N,0),1))","v":""},{"$f":"IF(I500=\"\",\"\",INDEX(referentes!P:Q,MATCH(I500,referentes!Q:Q,0),1))","v":""},{"$f":"IF(J500=\"\",\"\",INDEX(referentes!S:T,MATCH(J500,referentes!T:T,0),1))","v":""},{"$f":"IF(AB500=\"\",\"\",INDEX(referentes!V:W,MATCH(AB500,referentes!W:W,0),1))","v":""},{"$f":"IF(Y500=\"\",\"\",INDEX(referentes!AZ:BA,MATCH(Y500,referentes!BA:BA,0),1))","v":""},"","","","",{"$f":"IF(BP500=\"\",\"\",INDEX(referentes!AE:AF,MATCH(BP500,referentes!AF:AF,0),1))","v":""},{"$f":"IF(BQ500=\"\",\"\",INDEX(referentes!AH:AI,MATCH(BQ500,referentes!AI:AI,0),1))","v":""},null,{"$f":"IF(D500=\"\",\"\",INDEX(referentes!A:B,MATCH(D500,referentes!B:B,0),1))","v":""},{"$f":"IF(AT500=\"\",\"\",INDEX(referentes!Y:Z,MATCH(AT500,referentes!Z:Z,0),1))","v":""},{"$f":"IF(AU500=\"\",\"\",INDEX(referentes!AB:AC,MATCH(AU500,referentes!AC:AC,0),1))","v":""}]
[null,{"$f":"IF(BT501=\"\",\"\",IF(COUNTIF($BT501:BT501, BT501)>1, \"\", BT501))","v":""},null,null,null,null,null,null,null,null,null,null,{"$f":"IF(L501=\"\",\"\",INDEX(referentes!AK:AL,MATCH(L501,referentes!AL:AL,0),1))","v":""},"",null,500,{"$f":"IF(K501=\"\",\"\",INDEX('Otras referencias'!F:I,MATCH(K501,'Otras referencias'!I:I,0),1))","v":""},"",null,null,null,null,null,null,null,null,null,null,null,null,null,null,null,null,null,null,null,null,null,null,null,null,null,null,null,null,null,null,null,null,null,null,0,0,0,0,0,0,0,0,null,null,null,null,null,0,null,null,null,null,null,{"$f":"IF(R501<>\"\",CONCATENATE($A$2,DIGITADOR!$M$1,ROW()-2),\"\")","v":""},"",{"$f":"IF(E501=\"\",\"\",INDEX(referentes!D:E,MATCH(E501,referentes!E:E,0),1))","v":""},{"$f":"IF(F501=\"\",\"\",INDEX(referentes!J:K,MATCH(F501,referentes!K:K,0),1))","v":""},{"$f":"IF(AI501=\"\",\"\",INDEX(referentes!M:N,MATCH(AI501,referentes!N:N,0),1))","v":""},{"$f":"IF(I501=\"\",\"\",INDEX(referentes!P:Q,MATCH(I501,referentes!Q:Q,0),1))","v":""},{"$f":"IF(J501=\"\",\"\",INDEX(referentes!S:T,MATCH(J501,referentes!T:T,0),1))","v":""},{"$f":"IF(AB501=\"\",\"\",INDEX(referentes!V:W,MATCH(AB501,referentes!W:W,0),1))","v":""},{"$f":"IF(Y501=\"\",\"\",INDEX(referentes!AZ:BA,MATCH(Y501,referentes!BA:BA,0),1))","v":""},"","","","",{"$f":"IF(BP501=\"\",\"\",INDEX(referentes!AE:AF,MATCH(BP501,referentes!AF:AF,0),1))","v":""},{"$f":"IF(BQ501=\"\",\"\",INDEX(referentes!AH:AI,MATCH(BQ501,referentes!AI:AI,0),1))","v":""},null,{"$f":"IF(D501=\"\",\"\",INDEX(referentes!A:B,MATCH(D501,referentes!B:B,0),1))","v":""},{"$f":"IF(AT501=\"\",\"\",INDEX(referentes!Y:Z,MATCH(AT501,referentes!Z:Z,0),1))","v":""},{"$f":"IF(AU501=\"\",\"\",INDEX(referentes!AB:AC,MATCH(AU501,referentes!AC:AC,0),1))","v":""}]
[null,{"$f":"IF(BT502=\"\",\"\",IF(COUNTIF($BT502:BT502, BT502)>1, \"\", BT502))","v":""},null,null,null,null,null,null,null,null,null,null,{"$f":"IF(L502=\"\",\"\",INDEX(referentes!AK:AL,MATCH(L502,referentes!AL:AL,0),1))","v":""},{"$f":"IF(B502=B501,\"\",IF(R501=\"\",\"\",R501))","v":""},null,501,{"$f":"IF(K502=\"\",\"\",INDEX('Otras referencias'!F:I,MATCH(K502,'Otras referencias'!I:I,0),1))","v":""},{"$f":"IF(U502=\"\",\"\",DATEVALUE(CONCATENATE(U502,\"/\",TEXT(V502,\"00\"),\"/\",TEXT(W502,\"00\"))))","v":""},null,null,null,null,null,null,null,null,null,null,null,null,null,null,null,null,null,null,null,null,null,null,null,null,null,null,null,null,null,null,null,null,null,null,{"$f":"IF(ISERR(FIND($BA$1,AZ502)),0,1)","v":0},{"$f":"IF(ISERR(FIND($BB$1,AZ502)),0,1)","v":0},{"$f":"IF(ISERR(FIND($BC$1,AZ502)),0,1)","v":0},{"$f":"IF(ISERR(FIND($BD$1,AZ502)),0,1)","v":0},{"$f":"IF(ISERR(FIND($BE$1,AZ502)),0,1)","v":0},{"$f":"IF(ISERR(FIND($BF$1,AZ502)),0,1)","v":0},{"$f":"IF(ISERR(FIND($BG$1,AZ502)),0,1)","v":0},{"$f":"IF(ISERR(FIND($BH$1,AZ502)),0,1)","v":0},null,null,null,null,null,{"$f":"BA502+2*BB502+4*BC502+8*BD502+16*BE502+32*BF502+64*BG502+128*BH502","v":0},null,null,null,null,null,{"$f":"IF(R502<>\"\",CONCATENATE($A$2,DIGITADOR!$M$1,ROW()-2),\"\")","v":""},{"$f":"IF(B502=\"\",\"\",CONCATENATE(B502,ROW()-1))","v":""},{"$f":"IF(E502=\"\",\"\",INDEX(referentes!D:E,MATCH(E502,referentes!E:E,0),1))","v":""},{"$f":"IF(F502=\"\",\"\",INDEX(referentes!J:K,MATCH(F502,referentes!K:K,0),1))","v":""},{"$f":"IF(AI502=\"\",\"\",INDEX(referentes!M:N,MATCH(AI502,referentes!N:N,0),1))","v":""},{"$f":"IF(I502=\"\",\"\",INDEX(referentes!P:Q,MATCH(I502,referentes!Q:Q,0),1))","v":""},{"$f":"IF(J502=\"\",\"\",INDEX(referentes!S:T,MATCH(J502,referentes!T:T,0),1))","v":""},{"$f":"IF(AB502=\"\",\"\",INDEX(referentes!V:W,MATCH(AB502,referentes!W:W,0),1))","v":""},{"$f":"IF(Y502=\"\",\"\",INDEX(referentes!AZ:BA,MATCH(Y502,referentes!BA:BA,0),1))","v":""},{"$f":"IF(Z502=\"\",IF(R502=\"\",\"\",R502),R502+Z502)","v":""},{"$f":"IF(AA502=\"\",IF(R502=\"\",\"\",R502),R502+AA502)","v":""},{"$f":"IF(OR(AC502=\"\",AD502=\"\",AE502=\"\"),\"\",AD502/60+AE502/3600+AC502)","v":""},{"$f":"IF(OR(AF502=\"\",AG502=\"\",AH502=\"\"),\"\",(ABS(AF502)+(AG502/60)+(AH502/3600))*-1)","v":""},{"$f":"IF(BP502=\"\",\"\",INDEX(referentes!AE:AF,MATCH(BP502,referentes!AF:AF,0),1))","v":""},{"$f":"IF(BQ502=\"\",\"\",INDEX(referentes!AH:AI,MATCH(BQ502,referentes!AI:AI,0),1))","v":""},null,{"$f":"IF(D502=\"\",\"\",INDEX(referentes!A:B,MATCH(D502,referentes!B:B,0),1))","v":""},{"$f":"IF(AT502=\"\",\"\",INDEX(referentes!Y:Z,MATCH(AT502,referentes!Z:Z,0),1))","v":""},{"$f":"IF(AU502=\"\",\"\",INDEX(referentes!AB:AC,MATCH(AU502,referentes!AC:AC,0),1))","v":""}]

{"sheet":"Turnos","index":4,"n_rows":510,"n_cols":9,"rows_kept":510,"cut":false,"hidden":false,"merged":[[0,0,0,8],[1,0,1,8]]}
["Relación Puntos de Embarque por Turno"]
["En esta hoja se ingresan PREVIAMENTE los turnos nuevos, si los hay, para que sean cargados al sistema, junto con las actualizaciones necesarias de los demas referentes, la misma debe enviarse a rosario.pena@invemar.org.co, para que se les asigne el código dentro del sistema.\nUna vez asignados los códigos esta lista se añadira de manera automatica al ejecutar el procedimiento de actualización de referentes a la hoja información de referencia en las columnas AS, AT, AU, AV."]
["ID_Embarcacion\nOFM","ID_Turno","Nombre_Embarcacion","Código_embarcacion Sistema","Fecha_Inicio","Fecha_Fin","Puerto_Inicio","Latitud","Longitud"]
[null,null,null,{"$f":"IF(C4=\"\",\"\",INDEX(referentes!AK:AL,MATCH(C4,referentes!AL:AL,0),1))","v":""}]
[null,null,null,{"$f":"IF(C5=\"\",\"\",INDEX(referentes!AK:AL,MATCH(C5,referentes!AL:AL,0),1))","v":""}]
[null,null,null,{"$f":"IF(C6=\"\",\"\",INDEX(referentes!AK:AL,MATCH(C6,referentes!AL:AL,0),1))","v":""}]
[null,null,null,{"$f":"IF(C7=\"\",\"\",INDEX(referentes!AK:AL,MATCH(C7,referentes!AL:AL,0),1))","v":""}]
[null,null,null,{"$f":"IF(C8=\"\",\"\",INDEX(referentes!AK:AL,MATCH(C8,referentes!AL:AL,0),1))","v":""}]
[null,null,null,{"$f":"IF(C9=\"\",\"\",INDEX(referentes!AK:AL,MATCH(C9,referentes!AL:AL,0),1))","v":""}]
[null,null,null,{"$f":"IF(C10=\"\",\"\",INDEX(referentes!AK:AL,MATCH(C10,referentes!AL:AL,0),1))","v":""}]
[null,null,null,{"$f":"IF(C11=\"\",\"\",INDEX(referentes!AK:AL,MATCH(C11,referentes!AL:AL,0),1))","v":""}]
[null,null,null,{"$f":"IF(C12=\"\",\"\",INDEX(referentes!AK:AL,MATCH(C12,referentes!AL:AL,0),1))","v":""}]
[null,null,null,{"$f":"IF(C13=\"\",\"\",INDEX(referentes!AK:AL,MATCH(C13,referentes!AL:AL,0),1))","v":""}]
[null,null,null,{"$f":"IF(C14=\"\",\"\",INDEX(referentes!AK:AL,MATCH(C14,referentes!AL:AL,0),1))","v":""}]
[null,null,null,{"$f":"IF(C15=\"\",\"\",INDEX(referentes!AK:AL,MATCH(C15,referentes!AL:AL,0),1))","v":""}]
[null,null,null,{"$f":"IF(C16=\"\",\"\",INDEX(referentes!AK:AL,MATCH(C16,referentes!AL:AL,0),1))","v":""}]
[null,null,null,{"$f":"IF(C17=\"\",\"\",INDEX(referentes!AK:AL,MATCH(C17,referentes!AL:AL,0),1))","v":""}]
[null,null,null,{"$f":"IF(C18=\"\",\"\",INDEX(referentes!AK:AL,MATCH(C18,referentes!AL:AL,0),1))","v":""}]
[null,null,null,{"$f":"IF(C19=\"\",\"\",INDEX(referentes!AK:AL,MATCH(C19,referentes!AL:AL,0),1))","v":""}]
[null,null,null,{"$f":"IF(C20=\"\",\"\",INDEX(referentes!AK:AL,MATCH(C20,referentes!AL:AL,0),1))","v":""}]
[null,null,null,{"$f":"IF(C21=\"\",\"\",INDEX(referentes!AK:AL,MATCH(C21,referentes!AL:AL,0),1))","v":""}]
[null,null,null,{"$f":"IF(C22=\"\",\"\",INDEX(referentes!AK:AL,MATCH(C22,referentes!AL:AL,0),1))","v":""}]
[null,null,null,{"$f":"IF(C23=\"\",\"\",INDEX(referentes!AK:AL,MATCH(C23,referentes!AL:AL,0),1))","v":""}]
[null,null,null,{"$f":"IF(C24=\"\",\"\",INDEX(referentes!AK:AL,MATCH(C24,referentes!AL:AL,0),1))","v":""}]
[null,null,null,{"$f":"IF(C25=\"\",\"\",INDEX(referentes!AK:AL,MATCH(C25,referentes!AL:AL,0),1))","v":""}]
[null,null,null,{"$f":"IF(C26=\"\",\"\",INDEX(referentes!AK:AL,MATCH(C26,referentes!AL:AL,0),1))","v":""}]
[null,null,null,{"$f":"IF(C27=\"\",\"\",INDEX(referentes!AK:AL,MATCH(C27,referentes!AL:AL,0),1))","v":""}]
[null,null,null,{"$f":"IF(C28=\"\",\"\",INDEX(referentes!AK:AL,MATCH(C28,referentes!AL:AL,0),1))","v":""}]
[null,null,null,{"$f":"IF(C29=\"\",\"\",INDEX(referentes!AK:AL,MATCH(C29,referentes!AL:AL,0),1))","v":""}]
[null,null,null,{"$f":"IF(C30=\"\",\"\",INDEX(referentes!AK:AL,MATCH(C30,referentes!AL:AL,0),1))","v":""}]
[null,null,null,{"$f":"IF(C31=\"\",\"\",INDEX(referentes!AK:AL,MATCH(C31,referentes!AL:AL,0),1))","v":""}]
[null,null,null,{"$f":"IF(C32=\"\",\"\",INDEX(referentes!AK:AL,MATCH(C32,referentes!AL:AL,0),1))","v":""}]
[null,null,null,{"$f":"IF(C33=\"\",\"\",INDEX(referentes!AK:AL,MATCH(C33,referentes!AL:AL,0),1))","v":""}]
[null,null,null,{"$f":"IF(C34=\"\",\"\",INDEX(referentes!AK:AL,MATCH(C34,referentes!AL:AL,0),1))","v":""}]
[null,null,null,{"$f":"IF(C35=\"\",\"\",INDEX(referentes!AK:AL,MATCH(C35,referentes!AL:AL,0),1))","v":""}]
[null,null,null,{"$f":"IF(C36=\"\",\"\",INDEX(referentes!AK:AL,MATCH(C36,referentes!AL:AL,0),1))","v":""}]
[null,null,null,{"$f":"IF(C37=\"\",\"\",INDEX(referentes!AK:AL,MATCH(C37,referentes!AL:AL,0),1))","v":""}]
[null,null,null,{"$f":"IF(C38=\"\",\"\",INDEX(referentes!AK:AL,MATCH(C38,referentes!AL:AL,0),1))","v":""}]
[null,null,null,{"$f":"IF(C39=\"\",\"\",INDEX(referentes!AK:AL,MATCH(C39,referentes!AL:AL,0),1))","v":""}]
[null,null,null,{"$f":"IF(C40=\"\",\"\",INDEX(referentes!AK:AL,MATCH(C40,referentes!AL:AL,0),1))","v":""}]
[null,null,null,{"$f":"IF(C41=\"\",\"\",INDEX(referentes!AK:AL,MATCH(C41,referentes!AL:AL,0),1))","v":""}]
[null,null,null,{"$f":"IF(C42=\"\",\"\",INDEX(referentes!AK:AL,MATCH(C42,referentes!AL:AL,0),1))","v":""}]
[null,null,null,{"$f":"IF(C43=\"\",\"\",INDEX(referentes!AK:AL,MATCH(C43,referentes!AL:AL,0),1))","v":""}]
[null,null,null,{"$f":"IF(C44=\"\",\"\",INDEX(referentes!AK:AL,MATCH(C44,referentes!AL:AL,0),1))","v":""}]
[null,null,null,{"$f":"IF(C45=\"\",\"\",INDEX(referentes!AK:AL,MATCH(C45,referentes!AL:AL,0),1))","v":""}]
[null,null,null,{"$f":"IF(C46=\"\",\"\",INDEX(referentes!AK:AL,MATCH(C46,referentes!AL:AL,0),1))","v":""}]
[null,null,null,{"$f":"IF(C47=\"\",\"\",INDEX(referentes!AK:AL,MATCH(C47,referentes!AL:AL,0),1))","v":""}]
[null,null,null,{"$f":"IF(C48=\"\",\"\",INDEX(referentes!AK:AL,MATCH(C48,referentes!AL:AL,0),1))","v":""}]
[null,null,null,{"$f":"IF(C49=\"\",\"\",INDEX(referentes!AK:AL,MATCH(C49,referentes!AL:AL,0),1))","v":""}]
[null,null,null,{"$f":"IF(C50=\"\",\"\",INDEX(referentes!AK:AL,MATCH(C50,referentes!AL:AL,0),1))","v":""}]
[null,null,null,{"$f":"IF(C51=\"\",\"\",INDEX(referentes!AK:AL,MATCH(C51,referentes!AL:AL,0),1))","v":""}]
[null,null,null,{"$f":"IF(C52=\"\",\"\",INDEX(referentes!AK:AL,MATCH(C52,referentes!AL:AL,0),1))","v":""}]
[null,null,null,{"$f":"IF(C53=\"\",\"\",INDEX(referentes!AK:AL,MATCH(C53,referentes!AL:AL,0),1))","v":""}]
[null,null,null,{"$f":"IF(C54=\"\",\"\",INDEX(referentes!AK:AL,MATCH(C54,referentes!AL:AL,0),1))","v":""}]
[null,null,null,{"$f":"IF(C55=\"\",\"\",INDEX(referentes!AK:AL,MATCH(C55,referentes!AL:AL,0),1))","v":""}]
[null,null,null,{"$f":"IF(C56=\"\",\"\",INDEX(referentes!AK:AL,MATCH(C56,referentes!AL:AL,0),1))","v":""}]
[null,null,null,{"$f":"IF(C57=\"\",\"\",INDEX(referentes!AK:AL,MATCH(C57,referentes!AL:AL,0),1))","v":""}]
[null,null,null,{"$f":"IF(C58=\"\",\"\",INDEX(referentes!AK:AL,MATCH(C58,referentes!AL:AL,0),1))","v":""}]
[null,null,null,{"$f":"IF(C59=\"\",\"\",INDEX(referentes!AK:AL,MATCH(C59,referentes!AL:AL,0),1))","v":""}]
[null,null,null,{"$f":"IF(C60=\"\",\"\",INDEX(referentes!AK:AL,MATCH(C60,referentes!AL:AL,0),1))","v":""}]
[null,null,null,{"$f":"IF(C61=\"\",\"\",INDEX(referentes!AK:AL,MATCH(C61,referentes!AL:AL,0),1))","v":""}]
[null,null,null,{"$f":"IF(C62=\"\",\"\",INDEX(referentes!AK:AL,MATCH(C62,referentes!AL:AL,0),1))","v":""}]
[null,null,null,{"$f":"IF(C63=\"\",\"\",INDEX(referentes!AK:AL,MATCH(C63,referentes!AL:AL,0),1))","v":""}]
[null,null,null,{"$f":"IF(C64=\"\",\"\",INDEX(referentes!AK:AL,MATCH(C64,referentes!AL:AL,0),1))","v":""}]
[null,null,null,{"$f":"IF(C65=\"\",\"\",INDEX(referentes!AK:AL,MATCH(C65,referentes!AL:AL,0),1))","v":""}]
[null,null,null,{"$f":"IF(C66=\"\",\"\",INDEX(referentes!AK:AL,MATCH(C66,referentes!AL:AL,0),1))","v":""}]
[null,null,null,{"$f":"IF(C67=\"\",\"\",INDEX(referentes!AK:AL,MATCH(C67,referentes!AL:AL,0),1))","v":""}]
[null,null,null,{"$f":"IF(C68=\"\",\"\",INDEX(referentes!AK:AL,MATCH(C68,referentes!AL:AL,0),1))","v":""}]
[null,null,null,{"$f":"IF(C69=\"\",\"\",INDEX(referentes!AK:AL,MATCH(C69,referentes!AL:AL,0),1))","v":""}]
[null,null,null,{"$f":"IF(C70=\"\",\"\",INDEX(referentes!AK:AL,MATCH(C70,referentes!AL:AL,0),1))","v":""}]
[null,null,null,{"$f":"IF(C71=\"\",\"\",INDEX(referentes!AK:AL,MATCH(C71,referentes!AL:AL,0),1))","v":""}]
[null,null,null,{"$f":"IF(C72=\"\",\"\",INDEX(referentes!AK:AL,MATCH(C72,referentes!AL:AL,0),1))","v":""}]
[null,null,null,{"$f":"IF(C73=\"\",\"\",INDEX(referentes!AK:AL,MATCH(C73,referentes!AL:AL,0),1))","v":""}]
[null,null,null,{"$f":"IF(C74=\"\",\"\",INDEX(referentes!AK:AL,MATCH(C74,referentes!AL:AL,0),1))","v":""}]
[null,null,null,{"$f":"IF(C75=\"\",\"\",INDEX(referentes!AK:AL,MATCH(C75,referentes!AL:AL,0),1))","v":""}]
[null,null,null,{"$f":"IF(C76=\"\",\"\",INDEX(referentes!AK:AL,MATCH(C76,referentes!AL:AL,0),1))","v":""}]
[null,null,null,{"$f":"IF(C77=\"\",\"\",INDEX(referentes!AK:AL,MATCH(C77,referentes!AL:AL,0),1))","v":""}]
[null,null,null,{"$f":"IF(C78=\"\",\"\",INDEX(referentes!AK:AL,MATCH(C78,referentes!AL:AL,0),1))","v":""}]
[null,null,null,{"$f":"IF(C79=\"\",\"\",INDEX(referentes!AK:AL,MATCH(C79,referentes!AL:AL,0),1))","v":""}]
[null,null,null,{"$f":"IF(C80=\"\",\"\",INDEX(referentes!AK:AL,MATCH(C80,referentes!AL:AL,0),1))","v":""}]
[null,null,null,{"$f":"IF(C81=\"\",\"\",INDEX(referentes!AK:AL,MATCH(C81,referentes!AL:AL,0),1))","v":""}]
[null,null,null,{"$f":"IF(C82=\"\",\"\",INDEX(referentes!AK:AL,MATCH(C82,referentes!AL:AL,0),1))","v":""}]
[null,null,null,{"$f":"IF(C83=\"\",\"\",INDEX(referentes!AK:AL,MATCH(C83,referentes!AL:AL,0),1))","v":""}]
[null,null,null,{"$f":"IF(C84=\"\",\"\",INDEX(referentes!AK:AL,MATCH(C84,referentes!AL:AL,0),1))","v":""}]
[null,null,null,{"$f":"IF(C85=\"\",\"\",INDEX(referentes!AK:AL,MATCH(C85,referentes!AL:AL,0),1))","v":""}]
[null,null,null,{"$f":"IF(C86=\"\",\"\",INDEX(referentes!AK:AL,MATCH(C86,referentes!AL:AL,0),1))","v":""}]
[null,null,null,{"$f":"IF(C87=\"\",\"\",INDEX(referentes!AK:AL,MATCH(C87,referentes!AL:AL,0),1))","v":""}]
[null,null,null,{"$f":"IF(C88=\"\",\"\",INDEX(referentes!AK:AL,MATCH(C88,referentes!AL:AL,0),1))","v":""}]
[null,null,null,{"$f":"IF(C89=\"\",\"\",INDEX(referentes!AK:AL,MATCH(C89,referentes!AL:AL,0),1))","v":""}]
[null,null,null,{"$f":"IF(C90=\"\",\"\",INDEX(referentes!AK:AL,MATCH(C90,referentes!AL:AL,0),1))","v":""}]
[null,null,null,{"$f":"IF(C91=\"\",\"\",INDEX(referentes!AK:AL,MATCH(C91,referentes!AL:AL,0),1))","v":""}]
[null,null,null,{"$f":"IF(C92=\"\",\"\",INDEX(referentes!AK:AL,MATCH(C92,referentes!AL:AL,0),1))","v":""}]
[null,null,null,{"$f":"IF(C93=\"\",\"\",INDEX(referentes!AK:AL,MATCH(C93,referentes!AL:AL,0),1))","v":""}]
[null,null,null,{"$f":"IF(C94=\"\",\"\",INDEX(referentes!AK:AL,MATCH(C94,referentes!AL:AL,0),1))","v":""}]
[null,null,null,{"$f":"IF(C95=\"\",\"\",INDEX(referentes!AK:AL,MATCH(C95,referentes!AL:AL,0),1))","v":""}]
[null,null,null,{"$f":"IF(C96=\"\",\"\",INDEX(referentes!AK:AL,MATCH(C96,referentes!AL:AL,0),1))","v":""}]
[null,null,null,{"$f":"IF(C97=\"\",\"\",INDEX(referentes!AK:AL,MATCH(C97,referentes!AL:AL,0),1))","v":""}]
[null,null,null,{"$f":"IF(C98=\"\",\"\",INDEX(referentes!AK:AL,MATCH(C98,referentes!AL:AL,0),1))","v":""}]
[null,null,null,{"$f":"IF(C99=\"\",\"\",INDEX(referentes!AK:AL,MATCH(C99,referentes!AL:AL,0),1))","v":""}]
[null,null,null,{"$f":"IF(C100=\"\",\"\",INDEX(referentes!AK:AL,MATCH(C100,referentes!AL:AL,0),1))","v":""}]
[null,null,null,{"$f":"IF(C101=\"\",\"\",INDEX(referentes!AK:AL,MATCH(C101,referentes!AL:AL,0),1))","v":""}]
[null,null,null,{"$f":"IF(C102=\"\",\"\",INDEX(referentes!AK:AL,MATCH(C102,referentes!AL:AL,0),1))","v":""}]
[null,null,null,{"$f":"IF(C103=\"\",\"\",INDEX(referentes!AK:AL,MATCH(C103,referentes!AL:AL,0),1))","v":""}]
[null,null,null,{"$f":"IF(C104=\"\",\"\",INDEX(referentes!AK:AL,MATCH(C104,referentes!AL:AL,0),1))","v":""}]
[null,null,null,{"$f":"IF(C105=\"\",\"\",INDEX(referentes!AK:AL,MATCH(C105,referentes!AL:AL,0),1))","v":""}]
[null,null,null,{"$f":"IF(C106=\"\",\"\",INDEX(referentes!AK:AL,MATCH(C106,referentes!AL:AL,0),1))","v":""}]
[null,null,null,{"$f":"IF(C107=\"\",\"\",INDEX(referentes!AK:AL,MATCH(C107,referentes!AL:AL,0),1))","v":""}]
[null,null,null,{"$f":"IF(C108=\"\",\"\",INDEX(referentes!AK:AL,MATCH(C108,referentes!AL:AL,0),1))","v":""}]
[null,null,null,{"$f":"IF(C109=\"\",\"\",INDEX(referentes!AK:AL,MATCH(C109,referentes!AL:AL,0),1))","v":""}]
[null,null,null,{"$f":"IF(C110=\"\",\"\",INDEX(referentes!AK:AL,MATCH(C110,referentes!AL:AL,0),1))","v":""}]
[null,null,null,{"$f":"IF(C111=\"\",\"\",INDEX(referentes!AK:AL,MATCH(C111,referentes!AL:AL,0),1))","v":""}]
[null,null,null,{"$f":"IF(C112=\"\",\"\",INDEX(referentes!AK:AL,MATCH(C112,referentes!AL:AL,0),1))","v":""}]
[null,null,null,{"$f":"IF(C113=\"\",\"\",INDEX(referentes!AK:AL,MATCH(C113,referentes!AL:AL,0),1))","v":""}]
[null,null,null,{"$f":"IF(C114=\"\",\"\",INDEX(referentes!AK:AL,MATCH(C114,referentes!AL:AL,0),1))","v":""}]
[null,null,null,{"$f":"IF(C115=\"\",\"\",INDEX(referentes!AK:AL,MATCH(C115,referentes!AL:AL,0),1))","v":""}]
[null,null,null,{"$f":"IF(C116=\"\",\"\",INDEX(referentes!AK:AL,MATCH(C116,referentes!AL:AL,0),1))","v":""}]
[null,null,null,{"$f":"IF(C117=\"\",\"\",INDEX(referentes!AK:AL,MATCH(C117,referentes!AL:AL,0),1))","v":""}]
[null,null,null,{"$f":"IF(C118=\"\",\"\",INDEX(referentes!AK:AL,MATCH(C118,referentes!AL:AL,0),1))","v":""}]
[null,null,null,{"$f":"IF(C119=\"\",\"\",INDEX(referentes!AK:AL,MATCH(C119,referentes!AL:AL,0),1))","v":""}]
[null,null,null,{"$f":"IF(C120=\"\",\"\",INDEX(referentes!AK:AL,MATCH(C120,referentes!AL:AL,0),1))","v":""}]
[null,null,null,{"$f":"IF(C121=\"\",\"\",INDEX(referentes!AK:AL,MATCH(C121,referentes!AL:AL,0),1))","v":""}]
[null,null,null,{"$f":"IF(C122=\"\",\"\",INDEX(referentes!AK:AL,MATCH(C122,referentes!AL:AL,0),1))","v":""}]
[null,null,null,{"$f":"IF(C123=\"\",\"\",INDEX(referentes!AK:AL,MATCH(C123,referentes!AL:AL,0),1))","v":""}]
[null,null,null,{"$f":"IF(C124=\"\",\"\",INDEX(referentes!AK:AL,MATCH(C124,referentes!AL:AL,0),1))","v":""}]
[null,null,null,{"$f":"IF(C125=\"\",\"\",INDEX(referentes!AK:AL,MATCH(C125,referentes!AL:AL,0),1))","v":""}]
[null,null,null,{"$f":"IF(C126=\"\",\"\",INDEX(referentes!AK:AL,MATCH(C126,referentes!AL:AL,0),1))","v":""}]
[null,null,null,{"$f":"IF(C127=\"\",\"\",INDEX(referentes!AK:AL,MATCH(C127,referentes!AL:AL,0),1))","v":""}]
[null,null,null,{"$f":"IF(C128=\"\",\"\",INDEX(referentes!AK:AL,MATCH(C128,referentes!AL:AL,0),1))","v":""}]
[null,null,null,{"$f":"IF(C129=\"\",\"\",INDEX(referentes!AK:AL,MATCH(C129,referentes!AL:AL,0),1))","v":""}]
[null,null,null,{"$f":"IF(C130=\"\",\"\",INDEX(referentes!AK:AL,MATCH(C130,referentes!AL:AL,0),1))","v":""}]
[null,null,null,{"$f":"IF(C131=\"\",\"\",INDEX(referentes!AK:AL,MATCH(C131,referentes!AL:AL,0),1))","v":""}]
[null,null,null,{"$f":"IF(C132=\"\",\"\",INDEX(referentes!AK:AL,MATCH(C132,referentes!AL:AL,0),1))","v":""}]
[null,null,null,{"$f":"IF(C133=\"\",\"\",INDEX(referentes!AK:AL,MATCH(C133,referentes!AL:AL,0),1))","v":""}]
[null,null,null,{"$f":"IF(C134=\"\",\"\",INDEX(referentes!AK:AL,MATCH(C134,referentes!AL:AL,0),1))","v":""}]
[null,null,null,{"$f":"IF(C135=\"\",\"\",INDEX(referentes!AK:AL,MATCH(C135,referentes!AL:AL,0),1))","v":""}]
[null,null,null,{"$f":"IF(C136=\"\",\"\",INDEX(referentes!AK:AL,MATCH(C136,referentes!AL:AL,0),1))","v":""}]
[null,null,null,{"$f":"IF(C137=\"\",\"\",INDEX(referentes!AK:AL,MATCH(C137,referentes!AL:AL,0),1))","v":""}]
[null,null,null,{"$f":"IF(C138=\"\",\"\",INDEX(referentes!AK:AL,MATCH(C138,referentes!AL:AL,0),1))","v":""}]
[null,null,null,{"$f":"IF(C139=\"\",\"\",INDEX(referentes!AK:AL,MATCH(C139,referentes!AL:AL,0),1))","v":""}]
[null,null,null,{"$f":"IF(C140=\"\",\"\",INDEX(referentes!AK:AL,MATCH(C140,referentes!AL:AL,0),1))","v":""}]
[null,null,null,{"$f":"IF(C141=\"\",\"\",INDEX(referentes!AK:AL,MATCH(C141,referentes!AL:AL,0),1))","v":""}]
[null,null,null,{"$f":"IF(C142=\"\",\"\",INDEX(referentes!AK:AL,MATCH(C142,referentes!AL:AL,0),1))","v":""}]
[null,null,null,{"$f":"IF(C143=\"\",\"\",INDEX(referentes!AK:AL,MATCH(C143,referentes!AL:AL,0),1))","v":""}]
[null,null,null,{"$f":"IF(C144=\"\",\"\",INDEX(referentes!AK:AL,MATCH(C144,referentes!AL:AL,0),1))","v":""}]
[null,null,null,{"$f":"IF(C145=\"\",\"\",INDEX(referentes!AK:AL,MATCH(C145,referentes!AL:AL,0),1))","v":""}]
[null,null,null,{"$f":"IF(C146=\"\",\"\",INDEX(referentes!AK:AL,MATCH(C146,referentes!AL:AL,0),1))","v":""}]
[null,null,null,{"$f":"IF(C147=\"\",\"\",INDEX(referentes!AK:AL,MATCH(C147,referentes!AL:AL,0),1))","v":""}]
[null,null,null,{"$f":"IF(C148=\"\",\"\",INDEX(referentes!AK:AL,MATCH(C148,referentes!AL:AL,0),1))","v":""}]
[null,null,null,{"$f":"IF(C149=\"\",\"\",INDEX(referentes!AK:AL,MATCH(C149,referentes!AL:AL,0),1))","v":""}]
[null,null,null,{"$f":"IF(C150=\"\",\"\",INDEX(referentes!AK:AL,MATCH(C150,referentes!AL:AL,0),1))","v":""}]
[null,null,null,{"$f":"IF(C151=\"\",\"\",INDEX(referentes!AK:AL,MATCH(C151,referentes!AL:AL,0),1))","v":""}]
[null,null,null,{"$f":"IF(C152=\"\",\"\",INDEX(referentes!AK:AL,MATCH(C152,referentes!AL:AL,0),1))","v":""}]
[null,null,null,{"$f":"IF(C153=\"\",\"\",INDEX(referentes!AK:AL,MATCH(C153,referentes!AL:AL,0),1))","v":""}]
[null,null,null,{"$f":"IF(C154=\"\",\"\",INDEX(referentes!AK:AL,MATCH(C154,referentes!AL:AL,0),1))","v":""}]
[null,null,null,{"$f":"IF(C155=\"\",\"\",INDEX(referentes!AK:AL,MATCH(C155,referentes!AL:AL,0),1))","v":""}]
[null,null,null,{"$f":"IF(C156=\"\",\"\",INDEX(referentes!AK:AL,MATCH(C156,referentes!AL:AL,0),1))","v":""}]
[null,null,null,{"$f":"IF(C157=\"\",\"\",INDEX(referentes!AK:AL,MATCH(C157,referentes!AL:AL,0),1))","v":""}]
[null,null,null,{"$f":"IF(C158=\"\",\"\",INDEX(referentes!AK:AL,MATCH(C158,referentes!AL:AL,0),1))","v":""}]
[null,null,null,{"$f":"IF(C159=\"\",\"\",INDEX(referentes!AK:AL,MATCH(C159,referentes!AL:AL,0),1))","v":""}]
[null,null,null,{"$f":"IF(C160=\"\",\"\",INDEX(referentes!AK:AL,MATCH(C160,referentes!AL:AL,0),1))","v":""}]
[null,null,null,{"$f":"IF(C161=\"\",\"\",INDEX(referentes!AK:AL,MATCH(C161,referentes!AL:AL,0),1))","v":""}]
[null,null,null,{"$f":"IF(C162=\"\",\"\",INDEX(referentes!AK:AL,MATCH(C162,referentes!AL:AL,0),1))","v":""}]
[null,null,null,{"$f":"IF(C163=\"\",\"\",INDEX(referentes!AK:AL,MATCH(C163,referentes!AL:AL,0),1))","v":""}]
[null,null,null,{"$f":"IF(C164=\"\",\"\",INDEX(referentes!AK:AL,MATCH(C164,referentes!AL:AL,0),1))","v":""}]
[null,null,null,{"$f":"IF(C165=\"\",\"\",INDEX(referentes!AK:AL,MATCH(C165,referentes!AL:AL,0),1))","v":""}]
[null,null,null,{"$f":"IF(C166=\"\",\"\",INDEX(referentes!AK:AL,MATCH(C166,referentes!AL:AL,0),1))","v":""}]
[null,null,null,{"$f":"IF(C167=\"\",\"\",INDEX(referentes!AK:AL,MATCH(C167,referentes!AL:AL,0),1))","v":""}]
[null,null,null,{"$f":"IF(C168=\"\",\"\",INDEX(referentes!AK:AL,MATCH(C168,referentes!AL:AL,0),1))","v":""}]
[null,null,null,{"$f":"IF(C169=\"\",\"\",INDEX(referentes!AK:AL,MATCH(C169,referentes!AL:AL,0),1))","v":""}]
[null,null,null,{"$f":"IF(C170=\"\",\"\",INDEX(referentes!AK:AL,MATCH(C170,referentes!AL:AL,0),1))","v":""}]
[null,null,null,{"$f":"IF(C171=\"\",\"\",INDEX(referentes!AK:AL,MATCH(C171,referentes!AL:AL,0),1))","v":""}]
[null,null,null,{"$f":"IF(C172=\"\",\"\",INDEX(referentes!AK:AL,MATCH(C172,referentes!AL:AL,0),1))","v":""}]
[null,null,null,{"$f":"IF(C173=\"\",\"\",INDEX(referentes!AK:AL,MATCH(C173,referentes!AL:AL,0),1))","v":""}]
[null,null,null,{"$f":"IF(C174=\"\",\"\",INDEX(referentes!AK:AL,MATCH(C174,referentes!AL:AL,0),1))","v":""}]
[null,null,null,{"$f":"IF(C175=\"\",\"\",INDEX(referentes!AK:AL,MATCH(C175,referentes!AL:AL,0),1))","v":""}]
[null,null,null,{"$f":"IF(C176=\"\",\"\",INDEX(referentes!AK:AL,MATCH(C176,referentes!AL:AL,0),1))","v":""}]
[null,null,null,{"$f":"IF(C177=\"\",\"\",INDEX(referentes!AK:AL,MATCH(C177,referentes!AL:AL,0),1))","v":""}]
[null,null,null,{"$f":"IF(C178=\"\",\"\",INDEX(referentes!AK:AL,MATCH(C178,referentes!AL:AL,0),1))","v":""}]
[null,null,null,{"$f":"IF(C179=\"\",\"\",INDEX(referentes!AK:AL,MATCH(C179,referentes!AL:AL,0),1))","v":""}]
[null,null,null,{"$f":"IF(C180=\"\",\"\",INDEX(referentes!AK:AL,MATCH(C180,referentes!AL:AL,0),1))","v":""}]
[null,null,null,{"$f":"IF(C181=\"\",\"\",INDEX(referentes!AK:AL,MATCH(C181,referentes!AL:AL,0),1))","v":""}]
[null,null,null,{"$f":"IF(C182=\"\",\"\",INDEX(referentes!AK:AL,MATCH(C182,referentes!AL:AL,0),1))","v":""}]
[null,null,null,{"$f":"IF(C183=\"\",\"\",INDEX(referentes!AK:AL,MATCH(C183,referentes!AL:AL,0),1))","v":""}]
[null,null,null,{"$f":"IF(C184=\"\",\"\",INDEX(referentes!AK:AL,MATCH(C184,referentes!AL:AL,0),1))","v":""}]
[null,null,null,{"$f":"IF(C185=\"\",\"\",INDEX(referentes!AK:AL,MATCH(C185,referentes!AL:AL,0),1))","v":""}]
[null,null,null,{"$f":"IF(C186=\"\",\"\",INDEX(referentes!AK:AL,MATCH(C186,referentes!AL:AL,0),1))","v":""}]
[null,null,null,{"$f":"IF(C187=\"\",\"\",INDEX(referentes!AK:AL,MATCH(C187,referentes!AL:AL,0),1))","v":""}]
[null,null,null,{"$f":"IF(C188=\"\",\"\",INDEX(referentes!AK:AL,MATCH(C188,referentes!AL:AL,0),1))","v":""}]
[null,null,null,{"$f":"IF(C189=\"\",\"\",INDEX(referentes!AK:AL,MATCH(C189,referentes!AL:AL,0),1))","v":""}]
[null,null,null,{"$f":"IF(C190=\"\",\"\",INDEX(referentes!AK:AL,MATCH(C190,referentes!AL:AL,0),1))","v":""}]
[null,null,null,{"$f":"IF(C191=\"\",\"\",INDEX(referentes!AK:AL,MATCH(C191,referentes!AL:AL,0),1))","v":""}]
[null,null,null,{"$f":"IF(C192=\"\",\"\",INDEX(referentes!AK:AL,MATCH(C192,referentes!AL:AL,0),1))","v":""}]
[null,null,null,{"$f":"IF(C193=\"\",\"\",INDEX(referentes!AK:AL,MATCH(C193,referentes!AL:AL,0),1))","v":""}]
[null,null,null,{"$f":"IF(C194=\"\",\"\",INDEX(referentes!AK:AL,MATCH(C194,referentes!AL:AL,0),1))","v":""}]
[null,null,null,{"$f":"IF(C195=\"\",\"\",INDEX(referentes!AK:AL,MATCH(C195,referentes!AL:AL,0),1))","v":""}]
[null,null,null,{"$f":"IF(C196=\"\",\"\",INDEX(referentes!AK:AL,MATCH(C196,referentes!AL:AL,0),1))","v":""}]
[null,null,null,{"$f":"IF(C197=\"\",\"\",INDEX(referentes!AK:AL,MATCH(C197,referentes!AL:AL,0),1))","v":""}]
[null,null,null,{"$f":"IF(C198=\"\",\"\",INDEX(referentes!AK:AL,MATCH(C198,referentes!AL:AL,0),1))","v":""}]
[null,null,null,{"$f":"IF(C199=\"\",\"\",INDEX(referentes!AK:AL,MATCH(C199,referentes!AL:AL,0),1))","v":""}]
[null,null,null,{"$f":"IF(C200=\"\",\"\",INDEX(referentes!AK:AL,MATCH(C200,referentes!AL:AL,0),1))","v":""}]
[null,null,null,{"$f":"IF(C201=\"\",\"\",INDEX(referentes!AK:AL,MATCH(C201,referentes!AL:AL,0),1))","v":""}]
[null,null,null,{"$f":"IF(C202=\"\",\"\",INDEX(referentes!AK:AL,MATCH(C202,referentes!AL:AL,0),1))","v":""}]
[null,null,null,{"$f":"IF(C203=\"\",\"\",INDEX(referentes!AK:AL,MATCH(C203,referentes!AL:AL,0),1))","v":""}]
[null,null,null,{"$f":"IF(C204=\"\",\"\",INDEX(referentes!AK:AL,MATCH(C204,referentes!AL:AL,0),1))","v":""}]
[null,null,null,{"$f":"IF(C205=\"\",\"\",INDEX(referentes!AK:AL,MATCH(C205,referentes!AL:AL,0),1))","v":""}]
[null,null,null,{"$f":"IF(C206=\"\",\"\",INDEX(referentes!AK:AL,MATCH(C206,referentes!AL:AL,0),1))","v":""}]
[null,null,null,{"$f":"IF(C207=\"\",\"\",INDEX(referentes!AK:AL,MATCH(C207,referentes!AL:AL,0),1))","v":""}]
[null,null,null,{"$f":"IF(C208=\"\",\"\",INDEX(referentes!AK:AL,MATCH(C208,referentes!AL:AL,0),1))","v":""}]
[null,null,null,{"$f":"IF(C209=\"\",\"\",INDEX(referentes!AK:AL,MATCH(C209,referentes!AL:AL,0),1))","v":""}]
[null,null,null,{"$f":"IF(C210=\"\",\"\",INDEX(referentes!AK:AL,MATCH(C210,referentes!AL:AL,0),1))","v":""}]
[null,null,null,{"$f":"IF(C211=\"\",\"\",INDEX(referentes!AK:AL,MATCH(C211,referentes!AL:AL,0),1))","v":""}]
[null,null,null,{"$f":"IF(C212=\"\",\"\",INDEX(referentes!AK:AL,MATCH(C212,referentes!AL:AL,0),1))","v":""}]
[null,null,null,{"$f":"IF(C213=\"\",\"\",INDEX(referentes!AK:AL,MATCH(C213,referentes!AL:AL,0),1))","v":""}]
[null,null,null,{"$f":"IF(C214=\"\",\"\",INDEX(referentes!AK:AL,MATCH(C214,referentes!AL:AL,0),1))","v":""}]
[null,null,null,{"$f":"IF(C215=\"\",\"\",INDEX(referentes!AK:AL,MATCH(C215,referentes!AL:AL,0),1))","v":""}]
[null,null,null,{"$f":"IF(C216=\"\",\"\",INDEX(referentes!AK:AL,MATCH(C216,referentes!AL:AL,0),1))","v":""}]
[null,null,null,{"$f":"IF(C217=\"\",\"\",INDEX(referentes!AK:AL,MATCH(C217,referentes!AL:AL,0),1))","v":""}]
[null,null,null,{"$f":"IF(C218=\"\",\"\",INDEX(referentes!AK:AL,MATCH(C218,referentes!AL:AL,0),1))","v":""}]
[null,null,null,{"$f":"IF(C219=\"\",\"\",INDEX(referentes!AK:AL,MATCH(C219,referentes!AL:AL,0),1))","v":""}]
[null,null,null,{"$f":"IF(C220=\"\",\"\",INDEX(referentes!AK:AL,MATCH(C220,referentes!AL:AL,0),1))","v":""}]
[null,null,null,{"$f":"IF(C221=\"\",\"\",INDEX(referentes!AK:AL,MATCH(C221,referentes!AL:AL,0),1))","v":""}]
[null,null,null,{"$f":"IF(C222=\"\",\"\",INDEX(referentes!AK:AL,MATCH(C222,referentes!AL:AL,0),1))","v":""}]
[null,null,null,{"$f":"IF(C223=\"\",\"\",INDEX(referentes!AK:AL,MATCH(C223,referentes!AL:AL,0),1))","v":""}]
[null,null,null,{"$f":"IF(C224=\"\",\"\",INDEX(referentes!AK:AL,MATCH(C224,referentes!AL:AL,0),1))","v":""}]
[null,null,null,{"$f":"IF(C225=\"\",\"\",INDEX(referentes!AK:AL,MATCH(C225,referentes!AL:AL,0),1))","v":""}]
[null,null,null,{"$f":"IF(C226=\"\",\"\",INDEX(referentes!AK:AL,MATCH(C226,referentes!AL:AL,0),1))","v":""}]
[null,null,null,{"$f":"IF(C227=\"\",\"\",INDEX(referentes!AK:AL,MATCH(C227,referentes!AL:AL,0),1))","v":""}]
[null,null,null,{"$f":"IF(C228=\"\",\"\",INDEX(referentes!AK:AL,MATCH(C228,referentes!AL:AL,0),1))","v":""}]
[null,null,null,{"$f":"IF(C229=\"\",\"\",INDEX(referentes!AK:AL,MATCH(C229,referentes!AL:AL,0),1))","v":""}]
[null,null,null,{"$f":"IF(C230=\"\",\"\",INDEX(referentes!AK:AL,MATCH(C230,referentes!AL:AL,0),1))","v":""}]
[null,null,null,{"$f":"IF(C231=\"\",\"\",INDEX(referentes!AK:AL,MATCH(C231,referentes!AL:AL,0),1))","v":""}]
[null,null,null,{"$f":"IF(C232=\"\",\"\",INDEX(referentes!AK:AL,MATCH(C232,referentes!AL:AL,0),1))","v":""}]
[null,null,null,{"$f":"IF(C233=\"\",\"\",INDEX(referentes!AK:AL,MATCH(C233,referentes!AL:AL,0),1))","v":""}]
[null,null,null,{"$f":"IF(C234=\"\",\"\",INDEX(referentes!AK:AL,MATCH(C234,referentes!AL:AL,0),1))","v":""}]
[null,null,null,{"$f":"IF(C235=\"\",\"\",INDEX(referentes!AK:AL,MATCH(C235,referentes!AL:AL,0),1))","v":""}]
[null,null,null,{"$f":"IF(C236=\"\",\"\",INDEX(referentes!AK:AL,MATCH(C236,referentes!AL:AL,0),1))","v":""}]
[null,null,null,{"$f":"IF(C237=\"\",\"\",INDEX(referentes!AK:AL,MATCH(C237,referentes!AL:AL,0),1))","v":""}]
[null,null,null,{"$f":"IF(C238=\"\",\"\",INDEX(referentes!AK:AL,MATCH(C238,referentes!AL:AL,0),1))","v":""}]
[null,null,null,{"$f":"IF(C239=\"\",\"\",INDEX(referentes!AK:AL,MATCH(C239,referentes!AL:AL,0),1))","v":""}]
[null,null,null,{"$f":"IF(C240=\"\",\"\",INDEX(referentes!AK:AL,MATCH(C240,referentes!AL:AL,0),1))","v":""}]
[null,null,null,{"$f":"IF(C241=\"\",\"\",INDEX(referentes!AK:AL,MATCH(C241,referentes!AL:AL,0),1))","v":""}]
[null,null,null,{"$f":"IF(C242=\"\",\"\",INDEX(referentes!AK:AL,MATCH(C242,referentes!AL:AL,0),1))","v":""}]
[null,null,null,{"$f":"IF(C243=\"\",\"\",INDEX(referentes!AK:AL,MATCH(C243,referentes!AL:AL,0),1))","v":""}]
[null,null,null,{"$f":"IF(C244=\"\",\"\",INDEX(referentes!AK:AL,MATCH(C244,referentes!AL:AL,0),1))","v":""}]
[null,null,null,{"$f":"IF(C245=\"\",\"\",INDEX(referentes!AK:AL,MATCH(C245,referentes!AL:AL,0),1))","v":""}]
[null,null,null,{"$f":"IF(C246=\"\",\"\",INDEX(referentes!AK:AL,MATCH(C246,referentes!AL:AL,0),1))","v":""}]
[null,null,null,{"$f":"IF(C247=\"\",\"\",INDEX(referentes!AK:AL,MATCH(C247,referentes!AL:AL,0),1))","v":""}]
[null,null,null,{"$f":"IF(C248=\"\",\"\",INDEX(referentes!AK:AL,MATCH(C248,referentes!AL:AL,0),1))","v":""}]
[null,null,null,{"$f":"IF(C249=\"\",\"\",INDEX(referentes!AK:AL,MATCH(C249,referentes!AL:AL,0),1))","v":""}]
[null,null,null,{"$f":"IF(C250=\"\",\"\",INDEX(referentes!AK:AL,MATCH(C250,referentes!AL:AL,0),1))","v":""}]
[null,null,null,{"$f":"IF(C251=\"\",\"\",INDEX(referentes!AK:AL,MATCH(C251,referentes!AL:AL,0),1))","v":""}]
[null,null,null,{"$f":"IF(C252=\"\",\"\",INDEX(referentes!AK:AL,MATCH(C252,referentes!AL:AL,0),1))","v":""}]
[null,null,null,{"$f":"IF(C253=\"\",\"\",INDEX(referentes!AK:AL,MATCH(C253,referentes!AL:AL,0),1))","v":""}]
[null,null,null,{"$f":"IF(C254=\"\",\"\",INDEX(referentes!AK:AL,MATCH(C254,referentes!AL:AL,0),1))","v":""}]
[null,null,null,{"$f":"IF(C255=\"\",\"\",INDEX(referentes!AK:AL,MATCH(C255,referentes!AL:AL,0),1))","v":""}]
[null,null,null,{"$f":"IF(C256=\"\",\"\",INDEX(referentes!AK:AL,MATCH(C256,referentes!AL:AL,0),1))","v":""}]
[null,null,null,{"$f":"IF(C257=\"\",\"\",INDEX(referentes!AK:AL,MATCH(C257,referentes!AL:AL,0),1))","v":""}]
[null,null,null,{"$f":"IF(C258=\"\",\"\",INDEX(referentes!AK:AL,MATCH(C258,referentes!AL:AL,0),1))","v":""}]
[null,null,null,{"$f":"IF(C259=\"\",\"\",INDEX(referentes!AK:AL,MATCH(C259,referentes!AL:AL,0),1))","v":""}]
[null,null,null,{"$f":"IF(C260=\"\",\"\",INDEX(referentes!AK:AL,MATCH(C260,referentes!AL:AL,0),1))","v":""}]
[null,null,null,{"$f":"IF(C261=\"\",\"\",INDEX(referentes!AK:AL,MATCH(C261,referentes!AL:AL,0),1))","v":""}]
[null,null,null,{"$f":"IF(C262=\"\",\"\",INDEX(referentes!AK:AL,MATCH(C262,referentes!AL:AL,0),1))","v":""}]
[null,null,null,{"$f":"IF(C263=\"\",\"\",INDEX(referentes!AK:AL,MATCH(C263,referentes!AL:AL,0),1))","v":""}]
[null,null,null,{"$f":"IF(C264=\"\",\"\",INDEX(referentes!AK:AL,MATCH(C264,referentes!AL:AL,0),1))","v":""}]
[null,null,null,{"$f":"IF(C265=\"\",\"\",INDEX(referentes!AK:AL,MATCH(C265,referentes!AL:AL,0),1))","v":""}]
[null,null,null,{"$f":"IF(C266=\"\",\"\",INDEX(referentes!AK:AL,MATCH(C266,referentes!AL:AL,0),1))","v":""}]
[null,null,null,{"$f":"IF(C267=\"\",\"\",INDEX(referentes!AK:AL,MATCH(C267,referentes!AL:AL,0),1))","v":""}]
[null,null,null,{"$f":"IF(C268=\"\",\"\",INDEX(referentes!AK:AL,MATCH(C268,referentes!AL:AL,0),1))","v":""}]
[null,null,null,{"$f":"IF(C269=\"\",\"\",INDEX(referentes!AK:AL,MATCH(C269,referentes!AL:AL,0),1))","v":""}]
[null,null,null,{"$f":"IF(C270=\"\",\"\",INDEX(referentes!AK:AL,MATCH(C270,referentes!AL:AL,0),1))","v":""}]
[null,null,null,{"$f":"IF(C271=\"\",\"\",INDEX(referentes!AK:AL,MATCH(C271,referentes!AL:AL,0),1))","v":""}]
[null,null,null,{"$f":"IF(C272=\"\",\"\",INDEX(referentes!AK:AL,MATCH(C272,referentes!AL:AL,0),1))","v":""}]
[null,null,null,{"$f":"IF(C273=\"\",\"\",INDEX(referentes!AK:AL,MATCH(C273,referentes!AL:AL,0),1))","v":""}]
[null,null,null,{"$f":"IF(C274=\"\",\"\",INDEX(referentes!AK:AL,MATCH(C274,referentes!AL:AL,0),1))","v":""}]
[null,null,null,{"$f":"IF(C275=\"\",\"\",INDEX(referentes!AK:AL,MATCH(C275,referentes!AL:AL,0),1))","v":""}]
[null,null,null,{"$f":"IF(C276=\"\",\"\",INDEX(referentes!AK:AL,MATCH(C276,referentes!AL:AL,0),1))","v":""}]
[null,null,null,{"$f":"IF(C277=\"\",\"\",INDEX(referentes!AK:AL,MATCH(C277,referentes!AL:AL,0),1))","v":""}]
[null,null,null,{"$f":"IF(C278=\"\",\"\",INDEX(referentes!AK:AL,MATCH(C278,referentes!AL:AL,0),1))","v":""}]
[null,null,null,{"$f":"IF(C279=\"\",\"\",INDEX(referentes!AK:AL,MATCH(C279,referentes!AL:AL,0),1))","v":""}]
[null,null,null,{"$f":"IF(C280=\"\",\"\",INDEX(referentes!AK:AL,MATCH(C280,referentes!AL:AL,0),1))","v":""}]
[null,null,null,{"$f":"IF(C281=\"\",\"\",INDEX(referentes!AK:AL,MATCH(C281,referentes!AL:AL,0),1))","v":""}]
[null,null,null,{"$f":"IF(C282=\"\",\"\",INDEX(referentes!AK:AL,MATCH(C282,referentes!AL:AL,0),1))","v":""}]
[null,null,null,{"$f":"IF(C283=\"\",\"\",INDEX(referentes!AK:AL,MATCH(C283,referentes!AL:AL,0),1))","v":""}]
[null,null,null,{"$f":"IF(C284=\"\",\"\",INDEX(referentes!AK:AL,MATCH(C284,referentes!AL:AL,0),1))","v":""}]
[null,null,null,{"$f":"IF(C285=\"\",\"\",INDEX(referentes!AK:AL,MATCH(C285,referentes!AL:AL,0),1))","v":""}]
[null,null,null,{"$f":"IF(C286=\"\",\"\",INDEX(referentes!AK:AL,MATCH(C286,referentes!AL:AL,0),1))","v":""}]
[null,null,null,{"$f":"IF(C287=\"\",\"\",INDEX(referentes!AK:AL,MATCH(C287,referentes!AL:AL,0),1))","v":""}]
[null,null,null,{"$f":"IF(C288=\"\",\"\",INDEX(referentes!AK:AL,MATCH(C288,referentes!AL:AL,0),1))","v":""}]
[null,null,null,{"$f":"IF(C289=\"\",\"\",INDEX(referentes!AK:AL,MATCH(C289,referentes!AL:AL,0),1))","v":""}]
[null,null,null,{"$f":"IF(C290=\"\",\"\",INDEX(referentes!AK:AL,MATCH(C290,referentes!AL:AL,0),1))","v":""}]
[null,null,null,{"$f":"IF(C291=\"\",\"\",INDEX(referentes!AK:AL,MATCH(C291,referentes!AL:AL,0),1))","v":""}]
[null,null,null,{"$f":"IF(C292=\"\",\"\",INDEX(referentes!AK:AL,MATCH(C292,referentes!AL:AL,0),1))","v":""}]
[null,null,null,{"$f":"IF(C293=\"\",\"\",INDEX(referentes!AK:AL,MATCH(C293,referentes!AL:AL,0),1))","v":""}]
[null,null,null,{"$f":"IF(C294=\"\",\"\",INDEX(referentes!AK:AL,MATCH(C294,referentes!AL:AL,0),1))","v":""}]
[null,null,null,{"$f":"IF(C295=\"\",\"\",INDEX(referentes!AK:AL,MATCH(C295,referentes!AL:AL,0),1))","v":""}]
[null,null,null,{"$f":"IF(C296=\"\",\"\",INDEX(referentes!AK:AL,MATCH(C296,referentes!AL:AL,0),1))","v":""}]
[null,null,null,{"$f":"IF(C297=\"\",\"\",INDEX(referentes!AK:AL,MATCH(C297,referentes!AL:AL,0),1))","v":""}]
[null,null,null,{"$f":"IF(C298=\"\",\"\",INDEX(referentes!AK:AL,MATCH(C298,referentes!AL:AL,0),1))","v":""}]
[null,null,null,{"$f":"IF(C299=\"\",\"\",INDEX(referentes!AK:AL,MATCH(C299,referentes!AL:AL,0),1))","v":""}]
[null,null,null,{"$f":"IF(C300=\"\",\"\",INDEX(referentes!AK:AL,MATCH(C300,referentes!AL:AL,0),1))","v":""}]
[null,null,null,{"$f":"IF(C301=\"\",\"\",INDEX(referentes!AK:AL,MATCH(C301,referentes!AL:AL,0),1))","v":""}]
[null,null,null,{"$f":"IF(C302=\"\",\"\",INDEX(referentes!AK:AL,MATCH(C302,referentes!AL:AL,0),1))","v":""}]
[null,null,null,{"$f":"IF(C303=\"\",\"\",INDEX(referentes!AK:AL,MATCH(C303,referentes!AL:AL,0),1))","v":""}]
[null,null,null,{"$f":"IF(C304=\"\",\"\",INDEX(referentes!AK:AL,MATCH(C304,referentes!AL:AL,0),1))","v":""}]
[null,null,null,{"$f":"IF(C305=\"\",\"\",INDEX(referentes!AK:AL,MATCH(C305,referentes!AL:AL,0),1))","v":""}]
[null,null,null,{"$f":"IF(C306=\"\",\"\",INDEX(referentes!AK:AL,MATCH(C306,referentes!AL:AL,0),1))","v":""}]
[null,null,null,{"$f":"IF(C307=\"\",\"\",INDEX(referentes!AK:AL,MATCH(C307,referentes!AL:AL,0),1))","v":""}]
[null,null,null,{"$f":"IF(C308=\"\",\"\",INDEX(referentes!AK:AL,MATCH(C308,referentes!AL:AL,0),1))","v":""}]
[null,null,null,{"$f":"IF(C309=\"\",\"\",INDEX(referentes!AK:AL,MATCH(C309,referentes!AL:AL,0),1))","v":""}]
[null,null,null,{"$f":"IF(C310=\"\",\"\",INDEX(referentes!AK:AL,MATCH(C310,referentes!AL:AL,0),1))","v":""}]
[null,null,null,{"$f":"IF(C311=\"\",\"\",INDEX(referentes!AK:AL,MATCH(C311,referentes!AL:AL,0),1))","v":""}]
[null,null,null,{"$f":"IF(C312=\"\",\"\",INDEX(referentes!AK:AL,MATCH(C312,referentes!AL:AL,0),1))","v":""}]
[null,null,null,{"$f":"IF(C313=\"\",\"\",INDEX(referentes!AK:AL,MATCH(C313,referentes!AL:AL,0),1))","v":""}]
[null,null,null,{"$f":"IF(C314=\"\",\"\",INDEX(referentes!AK:AL,MATCH(C314,referentes!AL:AL,0),1))","v":""}]
[null,null,null,{"$f":"IF(C315=\"\",\"\",INDEX(referentes!AK:AL,MATCH(C315,referentes!AL:AL,0),1))","v":""}]
[null,null,null,{"$f":"IF(C316=\"\",\"\",INDEX(referentes!AK:AL,MATCH(C316,referentes!AL:AL,0),1))","v":""}]
[null,null,null,{"$f":"IF(C317=\"\",\"\",INDEX(referentes!AK:AL,MATCH(C317,referentes!AL:AL,0),1))","v":""}]
[null,null,null,{"$f":"IF(C318=\"\",\"\",INDEX(referentes!AK:AL,MATCH(C318,referentes!AL:AL,0),1))","v":""}]
[null,null,null,{"$f":"IF(C319=\"\",\"\",INDEX(referentes!AK:AL,MATCH(C319,referentes!AL:AL,0),1))","v":""}]
[null,null,null,{"$f":"IF(C320=\"\",\"\",INDEX(referentes!AK:AL,MATCH(C320,referentes!AL:AL,0),1))","v":""}]
[null,null,null,{"$f":"IF(C321=\"\",\"\",INDEX(referentes!AK:AL,MATCH(C321,referentes!AL:AL,0),1))","v":""}]
[null,null,null,{"$f":"IF(C322=\"\",\"\",INDEX(referentes!AK:AL,MATCH(C322,referentes!AL:AL,0),1))","v":""}]
[null,null,null,{"$f":"IF(C323=\"\",\"\",INDEX(referentes!AK:AL,MATCH(C323,referentes!AL:AL,0),1))","v":""}]
[null,null,null,{"$f":"IF(C324=\"\",\"\",INDEX(referentes!AK:AL,MATCH(C324,referentes!AL:AL,0),1))","v":""}]
[null,null,null,{"$f":"IF(C325=\"\",\"\",INDEX(referentes!AK:AL,MATCH(C325,referentes!AL:AL,0),1))","v":""}]
[null,null,null,{"$f":"IF(C326=\"\",\"\",INDEX(referentes!AK:AL,MATCH(C326,referentes!AL:AL,0),1))","v":""}]
[null,null,null,{"$f":"IF(C327=\"\",\"\",INDEX(referentes!AK:AL,MATCH(C327,referentes!AL:AL,0),1))","v":""}]
[null,null,null,{"$f":"IF(C328=\"\",\"\",INDEX(referentes!AK:AL,MATCH(C328,referentes!AL:AL,0),1))","v":""}]
[null,null,null,{"$f":"IF(C329=\"\",\"\",INDEX(referentes!AK:AL,MATCH(C329,referentes!AL:AL,0),1))","v":""}]
[null,null,null,{"$f":"IF(C330=\"\",\"\",INDEX(referentes!AK:AL,MATCH(C330,referentes!AL:AL,0),1))","v":""}]
[null,null,null,{"$f":"IF(C331=\"\",\"\",INDEX(referentes!AK:AL,MATCH(C331,referentes!AL:AL,0),1))","v":""}]
[null,null,null,{"$f":"IF(C332=\"\",\"\",INDEX(referentes!AK:AL,MATCH(C332,referentes!AL:AL,0),1))","v":""}]
[null,null,null,{"$f":"IF(C333=\"\",\"\",INDEX(referentes!AK:AL,MATCH(C333,referentes!AL:AL,0),1))","v":""}]
[null,null,null,{"$f":"IF(C334=\"\",\"\",INDEX(referentes!AK:AL,MATCH(C334,referentes!AL:AL,0),1))","v":""}]
[null,null,null,{"$f":"IF(C335=\"\",\"\",INDEX(referentes!AK:AL,MATCH(C335,referentes!AL:AL,0),1))","v":""}]
[null,null,null,{"$f":"IF(C336=\"\",\"\",INDEX(referentes!AK:AL,MATCH(C336,referentes!AL:AL,0),1))","v":""}]
[null,null,null,{"$f":"IF(C337=\"\",\"\",INDEX(referentes!AK:AL,MATCH(C337,referentes!AL:AL,0),1))","v":""}]
[null,null,null,{"$f":"IF(C338=\"\",\"\",INDEX(referentes!AK:AL,MATCH(C338,referentes!AL:AL,0),1))","v":""}]
[null,null,null,{"$f":"IF(C339=\"\",\"\",INDEX(referentes!AK:AL,MATCH(C339,referentes!AL:AL,0),1))","v":""}]
[null,null,null,{"$f":"IF(C340=\"\",\"\",INDEX(referentes!AK:AL,MATCH(C340,referentes!AL:AL,0),1))","v":""}]
[null,null,null,{"$f":"IF(C341=\"\",\"\",INDEX(referentes!AK:AL,MATCH(C341,referentes!AL:AL,0),1))","v":""}]
[null,null,null,{"$f":"IF(C342=\"\",\"\",INDEX(referentes!AK:AL,MATCH(C342,referentes!AL:AL,0),1))","v":""}]
[null,null,null,{"$f":"IF(C343=\"\",\"\",INDEX(referentes!AK:AL,MATCH(C343,referentes!AL:AL,0),1))","v":""}]
[null,null,null,{"$f":"IF(C344=\"\",\"\",INDEX(referentes!AK:AL,MATCH(C344,referentes!AL:AL,0),1))","v":""}]
[null,null,null,{"$f":"IF(C345=\"\",\"\",INDEX(referentes!AK:AL,MATCH(C345,referentes!AL:AL,0),1))","v":""}]
[null,null,null,{"$f":"IF(C346=\"\",\"\",INDEX(referentes!AK:AL,MATCH(C346,referentes!AL:AL,0),1))","v":""}]
[null,null,null,{"$f":"IF(C347=\"\",\"\",INDEX(referentes!AK:AL,MATCH(C347,referentes!AL:AL,0),1))","v":""}]
[null,null,null,{"$f":"IF(C348=\"\",\"\",INDEX(referentes!AK:AL,MATCH(C348,referentes!AL:AL,0),1))","v":""}]
[null,null,null,{"$f":"IF(C349=\"\",\"\",INDEX(referentes!AK:AL,MATCH(C349,referentes!AL:AL,0),1))","v":""}]
[null,null,null,{"$f":"IF(C350=\"\",\"\",INDEX(referentes!AK:AL,MATCH(C350,referentes!AL:AL,0),1))","v":""}]
[null,null,null,{"$f":"IF(C351=\"\",\"\",INDEX(referentes!AK:AL,MATCH(C351,referentes!AL:AL,0),1))","v":""}]
[null,null,null,{"$f":"IF(C352=\"\",\"\",INDEX(referentes!AK:AL,MATCH(C352,referentes!AL:AL,0),1))","v":""}]
[null,null,null,{"$f":"IF(C353=\"\",\"\",INDEX(referentes!AK:AL,MATCH(C353,referentes!AL:AL,0),1))","v":""}]
[null,null,null,{"$f":"IF(C354=\"\",\"\",INDEX(referentes!AK:AL,MATCH(C354,referentes!AL:AL,0),1))","v":""}]
[null,null,null,{"$f":"IF(C355=\"\",\"\",INDEX(referentes!AK:AL,MATCH(C355,referentes!AL:AL,0),1))","v":""}]
[null,null,null,{"$f":"IF(C356=\"\",\"\",INDEX(referentes!AK:AL,MATCH(C356,referentes!AL:AL,0),1))","v":""}]
[null,null,null,{"$f":"IF(C357=\"\",\"\",INDEX(referentes!AK:AL,MATCH(C357,referentes!AL:AL,0),1))","v":""}]
[null,null,null,{"$f":"IF(C358=\"\",\"\",INDEX(referentes!AK:AL,MATCH(C358,referentes!AL:AL,0),1))","v":""}]
[null,null,null,{"$f":"IF(C359=\"\",\"\",INDEX(referentes!AK:AL,MATCH(C359,referentes!AL:AL,0),1))","v":""}]
[null,null,null,{"$f":"IF(C360=\"\",\"\",INDEX(referentes!AK:AL,MATCH(C360,referentes!AL:AL,0),1))","v":""}]
[null,null,null,{"$f":"IF(C361=\"\",\"\",INDEX(referentes!AK:AL,MATCH(C361,referentes!AL:AL,0),1))","v":""}]
[null,null,null,{"$f":"IF(C362=\"\",\"\",INDEX(referentes!AK:AL,MATCH(C362,referentes!AL:AL,0),1))","v":""}]
[null,null,null,{"$f":"IF(C363=\"\",\"\",INDEX(referentes!AK:AL,MATCH(C363,referentes!AL:AL,0),1))","v":""}]
[null,null,null,{"$f":"IF(C364=\"\",\"\",INDEX(referentes!AK:AL,MATCH(C364,referentes!AL:AL,0),1))","v":""}]
[null,null,null,{"$f":"IF(C365=\"\",\"\",INDEX(referentes!AK:AL,MATCH(C365,referentes!AL:AL,0),1))","v":""}]
[null,null,null,{"$f":"IF(C366=\"\",\"\",INDEX(referentes!AK:AL,MATCH(C366,referentes!AL:AL,0),1))","v":""}]
[null,null,null,{"$f":"IF(C367=\"\",\"\",INDEX(referentes!AK:AL,MATCH(C367,referentes!AL:AL,0),1))","v":""}]
[null,null,null,{"$f":"IF(C368=\"\",\"\",INDEX(referentes!AK:AL,MATCH(C368,referentes!AL:AL,0),1))","v":""}]
[null,null,null,{"$f":"IF(C369=\"\",\"\",INDEX(referentes!AK:AL,MATCH(C369,referentes!AL:AL,0),1))","v":""}]
[null,null,null,{"$f":"IF(C370=\"\",\"\",INDEX(referentes!AK:AL,MATCH(C370,referentes!AL:AL,0),1))","v":""}]
[null,null,null,{"$f":"IF(C371=\"\",\"\",INDEX(referentes!AK:AL,MATCH(C371,referentes!AL:AL,0),1))","v":""}]
[null,null,null,{"$f":"IF(C372=\"\",\"\",INDEX(referentes!AK:AL,MATCH(C372,referentes!AL:AL,0),1))","v":""}]
[null,null,null,{"$f":"IF(C373=\"\",\"\",INDEX(referentes!AK:AL,MATCH(C373,referentes!AL:AL,0),1))","v":""}]
[null,null,null,{"$f":"IF(C374=\"\",\"\",INDEX(referentes!AK:AL,MATCH(C374,referentes!AL:AL,0),1))","v":""}]
[null,null,null,{"$f":"IF(C375=\"\",\"\",INDEX(referentes!AK:AL,MATCH(C375,referentes!AL:AL,0),1))","v":""}]
[null,null,null,{"$f":"IF(C376=\"\",\"\",INDEX(referentes!AK:AL,MATCH(C376,referentes!AL:AL,0),1))","v":""}]
[null,null,null,{"$f":"IF(C377=\"\",\"\",INDEX(referentes!AK:AL,MATCH(C377,referentes!AL:AL,0),1))","v":""}]
[null,null,null,{"$f":"IF(C378=\"\",\"\",INDEX(referentes!AK:AL,MATCH(C378,referentes!AL:AL,0),1))","v":""}]
[null,null,null,{"$f":"IF(C379=\"\",\"\",INDEX(referentes!AK:AL,MATCH(C379,referentes!AL:AL,0),1))","v":""}]
[null,null,null,{"$f":"IF(C380=\"\",\"\",INDEX(referentes!AK:AL,MATCH(C380,referentes!AL:AL,0),1))","v":""}]
[null,null,null,{"$f":"IF(C381=\"\",\"\",INDEX(referentes!AK:AL,MATCH(C381,referentes!AL:AL,0),1))","v":""}]
[null,null,null,{"$f":"IF(C382=\"\",\"\",INDEX(referentes!AK:AL,MATCH(C382,referentes!AL:AL,0),1))","v":""}]
[null,null,null,{"$f":"IF(C383=\"\",\"\",INDEX(referentes!AK:AL,MATCH(C383,referentes!AL:AL,0),1))","v":""}]
[null,null,null,{"$f":"IF(C384=\"\",\"\",INDEX(referentes!AK:AL,MATCH(C384,referentes!AL:AL,0),1))","v":""}]
[null,null,null,{"$f":"IF(C385=\"\",\"\",INDEX(referentes!AK:AL,MATCH(C385,referentes!AL:AL,0),1))","v":""}]
[null,null,null,{"$f":"IF(C386=\"\",\"\",INDEX(referentes!AK:AL,MATCH(C386,referentes!AL:AL,0),1))","v":""}]
[null,null,null,{"$f":"IF(C387=\"\",\"\",INDEX(referentes!AK:AL,MATCH(C387,referentes!AL:AL,0),1))","v":""}]
[null,null,null,{"$f":"IF(C388=\"\",\"\",INDEX(referentes!AK:AL,MATCH(C388,referentes!AL:AL,0),1))","v":""}]
[null,null,null,{"$f":"IF(C389=\"\",\"\",INDEX(referentes!AK:AL,MATCH(C389,referentes!AL:AL,0),1))","v":""}]
[null,null,null,{"$f":"IF(C390=\"\",\"\",INDEX(referentes!AK:AL,MATCH(C390,referentes!AL:AL,0),1))","v":""}]
[null,null,null,{"$f":"IF(C391=\"\",\"\",INDEX(referentes!AK:AL,MATCH(C391,referentes!AL:AL,0),1))","v":""}]
[null,null,null,{"$f":"IF(C392=\"\",\"\",INDEX(referentes!AK:AL,MATCH(C392,referentes!AL:AL,0),1))","v":""}]
[null,null,null,{"$f":"IF(C393=\"\",\"\",INDEX(referentes!AK:AL,MATCH(C393,referentes!AL:AL,0),1))","v":""}]
[null,null,null,{"$f":"IF(C394=\"\",\"\",INDEX(referentes!AK:AL,MATCH(C394,referentes!AL:AL,0),1))","v":""}]
[null,null,null,{"$f":"IF(C395=\"\",\"\",INDEX(referentes!AK:AL,MATCH(C395,referentes!AL:AL,0),1))","v":""}]
[null,null,null,{"$f":"IF(C396=\"\",\"\",INDEX(referentes!AK:AL,MATCH(C396,referentes!AL:AL,0),1))","v":""}]
[null,null,null,{"$f":"IF(C397=\"\",\"\",INDEX(referentes!AK:AL,MATCH(C397,referentes!AL:AL,0),1))","v":""}]
[null,null,null,{"$f":"IF(C398=\"\",\"\",INDEX(referentes!AK:AL,MATCH(C398,referentes!AL:AL,0),1))","v":""}]
[null,null,null,{"$f":"IF(C399=\"\",\"\",INDEX(referentes!AK:AL,MATCH(C399,referentes!AL:AL,0),1))","v":""}]
[null,null,null,{"$f":"IF(C400=\"\",\"\",INDEX(referentes!AK:AL,MATCH(C400,referentes!AL:AL,0),1))","v":""}]
[null,null,null,{"$f":"IF(C401=\"\",\"\",INDEX(referentes!AK:AL,MATCH(C401,referentes!AL:AL,0),1))","v":""}]
[null,null,null,{"$f":"IF(C402=\"\",\"\",INDEX(referentes!AK:AL,MATCH(C402,referentes!AL:AL,0),1))","v":""}]
[null,null,null,{"$f":"IF(C403=\"\",\"\",INDEX(referentes!AK:AL,MATCH(C403,referentes!AL:AL,0),1))","v":""}]
[null,null,null,{"$f":"IF(C404=\"\",\"\",INDEX(referentes!AK:AL,MATCH(C404,referentes!AL:AL,0),1))","v":""}]
[null,null,null,{"$f":"IF(C405=\"\",\"\",INDEX(referentes!AK:AL,MATCH(C405,referentes!AL:AL,0),1))","v":""}]
[null,null,null,{"$f":"IF(C406=\"\",\"\",INDEX(referentes!AK:AL,MATCH(C406,referentes!AL:AL,0),1))","v":""}]
[null,null,null,{"$f":"IF(C407=\"\",\"\",INDEX(referentes!AK:AL,MATCH(C407,referentes!AL:AL,0),1))","v":""}]
[null,null,null,{"$f":"IF(C408=\"\",\"\",INDEX(referentes!AK:AL,MATCH(C408,referentes!AL:AL,0),1))","v":""}]
[null,null,null,{"$f":"IF(C409=\"\",\"\",INDEX(referentes!AK:AL,MATCH(C409,referentes!AL:AL,0),1))","v":""}]
[null,null,null,{"$f":"IF(C410=\"\",\"\",INDEX(referentes!AK:AL,MATCH(C410,referentes!AL:AL,0),1))","v":""}]
[null,null,null,{"$f":"IF(C411=\"\",\"\",INDEX(referentes!AK:AL,MATCH(C411,referentes!AL:AL,0),1))","v":""}]
[null,null,null,{"$f":"IF(C412=\"\",\"\",INDEX(referentes!AK:AL,MATCH(C412,referentes!AL:AL,0),1))","v":""}]
[null,null,null,{"$f":"IF(C413=\"\",\"\",INDEX(referentes!AK:AL,MATCH(C413,referentes!AL:AL,0),1))","v":""}]
[null,null,null,{"$f":"IF(C414=\"\",\"\",INDEX(referentes!AK:AL,MATCH(C414,referentes!AL:AL,0),1))","v":""}]
[null,null,null,{"$f":"IF(C415=\"\",\"\",INDEX(referentes!AK:AL,MATCH(C415,referentes!AL:AL,0),1))","v":""}]
[null,null,null,{"$f":"IF(C416=\"\",\"\",INDEX(referentes!AK:AL,MATCH(C416,referentes!AL:AL,0),1))","v":""}]
[null,null,null,{"$f":"IF(C417=\"\",\"\",INDEX(referentes!AK:AL,MATCH(C417,referentes!AL:AL,0),1))","v":""}]
[null,null,null,{"$f":"IF(C418=\"\",\"\",INDEX(referentes!AK:AL,MATCH(C418,referentes!AL:AL,0),1))","v":""}]
[null,null,null,{"$f":"IF(C419=\"\",\"\",INDEX(referentes!AK:AL,MATCH(C419,referentes!AL:AL,0),1))","v":""}]
[null,null,null,{"$f":"IF(C420=\"\",\"\",INDEX(referentes!AK:AL,MATCH(C420,referentes!AL:AL,0),1))","v":""}]
[null,null,null,{"$f":"IF(C421=\"\",\"\",INDEX(referentes!AK:AL,MATCH(C421,referentes!AL:AL,0),1))","v":""}]
[null,null,null,{"$f":"IF(C422=\"\",\"\",INDEX(referentes!AK:AL,MATCH(C422,referentes!AL:AL,0),1))","v":""}]
[null,null,null,{"$f":"IF(C423=\"\",\"\",INDEX(referentes!AK:AL,MATCH(C423,referentes!AL:AL,0),1))","v":""}]
[null,null,null,{"$f":"IF(C424=\"\",\"\",INDEX(referentes!AK:AL,MATCH(C424,referentes!AL:AL,0),1))","v":""}]
[null,null,null,{"$f":"IF(C425=\"\",\"\",INDEX(referentes!AK:AL,MATCH(C425,referentes!AL:AL,0),1))","v":""}]
[null,null,null,{"$f":"IF(C426=\"\",\"\",INDEX(referentes!AK:AL,MATCH(C426,referentes!AL:AL,0),1))","v":""}]
[null,null,null,{"$f":"IF(C427=\"\",\"\",INDEX(referentes!AK:AL,MATCH(C427,referentes!AL:AL,0),1))","v":""}]
[null,null,null,{"$f":"IF(C428=\"\",\"\",INDEX(referentes!AK:AL,MATCH(C428,referentes!AL:AL,0),1))","v":""}]
[null,null,null,{"$f":"IF(C429=\"\",\"\",INDEX(referentes!AK:AL,MATCH(C429,referentes!AL:AL,0),1))","v":""}]
[null,null,null,{"$f":"IF(C430=\"\",\"\",INDEX(referentes!AK:AL,MATCH(C430,referentes!AL:AL,0),1))","v":""}]
[null,null,null,{"$f":"IF(C431=\"\",\"\",INDEX(referentes!AK:AL,MATCH(C431,referentes!AL:AL,0),1))","v":""}]
[null,null,null,{"$f":"IF(C432=\"\",\"\",INDEX(referentes!AK:AL,MATCH(C432,referentes!AL:AL,0),1))","v":""}]
[null,null,null,{"$f":"IF(C433=\"\",\"\",INDEX(referentes!AK:AL,MATCH(C433,referentes!AL:AL,0),1))","v":""}]
[null,null,null,{"$f":"IF(C434=\"\",\"\",INDEX(referentes!AK:AL,MATCH(C434,referentes!AL:AL,0),1))","v":""}]
[null,null,null,{"$f":"IF(C435=\"\",\"\",INDEX(referentes!AK:AL,MATCH(C435,referentes!AL:AL,0),1))","v":""}]
[null,null,null,{"$f":"IF(C436=\"\",\"\",INDEX(referentes!AK:AL,MATCH(C436,referentes!AL:AL,0),1))","v":""}]
[null,null,null,{"$f":"IF(C437=\"\",\"\",INDEX(referentes!AK:AL,MATCH(C437,referentes!AL:AL,0),1))","v":""}]
[null,null,null,{"$f":"IF(C438=\"\",\"\",INDEX(referentes!AK:AL,MATCH(C438,referentes!AL:AL,0),1))","v":""}]
[null,null,null,{"$f":"IF(C439=\"\",\"\",INDEX(referentes!AK:AL,MATCH(C439,referentes!AL:AL,0),1))","v":""}]
[null,null,null,{"$f":"IF(C440=\"\",\"\",INDEX(referentes!AK:AL,MATCH(C440,referentes!AL:AL,0),1))","v":""}]
[null,null,null,{"$f":"IF(C441=\"\",\"\",INDEX(referentes!AK:AL,MATCH(C441,referentes!AL:AL,0),1))","v":""}]
[null,null,null,{"$f":"IF(C442=\"\",\"\",INDEX(referentes!AK:AL,MATCH(C442,referentes!AL:AL,0),1))","v":""}]
[null,null,null,{"$f":"IF(C443=\"\",\"\",INDEX(referentes!AK:AL,MATCH(C443,referentes!AL:AL,0),1))","v":""}]
[null,null,null,{"$f":"IF(C444=\"\",\"\",INDEX(referentes!AK:AL,MATCH(C444,referentes!AL:AL,0),1))","v":""}]
[null,null,null,{"$f":"IF(C445=\"\",\"\",INDEX(referentes!AK:AL,MATCH(C445,referentes!AL:AL,0),1))","v":""}]
[null,null,null,{"$f":"IF(C446=\"\",\"\",INDEX(referentes!AK:AL,MATCH(C446,referentes!AL:AL,0),1))","v":""}]
[null,null,null,{"$f":"IF(C447=\"\",\"\",INDEX(referentes!AK:AL,MATCH(C447,referentes!AL:AL,0),1))","v":""}]
[null,null,null,{"$f":"IF(C448=\"\",\"\",INDEX(referentes!AK:AL,MATCH(C448,referentes!AL:AL,0),1))","v":""}]
[null,null,null,{"$f":"IF(C449=\"\",\"\",INDEX(referentes!AK:AL,MATCH(C449,referentes!AL:AL,0),1))","v":""}]
[null,null,null,{"$f":"IF(C450=\"\",\"\",INDEX(referentes!AK:AL,MATCH(C450,referentes!AL:AL,0),1))","v":""}]
[null,null,null,{"$f":"IF(C451=\"\",\"\",INDEX(referentes!AK:AL,MATCH(C451,referentes!AL:AL,0),1))","v":""}]
[null,null,null,{"$f":"IF(C452=\"\",\"\",INDEX(referentes!AK:AL,MATCH(C452,referentes!AL:AL,0),1))","v":""}]
[null,null,null,{"$f":"IF(C453=\"\",\"\",INDEX(referentes!AK:AL,MATCH(C453,referentes!AL:AL,0),1))","v":""}]
[null,null,null,{"$f":"IF(C454=\"\",\"\",INDEX(referentes!AK:AL,MATCH(C454,referentes!AL:AL,0),1))","v":""}]
[null,null,null,{"$f":"IF(C455=\"\",\"\",INDEX(referentes!AK:AL,MATCH(C455,referentes!AL:AL,0),1))","v":""}]
[null,null,null,{"$f":"IF(C456=\"\",\"\",INDEX(referentes!AK:AL,MATCH(C456,referentes!AL:AL,0),1))","v":""}]
[null,null,null,{"$f":"IF(C457=\"\",\"\",INDEX(referentes!AK:AL,MATCH(C457,referentes!AL:AL,0),1))","v":""}]
[null,null,null,{"$f":"IF(C458=\"\",\"\",INDEX(referentes!AK:AL,MATCH(C458,referentes!AL:AL,0),1))","v":""}]
[null,null,null,{"$f":"IF(C459=\"\",\"\",INDEX(referentes!AK:AL,MATCH(C459,referentes!AL:AL,0),1))","v":""}]
[null,null,null,{"$f":"IF(C460=\"\",\"\",INDEX(referentes!AK:AL,MATCH(C460,referentes!AL:AL,0),1))","v":""}]
[null,null,null,{"$f":"IF(C461=\"\",\"\",INDEX(referentes!AK:AL,MATCH(C461,referentes!AL:AL,0),1))","v":""}]
[null,null,null,{"$f":"IF(C462=\"\",\"\",INDEX(referentes!AK:AL,MATCH(C462,referentes!AL:AL,0),1))","v":""}]
[null,null,null,{"$f":"IF(C463=\"\",\"\",INDEX(referentes!AK:AL,MATCH(C463,referentes!AL:AL,0),1))","v":""}]
[null,null,null,{"$f":"IF(C464=\"\",\"\",INDEX(referentes!AK:AL,MATCH(C464,referentes!AL:AL,0),1))","v":""}]
[null,null,null,{"$f":"IF(C465=\"\",\"\",INDEX(referentes!AK:AL,MATCH(C465,referentes!AL:AL,0),1))","v":""}]
[null,null,null,{"$f":"IF(C466=\"\",\"\",INDEX(referentes!AK:AL,MATCH(C466,referentes!AL:AL,0),1))","v":""}]
[null,null,null,{"$f":"IF(C467=\"\",\"\",INDEX(referentes!AK:AL,MATCH(C467,referentes!AL:AL,0),1))","v":""}]
[null,null,null,{"$f":"IF(C468=\"\",\"\",INDEX(referentes!AK:AL,MATCH(C468,referentes!AL:AL,0),1))","v":""}]
[null,null,null,{"$f":"IF(C469=\"\",\"\",INDEX(referentes!AK:AL,MATCH(C469,referentes!AL:AL,0),1))","v":""}]
[null,null,null,{"$f":"IF(C470=\"\",\"\",INDEX(referentes!AK:AL,MATCH(C470,referentes!AL:AL,0),1))","v":""}]
[null,null,null,{"$f":"IF(C471=\"\",\"\",INDEX(referentes!AK:AL,MATCH(C471,referentes!AL:AL,0),1))","v":""}]
[null,null,null,{"$f":"IF(C472=\"\",\"\",INDEX(referentes!AK:AL,MATCH(C472,referentes!AL:AL,0),1))","v":""}]
[null,null,null,{"$f":"IF(C473=\"\",\"\",INDEX(referentes!AK:AL,MATCH(C473,referentes!AL:AL,0),1))","v":""}]
[null,null,null,{"$f":"IF(C474=\"\",\"\",INDEX(referentes!AK:AL,MATCH(C474,referentes!AL:AL,0),1))","v":""}]
[null,null,null,{"$f":"IF(C475=\"\",\"\",INDEX(referentes!AK:AL,MATCH(C475,referentes!AL:AL,0),1))","v":""}]
[null,null,null,{"$f":"IF(C476=\"\",\"\",INDEX(referentes!AK:AL,MATCH(C476,referentes!AL:AL,0),1))","v":""}]
[null,null,null,{"$f":"IF(C477=\"\",\"\",INDEX(referentes!AK:AL,MATCH(C477,referentes!AL:AL,0),1))","v":""}]
[null,null,null,{"$f":"IF(C478=\"\",\"\",INDEX(referentes!AK:AL,MATCH(C478,referentes!AL:AL,0),1))","v":""}]
[null,null,null,{"$f":"IF(C479=\"\",\"\",INDEX(referentes!AK:AL,MATCH(C479,referentes!AL:AL,0),1))","v":""}]
[null,null,null,{"$f":"IF(C480=\"\",\"\",INDEX(referentes!AK:AL,MATCH(C480,referentes!AL:AL,0),1))","v":""}]
[null,null,null,{"$f":"IF(C481=\"\",\"\",INDEX(referentes!AK:AL,MATCH(C481,referentes!AL:AL,0),1))","v":""}]
[null,null,null,{"$f":"IF(C482=\"\",\"\",INDEX(referentes!AK:AL,MATCH(C482,referentes!AL:AL,0),1))","v":""}]
[null,null,null,{"$f":"IF(C483=\"\",\"\",INDEX(referentes!AK:AL,MATCH(C483,referentes!AL:AL,0),1))","v":""}]
[null,null,null,{"$f":"IF(C484=\"\",\"\",INDEX(referentes!AK:AL,MATCH(C484,referentes!AL:AL,0),1))","v":""}]
[null,null,null,{"$f":"IF(C485=\"\",\"\",INDEX(referentes!AK:AL,MATCH(C485,referentes!AL:AL,0),1))","v":""}]
[null,null,null,{"$f":"IF(C486=\"\",\"\",INDEX(referentes!AK:AL,MATCH(C486,referentes!AL:AL,0),1))","v":""}]
[null,null,null,{"$f":"IF(C487=\"\",\"\",INDEX(referentes!AK:AL,MATCH(C487,referentes!AL:AL,0),1))","v":""}]
[null,null,null,{"$f":"IF(C488=\"\",\"\",INDEX(referentes!AK:AL,MATCH(C488,referentes!AL:AL,0),1))","v":""}]
[null,null,null,{"$f":"IF(C489=\"\",\"\",INDEX(referentes!AK:AL,MATCH(C489,referentes!AL:AL,0),1))","v":""}]
[null,null,null,{"$f":"IF(C490=\"\",\"\",INDEX(referentes!AK:AL,MATCH(C490,referentes!AL:AL,0),1))","v":""}]
[null,null,null,{"$f":"IF(C491=\"\",\"\",INDEX(referentes!AK:AL,MATCH(C491,referentes!AL:AL,0),1))","v":""}]
[null,null,null,{"$f":"IF(C492=\"\",\"\",INDEX(referentes!AK:AL,MATCH(C492,referentes!AL:AL,0),1))","v":""}]
[null,null,null,{"$f":"IF(C493=\"\",\"\",INDEX(referentes!AK:AL,MATCH(C493,referentes!AL:AL,0),1))","v":""}]
[null,null,null,{"$f":"IF(C494=\"\",\"\",INDEX(referentes!AK:AL,MATCH(C494,referentes!AL:AL,0),1))","v":""}]
[null,null,null,{"$f":"IF(C495=\"\",\"\",INDEX(referentes!AK:AL,MATCH(C495,referentes!AL:AL,0),1))","v":""}]
[null,null,null,{"$f":"IF(C496=\"\",\"\",INDEX(referentes!AK:AL,MATCH(C496,referentes!AL:AL,0),1))","v":""}]
[null,null,null,{"$f":"IF(C497=\"\",\"\",INDEX(referentes!AK:AL,MATCH(C497,referentes!AL:AL,0),1))","v":""}]
[null,null,null,{"$f":"IF(C498=\"\",\"\",INDEX(referentes!AK:AL,MATCH(C498,referentes!AL:AL,0),1))","v":""}]
[null,null,null,{"$f":"IF(C499=\"\",\"\",INDEX(referentes!AK:AL,MATCH(C499,referentes!AL:AL,0),1))","v":""}]
[null,null,null,{"$f":"IF(C500=\"\",\"\",INDEX(referentes!AK:AL,MATCH(C500,referentes!AL:AL,0),1))","v":""}]
[null,null,null,{"$f":"IF(C501=\"\",\"\",INDEX(referentes!AK:AL,MATCH(C501,referentes!AL:AL,0),1))","v":""}]
[null,null,null,{"$f":"IF(C502=\"\",\"\",INDEX(referentes!AK:AL,MATCH(C502,referentes!AL:AL,0),1))","v":""}]
[null,null,null,{"$f":"IF(C503=\"\",\"\",INDEX(referentes!AK:AL,MATCH(C503,referentes!AL:AL,0),1))","v":""}]
[null,null,null,{"$f":"IF(C504=\"\",\"\",INDEX(referentes!AK:AL,MATCH(C504,referentes!AL:AL,0),1))","v":""}]
[null,null,null,{"$f":"IF(C505=\"\",\"\",INDEX(referentes!AK:AL,MATCH(C505,referentes!AL:AL,0),1))","v":""}]
[null,null,null,{"$f":"IF(C506=\"\",\"\",INDEX(referentes!AK:AL,MATCH(C506,referentes!AL:AL,0),1))","v":""}]
[null,null,null,{"$f":"IF(C507=\"\",\"\",INDEX(referentes!AK:AL,MATCH(C507,referentes!AL:AL,0),1))","v":""}]
[null,null,null,{"$f":"IF(C508=\"\",\"\",INDEX(referentes!AK:AL,MATCH(C508,referentes!AL:AL,0),1))","v":""}]
[null,null,null,{"$f":"IF(C509=\"\",\"\",INDEX(referentes!AK:AL,MATCH(C509,referentes!AL:AL,0),1))","v":""}]
[null,null,null,{"$f":"IF(C510=\"\",\"\",INDEX(referentes!AK:AL,MATCH(C510,referentes!AL:AL,0),1))","v":""}]

{"sheet":"referentes","index":5,"n_rows":142,"n_cols":53,"rows_kept":142,"cut":false,"hidden":false,"merged":[]}
["AG_LOV",1103,null,"AG_LOV",434,null,"AG_LOV",1045,null,"AGM_METODOS",905,null,"AG_LOV",437,null,"AG_LOV",453,null,"AG_LOV",452,null,"AG_LOV",459,null,"AG_LOV",1102,null,"AG_LOV",1101,null,"AG_LOV",443,null,"AG_LOV",1091,null,"AG_LOV",1104,null,"descripcion","cod_letras","clave_sibm","phylum","clase","orden","familia","genero"]
[108,"Avistamientos",null,590,"Embarque",null,"OMACHA - OFM","Fundación Omacha OFM",null,733,"Observación indirecta",null,600,"Sure (1)",null,795,"BPXC-INVEMAR",null,700,"Sísmica 3D",null,848,"Territorio nacional - Caribe",null,1,"No verificable / unverifiable",null,1,"Presente / present",null,746,"NO",null,1,"Fotografia",null,1,"Akademik Shatskiy",null,"CETARTIODACTYLA","70.18.710","70.18.710",null,"AVES","CETARTIODACTYLA",null,null,"Buenaventura","ANH-SANQ",55605,1,4287,"Adrian  Vasquez Ávila "]
[110,"Varamientos",null,591,"Sobrevuelo",null,"CORALINA OMACHA","Corporación Autónoma Regional de las Islas de San Andrés, Providencia y Santa Catalina",null,732,"Observación directa",null,601,"Probable (2)",null,796,"CGG Veritas-Ecopetrol",null,701,"Sísmica 2D",null,849,"Territorio nacional - Pacífico",null,2,"Verificación requerida / verification required",null,2,"Ausente / absent",null,747,"SI",null,2,"Video",null,2,"Ancón",null,"CARNIVORA","70.18.720","70.18.720",null,null,"CARNIVORA",null,null,"Buenaventura","ANH-CHO-OFF",55609,1,4442,"Alejandra Arango"]
[null,null,null,594,"Artículo científico",null,"CORPOURABA - OMACHA","Corporación Autónoma Regional del Uraba",null,873,"Base de datos",null,602,"Doubtful (3)",null,797,"Petrobras",null,702,"Caracterización biológica",null,850,"Aguas internacionales - Pacífico norte",null,3,"Verificado / verified",null,3,"Común / common",null,null,null,null,3,"Video y fotografía",null,3,"ARC Providencia",null,"DIDELPHIMORPHIA","70.18.730","70.18.730",null,null,"DIDELPHIMORPHIA",null,null,"Cartagena","MINAM-BEAT",55608,1,4288,"Alejandro Pachón"]
[null,null,null,595,"Reporte - Informe",null,"CPPS","Comisión Permanente del Pacífico Sur",null,null,null,null,null,null,null,798,"CGG Veritas",null,703,"Sísmica 2D y 3D",null,851,"Aguas internacionales - Caribe",null,4,"Verificado por especialista / verified by specialist",null,4,"Irregular / irregular",null,null,null,null,4,"Solo observación",null,4,"ARC Providencia / ARC Quindío",null,"SIRENIA","70.18.761","70.18.761",null,null,"SIRENIA",null,null,"Cartagena","ANH-GUAOFF",55606,1,4289,"Alejandro Sandoval"]
[null,null,null,596,"Trabajo de grado",null,"F. Malpelo","Fundación Malpelo / Marviva",null,null,null,null,null,null,null,799,"Transmares - ONGC Videsh",null,704,"Taladro de exploración",null,852,"Aguas internacionales - Pacífico sur",null,null,null,null,5,"Raro / rare",null,null,null,null,null,null,null,5,"ARC Quindío",null,"BALAENOPTERIDAE","70.40.3503","70.40.3503",null,null,"CETARTIODACTYLA","BALAENOPTERIDAE",null,"Cartagena","MINAM-CUEN",55607,1,4433,"Alejandro Torres"]
[null,null,null,597,"Prensa",null,"IATTC","Inter-American Tropical Tuna Commission",null,null,null,null,null,null,null,800,"PETROBRAS - INVEMAR",null,705,"Tendido de cable submarino",null,null,null,null,null,null,null,6,"Dudoso / doubtful",null,null,null,null,null,null,null,6,"Artemis Artic",null,"PHYSETERIDAE","70.40.3513","70.40.3513",null,null,"CETARTIODACTYLA","PHYSETERIDAE",null,null,"OFM_0024",45727,4,4290,"Alexandra Gartner"]
[null,null,null,598,"Ciencia participativa",null,"INVEMAR - OMACHA","Instituto de Investigaciones Marinas y Costeras",null,null,null,null,null,null,null,801,"INVEMAR",null,706,"Heatflow - Pistoncore",null,null,null,null,null,null,null,null,null,null,null,null,null,null,null,null,7,"Bolette Dolphin",null,"DELPHINIDAE","70.40.3523","70.40.3523",null,null,"CETARTIODACTYLA","DELPHINIDAE",null,null,"OFM",47962,90000,4291,"Ana Sierra"]
[null,null,null,868,"Base de datos",null,"NOAA SFSC","National Oceanic and Atmospheric Administration",null,null,null,null,null,null,null,802,"Sesco Global",null,707,"Expedición biológica",null,null,null,null,null,null,null,null,null,null,null,null,null,null,null,null,8,"Cami B",null,"MUSTELIDAE","70.40.3533","70.40.3533",null,null,"CARNIVORA","MUSTELIDAE",null,null,"OFM_0024",45726,3,5957,"Andrea Venturotti"]
[null,null,null,869,"Prospección sísmica",null,"NOAA FISHERIES","NOAA Southwest Fisheries Science Center",null,null,null,null,null,null,null,803,"Fugro-MPX",null,708,"Plataforma de exploración",null,null,null,null,null,null,null,null,null,null,null,null,null,null,null,null,9,"Christian Chouest",null,"OTARIIDAE","70.40.3543","70.40.3543",null,null,"CARNIVORA","OTARIIDAE",null,null,"OFM_20150918O",45237,42265,4293,"Camila Duran Prieto"]
[null,null,null,null,null,null,"OMACHA - OFM - AQUAB","Fundación Omacha - Aquabiosfera",null,null,null,null,null,null,null,804,"EQUION",null,709,"Boxcore - Pistoncore",null,null,null,null,null,null,null,null,null,null,null,null,null,null,null,null,10,"Daring",null,"DIDELPHIDAE","70.40.3553","70.40.3553",null,null,"DIDELPHIMORPHIA","DIDELPHIDAE",null,null,null,null,null,4450,"Camilo Restrepo"]
[null,null,null,null,null,null,"CWOP","Caribbean-Wide Orca Project",null,null,null,null,null,null,null,805,"REMAR - ONGC Videsh",null,710,"Plataforma de exploración - Buque de apoyo",null,null,null,null,null,null,null,null,null,null,null,null,null,null,null,null,11,"Don Nicola / Tesa / Daring",null,"KOGIIDAE","70.40.3643","70.40.3643",null,null,"CETARTIODACTYLA","KOGIIDAE",null,null,null,null,null,5960,"Capitán Tamayo"]
[null,null,null,null,null,null,"INVEMAR","INVEMAR",null,null,null,null,null,null,null,806,"MCS - ANH",null,712,"Línea base",null,null,null,null,null,null,null,null,null,null,null,null,null,null,null,null,12,"Don Rodrigo",null,"INIIDAE","70.40.3684","70.40.3684",null,null,"CETARTIODACTYLA","INIIDAE",null,null,null,null,null,7597,"Carlos Andrés Paez Jacome"]
[null,null,null,null,null,null,"UDEA","Universidad de Antioquia",null,null,null,null,null,null,null,807,"TGS - ANH",null,713,"Monitoreo",null,null,null,null,null,null,null,null,null,null,null,null,null,null,null,null,13,"Don Saverio",null,"ZIPHIIDAE","70.40.3685","70.40.3685",null,null,"CETARTIODACTYLA","ZIPHIIDAE",null,null,null,null,null,4295,"Carolina  Becerra"]
[null,null,null,null,null,null,"WCS","Wildlife Conservation Society",null,null,null,null,null,null,null,808,"INVEMAR - SHELL",null,714,"Armada Nacional",null,null,null,null,null,null,null,null,null,null,null,null,null,null,null,null,14,"Fugro Brasilis",null,"TRICHECHIDAE","70.40.3686","70.40.3686",null,null,"SIRENIA","TRICHECHIDAE",null,null,null,null,null,4296,"Carolina González"]
[null,null,null,null,null,null,"F. Macuáticos","Fundación Macuáticos",null,null,null,null,null,null,null,809,"INVEMAR - REPSOL",null,715,"Monitoreo despues",null,null,null,null,null,null,null,null,null,null,null,null,null,null,null,null,15,"Gavea",null,"PHOCIDAE","70.40.3687","70.40.3687",null,null,"CARNIVORA","PHOCIDAE",null,null,null,null,null,4297,"Catalina Ángel"]
[null,null,null,null,null,null,"CALIDRIS","Asociación CALIDRIS",null,null,null,null,null,null,null,810,"ONE S.A.S",null,716,"Monitoreo durante",null,null,null,null,null,null,null,null,null,null,null,null,null,null,null,null,16,"Geoexplorer",null,"MEGAPTERA sp.","70.46.2010","70.46.2010",null,null,"CETARTIODACTYLA","BALAENOPTERIDAE",null,null,null,null,null,4438,"Colin Nicholson"]
[null,null,null,null,null,null,"CLO","Cornell Lab of Ornithology",null,null,null,null,null,null,null,811,"INVEMAR - BEM",null,717,"Monitoreo EVS",null,null,null,null,null,null,null,null,null,null,null,null,null,null,null,null,17,"Geowave Endeavour",null,"PHYSETER sp.","70.46.2020","70.46.2020",null,null,"CETARTIODACTYLA","PHYSETERIDAE",null,null,null,null,null,4439,"Cristina Jiménez"]
[null,null,null,null,null,null,"US.FWS","US Fisheries and Wildlife Services",null,null,null,null,null,null,null,812,"GEMS - ECOPETROL",null,718,"Oceanografia",null,null,null,null,null,null,null,null,null,null,null,null,null,null,null,null,18,"GGS Atlantic",null,"GLOBICEPHALA sp.","70.46.2030","70.46.2030",null,null,"CETARTIODACTYLA","DELPHINIDAE",null,null,null,null,null,3965,"Cristina Maria Cedeño Posso"]
[null,null,null,null,null,null,null,null,null,null,null,null,null,null,null,813,"Seaflower",null,719,"Piston Core",null,null,null,null,null,null,null,null,null,null,null,null,null,null,null,null,19,"Île de Baltz",null,"ORCINUS sp.","70.46.2040","70.46.2040",null,null,"CETARTIODACTYLA","DELPHINIDAE",null,null,null,null,null,4429,"D. Weeks"]
[null,null,null,null,null,null,null,null,null,null,null,null,null,null,null,814,"INVEMAR - PETROBRAS",null,720,"Monitoreo antes",null,null,null,null,null,null,null,null,null,null,null,null,null,null,null,null,20,"Île de Brehat",null,"PSEUDORCA sp.","70.46.2050","70.46.2050",null,null,"CETARTIODACTYLA","DELPHINIDAE",null,null,null,null,null,5958,"Dalia Barragan"]
[null,null,null,null,null,null,null,null,null,null,null,null,null,null,null,815,"ANADARKO - TAYRONA",null,null,null,null,null,null,null,null,null,null,null,null,null,null,null,null,null,null,null,21,"La Corbeta",null,"STENELLA sp.","70.46.2060","70.46.2060",null,null,"CETARTIODACTYLA","DELPHINIDAE",null,null,null,null,null,4298,"David Keith Kiechbusch"]
[null,null,null,null,null,null,null,null,null,null,null,null,null,null,null,816,"INVEMAR - MOLUSCO",null,null,null,null,null,null,null,null,null,null,null,null,null,null,null,null,null,null,null,22,"La Cuyaya",null,"TURSIOPS sp.","70.46.2070","70.46.2070",null,null,"CETARTIODACTYLA","DELPHINIDAE",null,null,null,null,null,4299,"Diego Mojica"]
[null,null,null,null,null,null,null,null,null,null,null,null,null,null,null,817,"ANADARKO - SERPORT",null,null,null,null,null,null,null,null,null,null,null,null,null,null,null,null,null,null,null,23,"La Fantasma",null,"LONTRA sp.","70.46.2080","70.46.2080",null,null,"CARNIVORA","MUSTELIDAE",null,null,null,null,null,4918,"Edgar Fernando Dorado Roncancio"]
[null,null,null,null,null,null,null,null,null,null,null,null,null,null,null,818,"INVEMAR - REPSOL - SILURO",null,null,null,null,null,null,null,null,null,null,null,null,null,null,null,null,null,null,null,24,"La Fantasma / La Cuyaya",null,"ARCTOCEPHALUS sp.","70.46.2090","70.46.2090",null,null,"CARNIVORA","OTARIIDAE",null,null,null,null,null,4300,"Edison Tamayo"]
[null,null,null,null,null,null,null,null,null,null,null,null,null,null,null,819,"INVEMAR - GEOCOL",null,null,null,null,null,null,null,null,null,null,null,null,null,null,null,null,null,null,null,25,"Maria José II",null,"OTARIA sp.","70.46.2100","70.46.2100",null,null,"CARNIVORA","OTARIIDAE",null,null,null,null,null,4301,"Edwin Carrillo"]
[null,null,null,null,null,null,null,null,null,null,null,null,null,null,null,820,"OMACHA - NOAA",null,null,null,null,null,null,null,null,null,null,null,null,null,null,null,null,null,null,null,26,"Maria José II / Releigh B",null,"CHIRONECTES sp.","70.46.2110","70.46.2110",null,null,"DIDELPHIMORPHIA","DIDELPHIDAE",null,null,null,null,null,4302,"Erika  Ortiz"]
[null,null,null,null,null,null,null,null,null,null,null,null,null,null,null,822,"INVEMAR-SHELL SIN OFF 7",null,null,null,null,null,null,null,null,null,null,null,null,null,null,null,null,null,null,null,27,"Ocean Clipper",null,"BALAENOPTERA sp.","70.46.2120","70.46.2120",null,null,"CETARTIODACTYLA","BALAENOPTERIDAE",null,null,null,null,null,1799,"Felipe A. Estela Uribe"]
[null,null,null,null,null,null,null,null,null,null,null,null,null,null,null,823,"INVEMAR-SHELL COL 3",null,null,null,null,null,null,null,null,null,null,null,null,null,null,null,null,null,null,null,28,"Ocean Researcher",null,"KOGIA sp.","70.46.2530","70.46.2530",null,null,"CETARTIODACTYLA","KOGIIDAE",null,null,null,null,null,4305,"Felipe Ballesteros Galvis "]
[null,null,null,null,null,null,null,null,null,null,null,null,null,null,null,824,"INVEMAR-SHELL PISTON CORE COL 3",null,null,null,null,null,null,null,null,null,null,null,null,null,null,null,null,null,null,null,29,"Raleigh B ",null,"SOTALIA sp.","70.46.2871","70.46.2871",null,null,"CETARTIODACTYLA","DELPHINIDAE",null,null,null,null,null,4269,"Fernando Sierra Vargas"]
[null,null,null,null,null,null,null,null,null,null,null,null,null,null,null,825,"INVEMAR-SHELL GUA 3",null,null,null,null,null,null,null,null,null,null,null,null,null,null,null,null,null,null,null,30,"Santos Solution",null,"STENO sp.","70.46.2872","70.46.2872",null,null,"CETARTIODACTYLA","DELPHINIDAE",null,null,null,null,null,4435,"Fernando Trujillo"]
[null,null,null,null,null,null,null,null,null,null,null,null,null,null,null,826,"INVEMAR-SHELL COL 3 EVS",null,null,null,null,null,null,null,null,null,null,null,null,null,null,null,null,null,null,null,31,"Sea Surveyor",null,"PEPONOCEPHALA sp.","70.46.2873","70.46.2873",null,null,"CETARTIODACTYLA","DELPHINIDAE",null,null,null,null,null,4306,"Francisco Reyes Sanchez"]
[null,null,null,null,null,null,null,null,null,null,null,null,null,null,null,827,"SERPORT-SHELL",null,null,null,null,null,null,null,null,null,null,null,null,null,null,null,null,null,null,null,32,"Sea Trident",null,"FERESA sp.","70.46.2874","70.46.2874",null,null,"CETARTIODACTYLA","DELPHINIDAE",null,null,null,null,null,4881,"Funcionario CCP"]
[null,null,null,null,null,null,null,null,null,null,null,null,null,null,null,828,"SERPORT-SHELL SIN OFF 7",null,null,null,null,null,null,null,null,null,null,null,null,null,null,null,null,null,null,null,33,"Sea Wolf",null,"GRAMPUS sp.","70.46.2875","70.46.2875",null,null,"CETARTIODACTYLA","DELPHINIDAE",null,null,null,null,null,3554,"Funcionario CORALINA"]
[null,null,null,null,null,null,null,null,null,null,null,null,null,null,null,829,"Armada Nacional",null,null,null,null,null,null,null,null,null,null,null,null,null,null,null,null,null,null,null,34,"Tesa",null,"DELPHINUS sp.","70.46.2876","70.46.2876",null,null,"CETARTIODACTYLA","DELPHINIDAE",null,null,null,null,null,4884,"Funcionario Coralina - Omacha"]
[null,null,null,null,null,null,null,null,null,null,null,null,null,null,null,833,"NOAA Fisheries",null,null,null,null,null,null,null,null,null,null,null,null,null,null,null,null,null,null,null,35,"Veritas Viking",null,"LAGENODELPHIS sp.","70.46.2877","70.46.2877",null,null,"CETARTIODACTYLA","DELPHINIDAE",null,null,null,null,null,4882,"Funcionario Fundación Malpelo"]
[null,null,null,null,null,null,null,null,null,null,null,null,null,null,null,834,"Wildlife Conservation Society",null,null,null,null,null,null,null,null,null,null,null,null,null,null,null,null,null,null,null,36,"Viking Vanish",null,"INIA sp.","70.46.2878","70.46.2878",null,null,"CETARTIODACTYLA","INIIDAE",null,null,null,null,null,4883,"Funcionario Fundación Omacha"]
[null,null,null,null,null,null,null,null,null,null,null,null,null,null,null,835,"INVEMAR - Pacific - Morrosquillo",null,null,null,null,null,null,null,null,null,null,null,null,null,null,null,null,null,null,null,37,"Western Patriot",null,"MESOPLODON sp.","70.46.2879","70.46.2879",null,null,"CETARTIODACTYLA","ZIPHIIDAE",null,null,null,null,null,4880,"Funcionario IATT"]
[null,null,null,null,null,null,null,null,null,null,null,null,null,null,null,836,"INVEMAR - COL 1",null,null,null,null,null,null,null,null,null,null,null,null,null,null,null,null,null,null,null,38,"Western Trident\r",null,"ZIPHIUS sp.","70.46.2880","70.46.2880",null,null,"CETARTIODACTYLA","ZIPHIIDAE",null,null,null,null,null,4878,"Gwoolmer ."]
[null,null,null,null,null,null,null,null,null,null,null,null,null,null,null,837,"ECOPETROL - GEOHIDRA",null,null,null,null,null,null,null,null,null,null,null,null,null,null,null,null,null,null,null,39,"Wildebeest",null,"ZALOPHUS sp.","70.46.2881","70.46.2881",null,null,"CARNIVORA","OTARIIDAE",null,null,null,null,null,4451,"Hector Calderon Silva"]
[null,null,null,null,null,null,null,null,null,null,null,null,null,null,null,838,"AQUABIOSFERA - Purple Angel",null,null,null,null,null,null,null,null,null,null,null,null,null,null,null,null,null,null,null,4098,"MN Drakkar IV",null,"TRICHECHUS sp.","70.46.2882","70.46.2882",null,null,"SIRENIA","TRICHECHIDAE",null,null,null,null,null,4449,"Hector Mai Hector"]
[null,null,null,null,null,null,null,null,null,null,null,null,null,null,null,842,"AQUABIOSFERA - Gorgon A",null,null,null,null,null,null,null,null,null,null,null,null,null,null,null,null,null,null,null,4099,"Doña Jose",null,"MONACHUS sp.","70.46.2883","70.46.2883",null,null,"CARNIVORA","PHOCIDAE",null,null,null,null,null,4307,"Heysel Calderón"]
[null,null,null,null,null,null,null,null,null,null,null,null,null,null,null,843,"AQUABIOSFERA -  Calasú",null,null,null,null,null,null,null,null,null,null,null,null,null,null,null,null,null,null,null,4154,"RM Esperanza V",null,"INDOPACETUS sp.","70.46.4384","70.46.4384",null,null,"CETARTIODACTYLA","ZIPHIIDAE",null,null,null,null,null,4308,"Isabel Ávila"]
[null,null,null,null,null,null,null,null,null,null,null,null,null,null,null,845,"REPSOL",null,null,null,null,null,null,null,null,null,null,null,null,null,null,null,null,null,null,null,null,null,null,"MEGAPTERA NOVAEANGLIAE","70.55.3201","70.55.3201",null,null,"CETARTIODACTYLA","BALAENOPTERIDAE",null,null,null,null,null,4309,"Ivon Salamanca"]
[null,null,null,null,null,null,null,null,null,null,null,null,null,null,null,854,"IATTC",null,null,null,null,null,null,null,null,null,null,null,null,null,null,null,null,null,null,null,null,null,null,"PHYSETER CATODON","70.55.3202","70.55.3202",null,null,"CETARTIODACTYLA","PHYSETERIDAE",null,null,null,null,null,5959,"J. Patiño"]
[null,null,null,null,null,null,null,null,null,null,null,null,null,null,null,856,"Caribbean-Wide Orca Project - CWOP",null,null,null,null,null,null,null,null,null,null,null,null,null,null,null,null,null,null,null,null,null,null,"GLOBICEPHALA MACRORHYNCHUS","70.55.3203","70.55.3203",null,null,"CETARTIODACTYLA","DELPHINIDAE",null,null,null,null,null,4444,"Jaime Bolaños"]
[null,null,null,null,null,null,null,null,null,null,null,null,null,null,null,870,"AQUABIOSFERA SAS",null,null,null,null,null,null,null,null,null,null,null,null,null,null,null,null,null,null,null,null,null,null,"ORCINUS ORCA","70.55.3204","70.55.3204",null,null,"CETARTIODACTYLA","DELPHINIDAE",null,null,null,null,null,5961,"Javier Alarcón"]
[null,null,null,null,null,null,null,null,null,null,null,null,null,null,null,871,"SHELL",null,null,null,null,null,null,null,null,null,null,null,null,null,null,null,null,null,null,null,null,null,null,"PSEUDORCA CRASSIDENS","70.55.3205","70.55.3205",null,null,"CETARTIODACTYLA","DELPHINIDAE",null,null,null,null,null,4445,"Jean Carlos Guerrero"]
[null,null,null,null,null,null,null,null,null,null,null,null,null,null,null,872,"ANADARKO",null,null,null,null,null,null,null,null,null,null,null,null,null,null,null,null,null,null,null,null,null,null,"STENELLA ATTENUATA","70.55.3206","70.55.3206",null,null,"CETARTIODACTYLA","DELPHINIDAE",null,null,null,null,null,4915,"Jessica Patiño"]
[null,null,null,null,null,null,null,null,null,null,null,null,null,null,null,873,"CORALINA",null,null,null,null,null,null,null,null,null,null,null,null,null,null,null,null,null,null,null,null,null,null,"STENELLA COERULEOALBA","70.55.3207","70.55.3207",null,null,"CETARTIODACTYLA","DELPHINIDAE",null,null,null,null,null,4440,"Jhon Jairo Gonzalez"]
[null,null,null,null,null,null,null,null,null,null,null,null,null,null,null,874,"CCO - MACUÁTICOS",null,null,null,null,null,null,null,null,null,null,null,null,null,null,null,null,null,null,null,null,null,null,"TURSIOPS TRUNCATUS","70.55.3208","70.55.3208",null,null,"CETARTIODACTYLA","DELPHINIDAE",null,null,null,null,null,4310,"Jorge Davila"]
[null,null,null,null,null,null,null,null,null,null,null,null,null,null,null,875,"CCO",null,null,null,null,null,null,null,null,null,null,null,null,null,null,null,null,null,null,null,null,null,null,"LONTRA LONGICAUDIS","70.55.3209","70.55.3209",null,null,"CARNIVORA","MUSTELIDAE",null,null,null,null,null,4432,"Jorge Donoso"]
[null,null,null,null,null,null,null,null,null,null,null,null,null,null,null,876,"CALIDRIS",null,null,null,null,null,null,null,null,null,null,null,null,null,null,null,null,null,null,null,null,null,null,"OTARIA FLAVESCENS","70.55.3210","70.55.3210",null,null,"CARNIVORA","OTARIIDAE",null,null,null,null,null,6356,"Jose Francisco Campo Campo"]
[null,null,null,null,null,null,null,null,null,null,null,null,null,null,null,877,"CORALINA - OMACHA",null,null,null,null,null,null,null,null,null,null,null,null,null,null,null,null,null,null,null,null,null,null,"CHIRONECTES MINIMUS","70.55.3211","70.55.3211",null,null,"DIDELPHIMORPHIA","DIDELPHIDAE",null,null,null,null,null,4311,"Julian Quesada"]
[null,null,null,null,null,null,null,null,null,null,null,null,null,null,null,878,"CORPOURABA",null,null,null,null,null,null,null,null,null,null,null,null,null,null,null,null,null,null,null,null,null,null,"BALAENOPTERA EDENI","70.55.3212","70.55.3212",null,null,"CETARTIODACTYLA","BALAENOPTERIDAE",null,null,null,null,null,4312,"Juliana Curcio"]
[null,null,null,null,null,null,null,null,null,null,null,null,null,null,null,879,"CORPOURABA - OMACHA",null,null,null,null,null,null,null,null,null,null,null,null,null,null,null,null,null,null,null,null,null,null,"KOGIA BREVICEPS","70.55.3343","70.55.3343",null,null,"CETARTIODACTYLA","KOGIIDAE",null,null,null,null,null,3039,"Julio naranjo"]
[null,null,null,null,null,null,null,null,null,null,null,null,null,null,null,880,"Ecopetrol",null,null,null,null,null,null,null,null,null,null,null,null,null,null,null,null,null,null,null,null,null,null,"KOGIA SIMA","70.55.3344","70.55.3344",null,null,"CETARTIODACTYLA","KOGIIDAE",null,null,null,null,null,4313,"Laura Pinillos"]
[null,null,null,null,null,null,null,null,null,null,null,null,null,null,null,881,"ANH",null,null,null,null,null,null,null,null,null,null,null,null,null,null,null,null,null,null,null,null,null,null,"BALAENOPTERA ACUTOROSTRATA","70.55.3406","70.55.3406",null,null,"CETARTIODACTYLA","BALAENOPTERIDAE",null,null,null,null,null,3281,"Leonardo José Arias Alemán (2022)"]
[null,null,null,null,null,null,null,null,null,null,null,null,null,null,null,882,"CCO - CALIDRIS",null,null,null,null,null,null,null,null,null,null,null,null,null,null,null,null,null,null,null,null,null,null,"BALAENOPTERA BOREALIS","70.55.3407","70.55.3407",null,null,"CETARTIODACTYLA","BALAENOPTERIDAE",null,null,null,null,null,4326,"Lizbeth López"]
[null,null,null,null,null,null,null,null,null,null,null,null,null,null,null,883,"CCO - OMACHA",null,null,null,null,null,null,null,null,null,null,null,null,null,null,null,null,null,null,null,null,null,null,"BALAENOPTERA MUSCULUS","70.55.3408","70.55.3408",null,null,"CETARTIODACTYLA","BALAENOPTERIDAE",null,null,null,null,null,4314,"Luisa Castellanos"]
[null,null,null,null,null,null,null,null,null,null,null,null,null,null,null,884,"AQUABIOSFERA - ANADARKO",null,null,null,null,null,null,null,null,null,null,null,null,null,null,null,null,null,null,null,null,null,null,"BALAENOPTERA PHYSALUS","70.55.3409","70.55.3409",null,null,"CETARTIODACTYLA","BALAENOPTERIDAE",null,null,null,null,null,4315,"Luz  Rodríguez"]
[null,null,null,null,null,null,null,null,null,null,null,null,null,null,null,886,"BPXC",null,null,null,null,null,null,null,null,null,null,null,null,null,null,null,null,null,null,null,null,null,null,"STENELLA CLYMENE","70.55.3410","70.55.3410",null,null,"CETARTIODACTYLA","DELPHINIDAE",null,null,null,null,null,4316,"Lylie Duque"]
[null,null,null,null,null,null,null,null,null,null,null,null,null,null,null,887,"FUGRO",null,null,null,null,null,null,null,null,null,null,null,null,null,null,null,null,null,null,null,null,null,null,"STENELLA FRONTALIS","70.55.3411","70.55.3411",null,null,"CETARTIODACTYLA","DELPHINIDAE",null,null,null,null,null,595,"Manuel Garrido Linares"]
[null,null,null,null,null,null,null,null,null,null,null,null,null,null,null,888,"Fundación Malpelo",null,null,null,null,null,null,null,null,null,null,null,null,null,null,null,null,null,null,null,null,null,null,"STENELLA LONGIROSTRIS","70.55.3412","70.55.3412",null,null,"CETARTIODACTYLA","DELPHINIDAE",null,null,null,null,null,4318,"Margarita Moreno"]
[null,null,null,null,null,null,null,null,null,null,null,null,null,null,null,889,"Fundación Mar Viva",null,null,null,null,null,null,null,null,null,null,null,null,null,null,null,null,null,null,null,null,null,null,"SOTALIA FLUVIATILIS","70.55.3413","70.55.3413",null,null,"CETARTIODACTYLA","DELPHINIDAE",null,null,null,null,null,4320,"Maria Alejandra  Mutis Martinezguerra"]
[null,null,null,null,null,null,null,null,null,null,null,null,null,null,null,890,"GEOCOL",null,null,null,null,null,null,null,null,null,null,null,null,null,null,null,null,null,null,null,null,null,null,"SOTALIA GUIANENSIS","70.55.3414","70.55.3414",null,null,"CETARTIODACTYLA","DELPHINIDAE",null,null,null,null,null,7663,"Maria Alejandra Mutis Martinezguerra"]
[null,null,null,null,null,null,null,null,null,null,null,null,null,null,null,891,"GEOHIDRA",null,null,null,null,null,null,null,null,null,null,null,null,null,null,null,null,null,null,null,null,null,null,"STENO BREDANENSIS","70.55.3415","70.55.3415",null,null,"CETARTIODACTYLA","DELPHINIDAE",null,null,null,null,null,4294,"Maria Camila Rosso"]
[null,null,null,null,null,null,null,null,null,null,null,null,null,null,null,892,"INVEMAR  - ANH",null,null,null,null,null,null,null,null,null,null,null,null,null,null,null,null,null,null,null,null,null,null,"PEPONOCEPHALA ELECTRA","70.55.3416","70.55.3416",null,null,"CETARTIODACTYLA","DELPHINIDAE",null,null,null,null,null,4321,"Maria Rodriguez"]
[null,null,null,null,null,null,null,null,null,null,null,null,null,null,null,893,"INVEMAR - ANH",null,null,null,null,null,null,null,null,null,null,null,null,null,null,null,null,null,null,null,null,null,null,"FERESA ATTENUATA","70.55.3417","70.55.3417",null,null,"CETARTIODACTYLA","DELPHINIDAE",null,null,null,null,null,5963,"Marinero Barco"]
[null,null,null,null,null,null,null,null,null,null,null,null,null,null,null,894,"INVEMAR - Ecopetrol",null,null,null,null,null,null,null,null,null,null,null,null,null,null,null,null,null,null,null,null,null,null,"GRAMPUS GRISEUS","70.55.3418","70.55.3418",null,null,"CETARTIODACTYLA","DELPHINIDAE",null,null,null,null,null,5964,"Marinero Garcia"]
[null,null,null,null,null,null,null,null,null,null,null,null,null,null,null,895,"INVEMAR - Pacific Rubiales",null,null,null,null,null,null,null,null,null,null,null,null,null,null,null,null,null,null,null,null,null,null,"DELPHINUS DELPHIS","70.55.3419","70.55.3419",null,null,"CETARTIODACTYLA","DELPHINIDAE",null,null,null,null,null,5965,"Marinero Luis"]
[null,null,null,null,null,null,null,null,null,null,null,null,null,null,null,896,"MACUÁTICOS",null,null,null,null,null,null,null,null,null,null,null,null,null,null,null,null,null,null,null,null,null,null,"LAGENODELPHIS HOSEI","70.55.3420","70.55.3420",null,null,"CETARTIODACTYLA","DELPHINIDAE",null,null,null,null,null,5967,"Marinero Oscar"]
[null,null,null,null,null,null,null,null,null,null,null,null,null,null,null,897,"MCS",null,null,null,null,null,null,null,null,null,null,null,null,null,null,null,null,null,null,null,null,null,null,"INIA GEOFFRENSIS","70.55.3421","70.55.3421",null,null,"CETARTIODACTYLA","INIIDAE",null,null,null,null,null,5968,"Marinero Rafael"]
[null,null,null,null,null,null,null,null,null,null,null,null,null,null,null,898,"MPX",null,null,null,null,null,null,null,null,null,null,null,null,null,null,null,null,null,null,null,null,null,null,"MESOPLODON DENSIROSTRIS","70.55.3422","70.55.3422",null,null,"CETARTIODACTYLA","ZIPHIIDAE",null,null,null,null,null,5966,"Marinero Toro"]
[null,null,null,null,null,null,null,null,null,null,null,null,null,null,null,899,"NOAA",null,null,null,null,null,null,null,null,null,null,null,null,null,null,null,null,null,null,null,null,null,null,"MESOPLODON PERUVIANUS","70.55.3423","70.55.3423",null,null,"CETARTIODACTYLA","ZIPHIIDAE",null,null,null,null,null,4319,"María Montes "]
[null,null,null,null,null,null,null,null,null,null,null,null,null,null,null,901,"OMACHA",null,null,null,null,null,null,null,null,null,null,null,null,null,null,null,null,null,null,null,null,null,null,"MESOPLODON EUROPAEUS","70.55.3424","70.55.3424",null,null,"CETARTIODACTYLA","ZIPHIIDAE",null,null,null,null,null,5725,"María del Pilar Martínez Barragán"]
[null,null,null,null,null,null,null,null,null,null,null,null,null,null,null,902,"OMACHA - ANADARKO",null,null,null,null,null,null,null,null,null,null,null,null,null,null,null,null,null,null,null,null,null,null,"ZIPHIUS CAVIROSTRIS","70.55.3425","70.55.3425",null,null,"CETARTIODACTYLA","ZIPHIIDAE",null,null,null,null,null,4428,"Mauricio Perez"]
[null,null,null,null,null,null,null,null,null,null,null,null,null,null,null,903,"OMACHA - Armada Nacional",null,null,null,null,null,null,null,null,null,null,null,null,null,null,null,null,null,null,null,null,null,null,"ARCTOCEPHALUS AUSTRALIS","70.55.3426","70.55.3426",null,null,"CARNIVORA","OTARIIDAE",null,null,null,null,null,4446,"Moises Camacho"]
[null,null,null,null,null,null,null,null,null,null,null,null,null,null,null,904,"OMACHA - ONE S.A.S",null,null,null,null,null,null,null,null,null,null,null,null,null,null,null,null,null,null,null,null,null,null,"ARCTOCEPHALUS GALAPAGOENSIS","70.55.3427","70.55.3427",null,null,"CARNIVORA","OTARIIDAE",null,null,null,null,null,4322,"Natalia Jimenez"]
[null,null,null,null,null,null,null,null,null,null,null,null,null,null,null,905,"OMACHA - ONGC Videsh",null,null,null,null,null,null,null,null,null,null,null,null,null,null,null,null,null,null,null,null,null,null,"ZALOPHUS CALIFORNIANUS","70.55.3428","70.55.3428",null,null,"CARNIVORA","OTARIIDAE",null,null,null,null,null,4324,"Nathalia  Prada"]
[null,null,null,null,null,null,null,null,null,null,null,null,null,null,null,906,"OMACHA - TGS",null,null,null,null,null,null,null,null,null,null,null,null,null,null,null,null,null,null,null,null,null,null,"TRICHECHUS INUNGUIS","70.55.3429","70.55.3429",null,null,"SIRENIA","TRICHECHIDAE",null,null,null,null,null,4323,"Nathalia Gartner"]
[null,null,null,null,null,null,null,null,null,null,null,null,null,null,null,907,"ONGC Videsh Limited",null,null,null,null,null,null,null,null,null,null,null,null,null,null,null,null,null,null,null,null,null,null,"TRICHECHUS MANATUS","70.55.3430","70.55.3430",null,null,"SIRENIA","TRICHECHIDAE",null,null,null,null,null,4325,"Nohelia Farias"]
[null,null,null,null,null,null,null,null,null,null,null,null,null,null,null,908,"Pacific Rubiales",null,null,null,null,null,null,null,null,null,null,null,null,null,null,null,null,null,null,null,null,null,null,"MONACHUS TROPICALIS","70.55.3431","70.55.3431",null,null,"CARNIVORA","PHOCIDAE",null,null,null,null,null,4434,"Paola López"]
[null,null,null,null,null,null,null,null,null,null,null,null,null,null,null,910,"Transmares",null,null,null,null,null,null,null,null,null,null,null,null,null,null,null,null,null,null,null,null,null,null,"PHYSETER MACROCEPHALUS","70.55.3578","70.55.3578",null,null,"CETARTIODACTYLA","PHYSETERIDAE",null,null,null,null,null,4448,"Roamell Sabalza"]
[null,null,null,null,null,null,null,null,null,null,null,null,null,null,null,911,"Transmares - ONE S.A.S",null,null,null,null,null,null,null,null,null,null,null,null,null,null,null,null,null,null,null,null,null,null,"DELPHINUS CAPENSIS","70.55.3580","70.55.3580",null,null,"CETARTIODACTYLA","DELPHINIDAE",null,null,null,null,null,4437,"Roy Botting"]
[null,null,null,null,null,null,null,null,null,null,null,null,null,null,null,912,"Anadarko / Tayrona Blq.Fuerte Norte (pozo Calasú)-Blq.Fuerte Sur (pozo Kronos)",null,null,null,null,null,null,null,null,null,null,null,null,null,null,null,null,null,null,null,null,null,null,"INDOPACETUS PACIFICUS","70.55.3742","70.55.3742",null,null,"CETARTIODACTYLA","ZIPHIIDAE",null,null,null,null,null,4327,"Salome Dussan"]
[null,null,null,null,null,null,null,null,null,null,null,null,null,null,null,913,"Anadarko-Aquabiosfera / Blq.Fuerte Sur (pozo Kronos)",null,null,null,null,null,null,null,null,null,null,null,null,null,null,null,null,null,null,null,null,null,null,"DELPHINIDAE","70.58.0","70.58.0",null,null,"CETARTIODACTYLA","DELPHINIDAE",null,null,null,null,null,4328,"Santiago  Cañón"]
[null,null,null,null,null,null,null,null,null,null,null,null,null,null,null,914,"Anadarko-Aquabiosfera / Plan de manejo pozo Gorgon A",null,null,null,null,null,null,null,null,null,null,null,null,null,null,null,null,null,null,null,null,null,null,"DELPHINIDAE","70.58.6","70.58.6",null,null,"CETARTIODACTYLA","DELPHINIDAE",null,null,null,null,null,4436,"Simon Difford"]
[null,null,null,null,null,null,null,null,null,null,null,null,null,null,null,915,"Anadarko-Aquabiosfera / Pozo Gorgon A",null,null,null,null,null,null,null,null,null,null,null,null,null,null,null,null,null,null,null,null,null,null,null,null,null,null,null,null,null,null,null,null,null,null,4431,"Simon Wright"]
[null,null,null,null,null,null,null,null,null,null,null,null,null,null,null,916,"Anadarko-Aquabiosfera / Pozo Purple Angel C",null,null,null,null,null,null,null,null,null,null,null,null,null,null,null,null,null,null,null,null,null,null,null,null,null,null,null,null,null,null,null,null,null,null,4447,"TN Gomez"]
[null,null,null,null,null,null,null,null,null,null,null,null,null,null,null,917,"Anadarko-Aquabiosfera / Blq.Fuerte Norte (pozo Calasú)",null,null,null,null,null,null,null,null,null,null,null,null,null,null,null,null,null,null,null,null,null,null,null,null,null,null,null,null,null,null,null,null,null,null,4875,"Tim. Gerrodette"]
[null,null,null,null,null,null,null,null,null,null,null,null,null,null,null,918,"ANH-MCS",null,null,null,null,null,null,null,null,null,null,null,null,null,null,null,null,null,null,null,null,null,null,null,null,null,null,null,null,null,null,null,null,null,null,8266,"Zulay Saudith González Herrera"]
[null,null,null,null,null,null,null,null,null,null,null,null,null,null,null,919,"Armada Nal - F. Omacha",null,null,null,null,null,null,null,null,null,null,null,null,null,null,null,null,null,null,null,null,null,null,null,null,null,null,null,null,null,null,null,null,null,null,4441,"Álvaro Duarte"]
[null,null,null,null,null,null,null,null,null,null,null,null,null,null,null,920,"CCO-F.Macuaticos / Sea Flower - Serrana",null,null,null,null,null,null,null,null,null,null,null,null,null,null,null,null,null,null,null,null,null,null,null,null,null,null,null,null,null,null,null,null,null,null,4292,"Ángela Mejía"]
[null,null,null,null,null,null,null,null,null,null,null,null,null,null,null,921,"CCO-F.Omacha / Sea Flower - Serrana"]
[null,null,null,null,null,null,null,null,null,null,null,null,null,null,null,922,"Coralina-F.Omacha"]
[null,null,null,null,null,null,null,null,null,null,null,null,null,null,null,923,"Corpouraba-F.Omacha"]
[null,null,null,null,null,null,null,null,null,null,null,null,null,null,null,924,"Ecopetrol-Geohidra"]
[null,null,null,null,null,null,null,null,null,null,null,null,null,null,null,925,"Equion / Blq.RC-4 y RC-5"]
[null,null,null,null,null,null,null,null,null,null,null,null,null,null,null,927,"INVEMAR ANH ARC Jamaica (prof)"]
[null,null,null,null,null,null,null,null,null,null,null,null,null,null,null,928,"INVEMAR ANH ARC Jamaica (som)"]
[null,null,null,null,null,null,null,null,null,null,null,null,null,null,null,929,"INVEMAR ANH COL 1 y COL 2 T1"]
[null,null,null,null,null,null,null,null,null,null,null,null,null,null,null,931,"INVEMAR ANH COL 3"]
[null,null,null,null,null,null,null,null,null,null,null,null,null,null,null,932,"INVEMAR ANH COL 4 y COL 5"]
[null,null,null,null,null,null,null,null,null,null,null,null,null,null,null,934,"Invemar-AHN-COL 2"]
[null,null,null,null,null,null,null,null,null,null,null,null,null,null,null,935,"Invemar-BPXC / Blq.RC-4 y RC-5"]
[null,null,null,null,null,null,null,null,null,null,null,null,null,null,null,936,"Invemar-Ecopetrol / CGG-Veritas"]
[null,null,null,null,null,null,null,null,null,null,null,null,null,null,null,937,"Invemar-Geocol / Blq.RC-9 (pozo Molusco-1)"]
[null,null,null,null,null,null,null,null,null,null,null,null,null,null,null,938,"Invemar-Pacific Rubiales / Morrosquillo"]
[null,null,null,null,null,null,null,null,null,null,null,null,null,null,null,939,"Invemar-Petrobras"]
[null,null,null,null,null,null,null,null,null,null,null,null,null,null,null,940,"Invemar-Petrobras / pozo Orca-1"]
[null,null,null,null,null,null,null,null,null,null,null,null,null,null,null,941,"Invemar-Petrobras / Sismica  AMI Jarara"]
[null,null,null,null,null,null,null,null,null,null,null,null,null,null,null,942,"Invemar-Repsol / Blq. RC11 (pozo Siluro)"]
[null,null,null,null,null,null,null,null,null,null,null,null,null,null,null,943,"Invemar-Repsol / GUA-OFF-1"]
[null,null,null,null,null,null,null,null,null,null,null,null,null,null,null,944,"Invemar-Shell / Blq. COL 3"]
[null,null,null,null,null,null,null,null,null,null,null,null,null,null,null,945,"Invemar-Shell / Blq.SIN OFF7"]
[null,null,null,null,null,null,null,null,null,null,null,null,null,null,null,946,"Invemar-Shell / COL 3 (lluvia-seca)"]
[null,null,null,null,null,null,null,null,null,null,null,null,null,null,null,948,"One SAS"]
[null,null,null,null,null,null,null,null,null,null,null,null,null,null,null,950,"REMAR-ONGC Videsh"]
[null,null,null,null,null,null,null,null,null,null,null,null,null,null,null,952,"Sea Flower"]
[null,null,null,null,null,null,null,null,null,null,null,null,null,null,null,955,"Transmares / ONGC Videsh"]
[null,null,null,null,null,null,null,null,null,null,null,null,null,null,null,956,"CCO-Calidris / Sea Flower - Serrana"]
[null,null,null,null,null,null,null,null,null,null,null,null,null,null,null,957,"Invemar-AHN-COL 1"]
[null,null,null,null,null,null,null,null,null,null,null,null,null,null,null,1388,"Morrosquillo"]
[null,null,null,null,null,null,null,null,null,null,null,null,null,null,null,1391,"COLOMBIA - BIO Exp. Seaflower "]
[null,null,null,null,null,null,null,null,null,null,null,null,null,null,null,2148,"INVEMAR ANH ARC Jamaica"]
[null,null,null,null,null,null,null,null,null,null,null,null,null,null,null,2446,"COLOMBIA - BIO Exp. Cayo Serrana - Evaluación"]
[null,null,null,null,null,null,null,null,null,null,null,null,null,null,null,3000,"INVEMAR ANH GUA OFF 3"]
[null,null,null,null,null,null,null,null,null,null,null,null,null,null,null,3023,"ANH COL 4 y 5"]
[null,null,null,null,null,null,null,null,null,null,null,null,null,null,null,3031,"ANH RC4 RC5"]
[null,null,null,null,null,null,null,null,null,null,null,null,null,null,null,3261,"Corales de Profundidad - Bloque RC11"]
[null,null,null,null,null,null,null,null,null,null,null,null,null,null,null,3303,"ANH Col 1 y Col 2 PRY-BEM-012-15_T1"]
[null,null,null,null,null,null,null,null,null,null,null,null,null,null,null,3389,"ANH COL 3"]
[null,null,null,null,null,null,null,null,null,null,null,null,null,null,null,3408,"Geocol - RC9"]
[null,null,null,null,null,null,null,null,null,null,null,null,null,null,null,3428,"INVEMAR ANH COL 10"]
[null,null,null,null,null,null,null,null,null,null,null,null,null,null,null,3445,"COL 3 lluvias"]
[null,null,null,null,null,null,null,null,null,null,null,null,null,null,null,3447,"COL 3 seca"]
[null,null,null,null,null,null,null,null,null,null,null,null,null,null,null,4093,"INVEMAR ANH Sanquianga"]
[null,null,null,null,null,null,null,null,null,null,null,null,null,null,null,4094,"INVEMAR ANH CHO-OFF5-MSA"]
[null,null,null,null,null,null,null,null,null,null,null,null,null,null,null,4095,"INVEMAR ANH GUAOFF 13"]
[null,null,null,null,null,null,null,null,null,null,null,null,null,null,null,4096,"INVEMAR MIN Cuenca Pacífico"]
[null,null,null,null,null,null,null,null,null,null,null,null,null,null,null,4097,"INVEMAR  MIN BEATA"]

{"sheet":"Otras referencias","index":6,"n_rows":2744,"n_cols":21,"rows_kept":2744,"cut":false,"hidden":false,"merged":[[0,0,2,10],[4,0,4,1],[26,0,26,2]]}
["Estas son listas para variables con valores que no se encuentran codificados, pero que deben manejarse de manera estandarizada. \nSi se requiere agregar un valor nuevo hagalo debajo de la lista correspondiente",null,null,null,null,null,null,null,null,null,null,null,null,null,null,null,null,null,{"$f":"IF(referentes!AJ2=\"\",\"\",IF(IFERROR(SEARCH(\"*-*\",referentes!AJ2),2)=1,IF(referentes!AJ2=\"\",\"\",LEFT(referentes!AJ2,FIND(\"*-*\",referentes!AJ2)-1)),referentes!AJ2))","v":""},null,{"$f":"IF(referentes!AJ2=\"\",\"\",IF(IFERROR(SEARCH(\"*-*\",referentes!AJ2),2)=1,IF(S1=\"\",\"\",RIGHT(referentes!AJ2,3)),\"\"))","v":""}]
[null,null,null,null,null,null,null,null,null,null,null,null,null,null,null,null,null,null,{"$f":"IF(referentes!AJ3=\"\",\"\",IF(IFERROR(SEARCH(\"*-*\",referentes!AJ3),2)=1,IF(referentes!AJ3=\"\",\"\",LEFT(referentes!AJ3,FIND(\"*-*\",referentes!AJ3)-1)),referentes!AJ3))","v":""},null,{"$f":"IF(referentes!AJ3=\"\",\"\",IF(IFERROR(SEARCH(\"*-*\",referentes!AJ3),2)=1,IF(S2=\"\",\"\",RIGHT(referentes!AJ3,3)),\"\"))","v":""}]
[null,null,null,null,null,null,null,null,null,null,null,null,null,null,null,null,null,null,{"$f":"IF(referentes!AJ4=\"\",\"\",IF(IFERROR(SEARCH(\"*-*\",referentes!AJ4),2)=1,IF(referentes!AJ4=\"\",\"\",LEFT(referentes!AJ4,FIND(\"*-*\",referentes!AJ4)-1)),referentes!AJ4))","v":""},null,{"$f":"IF(referentes!AJ4=\"\",\"\",IF(IFERROR(SEARCH(\"*-*\",referentes!AJ4),2)=1,IF(S3=\"\",\"\",RIGHT(referentes!AJ4,3)),\"\"))","v":""}]
[null,null,null,null,null,null,null,null,null,null,null,null,null,null,null,null,null,null,{"$f":"IF(referentes!AJ5=\"\",\"\",IF(IFERROR(SEARCH(\"*-*\",referentes!AJ5),2)=1,IF(referentes!AJ5=\"\",\"\",LEFT(referentes!AJ5,FIND(\"*-*\",referentes!AJ5)-1)),referentes!AJ5))","v":""}]
["Specific_Topic",null,null,"Dirección del grupo",null,"Estación",null,null,null,null,null,null,"COMPORTAMIENTOS",null,null,"PROYECTOS"]
["Descripcion","Codigo",null,"Descripcion",null,"SECUENCIA_LOC","LUGAR","BARCO_LOC","CAMPANA_LOC","OBSERVACIONES_LOC","BARCO+CAMPANA",null,"FY","Flying",null,2366,"Observadores Fauna Marina - MMO "]
["Avistamientos",108,null,"N",null,50925,null,"R/M Don Rodrigo B","Invemar-ANH ARC Jamaica","Fecha de campaña:  11/10/2011 - 09/11/1011",{"$f":"CONCATENATE(H7,\" --- \",I7)","v":"R/M Don Rodrigo B --- Invemar-ANH ARC Jamaica"},null,"OW","On water",null,3565,"Crucero cordillera BEATA"]
[null,null,null,"S",null,40584,"Bloque de exploración de hidrocarburos GUA Off 3","R/M Don Rodrigo B","Invemar-ANH Guaoff 3","Fecha de campaña:  09/11/2013 – 03/12/2013",{"$f":"CONCATENATE(H8,\" --- \",I8)","v":"R/M Don Rodrigo B --- Invemar-ANH Guaoff 3"},null,"FV","Following vessel"]
[null,null,null,"E",null,50960,"Bloque de exploración de hidrocarburos COL 4 y COL 5","R/M Maria José II","Invemar-ANH COL 4 y 5","Fecha de campaña:  01/11/2014 - 15/11/2014","R/M Maria José II --- Invemar-ANH COL 4 y 5",null,"EA","Eating"]
[null,null,null,"O",null,50973,"Bloque de exploración de hidrocarburos COL 2","R/M Don Rodrigo B","Invemar-ANH COL 1 y 2 campaña I","Fecha de campaña:  12/11/2015 - 15/12/2015","R/M Don Rodrigo B --- Invemar-ANH COL 1 y 2 campaña I",null,"PR","Preening"]
[null,null,null,"NE",null,50974,"Bloque de exploración de hidrocarburos COL 1","R/M Don Rodrigo B","Invemar-ANH COL 1 y 2 campaña II","Fecha de campaña:  17/05/2016 – 27/05/2016","R/M Don Rodrigo B --- Invemar-ANH COL 1 y 2 campaña II",null,"PE","Perching"]
[null,null,null,"NO",null,50987,"Bloque de exploración de hidrocarburos COL 3","R/M Maria José II","Invemar-ANH COL 3","Fecha de campaña:  18/09/2017 – 14/10/2017","R/M Maria José II --- Invemar-ANH COL 3",null,"RE","Resting"]
[null,null,null,"SE",null,50988,"Bloque de exploración de hidrocarburos COL 10","R/M Maria José II","Invemar-ANH COL 10","Fecha de campaña:  22/08/2018 – 02/09/2018","R/M Maria José II --- Invemar-ANH COL 10",null,"O","Other"]
[null,null,null,"SO",null,55605,"Buenaventura","MN Drakkar IV","INVEMAR ANH Sanquianga",null,"Viking Vanquish --- F.Inicio Turno: 20080816"]
[null,null,null,null,null,55609,"Buenaventura","RM Esperanza V","INVEMAR ANH CHO-OFF5-MSA",null,"Viking Vanquish --- F.Inicio Turno: 20080911"]
[null,null,null,null,null,55606,"Cartagena","Maria Jose II","INVEMAR ANH GUAOFF13",null,"Viking Vanquish --- F.Inicio Turno: 20081002"]
[null,null,null,null,null,55607,"Cartagena","Raleigh B","INVEMAR MINAMBIENTE Cuenca Pacífico",null,"Viking Vanquish --- F.Inicio Turno: 20081024"]
[null,null,null,null,null,55608,"Cartagena","Raleigh B","INVEMAR  MINAMBIENTE BEATA",null,"Viking Vanquish --- F.Inicio Turno: 20081113"]
[null,null,null,null,null,55905,null,null,"No Info Disponible",null,"Western Trident --- F.Inicio Turno: 20091019"]
[null,null,null,null,null,45675,null,null,null,null,"Western Trident --- F.Inicio Turno: 20091107"]
[null,null,null,null,null,45677,null,null,null,null,"Geowave Endeavour --- F.Inicio Turno: 20091109"]
[null,null,null,null,null,45676,null,null,null,null,"Western Trident --- F.Inicio Turno: 20091130"]
[null,null,null,null,null,45678,null,null,null,null,"Geowave Endeavour --- F.Inicio Turno: 20091208"]
[null,null,null,null,null,45679,null,null,null,null,"GGS Atlantic --- F.Inicio Turno: 20091217"]
[null,null,null,null,null,45681,null,null,null,null,"GGS Atlantic --- F.Inicio Turno: 20100308"]
[null,null,null,null,null,45682,null,null,null,null,"Western Patriot --- F.Inicio Turno: 20100710"]
["CODIGOS LOV",null,null,null,null,45684,null,null,null,null,"ARC Providencia --- F.Inicio Turno: 20100910"]
["DESCRIPCIÓN","CÓDIGO","GRUPO",null,null,45691,null,null,null,null,"Sea Trident --- F.Inicio Turno: 20100912"]
["Departamento",10,2,null,null,45680,null,null,null,null,"GGS Atlantic --- F.Inicio Turno: 20101216"]
["Sector",20,2,null,null,45687,null,null,null,null,"SRV Veritas Viking --- F.Inicio Turno: 20110304"]
["Punto",30,2,null,null,45688,null,null,null,null,"SRV Veritas Viking --- F.Inicio Turno: 20110511"]
["Parcela",35,2,null,null,45685,null,null,null,null,"Capitanese --- F.Inicio Turno: 20110803"]
["Estaciones",40,2,null,null,45689,null,null,null,null,"Veritas Viking --- F.Inicio Turno: 20111004"]
["Region",50,2,null,null,45686,null,null,null,null,"Capitanese --- F.Inicio Turno: 20111015"]
["Unidad_de_Manejo",60,2,null,null,45690,null,null,null,null,"Veritas Viking --- F.Inicio Turno: 20111026"]
["Unidad_Ambiental_Costera",70,2,null,null,45692,null,null,null,null,"La Corbeta --- F.Inicio Turno: 20111029",null,null,null,null,null,null,null,{"$f":"IF(referentes!AJ37=\"\",\"\",IF(IFERROR(SEARCH(\"*-*\",referentes!AJ37),2)=1,IF(referentes!AJ37=\"\",\"\",LEFT(referentes!AJ37,FIND(\"*-*\",referentes!AJ37)-1)),referentes!AJ37))","v":""}]
["Localidad",80,2,null,null,45709,null,null,null,null,"Akademik Shatskiy --- F.Inicio Turno: 20120202",null,null,null,null,null,null,null,{"$f":"IF(referentes!AJ38=\"\",\"\",IF(IFERROR(SEARCH(\"*-*\",referentes!AJ38),2)=1,IF(referentes!AJ38=\"\",\"\",LEFT(referentes!AJ38,FIND(\"*-*\",referentes!AJ38)-1)),referentes!AJ38))","v":""}]
["Bloque_Exploracion",85,2,null,null,45710,null,null,null,null,"Akademik Shatskiy --- F.Inicio Turno: 20120320",null,null,null,null,null,null,null,{"$f":"IF(referentes!AJ39=\"\",\"\",IF(IFERROR(SEARCH(\"*-*\",referentes!AJ39),2)=1,IF(referentes!AJ39=\"\",\"\",LEFT(referentes!AJ39,FIND(\"*-*\",referentes!AJ39)-1)),referentes!AJ39))","v":""}]
["Area",90,2,null,null,45693,null,null,null,null,"La Fantasma  --- F.Inicio Turno: 20120506",null,null,null,null,null,null,null,{"$f":"IF(referentes!AJ40=\"\",\"\",IF(IFERROR(SEARCH(\"*-*\",referentes!AJ40),2)=1,IF(referentes!AJ40=\"\",\"\",LEFT(referentes!AJ40,FIND(\"*-*\",referentes!AJ40)-1)),referentes!AJ40))","v":""}]
[null,null,null,null,null,45695,null,null,null,null,"Plataforma Jack---Up --- F.Inicio Turno: 20120605",null,null,null,null,null,null,null,{"$f":"IF(referentes!AJ41=\"\",\"\",IF(IFERROR(SEARCH(\"*-*\",referentes!AJ41),2)=1,IF(referentes!AJ41=\"\",\"\",LEFT(referentes!AJ41,FIND(\"*-*\",referentes!AJ41)-1)),referentes!AJ41))","v":""},null,{"$f":"IF(IFERROR(T40,R40)=S40,\"\",R40)","v":""}]
[null,null,null,null,null,45696,null,null,null,null,"Don Rodrigo,Don Nicola,Tosa --- F.Inicio Turno: 20120623",null,null,null,null,null,null,null,{"$f":"IF(referentes!AJ42=\"\",\"\",IF(IFERROR(SEARCH(\"*-*\",referentes!AJ42),2)=1,IF(referentes!AJ42=\"\",\"\",LEFT(referentes!AJ42,FIND(\"*-*\",referentes!AJ42)-1)),referentes!AJ42))","v":""},null,""]
[null,null,null,null,null,45694,null,null,null,null,"La Cuyaya --- F.Inicio Turno: 20120626",null,null,null,null,null,null,null,{"$f":"IF(referentes!AJ43=\"\",\"\",IF(IFERROR(SEARCH(\"*-*\",referentes!AJ43),2)=1,IF(referentes!AJ43=\"\",\"\",LEFT(referentes!AJ43,FIND(\"*-*\",referentes!AJ43)-1)),referentes!AJ43))","v":""},null,""]
[null,null,null,null,null,45697,null,null,null,null,"Don Rodrigo,Don Nicola,Tosa --- F.Inicio Turno: 20120802",null,null,null,null,null,null,null,{"$f":"IF(referentes!AJ44=\"\",\"\",IF(IFERROR(SEARCH(\"*-*\",referentes!AJ44),2)=1,IF(referentes!AJ44=\"\",\"\",LEFT(referentes!AJ44,FIND(\"*-*\",referentes!AJ44)-1)),referentes!AJ44))","v":""},null,""]
[null,null,null,null,null,45698,null,null,null,null,"Don Rodrigo,Don Nicola,Tosa--- F.Inicio Turno: 20120821",null,null,null,null,null,null,null,{"$f":"IF(referentes!AJ45=\"\",\"\",IF(IFERROR(SEARCH(\"*-*\",referentes!AJ45),2)=1,IF(referentes!AJ45=\"\",\"\",LEFT(referentes!AJ45,FIND(\"*-*\",referentes!AJ45)-1)),referentes!AJ45))","v":""},null,""]
[null,null,null,null,null,45700,null,null,null,null,"Artemis artic  --- F.Inicio Turno: 20120826",null,null,null,null,null,null,null,{"$f":"IF(referentes!AJ46=\"\",\"\",IF(IFERROR(SEARCH(\"*-*\",referentes!AJ46),2)=1,IF(referentes!AJ46=\"\",\"\",LEFT(referentes!AJ46,FIND(\"*-*\",referentes!AJ46)-1)),referentes!AJ46))","v":""},null,""]
[null,null,null,null,null,45699,null,null,null,null,"Don Rodrigo,Don Nicola,Tosa --- F.Inicio Turno: 20120911",null,null,null,null,null,null,null,{"$f":"IF(referentes!AJ47=\"\",\"\",IF(IFERROR(SEARCH(\"*-*\",referentes!AJ47),2)=1,IF(referentes!AJ47=\"\",\"\",LEFT(referentes!AJ47,FIND(\"*-*\",referentes!AJ47)-1)),referentes!AJ47))","v":""},null,""]
[null,null,null,null,null,45701,null,null,null,null,"Artemis artic  --- F.Inicio Turno: 20120918",null,null,null,null,null,null,null,{"$f":"IF(referentes!AJ48=\"\",\"\",IF(IFERROR(SEARCH(\"*-*\",referentes!AJ48),2)=1,IF(referentes!AJ48=\"\",\"\",LEFT(referentes!AJ48,FIND(\"*-*\",referentes!AJ48)-1)),referentes!AJ48))","v":""},null,""]
[null,null,null,null,null,45702,null,null,null,null,"Artemis artic  --- F.Inicio Turno: 20121024",null,null,null,null,null,null,null,{"$f":"IF(referentes!AJ49=\"\",\"\",IF(IFERROR(SEARCH(\"*-*\",referentes!AJ49),2)=1,IF(referentes!AJ49=\"\",\"\",LEFT(referentes!AJ49,FIND(\"*-*\",referentes!AJ49)-1)),referentes!AJ49))","v":""},null,""]
[null,null,null,null,null,45703,null,null,null,null,"Sea Wolf --- F.Inicio Turno: 20121026",null,null,null,null,null,null,null,{"$f":"IF(referentes!AJ50=\"\",\"\",IF(IFERROR(SEARCH(\"*-*\",referentes!AJ50),2)=1,IF(referentes!AJ50=\"\",\"\",LEFT(referentes!AJ50,FIND(\"*-*\",referentes!AJ50)-1)),referentes!AJ50))","v":""},null,""]
[null,null,null,null,null,45704,null,null,null,null,"Sea Wolf --- F.Inicio Turno: 20121107",null,null,null,null,null,null,null,{"$f":"IF(referentes!AJ51=\"\",\"\",IF(IFERROR(SEARCH(\"*-*\",referentes!AJ51),2)=1,IF(referentes!AJ51=\"\",\"\",LEFT(referentes!AJ51,FIND(\"*-*\",referentes!AJ51)-1)),referentes!AJ51))","v":""},null,""]
[null,null,null,null,null,45705,null,null,null,null,"Sea Wolf --- F.Inicio Turno: 20121120",null,null,null,null,null,null,null,{"$f":"IF(referentes!AJ52=\"\",\"\",IF(IFERROR(SEARCH(\"*-*\",referentes!AJ52),2)=1,IF(referentes!AJ52=\"\",\"\",LEFT(referentes!AJ52,FIND(\"*-*\",referentes!AJ52)-1)),referentes!AJ52))","v":""},null,""]
[null,null,null,null,null,45706,null,null,null,null,"Sea Wolf --- F.Inicio Turno: 20121201",null,null,null,null,null,null,null,{"$f":"IF(referentes!AJ53=\"\",\"\",IF(IFERROR(SEARCH(\"*-*\",referentes!AJ53),2)=1,IF(referentes!AJ53=\"\",\"\",LEFT(referentes!AJ53,FIND(\"*-*\",referentes!AJ53)-1)),referentes!AJ53))","v":""},null,""]
[null,null,null,null,null,45707,null,null,null,null,"Sea Wolf --- F.Inicio Turno: 20121207",null,null,null,null,null,null,null,{"$f":"IF(referentes!AJ54=\"\",\"\",IF(IFERROR(SEARCH(\"*-*\",referentes!AJ54),2)=1,IF(referentes!AJ54=\"\",\"\",LEFT(referentes!AJ54,FIND(\"*-*\",referentes!AJ54)-1)),referentes!AJ54))","v":""},null,""]
[null,null,null,null,null,45708,null,null,null,null,"Akademik Shatskiy --- F.Inicio Turno: 20121215",null,null,null,null,null,null,null,{"$f":"IF(referentes!AJ55=\"\",\"\",IF(IFERROR(SEARCH(\"*-*\",referentes!AJ55),2)=1,IF(referentes!AJ55=\"\",\"\",LEFT(referentes!AJ55,FIND(\"*-*\",referentes!AJ55)-1)),referentes!AJ55))","v":""},null,""]
[null,null,null,null,null,45711,null,null,null,null,"Don Rodrigo --- F.Inicio Turno: 20130127",null,null,null,null,null,null,null,{"$f":"IF(referentes!AJ56=\"\",\"\",IF(IFERROR(SEARCH(\"*-*\",referentes!AJ56),2)=1,IF(referentes!AJ56=\"\",\"\",LEFT(referentes!AJ56,FIND(\"*-*\",referentes!AJ56)-1)),referentes!AJ56))","v":""},null,""]
[null,null,null,null,null,45712,null,null,null,null,"Don Rodrigo --- F.Inicio Turno: 20130322",null,null,null,null,null,null,null,{"$f":"IF(referentes!AJ57=\"\",\"\",IF(IFERROR(SEARCH(\"*-*\",referentes!AJ57),2)=1,IF(referentes!AJ57=\"\",\"\",LEFT(referentes!AJ57,FIND(\"*-*\",referentes!AJ57)-1)),referentes!AJ57))","v":""},null,""]
[null,null,null,null,null,45713,null,null,null,null,"Don Rodrigo --- F.Inicio Turno: 20130416",null,null,null,null,null,null,null,{"$f":"IF(referentes!AJ58=\"\",\"\",IF(IFERROR(SEARCH(\"*-*\",referentes!AJ58),2)=1,IF(referentes!AJ58=\"\",\"\",LEFT(referentes!AJ58,FIND(\"*-*\",referentes!AJ58)-1)),referentes!AJ58))","v":""},null,""]
[null,null,null,null,null,45714,null,null,null,null,"Don Rodrigo --- F.Inicio Turno: 20130426",null,null,null,null,null,null,null,{"$f":"IF(referentes!AJ59=\"\",\"\",IF(IFERROR(SEARCH(\"*-*\",referentes!AJ59),2)=1,IF(referentes!AJ59=\"\",\"\",LEFT(referentes!AJ59,FIND(\"*-*\",referentes!AJ59)-1)),referentes!AJ59))","v":""},null,""]
[null,null,null,null,null,45720,null,null,null,null,"C/S Iles de Brehat --- F.Inicio Turno: 20130810",null,null,null,null,null,null,null,{"$f":"IF(referentes!AJ60=\"\",\"\",IF(IFERROR(SEARCH(\"*-*\",referentes!AJ60),2)=1,IF(referentes!AJ60=\"\",\"\",LEFT(referentes!AJ60,FIND(\"*-*\",referentes!AJ60)-1)),referentes!AJ60))","v":""},null,""]
[null,null,null,null,null,45719,null,null,null,null,"Ile de Batz  --- F.Inicio Turno: 20130811",null,null,null,null,null,null,null,{"$f":"IF(referentes!AJ61=\"\",\"\",IF(IFERROR(SEARCH(\"*-*\",referentes!AJ61),2)=1,IF(referentes!AJ61=\"\",\"\",LEFT(referentes!AJ61,FIND(\"*-*\",referentes!AJ61)-1)),referentes!AJ61))","v":""},null,""]
[null,null,null,null,null,45715,null,null,null,null,"Don Rodrigo --- F.Inicio Turno: 20130913",null,null,null,null,null,null,null,{"$f":"IF(referentes!AJ62=\"\",\"\",IF(IFERROR(SEARCH(\"*-*\",referentes!AJ62),2)=1,IF(referentes!AJ62=\"\",\"\",LEFT(referentes!AJ62,FIND(\"*-*\",referentes!AJ62)-1)),referentes!AJ62))","v":""},null,""]
[null,null,null,null,null,45716,null,null,null,null,"Don Rodrigo --- F.Inicio Turno: 20130927",null,null,null,null,null,null,null,{"$f":"IF(referentes!AJ63=\"\",\"\",IF(IFERROR(SEARCH(\"*-*\",referentes!AJ63),2)=1,IF(referentes!AJ63=\"\",\"\",LEFT(referentes!AJ63,FIND(\"*-*\",referentes!AJ63)-1)),referentes!AJ63))","v":""},null,""]
[null,null,null,null,null,45717,null,null,null,null,"Don Rodrigo --- F.Inicio Turno: 20131017",null,null,null,null,null,null,null,{"$f":"IF(referentes!AJ64=\"\",\"\",IF(IFERROR(SEARCH(\"*-*\",referentes!AJ64),2)=1,IF(referentes!AJ64=\"\",\"\",LEFT(referentes!AJ64,FIND(\"*-*\",referentes!AJ64)-1)),referentes!AJ64))","v":""},null,""]
[null,null,null,null,null,45718,null,null,null,null,"María Jose II --- F.Inicio Turno: 20131020",null,null,null,null,null,null,null,{"$f":"IF(referentes!AJ65=\"\",\"\",IF(IFERROR(SEARCH(\"*-*\",referentes!AJ65),2)=1,IF(referentes!AJ65=\"\",\"\",LEFT(referentes!AJ65,FIND(\"*-*\",referentes!AJ65)-1)),referentes!AJ65))","v":""},null,""]
[null,null,null,null,null,45721,null,null,null,null,"Don Rodrigo --- F.Inicio Turno: 20131109",null,null,null,null,null,null,null,{"$f":"IF(referentes!AJ66=\"\",\"\",IF(IFERROR(SEARCH(\"*-*\",referentes!AJ66),2)=1,IF(referentes!AJ66=\"\",\"\",LEFT(referentes!AJ66,FIND(\"*-*\",referentes!AJ66)-1)),referentes!AJ66))","v":""},null,""]
[null,null,null,null,null,45722,null,null,null,null,"El Puma --- F.Inicio Turno: 20140314",null,null,null,null,null,null,null,{"$f":"IF(referentes!AJ67=\"\",\"\",IF(IFERROR(SEARCH(\"*-*\",referentes!AJ67),2)=1,IF(referentes!AJ67=\"\",\"\",LEFT(referentes!AJ67,FIND(\"*-*\",referentes!AJ67)-1)),referentes!AJ67))","v":""},null,""]
[null,null,null,null,null,45723,null,null,null,null,"ARC Providencia --- F.Inicio Turno: 20140411",null,null,null,null,null,null,null,{"$f":"IF(referentes!AJ68=\"\",\"\",IF(IFERROR(SEARCH(\"*-*\",referentes!AJ68),2)=1,IF(referentes!AJ68=\"\",\"\",LEFT(referentes!AJ68,FIND(\"*-*\",referentes!AJ68)-1)),referentes!AJ68))","v":""},null,""]
[null,null,null,null,null,45724,null,null,null,null,"Ocean Clipper  --- F.Inicio Turno: 20140623",null,null,null,null,null,null,null,{"$f":"IF(referentes!AJ69=\"\",\"\",IF(IFERROR(SEARCH(\"*-*\",referentes!AJ69),2)=1,IF(referentes!AJ69=\"\",\"\",LEFT(referentes!AJ69,FIND(\"*-*\",referentes!AJ69)-1)),referentes!AJ69))","v":""},null,""]
[null,null,null,null,null,45725,null,null,null,null,"Ocean Clipper  --- F.Inicio Turno: 20140719",null,null,null,null,null,null,null,{"$f":"IF(referentes!AJ70=\"\",\"\",IF(IFERROR(SEARCH(\"*-*\",referentes!AJ70),2)=1,IF(referentes!AJ70=\"\",\"\",LEFT(referentes!AJ70,FIND(\"*-*\",referentes!AJ70)-1)),referentes!AJ70))","v":""},null,""]
[null,null,null,null,null,45726,null,null,null,null,"Ocean Clipper  --- F.Inicio Turno: 20140808",null,null,null,null,null,null,null,{"$f":"IF(referentes!AJ71=\"\",\"\",IF(IFERROR(SEARCH(\"*-*\",referentes!AJ71),2)=1,IF(referentes!AJ71=\"\",\"\",LEFT(referentes!AJ71,FIND(\"*-*\",referentes!AJ71)-1)),referentes!AJ71))","v":""},null,""]
[null,null,null,null,null,45727,null,null,null,null,"Ocean Clipper  --- F.Inicio Turno: 20140829",null,null,null,null,null,null,null,{"$f":"IF(referentes!AJ72=\"\",\"\",IF(IFERROR(SEARCH(\"*-*\",referentes!AJ72),2)=1,IF(referentes!AJ72=\"\",\"\",LEFT(referentes!AJ72,FIND(\"*-*\",referentes!AJ72)-1)),referentes!AJ72))","v":""},null,{"$f":"IF(IFERROR(T71,R71)=S71,\"\",R71)","v":""}]
[null,null,null,null,null,45728,null,null,null,null,"Ocean Clipper  --- F.Inicio Turno: 20140919",null,null,null,null,null,null,null,{"$f":"IF(referentes!AJ73=\"\",\"\",IF(IFERROR(SEARCH(\"*-*\",referentes!AJ73),2)=1,IF(referentes!AJ73=\"\",\"\",LEFT(referentes!AJ73,FIND(\"*-*\",referentes!AJ73)-1)),referentes!AJ73))","v":""},null,""]
[null,null,null,null,null,45732,null,null,null,null,"C/S Iles de Brehat --- F.Inicio Turno: 20141004",null,null,null,null,null,null,null,{"$f":"IF(referentes!AJ74=\"\",\"\",IF(IFERROR(SEARCH(\"*-*\",referentes!AJ74),2)=1,IF(referentes!AJ74=\"\",\"\",LEFT(referentes!AJ74,FIND(\"*-*\",referentes!AJ74)-1)),referentes!AJ74))","v":""},null,""]
[null,null,null,null,null,45733,null,null,null,null,"María Jose II --- F.Inicio Turno: 20141007",null,null,null,null,null,null,null,{"$f":"IF(referentes!AJ75=\"\",\"\",IF(IFERROR(SEARCH(\"*-*\",referentes!AJ75),2)=1,IF(referentes!AJ75=\"\",\"\",LEFT(referentes!AJ75,FIND(\"*-*\",referentes!AJ75)-1)),referentes!AJ75))","v":""},null,""]
[null,null,null,null,null,45729,null,null,null,null,"Ocean Clipper  --- F.Inicio Turno: 20141015",null,null,null,null,null,null,null,{"$f":"IF(referentes!AJ76=\"\",\"\",IF(IFERROR(SEARCH(\"*-*\",referentes!AJ76),2)=1,IF(referentes!AJ76=\"\",\"\",LEFT(referentes!AJ76,FIND(\"*-*\",referentes!AJ76)-1)),referentes!AJ76))","v":""},null,""]
[null,null,null,null,null,45734,null,null,null,null,"Sea Surveyor --- F.Inicio Turno: 20141018",null,null,null,null,null,null,null,{"$f":"IF(referentes!AJ77=\"\",\"\",IF(IFERROR(SEARCH(\"*-*\",referentes!AJ77),2)=1,IF(referentes!AJ77=\"\",\"\",LEFT(referentes!AJ77,FIND(\"*-*\",referentes!AJ77)-1)),referentes!AJ77))","v":""},null,""]
[null,null,null,null,null,45730,null,null,null,null,"Ocean Clipper  --- F.Inicio Turno: 20141104",null,null,null,null,null,null,null,{"$f":"IF(referentes!AJ78=\"\",\"\",IF(IFERROR(SEARCH(\"*-*\",referentes!AJ78),2)=1,IF(referentes!AJ78=\"\",\"\",LEFT(referentes!AJ78,FIND(\"*-*\",referentes!AJ78)-1)),referentes!AJ78))","v":""},null,""]
[null,null,null,null,null,45731,null,null,null,null,"Ocean Clipper  --- F.Inicio Turno: 20141120",null,null,null,null,null,null,null,{"$f":"IF(referentes!AJ79=\"\",\"\",IF(IFERROR(SEARCH(\"*-*\",referentes!AJ79),2)=1,IF(referentes!AJ79=\"\",\"\",LEFT(referentes!AJ79,FIND(\"*-*\",referentes!AJ79)-1)),referentes!AJ79))","v":""},null,""]
[null,null,null,null,null,45735,null,null,null,null,"Sea Surveyor --- F.Inicio Turno: 20141202",null,null,null,null,null,null,null,{"$f":"IF(referentes!AJ80=\"\",\"\",IF(IFERROR(SEARCH(\"*-*\",referentes!AJ80),2)=1,IF(referentes!AJ80=\"\",\"\",LEFT(referentes!AJ80,FIND(\"*-*\",referentes!AJ80)-1)),referentes!AJ80))","v":""},null,""]
[null,null,null,null,null,45736,null,null,null,null,"Sea Surveyor --- F.Inicio Turno: 20150108",null,null,null,null,null,null,null,{"$f":"IF(referentes!AJ81=\"\",\"\",IF(IFERROR(SEARCH(\"*-*\",referentes!AJ81),2)=1,IF(referentes!AJ81=\"\",\"\",LEFT(referentes!AJ81,FIND(\"*-*\",referentes!AJ81)-1)),referentes!AJ81))","v":""},null,""]
[null,null,null,null,null,45740,null,null,null,null,"Bolette dolphin  --- F.Inicio Turno: 20150129",null,null,null,null,null,null,null,{"$f":"IF(referentes!AJ82=\"\",\"\",IF(IFERROR(SEARCH(\"*-*\",referentes!AJ82),2)=1,IF(referentes!AJ82=\"\",\"\",LEFT(referentes!AJ82,FIND(\"*-*\",referentes!AJ82)-1)),referentes!AJ82))","v":""},null,""]
[null,null,null,null,null,45741,null,null,null,null,"Santos solution --- F.Inicio Turno: 20150130",null,null,null,null,null,null,null,{"$f":"IF(referentes!AJ83=\"\",\"\",IF(IFERROR(SEARCH(\"*-*\",referentes!AJ83),2)=1,IF(referentes!AJ83=\"\",\"\",LEFT(referentes!AJ83,FIND(\"*-*\",referentes!AJ83)-1)),referentes!AJ83))","v":""},null,""]
[null,null,null,null,null,45742,null,null,null,null,"Wildebeest --- F.Inicio Turno: 20150131",null,null,null,null,null,null,null,{"$f":"IF(referentes!AJ84=\"\",\"\",IF(IFERROR(SEARCH(\"*-*\",referentes!AJ84),2)=1,IF(referentes!AJ84=\"\",\"\",LEFT(referentes!AJ84,FIND(\"*-*\",referentes!AJ84)-1)),referentes!AJ84))","v":""},null,""]
[null,null,null,null,null,45743,null,null,null,null,"Bolette dolphin  --- F.Inicio Turno: 20150227",null,null,null,null,null,null,null,{"$f":"IF(referentes!AJ85=\"\",\"\",IF(IFERROR(SEARCH(\"*-*\",referentes!AJ85),2)=1,IF(referentes!AJ85=\"\",\"\",LEFT(referentes!AJ85,FIND(\"*-*\",referentes!AJ85)-1)),referentes!AJ85))","v":""},null,""]
[null,null,null,null,null,45744,null,null,null,null,"Santos solution --- F.Inicio Turno: 20150228",null,null,null,null,null,null,null,{"$f":"IF(referentes!AJ86=\"\",\"\",IF(IFERROR(SEARCH(\"*-*\",referentes!AJ86),2)=1,IF(referentes!AJ86=\"\",\"\",LEFT(referentes!AJ86,FIND(\"*-*\",referentes!AJ86)-1)),referentes!AJ86))","v":""},null,""]
[null,null,null,null,null,45745,null,null,null,null,"Wildebeest --- F.Inicio Turno: 20150301",null,null,null,null,null,null,null,{"$f":"IF(referentes!AJ87=\"\",\"\",IF(IFERROR(SEARCH(\"*-*\",referentes!AJ87),2)=1,IF(referentes!AJ87=\"\",\"\",LEFT(referentes!AJ87,FIND(\"*-*\",referentes!AJ87)-1)),referentes!AJ87))","v":""},null,""]
[null,null,null,null,null,45777,null,null,null,null,"Cami B --- F.Inicio Turno: 20150317",null,null,null,null,null,null,null,{"$f":"IF(referentes!AJ88=\"\",\"\",IF(IFERROR(SEARCH(\"*-*\",referentes!AJ88),2)=1,IF(referentes!AJ88=\"\",\"\",LEFT(referentes!AJ88,FIND(\"*-*\",referentes!AJ88)-1)),referentes!AJ88))","v":""},null,""]
[null,null,null,null,null,45780,null,null,null,null,"Ancón --- F.Inicio Turno: 20150320",null,null,null,null,null,null,null,{"$f":"IF(referentes!AJ89=\"\",\"\",IF(IFERROR(SEARCH(\"*-*\",referentes!AJ89),2)=1,IF(referentes!AJ89=\"\",\"\",LEFT(referentes!AJ89,FIND(\"*-*\",referentes!AJ89)-1)),referentes!AJ89))","v":""},null,""]
[null,null,null,null,null,45747,null,null,null,null,"Gavea Vessel  --- F.Inicio Turno: 20150327",null,null,null,null,null,null,null,{"$f":"IF(referentes!AJ90=\"\",\"\",IF(IFERROR(SEARCH(\"*-*\",referentes!AJ90),2)=1,IF(referentes!AJ90=\"\",\"\",LEFT(referentes!AJ90,FIND(\"*-*\",referentes!AJ90)-1)),referentes!AJ90))","v":""},null,""]
[null,null,null,null,null,45746,null,null,null,null,"Bolette dolphin  --- F.Inicio Turno: 20150327",null,null,null,null,null,null,null,{"$f":"IF(referentes!AJ91=\"\",\"\",IF(IFERROR(SEARCH(\"*-*\",referentes!AJ91),2)=1,IF(referentes!AJ91=\"\",\"\",LEFT(referentes!AJ91,FIND(\"*-*\",referentes!AJ91)-1)),referentes!AJ91))","v":""},null,""]
[null,null,null,null,null,45748,null,null,null,null,"Santos solution --- F.Inicio Turno: 20150329",null,null,null,null,null,null,null,{"$f":"IF(referentes!AJ92=\"\",\"\",IF(IFERROR(SEARCH(\"*-*\",referentes!AJ92),2)=1,IF(referentes!AJ92=\"\",\"\",LEFT(referentes!AJ92,FIND(\"*-*\",referentes!AJ92)-1)),referentes!AJ92))","v":""},null,""]
[null,null,null,null,null,45781,null,null,null,null,"Don Rodrigo --- F.Inicio Turno: 20150331",null,null,null,null,null,null,null,{"$f":"IF(referentes!AJ93=\"\",\"\",IF(IFERROR(SEARCH(\"*-*\",referentes!AJ93),2)=1,IF(referentes!AJ93=\"\",\"\",LEFT(referentes!AJ93,FIND(\"*-*\",referentes!AJ93)-1)),referentes!AJ93))","v":""},null,""]
[null,null,null,null,null,45778,null,null,null,null,"María Jose II --- F.Inicio Turno: 20150403",null,null,null,null,null,null,null,{"$f":"IF(referentes!AJ94=\"\",\"\",IF(IFERROR(SEARCH(\"*-*\",referentes!AJ94),2)=1,IF(referentes!AJ94=\"\",\"\",LEFT(referentes!AJ94,FIND(\"*-*\",referentes!AJ94)-1)),referentes!AJ94))","v":""},null,""]
[null,null,null,null,null,45737,null,null,null,null,"Sea Surveyor --- F.Inicio Turno: 20150417",null,null,null,null,null,null,null,{"$f":"IF(referentes!AJ95=\"\",\"\",IF(IFERROR(SEARCH(\"*-*\",referentes!AJ95),2)=1,IF(referentes!AJ95=\"\",\"\",LEFT(referentes!AJ95,FIND(\"*-*\",referentes!AJ95)-1)),referentes!AJ95))","v":""},null,""]
[null,null,null,null,null,45786,null,null,null,null,"Cami B --- F.Inicio Turno: 20150417",null,null,null,null,null,null,null,{"$f":"IF(referentes!AJ96=\"\",\"\",IF(IFERROR(SEARCH(\"*-*\",referentes!AJ96),2)=1,IF(referentes!AJ96=\"\",\"\",LEFT(referentes!AJ96,FIND(\"*-*\",referentes!AJ96)-1)),referentes!AJ96))","v":""},null,""]
[null,null,null,null,null,45779,null,null,null,null,"María Jose II --- F.Inicio Turno: 20150423",null,null,null,null,null,null,null,{"$f":"IF(referentes!AJ97=\"\",\"\",IF(IFERROR(SEARCH(\"*-*\",referentes!AJ97),2)=1,IF(referentes!AJ97=\"\",\"\",LEFT(referentes!AJ97,FIND(\"*-*\",referentes!AJ97)-1)),referentes!AJ97))","v":""},null,""]
[null,null,null,null,null,45749,null,null,null,null,"Bolette dolphin  --- F.Inicio Turno: 20150424",null,null,null,null,null,null,null,{"$f":"IF(referentes!AJ98=\"\",\"\",IF(IFERROR(SEARCH(\"*-*\",referentes!AJ98),2)=1,IF(referentes!AJ98=\"\",\"\",LEFT(referentes!AJ98,FIND(\"*-*\",referentes!AJ98)-1)),referentes!AJ98))","v":""},null,""]
[null,null,null,null,null,45784,null,null,null,null,"Don Rodrigo --- F.Inicio Turno: 20150424",null,null,null,null,null,null,null,{"$f":"IF(referentes!AJ99=\"\",\"\",IF(IFERROR(SEARCH(\"*-*\",referentes!AJ99),2)=1,IF(referentes!AJ99=\"\",\"\",LEFT(referentes!AJ99,FIND(\"*-*\",referentes!AJ99)-1)),referentes!AJ99))","v":""},null,""]
[null,null,null,null,null,45750,null,null,null,null,"Gavea Vessel  --- F.Inicio Turno: 20150424",null,null,null,null,null,null,null,{"$f":"IF(referentes!AJ100=\"\",\"\",IF(IFERROR(SEARCH(\"*-*\",referentes!AJ100),2)=1,IF(referentes!AJ100=\"\",\"\",LEFT(referentes!AJ100,FIND(\"*-*\",referentes!AJ100)-1)),referentes!AJ100))","v":""},null,""]
[null,null,null,null,null,45751,null,null,null,null,"Santos solution --- F.Inicio Turno: 20150427",null,null,null,null,null,null,null,{"$f":"IF(referentes!AJ101=\"\",\"\",IF(IFERROR(SEARCH(\"*-*\",referentes!AJ101),2)=1,IF(referentes!AJ101=\"\",\"\",LEFT(referentes!AJ101,FIND(\"*-*\",referentes!AJ101)-1)),referentes!AJ101))","v":""},null,""]
[null,null,null,null,null,45738,null,null,null,null,"Sea Surveyor --- F.Inicio Turno: 20150516",null,null,null,null,null,null,null,{"$f":"IF(referentes!AJ102=\"\",\"\",IF(IFERROR(SEARCH(\"*-*\",referentes!AJ102),2)=1,IF(referentes!AJ102=\"\",\"\",LEFT(referentes!AJ102,FIND(\"*-*\",referentes!AJ102)-1)),referentes!AJ102))","v":""},null,""]
[null,null,null,null,null,45752,null,null,null,null,"Bolette dolphin  --- F.Inicio Turno: 20150522",null,null,null,null,null,null,null,{"$f":"IF(referentes!AJ103=\"\",\"\",IF(IFERROR(SEARCH(\"*-*\",referentes!AJ103),2)=1,IF(referentes!AJ103=\"\",\"\",LEFT(referentes!AJ103,FIND(\"*-*\",referentes!AJ103)-1)),referentes!AJ103))","v":""},null,""]
[null,null,null,null,null,45753,null,null,null,null,"Gavea Vessel  --- F.Inicio Turno: 20150523",null,null,null,null,null,null,null,{"$f":"IF(referentes!AJ104=\"\",\"\",IF(IFERROR(SEARCH(\"*-*\",referentes!AJ104),2)=1,IF(referentes!AJ104=\"\",\"\",LEFT(referentes!AJ104,FIND(\"*-*\",referentes!AJ104)-1)),referentes!AJ104))","v":""},null,""]
[null,null,null,null,null,45739,null,null,null,null,"Sea Surveyor --- F.Inicio Turno: 20150528",null,null,null,null,null,null,null,{"$f":"IF(referentes!AJ105=\"\",\"\",IF(IFERROR(SEARCH(\"*-*\",referentes!AJ105),2)=1,IF(referentes!AJ105=\"\",\"\",LEFT(referentes!AJ105,FIND(\"*-*\",referentes!AJ105)-1)),referentes!AJ105))","v":""},null,""]
[null,null,null,null,null,45754,null,null,null,null,"Santos solution --- F.Inicio Turno: 20150529",null,null,null,null,null,null,null,{"$f":"IF(referentes!AJ106=\"\",\"\",IF(IFERROR(SEARCH(\"*-*\",referentes!AJ106),2)=1,IF(referentes!AJ106=\"\",\"\",LEFT(referentes!AJ106,FIND(\"*-*\",referentes!AJ106)-1)),referentes!AJ106))","v":""},null,""]
[null,null,null,null,null,45782,null,null,null,null,"Don Rodrigo --- F.Inicio Turno: 20150604",null,null,null,null,null,null,null,{"$f":"IF(referentes!AJ107=\"\",\"\",IF(IFERROR(SEARCH(\"*-*\",referentes!AJ107),2)=1,IF(referentes!AJ107=\"\",\"\",LEFT(referentes!AJ107,FIND(\"*-*\",referentes!AJ107)-1)),referentes!AJ107))","v":""},null,""]
[null,null,null,null,null,45755,null,null,null,null,"Bolette dolphin  --- F.Inicio Turno: 20150619",null,null,null,null,null,null,null,{"$f":"IF(referentes!AJ108=\"\",\"\",IF(IFERROR(SEARCH(\"*-*\",referentes!AJ108),2)=1,IF(referentes!AJ108=\"\",\"\",LEFT(referentes!AJ108,FIND(\"*-*\",referentes!AJ108)-1)),referentes!AJ108))","v":""},null,""]
[null,null,null,null,null,45756,null,null,null,null,"Gavea Vessel  --- F.Inicio Turno: 20150620",null,null,null,null,null,null,null,{"$f":"IF(referentes!AJ109=\"\",\"\",IF(IFERROR(SEARCH(\"*-*\",referentes!AJ109),2)=1,IF(referentes!AJ109=\"\",\"\",LEFT(referentes!AJ109,FIND(\"*-*\",referentes!AJ109)-1)),referentes!AJ109))","v":""},null,""]
[null,null,null,null,null,45757,null,null,null,null,"Santos solution --- F.Inicio Turno: 20150626",null,null,null,null,null,null,null,{"$f":"IF(referentes!AJ110=\"\",\"\",IF(IFERROR(SEARCH(\"*-*\",referentes!AJ110),2)=1,IF(referentes!AJ110=\"\",\"\",LEFT(referentes!AJ110,FIND(\"*-*\",referentes!AJ110)-1)),referentes!AJ110))","v":""},null,""]
[null,null,null,null,null,45787,null,null,null,null,"Geoexplorer --- F.Inicio Turno: 20150713",null,null,null,null,null,null,null,{"$f":"IF(referentes!AJ111=\"\",\"\",IF(IFERROR(SEARCH(\"*-*\",referentes!AJ111),2)=1,IF(referentes!AJ111=\"\",\"\",LEFT(referentes!AJ111,FIND(\"*-*\",referentes!AJ111)-1)),referentes!AJ111))","v":""},null,""]
[null,null,null,null,null,45758,null,null,null,null,"Bolette dolphin  --- F.Inicio Turno: 20150717",null,null,null,null,null,null,null,{"$f":"IF(referentes!AJ112=\"\",\"\",IF(IFERROR(SEARCH(\"*-*\",referentes!AJ112),2)=1,IF(referentes!AJ112=\"\",\"\",LEFT(referentes!AJ112,FIND(\"*-*\",referentes!AJ112)-1)),referentes!AJ112))","v":""},null,""]
[null,null,null,null,null,45760,null,null,null,null,"Santos solution --- F.Inicio Turno: 20150802",null,null,null,null,null,null,null,{"$f":"IF(referentes!AJ113=\"\",\"\",IF(IFERROR(SEARCH(\"*-*\",referentes!AJ113),2)=1,IF(referentes!AJ113=\"\",\"\",LEFT(referentes!AJ113,FIND(\"*-*\",referentes!AJ113)-1)),referentes!AJ113))","v":""},null,""]
[null,null,null,null,null,45763,null,null,null,null,"Santos solution --- F.Inicio Turno: 20150807",null,null,null,null,null,null,null,{"$f":"IF(referentes!AJ114=\"\",\"\",IF(IFERROR(SEARCH(\"*-*\",referentes!AJ114),2)=1,IF(referentes!AJ114=\"\",\"\",LEFT(referentes!AJ114,FIND(\"*-*\",referentes!AJ114)-1)),referentes!AJ114))","v":""},null,""]
[null,null,null,null,null,45759,null,null,null,null,"Gavea Vessel  --- F.Inicio Turno: 20150814",null,null,null,null,null,null,null,{"$f":"IF(referentes!AJ115=\"\",\"\",IF(IFERROR(SEARCH(\"*-*\",referentes!AJ115),2)=1,IF(referentes!AJ115=\"\",\"\",LEFT(referentes!AJ115,FIND(\"*-*\",referentes!AJ115)-1)),referentes!AJ115))","v":""},null,""]
[null,null,null,null,null,45761,null,null,null,null,"Bolette dolphin  --- F.Inicio Turno: 20150814",null,null,null,null,null,null,null,{"$f":"IF(referentes!AJ116=\"\",\"\",IF(IFERROR(SEARCH(\"*-*\",referentes!AJ116),2)=1,IF(referentes!AJ116=\"\",\"\",LEFT(referentes!AJ116,FIND(\"*-*\",referentes!AJ116)-1)),referentes!AJ116))","v":""},null,""]
[null,null,null,null,null,45762,null,null,null,null,"Gavea Vessel  --- F.Inicio Turno: 20150820",null,null,null,null,null,null,null,{"$f":"IF(referentes!AJ117=\"\",\"\",IF(IFERROR(SEARCH(\"*-*\",referentes!AJ117),2)=1,IF(referentes!AJ117=\"\",\"\",LEFT(referentes!AJ117,FIND(\"*-*\",referentes!AJ117)-1)),referentes!AJ117))","v":""},null,""]
[null,null,null,null,null,45797,null,null,null,null,"Cami B --- F.Inicio Turno: 20150902",null,null,null,null,null,null,null,{"$f":"IF(referentes!AJ118=\"\",\"\",IF(IFERROR(SEARCH(\"*-*\",referentes!AJ118),2)=1,IF(referentes!AJ118=\"\",\"\",LEFT(referentes!AJ118,FIND(\"*-*\",referentes!AJ118)-1)),referentes!AJ118))","v":""},null,""]
[null,null,null,null,null,45766,null,null,null,null,"Christian Chouest --- F.Inicio Turno: 20150903",null,null,null,null,null,null,null,{"$f":"IF(referentes!AJ119=\"\",\"\",IF(IFERROR(SEARCH(\"*-*\",referentes!AJ119),2)=1,IF(referentes!AJ119=\"\",\"\",LEFT(referentes!AJ119,FIND(\"*-*\",referentes!AJ119)-1)),referentes!AJ119))","v":""},null,""]
[null,null,null,null,null,45785,null,null,null,null,"Geoexplorer --- F.Inicio Turno: 20150903",null,null,null,null,null,null,null,{"$f":"IF(referentes!AJ120=\"\",\"\",IF(IFERROR(SEARCH(\"*-*\",referentes!AJ120),2)=1,IF(referentes!AJ120=\"\",\"\",LEFT(referentes!AJ120,FIND(\"*-*\",referentes!AJ120)-1)),referentes!AJ120))","v":""},null,""]
[null,null,null,null,null,45791,null,null,null,null,"Ocean Researcher --- F.Inicio Turno: 20150908",null,null,null,null,null,null,null,{"$f":"IF(referentes!AJ121=\"\",\"\",IF(IFERROR(SEARCH(\"*-*\",referentes!AJ121),2)=1,IF(referentes!AJ121=\"\",\"\",LEFT(referentes!AJ121,FIND(\"*-*\",referentes!AJ121)-1)),referentes!AJ121))","v":""},null,""]
[null,null,null,null,null,45764,null,null,null,null,"Bolette dolphin  --- F.Inicio Turno: 20150912",null,null,null,null,null,null,null,{"$f":"IF(referentes!AJ122=\"\",\"\",IF(IFERROR(SEARCH(\"*-*\",referentes!AJ122),2)=1,IF(referentes!AJ122=\"\",\"\",LEFT(referentes!AJ122,FIND(\"*-*\",referentes!AJ122)-1)),referentes!AJ122))","v":""},null,""]
[null,null,null,null,null,45765,null,null,null,null,"Gavea Vessel  --- F.Inicio Turno: 20150917",null,null,null,null,null,null,null,{"$f":"IF(referentes!AJ123=\"\",\"\",IF(IFERROR(SEARCH(\"*-*\",referentes!AJ123),2)=1,IF(referentes!AJ123=\"\",\"\",LEFT(referentes!AJ123,FIND(\"*-*\",referentes!AJ123)-1)),referentes!AJ123))","v":""},null,""]
[null,null,null,null,null,45798,null,null,null,null,"Cami B --- F.Inicio Turno: 20150919",null,null,null,null,null,null,null,{"$f":"IF(referentes!AJ124=\"\",\"\",IF(IFERROR(SEARCH(\"*-*\",referentes!AJ124),2)=1,IF(referentes!AJ124=\"\",\"\",LEFT(referentes!AJ124,FIND(\"*-*\",referentes!AJ124)-1)),referentes!AJ124))","v":""},null,""]
[null,null,null,null,null,45792,null,null,null,null,"Ocean Researcher --- F.Inicio Turno: 20150923",null,null,null,null,null,null,null,{"$f":"IF(referentes!AJ125=\"\",\"\",IF(IFERROR(SEARCH(\"*-*\",referentes!AJ125),2)=1,IF(referentes!AJ125=\"\",\"\",LEFT(referentes!AJ125,FIND(\"*-*\",referentes!AJ125)-1)),referentes!AJ125))","v":""},null,""]
[null,null,null,null,null,45788,null,null,null,null,"María Jose II --- F.Inicio Turno: 20150926",null,null,null,null,null,null,null,{"$f":"IF(referentes!AJ126=\"\",\"\",IF(IFERROR(SEARCH(\"*-*\",referentes!AJ126),2)=1,IF(referentes!AJ126=\"\",\"\",LEFT(referentes!AJ126,FIND(\"*-*\",referentes!AJ126)-1)),referentes!AJ126))","v":""},null,""]
[null,null,null,null,null,45793,null,null,null,null,"Ocean Researcher --- F.Inicio Turno: 20150926",null,null,null,null,null,null,null,{"$f":"IF(referentes!AJ127=\"\",\"\",IF(IFERROR(SEARCH(\"*-*\",referentes!AJ127),2)=1,IF(referentes!AJ127=\"\",\"\",LEFT(referentes!AJ127,FIND(\"*-*\",referentes!AJ127)-1)),referentes!AJ127))","v":""},null,""]
[null,null,null,null,null,45769,null,null,null,null,"Christian Chouest --- F.Inicio Turno: 20151001",null,null,null,null,null,null,null,{"$f":"IF(referentes!AJ128=\"\",\"\",IF(IFERROR(SEARCH(\"*-*\",referentes!AJ128),2)=1,IF(referentes!AJ128=\"\",\"\",LEFT(referentes!AJ128,FIND(\"*-*\",referentes!AJ128)-1)),referentes!AJ128))","v":""},null,""]
[null,null,null,null,null,45794,null,null,null,null,"Ocean Researcher --- F.Inicio Turno: 20151004",null,null,null,null,null,null,null,{"$f":"IF(referentes!AJ129=\"\",\"\",IF(IFERROR(SEARCH(\"*-*\",referentes!AJ129),2)=1,IF(referentes!AJ129=\"\",\"\",LEFT(referentes!AJ129,FIND(\"*-*\",referentes!AJ129)-1)),referentes!AJ129))","v":""},null,""]
[null,null,null,null,null,45767,null,null,null,null,"Bolette dolphin  --- F.Inicio Turno: 20151009",null,null,null,null,null,null,null,{"$f":"IF(referentes!AJ130=\"\",\"\",IF(IFERROR(SEARCH(\"*-*\",referentes!AJ130),2)=1,IF(referentes!AJ130=\"\",\"\",LEFT(referentes!AJ130,FIND(\"*-*\",referentes!AJ130)-1)),referentes!AJ130))","v":""},null,""]
[null,null,null,null,null,45789,null,null,null,null,"Don Rodrigo --- F.Inicio Turno: 20151009",null,null,null,null,null,null,null,{"$f":"IF(referentes!AJ131=\"\",\"\",IF(IFERROR(SEARCH(\"*-*\",referentes!AJ131),2)=1,IF(referentes!AJ131=\"\",\"\",LEFT(referentes!AJ131,FIND(\"*-*\",referentes!AJ131)-1)),referentes!AJ131))","v":""},null,""]
[null,null,null,null,null,45801,null,null,null,null,"Fugro Brasilis --- F.Inicio Turno: 20151012",null,null,null,null,null,null,null,{"$f":"IF(referentes!AJ132=\"\",\"\",IF(IFERROR(SEARCH(\"*-*\",referentes!AJ132),2)=1,IF(referentes!AJ132=\"\",\"\",LEFT(referentes!AJ132,FIND(\"*-*\",referentes!AJ132)-1)),referentes!AJ132))","v":""},null,""]
[null,null,null,null,null,45768,null,null,null,null,"Gavea Vessel  --- F.Inicio Turno: 20151014",null,null,null,null,null,null,null,{"$f":"IF(referentes!AJ133=\"\",\"\",IF(IFERROR(SEARCH(\"*-*\",referentes!AJ133),2)=1,IF(referentes!AJ133=\"\",\"\",LEFT(referentes!AJ133,FIND(\"*-*\",referentes!AJ133)-1)),referentes!AJ133))","v":""},null,""]
[null,null,null,null,null,45790,null,null,null,null,"María Jose II --- F.Inicio Turno: 20151016",null,null,null,null,null,null,null,{"$f":"IF(referentes!AJ134=\"\",\"\",IF(IFERROR(SEARCH(\"*-*\",referentes!AJ134),2)=1,IF(referentes!AJ134=\"\",\"\",LEFT(referentes!AJ134,FIND(\"*-*\",referentes!AJ134)-1)),referentes!AJ134))","v":""},null,""]
[null,null,null,null,null,45783,null,null,null,null,"Don Rodrigo --- F.Inicio Turno: 20151017",null,null,null,null,null,null,null,{"$f":"IF(referentes!AJ135=\"\",\"\",IF(IFERROR(SEARCH(\"*-*\",referentes!AJ135),2)=1,IF(referentes!AJ135=\"\",\"\",LEFT(referentes!AJ135,FIND(\"*-*\",referentes!AJ135)-1)),referentes!AJ135))","v":""},null,""]
[null,null,null,null,null,45795,null,null,null,null,"Ocean Researcher --- F.Inicio Turno: 20151021",null,null,null,null,null,null,null,{"$f":"IF(referentes!AJ136=\"\",\"\",IF(IFERROR(SEARCH(\"*-*\",referentes!AJ136),2)=1,IF(referentes!AJ136=\"\",\"\",LEFT(referentes!AJ136,FIND(\"*-*\",referentes!AJ136)-1)),referentes!AJ136))","v":""},null,{"$f":"IF(IFERROR(T135,R135)=S135,\"\",R135)","v":""}]
[null,null,null,null,null,45803,null,null,null,null,"Fugro Brasilis --- F.Inicio Turno: 20151024",null,null,null,null,null,null,null,{"$f":"IF(referentes!AJ137=\"\",\"\",IF(IFERROR(SEARCH(\"*-*\",referentes!AJ137),2)=1,IF(referentes!AJ137=\"\",\"\",LEFT(referentes!AJ137,FIND(\"*-*\",referentes!AJ137)-1)),referentes!AJ137))","v":""},null,""]
[null,null,null,null,null,45805,null,null,null,null,"Fugro Brasilis --- F.Inicio Turno: 20151026",null,null,null,null,null,null,null,{"$f":"IF(referentes!AJ138=\"\",\"\",IF(IFERROR(SEARCH(\"*-*\",referentes!AJ138),2)=1,IF(referentes!AJ138=\"\",\"\",LEFT(referentes!AJ138,FIND(\"*-*\",referentes!AJ138)-1)),referentes!AJ138))","v":""},null,""]
[null,null,null,null,null,45799,null,null,null,null,"Cami B --- F.Inicio Turno: 20151027",null,null,null,null,null,null,null,{"$f":"IF(referentes!AJ139=\"\",\"\",IF(IFERROR(SEARCH(\"*-*\",referentes!AJ139),2)=1,IF(referentes!AJ139=\"\",\"\",LEFT(referentes!AJ139,FIND(\"*-*\",referentes!AJ139)-1)),referentes!AJ139))","v":""},null,""]
[null,null,null,null,null,45772,null,null,null,null,"Christian Chouest --- F.Inicio Turno: 20151029",null,null,null,null,null,null,null,{"$f":"IF(referentes!AJ140=\"\",\"\",IF(IFERROR(SEARCH(\"*-*\",referentes!AJ140),2)=1,IF(referentes!AJ140=\"\",\"\",LEFT(referentes!AJ140,FIND(\"*-*\",referentes!AJ140)-1)),referentes!AJ140))","v":""},null,""]
[null,null,null,null,null,45770,null,null,null,null,"Bolette dolphin  --- F.Inicio Turno: 20151106",null,null,null,null,null,null,null,{"$f":"IF(referentes!AJ141=\"\",\"\",IF(IFERROR(SEARCH(\"*-*\",referentes!AJ141),2)=1,IF(referentes!AJ141=\"\",\"\",LEFT(referentes!AJ141,FIND(\"*-*\",referentes!AJ141)-1)),referentes!AJ141))","v":""},null,""]
[null,null,null,null,null,45804,null,null,null,null,"Fugro Brasilis --- F.Inicio Turno: 20151107",null,null,null,null,null,null,null,{"$f":"IF(referentes!AJ142=\"\",\"\",IF(IFERROR(SEARCH(\"*-*\",referentes!AJ142),2)=1,IF(referentes!AJ142=\"\",\"\",LEFT(referentes!AJ142,FIND(\"*-*\",referentes!AJ142)-1)),referentes!AJ142))","v":""},null,""]
[null,null,null,null,null,45771,null,null,null,null,"Gavea Vessel  --- F.Inicio Turno: 20151111",null,null,null,null,null,null,null,{"$f":"IF(referentes!AJ143=\"\",\"\",IF(IFERROR(SEARCH(\"*-*\",referentes!AJ143),2)=1,IF(referentes!AJ143=\"\",\"\",LEFT(referentes!AJ143,FIND(\"*-*\",referentes!AJ143)-1)),referentes!AJ143))","v":""},null,""]
[null,null,null,null,null,45806,null,null,null,null,"Don Rodrigo --- F.Inicio Turno: 20151113",null,null,null,null,null,null,null,{"$f":"IF(referentes!AJ144=\"\",\"\",IF(IFERROR(SEARCH(\"*-*\",referentes!AJ144),2)=1,IF(referentes!AJ144=\"\",\"\",LEFT(referentes!AJ144,FIND(\"*-*\",referentes!AJ144)-1)),referentes!AJ144))","v":""},null,""]
[null,null,null,null,null,45802,null,null,null,null,"Fugro Brasilis --- F.Inicio Turno: 20151113",null,null,null,null,null,null,null,{"$f":"IF(referentes!AJ145=\"\",\"\",IF(IFERROR(SEARCH(\"*-*\",referentes!AJ145),2)=1,IF(referentes!AJ145=\"\",\"\",LEFT(referentes!AJ145,FIND(\"*-*\",referentes!AJ145)-1)),referentes!AJ145))","v":""},null,""]
[null,null,null,null,null,45800,null,null,null,null,"Cami B --- F.Inicio Turno: 20151116",null,null,null,null,null,null,null,{"$f":"IF(referentes!AJ146=\"\",\"\",IF(IFERROR(SEARCH(\"*-*\",referentes!AJ146),2)=1,IF(referentes!AJ146=\"\",\"\",LEFT(referentes!AJ146,FIND(\"*-*\",referentes!AJ146)-1)),referentes!AJ146))","v":""},null,""]
[null,null,null,null,null,45796,null,null,null,null,"Ocean Researcher --- F.Inicio Turno: 20151117",null,null,null,null,null,null,null,{"$f":"IF(referentes!AJ147=\"\",\"\",IF(IFERROR(SEARCH(\"*-*\",referentes!AJ147),2)=1,IF(referentes!AJ147=\"\",\"\",LEFT(referentes!AJ147,FIND(\"*-*\",referentes!AJ147)-1)),referentes!AJ147))","v":""},null,""]
[null,null,null,null,null,45775,null,null,null,null,"Christian Chouest --- F.Inicio Turno: 20151126",null,null,null,null,null,null,null,{"$f":"IF(referentes!AJ148=\"\",\"\",IF(IFERROR(SEARCH(\"*-*\",referentes!AJ148),2)=1,IF(referentes!AJ148=\"\",\"\",LEFT(referentes!AJ148,FIND(\"*-*\",referentes!AJ148)-1)),referentes!AJ148))","v":""},null,""]
[null,null,null,null,null,45774,null,null,null,null,"Gavea Vessel  --- F.Inicio Turno: 20151209",null,null,null,null,null,null,null,{"$f":"IF(referentes!AJ149=\"\",\"\",IF(IFERROR(SEARCH(\"*-*\",referentes!AJ149),2)=1,IF(referentes!AJ149=\"\",\"\",LEFT(referentes!AJ149,FIND(\"*-*\",referentes!AJ149)-1)),referentes!AJ149))","v":""},null,""]
[null,null,null,null,null,45773,null,null,null,null,"Bolette dolphin  --- F.Inicio Turno: 20151211",null,null,null,null,null,null,null,{"$f":"IF(referentes!AJ150=\"\",\"\",IF(IFERROR(SEARCH(\"*-*\",referentes!AJ150),2)=1,IF(referentes!AJ150=\"\",\"\",LEFT(referentes!AJ150,FIND(\"*-*\",referentes!AJ150)-1)),referentes!AJ150))","v":""},null,""]
[null,null,null,null,null,45776,null,null,null,null,"Christian Chouest --- F.Inicio Turno: 20151224",null,null,null,null,null,null,null,{"$f":"IF(referentes!AJ151=\"\",\"\",IF(IFERROR(SEARCH(\"*-*\",referentes!AJ151),2)=1,IF(referentes!AJ151=\"\",\"\",LEFT(referentes!AJ151,FIND(\"*-*\",referentes!AJ151)-1)),referentes!AJ151))","v":""},null,""]
[null,null,null,null,null,45683,null,null,null,null,"ARC Quindio --- F.Inicio Turno: 31/09/10",null,null,null,null,null,null,null,{"$f":"IF(referentes!AJ152=\"\",\"\",IF(IFERROR(SEARCH(\"*-*\",referentes!AJ152),2)=1,IF(referentes!AJ152=\"\",\"\",LEFT(referentes!AJ152,FIND(\"*-*\",referentes!AJ152)-1)),referentes!AJ152))","v":""},null,""]
[null,null,null,null,null,45221,null,null,null,null,"Gávea --- Plataforma de exploración --- Buque de apoyo",null,null,null,null,null,null,null,{"$f":"IF(referentes!AJ153=\"\",\"\",IF(IFERROR(SEARCH(\"*-*\",referentes!AJ153),2)=1,IF(referentes!AJ153=\"\",\"\",LEFT(referentes!AJ153,FIND(\"*-*\",referentes!AJ153)-1)),referentes!AJ153))","v":""},null,""]
[null,null,null,null,null,45219,null,null,null,null,"Gávea --- Plataforma de exploración --- Buque de apoyo",null,null,null,null,null,null,null,{"$f":"IF(referentes!AJ154=\"\",\"\",IF(IFERROR(SEARCH(\"*-*\",referentes!AJ154),2)=1,IF(referentes!AJ154=\"\",\"\",LEFT(referentes!AJ154,FIND(\"*-*\",referentes!AJ154)-1)),referentes!AJ154))","v":""},null,""]
[null,null,null,null,null,45232,null,null,null,null,"Gávea --- Plataforma de exploración --- Buque de apoyo",null,null,null,null,null,null,null,{"$f":"IF(referentes!AJ155=\"\",\"\",IF(IFERROR(SEARCH(\"*-*\",referentes!AJ155),2)=1,IF(referentes!AJ155=\"\",\"\",LEFT(referentes!AJ155,FIND(\"*-*\",referentes!AJ155)-1)),referentes!AJ155))","v":""},null,""]
[null,null,null,null,null,45216,null,null,null,null,"Gávea --- Plataforma de exploración --- Buque de apoyo",null,null,null,null,null,null,null,{"$f":"IF(referentes!AJ156=\"\",\"\",IF(IFERROR(SEARCH(\"*-*\",referentes!AJ156),2)=1,IF(referentes!AJ156=\"\",\"\",LEFT(referentes!AJ156,FIND(\"*-*\",referentes!AJ156)-1)),referentes!AJ156))","v":""},null,""]
[null,null,null,null,null,45214,null,null,null,null,"Gávea --- Plataforma de exploración --- Buque de apoyo",null,null,null,null,null,null,null,{"$f":"IF(referentes!AJ157=\"\",\"\",IF(IFERROR(SEARCH(\"*-*\",referentes!AJ157),2)=1,IF(referentes!AJ157=\"\",\"\",LEFT(referentes!AJ157,FIND(\"*-*\",referentes!AJ157)-1)),referentes!AJ157))","v":""},null,""]
[null,null,null,null,null,45212,null,null,null,null,"Gávea --- Plataforma de exploración --- Buque de apoyo",null,null,null,null,null,null,null,{"$f":"IF(referentes!AJ158=\"\",\"\",IF(IFERROR(SEARCH(\"*-*\",referentes!AJ158),2)=1,IF(referentes!AJ158=\"\",\"\",LEFT(referentes!AJ158,FIND(\"*-*\",referentes!AJ158)-1)),referentes!AJ158))","v":""},null,""]
[null,null,null,null,null,45209,null,null,null,null,"Gávea --- Plataforma de exploración --- Buque de apoyo",null,null,null,null,null,null,null,{"$f":"IF(referentes!AJ159=\"\",\"\",IF(IFERROR(SEARCH(\"*-*\",referentes!AJ159),2)=1,IF(referentes!AJ159=\"\",\"\",LEFT(referentes!AJ159,FIND(\"*-*\",referentes!AJ159)-1)),referentes!AJ159))","v":""},null,""]
[null,null,null,null,null,45357,null,null,null,null,"HJK --- Sobrevuelo",null,null,null,null,null,null,null,{"$f":"IF(referentes!AJ160=\"\",\"\",IF(IFERROR(SEARCH(\"*-*\",referentes!AJ160),2)=1,IF(referentes!AJ160=\"\",\"\",LEFT(referentes!AJ160,FIND(\"*-*\",referentes!AJ160)-1)),referentes!AJ160))","v":""},null,""]
[null,null,null,null,null,null,null,null,null,null,null,null,null,null,null,null,null,null,{"$f":"IF(referentes!AJ161=\"\",\"\",IF(IFERROR(SEARCH(\"*-*\",referentes!AJ161),2)=1,IF(referentes!AJ161=\"\",\"\",LEFT(referentes!AJ161,FIND(\"*-*\",referentes!AJ161)-1)),referentes!AJ161))","v":""},null,""]
[null,null,null,null,null,null,null,null,null,null,null,null,null,null,null,null,null,null,{"$f":"IF(referentes!AJ162=\"\",\"\",IF(IFERROR(SEARCH(\"*-*\",referentes!AJ162),2)=1,IF(referentes!AJ162=\"\",\"\",LEFT(referentes!AJ162,FIND(\"*-*\",referentes!AJ162)-1)),referentes!AJ162))","v":""},null,""]
[null,null,null,null,null,null,null,null,null,null,null,null,null,null,null,null,null,null,{"$f":"IF(referentes!AJ163=\"\",\"\",IF(IFERROR(SEARCH(\"*-*\",referentes!AJ163),2)=1,IF(referentes!AJ163=\"\",\"\",LEFT(referentes!AJ163,FIND(\"*-*\",referentes!AJ163)-1)),referentes!AJ163))","v":""},null,""]
[null,null,null,null,null,null,null,null,null,null,null,null,null,null,null,null,null,null,{"$f":"IF(referentes!AJ164=\"\",\"\",IF(IFERROR(SEARCH(\"*-*\",referentes!AJ164),2)=1,IF(referentes!AJ164=\"\",\"\",LEFT(referentes!AJ164,FIND(\"*-*\",referentes!AJ164)-1)),referentes!AJ164))","v":""},null,""]
[null,null,null,null,null,null,null,null,null,null,null,null,null,null,null,null,null,null,{"$f":"IF(referentes!AJ165=\"\",\"\",IF(IFERROR(SEARCH(\"*-*\",referentes!AJ165),2)=1,IF(referentes!AJ165=\"\",\"\",LEFT(referentes!AJ165,FIND(\"*-*\",referentes!AJ165)-1)),referentes!AJ165))","v":""},null,""]
[null,null,null,null,null,null,null,null,null,null,null,null,null,null,null,null,null,null,{"$f":"IF(referentes!AJ166=\"\",\"\",IF(IFERROR(SEARCH(\"*-*\",referentes!AJ166),2)=1,IF(referentes!AJ166=\"\",\"\",LEFT(referentes!AJ166,FIND(\"*-*\",referentes!AJ166)-1)),referentes!AJ166))","v":""},null,""]
[null,null,null,null,null,null,null,null,null,null,null,null,null,null,null,null,null,null,{"$f":"IF(referentes!AJ167=\"\",\"\",IF(IFERROR(SEARCH(\"*-*\",referentes!AJ167),2)=1,IF(referentes!AJ167=\"\",\"\",LEFT(referentes!AJ167,FIND(\"*-*\",referentes!AJ167)-1)),referentes!AJ167))","v":""},null,""]
[null,null,null,null,null,null,null,null,null,null,null,null,null,null,null,null,null,null,{"$f":"IF(referentes!AJ168=\"\",\"\",IF(IFERROR(SEARCH(\"*-*\",referentes!AJ168),2)=1,IF(referentes!AJ168=\"\",\"\",LEFT(referentes!AJ168,FIND(\"*-*\",referentes!AJ168)-1)),referentes!AJ168))","v":""},null,""]
[null,null,null,null,null,null,null,null,null,null,null,null,null,null,null,null,null,null,{"$f":"IF(referentes!AJ169=\"\",\"\",IF(IFERROR(SEARCH(\"*-*\",referentes!AJ169),2)=1,IF(referentes!AJ169=\"\",\"\",LEFT(referentes!AJ169,FIND(\"*-*\",referentes!AJ169)-1)),referentes!AJ169))","v":""},null,""]
[null,null,null,null,null,null,null,null,null,null,null,null,null,null,null,null,null,null,{"$f":"IF(referentes!AJ170=\"\",\"\",IF(IFERROR(SEARCH(\"*-*\",referentes!AJ170),2)=1,IF(referentes!AJ170=\"\",\"\",LEFT(referentes!AJ170,FIND(\"*-*\",referentes!AJ170)-1)),referentes!AJ170))","v":""},null,""]
[null,null,null,null,null,null,null,null,null,null,null,null,null,null,null,null,null,null,{"$f":"IF(referentes!AJ171=\"\",\"\",IF(IFERROR(SEARCH(\"*-*\",referentes!AJ171),2)=1,IF(referentes!AJ171=\"\",\"\",LEFT(referentes!AJ171,FIND(\"*-*\",referentes!AJ171)-1)),referentes!AJ171))","v":""},null,""]
[null,null,null,null,null,null,null,null,null,null,null,null,null,null,null,null,null,null,{"$f":"IF(referentes!AJ172=\"\",\"\",IF(IFERROR(SEARCH(\"*-*\",referentes!AJ172),2)=1,IF(referentes!AJ172=\"\",\"\",LEFT(referentes!AJ172,FIND(\"*-*\",referentes!AJ172)-1)),referentes!AJ172))","v":""},null,""]
[null,null,null,null,null,null,null,null,null,null,null,null,null,null,null,null,null,null,{"$f":"IF(referentes!AJ173=\"\",\"\",IF(IFERROR(SEARCH(\"*-*\",referentes!AJ173),2)=1,IF(referentes!AJ173=\"\",\"\",LEFT(referentes!AJ173,FIND(\"*-*\",referentes!AJ173)-1)),referentes!AJ173))","v":""},null,""]
[null,null,null,null,null,null,null,null,null,null,null,null,null,null,null,null,null,null,{"$f":"IF(referentes!AJ174=\"\",\"\",IF(IFERROR(SEARCH(\"*-*\",referentes!AJ174),2)=1,IF(referentes!AJ174=\"\",\"\",LEFT(referentes!AJ174,FIND(\"*-*\",referentes!AJ174)-1)),referentes!AJ174))","v":""},null,""]
[null,null,null,null,null,null,null,null,null,null,null,null,null,null,null,null,null,null,{"$f":"IF(referentes!AJ175=\"\",\"\",IF(IFERROR(SEARCH(\"*-*\",referentes!AJ175),2)=1,IF(referentes!AJ175=\"\",\"\",LEFT(referentes!AJ175,FIND(\"*-*\",referentes!AJ175)-1)),referentes!AJ175))","v":""},null,""]
[null,null,null,null,null,null,null,null,null,null,null,null,null,null,null,null,null,null,{"$f":"IF(referentes!AJ176=\"\",\"\",IF(IFERROR(SEARCH(\"*-*\",referentes!AJ176),2)=1,IF(referentes!AJ176=\"\",\"\",LEFT(referentes!AJ176,FIND(\"*-*\",referentes!AJ176)-1)),referentes!AJ176))","v":""},null,""]
[null,null,null,null,null,null,null,null,null,null,null,null,null,null,null,null,null,null,{"$f":"IF(referentes!AJ177=\"\",\"\",IF(IFERROR(SEARCH(\"*-*\",referentes!AJ177),2)=1,IF(referentes!AJ177=\"\",\"\",LEFT(referentes!AJ177,FIND(\"*-*\",referentes!AJ177)-1)),referentes!AJ177))","v":""},null,""]
[null,null,null,null,null,null,null,null,null,null,null,null,null,null,null,null,null,null,{"$f":"IF(referentes!AJ178=\"\",\"\",IF(IFERROR(SEARCH(\"*-*\",referentes!AJ178),2)=1,IF(referentes!AJ178=\"\",\"\",LEFT(referentes!AJ178,FIND(\"*-*\",referentes!AJ178)-1)),referentes!AJ178))","v":""},null,""]
[null,null,null,null,null,null,null,null,null,null,null,null,null,null,null,null,null,null,{"$f":"IF(referentes!AJ179=\"\",\"\",IF(IFERROR(SEARCH(\"*-*\",referentes!AJ179),2)=1,IF(referentes!AJ179=\"\",\"\",LEFT(referentes!AJ179,FIND(\"*-*\",referentes!AJ179)-1)),referentes!AJ179))","v":""},null,""]
[null,null,null,null,null,null,null,null,null,null,null,null,null,null,null,null,null,null,{"$f":"IF(referentes!AJ180=\"\",\"\",IF(IFERROR(SEARCH(\"*-*\",referentes!AJ180),2)=1,IF(referentes!AJ180=\"\",\"\",LEFT(referentes!AJ180,FIND(\"*-*\",referentes!AJ180)-1)),referentes!AJ180))","v":""},null,""]
[null,null,null,null,null,null,null,null,null,null,null,null,null,null,null,null,null,null,{"$f":"IF(referentes!AJ181=\"\",\"\",IF(IFERROR(SEARCH(\"*-*\",referentes!AJ181),2)=1,IF(referentes!AJ181=\"\",\"\",LEFT(referentes!AJ181,FIND(\"*-*\",referentes!AJ181)-1)),referentes!AJ181))","v":""},null,""]
[null,null,null,null,null,null,null,null,null,null,null,null,null,null,null,null,null,null,{"$f":"IF(referentes!AJ182=\"\",\"\",IF(IFERROR(SEARCH(\"*-*\",referentes!AJ182),2)=1,IF(referentes!AJ182=\"\",\"\",LEFT(referentes!AJ182,FIND(\"*-*\",referentes!AJ182)-1)),referentes!AJ182))","v":""},null,""]
[null,null,null,null,null,null,null,null,null,null,null,null,null,null,null,null,null,null,{"$f":"IF(referentes!AJ183=\"\",\"\",IF(IFERROR(SEARCH(\"*-*\",referentes!AJ183),2)=1,IF(referentes!AJ183=\"\",\"\",LEFT(referentes!AJ183,FIND(\"*-*\",referentes!AJ183)-1)),referentes!AJ183))","v":""},null,""]
[null,null,null,null,null,null,null,null,null,null,null,null,null,null,null,null,null,null,{"$f":"IF(referentes!AJ184=\"\",\"\",IF(IFERROR(SEARCH(\"*-*\",referentes!AJ184),2)=1,IF(referentes!AJ184=\"\",\"\",LEFT(referentes!AJ184,FIND(\"*-*\",referentes!AJ184)-1)),referentes!AJ184))","v":""},null,""]
[null,null,null,null,null,null,null,null,null,null,null,null,null,null,null,null,null,null,{"$f":"IF(referentes!AJ185=\"\",\"\",IF(IFERROR(SEARCH(\"*-*\",referentes!AJ185),2)=1,IF(referentes!AJ185=\"\",\"\",LEFT(referentes!AJ185,FIND(\"*-*\",referentes!AJ185)-1)),referentes!AJ185))","v":""},null,""]
[null,null,null,null,null,null,null,null,null,null,null,null,null,null,null,null,null,null,{"$f":"IF(referentes!AJ186=\"\",\"\",IF(IFERROR(SEARCH(\"*-*\",referentes!AJ186),2)=1,IF(referentes!AJ186=\"\",\"\",LEFT(referentes!AJ186,FIND(\"*-*\",referentes!AJ186)-1)),referentes!AJ186))","v":""},null,""]
[null,null,null,null,null,null,null,null,null,null,null,null,null,null,null,null,null,null,{"$f":"IF(referentes!AJ187=\"\",\"\",IF(IFERROR(SEARCH(\"*-*\",referentes!AJ187),2)=1,IF(referentes!AJ187=\"\",\"\",LEFT(referentes!AJ187,FIND(\"*-*\",referentes!AJ187)-1)),referentes!AJ187))","v":""},null,""]
[null,null,null,null,null,null,null,null,null,null,null,null,null,null,null,null,null,null,{"$f":"IF(referentes!AJ188=\"\",\"\",IF(IFERROR(SEARCH(\"*-*\",referentes!AJ188),2)=1,IF(referentes!AJ188=\"\",\"\",LEFT(referentes!AJ188,FIND(\"*-*\",referentes!AJ188)-1)),referentes!AJ188))","v":""},null,""]
[null,null,null,null,null,null,null,null,null,null,null,null,null,null,null,null,null,null,{"$f":"IF(referentes!AJ189=\"\",\"\",IF(IFERROR(SEARCH(\"*-*\",referentes!AJ189),2)=1,IF(referentes!AJ189=\"\",\"\",LEFT(referentes!AJ189,FIND(\"*-*\",referentes!AJ189)-1)),referentes!AJ189))","v":""},null,""]
[null,null,null,null,null,null,null,null,null,null,null,null,null,null,null,null,null,null,{"$f":"IF(referentes!AJ190=\"\",\"\",IF(IFERROR(SEARCH(\"*-*\",referentes!AJ190),2)=1,IF(referentes!AJ190=\"\",\"\",LEFT(referentes!AJ190,FIND(\"*-*\",referentes!AJ190)-1)),referentes!AJ190))","v":""},null,""]
[null,null,null,null,null,null,null,null,null,null,null,null,null,null,null,null,null,null,{"$f":"IF(referentes!AJ191=\"\",\"\",IF(IFERROR(SEARCH(\"*-*\",referentes!AJ191),2)=1,IF(referentes!AJ191=\"\",\"\",LEFT(referentes!AJ191,FIND(\"*-*\",referentes!AJ191)-1)),referentes!AJ191))","v":""},null,""]
[null,null,null,null,null,null,null,null,null,null,null,null,null,null,null,null,null,null,{"$f":"IF(referentes!AJ192=\"\",\"\",IF(IFERROR(SEARCH(\"*-*\",referentes!AJ192),2)=1,IF(referentes!AJ192=\"\",\"\",LEFT(referentes!AJ192,FIND(\"*-*\",referentes!AJ192)-1)),referentes!AJ192))","v":""},null,""]
[null,null,null,null,null,null,null,null,null,null,null,null,null,null,null,null,null,null,{"$f":"IF(referentes!AJ193=\"\",\"\",IF(IFERROR(SEARCH(\"*-*\",referentes!AJ193),2)=1,IF(referentes!AJ193=\"\",\"\",LEFT(referentes!AJ193,FIND(\"*-*\",referentes!AJ193)-1)),referentes!AJ193))","v":""},null,""]
[null,null,null,null,null,null,null,null,null,null,null,null,null,null,null,null,null,null,{"$f":"IF(referentes!AJ194=\"\",\"\",IF(IFERROR(SEARCH(\"*-*\",referentes!AJ194),2)=1,IF(referentes!AJ194=\"\",\"\",LEFT(referentes!AJ194,FIND(\"*-*\",referentes!AJ194)-1)),referentes!AJ194))","v":""},null,""]
[null,null,null,null,null,null,null,null,null,null,null,null,null,null,null,null,null,null,{"$f":"IF(referentes!AJ195=\"\",\"\",IF(IFERROR(SEARCH(\"*-*\",referentes!AJ195),2)=1,IF(referentes!AJ195=\"\",\"\",LEFT(referentes!AJ195,FIND(\"*-*\",referentes!AJ195)-1)),referentes!AJ195))","v":""},null,""]
[null,null,null,null,null,null,null,null,null,null,null,null,null,null,null,null,null,null,{"$f":"IF(referentes!AJ196=\"\",\"\",IF(IFERROR(SEARCH(\"*-*\",referentes!AJ196),2)=1,IF(referentes!AJ196=\"\",\"\",LEFT(referentes!AJ196,FIND(\"*-*\",referentes!AJ196)-1)),referentes!AJ196))","v":""},null,""]
[null,null,null,null,null,null,null,null,null,null,null,null,null,null,null,null,null,null,{"$f":"IF(referentes!AJ197=\"\",\"\",IF(IFERROR(SEARCH(\"*-*\",referentes!AJ197),2)=1,IF(referentes!AJ197=\"\",\"\",LEFT(referentes!AJ197,FIND(\"*-*\",referentes!AJ197)-1)),referentes!AJ197))","v":""},null,""]
[null,null,null,null,null,null,null,null,null,null,null,null,null,null,null,null,null,null,{"$f":"IF(referentes!AJ198=\"\",\"\",IF(IFERROR(SEARCH(\"*-*\",referentes!AJ198),2)=1,IF(referentes!AJ198=\"\",\"\",LEFT(referentes!AJ198,FIND(\"*-*\",referentes!AJ198)-1)),referentes!AJ198))","v":""},null,""]
[null,null,null,null,null,null,null,null,null,null,null,null,null,null,null,null,null,null,{"$f":"IF(referentes!AJ199=\"\",\"\",IF(IFERROR(SEARCH(\"*-*\",referentes!AJ199),2)=1,IF(referentes!AJ199=\"\",\"\",LEFT(referentes!AJ199,FIND(\"*-*\",referentes!AJ199)-1)),referentes!AJ199))","v":""},null,""]
[null,null,null,null,null,null,null,null,null,null,null,null,null,null,null,null,null,null,{"$f":"IF(referentes!AJ200=\"\",\"\",IF(IFERROR(SEARCH(\"*-*\",referentes!AJ200),2)=1,IF(referentes!AJ200=\"\",\"\",LEFT(referentes!AJ200,FIND(\"*-*\",referentes!AJ200)-1)),referentes!AJ200))","v":""},null,{"$f":"IF(IFERROR(T199,R199)=S199,\"\",R199)","v":""}]
[null,null,null,null,null,null,null,null,null,null,null,null,null,null,null,null,null,null,{"$f":"IF(referentes!AJ201=\"\",\"\",IF(IFERROR(SEARCH(\"*-*\",referentes!AJ201),2)=1,IF(referentes!AJ201=\"\",\"\",LEFT(referentes!AJ201,FIND(\"*-*\",referentes!AJ201)-1)),referentes!AJ201))","v":""},null,""]
[null,null,null,null,null,null,null,null,null,null,null,null,null,null,null,null,null,null,{"$f":"IF(referentes!AJ202=\"\",\"\",IF(IFERROR(SEARCH(\"*-*\",referentes!AJ202),2)=1,IF(referentes!AJ202=\"\",\"\",LEFT(referentes!AJ202,FIND(\"*-*\",referentes!AJ202)-1)),referentes!AJ202))","v":""},null,""]
[null,null,null,null,null,null,null,null,null,null,null,null,null,null,null,null,null,null,{"$f":"IF(referentes!AJ203=\"\",\"\",IF(IFERROR(SEARCH(\"*-*\",referentes!AJ203),2)=1,IF(referentes!AJ203=\"\",\"\",LEFT(referentes!AJ203,FIND(\"*-*\",referentes!AJ203)-1)),referentes!AJ203))","v":""},null,""]
[null,null,null,null,null,null,null,null,null,null,null,null,null,null,null,null,null,null,{"$f":"IF(referentes!AJ204=\"\",\"\",IF(IFERROR(SEARCH(\"*-*\",referentes!AJ204),2)=1,IF(referentes!AJ204=\"\",\"\",LEFT(referentes!AJ204,FIND(\"*-*\",referentes!AJ204)-1)),referentes!AJ204))","v":""},null,""]
[null,null,null,null,null,null,null,null,null,null,null,null,null,null,null,null,null,null,{"$f":"IF(referentes!AJ205=\"\",\"\",IF(IFERROR(SEARCH(\"*-*\",referentes!AJ205),2)=1,IF(referentes!AJ205=\"\",\"\",LEFT(referentes!AJ205,FIND(\"*-*\",referentes!AJ205)-1)),referentes!AJ205))","v":""},null,""]
[null,null,null,null,null,null,null,null,null,null,null,null,null,null,null,null,null,null,{"$f":"IF(referentes!AJ206=\"\",\"\",IF(IFERROR(SEARCH(\"*-*\",referentes!AJ206),2)=1,IF(referentes!AJ206=\"\",\"\",LEFT(referentes!AJ206,FIND(\"*-*\",referentes!AJ206)-1)),referentes!AJ206))","v":""},null,""]
[null,null,null,null,null,null,null,null,null,null,null,null,null,null,null,null,null,null,{"$f":"IF(referentes!AJ207=\"\",\"\",IF(IFERROR(SEARCH(\"*-*\",referentes!AJ207),2)=1,IF(referentes!AJ207=\"\",\"\",LEFT(referentes!AJ207,FIND(\"*-*\",referentes!AJ207)-1)),referentes!AJ207))","v":""},null,""]
[null,null,null,null,null,null,null,null,null,null,null,null,null,null,null,null,null,null,{"$f":"IF(referentes!AJ208=\"\",\"\",IF(IFERROR(SEARCH(\"*-*\",referentes!AJ208),2)=1,IF(referentes!AJ208=\"\",\"\",LEFT(referentes!AJ208,FIND(\"*-*\",referentes!AJ208)-1)),referentes!AJ208))","v":""},null,""]
[null,null,null,null,null,null,null,null,null,null,null,null,null,null,null,null,null,null,{"$f":"IF(referentes!AJ209=\"\",\"\",IF(IFERROR(SEARCH(\"*-*\",referentes!AJ209),2)=1,IF(referentes!AJ209=\"\",\"\",LEFT(referentes!AJ209,FIND(\"*-*\",referentes!AJ209)-1)),referentes!AJ209))","v":""},null,""]
[null,null,null,null,null,null,null,null,null,null,null,null,null,null,null,null,null,null,{"$f":"IF(referentes!AJ210=\"\",\"\",IF(IFERROR(SEARCH(\"*-*\",referentes!AJ210),2)=1,IF(referentes!AJ210=\"\",\"\",LEFT(referentes!AJ210,FIND(\"*-*\",referentes!AJ210)-1)),referentes!AJ210))","v":""},null,""]
[null,null,null,null,null,null,null,null,null,null,null,null,null,null,null,null,null,null,{"$f":"IF(referentes!AJ211=\"\",\"\",IF(IFERROR(SEARCH(\"*-*\",referentes!AJ211),2)=1,IF(referentes!AJ211=\"\",\"\",LEFT(referentes!AJ211,FIND(\"*-*\",referentes!AJ211)-1)),referentes!AJ211))","v":""},null,""]
[null,null,null,null,null,null,null,null,null,null,null,null,null,null,null,null,null,null,{"$f":"IF(referentes!AJ212=\"\",\"\",IF(IFERROR(SEARCH(\"*-*\",referentes!AJ212),2)=1,IF(referentes!AJ212=\"\",\"\",LEFT(referentes!AJ212,FIND(\"*-*\",referentes!AJ212)-1)),referentes!AJ212))","v":""},null,""]
[null,null,null,null,null,null,null,null,null,null,null,null,null,null,null,null,null,null,{"$f":"IF(referentes!AJ213=\"\",\"\",IF(IFERROR(SEARCH(\"*-*\",referentes!AJ213),2)=1,IF(referentes!AJ213=\"\",\"\",LEFT(referentes!AJ213,FIND(\"*-*\",referentes!AJ213)-1)),referentes!AJ213))","v":""},null,""]
[null,null,null,null,null,null,null,null,null,null,null,null,null,null,null,null,null,null,{"$f":"IF(referentes!AJ214=\"\",\"\",IF(IFERROR(SEARCH(\"*-*\",referentes!AJ214),2)=1,IF(referentes!AJ214=\"\",\"\",LEFT(referentes!AJ214,FIND(\"*-*\",referentes!AJ214)-1)),referentes!AJ214))","v":""},null,""]
[null,null,null,null,null,null,null,null,null,null,null,null,null,null,null,null,null,null,{"$f":"IF(referentes!AJ215=\"\",\"\",IF(IFERROR(SEARCH(\"*-*\",referentes!AJ215),2)=1,IF(referentes!AJ215=\"\",\"\",LEFT(referentes!AJ215,FIND(\"*-*\",referentes!AJ215)-1)),referentes!AJ215))","v":""},null,""]
[null,null,null,null,null,null,null,null,null,null,null,null,null,null,null,null,null,null,{"$f":"IF(referentes!AJ216=\"\",\"\",IF(IFERROR(SEARCH(\"*-*\",referentes!AJ216),2)=1,IF(referentes!AJ216=\"\",\"\",LEFT(referentes!AJ216,FIND(\"*-*\",referentes!AJ216)-1)),referentes!AJ216))","v":""},null,""]
[null,null,null,null,null,null,null,null,null,null,null,null,null,null,null,null,null,null,{"$f":"IF(referentes!AJ217=\"\",\"\",IF(IFERROR(SEARCH(\"*-*\",referentes!AJ217),2)=1,IF(referentes!AJ217=\"\",\"\",LEFT(referentes!AJ217,FIND(\"*-*\",referentes!AJ217)-1)),referentes!AJ217))","v":""},null,""]
[null,null,null,null,null,null,null,null,null,null,null,null,null,null,null,null,null,null,{"$f":"IF(referentes!AJ218=\"\",\"\",IF(IFERROR(SEARCH(\"*-*\",referentes!AJ218),2)=1,IF(referentes!AJ218=\"\",\"\",LEFT(referentes!AJ218,FIND(\"*-*\",referentes!AJ218)-1)),referentes!AJ218))","v":""},null,""]
[null,null,null,null,null,null,null,null,null,null,null,null,null,null,null,null,null,null,{"$f":"IF(referentes!AJ219=\"\",\"\",IF(IFERROR(SEARCH(\"*-*\",referentes!AJ219),2)=1,IF(referentes!AJ219=\"\",\"\",LEFT(referentes!AJ219,FIND(\"*-*\",referentes!AJ219)-1)),referentes!AJ219))","v":""},null,""]
[null,null,null,null,null,null,null,null,null,null,null,null,null,null,null,null,null,null,{"$f":"IF(referentes!AJ220=\"\",\"\",IF(IFERROR(SEARCH(\"*-*\",referentes!AJ220),2)=1,IF(referentes!AJ220=\"\",\"\",LEFT(referentes!AJ220,FIND(\"*-*\",referentes!AJ220)-1)),referentes!AJ220))","v":""},null,""]
[null,null,null,null,null,null,null,null,null,null,null,null,null,null,null,null,null,null,{"$f":"IF(referentes!AJ221=\"\",\"\",IF(IFERROR(SEARCH(\"*-*\",referentes!AJ221),2)=1,IF(referentes!AJ221=\"\",\"\",LEFT(referentes!AJ221,FIND(\"*-*\",referentes!AJ221)-1)),referentes!AJ221))","v":""},null,""]
[null,null,null,null,null,null,null,null,null,null,null,null,null,null,null,null,null,null,{"$f":"IF(referentes!AJ222=\"\",\"\",IF(IFERROR(SEARCH(\"*-*\",referentes!AJ222),2)=1,IF(referentes!AJ222=\"\",\"\",LEFT(referentes!AJ222,FIND(\"*-*\",referentes!AJ222)-1)),referentes!AJ222))","v":""},null,""]
[null,null,null,null,null,null,null,null,null,null,null,null,null,null,null,null,null,null,{"$f":"IF(referentes!AJ223=\"\",\"\",IF(IFERROR(SEARCH(\"*-*\",referentes!AJ223),2)=1,IF(referentes!AJ223=\"\",\"\",LEFT(referentes!AJ223,FIND(\"*-*\",referentes!AJ223)-1)),referentes!AJ223))","v":""},null,""]
[null,null,null,null,null,null,null,null,null,null,null,null,null,null,null,null,null,null,{"$f":"IF(referentes!AJ224=\"\",\"\",IF(IFERROR(SEARCH(\"*-*\",referentes!AJ224),2)=1,IF(referentes!AJ224=\"\",\"\",LEFT(referentes!AJ224,FIND(\"*-*\",referentes!AJ224)-1)),referentes!AJ224))","v":""},null,""]
[null,null,null,null,null,null,null,null,null,null,null,null,null,null,null,null,null,null,{"$f":"IF(referentes!AJ225=\"\",\"\",IF(IFERROR(SEARCH(\"*-*\",referentes!AJ225),2)=1,IF(referentes!AJ225=\"\",\"\",LEFT(referentes!AJ225,FIND(\"*-*\",referentes!AJ225)-1)),referentes!AJ225))","v":""},null,""]
[null,null,null,null,null,null,null,null,null,null,null,null,null,null,null,null,null,null,{"$f":"IF(referentes!AJ226=\"\",\"\",IF(IFERROR(SEARCH(\"*-*\",referentes!AJ226),2)=1,IF(referentes!AJ226=\"\",\"\",LEFT(referentes!AJ226,FIND(\"*-*\",referentes!AJ226)-1)),referentes!AJ226))","v":""},null,""]
[null,null,null,null,null,null,null,null,null,null,null,null,null,null,null,null,null,null,{"$f":"IF(referentes!AJ227=\"\",\"\",IF(IFERROR(SEARCH(\"*-*\",referentes!AJ227),2)=1,IF(referentes!AJ227=\"\",\"\",LEFT(referentes!AJ227,FIND(\"*-*\",referentes!AJ227)-1)),referentes!AJ227))","v":""},null,""]
[null,null,null,null,null,null,null,null,null,null,null,null,null,null,null,null,null,null,{"$f":"IF(referentes!AJ228=\"\",\"\",IF(IFERROR(SEARCH(\"*-*\",referentes!AJ228),2)=1,IF(referentes!AJ228=\"\",\"\",LEFT(referentes!AJ228,FIND(\"*-*\",referentes!AJ228)-1)),referentes!AJ228))","v":""},null,""]
[null,null,null,null,null,null,null,null,null,null,null,null,null,null,null,null,null,null,{"$f":"IF(referentes!AJ229=\"\",\"\",IF(IFERROR(SEARCH(\"*-*\",referentes!AJ229),2)=1,IF(referentes!AJ229=\"\",\"\",LEFT(referentes!AJ229,FIND(\"*-*\",referentes!AJ229)-1)),referentes!AJ229))","v":""},null,""]
[null,null,null,null,null,null,null,null,null,null,null,null,null,null,null,null,null,null,{"$f":"IF(referentes!AJ230=\"\",\"\",IF(IFERROR(SEARCH(\"*-*\",referentes!AJ230),2)=1,IF(referentes!AJ230=\"\",\"\",LEFT(referentes!AJ230,FIND(\"*-*\",referentes!AJ230)-1)),referentes!AJ230))","v":""},null,""]
[null,null,null,null,null,null,null,null,null,null,null,null,null,null,null,null,null,null,{"$f":"IF(referentes!AJ231=\"\",\"\",IF(IFERROR(SEARCH(\"*-*\",referentes!AJ231),2)=1,IF(referentes!AJ231=\"\",\"\",LEFT(referentes!AJ231,FIND(\"*-*\",referentes!AJ231)-1)),referentes!AJ231))","v":""},null,""]
[null,null,null,null,null,null,null,null,null,null,null,null,null,null,null,null,null,null,{"$f":"IF(referentes!AJ232=\"\",\"\",IF(IFERROR(SEARCH(\"*-*\",referentes!AJ232),2)=1,IF(referentes!AJ232=\"\",\"\",LEFT(referentes!AJ232,FIND(\"*-*\",referentes!AJ232)-1)),referentes!AJ232))","v":""},null,""]
[null,null,null,null,null,null,null,null,null,null,null,null,null,null,null,null,null,null,{"$f":"IF(referentes!AJ233=\"\",\"\",IF(IFERROR(SEARCH(\"*-*\",referentes!AJ233),2)=1,IF(referentes!AJ233=\"\",\"\",LEFT(referentes!AJ233,FIND(\"*-*\",referentes!AJ233)-1)),referentes!AJ233))","v":""},null,""]
[null,null,null,null,null,null,null,null,null,null,null,null,null,null,null,null,null,null,{"$f":"IF(referentes!AJ234=\"\",\"\",IF(IFERROR(SEARCH(\"*-*\",referentes!AJ234),2)=1,IF(referentes!AJ234=\"\",\"\",LEFT(referentes!AJ234,FIND(\"*-*\",referentes!AJ234)-1)),referentes!AJ234))","v":""},null,""]
[null,null,null,null,null,null,null,null,null,null,null,null,null,null,null,null,null,null,{"$f":"IF(referentes!AJ235=\"\",\"\",IF(IFERROR(SEARCH(\"*-*\",referentes!AJ235),2)=1,IF(referentes!AJ235=\"\",\"\",LEFT(referentes!AJ235,FIND(\"*-*\",referentes!AJ235)-1)),referentes!AJ235))","v":""},null,""]
[null,null,null,null,null,null,null,null,null,null,null,null,null,null,null,null,null,null,{"$f":"IF(referentes!AJ236=\"\",\"\",IF(IFERROR(SEARCH(\"*-*\",referentes!AJ236),2)=1,IF(referentes!AJ236=\"\",\"\",LEFT(referentes!AJ236,FIND(\"*-*\",referentes!AJ236)-1)),referentes!AJ236))","v":""},null,""]
[null,null,null,null,null,null,null,null,null,null,null,null,null,null,null,null,null,null,{"$f":"IF(referentes!AJ237=\"\",\"\",IF(IFERROR(SEARCH(\"*-*\",referentes!AJ237),2)=1,IF(referentes!AJ237=\"\",\"\",LEFT(referentes!AJ237,FIND(\"*-*\",referentes!AJ237)-1)),referentes!AJ237))","v":""},null,""]
[null,null,null,null,null,null,null,null,null,null,null,null,null,null,null,null,null,null,{"$f":"IF(referentes!AJ238=\"\",\"\",IF(IFERROR(SEARCH(\"*-*\",referentes!AJ238),2)=1,IF(referentes!AJ238=\"\",\"\",LEFT(referentes!AJ238,FIND(\"*-*\",referentes!AJ238)-1)),referentes!AJ238))","v":""},null,""]
[null,null,null,null,null,null,null,null,null,null,null,null,null,null,null,null,null,null,{"$f":"IF(referentes!AJ239=\"\",\"\",IF(IFERROR(SEARCH(\"*-*\",referentes!AJ239),2)=1,IF(referentes!AJ239=\"\",\"\",LEFT(referentes!AJ239,FIND(\"*-*\",referentes!AJ239)-1)),referentes!AJ239))","v":""},null,""]
[null,null,null,null,null,null,null,null,null,null,null,null,null,null,null,null,null,null,{"$f":"IF(referentes!AJ240=\"\",\"\",IF(IFERROR(SEARCH(\"*-*\",referentes!AJ240),2)=1,IF(referentes!AJ240=\"\",\"\",LEFT(referentes!AJ240,FIND(\"*-*\",referentes!AJ240)-1)),referentes!AJ240))","v":""},null,""]
[null,null,null,null,null,null,null,null,null,null,null,null,null,null,null,null,null,null,{"$f":"IF(referentes!AJ241=\"\",\"\",IF(IFERROR(SEARCH(\"*-*\",referentes!AJ241),2)=1,IF(referentes!AJ241=\"\",\"\",LEFT(referentes!AJ241,FIND(\"*-*\",referentes!AJ241)-1)),referentes!AJ241))","v":""},null,""]
[null,null,null,null,null,null,null,null,null,null,null,null,null,null,null,null,null,null,{"$f":"IF(referentes!AJ242=\"\",\"\",IF(IFERROR(SEARCH(\"*-*\",referentes!AJ242),2)=1,IF(referentes!AJ242=\"\",\"\",LEFT(referentes!AJ242,FIND(\"*-*\",referentes!AJ242)-1)),referentes!AJ242))","v":""},null,""]
[null,null,null,null,null,null,null,null,null,null,null,null,null,null,null,null,null,null,{"$f":"IF(referentes!AJ243=\"\",\"\",IF(IFERROR(SEARCH(\"*-*\",referentes!AJ243),2)=1,IF(referentes!AJ243=\"\",\"\",LEFT(referentes!AJ243,FIND(\"*-*\",referentes!AJ243)-1)),referentes!AJ243))","v":""},null,""]
[null,null,null,null,null,null,null,null,null,null,null,null,null,null,null,null,null,null,{"$f":"IF(referentes!AJ244=\"\",\"\",IF(IFERROR(SEARCH(\"*-*\",referentes!AJ244),2)=1,IF(referentes!AJ244=\"\",\"\",LEFT(referentes!AJ244,FIND(\"*-*\",referentes!AJ244)-1)),referentes!AJ244))","v":""},null,""]
[null,null,null,null,null,null,null,null,null,null,null,null,null,null,null,null,null,null,{"$f":"IF(referentes!AJ245=\"\",\"\",IF(IFERROR(SEARCH(\"*-*\",referentes!AJ245),2)=1,IF(referentes!AJ245=\"\",\"\",LEFT(referentes!AJ245,FIND(\"*-*\",referentes!AJ245)-1)),referentes!AJ245))","v":""},null,""]
[null,null,null,null,null,null,null,null,null,null,null,null,null,null,null,null,null,null,{"$f":"IF(referentes!AJ246=\"\",\"\",IF(IFERROR(SEARCH(\"*-*\",referentes!AJ246),2)=1,IF(referentes!AJ246=\"\",\"\",LEFT(referentes!AJ246,FIND(\"*-*\",referentes!AJ246)-1)),referentes!AJ246))","v":""},null,""]
[null,null,null,null,null,null,null,null,null,null,null,null,null,null,null,null,null,null,{"$f":"IF(referentes!AJ247=\"\",\"\",IF(IFERROR(SEARCH(\"*-*\",referentes!AJ247),2)=1,IF(referentes!AJ247=\"\",\"\",LEFT(referentes!AJ247,FIND(\"*-*\",referentes!AJ247)-1)),referentes!AJ247))","v":""},null,""]
[null,null,null,null,null,null,null,null,null,null,null,null,null,null,null,null,null,null,{"$f":"IF(referentes!AJ248=\"\",\"\",IF(IFERROR(SEARCH(\"*-*\",referentes!AJ248),2)=1,IF(referentes!AJ248=\"\",\"\",LEFT(referentes!AJ248,FIND(\"*-*\",referentes!AJ248)-1)),referentes!AJ248))","v":""},null,""]
[null,null,null,null,null,null,null,null,null,null,null,null,null,null,null,null,null,null,{"$f":"IF(referentes!AJ249=\"\",\"\",IF(IFERROR(SEARCH(\"*-*\",referentes!AJ249),2)=1,IF(referentes!AJ249=\"\",\"\",LEFT(referentes!AJ249,FIND(\"*-*\",referentes!AJ249)-1)),referentes!AJ249))","v":""},null,""]
[null,null,null,null,null,null,null,null,null,null,null,null,null,null,null,null,null,null,{"$f":"IF(referentes!AJ250=\"\",\"\",IF(IFERROR(SEARCH(\"*-*\",referentes!AJ250),2)=1,IF(referentes!AJ250=\"\",\"\",LEFT(referentes!AJ250,FIND(\"*-*\",referentes!AJ250)-1)),referentes!AJ250))","v":""},null,""]
[null,null,null,null,null,null,null,null,null,null,null,null,null,null,null,null,null,null,{"$f":"IF(referentes!AJ251=\"\",\"\",IF(IFERROR(SEARCH(\"*-*\",referentes!AJ251),2)=1,IF(referentes!AJ251=\"\",\"\",LEFT(referentes!AJ251,FIND(\"*-*\",referentes!AJ251)-1)),referentes!AJ251))","v":""},null,""]
[null,null,null,null,null,null,null,null,null,null,null,null,null,null,null,null,null,null,{"$f":"IF(referentes!AJ252=\"\",\"\",IF(IFERROR(SEARCH(\"*-*\",referentes!AJ252),2)=1,IF(referentes!AJ252=\"\",\"\",LEFT(referentes!AJ252,FIND(\"*-*\",referentes!AJ252)-1)),referentes!AJ252))","v":""},null,""]
[null,null,null,null,null,null,null,null,null,null,null,null,null,null,null,null,null,null,{"$f":"IF(referentes!AJ253=\"\",\"\",IF(IFERROR(SEARCH(\"*-*\",referentes!AJ253),2)=1,IF(referentes!AJ253=\"\",\"\",LEFT(referentes!AJ253,FIND(\"*-*\",referentes!AJ253)-1)),referentes!AJ253))","v":""},null,""]
[null,null,null,null,null,null,null,null,null,null,null,null,null,null,null,null,null,null,{"$f":"IF(referentes!AJ254=\"\",\"\",IF(IFERROR(SEARCH(\"*-*\",referentes!AJ254),2)=1,IF(referentes!AJ254=\"\",\"\",LEFT(referentes!AJ254,FIND(\"*-*\",referentes!AJ254)-1)),referentes!AJ254))","v":""},null,""]
[null,null,null,null,null,null,null,null,null,null,null,null,null,null,null,null,null,null,{"$f":"IF(referentes!AJ255=\"\",\"\",IF(IFERROR(SEARCH(\"*-*\",referentes!AJ255),2)=1,IF(referentes!AJ255=\"\",\"\",LEFT(referentes!AJ255,FIND(\"*-*\",referentes!AJ255)-1)),referentes!AJ255))","v":""},null,""]
[null,null,null,null,null,null,null,null,null,null,null,null,null,null,null,null,null,null,{"$f":"IF(referentes!AJ256=\"\",\"\",IF(IFERROR(SEARCH(\"*-*\",referentes!AJ256),2)=1,IF(referentes!AJ256=\"\",\"\",LEFT(referentes!AJ256,FIND(\"*-*\",referentes!AJ256)-1)),referentes!AJ256))","v":""},null,""]
[null,null,null,null,null,null,null,null,null,null,null,null,null,null,null,null,null,null,{"$f":"IF(referentes!AJ257=\"\",\"\",IF(IFERROR(SEARCH(\"*-*\",referentes!AJ257),2)=1,IF(referentes!AJ257=\"\",\"\",LEFT(referentes!AJ257,FIND(\"*-*\",referentes!AJ257)-1)),referentes!AJ257))","v":""},null,""]
[null,null,null,null,null,null,null,null,null,null,null,null,null,null,null,null,null,null,{"$f":"IF(referentes!AJ258=\"\",\"\",IF(IFERROR(SEARCH(\"*-*\",referentes!AJ258),2)=1,IF(referentes!AJ258=\"\",\"\",LEFT(referentes!AJ258,FIND(\"*-*\",referentes!AJ258)-1)),referentes!AJ258))","v":""},null,""]
[null,null,null,null,null,null,null,null,null,null,null,null,null,null,null,null,null,null,{"$f":"IF(referentes!AJ259=\"\",\"\",IF(IFERROR(SEARCH(\"*-*\",referentes!AJ259),2)=1,IF(referentes!AJ259=\"\",\"\",LEFT(referentes!AJ259,FIND(\"*-*\",referentes!AJ259)-1)),referentes!AJ259))","v":""},null,""]
[null,null,null,null,null,null,null,null,null,null,null,null,null,null,null,null,null,null,{"$f":"IF(referentes!AJ260=\"\",\"\",IF(IFERROR(SEARCH(\"*-*\",referentes!AJ260),2)=1,IF(referentes!AJ260=\"\",\"\",LEFT(referentes!AJ260,FIND(\"*-*\",referentes!AJ260)-1)),referentes!AJ260))","v":""},null,""]
[null,null,null,null,null,null,null,null,null,null,null,null,null,null,null,null,null,null,{"$f":"IF(referentes!AJ261=\"\",\"\",IF(IFERROR(SEARCH(\"*-*\",referentes!AJ261),2)=1,IF(referentes!AJ261=\"\",\"\",LEFT(referentes!AJ261,FIND(\"*-*\",referentes!AJ261)-1)),referentes!AJ261))","v":""},null,""]
[null,null,null,null,null,null,null,null,null,null,null,null,null,null,null,null,null,null,{"$f":"IF(referentes!AJ262=\"\",\"\",IF(IFERROR(SEARCH(\"*-*\",referentes!AJ262),2)=1,IF(referentes!AJ262=\"\",\"\",LEFT(referentes!AJ262,FIND(\"*-*\",referentes!AJ262)-1)),referentes!AJ262))","v":""},null,""]
[null,null,null,null,null,null,null,null,null,null,null,null,null,null,null,null,null,null,{"$f":"IF(referentes!AJ263=\"\",\"\",IF(IFERROR(SEARCH(\"*-*\",referentes!AJ263),2)=1,IF(referentes!AJ263=\"\",\"\",LEFT(referentes!AJ263,FIND(\"*-*\",referentes!AJ263)-1)),referentes!AJ263))","v":""},null,""]
[null,null,null,null,null,null,null,null,null,null,null,null,null,null,null,null,null,null,{"$f":"IF(referentes!AJ264=\"\",\"\",IF(IFERROR(SEARCH(\"*-*\",referentes!AJ264),2)=1,IF(referentes!AJ264=\"\",\"\",LEFT(referentes!AJ264,FIND(\"*-*\",referentes!AJ264)-1)),referentes!AJ264))","v":""},null,{"$f":"IF(IFERROR(T263,R263)=S263,\"\",R263)","v":""}]
[null,null,null,null,null,null,null,null,null,null,null,null,null,null,null,null,null,null,{"$f":"IF(referentes!AJ265=\"\",\"\",IF(IFERROR(SEARCH(\"*-*\",referentes!AJ265),2)=1,IF(referentes!AJ265=\"\",\"\",LEFT(referentes!AJ265,FIND(\"*-*\",referentes!AJ265)-1)),referentes!AJ265))","v":""},null,""]
[null,null,null,null,null,null,null,null,null,null,null,null,null,null,null,null,null,null,{"$f":"IF(referentes!AJ266=\"\",\"\",IF(IFERROR(SEARCH(\"*-*\",referentes!AJ266),2)=1,IF(referentes!AJ266=\"\",\"\",LEFT(referentes!AJ266,FIND(\"*-*\",referentes!AJ266)-1)),referentes!AJ266))","v":""},null,""]
[null,null,null,null,null,null,null,null,null,null,null,null,null,null,null,null,null,null,{"$f":"IF(referentes!AJ267=\"\",\"\",IF(IFERROR(SEARCH(\"*-*\",referentes!AJ267),2)=1,IF(referentes!AJ267=\"\",\"\",LEFT(referentes!AJ267,FIND(\"*-*\",referentes!AJ267)-1)),referentes!AJ267))","v":""},null,""]
[null,null,null,null,null,null,null,null,null,null,null,null,null,null,null,null,null,null,{"$f":"IF(referentes!AJ268=\"\",\"\",IF(IFERROR(SEARCH(\"*-*\",referentes!AJ268),2)=1,IF(referentes!AJ268=\"\",\"\",LEFT(referentes!AJ268,FIND(\"*-*\",referentes!AJ268)-1)),referentes!AJ268))","v":""},null,""]
[null,null,null,null,null,null,null,null,null,null,null,null,null,null,null,null,null,null,{"$f":"IF(referentes!AJ269=\"\",\"\",IF(IFERROR(SEARCH(\"*-*\",referentes!AJ269),2)=1,IF(referentes!AJ269=\"\",\"\",LEFT(referentes!AJ269,FIND(\"*-*\",referentes!AJ269)-1)),referentes!AJ269))","v":""},null,""]
[null,null,null,null,null,null,null,null,null,null,null,null,null,null,null,null,null,null,{"$f":"IF(referentes!AJ270=\"\",\"\",IF(IFERROR(SEARCH(\"*-*\",referentes!AJ270),2)=1,IF(referentes!AJ270=\"\",\"\",LEFT(referentes!AJ270,FIND(\"*-*\",referentes!AJ270)-1)),referentes!AJ270))","v":""},null,""]
[null,null,null,null,null,null,null,null,null,null,null,null,null,null,null,null,null,null,{"$f":"IF(referentes!AJ271=\"\",\"\",IF(IFERROR(SEARCH(\"*-*\",referentes!AJ271),2)=1,IF(referentes!AJ271=\"\",\"\",LEFT(referentes!AJ271,FIND(\"*-*\",referentes!AJ271)-1)),referentes!AJ271))","v":""},null,""]
[null,null,null,null,null,null,null,null,null,null,null,null,null,null,null,null,null,null,{"$f":"IF(referentes!AJ272=\"\",\"\",IF(IFERROR(SEARCH(\"*-*\",referentes!AJ272),2)=1,IF(referentes!AJ272=\"\",\"\",LEFT(referentes!AJ272,FIND(\"*-*\",referentes!AJ272)-1)),referentes!AJ272))","v":""},null,""]
[null,null,null,null,null,null,null,null,null,null,null,null,null,null,null,null,null,null,{"$f":"IF(referentes!AJ273=\"\",\"\",IF(IFERROR(SEARCH(\"*-*\",referentes!AJ273),2)=1,IF(referentes!AJ273=\"\",\"\",LEFT(referentes!AJ273,FIND(\"*-*\",referentes!AJ273)-1)),referentes!AJ273))","v":""},null,""]
[null,null,null,null,null,null,null,null,null,null,null,null,null,null,null,null,null,null,{"$f":"IF(referentes!AJ274=\"\",\"\",IF(IFERROR(SEARCH(\"*-*\",referentes!AJ274),2)=1,IF(referentes!AJ274=\"\",\"\",LEFT(referentes!AJ274,FIND(\"*-*\",referentes!AJ274)-1)),referentes!AJ274))","v":""},null,""]
[null,null,null,null,null,null,null,null,null,null,null,null,null,null,null,null,null,null,{"$f":"IF(referentes!AJ275=\"\",\"\",IF(IFERROR(SEARCH(\"*-*\",referentes!AJ275),2)=1,IF(referentes!AJ275=\"\",\"\",LEFT(referentes!AJ275,FIND(\"*-*\",referentes!AJ275)-1)),referentes!AJ275))","v":""},null,""]
[null,null,null,null,null,null,null,null,null,null,null,null,null,null,null,null,null,null,{"$f":"IF(referentes!AJ276=\"\",\"\",IF(IFERROR(SEARCH(\"*-*\",referentes!AJ276),2)=1,IF(referentes!AJ276=\"\",\"\",LEFT(referentes!AJ276,FIND(\"*-*\",referentes!AJ276)-1)),referentes!AJ276))","v":""},null,""]
[null,null,null,null,null,null,null,null,null,null,null,null,null,null,null,null,null,null,{"$f":"IF(referentes!AJ277=\"\",\"\",IF(IFERROR(SEARCH(\"*-*\",referentes!AJ277),2)=1,IF(referentes!AJ277=\"\",\"\",LEFT(referentes!AJ277,FIND(\"*-*\",referentes!AJ277)-1)),referentes!AJ277))","v":""},null,""]
[null,null,null,null,null,null,null,null,null,null,null,null,null,null,null,null,null,null,{"$f":"IF(referentes!AJ278=\"\",\"\",IF(IFERROR(SEARCH(\"*-*\",referentes!AJ278),2)=1,IF(referentes!AJ278=\"\",\"\",LEFT(referentes!AJ278,FIND(\"*-*\",referentes!AJ278)-1)),referentes!AJ278))","v":""},null,""]
[null,null,null,null,null,null,null,null,null,null,null,null,null,null,null,null,null,null,{"$f":"IF(referentes!AJ279=\"\",\"\",IF(IFERROR(SEARCH(\"*-*\",referentes!AJ279),2)=1,IF(referentes!AJ279=\"\",\"\",LEFT(referentes!AJ279,FIND(\"*-*\",referentes!AJ279)-1)),referentes!AJ279))","v":""},null,""]
[null,null,null,null,null,null,null,null,null,null,null,null,null,null,null,null,null,null,{"$f":"IF(referentes!AJ280=\"\",\"\",IF(IFERROR(SEARCH(\"*-*\",referentes!AJ280),2)=1,IF(referentes!AJ280=\"\",\"\",LEFT(referentes!AJ280,FIND(\"*-*\",referentes!AJ280)-1)),referentes!AJ280))","v":""},null,""]
[null,null,null,null,null,null,null,null,null,null,null,null,null,null,null,null,null,null,{"$f":"IF(referentes!AJ281=\"\",\"\",IF(IFERROR(SEARCH(\"*-*\",referentes!AJ281),2)=1,IF(referentes!AJ281=\"\",\"\",LEFT(referentes!AJ281,FIND(\"*-*\",referentes!AJ281)-1)),referentes!AJ281))","v":""},null,""]
[null,null,null,null,null,null,null,null,null,null,null,null,null,null,null,null,null,null,{"$f":"IF(referentes!AJ282=\"\",\"\",IF(IFERROR(SEARCH(\"*-*\",referentes!AJ282),2)=1,IF(referentes!AJ282=\"\",\"\",LEFT(referentes!AJ282,FIND(\"*-*\",referentes!AJ282)-1)),referentes!AJ282))","v":""},null,""]
[null,null,null,null,null,null,null,null,null,null,null,null,null,null,null,null,null,null,{"$f":"IF(referentes!AJ283=\"\",\"\",IF(IFERROR(SEARCH(\"*-*\",referentes!AJ283),2)=1,IF(referentes!AJ283=\"\",\"\",LEFT(referentes!AJ283,FIND(\"*-*\",referentes!AJ283)-1)),referentes!AJ283))","v":""},null,""]
[null,null,null,null,null,null,null,null,null,null,null,null,null,null,null,null,null,null,{"$f":"IF(referentes!AJ284=\"\",\"\",IF(IFERROR(SEARCH(\"*-*\",referentes!AJ284),2)=1,IF(referentes!AJ284=\"\",\"\",LEFT(referentes!AJ284,FIND(\"*-*\",referentes!AJ284)-1)),referentes!AJ284))","v":""},null,""]
[null,null,null,null,null,null,null,null,null,null,null,null,null,null,null,null,null,null,{"$f":"IF(referentes!AJ285=\"\",\"\",IF(IFERROR(SEARCH(\"*-*\",referentes!AJ285),2)=1,IF(referentes!AJ285=\"\",\"\",LEFT(referentes!AJ285,FIND(\"*-*\",referentes!AJ285)-1)),referentes!AJ285))","v":""},null,""]
[null,null,null,null,null,null,null,null,null,null,null,null,null,null,null,null,null,null,{"$f":"IF(referentes!AJ286=\"\",\"\",IF(IFERROR(SEARCH(\"*-*\",referentes!AJ286),2)=1,IF(referentes!AJ286=\"\",\"\",LEFT(referentes!AJ286,FIND(\"*-*\",referentes!AJ286)-1)),referentes!AJ286))","v":""},null,""]
[null,null,null,null,null,null,null,null,null,null,null,null,null,null,null,null,null,null,{"$f":"IF(referentes!AJ287=\"\",\"\",IF(IFERROR(SEARCH(\"*-*\",referentes!AJ287),2)=1,IF(referentes!AJ287=\"\",\"\",LEFT(referentes!AJ287,FIND(\"*-*\",referentes!AJ287)-1)),referentes!AJ287))","v":""},null,""]
[null,null,null,null,null,null,null,null,null,null,null,null,null,null,null,null,null,null,{"$f":"IF(referentes!AJ288=\"\",\"\",IF(IFERROR(SEARCH(\"*-*\",referentes!AJ288),2)=1,IF(referentes!AJ288=\"\",\"\",LEFT(referentes!AJ288,FIND(\"*-*\",referentes!AJ288)-1)),referentes!AJ288))","v":""},null,""]
[null,null,null,null,null,null,null,null,null,null,null,null,null,null,null,null,null,null,{"$f":"IF(referentes!AJ289=\"\",\"\",IF(IFERROR(SEARCH(\"*-*\",referentes!AJ289),2)=1,IF(referentes!AJ289=\"\",\"\",LEFT(referentes!AJ289,FIND(\"*-*\",referentes!AJ289)-1)),referentes!AJ289))","v":""},null,""]
[null,null,null,null,null,null,null,null,null,null,null,null,null,null,null,null,null,null,{"$f":"IF(referentes!AJ290=\"\",\"\",IF(IFERROR(SEARCH(\"*-*\",referentes!AJ290),2)=1,IF(referentes!AJ290=\"\",\"\",LEFT(referentes!AJ290,FIND(\"*-*\",referentes!AJ290)-1)),referentes!AJ290))","v":""},null,""]
[null,null,null,null,null,null,null,null,null,null,null,null,null,null,null,null,null,null,{"$f":"IF(referentes!AJ291=\"\",\"\",IF(IFERROR(SEARCH(\"*-*\",referentes!AJ291),2)=1,IF(referentes!AJ291=\"\",\"\",LEFT(referentes!AJ291,FIND(\"*-*\",referentes!AJ291)-1)),referentes!AJ291))","v":""},null,""]
[null,null,null,null,null,null,null,null,null,null,null,null,null,null,null,null,null,null,{"$f":"IF(referentes!AJ292=\"\",\"\",IF(IFERROR(SEARCH(\"*-*\",referentes!AJ292),2)=1,IF(referentes!AJ292=\"\",\"\",LEFT(referentes!AJ292,FIND(\"*-*\",referentes!AJ292)-1)),referentes!AJ292))","v":""},null,""]
[null,null,null,null,null,null,null,null,null,null,null,null,null,null,null,null,null,null,{"$f":"IF(referentes!AJ293=\"\",\"\",IF(IFERROR(SEARCH(\"*-*\",referentes!AJ293),2)=1,IF(referentes!AJ293=\"\",\"\",LEFT(referentes!AJ293,FIND(\"*-*\",referentes!AJ293)-1)),referentes!AJ293))","v":""},null,""]
[null,null,null,null,null,null,null,null,null,null,null,null,null,null,null,null,null,null,{"$f":"IF(referentes!AJ294=\"\",\"\",IF(IFERROR(SEARCH(\"*-*\",referentes!AJ294),2)=1,IF(referentes!AJ294=\"\",\"\",LEFT(referentes!AJ294,FIND(\"*-*\",referentes!AJ294)-1)),referentes!AJ294))","v":""},null,""]
[null,null,null,null,null,null,null,null,null,null,null,null,null,null,null,null,null,null,{"$f":"IF(referentes!AJ295=\"\",\"\",IF(IFERROR(SEARCH(\"*-*\",referentes!AJ295),2)=1,IF(referentes!AJ295=\"\",\"\",LEFT(referentes!AJ295,FIND(\"*-*\",referentes!AJ295)-1)),referentes!AJ295))","v":""},null,""]
[null,null,null,null,null,null,null,null,null,null,null,null,null,null,null,null,null,null,{"$f":"IF(referentes!AJ296=\"\",\"\",IF(IFERROR(SEARCH(\"*-*\",referentes!AJ296),2)=1,IF(referentes!AJ296=\"\",\"\",LEFT(referentes!AJ296,FIND(\"*-*\",referentes!AJ296)-1)),referentes!AJ296))","v":""},null,""]
[null,null,null,null,null,null,null,null,null,null,null,null,null,null,null,null,null,null,{"$f":"IF(referentes!AJ297=\"\",\"\",IF(IFERROR(SEARCH(\"*-*\",referentes!AJ297),2)=1,IF(referentes!AJ297=\"\",\"\",LEFT(referentes!AJ297,FIND(\"*-*\",referentes!AJ297)-1)),referentes!AJ297))","v":""},null,""]
[null,null,null,null,null,null,null,null,null,null,null,null,null,null,null,null,null,null,{"$f":"IF(referentes!AJ298=\"\",\"\",IF(IFERROR(SEARCH(\"*-*\",referentes!AJ298),2)=1,IF(referentes!AJ298=\"\",\"\",LEFT(referentes!AJ298,FIND(\"*-*\",referentes!AJ298)-1)),referentes!AJ298))","v":""},null,""]
[null,null,null,null,null,null,null,null,null,null,null,null,null,null,null,null,null,null,{"$f":"IF(referentes!AJ299=\"\",\"\",IF(IFERROR(SEARCH(\"*-*\",referentes!AJ299),2)=1,IF(referentes!AJ299=\"\",\"\",LEFT(referentes!AJ299,FIND(\"*-*\",referentes!AJ299)-1)),referentes!AJ299))","v":""},null,""]
[null,null,null,null,null,null,null,null,null,null,null,null,null,null,null,null,null,null,{"$f":"IF(referentes!AJ300=\"\",\"\",IF(IFERROR(SEARCH(\"*-*\",referentes!AJ300),2)=1,IF(referentes!AJ300=\"\",\"\",LEFT(referentes!AJ300,FIND(\"*-*\",referentes!AJ300)-1)),referentes!AJ300))","v":""},null,""]
[null,null,null,null,null,null,null,null,null,null,null,null,null,null,null,null,null,null,{"$f":"IF(referentes!AJ301=\"\",\"\",IF(IFERROR(SEARCH(\"*-*\",referentes!AJ301),2)=1,IF(referentes!AJ301=\"\",\"\",LEFT(referentes!AJ301,FIND(\"*-*\",referentes!AJ301)-1)),referentes!AJ301))","v":""},null,""]
[null,null,null,null,null,null,null,null,null,null,null,null,null,null,null,null,null,null,{"$f":"IF(referentes!AJ302=\"\",\"\",IF(IFERROR(SEARCH(\"*-*\",referentes!AJ302),2)=1,IF(referentes!AJ302=\"\",\"\",LEFT(referentes!AJ302,FIND(\"*-*\",referentes!AJ302)-1)),referentes!AJ302))","v":""},null,""]
[null,null,null,null,null,null,null,null,null,null,null,null,null,null,null,null,null,null,{"$f":"IF(referentes!AJ303=\"\",\"\",IF(IFERROR(SEARCH(\"*-*\",referentes!AJ303),2)=1,IF(referentes!AJ303=\"\",\"\",LEFT(referentes!AJ303,FIND(\"*-*\",referentes!AJ303)-1)),referentes!AJ303))","v":""},null,""]
[null,null,null,null,null,null,null,null,null,null,null,null,null,null,null,null,null,null,{"$f":"IF(referentes!AJ304=\"\",\"\",IF(IFERROR(SEARCH(\"*-*\",referentes!AJ304),2)=1,IF(referentes!AJ304=\"\",\"\",LEFT(referentes!AJ304,FIND(\"*-*\",referentes!AJ304)-1)),referentes!AJ304))","v":""},null,""]
[null,null,null,null,null,null,null,null,null,null,null,null,null,null,null,null,null,null,{"$f":"IF(referentes!AJ305=\"\",\"\",IF(IFERROR(SEARCH(\"*-*\",referentes!AJ305),2)=1,IF(referentes!AJ305=\"\",\"\",LEFT(referentes!AJ305,FIND(\"*-*\",referentes!AJ305)-1)),referentes!AJ305))","v":""},null,""]
[null,null,null,null,null,null,null,null,null,null,null,null,null,null,null,null,null,null,{"$f":"IF(referentes!AJ306=\"\",\"\",IF(IFERROR(SEARCH(\"*-*\",referentes!AJ306),2)=1,IF(referentes!AJ306=\"\",\"\",LEFT(referentes!AJ306,FIND(\"*-*\",referentes!AJ306)-1)),referentes!AJ306))","v":""},null,""]
[null,null,null,null,null,null,null,null,null,null,null,null,null,null,null,null,null,null,{"$f":"IF(referentes!AJ307=\"\",\"\",IF(IFERROR(SEARCH(\"*-*\",referentes!AJ307),2)=1,IF(referentes!AJ307=\"\",\"\",LEFT(referentes!AJ307,FIND(\"*-*\",referentes!AJ307)-1)),referentes!AJ307))","v":""},null,""]
[null,null,null,null,null,null,null,null,null,null,null,null,null,null,null,null,null,null,{"$f":"IF(referentes!AJ308=\"\",\"\",IF(IFERROR(SEARCH(\"*-*\",referentes!AJ308),2)=1,IF(referentes!AJ308=\"\",\"\",LEFT(referentes!AJ308,FIND(\"*-*\",referentes!AJ308)-1)),referentes!AJ308))","v":""},null,""]
[null,null,null,null,null,null,null,null,null,null,null,null,null,null,null,null,null,null,{"$f":"IF(referentes!AJ309=\"\",\"\",IF(IFERROR(SEARCH(\"*-*\",referentes!AJ309),2)=1,IF(referentes!AJ309=\"\",\"\",LEFT(referentes!AJ309,FIND(\"*-*\",referentes!AJ309)-1)),referentes!AJ309))","v":""},null,""]
[null,null,null,null,null,null,null,null,null,null,null,null,null,null,null,null,null,null,{"$f":"IF(referentes!AJ310=\"\",\"\",IF(IFERROR(SEARCH(\"*-*\",referentes!AJ310),2)=1,IF(referentes!AJ310=\"\",\"\",LEFT(referentes!AJ310,FIND(\"*-*\",referentes!AJ310)-1)),referentes!AJ310))","v":""},null,""]
[null,null,null,null,null,null,null,null,null,null,null,null,null,null,null,null,null,null,{"$f":"IF(referentes!AJ311=\"\",\"\",IF(IFERROR(SEARCH(\"*-*\",referentes!AJ311),2)=1,IF(referentes!AJ311=\"\",\"\",LEFT(referentes!AJ311,FIND(\"*-*\",referentes!AJ311)-1)),referentes!AJ311))","v":""},null,""]
[null,null,null,null,null,null,null,null,null,null,null,null,null,null,null,null,null,null,{"$f":"IF(referentes!AJ312=\"\",\"\",IF(IFERROR(SEARCH(\"*-*\",referentes!AJ312),2)=1,IF(referentes!AJ312=\"\",\"\",LEFT(referentes!AJ312,FIND(\"*-*\",referentes!AJ312)-1)),referentes!AJ312))","v":""},null,""]
[null,null,null,null,null,null,null,null,null,null,null,null,null,null,null,null,null,null,{"$f":"IF(referentes!AJ313=\"\",\"\",IF(IFERROR(SEARCH(\"*-*\",referentes!AJ313),2)=1,IF(referentes!AJ313=\"\",\"\",LEFT(referentes!AJ313,FIND(\"*-*\",referentes!AJ313)-1)),referentes!AJ313))","v":""},null,""]
[null,null,null,null,null,null,null,null,null,null,null,null,null,null,null,null,null,null,{"$f":"IF(referentes!AJ314=\"\",\"\",IF(IFERROR(SEARCH(\"*-*\",referentes!AJ314),2)=1,IF(referentes!AJ314=\"\",\"\",LEFT(referentes!AJ314,FIND(\"*-*\",referentes!AJ314)-1)),referentes!AJ314))","v":""},null,""]
[null,null,null,null,null,null,null,null,null,null,null,null,null,null,null,null,null,null,{"$f":"IF(referentes!AJ315=\"\",\"\",IF(IFERROR(SEARCH(\"*-*\",referentes!AJ315),2)=1,IF(referentes!AJ315=\"\",\"\",LEFT(referentes!AJ315,FIND(\"*-*\",referentes!AJ315)-1)),referentes!AJ315))","v":""},null,""]
[null,null,null,null,null,null,null,null,null,null,null,null,null,null,null,null,null,null,{"$f":"IF(referentes!AJ316=\"\",\"\",IF(IFERROR(SEARCH(\"*-*\",referentes!AJ316),2)=1,IF(referentes!AJ316=\"\",\"\",LEFT(referentes!AJ316,FIND(\"*-*\",referentes!AJ316)-1)),referentes!AJ316))","v":""},null,""]
[null,null,null,null,null,null,null,null,null,null,null,null,null,null,null,null,null,null,{"$f":"IF(referentes!AJ317=\"\",\"\",IF(IFERROR(SEARCH(\"*-*\",referentes!AJ317),2)=1,IF(referentes!AJ317=\"\",\"\",LEFT(referentes!AJ317,FIND(\"*-*\",referentes!AJ317)-1)),referentes!AJ317))","v":""},null,""]
[null,null,null,null,null,null,null,null,null,null,null,null,null,null,null,null,null,null,{"$f":"IF(referentes!AJ318=\"\",\"\",IF(IFERROR(SEARCH(\"*-*\",referentes!AJ318),2)=1,IF(referentes!AJ318=\"\",\"\",LEFT(referentes!AJ318,FIND(\"*-*\",referentes!AJ318)-1)),referentes!AJ318))","v":""},null,""]
[null,null,null,null,null,null,null,null,null,null,null,null,null,null,null,null,null,null,{"$f":"IF(referentes!AJ319=\"\",\"\",IF(IFERROR(SEARCH(\"*-*\",referentes!AJ319),2)=1,IF(referentes!AJ319=\"\",\"\",LEFT(referentes!AJ319,FIND(\"*-*\",referentes!AJ319)-1)),referentes!AJ319))","v":""},null,""]
[null,null,null,null,null,null,null,null,null,null,null,null,null,null,null,null,null,null,{"$f":"IF(referentes!AJ320=\"\",\"\",IF(IFERROR(SEARCH(\"*-*\",referentes!AJ320),2)=1,IF(referentes!AJ320=\"\",\"\",LEFT(referentes!AJ320,FIND(\"*-*\",referentes!AJ320)-1)),referentes!AJ320))","v":""},null,""]
[null,null,null,null,null,null,null,null,null,null,null,null,null,null,null,null,null,null,{"$f":"IF(referentes!AJ321=\"\",\"\",IF(IFERROR(SEARCH(\"*-*\",referentes!AJ321),2)=1,IF(referentes!AJ321=\"\",\"\",LEFT(referentes!AJ321,FIND(\"*-*\",referentes!AJ321)-1)),referentes!AJ321))","v":""},null,""]
[null,null,null,null,null,null,null,null,null,null,null,null,null,null,null,null,null,null,{"$f":"IF(referentes!AJ322=\"\",\"\",IF(IFERROR(SEARCH(\"*-*\",referentes!AJ322),2)=1,IF(referentes!AJ322=\"\",\"\",LEFT(referentes!AJ322,FIND(\"*-*\",referentes!AJ322)-1)),referentes!AJ322))","v":""},null,""]
[null,null,null,null,null,null,null,null,null,null,null,null,null,null,null,null,null,null,{"$f":"IF(referentes!AJ323=\"\",\"\",IF(IFERROR(SEARCH(\"*-*\",referentes!AJ323),2)=1,IF(referentes!AJ323=\"\",\"\",LEFT(referentes!AJ323,FIND(\"*-*\",referentes!AJ323)-1)),referentes!AJ323))","v":""},null,""]
[null,null,null,null,null,null,null,null,null,null,null,null,null,null,null,null,null,null,{"$f":"IF(referentes!AJ324=\"\",\"\",IF(IFERROR(SEARCH(\"*-*\",referentes!AJ324),2)=1,IF(referentes!AJ324=\"\",\"\",LEFT(referentes!AJ324,FIND(\"*-*\",referentes!AJ324)-1)),referentes!AJ324))","v":""},null,""]
[null,null,null,null,null,null,null,null,null,null,null,null,null,null,null,null,null,null,{"$f":"IF(referentes!AJ325=\"\",\"\",IF(IFERROR(SEARCH(\"*-*\",referentes!AJ325),2)=1,IF(referentes!AJ325=\"\",\"\",LEFT(referentes!AJ325,FIND(\"*-*\",referentes!AJ325)-1)),referentes!AJ325))","v":""},null,""]
[null,null,null,null,null,null,null,null,null,null,null,null,null,null,null,null,null,null,{"$f":"IF(referentes!AJ326=\"\",\"\",IF(IFERROR(SEARCH(\"*-*\",referentes!AJ326),2)=1,IF(referentes!AJ326=\"\",\"\",LEFT(referentes!AJ326,FIND(\"*-*\",referentes!AJ326)-1)),referentes!AJ326))","v":""},null,""]
[null,null,null,null,null,null,null,null,null,null,null,null,null,null,null,null,null,null,{"$f":"IF(referentes!AJ327=\"\",\"\",IF(IFERROR(SEARCH(\"*-*\",referentes!AJ327),2)=1,IF(referentes!AJ327=\"\",\"\",LEFT(referentes!AJ327,FIND(\"*-*\",referentes!AJ327)-1)),referentes!AJ327))","v":""},null,""]
[null,null,null,null,null,null,null,null,null,null,null,null,null,null,null,null,null,null,{"$f":"IF(referentes!AJ328=\"\",\"\",IF(IFERROR(SEARCH(\"*-*\",referentes!AJ328),2)=1,IF(referentes!AJ328=\"\",\"\",LEFT(referentes!AJ328,FIND(\"*-*\",referentes!AJ328)-1)),referentes!AJ328))","v":""},null,{"$f":"IF(IFERROR(T327,R327)=S327,\"\",R327)","v":""}]
[null,null,null,null,null,null,null,null,null,null,null,null,null,null,null,null,null,null,{"$f":"IF(referentes!AJ329=\"\",\"\",IF(IFERROR(SEARCH(\"*-*\",referentes!AJ329),2)=1,IF(referentes!AJ329=\"\",\"\",LEFT(referentes!AJ329,FIND(\"*-*\",referentes!AJ329)-1)),referentes!AJ329))","v":""},null,""]
[null,null,null,null,null,null,null,null,null,null,null,null,null,null,null,null,null,null,{"$f":"IF(referentes!AJ330=\"\",\"\",IF(IFERROR(SEARCH(\"*-*\",referentes!AJ330),2)=1,IF(referentes!AJ330=\"\",\"\",LEFT(referentes!AJ330,FIND(\"*-*\",referentes!AJ330)-1)),referentes!AJ330))","v":""},null,""]
[null,null,null,null,null,null,null,null,null,null,null,null,null,null,null,null,null,null,{"$f":"IF(referentes!AJ331=\"\",\"\",IF(IFERROR(SEARCH(\"*-*\",referentes!AJ331),2)=1,IF(referentes!AJ331=\"\",\"\",LEFT(referentes!AJ331,FIND(\"*-*\",referentes!AJ331)-1)),referentes!AJ331))","v":""},null,""]
[null,null,null,null,null,null,null,null,null,null,null,null,null,null,null,null,null,null,{"$f":"IF(referentes!AJ332=\"\",\"\",IF(IFERROR(SEARCH(\"*-*\",referentes!AJ332),2)=1,IF(referentes!AJ332=\"\",\"\",LEFT(referentes!AJ332,FIND(\"*-*\",referentes!AJ332)-1)),referentes!AJ332))","v":""},null,""]
[null,null,null,null,null,null,null,null,null,null,null,null,null,null,null,null,null,null,{"$f":"IF(referentes!AJ333=\"\",\"\",IF(IFERROR(SEARCH(\"*-*\",referentes!AJ333),2)=1,IF(referentes!AJ333=\"\",\"\",LEFT(referentes!AJ333,FIND(\"*-*\",referentes!AJ333)-1)),referentes!AJ333))","v":""},null,""]
[null,null,null,null,null,null,null,null,null,null,null,null,null,null,null,null,null,null,{"$f":"IF(referentes!AJ334=\"\",\"\",IF(IFERROR(SEARCH(\"*-*\",referentes!AJ334),2)=1,IF(referentes!AJ334=\"\",\"\",LEFT(referentes!AJ334,FIND(\"*-*\",referentes!AJ334)-1)),referentes!AJ334))","v":""},null,""]
[null,null,null,null,null,null,null,null,null,null,null,null,null,null,null,null,null,null,{"$f":"IF(referentes!AJ335=\"\",\"\",IF(IFERROR(SEARCH(\"*-*\",referentes!AJ335),2)=1,IF(referentes!AJ335=\"\",\"\",LEFT(referentes!AJ335,FIND(\"*-*\",referentes!AJ335)-1)),referentes!AJ335))","v":""},null,""]
[null,null,null,null,null,null,null,null,null,null,null,null,null,null,null,null,null,null,{"$f":"IF(referentes!AJ336=\"\",\"\",IF(IFERROR(SEARCH(\"*-*\",referentes!AJ336),2)=1,IF(referentes!AJ336=\"\",\"\",LEFT(referentes!AJ336,FIND(\"*-*\",referentes!AJ336)-1)),referentes!AJ336))","v":""},null,""]
[null,null,null,null,null,null,null,null,null,null,null,null,null,null,null,null,null,null,{"$f":"IF(referentes!AJ337=\"\",\"\",IF(IFERROR(SEARCH(\"*-*\",referentes!AJ337),2)=1,IF(referentes!AJ337=\"\",\"\",LEFT(referentes!AJ337,FIND(\"*-*\",referentes!AJ337)-1)),referentes!AJ337))","v":""},null,""]
[null,null,null,null,null,null,null,null,null,null,null,null,null,null,null,null,null,null,{"$f":"IF(referentes!AJ338=\"\",\"\",IF(IFERROR(SEARCH(\"*-*\",referentes!AJ338),2)=1,IF(referentes!AJ338=\"\",\"\",LEFT(referentes!AJ338,FIND(\"*-*\",referentes!AJ338)-1)),referentes!AJ338))","v":""},null,""]
[null,null,null,null,null,null,null,null,null,null,null,null,null,null,null,null,null,null,{"$f":"IF(referentes!AJ339=\"\",\"\",IF(IFERROR(SEARCH(\"*-*\",referentes!AJ339),2)=1,IF(referentes!AJ339=\"\",\"\",LEFT(referentes!AJ339,FIND(\"*-*\",referentes!AJ339)-1)),referentes!AJ339))","v":""},null,""]
[null,null,null,null,null,null,null,null,null,null,null,null,null,null,null,null,null,null,{"$f":"IF(referentes!AJ340=\"\",\"\",IF(IFERROR(SEARCH(\"*-*\",referentes!AJ340),2)=1,IF(referentes!AJ340=\"\",\"\",LEFT(referentes!AJ340,FIND(\"*-*\",referentes!AJ340)-1)),referentes!AJ340))","v":""},null,""]
[null,null,null,null,null,null,null,null,null,null,null,null,null,null,null,null,null,null,{"$f":"IF(referentes!AJ341=\"\",\"\",IF(IFERROR(SEARCH(\"*-*\",referentes!AJ341),2)=1,IF(referentes!AJ341=\"\",\"\",LEFT(referentes!AJ341,FIND(\"*-*\",referentes!AJ341)-1)),referentes!AJ341))","v":""},null,""]
[null,null,null,null,null,null,null,null,null,null,null,null,null,null,null,null,null,null,{"$f":"IF(referentes!AJ342=\"\",\"\",IF(IFERROR(SEARCH(\"*-*\",referentes!AJ342),2)=1,IF(referentes!AJ342=\"\",\"\",LEFT(referentes!AJ342,FIND(\"*-*\",referentes!AJ342)-1)),referentes!AJ342))","v":""},null,""]
[null,null,null,null,null,null,null,null,null,null,null,null,null,null,null,null,null,null,{"$f":"IF(referentes!AJ343=\"\",\"\",IF(IFERROR(SEARCH(\"*-*\",referentes!AJ343),2)=1,IF(referentes!AJ343=\"\",\"\",LEFT(referentes!AJ343,FIND(\"*-*\",referentes!AJ343)-1)),referentes!AJ343))","v":""},null,""]
[null,null,null,null,null,null,null,null,null,null,null,null,null,null,null,null,null,null,{"$f":"IF(referentes!AJ344=\"\",\"\",IF(IFERROR(SEARCH(\"*-*\",referentes!AJ344),2)=1,IF(referentes!AJ344=\"\",\"\",LEFT(referentes!AJ344,FIND(\"*-*\",referentes!AJ344)-1)),referentes!AJ344))","v":""},null,""]
[null,null,null,null,null,null,null,null,null,null,null,null,null,null,null,null,null,null,{"$f":"IF(referentes!AJ345=\"\",\"\",IF(IFERROR(SEARCH(\"*-*\",referentes!AJ345),2)=1,IF(referentes!AJ345=\"\",\"\",LEFT(referentes!AJ345,FIND(\"*-*\",referentes!AJ345)-1)),referentes!AJ345))","v":""},null,""]
[null,null,null,null,null,null,null,null,null,null,null,null,null,null,null,null,null,null,{"$f":"IF(referentes!AJ346=\"\",\"\",IF(IFERROR(SEARCH(\"*-*\",referentes!AJ346),2)=1,IF(referentes!AJ346=\"\",\"\",LEFT(referentes!AJ346,FIND(\"*-*\",referentes!AJ346)-1)),referentes!AJ346))","v":""},null,""]
[null,null,null,null,null,null,null,null,null,null,null,null,null,null,null,null,null,null,{"$f":"IF(referentes!AJ347=\"\",\"\",IF(IFERROR(SEARCH(\"*-*\",referentes!AJ347),2)=1,IF(referentes!AJ347=\"\",\"\",LEFT(referentes!AJ347,FIND(\"*-*\",referentes!AJ347)-1)),referentes!AJ347))","v":""},null,""]
[null,null,null,null,null,null,null,null,null,null,null,null,null,null,null,null,null,null,{"$f":"IF(referentes!AJ348=\"\",\"\",IF(IFERROR(SEARCH(\"*-*\",referentes!AJ348),2)=1,IF(referentes!AJ348=\"\",\"\",LEFT(referentes!AJ348,FIND(\"*-*\",referentes!AJ348)-1)),referentes!AJ348))","v":""},null,""]
[null,null,null,null,null,null,null,null,null,null,null,null,null,null,null,null,null,null,{"$f":"IF(referentes!AJ349=\"\",\"\",IF(IFERROR(SEARCH(\"*-*\",referentes!AJ349),2)=1,IF(referentes!AJ349=\"\",\"\",LEFT(referentes!AJ349,FIND(\"*-*\",referentes!AJ349)-1)),referentes!AJ349))","v":""},null,""]
[null,null,null,null,null,null,null,null,null,null,null,null,null,null,null,null,null,null,{"$f":"IF(referentes!AJ350=\"\",\"\",IF(IFERROR(SEARCH(\"*-*\",referentes!AJ350),2)=1,IF(referentes!AJ350=\"\",\"\",LEFT(referentes!AJ350,FIND(\"*-*\",referentes!AJ350)-1)),referentes!AJ350))","v":""},null,""]
[null,null,null,null,null,null,null,null,null,null,null,null,null,null,null,null,null,null,{"$f":"IF(referentes!AJ351=\"\",\"\",IF(IFERROR(SEARCH(\"*-*\",referentes!AJ351),2)=1,IF(referentes!AJ351=\"\",\"\",LEFT(referentes!AJ351,FIND(\"*-*\",referentes!AJ351)-1)),referentes!AJ351))","v":""},null,""]
[null,null,null,null,null,null,null,null,null,null,null,null,null,null,null,null,null,null,{"$f":"IF(referentes!AJ352=\"\",\"\",IF(IFERROR(SEARCH(\"*-*\",referentes!AJ352),2)=1,IF(referentes!AJ352=\"\",\"\",LEFT(referentes!AJ352,FIND(\"*-*\",referentes!AJ352)-1)),referentes!AJ352))","v":""},null,""]
[null,null,null,null,null,null,null,null,null,null,null,null,null,null,null,null,null,null,{"$f":"IF(referentes!AJ353=\"\",\"\",IF(IFERROR(SEARCH(\"*-*\",referentes!AJ353),2)=1,IF(referentes!AJ353=\"\",\"\",LEFT(referentes!AJ353,FIND(\"*-*\",referentes!AJ353)-1)),referentes!AJ353))","v":""},null,""]
[null,null,null,null,null,null,null,null,null,null,null,null,null,null,null,null,null,null,{"$f":"IF(referentes!AJ354=\"\",\"\",IF(IFERROR(SEARCH(\"*-*\",referentes!AJ354),2)=1,IF(referentes!AJ354=\"\",\"\",LEFT(referentes!AJ354,FIND(\"*-*\",referentes!AJ354)-1)),referentes!AJ354))","v":""},null,""]
[null,null,null,null,null,null,null,null,null,null,null,null,null,null,null,null,null,null,{"$f":"IF(referentes!AJ355=\"\",\"\",IF(IFERROR(SEARCH(\"*-*\",referentes!AJ355),2)=1,IF(referentes!AJ355=\"\",\"\",LEFT(referentes!AJ355,FIND(\"*-*\",referentes!AJ355)-1)),referentes!AJ355))","v":""},null,""]
[null,null,null,null,null,null,null,null,null,null,null,null,null,null,null,null,null,null,{"$f":"IF(referentes!AJ356=\"\",\"\",IF(IFERROR(SEARCH(\"*-*\",referentes!AJ356),2)=1,IF(referentes!AJ356=\"\",\"\",LEFT(referentes!AJ356,FIND(\"*-*\",referentes!AJ356)-1)),referentes!AJ356))","v":""},null,""]
[null,null,null,null,null,null,null,null,null,null,null,null,null,null,null,null,null,null,{"$f":"IF(referentes!AJ357=\"\",\"\",IF(IFERROR(SEARCH(\"*-*\",referentes!AJ357),2)=1,IF(referentes!AJ357=\"\",\"\",LEFT(referentes!AJ357,FIND(\"*-*\",referentes!AJ357)-1)),referentes!AJ357))","v":""},null,""]
[null,null,null,null,null,null,null,null,null,null,null,null,null,null,null,null,null,null,{"$f":"IF(referentes!AJ358=\"\",\"\",IF(IFERROR(SEARCH(\"*-*\",referentes!AJ358),2)=1,IF(referentes!AJ358=\"\",\"\",LEFT(referentes!AJ358,FIND(\"*-*\",referentes!AJ358)-1)),referentes!AJ358))","v":""},null,""]
[null,null,null,null,null,null,null,null,null,null,null,null,null,null,null,null,null,null,{"$f":"IF(referentes!AJ359=\"\",\"\",IF(IFERROR(SEARCH(\"*-*\",referentes!AJ359),2)=1,IF(referentes!AJ359=\"\",\"\",LEFT(referentes!AJ359,FIND(\"*-*\",referentes!AJ359)-1)),referentes!AJ359))","v":""},null,""]
[null,null,null,null,null,null,null,null,null,null,null,null,null,null,null,null,null,null,{"$f":"IF(referentes!AJ360=\"\",\"\",IF(IFERROR(SEARCH(\"*-*\",referentes!AJ360),2)=1,IF(referentes!AJ360=\"\",\"\",LEFT(referentes!AJ360,FIND(\"*-*\",referentes!AJ360)-1)),referentes!AJ360))","v":""},null,""]
[null,null,null,null,null,null,null,null,null,null,null,null,null,null,null,null,null,null,{"$f":"IF(referentes!AJ361=\"\",\"\",IF(IFERROR(SEARCH(\"*-*\",referentes!AJ361),2)=1,IF(referentes!AJ361=\"\",\"\",LEFT(referentes!AJ361,FIND(\"*-*\",referentes!AJ361)-1)),referentes!AJ361))","v":""},null,""]
[null,null,null,null,null,null,null,null,null,null,null,null,null,null,null,null,null,null,{"$f":"IF(referentes!AJ362=\"\",\"\",IF(IFERROR(SEARCH(\"*-*\",referentes!AJ362),2)=1,IF(referentes!AJ362=\"\",\"\",LEFT(referentes!AJ362,FIND(\"*-*\",referentes!AJ362)-1)),referentes!AJ362))","v":""},null,""]
[null,null,null,null,null,null,null,null,null,null,null,null,null,null,null,null,null,null,{"$f":"IF(referentes!AJ363=\"\",\"\",IF(IFERROR(SEARCH(\"*-*\",referentes!AJ363),2)=1,IF(referentes!AJ363=\"\",\"\",LEFT(referentes!AJ363,FIND(\"*-*\",referentes!AJ363)-1)),referentes!AJ363))","v":""},null,""]
[null,null,null,null,null,null,null,null,null,null,null,null,null,null,null,null,null,null,{"$f":"IF(referentes!AJ364=\"\",\"\",IF(IFERROR(SEARCH(\"*-*\",referentes!AJ364),2)=1,IF(referentes!AJ364=\"\",\"\",LEFT(referentes!AJ364,FIND(\"*-*\",referentes!AJ364)-1)),referentes!AJ364))","v":""},null,""]
[null,null,null,null,null,null,null,null,null,null,null,null,null,null,null,null,null,null,{"$f":"IF(referentes!AJ365=\"\",\"\",IF(IFERROR(SEARCH(\"*-*\",referentes!AJ365),2)=1,IF(referentes!AJ365=\"\",\"\",LEFT(referentes!AJ365,FIND(\"*-*\",referentes!AJ365)-1)),referentes!AJ365))","v":""},null,""]
[null,null,null,null,null,null,null,null,null,null,null,null,null,null,null,null,null,null,{"$f":"IF(referentes!AJ366=\"\",\"\",IF(IFERROR(SEARCH(\"*-*\",referentes!AJ366),2)=1,IF(referentes!AJ366=\"\",\"\",LEFT(referentes!AJ366,FIND(\"*-*\",referentes!AJ366)-1)),referentes!AJ366))","v":""},null,""]
[null,null,null,null,null,null,null,null,null,null,null,null,null,null,null,null,null,null,{"$f":"IF(referentes!AJ367=\"\",\"\",IF(IFERROR(SEARCH(\"*-*\",referentes!AJ367),2)=1,IF(referentes!AJ367=\"\",\"\",LEFT(referentes!AJ367,FIND(\"*-*\",referentes!AJ367)-1)),referentes!AJ367))","v":""},null,""]
[null,null,null,null,null,null,null,null,null,null,null,null,null,null,null,null,null,null,{"$f":"IF(referentes!AJ368=\"\",\"\",IF(IFERROR(SEARCH(\"*-*\",referentes!AJ368),2)=1,IF(referentes!AJ368=\"\",\"\",LEFT(referentes!AJ368,FIND(\"*-*\",referentes!AJ368)-1)),referentes!AJ368))","v":""},null,""]
[null,null,null,null,null,null,null,null,null,null,null,null,null,null,null,null,null,null,{"$f":"IF(referentes!AJ369=\"\",\"\",IF(IFERROR(SEARCH(\"*-*\",referentes!AJ369),2)=1,IF(referentes!AJ369=\"\",\"\",LEFT(referentes!AJ369,FIND(\"*-*\",referentes!AJ369)-1)),referentes!AJ369))","v":""},null,""]
[null,null,null,null,null,null,null,null,null,null,null,null,null,null,null,null,null,null,{"$f":"IF(referentes!AJ370=\"\",\"\",IF(IFERROR(SEARCH(\"*-*\",referentes!AJ370),2)=1,IF(referentes!AJ370=\"\",\"\",LEFT(referentes!AJ370,FIND(\"*-*\",referentes!AJ370)-1)),referentes!AJ370))","v":""},null,""]
[null,null,null,null,null,null,null,null,null,null,null,null,null,null,null,null,null,null,{"$f":"IF(referentes!AJ371=\"\",\"\",IF(IFERROR(SEARCH(\"*-*\",referentes!AJ371),2)=1,IF(referentes!AJ371=\"\",\"\",LEFT(referentes!AJ371,FIND(\"*-*\",referentes!AJ371)-1)),referentes!AJ371))","v":""},null,""]
[null,null,null,null,null,null,null,null,null,null,null,null,null,null,null,null,null,null,{"$f":"IF(referentes!AJ372=\"\",\"\",IF(IFERROR(SEARCH(\"*-*\",referentes!AJ372),2)=1,IF(referentes!AJ372=\"\",\"\",LEFT(referentes!AJ372,FIND(\"*-*\",referentes!AJ372)-1)),referentes!AJ372))","v":""},null,""]
[null,null,null,null,null,null,null,null,null,null,null,null,null,null,null,null,null,null,{"$f":"IF(referentes!AJ373=\"\",\"\",IF(IFERROR(SEARCH(\"*-*\",referentes!AJ373),2)=1,IF(referentes!AJ373=\"\",\"\",LEFT(referentes!AJ373,FIND(\"*-*\",referentes!AJ373)-1)),referentes!AJ373))","v":""},null,""]
[null,null,null,null,null,null,null,null,null,null,null,null,null,null,null,null,null,null,{"$f":"IF(referentes!AJ374=\"\",\"\",IF(IFERROR(SEARCH(\"*-*\",referentes!AJ374),2)=1,IF(referentes!AJ374=\"\",\"\",LEFT(referentes!AJ374,FIND(\"*-*\",referentes!AJ374)-1)),referentes!AJ374))","v":""},null,""]
[null,null,null,null,null,null,null,null,null,null,null,null,null,null,null,null,null,null,{"$f":"IF(referentes!AJ375=\"\",\"\",IF(IFERROR(SEARCH(\"*-*\",referentes!AJ375),2)=1,IF(referentes!AJ375=\"\",\"\",LEFT(referentes!AJ375,FIND(\"*-*\",referentes!AJ375)-1)),referentes!AJ375))","v":""},null,""]
[null,null,null,null,null,null,null,null,null,null,null,null,null,null,null,null,null,null,{"$f":"IF(referentes!AJ376=\"\",\"\",IF(IFERROR(SEARCH(\"*-*\",referentes!AJ376),2)=1,IF(referentes!AJ376=\"\",\"\",LEFT(referentes!AJ376,FIND(\"*-*\",referentes!AJ376)-1)),referentes!AJ376))","v":""},null,""]
[null,null,null,null,null,null,null,null,null,null,null,null,null,null,null,null,null,null,{"$f":"IF(referentes!AJ377=\"\",\"\",IF(IFERROR(SEARCH(\"*-*\",referentes!AJ377),2)=1,IF(referentes!AJ377=\"\",\"\",LEFT(referentes!AJ377,FIND(\"*-*\",referentes!AJ377)-1)),referentes!AJ377))","v":""},null,""]
[null,null,null,null,null,null,null,null,null,null,null,null,null,null,null,null,null,null,{"$f":"IF(referentes!AJ378=\"\",\"\",IF(IFERROR(SEARCH(\"*-*\",referentes!AJ378),2)=1,IF(referentes!AJ378=\"\",\"\",LEFT(referentes!AJ378,FIND(\"*-*\",referentes!AJ378)-1)),referentes!AJ378))","v":""},null,""]
[null,null,null,null,null,null,null,null,null,null,null,null,null,null,null,null,null,null,{"$f":"IF(referentes!AJ379=\"\",\"\",IF(IFERROR(SEARCH(\"*-*\",referentes!AJ379),2)=1,IF(referentes!AJ379=\"\",\"\",LEFT(referentes!AJ379,FIND(\"*-*\",referentes!AJ379)-1)),referentes!AJ379))","v":""},null,""]
[null,null,null,null,null,null,null,null,null,null,null,null,null,null,null,null,null,null,{"$f":"IF(referentes!AJ380=\"\",\"\",IF(IFERROR(SEARCH(\"*-*\",referentes!AJ380),2)=1,IF(referentes!AJ380=\"\",\"\",LEFT(referentes!AJ380,FIND(\"*-*\",referentes!AJ380)-1)),referentes!AJ380))","v":""},null,""]
[null,null,null,null,null,null,null,null,null,null,null,null,null,null,null,null,null,null,{"$f":"IF(referentes!AJ381=\"\",\"\",IF(IFERROR(SEARCH(\"*-*\",referentes!AJ381),2)=1,IF(referentes!AJ381=\"\",\"\",LEFT(referentes!AJ381,FIND(\"*-*\",referentes!AJ381)-1)),referentes!AJ381))","v":""},null,""]
[null,null,null,null,null,null,null,null,null,null,null,null,null,null,null,null,null,null,{"$f":"IF(referentes!AJ382=\"\",\"\",IF(IFERROR(SEARCH(\"*-*\",referentes!AJ382),2)=1,IF(referentes!AJ382=\"\",\"\",LEFT(referentes!AJ382,FIND(\"*-*\",referentes!AJ382)-1)),referentes!AJ382))","v":""},null,""]
[null,null,null,null,null,null,null,null,null,null,null,null,null,null,null,null,null,null,{"$f":"IF(referentes!AJ383=\"\",\"\",IF(IFERROR(SEARCH(\"*-*\",referentes!AJ383),2)=1,IF(referentes!AJ383=\"\",\"\",LEFT(referentes!AJ383,FIND(\"*-*\",referentes!AJ383)-1)),referentes!AJ383))","v":""},null,""]
[null,null,null,null,null,null,null,null,null,null,null,null,null,null,null,null,null,null,{"$f":"IF(referentes!AJ384=\"\",\"\",IF(IFERROR(SEARCH(\"*-*\",referentes!AJ384),2)=1,IF(referentes!AJ384=\"\",\"\",LEFT(referentes!AJ384,FIND(\"*-*\",referentes!AJ384)-1)),referentes!AJ384))","v":""},null,""]
[null,null,null,null,null,null,null,null,null,null,null,null,null,null,null,null,null,null,{"$f":"IF(referentes!AJ385=\"\",\"\",IF(IFERROR(SEARCH(\"*-*\",referentes!AJ385),2)=1,IF(referentes!AJ385=\"\",\"\",LEFT(referentes!AJ385,FIND(\"*-*\",referentes!AJ385)-1)),referentes!AJ385))","v":""},null,""]
[null,null,null,null,null,null,null,null,null,null,null,null,null,null,null,null,null,null,{"$f":"IF(referentes!AJ386=\"\",\"\",IF(IFERROR(SEARCH(\"*-*\",referentes!AJ386),2)=1,IF(referentes!AJ386=\"\",\"\",LEFT(referentes!AJ386,FIND(\"*-*\",referentes!AJ386)-1)),referentes!AJ386))","v":""},null,""]
[null,null,null,null,null,null,null,null,null,null,null,null,null,null,null,null,null,null,{"$f":"IF(referentes!AJ387=\"\",\"\",IF(IFERROR(SEARCH(\"*-*\",referentes!AJ387),2)=1,IF(referentes!AJ387=\"\",\"\",LEFT(referentes!AJ387,FIND(\"*-*\",referentes!AJ387)-1)),referentes!AJ387))","v":""},null,""]
[null,null,null,null,null,null,null,null,null,null,null,null,null,null,null,null,null,null,{"$f":"IF(referentes!AJ388=\"\",\"\",IF(IFERROR(SEARCH(\"*-*\",referentes!AJ388),2)=1,IF(referentes!AJ388=\"\",\"\",LEFT(referentes!AJ388,FIND(\"*-*\",referentes!AJ388)-1)),referentes!AJ388))","v":""},null,""]
[null,null,null,null,null,null,null,null,null,null,null,null,null,null,null,null,null,null,{"$f":"IF(referentes!AJ389=\"\",\"\",IF(IFERROR(SEARCH(\"*-*\",referentes!AJ389),2)=1,IF(referentes!AJ389=\"\",\"\",LEFT(referentes!AJ389,FIND(\"*-*\",referentes!AJ389)-1)),referentes!AJ389))","v":""},null,""]
[null,null,null,null,null,null,null,null,null,null,null,null,null,null,null,null,null,null,{"$f":"IF(referentes!AJ390=\"\",\"\",IF(IFERROR(SEARCH(\"*-*\",referentes!AJ390),2)=1,IF(referentes!AJ390=\"\",\"\",LEFT(referentes!AJ390,FIND(\"*-*\",referentes!AJ390)-1)),referentes!AJ390))","v":""},null,""]
[null,null,null,null,null,null,null,null,null,null,null,null,null,null,null,null,null,null,{"$f":"IF(referentes!AJ391=\"\",\"\",IF(IFERROR(SEARCH(\"*-*\",referentes!AJ391),2)=1,IF(referentes!AJ391=\"\",\"\",LEFT(referentes!AJ391,FIND(\"*-*\",referentes!AJ391)-1)),referentes!AJ391))","v":""},null,""]
[null,null,null,null,null,null,null,null,null,null,null,null,null,null,null,null,null,null,{"$f":"IF(referentes!AJ392=\"\",\"\",IF(IFERROR(SEARCH(\"*-*\",referentes!AJ392),2)=1,IF(referentes!AJ392=\"\",\"\",LEFT(referentes!AJ392,FIND(\"*-*\",referentes!AJ392)-1)),referentes!AJ392))","v":""},null,{"$f":"IF(IFERROR(T391,R391)=S391,\"\",R391)","v":""}]
[null,null,null,null,null,null,null,null,null,null,null,null,null,null,null,null,null,null,{"$f":"IF(referentes!AJ393=\"\",\"\",IF(IFERROR(SEARCH(\"*-*\",referentes!AJ393),2)=1,IF(referentes!AJ393=\"\",\"\",LEFT(referentes!AJ393,FIND(\"*-*\",referentes!AJ393)-1)),referentes!AJ393))","v":""},null,""]
[null,null,null,null,null,null,null,null,null,null,null,null,null,null,null,null,null,null,{"$f":"IF(referentes!AJ394=\"\",\"\",IF(IFERROR(SEARCH(\"*-*\",referentes!AJ394),2)=1,IF(referentes!AJ394=\"\",\"\",LEFT(referentes!AJ394,FIND(\"*-*\",referentes!AJ394)-1)),referentes!AJ394))","v":""},null,""]
[null,null,null,null,null,null,null,null,null,null,null,null,null,null,null,null,null,null,{"$f":"IF(referentes!AJ395=\"\",\"\",IF(IFERROR(SEARCH(\"*-*\",referentes!AJ395),2)=1,IF(referentes!AJ395=\"\",\"\",LEFT(referentes!AJ395,FIND(\"*-*\",referentes!AJ395)-1)),referentes!AJ395))","v":""},null,""]
[null,null,null,null,null,null,null,null,null,null,null,null,null,null,null,null,null,null,{"$f":"IF(referentes!AJ396=\"\",\"\",IF(IFERROR(SEARCH(\"*-*\",referentes!AJ396),2)=1,IF(referentes!AJ396=\"\",\"\",LEFT(referentes!AJ396,FIND(\"*-*\",referentes!AJ396)-1)),referentes!AJ396))","v":""},null,""]
[null,null,null,null,null,null,null,null,null,null,null,null,null,null,null,null,null,null,{"$f":"IF(referentes!AJ397=\"\",\"\",IF(IFERROR(SEARCH(\"*-*\",referentes!AJ397),2)=1,IF(referentes!AJ397=\"\",\"\",LEFT(referentes!AJ397,FIND(\"*-*\",referentes!AJ397)-1)),referentes!AJ397))","v":""},null,""]
[null,null,null,null,null,null,null,null,null,null,null,null,null,null,null,null,null,null,{"$f":"IF(referentes!AJ398=\"\",\"\",IF(IFERROR(SEARCH(\"*-*\",referentes!AJ398),2)=1,IF(referentes!AJ398=\"\",\"\",LEFT(referentes!AJ398,FIND(\"*-*\",referentes!AJ398)-1)),referentes!AJ398))","v":""},null,""]
[null,null,null,null,null,null,null,null,null,null,null,null,null,null,null,null,null,null,{"$f":"IF(referentes!AJ399=\"\",\"\",IF(IFERROR(SEARCH(\"*-*\",referentes!AJ399),2)=1,IF(referentes!AJ399=\"\",\"\",LEFT(referentes!AJ399,FIND(\"*-*\",referentes!AJ399)-1)),referentes!AJ399))","v":""},null,""]
[null,null,null,null,null,null,null,null,null,null,null,null,null,null,null,null,null,null,{"$f":"IF(referentes!AJ400=\"\",\"\",IF(IFERROR(SEARCH(\"*-*\",referentes!AJ400),2)=1,IF(referentes!AJ400=\"\",\"\",LEFT(referentes!AJ400,FIND(\"*-*\",referentes!AJ400)-1)),referentes!AJ400))","v":""},null,""]
[null,null,null,null,null,null,null,null,null,null,null,null,null,null,null,null,null,null,{"$f":"IF(referentes!AJ401=\"\",\"\",IF(IFERROR(SEARCH(\"*-*\",referentes!AJ401),2)=1,IF(referentes!AJ401=\"\",\"\",LEFT(referentes!AJ401,FIND(\"*-*\",referentes!AJ401)-1)),referentes!AJ401))","v":""},null,""]
[null,null,null,null,null,null,null,null,null,null,null,null,null,null,null,null,null,null,{"$f":"IF(referentes!AJ402=\"\",\"\",IF(IFERROR(SEARCH(\"*-*\",referentes!AJ402),2)=1,IF(referentes!AJ402=\"\",\"\",LEFT(referentes!AJ402,FIND(\"*-*\",referentes!AJ402)-1)),referentes!AJ402))","v":""},null,""]
[null,null,null,null,null,null,null,null,null,null,null,null,null,null,null,null,null,null,{"$f":"IF(referentes!AJ403=\"\",\"\",IF(IFERROR(SEARCH(\"*-*\",referentes!AJ403),2)=1,IF(referentes!AJ403=\"\",\"\",LEFT(referentes!AJ403,FIND(\"*-*\",referentes!AJ403)-1)),referentes!AJ403))","v":""},null,""]
[null,null,null,null,null,null,null,null,null,null,null,null,null,null,null,null,null,null,{"$f":"IF(referentes!AJ404=\"\",\"\",IF(IFERROR(SEARCH(\"*-*\",referentes!AJ404),2)=1,IF(referentes!AJ404=\"\",\"\",LEFT(referentes!AJ404,FIND(\"*-*\",referentes!AJ404)-1)),referentes!AJ404))","v":""},null,""]
[null,null,null,null,null,null,null,null,null,null,null,null,null,null,null,null,null,null,{"$f":"IF(referentes!AJ405=\"\",\"\",IF(IFERROR(SEARCH(\"*-*\",referentes!AJ405),2)=1,IF(referentes!AJ405=\"\",\"\",LEFT(referentes!AJ405,FIND(\"*-*\",referentes!AJ405)-1)),referentes!AJ405))","v":""},null,""]
[null,null,null,null,null,null,null,null,null,null,null,null,null,null,null,null,null,null,{"$f":"IF(referentes!AJ406=\"\",\"\",IF(IFERROR(SEARCH(\"*-*\",referentes!AJ406),2)=1,IF(referentes!AJ406=\"\",\"\",LEFT(referentes!AJ406,FIND(\"*-*\",referentes!AJ406)-1)),referentes!AJ406))","v":""},null,""]
[null,null,null,null,null,null,null,null,null,null,null,null,null,null,null,null,null,null,{"$f":"IF(referentes!AJ407=\"\",\"\",IF(IFERROR(SEARCH(\"*-*\",referentes!AJ407),2)=1,IF(referentes!AJ407=\"\",\"\",LEFT(referentes!AJ407,FIND(\"*-*\",referentes!AJ407)-1)),referentes!AJ407))","v":""},null,""]
[null,null,null,null,null,null,null,null,null,null,null,null,null,null,null,null,null,null,{"$f":"IF(referentes!AJ408=\"\",\"\",IF(IFERROR(SEARCH(\"*-*\",referentes!AJ408),2)=1,IF(referentes!AJ408=\"\",\"\",LEFT(referentes!AJ408,FIND(\"*-*\",referentes!AJ408)-1)),referentes!AJ408))","v":""},null,""]
[null,null,null,null,null,null,null,null,null,null,null,null,null,null,null,null,null,null,{"$f":"IF(referentes!AJ409=\"\",\"\",IF(IFERROR(SEARCH(\"*-*\",referentes!AJ409),2)=1,IF(referentes!AJ409=\"\",\"\",LEFT(referentes!AJ409,FIND(\"*-*\",referentes!AJ409)-1)),referentes!AJ409))","v":""},null,""]
[null,null,null,null,null,null,null,null,null,null,null,null,null,null,null,null,null,null,{"$f":"IF(referentes!AJ410=\"\",\"\",IF(IFERROR(SEARCH(\"*-*\",referentes!AJ410),2)=1,IF(referentes!AJ410=\"\",\"\",LEFT(referentes!AJ410,FIND(\"*-*\",referentes!AJ410)-1)),referentes!AJ410))","v":""},null,""]
[null,null,null,null,null,null,null,null,null,null,null,null,null,null,null,null,null,null,{"$f":"IF(referentes!AJ411=\"\",\"\",IF(IFERROR(SEARCH(\"*-*\",referentes!AJ411),2)=1,IF(referentes!AJ411=\"\",\"\",LEFT(referentes!AJ411,FIND(\"*-*\",referentes!AJ411)-1)),referentes!AJ411))","v":""},null,""]
[null,null,null,null,null,null,null,null,null,null,null,null,null,null,null,null,null,null,{"$f":"IF(referentes!AJ412=\"\",\"\",IF(IFERROR(SEARCH(\"*-*\",referentes!AJ412),2)=1,IF(referentes!AJ412=\"\",\"\",LEFT(referentes!AJ412,FIND(\"*-*\",referentes!AJ412)-1)),referentes!AJ412))","v":""},null,""]
[null,null,null,null,null,null,null,null,null,null,null,null,null,null,null,null,null,null,{"$f":"IF(referentes!AJ413=\"\",\"\",IF(IFERROR(SEARCH(\"*-*\",referentes!AJ413),2)=1,IF(referentes!AJ413=\"\",\"\",LEFT(referentes!AJ413,FIND(\"*-*\",referentes!AJ413)-1)),referentes!AJ413))","v":""},null,""]
[null,null,null,null,null,null,null,null,null,null,null,null,null,null,null,null,null,null,{"$f":"IF(referentes!AJ414=\"\",\"\",IF(IFERROR(SEARCH(\"*-*\",referentes!AJ414),2)=1,IF(referentes!AJ414=\"\",\"\",LEFT(referentes!AJ414,FIND(\"*-*\",referentes!AJ414)-1)),referentes!AJ414))","v":""},null,""]
[null,null,null,null,null,null,null,null,null,null,null,null,null,null,null,null,null,null,{"$f":"IF(referentes!AJ415=\"\",\"\",IF(IFERROR(SEARCH(\"*-*\",referentes!AJ415),2)=1,IF(referentes!AJ415=\"\",\"\",LEFT(referentes!AJ415,FIND(\"*-*\",referentes!AJ415)-1)),referentes!AJ415))","v":""},null,""]
[null,null,null,null,null,null,null,null,null,null,null,null,null,null,null,null,null,null,{"$f":"IF(referentes!AJ416=\"\",\"\",IF(IFERROR(SEARCH(\"*-*\",referentes!AJ416),2)=1,IF(referentes!AJ416=\"\",\"\",LEFT(referentes!AJ416,FIND(\"*-*\",referentes!AJ416)-1)),referentes!AJ416))","v":""},null,""]
[null,null,null,null,null,null,null,null,null,null,null,null,null,null,null,null,null,null,{"$f":"IF(referentes!AJ417=\"\",\"\",IF(IFERROR(SEARCH(\"*-*\",referentes!AJ417),2)=1,IF(referentes!AJ417=\"\",\"\",LEFT(referentes!AJ417,FIND(\"*-*\",referentes!AJ417)-1)),referentes!AJ417))","v":""},null,""]
[null,null,null,null,null,null,null,null,null,null,null,null,null,null,null,null,null,null,{"$f":"IF(referentes!AJ418=\"\",\"\",IF(IFERROR(SEARCH(\"*-*\",referentes!AJ418),2)=1,IF(referentes!AJ418=\"\",\"\",LEFT(referentes!AJ418,FIND(\"*-*\",referentes!AJ418)-1)),referentes!AJ418))","v":""},null,""]
[null,null,null,null,null,null,null,null,null,null,null,null,null,null,null,null,null,null,{"$f":"IF(referentes!AJ419=\"\",\"\",IF(IFERROR(SEARCH(\"*-*\",referentes!AJ419),2)=1,IF(referentes!AJ419=\"\",\"\",LEFT(referentes!AJ419,FIND(\"*-*\",referentes!AJ419)-1)),referentes!AJ419))","v":""},null,""]
[null,null,null,null,null,null,null,null,null,null,null,null,null,null,null,null,null,null,{"$f":"IF(referentes!AJ420=\"\",\"\",IF(IFERROR(SEARCH(\"*-*\",referentes!AJ420),2)=1,IF(referentes!AJ420=\"\",\"\",LEFT(referentes!AJ420,FIND(\"*-*\",referentes!AJ420)-1)),referentes!AJ420))","v":""},null,""]
[null,null,null,null,null,null,null,null,null,null,null,null,null,null,null,null,null,null,{"$f":"IF(referentes!AJ421=\"\",\"\",IF(IFERROR(SEARCH(\"*-*\",referentes!AJ421),2)=1,IF(referentes!AJ421=\"\",\"\",LEFT(referentes!AJ421,FIND(\"*-*\",referentes!AJ421)-1)),referentes!AJ421))","v":""},null,""]
[null,null,null,null,null,null,null,null,null,null,null,null,null,null,null,null,null,null,{"$f":"IF(referentes!AJ422=\"\",\"\",IF(IFERROR(SEARCH(\"*-*\",referentes!AJ422),2)=1,IF(referentes!AJ422=\"\",\"\",LEFT(referentes!AJ422,FIND(\"*-*\",referentes!AJ422)-1)),referentes!AJ422))","v":""},null,""]
[null,null,null,null,null,null,null,null,null,null,null,null,null,null,null,null,null,null,{"$f":"IF(referentes!AJ423=\"\",\"\",IF(IFERROR(SEARCH(\"*-*\",referentes!AJ423),2)=1,IF(referentes!AJ423=\"\",\"\",LEFT(referentes!AJ423,FIND(\"*-*\",referentes!AJ423)-1)),referentes!AJ423))","v":""},null,""]
[null,null,null,null,null,null,null,null,null,null,null,null,null,null,null,null,null,null,{"$f":"IF(referentes!AJ424=\"\",\"\",IF(IFERROR(SEARCH(\"*-*\",referentes!AJ424),2)=1,IF(referentes!AJ424=\"\",\"\",LEFT(referentes!AJ424,FIND(\"*-*\",referentes!AJ424)-1)),referentes!AJ424))","v":""},null,""]
[null,null,null,null,null,null,null,null,null,null,null,null,null,null,null,null,null,null,{"$f":"IF(referentes!AJ425=\"\",\"\",IF(IFERROR(SEARCH(\"*-*\",referentes!AJ425),2)=1,IF(referentes!AJ425=\"\",\"\",LEFT(referentes!AJ425,FIND(\"*-*\",referentes!AJ425)-1)),referentes!AJ425))","v":""},null,""]
[null,null,null,null,null,null,null,null,null,null,null,null,null,null,null,null,null,null,{"$f":"IF(referentes!AJ426=\"\",\"\",IF(IFERROR(SEARCH(\"*-*\",referentes!AJ426),2)=1,IF(referentes!AJ426=\"\",\"\",LEFT(referentes!AJ426,FIND(\"*-*\",referentes!AJ426)-1)),referentes!AJ426))","v":""},null,""]
[null,null,null,null,null,null,null,null,null,null,null,null,null,null,null,null,null,null,{"$f":"IF(referentes!AJ427=\"\",\"\",IF(IFERROR(SEARCH(\"*-*\",referentes!AJ427),2)=1,IF(referentes!AJ427=\"\",\"\",LEFT(referentes!AJ427,FIND(\"*-*\",referentes!AJ427)-1)),referentes!AJ427))","v":""},null,""]
[null,null,null,null,null,null,null,null,null,null,null,null,null,null,null,null,null,null,{"$f":"IF(referentes!AJ428=\"\",\"\",IF(IFERROR(SEARCH(\"*-*\",referentes!AJ428),2)=1,IF(referentes!AJ428=\"\",\"\",LEFT(referentes!AJ428,FIND(\"*-*\",referentes!AJ428)-1)),referentes!AJ428))","v":""},null,""]
[null,null,null,null,null,null,null,null,null,null,null,null,null,null,null,null,null,null,{"$f":"IF(referentes!AJ429=\"\",\"\",IF(IFERROR(SEARCH(\"*-*\",referentes!AJ429),2)=1,IF(referentes!AJ429=\"\",\"\",LEFT(referentes!AJ429,FIND(\"*-*\",referentes!AJ429)-1)),referentes!AJ429))","v":""},null,""]
[null,null,null,null,null,null,null,null,null,null,null,null,null,null,null,null,null,null,{"$f":"IF(referentes!AJ430=\"\",\"\",IF(IFERROR(SEARCH(\"*-*\",referentes!AJ430),2)=1,IF(referentes!AJ430=\"\",\"\",LEFT(referentes!AJ430,FIND(\"*-*\",referentes!AJ430)-1)),referentes!AJ430))","v":""},null,""]
[null,null,null,null,null,null,null,null,null,null,null,null,null,null,null,null,null,null,{"$f":"IF(referentes!AJ431=\"\",\"\",IF(IFERROR(SEARCH(\"*-*\",referentes!AJ431),2)=1,IF(referentes!AJ431=\"\",\"\",LEFT(referentes!AJ431,FIND(\"*-*\",referentes!AJ431)-1)),referentes!AJ431))","v":""},null,""]
[null,null,null,null,null,null,null,null,null,null,null,null,null,null,null,null,null,null,{"$f":"IF(referentes!AJ432=\"\",\"\",IF(IFERROR(SEARCH(\"*-*\",referentes!AJ432),2)=1,IF(referentes!AJ432=\"\",\"\",LEFT(referentes!AJ432,FIND(\"*-*\",referentes!AJ432)-1)),referentes!AJ432))","v":""},null,""]
[null,null,null,null,null,null,null,null,null,null,null,null,null,null,null,null,null,null,{"$f":"IF(referentes!AJ433=\"\",\"\",IF(IFERROR(SEARCH(\"*-*\",referentes!AJ433),2)=1,IF(referentes!AJ433=\"\",\"\",LEFT(referentes!AJ433,FIND(\"*-*\",referentes!AJ433)-1)),referentes!AJ433))","v":""},null,""]
[null,null,null,null,null,null,null,null,null,null,null,null,null,null,null,null,null,null,{"$f":"IF(referentes!AJ434=\"\",\"\",IF(IFERROR(SEARCH(\"*-*\",referentes!AJ434),2)=1,IF(referentes!AJ434=\"\",\"\",LEFT(referentes!AJ434,FIND(\"*-*\",referentes!AJ434)-1)),referentes!AJ434))","v":""},null,""]
[null,null,null,null,null,null,null,null,null,null,null,null,null,null,null,null,null,null,{"$f":"IF(referentes!AJ435=\"\",\"\",IF(IFERROR(SEARCH(\"*-*\",referentes!AJ435),2)=1,IF(referentes!AJ435=\"\",\"\",LEFT(referentes!AJ435,FIND(\"*-*\",referentes!AJ435)-1)),referentes!AJ435))","v":""},null,""]
[null,null,null,null,null,null,null,null,null,null,null,null,null,null,null,null,null,null,{"$f":"IF(referentes!AJ436=\"\",\"\",IF(IFERROR(SEARCH(\"*-*\",referentes!AJ436),2)=1,IF(referentes!AJ436=\"\",\"\",LEFT(referentes!AJ436,FIND(\"*-*\",referentes!AJ436)-1)),referentes!AJ436))","v":""},null,""]
[null,null,null,null,null,null,null,null,null,null,null,null,null,null,null,null,null,null,{"$f":"IF(referentes!AJ437=\"\",\"\",IF(IFERROR(SEARCH(\"*-*\",referentes!AJ437),2)=1,IF(referentes!AJ437=\"\",\"\",LEFT(referentes!AJ437,FIND(\"*-*\",referentes!AJ437)-1)),referentes!AJ437))","v":""},null,""]
[null,null,null,null,null,null,null,null,null,null,null,null,null,null,null,null,null,null,{"$f":"IF(referentes!AJ438=\"\",\"\",IF(IFERROR(SEARCH(\"*-*\",referentes!AJ438),2)=1,IF(referentes!AJ438=\"\",\"\",LEFT(referentes!AJ438,FIND(\"*-*\",referentes!AJ438)-1)),referentes!AJ438))","v":""},null,""]
[null,null,null,null,null,null,null,null,null,null,null,null,null,null,null,null,null,null,{"$f":"IF(referentes!AJ439=\"\",\"\",IF(IFERROR(SEARCH(\"*-*\",referentes!AJ439),2)=1,IF(referentes!AJ439=\"\",\"\",LEFT(referentes!AJ439,FIND(\"*-*\",referentes!AJ439)-1)),referentes!AJ439))","v":""},null,""]
[null,null,null,null,null,null,null,null,null,null,null,null,null,null,null,null,null,null,{"$f":"IF(referentes!AJ440=\"\",\"\",IF(IFERROR(SEARCH(\"*-*\",referentes!AJ440),2)=1,IF(referentes!AJ440=\"\",\"\",LEFT(referentes!AJ440,FIND(\"*-*\",referentes!AJ440)-1)),referentes!AJ440))","v":""},null,""]
[null,null,null,null,null,null,null,null,null,null,null,null,null,null,null,null,null,null,{"$f":"IF(referentes!AJ441=\"\",\"\",IF(IFERROR(SEARCH(\"*-*\",referentes!AJ441),2)=1,IF(referentes!AJ441=\"\",\"\",LEFT(referentes!AJ441,FIND(\"*-*\",referentes!AJ441)-1)),referentes!AJ441))","v":""},null,""]
[null,null,null,null,null,null,null,null,null,null,null,null,null,null,null,null,null,null,{"$f":"IF(referentes!AJ442=\"\",\"\",IF(IFERROR(SEARCH(\"*-*\",referentes!AJ442),2)=1,IF(referentes!AJ442=\"\",\"\",LEFT(referentes!AJ442,FIND(\"*-*\",referentes!AJ442)-1)),referentes!AJ442))","v":""},null,""]
[null,null,null,null,null,null,null,null,null,null,null,null,null,null,null,null,null,null,{"$f":"IF(referentes!AJ443=\"\",\"\",IF(IFERROR(SEARCH(\"*-*\",referentes!AJ443),2)=1,IF(referentes!AJ443=\"\",\"\",LEFT(referentes!AJ443,FIND(\"*-*\",referentes!AJ443)-1)),referentes!AJ443))","v":""},null,""]
[null,null,null,null,null,null,null,null,null,null,null,null,null,null,null,null,null,null,{"$f":"IF(referentes!AJ444=\"\",\"\",IF(IFERROR(SEARCH(\"*-*\",referentes!AJ444),2)=1,IF(referentes!AJ444=\"\",\"\",LEFT(referentes!AJ444,FIND(\"*-*\",referentes!AJ444)-1)),referentes!AJ444))","v":""},null,""]
[null,null,null,null,null,null,null,null,null,null,null,null,null,null,null,null,null,null,{"$f":"IF(referentes!AJ445=\"\",\"\",IF(IFERROR(SEARCH(\"*-*\",referentes!AJ445),2)=1,IF(referentes!AJ445=\"\",\"\",LEFT(referentes!AJ445,FIND(\"*-*\",referentes!AJ445)-1)),referentes!AJ445))","v":""},null,""]
[null,null,null,null,null,null,null,null,null,null,null,null,null,null,null,null,null,null,{"$f":"IF(referentes!AJ446=\"\",\"\",IF(IFERROR(SEARCH(\"*-*\",referentes!AJ446),2)=1,IF(referentes!AJ446=\"\",\"\",LEFT(referentes!AJ446,FIND(\"*-*\",referentes!AJ446)-1)),referentes!AJ446))","v":""},null,""]
[null,null,null,null,null,null,null,null,null,null,null,null,null,null,null,null,null,null,{"$f":"IF(referentes!AJ447=\"\",\"\",IF(IFERROR(SEARCH(\"*-*\",referentes!AJ447),2)=1,IF(referentes!AJ447=\"\",\"\",LEFT(referentes!AJ447,FIND(\"*-*\",referentes!AJ447)-1)),referentes!AJ447))","v":""},null,""]
[null,null,null,null,null,null,null,null,null,null,null,null,null,null,null,null,null,null,{"$f":"IF(referentes!AJ448=\"\",\"\",IF(IFERROR(SEARCH(\"*-*\",referentes!AJ448),2)=1,IF(referentes!AJ448=\"\",\"\",LEFT(referentes!AJ448,FIND(\"*-*\",referentes!AJ448)-1)),referentes!AJ448))","v":""},null,""]
[null,null,null,null,null,null,null,null,null,null,null,null,null,null,null,null,null,null,{"$f":"IF(referentes!AJ449=\"\",\"\",IF(IFERROR(SEARCH(\"*-*\",referentes!AJ449),2)=1,IF(referentes!AJ449=\"\",\"\",LEFT(referentes!AJ449,FIND(\"*-*\",referentes!AJ449)-1)),referentes!AJ449))","v":""},null,""]
[null,null,null,null,null,null,null,null,null,null,null,null,null,null,null,null,null,null,{"$f":"IF(referentes!AJ450=\"\",\"\",IF(IFERROR(SEARCH(\"*-*\",referentes!AJ450),2)=1,IF(referentes!AJ450=\"\",\"\",LEFT(referentes!AJ450,FIND(\"*-*\",referentes!AJ450)-1)),referentes!AJ450))","v":""},null,""]
[null,null,null,null,null,null,null,null,null,null,null,null,null,null,null,null,null,null,{"$f":"IF(referentes!AJ451=\"\",\"\",IF(IFERROR(SEARCH(\"*-*\",referentes!AJ451),2)=1,IF(referentes!AJ451=\"\",\"\",LEFT(referentes!AJ451,FIND(\"*-*\",referentes!AJ451)-1)),referentes!AJ451))","v":""},null,""]
[null,null,null,null,null,null,null,null,null,null,null,null,null,null,null,null,null,null,{"$f":"IF(referentes!AJ452=\"\",\"\",IF(IFERROR(SEARCH(\"*-*\",referentes!AJ452),2)=1,IF(referentes!AJ452=\"\",\"\",LEFT(referentes!AJ452,FIND(\"*-*\",referentes!AJ452)-1)),referentes!AJ452))","v":""},null,""]
[null,null,null,null,null,null,null,null,null,null,null,null,null,null,null,null,null,null,{"$f":"IF(referentes!AJ453=\"\",\"\",IF(IFERROR(SEARCH(\"*-*\",referentes!AJ453),2)=1,IF(referentes!AJ453=\"\",\"\",LEFT(referentes!AJ453,FIND(\"*-*\",referentes!AJ453)-1)),referentes!AJ453))","v":""},null,""]
[null,null,null,null,null,null,null,null,null,null,null,null,null,null,null,null,null,null,{"$f":"IF(referentes!AJ454=\"\",\"\",IF(IFERROR(SEARCH(\"*-*\",referentes!AJ454),2)=1,IF(referentes!AJ454=\"\",\"\",LEFT(referentes!AJ454,FIND(\"*-*\",referentes!AJ454)-1)),referentes!AJ454))","v":""},null,""]
[null,null,null,null,null,null,null,null,null,null,null,null,null,null,null,null,null,null,{"$f":"IF(referentes!AJ455=\"\",\"\",IF(IFERROR(SEARCH(\"*-*\",referentes!AJ455),2)=1,IF(referentes!AJ455=\"\",\"\",LEFT(referentes!AJ455,FIND(\"*-*\",referentes!AJ455)-1)),referentes!AJ455))","v":""},null,""]
[null,null,null,null,null,null,null,null,null,null,null,null,null,null,null,null,null,null,{"$f":"IF(referentes!AJ456=\"\",\"\",IF(IFERROR(SEARCH(\"*-*\",referentes!AJ456),2)=1,IF(referentes!AJ456=\"\",\"\",LEFT(referentes!AJ456,FIND(\"*-*\",referentes!AJ456)-1)),referentes!AJ456))","v":""},null,{"$f":"IF(IFERROR(T455,R455)=S455,\"\",R455)","v":""}]
[null,null,null,null,null,null,null,null,null,null,null,null,null,null,null,null,null,null,{"$f":"IF(referentes!AJ457=\"\",\"\",IF(IFERROR(SEARCH(\"*-*\",referentes!AJ457),2)=1,IF(referentes!AJ457=\"\",\"\",LEFT(referentes!AJ457,FIND(\"*-*\",referentes!AJ457)-1)),referentes!AJ457))","v":""},null,""]
[null,null,null,null,null,null,null,null,null,null,null,null,null,null,null,null,null,null,{"$f":"IF(referentes!AJ458=\"\",\"\",IF(IFERROR(SEARCH(\"*-*\",referentes!AJ458),2)=1,IF(referentes!AJ458=\"\",\"\",LEFT(referentes!AJ458,FIND(\"*-*\",referentes!AJ458)-1)),referentes!AJ458))","v":""},null,""]
[null,null,null,null,null,null,null,null,null,null,null,null,null,null,null,null,null,null,{"$f":"IF(referentes!AJ459=\"\",\"\",IF(IFERROR(SEARCH(\"*-*\",referentes!AJ459),2)=1,IF(referentes!AJ459=\"\",\"\",LEFT(referentes!AJ459,FIND(\"*-*\",referentes!AJ459)-1)),referentes!AJ459))","v":""},null,""]
[null,null,null,null,null,null,null,null,null,null,null,null,null,null,null,null,null,null,{"$f":"IF(referentes!AJ460=\"\",\"\",IF(IFERROR(SEARCH(\"*-*\",referentes!AJ460),2)=1,IF(referentes!AJ460=\"\",\"\",LEFT(referentes!AJ460,FIND(\"*-*\",referentes!AJ460)-1)),referentes!AJ460))","v":""},null,""]
[null,null,null,null,null,null,null,null,null,null,null,null,null,null,null,null,null,null,{"$f":"IF(referentes!AJ461=\"\",\"\",IF(IFERROR(SEARCH(\"*-*\",referentes!AJ461),2)=1,IF(referentes!AJ461=\"\",\"\",LEFT(referentes!AJ461,FIND(\"*-*\",referentes!AJ461)-1)),referentes!AJ461))","v":""},null,""]
[null,null,null,null,null,null,null,null,null,null,null,null,null,null,null,null,null,null,{"$f":"IF(referentes!AJ462=\"\",\"\",IF(IFERROR(SEARCH(\"*-*\",referentes!AJ462),2)=1,IF(referentes!AJ462=\"\",\"\",LEFT(referentes!AJ462,FIND(\"*-*\",referentes!AJ462)-1)),referentes!AJ462))","v":""},null,""]
[null,null,null,null,null,null,null,null,null,null,null,null,null,null,null,null,null,null,{"$f":"IF(referentes!AJ463=\"\",\"\",IF(IFERROR(SEARCH(\"*-*\",referentes!AJ463),2)=1,IF(referentes!AJ463=\"\",\"\",LEFT(referentes!AJ463,FIND(\"*-*\",referentes!AJ463)-1)),referentes!AJ463))","v":""},null,""]
[null,null,null,null,null,null,null,null,null,null,null,null,null,null,null,null,null,null,{"$f":"IF(referentes!AJ464=\"\",\"\",IF(IFERROR(SEARCH(\"*-*\",referentes!AJ464),2)=1,IF(referentes!AJ464=\"\",\"\",LEFT(referentes!AJ464,FIND(\"*-*\",referentes!AJ464)-1)),referentes!AJ464))","v":""},null,""]
[null,null,null,null,null,null,null,null,null,null,null,null,null,null,null,null,null,null,{"$f":"IF(referentes!AJ465=\"\",\"\",IF(IFERROR(SEARCH(\"*-*\",referentes!AJ465),2)=1,IF(referentes!AJ465=\"\",\"\",LEFT(referentes!AJ465,FIND(\"*-*\",referentes!AJ465)-1)),referentes!AJ465))","v":""},null,""]
[null,null,null,null,null,null,null,null,null,null,null,null,null,null,null,null,null,null,{"$f":"IF(referentes!AJ466=\"\",\"\",IF(IFERROR(SEARCH(\"*-*\",referentes!AJ466),2)=1,IF(referentes!AJ466=\"\",\"\",LEFT(referentes!AJ466,FIND(\"*-*\",referentes!AJ466)-1)),referentes!AJ466))","v":""},null,""]
[null,null,null,null,null,null,null,null,null,null,null,null,null,null,null,null,null,null,{"$f":"IF(referentes!AJ467=\"\",\"\",IF(IFERROR(SEARCH(\"*-*\",referentes!AJ467),2)=1,IF(referentes!AJ467=\"\",\"\",LEFT(referentes!AJ467,FIND(\"*-*\",referentes!AJ467)-1)),referentes!AJ467))","v":""},null,""]
[null,null,null,null,null,null,null,null,null,null,null,null,null,null,null,null,null,null,{"$f":"IF(referentes!AJ468=\"\",\"\",IF(IFERROR(SEARCH(\"*-*\",referentes!AJ468),2)=1,IF(referentes!AJ468=\"\",\"\",LEFT(referentes!AJ468,FIND(\"*-*\",referentes!AJ468)-1)),referentes!AJ468))","v":""},null,""]
[null,null,null,null,null,null,null,null,null,null,null,null,null,null,null,null,null,null,{"$f":"IF(referentes!AJ469=\"\",\"\",IF(IFERROR(SEARCH(\"*-*\",referentes!AJ469),2)=1,IF(referentes!AJ469=\"\",\"\",LEFT(referentes!AJ469,FIND(\"*-*\",referentes!AJ469)-1)),referentes!AJ469))","v":""},null,""]
[null,null,null,null,null,null,null,null,null,null,null,null,null,null,null,null,null,null,{"$f":"IF(referentes!AJ470=\"\",\"\",IF(IFERROR(SEARCH(\"*-*\",referentes!AJ470),2)=1,IF(referentes!AJ470=\"\",\"\",LEFT(referentes!AJ470,FIND(\"*-*\",referentes!AJ470)-1)),referentes!AJ470))","v":""},null,""]
[null,null,null,null,null,null,null,null,null,null,null,null,null,null,null,null,null,null,{"$f":"IF(referentes!AJ471=\"\",\"\",IF(IFERROR(SEARCH(\"*-*\",referentes!AJ471),2)=1,IF(referentes!AJ471=\"\",\"\",LEFT(referentes!AJ471,FIND(\"*-*\",referentes!AJ471)-1)),referentes!AJ471))","v":""},null,""]
[null,null,null,null,null,null,null,null,null,null,null,null,null,null,null,null,null,null,{"$f":"IF(referentes!AJ472=\"\",\"\",IF(IFERROR(SEARCH(\"*-*\",referentes!AJ472),2)=1,IF(referentes!AJ472=\"\",\"\",LEFT(referentes!AJ472,FIND(\"*-*\",referentes!AJ472)-1)),referentes!AJ472))","v":""},null,""]
[null,null,null,null,null,null,null,null,null,null,null,null,null,null,null,null,null,null,{"$f":"IF(referentes!AJ473=\"\",\"\",IF(IFERROR(SEARCH(\"*-*\",referentes!AJ473),2)=1,IF(referentes!AJ473=\"\",\"\",LEFT(referentes!AJ473,FIND(\"*-*\",referentes!AJ473)-1)),referentes!AJ473))","v":""},null,""]
[null,null,null,null,null,null,null,null,null,null,null,null,null,null,null,null,null,null,{"$f":"IF(referentes!AJ474=\"\",\"\",IF(IFERROR(SEARCH(\"*-*\",referentes!AJ474),2)=1,IF(referentes!AJ474=\"\",\"\",LEFT(referentes!AJ474,FIND(\"*-*\",referentes!AJ474)-1)),referentes!AJ474))","v":""},null,""]
[null,null,null,null,null,null,null,null,null,null,null,null,null,null,null,null,null,null,{"$f":"IF(referentes!AJ475=\"\",\"\",IF(IFERROR(SEARCH(\"*-*\",referentes!AJ475),2)=1,IF(referentes!AJ475=\"\",\"\",LEFT(referentes!AJ475,FIND(\"*-*\",referentes!AJ475)-1)),referentes!AJ475))","v":""},null,""]
[null,null,null,null,null,null,null,null,null,null,null,null,null,null,null,null,null,null,{"$f":"IF(referentes!AJ476=\"\",\"\",IF(IFERROR(SEARCH(\"*-*\",referentes!AJ476),2)=1,IF(referentes!AJ476=\"\",\"\",LEFT(referentes!AJ476,FIND(\"*-*\",referentes!AJ476)-1)),referentes!AJ476))","v":""},null,""]
[null,null,null,null,null,null,null,null,null,null,null,null,null,null,null,null,null,null,{"$f":"IF(referentes!AJ477=\"\",\"\",IF(IFERROR(SEARCH(\"*-*\",referentes!AJ477),2)=1,IF(referentes!AJ477=\"\",\"\",LEFT(referentes!AJ477,FIND(\"*-*\",referentes!AJ477)-1)),referentes!AJ477))","v":""},null,""]
[null,null,null,null,null,null,null,null,null,null,null,null,null,null,null,null,null,null,{"$f":"IF(referentes!AJ478=\"\",\"\",IF(IFERROR(SEARCH(\"*-*\",referentes!AJ478),2)=1,IF(referentes!AJ478=\"\",\"\",LEFT(referentes!AJ478,FIND(\"*-*\",referentes!AJ478)-1)),referentes!AJ478))","v":""},null,""]
[null,null,null,null,null,null,null,null,null,null,null,null,null,null,null,null,null,null,{"$f":"IF(referentes!AJ479=\"\",\"\",IF(IFERROR(SEARCH(\"*-*\",referentes!AJ479),2)=1,IF(referentes!AJ479=\"\",\"\",LEFT(referentes!AJ479,FIND(\"*-*\",referentes!AJ479)-1)),referentes!AJ479))","v":""},null,""]
[null,null,null,null,null,null,null,null,null,null,null,null,null,null,null,null,null,null,{"$f":"IF(referentes!AJ480=\"\",\"\",IF(IFERROR(SEARCH(\"*-*\",referentes!AJ480),2)=1,IF(referentes!AJ480=\"\",\"\",LEFT(referentes!AJ480,FIND(\"*-*\",referentes!AJ480)-1)),referentes!AJ480))","v":""},null,""]
[null,null,null,null,null,null,null,null,null,null,null,null,null,null,null,null,null,null,{"$f":"IF(referentes!AJ481=\"\",\"\",IF(IFERROR(SEARCH(\"*-*\",referentes!AJ481),2)=1,IF(referentes!AJ481=\"\",\"\",LEFT(referentes!AJ481,FIND(\"*-*\",referentes!AJ481)-1)),referentes!AJ481))","v":""},null,""]
[null,null,null,null,null,null,null,null,null,null,null,null,null,null,null,null,null,null,{"$f":"IF(referentes!AJ482=\"\",\"\",IF(IFERROR(SEARCH(\"*-*\",referentes!AJ482),2)=1,IF(referentes!AJ482=\"\",\"\",LEFT(referentes!AJ482,FIND(\"*-*\",referentes!AJ482)-1)),referentes!AJ482))","v":""},null,""]
[null,null,null,null,null,null,null,null,null,null,null,null,null,null,null,null,null,null,{"$f":"IF(referentes!AJ483=\"\",\"\",IF(IFERROR(SEARCH(\"*-*\",referentes!AJ483),2)=1,IF(referentes!AJ483=\"\",\"\",LEFT(referentes!AJ483,FIND(\"*-*\",referentes!AJ483)-1)),referentes!AJ483))","v":""},null,""]
[null,null,null,null,null,null,null,null,null,null,null,null,null,null,null,null,null,null,{"$f":"IF(referentes!AJ484=\"\",\"\",IF(IFERROR(SEARCH(\"*-*\",referentes!AJ484),2)=1,IF(referentes!AJ484=\"\",\"\",LEFT(referentes!AJ484,FIND(\"*-*\",referentes!AJ484)-1)),referentes!AJ484))","v":""},null,""]
[null,null,null,null,null,null,null,null,null,null,null,null,null,null,null,null,null,null,{"$f":"IF(referentes!AJ485=\"\",\"\",IF(IFERROR(SEARCH(\"*-*\",referentes!AJ485),2)=1,IF(referentes!AJ485=\"\",\"\",LEFT(referentes!AJ485,FIND(\"*-*\",referentes!AJ485)-1)),referentes!AJ485))","v":""},null,""]
[null,null,null,null,null,null,null,null,null,null,null,null,null,null,null,null,null,null,{"$f":"IF(referentes!AJ486=\"\",\"\",IF(IFERROR(SEARCH(\"*-*\",referentes!AJ486),2)=1,IF(referentes!AJ486=\"\",\"\",LEFT(referentes!AJ486,FIND(\"*-*\",referentes!AJ486)-1)),referentes!AJ486))","v":""},null,""]
[null,null,null,null,null,null,null,null,null,null,null,null,null,null,null,null,null,null,{"$f":"IF(referentes!AJ487=\"\",\"\",IF(IFERROR(SEARCH(\"*-*\",referentes!AJ487),2)=1,IF(referentes!AJ487=\"\",\"\",LEFT(referentes!AJ487,FIND(\"*-*\",referentes!AJ487)-1)),referentes!AJ487))","v":""},null,""]
[null,null,null,null,null,null,null,null,null,null,null,null,null,null,null,null,null,null,{"$f":"IF(referentes!AJ488=\"\",\"\",IF(IFERROR(SEARCH(\"*-*\",referentes!AJ488),2)=1,IF(referentes!AJ488=\"\",\"\",LEFT(referentes!AJ488,FIND(\"*-*\",referentes!AJ488)-1)),referentes!AJ488))","v":""},null,""]
[null,null,null,null,null,null,null,null,null,null,null,null,null,null,null,null,null,null,{"$f":"IF(referentes!AJ489=\"\",\"\",IF(IFERROR(SEARCH(\"*-*\",referentes!AJ489),2)=1,IF(referentes!AJ489=\"\",\"\",LEFT(referentes!AJ489,FIND(\"*-*\",referentes!AJ489)-1)),referentes!AJ489))","v":""},null,""]
[null,null,null,null,null,null,null,null,null,null,null,null,null,null,null,null,null,null,{"$f":"IF(referentes!AJ490=\"\",\"\",IF(IFERROR(SEARCH(\"*-*\",referentes!AJ490),2)=1,IF(referentes!AJ490=\"\",\"\",LEFT(referentes!AJ490,FIND(\"*-*\",referentes!AJ490)-1)),referentes!AJ490))","v":""},null,""]
[null,null,null,null,null,null,null,null,null,null,null,null,null,null,null,null,null,null,{"$f":"IF(referentes!AJ491=\"\",\"\",IF(IFERROR(SEARCH(\"*-*\",referentes!AJ491),2)=1,IF(referentes!AJ491=\"\",\"\",LEFT(referentes!AJ491,FIND(\"*-*\",referentes!AJ491)-1)),referentes!AJ491))","v":""},null,""]
[null,null,null,null,null,null,null,null,null,null,null,null,null,null,null,null,null,null,{"$f":"IF(referentes!AJ492=\"\",\"\",IF(IFERROR(SEARCH(\"*-*\",referentes!AJ492),2)=1,IF(referentes!AJ492=\"\",\"\",LEFT(referentes!AJ492,FIND(\"*-*\",referentes!AJ492)-1)),referentes!AJ492))","v":""},null,""]
[null,null,null,null,null,null,null,null,null,null,null,null,null,null,null,null,null,null,{"$f":"IF(referentes!AJ493=\"\",\"\",IF(IFERROR(SEARCH(\"*-*\",referentes!AJ493),2)=1,IF(referentes!AJ493=\"\",\"\",LEFT(referentes!AJ493,FIND(\"*-*\",referentes!AJ493)-1)),referentes!AJ493))","v":""},null,""]
[null,null,null,null,null,null,null,null,null,null,null,null,null,null,null,null,null,null,{"$f":"IF(referentes!AJ494=\"\",\"\",IF(IFERROR(SEARCH(\"*-*\",referentes!AJ494),2)=1,IF(referentes!AJ494=\"\",\"\",LEFT(referentes!AJ494,FIND(\"*-*\",referentes!AJ494)-1)),referentes!AJ494))","v":""},null,""]
[null,null,null,null,null,null,null,null,null,null,null,null,null,null,null,null,null,null,{"$f":"IF(referentes!AJ495=\"\",\"\",IF(IFERROR(SEARCH(\"*-*\",referentes!AJ495),2)=1,IF(referentes!AJ495=\"\",\"\",LEFT(referentes!AJ495,FIND(\"*-*\",referentes!AJ495)-1)),referentes!AJ495))","v":""},null,""]
[null,null,null,null,null,null,null,null,null,null,null,null,null,null,null,null,null,null,{"$f":"IF(referentes!AJ496=\"\",\"\",IF(IFERROR(SEARCH(\"*-*\",referentes!AJ496),2)=1,IF(referentes!AJ496=\"\",\"\",LEFT(referentes!AJ496,FIND(\"*-*\",referentes!AJ496)-1)),referentes!AJ496))","v":""},null,""]
[null,null,null,null,null,null,null,null,null,null,null,null,null,null,null,null,null,null,{"$f":"IF(referentes!AJ497=\"\",\"\",IF(IFERROR(SEARCH(\"*-*\",referentes!AJ497),2)=1,IF(referentes!AJ497=\"\",\"\",LEFT(referentes!AJ497,FIND(\"*-*\",referentes!AJ497)-1)),referentes!AJ497))","v":""},null,""]
[null,null,null,null,null,null,null,null,null,null,null,null,null,null,null,null,null,null,{"$f":"IF(referentes!AJ498=\"\",\"\",IF(IFERROR(SEARCH(\"*-*\",referentes!AJ498),2)=1,IF(referentes!AJ498=\"\",\"\",LEFT(referentes!AJ498,FIND(\"*-*\",referentes!AJ498)-1)),referentes!AJ498))","v":""},null,""]
[null,null,null,null,null,null,null,null,null,null,null,null,null,null,null,null,null,null,{"$f":"IF(referentes!AJ499=\"\",\"\",IF(IFERROR(SEARCH(\"*-*\",referentes!AJ499),2)=1,IF(referentes!AJ499=\"\",\"\",LEFT(referentes!AJ499,FIND(\"*-*\",referentes!AJ499)-1)),referentes!AJ499))","v":""},null,""]
[null,null,null,null,null,null,null,null,null,null,null,null,null,null,null,null,null,null,{"$f":"IF(referentes!AJ500=\"\",\"\",IF(IFERROR(SEARCH(\"*-*\",referentes!AJ500),2)=1,IF(referentes!AJ500=\"\",\"\",LEFT(referentes!AJ500,FIND(\"*-*\",referentes!AJ500)-1)),referentes!AJ500))","v":""},null,""]
[null,null,null,null,null,null,null,null,null,null,null,null,null,null,null,null,null,null,{"$f":"IF(referentes!AJ501=\"\",\"\",IF(IFERROR(SEARCH(\"*-*\",referentes!AJ501),2)=1,IF(referentes!AJ501=\"\",\"\",LEFT(referentes!AJ501,FIND(\"*-*\",referentes!AJ501)-1)),referentes!AJ501))","v":""},null,""]
[null,null,null,null,null,null,null,null,null,null,null,null,null,null,null,null,null,null,{"$f":"IF(referentes!AJ502=\"\",\"\",IF(IFERROR(SEARCH(\"*-*\",referentes!AJ502),2)=1,IF(referentes!AJ502=\"\",\"\",LEFT(referentes!AJ502,FIND(\"*-*\",referentes!AJ502)-1)),referentes!AJ502))","v":""},null,""]
[null,null,null,null,null,null,null,null,null,null,null,null,null,null,null,null,null,null,{"$f":"IF(referentes!AJ503=\"\",\"\",IF(IFERROR(SEARCH(\"*-*\",referentes!AJ503),2)=1,IF(referentes!AJ503=\"\",\"\",LEFT(referentes!AJ503,FIND(\"*-*\",referentes!AJ503)-1)),referentes!AJ503))","v":""},null,""]
[null,null,null,null,null,null,null,null,null,null,null,null,null,null,null,null,null,null,{"$f":"IF(referentes!AJ504=\"\",\"\",IF(IFERROR(SEARCH(\"*-*\",referentes!AJ504),2)=1,IF(referentes!AJ504=\"\",\"\",LEFT(referentes!AJ504,FIND(\"*-*\",referentes!AJ504)-1)),referentes!AJ504))","v":""},null,""]
[null,null,null,null,null,null,null,null,null,null,null,null,null,null,null,null,null,null,{"$f":"IF(referentes!AJ505=\"\",\"\",IF(IFERROR(SEARCH(\"*-*\",referentes!AJ505),2)=1,IF(referentes!AJ505=\"\",\"\",LEFT(referentes!AJ505,FIND(\"*-*\",referentes!AJ505)-1)),referentes!AJ505))","v":""},null,""]
[null,null,null,null,null,null,null,null,null,null,null,null,null,null,null,null,null,null,{"$f":"IF(referentes!AJ506=\"\",\"\",IF(IFERROR(SEARCH(\"*-*\",referentes!AJ506),2)=1,IF(referentes!AJ506=\"\",\"\",LEFT(referentes!AJ506,FIND(\"*-*\",referentes!AJ506)-1)),referentes!AJ506))","v":""},null,""]
[null,null,null,null,null,null,null,null,null,null,null,null,null,null,null,null,null,null,{"$f":"IF(referentes!AJ507=\"\",\"\",IF(IFERROR(SEARCH(\"*-*\",referentes!AJ507),2)=1,IF(referentes!AJ507=\"\",\"\",LEFT(referentes!AJ507,FIND(\"*-*\",referentes!AJ507)-1)),referentes!AJ507))","v":""},null,""]
[null,null,null,null,null,null,null,null,null,null,null,null,null,null,null,null,null,null,{"$f":"IF(referentes!AJ508=\"\",\"\",IF(IFERROR(SEARCH(\"*-*\",referentes!AJ508),2)=1,IF(referentes!AJ508=\"\",\"\",LEFT(referentes!AJ508,FIND(\"*-*\",referentes!AJ508)-1)),referentes!AJ508))","v":""},null,""]
[null,null,null,null,null,null,null,null,null,null,null,null,null,null,null,null,null,null,{"$f":"IF(referentes!AJ509=\"\",\"\",IF(IFERROR(SEARCH(\"*-*\",referentes!AJ509),2)=1,IF(referentes!AJ509=\"\",\"\",LEFT(referentes!AJ509,FIND(\"*-*\",referentes!AJ509)-1)),referentes!AJ509))","v":""},null,""]
[null,null,null,null,null,null,null,null,null,null,null,null,null,null,null,null,null,null,{"$f":"IF(referentes!AJ510=\"\",\"\",IF(IFERROR(SEARCH(\"*-*\",referentes!AJ510),2)=1,IF(referentes!AJ510=\"\",\"\",LEFT(referentes!AJ510,FIND(\"*-*\",referentes!AJ510)-1)),referentes!AJ510))","v":""},null,""]
[null,null,null,null,null,null,null,null,null,null,null,null,null,null,null,null,null,null,{"$f":"IF(referentes!AJ511=\"\",\"\",IF(IFERROR(SEARCH(\"*-*\",referentes!AJ511),2)=1,IF(referentes!AJ511=\"\",\"\",LEFT(referentes!AJ511,FIND(\"*-*\",referentes!AJ511)-1)),referentes!AJ511))","v":""},null,""]
[null,null,null,null,null,null,null,null,null,null,null,null,null,null,null,null,null,null,{"$f":"IF(referentes!AJ512=\"\",\"\",IF(IFERROR(SEARCH(\"*-*\",referentes!AJ512),2)=1,IF(referentes!AJ512=\"\",\"\",LEFT(referentes!AJ512,FIND(\"*-*\",referentes!AJ512)-1)),referentes!AJ512))","v":""},null,""]
[null,null,null,null,null,null,null,null,null,null,null,null,null,null,null,null,null,null,{"$f":"IF(referentes!AJ513=\"\",\"\",IF(IFERROR(SEARCH(\"*-*\",referentes!AJ513),2)=1,IF(referentes!AJ513=\"\",\"\",LEFT(referentes!AJ513,FIND(\"*-*\",referentes!AJ513)-1)),referentes!AJ513))","v":""},null,""]
[null,null,null,null,null,null,null,null,null,null,null,null,null,null,null,null,null,null,{"$f":"IF(referentes!AJ514=\"\",\"\",IF(IFERROR(SEARCH(\"*-*\",referentes!AJ514),2)=1,IF(referentes!AJ514=\"\",\"\",LEFT(referentes!AJ514,FIND(\"*-*\",referentes!AJ514)-1)),referentes!AJ514))","v":""},null,""]
[null,null,null,null,null,null,null,null,null,null,null,null,null,null,null,null,null,null,{"$f":"IF(referentes!AJ515=\"\",\"\",IF(IFERROR(SEARCH(\"*-*\",referentes!AJ515),2)=1,IF(referentes!AJ515=\"\",\"\",LEFT(referentes!AJ515,FIND(\"*-*\",referentes!AJ515)-1)),referentes!AJ515))","v":""},null,""]
[null,null,null,null,null,null,null,null,null,null,null,null,null,null,null,null,null,null,{"$f":"IF(referentes!AJ516=\"\",\"\",IF(IFERROR(SEARCH(\"*-*\",referentes!AJ516),2)=1,IF(referentes!AJ516=\"\",\"\",LEFT(referentes!AJ516,FIND(\"*-*\",referentes!AJ516)-1)),referentes!AJ516))","v":""},null,""]
[null,null,null,null,null,null,null,null,null,null,null,null,null,null,null,null,null,null,{"$f":"IF(referentes!AJ517=\"\",\"\",IF(IFERROR(SEARCH(\"*-*\",referentes!AJ517),2)=1,IF(referentes!AJ517=\"\",\"\",LEFT(referentes!AJ517,FIND(\"*-*\",referentes!AJ517)-1)),referentes!AJ517))","v":""},null,""]
[null,null,null,null,null,null,null,null,null,null,null,null,null,null,null,null,null,null,{"$f":"IF(referentes!AJ518=\"\",\"\",IF(IFERROR(SEARCH(\"*-*\",referentes!AJ518),2)=1,IF(referentes!AJ518=\"\",\"\",LEFT(referentes!AJ518,FIND(\"*-*\",referentes!AJ518)-1)),referentes!AJ518))","v":""},null,""]
[null,null,null,null,null,null,null,null,null,null,null,null,null,null,null,null,null,null,{"$f":"IF(referentes!AJ519=\"\",\"\",IF(IFERROR(SEARCH(\"*-*\",referentes!AJ519),2)=1,IF(referentes!AJ519=\"\",\"\",LEFT(referentes!AJ519,FIND(\"*-*\",referentes!AJ519)-1)),referentes!AJ519))","v":""},null,""]
[null,null,null,null,null,null,null,null,null,null,null,null,null,null,null,null,null,null,{"$f":"IF(referentes!AJ520=\"\",\"\",IF(IFERROR(SEARCH(\"*-*\",referentes!AJ520),2)=1,IF(referentes!AJ520=\"\",\"\",LEFT(referentes!AJ520,FIND(\"*-*\",referentes!AJ520)-1)),referentes!AJ520))","v":""},null,{"$f":"IF(IFERROR(T519,R519)=S519,\"\",R519)","v":""}]
[null,null,null,null,null,null,null,null,null,null,null,null,null,null,null,null,null,null,{"$f":"IF(referentes!AJ521=\"\",\"\",IF(IFERROR(SEARCH(\"*-*\",referentes!AJ521),2)=1,IF(referentes!AJ521=\"\",\"\",LEFT(referentes!AJ521,FIND(\"*-*\",referentes!AJ521)-1)),referentes!AJ521))","v":""},null,""]
[null,null,null,null,null,null,null,null,null,null,null,null,null,null,null,null,null,null,{"$f":"IF(referentes!AJ522=\"\",\"\",IF(IFERROR(SEARCH(\"*-*\",referentes!AJ522),2)=1,IF(referentes!AJ522=\"\",\"\",LEFT(referentes!AJ522,FIND(\"*-*\",referentes!AJ522)-1)),referentes!AJ522))","v":""},null,""]
[null,null,null,null,null,null,null,null,null,null,null,null,null,null,null,null,null,null,{"$f":"IF(referentes!AJ523=\"\",\"\",IF(IFERROR(SEARCH(\"*-*\",referentes!AJ523),2)=1,IF(referentes!AJ523=\"\",\"\",LEFT(referentes!AJ523,FIND(\"*-*\",referentes!AJ523)-1)),referentes!AJ523))","v":""},null,""]
[null,null,null,null,null,null,null,null,null,null,null,null,null,null,null,null,null,null,{"$f":"IF(referentes!AJ524=\"\",\"\",IF(IFERROR(SEARCH(\"*-*\",referentes!AJ524),2)=1,IF(referentes!AJ524=\"\",\"\",LEFT(referentes!AJ524,FIND(\"*-*\",referentes!AJ524)-1)),referentes!AJ524))","v":""},null,""]
[null,null,null,null,null,null,null,null,null,null,null,null,null,null,null,null,null,null,{"$f":"IF(referentes!AJ525=\"\",\"\",IF(IFERROR(SEARCH(\"*-*\",referentes!AJ525),2)=1,IF(referentes!AJ525=\"\",\"\",LEFT(referentes!AJ525,FIND(\"*-*\",referentes!AJ525)-1)),referentes!AJ525))","v":""},null,""]
[null,null,null,null,null,null,null,null,null,null,null,null,null,null,null,null,null,null,{"$f":"IF(referentes!AJ526=\"\",\"\",IF(IFERROR(SEARCH(\"*-*\",referentes!AJ526),2)=1,IF(referentes!AJ526=\"\",\"\",LEFT(referentes!AJ526,FIND(\"*-*\",referentes!AJ526)-1)),referentes!AJ526))","v":""},null,""]
[null,null,null,null,null,null,null,null,null,null,null,null,null,null,null,null,null,null,{"$f":"IF(referentes!AJ527=\"\",\"\",IF(IFERROR(SEARCH(\"*-*\",referentes!AJ527),2)=1,IF(referentes!AJ527=\"\",\"\",LEFT(referentes!AJ527,FIND(\"*-*\",referentes!AJ527)-1)),referentes!AJ527))","v":""},null,""]
[null,null,null,null,null,null,null,null,null,null,null,null,null,null,null,null,null,null,{"$f":"IF(referentes!AJ528=\"\",\"\",IF(IFERROR(SEARCH(\"*-*\",referentes!AJ528),2)=1,IF(referentes!AJ528=\"\",\"\",LEFT(referentes!AJ528,FIND(\"*-*\",referentes!AJ528)-1)),referentes!AJ528))","v":""},null,""]
[null,null,null,null,null,null,null,null,null,null,null,null,null,null,null,null,null,null,{"$f":"IF(referentes!AJ529=\"\",\"\",IF(IFERROR(SEARCH(\"*-*\",referentes!AJ529),2)=1,IF(referentes!AJ529=\"\",\"\",LEFT(referentes!AJ529,FIND(\"*-*\",referentes!AJ529)-1)),referentes!AJ529))","v":""},null,""]
[null,null,null,null,null,null,null,null,null,null,null,null,null,null,null,null,null,null,{"$f":"IF(referentes!AJ530=\"\",\"\",IF(IFERROR(SEARCH(\"*-*\",referentes!AJ530),2)=1,IF(referentes!AJ530=\"\",\"\",LEFT(referentes!AJ530,FIND(\"*-*\",referentes!AJ530)-1)),referentes!AJ530))","v":""},null,""]
[null,null,null,null,null,null,null,null,null,null,null,null,null,null,null,null,null,null,{"$f":"IF(referentes!AJ531=\"\",\"\",IF(IFERROR(SEARCH(\"*-*\",referentes!AJ531),2)=1,IF(referentes!AJ531=\"\",\"\",LEFT(referentes!AJ531,FIND(\"*-*\",referentes!AJ531)-1)),referentes!AJ531))","v":""},null,""]
[null,null,null,null,null,null,null,null,null,null,null,null,null,null,null,null,null,null,{"$f":"IF(referentes!AJ532=\"\",\"\",IF(IFERROR(SEARCH(\"*-*\",referentes!AJ532),2)=1,IF(referentes!AJ532=\"\",\"\",LEFT(referentes!AJ532,FIND(\"*-*\",referentes!AJ532)-1)),referentes!AJ532))","v":""},null,""]
[null,null,null,null,null,null,null,null,null,null,null,null,null,null,null,null,null,null,{"$f":"IF(referentes!AJ533=\"\",\"\",IF(IFERROR(SEARCH(\"*-*\",referentes!AJ533),2)=1,IF(referentes!AJ533=\"\",\"\",LEFT(referentes!AJ533,FIND(\"*-*\",referentes!AJ533)-1)),referentes!AJ533))","v":""},null,""]
[null,null,null,null,null,null,null,null,null,null,null,null,null,null,null,null,null,null,{"$f":"IF(referentes!AJ534=\"\",\"\",IF(IFERROR(SEARCH(\"*-*\",referentes!AJ534),2)=1,IF(referentes!AJ534=\"\",\"\",LEFT(referentes!AJ534,FIND(\"*-*\",referentes!AJ534)-1)),referentes!AJ534))","v":""},null,""]
[null,null,null,null,null,null,null,null,null,null,null,null,null,null,null,null,null,null,{"$f":"IF(referentes!AJ535=\"\",\"\",IF(IFERROR(SEARCH(\"*-*\",referentes!AJ535),2)=1,IF(referentes!AJ535=\"\",\"\",LEFT(referentes!AJ535,FIND(\"*-*\",referentes!AJ535)-1)),referentes!AJ535))","v":""},null,""]
[null,null,null,null,null,null,null,null,null,null,null,null,null,null,null,null,null,null,{"$f":"IF(referentes!AJ536=\"\",\"\",IF(IFERROR(SEARCH(\"*-*\",referentes!AJ536),2)=1,IF(referentes!AJ536=\"\",\"\",LEFT(referentes!AJ536,FIND(\"*-*\",referentes!AJ536)-1)),referentes!AJ536))","v":""},null,""]
[null,null,null,null,null,null,null,null,null,null,null,null,null,null,null,null,null,null,{"$f":"IF(referentes!AJ537=\"\",\"\",IF(IFERROR(SEARCH(\"*-*\",referentes!AJ537),2)=1,IF(referentes!AJ537=\"\",\"\",LEFT(referentes!AJ537,FIND(\"*-*\",referentes!AJ537)-1)),referentes!AJ537))","v":""},null,""]
[null,null,null,null,null,null,null,null,null,null,null,null,null,null,null,null,null,null,{"$f":"IF(referentes!AJ538=\"\",\"\",IF(IFERROR(SEARCH(\"*-*\",referentes!AJ538),2)=1,IF(referentes!AJ538=\"\",\"\",LEFT(referentes!AJ538,FIND(\"*-*\",referentes!AJ538)-1)),referentes!AJ538))","v":""},null,""]
[null,null,null,null,null,null,null,null,null,null,null,null,null,null,null,null,null,null,{"$f":"IF(referentes!AJ539=\"\",\"\",IF(IFERROR(SEARCH(\"*-*\",referentes!AJ539),2)=1,IF(referentes!AJ539=\"\",\"\",LEFT(referentes!AJ539,FIND(\"*-*\",referentes!AJ539)-1)),referentes!AJ539))","v":""},null,""]
[null,null,null,null,null,null,null,null,null,null,null,null,null,null,null,null,null,null,{"$f":"IF(referentes!AJ540=\"\",\"\",IF(IFERROR(SEARCH(\"*-*\",referentes!AJ540),2)=1,IF(referentes!AJ540=\"\",\"\",LEFT(referentes!AJ540,FIND(\"*-*\",referentes!AJ540)-1)),referentes!AJ540))","v":""},null,""]
[null,null,null,null,null,null,null,null,null,null,null,null,null,null,null,null,null,null,{"$f":"IF(referentes!AJ541=\"\",\"\",IF(IFERROR(SEARCH(\"*-*\",referentes!AJ541),2)=1,IF(referentes!AJ541=\"\",\"\",LEFT(referentes!AJ541,FIND(\"*-*\",referentes!AJ541)-1)),referentes!AJ541))","v":""},null,""]
[null,null,null,null,null,null,null,null,null,null,null,null,null,null,null,null,null,null,{"$f":"IF(referentes!AJ542=\"\",\"\",IF(IFERROR(SEARCH(\"*-*\",referentes!AJ542),2)=1,IF(referentes!AJ542=\"\",\"\",LEFT(referentes!AJ542,FIND(\"*-*\",referentes!AJ542)-1)),referentes!AJ542))","v":""},null,""]
[null,null,null,null,null,null,null,null,null,null,null,null,null,null,null,null,null,null,{"$f":"IF(referentes!AJ543=\"\",\"\",IF(IFERROR(SEARCH(\"*-*\",referentes!AJ543),2)=1,IF(referentes!AJ543=\"\",\"\",LEFT(referentes!AJ543,FIND(\"*-*\",referentes!AJ543)-1)),referentes!AJ543))","v":""},null,""]
[null,null,null,null,null,null,null,null,null,null,null,null,null,null,null,null,null,null,{"$f":"IF(referentes!AJ544=\"\",\"\",IF(IFERROR(SEARCH(\"*-*\",referentes!AJ544),2)=1,IF(referentes!AJ544=\"\",\"\",LEFT(referentes!AJ544,FIND(\"*-*\",referentes!AJ544)-1)),referentes!AJ544))","v":""},null,""]
[null,null,null,null,null,null,null,null,null,null,null,null,null,null,null,null,null,null,{"$f":"IF(referentes!AJ545=\"\",\"\",IF(IFERROR(SEARCH(\"*-*\",referentes!AJ545),2)=1,IF(referentes!AJ545=\"\",\"\",LEFT(referentes!AJ545,FIND(\"*-*\",referentes!AJ545)-1)),referentes!AJ545))","v":""},null,""]
[null,null,null,null,null,null,null,null,null,null,null,null,null,null,null,null,null,null,{"$f":"IF(referentes!AJ546=\"\",\"\",IF(IFERROR(SEARCH(\"*-*\",referentes!AJ546),2)=1,IF(referentes!AJ546=\"\",\"\",LEFT(referentes!AJ546,FIND(\"*-*\",referentes!AJ546)-1)),referentes!AJ546))","v":""},null,""]
[null,null,null,null,null,null,null,null,null,null,null,null,null,null,null,null,null,null,{"$f":"IF(referentes!AJ547=\"\",\"\",IF(IFERROR(SEARCH(\"*-*\",referentes!AJ547),2)=1,IF(referentes!AJ547=\"\",\"\",LEFT(referentes!AJ547,FIND(\"*-*\",referentes!AJ547)-1)),referentes!AJ547))","v":""},null,""]
[null,null,null,null,null,null,null,null,null,null,null,null,null,null,null,null,null,null,{"$f":"IF(referentes!AJ548=\"\",\"\",IF(IFERROR(SEARCH(\"*-*\",referentes!AJ548),2)=1,IF(referentes!AJ548=\"\",\"\",LEFT(referentes!AJ548,FIND(\"*-*\",referentes!AJ548)-1)),referentes!AJ548))","v":""},null,""]
[null,null,null,null,null,null,null,null,null,null,null,null,null,null,null,null,null,null,{"$f":"IF(referentes!AJ549=\"\",\"\",IF(IFERROR(SEARCH(\"*-*\",referentes!AJ549),2)=1,IF(referentes!AJ549=\"\",\"\",LEFT(referentes!AJ549,FIND(\"*-*\",referentes!AJ549)-1)),referentes!AJ549))","v":""},null,""]
[null,null,null,null,null,null,null,null,null,null,null,null,null,null,null,null,null,null,{"$f":"IF(referentes!AJ550=\"\",\"\",IF(IFERROR(SEARCH(\"*-*\",referentes!AJ550),2)=1,IF(referentes!AJ550=\"\",\"\",LEFT(referentes!AJ550,FIND(\"*-*\",referentes!AJ550)-1)),referentes!AJ550))","v":""},null,""]
[null,null,null,null,null,null,null,null,null,null,null,null,null,null,null,null,null,null,{"$f":"IF(referentes!AJ551=\"\",\"\",IF(IFERROR(SEARCH(\"*-*\",referentes!AJ551),2)=1,IF(referentes!AJ551=\"\",\"\",LEFT(referentes!AJ551,FIND(\"*-*\",referentes!AJ551)-1)),referentes!AJ551))","v":""},null,""]
[null,null,null,null,null,null,null,null,null,null,null,null,null,null,null,null,null,null,{"$f":"IF(referentes!AJ552=\"\",\"\",IF(IFERROR(SEARCH(\"*-*\",referentes!AJ552),2)=1,IF(referentes!AJ552=\"\",\"\",LEFT(referentes!AJ552,FIND(\"*-*\",referentes!AJ552)-1)),referentes!AJ552))","v":""},null,""]
[null,null,null,null,null,null,null,null,null,null,null,null,null,null,null,null,null,null,{"$f":"IF(referentes!AJ553=\"\",\"\",IF(IFERROR(SEARCH(\"*-*\",referentes!AJ553),2)=1,IF(referentes!AJ553=\"\",\"\",LEFT(referentes!AJ553,FIND(\"*-*\",referentes!AJ553)-1)),referentes!AJ553))","v":""},null,""]
[null,null,null,null,null,null,null,null,null,null,null,null,null,null,null,null,null,null,{"$f":"IF(referentes!AJ554=\"\",\"\",IF(IFERROR(SEARCH(\"*-*\",referentes!AJ554),2)=1,IF(referentes!AJ554=\"\",\"\",LEFT(referentes!AJ554,FIND(\"*-*\",referentes!AJ554)-1)),referentes!AJ554))","v":""},null,""]
[null,null,null,null,null,null,null,null,null,null,null,null,null,null,null,null,null,null,{"$f":"IF(referentes!AJ555=\"\",\"\",IF(IFERROR(SEARCH(\"*-*\",referentes!AJ555),2)=1,IF(referentes!AJ555=\"\",\"\",LEFT(referentes!AJ555,FIND(\"*-*\",referentes!AJ555)-1)),referentes!AJ555))","v":""},null,""]
[null,null,null,null,null,null,null,null,null,null,null,null,null,null,null,null,null,null,{"$f":"IF(referentes!AJ556=\"\",\"\",IF(IFERROR(SEARCH(\"*-*\",referentes!AJ556),2)=1,IF(referentes!AJ556=\"\",\"\",LEFT(referentes!AJ556,FIND(\"*-*\",referentes!AJ556)-1)),referentes!AJ556))","v":""},null,""]
[null,null,null,null,null,null,null,null,null,null,null,null,null,null,null,null,null,null,{"$f":"IF(referentes!AJ557=\"\",\"\",IF(IFERROR(SEARCH(\"*-*\",referentes!AJ557),2)=1,IF(referentes!AJ557=\"\",\"\",LEFT(referentes!AJ557,FIND(\"*-*\",referentes!AJ557)-1)),referentes!AJ557))","v":""},null,""]
[null,null,null,null,null,null,null,null,null,null,null,null,null,null,null,null,null,null,{"$f":"IF(referentes!AJ558=\"\",\"\",IF(IFERROR(SEARCH(\"*-*\",referentes!AJ558),2)=1,IF(referentes!AJ558=\"\",\"\",LEFT(referentes!AJ558,FIND(\"*-*\",referentes!AJ558)-1)),referentes!AJ558))","v":""},null,""]
[null,null,null,null,null,null,null,null,null,null,null,null,null,null,null,null,null,null,{"$f":"IF(referentes!AJ559=\"\",\"\",IF(IFERROR(SEARCH(\"*-*\",referentes!AJ559),2)=1,IF(referentes!AJ559=\"\",\"\",LEFT(referentes!AJ559,FIND(\"*-*\",referentes!AJ559)-1)),referentes!AJ559))","v":""},null,""]
[null,null,null,null,null,null,null,null,null,null,null,null,null,null,null,null,null,null,{"$f":"IF(referentes!AJ560=\"\",\"\",IF(IFERROR(SEARCH(\"*-*\",referentes!AJ560),2)=1,IF(referentes!AJ560=\"\",\"\",LEFT(referentes!AJ560,FIND(\"*-*\",referentes!AJ560)-1)),referentes!AJ560))","v":""},null,""]
[null,null,null,null,null,null,null,null,null,null,null,null,null,null,null,null,null,null,{"$f":"IF(referentes!AJ561=\"\",\"\",IF(IFERROR(SEARCH(\"*-*\",referentes!AJ561),2)=1,IF(referentes!AJ561=\"\",\"\",LEFT(referentes!AJ561,FIND(\"*-*\",referentes!AJ561)-1)),referentes!AJ561))","v":""},null,""]
[null,null,null,null,null,null,null,null,null,null,null,null,null,null,null,null,null,null,{"$f":"IF(referentes!AJ562=\"\",\"\",IF(IFERROR(SEARCH(\"*-*\",referentes!AJ562),2)=1,IF(referentes!AJ562=\"\",\"\",LEFT(referentes!AJ562,FIND(\"*-*\",referentes!AJ562)-1)),referentes!AJ562))","v":""},null,""]
[null,null,null,null,null,null,null,null,null,null,null,null,null,null,null,null,null,null,{"$f":"IF(referentes!AJ563=\"\",\"\",IF(IFERROR(SEARCH(\"*-*\",referentes!AJ563),2)=1,IF(referentes!AJ563=\"\",\"\",LEFT(referentes!AJ563,FIND(\"*-*\",referentes!AJ563)-1)),referentes!AJ563))","v":""},null,""]
[null,null,null,null,null,null,null,null,null,null,null,null,null,null,null,null,null,null,{"$f":"IF(referentes!AJ564=\"\",\"\",IF(IFERROR(SEARCH(\"*-*\",referentes!AJ564),2)=1,IF(referentes!AJ564=\"\",\"\",LEFT(referentes!AJ564,FIND(\"*-*\",referentes!AJ564)-1)),referentes!AJ564))","v":""},null,""]
[null,null,null,null,null,null,null,null,null,null,null,null,null,null,null,null,null,null,{"$f":"IF(referentes!AJ565=\"\",\"\",IF(IFERROR(SEARCH(\"*-*\",referentes!AJ565),2)=1,IF(referentes!AJ565=\"\",\"\",LEFT(referentes!AJ565,FIND(\"*-*\",referentes!AJ565)-1)),referentes!AJ565))","v":""},null,""]
[null,null,null,null,null,null,null,null,null,null,null,null,null,null,null,null,null,null,{"$f":"IF(referentes!AJ566=\"\",\"\",IF(IFERROR(SEARCH(\"*-*\",referentes!AJ566),2)=1,IF(referentes!AJ566=\"\",\"\",LEFT(referentes!AJ566,FIND(\"*-*\",referentes!AJ566)-1)),referentes!AJ566))","v":""},null,""]
[null,null,null,null,null,null,null,null,null,null,null,null,null,null,null,null,null,null,{"$f":"IF(referentes!AJ567=\"\",\"\",IF(IFERROR(SEARCH(\"*-*\",referentes!AJ567),2)=1,IF(referentes!AJ567=\"\",\"\",LEFT(referentes!AJ567,FIND(\"*-*\",referentes!AJ567)-1)),referentes!AJ567))","v":""},null,""]
[null,null,null,null,null,null,null,null,null,null,null,null,null,null,null,null,null,null,{"$f":"IF(referentes!AJ568=\"\",\"\",IF(IFERROR(SEARCH(\"*-*\",referentes!AJ568),2)=1,IF(referentes!AJ568=\"\",\"\",LEFT(referentes!AJ568,FIND(\"*-*\",referentes!AJ568)-1)),referentes!AJ568))","v":""},null,""]
[null,null,null,null,null,null,null,null,null,null,null,null,null,null,null,null,null,null,{"$f":"IF(referentes!AJ569=\"\",\"\",IF(IFERROR(SEARCH(\"*-*\",referentes!AJ569),2)=1,IF(referentes!AJ569=\"\",\"\",LEFT(referentes!AJ569,FIND(\"*-*\",referentes!AJ569)-1)),referentes!AJ569))","v":""},null,""]
[null,null,null,null,null,null,null,null,null,null,null,null,null,null,null,null,null,null,{"$f":"IF(referentes!AJ570=\"\",\"\",IF(IFERROR(SEARCH(\"*-*\",referentes!AJ570),2)=1,IF(referentes!AJ570=\"\",\"\",LEFT(referentes!AJ570,FIND(\"*-*\",referentes!AJ570)-1)),referentes!AJ570))","v":""},null,""]
[null,null,null,null,null,null,null,null,null,null,null,null,null,null,null,null,null,null,{"$f":"IF(referentes!AJ571=\"\",\"\",IF(IFERROR(SEARCH(\"*-*\",referentes!AJ571),2)=1,IF(referentes!AJ571=\"\",\"\",LEFT(referentes!AJ571,FIND(\"*-*\",referentes!AJ571)-1)),referentes!AJ571))","v":""},null,""]
[null,null,null,null,null,null,null,null,null,null,null,null,null,null,null,null,null,null,{"$f":"IF(referentes!AJ572=\"\",\"\",IF(IFERROR(SEARCH(\"*-*\",referentes!AJ572),2)=1,IF(referentes!AJ572=\"\",\"\",LEFT(referentes!AJ572,FIND(\"*-*\",referentes!AJ572)-1)),referentes!AJ572))","v":""},null,""]
[null,null,null,null,null,null,null,null,null,null,null,null,null,null,null,null,null,null,{"$f":"IF(referentes!AJ573=\"\",\"\",IF(IFERROR(SEARCH(\"*-*\",referentes!AJ573),2)=1,IF(referentes!AJ573=\"\",\"\",LEFT(referentes!AJ573,FIND(\"*-*\",referentes!AJ573)-1)),referentes!AJ573))","v":""},null,""]
[null,null,null,null,null,null,null,null,null,null,null,null,null,null,null,null,null,null,{"$f":"IF(referentes!AJ574=\"\",\"\",IF(IFERROR(SEARCH(\"*-*\",referentes!AJ574),2)=1,IF(referentes!AJ574=\"\",\"\",LEFT(referentes!AJ574,FIND(\"*-*\",referentes!AJ574)-1)),referentes!AJ574))","v":""},null,""]
[null,null,null,null,null,null,null,null,null,null,null,null,null,null,null,null,null,null,{"$f":"IF(referentes!AJ575=\"\",\"\",IF(IFERROR(SEARCH(\"*-*\",referentes!AJ575),2)=1,IF(referentes!AJ575=\"\",\"\",LEFT(referentes!AJ575,FIND(\"*-*\",referentes!AJ575)-1)),referentes!AJ575))","v":""},null,""]
[null,null,null,null,null,null,null,null,null,null,null,null,null,null,null,null,null,null,{"$f":"IF(referentes!AJ576=\"\",\"\",IF(IFERROR(SEARCH(\"*-*\",referentes!AJ576),2)=1,IF(referentes!AJ576=\"\",\"\",LEFT(referentes!AJ576,FIND(\"*-*\",referentes!AJ576)-1)),referentes!AJ576))","v":""},null,""]
[null,null,null,null,null,null,null,null,null,null,null,null,null,null,null,null,null,null,{"$f":"IF(referentes!AJ577=\"\",\"\",IF(IFERROR(SEARCH(\"*-*\",referentes!AJ577),2)=1,IF(referentes!AJ577=\"\",\"\",LEFT(referentes!AJ577,FIND(\"*-*\",referentes!AJ577)-1)),referentes!AJ577))","v":""},null,""]
[null,null,null,null,null,null,null,null,null,null,null,null,null,null,null,null,null,null,{"$f":"IF(referentes!AJ578=\"\",\"\",IF(IFERROR(SEARCH(\"*-*\",referentes!AJ578),2)=1,IF(referentes!AJ578=\"\",\"\",LEFT(referentes!AJ578,FIND(\"*-*\",referentes!AJ578)-1)),referentes!AJ578))","v":""},null,""]
[null,null,null,null,null,null,null,null,null,null,null,null,null,null,null,null,null,null,{"$f":"IF(referentes!AJ579=\"\",\"\",IF(IFERROR(SEARCH(\"*-*\",referentes!AJ579),2)=1,IF(referentes!AJ579=\"\",\"\",LEFT(referentes!AJ579,FIND(\"*-*\",referentes!AJ579)-1)),referentes!AJ579))","v":""},null,""]
[null,null,null,null,null,null,null,null,null,null,null,null,null,null,null,null,null,null,{"$f":"IF(referentes!AJ580=\"\",\"\",IF(IFERROR(SEARCH(\"*-*\",referentes!AJ580),2)=1,IF(referentes!AJ580=\"\",\"\",LEFT(referentes!AJ580,FIND(\"*-*\",referentes!AJ580)-1)),referentes!AJ580))","v":""},null,""]
[null,null,null,null,null,null,null,null,null,null,null,null,null,null,null,null,null,null,{"$f":"IF(referentes!AJ581=\"\",\"\",IF(IFERROR(SEARCH(\"*-*\",referentes!AJ581),2)=1,IF(referentes!AJ581=\"\",\"\",LEFT(referentes!AJ581,FIND(\"*-*\",referentes!AJ581)-1)),referentes!AJ581))","v":""},null,""]
[null,null,null,null,null,null,null,null,null,null,null,null,null,null,null,null,null,null,{"$f":"IF(referentes!AJ582=\"\",\"\",IF(IFERROR(SEARCH(\"*-*\",referentes!AJ582),2)=1,IF(referentes!AJ582=\"\",\"\",LEFT(referentes!AJ582,FIND(\"*-*\",referentes!AJ582)-1)),referentes!AJ582))","v":""},null,""]
[null,null,null,null,null,null,null,null,null,null,null,null,null,null,null,null,null,null,{"$f":"IF(referentes!AJ583=\"\",\"\",IF(IFERROR(SEARCH(\"*-*\",referentes!AJ583),2)=1,IF(referentes!AJ583=\"\",\"\",LEFT(referentes!AJ583,FIND(\"*-*\",referentes!AJ583)-1)),referentes!AJ583))","v":""},null,""]
[null,null,null,null,null,null,null,null,null,null,null,null,null,null,null,null,null,null,{"$f":"IF(referentes!AJ584=\"\",\"\",IF(IFERROR(SEARCH(\"*-*\",referentes!AJ584),2)=1,IF(referentes!AJ584=\"\",\"\",LEFT(referentes!AJ584,FIND(\"*-*\",referentes!AJ584)-1)),referentes!AJ584))","v":""},null,{"$f":"IF(IFERROR(T583,R583)=S583,\"\",R583)","v":""}]
[null,null,null,null,null,null,null,null,null,null,null,null,null,null,null,null,null,null,{"$f":"IF(referentes!AJ585=\"\",\"\",IF(IFERROR(SEARCH(\"*-*\",referentes!AJ585),2)=1,IF(referentes!AJ585=\"\",\"\",LEFT(referentes!AJ585,FIND(\"*-*\",referentes!AJ585)-1)),referentes!AJ585))","v":""},null,""]
[null,null,null,null,null,null,null,null,null,null,null,null,null,null,null,null,null,null,{"$f":"IF(referentes!AJ586=\"\",\"\",IF(IFERROR(SEARCH(\"*-*\",referentes!AJ586),2)=1,IF(referentes!AJ586=\"\",\"\",LEFT(referentes!AJ586,FIND(\"*-*\",referentes!AJ586)-1)),referentes!AJ586))","v":""},null,""]
[null,null,null,null,null,null,null,null,null,null,null,null,null,null,null,null,null,null,{"$f":"IF(referentes!AJ587=\"\",\"\",IF(IFERROR(SEARCH(\"*-*\",referentes!AJ587),2)=1,IF(referentes!AJ587=\"\",\"\",LEFT(referentes!AJ587,FIND(\"*-*\",referentes!AJ587)-1)),referentes!AJ587))","v":""},null,""]
[null,null,null,null,null,null,null,null,null,null,null,null,null,null,null,null,null,null,{"$f":"IF(referentes!AJ588=\"\",\"\",IF(IFERROR(SEARCH(\"*-*\",referentes!AJ588),2)=1,IF(referentes!AJ588=\"\",\"\",LEFT(referentes!AJ588,FIND(\"*-*\",referentes!AJ588)-1)),referentes!AJ588))","v":""},null,""]
[null,null,null,null,null,null,null,null,null,null,null,null,null,null,null,null,null,null,{"$f":"IF(referentes!AJ589=\"\",\"\",IF(IFERROR(SEARCH(\"*-*\",referentes!AJ589),2)=1,IF(referentes!AJ589=\"\",\"\",LEFT(referentes!AJ589,FIND(\"*-*\",referentes!AJ589)-1)),referentes!AJ589))","v":""},null,""]
[null,null,null,null,null,null,null,null,null,null,null,null,null,null,null,null,null,null,{"$f":"IF(referentes!AJ590=\"\",\"\",IF(IFERROR(SEARCH(\"*-*\",referentes!AJ590),2)=1,IF(referentes!AJ590=\"\",\"\",LEFT(referentes!AJ590,FIND(\"*-*\",referentes!AJ590)-1)),referentes!AJ590))","v":""},null,""]
[null,null,null,null,null,null,null,null,null,null,null,null,null,null,null,null,null,null,{"$f":"IF(referentes!AJ591=\"\",\"\",IF(IFERROR(SEARCH(\"*-*\",referentes!AJ591),2)=1,IF(referentes!AJ591=\"\",\"\",LEFT(referentes!AJ591,FIND(\"*-*\",referentes!AJ591)-1)),referentes!AJ591))","v":""},null,""]
[null,null,null,null,null,null,null,null,null,null,null,null,null,null,null,null,null,null,{"$f":"IF(referentes!AJ592=\"\",\"\",IF(IFERROR(SEARCH(\"*-*\",referentes!AJ592),2)=1,IF(referentes!AJ592=\"\",\"\",LEFT(referentes!AJ592,FIND(\"*-*\",referentes!AJ592)-1)),referentes!AJ592))","v":""},null,""]
[null,null,null,null,null,null,null,null,null,null,null,null,null,null,null,null,null,null,{"$f":"IF(referentes!AJ593=\"\",\"\",IF(IFERROR(SEARCH(\"*-*\",referentes!AJ593),2)=1,IF(referentes!AJ593=\"\",\"\",LEFT(referentes!AJ593,FIND(\"*-*\",referentes!AJ593)-1)),referentes!AJ593))","v":""},null,""]
[null,null,null,null,null,null,null,null,null,null,null,null,null,null,null,null,null,null,{"$f":"IF(referentes!AJ594=\"\",\"\",IF(IFERROR(SEARCH(\"*-*\",referentes!AJ594),2)=1,IF(referentes!AJ594=\"\",\"\",LEFT(referentes!AJ594,FIND(\"*-*\",referentes!AJ594)-1)),referentes!AJ594))","v":""},null,""]
[null,null,null,null,null,null,null,null,null,null,null,null,null,null,null,null,null,null,{"$f":"IF(referentes!AJ595=\"\",\"\",IF(IFERROR(SEARCH(\"*-*\",referentes!AJ595),2)=1,IF(referentes!AJ595=\"\",\"\",LEFT(referentes!AJ595,FIND(\"*-*\",referentes!AJ595)-1)),referentes!AJ595))","v":""},null,""]
[null,null,null,null,null,null,null,null,null,null,null,null,null,null,null,null,null,null,{"$f":"IF(referentes!AJ596=\"\",\"\",IF(IFERROR(SEARCH(\"*-*\",referentes!AJ596),2)=1,IF(referentes!AJ596=\"\",\"\",LEFT(referentes!AJ596,FIND(\"*-*\",referentes!AJ596)-1)),referentes!AJ596))","v":""},null,""]
[null,null,null,null,null,null,null,null,null,null,null,null,null,null,null,null,null,null,{"$f":"IF(referentes!AJ597=\"\",\"\",IF(IFERROR(SEARCH(\"*-*\",referentes!AJ597),2)=1,IF(referentes!AJ597=\"\",\"\",LEFT(referentes!AJ597,FIND(\"*-*\",referentes!AJ597)-1)),referentes!AJ597))","v":""},null,""]
[null,null,null,null,null,null,null,null,null,null,null,null,null,null,null,null,null,null,{"$f":"IF(referentes!AJ598=\"\",\"\",IF(IFERROR(SEARCH(\"*-*\",referentes!AJ598),2)=1,IF(referentes!AJ598=\"\",\"\",LEFT(referentes!AJ598,FIND(\"*-*\",referentes!AJ598)-1)),referentes!AJ598))","v":""},null,""]
[null,null,null,null,null,null,null,null,null,null,null,null,null,null,null,null,null,null,{"$f":"IF(referentes!AJ599=\"\",\"\",IF(IFERROR(SEARCH(\"*-*\",referentes!AJ599),2)=1,IF(referentes!AJ599=\"\",\"\",LEFT(referentes!AJ599,FIND(\"*-*\",referentes!AJ599)-1)),referentes!AJ599))","v":""},null,""]
[null,null,null,null,null,null,null,null,null,null,null,null,null,null,null,null,null,null,{"$f":"IF(referentes!AJ600=\"\",\"\",IF(IFERROR(SEARCH(\"*-*\",referentes!AJ600),2)=1,IF(referentes!AJ600=\"\",\"\",LEFT(referentes!AJ600,FIND(\"*-*\",referentes!AJ600)-1)),referentes!AJ600))","v":""},null,""]
[null,null,null,null,null,null,null,null,null,null,null,null,null,null,null,null,null,null,{"$f":"IF(referentes!AJ601=\"\",\"\",IF(IFERROR(SEARCH(\"*-*\",referentes!AJ601),2)=1,IF(referentes!AJ601=\"\",\"\",LEFT(referentes!AJ601,FIND(\"*-*\",referentes!AJ601)-1)),referentes!AJ601))","v":""},null,""]
[null,null,null,null,null,null,null,null,null,null,null,null,null,null,null,null,null,null,{"$f":"IF(referentes!AJ602=\"\",\"\",IF(IFERROR(SEARCH(\"*-*\",referentes!AJ602),2)=1,IF(referentes!AJ602=\"\",\"\",LEFT(referentes!AJ602,FIND(\"*-*\",referentes!AJ602)-1)),referentes!AJ602))","v":""},null,""]
[null,null,null,null,null,null,null,null,null,null,null,null,null,null,null,null,null,null,{"$f":"IF(referentes!AJ603=\"\",\"\",IF(IFERROR(SEARCH(\"*-*\",referentes!AJ603),2)=1,IF(referentes!AJ603=\"\",\"\",LEFT(referentes!AJ603,FIND(\"*-*\",referentes!AJ603)-1)),referentes!AJ603))","v":""},null,""]
[null,null,null,null,null,null,null,null,null,null,null,null,null,null,null,null,null,null,{"$f":"IF(referentes!AJ604=\"\",\"\",IF(IFERROR(SEARCH(\"*-*\",referentes!AJ604),2)=1,IF(referentes!AJ604=\"\",\"\",LEFT(referentes!AJ604,FIND(\"*-*\",referentes!AJ604)-1)),referentes!AJ604))","v":""},null,""]
[null,null,null,null,null,null,null,null,null,null,null,null,null,null,null,null,null,null,{"$f":"IF(referentes!AJ605=\"\",\"\",IF(IFERROR(SEARCH(\"*-*\",referentes!AJ605),2)=1,IF(referentes!AJ605=\"\",\"\",LEFT(referentes!AJ605,FIND(\"*-*\",referentes!AJ605)-1)),referentes!AJ605))","v":""},null,""]
[null,null,null,null,null,null,null,null,null,null,null,null,null,null,null,null,null,null,{"$f":"IF(referentes!AJ606=\"\",\"\",IF(IFERROR(SEARCH(\"*-*\",referentes!AJ606),2)=1,IF(referentes!AJ606=\"\",\"\",LEFT(referentes!AJ606,FIND(\"*-*\",referentes!AJ606)-1)),referentes!AJ606))","v":""},null,""]
[null,null,null,null,null,null,null,null,null,null,null,null,null,null,null,null,null,null,{"$f":"IF(referentes!AJ607=\"\",\"\",IF(IFERROR(SEARCH(\"*-*\",referentes!AJ607),2)=1,IF(referentes!AJ607=\"\",\"\",LEFT(referentes!AJ607,FIND(\"*-*\",referentes!AJ607)-1)),referentes!AJ607))","v":""},null,""]
[null,null,null,null,null,null,null,null,null,null,null,null,null,null,null,null,null,null,{"$f":"IF(referentes!AJ608=\"\",\"\",IF(IFERROR(SEARCH(\"*-*\",referentes!AJ608),2)=1,IF(referentes!AJ608=\"\",\"\",LEFT(referentes!AJ608,FIND(\"*-*\",referentes!AJ608)-1)),referentes!AJ608))","v":""},null,""]
[null,null,null,null,null,null,null,null,null,null,null,null,null,null,null,null,null,null,{"$f":"IF(referentes!AJ609=\"\",\"\",IF(IFERROR(SEARCH(\"*-*\",referentes!AJ609),2)=1,IF(referentes!AJ609=\"\",\"\",LEFT(referentes!AJ609,FIND(\"*-*\",referentes!AJ609)-1)),referentes!AJ609))","v":""},null,""]
[null,null,null,null,null,null,null,null,null,null,null,null,null,null,null,null,null,null,{"$f":"IF(referentes!AJ610=\"\",\"\",IF(IFERROR(SEARCH(\"*-*\",referentes!AJ610),2)=1,IF(referentes!AJ610=\"\",\"\",LEFT(referentes!AJ610,FIND(\"*-*\",referentes!AJ610)-1)),referentes!AJ610))","v":""},null,""]
[null,null,null,null,null,null,null,null,null,null,null,null,null,null,null,null,null,null,{"$f":"IF(referentes!AJ611=\"\",\"\",IF(IFERROR(SEARCH(\"*-*\",referentes!AJ611),2)=1,IF(referentes!AJ611=\"\",\"\",LEFT(referentes!AJ611,FIND(\"*-*\",referentes!AJ611)-1)),referentes!AJ611))","v":""},null,""]
[null,null,null,null,null,null,null,null,null,null,null,null,null,null,null,null,null,null,{"$f":"IF(referentes!AJ612=\"\",\"\",IF(IFERROR(SEARCH(\"*-*\",referentes!AJ612),2)=1,IF(referentes!AJ612=\"\",\"\",LEFT(referentes!AJ612,FIND(\"*-*\",referentes!AJ612)-1)),referentes!AJ612))","v":""},null,""]
[null,null,null,null,null,null,null,null,null,null,null,null,null,null,null,null,null,null,{"$f":"IF(referentes!AJ613=\"\",\"\",IF(IFERROR(SEARCH(\"*-*\",referentes!AJ613),2)=1,IF(referentes!AJ613=\"\",\"\",LEFT(referentes!AJ613,FIND(\"*-*\",referentes!AJ613)-1)),referentes!AJ613))","v":""},null,""]
[null,null,null,null,null,null,null,null,null,null,null,null,null,null,null,null,null,null,{"$f":"IF(referentes!AJ614=\"\",\"\",IF(IFERROR(SEARCH(\"*-*\",referentes!AJ614),2)=1,IF(referentes!AJ614=\"\",\"\",LEFT(referentes!AJ614,FIND(\"*-*\",referentes!AJ614)-1)),referentes!AJ614))","v":""},null,""]
[null,null,null,null,null,null,null,null,null,null,null,null,null,null,null,null,null,null,{"$f":"IF(referentes!AJ615=\"\",\"\",IF(IFERROR(SEARCH(\"*-*\",referentes!AJ615),2)=1,IF(referentes!AJ615=\"\",\"\",LEFT(referentes!AJ615,FIND(\"*-*\",referentes!AJ615)-1)),referentes!AJ615))","v":""},null,""]
[null,null,null,null,null,null,null,null,null,null,null,null,null,null,null,null,null,null,{"$f":"IF(referentes!AJ616=\"\",\"\",IF(IFERROR(SEARCH(\"*-*\",referentes!AJ616),2)=1,IF(referentes!AJ616=\"\",\"\",LEFT(referentes!AJ616,FIND(\"*-*\",referentes!AJ616)-1)),referentes!AJ616))","v":""},null,""]
[null,null,null,null,null,null,null,null,null,null,null,null,null,null,null,null,null,null,{"$f":"IF(referentes!AJ617=\"\",\"\",IF(IFERROR(SEARCH(\"*-*\",referentes!AJ617),2)=1,IF(referentes!AJ617=\"\",\"\",LEFT(referentes!AJ617,FIND(\"*-*\",referentes!AJ617)-1)),referentes!AJ617))","v":""},null,""]
[null,null,null,null,null,null,null,null,null,null,null,null,null,null,null,null,null,null,{"$f":"IF(referentes!AJ618=\"\",\"\",IF(IFERROR(SEARCH(\"*-*\",referentes!AJ618),2)=1,IF(referentes!AJ618=\"\",\"\",LEFT(referentes!AJ618,FIND(\"*-*\",referentes!AJ618)-1)),referentes!AJ618))","v":""},null,""]
[null,null,null,null,null,null,null,null,null,null,null,null,null,null,null,null,null,null,{"$f":"IF(referentes!AJ619=\"\",\"\",IF(IFERROR(SEARCH(\"*-*\",referentes!AJ619),2)=1,IF(referentes!AJ619=\"\",\"\",LEFT(referentes!AJ619,FIND(\"*-*\",referentes!AJ619)-1)),referentes!AJ619))","v":""},null,""]
[null,null,null,null,null,null,null,null,null,null,null,null,null,null,null,null,null,null,{"$f":"IF(referentes!AJ620=\"\",\"\",IF(IFERROR(SEARCH(\"*-*\",referentes!AJ620),2)=1,IF(referentes!AJ620=\"\",\"\",LEFT(referentes!AJ620,FIND(\"*-*\",referentes!AJ620)-1)),referentes!AJ620))","v":""},null,""]
[null,null,null,null,null,null,null,null,null,null,null,null,null,null,null,null,null,null,{"$f":"IF(referentes!AJ621=\"\",\"\",IF(IFERROR(SEARCH(\"*-*\",referentes!AJ621),2)=1,IF(referentes!AJ621=\"\",\"\",LEFT(referentes!AJ621,FIND(\"*-*\",referentes!AJ621)-1)),referentes!AJ621))","v":""},null,""]
[null,null,null,null,null,null,null,null,null,null,null,null,null,null,null,null,null,null,{"$f":"IF(referentes!AJ622=\"\",\"\",IF(IFERROR(SEARCH(\"*-*\",referentes!AJ622),2)=1,IF(referentes!AJ622=\"\",\"\",LEFT(referentes!AJ622,FIND(\"*-*\",referentes!AJ622)-1)),referentes!AJ622))","v":""},null,""]
[null,null,null,null,null,null,null,null,null,null,null,null,null,null,null,null,null,null,{"$f":"IF(referentes!AJ623=\"\",\"\",IF(IFERROR(SEARCH(\"*-*\",referentes!AJ623),2)=1,IF(referentes!AJ623=\"\",\"\",LEFT(referentes!AJ623,FIND(\"*-*\",referentes!AJ623)-1)),referentes!AJ623))","v":""},null,""]
[null,null,null,null,null,null,null,null,null,null,null,null,null,null,null,null,null,null,{"$f":"IF(referentes!AJ624=\"\",\"\",IF(IFERROR(SEARCH(\"*-*\",referentes!AJ624),2)=1,IF(referentes!AJ624=\"\",\"\",LEFT(referentes!AJ624,FIND(\"*-*\",referentes!AJ624)-1)),referentes!AJ624))","v":""},null,""]
[null,null,null,null,null,null,null,null,null,null,null,null,null,null,null,null,null,null,{"$f":"IF(referentes!AJ625=\"\",\"\",IF(IFERROR(SEARCH(\"*-*\",referentes!AJ625),2)=1,IF(referentes!AJ625=\"\",\"\",LEFT(referentes!AJ625,FIND(\"*-*\",referentes!AJ625)-1)),referentes!AJ625))","v":""},null,""]
[null,null,null,null,null,null,null,null,null,null,null,null,null,null,null,null,null,null,{"$f":"IF(referentes!AJ626=\"\",\"\",IF(IFERROR(SEARCH(\"*-*\",referentes!AJ626),2)=1,IF(referentes!AJ626=\"\",\"\",LEFT(referentes!AJ626,FIND(\"*-*\",referentes!AJ626)-1)),referentes!AJ626))","v":""},null,""]
[null,null,null,null,null,null,null,null,null,null,null,null,null,null,null,null,null,null,{"$f":"IF(referentes!AJ627=\"\",\"\",IF(IFERROR(SEARCH(\"*-*\",referentes!AJ627),2)=1,IF(referentes!AJ627=\"\",\"\",LEFT(referentes!AJ627,FIND(\"*-*\",referentes!AJ627)-1)),referentes!AJ627))","v":""},null,""]
[null,null,null,null,null,null,null,null,null,null,null,null,null,null,null,null,null,null,{"$f":"IF(referentes!AJ628=\"\",\"\",IF(IFERROR(SEARCH(\"*-*\",referentes!AJ628),2)=1,IF(referentes!AJ628=\"\",\"\",LEFT(referentes!AJ628,FIND(\"*-*\",referentes!AJ628)-1)),referentes!AJ628))","v":""},null,""]
[null,null,null,null,null,null,null,null,null,null,null,null,null,null,null,null,null,null,{"$f":"IF(referentes!AJ629=\"\",\"\",IF(IFERROR(SEARCH(\"*-*\",referentes!AJ629),2)=1,IF(referentes!AJ629=\"\",\"\",LEFT(referentes!AJ629,FIND(\"*-*\",referentes!AJ629)-1)),referentes!AJ629))","v":""},null,""]
[null,null,null,null,null,null,null,null,null,null,null,null,null,null,null,null,null,null,{"$f":"IF(referentes!AJ630=\"\",\"\",IF(IFERROR(SEARCH(\"*-*\",referentes!AJ630),2)=1,IF(referentes!AJ630=\"\",\"\",LEFT(referentes!AJ630,FIND(\"*-*\",referentes!AJ630)-1)),referentes!AJ630))","v":""},null,""]
[null,null,null,null,null,null,null,null,null,null,null,null,null,null,null,null,null,null,{"$f":"IF(referentes!AJ631=\"\",\"\",IF(IFERROR(SEARCH(\"*-*\",referentes!AJ631),2)=1,IF(referentes!AJ631=\"\",\"\",LEFT(referentes!AJ631,FIND(\"*-*\",referentes!AJ631)-1)),referentes!AJ631))","v":""},null,""]
[null,null,null,null,null,null,null,null,null,null,null,null,null,null,null,null,null,null,{"$f":"IF(referentes!AJ632=\"\",\"\",IF(IFERROR(SEARCH(\"*-*\",referentes!AJ632),2)=1,IF(referentes!AJ632=\"\",\"\",LEFT(referentes!AJ632,FIND(\"*-*\",referentes!AJ632)-1)),referentes!AJ632))","v":""},null,""]
[null,null,null,null,null,null,null,null,null,null,null,null,null,null,null,null,null,null,{"$f":"IF(referentes!AJ633=\"\",\"\",IF(IFERROR(SEARCH(\"*-*\",referentes!AJ633),2)=1,IF(referentes!AJ633=\"\",\"\",LEFT(referentes!AJ633,FIND(\"*-*\",referentes!AJ633)-1)),referentes!AJ633))","v":""},null,""]
[null,null,null,null,null,null,null,null,null,null,null,null,null,null,null,null,null,null,{"$f":"IF(referentes!AJ634=\"\",\"\",IF(IFERROR(SEARCH(\"*-*\",referentes!AJ634),2)=1,IF(referentes!AJ634=\"\",\"\",LEFT(referentes!AJ634,FIND(\"*-*\",referentes!AJ634)-1)),referentes!AJ634))","v":""},null,""]
[null,null,null,null,null,null,null,null,null,null,null,null,null,null,null,null,null,null,{"$f":"IF(referentes!AJ635=\"\",\"\",IF(IFERROR(SEARCH(\"*-*\",referentes!AJ635),2)=1,IF(referentes!AJ635=\"\",\"\",LEFT(referentes!AJ635,FIND(\"*-*\",referentes!AJ635)-1)),referentes!AJ635))","v":""},null,""]
[null,null,null,null,null,null,null,null,null,null,null,null,null,null,null,null,null,null,{"$f":"IF(referentes!AJ636=\"\",\"\",IF(IFERROR(SEARCH(\"*-*\",referentes!AJ636),2)=1,IF(referentes!AJ636=\"\",\"\",LEFT(referentes!AJ636,FIND(\"*-*\",referentes!AJ636)-1)),referentes!AJ636))","v":""},null,""]
[null,null,null,null,null,null,null,null,null,null,null,null,null,null,null,null,null,null,{"$f":"IF(referentes!AJ637=\"\",\"\",IF(IFERROR(SEARCH(\"*-*\",referentes!AJ637),2)=1,IF(referentes!AJ637=\"\",\"\",LEFT(referentes!AJ637,FIND(\"*-*\",referentes!AJ637)-1)),referentes!AJ637))","v":""},null,""]
[null,null,null,null,null,null,null,null,null,null,null,null,null,null,null,null,null,null,{"$f":"IF(referentes!AJ638=\"\",\"\",IF(IFERROR(SEARCH(\"*-*\",referentes!AJ638),2)=1,IF(referentes!AJ638=\"\",\"\",LEFT(referentes!AJ638,FIND(\"*-*\",referentes!AJ638)-1)),referentes!AJ638))","v":""},null,""]
[null,null,null,null,null,null,null,null,null,null,null,null,null,null,null,null,null,null,{"$f":"IF(referentes!AJ639=\"\",\"\",IF(IFERROR(SEARCH(\"*-*\",referentes!AJ639),2)=1,IF(referentes!AJ639=\"\",\"\",LEFT(referentes!AJ639,FIND(\"*-*\",referentes!AJ639)-1)),referentes!AJ639))","v":""},null,""]
[null,null,null,null,null,null,null,null,null,null,null,null,null,null,null,null,null,null,{"$f":"IF(referentes!AJ640=\"\",\"\",IF(IFERROR(SEARCH(\"*-*\",referentes!AJ640),2)=1,IF(referentes!AJ640=\"\",\"\",LEFT(referentes!AJ640,FIND(\"*-*\",referentes!AJ640)-1)),referentes!AJ640))","v":""},null,""]
[null,null,null,null,null,null,null,null,null,null,null,null,null,null,null,null,null,null,{"$f":"IF(referentes!AJ641=\"\",\"\",IF(IFERROR(SEARCH(\"*-*\",referentes!AJ641),2)=1,IF(referentes!AJ641=\"\",\"\",LEFT(referentes!AJ641,FIND(\"*-*\",referentes!AJ641)-1)),referentes!AJ641))","v":""},null,""]
[null,null,null,null,null,null,null,null,null,null,null,null,null,null,null,null,null,null,{"$f":"IF(referentes!AJ642=\"\",\"\",IF(IFERROR(SEARCH(\"*-*\",referentes!AJ642),2)=1,IF(referentes!AJ642=\"\",\"\",LEFT(referentes!AJ642,FIND(\"*-*\",referentes!AJ642)-1)),referentes!AJ642))","v":""},null,""]
[null,null,null,null,null,null,null,null,null,null,null,null,null,null,null,null,null,null,{"$f":"IF(referentes!AJ643=\"\",\"\",IF(IFERROR(SEARCH(\"*-*\",referentes!AJ643),2)=1,IF(referentes!AJ643=\"\",\"\",LEFT(referentes!AJ643,FIND(\"*-*\",referentes!AJ643)-1)),referentes!AJ643))","v":""},null,""]
[null,null,null,null,null,null,null,null,null,null,null,null,null,null,null,null,null,null,{"$f":"IF(referentes!AJ644=\"\",\"\",IF(IFERROR(SEARCH(\"*-*\",referentes!AJ644),2)=1,IF(referentes!AJ644=\"\",\"\",LEFT(referentes!AJ644,FIND(\"*-*\",referentes!AJ644)-1)),referentes!AJ644))","v":""},null,""]
[null,null,null,null,null,null,null,null,null,null,null,null,null,null,null,null,null,null,{"$f":"IF(referentes!AJ645=\"\",\"\",IF(IFERROR(SEARCH(\"*-*\",referentes!AJ645),2)=1,IF(referentes!AJ645=\"\",\"\",LEFT(referentes!AJ645,FIND(\"*-*\",referentes!AJ645)-1)),referentes!AJ645))","v":""},null,""]
[null,null,null,null,null,null,null,null,null,null,null,null,null,null,null,null,null,null,{"$f":"IF(referentes!AJ646=\"\",\"\",IF(IFERROR(SEARCH(\"*-*\",referentes!AJ646),2)=1,IF(referentes!AJ646=\"\",\"\",LEFT(referentes!AJ646,FIND(\"*-*\",referentes!AJ646)-1)),referentes!AJ646))","v":""},null,""]
[null,null,null,null,null,null,null,null,null,null,null,null,null,null,null,null,null,null,{"$f":"IF(referentes!AJ647=\"\",\"\",IF(IFERROR(SEARCH(\"*-*\",referentes!AJ647),2)=1,IF(referentes!AJ647=\"\",\"\",LEFT(referentes!AJ647,FIND(\"*-*\",referentes!AJ647)-1)),referentes!AJ647))","v":""},null,""]
[null,null,null,null,null,null,null,null,null,null,null,null,null,null,null,null,null,null,{"$f":"IF(referentes!AJ648=\"\",\"\",IF(IFERROR(SEARCH(\"*-*\",referentes!AJ648),2)=1,IF(referentes!AJ648=\"\",\"\",LEFT(referentes!AJ648,FIND(\"*-*\",referentes!AJ648)-1)),referentes!AJ648))","v":""},null,{"$f":"IF(IFERROR(T647,R647)=S647,\"\",R647)","v":""}]
[null,null,null,null,null,null,null,null,null,null,null,null,null,null,null,null,null,null,{"$f":"IF(referentes!AJ649=\"\",\"\",IF(IFERROR(SEARCH(\"*-*\",referentes!AJ649),2)=1,IF(referentes!AJ649=\"\",\"\",LEFT(referentes!AJ649,FIND(\"*-*\",referentes!AJ649)-1)),referentes!AJ649))","v":""},null,""]
[null,null,null,null,null,null,null,null,null,null,null,null,null,null,null,null,null,null,{"$f":"IF(referentes!AJ650=\"\",\"\",IF(IFERROR(SEARCH(\"*-*\",referentes!AJ650),2)=1,IF(referentes!AJ650=\"\",\"\",LEFT(referentes!AJ650,FIND(\"*-*\",referentes!AJ650)-1)),referentes!AJ650))","v":""},null,""]
[null,null,null,null,null,null,null,null,null,null,null,null,null,null,null,null,null,null,{"$f":"IF(referentes!AJ651=\"\",\"\",IF(IFERROR(SEARCH(\"*-*\",referentes!AJ651),2)=1,IF(referentes!AJ651=\"\",\"\",LEFT(referentes!AJ651,FIND(\"*-*\",referentes!AJ651)-1)),referentes!AJ651))","v":""},null,""]
[null,null,null,null,null,null,null,null,null,null,null,null,null,null,null,null,null,null,{"$f":"IF(referentes!AJ652=\"\",\"\",IF(IFERROR(SEARCH(\"*-*\",referentes!AJ652),2)=1,IF(referentes!AJ652=\"\",\"\",LEFT(referentes!AJ652,FIND(\"*-*\",referentes!AJ652)-1)),referentes!AJ652))","v":""},null,""]
[null,null,null,null,null,null,null,null,null,null,null,null,null,null,null,null,null,null,{"$f":"IF(referentes!AJ653=\"\",\"\",IF(IFERROR(SEARCH(\"*-*\",referentes!AJ653),2)=1,IF(referentes!AJ653=\"\",\"\",LEFT(referentes!AJ653,FIND(\"*-*\",referentes!AJ653)-1)),referentes!AJ653))","v":""},null,""]
[null,null,null,null,null,null,null,null,null,null,null,null,null,null,null,null,null,null,{"$f":"IF(referentes!AJ654=\"\",\"\",IF(IFERROR(SEARCH(\"*-*\",referentes!AJ654),2)=1,IF(referentes!AJ654=\"\",\"\",LEFT(referentes!AJ654,FIND(\"*-*\",referentes!AJ654)-1)),referentes!AJ654))","v":""},null,""]
[null,null,null,null,null,null,null,null,null,null,null,null,null,null,null,null,null,null,{"$f":"IF(referentes!AJ655=\"\",\"\",IF(IFERROR(SEARCH(\"*-*\",referentes!AJ655),2)=1,IF(referentes!AJ655=\"\",\"\",LEFT(referentes!AJ655,FIND(\"*-*\",referentes!AJ655)-1)),referentes!AJ655))","v":""},null,""]
[null,null,null,null,null,null,null,null,null,null,null,null,null,null,null,null,null,null,{"$f":"IF(referentes!AJ656=\"\",\"\",IF(IFERROR(SEARCH(\"*-*\",referentes!AJ656),2)=1,IF(referentes!AJ656=\"\",\"\",LEFT(referentes!AJ656,FIND(\"*-*\",referentes!AJ656)-1)),referentes!AJ656))","v":""},null,""]
[null,null,null,null,null,null,null,null,null,null,null,null,null,null,null,null,null,null,{"$f":"IF(referentes!AJ657=\"\",\"\",IF(IFERROR(SEARCH(\"*-*\",referentes!AJ657),2)=1,IF(referentes!AJ657=\"\",\"\",LEFT(referentes!AJ657,FIND(\"*-*\",referentes!AJ657)-1)),referentes!AJ657))","v":""},null,""]
[null,null,null,null,null,null,null,null,null,null,null,null,null,null,null,null,null,null,{"$f":"IF(referentes!AJ658=\"\",\"\",IF(IFERROR(SEARCH(\"*-*\",referentes!AJ658),2)=1,IF(referentes!AJ658=\"\",\"\",LEFT(referentes!AJ658,FIND(\"*-*\",referentes!AJ658)-1)),referentes!AJ658))","v":""},null,""]
[null,null,null,null,null,null,null,null,null,null,null,null,null,null,null,null,null,null,{"$f":"IF(referentes!AJ659=\"\",\"\",IF(IFERROR(SEARCH(\"*-*\",referentes!AJ659),2)=1,IF(referentes!AJ659=\"\",\"\",LEFT(referentes!AJ659,FIND(\"*-*\",referentes!AJ659)-1)),referentes!AJ659))","v":""},null,""]
[null,null,null,null,null,null,null,null,null,null,null,null,null,null,null,null,null,null,{"$f":"IF(referentes!AJ660=\"\",\"\",IF(IFERROR(SEARCH(\"*-*\",referentes!AJ660),2)=1,IF(referentes!AJ660=\"\",\"\",LEFT(referentes!AJ660,FIND(\"*-*\",referentes!AJ660)-1)),referentes!AJ660))","v":""},null,""]
[null,null,null,null,null,null,null,null,null,null,null,null,null,null,null,null,null,null,{"$f":"IF(referentes!AJ661=\"\",\"\",IF(IFERROR(SEARCH(\"*-*\",referentes!AJ661),2)=1,IF(referentes!AJ661=\"\",\"\",LEFT(referentes!AJ661,FIND(\"*-*\",referentes!AJ661)-1)),referentes!AJ661))","v":""},null,""]
[null,null,null,null,null,null,null,null,null,null,null,null,null,null,null,null,null,null,{"$f":"IF(referentes!AJ662=\"\",\"\",IF(IFERROR(SEARCH(\"*-*\",referentes!AJ662),2)=1,IF(referentes!AJ662=\"\",\"\",LEFT(referentes!AJ662,FIND(\"*-*\",referentes!AJ662)-1)),referentes!AJ662))","v":""},null,""]
[null,null,null,null,null,null,null,null,null,null,null,null,null,null,null,null,null,null,{"$f":"IF(referentes!AJ663=\"\",\"\",IF(IFERROR(SEARCH(\"*-*\",referentes!AJ663),2)=1,IF(referentes!AJ663=\"\",\"\",LEFT(referentes!AJ663,FIND(\"*-*\",referentes!AJ663)-1)),referentes!AJ663))","v":""},null,""]
[null,null,null,null,null,null,null,null,null,null,null,null,null,null,null,null,null,null,{"$f":"IF(referentes!AJ664=\"\",\"\",IF(IFERROR(SEARCH(\"*-*\",referentes!AJ664),2)=1,IF(referentes!AJ664=\"\",\"\",LEFT(referentes!AJ664,FIND(\"*-*\",referentes!AJ664)-1)),referentes!AJ664))","v":""},null,""]
[null,null,null,null,null,null,null,null,null,null,null,null,null,null,null,null,null,null,{"$f":"IF(referentes!AJ665=\"\",\"\",IF(IFERROR(SEARCH(\"*-*\",referentes!AJ665),2)=1,IF(referentes!AJ665=\"\",\"\",LEFT(referentes!AJ665,FIND(\"*-*\",referentes!AJ665)-1)),referentes!AJ665))","v":""},null,""]
[null,null,null,null,null,null,null,null,null,null,null,null,null,null,null,null,null,null,{"$f":"IF(referentes!AJ666=\"\",\"\",IF(IFERROR(SEARCH(\"*-*\",referentes!AJ666),2)=1,IF(referentes!AJ666=\"\",\"\",LEFT(referentes!AJ666,FIND(\"*-*\",referentes!AJ666)-1)),referentes!AJ666))","v":""},null,""]
[null,null,null,null,null,null,null,null,null,null,null,null,null,null,null,null,null,null,{"$f":"IF(referentes!AJ667=\"\",\"\",IF(IFERROR(SEARCH(\"*-*\",referentes!AJ667),2)=1,IF(referentes!AJ667=\"\",\"\",LEFT(referentes!AJ667,FIND(\"*-*\",referentes!AJ667)-1)),referentes!AJ667))","v":""},null,""]
[null,null,null,null,null,null,null,null,null,null,null,null,null,null,null,null,null,null,{"$f":"IF(referentes!AJ668=\"\",\"\",IF(IFERROR(SEARCH(\"*-*\",referentes!AJ668),2)=1,IF(referentes!AJ668=\"\",\"\",LEFT(referentes!AJ668,FIND(\"*-*\",referentes!AJ668)-1)),referentes!AJ668))","v":""},null,""]
[null,null,null,null,null,null,null,null,null,null,null,null,null,null,null,null,null,null,{"$f":"IF(referentes!AJ669=\"\",\"\",IF(IFERROR(SEARCH(\"*-*\",referentes!AJ669),2)=1,IF(referentes!AJ669=\"\",\"\",LEFT(referentes!AJ669,FIND(\"*-*\",referentes!AJ669)-1)),referentes!AJ669))","v":""},null,""]
[null,null,null,null,null,null,null,null,null,null,null,null,null,null,null,null,null,null,{"$f":"IF(referentes!AJ670=\"\",\"\",IF(IFERROR(SEARCH(\"*-*\",referentes!AJ670),2)=1,IF(referentes!AJ670=\"\",\"\",LEFT(referentes!AJ670,FIND(\"*-*\",referentes!AJ670)-1)),referentes!AJ670))","v":""},null,""]
[null,null,null,null,null,null,null,null,null,null,null,null,null,null,null,null,null,null,{"$f":"IF(referentes!AJ671=\"\",\"\",IF(IFERROR(SEARCH(\"*-*\",referentes!AJ671),2)=1,IF(referentes!AJ671=\"\",\"\",LEFT(referentes!AJ671,FIND(\"*-*\",referentes!AJ671)-1)),referentes!AJ671))","v":""},null,""]
[null,null,null,null,null,null,null,null,null,null,null,null,null,null,null,null,null,null,{"$f":"IF(referentes!AJ672=\"\",\"\",IF(IFERROR(SEARCH(\"*-*\",referentes!AJ672),2)=1,IF(referentes!AJ672=\"\",\"\",LEFT(referentes!AJ672,FIND(\"*-*\",referentes!AJ672)-1)),referentes!AJ672))","v":""},null,""]
[null,null,null,null,null,null,null,null,null,null,null,null,null,null,null,null,null,null,{"$f":"IF(referentes!AJ673=\"\",\"\",IF(IFERROR(SEARCH(\"*-*\",referentes!AJ673),2)=1,IF(referentes!AJ673=\"\",\"\",LEFT(referentes!AJ673,FIND(\"*-*\",referentes!AJ673)-1)),referentes!AJ673))","v":""},null,""]
[null,null,null,null,null,null,null,null,null,null,null,null,null,null,null,null,null,null,{"$f":"IF(referentes!AJ674=\"\",\"\",IF(IFERROR(SEARCH(\"*-*\",referentes!AJ674),2)=1,IF(referentes!AJ674=\"\",\"\",LEFT(referentes!AJ674,FIND(\"*-*\",referentes!AJ674)-1)),referentes!AJ674))","v":""},null,""]
[null,null,null,null,null,null,null,null,null,null,null,null,null,null,null,null,null,null,{"$f":"IF(referentes!AJ675=\"\",\"\",IF(IFERROR(SEARCH(\"*-*\",referentes!AJ675),2)=1,IF(referentes!AJ675=\"\",\"\",LEFT(referentes!AJ675,FIND(\"*-*\",referentes!AJ675)-1)),referentes!AJ675))","v":""},null,""]
[null,null,null,null,null,null,null,null,null,null,null,null,null,null,null,null,null,null,{"$f":"IF(referentes!AJ676=\"\",\"\",IF(IFERROR(SEARCH(\"*-*\",referentes!AJ676),2)=1,IF(referentes!AJ676=\"\",\"\",LEFT(referentes!AJ676,FIND(\"*-*\",referentes!AJ676)-1)),referentes!AJ676))","v":""},null,""]
[null,null,null,null,null,null,null,null,null,null,null,null,null,null,null,null,null,null,{"$f":"IF(referentes!AJ677=\"\",\"\",IF(IFERROR(SEARCH(\"*-*\",referentes!AJ677),2)=1,IF(referentes!AJ677=\"\",\"\",LEFT(referentes!AJ677,FIND(\"*-*\",referentes!AJ677)-1)),referentes!AJ677))","v":""},null,""]
[null,null,null,null,null,null,null,null,null,null,null,null,null,null,null,null,null,null,{"$f":"IF(referentes!AJ678=\"\",\"\",IF(IFERROR(SEARCH(\"*-*\",referentes!AJ678),2)=1,IF(referentes!AJ678=\"\",\"\",LEFT(referentes!AJ678,FIND(\"*-*\",referentes!AJ678)-1)),referentes!AJ678))","v":""},null,""]
[null,null,null,null,null,null,null,null,null,null,null,null,null,null,null,null,null,null,{"$f":"IF(referentes!AJ679=\"\",\"\",IF(IFERROR(SEARCH(\"*-*\",referentes!AJ679),2)=1,IF(referentes!AJ679=\"\",\"\",LEFT(referentes!AJ679,FIND(\"*-*\",referentes!AJ679)-1)),referentes!AJ679))","v":""},null,""]
[null,null,null,null,null,null,null,null,null,null,null,null,null,null,null,null,null,null,{"$f":"IF(referentes!AJ680=\"\",\"\",IF(IFERROR(SEARCH(\"*-*\",referentes!AJ680),2)=1,IF(referentes!AJ680=\"\",\"\",LEFT(referentes!AJ680,FIND(\"*-*\",referentes!AJ680)-1)),referentes!AJ680))","v":""},null,""]
[null,null,null,null,null,null,null,null,null,null,null,null,null,null,null,null,null,null,{"$f":"IF(referentes!AJ681=\"\",\"\",IF(IFERROR(SEARCH(\"*-*\",referentes!AJ681),2)=1,IF(referentes!AJ681=\"\",\"\",LEFT(referentes!AJ681,FIND(\"*-*\",referentes!AJ681)-1)),referentes!AJ681))","v":""},null,""]
[null,null,null,null,null,null,null,null,null,null,null,null,null,null,null,null,null,null,{"$f":"IF(referentes!AJ682=\"\",\"\",IF(IFERROR(SEARCH(\"*-*\",referentes!AJ682),2)=1,IF(referentes!AJ682=\"\",\"\",LEFT(referentes!AJ682,FIND(\"*-*\",referentes!AJ682)-1)),referentes!AJ682))","v":""},null,""]
[null,null,null,null,null,null,null,null,null,null,null,null,null,null,null,null,null,null,{"$f":"IF(referentes!AJ683=\"\",\"\",IF(IFERROR(SEARCH(\"*-*\",referentes!AJ683),2)=1,IF(referentes!AJ683=\"\",\"\",LEFT(referentes!AJ683,FIND(\"*-*\",referentes!AJ683)-1)),referentes!AJ683))","v":""},null,""]
[null,null,null,null,null,null,null,null,null,null,null,null,null,null,null,null,null,null,{"$f":"IF(referentes!AJ684=\"\",\"\",IF(IFERROR(SEARCH(\"*-*\",referentes!AJ684),2)=1,IF(referentes!AJ684=\"\",\"\",LEFT(referentes!AJ684,FIND(\"*-*\",referentes!AJ684)-1)),referentes!AJ684))","v":""},null,""]
[null,null,null,null,null,null,null,null,null,null,null,null,null,null,null,null,null,null,{"$f":"IF(referentes!AJ685=\"\",\"\",IF(IFERROR(SEARCH(\"*-*\",referentes!AJ685),2)=1,IF(referentes!AJ685=\"\",\"\",LEFT(referentes!AJ685,FIND(\"*-*\",referentes!AJ685)-1)),referentes!AJ685))","v":""},null,""]
[null,null,null,null,null,null,null,null,null,null,null,null,null,null,null,null,null,null,{"$f":"IF(referentes!AJ686=\"\",\"\",IF(IFERROR(SEARCH(\"*-*\",referentes!AJ686),2)=1,IF(referentes!AJ686=\"\",\"\",LEFT(referentes!AJ686,FIND(\"*-*\",referentes!AJ686)-1)),referentes!AJ686))","v":""},null,""]
[null,null,null,null,null,null,null,null,null,null,null,null,null,null,null,null,null,null,{"$f":"IF(referentes!AJ687=\"\",\"\",IF(IFERROR(SEARCH(\"*-*\",referentes!AJ687),2)=1,IF(referentes!AJ687=\"\",\"\",LEFT(referentes!AJ687,FIND(\"*-*\",referentes!AJ687)-1)),referentes!AJ687))","v":""},null,""]
[null,null,null,null,null,null,null,null,null,null,null,null,null,null,null,null,null,null,{"$f":"IF(referentes!AJ688=\"\",\"\",IF(IFERROR(SEARCH(\"*-*\",referentes!AJ688),2)=1,IF(referentes!AJ688=\"\",\"\",LEFT(referentes!AJ688,FIND(\"*-*\",referentes!AJ688)-1)),referentes!AJ688))","v":""},null,""]
[null,null,null,null,null,null,null,null,null,null,null,null,null,null,null,null,null,null,{"$f":"IF(referentes!AJ689=\"\",\"\",IF(IFERROR(SEARCH(\"*-*\",referentes!AJ689),2)=1,IF(referentes!AJ689=\"\",\"\",LEFT(referentes!AJ689,FIND(\"*-*\",referentes!AJ689)-1)),referentes!AJ689))","v":""},null,""]
[null,null,null,null,null,null,null,null,null,null,null,null,null,null,null,null,null,null,{"$f":"IF(referentes!AJ690=\"\",\"\",IF(IFERROR(SEARCH(\"*-*\",referentes!AJ690),2)=1,IF(referentes!AJ690=\"\",\"\",LEFT(referentes!AJ690,FIND(\"*-*\",referentes!AJ690)-1)),referentes!AJ690))","v":""},null,""]
[null,null,null,null,null,null,null,null,null,null,null,null,null,null,null,null,null,null,{"$f":"IF(referentes!AJ691=\"\",\"\",IF(IFERROR(SEARCH(\"*-*\",referentes!AJ691),2)=1,IF(referentes!AJ691=\"\",\"\",LEFT(referentes!AJ691,FIND(\"*-*\",referentes!AJ691)-1)),referentes!AJ691))","v":""},null,""]
[null,null,null,null,null,null,null,null,null,null,null,null,null,null,null,null,null,null,{"$f":"IF(referentes!AJ692=\"\",\"\",IF(IFERROR(SEARCH(\"*-*\",referentes!AJ692),2)=1,IF(referentes!AJ692=\"\",\"\",LEFT(referentes!AJ692,FIND(\"*-*\",referentes!AJ692)-1)),referentes!AJ692))","v":""},null,""]
[null,null,null,null,null,null,null,null,null,null,null,null,null,null,null,null,null,null,{"$f":"IF(referentes!AJ693=\"\",\"\",IF(IFERROR(SEARCH(\"*-*\",referentes!AJ693),2)=1,IF(referentes!AJ693=\"\",\"\",LEFT(referentes!AJ693,FIND(\"*-*\",referentes!AJ693)-1)),referentes!AJ693))","v":""},null,""]
[null,null,null,null,null,null,null,null,null,null,null,null,null,null,null,null,null,null,{"$f":"IF(referentes!AJ694=\"\",\"\",IF(IFERROR(SEARCH(\"*-*\",referentes!AJ694),2)=1,IF(referentes!AJ694=\"\",\"\",LEFT(referentes!AJ694,FIND(\"*-*\",referentes!AJ694)-1)),referentes!AJ694))","v":""},null,""]
[null,null,null,null,null,null,null,null,null,null,null,null,null,null,null,null,null,null,{"$f":"IF(referentes!AJ695=\"\",\"\",IF(IFERROR(SEARCH(\"*-*\",referentes!AJ695),2)=1,IF(referentes!AJ695=\"\",\"\",LEFT(referentes!AJ695,FIND(\"*-*\",referentes!AJ695)-1)),referentes!AJ695))","v":""},null,""]
[null,null,null,null,null,null,null,null,null,null,null,null,null,null,null,null,null,null,{"$f":"IF(referentes!AJ696=\"\",\"\",IF(IFERROR(SEARCH(\"*-*\",referentes!AJ696),2)=1,IF(referentes!AJ696=\"\",\"\",LEFT(referentes!AJ696,FIND(\"*-*\",referentes!AJ696)-1)),referentes!AJ696))","v":""},null,""]
[null,null,null,null,null,null,null,null,null,null,null,null,null,null,null,null,null,null,{"$f":"IF(referentes!AJ697=\"\",\"\",IF(IFERROR(SEARCH(\"*-*\",referentes!AJ697),2)=1,IF(referentes!AJ697=\"\",\"\",LEFT(referentes!AJ697,FIND(\"*-*\",referentes!AJ697)-1)),referentes!AJ697))","v":""},null,""]
[null,null,null,null,null,null,null,null,null,null,null,null,null,null,null,null,null,null,{"$f":"IF(referentes!AJ698=\"\",\"\",IF(IFERROR(SEARCH(\"*-*\",referentes!AJ698),2)=1,IF(referentes!AJ698=\"\",\"\",LEFT(referentes!AJ698,FIND(\"*-*\",referentes!AJ698)-1)),referentes!AJ698))","v":""},null,""]
[null,null,null,null,null,null,null,null,null,null,null,null,null,null,null,null,null,null,{"$f":"IF(referentes!AJ699=\"\",\"\",IF(IFERROR(SEARCH(\"*-*\",referentes!AJ699),2)=1,IF(referentes!AJ699=\"\",\"\",LEFT(referentes!AJ699,FIND(\"*-*\",referentes!AJ699)-1)),referentes!AJ699))","v":""},null,""]
[null,null,null,null,null,null,null,null,null,null,null,null,null,null,null,null,null,null,{"$f":"IF(referentes!AJ700=\"\",\"\",IF(IFERROR(SEARCH(\"*-*\",referentes!AJ700),2)=1,IF(referentes!AJ700=\"\",\"\",LEFT(referentes!AJ700,FIND(\"*-*\",referentes!AJ700)-1)),referentes!AJ700))","v":""},null,""]
[null,null,null,null,null,null,null,null,null,null,null,null,null,null,null,null,null,null,{"$f":"IF(referentes!AJ701=\"\",\"\",IF(IFERROR(SEARCH(\"*-*\",referentes!AJ701),2)=1,IF(referentes!AJ701=\"\",\"\",LEFT(referentes!AJ701,FIND(\"*-*\",referentes!AJ701)-1)),referentes!AJ701))","v":""},null,""]
[null,null,null,null,null,null,null,null,null,null,null,null,null,null,null,null,null,null,{"$f":"IF(referentes!AJ702=\"\",\"\",IF(IFERROR(SEARCH(\"*-*\",referentes!AJ702),2)=1,IF(referentes!AJ702=\"\",\"\",LEFT(referentes!AJ702,FIND(\"*-*\",referentes!AJ702)-1)),referentes!AJ702))","v":""},null,""]
[null,null,null,null,null,null,null,null,null,null,null,null,null,null,null,null,null,null,{"$f":"IF(referentes!AJ703=\"\",\"\",IF(IFERROR(SEARCH(\"*-*\",referentes!AJ703),2)=1,IF(referentes!AJ703=\"\",\"\",LEFT(referentes!AJ703,FIND(\"*-*\",referentes!AJ703)-1)),referentes!AJ703))","v":""},null,""]
[null,null,null,null,null,null,null,null,null,null,null,null,null,null,null,null,null,null,{"$f":"IF(referentes!AJ704=\"\",\"\",IF(IFERROR(SEARCH(\"*-*\",referentes!AJ704),2)=1,IF(referentes!AJ704=\"\",\"\",LEFT(referentes!AJ704,FIND(\"*-*\",referentes!AJ704)-1)),referentes!AJ704))","v":""},null,""]
[null,null,null,null,null,null,null,null,null,null,null,null,null,null,null,null,null,null,{"$f":"IF(referentes!AJ705=\"\",\"\",IF(IFERROR(SEARCH(\"*-*\",referentes!AJ705),2)=1,IF(referentes!AJ705=\"\",\"\",LEFT(referentes!AJ705,FIND(\"*-*\",referentes!AJ705)-1)),referentes!AJ705))","v":""},null,""]
[null,null,null,null,null,null,null,null,null,null,null,null,null,null,null,null,null,null,{"$f":"IF(referentes!AJ706=\"\",\"\",IF(IFERROR(SEARCH(\"*-*\",referentes!AJ706),2)=1,IF(referentes!AJ706=\"\",\"\",LEFT(referentes!AJ706,FIND(\"*-*\",referentes!AJ706)-1)),referentes!AJ706))","v":""},null,""]
[null,null,null,null,null,null,null,null,null,null,null,null,null,null,null,null,null,null,{"$f":"IF(referentes!AJ707=\"\",\"\",IF(IFERROR(SEARCH(\"*-*\",referentes!AJ707),2)=1,IF(referentes!AJ707=\"\",\"\",LEFT(referentes!AJ707,FIND(\"*-*\",referentes!AJ707)-1)),referentes!AJ707))","v":""},null,""]
[null,null,null,null,null,null,null,null,null,null,null,null,null,null,null,null,null,null,{"$f":"IF(referentes!AJ708=\"\",\"\",IF(IFERROR(SEARCH(\"*-*\",referentes!AJ708),2)=1,IF(referentes!AJ708=\"\",\"\",LEFT(referentes!AJ708,FIND(\"*-*\",referentes!AJ708)-1)),referentes!AJ708))","v":""},null,""]
[null,null,null,null,null,null,null,null,null,null,null,null,null,null,null,null,null,null,{"$f":"IF(referentes!AJ709=\"\",\"\",IF(IFERROR(SEARCH(\"*-*\",referentes!AJ709),2)=1,IF(referentes!AJ709=\"\",\"\",LEFT(referentes!AJ709,FIND(\"*-*\",referentes!AJ709)-1)),referentes!AJ709))","v":""},null,""]
[null,null,null,null,null,null,null,null,null,null,null,null,null,null,null,null,null,null,{"$f":"IF(referentes!AJ710=\"\",\"\",IF(IFERROR(SEARCH(\"*-*\",referentes!AJ710),2)=1,IF(referentes!AJ710=\"\",\"\",LEFT(referentes!AJ710,FIND(\"*-*\",referentes!AJ710)-1)),referentes!AJ710))","v":""},null,""]
[null,null,null,null,null,null,null,null,null,null,null,null,null,null,null,null,null,null,{"$f":"IF(referentes!AJ711=\"\",\"\",IF(IFERROR(SEARCH(\"*-*\",referentes!AJ711),2)=1,IF(referentes!AJ711=\"\",\"\",LEFT(referentes!AJ711,FIND(\"*-*\",referentes!AJ711)-1)),referentes!AJ711))","v":""},null,""]
[null,null,null,null,null,null,null,null,null,null,null,null,null,null,null,null,null,null,{"$f":"IF(referentes!AJ712=\"\",\"\",IF(IFERROR(SEARCH(\"*-*\",referentes!AJ712),2)=1,IF(referentes!AJ712=\"\",\"\",LEFT(referentes!AJ712,FIND(\"*-*\",referentes!AJ712)-1)),referentes!AJ712))","v":""},null,{"$f":"IF(IFERROR(T711,R711)=S711,\"\",R711)","v":""}]
[null,null,null,null,null,null,null,null,null,null,null,null,null,null,null,null,null,null,{"$f":"IF(referentes!AJ713=\"\",\"\",IF(IFERROR(SEARCH(\"*-*\",referentes!AJ713),2)=1,IF(referentes!AJ713=\"\",\"\",LEFT(referentes!AJ713,FIND(\"*-*\",referentes!AJ713)-1)),referentes!AJ713))","v":""},null,""]
[null,null,null,null,null,null,null,null,null,null,null,null,null,null,null,null,null,null,{"$f":"IF(referentes!AJ714=\"\",\"\",IF(IFERROR(SEARCH(\"*-*\",referentes!AJ714),2)=1,IF(referentes!AJ714=\"\",\"\",LEFT(referentes!AJ714,FIND(\"*-*\",referentes!AJ714)-1)),referentes!AJ714))","v":""},null,""]
[null,null,null,null,null,null,null,null,null,null,null,null,null,null,null,null,null,null,{"$f":"IF(referentes!AJ715=\"\",\"\",IF(IFERROR(SEARCH(\"*-*\",referentes!AJ715),2)=1,IF(referentes!AJ715=\"\",\"\",LEFT(referentes!AJ715,FIND(\"*-*\",referentes!AJ715)-1)),referentes!AJ715))","v":""},null,""]
[null,null,null,null,null,null,null,null,null,null,null,null,null,null,null,null,null,null,{"$f":"IF(referentes!AJ716=\"\",\"\",IF(IFERROR(SEARCH(\"*-*\",referentes!AJ716),2)=1,IF(referentes!AJ716=\"\",\"\",LEFT(referentes!AJ716,FIND(\"*-*\",referentes!AJ716)-1)),referentes!AJ716))","v":""},null,""]
[null,null,null,null,null,null,null,null,null,null,null,null,null,null,null,null,null,null,{"$f":"IF(referentes!AJ717=\"\",\"\",IF(IFERROR(SEARCH(\"*-*\",referentes!AJ717),2)=1,IF(referentes!AJ717=\"\",\"\",LEFT(referentes!AJ717,FIND(\"*-*\",referentes!AJ717)-1)),referentes!AJ717))","v":""},null,""]
[null,null,null,null,null,null,null,null,null,null,null,null,null,null,null,null,null,null,{"$f":"IF(referentes!AJ718=\"\",\"\",IF(IFERROR(SEARCH(\"*-*\",referentes!AJ718),2)=1,IF(referentes!AJ718=\"\",\"\",LEFT(referentes!AJ718,FIND(\"*-*\",referentes!AJ718)-1)),referentes!AJ718))","v":""},null,""]
[null,null,null,null,null,null,null,null,null,null,null,null,null,null,null,null,null,null,{"$f":"IF(referentes!AJ719=\"\",\"\",IF(IFERROR(SEARCH(\"*-*\",referentes!AJ719),2)=1,IF(referentes!AJ719=\"\",\"\",LEFT(referentes!AJ719,FIND(\"*-*\",referentes!AJ719)-1)),referentes!AJ719))","v":""},null,""]
[null,null,null,null,null,null,null,null,null,null,null,null,null,null,null,null,null,null,{"$f":"IF(referentes!AJ720=\"\",\"\",IF(IFERROR(SEARCH(\"*-*\",referentes!AJ720),2)=1,IF(referentes!AJ720=\"\",\"\",LEFT(referentes!AJ720,FIND(\"*-*\",referentes!AJ720)-1)),referentes!AJ720))","v":""},null,""]
[null,null,null,null,null,null,null,null,null,null,null,null,null,null,null,null,null,null,{"$f":"IF(referentes!AJ721=\"\",\"\",IF(IFERROR(SEARCH(\"*-*\",referentes!AJ721),2)=1,IF(referentes!AJ721=\"\",\"\",LEFT(referentes!AJ721,FIND(\"*-*\",referentes!AJ721)-1)),referentes!AJ721))","v":""},null,""]
[null,null,null,null,null,null,null,null,null,null,null,null,null,null,null,null,null,null,{"$f":"IF(referentes!AJ722=\"\",\"\",IF(IFERROR(SEARCH(\"*-*\",referentes!AJ722),2)=1,IF(referentes!AJ722=\"\",\"\",LEFT(referentes!AJ722,FIND(\"*-*\",referentes!AJ722)-1)),referentes!AJ722))","v":""},null,""]
[null,null,null,null,null,null,null,null,null,null,null,null,null,null,null,null,null,null,{"$f":"IF(referentes!AJ723=\"\",\"\",IF(IFERROR(SEARCH(\"*-*\",referentes!AJ723),2)=1,IF(referentes!AJ723=\"\",\"\",LEFT(referentes!AJ723,FIND(\"*-*\",referentes!AJ723)-1)),referentes!AJ723))","v":""},null,""]
[null,null,null,null,null,null,null,null,null,null,null,null,null,null,null,null,null,null,{"$f":"IF(referentes!AJ724=\"\",\"\",IF(IFERROR(SEARCH(\"*-*\",referentes!AJ724),2)=1,IF(referentes!AJ724=\"\",\"\",LEFT(referentes!AJ724,FIND(\"*-*\",referentes!AJ724)-1)),referentes!AJ724))","v":""},null,""]
[null,null,null,null,null,null,null,null,null,null,null,null,null,null,null,null,null,null,{"$f":"IF(referentes!AJ725=\"\",\"\",IF(IFERROR(SEARCH(\"*-*\",referentes!AJ725),2)=1,IF(referentes!AJ725=\"\",\"\",LEFT(referentes!AJ725,FIND(\"*-*\",referentes!AJ725)-1)),referentes!AJ725))","v":""},null,""]
[null,null,null,null,null,null,null,null,null,null,null,null,null,null,null,null,null,null,{"$f":"IF(referentes!AJ726=\"\",\"\",IF(IFERROR(SEARCH(\"*-*\",referentes!AJ726),2)=1,IF(referentes!AJ726=\"\",\"\",LEFT(referentes!AJ726,FIND(\"*-*\",referentes!AJ726)-1)),referentes!AJ726))","v":""},null,""]
[null,null,null,null,null,null,null,null,null,null,null,null,null,null,null,null,null,null,{"$f":"IF(referentes!AJ727=\"\",\"\",IF(IFERROR(SEARCH(\"*-*\",referentes!AJ727),2)=1,IF(referentes!AJ727=\"\",\"\",LEFT(referentes!AJ727,FIND(\"*-*\",referentes!AJ727)-1)),referentes!AJ727))","v":""},null,""]
[null,null,null,null,null,null,null,null,null,null,null,null,null,null,null,null,null,null,{"$f":"IF(referentes!AJ728=\"\",\"\",IF(IFERROR(SEARCH(\"*-*\",referentes!AJ728),2)=1,IF(referentes!AJ728=\"\",\"\",LEFT(referentes!AJ728,FIND(\"*-*\",referentes!AJ728)-1)),referentes!AJ728))","v":""},null,""]
[null,null,null,null,null,null,null,null,null,null,null,null,null,null,null,null,null,null,{"$f":"IF(referentes!AJ729=\"\",\"\",IF(IFERROR(SEARCH(\"*-*\",referentes!AJ729),2)=1,IF(referentes!AJ729=\"\",\"\",LEFT(referentes!AJ729,FIND(\"*-*\",referentes!AJ729)-1)),referentes!AJ729))","v":""},null,""]
[null,null,null,null,null,null,null,null,null,null,null,null,null,null,null,null,null,null,{"$f":"IF(referentes!AJ730=\"\",\"\",IF(IFERROR(SEARCH(\"*-*\",referentes!AJ730),2)=1,IF(referentes!AJ730=\"\",\"\",LEFT(referentes!AJ730,FIND(\"*-*\",referentes!AJ730)-1)),referentes!AJ730))","v":""},null,""]
[null,null,null,null,null,null,null,null,null,null,null,null,null,null,null,null,null,null,{"$f":"IF(referentes!AJ731=\"\",\"\",IF(IFERROR(SEARCH(\"*-*\",referentes!AJ731),2)=1,IF(referentes!AJ731=\"\",\"\",LEFT(referentes!AJ731,FIND(\"*-*\",referentes!AJ731)-1)),referentes!AJ731))","v":""},null,""]
[null,null,null,null,null,null,null,null,null,null,null,null,null,null,null,null,null,null,{"$f":"IF(referentes!AJ732=\"\",\"\",IF(IFERROR(SEARCH(\"*-*\",referentes!AJ732),2)=1,IF(referentes!AJ732=\"\",\"\",LEFT(referentes!AJ732,FIND(\"*-*\",referentes!AJ732)-1)),referentes!AJ732))","v":""},null,""]
[null,null,null,null,null,null,null,null,null,null,null,null,null,null,null,null,null,null,{"$f":"IF(referentes!AJ733=\"\",\"\",IF(IFERROR(SEARCH(\"*-*\",referentes!AJ733),2)=1,IF(referentes!AJ733=\"\",\"\",LEFT(referentes!AJ733,FIND(\"*-*\",referentes!AJ733)-1)),referentes!AJ733))","v":""},null,""]
[null,null,null,null,null,null,null,null,null,null,null,null,null,null,null,null,null,null,{"$f":"IF(referentes!AJ734=\"\",\"\",IF(IFERROR(SEARCH(\"*-*\",referentes!AJ734),2)=1,IF(referentes!AJ734=\"\",\"\",LEFT(referentes!AJ734,FIND(\"*-*\",referentes!AJ734)-1)),referentes!AJ734))","v":""},null,""]
[null,null,null,null,null,null,null,null,null,null,null,null,null,null,null,null,null,null,{"$f":"IF(referentes!AJ735=\"\",\"\",IF(IFERROR(SEARCH(\"*-*\",referentes!AJ735),2)=1,IF(referentes!AJ735=\"\",\"\",LEFT(referentes!AJ735,FIND(\"*-*\",referentes!AJ735)-1)),referentes!AJ735))","v":""},null,""]
[null,null,null,null,null,null,null,null,null,null,null,null,null,null,null,null,null,null,{"$f":"IF(referentes!AJ736=\"\",\"\",IF(IFERROR(SEARCH(\"*-*\",referentes!AJ736),2)=1,IF(referentes!AJ736=\"\",\"\",LEFT(referentes!AJ736,FIND(\"*-*\",referentes!AJ736)-1)),referentes!AJ736))","v":""},null,""]
[null,null,null,null,null,null,null,null,null,null,null,null,null,null,null,null,null,null,{"$f":"IF(referentes!AJ737=\"\",\"\",IF(IFERROR(SEARCH(\"*-*\",referentes!AJ737),2)=1,IF(referentes!AJ737=\"\",\"\",LEFT(referentes!AJ737,FIND(\"*-*\",referentes!AJ737)-1)),referentes!AJ737))","v":""},null,""]
[null,null,null,null,null,null,null,null,null,null,null,null,null,null,null,null,null,null,{"$f":"IF(referentes!AJ738=\"\",\"\",IF(IFERROR(SEARCH(\"*-*\",referentes!AJ738),2)=1,IF(referentes!AJ738=\"\",\"\",LEFT(referentes!AJ738,FIND(\"*-*\",referentes!AJ738)-1)),referentes!AJ738))","v":""},null,""]
[null,null,null,null,null,null,null,null,null,null,null,null,null,null,null,null,null,null,{"$f":"IF(referentes!AJ739=\"\",\"\",IF(IFERROR(SEARCH(\"*-*\",referentes!AJ739),2)=1,IF(referentes!AJ739=\"\",\"\",LEFT(referentes!AJ739,FIND(\"*-*\",referentes!AJ739)-1)),referentes!AJ739))","v":""},null,""]
[null,null,null,null,null,null,null,null,null,null,null,null,null,null,null,null,null,null,{"$f":"IF(referentes!AJ740=\"\",\"\",IF(IFERROR(SEARCH(\"*-*\",referentes!AJ740),2)=1,IF(referentes!AJ740=\"\",\"\",LEFT(referentes!AJ740,FIND(\"*-*\",referentes!AJ740)-1)),referentes!AJ740))","v":""},null,""]
[null,null,null,null,null,null,null,null,null,null,null,null,null,null,null,null,null,null,{"$f":"IF(referentes!AJ741=\"\",\"\",IF(IFERROR(SEARCH(\"*-*\",referentes!AJ741),2)=1,IF(referentes!AJ741=\"\",\"\",LEFT(referentes!AJ741,FIND(\"*-*\",referentes!AJ741)-1)),referentes!AJ741))","v":""},null,""]
[null,null,null,null,null,null,null,null,null,null,null,null,null,null,null,null,null,null,{"$f":"IF(referentes!AJ742=\"\",\"\",IF(IFERROR(SEARCH(\"*-*\",referentes!AJ742),2)=1,IF(referentes!AJ742=\"\",\"\",LEFT(referentes!AJ742,FIND(\"*-*\",referentes!AJ742)-1)),referentes!AJ742))","v":""},null,""]
[null,null,null,null,null,null,null,null,null,null,null,null,null,null,null,null,null,null,{"$f":"IF(referentes!AJ743=\"\",\"\",IF(IFERROR(SEARCH(\"*-*\",referentes!AJ743),2)=1,IF(referentes!AJ743=\"\",\"\",LEFT(referentes!AJ743,FIND(\"*-*\",referentes!AJ743)-1)),referentes!AJ743))","v":""},null,""]
[null,null,null,null,null,null,null,null,null,null,null,null,null,null,null,null,null,null,{"$f":"IF(referentes!AJ744=\"\",\"\",IF(IFERROR(SEARCH(\"*-*\",referentes!AJ744),2)=1,IF(referentes!AJ744=\"\",\"\",LEFT(referentes!AJ744,FIND(\"*-*\",referentes!AJ744)-1)),referentes!AJ744))","v":""},null,""]
[null,null,null,null,null,null,null,null,null,null,null,null,null,null,null,null,null,null,{"$f":"IF(referentes!AJ745=\"\",\"\",IF(IFERROR(SEARCH(\"*-*\",referentes!AJ745),2)=1,IF(referentes!AJ745=\"\",\"\",LEFT(referentes!AJ745,FIND(\"*-*\",referentes!AJ745)-1)),referentes!AJ745))","v":""},null,""]
[null,null,null,null,null,null,null,null,null,null,null,null,null,null,null,null,null,null,{"$f":"IF(referentes!AJ746=\"\",\"\",IF(IFERROR(SEARCH(\"*-*\",referentes!AJ746),2)=1,IF(referentes!AJ746=\"\",\"\",LEFT(referentes!AJ746,FIND(\"*-*\",referentes!AJ746)-1)),referentes!AJ746))","v":""},null,""]
[null,null,null,null,null,null,null,null,null,null,null,null,null,null,null,null,null,null,{"$f":"IF(referentes!AJ747=\"\",\"\",IF(IFERROR(SEARCH(\"*-*\",referentes!AJ747),2)=1,IF(referentes!AJ747=\"\",\"\",LEFT(referentes!AJ747,FIND(\"*-*\",referentes!AJ747)-1)),referentes!AJ747))","v":""},null,""]
[null,null,null,null,null,null,null,null,null,null,null,null,null,null,null,null,null,null,{"$f":"IF(referentes!AJ748=\"\",\"\",IF(IFERROR(SEARCH(\"*-*\",referentes!AJ748),2)=1,IF(referentes!AJ748=\"\",\"\",LEFT(referentes!AJ748,FIND(\"*-*\",referentes!AJ748)-1)),referentes!AJ748))","v":""},null,""]
[null,null,null,null,null,null,null,null,null,null,null,null,null,null,null,null,null,null,{"$f":"IF(referentes!AJ749=\"\",\"\",IF(IFERROR(SEARCH(\"*-*\",referentes!AJ749),2)=1,IF(referentes!AJ749=\"\",\"\",LEFT(referentes!AJ749,FIND(\"*-*\",referentes!AJ749)-1)),referentes!AJ749))","v":""},null,""]
[null,null,null,null,null,null,null,null,null,null,null,null,null,null,null,null,null,null,{"$f":"IF(referentes!AJ750=\"\",\"\",IF(IFERROR(SEARCH(\"*-*\",referentes!AJ750),2)=1,IF(referentes!AJ750=\"\",\"\",LEFT(referentes!AJ750,FIND(\"*-*\",referentes!AJ750)-1)),referentes!AJ750))","v":""},null,""]
[null,null,null,null,null,null,null,null,null,null,null,null,null,null,null,null,null,null,{"$f":"IF(referentes!AJ751=\"\",\"\",IF(IFERROR(SEARCH(\"*-*\",referentes!AJ751),2)=1,IF(referentes!AJ751=\"\",\"\",LEFT(referentes!AJ751,FIND(\"*-*\",referentes!AJ751)-1)),referentes!AJ751))","v":""},null,""]
[null,null,null,null,null,null,null,null,null,null,null,null,null,null,null,null,null,null,{"$f":"IF(referentes!AJ752=\"\",\"\",IF(IFERROR(SEARCH(\"*-*\",referentes!AJ752),2)=1,IF(referentes!AJ752=\"\",\"\",LEFT(referentes!AJ752,FIND(\"*-*\",referentes!AJ752)-1)),referentes!AJ752))","v":""},null,""]
[null,null,null,null,null,null,null,null,null,null,null,null,null,null,null,null,null,null,{"$f":"IF(referentes!AJ753=\"\",\"\",IF(IFERROR(SEARCH(\"*-*\",referentes!AJ753),2)=1,IF(referentes!AJ753=\"\",\"\",LEFT(referentes!AJ753,FIND(\"*-*\",referentes!AJ753)-1)),referentes!AJ753))","v":""},null,""]
[null,null,null,null,null,null,null,null,null,null,null,null,null,null,null,null,null,null,{"$f":"IF(referentes!AJ754=\"\",\"\",IF(IFERROR(SEARCH(\"*-*\",referentes!AJ754),2)=1,IF(referentes!AJ754=\"\",\"\",LEFT(referentes!AJ754,FIND(\"*-*\",referentes!AJ754)-1)),referentes!AJ754))","v":""},null,""]
[null,null,null,null,null,null,null,null,null,null,null,null,null,null,null,null,null,null,{"$f":"IF(referentes!AJ755=\"\",\"\",IF(IFERROR(SEARCH(\"*-*\",referentes!AJ755),2)=1,IF(referentes!AJ755=\"\",\"\",LEFT(referentes!AJ755,FIND(\"*-*\",referentes!AJ755)-1)),referentes!AJ755))","v":""},null,""]
[null,null,null,null,null,null,null,null,null,null,null,null,null,null,null,null,null,null,{"$f":"IF(referentes!AJ756=\"\",\"\",IF(IFERROR(SEARCH(\"*-*\",referentes!AJ756),2)=1,IF(referentes!AJ756=\"\",\"\",LEFT(referentes!AJ756,FIND(\"*-*\",referentes!AJ756)-1)),referentes!AJ756))","v":""},null,""]
[null,null,null,null,null,null,null,null,null,null,null,null,null,null,null,null,null,null,{"$f":"IF(referentes!AJ757=\"\",\"\",IF(IFERROR(SEARCH(\"*-*\",referentes!AJ757),2)=1,IF(referentes!AJ757=\"\",\"\",LEFT(referentes!AJ757,FIND(\"*-*\",referentes!AJ757)-1)),referentes!AJ757))","v":""},null,""]
[null,null,null,null,null,null,null,null,null,null,null,null,null,null,null,null,null,null,{"$f":"IF(referentes!AJ758=\"\",\"\",IF(IFERROR(SEARCH(\"*-*\",referentes!AJ758),2)=1,IF(referentes!AJ758=\"\",\"\",LEFT(referentes!AJ758,FIND(\"*-*\",referentes!AJ758)-1)),referentes!AJ758))","v":""},null,""]
[null,null,null,null,null,null,null,null,null,null,null,null,null,null,null,null,null,null,{"$f":"IF(referentes!AJ759=\"\",\"\",IF(IFERROR(SEARCH(\"*-*\",referentes!AJ759),2)=1,IF(referentes!AJ759=\"\",\"\",LEFT(referentes!AJ759,FIND(\"*-*\",referentes!AJ759)-1)),referentes!AJ759))","v":""},null,""]
[null,null,null,null,null,null,null,null,null,null,null,null,null,null,null,null,null,null,{"$f":"IF(referentes!AJ760=\"\",\"\",IF(IFERROR(SEARCH(\"*-*\",referentes!AJ760),2)=1,IF(referentes!AJ760=\"\",\"\",LEFT(referentes!AJ760,FIND(\"*-*\",referentes!AJ760)-1)),referentes!AJ760))","v":""},null,""]
[null,null,null,null,null,null,null,null,null,null,null,null,null,null,null,null,null,null,{"$f":"IF(referentes!AJ761=\"\",\"\",IF(IFERROR(SEARCH(\"*-*\",referentes!AJ761),2)=1,IF(referentes!AJ761=\"\",\"\",LEFT(referentes!AJ761,FIND(\"*-*\",referentes!AJ761)-1)),referentes!AJ761))","v":""},null,""]
[null,null,null,null,null,null,null,null,null,null,null,null,null,null,null,null,null,null,{"$f":"IF(referentes!AJ762=\"\",\"\",IF(IFERROR(SEARCH(\"*-*\",referentes!AJ762),2)=1,IF(referentes!AJ762=\"\",\"\",LEFT(referentes!AJ762,FIND(\"*-*\",referentes!AJ762)-1)),referentes!AJ762))","v":""},null,""]
[null,null,null,null,null,null,null,null,null,null,null,null,null,null,null,null,null,null,{"$f":"IF(referentes!AJ763=\"\",\"\",IF(IFERROR(SEARCH(\"*-*\",referentes!AJ763),2)=1,IF(referentes!AJ763=\"\",\"\",LEFT(referentes!AJ763,FIND(\"*-*\",referentes!AJ763)-1)),referentes!AJ763))","v":""},null,""]
[null,null,null,null,null,null,null,null,null,null,null,null,null,null,null,null,null,null,{"$f":"IF(referentes!AJ764=\"\",\"\",IF(IFERROR(SEARCH(\"*-*\",referentes!AJ764),2)=1,IF(referentes!AJ764=\"\",\"\",LEFT(referentes!AJ764,FIND(\"*-*\",referentes!AJ764)-1)),referentes!AJ764))","v":""},null,""]
[null,null,null,null,null,null,null,null,null,null,null,null,null,null,null,null,null,null,{"$f":"IF(referentes!AJ765=\"\",\"\",IF(IFERROR(SEARCH(\"*-*\",referentes!AJ765),2)=1,IF(referentes!AJ765=\"\",\"\",LEFT(referentes!AJ765,FIND(\"*-*\",referentes!AJ765)-1)),referentes!AJ765))","v":""},null,""]
[null,null,null,null,null,null,null,null,null,null,null,null,null,null,null,null,null,null,{"$f":"IF(referentes!AJ766=\"\",\"\",IF(IFERROR(SEARCH(\"*-*\",referentes!AJ766),2)=1,IF(referentes!AJ766=\"\",\"\",LEFT(referentes!AJ766,FIND(\"*-*\",referentes!AJ766)-1)),referentes!AJ766))","v":""},null,""]
[null,null,null,null,null,null,null,null,null,null,null,null,null,null,null,null,null,null,{"$f":"IF(referentes!AJ767=\"\",\"\",IF(IFERROR(SEARCH(\"*-*\",referentes!AJ767),2)=1,IF(referentes!AJ767=\"\",\"\",LEFT(referentes!AJ767,FIND(\"*-*\",referentes!AJ767)-1)),referentes!AJ767))","v":""},null,""]
[null,null,null,null,null,null,null,null,null,null,null,null,null,null,null,null,null,null,{"$f":"IF(referentes!AJ768=\"\",\"\",IF(IFERROR(SEARCH(\"*-*\",referentes!AJ768),2)=1,IF(referentes!AJ768=\"\",\"\",LEFT(referentes!AJ768,FIND(\"*-*\",referentes!AJ768)-1)),referentes!AJ768))","v":""},null,""]
[null,null,null,null,null,null,null,null,null,null,null,null,null,null,null,null,null,null,{"$f":"IF(referentes!AJ769=\"\",\"\",IF(IFERROR(SEARCH(\"*-*\",referentes!AJ769),2)=1,IF(referentes!AJ769=\"\",\"\",LEFT(referentes!AJ769,FIND(\"*-*\",referentes!AJ769)-1)),referentes!AJ769))","v":""},null,""]
[null,null,null,null,null,null,null,null,null,null,null,null,null,null,null,null,null,null,{"$f":"IF(referentes!AJ770=\"\",\"\",IF(IFERROR(SEARCH(\"*-*\",referentes!AJ770),2)=1,IF(referentes!AJ770=\"\",\"\",LEFT(referentes!AJ770,FIND(\"*-*\",referentes!AJ770)-1)),referentes!AJ770))","v":""},null,""]
[null,null,null,null,null,null,null,null,null,null,null,null,null,null,null,null,null,null,{"$f":"IF(referentes!AJ771=\"\",\"\",IF(IFERROR(SEARCH(\"*-*\",referentes!AJ771),2)=1,IF(referentes!AJ771=\"\",\"\",LEFT(referentes!AJ771,FIND(\"*-*\",referentes!AJ771)-1)),referentes!AJ771))","v":""},null,""]
[null,null,null,null,null,null,null,null,null,null,null,null,null,null,null,null,null,null,{"$f":"IF(referentes!AJ772=\"\",\"\",IF(IFERROR(SEARCH(\"*-*\",referentes!AJ772),2)=1,IF(referentes!AJ772=\"\",\"\",LEFT(referentes!AJ772,FIND(\"*-*\",referentes!AJ772)-1)),referentes!AJ772))","v":""},null,""]
[null,null,null,null,null,null,null,null,null,null,null,null,null,null,null,null,null,null,{"$f":"IF(referentes!AJ773=\"\",\"\",IF(IFERROR(SEARCH(\"*-*\",referentes!AJ773),2)=1,IF(referentes!AJ773=\"\",\"\",LEFT(referentes!AJ773,FIND(\"*-*\",referentes!AJ773)-1)),referentes!AJ773))","v":""},null,""]
[null,null,null,null,null,null,null,null,null,null,null,null,null,null,null,null,null,null,{"$f":"IF(referentes!AJ774=\"\",\"\",IF(IFERROR(SEARCH(\"*-*\",referentes!AJ774),2)=1,IF(referentes!AJ774=\"\",\"\",LEFT(referentes!AJ774,FIND(\"*-*\",referentes!AJ774)-1)),referentes!AJ774))","v":""},null,""]
[null,null,null,null,null,null,null,null,null,null,null,null,null,null,null,null,null,null,{"$f":"IF(referentes!AJ775=\"\",\"\",IF(IFERROR(SEARCH(\"*-*\",referentes!AJ775),2)=1,IF(referentes!AJ775=\"\",\"\",LEFT(referentes!AJ775,FIND(\"*-*\",referentes!AJ775)-1)),referentes!AJ775))","v":""},null,""]
[null,null,null,null,null,null,null,null,null,null,null,null,null,null,null,null,null,null,{"$f":"IF(referentes!AJ776=\"\",\"\",IF(IFERROR(SEARCH(\"*-*\",referentes!AJ776),2)=1,IF(referentes!AJ776=\"\",\"\",LEFT(referentes!AJ776,FIND(\"*-*\",referentes!AJ776)-1)),referentes!AJ776))","v":""},null,{"$f":"IF(IFERROR(T775,R775)=S775,\"\",R775)","v":""}]
[null,null,null,null,null,null,null,null,null,null,null,null,null,null,null,null,null,null,{"$f":"IF(referentes!AJ777=\"\",\"\",IF(IFERROR(SEARCH(\"*-*\",referentes!AJ777),2)=1,IF(referentes!AJ777=\"\",\"\",LEFT(referentes!AJ777,FIND(\"*-*\",referentes!AJ777)-1)),referentes!AJ777))","v":""},null,""]
[null,null,null,null,null,null,null,null,null,null,null,null,null,null,null,null,null,null,{"$f":"IF(referentes!AJ778=\"\",\"\",IF(IFERROR(SEARCH(\"*-*\",referentes!AJ778),2)=1,IF(referentes!AJ778=\"\",\"\",LEFT(referentes!AJ778,FIND(\"*-*\",referentes!AJ778)-1)),referentes!AJ778))","v":""},null,""]
[null,null,null,null,null,null,null,null,null,null,null,null,null,null,null,null,null,null,{"$f":"IF(referentes!AJ779=\"\",\"\",IF(IFERROR(SEARCH(\"*-*\",referentes!AJ779),2)=1,IF(referentes!AJ779=\"\",\"\",LEFT(referentes!AJ779,FIND(\"*-*\",referentes!AJ779)-1)),referentes!AJ779))","v":""},null,""]
[null,null,null,null,null,null,null,null,null,null,null,null,null,null,null,null,null,null,{"$f":"IF(referentes!AJ780=\"\",\"\",IF(IFERROR(SEARCH(\"*-*\",referentes!AJ780),2)=1,IF(referentes!AJ780=\"\",\"\",LEFT(referentes!AJ780,FIND(\"*-*\",referentes!AJ780)-1)),referentes!AJ780))","v":""},null,""]
[null,null,null,null,null,null,null,null,null,null,null,null,null,null,null,null,null,null,{"$f":"IF(referentes!AJ781=\"\",\"\",IF(IFERROR(SEARCH(\"*-*\",referentes!AJ781),2)=1,IF(referentes!AJ781=\"\",\"\",LEFT(referentes!AJ781,FIND(\"*-*\",referentes!AJ781)-1)),referentes!AJ781))","v":""},null,""]
[null,null,null,null,null,null,null,null,null,null,null,null,null,null,null,null,null,null,{"$f":"IF(referentes!AJ782=\"\",\"\",IF(IFERROR(SEARCH(\"*-*\",referentes!AJ782),2)=1,IF(referentes!AJ782=\"\",\"\",LEFT(referentes!AJ782,FIND(\"*-*\",referentes!AJ782)-1)),referentes!AJ782))","v":""},null,""]
[null,null,null,null,null,null,null,null,null,null,null,null,null,null,null,null,null,null,{"$f":"IF(referentes!AJ783=\"\",\"\",IF(IFERROR(SEARCH(\"*-*\",referentes!AJ783),2)=1,IF(referentes!AJ783=\"\",\"\",LEFT(referentes!AJ783,FIND(\"*-*\",referentes!AJ783)-1)),referentes!AJ783))","v":""},null,""]
[null,null,null,null,null,null,null,null,null,null,null,null,null,null,null,null,null,null,{"$f":"IF(referentes!AJ784=\"\",\"\",IF(IFERROR(SEARCH(\"*-*\",referentes!AJ784),2)=1,IF(referentes!AJ784=\"\",\"\",LEFT(referentes!AJ784,FIND(\"*-*\",referentes!AJ784)-1)),referentes!AJ784))","v":""},null,""]
[null,null,null,null,null,null,null,null,null,null,null,null,null,null,null,null,null,null,{"$f":"IF(referentes!AJ785=\"\",\"\",IF(IFERROR(SEARCH(\"*-*\",referentes!AJ785),2)=1,IF(referentes!AJ785=\"\",\"\",LEFT(referentes!AJ785,FIND(\"*-*\",referentes!AJ785)-1)),referentes!AJ785))","v":""},null,""]
[null,null,null,null,null,null,null,null,null,null,null,null,null,null,null,null,null,null,{"$f":"IF(referentes!AJ786=\"\",\"\",IF(IFERROR(SEARCH(\"*-*\",referentes!AJ786),2)=1,IF(referentes!AJ786=\"\",\"\",LEFT(referentes!AJ786,FIND(\"*-*\",referentes!AJ786)-1)),referentes!AJ786))","v":""},null,""]
[null,null,null,null,null,null,null,null,null,null,null,null,null,null,null,null,null,null,{"$f":"IF(referentes!AJ787=\"\",\"\",IF(IFERROR(SEARCH(\"*-*\",referentes!AJ787),2)=1,IF(referentes!AJ787=\"\",\"\",LEFT(referentes!AJ787,FIND(\"*-*\",referentes!AJ787)-1)),referentes!AJ787))","v":""},null,""]
[null,null,null,null,null,null,null,null,null,null,null,null,null,null,null,null,null,null,{"$f":"IF(referentes!AJ788=\"\",\"\",IF(IFERROR(SEARCH(\"*-*\",referentes!AJ788),2)=1,IF(referentes!AJ788=\"\",\"\",LEFT(referentes!AJ788,FIND(\"*-*\",referentes!AJ788)-1)),referentes!AJ788))","v":""},null,""]
[null,null,null,null,null,null,null,null,null,null,null,null,null,null,null,null,null,null,{"$f":"IF(referentes!AJ789=\"\",\"\",IF(IFERROR(SEARCH(\"*-*\",referentes!AJ789),2)=1,IF(referentes!AJ789=\"\",\"\",LEFT(referentes!AJ789,FIND(\"*-*\",referentes!AJ789)-1)),referentes!AJ789))","v":""},null,""]
[null,null,null,null,null,null,null,null,null,null,null,null,null,null,null,null,null,null,{"$f":"IF(referentes!AJ790=\"\",\"\",IF(IFERROR(SEARCH(\"*-*\",referentes!AJ790),2)=1,IF(referentes!AJ790=\"\",\"\",LEFT(referentes!AJ790,FIND(\"*-*\",referentes!AJ790)-1)),referentes!AJ790))","v":""},null,""]
[null,null,null,null,null,null,null,null,null,null,null,null,null,null,null,null,null,null,{"$f":"IF(referentes!AJ791=\"\",\"\",IF(IFERROR(SEARCH(\"*-*\",referentes!AJ791),2)=1,IF(referentes!AJ791=\"\",\"\",LEFT(referentes!AJ791,FIND(\"*-*\",referentes!AJ791)-1)),referentes!AJ791))","v":""},null,""]
[null,null,null,null,null,null,null,null,null,null,null,null,null,null,null,null,null,null,{"$f":"IF(referentes!AJ792=\"\",\"\",IF(IFERROR(SEARCH(\"*-*\",referentes!AJ792),2)=1,IF(referentes!AJ792=\"\",\"\",LEFT(referentes!AJ792,FIND(\"*-*\",referentes!AJ792)-1)),referentes!AJ792))","v":""},null,""]
[null,null,null,null,null,null,null,null,null,null,null,null,null,null,null,null,null,null,{"$f":"IF(referentes!AJ793=\"\",\"\",IF(IFERROR(SEARCH(\"*-*\",referentes!AJ793),2)=1,IF(referentes!AJ793=\"\",\"\",LEFT(referentes!AJ793,FIND(\"*-*\",referentes!AJ793)-1)),referentes!AJ793))","v":""},null,""]
[null,null,null,null,null,null,null,null,null,null,null,null,null,null,null,null,null,null,{"$f":"IF(referentes!AJ794=\"\",\"\",IF(IFERROR(SEARCH(\"*-*\",referentes!AJ794),2)=1,IF(referentes!AJ794=\"\",\"\",LEFT(referentes!AJ794,FIND(\"*-*\",referentes!AJ794)-1)),referentes!AJ794))","v":""},null,""]
[null,null,null,null,null,null,null,null,null,null,null,null,null,null,null,null,null,null,{"$f":"IF(referentes!AJ795=\"\",\"\",IF(IFERROR(SEARCH(\"*-*\",referentes!AJ795),2)=1,IF(referentes!AJ795=\"\",\"\",LEFT(referentes!AJ795,FIND(\"*-*\",referentes!AJ795)-1)),referentes!AJ795))","v":""},null,""]
[null,null,null,null,null,null,null,null,null,null,null,null,null,null,null,null,null,null,{"$f":"IF(referentes!AJ796=\"\",\"\",IF(IFERROR(SEARCH(\"*-*\",referentes!AJ796),2)=1,IF(referentes!AJ796=\"\",\"\",LEFT(referentes!AJ796,FIND(\"*-*\",referentes!AJ796)-1)),referentes!AJ796))","v":""},null,""]
[null,null,null,null,null,null,null,null,null,null,null,null,null,null,null,null,null,null,{"$f":"IF(referentes!AJ797=\"\",\"\",IF(IFERROR(SEARCH(\"*-*\",referentes!AJ797),2)=1,IF(referentes!AJ797=\"\",\"\",LEFT(referentes!AJ797,FIND(\"*-*\",referentes!AJ797)-1)),referentes!AJ797))","v":""},null,""]
[null,null,null,null,null,null,null,null,null,null,null,null,null,null,null,null,null,null,{"$f":"IF(referentes!AJ798=\"\",\"\",IF(IFERROR(SEARCH(\"*-*\",referentes!AJ798),2)=1,IF(referentes!AJ798=\"\",\"\",LEFT(referentes!AJ798,FIND(\"*-*\",referentes!AJ798)-1)),referentes!AJ798))","v":""},null,""]
[null,null,null,null,null,null,null,null,null,null,null,null,null,null,null,null,null,null,{"$f":"IF(referentes!AJ799=\"\",\"\",IF(IFERROR(SEARCH(\"*-*\",referentes!AJ799),2)=1,IF(referentes!AJ799=\"\",\"\",LEFT(referentes!AJ799,FIND(\"*-*\",referentes!AJ799)-1)),referentes!AJ799))","v":""},null,""]
[null,null,null,null,null,null,null,null,null,null,null,null,null,null,null,null,null,null,{"$f":"IF(referentes!AJ800=\"\",\"\",IF(IFERROR(SEARCH(\"*-*\",referentes!AJ800),2)=1,IF(referentes!AJ800=\"\",\"\",LEFT(referentes!AJ800,FIND(\"*-*\",referentes!AJ800)-1)),referentes!AJ800))","v":""},null,""]
[null,null,null,null,null,null,null,null,null,null,null,null,null,null,null,null,null,null,{"$f":"IF(referentes!AJ801=\"\",\"\",IF(IFERROR(SEARCH(\"*-*\",referentes!AJ801),2)=1,IF(referentes!AJ801=\"\",\"\",LEFT(referentes!AJ801,FIND(\"*-*\",referentes!AJ801)-1)),referentes!AJ801))","v":""},null,""]
[null,null,null,null,null,null,null,null,null,null,null,null,null,null,null,null,null,null,{"$f":"IF(referentes!AJ802=\"\",\"\",IF(IFERROR(SEARCH(\"*-*\",referentes!AJ802),2)=1,IF(referentes!AJ802=\"\",\"\",LEFT(referentes!AJ802,FIND(\"*-*\",referentes!AJ802)-1)),referentes!AJ802))","v":""},null,""]
[null,null,null,null,null,null,null,null,null,null,null,null,null,null,null,null,null,null,{"$f":"IF(referentes!AJ803=\"\",\"\",IF(IFERROR(SEARCH(\"*-*\",referentes!AJ803),2)=1,IF(referentes!AJ803=\"\",\"\",LEFT(referentes!AJ803,FIND(\"*-*\",referentes!AJ803)-1)),referentes!AJ803))","v":""},null,""]
[null,null,null,null,null,null,null,null,null,null,null,null,null,null,null,null,null,null,{"$f":"IF(referentes!AJ804=\"\",\"\",IF(IFERROR(SEARCH(\"*-*\",referentes!AJ804),2)=1,IF(referentes!AJ804=\"\",\"\",LEFT(referentes!AJ804,FIND(\"*-*\",referentes!AJ804)-1)),referentes!AJ804))","v":""},null,""]
[null,null,null,null,null,null,null,null,null,null,null,null,null,null,null,null,null,null,{"$f":"IF(referentes!AJ805=\"\",\"\",IF(IFERROR(SEARCH(\"*-*\",referentes!AJ805),2)=1,IF(referentes!AJ805=\"\",\"\",LEFT(referentes!AJ805,FIND(\"*-*\",referentes!AJ805)-1)),referentes!AJ805))","v":""},null,""]
[null,null,null,null,null,null,null,null,null,null,null,null,null,null,null,null,null,null,{"$f":"IF(referentes!AJ806=\"\",\"\",IF(IFERROR(SEARCH(\"*-*\",referentes!AJ806),2)=1,IF(referentes!AJ806=\"\",\"\",LEFT(referentes!AJ806,FIND(\"*-*\",referentes!AJ806)-1)),referentes!AJ806))","v":""},null,""]
[null,null,null,null,null,null,null,null,null,null,null,null,null,null,null,null,null,null,{"$f":"IF(referentes!AJ807=\"\",\"\",IF(IFERROR(SEARCH(\"*-*\",referentes!AJ807),2)=1,IF(referentes!AJ807=\"\",\"\",LEFT(referentes!AJ807,FIND(\"*-*\",referentes!AJ807)-1)),referentes!AJ807))","v":""},null,""]
[null,null,null,null,null,null,null,null,null,null,null,null,null,null,null,null,null,null,{"$f":"IF(referentes!AJ808=\"\",\"\",IF(IFERROR(SEARCH(\"*-*\",referentes!AJ808),2)=1,IF(referentes!AJ808=\"\",\"\",LEFT(referentes!AJ808,FIND(\"*-*\",referentes!AJ808)-1)),referentes!AJ808))","v":""},null,""]
[null,null,null,null,null,null,null,null,null,null,null,null,null,null,null,null,null,null,{"$f":"IF(referentes!AJ809=\"\",\"\",IF(IFERROR(SEARCH(\"*-*\",referentes!AJ809),2)=1,IF(referentes!AJ809=\"\",\"\",LEFT(referentes!AJ809,FIND(\"*-*\",referentes!AJ809)-1)),referentes!AJ809))","v":""},null,""]
[null,null,null,null,null,null,null,null,null,null,null,null,null,null,null,null,null,null,{"$f":"IF(referentes!AJ810=\"\",\"\",IF(IFERROR(SEARCH(\"*-*\",referentes!AJ810),2)=1,IF(referentes!AJ810=\"\",\"\",LEFT(referentes!AJ810,FIND(\"*-*\",referentes!AJ810)-1)),referentes!AJ810))","v":""},null,""]
[null,null,null,null,null,null,null,null,null,null,null,null,null,null,null,null,null,null,{"$f":"IF(referentes!AJ811=\"\",\"\",IF(IFERROR(SEARCH(\"*-*\",referentes!AJ811),2)=1,IF(referentes!AJ811=\"\",\"\",LEFT(referentes!AJ811,FIND(\"*-*\",referentes!AJ811)-1)),referentes!AJ811))","v":""},null,""]
[null,null,null,null,null,null,null,null,null,null,null,null,null,null,null,null,null,null,{"$f":"IF(referentes!AJ812=\"\",\"\",IF(IFERROR(SEARCH(\"*-*\",referentes!AJ812),2)=1,IF(referentes!AJ812=\"\",\"\",LEFT(referentes!AJ812,FIND(\"*-*\",referentes!AJ812)-1)),referentes!AJ812))","v":""},null,""]
[null,null,null,null,null,null,null,null,null,null,null,null,null,null,null,null,null,null,{"$f":"IF(referentes!AJ813=\"\",\"\",IF(IFERROR(SEARCH(\"*-*\",referentes!AJ813),2)=1,IF(referentes!AJ813=\"\",\"\",LEFT(referentes!AJ813,FIND(\"*-*\",referentes!AJ813)-1)),referentes!AJ813))","v":""},null,""]
[null,null,null,null,null,null,null,null,null,null,null,null,null,null,null,null,null,null,{"$f":"IF(referentes!AJ814=\"\",\"\",IF(IFERROR(SEARCH(\"*-*\",referentes!AJ814),2)=1,IF(referentes!AJ814=\"\",\"\",LEFT(referentes!AJ814,FIND(\"*-*\",referentes!AJ814)-1)),referentes!AJ814))","v":""},null,""]
[null,null,null,null,null,null,null,null,null,null,null,null,null,null,null,null,null,null,{"$f":"IF(referentes!AJ815=\"\",\"\",IF(IFERROR(SEARCH(\"*-*\",referentes!AJ815),2)=1,IF(referentes!AJ815=\"\",\"\",LEFT(referentes!AJ815,FIND(\"*-*\",referentes!AJ815)-1)),referentes!AJ815))","v":""},null,""]
[null,null,null,null,null,null,null,null,null,null,null,null,null,null,null,null,null,null,{"$f":"IF(referentes!AJ816=\"\",\"\",IF(IFERROR(SEARCH(\"*-*\",referentes!AJ816),2)=1,IF(referentes!AJ816=\"\",\"\",LEFT(referentes!AJ816,FIND(\"*-*\",referentes!AJ816)-1)),referentes!AJ816))","v":""},null,""]
[null,null,null,null,null,null,null,null,null,null,null,null,null,null,null,null,null,null,{"$f":"IF(referentes!AJ817=\"\",\"\",IF(IFERROR(SEARCH(\"*-*\",referentes!AJ817),2)=1,IF(referentes!AJ817=\"\",\"\",LEFT(referentes!AJ817,FIND(\"*-*\",referentes!AJ817)-1)),referentes!AJ817))","v":""},null,""]
[null,null,null,null,null,null,null,null,null,null,null,null,null,null,null,null,null,null,{"$f":"IF(referentes!AJ818=\"\",\"\",IF(IFERROR(SEARCH(\"*-*\",referentes!AJ818),2)=1,IF(referentes!AJ818=\"\",\"\",LEFT(referentes!AJ818,FIND(\"*-*\",referentes!AJ818)-1)),referentes!AJ818))","v":""},null,""]
[null,null,null,null,null,null,null,null,null,null,null,null,null,null,null,null,null,null,{"$f":"IF(referentes!AJ819=\"\",\"\",IF(IFERROR(SEARCH(\"*-*\",referentes!AJ819),2)=1,IF(referentes!AJ819=\"\",\"\",LEFT(referentes!AJ819,FIND(\"*-*\",referentes!AJ819)-1)),referentes!AJ819))","v":""},null,""]
[null,null,null,null,null,null,null,null,null,null,null,null,null,null,null,null,null,null,{"$f":"IF(referentes!AJ820=\"\",\"\",IF(IFERROR(SEARCH(\"*-*\",referentes!AJ820),2)=1,IF(referentes!AJ820=\"\",\"\",LEFT(referentes!AJ820,FIND(\"*-*\",referentes!AJ820)-1)),referentes!AJ820))","v":""},null,""]
[null,null,null,null,null,null,null,null,null,null,null,null,null,null,null,null,null,null,{"$f":"IF(referentes!AJ821=\"\",\"\",IF(IFERROR(SEARCH(\"*-*\",referentes!AJ821),2)=1,IF(referentes!AJ821=\"\",\"\",LEFT(referentes!AJ821,FIND(\"*-*\",referentes!AJ821)-1)),referentes!AJ821))","v":""},null,""]
[null,null,null,null,null,null,null,null,null,null,null,null,null,null,null,null,null,null,{"$f":"IF(referentes!AJ822=\"\",\"\",IF(IFERROR(SEARCH(\"*-*\",referentes!AJ822),2)=1,IF(referentes!AJ822=\"\",\"\",LEFT(referentes!AJ822,FIND(\"*-*\",referentes!AJ822)-1)),referentes!AJ822))","v":""},null,""]
[null,null,null,null,null,null,null,null,null,null,null,null,null,null,null,null,null,null,{"$f":"IF(referentes!AJ823=\"\",\"\",IF(IFERROR(SEARCH(\"*-*\",referentes!AJ823),2)=1,IF(referentes!AJ823=\"\",\"\",LEFT(referentes!AJ823,FIND(\"*-*\",referentes!AJ823)-1)),referentes!AJ823))","v":""},null,""]
[null,null,null,null,null,null,null,null,null,null,null,null,null,null,null,null,null,null,{"$f":"IF(referentes!AJ824=\"\",\"\",IF(IFERROR(SEARCH(\"*-*\",referentes!AJ824),2)=1,IF(referentes!AJ824=\"\",\"\",LEFT(referentes!AJ824,FIND(\"*-*\",referentes!AJ824)-1)),referentes!AJ824))","v":""},null,""]
[null,null,null,null,null,null,null,null,null,null,null,null,null,null,null,null,null,null,{"$f":"IF(referentes!AJ825=\"\",\"\",IF(IFERROR(SEARCH(\"*-*\",referentes!AJ825),2)=1,IF(referentes!AJ825=\"\",\"\",LEFT(referentes!AJ825,FIND(\"*-*\",referentes!AJ825)-1)),referentes!AJ825))","v":""},null,""]
[null,null,null,null,null,null,null,null,null,null,null,null,null,null,null,null,null,null,{"$f":"IF(referentes!AJ826=\"\",\"\",IF(IFERROR(SEARCH(\"*-*\",referentes!AJ826),2)=1,IF(referentes!AJ826=\"\",\"\",LEFT(referentes!AJ826,FIND(\"*-*\",referentes!AJ826)-1)),referentes!AJ826))","v":""},null,""]
[null,null,null,null,null,null,null,null,null,null,null,null,null,null,null,null,null,null,{"$f":"IF(referentes!AJ827=\"\",\"\",IF(IFERROR(SEARCH(\"*-*\",referentes!AJ827),2)=1,IF(referentes!AJ827=\"\",\"\",LEFT(referentes!AJ827,FIND(\"*-*\",referentes!AJ827)-1)),referentes!AJ827))","v":""},null,""]
[null,null,null,null,null,null,null,null,null,null,null,null,null,null,null,null,null,null,{"$f":"IF(referentes!AJ828=\"\",\"\",IF(IFERROR(SEARCH(\"*-*\",referentes!AJ828),2)=1,IF(referentes!AJ828=\"\",\"\",LEFT(referentes!AJ828,FIND(\"*-*\",referentes!AJ828)-1)),referentes!AJ828))","v":""},null,""]
[null,null,null,null,null,null,null,null,null,null,null,null,null,null,null,null,null,null,{"$f":"IF(referentes!AJ829=\"\",\"\",IF(IFERROR(SEARCH(\"*-*\",referentes!AJ829),2)=1,IF(referentes!AJ829=\"\",\"\",LEFT(referentes!AJ829,FIND(\"*-*\",referentes!AJ829)-1)),referentes!AJ829))","v":""},null,""]
[null,null,null,null,null,null,null,null,null,null,null,null,null,null,null,null,null,null,{"$f":"IF(referentes!AJ830=\"\",\"\",IF(IFERROR(SEARCH(\"*-*\",referentes!AJ830),2)=1,IF(referentes!AJ830=\"\",\"\",LEFT(referentes!AJ830,FIND(\"*-*\",referentes!AJ830)-1)),referentes!AJ830))","v":""},null,""]
[null,null,null,null,null,null,null,null,null,null,null,null,null,null,null,null,null,null,{"$f":"IF(referentes!AJ831=\"\",\"\",IF(IFERROR(SEARCH(\"*-*\",referentes!AJ831),2)=1,IF(referentes!AJ831=\"\",\"\",LEFT(referentes!AJ831,FIND(\"*-*\",referentes!AJ831)-1)),referentes!AJ831))","v":""},null,""]
[null,null,null,null,null,null,null,null,null,null,null,null,null,null,null,null,null,null,{"$f":"IF(referentes!AJ832=\"\",\"\",IF(IFERROR(SEARCH(\"*-*\",referentes!AJ832),2)=1,IF(referentes!AJ832=\"\",\"\",LEFT(referentes!AJ832,FIND(\"*-*\",referentes!AJ832)-1)),referentes!AJ832))","v":""},null,""]
[null,null,null,null,null,null,null,null,null,null,null,null,null,null,null,null,null,null,{"$f":"IF(referentes!AJ833=\"\",\"\",IF(IFERROR(SEARCH(\"*-*\",referentes!AJ833),2)=1,IF(referentes!AJ833=\"\",\"\",LEFT(referentes!AJ833,FIND(\"*-*\",referentes!AJ833)-1)),referentes!AJ833))","v":""},null,""]
[null,null,null,null,null,null,null,null,null,null,null,null,null,null,null,null,null,null,{"$f":"IF(referentes!AJ834=\"\",\"\",IF(IFERROR(SEARCH(\"*-*\",referentes!AJ834),2)=1,IF(referentes!AJ834=\"\",\"\",LEFT(referentes!AJ834,FIND(\"*-*\",referentes!AJ834)-1)),referentes!AJ834))","v":""},null,""]
[null,null,null,null,null,null,null,null,null,null,null,null,null,null,null,null,null,null,{"$f":"IF(referentes!AJ835=\"\",\"\",IF(IFERROR(SEARCH(\"*-*\",referentes!AJ835),2)=1,IF(referentes!AJ835=\"\",\"\",LEFT(referentes!AJ835,FIND(\"*-*\",referentes!AJ835)-1)),referentes!AJ835))","v":""},null,""]
[null,null,null,null,null,null,null,null,null,null,null,null,null,null,null,null,null,null,{"$f":"IF(referentes!AJ836=\"\",\"\",IF(IFERROR(SEARCH(\"*-*\",referentes!AJ836),2)=1,IF(referentes!AJ836=\"\",\"\",LEFT(referentes!AJ836,FIND(\"*-*\",referentes!AJ836)-1)),referentes!AJ836))","v":""},null,""]
[null,null,null,null,null,null,null,null,null,null,null,null,null,null,null,null,null,null,{"$f":"IF(referentes!AJ837=\"\",\"\",IF(IFERROR(SEARCH(\"*-*\",referentes!AJ837),2)=1,IF(referentes!AJ837=\"\",\"\",LEFT(referentes!AJ837,FIND(\"*-*\",referentes!AJ837)-1)),referentes!AJ837))","v":""},null,""]
[null,null,null,null,null,null,null,null,null,null,null,null,null,null,null,null,null,null,{"$f":"IF(referentes!AJ838=\"\",\"\",IF(IFERROR(SEARCH(\"*-*\",referentes!AJ838),2)=1,IF(referentes!AJ838=\"\",\"\",LEFT(referentes!AJ838,FIND(\"*-*\",referentes!AJ838)-1)),referentes!AJ838))","v":""},null,""]
[null,null,null,null,null,null,null,null,null,null,null,null,null,null,null,null,null,null,{"$f":"IF(referentes!AJ839=\"\",\"\",IF(IFERROR(SEARCH(\"*-*\",referentes!AJ839),2)=1,IF(referentes!AJ839=\"\",\"\",LEFT(referentes!AJ839,FIND(\"*-*\",referentes!AJ839)-1)),referentes!AJ839))","v":""},null,""]
[null,null,null,null,null,null,null,null,null,null,null,null,null,null,null,null,null,null,{"$f":"IF(referentes!AJ840=\"\",\"\",IF(IFERROR(SEARCH(\"*-*\",referentes!AJ840),2)=1,IF(referentes!AJ840=\"\",\"\",LEFT(referentes!AJ840,FIND(\"*-*\",referentes!AJ840)-1)),referentes!AJ840))","v":""},null,{"$f":"IF(IFERROR(T839,R839)=S839,\"\",R839)","v":""}]
[null,null,null,null,null,null,null,null,null,null,null,null,null,null,null,null,null,null,{"$f":"IF(referentes!AJ841=\"\",\"\",IF(IFERROR(SEARCH(\"*-*\",referentes!AJ841),2)=1,IF(referentes!AJ841=\"\",\"\",LEFT(referentes!AJ841,FIND(\"*-*\",referentes!AJ841)-1)),referentes!AJ841))","v":""},null,""]
[null,null,null,null,null,null,null,null,null,null,null,null,null,null,null,null,null,null,{"$f":"IF(referentes!AJ842=\"\",\"\",IF(IFERROR(SEARCH(\"*-*\",referentes!AJ842),2)=1,IF(referentes!AJ842=\"\",\"\",LEFT(referentes!AJ842,FIND(\"*-*\",referentes!AJ842)-1)),referentes!AJ842))","v":""},null,""]
[null,null,null,null,null,null,null,null,null,null,null,null,null,null,null,null,null,null,{"$f":"IF(referentes!AJ843=\"\",\"\",IF(IFERROR(SEARCH(\"*-*\",referentes!AJ843),2)=1,IF(referentes!AJ843=\"\",\"\",LEFT(referentes!AJ843,FIND(\"*-*\",referentes!AJ843)-1)),referentes!AJ843))","v":""},null,""]
[null,null,null,null,null,null,null,null,null,null,null,null,null,null,null,null,null,null,{"$f":"IF(referentes!AJ844=\"\",\"\",IF(IFERROR(SEARCH(\"*-*\",referentes!AJ844),2)=1,IF(referentes!AJ844=\"\",\"\",LEFT(referentes!AJ844,FIND(\"*-*\",referentes!AJ844)-1)),referentes!AJ844))","v":""},null,""]
[null,null,null,null,null,null,null,null,null,null,null,null,null,null,null,null,null,null,{"$f":"IF(referentes!AJ845=\"\",\"\",IF(IFERROR(SEARCH(\"*-*\",referentes!AJ845),2)=1,IF(referentes!AJ845=\"\",\"\",LEFT(referentes!AJ845,FIND(\"*-*\",referentes!AJ845)-1)),referentes!AJ845))","v":""},null,""]
[null,null,null,null,null,null,null,null,null,null,null,null,null,null,null,null,null,null,{"$f":"IF(referentes!AJ846=\"\",\"\",IF(IFERROR(SEARCH(\"*-*\",referentes!AJ846),2)=1,IF(referentes!AJ846=\"\",\"\",LEFT(referentes!AJ846,FIND(\"*-*\",referentes!AJ846)-1)),referentes!AJ846))","v":""},null,""]
[null,null,null,null,null,null,null,null,null,null,null,null,null,null,null,null,null,null,{"$f":"IF(referentes!AJ847=\"\",\"\",IF(IFERROR(SEARCH(\"*-*\",referentes!AJ847),2)=1,IF(referentes!AJ847=\"\",\"\",LEFT(referentes!AJ847,FIND(\"*-*\",referentes!AJ847)-1)),referentes!AJ847))","v":""},null,""]
[null,null,null,null,null,null,null,null,null,null,null,null,null,null,null,null,null,null,{"$f":"IF(referentes!AJ848=\"\",\"\",IF(IFERROR(SEARCH(\"*-*\",referentes!AJ848),2)=1,IF(referentes!AJ848=\"\",\"\",LEFT(referentes!AJ848,FIND(\"*-*\",referentes!AJ848)-1)),referentes!AJ848))","v":""},null,""]
[null,null,null,null,null,null,null,null,null,null,null,null,null,null,null,null,null,null,{"$f":"IF(referentes!AJ849=\"\",\"\",IF(IFERROR(SEARCH(\"*-*\",referentes!AJ849),2)=1,IF(referentes!AJ849=\"\",\"\",LEFT(referentes!AJ849,FIND(\"*-*\",referentes!AJ849)-1)),referentes!AJ849))","v":""},null,""]
[null,null,null,null,null,null,null,null,null,null,null,null,null,null,null,null,null,null,{"$f":"IF(referentes!AJ850=\"\",\"\",IF(IFERROR(SEARCH(\"*-*\",referentes!AJ850),2)=1,IF(referentes!AJ850=\"\",\"\",LEFT(referentes!AJ850,FIND(\"*-*\",referentes!AJ850)-1)),referentes!AJ850))","v":""},null,""]
[null,null,null,null,null,null,null,null,null,null,null,null,null,null,null,null,null,null,{"$f":"IF(referentes!AJ851=\"\",\"\",IF(IFERROR(SEARCH(\"*-*\",referentes!AJ851),2)=1,IF(referentes!AJ851=\"\",\"\",LEFT(referentes!AJ851,FIND(\"*-*\",referentes!AJ851)-1)),referentes!AJ851))","v":""},null,""]
[null,null,null,null,null,null,null,null,null,null,null,null,null,null,null,null,null,null,{"$f":"IF(referentes!AJ852=\"\",\"\",IF(IFERROR(SEARCH(\"*-*\",referentes!AJ852),2)=1,IF(referentes!AJ852=\"\",\"\",LEFT(referentes!AJ852,FIND(\"*-*\",referentes!AJ852)-1)),referentes!AJ852))","v":""},null,""]
[null,null,null,null,null,null,null,null,null,null,null,null,null,null,null,null,null,null,{"$f":"IF(referentes!AJ853=\"\",\"\",IF(IFERROR(SEARCH(\"*-*\",referentes!AJ853),2)=1,IF(referentes!AJ853=\"\",\"\",LEFT(referentes!AJ853,FIND(\"*-*\",referentes!AJ853)-1)),referentes!AJ853))","v":""},null,""]
[null,null,null,null,null,null,null,null,null,null,null,null,null,null,null,null,null,null,{"$f":"IF(referentes!AJ854=\"\",\"\",IF(IFERROR(SEARCH(\"*-*\",referentes!AJ854),2)=1,IF(referentes!AJ854=\"\",\"\",LEFT(referentes!AJ854,FIND(\"*-*\",referentes!AJ854)-1)),referentes!AJ854))","v":""},null,""]
[null,null,null,null,null,null,null,null,null,null,null,null,null,null,null,null,null,null,{"$f":"IF(referentes!AJ855=\"\",\"\",IF(IFERROR(SEARCH(\"*-*\",referentes!AJ855),2)=1,IF(referentes!AJ855=\"\",\"\",LEFT(referentes!AJ855,FIND(\"*-*\",referentes!AJ855)-1)),referentes!AJ855))","v":""},null,""]
[null,null,null,null,null,null,null,null,null,null,null,null,null,null,null,null,null,null,{"$f":"IF(referentes!AJ856=\"\",\"\",IF(IFERROR(SEARCH(\"*-*\",referentes!AJ856),2)=1,IF(referentes!AJ856=\"\",\"\",LEFT(referentes!AJ856,FIND(\"*-*\",referentes!AJ856)-1)),referentes!AJ856))","v":""},null,""]
[null,null,null,null,null,null,null,null,null,null,null,null,null,null,null,null,null,null,{"$f":"IF(referentes!AJ857=\"\",\"\",IF(IFERROR(SEARCH(\"*-*\",referentes!AJ857),2)=1,IF(referentes!AJ857=\"\",\"\",LEFT(referentes!AJ857,FIND(\"*-*\",referentes!AJ857)-1)),referentes!AJ857))","v":""},null,""]
[null,null,null,null,null,null,null,null,null,null,null,null,null,null,null,null,null,null,{"$f":"IF(referentes!AJ858=\"\",\"\",IF(IFERROR(SEARCH(\"*-*\",referentes!AJ858),2)=1,IF(referentes!AJ858=\"\",\"\",LEFT(referentes!AJ858,FIND(\"*-*\",referentes!AJ858)-1)),referentes!AJ858))","v":""},null,""]
[null,null,null,null,null,null,null,null,null,null,null,null,null,null,null,null,null,null,{"$f":"IF(referentes!AJ859=\"\",\"\",IF(IFERROR(SEARCH(\"*-*\",referentes!AJ859),2)=1,IF(referentes!AJ859=\"\",\"\",LEFT(referentes!AJ859,FIND(\"*-*\",referentes!AJ859)-1)),referentes!AJ859))","v":""},null,""]
[null,null,null,null,null,null,null,null,null,null,null,null,null,null,null,null,null,null,{"$f":"IF(referentes!AJ860=\"\",\"\",IF(IFERROR(SEARCH(\"*-*\",referentes!AJ860),2)=1,IF(referentes!AJ860=\"\",\"\",LEFT(referentes!AJ860,FIND(\"*-*\",referentes!AJ860)-1)),referentes!AJ860))","v":""},null,""]
[null,null,null,null,null,null,null,null,null,null,null,null,null,null,null,null,null,null,{"$f":"IF(referentes!AJ861=\"\",\"\",IF(IFERROR(SEARCH(\"*-*\",referentes!AJ861),2)=1,IF(referentes!AJ861=\"\",\"\",LEFT(referentes!AJ861,FIND(\"*-*\",referentes!AJ861)-1)),referentes!AJ861))","v":""},null,""]
[null,null,null,null,null,null,null,null,null,null,null,null,null,null,null,null,null,null,{"$f":"IF(referentes!AJ862=\"\",\"\",IF(IFERROR(SEARCH(\"*-*\",referentes!AJ862),2)=1,IF(referentes!AJ862=\"\",\"\",LEFT(referentes!AJ862,FIND(\"*-*\",referentes!AJ862)-1)),referentes!AJ862))","v":""},null,""]
[null,null,null,null,null,null,null,null,null,null,null,null,null,null,null,null,null,null,{"$f":"IF(referentes!AJ863=\"\",\"\",IF(IFERROR(SEARCH(\"*-*\",referentes!AJ863),2)=1,IF(referentes!AJ863=\"\",\"\",LEFT(referentes!AJ863,FIND(\"*-*\",referentes!AJ863)-1)),referentes!AJ863))","v":""},null,""]
[null,null,null,null,null,null,null,null,null,null,null,null,null,null,null,null,null,null,{"$f":"IF(referentes!AJ864=\"\",\"\",IF(IFERROR(SEARCH(\"*-*\",referentes!AJ864),2)=1,IF(referentes!AJ864=\"\",\"\",LEFT(referentes!AJ864,FIND(\"*-*\",referentes!AJ864)-1)),referentes!AJ864))","v":""},null,""]
[null,null,null,null,null,null,null,null,null,null,null,null,null,null,null,null,null,null,{"$f":"IF(referentes!AJ865=\"\",\"\",IF(IFERROR(SEARCH(\"*-*\",referentes!AJ865),2)=1,IF(referentes!AJ865=\"\",\"\",LEFT(referentes!AJ865,FIND(\"*-*\",referentes!AJ865)-1)),referentes!AJ865))","v":""},null,""]
[null,null,null,null,null,null,null,null,null,null,null,null,null,null,null,null,null,null,{"$f":"IF(referentes!AJ866=\"\",\"\",IF(IFERROR(SEARCH(\"*-*\",referentes!AJ866),2)=1,IF(referentes!AJ866=\"\",\"\",LEFT(referentes!AJ866,FIND(\"*-*\",referentes!AJ866)-1)),referentes!AJ866))","v":""},null,""]
[null,null,null,null,null,null,null,null,null,null,null,null,null,null,null,null,null,null,{"$f":"IF(referentes!AJ867=\"\",\"\",IF(IFERROR(SEARCH(\"*-*\",referentes!AJ867),2)=1,IF(referentes!AJ867=\"\",\"\",LEFT(referentes!AJ867,FIND(\"*-*\",referentes!AJ867)-1)),referentes!AJ867))","v":""},null,""]
[null,null,null,null,null,null,null,null,null,null,null,null,null,null,null,null,null,null,{"$f":"IF(referentes!AJ868=\"\",\"\",IF(IFERROR(SEARCH(\"*-*\",referentes!AJ868),2)=1,IF(referentes!AJ868=\"\",\"\",LEFT(referentes!AJ868,FIND(\"*-*\",referentes!AJ868)-1)),referentes!AJ868))","v":""},null,""]
[null,null,null,null,null,null,null,null,null,null,null,null,null,null,null,null,null,null,{"$f":"IF(referentes!AJ869=\"\",\"\",IF(IFERROR(SEARCH(\"*-*\",referentes!AJ869),2)=1,IF(referentes!AJ869=\"\",\"\",LEFT(referentes!AJ869,FIND(\"*-*\",referentes!AJ869)-1)),referentes!AJ869))","v":""},null,""]
[null,null,null,null,null,null,null,null,null,null,null,null,null,null,null,null,null,null,{"$f":"IF(referentes!AJ870=\"\",\"\",IF(IFERROR(SEARCH(\"*-*\",referentes!AJ870),2)=1,IF(referentes!AJ870=\"\",\"\",LEFT(referentes!AJ870,FIND(\"*-*\",referentes!AJ870)-1)),referentes!AJ870))","v":""},null,""]
[null,null,null,null,null,null,null,null,null,null,null,null,null,null,null,null,null,null,{"$f":"IF(referentes!AJ871=\"\",\"\",IF(IFERROR(SEARCH(\"*-*\",referentes!AJ871),2)=1,IF(referentes!AJ871=\"\",\"\",LEFT(referentes!AJ871,FIND(\"*-*\",referentes!AJ871)-1)),referentes!AJ871))","v":""},null,""]
[null,null,null,null,null,null,null,null,null,null,null,null,null,null,null,null,null,null,{"$f":"IF(referentes!AJ872=\"\",\"\",IF(IFERROR(SEARCH(\"*-*\",referentes!AJ872),2)=1,IF(referentes!AJ872=\"\",\"\",LEFT(referentes!AJ872,FIND(\"*-*\",referentes!AJ872)-1)),referentes!AJ872))","v":""},null,""]
[null,null,null,null,null,null,null,null,null,null,null,null,null,null,null,null,null,null,{"$f":"IF(referentes!AJ873=\"\",\"\",IF(IFERROR(SEARCH(\"*-*\",referentes!AJ873),2)=1,IF(referentes!AJ873=\"\",\"\",LEFT(referentes!AJ873,FIND(\"*-*\",referentes!AJ873)-1)),referentes!AJ873))","v":""},null,""]
[null,null,null,null,null,null,null,null,null,null,null,null,null,null,null,null,null,null,{"$f":"IF(referentes!AJ874=\"\",\"\",IF(IFERROR(SEARCH(\"*-*\",referentes!AJ874),2)=1,IF(referentes!AJ874=\"\",\"\",LEFT(referentes!AJ874,FIND(\"*-*\",referentes!AJ874)-1)),referentes!AJ874))","v":""},null,""]
[null,null,null,null,null,null,null,null,null,null,null,null,null,null,null,null,null,null,{"$f":"IF(referentes!AJ875=\"\",\"\",IF(IFERROR(SEARCH(\"*-*\",referentes!AJ875),2)=1,IF(referentes!AJ875=\"\",\"\",LEFT(referentes!AJ875,FIND(\"*-*\",referentes!AJ875)-1)),referentes!AJ875))","v":""},null,""]
[null,null,null,null,null,null,null,null,null,null,null,null,null,null,null,null,null,null,{"$f":"IF(referentes!AJ876=\"\",\"\",IF(IFERROR(SEARCH(\"*-*\",referentes!AJ876),2)=1,IF(referentes!AJ876=\"\",\"\",LEFT(referentes!AJ876,FIND(\"*-*\",referentes!AJ876)-1)),referentes!AJ876))","v":""},null,""]
[null,null,null,null,null,null,null,null,null,null,null,null,null,null,null,null,null,null,{"$f":"IF(referentes!AJ877=\"\",\"\",IF(IFERROR(SEARCH(\"*-*\",referentes!AJ877),2)=1,IF(referentes!AJ877=\"\",\"\",LEFT(referentes!AJ877,FIND(\"*-*\",referentes!AJ877)-1)),referentes!AJ877))","v":""},null,""]
[null,null,null,null,null,null,null,null,null,null,null,null,null,null,null,null,null,null,{"$f":"IF(referentes!AJ878=\"\",\"\",IF(IFERROR(SEARCH(\"*-*\",referentes!AJ878),2)=1,IF(referentes!AJ878=\"\",\"\",LEFT(referentes!AJ878,FIND(\"*-*\",referentes!AJ878)-1)),referentes!AJ878))","v":""},null,""]
[null,null,null,null,null,null,null,null,null,null,null,null,null,null,null,null,null,null,{"$f":"IF(referentes!AJ879=\"\",\"\",IF(IFERROR(SEARCH(\"*-*\",referentes!AJ879),2)=1,IF(referentes!AJ879=\"\",\"\",LEFT(referentes!AJ879,FIND(\"*-*\",referentes!AJ879)-1)),referentes!AJ879))","v":""},null,""]
[null,null,null,null,null,null,null,null,null,null,null,null,null,null,null,null,null,null,{"$f":"IF(referentes!AJ880=\"\",\"\",IF(IFERROR(SEARCH(\"*-*\",referentes!AJ880),2)=1,IF(referentes!AJ880=\"\",\"\",LEFT(referentes!AJ880,FIND(\"*-*\",referentes!AJ880)-1)),referentes!AJ880))","v":""},null,""]
[null,null,null,null,null,null,null,null,null,null,null,null,null,null,null,null,null,null,{"$f":"IF(referentes!AJ881=\"\",\"\",IF(IFERROR(SEARCH(\"*-*\",referentes!AJ881),2)=1,IF(referentes!AJ881=\"\",\"\",LEFT(referentes!AJ881,FIND(\"*-*\",referentes!AJ881)-1)),referentes!AJ881))","v":""},null,""]
[null,null,null,null,null,null,null,null,null,null,null,null,null,null,null,null,null,null,{"$f":"IF(referentes!AJ882=\"\",\"\",IF(IFERROR(SEARCH(\"*-*\",referentes!AJ882),2)=1,IF(referentes!AJ882=\"\",\"\",LEFT(referentes!AJ882,FIND(\"*-*\",referentes!AJ882)-1)),referentes!AJ882))","v":""},null,""]
[null,null,null,null,null,null,null,null,null,null,null,null,null,null,null,null,null,null,{"$f":"IF(referentes!AJ883=\"\",\"\",IF(IFERROR(SEARCH(\"*-*\",referentes!AJ883),2)=1,IF(referentes!AJ883=\"\",\"\",LEFT(referentes!AJ883,FIND(\"*-*\",referentes!AJ883)-1)),referentes!AJ883))","v":""},null,""]
[null,null,null,null,null,null,null,null,null,null,null,null,null,null,null,null,null,null,{"$f":"IF(referentes!AJ884=\"\",\"\",IF(IFERROR(SEARCH(\"*-*\",referentes!AJ884),2)=1,IF(referentes!AJ884=\"\",\"\",LEFT(referentes!AJ884,FIND(\"*-*\",referentes!AJ884)-1)),referentes!AJ884))","v":""},null,""]
[null,null,null,null,null,null,null,null,null,null,null,null,null,null,null,null,null,null,{"$f":"IF(referentes!AJ885=\"\",\"\",IF(IFERROR(SEARCH(\"*-*\",referentes!AJ885),2)=1,IF(referentes!AJ885=\"\",\"\",LEFT(referentes!AJ885,FIND(\"*-*\",referentes!AJ885)-1)),referentes!AJ885))","v":""},null,""]
[null,null,null,null,null,null,null,null,null,null,null,null,null,null,null,null,null,null,{"$f":"IF(referentes!AJ886=\"\",\"\",IF(IFERROR(SEARCH(\"*-*\",referentes!AJ886),2)=1,IF(referentes!AJ886=\"\",\"\",LEFT(referentes!AJ886,FIND(\"*-*\",referentes!AJ886)-1)),referentes!AJ886))","v":""},null,""]
[null,null,null,null,null,null,null,null,null,null,null,null,null,null,null,null,null,null,{"$f":"IF(referentes!AJ887=\"\",\"\",IF(IFERROR(SEARCH(\"*-*\",referentes!AJ887),2)=1,IF(referentes!AJ887=\"\",\"\",LEFT(referentes!AJ887,FIND(\"*-*\",referentes!AJ887)-1)),referentes!AJ887))","v":""},null,""]
[null,null,null,null,null,null,null,null,null,null,null,null,null,null,null,null,null,null,{"$f":"IF(referentes!AJ888=\"\",\"\",IF(IFERROR(SEARCH(\"*-*\",referentes!AJ888),2)=1,IF(referentes!AJ888=\"\",\"\",LEFT(referentes!AJ888,FIND(\"*-*\",referentes!AJ888)-1)),referentes!AJ888))","v":""},null,""]
[null,null,null,null,null,null,null,null,null,null,null,null,null,null,null,null,null,null,{"$f":"IF(referentes!AJ889=\"\",\"\",IF(IFERROR(SEARCH(\"*-*\",referentes!AJ889),2)=1,IF(referentes!AJ889=\"\",\"\",LEFT(referentes!AJ889,FIND(\"*-*\",referentes!AJ889)-1)),referentes!AJ889))","v":""},null,""]
[null,null,null,null,null,null,null,null,null,null,null,null,null,null,null,null,null,null,{"$f":"IF(referentes!AJ890=\"\",\"\",IF(IFERROR(SEARCH(\"*-*\",referentes!AJ890),2)=1,IF(referentes!AJ890=\"\",\"\",LEFT(referentes!AJ890,FIND(\"*-*\",referentes!AJ890)-1)),referentes!AJ890))","v":""},null,""]
[null,null,null,null,null,null,null,null,null,null,null,null,null,null,null,null,null,null,{"$f":"IF(referentes!AJ891=\"\",\"\",IF(IFERROR(SEARCH(\"*-*\",referentes!AJ891),2)=1,IF(referentes!AJ891=\"\",\"\",LEFT(referentes!AJ891,FIND(\"*-*\",referentes!AJ891)-1)),referentes!AJ891))","v":""},null,""]
[null,null,null,null,null,null,null,null,null,null,null,null,null,null,null,null,null,null,{"$f":"IF(referentes!AJ892=\"\",\"\",IF(IFERROR(SEARCH(\"*-*\",referentes!AJ892),2)=1,IF(referentes!AJ892=\"\",\"\",LEFT(referentes!AJ892,FIND(\"*-*\",referentes!AJ892)-1)),referentes!AJ892))","v":""},null,""]
[null,null,null,null,null,null,null,null,null,null,null,null,null,null,null,null,null,null,{"$f":"IF(referentes!AJ893=\"\",\"\",IF(IFERROR(SEARCH(\"*-*\",referentes!AJ893),2)=1,IF(referentes!AJ893=\"\",\"\",LEFT(referentes!AJ893,FIND(\"*-*\",referentes!AJ893)-1)),referentes!AJ893))","v":""},null,""]
[null,null,null,null,null,null,null,null,null,null,null,null,null,null,null,null,null,null,{"$f":"IF(referentes!AJ894=\"\",\"\",IF(IFERROR(SEARCH(\"*-*\",referentes!AJ894),2)=1,IF(referentes!AJ894=\"\",\"\",LEFT(referentes!AJ894,FIND(\"*-*\",referentes!AJ894)-1)),referentes!AJ894))","v":""},null,""]
[null,null,null,null,null,null,null,null,null,null,null,null,null,null,null,null,null,null,{"$f":"IF(referentes!AJ895=\"\",\"\",IF(IFERROR(SEARCH(\"*-*\",referentes!AJ895),2)=1,IF(referentes!AJ895=\"\",\"\",LEFT(referentes!AJ895,FIND(\"*-*\",referentes!AJ895)-1)),referentes!AJ895))","v":""},null,""]
[null,null,null,null,null,null,null,null,null,null,null,null,null,null,null,null,null,null,{"$f":"IF(referentes!AJ896=\"\",\"\",IF(IFERROR(SEARCH(\"*-*\",referentes!AJ896),2)=1,IF(referentes!AJ896=\"\",\"\",LEFT(referentes!AJ896,FIND(\"*-*\",referentes!AJ896)-1)),referentes!AJ896))","v":""},null,""]
[null,null,null,null,null,null,null,null,null,null,null,null,null,null,null,null,null,null,{"$f":"IF(referentes!AJ897=\"\",\"\",IF(IFERROR(SEARCH(\"*-*\",referentes!AJ897),2)=1,IF(referentes!AJ897=\"\",\"\",LEFT(referentes!AJ897,FIND(\"*-*\",referentes!AJ897)-1)),referentes!AJ897))","v":""},null,""]
[null,null,null,null,null,null,null,null,null,null,null,null,null,null,null,null,null,null,{"$f":"IF(referentes!AJ898=\"\",\"\",IF(IFERROR(SEARCH(\"*-*\",referentes!AJ898),2)=1,IF(referentes!AJ898=\"\",\"\",LEFT(referentes!AJ898,FIND(\"*-*\",referentes!AJ898)-1)),referentes!AJ898))","v":""},null,""]
[null,null,null,null,null,null,null,null,null,null,null,null,null,null,null,null,null,null,{"$f":"IF(referentes!AJ899=\"\",\"\",IF(IFERROR(SEARCH(\"*-*\",referentes!AJ899),2)=1,IF(referentes!AJ899=\"\",\"\",LEFT(referentes!AJ899,FIND(\"*-*\",referentes!AJ899)-1)),referentes!AJ899))","v":""},null,""]
[null,null,null,null,null,null,null,null,null,null,null,null,null,null,null,null,null,null,{"$f":"IF(referentes!AJ900=\"\",\"\",IF(IFERROR(SEARCH(\"*-*\",referentes!AJ900),2)=1,IF(referentes!AJ900=\"\",\"\",LEFT(referentes!AJ900,FIND(\"*-*\",referentes!AJ900)-1)),referentes!AJ900))","v":""},null,""]
[null,null,null,null,null,null,null,null,null,null,null,null,null,null,null,null,null,null,{"$f":"IF(referentes!AJ901=\"\",\"\",IF(IFERROR(SEARCH(\"*-*\",referentes!AJ901),2)=1,IF(referentes!AJ901=\"\",\"\",LEFT(referentes!AJ901,FIND(\"*-*\",referentes!AJ901)-1)),referentes!AJ901))","v":""},null,""]
[null,null,null,null,null,null,null,null,null,null,null,null,null,null,null,null,null,null,{"$f":"IF(referentes!AJ902=\"\",\"\",IF(IFERROR(SEARCH(\"*-*\",referentes!AJ902),2)=1,IF(referentes!AJ902=\"\",\"\",LEFT(referentes!AJ902,FIND(\"*-*\",referentes!AJ902)-1)),referentes!AJ902))","v":""},null,""]
[null,null,null,null,null,null,null,null,null,null,null,null,null,null,null,null,null,null,{"$f":"IF(referentes!AJ903=\"\",\"\",IF(IFERROR(SEARCH(\"*-*\",referentes!AJ903),2)=1,IF(referentes!AJ903=\"\",\"\",LEFT(referentes!AJ903,FIND(\"*-*\",referentes!AJ903)-1)),referentes!AJ903))","v":""},null,""]
[null,null,null,null,null,null,null,null,null,null,null,null,null,null,null,null,null,null,{"$f":"IF(referentes!AJ904=\"\",\"\",IF(IFERROR(SEARCH(\"*-*\",referentes!AJ904),2)=1,IF(referentes!AJ904=\"\",\"\",LEFT(referentes!AJ904,FIND(\"*-*\",referentes!AJ904)-1)),referentes!AJ904))","v":""},null,{"$f":"IF(IFERROR(T903,R903)=S903,\"\",R903)","v":""}]
[null,null,null,null,null,null,null,null,null,null,null,null,null,null,null,null,null,null,{"$f":"IF(referentes!AJ905=\"\",\"\",IF(IFERROR(SEARCH(\"*-*\",referentes!AJ905),2)=1,IF(referentes!AJ905=\"\",\"\",LEFT(referentes!AJ905,FIND(\"*-*\",referentes!AJ905)-1)),referentes!AJ905))","v":""},null,""]
[null,null,null,null,null,null,null,null,null,null,null,null,null,null,null,null,null,null,{"$f":"IF(referentes!AJ906=\"\",\"\",IF(IFERROR(SEARCH(\"*-*\",referentes!AJ906),2)=1,IF(referentes!AJ906=\"\",\"\",LEFT(referentes!AJ906,FIND(\"*-*\",referentes!AJ906)-1)),referentes!AJ906))","v":""},null,""]
[null,null,null,null,null,null,null,null,null,null,null,null,null,null,null,null,null,null,{"$f":"IF(referentes!AJ907=\"\",\"\",IF(IFERROR(SEARCH(\"*-*\",referentes!AJ907),2)=1,IF(referentes!AJ907=\"\",\"\",LEFT(referentes!AJ907,FIND(\"*-*\",referentes!AJ907)-1)),referentes!AJ907))","v":""},null,""]
[null,null,null,null,null,null,null,null,null,null,null,null,null,null,null,null,null,null,{"$f":"IF(referentes!AJ908=\"\",\"\",IF(IFERROR(SEARCH(\"*-*\",referentes!AJ908),2)=1,IF(referentes!AJ908=\"\",\"\",LEFT(referentes!AJ908,FIND(\"*-*\",referentes!AJ908)-1)),referentes!AJ908))","v":""},null,""]
[null,null,null,null,null,null,null,null,null,null,null,null,null,null,null,null,null,null,{"$f":"IF(referentes!AJ909=\"\",\"\",IF(IFERROR(SEARCH(\"*-*\",referentes!AJ909),2)=1,IF(referentes!AJ909=\"\",\"\",LEFT(referentes!AJ909,FIND(\"*-*\",referentes!AJ909)-1)),referentes!AJ909))","v":""},null,""]
[null,null,null,null,null,null,null,null,null,null,null,null,null,null,null,null,null,null,{"$f":"IF(referentes!AJ910=\"\",\"\",IF(IFERROR(SEARCH(\"*-*\",referentes!AJ910),2)=1,IF(referentes!AJ910=\"\",\"\",LEFT(referentes!AJ910,FIND(\"*-*\",referentes!AJ910)-1)),referentes!AJ910))","v":""},null,""]
[null,null,null,null,null,null,null,null,null,null,null,null,null,null,null,null,null,null,{"$f":"IF(referentes!AJ911=\"\",\"\",IF(IFERROR(SEARCH(\"*-*\",referentes!AJ911),2)=1,IF(referentes!AJ911=\"\",\"\",LEFT(referentes!AJ911,FIND(\"*-*\",referentes!AJ911)-1)),referentes!AJ911))","v":""},null,""]
[null,null,null,null,null,null,null,null,null,null,null,null,null,null,null,null,null,null,{"$f":"IF(referentes!AJ912=\"\",\"\",IF(IFERROR(SEARCH(\"*-*\",referentes!AJ912),2)=1,IF(referentes!AJ912=\"\",\"\",LEFT(referentes!AJ912,FIND(\"*-*\",referentes!AJ912)-1)),referentes!AJ912))","v":""},null,""]
[null,null,null,null,null,null,null,null,null,null,null,null,null,null,null,null,null,null,{"$f":"IF(referentes!AJ913=\"\",\"\",IF(IFERROR(SEARCH(\"*-*\",referentes!AJ913),2)=1,IF(referentes!AJ913=\"\",\"\",LEFT(referentes!AJ913,FIND(\"*-*\",referentes!AJ913)-1)),referentes!AJ913))","v":""},null,""]
[null,null,null,null,null,null,null,null,null,null,null,null,null,null,null,null,null,null,{"$f":"IF(referentes!AJ914=\"\",\"\",IF(IFERROR(SEARCH(\"*-*\",referentes!AJ914),2)=1,IF(referentes!AJ914=\"\",\"\",LEFT(referentes!AJ914,FIND(\"*-*\",referentes!AJ914)-1)),referentes!AJ914))","v":""},null,""]
[null,null,null,null,null,null,null,null,null,null,null,null,null,null,null,null,null,null,{"$f":"IF(referentes!AJ915=\"\",\"\",IF(IFERROR(SEARCH(\"*-*\",referentes!AJ915),2)=1,IF(referentes!AJ915=\"\",\"\",LEFT(referentes!AJ915,FIND(\"*-*\",referentes!AJ915)-1)),referentes!AJ915))","v":""},null,""]
[null,null,null,null,null,null,null,null,null,null,null,null,null,null,null,null,null,null,{"$f":"IF(referentes!AJ916=\"\",\"\",IF(IFERROR(SEARCH(\"*-*\",referentes!AJ916),2)=1,IF(referentes!AJ916=\"\",\"\",LEFT(referentes!AJ916,FIND(\"*-*\",referentes!AJ916)-1)),referentes!AJ916))","v":""},null,""]
[null,null,null,null,null,null,null,null,null,null,null,null,null,null,null,null,null,null,{"$f":"IF(referentes!AJ917=\"\",\"\",IF(IFERROR(SEARCH(\"*-*\",referentes!AJ917),2)=1,IF(referentes!AJ917=\"\",\"\",LEFT(referentes!AJ917,FIND(\"*-*\",referentes!AJ917)-1)),referentes!AJ917))","v":""},null,""]
[null,null,null,null,null,null,null,null,null,null,null,null,null,null,null,null,null,null,{"$f":"IF(referentes!AJ918=\"\",\"\",IF(IFERROR(SEARCH(\"*-*\",referentes!AJ918),2)=1,IF(referentes!AJ918=\"\",\"\",LEFT(referentes!AJ918,FIND(\"*-*\",referentes!AJ918)-1)),referentes!AJ918))","v":""},null,""]
[null,null,null,null,null,null,null,null,null,null,null,null,null,null,null,null,null,null,{"$f":"IF(referentes!AJ919=\"\",\"\",IF(IFERROR(SEARCH(\"*-*\",referentes!AJ919),2)=1,IF(referentes!AJ919=\"\",\"\",LEFT(referentes!AJ919,FIND(\"*-*\",referentes!AJ919)-1)),referentes!AJ919))","v":""},null,""]
[null,null,null,null,null,null,null,null,null,null,null,null,null,null,null,null,null,null,{"$f":"IF(referentes!AJ920=\"\",\"\",IF(IFERROR(SEARCH(\"*-*\",referentes!AJ920),2)=1,IF(referentes!AJ920=\"\",\"\",LEFT(referentes!AJ920,FIND(\"*-*\",referentes!AJ920)-1)),referentes!AJ920))","v":""},null,""]
[null,null,null,null,null,null,null,null,null,null,null,null,null,null,null,null,null,null,{"$f":"IF(referentes!AJ921=\"\",\"\",IF(IFERROR(SEARCH(\"*-*\",referentes!AJ921),2)=1,IF(referentes!AJ921=\"\",\"\",LEFT(referentes!AJ921,FIND(\"*-*\",referentes!AJ921)-1)),referentes!AJ921))","v":""},null,""]
[null,null,null,null,null,null,null,null,null,null,null,null,null,null,null,null,null,null,{"$f":"IF(referentes!AJ922=\"\",\"\",IF(IFERROR(SEARCH(\"*-*\",referentes!AJ922),2)=1,IF(referentes!AJ922=\"\",\"\",LEFT(referentes!AJ922,FIND(\"*-*\",referentes!AJ922)-1)),referentes!AJ922))","v":""},null,""]
[null,null,null,null,null,null,null,null,null,null,null,null,null,null,null,null,null,null,{"$f":"IF(referentes!AJ923=\"\",\"\",IF(IFERROR(SEARCH(\"*-*\",referentes!AJ923),2)=1,IF(referentes!AJ923=\"\",\"\",LEFT(referentes!AJ923,FIND(\"*-*\",referentes!AJ923)-1)),referentes!AJ923))","v":""},null,""]
[null,null,null,null,null,null,null,null,null,null,null,null,null,null,null,null,null,null,{"$f":"IF(referentes!AJ924=\"\",\"\",IF(IFERROR(SEARCH(\"*-*\",referentes!AJ924),2)=1,IF(referentes!AJ924=\"\",\"\",LEFT(referentes!AJ924,FIND(\"*-*\",referentes!AJ924)-1)),referentes!AJ924))","v":""},null,""]
[null,null,null,null,null,null,null,null,null,null,null,null,null,null,null,null,null,null,{"$f":"IF(referentes!AJ925=\"\",\"\",IF(IFERROR(SEARCH(\"*-*\",referentes!AJ925),2)=1,IF(referentes!AJ925=\"\",\"\",LEFT(referentes!AJ925,FIND(\"*-*\",referentes!AJ925)-1)),referentes!AJ925))","v":""},null,""]
[null,null,null,null,null,null,null,null,null,null,null,null,null,null,null,null,null,null,{"$f":"IF(referentes!AJ926=\"\",\"\",IF(IFERROR(SEARCH(\"*-*\",referentes!AJ926),2)=1,IF(referentes!AJ926=\"\",\"\",LEFT(referentes!AJ926,FIND(\"*-*\",referentes!AJ926)-1)),referentes!AJ926))","v":""},null,""]
[null,null,null,null,null,null,null,null,null,null,null,null,null,null,null,null,null,null,{"$f":"IF(referentes!AJ927=\"\",\"\",IF(IFERROR(SEARCH(\"*-*\",referentes!AJ927),2)=1,IF(referentes!AJ927=\"\",\"\",LEFT(referentes!AJ927,FIND(\"*-*\",referentes!AJ927)-1)),referentes!AJ927))","v":""},null,""]
[null,null,null,null,null,null,null,null,null,null,null,null,null,null,null,null,null,null,{"$f":"IF(referentes!AJ928=\"\",\"\",IF(IFERROR(SEARCH(\"*-*\",referentes!AJ928),2)=1,IF(referentes!AJ928=\"\",\"\",LEFT(referentes!AJ928,FIND(\"*-*\",referentes!AJ928)-1)),referentes!AJ928))","v":""},null,""]
[null,null,null,null,null,null,null,null,null,null,null,null,null,null,null,null,null,null,{"$f":"IF(referentes!AJ929=\"\",\"\",IF(IFERROR(SEARCH(\"*-*\",referentes!AJ929),2)=1,IF(referentes!AJ929=\"\",\"\",LEFT(referentes!AJ929,FIND(\"*-*\",referentes!AJ929)-1)),referentes!AJ929))","v":""},null,""]
[null,null,null,null,null,null,null,null,null,null,null,null,null,null,null,null,null,null,{"$f":"IF(referentes!AJ930=\"\",\"\",IF(IFERROR(SEARCH(\"*-*\",referentes!AJ930),2)=1,IF(referentes!AJ930=\"\",\"\",LEFT(referentes!AJ930,FIND(\"*-*\",referentes!AJ930)-1)),referentes!AJ930))","v":""},null,""]
[null,null,null,null,null,null,null,null,null,null,null,null,null,null,null,null,null,null,{"$f":"IF(referentes!AJ931=\"\",\"\",IF(IFERROR(SEARCH(\"*-*\",referentes!AJ931),2)=1,IF(referentes!AJ931=\"\",\"\",LEFT(referentes!AJ931,FIND(\"*-*\",referentes!AJ931)-1)),referentes!AJ931))","v":""},null,""]
[null,null,null,null,null,null,null,null,null,null,null,null,null,null,null,null,null,null,{"$f":"IF(referentes!AJ932=\"\",\"\",IF(IFERROR(SEARCH(\"*-*\",referentes!AJ932),2)=1,IF(referentes!AJ932=\"\",\"\",LEFT(referentes!AJ932,FIND(\"*-*\",referentes!AJ932)-1)),referentes!AJ932))","v":""},null,""]
[null,null,null,null,null,null,null,null,null,null,null,null,null,null,null,null,null,null,{"$f":"IF(referentes!AJ933=\"\",\"\",IF(IFERROR(SEARCH(\"*-*\",referentes!AJ933),2)=1,IF(referentes!AJ933=\"\",\"\",LEFT(referentes!AJ933,FIND(\"*-*\",referentes!AJ933)-1)),referentes!AJ933))","v":""},null,""]
[null,null,null,null,null,null,null,null,null,null,null,null,null,null,null,null,null,null,{"$f":"IF(referentes!AJ934=\"\",\"\",IF(IFERROR(SEARCH(\"*-*\",referentes!AJ934),2)=1,IF(referentes!AJ934=\"\",\"\",LEFT(referentes!AJ934,FIND(\"*-*\",referentes!AJ934)-1)),referentes!AJ934))","v":""},null,""]
[null,null,null,null,null,null,null,null,null,null,null,null,null,null,null,null,null,null,{"$f":"IF(referentes!AJ935=\"\",\"\",IF(IFERROR(SEARCH(\"*-*\",referentes!AJ935),2)=1,IF(referentes!AJ935=\"\",\"\",LEFT(referentes!AJ935,FIND(\"*-*\",referentes!AJ935)-1)),referentes!AJ935))","v":""},null,""]
[null,null,null,null,null,null,null,null,null,null,null,null,null,null,null,null,null,null,{"$f":"IF(referentes!AJ936=\"\",\"\",IF(IFERROR(SEARCH(\"*-*\",referentes!AJ936),2)=1,IF(referentes!AJ936=\"\",\"\",LEFT(referentes!AJ936,FIND(\"*-*\",referentes!AJ936)-1)),referentes!AJ936))","v":""},null,""]
[null,null,null,null,null,null,null,null,null,null,null,null,null,null,null,null,null,null,{"$f":"IF(referentes!AJ937=\"\",\"\",IF(IFERROR(SEARCH(\"*-*\",referentes!AJ937),2)=1,IF(referentes!AJ937=\"\",\"\",LEFT(referentes!AJ937,FIND(\"*-*\",referentes!AJ937)-1)),referentes!AJ937))","v":""},null,""]
[null,null,null,null,null,null,null,null,null,null,null,null,null,null,null,null,null,null,{"$f":"IF(referentes!AJ938=\"\",\"\",IF(IFERROR(SEARCH(\"*-*\",referentes!AJ938),2)=1,IF(referentes!AJ938=\"\",\"\",LEFT(referentes!AJ938,FIND(\"*-*\",referentes!AJ938)-1)),referentes!AJ938))","v":""},null,""]
[null,null,null,null,null,null,null,null,null,null,null,null,null,null,null,null,null,null,{"$f":"IF(referentes!AJ939=\"\",\"\",IF(IFERROR(SEARCH(\"*-*\",referentes!AJ939),2)=1,IF(referentes!AJ939=\"\",\"\",LEFT(referentes!AJ939,FIND(\"*-*\",referentes!AJ939)-1)),referentes!AJ939))","v":""},null,""]
[null,null,null,null,null,null,null,null,null,null,null,null,null,null,null,null,null,null,{"$f":"IF(referentes!AJ940=\"\",\"\",IF(IFERROR(SEARCH(\"*-*\",referentes!AJ940),2)=1,IF(referentes!AJ940=\"\",\"\",LEFT(referentes!AJ940,FIND(\"*-*\",referentes!AJ940)-1)),referentes!AJ940))","v":""},null,""]
[null,null,null,null,null,null,null,null,null,null,null,null,null,null,null,null,null,null,{"$f":"IF(referentes!AJ941=\"\",\"\",IF(IFERROR(SEARCH(\"*-*\",referentes!AJ941),2)=1,IF(referentes!AJ941=\"\",\"\",LEFT(referentes!AJ941,FIND(\"*-*\",referentes!AJ941)-1)),referentes!AJ941))","v":""},null,""]
[null,null,null,null,null,null,null,null,null,null,null,null,null,null,null,null,null,null,{"$f":"IF(referentes!AJ942=\"\",\"\",IF(IFERROR(SEARCH(\"*-*\",referentes!AJ942),2)=1,IF(referentes!AJ942=\"\",\"\",LEFT(referentes!AJ942,FIND(\"*-*\",referentes!AJ942)-1)),referentes!AJ942))","v":""},null,""]
[null,null,null,null,null,null,null,null,null,null,null,null,null,null,null,null,null,null,{"$f":"IF(referentes!AJ943=\"\",\"\",IF(IFERROR(SEARCH(\"*-*\",referentes!AJ943),2)=1,IF(referentes!AJ943=\"\",\"\",LEFT(referentes!AJ943,FIND(\"*-*\",referentes!AJ943)-1)),referentes!AJ943))","v":""},null,""]
[null,null,null,null,null,null,null,null,null,null,null,null,null,null,null,null,null,null,{"$f":"IF(referentes!AJ944=\"\",\"\",IF(IFERROR(SEARCH(\"*-*\",referentes!AJ944),2)=1,IF(referentes!AJ944=\"\",\"\",LEFT(referentes!AJ944,FIND(\"*-*\",referentes!AJ944)-1)),referentes!AJ944))","v":""},null,""]
[null,null,null,null,null,null,null,null,null,null,null,null,null,null,null,null,null,null,{"$f":"IF(referentes!AJ945=\"\",\"\",IF(IFERROR(SEARCH(\"*-*\",referentes!AJ945),2)=1,IF(referentes!AJ945=\"\",\"\",LEFT(referentes!AJ945,FIND(\"*-*\",referentes!AJ945)-1)),referentes!AJ945))","v":""},null,""]
[null,null,null,null,null,null,null,null,null,null,null,null,null,null,null,null,null,null,{"$f":"IF(referentes!AJ946=\"\",\"\",IF(IFERROR(SEARCH(\"*-*\",referentes!AJ946),2)=1,IF(referentes!AJ946=\"\",\"\",LEFT(referentes!AJ946,FIND(\"*-*\",referentes!AJ946)-1)),referentes!AJ946))","v":""},null,""]
[null,null,null,null,null,null,null,null,null,null,null,null,null,null,null,null,null,null,{"$f":"IF(referentes!AJ947=\"\",\"\",IF(IFERROR(SEARCH(\"*-*\",referentes!AJ947),2)=1,IF(referentes!AJ947=\"\",\"\",LEFT(referentes!AJ947,FIND(\"*-*\",referentes!AJ947)-1)),referentes!AJ947))","v":""},null,""]
[null,null,null,null,null,null,null,null,null,null,null,null,null,null,null,null,null,null,{"$f":"IF(referentes!AJ948=\"\",\"\",IF(IFERROR(SEARCH(\"*-*\",referentes!AJ948),2)=1,IF(referentes!AJ948=\"\",\"\",LEFT(referentes!AJ948,FIND(\"*-*\",referentes!AJ948)-1)),referentes!AJ948))","v":""},null,""]
[null,null,null,null,null,null,null,null,null,null,null,null,null,null,null,null,null,null,{"$f":"IF(referentes!AJ949=\"\",\"\",IF(IFERROR(SEARCH(\"*-*\",referentes!AJ949),2)=1,IF(referentes!AJ949=\"\",\"\",LEFT(referentes!AJ949,FIND(\"*-*\",referentes!AJ949)-1)),referentes!AJ949))","v":""},null,""]
[null,null,null,null,null,null,null,null,null,null,null,null,null,null,null,null,null,null,{"$f":"IF(referentes!AJ950=\"\",\"\",IF(IFERROR(SEARCH(\"*-*\",referentes!AJ950),2)=1,IF(referentes!AJ950=\"\",\"\",LEFT(referentes!AJ950,FIND(\"*-*\",referentes!AJ950)-1)),referentes!AJ950))","v":""},null,""]
[null,null,null,null,null,null,null,null,null,null,null,null,null,null,null,null,null,null,{"$f":"IF(referentes!AJ951=\"\",\"\",IF(IFERROR(SEARCH(\"*-*\",referentes!AJ951),2)=1,IF(referentes!AJ951=\"\",\"\",LEFT(referentes!AJ951,FIND(\"*-*\",referentes!AJ951)-1)),referentes!AJ951))","v":""},null,""]
[null,null,null,null,null,null,null,null,null,null,null,null,null,null,null,null,null,null,{"$f":"IF(referentes!AJ952=\"\",\"\",IF(IFERROR(SEARCH(\"*-*\",referentes!AJ952),2)=1,IF(referentes!AJ952=\"\",\"\",LEFT(referentes!AJ952,FIND(\"*-*\",referentes!AJ952)-1)),referentes!AJ952))","v":""},null,""]
[null,null,null,null,null,null,null,null,null,null,null,null,null,null,null,null,null,null,{"$f":"IF(referentes!AJ953=\"\",\"\",IF(IFERROR(SEARCH(\"*-*\",referentes!AJ953),2)=1,IF(referentes!AJ953=\"\",\"\",LEFT(referentes!AJ953,FIND(\"*-*\",referentes!AJ953)-1)),referentes!AJ953))","v":""},null,""]
[null,null,null,null,null,null,null,null,null,null,null,null,null,null,null,null,null,null,{"$f":"IF(referentes!AJ954=\"\",\"\",IF(IFERROR(SEARCH(\"*-*\",referentes!AJ954),2)=1,IF(referentes!AJ954=\"\",\"\",LEFT(referentes!AJ954,FIND(\"*-*\",referentes!AJ954)-1)),referentes!AJ954))","v":""},null,""]
[null,null,null,null,null,null,null,null,null,null,null,null,null,null,null,null,null,null,{"$f":"IF(referentes!AJ955=\"\",\"\",IF(IFERROR(SEARCH(\"*-*\",referentes!AJ955),2)=1,IF(referentes!AJ955=\"\",\"\",LEFT(referentes!AJ955,FIND(\"*-*\",referentes!AJ955)-1)),referentes!AJ955))","v":""},null,""]
[null,null,null,null,null,null,null,null,null,null,null,null,null,null,null,null,null,null,{"$f":"IF(referentes!AJ956=\"\",\"\",IF(IFERROR(SEARCH(\"*-*\",referentes!AJ956),2)=1,IF(referentes!AJ956=\"\",\"\",LEFT(referentes!AJ956,FIND(\"*-*\",referentes!AJ956)-1)),referentes!AJ956))","v":""},null,""]
[null,null,null,null,null,null,null,null,null,null,null,null,null,null,null,null,null,null,{"$f":"IF(referentes!AJ957=\"\",\"\",IF(IFERROR(SEARCH(\"*-*\",referentes!AJ957),2)=1,IF(referentes!AJ957=\"\",\"\",LEFT(referentes!AJ957,FIND(\"*-*\",referentes!AJ957)-1)),referentes!AJ957))","v":""},null,""]
[null,null,null,null,null,null,null,null,null,null,null,null,null,null,null,null,null,null,{"$f":"IF(referentes!AJ958=\"\",\"\",IF(IFERROR(SEARCH(\"*-*\",referentes!AJ958),2)=1,IF(referentes!AJ958=\"\",\"\",LEFT(referentes!AJ958,FIND(\"*-*\",referentes!AJ958)-1)),referentes!AJ958))","v":""},null,""]
[null,null,null,null,null,null,null,null,null,null,null,null,null,null,null,null,null,null,{"$f":"IF(referentes!AJ959=\"\",\"\",IF(IFERROR(SEARCH(\"*-*\",referentes!AJ959),2)=1,IF(referentes!AJ959=\"\",\"\",LEFT(referentes!AJ959,FIND(\"*-*\",referentes!AJ959)-1)),referentes!AJ959))","v":""},null,""]
[null,null,null,null,null,null,null,null,null,null,null,null,null,null,null,null,null,null,{"$f":"IF(referentes!AJ960=\"\",\"\",IF(IFERROR(SEARCH(\"*-*\",referentes!AJ960),2)=1,IF(referentes!AJ960=\"\",\"\",LEFT(referentes!AJ960,FIND(\"*-*\",referentes!AJ960)-1)),referentes!AJ960))","v":""},null,""]
[null,null,null,null,null,null,null,null,null,null,null,null,null,null,null,null,null,null,{"$f":"IF(referentes!AJ961=\"\",\"\",IF(IFERROR(SEARCH(\"*-*\",referentes!AJ961),2)=1,IF(referentes!AJ961=\"\",\"\",LEFT(referentes!AJ961,FIND(\"*-*\",referentes!AJ961)-1)),referentes!AJ961))","v":""},null,""]
[null,null,null,null,null,null,null,null,null,null,null,null,null,null,null,null,null,null,{"$f":"IF(referentes!AJ962=\"\",\"\",IF(IFERROR(SEARCH(\"*-*\",referentes!AJ962),2)=1,IF(referentes!AJ962=\"\",\"\",LEFT(referentes!AJ962,FIND(\"*-*\",referentes!AJ962)-1)),referentes!AJ962))","v":""},null,""]
[null,null,null,null,null,null,null,null,null,null,null,null,null,null,null,null,null,null,{"$f":"IF(referentes!AJ963=\"\",\"\",IF(IFERROR(SEARCH(\"*-*\",referentes!AJ963),2)=1,IF(referentes!AJ963=\"\",\"\",LEFT(referentes!AJ963,FIND(\"*-*\",referentes!AJ963)-1)),referentes!AJ963))","v":""},null,""]
[null,null,null,null,null,null,null,null,null,null,null,null,null,null,null,null,null,null,{"$f":"IF(referentes!AJ964=\"\",\"\",IF(IFERROR(SEARCH(\"*-*\",referentes!AJ964),2)=1,IF(referentes!AJ964=\"\",\"\",LEFT(referentes!AJ964,FIND(\"*-*\",referentes!AJ964)-1)),referentes!AJ964))","v":""},null,""]
[null,null,null,null,null,null,null,null,null,null,null,null,null,null,null,null,null,null,{"$f":"IF(referentes!AJ965=\"\",\"\",IF(IFERROR(SEARCH(\"*-*\",referentes!AJ965),2)=1,IF(referentes!AJ965=\"\",\"\",LEFT(referentes!AJ965,FIND(\"*-*\",referentes!AJ965)-1)),referentes!AJ965))","v":""},null,""]
[null,null,null,null,null,null,null,null,null,null,null,null,null,null,null,null,null,null,{"$f":"IF(referentes!AJ966=\"\",\"\",IF(IFERROR(SEARCH(\"*-*\",referentes!AJ966),2)=1,IF(referentes!AJ966=\"\",\"\",LEFT(referentes!AJ966,FIND(\"*-*\",referentes!AJ966)-1)),referentes!AJ966))","v":""},null,""]
[null,null,null,null,null,null,null,null,null,null,null,null,null,null,null,null,null,null,{"$f":"IF(referentes!AJ967=\"\",\"\",IF(IFERROR(SEARCH(\"*-*\",referentes!AJ967),2)=1,IF(referentes!AJ967=\"\",\"\",LEFT(referentes!AJ967,FIND(\"*-*\",referentes!AJ967)-1)),referentes!AJ967))","v":""},null,""]
[null,null,null,null,null,null,null,null,null,null,null,null,null,null,null,null,null,null,{"$f":"IF(referentes!AJ968=\"\",\"\",IF(IFERROR(SEARCH(\"*-*\",referentes!AJ968),2)=1,IF(referentes!AJ968=\"\",\"\",LEFT(referentes!AJ968,FIND(\"*-*\",referentes!AJ968)-1)),referentes!AJ968))","v":""},null,{"$f":"IF(IFERROR(T967,R967)=S967,\"\",R967)","v":""}]
[null,null,null,null,null,null,null,null,null,null,null,null,null,null,null,null,null,null,{"$f":"IF(referentes!AJ969=\"\",\"\",IF(IFERROR(SEARCH(\"*-*\",referentes!AJ969),2)=1,IF(referentes!AJ969=\"\",\"\",LEFT(referentes!AJ969,FIND(\"*-*\",referentes!AJ969)-1)),referentes!AJ969))","v":""},null,""]
[null,null,null,null,null,null,null,null,null,null,null,null,null,null,null,null,null,null,{"$f":"IF(referentes!AJ970=\"\",\"\",IF(IFERROR(SEARCH(\"*-*\",referentes!AJ970),2)=1,IF(referentes!AJ970=\"\",\"\",LEFT(referentes!AJ970,FIND(\"*-*\",referentes!AJ970)-1)),referentes!AJ970))","v":""},null,""]
[null,null,null,null,null,null,null,null,null,null,null,null,null,null,null,null,null,null,{"$f":"IF(referentes!AJ971=\"\",\"\",IF(IFERROR(SEARCH(\"*-*\",referentes!AJ971),2)=1,IF(referentes!AJ971=\"\",\"\",LEFT(referentes!AJ971,FIND(\"*-*\",referentes!AJ971)-1)),referentes!AJ971))","v":""},null,""]
[null,null,null,null,null,null,null,null,null,null,null,null,null,null,null,null,null,null,{"$f":"IF(referentes!AJ972=\"\",\"\",IF(IFERROR(SEARCH(\"*-*\",referentes!AJ972),2)=1,IF(referentes!AJ972=\"\",\"\",LEFT(referentes!AJ972,FIND(\"*-*\",referentes!AJ972)-1)),referentes!AJ972))","v":""},null,""]
[null,null,null,null,null,null,null,null,null,null,null,null,null,null,null,null,null,null,{"$f":"IF(referentes!AJ973=\"\",\"\",IF(IFERROR(SEARCH(\"*-*\",referentes!AJ973),2)=1,IF(referentes!AJ973=\"\",\"\",LEFT(referentes!AJ973,FIND(\"*-*\",referentes!AJ973)-1)),referentes!AJ973))","v":""},null,""]
[null,null,null,null,null,null,null,null,null,null,null,null,null,null,null,null,null,null,{"$f":"IF(referentes!AJ974=\"\",\"\",IF(IFERROR(SEARCH(\"*-*\",referentes!AJ974),2)=1,IF(referentes!AJ974=\"\",\"\",LEFT(referentes!AJ974,FIND(\"*-*\",referentes!AJ974)-1)),referentes!AJ974))","v":""},null,""]
[null,null,null,null,null,null,null,null,null,null,null,null,null,null,null,null,null,null,{"$f":"IF(referentes!AJ975=\"\",\"\",IF(IFERROR(SEARCH(\"*-*\",referentes!AJ975),2)=1,IF(referentes!AJ975=\"\",\"\",LEFT(referentes!AJ975,FIND(\"*-*\",referentes!AJ975)-1)),referentes!AJ975))","v":""},null,""]
[null,null,null,null,null,null,null,null,null,null,null,null,null,null,null,null,null,null,{"$f":"IF(referentes!AJ976=\"\",\"\",IF(IFERROR(SEARCH(\"*-*\",referentes!AJ976),2)=1,IF(referentes!AJ976=\"\",\"\",LEFT(referentes!AJ976,FIND(\"*-*\",referentes!AJ976)-1)),referentes!AJ976))","v":""},null,""]
[null,null,null,null,null,null,null,null,null,null,null,null,null,null,null,null,null,null,{"$f":"IF(referentes!AJ977=\"\",\"\",IF(IFERROR(SEARCH(\"*-*\",referentes!AJ977),2)=1,IF(referentes!AJ977=\"\",\"\",LEFT(referentes!AJ977,FIND(\"*-*\",referentes!AJ977)-1)),referentes!AJ977))","v":""},null,""]
[null,null,null,null,null,null,null,null,null,null,null,null,null,null,null,null,null,null,{"$f":"IF(referentes!AJ978=\"\",\"\",IF(IFERROR(SEARCH(\"*-*\",referentes!AJ978),2)=1,IF(referentes!AJ978=\"\",\"\",LEFT(referentes!AJ978,FIND(\"*-*\",referentes!AJ978)-1)),referentes!AJ978))","v":""},null,""]
[null,null,null,null,null,null,null,null,null,null,null,null,null,null,null,null,null,null,{"$f":"IF(referentes!AJ979=\"\",\"\",IF(IFERROR(SEARCH(\"*-*\",referentes!AJ979),2)=1,IF(referentes!AJ979=\"\",\"\",LEFT(referentes!AJ979,FIND(\"*-*\",referentes!AJ979)-1)),referentes!AJ979))","v":""},null,""]
[null,null,null,null,null,null,null,null,null,null,null,null,null,null,null,null,null,null,{"$f":"IF(referentes!AJ980=\"\",\"\",IF(IFERROR(SEARCH(\"*-*\",referentes!AJ980),2)=1,IF(referentes!AJ980=\"\",\"\",LEFT(referentes!AJ980,FIND(\"*-*\",referentes!AJ980)-1)),referentes!AJ980))","v":""},null,""]
[null,null,null,null,null,null,null,null,null,null,null,null,null,null,null,null,null,null,{"$f":"IF(referentes!AJ981=\"\",\"\",IF(IFERROR(SEARCH(\"*-*\",referentes!AJ981),2)=1,IF(referentes!AJ981=\"\",\"\",LEFT(referentes!AJ981,FIND(\"*-*\",referentes!AJ981)-1)),referentes!AJ981))","v":""},null,""]
[null,null,null,null,null,null,null,null,null,null,null,null,null,null,null,null,null,null,{"$f":"IF(referentes!AJ982=\"\",\"\",IF(IFERROR(SEARCH(\"*-*\",referentes!AJ982),2)=1,IF(referentes!AJ982=\"\",\"\",LEFT(referentes!AJ982,FIND(\"*-*\",referentes!AJ982)-1)),referentes!AJ982))","v":""},null,""]
[null,null,null,null,null,null,null,null,null,null,null,null,null,null,null,null,null,null,{"$f":"IF(referentes!AJ983=\"\",\"\",IF(IFERROR(SEARCH(\"*-*\",referentes!AJ983),2)=1,IF(referentes!AJ983=\"\",\"\",LEFT(referentes!AJ983,FIND(\"*-*\",referentes!AJ983)-1)),referentes!AJ983))","v":""},null,""]
[null,null,null,null,null,null,null,null,null,null,null,null,null,null,null,null,null,null,{"$f":"IF(referentes!AJ984=\"\",\"\",IF(IFERROR(SEARCH(\"*-*\",referentes!AJ984),2)=1,IF(referentes!AJ984=\"\",\"\",LEFT(referentes!AJ984,FIND(\"*-*\",referentes!AJ984)-1)),referentes!AJ984))","v":""},null,""]
[null,null,null,null,null,null,null,null,null,null,null,null,null,null,null,null,null,null,{"$f":"IF(referentes!AJ985=\"\",\"\",IF(IFERROR(SEARCH(\"*-*\",referentes!AJ985),2)=1,IF(referentes!AJ985=\"\",\"\",LEFT(referentes!AJ985,FIND(\"*-*\",referentes!AJ985)-1)),referentes!AJ985))","v":""},null,""]
[null,null,null,null,null,null,null,null,null,null,null,null,null,null,null,null,null,null,{"$f":"IF(referentes!AJ986=\"\",\"\",IF(IFERROR(SEARCH(\"*-*\",referentes!AJ986),2)=1,IF(referentes!AJ986=\"\",\"\",LEFT(referentes!AJ986,FIND(\"*-*\",referentes!AJ986)-1)),referentes!AJ986))","v":""},null,""]
[null,null,null,null,null,null,null,null,null,null,null,null,null,null,null,null,null,null,{"$f":"IF(referentes!AJ987=\"\",\"\",IF(IFERROR(SEARCH(\"*-*\",referentes!AJ987),2)=1,IF(referentes!AJ987=\"\",\"\",LEFT(referentes!AJ987,FIND(\"*-*\",referentes!AJ987)-1)),referentes!AJ987))","v":""},null,""]
[null,null,null,null,null,null,null,null,null,null,null,null,null,null,null,null,null,null,{"$f":"IF(referentes!AJ988=\"\",\"\",IF(IFERROR(SEARCH(\"*-*\",referentes!AJ988),2)=1,IF(referentes!AJ988=\"\",\"\",LEFT(referentes!AJ988,FIND(\"*-*\",referentes!AJ988)-1)),referentes!AJ988))","v":""},null,""]
[null,null,null,null,null,null,null,null,null,null,null,null,null,null,null,null,null,null,{"$f":"IF(referentes!AJ989=\"\",\"\",IF(IFERROR(SEARCH(\"*-*\",referentes!AJ989),2)=1,IF(referentes!AJ989=\"\",\"\",LEFT(referentes!AJ989,FIND(\"*-*\",referentes!AJ989)-1)),referentes!AJ989))","v":""},null,""]
[null,null,null,null,null,null,null,null,null,null,null,null,null,null,null,null,null,null,{"$f":"IF(referentes!AJ990=\"\",\"\",IF(IFERROR(SEARCH(\"*-*\",referentes!AJ990),2)=1,IF(referentes!AJ990=\"\",\"\",LEFT(referentes!AJ990,FIND(\"*-*\",referentes!AJ990)-1)),referentes!AJ990))","v":""},null,""]
[null,null,null,null,null,null,null,null,null,null,null,null,null,null,null,null,null,null,{"$f":"IF(referentes!AJ991=\"\",\"\",IF(IFERROR(SEARCH(\"*-*\",referentes!AJ991),2)=1,IF(referentes!AJ991=\"\",\"\",LEFT(referentes!AJ991,FIND(\"*-*\",referentes!AJ991)-1)),referentes!AJ991))","v":""},null,""]
[null,null,null,null,null,null,null,null,null,null,null,null,null,null,null,null,null,null,{"$f":"IF(referentes!AJ992=\"\",\"\",IF(IFERROR(SEARCH(\"*-*\",referentes!AJ992),2)=1,IF(referentes!AJ992=\"\",\"\",LEFT(referentes!AJ992,FIND(\"*-*\",referentes!AJ992)-1)),referentes!AJ992))","v":""},null,""]
[null,null,null,null,null,null,null,null,null,null,null,null,null,null,null,null,null,null,{"$f":"IF(referentes!AJ993=\"\",\"\",IF(IFERROR(SEARCH(\"*-*\",referentes!AJ993),2)=1,IF(referentes!AJ993=\"\",\"\",LEFT(referentes!AJ993,FIND(\"*-*\",referentes!AJ993)-1)),referentes!AJ993))","v":""},null,""]
[null,null,null,null,null,null,null,null,null,null,null,null,null,null,null,null,null,null,{"$f":"IF(referentes!AJ994=\"\",\"\",IF(IFERROR(SEARCH(\"*-*\",referentes!AJ994),2)=1,IF(referentes!AJ994=\"\",\"\",LEFT(referentes!AJ994,FIND(\"*-*\",referentes!AJ994)-1)),referentes!AJ994))","v":""},null,""]
[null,null,null,null,null,null,null,null,null,null,null,null,null,null,null,null,null,null,{"$f":"IF(referentes!AJ995=\"\",\"\",IF(IFERROR(SEARCH(\"*-*\",referentes!AJ995),2)=1,IF(referentes!AJ995=\"\",\"\",LEFT(referentes!AJ995,FIND(\"*-*\",referentes!AJ995)-1)),referentes!AJ995))","v":""},null,""]
[null,null,null,null,null,null,null,null,null,null,null,null,null,null,null,null,null,null,{"$f":"IF(referentes!AJ996=\"\",\"\",IF(IFERROR(SEARCH(\"*-*\",referentes!AJ996),2)=1,IF(referentes!AJ996=\"\",\"\",LEFT(referentes!AJ996,FIND(\"*-*\",referentes!AJ996)-1)),referentes!AJ996))","v":""},null,""]
[null,null,null,null,null,null,null,null,null,null,null,null,null,null,null,null,null,null,{"$f":"IF(referentes!AJ997=\"\",\"\",IF(IFERROR(SEARCH(\"*-*\",referentes!AJ997),2)=1,IF(referentes!AJ997=\"\",\"\",LEFT(referentes!AJ997,FIND(\"*-*\",referentes!AJ997)-1)),referentes!AJ997))","v":""},null,""]
[null,null,null,null,null,null,null,null,null,null,null,null,null,null,null,null,null,null,{"$f":"IF(referentes!AJ998=\"\",\"\",IF(IFERROR(SEARCH(\"*-*\",referentes!AJ998),2)=1,IF(referentes!AJ998=\"\",\"\",LEFT(referentes!AJ998,FIND(\"*-*\",referentes!AJ998)-1)),referentes!AJ998))","v":""},null,""]
[null,null,null,null,null,null,null,null,null,null,null,null,null,null,null,null,null,null,{"$f":"IF(referentes!AJ999=\"\",\"\",IF(IFERROR(SEARCH(\"*-*\",referentes!AJ999),2)=1,IF(referentes!AJ999=\"\",\"\",LEFT(referentes!AJ999,FIND(\"*-*\",referentes!AJ999)-1)),referentes!AJ999))","v":""},null,""]
[null,null,null,null,null,null,null,null,null,null,null,null,null,null,null,null,null,null,{"$f":"IF(referentes!AJ1000=\"\",\"\",IF(IFERROR(SEARCH(\"*-*\",referentes!AJ1000),2)=1,IF(referentes!AJ1000=\"\",\"\",LEFT(referentes!AJ1000,FIND(\"*-*\",referentes!AJ1000)-1)),referentes!AJ1000))","v":""},null,""]
[null,null,null,null,null,null,null,null,null,null,null,null,null,null,null,null,null,null,{"$f":"IF(referentes!AJ1001=\"\",\"\",IF(IFERROR(SEARCH(\"*-*\",referentes!AJ1001),2)=1,IF(referentes!AJ1001=\"\",\"\",LEFT(referentes!AJ1001,FIND(\"*-*\",referentes!AJ1001)-1)),referentes!AJ1001))","v":""},null,""]
[null,null,null,null,null,null,null,null,null,null,null,null,null,null,null,null,null,null,{"$f":"IF(referentes!AJ1002=\"\",\"\",IF(IFERROR(SEARCH(\"*-*\",referentes!AJ1002),2)=1,IF(referentes!AJ1002=\"\",\"\",LEFT(referentes!AJ1002,FIND(\"*-*\",referentes!AJ1002)-1)),referentes!AJ1002))","v":""},null,""]
[null,null,null,null,null,null,null,null,null,null,null,null,null,null,null,null,null,null,{"$f":"IF(referentes!AJ1003=\"\",\"\",IF(IFERROR(SEARCH(\"*-*\",referentes!AJ1003),2)=1,IF(referentes!AJ1003=\"\",\"\",LEFT(referentes!AJ1003,FIND(\"*-*\",referentes!AJ1003)-1)),referentes!AJ1003))","v":""},null,""]
[null,null,null,null,null,null,null,null,null,null,null,null,null,null,null,null,null,null,{"$f":"IF(referentes!AJ1004=\"\",\"\",IF(IFERROR(SEARCH(\"*-*\",referentes!AJ1004),2)=1,IF(referentes!AJ1004=\"\",\"\",LEFT(referentes!AJ1004,FIND(\"*-*\",referentes!AJ1004)-1)),referentes!AJ1004))","v":""},null,""]
[null,null,null,null,null,null,null,null,null,null,null,null,null,null,null,null,null,null,{"$f":"IF(referentes!AJ1005=\"\",\"\",IF(IFERROR(SEARCH(\"*-*\",referentes!AJ1005),2)=1,IF(referentes!AJ1005=\"\",\"\",LEFT(referentes!AJ1005,FIND(\"*-*\",referentes!AJ1005)-1)),referentes!AJ1005))","v":""},null,""]
[null,null,null,null,null,null,null,null,null,null,null,null,null,null,null,null,null,null,{"$f":"IF(referentes!AJ1006=\"\",\"\",IF(IFERROR(SEARCH(\"*-*\",referentes!AJ1006),2)=1,IF(referentes!AJ1006=\"\",\"\",LEFT(referentes!AJ1006,FIND(\"*-*\",referentes!AJ1006)-1)),referentes!AJ1006))","v":""},null,""]
[null,null,null,null,null,null,null,null,null,null,null,null,null,null,null,null,null,null,{"$f":"IF(referentes!AJ1007=\"\",\"\",IF(IFERROR(SEARCH(\"*-*\",referentes!AJ1007),2)=1,IF(referentes!AJ1007=\"\",\"\",LEFT(referentes!AJ1007,FIND(\"*-*\",referentes!AJ1007)-1)),referentes!AJ1007))","v":""},null,""]
[null,null,null,null,null,null,null,null,null,null,null,null,null,null,null,null,null,null,{"$f":"IF(referentes!AJ1008=\"\",\"\",IF(IFERROR(SEARCH(\"*-*\",referentes!AJ1008),2)=1,IF(referentes!AJ1008=\"\",\"\",LEFT(referentes!AJ1008,FIND(\"*-*\",referentes!AJ1008)-1)),referentes!AJ1008))","v":""},null,""]
[null,null,null,null,null,null,null,null,null,null,null,null,null,null,null,null,null,null,{"$f":"IF(referentes!AJ1009=\"\",\"\",IF(IFERROR(SEARCH(\"*-*\",referentes!AJ1009),2)=1,IF(referentes!AJ1009=\"\",\"\",LEFT(referentes!AJ1009,FIND(\"*-*\",referentes!AJ1009)-1)),referentes!AJ1009))","v":""},null,""]
[null,null,null,null,null,null,null,null,null,null,null,null,null,null,null,null,null,null,{"$f":"IF(referentes!AJ1010=\"\",\"\",IF(IFERROR(SEARCH(\"*-*\",referentes!AJ1010),2)=1,IF(referentes!AJ1010=\"\",\"\",LEFT(referentes!AJ1010,FIND(\"*-*\",referentes!AJ1010)-1)),referentes!AJ1010))","v":""},null,""]
[null,null,null,null,null,null,null,null,null,null,null,null,null,null,null,null,null,null,{"$f":"IF(referentes!AJ1011=\"\",\"\",IF(IFERROR(SEARCH(\"*-*\",referentes!AJ1011),2)=1,IF(referentes!AJ1011=\"\",\"\",LEFT(referentes!AJ1011,FIND(\"*-*\",referentes!AJ1011)-1)),referentes!AJ1011))","v":""},null,""]
[null,null,null,null,null,null,null,null,null,null,null,null,null,null,null,null,null,null,{"$f":"IF(referentes!AJ1012=\"\",\"\",IF(IFERROR(SEARCH(\"*-*\",referentes!AJ1012),2)=1,IF(referentes!AJ1012=\"\",\"\",LEFT(referentes!AJ1012,FIND(\"*-*\",referentes!AJ1012)-1)),referentes!AJ1012))","v":""},null,""]
[null,null,null,null,null,null,null,null,null,null,null,null,null,null,null,null,null,null,{"$f":"IF(referentes!AJ1013=\"\",\"\",IF(IFERROR(SEARCH(\"*-*\",referentes!AJ1013),2)=1,IF(referentes!AJ1013=\"\",\"\",LEFT(referentes!AJ1013,FIND(\"*-*\",referentes!AJ1013)-1)),referentes!AJ1013))","v":""},null,""]
[null,null,null,null,null,null,null,null,null,null,null,null,null,null,null,null,null,null,{"$f":"IF(referentes!AJ1014=\"\",\"\",IF(IFERROR(SEARCH(\"*-*\",referentes!AJ1014),2)=1,IF(referentes!AJ1014=\"\",\"\",LEFT(referentes!AJ1014,FIND(\"*-*\",referentes!AJ1014)-1)),referentes!AJ1014))","v":""},null,""]
[null,null,null,null,null,null,null,null,null,null,null,null,null,null,null,null,null,null,{"$f":"IF(referentes!AJ1015=\"\",\"\",IF(IFERROR(SEARCH(\"*-*\",referentes!AJ1015),2)=1,IF(referentes!AJ1015=\"\",\"\",LEFT(referentes!AJ1015,FIND(\"*-*\",referentes!AJ1015)-1)),referentes!AJ1015))","v":""},null,""]
[null,null,null,null,null,null,null,null,null,null,null,null,null,null,null,null,null,null,{"$f":"IF(referentes!AJ1016=\"\",\"\",IF(IFERROR(SEARCH(\"*-*\",referentes!AJ1016),2)=1,IF(referentes!AJ1016=\"\",\"\",LEFT(referentes!AJ1016,FIND(\"*-*\",referentes!AJ1016)-1)),referentes!AJ1016))","v":""},null,""]
[null,null,null,null,null,null,null,null,null,null,null,null,null,null,null,null,null,null,{"$f":"IF(referentes!AJ1017=\"\",\"\",IF(IFERROR(SEARCH(\"*-*\",referentes!AJ1017),2)=1,IF(referentes!AJ1017=\"\",\"\",LEFT(referentes!AJ1017,FIND(\"*-*\",referentes!AJ1017)-1)),referentes!AJ1017))","v":""},null,""]
[null,null,null,null,null,null,null,null,null,null,null,null,null,null,null,null,null,null,{"$f":"IF(referentes!AJ1018=\"\",\"\",IF(IFERROR(SEARCH(\"*-*\",referentes!AJ1018),2)=1,IF(referentes!AJ1018=\"\",\"\",LEFT(referentes!AJ1018,FIND(\"*-*\",referentes!AJ1018)-1)),referentes!AJ1018))","v":""},null,""]
[null,null,null,null,null,null,null,null,null,null,null,null,null,null,null,null,null,null,{"$f":"IF(referentes!AJ1019=\"\",\"\",IF(IFERROR(SEARCH(\"*-*\",referentes!AJ1019),2)=1,IF(referentes!AJ1019=\"\",\"\",LEFT(referentes!AJ1019,FIND(\"*-*\",referentes!AJ1019)-1)),referentes!AJ1019))","v":""},null,""]
[null,null,null,null,null,null,null,null,null,null,null,null,null,null,null,null,null,null,{"$f":"IF(referentes!AJ1020=\"\",\"\",IF(IFERROR(SEARCH(\"*-*\",referentes!AJ1020),2)=1,IF(referentes!AJ1020=\"\",\"\",LEFT(referentes!AJ1020,FIND(\"*-*\",referentes!AJ1020)-1)),referentes!AJ1020))","v":""},null,""]
[null,null,null,null,null,null,null,null,null,null,null,null,null,null,null,null,null,null,{"$f":"IF(referentes!AJ1021=\"\",\"\",IF(IFERROR(SEARCH(\"*-*\",referentes!AJ1021),2)=1,IF(referentes!AJ1021=\"\",\"\",LEFT(referentes!AJ1021,FIND(\"*-*\",referentes!AJ1021)-1)),referentes!AJ1021))","v":""},null,""]
[null,null,null,null,null,null,null,null,null,null,null,null,null,null,null,null,null,null,{"$f":"IF(referentes!AJ1022=\"\",\"\",IF(IFERROR(SEARCH(\"*-*\",referentes!AJ1022),2)=1,IF(referentes!AJ1022=\"\",\"\",LEFT(referentes!AJ1022,FIND(\"*-*\",referentes!AJ1022)-1)),referentes!AJ1022))","v":""},null,""]
[null,null,null,null,null,null,null,null,null,null,null,null,null,null,null,null,null,null,{"$f":"IF(referentes!AJ1023=\"\",\"\",IF(IFERROR(SEARCH(\"*-*\",referentes!AJ1023),2)=1,IF(referentes!AJ1023=\"\",\"\",LEFT(referentes!AJ1023,FIND(\"*-*\",referentes!AJ1023)-1)),referentes!AJ1023))","v":""},null,""]
[null,null,null,null,null,null,null,null,null,null,null,null,null,null,null,null,null,null,{"$f":"IF(referentes!AJ1024=\"\",\"\",IF(IFERROR(SEARCH(\"*-*\",referentes!AJ1024),2)=1,IF(referentes!AJ1024=\"\",\"\",LEFT(referentes!AJ1024,FIND(\"*-*\",referentes!AJ1024)-1)),referentes!AJ1024))","v":""},null,""]
[null,null,null,null,null,null,null,null,null,null,null,null,null,null,null,null,null,null,{"$f":"IF(referentes!AJ1025=\"\",\"\",IF(IFERROR(SEARCH(\"*-*\",referentes!AJ1025),2)=1,IF(referentes!AJ1025=\"\",\"\",LEFT(referentes!AJ1025,FIND(\"*-*\",referentes!AJ1025)-1)),referentes!AJ1025))","v":""},null,""]
[null,null,null,null,null,null,null,null,null,null,null,null,null,null,null,null,null,null,{"$f":"IF(referentes!AJ1026=\"\",\"\",IF(IFERROR(SEARCH(\"*-*\",referentes!AJ1026),2)=1,IF(referentes!AJ1026=\"\",\"\",LEFT(referentes!AJ1026,FIND(\"*-*\",referentes!AJ1026)-1)),referentes!AJ1026))","v":""},null,""]
[null,null,null,null,null,null,null,null,null,null,null,null,null,null,null,null,null,null,{"$f":"IF(referentes!AJ1027=\"\",\"\",IF(IFERROR(SEARCH(\"*-*\",referentes!AJ1027),2)=1,IF(referentes!AJ1027=\"\",\"\",LEFT(referentes!AJ1027,FIND(\"*-*\",referentes!AJ1027)-1)),referentes!AJ1027))","v":""},null,""]
[null,null,null,null,null,null,null,null,null,null,null,null,null,null,null,null,null,null,{"$f":"IF(referentes!AJ1028=\"\",\"\",IF(IFERROR(SEARCH(\"*-*\",referentes!AJ1028),2)=1,IF(referentes!AJ1028=\"\",\"\",LEFT(referentes!AJ1028,FIND(\"*-*\",referentes!AJ1028)-1)),referentes!AJ1028))","v":""},null,""]
[null,null,null,null,null,null,null,null,null,null,null,null,null,null,null,null,null,null,{"$f":"IF(referentes!AJ1029=\"\",\"\",IF(IFERROR(SEARCH(\"*-*\",referentes!AJ1029),2)=1,IF(referentes!AJ1029=\"\",\"\",LEFT(referentes!AJ1029,FIND(\"*-*\",referentes!AJ1029)-1)),referentes!AJ1029))","v":""},null,""]
[null,null,null,null,null,null,null,null,null,null,null,null,null,null,null,null,null,null,{"$f":"IF(referentes!AJ1030=\"\",\"\",IF(IFERROR(SEARCH(\"*-*\",referentes!AJ1030),2)=1,IF(referentes!AJ1030=\"\",\"\",LEFT(referentes!AJ1030,FIND(\"*-*\",referentes!AJ1030)-1)),referentes!AJ1030))","v":""},null,""]
[null,null,null,null,null,null,null,null,null,null,null,null,null,null,null,null,null,null,{"$f":"IF(referentes!AJ1031=\"\",\"\",IF(IFERROR(SEARCH(\"*-*\",referentes!AJ1031),2)=1,IF(referentes!AJ1031=\"\",\"\",LEFT(referentes!AJ1031,FIND(\"*-*\",referentes!AJ1031)-1)),referentes!AJ1031))","v":""},null,""]
[null,null,null,null,null,null,null,null,null,null,null,null,null,null,null,null,null,null,{"$f":"IF(referentes!AJ1032=\"\",\"\",IF(IFERROR(SEARCH(\"*-*\",referentes!AJ1032),2)=1,IF(referentes!AJ1032=\"\",\"\",LEFT(referentes!AJ1032,FIND(\"*-*\",referentes!AJ1032)-1)),referentes!AJ1032))","v":""},null,{"$f":"IF(IFERROR(T1031,R1031)=S1031,\"\",R1031)","v":""}]
[null,null,null,null,null,null,null,null,null,null,null,null,null,null,null,null,null,null,{"$f":"IF(referentes!AJ1033=\"\",\"\",IF(IFERROR(SEARCH(\"*-*\",referentes!AJ1033),2)=1,IF(referentes!AJ1033=\"\",\"\",LEFT(referentes!AJ1033,FIND(\"*-*\",referentes!AJ1033)-1)),referentes!AJ1033))","v":""},null,""]
[null,null,null,null,null,null,null,null,null,null,null,null,null,null,null,null,null,null,{"$f":"IF(referentes!AJ1034=\"\",\"\",IF(IFERROR(SEARCH(\"*-*\",referentes!AJ1034),2)=1,IF(referentes!AJ1034=\"\",\"\",LEFT(referentes!AJ1034,FIND(\"*-*\",referentes!AJ1034)-1)),referentes!AJ1034))","v":""},null,""]
[null,null,null,null,null,null,null,null,null,null,null,null,null,null,null,null,null,null,{"$f":"IF(referentes!AJ1035=\"\",\"\",IF(IFERROR(SEARCH(\"*-*\",referentes!AJ1035),2)=1,IF(referentes!AJ1035=\"\",\"\",LEFT(referentes!AJ1035,FIND(\"*-*\",referentes!AJ1035)-1)),referentes!AJ1035))","v":""},null,""]
[null,null,null,null,null,null,null,null,null,null,null,null,null,null,null,null,null,null,{"$f":"IF(referentes!AJ1036=\"\",\"\",IF(IFERROR(SEARCH(\"*-*\",referentes!AJ1036),2)=1,IF(referentes!AJ1036=\"\",\"\",LEFT(referentes!AJ1036,FIND(\"*-*\",referentes!AJ1036)-1)),referentes!AJ1036))","v":""},null,""]
[null,null,null,null,null,null,null,null,null,null,null,null,null,null,null,null,null,null,{"$f":"IF(referentes!AJ1037=\"\",\"\",IF(IFERROR(SEARCH(\"*-*\",referentes!AJ1037),2)=1,IF(referentes!AJ1037=\"\",\"\",LEFT(referentes!AJ1037,FIND(\"*-*\",referentes!AJ1037)-1)),referentes!AJ1037))","v":""},null,""]
[null,null,null,null,null,null,null,null,null,null,null,null,null,null,null,null,null,null,{"$f":"IF(referentes!AJ1038=\"\",\"\",IF(IFERROR(SEARCH(\"*-*\",referentes!AJ1038),2)=1,IF(referentes!AJ1038=\"\",\"\",LEFT(referentes!AJ1038,FIND(\"*-*\",referentes!AJ1038)-1)),referentes!AJ1038))","v":""},null,""]
[null,null,null,null,null,null,null,null,null,null,null,null,null,null,null,null,null,null,{"$f":"IF(referentes!AJ1039=\"\",\"\",IF(IFERROR(SEARCH(\"*-*\",referentes!AJ1039),2)=1,IF(referentes!AJ1039=\"\",\"\",LEFT(referentes!AJ1039,FIND(\"*-*\",referentes!AJ1039)-1)),referentes!AJ1039))","v":""},null,""]
[null,null,null,null,null,null,null,null,null,null,null,null,null,null,null,null,null,null,{"$f":"IF(referentes!AJ1040=\"\",\"\",IF(IFERROR(SEARCH(\"*-*\",referentes!AJ1040),2)=1,IF(referentes!AJ1040=\"\",\"\",LEFT(referentes!AJ1040,FIND(\"*-*\",referentes!AJ1040)-1)),referentes!AJ1040))","v":""},null,""]
[null,null,null,null,null,null,null,null,null,null,null,null,null,null,null,null,null,null,{"$f":"IF(referentes!AJ1041=\"\",\"\",IF(IFERROR(SEARCH(\"*-*\",referentes!AJ1041),2)=1,IF(referentes!AJ1041=\"\",\"\",LEFT(referentes!AJ1041,FIND(\"*-*\",referentes!AJ1041)-1)),referentes!AJ1041))","v":""},null,""]
[null,null,null,null,null,null,null,null,null,null,null,null,null,null,null,null,null,null,{"$f":"IF(referentes!AJ1042=\"\",\"\",IF(IFERROR(SEARCH(\"*-*\",referentes!AJ1042),2)=1,IF(referentes!AJ1042=\"\",\"\",LEFT(referentes!AJ1042,FIND(\"*-*\",referentes!AJ1042)-1)),referentes!AJ1042))","v":""},null,""]
[null,null,null,null,null,null,null,null,null,null,null,null,null,null,null,null,null,null,{"$f":"IF(referentes!AJ1043=\"\",\"\",IF(IFERROR(SEARCH(\"*-*\",referentes!AJ1043),2)=1,IF(referentes!AJ1043=\"\",\"\",LEFT(referentes!AJ1043,FIND(\"*-*\",referentes!AJ1043)-1)),referentes!AJ1043))","v":""},null,""]
[null,null,null,null,null,null,null,null,null,null,null,null,null,null,null,null,null,null,{"$f":"IF(referentes!AJ1044=\"\",\"\",IF(IFERROR(SEARCH(\"*-*\",referentes!AJ1044),2)=1,IF(referentes!AJ1044=\"\",\"\",LEFT(referentes!AJ1044,FIND(\"*-*\",referentes!AJ1044)-1)),referentes!AJ1044))","v":""},null,""]
[null,null,null,null,null,null,null,null,null,null,null,null,null,null,null,null,null,null,{"$f":"IF(referentes!AJ1045=\"\",\"\",IF(IFERROR(SEARCH(\"*-*\",referentes!AJ1045),2)=1,IF(referentes!AJ1045=\"\",\"\",LEFT(referentes!AJ1045,FIND(\"*-*\",referentes!AJ1045)-1)),referentes!AJ1045))","v":""},null,""]
[null,null,null,null,null,null,null,null,null,null,null,null,null,null,null,null,null,null,{"$f":"IF(referentes!AJ1046=\"\",\"\",IF(IFERROR(SEARCH(\"*-*\",referentes!AJ1046),2)=1,IF(referentes!AJ1046=\"\",\"\",LEFT(referentes!AJ1046,FIND(\"*-*\",referentes!AJ1046)-1)),referentes!AJ1046))","v":""},null,""]
[null,null,null,null,null,null,null,null,null,null,null,null,null,null,null,null,null,null,{"$f":"IF(referentes!AJ1047=\"\",\"\",IF(IFERROR(SEARCH(\"*-*\",referentes!AJ1047),2)=1,IF(referentes!AJ1047=\"\",\"\",LEFT(referentes!AJ1047,FIND(\"*-*\",referentes!AJ1047)-1)),referentes!AJ1047))","v":""},null,""]
[null,null,null,null,null,null,null,null,null,null,null,null,null,null,null,null,null,null,{"$f":"IF(referentes!AJ1048=\"\",\"\",IF(IFERROR(SEARCH(\"*-*\",referentes!AJ1048),2)=1,IF(referentes!AJ1048=\"\",\"\",LEFT(referentes!AJ1048,FIND(\"*-*\",referentes!AJ1048)-1)),referentes!AJ1048))","v":""},null,""]
[null,null,null,null,null,null,null,null,null,null,null,null,null,null,null,null,null,null,{"$f":"IF(referentes!AJ1049=\"\",\"\",IF(IFERROR(SEARCH(\"*-*\",referentes!AJ1049),2)=1,IF(referentes!AJ1049=\"\",\"\",LEFT(referentes!AJ1049,FIND(\"*-*\",referentes!AJ1049)-1)),referentes!AJ1049))","v":""},null,""]
[null,null,null,null,null,null,null,null,null,null,null,null,null,null,null,null,null,null,{"$f":"IF(referentes!AJ1050=\"\",\"\",IF(IFERROR(SEARCH(\"*-*\",referentes!AJ1050),2)=1,IF(referentes!AJ1050=\"\",\"\",LEFT(referentes!AJ1050,FIND(\"*-*\",referentes!AJ1050)-1)),referentes!AJ1050))","v":""},null,""]
[null,null,null,null,null,null,null,null,null,null,null,null,null,null,null,null,null,null,{"$f":"IF(referentes!AJ1051=\"\",\"\",IF(IFERROR(SEARCH(\"*-*\",referentes!AJ1051),2)=1,IF(referentes!AJ1051=\"\",\"\",LEFT(referentes!AJ1051,FIND(\"*-*\",referentes!AJ1051)-1)),referentes!AJ1051))","v":""},null,""]
[null,null,null,null,null,null,null,null,null,null,null,null,null,null,null,null,null,null,{"$f":"IF(referentes!AJ1052=\"\",\"\",IF(IFERROR(SEARCH(\"*-*\",referentes!AJ1052),2)=1,IF(referentes!AJ1052=\"\",\"\",LEFT(referentes!AJ1052,FIND(\"*-*\",referentes!AJ1052)-1)),referentes!AJ1052))","v":""},null,""]
[null,null,null,null,null,null,null,null,null,null,null,null,null,null,null,null,null,null,{"$f":"IF(referentes!AJ1053=\"\",\"\",IF(IFERROR(SEARCH(\"*-*\",referentes!AJ1053),2)=1,IF(referentes!AJ1053=\"\",\"\",LEFT(referentes!AJ1053,FIND(\"*-*\",referentes!AJ1053)-1)),referentes!AJ1053))","v":""},null,""]
[null,null,null,null,null,null,null,null,null,null,null,null,null,null,null,null,null,null,{"$f":"IF(referentes!AJ1054=\"\",\"\",IF(IFERROR(SEARCH(\"*-*\",referentes!AJ1054),2)=1,IF(referentes!AJ1054=\"\",\"\",LEFT(referentes!AJ1054,FIND(\"*-*\",referentes!AJ1054)-1)),referentes!AJ1054))","v":""},null,""]
[null,null,null,null,null,null,null,null,null,null,null,null,null,null,null,null,null,null,{"$f":"IF(referentes!AJ1055=\"\",\"\",IF(IFERROR(SEARCH(\"*-*\",referentes!AJ1055),2)=1,IF(referentes!AJ1055=\"\",\"\",LEFT(referentes!AJ1055,FIND(\"*-*\",referentes!AJ1055)-1)),referentes!AJ1055))","v":""},null,""]
[null,null,null,null,null,null,null,null,null,null,null,null,null,null,null,null,null,null,{"$f":"IF(referentes!AJ1056=\"\",\"\",IF(IFERROR(SEARCH(\"*-*\",referentes!AJ1056),2)=1,IF(referentes!AJ1056=\"\",\"\",LEFT(referentes!AJ1056,FIND(\"*-*\",referentes!AJ1056)-1)),referentes!AJ1056))","v":""},null,""]
[null,null,null,null,null,null,null,null,null,null,null,null,null,null,null,null,null,null,{"$f":"IF(referentes!AJ1057=\"\",\"\",IF(IFERROR(SEARCH(\"*-*\",referentes!AJ1057),2)=1,IF(referentes!AJ1057=\"\",\"\",LEFT(referentes!AJ1057,FIND(\"*-*\",referentes!AJ1057)-1)),referentes!AJ1057))","v":""},null,""]
[null,null,null,null,null,null,null,null,null,null,null,null,null,null,null,null,null,null,{"$f":"IF(referentes!AJ1058=\"\",\"\",IF(IFERROR(SEARCH(\"*-*\",referentes!AJ1058),2)=1,IF(referentes!AJ1058=\"\",\"\",LEFT(referentes!AJ1058,FIND(\"*-*\",referentes!AJ1058)-1)),referentes!AJ1058))","v":""},null,""]
[null,null,null,null,null,null,null,null,null,null,null,null,null,null,null,null,null,null,{"$f":"IF(referentes!AJ1059=\"\",\"\",IF(IFERROR(SEARCH(\"*-*\",referentes!AJ1059),2)=1,IF(referentes!AJ1059=\"\",\"\",LEFT(referentes!AJ1059,FIND(\"*-*\",referentes!AJ1059)-1)),referentes!AJ1059))","v":""},null,""]
[null,null,null,null,null,null,null,null,null,null,null,null,null,null,null,null,null,null,{"$f":"IF(referentes!AJ1060=\"\",\"\",IF(IFERROR(SEARCH(\"*-*\",referentes!AJ1060),2)=1,IF(referentes!AJ1060=\"\",\"\",LEFT(referentes!AJ1060,FIND(\"*-*\",referentes!AJ1060)-1)),referentes!AJ1060))","v":""},null,""]
[null,null,null,null,null,null,null,null,null,null,null,null,null,null,null,null,null,null,{"$f":"IF(referentes!AJ1061=\"\",\"\",IF(IFERROR(SEARCH(\"*-*\",referentes!AJ1061),2)=1,IF(referentes!AJ1061=\"\",\"\",LEFT(referentes!AJ1061,FIND(\"*-*\",referentes!AJ1061)-1)),referentes!AJ1061))","v":""},null,""]
[null,null,null,null,null,null,null,null,null,null,null,null,null,null,null,null,null,null,{"$f":"IF(referentes!AJ1062=\"\",\"\",IF(IFERROR(SEARCH(\"*-*\",referentes!AJ1062),2)=1,IF(referentes!AJ1062=\"\",\"\",LEFT(referentes!AJ1062,FIND(\"*-*\",referentes!AJ1062)-1)),referentes!AJ1062))","v":""},null,""]
[null,null,null,null,null,null,null,null,null,null,null,null,null,null,null,null,null,null,{"$f":"IF(referentes!AJ1063=\"\",\"\",IF(IFERROR(SEARCH(\"*-*\",referentes!AJ1063),2)=1,IF(referentes!AJ1063=\"\",\"\",LEFT(referentes!AJ1063,FIND(\"*-*\",referentes!AJ1063)-1)),referentes!AJ1063))","v":""},null,""]
[null,null,null,null,null,null,null,null,null,null,null,null,null,null,null,null,null,null,{"$f":"IF(referentes!AJ1064=\"\",\"\",IF(IFERROR(SEARCH(\"*-*\",referentes!AJ1064),2)=1,IF(referentes!AJ1064=\"\",\"\",LEFT(referentes!AJ1064,FIND(\"*-*\",referentes!AJ1064)-1)),referentes!AJ1064))","v":""},null,""]
[null,null,null,null,null,null,null,null,null,null,null,null,null,null,null,null,null,null,{"$f":"IF(referentes!AJ1065=\"\",\"\",IF(IFERROR(SEARCH(\"*-*\",referentes!AJ1065),2)=1,IF(referentes!AJ1065=\"\",\"\",LEFT(referentes!AJ1065,FIND(\"*-*\",referentes!AJ1065)-1)),referentes!AJ1065))","v":""},null,""]
[null,null,null,null,null,null,null,null,null,null,null,null,null,null,null,null,null,null,{"$f":"IF(referentes!AJ1066=\"\",\"\",IF(IFERROR(SEARCH(\"*-*\",referentes!AJ1066),2)=1,IF(referentes!AJ1066=\"\",\"\",LEFT(referentes!AJ1066,FIND(\"*-*\",referentes!AJ1066)-1)),referentes!AJ1066))","v":""},null,""]
[null,null,null,null,null,null,null,null,null,null,null,null,null,null,null,null,null,null,{"$f":"IF(referentes!AJ1067=\"\",\"\",IF(IFERROR(SEARCH(\"*-*\",referentes!AJ1067),2)=1,IF(referentes!AJ1067=\"\",\"\",LEFT(referentes!AJ1067,FIND(\"*-*\",referentes!AJ1067)-1)),referentes!AJ1067))","v":""},null,""]
[null,null,null,null,null,null,null,null,null,null,null,null,null,null,null,null,null,null,{"$f":"IF(referentes!AJ1068=\"\",\"\",IF(IFERROR(SEARCH(\"*-*\",referentes!AJ1068),2)=1,IF(referentes!AJ1068=\"\",\"\",LEFT(referentes!AJ1068,FIND(\"*-*\",referentes!AJ1068)-1)),referentes!AJ1068))","v":""},null,""]
[null,null,null,null,null,null,null,null,null,null,null,null,null,null,null,null,null,null,{"$f":"IF(referentes!AJ1069=\"\",\"\",IF(IFERROR(SEARCH(\"*-*\",referentes!AJ1069),2)=1,IF(referentes!AJ1069=\"\",\"\",LEFT(referentes!AJ1069,FIND(\"*-*\",referentes!AJ1069)-1)),referentes!AJ1069))","v":""},null,""]
[null,null,null,null,null,null,null,null,null,null,null,null,null,null,null,null,null,null,{"$f":"IF(referentes!AJ1070=\"\",\"\",IF(IFERROR(SEARCH(\"*-*\",referentes!AJ1070),2)=1,IF(referentes!AJ1070=\"\",\"\",LEFT(referentes!AJ1070,FIND(\"*-*\",referentes!AJ1070)-1)),referentes!AJ1070))","v":""},null,""]
[null,null,null,null,null,null,null,null,null,null,null,null,null,null,null,null,null,null,{"$f":"IF(referentes!AJ1071=\"\",\"\",IF(IFERROR(SEARCH(\"*-*\",referentes!AJ1071),2)=1,IF(referentes!AJ1071=\"\",\"\",LEFT(referentes!AJ1071,FIND(\"*-*\",referentes!AJ1071)-1)),referentes!AJ1071))","v":""},null,""]
[null,null,null,null,null,null,null,null,null,null,null,null,null,null,null,null,null,null,{"$f":"IF(referentes!AJ1072=\"\",\"\",IF(IFERROR(SEARCH(\"*-*\",referentes!AJ1072),2)=1,IF(referentes!AJ1072=\"\",\"\",LEFT(referentes!AJ1072,FIND(\"*-*\",referentes!AJ1072)-1)),referentes!AJ1072))","v":""},null,""]
[null,null,null,null,null,null,null,null,null,null,null,null,null,null,null,null,null,null,{"$f":"IF(referentes!AJ1073=\"\",\"\",IF(IFERROR(SEARCH(\"*-*\",referentes!AJ1073),2)=1,IF(referentes!AJ1073=\"\",\"\",LEFT(referentes!AJ1073,FIND(\"*-*\",referentes!AJ1073)-1)),referentes!AJ1073))","v":""},null,""]
[null,null,null,null,null,null,null,null,null,null,null,null,null,null,null,null,null,null,{"$f":"IF(referentes!AJ1074=\"\",\"\",IF(IFERROR(SEARCH(\"*-*\",referentes!AJ1074),2)=1,IF(referentes!AJ1074=\"\",\"\",LEFT(referentes!AJ1074,FIND(\"*-*\",referentes!AJ1074)-1)),referentes!AJ1074))","v":""},null,""]
[null,null,null,null,null,null,null,null,null,null,null,null,null,null,null,null,null,null,{"$f":"IF(referentes!AJ1075=\"\",\"\",IF(IFERROR(SEARCH(\"*-*\",referentes!AJ1075),2)=1,IF(referentes!AJ1075=\"\",\"\",LEFT(referentes!AJ1075,FIND(\"*-*\",referentes!AJ1075)-1)),referentes!AJ1075))","v":""},null,""]
[null,null,null,null,null,null,null,null,null,null,null,null,null,null,null,null,null,null,{"$f":"IF(referentes!AJ1076=\"\",\"\",IF(IFERROR(SEARCH(\"*-*\",referentes!AJ1076),2)=1,IF(referentes!AJ1076=\"\",\"\",LEFT(referentes!AJ1076,FIND(\"*-*\",referentes!AJ1076)-1)),referentes!AJ1076))","v":""},null,""]
[null,null,null,null,null,null,null,null,null,null,null,null,null,null,null,null,null,null,{"$f":"IF(referentes!AJ1077=\"\",\"\",IF(IFERROR(SEARCH(\"*-*\",referentes!AJ1077),2)=1,IF(referentes!AJ1077=\"\",\"\",LEFT(referentes!AJ1077,FIND(\"*-*\",referentes!AJ1077)-1)),referentes!AJ1077))","v":""},null,""]
[null,null,null,null,null,null,null,null,null,null,null,null,null,null,null,null,null,null,{"$f":"IF(referentes!AJ1078=\"\",\"\",IF(IFERROR(SEARCH(\"*-*\",referentes!AJ1078),2)=1,IF(referentes!AJ1078=\"\",\"\",LEFT(referentes!AJ1078,FIND(\"*-*\",referentes!AJ1078)-1)),referentes!AJ1078))","v":""},null,""]
[null,null,null,null,null,null,null,null,null,null,null,null,null,null,null,null,null,null,{"$f":"IF(referentes!AJ1079=\"\",\"\",IF(IFERROR(SEARCH(\"*-*\",referentes!AJ1079),2)=1,IF(referentes!AJ1079=\"\",\"\",LEFT(referentes!AJ1079,FIND(\"*-*\",referentes!AJ1079)-1)),referentes!AJ1079))","v":""},null,""]
[null,null,null,null,null,null,null,null,null,null,null,null,null,null,null,null,null,null,{"$f":"IF(referentes!AJ1080=\"\",\"\",IF(IFERROR(SEARCH(\"*-*\",referentes!AJ1080),2)=1,IF(referentes!AJ1080=\"\",\"\",LEFT(referentes!AJ1080,FIND(\"*-*\",referentes!AJ1080)-1)),referentes!AJ1080))","v":""},null,""]
[null,null,null,null,null,null,null,null,null,null,null,null,null,null,null,null,null,null,{"$f":"IF(referentes!AJ1081=\"\",\"\",IF(IFERROR(SEARCH(\"*-*\",referentes!AJ1081),2)=1,IF(referentes!AJ1081=\"\",\"\",LEFT(referentes!AJ1081,FIND(\"*-*\",referentes!AJ1081)-1)),referentes!AJ1081))","v":""},null,""]
[null,null,null,null,null,null,null,null,null,null,null,null,null,null,null,null,null,null,{"$f":"IF(referentes!AJ1082=\"\",\"\",IF(IFERROR(SEARCH(\"*-*\",referentes!AJ1082),2)=1,IF(referentes!AJ1082=\"\",\"\",LEFT(referentes!AJ1082,FIND(\"*-*\",referentes!AJ1082)-1)),referentes!AJ1082))","v":""},null,""]
[null,null,null,null,null,null,null,null,null,null,null,null,null,null,null,null,null,null,{"$f":"IF(referentes!AJ1083=\"\",\"\",IF(IFERROR(SEARCH(\"*-*\",referentes!AJ1083),2)=1,IF(referentes!AJ1083=\"\",\"\",LEFT(referentes!AJ1083,FIND(\"*-*\",referentes!AJ1083)-1)),referentes!AJ1083))","v":""},null,""]
[null,null,null,null,null,null,null,null,null,null,null,null,null,null,null,null,null,null,{"$f":"IF(referentes!AJ1084=\"\",\"\",IF(IFERROR(SEARCH(\"*-*\",referentes!AJ1084),2)=1,IF(referentes!AJ1084=\"\",\"\",LEFT(referentes!AJ1084,FIND(\"*-*\",referentes!AJ1084)-1)),referentes!AJ1084))","v":""},null,""]
[null,null,null,null,null,null,null,null,null,null,null,null,null,null,null,null,null,null,{"$f":"IF(referentes!AJ1085=\"\",\"\",IF(IFERROR(SEARCH(\"*-*\",referentes!AJ1085),2)=1,IF(referentes!AJ1085=\"\",\"\",LEFT(referentes!AJ1085,FIND(\"*-*\",referentes!AJ1085)-1)),referentes!AJ1085))","v":""},null,""]
[null,null,null,null,null,null,null,null,null,null,null,null,null,null,null,null,null,null,{"$f":"IF(referentes!AJ1086=\"\",\"\",IF(IFERROR(SEARCH(\"*-*\",referentes!AJ1086),2)=1,IF(referentes!AJ1086=\"\",\"\",LEFT(referentes!AJ1086,FIND(\"*-*\",referentes!AJ1086)-1)),referentes!AJ1086))","v":""},null,""]
[null,null,null,null,null,null,null,null,null,null,null,null,null,null,null,null,null,null,{"$f":"IF(referentes!AJ1087=\"\",\"\",IF(IFERROR(SEARCH(\"*-*\",referentes!AJ1087),2)=1,IF(referentes!AJ1087=\"\",\"\",LEFT(referentes!AJ1087,FIND(\"*-*\",referentes!AJ1087)-1)),referentes!AJ1087))","v":""},null,""]
[null,null,null,null,null,null,null,null,null,null,null,null,null,null,null,null,null,null,{"$f":"IF(referentes!AJ1088=\"\",\"\",IF(IFERROR(SEARCH(\"*-*\",referentes!AJ1088),2)=1,IF(referentes!AJ1088=\"\",\"\",LEFT(referentes!AJ1088,FIND(\"*-*\",referentes!AJ1088)-1)),referentes!AJ1088))","v":""},null,""]
[null,null,null,null,null,null,null,null,null,null,null,null,null,null,null,null,null,null,{"$f":"IF(referentes!AJ1089=\"\",\"\",IF(IFERROR(SEARCH(\"*-*\",referentes!AJ1089),2)=1,IF(referentes!AJ1089=\"\",\"\",LEFT(referentes!AJ1089,FIND(\"*-*\",referentes!AJ1089)-1)),referentes!AJ1089))","v":""},null,""]
[null,null,null,null,null,null,null,null,null,null,null,null,null,null,null,null,null,null,{"$f":"IF(referentes!AJ1090=\"\",\"\",IF(IFERROR(SEARCH(\"*-*\",referentes!AJ1090),2)=1,IF(referentes!AJ1090=\"\",\"\",LEFT(referentes!AJ1090,FIND(\"*-*\",referentes!AJ1090)-1)),referentes!AJ1090))","v":""},null,""]
[null,null,null,null,null,null,null,null,null,null,null,null,null,null,null,null,null,null,{"$f":"IF(referentes!AJ1091=\"\",\"\",IF(IFERROR(SEARCH(\"*-*\",referentes!AJ1091),2)=1,IF(referentes!AJ1091=\"\",\"\",LEFT(referentes!AJ1091,FIND(\"*-*\",referentes!AJ1091)-1)),referentes!AJ1091))","v":""},null,""]
[null,null,null,null,null,null,null,null,null,null,null,null,null,null,null,null,null,null,{"$f":"IF(referentes!AJ1092=\"\",\"\",IF(IFERROR(SEARCH(\"*-*\",referentes!AJ1092),2)=1,IF(referentes!AJ1092=\"\",\"\",LEFT(referentes!AJ1092,FIND(\"*-*\",referentes!AJ1092)-1)),referentes!AJ1092))","v":""},null,""]
[null,null,null,null,null,null,null,null,null,null,null,null,null,null,null,null,null,null,{"$f":"IF(referentes!AJ1093=\"\",\"\",IF(IFERROR(SEARCH(\"*-*\",referentes!AJ1093),2)=1,IF(referentes!AJ1093=\"\",\"\",LEFT(referentes!AJ1093,FIND(\"*-*\",referentes!AJ1093)-1)),referentes!AJ1093))","v":""},null,""]
[null,null,null,null,null,null,null,null,null,null,null,null,null,null,null,null,null,null,{"$f":"IF(referentes!AJ1094=\"\",\"\",IF(IFERROR(SEARCH(\"*-*\",referentes!AJ1094),2)=1,IF(referentes!AJ1094=\"\",\"\",LEFT(referentes!AJ1094,FIND(\"*-*\",referentes!AJ1094)-1)),referentes!AJ1094))","v":""},null,""]
[null,null,null,null,null,null,null,null,null,null,null,null,null,null,null,null,null,null,{"$f":"IF(referentes!AJ1095=\"\",\"\",IF(IFERROR(SEARCH(\"*-*\",referentes!AJ1095),2)=1,IF(referentes!AJ1095=\"\",\"\",LEFT(referentes!AJ1095,FIND(\"*-*\",referentes!AJ1095)-1)),referentes!AJ1095))","v":""},null,""]
[null,null,null,null,null,null,null,null,null,null,null,null,null,null,null,null,null,null,{"$f":"IF(referentes!AJ1096=\"\",\"\",IF(IFERROR(SEARCH(\"*-*\",referentes!AJ1096),2)=1,IF(referentes!AJ1096=\"\",\"\",LEFT(referentes!AJ1096,FIND(\"*-*\",referentes!AJ1096)-1)),referentes!AJ1096))","v":""},null,{"$f":"IF(IFERROR(T1095,R1095)=S1095,\"\",R1095)","v":""}]
[null,null,null,null,null,null,null,null,null,null,null,null,null,null,null,null,null,null,{"$f":"IF(referentes!AJ1097=\"\",\"\",IF(IFERROR(SEARCH(\"*-*\",referentes!AJ1097),2)=1,IF(referentes!AJ1097=\"\",\"\",LEFT(referentes!AJ1097,FIND(\"*-*\",referentes!AJ1097)-1)),referentes!AJ1097))","v":""},null,""]
[null,null,null,null,null,null,null,null,null,null,null,null,null,null,null,null,null,null,{"$f":"IF(referentes!AJ1098=\"\",\"\",IF(IFERROR(SEARCH(\"*-*\",referentes!AJ1098),2)=1,IF(referentes!AJ1098=\"\",\"\",LEFT(referentes!AJ1098,FIND(\"*-*\",referentes!AJ1098)-1)),referentes!AJ1098))","v":""},null,""]
[null,null,null,null,null,null,null,null,null,null,null,null,null,null,null,null,null,null,{"$f":"IF(referentes!AJ1099=\"\",\"\",IF(IFERROR(SEARCH(\"*-*\",referentes!AJ1099),2)=1,IF(referentes!AJ1099=\"\",\"\",LEFT(referentes!AJ1099,FIND(\"*-*\",referentes!AJ1099)-1)),referentes!AJ1099))","v":""},null,""]
[null,null,null,null,null,null,null,null,null,null,null,null,null,null,null,null,null,null,{"$f":"IF(referentes!AJ1100=\"\",\"\",IF(IFERROR(SEARCH(\"*-*\",referentes!AJ1100),2)=1,IF(referentes!AJ1100=\"\",\"\",LEFT(referentes!AJ1100,FIND(\"*-*\",referentes!AJ1100)-1)),referentes!AJ1100))","v":""},null,""]
[null,null,null,null,null,null,null,null,null,null,null,null,null,null,null,null,null,null,{"$f":"IF(referentes!AJ1101=\"\",\"\",IF(IFERROR(SEARCH(\"*-*\",referentes!AJ1101),2)=1,IF(referentes!AJ1101=\"\",\"\",LEFT(referentes!AJ1101,FIND(\"*-*\",referentes!AJ1101)-1)),referentes!AJ1101))","v":""},null,""]
[null,null,null,null,null,null,null,null,null,null,null,null,null,null,null,null,null,null,{"$f":"IF(referentes!AJ1102=\"\",\"\",IF(IFERROR(SEARCH(\"*-*\",referentes!AJ1102),2)=1,IF(referentes!AJ1102=\"\",\"\",LEFT(referentes!AJ1102,FIND(\"*-*\",referentes!AJ1102)-1)),referentes!AJ1102))","v":""},null,""]
[null,null,null,null,null,null,null,null,null,null,null,null,null,null,null,null,null,null,{"$f":"IF(referentes!AJ1103=\"\",\"\",IF(IFERROR(SEARCH(\"*-*\",referentes!AJ1103),2)=1,IF(referentes!AJ1103=\"\",\"\",LEFT(referentes!AJ1103,FIND(\"*-*\",referentes!AJ1103)-1)),referentes!AJ1103))","v":""},null,""]
[null,null,null,null,null,null,null,null,null,null,null,null,null,null,null,null,null,null,{"$f":"IF(referentes!AJ1104=\"\",\"\",IF(IFERROR(SEARCH(\"*-*\",referentes!AJ1104),2)=1,IF(referentes!AJ1104=\"\",\"\",LEFT(referentes!AJ1104,FIND(\"*-*\",referentes!AJ1104)-1)),referentes!AJ1104))","v":""},null,""]
[null,null,null,null,null,null,null,null,null,null,null,null,null,null,null,null,null,null,{"$f":"IF(referentes!AJ1105=\"\",\"\",IF(IFERROR(SEARCH(\"*-*\",referentes!AJ1105),2)=1,IF(referentes!AJ1105=\"\",\"\",LEFT(referentes!AJ1105,FIND(\"*-*\",referentes!AJ1105)-1)),referentes!AJ1105))","v":""},null,""]
[null,null,null,null,null,null,null,null,null,null,null,null,null,null,null,null,null,null,{"$f":"IF(referentes!AJ1106=\"\",\"\",IF(IFERROR(SEARCH(\"*-*\",referentes!AJ1106),2)=1,IF(referentes!AJ1106=\"\",\"\",LEFT(referentes!AJ1106,FIND(\"*-*\",referentes!AJ1106)-1)),referentes!AJ1106))","v":""},null,""]
[null,null,null,null,null,null,null,null,null,null,null,null,null,null,null,null,null,null,{"$f":"IF(referentes!AJ1107=\"\",\"\",IF(IFERROR(SEARCH(\"*-*\",referentes!AJ1107),2)=1,IF(referentes!AJ1107=\"\",\"\",LEFT(referentes!AJ1107,FIND(\"*-*\",referentes!AJ1107)-1)),referentes!AJ1107))","v":""},null,""]
[null,null,null,null,null,null,null,null,null,null,null,null,null,null,null,null,null,null,{"$f":"IF(referentes!AJ1108=\"\",\"\",IF(IFERROR(SEARCH(\"*-*\",referentes!AJ1108),2)=1,IF(referentes!AJ1108=\"\",\"\",LEFT(referentes!AJ1108,FIND(\"*-*\",referentes!AJ1108)-1)),referentes!AJ1108))","v":""},null,""]
[null,null,null,null,null,null,null,null,null,null,null,null,null,null,null,null,null,null,{"$f":"IF(referentes!AJ1109=\"\",\"\",IF(IFERROR(SEARCH(\"*-*\",referentes!AJ1109),2)=1,IF(referentes!AJ1109=\"\",\"\",LEFT(referentes!AJ1109,FIND(\"*-*\",referentes!AJ1109)-1)),referentes!AJ1109))","v":""},null,""]
[null,null,null,null,null,null,null,null,null,null,null,null,null,null,null,null,null,null,{"$f":"IF(referentes!AJ1110=\"\",\"\",IF(IFERROR(SEARCH(\"*-*\",referentes!AJ1110),2)=1,IF(referentes!AJ1110=\"\",\"\",LEFT(referentes!AJ1110,FIND(\"*-*\",referentes!AJ1110)-1)),referentes!AJ1110))","v":""},null,""]
[null,null,null,null,null,null,null,null,null,null,null,null,null,null,null,null,null,null,{"$f":"IF(referentes!AJ1111=\"\",\"\",IF(IFERROR(SEARCH(\"*-*\",referentes!AJ1111),2)=1,IF(referentes!AJ1111=\"\",\"\",LEFT(referentes!AJ1111,FIND(\"*-*\",referentes!AJ1111)-1)),referentes!AJ1111))","v":""},null,""]
[null,null,null,null,null,null,null,null,null,null,null,null,null,null,null,null,null,null,{"$f":"IF(referentes!AJ1112=\"\",\"\",IF(IFERROR(SEARCH(\"*-*\",referentes!AJ1112),2)=1,IF(referentes!AJ1112=\"\",\"\",LEFT(referentes!AJ1112,FIND(\"*-*\",referentes!AJ1112)-1)),referentes!AJ1112))","v":""},null,""]
[null,null,null,null,null,null,null,null,null,null,null,null,null,null,null,null,null,null,{"$f":"IF(referentes!AJ1113=\"\",\"\",IF(IFERROR(SEARCH(\"*-*\",referentes!AJ1113),2)=1,IF(referentes!AJ1113=\"\",\"\",LEFT(referentes!AJ1113,FIND(\"*-*\",referentes!AJ1113)-1)),referentes!AJ1113))","v":""},null,""]
[null,null,null,null,null,null,null,null,null,null,null,null,null,null,null,null,null,null,{"$f":"IF(referentes!AJ1114=\"\",\"\",IF(IFERROR(SEARCH(\"*-*\",referentes!AJ1114),2)=1,IF(referentes!AJ1114=\"\",\"\",LEFT(referentes!AJ1114,FIND(\"*-*\",referentes!AJ1114)-1)),referentes!AJ1114))","v":""},null,""]
[null,null,null,null,null,null,null,null,null,null,null,null,null,null,null,null,null,null,{"$f":"IF(referentes!AJ1115=\"\",\"\",IF(IFERROR(SEARCH(\"*-*\",referentes!AJ1115),2)=1,IF(referentes!AJ1115=\"\",\"\",LEFT(referentes!AJ1115,FIND(\"*-*\",referentes!AJ1115)-1)),referentes!AJ1115))","v":""},null,""]
[null,null,null,null,null,null,null,null,null,null,null,null,null,null,null,null,null,null,{"$f":"IF(referentes!AJ1116=\"\",\"\",IF(IFERROR(SEARCH(\"*-*\",referentes!AJ1116),2)=1,IF(referentes!AJ1116=\"\",\"\",LEFT(referentes!AJ1116,FIND(\"*-*\",referentes!AJ1116)-1)),referentes!AJ1116))","v":""},null,""]
[null,null,null,null,null,null,null,null,null,null,null,null,null,null,null,null,null,null,{"$f":"IF(referentes!AJ1117=\"\",\"\",IF(IFERROR(SEARCH(\"*-*\",referentes!AJ1117),2)=1,IF(referentes!AJ1117=\"\",\"\",LEFT(referentes!AJ1117,FIND(\"*-*\",referentes!AJ1117)-1)),referentes!AJ1117))","v":""},null,""]
[null,null,null,null,null,null,null,null,null,null,null,null,null,null,null,null,null,null,{"$f":"IF(referentes!AJ1118=\"\",\"\",IF(IFERROR(SEARCH(\"*-*\",referentes!AJ1118),2)=1,IF(referentes!AJ1118=\"\",\"\",LEFT(referentes!AJ1118,FIND(\"*-*\",referentes!AJ1118)-1)),referentes!AJ1118))","v":""},null,""]
[null,null,null,null,null,null,null,null,null,null,null,null,null,null,null,null,null,null,{"$f":"IF(referentes!AJ1119=\"\",\"\",IF(IFERROR(SEARCH(\"*-*\",referentes!AJ1119),2)=1,IF(referentes!AJ1119=\"\",\"\",LEFT(referentes!AJ1119,FIND(\"*-*\",referentes!AJ1119)-1)),referentes!AJ1119))","v":""},null,""]
[null,null,null,null,null,null,null,null,null,null,null,null,null,null,null,null,null,null,{"$f":"IF(referentes!AJ1120=\"\",\"\",IF(IFERROR(SEARCH(\"*-*\",referentes!AJ1120),2)=1,IF(referentes!AJ1120=\"\",\"\",LEFT(referentes!AJ1120,FIND(\"*-*\",referentes!AJ1120)-1)),referentes!AJ1120))","v":""},null,""]
[null,null,null,null,null,null,null,null,null,null,null,null,null,null,null,null,null,null,{"$f":"IF(referentes!AJ1121=\"\",\"\",IF(IFERROR(SEARCH(\"*-*\",referentes!AJ1121),2)=1,IF(referentes!AJ1121=\"\",\"\",LEFT(referentes!AJ1121,FIND(\"*-*\",referentes!AJ1121)-1)),referentes!AJ1121))","v":""},null,""]
[null,null,null,null,null,null,null,null,null,null,null,null,null,null,null,null,null,null,{"$f":"IF(referentes!AJ1122=\"\",\"\",IF(IFERROR(SEARCH(\"*-*\",referentes!AJ1122),2)=1,IF(referentes!AJ1122=\"\",\"\",LEFT(referentes!AJ1122,FIND(\"*-*\",referentes!AJ1122)-1)),referentes!AJ1122))","v":""},null,""]
[null,null,null,null,null,null,null,null,null,null,null,null,null,null,null,null,null,null,{"$f":"IF(referentes!AJ1123=\"\",\"\",IF(IFERROR(SEARCH(\"*-*\",referentes!AJ1123),2)=1,IF(referentes!AJ1123=\"\",\"\",LEFT(referentes!AJ1123,FIND(\"*-*\",referentes!AJ1123)-1)),referentes!AJ1123))","v":""},null,""]
[null,null,null,null,null,null,null,null,null,null,null,null,null,null,null,null,null,null,{"$f":"IF(referentes!AJ1124=\"\",\"\",IF(IFERROR(SEARCH(\"*-*\",referentes!AJ1124),2)=1,IF(referentes!AJ1124=\"\",\"\",LEFT(referentes!AJ1124,FIND(\"*-*\",referentes!AJ1124)-1)),referentes!AJ1124))","v":""},null,""]
[null,null,null,null,null,null,null,null,null,null,null,null,null,null,null,null,null,null,{"$f":"IF(referentes!AJ1125=\"\",\"\",IF(IFERROR(SEARCH(\"*-*\",referentes!AJ1125),2)=1,IF(referentes!AJ1125=\"\",\"\",LEFT(referentes!AJ1125,FIND(\"*-*\",referentes!AJ1125)-1)),referentes!AJ1125))","v":""},null,""]
[null,null,null,null,null,null,null,null,null,null,null,null,null,null,null,null,null,null,{"$f":"IF(referentes!AJ1126=\"\",\"\",IF(IFERROR(SEARCH(\"*-*\",referentes!AJ1126),2)=1,IF(referentes!AJ1126=\"\",\"\",LEFT(referentes!AJ1126,FIND(\"*-*\",referentes!AJ1126)-1)),referentes!AJ1126))","v":""},null,""]
[null,null,null,null,null,null,null,null,null,null,null,null,null,null,null,null,null,null,{"$f":"IF(referentes!AJ1127=\"\",\"\",IF(IFERROR(SEARCH(\"*-*\",referentes!AJ1127),2)=1,IF(referentes!AJ1127=\"\",\"\",LEFT(referentes!AJ1127,FIND(\"*-*\",referentes!AJ1127)-1)),referentes!AJ1127))","v":""},null,""]
[null,null,null,null,null,null,null,null,null,null,null,null,null,null,null,null,null,null,{"$f":"IF(referentes!AJ1128=\"\",\"\",IF(IFERROR(SEARCH(\"*-*\",referentes!AJ1128),2)=1,IF(referentes!AJ1128=\"\",\"\",LEFT(referentes!AJ1128,FIND(\"*-*\",referentes!AJ1128)-1)),referentes!AJ1128))","v":""},null,""]
[null,null,null,null,null,null,null,null,null,null,null,null,null,null,null,null,null,null,{"$f":"IF(referentes!AJ1129=\"\",\"\",IF(IFERROR(SEARCH(\"*-*\",referentes!AJ1129),2)=1,IF(referentes!AJ1129=\"\",\"\",LEFT(referentes!AJ1129,FIND(\"*-*\",referentes!AJ1129)-1)),referentes!AJ1129))","v":""},null,""]
[null,null,null,null,null,null,null,null,null,null,null,null,null,null,null,null,null,null,{"$f":"IF(referentes!AJ1130=\"\",\"\",IF(IFERROR(SEARCH(\"*-*\",referentes!AJ1130),2)=1,IF(referentes!AJ1130=\"\",\"\",LEFT(referentes!AJ1130,FIND(\"*-*\",referentes!AJ1130)-1)),referentes!AJ1130))","v":""},null,""]
[null,null,null,null,null,null,null,null,null,null,null,null,null,null,null,null,null,null,{"$f":"IF(referentes!AJ1131=\"\",\"\",IF(IFERROR(SEARCH(\"*-*\",referentes!AJ1131),2)=1,IF(referentes!AJ1131=\"\",\"\",LEFT(referentes!AJ1131,FIND(\"*-*\",referentes!AJ1131)-1)),referentes!AJ1131))","v":""},null,""]
[null,null,null,null,null,null,null,null,null,null,null,null,null,null,null,null,null,null,{"$f":"IF(referentes!AJ1132=\"\",\"\",IF(IFERROR(SEARCH(\"*-*\",referentes!AJ1132),2)=1,IF(referentes!AJ1132=\"\",\"\",LEFT(referentes!AJ1132,FIND(\"*-*\",referentes!AJ1132)-1)),referentes!AJ1132))","v":""},null,""]
[null,null,null,null,null,null,null,null,null,null,null,null,null,null,null,null,null,null,{"$f":"IF(referentes!AJ1133=\"\",\"\",IF(IFERROR(SEARCH(\"*-*\",referentes!AJ1133),2)=1,IF(referentes!AJ1133=\"\",\"\",LEFT(referentes!AJ1133,FIND(\"*-*\",referentes!AJ1133)-1)),referentes!AJ1133))","v":""},null,""]
[null,null,null,null,null,null,null,null,null,null,null,null,null,null,null,null,null,null,{"$f":"IF(referentes!AJ1134=\"\",\"\",IF(IFERROR(SEARCH(\"*-*\",referentes!AJ1134),2)=1,IF(referentes!AJ1134=\"\",\"\",LEFT(referentes!AJ1134,FIND(\"*-*\",referentes!AJ1134)-1)),referentes!AJ1134))","v":""},null,""]
[null,null,null,null,null,null,null,null,null,null,null,null,null,null,null,null,null,null,{"$f":"IF(referentes!AJ1135=\"\",\"\",IF(IFERROR(SEARCH(\"*-*\",referentes!AJ1135),2)=1,IF(referentes!AJ1135=\"\",\"\",LEFT(referentes!AJ1135,FIND(\"*-*\",referentes!AJ1135)-1)),referentes!AJ1135))","v":""},null,""]
[null,null,null,null,null,null,null,null,null,null,null,null,null,null,null,null,null,null,{"$f":"IF(referentes!AJ1136=\"\",\"\",IF(IFERROR(SEARCH(\"*-*\",referentes!AJ1136),2)=1,IF(referentes!AJ1136=\"\",\"\",LEFT(referentes!AJ1136,FIND(\"*-*\",referentes!AJ1136)-1)),referentes!AJ1136))","v":""},null,""]
[null,null,null,null,null,null,null,null,null,null,null,null,null,null,null,null,null,null,{"$f":"IF(referentes!AJ1137=\"\",\"\",IF(IFERROR(SEARCH(\"*-*\",referentes!AJ1137),2)=1,IF(referentes!AJ1137=\"\",\"\",LEFT(referentes!AJ1137,FIND(\"*-*\",referentes!AJ1137)-1)),referentes!AJ1137))","v":""},null,""]
[null,null,null,null,null,null,null,null,null,null,null,null,null,null,null,null,null,null,{"$f":"IF(referentes!AJ1138=\"\",\"\",IF(IFERROR(SEARCH(\"*-*\",referentes!AJ1138),2)=1,IF(referentes!AJ1138=\"\",\"\",LEFT(referentes!AJ1138,FIND(\"*-*\",referentes!AJ1138)-1)),referentes!AJ1138))","v":""},null,""]
[null,null,null,null,null,null,null,null,null,null,null,null,null,null,null,null,null,null,{"$f":"IF(referentes!AJ1139=\"\",\"\",IF(IFERROR(SEARCH(\"*-*\",referentes!AJ1139),2)=1,IF(referentes!AJ1139=\"\",\"\",LEFT(referentes!AJ1139,FIND(\"*-*\",referentes!AJ1139)-1)),referentes!AJ1139))","v":""},null,""]
[null,null,null,null,null,null,null,null,null,null,null,null,null,null,null,null,null,null,{"$f":"IF(referentes!AJ1140=\"\",\"\",IF(IFERROR(SEARCH(\"*-*\",referentes!AJ1140),2)=1,IF(referentes!AJ1140=\"\",\"\",LEFT(referentes!AJ1140,FIND(\"*-*\",referentes!AJ1140)-1)),referentes!AJ1140))","v":""},null,""]
[null,null,null,null,null,null,null,null,null,null,null,null,null,null,null,null,null,null,{"$f":"IF(referentes!AJ1141=\"\",\"\",IF(IFERROR(SEARCH(\"*-*\",referentes!AJ1141),2)=1,IF(referentes!AJ1141=\"\",\"\",LEFT(referentes!AJ1141,FIND(\"*-*\",referentes!AJ1141)-1)),referentes!AJ1141))","v":""},null,""]
[null,null,null,null,null,null,null,null,null,null,null,null,null,null,null,null,null,null,{"$f":"IF(referentes!AJ1142=\"\",\"\",IF(IFERROR(SEARCH(\"*-*\",referentes!AJ1142),2)=1,IF(referentes!AJ1142=\"\",\"\",LEFT(referentes!AJ1142,FIND(\"*-*\",referentes!AJ1142)-1)),referentes!AJ1142))","v":""},null,""]
[null,null,null,null,null,null,null,null,null,null,null,null,null,null,null,null,null,null,{"$f":"IF(referentes!AJ1143=\"\",\"\",IF(IFERROR(SEARCH(\"*-*\",referentes!AJ1143),2)=1,IF(referentes!AJ1143=\"\",\"\",LEFT(referentes!AJ1143,FIND(\"*-*\",referentes!AJ1143)-1)),referentes!AJ1143))","v":""},null,""]
[null,null,null,null,null,null,null,null,null,null,null,null,null,null,null,null,null,null,{"$f":"IF(referentes!AJ1144=\"\",\"\",IF(IFERROR(SEARCH(\"*-*\",referentes!AJ1144),2)=1,IF(referentes!AJ1144=\"\",\"\",LEFT(referentes!AJ1144,FIND(\"*-*\",referentes!AJ1144)-1)),referentes!AJ1144))","v":""},null,""]
[null,null,null,null,null,null,null,null,null,null,null,null,null,null,null,null,null,null,{"$f":"IF(referentes!AJ1145=\"\",\"\",IF(IFERROR(SEARCH(\"*-*\",referentes!AJ1145),2)=1,IF(referentes!AJ1145=\"\",\"\",LEFT(referentes!AJ1145,FIND(\"*-*\",referentes!AJ1145)-1)),referentes!AJ1145))","v":""},null,""]
[null,null,null,null,null,null,null,null,null,null,null,null,null,null,null,null,null,null,{"$f":"IF(referentes!AJ1146=\"\",\"\",IF(IFERROR(SEARCH(\"*-*\",referentes!AJ1146),2)=1,IF(referentes!AJ1146=\"\",\"\",LEFT(referentes!AJ1146,FIND(\"*-*\",referentes!AJ1146)-1)),referentes!AJ1146))","v":""},null,""]
[null,null,null,null,null,null,null,null,null,null,null,null,null,null,null,null,null,null,{"$f":"IF(referentes!AJ1147=\"\",\"\",IF(IFERROR(SEARCH(\"*-*\",referentes!AJ1147),2)=1,IF(referentes!AJ1147=\"\",\"\",LEFT(referentes!AJ1147,FIND(\"*-*\",referentes!AJ1147)-1)),referentes!AJ1147))","v":""},null,""]
[null,null,null,null,null,null,null,null,null,null,null,null,null,null,null,null,null,null,{"$f":"IF(referentes!AJ1148=\"\",\"\",IF(IFERROR(SEARCH(\"*-*\",referentes!AJ1148),2)=1,IF(referentes!AJ1148=\"\",\"\",LEFT(referentes!AJ1148,FIND(\"*-*\",referentes!AJ1148)-1)),referentes!AJ1148))","v":""},null,""]
[null,null,null,null,null,null,null,null,null,null,null,null,null,null,null,null,null,null,{"$f":"IF(referentes!AJ1149=\"\",\"\",IF(IFERROR(SEARCH(\"*-*\",referentes!AJ1149),2)=1,IF(referentes!AJ1149=\"\",\"\",LEFT(referentes!AJ1149,FIND(\"*-*\",referentes!AJ1149)-1)),referentes!AJ1149))","v":""},null,""]
[null,null,null,null,null,null,null,null,null,null,null,null,null,null,null,null,null,null,{"$f":"IF(referentes!AJ1150=\"\",\"\",IF(IFERROR(SEARCH(\"*-*\",referentes!AJ1150),2)=1,IF(referentes!AJ1150=\"\",\"\",LEFT(referentes!AJ1150,FIND(\"*-*\",referentes!AJ1150)-1)),referentes!AJ1150))","v":""},null,""]
[null,null,null,null,null,null,null,null,null,null,null,null,null,null,null,null,null,null,{"$f":"IF(referentes!AJ1151=\"\",\"\",IF(IFERROR(SEARCH(\"*-*\",referentes!AJ1151),2)=1,IF(referentes!AJ1151=\"\",\"\",LEFT(referentes!AJ1151,FIND(\"*-*\",referentes!AJ1151)-1)),referentes!AJ1151))","v":""},null,""]
[null,null,null,null,null,null,null,null,null,null,null,null,null,null,null,null,null,null,{"$f":"IF(referentes!AJ1152=\"\",\"\",IF(IFERROR(SEARCH(\"*-*\",referentes!AJ1152),2)=1,IF(referentes!AJ1152=\"\",\"\",LEFT(referentes!AJ1152,FIND(\"*-*\",referentes!AJ1152)-1)),referentes!AJ1152))","v":""},null,""]
[null,null,null,null,null,null,null,null,null,null,null,null,null,null,null,null,null,null,{"$f":"IF(referentes!AJ1153=\"\",\"\",IF(IFERROR(SEARCH(\"*-*\",referentes!AJ1153),2)=1,IF(referentes!AJ1153=\"\",\"\",LEFT(referentes!AJ1153,FIND(\"*-*\",referentes!AJ1153)-1)),referentes!AJ1153))","v":""},null,""]
[null,null,null,null,null,null,null,null,null,null,null,null,null,null,null,null,null,null,{"$f":"IF(referentes!AJ1154=\"\",\"\",IF(IFERROR(SEARCH(\"*-*\",referentes!AJ1154),2)=1,IF(referentes!AJ1154=\"\",\"\",LEFT(referentes!AJ1154,FIND(\"*-*\",referentes!AJ1154)-1)),referentes!AJ1154))","v":""},null,""]
[null,null,null,null,null,null,null,null,null,null,null,null,null,null,null,null,null,null,{"$f":"IF(referentes!AJ1155=\"\",\"\",IF(IFERROR(SEARCH(\"*-*\",referentes!AJ1155),2)=1,IF(referentes!AJ1155=\"\",\"\",LEFT(referentes!AJ1155,FIND(\"*-*\",referentes!AJ1155)-1)),referentes!AJ1155))","v":""},null,""]
[null,null,null,null,null,null,null,null,null,null,null,null,null,null,null,null,null,null,{"$f":"IF(referentes!AJ1156=\"\",\"\",IF(IFERROR(SEARCH(\"*-*\",referentes!AJ1156),2)=1,IF(referentes!AJ1156=\"\",\"\",LEFT(referentes!AJ1156,FIND(\"*-*\",referentes!AJ1156)-1)),referentes!AJ1156))","v":""},null,""]
[null,null,null,null,null,null,null,null,null,null,null,null,null,null,null,null,null,null,{"$f":"IF(referentes!AJ1157=\"\",\"\",IF(IFERROR(SEARCH(\"*-*\",referentes!AJ1157),2)=1,IF(referentes!AJ1157=\"\",\"\",LEFT(referentes!AJ1157,FIND(\"*-*\",referentes!AJ1157)-1)),referentes!AJ1157))","v":""},null,""]
[null,null,null,null,null,null,null,null,null,null,null,null,null,null,null,null,null,null,{"$f":"IF(referentes!AJ1158=\"\",\"\",IF(IFERROR(SEARCH(\"*-*\",referentes!AJ1158),2)=1,IF(referentes!AJ1158=\"\",\"\",LEFT(referentes!AJ1158,FIND(\"*-*\",referentes!AJ1158)-1)),referentes!AJ1158))","v":""},null,""]
[null,null,null,null,null,null,null,null,null,null,null,null,null,null,null,null,null,null,{"$f":"IF(referentes!AJ1159=\"\",\"\",IF(IFERROR(SEARCH(\"*-*\",referentes!AJ1159),2)=1,IF(referentes!AJ1159=\"\",\"\",LEFT(referentes!AJ1159,FIND(\"*-*\",referentes!AJ1159)-1)),referentes!AJ1159))","v":""},null,""]
[null,null,null,null,null,null,null,null,null,null,null,null,null,null,null,null,null,null,{"$f":"IF(referentes!AJ1160=\"\",\"\",IF(IFERROR(SEARCH(\"*-*\",referentes!AJ1160),2)=1,IF(referentes!AJ1160=\"\",\"\",LEFT(referentes!AJ1160,FIND(\"*-*\",referentes!AJ1160)-1)),referentes!AJ1160))","v":""},null,{"$f":"IF(IFERROR(T1159,R1159)=S1159,\"\",R1159)","v":""}]
[null,null,null,null,null,null,null,null,null,null,null,null,null,null,null,null,null,null,{"$f":"IF(referentes!AJ1161=\"\",\"\",IF(IFERROR(SEARCH(\"*-*\",referentes!AJ1161),2)=1,IF(referentes!AJ1161=\"\",\"\",LEFT(referentes!AJ1161,FIND(\"*-*\",referentes!AJ1161)-1)),referentes!AJ1161))","v":""},null,""]
[null,null,null,null,null,null,null,null,null,null,null,null,null,null,null,null,null,null,{"$f":"IF(referentes!AJ1162=\"\",\"\",IF(IFERROR(SEARCH(\"*-*\",referentes!AJ1162),2)=1,IF(referentes!AJ1162=\"\",\"\",LEFT(referentes!AJ1162,FIND(\"*-*\",referentes!AJ1162)-1)),referentes!AJ1162))","v":""},null,""]
[null,null,null,null,null,null,null,null,null,null,null,null,null,null,null,null,null,null,{"$f":"IF(referentes!AJ1163=\"\",\"\",IF(IFERROR(SEARCH(\"*-*\",referentes!AJ1163),2)=1,IF(referentes!AJ1163=\"\",\"\",LEFT(referentes!AJ1163,FIND(\"*-*\",referentes!AJ1163)-1)),referentes!AJ1163))","v":""},null,""]
[null,null,null,null,null,null,null,null,null,null,null,null,null,null,null,null,null,null,{"$f":"IF(referentes!AJ1164=\"\",\"\",IF(IFERROR(SEARCH(\"*-*\",referentes!AJ1164),2)=1,IF(referentes!AJ1164=\"\",\"\",LEFT(referentes!AJ1164,FIND(\"*-*\",referentes!AJ1164)-1)),referentes!AJ1164))","v":""},null,""]
[null,null,null,null,null,null,null,null,null,null,null,null,null,null,null,null,null,null,{"$f":"IF(referentes!AJ1165=\"\",\"\",IF(IFERROR(SEARCH(\"*-*\",referentes!AJ1165),2)=1,IF(referentes!AJ1165=\"\",\"\",LEFT(referentes!AJ1165,FIND(\"*-*\",referentes!AJ1165)-1)),referentes!AJ1165))","v":""},null,""]
[null,null,null,null,null,null,null,null,null,null,null,null,null,null,null,null,null,null,{"$f":"IF(referentes!AJ1166=\"\",\"\",IF(IFERROR(SEARCH(\"*-*\",referentes!AJ1166),2)=1,IF(referentes!AJ1166=\"\",\"\",LEFT(referentes!AJ1166,FIND(\"*-*\",referentes!AJ1166)-1)),referentes!AJ1166))","v":""},null,""]
[null,null,null,null,null,null,null,null,null,null,null,null,null,null,null,null,null,null,{"$f":"IF(referentes!AJ1167=\"\",\"\",IF(IFERROR(SEARCH(\"*-*\",referentes!AJ1167),2)=1,IF(referentes!AJ1167=\"\",\"\",LEFT(referentes!AJ1167,FIND(\"*-*\",referentes!AJ1167)-1)),referentes!AJ1167))","v":""},null,""]
[null,null,null,null,null,null,null,null,null,null,null,null,null,null,null,null,null,null,{"$f":"IF(referentes!AJ1168=\"\",\"\",IF(IFERROR(SEARCH(\"*-*\",referentes!AJ1168),2)=1,IF(referentes!AJ1168=\"\",\"\",LEFT(referentes!AJ1168,FIND(\"*-*\",referentes!AJ1168)-1)),referentes!AJ1168))","v":""},null,""]
[null,null,null,null,null,null,null,null,null,null,null,null,null,null,null,null,null,null,{"$f":"IF(referentes!AJ1169=\"\",\"\",IF(IFERROR(SEARCH(\"*-*\",referentes!AJ1169),2)=1,IF(referentes!AJ1169=\"\",\"\",LEFT(referentes!AJ1169,FIND(\"*-*\",referentes!AJ1169)-1)),referentes!AJ1169))","v":""},null,""]
[null,null,null,null,null,null,null,null,null,null,null,null,null,null,null,null,null,null,{"$f":"IF(referentes!AJ1170=\"\",\"\",IF(IFERROR(SEARCH(\"*-*\",referentes!AJ1170),2)=1,IF(referentes!AJ1170=\"\",\"\",LEFT(referentes!AJ1170,FIND(\"*-*\",referentes!AJ1170)-1)),referentes!AJ1170))","v":""},null,""]
[null,null,null,null,null,null,null,null,null,null,null,null,null,null,null,null,null,null,{"$f":"IF(referentes!AJ1171=\"\",\"\",IF(IFERROR(SEARCH(\"*-*\",referentes!AJ1171),2)=1,IF(referentes!AJ1171=\"\",\"\",LEFT(referentes!AJ1171,FIND(\"*-*\",referentes!AJ1171)-1)),referentes!AJ1171))","v":""},null,""]
[null,null,null,null,null,null,null,null,null,null,null,null,null,null,null,null,null,null,{"$f":"IF(referentes!AJ1172=\"\",\"\",IF(IFERROR(SEARCH(\"*-*\",referentes!AJ1172),2)=1,IF(referentes!AJ1172=\"\",\"\",LEFT(referentes!AJ1172,FIND(\"*-*\",referentes!AJ1172)-1)),referentes!AJ1172))","v":""},null,""]
[null,null,null,null,null,null,null,null,null,null,null,null,null,null,null,null,null,null,{"$f":"IF(referentes!AJ1173=\"\",\"\",IF(IFERROR(SEARCH(\"*-*\",referentes!AJ1173),2)=1,IF(referentes!AJ1173=\"\",\"\",LEFT(referentes!AJ1173,FIND(\"*-*\",referentes!AJ1173)-1)),referentes!AJ1173))","v":""},null,""]
[null,null,null,null,null,null,null,null,null,null,null,null,null,null,null,null,null,null,{"$f":"IF(referentes!AJ1174=\"\",\"\",IF(IFERROR(SEARCH(\"*-*\",referentes!AJ1174),2)=1,IF(referentes!AJ1174=\"\",\"\",LEFT(referentes!AJ1174,FIND(\"*-*\",referentes!AJ1174)-1)),referentes!AJ1174))","v":""},null,""]
[null,null,null,null,null,null,null,null,null,null,null,null,null,null,null,null,null,null,{"$f":"IF(referentes!AJ1175=\"\",\"\",IF(IFERROR(SEARCH(\"*-*\",referentes!AJ1175),2)=1,IF(referentes!AJ1175=\"\",\"\",LEFT(referentes!AJ1175,FIND(\"*-*\",referentes!AJ1175)-1)),referentes!AJ1175))","v":""},null,""]
[null,null,null,null,null,null,null,null,null,null,null,null,null,null,null,null,null,null,{"$f":"IF(referentes!AJ1176=\"\",\"\",IF(IFERROR(SEARCH(\"*-*\",referentes!AJ1176),2)=1,IF(referentes!AJ1176=\"\",\"\",LEFT(referentes!AJ1176,FIND(\"*-*\",referentes!AJ1176)-1)),referentes!AJ1176))","v":""},null,""]
[null,null,null,null,null,null,null,null,null,null,null,null,null,null,null,null,null,null,{"$f":"IF(referentes!AJ1177=\"\",\"\",IF(IFERROR(SEARCH(\"*-*\",referentes!AJ1177),2)=1,IF(referentes!AJ1177=\"\",\"\",LEFT(referentes!AJ1177,FIND(\"*-*\",referentes!AJ1177)-1)),referentes!AJ1177))","v":""},null,""]
[null,null,null,null,null,null,null,null,null,null,null,null,null,null,null,null,null,null,{"$f":"IF(referentes!AJ1178=\"\",\"\",IF(IFERROR(SEARCH(\"*-*\",referentes!AJ1178),2)=1,IF(referentes!AJ1178=\"\",\"\",LEFT(referentes!AJ1178,FIND(\"*-*\",referentes!AJ1178)-1)),referentes!AJ1178))","v":""},null,""]
[null,null,null,null,null,null,null,null,null,null,null,null,null,null,null,null,null,null,{"$f":"IF(referentes!AJ1179=\"\",\"\",IF(IFERROR(SEARCH(\"*-*\",referentes!AJ1179),2)=1,IF(referentes!AJ1179=\"\",\"\",LEFT(referentes!AJ1179,FIND(\"*-*\",referentes!AJ1179)-1)),referentes!AJ1179))","v":""},null,""]
[null,null,null,null,null,null,null,null,null,null,null,null,null,null,null,null,null,null,{"$f":"IF(referentes!AJ1180=\"\",\"\",IF(IFERROR(SEARCH(\"*-*\",referentes!AJ1180),2)=1,IF(referentes!AJ1180=\"\",\"\",LEFT(referentes!AJ1180,FIND(\"*-*\",referentes!AJ1180)-1)),referentes!AJ1180))","v":""},null,""]
[null,null,null,null,null,null,null,null,null,null,null,null,null,null,null,null,null,null,{"$f":"IF(referentes!AJ1181=\"\",\"\",IF(IFERROR(SEARCH(\"*-*\",referentes!AJ1181),2)=1,IF(referentes!AJ1181=\"\",\"\",LEFT(referentes!AJ1181,FIND(\"*-*\",referentes!AJ1181)-1)),referentes!AJ1181))","v":""},null,""]
[null,null,null,null,null,null,null,null,null,null,null,null,null,null,null,null,null,null,{"$f":"IF(referentes!AJ1182=\"\",\"\",IF(IFERROR(SEARCH(\"*-*\",referentes!AJ1182),2)=1,IF(referentes!AJ1182=\"\",\"\",LEFT(referentes!AJ1182,FIND(\"*-*\",referentes!AJ1182)-1)),referentes!AJ1182))","v":""},null,""]
[null,null,null,null,null,null,null,null,null,null,null,null,null,null,null,null,null,null,{"$f":"IF(referentes!AJ1183=\"\",\"\",IF(IFERROR(SEARCH(\"*-*\",referentes!AJ1183),2)=1,IF(referentes!AJ1183=\"\",\"\",LEFT(referentes!AJ1183,FIND(\"*-*\",referentes!AJ1183)-1)),referentes!AJ1183))","v":""},null,""]
[null,null,null,null,null,null,null,null,null,null,null,null,null,null,null,null,null,null,{"$f":"IF(referentes!AJ1184=\"\",\"\",IF(IFERROR(SEARCH(\"*-*\",referentes!AJ1184),2)=1,IF(referentes!AJ1184=\"\",\"\",LEFT(referentes!AJ1184,FIND(\"*-*\",referentes!AJ1184)-1)),referentes!AJ1184))","v":""},null,""]
[null,null,null,null,null,null,null,null,null,null,null,null,null,null,null,null,null,null,{"$f":"IF(referentes!AJ1185=\"\",\"\",IF(IFERROR(SEARCH(\"*-*\",referentes!AJ1185),2)=1,IF(referentes!AJ1185=\"\",\"\",LEFT(referentes!AJ1185,FIND(\"*-*\",referentes!AJ1185)-1)),referentes!AJ1185))","v":""},null,""]
[null,null,null,null,null,null,null,null,null,null,null,null,null,null,null,null,null,null,{"$f":"IF(referentes!AJ1186=\"\",\"\",IF(IFERROR(SEARCH(\"*-*\",referentes!AJ1186),2)=1,IF(referentes!AJ1186=\"\",\"\",LEFT(referentes!AJ1186,FIND(\"*-*\",referentes!AJ1186)-1)),referentes!AJ1186))","v":""},null,""]
[null,null,null,null,null,null,null,null,null,null,null,null,null,null,null,null,null,null,{"$f":"IF(referentes!AJ1187=\"\",\"\",IF(IFERROR(SEARCH(\"*-*\",referentes!AJ1187),2)=1,IF(referentes!AJ1187=\"\",\"\",LEFT(referentes!AJ1187,FIND(\"*-*\",referentes!AJ1187)-1)),referentes!AJ1187))","v":""},null,""]
[null,null,null,null,null,null,null,null,null,null,null,null,null,null,null,null,null,null,{"$f":"IF(referentes!AJ1188=\"\",\"\",IF(IFERROR(SEARCH(\"*-*\",referentes!AJ1188),2)=1,IF(referentes!AJ1188=\"\",\"\",LEFT(referentes!AJ1188,FIND(\"*-*\",referentes!AJ1188)-1)),referentes!AJ1188))","v":""},null,""]
[null,null,null,null,null,null,null,null,null,null,null,null,null,null,null,null,null,null,{"$f":"IF(referentes!AJ1189=\"\",\"\",IF(IFERROR(SEARCH(\"*-*\",referentes!AJ1189),2)=1,IF(referentes!AJ1189=\"\",\"\",LEFT(referentes!AJ1189,FIND(\"*-*\",referentes!AJ1189)-1)),referentes!AJ1189))","v":""},null,""]
[null,null,null,null,null,null,null,null,null,null,null,null,null,null,null,null,null,null,{"$f":"IF(referentes!AJ1190=\"\",\"\",IF(IFERROR(SEARCH(\"*-*\",referentes!AJ1190),2)=1,IF(referentes!AJ1190=\"\",\"\",LEFT(referentes!AJ1190,FIND(\"*-*\",referentes!AJ1190)-1)),referentes!AJ1190))","v":""},null,""]
[null,null,null,null,null,null,null,null,null,null,null,null,null,null,null,null,null,null,{"$f":"IF(referentes!AJ1191=\"\",\"\",IF(IFERROR(SEARCH(\"*-*\",referentes!AJ1191),2)=1,IF(referentes!AJ1191=\"\",\"\",LEFT(referentes!AJ1191,FIND(\"*-*\",referentes!AJ1191)-1)),referentes!AJ1191))","v":""},null,""]
[null,null,null,null,null,null,null,null,null,null,null,null,null,null,null,null,null,null,{"$f":"IF(referentes!AJ1192=\"\",\"\",IF(IFERROR(SEARCH(\"*-*\",referentes!AJ1192),2)=1,IF(referentes!AJ1192=\"\",\"\",LEFT(referentes!AJ1192,FIND(\"*-*\",referentes!AJ1192)-1)),referentes!AJ1192))","v":""},null,""]
[null,null,null,null,null,null,null,null,null,null,null,null,null,null,null,null,null,null,{"$f":"IF(referentes!AJ1193=\"\",\"\",IF(IFERROR(SEARCH(\"*-*\",referentes!AJ1193),2)=1,IF(referentes!AJ1193=\"\",\"\",LEFT(referentes!AJ1193,FIND(\"*-*\",referentes!AJ1193)-1)),referentes!AJ1193))","v":""},null,""]
[null,null,null,null,null,null,null,null,null,null,null,null,null,null,null,null,null,null,{"$f":"IF(referentes!AJ1194=\"\",\"\",IF(IFERROR(SEARCH(\"*-*\",referentes!AJ1194),2)=1,IF(referentes!AJ1194=\"\",\"\",LEFT(referentes!AJ1194,FIND(\"*-*\",referentes!AJ1194)-1)),referentes!AJ1194))","v":""},null,""]
[null,null,null,null,null,null,null,null,null,null,null,null,null,null,null,null,null,null,{"$f":"IF(referentes!AJ1195=\"\",\"\",IF(IFERROR(SEARCH(\"*-*\",referentes!AJ1195),2)=1,IF(referentes!AJ1195=\"\",\"\",LEFT(referentes!AJ1195,FIND(\"*-*\",referentes!AJ1195)-1)),referentes!AJ1195))","v":""},null,""]
[null,null,null,null,null,null,null,null,null,null,null,null,null,null,null,null,null,null,{"$f":"IF(referentes!AJ1196=\"\",\"\",IF(IFERROR(SEARCH(\"*-*\",referentes!AJ1196),2)=1,IF(referentes!AJ1196=\"\",\"\",LEFT(referentes!AJ1196,FIND(\"*-*\",referentes!AJ1196)-1)),referentes!AJ1196))","v":""},null,""]
[null,null,null,null,null,null,null,null,null,null,null,null,null,null,null,null,null,null,{"$f":"IF(referentes!AJ1197=\"\",\"\",IF(IFERROR(SEARCH(\"*-*\",referentes!AJ1197),2)=1,IF(referentes!AJ1197=\"\",\"\",LEFT(referentes!AJ1197,FIND(\"*-*\",referentes!AJ1197)-1)),referentes!AJ1197))","v":""},null,""]
[null,null,null,null,null,null,null,null,null,null,null,null,null,null,null,null,null,null,{"$f":"IF(referentes!AJ1198=\"\",\"\",IF(IFERROR(SEARCH(\"*-*\",referentes!AJ1198),2)=1,IF(referentes!AJ1198=\"\",\"\",LEFT(referentes!AJ1198,FIND(\"*-*\",referentes!AJ1198)-1)),referentes!AJ1198))","v":""},null,""]
[null,null,null,null,null,null,null,null,null,null,null,null,null,null,null,null,null,null,{"$f":"IF(referentes!AJ1199=\"\",\"\",IF(IFERROR(SEARCH(\"*-*\",referentes!AJ1199),2)=1,IF(referentes!AJ1199=\"\",\"\",LEFT(referentes!AJ1199,FIND(\"*-*\",referentes!AJ1199)-1)),referentes!AJ1199))","v":""},null,""]
[null,null,null,null,null,null,null,null,null,null,null,null,null,null,null,null,null,null,{"$f":"IF(referentes!AJ1200=\"\",\"\",IF(IFERROR(SEARCH(\"*-*\",referentes!AJ1200),2)=1,IF(referentes!AJ1200=\"\",\"\",LEFT(referentes!AJ1200,FIND(\"*-*\",referentes!AJ1200)-1)),referentes!AJ1200))","v":""},null,""]
[null,null,null,null,null,null,null,null,null,null,null,null,null,null,null,null,null,null,{"$f":"IF(referentes!AJ1201=\"\",\"\",IF(IFERROR(SEARCH(\"*-*\",referentes!AJ1201),2)=1,IF(referentes!AJ1201=\"\",\"\",LEFT(referentes!AJ1201,FIND(\"*-*\",referentes!AJ1201)-1)),referentes!AJ1201))","v":""},null,""]
[null,null,null,null,null,null,null,null,null,null,null,null,null,null,null,null,null,null,{"$f":"IF(referentes!AJ1202=\"\",\"\",IF(IFERROR(SEARCH(\"*-*\",referentes!AJ1202),2)=1,IF(referentes!AJ1202=\"\",\"\",LEFT(referentes!AJ1202,FIND(\"*-*\",referentes!AJ1202)-1)),referentes!AJ1202))","v":""},null,""]
[null,null,null,null,null,null,null,null,null,null,null,null,null,null,null,null,null,null,{"$f":"IF(referentes!AJ1203=\"\",\"\",IF(IFERROR(SEARCH(\"*-*\",referentes!AJ1203),2)=1,IF(referentes!AJ1203=\"\",\"\",LEFT(referentes!AJ1203,FIND(\"*-*\",referentes!AJ1203)-1)),referentes!AJ1203))","v":""},null,""]
[null,null,null,null,null,null,null,null,null,null,null,null,null,null,null,null,null,null,{"$f":"IF(referentes!AJ1204=\"\",\"\",IF(IFERROR(SEARCH(\"*-*\",referentes!AJ1204),2)=1,IF(referentes!AJ1204=\"\",\"\",LEFT(referentes!AJ1204,FIND(\"*-*\",referentes!AJ1204)-1)),referentes!AJ1204))","v":""},null,""]
[null,null,null,null,null,null,null,null,null,null,null,null,null,null,null,null,null,null,{"$f":"IF(referentes!AJ1205=\"\",\"\",IF(IFERROR(SEARCH(\"*-*\",referentes!AJ1205),2)=1,IF(referentes!AJ1205=\"\",\"\",LEFT(referentes!AJ1205,FIND(\"*-*\",referentes!AJ1205)-1)),referentes!AJ1205))","v":""},null,""]
[null,null,null,null,null,null,null,null,null,null,null,null,null,null,null,null,null,null,{"$f":"IF(referentes!AJ1206=\"\",\"\",IF(IFERROR(SEARCH(\"*-*\",referentes!AJ1206),2)=1,IF(referentes!AJ1206=\"\",\"\",LEFT(referentes!AJ1206,FIND(\"*-*\",referentes!AJ1206)-1)),referentes!AJ1206))","v":""},null,""]
[null,null,null,null,null,null,null,null,null,null,null,null,null,null,null,null,null,null,{"$f":"IF(referentes!AJ1207=\"\",\"\",IF(IFERROR(SEARCH(\"*-*\",referentes!AJ1207),2)=1,IF(referentes!AJ1207=\"\",\"\",LEFT(referentes!AJ1207,FIND(\"*-*\",referentes!AJ1207)-1)),referentes!AJ1207))","v":""},null,""]
[null,null,null,null,null,null,null,null,null,null,null,null,null,null,null,null,null,null,{"$f":"IF(referentes!AJ1208=\"\",\"\",IF(IFERROR(SEARCH(\"*-*\",referentes!AJ1208),2)=1,IF(referentes!AJ1208=\"\",\"\",LEFT(referentes!AJ1208,FIND(\"*-*\",referentes!AJ1208)-1)),referentes!AJ1208))","v":""},null,""]
[null,null,null,null,null,null,null,null,null,null,null,null,null,null,null,null,null,null,{"$f":"IF(referentes!AJ1209=\"\",\"\",IF(IFERROR(SEARCH(\"*-*\",referentes!AJ1209),2)=1,IF(referentes!AJ1209=\"\",\"\",LEFT(referentes!AJ1209,FIND(\"*-*\",referentes!AJ1209)-1)),referentes!AJ1209))","v":""},null,""]
[null,null,null,null,null,null,null,null,null,null,null,null,null,null,null,null,null,null,{"$f":"IF(referentes!AJ1210=\"\",\"\",IF(IFERROR(SEARCH(\"*-*\",referentes!AJ1210),2)=1,IF(referentes!AJ1210=\"\",\"\",LEFT(referentes!AJ1210,FIND(\"*-*\",referentes!AJ1210)-1)),referentes!AJ1210))","v":""},null,""]
[null,null,null,null,null,null,null,null,null,null,null,null,null,null,null,null,null,null,{"$f":"IF(referentes!AJ1211=\"\",\"\",IF(IFERROR(SEARCH(\"*-*\",referentes!AJ1211),2)=1,IF(referentes!AJ1211=\"\",\"\",LEFT(referentes!AJ1211,FIND(\"*-*\",referentes!AJ1211)-1)),referentes!AJ1211))","v":""},null,""]
[null,null,null,null,null,null,null,null,null,null,null,null,null,null,null,null,null,null,{"$f":"IF(referentes!AJ1212=\"\",\"\",IF(IFERROR(SEARCH(\"*-*\",referentes!AJ1212),2)=1,IF(referentes!AJ1212=\"\",\"\",LEFT(referentes!AJ1212,FIND(\"*-*\",referentes!AJ1212)-1)),referentes!AJ1212))","v":""},null,""]
[null,null,null,null,null,null,null,null,null,null,null,null,null,null,null,null,null,null,{"$f":"IF(referentes!AJ1213=\"\",\"\",IF(IFERROR(SEARCH(\"*-*\",referentes!AJ1213),2)=1,IF(referentes!AJ1213=\"\",\"\",LEFT(referentes!AJ1213,FIND(\"*-*\",referentes!AJ1213)-1)),referentes!AJ1213))","v":""},null,""]
[null,null,null,null,null,null,null,null,null,null,null,null,null,null,null,null,null,null,{"$f":"IF(referentes!AJ1214=\"\",\"\",IF(IFERROR(SEARCH(\"*-*\",referentes!AJ1214),2)=1,IF(referentes!AJ1214=\"\",\"\",LEFT(referentes!AJ1214,FIND(\"*-*\",referentes!AJ1214)-1)),referentes!AJ1214))","v":""},null,""]
[null,null,null,null,null,null,null,null,null,null,null,null,null,null,null,null,null,null,{"$f":"IF(referentes!AJ1215=\"\",\"\",IF(IFERROR(SEARCH(\"*-*\",referentes!AJ1215),2)=1,IF(referentes!AJ1215=\"\",\"\",LEFT(referentes!AJ1215,FIND(\"*-*\",referentes!AJ1215)-1)),referentes!AJ1215))","v":""},null,""]
[null,null,null,null,null,null,null,null,null,null,null,null,null,null,null,null,null,null,{"$f":"IF(referentes!AJ1216=\"\",\"\",IF(IFERROR(SEARCH(\"*-*\",referentes!AJ1216),2)=1,IF(referentes!AJ1216=\"\",\"\",LEFT(referentes!AJ1216,FIND(\"*-*\",referentes!AJ1216)-1)),referentes!AJ1216))","v":""},null,""]
[null,null,null,null,null,null,null,null,null,null,null,null,null,null,null,null,null,null,{"$f":"IF(referentes!AJ1217=\"\",\"\",IF(IFERROR(SEARCH(\"*-*\",referentes!AJ1217),2)=1,IF(referentes!AJ1217=\"\",\"\",LEFT(referentes!AJ1217,FIND(\"*-*\",referentes!AJ1217)-1)),referentes!AJ1217))","v":""},null,""]
[null,null,null,null,null,null,null,null,null,null,null,null,null,null,null,null,null,null,{"$f":"IF(referentes!AJ1218=\"\",\"\",IF(IFERROR(SEARCH(\"*-*\",referentes!AJ1218),2)=1,IF(referentes!AJ1218=\"\",\"\",LEFT(referentes!AJ1218,FIND(\"*-*\",referentes!AJ1218)-1)),referentes!AJ1218))","v":""},null,""]
[null,null,null,null,null,null,null,null,null,null,null,null,null,null,null,null,null,null,{"$f":"IF(referentes!AJ1219=\"\",\"\",IF(IFERROR(SEARCH(\"*-*\",referentes!AJ1219),2)=1,IF(referentes!AJ1219=\"\",\"\",LEFT(referentes!AJ1219,FIND(\"*-*\",referentes!AJ1219)-1)),referentes!AJ1219))","v":""},null,""]
[null,null,null,null,null,null,null,null,null,null,null,null,null,null,null,null,null,null,{"$f":"IF(referentes!AJ1220=\"\",\"\",IF(IFERROR(SEARCH(\"*-*\",referentes!AJ1220),2)=1,IF(referentes!AJ1220=\"\",\"\",LEFT(referentes!AJ1220,FIND(\"*-*\",referentes!AJ1220)-1)),referentes!AJ1220))","v":""},null,""]
[null,null,null,null,null,null,null,null,null,null,null,null,null,null,null,null,null,null,{"$f":"IF(referentes!AJ1221=\"\",\"\",IF(IFERROR(SEARCH(\"*-*\",referentes!AJ1221),2)=1,IF(referentes!AJ1221=\"\",\"\",LEFT(referentes!AJ1221,FIND(\"*-*\",referentes!AJ1221)-1)),referentes!AJ1221))","v":""},null,""]
[null,null,null,null,null,null,null,null,null,null,null,null,null,null,null,null,null,null,{"$f":"IF(referentes!AJ1222=\"\",\"\",IF(IFERROR(SEARCH(\"*-*\",referentes!AJ1222),2)=1,IF(referentes!AJ1222=\"\",\"\",LEFT(referentes!AJ1222,FIND(\"*-*\",referentes!AJ1222)-1)),referentes!AJ1222))","v":""},null,""]
[null,null,null,null,null,null,null,null,null,null,null,null,null,null,null,null,null,null,{"$f":"IF(referentes!AJ1223=\"\",\"\",IF(IFERROR(SEARCH(\"*-*\",referentes!AJ1223),2)=1,IF(referentes!AJ1223=\"\",\"\",LEFT(referentes!AJ1223,FIND(\"*-*\",referentes!AJ1223)-1)),referentes!AJ1223))","v":""},null,""]
[null,null,null,null,null,null,null,null,null,null,null,null,null,null,null,null,null,null,{"$f":"IF(referentes!AJ1224=\"\",\"\",IF(IFERROR(SEARCH(\"*-*\",referentes!AJ1224),2)=1,IF(referentes!AJ1224=\"\",\"\",LEFT(referentes!AJ1224,FIND(\"*-*\",referentes!AJ1224)-1)),referentes!AJ1224))","v":""},null,{"$f":"IF(IFERROR(T1223,R1223)=S1223,\"\",R1223)","v":""}]
[null,null,null,null,null,null,null,null,null,null,null,null,null,null,null,null,null,null,{"$f":"IF(referentes!AJ1225=\"\",\"\",IF(IFERROR(SEARCH(\"*-*\",referentes!AJ1225),2)=1,IF(referentes!AJ1225=\"\",\"\",LEFT(referentes!AJ1225,FIND(\"*-*\",referentes!AJ1225)-1)),referentes!AJ1225))","v":""},null,""]
[null,null,null,null,null,null,null,null,null,null,null,null,null,null,null,null,null,null,{"$f":"IF(referentes!AJ1226=\"\",\"\",IF(IFERROR(SEARCH(\"*-*\",referentes!AJ1226),2)=1,IF(referentes!AJ1226=\"\",\"\",LEFT(referentes!AJ1226,FIND(\"*-*\",referentes!AJ1226)-1)),referentes!AJ1226))","v":""},null,""]
[null,null,null,null,null,null,null,null,null,null,null,null,null,null,null,null,null,null,{"$f":"IF(referentes!AJ1227=\"\",\"\",IF(IFERROR(SEARCH(\"*-*\",referentes!AJ1227),2)=1,IF(referentes!AJ1227=\"\",\"\",LEFT(referentes!AJ1227,FIND(\"*-*\",referentes!AJ1227)-1)),referentes!AJ1227))","v":""},null,""]
[null,null,null,null,null,null,null,null,null,null,null,null,null,null,null,null,null,null,{"$f":"IF(referentes!AJ1228=\"\",\"\",IF(IFERROR(SEARCH(\"*-*\",referentes!AJ1228),2)=1,IF(referentes!AJ1228=\"\",\"\",LEFT(referentes!AJ1228,FIND(\"*-*\",referentes!AJ1228)-1)),referentes!AJ1228))","v":""},null,""]
[null,null,null,null,null,null,null,null,null,null,null,null,null,null,null,null,null,null,{"$f":"IF(referentes!AJ1229=\"\",\"\",IF(IFERROR(SEARCH(\"*-*\",referentes!AJ1229),2)=1,IF(referentes!AJ1229=\"\",\"\",LEFT(referentes!AJ1229,FIND(\"*-*\",referentes!AJ1229)-1)),referentes!AJ1229))","v":""},null,""]
[null,null,null,null,null,null,null,null,null,null,null,null,null,null,null,null,null,null,{"$f":"IF(referentes!AJ1230=\"\",\"\",IF(IFERROR(SEARCH(\"*-*\",referentes!AJ1230),2)=1,IF(referentes!AJ1230=\"\",\"\",LEFT(referentes!AJ1230,FIND(\"*-*\",referentes!AJ1230)-1)),referentes!AJ1230))","v":""},null,""]
[null,null,null,null,null,null,null,null,null,null,null,null,null,null,null,null,null,null,{"$f":"IF(referentes!AJ1231=\"\",\"\",IF(IFERROR(SEARCH(\"*-*\",referentes!AJ1231),2)=1,IF(referentes!AJ1231=\"\",\"\",LEFT(referentes!AJ1231,FIND(\"*-*\",referentes!AJ1231)-1)),referentes!AJ1231))","v":""},null,""]
[null,null,null,null,null,null,null,null,null,null,null,null,null,null,null,null,null,null,{"$f":"IF(referentes!AJ1232=\"\",\"\",IF(IFERROR(SEARCH(\"*-*\",referentes!AJ1232),2)=1,IF(referentes!AJ1232=\"\",\"\",LEFT(referentes!AJ1232,FIND(\"*-*\",referentes!AJ1232)-1)),referentes!AJ1232))","v":""},null,""]
[null,null,null,null,null,null,null,null,null,null,null,null,null,null,null,null,null,null,{"$f":"IF(referentes!AJ1233=\"\",\"\",IF(IFERROR(SEARCH(\"*-*\",referentes!AJ1233),2)=1,IF(referentes!AJ1233=\"\",\"\",LEFT(referentes!AJ1233,FIND(\"*-*\",referentes!AJ1233)-1)),referentes!AJ1233))","v":""},null,""]
[null,null,null,null,null,null,null,null,null,null,null,null,null,null,null,null,null,null,{"$f":"IF(referentes!AJ1234=\"\",\"\",IF(IFERROR(SEARCH(\"*-*\",referentes!AJ1234),2)=1,IF(referentes!AJ1234=\"\",\"\",LEFT(referentes!AJ1234,FIND(\"*-*\",referentes!AJ1234)-1)),referentes!AJ1234))","v":""},null,""]
[null,null,null,null,null,null,null,null,null,null,null,null,null,null,null,null,null,null,{"$f":"IF(referentes!AJ1235=\"\",\"\",IF(IFERROR(SEARCH(\"*-*\",referentes!AJ1235),2)=1,IF(referentes!AJ1235=\"\",\"\",LEFT(referentes!AJ1235,FIND(\"*-*\",referentes!AJ1235)-1)),referentes!AJ1235))","v":""},null,""]
[null,null,null,null,null,null,null,null,null,null,null,null,null,null,null,null,null,null,{"$f":"IF(referentes!AJ1236=\"\",\"\",IF(IFERROR(SEARCH(\"*-*\",referentes!AJ1236),2)=1,IF(referentes!AJ1236=\"\",\"\",LEFT(referentes!AJ1236,FIND(\"*-*\",referentes!AJ1236)-1)),referentes!AJ1236))","v":""},null,""]
[null,null,null,null,null,null,null,null,null,null,null,null,null,null,null,null,null,null,{"$f":"IF(referentes!AJ1237=\"\",\"\",IF(IFERROR(SEARCH(\"*-*\",referentes!AJ1237),2)=1,IF(referentes!AJ1237=\"\",\"\",LEFT(referentes!AJ1237,FIND(\"*-*\",referentes!AJ1237)-1)),referentes!AJ1237))","v":""},null,""]
[null,null,null,null,null,null,null,null,null,null,null,null,null,null,null,null,null,null,{"$f":"IF(referentes!AJ1238=\"\",\"\",IF(IFERROR(SEARCH(\"*-*\",referentes!AJ1238),2)=1,IF(referentes!AJ1238=\"\",\"\",LEFT(referentes!AJ1238,FIND(\"*-*\",referentes!AJ1238)-1)),referentes!AJ1238))","v":""},null,""]
[null,null,null,null,null,null,null,null,null,null,null,null,null,null,null,null,null,null,{"$f":"IF(referentes!AJ1239=\"\",\"\",IF(IFERROR(SEARCH(\"*-*\",referentes!AJ1239),2)=1,IF(referentes!AJ1239=\"\",\"\",LEFT(referentes!AJ1239,FIND(\"*-*\",referentes!AJ1239)-1)),referentes!AJ1239))","v":""},null,""]
[null,null,null,null,null,null,null,null,null,null,null,null,null,null,null,null,null,null,{"$f":"IF(referentes!AJ1240=\"\",\"\",IF(IFERROR(SEARCH(\"*-*\",referentes!AJ1240),2)=1,IF(referentes!AJ1240=\"\",\"\",LEFT(referentes!AJ1240,FIND(\"*-*\",referentes!AJ1240)-1)),referentes!AJ1240))","v":""},null,""]
[null,null,null,null,null,null,null,null,null,null,null,null,null,null,null,null,null,null,{"$f":"IF(referentes!AJ1241=\"\",\"\",IF(IFERROR(SEARCH(\"*-*\",referentes!AJ1241),2)=1,IF(referentes!AJ1241=\"\",\"\",LEFT(referentes!AJ1241,FIND(\"*-*\",referentes!AJ1241)-1)),referentes!AJ1241))","v":""},null,""]
[null,null,null,null,null,null,null,null,null,null,null,null,null,null,null,null,null,null,{"$f":"IF(referentes!AJ1242=\"\",\"\",IF(IFERROR(SEARCH(\"*-*\",referentes!AJ1242),2)=1,IF(referentes!AJ1242=\"\",\"\",LEFT(referentes!AJ1242,FIND(\"*-*\",referentes!AJ1242)-1)),referentes!AJ1242))","v":""},null,""]
[null,null,null,null,null,null,null,null,null,null,null,null,null,null,null,null,null,null,{"$f":"IF(referentes!AJ1243=\"\",\"\",IF(IFERROR(SEARCH(\"*-*\",referentes!AJ1243),2)=1,IF(referentes!AJ1243=\"\",\"\",LEFT(referentes!AJ1243,FIND(\"*-*\",referentes!AJ1243)-1)),referentes!AJ1243))","v":""},null,""]
[null,null,null,null,null,null,null,null,null,null,null,null,null,null,null,null,null,null,{"$f":"IF(referentes!AJ1244=\"\",\"\",IF(IFERROR(SEARCH(\"*-*\",referentes!AJ1244),2)=1,IF(referentes!AJ1244=\"\",\"\",LEFT(referentes!AJ1244,FIND(\"*-*\",referentes!AJ1244)-1)),referentes!AJ1244))","v":""},null,""]
[null,null,null,null,null,null,null,null,null,null,null,null,null,null,null,null,null,null,{"$f":"IF(referentes!AJ1245=\"\",\"\",IF(IFERROR(SEARCH(\"*-*\",referentes!AJ1245),2)=1,IF(referentes!AJ1245=\"\",\"\",LEFT(referentes!AJ1245,FIND(\"*-*\",referentes!AJ1245)-1)),referentes!AJ1245))","v":""},null,""]
[null,null,null,null,null,null,null,null,null,null,null,null,null,null,null,null,null,null,{"$f":"IF(referentes!AJ1246=\"\",\"\",IF(IFERROR(SEARCH(\"*-*\",referentes!AJ1246),2)=1,IF(referentes!AJ1246=\"\",\"\",LEFT(referentes!AJ1246,FIND(\"*-*\",referentes!AJ1246)-1)),referentes!AJ1246))","v":""},null,""]
[null,null,null,null,null,null,null,null,null,null,null,null,null,null,null,null,null,null,{"$f":"IF(referentes!AJ1247=\"\",\"\",IF(IFERROR(SEARCH(\"*-*\",referentes!AJ1247),2)=1,IF(referentes!AJ1247=\"\",\"\",LEFT(referentes!AJ1247,FIND(\"*-*\",referentes!AJ1247)-1)),referentes!AJ1247))","v":""},null,""]
[null,null,null,null,null,null,null,null,null,null,null,null,null,null,null,null,null,null,{"$f":"IF(referentes!AJ1248=\"\",\"\",IF(IFERROR(SEARCH(\"*-*\",referentes!AJ1248),2)=1,IF(referentes!AJ1248=\"\",\"\",LEFT(referentes!AJ1248,FIND(\"*-*\",referentes!AJ1248)-1)),referentes!AJ1248))","v":""},null,""]
[null,null,null,null,null,null,null,null,null,null,null,null,null,null,null,null,null,null,{"$f":"IF(referentes!AJ1249=\"\",\"\",IF(IFERROR(SEARCH(\"*-*\",referentes!AJ1249),2)=1,IF(referentes!AJ1249=\"\",\"\",LEFT(referentes!AJ1249,FIND(\"*-*\",referentes!AJ1249)-1)),referentes!AJ1249))","v":""},null,""]
[null,null,null,null,null,null,null,null,null,null,null,null,null,null,null,null,null,null,{"$f":"IF(referentes!AJ1250=\"\",\"\",IF(IFERROR(SEARCH(\"*-*\",referentes!AJ1250),2)=1,IF(referentes!AJ1250=\"\",\"\",LEFT(referentes!AJ1250,FIND(\"*-*\",referentes!AJ1250)-1)),referentes!AJ1250))","v":""},null,""]
[null,null,null,null,null,null,null,null,null,null,null,null,null,null,null,null,null,null,{"$f":"IF(referentes!AJ1251=\"\",\"\",IF(IFERROR(SEARCH(\"*-*\",referentes!AJ1251),2)=1,IF(referentes!AJ1251=\"\",\"\",LEFT(referentes!AJ1251,FIND(\"*-*\",referentes!AJ1251)-1)),referentes!AJ1251))","v":""},null,""]
[null,null,null,null,null,null,null,null,null,null,null,null,null,null,null,null,null,null,{"$f":"IF(referentes!AJ1252=\"\",\"\",IF(IFERROR(SEARCH(\"*-*\",referentes!AJ1252),2)=1,IF(referentes!AJ1252=\"\",\"\",LEFT(referentes!AJ1252,FIND(\"*-*\",referentes!AJ1252)-1)),referentes!AJ1252))","v":""},null,""]
[null,null,null,null,null,null,null,null,null,null,null,null,null,null,null,null,null,null,{"$f":"IF(referentes!AJ1253=\"\",\"\",IF(IFERROR(SEARCH(\"*-*\",referentes!AJ1253),2)=1,IF(referentes!AJ1253=\"\",\"\",LEFT(referentes!AJ1253,FIND(\"*-*\",referentes!AJ1253)-1)),referentes!AJ1253))","v":""},null,""]
[null,null,null,null,null,null,null,null,null,null,null,null,null,null,null,null,null,null,{"$f":"IF(referentes!AJ1254=\"\",\"\",IF(IFERROR(SEARCH(\"*-*\",referentes!AJ1254),2)=1,IF(referentes!AJ1254=\"\",\"\",LEFT(referentes!AJ1254,FIND(\"*-*\",referentes!AJ1254)-1)),referentes!AJ1254))","v":""},null,""]
[null,null,null,null,null,null,null,null,null,null,null,null,null,null,null,null,null,null,{"$f":"IF(referentes!AJ1255=\"\",\"\",IF(IFERROR(SEARCH(\"*-*\",referentes!AJ1255),2)=1,IF(referentes!AJ1255=\"\",\"\",LEFT(referentes!AJ1255,FIND(\"*-*\",referentes!AJ1255)-1)),referentes!AJ1255))","v":""},null,""]
[null,null,null,null,null,null,null,null,null,null,null,null,null,null,null,null,null,null,{"$f":"IF(referentes!AJ1256=\"\",\"\",IF(IFERROR(SEARCH(\"*-*\",referentes!AJ1256),2)=1,IF(referentes!AJ1256=\"\",\"\",LEFT(referentes!AJ1256,FIND(\"*-*\",referentes!AJ1256)-1)),referentes!AJ1256))","v":""},null,""]
[null,null,null,null,null,null,null,null,null,null,null,null,null,null,null,null,null,null,{"$f":"IF(referentes!AJ1257=\"\",\"\",IF(IFERROR(SEARCH(\"*-*\",referentes!AJ1257),2)=1,IF(referentes!AJ1257=\"\",\"\",LEFT(referentes!AJ1257,FIND(\"*-*\",referentes!AJ1257)-1)),referentes!AJ1257))","v":""},null,""]
[null,null,null,null,null,null,null,null,null,null,null,null,null,null,null,null,null,null,{"$f":"IF(referentes!AJ1258=\"\",\"\",IF(IFERROR(SEARCH(\"*-*\",referentes!AJ1258),2)=1,IF(referentes!AJ1258=\"\",\"\",LEFT(referentes!AJ1258,FIND(\"*-*\",referentes!AJ1258)-1)),referentes!AJ1258))","v":""},null,""]
[null,null,null,null,null,null,null,null,null,null,null,null,null,null,null,null,null,null,{"$f":"IF(referentes!AJ1259=\"\",\"\",IF(IFERROR(SEARCH(\"*-*\",referentes!AJ1259),2)=1,IF(referentes!AJ1259=\"\",\"\",LEFT(referentes!AJ1259,FIND(\"*-*\",referentes!AJ1259)-1)),referentes!AJ1259))","v":""},null,""]
[null,null,null,null,null,null,null,null,null,null,null,null,null,null,null,null,null,null,{"$f":"IF(referentes!AJ1260=\"\",\"\",IF(IFERROR(SEARCH(\"*-*\",referentes!AJ1260),2)=1,IF(referentes!AJ1260=\"\",\"\",LEFT(referentes!AJ1260,FIND(\"*-*\",referentes!AJ1260)-1)),referentes!AJ1260))","v":""},null,""]
[null,null,null,null,null,null,null,null,null,null,null,null,null,null,null,null,null,null,{"$f":"IF(referentes!AJ1261=\"\",\"\",IF(IFERROR(SEARCH(\"*-*\",referentes!AJ1261),2)=1,IF(referentes!AJ1261=\"\",\"\",LEFT(referentes!AJ1261,FIND(\"*-*\",referentes!AJ1261)-1)),referentes!AJ1261))","v":""},null,""]
[null,null,null,null,null,null,null,null,null,null,null,null,null,null,null,null,null,null,{"$f":"IF(referentes!AJ1262=\"\",\"\",IF(IFERROR(SEARCH(\"*-*\",referentes!AJ1262),2)=1,IF(referentes!AJ1262=\"\",\"\",LEFT(referentes!AJ1262,FIND(\"*-*\",referentes!AJ1262)-1)),referentes!AJ1262))","v":""},null,""]
[null,null,null,null,null,null,null,null,null,null,null,null,null,null,null,null,null,null,{"$f":"IF(referentes!AJ1263=\"\",\"\",IF(IFERROR(SEARCH(\"*-*\",referentes!AJ1263),2)=1,IF(referentes!AJ1263=\"\",\"\",LEFT(referentes!AJ1263,FIND(\"*-*\",referentes!AJ1263)-1)),referentes!AJ1263))","v":""},null,""]
[null,null,null,null,null,null,null,null,null,null,null,null,null,null,null,null,null,null,{"$f":"IF(referentes!AJ1264=\"\",\"\",IF(IFERROR(SEARCH(\"*-*\",referentes!AJ1264),2)=1,IF(referentes!AJ1264=\"\",\"\",LEFT(referentes!AJ1264,FIND(\"*-*\",referentes!AJ1264)-1)),referentes!AJ1264))","v":""},null,""]
[null,null,null,null,null,null,null,null,null,null,null,null,null,null,null,null,null,null,{"$f":"IF(referentes!AJ1265=\"\",\"\",IF(IFERROR(SEARCH(\"*-*\",referentes!AJ1265),2)=1,IF(referentes!AJ1265=\"\",\"\",LEFT(referentes!AJ1265,FIND(\"*-*\",referentes!AJ1265)-1)),referentes!AJ1265))","v":""},null,""]
[null,null,null,null,null,null,null,null,null,null,null,null,null,null,null,null,null,null,{"$f":"IF(referentes!AJ1266=\"\",\"\",IF(IFERROR(SEARCH(\"*-*\",referentes!AJ1266),2)=1,IF(referentes!AJ1266=\"\",\"\",LEFT(referentes!AJ1266,FIND(\"*-*\",referentes!AJ1266)-1)),referentes!AJ1266))","v":""},null,""]
[null,null,null,null,null,null,null,null,null,null,null,null,null,null,null,null,null,null,{"$f":"IF(referentes!AJ1267=\"\",\"\",IF(IFERROR(SEARCH(\"*-*\",referentes!AJ1267),2)=1,IF(referentes!AJ1267=\"\",\"\",LEFT(referentes!AJ1267,FIND(\"*-*\",referentes!AJ1267)-1)),referentes!AJ1267))","v":""},null,""]
[null,null,null,null,null,null,null,null,null,null,null,null,null,null,null,null,null,null,{"$f":"IF(referentes!AJ1268=\"\",\"\",IF(IFERROR(SEARCH(\"*-*\",referentes!AJ1268),2)=1,IF(referentes!AJ1268=\"\",\"\",LEFT(referentes!AJ1268,FIND(\"*-*\",referentes!AJ1268)-1)),referentes!AJ1268))","v":""},null,""]
[null,null,null,null,null,null,null,null,null,null,null,null,null,null,null,null,null,null,{"$f":"IF(referentes!AJ1269=\"\",\"\",IF(IFERROR(SEARCH(\"*-*\",referentes!AJ1269),2)=1,IF(referentes!AJ1269=\"\",\"\",LEFT(referentes!AJ1269,FIND(\"*-*\",referentes!AJ1269)-1)),referentes!AJ1269))","v":""},null,""]
[null,null,null,null,null,null,null,null,null,null,null,null,null,null,null,null,null,null,{"$f":"IF(referentes!AJ1270=\"\",\"\",IF(IFERROR(SEARCH(\"*-*\",referentes!AJ1270),2)=1,IF(referentes!AJ1270=\"\",\"\",LEFT(referentes!AJ1270,FIND(\"*-*\",referentes!AJ1270)-1)),referentes!AJ1270))","v":""},null,""]
[null,null,null,null,null,null,null,null,null,null,null,null,null,null,null,null,null,null,{"$f":"IF(referentes!AJ1271=\"\",\"\",IF(IFERROR(SEARCH(\"*-*\",referentes!AJ1271),2)=1,IF(referentes!AJ1271=\"\",\"\",LEFT(referentes!AJ1271,FIND(\"*-*\",referentes!AJ1271)-1)),referentes!AJ1271))","v":""},null,""]
[null,null,null,null,null,null,null,null,null,null,null,null,null,null,null,null,null,null,{"$f":"IF(referentes!AJ1272=\"\",\"\",IF(IFERROR(SEARCH(\"*-*\",referentes!AJ1272),2)=1,IF(referentes!AJ1272=\"\",\"\",LEFT(referentes!AJ1272,FIND(\"*-*\",referentes!AJ1272)-1)),referentes!AJ1272))","v":""},null,""]
[null,null,null,null,null,null,null,null,null,null,null,null,null,null,null,null,null,null,{"$f":"IF(referentes!AJ1273=\"\",\"\",IF(IFERROR(SEARCH(\"*-*\",referentes!AJ1273),2)=1,IF(referentes!AJ1273=\"\",\"\",LEFT(referentes!AJ1273,FIND(\"*-*\",referentes!AJ1273)-1)),referentes!AJ1273))","v":""},null,""]
[null,null,null,null,null,null,null,null,null,null,null,null,null,null,null,null,null,null,{"$f":"IF(referentes!AJ1274=\"\",\"\",IF(IFERROR(SEARCH(\"*-*\",referentes!AJ1274),2)=1,IF(referentes!AJ1274=\"\",\"\",LEFT(referentes!AJ1274,FIND(\"*-*\",referentes!AJ1274)-1)),referentes!AJ1274))","v":""},null,""]
[null,null,null,null,null,null,null,null,null,null,null,null,null,null,null,null,null,null,{"$f":"IF(referentes!AJ1275=\"\",\"\",IF(IFERROR(SEARCH(\"*-*\",referentes!AJ1275),2)=1,IF(referentes!AJ1275=\"\",\"\",LEFT(referentes!AJ1275,FIND(\"*-*\",referentes!AJ1275)-1)),referentes!AJ1275))","v":""},null,""]
[null,null,null,null,null,null,null,null,null,null,null,null,null,null,null,null,null,null,{"$f":"IF(referentes!AJ1276=\"\",\"\",IF(IFERROR(SEARCH(\"*-*\",referentes!AJ1276),2)=1,IF(referentes!AJ1276=\"\",\"\",LEFT(referentes!AJ1276,FIND(\"*-*\",referentes!AJ1276)-1)),referentes!AJ1276))","v":""},null,""]
[null,null,null,null,null,null,null,null,null,null,null,null,null,null,null,null,null,null,{"$f":"IF(referentes!AJ1277=\"\",\"\",IF(IFERROR(SEARCH(\"*-*\",referentes!AJ1277),2)=1,IF(referentes!AJ1277=\"\",\"\",LEFT(referentes!AJ1277,FIND(\"*-*\",referentes!AJ1277)-1)),referentes!AJ1277))","v":""},null,""]
[null,null,null,null,null,null,null,null,null,null,null,null,null,null,null,null,null,null,{"$f":"IF(referentes!AJ1278=\"\",\"\",IF(IFERROR(SEARCH(\"*-*\",referentes!AJ1278),2)=1,IF(referentes!AJ1278=\"\",\"\",LEFT(referentes!AJ1278,FIND(\"*-*\",referentes!AJ1278)-1)),referentes!AJ1278))","v":""},null,""]
[null,null,null,null,null,null,null,null,null,null,null,null,null,null,null,null,null,null,{"$f":"IF(referentes!AJ1279=\"\",\"\",IF(IFERROR(SEARCH(\"*-*\",referentes!AJ1279),2)=1,IF(referentes!AJ1279=\"\",\"\",LEFT(referentes!AJ1279,FIND(\"*-*\",referentes!AJ1279)-1)),referentes!AJ1279))","v":""},null,""]
[null,null,null,null,null,null,null,null,null,null,null,null,null,null,null,null,null,null,{"$f":"IF(referentes!AJ1280=\"\",\"\",IF(IFERROR(SEARCH(\"*-*\",referentes!AJ1280),2)=1,IF(referentes!AJ1280=\"\",\"\",LEFT(referentes!AJ1280,FIND(\"*-*\",referentes!AJ1280)-1)),referentes!AJ1280))","v":""},null,""]
[null,null,null,null,null,null,null,null,null,null,null,null,null,null,null,null,null,null,{"$f":"IF(referentes!AJ1281=\"\",\"\",IF(IFERROR(SEARCH(\"*-*\",referentes!AJ1281),2)=1,IF(referentes!AJ1281=\"\",\"\",LEFT(referentes!AJ1281,FIND(\"*-*\",referentes!AJ1281)-1)),referentes!AJ1281))","v":""},null,""]
[null,null,null,null,null,null,null,null,null,null,null,null,null,null,null,null,null,null,{"$f":"IF(referentes!AJ1282=\"\",\"\",IF(IFERROR(SEARCH(\"*-*\",referentes!AJ1282),2)=1,IF(referentes!AJ1282=\"\",\"\",LEFT(referentes!AJ1282,FIND(\"*-*\",referentes!AJ1282)-1)),referentes!AJ1282))","v":""},null,""]
[null,null,null,null,null,null,null,null,null,null,null,null,null,null,null,null,null,null,{"$f":"IF(referentes!AJ1283=\"\",\"\",IF(IFERROR(SEARCH(\"*-*\",referentes!AJ1283),2)=1,IF(referentes!AJ1283=\"\",\"\",LEFT(referentes!AJ1283,FIND(\"*-*\",referentes!AJ1283)-1)),referentes!AJ1283))","v":""},null,""]
[null,null,null,null,null,null,null,null,null,null,null,null,null,null,null,null,null,null,{"$f":"IF(referentes!AJ1284=\"\",\"\",IF(IFERROR(SEARCH(\"*-*\",referentes!AJ1284),2)=1,IF(referentes!AJ1284=\"\",\"\",LEFT(referentes!AJ1284,FIND(\"*-*\",referentes!AJ1284)-1)),referentes!AJ1284))","v":""},null,""]
[null,null,null,null,null,null,null,null,null,null,null,null,null,null,null,null,null,null,{"$f":"IF(referentes!AJ1285=\"\",\"\",IF(IFERROR(SEARCH(\"*-*\",referentes!AJ1285),2)=1,IF(referentes!AJ1285=\"\",\"\",LEFT(referentes!AJ1285,FIND(\"*-*\",referentes!AJ1285)-1)),referentes!AJ1285))","v":""},null,""]
[null,null,null,null,null,null,null,null,null,null,null,null,null,null,null,null,null,null,{"$f":"IF(referentes!AJ1286=\"\",\"\",IF(IFERROR(SEARCH(\"*-*\",referentes!AJ1286),2)=1,IF(referentes!AJ1286=\"\",\"\",LEFT(referentes!AJ1286,FIND(\"*-*\",referentes!AJ1286)-1)),referentes!AJ1286))","v":""},null,""]
[null,null,null,null,null,null,null,null,null,null,null,null,null,null,null,null,null,null,{"$f":"IF(referentes!AJ1287=\"\",\"\",IF(IFERROR(SEARCH(\"*-*\",referentes!AJ1287),2)=1,IF(referentes!AJ1287=\"\",\"\",LEFT(referentes!AJ1287,FIND(\"*-*\",referentes!AJ1287)-1)),referentes!AJ1287))","v":""},null,""]
[null,null,null,null,null,null,null,null,null,null,null,null,null,null,null,null,null,null,{"$f":"IF(referentes!AJ1288=\"\",\"\",IF(IFERROR(SEARCH(\"*-*\",referentes!AJ1288),2)=1,IF(referentes!AJ1288=\"\",\"\",LEFT(referentes!AJ1288,FIND(\"*-*\",referentes!AJ1288)-1)),referentes!AJ1288))","v":""},null,{"$f":"IF(IFERROR(T1287,R1287)=S1287,\"\",R1287)","v":""}]
[null,null,null,null,null,null,null,null,null,null,null,null,null,null,null,null,null,null,{"$f":"IF(referentes!AJ1289=\"\",\"\",IF(IFERROR(SEARCH(\"*-*\",referentes!AJ1289),2)=1,IF(referentes!AJ1289=\"\",\"\",LEFT(referentes!AJ1289,FIND(\"*-*\",referentes!AJ1289)-1)),referentes!AJ1289))","v":""},null,""]
[null,null,null,null,null,null,null,null,null,null,null,null,null,null,null,null,null,null,{"$f":"IF(referentes!AJ1290=\"\",\"\",IF(IFERROR(SEARCH(\"*-*\",referentes!AJ1290),2)=1,IF(referentes!AJ1290=\"\",\"\",LEFT(referentes!AJ1290,FIND(\"*-*\",referentes!AJ1290)-1)),referentes!AJ1290))","v":""},null,""]
[null,null,null,null,null,null,null,null,null,null,null,null,null,null,null,null,null,null,{"$f":"IF(referentes!AJ1291=\"\",\"\",IF(IFERROR(SEARCH(\"*-*\",referentes!AJ1291),2)=1,IF(referentes!AJ1291=\"\",\"\",LEFT(referentes!AJ1291,FIND(\"*-*\",referentes!AJ1291)-1)),referentes!AJ1291))","v":""},null,""]
[null,null,null,null,null,null,null,null,null,null,null,null,null,null,null,null,null,null,{"$f":"IF(referentes!AJ1292=\"\",\"\",IF(IFERROR(SEARCH(\"*-*\",referentes!AJ1292),2)=1,IF(referentes!AJ1292=\"\",\"\",LEFT(referentes!AJ1292,FIND(\"*-*\",referentes!AJ1292)-1)),referentes!AJ1292))","v":""},null,""]
[null,null,null,null,null,null,null,null,null,null,null,null,null,null,null,null,null,null,{"$f":"IF(referentes!AJ1293=\"\",\"\",IF(IFERROR(SEARCH(\"*-*\",referentes!AJ1293),2)=1,IF(referentes!AJ1293=\"\",\"\",LEFT(referentes!AJ1293,FIND(\"*-*\",referentes!AJ1293)-1)),referentes!AJ1293))","v":""},null,""]
[null,null,null,null,null,null,null,null,null,null,null,null,null,null,null,null,null,null,{"$f":"IF(referentes!AJ1294=\"\",\"\",IF(IFERROR(SEARCH(\"*-*\",referentes!AJ1294),2)=1,IF(referentes!AJ1294=\"\",\"\",LEFT(referentes!AJ1294,FIND(\"*-*\",referentes!AJ1294)-1)),referentes!AJ1294))","v":""},null,""]
[null,null,null,null,null,null,null,null,null,null,null,null,null,null,null,null,null,null,{"$f":"IF(referentes!AJ1295=\"\",\"\",IF(IFERROR(SEARCH(\"*-*\",referentes!AJ1295),2)=1,IF(referentes!AJ1295=\"\",\"\",LEFT(referentes!AJ1295,FIND(\"*-*\",referentes!AJ1295)-1)),referentes!AJ1295))","v":""},null,""]
[null,null,null,null,null,null,null,null,null,null,null,null,null,null,null,null,null,null,{"$f":"IF(referentes!AJ1296=\"\",\"\",IF(IFERROR(SEARCH(\"*-*\",referentes!AJ1296),2)=1,IF(referentes!AJ1296=\"\",\"\",LEFT(referentes!AJ1296,FIND(\"*-*\",referentes!AJ1296)-1)),referentes!AJ1296))","v":""},null,""]
[null,null,null,null,null,null,null,null,null,null,null,null,null,null,null,null,null,null,{"$f":"IF(referentes!AJ1297=\"\",\"\",IF(IFERROR(SEARCH(\"*-*\",referentes!AJ1297),2)=1,IF(referentes!AJ1297=\"\",\"\",LEFT(referentes!AJ1297,FIND(\"*-*\",referentes!AJ1297)-1)),referentes!AJ1297))","v":""},null,""]
[null,null,null,null,null,null,null,null,null,null,null,null,null,null,null,null,null,null,{"$f":"IF(referentes!AJ1298=\"\",\"\",IF(IFERROR(SEARCH(\"*-*\",referentes!AJ1298),2)=1,IF(referentes!AJ1298=\"\",\"\",LEFT(referentes!AJ1298,FIND(\"*-*\",referentes!AJ1298)-1)),referentes!AJ1298))","v":""},null,""]
[null,null,null,null,null,null,null,null,null,null,null,null,null,null,null,null,null,null,{"$f":"IF(referentes!AJ1299=\"\",\"\",IF(IFERROR(SEARCH(\"*-*\",referentes!AJ1299),2)=1,IF(referentes!AJ1299=\"\",\"\",LEFT(referentes!AJ1299,FIND(\"*-*\",referentes!AJ1299)-1)),referentes!AJ1299))","v":""},null,""]
[null,null,null,null,null,null,null,null,null,null,null,null,null,null,null,null,null,null,{"$f":"IF(referentes!AJ1300=\"\",\"\",IF(IFERROR(SEARCH(\"*-*\",referentes!AJ1300),2)=1,IF(referentes!AJ1300=\"\",\"\",LEFT(referentes!AJ1300,FIND(\"*-*\",referentes!AJ1300)-1)),referentes!AJ1300))","v":""},null,""]
[null,null,null,null,null,null,null,null,null,null,null,null,null,null,null,null,null,null,{"$f":"IF(referentes!AJ1301=\"\",\"\",IF(IFERROR(SEARCH(\"*-*\",referentes!AJ1301),2)=1,IF(referentes!AJ1301=\"\",\"\",LEFT(referentes!AJ1301,FIND(\"*-*\",referentes!AJ1301)-1)),referentes!AJ1301))","v":""},null,""]
[null,null,null,null,null,null,null,null,null,null,null,null,null,null,null,null,null,null,{"$f":"IF(referentes!AJ1302=\"\",\"\",IF(IFERROR(SEARCH(\"*-*\",referentes!AJ1302),2)=1,IF(referentes!AJ1302=\"\",\"\",LEFT(referentes!AJ1302,FIND(\"*-*\",referentes!AJ1302)-1)),referentes!AJ1302))","v":""},null,""]
[null,null,null,null,null,null,null,null,null,null,null,null,null,null,null,null,null,null,{"$f":"IF(referentes!AJ1303=\"\",\"\",IF(IFERROR(SEARCH(\"*-*\",referentes!AJ1303),2)=1,IF(referentes!AJ1303=\"\",\"\",LEFT(referentes!AJ1303,FIND(\"*-*\",referentes!AJ1303)-1)),referentes!AJ1303))","v":""},null,""]
[null,null,null,null,null,null,null,null,null,null,null,null,null,null,null,null,null,null,{"$f":"IF(referentes!AJ1304=\"\",\"\",IF(IFERROR(SEARCH(\"*-*\",referentes!AJ1304),2)=1,IF(referentes!AJ1304=\"\",\"\",LEFT(referentes!AJ1304,FIND(\"*-*\",referentes!AJ1304)-1)),referentes!AJ1304))","v":""},null,""]
[null,null,null,null,null,null,null,null,null,null,null,null,null,null,null,null,null,null,{"$f":"IF(referentes!AJ1305=\"\",\"\",IF(IFERROR(SEARCH(\"*-*\",referentes!AJ1305),2)=1,IF(referentes!AJ1305=\"\",\"\",LEFT(referentes!AJ1305,FIND(\"*-*\",referentes!AJ1305)-1)),referentes!AJ1305))","v":""},null,""]
[null,null,null,null,null,null,null,null,null,null,null,null,null,null,null,null,null,null,{"$f":"IF(referentes!AJ1306=\"\",\"\",IF(IFERROR(SEARCH(\"*-*\",referentes!AJ1306),2)=1,IF(referentes!AJ1306=\"\",\"\",LEFT(referentes!AJ1306,FIND(\"*-*\",referentes!AJ1306)-1)),referentes!AJ1306))","v":""},null,""]
[null,null,null,null,null,null,null,null,null,null,null,null,null,null,null,null,null,null,{"$f":"IF(referentes!AJ1307=\"\",\"\",IF(IFERROR(SEARCH(\"*-*\",referentes!AJ1307),2)=1,IF(referentes!AJ1307=\"\",\"\",LEFT(referentes!AJ1307,FIND(\"*-*\",referentes!AJ1307)-1)),referentes!AJ1307))","v":""},null,""]
[null,null,null,null,null,null,null,null,null,null,null,null,null,null,null,null,null,null,{"$f":"IF(referentes!AJ1308=\"\",\"\",IF(IFERROR(SEARCH(\"*-*\",referentes!AJ1308),2)=1,IF(referentes!AJ1308=\"\",\"\",LEFT(referentes!AJ1308,FIND(\"*-*\",referentes!AJ1308)-1)),referentes!AJ1308))","v":""},null,""]
[null,null,null,null,null,null,null,null,null,null,null,null,null,null,null,null,null,null,{"$f":"IF(referentes!AJ1309=\"\",\"\",IF(IFERROR(SEARCH(\"*-*\",referentes!AJ1309),2)=1,IF(referentes!AJ1309=\"\",\"\",LEFT(referentes!AJ1309,FIND(\"*-*\",referentes!AJ1309)-1)),referentes!AJ1309))","v":""},null,""]
[null,null,null,null,null,null,null,null,null,null,null,null,null,null,null,null,null,null,{"$f":"IF(referentes!AJ1310=\"\",\"\",IF(IFERROR(SEARCH(\"*-*\",referentes!AJ1310),2)=1,IF(referentes!AJ1310=\"\",\"\",LEFT(referentes!AJ1310,FIND(\"*-*\",referentes!AJ1310)-1)),referentes!AJ1310))","v":""},null,""]
[null,null,null,null,null,null,null,null,null,null,null,null,null,null,null,null,null,null,{"$f":"IF(referentes!AJ1311=\"\",\"\",IF(IFERROR(SEARCH(\"*-*\",referentes!AJ1311),2)=1,IF(referentes!AJ1311=\"\",\"\",LEFT(referentes!AJ1311,FIND(\"*-*\",referentes!AJ1311)-1)),referentes!AJ1311))","v":""},null,""]
[null,null,null,null,null,null,null,null,null,null,null,null,null,null,null,null,null,null,{"$f":"IF(referentes!AJ1312=\"\",\"\",IF(IFERROR(SEARCH(\"*-*\",referentes!AJ1312),2)=1,IF(referentes!AJ1312=\"\",\"\",LEFT(referentes!AJ1312,FIND(\"*-*\",referentes!AJ1312)-1)),referentes!AJ1312))","v":""},null,""]
[null,null,null,null,null,null,null,null,null,null,null,null,null,null,null,null,null,null,{"$f":"IF(referentes!AJ1313=\"\",\"\",IF(IFERROR(SEARCH(\"*-*\",referentes!AJ1313),2)=1,IF(referentes!AJ1313=\"\",\"\",LEFT(referentes!AJ1313,FIND(\"*-*\",referentes!AJ1313)-1)),referentes!AJ1313))","v":""},null,""]
[null,null,null,null,null,null,null,null,null,null,null,null,null,null,null,null,null,null,{"$f":"IF(referentes!AJ1314=\"\",\"\",IF(IFERROR(SEARCH(\"*-*\",referentes!AJ1314),2)=1,IF(referentes!AJ1314=\"\",\"\",LEFT(referentes!AJ1314,FIND(\"*-*\",referentes!AJ1314)-1)),referentes!AJ1314))","v":""},null,""]
[null,null,null,null,null,null,null,null,null,null,null,null,null,null,null,null,null,null,{"$f":"IF(referentes!AJ1315=\"\",\"\",IF(IFERROR(SEARCH(\"*-*\",referentes!AJ1315),2)=1,IF(referentes!AJ1315=\"\",\"\",LEFT(referentes!AJ1315,FIND(\"*-*\",referentes!AJ1315)-1)),referentes!AJ1315))","v":""},null,""]
[null,null,null,null,null,null,null,null,null,null,null,null,null,null,null,null,null,null,{"$f":"IF(referentes!AJ1316=\"\",\"\",IF(IFERROR(SEARCH(\"*-*\",referentes!AJ1316),2)=1,IF(referentes!AJ1316=\"\",\"\",LEFT(referentes!AJ1316,FIND(\"*-*\",referentes!AJ1316)-1)),referentes!AJ1316))","v":""},null,""]
[null,null,null,null,null,null,null,null,null,null,null,null,null,null,null,null,null,null,{"$f":"IF(referentes!AJ1317=\"\",\"\",IF(IFERROR(SEARCH(\"*-*\",referentes!AJ1317),2)=1,IF(referentes!AJ1317=\"\",\"\",LEFT(referentes!AJ1317,FIND(\"*-*\",referentes!AJ1317)-1)),referentes!AJ1317))","v":""},null,""]
[null,null,null,null,null,null,null,null,null,null,null,null,null,null,null,null,null,null,{"$f":"IF(referentes!AJ1318=\"\",\"\",IF(IFERROR(SEARCH(\"*-*\",referentes!AJ1318),2)=1,IF(referentes!AJ1318=\"\",\"\",LEFT(referentes!AJ1318,FIND(\"*-*\",referentes!AJ1318)-1)),referentes!AJ1318))","v":""},null,""]
[null,null,null,null,null,null,null,null,null,null,null,null,null,null,null,null,null,null,{"$f":"IF(referentes!AJ1319=\"\",\"\",IF(IFERROR(SEARCH(\"*-*\",referentes!AJ1319),2)=1,IF(referentes!AJ1319=\"\",\"\",LEFT(referentes!AJ1319,FIND(\"*-*\",referentes!AJ1319)-1)),referentes!AJ1319))","v":""},null,""]
[null,null,null,null,null,null,null,null,null,null,null,null,null,null,null,null,null,null,{"$f":"IF(referentes!AJ1320=\"\",\"\",IF(IFERROR(SEARCH(\"*-*\",referentes!AJ1320),2)=1,IF(referentes!AJ1320=\"\",\"\",LEFT(referentes!AJ1320,FIND(\"*-*\",referentes!AJ1320)-1)),referentes!AJ1320))","v":""},null,""]
[null,null,null,null,null,null,null,null,null,null,null,null,null,null,null,null,null,null,{"$f":"IF(referentes!AJ1321=\"\",\"\",IF(IFERROR(SEARCH(\"*-*\",referentes!AJ1321),2)=1,IF(referentes!AJ1321=\"\",\"\",LEFT(referentes!AJ1321,FIND(\"*-*\",referentes!AJ1321)-1)),referentes!AJ1321))","v":""},null,""]
[null,null,null,null,null,null,null,null,null,null,null,null,null,null,null,null,null,null,{"$f":"IF(referentes!AJ1322=\"\",\"\",IF(IFERROR(SEARCH(\"*-*\",referentes!AJ1322),2)=1,IF(referentes!AJ1322=\"\",\"\",LEFT(referentes!AJ1322,FIND(\"*-*\",referentes!AJ1322)-1)),referentes!AJ1322))","v":""},null,""]
[null,null,null,null,null,null,null,null,null,null,null,null,null,null,null,null,null,null,{"$f":"IF(referentes!AJ1323=\"\",\"\",IF(IFERROR(SEARCH(\"*-*\",referentes!AJ1323),2)=1,IF(referentes!AJ1323=\"\",\"\",LEFT(referentes!AJ1323,FIND(\"*-*\",referentes!AJ1323)-1)),referentes!AJ1323))","v":""},null,""]
[null,null,null,null,null,null,null,null,null,null,null,null,null,null,null,null,null,null,{"$f":"IF(referentes!AJ1324=\"\",\"\",IF(IFERROR(SEARCH(\"*-*\",referentes!AJ1324),2)=1,IF(referentes!AJ1324=\"\",\"\",LEFT(referentes!AJ1324,FIND(\"*-*\",referentes!AJ1324)-1)),referentes!AJ1324))","v":""},null,""]
[null,null,null,null,null,null,null,null,null,null,null,null,null,null,null,null,null,null,{"$f":"IF(referentes!AJ1325=\"\",\"\",IF(IFERROR(SEARCH(\"*-*\",referentes!AJ1325),2)=1,IF(referentes!AJ1325=\"\",\"\",LEFT(referentes!AJ1325,FIND(\"*-*\",referentes!AJ1325)-1)),referentes!AJ1325))","v":""},null,""]
[null,null,null,null,null,null,null,null,null,null,null,null,null,null,null,null,null,null,{"$f":"IF(referentes!AJ1326=\"\",\"\",IF(IFERROR(SEARCH(\"*-*\",referentes!AJ1326),2)=1,IF(referentes!AJ1326=\"\",\"\",LEFT(referentes!AJ1326,FIND(\"*-*\",referentes!AJ1326)-1)),referentes!AJ1326))","v":""},null,""]
[null,null,null,null,null,null,null,null,null,null,null,null,null,null,null,null,null,null,{"$f":"IF(referentes!AJ1327=\"\",\"\",IF(IFERROR(SEARCH(\"*-*\",referentes!AJ1327),2)=1,IF(referentes!AJ1327=\"\",\"\",LEFT(referentes!AJ1327,FIND(\"*-*\",referentes!AJ1327)-1)),referentes!AJ1327))","v":""},null,""]
[null,null,null,null,null,null,null,null,null,null,null,null,null,null,null,null,null,null,{"$f":"IF(referentes!AJ1328=\"\",\"\",IF(IFERROR(SEARCH(\"*-*\",referentes!AJ1328),2)=1,IF(referentes!AJ1328=\"\",\"\",LEFT(referentes!AJ1328,FIND(\"*-*\",referentes!AJ1328)-1)),referentes!AJ1328))","v":""},null,""]
[null,null,null,null,null,null,null,null,null,null,null,null,null,null,null,null,null,null,{"$f":"IF(referentes!AJ1329=\"\",\"\",IF(IFERROR(SEARCH(\"*-*\",referentes!AJ1329),2)=1,IF(referentes!AJ1329=\"\",\"\",LEFT(referentes!AJ1329,FIND(\"*-*\",referentes!AJ1329)-1)),referentes!AJ1329))","v":""},null,""]
[null,null,null,null,null,null,null,null,null,null,null,null,null,null,null,null,null,null,{"$f":"IF(referentes!AJ1330=\"\",\"\",IF(IFERROR(SEARCH(\"*-*\",referentes!AJ1330),2)=1,IF(referentes!AJ1330=\"\",\"\",LEFT(referentes!AJ1330,FIND(\"*-*\",referentes!AJ1330)-1)),referentes!AJ1330))","v":""},null,""]
[null,null,null,null,null,null,null,null,null,null,null,null,null,null,null,null,null,null,{"$f":"IF(referentes!AJ1331=\"\",\"\",IF(IFERROR(SEARCH(\"*-*\",referentes!AJ1331),2)=1,IF(referentes!AJ1331=\"\",\"\",LEFT(referentes!AJ1331,FIND(\"*-*\",referentes!AJ1331)-1)),referentes!AJ1331))","v":""},null,""]
[null,null,null,null,null,null,null,null,null,null,null,null,null,null,null,null,null,null,{"$f":"IF(referentes!AJ1332=\"\",\"\",IF(IFERROR(SEARCH(\"*-*\",referentes!AJ1332),2)=1,IF(referentes!AJ1332=\"\",\"\",LEFT(referentes!AJ1332,FIND(\"*-*\",referentes!AJ1332)-1)),referentes!AJ1332))","v":""},null,""]
[null,null,null,null,null,null,null,null,null,null,null,null,null,null,null,null,null,null,{"$f":"IF(referentes!AJ1333=\"\",\"\",IF(IFERROR(SEARCH(\"*-*\",referentes!AJ1333),2)=1,IF(referentes!AJ1333=\"\",\"\",LEFT(referentes!AJ1333,FIND(\"*-*\",referentes!AJ1333)-1)),referentes!AJ1333))","v":""},null,""]
[null,null,null,null,null,null,null,null,null,null,null,null,null,null,null,null,null,null,{"$f":"IF(referentes!AJ1334=\"\",\"\",IF(IFERROR(SEARCH(\"*-*\",referentes!AJ1334),2)=1,IF(referentes!AJ1334=\"\",\"\",LEFT(referentes!AJ1334,FIND(\"*-*\",referentes!AJ1334)-1)),referentes!AJ1334))","v":""},null,""]
[null,null,null,null,null,null,null,null,null,null,null,null,null,null,null,null,null,null,{"$f":"IF(referentes!AJ1335=\"\",\"\",IF(IFERROR(SEARCH(\"*-*\",referentes!AJ1335),2)=1,IF(referentes!AJ1335=\"\",\"\",LEFT(referentes!AJ1335,FIND(\"*-*\",referentes!AJ1335)-1)),referentes!AJ1335))","v":""},null,""]
[null,null,null,null,null,null,null,null,null,null,null,null,null,null,null,null,null,null,{"$f":"IF(referentes!AJ1336=\"\",\"\",IF(IFERROR(SEARCH(\"*-*\",referentes!AJ1336),2)=1,IF(referentes!AJ1336=\"\",\"\",LEFT(referentes!AJ1336,FIND(\"*-*\",referentes!AJ1336)-1)),referentes!AJ1336))","v":""},null,""]
[null,null,null,null,null,null,null,null,null,null,null,null,null,null,null,null,null,null,{"$f":"IF(referentes!AJ1337=\"\",\"\",IF(IFERROR(SEARCH(\"*-*\",referentes!AJ1337),2)=1,IF(referentes!AJ1337=\"\",\"\",LEFT(referentes!AJ1337,FIND(\"*-*\",referentes!AJ1337)-1)),referentes!AJ1337))","v":""},null,""]
[null,null,null,null,null,null,null,null,null,null,null,null,null,null,null,null,null,null,{"$f":"IF(referentes!AJ1338=\"\",\"\",IF(IFERROR(SEARCH(\"*-*\",referentes!AJ1338),2)=1,IF(referentes!AJ1338=\"\",\"\",LEFT(referentes!AJ1338,FIND(\"*-*\",referentes!AJ1338)-1)),referentes!AJ1338))","v":""},null,""]
[null,null,null,null,null,null,null,null,null,null,null,null,null,null,null,null,null,null,{"$f":"IF(referentes!AJ1339=\"\",\"\",IF(IFERROR(SEARCH(\"*-*\",referentes!AJ1339),2)=1,IF(referentes!AJ1339=\"\",\"\",LEFT(referentes!AJ1339,FIND(\"*-*\",referentes!AJ1339)-1)),referentes!AJ1339))","v":""},null,""]
[null,null,null,null,null,null,null,null,null,null,null,null,null,null,null,null,null,null,{"$f":"IF(referentes!AJ1340=\"\",\"\",IF(IFERROR(SEARCH(\"*-*\",referentes!AJ1340),2)=1,IF(referentes!AJ1340=\"\",\"\",LEFT(referentes!AJ1340,FIND(\"*-*\",referentes!AJ1340)-1)),referentes!AJ1340))","v":""},null,""]
[null,null,null,null,null,null,null,null,null,null,null,null,null,null,null,null,null,null,{"$f":"IF(referentes!AJ1341=\"\",\"\",IF(IFERROR(SEARCH(\"*-*\",referentes!AJ1341),2)=1,IF(referentes!AJ1341=\"\",\"\",LEFT(referentes!AJ1341,FIND(\"*-*\",referentes!AJ1341)-1)),referentes!AJ1341))","v":""},null,""]
[null,null,null,null,null,null,null,null,null,null,null,null,null,null,null,null,null,null,{"$f":"IF(referentes!AJ1342=\"\",\"\",IF(IFERROR(SEARCH(\"*-*\",referentes!AJ1342),2)=1,IF(referentes!AJ1342=\"\",\"\",LEFT(referentes!AJ1342,FIND(\"*-*\",referentes!AJ1342)-1)),referentes!AJ1342))","v":""},null,""]
[null,null,null,null,null,null,null,null,null,null,null,null,null,null,null,null,null,null,{"$f":"IF(referentes!AJ1343=\"\",\"\",IF(IFERROR(SEARCH(\"*-*\",referentes!AJ1343),2)=1,IF(referentes!AJ1343=\"\",\"\",LEFT(referentes!AJ1343,FIND(\"*-*\",referentes!AJ1343)-1)),referentes!AJ1343))","v":""},null,""]
[null,null,null,null,null,null,null,null,null,null,null,null,null,null,null,null,null,null,{"$f":"IF(referentes!AJ1344=\"\",\"\",IF(IFERROR(SEARCH(\"*-*\",referentes!AJ1344),2)=1,IF(referentes!AJ1344=\"\",\"\",LEFT(referentes!AJ1344,FIND(\"*-*\",referentes!AJ1344)-1)),referentes!AJ1344))","v":""},null,""]
[null,null,null,null,null,null,null,null,null,null,null,null,null,null,null,null,null,null,{"$f":"IF(referentes!AJ1345=\"\",\"\",IF(IFERROR(SEARCH(\"*-*\",referentes!AJ1345),2)=1,IF(referentes!AJ1345=\"\",\"\",LEFT(referentes!AJ1345,FIND(\"*-*\",referentes!AJ1345)-1)),referentes!AJ1345))","v":""},null,""]
[null,null,null,null,null,null,null,null,null,null,null,null,null,null,null,null,null,null,{"$f":"IF(referentes!AJ1346=\"\",\"\",IF(IFERROR(SEARCH(\"*-*\",referentes!AJ1346),2)=1,IF(referentes!AJ1346=\"\",\"\",LEFT(referentes!AJ1346,FIND(\"*-*\",referentes!AJ1346)-1)),referentes!AJ1346))","v":""},null,""]
[null,null,null,null,null,null,null,null,null,null,null,null,null,null,null,null,null,null,{"$f":"IF(referentes!AJ1347=\"\",\"\",IF(IFERROR(SEARCH(\"*-*\",referentes!AJ1347),2)=1,IF(referentes!AJ1347=\"\",\"\",LEFT(referentes!AJ1347,FIND(\"*-*\",referentes!AJ1347)-1)),referentes!AJ1347))","v":""},null,""]
[null,null,null,null,null,null,null,null,null,null,null,null,null,null,null,null,null,null,{"$f":"IF(referentes!AJ1348=\"\",\"\",IF(IFERROR(SEARCH(\"*-*\",referentes!AJ1348),2)=1,IF(referentes!AJ1348=\"\",\"\",LEFT(referentes!AJ1348,FIND(\"*-*\",referentes!AJ1348)-1)),referentes!AJ1348))","v":""},null,""]
[null,null,null,null,null,null,null,null,null,null,null,null,null,null,null,null,null,null,{"$f":"IF(referentes!AJ1349=\"\",\"\",IF(IFERROR(SEARCH(\"*-*\",referentes!AJ1349),2)=1,IF(referentes!AJ1349=\"\",\"\",LEFT(referentes!AJ1349,FIND(\"*-*\",referentes!AJ1349)-1)),referentes!AJ1349))","v":""},null,""]
[null,null,null,null,null,null,null,null,null,null,null,null,null,null,null,null,null,null,{"$f":"IF(referentes!AJ1350=\"\",\"\",IF(IFERROR(SEARCH(\"*-*\",referentes!AJ1350),2)=1,IF(referentes!AJ1350=\"\",\"\",LEFT(referentes!AJ1350,FIND(\"*-*\",referentes!AJ1350)-1)),referentes!AJ1350))","v":""},null,""]
[null,null,null,null,null,null,null,null,null,null,null,null,null,null,null,null,null,null,{"$f":"IF(referentes!AJ1351=\"\",\"\",IF(IFERROR(SEARCH(\"*-*\",referentes!AJ1351),2)=1,IF(referentes!AJ1351=\"\",\"\",LEFT(referentes!AJ1351,FIND(\"*-*\",referentes!AJ1351)-1)),referentes!AJ1351))","v":""},null,""]
[null,null,null,null,null,null,null,null,null,null,null,null,null,null,null,null,null,null,{"$f":"IF(referentes!AJ1352=\"\",\"\",IF(IFERROR(SEARCH(\"*-*\",referentes!AJ1352),2)=1,IF(referentes!AJ1352=\"\",\"\",LEFT(referentes!AJ1352,FIND(\"*-*\",referentes!AJ1352)-1)),referentes!AJ1352))","v":""},null,{"$f":"IF(IFERROR(T1351,R1351)=S1351,\"\",R1351)","v":""}]
[null,null,null,null,null,null,null,null,null,null,null,null,null,null,null,null,null,null,{"$f":"IF(referentes!AJ1353=\"\",\"\",IF(IFERROR(SEARCH(\"*-*\",referentes!AJ1353),2)=1,IF(referentes!AJ1353=\"\",\"\",LEFT(referentes!AJ1353,FIND(\"*-*\",referentes!AJ1353)-1)),referentes!AJ1353))","v":""},null,""]
[null,null,null,null,null,null,null,null,null,null,null,null,null,null,null,null,null,null,{"$f":"IF(referentes!AJ1354=\"\",\"\",IF(IFERROR(SEARCH(\"*-*\",referentes!AJ1354),2)=1,IF(referentes!AJ1354=\"\",\"\",LEFT(referentes!AJ1354,FIND(\"*-*\",referentes!AJ1354)-1)),referentes!AJ1354))","v":""},null,""]
[null,null,null,null,null,null,null,null,null,null,null,null,null,null,null,null,null,null,{"$f":"IF(referentes!AJ1355=\"\",\"\",IF(IFERROR(SEARCH(\"*-*\",referentes!AJ1355),2)=1,IF(referentes!AJ1355=\"\",\"\",LEFT(referentes!AJ1355,FIND(\"*-*\",referentes!AJ1355)-1)),referentes!AJ1355))","v":""},null,""]
[null,null,null,null,null,null,null,null,null,null,null,null,null,null,null,null,null,null,{"$f":"IF(referentes!AJ1356=\"\",\"\",IF(IFERROR(SEARCH(\"*-*\",referentes!AJ1356),2)=1,IF(referentes!AJ1356=\"\",\"\",LEFT(referentes!AJ1356,FIND(\"*-*\",referentes!AJ1356)-1)),referentes!AJ1356))","v":""},null,""]
[null,null,null,null,null,null,null,null,null,null,null,null,null,null,null,null,null,null,{"$f":"IF(referentes!AJ1357=\"\",\"\",IF(IFERROR(SEARCH(\"*-*\",referentes!AJ1357),2)=1,IF(referentes!AJ1357=\"\",\"\",LEFT(referentes!AJ1357,FIND(\"*-*\",referentes!AJ1357)-1)),referentes!AJ1357))","v":""},null,""]
[null,null,null,null,null,null,null,null,null,null,null,null,null,null,null,null,null,null,{"$f":"IF(referentes!AJ1358=\"\",\"\",IF(IFERROR(SEARCH(\"*-*\",referentes!AJ1358),2)=1,IF(referentes!AJ1358=\"\",\"\",LEFT(referentes!AJ1358,FIND(\"*-*\",referentes!AJ1358)-1)),referentes!AJ1358))","v":""},null,""]
[null,null,null,null,null,null,null,null,null,null,null,null,null,null,null,null,null,null,{"$f":"IF(referentes!AJ1359=\"\",\"\",IF(IFERROR(SEARCH(\"*-*\",referentes!AJ1359),2)=1,IF(referentes!AJ1359=\"\",\"\",LEFT(referentes!AJ1359,FIND(\"*-*\",referentes!AJ1359)-1)),referentes!AJ1359))","v":""},null,""]
[null,null,null,null,null,null,null,null,null,null,null,null,null,null,null,null,null,null,{"$f":"IF(referentes!AJ1360=\"\",\"\",IF(IFERROR(SEARCH(\"*-*\",referentes!AJ1360),2)=1,IF(referentes!AJ1360=\"\",\"\",LEFT(referentes!AJ1360,FIND(\"*-*\",referentes!AJ1360)-1)),referentes!AJ1360))","v":""},null,""]
[null,null,null,null,null,null,null,null,null,null,null,null,null,null,null,null,null,null,{"$f":"IF(referentes!AJ1361=\"\",\"\",IF(IFERROR(SEARCH(\"*-*\",referentes!AJ1361),2)=1,IF(referentes!AJ1361=\"\",\"\",LEFT(referentes!AJ1361,FIND(\"*-*\",referentes!AJ1361)-1)),referentes!AJ1361))","v":""},null,""]
[null,null,null,null,null,null,null,null,null,null,null,null,null,null,null,null,null,null,{"$f":"IF(referentes!AJ1362=\"\",\"\",IF(IFERROR(SEARCH(\"*-*\",referentes!AJ1362),2)=1,IF(referentes!AJ1362=\"\",\"\",LEFT(referentes!AJ1362,FIND(\"*-*\",referentes!AJ1362)-1)),referentes!AJ1362))","v":""},null,""]
[null,null,null,null,null,null,null,null,null,null,null,null,null,null,null,null,null,null,{"$f":"IF(referentes!AJ1363=\"\",\"\",IF(IFERROR(SEARCH(\"*-*\",referentes!AJ1363),2)=1,IF(referentes!AJ1363=\"\",\"\",LEFT(referentes!AJ1363,FIND(\"*-*\",referentes!AJ1363)-1)),referentes!AJ1363))","v":""},null,""]
[null,null,null,null,null,null,null,null,null,null,null,null,null,null,null,null,null,null,{"$f":"IF(referentes!AJ1364=\"\",\"\",IF(IFERROR(SEARCH(\"*-*\",referentes!AJ1364),2)=1,IF(referentes!AJ1364=\"\",\"\",LEFT(referentes!AJ1364,FIND(\"*-*\",referentes!AJ1364)-1)),referentes!AJ1364))","v":""},null,""]
[null,null,null,null,null,null,null,null,null,null,null,null,null,null,null,null,null,null,{"$f":"IF(referentes!AJ1365=\"\",\"\",IF(IFERROR(SEARCH(\"*-*\",referentes!AJ1365),2)=1,IF(referentes!AJ1365=\"\",\"\",LEFT(referentes!AJ1365,FIND(\"*-*\",referentes!AJ1365)-1)),referentes!AJ1365))","v":""},null,""]
[null,null,null,null,null,null,null,null,null,null,null,null,null,null,null,null,null,null,{"$f":"IF(referentes!AJ1366=\"\",\"\",IF(IFERROR(SEARCH(\"*-*\",referentes!AJ1366),2)=1,IF(referentes!AJ1366=\"\",\"\",LEFT(referentes!AJ1366,FIND(\"*-*\",referentes!AJ1366)-1)),referentes!AJ1366))","v":""},null,""]
[null,null,null,null,null,null,null,null,null,null,null,null,null,null,null,null,null,null,{"$f":"IF(referentes!AJ1367=\"\",\"\",IF(IFERROR(SEARCH(\"*-*\",referentes!AJ1367),2)=1,IF(referentes!AJ1367=\"\",\"\",LEFT(referentes!AJ1367,FIND(\"*-*\",referentes!AJ1367)-1)),referentes!AJ1367))","v":""},null,""]
[null,null,null,null,null,null,null,null,null,null,null,null,null,null,null,null,null,null,{"$f":"IF(referentes!AJ1368=\"\",\"\",IF(IFERROR(SEARCH(\"*-*\",referentes!AJ1368),2)=1,IF(referentes!AJ1368=\"\",\"\",LEFT(referentes!AJ1368,FIND(\"*-*\",referentes!AJ1368)-1)),referentes!AJ1368))","v":""},null,""]
[null,null,null,null,null,null,null,null,null,null,null,null,null,null,null,null,null,null,{"$f":"IF(referentes!AJ1369=\"\",\"\",IF(IFERROR(SEARCH(\"*-*\",referentes!AJ1369),2)=1,IF(referentes!AJ1369=\"\",\"\",LEFT(referentes!AJ1369,FIND(\"*-*\",referentes!AJ1369)-1)),referentes!AJ1369))","v":""},null,""]
[null,null,null,null,null,null,null,null,null,null,null,null,null,null,null,null,null,null,{"$f":"IF(referentes!AJ1370=\"\",\"\",IF(IFERROR(SEARCH(\"*-*\",referentes!AJ1370),2)=1,IF(referentes!AJ1370=\"\",\"\",LEFT(referentes!AJ1370,FIND(\"*-*\",referentes!AJ1370)-1)),referentes!AJ1370))","v":""},null,""]
[null,null,null,null,null,null,null,null,null,null,null,null,null,null,null,null,null,null,{"$f":"IF(referentes!AJ1371=\"\",\"\",IF(IFERROR(SEARCH(\"*-*\",referentes!AJ1371),2)=1,IF(referentes!AJ1371=\"\",\"\",LEFT(referentes!AJ1371,FIND(\"*-*\",referentes!AJ1371)-1)),referentes!AJ1371))","v":""},null,""]
[null,null,null,null,null,null,null,null,null,null,null,null,null,null,null,null,null,null,{"$f":"IF(referentes!AJ1372=\"\",\"\",IF(IFERROR(SEARCH(\"*-*\",referentes!AJ1372),2)=1,IF(referentes!AJ1372=\"\",\"\",LEFT(referentes!AJ1372,FIND(\"*-*\",referentes!AJ1372)-1)),referentes!AJ1372))","v":""},null,""]
[null,null,null,null,null,null,null,null,null,null,null,null,null,null,null,null,null,null,{"$f":"IF(referentes!AJ1373=\"\",\"\",IF(IFERROR(SEARCH(\"*-*\",referentes!AJ1373),2)=1,IF(referentes!AJ1373=\"\",\"\",LEFT(referentes!AJ1373,FIND(\"*-*\",referentes!AJ1373)-1)),referentes!AJ1373))","v":""},null,""]
[null,null,null,null,null,null,null,null,null,null,null,null,null,null,null,null,null,null,{"$f":"IF(referentes!AJ1374=\"\",\"\",IF(IFERROR(SEARCH(\"*-*\",referentes!AJ1374),2)=1,IF(referentes!AJ1374=\"\",\"\",LEFT(referentes!AJ1374,FIND(\"*-*\",referentes!AJ1374)-1)),referentes!AJ1374))","v":""},null,""]
[null,null,null,null,null,null,null,null,null,null,null,null,null,null,null,null,null,null,{"$f":"IF(referentes!AJ1375=\"\",\"\",IF(IFERROR(SEARCH(\"*-*\",referentes!AJ1375),2)=1,IF(referentes!AJ1375=\"\",\"\",LEFT(referentes!AJ1375,FIND(\"*-*\",referentes!AJ1375)-1)),referentes!AJ1375))","v":""},null,""]
[null,null,null,null,null,null,null,null,null,null,null,null,null,null,null,null,null,null,{"$f":"IF(referentes!AJ1376=\"\",\"\",IF(IFERROR(SEARCH(\"*-*\",referentes!AJ1376),2)=1,IF(referentes!AJ1376=\"\",\"\",LEFT(referentes!AJ1376,FIND(\"*-*\",referentes!AJ1376)-1)),referentes!AJ1376))","v":""},null,""]
[null,null,null,null,null,null,null,null,null,null,null,null,null,null,null,null,null,null,{"$f":"IF(referentes!AJ1377=\"\",\"\",IF(IFERROR(SEARCH(\"*-*\",referentes!AJ1377),2)=1,IF(referentes!AJ1377=\"\",\"\",LEFT(referentes!AJ1377,FIND(\"*-*\",referentes!AJ1377)-1)),referentes!AJ1377))","v":""},null,""]
[null,null,null,null,null,null,null,null,null,null,null,null,null,null,null,null,null,null,{"$f":"IF(referentes!AJ1378=\"\",\"\",IF(IFERROR(SEARCH(\"*-*\",referentes!AJ1378),2)=1,IF(referentes!AJ1378=\"\",\"\",LEFT(referentes!AJ1378,FIND(\"*-*\",referentes!AJ1378)-1)),referentes!AJ1378))","v":""},null,""]
[null,null,null,null,null,null,null,null,null,null,null,null,null,null,null,null,null,null,{"$f":"IF(referentes!AJ1379=\"\",\"\",IF(IFERROR(SEARCH(\"*-*\",referentes!AJ1379),2)=1,IF(referentes!AJ1379=\"\",\"\",LEFT(referentes!AJ1379,FIND(\"*-*\",referentes!AJ1379)-1)),referentes!AJ1379))","v":""},null,""]
[null,null,null,null,null,null,null,null,null,null,null,null,null,null,null,null,null,null,{"$f":"IF(referentes!AJ1380=\"\",\"\",IF(IFERROR(SEARCH(\"*-*\",referentes!AJ1380),2)=1,IF(referentes!AJ1380=\"\",\"\",LEFT(referentes!AJ1380,FIND(\"*-*\",referentes!AJ1380)-1)),referentes!AJ1380))","v":""},null,""]
[null,null,null,null,null,null,null,null,null,null,null,null,null,null,null,null,null,null,{"$f":"IF(referentes!AJ1381=\"\",\"\",IF(IFERROR(SEARCH(\"*-*\",referentes!AJ1381),2)=1,IF(referentes!AJ1381=\"\",\"\",LEFT(referentes!AJ1381,FIND(\"*-*\",referentes!AJ1381)-1)),referentes!AJ1381))","v":""},null,""]
[null,null,null,null,null,null,null,null,null,null,null,null,null,null,null,null,null,null,{"$f":"IF(referentes!AJ1382=\"\",\"\",IF(IFERROR(SEARCH(\"*-*\",referentes!AJ1382),2)=1,IF(referentes!AJ1382=\"\",\"\",LEFT(referentes!AJ1382,FIND(\"*-*\",referentes!AJ1382)-1)),referentes!AJ1382))","v":""},null,""]
[null,null,null,null,null,null,null,null,null,null,null,null,null,null,null,null,null,null,{"$f":"IF(referentes!AJ1383=\"\",\"\",IF(IFERROR(SEARCH(\"*-*\",referentes!AJ1383),2)=1,IF(referentes!AJ1383=\"\",\"\",LEFT(referentes!AJ1383,FIND(\"*-*\",referentes!AJ1383)-1)),referentes!AJ1383))","v":""},null,""]
[null,null,null,null,null,null,null,null,null,null,null,null,null,null,null,null,null,null,{"$f":"IF(referentes!AJ1384=\"\",\"\",IF(IFERROR(SEARCH(\"*-*\",referentes!AJ1384),2)=1,IF(referentes!AJ1384=\"\",\"\",LEFT(referentes!AJ1384,FIND(\"*-*\",referentes!AJ1384)-1)),referentes!AJ1384))","v":""},null,""]
[null,null,null,null,null,null,null,null,null,null,null,null,null,null,null,null,null,null,{"$f":"IF(referentes!AJ1385=\"\",\"\",IF(IFERROR(SEARCH(\"*-*\",referentes!AJ1385),2)=1,IF(referentes!AJ1385=\"\",\"\",LEFT(referentes!AJ1385,FIND(\"*-*\",referentes!AJ1385)-1)),referentes!AJ1385))","v":""},null,""]
[null,null,null,null,null,null,null,null,null,null,null,null,null,null,null,null,null,null,{"$f":"IF(referentes!AJ1386=\"\",\"\",IF(IFERROR(SEARCH(\"*-*\",referentes!AJ1386),2)=1,IF(referentes!AJ1386=\"\",\"\",LEFT(referentes!AJ1386,FIND(\"*-*\",referentes!AJ1386)-1)),referentes!AJ1386))","v":""},null,""]
[null,null,null,null,null,null,null,null,null,null,null,null,null,null,null,null,null,null,{"$f":"IF(referentes!AJ1387=\"\",\"\",IF(IFERROR(SEARCH(\"*-*\",referentes!AJ1387),2)=1,IF(referentes!AJ1387=\"\",\"\",LEFT(referentes!AJ1387,FIND(\"*-*\",referentes!AJ1387)-1)),referentes!AJ1387))","v":""},null,""]
[null,null,null,null,null,null,null,null,null,null,null,null,null,null,null,null,null,null,{"$f":"IF(referentes!AJ1388=\"\",\"\",IF(IFERROR(SEARCH(\"*-*\",referentes!AJ1388),2)=1,IF(referentes!AJ1388=\"\",\"\",LEFT(referentes!AJ1388,FIND(\"*-*\",referentes!AJ1388)-1)),referentes!AJ1388))","v":""},null,""]
[null,null,null,null,null,null,null,null,null,null,null,null,null,null,null,null,null,null,{"$f":"IF(referentes!AJ1389=\"\",\"\",IF(IFERROR(SEARCH(\"*-*\",referentes!AJ1389),2)=1,IF(referentes!AJ1389=\"\",\"\",LEFT(referentes!AJ1389,FIND(\"*-*\",referentes!AJ1389)-1)),referentes!AJ1389))","v":""},null,""]
[null,null,null,null,null,null,null,null,null,null,null,null,null,null,null,null,null,null,{"$f":"IF(referentes!AJ1390=\"\",\"\",IF(IFERROR(SEARCH(\"*-*\",referentes!AJ1390),2)=1,IF(referentes!AJ1390=\"\",\"\",LEFT(referentes!AJ1390,FIND(\"*-*\",referentes!AJ1390)-1)),referentes!AJ1390))","v":""},null,""]
[null,null,null,null,null,null,null,null,null,null,null,null,null,null,null,null,null,null,{"$f":"IF(referentes!AJ1391=\"\",\"\",IF(IFERROR(SEARCH(\"*-*\",referentes!AJ1391),2)=1,IF(referentes!AJ1391=\"\",\"\",LEFT(referentes!AJ1391,FIND(\"*-*\",referentes!AJ1391)-1)),referentes!AJ1391))","v":""},null,""]
[null,null,null,null,null,null,null,null,null,null,null,null,null,null,null,null,null,null,{"$f":"IF(referentes!AJ1392=\"\",\"\",IF(IFERROR(SEARCH(\"*-*\",referentes!AJ1392),2)=1,IF(referentes!AJ1392=\"\",\"\",LEFT(referentes!AJ1392,FIND(\"*-*\",referentes!AJ1392)-1)),referentes!AJ1392))","v":""},null,""]
[null,null,null,null,null,null,null,null,null,null,null,null,null,null,null,null,null,null,{"$f":"IF(referentes!AJ1393=\"\",\"\",IF(IFERROR(SEARCH(\"*-*\",referentes!AJ1393),2)=1,IF(referentes!AJ1393=\"\",\"\",LEFT(referentes!AJ1393,FIND(\"*-*\",referentes!AJ1393)-1)),referentes!AJ1393))","v":""},null,""]
[null,null,null,null,null,null,null,null,null,null,null,null,null,null,null,null,null,null,{"$f":"IF(referentes!AJ1394=\"\",\"\",IF(IFERROR(SEARCH(\"*-*\",referentes!AJ1394),2)=1,IF(referentes!AJ1394=\"\",\"\",LEFT(referentes!AJ1394,FIND(\"*-*\",referentes!AJ1394)-1)),referentes!AJ1394))","v":""},null,""]
[null,null,null,null,null,null,null,null,null,null,null,null,null,null,null,null,null,null,{"$f":"IF(referentes!AJ1395=\"\",\"\",IF(IFERROR(SEARCH(\"*-*\",referentes!AJ1395),2)=1,IF(referentes!AJ1395=\"\",\"\",LEFT(referentes!AJ1395,FIND(\"*-*\",referentes!AJ1395)-1)),referentes!AJ1395))","v":""},null,""]
[null,null,null,null,null,null,null,null,null,null,null,null,null,null,null,null,null,null,{"$f":"IF(referentes!AJ1396=\"\",\"\",IF(IFERROR(SEARCH(\"*-*\",referentes!AJ1396),2)=1,IF(referentes!AJ1396=\"\",\"\",LEFT(referentes!AJ1396,FIND(\"*-*\",referentes!AJ1396)-1)),referentes!AJ1396))","v":""},null,""]
[null,null,null,null,null,null,null,null,null,null,null,null,null,null,null,null,null,null,{"$f":"IF(referentes!AJ1397=\"\",\"\",IF(IFERROR(SEARCH(\"*-*\",referentes!AJ1397),2)=1,IF(referentes!AJ1397=\"\",\"\",LEFT(referentes!AJ1397,FIND(\"*-*\",referentes!AJ1397)-1)),referentes!AJ1397))","v":""},null,""]
[null,null,null,null,null,null,null,null,null,null,null,null,null,null,null,null,null,null,{"$f":"IF(referentes!AJ1398=\"\",\"\",IF(IFERROR(SEARCH(\"*-*\",referentes!AJ1398),2)=1,IF(referentes!AJ1398=\"\",\"\",LEFT(referentes!AJ1398,FIND(\"*-*\",referentes!AJ1398)-1)),referentes!AJ1398))","v":""},null,""]
[null,null,null,null,null,null,null,null,null,null,null,null,null,null,null,null,null,null,{"$f":"IF(referentes!AJ1399=\"\",\"\",IF(IFERROR(SEARCH(\"*-*\",referentes!AJ1399),2)=1,IF(referentes!AJ1399=\"\",\"\",LEFT(referentes!AJ1399,FIND(\"*-*\",referentes!AJ1399)-1)),referentes!AJ1399))","v":""},null,""]
[null,null,null,null,null,null,null,null,null,null,null,null,null,null,null,null,null,null,{"$f":"IF(referentes!AJ1400=\"\",\"\",IF(IFERROR(SEARCH(\"*-*\",referentes!AJ1400),2)=1,IF(referentes!AJ1400=\"\",\"\",LEFT(referentes!AJ1400,FIND(\"*-*\",referentes!AJ1400)-1)),referentes!AJ1400))","v":""},null,""]
[null,null,null,null,null,null,null,null,null,null,null,null,null,null,null,null,null,null,{"$f":"IF(referentes!AJ1401=\"\",\"\",IF(IFERROR(SEARCH(\"*-*\",referentes!AJ1401),2)=1,IF(referentes!AJ1401=\"\",\"\",LEFT(referentes!AJ1401,FIND(\"*-*\",referentes!AJ1401)-1)),referentes!AJ1401))","v":""},null,""]
[null,null,null,null,null,null,null,null,null,null,null,null,null,null,null,null,null,null,{"$f":"IF(referentes!AJ1402=\"\",\"\",IF(IFERROR(SEARCH(\"*-*\",referentes!AJ1402),2)=1,IF(referentes!AJ1402=\"\",\"\",LEFT(referentes!AJ1402,FIND(\"*-*\",referentes!AJ1402)-1)),referentes!AJ1402))","v":""},null,""]
[null,null,null,null,null,null,null,null,null,null,null,null,null,null,null,null,null,null,{"$f":"IF(referentes!AJ1403=\"\",\"\",IF(IFERROR(SEARCH(\"*-*\",referentes!AJ1403),2)=1,IF(referentes!AJ1403=\"\",\"\",LEFT(referentes!AJ1403,FIND(\"*-*\",referentes!AJ1403)-1)),referentes!AJ1403))","v":""},null,""]
[null,null,null,null,null,null,null,null,null,null,null,null,null,null,null,null,null,null,{"$f":"IF(referentes!AJ1404=\"\",\"\",IF(IFERROR(SEARCH(\"*-*\",referentes!AJ1404),2)=1,IF(referentes!AJ1404=\"\",\"\",LEFT(referentes!AJ1404,FIND(\"*-*\",referentes!AJ1404)-1)),referentes!AJ1404))","v":""},null,""]
[null,null,null,null,null,null,null,null,null,null,null,null,null,null,null,null,null,null,{"$f":"IF(referentes!AJ1405=\"\",\"\",IF(IFERROR(SEARCH(\"*-*\",referentes!AJ1405),2)=1,IF(referentes!AJ1405=\"\",\"\",LEFT(referentes!AJ1405,FIND(\"*-*\",referentes!AJ1405)-1)),referentes!AJ1405))","v":""},null,""]
[null,null,null,null,null,null,null,null,null,null,null,null,null,null,null,null,null,null,{"$f":"IF(referentes!AJ1406=\"\",\"\",IF(IFERROR(SEARCH(\"*-*\",referentes!AJ1406),2)=1,IF(referentes!AJ1406=\"\",\"\",LEFT(referentes!AJ1406,FIND(\"*-*\",referentes!AJ1406)-1)),referentes!AJ1406))","v":""},null,""]
[null,null,null,null,null,null,null,null,null,null,null,null,null,null,null,null,null,null,{"$f":"IF(referentes!AJ1407=\"\",\"\",IF(IFERROR(SEARCH(\"*-*\",referentes!AJ1407),2)=1,IF(referentes!AJ1407=\"\",\"\",LEFT(referentes!AJ1407,FIND(\"*-*\",referentes!AJ1407)-1)),referentes!AJ1407))","v":""},null,""]
[null,null,null,null,null,null,null,null,null,null,null,null,null,null,null,null,null,null,{"$f":"IF(referentes!AJ1408=\"\",\"\",IF(IFERROR(SEARCH(\"*-*\",referentes!AJ1408),2)=1,IF(referentes!AJ1408=\"\",\"\",LEFT(referentes!AJ1408,FIND(\"*-*\",referentes!AJ1408)-1)),referentes!AJ1408))","v":""},null,""]
[null,null,null,null,null,null,null,null,null,null,null,null,null,null,null,null,null,null,{"$f":"IF(referentes!AJ1409=\"\",\"\",IF(IFERROR(SEARCH(\"*-*\",referentes!AJ1409),2)=1,IF(referentes!AJ1409=\"\",\"\",LEFT(referentes!AJ1409,FIND(\"*-*\",referentes!AJ1409)-1)),referentes!AJ1409))","v":""},null,""]
[null,null,null,null,null,null,null,null,null,null,null,null,null,null,null,null,null,null,{"$f":"IF(referentes!AJ1410=\"\",\"\",IF(IFERROR(SEARCH(\"*-*\",referentes!AJ1410),2)=1,IF(referentes!AJ1410=\"\",\"\",LEFT(referentes!AJ1410,FIND(\"*-*\",referentes!AJ1410)-1)),referentes!AJ1410))","v":""},null,""]
[null,null,null,null,null,null,null,null,null,null,null,null,null,null,null,null,null,null,{"$f":"IF(referentes!AJ1411=\"\",\"\",IF(IFERROR(SEARCH(\"*-*\",referentes!AJ1411),2)=1,IF(referentes!AJ1411=\"\",\"\",LEFT(referentes!AJ1411,FIND(\"*-*\",referentes!AJ1411)-1)),referentes!AJ1411))","v":""},null,""]
[null,null,null,null,null,null,null,null,null,null,null,null,null,null,null,null,null,null,{"$f":"IF(referentes!AJ1412=\"\",\"\",IF(IFERROR(SEARCH(\"*-*\",referentes!AJ1412),2)=1,IF(referentes!AJ1412=\"\",\"\",LEFT(referentes!AJ1412,FIND(\"*-*\",referentes!AJ1412)-1)),referentes!AJ1412))","v":""},null,""]
[null,null,null,null,null,null,null,null,null,null,null,null,null,null,null,null,null,null,{"$f":"IF(referentes!AJ1413=\"\",\"\",IF(IFERROR(SEARCH(\"*-*\",referentes!AJ1413),2)=1,IF(referentes!AJ1413=\"\",\"\",LEFT(referentes!AJ1413,FIND(\"*-*\",referentes!AJ1413)-1)),referentes!AJ1413))","v":""},null,""]
[null,null,null,null,null,null,null,null,null,null,null,null,null,null,null,null,null,null,{"$f":"IF(referentes!AJ1414=\"\",\"\",IF(IFERROR(SEARCH(\"*-*\",referentes!AJ1414),2)=1,IF(referentes!AJ1414=\"\",\"\",LEFT(referentes!AJ1414,FIND(\"*-*\",referentes!AJ1414)-1)),referentes!AJ1414))","v":""},null,""]
[null,null,null,null,null,null,null,null,null,null,null,null,null,null,null,null,null,null,{"$f":"IF(referentes!AJ1415=\"\",\"\",IF(IFERROR(SEARCH(\"*-*\",referentes!AJ1415),2)=1,IF(referentes!AJ1415=\"\",\"\",LEFT(referentes!AJ1415,FIND(\"*-*\",referentes!AJ1415)-1)),referentes!AJ1415))","v":""},null,""]
[null,null,null,null,null,null,null,null,null,null,null,null,null,null,null,null,null,null,{"$f":"IF(referentes!AJ1416=\"\",\"\",IF(IFERROR(SEARCH(\"*-*\",referentes!AJ1416),2)=1,IF(referentes!AJ1416=\"\",\"\",LEFT(referentes!AJ1416,FIND(\"*-*\",referentes!AJ1416)-1)),referentes!AJ1416))","v":""},null,{"$f":"IF(IFERROR(T1415,R1415)=S1415,\"\",R1415)","v":""}]
[null,null,null,null,null,null,null,null,null,null,null,null,null,null,null,null,null,null,{"$f":"IF(referentes!AJ1417=\"\",\"\",IF(IFERROR(SEARCH(\"*-*\",referentes!AJ1417),2)=1,IF(referentes!AJ1417=\"\",\"\",LEFT(referentes!AJ1417,FIND(\"*-*\",referentes!AJ1417)-1)),referentes!AJ1417))","v":""},null,""]
[null,null,null,null,null,null,null,null,null,null,null,null,null,null,null,null,null,null,{"$f":"IF(referentes!AJ1418=\"\",\"\",IF(IFERROR(SEARCH(\"*-*\",referentes!AJ1418),2)=1,IF(referentes!AJ1418=\"\",\"\",LEFT(referentes!AJ1418,FIND(\"*-*\",referentes!AJ1418)-1)),referentes!AJ1418))","v":""},null,""]
[null,null,null,null,null,null,null,null,null,null,null,null,null,null,null,null,null,null,{"$f":"IF(referentes!AJ1419=\"\",\"\",IF(IFERROR(SEARCH(\"*-*\",referentes!AJ1419),2)=1,IF(referentes!AJ1419=\"\",\"\",LEFT(referentes!AJ1419,FIND(\"*-*\",referentes!AJ1419)-1)),referentes!AJ1419))","v":""},null,""]
[null,null,null,null,null,null,null,null,null,null,null,null,null,null,null,null,null,null,{"$f":"IF(referentes!AJ1420=\"\",\"\",IF(IFERROR(SEARCH(\"*-*\",referentes!AJ1420),2)=1,IF(referentes!AJ1420=\"\",\"\",LEFT(referentes!AJ1420,FIND(\"*-*\",referentes!AJ1420)-1)),referentes!AJ1420))","v":""},null,""]
[null,null,null,null,null,null,null,null,null,null,null,null,null,null,null,null,null,null,{"$f":"IF(referentes!AJ1421=\"\",\"\",IF(IFERROR(SEARCH(\"*-*\",referentes!AJ1421),2)=1,IF(referentes!AJ1421=\"\",\"\",LEFT(referentes!AJ1421,FIND(\"*-*\",referentes!AJ1421)-1)),referentes!AJ1421))","v":""},null,""]
[null,null,null,null,null,null,null,null,null,null,null,null,null,null,null,null,null,null,{"$f":"IF(referentes!AJ1422=\"\",\"\",IF(IFERROR(SEARCH(\"*-*\",referentes!AJ1422),2)=1,IF(referentes!AJ1422=\"\",\"\",LEFT(referentes!AJ1422,FIND(\"*-*\",referentes!AJ1422)-1)),referentes!AJ1422))","v":""},null,""]
[null,null,null,null,null,null,null,null,null,null,null,null,null,null,null,null,null,null,{"$f":"IF(referentes!AJ1423=\"\",\"\",IF(IFERROR(SEARCH(\"*-*\",referentes!AJ1423),2)=1,IF(referentes!AJ1423=\"\",\"\",LEFT(referentes!AJ1423,FIND(\"*-*\",referentes!AJ1423)-1)),referentes!AJ1423))","v":""},null,""]
[null,null,null,null,null,null,null,null,null,null,null,null,null,null,null,null,null,null,{"$f":"IF(referentes!AJ1424=\"\",\"\",IF(IFERROR(SEARCH(\"*-*\",referentes!AJ1424),2)=1,IF(referentes!AJ1424=\"\",\"\",LEFT(referentes!AJ1424,FIND(\"*-*\",referentes!AJ1424)-1)),referentes!AJ1424))","v":""},null,""]
[null,null,null,null,null,null,null,null,null,null,null,null,null,null,null,null,null,null,{"$f":"IF(referentes!AJ1425=\"\",\"\",IF(IFERROR(SEARCH(\"*-*\",referentes!AJ1425),2)=1,IF(referentes!AJ1425=\"\",\"\",LEFT(referentes!AJ1425,FIND(\"*-*\",referentes!AJ1425)-1)),referentes!AJ1425))","v":""},null,""]
[null,null,null,null,null,null,null,null,null,null,null,null,null,null,null,null,null,null,{"$f":"IF(referentes!AJ1426=\"\",\"\",IF(IFERROR(SEARCH(\"*-*\",referentes!AJ1426),2)=1,IF(referentes!AJ1426=\"\",\"\",LEFT(referentes!AJ1426,FIND(\"*-*\",referentes!AJ1426)-1)),referentes!AJ1426))","v":""},null,""]
[null,null,null,null,null,null,null,null,null,null,null,null,null,null,null,null,null,null,{"$f":"IF(referentes!AJ1427=\"\",\"\",IF(IFERROR(SEARCH(\"*-*\",referentes!AJ1427),2)=1,IF(referentes!AJ1427=\"\",\"\",LEFT(referentes!AJ1427,FIND(\"*-*\",referentes!AJ1427)-1)),referentes!AJ1427))","v":""},null,""]
[null,null,null,null,null,null,null,null,null,null,null,null,null,null,null,null,null,null,{"$f":"IF(referentes!AJ1428=\"\",\"\",IF(IFERROR(SEARCH(\"*-*\",referentes!AJ1428),2)=1,IF(referentes!AJ1428=\"\",\"\",LEFT(referentes!AJ1428,FIND(\"*-*\",referentes!AJ1428)-1)),referentes!AJ1428))","v":""},null,""]
[null,null,null,null,null,null,null,null,null,null,null,null,null,null,null,null,null,null,{"$f":"IF(referentes!AJ1429=\"\",\"\",IF(IFERROR(SEARCH(\"*-*\",referentes!AJ1429),2)=1,IF(referentes!AJ1429=\"\",\"\",LEFT(referentes!AJ1429,FIND(\"*-*\",referentes!AJ1429)-1)),referentes!AJ1429))","v":""},null,""]
[null,null,null,null,null,null,null,null,null,null,null,null,null,null,null,null,null,null,{"$f":"IF(referentes!AJ1430=\"\",\"\",IF(IFERROR(SEARCH(\"*-*\",referentes!AJ1430),2)=1,IF(referentes!AJ1430=\"\",\"\",LEFT(referentes!AJ1430,FIND(\"*-*\",referentes!AJ1430)-1)),referentes!AJ1430))","v":""},null,""]
[null,null,null,null,null,null,null,null,null,null,null,null,null,null,null,null,null,null,{"$f":"IF(referentes!AJ1431=\"\",\"\",IF(IFERROR(SEARCH(\"*-*\",referentes!AJ1431),2)=1,IF(referentes!AJ1431=\"\",\"\",LEFT(referentes!AJ1431,FIND(\"*-*\",referentes!AJ1431)-1)),referentes!AJ1431))","v":""},null,""]
[null,null,null,null,null,null,null,null,null,null,null,null,null,null,null,null,null,null,{"$f":"IF(referentes!AJ1432=\"\",\"\",IF(IFERROR(SEARCH(\"*-*\",referentes!AJ1432),2)=1,IF(referentes!AJ1432=\"\",\"\",LEFT(referentes!AJ1432,FIND(\"*-*\",referentes!AJ1432)-1)),referentes!AJ1432))","v":""},null,""]
[null,null,null,null,null,null,null,null,null,null,null,null,null,null,null,null,null,null,{"$f":"IF(referentes!AJ1433=\"\",\"\",IF(IFERROR(SEARCH(\"*-*\",referentes!AJ1433),2)=1,IF(referentes!AJ1433=\"\",\"\",LEFT(referentes!AJ1433,FIND(\"*-*\",referentes!AJ1433)-1)),referentes!AJ1433))","v":""},null,""]
[null,null,null,null,null,null,null,null,null,null,null,null,null,null,null,null,null,null,{"$f":"IF(referentes!AJ1434=\"\",\"\",IF(IFERROR(SEARCH(\"*-*\",referentes!AJ1434),2)=1,IF(referentes!AJ1434=\"\",\"\",LEFT(referentes!AJ1434,FIND(\"*-*\",referentes!AJ1434)-1)),referentes!AJ1434))","v":""},null,""]
[null,null,null,null,null,null,null,null,null,null,null,null,null,null,null,null,null,null,{"$f":"IF(referentes!AJ1435=\"\",\"\",IF(IFERROR(SEARCH(\"*-*\",referentes!AJ1435),2)=1,IF(referentes!AJ1435=\"\",\"\",LEFT(referentes!AJ1435,FIND(\"*-*\",referentes!AJ1435)-1)),referentes!AJ1435))","v":""},null,""]
[null,null,null,null,null,null,null,null,null,null,null,null,null,null,null,null,null,null,{"$f":"IF(referentes!AJ1436=\"\",\"\",IF(IFERROR(SEARCH(\"*-*\",referentes!AJ1436),2)=1,IF(referentes!AJ1436=\"\",\"\",LEFT(referentes!AJ1436,FIND(\"*-*\",referentes!AJ1436)-1)),referentes!AJ1436))","v":""},null,""]
[null,null,null,null,null,null,null,null,null,null,null,null,null,null,null,null,null,null,{"$f":"IF(referentes!AJ1437=\"\",\"\",IF(IFERROR(SEARCH(\"*-*\",referentes!AJ1437),2)=1,IF(referentes!AJ1437=\"\",\"\",LEFT(referentes!AJ1437,FIND(\"*-*\",referentes!AJ1437)-1)),referentes!AJ1437))","v":""},null,""]
[null,null,null,null,null,null,null,null,null,null,null,null,null,null,null,null,null,null,{"$f":"IF(referentes!AJ1438=\"\",\"\",IF(IFERROR(SEARCH(\"*-*\",referentes!AJ1438),2)=1,IF(referentes!AJ1438=\"\",\"\",LEFT(referentes!AJ1438,FIND(\"*-*\",referentes!AJ1438)-1)),referentes!AJ1438))","v":""},null,""]
[null,null,null,null,null,null,null,null,null,null,null,null,null,null,null,null,null,null,{"$f":"IF(referentes!AJ1439=\"\",\"\",IF(IFERROR(SEARCH(\"*-*\",referentes!AJ1439),2)=1,IF(referentes!AJ1439=\"\",\"\",LEFT(referentes!AJ1439,FIND(\"*-*\",referentes!AJ1439)-1)),referentes!AJ1439))","v":""},null,""]
[null,null,null,null,null,null,null,null,null,null,null,null,null,null,null,null,null,null,{"$f":"IF(referentes!AJ1440=\"\",\"\",IF(IFERROR(SEARCH(\"*-*\",referentes!AJ1440),2)=1,IF(referentes!AJ1440=\"\",\"\",LEFT(referentes!AJ1440,FIND(\"*-*\",referentes!AJ1440)-1)),referentes!AJ1440))","v":""},null,""]
[null,null,null,null,null,null,null,null,null,null,null,null,null,null,null,null,null,null,{"$f":"IF(referentes!AJ1441=\"\",\"\",IF(IFERROR(SEARCH(\"*-*\",referentes!AJ1441),2)=1,IF(referentes!AJ1441=\"\",\"\",LEFT(referentes!AJ1441,FIND(\"*-*\",referentes!AJ1441)-1)),referentes!AJ1441))","v":""},null,""]
[null,null,null,null,null,null,null,null,null,null,null,null,null,null,null,null,null,null,{"$f":"IF(referentes!AJ1442=\"\",\"\",IF(IFERROR(SEARCH(\"*-*\",referentes!AJ1442),2)=1,IF(referentes!AJ1442=\"\",\"\",LEFT(referentes!AJ1442,FIND(\"*-*\",referentes!AJ1442)-1)),referentes!AJ1442))","v":""},null,""]
[null,null,null,null,null,null,null,null,null,null,null,null,null,null,null,null,null,null,{"$f":"IF(referentes!AJ1443=\"\",\"\",IF(IFERROR(SEARCH(\"*-*\",referentes!AJ1443),2)=1,IF(referentes!AJ1443=\"\",\"\",LEFT(referentes!AJ1443,FIND(\"*-*\",referentes!AJ1443)-1)),referentes!AJ1443))","v":""},null,""]
[null,null,null,null,null,null,null,null,null,null,null,null,null,null,null,null,null,null,{"$f":"IF(referentes!AJ1444=\"\",\"\",IF(IFERROR(SEARCH(\"*-*\",referentes!AJ1444),2)=1,IF(referentes!AJ1444=\"\",\"\",LEFT(referentes!AJ1444,FIND(\"*-*\",referentes!AJ1444)-1)),referentes!AJ1444))","v":""},null,""]
[null,null,null,null,null,null,null,null,null,null,null,null,null,null,null,null,null,null,{"$f":"IF(referentes!AJ1445=\"\",\"\",IF(IFERROR(SEARCH(\"*-*\",referentes!AJ1445),2)=1,IF(referentes!AJ1445=\"\",\"\",LEFT(referentes!AJ1445,FIND(\"*-*\",referentes!AJ1445)-1)),referentes!AJ1445))","v":""},null,""]
[null,null,null,null,null,null,null,null,null,null,null,null,null,null,null,null,null,null,{"$f":"IF(referentes!AJ1446=\"\",\"\",IF(IFERROR(SEARCH(\"*-*\",referentes!AJ1446),2)=1,IF(referentes!AJ1446=\"\",\"\",LEFT(referentes!AJ1446,FIND(\"*-*\",referentes!AJ1446)-1)),referentes!AJ1446))","v":""},null,""]
[null,null,null,null,null,null,null,null,null,null,null,null,null,null,null,null,null,null,{"$f":"IF(referentes!AJ1447=\"\",\"\",IF(IFERROR(SEARCH(\"*-*\",referentes!AJ1447),2)=1,IF(referentes!AJ1447=\"\",\"\",LEFT(referentes!AJ1447,FIND(\"*-*\",referentes!AJ1447)-1)),referentes!AJ1447))","v":""},null,""]
[null,null,null,null,null,null,null,null,null,null,null,null,null,null,null,null,null,null,{"$f":"IF(referentes!AJ1448=\"\",\"\",IF(IFERROR(SEARCH(\"*-*\",referentes!AJ1448),2)=1,IF(referentes!AJ1448=\"\",\"\",LEFT(referentes!AJ1448,FIND(\"*-*\",referentes!AJ1448)-1)),referentes!AJ1448))","v":""},null,""]
[null,null,null,null,null,null,null,null,null,null,null,null,null,null,null,null,null,null,{"$f":"IF(referentes!AJ1449=\"\",\"\",IF(IFERROR(SEARCH(\"*-*\",referentes!AJ1449),2)=1,IF(referentes!AJ1449=\"\",\"\",LEFT(referentes!AJ1449,FIND(\"*-*\",referentes!AJ1449)-1)),referentes!AJ1449))","v":""},null,""]
[null,null,null,null,null,null,null,null,null,null,null,null,null,null,null,null,null,null,{"$f":"IF(referentes!AJ1450=\"\",\"\",IF(IFERROR(SEARCH(\"*-*\",referentes!AJ1450),2)=1,IF(referentes!AJ1450=\"\",\"\",LEFT(referentes!AJ1450,FIND(\"*-*\",referentes!AJ1450)-1)),referentes!AJ1450))","v":""},null,""]
[null,null,null,null,null,null,null,null,null,null,null,null,null,null,null,null,null,null,{"$f":"IF(referentes!AJ1451=\"\",\"\",IF(IFERROR(SEARCH(\"*-*\",referentes!AJ1451),2)=1,IF(referentes!AJ1451=\"\",\"\",LEFT(referentes!AJ1451,FIND(\"*-*\",referentes!AJ1451)-1)),referentes!AJ1451))","v":""},null,""]
[null,null,null,null,null,null,null,null,null,null,null,null,null,null,null,null,null,null,{"$f":"IF(referentes!AJ1452=\"\",\"\",IF(IFERROR(SEARCH(\"*-*\",referentes!AJ1452),2)=1,IF(referentes!AJ1452=\"\",\"\",LEFT(referentes!AJ1452,FIND(\"*-*\",referentes!AJ1452)-1)),referentes!AJ1452))","v":""},null,""]
[null,null,null,null,null,null,null,null,null,null,null,null,null,null,null,null,null,null,{"$f":"IF(referentes!AJ1453=\"\",\"\",IF(IFERROR(SEARCH(\"*-*\",referentes!AJ1453),2)=1,IF(referentes!AJ1453=\"\",\"\",LEFT(referentes!AJ1453,FIND(\"*-*\",referentes!AJ1453)-1)),referentes!AJ1453))","v":""},null,""]
[null,null,null,null,null,null,null,null,null,null,null,null,null,null,null,null,null,null,{"$f":"IF(referentes!AJ1454=\"\",\"\",IF(IFERROR(SEARCH(\"*-*\",referentes!AJ1454),2)=1,IF(referentes!AJ1454=\"\",\"\",LEFT(referentes!AJ1454,FIND(\"*-*\",referentes!AJ1454)-1)),referentes!AJ1454))","v":""},null,""]
[null,null,null,null,null,null,null,null,null,null,null,null,null,null,null,null,null,null,{"$f":"IF(referentes!AJ1455=\"\",\"\",IF(IFERROR(SEARCH(\"*-*\",referentes!AJ1455),2)=1,IF(referentes!AJ1455=\"\",\"\",LEFT(referentes!AJ1455,FIND(\"*-*\",referentes!AJ1455)-1)),referentes!AJ1455))","v":""},null,""]
[null,null,null,null,null,null,null,null,null,null,null,null,null,null,null,null,null,null,{"$f":"IF(referentes!AJ1456=\"\",\"\",IF(IFERROR(SEARCH(\"*-*\",referentes!AJ1456),2)=1,IF(referentes!AJ1456=\"\",\"\",LEFT(referentes!AJ1456,FIND(\"*-*\",referentes!AJ1456)-1)),referentes!AJ1456))","v":""},null,""]
[null,null,null,null,null,null,null,null,null,null,null,null,null,null,null,null,null,null,{"$f":"IF(referentes!AJ1457=\"\",\"\",IF(IFERROR(SEARCH(\"*-*\",referentes!AJ1457),2)=1,IF(referentes!AJ1457=\"\",\"\",LEFT(referentes!AJ1457,FIND(\"*-*\",referentes!AJ1457)-1)),referentes!AJ1457))","v":""},null,""]
[null,null,null,null,null,null,null,null,null,null,null,null,null,null,null,null,null,null,{"$f":"IF(referentes!AJ1458=\"\",\"\",IF(IFERROR(SEARCH(\"*-*\",referentes!AJ1458),2)=1,IF(referentes!AJ1458=\"\",\"\",LEFT(referentes!AJ1458,FIND(\"*-*\",referentes!AJ1458)-1)),referentes!AJ1458))","v":""},null,""]
[null,null,null,null,null,null,null,null,null,null,null,null,null,null,null,null,null,null,{"$f":"IF(referentes!AJ1459=\"\",\"\",IF(IFERROR(SEARCH(\"*-*\",referentes!AJ1459),2)=1,IF(referentes!AJ1459=\"\",\"\",LEFT(referentes!AJ1459,FIND(\"*-*\",referentes!AJ1459)-1)),referentes!AJ1459))","v":""},null,""]
[null,null,null,null,null,null,null,null,null,null,null,null,null,null,null,null,null,null,{"$f":"IF(referentes!AJ1460=\"\",\"\",IF(IFERROR(SEARCH(\"*-*\",referentes!AJ1460),2)=1,IF(referentes!AJ1460=\"\",\"\",LEFT(referentes!AJ1460,FIND(\"*-*\",referentes!AJ1460)-1)),referentes!AJ1460))","v":""},null,""]
[null,null,null,null,null,null,null,null,null,null,null,null,null,null,null,null,null,null,{"$f":"IF(referentes!AJ1461=\"\",\"\",IF(IFERROR(SEARCH(\"*-*\",referentes!AJ1461),2)=1,IF(referentes!AJ1461=\"\",\"\",LEFT(referentes!AJ1461,FIND(\"*-*\",referentes!AJ1461)-1)),referentes!AJ1461))","v":""},null,""]
[null,null,null,null,null,null,null,null,null,null,null,null,null,null,null,null,null,null,{"$f":"IF(referentes!AJ1462=\"\",\"\",IF(IFERROR(SEARCH(\"*-*\",referentes!AJ1462),2)=1,IF(referentes!AJ1462=\"\",\"\",LEFT(referentes!AJ1462,FIND(\"*-*\",referentes!AJ1462)-1)),referentes!AJ1462))","v":""},null,""]
[null,null,null,null,null,null,null,null,null,null,null,null,null,null,null,null,null,null,{"$f":"IF(referentes!AJ1463=\"\",\"\",IF(IFERROR(SEARCH(\"*-*\",referentes!AJ1463),2)=1,IF(referentes!AJ1463=\"\",\"\",LEFT(referentes!AJ1463,FIND(\"*-*\",referentes!AJ1463)-1)),referentes!AJ1463))","v":""},null,""]
[null,null,null,null,null,null,null,null,null,null,null,null,null,null,null,null,null,null,{"$f":"IF(referentes!AJ1464=\"\",\"\",IF(IFERROR(SEARCH(\"*-*\",referentes!AJ1464),2)=1,IF(referentes!AJ1464=\"\",\"\",LEFT(referentes!AJ1464,FIND(\"*-*\",referentes!AJ1464)-1)),referentes!AJ1464))","v":""},null,""]
[null,null,null,null,null,null,null,null,null,null,null,null,null,null,null,null,null,null,{"$f":"IF(referentes!AJ1465=\"\",\"\",IF(IFERROR(SEARCH(\"*-*\",referentes!AJ1465),2)=1,IF(referentes!AJ1465=\"\",\"\",LEFT(referentes!AJ1465,FIND(\"*-*\",referentes!AJ1465)-1)),referentes!AJ1465))","v":""},null,""]
[null,null,null,null,null,null,null,null,null,null,null,null,null,null,null,null,null,null,{"$f":"IF(referentes!AJ1466=\"\",\"\",IF(IFERROR(SEARCH(\"*-*\",referentes!AJ1466),2)=1,IF(referentes!AJ1466=\"\",\"\",LEFT(referentes!AJ1466,FIND(\"*-*\",referentes!AJ1466)-1)),referentes!AJ1466))","v":""},null,""]
[null,null,null,null,null,null,null,null,null,null,null,null,null,null,null,null,null,null,{"$f":"IF(referentes!AJ1467=\"\",\"\",IF(IFERROR(SEARCH(\"*-*\",referentes!AJ1467),2)=1,IF(referentes!AJ1467=\"\",\"\",LEFT(referentes!AJ1467,FIND(\"*-*\",referentes!AJ1467)-1)),referentes!AJ1467))","v":""},null,""]
[null,null,null,null,null,null,null,null,null,null,null,null,null,null,null,null,null,null,{"$f":"IF(referentes!AJ1468=\"\",\"\",IF(IFERROR(SEARCH(\"*-*\",referentes!AJ1468),2)=1,IF(referentes!AJ1468=\"\",\"\",LEFT(referentes!AJ1468,FIND(\"*-*\",referentes!AJ1468)-1)),referentes!AJ1468))","v":""},null,""]
[null,null,null,null,null,null,null,null,null,null,null,null,null,null,null,null,null,null,{"$f":"IF(referentes!AJ1469=\"\",\"\",IF(IFERROR(SEARCH(\"*-*\",referentes!AJ1469),2)=1,IF(referentes!AJ1469=\"\",\"\",LEFT(referentes!AJ1469,FIND(\"*-*\",referentes!AJ1469)-1)),referentes!AJ1469))","v":""},null,""]
[null,null,null,null,null,null,null,null,null,null,null,null,null,null,null,null,null,null,{"$f":"IF(referentes!AJ1470=\"\",\"\",IF(IFERROR(SEARCH(\"*-*\",referentes!AJ1470),2)=1,IF(referentes!AJ1470=\"\",\"\",LEFT(referentes!AJ1470,FIND(\"*-*\",referentes!AJ1470)-1)),referentes!AJ1470))","v":""},null,""]
[null,null,null,null,null,null,null,null,null,null,null,null,null,null,null,null,null,null,{"$f":"IF(referentes!AJ1471=\"\",\"\",IF(IFERROR(SEARCH(\"*-*\",referentes!AJ1471),2)=1,IF(referentes!AJ1471=\"\",\"\",LEFT(referentes!AJ1471,FIND(\"*-*\",referentes!AJ1471)-1)),referentes!AJ1471))","v":""},null,""]
[null,null,null,null,null,null,null,null,null,null,null,null,null,null,null,null,null,null,{"$f":"IF(referentes!AJ1472=\"\",\"\",IF(IFERROR(SEARCH(\"*-*\",referentes!AJ1472),2)=1,IF(referentes!AJ1472=\"\",\"\",LEFT(referentes!AJ1472,FIND(\"*-*\",referentes!AJ1472)-1)),referentes!AJ1472))","v":""},null,""]
[null,null,null,null,null,null,null,null,null,null,null,null,null,null,null,null,null,null,{"$f":"IF(referentes!AJ1473=\"\",\"\",IF(IFERROR(SEARCH(\"*-*\",referentes!AJ1473),2)=1,IF(referentes!AJ1473=\"\",\"\",LEFT(referentes!AJ1473,FIND(\"*-*\",referentes!AJ1473)-1)),referentes!AJ1473))","v":""},null,""]
[null,null,null,null,null,null,null,null,null,null,null,null,null,null,null,null,null,null,{"$f":"IF(referentes!AJ1474=\"\",\"\",IF(IFERROR(SEARCH(\"*-*\",referentes!AJ1474),2)=1,IF(referentes!AJ1474=\"\",\"\",LEFT(referentes!AJ1474,FIND(\"*-*\",referentes!AJ1474)-1)),referentes!AJ1474))","v":""},null,""]
[null,null,null,null,null,null,null,null,null,null,null,null,null,null,null,null,null,null,{"$f":"IF(referentes!AJ1475=\"\",\"\",IF(IFERROR(SEARCH(\"*-*\",referentes!AJ1475),2)=1,IF(referentes!AJ1475=\"\",\"\",LEFT(referentes!AJ1475,FIND(\"*-*\",referentes!AJ1475)-1)),referentes!AJ1475))","v":""},null,""]
[null,null,null,null,null,null,null,null,null,null,null,null,null,null,null,null,null,null,{"$f":"IF(referentes!AJ1476=\"\",\"\",IF(IFERROR(SEARCH(\"*-*\",referentes!AJ1476),2)=1,IF(referentes!AJ1476=\"\",\"\",LEFT(referentes!AJ1476,FIND(\"*-*\",referentes!AJ1476)-1)),referentes!AJ1476))","v":""},null,""]
[null,null,null,null,null,null,null,null,null,null,null,null,null,null,null,null,null,null,{"$f":"IF(referentes!AJ1477=\"\",\"\",IF(IFERROR(SEARCH(\"*-*\",referentes!AJ1477),2)=1,IF(referentes!AJ1477=\"\",\"\",LEFT(referentes!AJ1477,FIND(\"*-*\",referentes!AJ1477)-1)),referentes!AJ1477))","v":""},null,""]
[null,null,null,null,null,null,null,null,null,null,null,null,null,null,null,null,null,null,{"$f":"IF(referentes!AJ1478=\"\",\"\",IF(IFERROR(SEARCH(\"*-*\",referentes!AJ1478),2)=1,IF(referentes!AJ1478=\"\",\"\",LEFT(referentes!AJ1478,FIND(\"*-*\",referentes!AJ1478)-1)),referentes!AJ1478))","v":""},null,""]
[null,null,null,null,null,null,null,null,null,null,null,null,null,null,null,null,null,null,{"$f":"IF(referentes!AJ1479=\"\",\"\",IF(IFERROR(SEARCH(\"*-*\",referentes!AJ1479),2)=1,IF(referentes!AJ1479=\"\",\"\",LEFT(referentes!AJ1479,FIND(\"*-*\",referentes!AJ1479)-1)),referentes!AJ1479))","v":""},null,""]
[null,null,null,null,null,null,null,null,null,null,null,null,null,null,null,null,null,null,{"$f":"IF(referentes!AJ1480=\"\",\"\",IF(IFERROR(SEARCH(\"*-*\",referentes!AJ1480),2)=1,IF(referentes!AJ1480=\"\",\"\",LEFT(referentes!AJ1480,FIND(\"*-*\",referentes!AJ1480)-1)),referentes!AJ1480))","v":""},null,{"$f":"IF(IFERROR(T1479,R1479)=S1479,\"\",R1479)","v":""}]
[null,null,null,null,null,null,null,null,null,null,null,null,null,null,null,null,null,null,{"$f":"IF(referentes!AJ1481=\"\",\"\",IF(IFERROR(SEARCH(\"*-*\",referentes!AJ1481),2)=1,IF(referentes!AJ1481=\"\",\"\",LEFT(referentes!AJ1481,FIND(\"*-*\",referentes!AJ1481)-1)),referentes!AJ1481))","v":""},null,""]
[null,null,null,null,null,null,null,null,null,null,null,null,null,null,null,null,null,null,{"$f":"IF(referentes!AJ1482=\"\",\"\",IF(IFERROR(SEARCH(\"*-*\",referentes!AJ1482),2)=1,IF(referentes!AJ1482=\"\",\"\",LEFT(referentes!AJ1482,FIND(\"*-*\",referentes!AJ1482)-1)),referentes!AJ1482))","v":""},null,""]
[null,null,null,null,null,null,null,null,null,null,null,null,null,null,null,null,null,null,{"$f":"IF(referentes!AJ1483=\"\",\"\",IF(IFERROR(SEARCH(\"*-*\",referentes!AJ1483),2)=1,IF(referentes!AJ1483=\"\",\"\",LEFT(referentes!AJ1483,FIND(\"*-*\",referentes!AJ1483)-1)),referentes!AJ1483))","v":""},null,""]
[null,null,null,null,null,null,null,null,null,null,null,null,null,null,null,null,null,null,{"$f":"IF(referentes!AJ1484=\"\",\"\",IF(IFERROR(SEARCH(\"*-*\",referentes!AJ1484),2)=1,IF(referentes!AJ1484=\"\",\"\",LEFT(referentes!AJ1484,FIND(\"*-*\",referentes!AJ1484)-1)),referentes!AJ1484))","v":""},null,""]
[null,null,null,null,null,null,null,null,null,null,null,null,null,null,null,null,null,null,{"$f":"IF(referentes!AJ1485=\"\",\"\",IF(IFERROR(SEARCH(\"*-*\",referentes!AJ1485),2)=1,IF(referentes!AJ1485=\"\",\"\",LEFT(referentes!AJ1485,FIND(\"*-*\",referentes!AJ1485)-1)),referentes!AJ1485))","v":""},null,""]
[null,null,null,null,null,null,null,null,null,null,null,null,null,null,null,null,null,null,{"$f":"IF(referentes!AJ1486=\"\",\"\",IF(IFERROR(SEARCH(\"*-*\",referentes!AJ1486),2)=1,IF(referentes!AJ1486=\"\",\"\",LEFT(referentes!AJ1486,FIND(\"*-*\",referentes!AJ1486)-1)),referentes!AJ1486))","v":""},null,""]
[null,null,null,null,null,null,null,null,null,null,null,null,null,null,null,null,null,null,{"$f":"IF(referentes!AJ1487=\"\",\"\",IF(IFERROR(SEARCH(\"*-*\",referentes!AJ1487),2)=1,IF(referentes!AJ1487=\"\",\"\",LEFT(referentes!AJ1487,FIND(\"*-*\",referentes!AJ1487)-1)),referentes!AJ1487))","v":""},null,""]
[null,null,null,null,null,null,null,null,null,null,null,null,null,null,null,null,null,null,{"$f":"IF(referentes!AJ1488=\"\",\"\",IF(IFERROR(SEARCH(\"*-*\",referentes!AJ1488),2)=1,IF(referentes!AJ1488=\"\",\"\",LEFT(referentes!AJ1488,FIND(\"*-*\",referentes!AJ1488)-1)),referentes!AJ1488))","v":""},null,""]
[null,null,null,null,null,null,null,null,null,null,null,null,null,null,null,null,null,null,{"$f":"IF(referentes!AJ1489=\"\",\"\",IF(IFERROR(SEARCH(\"*-*\",referentes!AJ1489),2)=1,IF(referentes!AJ1489=\"\",\"\",LEFT(referentes!AJ1489,FIND(\"*-*\",referentes!AJ1489)-1)),referentes!AJ1489))","v":""},null,""]
[null,null,null,null,null,null,null,null,null,null,null,null,null,null,null,null,null,null,{"$f":"IF(referentes!AJ1490=\"\",\"\",IF(IFERROR(SEARCH(\"*-*\",referentes!AJ1490),2)=1,IF(referentes!AJ1490=\"\",\"\",LEFT(referentes!AJ1490,FIND(\"*-*\",referentes!AJ1490)-1)),referentes!AJ1490))","v":""},null,""]
[null,null,null,null,null,null,null,null,null,null,null,null,null,null,null,null,null,null,{"$f":"IF(referentes!AJ1491=\"\",\"\",IF(IFERROR(SEARCH(\"*-*\",referentes!AJ1491),2)=1,IF(referentes!AJ1491=\"\",\"\",LEFT(referentes!AJ1491,FIND(\"*-*\",referentes!AJ1491)-1)),referentes!AJ1491))","v":""},null,""]
[null,null,null,null,null,null,null,null,null,null,null,null,null,null,null,null,null,null,{"$f":"IF(referentes!AJ1492=\"\",\"\",IF(IFERROR(SEARCH(\"*-*\",referentes!AJ1492),2)=1,IF(referentes!AJ1492=\"\",\"\",LEFT(referentes!AJ1492,FIND(\"*-*\",referentes!AJ1492)-1)),referentes!AJ1492))","v":""},null,""]
[null,null,null,null,null,null,null,null,null,null,null,null,null,null,null,null,null,null,{"$f":"IF(referentes!AJ1493=\"\",\"\",IF(IFERROR(SEARCH(\"*-*\",referentes!AJ1493),2)=1,IF(referentes!AJ1493=\"\",\"\",LEFT(referentes!AJ1493,FIND(\"*-*\",referentes!AJ1493)-1)),referentes!AJ1493))","v":""},null,""]
[null,null,null,null,null,null,null,null,null,null,null,null,null,null,null,null,null,null,{"$f":"IF(referentes!AJ1494=\"\",\"\",IF(IFERROR(SEARCH(\"*-*\",referentes!AJ1494),2)=1,IF(referentes!AJ1494=\"\",\"\",LEFT(referentes!AJ1494,FIND(\"*-*\",referentes!AJ1494)-1)),referentes!AJ1494))","v":""},null,""]
[null,null,null,null,null,null,null,null,null,null,null,null,null,null,null,null,null,null,{"$f":"IF(referentes!AJ1495=\"\",\"\",IF(IFERROR(SEARCH(\"*-*\",referentes!AJ1495),2)=1,IF(referentes!AJ1495=\"\",\"\",LEFT(referentes!AJ1495,FIND(\"*-*\",referentes!AJ1495)-1)),referentes!AJ1495))","v":""},null,""]
[null,null,null,null,null,null,null,null,null,null,null,null,null,null,null,null,null,null,{"$f":"IF(referentes!AJ1496=\"\",\"\",IF(IFERROR(SEARCH(\"*-*\",referentes!AJ1496),2)=1,IF(referentes!AJ1496=\"\",\"\",LEFT(referentes!AJ1496,FIND(\"*-*\",referentes!AJ1496)-1)),referentes!AJ1496))","v":""},null,""]
[null,null,null,null,null,null,null,null,null,null,null,null,null,null,null,null,null,null,{"$f":"IF(referentes!AJ1497=\"\",\"\",IF(IFERROR(SEARCH(\"*-*\",referentes!AJ1497),2)=1,IF(referentes!AJ1497=\"\",\"\",LEFT(referentes!AJ1497,FIND(\"*-*\",referentes!AJ1497)-1)),referentes!AJ1497))","v":""},null,""]
[null,null,null,null,null,null,null,null,null,null,null,null,null,null,null,null,null,null,{"$f":"IF(referentes!AJ1498=\"\",\"\",IF(IFERROR(SEARCH(\"*-*\",referentes!AJ1498),2)=1,IF(referentes!AJ1498=\"\",\"\",LEFT(referentes!AJ1498,FIND(\"*-*\",referentes!AJ1498)-1)),referentes!AJ1498))","v":""},null,""]
[null,null,null,null,null,null,null,null,null,null,null,null,null,null,null,null,null,null,{"$f":"IF(referentes!AJ1499=\"\",\"\",IF(IFERROR(SEARCH(\"*-*\",referentes!AJ1499),2)=1,IF(referentes!AJ1499=\"\",\"\",LEFT(referentes!AJ1499,FIND(\"*-*\",referentes!AJ1499)-1)),referentes!AJ1499))","v":""},null,""]
[null,null,null,null,null,null,null,null,null,null,null,null,null,null,null,null,null,null,{"$f":"IF(referentes!AJ1500=\"\",\"\",IF(IFERROR(SEARCH(\"*-*\",referentes!AJ1500),2)=1,IF(referentes!AJ1500=\"\",\"\",LEFT(referentes!AJ1500,FIND(\"*-*\",referentes!AJ1500)-1)),referentes!AJ1500))","v":""},null,""]
[null,null,null,null,null,null,null,null,null,null,null,null,null,null,null,null,null,null,{"$f":"IF(referentes!AJ1501=\"\",\"\",IF(IFERROR(SEARCH(\"*-*\",referentes!AJ1501),2)=1,IF(referentes!AJ1501=\"\",\"\",LEFT(referentes!AJ1501,FIND(\"*-*\",referentes!AJ1501)-1)),referentes!AJ1501))","v":""},null,""]
[null,null,null,null,null,null,null,null,null,null,null,null,null,null,null,null,null,null,{"$f":"IF(referentes!AJ1502=\"\",\"\",IF(IFERROR(SEARCH(\"*-*\",referentes!AJ1502),2)=1,IF(referentes!AJ1502=\"\",\"\",LEFT(referentes!AJ1502,FIND(\"*-*\",referentes!AJ1502)-1)),referentes!AJ1502))","v":""},null,""]
[null,null,null,null,null,null,null,null,null,null,null,null,null,null,null,null,null,null,{"$f":"IF(referentes!AJ1503=\"\",\"\",IF(IFERROR(SEARCH(\"*-*\",referentes!AJ1503),2)=1,IF(referentes!AJ1503=\"\",\"\",LEFT(referentes!AJ1503,FIND(\"*-*\",referentes!AJ1503)-1)),referentes!AJ1503))","v":""},null,""]
[null,null,null,null,null,null,null,null,null,null,null,null,null,null,null,null,null,null,{"$f":"IF(referentes!AJ1504=\"\",\"\",IF(IFERROR(SEARCH(\"*-*\",referentes!AJ1504),2)=1,IF(referentes!AJ1504=\"\",\"\",LEFT(referentes!AJ1504,FIND(\"*-*\",referentes!AJ1504)-1)),referentes!AJ1504))","v":""},null,""]
[null,null,null,null,null,null,null,null,null,null,null,null,null,null,null,null,null,null,{"$f":"IF(referentes!AJ1505=\"\",\"\",IF(IFERROR(SEARCH(\"*-*\",referentes!AJ1505),2)=1,IF(referentes!AJ1505=\"\",\"\",LEFT(referentes!AJ1505,FIND(\"*-*\",referentes!AJ1505)-1)),referentes!AJ1505))","v":""},null,""]
[null,null,null,null,null,null,null,null,null,null,null,null,null,null,null,null,null,null,{"$f":"IF(referentes!AJ1506=\"\",\"\",IF(IFERROR(SEARCH(\"*-*\",referentes!AJ1506),2)=1,IF(referentes!AJ1506=\"\",\"\",LEFT(referentes!AJ1506,FIND(\"*-*\",referentes!AJ1506)-1)),referentes!AJ1506))","v":""},null,""]
[null,null,null,null,null,null,null,null,null,null,null,null,null,null,null,null,null,null,{"$f":"IF(referentes!AJ1507=\"\",\"\",IF(IFERROR(SEARCH(\"*-*\",referentes!AJ1507),2)=1,IF(referentes!AJ1507=\"\",\"\",LEFT(referentes!AJ1507,FIND(\"*-*\",referentes!AJ1507)-1)),referentes!AJ1507))","v":""},null,""]
[null,null,null,null,null,null,null,null,null,null,null,null,null,null,null,null,null,null,{"$f":"IF(referentes!AJ1508=\"\",\"\",IF(IFERROR(SEARCH(\"*-*\",referentes!AJ1508),2)=1,IF(referentes!AJ1508=\"\",\"\",LEFT(referentes!AJ1508,FIND(\"*-*\",referentes!AJ1508)-1)),referentes!AJ1508))","v":""},null,""]
[null,null,null,null,null,null,null,null,null,null,null,null,null,null,null,null,null,null,{"$f":"IF(referentes!AJ1509=\"\",\"\",IF(IFERROR(SEARCH(\"*-*\",referentes!AJ1509),2)=1,IF(referentes!AJ1509=\"\",\"\",LEFT(referentes!AJ1509,FIND(\"*-*\",referentes!AJ1509)-1)),referentes!AJ1509))","v":""},null,""]
[null,null,null,null,null,null,null,null,null,null,null,null,null,null,null,null,null,null,{"$f":"IF(referentes!AJ1510=\"\",\"\",IF(IFERROR(SEARCH(\"*-*\",referentes!AJ1510),2)=1,IF(referentes!AJ1510=\"\",\"\",LEFT(referentes!AJ1510,FIND(\"*-*\",referentes!AJ1510)-1)),referentes!AJ1510))","v":""},null,""]
[null,null,null,null,null,null,null,null,null,null,null,null,null,null,null,null,null,null,{"$f":"IF(referentes!AJ1511=\"\",\"\",IF(IFERROR(SEARCH(\"*-*\",referentes!AJ1511),2)=1,IF(referentes!AJ1511=\"\",\"\",LEFT(referentes!AJ1511,FIND(\"*-*\",referentes!AJ1511)-1)),referentes!AJ1511))","v":""},null,""]
[null,null,null,null,null,null,null,null,null,null,null,null,null,null,null,null,null,null,{"$f":"IF(referentes!AJ1512=\"\",\"\",IF(IFERROR(SEARCH(\"*-*\",referentes!AJ1512),2)=1,IF(referentes!AJ1512=\"\",\"\",LEFT(referentes!AJ1512,FIND(\"*-*\",referentes!AJ1512)-1)),referentes!AJ1512))","v":""},null,""]
[null,null,null,null,null,null,null,null,null,null,null,null,null,null,null,null,null,null,{"$f":"IF(referentes!AJ1513=\"\",\"\",IF(IFERROR(SEARCH(\"*-*\",referentes!AJ1513),2)=1,IF(referentes!AJ1513=\"\",\"\",LEFT(referentes!AJ1513,FIND(\"*-*\",referentes!AJ1513)-1)),referentes!AJ1513))","v":""},null,""]
[null,null,null,null,null,null,null,null,null,null,null,null,null,null,null,null,null,null,{"$f":"IF(referentes!AJ1514=\"\",\"\",IF(IFERROR(SEARCH(\"*-*\",referentes!AJ1514),2)=1,IF(referentes!AJ1514=\"\",\"\",LEFT(referentes!AJ1514,FIND(\"*-*\",referentes!AJ1514)-1)),referentes!AJ1514))","v":""},null,""]
[null,null,null,null,null,null,null,null,null,null,null,null,null,null,null,null,null,null,{"$f":"IF(referentes!AJ1515=\"\",\"\",IF(IFERROR(SEARCH(\"*-*\",referentes!AJ1515),2)=1,IF(referentes!AJ1515=\"\",\"\",LEFT(referentes!AJ1515,FIND(\"*-*\",referentes!AJ1515)-1)),referentes!AJ1515))","v":""},null,""]
[null,null,null,null,null,null,null,null,null,null,null,null,null,null,null,null,null,null,{"$f":"IF(referentes!AJ1516=\"\",\"\",IF(IFERROR(SEARCH(\"*-*\",referentes!AJ1516),2)=1,IF(referentes!AJ1516=\"\",\"\",LEFT(referentes!AJ1516,FIND(\"*-*\",referentes!AJ1516)-1)),referentes!AJ1516))","v":""},null,""]
[null,null,null,null,null,null,null,null,null,null,null,null,null,null,null,null,null,null,{"$f":"IF(referentes!AJ1517=\"\",\"\",IF(IFERROR(SEARCH(\"*-*\",referentes!AJ1517),2)=1,IF(referentes!AJ1517=\"\",\"\",LEFT(referentes!AJ1517,FIND(\"*-*\",referentes!AJ1517)-1)),referentes!AJ1517))","v":""},null,""]
[null,null,null,null,null,null,null,null,null,null,null,null,null,null,null,null,null,null,{"$f":"IF(referentes!AJ1518=\"\",\"\",IF(IFERROR(SEARCH(\"*-*\",referentes!AJ1518),2)=1,IF(referentes!AJ1518=\"\",\"\",LEFT(referentes!AJ1518,FIND(\"*-*\",referentes!AJ1518)-1)),referentes!AJ1518))","v":""},null,""]
[null,null,null,null,null,null,null,null,null,null,null,null,null,null,null,null,null,null,{"$f":"IF(referentes!AJ1519=\"\",\"\",IF(IFERROR(SEARCH(\"*-*\",referentes!AJ1519),2)=1,IF(referentes!AJ1519=\"\",\"\",LEFT(referentes!AJ1519,FIND(\"*-*\",referentes!AJ1519)-1)),referentes!AJ1519))","v":""},null,""]
[null,null,null,null,null,null,null,null,null,null,null,null,null,null,null,null,null,null,{"$f":"IF(referentes!AJ1520=\"\",\"\",IF(IFERROR(SEARCH(\"*-*\",referentes!AJ1520),2)=1,IF(referentes!AJ1520=\"\",\"\",LEFT(referentes!AJ1520,FIND(\"*-*\",referentes!AJ1520)-1)),referentes!AJ1520))","v":""},null,""]
[null,null,null,null,null,null,null,null,null,null,null,null,null,null,null,null,null,null,{"$f":"IF(referentes!AJ1521=\"\",\"\",IF(IFERROR(SEARCH(\"*-*\",referentes!AJ1521),2)=1,IF(referentes!AJ1521=\"\",\"\",LEFT(referentes!AJ1521,FIND(\"*-*\",referentes!AJ1521)-1)),referentes!AJ1521))","v":""},null,""]
[null,null,null,null,null,null,null,null,null,null,null,null,null,null,null,null,null,null,{"$f":"IF(referentes!AJ1522=\"\",\"\",IF(IFERROR(SEARCH(\"*-*\",referentes!AJ1522),2)=1,IF(referentes!AJ1522=\"\",\"\",LEFT(referentes!AJ1522,FIND(\"*-*\",referentes!AJ1522)-1)),referentes!AJ1522))","v":""},null,""]
[null,null,null,null,null,null,null,null,null,null,null,null,null,null,null,null,null,null,{"$f":"IF(referentes!AJ1523=\"\",\"\",IF(IFERROR(SEARCH(\"*-*\",referentes!AJ1523),2)=1,IF(referentes!AJ1523=\"\",\"\",LEFT(referentes!AJ1523,FIND(\"*-*\",referentes!AJ1523)-1)),referentes!AJ1523))","v":""},null,""]
[null,null,null,null,null,null,null,null,null,null,null,null,null,null,null,null,null,null,{"$f":"IF(referentes!AJ1524=\"\",\"\",IF(IFERROR(SEARCH(\"*-*\",referentes!AJ1524),2)=1,IF(referentes!AJ1524=\"\",\"\",LEFT(referentes!AJ1524,FIND(\"*-*\",referentes!AJ1524)-1)),referentes!AJ1524))","v":""},null,""]
[null,null,null,null,null,null,null,null,null,null,null,null,null,null,null,null,null,null,{"$f":"IF(referentes!AJ1525=\"\",\"\",IF(IFERROR(SEARCH(\"*-*\",referentes!AJ1525),2)=1,IF(referentes!AJ1525=\"\",\"\",LEFT(referentes!AJ1525,FIND(\"*-*\",referentes!AJ1525)-1)),referentes!AJ1525))","v":""},null,""]
[null,null,null,null,null,null,null,null,null,null,null,null,null,null,null,null,null,null,{"$f":"IF(referentes!AJ1526=\"\",\"\",IF(IFERROR(SEARCH(\"*-*\",referentes!AJ1526),2)=1,IF(referentes!AJ1526=\"\",\"\",LEFT(referentes!AJ1526,FIND(\"*-*\",referentes!AJ1526)-1)),referentes!AJ1526))","v":""},null,""]
[null,null,null,null,null,null,null,null,null,null,null,null,null,null,null,null,null,null,{"$f":"IF(referentes!AJ1527=\"\",\"\",IF(IFERROR(SEARCH(\"*-*\",referentes!AJ1527),2)=1,IF(referentes!AJ1527=\"\",\"\",LEFT(referentes!AJ1527,FIND(\"*-*\",referentes!AJ1527)-1)),referentes!AJ1527))","v":""},null,""]
[null,null,null,null,null,null,null,null,null,null,null,null,null,null,null,null,null,null,{"$f":"IF(referentes!AJ1528=\"\",\"\",IF(IFERROR(SEARCH(\"*-*\",referentes!AJ1528),2)=1,IF(referentes!AJ1528=\"\",\"\",LEFT(referentes!AJ1528,FIND(\"*-*\",referentes!AJ1528)-1)),referentes!AJ1528))","v":""},null,""]
[null,null,null,null,null,null,null,null,null,null,null,null,null,null,null,null,null,null,{"$f":"IF(referentes!AJ1529=\"\",\"\",IF(IFERROR(SEARCH(\"*-*\",referentes!AJ1529),2)=1,IF(referentes!AJ1529=\"\",\"\",LEFT(referentes!AJ1529,FIND(\"*-*\",referentes!AJ1529)-1)),referentes!AJ1529))","v":""},null,""]
[null,null,null,null,null,null,null,null,null,null,null,null,null,null,null,null,null,null,{"$f":"IF(referentes!AJ1530=\"\",\"\",IF(IFERROR(SEARCH(\"*-*\",referentes!AJ1530),2)=1,IF(referentes!AJ1530=\"\",\"\",LEFT(referentes!AJ1530,FIND(\"*-*\",referentes!AJ1530)-1)),referentes!AJ1530))","v":""},null,""]
[null,null,null,null,null,null,null,null,null,null,null,null,null,null,null,null,null,null,{"$f":"IF(referentes!AJ1531=\"\",\"\",IF(IFERROR(SEARCH(\"*-*\",referentes!AJ1531),2)=1,IF(referentes!AJ1531=\"\",\"\",LEFT(referentes!AJ1531,FIND(\"*-*\",referentes!AJ1531)-1)),referentes!AJ1531))","v":""},null,""]
[null,null,null,null,null,null,null,null,null,null,null,null,null,null,null,null,null,null,{"$f":"IF(referentes!AJ1532=\"\",\"\",IF(IFERROR(SEARCH(\"*-*\",referentes!AJ1532),2)=1,IF(referentes!AJ1532=\"\",\"\",LEFT(referentes!AJ1532,FIND(\"*-*\",referentes!AJ1532)-1)),referentes!AJ1532))","v":""},null,""]
[null,null,null,null,null,null,null,null,null,null,null,null,null,null,null,null,null,null,{"$f":"IF(referentes!AJ1533=\"\",\"\",IF(IFERROR(SEARCH(\"*-*\",referentes!AJ1533),2)=1,IF(referentes!AJ1533=\"\",\"\",LEFT(referentes!AJ1533,FIND(\"*-*\",referentes!AJ1533)-1)),referentes!AJ1533))","v":""},null,""]
[null,null,null,null,null,null,null,null,null,null,null,null,null,null,null,null,null,null,{"$f":"IF(referentes!AJ1534=\"\",\"\",IF(IFERROR(SEARCH(\"*-*\",referentes!AJ1534),2)=1,IF(referentes!AJ1534=\"\",\"\",LEFT(referentes!AJ1534,FIND(\"*-*\",referentes!AJ1534)-1)),referentes!AJ1534))","v":""},null,""]
[null,null,null,null,null,null,null,null,null,null,null,null,null,null,null,null,null,null,{"$f":"IF(referentes!AJ1535=\"\",\"\",IF(IFERROR(SEARCH(\"*-*\",referentes!AJ1535),2)=1,IF(referentes!AJ1535=\"\",\"\",LEFT(referentes!AJ1535,FIND(\"*-*\",referentes!AJ1535)-1)),referentes!AJ1535))","v":""},null,""]
[null,null,null,null,null,null,null,null,null,null,null,null,null,null,null,null,null,null,{"$f":"IF(referentes!AJ1536=\"\",\"\",IF(IFERROR(SEARCH(\"*-*\",referentes!AJ1536),2)=1,IF(referentes!AJ1536=\"\",\"\",LEFT(referentes!AJ1536,FIND(\"*-*\",referentes!AJ1536)-1)),referentes!AJ1536))","v":""},null,""]
[null,null,null,null,null,null,null,null,null,null,null,null,null,null,null,null,null,null,{"$f":"IF(referentes!AJ1537=\"\",\"\",IF(IFERROR(SEARCH(\"*-*\",referentes!AJ1537),2)=1,IF(referentes!AJ1537=\"\",\"\",LEFT(referentes!AJ1537,FIND(\"*-*\",referentes!AJ1537)-1)),referentes!AJ1537))","v":""},null,""]
[null,null,null,null,null,null,null,null,null,null,null,null,null,null,null,null,null,null,{"$f":"IF(referentes!AJ1538=\"\",\"\",IF(IFERROR(SEARCH(\"*-*\",referentes!AJ1538),2)=1,IF(referentes!AJ1538=\"\",\"\",LEFT(referentes!AJ1538,FIND(\"*-*\",referentes!AJ1538)-1)),referentes!AJ1538))","v":""},null,""]
[null,null,null,null,null,null,null,null,null,null,null,null,null,null,null,null,null,null,{"$f":"IF(referentes!AJ1539=\"\",\"\",IF(IFERROR(SEARCH(\"*-*\",referentes!AJ1539),2)=1,IF(referentes!AJ1539=\"\",\"\",LEFT(referentes!AJ1539,FIND(\"*-*\",referentes!AJ1539)-1)),referentes!AJ1539))","v":""},null,""]
[null,null,null,null,null,null,null,null,null,null,null,null,null,null,null,null,null,null,{"$f":"IF(referentes!AJ1540=\"\",\"\",IF(IFERROR(SEARCH(\"*-*\",referentes!AJ1540),2)=1,IF(referentes!AJ1540=\"\",\"\",LEFT(referentes!AJ1540,FIND(\"*-*\",referentes!AJ1540)-1)),referentes!AJ1540))","v":""},null,""]
[null,null,null,null,null,null,null,null,null,null,null,null,null,null,null,null,null,null,{"$f":"IF(referentes!AJ1541=\"\",\"\",IF(IFERROR(SEARCH(\"*-*\",referentes!AJ1541),2)=1,IF(referentes!AJ1541=\"\",\"\",LEFT(referentes!AJ1541,FIND(\"*-*\",referentes!AJ1541)-1)),referentes!AJ1541))","v":""},null,""]
[null,null,null,null,null,null,null,null,null,null,null,null,null,null,null,null,null,null,{"$f":"IF(referentes!AJ1542=\"\",\"\",IF(IFERROR(SEARCH(\"*-*\",referentes!AJ1542),2)=1,IF(referentes!AJ1542=\"\",\"\",LEFT(referentes!AJ1542,FIND(\"*-*\",referentes!AJ1542)-1)),referentes!AJ1542))","v":""},null,""]
[null,null,null,null,null,null,null,null,null,null,null,null,null,null,null,null,null,null,{"$f":"IF(referentes!AJ1543=\"\",\"\",IF(IFERROR(SEARCH(\"*-*\",referentes!AJ1543),2)=1,IF(referentes!AJ1543=\"\",\"\",LEFT(referentes!AJ1543,FIND(\"*-*\",referentes!AJ1543)-1)),referentes!AJ1543))","v":""},null,""]
[null,null,null,null,null,null,null,null,null,null,null,null,null,null,null,null,null,null,{"$f":"IF(referentes!AJ1544=\"\",\"\",IF(IFERROR(SEARCH(\"*-*\",referentes!AJ1544),2)=1,IF(referentes!AJ1544=\"\",\"\",LEFT(referentes!AJ1544,FIND(\"*-*\",referentes!AJ1544)-1)),referentes!AJ1544))","v":""},null,{"$f":"IF(IFERROR(T1543,R1543)=S1543,\"\",R1543)","v":""}]
[null,null,null,null,null,null,null,null,null,null,null,null,null,null,null,null,null,null,{"$f":"IF(referentes!AJ1545=\"\",\"\",IF(IFERROR(SEARCH(\"*-*\",referentes!AJ1545),2)=1,IF(referentes!AJ1545=\"\",\"\",LEFT(referentes!AJ1545,FIND(\"*-*\",referentes!AJ1545)-1)),referentes!AJ1545))","v":""},null,""]
[null,null,null,null,null,null,null,null,null,null,null,null,null,null,null,null,null,null,{"$f":"IF(referentes!AJ1546=\"\",\"\",IF(IFERROR(SEARCH(\"*-*\",referentes!AJ1546),2)=1,IF(referentes!AJ1546=\"\",\"\",LEFT(referentes!AJ1546,FIND(\"*-*\",referentes!AJ1546)-1)),referentes!AJ1546))","v":""},null,""]
[null,null,null,null,null,null,null,null,null,null,null,null,null,null,null,null,null,null,{"$f":"IF(referentes!AJ1547=\"\",\"\",IF(IFERROR(SEARCH(\"*-*\",referentes!AJ1547),2)=1,IF(referentes!AJ1547=\"\",\"\",LEFT(referentes!AJ1547,FIND(\"*-*\",referentes!AJ1547)-1)),referentes!AJ1547))","v":""},null,""]
[null,null,null,null,null,null,null,null,null,null,null,null,null,null,null,null,null,null,{"$f":"IF(referentes!AJ1548=\"\",\"\",IF(IFERROR(SEARCH(\"*-*\",referentes!AJ1548),2)=1,IF(referentes!AJ1548=\"\",\"\",LEFT(referentes!AJ1548,FIND(\"*-*\",referentes!AJ1548)-1)),referentes!AJ1548))","v":""},null,""]
[null,null,null,null,null,null,null,null,null,null,null,null,null,null,null,null,null,null,{"$f":"IF(referentes!AJ1549=\"\",\"\",IF(IFERROR(SEARCH(\"*-*\",referentes!AJ1549),2)=1,IF(referentes!AJ1549=\"\",\"\",LEFT(referentes!AJ1549,FIND(\"*-*\",referentes!AJ1549)-1)),referentes!AJ1549))","v":""},null,""]
[null,null,null,null,null,null,null,null,null,null,null,null,null,null,null,null,null,null,{"$f":"IF(referentes!AJ1550=\"\",\"\",IF(IFERROR(SEARCH(\"*-*\",referentes!AJ1550),2)=1,IF(referentes!AJ1550=\"\",\"\",LEFT(referentes!AJ1550,FIND(\"*-*\",referentes!AJ1550)-1)),referentes!AJ1550))","v":""},null,""]
[null,null,null,null,null,null,null,null,null,null,null,null,null,null,null,null,null,null,{"$f":"IF(referentes!AJ1551=\"\",\"\",IF(IFERROR(SEARCH(\"*-*\",referentes!AJ1551),2)=1,IF(referentes!AJ1551=\"\",\"\",LEFT(referentes!AJ1551,FIND(\"*-*\",referentes!AJ1551)-1)),referentes!AJ1551))","v":""},null,""]
[null,null,null,null,null,null,null,null,null,null,null,null,null,null,null,null,null,null,{"$f":"IF(referentes!AJ1552=\"\",\"\",IF(IFERROR(SEARCH(\"*-*\",referentes!AJ1552),2)=1,IF(referentes!AJ1552=\"\",\"\",LEFT(referentes!AJ1552,FIND(\"*-*\",referentes!AJ1552)-1)),referentes!AJ1552))","v":""},null,""]
[null,null,null,null,null,null,null,null,null,null,null,null,null,null,null,null,null,null,{"$f":"IF(referentes!AJ1553=\"\",\"\",IF(IFERROR(SEARCH(\"*-*\",referentes!AJ1553),2)=1,IF(referentes!AJ1553=\"\",\"\",LEFT(referentes!AJ1553,FIND(\"*-*\",referentes!AJ1553)-1)),referentes!AJ1553))","v":""},null,""]
[null,null,null,null,null,null,null,null,null,null,null,null,null,null,null,null,null,null,{"$f":"IF(referentes!AJ1554=\"\",\"\",IF(IFERROR(SEARCH(\"*-*\",referentes!AJ1554),2)=1,IF(referentes!AJ1554=\"\",\"\",LEFT(referentes!AJ1554,FIND(\"*-*\",referentes!AJ1554)-1)),referentes!AJ1554))","v":""},null,""]
[null,null,null,null,null,null,null,null,null,null,null,null,null,null,null,null,null,null,{"$f":"IF(referentes!AJ1555=\"\",\"\",IF(IFERROR(SEARCH(\"*-*\",referentes!AJ1555),2)=1,IF(referentes!AJ1555=\"\",\"\",LEFT(referentes!AJ1555,FIND(\"*-*\",referentes!AJ1555)-1)),referentes!AJ1555))","v":""},null,""]
[null,null,null,null,null,null,null,null,null,null,null,null,null,null,null,null,null,null,{"$f":"IF(referentes!AJ1556=\"\",\"\",IF(IFERROR(SEARCH(\"*-*\",referentes!AJ1556),2)=1,IF(referentes!AJ1556=\"\",\"\",LEFT(referentes!AJ1556,FIND(\"*-*\",referentes!AJ1556)-1)),referentes!AJ1556))","v":""},null,""]
[null,null,null,null,null,null,null,null,null,null,null,null,null,null,null,null,null,null,{"$f":"IF(referentes!AJ1557=\"\",\"\",IF(IFERROR(SEARCH(\"*-*\",referentes!AJ1557),2)=1,IF(referentes!AJ1557=\"\",\"\",LEFT(referentes!AJ1557,FIND(\"*-*\",referentes!AJ1557)-1)),referentes!AJ1557))","v":""},null,""]
[null,null,null,null,null,null,null,null,null,null,null,null,null,null,null,null,null,null,{"$f":"IF(referentes!AJ1558=\"\",\"\",IF(IFERROR(SEARCH(\"*-*\",referentes!AJ1558),2)=1,IF(referentes!AJ1558=\"\",\"\",LEFT(referentes!AJ1558,FIND(\"*-*\",referentes!AJ1558)-1)),referentes!AJ1558))","v":""},null,""]
[null,null,null,null,null,null,null,null,null,null,null,null,null,null,null,null,null,null,{"$f":"IF(referentes!AJ1559=\"\",\"\",IF(IFERROR(SEARCH(\"*-*\",referentes!AJ1559),2)=1,IF(referentes!AJ1559=\"\",\"\",LEFT(referentes!AJ1559,FIND(\"*-*\",referentes!AJ1559)-1)),referentes!AJ1559))","v":""},null,""]
[null,null,null,null,null,null,null,null,null,null,null,null,null,null,null,null,null,null,{"$f":"IF(referentes!AJ1560=\"\",\"\",IF(IFERROR(SEARCH(\"*-*\",referentes!AJ1560),2)=1,IF(referentes!AJ1560=\"\",\"\",LEFT(referentes!AJ1560,FIND(\"*-*\",referentes!AJ1560)-1)),referentes!AJ1560))","v":""},null,""]
[null,null,null,null,null,null,null,null,null,null,null,null,null,null,null,null,null,null,{"$f":"IF(referentes!AJ1561=\"\",\"\",IF(IFERROR(SEARCH(\"*-*\",referentes!AJ1561),2)=1,IF(referentes!AJ1561=\"\",\"\",LEFT(referentes!AJ1561,FIND(\"*-*\",referentes!AJ1561)-1)),referentes!AJ1561))","v":""},null,""]
[null,null,null,null,null,null,null,null,null,null,null,null,null,null,null,null,null,null,{"$f":"IF(referentes!AJ1562=\"\",\"\",IF(IFERROR(SEARCH(\"*-*\",referentes!AJ1562),2)=1,IF(referentes!AJ1562=\"\",\"\",LEFT(referentes!AJ1562,FIND(\"*-*\",referentes!AJ1562)-1)),referentes!AJ1562))","v":""},null,""]
[null,null,null,null,null,null,null,null,null,null,null,null,null,null,null,null,null,null,{"$f":"IF(referentes!AJ1563=\"\",\"\",IF(IFERROR(SEARCH(\"*-*\",referentes!AJ1563),2)=1,IF(referentes!AJ1563=\"\",\"\",LEFT(referentes!AJ1563,FIND(\"*-*\",referentes!AJ1563)-1)),referentes!AJ1563))","v":""},null,""]
[null,null,null,null,null,null,null,null,null,null,null,null,null,null,null,null,null,null,{"$f":"IF(referentes!AJ1564=\"\",\"\",IF(IFERROR(SEARCH(\"*-*\",referentes!AJ1564),2)=1,IF(referentes!AJ1564=\"\",\"\",LEFT(referentes!AJ1564,FIND(\"*-*\",referentes!AJ1564)-1)),referentes!AJ1564))","v":""},null,""]
[null,null,null,null,null,null,null,null,null,null,null,null,null,null,null,null,null,null,{"$f":"IF(referentes!AJ1565=\"\",\"\",IF(IFERROR(SEARCH(\"*-*\",referentes!AJ1565),2)=1,IF(referentes!AJ1565=\"\",\"\",LEFT(referentes!AJ1565,FIND(\"*-*\",referentes!AJ1565)-1)),referentes!AJ1565))","v":""},null,""]
[null,null,null,null,null,null,null,null,null,null,null,null,null,null,null,null,null,null,{"$f":"IF(referentes!AJ1566=\"\",\"\",IF(IFERROR(SEARCH(\"*-*\",referentes!AJ1566),2)=1,IF(referentes!AJ1566=\"\",\"\",LEFT(referentes!AJ1566,FIND(\"*-*\",referentes!AJ1566)-1)),referentes!AJ1566))","v":""},null,""]
[null,null,null,null,null,null,null,null,null,null,null,null,null,null,null,null,null,null,{"$f":"IF(referentes!AJ1567=\"\",\"\",IF(IFERROR(SEARCH(\"*-*\",referentes!AJ1567),2)=1,IF(referentes!AJ1567=\"\",\"\",LEFT(referentes!AJ1567,FIND(\"*-*\",referentes!AJ1567)-1)),referentes!AJ1567))","v":""},null,""]
[null,null,null,null,null,null,null,null,null,null,null,null,null,null,null,null,null,null,{"$f":"IF(referentes!AJ1568=\"\",\"\",IF(IFERROR(SEARCH(\"*-*\",referentes!AJ1568),2)=1,IF(referentes!AJ1568=\"\",\"\",LEFT(referentes!AJ1568,FIND(\"*-*\",referentes!AJ1568)-1)),referentes!AJ1568))","v":""},null,""]
[null,null,null,null,null,null,null,null,null,null,null,null,null,null,null,null,null,null,{"$f":"IF(referentes!AJ1569=\"\",\"\",IF(IFERROR(SEARCH(\"*-*\",referentes!AJ1569),2)=1,IF(referentes!AJ1569=\"\",\"\",LEFT(referentes!AJ1569,FIND(\"*-*\",referentes!AJ1569)-1)),referentes!AJ1569))","v":""},null,""]
[null,null,null,null,null,null,null,null,null,null,null,null,null,null,null,null,null,null,{"$f":"IF(referentes!AJ1570=\"\",\"\",IF(IFERROR(SEARCH(\"*-*\",referentes!AJ1570),2)=1,IF(referentes!AJ1570=\"\",\"\",LEFT(referentes!AJ1570,FIND(\"*-*\",referentes!AJ1570)-1)),referentes!AJ1570))","v":""},null,""]
[null,null,null,null,null,null,null,null,null,null,null,null,null,null,null,null,null,null,{"$f":"IF(referentes!AJ1571=\"\",\"\",IF(IFERROR(SEARCH(\"*-*\",referentes!AJ1571),2)=1,IF(referentes!AJ1571=\"\",\"\",LEFT(referentes!AJ1571,FIND(\"*-*\",referentes!AJ1571)-1)),referentes!AJ1571))","v":""},null,""]
[null,null,null,null,null,null,null,null,null,null,null,null,null,null,null,null,null,null,{"$f":"IF(referentes!AJ1572=\"\",\"\",IF(IFERROR(SEARCH(\"*-*\",referentes!AJ1572),2)=1,IF(referentes!AJ1572=\"\",\"\",LEFT(referentes!AJ1572,FIND(\"*-*\",referentes!AJ1572)-1)),referentes!AJ1572))","v":""},null,""]
[null,null,null,null,null,null,null,null,null,null,null,null,null,null,null,null,null,null,{"$f":"IF(referentes!AJ1573=\"\",\"\",IF(IFERROR(SEARCH(\"*-*\",referentes!AJ1573),2)=1,IF(referentes!AJ1573=\"\",\"\",LEFT(referentes!AJ1573,FIND(\"*-*\",referentes!AJ1573)-1)),referentes!AJ1573))","v":""},null,""]
[null,null,null,null,null,null,null,null,null,null,null,null,null,null,null,null,null,null,{"$f":"IF(referentes!AJ1574=\"\",\"\",IF(IFERROR(SEARCH(\"*-*\",referentes!AJ1574),2)=1,IF(referentes!AJ1574=\"\",\"\",LEFT(referentes!AJ1574,FIND(\"*-*\",referentes!AJ1574)-1)),referentes!AJ1574))","v":""},null,""]
[null,null,null,null,null,null,null,null,null,null,null,null,null,null,null,null,null,null,{"$f":"IF(referentes!AJ1575=\"\",\"\",IF(IFERROR(SEARCH(\"*-*\",referentes!AJ1575),2)=1,IF(referentes!AJ1575=\"\",\"\",LEFT(referentes!AJ1575,FIND(\"*-*\",referentes!AJ1575)-1)),referentes!AJ1575))","v":""},null,""]
[null,null,null,null,null,null,null,null,null,null,null,null,null,null,null,null,null,null,{"$f":"IF(referentes!AJ1576=\"\",\"\",IF(IFERROR(SEARCH(\"*-*\",referentes!AJ1576),2)=1,IF(referentes!AJ1576=\"\",\"\",LEFT(referentes!AJ1576,FIND(\"*-*\",referentes!AJ1576)-1)),referentes!AJ1576))","v":""},null,""]
[null,null,null,null,null,null,null,null,null,null,null,null,null,null,null,null,null,null,{"$f":"IF(referentes!AJ1577=\"\",\"\",IF(IFERROR(SEARCH(\"*-*\",referentes!AJ1577),2)=1,IF(referentes!AJ1577=\"\",\"\",LEFT(referentes!AJ1577,FIND(\"*-*\",referentes!AJ1577)-1)),referentes!AJ1577))","v":""},null,""]
[null,null,null,null,null,null,null,null,null,null,null,null,null,null,null,null,null,null,{"$f":"IF(referentes!AJ1578=\"\",\"\",IF(IFERROR(SEARCH(\"*-*\",referentes!AJ1578),2)=1,IF(referentes!AJ1578=\"\",\"\",LEFT(referentes!AJ1578,FIND(\"*-*\",referentes!AJ1578)-1)),referentes!AJ1578))","v":""},null,""]
[null,null,null,null,null,null,null,null,null,null,null,null,null,null,null,null,null,null,{"$f":"IF(referentes!AJ1579=\"\",\"\",IF(IFERROR(SEARCH(\"*-*\",referentes!AJ1579),2)=1,IF(referentes!AJ1579=\"\",\"\",LEFT(referentes!AJ1579,FIND(\"*-*\",referentes!AJ1579)-1)),referentes!AJ1579))","v":""},null,""]
[null,null,null,null,null,null,null,null,null,null,null,null,null,null,null,null,null,null,{"$f":"IF(referentes!AJ1580=\"\",\"\",IF(IFERROR(SEARCH(\"*-*\",referentes!AJ1580),2)=1,IF(referentes!AJ1580=\"\",\"\",LEFT(referentes!AJ1580,FIND(\"*-*\",referentes!AJ1580)-1)),referentes!AJ1580))","v":""},null,""]
[null,null,null,null,null,null,null,null,null,null,null,null,null,null,null,null,null,null,{"$f":"IF(referentes!AJ1581=\"\",\"\",IF(IFERROR(SEARCH(\"*-*\",referentes!AJ1581),2)=1,IF(referentes!AJ1581=\"\",\"\",LEFT(referentes!AJ1581,FIND(\"*-*\",referentes!AJ1581)-1)),referentes!AJ1581))","v":""},null,""]
[null,null,null,null,null,null,null,null,null,null,null,null,null,null,null,null,null,null,{"$f":"IF(referentes!AJ1582=\"\",\"\",IF(IFERROR(SEARCH(\"*-*\",referentes!AJ1582),2)=1,IF(referentes!AJ1582=\"\",\"\",LEFT(referentes!AJ1582,FIND(\"*-*\",referentes!AJ1582)-1)),referentes!AJ1582))","v":""},null,""]
[null,null,null,null,null,null,null,null,null,null,null,null,null,null,null,null,null,null,{"$f":"IF(referentes!AJ1583=\"\",\"\",IF(IFERROR(SEARCH(\"*-*\",referentes!AJ1583),2)=1,IF(referentes!AJ1583=\"\",\"\",LEFT(referentes!AJ1583,FIND(\"*-*\",referentes!AJ1583)-1)),referentes!AJ1583))","v":""},null,""]
[null,null,null,null,null,null,null,null,null,null,null,null,null,null,null,null,null,null,{"$f":"IF(referentes!AJ1584=\"\",\"\",IF(IFERROR(SEARCH(\"*-*\",referentes!AJ1584),2)=1,IF(referentes!AJ1584=\"\",\"\",LEFT(referentes!AJ1584,FIND(\"*-*\",referentes!AJ1584)-1)),referentes!AJ1584))","v":""},null,""]
[null,null,null,null,null,null,null,null,null,null,null,null,null,null,null,null,null,null,{"$f":"IF(referentes!AJ1585=\"\",\"\",IF(IFERROR(SEARCH(\"*-*\",referentes!AJ1585),2)=1,IF(referentes!AJ1585=\"\",\"\",LEFT(referentes!AJ1585,FIND(\"*-*\",referentes!AJ1585)-1)),referentes!AJ1585))","v":""},null,""]
[null,null,null,null,null,null,null,null,null,null,null,null,null,null,null,null,null,null,{"$f":"IF(referentes!AJ1586=\"\",\"\",IF(IFERROR(SEARCH(\"*-*\",referentes!AJ1586),2)=1,IF(referentes!AJ1586=\"\",\"\",LEFT(referentes!AJ1586,FIND(\"*-*\",referentes!AJ1586)-1)),referentes!AJ1586))","v":""},null,""]
[null,null,null,null,null,null,null,null,null,null,null,null,null,null,null,null,null,null,{"$f":"IF(referentes!AJ1587=\"\",\"\",IF(IFERROR(SEARCH(\"*-*\",referentes!AJ1587),2)=1,IF(referentes!AJ1587=\"\",\"\",LEFT(referentes!AJ1587,FIND(\"*-*\",referentes!AJ1587)-1)),referentes!AJ1587))","v":""},null,""]
[null,null,null,null,null,null,null,null,null,null,null,null,null,null,null,null,null,null,{"$f":"IF(referentes!AJ1588=\"\",\"\",IF(IFERROR(SEARCH(\"*-*\",referentes!AJ1588),2)=1,IF(referentes!AJ1588=\"\",\"\",LEFT(referentes!AJ1588,FIND(\"*-*\",referentes!AJ1588)-1)),referentes!AJ1588))","v":""},null,""]
[null,null,null,null,null,null,null,null,null,null,null,null,null,null,null,null,null,null,{"$f":"IF(referentes!AJ1589=\"\",\"\",IF(IFERROR(SEARCH(\"*-*\",referentes!AJ1589),2)=1,IF(referentes!AJ1589=\"\",\"\",LEFT(referentes!AJ1589,FIND(\"*-*\",referentes!AJ1589)-1)),referentes!AJ1589))","v":""},null,""]
[null,null,null,null,null,null,null,null,null,null,null,null,null,null,null,null,null,null,{"$f":"IF(referentes!AJ1590=\"\",\"\",IF(IFERROR(SEARCH(\"*-*\",referentes!AJ1590),2)=1,IF(referentes!AJ1590=\"\",\"\",LEFT(referentes!AJ1590,FIND(\"*-*\",referentes!AJ1590)-1)),referentes!AJ1590))","v":""},null,""]
[null,null,null,null,null,null,null,null,null,null,null,null,null,null,null,null,null,null,{"$f":"IF(referentes!AJ1591=\"\",\"\",IF(IFERROR(SEARCH(\"*-*\",referentes!AJ1591),2)=1,IF(referentes!AJ1591=\"\",\"\",LEFT(referentes!AJ1591,FIND(\"*-*\",referentes!AJ1591)-1)),referentes!AJ1591))","v":""},null,""]
[null,null,null,null,null,null,null,null,null,null,null,null,null,null,null,null,null,null,{"$f":"IF(referentes!AJ1592=\"\",\"\",IF(IFERROR(SEARCH(\"*-*\",referentes!AJ1592),2)=1,IF(referentes!AJ1592=\"\",\"\",LEFT(referentes!AJ1592,FIND(\"*-*\",referentes!AJ1592)-1)),referentes!AJ1592))","v":""},null,""]
[null,null,null,null,null,null,null,null,null,null,null,null,null,null,null,null,null,null,{"$f":"IF(referentes!AJ1593=\"\",\"\",IF(IFERROR(SEARCH(\"*-*\",referentes!AJ1593),2)=1,IF(referentes!AJ1593=\"\",\"\",LEFT(referentes!AJ1593,FIND(\"*-*\",referentes!AJ1593)-1)),referentes!AJ1593))","v":""},null,""]
[null,null,null,null,null,null,null,null,null,null,null,null,null,null,null,null,null,null,{"$f":"IF(referentes!AJ1594=\"\",\"\",IF(IFERROR(SEARCH(\"*-*\",referentes!AJ1594),2)=1,IF(referentes!AJ1594=\"\",\"\",LEFT(referentes!AJ1594,FIND(\"*-*\",referentes!AJ1594)-1)),referentes!AJ1594))","v":""},null,""]
[null,null,null,null,null,null,null,null,null,null,null,null,null,null,null,null,null,null,{"$f":"IF(referentes!AJ1595=\"\",\"\",IF(IFERROR(SEARCH(\"*-*\",referentes!AJ1595),2)=1,IF(referentes!AJ1595=\"\",\"\",LEFT(referentes!AJ1595,FIND(\"*-*\",referentes!AJ1595)-1)),referentes!AJ1595))","v":""},null,""]
[null,null,null,null,null,null,null,null,null,null,null,null,null,null,null,null,null,null,{"$f":"IF(referentes!AJ1596=\"\",\"\",IF(IFERROR(SEARCH(\"*-*\",referentes!AJ1596),2)=1,IF(referentes!AJ1596=\"\",\"\",LEFT(referentes!AJ1596,FIND(\"*-*\",referentes!AJ1596)-1)),referentes!AJ1596))","v":""},null,""]
[null,null,null,null,null,null,null,null,null,null,null,null,null,null,null,null,null,null,{"$f":"IF(referentes!AJ1597=\"\",\"\",IF(IFERROR(SEARCH(\"*-*\",referentes!AJ1597),2)=1,IF(referentes!AJ1597=\"\",\"\",LEFT(referentes!AJ1597,FIND(\"*-*\",referentes!AJ1597)-1)),referentes!AJ1597))","v":""},null,""]
[null,null,null,null,null,null,null,null,null,null,null,null,null,null,null,null,null,null,{"$f":"IF(referentes!AJ1598=\"\",\"\",IF(IFERROR(SEARCH(\"*-*\",referentes!AJ1598),2)=1,IF(referentes!AJ1598=\"\",\"\",LEFT(referentes!AJ1598,FIND(\"*-*\",referentes!AJ1598)-1)),referentes!AJ1598))","v":""},null,""]
[null,null,null,null,null,null,null,null,null,null,null,null,null,null,null,null,null,null,{"$f":"IF(referentes!AJ1599=\"\",\"\",IF(IFERROR(SEARCH(\"*-*\",referentes!AJ1599),2)=1,IF(referentes!AJ1599=\"\",\"\",LEFT(referentes!AJ1599,FIND(\"*-*\",referentes!AJ1599)-1)),referentes!AJ1599))","v":""},null,""]
[null,null,null,null,null,null,null,null,null,null,null,null,null,null,null,null,null,null,{"$f":"IF(referentes!AJ1600=\"\",\"\",IF(IFERROR(SEARCH(\"*-*\",referentes!AJ1600),2)=1,IF(referentes!AJ1600=\"\",\"\",LEFT(referentes!AJ1600,FIND(\"*-*\",referentes!AJ1600)-1)),referentes!AJ1600))","v":""},null,""]
[null,null,null,null,null,null,null,null,null,null,null,null,null,null,null,null,null,null,{"$f":"IF(referentes!AJ1601=\"\",\"\",IF(IFERROR(SEARCH(\"*-*\",referentes!AJ1601),2)=1,IF(referentes!AJ1601=\"\",\"\",LEFT(referentes!AJ1601,FIND(\"*-*\",referentes!AJ1601)-1)),referentes!AJ1601))","v":""},null,""]
[null,null,null,null,null,null,null,null,null,null,null,null,null,null,null,null,null,null,{"$f":"IF(referentes!AJ1602=\"\",\"\",IF(IFERROR(SEARCH(\"*-*\",referentes!AJ1602),2)=1,IF(referentes!AJ1602=\"\",\"\",LEFT(referentes!AJ1602,FIND(\"*-*\",referentes!AJ1602)-1)),referentes!AJ1602))","v":""},null,""]
[null,null,null,null,null,null,null,null,null,null,null,null,null,null,null,null,null,null,{"$f":"IF(referentes!AJ1603=\"\",\"\",IF(IFERROR(SEARCH(\"*-*\",referentes!AJ1603),2)=1,IF(referentes!AJ1603=\"\",\"\",LEFT(referentes!AJ1603,FIND(\"*-*\",referentes!AJ1603)-1)),referentes!AJ1603))","v":""},null,""]
[null,null,null,null,null,null,null,null,null,null,null,null,null,null,null,null,null,null,{"$f":"IF(referentes!AJ1604=\"\",\"\",IF(IFERROR(SEARCH(\"*-*\",referentes!AJ1604),2)=1,IF(referentes!AJ1604=\"\",\"\",LEFT(referentes!AJ1604,FIND(\"*-*\",referentes!AJ1604)-1)),referentes!AJ1604))","v":""},null,""]
[null,null,null,null,null,null,null,null,null,null,null,null,null,null,null,null,null,null,{"$f":"IF(referentes!AJ1605=\"\",\"\",IF(IFERROR(SEARCH(\"*-*\",referentes!AJ1605),2)=1,IF(referentes!AJ1605=\"\",\"\",LEFT(referentes!AJ1605,FIND(\"*-*\",referentes!AJ1605)-1)),referentes!AJ1605))","v":""},null,""]
[null,null,null,null,null,null,null,null,null,null,null,null,null,null,null,null,null,null,{"$f":"IF(referentes!AJ1606=\"\",\"\",IF(IFERROR(SEARCH(\"*-*\",referentes!AJ1606),2)=1,IF(referentes!AJ1606=\"\",\"\",LEFT(referentes!AJ1606,FIND(\"*-*\",referentes!AJ1606)-1)),referentes!AJ1606))","v":""},null,""]
[null,null,null,null,null,null,null,null,null,null,null,null,null,null,null,null,null,null,{"$f":"IF(referentes!AJ1607=\"\",\"\",IF(IFERROR(SEARCH(\"*-*\",referentes!AJ1607),2)=1,IF(referentes!AJ1607=\"\",\"\",LEFT(referentes!AJ1607,FIND(\"*-*\",referentes!AJ1607)-1)),referentes!AJ1607))","v":""},null,""]
[null,null,null,null,null,null,null,null,null,null,null,null,null,null,null,null,null,null,{"$f":"IF(referentes!AJ1608=\"\",\"\",IF(IFERROR(SEARCH(\"*-*\",referentes!AJ1608),2)=1,IF(referentes!AJ1608=\"\",\"\",LEFT(referentes!AJ1608,FIND(\"*-*\",referentes!AJ1608)-1)),referentes!AJ1608))","v":""},null,{"$f":"IF(IFERROR(T1607,R1607)=S1607,\"\",R1607)","v":""}]
[null,null,null,null,null,null,null,null,null,null,null,null,null,null,null,null,null,null,{"$f":"IF(referentes!AJ1609=\"\",\"\",IF(IFERROR(SEARCH(\"*-*\",referentes!AJ1609),2)=1,IF(referentes!AJ1609=\"\",\"\",LEFT(referentes!AJ1609,FIND(\"*-*\",referentes!AJ1609)-1)),referentes!AJ1609))","v":""},null,""]
[null,null,null,null,null,null,null,null,null,null,null,null,null,null,null,null,null,null,{"$f":"IF(referentes!AJ1610=\"\",\"\",IF(IFERROR(SEARCH(\"*-*\",referentes!AJ1610),2)=1,IF(referentes!AJ1610=\"\",\"\",LEFT(referentes!AJ1610,FIND(\"*-*\",referentes!AJ1610)-1)),referentes!AJ1610))","v":""},null,""]
[null,null,null,null,null,null,null,null,null,null,null,null,null,null,null,null,null,null,{"$f":"IF(referentes!AJ1611=\"\",\"\",IF(IFERROR(SEARCH(\"*-*\",referentes!AJ1611),2)=1,IF(referentes!AJ1611=\"\",\"\",LEFT(referentes!AJ1611,FIND(\"*-*\",referentes!AJ1611)-1)),referentes!AJ1611))","v":""},null,""]
[null,null,null,null,null,null,null,null,null,null,null,null,null,null,null,null,null,null,{"$f":"IF(referentes!AJ1612=\"\",\"\",IF(IFERROR(SEARCH(\"*-*\",referentes!AJ1612),2)=1,IF(referentes!AJ1612=\"\",\"\",LEFT(referentes!AJ1612,FIND(\"*-*\",referentes!AJ1612)-1)),referentes!AJ1612))","v":""},null,""]
[null,null,null,null,null,null,null,null,null,null,null,null,null,null,null,null,null,null,{"$f":"IF(referentes!AJ1613=\"\",\"\",IF(IFERROR(SEARCH(\"*-*\",referentes!AJ1613),2)=1,IF(referentes!AJ1613=\"\",\"\",LEFT(referentes!AJ1613,FIND(\"*-*\",referentes!AJ1613)-1)),referentes!AJ1613))","v":""},null,""]
[null,null,null,null,null,null,null,null,null,null,null,null,null,null,null,null,null,null,{"$f":"IF(referentes!AJ1614=\"\",\"\",IF(IFERROR(SEARCH(\"*-*\",referentes!AJ1614),2)=1,IF(referentes!AJ1614=\"\",\"\",LEFT(referentes!AJ1614,FIND(\"*-*\",referentes!AJ1614)-1)),referentes!AJ1614))","v":""},null,""]
[null,null,null,null,null,null,null,null,null,null,null,null,null,null,null,null,null,null,{"$f":"IF(referentes!AJ1615=\"\",\"\",IF(IFERROR(SEARCH(\"*-*\",referentes!AJ1615),2)=1,IF(referentes!AJ1615=\"\",\"\",LEFT(referentes!AJ1615,FIND(\"*-*\",referentes!AJ1615)-1)),referentes!AJ1615))","v":""},null,""]
[null,null,null,null,null,null,null,null,null,null,null,null,null,null,null,null,null,null,{"$f":"IF(referentes!AJ1616=\"\",\"\",IF(IFERROR(SEARCH(\"*-*\",referentes!AJ1616),2)=1,IF(referentes!AJ1616=\"\",\"\",LEFT(referentes!AJ1616,FIND(\"*-*\",referentes!AJ1616)-1)),referentes!AJ1616))","v":""},null,""]
[null,null,null,null,null,null,null,null,null,null,null,null,null,null,null,null,null,null,{"$f":"IF(referentes!AJ1617=\"\",\"\",IF(IFERROR(SEARCH(\"*-*\",referentes!AJ1617),2)=1,IF(referentes!AJ1617=\"\",\"\",LEFT(referentes!AJ1617,FIND(\"*-*\",referentes!AJ1617)-1)),referentes!AJ1617))","v":""},null,""]
[null,null,null,null,null,null,null,null,null,null,null,null,null,null,null,null,null,null,{"$f":"IF(referentes!AJ1618=\"\",\"\",IF(IFERROR(SEARCH(\"*-*\",referentes!AJ1618),2)=1,IF(referentes!AJ1618=\"\",\"\",LEFT(referentes!AJ1618,FIND(\"*-*\",referentes!AJ1618)-1)),referentes!AJ1618))","v":""},null,""]
[null,null,null,null,null,null,null,null,null,null,null,null,null,null,null,null,null,null,{"$f":"IF(referentes!AJ1619=\"\",\"\",IF(IFERROR(SEARCH(\"*-*\",referentes!AJ1619),2)=1,IF(referentes!AJ1619=\"\",\"\",LEFT(referentes!AJ1619,FIND(\"*-*\",referentes!AJ1619)-1)),referentes!AJ1619))","v":""},null,""]
[null,null,null,null,null,null,null,null,null,null,null,null,null,null,null,null,null,null,{"$f":"IF(referentes!AJ1620=\"\",\"\",IF(IFERROR(SEARCH(\"*-*\",referentes!AJ1620),2)=1,IF(referentes!AJ1620=\"\",\"\",LEFT(referentes!AJ1620,FIND(\"*-*\",referentes!AJ1620)-1)),referentes!AJ1620))","v":""},null,""]
[null,null,null,null,null,null,null,null,null,null,null,null,null,null,null,null,null,null,{"$f":"IF(referentes!AJ1621=\"\",\"\",IF(IFERROR(SEARCH(\"*-*\",referentes!AJ1621),2)=1,IF(referentes!AJ1621=\"\",\"\",LEFT(referentes!AJ1621,FIND(\"*-*\",referentes!AJ1621)-1)),referentes!AJ1621))","v":""},null,""]
[null,null,null,null,null,null,null,null,null,null,null,null,null,null,null,null,null,null,{"$f":"IF(referentes!AJ1622=\"\",\"\",IF(IFERROR(SEARCH(\"*-*\",referentes!AJ1622),2)=1,IF(referentes!AJ1622=\"\",\"\",LEFT(referentes!AJ1622,FIND(\"*-*\",referentes!AJ1622)-1)),referentes!AJ1622))","v":""},null,""]
[null,null,null,null,null,null,null,null,null,null,null,null,null,null,null,null,null,null,{"$f":"IF(referentes!AJ1623=\"\",\"\",IF(IFERROR(SEARCH(\"*-*\",referentes!AJ1623),2)=1,IF(referentes!AJ1623=\"\",\"\",LEFT(referentes!AJ1623,FIND(\"*-*\",referentes!AJ1623)-1)),referentes!AJ1623))","v":""},null,""]
[null,null,null,null,null,null,null,null,null,null,null,null,null,null,null,null,null,null,{"$f":"IF(referentes!AJ1624=\"\",\"\",IF(IFERROR(SEARCH(\"*-*\",referentes!AJ1624),2)=1,IF(referentes!AJ1624=\"\",\"\",LEFT(referentes!AJ1624,FIND(\"*-*\",referentes!AJ1624)-1)),referentes!AJ1624))","v":""},null,""]
[null,null,null,null,null,null,null,null,null,null,null,null,null,null,null,null,null,null,{"$f":"IF(referentes!AJ1625=\"\",\"\",IF(IFERROR(SEARCH(\"*-*\",referentes!AJ1625),2)=1,IF(referentes!AJ1625=\"\",\"\",LEFT(referentes!AJ1625,FIND(\"*-*\",referentes!AJ1625)-1)),referentes!AJ1625))","v":""},null,""]
[null,null,null,null,null,null,null,null,null,null,null,null,null,null,null,null,null,null,{"$f":"IF(referentes!AJ1626=\"\",\"\",IF(IFERROR(SEARCH(\"*-*\",referentes!AJ1626),2)=1,IF(referentes!AJ1626=\"\",\"\",LEFT(referentes!AJ1626,FIND(\"*-*\",referentes!AJ1626)-1)),referentes!AJ1626))","v":""},null,""]
[null,null,null,null,null,null,null,null,null,null,null,null,null,null,null,null,null,null,{"$f":"IF(referentes!AJ1627=\"\",\"\",IF(IFERROR(SEARCH(\"*-*\",referentes!AJ1627),2)=1,IF(referentes!AJ1627=\"\",\"\",LEFT(referentes!AJ1627,FIND(\"*-*\",referentes!AJ1627)-1)),referentes!AJ1627))","v":""},null,""]
[null,null,null,null,null,null,null,null,null,null,null,null,null,null,null,null,null,null,{"$f":"IF(referentes!AJ1628=\"\",\"\",IF(IFERROR(SEARCH(\"*-*\",referentes!AJ1628),2)=1,IF(referentes!AJ1628=\"\",\"\",LEFT(referentes!AJ1628,FIND(\"*-*\",referentes!AJ1628)-1)),referentes!AJ1628))","v":""},null,""]
[null,null,null,null,null,null,null,null,null,null,null,null,null,null,null,null,null,null,{"$f":"IF(referentes!AJ1629=\"\",\"\",IF(IFERROR(SEARCH(\"*-*\",referentes!AJ1629),2)=1,IF(referentes!AJ1629=\"\",\"\",LEFT(referentes!AJ1629,FIND(\"*-*\",referentes!AJ1629)-1)),referentes!AJ1629))","v":""},null,""]
[null,null,null,null,null,null,null,null,null,null,null,null,null,null,null,null,null,null,{"$f":"IF(referentes!AJ1630=\"\",\"\",IF(IFERROR(SEARCH(\"*-*\",referentes!AJ1630),2)=1,IF(referentes!AJ1630=\"\",\"\",LEFT(referentes!AJ1630,FIND(\"*-*\",referentes!AJ1630)-1)),referentes!AJ1630))","v":""},null,""]
[null,null,null,null,null,null,null,null,null,null,null,null,null,null,null,null,null,null,{"$f":"IF(referentes!AJ1631=\"\",\"\",IF(IFERROR(SEARCH(\"*-*\",referentes!AJ1631),2)=1,IF(referentes!AJ1631=\"\",\"\",LEFT(referentes!AJ1631,FIND(\"*-*\",referentes!AJ1631)-1)),referentes!AJ1631))","v":""},null,""]
[null,null,null,null,null,null,null,null,null,null,null,null,null,null,null,null,null,null,{"$f":"IF(referentes!AJ1632=\"\",\"\",IF(IFERROR(SEARCH(\"*-*\",referentes!AJ1632),2)=1,IF(referentes!AJ1632=\"\",\"\",LEFT(referentes!AJ1632,FIND(\"*-*\",referentes!AJ1632)-1)),referentes!AJ1632))","v":""},null,""]
[null,null,null,null,null,null,null,null,null,null,null,null,null,null,null,null,null,null,{"$f":"IF(referentes!AJ1633=\"\",\"\",IF(IFERROR(SEARCH(\"*-*\",referentes!AJ1633),2)=1,IF(referentes!AJ1633=\"\",\"\",LEFT(referentes!AJ1633,FIND(\"*-*\",referentes!AJ1633)-1)),referentes!AJ1633))","v":""},null,""]
[null,null,null,null,null,null,null,null,null,null,null,null,null,null,null,null,null,null,{"$f":"IF(referentes!AJ1634=\"\",\"\",IF(IFERROR(SEARCH(\"*-*\",referentes!AJ1634),2)=1,IF(referentes!AJ1634=\"\",\"\",LEFT(referentes!AJ1634,FIND(\"*-*\",referentes!AJ1634)-1)),referentes!AJ1634))","v":""},null,""]
[null,null,null,null,null,null,null,null,null,null,null,null,null,null,null,null,null,null,{"$f":"IF(referentes!AJ1635=\"\",\"\",IF(IFERROR(SEARCH(\"*-*\",referentes!AJ1635),2)=1,IF(referentes!AJ1635=\"\",\"\",LEFT(referentes!AJ1635,FIND(\"*-*\",referentes!AJ1635)-1)),referentes!AJ1635))","v":""},null,""]
[null,null,null,null,null,null,null,null,null,null,null,null,null,null,null,null,null,null,{"$f":"IF(referentes!AJ1636=\"\",\"\",IF(IFERROR(SEARCH(\"*-*\",referentes!AJ1636),2)=1,IF(referentes!AJ1636=\"\",\"\",LEFT(referentes!AJ1636,FIND(\"*-*\",referentes!AJ1636)-1)),referentes!AJ1636))","v":""},null,""]
[null,null,null,null,null,null,null,null,null,null,null,null,null,null,null,null,null,null,{"$f":"IF(referentes!AJ1637=\"\",\"\",IF(IFERROR(SEARCH(\"*-*\",referentes!AJ1637),2)=1,IF(referentes!AJ1637=\"\",\"\",LEFT(referentes!AJ1637,FIND(\"*-*\",referentes!AJ1637)-1)),referentes!AJ1637))","v":""},null,""]
[null,null,null,null,null,null,null,null,null,null,null,null,null,null,null,null,null,null,{"$f":"IF(referentes!AJ1638=\"\",\"\",IF(IFERROR(SEARCH(\"*-*\",referentes!AJ1638),2)=1,IF(referentes!AJ1638=\"\",\"\",LEFT(referentes!AJ1638,FIND(\"*-*\",referentes!AJ1638)-1)),referentes!AJ1638))","v":""},null,""]
[null,null,null,null,null,null,null,null,null,null,null,null,null,null,null,null,null,null,{"$f":"IF(referentes!AJ1639=\"\",\"\",IF(IFERROR(SEARCH(\"*-*\",referentes!AJ1639),2)=1,IF(referentes!AJ1639=\"\",\"\",LEFT(referentes!AJ1639,FIND(\"*-*\",referentes!AJ1639)-1)),referentes!AJ1639))","v":""},null,""]
[null,null,null,null,null,null,null,null,null,null,null,null,null,null,null,null,null,null,{"$f":"IF(referentes!AJ1640=\"\",\"\",IF(IFERROR(SEARCH(\"*-*\",referentes!AJ1640),2)=1,IF(referentes!AJ1640=\"\",\"\",LEFT(referentes!AJ1640,FIND(\"*-*\",referentes!AJ1640)-1)),referentes!AJ1640))","v":""},null,""]
[null,null,null,null,null,null,null,null,null,null,null,null,null,null,null,null,null,null,{"$f":"IF(referentes!AJ1641=\"\",\"\",IF(IFERROR(SEARCH(\"*-*\",referentes!AJ1641),2)=1,IF(referentes!AJ1641=\"\",\"\",LEFT(referentes!AJ1641,FIND(\"*-*\",referentes!AJ1641)-1)),referentes!AJ1641))","v":""},null,""]
[null,null,null,null,null,null,null,null,null,null,null,null,null,null,null,null,null,null,{"$f":"IF(referentes!AJ1642=\"\",\"\",IF(IFERROR(SEARCH(\"*-*\",referentes!AJ1642),2)=1,IF(referentes!AJ1642=\"\",\"\",LEFT(referentes!AJ1642,FIND(\"*-*\",referentes!AJ1642)-1)),referentes!AJ1642))","v":""},null,""]
[null,null,null,null,null,null,null,null,null,null,null,null,null,null,null,null,null,null,{"$f":"IF(referentes!AJ1643=\"\",\"\",IF(IFERROR(SEARCH(\"*-*\",referentes!AJ1643),2)=1,IF(referentes!AJ1643=\"\",\"\",LEFT(referentes!AJ1643,FIND(\"*-*\",referentes!AJ1643)-1)),referentes!AJ1643))","v":""},null,""]
[null,null,null,null,null,null,null,null,null,null,null,null,null,null,null,null,null,null,{"$f":"IF(referentes!AJ1644=\"\",\"\",IF(IFERROR(SEARCH(\"*-*\",referentes!AJ1644),2)=1,IF(referentes!AJ1644=\"\",\"\",LEFT(referentes!AJ1644,FIND(\"*-*\",referentes!AJ1644)-1)),referentes!AJ1644))","v":""},null,""]
[null,null,null,null,null,null,null,null,null,null,null,null,null,null,null,null,null,null,{"$f":"IF(referentes!AJ1645=\"\",\"\",IF(IFERROR(SEARCH(\"*-*\",referentes!AJ1645),2)=1,IF(referentes!AJ1645=\"\",\"\",LEFT(referentes!AJ1645,FIND(\"*-*\",referentes!AJ1645)-1)),referentes!AJ1645))","v":""},null,""]
[null,null,null,null,null,null,null,null,null,null,null,null,null,null,null,null,null,null,{"$f":"IF(referentes!AJ1646=\"\",\"\",IF(IFERROR(SEARCH(\"*-*\",referentes!AJ1646),2)=1,IF(referentes!AJ1646=\"\",\"\",LEFT(referentes!AJ1646,FIND(\"*-*\",referentes!AJ1646)-1)),referentes!AJ1646))","v":""},null,""]
[null,null,null,null,null,null,null,null,null,null,null,null,null,null,null,null,null,null,{"$f":"IF(referentes!AJ1647=\"\",\"\",IF(IFERROR(SEARCH(\"*-*\",referentes!AJ1647),2)=1,IF(referentes!AJ1647=\"\",\"\",LEFT(referentes!AJ1647,FIND(\"*-*\",referentes!AJ1647)-1)),referentes!AJ1647))","v":""},null,""]
[null,null,null,null,null,null,null,null,null,null,null,null,null,null,null,null,null,null,{"$f":"IF(referentes!AJ1648=\"\",\"\",IF(IFERROR(SEARCH(\"*-*\",referentes!AJ1648),2)=1,IF(referentes!AJ1648=\"\",\"\",LEFT(referentes!AJ1648,FIND(\"*-*\",referentes!AJ1648)-1)),referentes!AJ1648))","v":""},null,""]
[null,null,null,null,null,null,null,null,null,null,null,null,null,null,null,null,null,null,{"$f":"IF(referentes!AJ1649=\"\",\"\",IF(IFERROR(SEARCH(\"*-*\",referentes!AJ1649),2)=1,IF(referentes!AJ1649=\"\",\"\",LEFT(referentes!AJ1649,FIND(\"*-*\",referentes!AJ1649)-1)),referentes!AJ1649))","v":""},null,""]
[null,null,null,null,null,null,null,null,null,null,null,null,null,null,null,null,null,null,{"$f":"IF(referentes!AJ1650=\"\",\"\",IF(IFERROR(SEARCH(\"*-*\",referentes!AJ1650),2)=1,IF(referentes!AJ1650=\"\",\"\",LEFT(referentes!AJ1650,FIND(\"*-*\",referentes!AJ1650)-1)),referentes!AJ1650))","v":""},null,""]
[null,null,null,null,null,null,null,null,null,null,null,null,null,null,null,null,null,null,{"$f":"IF(referentes!AJ1651=\"\",\"\",IF(IFERROR(SEARCH(\"*-*\",referentes!AJ1651),2)=1,IF(referentes!AJ1651=\"\",\"\",LEFT(referentes!AJ1651,FIND(\"*-*\",referentes!AJ1651)-1)),referentes!AJ1651))","v":""},null,""]
[null,null,null,null,null,null,null,null,null,null,null,null,null,null,null,null,null,null,{"$f":"IF(referentes!AJ1652=\"\",\"\",IF(IFERROR(SEARCH(\"*-*\",referentes!AJ1652),2)=1,IF(referentes!AJ1652=\"\",\"\",LEFT(referentes!AJ1652,FIND(\"*-*\",referentes!AJ1652)-1)),referentes!AJ1652))","v":""},null,""]
[null,null,null,null,null,null,null,null,null,null,null,null,null,null,null,null,null,null,{"$f":"IF(referentes!AJ1653=\"\",\"\",IF(IFERROR(SEARCH(\"*-*\",referentes!AJ1653),2)=1,IF(referentes!AJ1653=\"\",\"\",LEFT(referentes!AJ1653,FIND(\"*-*\",referentes!AJ1653)-1)),referentes!AJ1653))","v":""},null,""]
[null,null,null,null,null,null,null,null,null,null,null,null,null,null,null,null,null,null,{"$f":"IF(referentes!AJ1654=\"\",\"\",IF(IFERROR(SEARCH(\"*-*\",referentes!AJ1654),2)=1,IF(referentes!AJ1654=\"\",\"\",LEFT(referentes!AJ1654,FIND(\"*-*\",referentes!AJ1654)-1)),referentes!AJ1654))","v":""},null,""]
[null,null,null,null,null,null,null,null,null,null,null,null,null,null,null,null,null,null,{"$f":"IF(referentes!AJ1655=\"\",\"\",IF(IFERROR(SEARCH(\"*-*\",referentes!AJ1655),2)=1,IF(referentes!AJ1655=\"\",\"\",LEFT(referentes!AJ1655,FIND(\"*-*\",referentes!AJ1655)-1)),referentes!AJ1655))","v":""},null,""]
[null,null,null,null,null,null,null,null,null,null,null,null,null,null,null,null,null,null,{"$f":"IF(referentes!AJ1656=\"\",\"\",IF(IFERROR(SEARCH(\"*-*\",referentes!AJ1656),2)=1,IF(referentes!AJ1656=\"\",\"\",LEFT(referentes!AJ1656,FIND(\"*-*\",referentes!AJ1656)-1)),referentes!AJ1656))","v":""},null,""]
[null,null,null,null,null,null,null,null,null,null,null,null,null,null,null,null,null,null,{"$f":"IF(referentes!AJ1657=\"\",\"\",IF(IFERROR(SEARCH(\"*-*\",referentes!AJ1657),2)=1,IF(referentes!AJ1657=\"\",\"\",LEFT(referentes!AJ1657,FIND(\"*-*\",referentes!AJ1657)-1)),referentes!AJ1657))","v":""},null,""]
[null,null,null,null,null,null,null,null,null,null,null,null,null,null,null,null,null,null,{"$f":"IF(referentes!AJ1658=\"\",\"\",IF(IFERROR(SEARCH(\"*-*\",referentes!AJ1658),2)=1,IF(referentes!AJ1658=\"\",\"\",LEFT(referentes!AJ1658,FIND(\"*-*\",referentes!AJ1658)-1)),referentes!AJ1658))","v":""},null,""]
[null,null,null,null,null,null,null,null,null,null,null,null,null,null,null,null,null,null,{"$f":"IF(referentes!AJ1659=\"\",\"\",IF(IFERROR(SEARCH(\"*-*\",referentes!AJ1659),2)=1,IF(referentes!AJ1659=\"\",\"\",LEFT(referentes!AJ1659,FIND(\"*-*\",referentes!AJ1659)-1)),referentes!AJ1659))","v":""},null,""]
[null,null,null,null,null,null,null,null,null,null,null,null,null,null,null,null,null,null,{"$f":"IF(referentes!AJ1660=\"\",\"\",IF(IFERROR(SEARCH(\"*-*\",referentes!AJ1660),2)=1,IF(referentes!AJ1660=\"\",\"\",LEFT(referentes!AJ1660,FIND(\"*-*\",referentes!AJ1660)-1)),referentes!AJ1660))","v":""},null,""]
[null,null,null,null,null,null,null,null,null,null,null,null,null,null,null,null,null,null,{"$f":"IF(referentes!AJ1661=\"\",\"\",IF(IFERROR(SEARCH(\"*-*\",referentes!AJ1661),2)=1,IF(referentes!AJ1661=\"\",\"\",LEFT(referentes!AJ1661,FIND(\"*-*\",referentes!AJ1661)-1)),referentes!AJ1661))","v":""},null,""]
[null,null,null,null,null,null,null,null,null,null,null,null,null,null,null,null,null,null,{"$f":"IF(referentes!AJ1662=\"\",\"\",IF(IFERROR(SEARCH(\"*-*\",referentes!AJ1662),2)=1,IF(referentes!AJ1662=\"\",\"\",LEFT(referentes!AJ1662,FIND(\"*-*\",referentes!AJ1662)-1)),referentes!AJ1662))","v":""},null,""]
[null,null,null,null,null,null,null,null,null,null,null,null,null,null,null,null,null,null,{"$f":"IF(referentes!AJ1663=\"\",\"\",IF(IFERROR(SEARCH(\"*-*\",referentes!AJ1663),2)=1,IF(referentes!AJ1663=\"\",\"\",LEFT(referentes!AJ1663,FIND(\"*-*\",referentes!AJ1663)-1)),referentes!AJ1663))","v":""},null,""]
[null,null,null,null,null,null,null,null,null,null,null,null,null,null,null,null,null,null,{"$f":"IF(referentes!AJ1664=\"\",\"\",IF(IFERROR(SEARCH(\"*-*\",referentes!AJ1664),2)=1,IF(referentes!AJ1664=\"\",\"\",LEFT(referentes!AJ1664,FIND(\"*-*\",referentes!AJ1664)-1)),referentes!AJ1664))","v":""},null,""]
[null,null,null,null,null,null,null,null,null,null,null,null,null,null,null,null,null,null,{"$f":"IF(referentes!AJ1665=\"\",\"\",IF(IFERROR(SEARCH(\"*-*\",referentes!AJ1665),2)=1,IF(referentes!AJ1665=\"\",\"\",LEFT(referentes!AJ1665,FIND(\"*-*\",referentes!AJ1665)-1)),referentes!AJ1665))","v":""},null,""]
[null,null,null,null,null,null,null,null,null,null,null,null,null,null,null,null,null,null,{"$f":"IF(referentes!AJ1666=\"\",\"\",IF(IFERROR(SEARCH(\"*-*\",referentes!AJ1666),2)=1,IF(referentes!AJ1666=\"\",\"\",LEFT(referentes!AJ1666,FIND(\"*-*\",referentes!AJ1666)-1)),referentes!AJ1666))","v":""},null,""]
[null,null,null,null,null,null,null,null,null,null,null,null,null,null,null,null,null,null,{"$f":"IF(referentes!AJ1667=\"\",\"\",IF(IFERROR(SEARCH(\"*-*\",referentes!AJ1667),2)=1,IF(referentes!AJ1667=\"\",\"\",LEFT(referentes!AJ1667,FIND(\"*-*\",referentes!AJ1667)-1)),referentes!AJ1667))","v":""},null,""]
[null,null,null,null,null,null,null,null,null,null,null,null,null,null,null,null,null,null,{"$f":"IF(referentes!AJ1668=\"\",\"\",IF(IFERROR(SEARCH(\"*-*\",referentes!AJ1668),2)=1,IF(referentes!AJ1668=\"\",\"\",LEFT(referentes!AJ1668,FIND(\"*-*\",referentes!AJ1668)-1)),referentes!AJ1668))","v":""},null,""]
[null,null,null,null,null,null,null,null,null,null,null,null,null,null,null,null,null,null,{"$f":"IF(referentes!AJ1669=\"\",\"\",IF(IFERROR(SEARCH(\"*-*\",referentes!AJ1669),2)=1,IF(referentes!AJ1669=\"\",\"\",LEFT(referentes!AJ1669,FIND(\"*-*\",referentes!AJ1669)-1)),referentes!AJ1669))","v":""},null,""]
[null,null,null,null,null,null,null,null,null,null,null,null,null,null,null,null,null,null,{"$f":"IF(referentes!AJ1670=\"\",\"\",IF(IFERROR(SEARCH(\"*-*\",referentes!AJ1670),2)=1,IF(referentes!AJ1670=\"\",\"\",LEFT(referentes!AJ1670,FIND(\"*-*\",referentes!AJ1670)-1)),referentes!AJ1670))","v":""},null,""]
[null,null,null,null,null,null,null,null,null,null,null,null,null,null,null,null,null,null,{"$f":"IF(referentes!AJ1671=\"\",\"\",IF(IFERROR(SEARCH(\"*-*\",referentes!AJ1671),2)=1,IF(referentes!AJ1671=\"\",\"\",LEFT(referentes!AJ1671,FIND(\"*-*\",referentes!AJ1671)-1)),referentes!AJ1671))","v":""},null,""]
[null,null,null,null,null,null,null,null,null,null,null,null,null,null,null,null,null,null,{"$f":"IF(referentes!AJ1672=\"\",\"\",IF(IFERROR(SEARCH(\"*-*\",referentes!AJ1672),2)=1,IF(referentes!AJ1672=\"\",\"\",LEFT(referentes!AJ1672,FIND(\"*-*\",referentes!AJ1672)-1)),referentes!AJ1672))","v":""},null,{"$f":"IF(IFERROR(T1671,R1671)=S1671,\"\",R1671)","v":""}]
[null,null,null,null,null,null,null,null,null,null,null,null,null,null,null,null,null,null,{"$f":"IF(referentes!AJ1673=\"\",\"\",IF(IFERROR(SEARCH(\"*-*\",referentes!AJ1673),2)=1,IF(referentes!AJ1673=\"\",\"\",LEFT(referentes!AJ1673,FIND(\"*-*\",referentes!AJ1673)-1)),referentes!AJ1673))","v":""},null,""]
[null,null,null,null,null,null,null,null,null,null,null,null,null,null,null,null,null,null,{"$f":"IF(referentes!AJ1674=\"\",\"\",IF(IFERROR(SEARCH(\"*-*\",referentes!AJ1674),2)=1,IF(referentes!AJ1674=\"\",\"\",LEFT(referentes!AJ1674,FIND(\"*-*\",referentes!AJ1674)-1)),referentes!AJ1674))","v":""},null,""]
[null,null,null,null,null,null,null,null,null,null,null,null,null,null,null,null,null,null,{"$f":"IF(referentes!AJ1675=\"\",\"\",IF(IFERROR(SEARCH(\"*-*\",referentes!AJ1675),2)=1,IF(referentes!AJ1675=\"\",\"\",LEFT(referentes!AJ1675,FIND(\"*-*\",referentes!AJ1675)-1)),referentes!AJ1675))","v":""},null,""]
[null,null,null,null,null,null,null,null,null,null,null,null,null,null,null,null,null,null,{"$f":"IF(referentes!AJ1676=\"\",\"\",IF(IFERROR(SEARCH(\"*-*\",referentes!AJ1676),2)=1,IF(referentes!AJ1676=\"\",\"\",LEFT(referentes!AJ1676,FIND(\"*-*\",referentes!AJ1676)-1)),referentes!AJ1676))","v":""},null,""]
[null,null,null,null,null,null,null,null,null,null,null,null,null,null,null,null,null,null,{"$f":"IF(referentes!AJ1677=\"\",\"\",IF(IFERROR(SEARCH(\"*-*\",referentes!AJ1677),2)=1,IF(referentes!AJ1677=\"\",\"\",LEFT(referentes!AJ1677,FIND(\"*-*\",referentes!AJ1677)-1)),referentes!AJ1677))","v":""},null,""]
[null,null,null,null,null,null,null,null,null,null,null,null,null,null,null,null,null,null,{"$f":"IF(referentes!AJ1678=\"\",\"\",IF(IFERROR(SEARCH(\"*-*\",referentes!AJ1678),2)=1,IF(referentes!AJ1678=\"\",\"\",LEFT(referentes!AJ1678,FIND(\"*-*\",referentes!AJ1678)-1)),referentes!AJ1678))","v":""},null,""]
[null,null,null,null,null,null,null,null,null,null,null,null,null,null,null,null,null,null,{"$f":"IF(referentes!AJ1679=\"\",\"\",IF(IFERROR(SEARCH(\"*-*\",referentes!AJ1679),2)=1,IF(referentes!AJ1679=\"\",\"\",LEFT(referentes!AJ1679,FIND(\"*-*\",referentes!AJ1679)-1)),referentes!AJ1679))","v":""},null,""]
[null,null,null,null,null,null,null,null,null,null,null,null,null,null,null,null,null,null,{"$f":"IF(referentes!AJ1680=\"\",\"\",IF(IFERROR(SEARCH(\"*-*\",referentes!AJ1680),2)=1,IF(referentes!AJ1680=\"\",\"\",LEFT(referentes!AJ1680,FIND(\"*-*\",referentes!AJ1680)-1)),referentes!AJ1680))","v":""},null,""]
[null,null,null,null,null,null,null,null,null,null,null,null,null,null,null,null,null,null,{"$f":"IF(referentes!AJ1681=\"\",\"\",IF(IFERROR(SEARCH(\"*-*\",referentes!AJ1681),2)=1,IF(referentes!AJ1681=\"\",\"\",LEFT(referentes!AJ1681,FIND(\"*-*\",referentes!AJ1681)-1)),referentes!AJ1681))","v":""},null,""]
[null,null,null,null,null,null,null,null,null,null,null,null,null,null,null,null,null,null,{"$f":"IF(referentes!AJ1682=\"\",\"\",IF(IFERROR(SEARCH(\"*-*\",referentes!AJ1682),2)=1,IF(referentes!AJ1682=\"\",\"\",LEFT(referentes!AJ1682,FIND(\"*-*\",referentes!AJ1682)-1)),referentes!AJ1682))","v":""},null,""]
[null,null,null,null,null,null,null,null,null,null,null,null,null,null,null,null,null,null,{"$f":"IF(referentes!AJ1683=\"\",\"\",IF(IFERROR(SEARCH(\"*-*\",referentes!AJ1683),2)=1,IF(referentes!AJ1683=\"\",\"\",LEFT(referentes!AJ1683,FIND(\"*-*\",referentes!AJ1683)-1)),referentes!AJ1683))","v":""},null,""]
[null,null,null,null,null,null,null,null,null,null,null,null,null,null,null,null,null,null,{"$f":"IF(referentes!AJ1684=\"\",\"\",IF(IFERROR(SEARCH(\"*-*\",referentes!AJ1684),2)=1,IF(referentes!AJ1684=\"\",\"\",LEFT(referentes!AJ1684,FIND(\"*-*\",referentes!AJ1684)-1)),referentes!AJ1684))","v":""},null,""]
[null,null,null,null,null,null,null,null,null,null,null,null,null,null,null,null,null,null,{"$f":"IF(referentes!AJ1685=\"\",\"\",IF(IFERROR(SEARCH(\"*-*\",referentes!AJ1685),2)=1,IF(referentes!AJ1685=\"\",\"\",LEFT(referentes!AJ1685,FIND(\"*-*\",referentes!AJ1685)-1)),referentes!AJ1685))","v":""},null,""]
[null,null,null,null,null,null,null,null,null,null,null,null,null,null,null,null,null,null,{"$f":"IF(referentes!AJ1686=\"\",\"\",IF(IFERROR(SEARCH(\"*-*\",referentes!AJ1686),2)=1,IF(referentes!AJ1686=\"\",\"\",LEFT(referentes!AJ1686,FIND(\"*-*\",referentes!AJ1686)-1)),referentes!AJ1686))","v":""},null,""]
[null,null,null,null,null,null,null,null,null,null,null,null,null,null,null,null,null,null,{"$f":"IF(referentes!AJ1687=\"\",\"\",IF(IFERROR(SEARCH(\"*-*\",referentes!AJ1687),2)=1,IF(referentes!AJ1687=\"\",\"\",LEFT(referentes!AJ1687,FIND(\"*-*\",referentes!AJ1687)-1)),referentes!AJ1687))","v":""},null,""]
[null,null,null,null,null,null,null,null,null,null,null,null,null,null,null,null,null,null,{"$f":"IF(referentes!AJ1688=\"\",\"\",IF(IFERROR(SEARCH(\"*-*\",referentes!AJ1688),2)=1,IF(referentes!AJ1688=\"\",\"\",LEFT(referentes!AJ1688,FIND(\"*-*\",referentes!AJ1688)-1)),referentes!AJ1688))","v":""},null,""]
[null,null,null,null,null,null,null,null,null,null,null,null,null,null,null,null,null,null,{"$f":"IF(referentes!AJ1689=\"\",\"\",IF(IFERROR(SEARCH(\"*-*\",referentes!AJ1689),2)=1,IF(referentes!AJ1689=\"\",\"\",LEFT(referentes!AJ1689,FIND(\"*-*\",referentes!AJ1689)-1)),referentes!AJ1689))","v":""},null,""]
[null,null,null,null,null,null,null,null,null,null,null,null,null,null,null,null,null,null,{"$f":"IF(referentes!AJ1690=\"\",\"\",IF(IFERROR(SEARCH(\"*-*\",referentes!AJ1690),2)=1,IF(referentes!AJ1690=\"\",\"\",LEFT(referentes!AJ1690,FIND(\"*-*\",referentes!AJ1690)-1)),referentes!AJ1690))","v":""},null,""]
[null,null,null,null,null,null,null,null,null,null,null,null,null,null,null,null,null,null,{"$f":"IF(referentes!AJ1691=\"\",\"\",IF(IFERROR(SEARCH(\"*-*\",referentes!AJ1691),2)=1,IF(referentes!AJ1691=\"\",\"\",LEFT(referentes!AJ1691,FIND(\"*-*\",referentes!AJ1691)-1)),referentes!AJ1691))","v":""},null,""]
[null,null,null,null,null,null,null,null,null,null,null,null,null,null,null,null,null,null,{"$f":"IF(referentes!AJ1692=\"\",\"\",IF(IFERROR(SEARCH(\"*-*\",referentes!AJ1692),2)=1,IF(referentes!AJ1692=\"\",\"\",LEFT(referentes!AJ1692,FIND(\"*-*\",referentes!AJ1692)-1)),referentes!AJ1692))","v":""},null,""]
[null,null,null,null,null,null,null,null,null,null,null,null,null,null,null,null,null,null,{"$f":"IF(referentes!AJ1693=\"\",\"\",IF(IFERROR(SEARCH(\"*-*\",referentes!AJ1693),2)=1,IF(referentes!AJ1693=\"\",\"\",LEFT(referentes!AJ1693,FIND(\"*-*\",referentes!AJ1693)-1)),referentes!AJ1693))","v":""},null,""]
[null,null,null,null,null,null,null,null,null,null,null,null,null,null,null,null,null,null,{"$f":"IF(referentes!AJ1694=\"\",\"\",IF(IFERROR(SEARCH(\"*-*\",referentes!AJ1694),2)=1,IF(referentes!AJ1694=\"\",\"\",LEFT(referentes!AJ1694,FIND(\"*-*\",referentes!AJ1694)-1)),referentes!AJ1694))","v":""},null,""]
[null,null,null,null,null,null,null,null,null,null,null,null,null,null,null,null,null,null,{"$f":"IF(referentes!AJ1695=\"\",\"\",IF(IFERROR(SEARCH(\"*-*\",referentes!AJ1695),2)=1,IF(referentes!AJ1695=\"\",\"\",LEFT(referentes!AJ1695,FIND(\"*-*\",referentes!AJ1695)-1)),referentes!AJ1695))","v":""},null,""]
[null,null,null,null,null,null,null,null,null,null,null,null,null,null,null,null,null,null,{"$f":"IF(referentes!AJ1696=\"\",\"\",IF(IFERROR(SEARCH(\"*-*\",referentes!AJ1696),2)=1,IF(referentes!AJ1696=\"\",\"\",LEFT(referentes!AJ1696,FIND(\"*-*\",referentes!AJ1696)-1)),referentes!AJ1696))","v":""},null,""]
[null,null,null,null,null,null,null,null,null,null,null,null,null,null,null,null,null,null,{"$f":"IF(referentes!AJ1697=\"\",\"\",IF(IFERROR(SEARCH(\"*-*\",referentes!AJ1697),2)=1,IF(referentes!AJ1697=\"\",\"\",LEFT(referentes!AJ1697,FIND(\"*-*\",referentes!AJ1697)-1)),referentes!AJ1697))","v":""},null,""]
[null,null,null,null,null,null,null,null,null,null,null,null,null,null,null,null,null,null,{"$f":"IF(referentes!AJ1698=\"\",\"\",IF(IFERROR(SEARCH(\"*-*\",referentes!AJ1698),2)=1,IF(referentes!AJ1698=\"\",\"\",LEFT(referentes!AJ1698,FIND(\"*-*\",referentes!AJ1698)-1)),referentes!AJ1698))","v":""},null,""]
[null,null,null,null,null,null,null,null,null,null,null,null,null,null,null,null,null,null,{"$f":"IF(referentes!AJ1699=\"\",\"\",IF(IFERROR(SEARCH(\"*-*\",referentes!AJ1699),2)=1,IF(referentes!AJ1699=\"\",\"\",LEFT(referentes!AJ1699,FIND(\"*-*\",referentes!AJ1699)-1)),referentes!AJ1699))","v":""},null,""]
[null,null,null,null,null,null,null,null,null,null,null,null,null,null,null,null,null,null,{"$f":"IF(referentes!AJ1700=\"\",\"\",IF(IFERROR(SEARCH(\"*-*\",referentes!AJ1700),2)=1,IF(referentes!AJ1700=\"\",\"\",LEFT(referentes!AJ1700,FIND(\"*-*\",referentes!AJ1700)-1)),referentes!AJ1700))","v":""},null,""]
[null,null,null,null,null,null,null,null,null,null,null,null,null,null,null,null,null,null,{"$f":"IF(referentes!AJ1701=\"\",\"\",IF(IFERROR(SEARCH(\"*-*\",referentes!AJ1701),2)=1,IF(referentes!AJ1701=\"\",\"\",LEFT(referentes!AJ1701,FIND(\"*-*\",referentes!AJ1701)-1)),referentes!AJ1701))","v":""},null,""]
[null,null,null,null,null,null,null,null,null,null,null,null,null,null,null,null,null,null,{"$f":"IF(referentes!AJ1702=\"\",\"\",IF(IFERROR(SEARCH(\"*-*\",referentes!AJ1702),2)=1,IF(referentes!AJ1702=\"\",\"\",LEFT(referentes!AJ1702,FIND(\"*-*\",referentes!AJ1702)-1)),referentes!AJ1702))","v":""},null,""]
[null,null,null,null,null,null,null,null,null,null,null,null,null,null,null,null,null,null,{"$f":"IF(referentes!AJ1703=\"\",\"\",IF(IFERROR(SEARCH(\"*-*\",referentes!AJ1703),2)=1,IF(referentes!AJ1703=\"\",\"\",LEFT(referentes!AJ1703,FIND(\"*-*\",referentes!AJ1703)-1)),referentes!AJ1703))","v":""},null,""]
[null,null,null,null,null,null,null,null,null,null,null,null,null,null,null,null,null,null,{"$f":"IF(referentes!AJ1704=\"\",\"\",IF(IFERROR(SEARCH(\"*-*\",referentes!AJ1704),2)=1,IF(referentes!AJ1704=\"\",\"\",LEFT(referentes!AJ1704,FIND(\"*-*\",referentes!AJ1704)-1)),referentes!AJ1704))","v":""},null,""]
[null,null,null,null,null,null,null,null,null,null,null,null,null,null,null,null,null,null,{"$f":"IF(referentes!AJ1705=\"\",\"\",IF(IFERROR(SEARCH(\"*-*\",referentes!AJ1705),2)=1,IF(referentes!AJ1705=\"\",\"\",LEFT(referentes!AJ1705,FIND(\"*-*\",referentes!AJ1705)-1)),referentes!AJ1705))","v":""},null,""]
[null,null,null,null,null,null,null,null,null,null,null,null,null,null,null,null,null,null,{"$f":"IF(referentes!AJ1706=\"\",\"\",IF(IFERROR(SEARCH(\"*-*\",referentes!AJ1706),2)=1,IF(referentes!AJ1706=\"\",\"\",LEFT(referentes!AJ1706,FIND(\"*-*\",referentes!AJ1706)-1)),referentes!AJ1706))","v":""},null,""]
[null,null,null,null,null,null,null,null,null,null,null,null,null,null,null,null,null,null,{"$f":"IF(referentes!AJ1707=\"\",\"\",IF(IFERROR(SEARCH(\"*-*\",referentes!AJ1707),2)=1,IF(referentes!AJ1707=\"\",\"\",LEFT(referentes!AJ1707,FIND(\"*-*\",referentes!AJ1707)-1)),referentes!AJ1707))","v":""},null,""]
[null,null,null,null,null,null,null,null,null,null,null,null,null,null,null,null,null,null,{"$f":"IF(referentes!AJ1708=\"\",\"\",IF(IFERROR(SEARCH(\"*-*\",referentes!AJ1708),2)=1,IF(referentes!AJ1708=\"\",\"\",LEFT(referentes!AJ1708,FIND(\"*-*\",referentes!AJ1708)-1)),referentes!AJ1708))","v":""},null,""]
[null,null,null,null,null,null,null,null,null,null,null,null,null,null,null,null,null,null,{"$f":"IF(referentes!AJ1709=\"\",\"\",IF(IFERROR(SEARCH(\"*-*\",referentes!AJ1709),2)=1,IF(referentes!AJ1709=\"\",\"\",LEFT(referentes!AJ1709,FIND(\"*-*\",referentes!AJ1709)-1)),referentes!AJ1709))","v":""},null,""]
[null,null,null,null,null,null,null,null,null,null,null,null,null,null,null,null,null,null,{"$f":"IF(referentes!AJ1710=\"\",\"\",IF(IFERROR(SEARCH(\"*-*\",referentes!AJ1710),2)=1,IF(referentes!AJ1710=\"\",\"\",LEFT(referentes!AJ1710,FIND(\"*-*\",referentes!AJ1710)-1)),referentes!AJ1710))","v":""},null,""]
[null,null,null,null,null,null,null,null,null,null,null,null,null,null,null,null,null,null,{"$f":"IF(referentes!AJ1711=\"\",\"\",IF(IFERROR(SEARCH(\"*-*\",referentes!AJ1711),2)=1,IF(referentes!AJ1711=\"\",\"\",LEFT(referentes!AJ1711,FIND(\"*-*\",referentes!AJ1711)-1)),referentes!AJ1711))","v":""},null,""]
[null,null,null,null,null,null,null,null,null,null,null,null,null,null,null,null,null,null,{"$f":"IF(referentes!AJ1712=\"\",\"\",IF(IFERROR(SEARCH(\"*-*\",referentes!AJ1712),2)=1,IF(referentes!AJ1712=\"\",\"\",LEFT(referentes!AJ1712,FIND(\"*-*\",referentes!AJ1712)-1)),referentes!AJ1712))","v":""},null,""]
[null,null,null,null,null,null,null,null,null,null,null,null,null,null,null,null,null,null,{"$f":"IF(referentes!AJ1713=\"\",\"\",IF(IFERROR(SEARCH(\"*-*\",referentes!AJ1713),2)=1,IF(referentes!AJ1713=\"\",\"\",LEFT(referentes!AJ1713,FIND(\"*-*\",referentes!AJ1713)-1)),referentes!AJ1713))","v":""},null,""]
[null,null,null,null,null,null,null,null,null,null,null,null,null,null,null,null,null,null,{"$f":"IF(referentes!AJ1714=\"\",\"\",IF(IFERROR(SEARCH(\"*-*\",referentes!AJ1714),2)=1,IF(referentes!AJ1714=\"\",\"\",LEFT(referentes!AJ1714,FIND(\"*-*\",referentes!AJ1714)-1)),referentes!AJ1714))","v":""},null,""]
[null,null,null,null,null,null,null,null,null,null,null,null,null,null,null,null,null,null,{"$f":"IF(referentes!AJ1715=\"\",\"\",IF(IFERROR(SEARCH(\"*-*\",referentes!AJ1715),2)=1,IF(referentes!AJ1715=\"\",\"\",LEFT(referentes!AJ1715,FIND(\"*-*\",referentes!AJ1715)-1)),referentes!AJ1715))","v":""},null,""]
[null,null,null,null,null,null,null,null,null,null,null,null,null,null,null,null,null,null,{"$f":"IF(referentes!AJ1716=\"\",\"\",IF(IFERROR(SEARCH(\"*-*\",referentes!AJ1716),2)=1,IF(referentes!AJ1716=\"\",\"\",LEFT(referentes!AJ1716,FIND(\"*-*\",referentes!AJ1716)-1)),referentes!AJ1716))","v":""},null,""]
[null,null,null,null,null,null,null,null,null,null,null,null,null,null,null,null,null,null,{"$f":"IF(referentes!AJ1717=\"\",\"\",IF(IFERROR(SEARCH(\"*-*\",referentes!AJ1717),2)=1,IF(referentes!AJ1717=\"\",\"\",LEFT(referentes!AJ1717,FIND(\"*-*\",referentes!AJ1717)-1)),referentes!AJ1717))","v":""},null,""]
[null,null,null,null,null,null,null,null,null,null,null,null,null,null,null,null,null,null,{"$f":"IF(referentes!AJ1718=\"\",\"\",IF(IFERROR(SEARCH(\"*-*\",referentes!AJ1718),2)=1,IF(referentes!AJ1718=\"\",\"\",LEFT(referentes!AJ1718,FIND(\"*-*\",referentes!AJ1718)-1)),referentes!AJ1718))","v":""},null,""]
[null,null,null,null,null,null,null,null,null,null,null,null,null,null,null,null,null,null,{"$f":"IF(referentes!AJ1719=\"\",\"\",IF(IFERROR(SEARCH(\"*-*\",referentes!AJ1719),2)=1,IF(referentes!AJ1719=\"\",\"\",LEFT(referentes!AJ1719,FIND(\"*-*\",referentes!AJ1719)-1)),referentes!AJ1719))","v":""},null,""]
[null,null,null,null,null,null,null,null,null,null,null,null,null,null,null,null,null,null,{"$f":"IF(referentes!AJ1720=\"\",\"\",IF(IFERROR(SEARCH(\"*-*\",referentes!AJ1720),2)=1,IF(referentes!AJ1720=\"\",\"\",LEFT(referentes!AJ1720,FIND(\"*-*\",referentes!AJ1720)-1)),referentes!AJ1720))","v":""},null,""]
[null,null,null,null,null,null,null,null,null,null,null,null,null,null,null,null,null,null,{"$f":"IF(referentes!AJ1721=\"\",\"\",IF(IFERROR(SEARCH(\"*-*\",referentes!AJ1721),2)=1,IF(referentes!AJ1721=\"\",\"\",LEFT(referentes!AJ1721,FIND(\"*-*\",referentes!AJ1721)-1)),referentes!AJ1721))","v":""},null,""]
[null,null,null,null,null,null,null,null,null,null,null,null,null,null,null,null,null,null,{"$f":"IF(referentes!AJ1722=\"\",\"\",IF(IFERROR(SEARCH(\"*-*\",referentes!AJ1722),2)=1,IF(referentes!AJ1722=\"\",\"\",LEFT(referentes!AJ1722,FIND(\"*-*\",referentes!AJ1722)-1)),referentes!AJ1722))","v":""},null,""]
[null,null,null,null,null,null,null,null,null,null,null,null,null,null,null,null,null,null,{"$f":"IF(referentes!AJ1723=\"\",\"\",IF(IFERROR(SEARCH(\"*-*\",referentes!AJ1723),2)=1,IF(referentes!AJ1723=\"\",\"\",LEFT(referentes!AJ1723,FIND(\"*-*\",referentes!AJ1723)-1)),referentes!AJ1723))","v":""},null,""]
[null,null,null,null,null,null,null,null,null,null,null,null,null,null,null,null,null,null,{"$f":"IF(referentes!AJ1724=\"\",\"\",IF(IFERROR(SEARCH(\"*-*\",referentes!AJ1724),2)=1,IF(referentes!AJ1724=\"\",\"\",LEFT(referentes!AJ1724,FIND(\"*-*\",referentes!AJ1724)-1)),referentes!AJ1724))","v":""},null,""]
[null,null,null,null,null,null,null,null,null,null,null,null,null,null,null,null,null,null,{"$f":"IF(referentes!AJ1725=\"\",\"\",IF(IFERROR(SEARCH(\"*-*\",referentes!AJ1725),2)=1,IF(referentes!AJ1725=\"\",\"\",LEFT(referentes!AJ1725,FIND(\"*-*\",referentes!AJ1725)-1)),referentes!AJ1725))","v":""},null,""]
[null,null,null,null,null,null,null,null,null,null,null,null,null,null,null,null,null,null,{"$f":"IF(referentes!AJ1726=\"\",\"\",IF(IFERROR(SEARCH(\"*-*\",referentes!AJ1726),2)=1,IF(referentes!AJ1726=\"\",\"\",LEFT(referentes!AJ1726,FIND(\"*-*\",referentes!AJ1726)-1)),referentes!AJ1726))","v":""},null,""]
[null,null,null,null,null,null,null,null,null,null,null,null,null,null,null,null,null,null,{"$f":"IF(referentes!AJ1727=\"\",\"\",IF(IFERROR(SEARCH(\"*-*\",referentes!AJ1727),2)=1,IF(referentes!AJ1727=\"\",\"\",LEFT(referentes!AJ1727,FIND(\"*-*\",referentes!AJ1727)-1)),referentes!AJ1727))","v":""},null,""]
[null,null,null,null,null,null,null,null,null,null,null,null,null,null,null,null,null,null,{"$f":"IF(referentes!AJ1728=\"\",\"\",IF(IFERROR(SEARCH(\"*-*\",referentes!AJ1728),2)=1,IF(referentes!AJ1728=\"\",\"\",LEFT(referentes!AJ1728,FIND(\"*-*\",referentes!AJ1728)-1)),referentes!AJ1728))","v":""},null,""]
[null,null,null,null,null,null,null,null,null,null,null,null,null,null,null,null,null,null,{"$f":"IF(referentes!AJ1729=\"\",\"\",IF(IFERROR(SEARCH(\"*-*\",referentes!AJ1729),2)=1,IF(referentes!AJ1729=\"\",\"\",LEFT(referentes!AJ1729,FIND(\"*-*\",referentes!AJ1729)-1)),referentes!AJ1729))","v":""},null,""]
[null,null,null,null,null,null,null,null,null,null,null,null,null,null,null,null,null,null,{"$f":"IF(referentes!AJ1730=\"\",\"\",IF(IFERROR(SEARCH(\"*-*\",referentes!AJ1730),2)=1,IF(referentes!AJ1730=\"\",\"\",LEFT(referentes!AJ1730,FIND(\"*-*\",referentes!AJ1730)-1)),referentes!AJ1730))","v":""},null,""]
[null,null,null,null,null,null,null,null,null,null,null,null,null,null,null,null,null,null,{"$f":"IF(referentes!AJ1731=\"\",\"\",IF(IFERROR(SEARCH(\"*-*\",referentes!AJ1731),2)=1,IF(referentes!AJ1731=\"\",\"\",LEFT(referentes!AJ1731,FIND(\"*-*\",referentes!AJ1731)-1)),referentes!AJ1731))","v":""},null,""]
[null,null,null,null,null,null,null,null,null,null,null,null,null,null,null,null,null,null,{"$f":"IF(referentes!AJ1732=\"\",\"\",IF(IFERROR(SEARCH(\"*-*\",referentes!AJ1732),2)=1,IF(referentes!AJ1732=\"\",\"\",LEFT(referentes!AJ1732,FIND(\"*-*\",referentes!AJ1732)-1)),referentes!AJ1732))","v":""},null,""]
[null,null,null,null,null,null,null,null,null,null,null,null,null,null,null,null,null,null,{"$f":"IF(referentes!AJ1733=\"\",\"\",IF(IFERROR(SEARCH(\"*-*\",referentes!AJ1733),2)=1,IF(referentes!AJ1733=\"\",\"\",LEFT(referentes!AJ1733,FIND(\"*-*\",referentes!AJ1733)-1)),referentes!AJ1733))","v":""},null,""]
[null,null,null,null,null,null,null,null,null,null,null,null,null,null,null,null,null,null,{"$f":"IF(referentes!AJ1734=\"\",\"\",IF(IFERROR(SEARCH(\"*-*\",referentes!AJ1734),2)=1,IF(referentes!AJ1734=\"\",\"\",LEFT(referentes!AJ1734,FIND(\"*-*\",referentes!AJ1734)-1)),referentes!AJ1734))","v":""},null,""]
[null,null,null,null,null,null,null,null,null,null,null,null,null,null,null,null,null,null,{"$f":"IF(referentes!AJ1735=\"\",\"\",IF(IFERROR(SEARCH(\"*-*\",referentes!AJ1735),2)=1,IF(referentes!AJ1735=\"\",\"\",LEFT(referentes!AJ1735,FIND(\"*-*\",referentes!AJ1735)-1)),referentes!AJ1735))","v":""},null,""]
[null,null,null,null,null,null,null,null,null,null,null,null,null,null,null,null,null,null,{"$f":"IF(referentes!AJ1736=\"\",\"\",IF(IFERROR(SEARCH(\"*-*\",referentes!AJ1736),2)=1,IF(referentes!AJ1736=\"\",\"\",LEFT(referentes!AJ1736,FIND(\"*-*\",referentes!AJ1736)-1)),referentes!AJ1736))","v":""},null,{"$f":"IF(IFERROR(T1735,R1735)=S1735,\"\",R1735)","v":""}]
[null,null,null,null,null,null,null,null,null,null,null,null,null,null,null,null,null,null,{"$f":"IF(referentes!AJ1737=\"\",\"\",IF(IFERROR(SEARCH(\"*-*\",referentes!AJ1737),2)=1,IF(referentes!AJ1737=\"\",\"\",LEFT(referentes!AJ1737,FIND(\"*-*\",referentes!AJ1737)-1)),referentes!AJ1737))","v":""},null,""]
[null,null,null,null,null,null,null,null,null,null,null,null,null,null,null,null,null,null,{"$f":"IF(referentes!AJ1738=\"\",\"\",IF(IFERROR(SEARCH(\"*-*\",referentes!AJ1738),2)=1,IF(referentes!AJ1738=\"\",\"\",LEFT(referentes!AJ1738,FIND(\"*-*\",referentes!AJ1738)-1)),referentes!AJ1738))","v":""},null,""]
[null,null,null,null,null,null,null,null,null,null,null,null,null,null,null,null,null,null,{"$f":"IF(referentes!AJ1739=\"\",\"\",IF(IFERROR(SEARCH(\"*-*\",referentes!AJ1739),2)=1,IF(referentes!AJ1739=\"\",\"\",LEFT(referentes!AJ1739,FIND(\"*-*\",referentes!AJ1739)-1)),referentes!AJ1739))","v":""},null,""]
[null,null,null,null,null,null,null,null,null,null,null,null,null,null,null,null,null,null,{"$f":"IF(referentes!AJ1740=\"\",\"\",IF(IFERROR(SEARCH(\"*-*\",referentes!AJ1740),2)=1,IF(referentes!AJ1740=\"\",\"\",LEFT(referentes!AJ1740,FIND(\"*-*\",referentes!AJ1740)-1)),referentes!AJ1740))","v":""},null,""]
[null,null,null,null,null,null,null,null,null,null,null,null,null,null,null,null,null,null,{"$f":"IF(referentes!AJ1741=\"\",\"\",IF(IFERROR(SEARCH(\"*-*\",referentes!AJ1741),2)=1,IF(referentes!AJ1741=\"\",\"\",LEFT(referentes!AJ1741,FIND(\"*-*\",referentes!AJ1741)-1)),referentes!AJ1741))","v":""},null,""]
[null,null,null,null,null,null,null,null,null,null,null,null,null,null,null,null,null,null,{"$f":"IF(referentes!AJ1742=\"\",\"\",IF(IFERROR(SEARCH(\"*-*\",referentes!AJ1742),2)=1,IF(referentes!AJ1742=\"\",\"\",LEFT(referentes!AJ1742,FIND(\"*-*\",referentes!AJ1742)-1)),referentes!AJ1742))","v":""},null,""]
[null,null,null,null,null,null,null,null,null,null,null,null,null,null,null,null,null,null,{"$f":"IF(referentes!AJ1743=\"\",\"\",IF(IFERROR(SEARCH(\"*-*\",referentes!AJ1743),2)=1,IF(referentes!AJ1743=\"\",\"\",LEFT(referentes!AJ1743,FIND(\"*-*\",referentes!AJ1743)-1)),referentes!AJ1743))","v":""},null,""]
[null,null,null,null,null,null,null,null,null,null,null,null,null,null,null,null,null,null,{"$f":"IF(referentes!AJ1744=\"\",\"\",IF(IFERROR(SEARCH(\"*-*\",referentes!AJ1744),2)=1,IF(referentes!AJ1744=\"\",\"\",LEFT(referentes!AJ1744,FIND(\"*-*\",referentes!AJ1744)-1)),referentes!AJ1744))","v":""},null,""]
[null,null,null,null,null,null,null,null,null,null,null,null,null,null,null,null,null,null,{"$f":"IF(referentes!AJ1745=\"\",\"\",IF(IFERROR(SEARCH(\"*-*\",referentes!AJ1745),2)=1,IF(referentes!AJ1745=\"\",\"\",LEFT(referentes!AJ1745,FIND(\"*-*\",referentes!AJ1745)-1)),referentes!AJ1745))","v":""},null,""]
[null,null,null,null,null,null,null,null,null,null,null,null,null,null,null,null,null,null,{"$f":"IF(referentes!AJ1746=\"\",\"\",IF(IFERROR(SEARCH(\"*-*\",referentes!AJ1746),2)=1,IF(referentes!AJ1746=\"\",\"\",LEFT(referentes!AJ1746,FIND(\"*-*\",referentes!AJ1746)-1)),referentes!AJ1746))","v":""},null,""]
[null,null,null,null,null,null,null,null,null,null,null,null,null,null,null,null,null,null,{"$f":"IF(referentes!AJ1747=\"\",\"\",IF(IFERROR(SEARCH(\"*-*\",referentes!AJ1747),2)=1,IF(referentes!AJ1747=\"\",\"\",LEFT(referentes!AJ1747,FIND(\"*-*\",referentes!AJ1747)-1)),referentes!AJ1747))","v":""},null,""]
[null,null,null,null,null,null,null,null,null,null,null,null,null,null,null,null,null,null,{"$f":"IF(referentes!AJ1748=\"\",\"\",IF(IFERROR(SEARCH(\"*-*\",referentes!AJ1748),2)=1,IF(referentes!AJ1748=\"\",\"\",LEFT(referentes!AJ1748,FIND(\"*-*\",referentes!AJ1748)-1)),referentes!AJ1748))","v":""},null,""]
[null,null,null,null,null,null,null,null,null,null,null,null,null,null,null,null,null,null,{"$f":"IF(referentes!AJ1749=\"\",\"\",IF(IFERROR(SEARCH(\"*-*\",referentes!AJ1749),2)=1,IF(referentes!AJ1749=\"\",\"\",LEFT(referentes!AJ1749,FIND(\"*-*\",referentes!AJ1749)-1)),referentes!AJ1749))","v":""},null,""]
[null,null,null,null,null,null,null,null,null,null,null,null,null,null,null,null,null,null,{"$f":"IF(referentes!AJ1750=\"\",\"\",IF(IFERROR(SEARCH(\"*-*\",referentes!AJ1750),2)=1,IF(referentes!AJ1750=\"\",\"\",LEFT(referentes!AJ1750,FIND(\"*-*\",referentes!AJ1750)-1)),referentes!AJ1750))","v":""},null,""]
[null,null,null,null,null,null,null,null,null,null,null,null,null,null,null,null,null,null,{"$f":"IF(referentes!AJ1751=\"\",\"\",IF(IFERROR(SEARCH(\"*-*\",referentes!AJ1751),2)=1,IF(referentes!AJ1751=\"\",\"\",LEFT(referentes!AJ1751,FIND(\"*-*\",referentes!AJ1751)-1)),referentes!AJ1751))","v":""},null,""]
[null,null,null,null,null,null,null,null,null,null,null,null,null,null,null,null,null,null,{"$f":"IF(referentes!AJ1752=\"\",\"\",IF(IFERROR(SEARCH(\"*-*\",referentes!AJ1752),2)=1,IF(referentes!AJ1752=\"\",\"\",LEFT(referentes!AJ1752,FIND(\"*-*\",referentes!AJ1752)-1)),referentes!AJ1752))","v":""},null,""]
[null,null,null,null,null,null,null,null,null,null,null,null,null,null,null,null,null,null,{"$f":"IF(referentes!AJ1753=\"\",\"\",IF(IFERROR(SEARCH(\"*-*\",referentes!AJ1753),2)=1,IF(referentes!AJ1753=\"\",\"\",LEFT(referentes!AJ1753,FIND(\"*-*\",referentes!AJ1753)-1)),referentes!AJ1753))","v":""},null,""]
[null,null,null,null,null,null,null,null,null,null,null,null,null,null,null,null,null,null,{"$f":"IF(referentes!AJ1754=\"\",\"\",IF(IFERROR(SEARCH(\"*-*\",referentes!AJ1754),2)=1,IF(referentes!AJ1754=\"\",\"\",LEFT(referentes!AJ1754,FIND(\"*-*\",referentes!AJ1754)-1)),referentes!AJ1754))","v":""},null,""]
[null,null,null,null,null,null,null,null,null,null,null,null,null,null,null,null,null,null,{"$f":"IF(referentes!AJ1755=\"\",\"\",IF(IFERROR(SEARCH(\"*-*\",referentes!AJ1755),2)=1,IF(referentes!AJ1755=\"\",\"\",LEFT(referentes!AJ1755,FIND(\"*-*\",referentes!AJ1755)-1)),referentes!AJ1755))","v":""},null,""]
[null,null,null,null,null,null,null,null,null,null,null,null,null,null,null,null,null,null,{"$f":"IF(referentes!AJ1756=\"\",\"\",IF(IFERROR(SEARCH(\"*-*\",referentes!AJ1756),2)=1,IF(referentes!AJ1756=\"\",\"\",LEFT(referentes!AJ1756,FIND(\"*-*\",referentes!AJ1756)-1)),referentes!AJ1756))","v":""},null,""]
[null,null,null,null,null,null,null,null,null,null,null,null,null,null,null,null,null,null,{"$f":"IF(referentes!AJ1757=\"\",\"\",IF(IFERROR(SEARCH(\"*-*\",referentes!AJ1757),2)=1,IF(referentes!AJ1757=\"\",\"\",LEFT(referentes!AJ1757,FIND(\"*-*\",referentes!AJ1757)-1)),referentes!AJ1757))","v":""},null,""]
[null,null,null,null,null,null,null,null,null,null,null,null,null,null,null,null,null,null,{"$f":"IF(referentes!AJ1758=\"\",\"\",IF(IFERROR(SEARCH(\"*-*\",referentes!AJ1758),2)=1,IF(referentes!AJ1758=\"\",\"\",LEFT(referentes!AJ1758,FIND(\"*-*\",referentes!AJ1758)-1)),referentes!AJ1758))","v":""},null,""]
[null,null,null,null,null,null,null,null,null,null,null,null,null,null,null,null,null,null,{"$f":"IF(referentes!AJ1759=\"\",\"\",IF(IFERROR(SEARCH(\"*-*\",referentes!AJ1759),2)=1,IF(referentes!AJ1759=\"\",\"\",LEFT(referentes!AJ1759,FIND(\"*-*\",referentes!AJ1759)-1)),referentes!AJ1759))","v":""},null,""]
[null,null,null,null,null,null,null,null,null,null,null,null,null,null,null,null,null,null,{"$f":"IF(referentes!AJ1760=\"\",\"\",IF(IFERROR(SEARCH(\"*-*\",referentes!AJ1760),2)=1,IF(referentes!AJ1760=\"\",\"\",LEFT(referentes!AJ1760,FIND(\"*-*\",referentes!AJ1760)-1)),referentes!AJ1760))","v":""},null,""]
[null,null,null,null,null,null,null,null,null,null,null,null,null,null,null,null,null,null,{"$f":"IF(referentes!AJ1761=\"\",\"\",IF(IFERROR(SEARCH(\"*-*\",referentes!AJ1761),2)=1,IF(referentes!AJ1761=\"\",\"\",LEFT(referentes!AJ1761,FIND(\"*-*\",referentes!AJ1761)-1)),referentes!AJ1761))","v":""},null,""]
[null,null,null,null,null,null,null,null,null,null,null,null,null,null,null,null,null,null,{"$f":"IF(referentes!AJ1762=\"\",\"\",IF(IFERROR(SEARCH(\"*-*\",referentes!AJ1762),2)=1,IF(referentes!AJ1762=\"\",\"\",LEFT(referentes!AJ1762,FIND(\"*-*\",referentes!AJ1762)-1)),referentes!AJ1762))","v":""},null,""]
[null,null,null,null,null,null,null,null,null,null,null,null,null,null,null,null,null,null,{"$f":"IF(referentes!AJ1763=\"\",\"\",IF(IFERROR(SEARCH(\"*-*\",referentes!AJ1763),2)=1,IF(referentes!AJ1763=\"\",\"\",LEFT(referentes!AJ1763,FIND(\"*-*\",referentes!AJ1763)-1)),referentes!AJ1763))","v":""},null,""]
[null,null,null,null,null,null,null,null,null,null,null,null,null,null,null,null,null,null,{"$f":"IF(referentes!AJ1764=\"\",\"\",IF(IFERROR(SEARCH(\"*-*\",referentes!AJ1764),2)=1,IF(referentes!AJ1764=\"\",\"\",LEFT(referentes!AJ1764,FIND(\"*-*\",referentes!AJ1764)-1)),referentes!AJ1764))","v":""},null,""]
[null,null,null,null,null,null,null,null,null,null,null,null,null,null,null,null,null,null,{"$f":"IF(referentes!AJ1765=\"\",\"\",IF(IFERROR(SEARCH(\"*-*\",referentes!AJ1765),2)=1,IF(referentes!AJ1765=\"\",\"\",LEFT(referentes!AJ1765,FIND(\"*-*\",referentes!AJ1765)-1)),referentes!AJ1765))","v":""},null,""]
[null,null,null,null,null,null,null,null,null,null,null,null,null,null,null,null,null,null,{"$f":"IF(referentes!AJ1766=\"\",\"\",IF(IFERROR(SEARCH(\"*-*\",referentes!AJ1766),2)=1,IF(referentes!AJ1766=\"\",\"\",LEFT(referentes!AJ1766,FIND(\"*-*\",referentes!AJ1766)-1)),referentes!AJ1766))","v":""},null,""]
[null,null,null,null,null,null,null,null,null,null,null,null,null,null,null,null,null,null,{"$f":"IF(referentes!AJ1767=\"\",\"\",IF(IFERROR(SEARCH(\"*-*\",referentes!AJ1767),2)=1,IF(referentes!AJ1767=\"\",\"\",LEFT(referentes!AJ1767,FIND(\"*-*\",referentes!AJ1767)-1)),referentes!AJ1767))","v":""},null,""]
[null,null,null,null,null,null,null,null,null,null,null,null,null,null,null,null,null,null,{"$f":"IF(referentes!AJ1768=\"\",\"\",IF(IFERROR(SEARCH(\"*-*\",referentes!AJ1768),2)=1,IF(referentes!AJ1768=\"\",\"\",LEFT(referentes!AJ1768,FIND(\"*-*\",referentes!AJ1768)-1)),referentes!AJ1768))","v":""},null,""]
[null,null,null,null,null,null,null,null,null,null,null,null,null,null,null,null,null,null,{"$f":"IF(referentes!AJ1769=\"\",\"\",IF(IFERROR(SEARCH(\"*-*\",referentes!AJ1769),2)=1,IF(referentes!AJ1769=\"\",\"\",LEFT(referentes!AJ1769,FIND(\"*-*\",referentes!AJ1769)-1)),referentes!AJ1769))","v":""},null,""]
[null,null,null,null,null,null,null,null,null,null,null,null,null,null,null,null,null,null,{"$f":"IF(referentes!AJ1770=\"\",\"\",IF(IFERROR(SEARCH(\"*-*\",referentes!AJ1770),2)=1,IF(referentes!AJ1770=\"\",\"\",LEFT(referentes!AJ1770,FIND(\"*-*\",referentes!AJ1770)-1)),referentes!AJ1770))","v":""},null,""]
[null,null,null,null,null,null,null,null,null,null,null,null,null,null,null,null,null,null,{"$f":"IF(referentes!AJ1771=\"\",\"\",IF(IFERROR(SEARCH(\"*-*\",referentes!AJ1771),2)=1,IF(referentes!AJ1771=\"\",\"\",LEFT(referentes!AJ1771,FIND(\"*-*\",referentes!AJ1771)-1)),referentes!AJ1771))","v":""},null,""]
[null,null,null,null,null,null,null,null,null,null,null,null,null,null,null,null,null,null,{"$f":"IF(referentes!AJ1772=\"\",\"\",IF(IFERROR(SEARCH(\"*-*\",referentes!AJ1772),2)=1,IF(referentes!AJ1772=\"\",\"\",LEFT(referentes!AJ1772,FIND(\"*-*\",referentes!AJ1772)-1)),referentes!AJ1772))","v":""},null,""]
[null,null,null,null,null,null,null,null,null,null,null,null,null,null,null,null,null,null,{"$f":"IF(referentes!AJ1773=\"\",\"\",IF(IFERROR(SEARCH(\"*-*\",referentes!AJ1773),2)=1,IF(referentes!AJ1773=\"\",\"\",LEFT(referentes!AJ1773,FIND(\"*-*\",referentes!AJ1773)-1)),referentes!AJ1773))","v":""},null,""]
[null,null,null,null,null,null,null,null,null,null,null,null,null,null,null,null,null,null,{"$f":"IF(referentes!AJ1774=\"\",\"\",IF(IFERROR(SEARCH(\"*-*\",referentes!AJ1774),2)=1,IF(referentes!AJ1774=\"\",\"\",LEFT(referentes!AJ1774,FIND(\"*-*\",referentes!AJ1774)-1)),referentes!AJ1774))","v":""},null,""]
[null,null,null,null,null,null,null,null,null,null,null,null,null,null,null,null,null,null,{"$f":"IF(referentes!AJ1775=\"\",\"\",IF(IFERROR(SEARCH(\"*-*\",referentes!AJ1775),2)=1,IF(referentes!AJ1775=\"\",\"\",LEFT(referentes!AJ1775,FIND(\"*-*\",referentes!AJ1775)-1)),referentes!AJ1775))","v":""},null,""]
[null,null,null,null,null,null,null,null,null,null,null,null,null,null,null,null,null,null,{"$f":"IF(referentes!AJ1776=\"\",\"\",IF(IFERROR(SEARCH(\"*-*\",referentes!AJ1776),2)=1,IF(referentes!AJ1776=\"\",\"\",LEFT(referentes!AJ1776,FIND(\"*-*\",referentes!AJ1776)-1)),referentes!AJ1776))","v":""},null,""]
[null,null,null,null,null,null,null,null,null,null,null,null,null,null,null,null,null,null,{"$f":"IF(referentes!AJ1777=\"\",\"\",IF(IFERROR(SEARCH(\"*-*\",referentes!AJ1777),2)=1,IF(referentes!AJ1777=\"\",\"\",LEFT(referentes!AJ1777,FIND(\"*-*\",referentes!AJ1777)-1)),referentes!AJ1777))","v":""},null,""]
[null,null,null,null,null,null,null,null,null,null,null,null,null,null,null,null,null,null,{"$f":"IF(referentes!AJ1778=\"\",\"\",IF(IFERROR(SEARCH(\"*-*\",referentes!AJ1778),2)=1,IF(referentes!AJ1778=\"\",\"\",LEFT(referentes!AJ1778,FIND(\"*-*\",referentes!AJ1778)-1)),referentes!AJ1778))","v":""},null,""]
[null,null,null,null,null,null,null,null,null,null,null,null,null,null,null,null,null,null,{"$f":"IF(referentes!AJ1779=\"\",\"\",IF(IFERROR(SEARCH(\"*-*\",referentes!AJ1779),2)=1,IF(referentes!AJ1779=\"\",\"\",LEFT(referentes!AJ1779,FIND(\"*-*\",referentes!AJ1779)-1)),referentes!AJ1779))","v":""},null,""]
[null,null,null,null,null,null,null,null,null,null,null,null,null,null,null,null,null,null,{"$f":"IF(referentes!AJ1780=\"\",\"\",IF(IFERROR(SEARCH(\"*-*\",referentes!AJ1780),2)=1,IF(referentes!AJ1780=\"\",\"\",LEFT(referentes!AJ1780,FIND(\"*-*\",referentes!AJ1780)-1)),referentes!AJ1780))","v":""},null,""]
[null,null,null,null,null,null,null,null,null,null,null,null,null,null,null,null,null,null,{"$f":"IF(referentes!AJ1781=\"\",\"\",IF(IFERROR(SEARCH(\"*-*\",referentes!AJ1781),2)=1,IF(referentes!AJ1781=\"\",\"\",LEFT(referentes!AJ1781,FIND(\"*-*\",referentes!AJ1781)-1)),referentes!AJ1781))","v":""},null,""]
[null,null,null,null,null,null,null,null,null,null,null,null,null,null,null,null,null,null,{"$f":"IF(referentes!AJ1782=\"\",\"\",IF(IFERROR(SEARCH(\"*-*\",referentes!AJ1782),2)=1,IF(referentes!AJ1782=\"\",\"\",LEFT(referentes!AJ1782,FIND(\"*-*\",referentes!AJ1782)-1)),referentes!AJ1782))","v":""},null,""]
[null,null,null,null,null,null,null,null,null,null,null,null,null,null,null,null,null,null,{"$f":"IF(referentes!AJ1783=\"\",\"\",IF(IFERROR(SEARCH(\"*-*\",referentes!AJ1783),2)=1,IF(referentes!AJ1783=\"\",\"\",LEFT(referentes!AJ1783,FIND(\"*-*\",referentes!AJ1783)-1)),referentes!AJ1783))","v":""},null,""]
[null,null,null,null,null,null,null,null,null,null,null,null,null,null,null,null,null,null,{"$f":"IF(referentes!AJ1784=\"\",\"\",IF(IFERROR(SEARCH(\"*-*\",referentes!AJ1784),2)=1,IF(referentes!AJ1784=\"\",\"\",LEFT(referentes!AJ1784,FIND(\"*-*\",referentes!AJ1784)-1)),referentes!AJ1784))","v":""},null,""]
[null,null,null,null,null,null,null,null,null,null,null,null,null,null,null,null,null,null,{"$f":"IF(referentes!AJ1785=\"\",\"\",IF(IFERROR(SEARCH(\"*-*\",referentes!AJ1785),2)=1,IF(referentes!AJ1785=\"\",\"\",LEFT(referentes!AJ1785,FIND(\"*-*\",referentes!AJ1785)-1)),referentes!AJ1785))","v":""},null,""]
[null,null,null,null,null,null,null,null,null,null,null,null,null,null,null,null,null,null,{"$f":"IF(referentes!AJ1786=\"\",\"\",IF(IFERROR(SEARCH(\"*-*\",referentes!AJ1786),2)=1,IF(referentes!AJ1786=\"\",\"\",LEFT(referentes!AJ1786,FIND(\"*-*\",referentes!AJ1786)-1)),referentes!AJ1786))","v":""},null,""]
[null,null,null,null,null,null,null,null,null,null,null,null,null,null,null,null,null,null,{"$f":"IF(referentes!AJ1787=\"\",\"\",IF(IFERROR(SEARCH(\"*-*\",referentes!AJ1787),2)=1,IF(referentes!AJ1787=\"\",\"\",LEFT(referentes!AJ1787,FIND(\"*-*\",referentes!AJ1787)-1)),referentes!AJ1787))","v":""},null,""]
[null,null,null,null,null,null,null,null,null,null,null,null,null,null,null,null,null,null,{"$f":"IF(referentes!AJ1788=\"\",\"\",IF(IFERROR(SEARCH(\"*-*\",referentes!AJ1788),2)=1,IF(referentes!AJ1788=\"\",\"\",LEFT(referentes!AJ1788,FIND(\"*-*\",referentes!AJ1788)-1)),referentes!AJ1788))","v":""},null,""]
[null,null,null,null,null,null,null,null,null,null,null,null,null,null,null,null,null,null,{"$f":"IF(referentes!AJ1789=\"\",\"\",IF(IFERROR(SEARCH(\"*-*\",referentes!AJ1789),2)=1,IF(referentes!AJ1789=\"\",\"\",LEFT(referentes!AJ1789,FIND(\"*-*\",referentes!AJ1789)-1)),referentes!AJ1789))","v":""},null,""]
[null,null,null,null,null,null,null,null,null,null,null,null,null,null,null,null,null,null,{"$f":"IF(referentes!AJ1790=\"\",\"\",IF(IFERROR(SEARCH(\"*-*\",referentes!AJ1790),2)=1,IF(referentes!AJ1790=\"\",\"\",LEFT(referentes!AJ1790,FIND(\"*-*\",referentes!AJ1790)-1)),referentes!AJ1790))","v":""},null,""]
[null,null,null,null,null,null,null,null,null,null,null,null,null,null,null,null,null,null,{"$f":"IF(referentes!AJ1791=\"\",\"\",IF(IFERROR(SEARCH(\"*-*\",referentes!AJ1791),2)=1,IF(referentes!AJ1791=\"\",\"\",LEFT(referentes!AJ1791,FIND(\"*-*\",referentes!AJ1791)-1)),referentes!AJ1791))","v":""},null,""]
[null,null,null,null,null,null,null,null,null,null,null,null,null,null,null,null,null,null,{"$f":"IF(referentes!AJ1792=\"\",\"\",IF(IFERROR(SEARCH(\"*-*\",referentes!AJ1792),2)=1,IF(referentes!AJ1792=\"\",\"\",LEFT(referentes!AJ1792,FIND(\"*-*\",referentes!AJ1792)-1)),referentes!AJ1792))","v":""},null,""]
[null,null,null,null,null,null,null,null,null,null,null,null,null,null,null,null,null,null,{"$f":"IF(referentes!AJ1793=\"\",\"\",IF(IFERROR(SEARCH(\"*-*\",referentes!AJ1793),2)=1,IF(referentes!AJ1793=\"\",\"\",LEFT(referentes!AJ1793,FIND(\"*-*\",referentes!AJ1793)-1)),referentes!AJ1793))","v":""},null,""]
[null,null,null,null,null,null,null,null,null,null,null,null,null,null,null,null,null,null,{"$f":"IF(referentes!AJ1794=\"\",\"\",IF(IFERROR(SEARCH(\"*-*\",referentes!AJ1794),2)=1,IF(referentes!AJ1794=\"\",\"\",LEFT(referentes!AJ1794,FIND(\"*-*\",referentes!AJ1794)-1)),referentes!AJ1794))","v":""},null,""]
[null,null,null,null,null,null,null,null,null,null,null,null,null,null,null,null,null,null,{"$f":"IF(referentes!AJ1795=\"\",\"\",IF(IFERROR(SEARCH(\"*-*\",referentes!AJ1795),2)=1,IF(referentes!AJ1795=\"\",\"\",LEFT(referentes!AJ1795,FIND(\"*-*\",referentes!AJ1795)-1)),referentes!AJ1795))","v":""},null,""]
[null,null,null,null,null,null,null,null,null,null,null,null,null,null,null,null,null,null,{"$f":"IF(referentes!AJ1796=\"\",\"\",IF(IFERROR(SEARCH(\"*-*\",referentes!AJ1796),2)=1,IF(referentes!AJ1796=\"\",\"\",LEFT(referentes!AJ1796,FIND(\"*-*\",referentes!AJ1796)-1)),referentes!AJ1796))","v":""},null,""]
[null,null,null,null,null,null,null,null,null,null,null,null,null,null,null,null,null,null,{"$f":"IF(referentes!AJ1797=\"\",\"\",IF(IFERROR(SEARCH(\"*-*\",referentes!AJ1797),2)=1,IF(referentes!AJ1797=\"\",\"\",LEFT(referentes!AJ1797,FIND(\"*-*\",referentes!AJ1797)-1)),referentes!AJ1797))","v":""},null,""]
[null,null,null,null,null,null,null,null,null,null,null,null,null,null,null,null,null,null,{"$f":"IF(referentes!AJ1798=\"\",\"\",IF(IFERROR(SEARCH(\"*-*\",referentes!AJ1798),2)=1,IF(referentes!AJ1798=\"\",\"\",LEFT(referentes!AJ1798,FIND(\"*-*\",referentes!AJ1798)-1)),referentes!AJ1798))","v":""},null,""]
[null,null,null,null,null,null,null,null,null,null,null,null,null,null,null,null,null,null,{"$f":"IF(referentes!AJ1799=\"\",\"\",IF(IFERROR(SEARCH(\"*-*\",referentes!AJ1799),2)=1,IF(referentes!AJ1799=\"\",\"\",LEFT(referentes!AJ1799,FIND(\"*-*\",referentes!AJ1799)-1)),referentes!AJ1799))","v":""},null,""]
[null,null,null,null,null,null,null,null,null,null,null,null,null,null,null,null,null,null,{"$f":"IF(referentes!AJ1800=\"\",\"\",IF(IFERROR(SEARCH(\"*-*\",referentes!AJ1800),2)=1,IF(referentes!AJ1800=\"\",\"\",LEFT(referentes!AJ1800,FIND(\"*-*\",referentes!AJ1800)-1)),referentes!AJ1800))","v":""},null,{"$f":"IF(IFERROR(T1799,R1799)=S1799,\"\",R1799)","v":""}]
[null,null,null,null,null,null,null,null,null,null,null,null,null,null,null,null,null,null,{"$f":"IF(referentes!AJ1801=\"\",\"\",IF(IFERROR(SEARCH(\"*-*\",referentes!AJ1801),2)=1,IF(referentes!AJ1801=\"\",\"\",LEFT(referentes!AJ1801,FIND(\"*-*\",referentes!AJ1801)-1)),referentes!AJ1801))","v":""},null,""]
[null,null,null,null,null,null,null,null,null,null,null,null,null,null,null,null,null,null,{"$f":"IF(referentes!AJ1802=\"\",\"\",IF(IFERROR(SEARCH(\"*-*\",referentes!AJ1802),2)=1,IF(referentes!AJ1802=\"\",\"\",LEFT(referentes!AJ1802,FIND(\"*-*\",referentes!AJ1802)-1)),referentes!AJ1802))","v":""},null,""]
[null,null,null,null,null,null,null,null,null,null,null,null,null,null,null,null,null,null,{"$f":"IF(referentes!AJ1803=\"\",\"\",IF(IFERROR(SEARCH(\"*-*\",referentes!AJ1803),2)=1,IF(referentes!AJ1803=\"\",\"\",LEFT(referentes!AJ1803,FIND(\"*-*\",referentes!AJ1803)-1)),referentes!AJ1803))","v":""},null,""]
[null,null,null,null,null,null,null,null,null,null,null,null,null,null,null,null,null,null,{"$f":"IF(referentes!AJ1804=\"\",\"\",IF(IFERROR(SEARCH(\"*-*\",referentes!AJ1804),2)=1,IF(referentes!AJ1804=\"\",\"\",LEFT(referentes!AJ1804,FIND(\"*-*\",referentes!AJ1804)-1)),referentes!AJ1804))","v":""},null,""]
[null,null,null,null,null,null,null,null,null,null,null,null,null,null,null,null,null,null,{"$f":"IF(referentes!AJ1805=\"\",\"\",IF(IFERROR(SEARCH(\"*-*\",referentes!AJ1805),2)=1,IF(referentes!AJ1805=\"\",\"\",LEFT(referentes!AJ1805,FIND(\"*-*\",referentes!AJ1805)-1)),referentes!AJ1805))","v":""},null,""]
[null,null,null,null,null,null,null,null,null,null,null,null,null,null,null,null,null,null,{"$f":"IF(referentes!AJ1806=\"\",\"\",IF(IFERROR(SEARCH(\"*-*\",referentes!AJ1806),2)=1,IF(referentes!AJ1806=\"\",\"\",LEFT(referentes!AJ1806,FIND(\"*-*\",referentes!AJ1806)-1)),referentes!AJ1806))","v":""},null,""]
[null,null,null,null,null,null,null,null,null,null,null,null,null,null,null,null,null,null,{"$f":"IF(referentes!AJ1807=\"\",\"\",IF(IFERROR(SEARCH(\"*-*\",referentes!AJ1807),2)=1,IF(referentes!AJ1807=\"\",\"\",LEFT(referentes!AJ1807,FIND(\"*-*\",referentes!AJ1807)-1)),referentes!AJ1807))","v":""},null,""]
[null,null,null,null,null,null,null,null,null,null,null,null,null,null,null,null,null,null,{"$f":"IF(referentes!AJ1808=\"\",\"\",IF(IFERROR(SEARCH(\"*-*\",referentes!AJ1808),2)=1,IF(referentes!AJ1808=\"\",\"\",LEFT(referentes!AJ1808,FIND(\"*-*\",referentes!AJ1808)-1)),referentes!AJ1808))","v":""},null,""]
[null,null,null,null,null,null,null,null,null,null,null,null,null,null,null,null,null,null,{"$f":"IF(referentes!AJ1809=\"\",\"\",IF(IFERROR(SEARCH(\"*-*\",referentes!AJ1809),2)=1,IF(referentes!AJ1809=\"\",\"\",LEFT(referentes!AJ1809,FIND(\"*-*\",referentes!AJ1809)-1)),referentes!AJ1809))","v":""},null,""]
[null,null,null,null,null,null,null,null,null,null,null,null,null,null,null,null,null,null,{"$f":"IF(referentes!AJ1810=\"\",\"\",IF(IFERROR(SEARCH(\"*-*\",referentes!AJ1810),2)=1,IF(referentes!AJ1810=\"\",\"\",LEFT(referentes!AJ1810,FIND(\"*-*\",referentes!AJ1810)-1)),referentes!AJ1810))","v":""},null,""]
[null,null,null,null,null,null,null,null,null,null,null,null,null,null,null,null,null,null,{"$f":"IF(referentes!AJ1811=\"\",\"\",IF(IFERROR(SEARCH(\"*-*\",referentes!AJ1811),2)=1,IF(referentes!AJ1811=\"\",\"\",LEFT(referentes!AJ1811,FIND(\"*-*\",referentes!AJ1811)-1)),referentes!AJ1811))","v":""},null,""]
[null,null,null,null,null,null,null,null,null,null,null,null,null,null,null,null,null,null,{"$f":"IF(referentes!AJ1812=\"\",\"\",IF(IFERROR(SEARCH(\"*-*\",referentes!AJ1812),2)=1,IF(referentes!AJ1812=\"\",\"\",LEFT(referentes!AJ1812,FIND(\"*-*\",referentes!AJ1812)-1)),referentes!AJ1812))","v":""},null,""]
[null,null,null,null,null,null,null,null,null,null,null,null,null,null,null,null,null,null,{"$f":"IF(referentes!AJ1813=\"\",\"\",IF(IFERROR(SEARCH(\"*-*\",referentes!AJ1813),2)=1,IF(referentes!AJ1813=\"\",\"\",LEFT(referentes!AJ1813,FIND(\"*-*\",referentes!AJ1813)-1)),referentes!AJ1813))","v":""},null,""]
[null,null,null,null,null,null,null,null,null,null,null,null,null,null,null,null,null,null,{"$f":"IF(referentes!AJ1814=\"\",\"\",IF(IFERROR(SEARCH(\"*-*\",referentes!AJ1814),2)=1,IF(referentes!AJ1814=\"\",\"\",LEFT(referentes!AJ1814,FIND(\"*-*\",referentes!AJ1814)-1)),referentes!AJ1814))","v":""},null,""]
[null,null,null,null,null,null,null,null,null,null,null,null,null,null,null,null,null,null,{"$f":"IF(referentes!AJ1815=\"\",\"\",IF(IFERROR(SEARCH(\"*-*\",referentes!AJ1815),2)=1,IF(referentes!AJ1815=\"\",\"\",LEFT(referentes!AJ1815,FIND(\"*-*\",referentes!AJ1815)-1)),referentes!AJ1815))","v":""},null,""]
[null,null,null,null,null,null,null,null,null,null,null,null,null,null,null,null,null,null,{"$f":"IF(referentes!AJ1816=\"\",\"\",IF(IFERROR(SEARCH(\"*-*\",referentes!AJ1816),2)=1,IF(referentes!AJ1816=\"\",\"\",LEFT(referentes!AJ1816,FIND(\"*-*\",referentes!AJ1816)-1)),referentes!AJ1816))","v":""},null,""]
[null,null,null,null,null,null,null,null,null,null,null,null,null,null,null,null,null,null,{"$f":"IF(referentes!AJ1817=\"\",\"\",IF(IFERROR(SEARCH(\"*-*\",referentes!AJ1817),2)=1,IF(referentes!AJ1817=\"\",\"\",LEFT(referentes!AJ1817,FIND(\"*-*\",referentes!AJ1817)-1)),referentes!AJ1817))","v":""},null,""]
[null,null,null,null,null,null,null,null,null,null,null,null,null,null,null,null,null,null,{"$f":"IF(referentes!AJ1818=\"\",\"\",IF(IFERROR(SEARCH(\"*-*\",referentes!AJ1818),2)=1,IF(referentes!AJ1818=\"\",\"\",LEFT(referentes!AJ1818,FIND(\"*-*\",referentes!AJ1818)-1)),referentes!AJ1818))","v":""},null,""]
[null,null,null,null,null,null,null,null,null,null,null,null,null,null,null,null,null,null,{"$f":"IF(referentes!AJ1819=\"\",\"\",IF(IFERROR(SEARCH(\"*-*\",referentes!AJ1819),2)=1,IF(referentes!AJ1819=\"\",\"\",LEFT(referentes!AJ1819,FIND(\"*-*\",referentes!AJ1819)-1)),referentes!AJ1819))","v":""},null,""]
[null,null,null,null,null,null,null,null,null,null,null,null,null,null,null,null,null,null,{"$f":"IF(referentes!AJ1820=\"\",\"\",IF(IFERROR(SEARCH(\"*-*\",referentes!AJ1820),2)=1,IF(referentes!AJ1820=\"\",\"\",LEFT(referentes!AJ1820,FIND(\"*-*\",referentes!AJ1820)-1)),referentes!AJ1820))","v":""},null,""]
[null,null,null,null,null,null,null,null,null,null,null,null,null,null,null,null,null,null,{"$f":"IF(referentes!AJ1821=\"\",\"\",IF(IFERROR(SEARCH(\"*-*\",referentes!AJ1821),2)=1,IF(referentes!AJ1821=\"\",\"\",LEFT(referentes!AJ1821,FIND(\"*-*\",referentes!AJ1821)-1)),referentes!AJ1821))","v":""},null,""]
[null,null,null,null,null,null,null,null,null,null,null,null,null,null,null,null,null,null,{"$f":"IF(referentes!AJ1822=\"\",\"\",IF(IFERROR(SEARCH(\"*-*\",referentes!AJ1822),2)=1,IF(referentes!AJ1822=\"\",\"\",LEFT(referentes!AJ1822,FIND(\"*-*\",referentes!AJ1822)-1)),referentes!AJ1822))","v":""},null,""]
[null,null,null,null,null,null,null,null,null,null,null,null,null,null,null,null,null,null,{"$f":"IF(referentes!AJ1823=\"\",\"\",IF(IFERROR(SEARCH(\"*-*\",referentes!AJ1823),2)=1,IF(referentes!AJ1823=\"\",\"\",LEFT(referentes!AJ1823,FIND(\"*-*\",referentes!AJ1823)-1)),referentes!AJ1823))","v":""},null,""]
[null,null,null,null,null,null,null,null,null,null,null,null,null,null,null,null,null,null,{"$f":"IF(referentes!AJ1824=\"\",\"\",IF(IFERROR(SEARCH(\"*-*\",referentes!AJ1824),2)=1,IF(referentes!AJ1824=\"\",\"\",LEFT(referentes!AJ1824,FIND(\"*-*\",referentes!AJ1824)-1)),referentes!AJ1824))","v":""},null,""]
[null,null,null,null,null,null,null,null,null,null,null,null,null,null,null,null,null,null,{"$f":"IF(referentes!AJ1825=\"\",\"\",IF(IFERROR(SEARCH(\"*-*\",referentes!AJ1825),2)=1,IF(referentes!AJ1825=\"\",\"\",LEFT(referentes!AJ1825,FIND(\"*-*\",referentes!AJ1825)-1)),referentes!AJ1825))","v":""},null,""]
[null,null,null,null,null,null,null,null,null,null,null,null,null,null,null,null,null,null,{"$f":"IF(referentes!AJ1826=\"\",\"\",IF(IFERROR(SEARCH(\"*-*\",referentes!AJ1826),2)=1,IF(referentes!AJ1826=\"\",\"\",LEFT(referentes!AJ1826,FIND(\"*-*\",referentes!AJ1826)-1)),referentes!AJ1826))","v":""},null,""]
[null,null,null,null,null,null,null,null,null,null,null,null,null,null,null,null,null,null,{"$f":"IF(referentes!AJ1827=\"\",\"\",IF(IFERROR(SEARCH(\"*-*\",referentes!AJ1827),2)=1,IF(referentes!AJ1827=\"\",\"\",LEFT(referentes!AJ1827,FIND(\"*-*\",referentes!AJ1827)-1)),referentes!AJ1827))","v":""},null,""]
[null,null,null,null,null,null,null,null,null,null,null,null,null,null,null,null,null,null,{"$f":"IF(referentes!AJ1828=\"\",\"\",IF(IFERROR(SEARCH(\"*-*\",referentes!AJ1828),2)=1,IF(referentes!AJ1828=\"\",\"\",LEFT(referentes!AJ1828,FIND(\"*-*\",referentes!AJ1828)-1)),referentes!AJ1828))","v":""},null,""]
[null,null,null,null,null,null,null,null,null,null,null,null,null,null,null,null,null,null,{"$f":"IF(referentes!AJ1829=\"\",\"\",IF(IFERROR(SEARCH(\"*-*\",referentes!AJ1829),2)=1,IF(referentes!AJ1829=\"\",\"\",LEFT(referentes!AJ1829,FIND(\"*-*\",referentes!AJ1829)-1)),referentes!AJ1829))","v":""},null,""]
[null,null,null,null,null,null,null,null,null,null,null,null,null,null,null,null,null,null,{"$f":"IF(referentes!AJ1830=\"\",\"\",IF(IFERROR(SEARCH(\"*-*\",referentes!AJ1830),2)=1,IF(referentes!AJ1830=\"\",\"\",LEFT(referentes!AJ1830,FIND(\"*-*\",referentes!AJ1830)-1)),referentes!AJ1830))","v":""},null,""]
[null,null,null,null,null,null,null,null,null,null,null,null,null,null,null,null,null,null,{"$f":"IF(referentes!AJ1831=\"\",\"\",IF(IFERROR(SEARCH(\"*-*\",referentes!AJ1831),2)=1,IF(referentes!AJ1831=\"\",\"\",LEFT(referentes!AJ1831,FIND(\"*-*\",referentes!AJ1831)-1)),referentes!AJ1831))","v":""},null,""]
[null,null,null,null,null,null,null,null,null,null,null,null,null,null,null,null,null,null,{"$f":"IF(referentes!AJ1832=\"\",\"\",IF(IFERROR(SEARCH(\"*-*\",referentes!AJ1832),2)=1,IF(referentes!AJ1832=\"\",\"\",LEFT(referentes!AJ1832,FIND(\"*-*\",referentes!AJ1832)-1)),referentes!AJ1832))","v":""},null,""]
[null,null,null,null,null,null,null,null,null,null,null,null,null,null,null,null,null,null,{"$f":"IF(referentes!AJ1833=\"\",\"\",IF(IFERROR(SEARCH(\"*-*\",referentes!AJ1833),2)=1,IF(referentes!AJ1833=\"\",\"\",LEFT(referentes!AJ1833,FIND(\"*-*\",referentes!AJ1833)-1)),referentes!AJ1833))","v":""},null,""]
[null,null,null,null,null,null,null,null,null,null,null,null,null,null,null,null,null,null,{"$f":"IF(referentes!AJ1834=\"\",\"\",IF(IFERROR(SEARCH(\"*-*\",referentes!AJ1834),2)=1,IF(referentes!AJ1834=\"\",\"\",LEFT(referentes!AJ1834,FIND(\"*-*\",referentes!AJ1834)-1)),referentes!AJ1834))","v":""},null,""]
[null,null,null,null,null,null,null,null,null,null,null,null,null,null,null,null,null,null,{"$f":"IF(referentes!AJ1835=\"\",\"\",IF(IFERROR(SEARCH(\"*-*\",referentes!AJ1835),2)=1,IF(referentes!AJ1835=\"\",\"\",LEFT(referentes!AJ1835,FIND(\"*-*\",referentes!AJ1835)-1)),referentes!AJ1835))","v":""},null,""]
[null,null,null,null,null,null,null,null,null,null,null,null,null,null,null,null,null,null,{"$f":"IF(referentes!AJ1836=\"\",\"\",IF(IFERROR(SEARCH(\"*-*\",referentes!AJ1836),2)=1,IF(referentes!AJ1836=\"\",\"\",LEFT(referentes!AJ1836,FIND(\"*-*\",referentes!AJ1836)-1)),referentes!AJ1836))","v":""},null,""]
[null,null,null,null,null,null,null,null,null,null,null,null,null,null,null,null,null,null,{"$f":"IF(referentes!AJ1837=\"\",\"\",IF(IFERROR(SEARCH(\"*-*\",referentes!AJ1837),2)=1,IF(referentes!AJ1837=\"\",\"\",LEFT(referentes!AJ1837,FIND(\"*-*\",referentes!AJ1837)-1)),referentes!AJ1837))","v":""},null,""]
[null,null,null,null,null,null,null,null,null,null,null,null,null,null,null,null,null,null,{"$f":"IF(referentes!AJ1838=\"\",\"\",IF(IFERROR(SEARCH(\"*-*\",referentes!AJ1838),2)=1,IF(referentes!AJ1838=\"\",\"\",LEFT(referentes!AJ1838,FIND(\"*-*\",referentes!AJ1838)-1)),referentes!AJ1838))","v":""},null,""]
[null,null,null,null,null,null,null,null,null,null,null,null,null,null,null,null,null,null,{"$f":"IF(referentes!AJ1839=\"\",\"\",IF(IFERROR(SEARCH(\"*-*\",referentes!AJ1839),2)=1,IF(referentes!AJ1839=\"\",\"\",LEFT(referentes!AJ1839,FIND(\"*-*\",referentes!AJ1839)-1)),referentes!AJ1839))","v":""},null,""]
[null,null,null,null,null,null,null,null,null,null,null,null,null,null,null,null,null,null,{"$f":"IF(referentes!AJ1840=\"\",\"\",IF(IFERROR(SEARCH(\"*-*\",referentes!AJ1840),2)=1,IF(referentes!AJ1840=\"\",\"\",LEFT(referentes!AJ1840,FIND(\"*-*\",referentes!AJ1840)-1)),referentes!AJ1840))","v":""},null,""]
[null,null,null,null,null,null,null,null,null,null,null,null,null,null,null,null,null,null,{"$f":"IF(referentes!AJ1841=\"\",\"\",IF(IFERROR(SEARCH(\"*-*\",referentes!AJ1841),2)=1,IF(referentes!AJ1841=\"\",\"\",LEFT(referentes!AJ1841,FIND(\"*-*\",referentes!AJ1841)-1)),referentes!AJ1841))","v":""},null,""]
[null,null,null,null,null,null,null,null,null,null,null,null,null,null,null,null,null,null,{"$f":"IF(referentes!AJ1842=\"\",\"\",IF(IFERROR(SEARCH(\"*-*\",referentes!AJ1842),2)=1,IF(referentes!AJ1842=\"\",\"\",LEFT(referentes!AJ1842,FIND(\"*-*\",referentes!AJ1842)-1)),referentes!AJ1842))","v":""},null,""]
[null,null,null,null,null,null,null,null,null,null,null,null,null,null,null,null,null,null,{"$f":"IF(referentes!AJ1843=\"\",\"\",IF(IFERROR(SEARCH(\"*-*\",referentes!AJ1843),2)=1,IF(referentes!AJ1843=\"\",\"\",LEFT(referentes!AJ1843,FIND(\"*-*\",referentes!AJ1843)-1)),referentes!AJ1843))","v":""},null,""]
[null,null,null,null,null,null,null,null,null,null,null,null,null,null,null,null,null,null,{"$f":"IF(referentes!AJ1844=\"\",\"\",IF(IFERROR(SEARCH(\"*-*\",referentes!AJ1844),2)=1,IF(referentes!AJ1844=\"\",\"\",LEFT(referentes!AJ1844,FIND(\"*-*\",referentes!AJ1844)-1)),referentes!AJ1844))","v":""},null,""]
[null,null,null,null,null,null,null,null,null,null,null,null,null,null,null,null,null,null,{"$f":"IF(referentes!AJ1845=\"\",\"\",IF(IFERROR(SEARCH(\"*-*\",referentes!AJ1845),2)=1,IF(referentes!AJ1845=\"\",\"\",LEFT(referentes!AJ1845,FIND(\"*-*\",referentes!AJ1845)-1)),referentes!AJ1845))","v":""},null,""]
[null,null,null,null,null,null,null,null,null,null,null,null,null,null,null,null,null,null,{"$f":"IF(referentes!AJ1846=\"\",\"\",IF(IFERROR(SEARCH(\"*-*\",referentes!AJ1846),2)=1,IF(referentes!AJ1846=\"\",\"\",LEFT(referentes!AJ1846,FIND(\"*-*\",referentes!AJ1846)-1)),referentes!AJ1846))","v":""},null,""]
[null,null,null,null,null,null,null,null,null,null,null,null,null,null,null,null,null,null,{"$f":"IF(referentes!AJ1847=\"\",\"\",IF(IFERROR(SEARCH(\"*-*\",referentes!AJ1847),2)=1,IF(referentes!AJ1847=\"\",\"\",LEFT(referentes!AJ1847,FIND(\"*-*\",referentes!AJ1847)-1)),referentes!AJ1847))","v":""},null,""]
[null,null,null,null,null,null,null,null,null,null,null,null,null,null,null,null,null,null,{"$f":"IF(referentes!AJ1848=\"\",\"\",IF(IFERROR(SEARCH(\"*-*\",referentes!AJ1848),2)=1,IF(referentes!AJ1848=\"\",\"\",LEFT(referentes!AJ1848,FIND(\"*-*\",referentes!AJ1848)-1)),referentes!AJ1848))","v":""},null,""]
[null,null,null,null,null,null,null,null,null,null,null,null,null,null,null,null,null,null,{"$f":"IF(referentes!AJ1849=\"\",\"\",IF(IFERROR(SEARCH(\"*-*\",referentes!AJ1849),2)=1,IF(referentes!AJ1849=\"\",\"\",LEFT(referentes!AJ1849,FIND(\"*-*\",referentes!AJ1849)-1)),referentes!AJ1849))","v":""},null,""]
[null,null,null,null,null,null,null,null,null,null,null,null,null,null,null,null,null,null,{"$f":"IF(referentes!AJ1850=\"\",\"\",IF(IFERROR(SEARCH(\"*-*\",referentes!AJ1850),2)=1,IF(referentes!AJ1850=\"\",\"\",LEFT(referentes!AJ1850,FIND(\"*-*\",referentes!AJ1850)-1)),referentes!AJ1850))","v":""},null,""]
[null,null,null,null,null,null,null,null,null,null,null,null,null,null,null,null,null,null,{"$f":"IF(referentes!AJ1851=\"\",\"\",IF(IFERROR(SEARCH(\"*-*\",referentes!AJ1851),2)=1,IF(referentes!AJ1851=\"\",\"\",LEFT(referentes!AJ1851,FIND(\"*-*\",referentes!AJ1851)-1)),referentes!AJ1851))","v":""},null,""]
[null,null,null,null,null,null,null,null,null,null,null,null,null,null,null,null,null,null,{"$f":"IF(referentes!AJ1852=\"\",\"\",IF(IFERROR(SEARCH(\"*-*\",referentes!AJ1852),2)=1,IF(referentes!AJ1852=\"\",\"\",LEFT(referentes!AJ1852,FIND(\"*-*\",referentes!AJ1852)-1)),referentes!AJ1852))","v":""},null,""]
[null,null,null,null,null,null,null,null,null,null,null,null,null,null,null,null,null,null,{"$f":"IF(referentes!AJ1853=\"\",\"\",IF(IFERROR(SEARCH(\"*-*\",referentes!AJ1853),2)=1,IF(referentes!AJ1853=\"\",\"\",LEFT(referentes!AJ1853,FIND(\"*-*\",referentes!AJ1853)-1)),referentes!AJ1853))","v":""},null,""]
[null,null,null,null,null,null,null,null,null,null,null,null,null,null,null,null,null,null,{"$f":"IF(referentes!AJ1854=\"\",\"\",IF(IFERROR(SEARCH(\"*-*\",referentes!AJ1854),2)=1,IF(referentes!AJ1854=\"\",\"\",LEFT(referentes!AJ1854,FIND(\"*-*\",referentes!AJ1854)-1)),referentes!AJ1854))","v":""},null,""]
[null,null,null,null,null,null,null,null,null,null,null,null,null,null,null,null,null,null,{"$f":"IF(referentes!AJ1855=\"\",\"\",IF(IFERROR(SEARCH(\"*-*\",referentes!AJ1855),2)=1,IF(referentes!AJ1855=\"\",\"\",LEFT(referentes!AJ1855,FIND(\"*-*\",referentes!AJ1855)-1)),referentes!AJ1855))","v":""},null,""]
[null,null,null,null,null,null,null,null,null,null,null,null,null,null,null,null,null,null,{"$f":"IF(referentes!AJ1856=\"\",\"\",IF(IFERROR(SEARCH(\"*-*\",referentes!AJ1856),2)=1,IF(referentes!AJ1856=\"\",\"\",LEFT(referentes!AJ1856,FIND(\"*-*\",referentes!AJ1856)-1)),referentes!AJ1856))","v":""},null,""]
[null,null,null,null,null,null,null,null,null,null,null,null,null,null,null,null,null,null,{"$f":"IF(referentes!AJ1857=\"\",\"\",IF(IFERROR(SEARCH(\"*-*\",referentes!AJ1857),2)=1,IF(referentes!AJ1857=\"\",\"\",LEFT(referentes!AJ1857,FIND(\"*-*\",referentes!AJ1857)-1)),referentes!AJ1857))","v":""},null,""]
[null,null,null,null,null,null,null,null,null,null,null,null,null,null,null,null,null,null,{"$f":"IF(referentes!AJ1858=\"\",\"\",IF(IFERROR(SEARCH(\"*-*\",referentes!AJ1858),2)=1,IF(referentes!AJ1858=\"\",\"\",LEFT(referentes!AJ1858,FIND(\"*-*\",referentes!AJ1858)-1)),referentes!AJ1858))","v":""},null,""]
[null,null,null,null,null,null,null,null,null,null,null,null,null,null,null,null,null,null,{"$f":"IF(referentes!AJ1859=\"\",\"\",IF(IFERROR(SEARCH(\"*-*\",referentes!AJ1859),2)=1,IF(referentes!AJ1859=\"\",\"\",LEFT(referentes!AJ1859,FIND(\"*-*\",referentes!AJ1859)-1)),referentes!AJ1859))","v":""},null,""]
[null,null,null,null,null,null,null,null,null,null,null,null,null,null,null,null,null,null,{"$f":"IF(referentes!AJ1860=\"\",\"\",IF(IFERROR(SEARCH(\"*-*\",referentes!AJ1860),2)=1,IF(referentes!AJ1860=\"\",\"\",LEFT(referentes!AJ1860,FIND(\"*-*\",referentes!AJ1860)-1)),referentes!AJ1860))","v":""},null,""]
[null,null,null,null,null,null,null,null,null,null,null,null,null,null,null,null,null,null,{"$f":"IF(referentes!AJ1861=\"\",\"\",IF(IFERROR(SEARCH(\"*-*\",referentes!AJ1861),2)=1,IF(referentes!AJ1861=\"\",\"\",LEFT(referentes!AJ1861,FIND(\"*-*\",referentes!AJ1861)-1)),referentes!AJ1861))","v":""},null,""]
[null,null,null,null,null,null,null,null,null,null,null,null,null,null,null,null,null,null,{"$f":"IF(referentes!AJ1862=\"\",\"\",IF(IFERROR(SEARCH(\"*-*\",referentes!AJ1862),2)=1,IF(referentes!AJ1862=\"\",\"\",LEFT(referentes!AJ1862,FIND(\"*-*\",referentes!AJ1862)-1)),referentes!AJ1862))","v":""},null,""]
[null,null,null,null,null,null,null,null,null,null,null,null,null,null,null,null,null,null,{"$f":"IF(referentes!AJ1863=\"\",\"\",IF(IFERROR(SEARCH(\"*-*\",referentes!AJ1863),2)=1,IF(referentes!AJ1863=\"\",\"\",LEFT(referentes!AJ1863,FIND(\"*-*\",referentes!AJ1863)-1)),referentes!AJ1863))","v":""},null,""]
[null,null,null,null,null,null,null,null,null,null,null,null,null,null,null,null,null,null,{"$f":"IF(referentes!AJ1864=\"\",\"\",IF(IFERROR(SEARCH(\"*-*\",referentes!AJ1864),2)=1,IF(referentes!AJ1864=\"\",\"\",LEFT(referentes!AJ1864,FIND(\"*-*\",referentes!AJ1864)-1)),referentes!AJ1864))","v":""},null,{"$f":"IF(IFERROR(T1863,R1863)=S1863,\"\",R1863)","v":""}]
[null,null,null,null,null,null,null,null,null,null,null,null,null,null,null,null,null,null,{"$f":"IF(referentes!AJ1865=\"\",\"\",IF(IFERROR(SEARCH(\"*-*\",referentes!AJ1865),2)=1,IF(referentes!AJ1865=\"\",\"\",LEFT(referentes!AJ1865,FIND(\"*-*\",referentes!AJ1865)-1)),referentes!AJ1865))","v":""},null,""]
[null,null,null,null,null,null,null,null,null,null,null,null,null,null,null,null,null,null,{"$f":"IF(referentes!AJ1866=\"\",\"\",IF(IFERROR(SEARCH(\"*-*\",referentes!AJ1866),2)=1,IF(referentes!AJ1866=\"\",\"\",LEFT(referentes!AJ1866,FIND(\"*-*\",referentes!AJ1866)-1)),referentes!AJ1866))","v":""},null,""]
[null,null,null,null,null,null,null,null,null,null,null,null,null,null,null,null,null,null,{"$f":"IF(referentes!AJ1867=\"\",\"\",IF(IFERROR(SEARCH(\"*-*\",referentes!AJ1867),2)=1,IF(referentes!AJ1867=\"\",\"\",LEFT(referentes!AJ1867,FIND(\"*-*\",referentes!AJ1867)-1)),referentes!AJ1867))","v":""},null,""]
[null,null,null,null,null,null,null,null,null,null,null,null,null,null,null,null,null,null,{"$f":"IF(referentes!AJ1868=\"\",\"\",IF(IFERROR(SEARCH(\"*-*\",referentes!AJ1868),2)=1,IF(referentes!AJ1868=\"\",\"\",LEFT(referentes!AJ1868,FIND(\"*-*\",referentes!AJ1868)-1)),referentes!AJ1868))","v":""},null,""]
[null,null,null,null,null,null,null,null,null,null,null,null,null,null,null,null,null,null,{"$f":"IF(referentes!AJ1869=\"\",\"\",IF(IFERROR(SEARCH(\"*-*\",referentes!AJ1869),2)=1,IF(referentes!AJ1869=\"\",\"\",LEFT(referentes!AJ1869,FIND(\"*-*\",referentes!AJ1869)-1)),referentes!AJ1869))","v":""},null,""]
[null,null,null,null,null,null,null,null,null,null,null,null,null,null,null,null,null,null,{"$f":"IF(referentes!AJ1870=\"\",\"\",IF(IFERROR(SEARCH(\"*-*\",referentes!AJ1870),2)=1,IF(referentes!AJ1870=\"\",\"\",LEFT(referentes!AJ1870,FIND(\"*-*\",referentes!AJ1870)-1)),referentes!AJ1870))","v":""},null,""]
[null,null,null,null,null,null,null,null,null,null,null,null,null,null,null,null,null,null,{"$f":"IF(referentes!AJ1871=\"\",\"\",IF(IFERROR(SEARCH(\"*-*\",referentes!AJ1871),2)=1,IF(referentes!AJ1871=\"\",\"\",LEFT(referentes!AJ1871,FIND(\"*-*\",referentes!AJ1871)-1)),referentes!AJ1871))","v":""},null,""]
[null,null,null,null,null,null,null,null,null,null,null,null,null,null,null,null,null,null,{"$f":"IF(referentes!AJ1872=\"\",\"\",IF(IFERROR(SEARCH(\"*-*\",referentes!AJ1872),2)=1,IF(referentes!AJ1872=\"\",\"\",LEFT(referentes!AJ1872,FIND(\"*-*\",referentes!AJ1872)-1)),referentes!AJ1872))","v":""},null,""]
[null,null,null,null,null,null,null,null,null,null,null,null,null,null,null,null,null,null,{"$f":"IF(referentes!AJ1873=\"\",\"\",IF(IFERROR(SEARCH(\"*-*\",referentes!AJ1873),2)=1,IF(referentes!AJ1873=\"\",\"\",LEFT(referentes!AJ1873,FIND(\"*-*\",referentes!AJ1873)-1)),referentes!AJ1873))","v":""},null,""]
[null,null,null,null,null,null,null,null,null,null,null,null,null,null,null,null,null,null,{"$f":"IF(referentes!AJ1874=\"\",\"\",IF(IFERROR(SEARCH(\"*-*\",referentes!AJ1874),2)=1,IF(referentes!AJ1874=\"\",\"\",LEFT(referentes!AJ1874,FIND(\"*-*\",referentes!AJ1874)-1)),referentes!AJ1874))","v":""},null,""]
[null,null,null,null,null,null,null,null,null,null,null,null,null,null,null,null,null,null,{"$f":"IF(referentes!AJ1875=\"\",\"\",IF(IFERROR(SEARCH(\"*-*\",referentes!AJ1875),2)=1,IF(referentes!AJ1875=\"\",\"\",LEFT(referentes!AJ1875,FIND(\"*-*\",referentes!AJ1875)-1)),referentes!AJ1875))","v":""},null,""]
[null,null,null,null,null,null,null,null,null,null,null,null,null,null,null,null,null,null,{"$f":"IF(referentes!AJ1876=\"\",\"\",IF(IFERROR(SEARCH(\"*-*\",referentes!AJ1876),2)=1,IF(referentes!AJ1876=\"\",\"\",LEFT(referentes!AJ1876,FIND(\"*-*\",referentes!AJ1876)-1)),referentes!AJ1876))","v":""},null,""]
[null,null,null,null,null,null,null,null,null,null,null,null,null,null,null,null,null,null,{"$f":"IF(referentes!AJ1877=\"\",\"\",IF(IFERROR(SEARCH(\"*-*\",referentes!AJ1877),2)=1,IF(referentes!AJ1877=\"\",\"\",LEFT(referentes!AJ1877,FIND(\"*-*\",referentes!AJ1877)-1)),referentes!AJ1877))","v":""},null,""]
[null,null,null,null,null,null,null,null,null,null,null,null,null,null,null,null,null,null,{"$f":"IF(referentes!AJ1878=\"\",\"\",IF(IFERROR(SEARCH(\"*-*\",referentes!AJ1878),2)=1,IF(referentes!AJ1878=\"\",\"\",LEFT(referentes!AJ1878,FIND(\"*-*\",referentes!AJ1878)-1)),referentes!AJ1878))","v":""},null,""]
[null,null,null,null,null,null,null,null,null,null,null,null,null,null,null,null,null,null,{"$f":"IF(referentes!AJ1879=\"\",\"\",IF(IFERROR(SEARCH(\"*-*\",referentes!AJ1879),2)=1,IF(referentes!AJ1879=\"\",\"\",LEFT(referentes!AJ1879,FIND(\"*-*\",referentes!AJ1879)-1)),referentes!AJ1879))","v":""},null,""]
[null,null,null,null,null,null,null,null,null,null,null,null,null,null,null,null,null,null,{"$f":"IF(referentes!AJ1880=\"\",\"\",IF(IFERROR(SEARCH(\"*-*\",referentes!AJ1880),2)=1,IF(referentes!AJ1880=\"\",\"\",LEFT(referentes!AJ1880,FIND(\"*-*\",referentes!AJ1880)-1)),referentes!AJ1880))","v":""},null,""]
[null,null,null,null,null,null,null,null,null,null,null,null,null,null,null,null,null,null,{"$f":"IF(referentes!AJ1881=\"\",\"\",IF(IFERROR(SEARCH(\"*-*\",referentes!AJ1881),2)=1,IF(referentes!AJ1881=\"\",\"\",LEFT(referentes!AJ1881,FIND(\"*-*\",referentes!AJ1881)-1)),referentes!AJ1881))","v":""},null,""]
[null,null,null,null,null,null,null,null,null,null,null,null,null,null,null,null,null,null,{"$f":"IF(referentes!AJ1882=\"\",\"\",IF(IFERROR(SEARCH(\"*-*\",referentes!AJ1882),2)=1,IF(referentes!AJ1882=\"\",\"\",LEFT(referentes!AJ1882,FIND(\"*-*\",referentes!AJ1882)-1)),referentes!AJ1882))","v":""},null,""]
[null,null,null,null,null,null,null,null,null,null,null,null,null,null,null,null,null,null,{"$f":"IF(referentes!AJ1883=\"\",\"\",IF(IFERROR(SEARCH(\"*-*\",referentes!AJ1883),2)=1,IF(referentes!AJ1883=\"\",\"\",LEFT(referentes!AJ1883,FIND(\"*-*\",referentes!AJ1883)-1)),referentes!AJ1883))","v":""},null,""]
[null,null,null,null,null,null,null,null,null,null,null,null,null,null,null,null,null,null,{"$f":"IF(referentes!AJ1884=\"\",\"\",IF(IFERROR(SEARCH(\"*-*\",referentes!AJ1884),2)=1,IF(referentes!AJ1884=\"\",\"\",LEFT(referentes!AJ1884,FIND(\"*-*\",referentes!AJ1884)-1)),referentes!AJ1884))","v":""},null,""]
[null,null,null,null,null,null,null,null,null,null,null,null,null,null,null,null,null,null,{"$f":"IF(referentes!AJ1885=\"\",\"\",IF(IFERROR(SEARCH(\"*-*\",referentes!AJ1885),2)=1,IF(referentes!AJ1885=\"\",\"\",LEFT(referentes!AJ1885,FIND(\"*-*\",referentes!AJ1885)-1)),referentes!AJ1885))","v":""},null,""]
[null,null,null,null,null,null,null,null,null,null,null,null,null,null,null,null,null,null,{"$f":"IF(referentes!AJ1886=\"\",\"\",IF(IFERROR(SEARCH(\"*-*\",referentes!AJ1886),2)=1,IF(referentes!AJ1886=\"\",\"\",LEFT(referentes!AJ1886,FIND(\"*-*\",referentes!AJ1886)-1)),referentes!AJ1886))","v":""},null,""]
[null,null,null,null,null,null,null,null,null,null,null,null,null,null,null,null,null,null,{"$f":"IF(referentes!AJ1887=\"\",\"\",IF(IFERROR(SEARCH(\"*-*\",referentes!AJ1887),2)=1,IF(referentes!AJ1887=\"\",\"\",LEFT(referentes!AJ1887,FIND(\"*-*\",referentes!AJ1887)-1)),referentes!AJ1887))","v":""},null,""]
[null,null,null,null,null,null,null,null,null,null,null,null,null,null,null,null,null,null,{"$f":"IF(referentes!AJ1888=\"\",\"\",IF(IFERROR(SEARCH(\"*-*\",referentes!AJ1888),2)=1,IF(referentes!AJ1888=\"\",\"\",LEFT(referentes!AJ1888,FIND(\"*-*\",referentes!AJ1888)-1)),referentes!AJ1888))","v":""},null,""]
[null,null,null,null,null,null,null,null,null,null,null,null,null,null,null,null,null,null,{"$f":"IF(referentes!AJ1889=\"\",\"\",IF(IFERROR(SEARCH(\"*-*\",referentes!AJ1889),2)=1,IF(referentes!AJ1889=\"\",\"\",LEFT(referentes!AJ1889,FIND(\"*-*\",referentes!AJ1889)-1)),referentes!AJ1889))","v":""},null,""]
[null,null,null,null,null,null,null,null,null,null,null,null,null,null,null,null,null,null,{"$f":"IF(referentes!AJ1890=\"\",\"\",IF(IFERROR(SEARCH(\"*-*\",referentes!AJ1890),2)=1,IF(referentes!AJ1890=\"\",\"\",LEFT(referentes!AJ1890,FIND(\"*-*\",referentes!AJ1890)-1)),referentes!AJ1890))","v":""},null,""]
[null,null,null,null,null,null,null,null,null,null,null,null,null,null,null,null,null,null,{"$f":"IF(referentes!AJ1891=\"\",\"\",IF(IFERROR(SEARCH(\"*-*\",referentes!AJ1891),2)=1,IF(referentes!AJ1891=\"\",\"\",LEFT(referentes!AJ1891,FIND(\"*-*\",referentes!AJ1891)-1)),referentes!AJ1891))","v":""},null,""]
[null,null,null,null,null,null,null,null,null,null,null,null,null,null,null,null,null,null,{"$f":"IF(referentes!AJ1892=\"\",\"\",IF(IFERROR(SEARCH(\"*-*\",referentes!AJ1892),2)=1,IF(referentes!AJ1892=\"\",\"\",LEFT(referentes!AJ1892,FIND(\"*-*\",referentes!AJ1892)-1)),referentes!AJ1892))","v":""},null,""]
[null,null,null,null,null,null,null,null,null,null,null,null,null,null,null,null,null,null,{"$f":"IF(referentes!AJ1893=\"\",\"\",IF(IFERROR(SEARCH(\"*-*\",referentes!AJ1893),2)=1,IF(referentes!AJ1893=\"\",\"\",LEFT(referentes!AJ1893,FIND(\"*-*\",referentes!AJ1893)-1)),referentes!AJ1893))","v":""},null,""]
[null,null,null,null,null,null,null,null,null,null,null,null,null,null,null,null,null,null,{"$f":"IF(referentes!AJ1894=\"\",\"\",IF(IFERROR(SEARCH(\"*-*\",referentes!AJ1894),2)=1,IF(referentes!AJ1894=\"\",\"\",LEFT(referentes!AJ1894,FIND(\"*-*\",referentes!AJ1894)-1)),referentes!AJ1894))","v":""},null,""]
[null,null,null,null,null,null,null,null,null,null,null,null,null,null,null,null,null,null,{"$f":"IF(referentes!AJ1895=\"\",\"\",IF(IFERROR(SEARCH(\"*-*\",referentes!AJ1895),2)=1,IF(referentes!AJ1895=\"\",\"\",LEFT(referentes!AJ1895,FIND(\"*-*\",referentes!AJ1895)-1)),referentes!AJ1895))","v":""},null,""]
[null,null,null,null,null,null,null,null,null,null,null,null,null,null,null,null,null,null,{"$f":"IF(referentes!AJ1896=\"\",\"\",IF(IFERROR(SEARCH(\"*-*\",referentes!AJ1896),2)=1,IF(referentes!AJ1896=\"\",\"\",LEFT(referentes!AJ1896,FIND(\"*-*\",referentes!AJ1896)-1)),referentes!AJ1896))","v":""},null,""]
[null,null,null,null,null,null,null,null,null,null,null,null,null,null,null,null,null,null,{"$f":"IF(referentes!AJ1897=\"\",\"\",IF(IFERROR(SEARCH(\"*-*\",referentes!AJ1897),2)=1,IF(referentes!AJ1897=\"\",\"\",LEFT(referentes!AJ1897,FIND(\"*-*\",referentes!AJ1897)-1)),referentes!AJ1897))","v":""},null,""]
[null,null,null,null,null,null,null,null,null,null,null,null,null,null,null,null,null,null,{"$f":"IF(referentes!AJ1898=\"\",\"\",IF(IFERROR(SEARCH(\"*-*\",referentes!AJ1898),2)=1,IF(referentes!AJ1898=\"\",\"\",LEFT(referentes!AJ1898,FIND(\"*-*\",referentes!AJ1898)-1)),referentes!AJ1898))","v":""},null,""]
[null,null,null,null,null,null,null,null,null,null,null,null,null,null,null,null,null,null,{"$f":"IF(referentes!AJ1899=\"\",\"\",IF(IFERROR(SEARCH(\"*-*\",referentes!AJ1899),2)=1,IF(referentes!AJ1899=\"\",\"\",LEFT(referentes!AJ1899,FIND(\"*-*\",referentes!AJ1899)-1)),referentes!AJ1899))","v":""},null,""]
[null,null,null,null,null,null,null,null,null,null,null,null,null,null,null,null,null,null,{"$f":"IF(referentes!AJ1900=\"\",\"\",IF(IFERROR(SEARCH(\"*-*\",referentes!AJ1900),2)=1,IF(referentes!AJ1900=\"\",\"\",LEFT(referentes!AJ1900,FIND(\"*-*\",referentes!AJ1900)-1)),referentes!AJ1900))","v":""},null,""]
[null,null,null,null,null,null,null,null,null,null,null,null,null,null,null,null,null,null,{"$f":"IF(referentes!AJ1901=\"\",\"\",IF(IFERROR(SEARCH(\"*-*\",referentes!AJ1901),2)=1,IF(referentes!AJ1901=\"\",\"\",LEFT(referentes!AJ1901,FIND(\"*-*\",referentes!AJ1901)-1)),referentes!AJ1901))","v":""},null,""]
[null,null,null,null,null,null,null,null,null,null,null,null,null,null,null,null,null,null,{"$f":"IF(referentes!AJ1902=\"\",\"\",IF(IFERROR(SEARCH(\"*-*\",referentes!AJ1902),2)=1,IF(referentes!AJ1902=\"\",\"\",LEFT(referentes!AJ1902,FIND(\"*-*\",referentes!AJ1902)-1)),referentes!AJ1902))","v":""},null,""]
[null,null,null,null,null,null,null,null,null,null,null,null,null,null,null,null,null,null,{"$f":"IF(referentes!AJ1903=\"\",\"\",IF(IFERROR(SEARCH(\"*-*\",referentes!AJ1903),2)=1,IF(referentes!AJ1903=\"\",\"\",LEFT(referentes!AJ1903,FIND(\"*-*\",referentes!AJ1903)-1)),referentes!AJ1903))","v":""},null,""]
[null,null,null,null,null,null,null,null,null,null,null,null,null,null,null,null,null,null,{"$f":"IF(referentes!AJ1904=\"\",\"\",IF(IFERROR(SEARCH(\"*-*\",referentes!AJ1904),2)=1,IF(referentes!AJ1904=\"\",\"\",LEFT(referentes!AJ1904,FIND(\"*-*\",referentes!AJ1904)-1)),referentes!AJ1904))","v":""},null,""]
[null,null,null,null,null,null,null,null,null,null,null,null,null,null,null,null,null,null,{"$f":"IF(referentes!AJ1905=\"\",\"\",IF(IFERROR(SEARCH(\"*-*\",referentes!AJ1905),2)=1,IF(referentes!AJ1905=\"\",\"\",LEFT(referentes!AJ1905,FIND(\"*-*\",referentes!AJ1905)-1)),referentes!AJ1905))","v":""},null,""]
[null,null,null,null,null,null,null,null,null,null,null,null,null,null,null,null,null,null,{"$f":"IF(referentes!AJ1906=\"\",\"\",IF(IFERROR(SEARCH(\"*-*\",referentes!AJ1906),2)=1,IF(referentes!AJ1906=\"\",\"\",LEFT(referentes!AJ1906,FIND(\"*-*\",referentes!AJ1906)-1)),referentes!AJ1906))","v":""},null,""]
[null,null,null,null,null,null,null,null,null,null,null,null,null,null,null,null,null,null,{"$f":"IF(referentes!AJ1907=\"\",\"\",IF(IFERROR(SEARCH(\"*-*\",referentes!AJ1907),2)=1,IF(referentes!AJ1907=\"\",\"\",LEFT(referentes!AJ1907,FIND(\"*-*\",referentes!AJ1907)-1)),referentes!AJ1907))","v":""},null,""]
[null,null,null,null,null,null,null,null,null,null,null,null,null,null,null,null,null,null,{"$f":"IF(referentes!AJ1908=\"\",\"\",IF(IFERROR(SEARCH(\"*-*\",referentes!AJ1908),2)=1,IF(referentes!AJ1908=\"\",\"\",LEFT(referentes!AJ1908,FIND(\"*-*\",referentes!AJ1908)-1)),referentes!AJ1908))","v":""},null,""]
[null,null,null,null,null,null,null,null,null,null,null,null,null,null,null,null,null,null,{"$f":"IF(referentes!AJ1909=\"\",\"\",IF(IFERROR(SEARCH(\"*-*\",referentes!AJ1909),2)=1,IF(referentes!AJ1909=\"\",\"\",LEFT(referentes!AJ1909,FIND(\"*-*\",referentes!AJ1909)-1)),referentes!AJ1909))","v":""},null,""]
[null,null,null,null,null,null,null,null,null,null,null,null,null,null,null,null,null,null,{"$f":"IF(referentes!AJ1910=\"\",\"\",IF(IFERROR(SEARCH(\"*-*\",referentes!AJ1910),2)=1,IF(referentes!AJ1910=\"\",\"\",LEFT(referentes!AJ1910,FIND(\"*-*\",referentes!AJ1910)-1)),referentes!AJ1910))","v":""},null,""]
[null,null,null,null,null,null,null,null,null,null,null,null,null,null,null,null,null,null,{"$f":"IF(referentes!AJ1911=\"\",\"\",IF(IFERROR(SEARCH(\"*-*\",referentes!AJ1911),2)=1,IF(referentes!AJ1911=\"\",\"\",LEFT(referentes!AJ1911,FIND(\"*-*\",referentes!AJ1911)-1)),referentes!AJ1911))","v":""},null,""]
[null,null,null,null,null,null,null,null,null,null,null,null,null,null,null,null,null,null,{"$f":"IF(referentes!AJ1912=\"\",\"\",IF(IFERROR(SEARCH(\"*-*\",referentes!AJ1912),2)=1,IF(referentes!AJ1912=\"\",\"\",LEFT(referentes!AJ1912,FIND(\"*-*\",referentes!AJ1912)-1)),referentes!AJ1912))","v":""},null,""]
[null,null,null,null,null,null,null,null,null,null,null,null,null,null,null,null,null,null,{"$f":"IF(referentes!AJ1913=\"\",\"\",IF(IFERROR(SEARCH(\"*-*\",referentes!AJ1913),2)=1,IF(referentes!AJ1913=\"\",\"\",LEFT(referentes!AJ1913,FIND(\"*-*\",referentes!AJ1913)-1)),referentes!AJ1913))","v":""},null,""]
[null,null,null,null,null,null,null,null,null,null,null,null,null,null,null,null,null,null,{"$f":"IF(referentes!AJ1914=\"\",\"\",IF(IFERROR(SEARCH(\"*-*\",referentes!AJ1914),2)=1,IF(referentes!AJ1914=\"\",\"\",LEFT(referentes!AJ1914,FIND(\"*-*\",referentes!AJ1914)-1)),referentes!AJ1914))","v":""},null,""]
[null,null,null,null,null,null,null,null,null,null,null,null,null,null,null,null,null,null,{"$f":"IF(referentes!AJ1915=\"\",\"\",IF(IFERROR(SEARCH(\"*-*\",referentes!AJ1915),2)=1,IF(referentes!AJ1915=\"\",\"\",LEFT(referentes!AJ1915,FIND(\"*-*\",referentes!AJ1915)-1)),referentes!AJ1915))","v":""},null,""]
[null,null,null,null,null,null,null,null,null,null,null,null,null,null,null,null,null,null,{"$f":"IF(referentes!AJ1916=\"\",\"\",IF(IFERROR(SEARCH(\"*-*\",referentes!AJ1916),2)=1,IF(referentes!AJ1916=\"\",\"\",LEFT(referentes!AJ1916,FIND(\"*-*\",referentes!AJ1916)-1)),referentes!AJ1916))","v":""},null,""]
[null,null,null,null,null,null,null,null,null,null,null,null,null,null,null,null,null,null,{"$f":"IF(referentes!AJ1917=\"\",\"\",IF(IFERROR(SEARCH(\"*-*\",referentes!AJ1917),2)=1,IF(referentes!AJ1917=\"\",\"\",LEFT(referentes!AJ1917,FIND(\"*-*\",referentes!AJ1917)-1)),referentes!AJ1917))","v":""},null,""]
[null,null,null,null,null,null,null,null,null,null,null,null,null,null,null,null,null,null,{"$f":"IF(referentes!AJ1918=\"\",\"\",IF(IFERROR(SEARCH(\"*-*\",referentes!AJ1918),2)=1,IF(referentes!AJ1918=\"\",\"\",LEFT(referentes!AJ1918,FIND(\"*-*\",referentes!AJ1918)-1)),referentes!AJ1918))","v":""},null,""]
[null,null,null,null,null,null,null,null,null,null,null,null,null,null,null,null,null,null,{"$f":"IF(referentes!AJ1919=\"\",\"\",IF(IFERROR(SEARCH(\"*-*\",referentes!AJ1919),2)=1,IF(referentes!AJ1919=\"\",\"\",LEFT(referentes!AJ1919,FIND(\"*-*\",referentes!AJ1919)-1)),referentes!AJ1919))","v":""},null,""]
[null,null,null,null,null,null,null,null,null,null,null,null,null,null,null,null,null,null,{"$f":"IF(referentes!AJ1920=\"\",\"\",IF(IFERROR(SEARCH(\"*-*\",referentes!AJ1920),2)=1,IF(referentes!AJ1920=\"\",\"\",LEFT(referentes!AJ1920,FIND(\"*-*\",referentes!AJ1920)-1)),referentes!AJ1920))","v":""},null,""]
[null,null,null,null,null,null,null,null,null,null,null,null,null,null,null,null,null,null,{"$f":"IF(referentes!AJ1921=\"\",\"\",IF(IFERROR(SEARCH(\"*-*\",referentes!AJ1921),2)=1,IF(referentes!AJ1921=\"\",\"\",LEFT(referentes!AJ1921,FIND(\"*-*\",referentes!AJ1921)-1)),referentes!AJ1921))","v":""},null,""]
[null,null,null,null,null,null,null,null,null,null,null,null,null,null,null,null,null,null,{"$f":"IF(referentes!AJ1922=\"\",\"\",IF(IFERROR(SEARCH(\"*-*\",referentes!AJ1922),2)=1,IF(referentes!AJ1922=\"\",\"\",LEFT(referentes!AJ1922,FIND(\"*-*\",referentes!AJ1922)-1)),referentes!AJ1922))","v":""},null,""]
[null,null,null,null,null,null,null,null,null,null,null,null,null,null,null,null,null,null,{"$f":"IF(referentes!AJ1923=\"\",\"\",IF(IFERROR(SEARCH(\"*-*\",referentes!AJ1923),2)=1,IF(referentes!AJ1923=\"\",\"\",LEFT(referentes!AJ1923,FIND(\"*-*\",referentes!AJ1923)-1)),referentes!AJ1923))","v":""},null,""]
[null,null,null,null,null,null,null,null,null,null,null,null,null,null,null,null,null,null,{"$f":"IF(referentes!AJ1924=\"\",\"\",IF(IFERROR(SEARCH(\"*-*\",referentes!AJ1924),2)=1,IF(referentes!AJ1924=\"\",\"\",LEFT(referentes!AJ1924,FIND(\"*-*\",referentes!AJ1924)-1)),referentes!AJ1924))","v":""},null,""]
[null,null,null,null,null,null,null,null,null,null,null,null,null,null,null,null,null,null,{"$f":"IF(referentes!AJ1925=\"\",\"\",IF(IFERROR(SEARCH(\"*-*\",referentes!AJ1925),2)=1,IF(referentes!AJ1925=\"\",\"\",LEFT(referentes!AJ1925,FIND(\"*-*\",referentes!AJ1925)-1)),referentes!AJ1925))","v":""},null,""]
[null,null,null,null,null,null,null,null,null,null,null,null,null,null,null,null,null,null,{"$f":"IF(referentes!AJ1926=\"\",\"\",IF(IFERROR(SEARCH(\"*-*\",referentes!AJ1926),2)=1,IF(referentes!AJ1926=\"\",\"\",LEFT(referentes!AJ1926,FIND(\"*-*\",referentes!AJ1926)-1)),referentes!AJ1926))","v":""},null,""]
[null,null,null,null,null,null,null,null,null,null,null,null,null,null,null,null,null,null,{"$f":"IF(referentes!AJ1927=\"\",\"\",IF(IFERROR(SEARCH(\"*-*\",referentes!AJ1927),2)=1,IF(referentes!AJ1927=\"\",\"\",LEFT(referentes!AJ1927,FIND(\"*-*\",referentes!AJ1927)-1)),referentes!AJ1927))","v":""},null,""]
[null,null,null,null,null,null,null,null,null,null,null,null,null,null,null,null,null,null,{"$f":"IF(referentes!AJ1928=\"\",\"\",IF(IFERROR(SEARCH(\"*-*\",referentes!AJ1928),2)=1,IF(referentes!AJ1928=\"\",\"\",LEFT(referentes!AJ1928,FIND(\"*-*\",referentes!AJ1928)-1)),referentes!AJ1928))","v":""},null,{"$f":"IF(IFERROR(T1927,R1927)=S1927,\"\",R1927)","v":""}]
[null,null,null,null,null,null,null,null,null,null,null,null,null,null,null,null,null,null,{"$f":"IF(referentes!AJ1929=\"\",\"\",IF(IFERROR(SEARCH(\"*-*\",referentes!AJ1929),2)=1,IF(referentes!AJ1929=\"\",\"\",LEFT(referentes!AJ1929,FIND(\"*-*\",referentes!AJ1929)-1)),referentes!AJ1929))","v":""},null,""]
[null,null,null,null,null,null,null,null,null,null,null,null,null,null,null,null,null,null,{"$f":"IF(referentes!AJ1930=\"\",\"\",IF(IFERROR(SEARCH(\"*-*\",referentes!AJ1930),2)=1,IF(referentes!AJ1930=\"\",\"\",LEFT(referentes!AJ1930,FIND(\"*-*\",referentes!AJ1930)-1)),referentes!AJ1930))","v":""},null,""]
[null,null,null,null,null,null,null,null,null,null,null,null,null,null,null,null,null,null,{"$f":"IF(referentes!AJ1931=\"\",\"\",IF(IFERROR(SEARCH(\"*-*\",referentes!AJ1931),2)=1,IF(referentes!AJ1931=\"\",\"\",LEFT(referentes!AJ1931,FIND(\"*-*\",referentes!AJ1931)-1)),referentes!AJ1931))","v":""},null,""]
[null,null,null,null,null,null,null,null,null,null,null,null,null,null,null,null,null,null,{"$f":"IF(referentes!AJ1932=\"\",\"\",IF(IFERROR(SEARCH(\"*-*\",referentes!AJ1932),2)=1,IF(referentes!AJ1932=\"\",\"\",LEFT(referentes!AJ1932,FIND(\"*-*\",referentes!AJ1932)-1)),referentes!AJ1932))","v":""},null,""]
[null,null,null,null,null,null,null,null,null,null,null,null,null,null,null,null,null,null,{"$f":"IF(referentes!AJ1933=\"\",\"\",IF(IFERROR(SEARCH(\"*-*\",referentes!AJ1933),2)=1,IF(referentes!AJ1933=\"\",\"\",LEFT(referentes!AJ1933,FIND(\"*-*\",referentes!AJ1933)-1)),referentes!AJ1933))","v":""},null,""]
[null,null,null,null,null,null,null,null,null,null,null,null,null,null,null,null,null,null,{"$f":"IF(referentes!AJ1934=\"\",\"\",IF(IFERROR(SEARCH(\"*-*\",referentes!AJ1934),2)=1,IF(referentes!AJ1934=\"\",\"\",LEFT(referentes!AJ1934,FIND(\"*-*\",referentes!AJ1934)-1)),referentes!AJ1934))","v":""},null,""]
[null,null,null,null,null,null,null,null,null,null,null,null,null,null,null,null,null,null,{"$f":"IF(referentes!AJ1935=\"\",\"\",IF(IFERROR(SEARCH(\"*-*\",referentes!AJ1935),2)=1,IF(referentes!AJ1935=\"\",\"\",LEFT(referentes!AJ1935,FIND(\"*-*\",referentes!AJ1935)-1)),referentes!AJ1935))","v":""},null,""]
[null,null,null,null,null,null,null,null,null,null,null,null,null,null,null,null,null,null,{"$f":"IF(referentes!AJ1936=\"\",\"\",IF(IFERROR(SEARCH(\"*-*\",referentes!AJ1936),2)=1,IF(referentes!AJ1936=\"\",\"\",LEFT(referentes!AJ1936,FIND(\"*-*\",referentes!AJ1936)-1)),referentes!AJ1936))","v":""},null,""]
[null,null,null,null,null,null,null,null,null,null,null,null,null,null,null,null,null,null,{"$f":"IF(referentes!AJ1937=\"\",\"\",IF(IFERROR(SEARCH(\"*-*\",referentes!AJ1937),2)=1,IF(referentes!AJ1937=\"\",\"\",LEFT(referentes!AJ1937,FIND(\"*-*\",referentes!AJ1937)-1)),referentes!AJ1937))","v":""},null,""]
[null,null,null,null,null,null,null,null,null,null,null,null,null,null,null,null,null,null,{"$f":"IF(referentes!AJ1938=\"\",\"\",IF(IFERROR(SEARCH(\"*-*\",referentes!AJ1938),2)=1,IF(referentes!AJ1938=\"\",\"\",LEFT(referentes!AJ1938,FIND(\"*-*\",referentes!AJ1938)-1)),referentes!AJ1938))","v":""},null,""]
[null,null,null,null,null,null,null,null,null,null,null,null,null,null,null,null,null,null,{"$f":"IF(referentes!AJ1939=\"\",\"\",IF(IFERROR(SEARCH(\"*-*\",referentes!AJ1939),2)=1,IF(referentes!AJ1939=\"\",\"\",LEFT(referentes!AJ1939,FIND(\"*-*\",referentes!AJ1939)-1)),referentes!AJ1939))","v":""},null,""]
[null,null,null,null,null,null,null,null,null,null,null,null,null,null,null,null,null,null,{"$f":"IF(referentes!AJ1940=\"\",\"\",IF(IFERROR(SEARCH(\"*-*\",referentes!AJ1940),2)=1,IF(referentes!AJ1940=\"\",\"\",LEFT(referentes!AJ1940,FIND(\"*-*\",referentes!AJ1940)-1)),referentes!AJ1940))","v":""},null,""]
[null,null,null,null,null,null,null,null,null,null,null,null,null,null,null,null,null,null,{"$f":"IF(referentes!AJ1941=\"\",\"\",IF(IFERROR(SEARCH(\"*-*\",referentes!AJ1941),2)=1,IF(referentes!AJ1941=\"\",\"\",LEFT(referentes!AJ1941,FIND(\"*-*\",referentes!AJ1941)-1)),referentes!AJ1941))","v":""},null,""]
[null,null,null,null,null,null,null,null,null,null,null,null,null,null,null,null,null,null,{"$f":"IF(referentes!AJ1942=\"\",\"\",IF(IFERROR(SEARCH(\"*-*\",referentes!AJ1942),2)=1,IF(referentes!AJ1942=\"\",\"\",LEFT(referentes!AJ1942,FIND(\"*-*\",referentes!AJ1942)-1)),referentes!AJ1942))","v":""},null,""]
[null,null,null,null,null,null,null,null,null,null,null,null,null,null,null,null,null,null,{"$f":"IF(referentes!AJ1943=\"\",\"\",IF(IFERROR(SEARCH(\"*-*\",referentes!AJ1943),2)=1,IF(referentes!AJ1943=\"\",\"\",LEFT(referentes!AJ1943,FIND(\"*-*\",referentes!AJ1943)-1)),referentes!AJ1943))","v":""},null,""]
[null,null,null,null,null,null,null,null,null,null,null,null,null,null,null,null,null,null,{"$f":"IF(referentes!AJ1944=\"\",\"\",IF(IFERROR(SEARCH(\"*-*\",referentes!AJ1944),2)=1,IF(referentes!AJ1944=\"\",\"\",LEFT(referentes!AJ1944,FIND(\"*-*\",referentes!AJ1944)-1)),referentes!AJ1944))","v":""},null,""]
[null,null,null,null,null,null,null,null,null,null,null,null,null,null,null,null,null,null,{"$f":"IF(referentes!AJ1945=\"\",\"\",IF(IFERROR(SEARCH(\"*-*\",referentes!AJ1945),2)=1,IF(referentes!AJ1945=\"\",\"\",LEFT(referentes!AJ1945,FIND(\"*-*\",referentes!AJ1945)-1)),referentes!AJ1945))","v":""},null,""]
[null,null,null,null,null,null,null,null,null,null,null,null,null,null,null,null,null,null,{"$f":"IF(referentes!AJ1946=\"\",\"\",IF(IFERROR(SEARCH(\"*-*\",referentes!AJ1946),2)=1,IF(referentes!AJ1946=\"\",\"\",LEFT(referentes!AJ1946,FIND(\"*-*\",referentes!AJ1946)-1)),referentes!AJ1946))","v":""},null,""]
[null,null,null,null,null,null,null,null,null,null,null,null,null,null,null,null,null,null,{"$f":"IF(referentes!AJ1947=\"\",\"\",IF(IFERROR(SEARCH(\"*-*\",referentes!AJ1947),2)=1,IF(referentes!AJ1947=\"\",\"\",LEFT(referentes!AJ1947,FIND(\"*-*\",referentes!AJ1947)-1)),referentes!AJ1947))","v":""},null,""]
[null,null,null,null,null,null,null,null,null,null,null,null,null,null,null,null,null,null,{"$f":"IF(referentes!AJ1948=\"\",\"\",IF(IFERROR(SEARCH(\"*-*\",referentes!AJ1948),2)=1,IF(referentes!AJ1948=\"\",\"\",LEFT(referentes!AJ1948,FIND(\"*-*\",referentes!AJ1948)-1)),referentes!AJ1948))","v":""},null,""]
[null,null,null,null,null,null,null,null,null,null,null,null,null,null,null,null,null,null,{"$f":"IF(referentes!AJ1949=\"\",\"\",IF(IFERROR(SEARCH(\"*-*\",referentes!AJ1949),2)=1,IF(referentes!AJ1949=\"\",\"\",LEFT(referentes!AJ1949,FIND(\"*-*\",referentes!AJ1949)-1)),referentes!AJ1949))","v":""},null,""]
[null,null,null,null,null,null,null,null,null,null,null,null,null,null,null,null,null,null,{"$f":"IF(referentes!AJ1950=\"\",\"\",IF(IFERROR(SEARCH(\"*-*\",referentes!AJ1950),2)=1,IF(referentes!AJ1950=\"\",\"\",LEFT(referentes!AJ1950,FIND(\"*-*\",referentes!AJ1950)-1)),referentes!AJ1950))","v":""},null,""]
[null,null,null,null,null,null,null,null,null,null,null,null,null,null,null,null,null,null,{"$f":"IF(referentes!AJ1951=\"\",\"\",IF(IFERROR(SEARCH(\"*-*\",referentes!AJ1951),2)=1,IF(referentes!AJ1951=\"\",\"\",LEFT(referentes!AJ1951,FIND(\"*-*\",referentes!AJ1951)-1)),referentes!AJ1951))","v":""},null,""]
[null,null,null,null,null,null,null,null,null,null,null,null,null,null,null,null,null,null,{"$f":"IF(referentes!AJ1952=\"\",\"\",IF(IFERROR(SEARCH(\"*-*\",referentes!AJ1952),2)=1,IF(referentes!AJ1952=\"\",\"\",LEFT(referentes!AJ1952,FIND(\"*-*\",referentes!AJ1952)-1)),referentes!AJ1952))","v":""},null,""]
[null,null,null,null,null,null,null,null,null,null,null,null,null,null,null,null,null,null,{"$f":"IF(referentes!AJ1953=\"\",\"\",IF(IFERROR(SEARCH(\"*-*\",referentes!AJ1953),2)=1,IF(referentes!AJ1953=\"\",\"\",LEFT(referentes!AJ1953,FIND(\"*-*\",referentes!AJ1953)-1)),referentes!AJ1953))","v":""},null,""]
[null,null,null,null,null,null,null,null,null,null,null,null,null,null,null,null,null,null,{"$f":"IF(referentes!AJ1954=\"\",\"\",IF(IFERROR(SEARCH(\"*-*\",referentes!AJ1954),2)=1,IF(referentes!AJ1954=\"\",\"\",LEFT(referentes!AJ1954,FIND(\"*-*\",referentes!AJ1954)-1)),referentes!AJ1954))","v":""},null,""]
[null,null,null,null,null,null,null,null,null,null,null,null,null,null,null,null,null,null,{"$f":"IF(referentes!AJ1955=\"\",\"\",IF(IFERROR(SEARCH(\"*-*\",referentes!AJ1955),2)=1,IF(referentes!AJ1955=\"\",\"\",LEFT(referentes!AJ1955,FIND(\"*-*\",referentes!AJ1955)-1)),referentes!AJ1955))","v":""},null,""]
[null,null,null,null,null,null,null,null,null,null,null,null,null,null,null,null,null,null,{"$f":"IF(referentes!AJ1956=\"\",\"\",IF(IFERROR(SEARCH(\"*-*\",referentes!AJ1956),2)=1,IF(referentes!AJ1956=\"\",\"\",LEFT(referentes!AJ1956,FIND(\"*-*\",referentes!AJ1956)-1)),referentes!AJ1956))","v":""},null,""]
[null,null,null,null,null,null,null,null,null,null,null,null,null,null,null,null,null,null,{"$f":"IF(referentes!AJ1957=\"\",\"\",IF(IFERROR(SEARCH(\"*-*\",referentes!AJ1957),2)=1,IF(referentes!AJ1957=\"\",\"\",LEFT(referentes!AJ1957,FIND(\"*-*\",referentes!AJ1957)-1)),referentes!AJ1957))","v":""},null,""]
[null,null,null,null,null,null,null,null,null,null,null,null,null,null,null,null,null,null,{"$f":"IF(referentes!AJ1958=\"\",\"\",IF(IFERROR(SEARCH(\"*-*\",referentes!AJ1958),2)=1,IF(referentes!AJ1958=\"\",\"\",LEFT(referentes!AJ1958,FIND(\"*-*\",referentes!AJ1958)-1)),referentes!AJ1958))","v":""},null,""]
[null,null,null,null,null,null,null,null,null,null,null,null,null,null,null,null,null,null,{"$f":"IF(referentes!AJ1959=\"\",\"\",IF(IFERROR(SEARCH(\"*-*\",referentes!AJ1959),2)=1,IF(referentes!AJ1959=\"\",\"\",LEFT(referentes!AJ1959,FIND(\"*-*\",referentes!AJ1959)-1)),referentes!AJ1959))","v":""},null,""]
[null,null,null,null,null,null,null,null,null,null,null,null,null,null,null,null,null,null,{"$f":"IF(referentes!AJ1960=\"\",\"\",IF(IFERROR(SEARCH(\"*-*\",referentes!AJ1960),2)=1,IF(referentes!AJ1960=\"\",\"\",LEFT(referentes!AJ1960,FIND(\"*-*\",referentes!AJ1960)-1)),referentes!AJ1960))","v":""},null,""]
[null,null,null,null,null,null,null,null,null,null,null,null,null,null,null,null,null,null,{"$f":"IF(referentes!AJ1961=\"\",\"\",IF(IFERROR(SEARCH(\"*-*\",referentes!AJ1961),2)=1,IF(referentes!AJ1961=\"\",\"\",LEFT(referentes!AJ1961,FIND(\"*-*\",referentes!AJ1961)-1)),referentes!AJ1961))","v":""},null,""]
[null,null,null,null,null,null,null,null,null,null,null,null,null,null,null,null,null,null,{"$f":"IF(referentes!AJ1962=\"\",\"\",IF(IFERROR(SEARCH(\"*-*\",referentes!AJ1962),2)=1,IF(referentes!AJ1962=\"\",\"\",LEFT(referentes!AJ1962,FIND(\"*-*\",referentes!AJ1962)-1)),referentes!AJ1962))","v":""},null,""]
[null,null,null,null,null,null,null,null,null,null,null,null,null,null,null,null,null,null,{"$f":"IF(referentes!AJ1963=\"\",\"\",IF(IFERROR(SEARCH(\"*-*\",referentes!AJ1963),2)=1,IF(referentes!AJ1963=\"\",\"\",LEFT(referentes!AJ1963,FIND(\"*-*\",referentes!AJ1963)-1)),referentes!AJ1963))","v":""},null,""]
[null,null,null,null,null,null,null,null,null,null,null,null,null,null,null,null,null,null,{"$f":"IF(referentes!AJ1964=\"\",\"\",IF(IFERROR(SEARCH(\"*-*\",referentes!AJ1964),2)=1,IF(referentes!AJ1964=\"\",\"\",LEFT(referentes!AJ1964,FIND(\"*-*\",referentes!AJ1964)-1)),referentes!AJ1964))","v":""},null,""]
[null,null,null,null,null,null,null,null,null,null,null,null,null,null,null,null,null,null,{"$f":"IF(referentes!AJ1965=\"\",\"\",IF(IFERROR(SEARCH(\"*-*\",referentes!AJ1965),2)=1,IF(referentes!AJ1965=\"\",\"\",LEFT(referentes!AJ1965,FIND(\"*-*\",referentes!AJ1965)-1)),referentes!AJ1965))","v":""},null,""]
[null,null,null,null,null,null,null,null,null,null,null,null,null,null,null,null,null,null,{"$f":"IF(referentes!AJ1966=\"\",\"\",IF(IFERROR(SEARCH(\"*-*\",referentes!AJ1966),2)=1,IF(referentes!AJ1966=\"\",\"\",LEFT(referentes!AJ1966,FIND(\"*-*\",referentes!AJ1966)-1)),referentes!AJ1966))","v":""},null,""]
[null,null,null,null,null,null,null,null,null,null,null,null,null,null,null,null,null,null,{"$f":"IF(referentes!AJ1967=\"\",\"\",IF(IFERROR(SEARCH(\"*-*\",referentes!AJ1967),2)=1,IF(referentes!AJ1967=\"\",\"\",LEFT(referentes!AJ1967,FIND(\"*-*\",referentes!AJ1967)-1)),referentes!AJ1967))","v":""},null,""]
[null,null,null,null,null,null,null,null,null,null,null,null,null,null,null,null,null,null,{"$f":"IF(referentes!AJ1968=\"\",\"\",IF(IFERROR(SEARCH(\"*-*\",referentes!AJ1968),2)=1,IF(referentes!AJ1968=\"\",\"\",LEFT(referentes!AJ1968,FIND(\"*-*\",referentes!AJ1968)-1)),referentes!AJ1968))","v":""},null,""]
[null,null,null,null,null,null,null,null,null,null,null,null,null,null,null,null,null,null,{"$f":"IF(referentes!AJ1969=\"\",\"\",IF(IFERROR(SEARCH(\"*-*\",referentes!AJ1969),2)=1,IF(referentes!AJ1969=\"\",\"\",LEFT(referentes!AJ1969,FIND(\"*-*\",referentes!AJ1969)-1)),referentes!AJ1969))","v":""},null,""]
[null,null,null,null,null,null,null,null,null,null,null,null,null,null,null,null,null,null,{"$f":"IF(referentes!AJ1970=\"\",\"\",IF(IFERROR(SEARCH(\"*-*\",referentes!AJ1970),2)=1,IF(referentes!AJ1970=\"\",\"\",LEFT(referentes!AJ1970,FIND(\"*-*\",referentes!AJ1970)-1)),referentes!AJ1970))","v":""},null,""]
[null,null,null,null,null,null,null,null,null,null,null,null,null,null,null,null,null,null,{"$f":"IF(referentes!AJ1971=\"\",\"\",IF(IFERROR(SEARCH(\"*-*\",referentes!AJ1971),2)=1,IF(referentes!AJ1971=\"\",\"\",LEFT(referentes!AJ1971,FIND(\"*-*\",referentes!AJ1971)-1)),referentes!AJ1971))","v":""},null,""]
[null,null,null,null,null,null,null,null,null,null,null,null,null,null,null,null,null,null,{"$f":"IF(referentes!AJ1972=\"\",\"\",IF(IFERROR(SEARCH(\"*-*\",referentes!AJ1972),2)=1,IF(referentes!AJ1972=\"\",\"\",LEFT(referentes!AJ1972,FIND(\"*-*\",referentes!AJ1972)-1)),referentes!AJ1972))","v":""},null,""]
[null,null,null,null,null,null,null,null,null,null,null,null,null,null,null,null,null,null,{"$f":"IF(referentes!AJ1973=\"\",\"\",IF(IFERROR(SEARCH(\"*-*\",referentes!AJ1973),2)=1,IF(referentes!AJ1973=\"\",\"\",LEFT(referentes!AJ1973,FIND(\"*-*\",referentes!AJ1973)-1)),referentes!AJ1973))","v":""},null,""]
[null,null,null,null,null,null,null,null,null,null,null,null,null,null,null,null,null,null,{"$f":"IF(referentes!AJ1974=\"\",\"\",IF(IFERROR(SEARCH(\"*-*\",referentes!AJ1974),2)=1,IF(referentes!AJ1974=\"\",\"\",LEFT(referentes!AJ1974,FIND(\"*-*\",referentes!AJ1974)-1)),referentes!AJ1974))","v":""},null,""]
[null,null,null,null,null,null,null,null,null,null,null,null,null,null,null,null,null,null,{"$f":"IF(referentes!AJ1975=\"\",\"\",IF(IFERROR(SEARCH(\"*-*\",referentes!AJ1975),2)=1,IF(referentes!AJ1975=\"\",\"\",LEFT(referentes!AJ1975,FIND(\"*-*\",referentes!AJ1975)-1)),referentes!AJ1975))","v":""},null,""]
[null,null,null,null,null,null,null,null,null,null,null,null,null,null,null,null,null,null,{"$f":"IF(referentes!AJ1976=\"\",\"\",IF(IFERROR(SEARCH(\"*-*\",referentes!AJ1976),2)=1,IF(referentes!AJ1976=\"\",\"\",LEFT(referentes!AJ1976,FIND(\"*-*\",referentes!AJ1976)-1)),referentes!AJ1976))","v":""},null,""]
[null,null,null,null,null,null,null,null,null,null,null,null,null,null,null,null,null,null,{"$f":"IF(referentes!AJ1977=\"\",\"\",IF(IFERROR(SEARCH(\"*-*\",referentes!AJ1977),2)=1,IF(referentes!AJ1977=\"\",\"\",LEFT(referentes!AJ1977,FIND(\"*-*\",referentes!AJ1977)-1)),referentes!AJ1977))","v":""},null,""]
[null,null,null,null,null,null,null,null,null,null,null,null,null,null,null,null,null,null,{"$f":"IF(referentes!AJ1978=\"\",\"\",IF(IFERROR(SEARCH(\"*-*\",referentes!AJ1978),2)=1,IF(referentes!AJ1978=\"\",\"\",LEFT(referentes!AJ1978,FIND(\"*-*\",referentes!AJ1978)-1)),referentes!AJ1978))","v":""},null,""]
[null,null,null,null,null,null,null,null,null,null,null,null,null,null,null,null,null,null,{"$f":"IF(referentes!AJ1979=\"\",\"\",IF(IFERROR(SEARCH(\"*-*\",referentes!AJ1979),2)=1,IF(referentes!AJ1979=\"\",\"\",LEFT(referentes!AJ1979,FIND(\"*-*\",referentes!AJ1979)-1)),referentes!AJ1979))","v":""},null,""]
[null,null,null,null,null,null,null,null,null,null,null,null,null,null,null,null,null,null,{"$f":"IF(referentes!AJ1980=\"\",\"\",IF(IFERROR(SEARCH(\"*-*\",referentes!AJ1980),2)=1,IF(referentes!AJ1980=\"\",\"\",LEFT(referentes!AJ1980,FIND(\"*-*\",referentes!AJ1980)-1)),referentes!AJ1980))","v":""},null,""]
[null,null,null,null,null,null,null,null,null,null,null,null,null,null,null,null,null,null,{"$f":"IF(referentes!AJ1981=\"\",\"\",IF(IFERROR(SEARCH(\"*-*\",referentes!AJ1981),2)=1,IF(referentes!AJ1981=\"\",\"\",LEFT(referentes!AJ1981,FIND(\"*-*\",referentes!AJ1981)-1)),referentes!AJ1981))","v":""},null,""]
[null,null,null,null,null,null,null,null,null,null,null,null,null,null,null,null,null,null,{"$f":"IF(referentes!AJ1982=\"\",\"\",IF(IFERROR(SEARCH(\"*-*\",referentes!AJ1982),2)=1,IF(referentes!AJ1982=\"\",\"\",LEFT(referentes!AJ1982,FIND(\"*-*\",referentes!AJ1982)-1)),referentes!AJ1982))","v":""},null,""]
[null,null,null,null,null,null,null,null,null,null,null,null,null,null,null,null,null,null,{"$f":"IF(referentes!AJ1983=\"\",\"\",IF(IFERROR(SEARCH(\"*-*\",referentes!AJ1983),2)=1,IF(referentes!AJ1983=\"\",\"\",LEFT(referentes!AJ1983,FIND(\"*-*\",referentes!AJ1983)-1)),referentes!AJ1983))","v":""},null,""]
[null,null,null,null,null,null,null,null,null,null,null,null,null,null,null,null,null,null,{"$f":"IF(referentes!AJ1984=\"\",\"\",IF(IFERROR(SEARCH(\"*-*\",referentes!AJ1984),2)=1,IF(referentes!AJ1984=\"\",\"\",LEFT(referentes!AJ1984,FIND(\"*-*\",referentes!AJ1984)-1)),referentes!AJ1984))","v":""},null,""]
[null,null,null,null,null,null,null,null,null,null,null,null,null,null,null,null,null,null,{"$f":"IF(referentes!AJ1985=\"\",\"\",IF(IFERROR(SEARCH(\"*-*\",referentes!AJ1985),2)=1,IF(referentes!AJ1985=\"\",\"\",LEFT(referentes!AJ1985,FIND(\"*-*\",referentes!AJ1985)-1)),referentes!AJ1985))","v":""},null,""]
[null,null,null,null,null,null,null,null,null,null,null,null,null,null,null,null,null,null,{"$f":"IF(referentes!AJ1986=\"\",\"\",IF(IFERROR(SEARCH(\"*-*\",referentes!AJ1986),2)=1,IF(referentes!AJ1986=\"\",\"\",LEFT(referentes!AJ1986,FIND(\"*-*\",referentes!AJ1986)-1)),referentes!AJ1986))","v":""},null,""]
[null,null,null,null,null,null,null,null,null,null,null,null,null,null,null,null,null,null,{"$f":"IF(referentes!AJ1987=\"\",\"\",IF(IFERROR(SEARCH(\"*-*\",referentes!AJ1987),2)=1,IF(referentes!AJ1987=\"\",\"\",LEFT(referentes!AJ1987,FIND(\"*-*\",referentes!AJ1987)-1)),referentes!AJ1987))","v":""},null,""]
[null,null,null,null,null,null,null,null,null,null,null,null,null,null,null,null,null,null,{"$f":"IF(referentes!AJ1988=\"\",\"\",IF(IFERROR(SEARCH(\"*-*\",referentes!AJ1988),2)=1,IF(referentes!AJ1988=\"\",\"\",LEFT(referentes!AJ1988,FIND(\"*-*\",referentes!AJ1988)-1)),referentes!AJ1988))","v":""},null,""]
[null,null,null,null,null,null,null,null,null,null,null,null,null,null,null,null,null,null,{"$f":"IF(referentes!AJ1989=\"\",\"\",IF(IFERROR(SEARCH(\"*-*\",referentes!AJ1989),2)=1,IF(referentes!AJ1989=\"\",\"\",LEFT(referentes!AJ1989,FIND(\"*-*\",referentes!AJ1989)-1)),referentes!AJ1989))","v":""},null,""]
[null,null,null,null,null,null,null,null,null,null,null,null,null,null,null,null,null,null,{"$f":"IF(referentes!AJ1990=\"\",\"\",IF(IFERROR(SEARCH(\"*-*\",referentes!AJ1990),2)=1,IF(referentes!AJ1990=\"\",\"\",LEFT(referentes!AJ1990,FIND(\"*-*\",referentes!AJ1990)-1)),referentes!AJ1990))","v":""},null,""]
[null,null,null,null,null,null,null,null,null,null,null,null,null,null,null,null,null,null,{"$f":"IF(referentes!AJ1991=\"\",\"\",IF(IFERROR(SEARCH(\"*-*\",referentes!AJ1991),2)=1,IF(referentes!AJ1991=\"\",\"\",LEFT(referentes!AJ1991,FIND(\"*-*\",referentes!AJ1991)-1)),referentes!AJ1991))","v":""},null,""]
[null,null,null,null,null,null,null,null,null,null,null,null,null,null,null,null,null,null,{"$f":"IF(referentes!AJ1992=\"\",\"\",IF(IFERROR(SEARCH(\"*-*\",referentes!AJ1992),2)=1,IF(referentes!AJ1992=\"\",\"\",LEFT(referentes!AJ1992,FIND(\"*-*\",referentes!AJ1992)-1)),referentes!AJ1992))","v":""},null,{"$f":"IF(IFERROR(T1991,R1991)=S1991,\"\",R1991)","v":""}]
[null,null,null,null,null,null,null,null,null,null,null,null,null,null,null,null,null,null,{"$f":"IF(referentes!AJ1993=\"\",\"\",IF(IFERROR(SEARCH(\"*-*\",referentes!AJ1993),2)=1,IF(referentes!AJ1993=\"\",\"\",LEFT(referentes!AJ1993,FIND(\"*-*\",referentes!AJ1993)-1)),referentes!AJ1993))","v":""},null,""]
[null,null,null,null,null,null,null,null,null,null,null,null,null,null,null,null,null,null,{"$f":"IF(referentes!AJ1994=\"\",\"\",IF(IFERROR(SEARCH(\"*-*\",referentes!AJ1994),2)=1,IF(referentes!AJ1994=\"\",\"\",LEFT(referentes!AJ1994,FIND(\"*-*\",referentes!AJ1994)-1)),referentes!AJ1994))","v":""},null,""]
[null,null,null,null,null,null,null,null,null,null,null,null,null,null,null,null,null,null,{"$f":"IF(referentes!AJ1995=\"\",\"\",IF(IFERROR(SEARCH(\"*-*\",referentes!AJ1995),2)=1,IF(referentes!AJ1995=\"\",\"\",LEFT(referentes!AJ1995,FIND(\"*-*\",referentes!AJ1995)-1)),referentes!AJ1995))","v":""},null,""]
[null,null,null,null,null,null,null,null,null,null,null,null,null,null,null,null,null,null,{"$f":"IF(referentes!AJ1996=\"\",\"\",IF(IFERROR(SEARCH(\"*-*\",referentes!AJ1996),2)=1,IF(referentes!AJ1996=\"\",\"\",LEFT(referentes!AJ1996,FIND(\"*-*\",referentes!AJ1996)-1)),referentes!AJ1996))","v":""},null,""]
[null,null,null,null,null,null,null,null,null,null,null,null,null,null,null,null,null,null,{"$f":"IF(referentes!AJ1997=\"\",\"\",IF(IFERROR(SEARCH(\"*-*\",referentes!AJ1997),2)=1,IF(referentes!AJ1997=\"\",\"\",LEFT(referentes!AJ1997,FIND(\"*-*\",referentes!AJ1997)-1)),referentes!AJ1997))","v":""},null,""]
[null,null,null,null,null,null,null,null,null,null,null,null,null,null,null,null,null,null,{"$f":"IF(referentes!AJ1998=\"\",\"\",IF(IFERROR(SEARCH(\"*-*\",referentes!AJ1998),2)=1,IF(referentes!AJ1998=\"\",\"\",LEFT(referentes!AJ1998,FIND(\"*-*\",referentes!AJ1998)-1)),referentes!AJ1998))","v":""},null,""]
[null,null,null,null,null,null,null,null,null,null,null,null,null,null,null,null,null,null,{"$f":"IF(referentes!AJ1999=\"\",\"\",IF(IFERROR(SEARCH(\"*-*\",referentes!AJ1999),2)=1,IF(referentes!AJ1999=\"\",\"\",LEFT(referentes!AJ1999,FIND(\"*-*\",referentes!AJ1999)-1)),referentes!AJ1999))","v":""},null,""]
[null,null,null,null,null,null,null,null,null,null,null,null,null,null,null,null,null,null,{"$f":"IF(referentes!AJ2000=\"\",\"\",IF(IFERROR(SEARCH(\"*-*\",referentes!AJ2000),2)=1,IF(referentes!AJ2000=\"\",\"\",LEFT(referentes!AJ2000,FIND(\"*-*\",referentes!AJ2000)-1)),referentes!AJ2000))","v":""},null,""]
[null,null,null,null,null,null,null,null,null,null,null,null,null,null,null,null,null,null,{"$f":"IF(referentes!AJ2001=\"\",\"\",IF(IFERROR(SEARCH(\"*-*\",referentes!AJ2001),2)=1,IF(referentes!AJ2001=\"\",\"\",LEFT(referentes!AJ2001,FIND(\"*-*\",referentes!AJ2001)-1)),referentes!AJ2001))","v":""},null,""]
[null,null,null,null,null,null,null,null,null,null,null,null,null,null,null,null,null,null,{"$f":"IF(referentes!AJ2002=\"\",\"\",IF(IFERROR(SEARCH(\"*-*\",referentes!AJ2002),2)=1,IF(referentes!AJ2002=\"\",\"\",LEFT(referentes!AJ2002,FIND(\"*-*\",referentes!AJ2002)-1)),referentes!AJ2002))","v":""},null,""]
[null,null,null,null,null,null,null,null,null,null,null,null,null,null,null,null,null,null,{"$f":"IF(referentes!AJ2003=\"\",\"\",IF(IFERROR(SEARCH(\"*-*\",referentes!AJ2003),2)=1,IF(referentes!AJ2003=\"\",\"\",LEFT(referentes!AJ2003,FIND(\"*-*\",referentes!AJ2003)-1)),referentes!AJ2003))","v":""},null,""]
[null,null,null,null,null,null,null,null,null,null,null,null,null,null,null,null,null,null,{"$f":"IF(referentes!AJ2004=\"\",\"\",IF(IFERROR(SEARCH(\"*-*\",referentes!AJ2004),2)=1,IF(referentes!AJ2004=\"\",\"\",LEFT(referentes!AJ2004,FIND(\"*-*\",referentes!AJ2004)-1)),referentes!AJ2004))","v":""},null,""]
[null,null,null,null,null,null,null,null,null,null,null,null,null,null,null,null,null,null,{"$f":"IF(referentes!AJ2005=\"\",\"\",IF(IFERROR(SEARCH(\"*-*\",referentes!AJ2005),2)=1,IF(referentes!AJ2005=\"\",\"\",LEFT(referentes!AJ2005,FIND(\"*-*\",referentes!AJ2005)-1)),referentes!AJ2005))","v":""},null,""]
[null,null,null,null,null,null,null,null,null,null,null,null,null,null,null,null,null,null,{"$f":"IF(referentes!AJ2006=\"\",\"\",IF(IFERROR(SEARCH(\"*-*\",referentes!AJ2006),2)=1,IF(referentes!AJ2006=\"\",\"\",LEFT(referentes!AJ2006,FIND(\"*-*\",referentes!AJ2006)-1)),referentes!AJ2006))","v":""},null,""]
[null,null,null,null,null,null,null,null,null,null,null,null,null,null,null,null,null,null,{"$f":"IF(referentes!AJ2007=\"\",\"\",IF(IFERROR(SEARCH(\"*-*\",referentes!AJ2007),2)=1,IF(referentes!AJ2007=\"\",\"\",LEFT(referentes!AJ2007,FIND(\"*-*\",referentes!AJ2007)-1)),referentes!AJ2007))","v":""},null,""]
[null,null,null,null,null,null,null,null,null,null,null,null,null,null,null,null,null,null,{"$f":"IF(referentes!AJ2008=\"\",\"\",IF(IFERROR(SEARCH(\"*-*\",referentes!AJ2008),2)=1,IF(referentes!AJ2008=\"\",\"\",LEFT(referentes!AJ2008,FIND(\"*-*\",referentes!AJ2008)-1)),referentes!AJ2008))","v":""},null,""]
[null,null,null,null,null,null,null,null,null,null,null,null,null,null,null,null,null,null,{"$f":"IF(referentes!AJ2009=\"\",\"\",IF(IFERROR(SEARCH(\"*-*\",referentes!AJ2009),2)=1,IF(referentes!AJ2009=\"\",\"\",LEFT(referentes!AJ2009,FIND(\"*-*\",referentes!AJ2009)-1)),referentes!AJ2009))","v":""},null,""]
[null,null,null,null,null,null,null,null,null,null,null,null,null,null,null,null,null,null,{"$f":"IF(referentes!AJ2010=\"\",\"\",IF(IFERROR(SEARCH(\"*-*\",referentes!AJ2010),2)=1,IF(referentes!AJ2010=\"\",\"\",LEFT(referentes!AJ2010,FIND(\"*-*\",referentes!AJ2010)-1)),referentes!AJ2010))","v":""},null,""]
[null,null,null,null,null,null,null,null,null,null,null,null,null,null,null,null,null,null,{"$f":"IF(referentes!AJ2011=\"\",\"\",IF(IFERROR(SEARCH(\"*-*\",referentes!AJ2011),2)=1,IF(referentes!AJ2011=\"\",\"\",LEFT(referentes!AJ2011,FIND(\"*-*\",referentes!AJ2011)-1)),referentes!AJ2011))","v":""},null,""]
[null,null,null,null,null,null,null,null,null,null,null,null,null,null,null,null,null,null,{"$f":"IF(referentes!AJ2012=\"\",\"\",IF(IFERROR(SEARCH(\"*-*\",referentes!AJ2012),2)=1,IF(referentes!AJ2012=\"\",\"\",LEFT(referentes!AJ2012,FIND(\"*-*\",referentes!AJ2012)-1)),referentes!AJ2012))","v":""},null,""]
[null,null,null,null,null,null,null,null,null,null,null,null,null,null,null,null,null,null,{"$f":"IF(referentes!AJ2013=\"\",\"\",IF(IFERROR(SEARCH(\"*-*\",referentes!AJ2013),2)=1,IF(referentes!AJ2013=\"\",\"\",LEFT(referentes!AJ2013,FIND(\"*-*\",referentes!AJ2013)-1)),referentes!AJ2013))","v":""},null,""]
[null,null,null,null,null,null,null,null,null,null,null,null,null,null,null,null,null,null,{"$f":"IF(referentes!AJ2014=\"\",\"\",IF(IFERROR(SEARCH(\"*-*\",referentes!AJ2014),2)=1,IF(referentes!AJ2014=\"\",\"\",LEFT(referentes!AJ2014,FIND(\"*-*\",referentes!AJ2014)-1)),referentes!AJ2014))","v":""},null,""]
[null,null,null,null,null,null,null,null,null,null,null,null,null,null,null,null,null,null,{"$f":"IF(referentes!AJ2015=\"\",\"\",IF(IFERROR(SEARCH(\"*-*\",referentes!AJ2015),2)=1,IF(referentes!AJ2015=\"\",\"\",LEFT(referentes!AJ2015,FIND(\"*-*\",referentes!AJ2015)-1)),referentes!AJ2015))","v":""},null,""]
[null,null,null,null,null,null,null,null,null,null,null,null,null,null,null,null,null,null,{"$f":"IF(referentes!AJ2016=\"\",\"\",IF(IFERROR(SEARCH(\"*-*\",referentes!AJ2016),2)=1,IF(referentes!AJ2016=\"\",\"\",LEFT(referentes!AJ2016,FIND(\"*-*\",referentes!AJ2016)-1)),referentes!AJ2016))","v":""},null,""]
[null,null,null,null,null,null,null,null,null,null,null,null,null,null,null,null,null,null,{"$f":"IF(referentes!AJ2017=\"\",\"\",IF(IFERROR(SEARCH(\"*-*\",referentes!AJ2017),2)=1,IF(referentes!AJ2017=\"\",\"\",LEFT(referentes!AJ2017,FIND(\"*-*\",referentes!AJ2017)-1)),referentes!AJ2017))","v":""},null,""]
[null,null,null,null,null,null,null,null,null,null,null,null,null,null,null,null,null,null,{"$f":"IF(referentes!AJ2018=\"\",\"\",IF(IFERROR(SEARCH(\"*-*\",referentes!AJ2018),2)=1,IF(referentes!AJ2018=\"\",\"\",LEFT(referentes!AJ2018,FIND(\"*-*\",referentes!AJ2018)-1)),referentes!AJ2018))","v":""},null,""]
[null,null,null,null,null,null,null,null,null,null,null,null,null,null,null,null,null,null,{"$f":"IF(referentes!AJ2019=\"\",\"\",IF(IFERROR(SEARCH(\"*-*\",referentes!AJ2019),2)=1,IF(referentes!AJ2019=\"\",\"\",LEFT(referentes!AJ2019,FIND(\"*-*\",referentes!AJ2019)-1)),referentes!AJ2019))","v":""},null,""]
[null,null,null,null,null,null,null,null,null,null,null,null,null,null,null,null,null,null,{"$f":"IF(referentes!AJ2020=\"\",\"\",IF(IFERROR(SEARCH(\"*-*\",referentes!AJ2020),2)=1,IF(referentes!AJ2020=\"\",\"\",LEFT(referentes!AJ2020,FIND(\"*-*\",referentes!AJ2020)-1)),referentes!AJ2020))","v":""},null,""]
[null,null,null,null,null,null,null,null,null,null,null,null,null,null,null,null,null,null,{"$f":"IF(referentes!AJ2021=\"\",\"\",IF(IFERROR(SEARCH(\"*-*\",referentes!AJ2021),2)=1,IF(referentes!AJ2021=\"\",\"\",LEFT(referentes!AJ2021,FIND(\"*-*\",referentes!AJ2021)-1)),referentes!AJ2021))","v":""},null,""]
[null,null,null,null,null,null,null,null,null,null,null,null,null,null,null,null,null,null,{"$f":"IF(referentes!AJ2022=\"\",\"\",IF(IFERROR(SEARCH(\"*-*\",referentes!AJ2022),2)=1,IF(referentes!AJ2022=\"\",\"\",LEFT(referentes!AJ2022,FIND(\"*-*\",referentes!AJ2022)-1)),referentes!AJ2022))","v":""},null,""]
[null,null,null,null,null,null,null,null,null,null,null,null,null,null,null,null,null,null,{"$f":"IF(referentes!AJ2023=\"\",\"\",IF(IFERROR(SEARCH(\"*-*\",referentes!AJ2023),2)=1,IF(referentes!AJ2023=\"\",\"\",LEFT(referentes!AJ2023,FIND(\"*-*\",referentes!AJ2023)-1)),referentes!AJ2023))","v":""},null,""]
[null,null,null,null,null,null,null,null,null,null,null,null,null,null,null,null,null,null,{"$f":"IF(referentes!AJ2024=\"\",\"\",IF(IFERROR(SEARCH(\"*-*\",referentes!AJ2024),2)=1,IF(referentes!AJ2024=\"\",\"\",LEFT(referentes!AJ2024,FIND(\"*-*\",referentes!AJ2024)-1)),referentes!AJ2024))","v":""},null,""]
[null,null,null,null,null,null,null,null,null,null,null,null,null,null,null,null,null,null,{"$f":"IF(referentes!AJ2025=\"\",\"\",IF(IFERROR(SEARCH(\"*-*\",referentes!AJ2025),2)=1,IF(referentes!AJ2025=\"\",\"\",LEFT(referentes!AJ2025,FIND(\"*-*\",referentes!AJ2025)-1)),referentes!AJ2025))","v":""},null,""]
[null,null,null,null,null,null,null,null,null,null,null,null,null,null,null,null,null,null,{"$f":"IF(referentes!AJ2026=\"\",\"\",IF(IFERROR(SEARCH(\"*-*\",referentes!AJ2026),2)=1,IF(referentes!AJ2026=\"\",\"\",LEFT(referentes!AJ2026,FIND(\"*-*\",referentes!AJ2026)-1)),referentes!AJ2026))","v":""},null,""]
[null,null,null,null,null,null,null,null,null,null,null,null,null,null,null,null,null,null,{"$f":"IF(referentes!AJ2027=\"\",\"\",IF(IFERROR(SEARCH(\"*-*\",referentes!AJ2027),2)=1,IF(referentes!AJ2027=\"\",\"\",LEFT(referentes!AJ2027,FIND(\"*-*\",referentes!AJ2027)-1)),referentes!AJ2027))","v":""},null,""]
[null,null,null,null,null,null,null,null,null,null,null,null,null,null,null,null,null,null,{"$f":"IF(referentes!AJ2028=\"\",\"\",IF(IFERROR(SEARCH(\"*-*\",referentes!AJ2028),2)=1,IF(referentes!AJ2028=\"\",\"\",LEFT(referentes!AJ2028,FIND(\"*-*\",referentes!AJ2028)-1)),referentes!AJ2028))","v":""},null,""]
[null,null,null,null,null,null,null,null,null,null,null,null,null,null,null,null,null,null,{"$f":"IF(referentes!AJ2029=\"\",\"\",IF(IFERROR(SEARCH(\"*-*\",referentes!AJ2029),2)=1,IF(referentes!AJ2029=\"\",\"\",LEFT(referentes!AJ2029,FIND(\"*-*\",referentes!AJ2029)-1)),referentes!AJ2029))","v":""},null,""]
[null,null,null,null,null,null,null,null,null,null,null,null,null,null,null,null,null,null,{"$f":"IF(referentes!AJ2030=\"\",\"\",IF(IFERROR(SEARCH(\"*-*\",referentes!AJ2030),2)=1,IF(referentes!AJ2030=\"\",\"\",LEFT(referentes!AJ2030,FIND(\"*-*\",referentes!AJ2030)-1)),referentes!AJ2030))","v":""},null,""]
[null,null,null,null,null,null,null,null,null,null,null,null,null,null,null,null,null,null,{"$f":"IF(referentes!AJ2031=\"\",\"\",IF(IFERROR(SEARCH(\"*-*\",referentes!AJ2031),2)=1,IF(referentes!AJ2031=\"\",\"\",LEFT(referentes!AJ2031,FIND(\"*-*\",referentes!AJ2031)-1)),referentes!AJ2031))","v":""},null,""]
[null,null,null,null,null,null,null,null,null,null,null,null,null,null,null,null,null,null,{"$f":"IF(referentes!AJ2032=\"\",\"\",IF(IFERROR(SEARCH(\"*-*\",referentes!AJ2032),2)=1,IF(referentes!AJ2032=\"\",\"\",LEFT(referentes!AJ2032,FIND(\"*-*\",referentes!AJ2032)-1)),referentes!AJ2032))","v":""},null,""]
[null,null,null,null,null,null,null,null,null,null,null,null,null,null,null,null,null,null,{"$f":"IF(referentes!AJ2033=\"\",\"\",IF(IFERROR(SEARCH(\"*-*\",referentes!AJ2033),2)=1,IF(referentes!AJ2033=\"\",\"\",LEFT(referentes!AJ2033,FIND(\"*-*\",referentes!AJ2033)-1)),referentes!AJ2033))","v":""},null,""]
[null,null,null,null,null,null,null,null,null,null,null,null,null,null,null,null,null,null,{"$f":"IF(referentes!AJ2034=\"\",\"\",IF(IFERROR(SEARCH(\"*-*\",referentes!AJ2034),2)=1,IF(referentes!AJ2034=\"\",\"\",LEFT(referentes!AJ2034,FIND(\"*-*\",referentes!AJ2034)-1)),referentes!AJ2034))","v":""},null,""]
[null,null,null,null,null,null,null,null,null,null,null,null,null,null,null,null,null,null,{"$f":"IF(referentes!AJ2035=\"\",\"\",IF(IFERROR(SEARCH(\"*-*\",referentes!AJ2035),2)=1,IF(referentes!AJ2035=\"\",\"\",LEFT(referentes!AJ2035,FIND(\"*-*\",referentes!AJ2035)-1)),referentes!AJ2035))","v":""},null,""]
[null,null,null,null,null,null,null,null,null,null,null,null,null,null,null,null,null,null,{"$f":"IF(referentes!AJ2036=\"\",\"\",IF(IFERROR(SEARCH(\"*-*\",referentes!AJ2036),2)=1,IF(referentes!AJ2036=\"\",\"\",LEFT(referentes!AJ2036,FIND(\"*-*\",referentes!AJ2036)-1)),referentes!AJ2036))","v":""},null,""]
[null,null,null,null,null,null,null,null,null,null,null,null,null,null,null,null,null,null,{"$f":"IF(referentes!AJ2037=\"\",\"\",IF(IFERROR(SEARCH(\"*-*\",referentes!AJ2037),2)=1,IF(referentes!AJ2037=\"\",\"\",LEFT(referentes!AJ2037,FIND(\"*-*\",referentes!AJ2037)-1)),referentes!AJ2037))","v":""},null,""]
[null,null,null,null,null,null,null,null,null,null,null,null,null,null,null,null,null,null,{"$f":"IF(referentes!AJ2038=\"\",\"\",IF(IFERROR(SEARCH(\"*-*\",referentes!AJ2038),2)=1,IF(referentes!AJ2038=\"\",\"\",LEFT(referentes!AJ2038,FIND(\"*-*\",referentes!AJ2038)-1)),referentes!AJ2038))","v":""},null,""]
[null,null,null,null,null,null,null,null,null,null,null,null,null,null,null,null,null,null,{"$f":"IF(referentes!AJ2039=\"\",\"\",IF(IFERROR(SEARCH(\"*-*\",referentes!AJ2039),2)=1,IF(referentes!AJ2039=\"\",\"\",LEFT(referentes!AJ2039,FIND(\"*-*\",referentes!AJ2039)-1)),referentes!AJ2039))","v":""},null,""]
[null,null,null,null,null,null,null,null,null,null,null,null,null,null,null,null,null,null,{"$f":"IF(referentes!AJ2040=\"\",\"\",IF(IFERROR(SEARCH(\"*-*\",referentes!AJ2040),2)=1,IF(referentes!AJ2040=\"\",\"\",LEFT(referentes!AJ2040,FIND(\"*-*\",referentes!AJ2040)-1)),referentes!AJ2040))","v":""},null,""]
[null,null,null,null,null,null,null,null,null,null,null,null,null,null,null,null,null,null,{"$f":"IF(referentes!AJ2041=\"\",\"\",IF(IFERROR(SEARCH(\"*-*\",referentes!AJ2041),2)=1,IF(referentes!AJ2041=\"\",\"\",LEFT(referentes!AJ2041,FIND(\"*-*\",referentes!AJ2041)-1)),referentes!AJ2041))","v":""},null,""]
[null,null,null,null,null,null,null,null,null,null,null,null,null,null,null,null,null,null,{"$f":"IF(referentes!AJ2042=\"\",\"\",IF(IFERROR(SEARCH(\"*-*\",referentes!AJ2042),2)=1,IF(referentes!AJ2042=\"\",\"\",LEFT(referentes!AJ2042,FIND(\"*-*\",referentes!AJ2042)-1)),referentes!AJ2042))","v":""},null,""]
[null,null,null,null,null,null,null,null,null,null,null,null,null,null,null,null,null,null,{"$f":"IF(referentes!AJ2043=\"\",\"\",IF(IFERROR(SEARCH(\"*-*\",referentes!AJ2043),2)=1,IF(referentes!AJ2043=\"\",\"\",LEFT(referentes!AJ2043,FIND(\"*-*\",referentes!AJ2043)-1)),referentes!AJ2043))","v":""},null,""]
[null,null,null,null,null,null,null,null,null,null,null,null,null,null,null,null,null,null,{"$f":"IF(referentes!AJ2044=\"\",\"\",IF(IFERROR(SEARCH(\"*-*\",referentes!AJ2044),2)=1,IF(referentes!AJ2044=\"\",\"\",LEFT(referentes!AJ2044,FIND(\"*-*\",referentes!AJ2044)-1)),referentes!AJ2044))","v":""},null,""]
[null,null,null,null,null,null,null,null,null,null,null,null,null,null,null,null,null,null,{"$f":"IF(referentes!AJ2045=\"\",\"\",IF(IFERROR(SEARCH(\"*-*\",referentes!AJ2045),2)=1,IF(referentes!AJ2045=\"\",\"\",LEFT(referentes!AJ2045,FIND(\"*-*\",referentes!AJ2045)-1)),referentes!AJ2045))","v":""},null,""]
[null,null,null,null,null,null,null,null,null,null,null,null,null,null,null,null,null,null,{"$f":"IF(referentes!AJ2046=\"\",\"\",IF(IFERROR(SEARCH(\"*-*\",referentes!AJ2046),2)=1,IF(referentes!AJ2046=\"\",\"\",LEFT(referentes!AJ2046,FIND(\"*-*\",referentes!AJ2046)-1)),referentes!AJ2046))","v":""},null,""]
[null,null,null,null,null,null,null,null,null,null,null,null,null,null,null,null,null,null,{"$f":"IF(referentes!AJ2047=\"\",\"\",IF(IFERROR(SEARCH(\"*-*\",referentes!AJ2047),2)=1,IF(referentes!AJ2047=\"\",\"\",LEFT(referentes!AJ2047,FIND(\"*-*\",referentes!AJ2047)-1)),referentes!AJ2047))","v":""},null,""]
[null,null,null,null,null,null,null,null,null,null,null,null,null,null,null,null,null,null,{"$f":"IF(referentes!AJ2048=\"\",\"\",IF(IFERROR(SEARCH(\"*-*\",referentes!AJ2048),2)=1,IF(referentes!AJ2048=\"\",\"\",LEFT(referentes!AJ2048,FIND(\"*-*\",referentes!AJ2048)-1)),referentes!AJ2048))","v":""},null,""]
[null,null,null,null,null,null,null,null,null,null,null,null,null,null,null,null,null,null,{"$f":"IF(referentes!AJ2049=\"\",\"\",IF(IFERROR(SEARCH(\"*-*\",referentes!AJ2049),2)=1,IF(referentes!AJ2049=\"\",\"\",LEFT(referentes!AJ2049,FIND(\"*-*\",referentes!AJ2049)-1)),referentes!AJ2049))","v":""},null,""]
[null,null,null,null,null,null,null,null,null,null,null,null,null,null,null,null,null,null,{"$f":"IF(referentes!AJ2050=\"\",\"\",IF(IFERROR(SEARCH(\"*-*\",referentes!AJ2050),2)=1,IF(referentes!AJ2050=\"\",\"\",LEFT(referentes!AJ2050,FIND(\"*-*\",referentes!AJ2050)-1)),referentes!AJ2050))","v":""},null,""]
[null,null,null,null,null,null,null,null,null,null,null,null,null,null,null,null,null,null,{"$f":"IF(referentes!AJ2051=\"\",\"\",IF(IFERROR(SEARCH(\"*-*\",referentes!AJ2051),2)=1,IF(referentes!AJ2051=\"\",\"\",LEFT(referentes!AJ2051,FIND(\"*-*\",referentes!AJ2051)-1)),referentes!AJ2051))","v":""},null,""]
[null,null,null,null,null,null,null,null,null,null,null,null,null,null,null,null,null,null,{"$f":"IF(referentes!AJ2052=\"\",\"\",IF(IFERROR(SEARCH(\"*-*\",referentes!AJ2052),2)=1,IF(referentes!AJ2052=\"\",\"\",LEFT(referentes!AJ2052,FIND(\"*-*\",referentes!AJ2052)-1)),referentes!AJ2052))","v":""},null,""]
[null,null,null,null,null,null,null,null,null,null,null,null,null,null,null,null,null,null,{"$f":"IF(referentes!AJ2053=\"\",\"\",IF(IFERROR(SEARCH(\"*-*\",referentes!AJ2053),2)=1,IF(referentes!AJ2053=\"\",\"\",LEFT(referentes!AJ2053,FIND(\"*-*\",referentes!AJ2053)-1)),referentes!AJ2053))","v":""},null,""]
[null,null,null,null,null,null,null,null,null,null,null,null,null,null,null,null,null,null,{"$f":"IF(referentes!AJ2054=\"\",\"\",IF(IFERROR(SEARCH(\"*-*\",referentes!AJ2054),2)=1,IF(referentes!AJ2054=\"\",\"\",LEFT(referentes!AJ2054,FIND(\"*-*\",referentes!AJ2054)-1)),referentes!AJ2054))","v":""},null,""]
[null,null,null,null,null,null,null,null,null,null,null,null,null,null,null,null,null,null,{"$f":"IF(referentes!AJ2055=\"\",\"\",IF(IFERROR(SEARCH(\"*-*\",referentes!AJ2055),2)=1,IF(referentes!AJ2055=\"\",\"\",LEFT(referentes!AJ2055,FIND(\"*-*\",referentes!AJ2055)-1)),referentes!AJ2055))","v":""},null,""]
[null,null,null,null,null,null,null,null,null,null,null,null,null,null,null,null,null,null,{"$f":"IF(referentes!AJ2056=\"\",\"\",IF(IFERROR(SEARCH(\"*-*\",referentes!AJ2056),2)=1,IF(referentes!AJ2056=\"\",\"\",LEFT(referentes!AJ2056,FIND(\"*-*\",referentes!AJ2056)-1)),referentes!AJ2056))","v":""},null,{"$f":"IF(IFERROR(T2055,R2055)=S2055,\"\",R2055)","v":""}]
[null,null,null,null,null,null,null,null,null,null,null,null,null,null,null,null,null,null,{"$f":"IF(referentes!AJ2057=\"\",\"\",IF(IFERROR(SEARCH(\"*-*\",referentes!AJ2057),2)=1,IF(referentes!AJ2057=\"\",\"\",LEFT(referentes!AJ2057,FIND(\"*-*\",referentes!AJ2057)-1)),referentes!AJ2057))","v":""},null,""]
[null,null,null,null,null,null,null,null,null,null,null,null,null,null,null,null,null,null,{"$f":"IF(referentes!AJ2058=\"\",\"\",IF(IFERROR(SEARCH(\"*-*\",referentes!AJ2058),2)=1,IF(referentes!AJ2058=\"\",\"\",LEFT(referentes!AJ2058,FIND(\"*-*\",referentes!AJ2058)-1)),referentes!AJ2058))","v":""},null,""]
[null,null,null,null,null,null,null,null,null,null,null,null,null,null,null,null,null,null,{"$f":"IF(referentes!AJ2059=\"\",\"\",IF(IFERROR(SEARCH(\"*-*\",referentes!AJ2059),2)=1,IF(referentes!AJ2059=\"\",\"\",LEFT(referentes!AJ2059,FIND(\"*-*\",referentes!AJ2059)-1)),referentes!AJ2059))","v":""},null,""]
[null,null,null,null,null,null,null,null,null,null,null,null,null,null,null,null,null,null,{"$f":"IF(referentes!AJ2060=\"\",\"\",IF(IFERROR(SEARCH(\"*-*\",referentes!AJ2060),2)=1,IF(referentes!AJ2060=\"\",\"\",LEFT(referentes!AJ2060,FIND(\"*-*\",referentes!AJ2060)-1)),referentes!AJ2060))","v":""},null,""]
[null,null,null,null,null,null,null,null,null,null,null,null,null,null,null,null,null,null,{"$f":"IF(referentes!AJ2061=\"\",\"\",IF(IFERROR(SEARCH(\"*-*\",referentes!AJ2061),2)=1,IF(referentes!AJ2061=\"\",\"\",LEFT(referentes!AJ2061,FIND(\"*-*\",referentes!AJ2061)-1)),referentes!AJ2061))","v":""},null,""]
[null,null,null,null,null,null,null,null,null,null,null,null,null,null,null,null,null,null,{"$f":"IF(referentes!AJ2062=\"\",\"\",IF(IFERROR(SEARCH(\"*-*\",referentes!AJ2062),2)=1,IF(referentes!AJ2062=\"\",\"\",LEFT(referentes!AJ2062,FIND(\"*-*\",referentes!AJ2062)-1)),referentes!AJ2062))","v":""},null,""]
[null,null,null,null,null,null,null,null,null,null,null,null,null,null,null,null,null,null,{"$f":"IF(referentes!AJ2063=\"\",\"\",IF(IFERROR(SEARCH(\"*-*\",referentes!AJ2063),2)=1,IF(referentes!AJ2063=\"\",\"\",LEFT(referentes!AJ2063,FIND(\"*-*\",referentes!AJ2063)-1)),referentes!AJ2063))","v":""},null,""]
[null,null,null,null,null,null,null,null,null,null,null,null,null,null,null,null,null,null,{"$f":"IF(referentes!AJ2064=\"\",\"\",IF(IFERROR(SEARCH(\"*-*\",referentes!AJ2064),2)=1,IF(referentes!AJ2064=\"\",\"\",LEFT(referentes!AJ2064,FIND(\"*-*\",referentes!AJ2064)-1)),referentes!AJ2064))","v":""},null,""]
[null,null,null,null,null,null,null,null,null,null,null,null,null,null,null,null,null,null,{"$f":"IF(referentes!AJ2065=\"\",\"\",IF(IFERROR(SEARCH(\"*-*\",referentes!AJ2065),2)=1,IF(referentes!AJ2065=\"\",\"\",LEFT(referentes!AJ2065,FIND(\"*-*\",referentes!AJ2065)-1)),referentes!AJ2065))","v":""},null,""]
[null,null,null,null,null,null,null,null,null,null,null,null,null,null,null,null,null,null,{"$f":"IF(referentes!AJ2066=\"\",\"\",IF(IFERROR(SEARCH(\"*-*\",referentes!AJ2066),2)=1,IF(referentes!AJ2066=\"\",\"\",LEFT(referentes!AJ2066,FIND(\"*-*\",referentes!AJ2066)-1)),referentes!AJ2066))","v":""},null,""]
[null,null,null,null,null,null,null,null,null,null,null,null,null,null,null,null,null,null,{"$f":"IF(referentes!AJ2067=\"\",\"\",IF(IFERROR(SEARCH(\"*-*\",referentes!AJ2067),2)=1,IF(referentes!AJ2067=\"\",\"\",LEFT(referentes!AJ2067,FIND(\"*-*\",referentes!AJ2067)-1)),referentes!AJ2067))","v":""},null,""]
[null,null,null,null,null,null,null,null,null,null,null,null,null,null,null,null,null,null,{"$f":"IF(referentes!AJ2068=\"\",\"\",IF(IFERROR(SEARCH(\"*-*\",referentes!AJ2068),2)=1,IF(referentes!AJ2068=\"\",\"\",LEFT(referentes!AJ2068,FIND(\"*-*\",referentes!AJ2068)-1)),referentes!AJ2068))","v":""},null,""]
[null,null,null,null,null,null,null,null,null,null,null,null,null,null,null,null,null,null,{"$f":"IF(referentes!AJ2069=\"\",\"\",IF(IFERROR(SEARCH(\"*-*\",referentes!AJ2069),2)=1,IF(referentes!AJ2069=\"\",\"\",LEFT(referentes!AJ2069,FIND(\"*-*\",referentes!AJ2069)-1)),referentes!AJ2069))","v":""},null,""]
[null,null,null,null,null,null,null,null,null,null,null,null,null,null,null,null,null,null,{"$f":"IF(referentes!AJ2070=\"\",\"\",IF(IFERROR(SEARCH(\"*-*\",referentes!AJ2070),2)=1,IF(referentes!AJ2070=\"\",\"\",LEFT(referentes!AJ2070,FIND(\"*-*\",referentes!AJ2070)-1)),referentes!AJ2070))","v":""},null,""]
[null,null,null,null,null,null,null,null,null,null,null,null,null,null,null,null,null,null,{"$f":"IF(referentes!AJ2071=\"\",\"\",IF(IFERROR(SEARCH(\"*-*\",referentes!AJ2071),2)=1,IF(referentes!AJ2071=\"\",\"\",LEFT(referentes!AJ2071,FIND(\"*-*\",referentes!AJ2071)-1)),referentes!AJ2071))","v":""},null,""]
[null,null,null,null,null,null,null,null,null,null,null,null,null,null,null,null,null,null,{"$f":"IF(referentes!AJ2072=\"\",\"\",IF(IFERROR(SEARCH(\"*-*\",referentes!AJ2072),2)=1,IF(referentes!AJ2072=\"\",\"\",LEFT(referentes!AJ2072,FIND(\"*-*\",referentes!AJ2072)-1)),referentes!AJ2072))","v":""},null,""]
[null,null,null,null,null,null,null,null,null,null,null,null,null,null,null,null,null,null,{"$f":"IF(referentes!AJ2073=\"\",\"\",IF(IFERROR(SEARCH(\"*-*\",referentes!AJ2073),2)=1,IF(referentes!AJ2073=\"\",\"\",LEFT(referentes!AJ2073,FIND(\"*-*\",referentes!AJ2073)-1)),referentes!AJ2073))","v":""},null,""]
[null,null,null,null,null,null,null,null,null,null,null,null,null,null,null,null,null,null,{"$f":"IF(referentes!AJ2074=\"\",\"\",IF(IFERROR(SEARCH(\"*-*\",referentes!AJ2074),2)=1,IF(referentes!AJ2074=\"\",\"\",LEFT(referentes!AJ2074,FIND(\"*-*\",referentes!AJ2074)-1)),referentes!AJ2074))","v":""},null,""]
[null,null,null,null,null,null,null,null,null,null,null,null,null,null,null,null,null,null,{"$f":"IF(referentes!AJ2075=\"\",\"\",IF(IFERROR(SEARCH(\"*-*\",referentes!AJ2075),2)=1,IF(referentes!AJ2075=\"\",\"\",LEFT(referentes!AJ2075,FIND(\"*-*\",referentes!AJ2075)-1)),referentes!AJ2075))","v":""},null,""]
[null,null,null,null,null,null,null,null,null,null,null,null,null,null,null,null,null,null,{"$f":"IF(referentes!AJ2076=\"\",\"\",IF(IFERROR(SEARCH(\"*-*\",referentes!AJ2076),2)=1,IF(referentes!AJ2076=\"\",\"\",LEFT(referentes!AJ2076,FIND(\"*-*\",referentes!AJ2076)-1)),referentes!AJ2076))","v":""},null,""]
[null,null,null,null,null,null,null,null,null,null,null,null,null,null,null,null,null,null,{"$f":"IF(referentes!AJ2077=\"\",\"\",IF(IFERROR(SEARCH(\"*-*\",referentes!AJ2077),2)=1,IF(referentes!AJ2077=\"\",\"\",LEFT(referentes!AJ2077,FIND(\"*-*\",referentes!AJ2077)-1)),referentes!AJ2077))","v":""},null,""]
[null,null,null,null,null,null,null,null,null,null,null,null,null,null,null,null,null,null,{"$f":"IF(referentes!AJ2078=\"\",\"\",IF(IFERROR(SEARCH(\"*-*\",referentes!AJ2078),2)=1,IF(referentes!AJ2078=\"\",\"\",LEFT(referentes!AJ2078,FIND(\"*-*\",referentes!AJ2078)-1)),referentes!AJ2078))","v":""},null,""]
[null,null,null,null,null,null,null,null,null,null,null,null,null,null,null,null,null,null,{"$f":"IF(referentes!AJ2079=\"\",\"\",IF(IFERROR(SEARCH(\"*-*\",referentes!AJ2079),2)=1,IF(referentes!AJ2079=\"\",\"\",LEFT(referentes!AJ2079,FIND(\"*-*\",referentes!AJ2079)-1)),referentes!AJ2079))","v":""},null,""]
[null,null,null,null,null,null,null,null,null,null,null,null,null,null,null,null,null,null,{"$f":"IF(referentes!AJ2080=\"\",\"\",IF(IFERROR(SEARCH(\"*-*\",referentes!AJ2080),2)=1,IF(referentes!AJ2080=\"\",\"\",LEFT(referentes!AJ2080,FIND(\"*-*\",referentes!AJ2080)-1)),referentes!AJ2080))","v":""},null,""]
[null,null,null,null,null,null,null,null,null,null,null,null,null,null,null,null,null,null,{"$f":"IF(referentes!AJ2081=\"\",\"\",IF(IFERROR(SEARCH(\"*-*\",referentes!AJ2081),2)=1,IF(referentes!AJ2081=\"\",\"\",LEFT(referentes!AJ2081,FIND(\"*-*\",referentes!AJ2081)-1)),referentes!AJ2081))","v":""},null,""]
[null,null,null,null,null,null,null,null,null,null,null,null,null,null,null,null,null,null,{"$f":"IF(referentes!AJ2082=\"\",\"\",IF(IFERROR(SEARCH(\"*-*\",referentes!AJ2082),2)=1,IF(referentes!AJ2082=\"\",\"\",LEFT(referentes!AJ2082,FIND(\"*-*\",referentes!AJ2082)-1)),referentes!AJ2082))","v":""},null,""]
[null,null,null,null,null,null,null,null,null,null,null,null,null,null,null,null,null,null,{"$f":"IF(referentes!AJ2083=\"\",\"\",IF(IFERROR(SEARCH(\"*-*\",referentes!AJ2083),2)=1,IF(referentes!AJ2083=\"\",\"\",LEFT(referentes!AJ2083,FIND(\"*-*\",referentes!AJ2083)-1)),referentes!AJ2083))","v":""},null,""]
[null,null,null,null,null,null,null,null,null,null,null,null,null,null,null,null,null,null,{"$f":"IF(referentes!AJ2084=\"\",\"\",IF(IFERROR(SEARCH(\"*-*\",referentes!AJ2084),2)=1,IF(referentes!AJ2084=\"\",\"\",LEFT(referentes!AJ2084,FIND(\"*-*\",referentes!AJ2084)-1)),referentes!AJ2084))","v":""},null,""]
[null,null,null,null,null,null,null,null,null,null,null,null,null,null,null,null,null,null,{"$f":"IF(referentes!AJ2085=\"\",\"\",IF(IFERROR(SEARCH(\"*-*\",referentes!AJ2085),2)=1,IF(referentes!AJ2085=\"\",\"\",LEFT(referentes!AJ2085,FIND(\"*-*\",referentes!AJ2085)-1)),referentes!AJ2085))","v":""},null,""]
[null,null,null,null,null,null,null,null,null,null,null,null,null,null,null,null,null,null,{"$f":"IF(referentes!AJ2086=\"\",\"\",IF(IFERROR(SEARCH(\"*-*\",referentes!AJ2086),2)=1,IF(referentes!AJ2086=\"\",\"\",LEFT(referentes!AJ2086,FIND(\"*-*\",referentes!AJ2086)-1)),referentes!AJ2086))","v":""},null,""]
[null,null,null,null,null,null,null,null,null,null,null,null,null,null,null,null,null,null,{"$f":"IF(referentes!AJ2087=\"\",\"\",IF(IFERROR(SEARCH(\"*-*\",referentes!AJ2087),2)=1,IF(referentes!AJ2087=\"\",\"\",LEFT(referentes!AJ2087,FIND(\"*-*\",referentes!AJ2087)-1)),referentes!AJ2087))","v":""},null,""]
[null,null,null,null,null,null,null,null,null,null,null,null,null,null,null,null,null,null,{"$f":"IF(referentes!AJ2088=\"\",\"\",IF(IFERROR(SEARCH(\"*-*\",referentes!AJ2088),2)=1,IF(referentes!AJ2088=\"\",\"\",LEFT(referentes!AJ2088,FIND(\"*-*\",referentes!AJ2088)-1)),referentes!AJ2088))","v":""},null,""]
[null,null,null,null,null,null,null,null,null,null,null,null,null,null,null,null,null,null,{"$f":"IF(referentes!AJ2089=\"\",\"\",IF(IFERROR(SEARCH(\"*-*\",referentes!AJ2089),2)=1,IF(referentes!AJ2089=\"\",\"\",LEFT(referentes!AJ2089,FIND(\"*-*\",referentes!AJ2089)-1)),referentes!AJ2089))","v":""},null,""]
[null,null,null,null,null,null,null,null,null,null,null,null,null,null,null,null,null,null,{"$f":"IF(referentes!AJ2090=\"\",\"\",IF(IFERROR(SEARCH(\"*-*\",referentes!AJ2090),2)=1,IF(referentes!AJ2090=\"\",\"\",LEFT(referentes!AJ2090,FIND(\"*-*\",referentes!AJ2090)-1)),referentes!AJ2090))","v":""},null,""]
[null,null,null,null,null,null,null,null,null,null,null,null,null,null,null,null,null,null,{"$f":"IF(referentes!AJ2091=\"\",\"\",IF(IFERROR(SEARCH(\"*-*\",referentes!AJ2091),2)=1,IF(referentes!AJ2091=\"\",\"\",LEFT(referentes!AJ2091,FIND(\"*-*\",referentes!AJ2091)-1)),referentes!AJ2091))","v":""},null,""]
[null,null,null,null,null,null,null,null,null,null,null,null,null,null,null,null,null,null,{"$f":"IF(referentes!AJ2092=\"\",\"\",IF(IFERROR(SEARCH(\"*-*\",referentes!AJ2092),2)=1,IF(referentes!AJ2092=\"\",\"\",LEFT(referentes!AJ2092,FIND(\"*-*\",referentes!AJ2092)-1)),referentes!AJ2092))","v":""},null,""]
[null,null,null,null,null,null,null,null,null,null,null,null,null,null,null,null,null,null,{"$f":"IF(referentes!AJ2093=\"\",\"\",IF(IFERROR(SEARCH(\"*-*\",referentes!AJ2093),2)=1,IF(referentes!AJ2093=\"\",\"\",LEFT(referentes!AJ2093,FIND(\"*-*\",referentes!AJ2093)-1)),referentes!AJ2093))","v":""},null,""]
[null,null,null,null,null,null,null,null,null,null,null,null,null,null,null,null,null,null,{"$f":"IF(referentes!AJ2094=\"\",\"\",IF(IFERROR(SEARCH(\"*-*\",referentes!AJ2094),2)=1,IF(referentes!AJ2094=\"\",\"\",LEFT(referentes!AJ2094,FIND(\"*-*\",referentes!AJ2094)-1)),referentes!AJ2094))","v":""},null,""]
[null,null,null,null,null,null,null,null,null,null,null,null,null,null,null,null,null,null,{"$f":"IF(referentes!AJ2095=\"\",\"\",IF(IFERROR(SEARCH(\"*-*\",referentes!AJ2095),2)=1,IF(referentes!AJ2095=\"\",\"\",LEFT(referentes!AJ2095,FIND(\"*-*\",referentes!AJ2095)-1)),referentes!AJ2095))","v":""},null,""]
[null,null,null,null,null,null,null,null,null,null,null,null,null,null,null,null,null,null,{"$f":"IF(referentes!AJ2096=\"\",\"\",IF(IFERROR(SEARCH(\"*-*\",referentes!AJ2096),2)=1,IF(referentes!AJ2096=\"\",\"\",LEFT(referentes!AJ2096,FIND(\"*-*\",referentes!AJ2096)-1)),referentes!AJ2096))","v":""},null,""]
[null,null,null,null,null,null,null,null,null,null,null,null,null,null,null,null,null,null,{"$f":"IF(referentes!AJ2097=\"\",\"\",IF(IFERROR(SEARCH(\"*-*\",referentes!AJ2097),2)=1,IF(referentes!AJ2097=\"\",\"\",LEFT(referentes!AJ2097,FIND(\"*-*\",referentes!AJ2097)-1)),referentes!AJ2097))","v":""},null,""]
[null,null,null,null,null,null,null,null,null,null,null,null,null,null,null,null,null,null,{"$f":"IF(referentes!AJ2098=\"\",\"\",IF(IFERROR(SEARCH(\"*-*\",referentes!AJ2098),2)=1,IF(referentes!AJ2098=\"\",\"\",LEFT(referentes!AJ2098,FIND(\"*-*\",referentes!AJ2098)-1)),referentes!AJ2098))","v":""},null,""]
[null,null,null,null,null,null,null,null,null,null,null,null,null,null,null,null,null,null,{"$f":"IF(referentes!AJ2099=\"\",\"\",IF(IFERROR(SEARCH(\"*-*\",referentes!AJ2099),2)=1,IF(referentes!AJ2099=\"\",\"\",LEFT(referentes!AJ2099,FIND(\"*-*\",referentes!AJ2099)-1)),referentes!AJ2099))","v":""},null,""]
[null,null,null,null,null,null,null,null,null,null,null,null,null,null,null,null,null,null,{"$f":"IF(referentes!AJ2100=\"\",\"\",IF(IFERROR(SEARCH(\"*-*\",referentes!AJ2100),2)=1,IF(referentes!AJ2100=\"\",\"\",LEFT(referentes!AJ2100,FIND(\"*-*\",referentes!AJ2100)-1)),referentes!AJ2100))","v":""},null,""]
[null,null,null,null,null,null,null,null,null,null,null,null,null,null,null,null,null,null,{"$f":"IF(referentes!AJ2101=\"\",\"\",IF(IFERROR(SEARCH(\"*-*\",referentes!AJ2101),2)=1,IF(referentes!AJ2101=\"\",\"\",LEFT(referentes!AJ2101,FIND(\"*-*\",referentes!AJ2101)-1)),referentes!AJ2101))","v":""},null,""]
[null,null,null,null,null,null,null,null,null,null,null,null,null,null,null,null,null,null,{"$f":"IF(referentes!AJ2102=\"\",\"\",IF(IFERROR(SEARCH(\"*-*\",referentes!AJ2102),2)=1,IF(referentes!AJ2102=\"\",\"\",LEFT(referentes!AJ2102,FIND(\"*-*\",referentes!AJ2102)-1)),referentes!AJ2102))","v":""},null,""]
[null,null,null,null,null,null,null,null,null,null,null,null,null,null,null,null,null,null,{"$f":"IF(referentes!AJ2103=\"\",\"\",IF(IFERROR(SEARCH(\"*-*\",referentes!AJ2103),2)=1,IF(referentes!AJ2103=\"\",\"\",LEFT(referentes!AJ2103,FIND(\"*-*\",referentes!AJ2103)-1)),referentes!AJ2103))","v":""},null,""]
[null,null,null,null,null,null,null,null,null,null,null,null,null,null,null,null,null,null,{"$f":"IF(referentes!AJ2104=\"\",\"\",IF(IFERROR(SEARCH(\"*-*\",referentes!AJ2104),2)=1,IF(referentes!AJ2104=\"\",\"\",LEFT(referentes!AJ2104,FIND(\"*-*\",referentes!AJ2104)-1)),referentes!AJ2104))","v":""},null,""]
[null,null,null,null,null,null,null,null,null,null,null,null,null,null,null,null,null,null,{"$f":"IF(referentes!AJ2105=\"\",\"\",IF(IFERROR(SEARCH(\"*-*\",referentes!AJ2105),2)=1,IF(referentes!AJ2105=\"\",\"\",LEFT(referentes!AJ2105,FIND(\"*-*\",referentes!AJ2105)-1)),referentes!AJ2105))","v":""},null,""]
[null,null,null,null,null,null,null,null,null,null,null,null,null,null,null,null,null,null,{"$f":"IF(referentes!AJ2106=\"\",\"\",IF(IFERROR(SEARCH(\"*-*\",referentes!AJ2106),2)=1,IF(referentes!AJ2106=\"\",\"\",LEFT(referentes!AJ2106,FIND(\"*-*\",referentes!AJ2106)-1)),referentes!AJ2106))","v":""},null,""]
[null,null,null,null,null,null,null,null,null,null,null,null,null,null,null,null,null,null,{"$f":"IF(referentes!AJ2107=\"\",\"\",IF(IFERROR(SEARCH(\"*-*\",referentes!AJ2107),2)=1,IF(referentes!AJ2107=\"\",\"\",LEFT(referentes!AJ2107,FIND(\"*-*\",referentes!AJ2107)-1)),referentes!AJ2107))","v":""},null,""]
[null,null,null,null,null,null,null,null,null,null,null,null,null,null,null,null,null,null,{"$f":"IF(referentes!AJ2108=\"\",\"\",IF(IFERROR(SEARCH(\"*-*\",referentes!AJ2108),2)=1,IF(referentes!AJ2108=\"\",\"\",LEFT(referentes!AJ2108,FIND(\"*-*\",referentes!AJ2108)-1)),referentes!AJ2108))","v":""},null,""]
[null,null,null,null,null,null,null,null,null,null,null,null,null,null,null,null,null,null,{"$f":"IF(referentes!AJ2109=\"\",\"\",IF(IFERROR(SEARCH(\"*-*\",referentes!AJ2109),2)=1,IF(referentes!AJ2109=\"\",\"\",LEFT(referentes!AJ2109,FIND(\"*-*\",referentes!AJ2109)-1)),referentes!AJ2109))","v":""},null,""]
[null,null,null,null,null,null,null,null,null,null,null,null,null,null,null,null,null,null,{"$f":"IF(referentes!AJ2110=\"\",\"\",IF(IFERROR(SEARCH(\"*-*\",referentes!AJ2110),2)=1,IF(referentes!AJ2110=\"\",\"\",LEFT(referentes!AJ2110,FIND(\"*-*\",referentes!AJ2110)-1)),referentes!AJ2110))","v":""},null,""]
[null,null,null,null,null,null,null,null,null,null,null,null,null,null,null,null,null,null,{"$f":"IF(referentes!AJ2111=\"\",\"\",IF(IFERROR(SEARCH(\"*-*\",referentes!AJ2111),2)=1,IF(referentes!AJ2111=\"\",\"\",LEFT(referentes!AJ2111,FIND(\"*-*\",referentes!AJ2111)-1)),referentes!AJ2111))","v":""},null,""]
[null,null,null,null,null,null,null,null,null,null,null,null,null,null,null,null,null,null,{"$f":"IF(referentes!AJ2112=\"\",\"\",IF(IFERROR(SEARCH(\"*-*\",referentes!AJ2112),2)=1,IF(referentes!AJ2112=\"\",\"\",LEFT(referentes!AJ2112,FIND(\"*-*\",referentes!AJ2112)-1)),referentes!AJ2112))","v":""},null,""]
[null,null,null,null,null,null,null,null,null,null,null,null,null,null,null,null,null,null,{"$f":"IF(referentes!AJ2113=\"\",\"\",IF(IFERROR(SEARCH(\"*-*\",referentes!AJ2113),2)=1,IF(referentes!AJ2113=\"\",\"\",LEFT(referentes!AJ2113,FIND(\"*-*\",referentes!AJ2113)-1)),referentes!AJ2113))","v":""},null,""]
[null,null,null,null,null,null,null,null,null,null,null,null,null,null,null,null,null,null,{"$f":"IF(referentes!AJ2114=\"\",\"\",IF(IFERROR(SEARCH(\"*-*\",referentes!AJ2114),2)=1,IF(referentes!AJ2114=\"\",\"\",LEFT(referentes!AJ2114,FIND(\"*-*\",referentes!AJ2114)-1)),referentes!AJ2114))","v":""},null,""]
[null,null,null,null,null,null,null,null,null,null,null,null,null,null,null,null,null,null,{"$f":"IF(referentes!AJ2115=\"\",\"\",IF(IFERROR(SEARCH(\"*-*\",referentes!AJ2115),2)=1,IF(referentes!AJ2115=\"\",\"\",LEFT(referentes!AJ2115,FIND(\"*-*\",referentes!AJ2115)-1)),referentes!AJ2115))","v":""},null,""]
[null,null,null,null,null,null,null,null,null,null,null,null,null,null,null,null,null,null,{"$f":"IF(referentes!AJ2116=\"\",\"\",IF(IFERROR(SEARCH(\"*-*\",referentes!AJ2116),2)=1,IF(referentes!AJ2116=\"\",\"\",LEFT(referentes!AJ2116,FIND(\"*-*\",referentes!AJ2116)-1)),referentes!AJ2116))","v":""},null,""]
[null,null,null,null,null,null,null,null,null,null,null,null,null,null,null,null,null,null,{"$f":"IF(referentes!AJ2117=\"\",\"\",IF(IFERROR(SEARCH(\"*-*\",referentes!AJ2117),2)=1,IF(referentes!AJ2117=\"\",\"\",LEFT(referentes!AJ2117,FIND(\"*-*\",referentes!AJ2117)-1)),referentes!AJ2117))","v":""},null,""]
[null,null,null,null,null,null,null,null,null,null,null,null,null,null,null,null,null,null,{"$f":"IF(referentes!AJ2118=\"\",\"\",IF(IFERROR(SEARCH(\"*-*\",referentes!AJ2118),2)=1,IF(referentes!AJ2118=\"\",\"\",LEFT(referentes!AJ2118,FIND(\"*-*\",referentes!AJ2118)-1)),referentes!AJ2118))","v":""},null,""]
[null,null,null,null,null,null,null,null,null,null,null,null,null,null,null,null,null,null,{"$f":"IF(referentes!AJ2119=\"\",\"\",IF(IFERROR(SEARCH(\"*-*\",referentes!AJ2119),2)=1,IF(referentes!AJ2119=\"\",\"\",LEFT(referentes!AJ2119,FIND(\"*-*\",referentes!AJ2119)-1)),referentes!AJ2119))","v":""},null,""]
[null,null,null,null,null,null,null,null,null,null,null,null,null,null,null,null,null,null,{"$f":"IF(referentes!AJ2120=\"\",\"\",IF(IFERROR(SEARCH(\"*-*\",referentes!AJ2120),2)=1,IF(referentes!AJ2120=\"\",\"\",LEFT(referentes!AJ2120,FIND(\"*-*\",referentes!AJ2120)-1)),referentes!AJ2120))","v":""},null,{"$f":"IF(IFERROR(T2119,R2119)=S2119,\"\",R2119)","v":""}]
[null,null,null,null,null,null,null,null,null,null,null,null,null,null,null,null,null,null,{"$f":"IF(referentes!AJ2121=\"\",\"\",IF(IFERROR(SEARCH(\"*-*\",referentes!AJ2121),2)=1,IF(referentes!AJ2121=\"\",\"\",LEFT(referentes!AJ2121,FIND(\"*-*\",referentes!AJ2121)-1)),referentes!AJ2121))","v":""},null,""]
[null,null,null,null,null,null,null,null,null,null,null,null,null,null,null,null,null,null,{"$f":"IF(referentes!AJ2122=\"\",\"\",IF(IFERROR(SEARCH(\"*-*\",referentes!AJ2122),2)=1,IF(referentes!AJ2122=\"\",\"\",LEFT(referentes!AJ2122,FIND(\"*-*\",referentes!AJ2122)-1)),referentes!AJ2122))","v":""},null,""]
[null,null,null,null,null,null,null,null,null,null,null,null,null,null,null,null,null,null,{"$f":"IF(referentes!AJ2123=\"\",\"\",IF(IFERROR(SEARCH(\"*-*\",referentes!AJ2123),2)=1,IF(referentes!AJ2123=\"\",\"\",LEFT(referentes!AJ2123,FIND(\"*-*\",referentes!AJ2123)-1)),referentes!AJ2123))","v":""},null,""]
[null,null,null,null,null,null,null,null,null,null,null,null,null,null,null,null,null,null,{"$f":"IF(referentes!AJ2124=\"\",\"\",IF(IFERROR(SEARCH(\"*-*\",referentes!AJ2124),2)=1,IF(referentes!AJ2124=\"\",\"\",LEFT(referentes!AJ2124,FIND(\"*-*\",referentes!AJ2124)-1)),referentes!AJ2124))","v":""},null,""]
[null,null,null,null,null,null,null,null,null,null,null,null,null,null,null,null,null,null,{"$f":"IF(referentes!AJ2125=\"\",\"\",IF(IFERROR(SEARCH(\"*-*\",referentes!AJ2125),2)=1,IF(referentes!AJ2125=\"\",\"\",LEFT(referentes!AJ2125,FIND(\"*-*\",referentes!AJ2125)-1)),referentes!AJ2125))","v":""},null,""]
[null,null,null,null,null,null,null,null,null,null,null,null,null,null,null,null,null,null,{"$f":"IF(referentes!AJ2126=\"\",\"\",IF(IFERROR(SEARCH(\"*-*\",referentes!AJ2126),2)=1,IF(referentes!AJ2126=\"\",\"\",LEFT(referentes!AJ2126,FIND(\"*-*\",referentes!AJ2126)-1)),referentes!AJ2126))","v":""},null,""]
[null,null,null,null,null,null,null,null,null,null,null,null,null,null,null,null,null,null,{"$f":"IF(referentes!AJ2127=\"\",\"\",IF(IFERROR(SEARCH(\"*-*\",referentes!AJ2127),2)=1,IF(referentes!AJ2127=\"\",\"\",LEFT(referentes!AJ2127,FIND(\"*-*\",referentes!AJ2127)-1)),referentes!AJ2127))","v":""},null,""]
[null,null,null,null,null,null,null,null,null,null,null,null,null,null,null,null,null,null,{"$f":"IF(referentes!AJ2128=\"\",\"\",IF(IFERROR(SEARCH(\"*-*\",referentes!AJ2128),2)=1,IF(referentes!AJ2128=\"\",\"\",LEFT(referentes!AJ2128,FIND(\"*-*\",referentes!AJ2128)-1)),referentes!AJ2128))","v":""},null,""]
[null,null,null,null,null,null,null,null,null,null,null,null,null,null,null,null,null,null,{"$f":"IF(referentes!AJ2129=\"\",\"\",IF(IFERROR(SEARCH(\"*-*\",referentes!AJ2129),2)=1,IF(referentes!AJ2129=\"\",\"\",LEFT(referentes!AJ2129,FIND(\"*-*\",referentes!AJ2129)-1)),referentes!AJ2129))","v":""},null,""]
[null,null,null,null,null,null,null,null,null,null,null,null,null,null,null,null,null,null,{"$f":"IF(referentes!AJ2130=\"\",\"\",IF(IFERROR(SEARCH(\"*-*\",referentes!AJ2130),2)=1,IF(referentes!AJ2130=\"\",\"\",LEFT(referentes!AJ2130,FIND(\"*-*\",referentes!AJ2130)-1)),referentes!AJ2130))","v":""},null,""]
[null,null,null,null,null,null,null,null,null,null,null,null,null,null,null,null,null,null,{"$f":"IF(referentes!AJ2131=\"\",\"\",IF(IFERROR(SEARCH(\"*-*\",referentes!AJ2131),2)=1,IF(referentes!AJ2131=\"\",\"\",LEFT(referentes!AJ2131,FIND(\"*-*\",referentes!AJ2131)-1)),referentes!AJ2131))","v":""},null,""]
[null,null,null,null,null,null,null,null,null,null,null,null,null,null,null,null,null,null,{"$f":"IF(referentes!AJ2132=\"\",\"\",IF(IFERROR(SEARCH(\"*-*\",referentes!AJ2132),2)=1,IF(referentes!AJ2132=\"\",\"\",LEFT(referentes!AJ2132,FIND(\"*-*\",referentes!AJ2132)-1)),referentes!AJ2132))","v":""},null,""]
[null,null,null,null,null,null,null,null,null,null,null,null,null,null,null,null,null,null,{"$f":"IF(referentes!AJ2133=\"\",\"\",IF(IFERROR(SEARCH(\"*-*\",referentes!AJ2133),2)=1,IF(referentes!AJ2133=\"\",\"\",LEFT(referentes!AJ2133,FIND(\"*-*\",referentes!AJ2133)-1)),referentes!AJ2133))","v":""},null,""]
[null,null,null,null,null,null,null,null,null,null,null,null,null,null,null,null,null,null,{"$f":"IF(referentes!AJ2134=\"\",\"\",IF(IFERROR(SEARCH(\"*-*\",referentes!AJ2134),2)=1,IF(referentes!AJ2134=\"\",\"\",LEFT(referentes!AJ2134,FIND(\"*-*\",referentes!AJ2134)-1)),referentes!AJ2134))","v":""},null,""]
[null,null,null,null,null,null,null,null,null,null,null,null,null,null,null,null,null,null,{"$f":"IF(referentes!AJ2135=\"\",\"\",IF(IFERROR(SEARCH(\"*-*\",referentes!AJ2135),2)=1,IF(referentes!AJ2135=\"\",\"\",LEFT(referentes!AJ2135,FIND(\"*-*\",referentes!AJ2135)-1)),referentes!AJ2135))","v":""},null,""]
[null,null,null,null,null,null,null,null,null,null,null,null,null,null,null,null,null,null,{"$f":"IF(referentes!AJ2136=\"\",\"\",IF(IFERROR(SEARCH(\"*-*\",referentes!AJ2136),2)=1,IF(referentes!AJ2136=\"\",\"\",LEFT(referentes!AJ2136,FIND(\"*-*\",referentes!AJ2136)-1)),referentes!AJ2136))","v":""},null,""]
[null,null,null,null,null,null,null,null,null,null,null,null,null,null,null,null,null,null,{"$f":"IF(referentes!AJ2137=\"\",\"\",IF(IFERROR(SEARCH(\"*-*\",referentes!AJ2137),2)=1,IF(referentes!AJ2137=\"\",\"\",LEFT(referentes!AJ2137,FIND(\"*-*\",referentes!AJ2137)-1)),referentes!AJ2137))","v":""},null,""]
[null,null,null,null,null,null,null,null,null,null,null,null,null,null,null,null,null,null,{"$f":"IF(referentes!AJ2138=\"\",\"\",IF(IFERROR(SEARCH(\"*-*\",referentes!AJ2138),2)=1,IF(referentes!AJ2138=\"\",\"\",LEFT(referentes!AJ2138,FIND(\"*-*\",referentes!AJ2138)-1)),referentes!AJ2138))","v":""},null,""]
[null,null,null,null,null,null,null,null,null,null,null,null,null,null,null,null,null,null,{"$f":"IF(referentes!AJ2139=\"\",\"\",IF(IFERROR(SEARCH(\"*-*\",referentes!AJ2139),2)=1,IF(referentes!AJ2139=\"\",\"\",LEFT(referentes!AJ2139,FIND(\"*-*\",referentes!AJ2139)-1)),referentes!AJ2139))","v":""},null,""]
[null,null,null,null,null,null,null,null,null,null,null,null,null,null,null,null,null,null,{"$f":"IF(referentes!AJ2140=\"\",\"\",IF(IFERROR(SEARCH(\"*-*\",referentes!AJ2140),2)=1,IF(referentes!AJ2140=\"\",\"\",LEFT(referentes!AJ2140,FIND(\"*-*\",referentes!AJ2140)-1)),referentes!AJ2140))","v":""},null,""]
[null,null,null,null,null,null,null,null,null,null,null,null,null,null,null,null,null,null,{"$f":"IF(referentes!AJ2141=\"\",\"\",IF(IFERROR(SEARCH(\"*-*\",referentes!AJ2141),2)=1,IF(referentes!AJ2141=\"\",\"\",LEFT(referentes!AJ2141,FIND(\"*-*\",referentes!AJ2141)-1)),referentes!AJ2141))","v":""},null,""]
[null,null,null,null,null,null,null,null,null,null,null,null,null,null,null,null,null,null,{"$f":"IF(referentes!AJ2142=\"\",\"\",IF(IFERROR(SEARCH(\"*-*\",referentes!AJ2142),2)=1,IF(referentes!AJ2142=\"\",\"\",LEFT(referentes!AJ2142,FIND(\"*-*\",referentes!AJ2142)-1)),referentes!AJ2142))","v":""},null,""]
[null,null,null,null,null,null,null,null,null,null,null,null,null,null,null,null,null,null,{"$f":"IF(referentes!AJ2143=\"\",\"\",IF(IFERROR(SEARCH(\"*-*\",referentes!AJ2143),2)=1,IF(referentes!AJ2143=\"\",\"\",LEFT(referentes!AJ2143,FIND(\"*-*\",referentes!AJ2143)-1)),referentes!AJ2143))","v":""},null,""]
[null,null,null,null,null,null,null,null,null,null,null,null,null,null,null,null,null,null,{"$f":"IF(referentes!AJ2144=\"\",\"\",IF(IFERROR(SEARCH(\"*-*\",referentes!AJ2144),2)=1,IF(referentes!AJ2144=\"\",\"\",LEFT(referentes!AJ2144,FIND(\"*-*\",referentes!AJ2144)-1)),referentes!AJ2144))","v":""},null,""]
[null,null,null,null,null,null,null,null,null,null,null,null,null,null,null,null,null,null,{"$f":"IF(referentes!AJ2145=\"\",\"\",IF(IFERROR(SEARCH(\"*-*\",referentes!AJ2145),2)=1,IF(referentes!AJ2145=\"\",\"\",LEFT(referentes!AJ2145,FIND(\"*-*\",referentes!AJ2145)-1)),referentes!AJ2145))","v":""},null,""]
[null,null,null,null,null,null,null,null,null,null,null,null,null,null,null,null,null,null,{"$f":"IF(referentes!AJ2146=\"\",\"\",IF(IFERROR(SEARCH(\"*-*\",referentes!AJ2146),2)=1,IF(referentes!AJ2146=\"\",\"\",LEFT(referentes!AJ2146,FIND(\"*-*\",referentes!AJ2146)-1)),referentes!AJ2146))","v":""},null,""]
[null,null,null,null,null,null,null,null,null,null,null,null,null,null,null,null,null,null,{"$f":"IF(referentes!AJ2147=\"\",\"\",IF(IFERROR(SEARCH(\"*-*\",referentes!AJ2147),2)=1,IF(referentes!AJ2147=\"\",\"\",LEFT(referentes!AJ2147,FIND(\"*-*\",referentes!AJ2147)-1)),referentes!AJ2147))","v":""},null,""]
[null,null,null,null,null,null,null,null,null,null,null,null,null,null,null,null,null,null,{"$f":"IF(referentes!AJ2148=\"\",\"\",IF(IFERROR(SEARCH(\"*-*\",referentes!AJ2148),2)=1,IF(referentes!AJ2148=\"\",\"\",LEFT(referentes!AJ2148,FIND(\"*-*\",referentes!AJ2148)-1)),referentes!AJ2148))","v":""},null,""]
[null,null,null,null,null,null,null,null,null,null,null,null,null,null,null,null,null,null,{"$f":"IF(referentes!AJ2149=\"\",\"\",IF(IFERROR(SEARCH(\"*-*\",referentes!AJ2149),2)=1,IF(referentes!AJ2149=\"\",\"\",LEFT(referentes!AJ2149,FIND(\"*-*\",referentes!AJ2149)-1)),referentes!AJ2149))","v":""},null,""]
[null,null,null,null,null,null,null,null,null,null,null,null,null,null,null,null,null,null,{"$f":"IF(referentes!AJ2150=\"\",\"\",IF(IFERROR(SEARCH(\"*-*\",referentes!AJ2150),2)=1,IF(referentes!AJ2150=\"\",\"\",LEFT(referentes!AJ2150,FIND(\"*-*\",referentes!AJ2150)-1)),referentes!AJ2150))","v":""},null,""]
[null,null,null,null,null,null,null,null,null,null,null,null,null,null,null,null,null,null,{"$f":"IF(referentes!AJ2151=\"\",\"\",IF(IFERROR(SEARCH(\"*-*\",referentes!AJ2151),2)=1,IF(referentes!AJ2151=\"\",\"\",LEFT(referentes!AJ2151,FIND(\"*-*\",referentes!AJ2151)-1)),referentes!AJ2151))","v":""},null,""]
[null,null,null,null,null,null,null,null,null,null,null,null,null,null,null,null,null,null,{"$f":"IF(referentes!AJ2152=\"\",\"\",IF(IFERROR(SEARCH(\"*-*\",referentes!AJ2152),2)=1,IF(referentes!AJ2152=\"\",\"\",LEFT(referentes!AJ2152,FIND(\"*-*\",referentes!AJ2152)-1)),referentes!AJ2152))","v":""},null,""]
[null,null,null,null,null,null,null,null,null,null,null,null,null,null,null,null,null,null,{"$f":"IF(referentes!AJ2153=\"\",\"\",IF(IFERROR(SEARCH(\"*-*\",referentes!AJ2153),2)=1,IF(referentes!AJ2153=\"\",\"\",LEFT(referentes!AJ2153,FIND(\"*-*\",referentes!AJ2153)-1)),referentes!AJ2153))","v":""},null,""]
[null,null,null,null,null,null,null,null,null,null,null,null,null,null,null,null,null,null,{"$f":"IF(referentes!AJ2154=\"\",\"\",IF(IFERROR(SEARCH(\"*-*\",referentes!AJ2154),2)=1,IF(referentes!AJ2154=\"\",\"\",LEFT(referentes!AJ2154,FIND(\"*-*\",referentes!AJ2154)-1)),referentes!AJ2154))","v":""},null,""]
[null,null,null,null,null,null,null,null,null,null,null,null,null,null,null,null,null,null,{"$f":"IF(referentes!AJ2155=\"\",\"\",IF(IFERROR(SEARCH(\"*-*\",referentes!AJ2155),2)=1,IF(referentes!AJ2155=\"\",\"\",LEFT(referentes!AJ2155,FIND(\"*-*\",referentes!AJ2155)-1)),referentes!AJ2155))","v":""},null,""]
[null,null,null,null,null,null,null,null,null,null,null,null,null,null,null,null,null,null,{"$f":"IF(referentes!AJ2156=\"\",\"\",IF(IFERROR(SEARCH(\"*-*\",referentes!AJ2156),2)=1,IF(referentes!AJ2156=\"\",\"\",LEFT(referentes!AJ2156,FIND(\"*-*\",referentes!AJ2156)-1)),referentes!AJ2156))","v":""},null,""]
[null,null,null,null,null,null,null,null,null,null,null,null,null,null,null,null,null,null,{"$f":"IF(referentes!AJ2157=\"\",\"\",IF(IFERROR(SEARCH(\"*-*\",referentes!AJ2157),2)=1,IF(referentes!AJ2157=\"\",\"\",LEFT(referentes!AJ2157,FIND(\"*-*\",referentes!AJ2157)-1)),referentes!AJ2157))","v":""},null,""]
[null,null,null,null,null,null,null,null,null,null,null,null,null,null,null,null,null,null,{"$f":"IF(referentes!AJ2158=\"\",\"\",IF(IFERROR(SEARCH(\"*-*\",referentes!AJ2158),2)=1,IF(referentes!AJ2158=\"\",\"\",LEFT(referentes!AJ2158,FIND(\"*-*\",referentes!AJ2158)-1)),referentes!AJ2158))","v":""},null,""]
[null,null,null,null,null,null,null,null,null,null,null,null,null,null,null,null,null,null,{"$f":"IF(referentes!AJ2159=\"\",\"\",IF(IFERROR(SEARCH(\"*-*\",referentes!AJ2159),2)=1,IF(referentes!AJ2159=\"\",\"\",LEFT(referentes!AJ2159,FIND(\"*-*\",referentes!AJ2159)-1)),referentes!AJ2159))","v":""},null,""]
[null,null,null,null,null,null,null,null,null,null,null,null,null,null,null,null,null,null,{"$f":"IF(referentes!AJ2160=\"\",\"\",IF(IFERROR(SEARCH(\"*-*\",referentes!AJ2160),2)=1,IF(referentes!AJ2160=\"\",\"\",LEFT(referentes!AJ2160,FIND(\"*-*\",referentes!AJ2160)-1)),referentes!AJ2160))","v":""},null,""]
[null,null,null,null,null,null,null,null,null,null,null,null,null,null,null,null,null,null,{"$f":"IF(referentes!AJ2161=\"\",\"\",IF(IFERROR(SEARCH(\"*-*\",referentes!AJ2161),2)=1,IF(referentes!AJ2161=\"\",\"\",LEFT(referentes!AJ2161,FIND(\"*-*\",referentes!AJ2161)-1)),referentes!AJ2161))","v":""},null,""]
[null,null,null,null,null,null,null,null,null,null,null,null,null,null,null,null,null,null,{"$f":"IF(referentes!AJ2162=\"\",\"\",IF(IFERROR(SEARCH(\"*-*\",referentes!AJ2162),2)=1,IF(referentes!AJ2162=\"\",\"\",LEFT(referentes!AJ2162,FIND(\"*-*\",referentes!AJ2162)-1)),referentes!AJ2162))","v":""},null,""]
[null,null,null,null,null,null,null,null,null,null,null,null,null,null,null,null,null,null,{"$f":"IF(referentes!AJ2163=\"\",\"\",IF(IFERROR(SEARCH(\"*-*\",referentes!AJ2163),2)=1,IF(referentes!AJ2163=\"\",\"\",LEFT(referentes!AJ2163,FIND(\"*-*\",referentes!AJ2163)-1)),referentes!AJ2163))","v":""},null,""]
[null,null,null,null,null,null,null,null,null,null,null,null,null,null,null,null,null,null,{"$f":"IF(referentes!AJ2164=\"\",\"\",IF(IFERROR(SEARCH(\"*-*\",referentes!AJ2164),2)=1,IF(referentes!AJ2164=\"\",\"\",LEFT(referentes!AJ2164,FIND(\"*-*\",referentes!AJ2164)-1)),referentes!AJ2164))","v":""},null,""]
[null,null,null,null,null,null,null,null,null,null,null,null,null,null,null,null,null,null,{"$f":"IF(referentes!AJ2165=\"\",\"\",IF(IFERROR(SEARCH(\"*-*\",referentes!AJ2165),2)=1,IF(referentes!AJ2165=\"\",\"\",LEFT(referentes!AJ2165,FIND(\"*-*\",referentes!AJ2165)-1)),referentes!AJ2165))","v":""},null,""]
[null,null,null,null,null,null,null,null,null,null,null,null,null,null,null,null,null,null,{"$f":"IF(referentes!AJ2166=\"\",\"\",IF(IFERROR(SEARCH(\"*-*\",referentes!AJ2166),2)=1,IF(referentes!AJ2166=\"\",\"\",LEFT(referentes!AJ2166,FIND(\"*-*\",referentes!AJ2166)-1)),referentes!AJ2166))","v":""},null,""]
[null,null,null,null,null,null,null,null,null,null,null,null,null,null,null,null,null,null,{"$f":"IF(referentes!AJ2167=\"\",\"\",IF(IFERROR(SEARCH(\"*-*\",referentes!AJ2167),2)=1,IF(referentes!AJ2167=\"\",\"\",LEFT(referentes!AJ2167,FIND(\"*-*\",referentes!AJ2167)-1)),referentes!AJ2167))","v":""},null,""]
[null,null,null,null,null,null,null,null,null,null,null,null,null,null,null,null,null,null,{"$f":"IF(referentes!AJ2168=\"\",\"\",IF(IFERROR(SEARCH(\"*-*\",referentes!AJ2168),2)=1,IF(referentes!AJ2168=\"\",\"\",LEFT(referentes!AJ2168,FIND(\"*-*\",referentes!AJ2168)-1)),referentes!AJ2168))","v":""},null,""]
[null,null,null,null,null,null,null,null,null,null,null,null,null,null,null,null,null,null,{"$f":"IF(referentes!AJ2169=\"\",\"\",IF(IFERROR(SEARCH(\"*-*\",referentes!AJ2169),2)=1,IF(referentes!AJ2169=\"\",\"\",LEFT(referentes!AJ2169,FIND(\"*-*\",referentes!AJ2169)-1)),referentes!AJ2169))","v":""},null,""]
[null,null,null,null,null,null,null,null,null,null,null,null,null,null,null,null,null,null,{"$f":"IF(referentes!AJ2170=\"\",\"\",IF(IFERROR(SEARCH(\"*-*\",referentes!AJ2170),2)=1,IF(referentes!AJ2170=\"\",\"\",LEFT(referentes!AJ2170,FIND(\"*-*\",referentes!AJ2170)-1)),referentes!AJ2170))","v":""},null,""]
[null,null,null,null,null,null,null,null,null,null,null,null,null,null,null,null,null,null,{"$f":"IF(referentes!AJ2171=\"\",\"\",IF(IFERROR(SEARCH(\"*-*\",referentes!AJ2171),2)=1,IF(referentes!AJ2171=\"\",\"\",LEFT(referentes!AJ2171,FIND(\"*-*\",referentes!AJ2171)-1)),referentes!AJ2171))","v":""},null,""]
[null,null,null,null,null,null,null,null,null,null,null,null,null,null,null,null,null,null,{"$f":"IF(referentes!AJ2172=\"\",\"\",IF(IFERROR(SEARCH(\"*-*\",referentes!AJ2172),2)=1,IF(referentes!AJ2172=\"\",\"\",LEFT(referentes!AJ2172,FIND(\"*-*\",referentes!AJ2172)-1)),referentes!AJ2172))","v":""},null,""]
[null,null,null,null,null,null,null,null,null,null,null,null,null,null,null,null,null,null,{"$f":"IF(referentes!AJ2173=\"\",\"\",IF(IFERROR(SEARCH(\"*-*\",referentes!AJ2173),2)=1,IF(referentes!AJ2173=\"\",\"\",LEFT(referentes!AJ2173,FIND(\"*-*\",referentes!AJ2173)-1)),referentes!AJ2173))","v":""},null,""]
[null,null,null,null,null,null,null,null,null,null,null,null,null,null,null,null,null,null,{"$f":"IF(referentes!AJ2174=\"\",\"\",IF(IFERROR(SEARCH(\"*-*\",referentes!AJ2174),2)=1,IF(referentes!AJ2174=\"\",\"\",LEFT(referentes!AJ2174,FIND(\"*-*\",referentes!AJ2174)-1)),referentes!AJ2174))","v":""},null,""]
[null,null,null,null,null,null,null,null,null,null,null,null,null,null,null,null,null,null,{"$f":"IF(referentes!AJ2175=\"\",\"\",IF(IFERROR(SEARCH(\"*-*\",referentes!AJ2175),2)=1,IF(referentes!AJ2175=\"\",\"\",LEFT(referentes!AJ2175,FIND(\"*-*\",referentes!AJ2175)-1)),referentes!AJ2175))","v":""},null,""]
[null,null,null,null,null,null,null,null,null,null,null,null,null,null,null,null,null,null,{"$f":"IF(referentes!AJ2176=\"\",\"\",IF(IFERROR(SEARCH(\"*-*\",referentes!AJ2176),2)=1,IF(referentes!AJ2176=\"\",\"\",LEFT(referentes!AJ2176,FIND(\"*-*\",referentes!AJ2176)-1)),referentes!AJ2176))","v":""},null,""]
[null,null,null,null,null,null,null,null,null,null,null,null,null,null,null,null,null,null,{"$f":"IF(referentes!AJ2177=\"\",\"\",IF(IFERROR(SEARCH(\"*-*\",referentes!AJ2177),2)=1,IF(referentes!AJ2177=\"\",\"\",LEFT(referentes!AJ2177,FIND(\"*-*\",referentes!AJ2177)-1)),referentes!AJ2177))","v":""},null,""]
[null,null,null,null,null,null,null,null,null,null,null,null,null,null,null,null,null,null,{"$f":"IF(referentes!AJ2178=\"\",\"\",IF(IFERROR(SEARCH(\"*-*\",referentes!AJ2178),2)=1,IF(referentes!AJ2178=\"\",\"\",LEFT(referentes!AJ2178,FIND(\"*-*\",referentes!AJ2178)-1)),referentes!AJ2178))","v":""},null,""]
[null,null,null,null,null,null,null,null,null,null,null,null,null,null,null,null,null,null,{"$f":"IF(referentes!AJ2179=\"\",\"\",IF(IFERROR(SEARCH(\"*-*\",referentes!AJ2179),2)=1,IF(referentes!AJ2179=\"\",\"\",LEFT(referentes!AJ2179,FIND(\"*-*\",referentes!AJ2179)-1)),referentes!AJ2179))","v":""},null,""]
[null,null,null,null,null,null,null,null,null,null,null,null,null,null,null,null,null,null,{"$f":"IF(referentes!AJ2180=\"\",\"\",IF(IFERROR(SEARCH(\"*-*\",referentes!AJ2180),2)=1,IF(referentes!AJ2180=\"\",\"\",LEFT(referentes!AJ2180,FIND(\"*-*\",referentes!AJ2180)-1)),referentes!AJ2180))","v":""},null,""]
[null,null,null,null,null,null,null,null,null,null,null,null,null,null,null,null,null,null,{"$f":"IF(referentes!AJ2181=\"\",\"\",IF(IFERROR(SEARCH(\"*-*\",referentes!AJ2181),2)=1,IF(referentes!AJ2181=\"\",\"\",LEFT(referentes!AJ2181,FIND(\"*-*\",referentes!AJ2181)-1)),referentes!AJ2181))","v":""},null,""]
[null,null,null,null,null,null,null,null,null,null,null,null,null,null,null,null,null,null,{"$f":"IF(referentes!AJ2182=\"\",\"\",IF(IFERROR(SEARCH(\"*-*\",referentes!AJ2182),2)=1,IF(referentes!AJ2182=\"\",\"\",LEFT(referentes!AJ2182,FIND(\"*-*\",referentes!AJ2182)-1)),referentes!AJ2182))","v":""},null,""]
[null,null,null,null,null,null,null,null,null,null,null,null,null,null,null,null,null,null,{"$f":"IF(referentes!AJ2183=\"\",\"\",IF(IFERROR(SEARCH(\"*-*\",referentes!AJ2183),2)=1,IF(referentes!AJ2183=\"\",\"\",LEFT(referentes!AJ2183,FIND(\"*-*\",referentes!AJ2183)-1)),referentes!AJ2183))","v":""},null,""]
[null,null,null,null,null,null,null,null,null,null,null,null,null,null,null,null,null,null,{"$f":"IF(referentes!AJ2184=\"\",\"\",IF(IFERROR(SEARCH(\"*-*\",referentes!AJ2184),2)=1,IF(referentes!AJ2184=\"\",\"\",LEFT(referentes!AJ2184,FIND(\"*-*\",referentes!AJ2184)-1)),referentes!AJ2184))","v":""},null,{"$f":"IF(IFERROR(T2183,R2183)=S2183,\"\",R2183)","v":""}]
[null,null,null,null,null,null,null,null,null,null,null,null,null,null,null,null,null,null,{"$f":"IF(referentes!AJ2185=\"\",\"\",IF(IFERROR(SEARCH(\"*-*\",referentes!AJ2185),2)=1,IF(referentes!AJ2185=\"\",\"\",LEFT(referentes!AJ2185,FIND(\"*-*\",referentes!AJ2185)-1)),referentes!AJ2185))","v":""},null,""]
[null,null,null,null,null,null,null,null,null,null,null,null,null,null,null,null,null,null,{"$f":"IF(referentes!AJ2186=\"\",\"\",IF(IFERROR(SEARCH(\"*-*\",referentes!AJ2186),2)=1,IF(referentes!AJ2186=\"\",\"\",LEFT(referentes!AJ2186,FIND(\"*-*\",referentes!AJ2186)-1)),referentes!AJ2186))","v":""},null,""]
[null,null,null,null,null,null,null,null,null,null,null,null,null,null,null,null,null,null,{"$f":"IF(referentes!AJ2187=\"\",\"\",IF(IFERROR(SEARCH(\"*-*\",referentes!AJ2187),2)=1,IF(referentes!AJ2187=\"\",\"\",LEFT(referentes!AJ2187,FIND(\"*-*\",referentes!AJ2187)-1)),referentes!AJ2187))","v":""},null,""]
[null,null,null,null,null,null,null,null,null,null,null,null,null,null,null,null,null,null,{"$f":"IF(referentes!AJ2188=\"\",\"\",IF(IFERROR(SEARCH(\"*-*\",referentes!AJ2188),2)=1,IF(referentes!AJ2188=\"\",\"\",LEFT(referentes!AJ2188,FIND(\"*-*\",referentes!AJ2188)-1)),referentes!AJ2188))","v":""},null,""]
[null,null,null,null,null,null,null,null,null,null,null,null,null,null,null,null,null,null,{"$f":"IF(referentes!AJ2189=\"\",\"\",IF(IFERROR(SEARCH(\"*-*\",referentes!AJ2189),2)=1,IF(referentes!AJ2189=\"\",\"\",LEFT(referentes!AJ2189,FIND(\"*-*\",referentes!AJ2189)-1)),referentes!AJ2189))","v":""},null,""]
[null,null,null,null,null,null,null,null,null,null,null,null,null,null,null,null,null,null,{"$f":"IF(referentes!AJ2190=\"\",\"\",IF(IFERROR(SEARCH(\"*-*\",referentes!AJ2190),2)=1,IF(referentes!AJ2190=\"\",\"\",LEFT(referentes!AJ2190,FIND(\"*-*\",referentes!AJ2190)-1)),referentes!AJ2190))","v":""},null,""]
[null,null,null,null,null,null,null,null,null,null,null,null,null,null,null,null,null,null,{"$f":"IF(referentes!AJ2191=\"\",\"\",IF(IFERROR(SEARCH(\"*-*\",referentes!AJ2191),2)=1,IF(referentes!AJ2191=\"\",\"\",LEFT(referentes!AJ2191,FIND(\"*-*\",referentes!AJ2191)-1)),referentes!AJ2191))","v":""},null,""]
[null,null,null,null,null,null,null,null,null,null,null,null,null,null,null,null,null,null,{"$f":"IF(referentes!AJ2192=\"\",\"\",IF(IFERROR(SEARCH(\"*-*\",referentes!AJ2192),2)=1,IF(referentes!AJ2192=\"\",\"\",LEFT(referentes!AJ2192,FIND(\"*-*\",referentes!AJ2192)-1)),referentes!AJ2192))","v":""},null,""]
[null,null,null,null,null,null,null,null,null,null,null,null,null,null,null,null,null,null,{"$f":"IF(referentes!AJ2193=\"\",\"\",IF(IFERROR(SEARCH(\"*-*\",referentes!AJ2193),2)=1,IF(referentes!AJ2193=\"\",\"\",LEFT(referentes!AJ2193,FIND(\"*-*\",referentes!AJ2193)-1)),referentes!AJ2193))","v":""},null,""]
[null,null,null,null,null,null,null,null,null,null,null,null,null,null,null,null,null,null,{"$f":"IF(referentes!AJ2194=\"\",\"\",IF(IFERROR(SEARCH(\"*-*\",referentes!AJ2194),2)=1,IF(referentes!AJ2194=\"\",\"\",LEFT(referentes!AJ2194,FIND(\"*-*\",referentes!AJ2194)-1)),referentes!AJ2194))","v":""},null,""]
[null,null,null,null,null,null,null,null,null,null,null,null,null,null,null,null,null,null,{"$f":"IF(referentes!AJ2195=\"\",\"\",IF(IFERROR(SEARCH(\"*-*\",referentes!AJ2195),2)=1,IF(referentes!AJ2195=\"\",\"\",LEFT(referentes!AJ2195,FIND(\"*-*\",referentes!AJ2195)-1)),referentes!AJ2195))","v":""},null,""]
[null,null,null,null,null,null,null,null,null,null,null,null,null,null,null,null,null,null,{"$f":"IF(referentes!AJ2196=\"\",\"\",IF(IFERROR(SEARCH(\"*-*\",referentes!AJ2196),2)=1,IF(referentes!AJ2196=\"\",\"\",LEFT(referentes!AJ2196,FIND(\"*-*\",referentes!AJ2196)-1)),referentes!AJ2196))","v":""},null,""]
[null,null,null,null,null,null,null,null,null,null,null,null,null,null,null,null,null,null,{"$f":"IF(referentes!AJ2197=\"\",\"\",IF(IFERROR(SEARCH(\"*-*\",referentes!AJ2197),2)=1,IF(referentes!AJ2197=\"\",\"\",LEFT(referentes!AJ2197,FIND(\"*-*\",referentes!AJ2197)-1)),referentes!AJ2197))","v":""},null,""]
[null,null,null,null,null,null,null,null,null,null,null,null,null,null,null,null,null,null,{"$f":"IF(referentes!AJ2198=\"\",\"\",IF(IFERROR(SEARCH(\"*-*\",referentes!AJ2198),2)=1,IF(referentes!AJ2198=\"\",\"\",LEFT(referentes!AJ2198,FIND(\"*-*\",referentes!AJ2198)-1)),referentes!AJ2198))","v":""},null,""]
[null,null,null,null,null,null,null,null,null,null,null,null,null,null,null,null,null,null,{"$f":"IF(referentes!AJ2199=\"\",\"\",IF(IFERROR(SEARCH(\"*-*\",referentes!AJ2199),2)=1,IF(referentes!AJ2199=\"\",\"\",LEFT(referentes!AJ2199,FIND(\"*-*\",referentes!AJ2199)-1)),referentes!AJ2199))","v":""},null,""]
[null,null,null,null,null,null,null,null,null,null,null,null,null,null,null,null,null,null,{"$f":"IF(referentes!AJ2200=\"\",\"\",IF(IFERROR(SEARCH(\"*-*\",referentes!AJ2200),2)=1,IF(referentes!AJ2200=\"\",\"\",LEFT(referentes!AJ2200,FIND(\"*-*\",referentes!AJ2200)-1)),referentes!AJ2200))","v":""},null,""]
[null,null,null,null,null,null,null,null,null,null,null,null,null,null,null,null,null,null,{"$f":"IF(referentes!AJ2201=\"\",\"\",IF(IFERROR(SEARCH(\"*-*\",referentes!AJ2201),2)=1,IF(referentes!AJ2201=\"\",\"\",LEFT(referentes!AJ2201,FIND(\"*-*\",referentes!AJ2201)-1)),referentes!AJ2201))","v":""},null,""]
[null,null,null,null,null,null,null,null,null,null,null,null,null,null,null,null,null,null,{"$f":"IF(referentes!AJ2202=\"\",\"\",IF(IFERROR(SEARCH(\"*-*\",referentes!AJ2202),2)=1,IF(referentes!AJ2202=\"\",\"\",LEFT(referentes!AJ2202,FIND(\"*-*\",referentes!AJ2202)-1)),referentes!AJ2202))","v":""},null,""]
[null,null,null,null,null,null,null,null,null,null,null,null,null,null,null,null,null,null,{"$f":"IF(referentes!AJ2203=\"\",\"\",IF(IFERROR(SEARCH(\"*-*\",referentes!AJ2203),2)=1,IF(referentes!AJ2203=\"\",\"\",LEFT(referentes!AJ2203,FIND(\"*-*\",referentes!AJ2203)-1)),referentes!AJ2203))","v":""},null,""]
[null,null,null,null,null,null,null,null,null,null,null,null,null,null,null,null,null,null,{"$f":"IF(referentes!AJ2204=\"\",\"\",IF(IFERROR(SEARCH(\"*-*\",referentes!AJ2204),2)=1,IF(referentes!AJ2204=\"\",\"\",LEFT(referentes!AJ2204,FIND(\"*-*\",referentes!AJ2204)-1)),referentes!AJ2204))","v":""},null,""]
[null,null,null,null,null,null,null,null,null,null,null,null,null,null,null,null,null,null,{"$f":"IF(referentes!AJ2205=\"\",\"\",IF(IFERROR(SEARCH(\"*-*\",referentes!AJ2205),2)=1,IF(referentes!AJ2205=\"\",\"\",LEFT(referentes!AJ2205,FIND(\"*-*\",referentes!AJ2205)-1)),referentes!AJ2205))","v":""},null,""]
[null,null,null,null,null,null,null,null,null,null,null,null,null,null,null,null,null,null,{"$f":"IF(referentes!AJ2206=\"\",\"\",IF(IFERROR(SEARCH(\"*-*\",referentes!AJ2206),2)=1,IF(referentes!AJ2206=\"\",\"\",LEFT(referentes!AJ2206,FIND(\"*-*\",referentes!AJ2206)-1)),referentes!AJ2206))","v":""},null,""]
[null,null,null,null,null,null,null,null,null,null,null,null,null,null,null,null,null,null,{"$f":"IF(referentes!AJ2207=\"\",\"\",IF(IFERROR(SEARCH(\"*-*\",referentes!AJ2207),2)=1,IF(referentes!AJ2207=\"\",\"\",LEFT(referentes!AJ2207,FIND(\"*-*\",referentes!AJ2207)-1)),referentes!AJ2207))","v":""},null,""]
[null,null,null,null,null,null,null,null,null,null,null,null,null,null,null,null,null,null,{"$f":"IF(referentes!AJ2208=\"\",\"\",IF(IFERROR(SEARCH(\"*-*\",referentes!AJ2208),2)=1,IF(referentes!AJ2208=\"\",\"\",LEFT(referentes!AJ2208,FIND(\"*-*\",referentes!AJ2208)-1)),referentes!AJ2208))","v":""},null,""]
[null,null,null,null,null,null,null,null,null,null,null,null,null,null,null,null,null,null,{"$f":"IF(referentes!AJ2209=\"\",\"\",IF(IFERROR(SEARCH(\"*-*\",referentes!AJ2209),2)=1,IF(referentes!AJ2209=\"\",\"\",LEFT(referentes!AJ2209,FIND(\"*-*\",referentes!AJ2209)-1)),referentes!AJ2209))","v":""},null,""]
[null,null,null,null,null,null,null,null,null,null,null,null,null,null,null,null,null,null,{"$f":"IF(referentes!AJ2210=\"\",\"\",IF(IFERROR(SEARCH(\"*-*\",referentes!AJ2210),2)=1,IF(referentes!AJ2210=\"\",\"\",LEFT(referentes!AJ2210,FIND(\"*-*\",referentes!AJ2210)-1)),referentes!AJ2210))","v":""},null,""]
[null,null,null,null,null,null,null,null,null,null,null,null,null,null,null,null,null,null,{"$f":"IF(referentes!AJ2211=\"\",\"\",IF(IFERROR(SEARCH(\"*-*\",referentes!AJ2211),2)=1,IF(referentes!AJ2211=\"\",\"\",LEFT(referentes!AJ2211,FIND(\"*-*\",referentes!AJ2211)-1)),referentes!AJ2211))","v":""},null,""]
[null,null,null,null,null,null,null,null,null,null,null,null,null,null,null,null,null,null,{"$f":"IF(referentes!AJ2212=\"\",\"\",IF(IFERROR(SEARCH(\"*-*\",referentes!AJ2212),2)=1,IF(referentes!AJ2212=\"\",\"\",LEFT(referentes!AJ2212,FIND(\"*-*\",referentes!AJ2212)-1)),referentes!AJ2212))","v":""},null,""]
[null,null,null,null,null,null,null,null,null,null,null,null,null,null,null,null,null,null,{"$f":"IF(referentes!AJ2213=\"\",\"\",IF(IFERROR(SEARCH(\"*-*\",referentes!AJ2213),2)=1,IF(referentes!AJ2213=\"\",\"\",LEFT(referentes!AJ2213,FIND(\"*-*\",referentes!AJ2213)-1)),referentes!AJ2213))","v":""},null,""]
[null,null,null,null,null,null,null,null,null,null,null,null,null,null,null,null,null,null,{"$f":"IF(referentes!AJ2214=\"\",\"\",IF(IFERROR(SEARCH(\"*-*\",referentes!AJ2214),2)=1,IF(referentes!AJ2214=\"\",\"\",LEFT(referentes!AJ2214,FIND(\"*-*\",referentes!AJ2214)-1)),referentes!AJ2214))","v":""},null,""]
[null,null,null,null,null,null,null,null,null,null,null,null,null,null,null,null,null,null,{"$f":"IF(referentes!AJ2215=\"\",\"\",IF(IFERROR(SEARCH(\"*-*\",referentes!AJ2215),2)=1,IF(referentes!AJ2215=\"\",\"\",LEFT(referentes!AJ2215,FIND(\"*-*\",referentes!AJ2215)-1)),referentes!AJ2215))","v":""},null,""]
[null,null,null,null,null,null,null,null,null,null,null,null,null,null,null,null,null,null,{"$f":"IF(referentes!AJ2216=\"\",\"\",IF(IFERROR(SEARCH(\"*-*\",referentes!AJ2216),2)=1,IF(referentes!AJ2216=\"\",\"\",LEFT(referentes!AJ2216,FIND(\"*-*\",referentes!AJ2216)-1)),referentes!AJ2216))","v":""},null,""]
[null,null,null,null,null,null,null,null,null,null,null,null,null,null,null,null,null,null,{"$f":"IF(referentes!AJ2217=\"\",\"\",IF(IFERROR(SEARCH(\"*-*\",referentes!AJ2217),2)=1,IF(referentes!AJ2217=\"\",\"\",LEFT(referentes!AJ2217,FIND(\"*-*\",referentes!AJ2217)-1)),referentes!AJ2217))","v":""},null,""]
[null,null,null,null,null,null,null,null,null,null,null,null,null,null,null,null,null,null,{"$f":"IF(referentes!AJ2218=\"\",\"\",IF(IFERROR(SEARCH(\"*-*\",referentes!AJ2218),2)=1,IF(referentes!AJ2218=\"\",\"\",LEFT(referentes!AJ2218,FIND(\"*-*\",referentes!AJ2218)-1)),referentes!AJ2218))","v":""},null,""]
[null,null,null,null,null,null,null,null,null,null,null,null,null,null,null,null,null,null,{"$f":"IF(referentes!AJ2219=\"\",\"\",IF(IFERROR(SEARCH(\"*-*\",referentes!AJ2219),2)=1,IF(referentes!AJ2219=\"\",\"\",LEFT(referentes!AJ2219,FIND(\"*-*\",referentes!AJ2219)-1)),referentes!AJ2219))","v":""},null,""]
[null,null,null,null,null,null,null,null,null,null,null,null,null,null,null,null,null,null,{"$f":"IF(referentes!AJ2220=\"\",\"\",IF(IFERROR(SEARCH(\"*-*\",referentes!AJ2220),2)=1,IF(referentes!AJ2220=\"\",\"\",LEFT(referentes!AJ2220,FIND(\"*-*\",referentes!AJ2220)-1)),referentes!AJ2220))","v":""},null,""]
[null,null,null,null,null,null,null,null,null,null,null,null,null,null,null,null,null,null,{"$f":"IF(referentes!AJ2221=\"\",\"\",IF(IFERROR(SEARCH(\"*-*\",referentes!AJ2221),2)=1,IF(referentes!AJ2221=\"\",\"\",LEFT(referentes!AJ2221,FIND(\"*-*\",referentes!AJ2221)-1)),referentes!AJ2221))","v":""},null,""]
[null,null,null,null,null,null,null,null,null,null,null,null,null,null,null,null,null,null,{"$f":"IF(referentes!AJ2222=\"\",\"\",IF(IFERROR(SEARCH(\"*-*\",referentes!AJ2222),2)=1,IF(referentes!AJ2222=\"\",\"\",LEFT(referentes!AJ2222,FIND(\"*-*\",referentes!AJ2222)-1)),referentes!AJ2222))","v":""},null,""]
[null,null,null,null,null,null,null,null,null,null,null,null,null,null,null,null,null,null,{"$f":"IF(referentes!AJ2223=\"\",\"\",IF(IFERROR(SEARCH(\"*-*\",referentes!AJ2223),2)=1,IF(referentes!AJ2223=\"\",\"\",LEFT(referentes!AJ2223,FIND(\"*-*\",referentes!AJ2223)-1)),referentes!AJ2223))","v":""},null,""]
[null,null,null,null,null,null,null,null,null,null,null,null,null,null,null,null,null,null,{"$f":"IF(referentes!AJ2224=\"\",\"\",IF(IFERROR(SEARCH(\"*-*\",referentes!AJ2224),2)=1,IF(referentes!AJ2224=\"\",\"\",LEFT(referentes!AJ2224,FIND(\"*-*\",referentes!AJ2224)-1)),referentes!AJ2224))","v":""},null,""]
[null,null,null,null,null,null,null,null,null,null,null,null,null,null,null,null,null,null,{"$f":"IF(referentes!AJ2225=\"\",\"\",IF(IFERROR(SEARCH(\"*-*\",referentes!AJ2225),2)=1,IF(referentes!AJ2225=\"\",\"\",LEFT(referentes!AJ2225,FIND(\"*-*\",referentes!AJ2225)-1)),referentes!AJ2225))","v":""},null,""]
[null,null,null,null,null,null,null,null,null,null,null,null,null,null,null,null,null,null,{"$f":"IF(referentes!AJ2226=\"\",\"\",IF(IFERROR(SEARCH(\"*-*\",referentes!AJ2226),2)=1,IF(referentes!AJ2226=\"\",\"\",LEFT(referentes!AJ2226,FIND(\"*-*\",referentes!AJ2226)-1)),referentes!AJ2226))","v":""},null,""]
[null,null,null,null,null,null,null,null,null,null,null,null,null,null,null,null,null,null,{"$f":"IF(referentes!AJ2227=\"\",\"\",IF(IFERROR(SEARCH(\"*-*\",referentes!AJ2227),2)=1,IF(referentes!AJ2227=\"\",\"\",LEFT(referentes!AJ2227,FIND(\"*-*\",referentes!AJ2227)-1)),referentes!AJ2227))","v":""},null,""]
[null,null,null,null,null,null,null,null,null,null,null,null,null,null,null,null,null,null,{"$f":"IF(referentes!AJ2228=\"\",\"\",IF(IFERROR(SEARCH(\"*-*\",referentes!AJ2228),2)=1,IF(referentes!AJ2228=\"\",\"\",LEFT(referentes!AJ2228,FIND(\"*-*\",referentes!AJ2228)-1)),referentes!AJ2228))","v":""},null,""]
[null,null,null,null,null,null,null,null,null,null,null,null,null,null,null,null,null,null,{"$f":"IF(referentes!AJ2229=\"\",\"\",IF(IFERROR(SEARCH(\"*-*\",referentes!AJ2229),2)=1,IF(referentes!AJ2229=\"\",\"\",LEFT(referentes!AJ2229,FIND(\"*-*\",referentes!AJ2229)-1)),referentes!AJ2229))","v":""},null,""]
[null,null,null,null,null,null,null,null,null,null,null,null,null,null,null,null,null,null,{"$f":"IF(referentes!AJ2230=\"\",\"\",IF(IFERROR(SEARCH(\"*-*\",referentes!AJ2230),2)=1,IF(referentes!AJ2230=\"\",\"\",LEFT(referentes!AJ2230,FIND(\"*-*\",referentes!AJ2230)-1)),referentes!AJ2230))","v":""},null,""]
[null,null,null,null,null,null,null,null,null,null,null,null,null,null,null,null,null,null,{"$f":"IF(referentes!AJ2231=\"\",\"\",IF(IFERROR(SEARCH(\"*-*\",referentes!AJ2231),2)=1,IF(referentes!AJ2231=\"\",\"\",LEFT(referentes!AJ2231,FIND(\"*-*\",referentes!AJ2231)-1)),referentes!AJ2231))","v":""},null,""]
[null,null,null,null,null,null,null,null,null,null,null,null,null,null,null,null,null,null,{"$f":"IF(referentes!AJ2232=\"\",\"\",IF(IFERROR(SEARCH(\"*-*\",referentes!AJ2232),2)=1,IF(referentes!AJ2232=\"\",\"\",LEFT(referentes!AJ2232,FIND(\"*-*\",referentes!AJ2232)-1)),referentes!AJ2232))","v":""},null,""]
[null,null,null,null,null,null,null,null,null,null,null,null,null,null,null,null,null,null,{"$f":"IF(referentes!AJ2233=\"\",\"\",IF(IFERROR(SEARCH(\"*-*\",referentes!AJ2233),2)=1,IF(referentes!AJ2233=\"\",\"\",LEFT(referentes!AJ2233,FIND(\"*-*\",referentes!AJ2233)-1)),referentes!AJ2233))","v":""},null,""]
[null,null,null,null,null,null,null,null,null,null,null,null,null,null,null,null,null,null,{"$f":"IF(referentes!AJ2234=\"\",\"\",IF(IFERROR(SEARCH(\"*-*\",referentes!AJ2234),2)=1,IF(referentes!AJ2234=\"\",\"\",LEFT(referentes!AJ2234,FIND(\"*-*\",referentes!AJ2234)-1)),referentes!AJ2234))","v":""},null,""]
[null,null,null,null,null,null,null,null,null,null,null,null,null,null,null,null,null,null,{"$f":"IF(referentes!AJ2235=\"\",\"\",IF(IFERROR(SEARCH(\"*-*\",referentes!AJ2235),2)=1,IF(referentes!AJ2235=\"\",\"\",LEFT(referentes!AJ2235,FIND(\"*-*\",referentes!AJ2235)-1)),referentes!AJ2235))","v":""},null,""]
[null,null,null,null,null,null,null,null,null,null,null,null,null,null,null,null,null,null,{"$f":"IF(referentes!AJ2236=\"\",\"\",IF(IFERROR(SEARCH(\"*-*\",referentes!AJ2236),2)=1,IF(referentes!AJ2236=\"\",\"\",LEFT(referentes!AJ2236,FIND(\"*-*\",referentes!AJ2236)-1)),referentes!AJ2236))","v":""},null,""]
[null,null,null,null,null,null,null,null,null,null,null,null,null,null,null,null,null,null,{"$f":"IF(referentes!AJ2237=\"\",\"\",IF(IFERROR(SEARCH(\"*-*\",referentes!AJ2237),2)=1,IF(referentes!AJ2237=\"\",\"\",LEFT(referentes!AJ2237,FIND(\"*-*\",referentes!AJ2237)-1)),referentes!AJ2237))","v":""},null,""]
[null,null,null,null,null,null,null,null,null,null,null,null,null,null,null,null,null,null,{"$f":"IF(referentes!AJ2238=\"\",\"\",IF(IFERROR(SEARCH(\"*-*\",referentes!AJ2238),2)=1,IF(referentes!AJ2238=\"\",\"\",LEFT(referentes!AJ2238,FIND(\"*-*\",referentes!AJ2238)-1)),referentes!AJ2238))","v":""},null,""]
[null,null,null,null,null,null,null,null,null,null,null,null,null,null,null,null,null,null,{"$f":"IF(referentes!AJ2239=\"\",\"\",IF(IFERROR(SEARCH(\"*-*\",referentes!AJ2239),2)=1,IF(referentes!AJ2239=\"\",\"\",LEFT(referentes!AJ2239,FIND(\"*-*\",referentes!AJ2239)-1)),referentes!AJ2239))","v":""},null,""]
[null,null,null,null,null,null,null,null,null,null,null,null,null,null,null,null,null,null,{"$f":"IF(referentes!AJ2240=\"\",\"\",IF(IFERROR(SEARCH(\"*-*\",referentes!AJ2240),2)=1,IF(referentes!AJ2240=\"\",\"\",LEFT(referentes!AJ2240,FIND(\"*-*\",referentes!AJ2240)-1)),referentes!AJ2240))","v":""},null,""]
[null,null,null,null,null,null,null,null,null,null,null,null,null,null,null,null,null,null,{"$f":"IF(referentes!AJ2241=\"\",\"\",IF(IFERROR(SEARCH(\"*-*\",referentes!AJ2241),2)=1,IF(referentes!AJ2241=\"\",\"\",LEFT(referentes!AJ2241,FIND(\"*-*\",referentes!AJ2241)-1)),referentes!AJ2241))","v":""},null,""]
[null,null,null,null,null,null,null,null,null,null,null,null,null,null,null,null,null,null,{"$f":"IF(referentes!AJ2242=\"\",\"\",IF(IFERROR(SEARCH(\"*-*\",referentes!AJ2242),2)=1,IF(referentes!AJ2242=\"\",\"\",LEFT(referentes!AJ2242,FIND(\"*-*\",referentes!AJ2242)-1)),referentes!AJ2242))","v":""},null,""]
[null,null,null,null,null,null,null,null,null,null,null,null,null,null,null,null,null,null,{"$f":"IF(referentes!AJ2243=\"\",\"\",IF(IFERROR(SEARCH(\"*-*\",referentes!AJ2243),2)=1,IF(referentes!AJ2243=\"\",\"\",LEFT(referentes!AJ2243,FIND(\"*-*\",referentes!AJ2243)-1)),referentes!AJ2243))","v":""},null,""]
[null,null,null,null,null,null,null,null,null,null,null,null,null,null,null,null,null,null,{"$f":"IF(referentes!AJ2244=\"\",\"\",IF(IFERROR(SEARCH(\"*-*\",referentes!AJ2244),2)=1,IF(referentes!AJ2244=\"\",\"\",LEFT(referentes!AJ2244,FIND(\"*-*\",referentes!AJ2244)-1)),referentes!AJ2244))","v":""},null,""]
[null,null,null,null,null,null,null,null,null,null,null,null,null,null,null,null,null,null,{"$f":"IF(referentes!AJ2245=\"\",\"\",IF(IFERROR(SEARCH(\"*-*\",referentes!AJ2245),2)=1,IF(referentes!AJ2245=\"\",\"\",LEFT(referentes!AJ2245,FIND(\"*-*\",referentes!AJ2245)-1)),referentes!AJ2245))","v":""},null,""]
[null,null,null,null,null,null,null,null,null,null,null,null,null,null,null,null,null,null,{"$f":"IF(referentes!AJ2246=\"\",\"\",IF(IFERROR(SEARCH(\"*-*\",referentes!AJ2246),2)=1,IF(referentes!AJ2246=\"\",\"\",LEFT(referentes!AJ2246,FIND(\"*-*\",referentes!AJ2246)-1)),referentes!AJ2246))","v":""},null,""]
[null,null,null,null,null,null,null,null,null,null,null,null,null,null,null,null,null,null,{"$f":"IF(referentes!AJ2247=\"\",\"\",IF(IFERROR(SEARCH(\"*-*\",referentes!AJ2247),2)=1,IF(referentes!AJ2247=\"\",\"\",LEFT(referentes!AJ2247,FIND(\"*-*\",referentes!AJ2247)-1)),referentes!AJ2247))","v":""},null,""]
[null,null,null,null,null,null,null,null,null,null,null,null,null,null,null,null,null,null,{"$f":"IF(referentes!AJ2248=\"\",\"\",IF(IFERROR(SEARCH(\"*-*\",referentes!AJ2248),2)=1,IF(referentes!AJ2248=\"\",\"\",LEFT(referentes!AJ2248,FIND(\"*-*\",referentes!AJ2248)-1)),referentes!AJ2248))","v":""},null,{"$f":"IF(IFERROR(T2247,R2247)=S2247,\"\",R2247)","v":""}]
[null,null,null,null,null,null,null,null,null,null,null,null,null,null,null,null,null,null,{"$f":"IF(referentes!AJ2249=\"\",\"\",IF(IFERROR(SEARCH(\"*-*\",referentes!AJ2249),2)=1,IF(referentes!AJ2249=\"\",\"\",LEFT(referentes!AJ2249,FIND(\"*-*\",referentes!AJ2249)-1)),referentes!AJ2249))","v":""},null,""]
[null,null,null,null,null,null,null,null,null,null,null,null,null,null,null,null,null,null,{"$f":"IF(referentes!AJ2250=\"\",\"\",IF(IFERROR(SEARCH(\"*-*\",referentes!AJ2250),2)=1,IF(referentes!AJ2250=\"\",\"\",LEFT(referentes!AJ2250,FIND(\"*-*\",referentes!AJ2250)-1)),referentes!AJ2250))","v":""},null,""]
[null,null,null,null,null,null,null,null,null,null,null,null,null,null,null,null,null,null,{"$f":"IF(referentes!AJ2251=\"\",\"\",IF(IFERROR(SEARCH(\"*-*\",referentes!AJ2251),2)=1,IF(referentes!AJ2251=\"\",\"\",LEFT(referentes!AJ2251,FIND(\"*-*\",referentes!AJ2251)-1)),referentes!AJ2251))","v":""},null,""]
[null,null,null,null,null,null,null,null,null,null,null,null,null,null,null,null,null,null,{"$f":"IF(referentes!AJ2252=\"\",\"\",IF(IFERROR(SEARCH(\"*-*\",referentes!AJ2252),2)=1,IF(referentes!AJ2252=\"\",\"\",LEFT(referentes!AJ2252,FIND(\"*-*\",referentes!AJ2252)-1)),referentes!AJ2252))","v":""},null,""]
[null,null,null,null,null,null,null,null,null,null,null,null,null,null,null,null,null,null,{"$f":"IF(referentes!AJ2253=\"\",\"\",IF(IFERROR(SEARCH(\"*-*\",referentes!AJ2253),2)=1,IF(referentes!AJ2253=\"\",\"\",LEFT(referentes!AJ2253,FIND(\"*-*\",referentes!AJ2253)-1)),referentes!AJ2253))","v":""},null,""]
[null,null,null,null,null,null,null,null,null,null,null,null,null,null,null,null,null,null,{"$f":"IF(referentes!AJ2254=\"\",\"\",IF(IFERROR(SEARCH(\"*-*\",referentes!AJ2254),2)=1,IF(referentes!AJ2254=\"\",\"\",LEFT(referentes!AJ2254,FIND(\"*-*\",referentes!AJ2254)-1)),referentes!AJ2254))","v":""},null,""]
[null,null,null,null,null,null,null,null,null,null,null,null,null,null,null,null,null,null,{"$f":"IF(referentes!AJ2255=\"\",\"\",IF(IFERROR(SEARCH(\"*-*\",referentes!AJ2255),2)=1,IF(referentes!AJ2255=\"\",\"\",LEFT(referentes!AJ2255,FIND(\"*-*\",referentes!AJ2255)-1)),referentes!AJ2255))","v":""},null,""]
[null,null,null,null,null,null,null,null,null,null,null,null,null,null,null,null,null,null,{"$f":"IF(referentes!AJ2256=\"\",\"\",IF(IFERROR(SEARCH(\"*-*\",referentes!AJ2256),2)=1,IF(referentes!AJ2256=\"\",\"\",LEFT(referentes!AJ2256,FIND(\"*-*\",referentes!AJ2256)-1)),referentes!AJ2256))","v":""},null,""]
[null,null,null,null,null,null,null,null,null,null,null,null,null,null,null,null,null,null,{"$f":"IF(referentes!AJ2257=\"\",\"\",IF(IFERROR(SEARCH(\"*-*\",referentes!AJ2257),2)=1,IF(referentes!AJ2257=\"\",\"\",LEFT(referentes!AJ2257,FIND(\"*-*\",referentes!AJ2257)-1)),referentes!AJ2257))","v":""},null,""]
[null,null,null,null,null,null,null,null,null,null,null,null,null,null,null,null,null,null,{"$f":"IF(referentes!AJ2258=\"\",\"\",IF(IFERROR(SEARCH(\"*-*\",referentes!AJ2258),2)=1,IF(referentes!AJ2258=\"\",\"\",LEFT(referentes!AJ2258,FIND(\"*-*\",referentes!AJ2258)-1)),referentes!AJ2258))","v":""},null,""]
[null,null,null,null,null,null,null,null,null,null,null,null,null,null,null,null,null,null,{"$f":"IF(referentes!AJ2259=\"\",\"\",IF(IFERROR(SEARCH(\"*-*\",referentes!AJ2259),2)=1,IF(referentes!AJ2259=\"\",\"\",LEFT(referentes!AJ2259,FIND(\"*-*\",referentes!AJ2259)-1)),referentes!AJ2259))","v":""},null,""]
[null,null,null,null,null,null,null,null,null,null,null,null,null,null,null,null,null,null,{"$f":"IF(referentes!AJ2260=\"\",\"\",IF(IFERROR(SEARCH(\"*-*\",referentes!AJ2260),2)=1,IF(referentes!AJ2260=\"\",\"\",LEFT(referentes!AJ2260,FIND(\"*-*\",referentes!AJ2260)-1)),referentes!AJ2260))","v":""},null,""]
[null,null,null,null,null,null,null,null,null,null,null,null,null,null,null,null,null,null,{"$f":"IF(referentes!AJ2261=\"\",\"\",IF(IFERROR(SEARCH(\"*-*\",referentes!AJ2261),2)=1,IF(referentes!AJ2261=\"\",\"\",LEFT(referentes!AJ2261,FIND(\"*-*\",referentes!AJ2261)-1)),referentes!AJ2261))","v":""},null,""]
[null,null,null,null,null,null,null,null,null,null,null,null,null,null,null,null,null,null,{"$f":"IF(referentes!AJ2262=\"\",\"\",IF(IFERROR(SEARCH(\"*-*\",referentes!AJ2262),2)=1,IF(referentes!AJ2262=\"\",\"\",LEFT(referentes!AJ2262,FIND(\"*-*\",referentes!AJ2262)-1)),referentes!AJ2262))","v":""},null,""]
[null,null,null,null,null,null,null,null,null,null,null,null,null,null,null,null,null,null,{"$f":"IF(referentes!AJ2263=\"\",\"\",IF(IFERROR(SEARCH(\"*-*\",referentes!AJ2263),2)=1,IF(referentes!AJ2263=\"\",\"\",LEFT(referentes!AJ2263,FIND(\"*-*\",referentes!AJ2263)-1)),referentes!AJ2263))","v":""},null,""]
[null,null,null,null,null,null,null,null,null,null,null,null,null,null,null,null,null,null,{"$f":"IF(referentes!AJ2264=\"\",\"\",IF(IFERROR(SEARCH(\"*-*\",referentes!AJ2264),2)=1,IF(referentes!AJ2264=\"\",\"\",LEFT(referentes!AJ2264,FIND(\"*-*\",referentes!AJ2264)-1)),referentes!AJ2264))","v":""},null,""]
[null,null,null,null,null,null,null,null,null,null,null,null,null,null,null,null,null,null,{"$f":"IF(referentes!AJ2265=\"\",\"\",IF(IFERROR(SEARCH(\"*-*\",referentes!AJ2265),2)=1,IF(referentes!AJ2265=\"\",\"\",LEFT(referentes!AJ2265,FIND(\"*-*\",referentes!AJ2265)-1)),referentes!AJ2265))","v":""},null,""]
[null,null,null,null,null,null,null,null,null,null,null,null,null,null,null,null,null,null,{"$f":"IF(referentes!AJ2266=\"\",\"\",IF(IFERROR(SEARCH(\"*-*\",referentes!AJ2266),2)=1,IF(referentes!AJ2266=\"\",\"\",LEFT(referentes!AJ2266,FIND(\"*-*\",referentes!AJ2266)-1)),referentes!AJ2266))","v":""},null,""]
[null,null,null,null,null,null,null,null,null,null,null,null,null,null,null,null,null,null,{"$f":"IF(referentes!AJ2267=\"\",\"\",IF(IFERROR(SEARCH(\"*-*\",referentes!AJ2267),2)=1,IF(referentes!AJ2267=\"\",\"\",LEFT(referentes!AJ2267,FIND(\"*-*\",referentes!AJ2267)-1)),referentes!AJ2267))","v":""},null,""]
[null,null,null,null,null,null,null,null,null,null,null,null,null,null,null,null,null,null,{"$f":"IF(referentes!AJ2268=\"\",\"\",IF(IFERROR(SEARCH(\"*-*\",referentes!AJ2268),2)=1,IF(referentes!AJ2268=\"\",\"\",LEFT(referentes!AJ2268,FIND(\"*-*\",referentes!AJ2268)-1)),referentes!AJ2268))","v":""},null,""]
[null,null,null,null,null,null,null,null,null,null,null,null,null,null,null,null,null,null,{"$f":"IF(referentes!AJ2269=\"\",\"\",IF(IFERROR(SEARCH(\"*-*\",referentes!AJ2269),2)=1,IF(referentes!AJ2269=\"\",\"\",LEFT(referentes!AJ2269,FIND(\"*-*\",referentes!AJ2269)-1)),referentes!AJ2269))","v":""},null,""]
[null,null,null,null,null,null,null,null,null,null,null,null,null,null,null,null,null,null,{"$f":"IF(referentes!AJ2270=\"\",\"\",IF(IFERROR(SEARCH(\"*-*\",referentes!AJ2270),2)=1,IF(referentes!AJ2270=\"\",\"\",LEFT(referentes!AJ2270,FIND(\"*-*\",referentes!AJ2270)-1)),referentes!AJ2270))","v":""},null,""]
[null,null,null,null,null,null,null,null,null,null,null,null,null,null,null,null,null,null,{"$f":"IF(referentes!AJ2271=\"\",\"\",IF(IFERROR(SEARCH(\"*-*\",referentes!AJ2271),2)=1,IF(referentes!AJ2271=\"\",\"\",LEFT(referentes!AJ2271,FIND(\"*-*\",referentes!AJ2271)-1)),referentes!AJ2271))","v":""},null,""]
[null,null,null,null,null,null,null,null,null,null,null,null,null,null,null,null,null,null,{"$f":"IF(referentes!AJ2272=\"\",\"\",IF(IFERROR(SEARCH(\"*-*\",referentes!AJ2272),2)=1,IF(referentes!AJ2272=\"\",\"\",LEFT(referentes!AJ2272,FIND(\"*-*\",referentes!AJ2272)-1)),referentes!AJ2272))","v":""},null,""]
[null,null,null,null,null,null,null,null,null,null,null,null,null,null,null,null,null,null,{"$f":"IF(referentes!AJ2273=\"\",\"\",IF(IFERROR(SEARCH(\"*-*\",referentes!AJ2273),2)=1,IF(referentes!AJ2273=\"\",\"\",LEFT(referentes!AJ2273,FIND(\"*-*\",referentes!AJ2273)-1)),referentes!AJ2273))","v":""},null,""]
[null,null,null,null,null,null,null,null,null,null,null,null,null,null,null,null,null,null,{"$f":"IF(referentes!AJ2274=\"\",\"\",IF(IFERROR(SEARCH(\"*-*\",referentes!AJ2274),2)=1,IF(referentes!AJ2274=\"\",\"\",LEFT(referentes!AJ2274,FIND(\"*-*\",referentes!AJ2274)-1)),referentes!AJ2274))","v":""},null,""]
[null,null,null,null,null,null,null,null,null,null,null,null,null,null,null,null,null,null,{"$f":"IF(referentes!AJ2275=\"\",\"\",IF(IFERROR(SEARCH(\"*-*\",referentes!AJ2275),2)=1,IF(referentes!AJ2275=\"\",\"\",LEFT(referentes!AJ2275,FIND(\"*-*\",referentes!AJ2275)-1)),referentes!AJ2275))","v":""},null,""]
[null,null,null,null,null,null,null,null,null,null,null,null,null,null,null,null,null,null,{"$f":"IF(referentes!AJ2276=\"\",\"\",IF(IFERROR(SEARCH(\"*-*\",referentes!AJ2276),2)=1,IF(referentes!AJ2276=\"\",\"\",LEFT(referentes!AJ2276,FIND(\"*-*\",referentes!AJ2276)-1)),referentes!AJ2276))","v":""},null,""]
[null,null,null,null,null,null,null,null,null,null,null,null,null,null,null,null,null,null,{"$f":"IF(referentes!AJ2277=\"\",\"\",IF(IFERROR(SEARCH(\"*-*\",referentes!AJ2277),2)=1,IF(referentes!AJ2277=\"\",\"\",LEFT(referentes!AJ2277,FIND(\"*-*\",referentes!AJ2277)-1)),referentes!AJ2277))","v":""},null,""]
[null,null,null,null,null,null,null,null,null,null,null,null,null,null,null,null,null,null,{"$f":"IF(referentes!AJ2278=\"\",\"\",IF(IFERROR(SEARCH(\"*-*\",referentes!AJ2278),2)=1,IF(referentes!AJ2278=\"\",\"\",LEFT(referentes!AJ2278,FIND(\"*-*\",referentes!AJ2278)-1)),referentes!AJ2278))","v":""},null,""]
[null,null,null,null,null,null,null,null,null,null,null,null,null,null,null,null,null,null,{"$f":"IF(referentes!AJ2279=\"\",\"\",IF(IFERROR(SEARCH(\"*-*\",referentes!AJ2279),2)=1,IF(referentes!AJ2279=\"\",\"\",LEFT(referentes!AJ2279,FIND(\"*-*\",referentes!AJ2279)-1)),referentes!AJ2279))","v":""},null,""]
[null,null,null,null,null,null,null,null,null,null,null,null,null,null,null,null,null,null,{"$f":"IF(referentes!AJ2280=\"\",\"\",IF(IFERROR(SEARCH(\"*-*\",referentes!AJ2280),2)=1,IF(referentes!AJ2280=\"\",\"\",LEFT(referentes!AJ2280,FIND(\"*-*\",referentes!AJ2280)-1)),referentes!AJ2280))","v":""},null,""]
[null,null,null,null,null,null,null,null,null,null,null,null,null,null,null,null,null,null,{"$f":"IF(referentes!AJ2281=\"\",\"\",IF(IFERROR(SEARCH(\"*-*\",referentes!AJ2281),2)=1,IF(referentes!AJ2281=\"\",\"\",LEFT(referentes!AJ2281,FIND(\"*-*\",referentes!AJ2281)-1)),referentes!AJ2281))","v":""},null,""]
[null,null,null,null,null,null,null,null,null,null,null,null,null,null,null,null,null,null,{"$f":"IF(referentes!AJ2282=\"\",\"\",IF(IFERROR(SEARCH(\"*-*\",referentes!AJ2282),2)=1,IF(referentes!AJ2282=\"\",\"\",LEFT(referentes!AJ2282,FIND(\"*-*\",referentes!AJ2282)-1)),referentes!AJ2282))","v":""},null,""]
[null,null,null,null,null,null,null,null,null,null,null,null,null,null,null,null,null,null,{"$f":"IF(referentes!AJ2283=\"\",\"\",IF(IFERROR(SEARCH(\"*-*\",referentes!AJ2283),2)=1,IF(referentes!AJ2283=\"\",\"\",LEFT(referentes!AJ2283,FIND(\"*-*\",referentes!AJ2283)-1)),referentes!AJ2283))","v":""},null,""]
[null,null,null,null,null,null,null,null,null,null,null,null,null,null,null,null,null,null,{"$f":"IF(referentes!AJ2284=\"\",\"\",IF(IFERROR(SEARCH(\"*-*\",referentes!AJ2284),2)=1,IF(referentes!AJ2284=\"\",\"\",LEFT(referentes!AJ2284,FIND(\"*-*\",referentes!AJ2284)-1)),referentes!AJ2284))","v":""},null,""]
[null,null,null,null,null,null,null,null,null,null,null,null,null,null,null,null,null,null,{"$f":"IF(referentes!AJ2285=\"\",\"\",IF(IFERROR(SEARCH(\"*-*\",referentes!AJ2285),2)=1,IF(referentes!AJ2285=\"\",\"\",LEFT(referentes!AJ2285,FIND(\"*-*\",referentes!AJ2285)-1)),referentes!AJ2285))","v":""},null,""]
[null,null,null,null,null,null,null,null,null,null,null,null,null,null,null,null,null,null,{"$f":"IF(referentes!AJ2286=\"\",\"\",IF(IFERROR(SEARCH(\"*-*\",referentes!AJ2286),2)=1,IF(referentes!AJ2286=\"\",\"\",LEFT(referentes!AJ2286,FIND(\"*-*\",referentes!AJ2286)-1)),referentes!AJ2286))","v":""},null,""]
[null,null,null,null,null,null,null,null,null,null,null,null,null,null,null,null,null,null,{"$f":"IF(referentes!AJ2287=\"\",\"\",IF(IFERROR(SEARCH(\"*-*\",referentes!AJ2287),2)=1,IF(referentes!AJ2287=\"\",\"\",LEFT(referentes!AJ2287,FIND(\"*-*\",referentes!AJ2287)-1)),referentes!AJ2287))","v":""},null,""]
[null,null,null,null,null,null,null,null,null,null,null,null,null,null,null,null,null,null,{"$f":"IF(referentes!AJ2288=\"\",\"\",IF(IFERROR(SEARCH(\"*-*\",referentes!AJ2288),2)=1,IF(referentes!AJ2288=\"\",\"\",LEFT(referentes!AJ2288,FIND(\"*-*\",referentes!AJ2288)-1)),referentes!AJ2288))","v":""},null,""]
[null,null,null,null,null,null,null,null,null,null,null,null,null,null,null,null,null,null,{"$f":"IF(referentes!AJ2289=\"\",\"\",IF(IFERROR(SEARCH(\"*-*\",referentes!AJ2289),2)=1,IF(referentes!AJ2289=\"\",\"\",LEFT(referentes!AJ2289,FIND(\"*-*\",referentes!AJ2289)-1)),referentes!AJ2289))","v":""},null,""]
[null,null,null,null,null,null,null,null,null,null,null,null,null,null,null,null,null,null,{"$f":"IF(referentes!AJ2290=\"\",\"\",IF(IFERROR(SEARCH(\"*-*\",referentes!AJ2290),2)=1,IF(referentes!AJ2290=\"\",\"\",LEFT(referentes!AJ2290,FIND(\"*-*\",referentes!AJ2290)-1)),referentes!AJ2290))","v":""},null,""]
[null,null,null,null,null,null,null,null,null,null,null,null,null,null,null,null,null,null,{"$f":"IF(referentes!AJ2291=\"\",\"\",IF(IFERROR(SEARCH(\"*-*\",referentes!AJ2291),2)=1,IF(referentes!AJ2291=\"\",\"\",LEFT(referentes!AJ2291,FIND(\"*-*\",referentes!AJ2291)-1)),referentes!AJ2291))","v":""},null,""]
[null,null,null,null,null,null,null,null,null,null,null,null,null,null,null,null,null,null,{"$f":"IF(referentes!AJ2292=\"\",\"\",IF(IFERROR(SEARCH(\"*-*\",referentes!AJ2292),2)=1,IF(referentes!AJ2292=\"\",\"\",LEFT(referentes!AJ2292,FIND(\"*-*\",referentes!AJ2292)-1)),referentes!AJ2292))","v":""},null,""]
[null,null,null,null,null,null,null,null,null,null,null,null,null,null,null,null,null,null,{"$f":"IF(referentes!AJ2293=\"\",\"\",IF(IFERROR(SEARCH(\"*-*\",referentes!AJ2293),2)=1,IF(referentes!AJ2293=\"\",\"\",LEFT(referentes!AJ2293,FIND(\"*-*\",referentes!AJ2293)-1)),referentes!AJ2293))","v":""},null,""]
[null,null,null,null,null,null,null,null,null,null,null,null,null,null,null,null,null,null,{"$f":"IF(referentes!AJ2294=\"\",\"\",IF(IFERROR(SEARCH(\"*-*\",referentes!AJ2294),2)=1,IF(referentes!AJ2294=\"\",\"\",LEFT(referentes!AJ2294,FIND(\"*-*\",referentes!AJ2294)-1)),referentes!AJ2294))","v":""},null,""]
[null,null,null,null,null,null,null,null,null,null,null,null,null,null,null,null,null,null,{"$f":"IF(referentes!AJ2295=\"\",\"\",IF(IFERROR(SEARCH(\"*-*\",referentes!AJ2295),2)=1,IF(referentes!AJ2295=\"\",\"\",LEFT(referentes!AJ2295,FIND(\"*-*\",referentes!AJ2295)-1)),referentes!AJ2295))","v":""},null,""]
[null,null,null,null,null,null,null,null,null,null,null,null,null,null,null,null,null,null,{"$f":"IF(referentes!AJ2296=\"\",\"\",IF(IFERROR(SEARCH(\"*-*\",referentes!AJ2296),2)=1,IF(referentes!AJ2296=\"\",\"\",LEFT(referentes!AJ2296,FIND(\"*-*\",referentes!AJ2296)-1)),referentes!AJ2296))","v":""},null,""]
[null,null,null,null,null,null,null,null,null,null,null,null,null,null,null,null,null,null,{"$f":"IF(referentes!AJ2297=\"\",\"\",IF(IFERROR(SEARCH(\"*-*\",referentes!AJ2297),2)=1,IF(referentes!AJ2297=\"\",\"\",LEFT(referentes!AJ2297,FIND(\"*-*\",referentes!AJ2297)-1)),referentes!AJ2297))","v":""},null,""]
[null,null,null,null,null,null,null,null,null,null,null,null,null,null,null,null,null,null,{"$f":"IF(referentes!AJ2298=\"\",\"\",IF(IFERROR(SEARCH(\"*-*\",referentes!AJ2298),2)=1,IF(referentes!AJ2298=\"\",\"\",LEFT(referentes!AJ2298,FIND(\"*-*\",referentes!AJ2298)-1)),referentes!AJ2298))","v":""},null,""]
[null,null,null,null,null,null,null,null,null,null,null,null,null,null,null,null,null,null,{"$f":"IF(referentes!AJ2299=\"\",\"\",IF(IFERROR(SEARCH(\"*-*\",referentes!AJ2299),2)=1,IF(referentes!AJ2299=\"\",\"\",LEFT(referentes!AJ2299,FIND(\"*-*\",referentes!AJ2299)-1)),referentes!AJ2299))","v":""},null,""]
[null,null,null,null,null,null,null,null,null,null,null,null,null,null,null,null,null,null,{"$f":"IF(referentes!AJ2300=\"\",\"\",IF(IFERROR(SEARCH(\"*-*\",referentes!AJ2300),2)=1,IF(referentes!AJ2300=\"\",\"\",LEFT(referentes!AJ2300,FIND(\"*-*\",referentes!AJ2300)-1)),referentes!AJ2300))","v":""},null,""]
[null,null,null,null,null,null,null,null,null,null,null,null,null,null,null,null,null,null,{"$f":"IF(referentes!AJ2301=\"\",\"\",IF(IFERROR(SEARCH(\"*-*\",referentes!AJ2301),2)=1,IF(referentes!AJ2301=\"\",\"\",LEFT(referentes!AJ2301,FIND(\"*-*\",referentes!AJ2301)-1)),referentes!AJ2301))","v":""},null,""]
[null,null,null,null,null,null,null,null,null,null,null,null,null,null,null,null,null,null,{"$f":"IF(referentes!AJ2302=\"\",\"\",IF(IFERROR(SEARCH(\"*-*\",referentes!AJ2302),2)=1,IF(referentes!AJ2302=\"\",\"\",LEFT(referentes!AJ2302,FIND(\"*-*\",referentes!AJ2302)-1)),referentes!AJ2302))","v":""},null,""]
[null,null,null,null,null,null,null,null,null,null,null,null,null,null,null,null,null,null,{"$f":"IF(referentes!AJ2303=\"\",\"\",IF(IFERROR(SEARCH(\"*-*\",referentes!AJ2303),2)=1,IF(referentes!AJ2303=\"\",\"\",LEFT(referentes!AJ2303,FIND(\"*-*\",referentes!AJ2303)-1)),referentes!AJ2303))","v":""},null,""]
[null,null,null,null,null,null,null,null,null,null,null,null,null,null,null,null,null,null,{"$f":"IF(referentes!AJ2304=\"\",\"\",IF(IFERROR(SEARCH(\"*-*\",referentes!AJ2304),2)=1,IF(referentes!AJ2304=\"\",\"\",LEFT(referentes!AJ2304,FIND(\"*-*\",referentes!AJ2304)-1)),referentes!AJ2304))","v":""},null,""]
[null,null,null,null,null,null,null,null,null,null,null,null,null,null,null,null,null,null,{"$f":"IF(referentes!AJ2305=\"\",\"\",IF(IFERROR(SEARCH(\"*-*\",referentes!AJ2305),2)=1,IF(referentes!AJ2305=\"\",\"\",LEFT(referentes!AJ2305,FIND(\"*-*\",referentes!AJ2305)-1)),referentes!AJ2305))","v":""},null,""]
[null,null,null,null,null,null,null,null,null,null,null,null,null,null,null,null,null,null,{"$f":"IF(referentes!AJ2306=\"\",\"\",IF(IFERROR(SEARCH(\"*-*\",referentes!AJ2306),2)=1,IF(referentes!AJ2306=\"\",\"\",LEFT(referentes!AJ2306,FIND(\"*-*\",referentes!AJ2306)-1)),referentes!AJ2306))","v":""},null,""]
[null,null,null,null,null,null,null,null,null,null,null,null,null,null,null,null,null,null,{"$f":"IF(referentes!AJ2307=\"\",\"\",IF(IFERROR(SEARCH(\"*-*\",referentes!AJ2307),2)=1,IF(referentes!AJ2307=\"\",\"\",LEFT(referentes!AJ2307,FIND(\"*-*\",referentes!AJ2307)-1)),referentes!AJ2307))","v":""},null,""]
[null,null,null,null,null,null,null,null,null,null,null,null,null,null,null,null,null,null,{"$f":"IF(referentes!AJ2308=\"\",\"\",IF(IFERROR(SEARCH(\"*-*\",referentes!AJ2308),2)=1,IF(referentes!AJ2308=\"\",\"\",LEFT(referentes!AJ2308,FIND(\"*-*\",referentes!AJ2308)-1)),referentes!AJ2308))","v":""},null,""]
[null,null,null,null,null,null,null,null,null,null,null,null,null,null,null,null,null,null,{"$f":"IF(referentes!AJ2309=\"\",\"\",IF(IFERROR(SEARCH(\"*-*\",referentes!AJ2309),2)=1,IF(referentes!AJ2309=\"\",\"\",LEFT(referentes!AJ2309,FIND(\"*-*\",referentes!AJ2309)-1)),referentes!AJ2309))","v":""},null,""]
[null,null,null,null,null,null,null,null,null,null,null,null,null,null,null,null,null,null,{"$f":"IF(referentes!AJ2310=\"\",\"\",IF(IFERROR(SEARCH(\"*-*\",referentes!AJ2310),2)=1,IF(referentes!AJ2310=\"\",\"\",LEFT(referentes!AJ2310,FIND(\"*-*\",referentes!AJ2310)-1)),referentes!AJ2310))","v":""},null,""]
[null,null,null,null,null,null,null,null,null,null,null,null,null,null,null,null,null,null,{"$f":"IF(referentes!AJ2311=\"\",\"\",IF(IFERROR(SEARCH(\"*-*\",referentes!AJ2311),2)=1,IF(referentes!AJ2311=\"\",\"\",LEFT(referentes!AJ2311,FIND(\"*-*\",referentes!AJ2311)-1)),referentes!AJ2311))","v":""},null,""]
[null,null,null,null,null,null,null,null,null,null,null,null,null,null,null,null,null,null,{"$f":"IF(referentes!AJ2312=\"\",\"\",IF(IFERROR(SEARCH(\"*-*\",referentes!AJ2312),2)=1,IF(referentes!AJ2312=\"\",\"\",LEFT(referentes!AJ2312,FIND(\"*-*\",referentes!AJ2312)-1)),referentes!AJ2312))","v":""},null,{"$f":"IF(IFERROR(T2311,R2311)=S2311,\"\",R2311)","v":""}]
[null,null,null,null,null,null,null,null,null,null,null,null,null,null,null,null,null,null,{"$f":"IF(referentes!AJ2313=\"\",\"\",IF(IFERROR(SEARCH(\"*-*\",referentes!AJ2313),2)=1,IF(referentes!AJ2313=\"\",\"\",LEFT(referentes!AJ2313,FIND(\"*-*\",referentes!AJ2313)-1)),referentes!AJ2313))","v":""},null,""]
[null,null,null,null,null,null,null,null,null,null,null,null,null,null,null,null,null,null,{"$f":"IF(referentes!AJ2314=\"\",\"\",IF(IFERROR(SEARCH(\"*-*\",referentes!AJ2314),2)=1,IF(referentes!AJ2314=\"\",\"\",LEFT(referentes!AJ2314,FIND(\"*-*\",referentes!AJ2314)-1)),referentes!AJ2314))","v":""},null,""]
[null,null,null,null,null,null,null,null,null,null,null,null,null,null,null,null,null,null,{"$f":"IF(referentes!AJ2315=\"\",\"\",IF(IFERROR(SEARCH(\"*-*\",referentes!AJ2315),2)=1,IF(referentes!AJ2315=\"\",\"\",LEFT(referentes!AJ2315,FIND(\"*-*\",referentes!AJ2315)-1)),referentes!AJ2315))","v":""},null,""]
[null,null,null,null,null,null,null,null,null,null,null,null,null,null,null,null,null,null,{"$f":"IF(referentes!AJ2316=\"\",\"\",IF(IFERROR(SEARCH(\"*-*\",referentes!AJ2316),2)=1,IF(referentes!AJ2316=\"\",\"\",LEFT(referentes!AJ2316,FIND(\"*-*\",referentes!AJ2316)-1)),referentes!AJ2316))","v":""},null,""]
[null,null,null,null,null,null,null,null,null,null,null,null,null,null,null,null,null,null,{"$f":"IF(referentes!AJ2317=\"\",\"\",IF(IFERROR(SEARCH(\"*-*\",referentes!AJ2317),2)=1,IF(referentes!AJ2317=\"\",\"\",LEFT(referentes!AJ2317,FIND(\"*-*\",referentes!AJ2317)-1)),referentes!AJ2317))","v":""},null,""]
[null,null,null,null,null,null,null,null,null,null,null,null,null,null,null,null,null,null,{"$f":"IF(referentes!AJ2318=\"\",\"\",IF(IFERROR(SEARCH(\"*-*\",referentes!AJ2318),2)=1,IF(referentes!AJ2318=\"\",\"\",LEFT(referentes!AJ2318,FIND(\"*-*\",referentes!AJ2318)-1)),referentes!AJ2318))","v":""},null,""]
[null,null,null,null,null,null,null,null,null,null,null,null,null,null,null,null,null,null,{"$f":"IF(referentes!AJ2319=\"\",\"\",IF(IFERROR(SEARCH(\"*-*\",referentes!AJ2319),2)=1,IF(referentes!AJ2319=\"\",\"\",LEFT(referentes!AJ2319,FIND(\"*-*\",referentes!AJ2319)-1)),referentes!AJ2319))","v":""},null,""]
[null,null,null,null,null,null,null,null,null,null,null,null,null,null,null,null,null,null,{"$f":"IF(referentes!AJ2320=\"\",\"\",IF(IFERROR(SEARCH(\"*-*\",referentes!AJ2320),2)=1,IF(referentes!AJ2320=\"\",\"\",LEFT(referentes!AJ2320,FIND(\"*-*\",referentes!AJ2320)-1)),referentes!AJ2320))","v":""},null,""]
[null,null,null,null,null,null,null,null,null,null,null,null,null,null,null,null,null,null,{"$f":"IF(referentes!AJ2321=\"\",\"\",IF(IFERROR(SEARCH(\"*-*\",referentes!AJ2321),2)=1,IF(referentes!AJ2321=\"\",\"\",LEFT(referentes!AJ2321,FIND(\"*-*\",referentes!AJ2321)-1)),referentes!AJ2321))","v":""},null,""]
[null,null,null,null,null,null,null,null,null,null,null,null,null,null,null,null,null,null,{"$f":"IF(referentes!AJ2322=\"\",\"\",IF(IFERROR(SEARCH(\"*-*\",referentes!AJ2322),2)=1,IF(referentes!AJ2322=\"\",\"\",LEFT(referentes!AJ2322,FIND(\"*-*\",referentes!AJ2322)-1)),referentes!AJ2322))","v":""},null,""]
[null,null,null,null,null,null,null,null,null,null,null,null,null,null,null,null,null,null,{"$f":"IF(referentes!AJ2323=\"\",\"\",IF(IFERROR(SEARCH(\"*-*\",referentes!AJ2323),2)=1,IF(referentes!AJ2323=\"\",\"\",LEFT(referentes!AJ2323,FIND(\"*-*\",referentes!AJ2323)-1)),referentes!AJ2323))","v":""},null,""]
[null,null,null,null,null,null,null,null,null,null,null,null,null,null,null,null,null,null,{"$f":"IF(referentes!AJ2324=\"\",\"\",IF(IFERROR(SEARCH(\"*-*\",referentes!AJ2324),2)=1,IF(referentes!AJ2324=\"\",\"\",LEFT(referentes!AJ2324,FIND(\"*-*\",referentes!AJ2324)-1)),referentes!AJ2324))","v":""},null,""]
[null,null,null,null,null,null,null,null,null,null,null,null,null,null,null,null,null,null,{"$f":"IF(referentes!AJ2325=\"\",\"\",IF(IFERROR(SEARCH(\"*-*\",referentes!AJ2325),2)=1,IF(referentes!AJ2325=\"\",\"\",LEFT(referentes!AJ2325,FIND(\"*-*\",referentes!AJ2325)-1)),referentes!AJ2325))","v":""},null,""]
[null,null,null,null,null,null,null,null,null,null,null,null,null,null,null,null,null,null,{"$f":"IF(referentes!AJ2326=\"\",\"\",IF(IFERROR(SEARCH(\"*-*\",referentes!AJ2326),2)=1,IF(referentes!AJ2326=\"\",\"\",LEFT(referentes!AJ2326,FIND(\"*-*\",referentes!AJ2326)-1)),referentes!AJ2326))","v":""},null,""]
[null,null,null,null,null,null,null,null,null,null,null,null,null,null,null,null,null,null,{"$f":"IF(referentes!AJ2327=\"\",\"\",IF(IFERROR(SEARCH(\"*-*\",referentes!AJ2327),2)=1,IF(referentes!AJ2327=\"\",\"\",LEFT(referentes!AJ2327,FIND(\"*-*\",referentes!AJ2327)-1)),referentes!AJ2327))","v":""},null,""]
[null,null,null,null,null,null,null,null,null,null,null,null,null,null,null,null,null,null,{"$f":"IF(referentes!AJ2328=\"\",\"\",IF(IFERROR(SEARCH(\"*-*\",referentes!AJ2328),2)=1,IF(referentes!AJ2328=\"\",\"\",LEFT(referentes!AJ2328,FIND(\"*-*\",referentes!AJ2328)-1)),referentes!AJ2328))","v":""},null,""]
[null,null,null,null,null,null,null,null,null,null,null,null,null,null,null,null,null,null,{"$f":"IF(referentes!AJ2329=\"\",\"\",IF(IFERROR(SEARCH(\"*-*\",referentes!AJ2329),2)=1,IF(referentes!AJ2329=\"\",\"\",LEFT(referentes!AJ2329,FIND(\"*-*\",referentes!AJ2329)-1)),referentes!AJ2329))","v":""},null,""]
[null,null,null,null,null,null,null,null,null,null,null,null,null,null,null,null,null,null,{"$f":"IF(referentes!AJ2330=\"\",\"\",IF(IFERROR(SEARCH(\"*-*\",referentes!AJ2330),2)=1,IF(referentes!AJ2330=\"\",\"\",LEFT(referentes!AJ2330,FIND(\"*-*\",referentes!AJ2330)-1)),referentes!AJ2330))","v":""},null,""]
[null,null,null,null,null,null,null,null,null,null,null,null,null,null,null,null,null,null,{"$f":"IF(referentes!AJ2331=\"\",\"\",IF(IFERROR(SEARCH(\"*-*\",referentes!AJ2331),2)=1,IF(referentes!AJ2331=\"\",\"\",LEFT(referentes!AJ2331,FIND(\"*-*\",referentes!AJ2331)-1)),referentes!AJ2331))","v":""},null,""]
[null,null,null,null,null,null,null,null,null,null,null,null,null,null,null,null,null,null,{"$f":"IF(referentes!AJ2332=\"\",\"\",IF(IFERROR(SEARCH(\"*-*\",referentes!AJ2332),2)=1,IF(referentes!AJ2332=\"\",\"\",LEFT(referentes!AJ2332,FIND(\"*-*\",referentes!AJ2332)-1)),referentes!AJ2332))","v":""},null,""]
[null,null,null,null,null,null,null,null,null,null,null,null,null,null,null,null,null,null,{"$f":"IF(referentes!AJ2333=\"\",\"\",IF(IFERROR(SEARCH(\"*-*\",referentes!AJ2333),2)=1,IF(referentes!AJ2333=\"\",\"\",LEFT(referentes!AJ2333,FIND(\"*-*\",referentes!AJ2333)-1)),referentes!AJ2333))","v":""},null,""]
[null,null,null,null,null,null,null,null,null,null,null,null,null,null,null,null,null,null,{"$f":"IF(referentes!AJ2334=\"\",\"\",IF(IFERROR(SEARCH(\"*-*\",referentes!AJ2334),2)=1,IF(referentes!AJ2334=\"\",\"\",LEFT(referentes!AJ2334,FIND(\"*-*\",referentes!AJ2334)-1)),referentes!AJ2334))","v":""},null,""]
[null,null,null,null,null,null,null,null,null,null,null,null,null,null,null,null,null,null,{"$f":"IF(referentes!AJ2335=\"\",\"\",IF(IFERROR(SEARCH(\"*-*\",referentes!AJ2335),2)=1,IF(referentes!AJ2335=\"\",\"\",LEFT(referentes!AJ2335,FIND(\"*-*\",referentes!AJ2335)-1)),referentes!AJ2335))","v":""},null,""]
[null,null,null,null,null,null,null,null,null,null,null,null,null,null,null,null,null,null,{"$f":"IF(referentes!AJ2336=\"\",\"\",IF(IFERROR(SEARCH(\"*-*\",referentes!AJ2336),2)=1,IF(referentes!AJ2336=\"\",\"\",LEFT(referentes!AJ2336,FIND(\"*-*\",referentes!AJ2336)-1)),referentes!AJ2336))","v":""},null,""]
[null,null,null,null,null,null,null,null,null,null,null,null,null,null,null,null,null,null,{"$f":"IF(referentes!AJ2337=\"\",\"\",IF(IFERROR(SEARCH(\"*-*\",referentes!AJ2337),2)=1,IF(referentes!AJ2337=\"\",\"\",LEFT(referentes!AJ2337,FIND(\"*-*\",referentes!AJ2337)-1)),referentes!AJ2337))","v":""},null,""]
[null,null,null,null,null,null,null,null,null,null,null,null,null,null,null,null,null,null,{"$f":"IF(referentes!AJ2338=\"\",\"\",IF(IFERROR(SEARCH(\"*-*\",referentes!AJ2338),2)=1,IF(referentes!AJ2338=\"\",\"\",LEFT(referentes!AJ2338,FIND(\"*-*\",referentes!AJ2338)-1)),referentes!AJ2338))","v":""},null,""]
[null,null,null,null,null,null,null,null,null,null,null,null,null,null,null,null,null,null,{"$f":"IF(referentes!AJ2339=\"\",\"\",IF(IFERROR(SEARCH(\"*-*\",referentes!AJ2339),2)=1,IF(referentes!AJ2339=\"\",\"\",LEFT(referentes!AJ2339,FIND(\"*-*\",referentes!AJ2339)-1)),referentes!AJ2339))","v":""},null,""]
[null,null,null,null,null,null,null,null,null,null,null,null,null,null,null,null,null,null,{"$f":"IF(referentes!AJ2340=\"\",\"\",IF(IFERROR(SEARCH(\"*-*\",referentes!AJ2340),2)=1,IF(referentes!AJ2340=\"\",\"\",LEFT(referentes!AJ2340,FIND(\"*-*\",referentes!AJ2340)-1)),referentes!AJ2340))","v":""},null,""]
[null,null,null,null,null,null,null,null,null,null,null,null,null,null,null,null,null,null,{"$f":"IF(referentes!AJ2341=\"\",\"\",IF(IFERROR(SEARCH(\"*-*\",referentes!AJ2341),2)=1,IF(referentes!AJ2341=\"\",\"\",LEFT(referentes!AJ2341,FIND(\"*-*\",referentes!AJ2341)-1)),referentes!AJ2341))","v":""},null,""]
[null,null,null,null,null,null,null,null,null,null,null,null,null,null,null,null,null,null,{"$f":"IF(referentes!AJ2342=\"\",\"\",IF(IFERROR(SEARCH(\"*-*\",referentes!AJ2342),2)=1,IF(referentes!AJ2342=\"\",\"\",LEFT(referentes!AJ2342,FIND(\"*-*\",referentes!AJ2342)-1)),referentes!AJ2342))","v":""},null,""]
[null,null,null,null,null,null,null,null,null,null,null,null,null,null,null,null,null,null,{"$f":"IF(referentes!AJ2343=\"\",\"\",IF(IFERROR(SEARCH(\"*-*\",referentes!AJ2343),2)=1,IF(referentes!AJ2343=\"\",\"\",LEFT(referentes!AJ2343,FIND(\"*-*\",referentes!AJ2343)-1)),referentes!AJ2343))","v":""},null,""]
[null,null,null,null,null,null,null,null,null,null,null,null,null,null,null,null,null,null,{"$f":"IF(referentes!AJ2344=\"\",\"\",IF(IFERROR(SEARCH(\"*-*\",referentes!AJ2344),2)=1,IF(referentes!AJ2344=\"\",\"\",LEFT(referentes!AJ2344,FIND(\"*-*\",referentes!AJ2344)-1)),referentes!AJ2344))","v":""},null,""]
[null,null,null,null,null,null,null,null,null,null,null,null,null,null,null,null,null,null,{"$f":"IF(referentes!AJ2345=\"\",\"\",IF(IFERROR(SEARCH(\"*-*\",referentes!AJ2345),2)=1,IF(referentes!AJ2345=\"\",\"\",LEFT(referentes!AJ2345,FIND(\"*-*\",referentes!AJ2345)-1)),referentes!AJ2345))","v":""},null,""]
[null,null,null,null,null,null,null,null,null,null,null,null,null,null,null,null,null,null,{"$f":"IF(referentes!AJ2346=\"\",\"\",IF(IFERROR(SEARCH(\"*-*\",referentes!AJ2346),2)=1,IF(referentes!AJ2346=\"\",\"\",LEFT(referentes!AJ2346,FIND(\"*-*\",referentes!AJ2346)-1)),referentes!AJ2346))","v":""},null,""]
[null,null,null,null,null,null,null,null,null,null,null,null,null,null,null,null,null,null,{"$f":"IF(referentes!AJ2347=\"\",\"\",IF(IFERROR(SEARCH(\"*-*\",referentes!AJ2347),2)=1,IF(referentes!AJ2347=\"\",\"\",LEFT(referentes!AJ2347,FIND(\"*-*\",referentes!AJ2347)-1)),referentes!AJ2347))","v":""},null,""]
[null,null,null,null,null,null,null,null,null,null,null,null,null,null,null,null,null,null,{"$f":"IF(referentes!AJ2348=\"\",\"\",IF(IFERROR(SEARCH(\"*-*\",referentes!AJ2348),2)=1,IF(referentes!AJ2348=\"\",\"\",LEFT(referentes!AJ2348,FIND(\"*-*\",referentes!AJ2348)-1)),referentes!AJ2348))","v":""},null,""]
[null,null,null,null,null,null,null,null,null,null,null,null,null,null,null,null,null,null,{"$f":"IF(referentes!AJ2349=\"\",\"\",IF(IFERROR(SEARCH(\"*-*\",referentes!AJ2349),2)=1,IF(referentes!AJ2349=\"\",\"\",LEFT(referentes!AJ2349,FIND(\"*-*\",referentes!AJ2349)-1)),referentes!AJ2349))","v":""},null,""]
[null,null,null,null,null,null,null,null,null,null,null,null,null,null,null,null,null,null,{"$f":"IF(referentes!AJ2350=\"\",\"\",IF(IFERROR(SEARCH(\"*-*\",referentes!AJ2350),2)=1,IF(referentes!AJ2350=\"\",\"\",LEFT(referentes!AJ2350,FIND(\"*-*\",referentes!AJ2350)-1)),referentes!AJ2350))","v":""},null,""]
[null,null,null,null,null,null,null,null,null,null,null,null,null,null,null,null,null,null,{"$f":"IF(referentes!AJ2351=\"\",\"\",IF(IFERROR(SEARCH(\"*-*\",referentes!AJ2351),2)=1,IF(referentes!AJ2351=\"\",\"\",LEFT(referentes!AJ2351,FIND(\"*-*\",referentes!AJ2351)-1)),referentes!AJ2351))","v":""},null,""]
[null,null,null,null,null,null,null,null,null,null,null,null,null,null,null,null,null,null,{"$f":"IF(referentes!AJ2352=\"\",\"\",IF(IFERROR(SEARCH(\"*-*\",referentes!AJ2352),2)=1,IF(referentes!AJ2352=\"\",\"\",LEFT(referentes!AJ2352,FIND(\"*-*\",referentes!AJ2352)-1)),referentes!AJ2352))","v":""},null,""]
[null,null,null,null,null,null,null,null,null,null,null,null,null,null,null,null,null,null,{"$f":"IF(referentes!AJ2353=\"\",\"\",IF(IFERROR(SEARCH(\"*-*\",referentes!AJ2353),2)=1,IF(referentes!AJ2353=\"\",\"\",LEFT(referentes!AJ2353,FIND(\"*-*\",referentes!AJ2353)-1)),referentes!AJ2353))","v":""},null,""]
[null,null,null,null,null,null,null,null,null,null,null,null,null,null,null,null,null,null,{"$f":"IF(referentes!AJ2354=\"\",\"\",IF(IFERROR(SEARCH(\"*-*\",referentes!AJ2354),2)=1,IF(referentes!AJ2354=\"\",\"\",LEFT(referentes!AJ2354,FIND(\"*-*\",referentes!AJ2354)-1)),referentes!AJ2354))","v":""},null,""]
[null,null,null,null,null,null,null,null,null,null,null,null,null,null,null,null,null,null,{"$f":"IF(referentes!AJ2355=\"\",\"\",IF(IFERROR(SEARCH(\"*-*\",referentes!AJ2355),2)=1,IF(referentes!AJ2355=\"\",\"\",LEFT(referentes!AJ2355,FIND(\"*-*\",referentes!AJ2355)-1)),referentes!AJ2355))","v":""},null,""]
[null,null,null,null,null,null,null,null,null,null,null,null,null,null,null,null,null,null,{"$f":"IF(referentes!AJ2356=\"\",\"\",IF(IFERROR(SEARCH(\"*-*\",referentes!AJ2356),2)=1,IF(referentes!AJ2356=\"\",\"\",LEFT(referentes!AJ2356,FIND(\"*-*\",referentes!AJ2356)-1)),referentes!AJ2356))","v":""},null,""]
[null,null,null,null,null,null,null,null,null,null,null,null,null,null,null,null,null,null,{"$f":"IF(referentes!AJ2357=\"\",\"\",IF(IFERROR(SEARCH(\"*-*\",referentes!AJ2357),2)=1,IF(referentes!AJ2357=\"\",\"\",LEFT(referentes!AJ2357,FIND(\"*-*\",referentes!AJ2357)-1)),referentes!AJ2357))","v":""},null,""]
[null,null,null,null,null,null,null,null,null,null,null,null,null,null,null,null,null,null,{"$f":"IF(referentes!AJ2358=\"\",\"\",IF(IFERROR(SEARCH(\"*-*\",referentes!AJ2358),2)=1,IF(referentes!AJ2358=\"\",\"\",LEFT(referentes!AJ2358,FIND(\"*-*\",referentes!AJ2358)-1)),referentes!AJ2358))","v":""},null,""]
[null,null,null,null,null,null,null,null,null,null,null,null,null,null,null,null,null,null,{"$f":"IF(referentes!AJ2359=\"\",\"\",IF(IFERROR(SEARCH(\"*-*\",referentes!AJ2359),2)=1,IF(referentes!AJ2359=\"\",\"\",LEFT(referentes!AJ2359,FIND(\"*-*\",referentes!AJ2359)-1)),referentes!AJ2359))","v":""},null,""]
[null,null,null,null,null,null,null,null,null,null,null,null,null,null,null,null,null,null,{"$f":"IF(referentes!AJ2360=\"\",\"\",IF(IFERROR(SEARCH(\"*-*\",referentes!AJ2360),2)=1,IF(referentes!AJ2360=\"\",\"\",LEFT(referentes!AJ2360,FIND(\"*-*\",referentes!AJ2360)-1)),referentes!AJ2360))","v":""},null,""]
[null,null,null,null,null,null,null,null,null,null,null,null,null,null,null,null,null,null,{"$f":"IF(referentes!AJ2361=\"\",\"\",IF(IFERROR(SEARCH(\"*-*\",referentes!AJ2361),2)=1,IF(referentes!AJ2361=\"\",\"\",LEFT(referentes!AJ2361,FIND(\"*-*\",referentes!AJ2361)-1)),referentes!AJ2361))","v":""},null,""]
[null,null,null,null,null,null,null,null,null,null,null,null,null,null,null,null,null,null,{"$f":"IF(referentes!AJ2362=\"\",\"\",IF(IFERROR(SEARCH(\"*-*\",referentes!AJ2362),2)=1,IF(referentes!AJ2362=\"\",\"\",LEFT(referentes!AJ2362,FIND(\"*-*\",referentes!AJ2362)-1)),referentes!AJ2362))","v":""},null,""]
[null,null,null,null,null,null,null,null,null,null,null,null,null,null,null,null,null,null,{"$f":"IF(referentes!AJ2363=\"\",\"\",IF(IFERROR(SEARCH(\"*-*\",referentes!AJ2363),2)=1,IF(referentes!AJ2363=\"\",\"\",LEFT(referentes!AJ2363,FIND(\"*-*\",referentes!AJ2363)-1)),referentes!AJ2363))","v":""},null,""]
[null,null,null,null,null,null,null,null,null,null,null,null,null,null,null,null,null,null,{"$f":"IF(referentes!AJ2364=\"\",\"\",IF(IFERROR(SEARCH(\"*-*\",referentes!AJ2364),2)=1,IF(referentes!AJ2364=\"\",\"\",LEFT(referentes!AJ2364,FIND(\"*-*\",referentes!AJ2364)-1)),referentes!AJ2364))","v":""},null,""]
[null,null,null,null,null,null,null,null,null,null,null,null,null,null,null,null,null,null,{"$f":"IF(referentes!AJ2365=\"\",\"\",IF(IFERROR(SEARCH(\"*-*\",referentes!AJ2365),2)=1,IF(referentes!AJ2365=\"\",\"\",LEFT(referentes!AJ2365,FIND(\"*-*\",referentes!AJ2365)-1)),referentes!AJ2365))","v":""},null,""]
[null,null,null,null,null,null,null,null,null,null,null,null,null,null,null,null,null,null,{"$f":"IF(referentes!AJ2366=\"\",\"\",IF(IFERROR(SEARCH(\"*-*\",referentes!AJ2366),2)=1,IF(referentes!AJ2366=\"\",\"\",LEFT(referentes!AJ2366,FIND(\"*-*\",referentes!AJ2366)-1)),referentes!AJ2366))","v":""},null,""]
[null,null,null,null,null,null,null,null,null,null,null,null,null,null,null,null,null,null,{"$f":"IF(referentes!AJ2367=\"\",\"\",IF(IFERROR(SEARCH(\"*-*\",referentes!AJ2367),2)=1,IF(referentes!AJ2367=\"\",\"\",LEFT(referentes!AJ2367,FIND(\"*-*\",referentes!AJ2367)-1)),referentes!AJ2367))","v":""},null,""]
[null,null,null,null,null,null,null,null,null,null,null,null,null,null,null,null,null,null,{"$f":"IF(referentes!AJ2368=\"\",\"\",IF(IFERROR(SEARCH(\"*-*\",referentes!AJ2368),2)=1,IF(referentes!AJ2368=\"\",\"\",LEFT(referentes!AJ2368,FIND(\"*-*\",referentes!AJ2368)-1)),referentes!AJ2368))","v":""},null,""]
[null,null,null,null,null,null,null,null,null,null,null,null,null,null,null,null,null,null,{"$f":"IF(referentes!AJ2369=\"\",\"\",IF(IFERROR(SEARCH(\"*-*\",referentes!AJ2369),2)=1,IF(referentes!AJ2369=\"\",\"\",LEFT(referentes!AJ2369,FIND(\"*-*\",referentes!AJ2369)-1)),referentes!AJ2369))","v":""},null,""]
[null,null,null,null,null,null,null,null,null,null,null,null,null,null,null,null,null,null,{"$f":"IF(referentes!AJ2370=\"\",\"\",IF(IFERROR(SEARCH(\"*-*\",referentes!AJ2370),2)=1,IF(referentes!AJ2370=\"\",\"\",LEFT(referentes!AJ2370,FIND(\"*-*\",referentes!AJ2370)-1)),referentes!AJ2370))","v":""},null,""]
[null,null,null,null,null,null,null,null,null,null,null,null,null,null,null,null,null,null,{"$f":"IF(referentes!AJ2371=\"\",\"\",IF(IFERROR(SEARCH(\"*-*\",referentes!AJ2371),2)=1,IF(referentes!AJ2371=\"\",\"\",LEFT(referentes!AJ2371,FIND(\"*-*\",referentes!AJ2371)-1)),referentes!AJ2371))","v":""},null,""]
[null,null,null,null,null,null,null,null,null,null,null,null,null,null,null,null,null,null,{"$f":"IF(referentes!AJ2372=\"\",\"\",IF(IFERROR(SEARCH(\"*-*\",referentes!AJ2372),2)=1,IF(referentes!AJ2372=\"\",\"\",LEFT(referentes!AJ2372,FIND(\"*-*\",referentes!AJ2372)-1)),referentes!AJ2372))","v":""},null,""]
[null,null,null,null,null,null,null,null,null,null,null,null,null,null,null,null,null,null,{"$f":"IF(referentes!AJ2373=\"\",\"\",IF(IFERROR(SEARCH(\"*-*\",referentes!AJ2373),2)=1,IF(referentes!AJ2373=\"\",\"\",LEFT(referentes!AJ2373,FIND(\"*-*\",referentes!AJ2373)-1)),referentes!AJ2373))","v":""},null,""]
[null,null,null,null,null,null,null,null,null,null,null,null,null,null,null,null,null,null,{"$f":"IF(referentes!AJ2374=\"\",\"\",IF(IFERROR(SEARCH(\"*-*\",referentes!AJ2374),2)=1,IF(referentes!AJ2374=\"\",\"\",LEFT(referentes!AJ2374,FIND(\"*-*\",referentes!AJ2374)-1)),referentes!AJ2374))","v":""},null,""]
[null,null,null,null,null,null,null,null,null,null,null,null,null,null,null,null,null,null,{"$f":"IF(referentes!AJ2375=\"\",\"\",IF(IFERROR(SEARCH(\"*-*\",referentes!AJ2375),2)=1,IF(referentes!AJ2375=\"\",\"\",LEFT(referentes!AJ2375,FIND(\"*-*\",referentes!AJ2375)-1)),referentes!AJ2375))","v":""},null,""]
[null,null,null,null,null,null,null,null,null,null,null,null,null,null,null,null,null,null,{"$f":"IF(referentes!AJ2376=\"\",\"\",IF(IFERROR(SEARCH(\"*-*\",referentes!AJ2376),2)=1,IF(referentes!AJ2376=\"\",\"\",LEFT(referentes!AJ2376,FIND(\"*-*\",referentes!AJ2376)-1)),referentes!AJ2376))","v":""},null,{"$f":"IF(IFERROR(T2375,R2375)=S2375,\"\",R2375)","v":""}]
[null,null,null,null,null,null,null,null,null,null,null,null,null,null,null,null,null,null,{"$f":"IF(referentes!AJ2377=\"\",\"\",IF(IFERROR(SEARCH(\"*-*\",referentes!AJ2377),2)=1,IF(referentes!AJ2377=\"\",\"\",LEFT(referentes!AJ2377,FIND(\"*-*\",referentes!AJ2377)-1)),referentes!AJ2377))","v":""},null,""]
[null,null,null,null,null,null,null,null,null,null,null,null,null,null,null,null,null,null,{"$f":"IF(referentes!AJ2378=\"\",\"\",IF(IFERROR(SEARCH(\"*-*\",referentes!AJ2378),2)=1,IF(referentes!AJ2378=\"\",\"\",LEFT(referentes!AJ2378,FIND(\"*-*\",referentes!AJ2378)-1)),referentes!AJ2378))","v":""},null,""]
[null,null,null,null,null,null,null,null,null,null,null,null,null,null,null,null,null,null,{"$f":"IF(referentes!AJ2379=\"\",\"\",IF(IFERROR(SEARCH(\"*-*\",referentes!AJ2379),2)=1,IF(referentes!AJ2379=\"\",\"\",LEFT(referentes!AJ2379,FIND(\"*-*\",referentes!AJ2379)-1)),referentes!AJ2379))","v":""},null,""]
[null,null,null,null,null,null,null,null,null,null,null,null,null,null,null,null,null,null,{"$f":"IF(referentes!AJ2380=\"\",\"\",IF(IFERROR(SEARCH(\"*-*\",referentes!AJ2380),2)=1,IF(referentes!AJ2380=\"\",\"\",LEFT(referentes!AJ2380,FIND(\"*-*\",referentes!AJ2380)-1)),referentes!AJ2380))","v":""},null,""]
[null,null,null,null,null,null,null,null,null,null,null,null,null,null,null,null,null,null,{"$f":"IF(referentes!AJ2381=\"\",\"\",IF(IFERROR(SEARCH(\"*-*\",referentes!AJ2381),2)=1,IF(referentes!AJ2381=\"\",\"\",LEFT(referentes!AJ2381,FIND(\"*-*\",referentes!AJ2381)-1)),referentes!AJ2381))","v":""},null,""]
[null,null,null,null,null,null,null,null,null,null,null,null,null,null,null,null,null,null,{"$f":"IF(referentes!AJ2382=\"\",\"\",IF(IFERROR(SEARCH(\"*-*\",referentes!AJ2382),2)=1,IF(referentes!AJ2382=\"\",\"\",LEFT(referentes!AJ2382,FIND(\"*-*\",referentes!AJ2382)-1)),referentes!AJ2382))","v":""},null,""]
[null,null,null,null,null,null,null,null,null,null,null,null,null,null,null,null,null,null,{"$f":"IF(referentes!AJ2383=\"\",\"\",IF(IFERROR(SEARCH(\"*-*\",referentes!AJ2383),2)=1,IF(referentes!AJ2383=\"\",\"\",LEFT(referentes!AJ2383,FIND(\"*-*\",referentes!AJ2383)-1)),referentes!AJ2383))","v":""},null,""]
[null,null,null,null,null,null,null,null,null,null,null,null,null,null,null,null,null,null,{"$f":"IF(referentes!AJ2384=\"\",\"\",IF(IFERROR(SEARCH(\"*-*\",referentes!AJ2384),2)=1,IF(referentes!AJ2384=\"\",\"\",LEFT(referentes!AJ2384,FIND(\"*-*\",referentes!AJ2384)-1)),referentes!AJ2384))","v":""},null,""]
[null,null,null,null,null,null,null,null,null,null,null,null,null,null,null,null,null,null,{"$f":"IF(referentes!AJ2385=\"\",\"\",IF(IFERROR(SEARCH(\"*-*\",referentes!AJ2385),2)=1,IF(referentes!AJ2385=\"\",\"\",LEFT(referentes!AJ2385,FIND(\"*-*\",referentes!AJ2385)-1)),referentes!AJ2385))","v":""},null,""]
[null,null,null,null,null,null,null,null,null,null,null,null,null,null,null,null,null,null,{"$f":"IF(referentes!AJ2386=\"\",\"\",IF(IFERROR(SEARCH(\"*-*\",referentes!AJ2386),2)=1,IF(referentes!AJ2386=\"\",\"\",LEFT(referentes!AJ2386,FIND(\"*-*\",referentes!AJ2386)-1)),referentes!AJ2386))","v":""},null,""]
[null,null,null,null,null,null,null,null,null,null,null,null,null,null,null,null,null,null,{"$f":"IF(referentes!AJ2387=\"\",\"\",IF(IFERROR(SEARCH(\"*-*\",referentes!AJ2387),2)=1,IF(referentes!AJ2387=\"\",\"\",LEFT(referentes!AJ2387,FIND(\"*-*\",referentes!AJ2387)-1)),referentes!AJ2387))","v":""},null,""]
[null,null,null,null,null,null,null,null,null,null,null,null,null,null,null,null,null,null,{"$f":"IF(referentes!AJ2388=\"\",\"\",IF(IFERROR(SEARCH(\"*-*\",referentes!AJ2388),2)=1,IF(referentes!AJ2388=\"\",\"\",LEFT(referentes!AJ2388,FIND(\"*-*\",referentes!AJ2388)-1)),referentes!AJ2388))","v":""},null,""]
[null,null,null,null,null,null,null,null,null,null,null,null,null,null,null,null,null,null,{"$f":"IF(referentes!AJ2389=\"\",\"\",IF(IFERROR(SEARCH(\"*-*\",referentes!AJ2389),2)=1,IF(referentes!AJ2389=\"\",\"\",LEFT(referentes!AJ2389,FIND(\"*-*\",referentes!AJ2389)-1)),referentes!AJ2389))","v":""},null,""]
[null,null,null,null,null,null,null,null,null,null,null,null,null,null,null,null,null,null,{"$f":"IF(referentes!AJ2390=\"\",\"\",IF(IFERROR(SEARCH(\"*-*\",referentes!AJ2390),2)=1,IF(referentes!AJ2390=\"\",\"\",LEFT(referentes!AJ2390,FIND(\"*-*\",referentes!AJ2390)-1)),referentes!AJ2390))","v":""},null,""]
[null,null,null,null,null,null,null,null,null,null,null,null,null,null,null,null,null,null,{"$f":"IF(referentes!AJ2391=\"\",\"\",IF(IFERROR(SEARCH(\"*-*\",referentes!AJ2391),2)=1,IF(referentes!AJ2391=\"\",\"\",LEFT(referentes!AJ2391,FIND(\"*-*\",referentes!AJ2391)-1)),referentes!AJ2391))","v":""},null,""]
[null,null,null,null,null,null,null,null,null,null,null,null,null,null,null,null,null,null,{"$f":"IF(referentes!AJ2392=\"\",\"\",IF(IFERROR(SEARCH(\"*-*\",referentes!AJ2392),2)=1,IF(referentes!AJ2392=\"\",\"\",LEFT(referentes!AJ2392,FIND(\"*-*\",referentes!AJ2392)-1)),referentes!AJ2392))","v":""},null,""]
[null,null,null,null,null,null,null,null,null,null,null,null,null,null,null,null,null,null,{"$f":"IF(referentes!AJ2393=\"\",\"\",IF(IFERROR(SEARCH(\"*-*\",referentes!AJ2393),2)=1,IF(referentes!AJ2393=\"\",\"\",LEFT(referentes!AJ2393,FIND(\"*-*\",referentes!AJ2393)-1)),referentes!AJ2393))","v":""},null,""]
[null,null,null,null,null,null,null,null,null,null,null,null,null,null,null,null,null,null,{"$f":"IF(referentes!AJ2394=\"\",\"\",IF(IFERROR(SEARCH(\"*-*\",referentes!AJ2394),2)=1,IF(referentes!AJ2394=\"\",\"\",LEFT(referentes!AJ2394,FIND(\"*-*\",referentes!AJ2394)-1)),referentes!AJ2394))","v":""},null,""]
[null,null,null,null,null,null,null,null,null,null,null,null,null,null,null,null,null,null,{"$f":"IF(referentes!AJ2395=\"\",\"\",IF(IFERROR(SEARCH(\"*-*\",referentes!AJ2395),2)=1,IF(referentes!AJ2395=\"\",\"\",LEFT(referentes!AJ2395,FIND(\"*-*\",referentes!AJ2395)-1)),referentes!AJ2395))","v":""},null,""]
[null,null,null,null,null,null,null,null,null,null,null,null,null,null,null,null,null,null,{"$f":"IF(referentes!AJ2396=\"\",\"\",IF(IFERROR(SEARCH(\"*-*\",referentes!AJ2396),2)=1,IF(referentes!AJ2396=\"\",\"\",LEFT(referentes!AJ2396,FIND(\"*-*\",referentes!AJ2396)-1)),referentes!AJ2396))","v":""},null,""]
[null,null,null,null,null,null,null,null,null,null,null,null,null,null,null,null,null,null,{"$f":"IF(referentes!AJ2397=\"\",\"\",IF(IFERROR(SEARCH(\"*-*\",referentes!AJ2397),2)=1,IF(referentes!AJ2397=\"\",\"\",LEFT(referentes!AJ2397,FIND(\"*-*\",referentes!AJ2397)-1)),referentes!AJ2397))","v":""},null,""]
[null,null,null,null,null,null,null,null,null,null,null,null,null,null,null,null,null,null,{"$f":"IF(referentes!AJ2398=\"\",\"\",IF(IFERROR(SEARCH(\"*-*\",referentes!AJ2398),2)=1,IF(referentes!AJ2398=\"\",\"\",LEFT(referentes!AJ2398,FIND(\"*-*\",referentes!AJ2398)-1)),referentes!AJ2398))","v":""},null,""]
[null,null,null,null,null,null,null,null,null,null,null,null,null,null,null,null,null,null,{"$f":"IF(referentes!AJ2399=\"\",\"\",IF(IFERROR(SEARCH(\"*-*\",referentes!AJ2399),2)=1,IF(referentes!AJ2399=\"\",\"\",LEFT(referentes!AJ2399,FIND(\"*-*\",referentes!AJ2399)-1)),referentes!AJ2399))","v":""},null,""]
[null,null,null,null,null,null,null,null,null,null,null,null,null,null,null,null,null,null,{"$f":"IF(referentes!AJ2400=\"\",\"\",IF(IFERROR(SEARCH(\"*-*\",referentes!AJ2400),2)=1,IF(referentes!AJ2400=\"\",\"\",LEFT(referentes!AJ2400,FIND(\"*-*\",referentes!AJ2400)-1)),referentes!AJ2400))","v":""},null,""]
[null,null,null,null,null,null,null,null,null,null,null,null,null,null,null,null,null,null,{"$f":"IF(referentes!AJ2401=\"\",\"\",IF(IFERROR(SEARCH(\"*-*\",referentes!AJ2401),2)=1,IF(referentes!AJ2401=\"\",\"\",LEFT(referentes!AJ2401,FIND(\"*-*\",referentes!AJ2401)-1)),referentes!AJ2401))","v":""},null,""]
[null,null,null,null,null,null,null,null,null,null,null,null,null,null,null,null,null,null,{"$f":"IF(referentes!AJ2402=\"\",\"\",IF(IFERROR(SEARCH(\"*-*\",referentes!AJ2402),2)=1,IF(referentes!AJ2402=\"\",\"\",LEFT(referentes!AJ2402,FIND(\"*-*\",referentes!AJ2402)-1)),referentes!AJ2402))","v":""},null,""]
[null,null,null,null,null,null,null,null,null,null,null,null,null,null,null,null,null,null,{"$f":"IF(referentes!AJ2403=\"\",\"\",IF(IFERROR(SEARCH(\"*-*\",referentes!AJ2403),2)=1,IF(referentes!AJ2403=\"\",\"\",LEFT(referentes!AJ2403,FIND(\"*-*\",referentes!AJ2403)-1)),referentes!AJ2403))","v":""},null,""]
[null,null,null,null,null,null,null,null,null,null,null,null,null,null,null,null,null,null,{"$f":"IF(referentes!AJ2404=\"\",\"\",IF(IFERROR(SEARCH(\"*-*\",referentes!AJ2404),2)=1,IF(referentes!AJ2404=\"\",\"\",LEFT(referentes!AJ2404,FIND(\"*-*\",referentes!AJ2404)-1)),referentes!AJ2404))","v":""},null,""]
[null,null,null,null,null,null,null,null,null,null,null,null,null,null,null,null,null,null,{"$f":"IF(referentes!AJ2405=\"\",\"\",IF(IFERROR(SEARCH(\"*-*\",referentes!AJ2405),2)=1,IF(referentes!AJ2405=\"\",\"\",LEFT(referentes!AJ2405,FIND(\"*-*\",referentes!AJ2405)-1)),referentes!AJ2405))","v":""},null,""]
[null,null,null,null,null,null,null,null,null,null,null,null,null,null,null,null,null,null,{"$f":"IF(referentes!AJ2406=\"\",\"\",IF(IFERROR(SEARCH(\"*-*\",referentes!AJ2406),2)=1,IF(referentes!AJ2406=\"\",\"\",LEFT(referentes!AJ2406,FIND(\"*-*\",referentes!AJ2406)-1)),referentes!AJ2406))","v":""},null,""]
[null,null,null,null,null,null,null,null,null,null,null,null,null,null,null,null,null,null,{"$f":"IF(referentes!AJ2407=\"\",\"\",IF(IFERROR(SEARCH(\"*-*\",referentes!AJ2407),2)=1,IF(referentes!AJ2407=\"\",\"\",LEFT(referentes!AJ2407,FIND(\"*-*\",referentes!AJ2407)-1)),referentes!AJ2407))","v":""},null,""]
[null,null,null,null,null,null,null,null,null,null,null,null,null,null,null,null,null,null,{"$f":"IF(referentes!AJ2408=\"\",\"\",IF(IFERROR(SEARCH(\"*-*\",referentes!AJ2408),2)=1,IF(referentes!AJ2408=\"\",\"\",LEFT(referentes!AJ2408,FIND(\"*-*\",referentes!AJ2408)-1)),referentes!AJ2408))","v":""},null,""]
[null,null,null,null,null,null,null,null,null,null,null,null,null,null,null,null,null,null,{"$f":"IF(referentes!AJ2409=\"\",\"\",IF(IFERROR(SEARCH(\"*-*\",referentes!AJ2409),2)=1,IF(referentes!AJ2409=\"\",\"\",LEFT(referentes!AJ2409,FIND(\"*-*\",referentes!AJ2409)-1)),referentes!AJ2409))","v":""},null,""]
[null,null,null,null,null,null,null,null,null,null,null,null,null,null,null,null,null,null,{"$f":"IF(referentes!AJ2410=\"\",\"\",IF(IFERROR(SEARCH(\"*-*\",referentes!AJ2410),2)=1,IF(referentes!AJ2410=\"\",\"\",LEFT(referentes!AJ2410,FIND(\"*-*\",referentes!AJ2410)-1)),referentes!AJ2410))","v":""},null,""]
[null,null,null,null,null,null,null,null,null,null,null,null,null,null,null,null,null,null,{"$f":"IF(referentes!AJ2411=\"\",\"\",IF(IFERROR(SEARCH(\"*-*\",referentes!AJ2411),2)=1,IF(referentes!AJ2411=\"\",\"\",LEFT(referentes!AJ2411,FIND(\"*-*\",referentes!AJ2411)-1)),referentes!AJ2411))","v":""},null,""]
[null,null,null,null,null,null,null,null,null,null,null,null,null,null,null,null,null,null,{"$f":"IF(referentes!AJ2412=\"\",\"\",IF(IFERROR(SEARCH(\"*-*\",referentes!AJ2412),2)=1,IF(referentes!AJ2412=\"\",\"\",LEFT(referentes!AJ2412,FIND(\"*-*\",referentes!AJ2412)-1)),referentes!AJ2412))","v":""},null,""]
[null,null,null,null,null,null,null,null,null,null,null,null,null,null,null,null,null,null,{"$f":"IF(referentes!AJ2413=\"\",\"\",IF(IFERROR(SEARCH(\"*-*\",referentes!AJ2413),2)=1,IF(referentes!AJ2413=\"\",\"\",LEFT(referentes!AJ2413,FIND(\"*-*\",referentes!AJ2413)-1)),referentes!AJ2413))","v":""},null,""]
[null,null,null,null,null,null,null,null,null,null,null,null,null,null,null,null,null,null,{"$f":"IF(referentes!AJ2414=\"\",\"\",IF(IFERROR(SEARCH(\"*-*\",referentes!AJ2414),2)=1,IF(referentes!AJ2414=\"\",\"\",LEFT(referentes!AJ2414,FIND(\"*-*\",referentes!AJ2414)-1)),referentes!AJ2414))","v":""},null,""]
[null,null,null,null,null,null,null,null,null,null,null,null,null,null,null,null,null,null,{"$f":"IF(referentes!AJ2415=\"\",\"\",IF(IFERROR(SEARCH(\"*-*\",referentes!AJ2415),2)=1,IF(referentes!AJ2415=\"\",\"\",LEFT(referentes!AJ2415,FIND(\"*-*\",referentes!AJ2415)-1)),referentes!AJ2415))","v":""},null,""]
[null,null,null,null,null,null,null,null,null,null,null,null,null,null,null,null,null,null,{"$f":"IF(referentes!AJ2416=\"\",\"\",IF(IFERROR(SEARCH(\"*-*\",referentes!AJ2416),2)=1,IF(referentes!AJ2416=\"\",\"\",LEFT(referentes!AJ2416,FIND(\"*-*\",referentes!AJ2416)-1)),referentes!AJ2416))","v":""},null,""]
[null,null,null,null,null,null,null,null,null,null,null,null,null,null,null,null,null,null,{"$f":"IF(referentes!AJ2417=\"\",\"\",IF(IFERROR(SEARCH(\"*-*\",referentes!AJ2417),2)=1,IF(referentes!AJ2417=\"\",\"\",LEFT(referentes!AJ2417,FIND(\"*-*\",referentes!AJ2417)-1)),referentes!AJ2417))","v":""},null,""]
[null,null,null,null,null,null,null,null,null,null,null,null,null,null,null,null,null,null,{"$f":"IF(referentes!AJ2418=\"\",\"\",IF(IFERROR(SEARCH(\"*-*\",referentes!AJ2418),2)=1,IF(referentes!AJ2418=\"\",\"\",LEFT(referentes!AJ2418,FIND(\"*-*\",referentes!AJ2418)-1)),referentes!AJ2418))","v":""},null,""]
[null,null,null,null,null,null,null,null,null,null,null,null,null,null,null,null,null,null,{"$f":"IF(referentes!AJ2419=\"\",\"\",IF(IFERROR(SEARCH(\"*-*\",referentes!AJ2419),2)=1,IF(referentes!AJ2419=\"\",\"\",LEFT(referentes!AJ2419,FIND(\"*-*\",referentes!AJ2419)-1)),referentes!AJ2419))","v":""},null,""]
[null,null,null,null,null,null,null,null,null,null,null,null,null,null,null,null,null,null,{"$f":"IF(referentes!AJ2420=\"\",\"\",IF(IFERROR(SEARCH(\"*-*\",referentes!AJ2420),2)=1,IF(referentes!AJ2420=\"\",\"\",LEFT(referentes!AJ2420,FIND(\"*-*\",referentes!AJ2420)-1)),referentes!AJ2420))","v":""},null,""]
[null,null,null,null,null,null,null,null,null,null,null,null,null,null,null,null,null,null,{"$f":"IF(referentes!AJ2421=\"\",\"\",IF(IFERROR(SEARCH(\"*-*\",referentes!AJ2421),2)=1,IF(referentes!AJ2421=\"\",\"\",LEFT(referentes!AJ2421,FIND(\"*-*\",referentes!AJ2421)-1)),referentes!AJ2421))","v":""},null,""]
[null,null,null,null,null,null,null,null,null,null,null,null,null,null,null,null,null,null,{"$f":"IF(referentes!AJ2422=\"\",\"\",IF(IFERROR(SEARCH(\"*-*\",referentes!AJ2422),2)=1,IF(referentes!AJ2422=\"\",\"\",LEFT(referentes!AJ2422,FIND(\"*-*\",referentes!AJ2422)-1)),referentes!AJ2422))","v":""},null,""]
[null,null,null,null,null,null,null,null,null,null,null,null,null,null,null,null,null,null,{"$f":"IF(referentes!AJ2423=\"\",\"\",IF(IFERROR(SEARCH(\"*-*\",referentes!AJ2423),2)=1,IF(referentes!AJ2423=\"\",\"\",LEFT(referentes!AJ2423,FIND(\"*-*\",referentes!AJ2423)-1)),referentes!AJ2423))","v":""},null,""]
[null,null,null,null,null,null,null,null,null,null,null,null,null,null,null,null,null,null,{"$f":"IF(referentes!AJ2424=\"\",\"\",IF(IFERROR(SEARCH(\"*-*\",referentes!AJ2424),2)=1,IF(referentes!AJ2424=\"\",\"\",LEFT(referentes!AJ2424,FIND(\"*-*\",referentes!AJ2424)-1)),referentes!AJ2424))","v":""},null,""]
[null,null,null,null,null,null,null,null,null,null,null,null,null,null,null,null,null,null,{"$f":"IF(referentes!AJ2425=\"\",\"\",IF(IFERROR(SEARCH(\"*-*\",referentes!AJ2425),2)=1,IF(referentes!AJ2425=\"\",\"\",LEFT(referentes!AJ2425,FIND(\"*-*\",referentes!AJ2425)-1)),referentes!AJ2425))","v":""},null,""]
[null,null,null,null,null,null,null,null,null,null,null,null,null,null,null,null,null,null,{"$f":"IF(referentes!AJ2426=\"\",\"\",IF(IFERROR(SEARCH(\"*-*\",referentes!AJ2426),2)=1,IF(referentes!AJ2426=\"\",\"\",LEFT(referentes!AJ2426,FIND(\"*-*\",referentes!AJ2426)-1)),referentes!AJ2426))","v":""},null,""]
[null,null,null,null,null,null,null,null,null,null,null,null,null,null,null,null,null,null,{"$f":"IF(referentes!AJ2427=\"\",\"\",IF(IFERROR(SEARCH(\"*-*\",referentes!AJ2427),2)=1,IF(referentes!AJ2427=\"\",\"\",LEFT(referentes!AJ2427,FIND(\"*-*\",referentes!AJ2427)-1)),referentes!AJ2427))","v":""},null,""]
[null,null,null,null,null,null,null,null,null,null,null,null,null,null,null,null,null,null,{"$f":"IF(referentes!AJ2428=\"\",\"\",IF(IFERROR(SEARCH(\"*-*\",referentes!AJ2428),2)=1,IF(referentes!AJ2428=\"\",\"\",LEFT(referentes!AJ2428,FIND(\"*-*\",referentes!AJ2428)-1)),referentes!AJ2428))","v":""},null,""]
[null,null,null,null,null,null,null,null,null,null,null,null,null,null,null,null,null,null,{"$f":"IF(referentes!AJ2429=\"\",\"\",IF(IFERROR(SEARCH(\"*-*\",referentes!AJ2429),2)=1,IF(referentes!AJ2429=\"\",\"\",LEFT(referentes!AJ2429,FIND(\"*-*\",referentes!AJ2429)-1)),referentes!AJ2429))","v":""},null,""]
[null,null,null,null,null,null,null,null,null,null,null,null,null,null,null,null,null,null,{"$f":"IF(referentes!AJ2430=\"\",\"\",IF(IFERROR(SEARCH(\"*-*\",referentes!AJ2430),2)=1,IF(referentes!AJ2430=\"\",\"\",LEFT(referentes!AJ2430,FIND(\"*-*\",referentes!AJ2430)-1)),referentes!AJ2430))","v":""},null,""]
[null,null,null,null,null,null,null,null,null,null,null,null,null,null,null,null,null,null,{"$f":"IF(referentes!AJ2431=\"\",\"\",IF(IFERROR(SEARCH(\"*-*\",referentes!AJ2431),2)=1,IF(referentes!AJ2431=\"\",\"\",LEFT(referentes!AJ2431,FIND(\"*-*\",referentes!AJ2431)-1)),referentes!AJ2431))","v":""},null,""]
[null,null,null,null,null,null,null,null,null,null,null,null,null,null,null,null,null,null,{"$f":"IF(referentes!AJ2432=\"\",\"\",IF(IFERROR(SEARCH(\"*-*\",referentes!AJ2432),2)=1,IF(referentes!AJ2432=\"\",\"\",LEFT(referentes!AJ2432,FIND(\"*-*\",referentes!AJ2432)-1)),referentes!AJ2432))","v":""},null,""]
[null,null,null,null,null,null,null,null,null,null,null,null,null,null,null,null,null,null,{"$f":"IF(referentes!AJ2433=\"\",\"\",IF(IFERROR(SEARCH(\"*-*\",referentes!AJ2433),2)=1,IF(referentes!AJ2433=\"\",\"\",LEFT(referentes!AJ2433,FIND(\"*-*\",referentes!AJ2433)-1)),referentes!AJ2433))","v":""},null,""]
[null,null,null,null,null,null,null,null,null,null,null,null,null,null,null,null,null,null,{"$f":"IF(referentes!AJ2434=\"\",\"\",IF(IFERROR(SEARCH(\"*-*\",referentes!AJ2434),2)=1,IF(referentes!AJ2434=\"\",\"\",LEFT(referentes!AJ2434,FIND(\"*-*\",referentes!AJ2434)-1)),referentes!AJ2434))","v":""},null,""]
[null,null,null,null,null,null,null,null,null,null,null,null,null,null,null,null,null,null,{"$f":"IF(referentes!AJ2435=\"\",\"\",IF(IFERROR(SEARCH(\"*-*\",referentes!AJ2435),2)=1,IF(referentes!AJ2435=\"\",\"\",LEFT(referentes!AJ2435,FIND(\"*-*\",referentes!AJ2435)-1)),referentes!AJ2435))","v":""},null,""]
[null,null,null,null,null,null,null,null,null,null,null,null,null,null,null,null,null,null,{"$f":"IF(referentes!AJ2436=\"\",\"\",IF(IFERROR(SEARCH(\"*-*\",referentes!AJ2436),2)=1,IF(referentes!AJ2436=\"\",\"\",LEFT(referentes!AJ2436,FIND(\"*-*\",referentes!AJ2436)-1)),referentes!AJ2436))","v":""},null,""]
[null,null,null,null,null,null,null,null,null,null,null,null,null,null,null,null,null,null,{"$f":"IF(referentes!AJ2437=\"\",\"\",IF(IFERROR(SEARCH(\"*-*\",referentes!AJ2437),2)=1,IF(referentes!AJ2437=\"\",\"\",LEFT(referentes!AJ2437,FIND(\"*-*\",referentes!AJ2437)-1)),referentes!AJ2437))","v":""},null,""]
[null,null,null,null,null,null,null,null,null,null,null,null,null,null,null,null,null,null,{"$f":"IF(referentes!AJ2438=\"\",\"\",IF(IFERROR(SEARCH(\"*-*\",referentes!AJ2438),2)=1,IF(referentes!AJ2438=\"\",\"\",LEFT(referentes!AJ2438,FIND(\"*-*\",referentes!AJ2438)-1)),referentes!AJ2438))","v":""},null,""]
[null,null,null,null,null,null,null,null,null,null,null,null,null,null,null,null,null,null,{"$f":"IF(referentes!AJ2439=\"\",\"\",IF(IFERROR(SEARCH(\"*-*\",referentes!AJ2439),2)=1,IF(referentes!AJ2439=\"\",\"\",LEFT(referentes!AJ2439,FIND(\"*-*\",referentes!AJ2439)-1)),referentes!AJ2439))","v":""},null,""]
[null,null,null,null,null,null,null,null,null,null,null,null,null,null,null,null,null,null,{"$f":"IF(referentes!AJ2440=\"\",\"\",IF(IFERROR(SEARCH(\"*-*\",referentes!AJ2440),2)=1,IF(referentes!AJ2440=\"\",\"\",LEFT(referentes!AJ2440,FIND(\"*-*\",referentes!AJ2440)-1)),referentes!AJ2440))","v":""},null,{"$f":"IF(IFERROR(T2439,R2439)=S2439,\"\",R2439)","v":""}]
[null,null,null,null,null,null,null,null,null,null,null,null,null,null,null,null,null,null,{"$f":"IF(referentes!AJ2441=\"\",\"\",IF(IFERROR(SEARCH(\"*-*\",referentes!AJ2441),2)=1,IF(referentes!AJ2441=\"\",\"\",LEFT(referentes!AJ2441,FIND(\"*-*\",referentes!AJ2441)-1)),referentes!AJ2441))","v":""},null,""]
[null,null,null,null,null,null,null,null,null,null,null,null,null,null,null,null,null,null,{"$f":"IF(referentes!AJ2442=\"\",\"\",IF(IFERROR(SEARCH(\"*-*\",referentes!AJ2442),2)=1,IF(referentes!AJ2442=\"\",\"\",LEFT(referentes!AJ2442,FIND(\"*-*\",referentes!AJ2442)-1)),referentes!AJ2442))","v":""},null,""]
[null,null,null,null,null,null,null,null,null,null,null,null,null,null,null,null,null,null,{"$f":"IF(referentes!AJ2443=\"\",\"\",IF(IFERROR(SEARCH(\"*-*\",referentes!AJ2443),2)=1,IF(referentes!AJ2443=\"\",\"\",LEFT(referentes!AJ2443,FIND(\"*-*\",referentes!AJ2443)-1)),referentes!AJ2443))","v":""},null,""]
[null,null,null,null,null,null,null,null,null,null,null,null,null,null,null,null,null,null,{"$f":"IF(referentes!AJ2444=\"\",\"\",IF(IFERROR(SEARCH(\"*-*\",referentes!AJ2444),2)=1,IF(referentes!AJ2444=\"\",\"\",LEFT(referentes!AJ2444,FIND(\"*-*\",referentes!AJ2444)-1)),referentes!AJ2444))","v":""},null,""]
[null,null,null,null,null,null,null,null,null,null,null,null,null,null,null,null,null,null,{"$f":"IF(referentes!AJ2445=\"\",\"\",IF(IFERROR(SEARCH(\"*-*\",referentes!AJ2445),2)=1,IF(referentes!AJ2445=\"\",\"\",LEFT(referentes!AJ2445,FIND(\"*-*\",referentes!AJ2445)-1)),referentes!AJ2445))","v":""},null,""]
[null,null,null,null,null,null,null,null,null,null,null,null,null,null,null,null,null,null,{"$f":"IF(referentes!AJ2446=\"\",\"\",IF(IFERROR(SEARCH(\"*-*\",referentes!AJ2446),2)=1,IF(referentes!AJ2446=\"\",\"\",LEFT(referentes!AJ2446,FIND(\"*-*\",referentes!AJ2446)-1)),referentes!AJ2446))","v":""},null,""]
[null,null,null,null,null,null,null,null,null,null,null,null,null,null,null,null,null,null,{"$f":"IF(referentes!AJ2447=\"\",\"\",IF(IFERROR(SEARCH(\"*-*\",referentes!AJ2447),2)=1,IF(referentes!AJ2447=\"\",\"\",LEFT(referentes!AJ2447,FIND(\"*-*\",referentes!AJ2447)-1)),referentes!AJ2447))","v":""},null,""]
[null,null,null,null,null,null,null,null,null,null,null,null,null,null,null,null,null,null,{"$f":"IF(referentes!AJ2448=\"\",\"\",IF(IFERROR(SEARCH(\"*-*\",referentes!AJ2448),2)=1,IF(referentes!AJ2448=\"\",\"\",LEFT(referentes!AJ2448,FIND(\"*-*\",referentes!AJ2448)-1)),referentes!AJ2448))","v":""},null,""]
[null,null,null,null,null,null,null,null,null,null,null,null,null,null,null,null,null,null,{"$f":"IF(referentes!AJ2449=\"\",\"\",IF(IFERROR(SEARCH(\"*-*\",referentes!AJ2449),2)=1,IF(referentes!AJ2449=\"\",\"\",LEFT(referentes!AJ2449,FIND(\"*-*\",referentes!AJ2449)-1)),referentes!AJ2449))","v":""},null,""]
[null,null,null,null,null,null,null,null,null,null,null,null,null,null,null,null,null,null,{"$f":"IF(referentes!AJ2450=\"\",\"\",IF(IFERROR(SEARCH(\"*-*\",referentes!AJ2450),2)=1,IF(referentes!AJ2450=\"\",\"\",LEFT(referentes!AJ2450,FIND(\"*-*\",referentes!AJ2450)-1)),referentes!AJ2450))","v":""},null,""]
[null,null,null,null,null,null,null,null,null,null,null,null,null,null,null,null,null,null,{"$f":"IF(referentes!AJ2451=\"\",\"\",IF(IFERROR(SEARCH(\"*-*\",referentes!AJ2451),2)=1,IF(referentes!AJ2451=\"\",\"\",LEFT(referentes!AJ2451,FIND(\"*-*\",referentes!AJ2451)-1)),referentes!AJ2451))","v":""},null,""]
[null,null,null,null,null,null,null,null,null,null,null,null,null,null,null,null,null,null,{"$f":"IF(referentes!AJ2452=\"\",\"\",IF(IFERROR(SEARCH(\"*-*\",referentes!AJ2452),2)=1,IF(referentes!AJ2452=\"\",\"\",LEFT(referentes!AJ2452,FIND(\"*-*\",referentes!AJ2452)-1)),referentes!AJ2452))","v":""},null,""]
[null,null,null,null,null,null,null,null,null,null,null,null,null,null,null,null,null,null,{"$f":"IF(referentes!AJ2453=\"\",\"\",IF(IFERROR(SEARCH(\"*-*\",referentes!AJ2453),2)=1,IF(referentes!AJ2453=\"\",\"\",LEFT(referentes!AJ2453,FIND(\"*-*\",referentes!AJ2453)-1)),referentes!AJ2453))","v":""},null,""]
[null,null,null,null,null,null,null,null,null,null,null,null,null,null,null,null,null,null,{"$f":"IF(referentes!AJ2454=\"\",\"\",IF(IFERROR(SEARCH(\"*-*\",referentes!AJ2454),2)=1,IF(referentes!AJ2454=\"\",\"\",LEFT(referentes!AJ2454,FIND(\"*-*\",referentes!AJ2454)-1)),referentes!AJ2454))","v":""},null,""]
[null,null,null,null,null,null,null,null,null,null,null,null,null,null,null,null,null,null,{"$f":"IF(referentes!AJ2455=\"\",\"\",IF(IFERROR(SEARCH(\"*-*\",referentes!AJ2455),2)=1,IF(referentes!AJ2455=\"\",\"\",LEFT(referentes!AJ2455,FIND(\"*-*\",referentes!AJ2455)-1)),referentes!AJ2455))","v":""},null,""]
[null,null,null,null,null,null,null,null,null,null,null,null,null,null,null,null,null,null,{"$f":"IF(referentes!AJ2456=\"\",\"\",IF(IFERROR(SEARCH(\"*-*\",referentes!AJ2456),2)=1,IF(referentes!AJ2456=\"\",\"\",LEFT(referentes!AJ2456,FIND(\"*-*\",referentes!AJ2456)-1)),referentes!AJ2456))","v":""},null,""]
[null,null,null,null,null,null,null,null,null,null,null,null,null,null,null,null,null,null,{"$f":"IF(referentes!AJ2457=\"\",\"\",IF(IFERROR(SEARCH(\"*-*\",referentes!AJ2457),2)=1,IF(referentes!AJ2457=\"\",\"\",LEFT(referentes!AJ2457,FIND(\"*-*\",referentes!AJ2457)-1)),referentes!AJ2457))","v":""},null,""]
[null,null,null,null,null,null,null,null,null,null,null,null,null,null,null,null,null,null,{"$f":"IF(referentes!AJ2458=\"\",\"\",IF(IFERROR(SEARCH(\"*-*\",referentes!AJ2458),2)=1,IF(referentes!AJ2458=\"\",\"\",LEFT(referentes!AJ2458,FIND(\"*-*\",referentes!AJ2458)-1)),referentes!AJ2458))","v":""},null,""]
[null,null,null,null,null,null,null,null,null,null,null,null,null,null,null,null,null,null,{"$f":"IF(referentes!AJ2459=\"\",\"\",IF(IFERROR(SEARCH(\"*-*\",referentes!AJ2459),2)=1,IF(referentes!AJ2459=\"\",\"\",LEFT(referentes!AJ2459,FIND(\"*-*\",referentes!AJ2459)-1)),referentes!AJ2459))","v":""},null,""]
[null,null,null,null,null,null,null,null,null,null,null,null,null,null,null,null,null,null,{"$f":"IF(referentes!AJ2460=\"\",\"\",IF(IFERROR(SEARCH(\"*-*\",referentes!AJ2460),2)=1,IF(referentes!AJ2460=\"\",\"\",LEFT(referentes!AJ2460,FIND(\"*-*\",referentes!AJ2460)-1)),referentes!AJ2460))","v":""},null,""]
[null,null,null,null,null,null,null,null,null,null,null,null,null,null,null,null,null,null,{"$f":"IF(referentes!AJ2461=\"\",\"\",IF(IFERROR(SEARCH(\"*-*\",referentes!AJ2461),2)=1,IF(referentes!AJ2461=\"\",\"\",LEFT(referentes!AJ2461,FIND(\"*-*\",referentes!AJ2461)-1)),referentes!AJ2461))","v":""},null,""]
[null,null,null,null,null,null,null,null,null,null,null,null,null,null,null,null,null,null,{"$f":"IF(referentes!AJ2462=\"\",\"\",IF(IFERROR(SEARCH(\"*-*\",referentes!AJ2462),2)=1,IF(referentes!AJ2462=\"\",\"\",LEFT(referentes!AJ2462,FIND(\"*-*\",referentes!AJ2462)-1)),referentes!AJ2462))","v":""},null,""]
[null,null,null,null,null,null,null,null,null,null,null,null,null,null,null,null,null,null,{"$f":"IF(referentes!AJ2463=\"\",\"\",IF(IFERROR(SEARCH(\"*-*\",referentes!AJ2463),2)=1,IF(referentes!AJ2463=\"\",\"\",LEFT(referentes!AJ2463,FIND(\"*-*\",referentes!AJ2463)-1)),referentes!AJ2463))","v":""},null,""]
[null,null,null,null,null,null,null,null,null,null,null,null,null,null,null,null,null,null,{"$f":"IF(referentes!AJ2464=\"\",\"\",IF(IFERROR(SEARCH(\"*-*\",referentes!AJ2464),2)=1,IF(referentes!AJ2464=\"\",\"\",LEFT(referentes!AJ2464,FIND(\"*-*\",referentes!AJ2464)-1)),referentes!AJ2464))","v":""},null,""]
[null,null,null,null,null,null,null,null,null,null,null,null,null,null,null,null,null,null,{"$f":"IF(referentes!AJ2465=\"\",\"\",IF(IFERROR(SEARCH(\"*-*\",referentes!AJ2465),2)=1,IF(referentes!AJ2465=\"\",\"\",LEFT(referentes!AJ2465,FIND(\"*-*\",referentes!AJ2465)-1)),referentes!AJ2465))","v":""},null,""]
[null,null,null,null,null,null,null,null,null,null,null,null,null,null,null,null,null,null,{"$f":"IF(referentes!AJ2466=\"\",\"\",IF(IFERROR(SEARCH(\"*-*\",referentes!AJ2466),2)=1,IF(referentes!AJ2466=\"\",\"\",LEFT(referentes!AJ2466,FIND(\"*-*\",referentes!AJ2466)-1)),referentes!AJ2466))","v":""},null,""]
[null,null,null,null,null,null,null,null,null,null,null,null,null,null,null,null,null,null,{"$f":"IF(referentes!AJ2467=\"\",\"\",IF(IFERROR(SEARCH(\"*-*\",referentes!AJ2467),2)=1,IF(referentes!AJ2467=\"\",\"\",LEFT(referentes!AJ2467,FIND(\"*-*\",referentes!AJ2467)-1)),referentes!AJ2467))","v":""},null,""]
[null,null,null,null,null,null,null,null,null,null,null,null,null,null,null,null,null,null,{"$f":"IF(referentes!AJ2468=\"\",\"\",IF(IFERROR(SEARCH(\"*-*\",referentes!AJ2468),2)=1,IF(referentes!AJ2468=\"\",\"\",LEFT(referentes!AJ2468,FIND(\"*-*\",referentes!AJ2468)-1)),referentes!AJ2468))","v":""},null,""]
[null,null,null,null,null,null,null,null,null,null,null,null,null,null,null,null,null,null,{"$f":"IF(referentes!AJ2469=\"\",\"\",IF(IFERROR(SEARCH(\"*-*\",referentes!AJ2469),2)=1,IF(referentes!AJ2469=\"\",\"\",LEFT(referentes!AJ2469,FIND(\"*-*\",referentes!AJ2469)-1)),referentes!AJ2469))","v":""},null,""]
[null,null,null,null,null,null,null,null,null,null,null,null,null,null,null,null,null,null,{"$f":"IF(referentes!AJ2470=\"\",\"\",IF(IFERROR(SEARCH(\"*-*\",referentes!AJ2470),2)=1,IF(referentes!AJ2470=\"\",\"\",LEFT(referentes!AJ2470,FIND(\"*-*\",referentes!AJ2470)-1)),referentes!AJ2470))","v":""},null,""]
[null,null,null,null,null,null,null,null,null,null,null,null,null,null,null,null,null,null,{"$f":"IF(referentes!AJ2471=\"\",\"\",IF(IFERROR(SEARCH(\"*-*\",referentes!AJ2471),2)=1,IF(referentes!AJ2471=\"\",\"\",LEFT(referentes!AJ2471,FIND(\"*-*\",referentes!AJ2471)-1)),referentes!AJ2471))","v":""},null,""]
[null,null,null,null,null,null,null,null,null,null,null,null,null,null,null,null,null,null,{"$f":"IF(referentes!AJ2472=\"\",\"\",IF(IFERROR(SEARCH(\"*-*\",referentes!AJ2472),2)=1,IF(referentes!AJ2472=\"\",\"\",LEFT(referentes!AJ2472,FIND(\"*-*\",referentes!AJ2472)-1)),referentes!AJ2472))","v":""},null,""]
[null,null,null,null,null,null,null,null,null,null,null,null,null,null,null,null,null,null,{"$f":"IF(referentes!AJ2473=\"\",\"\",IF(IFERROR(SEARCH(\"*-*\",referentes!AJ2473),2)=1,IF(referentes!AJ2473=\"\",\"\",LEFT(referentes!AJ2473,FIND(\"*-*\",referentes!AJ2473)-1)),referentes!AJ2473))","v":""},null,""]
[null,null,null,null,null,null,null,null,null,null,null,null,null,null,null,null,null,null,{"$f":"IF(referentes!AJ2474=\"\",\"\",IF(IFERROR(SEARCH(\"*-*\",referentes!AJ2474),2)=1,IF(referentes!AJ2474=\"\",\"\",LEFT(referentes!AJ2474,FIND(\"*-*\",referentes!AJ2474)-1)),referentes!AJ2474))","v":""},null,""]
[null,null,null,null,null,null,null,null,null,null,null,null,null,null,null,null,null,null,{"$f":"IF(referentes!AJ2475=\"\",\"\",IF(IFERROR(SEARCH(\"*-*\",referentes!AJ2475),2)=1,IF(referentes!AJ2475=\"\",\"\",LEFT(referentes!AJ2475,FIND(\"*-*\",referentes!AJ2475)-1)),referentes!AJ2475))","v":""},null,""]
[null,null,null,null,null,null,null,null,null,null,null,null,null,null,null,null,null,null,{"$f":"IF(referentes!AJ2476=\"\",\"\",IF(IFERROR(SEARCH(\"*-*\",referentes!AJ2476),2)=1,IF(referentes!AJ2476=\"\",\"\",LEFT(referentes!AJ2476,FIND(\"*-*\",referentes!AJ2476)-1)),referentes!AJ2476))","v":""},null,""]
[null,null,null,null,null,null,null,null,null,null,null,null,null,null,null,null,null,null,{"$f":"IF(referentes!AJ2477=\"\",\"\",IF(IFERROR(SEARCH(\"*-*\",referentes!AJ2477),2)=1,IF(referentes!AJ2477=\"\",\"\",LEFT(referentes!AJ2477,FIND(\"*-*\",referentes!AJ2477)-1)),referentes!AJ2477))","v":""},null,""]
[null,null,null,null,null,null,null,null,null,null,null,null,null,null,null,null,null,null,{"$f":"IF(referentes!AJ2478=\"\",\"\",IF(IFERROR(SEARCH(\"*-*\",referentes!AJ2478),2)=1,IF(referentes!AJ2478=\"\",\"\",LEFT(referentes!AJ2478,FIND(\"*-*\",referentes!AJ2478)-1)),referentes!AJ2478))","v":""},null,""]
[null,null,null,null,null,null,null,null,null,null,null,null,null,null,null,null,null,null,{"$f":"IF(referentes!AJ2479=\"\",\"\",IF(IFERROR(SEARCH(\"*-*\",referentes!AJ2479),2)=1,IF(referentes!AJ2479=\"\",\"\",LEFT(referentes!AJ2479,FIND(\"*-*\",referentes!AJ2479)-1)),referentes!AJ2479))","v":""},null,""]
[null,null,null,null,null,null,null,null,null,null,null,null,null,null,null,null,null,null,{"$f":"IF(referentes!AJ2480=\"\",\"\",IF(IFERROR(SEARCH(\"*-*\",referentes!AJ2480),2)=1,IF(referentes!AJ2480=\"\",\"\",LEFT(referentes!AJ2480,FIND(\"*-*\",referentes!AJ2480)-1)),referentes!AJ2480))","v":""},null,""]
[null,null,null,null,null,null,null,null,null,null,null,null,null,null,null,null,null,null,{"$f":"IF(referentes!AJ2481=\"\",\"\",IF(IFERROR(SEARCH(\"*-*\",referentes!AJ2481),2)=1,IF(referentes!AJ2481=\"\",\"\",LEFT(referentes!AJ2481,FIND(\"*-*\",referentes!AJ2481)-1)),referentes!AJ2481))","v":""},null,""]
[null,null,null,null,null,null,null,null,null,null,null,null,null,null,null,null,null,null,{"$f":"IF(referentes!AJ2482=\"\",\"\",IF(IFERROR(SEARCH(\"*-*\",referentes!AJ2482),2)=1,IF(referentes!AJ2482=\"\",\"\",LEFT(referentes!AJ2482,FIND(\"*-*\",referentes!AJ2482)-1)),referentes!AJ2482))","v":""},null,""]
[null,null,null,null,null,null,null,null,null,null,null,null,null,null,null,null,null,null,{"$f":"IF(referentes!AJ2483=\"\",\"\",IF(IFERROR(SEARCH(\"*-*\",referentes!AJ2483),2)=1,IF(referentes!AJ2483=\"\",\"\",LEFT(referentes!AJ2483,FIND(\"*-*\",referentes!AJ2483)-1)),referentes!AJ2483))","v":""},null,""]
[null,null,null,null,null,null,null,null,null,null,null,null,null,null,null,null,null,null,{"$f":"IF(referentes!AJ2484=\"\",\"\",IF(IFERROR(SEARCH(\"*-*\",referentes!AJ2484),2)=1,IF(referentes!AJ2484=\"\",\"\",LEFT(referentes!AJ2484,FIND(\"*-*\",referentes!AJ2484)-1)),referentes!AJ2484))","v":""},null,""]
[null,null,null,null,null,null,null,null,null,null,null,null,null,null,null,null,null,null,{"$f":"IF(referentes!AJ2485=\"\",\"\",IF(IFERROR(SEARCH(\"*-*\",referentes!AJ2485),2)=1,IF(referentes!AJ2485=\"\",\"\",LEFT(referentes!AJ2485,FIND(\"*-*\",referentes!AJ2485)-1)),referentes!AJ2485))","v":""},null,""]
[null,null,null,null,null,null,null,null,null,null,null,null,null,null,null,null,null,null,{"$f":"IF(referentes!AJ2486=\"\",\"\",IF(IFERROR(SEARCH(\"*-*\",referentes!AJ2486),2)=1,IF(referentes!AJ2486=\"\",\"\",LEFT(referentes!AJ2486,FIND(\"*-*\",referentes!AJ2486)-1)),referentes!AJ2486))","v":""},null,""]
[null,null,null,null,null,null,null,null,null,null,null,null,null,null,null,null,null,null,{"$f":"IF(referentes!AJ2487=\"\",\"\",IF(IFERROR(SEARCH(\"*-*\",referentes!AJ2487),2)=1,IF(referentes!AJ2487=\"\",\"\",LEFT(referentes!AJ2487,FIND(\"*-*\",referentes!AJ2487)-1)),referentes!AJ2487))","v":""},null,""]
[null,null,null,null,null,null,null,null,null,null,null,null,null,null,null,null,null,null,{"$f":"IF(referentes!AJ2488=\"\",\"\",IF(IFERROR(SEARCH(\"*-*\",referentes!AJ2488),2)=1,IF(referentes!AJ2488=\"\",\"\",LEFT(referentes!AJ2488,FIND(\"*-*\",referentes!AJ2488)-1)),referentes!AJ2488))","v":""},null,""]
[null,null,null,null,null,null,null,null,null,null,null,null,null,null,null,null,null,null,{"$f":"IF(referentes!AJ2489=\"\",\"\",IF(IFERROR(SEARCH(\"*-*\",referentes!AJ2489),2)=1,IF(referentes!AJ2489=\"\",\"\",LEFT(referentes!AJ2489,FIND(\"*-*\",referentes!AJ2489)-1)),referentes!AJ2489))","v":""},null,""]
[null,null,null,null,null,null,null,null,null,null,null,null,null,null,null,null,null,null,{"$f":"IF(referentes!AJ2490=\"\",\"\",IF(IFERROR(SEARCH(\"*-*\",referentes!AJ2490),2)=1,IF(referentes!AJ2490=\"\",\"\",LEFT(referentes!AJ2490,FIND(\"*-*\",referentes!AJ2490)-1)),referentes!AJ2490))","v":""},null,""]
[null,null,null,null,null,null,null,null,null,null,null,null,null,null,null,null,null,null,{"$f":"IF(referentes!AJ2491=\"\",\"\",IF(IFERROR(SEARCH(\"*-*\",referentes!AJ2491),2)=1,IF(referentes!AJ2491=\"\",\"\",LEFT(referentes!AJ2491,FIND(\"*-*\",referentes!AJ2491)-1)),referentes!AJ2491))","v":""},null,""]
[null,null,null,null,null,null,null,null,null,null,null,null,null,null,null,null,null,null,{"$f":"IF(referentes!AJ2492=\"\",\"\",IF(IFERROR(SEARCH(\"*-*\",referentes!AJ2492),2)=1,IF(referentes!AJ2492=\"\",\"\",LEFT(referentes!AJ2492,FIND(\"*-*\",referentes!AJ2492)-1)),referentes!AJ2492))","v":""},null,""]
[null,null,null,null,null,null,null,null,null,null,null,null,null,null,null,null,null,null,{"$f":"IF(referentes!AJ2493=\"\",\"\",IF(IFERROR(SEARCH(\"*-*\",referentes!AJ2493),2)=1,IF(referentes!AJ2493=\"\",\"\",LEFT(referentes!AJ2493,FIND(\"*-*\",referentes!AJ2493)-1)),referentes!AJ2493))","v":""},null,""]
[null,null,null,null,null,null,null,null,null,null,null,null,null,null,null,null,null,null,{"$f":"IF(referentes!AJ2494=\"\",\"\",IF(IFERROR(SEARCH(\"*-*\",referentes!AJ2494),2)=1,IF(referentes!AJ2494=\"\",\"\",LEFT(referentes!AJ2494,FIND(\"*-*\",referentes!AJ2494)-1)),referentes!AJ2494))","v":""},null,""]
[null,null,null,null,null,null,null,null,null,null,null,null,null,null,null,null,null,null,{"$f":"IF(referentes!AJ2495=\"\",\"\",IF(IFERROR(SEARCH(\"*-*\",referentes!AJ2495),2)=1,IF(referentes!AJ2495=\"\",\"\",LEFT(referentes!AJ2495,FIND(\"*-*\",referentes!AJ2495)-1)),referentes!AJ2495))","v":""},null,""]
[null,null,null,null,null,null,null,null,null,null,null,null,null,null,null,null,null,null,{"$f":"IF(referentes!AJ2496=\"\",\"\",IF(IFERROR(SEARCH(\"*-*\",referentes!AJ2496),2)=1,IF(referentes!AJ2496=\"\",\"\",LEFT(referentes!AJ2496,FIND(\"*-*\",referentes!AJ2496)-1)),referentes!AJ2496))","v":""},null,""]
[null,null,null,null,null,null,null,null,null,null,null,null,null,null,null,null,null,null,{"$f":"IF(referentes!AJ2497=\"\",\"\",IF(IFERROR(SEARCH(\"*-*\",referentes!AJ2497),2)=1,IF(referentes!AJ2497=\"\",\"\",LEFT(referentes!AJ2497,FIND(\"*-*\",referentes!AJ2497)-1)),referentes!AJ2497))","v":""},null,""]
[null,null,null,null,null,null,null,null,null,null,null,null,null,null,null,null,null,null,{"$f":"IF(referentes!AJ2498=\"\",\"\",IF(IFERROR(SEARCH(\"*-*\",referentes!AJ2498),2)=1,IF(referentes!AJ2498=\"\",\"\",LEFT(referentes!AJ2498,FIND(\"*-*\",referentes!AJ2498)-1)),referentes!AJ2498))","v":""},null,""]
[null,null,null,null,null,null,null,null,null,null,null,null,null,null,null,null,null,null,{"$f":"IF(referentes!AJ2499=\"\",\"\",IF(IFERROR(SEARCH(\"*-*\",referentes!AJ2499),2)=1,IF(referentes!AJ2499=\"\",\"\",LEFT(referentes!AJ2499,FIND(\"*-*\",referentes!AJ2499)-1)),referentes!AJ2499))","v":""},null,""]
[null,null,null,null,null,null,null,null,null,null,null,null,null,null,null,null,null,null,{"$f":"IF(referentes!AJ2500=\"\",\"\",IF(IFERROR(SEARCH(\"*-*\",referentes!AJ2500),2)=1,IF(referentes!AJ2500=\"\",\"\",LEFT(referentes!AJ2500,FIND(\"*-*\",referentes!AJ2500)-1)),referentes!AJ2500))","v":""},null,""]
[null,null,null,null,null,null,null,null,null,null,null,null,null,null,null,null,null,null,{"$f":"IF(referentes!AJ2501=\"\",\"\",IF(IFERROR(SEARCH(\"*-*\",referentes!AJ2501),2)=1,IF(referentes!AJ2501=\"\",\"\",LEFT(referentes!AJ2501,FIND(\"*-*\",referentes!AJ2501)-1)),referentes!AJ2501))","v":""},null,""]
[null,null,null,null,null,null,null,null,null,null,null,null,null,null,null,null,null,null,{"$f":"IF(referentes!AJ2502=\"\",\"\",IF(IFERROR(SEARCH(\"*-*\",referentes!AJ2502),2)=1,IF(referentes!AJ2502=\"\",\"\",LEFT(referentes!AJ2502,FIND(\"*-*\",referentes!AJ2502)-1)),referentes!AJ2502))","v":""},null,""]
[null,null,null,null,null,null,null,null,null,null,null,null,null,null,null,null,null,null,{"$f":"IF(referentes!AJ2503=\"\",\"\",IF(IFERROR(SEARCH(\"*-*\",referentes!AJ2503),2)=1,IF(referentes!AJ2503=\"\",\"\",LEFT(referentes!AJ2503,FIND(\"*-*\",referentes!AJ2503)-1)),referentes!AJ2503))","v":""},null,""]
[null,null,null,null,null,null,null,null,null,null,null,null,null,null,null,null,null,null,{"$f":"IF(referentes!AJ2504=\"\",\"\",IF(IFERROR(SEARCH(\"*-*\",referentes!AJ2504),2)=1,IF(referentes!AJ2504=\"\",\"\",LEFT(referentes!AJ2504,FIND(\"*-*\",referentes!AJ2504)-1)),referentes!AJ2504))","v":""},null,{"$f":"IF(IFERROR(T2503,R2503)=S2503,\"\",R2503)","v":""}]
[null,null,null,null,null,null,null,null,null,null,null,null,null,null,null,null,null,null,{"$f":"IF(referentes!AJ2505=\"\",\"\",IF(IFERROR(SEARCH(\"*-*\",referentes!AJ2505),2)=1,IF(referentes!AJ2505=\"\",\"\",LEFT(referentes!AJ2505,FIND(\"*-*\",referentes!AJ2505)-1)),referentes!AJ2505))","v":""},null,""]
[null,null,null,null,null,null,null,null,null,null,null,null,null,null,null,null,null,null,{"$f":"IF(referentes!AJ2506=\"\",\"\",IF(IFERROR(SEARCH(\"*-*\",referentes!AJ2506),2)=1,IF(referentes!AJ2506=\"\",\"\",LEFT(referentes!AJ2506,FIND(\"*-*\",referentes!AJ2506)-1)),referentes!AJ2506))","v":""},null,""]
[null,null,null,null,null,null,null,null,null,null,null,null,null,null,null,null,null,null,{"$f":"IF(referentes!AJ2507=\"\",\"\",IF(IFERROR(SEARCH(\"*-*\",referentes!AJ2507),2)=1,IF(referentes!AJ2507=\"\",\"\",LEFT(referentes!AJ2507,FIND(\"*-*\",referentes!AJ2507)-1)),referentes!AJ2507))","v":""},null,""]
[null,null,null,null,null,null,null,null,null,null,null,null,null,null,null,null,null,null,{"$f":"IF(referentes!AJ2508=\"\",\"\",IF(IFERROR(SEARCH(\"*-*\",referentes!AJ2508),2)=1,IF(referentes!AJ2508=\"\",\"\",LEFT(referentes!AJ2508,FIND(\"*-*\",referentes!AJ2508)-1)),referentes!AJ2508))","v":""},null,""]
[null,null,null,null,null,null,null,null,null,null,null,null,null,null,null,null,null,null,{"$f":"IF(referentes!AJ2509=\"\",\"\",IF(IFERROR(SEARCH(\"*-*\",referentes!AJ2509),2)=1,IF(referentes!AJ2509=\"\",\"\",LEFT(referentes!AJ2509,FIND(\"*-*\",referentes!AJ2509)-1)),referentes!AJ2509))","v":""},null,""]
[null,null,null,null,null,null,null,null,null,null,null,null,null,null,null,null,null,null,{"$f":"IF(referentes!AJ2510=\"\",\"\",IF(IFERROR(SEARCH(\"*-*\",referentes!AJ2510),2)=1,IF(referentes!AJ2510=\"\",\"\",LEFT(referentes!AJ2510,FIND(\"*-*\",referentes!AJ2510)-1)),referentes!AJ2510))","v":""},null,""]
[null,null,null,null,null,null,null,null,null,null,null,null,null,null,null,null,null,null,{"$f":"IF(referentes!AJ2511=\"\",\"\",IF(IFERROR(SEARCH(\"*-*\",referentes!AJ2511),2)=1,IF(referentes!AJ2511=\"\",\"\",LEFT(referentes!AJ2511,FIND(\"*-*\",referentes!AJ2511)-1)),referentes!AJ2511))","v":""},null,""]
[null,null,null,null,null,null,null,null,null,null,null,null,null,null,null,null,null,null,{"$f":"IF(referentes!AJ2512=\"\",\"\",IF(IFERROR(SEARCH(\"*-*\",referentes!AJ2512),2)=1,IF(referentes!AJ2512=\"\",\"\",LEFT(referentes!AJ2512,FIND(\"*-*\",referentes!AJ2512)-1)),referentes!AJ2512))","v":""},null,""]
[null,null,null,null,null,null,null,null,null,null,null,null,null,null,null,null,null,null,{"$f":"IF(referentes!AJ2513=\"\",\"\",IF(IFERROR(SEARCH(\"*-*\",referentes!AJ2513),2)=1,IF(referentes!AJ2513=\"\",\"\",LEFT(referentes!AJ2513,FIND(\"*-*\",referentes!AJ2513)-1)),referentes!AJ2513))","v":""},null,""]
[null,null,null,null,null,null,null,null,null,null,null,null,null,null,null,null,null,null,{"$f":"IF(referentes!AJ2514=\"\",\"\",IF(IFERROR(SEARCH(\"*-*\",referentes!AJ2514),2)=1,IF(referentes!AJ2514=\"\",\"\",LEFT(referentes!AJ2514,FIND(\"*-*\",referentes!AJ2514)-1)),referentes!AJ2514))","v":""},null,""]
[null,null,null,null,null,null,null,null,null,null,null,null,null,null,null,null,null,null,{"$f":"IF(referentes!AJ2515=\"\",\"\",IF(IFERROR(SEARCH(\"*-*\",referentes!AJ2515),2)=1,IF(referentes!AJ2515=\"\",\"\",LEFT(referentes!AJ2515,FIND(\"*-*\",referentes!AJ2515)-1)),referentes!AJ2515))","v":""},null,""]
[null,null,null,null,null,null,null,null,null,null,null,null,null,null,null,null,null,null,{"$f":"IF(referentes!AJ2516=\"\",\"\",IF(IFERROR(SEARCH(\"*-*\",referentes!AJ2516),2)=1,IF(referentes!AJ2516=\"\",\"\",LEFT(referentes!AJ2516,FIND(\"*-*\",referentes!AJ2516)-1)),referentes!AJ2516))","v":""},null,""]
[null,null,null,null,null,null,null,null,null,null,null,null,null,null,null,null,null,null,{"$f":"IF(referentes!AJ2517=\"\",\"\",IF(IFERROR(SEARCH(\"*-*\",referentes!AJ2517),2)=1,IF(referentes!AJ2517=\"\",\"\",LEFT(referentes!AJ2517,FIND(\"*-*\",referentes!AJ2517)-1)),referentes!AJ2517))","v":""},null,""]
[null,null,null,null,null,null,null,null,null,null,null,null,null,null,null,null,null,null,{"$f":"IF(referentes!AJ2518=\"\",\"\",IF(IFERROR(SEARCH(\"*-*\",referentes!AJ2518),2)=1,IF(referentes!AJ2518=\"\",\"\",LEFT(referentes!AJ2518,FIND(\"*-*\",referentes!AJ2518)-1)),referentes!AJ2518))","v":""},null,""]
[null,null,null,null,null,null,null,null,null,null,null,null,null,null,null,null,null,null,{"$f":"IF(referentes!AJ2519=\"\",\"\",IF(IFERROR(SEARCH(\"*-*\",referentes!AJ2519),2)=1,IF(referentes!AJ2519=\"\",\"\",LEFT(referentes!AJ2519,FIND(\"*-*\",referentes!AJ2519)-1)),referentes!AJ2519))","v":""},null,""]
[null,null,null,null,null,null,null,null,null,null,null,null,null,null,null,null,null,null,{"$f":"IF(referentes!AJ2520=\"\",\"\",IF(IFERROR(SEARCH(\"*-*\",referentes!AJ2520),2)=1,IF(referentes!AJ2520=\"\",\"\",LEFT(referentes!AJ2520,FIND(\"*-*\",referentes!AJ2520)-1)),referentes!AJ2520))","v":""},null,""]
[null,null,null,null,null,null,null,null,null,null,null,null,null,null,null,null,null,null,{"$f":"IF(referentes!AJ2521=\"\",\"\",IF(IFERROR(SEARCH(\"*-*\",referentes!AJ2521),2)=1,IF(referentes!AJ2521=\"\",\"\",LEFT(referentes!AJ2521,FIND(\"*-*\",referentes!AJ2521)-1)),referentes!AJ2521))","v":""},null,""]
[null,null,null,null,null,null,null,null,null,null,null,null,null,null,null,null,null,null,{"$f":"IF(referentes!AJ2522=\"\",\"\",IF(IFERROR(SEARCH(\"*-*\",referentes!AJ2522),2)=1,IF(referentes!AJ2522=\"\",\"\",LEFT(referentes!AJ2522,FIND(\"*-*\",referentes!AJ2522)-1)),referentes!AJ2522))","v":""},null,""]
[null,null,null,null,null,null,null,null,null,null,null,null,null,null,null,null,null,null,{"$f":"IF(referentes!AJ2523=\"\",\"\",IF(IFERROR(SEARCH(\"*-*\",referentes!AJ2523),2)=1,IF(referentes!AJ2523=\"\",\"\",LEFT(referentes!AJ2523,FIND(\"*-*\",referentes!AJ2523)-1)),referentes!AJ2523))","v":""},null,""]
[null,null,null,null,null,null,null,null,null,null,null,null,null,null,null,null,null,null,{"$f":"IF(referentes!AJ2524=\"\",\"\",IF(IFERROR(SEARCH(\"*-*\",referentes!AJ2524),2)=1,IF(referentes!AJ2524=\"\",\"\",LEFT(referentes!AJ2524,FIND(\"*-*\",referentes!AJ2524)-1)),referentes!AJ2524))","v":""},null,""]
[null,null,null,null,null,null,null,null,null,null,null,null,null,null,null,null,null,null,{"$f":"IF(referentes!AJ2525=\"\",\"\",IF(IFERROR(SEARCH(\"*-*\",referentes!AJ2525),2)=1,IF(referentes!AJ2525=\"\",\"\",LEFT(referentes!AJ2525,FIND(\"*-*\",referentes!AJ2525)-1)),referentes!AJ2525))","v":""},null,""]
[null,null,null,null,null,null,null,null,null,null,null,null,null,null,null,null,null,null,{"$f":"IF(referentes!AJ2526=\"\",\"\",IF(IFERROR(SEARCH(\"*-*\",referentes!AJ2526),2)=1,IF(referentes!AJ2526=\"\",\"\",LEFT(referentes!AJ2526,FIND(\"*-*\",referentes!AJ2526)-1)),referentes!AJ2526))","v":""},null,""]
[null,null,null,null,null,null,null,null,null,null,null,null,null,null,null,null,null,null,{"$f":"IF(referentes!AJ2527=\"\",\"\",IF(IFERROR(SEARCH(\"*-*\",referentes!AJ2527),2)=1,IF(referentes!AJ2527=\"\",\"\",LEFT(referentes!AJ2527,FIND(\"*-*\",referentes!AJ2527)-1)),referentes!AJ2527))","v":""},null,""]
[null,null,null,null,null,null,null,null,null,null,null,null,null,null,null,null,null,null,{"$f":"IF(referentes!AJ2528=\"\",\"\",IF(IFERROR(SEARCH(\"*-*\",referentes!AJ2528),2)=1,IF(referentes!AJ2528=\"\",\"\",LEFT(referentes!AJ2528,FIND(\"*-*\",referentes!AJ2528)-1)),referentes!AJ2528))","v":""},null,""]
[null,null,null,null,null,null,null,null,null,null,null,null,null,null,null,null,null,null,{"$f":"IF(referentes!AJ2529=\"\",\"\",IF(IFERROR(SEARCH(\"*-*\",referentes!AJ2529),2)=1,IF(referentes!AJ2529=\"\",\"\",LEFT(referentes!AJ2529,FIND(\"*-*\",referentes!AJ2529)-1)),referentes!AJ2529))","v":""},null,""]
[null,null,null,null,null,null,null,null,null,null,null,null,null,null,null,null,null,null,{"$f":"IF(referentes!AJ2530=\"\",\"\",IF(IFERROR(SEARCH(\"*-*\",referentes!AJ2530),2)=1,IF(referentes!AJ2530=\"\",\"\",LEFT(referentes!AJ2530,FIND(\"*-*\",referentes!AJ2530)-1)),referentes!AJ2530))","v":""},null,""]
[null,null,null,null,null,null,null,null,null,null,null,null,null,null,null,null,null,null,{"$f":"IF(referentes!AJ2531=\"\",\"\",IF(IFERROR(SEARCH(\"*-*\",referentes!AJ2531),2)=1,IF(referentes!AJ2531=\"\",\"\",LEFT(referentes!AJ2531,FIND(\"*-*\",referentes!AJ2531)-1)),referentes!AJ2531))","v":""},null,""]
[null,null,null,null,null,null,null,null,null,null,null,null,null,null,null,null,null,null,{"$f":"IF(referentes!AJ2532=\"\",\"\",IF(IFERROR(SEARCH(\"*-*\",referentes!AJ2532),2)=1,IF(referentes!AJ2532=\"\",\"\",LEFT(referentes!AJ2532,FIND(\"*-*\",referentes!AJ2532)-1)),referentes!AJ2532))","v":""},null,""]
[null,null,null,null,null,null,null,null,null,null,null,null,null,null,null,null,null,null,{"$f":"IF(referentes!AJ2533=\"\",\"\",IF(IFERROR(SEARCH(\"*-*\",referentes!AJ2533),2)=1,IF(referentes!AJ2533=\"\",\"\",LEFT(referentes!AJ2533,FIND(\"*-*\",referentes!AJ2533)-1)),referentes!AJ2533))","v":""},null,""]
[null,null,null,null,null,null,null,null,null,null,null,null,null,null,null,null,null,null,{"$f":"IF(referentes!AJ2534=\"\",\"\",IF(IFERROR(SEARCH(\"*-*\",referentes!AJ2534),2)=1,IF(referentes!AJ2534=\"\",\"\",LEFT(referentes!AJ2534,FIND(\"*-*\",referentes!AJ2534)-1)),referentes!AJ2534))","v":""},null,""]
[null,null,null,null,null,null,null,null,null,null,null,null,null,null,null,null,null,null,{"$f":"IF(referentes!AJ2535=\"\",\"\",IF(IFERROR(SEARCH(\"*-*\",referentes!AJ2535),2)=1,IF(referentes!AJ2535=\"\",\"\",LEFT(referentes!AJ2535,FIND(\"*-*\",referentes!AJ2535)-1)),referentes!AJ2535))","v":""},null,""]
[null,null,null,null,null,null,null,null,null,null,null,null,null,null,null,null,null,null,{"$f":"IF(referentes!AJ2536=\"\",\"\",IF(IFERROR(SEARCH(\"*-*\",referentes!AJ2536),2)=1,IF(referentes!AJ2536=\"\",\"\",LEFT(referentes!AJ2536,FIND(\"*-*\",referentes!AJ2536)-1)),referentes!AJ2536))","v":""},null,""]
[null,null,null,null,null,null,null,null,null,null,null,null,null,null,null,null,null,null,{"$f":"IF(referentes!AJ2537=\"\",\"\",IF(IFERROR(SEARCH(\"*-*\",referentes!AJ2537),2)=1,IF(referentes!AJ2537=\"\",\"\",LEFT(referentes!AJ2537,FIND(\"*-*\",referentes!AJ2537)-1)),referentes!AJ2537))","v":""},null,""]
[null,null,null,null,null,null,null,null,null,null,null,null,null,null,null,null,null,null,{"$f":"IF(referentes!AJ2538=\"\",\"\",IF(IFERROR(SEARCH(\"*-*\",referentes!AJ2538),2)=1,IF(referentes!AJ2538=\"\",\"\",LEFT(referentes!AJ2538,FIND(\"*-*\",referentes!AJ2538)-1)),referentes!AJ2538))","v":""},null,""]
[null,null,null,null,null,null,null,null,null,null,null,null,null,null,null,null,null,null,{"$f":"IF(referentes!AJ2539=\"\",\"\",IF(IFERROR(SEARCH(\"*-*\",referentes!AJ2539),2)=1,IF(referentes!AJ2539=\"\",\"\",LEFT(referentes!AJ2539,FIND(\"*-*\",referentes!AJ2539)-1)),referentes!AJ2539))","v":""},null,""]
[null,null,null,null,null,null,null,null,null,null,null,null,null,null,null,null,null,null,{"$f":"IF(referentes!AJ2540=\"\",\"\",IF(IFERROR(SEARCH(\"*-*\",referentes!AJ2540),2)=1,IF(referentes!AJ2540=\"\",\"\",LEFT(referentes!AJ2540,FIND(\"*-*\",referentes!AJ2540)-1)),referentes!AJ2540))","v":""},null,""]
[null,null,null,null,null,null,null,null,null,null,null,null,null,null,null,null,null,null,{"$f":"IF(referentes!AJ2541=\"\",\"\",IF(IFERROR(SEARCH(\"*-*\",referentes!AJ2541),2)=1,IF(referentes!AJ2541=\"\",\"\",LEFT(referentes!AJ2541,FIND(\"*-*\",referentes!AJ2541)-1)),referentes!AJ2541))","v":""},null,""]
[null,null,null,null,null,null,null,null,null,null,null,null,null,null,null,null,null,null,{"$f":"IF(referentes!AJ2542=\"\",\"\",IF(IFERROR(SEARCH(\"*-*\",referentes!AJ2542),2)=1,IF(referentes!AJ2542=\"\",\"\",LEFT(referentes!AJ2542,FIND(\"*-*\",referentes!AJ2542)-1)),referentes!AJ2542))","v":""},null,""]
[null,null,null,null,null,null,null,null,null,null,null,null,null,null,null,null,null,null,{"$f":"IF(referentes!AJ2543=\"\",\"\",IF(IFERROR(SEARCH(\"*-*\",referentes!AJ2543),2)=1,IF(referentes!AJ2543=\"\",\"\",LEFT(referentes!AJ2543,FIND(\"*-*\",referentes!AJ2543)-1)),referentes!AJ2543))","v":""},null,""]
[null,null,null,null,null,null,null,null,null,null,null,null,null,null,null,null,null,null,{"$f":"IF(referentes!AJ2544=\"\",\"\",IF(IFERROR(SEARCH(\"*-*\",referentes!AJ2544),2)=1,IF(referentes!AJ2544=\"\",\"\",LEFT(referentes!AJ2544,FIND(\"*-*\",referentes!AJ2544)-1)),referentes!AJ2544))","v":""},null,""]
[null,null,null,null,null,null,null,null,null,null,null,null,null,null,null,null,null,null,{"$f":"IF(referentes!AJ2545=\"\",\"\",IF(IFERROR(SEARCH(\"*-*\",referentes!AJ2545),2)=1,IF(referentes!AJ2545=\"\",\"\",LEFT(referentes!AJ2545,FIND(\"*-*\",referentes!AJ2545)-1)),referentes!AJ2545))","v":""},null,""]
[null,null,null,null,null,null,null,null,null,null,null,null,null,null,null,null,null,null,{"$f":"IF(referentes!AJ2546=\"\",\"\",IF(IFERROR(SEARCH(\"*-*\",referentes!AJ2546),2)=1,IF(referentes!AJ2546=\"\",\"\",LEFT(referentes!AJ2546,FIND(\"*-*\",referentes!AJ2546)-1)),referentes!AJ2546))","v":""},null,""]
[null,null,null,null,null,null,null,null,null,null,null,null,null,null,null,null,null,null,{"$f":"IF(referentes!AJ2547=\"\",\"\",IF(IFERROR(SEARCH(\"*-*\",referentes!AJ2547),2)=1,IF(referentes!AJ2547=\"\",\"\",LEFT(referentes!AJ2547,FIND(\"*-*\",referentes!AJ2547)-1)),referentes!AJ2547))","v":""},null,""]
[null,null,null,null,null,null,null,null,null,null,null,null,null,null,null,null,null,null,{"$f":"IF(referentes!AJ2548=\"\",\"\",IF(IFERROR(SEARCH(\"*-*\",referentes!AJ2548),2)=1,IF(referentes!AJ2548=\"\",\"\",LEFT(referentes!AJ2548,FIND(\"*-*\",referentes!AJ2548)-1)),referentes!AJ2548))","v":""},null,""]
[null,null,null,null,null,null,null,null,null,null,null,null,null,null,null,null,null,null,{"$f":"IF(referentes!AJ2549=\"\",\"\",IF(IFERROR(SEARCH(\"*-*\",referentes!AJ2549),2)=1,IF(referentes!AJ2549=\"\",\"\",LEFT(referentes!AJ2549,FIND(\"*-*\",referentes!AJ2549)-1)),referentes!AJ2549))","v":""},null,""]
[null,null,null,null,null,null,null,null,null,null,null,null,null,null,null,null,null,null,{"$f":"IF(referentes!AJ2550=\"\",\"\",IF(IFERROR(SEARCH(\"*-*\",referentes!AJ2550),2)=1,IF(referentes!AJ2550=\"\",\"\",LEFT(referentes!AJ2550,FIND(\"*-*\",referentes!AJ2550)-1)),referentes!AJ2550))","v":""},null,""]
[null,null,null,null,null,null,null,null,null,null,null,null,null,null,null,null,null,null,{"$f":"IF(referentes!AJ2551=\"\",\"\",IF(IFERROR(SEARCH(\"*-*\",referentes!AJ2551),2)=1,IF(referentes!AJ2551=\"\",\"\",LEFT(referentes!AJ2551,FIND(\"*-*\",referentes!AJ2551)-1)),referentes!AJ2551))","v":""},null,""]
[null,null,null,null,null,null,null,null,null,null,null,null,null,null,null,null,null,null,{"$f":"IF(referentes!AJ2552=\"\",\"\",IF(IFERROR(SEARCH(\"*-*\",referentes!AJ2552),2)=1,IF(referentes!AJ2552=\"\",\"\",LEFT(referentes!AJ2552,FIND(\"*-*\",referentes!AJ2552)-1)),referentes!AJ2552))","v":""},null,""]
[null,null,null,null,null,null,null,null,null,null,null,null,null,null,null,null,null,null,{"$f":"IF(referentes!AJ2553=\"\",\"\",IF(IFERROR(SEARCH(\"*-*\",referentes!AJ2553),2)=1,IF(referentes!AJ2553=\"\",\"\",LEFT(referentes!AJ2553,FIND(\"*-*\",referentes!AJ2553)-1)),referentes!AJ2553))","v":""},null,""]
[null,null,null,null,null,null,null,null,null,null,null,null,null,null,null,null,null,null,{"$f":"IF(referentes!AJ2554=\"\",\"\",IF(IFERROR(SEARCH(\"*-*\",referentes!AJ2554),2)=1,IF(referentes!AJ2554=\"\",\"\",LEFT(referentes!AJ2554,FIND(\"*-*\",referentes!AJ2554)-1)),referentes!AJ2554))","v":""},null,""]
[null,null,null,null,null,null,null,null,null,null,null,null,null,null,null,null,null,null,{"$f":"IF(referentes!AJ2555=\"\",\"\",IF(IFERROR(SEARCH(\"*-*\",referentes!AJ2555),2)=1,IF(referentes!AJ2555=\"\",\"\",LEFT(referentes!AJ2555,FIND(\"*-*\",referentes!AJ2555)-1)),referentes!AJ2555))","v":""},null,""]
[null,null,null,null,null,null,null,null,null,null,null,null,null,null,null,null,null,null,{"$f":"IF(referentes!AJ2556=\"\",\"\",IF(IFERROR(SEARCH(\"*-*\",referentes!AJ2556),2)=1,IF(referentes!AJ2556=\"\",\"\",LEFT(referentes!AJ2556,FIND(\"*-*\",referentes!AJ2556)-1)),referentes!AJ2556))","v":""},null,""]
[null,null,null,null,null,null,null,null,null,null,null,null,null,null,null,null,null,null,{"$f":"IF(referentes!AJ2557=\"\",\"\",IF(IFERROR(SEARCH(\"*-*\",referentes!AJ2557),2)=1,IF(referentes!AJ2557=\"\",\"\",LEFT(referentes!AJ2557,FIND(\"*-*\",referentes!AJ2557)-1)),referentes!AJ2557))","v":""},null,""]
[null,null,null,null,null,null,null,null,null,null,null,null,null,null,null,null,null,null,{"$f":"IF(referentes!AJ2558=\"\",\"\",IF(IFERROR(SEARCH(\"*-*\",referentes!AJ2558),2)=1,IF(referentes!AJ2558=\"\",\"\",LEFT(referentes!AJ2558,FIND(\"*-*\",referentes!AJ2558)-1)),referentes!AJ2558))","v":""},null,""]
[null,null,null,null,null,null,null,null,null,null,null,null,null,null,null,null,null,null,{"$f":"IF(referentes!AJ2559=\"\",\"\",IF(IFERROR(SEARCH(\"*-*\",referentes!AJ2559),2)=1,IF(referentes!AJ2559=\"\",\"\",LEFT(referentes!AJ2559,FIND(\"*-*\",referentes!AJ2559)-1)),referentes!AJ2559))","v":""},null,""]
[null,null,null,null,null,null,null,null,null,null,null,null,null,null,null,null,null,null,{"$f":"IF(referentes!AJ2560=\"\",\"\",IF(IFERROR(SEARCH(\"*-*\",referentes!AJ2560),2)=1,IF(referentes!AJ2560=\"\",\"\",LEFT(referentes!AJ2560,FIND(\"*-*\",referentes!AJ2560)-1)),referentes!AJ2560))","v":""},null,""]
[null,null,null,null,null,null,null,null,null,null,null,null,null,null,null,null,null,null,{"$f":"IF(referentes!AJ2561=\"\",\"\",IF(IFERROR(SEARCH(\"*-*\",referentes!AJ2561),2)=1,IF(referentes!AJ2561=\"\",\"\",LEFT(referentes!AJ2561,FIND(\"*-*\",referentes!AJ2561)-1)),referentes!AJ2561))","v":""},null,""]
[null,null,null,null,null,null,null,null,null,null,null,null,null,null,null,null,null,null,{"$f":"IF(referentes!AJ2562=\"\",\"\",IF(IFERROR(SEARCH(\"*-*\",referentes!AJ2562),2)=1,IF(referentes!AJ2562=\"\",\"\",LEFT(referentes!AJ2562,FIND(\"*-*\",referentes!AJ2562)-1)),referentes!AJ2562))","v":""},null,""]
[null,null,null,null,null,null,null,null,null,null,null,null,null,null,null,null,null,null,{"$f":"IF(referentes!AJ2563=\"\",\"\",IF(IFERROR(SEARCH(\"*-*\",referentes!AJ2563),2)=1,IF(referentes!AJ2563=\"\",\"\",LEFT(referentes!AJ2563,FIND(\"*-*\",referentes!AJ2563)-1)),referentes!AJ2563))","v":""},null,""]
[null,null,null,null,null,null,null,null,null,null,null,null,null,null,null,null,null,null,{"$f":"IF(referentes!AJ2564=\"\",\"\",IF(IFERROR(SEARCH(\"*-*\",referentes!AJ2564),2)=1,IF(referentes!AJ2564=\"\",\"\",LEFT(referentes!AJ2564,FIND(\"*-*\",referentes!AJ2564)-1)),referentes!AJ2564))","v":""},null,""]
[null,null,null,null,null,null,null,null,null,null,null,null,null,null,null,null,null,null,{"$f":"IF(referentes!AJ2565=\"\",\"\",IF(IFERROR(SEARCH(\"*-*\",referentes!AJ2565),2)=1,IF(referentes!AJ2565=\"\",\"\",LEFT(referentes!AJ2565,FIND(\"*-*\",referentes!AJ2565)-1)),referentes!AJ2565))","v":""},null,""]
[null,null,null,null,null,null,null,null,null,null,null,null,null,null,null,null,null,null,{"$f":"IF(referentes!AJ2566=\"\",\"\",IF(IFERROR(SEARCH(\"*-*\",referentes!AJ2566),2)=1,IF(referentes!AJ2566=\"\",\"\",LEFT(referentes!AJ2566,FIND(\"*-*\",referentes!AJ2566)-1)),referentes!AJ2566))","v":""},null,""]
[null,null,null,null,null,null,null,null,null,null,null,null,null,null,null,null,null,null,{"$f":"IF(referentes!AJ2567=\"\",\"\",IF(IFERROR(SEARCH(\"*-*\",referentes!AJ2567),2)=1,IF(referentes!AJ2567=\"\",\"\",LEFT(referentes!AJ2567,FIND(\"*-*\",referentes!AJ2567)-1)),referentes!AJ2567))","v":""},null,""]
[null,null,null,null,null,null,null,null,null,null,null,null,null,null,null,null,null,null,{"$f":"IF(referentes!AJ2568=\"\",\"\",IF(IFERROR(SEARCH(\"*-*\",referentes!AJ2568),2)=1,IF(referentes!AJ2568=\"\",\"\",LEFT(referentes!AJ2568,FIND(\"*-*\",referentes!AJ2568)-1)),referentes!AJ2568))","v":""},null,{"$f":"IF(IFERROR(T2567,R2567)=S2567,\"\",R2567)","v":""}]
[null,null,null,null,null,null,null,null,null,null,null,null,null,null,null,null,null,null,{"$f":"IF(referentes!AJ2569=\"\",\"\",IF(IFERROR(SEARCH(\"*-*\",referentes!AJ2569),2)=1,IF(referentes!AJ2569=\"\",\"\",LEFT(referentes!AJ2569,FIND(\"*-*\",referentes!AJ2569)-1)),referentes!AJ2569))","v":""},null,""]
[null,null,null,null,null,null,null,null,null,null,null,null,null,null,null,null,null,null,{"$f":"IF(referentes!AJ2570=\"\",\"\",IF(IFERROR(SEARCH(\"*-*\",referentes!AJ2570),2)=1,IF(referentes!AJ2570=\"\",\"\",LEFT(referentes!AJ2570,FIND(\"*-*\",referentes!AJ2570)-1)),referentes!AJ2570))","v":""},null,""]
[null,null,null,null,null,null,null,null,null,null,null,null,null,null,null,null,null,null,{"$f":"IF(referentes!AJ2571=\"\",\"\",IF(IFERROR(SEARCH(\"*-*\",referentes!AJ2571),2)=1,IF(referentes!AJ2571=\"\",\"\",LEFT(referentes!AJ2571,FIND(\"*-*\",referentes!AJ2571)-1)),referentes!AJ2571))","v":""},null,""]
[null,null,null,null,null,null,null,null,null,null,null,null,null,null,null,null,null,null,{"$f":"IF(referentes!AJ2572=\"\",\"\",IF(IFERROR(SEARCH(\"*-*\",referentes!AJ2572),2)=1,IF(referentes!AJ2572=\"\",\"\",LEFT(referentes!AJ2572,FIND(\"*-*\",referentes!AJ2572)-1)),referentes!AJ2572))","v":""},null,""]
[null,null,null,null,null,null,null,null,null,null,null,null,null,null,null,null,null,null,{"$f":"IF(referentes!AJ2573=\"\",\"\",IF(IFERROR(SEARCH(\"*-*\",referentes!AJ2573),2)=1,IF(referentes!AJ2573=\"\",\"\",LEFT(referentes!AJ2573,FIND(\"*-*\",referentes!AJ2573)-1)),referentes!AJ2573))","v":""},null,""]
[null,null,null,null,null,null,null,null,null,null,null,null,null,null,null,null,null,null,{"$f":"IF(referentes!AJ2574=\"\",\"\",IF(IFERROR(SEARCH(\"*-*\",referentes!AJ2574),2)=1,IF(referentes!AJ2574=\"\",\"\",LEFT(referentes!AJ2574,FIND(\"*-*\",referentes!AJ2574)-1)),referentes!AJ2574))","v":""},null,""]
[null,null,null,null,null,null,null,null,null,null,null,null,null,null,null,null,null,null,{"$f":"IF(referentes!AJ2575=\"\",\"\",IF(IFERROR(SEARCH(\"*-*\",referentes!AJ2575),2)=1,IF(referentes!AJ2575=\"\",\"\",LEFT(referentes!AJ2575,FIND(\"*-*\",referentes!AJ2575)-1)),referentes!AJ2575))","v":""},null,""]
[null,null,null,null,null,null,null,null,null,null,null,null,null,null,null,null,null,null,{"$f":"IF(referentes!AJ2576=\"\",\"\",IF(IFERROR(SEARCH(\"*-*\",referentes!AJ2576),2)=1,IF(referentes!AJ2576=\"\",\"\",LEFT(referentes!AJ2576,FIND(\"*-*\",referentes!AJ2576)-1)),referentes!AJ2576))","v":""},null,""]
[null,null,null,null,null,null,null,null,null,null,null,null,null,null,null,null,null,null,{"$f":"IF(referentes!AJ2577=\"\",\"\",IF(IFERROR(SEARCH(\"*-*\",referentes!AJ2577),2)=1,IF(referentes!AJ2577=\"\",\"\",LEFT(referentes!AJ2577,FIND(\"*-*\",referentes!AJ2577)-1)),referentes!AJ2577))","v":""},null,""]
[null,null,null,null,null,null,null,null,null,null,null,null,null,null,null,null,null,null,{"$f":"IF(referentes!AJ2578=\"\",\"\",IF(IFERROR(SEARCH(\"*-*\",referentes!AJ2578),2)=1,IF(referentes!AJ2578=\"\",\"\",LEFT(referentes!AJ2578,FIND(\"*-*\",referentes!AJ2578)-1)),referentes!AJ2578))","v":""},null,""]
[null,null,null,null,null,null,null,null,null,null,null,null,null,null,null,null,null,null,{"$f":"IF(referentes!AJ2579=\"\",\"\",IF(IFERROR(SEARCH(\"*-*\",referentes!AJ2579),2)=1,IF(referentes!AJ2579=\"\",\"\",LEFT(referentes!AJ2579,FIND(\"*-*\",referentes!AJ2579)-1)),referentes!AJ2579))","v":""},null,""]
[null,null,null,null,null,null,null,null,null,null,null,null,null,null,null,null,null,null,{"$f":"IF(referentes!AJ2580=\"\",\"\",IF(IFERROR(SEARCH(\"*-*\",referentes!AJ2580),2)=1,IF(referentes!AJ2580=\"\",\"\",LEFT(referentes!AJ2580,FIND(\"*-*\",referentes!AJ2580)-1)),referentes!AJ2580))","v":""},null,""]
[null,null,null,null,null,null,null,null,null,null,null,null,null,null,null,null,null,null,{"$f":"IF(referentes!AJ2581=\"\",\"\",IF(IFERROR(SEARCH(\"*-*\",referentes!AJ2581),2)=1,IF(referentes!AJ2581=\"\",\"\",LEFT(referentes!AJ2581,FIND(\"*-*\",referentes!AJ2581)-1)),referentes!AJ2581))","v":""},null,""]
[null,null,null,null,null,null,null,null,null,null,null,null,null,null,null,null,null,null,{"$f":"IF(referentes!AJ2582=\"\",\"\",IF(IFERROR(SEARCH(\"*-*\",referentes!AJ2582),2)=1,IF(referentes!AJ2582=\"\",\"\",LEFT(referentes!AJ2582,FIND(\"*-*\",referentes!AJ2582)-1)),referentes!AJ2582))","v":""},null,""]
[null,null,null,null,null,null,null,null,null,null,null,null,null,null,null,null,null,null,{"$f":"IF(referentes!AJ2583=\"\",\"\",IF(IFERROR(SEARCH(\"*-*\",referentes!AJ2583),2)=1,IF(referentes!AJ2583=\"\",\"\",LEFT(referentes!AJ2583,FIND(\"*-*\",referentes!AJ2583)-1)),referentes!AJ2583))","v":""},null,""]
[null,null,null,null,null,null,null,null,null,null,null,null,null,null,null,null,null,null,{"$f":"IF(referentes!AJ2584=\"\",\"\",IF(IFERROR(SEARCH(\"*-*\",referentes!AJ2584),2)=1,IF(referentes!AJ2584=\"\",\"\",LEFT(referentes!AJ2584,FIND(\"*-*\",referentes!AJ2584)-1)),referentes!AJ2584))","v":""},null,""]
[null,null,null,null,null,null,null,null,null,null,null,null,null,null,null,null,null,null,{"$f":"IF(referentes!AJ2585=\"\",\"\",IF(IFERROR(SEARCH(\"*-*\",referentes!AJ2585),2)=1,IF(referentes!AJ2585=\"\",\"\",LEFT(referentes!AJ2585,FIND(\"*-*\",referentes!AJ2585)-1)),referentes!AJ2585))","v":""},null,""]
[null,null,null,null,null,null,null,null,null,null,null,null,null,null,null,null,null,null,{"$f":"IF(referentes!AJ2586=\"\",\"\",IF(IFERROR(SEARCH(\"*-*\",referentes!AJ2586),2)=1,IF(referentes!AJ2586=\"\",\"\",LEFT(referentes!AJ2586,FIND(\"*-*\",referentes!AJ2586)-1)),referentes!AJ2586))","v":""},null,""]
[null,null,null,null,null,null,null,null,null,null,null,null,null,null,null,null,null,null,{"$f":"IF(referentes!AJ2587=\"\",\"\",IF(IFERROR(SEARCH(\"*-*\",referentes!AJ2587),2)=1,IF(referentes!AJ2587=\"\",\"\",LEFT(referentes!AJ2587,FIND(\"*-*\",referentes!AJ2587)-1)),referentes!AJ2587))","v":""},null,""]
[null,null,null,null,null,null,null,null,null,null,null,null,null,null,null,null,null,null,{"$f":"IF(referentes!AJ2588=\"\",\"\",IF(IFERROR(SEARCH(\"*-*\",referentes!AJ2588),2)=1,IF(referentes!AJ2588=\"\",\"\",LEFT(referentes!AJ2588,FIND(\"*-*\",referentes!AJ2588)-1)),referentes!AJ2588))","v":""},null,""]
[null,null,null,null,null,null,null,null,null,null,null,null,null,null,null,null,null,null,{"$f":"IF(referentes!AJ2589=\"\",\"\",IF(IFERROR(SEARCH(\"*-*\",referentes!AJ2589),2)=1,IF(referentes!AJ2589=\"\",\"\",LEFT(referentes!AJ2589,FIND(\"*-*\",referentes!AJ2589)-1)),referentes!AJ2589))","v":""},null,""]
[null,null,null,null,null,null,null,null,null,null,null,null,null,null,null,null,null,null,{"$f":"IF(referentes!AJ2590=\"\",\"\",IF(IFERROR(SEARCH(\"*-*\",referentes!AJ2590),2)=1,IF(referentes!AJ2590=\"\",\"\",LEFT(referentes!AJ2590,FIND(\"*-*\",referentes!AJ2590)-1)),referentes!AJ2590))","v":""},null,""]
[null,null,null,null,null,null,null,null,null,null,null,null,null,null,null,null,null,null,{"$f":"IF(referentes!AJ2591=\"\",\"\",IF(IFERROR(SEARCH(\"*-*\",referentes!AJ2591),2)=1,IF(referentes!AJ2591=\"\",\"\",LEFT(referentes!AJ2591,FIND(\"*-*\",referentes!AJ2591)-1)),referentes!AJ2591))","v":""},null,""]
[null,null,null,null,null,null,null,null,null,null,null,null,null,null,null,null,null,null,{"$f":"IF(referentes!AJ2592=\"\",\"\",IF(IFERROR(SEARCH(\"*-*\",referentes!AJ2592),2)=1,IF(referentes!AJ2592=\"\",\"\",LEFT(referentes!AJ2592,FIND(\"*-*\",referentes!AJ2592)-1)),referentes!AJ2592))","v":""},null,""]
[null,null,null,null,null,null,null,null,null,null,null,null,null,null,null,null,null,null,{"$f":"IF(referentes!AJ2593=\"\",\"\",IF(IFERROR(SEARCH(\"*-*\",referentes!AJ2593),2)=1,IF(referentes!AJ2593=\"\",\"\",LEFT(referentes!AJ2593,FIND(\"*-*\",referentes!AJ2593)-1)),referentes!AJ2593))","v":""},null,""]
[null,null,null,null,null,null,null,null,null,null,null,null,null,null,null,null,null,null,{"$f":"IF(referentes!AJ2594=\"\",\"\",IF(IFERROR(SEARCH(\"*-*\",referentes!AJ2594),2)=1,IF(referentes!AJ2594=\"\",\"\",LEFT(referentes!AJ2594,FIND(\"*-*\",referentes!AJ2594)-1)),referentes!AJ2594))","v":""},null,""]
[null,null,null,null,null,null,null,null,null,null,null,null,null,null,null,null,null,null,{"$f":"IF(referentes!AJ2595=\"\",\"\",IF(IFERROR(SEARCH(\"*-*\",referentes!AJ2595),2)=1,IF(referentes!AJ2595=\"\",\"\",LEFT(referentes!AJ2595,FIND(\"*-*\",referentes!AJ2595)-1)),referentes!AJ2595))","v":""},null,""]
[null,null,null,null,null,null,null,null,null,null,null,null,null,null,null,null,null,null,{"$f":"IF(referentes!AJ2596=\"\",\"\",IF(IFERROR(SEARCH(\"*-*\",referentes!AJ2596),2)=1,IF(referentes!AJ2596=\"\",\"\",LEFT(referentes!AJ2596,FIND(\"*-*\",referentes!AJ2596)-1)),referentes!AJ2596))","v":""},null,""]
[null,null,null,null,null,null,null,null,null,null,null,null,null,null,null,null,null,null,{"$f":"IF(referentes!AJ2597=\"\",\"\",IF(IFERROR(SEARCH(\"*-*\",referentes!AJ2597),2)=1,IF(referentes!AJ2597=\"\",\"\",LEFT(referentes!AJ2597,FIND(\"*-*\",referentes!AJ2597)-1)),referentes!AJ2597))","v":""},null,""]
[null,null,null,null,null,null,null,null,null,null,null,null,null,null,null,null,null,null,{"$f":"IF(referentes!AJ2598=\"\",\"\",IF(IFERROR(SEARCH(\"*-*\",referentes!AJ2598),2)=1,IF(referentes!AJ2598=\"\",\"\",LEFT(referentes!AJ2598,FIND(\"*-*\",referentes!AJ2598)-1)),referentes!AJ2598))","v":""},null,""]
[null,null,null,null,null,null,null,null,null,null,null,null,null,null,null,null,null,null,{"$f":"IF(referentes!AJ2599=\"\",\"\",IF(IFERROR(SEARCH(\"*-*\",referentes!AJ2599),2)=1,IF(referentes!AJ2599=\"\",\"\",LEFT(referentes!AJ2599,FIND(\"*-*\",referentes!AJ2599)-1)),referentes!AJ2599))","v":""},null,""]
[null,null,null,null,null,null,null,null,null,null,null,null,null,null,null,null,null,null,{"$f":"IF(referentes!AJ2600=\"\",\"\",IF(IFERROR(SEARCH(\"*-*\",referentes!AJ2600),2)=1,IF(referentes!AJ2600=\"\",\"\",LEFT(referentes!AJ2600,FIND(\"*-*\",referentes!AJ2600)-1)),referentes!AJ2600))","v":""},null,""]
[null,null,null,null,null,null,null,null,null,null,null,null,null,null,null,null,null,null,{"$f":"IF(referentes!AJ2601=\"\",\"\",IF(IFERROR(SEARCH(\"*-*\",referentes!AJ2601),2)=1,IF(referentes!AJ2601=\"\",\"\",LEFT(referentes!AJ2601,FIND(\"*-*\",referentes!AJ2601)-1)),referentes!AJ2601))","v":""},null,""]
[null,null,null,null,null,null,null,null,null,null,null,null,null,null,null,null,null,null,{"$f":"IF(referentes!AJ2602=\"\",\"\",IF(IFERROR(SEARCH(\"*-*\",referentes!AJ2602),2)=1,IF(referentes!AJ2602=\"\",\"\",LEFT(referentes!AJ2602,FIND(\"*-*\",referentes!AJ2602)-1)),referentes!AJ2602))","v":""},null,""]
[null,null,null,null,null,null,null,null,null,null,null,null,null,null,null,null,null,null,{"$f":"IF(referentes!AJ2603=\"\",\"\",IF(IFERROR(SEARCH(\"*-*\",referentes!AJ2603),2)=1,IF(referentes!AJ2603=\"\",\"\",LEFT(referentes!AJ2603,FIND(\"*-*\",referentes!AJ2603)-1)),referentes!AJ2603))","v":""},null,""]
[null,null,null,null,null,null,null,null,null,null,null,null,null,null,null,null,null,null,{"$f":"IF(referentes!AJ2604=\"\",\"\",IF(IFERROR(SEARCH(\"*-*\",referentes!AJ2604),2)=1,IF(referentes!AJ2604=\"\",\"\",LEFT(referentes!AJ2604,FIND(\"*-*\",referentes!AJ2604)-1)),referentes!AJ2604))","v":""},null,""]
[null,null,null,null,null,null,null,null,null,null,null,null,null,null,null,null,null,null,{"$f":"IF(referentes!AJ2605=\"\",\"\",IF(IFERROR(SEARCH(\"*-*\",referentes!AJ2605),2)=1,IF(referentes!AJ2605=\"\",\"\",LEFT(referentes!AJ2605,FIND(\"*-*\",referentes!AJ2605)-1)),referentes!AJ2605))","v":""},null,""]
[null,null,null,null,null,null,null,null,null,null,null,null,null,null,null,null,null,null,{"$f":"IF(referentes!AJ2606=\"\",\"\",IF(IFERROR(SEARCH(\"*-*\",referentes!AJ2606),2)=1,IF(referentes!AJ2606=\"\",\"\",LEFT(referentes!AJ2606,FIND(\"*-*\",referentes!AJ2606)-1)),referentes!AJ2606))","v":""},null,""]
[null,null,null,null,null,null,null,null,null,null,null,null,null,null,null,null,null,null,{"$f":"IF(referentes!AJ2607=\"\",\"\",IF(IFERROR(SEARCH(\"*-*\",referentes!AJ2607),2)=1,IF(referentes!AJ2607=\"\",\"\",LEFT(referentes!AJ2607,FIND(\"*-*\",referentes!AJ2607)-1)),referentes!AJ2607))","v":""},null,""]
[null,null,null,null,null,null,null,null,null,null,null,null,null,null,null,null,null,null,{"$f":"IF(referentes!AJ2608=\"\",\"\",IF(IFERROR(SEARCH(\"*-*\",referentes!AJ2608),2)=1,IF(referentes!AJ2608=\"\",\"\",LEFT(referentes!AJ2608,FIND(\"*-*\",referentes!AJ2608)-1)),referentes!AJ2608))","v":""},null,""]
[null,null,null,null,null,null,null,null,null,null,null,null,null,null,null,null,null,null,{"$f":"IF(referentes!AJ2609=\"\",\"\",IF(IFERROR(SEARCH(\"*-*\",referentes!AJ2609),2)=1,IF(referentes!AJ2609=\"\",\"\",LEFT(referentes!AJ2609,FIND(\"*-*\",referentes!AJ2609)-1)),referentes!AJ2609))","v":""},null,""]
[null,null,null,null,null,null,null,null,null,null,null,null,null,null,null,null,null,null,{"$f":"IF(referentes!AJ2610=\"\",\"\",IF(IFERROR(SEARCH(\"*-*\",referentes!AJ2610),2)=1,IF(referentes!AJ2610=\"\",\"\",LEFT(referentes!AJ2610,FIND(\"*-*\",referentes!AJ2610)-1)),referentes!AJ2610))","v":""},null,""]
[null,null,null,null,null,null,null,null,null,null,null,null,null,null,null,null,null,null,{"$f":"IF(referentes!AJ2611=\"\",\"\",IF(IFERROR(SEARCH(\"*-*\",referentes!AJ2611),2)=1,IF(referentes!AJ2611=\"\",\"\",LEFT(referentes!AJ2611,FIND(\"*-*\",referentes!AJ2611)-1)),referentes!AJ2611))","v":""},null,""]
[null,null,null,null,null,null,null,null,null,null,null,null,null,null,null,null,null,null,{"$f":"IF(referentes!AJ2612=\"\",\"\",IF(IFERROR(SEARCH(\"*-*\",referentes!AJ2612),2)=1,IF(referentes!AJ2612=\"\",\"\",LEFT(referentes!AJ2612,FIND(\"*-*\",referentes!AJ2612)-1)),referentes!AJ2612))","v":""},null,""]
[null,null,null,null,null,null,null,null,null,null,null,null,null,null,null,null,null,null,{"$f":"IF(referentes!AJ2613=\"\",\"\",IF(IFERROR(SEARCH(\"*-*\",referentes!AJ2613),2)=1,IF(referentes!AJ2613=\"\",\"\",LEFT(referentes!AJ2613,FIND(\"*-*\",referentes!AJ2613)-1)),referentes!AJ2613))","v":""},null,""]
[null,null,null,null,null,null,null,null,null,null,null,null,null,null,null,null,null,null,{"$f":"IF(referentes!AJ2614=\"\",\"\",IF(IFERROR(SEARCH(\"*-*\",referentes!AJ2614),2)=1,IF(referentes!AJ2614=\"\",\"\",LEFT(referentes!AJ2614,FIND(\"*-*\",referentes!AJ2614)-1)),referentes!AJ2614))","v":""},null,""]
[null,null,null,null,null,null,null,null,null,null,null,null,null,null,null,null,null,null,{"$f":"IF(referentes!AJ2615=\"\",\"\",IF(IFERROR(SEARCH(\"*-*\",referentes!AJ2615),2)=1,IF(referentes!AJ2615=\"\",\"\",LEFT(referentes!AJ2615,FIND(\"*-*\",referentes!AJ2615)-1)),referentes!AJ2615))","v":""},null,""]
[null,null,null,null,null,null,null,null,null,null,null,null,null,null,null,null,null,null,{"$f":"IF(referentes!AJ2616=\"\",\"\",IF(IFERROR(SEARCH(\"*-*\",referentes!AJ2616),2)=1,IF(referentes!AJ2616=\"\",\"\",LEFT(referentes!AJ2616,FIND(\"*-*\",referentes!AJ2616)-1)),referentes!AJ2616))","v":""},null,""]
[null,null,null,null,null,null,null,null,null,null,null,null,null,null,null,null,null,null,{"$f":"IF(referentes!AJ2617=\"\",\"\",IF(IFERROR(SEARCH(\"*-*\",referentes!AJ2617),2)=1,IF(referentes!AJ2617=\"\",\"\",LEFT(referentes!AJ2617,FIND(\"*-*\",referentes!AJ2617)-1)),referentes!AJ2617))","v":""},null,""]
[null,null,null,null,null,null,null,null,null,null,null,null,null,null,null,null,null,null,{"$f":"IF(referentes!AJ2618=\"\",\"\",IF(IFERROR(SEARCH(\"*-*\",referentes!AJ2618),2)=1,IF(referentes!AJ2618=\"\",\"\",LEFT(referentes!AJ2618,FIND(\"*-*\",referentes!AJ2618)-1)),referentes!AJ2618))","v":""},null,""]
[null,null,null,null,null,null,null,null,null,null,null,null,null,null,null,null,null,null,{"$f":"IF(referentes!AJ2619=\"\",\"\",IF(IFERROR(SEARCH(\"*-*\",referentes!AJ2619),2)=1,IF(referentes!AJ2619=\"\",\"\",LEFT(referentes!AJ2619,FIND(\"*-*\",referentes!AJ2619)-1)),referentes!AJ2619))","v":""},null,""]
[null,null,null,null,null,null,null,null,null,null,null,null,null,null,null,null,null,null,{"$f":"IF(referentes!AJ2620=\"\",\"\",IF(IFERROR(SEARCH(\"*-*\",referentes!AJ2620),2)=1,IF(referentes!AJ2620=\"\",\"\",LEFT(referentes!AJ2620,FIND(\"*-*\",referentes!AJ2620)-1)),referentes!AJ2620))","v":""},null,""]
[null,null,null,null,null,null,null,null,null,null,null,null,null,null,null,null,null,null,{"$f":"IF(referentes!AJ2621=\"\",\"\",IF(IFERROR(SEARCH(\"*-*\",referentes!AJ2621),2)=1,IF(referentes!AJ2621=\"\",\"\",LEFT(referentes!AJ2621,FIND(\"*-*\",referentes!AJ2621)-1)),referentes!AJ2621))","v":""},null,""]
[null,null,null,null,null,null,null,null,null,null,null,null,null,null,null,null,null,null,{"$f":"IF(referentes!AJ2622=\"\",\"\",IF(IFERROR(SEARCH(\"*-*\",referentes!AJ2622),2)=1,IF(referentes!AJ2622=\"\",\"\",LEFT(referentes!AJ2622,FIND(\"*-*\",referentes!AJ2622)-1)),referentes!AJ2622))","v":""},null,""]
[null,null,null,null,null,null,null,null,null,null,null,null,null,null,null,null,null,null,{"$f":"IF(referentes!AJ2623=\"\",\"\",IF(IFERROR(SEARCH(\"*-*\",referentes!AJ2623),2)=1,IF(referentes!AJ2623=\"\",\"\",LEFT(referentes!AJ2623,FIND(\"*-*\",referentes!AJ2623)-1)),referentes!AJ2623))","v":""},null,""]
[null,null,null,null,null,null,null,null,null,null,null,null,null,null,null,null,null,null,{"$f":"IF(referentes!AJ2624=\"\",\"\",IF(IFERROR(SEARCH(\"*-*\",referentes!AJ2624),2)=1,IF(referentes!AJ2624=\"\",\"\",LEFT(referentes!AJ2624,FIND(\"*-*\",referentes!AJ2624)-1)),referentes!AJ2624))","v":""},null,""]
[null,null,null,null,null,null,null,null,null,null,null,null,null,null,null,null,null,null,{"$f":"IF(referentes!AJ2625=\"\",\"\",IF(IFERROR(SEARCH(\"*-*\",referentes!AJ2625),2)=1,IF(referentes!AJ2625=\"\",\"\",LEFT(referentes!AJ2625,FIND(\"*-*\",referentes!AJ2625)-1)),referentes!AJ2625))","v":""},null,""]
[null,null,null,null,null,null,null,null,null,null,null,null,null,null,null,null,null,null,{"$f":"IF(referentes!AJ2626=\"\",\"\",IF(IFERROR(SEARCH(\"*-*\",referentes!AJ2626),2)=1,IF(referentes!AJ2626=\"\",\"\",LEFT(referentes!AJ2626,FIND(\"*-*\",referentes!AJ2626)-1)),referentes!AJ2626))","v":""},null,""]
[null,null,null,null,null,null,null,null,null,null,null,null,null,null,null,null,null,null,{"$f":"IF(referentes!AJ2627=\"\",\"\",IF(IFERROR(SEARCH(\"*-*\",referentes!AJ2627),2)=1,IF(referentes!AJ2627=\"\",\"\",LEFT(referentes!AJ2627,FIND(\"*-*\",referentes!AJ2627)-1)),referentes!AJ2627))","v":""},null,""]
[null,null,null,null,null,null,null,null,null,null,null,null,null,null,null,null,null,null,{"$f":"IF(referentes!AJ2628=\"\",\"\",IF(IFERROR(SEARCH(\"*-*\",referentes!AJ2628),2)=1,IF(referentes!AJ2628=\"\",\"\",LEFT(referentes!AJ2628,FIND(\"*-*\",referentes!AJ2628)-1)),referentes!AJ2628))","v":""},null,""]
[null,null,null,null,null,null,null,null,null,null,null,null,null,null,null,null,null,null,{"$f":"IF(referentes!AJ2629=\"\",\"\",IF(IFERROR(SEARCH(\"*-*\",referentes!AJ2629),2)=1,IF(referentes!AJ2629=\"\",\"\",LEFT(referentes!AJ2629,FIND(\"*-*\",referentes!AJ2629)-1)),referentes!AJ2629))","v":""},null,""]
[null,null,null,null,null,null,null,null,null,null,null,null,null,null,null,null,null,null,{"$f":"IF(referentes!AJ2630=\"\",\"\",IF(IFERROR(SEARCH(\"*-*\",referentes!AJ2630),2)=1,IF(referentes!AJ2630=\"\",\"\",LEFT(referentes!AJ2630,FIND(\"*-*\",referentes!AJ2630)-1)),referentes!AJ2630))","v":""},null,""]
[null,null,null,null,null,null,null,null,null,null,null,null,null,null,null,null,null,null,{"$f":"IF(referentes!AJ2631=\"\",\"\",IF(IFERROR(SEARCH(\"*-*\",referentes!AJ2631),2)=1,IF(referentes!AJ2631=\"\",\"\",LEFT(referentes!AJ2631,FIND(\"*-*\",referentes!AJ2631)-1)),referentes!AJ2631))","v":""},null,""]
[null,null,null,null,null,null,null,null,null,null,null,null,null,null,null,null,null,null,{"$f":"IF(referentes!AJ2632=\"\",\"\",IF(IFERROR(SEARCH(\"*-*\",referentes!AJ2632),2)=1,IF(referentes!AJ2632=\"\",\"\",LEFT(referentes!AJ2632,FIND(\"*-*\",referentes!AJ2632)-1)),referentes!AJ2632))","v":""},null,{"$f":"IF(IFERROR(T2631,R2631)=S2631,\"\",R2631)","v":""}]
[null,null,null,null,null,null,null,null,null,null,null,null,null,null,null,null,null,null,{"$f":"IF(referentes!AJ2633=\"\",\"\",IF(IFERROR(SEARCH(\"*-*\",referentes!AJ2633),2)=1,IF(referentes!AJ2633=\"\",\"\",LEFT(referentes!AJ2633,FIND(\"*-*\",referentes!AJ2633)-1)),referentes!AJ2633))","v":""},null,""]
[null,null,null,null,null,null,null,null,null,null,null,null,null,null,null,null,null,null,{"$f":"IF(referentes!AJ2634=\"\",\"\",IF(IFERROR(SEARCH(\"*-*\",referentes!AJ2634),2)=1,IF(referentes!AJ2634=\"\",\"\",LEFT(referentes!AJ2634,FIND(\"*-*\",referentes!AJ2634)-1)),referentes!AJ2634))","v":""},null,""]
[null,null,null,null,null,null,null,null,null,null,null,null,null,null,null,null,null,null,{"$f":"IF(referentes!AJ2635=\"\",\"\",IF(IFERROR(SEARCH(\"*-*\",referentes!AJ2635),2)=1,IF(referentes!AJ2635=\"\",\"\",LEFT(referentes!AJ2635,FIND(\"*-*\",referentes!AJ2635)-1)),referentes!AJ2635))","v":""},null,""]
[null,null,null,null,null,null,null,null,null,null,null,null,null,null,null,null,null,null,{"$f":"IF(referentes!AJ2636=\"\",\"\",IF(IFERROR(SEARCH(\"*-*\",referentes!AJ2636),2)=1,IF(referentes!AJ2636=\"\",\"\",LEFT(referentes!AJ2636,FIND(\"*-*\",referentes!AJ2636)-1)),referentes!AJ2636))","v":""},null,""]
[null,null,null,null,null,null,null,null,null,null,null,null,null,null,null,null,null,null,{"$f":"IF(referentes!AJ2637=\"\",\"\",IF(IFERROR(SEARCH(\"*-*\",referentes!AJ2637),2)=1,IF(referentes!AJ2637=\"\",\"\",LEFT(referentes!AJ2637,FIND(\"*-*\",referentes!AJ2637)-1)),referentes!AJ2637))","v":""},null,""]
[null,null,null,null,null,null,null,null,null,null,null,null,null,null,null,null,null,null,{"$f":"IF(referentes!AJ2638=\"\",\"\",IF(IFERROR(SEARCH(\"*-*\",referentes!AJ2638),2)=1,IF(referentes!AJ2638=\"\",\"\",LEFT(referentes!AJ2638,FIND(\"*-*\",referentes!AJ2638)-1)),referentes!AJ2638))","v":""},null,""]
[null,null,null,null,null,null,null,null,null,null,null,null,null,null,null,null,null,null,{"$f":"IF(referentes!AJ2639=\"\",\"\",IF(IFERROR(SEARCH(\"*-*\",referentes!AJ2639),2)=1,IF(referentes!AJ2639=\"\",\"\",LEFT(referentes!AJ2639,FIND(\"*-*\",referentes!AJ2639)-1)),referentes!AJ2639))","v":""},null,""]
[null,null,null,null,null,null,null,null,null,null,null,null,null,null,null,null,null,null,{"$f":"IF(referentes!AJ2640=\"\",\"\",IF(IFERROR(SEARCH(\"*-*\",referentes!AJ2640),2)=1,IF(referentes!AJ2640=\"\",\"\",LEFT(referentes!AJ2640,FIND(\"*-*\",referentes!AJ2640)-1)),referentes!AJ2640))","v":""},null,""]
[null,null,null,null,null,null,null,null,null,null,null,null,null,null,null,null,null,null,{"$f":"IF(referentes!AJ2641=\"\",\"\",IF(IFERROR(SEARCH(\"*-*\",referentes!AJ2641),2)=1,IF(referentes!AJ2641=\"\",\"\",LEFT(referentes!AJ2641,FIND(\"*-*\",referentes!AJ2641)-1)),referentes!AJ2641))","v":""},null,""]
[null,null,null,null,null,null,null,null,null,null,null,null,null,null,null,null,null,null,{"$f":"IF(referentes!AJ2642=\"\",\"\",IF(IFERROR(SEARCH(\"*-*\",referentes!AJ2642),2)=1,IF(referentes!AJ2642=\"\",\"\",LEFT(referentes!AJ2642,FIND(\"*-*\",referentes!AJ2642)-1)),referentes!AJ2642))","v":""},null,""]
[null,null,null,null,null,null,null,null,null,null,null,null,null,null,null,null,null,null,{"$f":"IF(referentes!AJ2643=\"\",\"\",IF(IFERROR(SEARCH(\"*-*\",referentes!AJ2643),2)=1,IF(referentes!AJ2643=\"\",\"\",LEFT(referentes!AJ2643,FIND(\"*-*\",referentes!AJ2643)-1)),referentes!AJ2643))","v":""},null,""]
[null,null,null,null,null,null,null,null,null,null,null,null,null,null,null,null,null,null,{"$f":"IF(referentes!AJ2644=\"\",\"\",IF(IFERROR(SEARCH(\"*-*\",referentes!AJ2644),2)=1,IF(referentes!AJ2644=\"\",\"\",LEFT(referentes!AJ2644,FIND(\"*-*\",referentes!AJ2644)-1)),referentes!AJ2644))","v":""},null,""]
[null,null,null,null,null,null,null,null,null,null,null,null,null,null,null,null,null,null,{"$f":"IF(referentes!AJ2645=\"\",\"\",IF(IFERROR(SEARCH(\"*-*\",referentes!AJ2645),2)=1,IF(referentes!AJ2645=\"\",\"\",LEFT(referentes!AJ2645,FIND(\"*-*\",referentes!AJ2645)-1)),referentes!AJ2645))","v":""},null,""]
[null,null,null,null,null,null,null,null,null,null,null,null,null,null,null,null,null,null,{"$f":"IF(referentes!AJ2646=\"\",\"\",IF(IFERROR(SEARCH(\"*-*\",referentes!AJ2646),2)=1,IF(referentes!AJ2646=\"\",\"\",LEFT(referentes!AJ2646,FIND(\"*-*\",referentes!AJ2646)-1)),referentes!AJ2646))","v":""},null,""]
[null,null,null,null,null,null,null,null,null,null,null,null,null,null,null,null,null,null,{"$f":"IF(referentes!AJ2647=\"\",\"\",IF(IFERROR(SEARCH(\"*-*\",referentes!AJ2647),2)=1,IF(referentes!AJ2647=\"\",\"\",LEFT(referentes!AJ2647,FIND(\"*-*\",referentes!AJ2647)-1)),referentes!AJ2647))","v":""},null,""]
[null,null,null,null,null,null,null,null,null,null,null,null,null,null,null,null,null,null,{"$f":"IF(referentes!AJ2648=\"\",\"\",IF(IFERROR(SEARCH(\"*-*\",referentes!AJ2648),2)=1,IF(referentes!AJ2648=\"\",\"\",LEFT(referentes!AJ2648,FIND(\"*-*\",referentes!AJ2648)-1)),referentes!AJ2648))","v":""},null,""]
[null,null,null,null,null,null,null,null,null,null,null,null,null,null,null,null,null,null,{"$f":"IF(referentes!AJ2649=\"\",\"\",IF(IFERROR(SEARCH(\"*-*\",referentes!AJ2649),2)=1,IF(referentes!AJ2649=\"\",\"\",LEFT(referentes!AJ2649,FIND(\"*-*\",referentes!AJ2649)-1)),referentes!AJ2649))","v":""},null,""]
[null,null,null,null,null,null,null,null,null,null,null,null,null,null,null,null,null,null,{"$f":"IF(referentes!AJ2650=\"\",\"\",IF(IFERROR(SEARCH(\"*-*\",referentes!AJ2650),2)=1,IF(referentes!AJ2650=\"\",\"\",LEFT(referentes!AJ2650,FIND(\"*-*\",referentes!AJ2650)-1)),referentes!AJ2650))","v":""},null,""]
[null,null,null,null,null,null,null,null,null,null,null,null,null,null,null,null,null,null,{"$f":"IF(referentes!AJ2651=\"\",\"\",IF(IFERROR(SEARCH(\"*-*\",referentes!AJ2651),2)=1,IF(referentes!AJ2651=\"\",\"\",LEFT(referentes!AJ2651,FIND(\"*-*\",referentes!AJ2651)-1)),referentes!AJ2651))","v":""},null,""]
[null,null,null,null,null,null,null,null,null,null,null,null,null,null,null,null,null,null,{"$f":"IF(referentes!AJ2652=\"\",\"\",IF(IFERROR(SEARCH(\"*-*\",referentes!AJ2652),2)=1,IF(referentes!AJ2652=\"\",\"\",LEFT(referentes!AJ2652,FIND(\"*-*\",referentes!AJ2652)-1)),referentes!AJ2652))","v":""},null,""]
[null,null,null,null,null,null,null,null,null,null,null,null,null,null,null,null,null,null,{"$f":"IF(referentes!AJ2653=\"\",\"\",IF(IFERROR(SEARCH(\"*-*\",referentes!AJ2653),2)=1,IF(referentes!AJ2653=\"\",\"\",LEFT(referentes!AJ2653,FIND(\"*-*\",referentes!AJ2653)-1)),referentes!AJ2653))","v":""},null,""]
[null,null,null,null,null,null,null,null,null,null,null,null,null,null,null,null,null,null,{"$f":"IF(referentes!AJ2654=\"\",\"\",IF(IFERROR(SEARCH(\"*-*\",referentes!AJ2654),2)=1,IF(referentes!AJ2654=\"\",\"\",LEFT(referentes!AJ2654,FIND(\"*-*\",referentes!AJ2654)-1)),referentes!AJ2654))","v":""},null,""]
[null,null,null,null,null,null,null,null,null,null,null,null,null,null,null,null,null,null,{"$f":"IF(referentes!AJ2655=\"\",\"\",IF(IFERROR(SEARCH(\"*-*\",referentes!AJ2655),2)=1,IF(referentes!AJ2655=\"\",\"\",LEFT(referentes!AJ2655,FIND(\"*-*\",referentes!AJ2655)-1)),referentes!AJ2655))","v":""},null,""]
[null,null,null,null,null,null,null,null,null,null,null,null,null,null,null,null,null,null,{"$f":"IF(referentes!AJ2656=\"\",\"\",IF(IFERROR(SEARCH(\"*-*\",referentes!AJ2656),2)=1,IF(referentes!AJ2656=\"\",\"\",LEFT(referentes!AJ2656,FIND(\"*-*\",referentes!AJ2656)-1)),referentes!AJ2656))","v":""},null,""]
[null,null,null,null,null,null,null,null,null,null,null,null,null,null,null,null,null,null,{"$f":"IF(referentes!AJ2657=\"\",\"\",IF(IFERROR(SEARCH(\"*-*\",referentes!AJ2657),2)=1,IF(referentes!AJ2657=\"\",\"\",LEFT(referentes!AJ2657,FIND(\"*-*\",referentes!AJ2657)-1)),referentes!AJ2657))","v":""},null,""]
[null,null,null,null,null,null,null,null,null,null,null,null,null,null,null,null,null,null,{"$f":"IF(referentes!AJ2658=\"\",\"\",IF(IFERROR(SEARCH(\"*-*\",referentes!AJ2658),2)=1,IF(referentes!AJ2658=\"\",\"\",LEFT(referentes!AJ2658,FIND(\"*-*\",referentes!AJ2658)-1)),referentes!AJ2658))","v":""},null,""]
[null,null,null,null,null,null,null,null,null,null,null,null,null,null,null,null,null,null,{"$f":"IF(referentes!AJ2659=\"\",\"\",IF(IFERROR(SEARCH(\"*-*\",referentes!AJ2659),2)=1,IF(referentes!AJ2659=\"\",\"\",LEFT(referentes!AJ2659,FIND(\"*-*\",referentes!AJ2659)-1)),referentes!AJ2659))","v":""},null,""]
[null,null,null,null,null,null,null,null,null,null,null,null,null,null,null,null,null,null,{"$f":"IF(referentes!AJ2660=\"\",\"\",IF(IFERROR(SEARCH(\"*-*\",referentes!AJ2660),2)=1,IF(referentes!AJ2660=\"\",\"\",LEFT(referentes!AJ2660,FIND(\"*-*\",referentes!AJ2660)-1)),referentes!AJ2660))","v":""},null,""]
[null,null,null,null,null,null,null,null,null,null,null,null,null,null,null,null,null,null,{"$f":"IF(referentes!AJ2661=\"\",\"\",IF(IFERROR(SEARCH(\"*-*\",referentes!AJ2661),2)=1,IF(referentes!AJ2661=\"\",\"\",LEFT(referentes!AJ2661,FIND(\"*-*\",referentes!AJ2661)-1)),referentes!AJ2661))","v":""},null,""]
[null,null,null,null,null,null,null,null,null,null,null,null,null,null,null,null,null,null,{"$f":"IF(referentes!AJ2662=\"\",\"\",IF(IFERROR(SEARCH(\"*-*\",referentes!AJ2662),2)=1,IF(referentes!AJ2662=\"\",\"\",LEFT(referentes!AJ2662,FIND(\"*-*\",referentes!AJ2662)-1)),referentes!AJ2662))","v":""},null,""]
[null,null,null,null,null,null,null,null,null,null,null,null,null,null,null,null,null,null,{"$f":"IF(referentes!AJ2663=\"\",\"\",IF(IFERROR(SEARCH(\"*-*\",referentes!AJ2663),2)=1,IF(referentes!AJ2663=\"\",\"\",LEFT(referentes!AJ2663,FIND(\"*-*\",referentes!AJ2663)-1)),referentes!AJ2663))","v":""},null,""]
[null,null,null,null,null,null,null,null,null,null,null,null,null,null,null,null,null,null,{"$f":"IF(referentes!AJ2664=\"\",\"\",IF(IFERROR(SEARCH(\"*-*\",referentes!AJ2664),2)=1,IF(referentes!AJ2664=\"\",\"\",LEFT(referentes!AJ2664,FIND(\"*-*\",referentes!AJ2664)-1)),referentes!AJ2664))","v":""},null,""]
[null,null,null,null,null,null,null,null,null,null,null,null,null,null,null,null,null,null,{"$f":"IF(referentes!AJ2665=\"\",\"\",IF(IFERROR(SEARCH(\"*-*\",referentes!AJ2665),2)=1,IF(referentes!AJ2665=\"\",\"\",LEFT(referentes!AJ2665,FIND(\"*-*\",referentes!AJ2665)-1)),referentes!AJ2665))","v":""},null,""]
[null,null,null,null,null,null,null,null,null,null,null,null,null,null,null,null,null,null,{"$f":"IF(referentes!AJ2666=\"\",\"\",IF(IFERROR(SEARCH(\"*-*\",referentes!AJ2666),2)=1,IF(referentes!AJ2666=\"\",\"\",LEFT(referentes!AJ2666,FIND(\"*-*\",referentes!AJ2666)-1)),referentes!AJ2666))","v":""},null,""]
[null,null,null,null,null,null,null,null,null,null,null,null,null,null,null,null,null,null,{"$f":"IF(referentes!AJ2667=\"\",\"\",IF(IFERROR(SEARCH(\"*-*\",referentes!AJ2667),2)=1,IF(referentes!AJ2667=\"\",\"\",LEFT(referentes!AJ2667,FIND(\"*-*\",referentes!AJ2667)-1)),referentes!AJ2667))","v":""},null,""]
[null,null,null,null,null,null,null,null,null,null,null,null,null,null,null,null,null,null,{"$f":"IF(referentes!AJ2668=\"\",\"\",IF(IFERROR(SEARCH(\"*-*\",referentes!AJ2668),2)=1,IF(referentes!AJ2668=\"\",\"\",LEFT(referentes!AJ2668,FIND(\"*-*\",referentes!AJ2668)-1)),referentes!AJ2668))","v":""},null,""]
[null,null,null,null,null,null,null,null,null,null,null,null,null,null,null,null,null,null,{"$f":"IF(referentes!AJ2669=\"\",\"\",IF(IFERROR(SEARCH(\"*-*\",referentes!AJ2669),2)=1,IF(referentes!AJ2669=\"\",\"\",LEFT(referentes!AJ2669,FIND(\"*-*\",referentes!AJ2669)-1)),referentes!AJ2669))","v":""},null,""]
[null,null,null,null,null,null,null,null,null,null,null,null,null,null,null,null,null,null,{"$f":"IF(referentes!AJ2670=\"\",\"\",IF(IFERROR(SEARCH(\"*-*\",referentes!AJ2670),2)=1,IF(referentes!AJ2670=\"\",\"\",LEFT(referentes!AJ2670,FIND(\"*-*\",referentes!AJ2670)-1)),referentes!AJ2670))","v":""},null,""]
[null,null,null,null,null,null,null,null,null,null,null,null,null,null,null,null,null,null,{"$f":"IF(referentes!AJ2671=\"\",\"\",IF(IFERROR(SEARCH(\"*-*\",referentes!AJ2671),2)=1,IF(referentes!AJ2671=\"\",\"\",LEFT(referentes!AJ2671,FIND(\"*-*\",referentes!AJ2671)-1)),referentes!AJ2671))","v":""},null,""]
[null,null,null,null,null,null,null,null,null,null,null,null,null,null,null,null,null,null,{"$f":"IF(referentes!AJ2672=\"\",\"\",IF(IFERROR(SEARCH(\"*-*\",referentes!AJ2672),2)=1,IF(referentes!AJ2672=\"\",\"\",LEFT(referentes!AJ2672,FIND(\"*-*\",referentes!AJ2672)-1)),referentes!AJ2672))","v":""},null,""]
[null,null,null,null,null,null,null,null,null,null,null,null,null,null,null,null,null,null,{"$f":"IF(referentes!AJ2673=\"\",\"\",IF(IFERROR(SEARCH(\"*-*\",referentes!AJ2673),2)=1,IF(referentes!AJ2673=\"\",\"\",LEFT(referentes!AJ2673,FIND(\"*-*\",referentes!AJ2673)-1)),referentes!AJ2673))","v":""},null,""]
[null,null,null,null,null,null,null,null,null,null,null,null,null,null,null,null,null,null,{"$f":"IF(referentes!AJ2674=\"\",\"\",IF(IFERROR(SEARCH(\"*-*\",referentes!AJ2674),2)=1,IF(referentes!AJ2674=\"\",\"\",LEFT(referentes!AJ2674,FIND(\"*-*\",referentes!AJ2674)-1)),referentes!AJ2674))","v":""},null,""]
[null,null,null,null,null,null,null,null,null,null,null,null,null,null,null,null,null,null,{"$f":"IF(referentes!AJ2675=\"\",\"\",IF(IFERROR(SEARCH(\"*-*\",referentes!AJ2675),2)=1,IF(referentes!AJ2675=\"\",\"\",LEFT(referentes!AJ2675,FIND(\"*-*\",referentes!AJ2675)-1)),referentes!AJ2675))","v":""},null,""]
[null,null,null,null,null,null,null,null,null,null,null,null,null,null,null,null,null,null,{"$f":"IF(referentes!AJ2676=\"\",\"\",IF(IFERROR(SEARCH(\"*-*\",referentes!AJ2676),2)=1,IF(referentes!AJ2676=\"\",\"\",LEFT(referentes!AJ2676,FIND(\"*-*\",referentes!AJ2676)-1)),referentes!AJ2676))","v":""},null,""]
[null,null,null,null,null,null,null,null,null,null,null,null,null,null,null,null,null,null,{"$f":"IF(referentes!AJ2677=\"\",\"\",IF(IFERROR(SEARCH(\"*-*\",referentes!AJ2677),2)=1,IF(referentes!AJ2677=\"\",\"\",LEFT(referentes!AJ2677,FIND(\"*-*\",referentes!AJ2677)-1)),referentes!AJ2677))","v":""},null,""]
[null,null,null,null,null,null,null,null,null,null,null,null,null,null,null,null,null,null,{"$f":"IF(referentes!AJ2678=\"\",\"\",IF(IFERROR(SEARCH(\"*-*\",referentes!AJ2678),2)=1,IF(referentes!AJ2678=\"\",\"\",LEFT(referentes!AJ2678,FIND(\"*-*\",referentes!AJ2678)-1)),referentes!AJ2678))","v":""},null,""]
[null,null,null,null,null,null,null,null,null,null,null,null,null,null,null,null,null,null,{"$f":"IF(referentes!AJ2679=\"\",\"\",IF(IFERROR(SEARCH(\"*-*\",referentes!AJ2679),2)=1,IF(referentes!AJ2679=\"\",\"\",LEFT(referentes!AJ2679,FIND(\"*-*\",referentes!AJ2679)-1)),referentes!AJ2679))","v":""},null,""]
[null,null,null,null,null,null,null,null,null,null,null,null,null,null,null,null,null,null,{"$f":"IF(referentes!AJ2680=\"\",\"\",IF(IFERROR(SEARCH(\"*-*\",referentes!AJ2680),2)=1,IF(referentes!AJ2680=\"\",\"\",LEFT(referentes!AJ2680,FIND(\"*-*\",referentes!AJ2680)-1)),referentes!AJ2680))","v":""},null,""]
[null,null,null,null,null,null,null,null,null,null,null,null,null,null,null,null,null,null,{"$f":"IF(referentes!AJ2681=\"\",\"\",IF(IFERROR(SEARCH(\"*-*\",referentes!AJ2681),2)=1,IF(referentes!AJ2681=\"\",\"\",LEFT(referentes!AJ2681,FIND(\"*-*\",referentes!AJ2681)-1)),referentes!AJ2681))","v":""},null,""]
[null,null,null,null,null,null,null,null,null,null,null,null,null,null,null,null,null,null,{"$f":"IF(referentes!AJ2682=\"\",\"\",IF(IFERROR(SEARCH(\"*-*\",referentes!AJ2682),2)=1,IF(referentes!AJ2682=\"\",\"\",LEFT(referentes!AJ2682,FIND(\"*-*\",referentes!AJ2682)-1)),referentes!AJ2682))","v":""},null,""]
[null,null,null,null,null,null,null,null,null,null,null,null,null,null,null,null,null,null,{"$f":"IF(referentes!AJ2683=\"\",\"\",IF(IFERROR(SEARCH(\"*-*\",referentes!AJ2683),2)=1,IF(referentes!AJ2683=\"\",\"\",LEFT(referentes!AJ2683,FIND(\"*-*\",referentes!AJ2683)-1)),referentes!AJ2683))","v":""},null,""]
[null,null,null,null,null,null,null,null,null,null,null,null,null,null,null,null,null,null,{"$f":"IF(referentes!AJ2684=\"\",\"\",IF(IFERROR(SEARCH(\"*-*\",referentes!AJ2684),2)=1,IF(referentes!AJ2684=\"\",\"\",LEFT(referentes!AJ2684,FIND(\"*-*\",referentes!AJ2684)-1)),referentes!AJ2684))","v":""},null,""]
[null,null,null,null,null,null,null,null,null,null,null,null,null,null,null,null,null,null,{"$f":"IF(referentes!AJ2685=\"\",\"\",IF(IFERROR(SEARCH(\"*-*\",referentes!AJ2685),2)=1,IF(referentes!AJ2685=\"\",\"\",LEFT(referentes!AJ2685,FIND(\"*-*\",referentes!AJ2685)-1)),referentes!AJ2685))","v":""},null,""]
[null,null,null,null,null,null,null,null,null,null,null,null,null,null,null,null,null,null,{"$f":"IF(referentes!AJ2686=\"\",\"\",IF(IFERROR(SEARCH(\"*-*\",referentes!AJ2686),2)=1,IF(referentes!AJ2686=\"\",\"\",LEFT(referentes!AJ2686,FIND(\"*-*\",referentes!AJ2686)-1)),referentes!AJ2686))","v":""},null,""]
[null,null,null,null,null,null,null,null,null,null,null,null,null,null,null,null,null,null,{"$f":"IF(referentes!AJ2687=\"\",\"\",IF(IFERROR(SEARCH(\"*-*\",referentes!AJ2687),2)=1,IF(referentes!AJ2687=\"\",\"\",LEFT(referentes!AJ2687,FIND(\"*-*\",referentes!AJ2687)-1)),referentes!AJ2687))","v":""},null,""]
[null,null,null,null,null,null,null,null,null,null,null,null,null,null,null,null,null,null,{"$f":"IF(referentes!AJ2688=\"\",\"\",IF(IFERROR(SEARCH(\"*-*\",referentes!AJ2688),2)=1,IF(referentes!AJ2688=\"\",\"\",LEFT(referentes!AJ2688,FIND(\"*-*\",referentes!AJ2688)-1)),referentes!AJ2688))","v":""},null,""]
[null,null,null,null,null,null,null,null,null,null,null,null,null,null,null,null,null,null,{"$f":"IF(referentes!AJ2689=\"\",\"\",IF(IFERROR(SEARCH(\"*-*\",referentes!AJ2689),2)=1,IF(referentes!AJ2689=\"\",\"\",LEFT(referentes!AJ2689,FIND(\"*-*\",referentes!AJ2689)-1)),referentes!AJ2689))","v":""},null,""]
[null,null,null,null,null,null,null,null,null,null,null,null,null,null,null,null,null,null,{"$f":"IF(referentes!AJ2690=\"\",\"\",IF(IFERROR(SEARCH(\"*-*\",referentes!AJ2690),2)=1,IF(referentes!AJ2690=\"\",\"\",LEFT(referentes!AJ2690,FIND(\"*-*\",referentes!AJ2690)-1)),referentes!AJ2690))","v":""},null,""]
[null,null,null,null,null,null,null,null,null,null,null,null,null,null,null,null,null,null,{"$f":"IF(referentes!AJ2691=\"\",\"\",IF(IFERROR(SEARCH(\"*-*\",referentes!AJ2691),2)=1,IF(referentes!AJ2691=\"\",\"\",LEFT(referentes!AJ2691,FIND(\"*-*\",referentes!AJ2691)-1)),referentes!AJ2691))","v":""},null,""]
[null,null,null,null,null,null,null,null,null,null,null,null,null,null,null,null,null,null,{"$f":"IF(referentes!AJ2692=\"\",\"\",IF(IFERROR(SEARCH(\"*-*\",referentes!AJ2692),2)=1,IF(referentes!AJ2692=\"\",\"\",LEFT(referentes!AJ2692,FIND(\"*-*\",referentes!AJ2692)-1)),referentes!AJ2692))","v":""},null,""]
[null,null,null,null,null,null,null,null,null,null,null,null,null,null,null,null,null,null,{"$f":"IF(referentes!AJ2693=\"\",\"\",IF(IFERROR(SEARCH(\"*-*\",referentes!AJ2693),2)=1,IF(referentes!AJ2693=\"\",\"\",LEFT(referentes!AJ2693,FIND(\"*-*\",referentes!AJ2693)-1)),referentes!AJ2693))","v":""},null,""]
[null,null,null,null,null,null,null,null,null,null,null,null,null,null,null,null,null,null,{"$f":"IF(referentes!AJ2694=\"\",\"\",IF(IFERROR(SEARCH(\"*-*\",referentes!AJ2694),2)=1,IF(referentes!AJ2694=\"\",\"\",LEFT(referentes!AJ2694,FIND(\"*-*\",referentes!AJ2694)-1)),referentes!AJ2694))","v":""},null,""]
[null,null,null,null,null,null,null,null,null,null,null,null,null,null,null,null,null,null,{"$f":"IF(referentes!AJ2695=\"\",\"\",IF(IFERROR(SEARCH(\"*-*\",referentes!AJ2695),2)=1,IF(referentes!AJ2695=\"\",\"\",LEFT(referentes!AJ2695,FIND(\"*-*\",referentes!AJ2695)-1)),referentes!AJ2695))","v":""},null,""]
[null,null,null,null,null,null,null,null,null,null,null,null,null,null,null,null,null,null,{"$f":"IF(referentes!AJ2696=\"\",\"\",IF(IFERROR(SEARCH(\"*-*\",referentes!AJ2696),2)=1,IF(referentes!AJ2696=\"\",\"\",LEFT(referentes!AJ2696,FIND(\"*-*\",referentes!AJ2696)-1)),referentes!AJ2696))","v":""},null,{"$f":"IF(IFERROR(T2695,R2695)=S2695,\"\",R2695)","v":""}]
[null,null,null,null,null,null,null,null,null,null,null,null,null,null,null,null,null,null,{"$f":"IF(referentes!AJ2697=\"\",\"\",IF(IFERROR(SEARCH(\"*-*\",referentes!AJ2697),2)=1,IF(referentes!AJ2697=\"\",\"\",LEFT(referentes!AJ2697,FIND(\"*-*\",referentes!AJ2697)-1)),referentes!AJ2697))","v":""},null,""]
[null,null,null,null,null,null,null,null,null,null,null,null,null,null,null,null,null,null,{"$f":"IF(referentes!AJ2698=\"\",\"\",IF(IFERROR(SEARCH(\"*-*\",referentes!AJ2698),2)=1,IF(referentes!AJ2698=\"\",\"\",LEFT(referentes!AJ2698,FIND(\"*-*\",referentes!AJ2698)-1)),referentes!AJ2698))","v":""},null,""]
[null,null,null,null,null,null,null,null,null,null,null,null,null,null,null,null,null,null,{"$f":"IF(referentes!AJ2699=\"\",\"\",IF(IFERROR(SEARCH(\"*-*\",referentes!AJ2699),2)=1,IF(referentes!AJ2699=\"\",\"\",LEFT(referentes!AJ2699,FIND(\"*-*\",referentes!AJ2699)-1)),referentes!AJ2699))","v":""},null,""]
[null,null,null,null,null,null,null,null,null,null,null,null,null,null,null,null,null,null,{"$f":"IF(referentes!AJ2700=\"\",\"\",IF(IFERROR(SEARCH(\"*-*\",referentes!AJ2700),2)=1,IF(referentes!AJ2700=\"\",\"\",LEFT(referentes!AJ2700,FIND(\"*-*\",referentes!AJ2700)-1)),referentes!AJ2700))","v":""},null,""]
[null,null,null,null,null,null,null,null,null,null,null,null,null,null,null,null,null,null,{"$f":"IF(referentes!AJ2701=\"\",\"\",IF(IFERROR(SEARCH(\"*-*\",referentes!AJ2701),2)=1,IF(referentes!AJ2701=\"\",\"\",LEFT(referentes!AJ2701,FIND(\"*-*\",referentes!AJ2701)-1)),referentes!AJ2701))","v":""},null,""]
[null,null,null,null,null,null,null,null,null,null,null,null,null,null,null,null,null,null,{"$f":"IF(referentes!AJ2702=\"\",\"\",IF(IFERROR(SEARCH(\"*-*\",referentes!AJ2702),2)=1,IF(referentes!AJ2702=\"\",\"\",LEFT(referentes!AJ2702,FIND(\"*-*\",referentes!AJ2702)-1)),referentes!AJ2702))","v":""},null,""]
[null,null,null,null,null,null,null,null,null,null,null,null,null,null,null,null,null,null,{"$f":"IF(referentes!AJ2703=\"\",\"\",IF(IFERROR(SEARCH(\"*-*\",referentes!AJ2703),2)=1,IF(referentes!AJ2703=\"\",\"\",LEFT(referentes!AJ2703,FIND(\"*-*\",referentes!AJ2703)-1)),referentes!AJ2703))","v":""},null,""]
[null,null,null,null,null,null,null,null,null,null,null,null,null,null,null,null,null,null,{"$f":"IF(referentes!AJ2704=\"\",\"\",IF(IFERROR(SEARCH(\"*-*\",referentes!AJ2704),2)=1,IF(referentes!AJ2704=\"\",\"\",LEFT(referentes!AJ2704,FIND(\"*-*\",referentes!AJ2704)-1)),referentes!AJ2704))","v":""},null,""]
[null,null,null,null,null,null,null,null,null,null,null,null,null,null,null,null,null,null,{"$f":"IF(referentes!AJ2705=\"\",\"\",IF(IFERROR(SEARCH(\"*-*\",referentes!AJ2705),2)=1,IF(referentes!AJ2705=\"\",\"\",LEFT(referentes!AJ2705,FIND(\"*-*\",referentes!AJ2705)-1)),referentes!AJ2705))","v":""},null,""]
[null,null,null,null,null,null,null,null,null,null,null,null,null,null,null,null,null,null,{"$f":"IF(referentes!AJ2706=\"\",\"\",IF(IFERROR(SEARCH(\"*-*\",referentes!AJ2706),2)=1,IF(referentes!AJ2706=\"\",\"\",LEFT(referentes!AJ2706,FIND(\"*-*\",referentes!AJ2706)-1)),referentes!AJ2706))","v":""},null,""]
[null,null,null,null,null,null,null,null,null,null,null,null,null,null,null,null,null,null,{"$f":"IF(referentes!AJ2707=\"\",\"\",IF(IFERROR(SEARCH(\"*-*\",referentes!AJ2707),2)=1,IF(referentes!AJ2707=\"\",\"\",LEFT(referentes!AJ2707,FIND(\"*-*\",referentes!AJ2707)-1)),referentes!AJ2707))","v":""},null,""]
[null,null,null,null,null,null,null,null,null,null,null,null,null,null,null,null,null,null,{"$f":"IF(referentes!AJ2708=\"\",\"\",IF(IFERROR(SEARCH(\"*-*\",referentes!AJ2708),2)=1,IF(referentes!AJ2708=\"\",\"\",LEFT(referentes!AJ2708,FIND(\"*-*\",referentes!AJ2708)-1)),referentes!AJ2708))","v":""},null,""]
[null,null,null,null,null,null,null,null,null,null,null,null,null,null,null,null,null,null,{"$f":"IF(referentes!AJ2709=\"\",\"\",IF(IFERROR(SEARCH(\"*-*\",referentes!AJ2709),2)=1,IF(referentes!AJ2709=\"\",\"\",LEFT(referentes!AJ2709,FIND(\"*-*\",referentes!AJ2709)-1)),referentes!AJ2709))","v":""},null,""]
[null,null,null,null,null,null,null,null,null,null,null,null,null,null,null,null,null,null,{"$f":"IF(referentes!AJ2710=\"\",\"\",IF(IFERROR(SEARCH(\"*-*\",referentes!AJ2710),2)=1,IF(referentes!AJ2710=\"\",\"\",LEFT(referentes!AJ2710,FIND(\"*-*\",referentes!AJ2710)-1)),referentes!AJ2710))","v":""},null,""]
[null,null,null,null,null,null,null,null,null,null,null,null,null,null,null,null,null,null,{"$f":"IF(referentes!AJ2711=\"\",\"\",IF(IFERROR(SEARCH(\"*-*\",referentes!AJ2711),2)=1,IF(referentes!AJ2711=\"\",\"\",LEFT(referentes!AJ2711,FIND(\"*-*\",referentes!AJ2711)-1)),referentes!AJ2711))","v":""},null,""]
[null,null,null,null,null,null,null,null,null,null,null,null,null,null,null,null,null,null,{"$f":"IF(referentes!AJ2712=\"\",\"\",IF(IFERROR(SEARCH(\"*-*\",referentes!AJ2712),2)=1,IF(referentes!AJ2712=\"\",\"\",LEFT(referentes!AJ2712,FIND(\"*-*\",referentes!AJ2712)-1)),referentes!AJ2712))","v":""},null,""]
[null,null,null,null,null,null,null,null,null,null,null,null,null,null,null,null,null,null,{"$f":"IF(referentes!AJ2713=\"\",\"\",IF(IFERROR(SEARCH(\"*-*\",referentes!AJ2713),2)=1,IF(referentes!AJ2713=\"\",\"\",LEFT(referentes!AJ2713,FIND(\"*-*\",referentes!AJ2713)-1)),referentes!AJ2713))","v":""},null,""]
[null,null,null,null,null,null,null,null,null,null,null,null,null,null,null,null,null,null,{"$f":"IF(referentes!AJ2714=\"\",\"\",IF(IFERROR(SEARCH(\"*-*\",referentes!AJ2714),2)=1,IF(referentes!AJ2714=\"\",\"\",LEFT(referentes!AJ2714,FIND(\"*-*\",referentes!AJ2714)-1)),referentes!AJ2714))","v":""},null,""]
[null,null,null,null,null,null,null,null,null,null,null,null,null,null,null,null,null,null,{"$f":"IF(referentes!AJ2715=\"\",\"\",IF(IFERROR(SEARCH(\"*-*\",referentes!AJ2715),2)=1,IF(referentes!AJ2715=\"\",\"\",LEFT(referentes!AJ2715,FIND(\"*-*\",referentes!AJ2715)-1)),referentes!AJ2715))","v":""},null,""]
[null,null,null,null,null,null,null,null,null,null,null,null,null,null,null,null,null,null,{"$f":"IF(referentes!AJ2716=\"\",\"\",IF(IFERROR(SEARCH(\"*-*\",referentes!AJ2716),2)=1,IF(referentes!AJ2716=\"\",\"\",LEFT(referentes!AJ2716,FIND(\"*-*\",referentes!AJ2716)-1)),referentes!AJ2716))","v":""},null,""]
[null,null,null,null,null,null,null,null,null,null,null,null,null,null,null,null,null,null,{"$f":"IF(referentes!AJ2717=\"\",\"\",IF(IFERROR(SEARCH(\"*-*\",referentes!AJ2717),2)=1,IF(referentes!AJ2717=\"\",\"\",LEFT(referentes!AJ2717,FIND(\"*-*\",referentes!AJ2717)-1)),referentes!AJ2717))","v":""},null,""]
[null,null,null,null,null,null,null,null,null,null,null,null,null,null,null,null,null,null,{"$f":"IF(referentes!AJ2718=\"\",\"\",IF(IFERROR(SEARCH(\"*-*\",referentes!AJ2718),2)=1,IF(referentes!AJ2718=\"\",\"\",LEFT(referentes!AJ2718,FIND(\"*-*\",referentes!AJ2718)-1)),referentes!AJ2718))","v":""},null,""]
[null,null,null,null,null,null,null,null,null,null,null,null,null,null,null,null,null,null,{"$f":"IF(referentes!AJ2719=\"\",\"\",IF(IFERROR(SEARCH(\"*-*\",referentes!AJ2719),2)=1,IF(referentes!AJ2719=\"\",\"\",LEFT(referentes!AJ2719,FIND(\"*-*\",referentes!AJ2719)-1)),referentes!AJ2719))","v":""},null,""]
[null,null,null,null,null,null,null,null,null,null,null,null,null,null,null,null,null,null,{"$f":"IF(referentes!AJ2720=\"\",\"\",IF(IFERROR(SEARCH(\"*-*\",referentes!AJ2720),2)=1,IF(referentes!AJ2720=\"\",\"\",LEFT(referentes!AJ2720,FIND(\"*-*\",referentes!AJ2720)-1)),referentes!AJ2720))","v":""},null,""]
[null,null,null,null,null,null,null,null,null,null,null,null,null,null,null,null,null,null,{"$f":"IF(referentes!AJ2721=\"\",\"\",IF(IFERROR(SEARCH(\"*-*\",referentes!AJ2721),2)=1,IF(referentes!AJ2721=\"\",\"\",LEFT(referentes!AJ2721,FIND(\"*-*\",referentes!AJ2721)-1)),referentes!AJ2721))","v":""},null,""]
[null,null,null,null,null,null,null,null,null,null,null,null,null,null,null,null,null,null,{"$f":"IF(referentes!AJ2722=\"\",\"\",IF(IFERROR(SEARCH(\"*-*\",referentes!AJ2722),2)=1,IF(referentes!AJ2722=\"\",\"\",LEFT(referentes!AJ2722,FIND(\"*-*\",referentes!AJ2722)-1)),referentes!AJ2722))","v":""},null,""]
[null,null,null,null,null,null,null,null,null,null,null,null,null,null,null,null,null,null,{"$f":"IF(referentes!AJ2723=\"\",\"\",IF(IFERROR(SEARCH(\"*-*\",referentes!AJ2723),2)=1,IF(referentes!AJ2723=\"\",\"\",LEFT(referentes!AJ2723,FIND(\"*-*\",referentes!AJ2723)-1)),referentes!AJ2723))","v":""},null,""]
[null,null,null,null,null,null,null,null,null,null,null,null,null,null,null,null,null,null,{"$f":"IF(referentes!AJ2724=\"\",\"\",IF(IFERROR(SEARCH(\"*-*\",referentes!AJ2724),2)=1,IF(referentes!AJ2724=\"\",\"\",LEFT(referentes!AJ2724,FIND(\"*-*\",referentes!AJ2724)-1)),referentes!AJ2724))","v":""},null,""]
[null,null,null,null,null,null,null,null,null,null,null,null,null,null,null,null,null,null,{"$f":"IF(referentes!AJ2725=\"\",\"\",IF(IFERROR(SEARCH(\"*-*\",referentes!AJ2725),2)=1,IF(referentes!AJ2725=\"\",\"\",LEFT(referentes!AJ2725,FIND(\"*-*\",referentes!AJ2725)-1)),referentes!AJ2725))","v":""},null,""]
[null,null,null,null,null,null,null,null,null,null,null,null,null,null,null,null,null,null,{"$f":"IF(referentes!AJ2726=\"\",\"\",IF(IFERROR(SEARCH(\"*-*\",referentes!AJ2726),2)=1,IF(referentes!AJ2726=\"\",\"\",LEFT(referentes!AJ2726,FIND(\"*-*\",referentes!AJ2726)-1)),referentes!AJ2726))","v":""},null,""]
[null,null,null,null,null,null,null,null,null,null,null,null,null,null,null,null,null,null,{"$f":"IF(referentes!AJ2727=\"\",\"\",IF(IFERROR(SEARCH(\"*-*\",referentes!AJ2727),2)=1,IF(referentes!AJ2727=\"\",\"\",LEFT(referentes!AJ2727,FIND(\"*-*\",referentes!AJ2727)-1)),referentes!AJ2727))","v":""},null,""]
[null,null,null,null,null,null,null,null,null,null,null,null,null,null,null,null,null,null,{"$f":"IF(referentes!AJ2728=\"\",\"\",IF(IFERROR(SEARCH(\"*-*\",referentes!AJ2728),2)=1,IF(referentes!AJ2728=\"\",\"\",LEFT(referentes!AJ2728,FIND(\"*-*\",referentes!AJ2728)-1)),referentes!AJ2728))","v":""},null,""]
[null,null,null,null,null,null,null,null,null,null,null,null,null,null,null,null,null,null,{"$f":"IF(referentes!AJ2729=\"\",\"\",IF(IFERROR(SEARCH(\"*-*\",referentes!AJ2729),2)=1,IF(referentes!AJ2729=\"\",\"\",LEFT(referentes!AJ2729,FIND(\"*-*\",referentes!AJ2729)-1)),referentes!AJ2729))","v":""},null,""]
[null,null,null,null,null,null,null,null,null,null,null,null,null,null,null,null,null,null,{"$f":"IF(referentes!AJ2730=\"\",\"\",IF(IFERROR(SEARCH(\"*-*\",referentes!AJ2730),2)=1,IF(referentes!AJ2730=\"\",\"\",LEFT(referentes!AJ2730,FIND(\"*-*\",referentes!AJ2730)-1)),referentes!AJ2730))","v":""},null,""]
[null,null,null,null,null,null,null,null,null,null,null,null,null,null,null,null,null,null,{"$f":"IF(referentes!AJ2731=\"\",\"\",IF(IFERROR(SEARCH(\"*-*\",referentes!AJ2731),2)=1,IF(referentes!AJ2731=\"\",\"\",LEFT(referentes!AJ2731,FIND(\"*-*\",referentes!AJ2731)-1)),referentes!AJ2731))","v":""},null,""]
[null,null,null,null,null,null,null,null,null,null,null,null,null,null,null,null,null,null,{"$f":"IF(referentes!AJ2732=\"\",\"\",IF(IFERROR(SEARCH(\"*-*\",referentes!AJ2732),2)=1,IF(referentes!AJ2732=\"\",\"\",LEFT(referentes!AJ2732,FIND(\"*-*\",referentes!AJ2732)-1)),referentes!AJ2732))","v":""},null,""]
[null,null,null,null,null,null,null,null,null,null,null,null,null,null,null,null,null,null,{"$f":"IF(referentes!AJ2733=\"\",\"\",IF(IFERROR(SEARCH(\"*-*\",referentes!AJ2733),2)=1,IF(referentes!AJ2733=\"\",\"\",LEFT(referentes!AJ2733,FIND(\"*-*\",referentes!AJ2733)-1)),referentes!AJ2733))","v":""},null,""]
[null,null,null,null,null,null,null,null,null,null,null,null,null,null,null,null,null,null,{"$f":"IF(referentes!AJ2734=\"\",\"\",IF(IFERROR(SEARCH(\"*-*\",referentes!AJ2734),2)=1,IF(referentes!AJ2734=\"\",\"\",LEFT(referentes!AJ2734,FIND(\"*-*\",referentes!AJ2734)-1)),referentes!AJ2734))","v":""},null,""]
[null,null,null,null,null,null,null,null,null,null,null,null,null,null,null,null,null,null,{"$f":"IF(referentes!AJ2735=\"\",\"\",IF(IFERROR(SEARCH(\"*-*\",referentes!AJ2735),2)=1,IF(referentes!AJ2735=\"\",\"\",LEFT(referentes!AJ2735,FIND(\"*-*\",referentes!AJ2735)-1)),referentes!AJ2735))","v":""},null,""]
[null,null,null,null,null,null,null,null,null,null,null,null,null,null,null,null,null,null,{"$f":"IF(referentes!AJ2736=\"\",\"\",IF(IFERROR(SEARCH(\"*-*\",referentes!AJ2736),2)=1,IF(referentes!AJ2736=\"\",\"\",LEFT(referentes!AJ2736,FIND(\"*-*\",referentes!AJ2736)-1)),referentes!AJ2736))","v":""},null,""]
[null,null,null,null,null,null,null,null,null,null,null,null,null,null,null,null,null,null,{"$f":"IF(referentes!AJ2737=\"\",\"\",IF(IFERROR(SEARCH(\"*-*\",referentes!AJ2737),2)=1,IF(referentes!AJ2737=\"\",\"\",LEFT(referentes!AJ2737,FIND(\"*-*\",referentes!AJ2737)-1)),referentes!AJ2737))","v":""},null,""]
[null,null,null,null,null,null,null,null,null,null,null,null,null,null,null,null,null,null,{"$f":"IF(referentes!AJ2738=\"\",\"\",IF(IFERROR(SEARCH(\"*-*\",referentes!AJ2738),2)=1,IF(referentes!AJ2738=\"\",\"\",LEFT(referentes!AJ2738,FIND(\"*-*\",referentes!AJ2738)-1)),referentes!AJ2738))","v":""},null,""]
[null,null,null,null,null,null,null,null,null,null,null,null,null,null,null,null,null,null,{"$f":"IF(referentes!AJ2739=\"\",\"\",IF(IFERROR(SEARCH(\"*-*\",referentes!AJ2739),2)=1,IF(referentes!AJ2739=\"\",\"\",LEFT(referentes!AJ2739,FIND(\"*-*\",referentes!AJ2739)-1)),referentes!AJ2739))","v":""},null,""]
[null,null,null,null,null,null,null,null,null,null,null,null,null,null,null,null,null,null,{"$f":"IF(referentes!AJ2740=\"\",\"\",IF(IFERROR(SEARCH(\"*-*\",referentes!AJ2740),2)=1,IF(referentes!AJ2740=\"\",\"\",LEFT(referentes!AJ2740,FIND(\"*-*\",referentes!AJ2740)-1)),referentes!AJ2740))","v":""},null,""]
[null,null,null,null,null,null,null,null,null,null,null,null,null,null,null,null,null,null,{"$f":"IF(referentes!AJ2741=\"\",\"\",IF(IFERROR(SEARCH(\"*-*\",referentes!AJ2741),2)=1,IF(referentes!AJ2741=\"\",\"\",LEFT(referentes!AJ2741,FIND(\"*-*\",referentes!AJ2741)-1)),referentes!AJ2741))","v":""},null,""]
[null,null,null,null,null,null,null,null,null,null,null,null,null,null,null,null,null,null,{"$f":"IF(referentes!AJ2742=\"\",\"\",IF(IFERROR(SEARCH(\"*-*\",referentes!AJ2742),2)=1,IF(referentes!AJ2742=\"\",\"\",LEFT(referentes!AJ2742,FIND(\"*-*\",referentes!AJ2742)-1)),referentes!AJ2742))","v":""},null,""]
[null,null,null,null,null,null,null,null,null,null,null,null,null,null,null,null,null,null,{"$f":"IF(referentes!AJ2743=\"\",\"\",IF(IFERROR(SEARCH(\"*-*\",referentes!AJ2743),2)=1,IF(referentes!AJ2743=\"\",\"\",LEFT(referentes!AJ2743,FIND(\"*-*\",referentes!AJ2743)-1)),referentes!AJ2743))","v":""},null,""]
[null,null,null,null,null,null,null,null,null,null,null,null,null,null,null,null,null,null,{"$f":"IF(referentes!AJ2744=\"\",\"\",IF(IFERROR(SEARCH(\"*-*\",referentes!AJ2744),2)=1,IF(referentes!AJ2744=\"\",\"\",LEFT(referentes!AJ2744,FIND(\"*-*\",referentes!AJ2744)-1)),referentes!AJ2744))","v":""},null,""]
[null,null,null,null,null,null,null,null,null,null,null,null,null,null,null,null,null,null,{"$f":"IF(referentes!AJ2745=\"\",\"\",IF(IFERROR(SEARCH(\"*-*\",referentes!AJ2745),2)=1,IF(referentes!AJ2745=\"\",\"\",LEFT(referentes!AJ2745,FIND(\"*-*\",referentes!AJ2745)-1)),referentes!AJ2745))","v":""},null,""]

{"sheet":"AGD_MUESTREOS","index":7,"n_rows":0,"n_cols":0,"rows_kept":0,"cut":false,"hidden":true,"merged":[]}

{"sheet":"AGD_MUESTRAS","index":8,"n_rows":0,"n_cols":0,"rows_kept":0,"cut":false,"hidden":true,"merged":[]}

{"sheet":"AGD_PARAMETRO","index":9,"n_rows":0,"n_cols":0,"rows_kept":0,"cut":false,"hidden":true,"merged":[]}

{"sheet":"AGD_MUESTRAS_VARIABLES","index":10,"n_rows":0,"n_cols":0,"rows_kept":0,"cut":false,"hidden":true,"merged":[]}

{"sheet":"AGD_AUTORIAS","index":11,"n_rows":0,"n_cols":0,"rows_kept":0,"cut":false,"hidden":true,"merged":[]}

{"sheet":"MAPA","index":12,"n_rows":501,"n_cols":6,"rows_kept":501,"cut":false,"hidden":true,"merged":[]}
["ID MUESTREO","ID MUESTRA","LATITUD","LONGITUD","ID AVISTAMIENTO","NOMBRE ESPECIE"]
[{"$f":"IF(DATOS!B2=\"\",\"\",DATOS!B2)","v":""},{"$f":"IF(DATOS!BU2=\"\",\"\",DATOS!BU2)","v":""},{"$f":"IF(DATOS!CE2=\"\",\"\",DATOS!CE2)","v":""},{"$f":"IF(DATOS!CF2=\"\",\"\",DATOS!CF2)","v":""},{"$f":"IF(DATOS!T2=\"\",\"\",DATOS!T2)","v":""},{"$f":"IF(DATOS!AP2=\"\",\"\",DATOS!AP2)","v":""}]
[{"$f":"IF(DATOS!B3=\"\",\"\",DATOS!B3)","v":""},{"$f":"IF(DATOS!BU3=\"\",\"\",DATOS!BU3)","v":""},{"$f":"IF(DATOS!CE3=\"\",\"\",DATOS!CE3)","v":""},{"$f":"IF(DATOS!CF3=\"\",\"\",DATOS!CF3)","v":""},{"$f":"IF(DATOS!T3=\"\",\"\",DATOS!T3)","v":""},{"$f":"IF(DATOS!AP3=\"\",\"\",DATOS!AP3)","v":""}]
[{"$f":"IF(DATOS!B4=\"\",\"\",DATOS!B4)","v":""},{"$f":"IF(DATOS!BU4=\"\",\"\",DATOS!BU4)","v":""},{"$f":"IF(DATOS!CE4=\"\",\"\",DATOS!CE4)","v":""},{"$f":"IF(DATOS!CF4=\"\",\"\",DATOS!CF4)","v":""},{"$f":"IF(DATOS!T4=\"\",\"\",DATOS!T4)","v":""},{"$f":"IF(DATOS!AP4=\"\",\"\",DATOS!AP4)","v":""}]
[{"$f":"IF(DATOS!B5=\"\",\"\",DATOS!B5)","v":""},{"$f":"IF(DATOS!BU5=\"\",\"\",DATOS!BU5)","v":""},{"$f":"IF(DATOS!CE5=\"\",\"\",DATOS!CE5)","v":""},{"$f":"IF(DATOS!CF5=\"\",\"\",DATOS!CF5)","v":""},{"$f":"IF(DATOS!T5=\"\",\"\",DATOS!T5)","v":""},{"$f":"IF(DATOS!AP5=\"\",\"\",DATOS!AP5)","v":""}]
[{"$f":"IF(DATOS!B6=\"\",\"\",DATOS!B6)","v":""},{"$f":"IF(DATOS!BU6=\"\",\"\",DATOS!BU6)","v":""},{"$f":"IF(DATOS!CE6=\"\",\"\",DATOS!CE6)","v":""},{"$f":"IF(DATOS!CF6=\"\",\"\",DATOS!CF6)","v":""},{"$f":"IF(DATOS!T6=\"\",\"\",DATOS!T6)","v":""},{"$f":"IF(DATOS!AP6=\"\",\"\",DATOS!AP6)","v":""}]
[{"$f":"IF(DATOS!B7=\"\",\"\",DATOS!B7)","v":""},{"$f":"IF(DATOS!BU7=\"\",\"\",DATOS!BU7)","v":""},{"$f":"IF(DATOS!CE7=\"\",\"\",DATOS!CE7)","v":""},{"$f":"IF(DATOS!CF7=\"\",\"\",DATOS!CF7)","v":""},{"$f":"IF(DATOS!T7=\"\",\"\",DATOS!T7)","v":""},{"$f":"IF(DATOS!AP7=\"\",\"\",DATOS!AP7)","v":""}]
[{"$f":"IF(DATOS!B8=\"\",\"\",DATOS!B8)","v":""},{"$f":"IF(DATOS!BU8=\"\",\"\",DATOS!BU8)","v":""},{"$f":"IF(DATOS!CE8=\"\",\"\",DATOS!CE8)","v":""},{"$f":"IF(DATOS!CF8=\"\",\"\",DATOS!CF8)","v":""},{"$f":"IF(DATOS!T8=\"\",\"\",DATOS!T8)","v":""},{"$f":"IF(DATOS!AP8=\"\",\"\",DATOS!AP8)","v":""}]
[{"$f":"IF(DATOS!B9=\"\",\"\",DATOS!B9)","v":""},{"$f":"IF(DATOS!BU9=\"\",\"\",DATOS!BU9)","v":""},{"$f":"IF(DATOS!CE9=\"\",\"\",DATOS!CE9)","v":""},{"$f":"IF(DATOS!CF9=\"\",\"\",DATOS!CF9)","v":""},{"$f":"IF(DATOS!T9=\"\",\"\",DATOS!T9)","v":""},{"$f":"IF(DATOS!AP9=\"\",\"\",DATOS!AP9)","v":""}]
[{"$f":"IF(DATOS!B10=\"\",\"\",DATOS!B10)","v":""},{"$f":"IF(DATOS!BU10=\"\",\"\",DATOS!BU10)","v":""},{"$f":"IF(DATOS!CE10=\"\",\"\",DATOS!CE10)","v":""},{"$f":"IF(DATOS!CF10=\"\",\"\",DATOS!CF10)","v":""},{"$f":"IF(DATOS!T10=\"\",\"\",DATOS!T10)","v":""},{"$f":"IF(DATOS!AP10=\"\",\"\",DATOS!AP10)","v":""}]
[{"$f":"IF(DATOS!B11=\"\",\"\",DATOS!B11)","v":""},{"$f":"IF(DATOS!BU11=\"\",\"\",DATOS!BU11)","v":""},{"$f":"IF(DATOS!CE11=\"\",\"\",DATOS!CE11)","v":""},{"$f":"IF(DATOS!CF11=\"\",\"\",DATOS!CF11)","v":""},{"$f":"IF(DATOS!T11=\"\",\"\",DATOS!T11)","v":""},{"$f":"IF(DATOS!AP11=\"\",\"\",DATOS!AP11)","v":""}]
[{"$f":"IF(DATOS!B12=\"\",\"\",DATOS!B12)","v":""},{"$f":"IF(DATOS!BU12=\"\",\"\",DATOS!BU12)","v":""},{"$f":"IF(DATOS!CE12=\"\",\"\",DATOS!CE12)","v":""},{"$f":"IF(DATOS!CF12=\"\",\"\",DATOS!CF12)","v":""},{"$f":"IF(DATOS!T12=\"\",\"\",DATOS!T12)","v":""},{"$f":"IF(DATOS!AP12=\"\",\"\",DATOS!AP12)","v":""}]
[{"$f":"IF(DATOS!B13=\"\",\"\",DATOS!B13)","v":""},{"$f":"IF(DATOS!BU13=\"\",\"\",DATOS!BU13)","v":""},{"$f":"IF(DATOS!CE13=\"\",\"\",DATOS!CE13)","v":""},{"$f":"IF(DATOS!CF13=\"\",\"\",DATOS!CF13)","v":""},{"$f":"IF(DATOS!T13=\"\",\"\",DATOS!T13)","v":""},{"$f":"IF(DATOS!AP13=\"\",\"\",DATOS!AP13)","v":""}]
[{"$f":"IF(DATOS!B14=\"\",\"\",DATOS!B14)","v":""},{"$f":"IF(DATOS!BU14=\"\",\"\",DATOS!BU14)","v":""},{"$f":"IF(DATOS!CE14=\"\",\"\",DATOS!CE14)","v":""},{"$f":"IF(DATOS!CF14=\"\",\"\",DATOS!CF14)","v":""},{"$f":"IF(DATOS!T14=\"\",\"\",DATOS!T14)","v":""},{"$f":"IF(DATOS!AP14=\"\",\"\",DATOS!AP14)","v":""}]
[{"$f":"IF(DATOS!B15=\"\",\"\",DATOS!B15)","v":""},{"$f":"IF(DATOS!BU15=\"\",\"\",DATOS!BU15)","v":""},{"$f":"IF(DATOS!CE15=\"\",\"\",DATOS!CE15)","v":""},{"$f":"IF(DATOS!CF15=\"\",\"\",DATOS!CF15)","v":""},{"$f":"IF(DATOS!T15=\"\",\"\",DATOS!T15)","v":""},{"$f":"IF(DATOS!AP15=\"\",\"\",DATOS!AP15)","v":""}]
[{"$f":"IF(DATOS!B16=\"\",\"\",DATOS!B16)","v":""},{"$f":"IF(DATOS!BU16=\"\",\"\",DATOS!BU16)","v":""},{"$f":"IF(DATOS!CE16=\"\",\"\",DATOS!CE16)","v":""},{"$f":"IF(DATOS!CF16=\"\",\"\",DATOS!CF16)","v":""},{"$f":"IF(DATOS!T16=\"\",\"\",DATOS!T16)","v":""},{"$f":"IF(DATOS!AP16=\"\",\"\",DATOS!AP16)","v":""}]
[{"$f":"IF(DATOS!B17=\"\",\"\",DATOS!B17)","v":""},{"$f":"IF(DATOS!BU17=\"\",\"\",DATOS!BU17)","v":""},{"$f":"IF(DATOS!CE17=\"\",\"\",DATOS!CE17)","v":""},{"$f":"IF(DATOS!CF17=\"\",\"\",DATOS!CF17)","v":""},{"$f":"IF(DATOS!T17=\"\",\"\",DATOS!T17)","v":""},{"$f":"IF(DATOS!AP17=\"\",\"\",DATOS!AP17)","v":""}]
[{"$f":"IF(DATOS!B18=\"\",\"\",DATOS!B18)","v":""},{"$f":"IF(DATOS!BU18=\"\",\"\",DATOS!BU18)","v":""},{"$f":"IF(DATOS!CE18=\"\",\"\",DATOS!CE18)","v":""},{"$f":"IF(DATOS!CF18=\"\",\"\",DATOS!CF18)","v":""},{"$f":"IF(DATOS!T18=\"\",\"\",DATOS!T18)","v":""},{"$f":"IF(DATOS!AP18=\"\",\"\",DATOS!AP18)","v":""}]
[{"$f":"IF(DATOS!B19=\"\",\"\",DATOS!B19)","v":""},{"$f":"IF(DATOS!BU19=\"\",\"\",DATOS!BU19)","v":""},{"$f":"IF(DATOS!CE19=\"\",\"\",DATOS!CE19)","v":""},{"$f":"IF(DATOS!CF19=\"\",\"\",DATOS!CF19)","v":""},{"$f":"IF(DATOS!T19=\"\",\"\",DATOS!T19)","v":""},{"$f":"IF(DATOS!AP19=\"\",\"\",DATOS!AP19)","v":""}]
[{"$f":"IF(DATOS!B20=\"\",\"\",DATOS!B20)","v":""},{"$f":"IF(DATOS!BU20=\"\",\"\",DATOS!BU20)","v":""},{"$f":"IF(DATOS!CE20=\"\",\"\",DATOS!CE20)","v":""},{"$f":"IF(DATOS!CF20=\"\",\"\",DATOS!CF20)","v":""},{"$f":"IF(DATOS!T20=\"\",\"\",DATOS!T20)","v":""},{"$f":"IF(DATOS!AP20=\"\",\"\",DATOS!AP20)","v":""}]
[{"$f":"IF(DATOS!B21=\"\",\"\",DATOS!B21)","v":""},{"$f":"IF(DATOS!BU21=\"\",\"\",DATOS!BU21)","v":""},{"$f":"IF(DATOS!CE21=\"\",\"\",DATOS!CE21)","v":""},{"$f":"IF(DATOS!CF21=\"\",\"\",DATOS!CF21)","v":""},{"$f":"IF(DATOS!T21=\"\",\"\",DATOS!T21)","v":""},{"$f":"IF(DATOS!AP21=\"\",\"\",DATOS!AP21)","v":""}]
[{"$f":"IF(DATOS!B22=\"\",\"\",DATOS!B22)","v":""},{"$f":"IF(DATOS!BU22=\"\",\"\",DATOS!BU22)","v":""},{"$f":"IF(DATOS!CE22=\"\",\"\",DATOS!CE22)","v":""},{"$f":"IF(DATOS!CF22=\"\",\"\",DATOS!CF22)","v":""},{"$f":"IF(DATOS!T22=\"\",\"\",DATOS!T22)","v":""},{"$f":"IF(DATOS!AP22=\"\",\"\",DATOS!AP22)","v":""}]
[{"$f":"IF(DATOS!B23=\"\",\"\",DATOS!B23)","v":""},{"$f":"IF(DATOS!BU23=\"\",\"\",DATOS!BU23)","v":""},{"$f":"IF(DATOS!CE23=\"\",\"\",DATOS!CE23)","v":""},{"$f":"IF(DATOS!CF23=\"\",\"\",DATOS!CF23)","v":""},{"$f":"IF(DATOS!T23=\"\",\"\",DATOS!T23)","v":""},{"$f":"IF(DATOS!AP23=\"\",\"\",DATOS!AP23)","v":""}]
[{"$f":"IF(DATOS!B24=\"\",\"\",DATOS!B24)","v":""},{"$f":"IF(DATOS!BU24=\"\",\"\",DATOS!BU24)","v":""},{"$f":"IF(DATOS!CE24=\"\",\"\",DATOS!CE24)","v":""},{"$f":"IF(DATOS!CF24=\"\",\"\",DATOS!CF24)","v":""},{"$f":"IF(DATOS!T24=\"\",\"\",DATOS!T24)","v":""},{"$f":"IF(DATOS!AP24=\"\",\"\",DATOS!AP24)","v":""}]
[{"$f":"IF(DATOS!B25=\"\",\"\",DATOS!B25)","v":""},{"$f":"IF(DATOS!BU25=\"\",\"\",DATOS!BU25)","v":""},{"$f":"IF(DATOS!CE25=\"\",\"\",DATOS!CE25)","v":""},{"$f":"IF(DATOS!CF25=\"\",\"\",DATOS!CF25)","v":""},{"$f":"IF(DATOS!T25=\"\",\"\",DATOS!T25)","v":""},{"$f":"IF(DATOS!AP25=\"\",\"\",DATOS!AP25)","v":""}]
[{"$f":"IF(DATOS!B26=\"\",\"\",DATOS!B26)","v":""},{"$f":"IF(DATOS!BU26=\"\",\"\",DATOS!BU26)","v":""},{"$f":"IF(DATOS!CE26=\"\",\"\",DATOS!CE26)","v":""},{"$f":"IF(DATOS!CF26=\"\",\"\",DATOS!CF26)","v":""},{"$f":"IF(DATOS!T26=\"\",\"\",DATOS!T26)","v":""},{"$f":"IF(DATOS!AP26=\"\",\"\",DATOS!AP26)","v":""}]
[{"$f":"IF(DATOS!B27=\"\",\"\",DATOS!B27)","v":""},{"$f":"IF(DATOS!BU27=\"\",\"\",DATOS!BU27)","v":""},{"$f":"IF(DATOS!CE27=\"\",\"\",DATOS!CE27)","v":""},{"$f":"IF(DATOS!CF27=\"\",\"\",DATOS!CF27)","v":""},{"$f":"IF(DATOS!T27=\"\",\"\",DATOS!T27)","v":""},{"$f":"IF(DATOS!AP27=\"\",\"\",DATOS!AP27)","v":""}]
[{"$f":"IF(DATOS!B28=\"\",\"\",DATOS!B28)","v":""},{"$f":"IF(DATOS!BU28=\"\",\"\",DATOS!BU28)","v":""},{"$f":"IF(DATOS!CE28=\"\",\"\",DATOS!CE28)","v":""},{"$f":"IF(DATOS!CF28=\"\",\"\",DATOS!CF28)","v":""},{"$f":"IF(DATOS!T28=\"\",\"\",DATOS!T28)","v":""},{"$f":"IF(DATOS!AP28=\"\",\"\",DATOS!AP28)","v":""}]
[{"$f":"IF(DATOS!B29=\"\",\"\",DATOS!B29)","v":""},{"$f":"IF(DATOS!BU29=\"\",\"\",DATOS!BU29)","v":""},{"$f":"IF(DATOS!CE29=\"\",\"\",DATOS!CE29)","v":""},{"$f":"IF(DATOS!CF29=\"\",\"\",DATOS!CF29)","v":""},{"$f":"IF(DATOS!T29=\"\",\"\",DATOS!T29)","v":""},{"$f":"IF(DATOS!AP29=\"\",\"\",DATOS!AP29)","v":""}]
[{"$f":"IF(DATOS!B30=\"\",\"\",DATOS!B30)","v":""},{"$f":"IF(DATOS!BU30=\"\",\"\",DATOS!BU30)","v":""},{"$f":"IF(DATOS!CE30=\"\",\"\",DATOS!CE30)","v":""},{"$f":"IF(DATOS!CF30=\"\",\"\",DATOS!CF30)","v":""},{"$f":"IF(DATOS!T30=\"\",\"\",DATOS!T30)","v":""},{"$f":"IF(DATOS!AP30=\"\",\"\",DATOS!AP30)","v":""}]
[{"$f":"IF(DATOS!B31=\"\",\"\",DATOS!B31)","v":""},{"$f":"IF(DATOS!BU31=\"\",\"\",DATOS!BU31)","v":""},{"$f":"IF(DATOS!CE31=\"\",\"\",DATOS!CE31)","v":""},{"$f":"IF(DATOS!CF31=\"\",\"\",DATOS!CF31)","v":""},{"$f":"IF(DATOS!T31=\"\",\"\",DATOS!T31)","v":""},{"$f":"IF(DATOS!AP31=\"\",\"\",DATOS!AP31)","v":""}]
[{"$f":"IF(DATOS!B32=\"\",\"\",DATOS!B32)","v":""},{"$f":"IF(DATOS!BU32=\"\",\"\",DATOS!BU32)","v":""},{"$f":"IF(DATOS!CE32=\"\",\"\",DATOS!CE32)","v":""},{"$f":"IF(DATOS!CF32=\"\",\"\",DATOS!CF32)","v":""},{"$f":"IF(DATOS!T32=\"\",\"\",DATOS!T32)","v":""},{"$f":"IF(DATOS!AP32=\"\",\"\",DATOS!AP32)","v":""}]
[{"$f":"IF(DATOS!B33=\"\",\"\",DATOS!B33)","v":""},{"$f":"IF(DATOS!BU33=\"\",\"\",DATOS!BU33)","v":""},{"$f":"IF(DATOS!CE33=\"\",\"\",DATOS!CE33)","v":""},{"$f":"IF(DATOS!CF33=\"\",\"\",DATOS!CF33)","v":""},{"$f":"IF(DATOS!T33=\"\",\"\",DATOS!T33)","v":""},{"$f":"IF(DATOS!AP33=\"\",\"\",DATOS!AP33)","v":""}]
[{"$f":"IF(DATOS!B34=\"\",\"\",DATOS!B34)","v":""},{"$f":"IF(DATOS!BU34=\"\",\"\",DATOS!BU34)","v":""},{"$f":"IF(DATOS!CE34=\"\",\"\",DATOS!CE34)","v":""},{"$f":"IF(DATOS!CF34=\"\",\"\",DATOS!CF34)","v":""},{"$f":"IF(DATOS!T34=\"\",\"\",DATOS!T34)","v":""},{"$f":"IF(DATOS!AP34=\"\",\"\",DATOS!AP34)","v":""}]
[{"$f":"IF(DATOS!B35=\"\",\"\",DATOS!B35)","v":""},{"$f":"IF(DATOS!BU35=\"\",\"\",DATOS!BU35)","v":""},{"$f":"IF(DATOS!CE35=\"\",\"\",DATOS!CE35)","v":""},{"$f":"IF(DATOS!CF35=\"\",\"\",DATOS!CF35)","v":""},{"$f":"IF(DATOS!T35=\"\",\"\",DATOS!T35)","v":""},{"$f":"IF(DATOS!AP35=\"\",\"\",DATOS!AP35)","v":""}]
[{"$f":"IF(DATOS!B36=\"\",\"\",DATOS!B36)","v":""},{"$f":"IF(DATOS!BU36=\"\",\"\",DATOS!BU36)","v":""},{"$f":"IF(DATOS!CE36=\"\",\"\",DATOS!CE36)","v":""},{"$f":"IF(DATOS!CF36=\"\",\"\",DATOS!CF36)","v":""},{"$f":"IF(DATOS!T36=\"\",\"\",DATOS!T36)","v":""},{"$f":"IF(DATOS!AP36=\"\",\"\",DATOS!AP36)","v":""}]
[{"$f":"IF(DATOS!B37=\"\",\"\",DATOS!B37)","v":""},{"$f":"IF(DATOS!BU37=\"\",\"\",DATOS!BU37)","v":""},{"$f":"IF(DATOS!CE37=\"\",\"\",DATOS!CE37)","v":""},{"$f":"IF(DATOS!CF37=\"\",\"\",DATOS!CF37)","v":""},{"$f":"IF(DATOS!T37=\"\",\"\",DATOS!T37)","v":""},{"$f":"IF(DATOS!AP37=\"\",\"\",DATOS!AP37)","v":""}]
[{"$f":"IF(DATOS!B38=\"\",\"\",DATOS!B38)","v":""},{"$f":"IF(DATOS!BU38=\"\",\"\",DATOS!BU38)","v":""},{"$f":"IF(DATOS!CE38=\"\",\"\",DATOS!CE38)","v":""},{"$f":"IF(DATOS!CF38=\"\",\"\",DATOS!CF38)","v":""},{"$f":"IF(DATOS!T38=\"\",\"\",DATOS!T38)","v":""},{"$f":"IF(DATOS!AP38=\"\",\"\",DATOS!AP38)","v":""}]
[{"$f":"IF(DATOS!B39=\"\",\"\",DATOS!B39)","v":""},{"$f":"IF(DATOS!BU39=\"\",\"\",DATOS!BU39)","v":""},{"$f":"IF(DATOS!CE39=\"\",\"\",DATOS!CE39)","v":""},{"$f":"IF(DATOS!CF39=\"\",\"\",DATOS!CF39)","v":""},{"$f":"IF(DATOS!T39=\"\",\"\",DATOS!T39)","v":""},{"$f":"IF(DATOS!AP39=\"\",\"\",DATOS!AP39)","v":""}]
[{"$f":"IF(DATOS!B40=\"\",\"\",DATOS!B40)","v":""},{"$f":"IF(DATOS!BU40=\"\",\"\",DATOS!BU40)","v":""},{"$f":"IF(DATOS!CE40=\"\",\"\",DATOS!CE40)","v":""},{"$f":"IF(DATOS!CF40=\"\",\"\",DATOS!CF40)","v":""},{"$f":"IF(DATOS!T40=\"\",\"\",DATOS!T40)","v":""},{"$f":"IF(DATOS!AP40=\"\",\"\",DATOS!AP40)","v":""}]
[{"$f":"IF(DATOS!B41=\"\",\"\",DATOS!B41)","v":""},{"$f":"IF(DATOS!BU41=\"\",\"\",DATOS!BU41)","v":""},{"$f":"IF(DATOS!CE41=\"\",\"\",DATOS!CE41)","v":""},{"$f":"IF(DATOS!CF41=\"\",\"\",DATOS!CF41)","v":""},{"$f":"IF(DATOS!T41=\"\",\"\",DATOS!T41)","v":""},{"$f":"IF(DATOS!AP41=\"\",\"\",DATOS!AP41)","v":""}]
[{"$f":"IF(DATOS!B42=\"\",\"\",DATOS!B42)","v":""},{"$f":"IF(DATOS!BU42=\"\",\"\",DATOS!BU42)","v":""},{"$f":"IF(DATOS!CE42=\"\",\"\",DATOS!CE42)","v":""},{"$f":"IF(DATOS!CF42=\"\",\"\",DATOS!CF42)","v":""},{"$f":"IF(DATOS!T42=\"\",\"\",DATOS!T42)","v":""},{"$f":"IF(DATOS!AP42=\"\",\"\",DATOS!AP42)","v":""}]
[{"$f":"IF(DATOS!B43=\"\",\"\",DATOS!B43)","v":""},{"$f":"IF(DATOS!BU43=\"\",\"\",DATOS!BU43)","v":""},{"$f":"IF(DATOS!CE43=\"\",\"\",DATOS!CE43)","v":""},{"$f":"IF(DATOS!CF43=\"\",\"\",DATOS!CF43)","v":""},{"$f":"IF(DATOS!T43=\"\",\"\",DATOS!T43)","v":""},{"$f":"IF(DATOS!AP43=\"\",\"\",DATOS!AP43)","v":""}]
[{"$f":"IF(DATOS!B44=\"\",\"\",DATOS!B44)","v":""},{"$f":"IF(DATOS!BU44=\"\",\"\",DATOS!BU44)","v":""},{"$f":"IF(DATOS!CE44=\"\",\"\",DATOS!CE44)","v":""},{"$f":"IF(DATOS!CF44=\"\",\"\",DATOS!CF44)","v":""},{"$f":"IF(DATOS!T44=\"\",\"\",DATOS!T44)","v":""},{"$f":"IF(DATOS!AP44=\"\",\"\",DATOS!AP44)","v":""}]
[{"$f":"IF(DATOS!B45=\"\",\"\",DATOS!B45)","v":""},{"$f":"IF(DATOS!BU45=\"\",\"\",DATOS!BU45)","v":""},{"$f":"IF(DATOS!CE45=\"\",\"\",DATOS!CE45)","v":""},{"$f":"IF(DATOS!CF45=\"\",\"\",DATOS!CF45)","v":""},{"$f":"IF(DATOS!T45=\"\",\"\",DATOS!T45)","v":""},{"$f":"IF(DATOS!AP45=\"\",\"\",DATOS!AP45)","v":""}]
[{"$f":"IF(DATOS!B46=\"\",\"\",DATOS!B46)","v":""},{"$f":"IF(DATOS!BU46=\"\",\"\",DATOS!BU46)","v":""},{"$f":"IF(DATOS!CE46=\"\",\"\",DATOS!CE46)","v":""},{"$f":"IF(DATOS!CF46=\"\",\"\",DATOS!CF46)","v":""},{"$f":"IF(DATOS!T46=\"\",\"\",DATOS!T46)","v":""},{"$f":"IF(DATOS!AP46=\"\",\"\",DATOS!AP46)","v":""}]
[{"$f":"IF(DATOS!B47=\"\",\"\",DATOS!B47)","v":""},{"$f":"IF(DATOS!BU47=\"\",\"\",DATOS!BU47)","v":""},{"$f":"IF(DATOS!CE47=\"\",\"\",DATOS!CE47)","v":""},{"$f":"IF(DATOS!CF47=\"\",\"\",DATOS!CF47)","v":""},{"$f":"IF(DATOS!T47=\"\",\"\",DATOS!T47)","v":""},{"$f":"IF(DATOS!AP47=\"\",\"\",DATOS!AP47)","v":""}]
[{"$f":"IF(DATOS!B48=\"\",\"\",DATOS!B48)","v":""},{"$f":"IF(DATOS!BU48=\"\",\"\",DATOS!BU48)","v":""},{"$f":"IF(DATOS!CE48=\"\",\"\",DATOS!CE48)","v":""},{"$f":"IF(DATOS!CF48=\"\",\"\",DATOS!CF48)","v":""},{"$f":"IF(DATOS!T48=\"\",\"\",DATOS!T48)","v":""},{"$f":"IF(DATOS!AP48=\"\",\"\",DATOS!AP48)","v":""}]
[{"$f":"IF(DATOS!B49=\"\",\"\",DATOS!B49)","v":""},{"$f":"IF(DATOS!BU49=\"\",\"\",DATOS!BU49)","v":""},{"$f":"IF(DATOS!CE49=\"\",\"\",DATOS!CE49)","v":""},{"$f":"IF(DATOS!CF49=\"\",\"\",DATOS!CF49)","v":""},{"$f":"IF(DATOS!T49=\"\",\"\",DATOS!T49)","v":""},{"$f":"IF(DATOS!AP49=\"\",\"\",DATOS!AP49)","v":""}]
[{"$f":"IF(DATOS!B50=\"\",\"\",DATOS!B50)","v":""},{"$f":"IF(DATOS!BU50=\"\",\"\",DATOS!BU50)","v":""},{"$f":"IF(DATOS!CE50=\"\",\"\",DATOS!CE50)","v":""},{"$f":"IF(DATOS!CF50=\"\",\"\",DATOS!CF50)","v":""},{"$f":"IF(DATOS!T50=\"\",\"\",DATOS!T50)","v":""},{"$f":"IF(DATOS!AP50=\"\",\"\",DATOS!AP50)","v":""}]
[{"$f":"IF(DATOS!B51=\"\",\"\",DATOS!B51)","v":""},{"$f":"IF(DATOS!BU51=\"\",\"\",DATOS!BU51)","v":""},{"$f":"IF(DATOS!CE51=\"\",\"\",DATOS!CE51)","v":""},{"$f":"IF(DATOS!CF51=\"\",\"\",DATOS!CF51)","v":""},{"$f":"IF(DATOS!T51=\"\",\"\",DATOS!T51)","v":""},{"$f":"IF(DATOS!AP51=\"\",\"\",DATOS!AP51)","v":""}]
[{"$f":"IF(DATOS!B52=\"\",\"\",DATOS!B52)","v":""},{"$f":"IF(DATOS!BU52=\"\",\"\",DATOS!BU52)","v":""},{"$f":"IF(DATOS!CE52=\"\",\"\",DATOS!CE52)","v":""},{"$f":"IF(DATOS!CF52=\"\",\"\",DATOS!CF52)","v":""},{"$f":"IF(DATOS!T52=\"\",\"\",DATOS!T52)","v":""},{"$f":"IF(DATOS!AP52=\"\",\"\",DATOS!AP52)","v":""}]
[{"$f":"IF(DATOS!B53=\"\",\"\",DATOS!B53)","v":""},{"$f":"IF(DATOS!BU53=\"\",\"\",DATOS!BU53)","v":""},{"$f":"IF(DATOS!CE53=\"\",\"\",DATOS!CE53)","v":""},{"$f":"IF(DATOS!CF53=\"\",\"\",DATOS!CF53)","v":""},{"$f":"IF(DATOS!T53=\"\",\"\",DATOS!T53)","v":""},{"$f":"IF(DATOS!AP53=\"\",\"\",DATOS!AP53)","v":""}]
[{"$f":"IF(DATOS!B54=\"\",\"\",DATOS!B54)","v":""},{"$f":"IF(DATOS!BU54=\"\",\"\",DATOS!BU54)","v":""},{"$f":"IF(DATOS!CE54=\"\",\"\",DATOS!CE54)","v":""},{"$f":"IF(DATOS!CF54=\"\",\"\",DATOS!CF54)","v":""},{"$f":"IF(DATOS!T54=\"\",\"\",DATOS!T54)","v":""},{"$f":"IF(DATOS!AP54=\"\",\"\",DATOS!AP54)","v":""}]
[{"$f":"IF(DATOS!B55=\"\",\"\",DATOS!B55)","v":""},{"$f":"IF(DATOS!BU55=\"\",\"\",DATOS!BU55)","v":""},{"$f":"IF(DATOS!CE55=\"\",\"\",DATOS!CE55)","v":""},{"$f":"IF(DATOS!CF55=\"\",\"\",DATOS!CF55)","v":""},{"$f":"IF(DATOS!T55=\"\",\"\",DATOS!T55)","v":""},{"$f":"IF(DATOS!AP55=\"\",\"\",DATOS!AP55)","v":""}]
[{"$f":"IF(DATOS!B56=\"\",\"\",DATOS!B56)","v":""},{"$f":"IF(DATOS!BU56=\"\",\"\",DATOS!BU56)","v":""},{"$f":"IF(DATOS!CE56=\"\",\"\",DATOS!CE56)","v":""},{"$f":"IF(DATOS!CF56=\"\",\"\",DATOS!CF56)","v":""},{"$f":"IF(DATOS!T56=\"\",\"\",DATOS!T56)","v":""},{"$f":"IF(DATOS!AP56=\"\",\"\",DATOS!AP56)","v":""}]
[{"$f":"IF(DATOS!B57=\"\",\"\",DATOS!B57)","v":""},{"$f":"IF(DATOS!BU57=\"\",\"\",DATOS!BU57)","v":""},{"$f":"IF(DATOS!CE57=\"\",\"\",DATOS!CE57)","v":""},{"$f":"IF(DATOS!CF57=\"\",\"\",DATOS!CF57)","v":""},{"$f":"IF(DATOS!T57=\"\",\"\",DATOS!T57)","v":""},{"$f":"IF(DATOS!AP57=\"\",\"\",DATOS!AP57)","v":""}]
[{"$f":"IF(DATOS!B58=\"\",\"\",DATOS!B58)","v":""},{"$f":"IF(DATOS!BU58=\"\",\"\",DATOS!BU58)","v":""},{"$f":"IF(DATOS!CE58=\"\",\"\",DATOS!CE58)","v":""},{"$f":"IF(DATOS!CF58=\"\",\"\",DATOS!CF58)","v":""},{"$f":"IF(DATOS!T58=\"\",\"\",DATOS!T58)","v":""},{"$f":"IF(DATOS!AP58=\"\",\"\",DATOS!AP58)","v":""}]
[{"$f":"IF(DATOS!B59=\"\",\"\",DATOS!B59)","v":""},{"$f":"IF(DATOS!BU59=\"\",\"\",DATOS!BU59)","v":""},{"$f":"IF(DATOS!CE59=\"\",\"\",DATOS!CE59)","v":""},{"$f":"IF(DATOS!CF59=\"\",\"\",DATOS!CF59)","v":""},{"$f":"IF(DATOS!T59=\"\",\"\",DATOS!T59)","v":""},{"$f":"IF(DATOS!AP59=\"\",\"\",DATOS!AP59)","v":""}]
[{"$f":"IF(DATOS!B60=\"\",\"\",DATOS!B60)","v":""},{"$f":"IF(DATOS!BU60=\"\",\"\",DATOS!BU60)","v":""},{"$f":"IF(DATOS!CE60=\"\",\"\",DATOS!CE60)","v":""},{"$f":"IF(DATOS!CF60=\"\",\"\",DATOS!CF60)","v":""},{"$f":"IF(DATOS!T60=\"\",\"\",DATOS!T60)","v":""},{"$f":"IF(DATOS!AP60=\"\",\"\",DATOS!AP60)","v":""}]
[{"$f":"IF(DATOS!B61=\"\",\"\",DATOS!B61)","v":""},{"$f":"IF(DATOS!BU61=\"\",\"\",DATOS!BU61)","v":""},{"$f":"IF(DATOS!CE61=\"\",\"\",DATOS!CE61)","v":""},{"$f":"IF(DATOS!CF61=\"\",\"\",DATOS!CF61)","v":""},{"$f":"IF(DATOS!T61=\"\",\"\",DATOS!T61)","v":""},{"$f":"IF(DATOS!AP61=\"\",\"\",DATOS!AP61)","v":""}]
[{"$f":"IF(DATOS!B62=\"\",\"\",DATOS!B62)","v":""},{"$f":"IF(DATOS!BU62=\"\",\"\",DATOS!BU62)","v":""},{"$f":"IF(DATOS!CE62=\"\",\"\",DATOS!CE62)","v":""},{"$f":"IF(DATOS!CF62=\"\",\"\",DATOS!CF62)","v":""},{"$f":"IF(DATOS!T62=\"\",\"\",DATOS!T62)","v":""},{"$f":"IF(DATOS!AP62=\"\",\"\",DATOS!AP62)","v":""}]
[{"$f":"IF(DATOS!B63=\"\",\"\",DATOS!B63)","v":""},{"$f":"IF(DATOS!BU63=\"\",\"\",DATOS!BU63)","v":""},{"$f":"IF(DATOS!CE63=\"\",\"\",DATOS!CE63)","v":""},{"$f":"IF(DATOS!CF63=\"\",\"\",DATOS!CF63)","v":""},{"$f":"IF(DATOS!T63=\"\",\"\",DATOS!T63)","v":""},{"$f":"IF(DATOS!AP63=\"\",\"\",DATOS!AP63)","v":""}]
[{"$f":"IF(DATOS!B64=\"\",\"\",DATOS!B64)","v":""},{"$f":"IF(DATOS!BU64=\"\",\"\",DATOS!BU64)","v":""},{"$f":"IF(DATOS!CE64=\"\",\"\",DATOS!CE64)","v":""},{"$f":"IF(DATOS!CF64=\"\",\"\",DATOS!CF64)","v":""},{"$f":"IF(DATOS!T64=\"\",\"\",DATOS!T64)","v":""},{"$f":"IF(DATOS!AP64=\"\",\"\",DATOS!AP64)","v":""}]
[{"$f":"IF(DATOS!B65=\"\",\"\",DATOS!B65)","v":""},{"$f":"IF(DATOS!BU65=\"\",\"\",DATOS!BU65)","v":""},{"$f":"IF(DATOS!CE65=\"\",\"\",DATOS!CE65)","v":""},{"$f":"IF(DATOS!CF65=\"\",\"\",DATOS!CF65)","v":""},{"$f":"IF(DATOS!T65=\"\",\"\",DATOS!T65)","v":""},{"$f":"IF(DATOS!AP65=\"\",\"\",DATOS!AP65)","v":""}]
[{"$f":"IF(DATOS!B66=\"\",\"\",DATOS!B66)","v":""},{"$f":"IF(DATOS!BU66=\"\",\"\",DATOS!BU66)","v":""},{"$f":"IF(DATOS!CE66=\"\",\"\",DATOS!CE66)","v":""},{"$f":"IF(DATOS!CF66=\"\",\"\",DATOS!CF66)","v":""},{"$f":"IF(DATOS!T66=\"\",\"\",DATOS!T66)","v":""},{"$f":"IF(DATOS!AP66=\"\",\"\",DATOS!AP66)","v":""}]
[{"$f":"IF(DATOS!B67=\"\",\"\",DATOS!B67)","v":""},{"$f":"IF(DATOS!BU67=\"\",\"\",DATOS!BU67)","v":""},{"$f":"IF(DATOS!CE67=\"\",\"\",DATOS!CE67)","v":""},{"$f":"IF(DATOS!CF67=\"\",\"\",DATOS!CF67)","v":""},{"$f":"IF(DATOS!T67=\"\",\"\",DATOS!T67)","v":""},{"$f":"IF(DATOS!AP67=\"\",\"\",DATOS!AP67)","v":""}]
[{"$f":"IF(DATOS!B68=\"\",\"\",DATOS!B68)","v":""},{"$f":"IF(DATOS!BU68=\"\",\"\",DATOS!BU68)","v":""},{"$f":"IF(DATOS!CE68=\"\",\"\",DATOS!CE68)","v":""},{"$f":"IF(DATOS!CF68=\"\",\"\",DATOS!CF68)","v":""},{"$f":"IF(DATOS!T68=\"\",\"\",DATOS!T68)","v":""},{"$f":"IF(DATOS!AP68=\"\",\"\",DATOS!AP68)","v":""}]
[{"$f":"IF(DATOS!B69=\"\",\"\",DATOS!B69)","v":""},{"$f":"IF(DATOS!BU69=\"\",\"\",DATOS!BU69)","v":""},{"$f":"IF(DATOS!CE69=\"\",\"\",DATOS!CE69)","v":""},{"$f":"IF(DATOS!CF69=\"\",\"\",DATOS!CF69)","v":""},{"$f":"IF(DATOS!T69=\"\",\"\",DATOS!T69)","v":""},{"$f":"IF(DATOS!AP69=\"\",\"\",DATOS!AP69)","v":""}]
[{"$f":"IF(DATOS!B70=\"\",\"\",DATOS!B70)","v":""},{"$f":"IF(DATOS!BU70=\"\",\"\",DATOS!BU70)","v":""},{"$f":"IF(DATOS!CE70=\"\",\"\",DATOS!CE70)","v":""},{"$f":"IF(DATOS!CF70=\"\",\"\",DATOS!CF70)","v":""},{"$f":"IF(DATOS!T70=\"\",\"\",DATOS!T70)","v":""},{"$f":"IF(DATOS!AP70=\"\",\"\",DATOS!AP70)","v":""}]
[{"$f":"IF(DATOS!B71=\"\",\"\",DATOS!B71)","v":""},{"$f":"IF(DATOS!BU71=\"\",\"\",DATOS!BU71)","v":""},{"$f":"IF(DATOS!CE71=\"\",\"\",DATOS!CE71)","v":""},{"$f":"IF(DATOS!CF71=\"\",\"\",DATOS!CF71)","v":""},{"$f":"IF(DATOS!T71=\"\",\"\",DATOS!T71)","v":""},{"$f":"IF(DATOS!AP71=\"\",\"\",DATOS!AP71)","v":""}]
[{"$f":"IF(DATOS!B72=\"\",\"\",DATOS!B72)","v":""},{"$f":"IF(DATOS!BU72=\"\",\"\",DATOS!BU72)","v":""},{"$f":"IF(DATOS!CE72=\"\",\"\",DATOS!CE72)","v":""},{"$f":"IF(DATOS!CF72=\"\",\"\",DATOS!CF72)","v":""},{"$f":"IF(DATOS!T72=\"\",\"\",DATOS!T72)","v":""},{"$f":"IF(DATOS!AP72=\"\",\"\",DATOS!AP72)","v":""}]
[{"$f":"IF(DATOS!B73=\"\",\"\",DATOS!B73)","v":""},{"$f":"IF(DATOS!BU73=\"\",\"\",DATOS!BU73)","v":""},{"$f":"IF(DATOS!CE73=\"\",\"\",DATOS!CE73)","v":""},{"$f":"IF(DATOS!CF73=\"\",\"\",DATOS!CF73)","v":""},{"$f":"IF(DATOS!T73=\"\",\"\",DATOS!T73)","v":""},{"$f":"IF(DATOS!AP73=\"\",\"\",DATOS!AP73)","v":""}]
[{"$f":"IF(DATOS!B74=\"\",\"\",DATOS!B74)","v":""},{"$f":"IF(DATOS!BU74=\"\",\"\",DATOS!BU74)","v":""},{"$f":"IF(DATOS!CE74=\"\",\"\",DATOS!CE74)","v":""},{"$f":"IF(DATOS!CF74=\"\",\"\",DATOS!CF74)","v":""},{"$f":"IF(DATOS!T74=\"\",\"\",DATOS!T74)","v":""},{"$f":"IF(DATOS!AP74=\"\",\"\",DATOS!AP74)","v":""}]
[{"$f":"IF(DATOS!B75=\"\",\"\",DATOS!B75)","v":""},{"$f":"IF(DATOS!BU75=\"\",\"\",DATOS!BU75)","v":""},{"$f":"IF(DATOS!CE75=\"\",\"\",DATOS!CE75)","v":""},{"$f":"IF(DATOS!CF75=\"\",\"\",DATOS!CF75)","v":""},{"$f":"IF(DATOS!T75=\"\",\"\",DATOS!T75)","v":""},{"$f":"IF(DATOS!AP75=\"\",\"\",DATOS!AP75)","v":""}]
[{"$f":"IF(DATOS!B76=\"\",\"\",DATOS!B76)","v":""},{"$f":"IF(DATOS!BU76=\"\",\"\",DATOS!BU76)","v":""},{"$f":"IF(DATOS!CE76=\"\",\"\",DATOS!CE76)","v":""},{"$f":"IF(DATOS!CF76=\"\",\"\",DATOS!CF76)","v":""},{"$f":"IF(DATOS!T76=\"\",\"\",DATOS!T76)","v":""},{"$f":"IF(DATOS!AP76=\"\",\"\",DATOS!AP76)","v":""}]
[{"$f":"IF(DATOS!B77=\"\",\"\",DATOS!B77)","v":""},{"$f":"IF(DATOS!BU77=\"\",\"\",DATOS!BU77)","v":""},{"$f":"IF(DATOS!CE77=\"\",\"\",DATOS!CE77)","v":""},{"$f":"IF(DATOS!CF77=\"\",\"\",DATOS!CF77)","v":""},{"$f":"IF(DATOS!T77=\"\",\"\",DATOS!T77)","v":""},{"$f":"IF(DATOS!AP77=\"\",\"\",DATOS!AP77)","v":""}]
[{"$f":"IF(DATOS!B78=\"\",\"\",DATOS!B78)","v":""},{"$f":"IF(DATOS!BU78=\"\",\"\",DATOS!BU78)","v":""},{"$f":"IF(DATOS!CE78=\"\",\"\",DATOS!CE78)","v":""},{"$f":"IF(DATOS!CF78=\"\",\"\",DATOS!CF78)","v":""},{"$f":"IF(DATOS!T78=\"\",\"\",DATOS!T78)","v":""},{"$f":"IF(DATOS!AP78=\"\",\"\",DATOS!AP78)","v":""}]
[{"$f":"IF(DATOS!B79=\"\",\"\",DATOS!B79)","v":""},{"$f":"IF(DATOS!BU79=\"\",\"\",DATOS!BU79)","v":""},{"$f":"IF(DATOS!CE79=\"\",\"\",DATOS!CE79)","v":""},{"$f":"IF(DATOS!CF79=\"\",\"\",DATOS!CF79)","v":""},{"$f":"IF(DATOS!T79=\"\",\"\",DATOS!T79)","v":""},{"$f":"IF(DATOS!AP79=\"\",\"\",DATOS!AP79)","v":""}]
[{"$f":"IF(DATOS!B80=\"\",\"\",DATOS!B80)","v":""},{"$f":"IF(DATOS!BU80=\"\",\"\",DATOS!BU80)","v":""},{"$f":"IF(DATOS!CE80=\"\",\"\",DATOS!CE80)","v":""},{"$f":"IF(DATOS!CF80=\"\",\"\",DATOS!CF80)","v":""},{"$f":"IF(DATOS!T80=\"\",\"\",DATOS!T80)","v":""},{"$f":"IF(DATOS!AP80=\"\",\"\",DATOS!AP80)","v":""}]
[{"$f":"IF(DATOS!B81=\"\",\"\",DATOS!B81)","v":""},{"$f":"IF(DATOS!BU81=\"\",\"\",DATOS!BU81)","v":""},{"$f":"IF(DATOS!CE81=\"\",\"\",DATOS!CE81)","v":""},{"$f":"IF(DATOS!CF81=\"\",\"\",DATOS!CF81)","v":""},{"$f":"IF(DATOS!T81=\"\",\"\",DATOS!T81)","v":""},{"$f":"IF(DATOS!AP81=\"\",\"\",DATOS!AP81)","v":""}]
[{"$f":"IF(DATOS!B82=\"\",\"\",DATOS!B82)","v":""},{"$f":"IF(DATOS!BU82=\"\",\"\",DATOS!BU82)","v":""},{"$f":"IF(DATOS!CE82=\"\",\"\",DATOS!CE82)","v":""},{"$f":"IF(DATOS!CF82=\"\",\"\",DATOS!CF82)","v":""},{"$f":"IF(DATOS!T82=\"\",\"\",DATOS!T82)","v":""},{"$f":"IF(DATOS!AP82=\"\",\"\",DATOS!AP82)","v":""}]
[{"$f":"IF(DATOS!B83=\"\",\"\",DATOS!B83)","v":""},{"$f":"IF(DATOS!BU83=\"\",\"\",DATOS!BU83)","v":""},{"$f":"IF(DATOS!CE83=\"\",\"\",DATOS!CE83)","v":""},{"$f":"IF(DATOS!CF83=\"\",\"\",DATOS!CF83)","v":""},{"$f":"IF(DATOS!T83=\"\",\"\",DATOS!T83)","v":""},{"$f":"IF(DATOS!AP83=\"\",\"\",DATOS!AP83)","v":""}]
[{"$f":"IF(DATOS!B84=\"\",\"\",DATOS!B84)","v":""},{"$f":"IF(DATOS!BU84=\"\",\"\",DATOS!BU84)","v":""},{"$f":"IF(DATOS!CE84=\"\",\"\",DATOS!CE84)","v":""},{"$f":"IF(DATOS!CF84=\"\",\"\",DATOS!CF84)","v":""},{"$f":"IF(DATOS!T84=\"\",\"\",DATOS!T84)","v":""},{"$f":"IF(DATOS!AP84=\"\",\"\",DATOS!AP84)","v":""}]
[{"$f":"IF(DATOS!B85=\"\",\"\",DATOS!B85)","v":""},{"$f":"IF(DATOS!BU85=\"\",\"\",DATOS!BU85)","v":""},{"$f":"IF(DATOS!CE85=\"\",\"\",DATOS!CE85)","v":""},{"$f":"IF(DATOS!CF85=\"\",\"\",DATOS!CF85)","v":""},{"$f":"IF(DATOS!T85=\"\",\"\",DATOS!T85)","v":""},{"$f":"IF(DATOS!AP85=\"\",\"\",DATOS!AP85)","v":""}]
[{"$f":"IF(DATOS!B86=\"\",\"\",DATOS!B86)","v":""},{"$f":"IF(DATOS!BU86=\"\",\"\",DATOS!BU86)","v":""},{"$f":"IF(DATOS!CE86=\"\",\"\",DATOS!CE86)","v":""},{"$f":"IF(DATOS!CF86=\"\",\"\",DATOS!CF86)","v":""},{"$f":"IF(DATOS!T86=\"\",\"\",DATOS!T86)","v":""},{"$f":"IF(DATOS!AP86=\"\",\"\",DATOS!AP86)","v":""}]
[{"$f":"IF(DATOS!B87=\"\",\"\",DATOS!B87)","v":""},{"$f":"IF(DATOS!BU87=\"\",\"\",DATOS!BU87)","v":""},{"$f":"IF(DATOS!CE87=\"\",\"\",DATOS!CE87)","v":""},{"$f":"IF(DATOS!CF87=\"\",\"\",DATOS!CF87)","v":""},{"$f":"IF(DATOS!T87=\"\",\"\",DATOS!T87)","v":""},{"$f":"IF(DATOS!AP87=\"\",\"\",DATOS!AP87)","v":""}]
[{"$f":"IF(DATOS!B88=\"\",\"\",DATOS!B88)","v":""},{"$f":"IF(DATOS!BU88=\"\",\"\",DATOS!BU88)","v":""},{"$f":"IF(DATOS!CE88=\"\",\"\",DATOS!CE88)","v":""},{"$f":"IF(DATOS!CF88=\"\",\"\",DATOS!CF88)","v":""},{"$f":"IF(DATOS!T88=\"\",\"\",DATOS!T88)","v":""},{"$f":"IF(DATOS!AP88=\"\",\"\",DATOS!AP88)","v":""}]
[{"$f":"IF(DATOS!B89=\"\",\"\",DATOS!B89)","v":""},{"$f":"IF(DATOS!BU89=\"\",\"\",DATOS!BU89)","v":""},{"$f":"IF(DATOS!CE89=\"\",\"\",DATOS!CE89)","v":""},{"$f":"IF(DATOS!CF89=\"\",\"\",DATOS!CF89)","v":""},{"$f":"IF(DATOS!T89=\"\",\"\",DATOS!T89)","v":""},{"$f":"IF(DATOS!AP89=\"\",\"\",DATOS!AP89)","v":""}]
[{"$f":"IF(DATOS!B90=\"\",\"\",DATOS!B90)","v":""},{"$f":"IF(DATOS!BU90=\"\",\"\",DATOS!BU90)","v":""},{"$f":"IF(DATOS!CE90=\"\",\"\",DATOS!CE90)","v":""},{"$f":"IF(DATOS!CF90=\"\",\"\",DATOS!CF90)","v":""},{"$f":"IF(DATOS!T90=\"\",\"\",DATOS!T90)","v":""},{"$f":"IF(DATOS!AP90=\"\",\"\",DATOS!AP90)","v":""}]
[{"$f":"IF(DATOS!B91=\"\",\"\",DATOS!B91)","v":""},{"$f":"IF(DATOS!BU91=\"\",\"\",DATOS!BU91)","v":""},{"$f":"IF(DATOS!CE91=\"\",\"\",DATOS!CE91)","v":""},{"$f":"IF(DATOS!CF91=\"\",\"\",DATOS!CF91)","v":""},{"$f":"IF(DATOS!T91=\"\",\"\",DATOS!T91)","v":""},{"$f":"IF(DATOS!AP91=\"\",\"\",DATOS!AP91)","v":""}]
[{"$f":"IF(DATOS!B92=\"\",\"\",DATOS!B92)","v":""},{"$f":"IF(DATOS!BU92=\"\",\"\",DATOS!BU92)","v":""},{"$f":"IF(DATOS!CE92=\"\",\"\",DATOS!CE92)","v":""},{"$f":"IF(DATOS!CF92=\"\",\"\",DATOS!CF92)","v":""},{"$f":"IF(DATOS!T92=\"\",\"\",DATOS!T92)","v":""},{"$f":"IF(DATOS!AP92=\"\",\"\",DATOS!AP92)","v":""}]
[{"$f":"IF(DATOS!B93=\"\",\"\",DATOS!B93)","v":""},{"$f":"IF(DATOS!BU93=\"\",\"\",DATOS!BU93)","v":""},{"$f":"IF(DATOS!CE93=\"\",\"\",DATOS!CE93)","v":""},{"$f":"IF(DATOS!CF93=\"\",\"\",DATOS!CF93)","v":""},{"$f":"IF(DATOS!T93=\"\",\"\",DATOS!T93)","v":""},{"$f":"IF(DATOS!AP93=\"\",\"\",DATOS!AP93)","v":""}]
[{"$f":"IF(DATOS!B94=\"\",\"\",DATOS!B94)","v":""},{"$f":"IF(DATOS!BU94=\"\",\"\",DATOS!BU94)","v":""},{"$f":"IF(DATOS!CE94=\"\",\"\",DATOS!CE94)","v":""},{"$f":"IF(DATOS!CF94=\"\",\"\",DATOS!CF94)","v":""},{"$f":"IF(DATOS!T94=\"\",\"\",DATOS!T94)","v":""},{"$f":"IF(DATOS!AP94=\"\",\"\",DATOS!AP94)","v":""}]
[{"$f":"IF(DATOS!B95=\"\",\"\",DATOS!B95)","v":""},{"$f":"IF(DATOS!BU95=\"\",\"\",DATOS!BU95)","v":""},{"$f":"IF(DATOS!CE95=\"\",\"\",DATOS!CE95)","v":""},{"$f":"IF(DATOS!CF95=\"\",\"\",DATOS!CF95)","v":""},{"$f":"IF(DATOS!T95=\"\",\"\",DATOS!T95)","v":""},{"$f":"IF(DATOS!AP95=\"\",\"\",DATOS!AP95)","v":""}]
[{"$f":"IF(DATOS!B96=\"\",\"\",DATOS!B96)","v":""},{"$f":"IF(DATOS!BU96=\"\",\"\",DATOS!BU96)","v":""},{"$f":"IF(DATOS!CE96=\"\",\"\",DATOS!CE96)","v":""},{"$f":"IF(DATOS!CF96=\"\",\"\",DATOS!CF96)","v":""},{"$f":"IF(DATOS!T96=\"\",\"\",DATOS!T96)","v":""},{"$f":"IF(DATOS!AP96=\"\",\"\",DATOS!AP96)","v":""}]
[{"$f":"IF(DATOS!B97=\"\",\"\",DATOS!B97)","v":""},{"$f":"IF(DATOS!BU97=\"\",\"\",DATOS!BU97)","v":""},{"$f":"IF(DATOS!CE97=\"\",\"\",DATOS!CE97)","v":""},{"$f":"IF(DATOS!CF97=\"\",\"\",DATOS!CF97)","v":""},{"$f":"IF(DATOS!T97=\"\",\"\",DATOS!T97)","v":""},{"$f":"IF(DATOS!AP97=\"\",\"\",DATOS!AP97)","v":""}]
[{"$f":"IF(DATOS!B98=\"\",\"\",DATOS!B98)","v":""},{"$f":"IF(DATOS!BU98=\"\",\"\",DATOS!BU98)","v":""},{"$f":"IF(DATOS!CE98=\"\",\"\",DATOS!CE98)","v":""},{"$f":"IF(DATOS!CF98=\"\",\"\",DATOS!CF98)","v":""},{"$f":"IF(DATOS!T98=\"\",\"\",DATOS!T98)","v":""},{"$f":"IF(DATOS!AP98=\"\",\"\",DATOS!AP98)","v":""}]
[{"$f":"IF(DATOS!B99=\"\",\"\",DATOS!B99)","v":""},{"$f":"IF(DATOS!BU99=\"\",\"\",DATOS!BU99)","v":""},{"$f":"IF(DATOS!CE99=\"\",\"\",DATOS!CE99)","v":""},{"$f":"IF(DATOS!CF99=\"\",\"\",DATOS!CF99)","v":""},{"$f":"IF(DATOS!T99=\"\",\"\",DATOS!T99)","v":""},{"$f":"IF(DATOS!AP99=\"\",\"\",DATOS!AP99)","v":""}]
[{"$f":"IF(DATOS!B100=\"\",\"\",DATOS!B100)","v":""},{"$f":"IF(DATOS!BU100=\"\",\"\",DATOS!BU100)","v":""},{"$f":"IF(DATOS!CE100=\"\",\"\",DATOS!CE100)","v":""},{"$f":"IF(DATOS!CF100=\"\",\"\",DATOS!CF100)","v":""},{"$f":"IF(DATOS!T100=\"\",\"\",DATOS!T100)","v":""},{"$f":"IF(DATOS!AP100=\"\",\"\",DATOS!AP100)","v":""}]
[{"$f":"IF(DATOS!B101=\"\",\"\",DATOS!B101)","v":""},{"$f":"IF(DATOS!BU101=\"\",\"\",DATOS!BU101)","v":""},{"$f":"IF(DATOS!CE101=\"\",\"\",DATOS!CE101)","v":""},{"$f":"IF(DATOS!CF101=\"\",\"\",DATOS!CF101)","v":""},{"$f":"IF(DATOS!T101=\"\",\"\",DATOS!T101)","v":""},{"$f":"IF(DATOS!AP101=\"\",\"\",DATOS!AP101)","v":""}]
[{"$f":"IF(DATOS!B102=\"\",\"\",DATOS!B102)","v":""},{"$f":"IF(DATOS!BU102=\"\",\"\",DATOS!BU102)","v":""},{"$f":"IF(DATOS!CE102=\"\",\"\",DATOS!CE102)","v":""},{"$f":"IF(DATOS!CF102=\"\",\"\",DATOS!CF102)","v":""},{"$f":"IF(DATOS!T102=\"\",\"\",DATOS!T102)","v":""},{"$f":"IF(DATOS!AP102=\"\",\"\",DATOS!AP102)","v":""}]
[{"$f":"IF(DATOS!B103=\"\",\"\",DATOS!B103)","v":""},{"$f":"IF(DATOS!BU103=\"\",\"\",DATOS!BU103)","v":""},{"$f":"IF(DATOS!CE103=\"\",\"\",DATOS!CE103)","v":""},{"$f":"IF(DATOS!CF103=\"\",\"\",DATOS!CF103)","v":""},{"$f":"IF(DATOS!T103=\"\",\"\",DATOS!T103)","v":""},{"$f":"IF(DATOS!AP103=\"\",\"\",DATOS!AP103)","v":""}]
[{"$f":"IF(DATOS!B104=\"\",\"\",DATOS!B104)","v":""},{"$f":"IF(DATOS!BU104=\"\",\"\",DATOS!BU104)","v":""},{"$f":"IF(DATOS!CE104=\"\",\"\",DATOS!CE104)","v":""},{"$f":"IF(DATOS!CF104=\"\",\"\",DATOS!CF104)","v":""},{"$f":"IF(DATOS!T104=\"\",\"\",DATOS!T104)","v":""},{"$f":"IF(DATOS!AP104=\"\",\"\",DATOS!AP104)","v":""}]
[{"$f":"IF(DATOS!B105=\"\",\"\",DATOS!B105)","v":""},{"$f":"IF(DATOS!BU105=\"\",\"\",DATOS!BU105)","v":""},{"$f":"IF(DATOS!CE105=\"\",\"\",DATOS!CE105)","v":""},{"$f":"IF(DATOS!CF105=\"\",\"\",DATOS!CF105)","v":""},{"$f":"IF(DATOS!T105=\"\",\"\",DATOS!T105)","v":""},{"$f":"IF(DATOS!AP105=\"\",\"\",DATOS!AP105)","v":""}]
[{"$f":"IF(DATOS!B106=\"\",\"\",DATOS!B106)","v":""},{"$f":"IF(DATOS!BU106=\"\",\"\",DATOS!BU106)","v":""},{"$f":"IF(DATOS!CE106=\"\",\"\",DATOS!CE106)","v":""},{"$f":"IF(DATOS!CF106=\"\",\"\",DATOS!CF106)","v":""},{"$f":"IF(DATOS!T106=\"\",\"\",DATOS!T106)","v":""},{"$f":"IF(DATOS!AP106=\"\",\"\",DATOS!AP106)","v":""}]
[{"$f":"IF(DATOS!B107=\"\",\"\",DATOS!B107)","v":""},{"$f":"IF(DATOS!BU107=\"\",\"\",DATOS!BU107)","v":""},{"$f":"IF(DATOS!CE107=\"\",\"\",DATOS!CE107)","v":""},{"$f":"IF(DATOS!CF107=\"\",\"\",DATOS!CF107)","v":""},{"$f":"IF(DATOS!T107=\"\",\"\",DATOS!T107)","v":""},{"$f":"IF(DATOS!AP107=\"\",\"\",DATOS!AP107)","v":""}]
[{"$f":"IF(DATOS!B108=\"\",\"\",DATOS!B108)","v":""},{"$f":"IF(DATOS!BU108=\"\",\"\",DATOS!BU108)","v":""},{"$f":"IF(DATOS!CE108=\"\",\"\",DATOS!CE108)","v":""},{"$f":"IF(DATOS!CF108=\"\",\"\",DATOS!CF108)","v":""},{"$f":"IF(DATOS!T108=\"\",\"\",DATOS!T108)","v":""},{"$f":"IF(DATOS!AP108=\"\",\"\",DATOS!AP108)","v":""}]
[{"$f":"IF(DATOS!B109=\"\",\"\",DATOS!B109)","v":""},{"$f":"IF(DATOS!BU109=\"\",\"\",DATOS!BU109)","v":""},{"$f":"IF(DATOS!CE109=\"\",\"\",DATOS!CE109)","v":""},{"$f":"IF(DATOS!CF109=\"\",\"\",DATOS!CF109)","v":""},{"$f":"IF(DATOS!T109=\"\",\"\",DATOS!T109)","v":""},{"$f":"IF(DATOS!AP109=\"\",\"\",DATOS!AP109)","v":""}]
[{"$f":"IF(DATOS!B110=\"\",\"\",DATOS!B110)","v":""},{"$f":"IF(DATOS!BU110=\"\",\"\",DATOS!BU110)","v":""},{"$f":"IF(DATOS!CE110=\"\",\"\",DATOS!CE110)","v":""},{"$f":"IF(DATOS!CF110=\"\",\"\",DATOS!CF110)","v":""},{"$f":"IF(DATOS!T110=\"\",\"\",DATOS!T110)","v":""},{"$f":"IF(DATOS!AP110=\"\",\"\",DATOS!AP110)","v":""}]
[{"$f":"IF(DATOS!B111=\"\",\"\",DATOS!B111)","v":""},{"$f":"IF(DATOS!BU111=\"\",\"\",DATOS!BU111)","v":""},{"$f":"IF(DATOS!CE111=\"\",\"\",DATOS!CE111)","v":""},{"$f":"IF(DATOS!CF111=\"\",\"\",DATOS!CF111)","v":""},{"$f":"IF(DATOS!T111=\"\",\"\",DATOS!T111)","v":""},{"$f":"IF(DATOS!AP111=\"\",\"\",DATOS!AP111)","v":""}]
[{"$f":"IF(DATOS!B112=\"\",\"\",DATOS!B112)","v":""},{"$f":"IF(DATOS!BU112=\"\",\"\",DATOS!BU112)","v":""},{"$f":"IF(DATOS!CE112=\"\",\"\",DATOS!CE112)","v":""},{"$f":"IF(DATOS!CF112=\"\",\"\",DATOS!CF112)","v":""},{"$f":"IF(DATOS!T112=\"\",\"\",DATOS!T112)","v":""},{"$f":"IF(DATOS!AP112=\"\",\"\",DATOS!AP112)","v":""}]
[{"$f":"IF(DATOS!B113=\"\",\"\",DATOS!B113)","v":""},{"$f":"IF(DATOS!BU113=\"\",\"\",DATOS!BU113)","v":""},{"$f":"IF(DATOS!CE113=\"\",\"\",DATOS!CE113)","v":""},{"$f":"IF(DATOS!CF113=\"\",\"\",DATOS!CF113)","v":""},{"$f":"IF(DATOS!T113=\"\",\"\",DATOS!T113)","v":""},{"$f":"IF(DATOS!AP113=\"\",\"\",DATOS!AP113)","v":""}]
[{"$f":"IF(DATOS!B114=\"\",\"\",DATOS!B114)","v":""},{"$f":"IF(DATOS!BU114=\"\",\"\",DATOS!BU114)","v":""},{"$f":"IF(DATOS!CE114=\"\",\"\",DATOS!CE114)","v":""},{"$f":"IF(DATOS!CF114=\"\",\"\",DATOS!CF114)","v":""},{"$f":"IF(DATOS!T114=\"\",\"\",DATOS!T114)","v":""},{"$f":"IF(DATOS!AP114=\"\",\"\",DATOS!AP114)","v":""}]
[{"$f":"IF(DATOS!B115=\"\",\"\",DATOS!B115)","v":""},{"$f":"IF(DATOS!BU115=\"\",\"\",DATOS!BU115)","v":""},{"$f":"IF(DATOS!CE115=\"\",\"\",DATOS!CE115)","v":""},{"$f":"IF(DATOS!CF115=\"\",\"\",DATOS!CF115)","v":""},{"$f":"IF(DATOS!T115=\"\",\"\",DATOS!T115)","v":""},{"$f":"IF(DATOS!AP115=\"\",\"\",DATOS!AP115)","v":""}]
[{"$f":"IF(DATOS!B116=\"\",\"\",DATOS!B116)","v":""},{"$f":"IF(DATOS!BU116=\"\",\"\",DATOS!BU116)","v":""},{"$f":"IF(DATOS!CE116=\"\",\"\",DATOS!CE116)","v":""},{"$f":"IF(DATOS!CF116=\"\",\"\",DATOS!CF116)","v":""},{"$f":"IF(DATOS!T116=\"\",\"\",DATOS!T116)","v":""},{"$f":"IF(DATOS!AP116=\"\",\"\",DATOS!AP116)","v":""}]
[{"$f":"IF(DATOS!B117=\"\",\"\",DATOS!B117)","v":""},{"$f":"IF(DATOS!BU117=\"\",\"\",DATOS!BU117)","v":""},{"$f":"IF(DATOS!CE117=\"\",\"\",DATOS!CE117)","v":""},{"$f":"IF(DATOS!CF117=\"\",\"\",DATOS!CF117)","v":""},{"$f":"IF(DATOS!T117=\"\",\"\",DATOS!T117)","v":""},{"$f":"IF(DATOS!AP117=\"\",\"\",DATOS!AP117)","v":""}]
[{"$f":"IF(DATOS!B118=\"\",\"\",DATOS!B118)","v":""},{"$f":"IF(DATOS!BU118=\"\",\"\",DATOS!BU118)","v":""},{"$f":"IF(DATOS!CE118=\"\",\"\",DATOS!CE118)","v":""},{"$f":"IF(DATOS!CF118=\"\",\"\",DATOS!CF118)","v":""},{"$f":"IF(DATOS!T118=\"\",\"\",DATOS!T118)","v":""},{"$f":"IF(DATOS!AP118=\"\",\"\",DATOS!AP118)","v":""}]
[{"$f":"IF(DATOS!B119=\"\",\"\",DATOS!B119)","v":""},{"$f":"IF(DATOS!BU119=\"\",\"\",DATOS!BU119)","v":""},{"$f":"IF(DATOS!CE119=\"\",\"\",DATOS!CE119)","v":""},{"$f":"IF(DATOS!CF119=\"\",\"\",DATOS!CF119)","v":""},{"$f":"IF(DATOS!T119=\"\",\"\",DATOS!T119)","v":""},{"$f":"IF(DATOS!AP119=\"\",\"\",DATOS!AP119)","v":""}]
[{"$f":"IF(DATOS!B120=\"\",\"\",DATOS!B120)","v":""},{"$f":"IF(DATOS!BU120=\"\",\"\",DATOS!BU120)","v":""},{"$f":"IF(DATOS!CE120=\"\",\"\",DATOS!CE120)","v":""},{"$f":"IF(DATOS!CF120=\"\",\"\",DATOS!CF120)","v":""},{"$f":"IF(DATOS!T120=\"\",\"\",DATOS!T120)","v":""},{"$f":"IF(DATOS!AP120=\"\",\"\",DATOS!AP120)","v":""}]
[{"$f":"IF(DATOS!B121=\"\",\"\",DATOS!B121)","v":""},{"$f":"IF(DATOS!BU121=\"\",\"\",DATOS!BU121)","v":""},{"$f":"IF(DATOS!CE121=\"\",\"\",DATOS!CE121)","v":""},{"$f":"IF(DATOS!CF121=\"\",\"\",DATOS!CF121)","v":""},{"$f":"IF(DATOS!T121=\"\",\"\",DATOS!T121)","v":""},{"$f":"IF(DATOS!AP121=\"\",\"\",DATOS!AP121)","v":""}]
[{"$f":"IF(DATOS!B122=\"\",\"\",DATOS!B122)","v":""},{"$f":"IF(DATOS!BU122=\"\",\"\",DATOS!BU122)","v":""},{"$f":"IF(DATOS!CE122=\"\",\"\",DATOS!CE122)","v":""},{"$f":"IF(DATOS!CF122=\"\",\"\",DATOS!CF122)","v":""},{"$f":"IF(DATOS!T122=\"\",\"\",DATOS!T122)","v":""},{"$f":"IF(DATOS!AP122=\"\",\"\",DATOS!AP122)","v":""}]
[{"$f":"IF(DATOS!B123=\"\",\"\",DATOS!B123)","v":""},{"$f":"IF(DATOS!BU123=\"\",\"\",DATOS!BU123)","v":""},{"$f":"IF(DATOS!CE123=\"\",\"\",DATOS!CE123)","v":""},{"$f":"IF(DATOS!CF123=\"\",\"\",DATOS!CF123)","v":""},{"$f":"IF(DATOS!T123=\"\",\"\",DATOS!T123)","v":""},{"$f":"IF(DATOS!AP123=\"\",\"\",DATOS!AP123)","v":""}]
[{"$f":"IF(DATOS!B124=\"\",\"\",DATOS!B124)","v":""},{"$f":"IF(DATOS!BU124=\"\",\"\",DATOS!BU124)","v":""},{"$f":"IF(DATOS!CE124=\"\",\"\",DATOS!CE124)","v":""},{"$f":"IF(DATOS!CF124=\"\",\"\",DATOS!CF124)","v":""},{"$f":"IF(DATOS!T124=\"\",\"\",DATOS!T124)","v":""},{"$f":"IF(DATOS!AP124=\"\",\"\",DATOS!AP124)","v":""}]
[{"$f":"IF(DATOS!B125=\"\",\"\",DATOS!B125)","v":""},{"$f":"IF(DATOS!BU125=\"\",\"\",DATOS!BU125)","v":""},{"$f":"IF(DATOS!CE125=\"\",\"\",DATOS!CE125)","v":""},{"$f":"IF(DATOS!CF125=\"\",\"\",DATOS!CF125)","v":""},{"$f":"IF(DATOS!T125=\"\",\"\",DATOS!T125)","v":""},{"$f":"IF(DATOS!AP125=\"\",\"\",DATOS!AP125)","v":""}]
[{"$f":"IF(DATOS!B126=\"\",\"\",DATOS!B126)","v":""},{"$f":"IF(DATOS!BU126=\"\",\"\",DATOS!BU126)","v":""},{"$f":"IF(DATOS!CE126=\"\",\"\",DATOS!CE126)","v":""},{"$f":"IF(DATOS!CF126=\"\",\"\",DATOS!CF126)","v":""},{"$f":"IF(DATOS!T126=\"\",\"\",DATOS!T126)","v":""},{"$f":"IF(DATOS!AP126=\"\",\"\",DATOS!AP126)","v":""}]
[{"$f":"IF(DATOS!B127=\"\",\"\",DATOS!B127)","v":""},{"$f":"IF(DATOS!BU127=\"\",\"\",DATOS!BU127)","v":""},{"$f":"IF(DATOS!CE127=\"\",\"\",DATOS!CE127)","v":""},{"$f":"IF(DATOS!CF127=\"\",\"\",DATOS!CF127)","v":""},{"$f":"IF(DATOS!T127=\"\",\"\",DATOS!T127)","v":""},{"$f":"IF(DATOS!AP127=\"\",\"\",DATOS!AP127)","v":""}]
[{"$f":"IF(DATOS!B128=\"\",\"\",DATOS!B128)","v":""},{"$f":"IF(DATOS!BU128=\"\",\"\",DATOS!BU128)","v":""},{"$f":"IF(DATOS!CE128=\"\",\"\",DATOS!CE128)","v":""},{"$f":"IF(DATOS!CF128=\"\",\"\",DATOS!CF128)","v":""},{"$f":"IF(DATOS!T128=\"\",\"\",DATOS!T128)","v":""},{"$f":"IF(DATOS!AP128=\"\",\"\",DATOS!AP128)","v":""}]
[{"$f":"IF(DATOS!B129=\"\",\"\",DATOS!B129)","v":""},{"$f":"IF(DATOS!BU129=\"\",\"\",DATOS!BU129)","v":""},{"$f":"IF(DATOS!CE129=\"\",\"\",DATOS!CE129)","v":""},{"$f":"IF(DATOS!CF129=\"\",\"\",DATOS!CF129)","v":""},{"$f":"IF(DATOS!T129=\"\",\"\",DATOS!T129)","v":""},{"$f":"IF(DATOS!AP129=\"\",\"\",DATOS!AP129)","v":""}]
[{"$f":"IF(DATOS!B130=\"\",\"\",DATOS!B130)","v":""},{"$f":"IF(DATOS!BU130=\"\",\"\",DATOS!BU130)","v":""},{"$f":"IF(DATOS!CE130=\"\",\"\",DATOS!CE130)","v":""},{"$f":"IF(DATOS!CF130=\"\",\"\",DATOS!CF130)","v":""},{"$f":"IF(DATOS!T130=\"\",\"\",DATOS!T130)","v":""},{"$f":"IF(DATOS!AP130=\"\",\"\",DATOS!AP130)","v":""}]
[{"$f":"IF(DATOS!B131=\"\",\"\",DATOS!B131)","v":""},{"$f":"IF(DATOS!BU131=\"\",\"\",DATOS!BU131)","v":""},{"$f":"IF(DATOS!CE131=\"\",\"\",DATOS!CE131)","v":""},{"$f":"IF(DATOS!CF131=\"\",\"\",DATOS!CF131)","v":""},{"$f":"IF(DATOS!T131=\"\",\"\",DATOS!T131)","v":""},{"$f":"IF(DATOS!AP131=\"\",\"\",DATOS!AP131)","v":""}]
[{"$f":"IF(DATOS!B132=\"\",\"\",DATOS!B132)","v":""},{"$f":"IF(DATOS!BU132=\"\",\"\",DATOS!BU132)","v":""},{"$f":"IF(DATOS!CE132=\"\",\"\",DATOS!CE132)","v":""},{"$f":"IF(DATOS!CF132=\"\",\"\",DATOS!CF132)","v":""},{"$f":"IF(DATOS!T132=\"\",\"\",DATOS!T132)","v":""},{"$f":"IF(DATOS!AP132=\"\",\"\",DATOS!AP132)","v":""}]
[{"$f":"IF(DATOS!B133=\"\",\"\",DATOS!B133)","v":""},{"$f":"IF(DATOS!BU133=\"\",\"\",DATOS!BU133)","v":""},{"$f":"IF(DATOS!CE133=\"\",\"\",DATOS!CE133)","v":""},{"$f":"IF(DATOS!CF133=\"\",\"\",DATOS!CF133)","v":""},{"$f":"IF(DATOS!T133=\"\",\"\",DATOS!T133)","v":""},{"$f":"IF(DATOS!AP133=\"\",\"\",DATOS!AP133)","v":""}]
[{"$f":"IF(DATOS!B134=\"\",\"\",DATOS!B134)","v":""},{"$f":"IF(DATOS!BU134=\"\",\"\",DATOS!BU134)","v":""},{"$f":"IF(DATOS!CE134=\"\",\"\",DATOS!CE134)","v":""},{"$f":"IF(DATOS!CF134=\"\",\"\",DATOS!CF134)","v":""},{"$f":"IF(DATOS!T134=\"\",\"\",DATOS!T134)","v":""},{"$f":"IF(DATOS!AP134=\"\",\"\",DATOS!AP134)","v":""}]
[{"$f":"IF(DATOS!B135=\"\",\"\",DATOS!B135)","v":""},{"$f":"IF(DATOS!BU135=\"\",\"\",DATOS!BU135)","v":""},{"$f":"IF(DATOS!CE135=\"\",\"\",DATOS!CE135)","v":""},{"$f":"IF(DATOS!CF135=\"\",\"\",DATOS!CF135)","v":""},{"$f":"IF(DATOS!T135=\"\",\"\",DATOS!T135)","v":""},{"$f":"IF(DATOS!AP135=\"\",\"\",DATOS!AP135)","v":""}]
[{"$f":"IF(DATOS!B136=\"\",\"\",DATOS!B136)","v":""},{"$f":"IF(DATOS!BU136=\"\",\"\",DATOS!BU136)","v":""},{"$f":"IF(DATOS!CE136=\"\",\"\",DATOS!CE136)","v":""},{"$f":"IF(DATOS!CF136=\"\",\"\",DATOS!CF136)","v":""},{"$f":"IF(DATOS!T136=\"\",\"\",DATOS!T136)","v":""},{"$f":"IF(DATOS!AP136=\"\",\"\",DATOS!AP136)","v":""}]
[{"$f":"IF(DATOS!B137=\"\",\"\",DATOS!B137)","v":""},{"$f":"IF(DATOS!BU137=\"\",\"\",DATOS!BU137)","v":""},{"$f":"IF(DATOS!CE137=\"\",\"\",DATOS!CE137)","v":""},{"$f":"IF(DATOS!CF137=\"\",\"\",DATOS!CF137)","v":""},{"$f":"IF(DATOS!T137=\"\",\"\",DATOS!T137)","v":""},{"$f":"IF(DATOS!AP137=\"\",\"\",DATOS!AP137)","v":""}]
[{"$f":"IF(DATOS!B138=\"\",\"\",DATOS!B138)","v":""},{"$f":"IF(DATOS!BU138=\"\",\"\",DATOS!BU138)","v":""},{"$f":"IF(DATOS!CE138=\"\",\"\",DATOS!CE138)","v":""},{"$f":"IF(DATOS!CF138=\"\",\"\",DATOS!CF138)","v":""},{"$f":"IF(DATOS!T138=\"\",\"\",DATOS!T138)","v":""},{"$f":"IF(DATOS!AP138=\"\",\"\",DATOS!AP138)","v":""}]
[{"$f":"IF(DATOS!B139=\"\",\"\",DATOS!B139)","v":""},{"$f":"IF(DATOS!BU139=\"\",\"\",DATOS!BU139)","v":""},{"$f":"IF(DATOS!CE139=\"\",\"\",DATOS!CE139)","v":""},{"$f":"IF(DATOS!CF139=\"\",\"\",DATOS!CF139)","v":""},{"$f":"IF(DATOS!T139=\"\",\"\",DATOS!T139)","v":""},{"$f":"IF(DATOS!AP139=\"\",\"\",DATOS!AP139)","v":""}]
[{"$f":"IF(DATOS!B140=\"\",\"\",DATOS!B140)","v":""},{"$f":"IF(DATOS!BU140=\"\",\"\",DATOS!BU140)","v":""},{"$f":"IF(DATOS!CE140=\"\",\"\",DATOS!CE140)","v":""},{"$f":"IF(DATOS!CF140=\"\",\"\",DATOS!CF140)","v":""},{"$f":"IF(DATOS!T140=\"\",\"\",DATOS!T140)","v":""},{"$f":"IF(DATOS!AP140=\"\",\"\",DATOS!AP140)","v":""}]
[{"$f":"IF(DATOS!B141=\"\",\"\",DATOS!B141)","v":""},{"$f":"IF(DATOS!BU141=\"\",\"\",DATOS!BU141)","v":""},{"$f":"IF(DATOS!CE141=\"\",\"\",DATOS!CE141)","v":""},{"$f":"IF(DATOS!CF141=\"\",\"\",DATOS!CF141)","v":""},{"$f":"IF(DATOS!T141=\"\",\"\",DATOS!T141)","v":""},{"$f":"IF(DATOS!AP141=\"\",\"\",DATOS!AP141)","v":""}]
[{"$f":"IF(DATOS!B142=\"\",\"\",DATOS!B142)","v":""},{"$f":"IF(DATOS!BU142=\"\",\"\",DATOS!BU142)","v":""},{"$f":"IF(DATOS!CE142=\"\",\"\",DATOS!CE142)","v":""},{"$f":"IF(DATOS!CF142=\"\",\"\",DATOS!CF142)","v":""},{"$f":"IF(DATOS!T142=\"\",\"\",DATOS!T142)","v":""},{"$f":"IF(DATOS!AP142=\"\",\"\",DATOS!AP142)","v":""}]
[{"$f":"IF(DATOS!B143=\"\",\"\",DATOS!B143)","v":""},{"$f":"IF(DATOS!BU143=\"\",\"\",DATOS!BU143)","v":""},{"$f":"IF(DATOS!CE143=\"\",\"\",DATOS!CE143)","v":""},{"$f":"IF(DATOS!CF143=\"\",\"\",DATOS!CF143)","v":""},{"$f":"IF(DATOS!T143=\"\",\"\",DATOS!T143)","v":""},{"$f":"IF(DATOS!AP143=\"\",\"\",DATOS!AP143)","v":""}]
[{"$f":"IF(DATOS!B144=\"\",\"\",DATOS!B144)","v":""},{"$f":"IF(DATOS!BU144=\"\",\"\",DATOS!BU144)","v":""},{"$f":"IF(DATOS!CE144=\"\",\"\",DATOS!CE144)","v":""},{"$f":"IF(DATOS!CF144=\"\",\"\",DATOS!CF144)","v":""},{"$f":"IF(DATOS!T144=\"\",\"\",DATOS!T144)","v":""},{"$f":"IF(DATOS!AP144=\"\",\"\",DATOS!AP144)","v":""}]
[{"$f":"IF(DATOS!B145=\"\",\"\",DATOS!B145)","v":""},{"$f":"IF(DATOS!BU145=\"\",\"\",DATOS!BU145)","v":""},{"$f":"IF(DATOS!CE145=\"\",\"\",DATOS!CE145)","v":""},{"$f":"IF(DATOS!CF145=\"\",\"\",DATOS!CF145)","v":""},{"$f":"IF(DATOS!T145=\"\",\"\",DATOS!T145)","v":""},{"$f":"IF(DATOS!AP145=\"\",\"\",DATOS!AP145)","v":""}]
[{"$f":"IF(DATOS!B146=\"\",\"\",DATOS!B146)","v":""},{"$f":"IF(DATOS!BU146=\"\",\"\",DATOS!BU146)","v":""},{"$f":"IF(DATOS!CE146=\"\",\"\",DATOS!CE146)","v":""},{"$f":"IF(DATOS!CF146=\"\",\"\",DATOS!CF146)","v":""},{"$f":"IF(DATOS!T146=\"\",\"\",DATOS!T146)","v":""},{"$f":"IF(DATOS!AP146=\"\",\"\",DATOS!AP146)","v":""}]
[{"$f":"IF(DATOS!B147=\"\",\"\",DATOS!B147)","v":""},{"$f":"IF(DATOS!BU147=\"\",\"\",DATOS!BU147)","v":""},{"$f":"IF(DATOS!CE147=\"\",\"\",DATOS!CE147)","v":""},{"$f":"IF(DATOS!CF147=\"\",\"\",DATOS!CF147)","v":""},{"$f":"IF(DATOS!T147=\"\",\"\",DATOS!T147)","v":""},{"$f":"IF(DATOS!AP147=\"\",\"\",DATOS!AP147)","v":""}]
[{"$f":"IF(DATOS!B148=\"\",\"\",DATOS!B148)","v":""},{"$f":"IF(DATOS!BU148=\"\",\"\",DATOS!BU148)","v":""},{"$f":"IF(DATOS!CE148=\"\",\"\",DATOS!CE148)","v":""},{"$f":"IF(DATOS!CF148=\"\",\"\",DATOS!CF148)","v":""},{"$f":"IF(DATOS!T148=\"\",\"\",DATOS!T148)","v":""},{"$f":"IF(DATOS!AP148=\"\",\"\",DATOS!AP148)","v":""}]
[{"$f":"IF(DATOS!B149=\"\",\"\",DATOS!B149)","v":""},{"$f":"IF(DATOS!BU149=\"\",\"\",DATOS!BU149)","v":""},{"$f":"IF(DATOS!CE149=\"\",\"\",DATOS!CE149)","v":""},{"$f":"IF(DATOS!CF149=\"\",\"\",DATOS!CF149)","v":""},{"$f":"IF(DATOS!T149=\"\",\"\",DATOS!T149)","v":""},{"$f":"IF(DATOS!AP149=\"\",\"\",DATOS!AP149)","v":""}]
[{"$f":"IF(DATOS!B150=\"\",\"\",DATOS!B150)","v":""},{"$f":"IF(DATOS!BU150=\"\",\"\",DATOS!BU150)","v":""},{"$f":"IF(DATOS!CE150=\"\",\"\",DATOS!CE150)","v":""},{"$f":"IF(DATOS!CF150=\"\",\"\",DATOS!CF150)","v":""},{"$f":"IF(DATOS!T150=\"\",\"\",DATOS!T150)","v":""},{"$f":"IF(DATOS!AP150=\"\",\"\",DATOS!AP150)","v":""}]
[{"$f":"IF(DATOS!B151=\"\",\"\",DATOS!B151)","v":""},{"$f":"IF(DATOS!BU151=\"\",\"\",DATOS!BU151)","v":""},{"$f":"IF(DATOS!CE151=\"\",\"\",DATOS!CE151)","v":""},{"$f":"IF(DATOS!CF151=\"\",\"\",DATOS!CF151)","v":""},{"$f":"IF(DATOS!T151=\"\",\"\",DATOS!T151)","v":""},{"$f":"IF(DATOS!AP151=\"\",\"\",DATOS!AP151)","v":""}]
[{"$f":"IF(DATOS!B152=\"\",\"\",DATOS!B152)","v":""},{"$f":"IF(DATOS!BU152=\"\",\"\",DATOS!BU152)","v":""},{"$f":"IF(DATOS!CE152=\"\",\"\",DATOS!CE152)","v":""},{"$f":"IF(DATOS!CF152=\"\",\"\",DATOS!CF152)","v":""},{"$f":"IF(DATOS!T152=\"\",\"\",DATOS!T152)","v":""},{"$f":"IF(DATOS!AP152=\"\",\"\",DATOS!AP152)","v":""}]
[{"$f":"IF(DATOS!B153=\"\",\"\",DATOS!B153)","v":""},{"$f":"IF(DATOS!BU153=\"\",\"\",DATOS!BU153)","v":""},{"$f":"IF(DATOS!CE153=\"\",\"\",DATOS!CE153)","v":""},{"$f":"IF(DATOS!CF153=\"\",\"\",DATOS!CF153)","v":""},{"$f":"IF(DATOS!T153=\"\",\"\",DATOS!T153)","v":""},{"$f":"IF(DATOS!AP153=\"\",\"\",DATOS!AP153)","v":""}]
[{"$f":"IF(DATOS!B154=\"\",\"\",DATOS!B154)","v":""},{"$f":"IF(DATOS!BU154=\"\",\"\",DATOS!BU154)","v":""},{"$f":"IF(DATOS!CE154=\"\",\"\",DATOS!CE154)","v":""},{"$f":"IF(DATOS!CF154=\"\",\"\",DATOS!CF154)","v":""},{"$f":"IF(DATOS!T154=\"\",\"\",DATOS!T154)","v":""},{"$f":"IF(DATOS!AP154=\"\",\"\",DATOS!AP154)","v":""}]
[{"$f":"IF(DATOS!B155=\"\",\"\",DATOS!B155)","v":""},{"$f":"IF(DATOS!BU155=\"\",\"\",DATOS!BU155)","v":""},{"$f":"IF(DATOS!CE155=\"\",\"\",DATOS!CE155)","v":""},{"$f":"IF(DATOS!CF155=\"\",\"\",DATOS!CF155)","v":""},{"$f":"IF(DATOS!T155=\"\",\"\",DATOS!T155)","v":""},{"$f":"IF(DATOS!AP155=\"\",\"\",DATOS!AP155)","v":""}]
[{"$f":"IF(DATOS!B156=\"\",\"\",DATOS!B156)","v":""},{"$f":"IF(DATOS!BU156=\"\",\"\",DATOS!BU156)","v":""},{"$f":"IF(DATOS!CE156=\"\",\"\",DATOS!CE156)","v":""},{"$f":"IF(DATOS!CF156=\"\",\"\",DATOS!CF156)","v":""},{"$f":"IF(DATOS!T156=\"\",\"\",DATOS!T156)","v":""},{"$f":"IF(DATOS!AP156=\"\",\"\",DATOS!AP156)","v":""}]
[{"$f":"IF(DATOS!B157=\"\",\"\",DATOS!B157)","v":""},{"$f":"IF(DATOS!BU157=\"\",\"\",DATOS!BU157)","v":""},{"$f":"IF(DATOS!CE157=\"\",\"\",DATOS!CE157)","v":""},{"$f":"IF(DATOS!CF157=\"\",\"\",DATOS!CF157)","v":""},{"$f":"IF(DATOS!T157=\"\",\"\",DATOS!T157)","v":""},{"$f":"IF(DATOS!AP157=\"\",\"\",DATOS!AP157)","v":""}]
[{"$f":"IF(DATOS!B158=\"\",\"\",DATOS!B158)","v":""},{"$f":"IF(DATOS!BU158=\"\",\"\",DATOS!BU158)","v":""},{"$f":"IF(DATOS!CE158=\"\",\"\",DATOS!CE158)","v":""},{"$f":"IF(DATOS!CF158=\"\",\"\",DATOS!CF158)","v":""},{"$f":"IF(DATOS!T158=\"\",\"\",DATOS!T158)","v":""},{"$f":"IF(DATOS!AP158=\"\",\"\",DATOS!AP158)","v":""}]
[{"$f":"IF(DATOS!B159=\"\",\"\",DATOS!B159)","v":""},{"$f":"IF(DATOS!BU159=\"\",\"\",DATOS!BU159)","v":""},{"$f":"IF(DATOS!CE159=\"\",\"\",DATOS!CE159)","v":""},{"$f":"IF(DATOS!CF159=\"\",\"\",DATOS!CF159)","v":""},{"$f":"IF(DATOS!T159=\"\",\"\",DATOS!T159)","v":""},{"$f":"IF(DATOS!AP159=\"\",\"\",DATOS!AP159)","v":""}]
[{"$f":"IF(DATOS!B160=\"\",\"\",DATOS!B160)","v":""},{"$f":"IF(DATOS!BU160=\"\",\"\",DATOS!BU160)","v":""},{"$f":"IF(DATOS!CE160=\"\",\"\",DATOS!CE160)","v":""},{"$f":"IF(DATOS!CF160=\"\",\"\",DATOS!CF160)","v":""},{"$f":"IF(DATOS!T160=\"\",\"\",DATOS!T160)","v":""},{"$f":"IF(DATOS!AP160=\"\",\"\",DATOS!AP160)","v":""}]
[{"$f":"IF(DATOS!B161=\"\",\"\",DATOS!B161)","v":""},{"$f":"IF(DATOS!BU161=\"\",\"\",DATOS!BU161)","v":""},{"$f":"IF(DATOS!CE161=\"\",\"\",DATOS!CE161)","v":""},{"$f":"IF(DATOS!CF161=\"\",\"\",DATOS!CF161)","v":""},{"$f":"IF(DATOS!T161=\"\",\"\",DATOS!T161)","v":""},{"$f":"IF(DATOS!AP161=\"\",\"\",DATOS!AP161)","v":""}]
[{"$f":"IF(DATOS!B162=\"\",\"\",DATOS!B162)","v":""},{"$f":"IF(DATOS!BU162=\"\",\"\",DATOS!BU162)","v":""},{"$f":"IF(DATOS!CE162=\"\",\"\",DATOS!CE162)","v":""},{"$f":"IF(DATOS!CF162=\"\",\"\",DATOS!CF162)","v":""},{"$f":"IF(DATOS!T162=\"\",\"\",DATOS!T162)","v":""},{"$f":"IF(DATOS!AP162=\"\",\"\",DATOS!AP162)","v":""}]
[{"$f":"IF(DATOS!B163=\"\",\"\",DATOS!B163)","v":""},{"$f":"IF(DATOS!BU163=\"\",\"\",DATOS!BU163)","v":""},{"$f":"IF(DATOS!CE163=\"\",\"\",DATOS!CE163)","v":""},{"$f":"IF(DATOS!CF163=\"\",\"\",DATOS!CF163)","v":""},{"$f":"IF(DATOS!T163=\"\",\"\",DATOS!T163)","v":""},{"$f":"IF(DATOS!AP163=\"\",\"\",DATOS!AP163)","v":""}]
[{"$f":"IF(DATOS!B164=\"\",\"\",DATOS!B164)","v":""},{"$f":"IF(DATOS!BU164=\"\",\"\",DATOS!BU164)","v":""},{"$f":"IF(DATOS!CE164=\"\",\"\",DATOS!CE164)","v":""},{"$f":"IF(DATOS!CF164=\"\",\"\",DATOS!CF164)","v":""},{"$f":"IF(DATOS!T164=\"\",\"\",DATOS!T164)","v":""},{"$f":"IF(DATOS!AP164=\"\",\"\",DATOS!AP164)","v":""}]
[{"$f":"IF(DATOS!B165=\"\",\"\",DATOS!B165)","v":""},{"$f":"IF(DATOS!BU165=\"\",\"\",DATOS!BU165)","v":""},{"$f":"IF(DATOS!CE165=\"\",\"\",DATOS!CE165)","v":""},{"$f":"IF(DATOS!CF165=\"\",\"\",DATOS!CF165)","v":""},{"$f":"IF(DATOS!T165=\"\",\"\",DATOS!T165)","v":""},{"$f":"IF(DATOS!AP165=\"\",\"\",DATOS!AP165)","v":""}]
[{"$f":"IF(DATOS!B166=\"\",\"\",DATOS!B166)","v":""},{"$f":"IF(DATOS!BU166=\"\",\"\",DATOS!BU166)","v":""},{"$f":"IF(DATOS!CE166=\"\",\"\",DATOS!CE166)","v":""},{"$f":"IF(DATOS!CF166=\"\",\"\",DATOS!CF166)","v":""},{"$f":"IF(DATOS!T166=\"\",\"\",DATOS!T166)","v":""},{"$f":"IF(DATOS!AP166=\"\",\"\",DATOS!AP166)","v":""}]
[{"$f":"IF(DATOS!B167=\"\",\"\",DATOS!B167)","v":""},{"$f":"IF(DATOS!BU167=\"\",\"\",DATOS!BU167)","v":""},{"$f":"IF(DATOS!CE167=\"\",\"\",DATOS!CE167)","v":""},{"$f":"IF(DATOS!CF167=\"\",\"\",DATOS!CF167)","v":""},{"$f":"IF(DATOS!T167=\"\",\"\",DATOS!T167)","v":""},{"$f":"IF(DATOS!AP167=\"\",\"\",DATOS!AP167)","v":""}]
[{"$f":"IF(DATOS!B168=\"\",\"\",DATOS!B168)","v":""},{"$f":"IF(DATOS!BU168=\"\",\"\",DATOS!BU168)","v":""},{"$f":"IF(DATOS!CE168=\"\",\"\",DATOS!CE168)","v":""},{"$f":"IF(DATOS!CF168=\"\",\"\",DATOS!CF168)","v":""},{"$f":"IF(DATOS!T168=\"\",\"\",DATOS!T168)","v":""},{"$f":"IF(DATOS!AP168=\"\",\"\",DATOS!AP168)","v":""}]
[{"$f":"IF(DATOS!B169=\"\",\"\",DATOS!B169)","v":""},{"$f":"IF(DATOS!BU169=\"\",\"\",DATOS!BU169)","v":""},{"$f":"IF(DATOS!CE169=\"\",\"\",DATOS!CE169)","v":""},{"$f":"IF(DATOS!CF169=\"\",\"\",DATOS!CF169)","v":""},{"$f":"IF(DATOS!T169=\"\",\"\",DATOS!T169)","v":""},{"$f":"IF(DATOS!AP169=\"\",\"\",DATOS!AP169)","v":""}]
[{"$f":"IF(DATOS!B170=\"\",\"\",DATOS!B170)","v":""},{"$f":"IF(DATOS!BU170=\"\",\"\",DATOS!BU170)","v":""},{"$f":"IF(DATOS!CE170=\"\",\"\",DATOS!CE170)","v":""},{"$f":"IF(DATOS!CF170=\"\",\"\",DATOS!CF170)","v":""},{"$f":"IF(DATOS!T170=\"\",\"\",DATOS!T170)","v":""},{"$f":"IF(DATOS!AP170=\"\",\"\",DATOS!AP170)","v":""}]
[{"$f":"IF(DATOS!B171=\"\",\"\",DATOS!B171)","v":""},{"$f":"IF(DATOS!BU171=\"\",\"\",DATOS!BU171)","v":""},{"$f":"IF(DATOS!CE171=\"\",\"\",DATOS!CE171)","v":""},{"$f":"IF(DATOS!CF171=\"\",\"\",DATOS!CF171)","v":""},{"$f":"IF(DATOS!T171=\"\",\"\",DATOS!T171)","v":""},{"$f":"IF(DATOS!AP171=\"\",\"\",DATOS!AP171)","v":""}]
[{"$f":"IF(DATOS!B172=\"\",\"\",DATOS!B172)","v":""},{"$f":"IF(DATOS!BU172=\"\",\"\",DATOS!BU172)","v":""},{"$f":"IF(DATOS!CE172=\"\",\"\",DATOS!CE172)","v":""},{"$f":"IF(DATOS!CF172=\"\",\"\",DATOS!CF172)","v":""},{"$f":"IF(DATOS!T172=\"\",\"\",DATOS!T172)","v":""},{"$f":"IF(DATOS!AP172=\"\",\"\",DATOS!AP172)","v":""}]
[{"$f":"IF(DATOS!B173=\"\",\"\",DATOS!B173)","v":""},{"$f":"IF(DATOS!BU173=\"\",\"\",DATOS!BU173)","v":""},{"$f":"IF(DATOS!CE173=\"\",\"\",DATOS!CE173)","v":""},{"$f":"IF(DATOS!CF173=\"\",\"\",DATOS!CF173)","v":""},{"$f":"IF(DATOS!T173=\"\",\"\",DATOS!T173)","v":""},{"$f":"IF(DATOS!AP173=\"\",\"\",DATOS!AP173)","v":""}]
[{"$f":"IF(DATOS!B174=\"\",\"\",DATOS!B174)","v":""},{"$f":"IF(DATOS!BU174=\"\",\"\",DATOS!BU174)","v":""},{"$f":"IF(DATOS!CE174=\"\",\"\",DATOS!CE174)","v":""},{"$f":"IF(DATOS!CF174=\"\",\"\",DATOS!CF174)","v":""},{"$f":"IF(DATOS!T174=\"\",\"\",DATOS!T174)","v":""},{"$f":"IF(DATOS!AP174=\"\",\"\",DATOS!AP174)","v":""}]
[{"$f":"IF(DATOS!B175=\"\",\"\",DATOS!B175)","v":""},{"$f":"IF(DATOS!BU175=\"\",\"\",DATOS!BU175)","v":""},{"$f":"IF(DATOS!CE175=\"\",\"\",DATOS!CE175)","v":""},{"$f":"IF(DATOS!CF175=\"\",\"\",DATOS!CF175)","v":""},{"$f":"IF(DATOS!T175=\"\",\"\",DATOS!T175)","v":""},{"$f":"IF(DATOS!AP175=\"\",\"\",DATOS!AP175)","v":""}]
[{"$f":"IF(DATOS!B176=\"\",\"\",DATOS!B176)","v":""},{"$f":"IF(DATOS!BU176=\"\",\"\",DATOS!BU176)","v":""},{"$f":"IF(DATOS!CE176=\"\",\"\",DATOS!CE176)","v":""},{"$f":"IF(DATOS!CF176=\"\",\"\",DATOS!CF176)","v":""},{"$f":"IF(DATOS!T176=\"\",\"\",DATOS!T176)","v":""},{"$f":"IF(DATOS!AP176=\"\",\"\",DATOS!AP176)","v":""}]
[{"$f":"IF(DATOS!B177=\"\",\"\",DATOS!B177)","v":""},{"$f":"IF(DATOS!BU177=\"\",\"\",DATOS!BU177)","v":""},{"$f":"IF(DATOS!CE177=\"\",\"\",DATOS!CE177)","v":""},{"$f":"IF(DATOS!CF177=\"\",\"\",DATOS!CF177)","v":""},{"$f":"IF(DATOS!T177=\"\",\"\",DATOS!T177)","v":""},{"$f":"IF(DATOS!AP177=\"\",\"\",DATOS!AP177)","v":""}]
[{"$f":"IF(DATOS!B178=\"\",\"\",DATOS!B178)","v":""},{"$f":"IF(DATOS!BU178=\"\",\"\",DATOS!BU178)","v":""},{"$f":"IF(DATOS!CE178=\"\",\"\",DATOS!CE178)","v":""},{"$f":"IF(DATOS!CF178=\"\",\"\",DATOS!CF178)","v":""},{"$f":"IF(DATOS!T178=\"\",\"\",DATOS!T178)","v":""},{"$f":"IF(DATOS!AP178=\"\",\"\",DATOS!AP178)","v":""}]
[{"$f":"IF(DATOS!B179=\"\",\"\",DATOS!B179)","v":""},{"$f":"IF(DATOS!BU179=\"\",\"\",DATOS!BU179)","v":""},{"$f":"IF(DATOS!CE179=\"\",\"\",DATOS!CE179)","v":""},{"$f":"IF(DATOS!CF179=\"\",\"\",DATOS!CF179)","v":""},{"$f":"IF(DATOS!T179=\"\",\"\",DATOS!T179)","v":""},{"$f":"IF(DATOS!AP179=\"\",\"\",DATOS!AP179)","v":""}]
[{"$f":"IF(DATOS!B180=\"\",\"\",DATOS!B180)","v":""},{"$f":"IF(DATOS!BU180=\"\",\"\",DATOS!BU180)","v":""},{"$f":"IF(DATOS!CE180=\"\",\"\",DATOS!CE180)","v":""},{"$f":"IF(DATOS!CF180=\"\",\"\",DATOS!CF180)","v":""},{"$f":"IF(DATOS!T180=\"\",\"\",DATOS!T180)","v":""},{"$f":"IF(DATOS!AP180=\"\",\"\",DATOS!AP180)","v":""}]
[{"$f":"IF(DATOS!B181=\"\",\"\",DATOS!B181)","v":""},{"$f":"IF(DATOS!BU181=\"\",\"\",DATOS!BU181)","v":""},{"$f":"IF(DATOS!CE181=\"\",\"\",DATOS!CE181)","v":""},{"$f":"IF(DATOS!CF181=\"\",\"\",DATOS!CF181)","v":""},{"$f":"IF(DATOS!T181=\"\",\"\",DATOS!T181)","v":""},{"$f":"IF(DATOS!AP181=\"\",\"\",DATOS!AP181)","v":""}]
[{"$f":"IF(DATOS!B182=\"\",\"\",DATOS!B182)","v":""},{"$f":"IF(DATOS!BU182=\"\",\"\",DATOS!BU182)","v":""},{"$f":"IF(DATOS!CE182=\"\",\"\",DATOS!CE182)","v":""},{"$f":"IF(DATOS!CF182=\"\",\"\",DATOS!CF182)","v":""},{"$f":"IF(DATOS!T182=\"\",\"\",DATOS!T182)","v":""},{"$f":"IF(DATOS!AP182=\"\",\"\",DATOS!AP182)","v":""}]
[{"$f":"IF(DATOS!B183=\"\",\"\",DATOS!B183)","v":""},{"$f":"IF(DATOS!BU183=\"\",\"\",DATOS!BU183)","v":""},{"$f":"IF(DATOS!CE183=\"\",\"\",DATOS!CE183)","v":""},{"$f":"IF(DATOS!CF183=\"\",\"\",DATOS!CF183)","v":""},{"$f":"IF(DATOS!T183=\"\",\"\",DATOS!T183)","v":""},{"$f":"IF(DATOS!AP183=\"\",\"\",DATOS!AP183)","v":""}]
[{"$f":"IF(DATOS!B184=\"\",\"\",DATOS!B184)","v":""},{"$f":"IF(DATOS!BU184=\"\",\"\",DATOS!BU184)","v":""},{"$f":"IF(DATOS!CE184=\"\",\"\",DATOS!CE184)","v":""},{"$f":"IF(DATOS!CF184=\"\",\"\",DATOS!CF184)","v":""},{"$f":"IF(DATOS!T184=\"\",\"\",DATOS!T184)","v":""},{"$f":"IF(DATOS!AP184=\"\",\"\",DATOS!AP184)","v":""}]
[{"$f":"IF(DATOS!B185=\"\",\"\",DATOS!B185)","v":""},{"$f":"IF(DATOS!BU185=\"\",\"\",DATOS!BU185)","v":""},{"$f":"IF(DATOS!CE185=\"\",\"\",DATOS!CE185)","v":""},{"$f":"IF(DATOS!CF185=\"\",\"\",DATOS!CF185)","v":""},{"$f":"IF(DATOS!T185=\"\",\"\",DATOS!T185)","v":""},{"$f":"IF(DATOS!AP185=\"\",\"\",DATOS!AP185)","v":""}]
[{"$f":"IF(DATOS!B186=\"\",\"\",DATOS!B186)","v":""},{"$f":"IF(DATOS!BU186=\"\",\"\",DATOS!BU186)","v":""},{"$f":"IF(DATOS!CE186=\"\",\"\",DATOS!CE186)","v":""},{"$f":"IF(DATOS!CF186=\"\",\"\",DATOS!CF186)","v":""},{"$f":"IF(DATOS!T186=\"\",\"\",DATOS!T186)","v":""},{"$f":"IF(DATOS!AP186=\"\",\"\",DATOS!AP186)","v":""}]
[{"$f":"IF(DATOS!B187=\"\",\"\",DATOS!B187)","v":""},{"$f":"IF(DATOS!BU187=\"\",\"\",DATOS!BU187)","v":""},{"$f":"IF(DATOS!CE187=\"\",\"\",DATOS!CE187)","v":""},{"$f":"IF(DATOS!CF187=\"\",\"\",DATOS!CF187)","v":""},{"$f":"IF(DATOS!T187=\"\",\"\",DATOS!T187)","v":""},{"$f":"IF(DATOS!AP187=\"\",\"\",DATOS!AP187)","v":""}]
[{"$f":"IF(DATOS!B188=\"\",\"\",DATOS!B188)","v":""},{"$f":"IF(DATOS!BU188=\"\",\"\",DATOS!BU188)","v":""},{"$f":"IF(DATOS!CE188=\"\",\"\",DATOS!CE188)","v":""},{"$f":"IF(DATOS!CF188=\"\",\"\",DATOS!CF188)","v":""},{"$f":"IF(DATOS!T188=\"\",\"\",DATOS!T188)","v":""},{"$f":"IF(DATOS!AP188=\"\",\"\",DATOS!AP188)","v":""}]
[{"$f":"IF(DATOS!B189=\"\",\"\",DATOS!B189)","v":""},{"$f":"IF(DATOS!BU189=\"\",\"\",DATOS!BU189)","v":""},{"$f":"IF(DATOS!CE189=\"\",\"\",DATOS!CE189)","v":""},{"$f":"IF(DATOS!CF189=\"\",\"\",DATOS!CF189)","v":""},{"$f":"IF(DATOS!T189=\"\",\"\",DATOS!T189)","v":""},{"$f":"IF(DATOS!AP189=\"\",\"\",DATOS!AP189)","v":""}]
[{"$f":"IF(DATOS!B190=\"\",\"\",DATOS!B190)","v":""},{"$f":"IF(DATOS!BU190=\"\",\"\",DATOS!BU190)","v":""},{"$f":"IF(DATOS!CE190=\"\",\"\",DATOS!CE190)","v":""},{"$f":"IF(DATOS!CF190=\"\",\"\",DATOS!CF190)","v":""},{"$f":"IF(DATOS!T190=\"\",\"\",DATOS!T190)","v":""},{"$f":"IF(DATOS!AP190=\"\",\"\",DATOS!AP190)","v":""}]
[{"$f":"IF(DATOS!B191=\"\",\"\",DATOS!B191)","v":""},{"$f":"IF(DATOS!BU191=\"\",\"\",DATOS!BU191)","v":""},{"$f":"IF(DATOS!CE191=\"\",\"\",DATOS!CE191)","v":""},{"$f":"IF(DATOS!CF191=\"\",\"\",DATOS!CF191)","v":""},{"$f":"IF(DATOS!T191=\"\",\"\",DATOS!T191)","v":""},{"$f":"IF(DATOS!AP191=\"\",\"\",DATOS!AP191)","v":""}]
[{"$f":"IF(DATOS!B192=\"\",\"\",DATOS!B192)","v":""},{"$f":"IF(DATOS!BU192=\"\",\"\",DATOS!BU192)","v":""},{"$f":"IF(DATOS!CE192=\"\",\"\",DATOS!CE192)","v":""},{"$f":"IF(DATOS!CF192=\"\",\"\",DATOS!CF192)","v":""},{"$f":"IF(DATOS!T192=\"\",\"\",DATOS!T192)","v":""},{"$f":"IF(DATOS!AP192=\"\",\"\",DATOS!AP192)","v":""}]
[{"$f":"IF(DATOS!B193=\"\",\"\",DATOS!B193)","v":""},{"$f":"IF(DATOS!BU193=\"\",\"\",DATOS!BU193)","v":""},{"$f":"IF(DATOS!CE193=\"\",\"\",DATOS!CE193)","v":""},{"$f":"IF(DATOS!CF193=\"\",\"\",DATOS!CF193)","v":""},{"$f":"IF(DATOS!T193=\"\",\"\",DATOS!T193)","v":""},{"$f":"IF(DATOS!AP193=\"\",\"\",DATOS!AP193)","v":""}]
[{"$f":"IF(DATOS!B194=\"\",\"\",DATOS!B194)","v":""},{"$f":"IF(DATOS!BU194=\"\",\"\",DATOS!BU194)","v":""},{"$f":"IF(DATOS!CE194=\"\",\"\",DATOS!CE194)","v":""},{"$f":"IF(DATOS!CF194=\"\",\"\",DATOS!CF194)","v":""},{"$f":"IF(DATOS!T194=\"\",\"\",DATOS!T194)","v":""},{"$f":"IF(DATOS!AP194=\"\",\"\",DATOS!AP194)","v":""}]
[{"$f":"IF(DATOS!B195=\"\",\"\",DATOS!B195)","v":""},{"$f":"IF(DATOS!BU195=\"\",\"\",DATOS!BU195)","v":""},{"$f":"IF(DATOS!CE195=\"\",\"\",DATOS!CE195)","v":""},{"$f":"IF(DATOS!CF195=\"\",\"\",DATOS!CF195)","v":""},{"$f":"IF(DATOS!T195=\"\",\"\",DATOS!T195)","v":""},{"$f":"IF(DATOS!AP195=\"\",\"\",DATOS!AP195)","v":""}]
[{"$f":"IF(DATOS!B196=\"\",\"\",DATOS!B196)","v":""},{"$f":"IF(DATOS!BU196=\"\",\"\",DATOS!BU196)","v":""},{"$f":"IF(DATOS!CE196=\"\",\"\",DATOS!CE196)","v":""},{"$f":"IF(DATOS!CF196=\"\",\"\",DATOS!CF196)","v":""},{"$f":"IF(DATOS!T196=\"\",\"\",DATOS!T196)","v":""},{"$f":"IF(DATOS!AP196=\"\",\"\",DATOS!AP196)","v":""}]
[{"$f":"IF(DATOS!B197=\"\",\"\",DATOS!B197)","v":""},{"$f":"IF(DATOS!BU197=\"\",\"\",DATOS!BU197)","v":""},{"$f":"IF(DATOS!CE197=\"\",\"\",DATOS!CE197)","v":""},{"$f":"IF(DATOS!CF197=\"\",\"\",DATOS!CF197)","v":""},{"$f":"IF(DATOS!T197=\"\",\"\",DATOS!T197)","v":""},{"$f":"IF(DATOS!AP197=\"\",\"\",DATOS!AP197)","v":""}]
[{"$f":"IF(DATOS!B198=\"\",\"\",DATOS!B198)","v":""},{"$f":"IF(DATOS!BU198=\"\",\"\",DATOS!BU198)","v":""},{"$f":"IF(DATOS!CE198=\"\",\"\",DATOS!CE198)","v":""},{"$f":"IF(DATOS!CF198=\"\",\"\",DATOS!CF198)","v":""},{"$f":"IF(DATOS!T198=\"\",\"\",DATOS!T198)","v":""},{"$f":"IF(DATOS!AP198=\"\",\"\",DATOS!AP198)","v":""}]
[{"$f":"IF(DATOS!B199=\"\",\"\",DATOS!B199)","v":""},{"$f":"IF(DATOS!BU199=\"\",\"\",DATOS!BU199)","v":""},{"$f":"IF(DATOS!CE199=\"\",\"\",DATOS!CE199)","v":""},{"$f":"IF(DATOS!CF199=\"\",\"\",DATOS!CF199)","v":""},{"$f":"IF(DATOS!T199=\"\",\"\",DATOS!T199)","v":""},{"$f":"IF(DATOS!AP199=\"\",\"\",DATOS!AP199)","v":""}]
[{"$f":"IF(DATOS!B200=\"\",\"\",DATOS!B200)","v":""},{"$f":"IF(DATOS!BU200=\"\",\"\",DATOS!BU200)","v":""},{"$f":"IF(DATOS!CE200=\"\",\"\",DATOS!CE200)","v":""},{"$f":"IF(DATOS!CF200=\"\",\"\",DATOS!CF200)","v":""},{"$f":"IF(DATOS!T200=\"\",\"\",DATOS!T200)","v":""},{"$f":"IF(DATOS!AP200=\"\",\"\",DATOS!AP200)","v":""}]
[{"$f":"IF(DATOS!B201=\"\",\"\",DATOS!B201)","v":""},{"$f":"IF(DATOS!BU201=\"\",\"\",DATOS!BU201)","v":""},{"$f":"IF(DATOS!CE201=\"\",\"\",DATOS!CE201)","v":""},{"$f":"IF(DATOS!CF201=\"\",\"\",DATOS!CF201)","v":""},{"$f":"IF(DATOS!T201=\"\",\"\",DATOS!T201)","v":""},{"$f":"IF(DATOS!AP201=\"\",\"\",DATOS!AP201)","v":""}]
[{"$f":"IF(DATOS!B202=\"\",\"\",DATOS!B202)","v":""},{"$f":"IF(DATOS!BU202=\"\",\"\",DATOS!BU202)","v":""},{"$f":"IF(DATOS!CE202=\"\",\"\",DATOS!CE202)","v":""},{"$f":"IF(DATOS!CF202=\"\",\"\",DATOS!CF202)","v":""},{"$f":"IF(DATOS!T202=\"\",\"\",DATOS!T202)","v":""},{"$f":"IF(DATOS!AP202=\"\",\"\",DATOS!AP202)","v":""}]
[{"$f":"IF(DATOS!B203=\"\",\"\",DATOS!B203)","v":""},{"$f":"IF(DATOS!BU203=\"\",\"\",DATOS!BU203)","v":""},{"$f":"IF(DATOS!CE203=\"\",\"\",DATOS!CE203)","v":""},{"$f":"IF(DATOS!CF203=\"\",\"\",DATOS!CF203)","v":""},{"$f":"IF(DATOS!T203=\"\",\"\",DATOS!T203)","v":""},{"$f":"IF(DATOS!AP203=\"\",\"\",DATOS!AP203)","v":""}]
[{"$f":"IF(DATOS!B204=\"\",\"\",DATOS!B204)","v":""},{"$f":"IF(DATOS!BU204=\"\",\"\",DATOS!BU204)","v":""},{"$f":"IF(DATOS!CE204=\"\",\"\",DATOS!CE204)","v":""},{"$f":"IF(DATOS!CF204=\"\",\"\",DATOS!CF204)","v":""},{"$f":"IF(DATOS!T204=\"\",\"\",DATOS!T204)","v":""},{"$f":"IF(DATOS!AP204=\"\",\"\",DATOS!AP204)","v":""}]
[{"$f":"IF(DATOS!B205=\"\",\"\",DATOS!B205)","v":""},{"$f":"IF(DATOS!BU205=\"\",\"\",DATOS!BU205)","v":""},{"$f":"IF(DATOS!CE205=\"\",\"\",DATOS!CE205)","v":""},{"$f":"IF(DATOS!CF205=\"\",\"\",DATOS!CF205)","v":""},{"$f":"IF(DATOS!T205=\"\",\"\",DATOS!T205)","v":""},{"$f":"IF(DATOS!AP205=\"\",\"\",DATOS!AP205)","v":""}]
[{"$f":"IF(DATOS!B206=\"\",\"\",DATOS!B206)","v":""},{"$f":"IF(DATOS!BU206=\"\",\"\",DATOS!BU206)","v":""},{"$f":"IF(DATOS!CE206=\"\",\"\",DATOS!CE206)","v":""},{"$f":"IF(DATOS!CF206=\"\",\"\",DATOS!CF206)","v":""},{"$f":"IF(DATOS!T206=\"\",\"\",DATOS!T206)","v":""},{"$f":"IF(DATOS!AP206=\"\",\"\",DATOS!AP206)","v":""}]
[{"$f":"IF(DATOS!B207=\"\",\"\",DATOS!B207)","v":""},{"$f":"IF(DATOS!BU207=\"\",\"\",DATOS!BU207)","v":""},{"$f":"IF(DATOS!CE207=\"\",\"\",DATOS!CE207)","v":""},{"$f":"IF(DATOS!CF207=\"\",\"\",DATOS!CF207)","v":""},{"$f":"IF(DATOS!T207=\"\",\"\",DATOS!T207)","v":""},{"$f":"IF(DATOS!AP207=\"\",\"\",DATOS!AP207)","v":""}]
[{"$f":"IF(DATOS!B208=\"\",\"\",DATOS!B208)","v":""},{"$f":"IF(DATOS!BU208=\"\",\"\",DATOS!BU208)","v":""},{"$f":"IF(DATOS!CE208=\"\",\"\",DATOS!CE208)","v":""},{"$f":"IF(DATOS!CF208=\"\",\"\",DATOS!CF208)","v":""},{"$f":"IF(DATOS!T208=\"\",\"\",DATOS!T208)","v":""},{"$f":"IF(DATOS!AP208=\"\",\"\",DATOS!AP208)","v":""}]
[{"$f":"IF(DATOS!B209=\"\",\"\",DATOS!B209)","v":""},{"$f":"IF(DATOS!BU209=\"\",\"\",DATOS!BU209)","v":""},{"$f":"IF(DATOS!CE209=\"\",\"\",DATOS!CE209)","v":""},{"$f":"IF(DATOS!CF209=\"\",\"\",DATOS!CF209)","v":""},{"$f":"IF(DATOS!T209=\"\",\"\",DATOS!T209)","v":""},{"$f":"IF(DATOS!AP209=\"\",\"\",DATOS!AP209)","v":""}]
[{"$f":"IF(DATOS!B210=\"\",\"\",DATOS!B210)","v":""},{"$f":"IF(DATOS!BU210=\"\",\"\",DATOS!BU210)","v":""},{"$f":"IF(DATOS!CE210=\"\",\"\",DATOS!CE210)","v":""},{"$f":"IF(DATOS!CF210=\"\",\"\",DATOS!CF210)","v":""},{"$f":"IF(DATOS!T210=\"\",\"\",DATOS!T210)","v":""},{"$f":"IF(DATOS!AP210=\"\",\"\",DATOS!AP210)","v":""}]
[{"$f":"IF(DATOS!B211=\"\",\"\",DATOS!B211)","v":""},{"$f":"IF(DATOS!BU211=\"\",\"\",DATOS!BU211)","v":""},{"$f":"IF(DATOS!CE211=\"\",\"\",DATOS!CE211)","v":""},{"$f":"IF(DATOS!CF211=\"\",\"\",DATOS!CF211)","v":""},{"$f":"IF(DATOS!T211=\"\",\"\",DATOS!T211)","v":""},{"$f":"IF(DATOS!AP211=\"\",\"\",DATOS!AP211)","v":""}]
[{"$f":"IF(DATOS!B212=\"\",\"\",DATOS!B212)","v":""},{"$f":"IF(DATOS!BU212=\"\",\"\",DATOS!BU212)","v":""},{"$f":"IF(DATOS!CE212=\"\",\"\",DATOS!CE212)","v":""},{"$f":"IF(DATOS!CF212=\"\",\"\",DATOS!CF212)","v":""},{"$f":"IF(DATOS!T212=\"\",\"\",DATOS!T212)","v":""},{"$f":"IF(DATOS!AP212=\"\",\"\",DATOS!AP212)","v":""}]
[{"$f":"IF(DATOS!B213=\"\",\"\",DATOS!B213)","v":""},{"$f":"IF(DATOS!BU213=\"\",\"\",DATOS!BU213)","v":""},{"$f":"IF(DATOS!CE213=\"\",\"\",DATOS!CE213)","v":""},{"$f":"IF(DATOS!CF213=\"\",\"\",DATOS!CF213)","v":""},{"$f":"IF(DATOS!T213=\"\",\"\",DATOS!T213)","v":""},{"$f":"IF(DATOS!AP213=\"\",\"\",DATOS!AP213)","v":""}]
[{"$f":"IF(DATOS!B214=\"\",\"\",DATOS!B214)","v":""},{"$f":"IF(DATOS!BU214=\"\",\"\",DATOS!BU214)","v":""},{"$f":"IF(DATOS!CE214=\"\",\"\",DATOS!CE214)","v":""},{"$f":"IF(DATOS!CF214=\"\",\"\",DATOS!CF214)","v":""},{"$f":"IF(DATOS!T214=\"\",\"\",DATOS!T214)","v":""},{"$f":"IF(DATOS!AP214=\"\",\"\",DATOS!AP214)","v":""}]
[{"$f":"IF(DATOS!B215=\"\",\"\",DATOS!B215)","v":""},{"$f":"IF(DATOS!BU215=\"\",\"\",DATOS!BU215)","v":""},{"$f":"IF(DATOS!CE215=\"\",\"\",DATOS!CE215)","v":""},{"$f":"IF(DATOS!CF215=\"\",\"\",DATOS!CF215)","v":""},{"$f":"IF(DATOS!T215=\"\",\"\",DATOS!T215)","v":""},{"$f":"IF(DATOS!AP215=\"\",\"\",DATOS!AP215)","v":""}]
[{"$f":"IF(DATOS!B216=\"\",\"\",DATOS!B216)","v":""},{"$f":"IF(DATOS!BU216=\"\",\"\",DATOS!BU216)","v":""},{"$f":"IF(DATOS!CE216=\"\",\"\",DATOS!CE216)","v":""},{"$f":"IF(DATOS!CF216=\"\",\"\",DATOS!CF216)","v":""},{"$f":"IF(DATOS!T216=\"\",\"\",DATOS!T216)","v":""},{"$f":"IF(DATOS!AP216=\"\",\"\",DATOS!AP216)","v":""}]
[{"$f":"IF(DATOS!B217=\"\",\"\",DATOS!B217)","v":""},{"$f":"IF(DATOS!BU217=\"\",\"\",DATOS!BU217)","v":""},{"$f":"IF(DATOS!CE217=\"\",\"\",DATOS!CE217)","v":""},{"$f":"IF(DATOS!CF217=\"\",\"\",DATOS!CF217)","v":""},{"$f":"IF(DATOS!T217=\"\",\"\",DATOS!T217)","v":""},{"$f":"IF(DATOS!AP217=\"\",\"\",DATOS!AP217)","v":""}]
[{"$f":"IF(DATOS!B218=\"\",\"\",DATOS!B218)","v":""},{"$f":"IF(DATOS!BU218=\"\",\"\",DATOS!BU218)","v":""},{"$f":"IF(DATOS!CE218=\"\",\"\",DATOS!CE218)","v":""},{"$f":"IF(DATOS!CF218=\"\",\"\",DATOS!CF218)","v":""},{"$f":"IF(DATOS!T218=\"\",\"\",DATOS!T218)","v":""},{"$f":"IF(DATOS!AP218=\"\",\"\",DATOS!AP218)","v":""}]
[{"$f":"IF(DATOS!B219=\"\",\"\",DATOS!B219)","v":""},{"$f":"IF(DATOS!BU219=\"\",\"\",DATOS!BU219)","v":""},{"$f":"IF(DATOS!CE219=\"\",\"\",DATOS!CE219)","v":""},{"$f":"IF(DATOS!CF219=\"\",\"\",DATOS!CF219)","v":""},{"$f":"IF(DATOS!T219=\"\",\"\",DATOS!T219)","v":""},{"$f":"IF(DATOS!AP219=\"\",\"\",DATOS!AP219)","v":""}]
[{"$f":"IF(DATOS!B220=\"\",\"\",DATOS!B220)","v":""},{"$f":"IF(DATOS!BU220=\"\",\"\",DATOS!BU220)","v":""},{"$f":"IF(DATOS!CE220=\"\",\"\",DATOS!CE220)","v":""},{"$f":"IF(DATOS!CF220=\"\",\"\",DATOS!CF220)","v":""},{"$f":"IF(DATOS!T220=\"\",\"\",DATOS!T220)","v":""},{"$f":"IF(DATOS!AP220=\"\",\"\",DATOS!AP220)","v":""}]
[{"$f":"IF(DATOS!B221=\"\",\"\",DATOS!B221)","v":""},{"$f":"IF(DATOS!BU221=\"\",\"\",DATOS!BU221)","v":""},{"$f":"IF(DATOS!CE221=\"\",\"\",DATOS!CE221)","v":""},{"$f":"IF(DATOS!CF221=\"\",\"\",DATOS!CF221)","v":""},{"$f":"IF(DATOS!T221=\"\",\"\",DATOS!T221)","v":""},{"$f":"IF(DATOS!AP221=\"\",\"\",DATOS!AP221)","v":""}]
[{"$f":"IF(DATOS!B222=\"\",\"\",DATOS!B222)","v":""},{"$f":"IF(DATOS!BU222=\"\",\"\",DATOS!BU222)","v":""},{"$f":"IF(DATOS!CE222=\"\",\"\",DATOS!CE222)","v":""},{"$f":"IF(DATOS!CF222=\"\",\"\",DATOS!CF222)","v":""},{"$f":"IF(DATOS!T222=\"\",\"\",DATOS!T222)","v":""},{"$f":"IF(DATOS!AP222=\"\",\"\",DATOS!AP222)","v":""}]
[{"$f":"IF(DATOS!B223=\"\",\"\",DATOS!B223)","v":""},{"$f":"IF(DATOS!BU223=\"\",\"\",DATOS!BU223)","v":""},{"$f":"IF(DATOS!CE223=\"\",\"\",DATOS!CE223)","v":""},{"$f":"IF(DATOS!CF223=\"\",\"\",DATOS!CF223)","v":""},{"$f":"IF(DATOS!T223=\"\",\"\",DATOS!T223)","v":""},{"$f":"IF(DATOS!AP223=\"\",\"\",DATOS!AP223)","v":""}]
[{"$f":"IF(DATOS!B224=\"\",\"\",DATOS!B224)","v":""},{"$f":"IF(DATOS!BU224=\"\",\"\",DATOS!BU224)","v":""},{"$f":"IF(DATOS!CE224=\"\",\"\",DATOS!CE224)","v":""},{"$f":"IF(DATOS!CF224=\"\",\"\",DATOS!CF224)","v":""},{"$f":"IF(DATOS!T224=\"\",\"\",DATOS!T224)","v":""},{"$f":"IF(DATOS!AP224=\"\",\"\",DATOS!AP224)","v":""}]
[{"$f":"IF(DATOS!B225=\"\",\"\",DATOS!B225)","v":""},{"$f":"IF(DATOS!BU225=\"\",\"\",DATOS!BU225)","v":""},{"$f":"IF(DATOS!CE225=\"\",\"\",DATOS!CE225)","v":""},{"$f":"IF(DATOS!CF225=\"\",\"\",DATOS!CF225)","v":""},{"$f":"IF(DATOS!T225=\"\",\"\",DATOS!T225)","v":""},{"$f":"IF(DATOS!AP225=\"\",\"\",DATOS!AP225)","v":""}]
[{"$f":"IF(DATOS!B226=\"\",\"\",DATOS!B226)","v":""},{"$f":"IF(DATOS!BU226=\"\",\"\",DATOS!BU226)","v":""},{"$f":"IF(DATOS!CE226=\"\",\"\",DATOS!CE226)","v":""},{"$f":"IF(DATOS!CF226=\"\",\"\",DATOS!CF226)","v":""},{"$f":"IF(DATOS!T226=\"\",\"\",DATOS!T226)","v":""},{"$f":"IF(DATOS!AP226=\"\",\"\",DATOS!AP226)","v":""}]
[{"$f":"IF(DATOS!B227=\"\",\"\",DATOS!B227)","v":""},{"$f":"IF(DATOS!BU227=\"\",\"\",DATOS!BU227)","v":""},{"$f":"IF(DATOS!CE227=\"\",\"\",DATOS!CE227)","v":""},{"$f":"IF(DATOS!CF227=\"\",\"\",DATOS!CF227)","v":""},{"$f":"IF(DATOS!T227=\"\",\"\",DATOS!T227)","v":""},{"$f":"IF(DATOS!AP227=\"\",\"\",DATOS!AP227)","v":""}]
[{"$f":"IF(DATOS!B228=\"\",\"\",DATOS!B228)","v":""},{"$f":"IF(DATOS!BU228=\"\",\"\",DATOS!BU228)","v":""},{"$f":"IF(DATOS!CE228=\"\",\"\",DATOS!CE228)","v":""},{"$f":"IF(DATOS!CF228=\"\",\"\",DATOS!CF228)","v":""},{"$f":"IF(DATOS!T228=\"\",\"\",DATOS!T228)","v":""},{"$f":"IF(DATOS!AP228=\"\",\"\",DATOS!AP228)","v":""}]
[{"$f":"IF(DATOS!B229=\"\",\"\",DATOS!B229)","v":""},{"$f":"IF(DATOS!BU229=\"\",\"\",DATOS!BU229)","v":""},{"$f":"IF(DATOS!CE229=\"\",\"\",DATOS!CE229)","v":""},{"$f":"IF(DATOS!CF229=\"\",\"\",DATOS!CF229)","v":""},{"$f":"IF(DATOS!T229=\"\",\"\",DATOS!T229)","v":""},{"$f":"IF(DATOS!AP229=\"\",\"\",DATOS!AP229)","v":""}]
[{"$f":"IF(DATOS!B230=\"\",\"\",DATOS!B230)","v":""},{"$f":"IF(DATOS!BU230=\"\",\"\",DATOS!BU230)","v":""},{"$f":"IF(DATOS!CE230=\"\",\"\",DATOS!CE230)","v":""},{"$f":"IF(DATOS!CF230=\"\",\"\",DATOS!CF230)","v":""},{"$f":"IF(DATOS!T230=\"\",\"\",DATOS!T230)","v":""},{"$f":"IF(DATOS!AP230=\"\",\"\",DATOS!AP230)","v":""}]
[{"$f":"IF(DATOS!B231=\"\",\"\",DATOS!B231)","v":""},{"$f":"IF(DATOS!BU231=\"\",\"\",DATOS!BU231)","v":""},{"$f":"IF(DATOS!CE231=\"\",\"\",DATOS!CE231)","v":""},{"$f":"IF(DATOS!CF231=\"\",\"\",DATOS!CF231)","v":""},{"$f":"IF(DATOS!T231=\"\",\"\",DATOS!T231)","v":""},{"$f":"IF(DATOS!AP231=\"\",\"\",DATOS!AP231)","v":""}]
[{"$f":"IF(DATOS!B232=\"\",\"\",DATOS!B232)","v":""},{"$f":"IF(DATOS!BU232=\"\",\"\",DATOS!BU232)","v":""},{"$f":"IF(DATOS!CE232=\"\",\"\",DATOS!CE232)","v":""},{"$f":"IF(DATOS!CF232=\"\",\"\",DATOS!CF232)","v":""},{"$f":"IF(DATOS!T232=\"\",\"\",DATOS!T232)","v":""},{"$f":"IF(DATOS!AP232=\"\",\"\",DATOS!AP232)","v":""}]
[{"$f":"IF(DATOS!B233=\"\",\"\",DATOS!B233)","v":""},{"$f":"IF(DATOS!BU233=\"\",\"\",DATOS!BU233)","v":""},{"$f":"IF(DATOS!CE233=\"\",\"\",DATOS!CE233)","v":""},{"$f":"IF(DATOS!CF233=\"\",\"\",DATOS!CF233)","v":""},{"$f":"IF(DATOS!T233=\"\",\"\",DATOS!T233)","v":""},{"$f":"IF(DATOS!AP233=\"\",\"\",DATOS!AP233)","v":""}]
[{"$f":"IF(DATOS!B234=\"\",\"\",DATOS!B234)","v":""},{"$f":"IF(DATOS!BU234=\"\",\"\",DATOS!BU234)","v":""},{"$f":"IF(DATOS!CE234=\"\",\"\",DATOS!CE234)","v":""},{"$f":"IF(DATOS!CF234=\"\",\"\",DATOS!CF234)","v":""},{"$f":"IF(DATOS!T234=\"\",\"\",DATOS!T234)","v":""},{"$f":"IF(DATOS!AP234=\"\",\"\",DATOS!AP234)","v":""}]
[{"$f":"IF(DATOS!B235=\"\",\"\",DATOS!B235)","v":""},{"$f":"IF(DATOS!BU235=\"\",\"\",DATOS!BU235)","v":""},{"$f":"IF(DATOS!CE235=\"\",\"\",DATOS!CE235)","v":""},{"$f":"IF(DATOS!CF235=\"\",\"\",DATOS!CF235)","v":""},{"$f":"IF(DATOS!T235=\"\",\"\",DATOS!T235)","v":""},{"$f":"IF(DATOS!AP235=\"\",\"\",DATOS!AP235)","v":""}]
[{"$f":"IF(DATOS!B236=\"\",\"\",DATOS!B236)","v":""},{"$f":"IF(DATOS!BU236=\"\",\"\",DATOS!BU236)","v":""},{"$f":"IF(DATOS!CE236=\"\",\"\",DATOS!CE236)","v":""},{"$f":"IF(DATOS!CF236=\"\",\"\",DATOS!CF236)","v":""},{"$f":"IF(DATOS!T236=\"\",\"\",DATOS!T236)","v":""},{"$f":"IF(DATOS!AP236=\"\",\"\",DATOS!AP236)","v":""}]
[{"$f":"IF(DATOS!B237=\"\",\"\",DATOS!B237)","v":""},{"$f":"IF(DATOS!BU237=\"\",\"\",DATOS!BU237)","v":""},{"$f":"IF(DATOS!CE237=\"\",\"\",DATOS!CE237)","v":""},{"$f":"IF(DATOS!CF237=\"\",\"\",DATOS!CF237)","v":""},{"$f":"IF(DATOS!T237=\"\",\"\",DATOS!T237)","v":""},{"$f":"IF(DATOS!AP237=\"\",\"\",DATOS!AP237)","v":""}]
[{"$f":"IF(DATOS!B238=\"\",\"\",DATOS!B238)","v":""},{"$f":"IF(DATOS!BU238=\"\",\"\",DATOS!BU238)","v":""},{"$f":"IF(DATOS!CE238=\"\",\"\",DATOS!CE238)","v":""},{"$f":"IF(DATOS!CF238=\"\",\"\",DATOS!CF238)","v":""},{"$f":"IF(DATOS!T238=\"\",\"\",DATOS!T238)","v":""},{"$f":"IF(DATOS!AP238=\"\",\"\",DATOS!AP238)","v":""}]
[{"$f":"IF(DATOS!B239=\"\",\"\",DATOS!B239)","v":""},{"$f":"IF(DATOS!BU239=\"\",\"\",DATOS!BU239)","v":""},{"$f":"IF(DATOS!CE239=\"\",\"\",DATOS!CE239)","v":""},{"$f":"IF(DATOS!CF239=\"\",\"\",DATOS!CF239)","v":""},{"$f":"IF(DATOS!T239=\"\",\"\",DATOS!T239)","v":""},{"$f":"IF(DATOS!AP239=\"\",\"\",DATOS!AP239)","v":""}]
[{"$f":"IF(DATOS!B240=\"\",\"\",DATOS!B240)","v":""},{"$f":"IF(DATOS!BU240=\"\",\"\",DATOS!BU240)","v":""},{"$f":"IF(DATOS!CE240=\"\",\"\",DATOS!CE240)","v":""},{"$f":"IF(DATOS!CF240=\"\",\"\",DATOS!CF240)","v":""},{"$f":"IF(DATOS!T240=\"\",\"\",DATOS!T240)","v":""},{"$f":"IF(DATOS!AP240=\"\",\"\",DATOS!AP240)","v":""}]
[{"$f":"IF(DATOS!B241=\"\",\"\",DATOS!B241)","v":""},{"$f":"IF(DATOS!BU241=\"\",\"\",DATOS!BU241)","v":""},{"$f":"IF(DATOS!CE241=\"\",\"\",DATOS!CE241)","v":""},{"$f":"IF(DATOS!CF241=\"\",\"\",DATOS!CF241)","v":""},{"$f":"IF(DATOS!T241=\"\",\"\",DATOS!T241)","v":""},{"$f":"IF(DATOS!AP241=\"\",\"\",DATOS!AP241)","v":""}]
[{"$f":"IF(DATOS!B242=\"\",\"\",DATOS!B242)","v":""},{"$f":"IF(DATOS!BU242=\"\",\"\",DATOS!BU242)","v":""},{"$f":"IF(DATOS!CE242=\"\",\"\",DATOS!CE242)","v":""},{"$f":"IF(DATOS!CF242=\"\",\"\",DATOS!CF242)","v":""},{"$f":"IF(DATOS!T242=\"\",\"\",DATOS!T242)","v":""},{"$f":"IF(DATOS!AP242=\"\",\"\",DATOS!AP242)","v":""}]
[{"$f":"IF(DATOS!B243=\"\",\"\",DATOS!B243)","v":""},{"$f":"IF(DATOS!BU243=\"\",\"\",DATOS!BU243)","v":""},{"$f":"IF(DATOS!CE243=\"\",\"\",DATOS!CE243)","v":""},{"$f":"IF(DATOS!CF243=\"\",\"\",DATOS!CF243)","v":""},{"$f":"IF(DATOS!T243=\"\",\"\",DATOS!T243)","v":""},{"$f":"IF(DATOS!AP243=\"\",\"\",DATOS!AP243)","v":""}]
[{"$f":"IF(DATOS!B244=\"\",\"\",DATOS!B244)","v":""},{"$f":"IF(DATOS!BU244=\"\",\"\",DATOS!BU244)","v":""},{"$f":"IF(DATOS!CE244=\"\",\"\",DATOS!CE244)","v":""},{"$f":"IF(DATOS!CF244=\"\",\"\",DATOS!CF244)","v":""},{"$f":"IF(DATOS!T244=\"\",\"\",DATOS!T244)","v":""},{"$f":"IF(DATOS!AP244=\"\",\"\",DATOS!AP244)","v":""}]
[{"$f":"IF(DATOS!B245=\"\",\"\",DATOS!B245)","v":""},{"$f":"IF(DATOS!BU245=\"\",\"\",DATOS!BU245)","v":""},{"$f":"IF(DATOS!CE245=\"\",\"\",DATOS!CE245)","v":""},{"$f":"IF(DATOS!CF245=\"\",\"\",DATOS!CF245)","v":""},{"$f":"IF(DATOS!T245=\"\",\"\",DATOS!T245)","v":""},{"$f":"IF(DATOS!AP245=\"\",\"\",DATOS!AP245)","v":""}]
[{"$f":"IF(DATOS!B246=\"\",\"\",DATOS!B246)","v":""},{"$f":"IF(DATOS!BU246=\"\",\"\",DATOS!BU246)","v":""},{"$f":"IF(DATOS!CE246=\"\",\"\",DATOS!CE246)","v":""},{"$f":"IF(DATOS!CF246=\"\",\"\",DATOS!CF246)","v":""},{"$f":"IF(DATOS!T246=\"\",\"\",DATOS!T246)","v":""},{"$f":"IF(DATOS!AP246=\"\",\"\",DATOS!AP246)","v":""}]
[{"$f":"IF(DATOS!B247=\"\",\"\",DATOS!B247)","v":""},{"$f":"IF(DATOS!BU247=\"\",\"\",DATOS!BU247)","v":""},{"$f":"IF(DATOS!CE247=\"\",\"\",DATOS!CE247)","v":""},{"$f":"IF(DATOS!CF247=\"\",\"\",DATOS!CF247)","v":""},{"$f":"IF(DATOS!T247=\"\",\"\",DATOS!T247)","v":""},{"$f":"IF(DATOS!AP247=\"\",\"\",DATOS!AP247)","v":""}]
[{"$f":"IF(DATOS!B248=\"\",\"\",DATOS!B248)","v":""},{"$f":"IF(DATOS!BU248=\"\",\"\",DATOS!BU248)","v":""},{"$f":"IF(DATOS!CE248=\"\",\"\",DATOS!CE248)","v":""},{"$f":"IF(DATOS!CF248=\"\",\"\",DATOS!CF248)","v":""},{"$f":"IF(DATOS!T248=\"\",\"\",DATOS!T248)","v":""},{"$f":"IF(DATOS!AP248=\"\",\"\",DATOS!AP248)","v":""}]
[{"$f":"IF(DATOS!B249=\"\",\"\",DATOS!B249)","v":""},{"$f":"IF(DATOS!BU249=\"\",\"\",DATOS!BU249)","v":""},{"$f":"IF(DATOS!CE249=\"\",\"\",DATOS!CE249)","v":""},{"$f":"IF(DATOS!CF249=\"\",\"\",DATOS!CF249)","v":""},{"$f":"IF(DATOS!T249=\"\",\"\",DATOS!T249)","v":""},{"$f":"IF(DATOS!AP249=\"\",\"\",DATOS!AP249)","v":""}]
[{"$f":"IF(DATOS!B250=\"\",\"\",DATOS!B250)","v":""},{"$f":"IF(DATOS!BU250=\"\",\"\",DATOS!BU250)","v":""},{"$f":"IF(DATOS!CE250=\"\",\"\",DATOS!CE250)","v":""},{"$f":"IF(DATOS!CF250=\"\",\"\",DATOS!CF250)","v":""},{"$f":"IF(DATOS!T250=\"\",\"\",DATOS!T250)","v":""},{"$f":"IF(DATOS!AP250=\"\",\"\",DATOS!AP250)","v":""}]
[{"$f":"IF(DATOS!B251=\"\",\"\",DATOS!B251)","v":""},{"$f":"IF(DATOS!BU251=\"\",\"\",DATOS!BU251)","v":""},{"$f":"IF(DATOS!CE251=\"\",\"\",DATOS!CE251)","v":""},{"$f":"IF(DATOS!CF251=\"\",\"\",DATOS!CF251)","v":""},{"$f":"IF(DATOS!T251=\"\",\"\",DATOS!T251)","v":""},{"$f":"IF(DATOS!AP251=\"\",\"\",DATOS!AP251)","v":""}]
[{"$f":"IF(DATOS!B252=\"\",\"\",DATOS!B252)","v":""},{"$f":"IF(DATOS!BU252=\"\",\"\",DATOS!BU252)","v":""},{"$f":"IF(DATOS!CE252=\"\",\"\",DATOS!CE252)","v":""},{"$f":"IF(DATOS!CF252=\"\",\"\",DATOS!CF252)","v":""},{"$f":"IF(DATOS!T252=\"\",\"\",DATOS!T252)","v":""},{"$f":"IF(DATOS!AP252=\"\",\"\",DATOS!AP252)","v":""}]
[{"$f":"IF(DATOS!B253=\"\",\"\",DATOS!B253)","v":""},{"$f":"IF(DATOS!BU253=\"\",\"\",DATOS!BU253)","v":""},{"$f":"IF(DATOS!CE253=\"\",\"\",DATOS!CE253)","v":""},{"$f":"IF(DATOS!CF253=\"\",\"\",DATOS!CF253)","v":""},{"$f":"IF(DATOS!T253=\"\",\"\",DATOS!T253)","v":""},{"$f":"IF(DATOS!AP253=\"\",\"\",DATOS!AP253)","v":""}]
[{"$f":"IF(DATOS!B254=\"\",\"\",DATOS!B254)","v":""},{"$f":"IF(DATOS!BU254=\"\",\"\",DATOS!BU254)","v":""},{"$f":"IF(DATOS!CE254=\"\",\"\",DATOS!CE254)","v":""},{"$f":"IF(DATOS!CF254=\"\",\"\",DATOS!CF254)","v":""},{"$f":"IF(DATOS!T254=\"\",\"\",DATOS!T254)","v":""},{"$f":"IF(DATOS!AP254=\"\",\"\",DATOS!AP254)","v":""}]
[{"$f":"IF(DATOS!B255=\"\",\"\",DATOS!B255)","v":""},{"$f":"IF(DATOS!BU255=\"\",\"\",DATOS!BU255)","v":""},{"$f":"IF(DATOS!CE255=\"\",\"\",DATOS!CE255)","v":""},{"$f":"IF(DATOS!CF255=\"\",\"\",DATOS!CF255)","v":""},{"$f":"IF(DATOS!T255=\"\",\"\",DATOS!T255)","v":""},{"$f":"IF(DATOS!AP255=\"\",\"\",DATOS!AP255)","v":""}]
[{"$f":"IF(DATOS!B256=\"\",\"\",DATOS!B256)","v":""},{"$f":"IF(DATOS!BU256=\"\",\"\",DATOS!BU256)","v":""},{"$f":"IF(DATOS!CE256=\"\",\"\",DATOS!CE256)","v":""},{"$f":"IF(DATOS!CF256=\"\",\"\",DATOS!CF256)","v":""},{"$f":"IF(DATOS!T256=\"\",\"\",DATOS!T256)","v":""},{"$f":"IF(DATOS!AP256=\"\",\"\",DATOS!AP256)","v":""}]
[{"$f":"IF(DATOS!B257=\"\",\"\",DATOS!B257)","v":""},{"$f":"IF(DATOS!BU257=\"\",\"\",DATOS!BU257)","v":""},{"$f":"IF(DATOS!CE257=\"\",\"\",DATOS!CE257)","v":""},{"$f":"IF(DATOS!CF257=\"\",\"\",DATOS!CF257)","v":""},{"$f":"IF(DATOS!T257=\"\",\"\",DATOS!T257)","v":""},{"$f":"IF(DATOS!AP257=\"\",\"\",DATOS!AP257)","v":""}]
[{"$f":"IF(DATOS!B258=\"\",\"\",DATOS!B258)","v":""},{"$f":"IF(DATOS!BU258=\"\",\"\",DATOS!BU258)","v":""},{"$f":"IF(DATOS!CE258=\"\",\"\",DATOS!CE258)","v":""},{"$f":"IF(DATOS!CF258=\"\",\"\",DATOS!CF258)","v":""},{"$f":"IF(DATOS!T258=\"\",\"\",DATOS!T258)","v":""},{"$f":"IF(DATOS!AP258=\"\",\"\",DATOS!AP258)","v":""}]
[{"$f":"IF(DATOS!B259=\"\",\"\",DATOS!B259)","v":""},{"$f":"IF(DATOS!BU259=\"\",\"\",DATOS!BU259)","v":""},{"$f":"IF(DATOS!CE259=\"\",\"\",DATOS!CE259)","v":""},{"$f":"IF(DATOS!CF259=\"\",\"\",DATOS!CF259)","v":""},{"$f":"IF(DATOS!T259=\"\",\"\",DATOS!T259)","v":""},{"$f":"IF(DATOS!AP259=\"\",\"\",DATOS!AP259)","v":""}]
[{"$f":"IF(DATOS!B260=\"\",\"\",DATOS!B260)","v":""},{"$f":"IF(DATOS!BU260=\"\",\"\",DATOS!BU260)","v":""},{"$f":"IF(DATOS!CE260=\"\",\"\",DATOS!CE260)","v":""},{"$f":"IF(DATOS!CF260=\"\",\"\",DATOS!CF260)","v":""},{"$f":"IF(DATOS!T260=\"\",\"\",DATOS!T260)","v":""},{"$f":"IF(DATOS!AP260=\"\",\"\",DATOS!AP260)","v":""}]
[{"$f":"IF(DATOS!B261=\"\",\"\",DATOS!B261)","v":""},{"$f":"IF(DATOS!BU261=\"\",\"\",DATOS!BU261)","v":""},{"$f":"IF(DATOS!CE261=\"\",\"\",DATOS!CE261)","v":""},{"$f":"IF(DATOS!CF261=\"\",\"\",DATOS!CF261)","v":""},{"$f":"IF(DATOS!T261=\"\",\"\",DATOS!T261)","v":""},{"$f":"IF(DATOS!AP261=\"\",\"\",DATOS!AP261)","v":""}]
[{"$f":"IF(DATOS!B262=\"\",\"\",DATOS!B262)","v":""},{"$f":"IF(DATOS!BU262=\"\",\"\",DATOS!BU262)","v":""},{"$f":"IF(DATOS!CE262=\"\",\"\",DATOS!CE262)","v":""},{"$f":"IF(DATOS!CF262=\"\",\"\",DATOS!CF262)","v":""},{"$f":"IF(DATOS!T262=\"\",\"\",DATOS!T262)","v":""},{"$f":"IF(DATOS!AP262=\"\",\"\",DATOS!AP262)","v":""}]
[{"$f":"IF(DATOS!B263=\"\",\"\",DATOS!B263)","v":""},{"$f":"IF(DATOS!BU263=\"\",\"\",DATOS!BU263)","v":""},{"$f":"IF(DATOS!CE263=\"\",\"\",DATOS!CE263)","v":""},{"$f":"IF(DATOS!CF263=\"\",\"\",DATOS!CF263)","v":""},{"$f":"IF(DATOS!T263=\"\",\"\",DATOS!T263)","v":""},{"$f":"IF(DATOS!AP263=\"\",\"\",DATOS!AP263)","v":""}]
[{"$f":"IF(DATOS!B264=\"\",\"\",DATOS!B264)","v":""},{"$f":"IF(DATOS!BU264=\"\",\"\",DATOS!BU264)","v":""},{"$f":"IF(DATOS!CE264=\"\",\"\",DATOS!CE264)","v":""},{"$f":"IF(DATOS!CF264=\"\",\"\",DATOS!CF264)","v":""},{"$f":"IF(DATOS!T264=\"\",\"\",DATOS!T264)","v":""},{"$f":"IF(DATOS!AP264=\"\",\"\",DATOS!AP264)","v":""}]
[{"$f":"IF(DATOS!B265=\"\",\"\",DATOS!B265)","v":""},{"$f":"IF(DATOS!BU265=\"\",\"\",DATOS!BU265)","v":""},{"$f":"IF(DATOS!CE265=\"\",\"\",DATOS!CE265)","v":""},{"$f":"IF(DATOS!CF265=\"\",\"\",DATOS!CF265)","v":""},{"$f":"IF(DATOS!T265=\"\",\"\",DATOS!T265)","v":""},{"$f":"IF(DATOS!AP265=\"\",\"\",DATOS!AP265)","v":""}]
[{"$f":"IF(DATOS!B266=\"\",\"\",DATOS!B266)","v":""},{"$f":"IF(DATOS!BU266=\"\",\"\",DATOS!BU266)","v":""},{"$f":"IF(DATOS!CE266=\"\",\"\",DATOS!CE266)","v":""},{"$f":"IF(DATOS!CF266=\"\",\"\",DATOS!CF266)","v":""},{"$f":"IF(DATOS!T266=\"\",\"\",DATOS!T266)","v":""},{"$f":"IF(DATOS!AP266=\"\",\"\",DATOS!AP266)","v":""}]
[{"$f":"IF(DATOS!B267=\"\",\"\",DATOS!B267)","v":""},{"$f":"IF(DATOS!BU267=\"\",\"\",DATOS!BU267)","v":""},{"$f":"IF(DATOS!CE267=\"\",\"\",DATOS!CE267)","v":""},{"$f":"IF(DATOS!CF267=\"\",\"\",DATOS!CF267)","v":""},{"$f":"IF(DATOS!T267=\"\",\"\",DATOS!T267)","v":""},{"$f":"IF(DATOS!AP267=\"\",\"\",DATOS!AP267)","v":""}]
[{"$f":"IF(DATOS!B268=\"\",\"\",DATOS!B268)","v":""},{"$f":"IF(DATOS!BU268=\"\",\"\",DATOS!BU268)","v":""},{"$f":"IF(DATOS!CE268=\"\",\"\",DATOS!CE268)","v":""},{"$f":"IF(DATOS!CF268=\"\",\"\",DATOS!CF268)","v":""},{"$f":"IF(DATOS!T268=\"\",\"\",DATOS!T268)","v":""},{"$f":"IF(DATOS!AP268=\"\",\"\",DATOS!AP268)","v":""}]
[{"$f":"IF(DATOS!B269=\"\",\"\",DATOS!B269)","v":""},{"$f":"IF(DATOS!BU269=\"\",\"\",DATOS!BU269)","v":""},{"$f":"IF(DATOS!CE269=\"\",\"\",DATOS!CE269)","v":""},{"$f":"IF(DATOS!CF269=\"\",\"\",DATOS!CF269)","v":""},{"$f":"IF(DATOS!T269=\"\",\"\",DATOS!T269)","v":""},{"$f":"IF(DATOS!AP269=\"\",\"\",DATOS!AP269)","v":""}]
[{"$f":"IF(DATOS!B270=\"\",\"\",DATOS!B270)","v":""},{"$f":"IF(DATOS!BU270=\"\",\"\",DATOS!BU270)","v":""},{"$f":"IF(DATOS!CE270=\"\",\"\",DATOS!CE270)","v":""},{"$f":"IF(DATOS!CF270=\"\",\"\",DATOS!CF270)","v":""},{"$f":"IF(DATOS!T270=\"\",\"\",DATOS!T270)","v":""},{"$f":"IF(DATOS!AP270=\"\",\"\",DATOS!AP270)","v":""}]
[{"$f":"IF(DATOS!B271=\"\",\"\",DATOS!B271)","v":""},{"$f":"IF(DATOS!BU271=\"\",\"\",DATOS!BU271)","v":""},{"$f":"IF(DATOS!CE271=\"\",\"\",DATOS!CE271)","v":""},{"$f":"IF(DATOS!CF271=\"\",\"\",DATOS!CF271)","v":""},{"$f":"IF(DATOS!T271=\"\",\"\",DATOS!T271)","v":""},{"$f":"IF(DATOS!AP271=\"\",\"\",DATOS!AP271)","v":""}]
[{"$f":"IF(DATOS!B272=\"\",\"\",DATOS!B272)","v":""},{"$f":"IF(DATOS!BU272=\"\",\"\",DATOS!BU272)","v":""},{"$f":"IF(DATOS!CE272=\"\",\"\",DATOS!CE272)","v":""},{"$f":"IF(DATOS!CF272=\"\",\"\",DATOS!CF272)","v":""},{"$f":"IF(DATOS!T272=\"\",\"\",DATOS!T272)","v":""},{"$f":"IF(DATOS!AP272=\"\",\"\",DATOS!AP272)","v":""}]
[{"$f":"IF(DATOS!B273=\"\",\"\",DATOS!B273)","v":""},{"$f":"IF(DATOS!BU273=\"\",\"\",DATOS!BU273)","v":""},{"$f":"IF(DATOS!CE273=\"\",\"\",DATOS!CE273)","v":""},{"$f":"IF(DATOS!CF273=\"\",\"\",DATOS!CF273)","v":""},{"$f":"IF(DATOS!T273=\"\",\"\",DATOS!T273)","v":""},{"$f":"IF(DATOS!AP273=\"\",\"\",DATOS!AP273)","v":""}]
[{"$f":"IF(DATOS!B274=\"\",\"\",DATOS!B274)","v":""},{"$f":"IF(DATOS!BU274=\"\",\"\",DATOS!BU274)","v":""},{"$f":"IF(DATOS!CE274=\"\",\"\",DATOS!CE274)","v":""},{"$f":"IF(DATOS!CF274=\"\",\"\",DATOS!CF274)","v":""},{"$f":"IF(DATOS!T274=\"\",\"\",DATOS!T274)","v":""},{"$f":"IF(DATOS!AP274=\"\",\"\",DATOS!AP274)","v":""}]
[{"$f":"IF(DATOS!B275=\"\",\"\",DATOS!B275)","v":""},{"$f":"IF(DATOS!BU275=\"\",\"\",DATOS!BU275)","v":""},{"$f":"IF(DATOS!CE275=\"\",\"\",DATOS!CE275)","v":""},{"$f":"IF(DATOS!CF275=\"\",\"\",DATOS!CF275)","v":""},{"$f":"IF(DATOS!T275=\"\",\"\",DATOS!T275)","v":""},{"$f":"IF(DATOS!AP275=\"\",\"\",DATOS!AP275)","v":""}]
[{"$f":"IF(DATOS!B276=\"\",\"\",DATOS!B276)","v":""},{"$f":"IF(DATOS!BU276=\"\",\"\",DATOS!BU276)","v":""},{"$f":"IF(DATOS!CE276=\"\",\"\",DATOS!CE276)","v":""},{"$f":"IF(DATOS!CF276=\"\",\"\",DATOS!CF276)","v":""},{"$f":"IF(DATOS!T276=\"\",\"\",DATOS!T276)","v":""},{"$f":"IF(DATOS!AP276=\"\",\"\",DATOS!AP276)","v":""}]
[{"$f":"IF(DATOS!B277=\"\",\"\",DATOS!B277)","v":""},{"$f":"IF(DATOS!BU277=\"\",\"\",DATOS!BU277)","v":""},{"$f":"IF(DATOS!CE277=\"\",\"\",DATOS!CE277)","v":""},{"$f":"IF(DATOS!CF277=\"\",\"\",DATOS!CF277)","v":""},{"$f":"IF(DATOS!T277=\"\",\"\",DATOS!T277)","v":""},{"$f":"IF(DATOS!AP277=\"\",\"\",DATOS!AP277)","v":""}]
[{"$f":"IF(DATOS!B278=\"\",\"\",DATOS!B278)","v":""},{"$f":"IF(DATOS!BU278=\"\",\"\",DATOS!BU278)","v":""},{"$f":"IF(DATOS!CE278=\"\",\"\",DATOS!CE278)","v":""},{"$f":"IF(DATOS!CF278=\"\",\"\",DATOS!CF278)","v":""},{"$f":"IF(DATOS!T278=\"\",\"\",DATOS!T278)","v":""},{"$f":"IF(DATOS!AP278=\"\",\"\",DATOS!AP278)","v":""}]
[{"$f":"IF(DATOS!B279=\"\",\"\",DATOS!B279)","v":""},{"$f":"IF(DATOS!BU279=\"\",\"\",DATOS!BU279)","v":""},{"$f":"IF(DATOS!CE279=\"\",\"\",DATOS!CE279)","v":""},{"$f":"IF(DATOS!CF279=\"\",\"\",DATOS!CF279)","v":""},{"$f":"IF(DATOS!T279=\"\",\"\",DATOS!T279)","v":""},{"$f":"IF(DATOS!AP279=\"\",\"\",DATOS!AP279)","v":""}]
[{"$f":"IF(DATOS!B280=\"\",\"\",DATOS!B280)","v":""},{"$f":"IF(DATOS!BU280=\"\",\"\",DATOS!BU280)","v":""},{"$f":"IF(DATOS!CE280=\"\",\"\",DATOS!CE280)","v":""},{"$f":"IF(DATOS!CF280=\"\",\"\",DATOS!CF280)","v":""},{"$f":"IF(DATOS!T280=\"\",\"\",DATOS!T280)","v":""},{"$f":"IF(DATOS!AP280=\"\",\"\",DATOS!AP280)","v":""}]
[{"$f":"IF(DATOS!B281=\"\",\"\",DATOS!B281)","v":""},{"$f":"IF(DATOS!BU281=\"\",\"\",DATOS!BU281)","v":""},{"$f":"IF(DATOS!CE281=\"\",\"\",DATOS!CE281)","v":""},{"$f":"IF(DATOS!CF281=\"\",\"\",DATOS!CF281)","v":""},{"$f":"IF(DATOS!T281=\"\",\"\",DATOS!T281)","v":""},{"$f":"IF(DATOS!AP281=\"\",\"\",DATOS!AP281)","v":""}]
[{"$f":"IF(DATOS!B282=\"\",\"\",DATOS!B282)","v":""},{"$f":"IF(DATOS!BU282=\"\",\"\",DATOS!BU282)","v":""},{"$f":"IF(DATOS!CE282=\"\",\"\",DATOS!CE282)","v":""},{"$f":"IF(DATOS!CF282=\"\",\"\",DATOS!CF282)","v":""},{"$f":"IF(DATOS!T282=\"\",\"\",DATOS!T282)","v":""},{"$f":"IF(DATOS!AP282=\"\",\"\",DATOS!AP282)","v":""}]
[{"$f":"IF(DATOS!B283=\"\",\"\",DATOS!B283)","v":""},{"$f":"IF(DATOS!BU283=\"\",\"\",DATOS!BU283)","v":""},{"$f":"IF(DATOS!CE283=\"\",\"\",DATOS!CE283)","v":""},{"$f":"IF(DATOS!CF283=\"\",\"\",DATOS!CF283)","v":""},{"$f":"IF(DATOS!T283=\"\",\"\",DATOS!T283)","v":""},{"$f":"IF(DATOS!AP283=\"\",\"\",DATOS!AP283)","v":""}]
[{"$f":"IF(DATOS!B284=\"\",\"\",DATOS!B284)","v":""},{"$f":"IF(DATOS!BU284=\"\",\"\",DATOS!BU284)","v":""},{"$f":"IF(DATOS!CE284=\"\",\"\",DATOS!CE284)","v":""},{"$f":"IF(DATOS!CF284=\"\",\"\",DATOS!CF284)","v":""},{"$f":"IF(DATOS!T284=\"\",\"\",DATOS!T284)","v":""},{"$f":"IF(DATOS!AP284=\"\",\"\",DATOS!AP284)","v":""}]
[{"$f":"IF(DATOS!B285=\"\",\"\",DATOS!B285)","v":""},{"$f":"IF(DATOS!BU285=\"\",\"\",DATOS!BU285)","v":""},{"$f":"IF(DATOS!CE285=\"\",\"\",DATOS!CE285)","v":""},{"$f":"IF(DATOS!CF285=\"\",\"\",DATOS!CF285)","v":""},{"$f":"IF(DATOS!T285=\"\",\"\",DATOS!T285)","v":""},{"$f":"IF(DATOS!AP285=\"\",\"\",DATOS!AP285)","v":""}]
[{"$f":"IF(DATOS!B286=\"\",\"\",DATOS!B286)","v":""},{"$f":"IF(DATOS!BU286=\"\",\"\",DATOS!BU286)","v":""},{"$f":"IF(DATOS!CE286=\"\",\"\",DATOS!CE286)","v":""},{"$f":"IF(DATOS!CF286=\"\",\"\",DATOS!CF286)","v":""},{"$f":"IF(DATOS!T286=\"\",\"\",DATOS!T286)","v":""},{"$f":"IF(DATOS!AP286=\"\",\"\",DATOS!AP286)","v":""}]
[{"$f":"IF(DATOS!B287=\"\",\"\",DATOS!B287)","v":""},{"$f":"IF(DATOS!BU287=\"\",\"\",DATOS!BU287)","v":""},{"$f":"IF(DATOS!CE287=\"\",\"\",DATOS!CE287)","v":""},{"$f":"IF(DATOS!CF287=\"\",\"\",DATOS!CF287)","v":""},{"$f":"IF(DATOS!T287=\"\",\"\",DATOS!T287)","v":""},{"$f":"IF(DATOS!AP287=\"\",\"\",DATOS!AP287)","v":""}]
[{"$f":"IF(DATOS!B288=\"\",\"\",DATOS!B288)","v":""},{"$f":"IF(DATOS!BU288=\"\",\"\",DATOS!BU288)","v":""},{"$f":"IF(DATOS!CE288=\"\",\"\",DATOS!CE288)","v":""},{"$f":"IF(DATOS!CF288=\"\",\"\",DATOS!CF288)","v":""},{"$f":"IF(DATOS!T288=\"\",\"\",DATOS!T288)","v":""},{"$f":"IF(DATOS!AP288=\"\",\"\",DATOS!AP288)","v":""}]
[{"$f":"IF(DATOS!B289=\"\",\"\",DATOS!B289)","v":""},{"$f":"IF(DATOS!BU289=\"\",\"\",DATOS!BU289)","v":""},{"$f":"IF(DATOS!CE289=\"\",\"\",DATOS!CE289)","v":""},{"$f":"IF(DATOS!CF289=\"\",\"\",DATOS!CF289)","v":""},{"$f":"IF(DATOS!T289=\"\",\"\",DATOS!T289)","v":""},{"$f":"IF(DATOS!AP289=\"\",\"\",DATOS!AP289)","v":""}]
[{"$f":"IF(DATOS!B290=\"\",\"\",DATOS!B290)","v":""},{"$f":"IF(DATOS!BU290=\"\",\"\",DATOS!BU290)","v":""},{"$f":"IF(DATOS!CE290=\"\",\"\",DATOS!CE290)","v":""},{"$f":"IF(DATOS!CF290=\"\",\"\",DATOS!CF290)","v":""},{"$f":"IF(DATOS!T290=\"\",\"\",DATOS!T290)","v":""},{"$f":"IF(DATOS!AP290=\"\",\"\",DATOS!AP290)","v":""}]
[{"$f":"IF(DATOS!B291=\"\",\"\",DATOS!B291)","v":""},{"$f":"IF(DATOS!BU291=\"\",\"\",DATOS!BU291)","v":""},{"$f":"IF(DATOS!CE291=\"\",\"\",DATOS!CE291)","v":""},{"$f":"IF(DATOS!CF291=\"\",\"\",DATOS!CF291)","v":""},{"$f":"IF(DATOS!T291=\"\",\"\",DATOS!T291)","v":""},{"$f":"IF(DATOS!AP291=\"\",\"\",DATOS!AP291)","v":""}]
[{"$f":"IF(DATOS!B292=\"\",\"\",DATOS!B292)","v":""},{"$f":"IF(DATOS!BU292=\"\",\"\",DATOS!BU292)","v":""},{"$f":"IF(DATOS!CE292=\"\",\"\",DATOS!CE292)","v":""},{"$f":"IF(DATOS!CF292=\"\",\"\",DATOS!CF292)","v":""},{"$f":"IF(DATOS!T292=\"\",\"\",DATOS!T292)","v":""},{"$f":"IF(DATOS!AP292=\"\",\"\",DATOS!AP292)","v":""}]
[{"$f":"IF(DATOS!B293=\"\",\"\",DATOS!B293)","v":""},{"$f":"IF(DATOS!BU293=\"\",\"\",DATOS!BU293)","v":""},{"$f":"IF(DATOS!CE293=\"\",\"\",DATOS!CE293)","v":""},{"$f":"IF(DATOS!CF293=\"\",\"\",DATOS!CF293)","v":""},{"$f":"IF(DATOS!T293=\"\",\"\",DATOS!T293)","v":""},{"$f":"IF(DATOS!AP293=\"\",\"\",DATOS!AP293)","v":""}]
[{"$f":"IF(DATOS!B294=\"\",\"\",DATOS!B294)","v":""},{"$f":"IF(DATOS!BU294=\"\",\"\",DATOS!BU294)","v":""},{"$f":"IF(DATOS!CE294=\"\",\"\",DATOS!CE294)","v":""},{"$f":"IF(DATOS!CF294=\"\",\"\",DATOS!CF294)","v":""},{"$f":"IF(DATOS!T294=\"\",\"\",DATOS!T294)","v":""},{"$f":"IF(DATOS!AP294=\"\",\"\",DATOS!AP294)","v":""}]
[{"$f":"IF(DATOS!B295=\"\",\"\",DATOS!B295)","v":""},{"$f":"IF(DATOS!BU295=\"\",\"\",DATOS!BU295)","v":""},{"$f":"IF(DATOS!CE295=\"\",\"\",DATOS!CE295)","v":""},{"$f":"IF(DATOS!CF295=\"\",\"\",DATOS!CF295)","v":""},{"$f":"IF(DATOS!T295=\"\",\"\",DATOS!T295)","v":""},{"$f":"IF(DATOS!AP295=\"\",\"\",DATOS!AP295)","v":""}]
[{"$f":"IF(DATOS!B296=\"\",\"\",DATOS!B296)","v":""},{"$f":"IF(DATOS!BU296=\"\",\"\",DATOS!BU296)","v":""},{"$f":"IF(DATOS!CE296=\"\",\"\",DATOS!CE296)","v":""},{"$f":"IF(DATOS!CF296=\"\",\"\",DATOS!CF296)","v":""},{"$f":"IF(DATOS!T296=\"\",\"\",DATOS!T296)","v":""},{"$f":"IF(DATOS!AP296=\"\",\"\",DATOS!AP296)","v":""}]
[{"$f":"IF(DATOS!B297=\"\",\"\",DATOS!B297)","v":""},{"$f":"IF(DATOS!BU297=\"\",\"\",DATOS!BU297)","v":""},{"$f":"IF(DATOS!CE297=\"\",\"\",DATOS!CE297)","v":""},{"$f":"IF(DATOS!CF297=\"\",\"\",DATOS!CF297)","v":""},{"$f":"IF(DATOS!T297=\"\",\"\",DATOS!T297)","v":""},{"$f":"IF(DATOS!AP297=\"\",\"\",DATOS!AP297)","v":""}]
[{"$f":"IF(DATOS!B298=\"\",\"\",DATOS!B298)","v":""},{"$f":"IF(DATOS!BU298=\"\",\"\",DATOS!BU298)","v":""},{"$f":"IF(DATOS!CE298=\"\",\"\",DATOS!CE298)","v":""},{"$f":"IF(DATOS!CF298=\"\",\"\",DATOS!CF298)","v":""},{"$f":"IF(DATOS!T298=\"\",\"\",DATOS!T298)","v":""},{"$f":"IF(DATOS!AP298=\"\",\"\",DATOS!AP298)","v":""}]
[{"$f":"IF(DATOS!B299=\"\",\"\",DATOS!B299)","v":""},{"$f":"IF(DATOS!BU299=\"\",\"\",DATOS!BU299)","v":""},{"$f":"IF(DATOS!CE299=\"\",\"\",DATOS!CE299)","v":""},{"$f":"IF(DATOS!CF299=\"\",\"\",DATOS!CF299)","v":""},{"$f":"IF(DATOS!T299=\"\",\"\",DATOS!T299)","v":""},{"$f":"IF(DATOS!AP299=\"\",\"\",DATOS!AP299)","v":""}]
[{"$f":"IF(DATOS!B300=\"\",\"\",DATOS!B300)","v":""},{"$f":"IF(DATOS!BU300=\"\",\"\",DATOS!BU300)","v":""},{"$f":"IF(DATOS!CE300=\"\",\"\",DATOS!CE300)","v":""},{"$f":"IF(DATOS!CF300=\"\",\"\",DATOS!CF300)","v":""},{"$f":"IF(DATOS!T300=\"\",\"\",DATOS!T300)","v":""},{"$f":"IF(DATOS!AP300=\"\",\"\",DATOS!AP300)","v":""}]
[{"$f":"IF(DATOS!B301=\"\",\"\",DATOS!B301)","v":""},{"$f":"IF(DATOS!BU301=\"\",\"\",DATOS!BU301)","v":""},{"$f":"IF(DATOS!CE301=\"\",\"\",DATOS!CE301)","v":""},{"$f":"IF(DATOS!CF301=\"\",\"\",DATOS!CF301)","v":""},{"$f":"IF(DATOS!T301=\"\",\"\",DATOS!T301)","v":""},{"$f":"IF(DATOS!AP301=\"\",\"\",DATOS!AP301)","v":""}]
[{"$f":"IF(DATOS!B302=\"\",\"\",DATOS!B302)","v":""},{"$f":"IF(DATOS!BU302=\"\",\"\",DATOS!BU302)","v":""},{"$f":"IF(DATOS!CE302=\"\",\"\",DATOS!CE302)","v":""},{"$f":"IF(DATOS!CF302=\"\",\"\",DATOS!CF302)","v":""},{"$f":"IF(DATOS!T302=\"\",\"\",DATOS!T302)","v":""},{"$f":"IF(DATOS!AP302=\"\",\"\",DATOS!AP302)","v":""}]
[{"$f":"IF(DATOS!B303=\"\",\"\",DATOS!B303)","v":""},{"$f":"IF(DATOS!BU303=\"\",\"\",DATOS!BU303)","v":""},{"$f":"IF(DATOS!CE303=\"\",\"\",DATOS!CE303)","v":""},{"$f":"IF(DATOS!CF303=\"\",\"\",DATOS!CF303)","v":""},{"$f":"IF(DATOS!T303=\"\",\"\",DATOS!T303)","v":""},{"$f":"IF(DATOS!AP303=\"\",\"\",DATOS!AP303)","v":""}]
[{"$f":"IF(DATOS!B304=\"\",\"\",DATOS!B304)","v":""},{"$f":"IF(DATOS!BU304=\"\",\"\",DATOS!BU304)","v":""},{"$f":"IF(DATOS!CE304=\"\",\"\",DATOS!CE304)","v":""},{"$f":"IF(DATOS!CF304=\"\",\"\",DATOS!CF304)","v":""},{"$f":"IF(DATOS!T304=\"\",\"\",DATOS!T304)","v":""},{"$f":"IF(DATOS!AP304=\"\",\"\",DATOS!AP304)","v":""}]
[{"$f":"IF(DATOS!B305=\"\",\"\",DATOS!B305)","v":""},{"$f":"IF(DATOS!BU305=\"\",\"\",DATOS!BU305)","v":""},{"$f":"IF(DATOS!CE305=\"\",\"\",DATOS!CE305)","v":""},{"$f":"IF(DATOS!CF305=\"\",\"\",DATOS!CF305)","v":""},{"$f":"IF(DATOS!T305=\"\",\"\",DATOS!T305)","v":""},{"$f":"IF(DATOS!AP305=\"\",\"\",DATOS!AP305)","v":""}]
[{"$f":"IF(DATOS!B306=\"\",\"\",DATOS!B306)","v":""},{"$f":"IF(DATOS!BU306=\"\",\"\",DATOS!BU306)","v":""},{"$f":"IF(DATOS!CE306=\"\",\"\",DATOS!CE306)","v":""},{"$f":"IF(DATOS!CF306=\"\",\"\",DATOS!CF306)","v":""},{"$f":"IF(DATOS!T306=\"\",\"\",DATOS!T306)","v":""},{"$f":"IF(DATOS!AP306=\"\",\"\",DATOS!AP306)","v":""}]
[{"$f":"IF(DATOS!B307=\"\",\"\",DATOS!B307)","v":""},{"$f":"IF(DATOS!BU307=\"\",\"\",DATOS!BU307)","v":""},{"$f":"IF(DATOS!CE307=\"\",\"\",DATOS!CE307)","v":""},{"$f":"IF(DATOS!CF307=\"\",\"\",DATOS!CF307)","v":""},{"$f":"IF(DATOS!T307=\"\",\"\",DATOS!T307)","v":""},{"$f":"IF(DATOS!AP307=\"\",\"\",DATOS!AP307)","v":""}]
[{"$f":"IF(DATOS!B308=\"\",\"\",DATOS!B308)","v":""},{"$f":"IF(DATOS!BU308=\"\",\"\",DATOS!BU308)","v":""},{"$f":"IF(DATOS!CE308=\"\",\"\",DATOS!CE308)","v":""},{"$f":"IF(DATOS!CF308=\"\",\"\",DATOS!CF308)","v":""},{"$f":"IF(DATOS!T308=\"\",\"\",DATOS!T308)","v":""},{"$f":"IF(DATOS!AP308=\"\",\"\",DATOS!AP308)","v":""}]
[{"$f":"IF(DATOS!B309=\"\",\"\",DATOS!B309)","v":""},{"$f":"IF(DATOS!BU309=\"\",\"\",DATOS!BU309)","v":""},{"$f":"IF(DATOS!CE309=\"\",\"\",DATOS!CE309)","v":""},{"$f":"IF(DATOS!CF309=\"\",\"\",DATOS!CF309)","v":""},{"$f":"IF(DATOS!T309=\"\",\"\",DATOS!T309)","v":""},{"$f":"IF(DATOS!AP309=\"\",\"\",DATOS!AP309)","v":""}]
[{"$f":"IF(DATOS!B310=\"\",\"\",DATOS!B310)","v":""},{"$f":"IF(DATOS!BU310=\"\",\"\",DATOS!BU310)","v":""},{"$f":"IF(DATOS!CE310=\"\",\"\",DATOS!CE310)","v":""},{"$f":"IF(DATOS!CF310=\"\",\"\",DATOS!CF310)","v":""},{"$f":"IF(DATOS!T310=\"\",\"\",DATOS!T310)","v":""},{"$f":"IF(DATOS!AP310=\"\",\"\",DATOS!AP310)","v":""}]
[{"$f":"IF(DATOS!B311=\"\",\"\",DATOS!B311)","v":""},{"$f":"IF(DATOS!BU311=\"\",\"\",DATOS!BU311)","v":""},{"$f":"IF(DATOS!CE311=\"\",\"\",DATOS!CE311)","v":""},{"$f":"IF(DATOS!CF311=\"\",\"\",DATOS!CF311)","v":""},{"$f":"IF(DATOS!T311=\"\",\"\",DATOS!T311)","v":""},{"$f":"IF(DATOS!AP311=\"\",\"\",DATOS!AP311)","v":""}]
[{"$f":"IF(DATOS!B312=\"\",\"\",DATOS!B312)","v":""},{"$f":"IF(DATOS!BU312=\"\",\"\",DATOS!BU312)","v":""},{"$f":"IF(DATOS!CE312=\"\",\"\",DATOS!CE312)","v":""},{"$f":"IF(DATOS!CF312=\"\",\"\",DATOS!CF312)","v":""},{"$f":"IF(DATOS!T312=\"\",\"\",DATOS!T312)","v":""},{"$f":"IF(DATOS!AP312=\"\",\"\",DATOS!AP312)","v":""}]
[{"$f":"IF(DATOS!B313=\"\",\"\",DATOS!B313)","v":""},{"$f":"IF(DATOS!BU313=\"\",\"\",DATOS!BU313)","v":""},{"$f":"IF(DATOS!CE313=\"\",\"\",DATOS!CE313)","v":""},{"$f":"IF(DATOS!CF313=\"\",\"\",DATOS!CF313)","v":""},{"$f":"IF(DATOS!T313=\"\",\"\",DATOS!T313)","v":""},{"$f":"IF(DATOS!AP313=\"\",\"\",DATOS!AP313)","v":""}]
[{"$f":"IF(DATOS!B314=\"\",\"\",DATOS!B314)","v":""},{"$f":"IF(DATOS!BU314=\"\",\"\",DATOS!BU314)","v":""},{"$f":"IF(DATOS!CE314=\"\",\"\",DATOS!CE314)","v":""},{"$f":"IF(DATOS!CF314=\"\",\"\",DATOS!CF314)","v":""},{"$f":"IF(DATOS!T314=\"\",\"\",DATOS!T314)","v":""},{"$f":"IF(DATOS!AP314=\"\",\"\",DATOS!AP314)","v":""}]
[{"$f":"IF(DATOS!B315=\"\",\"\",DATOS!B315)","v":""},{"$f":"IF(DATOS!BU315=\"\",\"\",DATOS!BU315)","v":""},{"$f":"IF(DATOS!CE315=\"\",\"\",DATOS!CE315)","v":""},{"$f":"IF(DATOS!CF315=\"\",\"\",DATOS!CF315)","v":""},{"$f":"IF(DATOS!T315=\"\",\"\",DATOS!T315)","v":""},{"$f":"IF(DATOS!AP315=\"\",\"\",DATOS!AP315)","v":""}]
[{"$f":"IF(DATOS!B316=\"\",\"\",DATOS!B316)","v":""},{"$f":"IF(DATOS!BU316=\"\",\"\",DATOS!BU316)","v":""},{"$f":"IF(DATOS!CE316=\"\",\"\",DATOS!CE316)","v":""},{"$f":"IF(DATOS!CF316=\"\",\"\",DATOS!CF316)","v":""},{"$f":"IF(DATOS!T316=\"\",\"\",DATOS!T316)","v":""},{"$f":"IF(DATOS!AP316=\"\",\"\",DATOS!AP316)","v":""}]
[{"$f":"IF(DATOS!B317=\"\",\"\",DATOS!B317)","v":""},{"$f":"IF(DATOS!BU317=\"\",\"\",DATOS!BU317)","v":""},{"$f":"IF(DATOS!CE317=\"\",\"\",DATOS!CE317)","v":""},{"$f":"IF(DATOS!CF317=\"\",\"\",DATOS!CF317)","v":""},{"$f":"IF(DATOS!T317=\"\",\"\",DATOS!T317)","v":""},{"$f":"IF(DATOS!AP317=\"\",\"\",DATOS!AP317)","v":""}]
[{"$f":"IF(DATOS!B318=\"\",\"\",DATOS!B318)","v":""},{"$f":"IF(DATOS!BU318=\"\",\"\",DATOS!BU318)","v":""},{"$f":"IF(DATOS!CE318=\"\",\"\",DATOS!CE318)","v":""},{"$f":"IF(DATOS!CF318=\"\",\"\",DATOS!CF318)","v":""},{"$f":"IF(DATOS!T318=\"\",\"\",DATOS!T318)","v":""},{"$f":"IF(DATOS!AP318=\"\",\"\",DATOS!AP318)","v":""}]
[{"$f":"IF(DATOS!B319=\"\",\"\",DATOS!B319)","v":""},{"$f":"IF(DATOS!BU319=\"\",\"\",DATOS!BU319)","v":""},{"$f":"IF(DATOS!CE319=\"\",\"\",DATOS!CE319)","v":""},{"$f":"IF(DATOS!CF319=\"\",\"\",DATOS!CF319)","v":""},{"$f":"IF(DATOS!T319=\"\",\"\",DATOS!T319)","v":""},{"$f":"IF(DATOS!AP319=\"\",\"\",DATOS!AP319)","v":""}]
[{"$f":"IF(DATOS!B320=\"\",\"\",DATOS!B320)","v":""},{"$f":"IF(DATOS!BU320=\"\",\"\",DATOS!BU320)","v":""},{"$f":"IF(DATOS!CE320=\"\",\"\",DATOS!CE320)","v":""},{"$f":"IF(DATOS!CF320=\"\",\"\",DATOS!CF320)","v":""},{"$f":"IF(DATOS!T320=\"\",\"\",DATOS!T320)","v":""},{"$f":"IF(DATOS!AP320=\"\",\"\",DATOS!AP320)","v":""}]
[{"$f":"IF(DATOS!B321=\"\",\"\",DATOS!B321)","v":""},{"$f":"IF(DATOS!BU321=\"\",\"\",DATOS!BU321)","v":""},{"$f":"IF(DATOS!CE321=\"\",\"\",DATOS!CE321)","v":""},{"$f":"IF(DATOS!CF321=\"\",\"\",DATOS!CF321)","v":""},{"$f":"IF(DATOS!T321=\"\",\"\",DATOS!T321)","v":""},{"$f":"IF(DATOS!AP321=\"\",\"\",DATOS!AP321)","v":""}]
[{"$f":"IF(DATOS!B322=\"\",\"\",DATOS!B322)","v":""},{"$f":"IF(DATOS!BU322=\"\",\"\",DATOS!BU322)","v":""},{"$f":"IF(DATOS!CE322=\"\",\"\",DATOS!CE322)","v":""},{"$f":"IF(DATOS!CF322=\"\",\"\",DATOS!CF322)","v":""},{"$f":"IF(DATOS!T322=\"\",\"\",DATOS!T322)","v":""},{"$f":"IF(DATOS!AP322=\"\",\"\",DATOS!AP322)","v":""}]
[{"$f":"IF(DATOS!B323=\"\",\"\",DATOS!B323)","v":""},{"$f":"IF(DATOS!BU323=\"\",\"\",DATOS!BU323)","v":""},{"$f":"IF(DATOS!CE323=\"\",\"\",DATOS!CE323)","v":""},{"$f":"IF(DATOS!CF323=\"\",\"\",DATOS!CF323)","v":""},{"$f":"IF(DATOS!T323=\"\",\"\",DATOS!T323)","v":""},{"$f":"IF(DATOS!AP323=\"\",\"\",DATOS!AP323)","v":""}]
[{"$f":"IF(DATOS!B324=\"\",\"\",DATOS!B324)","v":""},{"$f":"IF(DATOS!BU324=\"\",\"\",DATOS!BU324)","v":""},{"$f":"IF(DATOS!CE324=\"\",\"\",DATOS!CE324)","v":""},{"$f":"IF(DATOS!CF324=\"\",\"\",DATOS!CF324)","v":""},{"$f":"IF(DATOS!T324=\"\",\"\",DATOS!T324)","v":""},{"$f":"IF(DATOS!AP324=\"\",\"\",DATOS!AP324)","v":""}]
[{"$f":"IF(DATOS!B325=\"\",\"\",DATOS!B325)","v":""},{"$f":"IF(DATOS!BU325=\"\",\"\",DATOS!BU325)","v":""},{"$f":"IF(DATOS!CE325=\"\",\"\",DATOS!CE325)","v":""},{"$f":"IF(DATOS!CF325=\"\",\"\",DATOS!CF325)","v":""},{"$f":"IF(DATOS!T325=\"\",\"\",DATOS!T325)","v":""},{"$f":"IF(DATOS!AP325=\"\",\"\",DATOS!AP325)","v":""}]
[{"$f":"IF(DATOS!B326=\"\",\"\",DATOS!B326)","v":""},{"$f":"IF(DATOS!BU326=\"\",\"\",DATOS!BU326)","v":""},{"$f":"IF(DATOS!CE326=\"\",\"\",DATOS!CE326)","v":""},{"$f":"IF(DATOS!CF326=\"\",\"\",DATOS!CF326)","v":""},{"$f":"IF(DATOS!T326=\"\",\"\",DATOS!T326)","v":""},{"$f":"IF(DATOS!AP326=\"\",\"\",DATOS!AP326)","v":""}]
[{"$f":"IF(DATOS!B327=\"\",\"\",DATOS!B327)","v":""},{"$f":"IF(DATOS!BU327=\"\",\"\",DATOS!BU327)","v":""},{"$f":"IF(DATOS!CE327=\"\",\"\",DATOS!CE327)","v":""},{"$f":"IF(DATOS!CF327=\"\",\"\",DATOS!CF327)","v":""},{"$f":"IF(DATOS!T327=\"\",\"\",DATOS!T327)","v":""},{"$f":"IF(DATOS!AP327=\"\",\"\",DATOS!AP327)","v":""}]
[{"$f":"IF(DATOS!B328=\"\",\"\",DATOS!B328)","v":""},{"$f":"IF(DATOS!BU328=\"\",\"\",DATOS!BU328)","v":""},{"$f":"IF(DATOS!CE328=\"\",\"\",DATOS!CE328)","v":""},{"$f":"IF(DATOS!CF328=\"\",\"\",DATOS!CF328)","v":""},{"$f":"IF(DATOS!T328=\"\",\"\",DATOS!T328)","v":""},{"$f":"IF(DATOS!AP328=\"\",\"\",DATOS!AP328)","v":""}]
[{"$f":"IF(DATOS!B329=\"\",\"\",DATOS!B329)","v":""},{"$f":"IF(DATOS!BU329=\"\",\"\",DATOS!BU329)","v":""},{"$f":"IF(DATOS!CE329=\"\",\"\",DATOS!CE329)","v":""},{"$f":"IF(DATOS!CF329=\"\",\"\",DATOS!CF329)","v":""},{"$f":"IF(DATOS!T329=\"\",\"\",DATOS!T329)","v":""},{"$f":"IF(DATOS!AP329=\"\",\"\",DATOS!AP329)","v":""}]
[{"$f":"IF(DATOS!B330=\"\",\"\",DATOS!B330)","v":""},{"$f":"IF(DATOS!BU330=\"\",\"\",DATOS!BU330)","v":""},{"$f":"IF(DATOS!CE330=\"\",\"\",DATOS!CE330)","v":""},{"$f":"IF(DATOS!CF330=\"\",\"\",DATOS!CF330)","v":""},{"$f":"IF(DATOS!T330=\"\",\"\",DATOS!T330)","v":""},{"$f":"IF(DATOS!AP330=\"\",\"\",DATOS!AP330)","v":""}]
[{"$f":"IF(DATOS!B331=\"\",\"\",DATOS!B331)","v":""},{"$f":"IF(DATOS!BU331=\"\",\"\",DATOS!BU331)","v":""},{"$f":"IF(DATOS!CE331=\"\",\"\",DATOS!CE331)","v":""},{"$f":"IF(DATOS!CF331=\"\",\"\",DATOS!CF331)","v":""},{"$f":"IF(DATOS!T331=\"\",\"\",DATOS!T331)","v":""},{"$f":"IF(DATOS!AP331=\"\",\"\",DATOS!AP331)","v":""}]
[{"$f":"IF(DATOS!B332=\"\",\"\",DATOS!B332)","v":""},{"$f":"IF(DATOS!BU332=\"\",\"\",DATOS!BU332)","v":""},{"$f":"IF(DATOS!CE332=\"\",\"\",DATOS!CE332)","v":""},{"$f":"IF(DATOS!CF332=\"\",\"\",DATOS!CF332)","v":""},{"$f":"IF(DATOS!T332=\"\",\"\",DATOS!T332)","v":""},{"$f":"IF(DATOS!AP332=\"\",\"\",DATOS!AP332)","v":""}]
[{"$f":"IF(DATOS!B333=\"\",\"\",DATOS!B333)","v":""},{"$f":"IF(DATOS!BU333=\"\",\"\",DATOS!BU333)","v":""},{"$f":"IF(DATOS!CE333=\"\",\"\",DATOS!CE333)","v":""},{"$f":"IF(DATOS!CF333=\"\",\"\",DATOS!CF333)","v":""},{"$f":"IF(DATOS!T333=\"\",\"\",DATOS!T333)","v":""},{"$f":"IF(DATOS!AP333=\"\",\"\",DATOS!AP333)","v":""}]
[{"$f":"IF(DATOS!B334=\"\",\"\",DATOS!B334)","v":""},{"$f":"IF(DATOS!BU334=\"\",\"\",DATOS!BU334)","v":""},{"$f":"IF(DATOS!CE334=\"\",\"\",DATOS!CE334)","v":""},{"$f":"IF(DATOS!CF334=\"\",\"\",DATOS!CF334)","v":""},{"$f":"IF(DATOS!T334=\"\",\"\",DATOS!T334)","v":""},{"$f":"IF(DATOS!AP334=\"\",\"\",DATOS!AP334)","v":""}]
[{"$f":"IF(DATOS!B335=\"\",\"\",DATOS!B335)","v":""},{"$f":"IF(DATOS!BU335=\"\",\"\",DATOS!BU335)","v":""},{"$f":"IF(DATOS!CE335=\"\",\"\",DATOS!CE335)","v":""},{"$f":"IF(DATOS!CF335=\"\",\"\",DATOS!CF335)","v":""},{"$f":"IF(DATOS!T335=\"\",\"\",DATOS!T335)","v":""},{"$f":"IF(DATOS!AP335=\"\",\"\",DATOS!AP335)","v":""}]
[{"$f":"IF(DATOS!B336=\"\",\"\",DATOS!B336)","v":""},{"$f":"IF(DATOS!BU336=\"\",\"\",DATOS!BU336)","v":""},{"$f":"IF(DATOS!CE336=\"\",\"\",DATOS!CE336)","v":""},{"$f":"IF(DATOS!CF336=\"\",\"\",DATOS!CF336)","v":""},{"$f":"IF(DATOS!T336=\"\",\"\",DATOS!T336)","v":""},{"$f":"IF(DATOS!AP336=\"\",\"\",DATOS!AP336)","v":""}]
[{"$f":"IF(DATOS!B337=\"\",\"\",DATOS!B337)","v":""},{"$f":"IF(DATOS!BU337=\"\",\"\",DATOS!BU337)","v":""},{"$f":"IF(DATOS!CE337=\"\",\"\",DATOS!CE337)","v":""},{"$f":"IF(DATOS!CF337=\"\",\"\",DATOS!CF337)","v":""},{"$f":"IF(DATOS!T337=\"\",\"\",DATOS!T337)","v":""},{"$f":"IF(DATOS!AP337=\"\",\"\",DATOS!AP337)","v":""}]
[{"$f":"IF(DATOS!B338=\"\",\"\",DATOS!B338)","v":""},{"$f":"IF(DATOS!BU338=\"\",\"\",DATOS!BU338)","v":""},{"$f":"IF(DATOS!CE338=\"\",\"\",DATOS!CE338)","v":""},{"$f":"IF(DATOS!CF338=\"\",\"\",DATOS!CF338)","v":""},{"$f":"IF(DATOS!T338=\"\",\"\",DATOS!T338)","v":""},{"$f":"IF(DATOS!AP338=\"\",\"\",DATOS!AP338)","v":""}]
[{"$f":"IF(DATOS!B339=\"\",\"\",DATOS!B339)","v":""},{"$f":"IF(DATOS!BU339=\"\",\"\",DATOS!BU339)","v":""},{"$f":"IF(DATOS!CE339=\"\",\"\",DATOS!CE339)","v":""},{"$f":"IF(DATOS!CF339=\"\",\"\",DATOS!CF339)","v":""},{"$f":"IF(DATOS!T339=\"\",\"\",DATOS!T339)","v":""},{"$f":"IF(DATOS!AP339=\"\",\"\",DATOS!AP339)","v":""}]
[{"$f":"IF(DATOS!B340=\"\",\"\",DATOS!B340)","v":""},{"$f":"IF(DATOS!BU340=\"\",\"\",DATOS!BU340)","v":""},{"$f":"IF(DATOS!CE340=\"\",\"\",DATOS!CE340)","v":""},{"$f":"IF(DATOS!CF340=\"\",\"\",DATOS!CF340)","v":""},{"$f":"IF(DATOS!T340=\"\",\"\",DATOS!T340)","v":""},{"$f":"IF(DATOS!AP340=\"\",\"\",DATOS!AP340)","v":""}]
[{"$f":"IF(DATOS!B341=\"\",\"\",DATOS!B341)","v":""},{"$f":"IF(DATOS!BU341=\"\",\"\",DATOS!BU341)","v":""},{"$f":"IF(DATOS!CE341=\"\",\"\",DATOS!CE341)","v":""},{"$f":"IF(DATOS!CF341=\"\",\"\",DATOS!CF341)","v":""},{"$f":"IF(DATOS!T341=\"\",\"\",DATOS!T341)","v":""},{"$f":"IF(DATOS!AP341=\"\",\"\",DATOS!AP341)","v":""}]
[{"$f":"IF(DATOS!B342=\"\",\"\",DATOS!B342)","v":""},{"$f":"IF(DATOS!BU342=\"\",\"\",DATOS!BU342)","v":""},{"$f":"IF(DATOS!CE342=\"\",\"\",DATOS!CE342)","v":""},{"$f":"IF(DATOS!CF342=\"\",\"\",DATOS!CF342)","v":""},{"$f":"IF(DATOS!T342=\"\",\"\",DATOS!T342)","v":""},{"$f":"IF(DATOS!AP342=\"\",\"\",DATOS!AP342)","v":""}]
[{"$f":"IF(DATOS!B343=\"\",\"\",DATOS!B343)","v":""},{"$f":"IF(DATOS!BU343=\"\",\"\",DATOS!BU343)","v":""},{"$f":"IF(DATOS!CE343=\"\",\"\",DATOS!CE343)","v":""},{"$f":"IF(DATOS!CF343=\"\",\"\",DATOS!CF343)","v":""},{"$f":"IF(DATOS!T343=\"\",\"\",DATOS!T343)","v":""},{"$f":"IF(DATOS!AP343=\"\",\"\",DATOS!AP343)","v":""}]
[{"$f":"IF(DATOS!B344=\"\",\"\",DATOS!B344)","v":""},{"$f":"IF(DATOS!BU344=\"\",\"\",DATOS!BU344)","v":""},{"$f":"IF(DATOS!CE344=\"\",\"\",DATOS!CE344)","v":""},{"$f":"IF(DATOS!CF344=\"\",\"\",DATOS!CF344)","v":""},{"$f":"IF(DATOS!T344=\"\",\"\",DATOS!T344)","v":""},{"$f":"IF(DATOS!AP344=\"\",\"\",DATOS!AP344)","v":""}]
[{"$f":"IF(DATOS!B345=\"\",\"\",DATOS!B345)","v":""},{"$f":"IF(DATOS!BU345=\"\",\"\",DATOS!BU345)","v":""},{"$f":"IF(DATOS!CE345=\"\",\"\",DATOS!CE345)","v":""},{"$f":"IF(DATOS!CF345=\"\",\"\",DATOS!CF345)","v":""},{"$f":"IF(DATOS!T345=\"\",\"\",DATOS!T345)","v":""},{"$f":"IF(DATOS!AP345=\"\",\"\",DATOS!AP345)","v":""}]
[{"$f":"IF(DATOS!B346=\"\",\"\",DATOS!B346)","v":""},{"$f":"IF(DATOS!BU346=\"\",\"\",DATOS!BU346)","v":""},{"$f":"IF(DATOS!CE346=\"\",\"\",DATOS!CE346)","v":""},{"$f":"IF(DATOS!CF346=\"\",\"\",DATOS!CF346)","v":""},{"$f":"IF(DATOS!T346=\"\",\"\",DATOS!T346)","v":""},{"$f":"IF(DATOS!AP346=\"\",\"\",DATOS!AP346)","v":""}]
[{"$f":"IF(DATOS!B347=\"\",\"\",DATOS!B347)","v":""},{"$f":"IF(DATOS!BU347=\"\",\"\",DATOS!BU347)","v":""},{"$f":"IF(DATOS!CE347=\"\",\"\",DATOS!CE347)","v":""},{"$f":"IF(DATOS!CF347=\"\",\"\",DATOS!CF347)","v":""},{"$f":"IF(DATOS!T347=\"\",\"\",DATOS!T347)","v":""},{"$f":"IF(DATOS!AP347=\"\",\"\",DATOS!AP347)","v":""}]
[{"$f":"IF(DATOS!B348=\"\",\"\",DATOS!B348)","v":""},{"$f":"IF(DATOS!BU348=\"\",\"\",DATOS!BU348)","v":""},{"$f":"IF(DATOS!CE348=\"\",\"\",DATOS!CE348)","v":""},{"$f":"IF(DATOS!CF348=\"\",\"\",DATOS!CF348)","v":""},{"$f":"IF(DATOS!T348=\"\",\"\",DATOS!T348)","v":""},{"$f":"IF(DATOS!AP348=\"\",\"\",DATOS!AP348)","v":""}]
[{"$f":"IF(DATOS!B349=\"\",\"\",DATOS!B349)","v":""},{"$f":"IF(DATOS!BU349=\"\",\"\",DATOS!BU349)","v":""},{"$f":"IF(DATOS!CE349=\"\",\"\",DATOS!CE349)","v":""},{"$f":"IF(DATOS!CF349=\"\",\"\",DATOS!CF349)","v":""},{"$f":"IF(DATOS!T349=\"\",\"\",DATOS!T349)","v":""},{"$f":"IF(DATOS!AP349=\"\",\"\",DATOS!AP349)","v":""}]
[{"$f":"IF(DATOS!B350=\"\",\"\",DATOS!B350)","v":""},{"$f":"IF(DATOS!BU350=\"\",\"\",DATOS!BU350)","v":""},{"$f":"IF(DATOS!CE350=\"\",\"\",DATOS!CE350)","v":""},{"$f":"IF(DATOS!CF350=\"\",\"\",DATOS!CF350)","v":""},{"$f":"IF(DATOS!T350=\"\",\"\",DATOS!T350)","v":""},{"$f":"IF(DATOS!AP350=\"\",\"\",DATOS!AP350)","v":""}]
[{"$f":"IF(DATOS!B351=\"\",\"\",DATOS!B351)","v":""},{"$f":"IF(DATOS!BU351=\"\",\"\",DATOS!BU351)","v":""},{"$f":"IF(DATOS!CE351=\"\",\"\",DATOS!CE351)","v":""},{"$f":"IF(DATOS!CF351=\"\",\"\",DATOS!CF351)","v":""},{"$f":"IF(DATOS!T351=\"\",\"\",DATOS!T351)","v":""},{"$f":"IF(DATOS!AP351=\"\",\"\",DATOS!AP351)","v":""}]
[{"$f":"IF(DATOS!B352=\"\",\"\",DATOS!B352)","v":""},{"$f":"IF(DATOS!BU352=\"\",\"\",DATOS!BU352)","v":""},{"$f":"IF(DATOS!CE352=\"\",\"\",DATOS!CE352)","v":""},{"$f":"IF(DATOS!CF352=\"\",\"\",DATOS!CF352)","v":""},{"$f":"IF(DATOS!T352=\"\",\"\",DATOS!T352)","v":""},{"$f":"IF(DATOS!AP352=\"\",\"\",DATOS!AP352)","v":""}]
[{"$f":"IF(DATOS!B353=\"\",\"\",DATOS!B353)","v":""},{"$f":"IF(DATOS!BU353=\"\",\"\",DATOS!BU353)","v":""},{"$f":"IF(DATOS!CE353=\"\",\"\",DATOS!CE353)","v":""},{"$f":"IF(DATOS!CF353=\"\",\"\",DATOS!CF353)","v":""},{"$f":"IF(DATOS!T353=\"\",\"\",DATOS!T353)","v":""},{"$f":"IF(DATOS!AP353=\"\",\"\",DATOS!AP353)","v":""}]
[{"$f":"IF(DATOS!B354=\"\",\"\",DATOS!B354)","v":""},{"$f":"IF(DATOS!BU354=\"\",\"\",DATOS!BU354)","v":""},{"$f":"IF(DATOS!CE354=\"\",\"\",DATOS!CE354)","v":""},{"$f":"IF(DATOS!CF354=\"\",\"\",DATOS!CF354)","v":""},{"$f":"IF(DATOS!T354=\"\",\"\",DATOS!T354)","v":""},{"$f":"IF(DATOS!AP354=\"\",\"\",DATOS!AP354)","v":""}]
[{"$f":"IF(DATOS!B355=\"\",\"\",DATOS!B355)","v":""},{"$f":"IF(DATOS!BU355=\"\",\"\",DATOS!BU355)","v":""},{"$f":"IF(DATOS!CE355=\"\",\"\",DATOS!CE355)","v":""},{"$f":"IF(DATOS!CF355=\"\",\"\",DATOS!CF355)","v":""},{"$f":"IF(DATOS!T355=\"\",\"\",DATOS!T355)","v":""},{"$f":"IF(DATOS!AP355=\"\",\"\",DATOS!AP355)","v":""}]
[{"$f":"IF(DATOS!B356=\"\",\"\",DATOS!B356)","v":""},{"$f":"IF(DATOS!BU356=\"\",\"\",DATOS!BU356)","v":""},{"$f":"IF(DATOS!CE356=\"\",\"\",DATOS!CE356)","v":""},{"$f":"IF(DATOS!CF356=\"\",\"\",DATOS!CF356)","v":""},{"$f":"IF(DATOS!T356=\"\",\"\",DATOS!T356)","v":""},{"$f":"IF(DATOS!AP356=\"\",\"\",DATOS!AP356)","v":""}]
[{"$f":"IF(DATOS!B357=\"\",\"\",DATOS!B357)","v":""},{"$f":"IF(DATOS!BU357=\"\",\"\",DATOS!BU357)","v":""},{"$f":"IF(DATOS!CE357=\"\",\"\",DATOS!CE357)","v":""},{"$f":"IF(DATOS!CF357=\"\",\"\",DATOS!CF357)","v":""},{"$f":"IF(DATOS!T357=\"\",\"\",DATOS!T357)","v":""},{"$f":"IF(DATOS!AP357=\"\",\"\",DATOS!AP357)","v":""}]
[{"$f":"IF(DATOS!B358=\"\",\"\",DATOS!B358)","v":""},{"$f":"IF(DATOS!BU358=\"\",\"\",DATOS!BU358)","v":""},{"$f":"IF(DATOS!CE358=\"\",\"\",DATOS!CE358)","v":""},{"$f":"IF(DATOS!CF358=\"\",\"\",DATOS!CF358)","v":""},{"$f":"IF(DATOS!T358=\"\",\"\",DATOS!T358)","v":""},{"$f":"IF(DATOS!AP358=\"\",\"\",DATOS!AP358)","v":""}]
[{"$f":"IF(DATOS!B359=\"\",\"\",DATOS!B359)","v":""},{"$f":"IF(DATOS!BU359=\"\",\"\",DATOS!BU359)","v":""},{"$f":"IF(DATOS!CE359=\"\",\"\",DATOS!CE359)","v":""},{"$f":"IF(DATOS!CF359=\"\",\"\",DATOS!CF359)","v":""},{"$f":"IF(DATOS!T359=\"\",\"\",DATOS!T359)","v":""},{"$f":"IF(DATOS!AP359=\"\",\"\",DATOS!AP359)","v":""}]
[{"$f":"IF(DATOS!B360=\"\",\"\",DATOS!B360)","v":""},{"$f":"IF(DATOS!BU360=\"\",\"\",DATOS!BU360)","v":""},{"$f":"IF(DATOS!CE360=\"\",\"\",DATOS!CE360)","v":""},{"$f":"IF(DATOS!CF360=\"\",\"\",DATOS!CF360)","v":""},{"$f":"IF(DATOS!T360=\"\",\"\",DATOS!T360)","v":""},{"$f":"IF(DATOS!AP360=\"\",\"\",DATOS!AP360)","v":""}]
[{"$f":"IF(DATOS!B361=\"\",\"\",DATOS!B361)","v":""},{"$f":"IF(DATOS!BU361=\"\",\"\",DATOS!BU361)","v":""},{"$f":"IF(DATOS!CE361=\"\",\"\",DATOS!CE361)","v":""},{"$f":"IF(DATOS!CF361=\"\",\"\",DATOS!CF361)","v":""},{"$f":"IF(DATOS!T361=\"\",\"\",DATOS!T361)","v":""},{"$f":"IF(DATOS!AP361=\"\",\"\",DATOS!AP361)","v":""}]
[{"$f":"IF(DATOS!B362=\"\",\"\",DATOS!B362)","v":""},{"$f":"IF(DATOS!BU362=\"\",\"\",DATOS!BU362)","v":""},{"$f":"IF(DATOS!CE362=\"\",\"\",DATOS!CE362)","v":""},{"$f":"IF(DATOS!CF362=\"\",\"\",DATOS!CF362)","v":""},{"$f":"IF(DATOS!T362=\"\",\"\",DATOS!T362)","v":""},{"$f":"IF(DATOS!AP362=\"\",\"\",DATOS!AP362)","v":""}]
[{"$f":"IF(DATOS!B363=\"\",\"\",DATOS!B363)","v":""},{"$f":"IF(DATOS!BU363=\"\",\"\",DATOS!BU363)","v":""},{"$f":"IF(DATOS!CE363=\"\",\"\",DATOS!CE363)","v":""},{"$f":"IF(DATOS!CF363=\"\",\"\",DATOS!CF363)","v":""},{"$f":"IF(DATOS!T363=\"\",\"\",DATOS!T363)","v":""},{"$f":"IF(DATOS!AP363=\"\",\"\",DATOS!AP363)","v":""}]
[{"$f":"IF(DATOS!B364=\"\",\"\",DATOS!B364)","v":""},{"$f":"IF(DATOS!BU364=\"\",\"\",DATOS!BU364)","v":""},{"$f":"IF(DATOS!CE364=\"\",\"\",DATOS!CE364)","v":""},{"$f":"IF(DATOS!CF364=\"\",\"\",DATOS!CF364)","v":""},{"$f":"IF(DATOS!T364=\"\",\"\",DATOS!T364)","v":""},{"$f":"IF(DATOS!AP364=\"\",\"\",DATOS!AP364)","v":""}]
[{"$f":"IF(DATOS!B365=\"\",\"\",DATOS!B365)","v":""},{"$f":"IF(DATOS!BU365=\"\",\"\",DATOS!BU365)","v":""},{"$f":"IF(DATOS!CE365=\"\",\"\",DATOS!CE365)","v":""},{"$f":"IF(DATOS!CF365=\"\",\"\",DATOS!CF365)","v":""},{"$f":"IF(DATOS!T365=\"\",\"\",DATOS!T365)","v":""},{"$f":"IF(DATOS!AP365=\"\",\"\",DATOS!AP365)","v":""}]
[{"$f":"IF(DATOS!B366=\"\",\"\",DATOS!B366)","v":""},{"$f":"IF(DATOS!BU366=\"\",\"\",DATOS!BU366)","v":""},{"$f":"IF(DATOS!CE366=\"\",\"\",DATOS!CE366)","v":""},{"$f":"IF(DATOS!CF366=\"\",\"\",DATOS!CF366)","v":""},{"$f":"IF(DATOS!T366=\"\",\"\",DATOS!T366)","v":""},{"$f":"IF(DATOS!AP366=\"\",\"\",DATOS!AP366)","v":""}]
[{"$f":"IF(DATOS!B367=\"\",\"\",DATOS!B367)","v":""},{"$f":"IF(DATOS!BU367=\"\",\"\",DATOS!BU367)","v":""},{"$f":"IF(DATOS!CE367=\"\",\"\",DATOS!CE367)","v":""},{"$f":"IF(DATOS!CF367=\"\",\"\",DATOS!CF367)","v":""},{"$f":"IF(DATOS!T367=\"\",\"\",DATOS!T367)","v":""},{"$f":"IF(DATOS!AP367=\"\",\"\",DATOS!AP367)","v":""}]
[{"$f":"IF(DATOS!B368=\"\",\"\",DATOS!B368)","v":""},{"$f":"IF(DATOS!BU368=\"\",\"\",DATOS!BU368)","v":""},{"$f":"IF(DATOS!CE368=\"\",\"\",DATOS!CE368)","v":""},{"$f":"IF(DATOS!CF368=\"\",\"\",DATOS!CF368)","v":""},{"$f":"IF(DATOS!T368=\"\",\"\",DATOS!T368)","v":""},{"$f":"IF(DATOS!AP368=\"\",\"\",DATOS!AP368)","v":""}]
[{"$f":"IF(DATOS!B369=\"\",\"\",DATOS!B369)","v":""},{"$f":"IF(DATOS!BU369=\"\",\"\",DATOS!BU369)","v":""},{"$f":"IF(DATOS!CE369=\"\",\"\",DATOS!CE369)","v":""},{"$f":"IF(DATOS!CF369=\"\",\"\",DATOS!CF369)","v":""},{"$f":"IF(DATOS!T369=\"\",\"\",DATOS!T369)","v":""},{"$f":"IF(DATOS!AP369=\"\",\"\",DATOS!AP369)","v":""}]
[{"$f":"IF(DATOS!B370=\"\",\"\",DATOS!B370)","v":""},{"$f":"IF(DATOS!BU370=\"\",\"\",DATOS!BU370)","v":""},{"$f":"IF(DATOS!CE370=\"\",\"\",DATOS!CE370)","v":""},{"$f":"IF(DATOS!CF370=\"\",\"\",DATOS!CF370)","v":""},{"$f":"IF(DATOS!T370=\"\",\"\",DATOS!T370)","v":""},{"$f":"IF(DATOS!AP370=\"\",\"\",DATOS!AP370)","v":""}]
[{"$f":"IF(DATOS!B371=\"\",\"\",DATOS!B371)","v":""},{"$f":"IF(DATOS!BU371=\"\",\"\",DATOS!BU371)","v":""},{"$f":"IF(DATOS!CE371=\"\",\"\",DATOS!CE371)","v":""},{"$f":"IF(DATOS!CF371=\"\",\"\",DATOS!CF371)","v":""},{"$f":"IF(DATOS!T371=\"\",\"\",DATOS!T371)","v":""},{"$f":"IF(DATOS!AP371=\"\",\"\",DATOS!AP371)","v":""}]
[{"$f":"IF(DATOS!B372=\"\",\"\",DATOS!B372)","v":""},{"$f":"IF(DATOS!BU372=\"\",\"\",DATOS!BU372)","v":""},{"$f":"IF(DATOS!CE372=\"\",\"\",DATOS!CE372)","v":""},{"$f":"IF(DATOS!CF372=\"\",\"\",DATOS!CF372)","v":""},{"$f":"IF(DATOS!T372=\"\",\"\",DATOS!T372)","v":""},{"$f":"IF(DATOS!AP372=\"\",\"\",DATOS!AP372)","v":""}]
[{"$f":"IF(DATOS!B373=\"\",\"\",DATOS!B373)","v":""},{"$f":"IF(DATOS!BU373=\"\",\"\",DATOS!BU373)","v":""},{"$f":"IF(DATOS!CE373=\"\",\"\",DATOS!CE373)","v":""},{"$f":"IF(DATOS!CF373=\"\",\"\",DATOS!CF373)","v":""},{"$f":"IF(DATOS!T373=\"\",\"\",DATOS!T373)","v":""},{"$f":"IF(DATOS!AP373=\"\",\"\",DATOS!AP373)","v":""}]
[{"$f":"IF(DATOS!B374=\"\",\"\",DATOS!B374)","v":""},{"$f":"IF(DATOS!BU374=\"\",\"\",DATOS!BU374)","v":""},{"$f":"IF(DATOS!CE374=\"\",\"\",DATOS!CE374)","v":""},{"$f":"IF(DATOS!CF374=\"\",\"\",DATOS!CF374)","v":""},{"$f":"IF(DATOS!T374=\"\",\"\",DATOS!T374)","v":""},{"$f":"IF(DATOS!AP374=\"\",\"\",DATOS!AP374)","v":""}]
[{"$f":"IF(DATOS!B375=\"\",\"\",DATOS!B375)","v":""},{"$f":"IF(DATOS!BU375=\"\",\"\",DATOS!BU375)","v":""},{"$f":"IF(DATOS!CE375=\"\",\"\",DATOS!CE375)","v":""},{"$f":"IF(DATOS!CF375=\"\",\"\",DATOS!CF375)","v":""},{"$f":"IF(DATOS!T375=\"\",\"\",DATOS!T375)","v":""},{"$f":"IF(DATOS!AP375=\"\",\"\",DATOS!AP375)","v":""}]
[{"$f":"IF(DATOS!B376=\"\",\"\",DATOS!B376)","v":""},{"$f":"IF(DATOS!BU376=\"\",\"\",DATOS!BU376)","v":""},{"$f":"IF(DATOS!CE376=\"\",\"\",DATOS!CE376)","v":""},{"$f":"IF(DATOS!CF376=\"\",\"\",DATOS!CF376)","v":""},{"$f":"IF(DATOS!T376=\"\",\"\",DATOS!T376)","v":""},{"$f":"IF(DATOS!AP376=\"\",\"\",DATOS!AP376)","v":""}]
[{"$f":"IF(DATOS!B377=\"\",\"\",DATOS!B377)","v":""},{"$f":"IF(DATOS!BU377=\"\",\"\",DATOS!BU377)","v":""},{"$f":"IF(DATOS!CE377=\"\",\"\",DATOS!CE377)","v":""},{"$f":"IF(DATOS!CF377=\"\",\"\",DATOS!CF377)","v":""},{"$f":"IF(DATOS!T377=\"\",\"\",DATOS!T377)","v":""},{"$f":"IF(DATOS!AP377=\"\",\"\",DATOS!AP377)","v":""}]
[{"$f":"IF(DATOS!B378=\"\",\"\",DATOS!B378)","v":""},{"$f":"IF(DATOS!BU378=\"\",\"\",DATOS!BU378)","v":""},{"$f":"IF(DATOS!CE378=\"\",\"\",DATOS!CE378)","v":""},{"$f":"IF(DATOS!CF378=\"\",\"\",DATOS!CF378)","v":""},{"$f":"IF(DATOS!T378=\"\",\"\",DATOS!T378)","v":""},{"$f":"IF(DATOS!AP378=\"\",\"\",DATOS!AP378)","v":""}]
[{"$f":"IF(DATOS!B379=\"\",\"\",DATOS!B379)","v":""},{"$f":"IF(DATOS!BU379=\"\",\"\",DATOS!BU379)","v":""},{"$f":"IF(DATOS!CE379=\"\",\"\",DATOS!CE379)","v":""},{"$f":"IF(DATOS!CF379=\"\",\"\",DATOS!CF379)","v":""},{"$f":"IF(DATOS!T379=\"\",\"\",DATOS!T379)","v":""},{"$f":"IF(DATOS!AP379=\"\",\"\",DATOS!AP379)","v":""}]
[{"$f":"IF(DATOS!B380=\"\",\"\",DATOS!B380)","v":""},{"$f":"IF(DATOS!BU380=\"\",\"\",DATOS!BU380)","v":""},{"$f":"IF(DATOS!CE380=\"\",\"\",DATOS!CE380)","v":""},{"$f":"IF(DATOS!CF380=\"\",\"\",DATOS!CF380)","v":""},{"$f":"IF(DATOS!T380=\"\",\"\",DATOS!T380)","v":""},{"$f":"IF(DATOS!AP380=\"\",\"\",DATOS!AP380)","v":""}]
[{"$f":"IF(DATOS!B381=\"\",\"\",DATOS!B381)","v":""},{"$f":"IF(DATOS!BU381=\"\",\"\",DATOS!BU381)","v":""},{"$f":"IF(DATOS!CE381=\"\",\"\",DATOS!CE381)","v":""},{"$f":"IF(DATOS!CF381=\"\",\"\",DATOS!CF381)","v":""},{"$f":"IF(DATOS!T381=\"\",\"\",DATOS!T381)","v":""},{"$f":"IF(DATOS!AP381=\"\",\"\",DATOS!AP381)","v":""}]
[{"$f":"IF(DATOS!B382=\"\",\"\",DATOS!B382)","v":""},{"$f":"IF(DATOS!BU382=\"\",\"\",DATOS!BU382)","v":""},{"$f":"IF(DATOS!CE382=\"\",\"\",DATOS!CE382)","v":""},{"$f":"IF(DATOS!CF382=\"\",\"\",DATOS!CF382)","v":""},{"$f":"IF(DATOS!T382=\"\",\"\",DATOS!T382)","v":""},{"$f":"IF(DATOS!AP382=\"\",\"\",DATOS!AP382)","v":""}]
[{"$f":"IF(DATOS!B383=\"\",\"\",DATOS!B383)","v":""},{"$f":"IF(DATOS!BU383=\"\",\"\",DATOS!BU383)","v":""},{"$f":"IF(DATOS!CE383=\"\",\"\",DATOS!CE383)","v":""},{"$f":"IF(DATOS!CF383=\"\",\"\",DATOS!CF383)","v":""},{"$f":"IF(DATOS!T383=\"\",\"\",DATOS!T383)","v":""},{"$f":"IF(DATOS!AP383=\"\",\"\",DATOS!AP383)","v":""}]
[{"$f":"IF(DATOS!B384=\"\",\"\",DATOS!B384)","v":""},{"$f":"IF(DATOS!BU384=\"\",\"\",DATOS!BU384)","v":""},{"$f":"IF(DATOS!CE384=\"\",\"\",DATOS!CE384)","v":""},{"$f":"IF(DATOS!CF384=\"\",\"\",DATOS!CF384)","v":""},{"$f":"IF(DATOS!T384=\"\",\"\",DATOS!T384)","v":""},{"$f":"IF(DATOS!AP384=\"\",\"\",DATOS!AP384)","v":""}]
[{"$f":"IF(DATOS!B385=\"\",\"\",DATOS!B385)","v":""},{"$f":"IF(DATOS!BU385=\"\",\"\",DATOS!BU385)","v":""},{"$f":"IF(DATOS!CE385=\"\",\"\",DATOS!CE385)","v":""},{"$f":"IF(DATOS!CF385=\"\",\"\",DATOS!CF385)","v":""},{"$f":"IF(DATOS!T385=\"\",\"\",DATOS!T385)","v":""},{"$f":"IF(DATOS!AP385=\"\",\"\",DATOS!AP385)","v":""}]
[{"$f":"IF(DATOS!B386=\"\",\"\",DATOS!B386)","v":""},{"$f":"IF(DATOS!BU386=\"\",\"\",DATOS!BU386)","v":""},{"$f":"IF(DATOS!CE386=\"\",\"\",DATOS!CE386)","v":""},{"$f":"IF(DATOS!CF386=\"\",\"\",DATOS!CF386)","v":""},{"$f":"IF(DATOS!T386=\"\",\"\",DATOS!T386)","v":""},{"$f":"IF(DATOS!AP386=\"\",\"\",DATOS!AP386)","v":""}]
[{"$f":"IF(DATOS!B387=\"\",\"\",DATOS!B387)","v":""},{"$f":"IF(DATOS!BU387=\"\",\"\",DATOS!BU387)","v":""},{"$f":"IF(DATOS!CE387=\"\",\"\",DATOS!CE387)","v":""},{"$f":"IF(DATOS!CF387=\"\",\"\",DATOS!CF387)","v":""},{"$f":"IF(DATOS!T387=\"\",\"\",DATOS!T387)","v":""},{"$f":"IF(DATOS!AP387=\"\",\"\",DATOS!AP387)","v":""}]
[{"$f":"IF(DATOS!B388=\"\",\"\",DATOS!B388)","v":""},{"$f":"IF(DATOS!BU388=\"\",\"\",DATOS!BU388)","v":""},{"$f":"IF(DATOS!CE388=\"\",\"\",DATOS!CE388)","v":""},{"$f":"IF(DATOS!CF388=\"\",\"\",DATOS!CF388)","v":""},{"$f":"IF(DATOS!T388=\"\",\"\",DATOS!T388)","v":""},{"$f":"IF(DATOS!AP388=\"\",\"\",DATOS!AP388)","v":""}]
[{"$f":"IF(DATOS!B389=\"\",\"\",DATOS!B389)","v":""},{"$f":"IF(DATOS!BU389=\"\",\"\",DATOS!BU389)","v":""},{"$f":"IF(DATOS!CE389=\"\",\"\",DATOS!CE389)","v":""},{"$f":"IF(DATOS!CF389=\"\",\"\",DATOS!CF389)","v":""},{"$f":"IF(DATOS!T389=\"\",\"\",DATOS!T389)","v":""},{"$f":"IF(DATOS!AP389=\"\",\"\",DATOS!AP389)","v":""}]
[{"$f":"IF(DATOS!B390=\"\",\"\",DATOS!B390)","v":""},{"$f":"IF(DATOS!BU390=\"\",\"\",DATOS!BU390)","v":""},{"$f":"IF(DATOS!CE390=\"\",\"\",DATOS!CE390)","v":""},{"$f":"IF(DATOS!CF390=\"\",\"\",DATOS!CF390)","v":""},{"$f":"IF(DATOS!T390=\"\",\"\",DATOS!T390)","v":""},{"$f":"IF(DATOS!AP390=\"\",\"\",DATOS!AP390)","v":""}]
[{"$f":"IF(DATOS!B391=\"\",\"\",DATOS!B391)","v":""},{"$f":"IF(DATOS!BU391=\"\",\"\",DATOS!BU391)","v":""},{"$f":"IF(DATOS!CE391=\"\",\"\",DATOS!CE391)","v":""},{"$f":"IF(DATOS!CF391=\"\",\"\",DATOS!CF391)","v":""},{"$f":"IF(DATOS!T391=\"\",\"\",DATOS!T391)","v":""},{"$f":"IF(DATOS!AP391=\"\",\"\",DATOS!AP391)","v":""}]
[{"$f":"IF(DATOS!B392=\"\",\"\",DATOS!B392)","v":""},{"$f":"IF(DATOS!BU392=\"\",\"\",DATOS!BU392)","v":""},{"$f":"IF(DATOS!CE392=\"\",\"\",DATOS!CE392)","v":""},{"$f":"IF(DATOS!CF392=\"\",\"\",DATOS!CF392)","v":""},{"$f":"IF(DATOS!T392=\"\",\"\",DATOS!T392)","v":""},{"$f":"IF(DATOS!AP392=\"\",\"\",DATOS!AP392)","v":""}]
[{"$f":"IF(DATOS!B393=\"\",\"\",DATOS!B393)","v":""},{"$f":"IF(DATOS!BU393=\"\",\"\",DATOS!BU393)","v":""},{"$f":"IF(DATOS!CE393=\"\",\"\",DATOS!CE393)","v":""},{"$f":"IF(DATOS!CF393=\"\",\"\",DATOS!CF393)","v":""},{"$f":"IF(DATOS!T393=\"\",\"\",DATOS!T393)","v":""},{"$f":"IF(DATOS!AP393=\"\",\"\",DATOS!AP393)","v":""}]
[{"$f":"IF(DATOS!B394=\"\",\"\",DATOS!B394)","v":""},{"$f":"IF(DATOS!BU394=\"\",\"\",DATOS!BU394)","v":""},{"$f":"IF(DATOS!CE394=\"\",\"\",DATOS!CE394)","v":""},{"$f":"IF(DATOS!CF394=\"\",\"\",DATOS!CF394)","v":""},{"$f":"IF(DATOS!T394=\"\",\"\",DATOS!T394)","v":""},{"$f":"IF(DATOS!AP394=\"\",\"\",DATOS!AP394)","v":""}]
[{"$f":"IF(DATOS!B395=\"\",\"\",DATOS!B395)","v":""},{"$f":"IF(DATOS!BU395=\"\",\"\",DATOS!BU395)","v":""},{"$f":"IF(DATOS!CE395=\"\",\"\",DATOS!CE395)","v":""},{"$f":"IF(DATOS!CF395=\"\",\"\",DATOS!CF395)","v":""},{"$f":"IF(DATOS!T395=\"\",\"\",DATOS!T395)","v":""},{"$f":"IF(DATOS!AP395=\"\",\"\",DATOS!AP395)","v":""}]
[{"$f":"IF(DATOS!B396=\"\",\"\",DATOS!B396)","v":""},{"$f":"IF(DATOS!BU396=\"\",\"\",DATOS!BU396)","v":""},{"$f":"IF(DATOS!CE396=\"\",\"\",DATOS!CE396)","v":""},{"$f":"IF(DATOS!CF396=\"\",\"\",DATOS!CF396)","v":""},{"$f":"IF(DATOS!T396=\"\",\"\",DATOS!T396)","v":""},{"$f":"IF(DATOS!AP396=\"\",\"\",DATOS!AP396)","v":""}]
[{"$f":"IF(DATOS!B397=\"\",\"\",DATOS!B397)","v":""},{"$f":"IF(DATOS!BU397=\"\",\"\",DATOS!BU397)","v":""},{"$f":"IF(DATOS!CE397=\"\",\"\",DATOS!CE397)","v":""},{"$f":"IF(DATOS!CF397=\"\",\"\",DATOS!CF397)","v":""},{"$f":"IF(DATOS!T397=\"\",\"\",DATOS!T397)","v":""},{"$f":"IF(DATOS!AP397=\"\",\"\",DATOS!AP397)","v":""}]
[{"$f":"IF(DATOS!B398=\"\",\"\",DATOS!B398)","v":""},{"$f":"IF(DATOS!BU398=\"\",\"\",DATOS!BU398)","v":""},{"$f":"IF(DATOS!CE398=\"\",\"\",DATOS!CE398)","v":""},{"$f":"IF(DATOS!CF398=\"\",\"\",DATOS!CF398)","v":""},{"$f":"IF(DATOS!T398=\"\",\"\",DATOS!T398)","v":""},{"$f":"IF(DATOS!AP398=\"\",\"\",DATOS!AP398)","v":""}]
[{"$f":"IF(DATOS!B399=\"\",\"\",DATOS!B399)","v":""},{"$f":"IF(DATOS!BU399=\"\",\"\",DATOS!BU399)","v":""},{"$f":"IF(DATOS!CE399=\"\",\"\",DATOS!CE399)","v":""},{"$f":"IF(DATOS!CF399=\"\",\"\",DATOS!CF399)","v":""},{"$f":"IF(DATOS!T399=\"\",\"\",DATOS!T399)","v":""},{"$f":"IF(DATOS!AP399=\"\",\"\",DATOS!AP399)","v":""}]
[{"$f":"IF(DATOS!B400=\"\",\"\",DATOS!B400)","v":""},{"$f":"IF(DATOS!BU400=\"\",\"\",DATOS!BU400)","v":""},{"$f":"IF(DATOS!CE400=\"\",\"\",DATOS!CE400)","v":""},{"$f":"IF(DATOS!CF400=\"\",\"\",DATOS!CF400)","v":""},{"$f":"IF(DATOS!T400=\"\",\"\",DATOS!T400)","v":""},{"$f":"IF(DATOS!AP400=\"\",\"\",DATOS!AP400)","v":""}]
[{"$f":"IF(DATOS!B401=\"\",\"\",DATOS!B401)","v":""},{"$f":"IF(DATOS!BU401=\"\",\"\",DATOS!BU401)","v":""},{"$f":"IF(DATOS!CE401=\"\",\"\",DATOS!CE401)","v":""},{"$f":"IF(DATOS!CF401=\"\",\"\",DATOS!CF401)","v":""},{"$f":"IF(DATOS!T401=\"\",\"\",DATOS!T401)","v":""},{"$f":"IF(DATOS!AP401=\"\",\"\",DATOS!AP401)","v":""}]
[{"$f":"IF(DATOS!B402=\"\",\"\",DATOS!B402)","v":""},{"$f":"IF(DATOS!BU402=\"\",\"\",DATOS!BU402)","v":""},{"$f":"IF(DATOS!CE402=\"\",\"\",DATOS!CE402)","v":""},{"$f":"IF(DATOS!CF402=\"\",\"\",DATOS!CF402)","v":""},{"$f":"IF(DATOS!T402=\"\",\"\",DATOS!T402)","v":""},{"$f":"IF(DATOS!AP402=\"\",\"\",DATOS!AP402)","v":""}]
[{"$f":"IF(DATOS!B403=\"\",\"\",DATOS!B403)","v":""},{"$f":"IF(DATOS!BU403=\"\",\"\",DATOS!BU403)","v":""},{"$f":"IF(DATOS!CE403=\"\",\"\",DATOS!CE403)","v":""},{"$f":"IF(DATOS!CF403=\"\",\"\",DATOS!CF403)","v":""},{"$f":"IF(DATOS!T403=\"\",\"\",DATOS!T403)","v":""},{"$f":"IF(DATOS!AP403=\"\",\"\",DATOS!AP403)","v":""}]
[{"$f":"IF(DATOS!B404=\"\",\"\",DATOS!B404)","v":""},{"$f":"IF(DATOS!BU404=\"\",\"\",DATOS!BU404)","v":""},{"$f":"IF(DATOS!CE404=\"\",\"\",DATOS!CE404)","v":""},{"$f":"IF(DATOS!CF404=\"\",\"\",DATOS!CF404)","v":""},{"$f":"IF(DATOS!T404=\"\",\"\",DATOS!T404)","v":""},{"$f":"IF(DATOS!AP404=\"\",\"\",DATOS!AP404)","v":""}]
[{"$f":"IF(DATOS!B405=\"\",\"\",DATOS!B405)","v":""},{"$f":"IF(DATOS!BU405=\"\",\"\",DATOS!BU405)","v":""},{"$f":"IF(DATOS!CE405=\"\",\"\",DATOS!CE405)","v":""},{"$f":"IF(DATOS!CF405=\"\",\"\",DATOS!CF405)","v":""},{"$f":"IF(DATOS!T405=\"\",\"\",DATOS!T405)","v":""},{"$f":"IF(DATOS!AP405=\"\",\"\",DATOS!AP405)","v":""}]
[{"$f":"IF(DATOS!B406=\"\",\"\",DATOS!B406)","v":""},{"$f":"IF(DATOS!BU406=\"\",\"\",DATOS!BU406)","v":""},{"$f":"IF(DATOS!CE406=\"\",\"\",DATOS!CE406)","v":""},{"$f":"IF(DATOS!CF406=\"\",\"\",DATOS!CF406)","v":""},{"$f":"IF(DATOS!T406=\"\",\"\",DATOS!T406)","v":""},{"$f":"IF(DATOS!AP406=\"\",\"\",DATOS!AP406)","v":""}]
[{"$f":"IF(DATOS!B407=\"\",\"\",DATOS!B407)","v":""},{"$f":"IF(DATOS!BU407=\"\",\"\",DATOS!BU407)","v":""},{"$f":"IF(DATOS!CE407=\"\",\"\",DATOS!CE407)","v":""},{"$f":"IF(DATOS!CF407=\"\",\"\",DATOS!CF407)","v":""},{"$f":"IF(DATOS!T407=\"\",\"\",DATOS!T407)","v":""},{"$f":"IF(DATOS!AP407=\"\",\"\",DATOS!AP407)","v":""}]
[{"$f":"IF(DATOS!B408=\"\",\"\",DATOS!B408)","v":""},{"$f":"IF(DATOS!BU408=\"\",\"\",DATOS!BU408)","v":""},{"$f":"IF(DATOS!CE408=\"\",\"\",DATOS!CE408)","v":""},{"$f":"IF(DATOS!CF408=\"\",\"\",DATOS!CF408)","v":""},{"$f":"IF(DATOS!T408=\"\",\"\",DATOS!T408)","v":""},{"$f":"IF(DATOS!AP408=\"\",\"\",DATOS!AP408)","v":""}]
[{"$f":"IF(DATOS!B409=\"\",\"\",DATOS!B409)","v":""},{"$f":"IF(DATOS!BU409=\"\",\"\",DATOS!BU409)","v":""},{"$f":"IF(DATOS!CE409=\"\",\"\",DATOS!CE409)","v":""},{"$f":"IF(DATOS!CF409=\"\",\"\",DATOS!CF409)","v":""},{"$f":"IF(DATOS!T409=\"\",\"\",DATOS!T409)","v":""},{"$f":"IF(DATOS!AP409=\"\",\"\",DATOS!AP409)","v":""}]
[{"$f":"IF(DATOS!B410=\"\",\"\",DATOS!B410)","v":""},{"$f":"IF(DATOS!BU410=\"\",\"\",DATOS!BU410)","v":""},{"$f":"IF(DATOS!CE410=\"\",\"\",DATOS!CE410)","v":""},{"$f":"IF(DATOS!CF410=\"\",\"\",DATOS!CF410)","v":""},{"$f":"IF(DATOS!T410=\"\",\"\",DATOS!T410)","v":""},{"$f":"IF(DATOS!AP410=\"\",\"\",DATOS!AP410)","v":""}]
[{"$f":"IF(DATOS!B411=\"\",\"\",DATOS!B411)","v":""},{"$f":"IF(DATOS!BU411=\"\",\"\",DATOS!BU411)","v":""},{"$f":"IF(DATOS!CE411=\"\",\"\",DATOS!CE411)","v":""},{"$f":"IF(DATOS!CF411=\"\",\"\",DATOS!CF411)","v":""},{"$f":"IF(DATOS!T411=\"\",\"\",DATOS!T411)","v":""},{"$f":"IF(DATOS!AP411=\"\",\"\",DATOS!AP411)","v":""}]
[{"$f":"IF(DATOS!B412=\"\",\"\",DATOS!B412)","v":""},{"$f":"IF(DATOS!BU412=\"\",\"\",DATOS!BU412)","v":""},{"$f":"IF(DATOS!CE412=\"\",\"\",DATOS!CE412)","v":""},{"$f":"IF(DATOS!CF412=\"\",\"\",DATOS!CF412)","v":""},{"$f":"IF(DATOS!T412=\"\",\"\",DATOS!T412)","v":""},{"$f":"IF(DATOS!AP412=\"\",\"\",DATOS!AP412)","v":""}]
[{"$f":"IF(DATOS!B413=\"\",\"\",DATOS!B413)","v":""},{"$f":"IF(DATOS!BU413=\"\",\"\",DATOS!BU413)","v":""},{"$f":"IF(DATOS!CE413=\"\",\"\",DATOS!CE413)","v":""},{"$f":"IF(DATOS!CF413=\"\",\"\",DATOS!CF413)","v":""},{"$f":"IF(DATOS!T413=\"\",\"\",DATOS!T413)","v":""},{"$f":"IF(DATOS!AP413=\"\",\"\",DATOS!AP413)","v":""}]
[{"$f":"IF(DATOS!B414=\"\",\"\",DATOS!B414)","v":""},{"$f":"IF(DATOS!BU414=\"\",\"\",DATOS!BU414)","v":""},{"$f":"IF(DATOS!CE414=\"\",\"\",DATOS!CE414)","v":""},{"$f":"IF(DATOS!CF414=\"\",\"\",DATOS!CF414)","v":""},{"$f":"IF(DATOS!T414=\"\",\"\",DATOS!T414)","v":""},{"$f":"IF(DATOS!AP414=\"\",\"\",DATOS!AP414)","v":""}]
[{"$f":"IF(DATOS!B415=\"\",\"\",DATOS!B415)","v":""},{"$f":"IF(DATOS!BU415=\"\",\"\",DATOS!BU415)","v":""},{"$f":"IF(DATOS!CE415=\"\",\"\",DATOS!CE415)","v":""},{"$f":"IF(DATOS!CF415=\"\",\"\",DATOS!CF415)","v":""},{"$f":"IF(DATOS!T415=\"\",\"\",DATOS!T415)","v":""},{"$f":"IF(DATOS!AP415=\"\",\"\",DATOS!AP415)","v":""}]
[{"$f":"IF(DATOS!B416=\"\",\"\",DATOS!B416)","v":""},{"$f":"IF(DATOS!BU416=\"\",\"\",DATOS!BU416)","v":""},{"$f":"IF(DATOS!CE416=\"\",\"\",DATOS!CE416)","v":""},{"$f":"IF(DATOS!CF416=\"\",\"\",DATOS!CF416)","v":""},{"$f":"IF(DATOS!T416=\"\",\"\",DATOS!T416)","v":""},{"$f":"IF(DATOS!AP416=\"\",\"\",DATOS!AP416)","v":""}]
[{"$f":"IF(DATOS!B417=\"\",\"\",DATOS!B417)","v":""},{"$f":"IF(DATOS!BU417=\"\",\"\",DATOS!BU417)","v":""},{"$f":"IF(DATOS!CE417=\"\",\"\",DATOS!CE417)","v":""},{"$f":"IF(DATOS!CF417=\"\",\"\",DATOS!CF417)","v":""},{"$f":"IF(DATOS!T417=\"\",\"\",DATOS!T417)","v":""},{"$f":"IF(DATOS!AP417=\"\",\"\",DATOS!AP417)","v":""}]
[{"$f":"IF(DATOS!B418=\"\",\"\",DATOS!B418)","v":""},{"$f":"IF(DATOS!BU418=\"\",\"\",DATOS!BU418)","v":""},{"$f":"IF(DATOS!CE418=\"\",\"\",DATOS!CE418)","v":""},{"$f":"IF(DATOS!CF418=\"\",\"\",DATOS!CF418)","v":""},{"$f":"IF(DATOS!T418=\"\",\"\",DATOS!T418)","v":""},{"$f":"IF(DATOS!AP418=\"\",\"\",DATOS!AP418)","v":""}]
[{"$f":"IF(DATOS!B419=\"\",\"\",DATOS!B419)","v":""},{"$f":"IF(DATOS!BU419=\"\",\"\",DATOS!BU419)","v":""},{"$f":"IF(DATOS!CE419=\"\",\"\",DATOS!CE419)","v":""},{"$f":"IF(DATOS!CF419=\"\",\"\",DATOS!CF419)","v":""},{"$f":"IF(DATOS!T419=\"\",\"\",DATOS!T419)","v":""},{"$f":"IF(DATOS!AP419=\"\",\"\",DATOS!AP419)","v":""}]
[{"$f":"IF(DATOS!B420=\"\",\"\",DATOS!B420)","v":""},{"$f":"IF(DATOS!BU420=\"\",\"\",DATOS!BU420)","v":""},{"$f":"IF(DATOS!CE420=\"\",\"\",DATOS!CE420)","v":""},{"$f":"IF(DATOS!CF420=\"\",\"\",DATOS!CF420)","v":""},{"$f":"IF(DATOS!T420=\"\",\"\",DATOS!T420)","v":""},{"$f":"IF(DATOS!AP420=\"\",\"\",DATOS!AP420)","v":""}]
[{"$f":"IF(DATOS!B421=\"\",\"\",DATOS!B421)","v":""},{"$f":"IF(DATOS!BU421=\"\",\"\",DATOS!BU421)","v":""},{"$f":"IF(DATOS!CE421=\"\",\"\",DATOS!CE421)","v":""},{"$f":"IF(DATOS!CF421=\"\",\"\",DATOS!CF421)","v":""},{"$f":"IF(DATOS!T421=\"\",\"\",DATOS!T421)","v":""},{"$f":"IF(DATOS!AP421=\"\",\"\",DATOS!AP421)","v":""}]
[{"$f":"IF(DATOS!B422=\"\",\"\",DATOS!B422)","v":""},{"$f":"IF(DATOS!BU422=\"\",\"\",DATOS!BU422)","v":""},{"$f":"IF(DATOS!CE422=\"\",\"\",DATOS!CE422)","v":""},{"$f":"IF(DATOS!CF422=\"\",\"\",DATOS!CF422)","v":""},{"$f":"IF(DATOS!T422=\"\",\"\",DATOS!T422)","v":""},{"$f":"IF(DATOS!AP422=\"\",\"\",DATOS!AP422)","v":""}]
[{"$f":"IF(DATOS!B423=\"\",\"\",DATOS!B423)","v":""},{"$f":"IF(DATOS!BU423=\"\",\"\",DATOS!BU423)","v":""},{"$f":"IF(DATOS!CE423=\"\",\"\",DATOS!CE423)","v":""},{"$f":"IF(DATOS!CF423=\"\",\"\",DATOS!CF423)","v":""},{"$f":"IF(DATOS!T423=\"\",\"\",DATOS!T423)","v":""},{"$f":"IF(DATOS!AP423=\"\",\"\",DATOS!AP423)","v":""}]
[{"$f":"IF(DATOS!B424=\"\",\"\",DATOS!B424)","v":""},{"$f":"IF(DATOS!BU424=\"\",\"\",DATOS!BU424)","v":""},{"$f":"IF(DATOS!CE424=\"\",\"\",DATOS!CE424)","v":""},{"$f":"IF(DATOS!CF424=\"\",\"\",DATOS!CF424)","v":""},{"$f":"IF(DATOS!T424=\"\",\"\",DATOS!T424)","v":""},{"$f":"IF(DATOS!AP424=\"\",\"\",DATOS!AP424)","v":""}]
[{"$f":"IF(DATOS!B425=\"\",\"\",DATOS!B425)","v":""},{"$f":"IF(DATOS!BU425=\"\",\"\",DATOS!BU425)","v":""},{"$f":"IF(DATOS!CE425=\"\",\"\",DATOS!CE425)","v":""},{"$f":"IF(DATOS!CF425=\"\",\"\",DATOS!CF425)","v":""},{"$f":"IF(DATOS!T425=\"\",\"\",DATOS!T425)","v":""},{"$f":"IF(DATOS!AP425=\"\",\"\",DATOS!AP425)","v":""}]
[{"$f":"IF(DATOS!B426=\"\",\"\",DATOS!B426)","v":""},{"$f":"IF(DATOS!BU426=\"\",\"\",DATOS!BU426)","v":""},{"$f":"IF(DATOS!CE426=\"\",\"\",DATOS!CE426)","v":""},{"$f":"IF(DATOS!CF426=\"\",\"\",DATOS!CF426)","v":""},{"$f":"IF(DATOS!T426=\"\",\"\",DATOS!T426)","v":""},{"$f":"IF(DATOS!AP426=\"\",\"\",DATOS!AP426)","v":""}]
[{"$f":"IF(DATOS!B427=\"\",\"\",DATOS!B427)","v":""},{"$f":"IF(DATOS!BU427=\"\",\"\",DATOS!BU427)","v":""},{"$f":"IF(DATOS!CE427=\"\",\"\",DATOS!CE427)","v":""},{"$f":"IF(DATOS!CF427=\"\",\"\",DATOS!CF427)","v":""},{"$f":"IF(DATOS!T427=\"\",\"\",DATOS!T427)","v":""},{"$f":"IF(DATOS!AP427=\"\",\"\",DATOS!AP427)","v":""}]
[{"$f":"IF(DATOS!B428=\"\",\"\",DATOS!B428)","v":""},{"$f":"IF(DATOS!BU428=\"\",\"\",DATOS!BU428)","v":""},{"$f":"IF(DATOS!CE428=\"\",\"\",DATOS!CE428)","v":""},{"$f":"IF(DATOS!CF428=\"\",\"\",DATOS!CF428)","v":""},{"$f":"IF(DATOS!T428=\"\",\"\",DATOS!T428)","v":""},{"$f":"IF(DATOS!AP428=\"\",\"\",DATOS!AP428)","v":""}]
[{"$f":"IF(DATOS!B429=\"\",\"\",DATOS!B429)","v":""},{"$f":"IF(DATOS!BU429=\"\",\"\",DATOS!BU429)","v":""},{"$f":"IF(DATOS!CE429=\"\",\"\",DATOS!CE429)","v":""},{"$f":"IF(DATOS!CF429=\"\",\"\",DATOS!CF429)","v":""},{"$f":"IF(DATOS!T429=\"\",\"\",DATOS!T429)","v":""},{"$f":"IF(DATOS!AP429=\"\",\"\",DATOS!AP429)","v":""}]
[{"$f":"IF(DATOS!B430=\"\",\"\",DATOS!B430)","v":""},{"$f":"IF(DATOS!BU430=\"\",\"\",DATOS!BU430)","v":""},{"$f":"IF(DATOS!CE430=\"\",\"\",DATOS!CE430)","v":""},{"$f":"IF(DATOS!CF430=\"\",\"\",DATOS!CF430)","v":""},{"$f":"IF(DATOS!T430=\"\",\"\",DATOS!T430)","v":""},{"$f":"IF(DATOS!AP430=\"\",\"\",DATOS!AP430)","v":""}]
[{"$f":"IF(DATOS!B431=\"\",\"\",DATOS!B431)","v":""},{"$f":"IF(DATOS!BU431=\"\",\"\",DATOS!BU431)","v":""},{"$f":"IF(DATOS!CE431=\"\",\"\",DATOS!CE431)","v":""},{"$f":"IF(DATOS!CF431=\"\",\"\",DATOS!CF431)","v":""},{"$f":"IF(DATOS!T431=\"\",\"\",DATOS!T431)","v":""},{"$f":"IF(DATOS!AP431=\"\",\"\",DATOS!AP431)","v":""}]
[{"$f":"IF(DATOS!B432=\"\",\"\",DATOS!B432)","v":""},{"$f":"IF(DATOS!BU432=\"\",\"\",DATOS!BU432)","v":""},{"$f":"IF(DATOS!CE432=\"\",\"\",DATOS!CE432)","v":""},{"$f":"IF(DATOS!CF432=\"\",\"\",DATOS!CF432)","v":""},{"$f":"IF(DATOS!T432=\"\",\"\",DATOS!T432)","v":""},{"$f":"IF(DATOS!AP432=\"\",\"\",DATOS!AP432)","v":""}]
[{"$f":"IF(DATOS!B433=\"\",\"\",DATOS!B433)","v":""},{"$f":"IF(DATOS!BU433=\"\",\"\",DATOS!BU433)","v":""},{"$f":"IF(DATOS!CE433=\"\",\"\",DATOS!CE433)","v":""},{"$f":"IF(DATOS!CF433=\"\",\"\",DATOS!CF433)","v":""},{"$f":"IF(DATOS!T433=\"\",\"\",DATOS!T433)","v":""},{"$f":"IF(DATOS!AP433=\"\",\"\",DATOS!AP433)","v":""}]
[{"$f":"IF(DATOS!B434=\"\",\"\",DATOS!B434)","v":""},{"$f":"IF(DATOS!BU434=\"\",\"\",DATOS!BU434)","v":""},{"$f":"IF(DATOS!CE434=\"\",\"\",DATOS!CE434)","v":""},{"$f":"IF(DATOS!CF434=\"\",\"\",DATOS!CF434)","v":""},{"$f":"IF(DATOS!T434=\"\",\"\",DATOS!T434)","v":""},{"$f":"IF(DATOS!AP434=\"\",\"\",DATOS!AP434)","v":""}]
[{"$f":"IF(DATOS!B435=\"\",\"\",DATOS!B435)","v":""},{"$f":"IF(DATOS!BU435=\"\",\"\",DATOS!BU435)","v":""},{"$f":"IF(DATOS!CE435=\"\",\"\",DATOS!CE435)","v":""},{"$f":"IF(DATOS!CF435=\"\",\"\",DATOS!CF435)","v":""},{"$f":"IF(DATOS!T435=\"\",\"\",DATOS!T435)","v":""},{"$f":"IF(DATOS!AP435=\"\",\"\",DATOS!AP435)","v":""}]
[{"$f":"IF(DATOS!B436=\"\",\"\",DATOS!B436)","v":""},{"$f":"IF(DATOS!BU436=\"\",\"\",DATOS!BU436)","v":""},{"$f":"IF(DATOS!CE436=\"\",\"\",DATOS!CE436)","v":""},{"$f":"IF(DATOS!CF436=\"\",\"\",DATOS!CF436)","v":""},{"$f":"IF(DATOS!T436=\"\",\"\",DATOS!T436)","v":""},{"$f":"IF(DATOS!AP436=\"\",\"\",DATOS!AP436)","v":""}]
[{"$f":"IF(DATOS!B437=\"\",\"\",DATOS!B437)","v":""},{"$f":"IF(DATOS!BU437=\"\",\"\",DATOS!BU437)","v":""},{"$f":"IF(DATOS!CE437=\"\",\"\",DATOS!CE437)","v":""},{"$f":"IF(DATOS!CF437=\"\",\"\",DATOS!CF437)","v":""},{"$f":"IF(DATOS!T437=\"\",\"\",DATOS!T437)","v":""},{"$f":"IF(DATOS!AP437=\"\",\"\",DATOS!AP437)","v":""}]
[{"$f":"IF(DATOS!B438=\"\",\"\",DATOS!B438)","v":""},{"$f":"IF(DATOS!BU438=\"\",\"\",DATOS!BU438)","v":""},{"$f":"IF(DATOS!CE438=\"\",\"\",DATOS!CE438)","v":""},{"$f":"IF(DATOS!CF438=\"\",\"\",DATOS!CF438)","v":""},{"$f":"IF(DATOS!T438=\"\",\"\",DATOS!T438)","v":""},{"$f":"IF(DATOS!AP438=\"\",\"\",DATOS!AP438)","v":""}]
[{"$f":"IF(DATOS!B439=\"\",\"\",DATOS!B439)","v":""},{"$f":"IF(DATOS!BU439=\"\",\"\",DATOS!BU439)","v":""},{"$f":"IF(DATOS!CE439=\"\",\"\",DATOS!CE439)","v":""},{"$f":"IF(DATOS!CF439=\"\",\"\",DATOS!CF439)","v":""},{"$f":"IF(DATOS!T439=\"\",\"\",DATOS!T439)","v":""},{"$f":"IF(DATOS!AP439=\"\",\"\",DATOS!AP439)","v":""}]
[{"$f":"IF(DATOS!B440=\"\",\"\",DATOS!B440)","v":""},{"$f":"IF(DATOS!BU440=\"\",\"\",DATOS!BU440)","v":""},{"$f":"IF(DATOS!CE440=\"\",\"\",DATOS!CE440)","v":""},{"$f":"IF(DATOS!CF440=\"\",\"\",DATOS!CF440)","v":""},{"$f":"IF(DATOS!T440=\"\",\"\",DATOS!T440)","v":""},{"$f":"IF(DATOS!AP440=\"\",\"\",DATOS!AP440)","v":""}]
[{"$f":"IF(DATOS!B441=\"\",\"\",DATOS!B441)","v":""},{"$f":"IF(DATOS!BU441=\"\",\"\",DATOS!BU441)","v":""},{"$f":"IF(DATOS!CE441=\"\",\"\",DATOS!CE441)","v":""},{"$f":"IF(DATOS!CF441=\"\",\"\",DATOS!CF441)","v":""},{"$f":"IF(DATOS!T441=\"\",\"\",DATOS!T441)","v":""},{"$f":"IF(DATOS!AP441=\"\",\"\",DATOS!AP441)","v":""}]
[{"$f":"IF(DATOS!B442=\"\",\"\",DATOS!B442)","v":""},{"$f":"IF(DATOS!BU442=\"\",\"\",DATOS!BU442)","v":""},{"$f":"IF(DATOS!CE442=\"\",\"\",DATOS!CE442)","v":""},{"$f":"IF(DATOS!CF442=\"\",\"\",DATOS!CF442)","v":""},{"$f":"IF(DATOS!T442=\"\",\"\",DATOS!T442)","v":""},{"$f":"IF(DATOS!AP442=\"\",\"\",DATOS!AP442)","v":""}]
[{"$f":"IF(DATOS!B443=\"\",\"\",DATOS!B443)","v":""},{"$f":"IF(DATOS!BU443=\"\",\"\",DATOS!BU443)","v":""},{"$f":"IF(DATOS!CE443=\"\",\"\",DATOS!CE443)","v":""},{"$f":"IF(DATOS!CF443=\"\",\"\",DATOS!CF443)","v":""},{"$f":"IF(DATOS!T443=\"\",\"\",DATOS!T443)","v":""},{"$f":"IF(DATOS!AP443=\"\",\"\",DATOS!AP443)","v":""}]
[{"$f":"IF(DATOS!B444=\"\",\"\",DATOS!B444)","v":""},{"$f":"IF(DATOS!BU444=\"\",\"\",DATOS!BU444)","v":""},{"$f":"IF(DATOS!CE444=\"\",\"\",DATOS!CE444)","v":""},{"$f":"IF(DATOS!CF444=\"\",\"\",DATOS!CF444)","v":""},{"$f":"IF(DATOS!T444=\"\",\"\",DATOS!T444)","v":""},{"$f":"IF(DATOS!AP444=\"\",\"\",DATOS!AP444)","v":""}]
[{"$f":"IF(DATOS!B445=\"\",\"\",DATOS!B445)","v":""},{"$f":"IF(DATOS!BU445=\"\",\"\",DATOS!BU445)","v":""},{"$f":"IF(DATOS!CE445=\"\",\"\",DATOS!CE445)","v":""},{"$f":"IF(DATOS!CF445=\"\",\"\",DATOS!CF445)","v":""},{"$f":"IF(DATOS!T445=\"\",\"\",DATOS!T445)","v":""},{"$f":"IF(DATOS!AP445=\"\",\"\",DATOS!AP445)","v":""}]
[{"$f":"IF(DATOS!B446=\"\",\"\",DATOS!B446)","v":""},{"$f":"IF(DATOS!BU446=\"\",\"\",DATOS!BU446)","v":""},{"$f":"IF(DATOS!CE446=\"\",\"\",DATOS!CE446)","v":""},{"$f":"IF(DATOS!CF446=\"\",\"\",DATOS!CF446)","v":""},{"$f":"IF(DATOS!T446=\"\",\"\",DATOS!T446)","v":""},{"$f":"IF(DATOS!AP446=\"\",\"\",DATOS!AP446)","v":""}]
[{"$f":"IF(DATOS!B447=\"\",\"\",DATOS!B447)","v":""},{"$f":"IF(DATOS!BU447=\"\",\"\",DATOS!BU447)","v":""},{"$f":"IF(DATOS!CE447=\"\",\"\",DATOS!CE447)","v":""},{"$f":"IF(DATOS!CF447=\"\",\"\",DATOS!CF447)","v":""},{"$f":"IF(DATOS!T447=\"\",\"\",DATOS!T447)","v":""},{"$f":"IF(DATOS!AP447=\"\",\"\",DATOS!AP447)","v":""}]
[{"$f":"IF(DATOS!B448=\"\",\"\",DATOS!B448)","v":""},{"$f":"IF(DATOS!BU448=\"\",\"\",DATOS!BU448)","v":""},{"$f":"IF(DATOS!CE448=\"\",\"\",DATOS!CE448)","v":""},{"$f":"IF(DATOS!CF448=\"\",\"\",DATOS!CF448)","v":""},{"$f":"IF(DATOS!T448=\"\",\"\",DATOS!T448)","v":""},{"$f":"IF(DATOS!AP448=\"\",\"\",DATOS!AP448)","v":""}]
[{"$f":"IF(DATOS!B449=\"\",\"\",DATOS!B449)","v":""},{"$f":"IF(DATOS!BU449=\"\",\"\",DATOS!BU449)","v":""},{"$f":"IF(DATOS!CE449=\"\",\"\",DATOS!CE449)","v":""},{"$f":"IF(DATOS!CF449=\"\",\"\",DATOS!CF449)","v":""},{"$f":"IF(DATOS!T449=\"\",\"\",DATOS!T449)","v":""},{"$f":"IF(DATOS!AP449=\"\",\"\",DATOS!AP449)","v":""}]
[{"$f":"IF(DATOS!B450=\"\",\"\",DATOS!B450)","v":""},{"$f":"IF(DATOS!BU450=\"\",\"\",DATOS!BU450)","v":""},{"$f":"IF(DATOS!CE450=\"\",\"\",DATOS!CE450)","v":""},{"$f":"IF(DATOS!CF450=\"\",\"\",DATOS!CF450)","v":""},{"$f":"IF(DATOS!T450=\"\",\"\",DATOS!T450)","v":""},{"$f":"IF(DATOS!AP450=\"\",\"\",DATOS!AP450)","v":""}]
[{"$f":"IF(DATOS!B451=\"\",\"\",DATOS!B451)","v":""},{"$f":"IF(DATOS!BU451=\"\",\"\",DATOS!BU451)","v":""},{"$f":"IF(DATOS!CE451=\"\",\"\",DATOS!CE451)","v":""},{"$f":"IF(DATOS!CF451=\"\",\"\",DATOS!CF451)","v":""},{"$f":"IF(DATOS!T451=\"\",\"\",DATOS!T451)","v":""},{"$f":"IF(DATOS!AP451=\"\",\"\",DATOS!AP451)","v":""}]
[{"$f":"IF(DATOS!B452=\"\",\"\",DATOS!B452)","v":""},{"$f":"IF(DATOS!BU452=\"\",\"\",DATOS!BU452)","v":""},{"$f":"IF(DATOS!CE452=\"\",\"\",DATOS!CE452)","v":""},{"$f":"IF(DATOS!CF452=\"\",\"\",DATOS!CF452)","v":""},{"$f":"IF(DATOS!T452=\"\",\"\",DATOS!T452)","v":""},{"$f":"IF(DATOS!AP452=\"\",\"\",DATOS!AP452)","v":""}]
[{"$f":"IF(DATOS!B453=\"\",\"\",DATOS!B453)","v":""},{"$f":"IF(DATOS!BU453=\"\",\"\",DATOS!BU453)","v":""},{"$f":"IF(DATOS!CE453=\"\",\"\",DATOS!CE453)","v":""},{"$f":"IF(DATOS!CF453=\"\",\"\",DATOS!CF453)","v":""},{"$f":"IF(DATOS!T453=\"\",\"\",DATOS!T453)","v":""},{"$f":"IF(DATOS!AP453=\"\",\"\",DATOS!AP453)","v":""}]
[{"$f":"IF(DATOS!B454=\"\",\"\",DATOS!B454)","v":""},{"$f":"IF(DATOS!BU454=\"\",\"\",DATOS!BU454)","v":""},{"$f":"IF(DATOS!CE454=\"\",\"\",DATOS!CE454)","v":""},{"$f":"IF(DATOS!CF454=\"\",\"\",DATOS!CF454)","v":""},{"$f":"IF(DATOS!T454=\"\",\"\",DATOS!T454)","v":""},{"$f":"IF(DATOS!AP454=\"\",\"\",DATOS!AP454)","v":""}]
[{"$f":"IF(DATOS!B455=\"\",\"\",DATOS!B455)","v":""},{"$f":"IF(DATOS!BU455=\"\",\"\",DATOS!BU455)","v":""},{"$f":"IF(DATOS!CE455=\"\",\"\",DATOS!CE455)","v":""},{"$f":"IF(DATOS!CF455=\"\",\"\",DATOS!CF455)","v":""},{"$f":"IF(DATOS!T455=\"\",\"\",DATOS!T455)","v":""},{"$f":"IF(DATOS!AP455=\"\",\"\",DATOS!AP455)","v":""}]
[{"$f":"IF(DATOS!B456=\"\",\"\",DATOS!B456)","v":""},{"$f":"IF(DATOS!BU456=\"\",\"\",DATOS!BU456)","v":""},{"$f":"IF(DATOS!CE456=\"\",\"\",DATOS!CE456)","v":""},{"$f":"IF(DATOS!CF456=\"\",\"\",DATOS!CF456)","v":""},{"$f":"IF(DATOS!T456=\"\",\"\",DATOS!T456)","v":""},{"$f":"IF(DATOS!AP456=\"\",\"\",DATOS!AP456)","v":""}]
[{"$f":"IF(DATOS!B457=\"\",\"\",DATOS!B457)","v":""},{"$f":"IF(DATOS!BU457=\"\",\"\",DATOS!BU457)","v":""},{"$f":"IF(DATOS!CE457=\"\",\"\",DATOS!CE457)","v":""},{"$f":"IF(DATOS!CF457=\"\",\"\",DATOS!CF457)","v":""},{"$f":"IF(DATOS!T457=\"\",\"\",DATOS!T457)","v":""},{"$f":"IF(DATOS!AP457=\"\",\"\",DATOS!AP457)","v":""}]
[{"$f":"IF(DATOS!B458=\"\",\"\",DATOS!B458)","v":""},{"$f":"IF(DATOS!BU458=\"\",\"\",DATOS!BU458)","v":""},{"$f":"IF(DATOS!CE458=\"\",\"\",DATOS!CE458)","v":""},{"$f":"IF(DATOS!CF458=\"\",\"\",DATOS!CF458)","v":""},{"$f":"IF(DATOS!T458=\"\",\"\",DATOS!T458)","v":""},{"$f":"IF(DATOS!AP458=\"\",\"\",DATOS!AP458)","v":""}]
[{"$f":"IF(DATOS!B459=\"\",\"\",DATOS!B459)","v":""},{"$f":"IF(DATOS!BU459=\"\",\"\",DATOS!BU459)","v":""},{"$f":"IF(DATOS!CE459=\"\",\"\",DATOS!CE459)","v":""},{"$f":"IF(DATOS!CF459=\"\",\"\",DATOS!CF459)","v":""},{"$f":"IF(DATOS!T459=\"\",\"\",DATOS!T459)","v":""},{"$f":"IF(DATOS!AP459=\"\",\"\",DATOS!AP459)","v":""}]
[{"$f":"IF(DATOS!B460=\"\",\"\",DATOS!B460)","v":""},{"$f":"IF(DATOS!BU460=\"\",\"\",DATOS!BU460)","v":""},{"$f":"IF(DATOS!CE460=\"\",\"\",DATOS!CE460)","v":""},{"$f":"IF(DATOS!CF460=\"\",\"\",DATOS!CF460)","v":""},{"$f":"IF(DATOS!T460=\"\",\"\",DATOS!T460)","v":""},{"$f":"IF(DATOS!AP460=\"\",\"\",DATOS!AP460)","v":""}]
[{"$f":"IF(DATOS!B461=\"\",\"\",DATOS!B461)","v":""},{"$f":"IF(DATOS!BU461=\"\",\"\",DATOS!BU461)","v":""},{"$f":"IF(DATOS!CE461=\"\",\"\",DATOS!CE461)","v":""},{"$f":"IF(DATOS!CF461=\"\",\"\",DATOS!CF461)","v":""},{"$f":"IF(DATOS!T461=\"\",\"\",DATOS!T461)","v":""},{"$f":"IF(DATOS!AP461=\"\",\"\",DATOS!AP461)","v":""}]
[{"$f":"IF(DATOS!B462=\"\",\"\",DATOS!B462)","v":""},{"$f":"IF(DATOS!BU462=\"\",\"\",DATOS!BU462)","v":""},{"$f":"IF(DATOS!CE462=\"\",\"\",DATOS!CE462)","v":""},{"$f":"IF(DATOS!CF462=\"\",\"\",DATOS!CF462)","v":""},{"$f":"IF(DATOS!T462=\"\",\"\",DATOS!T462)","v":""},{"$f":"IF(DATOS!AP462=\"\",\"\",DATOS!AP462)","v":""}]
[{"$f":"IF(DATOS!B463=\"\",\"\",DATOS!B463)","v":""},{"$f":"IF(DATOS!BU463=\"\",\"\",DATOS!BU463)","v":""},{"$f":"IF(DATOS!CE463=\"\",\"\",DATOS!CE463)","v":""},{"$f":"IF(DATOS!CF463=\"\",\"\",DATOS!CF463)","v":""},{"$f":"IF(DATOS!T463=\"\",\"\",DATOS!T463)","v":""},{"$f":"IF(DATOS!AP463=\"\",\"\",DATOS!AP463)","v":""}]
[{"$f":"IF(DATOS!B464=\"\",\"\",DATOS!B464)","v":""},{"$f":"IF(DATOS!BU464=\"\",\"\",DATOS!BU464)","v":""},{"$f":"IF(DATOS!CE464=\"\",\"\",DATOS!CE464)","v":""},{"$f":"IF(DATOS!CF464=\"\",\"\",DATOS!CF464)","v":""},{"$f":"IF(DATOS!T464=\"\",\"\",DATOS!T464)","v":""},{"$f":"IF(DATOS!AP464=\"\",\"\",DATOS!AP464)","v":""}]
[{"$f":"IF(DATOS!B465=\"\",\"\",DATOS!B465)","v":""},{"$f":"IF(DATOS!BU465=\"\",\"\",DATOS!BU465)","v":""},{"$f":"IF(DATOS!CE465=\"\",\"\",DATOS!CE465)","v":""},{"$f":"IF(DATOS!CF465=\"\",\"\",DATOS!CF465)","v":""},{"$f":"IF(DATOS!T465=\"\",\"\",DATOS!T465)","v":""},{"$f":"IF(DATOS!AP465=\"\",\"\",DATOS!AP465)","v":""}]
[{"$f":"IF(DATOS!B466=\"\",\"\",DATOS!B466)","v":""},{"$f":"IF(DATOS!BU466=\"\",\"\",DATOS!BU466)","v":""},{"$f":"IF(DATOS!CE466=\"\",\"\",DATOS!CE466)","v":""},{"$f":"IF(DATOS!CF466=\"\",\"\",DATOS!CF466)","v":""},{"$f":"IF(DATOS!T466=\"\",\"\",DATOS!T466)","v":""},{"$f":"IF(DATOS!AP466=\"\",\"\",DATOS!AP466)","v":""}]
[{"$f":"IF(DATOS!B467=\"\",\"\",DATOS!B467)","v":""},{"$f":"IF(DATOS!BU467=\"\",\"\",DATOS!BU467)","v":""},{"$f":"IF(DATOS!CE467=\"\",\"\",DATOS!CE467)","v":""},{"$f":"IF(DATOS!CF467=\"\",\"\",DATOS!CF467)","v":""},{"$f":"IF(DATOS!T467=\"\",\"\",DATOS!T467)","v":""},{"$f":"IF(DATOS!AP467=\"\",\"\",DATOS!AP467)","v":""}]
[{"$f":"IF(DATOS!B468=\"\",\"\",DATOS!B468)","v":""},{"$f":"IF(DATOS!BU468=\"\",\"\",DATOS!BU468)","v":""},{"$f":"IF(DATOS!CE468=\"\",\"\",DATOS!CE468)","v":""},{"$f":"IF(DATOS!CF468=\"\",\"\",DATOS!CF468)","v":""},{"$f":"IF(DATOS!T468=\"\",\"\",DATOS!T468)","v":""},{"$f":"IF(DATOS!AP468=\"\",\"\",DATOS!AP468)","v":""}]
[{"$f":"IF(DATOS!B469=\"\",\"\",DATOS!B469)","v":""},{"$f":"IF(DATOS!BU469=\"\",\"\",DATOS!BU469)","v":""},{"$f":"IF(DATOS!CE469=\"\",\"\",DATOS!CE469)","v":""},{"$f":"IF(DATOS!CF469=\"\",\"\",DATOS!CF469)","v":""},{"$f":"IF(DATOS!T469=\"\",\"\",DATOS!T469)","v":""},{"$f":"IF(DATOS!AP469=\"\",\"\",DATOS!AP469)","v":""}]
[{"$f":"IF(DATOS!B470=\"\",\"\",DATOS!B470)","v":""},{"$f":"IF(DATOS!BU470=\"\",\"\",DATOS!BU470)","v":""},{"$f":"IF(DATOS!CE470=\"\",\"\",DATOS!CE470)","v":""},{"$f":"IF(DATOS!CF470=\"\",\"\",DATOS!CF470)","v":""},{"$f":"IF(DATOS!T470=\"\",\"\",DATOS!T470)","v":""},{"$f":"IF(DATOS!AP470=\"\",\"\",DATOS!AP470)","v":""}]
[{"$f":"IF(DATOS!B471=\"\",\"\",DATOS!B471)","v":""},{"$f":"IF(DATOS!BU471=\"\",\"\",DATOS!BU471)","v":""},{"$f":"IF(DATOS!CE471=\"\",\"\",DATOS!CE471)","v":""},{"$f":"IF(DATOS!CF471=\"\",\"\",DATOS!CF471)","v":""},{"$f":"IF(DATOS!T471=\"\",\"\",DATOS!T471)","v":""},{"$f":"IF(DATOS!AP471=\"\",\"\",DATOS!AP471)","v":""}]
[{"$f":"IF(DATOS!B472=\"\",\"\",DATOS!B472)","v":""},{"$f":"IF(DATOS!BU472=\"\",\"\",DATOS!BU472)","v":""},{"$f":"IF(DATOS!CE472=\"\",\"\",DATOS!CE472)","v":""},{"$f":"IF(DATOS!CF472=\"\",\"\",DATOS!CF472)","v":""},{"$f":"IF(DATOS!T472=\"\",\"\",DATOS!T472)","v":""},{"$f":"IF(DATOS!AP472=\"\",\"\",DATOS!AP472)","v":""}]
[{"$f":"IF(DATOS!B473=\"\",\"\",DATOS!B473)","v":""},{"$f":"IF(DATOS!BU473=\"\",\"\",DATOS!BU473)","v":""},{"$f":"IF(DATOS!CE473=\"\",\"\",DATOS!CE473)","v":""},{"$f":"IF(DATOS!CF473=\"\",\"\",DATOS!CF473)","v":""},{"$f":"IF(DATOS!T473=\"\",\"\",DATOS!T473)","v":""},{"$f":"IF(DATOS!AP473=\"\",\"\",DATOS!AP473)","v":""}]
[{"$f":"IF(DATOS!B474=\"\",\"\",DATOS!B474)","v":""},{"$f":"IF(DATOS!BU474=\"\",\"\",DATOS!BU474)","v":""},{"$f":"IF(DATOS!CE474=\"\",\"\",DATOS!CE474)","v":""},{"$f":"IF(DATOS!CF474=\"\",\"\",DATOS!CF474)","v":""},{"$f":"IF(DATOS!T474=\"\",\"\",DATOS!T474)","v":""},{"$f":"IF(DATOS!AP474=\"\",\"\",DATOS!AP474)","v":""}]
[{"$f":"IF(DATOS!B475=\"\",\"\",DATOS!B475)","v":""},{"$f":"IF(DATOS!BU475=\"\",\"\",DATOS!BU475)","v":""},{"$f":"IF(DATOS!CE475=\"\",\"\",DATOS!CE475)","v":""},{"$f":"IF(DATOS!CF475=\"\",\"\",DATOS!CF475)","v":""},{"$f":"IF(DATOS!T475=\"\",\"\",DATOS!T475)","v":""},{"$f":"IF(DATOS!AP475=\"\",\"\",DATOS!AP475)","v":""}]
[{"$f":"IF(DATOS!B476=\"\",\"\",DATOS!B476)","v":""},{"$f":"IF(DATOS!BU476=\"\",\"\",DATOS!BU476)","v":""},{"$f":"IF(DATOS!CE476=\"\",\"\",DATOS!CE476)","v":""},{"$f":"IF(DATOS!CF476=\"\",\"\",DATOS!CF476)","v":""},{"$f":"IF(DATOS!T476=\"\",\"\",DATOS!T476)","v":""},{"$f":"IF(DATOS!AP476=\"\",\"\",DATOS!AP476)","v":""}]
[{"$f":"IF(DATOS!B477=\"\",\"\",DATOS!B477)","v":""},{"$f":"IF(DATOS!BU477=\"\",\"\",DATOS!BU477)","v":""},{"$f":"IF(DATOS!CE477=\"\",\"\",DATOS!CE477)","v":""},{"$f":"IF(DATOS!CF477=\"\",\"\",DATOS!CF477)","v":""},{"$f":"IF(DATOS!T477=\"\",\"\",DATOS!T477)","v":""},{"$f":"IF(DATOS!AP477=\"\",\"\",DATOS!AP477)","v":""}]
[{"$f":"IF(DATOS!B478=\"\",\"\",DATOS!B478)","v":""},{"$f":"IF(DATOS!BU478=\"\",\"\",DATOS!BU478)","v":""},{"$f":"IF(DATOS!CE478=\"\",\"\",DATOS!CE478)","v":""},{"$f":"IF(DATOS!CF478=\"\",\"\",DATOS!CF478)","v":""},{"$f":"IF(DATOS!T478=\"\",\"\",DATOS!T478)","v":""},{"$f":"IF(DATOS!AP478=\"\",\"\",DATOS!AP478)","v":""}]
[{"$f":"IF(DATOS!B479=\"\",\"\",DATOS!B479)","v":""},{"$f":"IF(DATOS!BU479=\"\",\"\",DATOS!BU479)","v":""},{"$f":"IF(DATOS!CE479=\"\",\"\",DATOS!CE479)","v":""},{"$f":"IF(DATOS!CF479=\"\",\"\",DATOS!CF479)","v":""},{"$f":"IF(DATOS!T479=\"\",\"\",DATOS!T479)","v":""},{"$f":"IF(DATOS!AP479=\"\",\"\",DATOS!AP479)","v":""}]
[{"$f":"IF(DATOS!B480=\"\",\"\",DATOS!B480)","v":""},{"$f":"IF(DATOS!BU480=\"\",\"\",DATOS!BU480)","v":""},{"$f":"IF(DATOS!CE480=\"\",\"\",DATOS!CE480)","v":""},{"$f":"IF(DATOS!CF480=\"\",\"\",DATOS!CF480)","v":""},{"$f":"IF(DATOS!T480=\"\",\"\",DATOS!T480)","v":""},{"$f":"IF(DATOS!AP480=\"\",\"\",DATOS!AP480)","v":""}]
[{"$f":"IF(DATOS!B481=\"\",\"\",DATOS!B481)","v":""},{"$f":"IF(DATOS!BU481=\"\",\"\",DATOS!BU481)","v":""},{"$f":"IF(DATOS!CE481=\"\",\"\",DATOS!CE481)","v":""},{"$f":"IF(DATOS!CF481=\"\",\"\",DATOS!CF481)","v":""},{"$f":"IF(DATOS!T481=\"\",\"\",DATOS!T481)","v":""},{"$f":"IF(DATOS!AP481=\"\",\"\",DATOS!AP481)","v":""}]
[{"$f":"IF(DATOS!B482=\"\",\"\",DATOS!B482)","v":""},{"$f":"IF(DATOS!BU482=\"\",\"\",DATOS!BU482)","v":""},{"$f":"IF(DATOS!CE482=\"\",\"\",DATOS!CE482)","v":""},{"$f":"IF(DATOS!CF482=\"\",\"\",DATOS!CF482)","v":""},{"$f":"IF(DATOS!T482=\"\",\"\",DATOS!T482)","v":""},{"$f":"IF(DATOS!AP482=\"\",\"\",DATOS!AP482)","v":""}]
[{"$f":"IF(DATOS!B483=\"\",\"\",DATOS!B483)","v":""},{"$f":"IF(DATOS!BU483=\"\",\"\",DATOS!BU483)","v":""},{"$f":"IF(DATOS!CE483=\"\",\"\",DATOS!CE483)","v":""},{"$f":"IF(DATOS!CF483=\"\",\"\",DATOS!CF483)","v":""},{"$f":"IF(DATOS!T483=\"\",\"\",DATOS!T483)","v":""},{"$f":"IF(DATOS!AP483=\"\",\"\",DATOS!AP483)","v":""}]
[{"$f":"IF(DATOS!B484=\"\",\"\",DATOS!B484)","v":""},{"$f":"IF(DATOS!BU484=\"\",\"\",DATOS!BU484)","v":""},{"$f":"IF(DATOS!CE484=\"\",\"\",DATOS!CE484)","v":""},{"$f":"IF(DATOS!CF484=\"\",\"\",DATOS!CF484)","v":""},{"$f":"IF(DATOS!T484=\"\",\"\",DATOS!T484)","v":""},{"$f":"IF(DATOS!AP484=\"\",\"\",DATOS!AP484)","v":""}]
[{"$f":"IF(DATOS!B485=\"\",\"\",DATOS!B485)","v":""},{"$f":"IF(DATOS!BU485=\"\",\"\",DATOS!BU485)","v":""},{"$f":"IF(DATOS!CE485=\"\",\"\",DATOS!CE485)","v":""},{"$f":"IF(DATOS!CF485=\"\",\"\",DATOS!CF485)","v":""},{"$f":"IF(DATOS!T485=\"\",\"\",DATOS!T485)","v":""},{"$f":"IF(DATOS!AP485=\"\",\"\",DATOS!AP485)","v":""}]
[{"$f":"IF(DATOS!B486=\"\",\"\",DATOS!B486)","v":""},{"$f":"IF(DATOS!BU486=\"\",\"\",DATOS!BU486)","v":""},{"$f":"IF(DATOS!CE486=\"\",\"\",DATOS!CE486)","v":""},{"$f":"IF(DATOS!CF486=\"\",\"\",DATOS!CF486)","v":""},{"$f":"IF(DATOS!T486=\"\",\"\",DATOS!T486)","v":""},{"$f":"IF(DATOS!AP486=\"\",\"\",DATOS!AP486)","v":""}]
[{"$f":"IF(DATOS!B487=\"\",\"\",DATOS!B487)","v":""},{"$f":"IF(DATOS!BU487=\"\",\"\",DATOS!BU487)","v":""},{"$f":"IF(DATOS!CE487=\"\",\"\",DATOS!CE487)","v":""},{"$f":"IF(DATOS!CF487=\"\",\"\",DATOS!CF487)","v":""},{"$f":"IF(DATOS!T487=\"\",\"\",DATOS!T487)","v":""},{"$f":"IF(DATOS!AP487=\"\",\"\",DATOS!AP487)","v":""}]
[{"$f":"IF(DATOS!B488=\"\",\"\",DATOS!B488)","v":""},{"$f":"IF(DATOS!BU488=\"\",\"\",DATOS!BU488)","v":""},{"$f":"IF(DATOS!CE488=\"\",\"\",DATOS!CE488)","v":""},{"$f":"IF(DATOS!CF488=\"\",\"\",DATOS!CF488)","v":""},{"$f":"IF(DATOS!T488=\"\",\"\",DATOS!T488)","v":""},{"$f":"IF(DATOS!AP488=\"\",\"\",DATOS!AP488)","v":""}]
[{"$f":"IF(DATOS!B489=\"\",\"\",DATOS!B489)","v":""},{"$f":"IF(DATOS!BU489=\"\",\"\",DATOS!BU489)","v":""},{"$f":"IF(DATOS!CE489=\"\",\"\",DATOS!CE489)","v":""},{"$f":"IF(DATOS!CF489=\"\",\"\",DATOS!CF489)","v":""},{"$f":"IF(DATOS!T489=\"\",\"\",DATOS!T489)","v":""},{"$f":"IF(DATOS!AP489=\"\",\"\",DATOS!AP489)","v":""}]
[{"$f":"IF(DATOS!B490=\"\",\"\",DATOS!B490)","v":""},{"$f":"IF(DATOS!BU490=\"\",\"\",DATOS!BU490)","v":""},{"$f":"IF(DATOS!CE490=\"\",\"\",DATOS!CE490)","v":""},{"$f":"IF(DATOS!CF490=\"\",\"\",DATOS!CF490)","v":""},{"$f":"IF(DATOS!T490=\"\",\"\",DATOS!T490)","v":""},{"$f":"IF(DATOS!AP490=\"\",\"\",DATOS!AP490)","v":""}]
[{"$f":"IF(DATOS!B491=\"\",\"\",DATOS!B491)","v":""},{"$f":"IF(DATOS!BU491=\"\",\"\",DATOS!BU491)","v":""},{"$f":"IF(DATOS!CE491=\"\",\"\",DATOS!CE491)","v":""},{"$f":"IF(DATOS!CF491=\"\",\"\",DATOS!CF491)","v":""},{"$f":"IF(DATOS!T491=\"\",\"\",DATOS!T491)","v":""},{"$f":"IF(DATOS!AP491=\"\",\"\",DATOS!AP491)","v":""}]
[{"$f":"IF(DATOS!B492=\"\",\"\",DATOS!B492)","v":""},{"$f":"IF(DATOS!BU492=\"\",\"\",DATOS!BU492)","v":""},{"$f":"IF(DATOS!CE492=\"\",\"\",DATOS!CE492)","v":""},{"$f":"IF(DATOS!CF492=\"\",\"\",DATOS!CF492)","v":""},{"$f":"IF(DATOS!T492=\"\",\"\",DATOS!T492)","v":""},{"$f":"IF(DATOS!AP492=\"\",\"\",DATOS!AP492)","v":""}]
[{"$f":"IF(DATOS!B493=\"\",\"\",DATOS!B493)","v":""},{"$f":"IF(DATOS!BU493=\"\",\"\",DATOS!BU493)","v":""},{"$f":"IF(DATOS!CE493=\"\",\"\",DATOS!CE493)","v":""},{"$f":"IF(DATOS!CF493=\"\",\"\",DATOS!CF493)","v":""},{"$f":"IF(DATOS!T493=\"\",\"\",DATOS!T493)","v":""},{"$f":"IF(DATOS!AP493=\"\",\"\",DATOS!AP493)","v":""}]
[{"$f":"IF(DATOS!B494=\"\",\"\",DATOS!B494)","v":""},{"$f":"IF(DATOS!BU494=\"\",\"\",DATOS!BU494)","v":""},{"$f":"IF(DATOS!CE494=\"\",\"\",DATOS!CE494)","v":""},{"$f":"IF(DATOS!CF494=\"\",\"\",DATOS!CF494)","v":""},{"$f":"IF(DATOS!T494=\"\",\"\",DATOS!T494)","v":""},{"$f":"IF(DATOS!AP494=\"\",\"\",DATOS!AP494)","v":""}]
[{"$f":"IF(DATOS!B495=\"\",\"\",DATOS!B495)","v":""},{"$f":"IF(DATOS!BU495=\"\",\"\",DATOS!BU495)","v":""},{"$f":"IF(DATOS!CE495=\"\",\"\",DATOS!CE495)","v":""},{"$f":"IF(DATOS!CF495=\"\",\"\",DATOS!CF495)","v":""},{"$f":"IF(DATOS!T495=\"\",\"\",DATOS!T495)","v":""},{"$f":"IF(DATOS!AP495=\"\",\"\",DATOS!AP495)","v":""}]
[{"$f":"IF(DATOS!B496=\"\",\"\",DATOS!B496)","v":""},{"$f":"IF(DATOS!BU496=\"\",\"\",DATOS!BU496)","v":""},{"$f":"IF(DATOS!CE496=\"\",\"\",DATOS!CE496)","v":""},{"$f":"IF(DATOS!CF496=\"\",\"\",DATOS!CF496)","v":""},{"$f":"IF(DATOS!T496=\"\",\"\",DATOS!T496)","v":""},{"$f":"IF(DATOS!AP496=\"\",\"\",DATOS!AP496)","v":""}]
[{"$f":"IF(DATOS!B497=\"\",\"\",DATOS!B497)","v":""},{"$f":"IF(DATOS!BU497=\"\",\"\",DATOS!BU497)","v":""},{"$f":"IF(DATOS!CE497=\"\",\"\",DATOS!CE497)","v":""},{"$f":"IF(DATOS!CF497=\"\",\"\",DATOS!CF497)","v":""},{"$f":"IF(DATOS!T497=\"\",\"\",DATOS!T497)","v":""},{"$f":"IF(DATOS!AP497=\"\",\"\",DATOS!AP497)","v":""}]
[{"$f":"IF(DATOS!B498=\"\",\"\",DATOS!B498)","v":""},{"$f":"IF(DATOS!BU498=\"\",\"\",DATOS!BU498)","v":""},{"$f":"IF(DATOS!CE498=\"\",\"\",DATOS!CE498)","v":""},{"$f":"IF(DATOS!CF498=\"\",\"\",DATOS!CF498)","v":""},{"$f":"IF(DATOS!T498=\"\",\"\",DATOS!T498)","v":""},{"$f":"IF(DATOS!AP498=\"\",\"\",DATOS!AP498)","v":""}]
[{"$f":"IF(DATOS!B499=\"\",\"\",DATOS!B499)","v":""},{"$f":"IF(DATOS!BU499=\"\",\"\",DATOS!BU499)","v":""},{"$f":"IF(DATOS!CE499=\"\",\"\",DATOS!CE499)","v":""},{"$f":"IF(DATOS!CF499=\"\",\"\",DATOS!CF499)","v":""},{"$f":"IF(DATOS!T499=\"\",\"\",DATOS!T499)","v":""},{"$f":"IF(DATOS!AP499=\"\",\"\",DATOS!AP499)","v":""}]
[{"$f":"IF(DATOS!B500=\"\",\"\",DATOS!B500)","v":""},{"$f":"IF(DATOS!BU500=\"\",\"\",DATOS!BU500)","v":""},{"$f":"IF(DATOS!CE500=\"\",\"\",DATOS!CE500)","v":""},{"$f":"IF(DATOS!CF500=\"\",\"\",DATOS!CF500)","v":""},{"$f":"IF(DATOS!T500=\"\",\"\",DATOS!T500)","v":""},{"$f":"IF(DATOS!AP500=\"\",\"\",DATOS!AP500)","v":""}]
[{"$f":"IF(DATOS!B501=\"\",\"\",DATOS!B501)","v":""},{"$f":"IF(DATOS!BU501=\"\",\"\",DATOS!BU501)","v":""},{"$f":"IF(DATOS!CE501=\"\",\"\",DATOS!CE501)","v":""},{"$f":"IF(DATOS!CF501=\"\",\"\",DATOS!CF501)","v":""},{"$f":"IF(DATOS!T501=\"\",\"\",DATOS!T501)","v":""},{"$f":"IF(DATOS!AP501=\"\",\"\",DATOS!AP501)","v":""}]