{"text_format":"1","workbook":"xlsx","n_sheets":11,"sheets":["Registro de cambios","configuracion","DIGITADOR","DATOS","referentes","OTRAS REFERENCIAS","AGD_MUESTREOS","AGD_PARAMETRO","AGD_MUESTRAS","AGD_MUESTRAS_VARIABLES","AGD_AUTORIAS"],"not_rendered":{"charts":0,"images":0,"macros":1,"external_links":2,"defined_names":19,"comments":1,"pivot_tables":0},"unopened":[],"bounds":{"document_bytes":16777216,"sheet_cells":100000,"rows_first":2000,"rows_last":500,"rows_between":2000,"halvings":0,"cell_chars":16384,"cell_head_chars":4096},"cells_cut":0,"cells_raw":0,"read":"whole","date_system":"1900"}

{"sheet":"Registro de cambios","index":0,"n_rows":23,"n_cols":7,"rows_kept":23,"cut":false,"hidden":true,"merged":[[1,3,1,6]]}
[]
[null,null,null,"REGISTRO DE CAMBIOS"]
[null,null,null,"VERSIÓN No.","CAMBIO REALIZADO","AUTOR","VIGENTE DESDE"]
[null,null,null,"20241005i","Actualización del código de la macro.\n\nSe eliminó la URL de la antigua API de portete:\n       http://portete.invemar.org.co:7003/ArgosWebServices-RESTWebService-context-root/rest/1.0\n\nFue reemplazada por la URL de la API de ARGOS:\n       https://argos.invemar.org.co/api/\n\nLa API contiene End Points que permiten tener mayor control, facilitan la descarga de referentes (listas de usuarios, estaciones, especies, etc.) que corresponden a criterios específicos como el proyecto usado en la plantilla para evitar descargar data innecesaria.\n\nDel mismo modo, también permite la carga de información a la BDD del INVEMAR.\n\nLa macro toma los Endpoints desde la hoja configuracion de una tabla llamada \"Configuración referentes\", a la que se le puede modificar las rutas de la API o agregar nuevas. cabe resaltar que se puede \"quemar\" directamente en la macro los Endpoints que lo requieran.","Juan Muñoz","2024-05-10"]
[null,null,null,"20230904i","                                                                                                                                                                                                    1) Se modifico la regla para generar el ID_MUESTREO, antes se tenia en cuenta la fecha del monitoreo , ahora se tiene en cuenta es el COD_PARCELA del monitoreo.\n2) Se agrego un nuevo boton \"Validar Datos\" en la hoja DIGITADOR , para asi validar que ningun campo quede vacio antes de cargar los datos.",null,"2023-04-09"]
[null,null,null,"20220927m","Se agregaron nuevos referentes a los diferentes metodos de medida.",null,"2022-09-27"]
[null,null,null,"20220804i","Se modifico que algunos campos fueran obligatorio.",null,"2022-08-04"]
[null,null,null,"20220510i","Actualizacion del listado de estaciones/parcelas",null,"2022-05-10"]
[null,null,null,"20220502i","Se ordenaron los referentes de geograficos, se mapeo el proyecto financiador, por defecto todas las plantillas de sigma guardan sus datos al 2239",null,"2022-05-02"]
[null,null,null,"20220204i","cambio en el endpoint de newreferentes devsiam->argos",null,"2022-02-04"]
[null,null,null,"20211210m","Listas de validacion en la hoja de datos",null,"2021-12-10"]
[null,null,null,"20210817m","Corrección de formato de hoja de DATOS",null,"2021-08-17"]
[null,null,null,"20200130i","Para trazabilididad la hoja se incluye el nombre del archivo fuente y la posibilidad de anotar el DOI principal del metadato\nPor usabilidad las pestañas que son de interes para el usuario son las verdes\nSi se define mas de un proyecto los referentes de estaciones e investigadores se descargan consecutivo en las mismas columnas\nSe controla la versión para la plantilla mediante comparación dato en AGLOV de la BD.",null,"2020-01-30"]
[null,null,null,"20190821m","Se agregan columnas para la medición de ORP en la hoja de DATOS.",null,"2019-08-21"]
[null,null,null,"20190604m","Se corrige la recomendación de como renombrar los archivos para su almacenamiento.",null,"2019-06-04"]
[null,null,null,"20190211i","Se modifica el texto de recomendaciones generales en la hoja de \"DIGITADOR\".",null,"2019-02-11"]
[null,null,null,null,"Se corrige el error en la generación de AGD_MUESTREOS debido al bloqueo del libro"]
[null,null,null,"20190117i","Se modifica la información en la hoja \"Otras referencias\".",null,"2019-01-25"]
[null,null,null,null,"Se agrega el botón \"Administrador\" y se ocultan los botones \"Generar tablas\" y \"Cargar datos\" en la hoja de \"DIGITADOR\".",null,"2019-01-17"]
[null,null,null,"20190114m","Se agrega el título a los referentes en la hoja \"referentes\".\nSe modifica la información de contacto en la hoja de \"DIGITADOR\".",null,"2019-01-14"]
[null,null,null,"20180809m","Se modifican algunos campos a petición del usuario",null,"2018-08-09"]
[null,null,null,"20180801i","Modificaciones para nuevo Argos",null,"2018-08-01"]
[null,null,null,"20180413m","Se modifica la generación de los ID de muestreo y se agrega macro que genera número aleatorio en la hoja DIGITADOR.",null,"2018-04-13"]

{"sheet":"configuracion","index":1,"n_rows":71,"n_cols":18,"rows_kept":71,"cut":false,"hidden":true,"merged":[[61,0,61,2],[60,0,60,1],[28,0,35,0],[37,0,42,0],[45,0,45,1],[23,0,26,0],[0,0,2,0],[3,0,5,0],[7,0,8,0],[9,0,15,0],[17,0,21,0]]}
["general","urlServicio","https://argos.invemar.org.co/api/"]
[null,"fila de inicio",3]
[null,"fila de fin",503]
["metodologias","Metodologias",821]
[null,"Referentes",821]
[null,"Cantidad maxima de referentes ",200]
["estaciones/investigadores","proyectos",3572]
["Lista especies","metodologias",3]
[null,"proyectos",3572]
["MUESTREOS","ID_MUESTREO","DATOS,B"]
[null,"ID_ESTACION","DATOS,L"]
[null,"ID_PROYECTO",3572]
[null,"ID_METODOLOGIA",821]
[null,"ID_TEMATICAS",225]
[null,"FECHA","DATOS,I"]
[null,"NOTAS","DIGITADOR,B,25"]
[null,"cantidad",503]
["parametro muestreo","ID_MUESTREO","DATOS,B","DATOS,B","DATOS,B","DATOS,B"]
[null,"ID_PARAMETRO",1055,1169,1170,127]
[null,"ID_METODOLOGIA",821,821,821,3]
[null,"ID_UNIDAD_MEDIDA",100,100,100,100]
[null,"VALOR","DIGITADOR,B,5","DIGITADOR,B,12","DIGITADOR,B,11","DIGITADOR,B, 9"]
[null,"cantidad",503,503,503,150]
["muestra","ID_MUESTRA","DATOS,D"]
[null,"ID_MUESTREO","DATOS,F"]
[null,"NOTAS","DATOS,N"]
[null,"ES_REPLICA","DATOS,AO"]
[null,"cantidad",503]
["muestra variable","ID_PARAMETRO",865,866,352,867,868,350,869,870,347,871,872,873,874,875,1143,1144]
[null,"ID_METODOLOGIA",821,821,821,821,821,821,821,821,821,821,821,821,821,821,821,821]
[null,"ID_UNIDAD_MEDIDA",100,10,5,5,5,19,19,19,19,19,19,7,7,7,51,51]
[null,"ID_MUESTRA","DATOS,D","DATOS,D","DATOS,D","DATOS,D","DATOS,D","DATOS,D","DATOS,D","DATOS,D","DATOS,D","DATOS,D","DATOS,D","DATOS,D","DATOS,D","DATOS,D","DATOS,D","DATOS,D"]
[null,"ID_METODO",null,663,"DATOS,T","DATOS,T","DATOS,T","DATOS,Y","DATOS,Y","DATOS,Y","DATOS,AD","DATOS,AD","DATOS,AD","DATOS,AI","DATOS,AI","DATOS,AI","DATOS,AM","DATOS,AM"]
[null,"VALOR","DATOS,M","DATOS,P","DATOS,Q","DATOS,R","DATOS,S","DATOS,V","DATOS,W","DATOS,X","DATOS,AA","DATOS,AB","DATOS,AC","DATOS,AF","DATOS,AG","DATOS,AH","DATOS,AK","DATOS,AL"]
[null,"QUALITY_FLAG"]
[null,"PRECISION"]
[null,"cantidad",503,503,503,503,503,503,503,503,503,503,503,503,503,503,503,503]
["autoria","ID_FUNCIONARIO","DIGITADOR,B,2","DIGITADOR,B,16","DIGITADOR,B,18","DIGITADOR,B,20"]
[null,"ID_TAREA",5,"DIGITADOR,A,16","DIGITADOR,A,18","DIGITADOR,A,20"]
[null,"ORDEN",1,2,3,4]
[null,"FECHA","DIGITADOR,B,7","DATOS,I","DATOS,I","DATOS,I"]
[null,"ID_MUESTREO","DATOS,B","DATOS,B","DATOS,B","DATOS,B"]
[null,"ENTIDAD","DIGITADOR,B,4","DIGITADOR,B,4","DIGITADOR,B,4","DIGITADOR,B,4"]
[null,"cantidad",503,503,503,503]
[]
["REGISTROS GENERADOS",null,"REGISTROS CARGADOS",null,null,"ID_PARAMETRO","ID_UNIDAD_MEDIDA","NOMBRE_COLUMNA"]
["MUESTREOS",null,null,null,null,127,100,"PROYECTO_FINANCIO"]
["parametro muestreo",null,null,null,null,347,19,"pH_SUP"]
["muestra",null,null,null,null,350,19,"SAL_SUP"]
["muestra variable",null,null,null,null,352,5,"TEMP_SUP"]
["autoria",null,null,null,null,865,100,"PUNTO"]
["registros correctos",null,null,null,null,866,10,"NIVEL_AGUA_CM"]
["Fecha de carga",null,null,null,null,867,5,"TEMP_0_5_M"]
["json error",null,null,null,null,868,5,"TEMP_1_M"]
["error",null,null,null,null,869,19,"SAL_0_5_M"]
[null,null,null,null,null,870,19,"SAL_1_M"]
[null,null,null,null,null,871,19,"pH_0_5_M"]
["Atributo","Descripción","Código",null,null,872,19,"pH_1_M"]
["Tipo Nodo","Estaciones",{"$f":"VLOOKUP($B$59,'[2]Otras referencias'!D23:F33,2,FALSE)","v":40},null,null,873,7,"CON_SUP"]
[null,null,null,null,null,874,7,"CON_0_5_M"]
[null,null,null,null,null,875,7,"CON_1_M"]
["CONFIGURACION REFERENTES",null,null,null,null,1055,100,"VERSION_PLANTILLA"]
["Ruta de la API","Endpoint","Descripción",null,null,1143,51,"ORP_SUP"]
["URL - AGM Campo",{"$f":"CONCATENATE(\"parametros/agmcampo/\",$C$4,\"\")","v":"parametros/agmcampo/821"},"Listado de referentes AGM_CAMPO",null,null,1144,51,"ORP_0_5_M"]
["URL - Especies",{"$f":"IF($C$8=\"\",\"\",CONCATENATE(\"especies/filt/\",$C$9,\",\",$C$8,\"/\"))","v":"especies/filt/3572,3/"},"Especies por proyecto\n(No todos los proyectos tienen asociados una lista de especies)",null,null,1169,100,"URL_METADATO"]
["URL - Estaciones",{"$f":"CONCATENATE(\"estaciones/\", $C$59, \"/\",$C$9,\"\")","v":"estaciones/40/3572"},"Estaciones/parcelas por proyecto, cambia dependiendo del Tipo de Nodo, cuyo estado sea VIGENTE.",null,null,1170,100,"ARCHIVO_FUENTE"]
["URL - Usuarios",{"$f":"CONCATENATE(\"parametros/usersByProject/\",$C$7,\"\")","v":"parametros/usersByProject/3572"},"Usuarios por proyecto."]
["URL - Entidades","estaciones/get-entidades","Listado de entidades."]
["Atributos de la API","codigo_in","nombre_in"]
["Rango de atributos de la API","B69:C70","nombre_in"]
["URL - Plantillas","plantillas/","Endpoint para la carga de datos al sistema."]

{"sheet":"DIGITADOR","index":2,"n_rows":41,"n_cols":4,"rows_kept":41,"cut":false,"hidden":false,"merged":[[31,0,31,1],[0,3,5,9],[6,3,8,9],[9,3,10,9],[11,3,14,9],[5,0,6,0],[0,0,0,1],[23,0,23,1]]}
["Plantilla para la Recolección de Datos Fisico Quimicos KFW",null,null,"Recomendaciones generales: \n¡Precaución! No inserte Filas o Columnas.\nEn los casos en que falte un valor a ingresar que provenga de la hoja de referencias, informe para que el administrador del sistema haga las adiciones necesarias.\nEsta es una plantilla programada. Las columnas de color oscuro se llenan automaticamente, principalmente a partir de los contenidos de la hoja de referencias. \nNO UTILICE PUNTO Y COMA (;) en ningun campo, por ser el separador de variables (columnas). Tampoco escriba las unidades de medida, no son necesarias.\nPara el correcto funcionamiento de la hoja debe estar activa la opcion de Excel de ejecutar macros (al abrir la hoja acepte la opcion habilitar macros, mensaje de Excel que aparece en la parte superior de la hoja en un recuadro amarillo). La extensión del archivo debe ser .xlsm\nSe recomienda renombrar el archivo de la siguiente manera: SIGMA_Fisicoquimicos_NombreEstacion_FechaMonitoreo.xlsm"]
["Código Digitador",{"$f":"IF(B3=\"\",\"\",INDEX(referentes!Y:Z,MATCH(B3,referentes!Z:Z,0),1))","v":""}]
["Nombre del Digitador"]
["Entidad"]
["Versión de la Plantilla",{"$f":"'Registro de cambios'!$D$4","v":"20241005i"}]
["Fecha en la que ingresa los datos en esta hoja","DD/MM/AAAA"]
[null,"3000-12-12",null,"Previamente a iniciar el llenado de la plantilla, debe presionar el botón \"Descargar referentes\" para que los referentes de ésta plantilla sean actualizados. \nLuego de llenar completamente la plantilla verifique que:\na. No haya celdas con valores como \"#N/A\" o \"#¡REF!\"\nb. No se esten aplicando filtros en la hoja de datos                                                                                                                                                                                                                                                                                                                                                                                                                                                          c.Luego presionar el botón \"Validar datos\" para corroborar que todo esté en orden.                                                                                                                                d.En caso de error de campos vacios corregir."]
[]
["Nombre Proyecto","KFW FASE II"]
["Codigo Proyecto",{"$f":"IF($B$9=\"\",\"\",INDEX('OTRAS REFERENCIAS'!D7:F18,MATCH($B$9,'OTRAS REFERENCIAS'!E7:E18,0),1))","v":3572},null,"Si requiere ayuda contacte a:\nadministrador.sigma@invemar.org.co  - Administrador SIGMA"]
["Nombre del Archivo",{"$f":"MID(CELL(\"FILENAME\",N50),FIND(\"[\",CELL(\"FILENAME\",N50))+1,   FIND(\"]\",CELL(\"FILENAME\",N50))-FIND(\"[\",CELL(\"FILENAME\",N50))-1)","v":"KFW_Fisicoquimicos_20241005i.xlsm"}]
["DOI Metadato",null,null,"El custodio de los datos es el único autorizado para distribuir este conjunto de datos. El observador y el digitador se comprometen a tomar las medidas necesarias para salvaguardar este conjunto de datos de modo que copia de los mismos no sean obtenidas y/o usadas por terceros no relacionados con el propósito para la cual se recolectó."]
["Fuente Plantilla ","http://cinto.invemar.org.co/download/Plantillas_ARGOS_Plus/"]
[]
["ROLES INVOLUCRADOS","NOMBRE"]
[{"$f":"IF(A17=\"\",\"\",INDEX('OTRAS REFERENCIAS'!$X$6:$Y$8,MATCH(DIGITADOR!A17,'OTRAS REFERENCIAS'!$Y$6:$Y$8,0),1))","v":""},{"$f":"IF(B17=\"\",\"\",INDEX(referentes!$Y$2:$Z$64,MATCH(DIGITADOR!B17,referentes!$Z$2:$Z$64,0),1))","v":""}]
[]
[{"$f":"IF(A19=\"\",\"\",INDEX('OTRAS REFERENCIAS'!$X$6:$Y$8,MATCH(DIGITADOR!A19,'OTRAS REFERENCIAS'!$Y$6:$Y$8,0),1))","v":""},{"$f":"IF(B19=\"\",\"\",INDEX(referentes!$Y$2:$Z$64,MATCH(DIGITADOR!B19,referentes!$Z$2:$Z$64,0),1))","v":""}]
[]
[{"$f":"IF(A21=\"\",\"\",INDEX('OTRAS REFERENCIAS'!$X$6:$Y$8,MATCH(DIGITADOR!A21,'OTRAS REFERENCIAS'!$Y$6:$Y$8,0),1))","v":""},{"$f":"IF(B21=\"\",\"\",INDEX(referentes!$Y$2:$Z$64,MATCH(DIGITADOR!B21,referentes!$Z$2:$Z$64,0),1))","v":""}]
[]
[]
[]
["ATRIBUTOS ADICIONALES"]
["Observaciones generales"]
[]
[]
[]
[]
[]
[]
["REGISTROS GENERADOS",null,"REGISTROS CARGADOS"]
["MUESTREOS",{"$f":"IF(configuracion!B47=\"\",\"\",configuracion!B47)","v":""},{"$f":"IF(configuracion!C47=\"\",\"\",configuracion!C47)","v":""}]
["parametro muestreo",{"$f":"IF(configuracion!B48=\"\",\"\",configuracion!B48)","v":""},{"$f":"IF(configuracion!C48=\"\",\"\",configuracion!C48)","v":""}]
["muestra",{"$f":"IF(configuracion!B49=\"\",\"\",configuracion!B49)","v":""},{"$f":"IF(configuracion!C49=\"\",\"\",configuracion!C49)","v":""}]
["muestra variable",{"$f":"IF(configuracion!B50=\"\",\"\",configuracion!B50)","v":""},{"$f":"IF(configuracion!C50=\"\",\"\",configuracion!C50)","v":""}]
["autoria",{"$f":"IF(configuracion!B51=\"\",\"\",configuracion!B51)","v":""},{"$f":"IF(configuracion!C51=\"\",\"\",configuracion!C51)","v":""}]
["registros correctos",{"$f":"IF(configuracion!B52=\"\",\"\",configuracion!B52)","v":""},{"$f":"IF(configuracion!C52=\"\",\"\",configuracion!C52)","v":""}]
["Fecha de carga",null,{"$f":"IF(configuracion!C53=\"\",\"\",configuracion!C53)","v":""}]
["json error",null,{"$f":"IF(configuracion!C54=\"\",\"\",configuracion!C54)","v":""}]
["error",{"$f":"IF(configuracion!B55=\"\",\"\",configuracion!B55)","v":""},{"$f":"IF(configuracion!C55=\"\",\"\",configuracion!C55)","v":""}]

{"sheet":"DATOS","index":3,"n_rows":502,"n_cols":41,"rows_kept":502,"cut":false,"hidden":false,"merged":[[0,14,1,14],[0,40,1,40],[0,13,1,13],[0,5,1,5],[0,15,1,15],[0,16,1,16],[0,17,1,17],[0,18,1,18],[0,19,1,20],[0,24,1,25],[0,21,1,21],[0,22,1,22],[0,23,1,23],[0,36,1,36],[0,37,1,37],[0,38,1,39],[0,26,1,26],[0,1,1,1],[0,12,1,12],[0,2,1,2],[0,3,1,3],[0,4,1,4],[0,6,1,6],[0,7,1,7],[0,8,1,8],[0,9,0,10],[0,27,1,27],[0,28,1,28],[0,29,1,30],[0,34,1,35],[0,31,1,31],[0,32,1,32],[0,33,1,33]]}
[{"$f":"IF(DIGITADOR!B7<>\"\",CONCATENATE(TEXT(DIGITADOR!B7,\" dd/mm/yyyy \"),\" \",TEXT(H3,\" hh:mm:ss \")),\"\")","v":" 12/12/3000   00:00:00 "},"ID MUESTREO\n(AGD_MUESTREO)","CONSECUTIVO","ID MUESTRA","UNIQUE_KEY","COD\nMUESTREO","FECHA\n(DD/MM/AAAA)","HORA\n(HH:MM)","DATE","Parcela de estructura relacionada",null,null,"Punto de medición (#)","OBSERVACIONES",null,"Nivel Agua\n(cm)","Temp Superficial (°C)","Temp Instersticial 0,5m (°C)","Temp Instersticial 1m (°C)","Metodo",null,"Sal superficial (unidades)","Sal Intersticial 0,5m (unidades)","Sal Intersticial 1m (unidades)","Método",null,"pH superficial (unidades)","pH Intersticial 0,5m (unidades)","pH Intersticial 1m (unidades)","Método",null,"Conductividad superficial (mS/cm)","Conductividad Intersticial 0,5m  (mS/cm)","Conductividad Intersticial 1m  (mS/cm)","Método",null,"ORP Superficial","ORP Intersticial 0,5 m","Método",null,"Réplica"]
[{"$f":"TEXT(DIGITADOR!$B$7,\"yyyymmddhhmm\")","v":"300012120000"},null,null,null,null,null,"DIA","HORA",null,"COD","NOMBRE","CODBDD"]
[1,{"$f":"IF(L3<>\"\", F3,\"\")","v":""},1,{"$f":"IF(L3=\"\",\"\",CONCATENATE(C3,F3))","v":""},{"$f":"CONCATENATE(I3,L3)","v":""},{"$f":"IF(L3<>\"\",CONCATENATE(DIGITADOR!$B$2,$A$2,DIGITADOR!$M$1,A3),\"\")","v":""},null,null,{"$f":"IF(G3<>\"\",G3+H3,\"\")","v":""},{"$f":"IF(K3=\"\",\"\",INDEX('OTRAS REFERENCIAS'!$AL:$AM,MATCH(K3,'OTRAS REFERENCIAS'!$AL:$AL,0),2))","v":""},null,{"$f":"IF(J3=\"\",\"\",INDEX(referentes!$S:$W,MATCH(J3,referentes!$S:$S,0),1))","v":""},null,null,null,null,null,null,null,{"$f":"IF(U3=\"\",\"\",INDEX('OTRAS REFERENCIAS'!$H$6:$I$11,MATCH(U3,'OTRAS REFERENCIAS'!$I$6:$I$11,0),1))","v":""},null,null,null,null,{"$f":"IF(Z3=\"\",\"\",INDEX('OTRAS REFERENCIAS'!$K$6:$L$11,MATCH(Z3,'OTRAS REFERENCIAS'!$L$6:$L$11,0),1))","v":""},null,null,null,null,{"$f":"IF(AE3=\"\",\"\",INDEX('OTRAS REFERENCIAS'!$N$6:$O$11,MATCH(AE3,'OTRAS REFERENCIAS'!$O$6:$O$11,0),1))","v":""},null,null,null,null,{"$f":"IF(AJ3=\"\",\"\",INDEX('OTRAS REFERENCIAS'!$Q$6:$R$11,MATCH(AJ3,'OTRAS REFERENCIAS'!$R$6:$R$11,0),1))","v":""},null,null,null,{"$f":"IF(AN3=\"\",\"\",INDEX('OTRAS REFERENCIAS'!$T$6:$U$11,MATCH(AN3,'OTRAS REFERENCIAS'!$U$6:$U$11,0),1))","v":""}]
[{"$f":"IF(L4=L3,A3,A3+1)","v":1},{"$f":"IF(F4<>F3, F4,\"\")","v":""},2,{"$f":"IF(L4=\"\",\"\",CONCATENATE(C4,F4))","v":""},{"$f":"CONCATENATE(I4,L4)","v":""},{"$f":"IF(L4<>\"\",CONCATENATE(DIGITADOR!$B$2,$A$2,DIGITADOR!$M$1,A4),\"\")","v":""},null,null,"",{"$f":"IF(K4=\"\",\"\",INDEX('OTRAS REFERENCIAS'!$AL:$AM,MATCH(K4,'OTRAS REFERENCIAS'!$AL:$AL,0),2))","v":""},null,{"$f":"IF(J4=\"\",\"\",INDEX(referentes!$S:$W,MATCH(J4,referentes!$S:$S,0),1))","v":""},null,null,null,null,null,null,null,{"$f":"IF(U4=\"\",\"\",INDEX('OTRAS REFERENCIAS'!$H$6:$I$11,MATCH(U4,'OTRAS REFERENCIAS'!$I$6:$I$11,0),1))","v":""},null,null,null,null,{"$f":"IF(Z4=\"\",\"\",INDEX('OTRAS REFERENCIAS'!$K$6:$L$11,MATCH(Z4,'OTRAS REFERENCIAS'!$L$6:$L$11,0),1))","v":""},null,null,null,null,{"$f":"IF(AE4=\"\",\"\",INDEX('OTRAS REFERENCIAS'!$N$6:$O$11,MATCH(AE4,'OTRAS REFERENCIAS'!$O$6:$O$11,0),1))","v":""},null,null,null,null,{"$f":"IF(AJ4=\"\",\"\",INDEX('OTRAS REFERENCIAS'!$Q$6:$R$11,MATCH(AJ4,'OTRAS REFERENCIAS'!$R$6:$R$11,0),1))","v":""},null,null,null,{"$f":"IF(AN4=\"\",\"\",INDEX('OTRAS REFERENCIAS'!$T$6:$U$11,MATCH(AN4,'OTRAS REFERENCIAS'!$U$6:$U$11,0),1))","v":""}]
[{"$f":"IF(L5=L4,A4,A4+1)","v":1},{"$f":"IF(F5<>F4, F5,\"\")","v":""},3,"","",{"$f":"IF(L5<>\"\",CONCATENATE(DIGITADOR!$B$2,$A$2,DIGITADOR!$M$1,A5),\"\")","v":""},null,null,"",{"$f":"IF(K5=\"\",\"\",INDEX('OTRAS REFERENCIAS'!$AL:$AM,MATCH(K5,'OTRAS REFERENCIAS'!$AL:$AL,0),2))","v":""},null,{"$f":"IF(J5=\"\",\"\",INDEX(referentes!$S:$W,MATCH(J5,referentes!$S:$S,0),1))","v":""},null,null,null,null,null,null,null,{"$f":"IF(U5=\"\",\"\",INDEX('OTRAS REFERENCIAS'!$H$6:$I$11,MATCH(U5,'OTRAS REFERENCIAS'!$I$6:$I$11,0),1))","v":""},null,null,null,null,{"$f":"IF(Z5=\"\",\"\",INDEX('OTRAS REFERENCIAS'!$K$6:$L$11,MATCH(Z5,'OTRAS REFERENCIAS'!$L$6:$L$11,0),1))","v":""},null,null,null,null,{"$f":"IF(AE5=\"\",\"\",INDEX('OTRAS REFERENCIAS'!$N$6:$O$11,MATCH(AE5,'OTRAS REFERENCIAS'!$O$6:$O$11,0),1))","v":""},null,null,null,null,{"$f":"IF(AJ5=\"\",\"\",INDEX('OTRAS REFERENCIAS'!$Q$6:$R$11,MATCH(AJ5,'OTRAS REFERENCIAS'!$R$6:$R$11,0),1))","v":""},null,null,null,{"$f":"IF(AN5=\"\",\"\",INDEX('OTRAS REFERENCIAS'!$T$6:$U$11,MATCH(AN5,'OTRAS REFERENCIAS'!$U$6:$U$11,0),1))","v":""}]
[1,"",4,"","",{"$f":"IF(L6<>\"\",CONCATENATE(DIGITADOR!$B$2,$A$2,DIGITADOR!$M$1,A6),\"\")","v":""},null,null,"",{"$f":"IF(K6=\"\",\"\",INDEX('OTRAS REFERENCIAS'!$AL:$AM,MATCH(K6,'OTRAS REFERENCIAS'!$AL:$AL,0),2))","v":""},null,{"$f":"IF(J6=\"\",\"\",INDEX(referentes!$S:$W,MATCH(J6,referentes!$S:$S,0),1))","v":""},null,null,null,null,null,null,null,{"$f":"IF(U6=\"\",\"\",INDEX('OTRAS REFERENCIAS'!$H$6:$I$11,MATCH(U6,'OTRAS REFERENCIAS'!$I$6:$I$11,0),1))","v":""},null,null,null,null,{"$f":"IF(Z6=\"\",\"\",INDEX('OTRAS REFERENCIAS'!$K$6:$L$11,MATCH(Z6,'OTRAS REFERENCIAS'!$L$6:$L$11,0),1))","v":""},null,null,null,null,{"$f":"IF(AE6=\"\",\"\",INDEX('OTRAS REFERENCIAS'!$N$6:$O$11,MATCH(AE6,'OTRAS REFERENCIAS'!$O$6:$O$11,0),1))","v":""},null,null,null,null,{"$f":"IF(AJ6=\"\",\"\",INDEX('OTRAS REFERENCIAS'!$Q$6:$R$11,MATCH(AJ6,'OTRAS REFERENCIAS'!$R$6:$R$11,0),1))","v":""},null,null,null,{"$f":"IF(AN6=\"\",\"\",INDEX('OTRAS REFERENCIAS'!$T$6:$U$11,MATCH(AN6,'OTRAS REFERENCIAS'!$U$6:$U$11,0),1))","v":""}]
[1,"",5,"","",{"$f":"IF(L7<>\"\",CONCATENATE(DIGITADOR!$B$2,$A$2,DIGITADOR!$M$1,A7),\"\")","v":""},null,null,"",{"$f":"IF(K7=\"\",\"\",INDEX('OTRAS REFERENCIAS'!$AL:$AM,MATCH(K7,'OTRAS REFERENCIAS'!$AL:$AL,0),2))","v":""},null,{"$f":"IF(J7=\"\",\"\",INDEX(referentes!$S:$W,MATCH(J7,referentes!$S:$S,0),1))","v":""},null,null,null,null,null,null,null,{"$f":"IF(U7=\"\",\"\",INDEX('OTRAS REFERENCIAS'!$H$6:$I$11,MATCH(U7,'OTRAS REFERENCIAS'!$I$6:$I$11,0),1))","v":""},null,null,null,null,{"$f":"IF(Z7=\"\",\"\",INDEX('OTRAS REFERENCIAS'!$K$6:$L$11,MATCH(Z7,'OTRAS REFERENCIAS'!$L$6:$L$11,0),1))","v":""},null,null,null,null,{"$f":"IF(AE7=\"\",\"\",INDEX('OTRAS REFERENCIAS'!$N$6:$O$11,MATCH(AE7,'OTRAS REFERENCIAS'!$O$6:$O$11,0),1))","v":""},null,null,null,null,{"$f":"IF(AJ7=\"\",\"\",INDEX('OTRAS REFERENCIAS'!$Q$6:$R$11,MATCH(AJ7,'OTRAS REFERENCIAS'!$R$6:$R$11,0),1))","v":""},null,null,null,{"$f":"IF(AN7=\"\",\"\",INDEX('OTRAS REFERENCIAS'!$T$6:$U$11,MATCH(AN7,'OTRAS REFERENCIAS'!$U$6:$U$11,0),1))","v":""}]
[1,"",6,"","",{"$f":"IF(L8<>\"\",CONCATENATE(DIGITADOR!$B$2,$A$2,DIGITADOR!$M$1,A8),\"\")","v":""},null,null,"",{"$f":"IF(K8=\"\",\"\",INDEX('OTRAS REFERENCIAS'!$AL:$AM,MATCH(K8,'OTRAS REFERENCIAS'!$AL:$AL,0),2))","v":""},null,{"$f":"IF(J8=\"\",\"\",INDEX(referentes!$S:$W,MATCH(J8,referentes!$S:$S,0),1))","v":""},null,null,null,null,null,null,null,{"$f":"IF(U8=\"\",\"\",INDEX('OTRAS REFERENCIAS'!$H$6:$I$11,MATCH(U8,'OTRAS REFERENCIAS'!$I$6:$I$11,0),1))","v":""},null,null,null,null,{"$f":"IF(Z8=\"\",\"\",INDEX('OTRAS REFERENCIAS'!$K$6:$L$11,MATCH(Z8,'OTRAS REFERENCIAS'!$L$6:$L$11,0),1))","v":""},null,null,null,null,{"$f":"IF(AE8=\"\",\"\",INDEX('OTRAS REFERENCIAS'!$N$6:$O$11,MATCH(AE8,'OTRAS REFERENCIAS'!$O$6:$O$11,0),1))","v":""},null,null,null,null,{"$f":"IF(AJ8=\"\",\"\",INDEX('OTRAS REFERENCIAS'!$Q$6:$R$11,MATCH(AJ8,'OTRAS REFERENCIAS'!$R$6:$R$11,0),1))","v":""},null,null,null,{"$f":"IF(AN8=\"\",\"\",INDEX('OTRAS REFERENCIAS'!$T$6:$U$11,MATCH(AN8,'OTRAS REFERENCIAS'!$U$6:$U$11,0),1))","v":""}]
[1,"",7,"","",{"$f":"IF(L9<>\"\",CONCATENATE(DIGITADOR!$B$2,$A$2,DIGITADOR!$M$1,A9),\"\")","v":""},null,null,"",{"$f":"IF(K9=\"\",\"\",INDEX('OTRAS REFERENCIAS'!$AL:$AM,MATCH(K9,'OTRAS REFERENCIAS'!$AL:$AL,0),2))","v":""},null,{"$f":"IF(J9=\"\",\"\",INDEX(referentes!$S:$W,MATCH(J9,referentes!$S:$S,0),1))","v":""},null,null,null,null,null,null,null,{"$f":"IF(U9=\"\",\"\",INDEX('OTRAS REFERENCIAS'!$H$6:$I$11,MATCH(U9,'OTRAS REFERENCIAS'!$I$6:$I$11,0),1))","v":""},null,null,null,null,{"$f":"IF(Z9=\"\",\"\",INDEX('OTRAS REFERENCIAS'!$K$6:$L$11,MATCH(Z9,'OTRAS REFERENCIAS'!$L$6:$L$11,0),1))","v":""},null,null,null,null,{"$f":"IF(AE9=\"\",\"\",INDEX('OTRAS REFERENCIAS'!$N$6:$O$11,MATCH(AE9,'OTRAS REFERENCIAS'!$O$6:$O$11,0),1))","v":""},null,null,null,null,{"$f":"IF(AJ9=\"\",\"\",INDEX('OTRAS REFERENCIAS'!$Q$6:$R$11,MATCH(AJ9,'OTRAS REFERENCIAS'!$R$6:$R$11,0),1))","v":""},null,null,null,{"$f":"IF(AN9=\"\",\"\",INDEX('OTRAS REFERENCIAS'!$T$6:$U$11,MATCH(AN9,'OTRAS REFERENCIAS'!$U$6:$U$11,0),1))","v":""}]
[1,"",8,"","",{"$f":"IF(L10<>\"\",CONCATENATE(DIGITADOR!$B$2,$A$2,DIGITADOR!$M$1,A10),\"\")","v":""},null,null,"",{"$f":"IF(K10=\"\",\"\",INDEX('OTRAS REFERENCIAS'!$AL:$AM,MATCH(K10,'OTRAS REFERENCIAS'!$AL:$AL,0),2))","v":""},null,{"$f":"IF(J10=\"\",\"\",INDEX(referentes!$S:$W,MATCH(J10,referentes!$S:$S,0),1))","v":""},null,null,null,null,null,null,null,{"$f":"IF(U10=\"\",\"\",INDEX('OTRAS REFERENCIAS'!$H$6:$I$11,MATCH(U10,'OTRAS REFERENCIAS'!$I$6:$I$11,0),1))","v":""},null,null,null,null,{"$f":"IF(Z10=\"\",\"\",INDEX('OTRAS REFERENCIAS'!$K$6:$L$11,MATCH(Z10,'OTRAS REFERENCIAS'!$L$6:$L$11,0),1))","v":""},null,null,null,null,{"$f":"IF(AE10=\"\",\"\",INDEX('OTRAS REFERENCIAS'!$N$6:$O$11,MATCH(AE10,'OTRAS REFERENCIAS'!$O$6:$O$11,0),1))","v":""},null,null,null,null,{"$f":"IF(AJ10=\"\",\"\",INDEX('OTRAS REFERENCIAS'!$Q$6:$R$11,MATCH(AJ10,'OTRAS REFERENCIAS'!$R$6:$R$11,0),1))","v":""},null,null,null,{"$f":"IF(AN10=\"\",\"\",INDEX('OTRAS REFERENCIAS'!$T$6:$U$11,MATCH(AN10,'OTRAS REFERENCIAS'!$U$6:$U$11,0),1))","v":""}]
[1,"",9,"","",{"$f":"IF(L11<>\"\",CONCATENATE(DIGITADOR!$B$2,$A$2,DIGITADOR!$M$1,A11),\"\")","v":""},null,null,"",{"$f":"IF(K11=\"\",\"\",INDEX('OTRAS REFERENCIAS'!$AL:$AM,MATCH(K11,'OTRAS REFERENCIAS'!$AL:$AL,0),2))","v":""},null,{"$f":"IF(J11=\"\",\"\",INDEX(referentes!$S:$W,MATCH(J11,referentes!$S:$S,0),1))","v":""},null,null,null,null,null,null,null,{"$f":"IF(U11=\"\",\"\",INDEX('OTRAS REFERENCIAS'!$H$6:$I$11,MATCH(U11,'OTRAS REFERENCIAS'!$I$6:$I$11,0),1))","v":""},null,null,null,null,{"$f":"IF(Z11=\"\",\"\",INDEX('OTRAS REFERENCIAS'!$K$6:$L$11,MATCH(Z11,'OTRAS REFERENCIAS'!$L$6:$L$11,0),1))","v":""},null,null,null,null,{"$f":"IF(AE11=\"\",\"\",INDEX('OTRAS REFERENCIAS'!$N$6:$O$11,MATCH(AE11,'OTRAS REFERENCIAS'!$O$6:$O$11,0),1))","v":""},null,null,null,null,{"$f":"IF(AJ11=\"\",\"\",INDEX('OTRAS REFERENCIAS'!$Q$6:$R$11,MATCH(AJ11,'OTRAS REFERENCIAS'!$R$6:$R$11,0),1))","v":""},null,null,null,{"$f":"IF(AN11=\"\",\"\",INDEX('OTRAS REFERENCIAS'!$T$6:$U$11,MATCH(AN11,'OTRAS REFERENCIAS'!$U$6:$U$11,0),1))","v":""}]
[1,"",10,"","",{"$f":"IF(L12<>\"\",CONCATENATE(DIGITADOR!$B$2,$A$2,DIGITADOR!$M$1,A12),\"\")","v":""},null,null,"",{"$f":"IF(K12=\"\",\"\",INDEX('OTRAS REFERENCIAS'!$AL:$AM,MATCH(K12,'OTRAS REFERENCIAS'!$AL:$AL,0),2))","v":""},null,{"$f":"IF(J12=\"\",\"\",INDEX(referentes!$S:$W,MATCH(J12,referentes!$S:$S,0),1))","v":""},null,null,null,null,null,null,null,{"$f":"IF(U12=\"\",\"\",INDEX('OTRAS REFERENCIAS'!$H$6:$I$11,MATCH(U12,'OTRAS REFERENCIAS'!$I$6:$I$11,0),1))","v":""},null,null,null,null,{"$f":"IF(Z12=\"\",\"\",INDEX('OTRAS REFERENCIAS'!$K$6:$L$11,MATCH(Z12,'OTRAS REFERENCIAS'!$L$6:$L$11,0),1))","v":""},null,null,null,null,{"$f":"IF(AE12=\"\",\"\",INDEX('OTRAS REFERENCIAS'!$N$6:$O$11,MATCH(AE12,'OTRAS REFERENCIAS'!$O$6:$O$11,0),1))","v":""},null,null,null,null,{"$f":"IF(AJ12=\"\",\"\",INDEX('OTRAS REFERENCIAS'!$Q$6:$R$11,MATCH(AJ12,'OTRAS REFERENCIAS'!$R$6:$R$11,0),1))","v":""},null,null,null,{"$f":"IF(AN12=\"\",\"\",INDEX('OTRAS REFERENCIAS'!$T$6:$U$11,MATCH(AN12,'OTRAS REFERENCIAS'!$U$6:$U$11,0),1))","v":""}]
[1,"",11,"","",{"$f":"IF(L13<>\"\",CONCATENATE(DIGITADOR!$B$2,$A$2,DIGITADOR!$M$1,A13),\"\")","v":""},null,null,"",{"$f":"IF(K13=\"\",\"\",INDEX('OTRAS REFERENCIAS'!$AL:$AM,MATCH(K13,'OTRAS REFERENCIAS'!$AL:$AL,0),2))","v":""},null,{"$f":"IF(J13=\"\",\"\",INDEX(referentes!$S:$W,MATCH(J13,referentes!$S:$S,0),1))","v":""},null,null,null,null,null,null,null,{"$f":"IF(U13=\"\",\"\",INDEX('OTRAS REFERENCIAS'!$H$6:$I$11,MATCH(U13,'OTRAS REFERENCIAS'!$I$6:$I$11,0),1))","v":""},null,null,null,null,{"$f":"IF(Z13=\"\",\"\",INDEX('OTRAS REFERENCIAS'!$K$6:$L$11,MATCH(Z13,'OTRAS REFERENCIAS'!$L$6:$L$11,0),1))","v":""},null,null,null,null,{"$f":"IF(AE13=\"\",\"\",INDEX('OTRAS REFERENCIAS'!$N$6:$O$11,MATCH(AE13,'OTRAS REFERENCIAS'!$O$6:$O$11,0),1))","v":""},null,null,null,null,{"$f":"IF(AJ13=\"\",\"\",INDEX('OTRAS REFERENCIAS'!$Q$6:$R$11,MATCH(AJ13,'OTRAS REFERENCIAS'!$R$6:$R$11,0),1))","v":""},null,null,null,{"$f":"IF(AN13=\"\",\"\",INDEX('OTRAS REFERENCIAS'!$T$6:$U$11,MATCH(AN13,'OTRAS REFERENCIAS'!$U$6:$U$11,0),1))","v":""}]
[1,"",12,"","",{"$f":"IF(L14<>\"\",CONCATENATE(DIGITADOR!$B$2,$A$2,DIGITADOR!$M$1,A14),\"\")","v":""},null,null,"",{"$f":"IF(K14=\"\",\"\",INDEX('OTRAS REFERENCIAS'!$AL:$AM,MATCH(K14,'OTRAS REFERENCIAS'!$AL:$AL,0),2))","v":""},null,{"$f":"IF(J14=\"\",\"\",INDEX(referentes!$S:$W,MATCH(J14,referentes!$S:$S,0),1))","v":""},null,null,null,null,null,null,null,{"$f":"IF(U14=\"\",\"\",INDEX('OTRAS REFERENCIAS'!$H$6:$I$11,MATCH(U14,'OTRAS REFERENCIAS'!$I$6:$I$11,0),1))","v":""},null,null,null,null,{"$f":"IF(Z14=\"\",\"\",INDEX('OTRAS REFERENCIAS'!$K$6:$L$11,MATCH(Z14,'OTRAS REFERENCIAS'!$L$6:$L$11,0),1))","v":""},null,null,null,null,{"$f":"IF(AE14=\"\",\"\",INDEX('OTRAS REFERENCIAS'!$N$6:$O$11,MATCH(AE14,'OTRAS REFERENCIAS'!$O$6:$O$11,0),1))","v":""},null,null,null,null,{"$f":"IF(AJ14=\"\",\"\",INDEX('OTRAS REFERENCIAS'!$Q$6:$R$11,MATCH(AJ14,'OTRAS REFERENCIAS'!$R$6:$R$11,0),1))","v":""},null,null,null,{"$f":"IF(AN14=\"\",\"\",INDEX('OTRAS REFERENCIAS'!$T$6:$U$11,MATCH(AN14,'OTRAS REFERENCIAS'!$U$6:$U$11,0),1))","v":""}]
[1,"",13,"","",{"$f":"IF(L15<>\"\",CONCATENATE(DIGITADOR!$B$2,$A$2,DIGITADOR!$M$1,A15),\"\")","v":""},null,null,"",{"$f":"IF(K15=\"\",\"\",INDEX('OTRAS REFERENCIAS'!$AL:$AM,MATCH(K15,'OTRAS REFERENCIAS'!$AL:$AL,0),2))","v":""},null,{"$f":"IF(J15=\"\",\"\",INDEX(referentes!$S:$W,MATCH(J15,referentes!$S:$S,0),1))","v":""},null,null,null,null,null,null,null,{"$f":"IF(U15=\"\",\"\",INDEX('OTRAS REFERENCIAS'!$H$6:$I$11,MATCH(U15,'OTRAS REFERENCIAS'!$I$6:$I$11,0),1))","v":""},null,null,null,null,{"$f":"IF(Z15=\"\",\"\",INDEX('OTRAS REFERENCIAS'!$K$6:$L$11,MATCH(Z15,'OTRAS REFERENCIAS'!$L$6:$L$11,0),1))","v":""},null,null,null,null,{"$f":"IF(AE15=\"\",\"\",INDEX('OTRAS REFERENCIAS'!$N$6:$O$11,MATCH(AE15,'OTRAS REFERENCIAS'!$O$6:$O$11,0),1))","v":""},null,null,null,null,{"$f":"IF(AJ15=\"\",\"\",INDEX('OTRAS REFERENCIAS'!$Q$6:$R$11,MATCH(AJ15,'OTRAS REFERENCIAS'!$R$6:$R$11,0),1))","v":""},null,null,null,{"$f":"IF(AN15=\"\",\"\",INDEX('OTRAS REFERENCIAS'!$T$6:$U$11,MATCH(AN15,'OTRAS REFERENCIAS'!$U$6:$U$11,0),1))","v":""}]
[1,"",14,"","",{"$f":"IF(L16<>\"\",CONCATENATE(DIGITADOR!$B$2,$A$2,DIGITADOR!$M$1,A16),\"\")","v":""},null,null,"",{"$f":"IF(K16=\"\",\"\",INDEX('OTRAS REFERENCIAS'!$AL:$AM,MATCH(K16,'OTRAS REFERENCIAS'!$AL:$AL,0),2))","v":""},null,{"$f":"IF(J16=\"\",\"\",INDEX(referentes!$S:$W,MATCH(J16,referentes!$S:$S,0),1))","v":""},null,null,null,null,null,null,null,{"$f":"IF(U16=\"\",\"\",INDEX('OTRAS REFERENCIAS'!$H$6:$I$11,MATCH(U16,'OTRAS REFERENCIAS'!$I$6:$I$11,0),1))","v":""},null,null,null,null,{"$f":"IF(Z16=\"\",\"\",INDEX('OTRAS REFERENCIAS'!$K$6:$L$11,MATCH(Z16,'OTRAS REFERENCIAS'!$L$6:$L$11,0),1))","v":""},null,null,null,null,{"$f":"IF(AE16=\"\",\"\",INDEX('OTRAS REFERENCIAS'!$N$6:$O$11,MATCH(AE16,'OTRAS REFERENCIAS'!$O$6:$O$11,0),1))","v":""},null,null,null,null,{"$f":"IF(AJ16=\"\",\"\",INDEX('OTRAS REFERENCIAS'!$Q$6:$R$11,MATCH(AJ16,'OTRAS REFERENCIAS'!$R$6:$R$11,0),1))","v":""},null,null,null,{"$f":"IF(AN16=\"\",\"\",INDEX('OTRAS REFERENCIAS'!$T$6:$U$11,MATCH(AN16,'OTRAS REFERENCIAS'!$U$6:$U$11,0),1))","v":""}]
[1,"",15,"","",{"$f":"IF(L17<>\"\",CONCATENATE(DIGITADOR!$B$2,$A$2,DIGITADOR!$M$1,A17),\"\")","v":""},null,null,"",{"$f":"IF(K17=\"\",\"\",INDEX('OTRAS REFERENCIAS'!$AL:$AM,MATCH(K17,'OTRAS REFERENCIAS'!$AL:$AL,0),2))","v":""},null,{"$f":"IF(J17=\"\",\"\",INDEX(referentes!$S:$W,MATCH(J17,referentes!$S:$S,0),1))","v":""},null,null,null,null,null,null,null,{"$f":"IF(U17=\"\",\"\",INDEX('OTRAS REFERENCIAS'!$H$6:$I$11,MATCH(U17,'OTRAS REFERENCIAS'!$I$6:$I$11,0),1))","v":""},null,null,null,null,{"$f":"IF(Z17=\"\",\"\",INDEX('OTRAS REFERENCIAS'!$K$6:$L$11,MATCH(Z17,'OTRAS REFERENCIAS'!$L$6:$L$11,0),1))","v":""},null,null,null,null,{"$f":"IF(AE17=\"\",\"\",INDEX('OTRAS REFERENCIAS'!$N$6:$O$11,MATCH(AE17,'OTRAS REFERENCIAS'!$O$6:$O$11,0),1))","v":""},null,null,null,null,{"$f":"IF(AJ17=\"\",\"\",INDEX('OTRAS REFERENCIAS'!$Q$6:$R$11,MATCH(AJ17,'OTRAS REFERENCIAS'!$R$6:$R$11,0),1))","v":""},null,null,null,{"$f":"IF(AN17=\"\",\"\",INDEX('OTRAS REFERENCIAS'!$T$6:$U$11,MATCH(AN17,'OTRAS REFERENCIAS'!$U$6:$U$11,0),1))","v":""}]
[1,"",16,"","",{"$f":"IF(L18<>\"\",CONCATENATE(DIGITADOR!$B$2,$A$2,DIGITADOR!$M$1,A18),\"\")","v":""},null,null,"",{"$f":"IF(K18=\"\",\"\",INDEX('OTRAS REFERENCIAS'!$AL:$AM,MATCH(K18,'OTRAS REFERENCIAS'!$AL:$AL,0),2))","v":""},null,{"$f":"IF(J18=\"\",\"\",INDEX(referentes!$S:$W,MATCH(J18,referentes!$S:$S,0),1))","v":""},null,null,null,null,null,null,null,{"$f":"IF(U18=\"\",\"\",INDEX('OTRAS REFERENCIAS'!$H$6:$I$11,MATCH(U18,'OTRAS REFERENCIAS'!$I$6:$I$11,0),1))","v":""},null,null,null,null,{"$f":"IF(Z18=\"\",\"\",INDEX('OTRAS REFERENCIAS'!$K$6:$L$11,MATCH(Z18,'OTRAS REFERENCIAS'!$L$6:$L$11,0),1))","v":""},null,null,null,null,{"$f":"IF(AE18=\"\",\"\",INDEX('OTRAS REFERENCIAS'!$N$6:$O$11,MATCH(AE18,'OTRAS REFERENCIAS'!$O$6:$O$11,0),1))","v":""},null,null,null,null,{"$f":"IF(AJ18=\"\",\"\",INDEX('OTRAS REFERENCIAS'!$Q$6:$R$11,MATCH(AJ18,'OTRAS REFERENCIAS'!$R$6:$R$11,0),1))","v":""},null,null,null,{"$f":"IF(AN18=\"\",\"\",INDEX('OTRAS REFERENCIAS'!$T$6:$U$11,MATCH(AN18,'OTRAS REFERENCIAS'!$U$6:$U$11,0),1))","v":""}]
[1,"",17,"","",{"$f":"IF(L19<>\"\",CONCATENATE(DIGITADOR!$B$2,$A$2,DIGITADOR!$M$1,A19),\"\")","v":""},null,null,"",{"$f":"IF(K19=\"\",\"\",INDEX('OTRAS REFERENCIAS'!$AL:$AM,MATCH(K19,'OTRAS REFERENCIAS'!$AL:$AL,0),2))","v":""},null,{"$f":"IF(J19=\"\",\"\",INDEX(referentes!$S:$W,MATCH(J19,referentes!$S:$S,0),1))","v":""},null,null,null,null,null,null,null,{"$f":"IF(U19=\"\",\"\",INDEX('OTRAS REFERENCIAS'!$H$6:$I$11,MATCH(U19,'OTRAS REFERENCIAS'!$I$6:$I$11,0),1))","v":""},null,null,null,null,{"$f":"IF(Z19=\"\",\"\",INDEX('OTRAS REFERENCIAS'!$K$6:$L$11,MATCH(Z19,'OTRAS REFERENCIAS'!$L$6:$L$11,0),1))","v":""},null,null,null,null,{"$f":"IF(AE19=\"\",\"\",INDEX('OTRAS REFERENCIAS'!$N$6:$O$11,MATCH(AE19,'OTRAS REFERENCIAS'!$O$6:$O$11,0),1))","v":""},null,null,null,null,{"$f":"IF(AJ19=\"\",\"\",INDEX('OTRAS REFERENCIAS'!$Q$6:$R$11,MATCH(AJ19,'OTRAS REFERENCIAS'!$R$6:$R$11,0),1))","v":""},null,null,null,{"$f":"IF(AN19=\"\",\"\",INDEX('OTRAS REFERENCIAS'!$T$6:$U$11,MATCH(AN19,'OTRAS REFERENCIAS'!$U$6:$U$11,0),1))","v":""}]
[1,"",18,"","",{"$f":"IF(L20<>\"\",CONCATENATE(DIGITADOR!$B$2,$A$2,DIGITADOR!$M$1,A20),\"\")","v":""},null,null,"",{"$f":"IF(K20=\"\",\"\",INDEX('OTRAS REFERENCIAS'!$AL:$AM,MATCH(K20,'OTRAS REFERENCIAS'!$AL:$AL,0),2))","v":""},null,{"$f":"IF(J20=\"\",\"\",INDEX(referentes!$S:$W,MATCH(J20,referentes!$S:$S,0),1))","v":""},null,null,null,null,null,null,null,{"$f":"IF(U20=\"\",\"\",INDEX('OTRAS REFERENCIAS'!$H$6:$I$11,MATCH(U20,'OTRAS REFERENCIAS'!$I$6:$I$11,0),1))","v":""},null,null,null,null,{"$f":"IF(Z20=\"\",\"\",INDEX('OTRAS REFERENCIAS'!$K$6:$L$11,MATCH(Z20,'OTRAS REFERENCIAS'!$L$6:$L$11,0),1))","v":""},null,null,null,null,{"$f":"IF(AE20=\"\",\"\",INDEX('OTRAS REFERENCIAS'!$N$6:$O$11,MATCH(AE20,'OTRAS REFERENCIAS'!$O$6:$O$11,0),1))","v":""},null,null,null,null,{"$f":"IF(AJ20=\"\",\"\",INDEX('OTRAS REFERENCIAS'!$Q$6:$R$11,MATCH(AJ20,'OTRAS REFERENCIAS'!$R$6:$R$11,0),1))","v":""},null,null,null,{"$f":"IF(AN20=\"\",\"\",INDEX('OTRAS REFERENCIAS'!$T$6:$U$11,MATCH(AN20,'OTRAS REFERENCIAS'!$U$6:$U$11,0),1))","v":""}]
[1,"",19,"","",{"$f":"IF(L21<>\"\",CONCATENATE(DIGITADOR!$B$2,$A$2,DIGITADOR!$M$1,A21),\"\")","v":""},null,null,"",{"$f":"IF(K21=\"\",\"\",INDEX('OTRAS REFERENCIAS'!$AL:$AM,MATCH(K21,'OTRAS REFERENCIAS'!$AL:$AL,0),2))","v":""},null,{"$f":"IF(J21=\"\",\"\",INDEX(referentes!$S:$W,MATCH(J21,referentes!$S:$S,0),1))","v":""},null,null,null,null,null,null,null,{"$f":"IF(U21=\"\",\"\",INDEX('OTRAS REFERENCIAS'!$H$6:$I$11,MATCH(U21,'OTRAS REFERENCIAS'!$I$6:$I$11,0),1))","v":""},null,null,null,null,{"$f":"IF(Z21=\"\",\"\",INDEX('OTRAS REFERENCIAS'!$K$6:$L$11,MATCH(Z21,'OTRAS REFERENCIAS'!$L$6:$L$11,0),1))","v":""},null,null,null,null,{"$f":"IF(AE21=\"\",\"\",INDEX('OTRAS REFERENCIAS'!$N$6:$O$11,MATCH(AE21,'OTRAS REFERENCIAS'!$O$6:$O$11,0),1))","v":""},null,null,null,null,{"$f":"IF(AJ21=\"\",\"\",INDEX('OTRAS REFERENCIAS'!$Q$6:$R$11,MATCH(AJ21,'OTRAS REFERENCIAS'!$R$6:$R$11,0),1))","v":""},null,null,null,{"$f":"IF(AN21=\"\",\"\",INDEX('OTRAS REFERENCIAS'!$T$6:$U$11,MATCH(AN21,'OTRAS REFERENCIAS'!$U$6:$U$11,0),1))","v":""}]
[1,"",20,"","",{"$f":"IF(L22<>\"\",CONCATENATE(DIGITADOR!$B$2,$A$2,DIGITADOR!$M$1,A22),\"\")","v":""},null,null,"",{"$f":"IF(K22=\"\",\"\",INDEX('OTRAS REFERENCIAS'!$AL:$AM,MATCH(K22,'OTRAS REFERENCIAS'!$AL:$AL,0),2))","v":""},null,{"$f":"IF(J22=\"\",\"\",INDEX(referentes!$S:$W,MATCH(J22,referentes!$S:$S,0),1))","v":""},null,null,null,null,null,null,null,{"$f":"IF(U22=\"\",\"\",INDEX('OTRAS REFERENCIAS'!$H$6:$I$11,MATCH(U22,'OTRAS REFERENCIAS'!$I$6:$I$11,0),1))","v":""},null,null,null,null,{"$f":"IF(Z22=\"\",\"\",INDEX('OTRAS REFERENCIAS'!$K$6:$L$11,MATCH(Z22,'OTRAS REFERENCIAS'!$L$6:$L$11,0),1))","v":""},null,null,null,null,{"$f":"IF(AE22=\"\",\"\",INDEX('OTRAS REFERENCIAS'!$N$6:$O$11,MATCH(AE22,'OTRAS REFERENCIAS'!$O$6:$O$11,0),1))","v":""},null,null,null,null,{"$f":"IF(AJ22=\"\",\"\",INDEX('OTRAS REFERENCIAS'!$Q$6:$R$11,MATCH(AJ22,'OTRAS REFERENCIAS'!$R$6:$R$11,0),1))","v":""},null,null,null,{"$f":"IF(AN22=\"\",\"\",INDEX('OTRAS REFERENCIAS'!$T$6:$U$11,MATCH(AN22,'OTRAS REFERENCIAS'!$U$6:$U$11,0),1))","v":""}]
[1,"",21,"","",{"$f":"IF(L23<>\"\",CONCATENATE(DIGITADOR!$B$2,$A$2,DIGITADOR!$M$1,A23),\"\")","v":""},null,null,"",{"$f":"IF(K23=\"\",\"\",INDEX('OTRAS REFERENCIAS'!$AL:$AM,MATCH(K23,'OTRAS REFERENCIAS'!$AL:$AL,0),2))","v":""},null,{"$f":"IF(J23=\"\",\"\",INDEX(referentes!$S:$W,MATCH(J23,referentes!$S:$S,0),1))","v":""},null,null,null,null,null,null,null,{"$f":"IF(U23=\"\",\"\",INDEX('OTRAS REFERENCIAS'!$H$6:$I$11,MATCH(U23,'OTRAS REFERENCIAS'!$I$6:$I$11,0),1))","v":""},null,null,null,null,{"$f":"IF(Z23=\"\",\"\",INDEX('OTRAS REFERENCIAS'!$K$6:$L$11,MATCH(Z23,'OTRAS REFERENCIAS'!$L$6:$L$11,0),1))","v":""},null,null,null,null,{"$f":"IF(AE23=\"\",\"\",INDEX('OTRAS REFERENCIAS'!$N$6:$O$11,MATCH(AE23,'OTRAS REFERENCIAS'!$O$6:$O$11,0),1))","v":""},null,null,null,null,{"$f":"IF(AJ23=\"\",\"\",INDEX('OTRAS REFERENCIAS'!$Q$6:$R$11,MATCH(AJ23,'OTRAS REFERENCIAS'!$R$6:$R$11,0),1))","v":""},null,null,null,{"$f":"IF(AN23=\"\",\"\",INDEX('OTRAS REFERENCIAS'!$T$6:$U$11,MATCH(AN23,'OTRAS REFERENCIAS'!$U$6:$U$11,0),1))","v":""}]
[1,"",22,"","",{"$f":"IF(L24<>\"\",CONCATENATE(DIGITADOR!$B$2,$A$2,DIGITADOR!$M$1,A24),\"\")","v":""},null,null,"",{"$f":"IF(K24=\"\",\"\",INDEX('OTRAS REFERENCIAS'!$AL:$AM,MATCH(K24,'OTRAS REFERENCIAS'!$AL:$AL,0),2))","v":""},null,{"$f":"IF(J24=\"\",\"\",INDEX(referentes!$S:$W,MATCH(J24,referentes!$S:$S,0),1))","v":""},null,null,null,null,null,null,null,{"$f":"IF(U24=\"\",\"\",INDEX('OTRAS REFERENCIAS'!$H$6:$I$11,MATCH(U24,'OTRAS REFERENCIAS'!$I$6:$I$11,0),1))","v":""},null,null,null,null,{"$f":"IF(Z24=\"\",\"\",INDEX('OTRAS REFERENCIAS'!$K$6:$L$11,MATCH(Z24,'OTRAS REFERENCIAS'!$L$6:$L$11,0),1))","v":""},null,null,null,null,{"$f":"IF(AE24=\"\",\"\",INDEX('OTRAS REFERENCIAS'!$N$6:$O$11,MATCH(AE24,'OTRAS REFERENCIAS'!$O$6:$O$11,0),1))","v":""},null,null,null,null,{"$f":"IF(AJ24=\"\",\"\",INDEX('OTRAS REFERENCIAS'!$Q$6:$R$11,MATCH(AJ24,'OTRAS REFERENCIAS'!$R$6:$R$11,0),1))","v":""},null,null,null,{"$f":"IF(AN24=\"\",\"\",INDEX('OTRAS REFERENCIAS'!$T$6:$U$11,MATCH(AN24,'OTRAS REFERENCIAS'!$U$6:$U$11,0),1))","v":""}]
[1,"",23,"","",{"$f":"IF(L25<>\"\",CONCATENATE(DIGITADOR!$B$2,$A$2,DIGITADOR!$M$1,A25),\"\")","v":""},null,null,"",{"$f":"IF(K25=\"\",\"\",INDEX('OTRAS REFERENCIAS'!$AL:$AM,MATCH(K25,'OTRAS REFERENCIAS'!$AL:$AL,0),2))","v":""},null,{"$f":"IF(J25=\"\",\"\",INDEX(referentes!$S:$W,MATCH(J25,referentes!$S:$S,0),1))","v":""},null,null,null,null,null,null,null,{"$f":"IF(U25=\"\",\"\",INDEX('OTRAS REFERENCIAS'!$H$6:$I$11,MATCH(U25,'OTRAS REFERENCIAS'!$I$6:$I$11,0),1))","v":""},null,null,null,null,{"$f":"IF(Z25=\"\",\"\",INDEX('OTRAS REFERENCIAS'!$K$6:$L$11,MATCH(Z25,'OTRAS REFERENCIAS'!$L$6:$L$11,0),1))","v":""},null,null,null,null,{"$f":"IF(AE25=\"\",\"\",INDEX('OTRAS REFERENCIAS'!$N$6:$O$11,MATCH(AE25,'OTRAS REFERENCIAS'!$O$6:$O$11,0),1))","v":""},null,null,null,null,{"$f":"IF(AJ25=\"\",\"\",INDEX('OTRAS REFERENCIAS'!$Q$6:$R$11,MATCH(AJ25,'OTRAS REFERENCIAS'!$R$6:$R$11,0),1))","v":""},null,null,null,{"$f":"IF(AN25=\"\",\"\",INDEX('OTRAS REFERENCIAS'!$T$6:$U$11,MATCH(AN25,'OTRAS REFERENCIAS'!$U$6:$U$11,0),1))","v":""}]
[1,"",24,"","",{"$f":"IF(L26<>\"\",CONCATENATE(DIGITADOR!$B$2,$A$2,DIGITADOR!$M$1,A26),\"\")","v":""},null,null,"",{"$f":"IF(K26=\"\",\"\",INDEX('OTRAS REFERENCIAS'!$AL:$AM,MATCH(K26,'OTRAS REFERENCIAS'!$AL:$AL,0),2))","v":""},null,{"$f":"IF(J26=\"\",\"\",INDEX(referentes!$S:$W,MATCH(J26,referentes!$S:$S,0),1))","v":""},null,null,null,null,null,null,null,{"$f":"IF(U26=\"\",\"\",INDEX('OTRAS REFERENCIAS'!$H$6:$I$11,MATCH(U26,'OTRAS REFERENCIAS'!$I$6:$I$11,0),1))","v":""},null,null,null,null,{"$f":"IF(Z26=\"\",\"\",INDEX('OTRAS REFERENCIAS'!$K$6:$L$11,MATCH(Z26,'OTRAS REFERENCIAS'!$L$6:$L$11,0),1))","v":""},null,null,null,null,{"$f":"IF(AE26=\"\",\"\",INDEX('OTRAS REFERENCIAS'!$N$6:$O$11,MATCH(AE26,'OTRAS REFERENCIAS'!$O$6:$O$11,0),1))","v":""},null,null,null,null,{"$f":"IF(AJ26=\"\",\"\",INDEX('OTRAS REFERENCIAS'!$Q$6:$R$11,MATCH(AJ26,'OTRAS REFERENCIAS'!$R$6:$R$11,0),1))","v":""},null,null,null,{"$f":"IF(AN26=\"\",\"\",INDEX('OTRAS REFERENCIAS'!$T$6:$U$11,MATCH(AN26,'OTRAS REFERENCIAS'!$U$6:$U$11,0),1))","v":""}]
[1,"",25,"","",{"$f":"IF(L27<>\"\",CONCATENATE(DIGITADOR!$B$2,$A$2,DIGITADOR!$M$1,A27),\"\")","v":""},null,null,"",{"$f":"IF(K27=\"\",\"\",INDEX('OTRAS REFERENCIAS'!$AL:$AM,MATCH(K27,'OTRAS REFERENCIAS'!$AL:$AL,0),2))","v":""},null,{"$f":"IF(J27=\"\",\"\",INDEX(referentes!$S:$W,MATCH(J27,referentes!$S:$S,0),1))","v":""},null,null,null,null,null,null,null,{"$f":"IF(U27=\"\",\"\",INDEX('OTRAS REFERENCIAS'!$H$6:$I$11,MATCH(U27,'OTRAS REFERENCIAS'!$I$6:$I$11,0),1))","v":""},null,null,null,null,{"$f":"IF(Z27=\"\",\"\",INDEX('OTRAS REFERENCIAS'!$K$6:$L$11,MATCH(Z27,'OTRAS REFERENCIAS'!$L$6:$L$11,0),1))","v":""},null,null,null,null,{"$f":"IF(AE27=\"\",\"\",INDEX('OTRAS REFERENCIAS'!$N$6:$O$11,MATCH(AE27,'OTRAS REFERENCIAS'!$O$6:$O$11,0),1))","v":""},null,null,null,null,{"$f":"IF(AJ27=\"\",\"\",INDEX('OTRAS REFERENCIAS'!$Q$6:$R$11,MATCH(AJ27,'OTRAS REFERENCIAS'!$R$6:$R$11,0),1))","v":""},null,null,null,{"$f":"IF(AN27=\"\",\"\",INDEX('OTRAS REFERENCIAS'!$T$6:$U$11,MATCH(AN27,'OTRAS REFERENCIAS'!$U$6:$U$11,0),1))","v":""}]
[1,"",26,"","",{"$f":"IF(L28<>\"\",CONCATENATE(DIGITADOR!$B$2,$A$2,DIGITADOR!$M$1,A28),\"\")","v":""},null,null,"",{"$f":"IF(K28=\"\",\"\",INDEX('OTRAS REFERENCIAS'!$AL:$AM,MATCH(K28,'OTRAS REFERENCIAS'!$AL:$AL,0),2))","v":""},null,{"$f":"IF(J28=\"\",\"\",INDEX(referentes!$S:$W,MATCH(J28,referentes!$S:$S,0),1))","v":""},null,null,null,null,null,null,null,{"$f":"IF(U28=\"\",\"\",INDEX('OTRAS REFERENCIAS'!$H$6:$I$11,MATCH(U28,'OTRAS REFERENCIAS'!$I$6:$I$11,0),1))","v":""},null,null,null,null,{"$f":"IF(Z28=\"\",\"\",INDEX('OTRAS REFERENCIAS'!$K$6:$L$11,MATCH(Z28,'OTRAS REFERENCIAS'!$L$6:$L$11,0),1))","v":""},null,null,null,null,{"$f":"IF(AE28=\"\",\"\",INDEX('OTRAS REFERENCIAS'!$N$6:$O$11,MATCH(AE28,'OTRAS REFERENCIAS'!$O$6:$O$11,0),1))","v":""},null,null,null,null,{"$f":"IF(AJ28=\"\",\"\",INDEX('OTRAS REFERENCIAS'!$Q$6:$R$11,MATCH(AJ28,'OTRAS REFERENCIAS'!$R$6:$R$11,0),1))","v":""},null,null,null,{"$f":"IF(AN28=\"\",\"\",INDEX('OTRAS REFERENCIAS'!$T$6:$U$11,MATCH(AN28,'OTRAS REFERENCIAS'!$U$6:$U$11,0),1))","v":""}]
[1,"",27,"","",{"$f":"IF(L29<>\"\",CONCATENATE(DIGITADOR!$B$2,$A$2,DIGITADOR!$M$1,A29),\"\")","v":""},null,null,"",{"$f":"IF(K29=\"\",\"\",INDEX('OTRAS REFERENCIAS'!$AL:$AM,MATCH(K29,'OTRAS REFERENCIAS'!$AL:$AL,0),2))","v":""},null,{"$f":"IF(J29=\"\",\"\",INDEX(referentes!$S:$W,MATCH(J29,referentes!$S:$S,0),1))","v":""},null,null,null,null,null,null,null,{"$f":"IF(U29=\"\",\"\",INDEX('OTRAS REFERENCIAS'!$H$6:$I$11,MATCH(U29,'OTRAS REFERENCIAS'!$I$6:$I$11,0),1))","v":""},null,null,null,null,{"$f":"IF(Z29=\"\",\"\",INDEX('OTRAS REFERENCIAS'!$K$6:$L$11,MATCH(Z29,'OTRAS REFERENCIAS'!$L$6:$L$11,0),1))","v":""},null,null,null,null,{"$f":"IF(AE29=\"\",\"\",INDEX('OTRAS REFERENCIAS'!$N$6:$O$11,MATCH(AE29,'OTRAS REFERENCIAS'!$O$6:$O$11,0),1))","v":""},null,null,null,null,{"$f":"IF(AJ29=\"\",\"\",INDEX('OTRAS REFERENCIAS'!$Q$6:$R$11,MATCH(AJ29,'OTRAS REFERENCIAS'!$R$6:$R$11,0),1))","v":""},null,null,null,{"$f":"IF(AN29=\"\",\"\",INDEX('OTRAS REFERENCIAS'!$T$6:$U$11,MATCH(AN29,'OTRAS REFERENCIAS'!$U$6:$U$11,0),1))","v":""}]
[1,"",28,"","",{"$f":"IF(L30<>\"\",CONCATENATE(DIGITADOR!$B$2,$A$2,DIGITADOR!$M$1,A30),\"\")","v":""},null,null,"",{"$f":"IF(K30=\"\",\"\",INDEX('OTRAS REFERENCIAS'!$AL:$AM,MATCH(K30,'OTRAS REFERENCIAS'!$AL:$AL,0),2))","v":""},null,{"$f":"IF(J30=\"\",\"\",INDEX(referentes!$S:$W,MATCH(J30,referentes!$S:$S,0),1))","v":""},null,null,null,null,null,null,null,{"$f":"IF(U30=\"\",\"\",INDEX('OTRAS REFERENCIAS'!$H$6:$I$11,MATCH(U30,'OTRAS REFERENCIAS'!$I$6:$I$11,0),1))","v":""},null,null,null,null,{"$f":"IF(Z30=\"\",\"\",INDEX('OTRAS REFERENCIAS'!$K$6:$L$11,MATCH(Z30,'OTRAS REFERENCIAS'!$L$6:$L$11,0),1))","v":""},null,null,null,null,{"$f":"IF(AE30=\"\",\"\",INDEX('OTRAS REFERENCIAS'!$N$6:$O$11,MATCH(AE30,'OTRAS REFERENCIAS'!$O$6:$O$11,0),1))","v":""},null,null,null,null,{"$f":"IF(AJ30=\"\",\"\",INDEX('OTRAS REFERENCIAS'!$Q$6:$R$11,MATCH(AJ30,'OTRAS REFERENCIAS'!$R$6:$R$11,0),1))","v":""},null,null,null,{"$f":"IF(AN30=\"\",\"\",INDEX('OTRAS REFERENCIAS'!$T$6:$U$11,MATCH(AN30,'OTRAS REFERENCIAS'!$U$6:$U$11,0),1))","v":""}]
[1,"",29,"","",{"$f":"IF(L31<>\"\",CONCATENATE(DIGITADOR!$B$2,$A$2,DIGITADOR!$M$1,A31),\"\")","v":""},null,null,"",{"$f":"IF(K31=\"\",\"\",INDEX('OTRAS REFERENCIAS'!$AL:$AM,MATCH(K31,'OTRAS REFERENCIAS'!$AL:$AL,0),2))","v":""},null,{"$f":"IF(J31=\"\",\"\",INDEX(referentes!$S:$W,MATCH(J31,referentes!$S:$S,0),1))","v":""},null,null,null,null,null,null,null,{"$f":"IF(U31=\"\",\"\",INDEX('OTRAS REFERENCIAS'!$H$6:$I$11,MATCH(U31,'OTRAS REFERENCIAS'!$I$6:$I$11,0),1))","v":""},null,null,null,null,{"$f":"IF(Z31=\"\",\"\",INDEX('OTRAS REFERENCIAS'!$K$6:$L$11,MATCH(Z31,'OTRAS REFERENCIAS'!$L$6:$L$11,0),1))","v":""},null,null,null,null,{"$f":"IF(AE31=\"\",\"\",INDEX('OTRAS REFERENCIAS'!$N$6:$O$11,MATCH(AE31,'OTRAS REFERENCIAS'!$O$6:$O$11,0),1))","v":""},null,null,null,null,{"$f":"IF(AJ31=\"\",\"\",INDEX('OTRAS REFERENCIAS'!$Q$6:$R$11,MATCH(AJ31,'OTRAS REFERENCIAS'!$R$6:$R$11,0),1))","v":""},null,null,null,{"$f":"IF(AN31=\"\",\"\",INDEX('OTRAS REFERENCIAS'!$T$6:$U$11,MATCH(AN31,'OTRAS REFERENCIAS'!$U$6:$U$11,0),1))","v":""}]
[1,"",30,"","",{"$f":"IF(L32<>\"\",CONCATENATE(DIGITADOR!$B$2,$A$2,DIGITADOR!$M$1,A32),\"\")","v":""},null,null,"",{"$f":"IF(K32=\"\",\"\",INDEX('OTRAS REFERENCIAS'!$AL:$AM,MATCH(K32,'OTRAS REFERENCIAS'!$AL:$AL,0),2))","v":""},null,{"$f":"IF(J32=\"\",\"\",INDEX(referentes!$S:$W,MATCH(J32,referentes!$S:$S,0),1))","v":""},null,null,null,null,null,null,null,{"$f":"IF(U32=\"\",\"\",INDEX('OTRAS REFERENCIAS'!$H$6:$I$11,MATCH(U32,'OTRAS REFERENCIAS'!$I$6:$I$11,0),1))","v":""},null,null,null,null,{"$f":"IF(Z32=\"\",\"\",INDEX('OTRAS REFERENCIAS'!$K$6:$L$11,MATCH(Z32,'OTRAS REFERENCIAS'!$L$6:$L$11,0),1))","v":""},null,null,null,null,{"$f":"IF(AE32=\"\",\"\",INDEX('OTRAS REFERENCIAS'!$N$6:$O$11,MATCH(AE32,'OTRAS REFERENCIAS'!$O$6:$O$11,0),1))","v":""},null,null,null,null,{"$f":"IF(AJ32=\"\",\"\",INDEX('OTRAS REFERENCIAS'!$Q$6:$R$11,MATCH(AJ32,'OTRAS REFERENCIAS'!$R$6:$R$11,0),1))","v":""},null,null,null,{"$f":"IF(AN32=\"\",\"\",INDEX('OTRAS REFERENCIAS'!$T$6:$U$11,MATCH(AN32,'OTRAS REFERENCIAS'!$U$6:$U$11,0),1))","v":""}]
[1,"",31,"","",{"$f":"IF(L33<>\"\",CONCATENATE(DIGITADOR!$B$2,$A$2,DIGITADOR!$M$1,A33),\"\")","v":""},null,null,"",{"$f":"IF(K33=\"\",\"\",INDEX('OTRAS REFERENCIAS'!$AL:$AM,MATCH(K33,'OTRAS REFERENCIAS'!$AL:$AL,0),2))","v":""},null,{"$f":"IF(J33=\"\",\"\",INDEX(referentes!$S:$W,MATCH(J33,referentes!$S:$S,0),1))","v":""},null,null,null,null,null,null,null,{"$f":"IF(U33=\"\",\"\",INDEX('OTRAS REFERENCIAS'!$H$6:$I$11,MATCH(U33,'OTRAS REFERENCIAS'!$I$6:$I$11,0),1))","v":""},null,null,null,null,{"$f":"IF(Z33=\"\",\"\",INDEX('OTRAS REFERENCIAS'!$K$6:$L$11,MATCH(Z33,'OTRAS REFERENCIAS'!$L$6:$L$11,0),1))","v":""},null,null,null,null,{"$f":"IF(AE33=\"\",\"\",INDEX('OTRAS REFERENCIAS'!$N$6:$O$11,MATCH(AE33,'OTRAS REFERENCIAS'!$O$6:$O$11,0),1))","v":""},null,null,null,null,{"$f":"IF(AJ33=\"\",\"\",INDEX('OTRAS REFERENCIAS'!$Q$6:$R$11,MATCH(AJ33,'OTRAS REFERENCIAS'!$R$6:$R$11,0),1))","v":""},null,null,null,{"$f":"IF(AN33=\"\",\"\",INDEX('OTRAS REFERENCIAS'!$T$6:$U$11,MATCH(AN33,'OTRAS REFERENCIAS'!$U$6:$U$11,0),1))","v":""}]
[1,"",32,"","",{"$f":"IF(L34<>\"\",CONCATENATE(DIGITADOR!$B$2,$A$2,DIGITADOR!$M$1,A34),\"\")","v":""},null,null,"",{"$f":"IF(K34=\"\",\"\",INDEX('OTRAS REFERENCIAS'!$AL:$AM,MATCH(K34,'OTRAS REFERENCIAS'!$AL:$AL,0),2))","v":""},null,{"$f":"IF(J34=\"\",\"\",INDEX(referentes!$S:$W,MATCH(J34,referentes!$S:$S,0),1))","v":""},null,null,null,null,null,null,null,{"$f":"IF(U34=\"\",\"\",INDEX('OTRAS REFERENCIAS'!$H$6:$I$11,MATCH(U34,'OTRAS REFERENCIAS'!$I$6:$I$11,0),1))","v":""},null,null,null,null,{"$f":"IF(Z34=\"\",\"\",INDEX('OTRAS REFERENCIAS'!$K$6:$L$11,MATCH(Z34,'OTRAS REFERENCIAS'!$L$6:$L$11,0),1))","v":""},null,null,null,null,{"$f":"IF(AE34=\"\",\"\",INDEX('OTRAS REFERENCIAS'!$N$6:$O$11,MATCH(AE34,'OTRAS REFERENCIAS'!$O$6:$O$11,0),1))","v":""},null,null,null,null,{"$f":"IF(AJ34=\"\",\"\",INDEX('OTRAS REFERENCIAS'!$Q$6:$R$11,MATCH(AJ34,'OTRAS REFERENCIAS'!$R$6:$R$11,0),1))","v":""},null,null,null,{"$f":"IF(AN34=\"\",\"\",INDEX('OTRAS REFERENCIAS'!$T$6:$U$11,MATCH(AN34,'OTRAS REFERENCIAS'!$U$6:$U$11,0),1))","v":""}]
[1,"",33,"","",{"$f":"IF(L35<>\"\",CONCATENATE(DIGITADOR!$B$2,$A$2,DIGITADOR!$M$1,A35),\"\")","v":""},null,null,"",{"$f":"IF(K35=\"\",\"\",INDEX('OTRAS REFERENCIAS'!$AL:$AM,MATCH(K35,'OTRAS REFERENCIAS'!$AL:$AL,0),2))","v":""},null,{"$f":"IF(J35=\"\",\"\",INDEX(referentes!$S:$W,MATCH(J35,referentes!$S:$S,0),1))","v":""},null,null,null,null,null,null,null,{"$f":"IF(U35=\"\",\"\",INDEX('OTRAS REFERENCIAS'!$H$6:$I$11,MATCH(U35,'OTRAS REFERENCIAS'!$I$6:$I$11,0),1))","v":""},null,null,null,null,{"$f":"IF(Z35=\"\",\"\",INDEX('OTRAS REFERENCIAS'!$K$6:$L$11,MATCH(Z35,'OTRAS REFERENCIAS'!$L$6:$L$11,0),1))","v":""},null,null,null,null,{"$f":"IF(AE35=\"\",\"\",INDEX('OTRAS REFERENCIAS'!$N$6:$O$11,MATCH(AE35,'OTRAS REFERENCIAS'!$O$6:$O$11,0),1))","v":""},null,null,null,null,{"$f":"IF(AJ35=\"\",\"\",INDEX('OTRAS REFERENCIAS'!$Q$6:$R$11,MATCH(AJ35,'OTRAS REFERENCIAS'!$R$6:$R$11,0),1))","v":""},null,null,null,{"$f":"IF(AN35=\"\",\"\",INDEX('OTRAS REFERENCIAS'!$T$6:$U$11,MATCH(AN35,'OTRAS REFERENCIAS'!$U$6:$U$11,0),1))","v":""}]
[1,"",34,"","",{"$f":"IF(L36<>\"\",CONCATENATE(DIGITADOR!$B$2,$A$2,DIGITADOR!$M$1,A36),\"\")","v":""},null,null,"",{"$f":"IF(K36=\"\",\"\",INDEX('OTRAS REFERENCIAS'!$AL:$AM,MATCH(K36,'OTRAS REFERENCIAS'!$AL:$AL,0),2))","v":""},null,{"$f":"IF(J36=\"\",\"\",INDEX(referentes!$S:$W,MATCH(J36,referentes!$S:$S,0),1))","v":""},null,null,null,null,null,null,null,{"$f":"IF(U36=\"\",\"\",INDEX('OTRAS REFERENCIAS'!$H$6:$I$11,MATCH(U36,'OTRAS REFERENCIAS'!$I$6:$I$11,0),1))","v":""},null,null,null,null,{"$f":"IF(Z36=\"\",\"\",INDEX('OTRAS REFERENCIAS'!$K$6:$L$11,MATCH(Z36,'OTRAS REFERENCIAS'!$L$6:$L$11,0),1))","v":""},null,null,null,null,{"$f":"IF(AE36=\"\",\"\",INDEX('OTRAS REFERENCIAS'!$N$6:$O$11,MATCH(AE36,'OTRAS REFERENCIAS'!$O$6:$O$11,0),1))","v":""},null,null,null,null,{"$f":"IF(AJ36=\"\",\"\",INDEX('OTRAS REFERENCIAS'!$Q$6:$R$11,MATCH(AJ36,'OTRAS REFERENCIAS'!$R$6:$R$11,0),1))","v":""},null,null,null,{"$f":"IF(AN36=\"\",\"\",INDEX('OTRAS REFERENCIAS'!$T$6:$U$11,MATCH(AN36,'OTRAS REFERENCIAS'!$U$6:$U$11,0),1))","v":""}]
[1,"",35,"","",{"$f":"IF(L37<>\"\",CONCATENATE(DIGITADOR!$B$2,$A$2,DIGITADOR!$M$1,A37),\"\")","v":""},null,null,"",{"$f":"IF(K37=\"\",\"\",INDEX('OTRAS REFERENCIAS'!$AL:$AM,MATCH(K37,'OTRAS REFERENCIAS'!$AL:$AL,0),2))","v":""},null,{"$f":"IF(J37=\"\",\"\",INDEX(referentes!$S:$W,MATCH(J37,referentes!$S:$S,0),1))","v":""},null,null,null,null,null,null,null,{"$f":"IF(U37=\"\",\"\",INDEX('OTRAS REFERENCIAS'!$H$6:$I$11,MATCH(U37,'OTRAS REFERENCIAS'!$I$6:$I$11,0),1))","v":""},null,null,null,null,{"$f":"IF(Z37=\"\",\"\",INDEX('OTRAS REFERENCIAS'!$K$6:$L$11,MATCH(Z37,'OTRAS REFERENCIAS'!$L$6:$L$11,0),1))","v":""},null,null,null,null,{"$f":"IF(AE37=\"\",\"\",INDEX('OTRAS REFERENCIAS'!$N$6:$O$11,MATCH(AE37,'OTRAS REFERENCIAS'!$O$6:$O$11,0),1))","v":""},null,null,null,null,{"$f":"IF(AJ37=\"\",\"\",INDEX('OTRAS REFERENCIAS'!$Q$6:$R$11,MATCH(AJ37,'OTRAS REFERENCIAS'!$R$6:$R$11,0),1))","v":""},null,null,null,{"$f":"IF(AN37=\"\",\"\",INDEX('OTRAS REFERENCIAS'!$T$6:$U$11,MATCH(AN37,'OTRAS REFERENCIAS'!$U$6:$U$11,0),1))","v":""}]
[1,"",36,"","",{"$f":"IF(L38<>\"\",CONCATENATE(DIGITADOR!$B$2,$A$2,DIGITADOR!$M$1,A38),\"\")","v":""},null,null,"",{"$f":"IF(K38=\"\",\"\",INDEX('OTRAS REFERENCIAS'!$AL:$AM,MATCH(K38,'OTRAS REFERENCIAS'!$AL:$AL,0),2))","v":""},null,{"$f":"IF(J38=\"\",\"\",INDEX(referentes!$S:$W,MATCH(J38,referentes!$S:$S,0),1))","v":""},null,null,null,null,null,null,null,{"$f":"IF(U38=\"\",\"\",INDEX('OTRAS REFERENCIAS'!$H$6:$I$11,MATCH(U38,'OTRAS REFERENCIAS'!$I$6:$I$11,0),1))","v":""},null,null,null,null,{"$f":"IF(Z38=\"\",\"\",INDEX('OTRAS REFERENCIAS'!$K$6:$L$11,MATCH(Z38,'OTRAS REFERENCIAS'!$L$6:$L$11,0),1))","v":""},null,null,null,null,{"$f":"IF(AE38=\"\",\"\",INDEX('OTRAS REFERENCIAS'!$N$6:$O$11,MATCH(AE38,'OTRAS REFERENCIAS'!$O$6:$O$11,0),1))","v":""},null,null,null,null,{"$f":"IF(AJ38=\"\",\"\",INDEX('OTRAS REFERENCIAS'!$Q$6:$R$11,MATCH(AJ38,'OTRAS REFERENCIAS'!$R$6:$R$11,0),1))","v":""},null,null,null,{"$f":"IF(AN38=\"\",\"\",INDEX('OTRAS REFERENCIAS'!$T$6:$U$11,MATCH(AN38,'OTRAS REFERENCIAS'!$U$6:$U$11,0),1))","v":""}]
[1,"",37,"","",{"$f":"IF(L39<>\"\",CONCATENATE(DIGITADOR!$B$2,$A$2,DIGITADOR!$M$1,A39),\"\")","v":""},null,null,"",{"$f":"IF(K39=\"\",\"\",INDEX('OTRAS REFERENCIAS'!$AL:$AM,MATCH(K39,'OTRAS REFERENCIAS'!$AL:$AL,0),2))","v":""},null,{"$f":"IF(J39=\"\",\"\",INDEX(referentes!$S:$W,MATCH(J39,referentes!$S:$S,0),1))","v":""},null,null,null,null,null,null,null,{"$f":"IF(U39=\"\",\"\",INDEX('OTRAS REFERENCIAS'!$H$6:$I$11,MATCH(U39,'OTRAS REFERENCIAS'!$I$6:$I$11,0),1))","v":""},null,null,null,null,{"$f":"IF(Z39=\"\",\"\",INDEX('OTRAS REFERENCIAS'!$K$6:$L$11,MATCH(Z39,'OTRAS REFERENCIAS'!$L$6:$L$11,0),1))","v":""},null,null,null,null,{"$f":"IF(AE39=\"\",\"\",INDEX('OTRAS REFERENCIAS'!$N$6:$O$11,MATCH(AE39,'OTRAS REFERENCIAS'!$O$6:$O$11,0),1))","v":""},null,null,null,null,{"$f":"IF(AJ39=\"\",\"\",INDEX('OTRAS REFERENCIAS'!$Q$6:$R$11,MATCH(AJ39,'OTRAS REFERENCIAS'!$R$6:$R$11,0),1))","v":""},null,null,null,{"$f":"IF(AN39=\"\",\"\",INDEX('OTRAS REFERENCIAS'!$T$6:$U$11,MATCH(AN39,'OTRAS REFERENCIAS'!$U$6:$U$11,0),1))","v":""}]
[1,"",38,"","",{"$f":"IF(L40<>\"\",CONCATENATE(DIGITADOR!$B$2,$A$2,DIGITADOR!$M$1,A40),\"\")","v":""},null,null,"",{"$f":"IF(K40=\"\",\"\",INDEX('OTRAS REFERENCIAS'!$AL:$AM,MATCH(K40,'OTRAS REFERENCIAS'!$AL:$AL,0),2))","v":""},null,{"$f":"IF(J40=\"\",\"\",INDEX(referentes!$S:$W,MATCH(J40,referentes!$S:$S,0),1))","v":""},null,null,null,null,null,null,null,{"$f":"IF(U40=\"\",\"\",INDEX('OTRAS REFERENCIAS'!$H$6:$I$11,MATCH(U40,'OTRAS REFERENCIAS'!$I$6:$I$11,0),1))","v":""},null,null,null,null,{"$f":"IF(Z40=\"\",\"\",INDEX('OTRAS REFERENCIAS'!$K$6:$L$11,MATCH(Z40,'OTRAS REFERENCIAS'!$L$6:$L$11,0),1))","v":""},null,null,null,null,{"$f":"IF(AE40=\"\",\"\",INDEX('OTRAS REFERENCIAS'!$N$6:$O$11,MATCH(AE40,'OTRAS REFERENCIAS'!$O$6:$O$11,0),1))","v":""},null,null,null,null,{"$f":"IF(AJ40=\"\",\"\",INDEX('OTRAS REFERENCIAS'!$Q$6:$R$11,MATCH(AJ40,'OTRAS REFERENCIAS'!$R$6:$R$11,0),1))","v":""},null,null,null,{"$f":"IF(AN40=\"\",\"\",INDEX('OTRAS REFERENCIAS'!$T$6:$U$11,MATCH(AN40,'OTRAS REFERENCIAS'!$U$6:$U$11,0),1))","v":""}]
[1,"",39,"","",{"$f":"IF(L41<>\"\",CONCATENATE(DIGITADOR!$B$2,$A$2,DIGITADOR!$M$1,A41),\"\")","v":""},null,null,"",{"$f":"IF(K41=\"\",\"\",INDEX('OTRAS REFERENCIAS'!$AL:$AM,MATCH(K41,'OTRAS REFERENCIAS'!$AL:$AL,0),2))","v":""},null,{"$f":"IF(J41=\"\",\"\",INDEX(referentes!$S:$W,MATCH(J41,referentes!$S:$S,0),1))","v":""},null,null,null,null,null,null,null,{"$f":"IF(U41=\"\",\"\",INDEX('OTRAS REFERENCIAS'!$H$6:$I$11,MATCH(U41,'OTRAS REFERENCIAS'!$I$6:$I$11,0),1))","v":""},null,null,null,null,{"$f":"IF(Z41=\"\",\"\",INDEX('OTRAS REFERENCIAS'!$K$6:$L$11,MATCH(Z41,'OTRAS REFERENCIAS'!$L$6:$L$11,0),1))","v":""},null,null,null,null,{"$f":"IF(AE41=\"\",\"\",INDEX('OTRAS REFERENCIAS'!$N$6:$O$11,MATCH(AE41,'OTRAS REFERENCIAS'!$O$6:$O$11,0),1))","v":""},null,null,null,null,{"$f":"IF(AJ41=\"\",\"\",INDEX('OTRAS REFERENCIAS'!$Q$6:$R$11,MATCH(AJ41,'OTRAS REFERENCIAS'!$R$6:$R$11,0),1))","v":""},null,null,null,{"$f":"IF(AN41=\"\",\"\",INDEX('OTRAS REFERENCIAS'!$T$6:$U$11,MATCH(AN41,'OTRAS REFERENCIAS'!$U$6:$U$11,0),1))","v":""}]
[1,"",40,"","",{"$f":"IF(L42<>\"\",CONCATENATE(DIGITADOR!$B$2,$A$2,DIGITADOR!$M$1,A42),\"\")","v":""},null,null,"",{"$f":"IF(K42=\"\",\"\",INDEX('OTRAS REFERENCIAS'!$AL:$AM,MATCH(K42,'OTRAS REFERENCIAS'!$AL:$AL,0),2))","v":""},null,{"$f":"IF(J42=\"\",\"\",INDEX(referentes!$S:$W,MATCH(J42,referentes!$S:$S,0),1))","v":""},null,null,null,null,null,null,null,{"$f":"IF(U42=\"\",\"\",INDEX('OTRAS REFERENCIAS'!$H$6:$I$11,MATCH(U42,'OTRAS REFERENCIAS'!$I$6:$I$11,0),1))","v":""},null,null,null,null,{"$f":"IF(Z42=\"\",\"\",INDEX('OTRAS REFERENCIAS'!$K$6:$L$11,MATCH(Z42,'OTRAS REFERENCIAS'!$L$6:$L$11,0),1))","v":""},null,null,null,null,{"$f":"IF(AE42=\"\",\"\",INDEX('OTRAS REFERENCIAS'!$N$6:$O$11,MATCH(AE42,'OTRAS REFERENCIAS'!$O$6:$O$11,0),1))","v":""},null,null,null,null,{"$f":"IF(AJ42=\"\",\"\",INDEX('OTRAS REFERENCIAS'!$Q$6:$R$11,MATCH(AJ42,'OTRAS REFERENCIAS'!$R$6:$R$11,0),1))","v":""},null,null,null,{"$f":"IF(AN42=\"\",\"\",INDEX('OTRAS REFERENCIAS'!$T$6:$U$11,MATCH(AN42,'OTRAS REFERENCIAS'!$U$6:$U$11,0),1))","v":""}]
[1,"",41,"","",{"$f":"IF(L43<>\"\",CONCATENATE(DIGITADOR!$B$2,$A$2,DIGITADOR!$M$1,A43),\"\")","v":""},null,null,"",{"$f":"IF(K43=\"\",\"\",INDEX('OTRAS REFERENCIAS'!$AL:$AM,MATCH(K43,'OTRAS REFERENCIAS'!$AL:$AL,0),2))","v":""},null,{"$f":"IF(J43=\"\",\"\",INDEX(referentes!$S:$W,MATCH(J43,referentes!$S:$S,0),1))","v":""},null,null,null,null,null,null,null,{"$f":"IF(U43=\"\",\"\",INDEX('OTRAS REFERENCIAS'!$H$6:$I$11,MATCH(U43,'OTRAS REFERENCIAS'!$I$6:$I$11,0),1))","v":""},null,null,null,null,{"$f":"IF(Z43=\"\",\"\",INDEX('OTRAS REFERENCIAS'!$K$6:$L$11,MATCH(Z43,'OTRAS REFERENCIAS'!$L$6:$L$11,0),1))","v":""},null,null,null,null,{"$f":"IF(AE43=\"\",\"\",INDEX('OTRAS REFERENCIAS'!$N$6:$O$11,MATCH(AE43,'OTRAS REFERENCIAS'!$O$6:$O$11,0),1))","v":""},null,null,null,null,{"$f":"IF(AJ43=\"\",\"\",INDEX('OTRAS REFERENCIAS'!$Q$6:$R$11,MATCH(AJ43,'OTRAS REFERENCIAS'!$R$6:$R$11,0),1))","v":""},null,null,null,{"$f":"IF(AN43=\"\",\"\",INDEX('OTRAS REFERENCIAS'!$T$6:$U$11,MATCH(AN43,'OTRAS REFERENCIAS'!$U$6:$U$11,0),1))","v":""}]
[1,"",42,"","",{"$f":"IF(L44<>\"\",CONCATENATE(DIGITADOR!$B$2,$A$2,DIGITADOR!$M$1,A44),\"\")","v":""},null,null,"",{"$f":"IF(K44=\"\",\"\",INDEX('OTRAS REFERENCIAS'!$AL:$AM,MATCH(K44,'OTRAS REFERENCIAS'!$AL:$AL,0),2))","v":""},null,{"$f":"IF(J44=\"\",\"\",INDEX(referentes!$S:$W,MATCH(J44,referentes!$S:$S,0),1))","v":""},null,null,null,null,null,null,null,{"$f":"IF(U44=\"\",\"\",INDEX('OTRAS REFERENCIAS'!$H$6:$I$11,MATCH(U44,'OTRAS REFERENCIAS'!$I$6:$I$11,0),1))","v":""},null,null,null,null,{"$f":"IF(Z44=\"\",\"\",INDEX('OTRAS REFERENCIAS'!$K$6:$L$11,MATCH(Z44,'OTRAS REFERENCIAS'!$L$6:$L$11,0),1))","v":""},null,null,null,null,{"$f":"IF(AE44=\"\",\"\",INDEX('OTRAS REFERENCIAS'!$N$6:$O$11,MATCH(AE44,'OTRAS REFERENCIAS'!$O$6:$O$11,0),1))","v":""},null,null,null,null,{"$f":"IF(AJ44=\"\",\"\",INDEX('OTRAS REFERENCIAS'!$Q$6:$R$11,MATCH(AJ44,'OTRAS REFERENCIAS'!$R$6:$R$11,0),1))","v":""},null,null,null,{"$f":"IF(AN44=\"\",\"\",INDEX('OTRAS REFERENCIAS'!$T$6:$U$11,MATCH(AN44,'OTRAS REFERENCIAS'!$U$6:$U$11,0),1))","v":""}]
[1,"",43,"","",{"$f":"IF(L45<>\"\",CONCATENATE(DIGITADOR!$B$2,$A$2,DIGITADOR!$M$1,A45),\"\")","v":""},null,null,"",{"$f":"IF(K45=\"\",\"\",INDEX('OTRAS REFERENCIAS'!$AL:$AM,MATCH(K45,'OTRAS REFERENCIAS'!$AL:$AL,0),2))","v":""},null,{"$f":"IF(J45=\"\",\"\",INDEX(referentes!$S:$W,MATCH(J45,referentes!$S:$S,0),1))","v":""},null,null,null,null,null,null,null,{"$f":"IF(U45=\"\",\"\",INDEX('OTRAS REFERENCIAS'!$H$6:$I$11,MATCH(U45,'OTRAS REFERENCIAS'!$I$6:$I$11,0),1))","v":""},null,null,null,null,{"$f":"IF(Z45=\"\",\"\",INDEX('OTRAS REFERENCIAS'!$K$6:$L$11,MATCH(Z45,'OTRAS REFERENCIAS'!$L$6:$L$11,0),1))","v":""},null,null,null,null,{"$f":"IF(AE45=\"\",\"\",INDEX('OTRAS REFERENCIAS'!$N$6:$O$11,MATCH(AE45,'OTRAS REFERENCIAS'!$O$6:$O$11,0),1))","v":""},null,null,null,null,{"$f":"IF(AJ45=\"\",\"\",INDEX('OTRAS REFERENCIAS'!$Q$6:$R$11,MATCH(AJ45,'OTRAS REFERENCIAS'!$R$6:$R$11,0),1))","v":""},null,null,null,{"$f":"IF(AN45=\"\",\"\",INDEX('OTRAS REFERENCIAS'!$T$6:$U$11,MATCH(AN45,'OTRAS REFERENCIAS'!$U$6:$U$11,0),1))","v":""}]
[1,"",44,"","",{"$f":"IF(L46<>\"\",CONCATENATE(DIGITADOR!$B$2,$A$2,DIGITADOR!$M$1,A46),\"\")","v":""},null,null,"",{"$f":"IF(K46=\"\",\"\",INDEX('OTRAS REFERENCIAS'!$AL:$AM,MATCH(K46,'OTRAS REFERENCIAS'!$AL:$AL,0),2))","v":""},null,{"$f":"IF(J46=\"\",\"\",INDEX(referentes!$S:$W,MATCH(J46,referentes!$S:$S,0),1))","v":""},null,null,null,null,null,null,null,{"$f":"IF(U46=\"\",\"\",INDEX('OTRAS REFERENCIAS'!$H$6:$I$11,MATCH(U46,'OTRAS REFERENCIAS'!$I$6:$I$11,0),1))","v":""},null,null,null,null,{"$f":"IF(Z46=\"\",\"\",INDEX('OTRAS REFERENCIAS'!$K$6:$L$11,MATCH(Z46,'OTRAS REFERENCIAS'!$L$6:$L$11,0),1))","v":""},null,null,null,null,{"$f":"IF(AE46=\"\",\"\",INDEX('OTRAS REFERENCIAS'!$N$6:$O$11,MATCH(AE46,'OTRAS REFERENCIAS'!$O$6:$O$11,0),1))","v":""},null,null,null,null,{"$f":"IF(AJ46=\"\",\"\",INDEX('OTRAS REFERENCIAS'!$Q$6:$R$11,MATCH(AJ46,'OTRAS REFERENCIAS'!$R$6:$R$11,0),1))","v":""},null,null,null,{"$f":"IF(AN46=\"\",\"\",INDEX('OTRAS REFERENCIAS'!$T$6:$U$11,MATCH(AN46,'OTRAS REFERENCIAS'!$U$6:$U$11,0),1))","v":""}]
[1,"",45,"","",{"$f":"IF(L47<>\"\",CONCATENATE(DIGITADOR!$B$2,$A$2,DIGITADOR!$M$1,A47),\"\")","v":""},null,null,"",{"$f":"IF(K47=\"\",\"\",INDEX('OTRAS REFERENCIAS'!$AL:$AM,MATCH(K47,'OTRAS REFERENCIAS'!$AL:$AL,0),2))","v":""},null,{"$f":"IF(J47=\"\",\"\",INDEX(referentes!$S:$W,MATCH(J47,referentes!$S:$S,0),1))","v":""},null,null,null,null,null,null,null,{"$f":"IF(U47=\"\",\"\",INDEX('OTRAS REFERENCIAS'!$H$6:$I$11,MATCH(U47,'OTRAS REFERENCIAS'!$I$6:$I$11,0),1))","v":""},null,null,null,null,{"$f":"IF(Z47=\"\",\"\",INDEX('OTRAS REFERENCIAS'!$K$6:$L$11,MATCH(Z47,'OTRAS REFERENCIAS'!$L$6:$L$11,0),1))","v":""},null,null,null,null,{"$f":"IF(AE47=\"\",\"\",INDEX('OTRAS REFERENCIAS'!$N$6:$O$11,MATCH(AE47,'OTRAS REFERENCIAS'!$O$6:$O$11,0),1))","v":""},null,null,null,null,{"$f":"IF(AJ47=\"\",\"\",INDEX('OTRAS REFERENCIAS'!$Q$6:$R$11,MATCH(AJ47,'OTRAS REFERENCIAS'!$R$6:$R$11,0),1))","v":""},null,null,null,{"$f":"IF(AN47=\"\",\"\",INDEX('OTRAS REFERENCIAS'!$T$6:$U$11,MATCH(AN47,'OTRAS REFERENCIAS'!$U$6:$U$11,0),1))","v":""}]
[1,"",46,"","",{"$f":"IF(L48<>\"\",CONCATENATE(DIGITADOR!$B$2,$A$2,DIGITADOR!$M$1,A48),\"\")","v":""},null,null,"",{"$f":"IF(K48=\"\",\"\",INDEX('OTRAS REFERENCIAS'!$AL:$AM,MATCH(K48,'OTRAS REFERENCIAS'!$AL:$AL,0),2))","v":""},null,{"$f":"IF(J48=\"\",\"\",INDEX(referentes!$S:$W,MATCH(J48,referentes!$S:$S,0),1))","v":""},null,null,null,null,null,null,null,{"$f":"IF(U48=\"\",\"\",INDEX('OTRAS REFERENCIAS'!$H$6:$I$11,MATCH(U48,'OTRAS REFERENCIAS'!$I$6:$I$11,0),1))","v":""},null,null,null,null,{"$f":"IF(Z48=\"\",\"\",INDEX('OTRAS REFERENCIAS'!$K$6:$L$11,MATCH(Z48,'OTRAS REFERENCIAS'!$L$6:$L$11,0),1))","v":""},null,null,null,null,{"$f":"IF(AE48=\"\",\"\",INDEX('OTRAS REFERENCIAS'!$N$6:$O$11,MATCH(AE48,'OTRAS REFERENCIAS'!$O$6:$O$11,0),1))","v":""},null,null,null,null,{"$f":"IF(AJ48=\"\",\"\",INDEX('OTRAS REFERENCIAS'!$Q$6:$R$11,MATCH(AJ48,'OTRAS REFERENCIAS'!$R$6:$R$11,0),1))","v":""},null,null,null,{"$f":"IF(AN48=\"\",\"\",INDEX('OTRAS REFERENCIAS'!$T$6:$U$11,MATCH(AN48,'OTRAS REFERENCIAS'!$U$6:$U$11,0),1))","v":""}]
[1,"",47,"","",{"$f":"IF(L49<>\"\",CONCATENATE(DIGITADOR!$B$2,$A$2,DIGITADOR!$M$1,A49),\"\")","v":""},null,null,"",{"$f":"IF(K49=\"\",\"\",INDEX('OTRAS REFERENCIAS'!$AL:$AM,MATCH(K49,'OTRAS REFERENCIAS'!$AL:$AL,0),2))","v":""},null,{"$f":"IF(J49=\"\",\"\",INDEX(referentes!$S:$W,MATCH(J49,referentes!$S:$S,0),1))","v":""},null,null,null,null,null,null,null,{"$f":"IF(U49=\"\",\"\",INDEX('OTRAS REFERENCIAS'!$H$6:$I$11,MATCH(U49,'OTRAS REFERENCIAS'!$I$6:$I$11,0),1))","v":""},null,null,null,null,{"$f":"IF(Z49=\"\",\"\",INDEX('OTRAS REFERENCIAS'!$K$6:$L$11,MATCH(Z49,'OTRAS REFERENCIAS'!$L$6:$L$11,0),1))","v":""},null,null,null,null,{"$f":"IF(AE49=\"\",\"\",INDEX('OTRAS REFERENCIAS'!$N$6:$O$11,MATCH(AE49,'OTRAS REFERENCIAS'!$O$6:$O$11,0),1))","v":""},null,null,null,null,{"$f":"IF(AJ49=\"\",\"\",INDEX('OTRAS REFERENCIAS'!$Q$6:$R$11,MATCH(AJ49,'OTRAS REFERENCIAS'!$R$6:$R$11,0),1))","v":""},null,null,null,{"$f":"IF(AN49=\"\",\"\",INDEX('OTRAS REFERENCIAS'!$T$6:$U$11,MATCH(AN49,'OTRAS REFERENCIAS'!$U$6:$U$11,0),1))","v":""}]
[1,"",48,"","",{"$f":"IF(L50<>\"\",CONCATENATE(DIGITADOR!$B$2,$A$2,DIGITADOR!$M$1,A50),\"\")","v":""},null,null,"",{"$f":"IF(K50=\"\",\"\",INDEX('OTRAS REFERENCIAS'!$AL:$AM,MATCH(K50,'OTRAS REFERENCIAS'!$AL:$AL,0),2))","v":""},null,{"$f":"IF(J50=\"\",\"\",INDEX(referentes!$S:$W,MATCH(J50,referentes!$S:$S,0),1))","v":""},null,null,null,null,null,null,null,{"$f":"IF(U50=\"\",\"\",INDEX('OTRAS REFERENCIAS'!$H$6:$I$11,MATCH(U50,'OTRAS REFERENCIAS'!$I$6:$I$11,0),1))","v":""},null,null,null,null,{"$f":"IF(Z50=\"\",\"\",INDEX('OTRAS REFERENCIAS'!$K$6:$L$11,MATCH(Z50,'OTRAS REFERENCIAS'!$L$6:$L$11,0),1))","v":""},null,null,null,null,{"$f":"IF(AE50=\"\",\"\",INDEX('OTRAS REFERENCIAS'!$N$6:$O$11,MATCH(AE50,'OTRAS REFERENCIAS'!$O$6:$O$11,0),1))","v":""},null,null,null,null,{"$f":"IF(AJ50=\"\",\"\",INDEX('OTRAS REFERENCIAS'!$Q$6:$R$11,MATCH(AJ50,'OTRAS REFERENCIAS'!$R$6:$R$11,0),1))","v":""},null,null,null,{"$f":"IF(AN50=\"\",\"\",INDEX('OTRAS REFERENCIAS'!$T$6:$U$11,MATCH(AN50,'OTRAS REFERENCIAS'!$U$6:$U$11,0),1))","v":""}]
[1,"",49,"","",{"$f":"IF(L51<>\"\",CONCATENATE(DIGITADOR!$B$2,$A$2,DIGITADOR!$M$1,A51),\"\")","v":""},null,null,"",{"$f":"IF(K51=\"\",\"\",INDEX('OTRAS REFERENCIAS'!$AL:$AM,MATCH(K51,'OTRAS REFERENCIAS'!$AL:$AL,0),2))","v":""},null,{"$f":"IF(J51=\"\",\"\",INDEX(referentes!$S:$W,MATCH(J51,referentes!$S:$S,0),1))","v":""},null,null,null,null,null,null,null,{"$f":"IF(U51=\"\",\"\",INDEX('OTRAS REFERENCIAS'!$H$6:$I$11,MATCH(U51,'OTRAS REFERENCIAS'!$I$6:$I$11,0),1))","v":""},null,null,null,null,{"$f":"IF(Z51=\"\",\"\",INDEX('OTRAS REFERENCIAS'!$K$6:$L$11,MATCH(Z51,'OTRAS REFERENCIAS'!$L$6:$L$11,0),1))","v":""},null,null,null,null,{"$f":"IF(AE51=\"\",\"\",INDEX('OTRAS REFERENCIAS'!$N$6:$O$11,MATCH(AE51,'OTRAS REFERENCIAS'!$O$6:$O$11,0),1))","v":""},null,null,null,null,{"$f":"IF(AJ51=\"\",\"\",INDEX('OTRAS REFERENCIAS'!$Q$6:$R$11,MATCH(AJ51,'OTRAS REFERENCIAS'!$R$6:$R$11,0),1))","v":""},null,null,null,{"$f":"IF(AN51=\"\",\"\",INDEX('OTRAS REFERENCIAS'!$T$6:$U$11,MATCH(AN51,'OTRAS REFERENCIAS'!$U$6:$U$11,0),1))","v":""}]
[1,"",50,"","",{"$f":"IF(L52<>\"\",CONCATENATE(DIGITADOR!$B$2,$A$2,DIGITADOR!$M$1,A52),\"\")","v":""},null,null,"",{"$f":"IF(K52=\"\",\"\",INDEX('OTRAS REFERENCIAS'!$AL:$AM,MATCH(K52,'OTRAS REFERENCIAS'!$AL:$AL,0),2))","v":""},null,{"$f":"IF(J52=\"\",\"\",INDEX(referentes!$S:$W,MATCH(J52,referentes!$S:$S,0),1))","v":""},null,null,null,null,null,null,null,{"$f":"IF(U52=\"\",\"\",INDEX('OTRAS REFERENCIAS'!$H$6:$I$11,MATCH(U52,'OTRAS REFERENCIAS'!$I$6:$I$11,0),1))","v":""},null,null,null,null,{"$f":"IF(Z52=\"\",\"\",INDEX('OTRAS REFERENCIAS'!$K$6:$L$11,MATCH(Z52,'OTRAS REFERENCIAS'!$L$6:$L$11,0),1))","v":""},null,null,null,null,{"$f":"IF(AE52=\"\",\"\",INDEX('OTRAS REFERENCIAS'!$N$6:$O$11,MATCH(AE52,'OTRAS REFERENCIAS'!$O$6:$O$11,0),1))","v":""},null,null,null,null,{"$f":"IF(AJ52=\"\",\"\",INDEX('OTRAS REFERENCIAS'!$Q$6:$R$11,MATCH(AJ52,'OTRAS REFERENCIAS'!$R$6:$R$11,0),1))","v":""},null,null,null,{"$f":"IF(AN52=\"\",\"\",INDEX('OTRAS REFERENCIAS'!$T$6:$U$11,MATCH(AN52,'OTRAS REFERENCIAS'!$U$6:$U$11,0),1))","v":""}]
[1,"",51,"","",{"$f":"IF(L53<>\"\",CONCATENATE(DIGITADOR!$B$2,$A$2,DIGITADOR!$M$1,A53),\"\")","v":""},null,null,"",{"$f":"IF(K53=\"\",\"\",INDEX('OTRAS REFERENCIAS'!$AL:$AM,MATCH(K53,'OTRAS REFERENCIAS'!$AL:$AL,0),2))","v":""},null,{"$f":"IF(J53=\"\",\"\",INDEX(referentes!$S:$W,MATCH(J53,referentes!$S:$S,0),1))","v":""},null,null,null,null,null,null,null,{"$f":"IF(U53=\"\",\"\",INDEX('OTRAS REFERENCIAS'!$H$6:$I$11,MATCH(U53,'OTRAS REFERENCIAS'!$I$6:$I$11,0),1))","v":""},null,null,null,null,{"$f":"IF(Z53=\"\",\"\",INDEX('OTRAS REFERENCIAS'!$K$6:$L$11,MATCH(Z53,'OTRAS REFERENCIAS'!$L$6:$L$11,0),1))","v":""},null,null,null,null,{"$f":"IF(AE53=\"\",\"\",INDEX('OTRAS REFERENCIAS'!$N$6:$O$11,MATCH(AE53,'OTRAS REFERENCIAS'!$O$6:$O$11,0),1))","v":""},null,null,null,null,{"$f":"IF(AJ53=\"\",\"\",INDEX('OTRAS REFERENCIAS'!$Q$6:$R$11,MATCH(AJ53,'OTRAS REFERENCIAS'!$R$6:$R$11,0),1))","v":""},null,null,null,{"$f":"IF(AN53=\"\",\"\",INDEX('OTRAS REFERENCIAS'!$T$6:$U$11,MATCH(AN53,'OTRAS REFERENCIAS'!$U$6:$U$11,0),1))","v":""}]
[1,"",52,"","",{"$f":"IF(L54<>\"\",CONCATENATE(DIGITADOR!$B$2,$A$2,DIGITADOR!$M$1,A54),\"\")","v":""},null,null,"",{"$f":"IF(K54=\"\",\"\",INDEX('OTRAS REFERENCIAS'!$AL:$AM,MATCH(K54,'OTRAS REFERENCIAS'!$AL:$AL,0),2))","v":""},null,{"$f":"IF(J54=\"\",\"\",INDEX(referentes!$S:$W,MATCH(J54,referentes!$S:$S,0),1))","v":""},null,null,null,null,null,null,null,{"$f":"IF(U54=\"\",\"\",INDEX('OTRAS REFERENCIAS'!$H$6:$I$11,MATCH(U54,'OTRAS REFERENCIAS'!$I$6:$I$11,0),1))","v":""},null,null,null,null,{"$f":"IF(Z54=\"\",\"\",INDEX('OTRAS REFERENCIAS'!$K$6:$L$11,MATCH(Z54,'OTRAS REFERENCIAS'!$L$6:$L$11,0),1))","v":""},null,null,null,null,{"$f":"IF(AE54=\"\",\"\",INDEX('OTRAS REFERENCIAS'!$N$6:$O$11,MATCH(AE54,'OTRAS REFERENCIAS'!$O$6:$O$11,0),1))","v":""},null,null,null,null,{"$f":"IF(AJ54=\"\",\"\",INDEX('OTRAS REFERENCIAS'!$Q$6:$R$11,MATCH(AJ54,'OTRAS REFERENCIAS'!$R$6:$R$11,0),1))","v":""},null,null,null,{"$f":"IF(AN54=\"\",\"\",INDEX('OTRAS REFERENCIAS'!$T$6:$U$11,MATCH(AN54,'OTRAS REFERENCIAS'!$U$6:$U$11,0),1))","v":""}]
[1,"",53,"","",{"$f":"IF(L55<>\"\",CONCATENATE(DIGITADOR!$B$2,$A$2,DIGITADOR!$M$1,A55),\"\")","v":""},null,null,"",{"$f":"IF(K55=\"\",\"\",INDEX('OTRAS REFERENCIAS'!$AL:$AM,MATCH(K55,'OTRAS REFERENCIAS'!$AL:$AL,0),2))","v":""},null,{"$f":"IF(J55=\"\",\"\",INDEX(referentes!$S:$W,MATCH(J55,referentes!$S:$S,0),1))","v":""},null,null,null,null,null,null,null,{"$f":"IF(U55=\"\",\"\",INDEX('OTRAS REFERENCIAS'!$H$6:$I$11,MATCH(U55,'OTRAS REFERENCIAS'!$I$6:$I$11,0),1))","v":""},null,null,null,null,{"$f":"IF(Z55=\"\",\"\",INDEX('OTRAS REFERENCIAS'!$K$6:$L$11,MATCH(Z55,'OTRAS REFERENCIAS'!$L$6:$L$11,0),1))","v":""},null,null,null,null,{"$f":"IF(AE55=\"\",\"\",INDEX('OTRAS REFERENCIAS'!$N$6:$O$11,MATCH(AE55,'OTRAS REFERENCIAS'!$O$6:$O$11,0),1))","v":""},null,null,null,null,{"$f":"IF(AJ55=\"\",\"\",INDEX('OTRAS REFERENCIAS'!$Q$6:$R$11,MATCH(AJ55,'OTRAS REFERENCIAS'!$R$6:$R$11,0),1))","v":""},null,null,null,{"$f":"IF(AN55=\"\",\"\",INDEX('OTRAS REFERENCIAS'!$T$6:$U$11,MATCH(AN55,'OTRAS REFERENCIAS'!$U$6:$U$11,0),1))","v":""}]
[1,"",54,"","",{"$f":"IF(L56<>\"\",CONCATENATE(DIGITADOR!$B$2,$A$2,DIGITADOR!$M$1,A56),\"\")","v":""},null,null,"",{"$f":"IF(K56=\"\",\"\",INDEX('OTRAS REFERENCIAS'!$AL:$AM,MATCH(K56,'OTRAS REFERENCIAS'!$AL:$AL,0),2))","v":""},null,{"$f":"IF(J56=\"\",\"\",INDEX(referentes!$S:$W,MATCH(J56,referentes!$S:$S,0),1))","v":""},null,null,null,null,null,null,null,{"$f":"IF(U56=\"\",\"\",INDEX('OTRAS REFERENCIAS'!$H$6:$I$11,MATCH(U56,'OTRAS REFERENCIAS'!$I$6:$I$11,0),1))","v":""},null,null,null,null,{"$f":"IF(Z56=\"\",\"\",INDEX('OTRAS REFERENCIAS'!$K$6:$L$11,MATCH(Z56,'OTRAS REFERENCIAS'!$L$6:$L$11,0),1))","v":""},null,null,null,null,{"$f":"IF(AE56=\"\",\"\",INDEX('OTRAS REFERENCIAS'!$N$6:$O$11,MATCH(AE56,'OTRAS REFERENCIAS'!$O$6:$O$11,0),1))","v":""},null,null,null,null,{"$f":"IF(AJ56=\"\",\"\",INDEX('OTRAS REFERENCIAS'!$Q$6:$R$11,MATCH(AJ56,'OTRAS REFERENCIAS'!$R$6:$R$11,0),1))","v":""},null,null,null,{"$f":"IF(AN56=\"\",\"\",INDEX('OTRAS REFERENCIAS'!$T$6:$U$11,MATCH(AN56,'OTRAS REFERENCIAS'!$U$6:$U$11,0),1))","v":""}]
[1,"",55,"","",{"$f":"IF(L57<>\"\",CONCATENATE(DIGITADOR!$B$2,$A$2,DIGITADOR!$M$1,A57),\"\")","v":""},null,null,"",{"$f":"IF(K57=\"\",\"\",INDEX('OTRAS REFERENCIAS'!$AL:$AM,MATCH(K57,'OTRAS REFERENCIAS'!$AL:$AL,0),2))","v":""},null,{"$f":"IF(J57=\"\",\"\",INDEX(referentes!$S:$W,MATCH(J57,referentes!$S:$S,0),1))","v":""},null,null,null,null,null,null,null,{"$f":"IF(U57=\"\",\"\",INDEX('OTRAS REFERENCIAS'!$H$6:$I$11,MATCH(U57,'OTRAS REFERENCIAS'!$I$6:$I$11,0),1))","v":""},null,null,null,null,{"$f":"IF(Z57=\"\",\"\",INDEX('OTRAS REFERENCIAS'!$K$6:$L$11,MATCH(Z57,'OTRAS REFERENCIAS'!$L$6:$L$11,0),1))","v":""},null,null,null,null,{"$f":"IF(AE57=\"\",\"\",INDEX('OTRAS REFERENCIAS'!$N$6:$O$11,MATCH(AE57,'OTRAS REFERENCIAS'!$O$6:$O$11,0),1))","v":""},null,null,null,null,{"$f":"IF(AJ57=\"\",\"\",INDEX('OTRAS REFERENCIAS'!$Q$6:$R$11,MATCH(AJ57,'OTRAS REFERENCIAS'!$R$6:$R$11,0),1))","v":""},null,null,null,{"$f":"IF(AN57=\"\",\"\",INDEX('OTRAS REFERENCIAS'!$T$6:$U$11,MATCH(AN57,'OTRAS REFERENCIAS'!$U$6:$U$11,0),1))","v":""}]
[1,"",56,"","",{"$f":"IF(L58<>\"\",CONCATENATE(DIGITADOR!$B$2,$A$2,DIGITADOR!$M$1,A58),\"\")","v":""},null,null,"",{"$f":"IF(K58=\"\",\"\",INDEX('OTRAS REFERENCIAS'!$AL:$AM,MATCH(K58,'OTRAS REFERENCIAS'!$AL:$AL,0),2))","v":""},null,{"$f":"IF(J58=\"\",\"\",INDEX(referentes!$S:$W,MATCH(J58,referentes!$S:$S,0),1))","v":""},null,null,null,null,null,null,null,{"$f":"IF(U58=\"\",\"\",INDEX('OTRAS REFERENCIAS'!$H$6:$I$11,MATCH(U58,'OTRAS REFERENCIAS'!$I$6:$I$11,0),1))","v":""},null,null,null,null,{"$f":"IF(Z58=\"\",\"\",INDEX('OTRAS REFERENCIAS'!$K$6:$L$11,MATCH(Z58,'OTRAS REFERENCIAS'!$L$6:$L$11,0),1))","v":""},null,null,null,null,{"$f":"IF(AE58=\"\",\"\",INDEX('OTRAS REFERENCIAS'!$N$6:$O$11,MATCH(AE58,'OTRAS REFERENCIAS'!$O$6:$O$11,0),1))","v":""},null,null,null,null,{"$f":"IF(AJ58=\"\",\"\",INDEX('OTRAS REFERENCIAS'!$Q$6:$R$11,MATCH(AJ58,'OTRAS REFERENCIAS'!$R$6:$R$11,0),1))","v":""},null,null,null,{"$f":"IF(AN58=\"\",\"\",INDEX('OTRAS REFERENCIAS'!$T$6:$U$11,MATCH(AN58,'OTRAS REFERENCIAS'!$U$6:$U$11,0),1))","v":""}]
[1,"",57,"","",{"$f":"IF(L59<>\"\",CONCATENATE(DIGITADOR!$B$2,$A$2,DIGITADOR!$M$1,A59),\"\")","v":""},null,null,"",{"$f":"IF(K59=\"\",\"\",INDEX('OTRAS REFERENCIAS'!$AL:$AM,MATCH(K59,'OTRAS REFERENCIAS'!$AL:$AL,0),2))","v":""},null,{"$f":"IF(J59=\"\",\"\",INDEX(referentes!$S:$W,MATCH(J59,referentes!$S:$S,0),1))","v":""},null,null,null,null,null,null,null,{"$f":"IF(U59=\"\",\"\",INDEX('OTRAS REFERENCIAS'!$H$6:$I$11,MATCH(U59,'OTRAS REFERENCIAS'!$I$6:$I$11,0),1))","v":""},null,null,null,null,{"$f":"IF(Z59=\"\",\"\",INDEX('OTRAS REFERENCIAS'!$K$6:$L$11,MATCH(Z59,'OTRAS REFERENCIAS'!$L$6:$L$11,0),1))","v":""},null,null,null,null,{"$f":"IF(AE59=\"\",\"\",INDEX('OTRAS REFERENCIAS'!$N$6:$O$11,MATCH(AE59,'OTRAS REFERENCIAS'!$O$6:$O$11,0),1))","v":""},null,null,null,null,{"$f":"IF(AJ59=\"\",\"\",INDEX('OTRAS REFERENCIAS'!$Q$6:$R$11,MATCH(AJ59,'OTRAS REFERENCIAS'!$R$6:$R$11,0),1))","v":""},null,null,null,{"$f":"IF(AN59=\"\",\"\",INDEX('OTRAS REFERENCIAS'!$T$6:$U$11,MATCH(AN59,'OTRAS REFERENCIAS'!$U$6:$U$11,0),1))","v":""}]
[1,"",58,"","",{"$f":"IF(L60<>\"\",CONCATENATE(DIGITADOR!$B$2,$A$2,DIGITADOR!$M$1,A60),\"\")","v":""},null,null,"",{"$f":"IF(K60=\"\",\"\",INDEX('OTRAS REFERENCIAS'!$AL:$AM,MATCH(K60,'OTRAS REFERENCIAS'!$AL:$AL,0),2))","v":""},null,{"$f":"IF(J60=\"\",\"\",INDEX(referentes!$S:$W,MATCH(J60,referentes!$S:$S,0),1))","v":""},null,null,null,null,null,null,null,{"$f":"IF(U60=\"\",\"\",INDEX('OTRAS REFERENCIAS'!$H$6:$I$11,MATCH(U60,'OTRAS REFERENCIAS'!$I$6:$I$11,0),1))","v":""},null,null,null,null,{"$f":"IF(Z60=\"\",\"\",INDEX('OTRAS REFERENCIAS'!$K$6:$L$11,MATCH(Z60,'OTRAS REFERENCIAS'!$L$6:$L$11,0),1))","v":""},null,null,null,null,{"$f":"IF(AE60=\"\",\"\",INDEX('OTRAS REFERENCIAS'!$N$6:$O$11,MATCH(AE60,'OTRAS REFERENCIAS'!$O$6:$O$11,0),1))","v":""},null,null,null,null,{"$f":"IF(AJ60=\"\",\"\",INDEX('OTRAS REFERENCIAS'!$Q$6:$R$11,MATCH(AJ60,'OTRAS REFERENCIAS'!$R$6:$R$11,0),1))","v":""},null,null,null,{"$f":"IF(AN60=\"\",\"\",INDEX('OTRAS REFERENCIAS'!$T$6:$U$11,MATCH(AN60,'OTRAS REFERENCIAS'!$U$6:$U$11,0),1))","v":""}]
[1,"",59,"","",{"$f":"IF(L61<>\"\",CONCATENATE(DIGITADOR!$B$2,$A$2,DIGITADOR!$M$1,A61),\"\")","v":""},null,null,"",{"$f":"IF(K61=\"\",\"\",INDEX('OTRAS REFERENCIAS'!$AL:$AM,MATCH(K61,'OTRAS REFERENCIAS'!$AL:$AL,0),2))","v":""},null,{"$f":"IF(J61=\"\",\"\",INDEX(referentes!$S:$W,MATCH(J61,referentes!$S:$S,0),1))","v":""},null,null,null,null,null,null,null,{"$f":"IF(U61=\"\",\"\",INDEX('OTRAS REFERENCIAS'!$H$6:$I$11,MATCH(U61,'OTRAS REFERENCIAS'!$I$6:$I$11,0),1))","v":""},null,null,null,null,{"$f":"IF(Z61=\"\",\"\",INDEX('OTRAS REFERENCIAS'!$K$6:$L$11,MATCH(Z61,'OTRAS REFERENCIAS'!$L$6:$L$11,0),1))","v":""},null,null,null,null,{"$f":"IF(AE61=\"\",\"\",INDEX('OTRAS REFERENCIAS'!$N$6:$O$11,MATCH(AE61,'OTRAS REFERENCIAS'!$O$6:$O$11,0),1))","v":""},null,null,null,null,{"$f":"IF(AJ61=\"\",\"\",INDEX('OTRAS REFERENCIAS'!$Q$6:$R$11,MATCH(AJ61,'OTRAS REFERENCIAS'!$R$6:$R$11,0),1))","v":""},null,null,null,{"$f":"IF(AN61=\"\",\"\",INDEX('OTRAS REFERENCIAS'!$T$6:$U$11,MATCH(AN61,'OTRAS REFERENCIAS'!$U$6:$U$11,0),1))","v":""}]
[1,"",60,"","",{"$f":"IF(L62<>\"\",CONCATENATE(DIGITADOR!$B$2,$A$2,DIGITADOR!$M$1,A62),\"\")","v":""},null,null,"",{"$f":"IF(K62=\"\",\"\",INDEX('OTRAS REFERENCIAS'!$AL:$AM,MATCH(K62,'OTRAS REFERENCIAS'!$AL:$AL,0),2))","v":""},null,{"$f":"IF(J62=\"\",\"\",INDEX(referentes!$S:$W,MATCH(J62,referentes!$S:$S,0),1))","v":""},null,null,null,null,null,null,null,{"$f":"IF(U62=\"\",\"\",INDEX('OTRAS REFERENCIAS'!$H$6:$I$11,MATCH(U62,'OTRAS REFERENCIAS'!$I$6:$I$11,0),1))","v":""},null,null,null,null,{"$f":"IF(Z62=\"\",\"\",INDEX('OTRAS REFERENCIAS'!$K$6:$L$11,MATCH(Z62,'OTRAS REFERENCIAS'!$L$6:$L$11,0),1))","v":""},null,null,null,null,{"$f":"IF(AE62=\"\",\"\",INDEX('OTRAS REFERENCIAS'!$N$6:$O$11,MATCH(AE62,'OTRAS REFERENCIAS'!$O$6:$O$11,0),1))","v":""},null,null,null,null,{"$f":"IF(AJ62=\"\",\"\",INDEX('OTRAS REFERENCIAS'!$Q$6:$R$11,MATCH(AJ62,'OTRAS REFERENCIAS'!$R$6:$R$11,0),1))","v":""},null,null,null,{"$f":"IF(AN62=\"\",\"\",INDEX('OTRAS REFERENCIAS'!$T$6:$U$11,MATCH(AN62,'OTRAS REFERENCIAS'!$U$6:$U$11,0),1))","v":""}]
[1,"",61,"","",{"$f":"IF(L63<>\"\",CONCATENATE(DIGITADOR!$B$2,$A$2,DIGITADOR!$M$1,A63),\"\")","v":""},null,null,"",{"$f":"IF(K63=\"\",\"\",INDEX('OTRAS REFERENCIAS'!$AL:$AM,MATCH(K63,'OTRAS REFERENCIAS'!$AL:$AL,0),2))","v":""},null,{"$f":"IF(J63=\"\",\"\",INDEX(referentes!$S:$W,MATCH(J63,referentes!$S:$S,0),1))","v":""},null,null,null,null,null,null,null,{"$f":"IF(U63=\"\",\"\",INDEX('OTRAS REFERENCIAS'!$H$6:$I$11,MATCH(U63,'OTRAS REFERENCIAS'!$I$6:$I$11,0),1))","v":""},null,null,null,null,{"$f":"IF(Z63=\"\",\"\",INDEX('OTRAS REFERENCIAS'!$K$6:$L$11,MATCH(Z63,'OTRAS REFERENCIAS'!$L$6:$L$11,0),1))","v":""},null,null,null,null,{"$f":"IF(AE63=\"\",\"\",INDEX('OTRAS REFERENCIAS'!$N$6:$O$11,MATCH(AE63,'OTRAS REFERENCIAS'!$O$6:$O$11,0),1))","v":""},null,null,null,null,{"$f":"IF(AJ63=\"\",\"\",INDEX('OTRAS REFERENCIAS'!$Q$6:$R$11,MATCH(AJ63,'OTRAS REFERENCIAS'!$R$6:$R$11,0),1))","v":""},null,null,null,{"$f":"IF(AN63=\"\",\"\",INDEX('OTRAS REFERENCIAS'!$T$6:$U$11,MATCH(AN63,'OTRAS REFERENCIAS'!$U$6:$U$11,0),1))","v":""}]
[1,"",62,"","",{"$f":"IF(L64<>\"\",CONCATENATE(DIGITADOR!$B$2,$A$2,DIGITADOR!$M$1,A64),\"\")","v":""},null,null,"",{"$f":"IF(K64=\"\",\"\",INDEX('OTRAS REFERENCIAS'!$AL:$AM,MATCH(K64,'OTRAS REFERENCIAS'!$AL:$AL,0),2))","v":""},null,{"$f":"IF(J64=\"\",\"\",INDEX(referentes!$S:$W,MATCH(J64,referentes!$S:$S,0),1))","v":""},null,null,null,null,null,null,null,{"$f":"IF(U64=\"\",\"\",INDEX('OTRAS REFERENCIAS'!$H$6:$I$11,MATCH(U64,'OTRAS REFERENCIAS'!$I$6:$I$11,0),1))","v":""},null,null,null,null,{"$f":"IF(Z64=\"\",\"\",INDEX('OTRAS REFERENCIAS'!$K$6:$L$11,MATCH(Z64,'OTRAS REFERENCIAS'!$L$6:$L$11,0),1))","v":""},null,null,null,null,{"$f":"IF(AE64=\"\",\"\",INDEX('OTRAS REFERENCIAS'!$N$6:$O$11,MATCH(AE64,'OTRAS REFERENCIAS'!$O$6:$O$11,0),1))","v":""},null,null,null,null,{"$f":"IF(AJ64=\"\",\"\",INDEX('OTRAS REFERENCIAS'!$Q$6:$R$11,MATCH(AJ64,'OTRAS REFERENCIAS'!$R$6:$R$11,0),1))","v":""},null,null,null,{"$f":"IF(AN64=\"\",\"\",INDEX('OTRAS REFERENCIAS'!$T$6:$U$11,MATCH(AN64,'OTRAS REFERENCIAS'!$U$6:$U$11,0),1))","v":""}]
[1,"",63,"","",{"$f":"IF(L65<>\"\",CONCATENATE(DIGITADOR!$B$2,$A$2,DIGITADOR!$M$1,A65),\"\")","v":""},null,null,"",{"$f":"IF(K65=\"\",\"\",INDEX('OTRAS REFERENCIAS'!$AL:$AM,MATCH(K65,'OTRAS REFERENCIAS'!$AL:$AL,0),2))","v":""},null,{"$f":"IF(J65=\"\",\"\",INDEX(referentes!$S:$W,MATCH(J65,referentes!$S:$S,0),1))","v":""},null,null,null,null,null,null,null,{"$f":"IF(U65=\"\",\"\",INDEX('OTRAS REFERENCIAS'!$H$6:$I$11,MATCH(U65,'OTRAS REFERENCIAS'!$I$6:$I$11,0),1))","v":""},null,null,null,null,{"$f":"IF(Z65=\"\",\"\",INDEX('OTRAS REFERENCIAS'!$K$6:$L$11,MATCH(Z65,'OTRAS REFERENCIAS'!$L$6:$L$11,0),1))","v":""},null,null,null,null,{"$f":"IF(AE65=\"\",\"\",INDEX('OTRAS REFERENCIAS'!$N$6:$O$11,MATCH(AE65,'OTRAS REFERENCIAS'!$O$6:$O$11,0),1))","v":""},null,null,null,null,{"$f":"IF(AJ65=\"\",\"\",INDEX('OTRAS REFERENCIAS'!$Q$6:$R$11,MATCH(AJ65,'OTRAS REFERENCIAS'!$R$6:$R$11,0),1))","v":""},null,null,null,{"$f":"IF(AN65=\"\",\"\",INDEX('OTRAS REFERENCIAS'!$T$6:$U$11,MATCH(AN65,'OTRAS REFERENCIAS'!$U$6:$U$11,0),1))","v":""}]
[1,"",64,"","",{"$f":"IF(L66<>\"\",CONCATENATE(DIGITADOR!$B$2,$A$2,DIGITADOR!$M$1,A66),\"\")","v":""},null,null,"",{"$f":"IF(K66=\"\",\"\",INDEX('OTRAS REFERENCIAS'!$AL:$AM,MATCH(K66,'OTRAS REFERENCIAS'!$AL:$AL,0),2))","v":""},null,{"$f":"IF(J66=\"\",\"\",INDEX(referentes!$S:$W,MATCH(J66,referentes!$S:$S,0),1))","v":""},null,null,null,null,null,null,null,{"$f":"IF(U66=\"\",\"\",INDEX('OTRAS REFERENCIAS'!$H$6:$I$11,MATCH(U66,'OTRAS REFERENCIAS'!$I$6:$I$11,0),1))","v":""},null,null,null,null,{"$f":"IF(Z66=\"\",\"\",INDEX('OTRAS REFERENCIAS'!$K$6:$L$11,MATCH(Z66,'OTRAS REFERENCIAS'!$L$6:$L$11,0),1))","v":""},null,null,null,null,{"$f":"IF(AE66=\"\",\"\",INDEX('OTRAS REFERENCIAS'!$N$6:$O$11,MATCH(AE66,'OTRAS REFERENCIAS'!$O$6:$O$11,0),1))","v":""},null,null,null,null,{"$f":"IF(AJ66=\"\",\"\",INDEX('OTRAS REFERENCIAS'!$Q$6:$R$11,MATCH(AJ66,'OTRAS REFERENCIAS'!$R$6:$R$11,0),1))","v":""},null,null,null,{"$f":"IF(AN66=\"\",\"\",INDEX('OTRAS REFERENCIAS'!$T$6:$U$11,MATCH(AN66,'OTRAS REFERENCIAS'!$U$6:$U$11,0),1))","v":""}]
[1,"",65,"",{"$f":"CONCATENATE(I67,L67)","v":""},{"$f":"IF(L67<>\"\",CONCATENATE(DIGITADOR!$B$2,$A$2,DIGITADOR!$M$1,A67),\"\")","v":""},null,null,{"$f":"IF(G67<>\"\",G67+H67,\"\")","v":""},{"$f":"IF(K67=\"\",\"\",INDEX('OTRAS REFERENCIAS'!$AL:$AM,MATCH(K67,'OTRAS REFERENCIAS'!$AL:$AL,0),2))","v":""},null,{"$f":"IF(J67=\"\",\"\",INDEX(referentes!$S:$W,MATCH(J67,referentes!$S:$S,0),1))","v":""},null,null,null,null,null,null,null,{"$f":"IF(U67=\"\",\"\",INDEX('OTRAS REFERENCIAS'!$H$6:$I$11,MATCH(U67,'OTRAS REFERENCIAS'!$I$6:$I$11,0),1))","v":""},null,null,null,null,{"$f":"IF(Z67=\"\",\"\",INDEX('OTRAS REFERENCIAS'!$K$6:$L$11,MATCH(Z67,'OTRAS REFERENCIAS'!$L$6:$L$11,0),1))","v":""},null,null,null,null,{"$f":"IF(AE67=\"\",\"\",INDEX('OTRAS REFERENCIAS'!$N$6:$O$11,MATCH(AE67,'OTRAS REFERENCIAS'!$O$6:$O$11,0),1))","v":""},null,null,null,null,{"$f":"IF(AJ67=\"\",\"\",INDEX('OTRAS REFERENCIAS'!$Q$6:$R$11,MATCH(AJ67,'OTRAS REFERENCIAS'!$R$6:$R$11,0),1))","v":""},null,null,null,{"$f":"IF(AN67=\"\",\"\",INDEX('OTRAS REFERENCIAS'!$T$6:$U$11,MATCH(AN67,'OTRAS REFERENCIAS'!$U$6:$U$11,0),1))","v":""}]
[1,"",66,{"$f":"IF(L68=\"\",\"\",CONCATENATE(C68,F68))","v":""},"",{"$f":"IF(L68<>\"\",CONCATENATE(DIGITADOR!$B$2,$A$2,DIGITADOR!$M$1,A68),\"\")","v":""},null,null,"",{"$f":"IF(K68=\"\",\"\",INDEX('OTRAS REFERENCIAS'!$AL:$AM,MATCH(K68,'OTRAS REFERENCIAS'!$AL:$AL,0),2))","v":""},null,{"$f":"IF(J68=\"\",\"\",INDEX(referentes!$S:$W,MATCH(J68,referentes!$S:$S,0),1))","v":""},null,null,null,null,null,null,null,{"$f":"IF(U68=\"\",\"\",INDEX('OTRAS REFERENCIAS'!$H$6:$I$11,MATCH(U68,'OTRAS REFERENCIAS'!$I$6:$I$11,0),1))","v":""},null,null,null,null,{"$f":"IF(Z68=\"\",\"\",INDEX('OTRAS REFERENCIAS'!$K$6:$L$11,MATCH(Z68,'OTRAS REFERENCIAS'!$L$6:$L$11,0),1))","v":""},null,null,null,null,{"$f":"IF(AE68=\"\",\"\",INDEX('OTRAS REFERENCIAS'!$N$6:$O$11,MATCH(AE68,'OTRAS REFERENCIAS'!$O$6:$O$11,0),1))","v":""},null,null,null,null,{"$f":"IF(AJ68=\"\",\"\",INDEX('OTRAS REFERENCIAS'!$Q$6:$R$11,MATCH(AJ68,'OTRAS REFERENCIAS'!$R$6:$R$11,0),1))","v":""},null,null,null,{"$f":"IF(AN68=\"\",\"\",INDEX('OTRAS REFERENCIAS'!$T$6:$U$11,MATCH(AN68,'OTRAS REFERENCIAS'!$U$6:$U$11,0),1))","v":""}]
[{"$f":"IF(L69=L68,A68,A68+1)","v":1},{"$f":"IF(F69<>F68, F69,\"\")","v":""},67,"","",{"$f":"IF(L69<>\"\",CONCATENATE(DIGITADOR!$B$2,$A$2,DIGITADOR!$M$1,A69),\"\")","v":""},null,null,"",{"$f":"IF(K69=\"\",\"\",INDEX('OTRAS REFERENCIAS'!$AL:$AM,MATCH(K69,'OTRAS REFERENCIAS'!$AL:$AL,0),2))","v":""},null,{"$f":"IF(J69=\"\",\"\",INDEX(referentes!$S:$W,MATCH(J69,referentes!$S:$S,0),1))","v":""},null,null,null,null,null,null,null,{"$f":"IF(U69=\"\",\"\",INDEX('OTRAS REFERENCIAS'!$H$6:$I$11,MATCH(U69,'OTRAS REFERENCIAS'!$I$6:$I$11,0),1))","v":""},null,null,null,null,{"$f":"IF(Z69=\"\",\"\",INDEX('OTRAS REFERENCIAS'!$K$6:$L$11,MATCH(Z69,'OTRAS REFERENCIAS'!$L$6:$L$11,0),1))","v":""},null,null,null,null,{"$f":"IF(AE69=\"\",\"\",INDEX('OTRAS REFERENCIAS'!$N$6:$O$11,MATCH(AE69,'OTRAS REFERENCIAS'!$O$6:$O$11,0),1))","v":""},null,null,null,null,{"$f":"IF(AJ69=\"\",\"\",INDEX('OTRAS REFERENCIAS'!$Q$6:$R$11,MATCH(AJ69,'OTRAS REFERENCIAS'!$R$6:$R$11,0),1))","v":""},null,null,null,{"$f":"IF(AN69=\"\",\"\",INDEX('OTRAS REFERENCIAS'!$T$6:$U$11,MATCH(AN69,'OTRAS REFERENCIAS'!$U$6:$U$11,0),1))","v":""}]
[1,"",68,"","",{"$f":"IF(L70<>\"\",CONCATENATE(DIGITADOR!$B$2,$A$2,DIGITADOR!$M$1,A70),\"\")","v":""},null,null,"",{"$f":"IF(K70=\"\",\"\",INDEX('OTRAS REFERENCIAS'!$AL:$AM,MATCH(K70,'OTRAS REFERENCIAS'!$AL:$AL,0),2))","v":""},null,{"$f":"IF(J70=\"\",\"\",INDEX(referentes!$S:$W,MATCH(J70,referentes!$S:$S,0),1))","v":""},null,null,null,null,null,null,null,{"$f":"IF(U70=\"\",\"\",INDEX('OTRAS REFERENCIAS'!$H$6:$I$11,MATCH(U70,'OTRAS REFERENCIAS'!$I$6:$I$11,0),1))","v":""},null,null,null,null,{"$f":"IF(Z70=\"\",\"\",INDEX('OTRAS REFERENCIAS'!$K$6:$L$11,MATCH(Z70,'OTRAS REFERENCIAS'!$L$6:$L$11,0),1))","v":""},null,null,null,null,{"$f":"IF(AE70=\"\",\"\",INDEX('OTRAS REFERENCIAS'!$N$6:$O$11,MATCH(AE70,'OTRAS REFERENCIAS'!$O$6:$O$11,0),1))","v":""},null,null,null,null,{"$f":"IF(AJ70=\"\",\"\",INDEX('OTRAS REFERENCIAS'!$Q$6:$R$11,MATCH(AJ70,'OTRAS REFERENCIAS'!$R$6:$R$11,0),1))","v":""},null,null,null,{"$f":"IF(AN70=\"\",\"\",INDEX('OTRAS REFERENCIAS'!$T$6:$U$11,MATCH(AN70,'OTRAS REFERENCIAS'!$U$6:$U$11,0),1))","v":""}]
[1,"",69,"","",{"$f":"IF(L71<>\"\",CONCATENATE(DIGITADOR!$B$2,$A$2,DIGITADOR!$M$1,A71),\"\")","v":""},null,null,"",{"$f":"IF(K71=\"\",\"\",INDEX('OTRAS REFERENCIAS'!$AL:$AM,MATCH(K71,'OTRAS REFERENCIAS'!$AL:$AL,0),2))","v":""},null,{"$f":"IF(J71=\"\",\"\",INDEX(referentes!$S:$W,MATCH(J71,referentes!$S:$S,0),1))","v":""},null,null,null,null,null,null,null,{"$f":"IF(U71=\"\",\"\",INDEX('OTRAS REFERENCIAS'!$H$6:$I$11,MATCH(U71,'OTRAS REFERENCIAS'!$I$6:$I$11,0),1))","v":""},null,null,null,null,{"$f":"IF(Z71=\"\",\"\",INDEX('OTRAS REFERENCIAS'!$K$6:$L$11,MATCH(Z71,'OTRAS REFERENCIAS'!$L$6:$L$11,0),1))","v":""},null,null,null,null,{"$f":"IF(AE71=\"\",\"\",INDEX('OTRAS REFERENCIAS'!$N$6:$O$11,MATCH(AE71,'OTRAS REFERENCIAS'!$O$6:$O$11,0),1))","v":""},null,null,null,null,{"$f":"IF(AJ71=\"\",\"\",INDEX('OTRAS REFERENCIAS'!$Q$6:$R$11,MATCH(AJ71,'OTRAS REFERENCIAS'!$R$6:$R$11,0),1))","v":""},null,null,null,{"$f":"IF(AN71=\"\",\"\",INDEX('OTRAS REFERENCIAS'!$T$6:$U$11,MATCH(AN71,'OTRAS REFERENCIAS'!$U$6:$U$11,0),1))","v":""}]
[1,"",70,"","",{"$f":"IF(L72<>\"\",CONCATENATE(DIGITADOR!$B$2,$A$2,DIGITADOR!$M$1,A72),\"\")","v":""},null,null,"",{"$f":"IF(K72=\"\",\"\",INDEX('OTRAS REFERENCIAS'!$AL:$AM,MATCH(K72,'OTRAS REFERENCIAS'!$AL:$AL,0),2))","v":""},null,{"$f":"IF(J72=\"\",\"\",INDEX(referentes!$S:$W,MATCH(J72,referentes!$S:$S,0),1))","v":""},null,null,null,null,null,null,null,{"$f":"IF(U72=\"\",\"\",INDEX('OTRAS REFERENCIAS'!$H$6:$I$11,MATCH(U72,'OTRAS REFERENCIAS'!$I$6:$I$11,0),1))","v":""},null,null,null,null,{"$f":"IF(Z72=\"\",\"\",INDEX('OTRAS REFERENCIAS'!$K$6:$L$11,MATCH(Z72,'OTRAS REFERENCIAS'!$L$6:$L$11,0),1))","v":""},null,null,null,null,{"$f":"IF(AE72=\"\",\"\",INDEX('OTRAS REFERENCIAS'!$N$6:$O$11,MATCH(AE72,'OTRAS REFERENCIAS'!$O$6:$O$11,0),1))","v":""},null,null,null,null,{"$f":"IF(AJ72=\"\",\"\",INDEX('OTRAS REFERENCIAS'!$Q$6:$R$11,MATCH(AJ72,'OTRAS REFERENCIAS'!$R$6:$R$11,0),1))","v":""},null,null,null,{"$f":"IF(AN72=\"\",\"\",INDEX('OTRAS REFERENCIAS'!$T$6:$U$11,MATCH(AN72,'OTRAS REFERENCIAS'!$U$6:$U$11,0),1))","v":""}]
[1,"",71,"","",{"$f":"IF(L73<>\"\",CONCATENATE(DIGITADOR!$B$2,$A$2,DIGITADOR!$M$1,A73),\"\")","v":""},null,null,"",{"$f":"IF(K73=\"\",\"\",INDEX('OTRAS REFERENCIAS'!$AL:$AM,MATCH(K73,'OTRAS REFERENCIAS'!$AL:$AL,0),2))","v":""},null,{"$f":"IF(J73=\"\",\"\",INDEX(referentes!$S:$W,MATCH(J73,referentes!$S:$S,0),1))","v":""},null,null,null,null,null,null,null,{"$f":"IF(U73=\"\",\"\",INDEX('OTRAS REFERENCIAS'!$H$6:$I$11,MATCH(U73,'OTRAS REFERENCIAS'!$I$6:$I$11,0),1))","v":""},null,null,null,null,{"$f":"IF(Z73=\"\",\"\",INDEX('OTRAS REFERENCIAS'!$K$6:$L$11,MATCH(Z73,'OTRAS REFERENCIAS'!$L$6:$L$11,0),1))","v":""},null,null,null,null,{"$f":"IF(AE73=\"\",\"\",INDEX('OTRAS REFERENCIAS'!$N$6:$O$11,MATCH(AE73,'OTRAS REFERENCIAS'!$O$6:$O$11,0),1))","v":""},null,null,null,null,{"$f":"IF(AJ73=\"\",\"\",INDEX('OTRAS REFERENCIAS'!$Q$6:$R$11,MATCH(AJ73,'OTRAS REFERENCIAS'!$R$6:$R$11,0),1))","v":""},null,null,null,{"$f":"IF(AN73=\"\",\"\",INDEX('OTRAS REFERENCIAS'!$T$6:$U$11,MATCH(AN73,'OTRAS REFERENCIAS'!$U$6:$U$11,0),1))","v":""}]
[1,"",72,"","",{"$f":"IF(L74<>\"\",CONCATENATE(DIGITADOR!$B$2,$A$2,DIGITADOR!$M$1,A74),\"\")","v":""},null,null,"",{"$f":"IF(K74=\"\",\"\",INDEX('OTRAS REFERENCIAS'!$AL:$AM,MATCH(K74,'OTRAS REFERENCIAS'!$AL:$AL,0),2))","v":""},null,{"$f":"IF(J74=\"\",\"\",INDEX(referentes!$S:$W,MATCH(J74,referentes!$S:$S,0),1))","v":""},null,null,null,null,null,null,null,{"$f":"IF(U74=\"\",\"\",INDEX('OTRAS REFERENCIAS'!$H$6:$I$11,MATCH(U74,'OTRAS REFERENCIAS'!$I$6:$I$11,0),1))","v":""},null,null,null,null,{"$f":"IF(Z74=\"\",\"\",INDEX('OTRAS REFERENCIAS'!$K$6:$L$11,MATCH(Z74,'OTRAS REFERENCIAS'!$L$6:$L$11,0),1))","v":""},null,null,null,null,{"$f":"IF(AE74=\"\",\"\",INDEX('OTRAS REFERENCIAS'!$N$6:$O$11,MATCH(AE74,'OTRAS REFERENCIAS'!$O$6:$O$11,0),1))","v":""},null,null,null,null,{"$f":"IF(AJ74=\"\",\"\",INDEX('OTRAS REFERENCIAS'!$Q$6:$R$11,MATCH(AJ74,'OTRAS REFERENCIAS'!$R$6:$R$11,0),1))","v":""},null,null,null,{"$f":"IF(AN74=\"\",\"\",INDEX('OTRAS REFERENCIAS'!$T$6:$U$11,MATCH(AN74,'OTRAS REFERENCIAS'!$U$6:$U$11,0),1))","v":""}]
[1,"",73,"","",{"$f":"IF(L75<>\"\",CONCATENATE(DIGITADOR!$B$2,$A$2,DIGITADOR!$M$1,A75),\"\")","v":""},null,null,"",{"$f":"IF(K75=\"\",\"\",INDEX('OTRAS REFERENCIAS'!$AL:$AM,MATCH(K75,'OTRAS REFERENCIAS'!$AL:$AL,0),2))","v":""},null,{"$f":"IF(J75=\"\",\"\",INDEX(referentes!$S:$W,MATCH(J75,referentes!$S:$S,0),1))","v":""},null,null,null,null,null,null,null,{"$f":"IF(U75=\"\",\"\",INDEX('OTRAS REFERENCIAS'!$H$6:$I$11,MATCH(U75,'OTRAS REFERENCIAS'!$I$6:$I$11,0),1))","v":""},null,null,null,null,{"$f":"IF(Z75=\"\",\"\",INDEX('OTRAS REFERENCIAS'!$K$6:$L$11,MATCH(Z75,'OTRAS REFERENCIAS'!$L$6:$L$11,0),1))","v":""},null,null,null,null,{"$f":"IF(AE75=\"\",\"\",INDEX('OTRAS REFERENCIAS'!$N$6:$O$11,MATCH(AE75,'OTRAS REFERENCIAS'!$O$6:$O$11,0),1))","v":""},null,null,null,null,{"$f":"IF(AJ75=\"\",\"\",INDEX('OTRAS REFERENCIAS'!$Q$6:$R$11,MATCH(AJ75,'OTRAS REFERENCIAS'!$R$6:$R$11,0),1))","v":""},null,null,null,{"$f":"IF(AN75=\"\",\"\",INDEX('OTRAS REFERENCIAS'!$T$6:$U$11,MATCH(AN75,'OTRAS REFERENCIAS'!$U$6:$U$11,0),1))","v":""}]
[1,"",74,"","",{"$f":"IF(L76<>\"\",CONCATENATE(DIGITADOR!$B$2,$A$2,DIGITADOR!$M$1,A76),\"\")","v":""},null,null,"",{"$f":"IF(K76=\"\",\"\",INDEX('OTRAS REFERENCIAS'!$AL:$AM,MATCH(K76,'OTRAS REFERENCIAS'!$AL:$AL,0),2))","v":""},null,{"$f":"IF(J76=\"\",\"\",INDEX(referentes!$S:$W,MATCH(J76,referentes!$S:$S,0),1))","v":""},null,null,null,null,null,null,null,{"$f":"IF(U76=\"\",\"\",INDEX('OTRAS REFERENCIAS'!$H$6:$I$11,MATCH(U76,'OTRAS REFERENCIAS'!$I$6:$I$11,0),1))","v":""},null,null,null,null,{"$f":"IF(Z76=\"\",\"\",INDEX('OTRAS REFERENCIAS'!$K$6:$L$11,MATCH(Z76,'OTRAS REFERENCIAS'!$L$6:$L$11,0),1))","v":""},null,null,null,null,{"$f":"IF(AE76=\"\",\"\",INDEX('OTRAS REFERENCIAS'!$N$6:$O$11,MATCH(AE76,'OTRAS REFERENCIAS'!$O$6:$O$11,0),1))","v":""},null,null,null,null,{"$f":"IF(AJ76=\"\",\"\",INDEX('OTRAS REFERENCIAS'!$Q$6:$R$11,MATCH(AJ76,'OTRAS REFERENCIAS'!$R$6:$R$11,0),1))","v":""},null,null,null,{"$f":"IF(AN76=\"\",\"\",INDEX('OTRAS REFERENCIAS'!$T$6:$U$11,MATCH(AN76,'OTRAS REFERENCIAS'!$U$6:$U$11,0),1))","v":""}]
[1,"",75,"","",{"$f":"IF(L77<>\"\",CONCATENATE(DIGITADOR!$B$2,$A$2,DIGITADOR!$M$1,A77),\"\")","v":""},null,null,"",{"$f":"IF(K77=\"\",\"\",INDEX('OTRAS REFERENCIAS'!$AL:$AM,MATCH(K77,'OTRAS REFERENCIAS'!$AL:$AL,0),2))","v":""},null,{"$f":"IF(J77=\"\",\"\",INDEX(referentes!$S:$W,MATCH(J77,referentes!$S:$S,0),1))","v":""},null,null,null,null,null,null,null,{"$f":"IF(U77=\"\",\"\",INDEX('OTRAS REFERENCIAS'!$H$6:$I$11,MATCH(U77,'OTRAS REFERENCIAS'!$I$6:$I$11,0),1))","v":""},null,null,null,null,{"$f":"IF(Z77=\"\",\"\",INDEX('OTRAS REFERENCIAS'!$K$6:$L$11,MATCH(Z77,'OTRAS REFERENCIAS'!$L$6:$L$11,0),1))","v":""},null,null,null,null,{"$f":"IF(AE77=\"\",\"\",INDEX('OTRAS REFERENCIAS'!$N$6:$O$11,MATCH(AE77,'OTRAS REFERENCIAS'!$O$6:$O$11,0),1))","v":""},null,null,null,null,{"$f":"IF(AJ77=\"\",\"\",INDEX('OTRAS REFERENCIAS'!$Q$6:$R$11,MATCH(AJ77,'OTRAS REFERENCIAS'!$R$6:$R$11,0),1))","v":""},null,null,null,{"$f":"IF(AN77=\"\",\"\",INDEX('OTRAS REFERENCIAS'!$T$6:$U$11,MATCH(AN77,'OTRAS REFERENCIAS'!$U$6:$U$11,0),1))","v":""}]
[1,"",76,"","",{"$f":"IF(L78<>\"\",CONCATENATE(DIGITADOR!$B$2,$A$2,DIGITADOR!$M$1,A78),\"\")","v":""},null,null,"",{"$f":"IF(K78=\"\",\"\",INDEX('OTRAS REFERENCIAS'!$AL:$AM,MATCH(K78,'OTRAS REFERENCIAS'!$AL:$AL,0),2))","v":""},null,{"$f":"IF(J78=\"\",\"\",INDEX(referentes!$S:$W,MATCH(J78,referentes!$S:$S,0),1))","v":""},null,null,null,null,null,null,null,{"$f":"IF(U78=\"\",\"\",INDEX('OTRAS REFERENCIAS'!$H$6:$I$11,MATCH(U78,'OTRAS REFERENCIAS'!$I$6:$I$11,0),1))","v":""},null,null,null,null,{"$f":"IF(Z78=\"\",\"\",INDEX('OTRAS REFERENCIAS'!$K$6:$L$11,MATCH(Z78,'OTRAS REFERENCIAS'!$L$6:$L$11,0),1))","v":""},null,null,null,null,{"$f":"IF(AE78=\"\",\"\",INDEX('OTRAS REFERENCIAS'!$N$6:$O$11,MATCH(AE78,'OTRAS REFERENCIAS'!$O$6:$O$11,0),1))","v":""},null,null,null,null,{"$f":"IF(AJ78=\"\",\"\",INDEX('OTRAS REFERENCIAS'!$Q$6:$R$11,MATCH(AJ78,'OTRAS REFERENCIAS'!$R$6:$R$11,0),1))","v":""},null,null,null,{"$f":"IF(AN78=\"\",\"\",INDEX('OTRAS REFERENCIAS'!$T$6:$U$11,MATCH(AN78,'OTRAS REFERENCIAS'!$U$6:$U$11,0),1))","v":""}]
[1,"",77,"","",{"$f":"IF(L79<>\"\",CONCATENATE(DIGITADOR!$B$2,$A$2,DIGITADOR!$M$1,A79),\"\")","v":""},null,null,"",{"$f":"IF(K79=\"\",\"\",INDEX('OTRAS REFERENCIAS'!$AL:$AM,MATCH(K79,'OTRAS REFERENCIAS'!$AL:$AL,0),2))","v":""},null,{"$f":"IF(J79=\"\",\"\",INDEX(referentes!$S:$W,MATCH(J79,referentes!$S:$S,0),1))","v":""},null,null,null,null,null,null,null,{"$f":"IF(U79=\"\",\"\",INDEX('OTRAS REFERENCIAS'!$H$6:$I$11,MATCH(U79,'OTRAS REFERENCIAS'!$I$6:$I$11,0),1))","v":""},null,null,null,null,{"$f":"IF(Z79=\"\",\"\",INDEX('OTRAS REFERENCIAS'!$K$6:$L$11,MATCH(Z79,'OTRAS REFERENCIAS'!$L$6:$L$11,0),1))","v":""},null,null,null,null,{"$f":"IF(AE79=\"\",\"\",INDEX('OTRAS REFERENCIAS'!$N$6:$O$11,MATCH(AE79,'OTRAS REFERENCIAS'!$O$6:$O$11,0),1))","v":""},null,null,null,null,{"$f":"IF(AJ79=\"\",\"\",INDEX('OTRAS REFERENCIAS'!$Q$6:$R$11,MATCH(AJ79,'OTRAS REFERENCIAS'!$R$6:$R$11,0),1))","v":""},null,null,null,{"$f":"IF(AN79=\"\",\"\",INDEX('OTRAS REFERENCIAS'!$T$6:$U$11,MATCH(AN79,'OTRAS REFERENCIAS'!$U$6:$U$11,0),1))","v":""}]
[1,"",78,"","",{"$f":"IF(L80<>\"\",CONCATENATE(DIGITADOR!$B$2,$A$2,DIGITADOR!$M$1,A80),\"\")","v":""},null,null,"",{"$f":"IF(K80=\"\",\"\",INDEX('OTRAS REFERENCIAS'!$AL:$AM,MATCH(K80,'OTRAS REFERENCIAS'!$AL:$AL,0),2))","v":""},null,{"$f":"IF(J80=\"\",\"\",INDEX(referentes!$S:$W,MATCH(J80,referentes!$S:$S,0),1))","v":""},null,null,null,null,null,null,null,{"$f":"IF(U80=\"\",\"\",INDEX('OTRAS REFERENCIAS'!$H$6:$I$11,MATCH(U80,'OTRAS REFERENCIAS'!$I$6:$I$11,0),1))","v":""},null,null,null,null,{"$f":"IF(Z80=\"\",\"\",INDEX('OTRAS REFERENCIAS'!$K$6:$L$11,MATCH(Z80,'OTRAS REFERENCIAS'!$L$6:$L$11,0),1))","v":""},null,null,null,null,{"$f":"IF(AE80=\"\",\"\",INDEX('OTRAS REFERENCIAS'!$N$6:$O$11,MATCH(AE80,'OTRAS REFERENCIAS'!$O$6:$O$11,0),1))","v":""},null,null,null,null,{"$f":"IF(AJ80=\"\",\"\",INDEX('OTRAS REFERENCIAS'!$Q$6:$R$11,MATCH(AJ80,'OTRAS REFERENCIAS'!$R$6:$R$11,0),1))","v":""},null,null,null,{"$f":"IF(AN80=\"\",\"\",INDEX('OTRAS REFERENCIAS'!$T$6:$U$11,MATCH(AN80,'OTRAS REFERENCIAS'!$U$6:$U$11,0),1))","v":""}]
[1,"",79,"","",{"$f":"IF(L81<>\"\",CONCATENATE(DIGITADOR!$B$2,$A$2,DIGITADOR!$M$1,A81),\"\")","v":""},null,null,"",{"$f":"IF(K81=\"\",\"\",INDEX('OTRAS REFERENCIAS'!$AL:$AM,MATCH(K81,'OTRAS REFERENCIAS'!$AL:$AL,0),2))","v":""},null,{"$f":"IF(J81=\"\",\"\",INDEX(referentes!$S:$W,MATCH(J81,referentes!$S:$S,0),1))","v":""},null,null,null,null,null,null,null,{"$f":"IF(U81=\"\",\"\",INDEX('OTRAS REFERENCIAS'!$H$6:$I$11,MATCH(U81,'OTRAS REFERENCIAS'!$I$6:$I$11,0),1))","v":""},null,null,null,null,{"$f":"IF(Z81=\"\",\"\",INDEX('OTRAS REFERENCIAS'!$K$6:$L$11,MATCH(Z81,'OTRAS REFERENCIAS'!$L$6:$L$11,0),1))","v":""},null,null,null,null,{"$f":"IF(AE81=\"\",\"\",INDEX('OTRAS REFERENCIAS'!$N$6:$O$11,MATCH(AE81,'OTRAS REFERENCIAS'!$O$6:$O$11,0),1))","v":""},null,null,null,null,{"$f":"IF(AJ81=\"\",\"\",INDEX('OTRAS REFERENCIAS'!$Q$6:$R$11,MATCH(AJ81,'OTRAS REFERENCIAS'!$R$6:$R$11,0),1))","v":""},null,null,null,{"$f":"IF(AN81=\"\",\"\",INDEX('OTRAS REFERENCIAS'!$T$6:$U$11,MATCH(AN81,'OTRAS REFERENCIAS'!$U$6:$U$11,0),1))","v":""}]
[1,"",80,"","",{"$f":"IF(L82<>\"\",CONCATENATE(DIGITADOR!$B$2,$A$2,DIGITADOR!$M$1,A82),\"\")","v":""},null,null,"",{"$f":"IF(K82=\"\",\"\",INDEX('OTRAS REFERENCIAS'!$AL:$AM,MATCH(K82,'OTRAS REFERENCIAS'!$AL:$AL,0),2))","v":""},null,{"$f":"IF(J82=\"\",\"\",INDEX(referentes!$S:$W,MATCH(J82,referentes!$S:$S,0),1))","v":""},null,null,null,null,null,null,null,{"$f":"IF(U82=\"\",\"\",INDEX('OTRAS REFERENCIAS'!$H$6:$I$11,MATCH(U82,'OTRAS REFERENCIAS'!$I$6:$I$11,0),1))","v":""},null,null,null,null,{"$f":"IF(Z82=\"\",\"\",INDEX('OTRAS REFERENCIAS'!$K$6:$L$11,MATCH(Z82,'OTRAS REFERENCIAS'!$L$6:$L$11,0),1))","v":""},null,null,null,null,{"$f":"IF(AE82=\"\",\"\",INDEX('OTRAS REFERENCIAS'!$N$6:$O$11,MATCH(AE82,'OTRAS REFERENCIAS'!$O$6:$O$11,0),1))","v":""},null,null,null,null,{"$f":"IF(AJ82=\"\",\"\",INDEX('OTRAS REFERENCIAS'!$Q$6:$R$11,MATCH(AJ82,'OTRAS REFERENCIAS'!$R$6:$R$11,0),1))","v":""},null,null,null,{"$f":"IF(AN82=\"\",\"\",INDEX('OTRAS REFERENCIAS'!$T$6:$U$11,MATCH(AN82,'OTRAS REFERENCIAS'!$U$6:$U$11,0),1))","v":""}]
[1,"",81,"","",{"$f":"IF(L83<>\"\",CONCATENATE(DIGITADOR!$B$2,$A$2,DIGITADOR!$M$1,A83),\"\")","v":""},null,null,"",{"$f":"IF(K83=\"\",\"\",INDEX('OTRAS REFERENCIAS'!$AL:$AM,MATCH(K83,'OTRAS REFERENCIAS'!$AL:$AL,0),2))","v":""},null,{"$f":"IF(J83=\"\",\"\",INDEX(referentes!$S:$W,MATCH(J83,referentes!$S:$S,0),1))","v":""},null,null,null,null,null,null,null,{"$f":"IF(U83=\"\",\"\",INDEX('OTRAS REFERENCIAS'!$H$6:$I$11,MATCH(U83,'OTRAS REFERENCIAS'!$I$6:$I$11,0),1))","v":""},null,null,null,null,{"$f":"IF(Z83=\"\",\"\",INDEX('OTRAS REFERENCIAS'!$K$6:$L$11,MATCH(Z83,'OTRAS REFERENCIAS'!$L$6:$L$11,0),1))","v":""},null,null,null,null,{"$f":"IF(AE83=\"\",\"\",INDEX('OTRAS REFERENCIAS'!$N$6:$O$11,MATCH(AE83,'OTRAS REFERENCIAS'!$O$6:$O$11,0),1))","v":""},null,null,null,null,{"$f":"IF(AJ83=\"\",\"\",INDEX('OTRAS REFERENCIAS'!$Q$6:$R$11,MATCH(AJ83,'OTRAS REFERENCIAS'!$R$6:$R$11,0),1))","v":""},null,null,null,{"$f":"IF(AN83=\"\",\"\",INDEX('OTRAS REFERENCIAS'!$T$6:$U$11,MATCH(AN83,'OTRAS REFERENCIAS'!$U$6:$U$11,0),1))","v":""}]
[1,"",82,"","",{"$f":"IF(L84<>\"\",CONCATENATE(DIGITADOR!$B$2,$A$2,DIGITADOR!$M$1,A84),\"\")","v":""},null,null,"",{"$f":"IF(K84=\"\",\"\",INDEX('OTRAS REFERENCIAS'!$AL:$AM,MATCH(K84,'OTRAS REFERENCIAS'!$AL:$AL,0),2))","v":""},null,{"$f":"IF(J84=\"\",\"\",INDEX(referentes!$S:$W,MATCH(J84,referentes!$S:$S,0),1))","v":""},null,null,null,null,null,null,null,{"$f":"IF(U84=\"\",\"\",INDEX('OTRAS REFERENCIAS'!$H$6:$I$11,MATCH(U84,'OTRAS REFERENCIAS'!$I$6:$I$11,0),1))","v":""},null,null,null,null,{"$f":"IF(Z84=\"\",\"\",INDEX('OTRAS REFERENCIAS'!$K$6:$L$11,MATCH(Z84,'OTRAS REFERENCIAS'!$L$6:$L$11,0),1))","v":""},null,null,null,null,{"$f":"IF(AE84=\"\",\"\",INDEX('OTRAS REFERENCIAS'!$N$6:$O$11,MATCH(AE84,'OTRAS REFERENCIAS'!$O$6:$O$11,0),1))","v":""},null,null,null,null,{"$f":"IF(AJ84=\"\",\"\",INDEX('OTRAS REFERENCIAS'!$Q$6:$R$11,MATCH(AJ84,'OTRAS REFERENCIAS'!$R$6:$R$11,0),1))","v":""},null,null,null,{"$f":"IF(AN84=\"\",\"\",INDEX('OTRAS REFERENCIAS'!$T$6:$U$11,MATCH(AN84,'OTRAS REFERENCIAS'!$U$6:$U$11,0),1))","v":""}]
[1,"",83,"","",{"$f":"IF(L85<>\"\",CONCATENATE(DIGITADOR!$B$2,$A$2,DIGITADOR!$M$1,A85),\"\")","v":""},null,null,"",{"$f":"IF(K85=\"\",\"\",INDEX('OTRAS REFERENCIAS'!$AL:$AM,MATCH(K85,'OTRAS REFERENCIAS'!$AL:$AL,0),2))","v":""},null,{"$f":"IF(J85=\"\",\"\",INDEX(referentes!$S:$W,MATCH(J85,referentes!$S:$S,0),1))","v":""},null,null,null,null,null,null,null,{"$f":"IF(U85=\"\",\"\",INDEX('OTRAS REFERENCIAS'!$H$6:$I$11,MATCH(U85,'OTRAS REFERENCIAS'!$I$6:$I$11,0),1))","v":""},null,null,null,null,{"$f":"IF(Z85=\"\",\"\",INDEX('OTRAS REFERENCIAS'!$K$6:$L$11,MATCH(Z85,'OTRAS REFERENCIAS'!$L$6:$L$11,0),1))","v":""},null,null,null,null,{"$f":"IF(AE85=\"\",\"\",INDEX('OTRAS REFERENCIAS'!$N$6:$O$11,MATCH(AE85,'OTRAS REFERENCIAS'!$O$6:$O$11,0),1))","v":""},null,null,null,null,{"$f":"IF(AJ85=\"\",\"\",INDEX('OTRAS REFERENCIAS'!$Q$6:$R$11,MATCH(AJ85,'OTRAS REFERENCIAS'!$R$6:$R$11,0),1))","v":""},null,null,null,{"$f":"IF(AN85=\"\",\"\",INDEX('OTRAS REFERENCIAS'!$T$6:$U$11,MATCH(AN85,'OTRAS REFERENCIAS'!$U$6:$U$11,0),1))","v":""}]
[1,"",84,"","",{"$f":"IF(L86<>\"\",CONCATENATE(DIGITADOR!$B$2,$A$2,DIGITADOR!$M$1,A86),\"\")","v":""},null,null,"",{"$f":"IF(K86=\"\",\"\",INDEX('OTRAS REFERENCIAS'!$AL:$AM,MATCH(K86,'OTRAS REFERENCIAS'!$AL:$AL,0),2))","v":""},null,{"$f":"IF(J86=\"\",\"\",INDEX(referentes!$S:$W,MATCH(J86,referentes!$S:$S,0),1))","v":""},null,null,null,null,null,null,null,{"$f":"IF(U86=\"\",\"\",INDEX('OTRAS REFERENCIAS'!$H$6:$I$11,MATCH(U86,'OTRAS REFERENCIAS'!$I$6:$I$11,0),1))","v":""},null,null,null,null,{"$f":"IF(Z86=\"\",\"\",INDEX('OTRAS REFERENCIAS'!$K$6:$L$11,MATCH(Z86,'OTRAS REFERENCIAS'!$L$6:$L$11,0),1))","v":""},null,null,null,null,{"$f":"IF(AE86=\"\",\"\",INDEX('OTRAS REFERENCIAS'!$N$6:$O$11,MATCH(AE86,'OTRAS REFERENCIAS'!$O$6:$O$11,0),1))","v":""},null,null,null,null,{"$f":"IF(AJ86=\"\",\"\",INDEX('OTRAS REFERENCIAS'!$Q$6:$R$11,MATCH(AJ86,'OTRAS REFERENCIAS'!$R$6:$R$11,0),1))","v":""},null,null,null,{"$f":"IF(AN86=\"\",\"\",INDEX('OTRAS REFERENCIAS'!$T$6:$U$11,MATCH(AN86,'OTRAS REFERENCIAS'!$U$6:$U$11,0),1))","v":""}]
[1,"",85,"","",{"$f":"IF(L87<>\"\",CONCATENATE(DIGITADOR!$B$2,$A$2,DIGITADOR!$M$1,A87),\"\")","v":""},null,null,"",{"$f":"IF(K87=\"\",\"\",INDEX('OTRAS REFERENCIAS'!$AL:$AM,MATCH(K87,'OTRAS REFERENCIAS'!$AL:$AL,0),2))","v":""},null,{"$f":"IF(J87=\"\",\"\",INDEX(referentes!$S:$W,MATCH(J87,referentes!$S:$S,0),1))","v":""},null,null,null,null,null,null,null,{"$f":"IF(U87=\"\",\"\",INDEX('OTRAS REFERENCIAS'!$H$6:$I$11,MATCH(U87,'OTRAS REFERENCIAS'!$I$6:$I$11,0),1))","v":""},null,null,null,null,{"$f":"IF(Z87=\"\",\"\",INDEX('OTRAS REFERENCIAS'!$K$6:$L$11,MATCH(Z87,'OTRAS REFERENCIAS'!$L$6:$L$11,0),1))","v":""},null,null,null,null,{"$f":"IF(AE87=\"\",\"\",INDEX('OTRAS REFERENCIAS'!$N$6:$O$11,MATCH(AE87,'OTRAS REFERENCIAS'!$O$6:$O$11,0),1))","v":""},null,null,null,null,{"$f":"IF(AJ87=\"\",\"\",INDEX('OTRAS REFERENCIAS'!$Q$6:$R$11,MATCH(AJ87,'OTRAS REFERENCIAS'!$R$6:$R$11,0),1))","v":""},null,null,null,{"$f":"IF(AN87=\"\",\"\",INDEX('OTRAS REFERENCIAS'!$T$6:$U$11,MATCH(AN87,'OTRAS REFERENCIAS'!$U$6:$U$11,0),1))","v":""}]
[1,"",86,"","",{"$f":"IF(L88<>\"\",CONCATENATE(DIGITADOR!$B$2,$A$2,DIGITADOR!$M$1,A88),\"\")","v":""},null,null,"",{"$f":"IF(K88=\"\",\"\",INDEX('OTRAS REFERENCIAS'!$AL:$AM,MATCH(K88,'OTRAS REFERENCIAS'!$AL:$AL,0),2))","v":""},null,{"$f":"IF(J88=\"\",\"\",INDEX(referentes!$S:$W,MATCH(J88,referentes!$S:$S,0),1))","v":""},null,null,null,null,null,null,null,{"$f":"IF(U88=\"\",\"\",INDEX('OTRAS REFERENCIAS'!$H$6:$I$11,MATCH(U88,'OTRAS REFERENCIAS'!$I$6:$I$11,0),1))","v":""},null,null,null,null,{"$f":"IF(Z88=\"\",\"\",INDEX('OTRAS REFERENCIAS'!$K$6:$L$11,MATCH(Z88,'OTRAS REFERENCIAS'!$L$6:$L$11,0),1))","v":""},null,null,null,null,{"$f":"IF(AE88=\"\",\"\",INDEX('OTRAS REFERENCIAS'!$N$6:$O$11,MATCH(AE88,'OTRAS REFERENCIAS'!$O$6:$O$11,0),1))","v":""},null,null,null,null,{"$f":"IF(AJ88=\"\",\"\",INDEX('OTRAS REFERENCIAS'!$Q$6:$R$11,MATCH(AJ88,'OTRAS REFERENCIAS'!$R$6:$R$11,0),1))","v":""},null,null,null,{"$f":"IF(AN88=\"\",\"\",INDEX('OTRAS REFERENCIAS'!$T$6:$U$11,MATCH(AN88,'OTRAS REFERENCIAS'!$U$6:$U$11,0),1))","v":""}]
[1,"",87,"","",{"$f":"IF(L89<>\"\",CONCATENATE(DIGITADOR!$B$2,$A$2,DIGITADOR!$M$1,A89),\"\")","v":""},null,null,"",{"$f":"IF(K89=\"\",\"\",INDEX('OTRAS REFERENCIAS'!$AL:$AM,MATCH(K89,'OTRAS REFERENCIAS'!$AL:$AL,0),2))","v":""},null,{"$f":"IF(J89=\"\",\"\",INDEX(referentes!$S:$W,MATCH(J89,referentes!$S:$S,0),1))","v":""},null,null,null,null,null,null,null,{"$f":"IF(U89=\"\",\"\",INDEX('OTRAS REFERENCIAS'!$H$6:$I$11,MATCH(U89,'OTRAS REFERENCIAS'!$I$6:$I$11,0),1))","v":""},null,null,null,null,{"$f":"IF(Z89=\"\",\"\",INDEX('OTRAS REFERENCIAS'!$K$6:$L$11,MATCH(Z89,'OTRAS REFERENCIAS'!$L$6:$L$11,0),1))","v":""},null,null,null,null,{"$f":"IF(AE89=\"\",\"\",INDEX('OTRAS REFERENCIAS'!$N$6:$O$11,MATCH(AE89,'OTRAS REFERENCIAS'!$O$6:$O$11,0),1))","v":""},null,null,null,null,{"$f":"IF(AJ89=\"\",\"\",INDEX('OTRAS REFERENCIAS'!$Q$6:$R$11,MATCH(AJ89,'OTRAS REFERENCIAS'!$R$6:$R$11,0),1))","v":""},null,null,null,{"$f":"IF(AN89=\"\",\"\",INDEX('OTRAS REFERENCIAS'!$T$6:$U$11,MATCH(AN89,'OTRAS REFERENCIAS'!$U$6:$U$11,0),1))","v":""}]
[1,"",88,"","",{"$f":"IF(L90<>\"\",CONCATENATE(DIGITADOR!$B$2,$A$2,DIGITADOR!$M$1,A90),\"\")","v":""},null,null,"",{"$f":"IF(K90=\"\",\"\",INDEX('OTRAS REFERENCIAS'!$AL:$AM,MATCH(K90,'OTRAS REFERENCIAS'!$AL:$AL,0),2))","v":""},null,{"$f":"IF(J90=\"\",\"\",INDEX(referentes!$S:$W,MATCH(J90,referentes!$S:$S,0),1))","v":""},null,null,null,null,null,null,null,{"$f":"IF(U90=\"\",\"\",INDEX('OTRAS REFERENCIAS'!$H$6:$I$11,MATCH(U90,'OTRAS REFERENCIAS'!$I$6:$I$11,0),1))","v":""},null,null,null,null,{"$f":"IF(Z90=\"\",\"\",INDEX('OTRAS REFERENCIAS'!$K$6:$L$11,MATCH(Z90,'OTRAS REFERENCIAS'!$L$6:$L$11,0),1))","v":""},null,null,null,null,{"$f":"IF(AE90=\"\",\"\",INDEX('OTRAS REFERENCIAS'!$N$6:$O$11,MATCH(AE90,'OTRAS REFERENCIAS'!$O$6:$O$11,0),1))","v":""},null,null,null,null,{"$f":"IF(AJ90=\"\",\"\",INDEX('OTRAS REFERENCIAS'!$Q$6:$R$11,MATCH(AJ90,'OTRAS REFERENCIAS'!$R$6:$R$11,0),1))","v":""},null,null,null,{"$f":"IF(AN90=\"\",\"\",INDEX('OTRAS REFERENCIAS'!$T$6:$U$11,MATCH(AN90,'OTRAS REFERENCIAS'!$U$6:$U$11,0),1))","v":""}]
[1,"",89,"","",{"$f":"IF(L91<>\"\",CONCATENATE(DIGITADOR!$B$2,$A$2,DIGITADOR!$M$1,A91),\"\")","v":""},null,null,"",{"$f":"IF(K91=\"\",\"\",INDEX('OTRAS REFERENCIAS'!$AL:$AM,MATCH(K91,'OTRAS REFERENCIAS'!$AL:$AL,0),2))","v":""},null,{"$f":"IF(J91=\"\",\"\",INDEX(referentes!$S:$W,MATCH(J91,referentes!$S:$S,0),1))","v":""},null,null,null,null,null,null,null,{"$f":"IF(U91=\"\",\"\",INDEX('OTRAS REFERENCIAS'!$H$6:$I$11,MATCH(U91,'OTRAS REFERENCIAS'!$I$6:$I$11,0),1))","v":""},null,null,null,null,{"$f":"IF(Z91=\"\",\"\",INDEX('OTRAS REFERENCIAS'!$K$6:$L$11,MATCH(Z91,'OTRAS REFERENCIAS'!$L$6:$L$11,0),1))","v":""},null,null,null,null,{"$f":"IF(AE91=\"\",\"\",INDEX('OTRAS REFERENCIAS'!$N$6:$O$11,MATCH(AE91,'OTRAS REFERENCIAS'!$O$6:$O$11,0),1))","v":""},null,null,null,null,{"$f":"IF(AJ91=\"\",\"\",INDEX('OTRAS REFERENCIAS'!$Q$6:$R$11,MATCH(AJ91,'OTRAS REFERENCIAS'!$R$6:$R$11,0),1))","v":""},null,null,null,{"$f":"IF(AN91=\"\",\"\",INDEX('OTRAS REFERENCIAS'!$T$6:$U$11,MATCH(AN91,'OTRAS REFERENCIAS'!$U$6:$U$11,0),1))","v":""}]
[1,"",90,"","",{"$f":"IF(L92<>\"\",CONCATENATE(DIGITADOR!$B$2,$A$2,DIGITADOR!$M$1,A92),\"\")","v":""},null,null,"",{"$f":"IF(K92=\"\",\"\",INDEX('OTRAS REFERENCIAS'!$AL:$AM,MATCH(K92,'OTRAS REFERENCIAS'!$AL:$AL,0),2))","v":""},null,{"$f":"IF(J92=\"\",\"\",INDEX(referentes!$S:$W,MATCH(J92,referentes!$S:$S,0),1))","v":""},null,null,null,null,null,null,null,{"$f":"IF(U92=\"\",\"\",INDEX('OTRAS REFERENCIAS'!$H$6:$I$11,MATCH(U92,'OTRAS REFERENCIAS'!$I$6:$I$11,0),1))","v":""},null,null,null,null,{"$f":"IF(Z92=\"\",\"\",INDEX('OTRAS REFERENCIAS'!$K$6:$L$11,MATCH(Z92,'OTRAS REFERENCIAS'!$L$6:$L$11,0),1))","v":""},null,null,null,null,{"$f":"IF(AE92=\"\",\"\",INDEX('OTRAS REFERENCIAS'!$N$6:$O$11,MATCH(AE92,'OTRAS REFERENCIAS'!$O$6:$O$11,0),1))","v":""},null,null,null,null,{"$f":"IF(AJ92=\"\",\"\",INDEX('OTRAS REFERENCIAS'!$Q$6:$R$11,MATCH(AJ92,'OTRAS REFERENCIAS'!$R$6:$R$11,0),1))","v":""},null,null,null,{"$f":"IF(AN92=\"\",\"\",INDEX('OTRAS REFERENCIAS'!$T$6:$U$11,MATCH(AN92,'OTRAS REFERENCIAS'!$U$6:$U$11,0),1))","v":""}]
[1,"",91,"","",{"$f":"IF(L93<>\"\",CONCATENATE(DIGITADOR!$B$2,$A$2,DIGITADOR!$M$1,A93),\"\")","v":""},null,null,"",{"$f":"IF(K93=\"\",\"\",INDEX('OTRAS REFERENCIAS'!$AL:$AM,MATCH(K93,'OTRAS REFERENCIAS'!$AL:$AL,0),2))","v":""},null,{"$f":"IF(J93=\"\",\"\",INDEX(referentes!$S:$W,MATCH(J93,referentes!$S:$S,0),1))","v":""},null,null,null,null,null,null,null,{"$f":"IF(U93=\"\",\"\",INDEX('OTRAS REFERENCIAS'!$H$6:$I$11,MATCH(U93,'OTRAS REFERENCIAS'!$I$6:$I$11,0),1))","v":""},null,null,null,null,{"$f":"IF(Z93=\"\",\"\",INDEX('OTRAS REFERENCIAS'!$K$6:$L$11,MATCH(Z93,'OTRAS REFERENCIAS'!$L$6:$L$11,0),1))","v":""},null,null,null,null,{"$f":"IF(AE93=\"\",\"\",INDEX('OTRAS REFERENCIAS'!$N$6:$O$11,MATCH(AE93,'OTRAS REFERENCIAS'!$O$6:$O$11,0),1))","v":""},null,null,null,null,{"$f":"IF(AJ93=\"\",\"\",INDEX('OTRAS REFERENCIAS'!$Q$6:$R$11,MATCH(AJ93,'OTRAS REFERENCIAS'!$R$6:$R$11,0),1))","v":""},null,null,null,{"$f":"IF(AN93=\"\",\"\",INDEX('OTRAS REFERENCIAS'!$T$6:$U$11,MATCH(AN93,'OTRAS REFERENCIAS'!$U$6:$U$11,0),1))","v":""}]
[1,"",92,"","",{"$f":"IF(L94<>\"\",CONCATENATE(DIGITADOR!$B$2,$A$2,DIGITADOR!$M$1,A94),\"\")","v":""},null,null,"",{"$f":"IF(K94=\"\",\"\",INDEX('OTRAS REFERENCIAS'!$AL:$AM,MATCH(K94,'OTRAS REFERENCIAS'!$AL:$AL,0),2))","v":""},null,{"$f":"IF(J94=\"\",\"\",INDEX(referentes!$S:$W,MATCH(J94,referentes!$S:$S,0),1))","v":""},null,null,null,null,null,null,null,{"$f":"IF(U94=\"\",\"\",INDEX('OTRAS REFERENCIAS'!$H$6:$I$11,MATCH(U94,'OTRAS REFERENCIAS'!$I$6:$I$11,0),1))","v":""},null,null,null,null,{"$f":"IF(Z94=\"\",\"\",INDEX('OTRAS REFERENCIAS'!$K$6:$L$11,MATCH(Z94,'OTRAS REFERENCIAS'!$L$6:$L$11,0),1))","v":""},null,null,null,null,{"$f":"IF(AE94=\"\",\"\",INDEX('OTRAS REFERENCIAS'!$N$6:$O$11,MATCH(AE94,'OTRAS REFERENCIAS'!$O$6:$O$11,0),1))","v":""},null,null,null,null,{"$f":"IF(AJ94=\"\",\"\",INDEX('OTRAS REFERENCIAS'!$Q$6:$R$11,MATCH(AJ94,'OTRAS REFERENCIAS'!$R$6:$R$11,0),1))","v":""},null,null,null,{"$f":"IF(AN94=\"\",\"\",INDEX('OTRAS REFERENCIAS'!$T$6:$U$11,MATCH(AN94,'OTRAS REFERENCIAS'!$U$6:$U$11,0),1))","v":""}]
[1,"",93,"","",{"$f":"IF(L95<>\"\",CONCATENATE(DIGITADOR!$B$2,$A$2,DIGITADOR!$M$1,A95),\"\")","v":""},null,null,"",{"$f":"IF(K95=\"\",\"\",INDEX('OTRAS REFERENCIAS'!$AL:$AM,MATCH(K95,'OTRAS REFERENCIAS'!$AL:$AL,0),2))","v":""},null,{"$f":"IF(J95=\"\",\"\",INDEX(referentes!$S:$W,MATCH(J95,referentes!$S:$S,0),1))","v":""},null,null,null,null,null,null,null,{"$f":"IF(U95=\"\",\"\",INDEX('OTRAS REFERENCIAS'!$H$6:$I$11,MATCH(U95,'OTRAS REFERENCIAS'!$I$6:$I$11,0),1))","v":""},null,null,null,null,{"$f":"IF(Z95=\"\",\"\",INDEX('OTRAS REFERENCIAS'!$K$6:$L$11,MATCH(Z95,'OTRAS REFERENCIAS'!$L$6:$L$11,0),1))","v":""},null,null,null,null,{"$f":"IF(AE95=\"\",\"\",INDEX('OTRAS REFERENCIAS'!$N$6:$O$11,MATCH(AE95,'OTRAS REFERENCIAS'!$O$6:$O$11,0),1))","v":""},null,null,null,null,{"$f":"IF(AJ95=\"\",\"\",INDEX('OTRAS REFERENCIAS'!$Q$6:$R$11,MATCH(AJ95,'OTRAS REFERENCIAS'!$R$6:$R$11,0),1))","v":""},null,null,null,{"$f":"IF(AN95=\"\",\"\",INDEX('OTRAS REFERENCIAS'!$T$6:$U$11,MATCH(AN95,'OTRAS REFERENCIAS'!$U$6:$U$11,0),1))","v":""}]
[1,"",94,"","",{"$f":"IF(L96<>\"\",CONCATENATE(DIGITADOR!$B$2,$A$2,DIGITADOR!$M$1,A96),\"\")","v":""},null,null,"",{"$f":"IF(K96=\"\",\"\",INDEX('OTRAS REFERENCIAS'!$AL:$AM,MATCH(K96,'OTRAS REFERENCIAS'!$AL:$AL,0),2))","v":""},null,{"$f":"IF(J96=\"\",\"\",INDEX(referentes!$S:$W,MATCH(J96,referentes!$S:$S,0),1))","v":""},null,null,null,null,null,null,null,{"$f":"IF(U96=\"\",\"\",INDEX('OTRAS REFERENCIAS'!$H$6:$I$11,MATCH(U96,'OTRAS REFERENCIAS'!$I$6:$I$11,0),1))","v":""},null,null,null,null,{"$f":"IF(Z96=\"\",\"\",INDEX('OTRAS REFERENCIAS'!$K$6:$L$11,MATCH(Z96,'OTRAS REFERENCIAS'!$L$6:$L$11,0),1))","v":""},null,null,null,null,{"$f":"IF(AE96=\"\",\"\",INDEX('OTRAS REFERENCIAS'!$N$6:$O$11,MATCH(AE96,'OTRAS REFERENCIAS'!$O$6:$O$11,0),1))","v":""},null,null,null,null,{"$f":"IF(AJ96=\"\",\"\",INDEX('OTRAS REFERENCIAS'!$Q$6:$R$11,MATCH(AJ96,'OTRAS REFERENCIAS'!$R$6:$R$11,0),1))","v":""},null,null,null,{"$f":"IF(AN96=\"\",\"\",INDEX('OTRAS REFERENCIAS'!$T$6:$U$11,MATCH(AN96,'OTRAS REFERENCIAS'!$U$6:$U$11,0),1))","v":""}]
[1,"",95,"","",{"$f":"IF(L97<>\"\",CONCATENATE(DIGITADOR!$B$2,$A$2,DIGITADOR!$M$1,A97),\"\")","v":""},null,null,"",{"$f":"IF(K97=\"\",\"\",INDEX('OTRAS REFERENCIAS'!$AL:$AM,MATCH(K97,'OTRAS REFERENCIAS'!$AL:$AL,0),2))","v":""},null,{"$f":"IF(J97=\"\",\"\",INDEX(referentes!$S:$W,MATCH(J97,referentes!$S:$S,0),1))","v":""},null,null,null,null,null,null,null,{"$f":"IF(U97=\"\",\"\",INDEX('OTRAS REFERENCIAS'!$H$6:$I$11,MATCH(U97,'OTRAS REFERENCIAS'!$I$6:$I$11,0),1))","v":""},null,null,null,null,{"$f":"IF(Z97=\"\",\"\",INDEX('OTRAS REFERENCIAS'!$K$6:$L$11,MATCH(Z97,'OTRAS REFERENCIAS'!$L$6:$L$11,0),1))","v":""},null,null,null,null,{"$f":"IF(AE97=\"\",\"\",INDEX('OTRAS REFERENCIAS'!$N$6:$O$11,MATCH(AE97,'OTRAS REFERENCIAS'!$O$6:$O$11,0),1))","v":""},null,null,null,null,{"$f":"IF(AJ97=\"\",\"\",INDEX('OTRAS REFERENCIAS'!$Q$6:$R$11,MATCH(AJ97,'OTRAS REFERENCIAS'!$R$6:$R$11,0),1))","v":""},null,null,null,{"$f":"IF(AN97=\"\",\"\",INDEX('OTRAS REFERENCIAS'!$T$6:$U$11,MATCH(AN97,'OTRAS REFERENCIAS'!$U$6:$U$11,0),1))","v":""}]
[1,"",96,"","",{"$f":"IF(L98<>\"\",CONCATENATE(DIGITADOR!$B$2,$A$2,DIGITADOR!$M$1,A98),\"\")","v":""},null,null,"",{"$f":"IF(K98=\"\",\"\",INDEX('OTRAS REFERENCIAS'!$AL:$AM,MATCH(K98,'OTRAS REFERENCIAS'!$AL:$AL,0),2))","v":""},null,{"$f":"IF(J98=\"\",\"\",INDEX(referentes!$S:$W,MATCH(J98,referentes!$S:$S,0),1))","v":""},null,null,null,null,null,null,null,{"$f":"IF(U98=\"\",\"\",INDEX('OTRAS REFERENCIAS'!$H$6:$I$11,MATCH(U98,'OTRAS REFERENCIAS'!$I$6:$I$11,0),1))","v":""},null,null,null,null,{"$f":"IF(Z98=\"\",\"\",INDEX('OTRAS REFERENCIAS'!$K$6:$L$11,MATCH(Z98,'OTRAS REFERENCIAS'!$L$6:$L$11,0),1))","v":""},null,null,null,null,{"$f":"IF(AE98=\"\",\"\",INDEX('OTRAS REFERENCIAS'!$N$6:$O$11,MATCH(AE98,'OTRAS REFERENCIAS'!$O$6:$O$11,0),1))","v":""},null,null,null,null,{"$f":"IF(AJ98=\"\",\"\",INDEX('OTRAS REFERENCIAS'!$Q$6:$R$11,MATCH(AJ98,'OTRAS REFERENCIAS'!$R$6:$R$11,0),1))","v":""},null,null,null,{"$f":"IF(AN98=\"\",\"\",INDEX('OTRAS REFERENCIAS'!$T$6:$U$11,MATCH(AN98,'OTRAS REFERENCIAS'!$U$6:$U$11,0),1))","v":""}]
[1,"",97,"","",{"$f":"IF(L99<>\"\",CONCATENATE(DIGITADOR!$B$2,$A$2,DIGITADOR!$M$1,A99),\"\")","v":""},null,null,"",{"$f":"IF(K99=\"\",\"\",INDEX('OTRAS REFERENCIAS'!$AL:$AM,MATCH(K99,'OTRAS REFERENCIAS'!$AL:$AL,0),2))","v":""},null,{"$f":"IF(J99=\"\",\"\",INDEX(referentes!$S:$W,MATCH(J99,referentes!$S:$S,0),1))","v":""},null,null,null,null,null,null,null,{"$f":"IF(U99=\"\",\"\",INDEX('OTRAS REFERENCIAS'!$H$6:$I$11,MATCH(U99,'OTRAS REFERENCIAS'!$I$6:$I$11,0),1))","v":""},null,null,null,null,{"$f":"IF(Z99=\"\",\"\",INDEX('OTRAS REFERENCIAS'!$K$6:$L$11,MATCH(Z99,'OTRAS REFERENCIAS'!$L$6:$L$11,0),1))","v":""},null,null,null,null,{"$f":"IF(AE99=\"\",\"\",INDEX('OTRAS REFERENCIAS'!$N$6:$O$11,MATCH(AE99,'OTRAS REFERENCIAS'!$O$6:$O$11,0),1))","v":""},null,null,null,null,{"$f":"IF(AJ99=\"\",\"\",INDEX('OTRAS REFERENCIAS'!$Q$6:$R$11,MATCH(AJ99,'OTRAS REFERENCIAS'!$R$6:$R$11,0),1))","v":""},null,null,null,{"$f":"IF(AN99=\"\",\"\",INDEX('OTRAS REFERENCIAS'!$T$6:$U$11,MATCH(AN99,'OTRAS REFERENCIAS'!$U$6:$U$11,0),1))","v":""}]
[1,"",98,"","",{"$f":"IF(L100<>\"\",CONCATENATE(DIGITADOR!$B$2,$A$2,DIGITADOR!$M$1,A100),\"\")","v":""},null,null,"",{"$f":"IF(K100=\"\",\"\",INDEX('OTRAS REFERENCIAS'!$AL:$AM,MATCH(K100,'OTRAS REFERENCIAS'!$AL:$AL,0),2))","v":""},null,{"$f":"IF(J100=\"\",\"\",INDEX(referentes!$S:$W,MATCH(J100,referentes!$S:$S,0),1))","v":""},null,null,null,null,null,null,null,{"$f":"IF(U100=\"\",\"\",INDEX('OTRAS REFERENCIAS'!$H$6:$I$11,MATCH(U100,'OTRAS REFERENCIAS'!$I$6:$I$11,0),1))","v":""},null,null,null,null,{"$f":"IF(Z100=\"\",\"\",INDEX('OTRAS REFERENCIAS'!$K$6:$L$11,MATCH(Z100,'OTRAS REFERENCIAS'!$L$6:$L$11,0),1))","v":""},null,null,null,null,{"$f":"IF(AE100=\"\",\"\",INDEX('OTRAS REFERENCIAS'!$N$6:$O$11,MATCH(AE100,'OTRAS REFERENCIAS'!$O$6:$O$11,0),1))","v":""},null,null,null,null,{"$f":"IF(AJ100=\"\",\"\",INDEX('OTRAS REFERENCIAS'!$Q$6:$R$11,MATCH(AJ100,'OTRAS REFERENCIAS'!$R$6:$R$11,0),1))","v":""},null,null,null,{"$f":"IF(AN100=\"\",\"\",INDEX('OTRAS REFERENCIAS'!$T$6:$U$11,MATCH(AN100,'OTRAS REFERENCIAS'!$U$6:$U$11,0),1))","v":""}]
[1,"",99,"","",{"$f":"IF(L101<>\"\",CONCATENATE(DIGITADOR!$B$2,$A$2,DIGITADOR!$M$1,A101),\"\")","v":""},null,null,"",{"$f":"IF(K101=\"\",\"\",INDEX('OTRAS REFERENCIAS'!$AL:$AM,MATCH(K101,'OTRAS REFERENCIAS'!$AL:$AL,0),2))","v":""},null,{"$f":"IF(J101=\"\",\"\",INDEX(referentes!$S:$W,MATCH(J101,referentes!$S:$S,0),1))","v":""},null,null,null,null,null,null,null,{"$f":"IF(U101=\"\",\"\",INDEX('OTRAS REFERENCIAS'!$H$6:$I$11,MATCH(U101,'OTRAS REFERENCIAS'!$I$6:$I$11,0),1))","v":""},null,null,null,null,{"$f":"IF(Z101=\"\",\"\",INDEX('OTRAS REFERENCIAS'!$K$6:$L$11,MATCH(Z101,'OTRAS REFERENCIAS'!$L$6:$L$11,0),1))","v":""},null,null,null,null,{"$f":"IF(AE101=\"\",\"\",INDEX('OTRAS REFERENCIAS'!$N$6:$O$11,MATCH(AE101,'OTRAS REFERENCIAS'!$O$6:$O$11,0),1))","v":""},null,null,null,null,{"$f":"IF(AJ101=\"\",\"\",INDEX('OTRAS REFERENCIAS'!$Q$6:$R$11,MATCH(AJ101,'OTRAS REFERENCIAS'!$R$6:$R$11,0),1))","v":""},null,null,null,{"$f":"IF(AN101=\"\",\"\",INDEX('OTRAS REFERENCIAS'!$T$6:$U$11,MATCH(AN101,'OTRAS REFERENCIAS'!$U$6:$U$11,0),1))","v":""}]
[1,"",100,"","",{"$f":"IF(L102<>\"\",CONCATENATE(DIGITADOR!$B$2,$A$2,DIGITADOR!$M$1,A102),\"\")","v":""},null,null,"",{"$f":"IF(K102=\"\",\"\",INDEX('OTRAS REFERENCIAS'!$AL:$AM,MATCH(K102,'OTRAS REFERENCIAS'!$AL:$AL,0),2))","v":""},null,{"$f":"IF(J102=\"\",\"\",INDEX(referentes!$S:$W,MATCH(J102,referentes!$S:$S,0),1))","v":""},null,null,null,null,null,null,null,{"$f":"IF(U102=\"\",\"\",INDEX('OTRAS REFERENCIAS'!$H$6:$I$11,MATCH(U102,'OTRAS REFERENCIAS'!$I$6:$I$11,0),1))","v":""},null,null,null,null,{"$f":"IF(Z102=\"\",\"\",INDEX('OTRAS REFERENCIAS'!$K$6:$L$11,MATCH(Z102,'OTRAS REFERENCIAS'!$L$6:$L$11,0),1))","v":""},null,null,null,null,{"$f":"IF(AE102=\"\",\"\",INDEX('OTRAS REFERENCIAS'!$N$6:$O$11,MATCH(AE102,'OTRAS REFERENCIAS'!$O$6:$O$11,0),1))","v":""},null,null,null,null,{"$f":"IF(AJ102=\"\",\"\",INDEX('OTRAS REFERENCIAS'!$Q$6:$R$11,MATCH(AJ102,'OTRAS REFERENCIAS'!$R$6:$R$11,0),1))","v":""},null,null,null,{"$f":"IF(AN102=\"\",\"\",INDEX('OTRAS REFERENCIAS'!$T$6:$U$11,MATCH(AN102,'OTRAS REFERENCIAS'!$U$6:$U$11,0),1))","v":""}]
[1,"",101,"","",{"$f":"IF(L103<>\"\",CONCATENATE(DIGITADOR!$B$2,$A$2,DIGITADOR!$M$1,A103),\"\")","v":""},null,null,"",{"$f":"IF(K103=\"\",\"\",INDEX('OTRAS REFERENCIAS'!$AL:$AM,MATCH(K103,'OTRAS REFERENCIAS'!$AL:$AL,0),2))","v":""},null,{"$f":"IF(J103=\"\",\"\",INDEX(referentes!$S:$W,MATCH(J103,referentes!$S:$S,0),1))","v":""},null,null,null,null,null,null,null,{"$f":"IF(U103=\"\",\"\",INDEX('OTRAS REFERENCIAS'!$H$6:$I$11,MATCH(U103,'OTRAS REFERENCIAS'!$I$6:$I$11,0),1))","v":""},null,null,null,null,{"$f":"IF(Z103=\"\",\"\",INDEX('OTRAS REFERENCIAS'!$K$6:$L$11,MATCH(Z103,'OTRAS REFERENCIAS'!$L$6:$L$11,0),1))","v":""},null,null,null,null,{"$f":"IF(AE103=\"\",\"\",INDEX('OTRAS REFERENCIAS'!$N$6:$O$11,MATCH(AE103,'OTRAS REFERENCIAS'!$O$6:$O$11,0),1))","v":""},null,null,null,null,{"$f":"IF(AJ103=\"\",\"\",INDEX('OTRAS REFERENCIAS'!$Q$6:$R$11,MATCH(AJ103,'OTRAS REFERENCIAS'!$R$6:$R$11,0),1))","v":""},null,null,null,{"$f":"IF(AN103=\"\",\"\",INDEX('OTRAS REFERENCIAS'!$T$6:$U$11,MATCH(AN103,'OTRAS REFERENCIAS'!$U$6:$U$11,0),1))","v":""}]
[1,"",102,"","",{"$f":"IF(L104<>\"\",CONCATENATE(DIGITADOR!$B$2,$A$2,DIGITADOR!$M$1,A104),\"\")","v":""},null,null,"",{"$f":"IF(K104=\"\",\"\",INDEX('OTRAS REFERENCIAS'!$AL:$AM,MATCH(K104,'OTRAS REFERENCIAS'!$AL:$AL,0),2))","v":""},null,{"$f":"IF(J104=\"\",\"\",INDEX(referentes!$S:$W,MATCH(J104,referentes!$S:$S,0),1))","v":""},null,null,null,null,null,null,null,{"$f":"IF(U104=\"\",\"\",INDEX('OTRAS REFERENCIAS'!$H$6:$I$11,MATCH(U104,'OTRAS REFERENCIAS'!$I$6:$I$11,0),1))","v":""},null,null,null,null,{"$f":"IF(Z104=\"\",\"\",INDEX('OTRAS REFERENCIAS'!$K$6:$L$11,MATCH(Z104,'OTRAS REFERENCIAS'!$L$6:$L$11,0),1))","v":""},null,null,null,null,{"$f":"IF(AE104=\"\",\"\",INDEX('OTRAS REFERENCIAS'!$N$6:$O$11,MATCH(AE104,'OTRAS REFERENCIAS'!$O$6:$O$11,0),1))","v":""},null,null,null,null,{"$f":"IF(AJ104=\"\",\"\",INDEX('OTRAS REFERENCIAS'!$Q$6:$R$11,MATCH(AJ104,'OTRAS REFERENCIAS'!$R$6:$R$11,0),1))","v":""},null,null,null,{"$f":"IF(AN104=\"\",\"\",INDEX('OTRAS REFERENCIAS'!$T$6:$U$11,MATCH(AN104,'OTRAS REFERENCIAS'!$U$6:$U$11,0),1))","v":""}]
[1,"",103,"","",{"$f":"IF(L105<>\"\",CONCATENATE(DIGITADOR!$B$2,$A$2,DIGITADOR!$M$1,A105),\"\")","v":""},null,null,"",{"$f":"IF(K105=\"\",\"\",INDEX('OTRAS REFERENCIAS'!$AL:$AM,MATCH(K105,'OTRAS REFERENCIAS'!$AL:$AL,0),2))","v":""},null,{"$f":"IF(J105=\"\",\"\",INDEX(referentes!$S:$W,MATCH(J105,referentes!$S:$S,0),1))","v":""},null,null,null,null,null,null,null,{"$f":"IF(U105=\"\",\"\",INDEX('OTRAS REFERENCIAS'!$H$6:$I$11,MATCH(U105,'OTRAS REFERENCIAS'!$I$6:$I$11,0),1))","v":""},null,null,null,null,{"$f":"IF(Z105=\"\",\"\",INDEX('OTRAS REFERENCIAS'!$K$6:$L$11,MATCH(Z105,'OTRAS REFERENCIAS'!$L$6:$L$11,0),1))","v":""},null,null,null,null,{"$f":"IF(AE105=\"\",\"\",INDEX('OTRAS REFERENCIAS'!$N$6:$O$11,MATCH(AE105,'OTRAS REFERENCIAS'!$O$6:$O$11,0),1))","v":""},null,null,null,null,{"$f":"IF(AJ105=\"\",\"\",INDEX('OTRAS REFERENCIAS'!$Q$6:$R$11,MATCH(AJ105,'OTRAS REFERENCIAS'!$R$6:$R$11,0),1))","v":""},null,null,null,{"$f":"IF(AN105=\"\",\"\",INDEX('OTRAS REFERENCIAS'!$T$6:$U$11,MATCH(AN105,'OTRAS REFERENCIAS'!$U$6:$U$11,0),1))","v":""}]
[1,"",104,"","",{"$f":"IF(L106<>\"\",CONCATENATE(DIGITADOR!$B$2,$A$2,DIGITADOR!$M$1,A106),\"\")","v":""},null,null,"",{"$f":"IF(K106=\"\",\"\",INDEX('OTRAS REFERENCIAS'!$AL:$AM,MATCH(K106,'OTRAS REFERENCIAS'!$AL:$AL,0),2))","v":""},null,{"$f":"IF(J106=\"\",\"\",INDEX(referentes!$S:$W,MATCH(J106,referentes!$S:$S,0),1))","v":""},null,null,null,null,null,null,null,{"$f":"IF(U106=\"\",\"\",INDEX('OTRAS REFERENCIAS'!$H$6:$I$11,MATCH(U106,'OTRAS REFERENCIAS'!$I$6:$I$11,0),1))","v":""},null,null,null,null,{"$f":"IF(Z106=\"\",\"\",INDEX('OTRAS REFERENCIAS'!$K$6:$L$11,MATCH(Z106,'OTRAS REFERENCIAS'!$L$6:$L$11,0),1))","v":""},null,null,null,null,{"$f":"IF(AE106=\"\",\"\",INDEX('OTRAS REFERENCIAS'!$N$6:$O$11,MATCH(AE106,'OTRAS REFERENCIAS'!$O$6:$O$11,0),1))","v":""},null,null,null,null,{"$f":"IF(AJ106=\"\",\"\",INDEX('OTRAS REFERENCIAS'!$Q$6:$R$11,MATCH(AJ106,'OTRAS REFERENCIAS'!$R$6:$R$11,0),1))","v":""},null,null,null,{"$f":"IF(AN106=\"\",\"\",INDEX('OTRAS REFERENCIAS'!$T$6:$U$11,MATCH(AN106,'OTRAS REFERENCIAS'!$U$6:$U$11,0),1))","v":""}]
[1,"",105,"","",{"$f":"IF(L107<>\"\",CONCATENATE(DIGITADOR!$B$2,$A$2,DIGITADOR!$M$1,A107),\"\")","v":""},null,null,"",{"$f":"IF(K107=\"\",\"\",INDEX('OTRAS REFERENCIAS'!$AL:$AM,MATCH(K107,'OTRAS REFERENCIAS'!$AL:$AL,0),2))","v":""},null,{"$f":"IF(J107=\"\",\"\",INDEX(referentes!$S:$W,MATCH(J107,referentes!$S:$S,0),1))","v":""},null,null,null,null,null,null,null,{"$f":"IF(U107=\"\",\"\",INDEX('OTRAS REFERENCIAS'!$H$6:$I$11,MATCH(U107,'OTRAS REFERENCIAS'!$I$6:$I$11,0),1))","v":""},null,null,null,null,{"$f":"IF(Z107=\"\",\"\",INDEX('OTRAS REFERENCIAS'!$K$6:$L$11,MATCH(Z107,'OTRAS REFERENCIAS'!$L$6:$L$11,0),1))","v":""},null,null,null,null,{"$f":"IF(AE107=\"\",\"\",INDEX('OTRAS REFERENCIAS'!$N$6:$O$11,MATCH(AE107,'OTRAS REFERENCIAS'!$O$6:$O$11,0),1))","v":""},null,null,null,null,{"$f":"IF(AJ107=\"\",\"\",INDEX('OTRAS REFERENCIAS'!$Q$6:$R$11,MATCH(AJ107,'OTRAS REFERENCIAS'!$R$6:$R$11,0),1))","v":""},null,null,null,{"$f":"IF(AN107=\"\",\"\",INDEX('OTRAS REFERENCIAS'!$T$6:$U$11,MATCH(AN107,'OTRAS REFERENCIAS'!$U$6:$U$11,0),1))","v":""}]
[1,"",106,"","",{"$f":"IF(L108<>\"\",CONCATENATE(DIGITADOR!$B$2,$A$2,DIGITADOR!$M$1,A108),\"\")","v":""},null,null,"",{"$f":"IF(K108=\"\",\"\",INDEX('OTRAS REFERENCIAS'!$AL:$AM,MATCH(K108,'OTRAS REFERENCIAS'!$AL:$AL,0),2))","v":""},null,{"$f":"IF(J108=\"\",\"\",INDEX(referentes!$S:$W,MATCH(J108,referentes!$S:$S,0),1))","v":""},null,null,null,null,null,null,null,{"$f":"IF(U108=\"\",\"\",INDEX('OTRAS REFERENCIAS'!$H$6:$I$11,MATCH(U108,'OTRAS REFERENCIAS'!$I$6:$I$11,0),1))","v":""},null,null,null,null,{"$f":"IF(Z108=\"\",\"\",INDEX('OTRAS REFERENCIAS'!$K$6:$L$11,MATCH(Z108,'OTRAS REFERENCIAS'!$L$6:$L$11,0),1))","v":""},null,null,null,null,{"$f":"IF(AE108=\"\",\"\",INDEX('OTRAS REFERENCIAS'!$N$6:$O$11,MATCH(AE108,'OTRAS REFERENCIAS'!$O$6:$O$11,0),1))","v":""},null,null,null,null,{"$f":"IF(AJ108=\"\",\"\",INDEX('OTRAS REFERENCIAS'!$Q$6:$R$11,MATCH(AJ108,'OTRAS REFERENCIAS'!$R$6:$R$11,0),1))","v":""},null,null,null,{"$f":"IF(AN108=\"\",\"\",INDEX('OTRAS REFERENCIAS'!$T$6:$U$11,MATCH(AN108,'OTRAS REFERENCIAS'!$U$6:$U$11,0),1))","v":""}]
[1,"",107,"","",{"$f":"IF(L109<>\"\",CONCATENATE(DIGITADOR!$B$2,$A$2,DIGITADOR!$M$1,A109),\"\")","v":""},null,null,"",{"$f":"IF(K109=\"\",\"\",INDEX('OTRAS REFERENCIAS'!$AL:$AM,MATCH(K109,'OTRAS REFERENCIAS'!$AL:$AL,0),2))","v":""},null,{"$f":"IF(J109=\"\",\"\",INDEX(referentes!$S:$W,MATCH(J109,referentes!$S:$S,0),1))","v":""},null,null,null,null,null,null,null,{"$f":"IF(U109=\"\",\"\",INDEX('OTRAS REFERENCIAS'!$H$6:$I$11,MATCH(U109,'OTRAS REFERENCIAS'!$I$6:$I$11,0),1))","v":""},null,null,null,null,{"$f":"IF(Z109=\"\",\"\",INDEX('OTRAS REFERENCIAS'!$K$6:$L$11,MATCH(Z109,'OTRAS REFERENCIAS'!$L$6:$L$11,0),1))","v":""},null,null,null,null,{"$f":"IF(AE109=\"\",\"\",INDEX('OTRAS REFERENCIAS'!$N$6:$O$11,MATCH(AE109,'OTRAS REFERENCIAS'!$O$6:$O$11,0),1))","v":""},null,null,null,null,{"$f":"IF(AJ109=\"\",\"\",INDEX('OTRAS REFERENCIAS'!$Q$6:$R$11,MATCH(AJ109,'OTRAS REFERENCIAS'!$R$6:$R$11,0),1))","v":""},null,null,null,{"$f":"IF(AN109=\"\",\"\",INDEX('OTRAS REFERENCIAS'!$T$6:$U$11,MATCH(AN109,'OTRAS REFERENCIAS'!$U$6:$U$11,0),1))","v":""}]
[1,"",108,"","",{"$f":"IF(L110<>\"\",CONCATENATE(DIGITADOR!$B$2,$A$2,DIGITADOR!$M$1,A110),\"\")","v":""},null,null,"",{"$f":"IF(K110=\"\",\"\",INDEX('OTRAS REFERENCIAS'!$AL:$AM,MATCH(K110,'OTRAS REFERENCIAS'!$AL:$AL,0),2))","v":""},null,{"$f":"IF(J110=\"\",\"\",INDEX(referentes!$S:$W,MATCH(J110,referentes!$S:$S,0),1))","v":""},null,null,null,null,null,null,null,{"$f":"IF(U110=\"\",\"\",INDEX('OTRAS REFERENCIAS'!$H$6:$I$11,MATCH(U110,'OTRAS REFERENCIAS'!$I$6:$I$11,0),1))","v":""},null,null,null,null,{"$f":"IF(Z110=\"\",\"\",INDEX('OTRAS REFERENCIAS'!$K$6:$L$11,MATCH(Z110,'OTRAS REFERENCIAS'!$L$6:$L$11,0),1))","v":""},null,null,null,null,{"$f":"IF(AE110=\"\",\"\",INDEX('OTRAS REFERENCIAS'!$N$6:$O$11,MATCH(AE110,'OTRAS REFERENCIAS'!$O$6:$O$11,0),1))","v":""},null,null,null,null,{"$f":"IF(AJ110=\"\",\"\",INDEX('OTRAS REFERENCIAS'!$Q$6:$R$11,MATCH(AJ110,'OTRAS REFERENCIAS'!$R$6:$R$11,0),1))","v":""},null,null,null,{"$f":"IF(AN110=\"\",\"\",INDEX('OTRAS REFERENCIAS'!$T$6:$U$11,MATCH(AN110,'OTRAS REFERENCIAS'!$U$6:$U$11,0),1))","v":""}]
[1,"",109,"","",{"$f":"IF(L111<>\"\",CONCATENATE(DIGITADOR!$B$2,$A$2,DIGITADOR!$M$1,A111),\"\")","v":""},null,null,"",{"$f":"IF(K111=\"\",\"\",INDEX('OTRAS REFERENCIAS'!$AL:$AM,MATCH(K111,'OTRAS REFERENCIAS'!$AL:$AL,0),2))","v":""},null,{"$f":"IF(J111=\"\",\"\",INDEX(referentes!$S:$W,MATCH(J111,referentes!$S:$S,0),1))","v":""},null,null,null,null,null,null,null,{"$f":"IF(U111=\"\",\"\",INDEX('OTRAS REFERENCIAS'!$H$6:$I$11,MATCH(U111,'OTRAS REFERENCIAS'!$I$6:$I$11,0),1))","v":""},null,null,null,null,{"$f":"IF(Z111=\"\",\"\",INDEX('OTRAS REFERENCIAS'!$K$6:$L$11,MATCH(Z111,'OTRAS REFERENCIAS'!$L$6:$L$11,0),1))","v":""},null,null,null,null,{"$f":"IF(AE111=\"\",\"\",INDEX('OTRAS REFERENCIAS'!$N$6:$O$11,MATCH(AE111,'OTRAS REFERENCIAS'!$O$6:$O$11,0),1))","v":""},null,null,null,null,{"$f":"IF(AJ111=\"\",\"\",INDEX('OTRAS REFERENCIAS'!$Q$6:$R$11,MATCH(AJ111,'OTRAS REFERENCIAS'!$R$6:$R$11,0),1))","v":""},null,null,null,{"$f":"IF(AN111=\"\",\"\",INDEX('OTRAS REFERENCIAS'!$T$6:$U$11,MATCH(AN111,'OTRAS REFERENCIAS'!$U$6:$U$11,0),1))","v":""}]
[1,"",110,"","",{"$f":"IF(L112<>\"\",CONCATENATE(DIGITADOR!$B$2,$A$2,DIGITADOR!$M$1,A112),\"\")","v":""},null,null,"",{"$f":"IF(K112=\"\",\"\",INDEX('OTRAS REFERENCIAS'!$AL:$AM,MATCH(K112,'OTRAS REFERENCIAS'!$AL:$AL,0),2))","v":""},null,{"$f":"IF(J112=\"\",\"\",INDEX(referentes!$S:$W,MATCH(J112,referentes!$S:$S,0),1))","v":""},null,null,null,null,null,null,null,{"$f":"IF(U112=\"\",\"\",INDEX('OTRAS REFERENCIAS'!$H$6:$I$11,MATCH(U112,'OTRAS REFERENCIAS'!$I$6:$I$11,0),1))","v":""},null,null,null,null,{"$f":"IF(Z112=\"\",\"\",INDEX('OTRAS REFERENCIAS'!$K$6:$L$11,MATCH(Z112,'OTRAS REFERENCIAS'!$L$6:$L$11,0),1))","v":""},null,null,null,null,{"$f":"IF(AE112=\"\",\"\",INDEX('OTRAS REFERENCIAS'!$N$6:$O$11,MATCH(AE112,'OTRAS REFERENCIAS'!$O$6:$O$11,0),1))","v":""},null,null,null,null,{"$f":"IF(AJ112=\"\",\"\",INDEX('OTRAS REFERENCIAS'!$Q$6:$R$11,MATCH(AJ112,'OTRAS REFERENCIAS'!$R$6:$R$11,0),1))","v":""},null,null,null,{"$f":"IF(AN112=\"\",\"\",INDEX('OTRAS REFERENCIAS'!$T$6:$U$11,MATCH(AN112,'OTRAS REFERENCIAS'!$U$6:$U$11,0),1))","v":""}]
[1,"",111,"","",{"$f":"IF(L113<>\"\",CONCATENATE(DIGITADOR!$B$2,$A$2,DIGITADOR!$M$1,A113),\"\")","v":""},null,null,"",{"$f":"IF(K113=\"\",\"\",INDEX('OTRAS REFERENCIAS'!$AL:$AM,MATCH(K113,'OTRAS REFERENCIAS'!$AL:$AL,0),2))","v":""},null,{"$f":"IF(J113=\"\",\"\",INDEX(referentes!$S:$W,MATCH(J113,referentes!$S:$S,0),1))","v":""},null,null,null,null,null,null,null,{"$f":"IF(U113=\"\",\"\",INDEX('OTRAS REFERENCIAS'!$H$6:$I$11,MATCH(U113,'OTRAS REFERENCIAS'!$I$6:$I$11,0),1))","v":""},null,null,null,null,{"$f":"IF(Z113=\"\",\"\",INDEX('OTRAS REFERENCIAS'!$K$6:$L$11,MATCH(Z113,'OTRAS REFERENCIAS'!$L$6:$L$11,0),1))","v":""},null,null,null,null,{"$f":"IF(AE113=\"\",\"\",INDEX('OTRAS REFERENCIAS'!$N$6:$O$11,MATCH(AE113,'OTRAS REFERENCIAS'!$O$6:$O$11,0),1))","v":""},null,null,null,null,{"$f":"IF(AJ113=\"\",\"\",INDEX('OTRAS REFERENCIAS'!$Q$6:$R$11,MATCH(AJ113,'OTRAS REFERENCIAS'!$R$6:$R$11,0),1))","v":""},null,null,null,{"$f":"IF(AN113=\"\",\"\",INDEX('OTRAS REFERENCIAS'!$T$6:$U$11,MATCH(AN113,'OTRAS REFERENCIAS'!$U$6:$U$11,0),1))","v":""}]
[1,"",112,"","",{"$f":"IF(L114<>\"\",CONCATENATE(DIGITADOR!$B$2,$A$2,DIGITADOR!$M$1,A114),\"\")","v":""},null,null,"",{"$f":"IF(K114=\"\",\"\",INDEX('OTRAS REFERENCIAS'!$AL:$AM,MATCH(K114,'OTRAS REFERENCIAS'!$AL:$AL,0),2))","v":""},null,{"$f":"IF(J114=\"\",\"\",INDEX(referentes!$S:$W,MATCH(J114,referentes!$S:$S,0),1))","v":""},null,null,null,null,null,null,null,{"$f":"IF(U114=\"\",\"\",INDEX('OTRAS REFERENCIAS'!$H$6:$I$11,MATCH(U114,'OTRAS REFERENCIAS'!$I$6:$I$11,0),1))","v":""},null,null,null,null,{"$f":"IF(Z114=\"\",\"\",INDEX('OTRAS REFERENCIAS'!$K$6:$L$11,MATCH(Z114,'OTRAS REFERENCIAS'!$L$6:$L$11,0),1))","v":""},null,null,null,null,{"$f":"IF(AE114=\"\",\"\",INDEX('OTRAS REFERENCIAS'!$N$6:$O$11,MATCH(AE114,'OTRAS REFERENCIAS'!$O$6:$O$11,0),1))","v":""},null,null,null,null,{"$f":"IF(AJ114=\"\",\"\",INDEX('OTRAS REFERENCIAS'!$Q$6:$R$11,MATCH(AJ114,'OTRAS REFERENCIAS'!$R$6:$R$11,0),1))","v":""},null,null,null,{"$f":"IF(AN114=\"\",\"\",INDEX('OTRAS REFERENCIAS'!$T$6:$U$11,MATCH(AN114,'OTRAS REFERENCIAS'!$U$6:$U$11,0),1))","v":""}]
[1,"",113,"","",{"$f":"IF(L115<>\"\",CONCATENATE(DIGITADOR!$B$2,$A$2,DIGITADOR!$M$1,A115),\"\")","v":""},null,null,"",{"$f":"IF(K115=\"\",\"\",INDEX('OTRAS REFERENCIAS'!$AL:$AM,MATCH(K115,'OTRAS REFERENCIAS'!$AL:$AL,0),2))","v":""},null,{"$f":"IF(J115=\"\",\"\",INDEX(referentes!$S:$W,MATCH(J115,referentes!$S:$S,0),1))","v":""},null,null,null,null,null,null,null,{"$f":"IF(U115=\"\",\"\",INDEX('OTRAS REFERENCIAS'!$H$6:$I$11,MATCH(U115,'OTRAS REFERENCIAS'!$I$6:$I$11,0),1))","v":""},null,null,null,null,{"$f":"IF(Z115=\"\",\"\",INDEX('OTRAS REFERENCIAS'!$K$6:$L$11,MATCH(Z115,'OTRAS REFERENCIAS'!$L$6:$L$11,0),1))","v":""},null,null,null,null,{"$f":"IF(AE115=\"\",\"\",INDEX('OTRAS REFERENCIAS'!$N$6:$O$11,MATCH(AE115,'OTRAS REFERENCIAS'!$O$6:$O$11,0),1))","v":""},null,null,null,null,{"$f":"IF(AJ115=\"\",\"\",INDEX('OTRAS REFERENCIAS'!$Q$6:$R$11,MATCH(AJ115,'OTRAS REFERENCIAS'!$R$6:$R$11,0),1))","v":""},null,null,null,{"$f":"IF(AN115=\"\",\"\",INDEX('OTRAS REFERENCIAS'!$T$6:$U$11,MATCH(AN115,'OTRAS REFERENCIAS'!$U$6:$U$11,0),1))","v":""}]
[1,"",114,"","",{"$f":"IF(L116<>\"\",CONCATENATE(DIGITADOR!$B$2,$A$2,DIGITADOR!$M$1,A116),\"\")","v":""},null,null,"",{"$f":"IF(K116=\"\",\"\",INDEX('OTRAS REFERENCIAS'!$AL:$AM,MATCH(K116,'OTRAS REFERENCIAS'!$AL:$AL,0),2))","v":""},null,{"$f":"IF(J116=\"\",\"\",INDEX(referentes!$S:$W,MATCH(J116,referentes!$S:$S,0),1))","v":""},null,null,null,null,null,null,null,{"$f":"IF(U116=\"\",\"\",INDEX('OTRAS REFERENCIAS'!$H$6:$I$11,MATCH(U116,'OTRAS REFERENCIAS'!$I$6:$I$11,0),1))","v":""},null,null,null,null,{"$f":"IF(Z116=\"\",\"\",INDEX('OTRAS REFERENCIAS'!$K$6:$L$11,MATCH(Z116,'OTRAS REFERENCIAS'!$L$6:$L$11,0),1))","v":""},null,null,null,null,{"$f":"IF(AE116=\"\",\"\",INDEX('OTRAS REFERENCIAS'!$N$6:$O$11,MATCH(AE116,'OTRAS REFERENCIAS'!$O$6:$O$11,0),1))","v":""},null,null,null,null,{"$f":"IF(AJ116=\"\",\"\",INDEX('OTRAS REFERENCIAS'!$Q$6:$R$11,MATCH(AJ116,'OTRAS REFERENCIAS'!$R$6:$R$11,0),1))","v":""},null,null,null,{"$f":"IF(AN116=\"\",\"\",INDEX('OTRAS REFERENCIAS'!$T$6:$U$11,MATCH(AN116,'OTRAS REFERENCIAS'!$U$6:$U$11,0),1))","v":""}]
[1,"",115,"","",{"$f":"IF(L117<>\"\",CONCATENATE(DIGITADOR!$B$2,$A$2,DIGITADOR!$M$1,A117),\"\")","v":""},null,null,"",{"$f":"IF(K117=\"\",\"\",INDEX('OTRAS REFERENCIAS'!$AL:$AM,MATCH(K117,'OTRAS REFERENCIAS'!$AL:$AL,0),2))","v":""},null,{"$f":"IF(J117=\"\",\"\",INDEX(referentes!$S:$W,MATCH(J117,referentes!$S:$S,0),1))","v":""},null,null,null,null,null,null,null,{"$f":"IF(U117=\"\",\"\",INDEX('OTRAS REFERENCIAS'!$H$6:$I$11,MATCH(U117,'OTRAS REFERENCIAS'!$I$6:$I$11,0),1))","v":""},null,null,null,null,{"$f":"IF(Z117=\"\",\"\",INDEX('OTRAS REFERENCIAS'!$K$6:$L$11,MATCH(Z117,'OTRAS REFERENCIAS'!$L$6:$L$11,0),1))","v":""},null,null,null,null,{"$f":"IF(AE117=\"\",\"\",INDEX('OTRAS REFERENCIAS'!$N$6:$O$11,MATCH(AE117,'OTRAS REFERENCIAS'!$O$6:$O$11,0),1))","v":""},null,null,null,null,{"$f":"IF(AJ117=\"\",\"\",INDEX('OTRAS REFERENCIAS'!$Q$6:$R$11,MATCH(AJ117,'OTRAS REFERENCIAS'!$R$6:$R$11,0),1))","v":""},null,null,null,{"$f":"IF(AN117=\"\",\"\",INDEX('OTRAS REFERENCIAS'!$T$6:$U$11,MATCH(AN117,'OTRAS REFERENCIAS'!$U$6:$U$11,0),1))","v":""}]
[1,"",116,"","",{"$f":"IF(L118<>\"\",CONCATENATE(DIGITADOR!$B$2,$A$2,DIGITADOR!$M$1,A118),\"\")","v":""},null,null,"",{"$f":"IF(K118=\"\",\"\",INDEX('OTRAS REFERENCIAS'!$AL:$AM,MATCH(K118,'OTRAS REFERENCIAS'!$AL:$AL,0),2))","v":""},null,{"$f":"IF(J118=\"\",\"\",INDEX(referentes!$S:$W,MATCH(J118,referentes!$S:$S,0),1))","v":""},null,null,null,null,null,null,null,{"$f":"IF(U118=\"\",\"\",INDEX('OTRAS REFERENCIAS'!$H$6:$I$11,MATCH(U118,'OTRAS REFERENCIAS'!$I$6:$I$11,0),1))","v":""},null,null,null,null,{"$f":"IF(Z118=\"\",\"\",INDEX('OTRAS REFERENCIAS'!$K$6:$L$11,MATCH(Z118,'OTRAS REFERENCIAS'!$L$6:$L$11,0),1))","v":""},null,null,null,null,{"$f":"IF(AE118=\"\",\"\",INDEX('OTRAS REFERENCIAS'!$N$6:$O$11,MATCH(AE118,'OTRAS REFERENCIAS'!$O$6:$O$11,0),1))","v":""},null,null,null,null,{"$f":"IF(AJ118=\"\",\"\",INDEX('OTRAS REFERENCIAS'!$Q$6:$R$11,MATCH(AJ118,'OTRAS REFERENCIAS'!$R$6:$R$11,0),1))","v":""},null,null,null,{"$f":"IF(AN118=\"\",\"\",INDEX('OTRAS REFERENCIAS'!$T$6:$U$11,MATCH(AN118,'OTRAS REFERENCIAS'!$U$6:$U$11,0),1))","v":""}]
[1,"",117,"","",{"$f":"IF(L119<>\"\",CONCATENATE(DIGITADOR!$B$2,$A$2,DIGITADOR!$M$1,A119),\"\")","v":""},null,null,"",{"$f":"IF(K119=\"\",\"\",INDEX('OTRAS REFERENCIAS'!$AL:$AM,MATCH(K119,'OTRAS REFERENCIAS'!$AL:$AL,0),2))","v":""},null,{"$f":"IF(J119=\"\",\"\",INDEX(referentes!$S:$W,MATCH(J119,referentes!$S:$S,0),1))","v":""},null,null,null,null,null,null,null,{"$f":"IF(U119=\"\",\"\",INDEX('OTRAS REFERENCIAS'!$H$6:$I$11,MATCH(U119,'OTRAS REFERENCIAS'!$I$6:$I$11,0),1))","v":""},null,null,null,null,{"$f":"IF(Z119=\"\",\"\",INDEX('OTRAS REFERENCIAS'!$K$6:$L$11,MATCH(Z119,'OTRAS REFERENCIAS'!$L$6:$L$11,0),1))","v":""},null,null,null,null,{"$f":"IF(AE119=\"\",\"\",INDEX('OTRAS REFERENCIAS'!$N$6:$O$11,MATCH(AE119,'OTRAS REFERENCIAS'!$O$6:$O$11,0),1))","v":""},null,null,null,null,{"$f":"IF(AJ119=\"\",\"\",INDEX('OTRAS REFERENCIAS'!$Q$6:$R$11,MATCH(AJ119,'OTRAS REFERENCIAS'!$R$6:$R$11,0),1))","v":""},null,null,null,{"$f":"IF(AN119=\"\",\"\",INDEX('OTRAS REFERENCIAS'!$T$6:$U$11,MATCH(AN119,'OTRAS REFERENCIAS'!$U$6:$U$11,0),1))","v":""}]
[1,"",118,"","",{"$f":"IF(L120<>\"\",CONCATENATE(DIGITADOR!$B$2,$A$2,DIGITADOR!$M$1,A120),\"\")","v":""},null,null,"",{"$f":"IF(K120=\"\",\"\",INDEX('OTRAS REFERENCIAS'!$AL:$AM,MATCH(K120,'OTRAS REFERENCIAS'!$AL:$AL,0),2))","v":""},null,{"$f":"IF(J120=\"\",\"\",INDEX(referentes!$S:$W,MATCH(J120,referentes!$S:$S,0),1))","v":""},null,null,null,null,null,null,null,{"$f":"IF(U120=\"\",\"\",INDEX('OTRAS REFERENCIAS'!$H$6:$I$11,MATCH(U120,'OTRAS REFERENCIAS'!$I$6:$I$11,0),1))","v":""},null,null,null,null,{"$f":"IF(Z120=\"\",\"\",INDEX('OTRAS REFERENCIAS'!$K$6:$L$11,MATCH(Z120,'OTRAS REFERENCIAS'!$L$6:$L$11,0),1))","v":""},null,null,null,null,{"$f":"IF(AE120=\"\",\"\",INDEX('OTRAS REFERENCIAS'!$N$6:$O$11,MATCH(AE120,'OTRAS REFERENCIAS'!$O$6:$O$11,0),1))","v":""},null,null,null,null,{"$f":"IF(AJ120=\"\",\"\",INDEX('OTRAS REFERENCIAS'!$Q$6:$R$11,MATCH(AJ120,'OTRAS REFERENCIAS'!$R$6:$R$11,0),1))","v":""},null,null,null,{"$f":"IF(AN120=\"\",\"\",INDEX('OTRAS REFERENCIAS'!$T$6:$U$11,MATCH(AN120,'OTRAS REFERENCIAS'!$U$6:$U$11,0),1))","v":""}]
[1,"",119,"","",{"$f":"IF(L121<>\"\",CONCATENATE(DIGITADOR!$B$2,$A$2,DIGITADOR!$M$1,A121),\"\")","v":""},null,null,"",{"$f":"IF(K121=\"\",\"\",INDEX('OTRAS REFERENCIAS'!$AL:$AM,MATCH(K121,'OTRAS REFERENCIAS'!$AL:$AL,0),2))","v":""},null,{"$f":"IF(J121=\"\",\"\",INDEX(referentes!$S:$W,MATCH(J121,referentes!$S:$S,0),1))","v":""},null,null,null,null,null,null,null,{"$f":"IF(U121=\"\",\"\",INDEX('OTRAS REFERENCIAS'!$H$6:$I$11,MATCH(U121,'OTRAS REFERENCIAS'!$I$6:$I$11,0),1))","v":""},null,null,null,null,{"$f":"IF(Z121=\"\",\"\",INDEX('OTRAS REFERENCIAS'!$K$6:$L$11,MATCH(Z121,'OTRAS REFERENCIAS'!$L$6:$L$11,0),1))","v":""},null,null,null,null,{"$f":"IF(AE121=\"\",\"\",INDEX('OTRAS REFERENCIAS'!$N$6:$O$11,MATCH(AE121,'OTRAS REFERENCIAS'!$O$6:$O$11,0),1))","v":""},null,null,null,null,{"$f":"IF(AJ121=\"\",\"\",INDEX('OTRAS REFERENCIAS'!$Q$6:$R$11,MATCH(AJ121,'OTRAS REFERENCIAS'!$R$6:$R$11,0),1))","v":""},null,null,null,{"$f":"IF(AN121=\"\",\"\",INDEX('OTRAS REFERENCIAS'!$T$6:$U$11,MATCH(AN121,'OTRAS REFERENCIAS'!$U$6:$U$11,0),1))","v":""}]
[1,"",120,"","",{"$f":"IF(L122<>\"\",CONCATENATE(DIGITADOR!$B$2,$A$2,DIGITADOR!$M$1,A122),\"\")","v":""},null,null,"",{"$f":"IF(K122=\"\",\"\",INDEX('OTRAS REFERENCIAS'!$AL:$AM,MATCH(K122,'OTRAS REFERENCIAS'!$AL:$AL,0),2))","v":""},null,{"$f":"IF(J122=\"\",\"\",INDEX(referentes!$S:$W,MATCH(J122,referentes!$S:$S,0),1))","v":""},null,null,null,null,null,null,null,{"$f":"IF(U122=\"\",\"\",INDEX('OTRAS REFERENCIAS'!$H$6:$I$11,MATCH(U122,'OTRAS REFERENCIAS'!$I$6:$I$11,0),1))","v":""},null,null,null,null,{"$f":"IF(Z122=\"\",\"\",INDEX('OTRAS REFERENCIAS'!$K$6:$L$11,MATCH(Z122,'OTRAS REFERENCIAS'!$L$6:$L$11,0),1))","v":""},null,null,null,null,{"$f":"IF(AE122=\"\",\"\",INDEX('OTRAS REFERENCIAS'!$N$6:$O$11,MATCH(AE122,'OTRAS REFERENCIAS'!$O$6:$O$11,0),1))","v":""},null,null,null,null,{"$f":"IF(AJ122=\"\",\"\",INDEX('OTRAS REFERENCIAS'!$Q$6:$R$11,MATCH(AJ122,'OTRAS REFERENCIAS'!$R$6:$R$11,0),1))","v":""},null,null,null,{"$f":"IF(AN122=\"\",\"\",INDEX('OTRAS REFERENCIAS'!$T$6:$U$11,MATCH(AN122,'OTRAS REFERENCIAS'!$U$6:$U$11,0),1))","v":""}]
[1,"",121,"","",{"$f":"IF(L123<>\"\",CONCATENATE(DIGITADOR!$B$2,$A$2,DIGITADOR!$M$1,A123),\"\")","v":""},null,null,"",{"$f":"IF(K123=\"\",\"\",INDEX('OTRAS REFERENCIAS'!$AL:$AM,MATCH(K123,'OTRAS REFERENCIAS'!$AL:$AL,0),2))","v":""},null,{"$f":"IF(J123=\"\",\"\",INDEX(referentes!$S:$W,MATCH(J123,referentes!$S:$S,0),1))","v":""},null,null,null,null,null,null,null,{"$f":"IF(U123=\"\",\"\",INDEX('OTRAS REFERENCIAS'!$H$6:$I$11,MATCH(U123,'OTRAS REFERENCIAS'!$I$6:$I$11,0),1))","v":""},null,null,null,null,{"$f":"IF(Z123=\"\",\"\",INDEX('OTRAS REFERENCIAS'!$K$6:$L$11,MATCH(Z123,'OTRAS REFERENCIAS'!$L$6:$L$11,0),1))","v":""},null,null,null,null,{"$f":"IF(AE123=\"\",\"\",INDEX('OTRAS REFERENCIAS'!$N$6:$O$11,MATCH(AE123,'OTRAS REFERENCIAS'!$O$6:$O$11,0),1))","v":""},null,null,null,null,{"$f":"IF(AJ123=\"\",\"\",INDEX('OTRAS REFERENCIAS'!$Q$6:$R$11,MATCH(AJ123,'OTRAS REFERENCIAS'!$R$6:$R$11,0),1))","v":""},null,null,null,{"$f":"IF(AN123=\"\",\"\",INDEX('OTRAS REFERENCIAS'!$T$6:$U$11,MATCH(AN123,'OTRAS REFERENCIAS'!$U$6:$U$11,0),1))","v":""}]
[1,"",122,"","",{"$f":"IF(L124<>\"\",CONCATENATE(DIGITADOR!$B$2,$A$2,DIGITADOR!$M$1,A124),\"\")","v":""},null,null,"",{"$f":"IF(K124=\"\",\"\",INDEX('OTRAS REFERENCIAS'!$AL:$AM,MATCH(K124,'OTRAS REFERENCIAS'!$AL:$AL,0),2))","v":""},null,{"$f":"IF(J124=\"\",\"\",INDEX(referentes!$S:$W,MATCH(J124,referentes!$S:$S,0),1))","v":""},null,null,null,null,null,null,null,{"$f":"IF(U124=\"\",\"\",INDEX('OTRAS REFERENCIAS'!$H$6:$I$11,MATCH(U124,'OTRAS REFERENCIAS'!$I$6:$I$11,0),1))","v":""},null,null,null,null,{"$f":"IF(Z124=\"\",\"\",INDEX('OTRAS REFERENCIAS'!$K$6:$L$11,MATCH(Z124,'OTRAS REFERENCIAS'!$L$6:$L$11,0),1))","v":""},null,null,null,null,{"$f":"IF(AE124=\"\",\"\",INDEX('OTRAS REFERENCIAS'!$N$6:$O$11,MATCH(AE124,'OTRAS REFERENCIAS'!$O$6:$O$11,0),1))","v":""},null,null,null,null,{"$f":"IF(AJ124=\"\",\"\",INDEX('OTRAS REFERENCIAS'!$Q$6:$R$11,MATCH(AJ124,'OTRAS REFERENCIAS'!$R$6:$R$11,0),1))","v":""},null,null,null,{"$f":"IF(AN124=\"\",\"\",INDEX('OTRAS REFERENCIAS'!$T$6:$U$11,MATCH(AN124,'OTRAS REFERENCIAS'!$U$6:$U$11,0),1))","v":""}]
[1,"",123,"","",{"$f":"IF(L125<>\"\",CONCATENATE(DIGITADOR!$B$2,$A$2,DIGITADOR!$M$1,A125),\"\")","v":""},null,null,"",{"$f":"IF(K125=\"\",\"\",INDEX('OTRAS REFERENCIAS'!$AL:$AM,MATCH(K125,'OTRAS REFERENCIAS'!$AL:$AL,0),2))","v":""},null,{"$f":"IF(J125=\"\",\"\",INDEX(referentes!$S:$W,MATCH(J125,referentes!$S:$S,0),1))","v":""},null,null,null,null,null,null,null,{"$f":"IF(U125=\"\",\"\",INDEX('OTRAS REFERENCIAS'!$H$6:$I$11,MATCH(U125,'OTRAS REFERENCIAS'!$I$6:$I$11,0),1))","v":""},null,null,null,null,{"$f":"IF(Z125=\"\",\"\",INDEX('OTRAS REFERENCIAS'!$K$6:$L$11,MATCH(Z125,'OTRAS REFERENCIAS'!$L$6:$L$11,0),1))","v":""},null,null,null,null,{"$f":"IF(AE125=\"\",\"\",INDEX('OTRAS REFERENCIAS'!$N$6:$O$11,MATCH(AE125,'OTRAS REFERENCIAS'!$O$6:$O$11,0),1))","v":""},null,null,null,null,{"$f":"IF(AJ125=\"\",\"\",INDEX('OTRAS REFERENCIAS'!$Q$6:$R$11,MATCH(AJ125,'OTRAS REFERENCIAS'!$R$6:$R$11,0),1))","v":""},null,null,null,{"$f":"IF(AN125=\"\",\"\",INDEX('OTRAS REFERENCIAS'!$T$6:$U$11,MATCH(AN125,'OTRAS REFERENCIAS'!$U$6:$U$11,0),1))","v":""}]
[1,"",124,"","",{"$f":"IF(L126<>\"\",CONCATENATE(DIGITADOR!$B$2,$A$2,DIGITADOR!$M$1,A126),\"\")","v":""},null,null,"",{"$f":"IF(K126=\"\",\"\",INDEX('OTRAS REFERENCIAS'!$AL:$AM,MATCH(K126,'OTRAS REFERENCIAS'!$AL:$AL,0),2))","v":""},null,{"$f":"IF(J126=\"\",\"\",INDEX(referentes!$S:$W,MATCH(J126,referentes!$S:$S,0),1))","v":""},null,null,null,null,null,null,null,{"$f":"IF(U126=\"\",\"\",INDEX('OTRAS REFERENCIAS'!$H$6:$I$11,MATCH(U126,'OTRAS REFERENCIAS'!$I$6:$I$11,0),1))","v":""},null,null,null,null,{"$f":"IF(Z126=\"\",\"\",INDEX('OTRAS REFERENCIAS'!$K$6:$L$11,MATCH(Z126,'OTRAS REFERENCIAS'!$L$6:$L$11,0),1))","v":""},null,null,null,null,{"$f":"IF(AE126=\"\",\"\",INDEX('OTRAS REFERENCIAS'!$N$6:$O$11,MATCH(AE126,'OTRAS REFERENCIAS'!$O$6:$O$11,0),1))","v":""},null,null,null,null,{"$f":"IF(AJ126=\"\",\"\",INDEX('OTRAS REFERENCIAS'!$Q$6:$R$11,MATCH(AJ126,'OTRAS REFERENCIAS'!$R$6:$R$11,0),1))","v":""},null,null,null,{"$f":"IF(AN126=\"\",\"\",INDEX('OTRAS REFERENCIAS'!$T$6:$U$11,MATCH(AN126,'OTRAS REFERENCIAS'!$U$6:$U$11,0),1))","v":""}]
[1,"",125,"","",{"$f":"IF(L127<>\"\",CONCATENATE(DIGITADOR!$B$2,$A$2,DIGITADOR!$M$1,A127),\"\")","v":""},null,null,"",{"$f":"IF(K127=\"\",\"\",INDEX('OTRAS REFERENCIAS'!$AL:$AM,MATCH(K127,'OTRAS REFERENCIAS'!$AL:$AL,0),2))","v":""},null,{"$f":"IF(J127=\"\",\"\",INDEX(referentes!$S:$W,MATCH(J127,referentes!$S:$S,0),1))","v":""},null,null,null,null,null,null,null,{"$f":"IF(U127=\"\",\"\",INDEX('OTRAS REFERENCIAS'!$H$6:$I$11,MATCH(U127,'OTRAS REFERENCIAS'!$I$6:$I$11,0),1))","v":""},null,null,null,null,{"$f":"IF(Z127=\"\",\"\",INDEX('OTRAS REFERENCIAS'!$K$6:$L$11,MATCH(Z127,'OTRAS REFERENCIAS'!$L$6:$L$11,0),1))","v":""},null,null,null,null,{"$f":"IF(AE127=\"\",\"\",INDEX('OTRAS REFERENCIAS'!$N$6:$O$11,MATCH(AE127,'OTRAS REFERENCIAS'!$O$6:$O$11,0),1))","v":""},null,null,null,null,{"$f":"IF(AJ127=\"\",\"\",INDEX('OTRAS REFERENCIAS'!$Q$6:$R$11,MATCH(AJ127,'OTRAS REFERENCIAS'!$R$6:$R$11,0),1))","v":""},null,null,null,{"$f":"IF(AN127=\"\",\"\",INDEX('OTRAS REFERENCIAS'!$T$6:$U$11,MATCH(AN127,'OTRAS REFERENCIAS'!$U$6:$U$11,0),1))","v":""}]
[1,"",126,"","",{"$f":"IF(L128<>\"\",CONCATENATE(DIGITADOR!$B$2,$A$2,DIGITADOR!$M$1,A128),\"\")","v":""},null,null,"",{"$f":"IF(K128=\"\",\"\",INDEX('OTRAS REFERENCIAS'!$AL:$AM,MATCH(K128,'OTRAS REFERENCIAS'!$AL:$AL,0),2))","v":""},null,{"$f":"IF(J128=\"\",\"\",INDEX(referentes!$S:$W,MATCH(J128,referentes!$S:$S,0),1))","v":""},null,null,null,null,null,null,null,{"$f":"IF(U128=\"\",\"\",INDEX('OTRAS REFERENCIAS'!$H$6:$I$11,MATCH(U128,'OTRAS REFERENCIAS'!$I$6:$I$11,0),1))","v":""},null,null,null,null,{"$f":"IF(Z128=\"\",\"\",INDEX('OTRAS REFERENCIAS'!$K$6:$L$11,MATCH(Z128,'OTRAS REFERENCIAS'!$L$6:$L$11,0),1))","v":""},null,null,null,null,{"$f":"IF(AE128=\"\",\"\",INDEX('OTRAS REFERENCIAS'!$N$6:$O$11,MATCH(AE128,'OTRAS REFERENCIAS'!$O$6:$O$11,0),1))","v":""},null,null,null,null,{"$f":"IF(AJ128=\"\",\"\",INDEX('OTRAS REFERENCIAS'!$Q$6:$R$11,MATCH(AJ128,'OTRAS REFERENCIAS'!$R$6:$R$11,0),1))","v":""},null,null,null,{"$f":"IF(AN128=\"\",\"\",INDEX('OTRAS REFERENCIAS'!$T$6:$U$11,MATCH(AN128,'OTRAS REFERENCIAS'!$U$6:$U$11,0),1))","v":""}]
[1,"",127,"","",{"$f":"IF(L129<>\"\",CONCATENATE(DIGITADOR!$B$2,$A$2,DIGITADOR!$M$1,A129),\"\")","v":""},null,null,"",{"$f":"IF(K129=\"\",\"\",INDEX('OTRAS REFERENCIAS'!$AL:$AM,MATCH(K129,'OTRAS REFERENCIAS'!$AL:$AL,0),2))","v":""},null,{"$f":"IF(J129=\"\",\"\",INDEX(referentes!$S:$W,MATCH(J129,referentes!$S:$S,0),1))","v":""},null,null,null,null,null,null,null,{"$f":"IF(U129=\"\",\"\",INDEX('OTRAS REFERENCIAS'!$H$6:$I$11,MATCH(U129,'OTRAS REFERENCIAS'!$I$6:$I$11,0),1))","v":""},null,null,null,null,{"$f":"IF(Z129=\"\",\"\",INDEX('OTRAS REFERENCIAS'!$K$6:$L$11,MATCH(Z129,'OTRAS REFERENCIAS'!$L$6:$L$11,0),1))","v":""},null,null,null,null,{"$f":"IF(AE129=\"\",\"\",INDEX('OTRAS REFERENCIAS'!$N$6:$O$11,MATCH(AE129,'OTRAS REFERENCIAS'!$O$6:$O$11,0),1))","v":""},null,null,null,null,{"$f":"IF(AJ129=\"\",\"\",INDEX('OTRAS REFERENCIAS'!$Q$6:$R$11,MATCH(AJ129,'OTRAS REFERENCIAS'!$R$6:$R$11,0),1))","v":""},null,null,null,{"$f":"IF(AN129=\"\",\"\",INDEX('OTRAS REFERENCIAS'!$T$6:$U$11,MATCH(AN129,'OTRAS REFERENCIAS'!$U$6:$U$11,0),1))","v":""}]
[1,"",128,"","",{"$f":"IF(L130<>\"\",CONCATENATE(DIGITADOR!$B$2,$A$2,DIGITADOR!$M$1,A130),\"\")","v":""},null,null,"",{"$f":"IF(K130=\"\",\"\",INDEX('OTRAS REFERENCIAS'!$AL:$AM,MATCH(K130,'OTRAS REFERENCIAS'!$AL:$AL,0),2))","v":""},null,{"$f":"IF(J130=\"\",\"\",INDEX(referentes!$S:$W,MATCH(J130,referentes!$S:$S,0),1))","v":""},null,null,null,null,null,null,null,{"$f":"IF(U130=\"\",\"\",INDEX('OTRAS REFERENCIAS'!$H$6:$I$11,MATCH(U130,'OTRAS REFERENCIAS'!$I$6:$I$11,0),1))","v":""},null,null,null,null,{"$f":"IF(Z130=\"\",\"\",INDEX('OTRAS REFERENCIAS'!$K$6:$L$11,MATCH(Z130,'OTRAS REFERENCIAS'!$L$6:$L$11,0),1))","v":""},null,null,null,null,{"$f":"IF(AE130=\"\",\"\",INDEX('OTRAS REFERENCIAS'!$N$6:$O$11,MATCH(AE130,'OTRAS REFERENCIAS'!$O$6:$O$11,0),1))","v":""},null,null,null,null,{"$f":"IF(AJ130=\"\",\"\",INDEX('OTRAS REFERENCIAS'!$Q$6:$R$11,MATCH(AJ130,'OTRAS REFERENCIAS'!$R$6:$R$11,0),1))","v":""},null,null,null,{"$f":"IF(AN130=\"\",\"\",INDEX('OTRAS REFERENCIAS'!$T$6:$U$11,MATCH(AN130,'OTRAS REFERENCIAS'!$U$6:$U$11,0),1))","v":""}]
[1,"",129,"",{"$f":"CONCATENATE(I131,L131)","v":""},{"$f":"IF(L131<>\"\",CONCATENATE(DIGITADOR!$B$2,$A$2,DIGITADOR!$M$1,A131),\"\")","v":""},null,null,{"$f":"IF(G131<>\"\",G131+H131,\"\")","v":""},{"$f":"IF(K131=\"\",\"\",INDEX('OTRAS REFERENCIAS'!$AL:$AM,MATCH(K131,'OTRAS REFERENCIAS'!$AL:$AL,0),2))","v":""},null,{"$f":"IF(J131=\"\",\"\",INDEX(referentes!$S:$W,MATCH(J131,referentes!$S:$S,0),1))","v":""},null,null,null,null,null,null,null,{"$f":"IF(U131=\"\",\"\",INDEX('OTRAS REFERENCIAS'!$H$6:$I$11,MATCH(U131,'OTRAS REFERENCIAS'!$I$6:$I$11,0),1))","v":""},null,null,null,null,{"$f":"IF(Z131=\"\",\"\",INDEX('OTRAS REFERENCIAS'!$K$6:$L$11,MATCH(Z131,'OTRAS REFERENCIAS'!$L$6:$L$11,0),1))","v":""},null,null,null,null,{"$f":"IF(AE131=\"\",\"\",INDEX('OTRAS REFERENCIAS'!$N$6:$O$11,MATCH(AE131,'OTRAS REFERENCIAS'!$O$6:$O$11,0),1))","v":""},null,null,null,null,{"$f":"IF(AJ131=\"\",\"\",INDEX('OTRAS REFERENCIAS'!$Q$6:$R$11,MATCH(AJ131,'OTRAS REFERENCIAS'!$R$6:$R$11,0),1))","v":""},null,null,null,{"$f":"IF(AN131=\"\",\"\",INDEX('OTRAS REFERENCIAS'!$T$6:$U$11,MATCH(AN131,'OTRAS REFERENCIAS'!$U$6:$U$11,0),1))","v":""}]
[1,"",130,{"$f":"IF(L132=\"\",\"\",CONCATENATE(C132,F132))","v":""},"",{"$f":"IF(L132<>\"\",CONCATENATE(DIGITADOR!$B$2,$A$2,DIGITADOR!$M$1,A132),\"\")","v":""},null,null,"",{"$f":"IF(K132=\"\",\"\",INDEX('OTRAS REFERENCIAS'!$AL:$AM,MATCH(K132,'OTRAS REFERENCIAS'!$AL:$AL,0),2))","v":""},null,{"$f":"IF(J132=\"\",\"\",INDEX(referentes!$S:$W,MATCH(J132,referentes!$S:$S,0),1))","v":""},null,null,null,null,null,null,null,{"$f":"IF(U132=\"\",\"\",INDEX('OTRAS REFERENCIAS'!$H$6:$I$11,MATCH(U132,'OTRAS REFERENCIAS'!$I$6:$I$11,0),1))","v":""},null,null,null,null,{"$f":"IF(Z132=\"\",\"\",INDEX('OTRAS REFERENCIAS'!$K$6:$L$11,MATCH(Z132,'OTRAS REFERENCIAS'!$L$6:$L$11,0),1))","v":""},null,null,null,null,{"$f":"IF(AE132=\"\",\"\",INDEX('OTRAS REFERENCIAS'!$N$6:$O$11,MATCH(AE132,'OTRAS REFERENCIAS'!$O$6:$O$11,0),1))","v":""},null,null,null,null,{"$f":"IF(AJ132=\"\",\"\",INDEX('OTRAS REFERENCIAS'!$Q$6:$R$11,MATCH(AJ132,'OTRAS REFERENCIAS'!$R$6:$R$11,0),1))","v":""},null,null,null,{"$f":"IF(AN132=\"\",\"\",INDEX('OTRAS REFERENCIAS'!$T$6:$U$11,MATCH(AN132,'OTRAS REFERENCIAS'!$U$6:$U$11,0),1))","v":""}]
[{"$f":"IF(L133=L132,A132,A132+1)","v":1},{"$f":"IF(F133<>F132, F133,\"\")","v":""},131,"","",{"$f":"IF(L133<>\"\",CONCATENATE(DIGITADOR!$B$2,$A$2,DIGITADOR!$M$1,A133),\"\")","v":""},null,null,"",{"$f":"IF(K133=\"\",\"\",INDEX('OTRAS REFERENCIAS'!$AL:$AM,MATCH(K133,'OTRAS REFERENCIAS'!$AL:$AL,0),2))","v":""},null,{"$f":"IF(J133=\"\",\"\",INDEX(referentes!$S:$W,MATCH(J133,referentes!$S:$S,0),1))","v":""},null,null,null,null,null,null,null,{"$f":"IF(U133=\"\",\"\",INDEX('OTRAS REFERENCIAS'!$H$6:$I$11,MATCH(U133,'OTRAS REFERENCIAS'!$I$6:$I$11,0),1))","v":""},null,null,null,null,{"$f":"IF(Z133=\"\",\"\",INDEX('OTRAS REFERENCIAS'!$K$6:$L$11,MATCH(Z133,'OTRAS REFERENCIAS'!$L$6:$L$11,0),1))","v":""},null,null,null,null,{"$f":"IF(AE133=\"\",\"\",INDEX('OTRAS REFERENCIAS'!$N$6:$O$11,MATCH(AE133,'OTRAS REFERENCIAS'!$O$6:$O$11,0),1))","v":""},null,null,null,null,{"$f":"IF(AJ133=\"\",\"\",INDEX('OTRAS REFERENCIAS'!$Q$6:$R$11,MATCH(AJ133,'OTRAS REFERENCIAS'!$R$6:$R$11,0),1))","v":""},null,null,null,{"$f":"IF(AN133=\"\",\"\",INDEX('OTRAS REFERENCIAS'!$T$6:$U$11,MATCH(AN133,'OTRAS REFERENCIAS'!$U$6:$U$11,0),1))","v":""}]
[1,"",132,"","",{"$f":"IF(L134<>\"\",CONCATENATE(DIGITADOR!$B$2,$A$2,DIGITADOR!$M$1,A134),\"\")","v":""},null,null,"",{"$f":"IF(K134=\"\",\"\",INDEX('OTRAS REFERENCIAS'!$AL:$AM,MATCH(K134,'OTRAS REFERENCIAS'!$AL:$AL,0),2))","v":""},null,{"$f":"IF(J134=\"\",\"\",INDEX(referentes!$S:$W,MATCH(J134,referentes!$S:$S,0),1))","v":""},null,null,null,null,null,null,null,{"$f":"IF(U134=\"\",\"\",INDEX('OTRAS REFERENCIAS'!$H$6:$I$11,MATCH(U134,'OTRAS REFERENCIAS'!$I$6:$I$11,0),1))","v":""},null,null,null,null,{"$f":"IF(Z134=\"\",\"\",INDEX('OTRAS REFERENCIAS'!$K$6:$L$11,MATCH(Z134,'OTRAS REFERENCIAS'!$L$6:$L$11,0),1))","v":""},null,null,null,null,{"$f":"IF(AE134=\"\",\"\",INDEX('OTRAS REFERENCIAS'!$N$6:$O$11,MATCH(AE134,'OTRAS REFERENCIAS'!$O$6:$O$11,0),1))","v":""},null,null,null,null,{"$f":"IF(AJ134=\"\",\"\",INDEX('OTRAS REFERENCIAS'!$Q$6:$R$11,MATCH(AJ134,'OTRAS REFERENCIAS'!$R$6:$R$11,0),1))","v":""},null,null,null,{"$f":"IF(AN134=\"\",\"\",INDEX('OTRAS REFERENCIAS'!$T$6:$U$11,MATCH(AN134,'OTRAS REFERENCIAS'!$U$6:$U$11,0),1))","v":""}]
[1,"",133,"","",{"$f":"IF(L135<>\"\",CONCATENATE(DIGITADOR!$B$2,$A$2,DIGITADOR!$M$1,A135),\"\")","v":""},null,null,"",{"$f":"IF(K135=\"\",\"\",INDEX('OTRAS REFERENCIAS'!$AL:$AM,MATCH(K135,'OTRAS REFERENCIAS'!$AL:$AL,0),2))","v":""},null,{"$f":"IF(J135=\"\",\"\",INDEX(referentes!$S:$W,MATCH(J135,referentes!$S:$S,0),1))","v":""},null,null,null,null,null,null,null,{"$f":"IF(U135=\"\",\"\",INDEX('OTRAS REFERENCIAS'!$H$6:$I$11,MATCH(U135,'OTRAS REFERENCIAS'!$I$6:$I$11,0),1))","v":""},null,null,null,null,{"$f":"IF(Z135=\"\",\"\",INDEX('OTRAS REFERENCIAS'!$K$6:$L$11,MATCH(Z135,'OTRAS REFERENCIAS'!$L$6:$L$11,0),1))","v":""},null,null,null,null,{"$f":"IF(AE135=\"\",\"\",INDEX('OTRAS REFERENCIAS'!$N$6:$O$11,MATCH(AE135,'OTRAS REFERENCIAS'!$O$6:$O$11,0),1))","v":""},null,null,null,null,{"$f":"IF(AJ135=\"\",\"\",INDEX('OTRAS REFERENCIAS'!$Q$6:$R$11,MATCH(AJ135,'OTRAS REFERENCIAS'!$R$6:$R$11,0),1))","v":""},null,null,null,{"$f":"IF(AN135=\"\",\"\",INDEX('OTRAS REFERENCIAS'!$T$6:$U$11,MATCH(AN135,'OTRAS REFERENCIAS'!$U$6:$U$11,0),1))","v":""}]
[1,"",134,"","",{"$f":"IF(L136<>\"\",CONCATENATE(DIGITADOR!$B$2,$A$2,DIGITADOR!$M$1,A136),\"\")","v":""},null,null,"",{"$f":"IF(K136=\"\",\"\",INDEX('OTRAS REFERENCIAS'!$AL:$AM,MATCH(K136,'OTRAS REFERENCIAS'!$AL:$AL,0),2))","v":""},null,{"$f":"IF(J136=\"\",\"\",INDEX(referentes!$S:$W,MATCH(J136,referentes!$S:$S,0),1))","v":""},null,null,null,null,null,null,null,{"$f":"IF(U136=\"\",\"\",INDEX('OTRAS REFERENCIAS'!$H$6:$I$11,MATCH(U136,'OTRAS REFERENCIAS'!$I$6:$I$11,0),1))","v":""},null,null,null,null,{"$f":"IF(Z136=\"\",\"\",INDEX('OTRAS REFERENCIAS'!$K$6:$L$11,MATCH(Z136,'OTRAS REFERENCIAS'!$L$6:$L$11,0),1))","v":""},null,null,null,null,{"$f":"IF(AE136=\"\",\"\",INDEX('OTRAS REFERENCIAS'!$N$6:$O$11,MATCH(AE136,'OTRAS REFERENCIAS'!$O$6:$O$11,0),1))","v":""},null,null,null,null,{"$f":"IF(AJ136=\"\",\"\",INDEX('OTRAS REFERENCIAS'!$Q$6:$R$11,MATCH(AJ136,'OTRAS REFERENCIAS'!$R$6:$R$11,0),1))","v":""},null,null,null,{"$f":"IF(AN136=\"\",\"\",INDEX('OTRAS REFERENCIAS'!$T$6:$U$11,MATCH(AN136,'OTRAS REFERENCIAS'!$U$6:$U$11,0),1))","v":""}]
[1,"",135,"","",{"$f":"IF(L137<>\"\",CONCATENATE(DIGITADOR!$B$2,$A$2,DIGITADOR!$M$1,A137),\"\")","v":""},null,null,"",{"$f":"IF(K137=\"\",\"\",INDEX('OTRAS REFERENCIAS'!$AL:$AM,MATCH(K137,'OTRAS REFERENCIAS'!$AL:$AL,0),2))","v":""},null,{"$f":"IF(J137=\"\",\"\",INDEX(referentes!$S:$W,MATCH(J137,referentes!$S:$S,0),1))","v":""},null,null,null,null,null,null,null,{"$f":"IF(U137=\"\",\"\",INDEX('OTRAS REFERENCIAS'!$H$6:$I$11,MATCH(U137,'OTRAS REFERENCIAS'!$I$6:$I$11,0),1))","v":""},null,null,null,null,{"$f":"IF(Z137=\"\",\"\",INDEX('OTRAS REFERENCIAS'!$K$6:$L$11,MATCH(Z137,'OTRAS REFERENCIAS'!$L$6:$L$11,0),1))","v":""},null,null,null,null,{"$f":"IF(AE137=\"\",\"\",INDEX('OTRAS REFERENCIAS'!$N$6:$O$11,MATCH(AE137,'OTRAS REFERENCIAS'!$O$6:$O$11,0),1))","v":""},null,null,null,null,{"$f":"IF(AJ137=\"\",\"\",INDEX('OTRAS REFERENCIAS'!$Q$6:$R$11,MATCH(AJ137,'OTRAS REFERENCIAS'!$R$6:$R$11,0),1))","v":""},null,null,null,{"$f":"IF(AN137=\"\",\"\",INDEX('OTRAS REFERENCIAS'!$T$6:$U$11,MATCH(AN137,'OTRAS REFERENCIAS'!$U$6:$U$11,0),1))","v":""}]
[1,"",136,"","",{"$f":"IF(L138<>\"\",CONCATENATE(DIGITADOR!$B$2,$A$2,DIGITADOR!$M$1,A138),\"\")","v":""},null,null,"",{"$f":"IF(K138=\"\",\"\",INDEX('OTRAS REFERENCIAS'!$AL:$AM,MATCH(K138,'OTRAS REFERENCIAS'!$AL:$AL,0),2))","v":""},null,{"$f":"IF(J138=\"\",\"\",INDEX(referentes!$S:$W,MATCH(J138,referentes!$S:$S,0),1))","v":""},null,null,null,null,null,null,null,{"$f":"IF(U138=\"\",\"\",INDEX('OTRAS REFERENCIAS'!$H$6:$I$11,MATCH(U138,'OTRAS REFERENCIAS'!$I$6:$I$11,0),1))","v":""},null,null,null,null,{"$f":"IF(Z138=\"\",\"\",INDEX('OTRAS REFERENCIAS'!$K$6:$L$11,MATCH(Z138,'OTRAS REFERENCIAS'!$L$6:$L$11,0),1))","v":""},null,null,null,null,{"$f":"IF(AE138=\"\",\"\",INDEX('OTRAS REFERENCIAS'!$N$6:$O$11,MATCH(AE138,'OTRAS REFERENCIAS'!$O$6:$O$11,0),1))","v":""},null,null,null,null,{"$f":"IF(AJ138=\"\",\"\",INDEX('OTRAS REFERENCIAS'!$Q$6:$R$11,MATCH(AJ138,'OTRAS REFERENCIAS'!$R$6:$R$11,0),1))","v":""},null,null,null,{"$f":"IF(AN138=\"\",\"\",INDEX('OTRAS REFERENCIAS'!$T$6:$U$11,MATCH(AN138,'OTRAS REFERENCIAS'!$U$6:$U$11,0),1))","v":""}]
[1,"",137,"","",{"$f":"IF(L139<>\"\",CONCATENATE(DIGITADOR!$B$2,$A$2,DIGITADOR!$M$1,A139),\"\")","v":""},null,null,"",{"$f":"IF(K139=\"\",\"\",INDEX('OTRAS REFERENCIAS'!$AL:$AM,MATCH(K139,'OTRAS REFERENCIAS'!$AL:$AL,0),2))","v":""},null,{"$f":"IF(J139=\"\",\"\",INDEX(referentes!$S:$W,MATCH(J139,referentes!$S:$S,0),1))","v":""},null,null,null,null,null,null,null,{"$f":"IF(U139=\"\",\"\",INDEX('OTRAS REFERENCIAS'!$H$6:$I$11,MATCH(U139,'OTRAS REFERENCIAS'!$I$6:$I$11,0),1))","v":""},null,null,null,null,{"$f":"IF(Z139=\"\",\"\",INDEX('OTRAS REFERENCIAS'!$K$6:$L$11,MATCH(Z139,'OTRAS REFERENCIAS'!$L$6:$L$11,0),1))","v":""},null,null,null,null,{"$f":"IF(AE139=\"\",\"\",INDEX('OTRAS REFERENCIAS'!$N$6:$O$11,MATCH(AE139,'OTRAS REFERENCIAS'!$O$6:$O$11,0),1))","v":""},null,null,null,null,{"$f":"IF(AJ139=\"\",\"\",INDEX('OTRAS REFERENCIAS'!$Q$6:$R$11,MATCH(AJ139,'OTRAS REFERENCIAS'!$R$6:$R$11,0),1))","v":""},null,null,null,{"$f":"IF(AN139=\"\",\"\",INDEX('OTRAS REFERENCIAS'!$T$6:$U$11,MATCH(AN139,'OTRAS REFERENCIAS'!$U$6:$U$11,0),1))","v":""}]
[1,"",138,"","",{"$f":"IF(L140<>\"\",CONCATENATE(DIGITADOR!$B$2,$A$2,DIGITADOR!$M$1,A140),\"\")","v":""},null,null,"",{"$f":"IF(K140=\"\",\"\",INDEX('OTRAS REFERENCIAS'!$AL:$AM,MATCH(K140,'OTRAS REFERENCIAS'!$AL:$AL,0),2))","v":""},null,{"$f":"IF(J140=\"\",\"\",INDEX(referentes!$S:$W,MATCH(J140,referentes!$S:$S,0),1))","v":""},null,null,null,null,null,null,null,{"$f":"IF(U140=\"\",\"\",INDEX('OTRAS REFERENCIAS'!$H$6:$I$11,MATCH(U140,'OTRAS REFERENCIAS'!$I$6:$I$11,0),1))","v":""},null,null,null,null,{"$f":"IF(Z140=\"\",\"\",INDEX('OTRAS REFERENCIAS'!$K$6:$L$11,MATCH(Z140,'OTRAS REFERENCIAS'!$L$6:$L$11,0),1))","v":""},null,null,null,null,{"$f":"IF(AE140=\"\",\"\",INDEX('OTRAS REFERENCIAS'!$N$6:$O$11,MATCH(AE140,'OTRAS REFERENCIAS'!$O$6:$O$11,0),1))","v":""},null,null,null,null,{"$f":"IF(AJ140=\"\",\"\",INDEX('OTRAS REFERENCIAS'!$Q$6:$R$11,MATCH(AJ140,'OTRAS REFERENCIAS'!$R$6:$R$11,0),1))","v":""},null,null,null,{"$f":"IF(AN140=\"\",\"\",INDEX('OTRAS REFERENCIAS'!$T$6:$U$11,MATCH(AN140,'OTRAS REFERENCIAS'!$U$6:$U$11,0),1))","v":""}]
[1,"",139,"","",{"$f":"IF(L141<>\"\",CONCATENATE(DIGITADOR!$B$2,$A$2,DIGITADOR!$M$1,A141),\"\")","v":""},null,null,"",{"$f":"IF(K141=\"\",\"\",INDEX('OTRAS REFERENCIAS'!$AL:$AM,MATCH(K141,'OTRAS REFERENCIAS'!$AL:$AL,0),2))","v":""},null,{"$f":"IF(J141=\"\",\"\",INDEX(referentes!$S:$W,MATCH(J141,referentes!$S:$S,0),1))","v":""},null,null,null,null,null,null,null,{"$f":"IF(U141=\"\",\"\",INDEX('OTRAS REFERENCIAS'!$H$6:$I$11,MATCH(U141,'OTRAS REFERENCIAS'!$I$6:$I$11,0),1))","v":""},null,null,null,null,{"$f":"IF(Z141=\"\",\"\",INDEX('OTRAS REFERENCIAS'!$K$6:$L$11,MATCH(Z141,'OTRAS REFERENCIAS'!$L$6:$L$11,0),1))","v":""},null,null,null,null,{"$f":"IF(AE141=\"\",\"\",INDEX('OTRAS REFERENCIAS'!$N$6:$O$11,MATCH(AE141,'OTRAS REFERENCIAS'!$O$6:$O$11,0),1))","v":""},null,null,null,null,{"$f":"IF(AJ141=\"\",\"\",INDEX('OTRAS REFERENCIAS'!$Q$6:$R$11,MATCH(AJ141,'OTRAS REFERENCIAS'!$R$6:$R$11,0),1))","v":""},null,null,null,{"$f":"IF(AN141=\"\",\"\",INDEX('OTRAS REFERENCIAS'!$T$6:$U$11,MATCH(AN141,'OTRAS REFERENCIAS'!$U$6:$U$11,0),1))","v":""}]
[1,"",140,"","",{"$f":"IF(L142<>\"\",CONCATENATE(DIGITADOR!$B$2,$A$2,DIGITADOR!$M$1,A142),\"\")","v":""},null,null,"",{"$f":"IF(K142=\"\",\"\",INDEX('OTRAS REFERENCIAS'!$AL:$AM,MATCH(K142,'OTRAS REFERENCIAS'!$AL:$AL,0),2))","v":""},null,{"$f":"IF(J142=\"\",\"\",INDEX(referentes!$S:$W,MATCH(J142,referentes!$S:$S,0),1))","v":""},null,null,null,null,null,null,null,{"$f":"IF(U142=\"\",\"\",INDEX('OTRAS REFERENCIAS'!$H$6:$I$11,MATCH(U142,'OTRAS REFERENCIAS'!$I$6:$I$11,0),1))","v":""},null,null,null,null,{"$f":"IF(Z142=\"\",\"\",INDEX('OTRAS REFERENCIAS'!$K$6:$L$11,MATCH(Z142,'OTRAS REFERENCIAS'!$L$6:$L$11,0),1))","v":""},null,null,null,null,{"$f":"IF(AE142=\"\",\"\",INDEX('OTRAS REFERENCIAS'!$N$6:$O$11,MATCH(AE142,'OTRAS REFERENCIAS'!$O$6:$O$11,0),1))","v":""},null,null,null,null,{"$f":"IF(AJ142=\"\",\"\",INDEX('OTRAS REFERENCIAS'!$Q$6:$R$11,MATCH(AJ142,'OTRAS REFERENCIAS'!$R$6:$R$11,0),1))","v":""},null,null,null,{"$f":"IF(AN142=\"\",\"\",INDEX('OTRAS REFERENCIAS'!$T$6:$U$11,MATCH(AN142,'OTRAS REFERENCIAS'!$U$6:$U$11,0),1))","v":""}]
[1,"",141,"","",{"$f":"IF(L143<>\"\",CONCATENATE(DIGITADOR!$B$2,$A$2,DIGITADOR!$M$1,A143),\"\")","v":""},null,null,"",{"$f":"IF(K143=\"\",\"\",INDEX('OTRAS REFERENCIAS'!$AL:$AM,MATCH(K143,'OTRAS REFERENCIAS'!$AL:$AL,0),2))","v":""},null,{"$f":"IF(J143=\"\",\"\",INDEX(referentes!$S:$W,MATCH(J143,referentes!$S:$S,0),1))","v":""},null,null,null,null,null,null,null,{"$f":"IF(U143=\"\",\"\",INDEX('OTRAS REFERENCIAS'!$H$6:$I$11,MATCH(U143,'OTRAS REFERENCIAS'!$I$6:$I$11,0),1))","v":""},null,null,null,null,{"$f":"IF(Z143=\"\",\"\",INDEX('OTRAS REFERENCIAS'!$K$6:$L$11,MATCH(Z143,'OTRAS REFERENCIAS'!$L$6:$L$11,0),1))","v":""},null,null,null,null,{"$f":"IF(AE143=\"\",\"\",INDEX('OTRAS REFERENCIAS'!$N$6:$O$11,MATCH(AE143,'OTRAS REFERENCIAS'!$O$6:$O$11,0),1))","v":""},null,null,null,null,{"$f":"IF(AJ143=\"\",\"\",INDEX('OTRAS REFERENCIAS'!$Q$6:$R$11,MATCH(AJ143,'OTRAS REFERENCIAS'!$R$6:$R$11,0),1))","v":""},null,null,null,{"$f":"IF(AN143=\"\",\"\",INDEX('OTRAS REFERENCIAS'!$T$6:$U$11,MATCH(AN143,'OTRAS REFERENCIAS'!$U$6:$U$11,0),1))","v":""}]
[1,"",142,"","",{"$f":"IF(L144<>\"\",CONCATENATE(DIGITADOR!$B$2,$A$2,DIGITADOR!$M$1,A144),\"\")","v":""},null,null,"",{"$f":"IF(K144=\"\",\"\",INDEX('OTRAS REFERENCIAS'!$AL:$AM,MATCH(K144,'OTRAS REFERENCIAS'!$AL:$AL,0),2))","v":""},null,{"$f":"IF(J144=\"\",\"\",INDEX(referentes!$S:$W,MATCH(J144,referentes!$S:$S,0),1))","v":""},null,null,null,null,null,null,null,{"$f":"IF(U144=\"\",\"\",INDEX('OTRAS REFERENCIAS'!$H$6:$I$11,MATCH(U144,'OTRAS REFERENCIAS'!$I$6:$I$11,0),1))","v":""},null,null,null,null,{"$f":"IF(Z144=\"\",\"\",INDEX('OTRAS REFERENCIAS'!$K$6:$L$11,MATCH(Z144,'OTRAS REFERENCIAS'!$L$6:$L$11,0),1))","v":""},null,null,null,null,{"$f":"IF(AE144=\"\",\"\",INDEX('OTRAS REFERENCIAS'!$N$6:$O$11,MATCH(AE144,'OTRAS REFERENCIAS'!$O$6:$O$11,0),1))","v":""},null,null,null,null,{"$f":"IF(AJ144=\"\",\"\",INDEX('OTRAS REFERENCIAS'!$Q$6:$R$11,MATCH(AJ144,'OTRAS REFERENCIAS'!$R$6:$R$11,0),1))","v":""},null,null,null,{"$f":"IF(AN144=\"\",\"\",INDEX('OTRAS REFERENCIAS'!$T$6:$U$11,MATCH(AN144,'OTRAS REFERENCIAS'!$U$6:$U$11,0),1))","v":""}]
[1,"",143,"","",{"$f":"IF(L145<>\"\",CONCATENATE(DIGITADOR!$B$2,$A$2,DIGITADOR!$M$1,A145),\"\")","v":""},null,null,"",{"$f":"IF(K145=\"\",\"\",INDEX('OTRAS REFERENCIAS'!$AL:$AM,MATCH(K145,'OTRAS REFERENCIAS'!$AL:$AL,0),2))","v":""},null,{"$f":"IF(J145=\"\",\"\",INDEX(referentes!$S:$W,MATCH(J145,referentes!$S:$S,0),1))","v":""},null,null,null,null,null,null,null,{"$f":"IF(U145=\"\",\"\",INDEX('OTRAS REFERENCIAS'!$H$6:$I$11,MATCH(U145,'OTRAS REFERENCIAS'!$I$6:$I$11,0),1))","v":""},null,null,null,null,{"$f":"IF(Z145=\"\",\"\",INDEX('OTRAS REFERENCIAS'!$K$6:$L$11,MATCH(Z145,'OTRAS REFERENCIAS'!$L$6:$L$11,0),1))","v":""},null,null,null,null,{"$f":"IF(AE145=\"\",\"\",INDEX('OTRAS REFERENCIAS'!$N$6:$O$11,MATCH(AE145,'OTRAS REFERENCIAS'!$O$6:$O$11,0),1))","v":""},null,null,null,null,{"$f":"IF(AJ145=\"\",\"\",INDEX('OTRAS REFERENCIAS'!$Q$6:$R$11,MATCH(AJ145,'OTRAS REFERENCIAS'!$R$6:$R$11,0),1))","v":""},null,null,null,{"$f":"IF(AN145=\"\",\"\",INDEX('OTRAS REFERENCIAS'!$T$6:$U$11,MATCH(AN145,'OTRAS REFERENCIAS'!$U$6:$U$11,0),1))","v":""}]
[1,"",144,"","",{"$f":"IF(L146<>\"\",CONCATENATE(DIGITADOR!$B$2,$A$2,DIGITADOR!$M$1,A146),\"\")","v":""},null,null,"",{"$f":"IF(K146=\"\",\"\",INDEX('OTRAS REFERENCIAS'!$AL:$AM,MATCH(K146,'OTRAS REFERENCIAS'!$AL:$AL,0),2))","v":""},null,{"$f":"IF(J146=\"\",\"\",INDEX(referentes!$S:$W,MATCH(J146,referentes!$S:$S,0),1))","v":""},null,null,null,null,null,null,null,{"$f":"IF(U146=\"\",\"\",INDEX('OTRAS REFERENCIAS'!$H$6:$I$11,MATCH(U146,'OTRAS REFERENCIAS'!$I$6:$I$11,0),1))","v":""},null,null,null,null,{"$f":"IF(Z146=\"\",\"\",INDEX('OTRAS REFERENCIAS'!$K$6:$L$11,MATCH(Z146,'OTRAS REFERENCIAS'!$L$6:$L$11,0),1))","v":""},null,null,null,null,{"$f":"IF(AE146=\"\",\"\",INDEX('OTRAS REFERENCIAS'!$N$6:$O$11,MATCH(AE146,'OTRAS REFERENCIAS'!$O$6:$O$11,0),1))","v":""},null,null,null,null,{"$f":"IF(AJ146=\"\",\"\",INDEX('OTRAS REFERENCIAS'!$Q$6:$R$11,MATCH(AJ146,'OTRAS REFERENCIAS'!$R$6:$R$11,0),1))","v":""},null,null,null,{"$f":"IF(AN146=\"\",\"\",INDEX('OTRAS REFERENCIAS'!$T$6:$U$11,MATCH(AN146,'OTRAS REFERENCIAS'!$U$6:$U$11,0),1))","v":""}]
[1,"",145,"","",{"$f":"IF(L147<>\"\",CONCATENATE(DIGITADOR!$B$2,$A$2,DIGITADOR!$M$1,A147),\"\")","v":""},null,null,"",{"$f":"IF(K147=\"\",\"\",INDEX('OTRAS REFERENCIAS'!$AL:$AM,MATCH(K147,'OTRAS REFERENCIAS'!$AL:$AL,0),2))","v":""},null,{"$f":"IF(J147=\"\",\"\",INDEX(referentes!$S:$W,MATCH(J147,referentes!$S:$S,0),1))","v":""},null,null,null,null,null,null,null,{"$f":"IF(U147=\"\",\"\",INDEX('OTRAS REFERENCIAS'!$H$6:$I$11,MATCH(U147,'OTRAS REFERENCIAS'!$I$6:$I$11,0),1))","v":""},null,null,null,null,{"$f":"IF(Z147=\"\",\"\",INDEX('OTRAS REFERENCIAS'!$K$6:$L$11,MATCH(Z147,'OTRAS REFERENCIAS'!$L$6:$L$11,0),1))","v":""},null,null,null,null,{"$f":"IF(AE147=\"\",\"\",INDEX('OTRAS REFERENCIAS'!$N$6:$O$11,MATCH(AE147,'OTRAS REFERENCIAS'!$O$6:$O$11,0),1))","v":""},null,null,null,null,{"$f":"IF(AJ147=\"\",\"\",INDEX('OTRAS REFERENCIAS'!$Q$6:$R$11,MATCH(AJ147,'OTRAS REFERENCIAS'!$R$6:$R$11,0),1))","v":""},null,null,null,{"$f":"IF(AN147=\"\",\"\",INDEX('OTRAS REFERENCIAS'!$T$6:$U$11,MATCH(AN147,'OTRAS REFERENCIAS'!$U$6:$U$11,0),1))","v":""}]
[1,"",146,"","",{"$f":"IF(L148<>\"\",CONCATENATE(DIGITADOR!$B$2,$A$2,DIGITADOR!$M$1,A148),\"\")","v":""},null,null,"",{"$f":"IF(K148=\"\",\"\",INDEX('OTRAS REFERENCIAS'!$AL:$AM,MATCH(K148,'OTRAS REFERENCIAS'!$AL:$AL,0),2))","v":""},null,{"$f":"IF(J148=\"\",\"\",INDEX(referentes!$S:$W,MATCH(J148,referentes!$S:$S,0),1))","v":""},null,null,null,null,null,null,null,{"$f":"IF(U148=\"\",\"\",INDEX('OTRAS REFERENCIAS'!$H$6:$I$11,MATCH(U148,'OTRAS REFERENCIAS'!$I$6:$I$11,0),1))","v":""},null,null,null,null,{"$f":"IF(Z148=\"\",\"\",INDEX('OTRAS REFERENCIAS'!$K$6:$L$11,MATCH(Z148,'OTRAS REFERENCIAS'!$L$6:$L$11,0),1))","v":""},null,null,null,null,{"$f":"IF(AE148=\"\",\"\",INDEX('OTRAS REFERENCIAS'!$N$6:$O$11,MATCH(AE148,'OTRAS REFERENCIAS'!$O$6:$O$11,0),1))","v":""},null,null,null,null,{"$f":"IF(AJ148=\"\",\"\",INDEX('OTRAS REFERENCIAS'!$Q$6:$R$11,MATCH(AJ148,'OTRAS REFERENCIAS'!$R$6:$R$11,0),1))","v":""},null,null,null,{"$f":"IF(AN148=\"\",\"\",INDEX('OTRAS REFERENCIAS'!$T$6:$U$11,MATCH(AN148,'OTRAS REFERENCIAS'!$U$6:$U$11,0),1))","v":""}]
[1,"",147,"","",{"$f":"IF(L149<>\"\",CONCATENATE(DIGITADOR!$B$2,$A$2,DIGITADOR!$M$1,A149),\"\")","v":""},null,null,"",{"$f":"IF(K149=\"\",\"\",INDEX('OTRAS REFERENCIAS'!$AL:$AM,MATCH(K149,'OTRAS REFERENCIAS'!$AL:$AL,0),2))","v":""},null,{"$f":"IF(J149=\"\",\"\",INDEX(referentes!$S:$W,MATCH(J149,referentes!$S:$S,0),1))","v":""},null,null,null,null,null,null,null,{"$f":"IF(U149=\"\",\"\",INDEX('OTRAS REFERENCIAS'!$H$6:$I$11,MATCH(U149,'OTRAS REFERENCIAS'!$I$6:$I$11,0),1))","v":""},null,null,null,null,{"$f":"IF(Z149=\"\",\"\",INDEX('OTRAS REFERENCIAS'!$K$6:$L$11,MATCH(Z149,'OTRAS REFERENCIAS'!$L$6:$L$11,0),1))","v":""},null,null,null,null,{"$f":"IF(AE149=\"\",\"\",INDEX('OTRAS REFERENCIAS'!$N$6:$O$11,MATCH(AE149,'OTRAS REFERENCIAS'!$O$6:$O$11,0),1))","v":""},null,null,null,null,{"$f":"IF(AJ149=\"\",\"\",INDEX('OTRAS REFERENCIAS'!$Q$6:$R$11,MATCH(AJ149,'OTRAS REFERENCIAS'!$R$6:$R$11,0),1))","v":""},null,null,null,{"$f":"IF(AN149=\"\",\"\",INDEX('OTRAS REFERENCIAS'!$T$6:$U$11,MATCH(AN149,'OTRAS REFERENCIAS'!$U$6:$U$11,0),1))","v":""}]
[1,"",148,"","",{"$f":"IF(L150<>\"\",CONCATENATE(DIGITADOR!$B$2,$A$2,DIGITADOR!$M$1,A150),\"\")","v":""},null,null,"",{"$f":"IF(K150=\"\",\"\",INDEX('OTRAS REFERENCIAS'!$AL:$AM,MATCH(K150,'OTRAS REFERENCIAS'!$AL:$AL,0),2))","v":""},null,{"$f":"IF(J150=\"\",\"\",INDEX(referentes!$S:$W,MATCH(J150,referentes!$S:$S,0),1))","v":""},null,null,null,null,null,null,null,{"$f":"IF(U150=\"\",\"\",INDEX('OTRAS REFERENCIAS'!$H$6:$I$11,MATCH(U150,'OTRAS REFERENCIAS'!$I$6:$I$11,0),1))","v":""},null,null,null,null,{"$f":"IF(Z150=\"\",\"\",INDEX('OTRAS REFERENCIAS'!$K$6:$L$11,MATCH(Z150,'OTRAS REFERENCIAS'!$L$6:$L$11,0),1))","v":""},null,null,null,null,{"$f":"IF(AE150=\"\",\"\",INDEX('OTRAS REFERENCIAS'!$N$6:$O$11,MATCH(AE150,'OTRAS REFERENCIAS'!$O$6:$O$11,0),1))","v":""},null,null,null,null,{"$f":"IF(AJ150=\"\",\"\",INDEX('OTRAS REFERENCIAS'!$Q$6:$R$11,MATCH(AJ150,'OTRAS REFERENCIAS'!$R$6:$R$11,0),1))","v":""},null,null,null,{"$f":"IF(AN150=\"\",\"\",INDEX('OTRAS REFERENCIAS'!$T$6:$U$11,MATCH(AN150,'OTRAS REFERENCIAS'!$U$6:$U$11,0),1))","v":""}]
[1,"",149,"","",{"$f":"IF(L151<>\"\",CONCATENATE(DIGITADOR!$B$2,$A$2,DIGITADOR!$M$1,A151),\"\")","v":""},null,null,"",{"$f":"IF(K151=\"\",\"\",INDEX('OTRAS REFERENCIAS'!$AL:$AM,MATCH(K151,'OTRAS REFERENCIAS'!$AL:$AL,0),2))","v":""},null,{"$f":"IF(J151=\"\",\"\",INDEX(referentes!$S:$W,MATCH(J151,referentes!$S:$S,0),1))","v":""},null,null,null,null,null,null,null,{"$f":"IF(U151=\"\",\"\",INDEX('OTRAS REFERENCIAS'!$H$6:$I$11,MATCH(U151,'OTRAS REFERENCIAS'!$I$6:$I$11,0),1))","v":""},null,null,null,null,{"$f":"IF(Z151=\"\",\"\",INDEX('OTRAS REFERENCIAS'!$K$6:$L$11,MATCH(Z151,'OTRAS REFERENCIAS'!$L$6:$L$11,0),1))","v":""},null,null,null,null,{"$f":"IF(AE151=\"\",\"\",INDEX('OTRAS REFERENCIAS'!$N$6:$O$11,MATCH(AE151,'OTRAS REFERENCIAS'!$O$6:$O$11,0),1))","v":""},null,null,null,null,{"$f":"IF(AJ151=\"\",\"\",INDEX('OTRAS REFERENCIAS'!$Q$6:$R$11,MATCH(AJ151,'OTRAS REFERENCIAS'!$R$6:$R$11,0),1))","v":""},null,null,null,{"$f":"IF(AN151=\"\",\"\",INDEX('OTRAS REFERENCIAS'!$T$6:$U$11,MATCH(AN151,'OTRAS REFERENCIAS'!$U$6:$U$11,0),1))","v":""}]
[1,"",150,"","",{"$f":"IF(L152<>\"\",CONCATENATE(DIGITADOR!$B$2,$A$2,DIGITADOR!$M$1,A152),\"\")","v":""},null,null,"",{"$f":"IF(K152=\"\",\"\",INDEX('OTRAS REFERENCIAS'!$AL:$AM,MATCH(K152,'OTRAS REFERENCIAS'!$AL:$AL,0),2))","v":""},null,{"$f":"IF(J152=\"\",\"\",INDEX(referentes!$S:$W,MATCH(J152,referentes!$S:$S,0),1))","v":""},null,null,null,null,null,null,null,{"$f":"IF(U152=\"\",\"\",INDEX('OTRAS REFERENCIAS'!$H$6:$I$11,MATCH(U152,'OTRAS REFERENCIAS'!$I$6:$I$11,0),1))","v":""},null,null,null,null,{"$f":"IF(Z152=\"\",\"\",INDEX('OTRAS REFERENCIAS'!$K$6:$L$11,MATCH(Z152,'OTRAS REFERENCIAS'!$L$6:$L$11,0),1))","v":""},null,null,null,null,{"$f":"IF(AE152=\"\",\"\",INDEX('OTRAS REFERENCIAS'!$N$6:$O$11,MATCH(AE152,'OTRAS REFERENCIAS'!$O$6:$O$11,0),1))","v":""},null,null,null,null,{"$f":"IF(AJ152=\"\",\"\",INDEX('OTRAS REFERENCIAS'!$Q$6:$R$11,MATCH(AJ152,'OTRAS REFERENCIAS'!$R$6:$R$11,0),1))","v":""},null,null,null,{"$f":"IF(AN152=\"\",\"\",INDEX('OTRAS REFERENCIAS'!$T$6:$U$11,MATCH(AN152,'OTRAS REFERENCIAS'!$U$6:$U$11,0),1))","v":""}]
[1,"",151,"","",{"$f":"IF(L153<>\"\",CONCATENATE(DIGITADOR!$B$2,$A$2,DIGITADOR!$M$1,A153),\"\")","v":""},null,null,"",{"$f":"IF(K153=\"\",\"\",INDEX('OTRAS REFERENCIAS'!$AL:$AM,MATCH(K153,'OTRAS REFERENCIAS'!$AL:$AL,0),2))","v":""},null,{"$f":"IF(J153=\"\",\"\",INDEX(referentes!$S:$W,MATCH(J153,referentes!$S:$S,0),1))","v":""},null,null,null,null,null,null,null,{"$f":"IF(U153=\"\",\"\",INDEX('OTRAS REFERENCIAS'!$H$6:$I$11,MATCH(U153,'OTRAS REFERENCIAS'!$I$6:$I$11,0),1))","v":""},null,null,null,null,{"$f":"IF(Z153=\"\",\"\",INDEX('OTRAS REFERENCIAS'!$K$6:$L$11,MATCH(Z153,'OTRAS REFERENCIAS'!$L$6:$L$11,0),1))","v":""},null,null,null,null,{"$f":"IF(AE153=\"\",\"\",INDEX('OTRAS REFERENCIAS'!$N$6:$O$11,MATCH(AE153,'OTRAS REFERENCIAS'!$O$6:$O$11,0),1))","v":""},null,null,null,null,{"$f":"IF(AJ153=\"\",\"\",INDEX('OTRAS REFERENCIAS'!$Q$6:$R$11,MATCH(AJ153,'OTRAS REFERENCIAS'!$R$6:$R$11,0),1))","v":""},null,null,null,{"$f":"IF(AN153=\"\",\"\",INDEX('OTRAS REFERENCIAS'!$T$6:$U$11,MATCH(AN153,'OTRAS REFERENCIAS'!$U$6:$U$11,0),1))","v":""}]
[1,"",152,"","",{"$f":"IF(L154<>\"\",CONCATENATE(DIGITADOR!$B$2,$A$2,DIGITADOR!$M$1,A154),\"\")","v":""},null,null,"",{"$f":"IF(K154=\"\",\"\",INDEX('OTRAS REFERENCIAS'!$AL:$AM,MATCH(K154,'OTRAS REFERENCIAS'!$AL:$AL,0),2))","v":""},null,{"$f":"IF(J154=\"\",\"\",INDEX(referentes!$S:$W,MATCH(J154,referentes!$S:$S,0),1))","v":""},null,null,null,null,null,null,null,{"$f":"IF(U154=\"\",\"\",INDEX('OTRAS REFERENCIAS'!$H$6:$I$11,MATCH(U154,'OTRAS REFERENCIAS'!$I$6:$I$11,0),1))","v":""},null,null,null,null,{"$f":"IF(Z154=\"\",\"\",INDEX('OTRAS REFERENCIAS'!$K$6:$L$11,MATCH(Z154,'OTRAS REFERENCIAS'!$L$6:$L$11,0),1))","v":""},null,null,null,null,{"$f":"IF(AE154=\"\",\"\",INDEX('OTRAS REFERENCIAS'!$N$6:$O$11,MATCH(AE154,'OTRAS REFERENCIAS'!$O$6:$O$11,0),1))","v":""},null,null,null,null,{"$f":"IF(AJ154=\"\",\"\",INDEX('OTRAS REFERENCIAS'!$Q$6:$R$11,MATCH(AJ154,'OTRAS REFERENCIAS'!$R$6:$R$11,0),1))","v":""},null,null,null,{"$f":"IF(AN154=\"\",\"\",INDEX('OTRAS REFERENCIAS'!$T$6:$U$11,MATCH(AN154,'OTRAS REFERENCIAS'!$U$6:$U$11,0),1))","v":""}]
[1,"",153,"","",{"$f":"IF(L155<>\"\",CONCATENATE(DIGITADOR!$B$2,$A$2,DIGITADOR!$M$1,A155),\"\")","v":""},null,null,"",{"$f":"IF(K155=\"\",\"\",INDEX('OTRAS REFERENCIAS'!$AL:$AM,MATCH(K155,'OTRAS REFERENCIAS'!$AL:$AL,0),2))","v":""},null,{"$f":"IF(J155=\"\",\"\",INDEX(referentes!$S:$W,MATCH(J155,referentes!$S:$S,0),1))","v":""},null,null,null,null,null,null,null,{"$f":"IF(U155=\"\",\"\",INDEX('OTRAS REFERENCIAS'!$H$6:$I$11,MATCH(U155,'OTRAS REFERENCIAS'!$I$6:$I$11,0),1))","v":""},null,null,null,null,{"$f":"IF(Z155=\"\",\"\",INDEX('OTRAS REFERENCIAS'!$K$6:$L$11,MATCH(Z155,'OTRAS REFERENCIAS'!$L$6:$L$11,0),1))","v":""},null,null,null,null,{"$f":"IF(AE155=\"\",\"\",INDEX('OTRAS REFERENCIAS'!$N$6:$O$11,MATCH(AE155,'OTRAS REFERENCIAS'!$O$6:$O$11,0),1))","v":""},null,null,null,null,{"$f":"IF(AJ155=\"\",\"\",INDEX('OTRAS REFERENCIAS'!$Q$6:$R$11,MATCH(AJ155,'OTRAS REFERENCIAS'!$R$6:$R$11,0),1))","v":""},null,null,null,{"$f":"IF(AN155=\"\",\"\",INDEX('OTRAS REFERENCIAS'!$T$6:$U$11,MATCH(AN155,'OTRAS REFERENCIAS'!$U$6:$U$11,0),1))","v":""}]
[1,"",154,"","",{"$f":"IF(L156<>\"\",CONCATENATE(DIGITADOR!$B$2,$A$2,DIGITADOR!$M$1,A156),\"\")","v":""},null,null,"",{"$f":"IF(K156=\"\",\"\",INDEX('OTRAS REFERENCIAS'!$AL:$AM,MATCH(K156,'OTRAS REFERENCIAS'!$AL:$AL,0),2))","v":""},null,{"$f":"IF(J156=\"\",\"\",INDEX(referentes!$S:$W,MATCH(J156,referentes!$S:$S,0),1))","v":""},null,null,null,null,null,null,null,{"$f":"IF(U156=\"\",\"\",INDEX('OTRAS REFERENCIAS'!$H$6:$I$11,MATCH(U156,'OTRAS REFERENCIAS'!$I$6:$I$11,0),1))","v":""},null,null,null,null,{"$f":"IF(Z156=\"\",\"\",INDEX('OTRAS REFERENCIAS'!$K$6:$L$11,MATCH(Z156,'OTRAS REFERENCIAS'!$L$6:$L$11,0),1))","v":""},null,null,null,null,{"$f":"IF(AE156=\"\",\"\",INDEX('OTRAS REFERENCIAS'!$N$6:$O$11,MATCH(AE156,'OTRAS REFERENCIAS'!$O$6:$O$11,0),1))","v":""},null,null,null,null,{"$f":"IF(AJ156=\"\",\"\",INDEX('OTRAS REFERENCIAS'!$Q$6:$R$11,MATCH(AJ156,'OTRAS REFERENCIAS'!$R$6:$R$11,0),1))","v":""},null,null,null,{"$f":"IF(AN156=\"\",\"\",INDEX('OTRAS REFERENCIAS'!$T$6:$U$11,MATCH(AN156,'OTRAS REFERENCIAS'!$U$6:$U$11,0),1))","v":""}]
[1,"",155,"","",{"$f":"IF(L157<>\"\",CONCATENATE(DIGITADOR!$B$2,$A$2,DIGITADOR!$M$1,A157),\"\")","v":""},null,null,"",{"$f":"IF(K157=\"\",\"\",INDEX('OTRAS REFERENCIAS'!$AL:$AM,MATCH(K157,'OTRAS REFERENCIAS'!$AL:$AL,0),2))","v":""},null,{"$f":"IF(J157=\"\",\"\",INDEX(referentes!$S:$W,MATCH(J157,referentes!$S:$S,0),1))","v":""},null,null,null,null,null,null,null,{"$f":"IF(U157=\"\",\"\",INDEX('OTRAS REFERENCIAS'!$H$6:$I$11,MATCH(U157,'OTRAS REFERENCIAS'!$I$6:$I$11,0),1))","v":""},null,null,null,null,{"$f":"IF(Z157=\"\",\"\",INDEX('OTRAS REFERENCIAS'!$K$6:$L$11,MATCH(Z157,'OTRAS REFERENCIAS'!$L$6:$L$11,0),1))","v":""},null,null,null,null,{"$f":"IF(AE157=\"\",\"\",INDEX('OTRAS REFERENCIAS'!$N$6:$O$11,MATCH(AE157,'OTRAS REFERENCIAS'!$O$6:$O$11,0),1))","v":""},null,null,null,null,{"$f":"IF(AJ157=\"\",\"\",INDEX('OTRAS REFERENCIAS'!$Q$6:$R$11,MATCH(AJ157,'OTRAS REFERENCIAS'!$R$6:$R$11,0),1))","v":""},null,null,null,{"$f":"IF(AN157=\"\",\"\",INDEX('OTRAS REFERENCIAS'!$T$6:$U$11,MATCH(AN157,'OTRAS REFERENCIAS'!$U$6:$U$11,0),1))","v":""}]
[1,"",156,"","",{"$f":"IF(L158<>\"\",CONCATENATE(DIGITADOR!$B$2,$A$2,DIGITADOR!$M$1,A158),\"\")","v":""},null,null,"",{"$f":"IF(K158=\"\",\"\",INDEX('OTRAS REFERENCIAS'!$AL:$AM,MATCH(K158,'OTRAS REFERENCIAS'!$AL:$AL,0),2))","v":""},null,{"$f":"IF(J158=\"\",\"\",INDEX(referentes!$S:$W,MATCH(J158,referentes!$S:$S,0),1))","v":""},null,null,null,null,null,null,null,{"$f":"IF(U158=\"\",\"\",INDEX('OTRAS REFERENCIAS'!$H$6:$I$11,MATCH(U158,'OTRAS REFERENCIAS'!$I$6:$I$11,0),1))","v":""},null,null,null,null,{"$f":"IF(Z158=\"\",\"\",INDEX('OTRAS REFERENCIAS'!$K$6:$L$11,MATCH(Z158,'OTRAS REFERENCIAS'!$L$6:$L$11,0),1))","v":""},null,null,null,null,{"$f":"IF(AE158=\"\",\"\",INDEX('OTRAS REFERENCIAS'!$N$6:$O$11,MATCH(AE158,'OTRAS REFERENCIAS'!$O$6:$O$11,0),1))","v":""},null,null,null,null,{"$f":"IF(AJ158=\"\",\"\",INDEX('OTRAS REFERENCIAS'!$Q$6:$R$11,MATCH(AJ158,'OTRAS REFERENCIAS'!$R$6:$R$11,0),1))","v":""},null,null,null,{"$f":"IF(AN158=\"\",\"\",INDEX('OTRAS REFERENCIAS'!$T$6:$U$11,MATCH(AN158,'OTRAS REFERENCIAS'!$U$6:$U$11,0),1))","v":""}]
[1,"",157,"","",{"$f":"IF(L159<>\"\",CONCATENATE(DIGITADOR!$B$2,$A$2,DIGITADOR!$M$1,A159),\"\")","v":""},null,null,"",{"$f":"IF(K159=\"\",\"\",INDEX('OTRAS REFERENCIAS'!$AL:$AM,MATCH(K159,'OTRAS REFERENCIAS'!$AL:$AL,0),2))","v":""},null,{"$f":"IF(J159=\"\",\"\",INDEX(referentes!$S:$W,MATCH(J159,referentes!$S:$S,0),1))","v":""},null,null,null,null,null,null,null,{"$f":"IF(U159=\"\",\"\",INDEX('OTRAS REFERENCIAS'!$H$6:$I$11,MATCH(U159,'OTRAS REFERENCIAS'!$I$6:$I$11,0),1))","v":""},null,null,null,null,{"$f":"IF(Z159=\"\",\"\",INDEX('OTRAS REFERENCIAS'!$K$6:$L$11,MATCH(Z159,'OTRAS REFERENCIAS'!$L$6:$L$11,0),1))","v":""},null,null,null,null,{"$f":"IF(AE159=\"\",\"\",INDEX('OTRAS REFERENCIAS'!$N$6:$O$11,MATCH(AE159,'OTRAS REFERENCIAS'!$O$6:$O$11,0),1))","v":""},null,null,null,null,{"$f":"IF(AJ159=\"\",\"\",INDEX('OTRAS REFERENCIAS'!$Q$6:$R$11,MATCH(AJ159,'OTRAS REFERENCIAS'!$R$6:$R$11,0),1))","v":""},null,null,null,{"$f":"IF(AN159=\"\",\"\",INDEX('OTRAS REFERENCIAS'!$T$6:$U$11,MATCH(AN159,'OTRAS REFERENCIAS'!$U$6:$U$11,0),1))","v":""}]
[1,"",158,"","",{"$f":"IF(L160<>\"\",CONCATENATE(DIGITADOR!$B$2,$A$2,DIGITADOR!$M$1,A160),\"\")","v":""},null,null,"",{"$f":"IF(K160=\"\",\"\",INDEX('OTRAS REFERENCIAS'!$AL:$AM,MATCH(K160,'OTRAS REFERENCIAS'!$AL:$AL,0),2))","v":""},null,{"$f":"IF(J160=\"\",\"\",INDEX(referentes!$S:$W,MATCH(J160,referentes!$S:$S,0),1))","v":""},null,null,null,null,null,null,null,{"$f":"IF(U160=\"\",\"\",INDEX('OTRAS REFERENCIAS'!$H$6:$I$11,MATCH(U160,'OTRAS REFERENCIAS'!$I$6:$I$11,0),1))","v":""},null,null,null,null,{"$f":"IF(Z160=\"\",\"\",INDEX('OTRAS REFERENCIAS'!$K$6:$L$11,MATCH(Z160,'OTRAS REFERENCIAS'!$L$6:$L$11,0),1))","v":""},null,null,null,null,{"$f":"IF(AE160=\"\",\"\",INDEX('OTRAS REFERENCIAS'!$N$6:$O$11,MATCH(AE160,'OTRAS REFERENCIAS'!$O$6:$O$11,0),1))","v":""},null,null,null,null,{"$f":"IF(AJ160=\"\",\"\",INDEX('OTRAS REFERENCIAS'!$Q$6:$R$11,MATCH(AJ160,'OTRAS REFERENCIAS'!$R$6:$R$11,0),1))","v":""},null,null,null,{"$f":"IF(AN160=\"\",\"\",INDEX('OTRAS REFERENCIAS'!$T$6:$U$11,MATCH(AN160,'OTRAS REFERENCIAS'!$U$6:$U$11,0),1))","v":""}]
[1,"",159,"","",{"$f":"IF(L161<>\"\",CONCATENATE(DIGITADOR!$B$2,$A$2,DIGITADOR!$M$1,A161),\"\")","v":""},null,null,"",{"$f":"IF(K161=\"\",\"\",INDEX('OTRAS REFERENCIAS'!$AL:$AM,MATCH(K161,'OTRAS REFERENCIAS'!$AL:$AL,0),2))","v":""},null,{"$f":"IF(J161=\"\",\"\",INDEX(referentes!$S:$W,MATCH(J161,referentes!$S:$S,0),1))","v":""},null,null,null,null,null,null,null,{"$f":"IF(U161=\"\",\"\",INDEX('OTRAS REFERENCIAS'!$H$6:$I$11,MATCH(U161,'OTRAS REFERENCIAS'!$I$6:$I$11,0),1))","v":""},null,null,null,null,{"$f":"IF(Z161=\"\",\"\",INDEX('OTRAS REFERENCIAS'!$K$6:$L$11,MATCH(Z161,'OTRAS REFERENCIAS'!$L$6:$L$11,0),1))","v":""},null,null,null,null,{"$f":"IF(AE161=\"\",\"\",INDEX('OTRAS REFERENCIAS'!$N$6:$O$11,MATCH(AE161,'OTRAS REFERENCIAS'!$O$6:$O$11,0),1))","v":""},null,null,null,null,{"$f":"IF(AJ161=\"\",\"\",INDEX('OTRAS REFERENCIAS'!$Q$6:$R$11,MATCH(AJ161,'OTRAS REFERENCIAS'!$R$6:$R$11,0),1))","v":""},null,null,null,{"$f":"IF(AN161=\"\",\"\",INDEX('OTRAS REFERENCIAS'!$T$6:$U$11,MATCH(AN161,'OTRAS REFERENCIAS'!$U$6:$U$11,0),1))","v":""}]
[1,"",160,"","",{"$f":"IF(L162<>\"\",CONCATENATE(DIGITADOR!$B$2,$A$2,DIGITADOR!$M$1,A162),\"\")","v":""},null,null,"",{"$f":"IF(K162=\"\",\"\",INDEX('OTRAS REFERENCIAS'!$AL:$AM,MATCH(K162,'OTRAS REFERENCIAS'!$AL:$AL,0),2))","v":""},null,{"$f":"IF(J162=\"\",\"\",INDEX(referentes!$S:$W,MATCH(J162,referentes!$S:$S,0),1))","v":""},null,null,null,null,null,null,null,{"$f":"IF(U162=\"\",\"\",INDEX('OTRAS REFERENCIAS'!$H$6:$I$11,MATCH(U162,'OTRAS REFERENCIAS'!$I$6:$I$11,0),1))","v":""},null,null,null,null,{"$f":"IF(Z162=\"\",\"\",INDEX('OTRAS REFERENCIAS'!$K$6:$L$11,MATCH(Z162,'OTRAS REFERENCIAS'!$L$6:$L$11,0),1))","v":""},null,null,null,null,{"$f":"IF(AE162=\"\",\"\",INDEX('OTRAS REFERENCIAS'!$N$6:$O$11,MATCH(AE162,'OTRAS REFERENCIAS'!$O$6:$O$11,0),1))","v":""},null,null,null,null,{"$f":"IF(AJ162=\"\",\"\",INDEX('OTRAS REFERENCIAS'!$Q$6:$R$11,MATCH(AJ162,'OTRAS REFERENCIAS'!$R$6:$R$11,0),1))","v":""},null,null,null,{"$f":"IF(AN162=\"\",\"\",INDEX('OTRAS REFERENCIAS'!$T$6:$U$11,MATCH(AN162,'OTRAS REFERENCIAS'!$U$6:$U$11,0),1))","v":""}]
[1,"",161,"","",{"$f":"IF(L163<>\"\",CONCATENATE(DIGITADOR!$B$2,$A$2,DIGITADOR!$M$1,A163),\"\")","v":""},null,null,"",{"$f":"IF(K163=\"\",\"\",INDEX('OTRAS REFERENCIAS'!$AL:$AM,MATCH(K163,'OTRAS REFERENCIAS'!$AL:$AL,0),2))","v":""},null,{"$f":"IF(J163=\"\",\"\",INDEX(referentes!$S:$W,MATCH(J163,referentes!$S:$S,0),1))","v":""},null,null,null,null,null,null,null,{"$f":"IF(U163=\"\",\"\",INDEX('OTRAS REFERENCIAS'!$H$6:$I$11,MATCH(U163,'OTRAS REFERENCIAS'!$I$6:$I$11,0),1))","v":""},null,null,null,null,{"$f":"IF(Z163=\"\",\"\",INDEX('OTRAS REFERENCIAS'!$K$6:$L$11,MATCH(Z163,'OTRAS REFERENCIAS'!$L$6:$L$11,0),1))","v":""},null,null,null,null,{"$f":"IF(AE163=\"\",\"\",INDEX('OTRAS REFERENCIAS'!$N$6:$O$11,MATCH(AE163,'OTRAS REFERENCIAS'!$O$6:$O$11,0),1))","v":""},null,null,null,null,{"$f":"IF(AJ163=\"\",\"\",INDEX('OTRAS REFERENCIAS'!$Q$6:$R$11,MATCH(AJ163,'OTRAS REFERENCIAS'!$R$6:$R$11,0),1))","v":""},null,null,null,{"$f":"IF(AN163=\"\",\"\",INDEX('OTRAS REFERENCIAS'!$T$6:$U$11,MATCH(AN163,'OTRAS REFERENCIAS'!$U$6:$U$11,0),1))","v":""}]
[1,"",162,"","",{"$f":"IF(L164<>\"\",CONCATENATE(DIGITADOR!$B$2,$A$2,DIGITADOR!$M$1,A164),\"\")","v":""},null,null,"",{"$f":"IF(K164=\"\",\"\",INDEX('OTRAS REFERENCIAS'!$AL:$AM,MATCH(K164,'OTRAS REFERENCIAS'!$AL:$AL,0),2))","v":""},null,{"$f":"IF(J164=\"\",\"\",INDEX(referentes!$S:$W,MATCH(J164,referentes!$S:$S,0),1))","v":""},null,null,null,null,null,null,null,{"$f":"IF(U164=\"\",\"\",INDEX('OTRAS REFERENCIAS'!$H$6:$I$11,MATCH(U164,'OTRAS REFERENCIAS'!$I$6:$I$11,0),1))","v":""},null,null,null,null,{"$f":"IF(Z164=\"\",\"\",INDEX('OTRAS REFERENCIAS'!$K$6:$L$11,MATCH(Z164,'OTRAS REFERENCIAS'!$L$6:$L$11,0),1))","v":""},null,null,null,null,{"$f":"IF(AE164=\"\",\"\",INDEX('OTRAS REFERENCIAS'!$N$6:$O$11,MATCH(AE164,'OTRAS REFERENCIAS'!$O$6:$O$11,0),1))","v":""},null,null,null,null,{"$f":"IF(AJ164=\"\",\"\",INDEX('OTRAS REFERENCIAS'!$Q$6:$R$11,MATCH(AJ164,'OTRAS REFERENCIAS'!$R$6:$R$11,0),1))","v":""},null,null,null,{"$f":"IF(AN164=\"\",\"\",INDEX('OTRAS REFERENCIAS'!$T$6:$U$11,MATCH(AN164,'OTRAS REFERENCIAS'!$U$6:$U$11,0),1))","v":""}]
[1,"",163,"","",{"$f":"IF(L165<>\"\",CONCATENATE(DIGITADOR!$B$2,$A$2,DIGITADOR!$M$1,A165),\"\")","v":""},null,null,"",{"$f":"IF(K165=\"\",\"\",INDEX('OTRAS REFERENCIAS'!$AL:$AM,MATCH(K165,'OTRAS REFERENCIAS'!$AL:$AL,0),2))","v":""},null,{"$f":"IF(J165=\"\",\"\",INDEX(referentes!$S:$W,MATCH(J165,referentes!$S:$S,0),1))","v":""},null,null,null,null,null,null,null,{"$f":"IF(U165=\"\",\"\",INDEX('OTRAS REFERENCIAS'!$H$6:$I$11,MATCH(U165,'OTRAS REFERENCIAS'!$I$6:$I$11,0),1))","v":""},null,null,null,null,{"$f":"IF(Z165=\"\",\"\",INDEX('OTRAS REFERENCIAS'!$K$6:$L$11,MATCH(Z165,'OTRAS REFERENCIAS'!$L$6:$L$11,0),1))","v":""},null,null,null,null,{"$f":"IF(AE165=\"\",\"\",INDEX('OTRAS REFERENCIAS'!$N$6:$O$11,MATCH(AE165,'OTRAS REFERENCIAS'!$O$6:$O$11,0),1))","v":""},null,null,null,null,{"$f":"IF(AJ165=\"\",\"\",INDEX('OTRAS REFERENCIAS'!$Q$6:$R$11,MATCH(AJ165,'OTRAS REFERENCIAS'!$R$6:$R$11,0),1))","v":""},null,null,null,{"$f":"IF(AN165=\"\",\"\",INDEX('OTRAS REFERENCIAS'!$T$6:$U$11,MATCH(AN165,'OTRAS REFERENCIAS'!$U$6:$U$11,0),1))","v":""}]
[1,"",164,"","",{"$f":"IF(L166<>\"\",CONCATENATE(DIGITADOR!$B$2,$A$2,DIGITADOR!$M$1,A166),\"\")","v":""},null,null,"",{"$f":"IF(K166=\"\",\"\",INDEX('OTRAS REFERENCIAS'!$AL:$AM,MATCH(K166,'OTRAS REFERENCIAS'!$AL:$AL,0),2))","v":""},null,{"$f":"IF(J166=\"\",\"\",INDEX(referentes!$S:$W,MATCH(J166,referentes!$S:$S,0),1))","v":""},null,null,null,null,null,null,null,{"$f":"IF(U166=\"\",\"\",INDEX('OTRAS REFERENCIAS'!$H$6:$I$11,MATCH(U166,'OTRAS REFERENCIAS'!$I$6:$I$11,0),1))","v":""},null,null,null,null,{"$f":"IF(Z166=\"\",\"\",INDEX('OTRAS REFERENCIAS'!$K$6:$L$11,MATCH(Z166,'OTRAS REFERENCIAS'!$L$6:$L$11,0),1))","v":""},null,null,null,null,{"$f":"IF(AE166=\"\",\"\",INDEX('OTRAS REFERENCIAS'!$N$6:$O$11,MATCH(AE166,'OTRAS REFERENCIAS'!$O$6:$O$11,0),1))","v":""},null,null,null,null,{"$f":"IF(AJ166=\"\",\"\",INDEX('OTRAS REFERENCIAS'!$Q$6:$R$11,MATCH(AJ166,'OTRAS REFERENCIAS'!$R$6:$R$11,0),1))","v":""},null,null,null,{"$f":"IF(AN166=\"\",\"\",INDEX('OTRAS REFERENCIAS'!$T$6:$U$11,MATCH(AN166,'OTRAS REFERENCIAS'!$U$6:$U$11,0),1))","v":""}]
[1,"",165,"","",{"$f":"IF(L167<>\"\",CONCATENATE(DIGITADOR!$B$2,$A$2,DIGITADOR!$M$1,A167),\"\")","v":""},null,null,"",{"$f":"IF(K167=\"\",\"\",INDEX('OTRAS REFERENCIAS'!$AL:$AM,MATCH(K167,'OTRAS REFERENCIAS'!$AL:$AL,0),2))","v":""},null,{"$f":"IF(J167=\"\",\"\",INDEX(referentes!$S:$W,MATCH(J167,referentes!$S:$S,0),1))","v":""},null,null,null,null,null,null,null,{"$f":"IF(U167=\"\",\"\",INDEX('OTRAS REFERENCIAS'!$H$6:$I$11,MATCH(U167,'OTRAS REFERENCIAS'!$I$6:$I$11,0),1))","v":""},null,null,null,null,{"$f":"IF(Z167=\"\",\"\",INDEX('OTRAS REFERENCIAS'!$K$6:$L$11,MATCH(Z167,'OTRAS REFERENCIAS'!$L$6:$L$11,0),1))","v":""},null,null,null,null,{"$f":"IF(AE167=\"\",\"\",INDEX('OTRAS REFERENCIAS'!$N$6:$O$11,MATCH(AE167,'OTRAS REFERENCIAS'!$O$6:$O$11,0),1))","v":""},null,null,null,null,{"$f":"IF(AJ167=\"\",\"\",INDEX('OTRAS REFERENCIAS'!$Q$6:$R$11,MATCH(AJ167,'OTRAS REFERENCIAS'!$R$6:$R$11,0),1))","v":""},null,null,null,{"$f":"IF(AN167=\"\",\"\",INDEX('OTRAS REFERENCIAS'!$T$6:$U$11,MATCH(AN167,'OTRAS REFERENCIAS'!$U$6:$U$11,0),1))","v":""}]
[1,"",166,"","",{"$f":"IF(L168<>\"\",CONCATENATE(DIGITADOR!$B$2,$A$2,DIGITADOR!$M$1,A168),\"\")","v":""},null,null,"",{"$f":"IF(K168=\"\",\"\",INDEX('OTRAS REFERENCIAS'!$AL:$AM,MATCH(K168,'OTRAS REFERENCIAS'!$AL:$AL,0),2))","v":""},null,{"$f":"IF(J168=\"\",\"\",INDEX(referentes!$S:$W,MATCH(J168,referentes!$S:$S,0),1))","v":""},null,null,null,null,null,null,null,{"$f":"IF(U168=\"\",\"\",INDEX('OTRAS REFERENCIAS'!$H$6:$I$11,MATCH(U168,'OTRAS REFERENCIAS'!$I$6:$I$11,0),1))","v":""},null,null,null,null,{"$f":"IF(Z168=\"\",\"\",INDEX('OTRAS REFERENCIAS'!$K$6:$L$11,MATCH(Z168,'OTRAS REFERENCIAS'!$L$6:$L$11,0),1))","v":""},null,null,null,null,{"$f":"IF(AE168=\"\",\"\",INDEX('OTRAS REFERENCIAS'!$N$6:$O$11,MATCH(AE168,'OTRAS REFERENCIAS'!$O$6:$O$11,0),1))","v":""},null,null,null,null,{"$f":"IF(AJ168=\"\",\"\",INDEX('OTRAS REFERENCIAS'!$Q$6:$R$11,MATCH(AJ168,'OTRAS REFERENCIAS'!$R$6:$R$11,0),1))","v":""},null,null,null,{"$f":"IF(AN168=\"\",\"\",INDEX('OTRAS REFERENCIAS'!$T$6:$U$11,MATCH(AN168,'OTRAS REFERENCIAS'!$U$6:$U$11,0),1))","v":""}]
[1,"",167,"","",{"$f":"IF(L169<>\"\",CONCATENATE(DIGITADOR!$B$2,$A$2,DIGITADOR!$M$1,A169),\"\")","v":""},null,null,"",{"$f":"IF(K169=\"\",\"\",INDEX('OTRAS REFERENCIAS'!$AL:$AM,MATCH(K169,'OTRAS REFERENCIAS'!$AL:$AL,0),2))","v":""},null,{"$f":"IF(J169=\"\",\"\",INDEX(referentes!$S:$W,MATCH(J169,referentes!$S:$S,0),1))","v":""},null,null,null,null,null,null,null,{"$f":"IF(U169=\"\",\"\",INDEX('OTRAS REFERENCIAS'!$H$6:$I$11,MATCH(U169,'OTRAS REFERENCIAS'!$I$6:$I$11,0),1))","v":""},null,null,null,null,{"$f":"IF(Z169=\"\",\"\",INDEX('OTRAS REFERENCIAS'!$K$6:$L$11,MATCH(Z169,'OTRAS REFERENCIAS'!$L$6:$L$11,0),1))","v":""},null,null,null,null,{"$f":"IF(AE169=\"\",\"\",INDEX('OTRAS REFERENCIAS'!$N$6:$O$11,MATCH(AE169,'OTRAS REFERENCIAS'!$O$6:$O$11,0),1))","v":""},null,null,null,null,{"$f":"IF(AJ169=\"\",\"\",INDEX('OTRAS REFERENCIAS'!$Q$6:$R$11,MATCH(AJ169,'OTRAS REFERENCIAS'!$R$6:$R$11,0),1))","v":""},null,null,null,{"$f":"IF(AN169=\"\",\"\",INDEX('OTRAS REFERENCIAS'!$T$6:$U$11,MATCH(AN169,'OTRAS REFERENCIAS'!$U$6:$U$11,0),1))","v":""}]
[1,"",168,"","",{"$f":"IF(L170<>\"\",CONCATENATE(DIGITADOR!$B$2,$A$2,DIGITADOR!$M$1,A170),\"\")","v":""},null,null,"",{"$f":"IF(K170=\"\",\"\",INDEX('OTRAS REFERENCIAS'!$AL:$AM,MATCH(K170,'OTRAS REFERENCIAS'!$AL:$AL,0),2))","v":""},null,{"$f":"IF(J170=\"\",\"\",INDEX(referentes!$S:$W,MATCH(J170,referentes!$S:$S,0),1))","v":""},null,null,null,null,null,null,null,{"$f":"IF(U170=\"\",\"\",INDEX('OTRAS REFERENCIAS'!$H$6:$I$11,MATCH(U170,'OTRAS REFERENCIAS'!$I$6:$I$11,0),1))","v":""},null,null,null,null,{"$f":"IF(Z170=\"\",\"\",INDEX('OTRAS REFERENCIAS'!$K$6:$L$11,MATCH(Z170,'OTRAS REFERENCIAS'!$L$6:$L$11,0),1))","v":""},null,null,null,null,{"$f":"IF(AE170=\"\",\"\",INDEX('OTRAS REFERENCIAS'!$N$6:$O$11,MATCH(AE170,'OTRAS REFERENCIAS'!$O$6:$O$11,0),1))","v":""},null,null,null,null,{"$f":"IF(AJ170=\"\",\"\",INDEX('OTRAS REFERENCIAS'!$Q$6:$R$11,MATCH(AJ170,'OTRAS REFERENCIAS'!$R$6:$R$11,0),1))","v":""},null,null,null,{"$f":"IF(AN170=\"\",\"\",INDEX('OTRAS REFERENCIAS'!$T$6:$U$11,MATCH(AN170,'OTRAS REFERENCIAS'!$U$6:$U$11,0),1))","v":""}]
[1,"",169,"","",{"$f":"IF(L171<>\"\",CONCATENATE(DIGITADOR!$B$2,$A$2,DIGITADOR!$M$1,A171),\"\")","v":""},null,null,"",{"$f":"IF(K171=\"\",\"\",INDEX('OTRAS REFERENCIAS'!$AL:$AM,MATCH(K171,'OTRAS REFERENCIAS'!$AL:$AL,0),2))","v":""},null,{"$f":"IF(J171=\"\",\"\",INDEX(referentes!$S:$W,MATCH(J171,referentes!$S:$S,0),1))","v":""},null,null,null,null,null,null,null,{"$f":"IF(U171=\"\",\"\",INDEX('OTRAS REFERENCIAS'!$H$6:$I$11,MATCH(U171,'OTRAS REFERENCIAS'!$I$6:$I$11,0),1))","v":""},null,null,null,null,{"$f":"IF(Z171=\"\",\"\",INDEX('OTRAS REFERENCIAS'!$K$6:$L$11,MATCH(Z171,'OTRAS REFERENCIAS'!$L$6:$L$11,0),1))","v":""},null,null,null,null,{"$f":"IF(AE171=\"\",\"\",INDEX('OTRAS REFERENCIAS'!$N$6:$O$11,MATCH(AE171,'OTRAS REFERENCIAS'!$O$6:$O$11,0),1))","v":""},null,null,null,null,{"$f":"IF(AJ171=\"\",\"\",INDEX('OTRAS REFERENCIAS'!$Q$6:$R$11,MATCH(AJ171,'OTRAS REFERENCIAS'!$R$6:$R$11,0),1))","v":""},null,null,null,{"$f":"IF(AN171=\"\",\"\",INDEX('OTRAS REFERENCIAS'!$T$6:$U$11,MATCH(AN171,'OTRAS REFERENCIAS'!$U$6:$U$11,0),1))","v":""}]
[1,"",170,"","",{"$f":"IF(L172<>\"\",CONCATENATE(DIGITADOR!$B$2,$A$2,DIGITADOR!$M$1,A172),\"\")","v":""},null,null,"",{"$f":"IF(K172=\"\",\"\",INDEX('OTRAS REFERENCIAS'!$AL:$AM,MATCH(K172,'OTRAS REFERENCIAS'!$AL:$AL,0),2))","v":""},null,{"$f":"IF(J172=\"\",\"\",INDEX(referentes!$S:$W,MATCH(J172,referentes!$S:$S,0),1))","v":""},null,null,null,null,null,null,null,{"$f":"IF(U172=\"\",\"\",INDEX('OTRAS REFERENCIAS'!$H$6:$I$11,MATCH(U172,'OTRAS REFERENCIAS'!$I$6:$I$11,0),1))","v":""},null,null,null,null,{"$f":"IF(Z172=\"\",\"\",INDEX('OTRAS REFERENCIAS'!$K$6:$L$11,MATCH(Z172,'OTRAS REFERENCIAS'!$L$6:$L$11,0),1))","v":""},null,null,null,null,{"$f":"IF(AE172=\"\",\"\",INDEX('OTRAS REFERENCIAS'!$N$6:$O$11,MATCH(AE172,'OTRAS REFERENCIAS'!$O$6:$O$11,0),1))","v":""},null,null,null,null,{"$f":"IF(AJ172=\"\",\"\",INDEX('OTRAS REFERENCIAS'!$Q$6:$R$11,MATCH(AJ172,'OTRAS REFERENCIAS'!$R$6:$R$11,0),1))","v":""},null,null,null,{"$f":"IF(AN172=\"\",\"\",INDEX('OTRAS REFERENCIAS'!$T$6:$U$11,MATCH(AN172,'OTRAS REFERENCIAS'!$U$6:$U$11,0),1))","v":""}]
[1,"",171,"","",{"$f":"IF(L173<>\"\",CONCATENATE(DIGITADOR!$B$2,$A$2,DIGITADOR!$M$1,A173),\"\")","v":""},null,null,"",{"$f":"IF(K173=\"\",\"\",INDEX('OTRAS REFERENCIAS'!$AL:$AM,MATCH(K173,'OTRAS REFERENCIAS'!$AL:$AL,0),2))","v":""},null,{"$f":"IF(J173=\"\",\"\",INDEX(referentes!$S:$W,MATCH(J173,referentes!$S:$S,0),1))","v":""},null,null,null,null,null,null,null,{"$f":"IF(U173=\"\",\"\",INDEX('OTRAS REFERENCIAS'!$H$6:$I$11,MATCH(U173,'OTRAS REFERENCIAS'!$I$6:$I$11,0),1))","v":""},null,null,null,null,{"$f":"IF(Z173=\"\",\"\",INDEX('OTRAS REFERENCIAS'!$K$6:$L$11,MATCH(Z173,'OTRAS REFERENCIAS'!$L$6:$L$11,0),1))","v":""},null,null,null,null,{"$f":"IF(AE173=\"\",\"\",INDEX('OTRAS REFERENCIAS'!$N$6:$O$11,MATCH(AE173,'OTRAS REFERENCIAS'!$O$6:$O$11,0),1))","v":""},null,null,null,null,{"$f":"IF(AJ173=\"\",\"\",INDEX('OTRAS REFERENCIAS'!$Q$6:$R$11,MATCH(AJ173,'OTRAS REFERENCIAS'!$R$6:$R$11,0),1))","v":""},null,null,null,{"$f":"IF(AN173=\"\",\"\",INDEX('OTRAS REFERENCIAS'!$T$6:$U$11,MATCH(AN173,'OTRAS REFERENCIAS'!$U$6:$U$11,0),1))","v":""}]
[1,"",172,"","",{"$f":"IF(L174<>\"\",CONCATENATE(DIGITADOR!$B$2,$A$2,DIGITADOR!$M$1,A174),\"\")","v":""},null,null,"",{"$f":"IF(K174=\"\",\"\",INDEX('OTRAS REFERENCIAS'!$AL:$AM,MATCH(K174,'OTRAS REFERENCIAS'!$AL:$AL,0),2))","v":""},null,{"$f":"IF(J174=\"\",\"\",INDEX(referentes!$S:$W,MATCH(J174,referentes!$S:$S,0),1))","v":""},null,null,null,null,null,null,null,{"$f":"IF(U174=\"\",\"\",INDEX('OTRAS REFERENCIAS'!$H$6:$I$11,MATCH(U174,'OTRAS REFERENCIAS'!$I$6:$I$11,0),1))","v":""},null,null,null,null,{"$f":"IF(Z174=\"\",\"\",INDEX('OTRAS REFERENCIAS'!$K$6:$L$11,MATCH(Z174,'OTRAS REFERENCIAS'!$L$6:$L$11,0),1))","v":""},null,null,null,null,{"$f":"IF(AE174=\"\",\"\",INDEX('OTRAS REFERENCIAS'!$N$6:$O$11,MATCH(AE174,'OTRAS REFERENCIAS'!$O$6:$O$11,0),1))","v":""},null,null,null,null,{"$f":"IF(AJ174=\"\",\"\",INDEX('OTRAS REFERENCIAS'!$Q$6:$R$11,MATCH(AJ174,'OTRAS REFERENCIAS'!$R$6:$R$11,0),1))","v":""},null,null,null,{"$f":"IF(AN174=\"\",\"\",INDEX('OTRAS REFERENCIAS'!$T$6:$U$11,MATCH(AN174,'OTRAS REFERENCIAS'!$U$6:$U$11,0),1))","v":""}]
[1,"",173,"","",{"$f":"IF(L175<>\"\",CONCATENATE(DIGITADOR!$B$2,$A$2,DIGITADOR!$M$1,A175),\"\")","v":""},null,null,"",{"$f":"IF(K175=\"\",\"\",INDEX('OTRAS REFERENCIAS'!$AL:$AM,MATCH(K175,'OTRAS REFERENCIAS'!$AL:$AL,0),2))","v":""},null,{"$f":"IF(J175=\"\",\"\",INDEX(referentes!$S:$W,MATCH(J175,referentes!$S:$S,0),1))","v":""},null,null,null,null,null,null,null,{"$f":"IF(U175=\"\",\"\",INDEX('OTRAS REFERENCIAS'!$H$6:$I$11,MATCH(U175,'OTRAS REFERENCIAS'!$I$6:$I$11,0),1))","v":""},null,null,null,null,{"$f":"IF(Z175=\"\",\"\",INDEX('OTRAS REFERENCIAS'!$K$6:$L$11,MATCH(Z175,'OTRAS REFERENCIAS'!$L$6:$L$11,0),1))","v":""},null,null,null,null,{"$f":"IF(AE175=\"\",\"\",INDEX('OTRAS REFERENCIAS'!$N$6:$O$11,MATCH(AE175,'OTRAS REFERENCIAS'!$O$6:$O$11,0),1))","v":""},null,null,null,null,{"$f":"IF(AJ175=\"\",\"\",INDEX('OTRAS REFERENCIAS'!$Q$6:$R$11,MATCH(AJ175,'OTRAS REFERENCIAS'!$R$6:$R$11,0),1))","v":""},null,null,null,{"$f":"IF(AN175=\"\",\"\",INDEX('OTRAS REFERENCIAS'!$T$6:$U$11,MATCH(AN175,'OTRAS REFERENCIAS'!$U$6:$U$11,0),1))","v":""}]
[1,"",174,"","",{"$f":"IF(L176<>\"\",CONCATENATE(DIGITADOR!$B$2,$A$2,DIGITADOR!$M$1,A176),\"\")","v":""},null,null,"",{"$f":"IF(K176=\"\",\"\",INDEX('OTRAS REFERENCIAS'!$AL:$AM,MATCH(K176,'OTRAS REFERENCIAS'!$AL:$AL,0),2))","v":""},null,{"$f":"IF(J176=\"\",\"\",INDEX(referentes!$S:$W,MATCH(J176,referentes!$S:$S,0),1))","v":""},null,null,null,null,null,null,null,{"$f":"IF(U176=\"\",\"\",INDEX('OTRAS REFERENCIAS'!$H$6:$I$11,MATCH(U176,'OTRAS REFERENCIAS'!$I$6:$I$11,0),1))","v":""},null,null,null,null,{"$f":"IF(Z176=\"\",\"\",INDEX('OTRAS REFERENCIAS'!$K$6:$L$11,MATCH(Z176,'OTRAS REFERENCIAS'!$L$6:$L$11,0),1))","v":""},null,null,null,null,{"$f":"IF(AE176=\"\",\"\",INDEX('OTRAS REFERENCIAS'!$N$6:$O$11,MATCH(AE176,'OTRAS REFERENCIAS'!$O$6:$O$11,0),1))","v":""},null,null,null,null,{"$f":"IF(AJ176=\"\",\"\",INDEX('OTRAS REFERENCIAS'!$Q$6:$R$11,MATCH(AJ176,'OTRAS REFERENCIAS'!$R$6:$R$11,0),1))","v":""},null,null,null,{"$f":"IF(AN176=\"\",\"\",INDEX('OTRAS REFERENCIAS'!$T$6:$U$11,MATCH(AN176,'OTRAS REFERENCIAS'!$U$6:$U$11,0),1))","v":""}]
[1,"",175,"","",{"$f":"IF(L177<>\"\",CONCATENATE(DIGITADOR!$B$2,$A$2,DIGITADOR!$M$1,A177),\"\")","v":""},null,null,"",{"$f":"IF(K177=\"\",\"\",INDEX('OTRAS REFERENCIAS'!$AL:$AM,MATCH(K177,'OTRAS REFERENCIAS'!$AL:$AL,0),2))","v":""},null,{"$f":"IF(J177=\"\",\"\",INDEX(referentes!$S:$W,MATCH(J177,referentes!$S:$S,0),1))","v":""},null,null,null,null,null,null,null,{"$f":"IF(U177=\"\",\"\",INDEX('OTRAS REFERENCIAS'!$H$6:$I$11,MATCH(U177,'OTRAS REFERENCIAS'!$I$6:$I$11,0),1))","v":""},null,null,null,null,{"$f":"IF(Z177=\"\",\"\",INDEX('OTRAS REFERENCIAS'!$K$6:$L$11,MATCH(Z177,'OTRAS REFERENCIAS'!$L$6:$L$11,0),1))","v":""},null,null,null,null,{"$f":"IF(AE177=\"\",\"\",INDEX('OTRAS REFERENCIAS'!$N$6:$O$11,MATCH(AE177,'OTRAS REFERENCIAS'!$O$6:$O$11,0),1))","v":""},null,null,null,null,{"$f":"IF(AJ177=\"\",\"\",INDEX('OTRAS REFERENCIAS'!$Q$6:$R$11,MATCH(AJ177,'OTRAS REFERENCIAS'!$R$6:$R$11,0),1))","v":""},null,null,null,{"$f":"IF(AN177=\"\",\"\",INDEX('OTRAS REFERENCIAS'!$T$6:$U$11,MATCH(AN177,'OTRAS REFERENCIAS'!$U$6:$U$11,0),1))","v":""}]
[1,"",176,"","",{"$f":"IF(L178<>\"\",CONCATENATE(DIGITADOR!$B$2,$A$2,DIGITADOR!$M$1,A178),\"\")","v":""},null,null,"",{"$f":"IF(K178=\"\",\"\",INDEX('OTRAS REFERENCIAS'!$AL:$AM,MATCH(K178,'OTRAS REFERENCIAS'!$AL:$AL,0),2))","v":""},null,{"$f":"IF(J178=\"\",\"\",INDEX(referentes!$S:$W,MATCH(J178,referentes!$S:$S,0),1))","v":""},null,null,null,null,null,null,null,{"$f":"IF(U178=\"\",\"\",INDEX('OTRAS REFERENCIAS'!$H$6:$I$11,MATCH(U178,'OTRAS REFERENCIAS'!$I$6:$I$11,0),1))","v":""},null,null,null,null,{"$f":"IF(Z178=\"\",\"\",INDEX('OTRAS REFERENCIAS'!$K$6:$L$11,MATCH(Z178,'OTRAS REFERENCIAS'!$L$6:$L$11,0),1))","v":""},null,null,null,null,{"$f":"IF(AE178=\"\",\"\",INDEX('OTRAS REFERENCIAS'!$N$6:$O$11,MATCH(AE178,'OTRAS REFERENCIAS'!$O$6:$O$11,0),1))","v":""},null,null,null,null,{"$f":"IF(AJ178=\"\",\"\",INDEX('OTRAS REFERENCIAS'!$Q$6:$R$11,MATCH(AJ178,'OTRAS REFERENCIAS'!$R$6:$R$11,0),1))","v":""},null,null,null,{"$f":"IF(AN178=\"\",\"\",INDEX('OTRAS REFERENCIAS'!$T$6:$U$11,MATCH(AN178,'OTRAS REFERENCIAS'!$U$6:$U$11,0),1))","v":""}]
[1,"",177,"","",{"$f":"IF(L179<>\"\",CONCATENATE(DIGITADOR!$B$2,$A$2,DIGITADOR!$M$1,A179),\"\")","v":""},null,null,"",{"$f":"IF(K179=\"\",\"\",INDEX('OTRAS REFERENCIAS'!$AL:$AM,MATCH(K179,'OTRAS REFERENCIAS'!$AL:$AL,0),2))","v":""},null,{"$f":"IF(J179=\"\",\"\",INDEX(referentes!$S:$W,MATCH(J179,referentes!$S:$S,0),1))","v":""},null,null,null,null,null,null,null,{"$f":"IF(U179=\"\",\"\",INDEX('OTRAS REFERENCIAS'!$H$6:$I$11,MATCH(U179,'OTRAS REFERENCIAS'!$I$6:$I$11,0),1))","v":""},null,null,null,null,{"$f":"IF(Z179=\"\",\"\",INDEX('OTRAS REFERENCIAS'!$K$6:$L$11,MATCH(Z179,'OTRAS REFERENCIAS'!$L$6:$L$11,0),1))","v":""},null,null,null,null,{"$f":"IF(AE179=\"\",\"\",INDEX('OTRAS REFERENCIAS'!$N$6:$O$11,MATCH(AE179,'OTRAS REFERENCIAS'!$O$6:$O$11,0),1))","v":""},null,null,null,null,{"$f":"IF(AJ179=\"\",\"\",INDEX('OTRAS REFERENCIAS'!$Q$6:$R$11,MATCH(AJ179,'OTRAS REFERENCIAS'!$R$6:$R$11,0),1))","v":""},null,null,null,{"$f":"IF(AN179=\"\",\"\",INDEX('OTRAS REFERENCIAS'!$T$6:$U$11,MATCH(AN179,'OTRAS REFERENCIAS'!$U$6:$U$11,0),1))","v":""}]
[1,"",178,"","",{"$f":"IF(L180<>\"\",CONCATENATE(DIGITADOR!$B$2,$A$2,DIGITADOR!$M$1,A180),\"\")","v":""},null,null,"",{"$f":"IF(K180=\"\",\"\",INDEX('OTRAS REFERENCIAS'!$AL:$AM,MATCH(K180,'OTRAS REFERENCIAS'!$AL:$AL,0),2))","v":""},null,{"$f":"IF(J180=\"\",\"\",INDEX(referentes!$S:$W,MATCH(J180,referentes!$S:$S,0),1))","v":""},null,null,null,null,null,null,null,{"$f":"IF(U180=\"\",\"\",INDEX('OTRAS REFERENCIAS'!$H$6:$I$11,MATCH(U180,'OTRAS REFERENCIAS'!$I$6:$I$11,0),1))","v":""},null,null,null,null,{"$f":"IF(Z180=\"\",\"\",INDEX('OTRAS REFERENCIAS'!$K$6:$L$11,MATCH(Z180,'OTRAS REFERENCIAS'!$L$6:$L$11,0),1))","v":""},null,null,null,null,{"$f":"IF(AE180=\"\",\"\",INDEX('OTRAS REFERENCIAS'!$N$6:$O$11,MATCH(AE180,'OTRAS REFERENCIAS'!$O$6:$O$11,0),1))","v":""},null,null,null,null,{"$f":"IF(AJ180=\"\",\"\",INDEX('OTRAS REFERENCIAS'!$Q$6:$R$11,MATCH(AJ180,'OTRAS REFERENCIAS'!$R$6:$R$11,0),1))","v":""},null,null,null,{"$f":"IF(AN180=\"\",\"\",INDEX('OTRAS REFERENCIAS'!$T$6:$U$11,MATCH(AN180,'OTRAS REFERENCIAS'!$U$6:$U$11,0),1))","v":""}]
[1,"",179,"","",{"$f":"IF(L181<>\"\",CONCATENATE(DIGITADOR!$B$2,$A$2,DIGITADOR!$M$1,A181),\"\")","v":""},null,null,"",{"$f":"IF(K181=\"\",\"\",INDEX('OTRAS REFERENCIAS'!$AL:$AM,MATCH(K181,'OTRAS REFERENCIAS'!$AL:$AL,0),2))","v":""},null,{"$f":"IF(J181=\"\",\"\",INDEX(referentes!$S:$W,MATCH(J181,referentes!$S:$S,0),1))","v":""},null,null,null,null,null,null,null,{"$f":"IF(U181=\"\",\"\",INDEX('OTRAS REFERENCIAS'!$H$6:$I$11,MATCH(U181,'OTRAS REFERENCIAS'!$I$6:$I$11,0),1))","v":""},null,null,null,null,{"$f":"IF(Z181=\"\",\"\",INDEX('OTRAS REFERENCIAS'!$K$6:$L$11,MATCH(Z181,'OTRAS REFERENCIAS'!$L$6:$L$11,0),1))","v":""},null,null,null,null,{"$f":"IF(AE181=\"\",\"\",INDEX('OTRAS REFERENCIAS'!$N$6:$O$11,MATCH(AE181,'OTRAS REFERENCIAS'!$O$6:$O$11,0),1))","v":""},null,null,null,null,{"$f":"IF(AJ181=\"\",\"\",INDEX('OTRAS REFERENCIAS'!$Q$6:$R$11,MATCH(AJ181,'OTRAS REFERENCIAS'!$R$6:$R$11,0),1))","v":""},null,null,null,{"$f":"IF(AN181=\"\",\"\",INDEX('OTRAS REFERENCIAS'!$T$6:$U$11,MATCH(AN181,'OTRAS REFERENCIAS'!$U$6:$U$11,0),1))","v":""}]
[1,"",180,"","",{"$f":"IF(L182<>\"\",CONCATENATE(DIGITADOR!$B$2,$A$2,DIGITADOR!$M$1,A182),\"\")","v":""},null,null,"",{"$f":"IF(K182=\"\",\"\",INDEX('OTRAS REFERENCIAS'!$AL:$AM,MATCH(K182,'OTRAS REFERENCIAS'!$AL:$AL,0),2))","v":""},null,{"$f":"IF(J182=\"\",\"\",INDEX(referentes!$S:$W,MATCH(J182,referentes!$S:$S,0),1))","v":""},null,null,null,null,null,null,null,{"$f":"IF(U182=\"\",\"\",INDEX('OTRAS REFERENCIAS'!$H$6:$I$11,MATCH(U182,'OTRAS REFERENCIAS'!$I$6:$I$11,0),1))","v":""},null,null,null,null,{"$f":"IF(Z182=\"\",\"\",INDEX('OTRAS REFERENCIAS'!$K$6:$L$11,MATCH(Z182,'OTRAS REFERENCIAS'!$L$6:$L$11,0),1))","v":""},null,null,null,null,{"$f":"IF(AE182=\"\",\"\",INDEX('OTRAS REFERENCIAS'!$N$6:$O$11,MATCH(AE182,'OTRAS REFERENCIAS'!$O$6:$O$11,0),1))","v":""},null,null,null,null,{"$f":"IF(AJ182=\"\",\"\",INDEX('OTRAS REFERENCIAS'!$Q$6:$R$11,MATCH(AJ182,'OTRAS REFERENCIAS'!$R$6:$R$11,0),1))","v":""},null,null,null,{"$f":"IF(AN182=\"\",\"\",INDEX('OTRAS REFERENCIAS'!$T$6:$U$11,MATCH(AN182,'OTRAS REFERENCIAS'!$U$6:$U$11,0),1))","v":""}]
[1,"",181,"","",{"$f":"IF(L183<>\"\",CONCATENATE(DIGITADOR!$B$2,$A$2,DIGITADOR!$M$1,A183),\"\")","v":""},null,null,"",{"$f":"IF(K183=\"\",\"\",INDEX('OTRAS REFERENCIAS'!$AL:$AM,MATCH(K183,'OTRAS REFERENCIAS'!$AL:$AL,0),2))","v":""},null,{"$f":"IF(J183=\"\",\"\",INDEX(referentes!$S:$W,MATCH(J183,referentes!$S:$S,0),1))","v":""},null,null,null,null,null,null,null,{"$f":"IF(U183=\"\",\"\",INDEX('OTRAS REFERENCIAS'!$H$6:$I$11,MATCH(U183,'OTRAS REFERENCIAS'!$I$6:$I$11,0),1))","v":""},null,null,null,null,{"$f":"IF(Z183=\"\",\"\",INDEX('OTRAS REFERENCIAS'!$K$6:$L$11,MATCH(Z183,'OTRAS REFERENCIAS'!$L$6:$L$11,0),1))","v":""},null,null,null,null,{"$f":"IF(AE183=\"\",\"\",INDEX('OTRAS REFERENCIAS'!$N$6:$O$11,MATCH(AE183,'OTRAS REFERENCIAS'!$O$6:$O$11,0),1))","v":""},null,null,null,null,{"$f":"IF(AJ183=\"\",\"\",INDEX('OTRAS REFERENCIAS'!$Q$6:$R$11,MATCH(AJ183,'OTRAS REFERENCIAS'!$R$6:$R$11,0),1))","v":""},null,null,null,{"$f":"IF(AN183=\"\",\"\",INDEX('OTRAS REFERENCIAS'!$T$6:$U$11,MATCH(AN183,'OTRAS REFERENCIAS'!$U$6:$U$11,0),1))","v":""}]
[1,"",182,"","",{"$f":"IF(L184<>\"\",CONCATENATE(DIGITADOR!$B$2,$A$2,DIGITADOR!$M$1,A184),\"\")","v":""},null,null,"",{"$f":"IF(K184=\"\",\"\",INDEX('OTRAS REFERENCIAS'!$AL:$AM,MATCH(K184,'OTRAS REFERENCIAS'!$AL:$AL,0),2))","v":""},null,{"$f":"IF(J184=\"\",\"\",INDEX(referentes!$S:$W,MATCH(J184,referentes!$S:$S,0),1))","v":""},null,null,null,null,null,null,null,{"$f":"IF(U184=\"\",\"\",INDEX('OTRAS REFERENCIAS'!$H$6:$I$11,MATCH(U184,'OTRAS REFERENCIAS'!$I$6:$I$11,0),1))","v":""},null,null,null,null,{"$f":"IF(Z184=\"\",\"\",INDEX('OTRAS REFERENCIAS'!$K$6:$L$11,MATCH(Z184,'OTRAS REFERENCIAS'!$L$6:$L$11,0),1))","v":""},null,null,null,null,{"$f":"IF(AE184=\"\",\"\",INDEX('OTRAS REFERENCIAS'!$N$6:$O$11,MATCH(AE184,'OTRAS REFERENCIAS'!$O$6:$O$11,0),1))","v":""},null,null,null,null,{"$f":"IF(AJ184=\"\",\"\",INDEX('OTRAS REFERENCIAS'!$Q$6:$R$11,MATCH(AJ184,'OTRAS REFERENCIAS'!$R$6:$R$11,0),1))","v":""},null,null,null,{"$f":"IF(AN184=\"\",\"\",INDEX('OTRAS REFERENCIAS'!$T$6:$U$11,MATCH(AN184,'OTRAS REFERENCIAS'!$U$6:$U$11,0),1))","v":""}]
[1,"",183,"","",{"$f":"IF(L185<>\"\",CONCATENATE(DIGITADOR!$B$2,$A$2,DIGITADOR!$M$1,A185),\"\")","v":""},null,null,"",{"$f":"IF(K185=\"\",\"\",INDEX('OTRAS REFERENCIAS'!$AL:$AM,MATCH(K185,'OTRAS REFERENCIAS'!$AL:$AL,0),2))","v":""},null,{"$f":"IF(J185=\"\",\"\",INDEX(referentes!$S:$W,MATCH(J185,referentes!$S:$S,0),1))","v":""},null,null,null,null,null,null,null,{"$f":"IF(U185=\"\",\"\",INDEX('OTRAS REFERENCIAS'!$H$6:$I$11,MATCH(U185,'OTRAS REFERENCIAS'!$I$6:$I$11,0),1))","v":""},null,null,null,null,{"$f":"IF(Z185=\"\",\"\",INDEX('OTRAS REFERENCIAS'!$K$6:$L$11,MATCH(Z185,'OTRAS REFERENCIAS'!$L$6:$L$11,0),1))","v":""},null,null,null,null,{"$f":"IF(AE185=\"\",\"\",INDEX('OTRAS REFERENCIAS'!$N$6:$O$11,MATCH(AE185,'OTRAS REFERENCIAS'!$O$6:$O$11,0),1))","v":""},null,null,null,null,{"$f":"IF(AJ185=\"\",\"\",INDEX('OTRAS REFERENCIAS'!$Q$6:$R$11,MATCH(AJ185,'OTRAS REFERENCIAS'!$R$6:$R$11,0),1))","v":""},null,null,null,{"$f":"IF(AN185=\"\",\"\",INDEX('OTRAS REFERENCIAS'!$T$6:$U$11,MATCH(AN185,'OTRAS REFERENCIAS'!$U$6:$U$11,0),1))","v":""}]
[1,"",184,"","",{"$f":"IF(L186<>\"\",CONCATENATE(DIGITADOR!$B$2,$A$2,DIGITADOR!$M$1,A186),\"\")","v":""},null,null,"",{"$f":"IF(K186=\"\",\"\",INDEX('OTRAS REFERENCIAS'!$AL:$AM,MATCH(K186,'OTRAS REFERENCIAS'!$AL:$AL,0),2))","v":""},null,{"$f":"IF(J186=\"\",\"\",INDEX(referentes!$S:$W,MATCH(J186,referentes!$S:$S,0),1))","v":""},null,null,null,null,null,null,null,{"$f":"IF(U186=\"\",\"\",INDEX('OTRAS REFERENCIAS'!$H$6:$I$11,MATCH(U186,'OTRAS REFERENCIAS'!$I$6:$I$11,0),1))","v":""},null,null,null,null,{"$f":"IF(Z186=\"\",\"\",INDEX('OTRAS REFERENCIAS'!$K$6:$L$11,MATCH(Z186,'OTRAS REFERENCIAS'!$L$6:$L$11,0),1))","v":""},null,null,null,null,{"$f":"IF(AE186=\"\",\"\",INDEX('OTRAS REFERENCIAS'!$N$6:$O$11,MATCH(AE186,'OTRAS REFERENCIAS'!$O$6:$O$11,0),1))","v":""},null,null,null,null,{"$f":"IF(AJ186=\"\",\"\",INDEX('OTRAS REFERENCIAS'!$Q$6:$R$11,MATCH(AJ186,'OTRAS REFERENCIAS'!$R$6:$R$11,0),1))","v":""},null,null,null,{"$f":"IF(AN186=\"\",\"\",INDEX('OTRAS REFERENCIAS'!$T$6:$U$11,MATCH(AN186,'OTRAS REFERENCIAS'!$U$6:$U$11,0),1))","v":""}]
[1,"",185,"","",{"$f":"IF(L187<>\"\",CONCATENATE(DIGITADOR!$B$2,$A$2,DIGITADOR!$M$1,A187),\"\")","v":""},null,null,"",{"$f":"IF(K187=\"\",\"\",INDEX('OTRAS REFERENCIAS'!$AL:$AM,MATCH(K187,'OTRAS REFERENCIAS'!$AL:$AL,0),2))","v":""},null,{"$f":"IF(J187=\"\",\"\",INDEX(referentes!$S:$W,MATCH(J187,referentes!$S:$S,0),1))","v":""},null,null,null,null,null,null,null,{"$f":"IF(U187=\"\",\"\",INDEX('OTRAS REFERENCIAS'!$H$6:$I$11,MATCH(U187,'OTRAS REFERENCIAS'!$I$6:$I$11,0),1))","v":""},null,null,null,null,{"$f":"IF(Z187=\"\",\"\",INDEX('OTRAS REFERENCIAS'!$K$6:$L$11,MATCH(Z187,'OTRAS REFERENCIAS'!$L$6:$L$11,0),1))","v":""},null,null,null,null,{"$f":"IF(AE187=\"\",\"\",INDEX('OTRAS REFERENCIAS'!$N$6:$O$11,MATCH(AE187,'OTRAS REFERENCIAS'!$O$6:$O$11,0),1))","v":""},null,null,null,null,{"$f":"IF(AJ187=\"\",\"\",INDEX('OTRAS REFERENCIAS'!$Q$6:$R$11,MATCH(AJ187,'OTRAS REFERENCIAS'!$R$6:$R$11,0),1))","v":""},null,null,null,{"$f":"IF(AN187=\"\",\"\",INDEX('OTRAS REFERENCIAS'!$T$6:$U$11,MATCH(AN187,'OTRAS REFERENCIAS'!$U$6:$U$11,0),1))","v":""}]
[1,"",186,"","",{"$f":"IF(L188<>\"\",CONCATENATE(DIGITADOR!$B$2,$A$2,DIGITADOR!$M$1,A188),\"\")","v":""},null,null,"",{"$f":"IF(K188=\"\",\"\",INDEX('OTRAS REFERENCIAS'!$AL:$AM,MATCH(K188,'OTRAS REFERENCIAS'!$AL:$AL,0),2))","v":""},null,{"$f":"IF(J188=\"\",\"\",INDEX(referentes!$S:$W,MATCH(J188,referentes!$S:$S,0),1))","v":""},null,null,null,null,null,null,null,{"$f":"IF(U188=\"\",\"\",INDEX('OTRAS REFERENCIAS'!$H$6:$I$11,MATCH(U188,'OTRAS REFERENCIAS'!$I$6:$I$11,0),1))","v":""},null,null,null,null,{"$f":"IF(Z188=\"\",\"\",INDEX('OTRAS REFERENCIAS'!$K$6:$L$11,MATCH(Z188,'OTRAS REFERENCIAS'!$L$6:$L$11,0),1))","v":""},null,null,null,null,{"$f":"IF(AE188=\"\",\"\",INDEX('OTRAS REFERENCIAS'!$N$6:$O$11,MATCH(AE188,'OTRAS REFERENCIAS'!$O$6:$O$11,0),1))","v":""},null,null,null,null,{"$f":"IF(AJ188=\"\",\"\",INDEX('OTRAS REFERENCIAS'!$Q$6:$R$11,MATCH(AJ188,'OTRAS REFERENCIAS'!$R$6:$R$11,0),1))","v":""},null,null,null,{"$f":"IF(AN188=\"\",\"\",INDEX('OTRAS REFERENCIAS'!$T$6:$U$11,MATCH(AN188,'OTRAS REFERENCIAS'!$U$6:$U$11,0),1))","v":""}]
[1,"",187,"","",{"$f":"IF(L189<>\"\",CONCATENATE(DIGITADOR!$B$2,$A$2,DIGITADOR!$M$1,A189),\"\")","v":""},null,null,"",{"$f":"IF(K189=\"\",\"\",INDEX('OTRAS REFERENCIAS'!$AL:$AM,MATCH(K189,'OTRAS REFERENCIAS'!$AL:$AL,0),2))","v":""},null,{"$f":"IF(J189=\"\",\"\",INDEX(referentes!$S:$W,MATCH(J189,referentes!$S:$S,0),1))","v":""},null,null,null,null,null,null,null,{"$f":"IF(U189=\"\",\"\",INDEX('OTRAS REFERENCIAS'!$H$6:$I$11,MATCH(U189,'OTRAS REFERENCIAS'!$I$6:$I$11,0),1))","v":""},null,null,null,null,{"$f":"IF(Z189=\"\",\"\",INDEX('OTRAS REFERENCIAS'!$K$6:$L$11,MATCH(Z189,'OTRAS REFERENCIAS'!$L$6:$L$11,0),1))","v":""},null,null,null,null,{"$f":"IF(AE189=\"\",\"\",INDEX('OTRAS REFERENCIAS'!$N$6:$O$11,MATCH(AE189,'OTRAS REFERENCIAS'!$O$6:$O$11,0),1))","v":""},null,null,null,null,{"$f":"IF(AJ189=\"\",\"\",INDEX('OTRAS REFERENCIAS'!$Q$6:$R$11,MATCH(AJ189,'OTRAS REFERENCIAS'!$R$6:$R$11,0),1))","v":""},null,null,null,{"$f":"IF(AN189=\"\",\"\",INDEX('OTRAS REFERENCIAS'!$T$6:$U$11,MATCH(AN189,'OTRAS REFERENCIAS'!$U$6:$U$11,0),1))","v":""}]
[1,"",188,"","",{"$f":"IF(L190<>\"\",CONCATENATE(DIGITADOR!$B$2,$A$2,DIGITADOR!$M$1,A190),\"\")","v":""},null,null,"",{"$f":"IF(K190=\"\",\"\",INDEX('OTRAS REFERENCIAS'!$AL:$AM,MATCH(K190,'OTRAS REFERENCIAS'!$AL:$AL,0),2))","v":""},null,{"$f":"IF(J190=\"\",\"\",INDEX(referentes!$S:$W,MATCH(J190,referentes!$S:$S,0),1))","v":""},null,null,null,null,null,null,null,{"$f":"IF(U190=\"\",\"\",INDEX('OTRAS REFERENCIAS'!$H$6:$I$11,MATCH(U190,'OTRAS REFERENCIAS'!$I$6:$I$11,0),1))","v":""},null,null,null,null,{"$f":"IF(Z190=\"\",\"\",INDEX('OTRAS REFERENCIAS'!$K$6:$L$11,MATCH(Z190,'OTRAS REFERENCIAS'!$L$6:$L$11,0),1))","v":""},null,null,null,null,{"$f":"IF(AE190=\"\",\"\",INDEX('OTRAS REFERENCIAS'!$N$6:$O$11,MATCH(AE190,'OTRAS REFERENCIAS'!$O$6:$O$11,0),1))","v":""},null,null,null,null,{"$f":"IF(AJ190=\"\",\"\",INDEX('OTRAS REFERENCIAS'!$Q$6:$R$11,MATCH(AJ190,'OTRAS REFERENCIAS'!$R$6:$R$11,0),1))","v":""},null,null,null,{"$f":"IF(AN190=\"\",\"\",INDEX('OTRAS REFERENCIAS'!$T$6:$U$11,MATCH(AN190,'OTRAS REFERENCIAS'!$U$6:$U$11,0),1))","v":""}]
[1,"",189,"","",{"$f":"IF(L191<>\"\",CONCATENATE(DIGITADOR!$B$2,$A$2,DIGITADOR!$M$1,A191),\"\")","v":""},null,null,"",{"$f":"IF(K191=\"\",\"\",INDEX('OTRAS REFERENCIAS'!$AL:$AM,MATCH(K191,'OTRAS REFERENCIAS'!$AL:$AL,0),2))","v":""},null,{"$f":"IF(J191=\"\",\"\",INDEX(referentes!$S:$W,MATCH(J191,referentes!$S:$S,0),1))","v":""},null,null,null,null,null,null,null,{"$f":"IF(U191=\"\",\"\",INDEX('OTRAS REFERENCIAS'!$H$6:$I$11,MATCH(U191,'OTRAS REFERENCIAS'!$I$6:$I$11,0),1))","v":""},null,null,null,null,{"$f":"IF(Z191=\"\",\"\",INDEX('OTRAS REFERENCIAS'!$K$6:$L$11,MATCH(Z191,'OTRAS REFERENCIAS'!$L$6:$L$11,0),1))","v":""},null,null,null,null,{"$f":"IF(AE191=\"\",\"\",INDEX('OTRAS REFERENCIAS'!$N$6:$O$11,MATCH(AE191,'OTRAS REFERENCIAS'!$O$6:$O$11,0),1))","v":""},null,null,null,null,{"$f":"IF(AJ191=\"\",\"\",INDEX('OTRAS REFERENCIAS'!$Q$6:$R$11,MATCH(AJ191,'OTRAS REFERENCIAS'!$R$6:$R$11,0),1))","v":""},null,null,null,{"$f":"IF(AN191=\"\",\"\",INDEX('OTRAS REFERENCIAS'!$T$6:$U$11,MATCH(AN191,'OTRAS REFERENCIAS'!$U$6:$U$11,0),1))","v":""}]
[1,"",190,"","",{"$f":"IF(L192<>\"\",CONCATENATE(DIGITADOR!$B$2,$A$2,DIGITADOR!$M$1,A192),\"\")","v":""},null,null,"",{"$f":"IF(K192=\"\",\"\",INDEX('OTRAS REFERENCIAS'!$AL:$AM,MATCH(K192,'OTRAS REFERENCIAS'!$AL:$AL,0),2))","v":""},null,{"$f":"IF(J192=\"\",\"\",INDEX(referentes!$S:$W,MATCH(J192,referentes!$S:$S,0),1))","v":""},null,null,null,null,null,null,null,{"$f":"IF(U192=\"\",\"\",INDEX('OTRAS REFERENCIAS'!$H$6:$I$11,MATCH(U192,'OTRAS REFERENCIAS'!$I$6:$I$11,0),1))","v":""},null,null,null,null,{"$f":"IF(Z192=\"\",\"\",INDEX('OTRAS REFERENCIAS'!$K$6:$L$11,MATCH(Z192,'OTRAS REFERENCIAS'!$L$6:$L$11,0),1))","v":""},null,null,null,null,{"$f":"IF(AE192=\"\",\"\",INDEX('OTRAS REFERENCIAS'!$N$6:$O$11,MATCH(AE192,'OTRAS REFERENCIAS'!$O$6:$O$11,0),1))","v":""},null,null,null,null,{"$f":"IF(AJ192=\"\",\"\",INDEX('OTRAS REFERENCIAS'!$Q$6:$R$11,MATCH(AJ192,'OTRAS REFERENCIAS'!$R$6:$R$11,0),1))","v":""},null,null,null,{"$f":"IF(AN192=\"\",\"\",INDEX('OTRAS REFERENCIAS'!$T$6:$U$11,MATCH(AN192,'OTRAS REFERENCIAS'!$U$6:$U$11,0),1))","v":""}]
[1,"",191,"","",{"$f":"IF(L193<>\"\",CONCATENATE(DIGITADOR!$B$2,$A$2,DIGITADOR!$M$1,A193),\"\")","v":""},null,null,"",{"$f":"IF(K193=\"\",\"\",INDEX('OTRAS REFERENCIAS'!$AL:$AM,MATCH(K193,'OTRAS REFERENCIAS'!$AL:$AL,0),2))","v":""},null,{"$f":"IF(J193=\"\",\"\",INDEX(referentes!$S:$W,MATCH(J193,referentes!$S:$S,0),1))","v":""},null,null,null,null,null,null,null,{"$f":"IF(U193=\"\",\"\",INDEX('OTRAS REFERENCIAS'!$H$6:$I$11,MATCH(U193,'OTRAS REFERENCIAS'!$I$6:$I$11,0),1))","v":""},null,null,null,null,{"$f":"IF(Z193=\"\",\"\",INDEX('OTRAS REFERENCIAS'!$K$6:$L$11,MATCH(Z193,'OTRAS REFERENCIAS'!$L$6:$L$11,0),1))","v":""},null,null,null,null,{"$f":"IF(AE193=\"\",\"\",INDEX('OTRAS REFERENCIAS'!$N$6:$O$11,MATCH(AE193,'OTRAS REFERENCIAS'!$O$6:$O$11,0),1))","v":""},null,null,null,null,{"$f":"IF(AJ193=\"\",\"\",INDEX('OTRAS REFERENCIAS'!$Q$6:$R$11,MATCH(AJ193,'OTRAS REFERENCIAS'!$R$6:$R$11,0),1))","v":""},null,null,null,{"$f":"IF(AN193=\"\",\"\",INDEX('OTRAS REFERENCIAS'!$T$6:$U$11,MATCH(AN193,'OTRAS REFERENCIAS'!$U$6:$U$11,0),1))","v":""}]
[1,"",192,"","",{"$f":"IF(L194<>\"\",CONCATENATE(DIGITADOR!$B$2,$A$2,DIGITADOR!$M$1,A194),\"\")","v":""},null,null,"",{"$f":"IF(K194=\"\",\"\",INDEX('OTRAS REFERENCIAS'!$AL:$AM,MATCH(K194,'OTRAS REFERENCIAS'!$AL:$AL,0),2))","v":""},null,{"$f":"IF(J194=\"\",\"\",INDEX(referentes!$S:$W,MATCH(J194,referentes!$S:$S,0),1))","v":""},null,null,null,null,null,null,null,{"$f":"IF(U194=\"\",\"\",INDEX('OTRAS REFERENCIAS'!$H$6:$I$11,MATCH(U194,'OTRAS REFERENCIAS'!$I$6:$I$11,0),1))","v":""},null,null,null,null,{"$f":"IF(Z194=\"\",\"\",INDEX('OTRAS REFERENCIAS'!$K$6:$L$11,MATCH(Z194,'OTRAS REFERENCIAS'!$L$6:$L$11,0),1))","v":""},null,null,null,null,{"$f":"IF(AE194=\"\",\"\",INDEX('OTRAS REFERENCIAS'!$N$6:$O$11,MATCH(AE194,'OTRAS REFERENCIAS'!$O$6:$O$11,0),1))","v":""},null,null,null,null,{"$f":"IF(AJ194=\"\",\"\",INDEX('OTRAS REFERENCIAS'!$Q$6:$R$11,MATCH(AJ194,'OTRAS REFERENCIAS'!$R$6:$R$11,0),1))","v":""},null,null,null,{"$f":"IF(AN194=\"\",\"\",INDEX('OTRAS REFERENCIAS'!$T$6:$U$11,MATCH(AN194,'OTRAS REFERENCIAS'!$U$6:$U$11,0),1))","v":""}]
[1,"",193,"",{"$f":"CONCATENATE(I195,L195)","v":""},{"$f":"IF(L195<>\"\",CONCATENATE(DIGITADOR!$B$2,$A$2,DIGITADOR!$M$1,A195),\"\")","v":""},null,null,{"$f":"IF(G195<>\"\",G195+H195,\"\")","v":""},{"$f":"IF(K195=\"\",\"\",INDEX('OTRAS REFERENCIAS'!$AL:$AM,MATCH(K195,'OTRAS REFERENCIAS'!$AL:$AL,0),2))","v":""},null,{"$f":"IF(J195=\"\",\"\",INDEX(referentes!$S:$W,MATCH(J195,referentes!$S:$S,0),1))","v":""},null,null,null,null,null,null,null,{"$f":"IF(U195=\"\",\"\",INDEX('OTRAS REFERENCIAS'!$H$6:$I$11,MATCH(U195,'OTRAS REFERENCIAS'!$I$6:$I$11,0),1))","v":""},null,null,null,null,{"$f":"IF(Z195=\"\",\"\",INDEX('OTRAS REFERENCIAS'!$K$6:$L$11,MATCH(Z195,'OTRAS REFERENCIAS'!$L$6:$L$11,0),1))","v":""},null,null,null,null,{"$f":"IF(AE195=\"\",\"\",INDEX('OTRAS REFERENCIAS'!$N$6:$O$11,MATCH(AE195,'OTRAS REFERENCIAS'!$O$6:$O$11,0),1))","v":""},null,null,null,null,{"$f":"IF(AJ195=\"\",\"\",INDEX('OTRAS REFERENCIAS'!$Q$6:$R$11,MATCH(AJ195,'OTRAS REFERENCIAS'!$R$6:$R$11,0),1))","v":""},null,null,null,{"$f":"IF(AN195=\"\",\"\",INDEX('OTRAS REFERENCIAS'!$T$6:$U$11,MATCH(AN195,'OTRAS REFERENCIAS'!$U$6:$U$11,0),1))","v":""}]
[1,"",194,{"$f":"IF(L196=\"\",\"\",CONCATENATE(C196,F196))","v":""},"",{"$f":"IF(L196<>\"\",CONCATENATE(DIGITADOR!$B$2,$A$2,DIGITADOR!$M$1,A196),\"\")","v":""},null,null,"",{"$f":"IF(K196=\"\",\"\",INDEX('OTRAS REFERENCIAS'!$AL:$AM,MATCH(K196,'OTRAS REFERENCIAS'!$AL:$AL,0),2))","v":""},null,{"$f":"IF(J196=\"\",\"\",INDEX(referentes!$S:$W,MATCH(J196,referentes!$S:$S,0),1))","v":""},null,null,null,null,null,null,null,{"$f":"IF(U196=\"\",\"\",INDEX('OTRAS REFERENCIAS'!$H$6:$I$11,MATCH(U196,'OTRAS REFERENCIAS'!$I$6:$I$11,0),1))","v":""},null,null,null,null,{"$f":"IF(Z196=\"\",\"\",INDEX('OTRAS REFERENCIAS'!$K$6:$L$11,MATCH(Z196,'OTRAS REFERENCIAS'!$L$6:$L$11,0),1))","v":""},null,null,null,null,{"$f":"IF(AE196=\"\",\"\",INDEX('OTRAS REFERENCIAS'!$N$6:$O$11,MATCH(AE196,'OTRAS REFERENCIAS'!$O$6:$O$11,0),1))","v":""},null,null,null,null,{"$f":"IF(AJ196=\"\",\"\",INDEX('OTRAS REFERENCIAS'!$Q$6:$R$11,MATCH(AJ196,'OTRAS REFERENCIAS'!$R$6:$R$11,0),1))","v":""},null,null,null,{"$f":"IF(AN196=\"\",\"\",INDEX('OTRAS REFERENCIAS'!$T$6:$U$11,MATCH(AN196,'OTRAS REFERENCIAS'!$U$6:$U$11,0),1))","v":""}]
[{"$f":"IF(L197=L196,A196,A196+1)","v":1},{"$f":"IF(F197<>F196, F197,\"\")","v":""},195,"","",{"$f":"IF(L197<>\"\",CONCATENATE(DIGITADOR!$B$2,$A$2,DIGITADOR!$M$1,A197),\"\")","v":""},null,null,"",{"$f":"IF(K197=\"\",\"\",INDEX('OTRAS REFERENCIAS'!$AL:$AM,MATCH(K197,'OTRAS REFERENCIAS'!$AL:$AL,0),2))","v":""},null,{"$f":"IF(J197=\"\",\"\",INDEX(referentes!$S:$W,MATCH(J197,referentes!$S:$S,0),1))","v":""},null,null,null,null,null,null,null,{"$f":"IF(U197=\"\",\"\",INDEX('OTRAS REFERENCIAS'!$H$6:$I$11,MATCH(U197,'OTRAS REFERENCIAS'!$I$6:$I$11,0),1))","v":""},null,null,null,null,{"$f":"IF(Z197=\"\",\"\",INDEX('OTRAS REFERENCIAS'!$K$6:$L$11,MATCH(Z197,'OTRAS REFERENCIAS'!$L$6:$L$11,0),1))","v":""},null,null,null,null,{"$f":"IF(AE197=\"\",\"\",INDEX('OTRAS REFERENCIAS'!$N$6:$O$11,MATCH(AE197,'OTRAS REFERENCIAS'!$O$6:$O$11,0),1))","v":""},null,null,null,null,{"$f":"IF(AJ197=\"\",\"\",INDEX('OTRAS REFERENCIAS'!$Q$6:$R$11,MATCH(AJ197,'OTRAS REFERENCIAS'!$R$6:$R$11,0),1))","v":""},null,null,null,{"$f":"IF(AN197=\"\",\"\",INDEX('OTRAS REFERENCIAS'!$T$6:$U$11,MATCH(AN197,'OTRAS REFERENCIAS'!$U$6:$U$11,0),1))","v":""}]
[1,"",196,"","",{"$f":"IF(L198<>\"\",CONCATENATE(DIGITADOR!$B$2,$A$2,DIGITADOR!$M$1,A198),\"\")","v":""},null,null,"",{"$f":"IF(K198=\"\",\"\",INDEX('OTRAS REFERENCIAS'!$AL:$AM,MATCH(K198,'OTRAS REFERENCIAS'!$AL:$AL,0),2))","v":""},null,{"$f":"IF(J198=\"\",\"\",INDEX(referentes!$S:$W,MATCH(J198,referentes!$S:$S,0),1))","v":""},null,null,null,null,null,null,null,{"$f":"IF(U198=\"\",\"\",INDEX('OTRAS REFERENCIAS'!$H$6:$I$11,MATCH(U198,'OTRAS REFERENCIAS'!$I$6:$I$11,0),1))","v":""},null,null,null,null,{"$f":"IF(Z198=\"\",\"\",INDEX('OTRAS REFERENCIAS'!$K$6:$L$11,MATCH(Z198,'OTRAS REFERENCIAS'!$L$6:$L$11,0),1))","v":""},null,null,null,null,{"$f":"IF(AE198=\"\",\"\",INDEX('OTRAS REFERENCIAS'!$N$6:$O$11,MATCH(AE198,'OTRAS REFERENCIAS'!$O$6:$O$11,0),1))","v":""},null,null,null,null,{"$f":"IF(AJ198=\"\",\"\",INDEX('OTRAS REFERENCIAS'!$Q$6:$R$11,MATCH(AJ198,'OTRAS REFERENCIAS'!$R$6:$R$11,0),1))","v":""},null,null,null,{"$f":"IF(AN198=\"\",\"\",INDEX('OTRAS REFERENCIAS'!$T$6:$U$11,MATCH(AN198,'OTRAS REFERENCIAS'!$U$6:$U$11,0),1))","v":""}]
[1,"",197,"","",{"$f":"IF(L199<>\"\",CONCATENATE(DIGITADOR!$B$2,$A$2,DIGITADOR!$M$1,A199),\"\")","v":""},null,null,"",{"$f":"IF(K199=\"\",\"\",INDEX('OTRAS REFERENCIAS'!$AL:$AM,MATCH(K199,'OTRAS REFERENCIAS'!$AL:$AL,0),2))","v":""},null,{"$f":"IF(J199=\"\",\"\",INDEX(referentes!$S:$W,MATCH(J199,referentes!$S:$S,0),1))","v":""},null,null,null,null,null,null,null,{"$f":"IF(U199=\"\",\"\",INDEX('OTRAS REFERENCIAS'!$H$6:$I$11,MATCH(U199,'OTRAS REFERENCIAS'!$I$6:$I$11,0),1))","v":""},null,null,null,null,{"$f":"IF(Z199=\"\",\"\",INDEX('OTRAS REFERENCIAS'!$K$6:$L$11,MATCH(Z199,'OTRAS REFERENCIAS'!$L$6:$L$11,0),1))","v":""},null,null,null,null,{"$f":"IF(AE199=\"\",\"\",INDEX('OTRAS REFERENCIAS'!$N$6:$O$11,MATCH(AE199,'OTRAS REFERENCIAS'!$O$6:$O$11,0),1))","v":""},null,null,null,null,{"$f":"IF(AJ199=\"\",\"\",INDEX('OTRAS REFERENCIAS'!$Q$6:$R$11,MATCH(AJ199,'OTRAS REFERENCIAS'!$R$6:$R$11,0),1))","v":""},null,null,null,{"$f":"IF(AN199=\"\",\"\",INDEX('OTRAS REFERENCIAS'!$T$6:$U$11,MATCH(AN199,'OTRAS REFERENCIAS'!$U$6:$U$11,0),1))","v":""}]
[1,"",198,"","",{"$f":"IF(L200<>\"\",CONCATENATE(DIGITADOR!$B$2,$A$2,DIGITADOR!$M$1,A200),\"\")","v":""},null,null,"",{"$f":"IF(K200=\"\",\"\",INDEX('OTRAS REFERENCIAS'!$AL:$AM,MATCH(K200,'OTRAS REFERENCIAS'!$AL:$AL,0),2))","v":""},null,{"$f":"IF(J200=\"\",\"\",INDEX(referentes!$S:$W,MATCH(J200,referentes!$S:$S,0),1))","v":""},null,null,null,null,null,null,null,{"$f":"IF(U200=\"\",\"\",INDEX('OTRAS REFERENCIAS'!$H$6:$I$11,MATCH(U200,'OTRAS REFERENCIAS'!$I$6:$I$11,0),1))","v":""},null,null,null,null,{"$f":"IF(Z200=\"\",\"\",INDEX('OTRAS REFERENCIAS'!$K$6:$L$11,MATCH(Z200,'OTRAS REFERENCIAS'!$L$6:$L$11,0),1))","v":""},null,null,null,null,{"$f":"IF(AE200=\"\",\"\",INDEX('OTRAS REFERENCIAS'!$N$6:$O$11,MATCH(AE200,'OTRAS REFERENCIAS'!$O$6:$O$11,0),1))","v":""},null,null,null,null,{"$f":"IF(AJ200=\"\",\"\",INDEX('OTRAS REFERENCIAS'!$Q$6:$R$11,MATCH(AJ200,'OTRAS REFERENCIAS'!$R$6:$R$11,0),1))","v":""},null,null,null,{"$f":"IF(AN200=\"\",\"\",INDEX('OTRAS REFERENCIAS'!$T$6:$U$11,MATCH(AN200,'OTRAS REFERENCIAS'!$U$6:$U$11,0),1))","v":""}]
[1,"",199,"","",{"$f":"IF(L201<>\"\",CONCATENATE(DIGITADOR!$B$2,$A$2,DIGITADOR!$M$1,A201),\"\")","v":""},null,null,"",{"$f":"IF(K201=\"\",\"\",INDEX('OTRAS REFERENCIAS'!$AL:$AM,MATCH(K201,'OTRAS REFERENCIAS'!$AL:$AL,0),2))","v":""},null,{"$f":"IF(J201=\"\",\"\",INDEX(referentes!$S:$W,MATCH(J201,referentes!$S:$S,0),1))","v":""},null,null,null,null,null,null,null,{"$f":"IF(U201=\"\",\"\",INDEX('OTRAS REFERENCIAS'!$H$6:$I$11,MATCH(U201,'OTRAS REFERENCIAS'!$I$6:$I$11,0),1))","v":""},null,null,null,null,{"$f":"IF(Z201=\"\",\"\",INDEX('OTRAS REFERENCIAS'!$K$6:$L$11,MATCH(Z201,'OTRAS REFERENCIAS'!$L$6:$L$11,0),1))","v":""},null,null,null,null,{"$f":"IF(AE201=\"\",\"\",INDEX('OTRAS REFERENCIAS'!$N$6:$O$11,MATCH(AE201,'OTRAS REFERENCIAS'!$O$6:$O$11,0),1))","v":""},null,null,null,null,{"$f":"IF(AJ201=\"\",\"\",INDEX('OTRAS REFERENCIAS'!$Q$6:$R$11,MATCH(AJ201,'OTRAS REFERENCIAS'!$R$6:$R$11,0),1))","v":""},null,null,null,{"$f":"IF(AN201=\"\",\"\",INDEX('OTRAS REFERENCIAS'!$T$6:$U$11,MATCH(AN201,'OTRAS REFERENCIAS'!$U$6:$U$11,0),1))","v":""}]
[1,"",200,"","",{"$f":"IF(L202<>\"\",CONCATENATE(DIGITADOR!$B$2,$A$2,DIGITADOR!$M$1,A202),\"\")","v":""},null,null,"",{"$f":"IF(K202=\"\",\"\",INDEX('OTRAS REFERENCIAS'!$AL:$AM,MATCH(K202,'OTRAS REFERENCIAS'!$AL:$AL,0),2))","v":""},null,{"$f":"IF(J202=\"\",\"\",INDEX(referentes!$S:$W,MATCH(J202,referentes!$S:$S,0),1))","v":""},null,null,null,null,null,null,null,{"$f":"IF(U202=\"\",\"\",INDEX('OTRAS REFERENCIAS'!$H$6:$I$11,MATCH(U202,'OTRAS REFERENCIAS'!$I$6:$I$11,0),1))","v":""},null,null,null,null,{"$f":"IF(Z202=\"\",\"\",INDEX('OTRAS REFERENCIAS'!$K$6:$L$11,MATCH(Z202,'OTRAS REFERENCIAS'!$L$6:$L$11,0),1))","v":""},null,null,null,null,{"$f":"IF(AE202=\"\",\"\",INDEX('OTRAS REFERENCIAS'!$N$6:$O$11,MATCH(AE202,'OTRAS REFERENCIAS'!$O$6:$O$11,0),1))","v":""},null,null,null,null,{"$f":"IF(AJ202=\"\",\"\",INDEX('OTRAS REFERENCIAS'!$Q$6:$R$11,MATCH(AJ202,'OTRAS REFERENCIAS'!$R$6:$R$11,0),1))","v":""},null,null,null,{"$f":"IF(AN202=\"\",\"\",INDEX('OTRAS REFERENCIAS'!$T$6:$U$11,MATCH(AN202,'OTRAS REFERENCIAS'!$U$6:$U$11,0),1))","v":""}]
[1,"",201,"","",{"$f":"IF(L203<>\"\",CONCATENATE(DIGITADOR!$B$2,$A$2,DIGITADOR!$M$1,A203),\"\")","v":""},null,null,"",{"$f":"IF(K203=\"\",\"\",INDEX('OTRAS REFERENCIAS'!$AL:$AM,MATCH(K203,'OTRAS REFERENCIAS'!$AL:$AL,0),2))","v":""},null,{"$f":"IF(J203=\"\",\"\",INDEX(referentes!$S:$W,MATCH(J203,referentes!$S:$S,0),1))","v":""},null,null,null,null,null,null,null,{"$f":"IF(U203=\"\",\"\",INDEX('OTRAS REFERENCIAS'!$H$6:$I$11,MATCH(U203,'OTRAS REFERENCIAS'!$I$6:$I$11,0),1))","v":""},null,null,null,null,{"$f":"IF(Z203=\"\",\"\",INDEX('OTRAS REFERENCIAS'!$K$6:$L$11,MATCH(Z203,'OTRAS REFERENCIAS'!$L$6:$L$11,0),1))","v":""},null,null,null,null,{"$f":"IF(AE203=\"\",\"\",INDEX('OTRAS REFERENCIAS'!$N$6:$O$11,MATCH(AE203,'OTRAS REFERENCIAS'!$O$6:$O$11,0),1))","v":""},null,null,null,null,{"$f":"IF(AJ203=\"\",\"\",INDEX('OTRAS REFERENCIAS'!$Q$6:$R$11,MATCH(AJ203,'OTRAS REFERENCIAS'!$R$6:$R$11,0),1))","v":""},null,null,null,{"$f":"IF(AN203=\"\",\"\",INDEX('OTRAS REFERENCIAS'!$T$6:$U$11,MATCH(AN203,'OTRAS REFERENCIAS'!$U$6:$U$11,0),1))","v":""}]
[1,"",202,"","",{"$f":"IF(L204<>\"\",CONCATENATE(DIGITADOR!$B$2,$A$2,DIGITADOR!$M$1,A204),\"\")","v":""},null,null,"",{"$f":"IF(K204=\"\",\"\",INDEX('OTRAS REFERENCIAS'!$AL:$AM,MATCH(K204,'OTRAS REFERENCIAS'!$AL:$AL,0),2))","v":""},null,{"$f":"IF(J204=\"\",\"\",INDEX(referentes!$S:$W,MATCH(J204,referentes!$S:$S,0),1))","v":""},null,null,null,null,null,null,null,{"$f":"IF(U204=\"\",\"\",INDEX('OTRAS REFERENCIAS'!$H$6:$I$11,MATCH(U204,'OTRAS REFERENCIAS'!$I$6:$I$11,0),1))","v":""},null,null,null,null,{"$f":"IF(Z204=\"\",\"\",INDEX('OTRAS REFERENCIAS'!$K$6:$L$11,MATCH(Z204,'OTRAS REFERENCIAS'!$L$6:$L$11,0),1))","v":""},null,null,null,null,{"$f":"IF(AE204=\"\",\"\",INDEX('OTRAS REFERENCIAS'!$N$6:$O$11,MATCH(AE204,'OTRAS REFERENCIAS'!$O$6:$O$11,0),1))","v":""},null,null,null,null,{"$f":"IF(AJ204=\"\",\"\",INDEX('OTRAS REFERENCIAS'!$Q$6:$R$11,MATCH(AJ204,'OTRAS REFERENCIAS'!$R$6:$R$11,0),1))","v":""},null,null,null,{"$f":"IF(AN204=\"\",\"\",INDEX('OTRAS REFERENCIAS'!$T$6:$U$11,MATCH(AN204,'OTRAS REFERENCIAS'!$U$6:$U$11,0),1))","v":""}]
[1,"",203,"","",{"$f":"IF(L205<>\"\",CONCATENATE(DIGITADOR!$B$2,$A$2,DIGITADOR!$M$1,A205),\"\")","v":""},null,null,"",{"$f":"IF(K205=\"\",\"\",INDEX('OTRAS REFERENCIAS'!$AL:$AM,MATCH(K205,'OTRAS REFERENCIAS'!$AL:$AL,0),2))","v":""},null,{"$f":"IF(J205=\"\",\"\",INDEX(referentes!$S:$W,MATCH(J205,referentes!$S:$S,0),1))","v":""},null,null,null,null,null,null,null,{"$f":"IF(U205=\"\",\"\",INDEX('OTRAS REFERENCIAS'!$H$6:$I$11,MATCH(U205,'OTRAS REFERENCIAS'!$I$6:$I$11,0),1))","v":""},null,null,null,null,{"$f":"IF(Z205=\"\",\"\",INDEX('OTRAS REFERENCIAS'!$K$6:$L$11,MATCH(Z205,'OTRAS REFERENCIAS'!$L$6:$L$11,0),1))","v":""},null,null,null,null,{"$f":"IF(AE205=\"\",\"\",INDEX('OTRAS REFERENCIAS'!$N$6:$O$11,MATCH(AE205,'OTRAS REFERENCIAS'!$O$6:$O$11,0),1))","v":""},null,null,null,null,{"$f":"IF(AJ205=\"\",\"\",INDEX('OTRAS REFERENCIAS'!$Q$6:$R$11,MATCH(AJ205,'OTRAS REFERENCIAS'!$R$6:$R$11,0),1))","v":""},null,null,null,{"$f":"IF(AN205=\"\",\"\",INDEX('OTRAS REFERENCIAS'!$T$6:$U$11,MATCH(AN205,'OTRAS REFERENCIAS'!$U$6:$U$11,0),1))","v":""}]
[1,"",204,"","",{"$f":"IF(L206<>\"\",CONCATENATE(DIGITADOR!$B$2,$A$2,DIGITADOR!$M$1,A206),\"\")","v":""},null,null,"",{"$f":"IF(K206=\"\",\"\",INDEX('OTRAS REFERENCIAS'!$AL:$AM,MATCH(K206,'OTRAS REFERENCIAS'!$AL:$AL,0),2))","v":""},null,{"$f":"IF(J206=\"\",\"\",INDEX(referentes!$S:$W,MATCH(J206,referentes!$S:$S,0),1))","v":""},null,null,null,null,null,null,null,{"$f":"IF(U206=\"\",\"\",INDEX('OTRAS REFERENCIAS'!$H$6:$I$11,MATCH(U206,'OTRAS REFERENCIAS'!$I$6:$I$11,0),1))","v":""},null,null,null,null,{"$f":"IF(Z206=\"\",\"\",INDEX('OTRAS REFERENCIAS'!$K$6:$L$11,MATCH(Z206,'OTRAS REFERENCIAS'!$L$6:$L$11,0),1))","v":""},null,null,null,null,{"$f":"IF(AE206=\"\",\"\",INDEX('OTRAS REFERENCIAS'!$N$6:$O$11,MATCH(AE206,'OTRAS REFERENCIAS'!$O$6:$O$11,0),1))","v":""},null,null,null,null,{"$f":"IF(AJ206=\"\",\"\",INDEX('OTRAS REFERENCIAS'!$Q$6:$R$11,MATCH(AJ206,'OTRAS REFERENCIAS'!$R$6:$R$11,0),1))","v":""},null,null,null,{"$f":"IF(AN206=\"\",\"\",INDEX('OTRAS REFERENCIAS'!$T$6:$U$11,MATCH(AN206,'OTRAS REFERENCIAS'!$U$6:$U$11,0),1))","v":""}]
[1,"",205,"","",{"$f":"IF(L207<>\"\",CONCATENATE(DIGITADOR!$B$2,$A$2,DIGITADOR!$M$1,A207),\"\")","v":""},null,null,"",{"$f":"IF(K207=\"\",\"\",INDEX('OTRAS REFERENCIAS'!$AL:$AM,MATCH(K207,'OTRAS REFERENCIAS'!$AL:$AL,0),2))","v":""},null,{"$f":"IF(J207=\"\",\"\",INDEX(referentes!$S:$W,MATCH(J207,referentes!$S:$S,0),1))","v":""},null,null,null,null,null,null,null,{"$f":"IF(U207=\"\",\"\",INDEX('OTRAS REFERENCIAS'!$H$6:$I$11,MATCH(U207,'OTRAS REFERENCIAS'!$I$6:$I$11,0),1))","v":""},null,null,null,null,{"$f":"IF(Z207=\"\",\"\",INDEX('OTRAS REFERENCIAS'!$K$6:$L$11,MATCH(Z207,'OTRAS REFERENCIAS'!$L$6:$L$11,0),1))","v":""},null,null,null,null,{"$f":"IF(AE207=\"\",\"\",INDEX('OTRAS REFERENCIAS'!$N$6:$O$11,MATCH(AE207,'OTRAS REFERENCIAS'!$O$6:$O$11,0),1))","v":""},null,null,null,null,{"$f":"IF(AJ207=\"\",\"\",INDEX('OTRAS REFERENCIAS'!$Q$6:$R$11,MATCH(AJ207,'OTRAS REFERENCIAS'!$R$6:$R$11,0),1))","v":""},null,null,null,{"$f":"IF(AN207=\"\",\"\",INDEX('OTRAS REFERENCIAS'!$T$6:$U$11,MATCH(AN207,'OTRAS REFERENCIAS'!$U$6:$U$11,0),1))","v":""}]
[1,"",206,"","",{"$f":"IF(L208<>\"\",CONCATENATE(DIGITADOR!$B$2,$A$2,DIGITADOR!$M$1,A208),\"\")","v":""},null,null,"",{"$f":"IF(K208=\"\",\"\",INDEX('OTRAS REFERENCIAS'!$AL:$AM,MATCH(K208,'OTRAS REFERENCIAS'!$AL:$AL,0),2))","v":""},null,{"$f":"IF(J208=\"\",\"\",INDEX(referentes!$S:$W,MATCH(J208,referentes!$S:$S,0),1))","v":""},null,null,null,null,null,null,null,{"$f":"IF(U208=\"\",\"\",INDEX('OTRAS REFERENCIAS'!$H$6:$I$11,MATCH(U208,'OTRAS REFERENCIAS'!$I$6:$I$11,0),1))","v":""},null,null,null,null,{"$f":"IF(Z208=\"\",\"\",INDEX('OTRAS REFERENCIAS'!$K$6:$L$11,MATCH(Z208,'OTRAS REFERENCIAS'!$L$6:$L$11,0),1))","v":""},null,null,null,null,{"$f":"IF(AE208=\"\",\"\",INDEX('OTRAS REFERENCIAS'!$N$6:$O$11,MATCH(AE208,'OTRAS REFERENCIAS'!$O$6:$O$11,0),1))","v":""},null,null,null,null,{"$f":"IF(AJ208=\"\",\"\",INDEX('OTRAS REFERENCIAS'!$Q$6:$R$11,MATCH(AJ208,'OTRAS REFERENCIAS'!$R$6:$R$11,0),1))","v":""},null,null,null,{"$f":"IF(AN208=\"\",\"\",INDEX('OTRAS REFERENCIAS'!$T$6:$U$11,MATCH(AN208,'OTRAS REFERENCIAS'!$U$6:$U$11,0),1))","v":""}]
[1,"",207,"","",{"$f":"IF(L209<>\"\",CONCATENATE(DIGITADOR!$B$2,$A$2,DIGITADOR!$M$1,A209),\"\")","v":""},null,null,"",{"$f":"IF(K209=\"\",\"\",INDEX('OTRAS REFERENCIAS'!$AL:$AM,MATCH(K209,'OTRAS REFERENCIAS'!$AL:$AL,0),2))","v":""},null,{"$f":"IF(J209=\"\",\"\",INDEX(referentes!$S:$W,MATCH(J209,referentes!$S:$S,0),1))","v":""},null,null,null,null,null,null,null,{"$f":"IF(U209=\"\",\"\",INDEX('OTRAS REFERENCIAS'!$H$6:$I$11,MATCH(U209,'OTRAS REFERENCIAS'!$I$6:$I$11,0),1))","v":""},null,null,null,null,{"$f":"IF(Z209=\"\",\"\",INDEX('OTRAS REFERENCIAS'!$K$6:$L$11,MATCH(Z209,'OTRAS REFERENCIAS'!$L$6:$L$11,0),1))","v":""},null,null,null,null,{"$f":"IF(AE209=\"\",\"\",INDEX('OTRAS REFERENCIAS'!$N$6:$O$11,MATCH(AE209,'OTRAS REFERENCIAS'!$O$6:$O$11,0),1))","v":""},null,null,null,null,{"$f":"IF(AJ209=\"\",\"\",INDEX('OTRAS REFERENCIAS'!$Q$6:$R$11,MATCH(AJ209,'OTRAS REFERENCIAS'!$R$6:$R$11,0),1))","v":""},null,null,null,{"$f":"IF(AN209=\"\",\"\",INDEX('OTRAS REFERENCIAS'!$T$6:$U$11,MATCH(AN209,'OTRAS REFERENCIAS'!$U$6:$U$11,0),1))","v":""}]
[1,"",208,"","",{"$f":"IF(L210<>\"\",CONCATENATE(DIGITADOR!$B$2,$A$2,DIGITADOR!$M$1,A210),\"\")","v":""},null,null,"",{"$f":"IF(K210=\"\",\"\",INDEX('OTRAS REFERENCIAS'!$AL:$AM,MATCH(K210,'OTRAS REFERENCIAS'!$AL:$AL,0),2))","v":""},null,{"$f":"IF(J210=\"\",\"\",INDEX(referentes!$S:$W,MATCH(J210,referentes!$S:$S,0),1))","v":""},null,null,null,null,null,null,null,{"$f":"IF(U210=\"\",\"\",INDEX('OTRAS REFERENCIAS'!$H$6:$I$11,MATCH(U210,'OTRAS REFERENCIAS'!$I$6:$I$11,0),1))","v":""},null,null,null,null,{"$f":"IF(Z210=\"\",\"\",INDEX('OTRAS REFERENCIAS'!$K$6:$L$11,MATCH(Z210,'OTRAS REFERENCIAS'!$L$6:$L$11,0),1))","v":""},null,null,null,null,{"$f":"IF(AE210=\"\",\"\",INDEX('OTRAS REFERENCIAS'!$N$6:$O$11,MATCH(AE210,'OTRAS REFERENCIAS'!$O$6:$O$11,0),1))","v":""},null,null,null,null,{"$f":"IF(AJ210=\"\",\"\",INDEX('OTRAS REFERENCIAS'!$Q$6:$R$11,MATCH(AJ210,'OTRAS REFERENCIAS'!$R$6:$R$11,0),1))","v":""},null,null,null,{"$f":"IF(AN210=\"\",\"\",INDEX('OTRAS REFERENCIAS'!$T$6:$U$11,MATCH(AN210,'OTRAS REFERENCIAS'!$U$6:$U$11,0),1))","v":""}]
[1,"",209,"","",{"$f":"IF(L211<>\"\",CONCATENATE(DIGITADOR!$B$2,$A$2,DIGITADOR!$M$1,A211),\"\")","v":""},null,null,"",{"$f":"IF(K211=\"\",\"\",INDEX('OTRAS REFERENCIAS'!$AL:$AM,MATCH(K211,'OTRAS REFERENCIAS'!$AL:$AL,0),2))","v":""},null,{"$f":"IF(J211=\"\",\"\",INDEX(referentes!$S:$W,MATCH(J211,referentes!$S:$S,0),1))","v":""},null,null,null,null,null,null,null,{"$f":"IF(U211=\"\",\"\",INDEX('OTRAS REFERENCIAS'!$H$6:$I$11,MATCH(U211,'OTRAS REFERENCIAS'!$I$6:$I$11,0),1))","v":""},null,null,null,null,{"$f":"IF(Z211=\"\",\"\",INDEX('OTRAS REFERENCIAS'!$K$6:$L$11,MATCH(Z211,'OTRAS REFERENCIAS'!$L$6:$L$11,0),1))","v":""},null,null,null,null,{"$f":"IF(AE211=\"\",\"\",INDEX('OTRAS REFERENCIAS'!$N$6:$O$11,MATCH(AE211,'OTRAS REFERENCIAS'!$O$6:$O$11,0),1))","v":""},null,null,null,null,{"$f":"IF(AJ211=\"\",\"\",INDEX('OTRAS REFERENCIAS'!$Q$6:$R$11,MATCH(AJ211,'OTRAS REFERENCIAS'!$R$6:$R$11,0),1))","v":""},null,null,null,{"$f":"IF(AN211=\"\",\"\",INDEX('OTRAS REFERENCIAS'!$T$6:$U$11,MATCH(AN211,'OTRAS REFERENCIAS'!$U$6:$U$11,0),1))","v":""}]
[1,"",210,"","",{"$f":"IF(L212<>\"\",CONCATENATE(DIGITADOR!$B$2,$A$2,DIGITADOR!$M$1,A212),\"\")","v":""},null,null,"",{"$f":"IF(K212=\"\",\"\",INDEX('OTRAS REFERENCIAS'!$AL:$AM,MATCH(K212,'OTRAS REFERENCIAS'!$AL:$AL,0),2))","v":""},null,{"$f":"IF(J212=\"\",\"\",INDEX(referentes!$S:$W,MATCH(J212,referentes!$S:$S,0),1))","v":""},null,null,null,null,null,null,null,{"$f":"IF(U212=\"\",\"\",INDEX('OTRAS REFERENCIAS'!$H$6:$I$11,MATCH(U212,'OTRAS REFERENCIAS'!$I$6:$I$11,0),1))","v":""},null,null,null,null,{"$f":"IF(Z212=\"\",\"\",INDEX('OTRAS REFERENCIAS'!$K$6:$L$11,MATCH(Z212,'OTRAS REFERENCIAS'!$L$6:$L$11,0),1))","v":""},null,null,null,null,{"$f":"IF(AE212=\"\",\"\",INDEX('OTRAS REFERENCIAS'!$N$6:$O$11,MATCH(AE212,'OTRAS REFERENCIAS'!$O$6:$O$11,0),1))","v":""},null,null,null,null,{"$f":"IF(AJ212=\"\",\"\",INDEX('OTRAS REFERENCIAS'!$Q$6:$R$11,MATCH(AJ212,'OTRAS REFERENCIAS'!$R$6:$R$11,0),1))","v":""},null,null,null,{"$f":"IF(AN212=\"\",\"\",INDEX('OTRAS REFERENCIAS'!$T$6:$U$11,MATCH(AN212,'OTRAS REFERENCIAS'!$U$6:$U$11,0),1))","v":""}]
[1,"",211,"","",{"$f":"IF(L213<>\"\",CONCATENATE(DIGITADOR!$B$2,$A$2,DIGITADOR!$M$1,A213),\"\")","v":""},null,null,"",{"$f":"IF(K213=\"\",\"\",INDEX('OTRAS REFERENCIAS'!$AL:$AM,MATCH(K213,'OTRAS REFERENCIAS'!$AL:$AL,0),2))","v":""},null,{"$f":"IF(J213=\"\",\"\",INDEX(referentes!$S:$W,MATCH(J213,referentes!$S:$S,0),1))","v":""},null,null,null,null,null,null,null,{"$f":"IF(U213=\"\",\"\",INDEX('OTRAS REFERENCIAS'!$H$6:$I$11,MATCH(U213,'OTRAS REFERENCIAS'!$I$6:$I$11,0),1))","v":""},null,null,null,null,{"$f":"IF(Z213=\"\",\"\",INDEX('OTRAS REFERENCIAS'!$K$6:$L$11,MATCH(Z213,'OTRAS REFERENCIAS'!$L$6:$L$11,0),1))","v":""},null,null,null,null,{"$f":"IF(AE213=\"\",\"\",INDEX('OTRAS REFERENCIAS'!$N$6:$O$11,MATCH(AE213,'OTRAS REFERENCIAS'!$O$6:$O$11,0),1))","v":""},null,null,null,null,{"$f":"IF(AJ213=\"\",\"\",INDEX('OTRAS REFERENCIAS'!$Q$6:$R$11,MATCH(AJ213,'OTRAS REFERENCIAS'!$R$6:$R$11,0),1))","v":""},null,null,null,{"$f":"IF(AN213=\"\",\"\",INDEX('OTRAS REFERENCIAS'!$T$6:$U$11,MATCH(AN213,'OTRAS REFERENCIAS'!$U$6:$U$11,0),1))","v":""}]
[1,"",212,"","",{"$f":"IF(L214<>\"\",CONCATENATE(DIGITADOR!$B$2,$A$2,DIGITADOR!$M$1,A214),\"\")","v":""},null,null,"",{"$f":"IF(K214=\"\",\"\",INDEX('OTRAS REFERENCIAS'!$AL:$AM,MATCH(K214,'OTRAS REFERENCIAS'!$AL:$AL,0),2))","v":""},null,{"$f":"IF(J214=\"\",\"\",INDEX(referentes!$S:$W,MATCH(J214,referentes!$S:$S,0),1))","v":""},null,null,null,null,null,null,null,{"$f":"IF(U214=\"\",\"\",INDEX('OTRAS REFERENCIAS'!$H$6:$I$11,MATCH(U214,'OTRAS REFERENCIAS'!$I$6:$I$11,0),1))","v":""},null,null,null,null,{"$f":"IF(Z214=\"\",\"\",INDEX('OTRAS REFERENCIAS'!$K$6:$L$11,MATCH(Z214,'OTRAS REFERENCIAS'!$L$6:$L$11,0),1))","v":""},null,null,null,null,{"$f":"IF(AE214=\"\",\"\",INDEX('OTRAS REFERENCIAS'!$N$6:$O$11,MATCH(AE214,'OTRAS REFERENCIAS'!$O$6:$O$11,0),1))","v":""},null,null,null,null,{"$f":"IF(AJ214=\"\",\"\",INDEX('OTRAS REFERENCIAS'!$Q$6:$R$11,MATCH(AJ214,'OTRAS REFERENCIAS'!$R$6:$R$11,0),1))","v":""},null,null,null,{"$f":"IF(AN214=\"\",\"\",INDEX('OTRAS REFERENCIAS'!$T$6:$U$11,MATCH(AN214,'OTRAS REFERENCIAS'!$U$6:$U$11,0),1))","v":""}]
[1,"",213,"","",{"$f":"IF(L215<>\"\",CONCATENATE(DIGITADOR!$B$2,$A$2,DIGITADOR!$M$1,A215),\"\")","v":""},null,null,"",{"$f":"IF(K215=\"\",\"\",INDEX('OTRAS REFERENCIAS'!$AL:$AM,MATCH(K215,'OTRAS REFERENCIAS'!$AL:$AL,0),2))","v":""},null,{"$f":"IF(J215=\"\",\"\",INDEX(referentes!$S:$W,MATCH(J215,referentes!$S:$S,0),1))","v":""},null,null,null,null,null,null,null,{"$f":"IF(U215=\"\",\"\",INDEX('OTRAS REFERENCIAS'!$H$6:$I$11,MATCH(U215,'OTRAS REFERENCIAS'!$I$6:$I$11,0),1))","v":""},null,null,null,null,{"$f":"IF(Z215=\"\",\"\",INDEX('OTRAS REFERENCIAS'!$K$6:$L$11,MATCH(Z215,'OTRAS REFERENCIAS'!$L$6:$L$11,0),1))","v":""},null,null,null,null,{"$f":"IF(AE215=\"\",\"\",INDEX('OTRAS REFERENCIAS'!$N$6:$O$11,MATCH(AE215,'OTRAS REFERENCIAS'!$O$6:$O$11,0),1))","v":""},null,null,null,null,{"$f":"IF(AJ215=\"\",\"\",INDEX('OTRAS REFERENCIAS'!$Q$6:$R$11,MATCH(AJ215,'OTRAS REFERENCIAS'!$R$6:$R$11,0),1))","v":""},null,null,null,{"$f":"IF(AN215=\"\",\"\",INDEX('OTRAS REFERENCIAS'!$T$6:$U$11,MATCH(AN215,'OTRAS REFERENCIAS'!$U$6:$U$11,0),1))","v":""}]
[1,"",214,"","",{"$f":"IF(L216<>\"\",CONCATENATE(DIGITADOR!$B$2,$A$2,DIGITADOR!$M$1,A216),\"\")","v":""},null,null,"",{"$f":"IF(K216=\"\",\"\",INDEX('OTRAS REFERENCIAS'!$AL:$AM,MATCH(K216,'OTRAS REFERENCIAS'!$AL:$AL,0),2))","v":""},null,{"$f":"IF(J216=\"\",\"\",INDEX(referentes!$S:$W,MATCH(J216,referentes!$S:$S,0),1))","v":""},null,null,null,null,null,null,null,{"$f":"IF(U216=\"\",\"\",INDEX('OTRAS REFERENCIAS'!$H$6:$I$11,MATCH(U216,'OTRAS REFERENCIAS'!$I$6:$I$11,0),1))","v":""},null,null,null,null,{"$f":"IF(Z216=\"\",\"\",INDEX('OTRAS REFERENCIAS'!$K$6:$L$11,MATCH(Z216,'OTRAS REFERENCIAS'!$L$6:$L$11,0),1))","v":""},null,null,null,null,{"$f":"IF(AE216=\"\",\"\",INDEX('OTRAS REFERENCIAS'!$N$6:$O$11,MATCH(AE216,'OTRAS REFERENCIAS'!$O$6:$O$11,0),1))","v":""},null,null,null,null,{"$f":"IF(AJ216=\"\",\"\",INDEX('OTRAS REFERENCIAS'!$Q$6:$R$11,MATCH(AJ216,'OTRAS REFERENCIAS'!$R$6:$R$11,0),1))","v":""},null,null,null,{"$f":"IF(AN216=\"\",\"\",INDEX('OTRAS REFERENCIAS'!$T$6:$U$11,MATCH(AN216,'OTRAS REFERENCIAS'!$U$6:$U$11,0),1))","v":""}]
[1,"",215,"","",{"$f":"IF(L217<>\"\",CONCATENATE(DIGITADOR!$B$2,$A$2,DIGITADOR!$M$1,A217),\"\")","v":""},null,null,"",{"$f":"IF(K217=\"\",\"\",INDEX('OTRAS REFERENCIAS'!$AL:$AM,MATCH(K217,'OTRAS REFERENCIAS'!$AL:$AL,0),2))","v":""},null,{"$f":"IF(J217=\"\",\"\",INDEX(referentes!$S:$W,MATCH(J217,referentes!$S:$S,0),1))","v":""},null,null,null,null,null,null,null,{"$f":"IF(U217=\"\",\"\",INDEX('OTRAS REFERENCIAS'!$H$6:$I$11,MATCH(U217,'OTRAS REFERENCIAS'!$I$6:$I$11,0),1))","v":""},null,null,null,null,{"$f":"IF(Z217=\"\",\"\",INDEX('OTRAS REFERENCIAS'!$K$6:$L$11,MATCH(Z217,'OTRAS REFERENCIAS'!$L$6:$L$11,0),1))","v":""},null,null,null,null,{"$f":"IF(AE217=\"\",\"\",INDEX('OTRAS REFERENCIAS'!$N$6:$O$11,MATCH(AE217,'OTRAS REFERENCIAS'!$O$6:$O$11,0),1))","v":""},null,null,null,null,{"$f":"IF(AJ217=\"\",\"\",INDEX('OTRAS REFERENCIAS'!$Q$6:$R$11,MATCH(AJ217,'OTRAS REFERENCIAS'!$R$6:$R$11,0),1))","v":""},null,null,null,{"$f":"IF(AN217=\"\",\"\",INDEX('OTRAS REFERENCIAS'!$T$6:$U$11,MATCH(AN217,'OTRAS REFERENCIAS'!$U$6:$U$11,0),1))","v":""}]
[1,"",216,"","",{"$f":"IF(L218<>\"\",CONCATENATE(DIGITADOR!$B$2,$A$2,DIGITADOR!$M$1,A218),\"\")","v":""},null,null,"",{"$f":"IF(K218=\"\",\"\",INDEX('OTRAS REFERENCIAS'!$AL:$AM,MATCH(K218,'OTRAS REFERENCIAS'!$AL:$AL,0),2))","v":""},null,{"$f":"IF(J218=\"\",\"\",INDEX(referentes!$S:$W,MATCH(J218,referentes!$S:$S,0),1))","v":""},null,null,null,null,null,null,null,{"$f":"IF(U218=\"\",\"\",INDEX('OTRAS REFERENCIAS'!$H$6:$I$11,MATCH(U218,'OTRAS REFERENCIAS'!$I$6:$I$11,0),1))","v":""},null,null,null,null,{"$f":"IF(Z218=\"\",\"\",INDEX('OTRAS REFERENCIAS'!$K$6:$L$11,MATCH(Z218,'OTRAS REFERENCIAS'!$L$6:$L$11,0),1))","v":""},null,null,null,null,{"$f":"IF(AE218=\"\",\"\",INDEX('OTRAS REFERENCIAS'!$N$6:$O$11,MATCH(AE218,'OTRAS REFERENCIAS'!$O$6:$O$11,0),1))","v":""},null,null,null,null,{"$f":"IF(AJ218=\"\",\"\",INDEX('OTRAS REFERENCIAS'!$Q$6:$R$11,MATCH(AJ218,'OTRAS REFERENCIAS'!$R$6:$R$11,0),1))","v":""},null,null,null,{"$f":"IF(AN218=\"\",\"\",INDEX('OTRAS REFERENCIAS'!$T$6:$U$11,MATCH(AN218,'OTRAS REFERENCIAS'!$U$6:$U$11,0),1))","v":""}]
[1,"",217,"","",{"$f":"IF(L219<>\"\",CONCATENATE(DIGITADOR!$B$2,$A$2,DIGITADOR!$M$1,A219),\"\")","v":""},null,null,"",{"$f":"IF(K219=\"\",\"\",INDEX('OTRAS REFERENCIAS'!$AL:$AM,MATCH(K219,'OTRAS REFERENCIAS'!$AL:$AL,0),2))","v":""},null,{"$f":"IF(J219=\"\",\"\",INDEX(referentes!$S:$W,MATCH(J219,referentes!$S:$S,0),1))","v":""},null,null,null,null,null,null,null,{"$f":"IF(U219=\"\",\"\",INDEX('OTRAS REFERENCIAS'!$H$6:$I$11,MATCH(U219,'OTRAS REFERENCIAS'!$I$6:$I$11,0),1))","v":""},null,null,null,null,{"$f":"IF(Z219=\"\",\"\",INDEX('OTRAS REFERENCIAS'!$K$6:$L$11,MATCH(Z219,'OTRAS REFERENCIAS'!$L$6:$L$11,0),1))","v":""},null,null,null,null,{"$f":"IF(AE219=\"\",\"\",INDEX('OTRAS REFERENCIAS'!$N$6:$O$11,MATCH(AE219,'OTRAS REFERENCIAS'!$O$6:$O$11,0),1))","v":""},null,null,null,null,{"$f":"IF(AJ219=\"\",\"\",INDEX('OTRAS REFERENCIAS'!$Q$6:$R$11,MATCH(AJ219,'OTRAS REFERENCIAS'!$R$6:$R$11,0),1))","v":""},null,null,null,{"$f":"IF(AN219=\"\",\"\",INDEX('OTRAS REFERENCIAS'!$T$6:$U$11,MATCH(AN219,'OTRAS REFERENCIAS'!$U$6:$U$11,0),1))","v":""}]
[1,"",218,"","",{"$f":"IF(L220<>\"\",CONCATENATE(DIGITADOR!$B$2,$A$2,DIGITADOR!$M$1,A220),\"\")","v":""},null,null,"",{"$f":"IF(K220=\"\",\"\",INDEX('OTRAS REFERENCIAS'!$AL:$AM,MATCH(K220,'OTRAS REFERENCIAS'!$AL:$AL,0),2))","v":""},null,{"$f":"IF(J220=\"\",\"\",INDEX(referentes!$S:$W,MATCH(J220,referentes!$S:$S,0),1))","v":""},null,null,null,null,null,null,null,{"$f":"IF(U220=\"\",\"\",INDEX('OTRAS REFERENCIAS'!$H$6:$I$11,MATCH(U220,'OTRAS REFERENCIAS'!$I$6:$I$11,0),1))","v":""},null,null,null,null,{"$f":"IF(Z220=\"\",\"\",INDEX('OTRAS REFERENCIAS'!$K$6:$L$11,MATCH(Z220,'OTRAS REFERENCIAS'!$L$6:$L$11,0),1))","v":""},null,null,null,null,{"$f":"IF(AE220=\"\",\"\",INDEX('OTRAS REFERENCIAS'!$N$6:$O$11,MATCH(AE220,'OTRAS REFERENCIAS'!$O$6:$O$11,0),1))","v":""},null,null,null,null,{"$f":"IF(AJ220=\"\",\"\",INDEX('OTRAS REFERENCIAS'!$Q$6:$R$11,MATCH(AJ220,'OTRAS REFERENCIAS'!$R$6:$R$11,0),1))","v":""},null,null,null,{"$f":"IF(AN220=\"\",\"\",INDEX('OTRAS REFERENCIAS'!$T$6:$U$11,MATCH(AN220,'OTRAS REFERENCIAS'!$U$6:$U$11,0),1))","v":""}]
[1,"",219,"","",{"$f":"IF(L221<>\"\",CONCATENATE(DIGITADOR!$B$2,$A$2,DIGITADOR!$M$1,A221),\"\")","v":""},null,null,"",{"$f":"IF(K221=\"\",\"\",INDEX('OTRAS REFERENCIAS'!$AL:$AM,MATCH(K221,'OTRAS REFERENCIAS'!$AL:$AL,0),2))","v":""},null,{"$f":"IF(J221=\"\",\"\",INDEX(referentes!$S:$W,MATCH(J221,referentes!$S:$S,0),1))","v":""},null,null,null,null,null,null,null,{"$f":"IF(U221=\"\",\"\",INDEX('OTRAS REFERENCIAS'!$H$6:$I$11,MATCH(U221,'OTRAS REFERENCIAS'!$I$6:$I$11,0),1))","v":""},null,null,null,null,{"$f":"IF(Z221=\"\",\"\",INDEX('OTRAS REFERENCIAS'!$K$6:$L$11,MATCH(Z221,'OTRAS REFERENCIAS'!$L$6:$L$11,0),1))","v":""},null,null,null,null,{"$f":"IF(AE221=\"\",\"\",INDEX('OTRAS REFERENCIAS'!$N$6:$O$11,MATCH(AE221,'OTRAS REFERENCIAS'!$O$6:$O$11,0),1))","v":""},null,null,null,null,{"$f":"IF(AJ221=\"\",\"\",INDEX('OTRAS REFERENCIAS'!$Q$6:$R$11,MATCH(AJ221,'OTRAS REFERENCIAS'!$R$6:$R$11,0),1))","v":""},null,null,null,{"$f":"IF(AN221=\"\",\"\",INDEX('OTRAS REFERENCIAS'!$T$6:$U$11,MATCH(AN221,'OTRAS REFERENCIAS'!$U$6:$U$11,0),1))","v":""}]
[1,"",220,"","",{"$f":"IF(L222<>\"\",CONCATENATE(DIGITADOR!$B$2,$A$2,DIGITADOR!$M$1,A222),\"\")","v":""},null,null,"",{"$f":"IF(K222=\"\",\"\",INDEX('OTRAS REFERENCIAS'!$AL:$AM,MATCH(K222,'OTRAS REFERENCIAS'!$AL:$AL,0),2))","v":""},null,{"$f":"IF(J222=\"\",\"\",INDEX(referentes!$S:$W,MATCH(J222,referentes!$S:$S,0),1))","v":""},null,null,null,null,null,null,null,{"$f":"IF(U222=\"\",\"\",INDEX('OTRAS REFERENCIAS'!$H$6:$I$11,MATCH(U222,'OTRAS REFERENCIAS'!$I$6:$I$11,0),1))","v":""},null,null,null,null,{"$f":"IF(Z222=\"\",\"\",INDEX('OTRAS REFERENCIAS'!$K$6:$L$11,MATCH(Z222,'OTRAS REFERENCIAS'!$L$6:$L$11,0),1))","v":""},null,null,null,null,{"$f":"IF(AE222=\"\",\"\",INDEX('OTRAS REFERENCIAS'!$N$6:$O$11,MATCH(AE222,'OTRAS REFERENCIAS'!$O$6:$O$11,0),1))","v":""},null,null,null,null,{"$f":"IF(AJ222=\"\",\"\",INDEX('OTRAS REFERENCIAS'!$Q$6:$R$11,MATCH(AJ222,'OTRAS REFERENCIAS'!$R$6:$R$11,0),1))","v":""},null,null,null,{"$f":"IF(AN222=\"\",\"\",INDEX('OTRAS REFERENCIAS'!$T$6:$U$11,MATCH(AN222,'OTRAS REFERENCIAS'!$U$6:$U$11,0),1))","v":""}]
[1,"",221,"","",{"$f":"IF(L223<>\"\",CONCATENATE(DIGITADOR!$B$2,$A$2,DIGITADOR!$M$1,A223),\"\")","v":""},null,null,"",{"$f":"IF(K223=\"\",\"\",INDEX('OTRAS REFERENCIAS'!$AL:$AM,MATCH(K223,'OTRAS REFERENCIAS'!$AL:$AL,0),2))","v":""},null,{"$f":"IF(J223=\"\",\"\",INDEX(referentes!$S:$W,MATCH(J223,referentes!$S:$S,0),1))","v":""},null,null,null,null,null,null,null,{"$f":"IF(U223=\"\",\"\",INDEX('OTRAS REFERENCIAS'!$H$6:$I$11,MATCH(U223,'OTRAS REFERENCIAS'!$I$6:$I$11,0),1))","v":""},null,null,null,null,{"$f":"IF(Z223=\"\",\"\",INDEX('OTRAS REFERENCIAS'!$K$6:$L$11,MATCH(Z223,'OTRAS REFERENCIAS'!$L$6:$L$11,0),1))","v":""},null,null,null,null,{"$f":"IF(AE223=\"\",\"\",INDEX('OTRAS REFERENCIAS'!$N$6:$O$11,MATCH(AE223,'OTRAS REFERENCIAS'!$O$6:$O$11,0),1))","v":""},null,null,null,null,{"$f":"IF(AJ223=\"\",\"\",INDEX('OTRAS REFERENCIAS'!$Q$6:$R$11,MATCH(AJ223,'OTRAS REFERENCIAS'!$R$6:$R$11,0),1))","v":""},null,null,null,{"$f":"IF(AN223=\"\",\"\",INDEX('OTRAS REFERENCIAS'!$T$6:$U$11,MATCH(AN223,'OTRAS REFERENCIAS'!$U$6:$U$11,0),1))","v":""}]
[1,"",222,"","",{"$f":"IF(L224<>\"\",CONCATENATE(DIGITADOR!$B$2,$A$2,DIGITADOR!$M$1,A224),\"\")","v":""},null,null,"",{"$f":"IF(K224=\"\",\"\",INDEX('OTRAS REFERENCIAS'!$AL:$AM,MATCH(K224,'OTRAS REFERENCIAS'!$AL:$AL,0),2))","v":""},null,{"$f":"IF(J224=\"\",\"\",INDEX(referentes!$S:$W,MATCH(J224,referentes!$S:$S,0),1))","v":""},null,null,null,null,null,null,null,{"$f":"IF(U224=\"\",\"\",INDEX('OTRAS REFERENCIAS'!$H$6:$I$11,MATCH(U224,'OTRAS REFERENCIAS'!$I$6:$I$11,0),1))","v":""},null,null,null,null,{"$f":"IF(Z224=\"\",\"\",INDEX('OTRAS REFERENCIAS'!$K$6:$L$11,MATCH(Z224,'OTRAS REFERENCIAS'!$L$6:$L$11,0),1))","v":""},null,null,null,null,{"$f":"IF(AE224=\"\",\"\",INDEX('OTRAS REFERENCIAS'!$N$6:$O$11,MATCH(AE224,'OTRAS REFERENCIAS'!$O$6:$O$11,0),1))","v":""},null,null,null,null,{"$f":"IF(AJ224=\"\",\"\",INDEX('OTRAS REFERENCIAS'!$Q$6:$R$11,MATCH(AJ224,'OTRAS REFERENCIAS'!$R$6:$R$11,0),1))","v":""},null,null,null,{"$f":"IF(AN224=\"\",\"\",INDEX('OTRAS REFERENCIAS'!$T$6:$U$11,MATCH(AN224,'OTRAS REFERENCIAS'!$U$6:$U$11,0),1))","v":""}]
[1,"",223,"","",{"$f":"IF(L225<>\"\",CONCATENATE(DIGITADOR!$B$2,$A$2,DIGITADOR!$M$1,A225),\"\")","v":""},null,null,"",{"$f":"IF(K225=\"\",\"\",INDEX('OTRAS REFERENCIAS'!$AL:$AM,MATCH(K225,'OTRAS REFERENCIAS'!$AL:$AL,0),2))","v":""},null,{"$f":"IF(J225=\"\",\"\",INDEX(referentes!$S:$W,MATCH(J225,referentes!$S:$S,0),1))","v":""},null,null,null,null,null,null,null,{"$f":"IF(U225=\"\",\"\",INDEX('OTRAS REFERENCIAS'!$H$6:$I$11,MATCH(U225,'OTRAS REFERENCIAS'!$I$6:$I$11,0),1))","v":""},null,null,null,null,{"$f":"IF(Z225=\"\",\"\",INDEX('OTRAS REFERENCIAS'!$K$6:$L$11,MATCH(Z225,'OTRAS REFERENCIAS'!$L$6:$L$11,0),1))","v":""},null,null,null,null,{"$f":"IF(AE225=\"\",\"\",INDEX('OTRAS REFERENCIAS'!$N$6:$O$11,MATCH(AE225,'OTRAS REFERENCIAS'!$O$6:$O$11,0),1))","v":""},null,null,null,null,{"$f":"IF(AJ225=\"\",\"\",INDEX('OTRAS REFERENCIAS'!$Q$6:$R$11,MATCH(AJ225,'OTRAS REFERENCIAS'!$R$6:$R$11,0),1))","v":""},null,null,null,{"$f":"IF(AN225=\"\",\"\",INDEX('OTRAS REFERENCIAS'!$T$6:$U$11,MATCH(AN225,'OTRAS REFERENCIAS'!$U$6:$U$11,0),1))","v":""}]
[1,"",224,"","",{"$f":"IF(L226<>\"\",CONCATENATE(DIGITADOR!$B$2,$A$2,DIGITADOR!$M$1,A226),\"\")","v":""},null,null,"",{"$f":"IF(K226=\"\",\"\",INDEX('OTRAS REFERENCIAS'!$AL:$AM,MATCH(K226,'OTRAS REFERENCIAS'!$AL:$AL,0),2))","v":""},null,{"$f":"IF(J226=\"\",\"\",INDEX(referentes!$S:$W,MATCH(J226,referentes!$S:$S,0),1))","v":""},null,null,null,null,null,null,null,{"$f":"IF(U226=\"\",\"\",INDEX('OTRAS REFERENCIAS'!$H$6:$I$11,MATCH(U226,'OTRAS REFERENCIAS'!$I$6:$I$11,0),1))","v":""},null,null,null,null,{"$f":"IF(Z226=\"\",\"\",INDEX('OTRAS REFERENCIAS'!$K$6:$L$11,MATCH(Z226,'OTRAS REFERENCIAS'!$L$6:$L$11,0),1))","v":""},null,null,null,null,{"$f":"IF(AE226=\"\",\"\",INDEX('OTRAS REFERENCIAS'!$N$6:$O$11,MATCH(AE226,'OTRAS REFERENCIAS'!$O$6:$O$11,0),1))","v":""},null,null,null,null,{"$f":"IF(AJ226=\"\",\"\",INDEX('OTRAS REFERENCIAS'!$Q$6:$R$11,MATCH(AJ226,'OTRAS REFERENCIAS'!$R$6:$R$11,0),1))","v":""},null,null,null,{"$f":"IF(AN226=\"\",\"\",INDEX('OTRAS REFERENCIAS'!$T$6:$U$11,MATCH(AN226,'OTRAS REFERENCIAS'!$U$6:$U$11,0),1))","v":""}]
[1,"",225,"","",{"$f":"IF(L227<>\"\",CONCATENATE(DIGITADOR!$B$2,$A$2,DIGITADOR!$M$1,A227),\"\")","v":""},null,null,"",{"$f":"IF(K227=\"\",\"\",INDEX('OTRAS REFERENCIAS'!$AL:$AM,MATCH(K227,'OTRAS REFERENCIAS'!$AL:$AL,0),2))","v":""},null,{"$f":"IF(J227=\"\",\"\",INDEX(referentes!$S:$W,MATCH(J227,referentes!$S:$S,0),1))","v":""},null,null,null,null,null,null,null,{"$f":"IF(U227=\"\",\"\",INDEX('OTRAS REFERENCIAS'!$H$6:$I$11,MATCH(U227,'OTRAS REFERENCIAS'!$I$6:$I$11,0),1))","v":""},null,null,null,null,{"$f":"IF(Z227=\"\",\"\",INDEX('OTRAS REFERENCIAS'!$K$6:$L$11,MATCH(Z227,'OTRAS REFERENCIAS'!$L$6:$L$11,0),1))","v":""},null,null,null,null,{"$f":"IF(AE227=\"\",\"\",INDEX('OTRAS REFERENCIAS'!$N$6:$O$11,MATCH(AE227,'OTRAS REFERENCIAS'!$O$6:$O$11,0),1))","v":""},null,null,null,null,{"$f":"IF(AJ227=\"\",\"\",INDEX('OTRAS REFERENCIAS'!$Q$6:$R$11,MATCH(AJ227,'OTRAS REFERENCIAS'!$R$6:$R$11,0),1))","v":""},null,null,null,{"$f":"IF(AN227=\"\",\"\",INDEX('OTRAS REFERENCIAS'!$T$6:$U$11,MATCH(AN227,'OTRAS REFERENCIAS'!$U$6:$U$11,0),1))","v":""}]
[1,"",226,"","",{"$f":"IF(L228<>\"\",CONCATENATE(DIGITADOR!$B$2,$A$2,DIGITADOR!$M$1,A228),\"\")","v":""},null,null,"",{"$f":"IF(K228=\"\",\"\",INDEX('OTRAS REFERENCIAS'!$AL:$AM,MATCH(K228,'OTRAS REFERENCIAS'!$AL:$AL,0),2))","v":""},null,{"$f":"IF(J228=\"\",\"\",INDEX(referentes!$S:$W,MATCH(J228,referentes!$S:$S,0),1))","v":""},null,null,null,null,null,null,null,{"$f":"IF(U228=\"\",\"\",INDEX('OTRAS REFERENCIAS'!$H$6:$I$11,MATCH(U228,'OTRAS REFERENCIAS'!$I$6:$I$11,0),1))","v":""},null,null,null,null,{"$f":"IF(Z228=\"\",\"\",INDEX('OTRAS REFERENCIAS'!$K$6:$L$11,MATCH(Z228,'OTRAS REFERENCIAS'!$L$6:$L$11,0),1))","v":""},null,null,null,null,{"$f":"IF(AE228=\"\",\"\",INDEX('OTRAS REFERENCIAS'!$N$6:$O$11,MATCH(AE228,'OTRAS REFERENCIAS'!$O$6:$O$11,0),1))","v":""},null,null,null,null,{"$f":"IF(AJ228=\"\",\"\",INDEX('OTRAS REFERENCIAS'!$Q$6:$R$11,MATCH(AJ228,'OTRAS REFERENCIAS'!$R$6:$R$11,0),1))","v":""},null,null,null,{"$f":"IF(AN228=\"\",\"\",INDEX('OTRAS REFERENCIAS'!$T$6:$U$11,MATCH(AN228,'OTRAS REFERENCIAS'!$U$6:$U$11,0),1))","v":""}]
[1,"",227,"","",{"$f":"IF(L229<>\"\",CONCATENATE(DIGITADOR!$B$2,$A$2,DIGITADOR!$M$1,A229),\"\")","v":""},null,null,"",{"$f":"IF(K229=\"\",\"\",INDEX('OTRAS REFERENCIAS'!$AL:$AM,MATCH(K229,'OTRAS REFERENCIAS'!$AL:$AL,0),2))","v":""},null,{"$f":"IF(J229=\"\",\"\",INDEX(referentes!$S:$W,MATCH(J229,referentes!$S:$S,0),1))","v":""},null,null,null,null,null,null,null,{"$f":"IF(U229=\"\",\"\",INDEX('OTRAS REFERENCIAS'!$H$6:$I$11,MATCH(U229,'OTRAS REFERENCIAS'!$I$6:$I$11,0),1))","v":""},null,null,null,null,{"$f":"IF(Z229=\"\",\"\",INDEX('OTRAS REFERENCIAS'!$K$6:$L$11,MATCH(Z229,'OTRAS REFERENCIAS'!$L$6:$L$11,0),1))","v":""},null,null,null,null,{"$f":"IF(AE229=\"\",\"\",INDEX('OTRAS REFERENCIAS'!$N$6:$O$11,MATCH(AE229,'OTRAS REFERENCIAS'!$O$6:$O$11,0),1))","v":""},null,null,null,null,{"$f":"IF(AJ229=\"\",\"\",INDEX('OTRAS REFERENCIAS'!$Q$6:$R$11,MATCH(AJ229,'OTRAS REFERENCIAS'!$R$6:$R$11,0),1))","v":""},null,null,null,{"$f":"IF(AN229=\"\",\"\",INDEX('OTRAS REFERENCIAS'!$T$6:$U$11,MATCH(AN229,'OTRAS REFERENCIAS'!$U$6:$U$11,0),1))","v":""}]
[1,"",228,"","",{"$f":"IF(L230<>\"\",CONCATENATE(DIGITADOR!$B$2,$A$2,DIGITADOR!$M$1,A230),\"\")","v":""},null,null,"",{"$f":"IF(K230=\"\",\"\",INDEX('OTRAS REFERENCIAS'!$AL:$AM,MATCH(K230,'OTRAS REFERENCIAS'!$AL:$AL,0),2))","v":""},null,{"$f":"IF(J230=\"\",\"\",INDEX(referentes!$S:$W,MATCH(J230,referentes!$S:$S,0),1))","v":""},null,null,null,null,null,null,null,{"$f":"IF(U230=\"\",\"\",INDEX('OTRAS REFERENCIAS'!$H$6:$I$11,MATCH(U230,'OTRAS REFERENCIAS'!$I$6:$I$11,0),1))","v":""},null,null,null,null,{"$f":"IF(Z230=\"\",\"\",INDEX('OTRAS REFERENCIAS'!$K$6:$L$11,MATCH(Z230,'OTRAS REFERENCIAS'!$L$6:$L$11,0),1))","v":""},null,null,null,null,{"$f":"IF(AE230=\"\",\"\",INDEX('OTRAS REFERENCIAS'!$N$6:$O$11,MATCH(AE230,'OTRAS REFERENCIAS'!$O$6:$O$11,0),1))","v":""},null,null,null,null,{"$f":"IF(AJ230=\"\",\"\",INDEX('OTRAS REFERENCIAS'!$Q$6:$R$11,MATCH(AJ230,'OTRAS REFERENCIAS'!$R$6:$R$11,0),1))","v":""},null,null,null,{"$f":"IF(AN230=\"\",\"\",INDEX('OTRAS REFERENCIAS'!$T$6:$U$11,MATCH(AN230,'OTRAS REFERENCIAS'!$U$6:$U$11,0),1))","v":""}]
[1,"",229,"","",{"$f":"IF(L231<>\"\",CONCATENATE(DIGITADOR!$B$2,$A$2,DIGITADOR!$M$1,A231),\"\")","v":""},null,null,"",{"$f":"IF(K231=\"\",\"\",INDEX('OTRAS REFERENCIAS'!$AL:$AM,MATCH(K231,'OTRAS REFERENCIAS'!$AL:$AL,0),2))","v":""},null,{"$f":"IF(J231=\"\",\"\",INDEX(referentes!$S:$W,MATCH(J231,referentes!$S:$S,0),1))","v":""},null,null,null,null,null,null,null,{"$f":"IF(U231=\"\",\"\",INDEX('OTRAS REFERENCIAS'!$H$6:$I$11,MATCH(U231,'OTRAS REFERENCIAS'!$I$6:$I$11,0),1))","v":""},null,null,null,null,{"$f":"IF(Z231=\"\",\"\",INDEX('OTRAS REFERENCIAS'!$K$6:$L$11,MATCH(Z231,'OTRAS REFERENCIAS'!$L$6:$L$11,0),1))","v":""},null,null,null,null,{"$f":"IF(AE231=\"\",\"\",INDEX('OTRAS REFERENCIAS'!$N$6:$O$11,MATCH(AE231,'OTRAS REFERENCIAS'!$O$6:$O$11,0),1))","v":""},null,null,null,null,{"$f":"IF(AJ231=\"\",\"\",INDEX('OTRAS REFERENCIAS'!$Q$6:$R$11,MATCH(AJ231,'OTRAS REFERENCIAS'!$R$6:$R$11,0),1))","v":""},null,null,null,{"$f":"IF(AN231=\"\",\"\",INDEX('OTRAS REFERENCIAS'!$T$6:$U$11,MATCH(AN231,'OTRAS REFERENCIAS'!$U$6:$U$11,0),1))","v":""}]
[1,"",230,"","",{"$f":"IF(L232<>\"\",CONCATENATE(DIGITADOR!$B$2,$A$2,DIGITADOR!$M$1,A232),\"\")","v":""},null,null,"",{"$f":"IF(K232=\"\",\"\",INDEX('OTRAS REFERENCIAS'!$AL:$AM,MATCH(K232,'OTRAS REFERENCIAS'!$AL:$AL,0),2))","v":""},null,{"$f":"IF(J232=\"\",\"\",INDEX(referentes!$S:$W,MATCH(J232,referentes!$S:$S,0),1))","v":""},null,null,null,null,null,null,null,{"$f":"IF(U232=\"\",\"\",INDEX('OTRAS REFERENCIAS'!$H$6:$I$11,MATCH(U232,'OTRAS REFERENCIAS'!$I$6:$I$11,0),1))","v":""},null,null,null,null,{"$f":"IF(Z232=\"\",\"\",INDEX('OTRAS REFERENCIAS'!$K$6:$L$11,MATCH(Z232,'OTRAS REFERENCIAS'!$L$6:$L$11,0),1))","v":""},null,null,null,null,{"$f":"IF(AE232=\"\",\"\",INDEX('OTRAS REFERENCIAS'!$N$6:$O$11,MATCH(AE232,'OTRAS REFERENCIAS'!$O$6:$O$11,0),1))","v":""},null,null,null,null,{"$f":"IF(AJ232=\"\",\"\",INDEX('OTRAS REFERENCIAS'!$Q$6:$R$11,MATCH(AJ232,'OTRAS REFERENCIAS'!$R$6:$R$11,0),1))","v":""},null,null,null,{"$f":"IF(AN232=\"\",\"\",INDEX('OTRAS REFERENCIAS'!$T$6:$U$11,MATCH(AN232,'OTRAS REFERENCIAS'!$U$6:$U$11,0),1))","v":""}]
[1,"",231,"","",{"$f":"IF(L233<>\"\",CONCATENATE(DIGITADOR!$B$2,$A$2,DIGITADOR!$M$1,A233),\"\")","v":""},null,null,"",{"$f":"IF(K233=\"\",\"\",INDEX('OTRAS REFERENCIAS'!$AL:$AM,MATCH(K233,'OTRAS REFERENCIAS'!$AL:$AL,0),2))","v":""},null,{"$f":"IF(J233=\"\",\"\",INDEX(referentes!$S:$W,MATCH(J233,referentes!$S:$S,0),1))","v":""},null,null,null,null,null,null,null,{"$f":"IF(U233=\"\",\"\",INDEX('OTRAS REFERENCIAS'!$H$6:$I$11,MATCH(U233,'OTRAS REFERENCIAS'!$I$6:$I$11,0),1))","v":""},null,null,null,null,{"$f":"IF(Z233=\"\",\"\",INDEX('OTRAS REFERENCIAS'!$K$6:$L$11,MATCH(Z233,'OTRAS REFERENCIAS'!$L$6:$L$11,0),1))","v":""},null,null,null,null,{"$f":"IF(AE233=\"\",\"\",INDEX('OTRAS REFERENCIAS'!$N$6:$O$11,MATCH(AE233,'OTRAS REFERENCIAS'!$O$6:$O$11,0),1))","v":""},null,null,null,null,{"$f":"IF(AJ233=\"\",\"\",INDEX('OTRAS REFERENCIAS'!$Q$6:$R$11,MATCH(AJ233,'OTRAS REFERENCIAS'!$R$6:$R$11,0),1))","v":""},null,null,null,{"$f":"IF(AN233=\"\",\"\",INDEX('OTRAS REFERENCIAS'!$T$6:$U$11,MATCH(AN233,'OTRAS REFERENCIAS'!$U$6:$U$11,0),1))","v":""}]
[1,"",232,"","",{"$f":"IF(L234<>\"\",CONCATENATE(DIGITADOR!$B$2,$A$2,DIGITADOR!$M$1,A234),\"\")","v":""},null,null,"",{"$f":"IF(K234=\"\",\"\",INDEX('OTRAS REFERENCIAS'!$AL:$AM,MATCH(K234,'OTRAS REFERENCIAS'!$AL:$AL,0),2))","v":""},null,{"$f":"IF(J234=\"\",\"\",INDEX(referentes!$S:$W,MATCH(J234,referentes!$S:$S,0),1))","v":""},null,null,null,null,null,null,null,{"$f":"IF(U234=\"\",\"\",INDEX('OTRAS REFERENCIAS'!$H$6:$I$11,MATCH(U234,'OTRAS REFERENCIAS'!$I$6:$I$11,0),1))","v":""},null,null,null,null,{"$f":"IF(Z234=\"\",\"\",INDEX('OTRAS REFERENCIAS'!$K$6:$L$11,MATCH(Z234,'OTRAS REFERENCIAS'!$L$6:$L$11,0),1))","v":""},null,null,null,null,{"$f":"IF(AE234=\"\",\"\",INDEX('OTRAS REFERENCIAS'!$N$6:$O$11,MATCH(AE234,'OTRAS REFERENCIAS'!$O$6:$O$11,0),1))","v":""},null,null,null,null,{"$f":"IF(AJ234=\"\",\"\",INDEX('OTRAS REFERENCIAS'!$Q$6:$R$11,MATCH(AJ234,'OTRAS REFERENCIAS'!$R$6:$R$11,0),1))","v":""},null,null,null,{"$f":"IF(AN234=\"\",\"\",INDEX('OTRAS REFERENCIAS'!$T$6:$U$11,MATCH(AN234,'OTRAS REFERENCIAS'!$U$6:$U$11,0),1))","v":""}]
[1,"",233,"","",{"$f":"IF(L235<>\"\",CONCATENATE(DIGITADOR!$B$2,$A$2,DIGITADOR!$M$1,A235),\"\")","v":""},null,null,"",{"$f":"IF(K235=\"\",\"\",INDEX('OTRAS REFERENCIAS'!$AL:$AM,MATCH(K235,'OTRAS REFERENCIAS'!$AL:$AL,0),2))","v":""},null,{"$f":"IF(J235=\"\",\"\",INDEX(referentes!$S:$W,MATCH(J235,referentes!$S:$S,0),1))","v":""},null,null,null,null,null,null,null,{"$f":"IF(U235=\"\",\"\",INDEX('OTRAS REFERENCIAS'!$H$6:$I$11,MATCH(U235,'OTRAS REFERENCIAS'!$I$6:$I$11,0),1))","v":""},null,null,null,null,{"$f":"IF(Z235=\"\",\"\",INDEX('OTRAS REFERENCIAS'!$K$6:$L$11,MATCH(Z235,'OTRAS REFERENCIAS'!$L$6:$L$11,0),1))","v":""},null,null,null,null,{"$f":"IF(AE235=\"\",\"\",INDEX('OTRAS REFERENCIAS'!$N$6:$O$11,MATCH(AE235,'OTRAS REFERENCIAS'!$O$6:$O$11,0),1))","v":""},null,null,null,null,{"$f":"IF(AJ235=\"\",\"\",INDEX('OTRAS REFERENCIAS'!$Q$6:$R$11,MATCH(AJ235,'OTRAS REFERENCIAS'!$R$6:$R$11,0),1))","v":""},null,null,null,{"$f":"IF(AN235=\"\",\"\",INDEX('OTRAS REFERENCIAS'!$T$6:$U$11,MATCH(AN235,'OTRAS REFERENCIAS'!$U$6:$U$11,0),1))","v":""}]
[1,"",234,"","",{"$f":"IF(L236<>\"\",CONCATENATE(DIGITADOR!$B$2,$A$2,DIGITADOR!$M$1,A236),\"\")","v":""},null,null,"",{"$f":"IF(K236=\"\",\"\",INDEX('OTRAS REFERENCIAS'!$AL:$AM,MATCH(K236,'OTRAS REFERENCIAS'!$AL:$AL,0),2))","v":""},null,{"$f":"IF(J236=\"\",\"\",INDEX(referentes!$S:$W,MATCH(J236,referentes!$S:$S,0),1))","v":""},null,null,null,null,null,null,null,{"$f":"IF(U236=\"\",\"\",INDEX('OTRAS REFERENCIAS'!$H$6:$I$11,MATCH(U236,'OTRAS REFERENCIAS'!$I$6:$I$11,0),1))","v":""},null,null,null,null,{"$f":"IF(Z236=\"\",\"\",INDEX('OTRAS REFERENCIAS'!$K$6:$L$11,MATCH(Z236,'OTRAS REFERENCIAS'!$L$6:$L$11,0),1))","v":""},null,null,null,null,{"$f":"IF(AE236=\"\",\"\",INDEX('OTRAS REFERENCIAS'!$N$6:$O$11,MATCH(AE236,'OTRAS REFERENCIAS'!$O$6:$O$11,0),1))","v":""},null,null,null,null,{"$f":"IF(AJ236=\"\",\"\",INDEX('OTRAS REFERENCIAS'!$Q$6:$R$11,MATCH(AJ236,'OTRAS REFERENCIAS'!$R$6:$R$11,0),1))","v":""},null,null,null,{"$f":"IF(AN236=\"\",\"\",INDEX('OTRAS REFERENCIAS'!$T$6:$U$11,MATCH(AN236,'OTRAS REFERENCIAS'!$U$6:$U$11,0),1))","v":""}]
[1,"",235,"","",{"$f":"IF(L237<>\"\",CONCATENATE(DIGITADOR!$B$2,$A$2,DIGITADOR!$M$1,A237),\"\")","v":""},null,null,"",{"$f":"IF(K237=\"\",\"\",INDEX('OTRAS REFERENCIAS'!$AL:$AM,MATCH(K237,'OTRAS REFERENCIAS'!$AL:$AL,0),2))","v":""},null,{"$f":"IF(J237=\"\",\"\",INDEX(referentes!$S:$W,MATCH(J237,referentes!$S:$S,0),1))","v":""},null,null,null,null,null,null,null,{"$f":"IF(U237=\"\",\"\",INDEX('OTRAS REFERENCIAS'!$H$6:$I$11,MATCH(U237,'OTRAS REFERENCIAS'!$I$6:$I$11,0),1))","v":""},null,null,null,null,{"$f":"IF(Z237=\"\",\"\",INDEX('OTRAS REFERENCIAS'!$K$6:$L$11,MATCH(Z237,'OTRAS REFERENCIAS'!$L$6:$L$11,0),1))","v":""},null,null,null,null,{"$f":"IF(AE237=\"\",\"\",INDEX('OTRAS REFERENCIAS'!$N$6:$O$11,MATCH(AE237,'OTRAS REFERENCIAS'!$O$6:$O$11,0),1))","v":""},null,null,null,null,{"$f":"IF(AJ237=\"\",\"\",INDEX('OTRAS REFERENCIAS'!$Q$6:$R$11,MATCH(AJ237,'OTRAS REFERENCIAS'!$R$6:$R$11,0),1))","v":""},null,null,null,{"$f":"IF(AN237=\"\",\"\",INDEX('OTRAS REFERENCIAS'!$T$6:$U$11,MATCH(AN237,'OTRAS REFERENCIAS'!$U$6:$U$11,0),1))","v":""}]
[1,"",236,"","",{"$f":"IF(L238<>\"\",CONCATENATE(DIGITADOR!$B$2,$A$2,DIGITADOR!$M$1,A238),\"\")","v":""},null,null,"",{"$f":"IF(K238=\"\",\"\",INDEX('OTRAS REFERENCIAS'!$AL:$AM,MATCH(K238,'OTRAS REFERENCIAS'!$AL:$AL,0),2))","v":""},null,{"$f":"IF(J238=\"\",\"\",INDEX(referentes!$S:$W,MATCH(J238,referentes!$S:$S,0),1))","v":""},null,null,null,null,null,null,null,{"$f":"IF(U238=\"\",\"\",INDEX('OTRAS REFERENCIAS'!$H$6:$I$11,MATCH(U238,'OTRAS REFERENCIAS'!$I$6:$I$11,0),1))","v":""},null,null,null,null,{"$f":"IF(Z238=\"\",\"\",INDEX('OTRAS REFERENCIAS'!$K$6:$L$11,MATCH(Z238,'OTRAS REFERENCIAS'!$L$6:$L$11,0),1))","v":""},null,null,null,null,{"$f":"IF(AE238=\"\",\"\",INDEX('OTRAS REFERENCIAS'!$N$6:$O$11,MATCH(AE238,'OTRAS REFERENCIAS'!$O$6:$O$11,0),1))","v":""},null,null,null,null,{"$f":"IF(AJ238=\"\",\"\",INDEX('OTRAS REFERENCIAS'!$Q$6:$R$11,MATCH(AJ238,'OTRAS REFERENCIAS'!$R$6:$R$11,0),1))","v":""},null,null,null,{"$f":"IF(AN238=\"\",\"\",INDEX('OTRAS REFERENCIAS'!$T$6:$U$11,MATCH(AN238,'OTRAS REFERENCIAS'!$U$6:$U$11,0),1))","v":""}]
[1,"",237,"","",{"$f":"IF(L239<>\"\",CONCATENATE(DIGITADOR!$B$2,$A$2,DIGITADOR!$M$1,A239),\"\")","v":""},null,null,"",{"$f":"IF(K239=\"\",\"\",INDEX('OTRAS REFERENCIAS'!$AL:$AM,MATCH(K239,'OTRAS REFERENCIAS'!$AL:$AL,0),2))","v":""},null,{"$f":"IF(J239=\"\",\"\",INDEX(referentes!$S:$W,MATCH(J239,referentes!$S:$S,0),1))","v":""},null,null,null,null,null,null,null,{"$f":"IF(U239=\"\",\"\",INDEX('OTRAS REFERENCIAS'!$H$6:$I$11,MATCH(U239,'OTRAS REFERENCIAS'!$I$6:$I$11,0),1))","v":""},null,null,null,null,{"$f":"IF(Z239=\"\",\"\",INDEX('OTRAS REFERENCIAS'!$K$6:$L$11,MATCH(Z239,'OTRAS REFERENCIAS'!$L$6:$L$11,0),1))","v":""},null,null,null,null,{"$f":"IF(AE239=\"\",\"\",INDEX('OTRAS REFERENCIAS'!$N$6:$O$11,MATCH(AE239,'OTRAS REFERENCIAS'!$O$6:$O$11,0),1))","v":""},null,null,null,null,{"$f":"IF(AJ239=\"\",\"\",INDEX('OTRAS REFERENCIAS'!$Q$6:$R$11,MATCH(AJ239,'OTRAS REFERENCIAS'!$R$6:$R$11,0),1))","v":""},null,null,null,{"$f":"IF(AN239=\"\",\"\",INDEX('OTRAS REFERENCIAS'!$T$6:$U$11,MATCH(AN239,'OTRAS REFERENCIAS'!$U$6:$U$11,0),1))","v":""}]
[1,"",238,"","",{"$f":"IF(L240<>\"\",CONCATENATE(DIGITADOR!$B$2,$A$2,DIGITADOR!$M$1,A240),\"\")","v":""},null,null,"",{"$f":"IF(K240=\"\",\"\",INDEX('OTRAS REFERENCIAS'!$AL:$AM,MATCH(K240,'OTRAS REFERENCIAS'!$AL:$AL,0),2))","v":""},null,{"$f":"IF(J240=\"\",\"\",INDEX(referentes!$S:$W,MATCH(J240,referentes!$S:$S,0),1))","v":""},null,null,null,null,null,null,null,{"$f":"IF(U240=\"\",\"\",INDEX('OTRAS REFERENCIAS'!$H$6:$I$11,MATCH(U240,'OTRAS REFERENCIAS'!$I$6:$I$11,0),1))","v":""},null,null,null,null,{"$f":"IF(Z240=\"\",\"\",INDEX('OTRAS REFERENCIAS'!$K$6:$L$11,MATCH(Z240,'OTRAS REFERENCIAS'!$L$6:$L$11,0),1))","v":""},null,null,null,null,{"$f":"IF(AE240=\"\",\"\",INDEX('OTRAS REFERENCIAS'!$N$6:$O$11,MATCH(AE240,'OTRAS REFERENCIAS'!$O$6:$O$11,0),1))","v":""},null,null,null,null,{"$f":"IF(AJ240=\"\",\"\",INDEX('OTRAS REFERENCIAS'!$Q$6:$R$11,MATCH(AJ240,'OTRAS REFERENCIAS'!$R$6:$R$11,0),1))","v":""},null,null,null,{"$f":"IF(AN240=\"\",\"\",INDEX('OTRAS REFERENCIAS'!$T$6:$U$11,MATCH(AN240,'OTRAS REFERENCIAS'!$U$6:$U$11,0),1))","v":""}]
[1,"",239,"","",{"$f":"IF(L241<>\"\",CONCATENATE(DIGITADOR!$B$2,$A$2,DIGITADOR!$M$1,A241),\"\")","v":""},null,null,"",{"$f":"IF(K241=\"\",\"\",INDEX('OTRAS REFERENCIAS'!$AL:$AM,MATCH(K241,'OTRAS REFERENCIAS'!$AL:$AL,0),2))","v":""},null,{"$f":"IF(J241=\"\",\"\",INDEX(referentes!$S:$W,MATCH(J241,referentes!$S:$S,0),1))","v":""},null,null,null,null,null,null,null,{"$f":"IF(U241=\"\",\"\",INDEX('OTRAS REFERENCIAS'!$H$6:$I$11,MATCH(U241,'OTRAS REFERENCIAS'!$I$6:$I$11,0),1))","v":""},null,null,null,null,{"$f":"IF(Z241=\"\",\"\",INDEX('OTRAS REFERENCIAS'!$K$6:$L$11,MATCH(Z241,'OTRAS REFERENCIAS'!$L$6:$L$11,0),1))","v":""},null,null,null,null,{"$f":"IF(AE241=\"\",\"\",INDEX('OTRAS REFERENCIAS'!$N$6:$O$11,MATCH(AE241,'OTRAS REFERENCIAS'!$O$6:$O$11,0),1))","v":""},null,null,null,null,{"$f":"IF(AJ241=\"\",\"\",INDEX('OTRAS REFERENCIAS'!$Q$6:$R$11,MATCH(AJ241,'OTRAS REFERENCIAS'!$R$6:$R$11,0),1))","v":""},null,null,null,{"$f":"IF(AN241=\"\",\"\",INDEX('OTRAS REFERENCIAS'!$T$6:$U$11,MATCH(AN241,'OTRAS REFERENCIAS'!$U$6:$U$11,0),1))","v":""}]
[1,"",240,"","",{"$f":"IF(L242<>\"\",CONCATENATE(DIGITADOR!$B$2,$A$2,DIGITADOR!$M$1,A242),\"\")","v":""},null,null,"",{"$f":"IF(K242=\"\",\"\",INDEX('OTRAS REFERENCIAS'!$AL:$AM,MATCH(K242,'OTRAS REFERENCIAS'!$AL:$AL,0),2))","v":""},null,{"$f":"IF(J242=\"\",\"\",INDEX(referentes!$S:$W,MATCH(J242,referentes!$S:$S,0),1))","v":""},null,null,null,null,null,null,null,{"$f":"IF(U242=\"\",\"\",INDEX('OTRAS REFERENCIAS'!$H$6:$I$11,MATCH(U242,'OTRAS REFERENCIAS'!$I$6:$I$11,0),1))","v":""},null,null,null,null,{"$f":"IF(Z242=\"\",\"\",INDEX('OTRAS REFERENCIAS'!$K$6:$L$11,MATCH(Z242,'OTRAS REFERENCIAS'!$L$6:$L$11,0),1))","v":""},null,null,null,null,{"$f":"IF(AE242=\"\",\"\",INDEX('OTRAS REFERENCIAS'!$N$6:$O$11,MATCH(AE242,'OTRAS REFERENCIAS'!$O$6:$O$11,0),1))","v":""},null,null,null,null,{"$f":"IF(AJ242=\"\",\"\",INDEX('OTRAS REFERENCIAS'!$Q$6:$R$11,MATCH(AJ242,'OTRAS REFERENCIAS'!$R$6:$R$11,0),1))","v":""},null,null,null,{"$f":"IF(AN242=\"\",\"\",INDEX('OTRAS REFERENCIAS'!$T$6:$U$11,MATCH(AN242,'OTRAS REFERENCIAS'!$U$6:$U$11,0),1))","v":""}]
[1,"",241,"","",{"$f":"IF(L243<>\"\",CONCATENATE(DIGITADOR!$B$2,$A$2,DIGITADOR!$M$1,A243),\"\")","v":""},null,null,"",{"$f":"IF(K243=\"\",\"\",INDEX('OTRAS REFERENCIAS'!$AL:$AM,MATCH(K243,'OTRAS REFERENCIAS'!$AL:$AL,0),2))","v":""},null,{"$f":"IF(J243=\"\",\"\",INDEX(referentes!$S:$W,MATCH(J243,referentes!$S:$S,0),1))","v":""},null,null,null,null,null,null,null,{"$f":"IF(U243=\"\",\"\",INDEX('OTRAS REFERENCIAS'!$H$6:$I$11,MATCH(U243,'OTRAS REFERENCIAS'!$I$6:$I$11,0),1))","v":""},null,null,null,null,{"$f":"IF(Z243=\"\",\"\",INDEX('OTRAS REFERENCIAS'!$K$6:$L$11,MATCH(Z243,'OTRAS REFERENCIAS'!$L$6:$L$11,0),1))","v":""},null,null,null,null,{"$f":"IF(AE243=\"\",\"\",INDEX('OTRAS REFERENCIAS'!$N$6:$O$11,MATCH(AE243,'OTRAS REFERENCIAS'!$O$6:$O$11,0),1))","v":""},null,null,null,null,{"$f":"IF(AJ243=\"\",\"\",INDEX('OTRAS REFERENCIAS'!$Q$6:$R$11,MATCH(AJ243,'OTRAS REFERENCIAS'!$R$6:$R$11,0),1))","v":""},null,null,null,{"$f":"IF(AN243=\"\",\"\",INDEX('OTRAS REFERENCIAS'!$T$6:$U$11,MATCH(AN243,'OTRAS REFERENCIAS'!$U$6:$U$11,0),1))","v":""}]
[1,"",242,"","",{"$f":"IF(L244<>\"\",CONCATENATE(DIGITADOR!$B$2,$A$2,DIGITADOR!$M$1,A244),\"\")","v":""},null,null,"",{"$f":"IF(K244=\"\",\"\",INDEX('OTRAS REFERENCIAS'!$AL:$AM,MATCH(K244,'OTRAS REFERENCIAS'!$AL:$AL,0),2))","v":""},null,{"$f":"IF(J244=\"\",\"\",INDEX(referentes!$S:$W,MATCH(J244,referentes!$S:$S,0),1))","v":""},null,null,null,null,null,null,null,{"$f":"IF(U244=\"\",\"\",INDEX('OTRAS REFERENCIAS'!$H$6:$I$11,MATCH(U244,'OTRAS REFERENCIAS'!$I$6:$I$11,0),1))","v":""},null,null,null,null,{"$f":"IF(Z244=\"\",\"\",INDEX('OTRAS REFERENCIAS'!$K$6:$L$11,MATCH(Z244,'OTRAS REFERENCIAS'!$L$6:$L$11,0),1))","v":""},null,null,null,null,{"$f":"IF(AE244=\"\",\"\",INDEX('OTRAS REFERENCIAS'!$N$6:$O$11,MATCH(AE244,'OTRAS REFERENCIAS'!$O$6:$O$11,0),1))","v":""},null,null,null,null,{"$f":"IF(AJ244=\"\",\"\",INDEX('OTRAS REFERENCIAS'!$Q$6:$R$11,MATCH(AJ244,'OTRAS REFERENCIAS'!$R$6:$R$11,0),1))","v":""},null,null,null,{"$f":"IF(AN244=\"\",\"\",INDEX('OTRAS REFERENCIAS'!$T$6:$U$11,MATCH(AN244,'OTRAS REFERENCIAS'!$U$6:$U$11,0),1))","v":""}]
[1,"",243,"","",{"$f":"IF(L245<>\"\",CONCATENATE(DIGITADOR!$B$2,$A$2,DIGITADOR!$M$1,A245),\"\")","v":""},null,null,"",{"$f":"IF(K245=\"\",\"\",INDEX('OTRAS REFERENCIAS'!$AL:$AM,MATCH(K245,'OTRAS REFERENCIAS'!$AL:$AL,0),2))","v":""},null,{"$f":"IF(J245=\"\",\"\",INDEX(referentes!$S:$W,MATCH(J245,referentes!$S:$S,0),1))","v":""},null,null,null,null,null,null,null,{"$f":"IF(U245=\"\",\"\",INDEX('OTRAS REFERENCIAS'!$H$6:$I$11,MATCH(U245,'OTRAS REFERENCIAS'!$I$6:$I$11,0),1))","v":""},null,null,null,null,{"$f":"IF(Z245=\"\",\"\",INDEX('OTRAS REFERENCIAS'!$K$6:$L$11,MATCH(Z245,'OTRAS REFERENCIAS'!$L$6:$L$11,0),1))","v":""},null,null,null,null,{"$f":"IF(AE245=\"\",\"\",INDEX('OTRAS REFERENCIAS'!$N$6:$O$11,MATCH(AE245,'OTRAS REFERENCIAS'!$O$6:$O$11,0),1))","v":""},null,null,null,null,{"$f":"IF(AJ245=\"\",\"\",INDEX('OTRAS REFERENCIAS'!$Q$6:$R$11,MATCH(AJ245,'OTRAS REFERENCIAS'!$R$6:$R$11,0),1))","v":""},null,null,null,{"$f":"IF(AN245=\"\",\"\",INDEX('OTRAS REFERENCIAS'!$T$6:$U$11,MATCH(AN245,'OTRAS REFERENCIAS'!$U$6:$U$11,0),1))","v":""}]
[1,"",244,"","",{"$f":"IF(L246<>\"\",CONCATENATE(DIGITADOR!$B$2,$A$2,DIGITADOR!$M$1,A246),\"\")","v":""},null,null,"",{"$f":"IF(K246=\"\",\"\",INDEX('OTRAS REFERENCIAS'!$AL:$AM,MATCH(K246,'OTRAS REFERENCIAS'!$AL:$AL,0),2))","v":""},null,{"$f":"IF(J246=\"\",\"\",INDEX(referentes!$S:$W,MATCH(J246,referentes!$S:$S,0),1))","v":""},null,null,null,null,null,null,null,{"$f":"IF(U246=\"\",\"\",INDEX('OTRAS REFERENCIAS'!$H$6:$I$11,MATCH(U246,'OTRAS REFERENCIAS'!$I$6:$I$11,0),1))","v":""},null,null,null,null,{"$f":"IF(Z246=\"\",\"\",INDEX('OTRAS REFERENCIAS'!$K$6:$L$11,MATCH(Z246,'OTRAS REFERENCIAS'!$L$6:$L$11,0),1))","v":""},null,null,null,null,{"$f":"IF(AE246=\"\",\"\",INDEX('OTRAS REFERENCIAS'!$N$6:$O$11,MATCH(AE246,'OTRAS REFERENCIAS'!$O$6:$O$11,0),1))","v":""},null,null,null,null,{"$f":"IF(AJ246=\"\",\"\",INDEX('OTRAS REFERENCIAS'!$Q$6:$R$11,MATCH(AJ246,'OTRAS REFERENCIAS'!$R$6:$R$11,0),1))","v":""},null,null,null,{"$f":"IF(AN246=\"\",\"\",INDEX('OTRAS REFERENCIAS'!$T$6:$U$11,MATCH(AN246,'OTRAS REFERENCIAS'!$U$6:$U$11,0),1))","v":""}]
[1,"",245,"","",{"$f":"IF(L247<>\"\",CONCATENATE(DIGITADOR!$B$2,$A$2,DIGITADOR!$M$1,A247),\"\")","v":""},null,null,"",{"$f":"IF(K247=\"\",\"\",INDEX('OTRAS REFERENCIAS'!$AL:$AM,MATCH(K247,'OTRAS REFERENCIAS'!$AL:$AL,0),2))","v":""},null,{"$f":"IF(J247=\"\",\"\",INDEX(referentes!$S:$W,MATCH(J247,referentes!$S:$S,0),1))","v":""},null,null,null,null,null,null,null,{"$f":"IF(U247=\"\",\"\",INDEX('OTRAS REFERENCIAS'!$H$6:$I$11,MATCH(U247,'OTRAS REFERENCIAS'!$I$6:$I$11,0),1))","v":""},null,null,null,null,{"$f":"IF(Z247=\"\",\"\",INDEX('OTRAS REFERENCIAS'!$K$6:$L$11,MATCH(Z247,'OTRAS REFERENCIAS'!$L$6:$L$11,0),1))","v":""},null,null,null,null,{"$f":"IF(AE247=\"\",\"\",INDEX('OTRAS REFERENCIAS'!$N$6:$O$11,MATCH(AE247,'OTRAS REFERENCIAS'!$O$6:$O$11,0),1))","v":""},null,null,null,null,{"$f":"IF(AJ247=\"\",\"\",INDEX('OTRAS REFERENCIAS'!$Q$6:$R$11,MATCH(AJ247,'OTRAS REFERENCIAS'!$R$6:$R$11,0),1))","v":""},null,null,null,{"$f":"IF(AN247=\"\",\"\",INDEX('OTRAS REFERENCIAS'!$T$6:$U$11,MATCH(AN247,'OTRAS REFERENCIAS'!$U$6:$U$11,0),1))","v":""}]
[1,"",246,"","",{"$f":"IF(L248<>\"\",CONCATENATE(DIGITADOR!$B$2,$A$2,DIGITADOR!$M$1,A248),\"\")","v":""},null,null,"",{"$f":"IF(K248=\"\",\"\",INDEX('OTRAS REFERENCIAS'!$AL:$AM,MATCH(K248,'OTRAS REFERENCIAS'!$AL:$AL,0),2))","v":""},null,{"$f":"IF(J248=\"\",\"\",INDEX(referentes!$S:$W,MATCH(J248,referentes!$S:$S,0),1))","v":""},null,null,null,null,null,null,null,{"$f":"IF(U248=\"\",\"\",INDEX('OTRAS REFERENCIAS'!$H$6:$I$11,MATCH(U248,'OTRAS REFERENCIAS'!$I$6:$I$11,0),1))","v":""},null,null,null,null,{"$f":"IF(Z248=\"\",\"\",INDEX('OTRAS REFERENCIAS'!$K$6:$L$11,MATCH(Z248,'OTRAS REFERENCIAS'!$L$6:$L$11,0),1))","v":""},null,null,null,null,{"$f":"IF(AE248=\"\",\"\",INDEX('OTRAS REFERENCIAS'!$N$6:$O$11,MATCH(AE248,'OTRAS REFERENCIAS'!$O$6:$O$11,0),1))","v":""},null,null,null,null,{"$f":"IF(AJ248=\"\",\"\",INDEX('OTRAS REFERENCIAS'!$Q$6:$R$11,MATCH(AJ248,'OTRAS REFERENCIAS'!$R$6:$R$11,0),1))","v":""},null,null,null,{"$f":"IF(AN248=\"\",\"\",INDEX('OTRAS REFERENCIAS'!$T$6:$U$11,MATCH(AN248,'OTRAS REFERENCIAS'!$U$6:$U$11,0),1))","v":""}]
[1,"",247,"","",{"$f":"IF(L249<>\"\",CONCATENATE(DIGITADOR!$B$2,$A$2,DIGITADOR!$M$1,A249),\"\")","v":""},null,null,"",{"$f":"IF(K249=\"\",\"\",INDEX('OTRAS REFERENCIAS'!$AL:$AM,MATCH(K249,'OTRAS REFERENCIAS'!$AL:$AL,0),2))","v":""},null,{"$f":"IF(J249=\"\",\"\",INDEX(referentes!$S:$W,MATCH(J249,referentes!$S:$S,0),1))","v":""},null,null,null,null,null,null,null,{"$f":"IF(U249=\"\",\"\",INDEX('OTRAS REFERENCIAS'!$H$6:$I$11,MATCH(U249,'OTRAS REFERENCIAS'!$I$6:$I$11,0),1))","v":""},null,null,null,null,{"$f":"IF(Z249=\"\",\"\",INDEX('OTRAS REFERENCIAS'!$K$6:$L$11,MATCH(Z249,'OTRAS REFERENCIAS'!$L$6:$L$11,0),1))","v":""},null,null,null,null,{"$f":"IF(AE249=\"\",\"\",INDEX('OTRAS REFERENCIAS'!$N$6:$O$11,MATCH(AE249,'OTRAS REFERENCIAS'!$O$6:$O$11,0),1))","v":""},null,null,null,null,{"$f":"IF(AJ249=\"\",\"\",INDEX('OTRAS REFERENCIAS'!$Q$6:$R$11,MATCH(AJ249,'OTRAS REFERENCIAS'!$R$6:$R$11,0),1))","v":""},null,null,null,{"$f":"IF(AN249=\"\",\"\",INDEX('OTRAS REFERENCIAS'!$T$6:$U$11,MATCH(AN249,'OTRAS REFERENCIAS'!$U$6:$U$11,0),1))","v":""}]
[1,"",248,"","",{"$f":"IF(L250<>\"\",CONCATENATE(DIGITADOR!$B$2,$A$2,DIGITADOR!$M$1,A250),\"\")","v":""},null,null,"",{"$f":"IF(K250=\"\",\"\",INDEX('OTRAS REFERENCIAS'!$AL:$AM,MATCH(K250,'OTRAS REFERENCIAS'!$AL:$AL,0),2))","v":""},null,{"$f":"IF(J250=\"\",\"\",INDEX(referentes!$S:$W,MATCH(J250,referentes!$S:$S,0),1))","v":""},null,null,null,null,null,null,null,{"$f":"IF(U250=\"\",\"\",INDEX('OTRAS REFERENCIAS'!$H$6:$I$11,MATCH(U250,'OTRAS REFERENCIAS'!$I$6:$I$11,0),1))","v":""},null,null,null,null,{"$f":"IF(Z250=\"\",\"\",INDEX('OTRAS REFERENCIAS'!$K$6:$L$11,MATCH(Z250,'OTRAS REFERENCIAS'!$L$6:$L$11,0),1))","v":""},null,null,null,null,{"$f":"IF(AE250=\"\",\"\",INDEX('OTRAS REFERENCIAS'!$N$6:$O$11,MATCH(AE250,'OTRAS REFERENCIAS'!$O$6:$O$11,0),1))","v":""},null,null,null,null,{"$f":"IF(AJ250=\"\",\"\",INDEX('OTRAS REFERENCIAS'!$Q$6:$R$11,MATCH(AJ250,'OTRAS REFERENCIAS'!$R$6:$R$11,0),1))","v":""},null,null,null,{"$f":"IF(AN250=\"\",\"\",INDEX('OTRAS REFERENCIAS'!$T$6:$U$11,MATCH(AN250,'OTRAS REFERENCIAS'!$U$6:$U$11,0),1))","v":""}]
[1,"",249,"","",{"$f":"IF(L251<>\"\",CONCATENATE(DIGITADOR!$B$2,$A$2,DIGITADOR!$M$1,A251),\"\")","v":""},null,null,"",{"$f":"IF(K251=\"\",\"\",INDEX('OTRAS REFERENCIAS'!$AL:$AM,MATCH(K251,'OTRAS REFERENCIAS'!$AL:$AL,0),2))","v":""},null,{"$f":"IF(J251=\"\",\"\",INDEX(referentes!$S:$W,MATCH(J251,referentes!$S:$S,0),1))","v":""},null,null,null,null,null,null,null,{"$f":"IF(U251=\"\",\"\",INDEX('OTRAS REFERENCIAS'!$H$6:$I$11,MATCH(U251,'OTRAS REFERENCIAS'!$I$6:$I$11,0),1))","v":""},null,null,null,null,{"$f":"IF(Z251=\"\",\"\",INDEX('OTRAS REFERENCIAS'!$K$6:$L$11,MATCH(Z251,'OTRAS REFERENCIAS'!$L$6:$L$11,0),1))","v":""},null,null,null,null,{"$f":"IF(AE251=\"\",\"\",INDEX('OTRAS REFERENCIAS'!$N$6:$O$11,MATCH(AE251,'OTRAS REFERENCIAS'!$O$6:$O$11,0),1))","v":""},null,null,null,null,{"$f":"IF(AJ251=\"\",\"\",INDEX('OTRAS REFERENCIAS'!$Q$6:$R$11,MATCH(AJ251,'OTRAS REFERENCIAS'!$R$6:$R$11,0),1))","v":""},null,null,null,{"$f":"IF(AN251=\"\",\"\",INDEX('OTRAS REFERENCIAS'!$T$6:$U$11,MATCH(AN251,'OTRAS REFERENCIAS'!$U$6:$U$11,0),1))","v":""}]
[1,"",250,"","",{"$f":"IF(L252<>\"\",CONCATENATE(DIGITADOR!$B$2,$A$2,DIGITADOR!$M$1,A252),\"\")","v":""},null,null,"",{"$f":"IF(K252=\"\",\"\",INDEX('OTRAS REFERENCIAS'!$AL:$AM,MATCH(K252,'OTRAS REFERENCIAS'!$AL:$AL,0),2))","v":""},null,{"$f":"IF(J252=\"\",\"\",INDEX(referentes!$S:$W,MATCH(J252,referentes!$S:$S,0),1))","v":""},null,null,null,null,null,null,null,{"$f":"IF(U252=\"\",\"\",INDEX('OTRAS REFERENCIAS'!$H$6:$I$11,MATCH(U252,'OTRAS REFERENCIAS'!$I$6:$I$11,0),1))","v":""},null,null,null,null,{"$f":"IF(Z252=\"\",\"\",INDEX('OTRAS REFERENCIAS'!$K$6:$L$11,MATCH(Z252,'OTRAS REFERENCIAS'!$L$6:$L$11,0),1))","v":""},null,null,null,null,{"$f":"IF(AE252=\"\",\"\",INDEX('OTRAS REFERENCIAS'!$N$6:$O$11,MATCH(AE252,'OTRAS REFERENCIAS'!$O$6:$O$11,0),1))","v":""},null,null,null,null,{"$f":"IF(AJ252=\"\",\"\",INDEX('OTRAS REFERENCIAS'!$Q$6:$R$11,MATCH(AJ252,'OTRAS REFERENCIAS'!$R$6:$R$11,0),1))","v":""},null,null,null,{"$f":"IF(AN252=\"\",\"\",INDEX('OTRAS REFERENCIAS'!$T$6:$U$11,MATCH(AN252,'OTRAS REFERENCIAS'!$U$6:$U$11,0),1))","v":""}]
[1,"",251,"","",{"$f":"IF(L253<>\"\",CONCATENATE(DIGITADOR!$B$2,$A$2,DIGITADOR!$M$1,A253),\"\")","v":""},null,null,"",{"$f":"IF(K253=\"\",\"\",INDEX('OTRAS REFERENCIAS'!$AL:$AM,MATCH(K253,'OTRAS REFERENCIAS'!$AL:$AL,0),2))","v":""},null,{"$f":"IF(J253=\"\",\"\",INDEX(referentes!$S:$W,MATCH(J253,referentes!$S:$S,0),1))","v":""},null,null,null,null,null,null,null,{"$f":"IF(U253=\"\",\"\",INDEX('OTRAS REFERENCIAS'!$H$6:$I$11,MATCH(U253,'OTRAS REFERENCIAS'!$I$6:$I$11,0),1))","v":""},null,null,null,null,{"$f":"IF(Z253=\"\",\"\",INDEX('OTRAS REFERENCIAS'!$K$6:$L$11,MATCH(Z253,'OTRAS REFERENCIAS'!$L$6:$L$11,0),1))","v":""},null,null,null,null,{"$f":"IF(AE253=\"\",\"\",INDEX('OTRAS REFERENCIAS'!$N$6:$O$11,MATCH(AE253,'OTRAS REFERENCIAS'!$O$6:$O$11,0),1))","v":""},null,null,null,null,{"$f":"IF(AJ253=\"\",\"\",INDEX('OTRAS REFERENCIAS'!$Q$6:$R$11,MATCH(AJ253,'OTRAS REFERENCIAS'!$R$6:$R$11,0),1))","v":""},null,null,null,{"$f":"IF(AN253=\"\",\"\",INDEX('OTRAS REFERENCIAS'!$T$6:$U$11,MATCH(AN253,'OTRAS REFERENCIAS'!$U$6:$U$11,0),1))","v":""}]
[1,"",252,"","",{"$f":"IF(L254<>\"\",CONCATENATE(DIGITADOR!$B$2,$A$2,DIGITADOR!$M$1,A254),\"\")","v":""},null,null,"",{"$f":"IF(K254=\"\",\"\",INDEX('OTRAS REFERENCIAS'!$AL:$AM,MATCH(K254,'OTRAS REFERENCIAS'!$AL:$AL,0),2))","v":""},null,{"$f":"IF(J254=\"\",\"\",INDEX(referentes!$S:$W,MATCH(J254,referentes!$S:$S,0),1))","v":""},null,null,null,null,null,null,null,{"$f":"IF(U254=\"\",\"\",INDEX('OTRAS REFERENCIAS'!$H$6:$I$11,MATCH(U254,'OTRAS REFERENCIAS'!$I$6:$I$11,0),1))","v":""},null,null,null,null,{"$f":"IF(Z254=\"\",\"\",INDEX('OTRAS REFERENCIAS'!$K$6:$L$11,MATCH(Z254,'OTRAS REFERENCIAS'!$L$6:$L$11,0),1))","v":""},null,null,null,null,{"$f":"IF(AE254=\"\",\"\",INDEX('OTRAS REFERENCIAS'!$N$6:$O$11,MATCH(AE254,'OTRAS REFERENCIAS'!$O$6:$O$11,0),1))","v":""},null,null,null,null,{"$f":"IF(AJ254=\"\",\"\",INDEX('OTRAS REFERENCIAS'!$Q$6:$R$11,MATCH(AJ254,'OTRAS REFERENCIAS'!$R$6:$R$11,0),1))","v":""},null,null,null,{"$f":"IF(AN254=\"\",\"\",INDEX('OTRAS REFERENCIAS'!$T$6:$U$11,MATCH(AN254,'OTRAS REFERENCIAS'!$U$6:$U$11,0),1))","v":""}]
[1,"",253,"","",{"$f":"IF(L255<>\"\",CONCATENATE(DIGITADOR!$B$2,$A$2,DIGITADOR!$M$1,A255),\"\")","v":""},null,null,"",{"$f":"IF(K255=\"\",\"\",INDEX('OTRAS REFERENCIAS'!$AL:$AM,MATCH(K255,'OTRAS REFERENCIAS'!$AL:$AL,0),2))","v":""},null,{"$f":"IF(J255=\"\",\"\",INDEX(referentes!$S:$W,MATCH(J255,referentes!$S:$S,0),1))","v":""},null,null,null,null,null,null,null,{"$f":"IF(U255=\"\",\"\",INDEX('OTRAS REFERENCIAS'!$H$6:$I$11,MATCH(U255,'OTRAS REFERENCIAS'!$I$6:$I$11,0),1))","v":""},null,null,null,null,{"$f":"IF(Z255=\"\",\"\",INDEX('OTRAS REFERENCIAS'!$K$6:$L$11,MATCH(Z255,'OTRAS REFERENCIAS'!$L$6:$L$11,0),1))","v":""},null,null,null,null,{"$f":"IF(AE255=\"\",\"\",INDEX('OTRAS REFERENCIAS'!$N$6:$O$11,MATCH(AE255,'OTRAS REFERENCIAS'!$O$6:$O$11,0),1))","v":""},null,null,null,null,{"$f":"IF(AJ255=\"\",\"\",INDEX('OTRAS REFERENCIAS'!$Q$6:$R$11,MATCH(AJ255,'OTRAS REFERENCIAS'!$R$6:$R$11,0),1))","v":""},null,null,null,{"$f":"IF(AN255=\"\",\"\",INDEX('OTRAS REFERENCIAS'!$T$6:$U$11,MATCH(AN255,'OTRAS REFERENCIAS'!$U$6:$U$11,0),1))","v":""}]
[1,"",254,"","",{"$f":"IF(L256<>\"\",CONCATENATE(DIGITADOR!$B$2,$A$2,DIGITADOR!$M$1,A256),\"\")","v":""},null,null,"",{"$f":"IF(K256=\"\",\"\",INDEX('OTRAS REFERENCIAS'!$AL:$AM,MATCH(K256,'OTRAS REFERENCIAS'!$AL:$AL,0),2))","v":""},null,{"$f":"IF(J256=\"\",\"\",INDEX(referentes!$S:$W,MATCH(J256,referentes!$S:$S,0),1))","v":""},null,null,null,null,null,null,null,{"$f":"IF(U256=\"\",\"\",INDEX('OTRAS REFERENCIAS'!$H$6:$I$11,MATCH(U256,'OTRAS REFERENCIAS'!$I$6:$I$11,0),1))","v":""},null,null,null,null,{"$f":"IF(Z256=\"\",\"\",INDEX('OTRAS REFERENCIAS'!$K$6:$L$11,MATCH(Z256,'OTRAS REFERENCIAS'!$L$6:$L$11,0),1))","v":""},null,null,null,null,{"$f":"IF(AE256=\"\",\"\",INDEX('OTRAS REFERENCIAS'!$N$6:$O$11,MATCH(AE256,'OTRAS REFERENCIAS'!$O$6:$O$11,0),1))","v":""},null,null,null,null,{"$f":"IF(AJ256=\"\",\"\",INDEX('OTRAS REFERENCIAS'!$Q$6:$R$11,MATCH(AJ256,'OTRAS REFERENCIAS'!$R$6:$R$11,0),1))","v":""},null,null,null,{"$f":"IF(AN256=\"\",\"\",INDEX('OTRAS REFERENCIAS'!$T$6:$U$11,MATCH(AN256,'OTRAS REFERENCIAS'!$U$6:$U$11,0),1))","v":""}]
[1,"",255,"","",{"$f":"IF(L257<>\"\",CONCATENATE(DIGITADOR!$B$2,$A$2,DIGITADOR!$M$1,A257),\"\")","v":""},null,null,"",{"$f":"IF(K257=\"\",\"\",INDEX('OTRAS REFERENCIAS'!$AL:$AM,MATCH(K257,'OTRAS REFERENCIAS'!$AL:$AL,0),2))","v":""},null,{"$f":"IF(J257=\"\",\"\",INDEX(referentes!$S:$W,MATCH(J257,referentes!$S:$S,0),1))","v":""},null,null,null,null,null,null,null,{"$f":"IF(U257=\"\",\"\",INDEX('OTRAS REFERENCIAS'!$H$6:$I$11,MATCH(U257,'OTRAS REFERENCIAS'!$I$6:$I$11,0),1))","v":""},null,null,null,null,{"$f":"IF(Z257=\"\",\"\",INDEX('OTRAS REFERENCIAS'!$K$6:$L$11,MATCH(Z257,'OTRAS REFERENCIAS'!$L$6:$L$11,0),1))","v":""},null,null,null,null,{"$f":"IF(AE257=\"\",\"\",INDEX('OTRAS REFERENCIAS'!$N$6:$O$11,MATCH(AE257,'OTRAS REFERENCIAS'!$O$6:$O$11,0),1))","v":""},null,null,null,null,{"$f":"IF(AJ257=\"\",\"\",INDEX('OTRAS REFERENCIAS'!$Q$6:$R$11,MATCH(AJ257,'OTRAS REFERENCIAS'!$R$6:$R$11,0),1))","v":""},null,null,null,{"$f":"IF(AN257=\"\",\"\",INDEX('OTRAS REFERENCIAS'!$T$6:$U$11,MATCH(AN257,'OTRAS REFERENCIAS'!$U$6:$U$11,0),1))","v":""}]
[1,"",256,"","",{"$f":"IF(L258<>\"\",CONCATENATE(DIGITADOR!$B$2,$A$2,DIGITADOR!$M$1,A258),\"\")","v":""},null,null,"",{"$f":"IF(K258=\"\",\"\",INDEX('OTRAS REFERENCIAS'!$AL:$AM,MATCH(K258,'OTRAS REFERENCIAS'!$AL:$AL,0),2))","v":""},null,{"$f":"IF(J258=\"\",\"\",INDEX(referentes!$S:$W,MATCH(J258,referentes!$S:$S,0),1))","v":""},null,null,null,null,null,null,null,{"$f":"IF(U258=\"\",\"\",INDEX('OTRAS REFERENCIAS'!$H$6:$I$11,MATCH(U258,'OTRAS REFERENCIAS'!$I$6:$I$11,0),1))","v":""},null,null,null,null,{"$f":"IF(Z258=\"\",\"\",INDEX('OTRAS REFERENCIAS'!$K$6:$L$11,MATCH(Z258,'OTRAS REFERENCIAS'!$L$6:$L$11,0),1))","v":""},null,null,null,null,{"$f":"IF(AE258=\"\",\"\",INDEX('OTRAS REFERENCIAS'!$N$6:$O$11,MATCH(AE258,'OTRAS REFERENCIAS'!$O$6:$O$11,0),1))","v":""},null,null,null,null,{"$f":"IF(AJ258=\"\",\"\",INDEX('OTRAS REFERENCIAS'!$Q$6:$R$11,MATCH(AJ258,'OTRAS REFERENCIAS'!$R$6:$R$11,0),1))","v":""},null,null,null,{"$f":"IF(AN258=\"\",\"\",INDEX('OTRAS REFERENCIAS'!$T$6:$U$11,MATCH(AN258,'OTRAS REFERENCIAS'!$U$6:$U$11,0),1))","v":""}]
[1,"",257,"",{"$f":"CONCATENATE(I259,L259)","v":""},{"$f":"IF(L259<>\"\",CONCATENATE(DIGITADOR!$B$2,$A$2,DIGITADOR!$M$1,A259),\"\")","v":""},null,null,{"$f":"IF(G259<>\"\",G259+H259,\"\")","v":""},{"$f":"IF(K259=\"\",\"\",INDEX('OTRAS REFERENCIAS'!$AL:$AM,MATCH(K259,'OTRAS REFERENCIAS'!$AL:$AL,0),2))","v":""},null,{"$f":"IF(J259=\"\",\"\",INDEX(referentes!$S:$W,MATCH(J259,referentes!$S:$S,0),1))","v":""},null,null,null,null,null,null,null,{"$f":"IF(U259=\"\",\"\",INDEX('OTRAS REFERENCIAS'!$H$6:$I$11,MATCH(U259,'OTRAS REFERENCIAS'!$I$6:$I$11,0),1))","v":""},null,null,null,null,{"$f":"IF(Z259=\"\",\"\",INDEX('OTRAS REFERENCIAS'!$K$6:$L$11,MATCH(Z259,'OTRAS REFERENCIAS'!$L$6:$L$11,0),1))","v":""},null,null,null,null,{"$f":"IF(AE259=\"\",\"\",INDEX('OTRAS REFERENCIAS'!$N$6:$O$11,MATCH(AE259,'OTRAS REFERENCIAS'!$O$6:$O$11,0),1))","v":""},null,null,null,null,{"$f":"IF(AJ259=\"\",\"\",INDEX('OTRAS REFERENCIAS'!$Q$6:$R$11,MATCH(AJ259,'OTRAS REFERENCIAS'!$R$6:$R$11,0),1))","v":""},null,null,null,{"$f":"IF(AN259=\"\",\"\",INDEX('OTRAS REFERENCIAS'!$T$6:$U$11,MATCH(AN259,'OTRAS REFERENCIAS'!$U$6:$U$11,0),1))","v":""}]
[1,"",258,{"$f":"IF(L260=\"\",\"\",CONCATENATE(C260,F260))","v":""},"",{"$f":"IF(L260<>\"\",CONCATENATE(DIGITADOR!$B$2,$A$2,DIGITADOR!$M$1,A260),\"\")","v":""},null,null,"",{"$f":"IF(K260=\"\",\"\",INDEX('OTRAS REFERENCIAS'!$AL:$AM,MATCH(K260,'OTRAS REFERENCIAS'!$AL:$AL,0),2))","v":""},null,{"$f":"IF(J260=\"\",\"\",INDEX(referentes!$S:$W,MATCH(J260,referentes!$S:$S,0),1))","v":""},null,null,null,null,null,null,null,{"$f":"IF(U260=\"\",\"\",INDEX('OTRAS REFERENCIAS'!$H$6:$I$11,MATCH(U260,'OTRAS REFERENCIAS'!$I$6:$I$11,0),1))","v":""},null,null,null,null,{"$f":"IF(Z260=\"\",\"\",INDEX('OTRAS REFERENCIAS'!$K$6:$L$11,MATCH(Z260,'OTRAS REFERENCIAS'!$L$6:$L$11,0),1))","v":""},null,null,null,null,{"$f":"IF(AE260=\"\",\"\",INDEX('OTRAS REFERENCIAS'!$N$6:$O$11,MATCH(AE260,'OTRAS REFERENCIAS'!$O$6:$O$11,0),1))","v":""},null,null,null,null,{"$f":"IF(AJ260=\"\",\"\",INDEX('OTRAS REFERENCIAS'!$Q$6:$R$11,MATCH(AJ260,'OTRAS REFERENCIAS'!$R$6:$R$11,0),1))","v":""},null,null,null,{"$f":"IF(AN260=\"\",\"\",INDEX('OTRAS REFERENCIAS'!$T$6:$U$11,MATCH(AN260,'OTRAS REFERENCIAS'!$U$6:$U$11,0),1))","v":""}]
[{"$f":"IF(L261=L260,A260,A260+1)","v":1},{"$f":"IF(F261<>F260, F261,\"\")","v":""},259,"","",{"$f":"IF(L261<>\"\",CONCATENATE(DIGITADOR!$B$2,$A$2,DIGITADOR!$M$1,A261),\"\")","v":""},null,null,"",{"$f":"IF(K261=\"\",\"\",INDEX('OTRAS REFERENCIAS'!$AL:$AM,MATCH(K261,'OTRAS REFERENCIAS'!$AL:$AL,0),2))","v":""},null,{"$f":"IF(J261=\"\",\"\",INDEX(referentes!$S:$W,MATCH(J261,referentes!$S:$S,0),1))","v":""},null,null,null,null,null,null,null,{"$f":"IF(U261=\"\",\"\",INDEX('OTRAS REFERENCIAS'!$H$6:$I$11,MATCH(U261,'OTRAS REFERENCIAS'!$I$6:$I$11,0),1))","v":""},null,null,null,null,{"$f":"IF(Z261=\"\",\"\",INDEX('OTRAS REFERENCIAS'!$K$6:$L$11,MATCH(Z261,'OTRAS REFERENCIAS'!$L$6:$L$11,0),1))","v":""},null,null,null,null,{"$f":"IF(AE261=\"\",\"\",INDEX('OTRAS REFERENCIAS'!$N$6:$O$11,MATCH(AE261,'OTRAS REFERENCIAS'!$O$6:$O$11,0),1))","v":""},null,null,null,null,{"$f":"IF(AJ261=\"\",\"\",INDEX('OTRAS REFERENCIAS'!$Q$6:$R$11,MATCH(AJ261,'OTRAS REFERENCIAS'!$R$6:$R$11,0),1))","v":""},null,null,null,{"$f":"IF(AN261=\"\",\"\",INDEX('OTRAS REFERENCIAS'!$T$6:$U$11,MATCH(AN261,'OTRAS REFERENCIAS'!$U$6:$U$11,0),1))","v":""}]
[1,"",260,"","",{"$f":"IF(L262<>\"\",CONCATENATE(DIGITADOR!$B$2,$A$2,DIGITADOR!$M$1,A262),\"\")","v":""},null,null,"",{"$f":"IF(K262=\"\",\"\",INDEX('OTRAS REFERENCIAS'!$AL:$AM,MATCH(K262,'OTRAS REFERENCIAS'!$AL:$AL,0),2))","v":""},null,{"$f":"IF(J262=\"\",\"\",INDEX(referentes!$S:$W,MATCH(J262,referentes!$S:$S,0),1))","v":""},null,null,null,null,null,null,null,{"$f":"IF(U262=\"\",\"\",INDEX('OTRAS REFERENCIAS'!$H$6:$I$11,MATCH(U262,'OTRAS REFERENCIAS'!$I$6:$I$11,0),1))","v":""},null,null,null,null,{"$f":"IF(Z262=\"\",\"\",INDEX('OTRAS REFERENCIAS'!$K$6:$L$11,MATCH(Z262,'OTRAS REFERENCIAS'!$L$6:$L$11,0),1))","v":""},null,null,null,null,{"$f":"IF(AE262=\"\",\"\",INDEX('OTRAS REFERENCIAS'!$N$6:$O$11,MATCH(AE262,'OTRAS REFERENCIAS'!$O$6:$O$11,0),1))","v":""},null,null,null,null,{"$f":"IF(AJ262=\"\",\"\",INDEX('OTRAS REFERENCIAS'!$Q$6:$R$11,MATCH(AJ262,'OTRAS REFERENCIAS'!$R$6:$R$11,0),1))","v":""},null,null,null,{"$f":"IF(AN262=\"\",\"\",INDEX('OTRAS REFERENCIAS'!$T$6:$U$11,MATCH(AN262,'OTRAS REFERENCIAS'!$U$6:$U$11,0),1))","v":""}]
[1,"",261,"","",{"$f":"IF(L263<>\"\",CONCATENATE(DIGITADOR!$B$2,$A$2,DIGITADOR!$M$1,A263),\"\")","v":""},null,null,"",{"$f":"IF(K263=\"\",\"\",INDEX('OTRAS REFERENCIAS'!$AL:$AM,MATCH(K263,'OTRAS REFERENCIAS'!$AL:$AL,0),2))","v":""},null,{"$f":"IF(J263=\"\",\"\",INDEX(referentes!$S:$W,MATCH(J263,referentes!$S:$S,0),1))","v":""},null,null,null,null,null,null,null,{"$f":"IF(U263=\"\",\"\",INDEX('OTRAS REFERENCIAS'!$H$6:$I$11,MATCH(U263,'OTRAS REFERENCIAS'!$I$6:$I$11,0),1))","v":""},null,null,null,null,{"$f":"IF(Z263=\"\",\"\",INDEX('OTRAS REFERENCIAS'!$K$6:$L$11,MATCH(Z263,'OTRAS REFERENCIAS'!$L$6:$L$11,0),1))","v":""},null,null,null,null,{"$f":"IF(AE263=\"\",\"\",INDEX('OTRAS REFERENCIAS'!$N$6:$O$11,MATCH(AE263,'OTRAS REFERENCIAS'!$O$6:$O$11,0),1))","v":""},null,null,null,null,{"$f":"IF(AJ263=\"\",\"\",INDEX('OTRAS REFERENCIAS'!$Q$6:$R$11,MATCH(AJ263,'OTRAS REFERENCIAS'!$R$6:$R$11,0),1))","v":""},null,null,null,{"$f":"IF(AN263=\"\",\"\",INDEX('OTRAS REFERENCIAS'!$T$6:$U$11,MATCH(AN263,'OTRAS REFERENCIAS'!$U$6:$U$11,0),1))","v":""}]
[1,"",262,"","",{"$f":"IF(L264<>\"\",CONCATENATE(DIGITADOR!$B$2,$A$2,DIGITADOR!$M$1,A264),\"\")","v":""},null,null,"",{"$f":"IF(K264=\"\",\"\",INDEX('OTRAS REFERENCIAS'!$AL:$AM,MATCH(K264,'OTRAS REFERENCIAS'!$AL:$AL,0),2))","v":""},null,{"$f":"IF(J264=\"\",\"\",INDEX(referentes!$S:$W,MATCH(J264,referentes!$S:$S,0),1))","v":""},null,null,null,null,null,null,null,{"$f":"IF(U264=\"\",\"\",INDEX('OTRAS REFERENCIAS'!$H$6:$I$11,MATCH(U264,'OTRAS REFERENCIAS'!$I$6:$I$11,0),1))","v":""},null,null,null,null,{"$f":"IF(Z264=\"\",\"\",INDEX('OTRAS REFERENCIAS'!$K$6:$L$11,MATCH(Z264,'OTRAS REFERENCIAS'!$L$6:$L$11,0),1))","v":""},null,null,null,null,{"$f":"IF(AE264=\"\",\"\",INDEX('OTRAS REFERENCIAS'!$N$6:$O$11,MATCH(AE264,'OTRAS REFERENCIAS'!$O$6:$O$11,0),1))","v":""},null,null,null,null,{"$f":"IF(AJ264=\"\",\"\",INDEX('OTRAS REFERENCIAS'!$Q$6:$R$11,MATCH(AJ264,'OTRAS REFERENCIAS'!$R$6:$R$11,0),1))","v":""},null,null,null,{"$f":"IF(AN264=\"\",\"\",INDEX('OTRAS REFERENCIAS'!$T$6:$U$11,MATCH(AN264,'OTRAS REFERENCIAS'!$U$6:$U$11,0),1))","v":""}]
[1,"",263,"","",{"$f":"IF(L265<>\"\",CONCATENATE(DIGITADOR!$B$2,$A$2,DIGITADOR!$M$1,A265),\"\")","v":""},null,null,"",{"$f":"IF(K265=\"\",\"\",INDEX('OTRAS REFERENCIAS'!$AL:$AM,MATCH(K265,'OTRAS REFERENCIAS'!$AL:$AL,0),2))","v":""},null,{"$f":"IF(J265=\"\",\"\",INDEX(referentes!$S:$W,MATCH(J265,referentes!$S:$S,0),1))","v":""},null,null,null,null,null,null,null,{"$f":"IF(U265=\"\",\"\",INDEX('OTRAS REFERENCIAS'!$H$6:$I$11,MATCH(U265,'OTRAS REFERENCIAS'!$I$6:$I$11,0),1))","v":""},null,null,null,null,{"$f":"IF(Z265=\"\",\"\",INDEX('OTRAS REFERENCIAS'!$K$6:$L$11,MATCH(Z265,'OTRAS REFERENCIAS'!$L$6:$L$11,0),1))","v":""},null,null,null,null,{"$f":"IF(AE265=\"\",\"\",INDEX('OTRAS REFERENCIAS'!$N$6:$O$11,MATCH(AE265,'OTRAS REFERENCIAS'!$O$6:$O$11,0),1))","v":""},null,null,null,null,{"$f":"IF(AJ265=\"\",\"\",INDEX('OTRAS REFERENCIAS'!$Q$6:$R$11,MATCH(AJ265,'OTRAS REFERENCIAS'!$R$6:$R$11,0),1))","v":""},null,null,null,{"$f":"IF(AN265=\"\",\"\",INDEX('OTRAS REFERENCIAS'!$T$6:$U$11,MATCH(AN265,'OTRAS REFERENCIAS'!$U$6:$U$11,0),1))","v":""}]
[1,"",264,"","",{"$f":"IF(L266<>\"\",CONCATENATE(DIGITADOR!$B$2,$A$2,DIGITADOR!$M$1,A266),\"\")","v":""},null,null,"",{"$f":"IF(K266=\"\",\"\",INDEX('OTRAS REFERENCIAS'!$AL:$AM,MATCH(K266,'OTRAS REFERENCIAS'!$AL:$AL,0),2))","v":""},null,{"$f":"IF(J266=\"\",\"\",INDEX(referentes!$S:$W,MATCH(J266,referentes!$S:$S,0),1))","v":""},null,null,null,null,null,null,null,{"$f":"IF(U266=\"\",\"\",INDEX('OTRAS REFERENCIAS'!$H$6:$I$11,MATCH(U266,'OTRAS REFERENCIAS'!$I$6:$I$11,0),1))","v":""},null,null,null,null,{"$f":"IF(Z266=\"\",\"\",INDEX('OTRAS REFERENCIAS'!$K$6:$L$11,MATCH(Z266,'OTRAS REFERENCIAS'!$L$6:$L$11,0),1))","v":""},null,null,null,null,{"$f":"IF(AE266=\"\",\"\",INDEX('OTRAS REFERENCIAS'!$N$6:$O$11,MATCH(AE266,'OTRAS REFERENCIAS'!$O$6:$O$11,0),1))","v":""},null,null,null,null,{"$f":"IF(AJ266=\"\",\"\",INDEX('OTRAS REFERENCIAS'!$Q$6:$R$11,MATCH(AJ266,'OTRAS REFERENCIAS'!$R$6:$R$11,0),1))","v":""},null,null,null,{"$f":"IF(AN266=\"\",\"\",INDEX('OTRAS REFERENCIAS'!$T$6:$U$11,MATCH(AN266,'OTRAS REFERENCIAS'!$U$6:$U$11,0),1))","v":""}]
[1,"",265,"","",{"$f":"IF(L267<>\"\",CONCATENATE(DIGITADOR!$B$2,$A$2,DIGITADOR!$M$1,A267),\"\")","v":""},null,null,"",{"$f":"IF(K267=\"\",\"\",INDEX('OTRAS REFERENCIAS'!$AL:$AM,MATCH(K267,'OTRAS REFERENCIAS'!$AL:$AL,0),2))","v":""},null,{"$f":"IF(J267=\"\",\"\",INDEX(referentes!$S:$W,MATCH(J267,referentes!$S:$S,0),1))","v":""},null,null,null,null,null,null,null,{"$f":"IF(U267=\"\",\"\",INDEX('OTRAS REFERENCIAS'!$H$6:$I$11,MATCH(U267,'OTRAS REFERENCIAS'!$I$6:$I$11,0),1))","v":""},null,null,null,null,{"$f":"IF(Z267=\"\",\"\",INDEX('OTRAS REFERENCIAS'!$K$6:$L$11,MATCH(Z267,'OTRAS REFERENCIAS'!$L$6:$L$11,0),1))","v":""},null,null,null,null,{"$f":"IF(AE267=\"\",\"\",INDEX('OTRAS REFERENCIAS'!$N$6:$O$11,MATCH(AE267,'OTRAS REFERENCIAS'!$O$6:$O$11,0),1))","v":""},null,null,null,null,{"$f":"IF(AJ267=\"\",\"\",INDEX('OTRAS REFERENCIAS'!$Q$6:$R$11,MATCH(AJ267,'OTRAS REFERENCIAS'!$R$6:$R$11,0),1))","v":""},null,null,null,{"$f":"IF(AN267=\"\",\"\",INDEX('OTRAS REFERENCIAS'!$T$6:$U$11,MATCH(AN267,'OTRAS REFERENCIAS'!$U$6:$U$11,0),1))","v":""}]
[1,"",266,"","",{"$f":"IF(L268<>\"\",CONCATENATE(DIGITADOR!$B$2,$A$2,DIGITADOR!$M$1,A268),\"\")","v":""},null,null,"",{"$f":"IF(K268=\"\",\"\",INDEX('OTRAS REFERENCIAS'!$AL:$AM,MATCH(K268,'OTRAS REFERENCIAS'!$AL:$AL,0),2))","v":""},null,{"$f":"IF(J268=\"\",\"\",INDEX(referentes!$S:$W,MATCH(J268,referentes!$S:$S,0),1))","v":""},null,null,null,null,null,null,null,{"$f":"IF(U268=\"\",\"\",INDEX('OTRAS REFERENCIAS'!$H$6:$I$11,MATCH(U268,'OTRAS REFERENCIAS'!$I$6:$I$11,0),1))","v":""},null,null,null,null,{"$f":"IF(Z268=\"\",\"\",INDEX('OTRAS REFERENCIAS'!$K$6:$L$11,MATCH(Z268,'OTRAS REFERENCIAS'!$L$6:$L$11,0),1))","v":""},null,null,null,null,{"$f":"IF(AE268=\"\",\"\",INDEX('OTRAS REFERENCIAS'!$N$6:$O$11,MATCH(AE268,'OTRAS REFERENCIAS'!$O$6:$O$11,0),1))","v":""},null,null,null,null,{"$f":"IF(AJ268=\"\",\"\",INDEX('OTRAS REFERENCIAS'!$Q$6:$R$11,MATCH(AJ268,'OTRAS REFERENCIAS'!$R$6:$R$11,0),1))","v":""},null,null,null,{"$f":"IF(AN268=\"\",\"\",INDEX('OTRAS REFERENCIAS'!$T$6:$U$11,MATCH(AN268,'OTRAS REFERENCIAS'!$U$6:$U$11,0),1))","v":""}]
[1,"",267,"","",{"$f":"IF(L269<>\"\",CONCATENATE(DIGITADOR!$B$2,$A$2,DIGITADOR!$M$1,A269),\"\")","v":""},null,null,"",{"$f":"IF(K269=\"\",\"\",INDEX('OTRAS REFERENCIAS'!$AL:$AM,MATCH(K269,'OTRAS REFERENCIAS'!$AL:$AL,0),2))","v":""},null,{"$f":"IF(J269=\"\",\"\",INDEX(referentes!$S:$W,MATCH(J269,referentes!$S:$S,0),1))","v":""},null,null,null,null,null,null,null,{"$f":"IF(U269=\"\",\"\",INDEX('OTRAS REFERENCIAS'!$H$6:$I$11,MATCH(U269,'OTRAS REFERENCIAS'!$I$6:$I$11,0),1))","v":""},null,null,null,null,{"$f":"IF(Z269=\"\",\"\",INDEX('OTRAS REFERENCIAS'!$K$6:$L$11,MATCH(Z269,'OTRAS REFERENCIAS'!$L$6:$L$11,0),1))","v":""},null,null,null,null,{"$f":"IF(AE269=\"\",\"\",INDEX('OTRAS REFERENCIAS'!$N$6:$O$11,MATCH(AE269,'OTRAS REFERENCIAS'!$O$6:$O$11,0),1))","v":""},null,null,null,null,{"$f":"IF(AJ269=\"\",\"\",INDEX('OTRAS REFERENCIAS'!$Q$6:$R$11,MATCH(AJ269,'OTRAS REFERENCIAS'!$R$6:$R$11,0),1))","v":""},null,null,null,{"$f":"IF(AN269=\"\",\"\",INDEX('OTRAS REFERENCIAS'!$T$6:$U$11,MATCH(AN269,'OTRAS REFERENCIAS'!$U$6:$U$11,0),1))","v":""}]
[1,"",268,"","",{"$f":"IF(L270<>\"\",CONCATENATE(DIGITADOR!$B$2,$A$2,DIGITADOR!$M$1,A270),\"\")","v":""},null,null,"",{"$f":"IF(K270=\"\",\"\",INDEX('OTRAS REFERENCIAS'!$AL:$AM,MATCH(K270,'OTRAS REFERENCIAS'!$AL:$AL,0),2))","v":""},null,{"$f":"IF(J270=\"\",\"\",INDEX(referentes!$S:$W,MATCH(J270,referentes!$S:$S,0),1))","v":""},null,null,null,null,null,null,null,{"$f":"IF(U270=\"\",\"\",INDEX('OTRAS REFERENCIAS'!$H$6:$I$11,MATCH(U270,'OTRAS REFERENCIAS'!$I$6:$I$11,0),1))","v":""},null,null,null,null,{"$f":"IF(Z270=\"\",\"\",INDEX('OTRAS REFERENCIAS'!$K$6:$L$11,MATCH(Z270,'OTRAS REFERENCIAS'!$L$6:$L$11,0),1))","v":""},null,null,null,null,{"$f":"IF(AE270=\"\",\"\",INDEX('OTRAS REFERENCIAS'!$N$6:$O$11,MATCH(AE270,'OTRAS REFERENCIAS'!$O$6:$O$11,0),1))","v":""},null,null,null,null,{"$f":"IF(AJ270=\"\",\"\",INDEX('OTRAS REFERENCIAS'!$Q$6:$R$11,MATCH(AJ270,'OTRAS REFERENCIAS'!$R$6:$R$11,0),1))","v":""},null,null,null,{"$f":"IF(AN270=\"\",\"\",INDEX('OTRAS REFERENCIAS'!$T$6:$U$11,MATCH(AN270,'OTRAS REFERENCIAS'!$U$6:$U$11,0),1))","v":""}]
[1,"",269,"","",{"$f":"IF(L271<>\"\",CONCATENATE(DIGITADOR!$B$2,$A$2,DIGITADOR!$M$1,A271),\"\")","v":""},null,null,"",{"$f":"IF(K271=\"\",\"\",INDEX('OTRAS REFERENCIAS'!$AL:$AM,MATCH(K271,'OTRAS REFERENCIAS'!$AL:$AL,0),2))","v":""},null,{"$f":"IF(J271=\"\",\"\",INDEX(referentes!$S:$W,MATCH(J271,referentes!$S:$S,0),1))","v":""},null,null,null,null,null,null,null,{"$f":"IF(U271=\"\",\"\",INDEX('OTRAS REFERENCIAS'!$H$6:$I$11,MATCH(U271,'OTRAS REFERENCIAS'!$I$6:$I$11,0),1))","v":""},null,null,null,null,{"$f":"IF(Z271=\"\",\"\",INDEX('OTRAS REFERENCIAS'!$K$6:$L$11,MATCH(Z271,'OTRAS REFERENCIAS'!$L$6:$L$11,0),1))","v":""},null,null,null,null,{"$f":"IF(AE271=\"\",\"\",INDEX('OTRAS REFERENCIAS'!$N$6:$O$11,MATCH(AE271,'OTRAS REFERENCIAS'!$O$6:$O$11,0),1))","v":""},null,null,null,null,{"$f":"IF(AJ271=\"\",\"\",INDEX('OTRAS REFERENCIAS'!$Q$6:$R$11,MATCH(AJ271,'OTRAS REFERENCIAS'!$R$6:$R$11,0),1))","v":""},null,null,null,{"$f":"IF(AN271=\"\",\"\",INDEX('OTRAS REFERENCIAS'!$T$6:$U$11,MATCH(AN271,'OTRAS REFERENCIAS'!$U$6:$U$11,0),1))","v":""}]
[1,"",270,"","",{"$f":"IF(L272<>\"\",CONCATENATE(DIGITADOR!$B$2,$A$2,DIGITADOR!$M$1,A272),\"\")","v":""},null,null,"",{"$f":"IF(K272=\"\",\"\",INDEX('OTRAS REFERENCIAS'!$AL:$AM,MATCH(K272,'OTRAS REFERENCIAS'!$AL:$AL,0),2))","v":""},null,{"$f":"IF(J272=\"\",\"\",INDEX(referentes!$S:$W,MATCH(J272,referentes!$S:$S,0),1))","v":""},null,null,null,null,null,null,null,{"$f":"IF(U272=\"\",\"\",INDEX('OTRAS REFERENCIAS'!$H$6:$I$11,MATCH(U272,'OTRAS REFERENCIAS'!$I$6:$I$11,0),1))","v":""},null,null,null,null,{"$f":"IF(Z272=\"\",\"\",INDEX('OTRAS REFERENCIAS'!$K$6:$L$11,MATCH(Z272,'OTRAS REFERENCIAS'!$L$6:$L$11,0),1))","v":""},null,null,null,null,{"$f":"IF(AE272=\"\",\"\",INDEX('OTRAS REFERENCIAS'!$N$6:$O$11,MATCH(AE272,'OTRAS REFERENCIAS'!$O$6:$O$11,0),1))","v":""},null,null,null,null,{"$f":"IF(AJ272=\"\",\"\",INDEX('OTRAS REFERENCIAS'!$Q$6:$R$11,MATCH(AJ272,'OTRAS REFERENCIAS'!$R$6:$R$11,0),1))","v":""},null,null,null,{"$f":"IF(AN272=\"\",\"\",INDEX('OTRAS REFERENCIAS'!$T$6:$U$11,MATCH(AN272,'OTRAS REFERENCIAS'!$U$6:$U$11,0),1))","v":""}]
[1,"",271,"","",{"$f":"IF(L273<>\"\",CONCATENATE(DIGITADOR!$B$2,$A$2,DIGITADOR!$M$1,A273),\"\")","v":""},null,null,"",{"$f":"IF(K273=\"\",\"\",INDEX('OTRAS REFERENCIAS'!$AL:$AM,MATCH(K273,'OTRAS REFERENCIAS'!$AL:$AL,0),2))","v":""},null,{"$f":"IF(J273=\"\",\"\",INDEX(referentes!$S:$W,MATCH(J273,referentes!$S:$S,0),1))","v":""},null,null,null,null,null,null,null,{"$f":"IF(U273=\"\",\"\",INDEX('OTRAS REFERENCIAS'!$H$6:$I$11,MATCH(U273,'OTRAS REFERENCIAS'!$I$6:$I$11,0),1))","v":""},null,null,null,null,{"$f":"IF(Z273=\"\",\"\",INDEX('OTRAS REFERENCIAS'!$K$6:$L$11,MATCH(Z273,'OTRAS REFERENCIAS'!$L$6:$L$11,0),1))","v":""},null,null,null,null,{"$f":"IF(AE273=\"\",\"\",INDEX('OTRAS REFERENCIAS'!$N$6:$O$11,MATCH(AE273,'OTRAS REFERENCIAS'!$O$6:$O$11,0),1))","v":""},null,null,null,null,{"$f":"IF(AJ273=\"\",\"\",INDEX('OTRAS REFERENCIAS'!$Q$6:$R$11,MATCH(AJ273,'OTRAS REFERENCIAS'!$R$6:$R$11,0),1))","v":""},null,null,null,{"$f":"IF(AN273=\"\",\"\",INDEX('OTRAS REFERENCIAS'!$T$6:$U$11,MATCH(AN273,'OTRAS REFERENCIAS'!$U$6:$U$11,0),1))","v":""}]
[1,"",272,"","",{"$f":"IF(L274<>\"\",CONCATENATE(DIGITADOR!$B$2,$A$2,DIGITADOR!$M$1,A274),\"\")","v":""},null,null,"",{"$f":"IF(K274=\"\",\"\",INDEX('OTRAS REFERENCIAS'!$AL:$AM,MATCH(K274,'OTRAS REFERENCIAS'!$AL:$AL,0),2))","v":""},null,{"$f":"IF(J274=\"\",\"\",INDEX(referentes!$S:$W,MATCH(J274,referentes!$S:$S,0),1))","v":""},null,null,null,null,null,null,null,{"$f":"IF(U274=\"\",\"\",INDEX('OTRAS REFERENCIAS'!$H$6:$I$11,MATCH(U274,'OTRAS REFERENCIAS'!$I$6:$I$11,0),1))","v":""},null,null,null,null,{"$f":"IF(Z274=\"\",\"\",INDEX('OTRAS REFERENCIAS'!$K$6:$L$11,MATCH(Z274,'OTRAS REFERENCIAS'!$L$6:$L$11,0),1))","v":""},null,null,null,null,{"$f":"IF(AE274=\"\",\"\",INDEX('OTRAS REFERENCIAS'!$N$6:$O$11,MATCH(AE274,'OTRAS REFERENCIAS'!$O$6:$O$11,0),1))","v":""},null,null,null,null,{"$f":"IF(AJ274=\"\",\"\",INDEX('OTRAS REFERENCIAS'!$Q$6:$R$11,MATCH(AJ274,'OTRAS REFERENCIAS'!$R$6:$R$11,0),1))","v":""},null,null,null,{"$f":"IF(AN274=\"\",\"\",INDEX('OTRAS REFERENCIAS'!$T$6:$U$11,MATCH(AN274,'OTRAS REFERENCIAS'!$U$6:$U$11,0),1))","v":""}]
[1,"",273,"","",{"$f":"IF(L275<>\"\",CONCATENATE(DIGITADOR!$B$2,$A$2,DIGITADOR!$M$1,A275),\"\")","v":""},null,null,"",{"$f":"IF(K275=\"\",\"\",INDEX('OTRAS REFERENCIAS'!$AL:$AM,MATCH(K275,'OTRAS REFERENCIAS'!$AL:$AL,0),2))","v":""},null,{"$f":"IF(J275=\"\",\"\",INDEX(referentes!$S:$W,MATCH(J275,referentes!$S:$S,0),1))","v":""},null,null,null,null,null,null,null,{"$f":"IF(U275=\"\",\"\",INDEX('OTRAS REFERENCIAS'!$H$6:$I$11,MATCH(U275,'OTRAS REFERENCIAS'!$I$6:$I$11,0),1))","v":""},null,null,null,null,{"$f":"IF(Z275=\"\",\"\",INDEX('OTRAS REFERENCIAS'!$K$6:$L$11,MATCH(Z275,'OTRAS REFERENCIAS'!$L$6:$L$11,0),1))","v":""},null,null,null,null,{"$f":"IF(AE275=\"\",\"\",INDEX('OTRAS REFERENCIAS'!$N$6:$O$11,MATCH(AE275,'OTRAS REFERENCIAS'!$O$6:$O$11,0),1))","v":""},null,null,null,null,{"$f":"IF(AJ275=\"\",\"\",INDEX('OTRAS REFERENCIAS'!$Q$6:$R$11,MATCH(AJ275,'OTRAS REFERENCIAS'!$R$6:$R$11,0),1))","v":""},null,null,null,{"$f":"IF(AN275=\"\",\"\",INDEX('OTRAS REFERENCIAS'!$T$6:$U$11,MATCH(AN275,'OTRAS REFERENCIAS'!$U$6:$U$11,0),1))","v":""}]
[1,"",274,"","",{"$f":"IF(L276<>\"\",CONCATENATE(DIGITADOR!$B$2,$A$2,DIGITADOR!$M$1,A276),\"\")","v":""},null,null,"",{"$f":"IF(K276=\"\",\"\",INDEX('OTRAS REFERENCIAS'!$AL:$AM,MATCH(K276,'OTRAS REFERENCIAS'!$AL:$AL,0),2))","v":""},null,{"$f":"IF(J276=\"\",\"\",INDEX(referentes!$S:$W,MATCH(J276,referentes!$S:$S,0),1))","v":""},null,null,null,null,null,null,null,{"$f":"IF(U276=\"\",\"\",INDEX('OTRAS REFERENCIAS'!$H$6:$I$11,MATCH(U276,'OTRAS REFERENCIAS'!$I$6:$I$11,0),1))","v":""},null,null,null,null,{"$f":"IF(Z276=\"\",\"\",INDEX('OTRAS REFERENCIAS'!$K$6:$L$11,MATCH(Z276,'OTRAS REFERENCIAS'!$L$6:$L$11,0),1))","v":""},null,null,null,null,{"$f":"IF(AE276=\"\",\"\",INDEX('OTRAS REFERENCIAS'!$N$6:$O$11,MATCH(AE276,'OTRAS REFERENCIAS'!$O$6:$O$11,0),1))","v":""},null,null,null,null,{"$f":"IF(AJ276=\"\",\"\",INDEX('OTRAS REFERENCIAS'!$Q$6:$R$11,MATCH(AJ276,'OTRAS REFERENCIAS'!$R$6:$R$11,0),1))","v":""},null,null,null,{"$f":"IF(AN276=\"\",\"\",INDEX('OTRAS REFERENCIAS'!$T$6:$U$11,MATCH(AN276,'OTRAS REFERENCIAS'!$U$6:$U$11,0),1))","v":""}]
[1,"",275,"","",{"$f":"IF(L277<>\"\",CONCATENATE(DIGITADOR!$B$2,$A$2,DIGITADOR!$M$1,A277),\"\")","v":""},null,null,"",{"$f":"IF(K277=\"\",\"\",INDEX('OTRAS REFERENCIAS'!$AL:$AM,MATCH(K277,'OTRAS REFERENCIAS'!$AL:$AL,0),2))","v":""},null,{"$f":"IF(J277=\"\",\"\",INDEX(referentes!$S:$W,MATCH(J277,referentes!$S:$S,0),1))","v":""},null,null,null,null,null,null,null,{"$f":"IF(U277=\"\",\"\",INDEX('OTRAS REFERENCIAS'!$H$6:$I$11,MATCH(U277,'OTRAS REFERENCIAS'!$I$6:$I$11,0),1))","v":""},null,null,null,null,{"$f":"IF(Z277=\"\",\"\",INDEX('OTRAS REFERENCIAS'!$K$6:$L$11,MATCH(Z277,'OTRAS REFERENCIAS'!$L$6:$L$11,0),1))","v":""},null,null,null,null,{"$f":"IF(AE277=\"\",\"\",INDEX('OTRAS REFERENCIAS'!$N$6:$O$11,MATCH(AE277,'OTRAS REFERENCIAS'!$O$6:$O$11,0),1))","v":""},null,null,null,null,{"$f":"IF(AJ277=\"\",\"\",INDEX('OTRAS REFERENCIAS'!$Q$6:$R$11,MATCH(AJ277,'OTRAS REFERENCIAS'!$R$6:$R$11,0),1))","v":""},null,null,null,{"$f":"IF(AN277=\"\",\"\",INDEX('OTRAS REFERENCIAS'!$T$6:$U$11,MATCH(AN277,'OTRAS REFERENCIAS'!$U$6:$U$11,0),1))","v":""}]
[1,"",276,"","",{"$f":"IF(L278<>\"\",CONCATENATE(DIGITADOR!$B$2,$A$2,DIGITADOR!$M$1,A278),\"\")","v":""},null,null,"",{"$f":"IF(K278=\"\",\"\",INDEX('OTRAS REFERENCIAS'!$AL:$AM,MATCH(K278,'OTRAS REFERENCIAS'!$AL:$AL,0),2))","v":""},null,{"$f":"IF(J278=\"\",\"\",INDEX(referentes!$S:$W,MATCH(J278,referentes!$S:$S,0),1))","v":""},null,null,null,null,null,null,null,{"$f":"IF(U278=\"\",\"\",INDEX('OTRAS REFERENCIAS'!$H$6:$I$11,MATCH(U278,'OTRAS REFERENCIAS'!$I$6:$I$11,0),1))","v":""},null,null,null,null,{"$f":"IF(Z278=\"\",\"\",INDEX('OTRAS REFERENCIAS'!$K$6:$L$11,MATCH(Z278,'OTRAS REFERENCIAS'!$L$6:$L$11,0),1))","v":""},null,null,null,null,{"$f":"IF(AE278=\"\",\"\",INDEX('OTRAS REFERENCIAS'!$N$6:$O$11,MATCH(AE278,'OTRAS REFERENCIAS'!$O$6:$O$11,0),1))","v":""},null,null,null,null,{"$f":"IF(AJ278=\"\",\"\",INDEX('OTRAS REFERENCIAS'!$Q$6:$R$11,MATCH(AJ278,'OTRAS REFERENCIAS'!$R$6:$R$11,0),1))","v":""},null,null,null,{"$f":"IF(AN278=\"\",\"\",INDEX('OTRAS REFERENCIAS'!$T$6:$U$11,MATCH(AN278,'OTRAS REFERENCIAS'!$U$6:$U$11,0),1))","v":""}]
[1,"",277,"","",{"$f":"IF(L279<>\"\",CONCATENATE(DIGITADOR!$B$2,$A$2,DIGITADOR!$M$1,A279),\"\")","v":""},null,null,"",{"$f":"IF(K279=\"\",\"\",INDEX('OTRAS REFERENCIAS'!$AL:$AM,MATCH(K279,'OTRAS REFERENCIAS'!$AL:$AL,0),2))","v":""},null,{"$f":"IF(J279=\"\",\"\",INDEX(referentes!$S:$W,MATCH(J279,referentes!$S:$S,0),1))","v":""},null,null,null,null,null,null,null,{"$f":"IF(U279=\"\",\"\",INDEX('OTRAS REFERENCIAS'!$H$6:$I$11,MATCH(U279,'OTRAS REFERENCIAS'!$I$6:$I$11,0),1))","v":""},null,null,null,null,{"$f":"IF(Z279=\"\",\"\",INDEX('OTRAS REFERENCIAS'!$K$6:$L$11,MATCH(Z279,'OTRAS REFERENCIAS'!$L$6:$L$11,0),1))","v":""},null,null,null,null,{"$f":"IF(AE279=\"\",\"\",INDEX('OTRAS REFERENCIAS'!$N$6:$O$11,MATCH(AE279,'OTRAS REFERENCIAS'!$O$6:$O$11,0),1))","v":""},null,null,null,null,{"$f":"IF(AJ279=\"\",\"\",INDEX('OTRAS REFERENCIAS'!$Q$6:$R$11,MATCH(AJ279,'OTRAS REFERENCIAS'!$R$6:$R$11,0),1))","v":""},null,null,null,{"$f":"IF(AN279=\"\",\"\",INDEX('OTRAS REFERENCIAS'!$T$6:$U$11,MATCH(AN279,'OTRAS REFERENCIAS'!$U$6:$U$11,0),1))","v":""}]
[1,"",278,"","",{"$f":"IF(L280<>\"\",CONCATENATE(DIGITADOR!$B$2,$A$2,DIGITADOR!$M$1,A280),\"\")","v":""},null,null,"",{"$f":"IF(K280=\"\",\"\",INDEX('OTRAS REFERENCIAS'!$AL:$AM,MATCH(K280,'OTRAS REFERENCIAS'!$AL:$AL,0),2))","v":""},null,{"$f":"IF(J280=\"\",\"\",INDEX(referentes!$S:$W,MATCH(J280,referentes!$S:$S,0),1))","v":""},null,null,null,null,null,null,null,{"$f":"IF(U280=\"\",\"\",INDEX('OTRAS REFERENCIAS'!$H$6:$I$11,MATCH(U280,'OTRAS REFERENCIAS'!$I$6:$I$11,0),1))","v":""},null,null,null,null,{"$f":"IF(Z280=\"\",\"\",INDEX('OTRAS REFERENCIAS'!$K$6:$L$11,MATCH(Z280,'OTRAS REFERENCIAS'!$L$6:$L$11,0),1))","v":""},null,null,null,null,{"$f":"IF(AE280=\"\",\"\",INDEX('OTRAS REFERENCIAS'!$N$6:$O$11,MATCH(AE280,'OTRAS REFERENCIAS'!$O$6:$O$11,0),1))","v":""},null,null,null,null,{"$f":"IF(AJ280=\"\",\"\",INDEX('OTRAS REFERENCIAS'!$Q$6:$R$11,MATCH(AJ280,'OTRAS REFERENCIAS'!$R$6:$R$11,0),1))","v":""},null,null,null,{"$f":"IF(AN280=\"\",\"\",INDEX('OTRAS REFERENCIAS'!$T$6:$U$11,MATCH(AN280,'OTRAS REFERENCIAS'!$U$6:$U$11,0),1))","v":""}]
[1,"",279,"","",{"$f":"IF(L281<>\"\",CONCATENATE(DIGITADOR!$B$2,$A$2,DIGITADOR!$M$1,A281),\"\")","v":""},null,null,"",{"$f":"IF(K281=\"\",\"\",INDEX('OTRAS REFERENCIAS'!$AL:$AM,MATCH(K281,'OTRAS REFERENCIAS'!$AL:$AL,0),2))","v":""},null,{"$f":"IF(J281=\"\",\"\",INDEX(referentes!$S:$W,MATCH(J281,referentes!$S:$S,0),1))","v":""},null,null,null,null,null,null,null,{"$f":"IF(U281=\"\",\"\",INDEX('OTRAS REFERENCIAS'!$H$6:$I$11,MATCH(U281,'OTRAS REFERENCIAS'!$I$6:$I$11,0),1))","v":""},null,null,null,null,{"$f":"IF(Z281=\"\",\"\",INDEX('OTRAS REFERENCIAS'!$K$6:$L$11,MATCH(Z281,'OTRAS REFERENCIAS'!$L$6:$L$11,0),1))","v":""},null,null,null,null,{"$f":"IF(AE281=\"\",\"\",INDEX('OTRAS REFERENCIAS'!$N$6:$O$11,MATCH(AE281,'OTRAS REFERENCIAS'!$O$6:$O$11,0),1))","v":""},null,null,null,null,{"$f":"IF(AJ281=\"\",\"\",INDEX('OTRAS REFERENCIAS'!$Q$6:$R$11,MATCH(AJ281,'OTRAS REFERENCIAS'!$R$6:$R$11,0),1))","v":""},null,null,null,{"$f":"IF(AN281=\"\",\"\",INDEX('OTRAS REFERENCIAS'!$T$6:$U$11,MATCH(AN281,'OTRAS REFERENCIAS'!$U$6:$U$11,0),1))","v":""}]
[1,"",280,"","",{"$f":"IF(L282<>\"\",CONCATENATE(DIGITADOR!$B$2,$A$2,DIGITADOR!$M$1,A282),\"\")","v":""},null,null,"",{"$f":"IF(K282=\"\",\"\",INDEX('OTRAS REFERENCIAS'!$AL:$AM,MATCH(K282,'OTRAS REFERENCIAS'!$AL:$AL,0),2))","v":""},null,{"$f":"IF(J282=\"\",\"\",INDEX(referentes!$S:$W,MATCH(J282,referentes!$S:$S,0),1))","v":""},null,null,null,null,null,null,null,{"$f":"IF(U282=\"\",\"\",INDEX('OTRAS REFERENCIAS'!$H$6:$I$11,MATCH(U282,'OTRAS REFERENCIAS'!$I$6:$I$11,0),1))","v":""},null,null,null,null,{"$f":"IF(Z282=\"\",\"\",INDEX('OTRAS REFERENCIAS'!$K$6:$L$11,MATCH(Z282,'OTRAS REFERENCIAS'!$L$6:$L$11,0),1))","v":""},null,null,null,null,{"$f":"IF(AE282=\"\",\"\",INDEX('OTRAS REFERENCIAS'!$N$6:$O$11,MATCH(AE282,'OTRAS REFERENCIAS'!$O$6:$O$11,0),1))","v":""},null,null,null,null,{"$f":"IF(AJ282=\"\",\"\",INDEX('OTRAS REFERENCIAS'!$Q$6:$R$11,MATCH(AJ282,'OTRAS REFERENCIAS'!$R$6:$R$11,0),1))","v":""},null,null,null,{"$f":"IF(AN282=\"\",\"\",INDEX('OTRAS REFERENCIAS'!$T$6:$U$11,MATCH(AN282,'OTRAS REFERENCIAS'!$U$6:$U$11,0),1))","v":""}]
[1,"",281,"","",{"$f":"IF(L283<>\"\",CONCATENATE(DIGITADOR!$B$2,$A$2,DIGITADOR!$M$1,A283),\"\")","v":""},null,null,"",{"$f":"IF(K283=\"\",\"\",INDEX('OTRAS REFERENCIAS'!$AL:$AM,MATCH(K283,'OTRAS REFERENCIAS'!$AL:$AL,0),2))","v":""},null,{"$f":"IF(J283=\"\",\"\",INDEX(referentes!$S:$W,MATCH(J283,referentes!$S:$S,0),1))","v":""},null,null,null,null,null,null,null,{"$f":"IF(U283=\"\",\"\",INDEX('OTRAS REFERENCIAS'!$H$6:$I$11,MATCH(U283,'OTRAS REFERENCIAS'!$I$6:$I$11,0),1))","v":""},null,null,null,null,{"$f":"IF(Z283=\"\",\"\",INDEX('OTRAS REFERENCIAS'!$K$6:$L$11,MATCH(Z283,'OTRAS REFERENCIAS'!$L$6:$L$11,0),1))","v":""},null,null,null,null,{"$f":"IF(AE283=\"\",\"\",INDEX('OTRAS REFERENCIAS'!$N$6:$O$11,MATCH(AE283,'OTRAS REFERENCIAS'!$O$6:$O$11,0),1))","v":""},null,null,null,null,{"$f":"IF(AJ283=\"\",\"\",INDEX('OTRAS REFERENCIAS'!$Q$6:$R$11,MATCH(AJ283,'OTRAS REFERENCIAS'!$R$6:$R$11,0),1))","v":""},null,null,null,{"$f":"IF(AN283=\"\",\"\",INDEX('OTRAS REFERENCIAS'!$T$6:$U$11,MATCH(AN283,'OTRAS REFERENCIAS'!$U$6:$U$11,0),1))","v":""}]
[1,"",282,"","",{"$f":"IF(L284<>\"\",CONCATENATE(DIGITADOR!$B$2,$A$2,DIGITADOR!$M$1,A284),\"\")","v":""},null,null,"",{"$f":"IF(K284=\"\",\"\",INDEX('OTRAS REFERENCIAS'!$AL:$AM,MATCH(K284,'OTRAS REFERENCIAS'!$AL:$AL,0),2))","v":""},null,{"$f":"IF(J284=\"\",\"\",INDEX(referentes!$S:$W,MATCH(J284,referentes!$S:$S,0),1))","v":""},null,null,null,null,null,null,null,{"$f":"IF(U284=\"\",\"\",INDEX('OTRAS REFERENCIAS'!$H$6:$I$11,MATCH(U284,'OTRAS REFERENCIAS'!$I$6:$I$11,0),1))","v":""},null,null,null,null,{"$f":"IF(Z284=\"\",\"\",INDEX('OTRAS REFERENCIAS'!$K$6:$L$11,MATCH(Z284,'OTRAS REFERENCIAS'!$L$6:$L$11,0),1))","v":""},null,null,null,null,{"$f":"IF(AE284=\"\",\"\",INDEX('OTRAS REFERENCIAS'!$N$6:$O$11,MATCH(AE284,'OTRAS REFERENCIAS'!$O$6:$O$11,0),1))","v":""},null,null,null,null,{"$f":"IF(AJ284=\"\",\"\",INDEX('OTRAS REFERENCIAS'!$Q$6:$R$11,MATCH(AJ284,'OTRAS REFERENCIAS'!$R$6:$R$11,0),1))","v":""},null,null,null,{"$f":"IF(AN284=\"\",\"\",INDEX('OTRAS REFERENCIAS'!$T$6:$U$11,MATCH(AN284,'OTRAS REFERENCIAS'!$U$6:$U$11,0),1))","v":""}]
[1,"",283,"","",{"$f":"IF(L285<>\"\",CONCATENATE(DIGITADOR!$B$2,$A$2,DIGITADOR!$M$1,A285),\"\")","v":""},null,null,"",{"$f":"IF(K285=\"\",\"\",INDEX('OTRAS REFERENCIAS'!$AL:$AM,MATCH(K285,'OTRAS REFERENCIAS'!$AL:$AL,0),2))","v":""},null,{"$f":"IF(J285=\"\",\"\",INDEX(referentes!$S:$W,MATCH(J285,referentes!$S:$S,0),1))","v":""},null,null,null,null,null,null,null,{"$f":"IF(U285=\"\",\"\",INDEX('OTRAS REFERENCIAS'!$H$6:$I$11,MATCH(U285,'OTRAS REFERENCIAS'!$I$6:$I$11,0),1))","v":""},null,null,null,null,{"$f":"IF(Z285=\"\",\"\",INDEX('OTRAS REFERENCIAS'!$K$6:$L$11,MATCH(Z285,'OTRAS REFERENCIAS'!$L$6:$L$11,0),1))","v":""},null,null,null,null,{"$f":"IF(AE285=\"\",\"\",INDEX('OTRAS REFERENCIAS'!$N$6:$O$11,MATCH(AE285,'OTRAS REFERENCIAS'!$O$6:$O$11,0),1))","v":""},null,null,null,null,{"$f":"IF(AJ285=\"\",\"\",INDEX('OTRAS REFERENCIAS'!$Q$6:$R$11,MATCH(AJ285,'OTRAS REFERENCIAS'!$R$6:$R$11,0),1))","v":""},null,null,null,{"$f":"IF(AN285=\"\",\"\",INDEX('OTRAS REFERENCIAS'!$T$6:$U$11,MATCH(AN285,'OTRAS REFERENCIAS'!$U$6:$U$11,0),1))","v":""}]
[1,"",284,"","",{"$f":"IF(L286<>\"\",CONCATENATE(DIGITADOR!$B$2,$A$2,DIGITADOR!$M$1,A286),\"\")","v":""},null,null,"",{"$f":"IF(K286=\"\",\"\",INDEX('OTRAS REFERENCIAS'!$AL:$AM,MATCH(K286,'OTRAS REFERENCIAS'!$AL:$AL,0),2))","v":""},null,{"$f":"IF(J286=\"\",\"\",INDEX(referentes!$S:$W,MATCH(J286,referentes!$S:$S,0),1))","v":""},null,null,null,null,null,null,null,{"$f":"IF(U286=\"\",\"\",INDEX('OTRAS REFERENCIAS'!$H$6:$I$11,MATCH(U286,'OTRAS REFERENCIAS'!$I$6:$I$11,0),1))","v":""},null,null,null,null,{"$f":"IF(Z286=\"\",\"\",INDEX('OTRAS REFERENCIAS'!$K$6:$L$11,MATCH(Z286,'OTRAS REFERENCIAS'!$L$6:$L$11,0),1))","v":""},null,null,null,null,{"$f":"IF(AE286=\"\",\"\",INDEX('OTRAS REFERENCIAS'!$N$6:$O$11,MATCH(AE286,'OTRAS REFERENCIAS'!$O$6:$O$11,0),1))","v":""},null,null,null,null,{"$f":"IF(AJ286=\"\",\"\",INDEX('OTRAS REFERENCIAS'!$Q$6:$R$11,MATCH(AJ286,'OTRAS REFERENCIAS'!$R$6:$R$11,0),1))","v":""},null,null,null,{"$f":"IF(AN286=\"\",\"\",INDEX('OTRAS REFERENCIAS'!$T$6:$U$11,MATCH(AN286,'OTRAS REFERENCIAS'!$U$6:$U$11,0),1))","v":""}]
[1,"",285,"","",{"$f":"IF(L287<>\"\",CONCATENATE(DIGITADOR!$B$2,$A$2,DIGITADOR!$M$1,A287),\"\")","v":""},null,null,"",{"$f":"IF(K287=\"\",\"\",INDEX('OTRAS REFERENCIAS'!$AL:$AM,MATCH(K287,'OTRAS REFERENCIAS'!$AL:$AL,0),2))","v":""},null,{"$f":"IF(J287=\"\",\"\",INDEX(referentes!$S:$W,MATCH(J287,referentes!$S:$S,0),1))","v":""},null,null,null,null,null,null,null,{"$f":"IF(U287=\"\",\"\",INDEX('OTRAS REFERENCIAS'!$H$6:$I$11,MATCH(U287,'OTRAS REFERENCIAS'!$I$6:$I$11,0),1))","v":""},null,null,null,null,{"$f":"IF(Z287=\"\",\"\",INDEX('OTRAS REFERENCIAS'!$K$6:$L$11,MATCH(Z287,'OTRAS REFERENCIAS'!$L$6:$L$11,0),1))","v":""},null,null,null,null,{"$f":"IF(AE287=\"\",\"\",INDEX('OTRAS REFERENCIAS'!$N$6:$O$11,MATCH(AE287,'OTRAS REFERENCIAS'!$O$6:$O$11,0),1))","v":""},null,null,null,null,{"$f":"IF(AJ287=\"\",\"\",INDEX('OTRAS REFERENCIAS'!$Q$6:$R$11,MATCH(AJ287,'OTRAS REFERENCIAS'!$R$6:$R$11,0),1))","v":""},null,null,null,{"$f":"IF(AN287=\"\",\"\",INDEX('OTRAS REFERENCIAS'!$T$6:$U$11,MATCH(AN287,'OTRAS REFERENCIAS'!$U$6:$U$11,0),1))","v":""}]
[1,"",286,"","",{"$f":"IF(L288<>\"\",CONCATENATE(DIGITADOR!$B$2,$A$2,DIGITADOR!$M$1,A288),\"\")","v":""},null,null,"",{"$f":"IF(K288=\"\",\"\",INDEX('OTRAS REFERENCIAS'!$AL:$AM,MATCH(K288,'OTRAS REFERENCIAS'!$AL:$AL,0),2))","v":""},null,{"$f":"IF(J288=\"\",\"\",INDEX(referentes!$S:$W,MATCH(J288,referentes!$S:$S,0),1))","v":""},null,null,null,null,null,null,null,{"$f":"IF(U288=\"\",\"\",INDEX('OTRAS REFERENCIAS'!$H$6:$I$11,MATCH(U288,'OTRAS REFERENCIAS'!$I$6:$I$11,0),1))","v":""},null,null,null,null,{"$f":"IF(Z288=\"\",\"\",INDEX('OTRAS REFERENCIAS'!$K$6:$L$11,MATCH(Z288,'OTRAS REFERENCIAS'!$L$6:$L$11,0),1))","v":""},null,null,null,null,{"$f":"IF(AE288=\"\",\"\",INDEX('OTRAS REFERENCIAS'!$N$6:$O$11,MATCH(AE288,'OTRAS REFERENCIAS'!$O$6:$O$11,0),1))","v":""},null,null,null,null,{"$f":"IF(AJ288=\"\",\"\",INDEX('OTRAS REFERENCIAS'!$Q$6:$R$11,MATCH(AJ288,'OTRAS REFERENCIAS'!$R$6:$R$11,0),1))","v":""},null,null,null,{"$f":"IF(AN288=\"\",\"\",INDEX('OTRAS REFERENCIAS'!$T$6:$U$11,MATCH(AN288,'OTRAS REFERENCIAS'!$U$6:$U$11,0),1))","v":""}]
[1,"",287,"","",{"$f":"IF(L289<>\"\",CONCATENATE(DIGITADOR!$B$2,$A$2,DIGITADOR!$M$1,A289),\"\")","v":""},null,null,"",{"$f":"IF(K289=\"\",\"\",INDEX('OTRAS REFERENCIAS'!$AL:$AM,MATCH(K289,'OTRAS REFERENCIAS'!$AL:$AL,0),2))","v":""},null,{"$f":"IF(J289=\"\",\"\",INDEX(referentes!$S:$W,MATCH(J289,referentes!$S:$S,0),1))","v":""},null,null,null,null,null,null,null,{"$f":"IF(U289=\"\",\"\",INDEX('OTRAS REFERENCIAS'!$H$6:$I$11,MATCH(U289,'OTRAS REFERENCIAS'!$I$6:$I$11,0),1))","v":""},null,null,null,null,{"$f":"IF(Z289=\"\",\"\",INDEX('OTRAS REFERENCIAS'!$K$6:$L$11,MATCH(Z289,'OTRAS REFERENCIAS'!$L$6:$L$11,0),1))","v":""},null,null,null,null,{"$f":"IF(AE289=\"\",\"\",INDEX('OTRAS REFERENCIAS'!$N$6:$O$11,MATCH(AE289,'OTRAS REFERENCIAS'!$O$6:$O$11,0),1))","v":""},null,null,null,null,{"$f":"IF(AJ289=\"\",\"\",INDEX('OTRAS REFERENCIAS'!$Q$6:$R$11,MATCH(AJ289,'OTRAS REFERENCIAS'!$R$6:$R$11,0),1))","v":""},null,null,null,{"$f":"IF(AN289=\"\",\"\",INDEX('OTRAS REFERENCIAS'!$T$6:$U$11,MATCH(AN289,'OTRAS REFERENCIAS'!$U$6:$U$11,0),1))","v":""}]
[1,"",288,"","",{"$f":"IF(L290<>\"\",CONCATENATE(DIGITADOR!$B$2,$A$2,DIGITADOR!$M$1,A290),\"\")","v":""},null,null,"",{"$f":"IF(K290=\"\",\"\",INDEX('OTRAS REFERENCIAS'!$AL:$AM,MATCH(K290,'OTRAS REFERENCIAS'!$AL:$AL,0),2))","v":""},null,{"$f":"IF(J290=\"\",\"\",INDEX(referentes!$S:$W,MATCH(J290,referentes!$S:$S,0),1))","v":""},null,null,null,null,null,null,null,{"$f":"IF(U290=\"\",\"\",INDEX('OTRAS REFERENCIAS'!$H$6:$I$11,MATCH(U290,'OTRAS REFERENCIAS'!$I$6:$I$11,0),1))","v":""},null,null,null,null,{"$f":"IF(Z290=\"\",\"\",INDEX('OTRAS REFERENCIAS'!$K$6:$L$11,MATCH(Z290,'OTRAS REFERENCIAS'!$L$6:$L$11,0),1))","v":""},null,null,null,null,{"$f":"IF(AE290=\"\",\"\",INDEX('OTRAS REFERENCIAS'!$N$6:$O$11,MATCH(AE290,'OTRAS REFERENCIAS'!$O$6:$O$11,0),1))","v":""},null,null,null,null,{"$f":"IF(AJ290=\"\",\"\",INDEX('OTRAS REFERENCIAS'!$Q$6:$R$11,MATCH(AJ290,'OTRAS REFERENCIAS'!$R$6:$R$11,0),1))","v":""},null,null,null,{"$f":"IF(AN290=\"\",\"\",INDEX('OTRAS REFERENCIAS'!$T$6:$U$11,MATCH(AN290,'OTRAS REFERENCIAS'!$U$6:$U$11,0),1))","v":""}]
[1,"",289,"","",{"$f":"IF(L291<>\"\",CONCATENATE(DIGITADOR!$B$2,$A$2,DIGITADOR!$M$1,A291),\"\")","v":""},null,null,"",{"$f":"IF(K291=\"\",\"\",INDEX('OTRAS REFERENCIAS'!$AL:$AM,MATCH(K291,'OTRAS REFERENCIAS'!$AL:$AL,0),2))","v":""},null,{"$f":"IF(J291=\"\",\"\",INDEX(referentes!$S:$W,MATCH(J291,referentes!$S:$S,0),1))","v":""},null,null,null,null,null,null,null,{"$f":"IF(U291=\"\",\"\",INDEX('OTRAS REFERENCIAS'!$H$6:$I$11,MATCH(U291,'OTRAS REFERENCIAS'!$I$6:$I$11,0),1))","v":""},null,null,null,null,{"$f":"IF(Z291=\"\",\"\",INDEX('OTRAS REFERENCIAS'!$K$6:$L$11,MATCH(Z291,'OTRAS REFERENCIAS'!$L$6:$L$11,0),1))","v":""},null,null,null,null,{"$f":"IF(AE291=\"\",\"\",INDEX('OTRAS REFERENCIAS'!$N$6:$O$11,MATCH(AE291,'OTRAS REFERENCIAS'!$O$6:$O$11,0),1))","v":""},null,null,null,null,{"$f":"IF(AJ291=\"\",\"\",INDEX('OTRAS REFERENCIAS'!$Q$6:$R$11,MATCH(AJ291,'OTRAS REFERENCIAS'!$R$6:$R$11,0),1))","v":""},null,null,null,{"$f":"IF(AN291=\"\",\"\",INDEX('OTRAS REFERENCIAS'!$T$6:$U$11,MATCH(AN291,'OTRAS REFERENCIAS'!$U$6:$U$11,0),1))","v":""}]
[1,"",290,"","",{"$f":"IF(L292<>\"\",CONCATENATE(DIGITADOR!$B$2,$A$2,DIGITADOR!$M$1,A292),\"\")","v":""},null,null,"",{"$f":"IF(K292=\"\",\"\",INDEX('OTRAS REFERENCIAS'!$AL:$AM,MATCH(K292,'OTRAS REFERENCIAS'!$AL:$AL,0),2))","v":""},null,{"$f":"IF(J292=\"\",\"\",INDEX(referentes!$S:$W,MATCH(J292,referentes!$S:$S,0),1))","v":""},null,null,null,null,null,null,null,{"$f":"IF(U292=\"\",\"\",INDEX('OTRAS REFERENCIAS'!$H$6:$I$11,MATCH(U292,'OTRAS REFERENCIAS'!$I$6:$I$11,0),1))","v":""},null,null,null,null,{"$f":"IF(Z292=\"\",\"\",INDEX('OTRAS REFERENCIAS'!$K$6:$L$11,MATCH(Z292,'OTRAS REFERENCIAS'!$L$6:$L$11,0),1))","v":""},null,null,null,null,{"$f":"IF(AE292=\"\",\"\",INDEX('OTRAS REFERENCIAS'!$N$6:$O$11,MATCH(AE292,'OTRAS REFERENCIAS'!$O$6:$O$11,0),1))","v":""},null,null,null,null,{"$f":"IF(AJ292=\"\",\"\",INDEX('OTRAS REFERENCIAS'!$Q$6:$R$11,MATCH(AJ292,'OTRAS REFERENCIAS'!$R$6:$R$11,0),1))","v":""},null,null,null,{"$f":"IF(AN292=\"\",\"\",INDEX('OTRAS REFERENCIAS'!$T$6:$U$11,MATCH(AN292,'OTRAS REFERENCIAS'!$U$6:$U$11,0),1))","v":""}]
[1,"",291,"","",{"$f":"IF(L293<>\"\",CONCATENATE(DIGITADOR!$B$2,$A$2,DIGITADOR!$M$1,A293),\"\")","v":""},null,null,"",{"$f":"IF(K293=\"\",\"\",INDEX('OTRAS REFERENCIAS'!$AL:$AM,MATCH(K293,'OTRAS REFERENCIAS'!$AL:$AL,0),2))","v":""},null,{"$f":"IF(J293=\"\",\"\",INDEX(referentes!$S:$W,MATCH(J293,referentes!$S:$S,0),1))","v":""},null,null,null,null,null,null,null,{"$f":"IF(U293=\"\",\"\",INDEX('OTRAS REFERENCIAS'!$H$6:$I$11,MATCH(U293,'OTRAS REFERENCIAS'!$I$6:$I$11,0),1))","v":""},null,null,null,null,{"$f":"IF(Z293=\"\",\"\",INDEX('OTRAS REFERENCIAS'!$K$6:$L$11,MATCH(Z293,'OTRAS REFERENCIAS'!$L$6:$L$11,0),1))","v":""},null,null,null,null,{"$f":"IF(AE293=\"\",\"\",INDEX('OTRAS REFERENCIAS'!$N$6:$O$11,MATCH(AE293,'OTRAS REFERENCIAS'!$O$6:$O$11,0),1))","v":""},null,null,null,null,{"$f":"IF(AJ293=\"\",\"\",INDEX('OTRAS REFERENCIAS'!$Q$6:$R$11,MATCH(AJ293,'OTRAS REFERENCIAS'!$R$6:$R$11,0),1))","v":""},null,null,null,{"$f":"IF(AN293=\"\",\"\",INDEX('OTRAS REFERENCIAS'!$T$6:$U$11,MATCH(AN293,'OTRAS REFERENCIAS'!$U$6:$U$11,0),1))","v":""}]
[1,"",292,"","",{"$f":"IF(L294<>\"\",CONCATENATE(DIGITADOR!$B$2,$A$2,DIGITADOR!$M$1,A294),\"\")","v":""},null,null,"",{"$f":"IF(K294=\"\",\"\",INDEX('OTRAS REFERENCIAS'!$AL:$AM,MATCH(K294,'OTRAS REFERENCIAS'!$AL:$AL,0),2))","v":""},null,{"$f":"IF(J294=\"\",\"\",INDEX(referentes!$S:$W,MATCH(J294,referentes!$S:$S,0),1))","v":""},null,null,null,null,null,null,null,{"$f":"IF(U294=\"\",\"\",INDEX('OTRAS REFERENCIAS'!$H$6:$I$11,MATCH(U294,'OTRAS REFERENCIAS'!$I$6:$I$11,0),1))","v":""},null,null,null,null,{"$f":"IF(Z294=\"\",\"\",INDEX('OTRAS REFERENCIAS'!$K$6:$L$11,MATCH(Z294,'OTRAS REFERENCIAS'!$L$6:$L$11,0),1))","v":""},null,null,null,null,{"$f":"IF(AE294=\"\",\"\",INDEX('OTRAS REFERENCIAS'!$N$6:$O$11,MATCH(AE294,'OTRAS REFERENCIAS'!$O$6:$O$11,0),1))","v":""},null,null,null,null,{"$f":"IF(AJ294=\"\",\"\",INDEX('OTRAS REFERENCIAS'!$Q$6:$R$11,MATCH(AJ294,'OTRAS REFERENCIAS'!$R$6:$R$11,0),1))","v":""},null,null,null,{"$f":"IF(AN294=\"\",\"\",INDEX('OTRAS REFERENCIAS'!$T$6:$U$11,MATCH(AN294,'OTRAS REFERENCIAS'!$U$6:$U$11,0),1))","v":""}]
[1,"",293,"","",{"$f":"IF(L295<>\"\",CONCATENATE(DIGITADOR!$B$2,$A$2,DIGITADOR!$M$1,A295),\"\")","v":""},null,null,"",{"$f":"IF(K295=\"\",\"\",INDEX('OTRAS REFERENCIAS'!$AL:$AM,MATCH(K295,'OTRAS REFERENCIAS'!$AL:$AL,0),2))","v":""},null,{"$f":"IF(J295=\"\",\"\",INDEX(referentes!$S:$W,MATCH(J295,referentes!$S:$S,0),1))","v":""},null,null,null,null,null,null,null,{"$f":"IF(U295=\"\",\"\",INDEX('OTRAS REFERENCIAS'!$H$6:$I$11,MATCH(U295,'OTRAS REFERENCIAS'!$I$6:$I$11,0),1))","v":""},null,null,null,null,{"$f":"IF(Z295=\"\",\"\",INDEX('OTRAS REFERENCIAS'!$K$6:$L$11,MATCH(Z295,'OTRAS REFERENCIAS'!$L$6:$L$11,0),1))","v":""},null,null,null,null,{"$f":"IF(AE295=\"\",\"\",INDEX('OTRAS REFERENCIAS'!$N$6:$O$11,MATCH(AE295,'OTRAS REFERENCIAS'!$O$6:$O$11,0),1))","v":""},null,null,null,null,{"$f":"IF(AJ295=\"\",\"\",INDEX('OTRAS REFERENCIAS'!$Q$6:$R$11,MATCH(AJ295,'OTRAS REFERENCIAS'!$R$6:$R$11,0),1))","v":""},null,null,null,{"$f":"IF(AN295=\"\",\"\",INDEX('OTRAS REFERENCIAS'!$T$6:$U$11,MATCH(AN295,'OTRAS REFERENCIAS'!$U$6:$U$11,0),1))","v":""}]
[1,"",294,"","",{"$f":"IF(L296<>\"\",CONCATENATE(DIGITADOR!$B$2,$A$2,DIGITADOR!$M$1,A296),\"\")","v":""},null,null,"",{"$f":"IF(K296=\"\",\"\",INDEX('OTRAS REFERENCIAS'!$AL:$AM,MATCH(K296,'OTRAS REFERENCIAS'!$AL:$AL,0),2))","v":""},null,{"$f":"IF(J296=\"\",\"\",INDEX(referentes!$S:$W,MATCH(J296,referentes!$S:$S,0),1))","v":""},null,null,null,null,null,null,null,{"$f":"IF(U296=\"\",\"\",INDEX('OTRAS REFERENCIAS'!$H$6:$I$11,MATCH(U296,'OTRAS REFERENCIAS'!$I$6:$I$11,0),1))","v":""},null,null,null,null,{"$f":"IF(Z296=\"\",\"\",INDEX('OTRAS REFERENCIAS'!$K$6:$L$11,MATCH(Z296,'OTRAS REFERENCIAS'!$L$6:$L$11,0),1))","v":""},null,null,null,null,{"$f":"IF(AE296=\"\",\"\",INDEX('OTRAS REFERENCIAS'!$N$6:$O$11,MATCH(AE296,'OTRAS REFERENCIAS'!$O$6:$O$11,0),1))","v":""},null,null,null,null,{"$f":"IF(AJ296=\"\",\"\",INDEX('OTRAS REFERENCIAS'!$Q$6:$R$11,MATCH(AJ296,'OTRAS REFERENCIAS'!$R$6:$R$11,0),1))","v":""},null,null,null,{"$f":"IF(AN296=\"\",\"\",INDEX('OTRAS REFERENCIAS'!$T$6:$U$11,MATCH(AN296,'OTRAS REFERENCIAS'!$U$6:$U$11,0),1))","v":""}]
[1,"",295,"","",{"$f":"IF(L297<>\"\",CONCATENATE(DIGITADOR!$B$2,$A$2,DIGITADOR!$M$1,A297),\"\")","v":""},null,null,"",{"$f":"IF(K297=\"\",\"\",INDEX('OTRAS REFERENCIAS'!$AL:$AM,MATCH(K297,'OTRAS REFERENCIAS'!$AL:$AL,0),2))","v":""},null,{"$f":"IF(J297=\"\",\"\",INDEX(referentes!$S:$W,MATCH(J297,referentes!$S:$S,0),1))","v":""},null,null,null,null,null,null,null,{"$f":"IF(U297=\"\",\"\",INDEX('OTRAS REFERENCIAS'!$H$6:$I$11,MATCH(U297,'OTRAS REFERENCIAS'!$I$6:$I$11,0),1))","v":""},null,null,null,null,{"$f":"IF(Z297=\"\",\"\",INDEX('OTRAS REFERENCIAS'!$K$6:$L$11,MATCH(Z297,'OTRAS REFERENCIAS'!$L$6:$L$11,0),1))","v":""},null,null,null,null,{"$f":"IF(AE297=\"\",\"\",INDEX('OTRAS REFERENCIAS'!$N$6:$O$11,MATCH(AE297,'OTRAS REFERENCIAS'!$O$6:$O$11,0),1))","v":""},null,null,null,null,{"$f":"IF(AJ297=\"\",\"\",INDEX('OTRAS REFERENCIAS'!$Q$6:$R$11,MATCH(AJ297,'OTRAS REFERENCIAS'!$R$6:$R$11,0),1))","v":""},null,null,null,{"$f":"IF(AN297=\"\",\"\",INDEX('OTRAS REFERENCIAS'!$T$6:$U$11,MATCH(AN297,'OTRAS REFERENCIAS'!$U$6:$U$11,0),1))","v":""}]
[1,"",296,"","",{"$f":"IF(L298<>\"\",CONCATENATE(DIGITADOR!$B$2,$A$2,DIGITADOR!$M$1,A298),\"\")","v":""},null,null,"",{"$f":"IF(K298=\"\",\"\",INDEX('OTRAS REFERENCIAS'!$AL:$AM,MATCH(K298,'OTRAS REFERENCIAS'!$AL:$AL,0),2))","v":""},null,{"$f":"IF(J298=\"\",\"\",INDEX(referentes!$S:$W,MATCH(J298,referentes!$S:$S,0),1))","v":""},null,null,null,null,null,null,null,{"$f":"IF(U298=\"\",\"\",INDEX('OTRAS REFERENCIAS'!$H$6:$I$11,MATCH(U298,'OTRAS REFERENCIAS'!$I$6:$I$11,0),1))","v":""},null,null,null,null,{"$f":"IF(Z298=\"\",\"\",INDEX('OTRAS REFERENCIAS'!$K$6:$L$11,MATCH(Z298,'OTRAS REFERENCIAS'!$L$6:$L$11,0),1))","v":""},null,null,null,null,{"$f":"IF(AE298=\"\",\"\",INDEX('OTRAS REFERENCIAS'!$N$6:$O$11,MATCH(AE298,'OTRAS REFERENCIAS'!$O$6:$O$11,0),1))","v":""},null,null,null,null,{"$f":"IF(AJ298=\"\",\"\",INDEX('OTRAS REFERENCIAS'!$Q$6:$R$11,MATCH(AJ298,'OTRAS REFERENCIAS'!$R$6:$R$11,0),1))","v":""},null,null,null,{"$f":"IF(AN298=\"\",\"\",INDEX('OTRAS REFERENCIAS'!$T$6:$U$11,MATCH(AN298,'OTRAS REFERENCIAS'!$U$6:$U$11,0),1))","v":""}]
[1,"",297,"","",{"$f":"IF(L299<>\"\",CONCATENATE(DIGITADOR!$B$2,$A$2,DIGITADOR!$M$1,A299),\"\")","v":""},null,null,"",{"$f":"IF(K299=\"\",\"\",INDEX('OTRAS REFERENCIAS'!$AL:$AM,MATCH(K299,'OTRAS REFERENCIAS'!$AL:$AL,0),2))","v":""},null,{"$f":"IF(J299=\"\",\"\",INDEX(referentes!$S:$W,MATCH(J299,referentes!$S:$S,0),1))","v":""},null,null,null,null,null,null,null,{"$f":"IF(U299=\"\",\"\",INDEX('OTRAS REFERENCIAS'!$H$6:$I$11,MATCH(U299,'OTRAS REFERENCIAS'!$I$6:$I$11,0),1))","v":""},null,null,null,null,{"$f":"IF(Z299=\"\",\"\",INDEX('OTRAS REFERENCIAS'!$K$6:$L$11,MATCH(Z299,'OTRAS REFERENCIAS'!$L$6:$L$11,0),1))","v":""},null,null,null,null,{"$f":"IF(AE299=\"\",\"\",INDEX('OTRAS REFERENCIAS'!$N$6:$O$11,MATCH(AE299,'OTRAS REFERENCIAS'!$O$6:$O$11,0),1))","v":""},null,null,null,null,{"$f":"IF(AJ299=\"\",\"\",INDEX('OTRAS REFERENCIAS'!$Q$6:$R$11,MATCH(AJ299,'OTRAS REFERENCIAS'!$R$6:$R$11,0),1))","v":""},null,null,null,{"$f":"IF(AN299=\"\",\"\",INDEX('OTRAS REFERENCIAS'!$T$6:$U$11,MATCH(AN299,'OTRAS REFERENCIAS'!$U$6:$U$11,0),1))","v":""}]
[1,"",298,"","",{"$f":"IF(L300<>\"\",CONCATENATE(DIGITADOR!$B$2,$A$2,DIGITADOR!$M$1,A300),\"\")","v":""},null,null,"",{"$f":"IF(K300=\"\",\"\",INDEX('OTRAS REFERENCIAS'!$AL:$AM,MATCH(K300,'OTRAS REFERENCIAS'!$AL:$AL,0),2))","v":""},null,{"$f":"IF(J300=\"\",\"\",INDEX(referentes!$S:$W,MATCH(J300,referentes!$S:$S,0),1))","v":""},null,null,null,null,null,null,null,{"$f":"IF(U300=\"\",\"\",INDEX('OTRAS REFERENCIAS'!$H$6:$I$11,MATCH(U300,'OTRAS REFERENCIAS'!$I$6:$I$11,0),1))","v":""},null,null,null,null,{"$f":"IF(Z300=\"\",\"\",INDEX('OTRAS REFERENCIAS'!$K$6:$L$11,MATCH(Z300,'OTRAS REFERENCIAS'!$L$6:$L$11,0),1))","v":""},null,null,null,null,{"$f":"IF(AE300=\"\",\"\",INDEX('OTRAS REFERENCIAS'!$N$6:$O$11,MATCH(AE300,'OTRAS REFERENCIAS'!$O$6:$O$11,0),1))","v":""},null,null,null,null,{"$f":"IF(AJ300=\"\",\"\",INDEX('OTRAS REFERENCIAS'!$Q$6:$R$11,MATCH(AJ300,'OTRAS REFERENCIAS'!$R$6:$R$11,0),1))","v":""},null,null,null,{"$f":"IF(AN300=\"\",\"\",INDEX('OTRAS REFERENCIAS'!$T$6:$U$11,MATCH(AN300,'OTRAS REFERENCIAS'!$U$6:$U$11,0),1))","v":""}]
[1,"",299,"","",{"$f":"IF(L301<>\"\",CONCATENATE(DIGITADOR!$B$2,$A$2,DIGITADOR!$M$1,A301),\"\")","v":""},null,null,"",{"$f":"IF(K301=\"\",\"\",INDEX('OTRAS REFERENCIAS'!$AL:$AM,MATCH(K301,'OTRAS REFERENCIAS'!$AL:$AL,0),2))","v":""},null,{"$f":"IF(J301=\"\",\"\",INDEX(referentes!$S:$W,MATCH(J301,referentes!$S:$S,0),1))","v":""},null,null,null,null,null,null,null,{"$f":"IF(U301=\"\",\"\",INDEX('OTRAS REFERENCIAS'!$H$6:$I$11,MATCH(U301,'OTRAS REFERENCIAS'!$I$6:$I$11,0),1))","v":""},null,null,null,null,{"$f":"IF(Z301=\"\",\"\",INDEX('OTRAS REFERENCIAS'!$K$6:$L$11,MATCH(Z301,'OTRAS REFERENCIAS'!$L$6:$L$11,0),1))","v":""},null,null,null,null,{"$f":"IF(AE301=\"\",\"\",INDEX('OTRAS REFERENCIAS'!$N$6:$O$11,MATCH(AE301,'OTRAS REFERENCIAS'!$O$6:$O$11,0),1))","v":""},null,null,null,null,{"$f":"IF(AJ301=\"\",\"\",INDEX('OTRAS REFERENCIAS'!$Q$6:$R$11,MATCH(AJ301,'OTRAS REFERENCIAS'!$R$6:$R$11,0),1))","v":""},null,null,null,{"$f":"IF(AN301=\"\",\"\",INDEX('OTRAS REFERENCIAS'!$T$6:$U$11,MATCH(AN301,'OTRAS REFERENCIAS'!$U$6:$U$11,0),1))","v":""}]
[1,"",300,"","",{"$f":"IF(L302<>\"\",CONCATENATE(DIGITADOR!$B$2,$A$2,DIGITADOR!$M$1,A302),\"\")","v":""},null,null,"",{"$f":"IF(K302=\"\",\"\",INDEX('OTRAS REFERENCIAS'!$AL:$AM,MATCH(K302,'OTRAS REFERENCIAS'!$AL:$AL,0),2))","v":""},null,{"$f":"IF(J302=\"\",\"\",INDEX(referentes!$S:$W,MATCH(J302,referentes!$S:$S,0),1))","v":""},null,null,null,null,null,null,null,{"$f":"IF(U302=\"\",\"\",INDEX('OTRAS REFERENCIAS'!$H$6:$I$11,MATCH(U302,'OTRAS REFERENCIAS'!$I$6:$I$11,0),1))","v":""},null,null,null,null,{"$f":"IF(Z302=\"\",\"\",INDEX('OTRAS REFERENCIAS'!$K$6:$L$11,MATCH(Z302,'OTRAS REFERENCIAS'!$L$6:$L$11,0),1))","v":""},null,null,null,null,{"$f":"IF(AE302=\"\",\"\",INDEX('OTRAS REFERENCIAS'!$N$6:$O$11,MATCH(AE302,'OTRAS REFERENCIAS'!$O$6:$O$11,0),1))","v":""},null,null,null,null,{"$f":"IF(AJ302=\"\",\"\",INDEX('OTRAS REFERENCIAS'!$Q$6:$R$11,MATCH(AJ302,'OTRAS REFERENCIAS'!$R$6:$R$11,0),1))","v":""},null,null,null,{"$f":"IF(AN302=\"\",\"\",INDEX('OTRAS REFERENCIAS'!$T$6:$U$11,MATCH(AN302,'OTRAS REFERENCIAS'!$U$6:$U$11,0),1))","v":""}]
[1,"",301,"","",{"$f":"IF(L303<>\"\",CONCATENATE(DIGITADOR!$B$2,$A$2,DIGITADOR!$M$1,A303),\"\")","v":""},null,null,"",{"$f":"IF(K303=\"\",\"\",INDEX('OTRAS REFERENCIAS'!$AL:$AM,MATCH(K303,'OTRAS REFERENCIAS'!$AL:$AL,0),2))","v":""},null,{"$f":"IF(J303=\"\",\"\",INDEX(referentes!$S:$W,MATCH(J303,referentes!$S:$S,0),1))","v":""},null,null,null,null,null,null,null,{"$f":"IF(U303=\"\",\"\",INDEX('OTRAS REFERENCIAS'!$H$6:$I$11,MATCH(U303,'OTRAS REFERENCIAS'!$I$6:$I$11,0),1))","v":""},null,null,null,null,{"$f":"IF(Z303=\"\",\"\",INDEX('OTRAS REFERENCIAS'!$K$6:$L$11,MATCH(Z303,'OTRAS REFERENCIAS'!$L$6:$L$11,0),1))","v":""},null,null,null,null,{"$f":"IF(AE303=\"\",\"\",INDEX('OTRAS REFERENCIAS'!$N$6:$O$11,MATCH(AE303,'OTRAS REFERENCIAS'!$O$6:$O$11,0),1))","v":""},null,null,null,null,{"$f":"IF(AJ303=\"\",\"\",INDEX('OTRAS REFERENCIAS'!$Q$6:$R$11,MATCH(AJ303,'OTRAS REFERENCIAS'!$R$6:$R$11,0),1))","v":""},null,null,null,{"$f":"IF(AN303=\"\",\"\",INDEX('OTRAS REFERENCIAS'!$T$6:$U$11,MATCH(AN303,'OTRAS REFERENCIAS'!$U$6:$U$11,0),1))","v":""}]
[1,"",302,"","",{"$f":"IF(L304<>\"\",CONCATENATE(DIGITADOR!$B$2,$A$2,DIGITADOR!$M$1,A304),\"\")","v":""},null,null,"",{"$f":"IF(K304=\"\",\"\",INDEX('OTRAS REFERENCIAS'!$AL:$AM,MATCH(K304,'OTRAS REFERENCIAS'!$AL:$AL,0),2))","v":""},null,{"$f":"IF(J304=\"\",\"\",INDEX(referentes!$S:$W,MATCH(J304,referentes!$S:$S,0),1))","v":""},null,null,null,null,null,null,null,{"$f":"IF(U304=\"\",\"\",INDEX('OTRAS REFERENCIAS'!$H$6:$I$11,MATCH(U304,'OTRAS REFERENCIAS'!$I$6:$I$11,0),1))","v":""},null,null,null,null,{"$f":"IF(Z304=\"\",\"\",INDEX('OTRAS REFERENCIAS'!$K$6:$L$11,MATCH(Z304,'OTRAS REFERENCIAS'!$L$6:$L$11,0),1))","v":""},null,null,null,null,{"$f":"IF(AE304=\"\",\"\",INDEX('OTRAS REFERENCIAS'!$N$6:$O$11,MATCH(AE304,'OTRAS REFERENCIAS'!$O$6:$O$11,0),1))","v":""},null,null,null,null,{"$f":"IF(AJ304=\"\",\"\",INDEX('OTRAS REFERENCIAS'!$Q$6:$R$11,MATCH(AJ304,'OTRAS REFERENCIAS'!$R$6:$R$11,0),1))","v":""},null,null,null,{"$f":"IF(AN304=\"\",\"\",INDEX('OTRAS REFERENCIAS'!$T$6:$U$11,MATCH(AN304,'OTRAS REFERENCIAS'!$U$6:$U$11,0),1))","v":""}]
[1,"",303,"","",{"$f":"IF(L305<>\"\",CONCATENATE(DIGITADOR!$B$2,$A$2,DIGITADOR!$M$1,A305),\"\")","v":""},null,null,"",{"$f":"IF(K305=\"\",\"\",INDEX('OTRAS REFERENCIAS'!$AL:$AM,MATCH(K305,'OTRAS REFERENCIAS'!$AL:$AL,0),2))","v":""},null,{"$f":"IF(J305=\"\",\"\",INDEX(referentes!$S:$W,MATCH(J305,referentes!$S:$S,0),1))","v":""},null,null,null,null,null,null,null,{"$f":"IF(U305=\"\",\"\",INDEX('OTRAS REFERENCIAS'!$H$6:$I$11,MATCH(U305,'OTRAS REFERENCIAS'!$I$6:$I$11,0),1))","v":""},null,null,null,null,{"$f":"IF(Z305=\"\",\"\",INDEX('OTRAS REFERENCIAS'!$K$6:$L$11,MATCH(Z305,'OTRAS REFERENCIAS'!$L$6:$L$11,0),1))","v":""},null,null,null,null,{"$f":"IF(AE305=\"\",\"\",INDEX('OTRAS REFERENCIAS'!$N$6:$O$11,MATCH(AE305,'OTRAS REFERENCIAS'!$O$6:$O$11,0),1))","v":""},null,null,null,null,{"$f":"IF(AJ305=\"\",\"\",INDEX('OTRAS REFERENCIAS'!$Q$6:$R$11,MATCH(AJ305,'OTRAS REFERENCIAS'!$R$6:$R$11,0),1))","v":""},null,null,null,{"$f":"IF(AN305=\"\",\"\",INDEX('OTRAS REFERENCIAS'!$T$6:$U$11,MATCH(AN305,'OTRAS REFERENCIAS'!$U$6:$U$11,0),1))","v":""}]
[1,"",304,"","",{"$f":"IF(L306<>\"\",CONCATENATE(DIGITADOR!$B$2,$A$2,DIGITADOR!$M$1,A306),\"\")","v":""},null,null,"",{"$f":"IF(K306=\"\",\"\",INDEX('OTRAS REFERENCIAS'!$AL:$AM,MATCH(K306,'OTRAS REFERENCIAS'!$AL:$AL,0),2))","v":""},null,{"$f":"IF(J306=\"\",\"\",INDEX(referentes!$S:$W,MATCH(J306,referentes!$S:$S,0),1))","v":""},null,null,null,null,null,null,null,{"$f":"IF(U306=\"\",\"\",INDEX('OTRAS REFERENCIAS'!$H$6:$I$11,MATCH(U306,'OTRAS REFERENCIAS'!$I$6:$I$11,0),1))","v":""},null,null,null,null,{"$f":"IF(Z306=\"\",\"\",INDEX('OTRAS REFERENCIAS'!$K$6:$L$11,MATCH(Z306,'OTRAS REFERENCIAS'!$L$6:$L$11,0),1))","v":""},null,null,null,null,{"$f":"IF(AE306=\"\",\"\",INDEX('OTRAS REFERENCIAS'!$N$6:$O$11,MATCH(AE306,'OTRAS REFERENCIAS'!$O$6:$O$11,0),1))","v":""},null,null,null,null,{"$f":"IF(AJ306=\"\",\"\",INDEX('OTRAS REFERENCIAS'!$Q$6:$R$11,MATCH(AJ306,'OTRAS REFERENCIAS'!$R$6:$R$11,0),1))","v":""},null,null,null,{"$f":"IF(AN306=\"\",\"\",INDEX('OTRAS REFERENCIAS'!$T$6:$U$11,MATCH(AN306,'OTRAS REFERENCIAS'!$U$6:$U$11,0),1))","v":""}]
[1,"",305,"","",{"$f":"IF(L307<>\"\",CONCATENATE(DIGITADOR!$B$2,$A$2,DIGITADOR!$M$1,A307),\"\")","v":""},null,null,"",{"$f":"IF(K307=\"\",\"\",INDEX('OTRAS REFERENCIAS'!$AL:$AM,MATCH(K307,'OTRAS REFERENCIAS'!$AL:$AL,0),2))","v":""},null,{"$f":"IF(J307=\"\",\"\",INDEX(referentes!$S:$W,MATCH(J307,referentes!$S:$S,0),1))","v":""},null,null,null,null,null,null,null,{"$f":"IF(U307=\"\",\"\",INDEX('OTRAS REFERENCIAS'!$H$6:$I$11,MATCH(U307,'OTRAS REFERENCIAS'!$I$6:$I$11,0),1))","v":""},null,null,null,null,{"$f":"IF(Z307=\"\",\"\",INDEX('OTRAS REFERENCIAS'!$K$6:$L$11,MATCH(Z307,'OTRAS REFERENCIAS'!$L$6:$L$11,0),1))","v":""},null,null,null,null,{"$f":"IF(AE307=\"\",\"\",INDEX('OTRAS REFERENCIAS'!$N$6:$O$11,MATCH(AE307,'OTRAS REFERENCIAS'!$O$6:$O$11,0),1))","v":""},null,null,null,null,{"$f":"IF(AJ307=\"\",\"\",INDEX('OTRAS REFERENCIAS'!$Q$6:$R$11,MATCH(AJ307,'OTRAS REFERENCIAS'!$R$6:$R$11,0),1))","v":""},null,null,null,{"$f":"IF(AN307=\"\",\"\",INDEX('OTRAS REFERENCIAS'!$T$6:$U$11,MATCH(AN307,'OTRAS REFERENCIAS'!$U$6:$U$11,0),1))","v":""}]
[1,"",306,"","",{"$f":"IF(L308<>\"\",CONCATENATE(DIGITADOR!$B$2,$A$2,DIGITADOR!$M$1,A308),\"\")","v":""},null,null,"",{"$f":"IF(K308=\"\",\"\",INDEX('OTRAS REFERENCIAS'!$AL:$AM,MATCH(K308,'OTRAS REFERENCIAS'!$AL:$AL,0),2))","v":""},null,{"$f":"IF(J308=\"\",\"\",INDEX(referentes!$S:$W,MATCH(J308,referentes!$S:$S,0),1))","v":""},null,null,null,null,null,null,null,{"$f":"IF(U308=\"\",\"\",INDEX('OTRAS REFERENCIAS'!$H$6:$I$11,MATCH(U308,'OTRAS REFERENCIAS'!$I$6:$I$11,0),1))","v":""},null,null,null,null,{"$f":"IF(Z308=\"\",\"\",INDEX('OTRAS REFERENCIAS'!$K$6:$L$11,MATCH(Z308,'OTRAS REFERENCIAS'!$L$6:$L$11,0),1))","v":""},null,null,null,null,{"$f":"IF(AE308=\"\",\"\",INDEX('OTRAS REFERENCIAS'!$N$6:$O$11,MATCH(AE308,'OTRAS REFERENCIAS'!$O$6:$O$11,0),1))","v":""},null,null,null,null,{"$f":"IF(AJ308=\"\",\"\",INDEX('OTRAS REFERENCIAS'!$Q$6:$R$11,MATCH(AJ308,'OTRAS REFERENCIAS'!$R$6:$R$11,0),1))","v":""},null,null,null,{"$f":"IF(AN308=\"\",\"\",INDEX('OTRAS REFERENCIAS'!$T$6:$U$11,MATCH(AN308,'OTRAS REFERENCIAS'!$U$6:$U$11,0),1))","v":""}]
[1,"",307,"","",{"$f":"IF(L309<>\"\",CONCATENATE(DIGITADOR!$B$2,$A$2,DIGITADOR!$M$1,A309),\"\")","v":""},null,null,"",{"$f":"IF(K309=\"\",\"\",INDEX('OTRAS REFERENCIAS'!$AL:$AM,MATCH(K309,'OTRAS REFERENCIAS'!$AL:$AL,0),2))","v":""},null,{"$f":"IF(J309=\"\",\"\",INDEX(referentes!$S:$W,MATCH(J309,referentes!$S:$S,0),1))","v":""},null,null,null,null,null,null,null,{"$f":"IF(U309=\"\",\"\",INDEX('OTRAS REFERENCIAS'!$H$6:$I$11,MATCH(U309,'OTRAS REFERENCIAS'!$I$6:$I$11,0),1))","v":""},null,null,null,null,{"$f":"IF(Z309=\"\",\"\",INDEX('OTRAS REFERENCIAS'!$K$6:$L$11,MATCH(Z309,'OTRAS REFERENCIAS'!$L$6:$L$11,0),1))","v":""},null,null,null,null,{"$f":"IF(AE309=\"\",\"\",INDEX('OTRAS REFERENCIAS'!$N$6:$O$11,MATCH(AE309,'OTRAS REFERENCIAS'!$O$6:$O$11,0),1))","v":""},null,null,null,null,{"$f":"IF(AJ309=\"\",\"\",INDEX('OTRAS REFERENCIAS'!$Q$6:$R$11,MATCH(AJ309,'OTRAS REFERENCIAS'!$R$6:$R$11,0),1))","v":""},null,null,null,{"$f":"IF(AN309=\"\",\"\",INDEX('OTRAS REFERENCIAS'!$T$6:$U$11,MATCH(AN309,'OTRAS REFERENCIAS'!$U$6:$U$11,0),1))","v":""}]
[1,"",308,"","",{"$f":"IF(L310<>\"\",CONCATENATE(DIGITADOR!$B$2,$A$2,DIGITADOR!$M$1,A310),\"\")","v":""},null,null,"",{"$f":"IF(K310=\"\",\"\",INDEX('OTRAS REFERENCIAS'!$AL:$AM,MATCH(K310,'OTRAS REFERENCIAS'!$AL:$AL,0),2))","v":""},null,{"$f":"IF(J310=\"\",\"\",INDEX(referentes!$S:$W,MATCH(J310,referentes!$S:$S,0),1))","v":""},null,null,null,null,null,null,null,{"$f":"IF(U310=\"\",\"\",INDEX('OTRAS REFERENCIAS'!$H$6:$I$11,MATCH(U310,'OTRAS REFERENCIAS'!$I$6:$I$11,0),1))","v":""},null,null,null,null,{"$f":"IF(Z310=\"\",\"\",INDEX('OTRAS REFERENCIAS'!$K$6:$L$11,MATCH(Z310,'OTRAS REFERENCIAS'!$L$6:$L$11,0),1))","v":""},null,null,null,null,{"$f":"IF(AE310=\"\",\"\",INDEX('OTRAS REFERENCIAS'!$N$6:$O$11,MATCH(AE310,'OTRAS REFERENCIAS'!$O$6:$O$11,0),1))","v":""},null,null,null,null,{"$f":"IF(AJ310=\"\",\"\",INDEX('OTRAS REFERENCIAS'!$Q$6:$R$11,MATCH(AJ310,'OTRAS REFERENCIAS'!$R$6:$R$11,0),1))","v":""},null,null,null,{"$f":"IF(AN310=\"\",\"\",INDEX('OTRAS REFERENCIAS'!$T$6:$U$11,MATCH(AN310,'OTRAS REFERENCIAS'!$U$6:$U$11,0),1))","v":""}]
[1,"",309,"","",{"$f":"IF(L311<>\"\",CONCATENATE(DIGITADOR!$B$2,$A$2,DIGITADOR!$M$1,A311),\"\")","v":""},null,null,"",{"$f":"IF(K311=\"\",\"\",INDEX('OTRAS REFERENCIAS'!$AL:$AM,MATCH(K311,'OTRAS REFERENCIAS'!$AL:$AL,0),2))","v":""},null,{"$f":"IF(J311=\"\",\"\",INDEX(referentes!$S:$W,MATCH(J311,referentes!$S:$S,0),1))","v":""},null,null,null,null,null,null,null,{"$f":"IF(U311=\"\",\"\",INDEX('OTRAS REFERENCIAS'!$H$6:$I$11,MATCH(U311,'OTRAS REFERENCIAS'!$I$6:$I$11,0),1))","v":""},null,null,null,null,{"$f":"IF(Z311=\"\",\"\",INDEX('OTRAS REFERENCIAS'!$K$6:$L$11,MATCH(Z311,'OTRAS REFERENCIAS'!$L$6:$L$11,0),1))","v":""},null,null,null,null,{"$f":"IF(AE311=\"\",\"\",INDEX('OTRAS REFERENCIAS'!$N$6:$O$11,MATCH(AE311,'OTRAS REFERENCIAS'!$O$6:$O$11,0),1))","v":""},null,null,null,null,{"$f":"IF(AJ311=\"\",\"\",INDEX('OTRAS REFERENCIAS'!$Q$6:$R$11,MATCH(AJ311,'OTRAS REFERENCIAS'!$R$6:$R$11,0),1))","v":""},null,null,null,{"$f":"IF(AN311=\"\",\"\",INDEX('OTRAS REFERENCIAS'!$T$6:$U$11,MATCH(AN311,'OTRAS REFERENCIAS'!$U$6:$U$11,0),1))","v":""}]
[1,"",310,"","",{"$f":"IF(L312<>\"\",CONCATENATE(DIGITADOR!$B$2,$A$2,DIGITADOR!$M$1,A312),\"\")","v":""},null,null,"",{"$f":"IF(K312=\"\",\"\",INDEX('OTRAS REFERENCIAS'!$AL:$AM,MATCH(K312,'OTRAS REFERENCIAS'!$AL:$AL,0),2))","v":""},null,{"$f":"IF(J312=\"\",\"\",INDEX(referentes!$S:$W,MATCH(J312,referentes!$S:$S,0),1))","v":""},null,null,null,null,null,null,null,{"$f":"IF(U312=\"\",\"\",INDEX('OTRAS REFERENCIAS'!$H$6:$I$11,MATCH(U312,'OTRAS REFERENCIAS'!$I$6:$I$11,0),1))","v":""},null,null,null,null,{"$f":"IF(Z312=\"\",\"\",INDEX('OTRAS REFERENCIAS'!$K$6:$L$11,MATCH(Z312,'OTRAS REFERENCIAS'!$L$6:$L$11,0),1))","v":""},null,null,null,null,{"$f":"IF(AE312=\"\",\"\",INDEX('OTRAS REFERENCIAS'!$N$6:$O$11,MATCH(AE312,'OTRAS REFERENCIAS'!$O$6:$O$11,0),1))","v":""},null,null,null,null,{"$f":"IF(AJ312=\"\",\"\",INDEX('OTRAS REFERENCIAS'!$Q$6:$R$11,MATCH(AJ312,'OTRAS REFERENCIAS'!$R$6:$R$11,0),1))","v":""},null,null,null,{"$f":"IF(AN312=\"\",\"\",INDEX('OTRAS REFERENCIAS'!$T$6:$U$11,MATCH(AN312,'OTRAS REFERENCIAS'!$U$6:$U$11,0),1))","v":""}]
[1,"",311,"","",{"$f":"IF(L313<>\"\",CONCATENATE(DIGITADOR!$B$2,$A$2,DIGITADOR!$M$1,A313),\"\")","v":""},null,null,"",{"$f":"IF(K313=\"\",\"\",INDEX('OTRAS REFERENCIAS'!$AL:$AM,MATCH(K313,'OTRAS REFERENCIAS'!$AL:$AL,0),2))","v":""},null,{"$f":"IF(J313=\"\",\"\",INDEX(referentes!$S:$W,MATCH(J313,referentes!$S:$S,0),1))","v":""},null,null,null,null,null,null,null,{"$f":"IF(U313=\"\",\"\",INDEX('OTRAS REFERENCIAS'!$H$6:$I$11,MATCH(U313,'OTRAS REFERENCIAS'!$I$6:$I$11,0),1))","v":""},null,null,null,null,{"$f":"IF(Z313=\"\",\"\",INDEX('OTRAS REFERENCIAS'!$K$6:$L$11,MATCH(Z313,'OTRAS REFERENCIAS'!$L$6:$L$11,0),1))","v":""},null,null,null,null,{"$f":"IF(AE313=\"\",\"\",INDEX('OTRAS REFERENCIAS'!$N$6:$O$11,MATCH(AE313,'OTRAS REFERENCIAS'!$O$6:$O$11,0),1))","v":""},null,null,null,null,{"$f":"IF(AJ313=\"\",\"\",INDEX('OTRAS REFERENCIAS'!$Q$6:$R$11,MATCH(AJ313,'OTRAS REFERENCIAS'!$R$6:$R$11,0),1))","v":""},null,null,null,{"$f":"IF(AN313=\"\",\"\",INDEX('OTRAS REFERENCIAS'!$T$6:$U$11,MATCH(AN313,'OTRAS REFERENCIAS'!$U$6:$U$11,0),1))","v":""}]
[1,"",312,"","",{"$f":"IF(L314<>\"\",CONCATENATE(DIGITADOR!$B$2,$A$2,DIGITADOR!$M$1,A314),\"\")","v":""},null,null,"",{"$f":"IF(K314=\"\",\"\",INDEX('OTRAS REFERENCIAS'!$AL:$AM,MATCH(K314,'OTRAS REFERENCIAS'!$AL:$AL,0),2))","v":""},null,{"$f":"IF(J314=\"\",\"\",INDEX(referentes!$S:$W,MATCH(J314,referentes!$S:$S,0),1))","v":""},null,null,null,null,null,null,null,{"$f":"IF(U314=\"\",\"\",INDEX('OTRAS REFERENCIAS'!$H$6:$I$11,MATCH(U314,'OTRAS REFERENCIAS'!$I$6:$I$11,0),1))","v":""},null,null,null,null,{"$f":"IF(Z314=\"\",\"\",INDEX('OTRAS REFERENCIAS'!$K$6:$L$11,MATCH(Z314,'OTRAS REFERENCIAS'!$L$6:$L$11,0),1))","v":""},null,null,null,null,{"$f":"IF(AE314=\"\",\"\",INDEX('OTRAS REFERENCIAS'!$N$6:$O$11,MATCH(AE314,'OTRAS REFERENCIAS'!$O$6:$O$11,0),1))","v":""},null,null,null,null,{"$f":"IF(AJ314=\"\",\"\",INDEX('OTRAS REFERENCIAS'!$Q$6:$R$11,MATCH(AJ314,'OTRAS REFERENCIAS'!$R$6:$R$11,0),1))","v":""},null,null,null,{"$f":"IF(AN314=\"\",\"\",INDEX('OTRAS REFERENCIAS'!$T$6:$U$11,MATCH(AN314,'OTRAS REFERENCIAS'!$U$6:$U$11,0),1))","v":""}]
[1,"",313,"","",{"$f":"IF(L315<>\"\",CONCATENATE(DIGITADOR!$B$2,$A$2,DIGITADOR!$M$1,A315),\"\")","v":""},null,null,"",{"$f":"IF(K315=\"\",\"\",INDEX('OTRAS REFERENCIAS'!$AL:$AM,MATCH(K315,'OTRAS REFERENCIAS'!$AL:$AL,0),2))","v":""},null,{"$f":"IF(J315=\"\",\"\",INDEX(referentes!$S:$W,MATCH(J315,referentes!$S:$S,0),1))","v":""},null,null,null,null,null,null,null,{"$f":"IF(U315=\"\",\"\",INDEX('OTRAS REFERENCIAS'!$H$6:$I$11,MATCH(U315,'OTRAS REFERENCIAS'!$I$6:$I$11,0),1))","v":""},null,null,null,null,{"$f":"IF(Z315=\"\",\"\",INDEX('OTRAS REFERENCIAS'!$K$6:$L$11,MATCH(Z315,'OTRAS REFERENCIAS'!$L$6:$L$11,0),1))","v":""},null,null,null,null,{"$f":"IF(AE315=\"\",\"\",INDEX('OTRAS REFERENCIAS'!$N$6:$O$11,MATCH(AE315,'OTRAS REFERENCIAS'!$O$6:$O$11,0),1))","v":""},null,null,null,null,{"$f":"IF(AJ315=\"\",\"\",INDEX('OTRAS REFERENCIAS'!$Q$6:$R$11,MATCH(AJ315,'OTRAS REFERENCIAS'!$R$6:$R$11,0),1))","v":""},null,null,null,{"$f":"IF(AN315=\"\",\"\",INDEX('OTRAS REFERENCIAS'!$T$6:$U$11,MATCH(AN315,'OTRAS REFERENCIAS'!$U$6:$U$11,0),1))","v":""}]
[1,"",314,"","",{"$f":"IF(L316<>\"\",CONCATENATE(DIGITADOR!$B$2,$A$2,DIGITADOR!$M$1,A316),\"\")","v":""},null,null,"",{"$f":"IF(K316=\"\",\"\",INDEX('OTRAS REFERENCIAS'!$AL:$AM,MATCH(K316,'OTRAS REFERENCIAS'!$AL:$AL,0),2))","v":""},null,{"$f":"IF(J316=\"\",\"\",INDEX(referentes!$S:$W,MATCH(J316,referentes!$S:$S,0),1))","v":""},null,null,null,null,null,null,null,{"$f":"IF(U316=\"\",\"\",INDEX('OTRAS REFERENCIAS'!$H$6:$I$11,MATCH(U316,'OTRAS REFERENCIAS'!$I$6:$I$11,0),1))","v":""},null,null,null,null,{"$f":"IF(Z316=\"\",\"\",INDEX('OTRAS REFERENCIAS'!$K$6:$L$11,MATCH(Z316,'OTRAS REFERENCIAS'!$L$6:$L$11,0),1))","v":""},null,null,null,null,{"$f":"IF(AE316=\"\",\"\",INDEX('OTRAS REFERENCIAS'!$N$6:$O$11,MATCH(AE316,'OTRAS REFERENCIAS'!$O$6:$O$11,0),1))","v":""},null,null,null,null,{"$f":"IF(AJ316=\"\",\"\",INDEX('OTRAS REFERENCIAS'!$Q$6:$R$11,MATCH(AJ316,'OTRAS REFERENCIAS'!$R$6:$R$11,0),1))","v":""},null,null,null,{"$f":"IF(AN316=\"\",\"\",INDEX('OTRAS REFERENCIAS'!$T$6:$U$11,MATCH(AN316,'OTRAS REFERENCIAS'!$U$6:$U$11,0),1))","v":""}]
[1,"",315,"","",{"$f":"IF(L317<>\"\",CONCATENATE(DIGITADOR!$B$2,$A$2,DIGITADOR!$M$1,A317),\"\")","v":""},null,null,"",{"$f":"IF(K317=\"\",\"\",INDEX('OTRAS REFERENCIAS'!$AL:$AM,MATCH(K317,'OTRAS REFERENCIAS'!$AL:$AL,0),2))","v":""},null,{"$f":"IF(J317=\"\",\"\",INDEX(referentes!$S:$W,MATCH(J317,referentes!$S:$S,0),1))","v":""},null,null,null,null,null,null,null,{"$f":"IF(U317=\"\",\"\",INDEX('OTRAS REFERENCIAS'!$H$6:$I$11,MATCH(U317,'OTRAS REFERENCIAS'!$I$6:$I$11,0),1))","v":""},null,null,null,null,{"$f":"IF(Z317=\"\",\"\",INDEX('OTRAS REFERENCIAS'!$K$6:$L$11,MATCH(Z317,'OTRAS REFERENCIAS'!$L$6:$L$11,0),1))","v":""},null,null,null,null,{"$f":"IF(AE317=\"\",\"\",INDEX('OTRAS REFERENCIAS'!$N$6:$O$11,MATCH(AE317,'OTRAS REFERENCIAS'!$O$6:$O$11,0),1))","v":""},null,null,null,null,{"$f":"IF(AJ317=\"\",\"\",INDEX('OTRAS REFERENCIAS'!$Q$6:$R$11,MATCH(AJ317,'OTRAS REFERENCIAS'!$R$6:$R$11,0),1))","v":""},null,null,null,{"$f":"IF(AN317=\"\",\"\",INDEX('OTRAS REFERENCIAS'!$T$6:$U$11,MATCH(AN317,'OTRAS REFERENCIAS'!$U$6:$U$11,0),1))","v":""}]
[1,"",316,"","",{"$f":"IF(L318<>\"\",CONCATENATE(DIGITADOR!$B$2,$A$2,DIGITADOR!$M$1,A318),\"\")","v":""},null,null,"",{"$f":"IF(K318=\"\",\"\",INDEX('OTRAS REFERENCIAS'!$AL:$AM,MATCH(K318,'OTRAS REFERENCIAS'!$AL:$AL,0),2))","v":""},null,{"$f":"IF(J318=\"\",\"\",INDEX(referentes!$S:$W,MATCH(J318,referentes!$S:$S,0),1))","v":""},null,null,null,null,null,null,null,{"$f":"IF(U318=\"\",\"\",INDEX('OTRAS REFERENCIAS'!$H$6:$I$11,MATCH(U318,'OTRAS REFERENCIAS'!$I$6:$I$11,0),1))","v":""},null,null,null,null,{"$f":"IF(Z318=\"\",\"\",INDEX('OTRAS REFERENCIAS'!$K$6:$L$11,MATCH(Z318,'OTRAS REFERENCIAS'!$L$6:$L$11,0),1))","v":""},null,null,null,null,{"$f":"IF(AE318=\"\",\"\",INDEX('OTRAS REFERENCIAS'!$N$6:$O$11,MATCH(AE318,'OTRAS REFERENCIAS'!$O$6:$O$11,0),1))","v":""},null,null,null,null,{"$f":"IF(AJ318=\"\",\"\",INDEX('OTRAS REFERENCIAS'!$Q$6:$R$11,MATCH(AJ318,'OTRAS REFERENCIAS'!$R$6:$R$11,0),1))","v":""},null,null,null,{"$f":"IF(AN318=\"\",\"\",INDEX('OTRAS REFERENCIAS'!$T$6:$U$11,MATCH(AN318,'OTRAS REFERENCIAS'!$U$6:$U$11,0),1))","v":""}]
[1,"",317,"","",{"$f":"IF(L319<>\"\",CONCATENATE(DIGITADOR!$B$2,$A$2,DIGITADOR!$M$1,A319),\"\")","v":""},null,null,"",{"$f":"IF(K319=\"\",\"\",INDEX('OTRAS REFERENCIAS'!$AL:$AM,MATCH(K319,'OTRAS REFERENCIAS'!$AL:$AL,0),2))","v":""},null,{"$f":"IF(J319=\"\",\"\",INDEX(referentes!$S:$W,MATCH(J319,referentes!$S:$S,0),1))","v":""},null,null,null,null,null,null,null,{"$f":"IF(U319=\"\",\"\",INDEX('OTRAS REFERENCIAS'!$H$6:$I$11,MATCH(U319,'OTRAS REFERENCIAS'!$I$6:$I$11,0),1))","v":""},null,null,null,null,{"$f":"IF(Z319=\"\",\"\",INDEX('OTRAS REFERENCIAS'!$K$6:$L$11,MATCH(Z319,'OTRAS REFERENCIAS'!$L$6:$L$11,0),1))","v":""},null,null,null,null,{"$f":"IF(AE319=\"\",\"\",INDEX('OTRAS REFERENCIAS'!$N$6:$O$11,MATCH(AE319,'OTRAS REFERENCIAS'!$O$6:$O$11,0),1))","v":""},null,null,null,null,{"$f":"IF(AJ319=\"\",\"\",INDEX('OTRAS REFERENCIAS'!$Q$6:$R$11,MATCH(AJ319,'OTRAS REFERENCIAS'!$R$6:$R$11,0),1))","v":""},null,null,null,{"$f":"IF(AN319=\"\",\"\",INDEX('OTRAS REFERENCIAS'!$T$6:$U$11,MATCH(AN319,'OTRAS REFERENCIAS'!$U$6:$U$11,0),1))","v":""}]
[1,"",318,"","",{"$f":"IF(L320<>\"\",CONCATENATE(DIGITADOR!$B$2,$A$2,DIGITADOR!$M$1,A320),\"\")","v":""},null,null,"",{"$f":"IF(K320=\"\",\"\",INDEX('OTRAS REFERENCIAS'!$AL:$AM,MATCH(K320,'OTRAS REFERENCIAS'!$AL:$AL,0),2))","v":""},null,{"$f":"IF(J320=\"\",\"\",INDEX(referentes!$S:$W,MATCH(J320,referentes!$S:$S,0),1))","v":""},null,null,null,null,null,null,null,{"$f":"IF(U320=\"\",\"\",INDEX('OTRAS REFERENCIAS'!$H$6:$I$11,MATCH(U320,'OTRAS REFERENCIAS'!$I$6:$I$11,0),1))","v":""},null,null,null,null,{"$f":"IF(Z320=\"\",\"\",INDEX('OTRAS REFERENCIAS'!$K$6:$L$11,MATCH(Z320,'OTRAS REFERENCIAS'!$L$6:$L$11,0),1))","v":""},null,null,null,null,{"$f":"IF(AE320=\"\",\"\",INDEX('OTRAS REFERENCIAS'!$N$6:$O$11,MATCH(AE320,'OTRAS REFERENCIAS'!$O$6:$O$11,0),1))","v":""},null,null,null,null,{"$f":"IF(AJ320=\"\",\"\",INDEX('OTRAS REFERENCIAS'!$Q$6:$R$11,MATCH(AJ320,'OTRAS REFERENCIAS'!$R$6:$R$11,0),1))","v":""},null,null,null,{"$f":"IF(AN320=\"\",\"\",INDEX('OTRAS REFERENCIAS'!$T$6:$U$11,MATCH(AN320,'OTRAS REFERENCIAS'!$U$6:$U$11,0),1))","v":""}]
[1,"",319,"","",{"$f":"IF(L321<>\"\",CONCATENATE(DIGITADOR!$B$2,$A$2,DIGITADOR!$M$1,A321),\"\")","v":""},null,null,"",{"$f":"IF(K321=\"\",\"\",INDEX('OTRAS REFERENCIAS'!$AL:$AM,MATCH(K321,'OTRAS REFERENCIAS'!$AL:$AL,0),2))","v":""},null,{"$f":"IF(J321=\"\",\"\",INDEX(referentes!$S:$W,MATCH(J321,referentes!$S:$S,0),1))","v":""},null,null,null,null,null,null,null,{"$f":"IF(U321=\"\",\"\",INDEX('OTRAS REFERENCIAS'!$H$6:$I$11,MATCH(U321,'OTRAS REFERENCIAS'!$I$6:$I$11,0),1))","v":""},null,null,null,null,{"$f":"IF(Z321=\"\",\"\",INDEX('OTRAS REFERENCIAS'!$K$6:$L$11,MATCH(Z321,'OTRAS REFERENCIAS'!$L$6:$L$11,0),1))","v":""},null,null,null,null,{"$f":"IF(AE321=\"\",\"\",INDEX('OTRAS REFERENCIAS'!$N$6:$O$11,MATCH(AE321,'OTRAS REFERENCIAS'!$O$6:$O$11,0),1))","v":""},null,null,null,null,{"$f":"IF(AJ321=\"\",\"\",INDEX('OTRAS REFERENCIAS'!$Q$6:$R$11,MATCH(AJ321,'OTRAS REFERENCIAS'!$R$6:$R$11,0),1))","v":""},null,null,null,{"$f":"IF(AN321=\"\",\"\",INDEX('OTRAS REFERENCIAS'!$T$6:$U$11,MATCH(AN321,'OTRAS REFERENCIAS'!$U$6:$U$11,0),1))","v":""}]
[1,"",320,"","",{"$f":"IF(L322<>\"\",CONCATENATE(DIGITADOR!$B$2,$A$2,DIGITADOR!$M$1,A322),\"\")","v":""},null,null,"",{"$f":"IF(K322=\"\",\"\",INDEX('OTRAS REFERENCIAS'!$AL:$AM,MATCH(K322,'OTRAS REFERENCIAS'!$AL:$AL,0),2))","v":""},null,{"$f":"IF(J322=\"\",\"\",INDEX(referentes!$S:$W,MATCH(J322,referentes!$S:$S,0),1))","v":""},null,null,null,null,null,null,null,{"$f":"IF(U322=\"\",\"\",INDEX('OTRAS REFERENCIAS'!$H$6:$I$11,MATCH(U322,'OTRAS REFERENCIAS'!$I$6:$I$11,0),1))","v":""},null,null,null,null,{"$f":"IF(Z322=\"\",\"\",INDEX('OTRAS REFERENCIAS'!$K$6:$L$11,MATCH(Z322,'OTRAS REFERENCIAS'!$L$6:$L$11,0),1))","v":""},null,null,null,null,{"$f":"IF(AE322=\"\",\"\",INDEX('OTRAS REFERENCIAS'!$N$6:$O$11,MATCH(AE322,'OTRAS REFERENCIAS'!$O$6:$O$11,0),1))","v":""},null,null,null,null,{"$f":"IF(AJ322=\"\",\"\",INDEX('OTRAS REFERENCIAS'!$Q$6:$R$11,MATCH(AJ322,'OTRAS REFERENCIAS'!$R$6:$R$11,0),1))","v":""},null,null,null,{"$f":"IF(AN322=\"\",\"\",INDEX('OTRAS REFERENCIAS'!$T$6:$U$11,MATCH(AN322,'OTRAS REFERENCIAS'!$U$6:$U$11,0),1))","v":""}]
[1,"",321,"",{"$f":"CONCATENATE(I323,L323)","v":""},{"$f":"IF(L323<>\"\",CONCATENATE(DIGITADOR!$B$2,$A$2,DIGITADOR!$M$1,A323),\"\")","v":""},null,null,{"$f":"IF(G323<>\"\",G323+H323,\"\")","v":""},{"$f":"IF(K323=\"\",\"\",INDEX('OTRAS REFERENCIAS'!$AL:$AM,MATCH(K323,'OTRAS REFERENCIAS'!$AL:$AL,0),2))","v":""},null,{"$f":"IF(J323=\"\",\"\",INDEX(referentes!$S:$W,MATCH(J323,referentes!$S:$S,0),1))","v":""},null,null,null,null,null,null,null,{"$f":"IF(U323=\"\",\"\",INDEX('OTRAS REFERENCIAS'!$H$6:$I$11,MATCH(U323,'OTRAS REFERENCIAS'!$I$6:$I$11,0),1))","v":""},null,null,null,null,{"$f":"IF(Z323=\"\",\"\",INDEX('OTRAS REFERENCIAS'!$K$6:$L$11,MATCH(Z323,'OTRAS REFERENCIAS'!$L$6:$L$11,0),1))","v":""},null,null,null,null,{"$f":"IF(AE323=\"\",\"\",INDEX('OTRAS REFERENCIAS'!$N$6:$O$11,MATCH(AE323,'OTRAS REFERENCIAS'!$O$6:$O$11,0),1))","v":""},null,null,null,null,{"$f":"IF(AJ323=\"\",\"\",INDEX('OTRAS REFERENCIAS'!$Q$6:$R$11,MATCH(AJ323,'OTRAS REFERENCIAS'!$R$6:$R$11,0),1))","v":""},null,null,null,{"$f":"IF(AN323=\"\",\"\",INDEX('OTRAS REFERENCIAS'!$T$6:$U$11,MATCH(AN323,'OTRAS REFERENCIAS'!$U$6:$U$11,0),1))","v":""}]
[1,"",322,{"$f":"IF(L324=\"\",\"\",CONCATENATE(C324,F324))","v":""},"",{"$f":"IF(L324<>\"\",CONCATENATE(DIGITADOR!$B$2,$A$2,DIGITADOR!$M$1,A324),\"\")","v":""},null,null,"",{"$f":"IF(K324=\"\",\"\",INDEX('OTRAS REFERENCIAS'!$AL:$AM,MATCH(K324,'OTRAS REFERENCIAS'!$AL:$AL,0),2))","v":""},null,{"$f":"IF(J324=\"\",\"\",INDEX(referentes!$S:$W,MATCH(J324,referentes!$S:$S,0),1))","v":""},null,null,null,null,null,null,null,{"$f":"IF(U324=\"\",\"\",INDEX('OTRAS REFERENCIAS'!$H$6:$I$11,MATCH(U324,'OTRAS REFERENCIAS'!$I$6:$I$11,0),1))","v":""},null,null,null,null,{"$f":"IF(Z324=\"\",\"\",INDEX('OTRAS REFERENCIAS'!$K$6:$L$11,MATCH(Z324,'OTRAS REFERENCIAS'!$L$6:$L$11,0),1))","v":""},null,null,null,null,{"$f":"IF(AE324=\"\",\"\",INDEX('OTRAS REFERENCIAS'!$N$6:$O$11,MATCH(AE324,'OTRAS REFERENCIAS'!$O$6:$O$11,0),1))","v":""},null,null,null,null,{"$f":"IF(AJ324=\"\",\"\",INDEX('OTRAS REFERENCIAS'!$Q$6:$R$11,MATCH(AJ324,'OTRAS REFERENCIAS'!$R$6:$R$11,0),1))","v":""},null,null,null,{"$f":"IF(AN324=\"\",\"\",INDEX('OTRAS REFERENCIAS'!$T$6:$U$11,MATCH(AN324,'OTRAS REFERENCIAS'!$U$6:$U$11,0),1))","v":""}]
[{"$f":"IF(L325=L324,A324,A324+1)","v":1},{"$f":"IF(F325<>F324, F325,\"\")","v":""},323,"","",{"$f":"IF(L325<>\"\",CONCATENATE(DIGITADOR!$B$2,$A$2,DIGITADOR!$M$1,A325),\"\")","v":""},null,null,"",{"$f":"IF(K325=\"\",\"\",INDEX('OTRAS REFERENCIAS'!$AL:$AM,MATCH(K325,'OTRAS REFERENCIAS'!$AL:$AL,0),2))","v":""},null,{"$f":"IF(J325=\"\",\"\",INDEX(referentes!$S:$W,MATCH(J325,referentes!$S:$S,0),1))","v":""},null,null,null,null,null,null,null,{"$f":"IF(U325=\"\",\"\",INDEX('OTRAS REFERENCIAS'!$H$6:$I$11,MATCH(U325,'OTRAS REFERENCIAS'!$I$6:$I$11,0),1))","v":""},null,null,null,null,{"$f":"IF(Z325=\"\",\"\",INDEX('OTRAS REFERENCIAS'!$K$6:$L$11,MATCH(Z325,'OTRAS REFERENCIAS'!$L$6:$L$11,0),1))","v":""},null,null,null,null,{"$f":"IF(AE325=\"\",\"\",INDEX('OTRAS REFERENCIAS'!$N$6:$O$11,MATCH(AE325,'OTRAS REFERENCIAS'!$O$6:$O$11,0),1))","v":""},null,null,null,null,{"$f":"IF(AJ325=\"\",\"\",INDEX('OTRAS REFERENCIAS'!$Q$6:$R$11,MATCH(AJ325,'OTRAS REFERENCIAS'!$R$6:$R$11,0),1))","v":""},null,null,null,{"$f":"IF(AN325=\"\",\"\",INDEX('OTRAS REFERENCIAS'!$T$6:$U$11,MATCH(AN325,'OTRAS REFERENCIAS'!$U$6:$U$11,0),1))","v":""}]
[1,"",324,"","",{"$f":"IF(L326<>\"\",CONCATENATE(DIGITADOR!$B$2,$A$2,DIGITADOR!$M$1,A326),\"\")","v":""},null,null,"",{"$f":"IF(K326=\"\",\"\",INDEX('OTRAS REFERENCIAS'!$AL:$AM,MATCH(K326,'OTRAS REFERENCIAS'!$AL:$AL,0),2))","v":""},null,{"$f":"IF(J326=\"\",\"\",INDEX(referentes!$S:$W,MATCH(J326,referentes!$S:$S,0),1))","v":""},null,null,null,null,null,null,null,{"$f":"IF(U326=\"\",\"\",INDEX('OTRAS REFERENCIAS'!$H$6:$I$11,MATCH(U326,'OTRAS REFERENCIAS'!$I$6:$I$11,0),1))","v":""},null,null,null,null,{"$f":"IF(Z326=\"\",\"\",INDEX('OTRAS REFERENCIAS'!$K$6:$L$11,MATCH(Z326,'OTRAS REFERENCIAS'!$L$6:$L$11,0),1))","v":""},null,null,null,null,{"$f":"IF(AE326=\"\",\"\",INDEX('OTRAS REFERENCIAS'!$N$6:$O$11,MATCH(AE326,'OTRAS REFERENCIAS'!$O$6:$O$11,0),1))","v":""},null,null,null,null,{"$f":"IF(AJ326=\"\",\"\",INDEX('OTRAS REFERENCIAS'!$Q$6:$R$11,MATCH(AJ326,'OTRAS REFERENCIAS'!$R$6:$R$11,0),1))","v":""},null,null,null,{"$f":"IF(AN326=\"\",\"\",INDEX('OTRAS REFERENCIAS'!$T$6:$U$11,MATCH(AN326,'OTRAS REFERENCIAS'!$U$6:$U$11,0),1))","v":""}]
[1,"",325,"","",{"$f":"IF(L327<>\"\",CONCATENATE(DIGITADOR!$B$2,$A$2,DIGITADOR!$M$1,A327),\"\")","v":""},null,null,"",{"$f":"IF(K327=\"\",\"\",INDEX('OTRAS REFERENCIAS'!$AL:$AM,MATCH(K327,'OTRAS REFERENCIAS'!$AL:$AL,0),2))","v":""},null,{"$f":"IF(J327=\"\",\"\",INDEX(referentes!$S:$W,MATCH(J327,referentes!$S:$S,0),1))","v":""},null,null,null,null,null,null,null,{"$f":"IF(U327=\"\",\"\",INDEX('OTRAS REFERENCIAS'!$H$6:$I$11,MATCH(U327,'OTRAS REFERENCIAS'!$I$6:$I$11,0),1))","v":""},null,null,null,null,{"$f":"IF(Z327=\"\",\"\",INDEX('OTRAS REFERENCIAS'!$K$6:$L$11,MATCH(Z327,'OTRAS REFERENCIAS'!$L$6:$L$11,0),1))","v":""},null,null,null,null,{"$f":"IF(AE327=\"\",\"\",INDEX('OTRAS REFERENCIAS'!$N$6:$O$11,MATCH(AE327,'OTRAS REFERENCIAS'!$O$6:$O$11,0),1))","v":""},null,null,null,null,{"$f":"IF(AJ327=\"\",\"\",INDEX('OTRAS REFERENCIAS'!$Q$6:$R$11,MATCH(AJ327,'OTRAS REFERENCIAS'!$R$6:$R$11,0),1))","v":""},null,null,null,{"$f":"IF(AN327=\"\",\"\",INDEX('OTRAS REFERENCIAS'!$T$6:$U$11,MATCH(AN327,'OTRAS REFERENCIAS'!$U$6:$U$11,0),1))","v":""}]
[1,"",326,"","",{"$f":"IF(L328<>\"\",CONCATENATE(DIGITADOR!$B$2,$A$2,DIGITADOR!$M$1,A328),\"\")","v":""},null,null,"",{"$f":"IF(K328=\"\",\"\",INDEX('OTRAS REFERENCIAS'!$AL:$AM,MATCH(K328,'OTRAS REFERENCIAS'!$AL:$AL,0),2))","v":""},null,{"$f":"IF(J328=\"\",\"\",INDEX(referentes!$S:$W,MATCH(J328,referentes!$S:$S,0),1))","v":""},null,null,null,null,null,null,null,{"$f":"IF(U328=\"\",\"\",INDEX('OTRAS REFERENCIAS'!$H$6:$I$11,MATCH(U328,'OTRAS REFERENCIAS'!$I$6:$I$11,0),1))","v":""},null,null,null,null,{"$f":"IF(Z328=\"\",\"\",INDEX('OTRAS REFERENCIAS'!$K$6:$L$11,MATCH(Z328,'OTRAS REFERENCIAS'!$L$6:$L$11,0),1))","v":""},null,null,null,null,{"$f":"IF(AE328=\"\",\"\",INDEX('OTRAS REFERENCIAS'!$N$6:$O$11,MATCH(AE328,'OTRAS REFERENCIAS'!$O$6:$O$11,0),1))","v":""},null,null,null,null,{"$f":"IF(AJ328=\"\",\"\",INDEX('OTRAS REFERENCIAS'!$Q$6:$R$11,MATCH(AJ328,'OTRAS REFERENCIAS'!$R$6:$R$11,0),1))","v":""},null,null,null,{"$f":"IF(AN328=\"\",\"\",INDEX('OTRAS REFERENCIAS'!$T$6:$U$11,MATCH(AN328,'OTRAS REFERENCIAS'!$U$6:$U$11,0),1))","v":""}]
[1,"",327,"","",{"$f":"IF(L329<>\"\",CONCATENATE(DIGITADOR!$B$2,$A$2,DIGITADOR!$M$1,A329),\"\")","v":""},null,null,"",{"$f":"IF(K329=\"\",\"\",INDEX('OTRAS REFERENCIAS'!$AL:$AM,MATCH(K329,'OTRAS REFERENCIAS'!$AL:$AL,0),2))","v":""},null,{"$f":"IF(J329=\"\",\"\",INDEX(referentes!$S:$W,MATCH(J329,referentes!$S:$S,0),1))","v":""},null,null,null,null,null,null,null,{"$f":"IF(U329=\"\",\"\",INDEX('OTRAS REFERENCIAS'!$H$6:$I$11,MATCH(U329,'OTRAS REFERENCIAS'!$I$6:$I$11,0),1))","v":""},null,null,null,null,{"$f":"IF(Z329=\"\",\"\",INDEX('OTRAS REFERENCIAS'!$K$6:$L$11,MATCH(Z329,'OTRAS REFERENCIAS'!$L$6:$L$11,0),1))","v":""},null,null,null,null,{"$f":"IF(AE329=\"\",\"\",INDEX('OTRAS REFERENCIAS'!$N$6:$O$11,MATCH(AE329,'OTRAS REFERENCIAS'!$O$6:$O$11,0),1))","v":""},null,null,null,null,{"$f":"IF(AJ329=\"\",\"\",INDEX('OTRAS REFERENCIAS'!$Q$6:$R$11,MATCH(AJ329,'OTRAS REFERENCIAS'!$R$6:$R$11,0),1))","v":""},null,null,null,{"$f":"IF(AN329=\"\",\"\",INDEX('OTRAS REFERENCIAS'!$T$6:$U$11,MATCH(AN329,'OTRAS REFERENCIAS'!$U$6:$U$11,0),1))","v":""}]
[1,"",328,"","",{"$f":"IF(L330<>\"\",CONCATENATE(DIGITADOR!$B$2,$A$2,DIGITADOR!$M$1,A330),\"\")","v":""},null,null,"",{"$f":"IF(K330=\"\",\"\",INDEX('OTRAS REFERENCIAS'!$AL:$AM,MATCH(K330,'OTRAS REFERENCIAS'!$AL:$AL,0),2))","v":""},null,{"$f":"IF(J330=\"\",\"\",INDEX(referentes!$S:$W,MATCH(J330,referentes!$S:$S,0),1))","v":""},null,null,null,null,null,null,null,{"$f":"IF(U330=\"\",\"\",INDEX('OTRAS REFERENCIAS'!$H$6:$I$11,MATCH(U330,'OTRAS REFERENCIAS'!$I$6:$I$11,0),1))","v":""},null,null,null,null,{"$f":"IF(Z330=\"\",\"\",INDEX('OTRAS REFERENCIAS'!$K$6:$L$11,MATCH(Z330,'OTRAS REFERENCIAS'!$L$6:$L$11,0),1))","v":""},null,null,null,null,{"$f":"IF(AE330=\"\",\"\",INDEX('OTRAS REFERENCIAS'!$N$6:$O$11,MATCH(AE330,'OTRAS REFERENCIAS'!$O$6:$O$11,0),1))","v":""},null,null,null,null,{"$f":"IF(AJ330=\"\",\"\",INDEX('OTRAS REFERENCIAS'!$Q$6:$R$11,MATCH(AJ330,'OTRAS REFERENCIAS'!$R$6:$R$11,0),1))","v":""},null,null,null,{"$f":"IF(AN330=\"\",\"\",INDEX('OTRAS REFERENCIAS'!$T$6:$U$11,MATCH(AN330,'OTRAS REFERENCIAS'!$U$6:$U$11,0),1))","v":""}]
[1,"",329,"","",{"$f":"IF(L331<>\"\",CONCATENATE(DIGITADOR!$B$2,$A$2,DIGITADOR!$M$1,A331),\"\")","v":""},null,null,"",{"$f":"IF(K331=\"\",\"\",INDEX('OTRAS REFERENCIAS'!$AL:$AM,MATCH(K331,'OTRAS REFERENCIAS'!$AL:$AL,0),2))","v":""},null,{"$f":"IF(J331=\"\",\"\",INDEX(referentes!$S:$W,MATCH(J331,referentes!$S:$S,0),1))","v":""},null,null,null,null,null,null,null,{"$f":"IF(U331=\"\",\"\",INDEX('OTRAS REFERENCIAS'!$H$6:$I$11,MATCH(U331,'OTRAS REFERENCIAS'!$I$6:$I$11,0),1))","v":""},null,null,null,null,{"$f":"IF(Z331=\"\",\"\",INDEX('OTRAS REFERENCIAS'!$K$6:$L$11,MATCH(Z331,'OTRAS REFERENCIAS'!$L$6:$L$11,0),1))","v":""},null,null,null,null,{"$f":"IF(AE331=\"\",\"\",INDEX('OTRAS REFERENCIAS'!$N$6:$O$11,MATCH(AE331,'OTRAS REFERENCIAS'!$O$6:$O$11,0),1))","v":""},null,null,null,null,{"$f":"IF(AJ331=\"\",\"\",INDEX('OTRAS REFERENCIAS'!$Q$6:$R$11,MATCH(AJ331,'OTRAS REFERENCIAS'!$R$6:$R$11,0),1))","v":""},null,null,null,{"$f":"IF(AN331=\"\",\"\",INDEX('OTRAS REFERENCIAS'!$T$6:$U$11,MATCH(AN331,'OTRAS REFERENCIAS'!$U$6:$U$11,0),1))","v":""}]
[1,"",330,"","",{"$f":"IF(L332<>\"\",CONCATENATE(DIGITADOR!$B$2,$A$2,DIGITADOR!$M$1,A332),\"\")","v":""},null,null,"",{"$f":"IF(K332=\"\",\"\",INDEX('OTRAS REFERENCIAS'!$AL:$AM,MATCH(K332,'OTRAS REFERENCIAS'!$AL:$AL,0),2))","v":""},null,{"$f":"IF(J332=\"\",\"\",INDEX(referentes!$S:$W,MATCH(J332,referentes!$S:$S,0),1))","v":""},null,null,null,null,null,null,null,{"$f":"IF(U332=\"\",\"\",INDEX('OTRAS REFERENCIAS'!$H$6:$I$11,MATCH(U332,'OTRAS REFERENCIAS'!$I$6:$I$11,0),1))","v":""},null,null,null,null,{"$f":"IF(Z332=\"\",\"\",INDEX('OTRAS REFERENCIAS'!$K$6:$L$11,MATCH(Z332,'OTRAS REFERENCIAS'!$L$6:$L$11,0),1))","v":""},null,null,null,null,{"$f":"IF(AE332=\"\",\"\",INDEX('OTRAS REFERENCIAS'!$N$6:$O$11,MATCH(AE332,'OTRAS REFERENCIAS'!$O$6:$O$11,0),1))","v":""},null,null,null,null,{"$f":"IF(AJ332=\"\",\"\",INDEX('OTRAS REFERENCIAS'!$Q$6:$R$11,MATCH(AJ332,'OTRAS REFERENCIAS'!$R$6:$R$11,0),1))","v":""},null,null,null,{"$f":"IF(AN332=\"\",\"\",INDEX('OTRAS REFERENCIAS'!$T$6:$U$11,MATCH(AN332,'OTRAS REFERENCIAS'!$U$6:$U$11,0),1))","v":""}]
[1,"",331,"","",{"$f":"IF(L333<>\"\",CONCATENATE(DIGITADOR!$B$2,$A$2,DIGITADOR!$M$1,A333),\"\")","v":""},null,null,"",{"$f":"IF(K333=\"\",\"\",INDEX('OTRAS REFERENCIAS'!$AL:$AM,MATCH(K333,'OTRAS REFERENCIAS'!$AL:$AL,0),2))","v":""},null,{"$f":"IF(J333=\"\",\"\",INDEX(referentes!$S:$W,MATCH(J333,referentes!$S:$S,0),1))","v":""},null,null,null,null,null,null,null,{"$f":"IF(U333=\"\",\"\",INDEX('OTRAS REFERENCIAS'!$H$6:$I$11,MATCH(U333,'OTRAS REFERENCIAS'!$I$6:$I$11,0),1))","v":""},null,null,null,null,{"$f":"IF(Z333=\"\",\"\",INDEX('OTRAS REFERENCIAS'!$K$6:$L$11,MATCH(Z333,'OTRAS REFERENCIAS'!$L$6:$L$11,0),1))","v":""},null,null,null,null,{"$f":"IF(AE333=\"\",\"\",INDEX('OTRAS REFERENCIAS'!$N$6:$O$11,MATCH(AE333,'OTRAS REFERENCIAS'!$O$6:$O$11,0),1))","v":""},null,null,null,null,{"$f":"IF(AJ333=\"\",\"\",INDEX('OTRAS REFERENCIAS'!$Q$6:$R$11,MATCH(AJ333,'OTRAS REFERENCIAS'!$R$6:$R$11,0),1))","v":""},null,null,null,{"$f":"IF(AN333=\"\",\"\",INDEX('OTRAS REFERENCIAS'!$T$6:$U$11,MATCH(AN333,'OTRAS REFERENCIAS'!$U$6:$U$11,0),1))","v":""}]
[1,"",332,"","",{"$f":"IF(L334<>\"\",CONCATENATE(DIGITADOR!$B$2,$A$2,DIGITADOR!$M$1,A334),\"\")","v":""},null,null,"",{"$f":"IF(K334=\"\",\"\",INDEX('OTRAS REFERENCIAS'!$AL:$AM,MATCH(K334,'OTRAS REFERENCIAS'!$AL:$AL,0),2))","v":""},null,{"$f":"IF(J334=\"\",\"\",INDEX(referentes!$S:$W,MATCH(J334,referentes!$S:$S,0),1))","v":""},null,null,null,null,null,null,null,{"$f":"IF(U334=\"\",\"\",INDEX('OTRAS REFERENCIAS'!$H$6:$I$11,MATCH(U334,'OTRAS REFERENCIAS'!$I$6:$I$11,0),1))","v":""},null,null,null,null,{"$f":"IF(Z334=\"\",\"\",INDEX('OTRAS REFERENCIAS'!$K$6:$L$11,MATCH(Z334,'OTRAS REFERENCIAS'!$L$6:$L$11,0),1))","v":""},null,null,null,null,{"$f":"IF(AE334=\"\",\"\",INDEX('OTRAS REFERENCIAS'!$N$6:$O$11,MATCH(AE334,'OTRAS REFERENCIAS'!$O$6:$O$11,0),1))","v":""},null,null,null,null,{"$f":"IF(AJ334=\"\",\"\",INDEX('OTRAS REFERENCIAS'!$Q$6:$R$11,MATCH(AJ334,'OTRAS REFERENCIAS'!$R$6:$R$11,0),1))","v":""},null,null,null,{"$f":"IF(AN334=\"\",\"\",INDEX('OTRAS REFERENCIAS'!$T$6:$U$11,MATCH(AN334,'OTRAS REFERENCIAS'!$U$6:$U$11,0),1))","v":""}]
[1,"",333,"","",{"$f":"IF(L335<>\"\",CONCATENATE(DIGITADOR!$B$2,$A$2,DIGITADOR!$M$1,A335),\"\")","v":""},null,null,"",{"$f":"IF(K335=\"\",\"\",INDEX('OTRAS REFERENCIAS'!$AL:$AM,MATCH(K335,'OTRAS REFERENCIAS'!$AL:$AL,0),2))","v":""},null,{"$f":"IF(J335=\"\",\"\",INDEX(referentes!$S:$W,MATCH(J335,referentes!$S:$S,0),1))","v":""},null,null,null,null,null,null,null,{"$f":"IF(U335=\"\",\"\",INDEX('OTRAS REFERENCIAS'!$H$6:$I$11,MATCH(U335,'OTRAS REFERENCIAS'!$I$6:$I$11,0),1))","v":""},null,null,null,null,{"$f":"IF(Z335=\"\",\"\",INDEX('OTRAS REFERENCIAS'!$K$6:$L$11,MATCH(Z335,'OTRAS REFERENCIAS'!$L$6:$L$11,0),1))","v":""},null,null,null,null,{"$f":"IF(AE335=\"\",\"\",INDEX('OTRAS REFERENCIAS'!$N$6:$O$11,MATCH(AE335,'OTRAS REFERENCIAS'!$O$6:$O$11,0),1))","v":""},null,null,null,null,{"$f":"IF(AJ335=\"\",\"\",INDEX('OTRAS REFERENCIAS'!$Q$6:$R$11,MATCH(AJ335,'OTRAS REFERENCIAS'!$R$6:$R$11,0),1))","v":""},null,null,null,{"$f":"IF(AN335=\"\",\"\",INDEX('OTRAS REFERENCIAS'!$T$6:$U$11,MATCH(AN335,'OTRAS REFERENCIAS'!$U$6:$U$11,0),1))","v":""}]
[1,"",334,"","",{"$f":"IF(L336<>\"\",CONCATENATE(DIGITADOR!$B$2,$A$2,DIGITADOR!$M$1,A336),\"\")","v":""},null,null,"",{"$f":"IF(K336=\"\",\"\",INDEX('OTRAS REFERENCIAS'!$AL:$AM,MATCH(K336,'OTRAS REFERENCIAS'!$AL:$AL,0),2))","v":""},null,{"$f":"IF(J336=\"\",\"\",INDEX(referentes!$S:$W,MATCH(J336,referentes!$S:$S,0),1))","v":""},null,null,null,null,null,null,null,{"$f":"IF(U336=\"\",\"\",INDEX('OTRAS REFERENCIAS'!$H$6:$I$11,MATCH(U336,'OTRAS REFERENCIAS'!$I$6:$I$11,0),1))","v":""},null,null,null,null,{"$f":"IF(Z336=\"\",\"\",INDEX('OTRAS REFERENCIAS'!$K$6:$L$11,MATCH(Z336,'OTRAS REFERENCIAS'!$L$6:$L$11,0),1))","v":""},null,null,null,null,{"$f":"IF(AE336=\"\",\"\",INDEX('OTRAS REFERENCIAS'!$N$6:$O$11,MATCH(AE336,'OTRAS REFERENCIAS'!$O$6:$O$11,0),1))","v":""},null,null,null,null,{"$f":"IF(AJ336=\"\",\"\",INDEX('OTRAS REFERENCIAS'!$Q$6:$R$11,MATCH(AJ336,'OTRAS REFERENCIAS'!$R$6:$R$11,0),1))","v":""},null,null,null,{"$f":"IF(AN336=\"\",\"\",INDEX('OTRAS REFERENCIAS'!$T$6:$U$11,MATCH(AN336,'OTRAS REFERENCIAS'!$U$6:$U$11,0),1))","v":""}]
[1,"",335,"","",{"$f":"IF(L337<>\"\",CONCATENATE(DIGITADOR!$B$2,$A$2,DIGITADOR!$M$1,A337),\"\")","v":""},null,null,"",{"$f":"IF(K337=\"\",\"\",INDEX('OTRAS REFERENCIAS'!$AL:$AM,MATCH(K337,'OTRAS REFERENCIAS'!$AL:$AL,0),2))","v":""},null,{"$f":"IF(J337=\"\",\"\",INDEX(referentes!$S:$W,MATCH(J337,referentes!$S:$S,0),1))","v":""},null,null,null,null,null,null,null,{"$f":"IF(U337=\"\",\"\",INDEX('OTRAS REFERENCIAS'!$H$6:$I$11,MATCH(U337,'OTRAS REFERENCIAS'!$I$6:$I$11,0),1))","v":""},null,null,null,null,{"$f":"IF(Z337=\"\",\"\",INDEX('OTRAS REFERENCIAS'!$K$6:$L$11,MATCH(Z337,'OTRAS REFERENCIAS'!$L$6:$L$11,0),1))","v":""},null,null,null,null,{"$f":"IF(AE337=\"\",\"\",INDEX('OTRAS REFERENCIAS'!$N$6:$O$11,MATCH(AE337,'OTRAS REFERENCIAS'!$O$6:$O$11,0),1))","v":""},null,null,null,null,{"$f":"IF(AJ337=\"\",\"\",INDEX('OTRAS REFERENCIAS'!$Q$6:$R$11,MATCH(AJ337,'OTRAS REFERENCIAS'!$R$6:$R$11,0),1))","v":""},null,null,null,{"$f":"IF(AN337=\"\",\"\",INDEX('OTRAS REFERENCIAS'!$T$6:$U$11,MATCH(AN337,'OTRAS REFERENCIAS'!$U$6:$U$11,0),1))","v":""}]
[1,"",336,"","",{"$f":"IF(L338<>\"\",CONCATENATE(DIGITADOR!$B$2,$A$2,DIGITADOR!$M$1,A338),\"\")","v":""},null,null,"",{"$f":"IF(K338=\"\",\"\",INDEX('OTRAS REFERENCIAS'!$AL:$AM,MATCH(K338,'OTRAS REFERENCIAS'!$AL:$AL,0),2))","v":""},null,{"$f":"IF(J338=\"\",\"\",INDEX(referentes!$S:$W,MATCH(J338,referentes!$S:$S,0),1))","v":""},null,null,null,null,null,null,null,{"$f":"IF(U338=\"\",\"\",INDEX('OTRAS REFERENCIAS'!$H$6:$I$11,MATCH(U338,'OTRAS REFERENCIAS'!$I$6:$I$11,0),1))","v":""},null,null,null,null,{"$f":"IF(Z338=\"\",\"\",INDEX('OTRAS REFERENCIAS'!$K$6:$L$11,MATCH(Z338,'OTRAS REFERENCIAS'!$L$6:$L$11,0),1))","v":""},null,null,null,null,{"$f":"IF(AE338=\"\",\"\",INDEX('OTRAS REFERENCIAS'!$N$6:$O$11,MATCH(AE338,'OTRAS REFERENCIAS'!$O$6:$O$11,0),1))","v":""},null,null,null,null,{"$f":"IF(AJ338=\"\",\"\",INDEX('OTRAS REFERENCIAS'!$Q$6:$R$11,MATCH(AJ338,'OTRAS REFERENCIAS'!$R$6:$R$11,0),1))","v":""},null,null,null,{"$f":"IF(AN338=\"\",\"\",INDEX('OTRAS REFERENCIAS'!$T$6:$U$11,MATCH(AN338,'OTRAS REFERENCIAS'!$U$6:$U$11,0),1))","v":""}]
[1,"",337,"","",{"$f":"IF(L339<>\"\",CONCATENATE(DIGITADOR!$B$2,$A$2,DIGITADOR!$M$1,A339),\"\")","v":""},null,null,"",{"$f":"IF(K339=\"\",\"\",INDEX('OTRAS REFERENCIAS'!$AL:$AM,MATCH(K339,'OTRAS REFERENCIAS'!$AL:$AL,0),2))","v":""},null,{"$f":"IF(J339=\"\",\"\",INDEX(referentes!$S:$W,MATCH(J339,referentes!$S:$S,0),1))","v":""},null,null,null,null,null,null,null,{"$f":"IF(U339=\"\",\"\",INDEX('OTRAS REFERENCIAS'!$H$6:$I$11,MATCH(U339,'OTRAS REFERENCIAS'!$I$6:$I$11,0),1))","v":""},null,null,null,null,{"$f":"IF(Z339=\"\",\"\",INDEX('OTRAS REFERENCIAS'!$K$6:$L$11,MATCH(Z339,'OTRAS REFERENCIAS'!$L$6:$L$11,0),1))","v":""},null,null,null,null,{"$f":"IF(AE339=\"\",\"\",INDEX('OTRAS REFERENCIAS'!$N$6:$O$11,MATCH(AE339,'OTRAS REFERENCIAS'!$O$6:$O$11,0),1))","v":""},null,null,null,null,{"$f":"IF(AJ339=\"\",\"\",INDEX('OTRAS REFERENCIAS'!$Q$6:$R$11,MATCH(AJ339,'OTRAS REFERENCIAS'!$R$6:$R$11,0),1))","v":""},null,null,null,{"$f":"IF(AN339=\"\",\"\",INDEX('OTRAS REFERENCIAS'!$T$6:$U$11,MATCH(AN339,'OTRAS REFERENCIAS'!$U$6:$U$11,0),1))","v":""}]
[1,"",338,"","",{"$f":"IF(L340<>\"\",CONCATENATE(DIGITADOR!$B$2,$A$2,DIGITADOR!$M$1,A340),\"\")","v":""},null,null,"",{"$f":"IF(K340=\"\",\"\",INDEX('OTRAS REFERENCIAS'!$AL:$AM,MATCH(K340,'OTRAS REFERENCIAS'!$AL:$AL,0),2))","v":""},null,{"$f":"IF(J340=\"\",\"\",INDEX(referentes!$S:$W,MATCH(J340,referentes!$S:$S,0),1))","v":""},null,null,null,null,null,null,null,{"$f":"IF(U340=\"\",\"\",INDEX('OTRAS REFERENCIAS'!$H$6:$I$11,MATCH(U340,'OTRAS REFERENCIAS'!$I$6:$I$11,0),1))","v":""},null,null,null,null,{"$f":"IF(Z340=\"\",\"\",INDEX('OTRAS REFERENCIAS'!$K$6:$L$11,MATCH(Z340,'OTRAS REFERENCIAS'!$L$6:$L$11,0),1))","v":""},null,null,null,null,{"$f":"IF(AE340=\"\",\"\",INDEX('OTRAS REFERENCIAS'!$N$6:$O$11,MATCH(AE340,'OTRAS REFERENCIAS'!$O$6:$O$11,0),1))","v":""},null,null,null,null,{"$f":"IF(AJ340=\"\",\"\",INDEX('OTRAS REFERENCIAS'!$Q$6:$R$11,MATCH(AJ340,'OTRAS REFERENCIAS'!$R$6:$R$11,0),1))","v":""},null,null,null,{"$f":"IF(AN340=\"\",\"\",INDEX('OTRAS REFERENCIAS'!$T$6:$U$11,MATCH(AN340,'OTRAS REFERENCIAS'!$U$6:$U$11,0),1))","v":""}]
[1,"",339,"","",{"$f":"IF(L341<>\"\",CONCATENATE(DIGITADOR!$B$2,$A$2,DIGITADOR!$M$1,A341),\"\")","v":""},null,null,"",{"$f":"IF(K341=\"\",\"\",INDEX('OTRAS REFERENCIAS'!$AL:$AM,MATCH(K341,'OTRAS REFERENCIAS'!$AL:$AL,0),2))","v":""},null,{"$f":"IF(J341=\"\",\"\",INDEX(referentes!$S:$W,MATCH(J341,referentes!$S:$S,0),1))","v":""},null,null,null,null,null,null,null,{"$f":"IF(U341=\"\",\"\",INDEX('OTRAS REFERENCIAS'!$H$6:$I$11,MATCH(U341,'OTRAS REFERENCIAS'!$I$6:$I$11,0),1))","v":""},null,null,null,null,{"$f":"IF(Z341=\"\",\"\",INDEX('OTRAS REFERENCIAS'!$K$6:$L$11,MATCH(Z341,'OTRAS REFERENCIAS'!$L$6:$L$11,0),1))","v":""},null,null,null,null,{"$f":"IF(AE341=\"\",\"\",INDEX('OTRAS REFERENCIAS'!$N$6:$O$11,MATCH(AE341,'OTRAS REFERENCIAS'!$O$6:$O$11,0),1))","v":""},null,null,null,null,{"$f":"IF(AJ341=\"\",\"\",INDEX('OTRAS REFERENCIAS'!$Q$6:$R$11,MATCH(AJ341,'OTRAS REFERENCIAS'!$R$6:$R$11,0),1))","v":""},null,null,null,{"$f":"IF(AN341=\"\",\"\",INDEX('OTRAS REFERENCIAS'!$T$6:$U$11,MATCH(AN341,'OTRAS REFERENCIAS'!$U$6:$U$11,0),1))","v":""}]
[1,"",340,"","",{"$f":"IF(L342<>\"\",CONCATENATE(DIGITADOR!$B$2,$A$2,DIGITADOR!$M$1,A342),\"\")","v":""},null,null,"",{"$f":"IF(K342=\"\",\"\",INDEX('OTRAS REFERENCIAS'!$AL:$AM,MATCH(K342,'OTRAS REFERENCIAS'!$AL:$AL,0),2))","v":""},null,{"$f":"IF(J342=\"\",\"\",INDEX(referentes!$S:$W,MATCH(J342,referentes!$S:$S,0),1))","v":""},null,null,null,null,null,null,null,{"$f":"IF(U342=\"\",\"\",INDEX('OTRAS REFERENCIAS'!$H$6:$I$11,MATCH(U342,'OTRAS REFERENCIAS'!$I$6:$I$11,0),1))","v":""},null,null,null,null,{"$f":"IF(Z342=\"\",\"\",INDEX('OTRAS REFERENCIAS'!$K$6:$L$11,MATCH(Z342,'OTRAS REFERENCIAS'!$L$6:$L$11,0),1))","v":""},null,null,null,null,{"$f":"IF(AE342=\"\",\"\",INDEX('OTRAS REFERENCIAS'!$N$6:$O$11,MATCH(AE342,'OTRAS REFERENCIAS'!$O$6:$O$11,0),1))","v":""},null,null,null,null,{"$f":"IF(AJ342=\"\",\"\",INDEX('OTRAS REFERENCIAS'!$Q$6:$R$11,MATCH(AJ342,'OTRAS REFERENCIAS'!$R$6:$R$11,0),1))","v":""},null,null,null,{"$f":"IF(AN342=\"\",\"\",INDEX('OTRAS REFERENCIAS'!$T$6:$U$11,MATCH(AN342,'OTRAS REFERENCIAS'!$U$6:$U$11,0),1))","v":""}]
[1,"",341,"","",{"$f":"IF(L343<>\"\",CONCATENATE(DIGITADOR!$B$2,$A$2,DIGITADOR!$M$1,A343),\"\")","v":""},null,null,"",{"$f":"IF(K343=\"\",\"\",INDEX('OTRAS REFERENCIAS'!$AL:$AM,MATCH(K343,'OTRAS REFERENCIAS'!$AL:$AL,0),2))","v":""},null,{"$f":"IF(J343=\"\",\"\",INDEX(referentes!$S:$W,MATCH(J343,referentes!$S:$S,0),1))","v":""},null,null,null,null,null,null,null,{"$f":"IF(U343=\"\",\"\",INDEX('OTRAS REFERENCIAS'!$H$6:$I$11,MATCH(U343,'OTRAS REFERENCIAS'!$I$6:$I$11,0),1))","v":""},null,null,null,null,{"$f":"IF(Z343=\"\",\"\",INDEX('OTRAS REFERENCIAS'!$K$6:$L$11,MATCH(Z343,'OTRAS REFERENCIAS'!$L$6:$L$11,0),1))","v":""},null,null,null,null,{"$f":"IF(AE343=\"\",\"\",INDEX('OTRAS REFERENCIAS'!$N$6:$O$11,MATCH(AE343,'OTRAS REFERENCIAS'!$O$6:$O$11,0),1))","v":""},null,null,null,null,{"$f":"IF(AJ343=\"\",\"\",INDEX('OTRAS REFERENCIAS'!$Q$6:$R$11,MATCH(AJ343,'OTRAS REFERENCIAS'!$R$6:$R$11,0),1))","v":""},null,null,null,{"$f":"IF(AN343=\"\",\"\",INDEX('OTRAS REFERENCIAS'!$T$6:$U$11,MATCH(AN343,'OTRAS REFERENCIAS'!$U$6:$U$11,0),1))","v":""}]
[1,"",342,"","",{"$f":"IF(L344<>\"\",CONCATENATE(DIGITADOR!$B$2,$A$2,DIGITADOR!$M$1,A344),\"\")","v":""},null,null,"",{"$f":"IF(K344=\"\",\"\",INDEX('OTRAS REFERENCIAS'!$AL:$AM,MATCH(K344,'OTRAS REFERENCIAS'!$AL:$AL,0),2))","v":""},null,{"$f":"IF(J344=\"\",\"\",INDEX(referentes!$S:$W,MATCH(J344,referentes!$S:$S,0),1))","v":""},null,null,null,null,null,null,null,{"$f":"IF(U344=\"\",\"\",INDEX('OTRAS REFERENCIAS'!$H$6:$I$11,MATCH(U344,'OTRAS REFERENCIAS'!$I$6:$I$11,0),1))","v":""},null,null,null,null,{"$f":"IF(Z344=\"\",\"\",INDEX('OTRAS REFERENCIAS'!$K$6:$L$11,MATCH(Z344,'OTRAS REFERENCIAS'!$L$6:$L$11,0),1))","v":""},null,null,null,null,{"$f":"IF(AE344=\"\",\"\",INDEX('OTRAS REFERENCIAS'!$N$6:$O$11,MATCH(AE344,'OTRAS REFERENCIAS'!$O$6:$O$11,0),1))","v":""},null,null,null,null,{"$f":"IF(AJ344=\"\",\"\",INDEX('OTRAS REFERENCIAS'!$Q$6:$R$11,MATCH(AJ344,'OTRAS REFERENCIAS'!$R$6:$R$11,0),1))","v":""},null,null,null,{"$f":"IF(AN344=\"\",\"\",INDEX('OTRAS REFERENCIAS'!$T$6:$U$11,MATCH(AN344,'OTRAS REFERENCIAS'!$U$6:$U$11,0),1))","v":""}]
[1,"",343,"","",{"$f":"IF(L345<>\"\",CONCATENATE(DIGITADOR!$B$2,$A$2,DIGITADOR!$M$1,A345),\"\")","v":""},null,null,"",{"$f":"IF(K345=\"\",\"\",INDEX('OTRAS REFERENCIAS'!$AL:$AM,MATCH(K345,'OTRAS REFERENCIAS'!$AL:$AL,0),2))","v":""},null,{"$f":"IF(J345=\"\",\"\",INDEX(referentes!$S:$W,MATCH(J345,referentes!$S:$S,0),1))","v":""},null,null,null,null,null,null,null,{"$f":"IF(U345=\"\",\"\",INDEX('OTRAS REFERENCIAS'!$H$6:$I$11,MATCH(U345,'OTRAS REFERENCIAS'!$I$6:$I$11,0),1))","v":""},null,null,null,null,{"$f":"IF(Z345=\"\",\"\",INDEX('OTRAS REFERENCIAS'!$K$6:$L$11,MATCH(Z345,'OTRAS REFERENCIAS'!$L$6:$L$11,0),1))","v":""},null,null,null,null,{"$f":"IF(AE345=\"\",\"\",INDEX('OTRAS REFERENCIAS'!$N$6:$O$11,MATCH(AE345,'OTRAS REFERENCIAS'!$O$6:$O$11,0),1))","v":""},null,null,null,null,{"$f":"IF(AJ345=\"\",\"\",INDEX('OTRAS REFERENCIAS'!$Q$6:$R$11,MATCH(AJ345,'OTRAS REFERENCIAS'!$R$6:$R$11,0),1))","v":""},null,null,null,{"$f":"IF(AN345=\"\",\"\",INDEX('OTRAS REFERENCIAS'!$T$6:$U$11,MATCH(AN345,'OTRAS REFERENCIAS'!$U$6:$U$11,0),1))","v":""}]
[1,"",344,"","",{"$f":"IF(L346<>\"\",CONCATENATE(DIGITADOR!$B$2,$A$2,DIGITADOR!$M$1,A346),\"\")","v":""},null,null,"",{"$f":"IF(K346=\"\",\"\",INDEX('OTRAS REFERENCIAS'!$AL:$AM,MATCH(K346,'OTRAS REFERENCIAS'!$AL:$AL,0),2))","v":""},null,{"$f":"IF(J346=\"\",\"\",INDEX(referentes!$S:$W,MATCH(J346,referentes!$S:$S,0),1))","v":""},null,null,null,null,null,null,null,{"$f":"IF(U346=\"\",\"\",INDEX('OTRAS REFERENCIAS'!$H$6:$I$11,MATCH(U346,'OTRAS REFERENCIAS'!$I$6:$I$11,0),1))","v":""},null,null,null,null,{"$f":"IF(Z346=\"\",\"\",INDEX('OTRAS REFERENCIAS'!$K$6:$L$11,MATCH(Z346,'OTRAS REFERENCIAS'!$L$6:$L$11,0),1))","v":""},null,null,null,null,{"$f":"IF(AE346=\"\",\"\",INDEX('OTRAS REFERENCIAS'!$N$6:$O$11,MATCH(AE346,'OTRAS REFERENCIAS'!$O$6:$O$11,0),1))","v":""},null,null,null,null,{"$f":"IF(AJ346=\"\",\"\",INDEX('OTRAS REFERENCIAS'!$Q$6:$R$11,MATCH(AJ346,'OTRAS REFERENCIAS'!$R$6:$R$11,0),1))","v":""},null,null,null,{"$f":"IF(AN346=\"\",\"\",INDEX('OTRAS REFERENCIAS'!$T$6:$U$11,MATCH(AN346,'OTRAS REFERENCIAS'!$U$6:$U$11,0),1))","v":""}]
[1,"",345,"","",{"$f":"IF(L347<>\"\",CONCATENATE(DIGITADOR!$B$2,$A$2,DIGITADOR!$M$1,A347),\"\")","v":""},null,null,"",{"$f":"IF(K347=\"\",\"\",INDEX('OTRAS REFERENCIAS'!$AL:$AM,MATCH(K347,'OTRAS REFERENCIAS'!$AL:$AL,0),2))","v":""},null,{"$f":"IF(J347=\"\",\"\",INDEX(referentes!$S:$W,MATCH(J347,referentes!$S:$S,0),1))","v":""},null,null,null,null,null,null,null,{"$f":"IF(U347=\"\",\"\",INDEX('OTRAS REFERENCIAS'!$H$6:$I$11,MATCH(U347,'OTRAS REFERENCIAS'!$I$6:$I$11,0),1))","v":""},null,null,null,null,{"$f":"IF(Z347=\"\",\"\",INDEX('OTRAS REFERENCIAS'!$K$6:$L$11,MATCH(Z347,'OTRAS REFERENCIAS'!$L$6:$L$11,0),1))","v":""},null,null,null,null,{"$f":"IF(AE347=\"\",\"\",INDEX('OTRAS REFERENCIAS'!$N$6:$O$11,MATCH(AE347,'OTRAS REFERENCIAS'!$O$6:$O$11,0),1))","v":""},null,null,null,null,{"$f":"IF(AJ347=\"\",\"\",INDEX('OTRAS REFERENCIAS'!$Q$6:$R$11,MATCH(AJ347,'OTRAS REFERENCIAS'!$R$6:$R$11,0),1))","v":""},null,null,null,{"$f":"IF(AN347=\"\",\"\",INDEX('OTRAS REFERENCIAS'!$T$6:$U$11,MATCH(AN347,'OTRAS REFERENCIAS'!$U$6:$U$11,0),1))","v":""}]
[1,"",346,"","",{"$f":"IF(L348<>\"\",CONCATENATE(DIGITADOR!$B$2,$A$2,DIGITADOR!$M$1,A348),\"\")","v":""},null,null,"",{"$f":"IF(K348=\"\",\"\",INDEX('OTRAS REFERENCIAS'!$AL:$AM,MATCH(K348,'OTRAS REFERENCIAS'!$AL:$AL,0),2))","v":""},null,{"$f":"IF(J348=\"\",\"\",INDEX(referentes!$S:$W,MATCH(J348,referentes!$S:$S,0),1))","v":""},null,null,null,null,null,null,null,{"$f":"IF(U348=\"\",\"\",INDEX('OTRAS REFERENCIAS'!$H$6:$I$11,MATCH(U348,'OTRAS REFERENCIAS'!$I$6:$I$11,0),1))","v":""},null,null,null,null,{"$f":"IF(Z348=\"\",\"\",INDEX('OTRAS REFERENCIAS'!$K$6:$L$11,MATCH(Z348,'OTRAS REFERENCIAS'!$L$6:$L$11,0),1))","v":""},null,null,null,null,{"$f":"IF(AE348=\"\",\"\",INDEX('OTRAS REFERENCIAS'!$N$6:$O$11,MATCH(AE348,'OTRAS REFERENCIAS'!$O$6:$O$11,0),1))","v":""},null,null,null,null,{"$f":"IF(AJ348=\"\",\"\",INDEX('OTRAS REFERENCIAS'!$Q$6:$R$11,MATCH(AJ348,'OTRAS REFERENCIAS'!$R$6:$R$11,0),1))","v":""},null,null,null,{"$f":"IF(AN348=\"\",\"\",INDEX('OTRAS REFERENCIAS'!$T$6:$U$11,MATCH(AN348,'OTRAS REFERENCIAS'!$U$6:$U$11,0),1))","v":""}]
[1,"",347,"","",{"$f":"IF(L349<>\"\",CONCATENATE(DIGITADOR!$B$2,$A$2,DIGITADOR!$M$1,A349),\"\")","v":""},null,null,"",{"$f":"IF(K349=\"\",\"\",INDEX('OTRAS REFERENCIAS'!$AL:$AM,MATCH(K349,'OTRAS REFERENCIAS'!$AL:$AL,0),2))","v":""},null,{"$f":"IF(J349=\"\",\"\",INDEX(referentes!$S:$W,MATCH(J349,referentes!$S:$S,0),1))","v":""},null,null,null,null,null,null,null,{"$f":"IF(U349=\"\",\"\",INDEX('OTRAS REFERENCIAS'!$H$6:$I$11,MATCH(U349,'OTRAS REFERENCIAS'!$I$6:$I$11,0),1))","v":""},null,null,null,null,{"$f":"IF(Z349=\"\",\"\",INDEX('OTRAS REFERENCIAS'!$K$6:$L$11,MATCH(Z349,'OTRAS REFERENCIAS'!$L$6:$L$11,0),1))","v":""},null,null,null,null,{"$f":"IF(AE349=\"\",\"\",INDEX('OTRAS REFERENCIAS'!$N$6:$O$11,MATCH(AE349,'OTRAS REFERENCIAS'!$O$6:$O$11,0),1))","v":""},null,null,null,null,{"$f":"IF(AJ349=\"\",\"\",INDEX('OTRAS REFERENCIAS'!$Q$6:$R$11,MATCH(AJ349,'OTRAS REFERENCIAS'!$R$6:$R$11,0),1))","v":""},null,null,null,{"$f":"IF(AN349=\"\",\"\",INDEX('OTRAS REFERENCIAS'!$T$6:$U$11,MATCH(AN349,'OTRAS REFERENCIAS'!$U$6:$U$11,0),1))","v":""}]
[1,"",348,"","",{"$f":"IF(L350<>\"\",CONCATENATE(DIGITADOR!$B$2,$A$2,DIGITADOR!$M$1,A350),\"\")","v":""},null,null,"",{"$f":"IF(K350=\"\",\"\",INDEX('OTRAS REFERENCIAS'!$AL:$AM,MATCH(K350,'OTRAS REFERENCIAS'!$AL:$AL,0),2))","v":""},null,{"$f":"IF(J350=\"\",\"\",INDEX(referentes!$S:$W,MATCH(J350,referentes!$S:$S,0),1))","v":""},null,null,null,null,null,null,null,{"$f":"IF(U350=\"\",\"\",INDEX('OTRAS REFERENCIAS'!$H$6:$I$11,MATCH(U350,'OTRAS REFERENCIAS'!$I$6:$I$11,0),1))","v":""},null,null,null,null,{"$f":"IF(Z350=\"\",\"\",INDEX('OTRAS REFERENCIAS'!$K$6:$L$11,MATCH(Z350,'OTRAS REFERENCIAS'!$L$6:$L$11,0),1))","v":""},null,null,null,null,{"$f":"IF(AE350=\"\",\"\",INDEX('OTRAS REFERENCIAS'!$N$6:$O$11,MATCH(AE350,'OTRAS REFERENCIAS'!$O$6:$O$11,0),1))","v":""},null,null,null,null,{"$f":"IF(AJ350=\"\",\"\",INDEX('OTRAS REFERENCIAS'!$Q$6:$R$11,MATCH(AJ350,'OTRAS REFERENCIAS'!$R$6:$R$11,0),1))","v":""},null,null,null,{"$f":"IF(AN350=\"\",\"\",INDEX('OTRAS REFERENCIAS'!$T$6:$U$11,MATCH(AN350,'OTRAS REFERENCIAS'!$U$6:$U$11,0),1))","v":""}]
[1,"",349,"","",{"$f":"IF(L351<>\"\",CONCATENATE(DIGITADOR!$B$2,$A$2,DIGITADOR!$M$1,A351),\"\")","v":""},null,null,"",{"$f":"IF(K351=\"\",\"\",INDEX('OTRAS REFERENCIAS'!$AL:$AM,MATCH(K351,'OTRAS REFERENCIAS'!$AL:$AL,0),2))","v":""},null,{"$f":"IF(J351=\"\",\"\",INDEX(referentes!$S:$W,MATCH(J351,referentes!$S:$S,0),1))","v":""},null,null,null,null,null,null,null,{"$f":"IF(U351=\"\",\"\",INDEX('OTRAS REFERENCIAS'!$H$6:$I$11,MATCH(U351,'OTRAS REFERENCIAS'!$I$6:$I$11,0),1))","v":""},null,null,null,null,{"$f":"IF(Z351=\"\",\"\",INDEX('OTRAS REFERENCIAS'!$K$6:$L$11,MATCH(Z351,'OTRAS REFERENCIAS'!$L$6:$L$11,0),1))","v":""},null,null,null,null,{"$f":"IF(AE351=\"\",\"\",INDEX('OTRAS REFERENCIAS'!$N$6:$O$11,MATCH(AE351,'OTRAS REFERENCIAS'!$O$6:$O$11,0),1))","v":""},null,null,null,null,{"$f":"IF(AJ351=\"\",\"\",INDEX('OTRAS REFERENCIAS'!$Q$6:$R$11,MATCH(AJ351,'OTRAS REFERENCIAS'!$R$6:$R$11,0),1))","v":""},null,null,null,{"$f":"IF(AN351=\"\",\"\",INDEX('OTRAS REFERENCIAS'!$T$6:$U$11,MATCH(AN351,'OTRAS REFERENCIAS'!$U$6:$U$11,0),1))","v":""}]
[1,"",350,"","",{"$f":"IF(L352<>\"\",CONCATENATE(DIGITADOR!$B$2,$A$2,DIGITADOR!$M$1,A352),\"\")","v":""},null,null,"",{"$f":"IF(K352=\"\",\"\",INDEX('OTRAS REFERENCIAS'!$AL:$AM,MATCH(K352,'OTRAS REFERENCIAS'!$AL:$AL,0),2))","v":""},null,{"$f":"IF(J352=\"\",\"\",INDEX(referentes!$S:$W,MATCH(J352,referentes!$S:$S,0),1))","v":""},null,null,null,null,null,null,null,{"$f":"IF(U352=\"\",\"\",INDEX('OTRAS REFERENCIAS'!$H$6:$I$11,MATCH(U352,'OTRAS REFERENCIAS'!$I$6:$I$11,0),1))","v":""},null,null,null,null,{"$f":"IF(Z352=\"\",\"\",INDEX('OTRAS REFERENCIAS'!$K$6:$L$11,MATCH(Z352,'OTRAS REFERENCIAS'!$L$6:$L$11,0),1))","v":""},null,null,null,null,{"$f":"IF(AE352=\"\",\"\",INDEX('OTRAS REFERENCIAS'!$N$6:$O$11,MATCH(AE352,'OTRAS REFERENCIAS'!$O$6:$O$11,0),1))","v":""},null,null,null,null,{"$f":"IF(AJ352=\"\",\"\",INDEX('OTRAS REFERENCIAS'!$Q$6:$R$11,MATCH(AJ352,'OTRAS REFERENCIAS'!$R$6:$R$11,0),1))","v":""},null,null,null,{"$f":"IF(AN352=\"\",\"\",INDEX('OTRAS REFERENCIAS'!$T$6:$U$11,MATCH(AN352,'OTRAS REFERENCIAS'!$U$6:$U$11,0),1))","v":""}]
[1,"",351,"","",{"$f":"IF(L353<>\"\",CONCATENATE(DIGITADOR!$B$2,$A$2,DIGITADOR!$M$1,A353),\"\")","v":""},null,null,"",{"$f":"IF(K353=\"\",\"\",INDEX('OTRAS REFERENCIAS'!$AL:$AM,MATCH(K353,'OTRAS REFERENCIAS'!$AL:$AL,0),2))","v":""},null,{"$f":"IF(J353=\"\",\"\",INDEX(referentes!$S:$W,MATCH(J353,referentes!$S:$S,0),1))","v":""},null,null,null,null,null,null,null,{"$f":"IF(U353=\"\",\"\",INDEX('OTRAS REFERENCIAS'!$H$6:$I$11,MATCH(U353,'OTRAS REFERENCIAS'!$I$6:$I$11,0),1))","v":""},null,null,null,null,{"$f":"IF(Z353=\"\",\"\",INDEX('OTRAS REFERENCIAS'!$K$6:$L$11,MATCH(Z353,'OTRAS REFERENCIAS'!$L$6:$L$11,0),1))","v":""},null,null,null,null,{"$f":"IF(AE353=\"\",\"\",INDEX('OTRAS REFERENCIAS'!$N$6:$O$11,MATCH(AE353,'OTRAS REFERENCIAS'!$O$6:$O$11,0),1))","v":""},null,null,null,null,{"$f":"IF(AJ353=\"\",\"\",INDEX('OTRAS REFERENCIAS'!$Q$6:$R$11,MATCH(AJ353,'OTRAS REFERENCIAS'!$R$6:$R$11,0),1))","v":""},null,null,null,{"$f":"IF(AN353=\"\",\"\",INDEX('OTRAS REFERENCIAS'!$T$6:$U$11,MATCH(AN353,'OTRAS REFERENCIAS'!$U$6:$U$11,0),1))","v":""}]
[1,"",352,"","",{"$f":"IF(L354<>\"\",CONCATENATE(DIGITADOR!$B$2,$A$2,DIGITADOR!$M$1,A354),\"\")","v":""},null,null,"",{"$f":"IF(K354=\"\",\"\",INDEX('OTRAS REFERENCIAS'!$AL:$AM,MATCH(K354,'OTRAS REFERENCIAS'!$AL:$AL,0),2))","v":""},null,{"$f":"IF(J354=\"\",\"\",INDEX(referentes!$S:$W,MATCH(J354,referentes!$S:$S,0),1))","v":""},null,null,null,null,null,null,null,{"$f":"IF(U354=\"\",\"\",INDEX('OTRAS REFERENCIAS'!$H$6:$I$11,MATCH(U354,'OTRAS REFERENCIAS'!$I$6:$I$11,0),1))","v":""},null,null,null,null,{"$f":"IF(Z354=\"\",\"\",INDEX('OTRAS REFERENCIAS'!$K$6:$L$11,MATCH(Z354,'OTRAS REFERENCIAS'!$L$6:$L$11,0),1))","v":""},null,null,null,null,{"$f":"IF(AE354=\"\",\"\",INDEX('OTRAS REFERENCIAS'!$N$6:$O$11,MATCH(AE354,'OTRAS REFERENCIAS'!$O$6:$O$11,0),1))","v":""},null,null,null,null,{"$f":"IF(AJ354=\"\",\"\",INDEX('OTRAS REFERENCIAS'!$Q$6:$R$11,MATCH(AJ354,'OTRAS REFERENCIAS'!$R$6:$R$11,0),1))","v":""},null,null,null,{"$f":"IF(AN354=\"\",\"\",INDEX('OTRAS REFERENCIAS'!$T$6:$U$11,MATCH(AN354,'OTRAS REFERENCIAS'!$U$6:$U$11,0),1))","v":""}]
[1,"",353,"","",{"$f":"IF(L355<>\"\",CONCATENATE(DIGITADOR!$B$2,$A$2,DIGITADOR!$M$1,A355),\"\")","v":""},null,null,"",{"$f":"IF(K355=\"\",\"\",INDEX('OTRAS REFERENCIAS'!$AL:$AM,MATCH(K355,'OTRAS REFERENCIAS'!$AL:$AL,0),2))","v":""},null,{"$f":"IF(J355=\"\",\"\",INDEX(referentes!$S:$W,MATCH(J355,referentes!$S:$S,0),1))","v":""},null,null,null,null,null,null,null,{"$f":"IF(U355=\"\",\"\",INDEX('OTRAS REFERENCIAS'!$H$6:$I$11,MATCH(U355,'OTRAS REFERENCIAS'!$I$6:$I$11,0),1))","v":""},null,null,null,null,{"$f":"IF(Z355=\"\",\"\",INDEX('OTRAS REFERENCIAS'!$K$6:$L$11,MATCH(Z355,'OTRAS REFERENCIAS'!$L$6:$L$11,0),1))","v":""},null,null,null,null,{"$f":"IF(AE355=\"\",\"\",INDEX('OTRAS REFERENCIAS'!$N$6:$O$11,MATCH(AE355,'OTRAS REFERENCIAS'!$O$6:$O$11,0),1))","v":""},null,null,null,null,{"$f":"IF(AJ355=\"\",\"\",INDEX('OTRAS REFERENCIAS'!$Q$6:$R$11,MATCH(AJ355,'OTRAS REFERENCIAS'!$R$6:$R$11,0),1))","v":""},null,null,null,{"$f":"IF(AN355=\"\",\"\",INDEX('OTRAS REFERENCIAS'!$T$6:$U$11,MATCH(AN355,'OTRAS REFERENCIAS'!$U$6:$U$11,0),1))","v":""}]
[1,"",354,"","",{"$f":"IF(L356<>\"\",CONCATENATE(DIGITADOR!$B$2,$A$2,DIGITADOR!$M$1,A356),\"\")","v":""},null,null,"",{"$f":"IF(K356=\"\",\"\",INDEX('OTRAS REFERENCIAS'!$AL:$AM,MATCH(K356,'OTRAS REFERENCIAS'!$AL:$AL,0),2))","v":""},null,{"$f":"IF(J356=\"\",\"\",INDEX(referentes!$S:$W,MATCH(J356,referentes!$S:$S,0),1))","v":""},null,null,null,null,null,null,null,{"$f":"IF(U356=\"\",\"\",INDEX('OTRAS REFERENCIAS'!$H$6:$I$11,MATCH(U356,'OTRAS REFERENCIAS'!$I$6:$I$11,0),1))","v":""},null,null,null,null,{"$f":"IF(Z356=\"\",\"\",INDEX('OTRAS REFERENCIAS'!$K$6:$L$11,MATCH(Z356,'OTRAS REFERENCIAS'!$L$6:$L$11,0),1))","v":""},null,null,null,null,{"$f":"IF(AE356=\"\",\"\",INDEX('OTRAS REFERENCIAS'!$N$6:$O$11,MATCH(AE356,'OTRAS REFERENCIAS'!$O$6:$O$11,0),1))","v":""},null,null,null,null,{"$f":"IF(AJ356=\"\",\"\",INDEX('OTRAS REFERENCIAS'!$Q$6:$R$11,MATCH(AJ356,'OTRAS REFERENCIAS'!$R$6:$R$11,0),1))","v":""},null,null,null,{"$f":"IF(AN356=\"\",\"\",INDEX('OTRAS REFERENCIAS'!$T$6:$U$11,MATCH(AN356,'OTRAS REFERENCIAS'!$U$6:$U$11,0),1))","v":""}]
[1,"",355,"","",{"$f":"IF(L357<>\"\",CONCATENATE(DIGITADOR!$B$2,$A$2,DIGITADOR!$M$1,A357),\"\")","v":""},null,null,"",{"$f":"IF(K357=\"\",\"\",INDEX('OTRAS REFERENCIAS'!$AL:$AM,MATCH(K357,'OTRAS REFERENCIAS'!$AL:$AL,0),2))","v":""},null,{"$f":"IF(J357=\"\",\"\",INDEX(referentes!$S:$W,MATCH(J357,referentes!$S:$S,0),1))","v":""},null,null,null,null,null,null,null,{"$f":"IF(U357=\"\",\"\",INDEX('OTRAS REFERENCIAS'!$H$6:$I$11,MATCH(U357,'OTRAS REFERENCIAS'!$I$6:$I$11,0),1))","v":""},null,null,null,null,{"$f":"IF(Z357=\"\",\"\",INDEX('OTRAS REFERENCIAS'!$K$6:$L$11,MATCH(Z357,'OTRAS REFERENCIAS'!$L$6:$L$11,0),1))","v":""},null,null,null,null,{"$f":"IF(AE357=\"\",\"\",INDEX('OTRAS REFERENCIAS'!$N$6:$O$11,MATCH(AE357,'OTRAS REFERENCIAS'!$O$6:$O$11,0),1))","v":""},null,null,null,null,{"$f":"IF(AJ357=\"\",\"\",INDEX('OTRAS REFERENCIAS'!$Q$6:$R$11,MATCH(AJ357,'OTRAS REFERENCIAS'!$R$6:$R$11,0),1))","v":""},null,null,null,{"$f":"IF(AN357=\"\",\"\",INDEX('OTRAS REFERENCIAS'!$T$6:$U$11,MATCH(AN357,'OTRAS REFERENCIAS'!$U$6:$U$11,0),1))","v":""}]
[1,"",356,"","",{"$f":"IF(L358<>\"\",CONCATENATE(DIGITADOR!$B$2,$A$2,DIGITADOR!$M$1,A358),\"\")","v":""},null,null,"",{"$f":"IF(K358=\"\",\"\",INDEX('OTRAS REFERENCIAS'!$AL:$AM,MATCH(K358,'OTRAS REFERENCIAS'!$AL:$AL,0),2))","v":""},null,{"$f":"IF(J358=\"\",\"\",INDEX(referentes!$S:$W,MATCH(J358,referentes!$S:$S,0),1))","v":""},null,null,null,null,null,null,null,{"$f":"IF(U358=\"\",\"\",INDEX('OTRAS REFERENCIAS'!$H$6:$I$11,MATCH(U358,'OTRAS REFERENCIAS'!$I$6:$I$11,0),1))","v":""},null,null,null,null,{"$f":"IF(Z358=\"\",\"\",INDEX('OTRAS REFERENCIAS'!$K$6:$L$11,MATCH(Z358,'OTRAS REFERENCIAS'!$L$6:$L$11,0),1))","v":""},null,null,null,null,{"$f":"IF(AE358=\"\",\"\",INDEX('OTRAS REFERENCIAS'!$N$6:$O$11,MATCH(AE358,'OTRAS REFERENCIAS'!$O$6:$O$11,0),1))","v":""},null,null,null,null,{"$f":"IF(AJ358=\"\",\"\",INDEX('OTRAS REFERENCIAS'!$Q$6:$R$11,MATCH(AJ358,'OTRAS REFERENCIAS'!$R$6:$R$11,0),1))","v":""},null,null,null,{"$f":"IF(AN358=\"\",\"\",INDEX('OTRAS REFERENCIAS'!$T$6:$U$11,MATCH(AN358,'OTRAS REFERENCIAS'!$U$6:$U$11,0),1))","v":""}]
[1,"",357,"","",{"$f":"IF(L359<>\"\",CONCATENATE(DIGITADOR!$B$2,$A$2,DIGITADOR!$M$1,A359),\"\")","v":""},null,null,"",{"$f":"IF(K359=\"\",\"\",INDEX('OTRAS REFERENCIAS'!$AL:$AM,MATCH(K359,'OTRAS REFERENCIAS'!$AL:$AL,0),2))","v":""},null,{"$f":"IF(J359=\"\",\"\",INDEX(referentes!$S:$W,MATCH(J359,referentes!$S:$S,0),1))","v":""},null,null,null,null,null,null,null,{"$f":"IF(U359=\"\",\"\",INDEX('OTRAS REFERENCIAS'!$H$6:$I$11,MATCH(U359,'OTRAS REFERENCIAS'!$I$6:$I$11,0),1))","v":""},null,null,null,null,{"$f":"IF(Z359=\"\",\"\",INDEX('OTRAS REFERENCIAS'!$K$6:$L$11,MATCH(Z359,'OTRAS REFERENCIAS'!$L$6:$L$11,0),1))","v":""},null,null,null,null,{"$f":"IF(AE359=\"\",\"\",INDEX('OTRAS REFERENCIAS'!$N$6:$O$11,MATCH(AE359,'OTRAS REFERENCIAS'!$O$6:$O$11,0),1))","v":""},null,null,null,null,{"$f":"IF(AJ359=\"\",\"\",INDEX('OTRAS REFERENCIAS'!$Q$6:$R$11,MATCH(AJ359,'OTRAS REFERENCIAS'!$R$6:$R$11,0),1))","v":""},null,null,null,{"$f":"IF(AN359=\"\",\"\",INDEX('OTRAS REFERENCIAS'!$T$6:$U$11,MATCH(AN359,'OTRAS REFERENCIAS'!$U$6:$U$11,0),1))","v":""}]
[1,"",358,"","",{"$f":"IF(L360<>\"\",CONCATENATE(DIGITADOR!$B$2,$A$2,DIGITADOR!$M$1,A360),\"\")","v":""},null,null,"",{"$f":"IF(K360=\"\",\"\",INDEX('OTRAS REFERENCIAS'!$AL:$AM,MATCH(K360,'OTRAS REFERENCIAS'!$AL:$AL,0),2))","v":""},null,{"$f":"IF(J360=\"\",\"\",INDEX(referentes!$S:$W,MATCH(J360,referentes!$S:$S,0),1))","v":""},null,null,null,null,null,null,null,{"$f":"IF(U360=\"\",\"\",INDEX('OTRAS REFERENCIAS'!$H$6:$I$11,MATCH(U360,'OTRAS REFERENCIAS'!$I$6:$I$11,0),1))","v":""},null,null,null,null,{"$f":"IF(Z360=\"\",\"\",INDEX('OTRAS REFERENCIAS'!$K$6:$L$11,MATCH(Z360,'OTRAS REFERENCIAS'!$L$6:$L$11,0),1))","v":""},null,null,null,null,{"$f":"IF(AE360=\"\",\"\",INDEX('OTRAS REFERENCIAS'!$N$6:$O$11,MATCH(AE360,'OTRAS REFERENCIAS'!$O$6:$O$11,0),1))","v":""},null,null,null,null,{"$f":"IF(AJ360=\"\",\"\",INDEX('OTRAS REFERENCIAS'!$Q$6:$R$11,MATCH(AJ360,'OTRAS REFERENCIAS'!$R$6:$R$11,0),1))","v":""},null,null,null,{"$f":"IF(AN360=\"\",\"\",INDEX('OTRAS REFERENCIAS'!$T$6:$U$11,MATCH(AN360,'OTRAS REFERENCIAS'!$U$6:$U$11,0),1))","v":""}]
[1,"",359,"","",{"$f":"IF(L361<>\"\",CONCATENATE(DIGITADOR!$B$2,$A$2,DIGITADOR!$M$1,A361),\"\")","v":""},null,null,"",{"$f":"IF(K361=\"\",\"\",INDEX('OTRAS REFERENCIAS'!$AL:$AM,MATCH(K361,'OTRAS REFERENCIAS'!$AL:$AL,0),2))","v":""},null,{"$f":"IF(J361=\"\",\"\",INDEX(referentes!$S:$W,MATCH(J361,referentes!$S:$S,0),1))","v":""},null,null,null,null,null,null,null,{"$f":"IF(U361=\"\",\"\",INDEX('OTRAS REFERENCIAS'!$H$6:$I$11,MATCH(U361,'OTRAS REFERENCIAS'!$I$6:$I$11,0),1))","v":""},null,null,null,null,{"$f":"IF(Z361=\"\",\"\",INDEX('OTRAS REFERENCIAS'!$K$6:$L$11,MATCH(Z361,'OTRAS REFERENCIAS'!$L$6:$L$11,0),1))","v":""},null,null,null,null,{"$f":"IF(AE361=\"\",\"\",INDEX('OTRAS REFERENCIAS'!$N$6:$O$11,MATCH(AE361,'OTRAS REFERENCIAS'!$O$6:$O$11,0),1))","v":""},null,null,null,null,{"$f":"IF(AJ361=\"\",\"\",INDEX('OTRAS REFERENCIAS'!$Q$6:$R$11,MATCH(AJ361,'OTRAS REFERENCIAS'!$R$6:$R$11,0),1))","v":""},null,null,null,{"$f":"IF(AN361=\"\",\"\",INDEX('OTRAS REFERENCIAS'!$T$6:$U$11,MATCH(AN361,'OTRAS REFERENCIAS'!$U$6:$U$11,0),1))","v":""}]
[1,"",360,"","",{"$f":"IF(L362<>\"\",CONCATENATE(DIGITADOR!$B$2,$A$2,DIGITADOR!$M$1,A362),\"\")","v":""},null,null,"",{"$f":"IF(K362=\"\",\"\",INDEX('OTRAS REFERENCIAS'!$AL:$AM,MATCH(K362,'OTRAS REFERENCIAS'!$AL:$AL,0),2))","v":""},null,{"$f":"IF(J362=\"\",\"\",INDEX(referentes!$S:$W,MATCH(J362,referentes!$S:$S,0),1))","v":""},null,null,null,null,null,null,null,{"$f":"IF(U362=\"\",\"\",INDEX('OTRAS REFERENCIAS'!$H$6:$I$11,MATCH(U362,'OTRAS REFERENCIAS'!$I$6:$I$11,0),1))","v":""},null,null,null,null,{"$f":"IF(Z362=\"\",\"\",INDEX('OTRAS REFERENCIAS'!$K$6:$L$11,MATCH(Z362,'OTRAS REFERENCIAS'!$L$6:$L$11,0),1))","v":""},null,null,null,null,{"$f":"IF(AE362=\"\",\"\",INDEX('OTRAS REFERENCIAS'!$N$6:$O$11,MATCH(AE362,'OTRAS REFERENCIAS'!$O$6:$O$11,0),1))","v":""},null,null,null,null,{"$f":"IF(AJ362=\"\",\"\",INDEX('OTRAS REFERENCIAS'!$Q$6:$R$11,MATCH(AJ362,'OTRAS REFERENCIAS'!$R$6:$R$11,0),1))","v":""},null,null,null,{"$f":"IF(AN362=\"\",\"\",INDEX('OTRAS REFERENCIAS'!$T$6:$U$11,MATCH(AN362,'OTRAS REFERENCIAS'!$U$6:$U$11,0),1))","v":""}]
[1,"",361,"","",{"$f":"IF(L363<>\"\",CONCATENATE(DIGITADOR!$B$2,$A$2,DIGITADOR!$M$1,A363),\"\")","v":""},null,null,"",{"$f":"IF(K363=\"\",\"\",INDEX('OTRAS REFERENCIAS'!$AL:$AM,MATCH(K363,'OTRAS REFERENCIAS'!$AL:$AL,0),2))","v":""},null,{"$f":"IF(J363=\"\",\"\",INDEX(referentes!$S:$W,MATCH(J363,referentes!$S:$S,0),1))","v":""},null,null,null,null,null,null,null,{"$f":"IF(U363=\"\",\"\",INDEX('OTRAS REFERENCIAS'!$H$6:$I$11,MATCH(U363,'OTRAS REFERENCIAS'!$I$6:$I$11,0),1))","v":""},null,null,null,null,{"$f":"IF(Z363=\"\",\"\",INDEX('OTRAS REFERENCIAS'!$K$6:$L$11,MATCH(Z363,'OTRAS REFERENCIAS'!$L$6:$L$11,0),1))","v":""},null,null,null,null,{"$f":"IF(AE363=\"\",\"\",INDEX('OTRAS REFERENCIAS'!$N$6:$O$11,MATCH(AE363,'OTRAS REFERENCIAS'!$O$6:$O$11,0),1))","v":""},null,null,null,null,{"$f":"IF(AJ363=\"\",\"\",INDEX('OTRAS REFERENCIAS'!$Q$6:$R$11,MATCH(AJ363,'OTRAS REFERENCIAS'!$R$6:$R$11,0),1))","v":""},null,null,null,{"$f":"IF(AN363=\"\",\"\",INDEX('OTRAS REFERENCIAS'!$T$6:$U$11,MATCH(AN363,'OTRAS REFERENCIAS'!$U$6:$U$11,0),1))","v":""}]
[1,"",362,"","",{"$f":"IF(L364<>\"\",CONCATENATE(DIGITADOR!$B$2,$A$2,DIGITADOR!$M$1,A364),\"\")","v":""},null,null,"",{"$f":"IF(K364=\"\",\"\",INDEX('OTRAS REFERENCIAS'!$AL:$AM,MATCH(K364,'OTRAS REFERENCIAS'!$AL:$AL,0),2))","v":""},null,{"$f":"IF(J364=\"\",\"\",INDEX(referentes!$S:$W,MATCH(J364,referentes!$S:$S,0),1))","v":""},null,null,null,null,null,null,null,{"$f":"IF(U364=\"\",\"\",INDEX('OTRAS REFERENCIAS'!$H$6:$I$11,MATCH(U364,'OTRAS REFERENCIAS'!$I$6:$I$11,0),1))","v":""},null,null,null,null,{"$f":"IF(Z364=\"\",\"\",INDEX('OTRAS REFERENCIAS'!$K$6:$L$11,MATCH(Z364,'OTRAS REFERENCIAS'!$L$6:$L$11,0),1))","v":""},null,null,null,null,{"$f":"IF(AE364=\"\",\"\",INDEX('OTRAS REFERENCIAS'!$N$6:$O$11,MATCH(AE364,'OTRAS REFERENCIAS'!$O$6:$O$11,0),1))","v":""},null,null,null,null,{"$f":"IF(AJ364=\"\",\"\",INDEX('OTRAS REFERENCIAS'!$Q$6:$R$11,MATCH(AJ364,'OTRAS REFERENCIAS'!$R$6:$R$11,0),1))","v":""},null,null,null,{"$f":"IF(AN364=\"\",\"\",INDEX('OTRAS REFERENCIAS'!$T$6:$U$11,MATCH(AN364,'OTRAS REFERENCIAS'!$U$6:$U$11,0),1))","v":""}]
[1,"",363,"","",{"$f":"IF(L365<>\"\",CONCATENATE(DIGITADOR!$B$2,$A$2,DIGITADOR!$M$1,A365),\"\")","v":""},null,null,"",{"$f":"IF(K365=\"\",\"\",INDEX('OTRAS REFERENCIAS'!$AL:$AM,MATCH(K365,'OTRAS REFERENCIAS'!$AL:$AL,0),2))","v":""},null,{"$f":"IF(J365=\"\",\"\",INDEX(referentes!$S:$W,MATCH(J365,referentes!$S:$S,0),1))","v":""},null,null,null,null,null,null,null,{"$f":"IF(U365=\"\",\"\",INDEX('OTRAS REFERENCIAS'!$H$6:$I$11,MATCH(U365,'OTRAS REFERENCIAS'!$I$6:$I$11,0),1))","v":""},null,null,null,null,{"$f":"IF(Z365=\"\",\"\",INDEX('OTRAS REFERENCIAS'!$K$6:$L$11,MATCH(Z365,'OTRAS REFERENCIAS'!$L$6:$L$11,0),1))","v":""},null,null,null,null,{"$f":"IF(AE365=\"\",\"\",INDEX('OTRAS REFERENCIAS'!$N$6:$O$11,MATCH(AE365,'OTRAS REFERENCIAS'!$O$6:$O$11,0),1))","v":""},null,null,null,null,{"$f":"IF(AJ365=\"\",\"\",INDEX('OTRAS REFERENCIAS'!$Q$6:$R$11,MATCH(AJ365,'OTRAS REFERENCIAS'!$R$6:$R$11,0),1))","v":""},null,null,null,{"$f":"IF(AN365=\"\",\"\",INDEX('OTRAS REFERENCIAS'!$T$6:$U$11,MATCH(AN365,'OTRAS REFERENCIAS'!$U$6:$U$11,0),1))","v":""}]
[1,"",364,"","",{"$f":"IF(L366<>\"\",CONCATENATE(DIGITADOR!$B$2,$A$2,DIGITADOR!$M$1,A366),\"\")","v":""},null,null,"",{"$f":"IF(K366=\"\",\"\",INDEX('OTRAS REFERENCIAS'!$AL:$AM,MATCH(K366,'OTRAS REFERENCIAS'!$AL:$AL,0),2))","v":""},null,{"$f":"IF(J366=\"\",\"\",INDEX(referentes!$S:$W,MATCH(J366,referentes!$S:$S,0),1))","v":""},null,null,null,null,null,null,null,{"$f":"IF(U366=\"\",\"\",INDEX('OTRAS REFERENCIAS'!$H$6:$I$11,MATCH(U366,'OTRAS REFERENCIAS'!$I$6:$I$11,0),1))","v":""},null,null,null,null,{"$f":"IF(Z366=\"\",\"\",INDEX('OTRAS REFERENCIAS'!$K$6:$L$11,MATCH(Z366,'OTRAS REFERENCIAS'!$L$6:$L$11,0),1))","v":""},null,null,null,null,{"$f":"IF(AE366=\"\",\"\",INDEX('OTRAS REFERENCIAS'!$N$6:$O$11,MATCH(AE366,'OTRAS REFERENCIAS'!$O$6:$O$11,0),1))","v":""},null,null,null,null,{"$f":"IF(AJ366=\"\",\"\",INDEX('OTRAS REFERENCIAS'!$Q$6:$R$11,MATCH(AJ366,'OTRAS REFERENCIAS'!$R$6:$R$11,0),1))","v":""},null,null,null,{"$f":"IF(AN366=\"\",\"\",INDEX('OTRAS REFERENCIAS'!$T$6:$U$11,MATCH(AN366,'OTRAS REFERENCIAS'!$U$6:$U$11,0),1))","v":""}]
[1,"",365,"","",{"$f":"IF(L367<>\"\",CONCATENATE(DIGITADOR!$B$2,$A$2,DIGITADOR!$M$1,A367),\"\")","v":""},null,null,"",{"$f":"IF(K367=\"\",\"\",INDEX('OTRAS REFERENCIAS'!$AL:$AM,MATCH(K367,'OTRAS REFERENCIAS'!$AL:$AL,0),2))","v":""},null,{"$f":"IF(J367=\"\",\"\",INDEX(referentes!$S:$W,MATCH(J367,referentes!$S:$S,0),1))","v":""},null,null,null,null,null,null,null,{"$f":"IF(U367=\"\",\"\",INDEX('OTRAS REFERENCIAS'!$H$6:$I$11,MATCH(U367,'OTRAS REFERENCIAS'!$I$6:$I$11,0),1))","v":""},null,null,null,null,{"$f":"IF(Z367=\"\",\"\",INDEX('OTRAS REFERENCIAS'!$K$6:$L$11,MATCH(Z367,'OTRAS REFERENCIAS'!$L$6:$L$11,0),1))","v":""},null,null,null,null,{"$f":"IF(AE367=\"\",\"\",INDEX('OTRAS REFERENCIAS'!$N$6:$O$11,MATCH(AE367,'OTRAS REFERENCIAS'!$O$6:$O$11,0),1))","v":""},null,null,null,null,{"$f":"IF(AJ367=\"\",\"\",INDEX('OTRAS REFERENCIAS'!$Q$6:$R$11,MATCH(AJ367,'OTRAS REFERENCIAS'!$R$6:$R$11,0),1))","v":""},null,null,null,{"$f":"IF(AN367=\"\",\"\",INDEX('OTRAS REFERENCIAS'!$T$6:$U$11,MATCH(AN367,'OTRAS REFERENCIAS'!$U$6:$U$11,0),1))","v":""}]
[1,"",366,"","",{"$f":"IF(L368<>\"\",CONCATENATE(DIGITADOR!$B$2,$A$2,DIGITADOR!$M$1,A368),\"\")","v":""},null,null,"",{"$f":"IF(K368=\"\",\"\",INDEX('OTRAS REFERENCIAS'!$AL:$AM,MATCH(K368,'OTRAS REFERENCIAS'!$AL:$AL,0),2))","v":""},null,{"$f":"IF(J368=\"\",\"\",INDEX(referentes!$S:$W,MATCH(J368,referentes!$S:$S,0),1))","v":""},null,null,null,null,null,null,null,{"$f":"IF(U368=\"\",\"\",INDEX('OTRAS REFERENCIAS'!$H$6:$I$11,MATCH(U368,'OTRAS REFERENCIAS'!$I$6:$I$11,0),1))","v":""},null,null,null,null,{"$f":"IF(Z368=\"\",\"\",INDEX('OTRAS REFERENCIAS'!$K$6:$L$11,MATCH(Z368,'OTRAS REFERENCIAS'!$L$6:$L$11,0),1))","v":""},null,null,null,null,{"$f":"IF(AE368=\"\",\"\",INDEX('OTRAS REFERENCIAS'!$N$6:$O$11,MATCH(AE368,'OTRAS REFERENCIAS'!$O$6:$O$11,0),1))","v":""},null,null,null,null,{"$f":"IF(AJ368=\"\",\"\",INDEX('OTRAS REFERENCIAS'!$Q$6:$R$11,MATCH(AJ368,'OTRAS REFERENCIAS'!$R$6:$R$11,0),1))","v":""},null,null,null,{"$f":"IF(AN368=\"\",\"\",INDEX('OTRAS REFERENCIAS'!$T$6:$U$11,MATCH(AN368,'OTRAS REFERENCIAS'!$U$6:$U$11,0),1))","v":""}]
[1,"",367,"","",{"$f":"IF(L369<>\"\",CONCATENATE(DIGITADOR!$B$2,$A$2,DIGITADOR!$M$1,A369),\"\")","v":""},null,null,"",{"$f":"IF(K369=\"\",\"\",INDEX('OTRAS REFERENCIAS'!$AL:$AM,MATCH(K369,'OTRAS REFERENCIAS'!$AL:$AL,0),2))","v":""},null,{"$f":"IF(J369=\"\",\"\",INDEX(referentes!$S:$W,MATCH(J369,referentes!$S:$S,0),1))","v":""},null,null,null,null,null,null,null,{"$f":"IF(U369=\"\",\"\",INDEX('OTRAS REFERENCIAS'!$H$6:$I$11,MATCH(U369,'OTRAS REFERENCIAS'!$I$6:$I$11,0),1))","v":""},null,null,null,null,{"$f":"IF(Z369=\"\",\"\",INDEX('OTRAS REFERENCIAS'!$K$6:$L$11,MATCH(Z369,'OTRAS REFERENCIAS'!$L$6:$L$11,0),1))","v":""},null,null,null,null,{"$f":"IF(AE369=\"\",\"\",INDEX('OTRAS REFERENCIAS'!$N$6:$O$11,MATCH(AE369,'OTRAS REFERENCIAS'!$O$6:$O$11,0),1))","v":""},null,null,null,null,{"$f":"IF(AJ369=\"\",\"\",INDEX('OTRAS REFERENCIAS'!$Q$6:$R$11,MATCH(AJ369,'OTRAS REFERENCIAS'!$R$6:$R$11,0),1))","v":""},null,null,null,{"$f":"IF(AN369=\"\",\"\",INDEX('OTRAS REFERENCIAS'!$T$6:$U$11,MATCH(AN369,'OTRAS REFERENCIAS'!$U$6:$U$11,0),1))","v":""}]
[1,"",368,"","",{"$f":"IF(L370<>\"\",CONCATENATE(DIGITADOR!$B$2,$A$2,DIGITADOR!$M$1,A370),\"\")","v":""},null,null,"",{"$f":"IF(K370=\"\",\"\",INDEX('OTRAS REFERENCIAS'!$AL:$AM,MATCH(K370,'OTRAS REFERENCIAS'!$AL:$AL,0),2))","v":""},null,{"$f":"IF(J370=\"\",\"\",INDEX(referentes!$S:$W,MATCH(J370,referentes!$S:$S,0),1))","v":""},null,null,null,null,null,null,null,{"$f":"IF(U370=\"\",\"\",INDEX('OTRAS REFERENCIAS'!$H$6:$I$11,MATCH(U370,'OTRAS REFERENCIAS'!$I$6:$I$11,0),1))","v":""},null,null,null,null,{"$f":"IF(Z370=\"\",\"\",INDEX('OTRAS REFERENCIAS'!$K$6:$L$11,MATCH(Z370,'OTRAS REFERENCIAS'!$L$6:$L$11,0),1))","v":""},null,null,null,null,{"$f":"IF(AE370=\"\",\"\",INDEX('OTRAS REFERENCIAS'!$N$6:$O$11,MATCH(AE370,'OTRAS REFERENCIAS'!$O$6:$O$11,0),1))","v":""},null,null,null,null,{"$f":"IF(AJ370=\"\",\"\",INDEX('OTRAS REFERENCIAS'!$Q$6:$R$11,MATCH(AJ370,'OTRAS REFERENCIAS'!$R$6:$R$11,0),1))","v":""},null,null,null,{"$f":"IF(AN370=\"\",\"\",INDEX('OTRAS REFERENCIAS'!$T$6:$U$11,MATCH(AN370,'OTRAS REFERENCIAS'!$U$6:$U$11,0),1))","v":""}]
[1,"",369,"","",{"$f":"IF(L371<>\"\",CONCATENATE(DIGITADOR!$B$2,$A$2,DIGITADOR!$M$1,A371),\"\")","v":""},null,null,"",{"$f":"IF(K371=\"\",\"\",INDEX('OTRAS REFERENCIAS'!$AL:$AM,MATCH(K371,'OTRAS REFERENCIAS'!$AL:$AL,0),2))","v":""},null,{"$f":"IF(J371=\"\",\"\",INDEX(referentes!$S:$W,MATCH(J371,referentes!$S:$S,0),1))","v":""},null,null,null,null,null,null,null,{"$f":"IF(U371=\"\",\"\",INDEX('OTRAS REFERENCIAS'!$H$6:$I$11,MATCH(U371,'OTRAS REFERENCIAS'!$I$6:$I$11,0),1))","v":""},null,null,null,null,{"$f":"IF(Z371=\"\",\"\",INDEX('OTRAS REFERENCIAS'!$K$6:$L$11,MATCH(Z371,'OTRAS REFERENCIAS'!$L$6:$L$11,0),1))","v":""},null,null,null,null,{"$f":"IF(AE371=\"\",\"\",INDEX('OTRAS REFERENCIAS'!$N$6:$O$11,MATCH(AE371,'OTRAS REFERENCIAS'!$O$6:$O$11,0),1))","v":""},null,null,null,null,{"$f":"IF(AJ371=\"\",\"\",INDEX('OTRAS REFERENCIAS'!$Q$6:$R$11,MATCH(AJ371,'OTRAS REFERENCIAS'!$R$6:$R$11,0),1))","v":""},null,null,null,{"$f":"IF(AN371=\"\",\"\",INDEX('OTRAS REFERENCIAS'!$T$6:$U$11,MATCH(AN371,'OTRAS REFERENCIAS'!$U$6:$U$11,0),1))","v":""}]
[1,"",370,"","",{"$f":"IF(L372<>\"\",CONCATENATE(DIGITADOR!$B$2,$A$2,DIGITADOR!$M$1,A372),\"\")","v":""},null,null,"",{"$f":"IF(K372=\"\",\"\",INDEX('OTRAS REFERENCIAS'!$AL:$AM,MATCH(K372,'OTRAS REFERENCIAS'!$AL:$AL,0),2))","v":""},null,{"$f":"IF(J372=\"\",\"\",INDEX(referentes!$S:$W,MATCH(J372,referentes!$S:$S,0),1))","v":""},null,null,null,null,null,null,null,{"$f":"IF(U372=\"\",\"\",INDEX('OTRAS REFERENCIAS'!$H$6:$I$11,MATCH(U372,'OTRAS REFERENCIAS'!$I$6:$I$11,0),1))","v":""},null,null,null,null,{"$f":"IF(Z372=\"\",\"\",INDEX('OTRAS REFERENCIAS'!$K$6:$L$11,MATCH(Z372,'OTRAS REFERENCIAS'!$L$6:$L$11,0),1))","v":""},null,null,null,null,{"$f":"IF(AE372=\"\",\"\",INDEX('OTRAS REFERENCIAS'!$N$6:$O$11,MATCH(AE372,'OTRAS REFERENCIAS'!$O$6:$O$11,0),1))","v":""},null,null,null,null,{"$f":"IF(AJ372=\"\",\"\",INDEX('OTRAS REFERENCIAS'!$Q$6:$R$11,MATCH(AJ372,'OTRAS REFERENCIAS'!$R$6:$R$11,0),1))","v":""},null,null,null,{"$f":"IF(AN372=\"\",\"\",INDEX('OTRAS REFERENCIAS'!$T$6:$U$11,MATCH(AN372,'OTRAS REFERENCIAS'!$U$6:$U$11,0),1))","v":""}]
[1,"",371,"","",{"$f":"IF(L373<>\"\",CONCATENATE(DIGITADOR!$B$2,$A$2,DIGITADOR!$M$1,A373),\"\")","v":""},null,null,"",{"$f":"IF(K373=\"\",\"\",INDEX('OTRAS REFERENCIAS'!$AL:$AM,MATCH(K373,'OTRAS REFERENCIAS'!$AL:$AL,0),2))","v":""},null,{"$f":"IF(J373=\"\",\"\",INDEX(referentes!$S:$W,MATCH(J373,referentes!$S:$S,0),1))","v":""},null,null,null,null,null,null,null,{"$f":"IF(U373=\"\",\"\",INDEX('OTRAS REFERENCIAS'!$H$6:$I$11,MATCH(U373,'OTRAS REFERENCIAS'!$I$6:$I$11,0),1))","v":""},null,null,null,null,{"$f":"IF(Z373=\"\",\"\",INDEX('OTRAS REFERENCIAS'!$K$6:$L$11,MATCH(Z373,'OTRAS REFERENCIAS'!$L$6:$L$11,0),1))","v":""},null,null,null,null,{"$f":"IF(AE373=\"\",\"\",INDEX('OTRAS REFERENCIAS'!$N$6:$O$11,MATCH(AE373,'OTRAS REFERENCIAS'!$O$6:$O$11,0),1))","v":""},null,null,null,null,{"$f":"IF(AJ373=\"\",\"\",INDEX('OTRAS REFERENCIAS'!$Q$6:$R$11,MATCH(AJ373,'OTRAS REFERENCIAS'!$R$6:$R$11,0),1))","v":""},null,null,null,{"$f":"IF(AN373=\"\",\"\",INDEX('OTRAS REFERENCIAS'!$T$6:$U$11,MATCH(AN373,'OTRAS REFERENCIAS'!$U$6:$U$11,0),1))","v":""}]
[1,"",372,"","",{"$f":"IF(L374<>\"\",CONCATENATE(DIGITADOR!$B$2,$A$2,DIGITADOR!$M$1,A374),\"\")","v":""},null,null,"",{"$f":"IF(K374=\"\",\"\",INDEX('OTRAS REFERENCIAS'!$AL:$AM,MATCH(K374,'OTRAS REFERENCIAS'!$AL:$AL,0),2))","v":""},null,{"$f":"IF(J374=\"\",\"\",INDEX(referentes!$S:$W,MATCH(J374,referentes!$S:$S,0),1))","v":""},null,null,null,null,null,null,null,{"$f":"IF(U374=\"\",\"\",INDEX('OTRAS REFERENCIAS'!$H$6:$I$11,MATCH(U374,'OTRAS REFERENCIAS'!$I$6:$I$11,0),1))","v":""},null,null,null,null,{"$f":"IF(Z374=\"\",\"\",INDEX('OTRAS REFERENCIAS'!$K$6:$L$11,MATCH(Z374,'OTRAS REFERENCIAS'!$L$6:$L$11,0),1))","v":""},null,null,null,null,{"$f":"IF(AE374=\"\",\"\",INDEX('OTRAS REFERENCIAS'!$N$6:$O$11,MATCH(AE374,'OTRAS REFERENCIAS'!$O$6:$O$11,0),1))","v":""},null,null,null,null,{"$f":"IF(AJ374=\"\",\"\",INDEX('OTRAS REFERENCIAS'!$Q$6:$R$11,MATCH(AJ374,'OTRAS REFERENCIAS'!$R$6:$R$11,0),1))","v":""},null,null,null,{"$f":"IF(AN374=\"\",\"\",INDEX('OTRAS REFERENCIAS'!$T$6:$U$11,MATCH(AN374,'OTRAS REFERENCIAS'!$U$6:$U$11,0),1))","v":""}]
[1,"",373,"","",{"$f":"IF(L375<>\"\",CONCATENATE(DIGITADOR!$B$2,$A$2,DIGITADOR!$M$1,A375),\"\")","v":""},null,null,"",{"$f":"IF(K375=\"\",\"\",INDEX('OTRAS REFERENCIAS'!$AL:$AM,MATCH(K375,'OTRAS REFERENCIAS'!$AL:$AL,0),2))","v":""},null,{"$f":"IF(J375=\"\",\"\",INDEX(referentes!$S:$W,MATCH(J375,referentes!$S:$S,0),1))","v":""},null,null,null,null,null,null,null,{"$f":"IF(U375=\"\",\"\",INDEX('OTRAS REFERENCIAS'!$H$6:$I$11,MATCH(U375,'OTRAS REFERENCIAS'!$I$6:$I$11,0),1))","v":""},null,null,null,null,{"$f":"IF(Z375=\"\",\"\",INDEX('OTRAS REFERENCIAS'!$K$6:$L$11,MATCH(Z375,'OTRAS REFERENCIAS'!$L$6:$L$11,0),1))","v":""},null,null,null,null,{"$f":"IF(AE375=\"\",\"\",INDEX('OTRAS REFERENCIAS'!$N$6:$O$11,MATCH(AE375,'OTRAS REFERENCIAS'!$O$6:$O$11,0),1))","v":""},null,null,null,null,{"$f":"IF(AJ375=\"\",\"\",INDEX('OTRAS REFERENCIAS'!$Q$6:$R$11,MATCH(AJ375,'OTRAS REFERENCIAS'!$R$6:$R$11,0),1))","v":""},null,null,null,{"$f":"IF(AN375=\"\",\"\",INDEX('OTRAS REFERENCIAS'!$T$6:$U$11,MATCH(AN375,'OTRAS REFERENCIAS'!$U$6:$U$11,0),1))","v":""}]
[1,"",374,"","",{"$f":"IF(L376<>\"\",CONCATENATE(DIGITADOR!$B$2,$A$2,DIGITADOR!$M$1,A376),\"\")","v":""},null,null,"",{"$f":"IF(K376=\"\",\"\",INDEX('OTRAS REFERENCIAS'!$AL:$AM,MATCH(K376,'OTRAS REFERENCIAS'!$AL:$AL,0),2))","v":""},null,{"$f":"IF(J376=\"\",\"\",INDEX(referentes!$S:$W,MATCH(J376,referentes!$S:$S,0),1))","v":""},null,null,null,null,null,null,null,{"$f":"IF(U376=\"\",\"\",INDEX('OTRAS REFERENCIAS'!$H$6:$I$11,MATCH(U376,'OTRAS REFERENCIAS'!$I$6:$I$11,0),1))","v":""},null,null,null,null,{"$f":"IF(Z376=\"\",\"\",INDEX('OTRAS REFERENCIAS'!$K$6:$L$11,MATCH(Z376,'OTRAS REFERENCIAS'!$L$6:$L$11,0),1))","v":""},null,null,null,null,{"$f":"IF(AE376=\"\",\"\",INDEX('OTRAS REFERENCIAS'!$N$6:$O$11,MATCH(AE376,'OTRAS REFERENCIAS'!$O$6:$O$11,0),1))","v":""},null,null,null,null,{"$f":"IF(AJ376=\"\",\"\",INDEX('OTRAS REFERENCIAS'!$Q$6:$R$11,MATCH(AJ376,'OTRAS REFERENCIAS'!$R$6:$R$11,0),1))","v":""},null,null,null,{"$f":"IF(AN376=\"\",\"\",INDEX('OTRAS REFERENCIAS'!$T$6:$U$11,MATCH(AN376,'OTRAS REFERENCIAS'!$U$6:$U$11,0),1))","v":""}]
[1,"",375,"","",{"$f":"IF(L377<>\"\",CONCATENATE(DIGITADOR!$B$2,$A$2,DIGITADOR!$M$1,A377),\"\")","v":""},null,null,"",{"$f":"IF(K377=\"\",\"\",INDEX('OTRAS REFERENCIAS'!$AL:$AM,MATCH(K377,'OTRAS REFERENCIAS'!$AL:$AL,0),2))","v":""},null,{"$f":"IF(J377=\"\",\"\",INDEX(referentes!$S:$W,MATCH(J377,referentes!$S:$S,0),1))","v":""},null,null,null,null,null,null,null,{"$f":"IF(U377=\"\",\"\",INDEX('OTRAS REFERENCIAS'!$H$6:$I$11,MATCH(U377,'OTRAS REFERENCIAS'!$I$6:$I$11,0),1))","v":""},null,null,null,null,{"$f":"IF(Z377=\"\",\"\",INDEX('OTRAS REFERENCIAS'!$K$6:$L$11,MATCH(Z377,'OTRAS REFERENCIAS'!$L$6:$L$11,0),1))","v":""},null,null,null,null,{"$f":"IF(AE377=\"\",\"\",INDEX('OTRAS REFERENCIAS'!$N$6:$O$11,MATCH(AE377,'OTRAS REFERENCIAS'!$O$6:$O$11,0),1))","v":""},null,null,null,null,{"$f":"IF(AJ377=\"\",\"\",INDEX('OTRAS REFERENCIAS'!$Q$6:$R$11,MATCH(AJ377,'OTRAS REFERENCIAS'!$R$6:$R$11,0),1))","v":""},null,null,null,{"$f":"IF(AN377=\"\",\"\",INDEX('OTRAS REFERENCIAS'!$T$6:$U$11,MATCH(AN377,'OTRAS REFERENCIAS'!$U$6:$U$11,0),1))","v":""}]
[1,"",376,"","",{"$f":"IF(L378<>\"\",CONCATENATE(DIGITADOR!$B$2,$A$2,DIGITADOR!$M$1,A378),\"\")","v":""},null,null,"",{"$f":"IF(K378=\"\",\"\",INDEX('OTRAS REFERENCIAS'!$AL:$AM,MATCH(K378,'OTRAS REFERENCIAS'!$AL:$AL,0),2))","v":""},null,{"$f":"IF(J378=\"\",\"\",INDEX(referentes!$S:$W,MATCH(J378,referentes!$S:$S,0),1))","v":""},null,null,null,null,null,null,null,{"$f":"IF(U378=\"\",\"\",INDEX('OTRAS REFERENCIAS'!$H$6:$I$11,MATCH(U378,'OTRAS REFERENCIAS'!$I$6:$I$11,0),1))","v":""},null,null,null,null,{"$f":"IF(Z378=\"\",\"\",INDEX('OTRAS REFERENCIAS'!$K$6:$L$11,MATCH(Z378,'OTRAS REFERENCIAS'!$L$6:$L$11,0),1))","v":""},null,null,null,null,{"$f":"IF(AE378=\"\",\"\",INDEX('OTRAS REFERENCIAS'!$N$6:$O$11,MATCH(AE378,'OTRAS REFERENCIAS'!$O$6:$O$11,0),1))","v":""},null,null,null,null,{"$f":"IF(AJ378=\"\",\"\",INDEX('OTRAS REFERENCIAS'!$Q$6:$R$11,MATCH(AJ378,'OTRAS REFERENCIAS'!$R$6:$R$11,0),1))","v":""},null,null,null,{"$f":"IF(AN378=\"\",\"\",INDEX('OTRAS REFERENCIAS'!$T$6:$U$11,MATCH(AN378,'OTRAS REFERENCIAS'!$U$6:$U$11,0),1))","v":""}]
[1,"",377,"","",{"$f":"IF(L379<>\"\",CONCATENATE(DIGITADOR!$B$2,$A$2,DIGITADOR!$M$1,A379),\"\")","v":""},null,null,"",{"$f":"IF(K379=\"\",\"\",INDEX('OTRAS REFERENCIAS'!$AL:$AM,MATCH(K379,'OTRAS REFERENCIAS'!$AL:$AL,0),2))","v":""},null,{"$f":"IF(J379=\"\",\"\",INDEX(referentes!$S:$W,MATCH(J379,referentes!$S:$S,0),1))","v":""},null,null,null,null,null,null,null,{"$f":"IF(U379=\"\",\"\",INDEX('OTRAS REFERENCIAS'!$H$6:$I$11,MATCH(U379,'OTRAS REFERENCIAS'!$I$6:$I$11,0),1))","v":""},null,null,null,null,{"$f":"IF(Z379=\"\",\"\",INDEX('OTRAS REFERENCIAS'!$K$6:$L$11,MATCH(Z379,'OTRAS REFERENCIAS'!$L$6:$L$11,0),1))","v":""},null,null,null,null,{"$f":"IF(AE379=\"\",\"\",INDEX('OTRAS REFERENCIAS'!$N$6:$O$11,MATCH(AE379,'OTRAS REFERENCIAS'!$O$6:$O$11,0),1))","v":""},null,null,null,null,{"$f":"IF(AJ379=\"\",\"\",INDEX('OTRAS REFERENCIAS'!$Q$6:$R$11,MATCH(AJ379,'OTRAS REFERENCIAS'!$R$6:$R$11,0),1))","v":""},null,null,null,{"$f":"IF(AN379=\"\",\"\",INDEX('OTRAS REFERENCIAS'!$T$6:$U$11,MATCH(AN379,'OTRAS REFERENCIAS'!$U$6:$U$11,0),1))","v":""}]
[1,"",378,"","",{"$f":"IF(L380<>\"\",CONCATENATE(DIGITADOR!$B$2,$A$2,DIGITADOR!$M$1,A380),\"\")","v":""},null,null,"",{"$f":"IF(K380=\"\",\"\",INDEX('OTRAS REFERENCIAS'!$AL:$AM,MATCH(K380,'OTRAS REFERENCIAS'!$AL:$AL,0),2))","v":""},null,{"$f":"IF(J380=\"\",\"\",INDEX(referentes!$S:$W,MATCH(J380,referentes!$S:$S,0),1))","v":""},null,null,null,null,null,null,null,{"$f":"IF(U380=\"\",\"\",INDEX('OTRAS REFERENCIAS'!$H$6:$I$11,MATCH(U380,'OTRAS REFERENCIAS'!$I$6:$I$11,0),1))","v":""},null,null,null,null,{"$f":"IF(Z380=\"\",\"\",INDEX('OTRAS REFERENCIAS'!$K$6:$L$11,MATCH(Z380,'OTRAS REFERENCIAS'!$L$6:$L$11,0),1))","v":""},null,null,null,null,{"$f":"IF(AE380=\"\",\"\",INDEX('OTRAS REFERENCIAS'!$N$6:$O$11,MATCH(AE380,'OTRAS REFERENCIAS'!$O$6:$O$11,0),1))","v":""},null,null,null,null,{"$f":"IF(AJ380=\"\",\"\",INDEX('OTRAS REFERENCIAS'!$Q$6:$R$11,MATCH(AJ380,'OTRAS REFERENCIAS'!$R$6:$R$11,0),1))","v":""},null,null,null,{"$f":"IF(AN380=\"\",\"\",INDEX('OTRAS REFERENCIAS'!$T$6:$U$11,MATCH(AN380,'OTRAS REFERENCIAS'!$U$6:$U$11,0),1))","v":""}]
[1,"",379,"","",{"$f":"IF(L381<>\"\",CONCATENATE(DIGITADOR!$B$2,$A$2,DIGITADOR!$M$1,A381),\"\")","v":""},null,null,"",{"$f":"IF(K381=\"\",\"\",INDEX('OTRAS REFERENCIAS'!$AL:$AM,MATCH(K381,'OTRAS REFERENCIAS'!$AL:$AL,0),2))","v":""},null,{"$f":"IF(J381=\"\",\"\",INDEX(referentes!$S:$W,MATCH(J381,referentes!$S:$S,0),1))","v":""},null,null,null,null,null,null,null,{"$f":"IF(U381=\"\",\"\",INDEX('OTRAS REFERENCIAS'!$H$6:$I$11,MATCH(U381,'OTRAS REFERENCIAS'!$I$6:$I$11,0),1))","v":""},null,null,null,null,{"$f":"IF(Z381=\"\",\"\",INDEX('OTRAS REFERENCIAS'!$K$6:$L$11,MATCH(Z381,'OTRAS REFERENCIAS'!$L$6:$L$11,0),1))","v":""},null,null,null,null,{"$f":"IF(AE381=\"\",\"\",INDEX('OTRAS REFERENCIAS'!$N$6:$O$11,MATCH(AE381,'OTRAS REFERENCIAS'!$O$6:$O$11,0),1))","v":""},null,null,null,null,{"$f":"IF(AJ381=\"\",\"\",INDEX('OTRAS REFERENCIAS'!$Q$6:$R$11,MATCH(AJ381,'OTRAS REFERENCIAS'!$R$6:$R$11,0),1))","v":""},null,null,null,{"$f":"IF(AN381=\"\",\"\",INDEX('OTRAS REFERENCIAS'!$T$6:$U$11,MATCH(AN381,'OTRAS REFERENCIAS'!$U$6:$U$11,0),1))","v":""}]
[1,"",380,"","",{"$f":"IF(L382<>\"\",CONCATENATE(DIGITADOR!$B$2,$A$2,DIGITADOR!$M$1,A382),\"\")","v":""},null,null,"",{"$f":"IF(K382=\"\",\"\",INDEX('OTRAS REFERENCIAS'!$AL:$AM,MATCH(K382,'OTRAS REFERENCIAS'!$AL:$AL,0),2))","v":""},null,{"$f":"IF(J382=\"\",\"\",INDEX(referentes!$S:$W,MATCH(J382,referentes!$S:$S,0),1))","v":""},null,null,null,null,null,null,null,{"$f":"IF(U382=\"\",\"\",INDEX('OTRAS REFERENCIAS'!$H$6:$I$11,MATCH(U382,'OTRAS REFERENCIAS'!$I$6:$I$11,0),1))","v":""},null,null,null,null,{"$f":"IF(Z382=\"\",\"\",INDEX('OTRAS REFERENCIAS'!$K$6:$L$11,MATCH(Z382,'OTRAS REFERENCIAS'!$L$6:$L$11,0),1))","v":""},null,null,null,null,{"$f":"IF(AE382=\"\",\"\",INDEX('OTRAS REFERENCIAS'!$N$6:$O$11,MATCH(AE382,'OTRAS REFERENCIAS'!$O$6:$O$11,0),1))","v":""},null,null,null,null,{"$f":"IF(AJ382=\"\",\"\",INDEX('OTRAS REFERENCIAS'!$Q$6:$R$11,MATCH(AJ382,'OTRAS REFERENCIAS'!$R$6:$R$11,0),1))","v":""},null,null,null,{"$f":"IF(AN382=\"\",\"\",INDEX('OTRAS REFERENCIAS'!$T$6:$U$11,MATCH(AN382,'OTRAS REFERENCIAS'!$U$6:$U$11,0),1))","v":""}]
[1,"",381,"","",{"$f":"IF(L383<>\"\",CONCATENATE(DIGITADOR!$B$2,$A$2,DIGITADOR!$M$1,A383),\"\")","v":""},null,null,"",{"$f":"IF(K383=\"\",\"\",INDEX('OTRAS REFERENCIAS'!$AL:$AM,MATCH(K383,'OTRAS REFERENCIAS'!$AL:$AL,0),2))","v":""},null,{"$f":"IF(J383=\"\",\"\",INDEX(referentes!$S:$W,MATCH(J383,referentes!$S:$S,0),1))","v":""},null,null,null,null,null,null,null,{"$f":"IF(U383=\"\",\"\",INDEX('OTRAS REFERENCIAS'!$H$6:$I$11,MATCH(U383,'OTRAS REFERENCIAS'!$I$6:$I$11,0),1))","v":""},null,null,null,null,{"$f":"IF(Z383=\"\",\"\",INDEX('OTRAS REFERENCIAS'!$K$6:$L$11,MATCH(Z383,'OTRAS REFERENCIAS'!$L$6:$L$11,0),1))","v":""},null,null,null,null,{"$f":"IF(AE383=\"\",\"\",INDEX('OTRAS REFERENCIAS'!$N$6:$O$11,MATCH(AE383,'OTRAS REFERENCIAS'!$O$6:$O$11,0),1))","v":""},null,null,null,null,{"$f":"IF(AJ383=\"\",\"\",INDEX('OTRAS REFERENCIAS'!$Q$6:$R$11,MATCH(AJ383,'OTRAS REFERENCIAS'!$R$6:$R$11,0),1))","v":""},null,null,null,{"$f":"IF(AN383=\"\",\"\",INDEX('OTRAS REFERENCIAS'!$T$6:$U$11,MATCH(AN383,'OTRAS REFERENCIAS'!$U$6:$U$11,0),1))","v":""}]
[1,"",382,"","",{"$f":"IF(L384<>\"\",CONCATENATE(DIGITADOR!$B$2,$A$2,DIGITADOR!$M$1,A384),\"\")","v":""},null,null,"",{"$f":"IF(K384=\"\",\"\",INDEX('OTRAS REFERENCIAS'!$AL:$AM,MATCH(K384,'OTRAS REFERENCIAS'!$AL:$AL,0),2))","v":""},null,{"$f":"IF(J384=\"\",\"\",INDEX(referentes!$S:$W,MATCH(J384,referentes!$S:$S,0),1))","v":""},null,null,null,null,null,null,null,{"$f":"IF(U384=\"\",\"\",INDEX('OTRAS REFERENCIAS'!$H$6:$I$11,MATCH(U384,'OTRAS REFERENCIAS'!$I$6:$I$11,0),1))","v":""},null,null,null,null,{"$f":"IF(Z384=\"\",\"\",INDEX('OTRAS REFERENCIAS'!$K$6:$L$11,MATCH(Z384,'OTRAS REFERENCIAS'!$L$6:$L$11,0),1))","v":""},null,null,null,null,{"$f":"IF(AE384=\"\",\"\",INDEX('OTRAS REFERENCIAS'!$N$6:$O$11,MATCH(AE384,'OTRAS REFERENCIAS'!$O$6:$O$11,0),1))","v":""},null,null,null,null,{"$f":"IF(AJ384=\"\",\"\",INDEX('OTRAS REFERENCIAS'!$Q$6:$R$11,MATCH(AJ384,'OTRAS REFERENCIAS'!$R$6:$R$11,0),1))","v":""},null,null,null,{"$f":"IF(AN384=\"\",\"\",INDEX('OTRAS REFERENCIAS'!$T$6:$U$11,MATCH(AN384,'OTRAS REFERENCIAS'!$U$6:$U$11,0),1))","v":""}]
[1,"",383,"","",{"$f":"IF(L385<>\"\",CONCATENATE(DIGITADOR!$B$2,$A$2,DIGITADOR!$M$1,A385),\"\")","v":""},null,null,"",{"$f":"IF(K385=\"\",\"\",INDEX('OTRAS REFERENCIAS'!$AL:$AM,MATCH(K385,'OTRAS REFERENCIAS'!$AL:$AL,0),2))","v":""},null,{"$f":"IF(J385=\"\",\"\",INDEX(referentes!$S:$W,MATCH(J385,referentes!$S:$S,0),1))","v":""},null,null,null,null,null,null,null,{"$f":"IF(U385=\"\",\"\",INDEX('OTRAS REFERENCIAS'!$H$6:$I$11,MATCH(U385,'OTRAS REFERENCIAS'!$I$6:$I$11,0),1))","v":""},null,null,null,null,{"$f":"IF(Z385=\"\",\"\",INDEX('OTRAS REFERENCIAS'!$K$6:$L$11,MATCH(Z385,'OTRAS REFERENCIAS'!$L$6:$L$11,0),1))","v":""},null,null,null,null,{"$f":"IF(AE385=\"\",\"\",INDEX('OTRAS REFERENCIAS'!$N$6:$O$11,MATCH(AE385,'OTRAS REFERENCIAS'!$O$6:$O$11,0),1))","v":""},null,null,null,null,{"$f":"IF(AJ385=\"\",\"\",INDEX('OTRAS REFERENCIAS'!$Q$6:$R$11,MATCH(AJ385,'OTRAS REFERENCIAS'!$R$6:$R$11,0),1))","v":""},null,null,null,{"$f":"IF(AN385=\"\",\"\",INDEX('OTRAS REFERENCIAS'!$T$6:$U$11,MATCH(AN385,'OTRAS REFERENCIAS'!$U$6:$U$11,0),1))","v":""}]
[1,"",384,"","",{"$f":"IF(L386<>\"\",CONCATENATE(DIGITADOR!$B$2,$A$2,DIGITADOR!$M$1,A386),\"\")","v":""},null,null,"",{"$f":"IF(K386=\"\",\"\",INDEX('OTRAS REFERENCIAS'!$AL:$AM,MATCH(K386,'OTRAS REFERENCIAS'!$AL:$AL,0),2))","v":""},null,{"$f":"IF(J386=\"\",\"\",INDEX(referentes!$S:$W,MATCH(J386,referentes!$S:$S,0),1))","v":""},null,null,null,null,null,null,null,{"$f":"IF(U386=\"\",\"\",INDEX('OTRAS REFERENCIAS'!$H$6:$I$11,MATCH(U386,'OTRAS REFERENCIAS'!$I$6:$I$11,0),1))","v":""},null,null,null,null,{"$f":"IF(Z386=\"\",\"\",INDEX('OTRAS REFERENCIAS'!$K$6:$L$11,MATCH(Z386,'OTRAS REFERENCIAS'!$L$6:$L$11,0),1))","v":""},null,null,null,null,{"$f":"IF(AE386=\"\",\"\",INDEX('OTRAS REFERENCIAS'!$N$6:$O$11,MATCH(AE386,'OTRAS REFERENCIAS'!$O$6:$O$11,0),1))","v":""},null,null,null,null,{"$f":"IF(AJ386=\"\",\"\",INDEX('OTRAS REFERENCIAS'!$Q$6:$R$11,MATCH(AJ386,'OTRAS REFERENCIAS'!$R$6:$R$11,0),1))","v":""},null,null,null,{"$f":"IF(AN386=\"\",\"\",INDEX('OTRAS REFERENCIAS'!$T$6:$U$11,MATCH(AN386,'OTRAS REFERENCIAS'!$U$6:$U$11,0),1))","v":""}]
[1,"",385,"",{"$f":"CONCATENATE(I387,L387)","v":""},{"$f":"IF(L387<>\"\",CONCATENATE(DIGITADOR!$B$2,$A$2,DIGITADOR!$M$1,A387),\"\")","v":""},null,null,{"$f":"IF(G387<>\"\",G387+H387,\"\")","v":""},{"$f":"IF(K387=\"\",\"\",INDEX('OTRAS REFERENCIAS'!$AL:$AM,MATCH(K387,'OTRAS REFERENCIAS'!$AL:$AL,0),2))","v":""},null,{"$f":"IF(J387=\"\",\"\",INDEX(referentes!$S:$W,MATCH(J387,referentes!$S:$S,0),1))","v":""},null,null,null,null,null,null,null,{"$f":"IF(U387=\"\",\"\",INDEX('OTRAS REFERENCIAS'!$H$6:$I$11,MATCH(U387,'OTRAS REFERENCIAS'!$I$6:$I$11,0),1))","v":""},null,null,null,null,{"$f":"IF(Z387=\"\",\"\",INDEX('OTRAS REFERENCIAS'!$K$6:$L$11,MATCH(Z387,'OTRAS REFERENCIAS'!$L$6:$L$11,0),1))","v":""},null,null,null,null,{"$f":"IF(AE387=\"\",\"\",INDEX('OTRAS REFERENCIAS'!$N$6:$O$11,MATCH(AE387,'OTRAS REFERENCIAS'!$O$6:$O$11,0),1))","v":""},null,null,null,null,{"$f":"IF(AJ387=\"\",\"\",INDEX('OTRAS REFERENCIAS'!$Q$6:$R$11,MATCH(AJ387,'OTRAS REFERENCIAS'!$R$6:$R$11,0),1))","v":""},null,null,null,{"$f":"IF(AN387=\"\",\"\",INDEX('OTRAS REFERENCIAS'!$T$6:$U$11,MATCH(AN387,'OTRAS REFERENCIAS'!$U$6:$U$11,0),1))","v":""}]
[1,"",386,{"$f":"IF(L388=\"\",\"\",CONCATENATE(C388,F388))","v":""},"",{"$f":"IF(L388<>\"\",CONCATENATE(DIGITADOR!$B$2,$A$2,DIGITADOR!$M$1,A388),\"\")","v":""},null,null,"",{"$f":"IF(K388=\"\",\"\",INDEX('OTRAS REFERENCIAS'!$AL:$AM,MATCH(K388,'OTRAS REFERENCIAS'!$AL:$AL,0),2))","v":""},null,{"$f":"IF(J388=\"\",\"\",INDEX(referentes!$S:$W,MATCH(J388,referentes!$S:$S,0),1))","v":""},null,null,null,null,null,null,null,{"$f":"IF(U388=\"\",\"\",INDEX('OTRAS REFERENCIAS'!$H$6:$I$11,MATCH(U388,'OTRAS REFERENCIAS'!$I$6:$I$11,0),1))","v":""},null,null,null,null,{"$f":"IF(Z388=\"\",\"\",INDEX('OTRAS REFERENCIAS'!$K$6:$L$11,MATCH(Z388,'OTRAS REFERENCIAS'!$L$6:$L$11,0),1))","v":""},null,null,null,null,{"$f":"IF(AE388=\"\",\"\",INDEX('OTRAS REFERENCIAS'!$N$6:$O$11,MATCH(AE388,'OTRAS REFERENCIAS'!$O$6:$O$11,0),1))","v":""},null,null,null,null,{"$f":"IF(AJ388=\"\",\"\",INDEX('OTRAS REFERENCIAS'!$Q$6:$R$11,MATCH(AJ388,'OTRAS REFERENCIAS'!$R$6:$R$11,0),1))","v":""},null,null,null,{"$f":"IF(AN388=\"\",\"\",INDEX('OTRAS REFERENCIAS'!$T$6:$U$11,MATCH(AN388,'OTRAS REFERENCIAS'!$U$6:$U$11,0),1))","v":""}]
[{"$f":"IF(L389=L388,A388,A388+1)","v":1},{"$f":"IF(F389<>F388, F389,\"\")","v":""},387,"","",{"$f":"IF(L389<>\"\",CONCATENATE(DIGITADOR!$B$2,$A$2,DIGITADOR!$M$1,A389),\"\")","v":""},null,null,"",{"$f":"IF(K389=\"\",\"\",INDEX('OTRAS REFERENCIAS'!$AL:$AM,MATCH(K389,'OTRAS REFERENCIAS'!$AL:$AL,0),2))","v":""},null,{"$f":"IF(J389=\"\",\"\",INDEX(referentes!$S:$W,MATCH(J389,referentes!$S:$S,0),1))","v":""},null,null,null,null,null,null,null,{"$f":"IF(U389=\"\",\"\",INDEX('OTRAS REFERENCIAS'!$H$6:$I$11,MATCH(U389,'OTRAS REFERENCIAS'!$I$6:$I$11,0),1))","v":""},null,null,null,null,{"$f":"IF(Z389=\"\",\"\",INDEX('OTRAS REFERENCIAS'!$K$6:$L$11,MATCH(Z389,'OTRAS REFERENCIAS'!$L$6:$L$11,0),1))","v":""},null,null,null,null,{"$f":"IF(AE389=\"\",\"\",INDEX('OTRAS REFERENCIAS'!$N$6:$O$11,MATCH(AE389,'OTRAS REFERENCIAS'!$O$6:$O$11,0),1))","v":""},null,null,null,null,{"$f":"IF(AJ389=\"\",\"\",INDEX('OTRAS REFERENCIAS'!$Q$6:$R$11,MATCH(AJ389,'OTRAS REFERENCIAS'!$R$6:$R$11,0),1))","v":""},null,null,null,{"$f":"IF(AN389=\"\",\"\",INDEX('OTRAS REFERENCIAS'!$T$6:$U$11,MATCH(AN389,'OTRAS REFERENCIAS'!$U$6:$U$11,0),1))","v":""}]
[1,"",388,"","",{"$f":"IF(L390<>\"\",CONCATENATE(DIGITADOR!$B$2,$A$2,DIGITADOR!$M$1,A390),\"\")","v":""},null,null,"",{"$f":"IF(K390=\"\",\"\",INDEX('OTRAS REFERENCIAS'!$AL:$AM,MATCH(K390,'OTRAS REFERENCIAS'!$AL:$AL,0),2))","v":""},null,{"$f":"IF(J390=\"\",\"\",INDEX(referentes!$S:$W,MATCH(J390,referentes!$S:$S,0),1))","v":""},null,null,null,null,null,null,null,{"$f":"IF(U390=\"\",\"\",INDEX('OTRAS REFERENCIAS'!$H$6:$I$11,MATCH(U390,'OTRAS REFERENCIAS'!$I$6:$I$11,0),1))","v":""},null,null,null,null,{"$f":"IF(Z390=\"\",\"\",INDEX('OTRAS REFERENCIAS'!$K$6:$L$11,MATCH(Z390,'OTRAS REFERENCIAS'!$L$6:$L$11,0),1))","v":""},null,null,null,null,{"$f":"IF(AE390=\"\",\"\",INDEX('OTRAS REFERENCIAS'!$N$6:$O$11,MATCH(AE390,'OTRAS REFERENCIAS'!$O$6:$O$11,0),1))","v":""},null,null,null,null,{"$f":"IF(AJ390=\"\",\"\",INDEX('OTRAS REFERENCIAS'!$Q$6:$R$11,MATCH(AJ390,'OTRAS REFERENCIAS'!$R$6:$R$11,0),1))","v":""},null,null,null,{"$f":"IF(AN390=\"\",\"\",INDEX('OTRAS REFERENCIAS'!$T$6:$U$11,MATCH(AN390,'OTRAS REFERENCIAS'!$U$6:$U$11,0),1))","v":""}]
[1,"",389,"","",{"$f":"IF(L391<>\"\",CONCATENATE(DIGITADOR!$B$2,$A$2,DIGITADOR!$M$1,A391),\"\")","v":""},null,null,"",{"$f":"IF(K391=\"\",\"\",INDEX('OTRAS REFERENCIAS'!$AL:$AM,MATCH(K391,'OTRAS REFERENCIAS'!$AL:$AL,0),2))","v":""},null,{"$f":"IF(J391=\"\",\"\",INDEX(referentes!$S:$W,MATCH(J391,referentes!$S:$S,0),1))","v":""},null,null,null,null,null,null,null,{"$f":"IF(U391=\"\",\"\",INDEX('OTRAS REFERENCIAS'!$H$6:$I$11,MATCH(U391,'OTRAS REFERENCIAS'!$I$6:$I$11,0),1))","v":""},null,null,null,null,{"$f":"IF(Z391=\"\",\"\",INDEX('OTRAS REFERENCIAS'!$K$6:$L$11,MATCH(Z391,'OTRAS REFERENCIAS'!$L$6:$L$11,0),1))","v":""},null,null,null,null,{"$f":"IF(AE391=\"\",\"\",INDEX('OTRAS REFERENCIAS'!$N$6:$O$11,MATCH(AE391,'OTRAS REFERENCIAS'!$O$6:$O$11,0),1))","v":""},null,null,null,null,{"$f":"IF(AJ391=\"\",\"\",INDEX('OTRAS REFERENCIAS'!$Q$6:$R$11,MATCH(AJ391,'OTRAS REFERENCIAS'!$R$6:$R$11,0),1))","v":""},null,null,null,{"$f":"IF(AN391=\"\",\"\",INDEX('OTRAS REFERENCIAS'!$T$6:$U$11,MATCH(AN391,'OTRAS REFERENCIAS'!$U$6:$U$11,0),1))","v":""}]
[1,"",390,"","",{"$f":"IF(L392<>\"\",CONCATENATE(DIGITADOR!$B$2,$A$2,DIGITADOR!$M$1,A392),\"\")","v":""},null,null,"",{"$f":"IF(K392=\"\",\"\",INDEX('OTRAS REFERENCIAS'!$AL:$AM,MATCH(K392,'OTRAS REFERENCIAS'!$AL:$AL,0),2))","v":""},null,{"$f":"IF(J392=\"\",\"\",INDEX(referentes!$S:$W,MATCH(J392,referentes!$S:$S,0),1))","v":""},null,null,null,null,null,null,null,{"$f":"IF(U392=\"\",\"\",INDEX('OTRAS REFERENCIAS'!$H$6:$I$11,MATCH(U392,'OTRAS REFERENCIAS'!$I$6:$I$11,0),1))","v":""},null,null,null,null,{"$f":"IF(Z392=\"\",\"\",INDEX('OTRAS REFERENCIAS'!$K$6:$L$11,MATCH(Z392,'OTRAS REFERENCIAS'!$L$6:$L$11,0),1))","v":""},null,null,null,null,{"$f":"IF(AE392=\"\",\"\",INDEX('OTRAS REFERENCIAS'!$N$6:$O$11,MATCH(AE392,'OTRAS REFERENCIAS'!$O$6:$O$11,0),1))","v":""},null,null,null,null,{"$f":"IF(AJ392=\"\",\"\",INDEX('OTRAS REFERENCIAS'!$Q$6:$R$11,MATCH(AJ392,'OTRAS REFERENCIAS'!$R$6:$R$11,0),1))","v":""},null,null,null,{"$f":"IF(AN392=\"\",\"\",INDEX('OTRAS REFERENCIAS'!$T$6:$U$11,MATCH(AN392,'OTRAS REFERENCIAS'!$U$6:$U$11,0),1))","v":""}]
[1,"",391,"","",{"$f":"IF(L393<>\"\",CONCATENATE(DIGITADOR!$B$2,$A$2,DIGITADOR!$M$1,A393),\"\")","v":""},null,null,"",{"$f":"IF(K393=\"\",\"\",INDEX('OTRAS REFERENCIAS'!$AL:$AM,MATCH(K393,'OTRAS REFERENCIAS'!$AL:$AL,0),2))","v":""},null,{"$f":"IF(J393=\"\",\"\",INDEX(referentes!$S:$W,MATCH(J393,referentes!$S:$S,0),1))","v":""},null,null,null,null,null,null,null,{"$f":"IF(U393=\"\",\"\",INDEX('OTRAS REFERENCIAS'!$H$6:$I$11,MATCH(U393,'OTRAS REFERENCIAS'!$I$6:$I$11,0),1))","v":""},null,null,null,null,{"$f":"IF(Z393=\"\",\"\",INDEX('OTRAS REFERENCIAS'!$K$6:$L$11,MATCH(Z393,'OTRAS REFERENCIAS'!$L$6:$L$11,0),1))","v":""},null,null,null,null,{"$f":"IF(AE393=\"\",\"\",INDEX('OTRAS REFERENCIAS'!$N$6:$O$11,MATCH(AE393,'OTRAS REFERENCIAS'!$O$6:$O$11,0),1))","v":""},null,null,null,null,{"$f":"IF(AJ393=\"\",\"\",INDEX('OTRAS REFERENCIAS'!$Q$6:$R$11,MATCH(AJ393,'OTRAS REFERENCIAS'!$R$6:$R$11,0),1))","v":""},null,null,null,{"$f":"IF(AN393=\"\",\"\",INDEX('OTRAS REFERENCIAS'!$T$6:$U$11,MATCH(AN393,'OTRAS REFERENCIAS'!$U$6:$U$11,0),1))","v":""}]
[1,"",392,"","",{"$f":"IF(L394<>\"\",CONCATENATE(DIGITADOR!$B$2,$A$2,DIGITADOR!$M$1,A394),\"\")","v":""},null,null,"",{"$f":"IF(K394=\"\",\"\",INDEX('OTRAS REFERENCIAS'!$AL:$AM,MATCH(K394,'OTRAS REFERENCIAS'!$AL:$AL,0),2))","v":""},null,{"$f":"IF(J394=\"\",\"\",INDEX(referentes!$S:$W,MATCH(J394,referentes!$S:$S,0),1))","v":""},null,null,null,null,null,null,null,{"$f":"IF(U394=\"\",\"\",INDEX('OTRAS REFERENCIAS'!$H$6:$I$11,MATCH(U394,'OTRAS REFERENCIAS'!$I$6:$I$11,0),1))","v":""},null,null,null,null,{"$f":"IF(Z394=\"\",\"\",INDEX('OTRAS REFERENCIAS'!$K$6:$L$11,MATCH(Z394,'OTRAS REFERENCIAS'!$L$6:$L$11,0),1))","v":""},null,null,null,null,{"$f":"IF(AE394=\"\",\"\",INDEX('OTRAS REFERENCIAS'!$N$6:$O$11,MATCH(AE394,'OTRAS REFERENCIAS'!$O$6:$O$11,0),1))","v":""},null,null,null,null,{"$f":"IF(AJ394=\"\",\"\",INDEX('OTRAS REFERENCIAS'!$Q$6:$R$11,MATCH(AJ394,'OTRAS REFERENCIAS'!$R$6:$R$11,0),1))","v":""},null,null,null,{"$f":"IF(AN394=\"\",\"\",INDEX('OTRAS REFERENCIAS'!$T$6:$U$11,MATCH(AN394,'OTRAS REFERENCIAS'!$U$6:$U$11,0),1))","v":""}]
[1,"",393,"","",{"$f":"IF(L395<>\"\",CONCATENATE(DIGITADOR!$B$2,$A$2,DIGITADOR!$M$1,A395),\"\")","v":""},null,null,"",{"$f":"IF(K395=\"\",\"\",INDEX('OTRAS REFERENCIAS'!$AL:$AM,MATCH(K395,'OTRAS REFERENCIAS'!$AL:$AL,0),2))","v":""},null,{"$f":"IF(J395=\"\",\"\",INDEX(referentes!$S:$W,MATCH(J395,referentes!$S:$S,0),1))","v":""},null,null,null,null,null,null,null,{"$f":"IF(U395=\"\",\"\",INDEX('OTRAS REFERENCIAS'!$H$6:$I$11,MATCH(U395,'OTRAS REFERENCIAS'!$I$6:$I$11,0),1))","v":""},null,null,null,null,{"$f":"IF(Z395=\"\",\"\",INDEX('OTRAS REFERENCIAS'!$K$6:$L$11,MATCH(Z395,'OTRAS REFERENCIAS'!$L$6:$L$11,0),1))","v":""},null,null,null,null,{"$f":"IF(AE395=\"\",\"\",INDEX('OTRAS REFERENCIAS'!$N$6:$O$11,MATCH(AE395,'OTRAS REFERENCIAS'!$O$6:$O$11,0),1))","v":""},null,null,null,null,{"$f":"IF(AJ395=\"\",\"\",INDEX('OTRAS REFERENCIAS'!$Q$6:$R$11,MATCH(AJ395,'OTRAS REFERENCIAS'!$R$6:$R$11,0),1))","v":""},null,null,null,{"$f":"IF(AN395=\"\",\"\",INDEX('OTRAS REFERENCIAS'!$T$6:$U$11,MATCH(AN395,'OTRAS REFERENCIAS'!$U$6:$U$11,0),1))","v":""}]
[1,"",394,"","",{"$f":"IF(L396<>\"\",CONCATENATE(DIGITADOR!$B$2,$A$2,DIGITADOR!$M$1,A396),\"\")","v":""},null,null,"",{"$f":"IF(K396=\"\",\"\",INDEX('OTRAS REFERENCIAS'!$AL:$AM,MATCH(K396,'OTRAS REFERENCIAS'!$AL:$AL,0),2))","v":""},null,{"$f":"IF(J396=\"\",\"\",INDEX(referentes!$S:$W,MATCH(J396,referentes!$S:$S,0),1))","v":""},null,null,null,null,null,null,null,{"$f":"IF(U396=\"\",\"\",INDEX('OTRAS REFERENCIAS'!$H$6:$I$11,MATCH(U396,'OTRAS REFERENCIAS'!$I$6:$I$11,0),1))","v":""},null,null,null,null,{"$f":"IF(Z396=\"\",\"\",INDEX('OTRAS REFERENCIAS'!$K$6:$L$11,MATCH(Z396,'OTRAS REFERENCIAS'!$L$6:$L$11,0),1))","v":""},null,null,null,null,{"$f":"IF(AE396=\"\",\"\",INDEX('OTRAS REFERENCIAS'!$N$6:$O$11,MATCH(AE396,'OTRAS REFERENCIAS'!$O$6:$O$11,0),1))","v":""},null,null,null,null,{"$f":"IF(AJ396=\"\",\"\",INDEX('OTRAS REFERENCIAS'!$Q$6:$R$11,MATCH(AJ396,'OTRAS REFERENCIAS'!$R$6:$R$11,0),1))","v":""},null,null,null,{"$f":"IF(AN396=\"\",\"\",INDEX('OTRAS REFERENCIAS'!$T$6:$U$11,MATCH(AN396,'OTRAS REFERENCIAS'!$U$6:$U$11,0),1))","v":""}]
[1,"",395,"","",{"$f":"IF(L397<>\"\",CONCATENATE(DIGITADOR!$B$2,$A$2,DIGITADOR!$M$1,A397),\"\")","v":""},null,null,"",{"$f":"IF(K397=\"\",\"\",INDEX('OTRAS REFERENCIAS'!$AL:$AM,MATCH(K397,'OTRAS REFERENCIAS'!$AL:$AL,0),2))","v":""},null,{"$f":"IF(J397=\"\",\"\",INDEX(referentes!$S:$W,MATCH(J397,referentes!$S:$S,0),1))","v":""},null,null,null,null,null,null,null,{"$f":"IF(U397=\"\",\"\",INDEX('OTRAS REFERENCIAS'!$H$6:$I$11,MATCH(U397,'OTRAS REFERENCIAS'!$I$6:$I$11,0),1))","v":""},null,null,null,null,{"$f":"IF(Z397=\"\",\"\",INDEX('OTRAS REFERENCIAS'!$K$6:$L$11,MATCH(Z397,'OTRAS REFERENCIAS'!$L$6:$L$11,0),1))","v":""},null,null,null,null,{"$f":"IF(AE397=\"\",\"\",INDEX('OTRAS REFERENCIAS'!$N$6:$O$11,MATCH(AE397,'OTRAS REFERENCIAS'!$O$6:$O$11,0),1))","v":""},null,null,null,null,{"$f":"IF(AJ397=\"\",\"\",INDEX('OTRAS REFERENCIAS'!$Q$6:$R$11,MATCH(AJ397,'OTRAS REFERENCIAS'!$R$6:$R$11,0),1))","v":""},null,null,null,{"$f":"IF(AN397=\"\",\"\",INDEX('OTRAS REFERENCIAS'!$T$6:$U$11,MATCH(AN397,'OTRAS REFERENCIAS'!$U$6:$U$11,0),1))","v":""}]
[1,"",396,"","",{"$f":"IF(L398<>\"\",CONCATENATE(DIGITADOR!$B$2,$A$2,DIGITADOR!$M$1,A398),\"\")","v":""},null,null,"",{"$f":"IF(K398=\"\",\"\",INDEX('OTRAS REFERENCIAS'!$AL:$AM,MATCH(K398,'OTRAS REFERENCIAS'!$AL:$AL,0),2))","v":""},null,{"$f":"IF(J398=\"\",\"\",INDEX(referentes!$S:$W,MATCH(J398,referentes!$S:$S,0),1))","v":""},null,null,null,null,null,null,null,{"$f":"IF(U398=\"\",\"\",INDEX('OTRAS REFERENCIAS'!$H$6:$I$11,MATCH(U398,'OTRAS REFERENCIAS'!$I$6:$I$11,0),1))","v":""},null,null,null,null,{"$f":"IF(Z398=\"\",\"\",INDEX('OTRAS REFERENCIAS'!$K$6:$L$11,MATCH(Z398,'OTRAS REFERENCIAS'!$L$6:$L$11,0),1))","v":""},null,null,null,null,{"$f":"IF(AE398=\"\",\"\",INDEX('OTRAS REFERENCIAS'!$N$6:$O$11,MATCH(AE398,'OTRAS REFERENCIAS'!$O$6:$O$11,0),1))","v":""},null,null,null,null,{"$f":"IF(AJ398=\"\",\"\",INDEX('OTRAS REFERENCIAS'!$Q$6:$R$11,MATCH(AJ398,'OTRAS REFERENCIAS'!$R$6:$R$11,0),1))","v":""},null,null,null,{"$f":"IF(AN398=\"\",\"\",INDEX('OTRAS REFERENCIAS'!$T$6:$U$11,MATCH(AN398,'OTRAS REFERENCIAS'!$U$6:$U$11,0),1))","v":""}]
[1,"",397,"","",{"$f":"IF(L399<>\"\",CONCATENATE(DIGITADOR!$B$2,$A$2,DIGITADOR!$M$1,A399),\"\")","v":""},null,null,"",{"$f":"IF(K399=\"\",\"\",INDEX('OTRAS REFERENCIAS'!$AL:$AM,MATCH(K399,'OTRAS REFERENCIAS'!$AL:$AL,0),2))","v":""},null,{"$f":"IF(J399=\"\",\"\",INDEX(referentes!$S:$W,MATCH(J399,referentes!$S:$S,0),1))","v":""},null,null,null,null,null,null,null,{"$f":"IF(U399=\"\",\"\",INDEX('OTRAS REFERENCIAS'!$H$6:$I$11,MATCH(U399,'OTRAS REFERENCIAS'!$I$6:$I$11,0),1))","v":""},null,null,null,null,{"$f":"IF(Z399=\"\",\"\",INDEX('OTRAS REFERENCIAS'!$K$6:$L$11,MATCH(Z399,'OTRAS REFERENCIAS'!$L$6:$L$11,0),1))","v":""},null,null,null,null,{"$f":"IF(AE399=\"\",\"\",INDEX('OTRAS REFERENCIAS'!$N$6:$O$11,MATCH(AE399,'OTRAS REFERENCIAS'!$O$6:$O$11,0),1))","v":""},null,null,null,null,{"$f":"IF(AJ399=\"\",\"\",INDEX('OTRAS REFERENCIAS'!$Q$6:$R$11,MATCH(AJ399,'OTRAS REFERENCIAS'!$R$6:$R$11,0),1))","v":""},null,null,null,{"$f":"IF(AN399=\"\",\"\",INDEX('OTRAS REFERENCIAS'!$T$6:$U$11,MATCH(AN399,'OTRAS REFERENCIAS'!$U$6:$U$11,0),1))","v":""}]
[1,"",398,"","",{"$f":"IF(L400<>\"\",CONCATENATE(DIGITADOR!$B$2,$A$2,DIGITADOR!$M$1,A400),\"\")","v":""},null,null,"",{"$f":"IF(K400=\"\",\"\",INDEX('OTRAS REFERENCIAS'!$AL:$AM,MATCH(K400,'OTRAS REFERENCIAS'!$AL:$AL,0),2))","v":""},null,{"$f":"IF(J400=\"\",\"\",INDEX(referentes!$S:$W,MATCH(J400,referentes!$S:$S,0),1))","v":""},null,null,null,null,null,null,null,{"$f":"IF(U400=\"\",\"\",INDEX('OTRAS REFERENCIAS'!$H$6:$I$11,MATCH(U400,'OTRAS REFERENCIAS'!$I$6:$I$11,0),1))","v":""},null,null,null,null,{"$f":"IF(Z400=\"\",\"\",INDEX('OTRAS REFERENCIAS'!$K$6:$L$11,MATCH(Z400,'OTRAS REFERENCIAS'!$L$6:$L$11,0),1))","v":""},null,null,null,null,{"$f":"IF(AE400=\"\",\"\",INDEX('OTRAS REFERENCIAS'!$N$6:$O$11,MATCH(AE400,'OTRAS REFERENCIAS'!$O$6:$O$11,0),1))","v":""},null,null,null,null,{"$f":"IF(AJ400=\"\",\"\",INDEX('OTRAS REFERENCIAS'!$Q$6:$R$11,MATCH(AJ400,'OTRAS REFERENCIAS'!$R$6:$R$11,0),1))","v":""},null,null,null,{"$f":"IF(AN400=\"\",\"\",INDEX('OTRAS REFERENCIAS'!$T$6:$U$11,MATCH(AN400,'OTRAS REFERENCIAS'!$U$6:$U$11,0),1))","v":""}]
[1,"",399,"","",{"$f":"IF(L401<>\"\",CONCATENATE(DIGITADOR!$B$2,$A$2,DIGITADOR!$M$1,A401),\"\")","v":""},null,null,"",{"$f":"IF(K401=\"\",\"\",INDEX('OTRAS REFERENCIAS'!$AL:$AM,MATCH(K401,'OTRAS REFERENCIAS'!$AL:$AL,0),2))","v":""},null,{"$f":"IF(J401=\"\",\"\",INDEX(referentes!$S:$W,MATCH(J401,referentes!$S:$S,0),1))","v":""},null,null,null,null,null,null,null,{"$f":"IF(U401=\"\",\"\",INDEX('OTRAS REFERENCIAS'!$H$6:$I$11,MATCH(U401,'OTRAS REFERENCIAS'!$I$6:$I$11,0),1))","v":""},null,null,null,null,{"$f":"IF(Z401=\"\",\"\",INDEX('OTRAS REFERENCIAS'!$K$6:$L$11,MATCH(Z401,'OTRAS REFERENCIAS'!$L$6:$L$11,0),1))","v":""},null,null,null,null,{"$f":"IF(AE401=\"\",\"\",INDEX('OTRAS REFERENCIAS'!$N$6:$O$11,MATCH(AE401,'OTRAS REFERENCIAS'!$O$6:$O$11,0),1))","v":""},null,null,null,null,{"$f":"IF(AJ401=\"\",\"\",INDEX('OTRAS REFERENCIAS'!$Q$6:$R$11,MATCH(AJ401,'OTRAS REFERENCIAS'!$R$6:$R$11,0),1))","v":""},null,null,null,{"$f":"IF(AN401=\"\",\"\",INDEX('OTRAS REFERENCIAS'!$T$6:$U$11,MATCH(AN401,'OTRAS REFERENCIAS'!$U$6:$U$11,0),1))","v":""}]
[1,"",400,"","",{"$f":"IF(L402<>\"\",CONCATENATE(DIGITADOR!$B$2,$A$2,DIGITADOR!$M$1,A402),\"\")","v":""},null,null,"",{"$f":"IF(K402=\"\",\"\",INDEX('OTRAS REFERENCIAS'!$AL:$AM,MATCH(K402,'OTRAS REFERENCIAS'!$AL:$AL,0),2))","v":""},null,{"$f":"IF(J402=\"\",\"\",INDEX(referentes!$S:$W,MATCH(J402,referentes!$S:$S,0),1))","v":""},null,null,null,null,null,null,null,{"$f":"IF(U402=\"\",\"\",INDEX('OTRAS REFERENCIAS'!$H$6:$I$11,MATCH(U402,'OTRAS REFERENCIAS'!$I$6:$I$11,0),1))","v":""},null,null,null,null,{"$f":"IF(Z402=\"\",\"\",INDEX('OTRAS REFERENCIAS'!$K$6:$L$11,MATCH(Z402,'OTRAS REFERENCIAS'!$L$6:$L$11,0),1))","v":""},null,null,null,null,{"$f":"IF(AE402=\"\",\"\",INDEX('OTRAS REFERENCIAS'!$N$6:$O$11,MATCH(AE402,'OTRAS REFERENCIAS'!$O$6:$O$11,0),1))","v":""},null,null,null,null,{"$f":"IF(AJ402=\"\",\"\",INDEX('OTRAS REFERENCIAS'!$Q$6:$R$11,MATCH(AJ402,'OTRAS REFERENCIAS'!$R$6:$R$11,0),1))","v":""},null,null,null,{"$f":"IF(AN402=\"\",\"\",INDEX('OTRAS REFERENCIAS'!$T$6:$U$11,MATCH(AN402,'OTRAS REFERENCIAS'!$U$6:$U$11,0),1))","v":""}]
[1,"",401,"","",{"$f":"IF(L403<>\"\",CONCATENATE(DIGITADOR!$B$2,$A$2,DIGITADOR!$M$1,A403),\"\")","v":""},null,null,"",{"$f":"IF(K403=\"\",\"\",INDEX('OTRAS REFERENCIAS'!$AL:$AM,MATCH(K403,'OTRAS REFERENCIAS'!$AL:$AL,0),2))","v":""},null,{"$f":"IF(J403=\"\",\"\",INDEX(referentes!$S:$W,MATCH(J403,referentes!$S:$S,0),1))","v":""},null,null,null,null,null,null,null,{"$f":"IF(U403=\"\",\"\",INDEX('OTRAS REFERENCIAS'!$H$6:$I$11,MATCH(U403,'OTRAS REFERENCIAS'!$I$6:$I$11,0),1))","v":""},null,null,null,null,{"$f":"IF(Z403=\"\",\"\",INDEX('OTRAS REFERENCIAS'!$K$6:$L$11,MATCH(Z403,'OTRAS REFERENCIAS'!$L$6:$L$11,0),1))","v":""},null,null,null,null,{"$f":"IF(AE403=\"\",\"\",INDEX('OTRAS REFERENCIAS'!$N$6:$O$11,MATCH(AE403,'OTRAS REFERENCIAS'!$O$6:$O$11,0),1))","v":""},null,null,null,null,{"$f":"IF(AJ403=\"\",\"\",INDEX('OTRAS REFERENCIAS'!$Q$6:$R$11,MATCH(AJ403,'OTRAS REFERENCIAS'!$R$6:$R$11,0),1))","v":""},null,null,null,{"$f":"IF(AN403=\"\",\"\",INDEX('OTRAS REFERENCIAS'!$T$6:$U$11,MATCH(AN403,'OTRAS REFERENCIAS'!$U$6:$U$11,0),1))","v":""}]
[1,"",402,"","",{"$f":"IF(L404<>\"\",CONCATENATE(DIGITADOR!$B$2,$A$2,DIGITADOR!$M$1,A404),\"\")","v":""},null,null,"",{"$f":"IF(K404=\"\",\"\",INDEX('OTRAS REFERENCIAS'!$AL:$AM,MATCH(K404,'OTRAS REFERENCIAS'!$AL:$AL,0),2))","v":""},null,{"$f":"IF(J404=\"\",\"\",INDEX(referentes!$S:$W,MATCH(J404,referentes!$S:$S,0),1))","v":""},null,null,null,null,null,null,null,{"$f":"IF(U404=\"\",\"\",INDEX('OTRAS REFERENCIAS'!$H$6:$I$11,MATCH(U404,'OTRAS REFERENCIAS'!$I$6:$I$11,0),1))","v":""},null,null,null,null,{"$f":"IF(Z404=\"\",\"\",INDEX('OTRAS REFERENCIAS'!$K$6:$L$11,MATCH(Z404,'OTRAS REFERENCIAS'!$L$6:$L$11,0),1))","v":""},null,null,null,null,{"$f":"IF(AE404=\"\",\"\",INDEX('OTRAS REFERENCIAS'!$N$6:$O$11,MATCH(AE404,'OTRAS REFERENCIAS'!$O$6:$O$11,0),1))","v":""},null,null,null,null,{"$f":"IF(AJ404=\"\",\"\",INDEX('OTRAS REFERENCIAS'!$Q$6:$R$11,MATCH(AJ404,'OTRAS REFERENCIAS'!$R$6:$R$11,0),1))","v":""},null,null,null,{"$f":"IF(AN404=\"\",\"\",INDEX('OTRAS REFERENCIAS'!$T$6:$U$11,MATCH(AN404,'OTRAS REFERENCIAS'!$U$6:$U$11,0),1))","v":""}]
[1,"",403,"","",{"$f":"IF(L405<>\"\",CONCATENATE(DIGITADOR!$B$2,$A$2,DIGITADOR!$M$1,A405),\"\")","v":""},null,null,"",{"$f":"IF(K405=\"\",\"\",INDEX('OTRAS REFERENCIAS'!$AL:$AM,MATCH(K405,'OTRAS REFERENCIAS'!$AL:$AL,0),2))","v":""},null,{"$f":"IF(J405=\"\",\"\",INDEX(referentes!$S:$W,MATCH(J405,referentes!$S:$S,0),1))","v":""},null,null,null,null,null,null,null,{"$f":"IF(U405=\"\",\"\",INDEX('OTRAS REFERENCIAS'!$H$6:$I$11,MATCH(U405,'OTRAS REFERENCIAS'!$I$6:$I$11,0),1))","v":""},null,null,null,null,{"$f":"IF(Z405=\"\",\"\",INDEX('OTRAS REFERENCIAS'!$K$6:$L$11,MATCH(Z405,'OTRAS REFERENCIAS'!$L$6:$L$11,0),1))","v":""},null,null,null,null,{"$f":"IF(AE405=\"\",\"\",INDEX('OTRAS REFERENCIAS'!$N$6:$O$11,MATCH(AE405,'OTRAS REFERENCIAS'!$O$6:$O$11,0),1))","v":""},null,null,null,null,{"$f":"IF(AJ405=\"\",\"\",INDEX('OTRAS REFERENCIAS'!$Q$6:$R$11,MATCH(AJ405,'OTRAS REFERENCIAS'!$R$6:$R$11,0),1))","v":""},null,null,null,{"$f":"IF(AN405=\"\",\"\",INDEX('OTRAS REFERENCIAS'!$T$6:$U$11,MATCH(AN405,'OTRAS REFERENCIAS'!$U$6:$U$11,0),1))","v":""}]
[1,"",404,"","",{"$f":"IF(L406<>\"\",CONCATENATE(DIGITADOR!$B$2,$A$2,DIGITADOR!$M$1,A406),\"\")","v":""},null,null,"",{"$f":"IF(K406=\"\",\"\",INDEX('OTRAS REFERENCIAS'!$AL:$AM,MATCH(K406,'OTRAS REFERENCIAS'!$AL:$AL,0),2))","v":""},null,{"$f":"IF(J406=\"\",\"\",INDEX(referentes!$S:$W,MATCH(J406,referentes!$S:$S,0),1))","v":""},null,null,null,null,null,null,null,{"$f":"IF(U406=\"\",\"\",INDEX('OTRAS REFERENCIAS'!$H$6:$I$11,MATCH(U406,'OTRAS REFERENCIAS'!$I$6:$I$11,0),1))","v":""},null,null,null,null,{"$f":"IF(Z406=\"\",\"\",INDEX('OTRAS REFERENCIAS'!$K$6:$L$11,MATCH(Z406,'OTRAS REFERENCIAS'!$L$6:$L$11,0),1))","v":""},null,null,null,null,{"$f":"IF(AE406=\"\",\"\",INDEX('OTRAS REFERENCIAS'!$N$6:$O$11,MATCH(AE406,'OTRAS REFERENCIAS'!$O$6:$O$11,0),1))","v":""},null,null,null,null,{"$f":"IF(AJ406=\"\",\"\",INDEX('OTRAS REFERENCIAS'!$Q$6:$R$11,MATCH(AJ406,'OTRAS REFERENCIAS'!$R$6:$R$11,0),1))","v":""},null,null,null,{"$f":"IF(AN406=\"\",\"\",INDEX('OTRAS REFERENCIAS'!$T$6:$U$11,MATCH(AN406,'OTRAS REFERENCIAS'!$U$6:$U$11,0),1))","v":""}]
[1,"",405,"","",{"$f":"IF(L407<>\"\",CONCATENATE(DIGITADOR!$B$2,$A$2,DIGITADOR!$M$1,A407),\"\")","v":""},null,null,"",{"$f":"IF(K407=\"\",\"\",INDEX('OTRAS REFERENCIAS'!$AL:$AM,MATCH(K407,'OTRAS REFERENCIAS'!$AL:$AL,0),2))","v":""},null,{"$f":"IF(J407=\"\",\"\",INDEX(referentes!$S:$W,MATCH(J407,referentes!$S:$S,0),1))","v":""},null,null,null,null,null,null,null,{"$f":"IF(U407=\"\",\"\",INDEX('OTRAS REFERENCIAS'!$H$6:$I$11,MATCH(U407,'OTRAS REFERENCIAS'!$I$6:$I$11,0),1))","v":""},null,null,null,null,{"$f":"IF(Z407=\"\",\"\",INDEX('OTRAS REFERENCIAS'!$K$6:$L$11,MATCH(Z407,'OTRAS REFERENCIAS'!$L$6:$L$11,0),1))","v":""},null,null,null,null,{"$f":"IF(AE407=\"\",\"\",INDEX('OTRAS REFERENCIAS'!$N$6:$O$11,MATCH(AE407,'OTRAS REFERENCIAS'!$O$6:$O$11,0),1))","v":""},null,null,null,null,{"$f":"IF(AJ407=\"\",\"\",INDEX('OTRAS REFERENCIAS'!$Q$6:$R$11,MATCH(AJ407,'OTRAS REFERENCIAS'!$R$6:$R$11,0),1))","v":""},null,null,null,{"$f":"IF(AN407=\"\",\"\",INDEX('OTRAS REFERENCIAS'!$T$6:$U$11,MATCH(AN407,'OTRAS REFERENCIAS'!$U$6:$U$11,0),1))","v":""}]
[1,"",406,"","",{"$f":"IF(L408<>\"\",CONCATENATE(DIGITADOR!$B$2,$A$2,DIGITADOR!$M$1,A408),\"\")","v":""},null,null,"",{"$f":"IF(K408=\"\",\"\",INDEX('OTRAS REFERENCIAS'!$AL:$AM,MATCH(K408,'OTRAS REFERENCIAS'!$AL:$AL,0),2))","v":""},null,{"$f":"IF(J408=\"\",\"\",INDEX(referentes!$S:$W,MATCH(J408,referentes!$S:$S,0),1))","v":""},null,null,null,null,null,null,null,{"$f":"IF(U408=\"\",\"\",INDEX('OTRAS REFERENCIAS'!$H$6:$I$11,MATCH(U408,'OTRAS REFERENCIAS'!$I$6:$I$11,0),1))","v":""},null,null,null,null,{"$f":"IF(Z408=\"\",\"\",INDEX('OTRAS REFERENCIAS'!$K$6:$L$11,MATCH(Z408,'OTRAS REFERENCIAS'!$L$6:$L$11,0),1))","v":""},null,null,null,null,{"$f":"IF(AE408=\"\",\"\",INDEX('OTRAS REFERENCIAS'!$N$6:$O$11,MATCH(AE408,'OTRAS REFERENCIAS'!$O$6:$O$11,0),1))","v":""},null,null,null,null,{"$f":"IF(AJ408=\"\",\"\",INDEX('OTRAS REFERENCIAS'!$Q$6:$R$11,MATCH(AJ408,'OTRAS REFERENCIAS'!$R$6:$R$11,0),1))","v":""},null,null,null,{"$f":"IF(AN408=\"\",\"\",INDEX('OTRAS REFERENCIAS'!$T$6:$U$11,MATCH(AN408,'OTRAS REFERENCIAS'!$U$6:$U$11,0),1))","v":""}]
[1,"",407,"","",{"$f":"IF(L409<>\"\",CONCATENATE(DIGITADOR!$B$2,$A$2,DIGITADOR!$M$1,A409),\"\")","v":""},null,null,"",{"$f":"IF(K409=\"\",\"\",INDEX('OTRAS REFERENCIAS'!$AL:$AM,MATCH(K409,'OTRAS REFERENCIAS'!$AL:$AL,0),2))","v":""},null,{"$f":"IF(J409=\"\",\"\",INDEX(referentes!$S:$W,MATCH(J409,referentes!$S:$S,0),1))","v":""},null,null,null,null,null,null,null,{"$f":"IF(U409=\"\",\"\",INDEX('OTRAS REFERENCIAS'!$H$6:$I$11,MATCH(U409,'OTRAS REFERENCIAS'!$I$6:$I$11,0),1))","v":""},null,null,null,null,{"$f":"IF(Z409=\"\",\"\",INDEX('OTRAS REFERENCIAS'!$K$6:$L$11,MATCH(Z409,'OTRAS REFERENCIAS'!$L$6:$L$11,0),1))","v":""},null,null,null,null,{"$f":"IF(AE409=\"\",\"\",INDEX('OTRAS REFERENCIAS'!$N$6:$O$11,MATCH(AE409,'OTRAS REFERENCIAS'!$O$6:$O$11,0),1))","v":""},null,null,null,null,{"$f":"IF(AJ409=\"\",\"\",INDEX('OTRAS REFERENCIAS'!$Q$6:$R$11,MATCH(AJ409,'OTRAS REFERENCIAS'!$R$6:$R$11,0),1))","v":""},null,null,null,{"$f":"IF(AN409=\"\",\"\",INDEX('OTRAS REFERENCIAS'!$T$6:$U$11,MATCH(AN409,'OTRAS REFERENCIAS'!$U$6:$U$11,0),1))","v":""}]
[1,"",408,"","",{"$f":"IF(L410<>\"\",CONCATENATE(DIGITADOR!$B$2,$A$2,DIGITADOR!$M$1,A410),\"\")","v":""},null,null,"",{"$f":"IF(K410=\"\",\"\",INDEX('OTRAS REFERENCIAS'!$AL:$AM,MATCH(K410,'OTRAS REFERENCIAS'!$AL:$AL,0),2))","v":""},null,{"$f":"IF(J410=\"\",\"\",INDEX(referentes!$S:$W,MATCH(J410,referentes!$S:$S,0),1))","v":""},null,null,null,null,null,null,null,{"$f":"IF(U410=\"\",\"\",INDEX('OTRAS REFERENCIAS'!$H$6:$I$11,MATCH(U410,'OTRAS REFERENCIAS'!$I$6:$I$11,0),1))","v":""},null,null,null,null,{"$f":"IF(Z410=\"\",\"\",INDEX('OTRAS REFERENCIAS'!$K$6:$L$11,MATCH(Z410,'OTRAS REFERENCIAS'!$L$6:$L$11,0),1))","v":""},null,null,null,null,{"$f":"IF(AE410=\"\",\"\",INDEX('OTRAS REFERENCIAS'!$N$6:$O$11,MATCH(AE410,'OTRAS REFERENCIAS'!$O$6:$O$11,0),1))","v":""},null,null,null,null,{"$f":"IF(AJ410=\"\",\"\",INDEX('OTRAS REFERENCIAS'!$Q$6:$R$11,MATCH(AJ410,'OTRAS REFERENCIAS'!$R$6:$R$11,0),1))","v":""},null,null,null,{"$f":"IF(AN410=\"\",\"\",INDEX('OTRAS REFERENCIAS'!$T$6:$U$11,MATCH(AN410,'OTRAS REFERENCIAS'!$U$6:$U$11,0),1))","v":""}]
[1,"",409,"","",{"$f":"IF(L411<>\"\",CONCATENATE(DIGITADOR!$B$2,$A$2,DIGITADOR!$M$1,A411),\"\")","v":""},null,null,"",{"$f":"IF(K411=\"\",\"\",INDEX('OTRAS REFERENCIAS'!$AL:$AM,MATCH(K411,'OTRAS REFERENCIAS'!$AL:$AL,0),2))","v":""},null,{"$f":"IF(J411=\"\",\"\",INDEX(referentes!$S:$W,MATCH(J411,referentes!$S:$S,0),1))","v":""},null,null,null,null,null,null,null,{"$f":"IF(U411=\"\",\"\",INDEX('OTRAS REFERENCIAS'!$H$6:$I$11,MATCH(U411,'OTRAS REFERENCIAS'!$I$6:$I$11,0),1))","v":""},null,null,null,null,{"$f":"IF(Z411=\"\",\"\",INDEX('OTRAS REFERENCIAS'!$K$6:$L$11,MATCH(Z411,'OTRAS REFERENCIAS'!$L$6:$L$11,0),1))","v":""},null,null,null,null,{"$f":"IF(AE411=\"\",\"\",INDEX('OTRAS REFERENCIAS'!$N$6:$O$11,MATCH(AE411,'OTRAS REFERENCIAS'!$O$6:$O$11,0),1))","v":""},null,null,null,null,{"$f":"IF(AJ411=\"\",\"\",INDEX('OTRAS REFERENCIAS'!$Q$6:$R$11,MATCH(AJ411,'OTRAS REFERENCIAS'!$R$6:$R$11,0),1))","v":""},null,null,null,{"$f":"IF(AN411=\"\",\"\",INDEX('OTRAS REFERENCIAS'!$T$6:$U$11,MATCH(AN411,'OTRAS REFERENCIAS'!$U$6:$U$11,0),1))","v":""}]
[1,"",410,"","",{"$f":"IF(L412<>\"\",CONCATENATE(DIGITADOR!$B$2,$A$2,DIGITADOR!$M$1,A412),\"\")","v":""},null,null,"",{"$f":"IF(K412=\"\",\"\",INDEX('OTRAS REFERENCIAS'!$AL:$AM,MATCH(K412,'OTRAS REFERENCIAS'!$AL:$AL,0),2))","v":""},null,{"$f":"IF(J412=\"\",\"\",INDEX(referentes!$S:$W,MATCH(J412,referentes!$S:$S,0),1))","v":""},null,null,null,null,null,null,null,{"$f":"IF(U412=\"\",\"\",INDEX('OTRAS REFERENCIAS'!$H$6:$I$11,MATCH(U412,'OTRAS REFERENCIAS'!$I$6:$I$11,0),1))","v":""},null,null,null,null,{"$f":"IF(Z412=\"\",\"\",INDEX('OTRAS REFERENCIAS'!$K$6:$L$11,MATCH(Z412,'OTRAS REFERENCIAS'!$L$6:$L$11,0),1))","v":""},null,null,null,null,{"$f":"IF(AE412=\"\",\"\",INDEX('OTRAS REFERENCIAS'!$N$6:$O$11,MATCH(AE412,'OTRAS REFERENCIAS'!$O$6:$O$11,0),1))","v":""},null,null,null,null,{"$f":"IF(AJ412=\"\",\"\",INDEX('OTRAS REFERENCIAS'!$Q$6:$R$11,MATCH(AJ412,'OTRAS REFERENCIAS'!$R$6:$R$11,0),1))","v":""},null,null,null,{"$f":"IF(AN412=\"\",\"\",INDEX('OTRAS REFERENCIAS'!$T$6:$U$11,MATCH(AN412,'OTRAS REFERENCIAS'!$U$6:$U$11,0),1))","v":""}]
[1,"",411,"","",{"$f":"IF(L413<>\"\",CONCATENATE(DIGITADOR!$B$2,$A$2,DIGITADOR!$M$1,A413),\"\")","v":""},null,null,"",{"$f":"IF(K413=\"\",\"\",INDEX('OTRAS REFERENCIAS'!$AL:$AM,MATCH(K413,'OTRAS REFERENCIAS'!$AL:$AL,0),2))","v":""},null,{"$f":"IF(J413=\"\",\"\",INDEX(referentes!$S:$W,MATCH(J413,referentes!$S:$S,0),1))","v":""},null,null,null,null,null,null,null,{"$f":"IF(U413=\"\",\"\",INDEX('OTRAS REFERENCIAS'!$H$6:$I$11,MATCH(U413,'OTRAS REFERENCIAS'!$I$6:$I$11,0),1))","v":""},null,null,null,null,{"$f":"IF(Z413=\"\",\"\",INDEX('OTRAS REFERENCIAS'!$K$6:$L$11,MATCH(Z413,'OTRAS REFERENCIAS'!$L$6:$L$11,0),1))","v":""},null,null,null,null,{"$f":"IF(AE413=\"\",\"\",INDEX('OTRAS REFERENCIAS'!$N$6:$O$11,MATCH(AE413,'OTRAS REFERENCIAS'!$O$6:$O$11,0),1))","v":""},null,null,null,null,{"$f":"IF(AJ413=\"\",\"\",INDEX('OTRAS REFERENCIAS'!$Q$6:$R$11,MATCH(AJ413,'OTRAS REFERENCIAS'!$R$6:$R$11,0),1))","v":""},null,null,null,{"$f":"IF(AN413=\"\",\"\",INDEX('OTRAS REFERENCIAS'!$T$6:$U$11,MATCH(AN413,'OTRAS REFERENCIAS'!$U$6:$U$11,0),1))","v":""}]
[1,"",412,"","",{"$f":"IF(L414<>\"\",CONCATENATE(DIGITADOR!$B$2,$A$2,DIGITADOR!$M$1,A414),\"\")","v":""},null,null,"",{"$f":"IF(K414=\"\",\"\",INDEX('OTRAS REFERENCIAS'!$AL:$AM,MATCH(K414,'OTRAS REFERENCIAS'!$AL:$AL,0),2))","v":""},null,{"$f":"IF(J414=\"\",\"\",INDEX(referentes!$S:$W,MATCH(J414,referentes!$S:$S,0),1))","v":""},null,null,null,null,null,null,null,{"$f":"IF(U414=\"\",\"\",INDEX('OTRAS REFERENCIAS'!$H$6:$I$11,MATCH(U414,'OTRAS REFERENCIAS'!$I$6:$I$11,0),1))","v":""},null,null,null,null,{"$f":"IF(Z414=\"\",\"\",INDEX('OTRAS REFERENCIAS'!$K$6:$L$11,MATCH(Z414,'OTRAS REFERENCIAS'!$L$6:$L$11,0),1))","v":""},null,null,null,null,{"$f":"IF(AE414=\"\",\"\",INDEX('OTRAS REFERENCIAS'!$N$6:$O$11,MATCH(AE414,'OTRAS REFERENCIAS'!$O$6:$O$11,0),1))","v":""},null,null,null,null,{"$f":"IF(AJ414=\"\",\"\",INDEX('OTRAS REFERENCIAS'!$Q$6:$R$11,MATCH(AJ414,'OTRAS REFERENCIAS'!$R$6:$R$11,0),1))","v":""},null,null,null,{"$f":"IF(AN414=\"\",\"\",INDEX('OTRAS REFERENCIAS'!$T$6:$U$11,MATCH(AN414,'OTRAS REFERENCIAS'!$U$6:$U$11,0),1))","v":""}]
[1,"",413,"","",{"$f":"IF(L415<>\"\",CONCATENATE(DIGITADOR!$B$2,$A$2,DIGITADOR!$M$1,A415),\"\")","v":""},null,null,"",{"$f":"IF(K415=\"\",\"\",INDEX('OTRAS REFERENCIAS'!$AL:$AM,MATCH(K415,'OTRAS REFERENCIAS'!$AL:$AL,0),2))","v":""},null,{"$f":"IF(J415=\"\",\"\",INDEX(referentes!$S:$W,MATCH(J415,referentes!$S:$S,0),1))","v":""},null,null,null,null,null,null,null,{"$f":"IF(U415=\"\",\"\",INDEX('OTRAS REFERENCIAS'!$H$6:$I$11,MATCH(U415,'OTRAS REFERENCIAS'!$I$6:$I$11,0),1))","v":""},null,null,null,null,{"$f":"IF(Z415=\"\",\"\",INDEX('OTRAS REFERENCIAS'!$K$6:$L$11,MATCH(Z415,'OTRAS REFERENCIAS'!$L$6:$L$11,0),1))","v":""},null,null,null,null,{"$f":"IF(AE415=\"\",\"\",INDEX('OTRAS REFERENCIAS'!$N$6:$O$11,MATCH(AE415,'OTRAS REFERENCIAS'!$O$6:$O$11,0),1))","v":""},null,null,null,null,{"$f":"IF(AJ415=\"\",\"\",INDEX('OTRAS REFERENCIAS'!$Q$6:$R$11,MATCH(AJ415,'OTRAS REFERENCIAS'!$R$6:$R$11,0),1))","v":""},null,null,null,{"$f":"IF(AN415=\"\",\"\",INDEX('OTRAS REFERENCIAS'!$T$6:$U$11,MATCH(AN415,'OTRAS REFERENCIAS'!$U$6:$U$11,0),1))","v":""}]
[1,"",414,"","",{"$f":"IF(L416<>\"\",CONCATENATE(DIGITADOR!$B$2,$A$2,DIGITADOR!$M$1,A416),\"\")","v":""},null,null,"",{"$f":"IF(K416=\"\",\"\",INDEX('OTRAS REFERENCIAS'!$AL:$AM,MATCH(K416,'OTRAS REFERENCIAS'!$AL:$AL,0),2))","v":""},null,{"$f":"IF(J416=\"\",\"\",INDEX(referentes!$S:$W,MATCH(J416,referentes!$S:$S,0),1))","v":""},null,null,null,null,null,null,null,{"$f":"IF(U416=\"\",\"\",INDEX('OTRAS REFERENCIAS'!$H$6:$I$11,MATCH(U416,'OTRAS REFERENCIAS'!$I$6:$I$11,0),1))","v":""},null,null,null,null,{"$f":"IF(Z416=\"\",\"\",INDEX('OTRAS REFERENCIAS'!$K$6:$L$11,MATCH(Z416,'OTRAS REFERENCIAS'!$L$6:$L$11,0),1))","v":""},null,null,null,null,{"$f":"IF(AE416=\"\",\"\",INDEX('OTRAS REFERENCIAS'!$N$6:$O$11,MATCH(AE416,'OTRAS REFERENCIAS'!$O$6:$O$11,0),1))","v":""},null,null,null,null,{"$f":"IF(AJ416=\"\",\"\",INDEX('OTRAS REFERENCIAS'!$Q$6:$R$11,MATCH(AJ416,'OTRAS REFERENCIAS'!$R$6:$R$11,0),1))","v":""},null,null,null,{"$f":"IF(AN416=\"\",\"\",INDEX('OTRAS REFERENCIAS'!$T$6:$U$11,MATCH(AN416,'OTRAS REFERENCIAS'!$U$6:$U$11,0),1))","v":""}]
[1,"",415,"","",{"$f":"IF(L417<>\"\",CONCATENATE(DIGITADOR!$B$2,$A$2,DIGITADOR!$M$1,A417),\"\")","v":""},null,null,"",{"$f":"IF(K417=\"\",\"\",INDEX('OTRAS REFERENCIAS'!$AL:$AM,MATCH(K417,'OTRAS REFERENCIAS'!$AL:$AL,0),2))","v":""},null,{"$f":"IF(J417=\"\",\"\",INDEX(referentes!$S:$W,MATCH(J417,referentes!$S:$S,0),1))","v":""},null,null,null,null,null,null,null,{"$f":"IF(U417=\"\",\"\",INDEX('OTRAS REFERENCIAS'!$H$6:$I$11,MATCH(U417,'OTRAS REFERENCIAS'!$I$6:$I$11,0),1))","v":""},null,null,null,null,{"$f":"IF(Z417=\"\",\"\",INDEX('OTRAS REFERENCIAS'!$K$6:$L$11,MATCH(Z417,'OTRAS REFERENCIAS'!$L$6:$L$11,0),1))","v":""},null,null,null,null,{"$f":"IF(AE417=\"\",\"\",INDEX('OTRAS REFERENCIAS'!$N$6:$O$11,MATCH(AE417,'OTRAS REFERENCIAS'!$O$6:$O$11,0),1))","v":""},null,null,null,null,{"$f":"IF(AJ417=\"\",\"\",INDEX('OTRAS REFERENCIAS'!$Q$6:$R$11,MATCH(AJ417,'OTRAS REFERENCIAS'!$R$6:$R$11,0),1))","v":""},null,null,null,{"$f":"IF(AN417=\"\",\"\",INDEX('OTRAS REFERENCIAS'!$T$6:$U$11,MATCH(AN417,'OTRAS REFERENCIAS'!$U$6:$U$11,0),1))","v":""}]
[1,"",416,"","",{"$f":"IF(L418<>\"\",CONCATENATE(DIGITADOR!$B$2,$A$2,DIGITADOR!$M$1,A418),\"\")","v":""},null,null,"",{"$f":"IF(K418=\"\",\"\",INDEX('OTRAS REFERENCIAS'!$AL:$AM,MATCH(K418,'OTRAS REFERENCIAS'!$AL:$AL,0),2))","v":""},null,{"$f":"IF(J418=\"\",\"\",INDEX(referentes!$S:$W,MATCH(J418,referentes!$S:$S,0),1))","v":""},null,null,null,null,null,null,null,{"$f":"IF(U418=\"\",\"\",INDEX('OTRAS REFERENCIAS'!$H$6:$I$11,MATCH(U418,'OTRAS REFERENCIAS'!$I$6:$I$11,0),1))","v":""},null,null,null,null,{"$f":"IF(Z418=\"\",\"\",INDEX('OTRAS REFERENCIAS'!$K$6:$L$11,MATCH(Z418,'OTRAS REFERENCIAS'!$L$6:$L$11,0),1))","v":""},null,null,null,null,{"$f":"IF(AE418=\"\",\"\",INDEX('OTRAS REFERENCIAS'!$N$6:$O$11,MATCH(AE418,'OTRAS REFERENCIAS'!$O$6:$O$11,0),1))","v":""},null,null,null,null,{"$f":"IF(AJ418=\"\",\"\",INDEX('OTRAS REFERENCIAS'!$Q$6:$R$11,MATCH(AJ418,'OTRAS REFERENCIAS'!$R$6:$R$11,0),1))","v":""},null,null,null,{"$f":"IF(AN418=\"\",\"\",INDEX('OTRAS REFERENCIAS'!$T$6:$U$11,MATCH(AN418,'OTRAS REFERENCIAS'!$U$6:$U$11,0),1))","v":""}]
[1,"",417,"","",{"$f":"IF(L419<>\"\",CONCATENATE(DIGITADOR!$B$2,$A$2,DIGITADOR!$M$1,A419),\"\")","v":""},null,null,"",{"$f":"IF(K419=\"\",\"\",INDEX('OTRAS REFERENCIAS'!$AL:$AM,MATCH(K419,'OTRAS REFERENCIAS'!$AL:$AL,0),2))","v":""},null,{"$f":"IF(J419=\"\",\"\",INDEX(referentes!$S:$W,MATCH(J419,referentes!$S:$S,0),1))","v":""},null,null,null,null,null,null,null,{"$f":"IF(U419=\"\",\"\",INDEX('OTRAS REFERENCIAS'!$H$6:$I$11,MATCH(U419,'OTRAS REFERENCIAS'!$I$6:$I$11,0),1))","v":""},null,null,null,null,{"$f":"IF(Z419=\"\",\"\",INDEX('OTRAS REFERENCIAS'!$K$6:$L$11,MATCH(Z419,'OTRAS REFERENCIAS'!$L$6:$L$11,0),1))","v":""},null,null,null,null,{"$f":"IF(AE419=\"\",\"\",INDEX('OTRAS REFERENCIAS'!$N$6:$O$11,MATCH(AE419,'OTRAS REFERENCIAS'!$O$6:$O$11,0),1))","v":""},null,null,null,null,{"$f":"IF(AJ419=\"\",\"\",INDEX('OTRAS REFERENCIAS'!$Q$6:$R$11,MATCH(AJ419,'OTRAS REFERENCIAS'!$R$6:$R$11,0),1))","v":""},null,null,null,{"$f":"IF(AN419=\"\",\"\",INDEX('OTRAS REFERENCIAS'!$T$6:$U$11,MATCH(AN419,'OTRAS REFERENCIAS'!$U$6:$U$11,0),1))","v":""}]
[1,"",418,"","",{"$f":"IF(L420<>\"\",CONCATENATE(DIGITADOR!$B$2,$A$2,DIGITADOR!$M$1,A420),\"\")","v":""},null,null,"",{"$f":"IF(K420=\"\",\"\",INDEX('OTRAS REFERENCIAS'!$AL:$AM,MATCH(K420,'OTRAS REFERENCIAS'!$AL:$AL,0),2))","v":""},null,{"$f":"IF(J420=\"\",\"\",INDEX(referentes!$S:$W,MATCH(J420,referentes!$S:$S,0),1))","v":""},null,null,null,null,null,null,null,{"$f":"IF(U420=\"\",\"\",INDEX('OTRAS REFERENCIAS'!$H$6:$I$11,MATCH(U420,'OTRAS REFERENCIAS'!$I$6:$I$11,0),1))","v":""},null,null,null,null,{"$f":"IF(Z420=\"\",\"\",INDEX('OTRAS REFERENCIAS'!$K$6:$L$11,MATCH(Z420,'OTRAS REFERENCIAS'!$L$6:$L$11,0),1))","v":""},null,null,null,null,{"$f":"IF(AE420=\"\",\"\",INDEX('OTRAS REFERENCIAS'!$N$6:$O$11,MATCH(AE420,'OTRAS REFERENCIAS'!$O$6:$O$11,0),1))","v":""},null,null,null,null,{"$f":"IF(AJ420=\"\",\"\",INDEX('OTRAS REFERENCIAS'!$Q$6:$R$11,MATCH(AJ420,'OTRAS REFERENCIAS'!$R$6:$R$11,0),1))","v":""},null,null,null,{"$f":"IF(AN420=\"\",\"\",INDEX('OTRAS REFERENCIAS'!$T$6:$U$11,MATCH(AN420,'OTRAS REFERENCIAS'!$U$6:$U$11,0),1))","v":""}]
[1,"",419,"","",{"$f":"IF(L421<>\"\",CONCATENATE(DIGITADOR!$B$2,$A$2,DIGITADOR!$M$1,A421),\"\")","v":""},null,null,"",{"$f":"IF(K421=\"\",\"\",INDEX('OTRAS REFERENCIAS'!$AL:$AM,MATCH(K421,'OTRAS REFERENCIAS'!$AL:$AL,0),2))","v":""},null,{"$f":"IF(J421=\"\",\"\",INDEX(referentes!$S:$W,MATCH(J421,referentes!$S:$S,0),1))","v":""},null,null,null,null,null,null,null,{"$f":"IF(U421=\"\",\"\",INDEX('OTRAS REFERENCIAS'!$H$6:$I$11,MATCH(U421,'OTRAS REFERENCIAS'!$I$6:$I$11,0),1))","v":""},null,null,null,null,{"$f":"IF(Z421=\"\",\"\",INDEX('OTRAS REFERENCIAS'!$K$6:$L$11,MATCH(Z421,'OTRAS REFERENCIAS'!$L$6:$L$11,0),1))","v":""},null,null,null,null,{"$f":"IF(AE421=\"\",\"\",INDEX('OTRAS REFERENCIAS'!$N$6:$O$11,MATCH(AE421,'OTRAS REFERENCIAS'!$O$6:$O$11,0),1))","v":""},null,null,null,null,{"$f":"IF(AJ421=\"\",\"\",INDEX('OTRAS REFERENCIAS'!$Q$6:$R$11,MATCH(AJ421,'OTRAS REFERENCIAS'!$R$6:$R$11,0),1))","v":""},null,null,null,{"$f":"IF(AN421=\"\",\"\",INDEX('OTRAS REFERENCIAS'!$T$6:$U$11,MATCH(AN421,'OTRAS REFERENCIAS'!$U$6:$U$11,0),1))","v":""}]
[1,"",420,"","",{"$f":"IF(L422<>\"\",CONCATENATE(DIGITADOR!$B$2,$A$2,DIGITADOR!$M$1,A422),\"\")","v":""},null,null,"",{"$f":"IF(K422=\"\",\"\",INDEX('OTRAS REFERENCIAS'!$AL:$AM,MATCH(K422,'OTRAS REFERENCIAS'!$AL:$AL,0),2))","v":""},null,{"$f":"IF(J422=\"\",\"\",INDEX(referentes!$S:$W,MATCH(J422,referentes!$S:$S,0),1))","v":""},null,null,null,null,null,null,null,{"$f":"IF(U422=\"\",\"\",INDEX('OTRAS REFERENCIAS'!$H$6:$I$11,MATCH(U422,'OTRAS REFERENCIAS'!$I$6:$I$11,0),1))","v":""},null,null,null,null,{"$f":"IF(Z422=\"\",\"\",INDEX('OTRAS REFERENCIAS'!$K$6:$L$11,MATCH(Z422,'OTRAS REFERENCIAS'!$L$6:$L$11,0),1))","v":""},null,null,null,null,{"$f":"IF(AE422=\"\",\"\",INDEX('OTRAS REFERENCIAS'!$N$6:$O$11,MATCH(AE422,'OTRAS REFERENCIAS'!$O$6:$O$11,0),1))","v":""},null,null,null,null,{"$f":"IF(AJ422=\"\",\"\",INDEX('OTRAS REFERENCIAS'!$Q$6:$R$11,MATCH(AJ422,'OTRAS REFERENCIAS'!$R$6:$R$11,0),1))","v":""},null,null,null,{"$f":"IF(AN422=\"\",\"\",INDEX('OTRAS REFERENCIAS'!$T$6:$U$11,MATCH(AN422,'OTRAS REFERENCIAS'!$U$6:$U$11,0),1))","v":""}]
[1,"",421,"","",{"$f":"IF(L423<>\"\",CONCATENATE(DIGITADOR!$B$2,$A$2,DIGITADOR!$M$1,A423),\"\")","v":""},null,null,"",{"$f":"IF(K423=\"\",\"\",INDEX('OTRAS REFERENCIAS'!$AL:$AM,MATCH(K423,'OTRAS REFERENCIAS'!$AL:$AL,0),2))","v":""},null,{"$f":"IF(J423=\"\",\"\",INDEX(referentes!$S:$W,MATCH(J423,referentes!$S:$S,0),1))","v":""},null,null,null,null,null,null,null,{"$f":"IF(U423=\"\",\"\",INDEX('OTRAS REFERENCIAS'!$H$6:$I$11,MATCH(U423,'OTRAS REFERENCIAS'!$I$6:$I$11,0),1))","v":""},null,null,null,null,{"$f":"IF(Z423=\"\",\"\",INDEX('OTRAS REFERENCIAS'!$K$6:$L$11,MATCH(Z423,'OTRAS REFERENCIAS'!$L$6:$L$11,0),1))","v":""},null,null,null,null,{"$f":"IF(AE423=\"\",\"\",INDEX('OTRAS REFERENCIAS'!$N$6:$O$11,MATCH(AE423,'OTRAS REFERENCIAS'!$O$6:$O$11,0),1))","v":""},null,null,null,null,{"$f":"IF(AJ423=\"\",\"\",INDEX('OTRAS REFERENCIAS'!$Q$6:$R$11,MATCH(AJ423,'OTRAS REFERENCIAS'!$R$6:$R$11,0),1))","v":""},null,null,null,{"$f":"IF(AN423=\"\",\"\",INDEX('OTRAS REFERENCIAS'!$T$6:$U$11,MATCH(AN423,'OTRAS REFERENCIAS'!$U$6:$U$11,0),1))","v":""}]
[1,"",422,"","",{"$f":"IF(L424<>\"\",CONCATENATE(DIGITADOR!$B$2,$A$2,DIGITADOR!$M$1,A424),\"\")","v":""},null,null,"",{"$f":"IF(K424=\"\",\"\",INDEX('OTRAS REFERENCIAS'!$AL:$AM,MATCH(K424,'OTRAS REFERENCIAS'!$AL:$AL,0),2))","v":""},null,{"$f":"IF(J424=\"\",\"\",INDEX(referentes!$S:$W,MATCH(J424,referentes!$S:$S,0),1))","v":""},null,null,null,null,null,null,null,{"$f":"IF(U424=\"\",\"\",INDEX('OTRAS REFERENCIAS'!$H$6:$I$11,MATCH(U424,'OTRAS REFERENCIAS'!$I$6:$I$11,0),1))","v":""},null,null,null,null,{"$f":"IF(Z424=\"\",\"\",INDEX('OTRAS REFERENCIAS'!$K$6:$L$11,MATCH(Z424,'OTRAS REFERENCIAS'!$L$6:$L$11,0),1))","v":""},null,null,null,null,{"$f":"IF(AE424=\"\",\"\",INDEX('OTRAS REFERENCIAS'!$N$6:$O$11,MATCH(AE424,'OTRAS REFERENCIAS'!$O$6:$O$11,0),1))","v":""},null,null,null,null,{"$f":"IF(AJ424=\"\",\"\",INDEX('OTRAS REFERENCIAS'!$Q$6:$R$11,MATCH(AJ424,'OTRAS REFERENCIAS'!$R$6:$R$11,0),1))","v":""},null,null,null,{"$f":"IF(AN424=\"\",\"\",INDEX('OTRAS REFERENCIAS'!$T$6:$U$11,MATCH(AN424,'OTRAS REFERENCIAS'!$U$6:$U$11,0),1))","v":""}]
[1,"",423,"","",{"$f":"IF(L425<>\"\",CONCATENATE(DIGITADOR!$B$2,$A$2,DIGITADOR!$M$1,A425),\"\")","v":""},null,null,"",{"$f":"IF(K425=\"\",\"\",INDEX('OTRAS REFERENCIAS'!$AL:$AM,MATCH(K425,'OTRAS REFERENCIAS'!$AL:$AL,0),2))","v":""},null,{"$f":"IF(J425=\"\",\"\",INDEX(referentes!$S:$W,MATCH(J425,referentes!$S:$S,0),1))","v":""},null,null,null,null,null,null,null,{"$f":"IF(U425=\"\",\"\",INDEX('OTRAS REFERENCIAS'!$H$6:$I$11,MATCH(U425,'OTRAS REFERENCIAS'!$I$6:$I$11,0),1))","v":""},null,null,null,null,{"$f":"IF(Z425=\"\",\"\",INDEX('OTRAS REFERENCIAS'!$K$6:$L$11,MATCH(Z425,'OTRAS REFERENCIAS'!$L$6:$L$11,0),1))","v":""},null,null,null,null,{"$f":"IF(AE425=\"\",\"\",INDEX('OTRAS REFERENCIAS'!$N$6:$O$11,MATCH(AE425,'OTRAS REFERENCIAS'!$O$6:$O$11,0),1))","v":""},null,null,null,null,{"$f":"IF(AJ425=\"\",\"\",INDEX('OTRAS REFERENCIAS'!$Q$6:$R$11,MATCH(AJ425,'OTRAS REFERENCIAS'!$R$6:$R$11,0),1))","v":""},null,null,null,{"$f":"IF(AN425=\"\",\"\",INDEX('OTRAS REFERENCIAS'!$T$6:$U$11,MATCH(AN425,'OTRAS REFERENCIAS'!$U$6:$U$11,0),1))","v":""}]
[1,"",424,"","",{"$f":"IF(L426<>\"\",CONCATENATE(DIGITADOR!$B$2,$A$2,DIGITADOR!$M$1,A426),\"\")","v":""},null,null,"",{"$f":"IF(K426=\"\",\"\",INDEX('OTRAS REFERENCIAS'!$AL:$AM,MATCH(K426,'OTRAS REFERENCIAS'!$AL:$AL,0),2))","v":""},null,{"$f":"IF(J426=\"\",\"\",INDEX(referentes!$S:$W,MATCH(J426,referentes!$S:$S,0),1))","v":""},null,null,null,null,null,null,null,{"$f":"IF(U426=\"\",\"\",INDEX('OTRAS REFERENCIAS'!$H$6:$I$11,MATCH(U426,'OTRAS REFERENCIAS'!$I$6:$I$11,0),1))","v":""},null,null,null,null,{"$f":"IF(Z426=\"\",\"\",INDEX('OTRAS REFERENCIAS'!$K$6:$L$11,MATCH(Z426,'OTRAS REFERENCIAS'!$L$6:$L$11,0),1))","v":""},null,null,null,null,{"$f":"IF(AE426=\"\",\"\",INDEX('OTRAS REFERENCIAS'!$N$6:$O$11,MATCH(AE426,'OTRAS REFERENCIAS'!$O$6:$O$11,0),1))","v":""},null,null,null,null,{"$f":"IF(AJ426=\"\",\"\",INDEX('OTRAS REFERENCIAS'!$Q$6:$R$11,MATCH(AJ426,'OTRAS REFERENCIAS'!$R$6:$R$11,0),1))","v":""},null,null,null,{"$f":"IF(AN426=\"\",\"\",INDEX('OTRAS REFERENCIAS'!$T$6:$U$11,MATCH(AN426,'OTRAS REFERENCIAS'!$U$6:$U$11,0),1))","v":""}]
[1,"",425,"","",{"$f":"IF(L427<>\"\",CONCATENATE(DIGITADOR!$B$2,$A$2,DIGITADOR!$M$1,A427),\"\")","v":""},null,null,"",{"$f":"IF(K427=\"\",\"\",INDEX('OTRAS REFERENCIAS'!$AL:$AM,MATCH(K427,'OTRAS REFERENCIAS'!$AL:$AL,0),2))","v":""},null,{"$f":"IF(J427=\"\",\"\",INDEX(referentes!$S:$W,MATCH(J427,referentes!$S:$S,0),1))","v":""},null,null,null,null,null,null,null,{"$f":"IF(U427=\"\",\"\",INDEX('OTRAS REFERENCIAS'!$H$6:$I$11,MATCH(U427,'OTRAS REFERENCIAS'!$I$6:$I$11,0),1))","v":""},null,null,null,null,{"$f":"IF(Z427=\"\",\"\",INDEX('OTRAS REFERENCIAS'!$K$6:$L$11,MATCH(Z427,'OTRAS REFERENCIAS'!$L$6:$L$11,0),1))","v":""},null,null,null,null,{"$f":"IF(AE427=\"\",\"\",INDEX('OTRAS REFERENCIAS'!$N$6:$O$11,MATCH(AE427,'OTRAS REFERENCIAS'!$O$6:$O$11,0),1))","v":""},null,null,null,null,{"$f":"IF(AJ427=\"\",\"\",INDEX('OTRAS REFERENCIAS'!$Q$6:$R$11,MATCH(AJ427,'OTRAS REFERENCIAS'!$R$6:$R$11,0),1))","v":""},null,null,null,{"$f":"IF(AN427=\"\",\"\",INDEX('OTRAS REFERENCIAS'!$T$6:$U$11,MATCH(AN427,'OTRAS REFERENCIAS'!$U$6:$U$11,0),1))","v":""}]
[1,"",426,"","",{"$f":"IF(L428<>\"\",CONCATENATE(DIGITADOR!$B$2,$A$2,DIGITADOR!$M$1,A428),\"\")","v":""},null,null,"",{"$f":"IF(K428=\"\",\"\",INDEX('OTRAS REFERENCIAS'!$AL:$AM,MATCH(K428,'OTRAS REFERENCIAS'!$AL:$AL,0),2))","v":""},null,{"$f":"IF(J428=\"\",\"\",INDEX(referentes!$S:$W,MATCH(J428,referentes!$S:$S,0),1))","v":""},null,null,null,null,null,null,null,{"$f":"IF(U428=\"\",\"\",INDEX('OTRAS REFERENCIAS'!$H$6:$I$11,MATCH(U428,'OTRAS REFERENCIAS'!$I$6:$I$11,0),1))","v":""},null,null,null,null,{"$f":"IF(Z428=\"\",\"\",INDEX('OTRAS REFERENCIAS'!$K$6:$L$11,MATCH(Z428,'OTRAS REFERENCIAS'!$L$6:$L$11,0),1))","v":""},null,null,null,null,{"$f":"IF(AE428=\"\",\"\",INDEX('OTRAS REFERENCIAS'!$N$6:$O$11,MATCH(AE428,'OTRAS REFERENCIAS'!$O$6:$O$11,0),1))","v":""},null,null,null,null,{"$f":"IF(AJ428=\"\",\"\",INDEX('OTRAS REFERENCIAS'!$Q$6:$R$11,MATCH(AJ428,'OTRAS REFERENCIAS'!$R$6:$R$11,0),1))","v":""},null,null,null,{"$f":"IF(AN428=\"\",\"\",INDEX('OTRAS REFERENCIAS'!$T$6:$U$11,MATCH(AN428,'OTRAS REFERENCIAS'!$U$6:$U$11,0),1))","v":""}]
[1,"",427,"","",{"$f":"IF(L429<>\"\",CONCATENATE(DIGITADOR!$B$2,$A$2,DIGITADOR!$M$1,A429),\"\")","v":""},null,null,"",{"$f":"IF(K429=\"\",\"\",INDEX('OTRAS REFERENCIAS'!$AL:$AM,MATCH(K429,'OTRAS REFERENCIAS'!$AL:$AL,0),2))","v":""},null,{"$f":"IF(J429=\"\",\"\",INDEX(referentes!$S:$W,MATCH(J429,referentes!$S:$S,0),1))","v":""},null,null,null,null,null,null,null,{"$f":"IF(U429=\"\",\"\",INDEX('OTRAS REFERENCIAS'!$H$6:$I$11,MATCH(U429,'OTRAS REFERENCIAS'!$I$6:$I$11,0),1))","v":""},null,null,null,null,{"$f":"IF(Z429=\"\",\"\",INDEX('OTRAS REFERENCIAS'!$K$6:$L$11,MATCH(Z429,'OTRAS REFERENCIAS'!$L$6:$L$11,0),1))","v":""},null,null,null,null,{"$f":"IF(AE429=\"\",\"\",INDEX('OTRAS REFERENCIAS'!$N$6:$O$11,MATCH(AE429,'OTRAS REFERENCIAS'!$O$6:$O$11,0),1))","v":""},null,null,null,null,{"$f":"IF(AJ429=\"\",\"\",INDEX('OTRAS REFERENCIAS'!$Q$6:$R$11,MATCH(AJ429,'OTRAS REFERENCIAS'!$R$6:$R$11,0),1))","v":""},null,null,null,{"$f":"IF(AN429=\"\",\"\",INDEX('OTRAS REFERENCIAS'!$T$6:$U$11,MATCH(AN429,'OTRAS REFERENCIAS'!$U$6:$U$11,0),1))","v":""}]
[1,"",428,"","",{"$f":"IF(L430<>\"\",CONCATENATE(DIGITADOR!$B$2,$A$2,DIGITADOR!$M$1,A430),\"\")","v":""},null,null,"",{"$f":"IF(K430=\"\",\"\",INDEX('OTRAS REFERENCIAS'!$AL:$AM,MATCH(K430,'OTRAS REFERENCIAS'!$AL:$AL,0),2))","v":""},null,{"$f":"IF(J430=\"\",\"\",INDEX(referentes!$S:$W,MATCH(J430,referentes!$S:$S,0),1))","v":""},null,null,null,null,null,null,null,{"$f":"IF(U430=\"\",\"\",INDEX('OTRAS REFERENCIAS'!$H$6:$I$11,MATCH(U430,'OTRAS REFERENCIAS'!$I$6:$I$11,0),1))","v":""},null,null,null,null,{"$f":"IF(Z430=\"\",\"\",INDEX('OTRAS REFERENCIAS'!$K$6:$L$11,MATCH(Z430,'OTRAS REFERENCIAS'!$L$6:$L$11,0),1))","v":""},null,null,null,null,{"$f":"IF(AE430=\"\",\"\",INDEX('OTRAS REFERENCIAS'!$N$6:$O$11,MATCH(AE430,'OTRAS REFERENCIAS'!$O$6:$O$11,0),1))","v":""},null,null,null,null,{"$f":"IF(AJ430=\"\",\"\",INDEX('OTRAS REFERENCIAS'!$Q$6:$R$11,MATCH(AJ430,'OTRAS REFERENCIAS'!$R$6:$R$11,0),1))","v":""},null,null,null,{"$f":"IF(AN430=\"\",\"\",INDEX('OTRAS REFERENCIAS'!$T$6:$U$11,MATCH(AN430,'OTRAS REFERENCIAS'!$U$6:$U$11,0),1))","v":""}]
[1,"",429,"","",{"$f":"IF(L431<>\"\",CONCATENATE(DIGITADOR!$B$2,$A$2,DIGITADOR!$M$1,A431),\"\")","v":""},null,null,"",{"$f":"IF(K431=\"\",\"\",INDEX('OTRAS REFERENCIAS'!$AL:$AM,MATCH(K431,'OTRAS REFERENCIAS'!$AL:$AL,0),2))","v":""},null,{"$f":"IF(J431=\"\",\"\",INDEX(referentes!$S:$W,MATCH(J431,referentes!$S:$S,0),1))","v":""},null,null,null,null,null,null,null,{"$f":"IF(U431=\"\",\"\",INDEX('OTRAS REFERENCIAS'!$H$6:$I$11,MATCH(U431,'OTRAS REFERENCIAS'!$I$6:$I$11,0),1))","v":""},null,null,null,null,{"$f":"IF(Z431=\"\",\"\",INDEX('OTRAS REFERENCIAS'!$K$6:$L$11,MATCH(Z431,'OTRAS REFERENCIAS'!$L$6:$L$11,0),1))","v":""},null,null,null,null,{"$f":"IF(AE431=\"\",\"\",INDEX('OTRAS REFERENCIAS'!$N$6:$O$11,MATCH(AE431,'OTRAS REFERENCIAS'!$O$6:$O$11,0),1))","v":""},null,null,null,null,{"$f":"IF(AJ431=\"\",\"\",INDEX('OTRAS REFERENCIAS'!$Q$6:$R$11,MATCH(AJ431,'OTRAS REFERENCIAS'!$R$6:$R$11,0),1))","v":""},null,null,null,{"$f":"IF(AN431=\"\",\"\",INDEX('OTRAS REFERENCIAS'!$T$6:$U$11,MATCH(AN431,'OTRAS REFERENCIAS'!$U$6:$U$11,0),1))","v":""}]
[1,"",430,"","",{"$f":"IF(L432<>\"\",CONCATENATE(DIGITADOR!$B$2,$A$2,DIGITADOR!$M$1,A432),\"\")","v":""},null,null,"",{"$f":"IF(K432=\"\",\"\",INDEX('OTRAS REFERENCIAS'!$AL:$AM,MATCH(K432,'OTRAS REFERENCIAS'!$AL:$AL,0),2))","v":""},null,{"$f":"IF(J432=\"\",\"\",INDEX(referentes!$S:$W,MATCH(J432,referentes!$S:$S,0),1))","v":""},null,null,null,null,null,null,null,{"$f":"IF(U432=\"\",\"\",INDEX('OTRAS REFERENCIAS'!$H$6:$I$11,MATCH(U432,'OTRAS REFERENCIAS'!$I$6:$I$11,0),1))","v":""},null,null,null,null,{"$f":"IF(Z432=\"\",\"\",INDEX('OTRAS REFERENCIAS'!$K$6:$L$11,MATCH(Z432,'OTRAS REFERENCIAS'!$L$6:$L$11,0),1))","v":""},null,null,null,null,{"$f":"IF(AE432=\"\",\"\",INDEX('OTRAS REFERENCIAS'!$N$6:$O$11,MATCH(AE432,'OTRAS REFERENCIAS'!$O$6:$O$11,0),1))","v":""},null,null,null,null,{"$f":"IF(AJ432=\"\",\"\",INDEX('OTRAS REFERENCIAS'!$Q$6:$R$11,MATCH(AJ432,'OTRAS REFERENCIAS'!$R$6:$R$11,0),1))","v":""},null,null,null,{"$f":"IF(AN432=\"\",\"\",INDEX('OTRAS REFERENCIAS'!$T$6:$U$11,MATCH(AN432,'OTRAS REFERENCIAS'!$U$6:$U$11,0),1))","v":""}]
[1,"",431,"","",{"$f":"IF(L433<>\"\",CONCATENATE(DIGITADOR!$B$2,$A$2,DIGITADOR!$M$1,A433),\"\")","v":""},null,null,"",{"$f":"IF(K433=\"\",\"\",INDEX('OTRAS REFERENCIAS'!$AL:$AM,MATCH(K433,'OTRAS REFERENCIAS'!$AL:$AL,0),2))","v":""},null,{"$f":"IF(J433=\"\",\"\",INDEX(referentes!$S:$W,MATCH(J433,referentes!$S:$S,0),1))","v":""},null,null,null,null,null,null,null,{"$f":"IF(U433=\"\",\"\",INDEX('OTRAS REFERENCIAS'!$H$6:$I$11,MATCH(U433,'OTRAS REFERENCIAS'!$I$6:$I$11,0),1))","v":""},null,null,null,null,{"$f":"IF(Z433=\"\",\"\",INDEX('OTRAS REFERENCIAS'!$K$6:$L$11,MATCH(Z433,'OTRAS REFERENCIAS'!$L$6:$L$11,0),1))","v":""},null,null,null,null,{"$f":"IF(AE433=\"\",\"\",INDEX('OTRAS REFERENCIAS'!$N$6:$O$11,MATCH(AE433,'OTRAS REFERENCIAS'!$O$6:$O$11,0),1))","v":""},null,null,null,null,{"$f":"IF(AJ433=\"\",\"\",INDEX('OTRAS REFERENCIAS'!$Q$6:$R$11,MATCH(AJ433,'OTRAS REFERENCIAS'!$R$6:$R$11,0),1))","v":""},null,null,null,{"$f":"IF(AN433=\"\",\"\",INDEX('OTRAS REFERENCIAS'!$T$6:$U$11,MATCH(AN433,'OTRAS REFERENCIAS'!$U$6:$U$11,0),1))","v":""}]
[1,"",432,"","",{"$f":"IF(L434<>\"\",CONCATENATE(DIGITADOR!$B$2,$A$2,DIGITADOR!$M$1,A434),\"\")","v":""},null,null,"",{"$f":"IF(K434=\"\",\"\",INDEX('OTRAS REFERENCIAS'!$AL:$AM,MATCH(K434,'OTRAS REFERENCIAS'!$AL:$AL,0),2))","v":""},null,{"$f":"IF(J434=\"\",\"\",INDEX(referentes!$S:$W,MATCH(J434,referentes!$S:$S,0),1))","v":""},null,null,null,null,null,null,null,{"$f":"IF(U434=\"\",\"\",INDEX('OTRAS REFERENCIAS'!$H$6:$I$11,MATCH(U434,'OTRAS REFERENCIAS'!$I$6:$I$11,0),1))","v":""},null,null,null,null,{"$f":"IF(Z434=\"\",\"\",INDEX('OTRAS REFERENCIAS'!$K$6:$L$11,MATCH(Z434,'OTRAS REFERENCIAS'!$L$6:$L$11,0),1))","v":""},null,null,null,null,{"$f":"IF(AE434=\"\",\"\",INDEX('OTRAS REFERENCIAS'!$N$6:$O$11,MATCH(AE434,'OTRAS REFERENCIAS'!$O$6:$O$11,0),1))","v":""},null,null,null,null,{"$f":"IF(AJ434=\"\",\"\",INDEX('OTRAS REFERENCIAS'!$Q$6:$R$11,MATCH(AJ434,'OTRAS REFERENCIAS'!$R$6:$R$11,0),1))","v":""},null,null,null,{"$f":"IF(AN434=\"\",\"\",INDEX('OTRAS REFERENCIAS'!$T$6:$U$11,MATCH(AN434,'OTRAS REFERENCIAS'!$U$6:$U$11,0),1))","v":""}]
[1,"",433,"","",{"$f":"IF(L435<>\"\",CONCATENATE(DIGITADOR!$B$2,$A$2,DIGITADOR!$M$1,A435),\"\")","v":""},null,null,"",{"$f":"IF(K435=\"\",\"\",INDEX('OTRAS REFERENCIAS'!$AL:$AM,MATCH(K435,'OTRAS REFERENCIAS'!$AL:$AL,0),2))","v":""},null,{"$f":"IF(J435=\"\",\"\",INDEX(referentes!$S:$W,MATCH(J435,referentes!$S:$S,0),1))","v":""},null,null,null,null,null,null,null,{"$f":"IF(U435=\"\",\"\",INDEX('OTRAS REFERENCIAS'!$H$6:$I$11,MATCH(U435,'OTRAS REFERENCIAS'!$I$6:$I$11,0),1))","v":""},null,null,null,null,{"$f":"IF(Z435=\"\",\"\",INDEX('OTRAS REFERENCIAS'!$K$6:$L$11,MATCH(Z435,'OTRAS REFERENCIAS'!$L$6:$L$11,0),1))","v":""},null,null,null,null,{"$f":"IF(AE435=\"\",\"\",INDEX('OTRAS REFERENCIAS'!$N$6:$O$11,MATCH(AE435,'OTRAS REFERENCIAS'!$O$6:$O$11,0),1))","v":""},null,null,null,null,{"$f":"IF(AJ435=\"\",\"\",INDEX('OTRAS REFERENCIAS'!$Q$6:$R$11,MATCH(AJ435,'OTRAS REFERENCIAS'!$R$6:$R$11,0),1))","v":""},null,null,null,{"$f":"IF(AN435=\"\",\"\",INDEX('OTRAS REFERENCIAS'!$T$6:$U$11,MATCH(AN435,'OTRAS REFERENCIAS'!$U$6:$U$11,0),1))","v":""}]
[1,"",434,"","",{"$f":"IF(L436<>\"\",CONCATENATE(DIGITADOR!$B$2,$A$2,DIGITADOR!$M$1,A436),\"\")","v":""},null,null,"",{"$f":"IF(K436=\"\",\"\",INDEX('OTRAS REFERENCIAS'!$AL:$AM,MATCH(K436,'OTRAS REFERENCIAS'!$AL:$AL,0),2))","v":""},null,{"$f":"IF(J436=\"\",\"\",INDEX(referentes!$S:$W,MATCH(J436,referentes!$S:$S,0),1))","v":""},null,null,null,null,null,null,null,{"$f":"IF(U436=\"\",\"\",INDEX('OTRAS REFERENCIAS'!$H$6:$I$11,MATCH(U436,'OTRAS REFERENCIAS'!$I$6:$I$11,0),1))","v":""},null,null,null,null,{"$f":"IF(Z436=\"\",\"\",INDEX('OTRAS REFERENCIAS'!$K$6:$L$11,MATCH(Z436,'OTRAS REFERENCIAS'!$L$6:$L$11,0),1))","v":""},null,null,null,null,{"$f":"IF(AE436=\"\",\"\",INDEX('OTRAS REFERENCIAS'!$N$6:$O$11,MATCH(AE436,'OTRAS REFERENCIAS'!$O$6:$O$11,0),1))","v":""},null,null,null,null,{"$f":"IF(AJ436=\"\",\"\",INDEX('OTRAS REFERENCIAS'!$Q$6:$R$11,MATCH(AJ436,'OTRAS REFERENCIAS'!$R$6:$R$11,0),1))","v":""},null,null,null,{"$f":"IF(AN436=\"\",\"\",INDEX('OTRAS REFERENCIAS'!$T$6:$U$11,MATCH(AN436,'OTRAS REFERENCIAS'!$U$6:$U$11,0),1))","v":""}]
[1,"",435,"","",{"$f":"IF(L437<>\"\",CONCATENATE(DIGITADOR!$B$2,$A$2,DIGITADOR!$M$1,A437),\"\")","v":""},null,null,"",{"$f":"IF(K437=\"\",\"\",INDEX('OTRAS REFERENCIAS'!$AL:$AM,MATCH(K437,'OTRAS REFERENCIAS'!$AL:$AL,0),2))","v":""},null,{"$f":"IF(J437=\"\",\"\",INDEX(referentes!$S:$W,MATCH(J437,referentes!$S:$S,0),1))","v":""},null,null,null,null,null,null,null,{"$f":"IF(U437=\"\",\"\",INDEX('OTRAS REFERENCIAS'!$H$6:$I$11,MATCH(U437,'OTRAS REFERENCIAS'!$I$6:$I$11,0),1))","v":""},null,null,null,null,{"$f":"IF(Z437=\"\",\"\",INDEX('OTRAS REFERENCIAS'!$K$6:$L$11,MATCH(Z437,'OTRAS REFERENCIAS'!$L$6:$L$11,0),1))","v":""},null,null,null,null,{"$f":"IF(AE437=\"\",\"\",INDEX('OTRAS REFERENCIAS'!$N$6:$O$11,MATCH(AE437,'OTRAS REFERENCIAS'!$O$6:$O$11,0),1))","v":""},null,null,null,null,{"$f":"IF(AJ437=\"\",\"\",INDEX('OTRAS REFERENCIAS'!$Q$6:$R$11,MATCH(AJ437,'OTRAS REFERENCIAS'!$R$6:$R$11,0),1))","v":""},null,null,null,{"$f":"IF(AN437=\"\",\"\",INDEX('OTRAS REFERENCIAS'!$T$6:$U$11,MATCH(AN437,'OTRAS REFERENCIAS'!$U$6:$U$11,0),1))","v":""}]
[1,"",436,"","",{"$f":"IF(L438<>\"\",CONCATENATE(DIGITADOR!$B$2,$A$2,DIGITADOR!$M$1,A438),\"\")","v":""},null,null,"",{"$f":"IF(K438=\"\",\"\",INDEX('OTRAS REFERENCIAS'!$AL:$AM,MATCH(K438,'OTRAS REFERENCIAS'!$AL:$AL,0),2))","v":""},null,{"$f":"IF(J438=\"\",\"\",INDEX(referentes!$S:$W,MATCH(J438,referentes!$S:$S,0),1))","v":""},null,null,null,null,null,null,null,{"$f":"IF(U438=\"\",\"\",INDEX('OTRAS REFERENCIAS'!$H$6:$I$11,MATCH(U438,'OTRAS REFERENCIAS'!$I$6:$I$11,0),1))","v":""},null,null,null,null,{"$f":"IF(Z438=\"\",\"\",INDEX('OTRAS REFERENCIAS'!$K$6:$L$11,MATCH(Z438,'OTRAS REFERENCIAS'!$L$6:$L$11,0),1))","v":""},null,null,null,null,{"$f":"IF(AE438=\"\",\"\",INDEX('OTRAS REFERENCIAS'!$N$6:$O$11,MATCH(AE438,'OTRAS REFERENCIAS'!$O$6:$O$11,0),1))","v":""},null,null,null,null,{"$f":"IF(AJ438=\"\",\"\",INDEX('OTRAS REFERENCIAS'!$Q$6:$R$11,MATCH(AJ438,'OTRAS REFERENCIAS'!$R$6:$R$11,0),1))","v":""},null,null,null,{"$f":"IF(AN438=\"\",\"\",INDEX('OTRAS REFERENCIAS'!$T$6:$U$11,MATCH(AN438,'OTRAS REFERENCIAS'!$U$6:$U$11,0),1))","v":""}]
[1,"",437,"","",{"$f":"IF(L439<>\"\",CONCATENATE(DIGITADOR!$B$2,$A$2,DIGITADOR!$M$1,A439),\"\")","v":""},null,null,"",{"$f":"IF(K439=\"\",\"\",INDEX('OTRAS REFERENCIAS'!$AL:$AM,MATCH(K439,'OTRAS REFERENCIAS'!$AL:$AL,0),2))","v":""},null,{"$f":"IF(J439=\"\",\"\",INDEX(referentes!$S:$W,MATCH(J439,referentes!$S:$S,0),1))","v":""},null,null,null,null,null,null,null,{"$f":"IF(U439=\"\",\"\",INDEX('OTRAS REFERENCIAS'!$H$6:$I$11,MATCH(U439,'OTRAS REFERENCIAS'!$I$6:$I$11,0),1))","v":""},null,null,null,null,{"$f":"IF(Z439=\"\",\"\",INDEX('OTRAS REFERENCIAS'!$K$6:$L$11,MATCH(Z439,'OTRAS REFERENCIAS'!$L$6:$L$11,0),1))","v":""},null,null,null,null,{"$f":"IF(AE439=\"\",\"\",INDEX('OTRAS REFERENCIAS'!$N$6:$O$11,MATCH(AE439,'OTRAS REFERENCIAS'!$O$6:$O$11,0),1))","v":""},null,null,null,null,{"$f":"IF(AJ439=\"\",\"\",INDEX('OTRAS REFERENCIAS'!$Q$6:$R$11,MATCH(AJ439,'OTRAS REFERENCIAS'!$R$6:$R$11,0),1))","v":""},null,null,null,{"$f":"IF(AN439=\"\",\"\",INDEX('OTRAS REFERENCIAS'!$T$6:$U$11,MATCH(AN439,'OTRAS REFERENCIAS'!$U$6:$U$11,0),1))","v":""}]
[1,"",438,"","",{"$f":"IF(L440<>\"\",CONCATENATE(DIGITADOR!$B$2,$A$2,DIGITADOR!$M$1,A440),\"\")","v":""},null,null,"",{"$f":"IF(K440=\"\",\"\",INDEX('OTRAS REFERENCIAS'!$AL:$AM,MATCH(K440,'OTRAS REFERENCIAS'!$AL:$AL,0),2))","v":""},null,{"$f":"IF(J440=\"\",\"\",INDEX(referentes!$S:$W,MATCH(J440,referentes!$S:$S,0),1))","v":""},null,null,null,null,null,null,null,{"$f":"IF(U440=\"\",\"\",INDEX('OTRAS REFERENCIAS'!$H$6:$I$11,MATCH(U440,'OTRAS REFERENCIAS'!$I$6:$I$11,0),1))","v":""},null,null,null,null,{"$f":"IF(Z440=\"\",\"\",INDEX('OTRAS REFERENCIAS'!$K$6:$L$11,MATCH(Z440,'OTRAS REFERENCIAS'!$L$6:$L$11,0),1))","v":""},null,null,null,null,{"$f":"IF(AE440=\"\",\"\",INDEX('OTRAS REFERENCIAS'!$N$6:$O$11,MATCH(AE440,'OTRAS REFERENCIAS'!$O$6:$O$11,0),1))","v":""},null,null,null,null,{"$f":"IF(AJ440=\"\",\"\",INDEX('OTRAS REFERENCIAS'!$Q$6:$R$11,MATCH(AJ440,'OTRAS REFERENCIAS'!$R$6:$R$11,0),1))","v":""},null,null,null,{"$f":"IF(AN440=\"\",\"\",INDEX('OTRAS REFERENCIAS'!$T$6:$U$11,MATCH(AN440,'OTRAS REFERENCIAS'!$U$6:$U$11,0),1))","v":""}]
[1,"",439,"","",{"$f":"IF(L441<>\"\",CONCATENATE(DIGITADOR!$B$2,$A$2,DIGITADOR!$M$1,A441),\"\")","v":""},null,null,"",{"$f":"IF(K441=\"\",\"\",INDEX('OTRAS REFERENCIAS'!$AL:$AM,MATCH(K441,'OTRAS REFERENCIAS'!$AL:$AL,0),2))","v":""},null,{"$f":"IF(J441=\"\",\"\",INDEX(referentes!$S:$W,MATCH(J441,referentes!$S:$S,0),1))","v":""},null,null,null,null,null,null,null,{"$f":"IF(U441=\"\",\"\",INDEX('OTRAS REFERENCIAS'!$H$6:$I$11,MATCH(U441,'OTRAS REFERENCIAS'!$I$6:$I$11,0),1))","v":""},null,null,null,null,{"$f":"IF(Z441=\"\",\"\",INDEX('OTRAS REFERENCIAS'!$K$6:$L$11,MATCH(Z441,'OTRAS REFERENCIAS'!$L$6:$L$11,0),1))","v":""},null,null,null,null,{"$f":"IF(AE441=\"\",\"\",INDEX('OTRAS REFERENCIAS'!$N$6:$O$11,MATCH(AE441,'OTRAS REFERENCIAS'!$O$6:$O$11,0),1))","v":""},null,null,null,null,{"$f":"IF(AJ441=\"\",\"\",INDEX('OTRAS REFERENCIAS'!$Q$6:$R$11,MATCH(AJ441,'OTRAS REFERENCIAS'!$R$6:$R$11,0),1))","v":""},null,null,null,{"$f":"IF(AN441=\"\",\"\",INDEX('OTRAS REFERENCIAS'!$T$6:$U$11,MATCH(AN441,'OTRAS REFERENCIAS'!$U$6:$U$11,0),1))","v":""}]
[1,"",440,"","",{"$f":"IF(L442<>\"\",CONCATENATE(DIGITADOR!$B$2,$A$2,DIGITADOR!$M$1,A442),\"\")","v":""},null,null,"",{"$f":"IF(K442=\"\",\"\",INDEX('OTRAS REFERENCIAS'!$AL:$AM,MATCH(K442,'OTRAS REFERENCIAS'!$AL:$AL,0),2))","v":""},null,{"$f":"IF(J442=\"\",\"\",INDEX(referentes!$S:$W,MATCH(J442,referentes!$S:$S,0),1))","v":""},null,null,null,null,null,null,null,{"$f":"IF(U442=\"\",\"\",INDEX('OTRAS REFERENCIAS'!$H$6:$I$11,MATCH(U442,'OTRAS REFERENCIAS'!$I$6:$I$11,0),1))","v":""},null,null,null,null,{"$f":"IF(Z442=\"\",\"\",INDEX('OTRAS REFERENCIAS'!$K$6:$L$11,MATCH(Z442,'OTRAS REFERENCIAS'!$L$6:$L$11,0),1))","v":""},null,null,null,null,{"$f":"IF(AE442=\"\",\"\",INDEX('OTRAS REFERENCIAS'!$N$6:$O$11,MATCH(AE442,'OTRAS REFERENCIAS'!$O$6:$O$11,0),1))","v":""},null,null,null,null,{"$f":"IF(AJ442=\"\",\"\",INDEX('OTRAS REFERENCIAS'!$Q$6:$R$11,MATCH(AJ442,'OTRAS REFERENCIAS'!$R$6:$R$11,0),1))","v":""},null,null,null,{"$f":"IF(AN442=\"\",\"\",INDEX('OTRAS REFERENCIAS'!$T$6:$U$11,MATCH(AN442,'OTRAS REFERENCIAS'!$U$6:$U$11,0),1))","v":""}]
[1,"",441,"","",{"$f":"IF(L443<>\"\",CONCATENATE(DIGITADOR!$B$2,$A$2,DIGITADOR!$M$1,A443),\"\")","v":""},null,null,"",{"$f":"IF(K443=\"\",\"\",INDEX('OTRAS REFERENCIAS'!$AL:$AM,MATCH(K443,'OTRAS REFERENCIAS'!$AL:$AL,0),2))","v":""},null,{"$f":"IF(J443=\"\",\"\",INDEX(referentes!$S:$W,MATCH(J443,referentes!$S:$S,0),1))","v":""},null,null,null,null,null,null,null,{"$f":"IF(U443=\"\",\"\",INDEX('OTRAS REFERENCIAS'!$H$6:$I$11,MATCH(U443,'OTRAS REFERENCIAS'!$I$6:$I$11,0),1))","v":""},null,null,null,null,{"$f":"IF(Z443=\"\",\"\",INDEX('OTRAS REFERENCIAS'!$K$6:$L$11,MATCH(Z443,'OTRAS REFERENCIAS'!$L$6:$L$11,0),1))","v":""},null,null,null,null,{"$f":"IF(AE443=\"\",\"\",INDEX('OTRAS REFERENCIAS'!$N$6:$O$11,MATCH(AE443,'OTRAS REFERENCIAS'!$O$6:$O$11,0),1))","v":""},null,null,null,null,{"$f":"IF(AJ443=\"\",\"\",INDEX('OTRAS REFERENCIAS'!$Q$6:$R$11,MATCH(AJ443,'OTRAS REFERENCIAS'!$R$6:$R$11,0),1))","v":""},null,null,null,{"$f":"IF(AN443=\"\",\"\",INDEX('OTRAS REFERENCIAS'!$T$6:$U$11,MATCH(AN443,'OTRAS REFERENCIAS'!$U$6:$U$11,0),1))","v":""}]
[1,"",442,"","",{"$f":"IF(L444<>\"\",CONCATENATE(DIGITADOR!$B$2,$A$2,DIGITADOR!$M$1,A444),\"\")","v":""},null,null,"",{"$f":"IF(K444=\"\",\"\",INDEX('OTRAS REFERENCIAS'!$AL:$AM,MATCH(K444,'OTRAS REFERENCIAS'!$AL:$AL,0),2))","v":""},null,{"$f":"IF(J444=\"\",\"\",INDEX(referentes!$S:$W,MATCH(J444,referentes!$S:$S,0),1))","v":""},null,null,null,null,null,null,null,{"$f":"IF(U444=\"\",\"\",INDEX('OTRAS REFERENCIAS'!$H$6:$I$11,MATCH(U444,'OTRAS REFERENCIAS'!$I$6:$I$11,0),1))","v":""},null,null,null,null,{"$f":"IF(Z444=\"\",\"\",INDEX('OTRAS REFERENCIAS'!$K$6:$L$11,MATCH(Z444,'OTRAS REFERENCIAS'!$L$6:$L$11,0),1))","v":""},null,null,null,null,{"$f":"IF(AE444=\"\",\"\",INDEX('OTRAS REFERENCIAS'!$N$6:$O$11,MATCH(AE444,'OTRAS REFERENCIAS'!$O$6:$O$11,0),1))","v":""},null,null,null,null,{"$f":"IF(AJ444=\"\",\"\",INDEX('OTRAS REFERENCIAS'!$Q$6:$R$11,MATCH(AJ444,'OTRAS REFERENCIAS'!$R$6:$R$11,0),1))","v":""},null,null,null,{"$f":"IF(AN444=\"\",\"\",INDEX('OTRAS REFERENCIAS'!$T$6:$U$11,MATCH(AN444,'OTRAS REFERENCIAS'!$U$6:$U$11,0),1))","v":""}]
[1,"",443,"","",{"$f":"IF(L445<>\"\",CONCATENATE(DIGITADOR!$B$2,$A$2,DIGITADOR!$M$1,A445),\"\")","v":""},null,null,"",{"$f":"IF(K445=\"\",\"\",INDEX('OTRAS REFERENCIAS'!$AL:$AM,MATCH(K445,'OTRAS REFERENCIAS'!$AL:$AL,0),2))","v":""},null,{"$f":"IF(J445=\"\",\"\",INDEX(referentes!$S:$W,MATCH(J445,referentes!$S:$S,0),1))","v":""},null,null,null,null,null,null,null,{"$f":"IF(U445=\"\",\"\",INDEX('OTRAS REFERENCIAS'!$H$6:$I$11,MATCH(U445,'OTRAS REFERENCIAS'!$I$6:$I$11,0),1))","v":""},null,null,null,null,{"$f":"IF(Z445=\"\",\"\",INDEX('OTRAS REFERENCIAS'!$K$6:$L$11,MATCH(Z445,'OTRAS REFERENCIAS'!$L$6:$L$11,0),1))","v":""},null,null,null,null,{"$f":"IF(AE445=\"\",\"\",INDEX('OTRAS REFERENCIAS'!$N$6:$O$11,MATCH(AE445,'OTRAS REFERENCIAS'!$O$6:$O$11,0),1))","v":""},null,null,null,null,{"$f":"IF(AJ445=\"\",\"\",INDEX('OTRAS REFERENCIAS'!$Q$6:$R$11,MATCH(AJ445,'OTRAS REFERENCIAS'!$R$6:$R$11,0),1))","v":""},null,null,null,{"$f":"IF(AN445=\"\",\"\",INDEX('OTRAS REFERENCIAS'!$T$6:$U$11,MATCH(AN445,'OTRAS REFERENCIAS'!$U$6:$U$11,0),1))","v":""}]
[1,"",444,"","",{"$f":"IF(L446<>\"\",CONCATENATE(DIGITADOR!$B$2,$A$2,DIGITADOR!$M$1,A446),\"\")","v":""},null,null,"",{"$f":"IF(K446=\"\",\"\",INDEX('OTRAS REFERENCIAS'!$AL:$AM,MATCH(K446,'OTRAS REFERENCIAS'!$AL:$AL,0),2))","v":""},null,{"$f":"IF(J446=\"\",\"\",INDEX(referentes!$S:$W,MATCH(J446,referentes!$S:$S,0),1))","v":""},null,null,null,null,null,null,null,{"$f":"IF(U446=\"\",\"\",INDEX('OTRAS REFERENCIAS'!$H$6:$I$11,MATCH(U446,'OTRAS REFERENCIAS'!$I$6:$I$11,0),1))","v":""},null,null,null,null,{"$f":"IF(Z446=\"\",\"\",INDEX('OTRAS REFERENCIAS'!$K$6:$L$11,MATCH(Z446,'OTRAS REFERENCIAS'!$L$6:$L$11,0),1))","v":""},null,null,null,null,{"$f":"IF(AE446=\"\",\"\",INDEX('OTRAS REFERENCIAS'!$N$6:$O$11,MATCH(AE446,'OTRAS REFERENCIAS'!$O$6:$O$11,0),1))","v":""},null,null,null,null,{"$f":"IF(AJ446=\"\",\"\",INDEX('OTRAS REFERENCIAS'!$Q$6:$R$11,MATCH(AJ446,'OTRAS REFERENCIAS'!$R$6:$R$11,0),1))","v":""},null,null,null,{"$f":"IF(AN446=\"\",\"\",INDEX('OTRAS REFERENCIAS'!$T$6:$U$11,MATCH(AN446,'OTRAS REFERENCIAS'!$U$6:$U$11,0),1))","v":""}]
[1,"",445,"","",{"$f":"IF(L447<>\"\",CONCATENATE(DIGITADOR!$B$2,$A$2,DIGITADOR!$M$1,A447),\"\")","v":""},null,null,"",{"$f":"IF(K447=\"\",\"\",INDEX('OTRAS REFERENCIAS'!$AL:$AM,MATCH(K447,'OTRAS REFERENCIAS'!$AL:$AL,0),2))","v":""},null,{"$f":"IF(J447=\"\",\"\",INDEX(referentes!$S:$W,MATCH(J447,referentes!$S:$S,0),1))","v":""},null,null,null,null,null,null,null,{"$f":"IF(U447=\"\",\"\",INDEX('OTRAS REFERENCIAS'!$H$6:$I$11,MATCH(U447,'OTRAS REFERENCIAS'!$I$6:$I$11,0),1))","v":""},null,null,null,null,{"$f":"IF(Z447=\"\",\"\",INDEX('OTRAS REFERENCIAS'!$K$6:$L$11,MATCH(Z447,'OTRAS REFERENCIAS'!$L$6:$L$11,0),1))","v":""},null,null,null,null,{"$f":"IF(AE447=\"\",\"\",INDEX('OTRAS REFERENCIAS'!$N$6:$O$11,MATCH(AE447,'OTRAS REFERENCIAS'!$O$6:$O$11,0),1))","v":""},null,null,null,null,{"$f":"IF(AJ447=\"\",\"\",INDEX('OTRAS REFERENCIAS'!$Q$6:$R$11,MATCH(AJ447,'OTRAS REFERENCIAS'!$R$6:$R$11,0),1))","v":""},null,null,null,{"$f":"IF(AN447=\"\",\"\",INDEX('OTRAS REFERENCIAS'!$T$6:$U$11,MATCH(AN447,'OTRAS REFERENCIAS'!$U$6:$U$11,0),1))","v":""}]
[1,"",446,"","",{"$f":"IF(L448<>\"\",CONCATENATE(DIGITADOR!$B$2,$A$2,DIGITADOR!$M$1,A448),\"\")","v":""},null,null,"",{"$f":"IF(K448=\"\",\"\",INDEX('OTRAS REFERENCIAS'!$AL:$AM,MATCH(K448,'OTRAS REFERENCIAS'!$AL:$AL,0),2))","v":""},null,{"$f":"IF(J448=\"\",\"\",INDEX(referentes!$S:$W,MATCH(J448,referentes!$S:$S,0),1))","v":""},null,null,null,null,null,null,null,{"$f":"IF(U448=\"\",\"\",INDEX('OTRAS REFERENCIAS'!$H$6:$I$11,MATCH(U448,'OTRAS REFERENCIAS'!$I$6:$I$11,0),1))","v":""},null,null,null,null,{"$f":"IF(Z448=\"\",\"\",INDEX('OTRAS REFERENCIAS'!$K$6:$L$11,MATCH(Z448,'OTRAS REFERENCIAS'!$L$6:$L$11,0),1))","v":""},null,null,null,null,{"$f":"IF(AE448=\"\",\"\",INDEX('OTRAS REFERENCIAS'!$N$6:$O$11,MATCH(AE448,'OTRAS REFERENCIAS'!$O$6:$O$11,0),1))","v":""},null,null,null,null,{"$f":"IF(AJ448=\"\",\"\",INDEX('OTRAS REFERENCIAS'!$Q$6:$R$11,MATCH(AJ448,'OTRAS REFERENCIAS'!$R$6:$R$11,0),1))","v":""},null,null,null,{"$f":"IF(AN448=\"\",\"\",INDEX('OTRAS REFERENCIAS'!$T$6:$U$11,MATCH(AN448,'OTRAS REFERENCIAS'!$U$6:$U$11,0),1))","v":""}]
[1,"",447,"","",{"$f":"IF(L449<>\"\",CONCATENATE(DIGITADOR!$B$2,$A$2,DIGITADOR!$M$1,A449),\"\")","v":""},null,null,"",{"$f":"IF(K449=\"\",\"\",INDEX('OTRAS REFERENCIAS'!$AL:$AM,MATCH(K449,'OTRAS REFERENCIAS'!$AL:$AL,0),2))","v":""},null,{"$f":"IF(J449=\"\",\"\",INDEX(referentes!$S:$W,MATCH(J449,referentes!$S:$S,0),1))","v":""},null,null,null,null,null,null,null,{"$f":"IF(U449=\"\",\"\",INDEX('OTRAS REFERENCIAS'!$H$6:$I$11,MATCH(U449,'OTRAS REFERENCIAS'!$I$6:$I$11,0),1))","v":""},null,null,null,null,{"$f":"IF(Z449=\"\",\"\",INDEX('OTRAS REFERENCIAS'!$K$6:$L$11,MATCH(Z449,'OTRAS REFERENCIAS'!$L$6:$L$11,0),1))","v":""},null,null,null,null,{"$f":"IF(AE449=\"\",\"\",INDEX('OTRAS REFERENCIAS'!$N$6:$O$11,MATCH(AE449,'OTRAS REFERENCIAS'!$O$6:$O$11,0),1))","v":""},null,null,null,null,{"$f":"IF(AJ449=\"\",\"\",INDEX('OTRAS REFERENCIAS'!$Q$6:$R$11,MATCH(AJ449,'OTRAS REFERENCIAS'!$R$6:$R$11,0),1))","v":""},null,null,null,{"$f":"IF(AN449=\"\",\"\",INDEX('OTRAS REFERENCIAS'!$T$6:$U$11,MATCH(AN449,'OTRAS REFERENCIAS'!$U$6:$U$11,0),1))","v":""}]
[1,"",448,"","",{"$f":"IF(L450<>\"\",CONCATENATE(DIGITADOR!$B$2,$A$2,DIGITADOR!$M$1,A450),\"\")","v":""},null,null,"",{"$f":"IF(K450=\"\",\"\",INDEX('OTRAS REFERENCIAS'!$AL:$AM,MATCH(K450,'OTRAS REFERENCIAS'!$AL:$AL,0),2))","v":""},null,{"$f":"IF(J450=\"\",\"\",INDEX(referentes!$S:$W,MATCH(J450,referentes!$S:$S,0),1))","v":""},null,null,null,null,null,null,null,{"$f":"IF(U450=\"\",\"\",INDEX('OTRAS REFERENCIAS'!$H$6:$I$11,MATCH(U450,'OTRAS REFERENCIAS'!$I$6:$I$11,0),1))","v":""},null,null,null,null,{"$f":"IF(Z450=\"\",\"\",INDEX('OTRAS REFERENCIAS'!$K$6:$L$11,MATCH(Z450,'OTRAS REFERENCIAS'!$L$6:$L$11,0),1))","v":""},null,null,null,null,{"$f":"IF(AE450=\"\",\"\",INDEX('OTRAS REFERENCIAS'!$N$6:$O$11,MATCH(AE450,'OTRAS REFERENCIAS'!$O$6:$O$11,0),1))","v":""},null,null,null,null,{"$f":"IF(AJ450=\"\",\"\",INDEX('OTRAS REFERENCIAS'!$Q$6:$R$11,MATCH(AJ450,'OTRAS REFERENCIAS'!$R$6:$R$11,0),1))","v":""},null,null,null,{"$f":"IF(AN450=\"\",\"\",INDEX('OTRAS REFERENCIAS'!$T$6:$U$11,MATCH(AN450,'OTRAS REFERENCIAS'!$U$6:$U$11,0),1))","v":""}]
[1,"",449,"",{"$f":"CONCATENATE(I451,L451)","v":""},{"$f":"IF(L451<>\"\",CONCATENATE(DIGITADOR!$B$2,$A$2,DIGITADOR!$M$1,A451),\"\")","v":""},null,null,{"$f":"IF(G451<>\"\",G451+H451,\"\")","v":""},{"$f":"IF(K451=\"\",\"\",INDEX('OTRAS REFERENCIAS'!$AL:$AM,MATCH(K451,'OTRAS REFERENCIAS'!$AL:$AL,0),2))","v":""},null,{"$f":"IF(J451=\"\",\"\",INDEX(referentes!$S:$W,MATCH(J451,referentes!$S:$S,0),1))","v":""},null,null,null,null,null,null,null,{"$f":"IF(U451=\"\",\"\",INDEX('OTRAS REFERENCIAS'!$H$6:$I$11,MATCH(U451,'OTRAS REFERENCIAS'!$I$6:$I$11,0),1))","v":""},null,null,null,null,{"$f":"IF(Z451=\"\",\"\",INDEX('OTRAS REFERENCIAS'!$K$6:$L$11,MATCH(Z451,'OTRAS REFERENCIAS'!$L$6:$L$11,0),1))","v":""},null,null,null,null,{"$f":"IF(AE451=\"\",\"\",INDEX('OTRAS REFERENCIAS'!$N$6:$O$11,MATCH(AE451,'OTRAS REFERENCIAS'!$O$6:$O$11,0),1))","v":""},null,null,null,null,{"$f":"IF(AJ451=\"\",\"\",INDEX('OTRAS REFERENCIAS'!$Q$6:$R$11,MATCH(AJ451,'OTRAS REFERENCIAS'!$R$6:$R$11,0),1))","v":""},null,null,null,{"$f":"IF(AN451=\"\",\"\",INDEX('OTRAS REFERENCIAS'!$T$6:$U$11,MATCH(AN451,'OTRAS REFERENCIAS'!$U$6:$U$11,0),1))","v":""}]
[1,"",450,{"$f":"IF(L452=\"\",\"\",CONCATENATE(C452,F452))","v":""},"",{"$f":"IF(L452<>\"\",CONCATENATE(DIGITADOR!$B$2,$A$2,DIGITADOR!$M$1,A452),\"\")","v":""},null,null,"",{"$f":"IF(K452=\"\",\"\",INDEX('OTRAS REFERENCIAS'!$AL:$AM,MATCH(K452,'OTRAS REFERENCIAS'!$AL:$AL,0),2))","v":""},null,{"$f":"IF(J452=\"\",\"\",INDEX(referentes!$S:$W,MATCH(J452,referentes!$S:$S,0),1))","v":""},null,null,null,null,null,null,null,{"$f":"IF(U452=\"\",\"\",INDEX('OTRAS REFERENCIAS'!$H$6:$I$11,MATCH(U452,'OTRAS REFERENCIAS'!$I$6:$I$11,0),1))","v":""},null,null,null,null,{"$f":"IF(Z452=\"\",\"\",INDEX('OTRAS REFERENCIAS'!$K$6:$L$11,MATCH(Z452,'OTRAS REFERENCIAS'!$L$6:$L$11,0),1))","v":""},null,null,null,null,{"$f":"IF(AE452=\"\",\"\",INDEX('OTRAS REFERENCIAS'!$N$6:$O$11,MATCH(AE452,'OTRAS REFERENCIAS'!$O$6:$O$11,0),1))","v":""},null,null,null,null,{"$f":"IF(AJ452=\"\",\"\",INDEX('OTRAS REFERENCIAS'!$Q$6:$R$11,MATCH(AJ452,'OTRAS REFERENCIAS'!$R$6:$R$11,0),1))","v":""},null,null,null,{"$f":"IF(AN452=\"\",\"\",INDEX('OTRAS REFERENCIAS'!$T$6:$U$11,MATCH(AN452,'OTRAS REFERENCIAS'!$U$6:$U$11,0),1))","v":""}]
[{"$f":"IF(L453=L452,A452,A452+1)","v":1},{"$f":"IF(F453<>F452, F453,\"\")","v":""},451,"","",{"$f":"IF(L453<>\"\",CONCATENATE(DIGITADOR!$B$2,$A$2,DIGITADOR!$M$1,A453),\"\")","v":""},null,null,"",{"$f":"IF(K453=\"\",\"\",INDEX('OTRAS REFERENCIAS'!$AL:$AM,MATCH(K453,'OTRAS REFERENCIAS'!$AL:$AL,0),2))","v":""},null,{"$f":"IF(J453=\"\",\"\",INDEX(referentes!$S:$W,MATCH(J453,referentes!$S:$S,0),1))","v":""},null,null,null,null,null,null,null,{"$f":"IF(U453=\"\",\"\",INDEX('OTRAS REFERENCIAS'!$H$6:$I$11,MATCH(U453,'OTRAS REFERENCIAS'!$I$6:$I$11,0),1))","v":""},null,null,null,null,{"$f":"IF(Z453=\"\",\"\",INDEX('OTRAS REFERENCIAS'!$K$6:$L$11,MATCH(Z453,'OTRAS REFERENCIAS'!$L$6:$L$11,0),1))","v":""},null,null,null,null,{"$f":"IF(AE453=\"\",\"\",INDEX('OTRAS REFERENCIAS'!$N$6:$O$11,MATCH(AE453,'OTRAS REFERENCIAS'!$O$6:$O$11,0),1))","v":""},null,null,null,null,{"$f":"IF(AJ453=\"\",\"\",INDEX('OTRAS REFERENCIAS'!$Q$6:$R$11,MATCH(AJ453,'OTRAS REFERENCIAS'!$R$6:$R$11,0),1))","v":""},null,null,null,{"$f":"IF(AN453=\"\",\"\",INDEX('OTRAS REFERENCIAS'!$T$6:$U$11,MATCH(AN453,'OTRAS REFERENCIAS'!$U$6:$U$11,0),1))","v":""}]
[1,"",452,"","",{"$f":"IF(L454<>\"\",CONCATENATE(DIGITADOR!$B$2,$A$2,DIGITADOR!$M$1,A454),\"\")","v":""},null,null,"",{"$f":"IF(K454=\"\",\"\",INDEX('OTRAS REFERENCIAS'!$AL:$AM,MATCH(K454,'OTRAS REFERENCIAS'!$AL:$AL,0),2))","v":""},null,{"$f":"IF(J454=\"\",\"\",INDEX(referentes!$S:$W,MATCH(J454,referentes!$S:$S,0),1))","v":""},null,null,null,null,null,null,null,{"$f":"IF(U454=\"\",\"\",INDEX('OTRAS REFERENCIAS'!$H$6:$I$11,MATCH(U454,'OTRAS REFERENCIAS'!$I$6:$I$11,0),1))","v":""},null,null,null,null,{"$f":"IF(Z454=\"\",\"\",INDEX('OTRAS REFERENCIAS'!$K$6:$L$11,MATCH(Z454,'OTRAS REFERENCIAS'!$L$6:$L$11,0),1))","v":""},null,null,null,null,{"$f":"IF(AE454=\"\",\"\",INDEX('OTRAS REFERENCIAS'!$N$6:$O$11,MATCH(AE454,'OTRAS REFERENCIAS'!$O$6:$O$11,0),1))","v":""},null,null,null,null,{"$f":"IF(AJ454=\"\",\"\",INDEX('OTRAS REFERENCIAS'!$Q$6:$R$11,MATCH(AJ454,'OTRAS REFERENCIAS'!$R$6:$R$11,0),1))","v":""},null,null,null,{"$f":"IF(AN454=\"\",\"\",INDEX('OTRAS REFERENCIAS'!$T$6:$U$11,MATCH(AN454,'OTRAS REFERENCIAS'!$U$6:$U$11,0),1))","v":""}]
[1,"",453,"","",{"$f":"IF(L455<>\"\",CONCATENATE(DIGITADOR!$B$2,$A$2,DIGITADOR!$M$1,A455),\"\")","v":""},null,null,"",{"$f":"IF(K455=\"\",\"\",INDEX('OTRAS REFERENCIAS'!$AL:$AM,MATCH(K455,'OTRAS REFERENCIAS'!$AL:$AL,0),2))","v":""},null,{"$f":"IF(J455=\"\",\"\",INDEX(referentes!$S:$W,MATCH(J455,referentes!$S:$S,0),1))","v":""},null,null,null,null,null,null,null,{"$f":"IF(U455=\"\",\"\",INDEX('OTRAS REFERENCIAS'!$H$6:$I$11,MATCH(U455,'OTRAS REFERENCIAS'!$I$6:$I$11,0),1))","v":""},null,null,null,null,{"$f":"IF(Z455=\"\",\"\",INDEX('OTRAS REFERENCIAS'!$K$6:$L$11,MATCH(Z455,'OTRAS REFERENCIAS'!$L$6:$L$11,0),1))","v":""},null,null,null,null,{"$f":"IF(AE455=\"\",\"\",INDEX('OTRAS REFERENCIAS'!$N$6:$O$11,MATCH(AE455,'OTRAS REFERENCIAS'!$O$6:$O$11,0),1))","v":""},null,null,null,null,{"$f":"IF(AJ455=\"\",\"\",INDEX('OTRAS REFERENCIAS'!$Q$6:$R$11,MATCH(AJ455,'OTRAS REFERENCIAS'!$R$6:$R$11,0),1))","v":""},null,null,null,{"$f":"IF(AN455=\"\",\"\",INDEX('OTRAS REFERENCIAS'!$T$6:$U$11,MATCH(AN455,'OTRAS REFERENCIAS'!$U$6:$U$11,0),1))","v":""}]
[1,"",454,"","",{"$f":"IF(L456<>\"\",CONCATENATE(DIGITADOR!$B$2,$A$2,DIGITADOR!$M$1,A456),\"\")","v":""},null,null,"",{"$f":"IF(K456=\"\",\"\",INDEX('OTRAS REFERENCIAS'!$AL:$AM,MATCH(K456,'OTRAS REFERENCIAS'!$AL:$AL,0),2))","v":""},null,{"$f":"IF(J456=\"\",\"\",INDEX(referentes!$S:$W,MATCH(J456,referentes!$S:$S,0),1))","v":""},null,null,null,null,null,null,null,{"$f":"IF(U456=\"\",\"\",INDEX('OTRAS REFERENCIAS'!$H$6:$I$11,MATCH(U456,'OTRAS REFERENCIAS'!$I$6:$I$11,0),1))","v":""},null,null,null,null,{"$f":"IF(Z456=\"\",\"\",INDEX('OTRAS REFERENCIAS'!$K$6:$L$11,MATCH(Z456,'OTRAS REFERENCIAS'!$L$6:$L$11,0),1))","v":""},null,null,null,null,{"$f":"IF(AE456=\"\",\"\",INDEX('OTRAS REFERENCIAS'!$N$6:$O$11,MATCH(AE456,'OTRAS REFERENCIAS'!$O$6:$O$11,0),1))","v":""},null,null,null,null,{"$f":"IF(AJ456=\"\",\"\",INDEX('OTRAS REFERENCIAS'!$Q$6:$R$11,MATCH(AJ456,'OTRAS REFERENCIAS'!$R$6:$R$11,0),1))","v":""},null,null,null,{"$f":"IF(AN456=\"\",\"\",INDEX('OTRAS REFERENCIAS'!$T$6:$U$11,MATCH(AN456,'OTRAS REFERENCIAS'!$U$6:$U$11,0),1))","v":""}]
[1,"",455,"","",{"$f":"IF(L457<>\"\",CONCATENATE(DIGITADOR!$B$2,$A$2,DIGITADOR!$M$1,A457),\"\")","v":""},null,null,"",{"$f":"IF(K457=\"\",\"\",INDEX('OTRAS REFERENCIAS'!$AL:$AM,MATCH(K457,'OTRAS REFERENCIAS'!$AL:$AL,0),2))","v":""},null,{"$f":"IF(J457=\"\",\"\",INDEX(referentes!$S:$W,MATCH(J457,referentes!$S:$S,0),1))","v":""},null,null,null,null,null,null,null,{"$f":"IF(U457=\"\",\"\",INDEX('OTRAS REFERENCIAS'!$H$6:$I$11,MATCH(U457,'OTRAS REFERENCIAS'!$I$6:$I$11,0),1))","v":""},null,null,null,null,{"$f":"IF(Z457=\"\",\"\",INDEX('OTRAS REFERENCIAS'!$K$6:$L$11,MATCH(Z457,'OTRAS REFERENCIAS'!$L$6:$L$11,0),1))","v":""},null,null,null,null,{"$f":"IF(AE457=\"\",\"\",INDEX('OTRAS REFERENCIAS'!$N$6:$O$11,MATCH(AE457,'OTRAS REFERENCIAS'!$O$6:$O$11,0),1))","v":""},null,null,null,null,{"$f":"IF(AJ457=\"\",\"\",INDEX('OTRAS REFERENCIAS'!$Q$6:$R$11,MATCH(AJ457,'OTRAS REFERENCIAS'!$R$6:$R$11,0),1))","v":""},null,null,null,{"$f":"IF(AN457=\"\",\"\",INDEX('OTRAS REFERENCIAS'!$T$6:$U$11,MATCH(AN457,'OTRAS REFERENCIAS'!$U$6:$U$11,0),1))","v":""}]
[1,"",456,"","",{"$f":"IF(L458<>\"\",CONCATENATE(DIGITADOR!$B$2,$A$2,DIGITADOR!$M$1,A458),\"\")","v":""},null,null,"",{"$f":"IF(K458=\"\",\"\",INDEX('OTRAS REFERENCIAS'!$AL:$AM,MATCH(K458,'OTRAS REFERENCIAS'!$AL:$AL,0),2))","v":""},null,{"$f":"IF(J458=\"\",\"\",INDEX(referentes!$S:$W,MATCH(J458,referentes!$S:$S,0),1))","v":""},null,null,null,null,null,null,null,{"$f":"IF(U458=\"\",\"\",INDEX('OTRAS REFERENCIAS'!$H$6:$I$11,MATCH(U458,'OTRAS REFERENCIAS'!$I$6:$I$11,0),1))","v":""},null,null,null,null,{"$f":"IF(Z458=\"\",\"\",INDEX('OTRAS REFERENCIAS'!$K$6:$L$11,MATCH(Z458,'OTRAS REFERENCIAS'!$L$6:$L$11,0),1))","v":""},null,null,null,null,{"$f":"IF(AE458=\"\",\"\",INDEX('OTRAS REFERENCIAS'!$N$6:$O$11,MATCH(AE458,'OTRAS REFERENCIAS'!$O$6:$O$11,0),1))","v":""},null,null,null,null,{"$f":"IF(AJ458=\"\",\"\",INDEX('OTRAS REFERENCIAS'!$Q$6:$R$11,MATCH(AJ458,'OTRAS REFERENCIAS'!$R$6:$R$11,0),1))","v":""},null,null,null,{"$f":"IF(AN458=\"\",\"\",INDEX('OTRAS REFERENCIAS'!$T$6:$U$11,MATCH(AN458,'OTRAS REFERENCIAS'!$U$6:$U$11,0),1))","v":""}]
[1,"",457,"","",{"$f":"IF(L459<>\"\",CONCATENATE(DIGITADOR!$B$2,$A$2,DIGITADOR!$M$1,A459),\"\")","v":""},null,null,"",{"$f":"IF(K459=\"\",\"\",INDEX('OTRAS REFERENCIAS'!$AL:$AM,MATCH(K459,'OTRAS REFERENCIAS'!$AL:$AL,0),2))","v":""},null,{"$f":"IF(J459=\"\",\"\",INDEX(referentes!$S:$W,MATCH(J459,referentes!$S:$S,0),1))","v":""},null,null,null,null,null,null,null,{"$f":"IF(U459=\"\",\"\",INDEX('OTRAS REFERENCIAS'!$H$6:$I$11,MATCH(U459,'OTRAS REFERENCIAS'!$I$6:$I$11,0),1))","v":""},null,null,null,null,{"$f":"IF(Z459=\"\",\"\",INDEX('OTRAS REFERENCIAS'!$K$6:$L$11,MATCH(Z459,'OTRAS REFERENCIAS'!$L$6:$L$11,0),1))","v":""},null,null,null,null,{"$f":"IF(AE459=\"\",\"\",INDEX('OTRAS REFERENCIAS'!$N$6:$O$11,MATCH(AE459,'OTRAS REFERENCIAS'!$O$6:$O$11,0),1))","v":""},null,null,null,null,{"$f":"IF(AJ459=\"\",\"\",INDEX('OTRAS REFERENCIAS'!$Q$6:$R$11,MATCH(AJ459,'OTRAS REFERENCIAS'!$R$6:$R$11,0),1))","v":""},null,null,null,{"$f":"IF(AN459=\"\",\"\",INDEX('OTRAS REFERENCIAS'!$T$6:$U$11,MATCH(AN459,'OTRAS REFERENCIAS'!$U$6:$U$11,0),1))","v":""}]
[1,"",458,"","",{"$f":"IF(L460<>\"\",CONCATENATE(DIGITADOR!$B$2,$A$2,DIGITADOR!$M$1,A460),\"\")","v":""},null,null,"",{"$f":"IF(K460=\"\",\"\",INDEX('OTRAS REFERENCIAS'!$AL:$AM,MATCH(K460,'OTRAS REFERENCIAS'!$AL:$AL,0),2))","v":""},null,{"$f":"IF(J460=\"\",\"\",INDEX(referentes!$S:$W,MATCH(J460,referentes!$S:$S,0),1))","v":""},null,null,null,null,null,null,null,{"$f":"IF(U460=\"\",\"\",INDEX('OTRAS REFERENCIAS'!$H$6:$I$11,MATCH(U460,'OTRAS REFERENCIAS'!$I$6:$I$11,0),1))","v":""},null,null,null,null,{"$f":"IF(Z460=\"\",\"\",INDEX('OTRAS REFERENCIAS'!$K$6:$L$11,MATCH(Z460,'OTRAS REFERENCIAS'!$L$6:$L$11,0),1))","v":""},null,null,null,null,{"$f":"IF(AE460=\"\",\"\",INDEX('OTRAS REFERENCIAS'!$N$6:$O$11,MATCH(AE460,'OTRAS REFERENCIAS'!$O$6:$O$11,0),1))","v":""},null,null,null,null,{"$f":"IF(AJ460=\"\",\"\",INDEX('OTRAS REFERENCIAS'!$Q$6:$R$11,MATCH(AJ460,'OTRAS REFERENCIAS'!$R$6:$R$11,0),1))","v":""},null,null,null,{"$f":"IF(AN460=\"\",\"\",INDEX('OTRAS REFERENCIAS'!$T$6:$U$11,MATCH(AN460,'OTRAS REFERENCIAS'!$U$6:$U$11,0),1))","v":""}]
[1,"",459,"","",{"$f":"IF(L461<>\"\",CONCATENATE(DIGITADOR!$B$2,$A$2,DIGITADOR!$M$1,A461),\"\")","v":""},null,null,"",{"$f":"IF(K461=\"\",\"\",INDEX('OTRAS REFERENCIAS'!$AL:$AM,MATCH(K461,'OTRAS REFERENCIAS'!$AL:$AL,0),2))","v":""},null,{"$f":"IF(J461=\"\",\"\",INDEX(referentes!$S:$W,MATCH(J461,referentes!$S:$S,0),1))","v":""},null,null,null,null,null,null,null,{"$f":"IF(U461=\"\",\"\",INDEX('OTRAS REFERENCIAS'!$H$6:$I$11,MATCH(U461,'OTRAS REFERENCIAS'!$I$6:$I$11,0),1))","v":""},null,null,null,null,{"$f":"IF(Z461=\"\",\"\",INDEX('OTRAS REFERENCIAS'!$K$6:$L$11,MATCH(Z461,'OTRAS REFERENCIAS'!$L$6:$L$11,0),1))","v":""},null,null,null,null,{"$f":"IF(AE461=\"\",\"\",INDEX('OTRAS REFERENCIAS'!$N$6:$O$11,MATCH(AE461,'OTRAS REFERENCIAS'!$O$6:$O$11,0),1))","v":""},null,null,null,null,{"$f":"IF(AJ461=\"\",\"\",INDEX('OTRAS REFERENCIAS'!$Q$6:$R$11,MATCH(AJ461,'OTRAS REFERENCIAS'!$R$6:$R$11,0),1))","v":""},null,null,null,{"$f":"IF(AN461=\"\",\"\",INDEX('OTRAS REFERENCIAS'!$T$6:$U$11,MATCH(AN461,'OTRAS REFERENCIAS'!$U$6:$U$11,0),1))","v":""}]
[1,"",460,"","",{"$f":"IF(L462<>\"\",CONCATENATE(DIGITADOR!$B$2,$A$2,DIGITADOR!$M$1,A462),\"\")","v":""},null,null,"",{"$f":"IF(K462=\"\",\"\",INDEX('OTRAS REFERENCIAS'!$AL:$AM,MATCH(K462,'OTRAS REFERENCIAS'!$AL:$AL,0),2))","v":""},null,{"$f":"IF(J462=\"\",\"\",INDEX(referentes!$S:$W,MATCH(J462,referentes!$S:$S,0),1))","v":""},null,null,null,null,null,null,null,{"$f":"IF(U462=\"\",\"\",INDEX('OTRAS REFERENCIAS'!$H$6:$I$11,MATCH(U462,'OTRAS REFERENCIAS'!$I$6:$I$11,0),1))","v":""},null,null,null,null,{"$f":"IF(Z462=\"\",\"\",INDEX('OTRAS REFERENCIAS'!$K$6:$L$11,MATCH(Z462,'OTRAS REFERENCIAS'!$L$6:$L$11,0),1))","v":""},null,null,null,null,{"$f":"IF(AE462=\"\",\"\",INDEX('OTRAS REFERENCIAS'!$N$6:$O$11,MATCH(AE462,'OTRAS REFERENCIAS'!$O$6:$O$11,0),1))","v":""},null,null,null,null,{"$f":"IF(AJ462=\"\",\"\",INDEX('OTRAS REFERENCIAS'!$Q$6:$R$11,MATCH(AJ462,'OTRAS REFERENCIAS'!$R$6:$R$11,0),1))","v":""},null,null,null,{"$f":"IF(AN462=\"\",\"\",INDEX('OTRAS REFERENCIAS'!$T$6:$U$11,MATCH(AN462,'OTRAS REFERENCIAS'!$U$6:$U$11,0),1))","v":""}]
[1,"",461,"","",{"$f":"IF(L463<>\"\",CONCATENATE(DIGITADOR!$B$2,$A$2,DIGITADOR!$M$1,A463),\"\")","v":""},null,null,"",{"$f":"IF(K463=\"\",\"\",INDEX('OTRAS REFERENCIAS'!$AL:$AM,MATCH(K463,'OTRAS REFERENCIAS'!$AL:$AL,0),2))","v":""},null,{"$f":"IF(J463=\"\",\"\",INDEX(referentes!$S:$W,MATCH(J463,referentes!$S:$S,0),1))","v":""},null,null,null,null,null,null,null,{"$f":"IF(U463=\"\",\"\",INDEX('OTRAS REFERENCIAS'!$H$6:$I$11,MATCH(U463,'OTRAS REFERENCIAS'!$I$6:$I$11,0),1))","v":""},null,null,null,null,{"$f":"IF(Z463=\"\",\"\",INDEX('OTRAS REFERENCIAS'!$K$6:$L$11,MATCH(Z463,'OTRAS REFERENCIAS'!$L$6:$L$11,0),1))","v":""},null,null,null,null,{"$f":"IF(AE463=\"\",\"\",INDEX('OTRAS REFERENCIAS'!$N$6:$O$11,MATCH(AE463,'OTRAS REFERENCIAS'!$O$6:$O$11,0),1))","v":""},null,null,null,null,{"$f":"IF(AJ463=\"\",\"\",INDEX('OTRAS REFERENCIAS'!$Q$6:$R$11,MATCH(AJ463,'OTRAS REFERENCIAS'!$R$6:$R$11,0),1))","v":""},null,null,null,{"$f":"IF(AN463=\"\",\"\",INDEX('OTRAS REFERENCIAS'!$T$6:$U$11,MATCH(AN463,'OTRAS REFERENCIAS'!$U$6:$U$11,0),1))","v":""}]
[1,"",462,"","",{"$f":"IF(L464<>\"\",CONCATENATE(DIGITADOR!$B$2,$A$2,DIGITADOR!$M$1,A464),\"\")","v":""},null,null,"",{"$f":"IF(K464=\"\",\"\",INDEX('OTRAS REFERENCIAS'!$AL:$AM,MATCH(K464,'OTRAS REFERENCIAS'!$AL:$AL,0),2))","v":""},null,{"$f":"IF(J464=\"\",\"\",INDEX(referentes!$S:$W,MATCH(J464,referentes!$S:$S,0),1))","v":""},null,null,null,null,null,null,null,{"$f":"IF(U464=\"\",\"\",INDEX('OTRAS REFERENCIAS'!$H$6:$I$11,MATCH(U464,'OTRAS REFERENCIAS'!$I$6:$I$11,0),1))","v":""},null,null,null,null,{"$f":"IF(Z464=\"\",\"\",INDEX('OTRAS REFERENCIAS'!$K$6:$L$11,MATCH(Z464,'OTRAS REFERENCIAS'!$L$6:$L$11,0),1))","v":""},null,null,null,null,{"$f":"IF(AE464=\"\",\"\",INDEX('OTRAS REFERENCIAS'!$N$6:$O$11,MATCH(AE464,'OTRAS REFERENCIAS'!$O$6:$O$11,0),1))","v":""},null,null,null,null,{"$f":"IF(AJ464=\"\",\"\",INDEX('OTRAS REFERENCIAS'!$Q$6:$R$11,MATCH(AJ464,'OTRAS REFERENCIAS'!$R$6:$R$11,0),1))","v":""},null,null,null,{"$f":"IF(AN464=\"\",\"\",INDEX('OTRAS REFERENCIAS'!$T$6:$U$11,MATCH(AN464,'OTRAS REFERENCIAS'!$U$6:$U$11,0),1))","v":""}]
[1,"",463,"","",{"$f":"IF(L465<>\"\",CONCATENATE(DIGITADOR!$B$2,$A$2,DIGITADOR!$M$1,A465),\"\")","v":""},null,null,"",{"$f":"IF(K465=\"\",\"\",INDEX('OTRAS REFERENCIAS'!$AL:$AM,MATCH(K465,'OTRAS REFERENCIAS'!$AL:$AL,0),2))","v":""},null,{"$f":"IF(J465=\"\",\"\",INDEX(referentes!$S:$W,MATCH(J465,referentes!$S:$S,0),1))","v":""},null,null,null,null,null,null,null,{"$f":"IF(U465=\"\",\"\",INDEX('OTRAS REFERENCIAS'!$H$6:$I$11,MATCH(U465,'OTRAS REFERENCIAS'!$I$6:$I$11,0),1))","v":""},null,null,null,null,{"$f":"IF(Z465=\"\",\"\",INDEX('OTRAS REFERENCIAS'!$K$6:$L$11,MATCH(Z465,'OTRAS REFERENCIAS'!$L$6:$L$11,0),1))","v":""},null,null,null,null,{"$f":"IF(AE465=\"\",\"\",INDEX('OTRAS REFERENCIAS'!$N$6:$O$11,MATCH(AE465,'OTRAS REFERENCIAS'!$O$6:$O$11,0),1))","v":""},null,null,null,null,{"$f":"IF(AJ465=\"\",\"\",INDEX('OTRAS REFERENCIAS'!$Q$6:$R$11,MATCH(AJ465,'OTRAS REFERENCIAS'!$R$6:$R$11,0),1))","v":""},null,null,null,{"$f":"IF(AN465=\"\",\"\",INDEX('OTRAS REFERENCIAS'!$T$6:$U$11,MATCH(AN465,'OTRAS REFERENCIAS'!$U$6:$U$11,0),1))","v":""}]
[1,"",464,"","",{"$f":"IF(L466<>\"\",CONCATENATE(DIGITADOR!$B$2,$A$2,DIGITADOR!$M$1,A466),\"\")","v":""},null,null,"",{"$f":"IF(K466=\"\",\"\",INDEX('OTRAS REFERENCIAS'!$AL:$AM,MATCH(K466,'OTRAS REFERENCIAS'!$AL:$AL,0),2))","v":""},null,{"$f":"IF(J466=\"\",\"\",INDEX(referentes!$S:$W,MATCH(J466,referentes!$S:$S,0),1))","v":""},null,null,null,null,null,null,null,{"$f":"IF(U466=\"\",\"\",INDEX('OTRAS REFERENCIAS'!$H$6:$I$11,MATCH(U466,'OTRAS REFERENCIAS'!$I$6:$I$11,0),1))","v":""},null,null,null,null,{"$f":"IF(Z466=\"\",\"\",INDEX('OTRAS REFERENCIAS'!$K$6:$L$11,MATCH(Z466,'OTRAS REFERENCIAS'!$L$6:$L$11,0),1))","v":""},null,null,null,null,{"$f":"IF(AE466=\"\",\"\",INDEX('OTRAS REFERENCIAS'!$N$6:$O$11,MATCH(AE466,'OTRAS REFERENCIAS'!$O$6:$O$11,0),1))","v":""},null,null,null,null,{"$f":"IF(AJ466=\"\",\"\",INDEX('OTRAS REFERENCIAS'!$Q$6:$R$11,MATCH(AJ466,'OTRAS REFERENCIAS'!$R$6:$R$11,0),1))","v":""},null,null,null,{"$f":"IF(AN466=\"\",\"\",INDEX('OTRAS REFERENCIAS'!$T$6:$U$11,MATCH(AN466,'OTRAS REFERENCIAS'!$U$6:$U$11,0),1))","v":""}]
[1,"",465,"","",{"$f":"IF(L467<>\"\",CONCATENATE(DIGITADOR!$B$2,$A$2,DIGITADOR!$M$1,A467),\"\")","v":""},null,null,"",{"$f":"IF(K467=\"\",\"\",INDEX('OTRAS REFERENCIAS'!$AL:$AM,MATCH(K467,'OTRAS REFERENCIAS'!$AL:$AL,0),2))","v":""},null,{"$f":"IF(J467=\"\",\"\",INDEX(referentes!$S:$W,MATCH(J467,referentes!$S:$S,0),1))","v":""},null,null,null,null,null,null,null,{"$f":"IF(U467=\"\",\"\",INDEX('OTRAS REFERENCIAS'!$H$6:$I$11,MATCH(U467,'OTRAS REFERENCIAS'!$I$6:$I$11,0),1))","v":""},null,null,null,null,{"$f":"IF(Z467=\"\",\"\",INDEX('OTRAS REFERENCIAS'!$K$6:$L$11,MATCH(Z467,'OTRAS REFERENCIAS'!$L$6:$L$11,0),1))","v":""},null,null,null,null,{"$f":"IF(AE467=\"\",\"\",INDEX('OTRAS REFERENCIAS'!$N$6:$O$11,MATCH(AE467,'OTRAS REFERENCIAS'!$O$6:$O$11,0),1))","v":""},null,null,null,null,{"$f":"IF(AJ467=\"\",\"\",INDEX('OTRAS REFERENCIAS'!$Q$6:$R$11,MATCH(AJ467,'OTRAS REFERENCIAS'!$R$6:$R$11,0),1))","v":""},null,null,null,{"$f":"IF(AN467=\"\",\"\",INDEX('OTRAS REFERENCIAS'!$T$6:$U$11,MATCH(AN467,'OTRAS REFERENCIAS'!$U$6:$U$11,0),1))","v":""}]
[1,"",466,"","",{"$f":"IF(L468<>\"\",CONCATENATE(DIGITADOR!$B$2,$A$2,DIGITADOR!$M$1,A468),\"\")","v":""},null,null,"",{"$f":"IF(K468=\"\",\"\",INDEX('OTRAS REFERENCIAS'!$AL:$AM,MATCH(K468,'OTRAS REFERENCIAS'!$AL:$AL,0),2))","v":""},null,{"$f":"IF(J468=\"\",\"\",INDEX(referentes!$S:$W,MATCH(J468,referentes!$S:$S,0),1))","v":""},null,null,null,null,null,null,null,{"$f":"IF(U468=\"\",\"\",INDEX('OTRAS REFERENCIAS'!$H$6:$I$11,MATCH(U468,'OTRAS REFERENCIAS'!$I$6:$I$11,0),1))","v":""},null,null,null,null,{"$f":"IF(Z468=\"\",\"\",INDEX('OTRAS REFERENCIAS'!$K$6:$L$11,MATCH(Z468,'OTRAS REFERENCIAS'!$L$6:$L$11,0),1))","v":""},null,null,null,null,{"$f":"IF(AE468=\"\",\"\",INDEX('OTRAS REFERENCIAS'!$N$6:$O$11,MATCH(AE468,'OTRAS REFERENCIAS'!$O$6:$O$11,0),1))","v":""},null,null,null,null,{"$f":"IF(AJ468=\"\",\"\",INDEX('OTRAS REFERENCIAS'!$Q$6:$R$11,MATCH(AJ468,'OTRAS REFERENCIAS'!$R$6:$R$11,0),1))","v":""},null,null,null,{"$f":"IF(AN468=\"\",\"\",INDEX('OTRAS REFERENCIAS'!$T$6:$U$11,MATCH(AN468,'OTRAS REFERENCIAS'!$U$6:$U$11,0),1))","v":""}]
[1,"",467,"","",{"$f":"IF(L469<>\"\",CONCATENATE(DIGITADOR!$B$2,$A$2,DIGITADOR!$M$1,A469),\"\")","v":""},null,null,"",{"$f":"IF(K469=\"\",\"\",INDEX('OTRAS REFERENCIAS'!$AL:$AM,MATCH(K469,'OTRAS REFERENCIAS'!$AL:$AL,0),2))","v":""},null,{"$f":"IF(J469=\"\",\"\",INDEX(referentes!$S:$W,MATCH(J469,referentes!$S:$S,0),1))","v":""},null,null,null,null,null,null,null,{"$f":"IF(U469=\"\",\"\",INDEX('OTRAS REFERENCIAS'!$H$6:$I$11,MATCH(U469,'OTRAS REFERENCIAS'!$I$6:$I$11,0),1))","v":""},null,null,null,null,{"$f":"IF(Z469=\"\",\"\",INDEX('OTRAS REFERENCIAS'!$K$6:$L$11,MATCH(Z469,'OTRAS REFERENCIAS'!$L$6:$L$11,0),1))","v":""},null,null,null,null,{"$f":"IF(AE469=\"\",\"\",INDEX('OTRAS REFERENCIAS'!$N$6:$O$11,MATCH(AE469,'OTRAS REFERENCIAS'!$O$6:$O$11,0),1))","v":""},null,null,null,null,{"$f":"IF(AJ469=\"\",\"\",INDEX('OTRAS REFERENCIAS'!$Q$6:$R$11,MATCH(AJ469,'OTRAS REFERENCIAS'!$R$6:$R$11,0),1))","v":""},null,null,null,{"$f":"IF(AN469=\"\",\"\",INDEX('OTRAS REFERENCIAS'!$T$6:$U$11,MATCH(AN469,'OTRAS REFERENCIAS'!$U$6:$U$11,0),1))","v":""}]
[1,"",468,"","",{"$f":"IF(L470<>\"\",CONCATENATE(DIGITADOR!$B$2,$A$2,DIGITADOR!$M$1,A470),\"\")","v":""},null,null,"",{"$f":"IF(K470=\"\",\"\",INDEX('OTRAS REFERENCIAS'!$AL:$AM,MATCH(K470,'OTRAS REFERENCIAS'!$AL:$AL,0),2))","v":""},null,{"$f":"IF(J470=\"\",\"\",INDEX(referentes!$S:$W,MATCH(J470,referentes!$S:$S,0),1))","v":""},null,null,null,null,null,null,null,{"$f":"IF(U470=\"\",\"\",INDEX('OTRAS REFERENCIAS'!$H$6:$I$11,MATCH(U470,'OTRAS REFERENCIAS'!$I$6:$I$11,0),1))","v":""},null,null,null,null,{"$f":"IF(Z470=\"\",\"\",INDEX('OTRAS REFERENCIAS'!$K$6:$L$11,MATCH(Z470,'OTRAS REFERENCIAS'!$L$6:$L$11,0),1))","v":""},null,null,null,null,{"$f":"IF(AE470=\"\",\"\",INDEX('OTRAS REFERENCIAS'!$N$6:$O$11,MATCH(AE470,'OTRAS REFERENCIAS'!$O$6:$O$11,0),1))","v":""},null,null,null,null,{"$f":"IF(AJ470=\"\",\"\",INDEX('OTRAS REFERENCIAS'!$Q$6:$R$11,MATCH(AJ470,'OTRAS REFERENCIAS'!$R$6:$R$11,0),1))","v":""},null,null,null,{"$f":"IF(AN470=\"\",\"\",INDEX('OTRAS REFERENCIAS'!$T$6:$U$11,MATCH(AN470,'OTRAS REFERENCIAS'!$U$6:$U$11,0),1))","v":""}]
[1,"",469,"","",{"$f":"IF(L471<>\"\",CONCATENATE(DIGITADOR!$B$2,$A$2,DIGITADOR!$M$1,A471),\"\")","v":""},null,null,"",{"$f":"IF(K471=\"\",\"\",INDEX('OTRAS REFERENCIAS'!$AL:$AM,MATCH(K471,'OTRAS REFERENCIAS'!$AL:$AL,0),2))","v":""},null,{"$f":"IF(J471=\"\",\"\",INDEX(referentes!$S:$W,MATCH(J471,referentes!$S:$S,0),1))","v":""},null,null,null,null,null,null,null,{"$f":"IF(U471=\"\",\"\",INDEX('OTRAS REFERENCIAS'!$H$6:$I$11,MATCH(U471,'OTRAS REFERENCIAS'!$I$6:$I$11,0),1))","v":""},null,null,null,null,{"$f":"IF(Z471=\"\",\"\",INDEX('OTRAS REFERENCIAS'!$K$6:$L$11,MATCH(Z471,'OTRAS REFERENCIAS'!$L$6:$L$11,0),1))","v":""},null,null,null,null,{"$f":"IF(AE471=\"\",\"\",INDEX('OTRAS REFERENCIAS'!$N$6:$O$11,MATCH(AE471,'OTRAS REFERENCIAS'!$O$6:$O$11,0),1))","v":""},null,null,null,null,{"$f":"IF(AJ471=\"\",\"\",INDEX('OTRAS REFERENCIAS'!$Q$6:$R$11,MATCH(AJ471,'OTRAS REFERENCIAS'!$R$6:$R$11,0),1))","v":""},null,null,null,{"$f":"IF(AN471=\"\",\"\",INDEX('OTRAS REFERENCIAS'!$T$6:$U$11,MATCH(AN471,'OTRAS REFERENCIAS'!$U$6:$U$11,0),1))","v":""}]
[1,"",470,"","",{"$f":"IF(L472<>\"\",CONCATENATE(DIGITADOR!$B$2,$A$2,DIGITADOR!$M$1,A472),\"\")","v":""},null,null,"",{"$f":"IF(K472=\"\",\"\",INDEX('OTRAS REFERENCIAS'!$AL:$AM,MATCH(K472,'OTRAS REFERENCIAS'!$AL:$AL,0),2))","v":""},null,{"$f":"IF(J472=\"\",\"\",INDEX(referentes!$S:$W,MATCH(J472,referentes!$S:$S,0),1))","v":""},null,null,null,null,null,null,null,{"$f":"IF(U472=\"\",\"\",INDEX('OTRAS REFERENCIAS'!$H$6:$I$11,MATCH(U472,'OTRAS REFERENCIAS'!$I$6:$I$11,0),1))","v":""},null,null,null,null,{"$f":"IF(Z472=\"\",\"\",INDEX('OTRAS REFERENCIAS'!$K$6:$L$11,MATCH(Z472,'OTRAS REFERENCIAS'!$L$6:$L$11,0),1))","v":""},null,null,null,null,{"$f":"IF(AE472=\"\",\"\",INDEX('OTRAS REFERENCIAS'!$N$6:$O$11,MATCH(AE472,'OTRAS REFERENCIAS'!$O$6:$O$11,0),1))","v":""},null,null,null,null,{"$f":"IF(AJ472=\"\",\"\",INDEX('OTRAS REFERENCIAS'!$Q$6:$R$11,MATCH(AJ472,'OTRAS REFERENCIAS'!$R$6:$R$11,0),1))","v":""},null,null,null,{"$f":"IF(AN472=\"\",\"\",INDEX('OTRAS REFERENCIAS'!$T$6:$U$11,MATCH(AN472,'OTRAS REFERENCIAS'!$U$6:$U$11,0),1))","v":""}]
[1,"",471,"","",{"$f":"IF(L473<>\"\",CONCATENATE(DIGITADOR!$B$2,$A$2,DIGITADOR!$M$1,A473),\"\")","v":""},null,null,"",{"$f":"IF(K473=\"\",\"\",INDEX('OTRAS REFERENCIAS'!$AL:$AM,MATCH(K473,'OTRAS REFERENCIAS'!$AL:$AL,0),2))","v":""},null,{"$f":"IF(J473=\"\",\"\",INDEX(referentes!$S:$W,MATCH(J473,referentes!$S:$S,0),1))","v":""},null,null,null,null,null,null,null,{"$f":"IF(U473=\"\",\"\",INDEX('OTRAS REFERENCIAS'!$H$6:$I$11,MATCH(U473,'OTRAS REFERENCIAS'!$I$6:$I$11,0),1))","v":""},null,null,null,null,{"$f":"IF(Z473=\"\",\"\",INDEX('OTRAS REFERENCIAS'!$K$6:$L$11,MATCH(Z473,'OTRAS REFERENCIAS'!$L$6:$L$11,0),1))","v":""},null,null,null,null,{"$f":"IF(AE473=\"\",\"\",INDEX('OTRAS REFERENCIAS'!$N$6:$O$11,MATCH(AE473,'OTRAS REFERENCIAS'!$O$6:$O$11,0),1))","v":""},null,null,null,null,{"$f":"IF(AJ473=\"\",\"\",INDEX('OTRAS REFERENCIAS'!$Q$6:$R$11,MATCH(AJ473,'OTRAS REFERENCIAS'!$R$6:$R$11,0),1))","v":""},null,null,null,{"$f":"IF(AN473=\"\",\"\",INDEX('OTRAS REFERENCIAS'!$T$6:$U$11,MATCH(AN473,'OTRAS REFERENCIAS'!$U$6:$U$11,0),1))","v":""}]
[1,"",472,"","",{"$f":"IF(L474<>\"\",CONCATENATE(DIGITADOR!$B$2,$A$2,DIGITADOR!$M$1,A474),\"\")","v":""},null,null,"",{"$f":"IF(K474=\"\",\"\",INDEX('OTRAS REFERENCIAS'!$AL:$AM,MATCH(K474,'OTRAS REFERENCIAS'!$AL:$AL,0),2))","v":""},null,{"$f":"IF(J474=\"\",\"\",INDEX(referentes!$S:$W,MATCH(J474,referentes!$S:$S,0),1))","v":""},null,null,null,null,null,null,null,{"$f":"IF(U474=\"\",\"\",INDEX('OTRAS REFERENCIAS'!$H$6:$I$11,MATCH(U474,'OTRAS REFERENCIAS'!$I$6:$I$11,0),1))","v":""},null,null,null,null,{"$f":"IF(Z474=\"\",\"\",INDEX('OTRAS REFERENCIAS'!$K$6:$L$11,MATCH(Z474,'OTRAS REFERENCIAS'!$L$6:$L$11,0),1))","v":""},null,null,null,null,{"$f":"IF(AE474=\"\",\"\",INDEX('OTRAS REFERENCIAS'!$N$6:$O$11,MATCH(AE474,'OTRAS REFERENCIAS'!$O$6:$O$11,0),1))","v":""},null,null,null,null,{"$f":"IF(AJ474=\"\",\"\",INDEX('OTRAS REFERENCIAS'!$Q$6:$R$11,MATCH(AJ474,'OTRAS REFERENCIAS'!$R$6:$R$11,0),1))","v":""},null,null,null,{"$f":"IF(AN474=\"\",\"\",INDEX('OTRAS REFERENCIAS'!$T$6:$U$11,MATCH(AN474,'OTRAS REFERENCIAS'!$U$6:$U$11,0),1))","v":""}]
[1,"",473,"","",{"$f":"IF(L475<>\"\",CONCATENATE(DIGITADOR!$B$2,$A$2,DIGITADOR!$M$1,A475),\"\")","v":""},null,null,"",{"$f":"IF(K475=\"\",\"\",INDEX('OTRAS REFERENCIAS'!$AL:$AM,MATCH(K475,'OTRAS REFERENCIAS'!$AL:$AL,0),2))","v":""},null,{"$f":"IF(J475=\"\",\"\",INDEX(referentes!$S:$W,MATCH(J475,referentes!$S:$S,0),1))","v":""},null,null,null,null,null,null,null,{"$f":"IF(U475=\"\",\"\",INDEX('OTRAS REFERENCIAS'!$H$6:$I$11,MATCH(U475,'OTRAS REFERENCIAS'!$I$6:$I$11,0),1))","v":""},null,null,null,null,{"$f":"IF(Z475=\"\",\"\",INDEX('OTRAS REFERENCIAS'!$K$6:$L$11,MATCH(Z475,'OTRAS REFERENCIAS'!$L$6:$L$11,0),1))","v":""},null,null,null,null,{"$f":"IF(AE475=\"\",\"\",INDEX('OTRAS REFERENCIAS'!$N$6:$O$11,MATCH(AE475,'OTRAS REFERENCIAS'!$O$6:$O$11,0),1))","v":""},null,null,null,null,{"$f":"IF(AJ475=\"\",\"\",INDEX('OTRAS REFERENCIAS'!$Q$6:$R$11,MATCH(AJ475,'OTRAS REFERENCIAS'!$R$6:$R$11,0),1))","v":""},null,null,null,{"$f":"IF(AN475=\"\",\"\",INDEX('OTRAS REFERENCIAS'!$T$6:$U$11,MATCH(AN475,'OTRAS REFERENCIAS'!$U$6:$U$11,0),1))","v":""}]
[1,"",474,"","",{"$f":"IF(L476<>\"\",CONCATENATE(DIGITADOR!$B$2,$A$2,DIGITADOR!$M$1,A476),\"\")","v":""},null,null,"",{"$f":"IF(K476=\"\",\"\",INDEX('OTRAS REFERENCIAS'!$AL:$AM,MATCH(K476,'OTRAS REFERENCIAS'!$AL:$AL,0),2))","v":""},null,{"$f":"IF(J476=\"\",\"\",INDEX(referentes!$S:$W,MATCH(J476,referentes!$S:$S,0),1))","v":""},null,null,null,null,null,null,null,{"$f":"IF(U476=\"\",\"\",INDEX('OTRAS REFERENCIAS'!$H$6:$I$11,MATCH(U476,'OTRAS REFERENCIAS'!$I$6:$I$11,0),1))","v":""},null,null,null,null,{"$f":"IF(Z476=\"\",\"\",INDEX('OTRAS REFERENCIAS'!$K$6:$L$11,MATCH(Z476,'OTRAS REFERENCIAS'!$L$6:$L$11,0),1))","v":""},null,null,null,null,{"$f":"IF(AE476=\"\",\"\",INDEX('OTRAS REFERENCIAS'!$N$6:$O$11,MATCH(AE476,'OTRAS REFERENCIAS'!$O$6:$O$11,0),1))","v":""},null,null,null,null,{"$f":"IF(AJ476=\"\",\"\",INDEX('OTRAS REFERENCIAS'!$Q$6:$R$11,MATCH(AJ476,'OTRAS REFERENCIAS'!$R$6:$R$11,0),1))","v":""},null,null,null,{"$f":"IF(AN476=\"\",\"\",INDEX('OTRAS REFERENCIAS'!$T$6:$U$11,MATCH(AN476,'OTRAS REFERENCIAS'!$U$6:$U$11,0),1))","v":""}]
[1,"",475,"","",{"$f":"IF(L477<>\"\",CONCATENATE(DIGITADOR!$B$2,$A$2,DIGITADOR!$M$1,A477),\"\")","v":""},null,null,"",{"$f":"IF(K477=\"\",\"\",INDEX('OTRAS REFERENCIAS'!$AL:$AM,MATCH(K477,'OTRAS REFERENCIAS'!$AL:$AL,0),2))","v":""},null,{"$f":"IF(J477=\"\",\"\",INDEX(referentes!$S:$W,MATCH(J477,referentes!$S:$S,0),1))","v":""},null,null,null,null,null,null,null,{"$f":"IF(U477=\"\",\"\",INDEX('OTRAS REFERENCIAS'!$H$6:$I$11,MATCH(U477,'OTRAS REFERENCIAS'!$I$6:$I$11,0),1))","v":""},null,null,null,null,{"$f":"IF(Z477=\"\",\"\",INDEX('OTRAS REFERENCIAS'!$K$6:$L$11,MATCH(Z477,'OTRAS REFERENCIAS'!$L$6:$L$11,0),1))","v":""},null,null,null,null,{"$f":"IF(AE477=\"\",\"\",INDEX('OTRAS REFERENCIAS'!$N$6:$O$11,MATCH(AE477,'OTRAS REFERENCIAS'!$O$6:$O$11,0),1))","v":""},null,null,null,null,{"$f":"IF(AJ477=\"\",\"\",INDEX('OTRAS REFERENCIAS'!$Q$6:$R$11,MATCH(AJ477,'OTRAS REFERENCIAS'!$R$6:$R$11,0),1))","v":""},null,null,null,{"$f":"IF(AN477=\"\",\"\",INDEX('OTRAS REFERENCIAS'!$T$6:$U$11,MATCH(AN477,'OTRAS REFERENCIAS'!$U$6:$U$11,0),1))","v":""}]
[1,"",476,"","",{"$f":"IF(L478<>\"\",CONCATENATE(DIGITADOR!$B$2,$A$2,DIGITADOR!$M$1,A478),\"\")","v":""},null,null,"",{"$f":"IF(K478=\"\",\"\",INDEX('OTRAS REFERENCIAS'!$AL:$AM,MATCH(K478,'OTRAS REFERENCIAS'!$AL:$AL,0),2))","v":""},null,{"$f":"IF(J478=\"\",\"\",INDEX(referentes!$S:$W,MATCH(J478,referentes!$S:$S,0),1))","v":""},null,null,null,null,null,null,null,{"$f":"IF(U478=\"\",\"\",INDEX('OTRAS REFERENCIAS'!$H$6:$I$11,MATCH(U478,'OTRAS REFERENCIAS'!$I$6:$I$11,0),1))","v":""},null,null,null,null,{"$f":"IF(Z478=\"\",\"\",INDEX('OTRAS REFERENCIAS'!$K$6:$L$11,MATCH(Z478,'OTRAS REFERENCIAS'!$L$6:$L$11,0),1))","v":""},null,null,null,null,{"$f":"IF(AE478=\"\",\"\",INDEX('OTRAS REFERENCIAS'!$N$6:$O$11,MATCH(AE478,'OTRAS REFERENCIAS'!$O$6:$O$11,0),1))","v":""},null,null,null,null,{"$f":"IF(AJ478=\"\",\"\",INDEX('OTRAS REFERENCIAS'!$Q$6:$R$11,MATCH(AJ478,'OTRAS REFERENCIAS'!$R$6:$R$11,0),1))","v":""},null,null,null,{"$f":"IF(AN478=\"\",\"\",INDEX('OTRAS REFERENCIAS'!$T$6:$U$11,MATCH(AN478,'OTRAS REFERENCIAS'!$U$6:$U$11,0),1))","v":""}]
[1,"",477,"","",{"$f":"IF(L479<>\"\",CONCATENATE(DIGITADOR!$B$2,$A$2,DIGITADOR!$M$1,A479),\"\")","v":""},null,null,"",{"$f":"IF(K479=\"\",\"\",INDEX('OTRAS REFERENCIAS'!$AL:$AM,MATCH(K479,'OTRAS REFERENCIAS'!$AL:$AL,0),2))","v":""},null,{"$f":"IF(J479=\"\",\"\",INDEX(referentes!$S:$W,MATCH(J479,referentes!$S:$S,0),1))","v":""},null,null,null,null,null,null,null,{"$f":"IF(U479=\"\",\"\",INDEX('OTRAS REFERENCIAS'!$H$6:$I$11,MATCH(U479,'OTRAS REFERENCIAS'!$I$6:$I$11,0),1))","v":""},null,null,null,null,{"$f":"IF(Z479=\"\",\"\",INDEX('OTRAS REFERENCIAS'!$K$6:$L$11,MATCH(Z479,'OTRAS REFERENCIAS'!$L$6:$L$11,0),1))","v":""},null,null,null,null,{"$f":"IF(AE479=\"\",\"\",INDEX('OTRAS REFERENCIAS'!$N$6:$O$11,MATCH(AE479,'OTRAS REFERENCIAS'!$O$6:$O$11,0),1))","v":""},null,null,null,null,{"$f":"IF(AJ479=\"\",\"\",INDEX('OTRAS REFERENCIAS'!$Q$6:$R$11,MATCH(AJ479,'OTRAS REFERENCIAS'!$R$6:$R$11,0),1))","v":""},null,null,null,{"$f":"IF(AN479=\"\",\"\",INDEX('OTRAS REFERENCIAS'!$T$6:$U$11,MATCH(AN479,'OTRAS REFERENCIAS'!$U$6:$U$11,0),1))","v":""}]
[1,"",478,"","",{"$f":"IF(L480<>\"\",CONCATENATE(DIGITADOR!$B$2,$A$2,DIGITADOR!$M$1,A480),\"\")","v":""},null,null,"",{"$f":"IF(K480=\"\",\"\",INDEX('OTRAS REFERENCIAS'!$AL:$AM,MATCH(K480,'OTRAS REFERENCIAS'!$AL:$AL,0),2))","v":""},null,{"$f":"IF(J480=\"\",\"\",INDEX(referentes!$S:$W,MATCH(J480,referentes!$S:$S,0),1))","v":""},null,null,null,null,null,null,null,{"$f":"IF(U480=\"\",\"\",INDEX('OTRAS REFERENCIAS'!$H$6:$I$11,MATCH(U480,'OTRAS REFERENCIAS'!$I$6:$I$11,0),1))","v":""},null,null,null,null,{"$f":"IF(Z480=\"\",\"\",INDEX('OTRAS REFERENCIAS'!$K$6:$L$11,MATCH(Z480,'OTRAS REFERENCIAS'!$L$6:$L$11,0),1))","v":""},null,null,null,null,{"$f":"IF(AE480=\"\",\"\",INDEX('OTRAS REFERENCIAS'!$N$6:$O$11,MATCH(AE480,'OTRAS REFERENCIAS'!$O$6:$O$11,0),1))","v":""},null,null,null,null,{"$f":"IF(AJ480=\"\",\"\",INDEX('OTRAS REFERENCIAS'!$Q$6:$R$11,MATCH(AJ480,'OTRAS REFERENCIAS'!$R$6:$R$11,0),1))","v":""},null,null,null,{"$f":"IF(AN480=\"\",\"\",INDEX('OTRAS REFERENCIAS'!$T$6:$U$11,MATCH(AN480,'OTRAS REFERENCIAS'!$U$6:$U$11,0),1))","v":""}]
[1,"",479,"","",{"$f":"IF(L481<>\"\",CONCATENATE(DIGITADOR!$B$2,$A$2,DIGITADOR!$M$1,A481),\"\")","v":""},null,null,"",{"$f":"IF(K481=\"\",\"\",INDEX('OTRAS REFERENCIAS'!$AL:$AM,MATCH(K481,'OTRAS REFERENCIAS'!$AL:$AL,0),2))","v":""},null,{"$f":"IF(J481=\"\",\"\",INDEX(referentes!$S:$W,MATCH(J481,referentes!$S:$S,0),1))","v":""},null,null,null,null,null,null,null,{"$f":"IF(U481=\"\",\"\",INDEX('OTRAS REFERENCIAS'!$H$6:$I$11,MATCH(U481,'OTRAS REFERENCIAS'!$I$6:$I$11,0),1))","v":""},null,null,null,null,{"$f":"IF(Z481=\"\",\"\",INDEX('OTRAS REFERENCIAS'!$K$6:$L$11,MATCH(Z481,'OTRAS REFERENCIAS'!$L$6:$L$11,0),1))","v":""},null,null,null,null,{"$f":"IF(AE481=\"\",\"\",INDEX('OTRAS REFERENCIAS'!$N$6:$O$11,MATCH(AE481,'OTRAS REFERENCIAS'!$O$6:$O$11,0),1))","v":""},null,null,null,null,{"$f":"IF(AJ481=\"\",\"\",INDEX('OTRAS REFERENCIAS'!$Q$6:$R$11,MATCH(AJ481,'OTRAS REFERENCIAS'!$R$6:$R$11,0),1))","v":""},null,null,null,{"$f":"IF(AN481=\"\",\"\",INDEX('OTRAS REFERENCIAS'!$T$6:$U$11,MATCH(AN481,'OTRAS REFERENCIAS'!$U$6:$U$11,0),1))","v":""}]
[1,"",480,"","",{"$f":"IF(L482<>\"\",CONCATENATE(DIGITADOR!$B$2,$A$2,DIGITADOR!$M$1,A482),\"\")","v":""},null,null,"",{"$f":"IF(K482=\"\",\"\",INDEX('OTRAS REFERENCIAS'!$AL:$AM,MATCH(K482,'OTRAS REFERENCIAS'!$AL:$AL,0),2))","v":""},null,{"$f":"IF(J482=\"\",\"\",INDEX(referentes!$S:$W,MATCH(J482,referentes!$S:$S,0),1))","v":""},null,null,null,null,null,null,null,{"$f":"IF(U482=\"\",\"\",INDEX('OTRAS REFERENCIAS'!$H$6:$I$11,MATCH(U482,'OTRAS REFERENCIAS'!$I$6:$I$11,0),1))","v":""},null,null,null,null,{"$f":"IF(Z482=\"\",\"\",INDEX('OTRAS REFERENCIAS'!$K$6:$L$11,MATCH(Z482,'OTRAS REFERENCIAS'!$L$6:$L$11,0),1))","v":""},null,null,null,null,{"$f":"IF(AE482=\"\",\"\",INDEX('OTRAS REFERENCIAS'!$N$6:$O$11,MATCH(AE482,'OTRAS REFERENCIAS'!$O$6:$O$11,0),1))","v":""},null,null,null,null,{"$f":"IF(AJ482=\"\",\"\",INDEX('OTRAS REFERENCIAS'!$Q$6:$R$11,MATCH(AJ482,'OTRAS REFERENCIAS'!$R$6:$R$11,0),1))","v":""},null,null,null,{"$f":"IF(AN482=\"\",\"\",INDEX('OTRAS REFERENCIAS'!$T$6:$U$11,MATCH(AN482,'OTRAS REFERENCIAS'!$U$6:$U$11,0),1))","v":""}]
[1,"",481,"","",{"$f":"IF(L483<>\"\",CONCATENATE(DIGITADOR!$B$2,$A$2,DIGITADOR!$M$1,A483),\"\")","v":""},null,null,"",{"$f":"IF(K483=\"\",\"\",INDEX('OTRAS REFERENCIAS'!$AL:$AM,MATCH(K483,'OTRAS REFERENCIAS'!$AL:$AL,0),2))","v":""},null,{"$f":"IF(J483=\"\",\"\",INDEX(referentes!$S:$W,MATCH(J483,referentes!$S:$S,0),1))","v":""},null,null,null,null,null,null,null,{"$f":"IF(U483=\"\",\"\",INDEX('OTRAS REFERENCIAS'!$H$6:$I$11,MATCH(U483,'OTRAS REFERENCIAS'!$I$6:$I$11,0),1))","v":""},null,null,null,null,{"$f":"IF(Z483=\"\",\"\",INDEX('OTRAS REFERENCIAS'!$K$6:$L$11,MATCH(Z483,'OTRAS REFERENCIAS'!$L$6:$L$11,0),1))","v":""},null,null,null,null,{"$f":"IF(AE483=\"\",\"\",INDEX('OTRAS REFERENCIAS'!$N$6:$O$11,MATCH(AE483,'OTRAS REFERENCIAS'!$O$6:$O$11,0),1))","v":""},null,null,null,null,{"$f":"IF(AJ483=\"\",\"\",INDEX('OTRAS REFERENCIAS'!$Q$6:$R$11,MATCH(AJ483,'OTRAS REFERENCIAS'!$R$6:$R$11,0),1))","v":""},null,null,null,{"$f":"IF(AN483=\"\",\"\",INDEX('OTRAS REFERENCIAS'!$T$6:$U$11,MATCH(AN483,'OTRAS REFERENCIAS'!$U$6:$U$11,0),1))","v":""}]
[1,"",482,"","",{"$f":"IF(L484<>\"\",CONCATENATE(DIGITADOR!$B$2,$A$2,DIGITADOR!$M$1,A484),\"\")","v":""},null,null,"",{"$f":"IF(K484=\"\",\"\",INDEX('OTRAS REFERENCIAS'!$AL:$AM,MATCH(K484,'OTRAS REFERENCIAS'!$AL:$AL,0),2))","v":""},null,{"$f":"IF(J484=\"\",\"\",INDEX(referentes!$S:$W,MATCH(J484,referentes!$S:$S,0),1))","v":""},null,null,null,null,null,null,null,{"$f":"IF(U484=\"\",\"\",INDEX('OTRAS REFERENCIAS'!$H$6:$I$11,MATCH(U484,'OTRAS REFERENCIAS'!$I$6:$I$11,0),1))","v":""},null,null,null,null,{"$f":"IF(Z484=\"\",\"\",INDEX('OTRAS REFERENCIAS'!$K$6:$L$11,MATCH(Z484,'OTRAS REFERENCIAS'!$L$6:$L$11,0),1))","v":""},null,null,null,null,{"$f":"IF(AE484=\"\",\"\",INDEX('OTRAS REFERENCIAS'!$N$6:$O$11,MATCH(AE484,'OTRAS REFERENCIAS'!$O$6:$O$11,0),1))","v":""},null,null,null,null,{"$f":"IF(AJ484=\"\",\"\",INDEX('OTRAS REFERENCIAS'!$Q$6:$R$11,MATCH(AJ484,'OTRAS REFERENCIAS'!$R$6:$R$11,0),1))","v":""},null,null,null,{"$f":"IF(AN484=\"\",\"\",INDEX('OTRAS REFERENCIAS'!$T$6:$U$11,MATCH(AN484,'OTRAS REFERENCIAS'!$U$6:$U$11,0),1))","v":""}]
[1,"",483,"","",{"$f":"IF(L485<>\"\",CONCATENATE(DIGITADOR!$B$2,$A$2,DIGITADOR!$M$1,A485),\"\")","v":""},null,null,"",{"$f":"IF(K485=\"\",\"\",INDEX('OTRAS REFERENCIAS'!$AL:$AM,MATCH(K485,'OTRAS REFERENCIAS'!$AL:$AL,0),2))","v":""},null,{"$f":"IF(J485=\"\",\"\",INDEX(referentes!$S:$W,MATCH(J485,referentes!$S:$S,0),1))","v":""},null,null,null,null,null,null,null,{"$f":"IF(U485=\"\",\"\",INDEX('OTRAS REFERENCIAS'!$H$6:$I$11,MATCH(U485,'OTRAS REFERENCIAS'!$I$6:$I$11,0),1))","v":""},null,null,null,null,{"$f":"IF(Z485=\"\",\"\",INDEX('OTRAS REFERENCIAS'!$K$6:$L$11,MATCH(Z485,'OTRAS REFERENCIAS'!$L$6:$L$11,0),1))","v":""},null,null,null,null,{"$f":"IF(AE485=\"\",\"\",INDEX('OTRAS REFERENCIAS'!$N$6:$O$11,MATCH(AE485,'OTRAS REFERENCIAS'!$O$6:$O$11,0),1))","v":""},null,null,null,null,{"$f":"IF(AJ485=\"\",\"\",INDEX('OTRAS REFERENCIAS'!$Q$6:$R$11,MATCH(AJ485,'OTRAS REFERENCIAS'!$R$6:$R$11,0),1))","v":""},null,null,null,{"$f":"IF(AN485=\"\",\"\",INDEX('OTRAS REFERENCIAS'!$T$6:$U$11,MATCH(AN485,'OTRAS REFERENCIAS'!$U$6:$U$11,0),1))","v":""}]
[1,"",484,"","",{"$f":"IF(L486<>\"\",CONCATENATE(DIGITADOR!$B$2,$A$2,DIGITADOR!$M$1,A486),\"\")","v":""},null,null,"",{"$f":"IF(K486=\"\",\"\",INDEX('OTRAS REFERENCIAS'!$AL:$AM,MATCH(K486,'OTRAS REFERENCIAS'!$AL:$AL,0),2))","v":""},null,{"$f":"IF(J486=\"\",\"\",INDEX(referentes!$S:$W,MATCH(J486,referentes!$S:$S,0),1))","v":""},null,null,null,null,null,null,null,{"$f":"IF(U486=\"\",\"\",INDEX('OTRAS REFERENCIAS'!$H$6:$I$11,MATCH(U486,'OTRAS REFERENCIAS'!$I$6:$I$11,0),1))","v":""},null,null,null,null,{"$f":"IF(Z486=\"\",\"\",INDEX('OTRAS REFERENCIAS'!$K$6:$L$11,MATCH(Z486,'OTRAS REFERENCIAS'!$L$6:$L$11,0),1))","v":""},null,null,null,null,{"$f":"IF(AE486=\"\",\"\",INDEX('OTRAS REFERENCIAS'!$N$6:$O$11,MATCH(AE486,'OTRAS REFERENCIAS'!$O$6:$O$11,0),1))","v":""},null,null,null,null,{"$f":"IF(AJ486=\"\",\"\",INDEX('OTRAS REFERENCIAS'!$Q$6:$R$11,MATCH(AJ486,'OTRAS REFERENCIAS'!$R$6:$R$11,0),1))","v":""},null,null,null,{"$f":"IF(AN486=\"\",\"\",INDEX('OTRAS REFERENCIAS'!$T$6:$U$11,MATCH(AN486,'OTRAS REFERENCIAS'!$U$6:$U$11,0),1))","v":""}]
[1,"",485,"","",{"$f":"IF(L487<>\"\",CONCATENATE(DIGITADOR!$B$2,$A$2,DIGITADOR!$M$1,A487),\"\")","v":""},null,null,"",{"$f":"IF(K487=\"\",\"\",INDEX('OTRAS REFERENCIAS'!$AL:$AM,MATCH(K487,'OTRAS REFERENCIAS'!$AL:$AL,0),2))","v":""},null,{"$f":"IF(J487=\"\",\"\",INDEX(referentes!$S:$W,MATCH(J487,referentes!$S:$S,0),1))","v":""},null,null,null,null,null,null,null,{"$f":"IF(U487=\"\",\"\",INDEX('OTRAS REFERENCIAS'!$H$6:$I$11,MATCH(U487,'OTRAS REFERENCIAS'!$I$6:$I$11,0),1))","v":""},null,null,null,null,{"$f":"IF(Z487=\"\",\"\",INDEX('OTRAS REFERENCIAS'!$K$6:$L$11,MATCH(Z487,'OTRAS REFERENCIAS'!$L$6:$L$11,0),1))","v":""},null,null,null,null,{"$f":"IF(AE487=\"\",\"\",INDEX('OTRAS REFERENCIAS'!$N$6:$O$11,MATCH(AE487,'OTRAS REFERENCIAS'!$O$6:$O$11,0),1))","v":""},null,null,null,null,{"$f":"IF(AJ487=\"\",\"\",INDEX('OTRAS REFERENCIAS'!$Q$6:$R$11,MATCH(AJ487,'OTRAS REFERENCIAS'!$R$6:$R$11,0),1))","v":""},null,null,null,{"$f":"IF(AN487=\"\",\"\",INDEX('OTRAS REFERENCIAS'!$T$6:$U$11,MATCH(AN487,'OTRAS REFERENCIAS'!$U$6:$U$11,0),1))","v":""}]
[1,"",486,"","",{"$f":"IF(L488<>\"\",CONCATENATE(DIGITADOR!$B$2,$A$2,DIGITADOR!$M$1,A488),\"\")","v":""},null,null,"",{"$f":"IF(K488=\"\",\"\",INDEX('OTRAS REFERENCIAS'!$AL:$AM,MATCH(K488,'OTRAS REFERENCIAS'!$AL:$AL,0),2))","v":""},null,{"$f":"IF(J488=\"\",\"\",INDEX(referentes!$S:$W,MATCH(J488,referentes!$S:$S,0),1))","v":""},null,null,null,null,null,null,null,{"$f":"IF(U488=\"\",\"\",INDEX('OTRAS REFERENCIAS'!$H$6:$I$11,MATCH(U488,'OTRAS REFERENCIAS'!$I$6:$I$11,0),1))","v":""},null,null,null,null,{"$f":"IF(Z488=\"\",\"\",INDEX('OTRAS REFERENCIAS'!$K$6:$L$11,MATCH(Z488,'OTRAS REFERENCIAS'!$L$6:$L$11,0),1))","v":""},null,null,null,null,{"$f":"IF(AE488=\"\",\"\",INDEX('OTRAS REFERENCIAS'!$N$6:$O$11,MATCH(AE488,'OTRAS REFERENCIAS'!$O$6:$O$11,0),1))","v":""},null,null,null,null,{"$f":"IF(AJ488=\"\",\"\",INDEX('OTRAS REFERENCIAS'!$Q$6:$R$11,MATCH(AJ488,'OTRAS REFERENCIAS'!$R$6:$R$11,0),1))","v":""},null,null,null,{"$f":"IF(AN488=\"\",\"\",INDEX('OTRAS REFERENCIAS'!$T$6:$U$11,MATCH(AN488,'OTRAS REFERENCIAS'!$U$6:$U$11,0),1))","v":""}]
[1,"",487,"","",{"$f":"IF(L489<>\"\",CONCATENATE(DIGITADOR!$B$2,$A$2,DIGITADOR!$M$1,A489),\"\")","v":""},null,null,"",{"$f":"IF(K489=\"\",\"\",INDEX('OTRAS REFERENCIAS'!$AL:$AM,MATCH(K489,'OTRAS REFERENCIAS'!$AL:$AL,0),2))","v":""},null,{"$f":"IF(J489=\"\",\"\",INDEX(referentes!$S:$W,MATCH(J489,referentes!$S:$S,0),1))","v":""},null,null,null,null,null,null,null,{"$f":"IF(U489=\"\",\"\",INDEX('OTRAS REFERENCIAS'!$H$6:$I$11,MATCH(U489,'OTRAS REFERENCIAS'!$I$6:$I$11,0),1))","v":""},null,null,null,null,{"$f":"IF(Z489=\"\",\"\",INDEX('OTRAS REFERENCIAS'!$K$6:$L$11,MATCH(Z489,'OTRAS REFERENCIAS'!$L$6:$L$11,0),1))","v":""},null,null,null,null,{"$f":"IF(AE489=\"\",\"\",INDEX('OTRAS REFERENCIAS'!$N$6:$O$11,MATCH(AE489,'OTRAS REFERENCIAS'!$O$6:$O$11,0),1))","v":""},null,null,null,null,{"$f":"IF(AJ489=\"\",\"\",INDEX('OTRAS REFERENCIAS'!$Q$6:$R$11,MATCH(AJ489,'OTRAS REFERENCIAS'!$R$6:$R$11,0),1))","v":""},null,null,null,{"$f":"IF(AN489=\"\",\"\",INDEX('OTRAS REFERENCIAS'!$T$6:$U$11,MATCH(AN489,'OTRAS REFERENCIAS'!$U$6:$U$11,0),1))","v":""}]
[1,"",488,"","",{"$f":"IF(L490<>\"\",CONCATENATE(DIGITADOR!$B$2,$A$2,DIGITADOR!$M$1,A490),\"\")","v":""},null,null,"",{"$f":"IF(K490=\"\",\"\",INDEX('OTRAS REFERENCIAS'!$AL:$AM,MATCH(K490,'OTRAS REFERENCIAS'!$AL:$AL,0),2))","v":""},null,{"$f":"IF(J490=\"\",\"\",INDEX(referentes!$S:$W,MATCH(J490,referentes!$S:$S,0),1))","v":""},null,null,null,null,null,null,null,{"$f":"IF(U490=\"\",\"\",INDEX('OTRAS REFERENCIAS'!$H$6:$I$11,MATCH(U490,'OTRAS REFERENCIAS'!$I$6:$I$11,0),1))","v":""},null,null,null,null,{"$f":"IF(Z490=\"\",\"\",INDEX('OTRAS REFERENCIAS'!$K$6:$L$11,MATCH(Z490,'OTRAS REFERENCIAS'!$L$6:$L$11,0),1))","v":""},null,null,null,null,{"$f":"IF(AE490=\"\",\"\",INDEX('OTRAS REFERENCIAS'!$N$6:$O$11,MATCH(AE490,'OTRAS REFERENCIAS'!$O$6:$O$11,0),1))","v":""},null,null,null,null,{"$f":"IF(AJ490=\"\",\"\",INDEX('OTRAS REFERENCIAS'!$Q$6:$R$11,MATCH(AJ490,'OTRAS REFERENCIAS'!$R$6:$R$11,0),1))","v":""},null,null,null,{"$f":"IF(AN490=\"\",\"\",INDEX('OTRAS REFERENCIAS'!$T$6:$U$11,MATCH(AN490,'OTRAS REFERENCIAS'!$U$6:$U$11,0),1))","v":""}]
[1,"",489,"","",{"$f":"IF(L491<>\"\",CONCATENATE(DIGITADOR!$B$2,$A$2,DIGITADOR!$M$1,A491),\"\")","v":""},null,null,"",{"$f":"IF(K491=\"\",\"\",INDEX('OTRAS REFERENCIAS'!$AL:$AM,MATCH(K491,'OTRAS REFERENCIAS'!$AL:$AL,0),2))","v":""},null,{"$f":"IF(J491=\"\",\"\",INDEX(referentes!$S:$W,MATCH(J491,referentes!$S:$S,0),1))","v":""},null,null,null,null,null,null,null,{"$f":"IF(U491=\"\",\"\",INDEX('OTRAS REFERENCIAS'!$H$6:$I$11,MATCH(U491,'OTRAS REFERENCIAS'!$I$6:$I$11,0),1))","v":""},null,null,null,null,{"$f":"IF(Z491=\"\",\"\",INDEX('OTRAS REFERENCIAS'!$K$6:$L$11,MATCH(Z491,'OTRAS REFERENCIAS'!$L$6:$L$11,0),1))","v":""},null,null,null,null,{"$f":"IF(AE491=\"\",\"\",INDEX('OTRAS REFERENCIAS'!$N$6:$O$11,MATCH(AE491,'OTRAS REFERENCIAS'!$O$6:$O$11,0),1))","v":""},null,null,null,null,{"$f":"IF(AJ491=\"\",\"\",INDEX('OTRAS REFERENCIAS'!$Q$6:$R$11,MATCH(AJ491,'OTRAS REFERENCIAS'!$R$6:$R$11,0),1))","v":""},null,null,null,{"$f":"IF(AN491=\"\",\"\",INDEX('OTRAS REFERENCIAS'!$T$6:$U$11,MATCH(AN491,'OTRAS REFERENCIAS'!$U$6:$U$11,0),1))","v":""}]
[1,"",490,"","",{"$f":"IF(L492<>\"\",CONCATENATE(DIGITADOR!$B$2,$A$2,DIGITADOR!$M$1,A492),\"\")","v":""},null,null,"",{"$f":"IF(K492=\"\",\"\",INDEX('OTRAS REFERENCIAS'!$AL:$AM,MATCH(K492,'OTRAS REFERENCIAS'!$AL:$AL,0),2))","v":""},null,{"$f":"IF(J492=\"\",\"\",INDEX(referentes!$S:$W,MATCH(J492,referentes!$S:$S,0),1))","v":""},null,null,null,null,null,null,null,{"$f":"IF(U492=\"\",\"\",INDEX('OTRAS REFERENCIAS'!$H$6:$I$11,MATCH(U492,'OTRAS REFERENCIAS'!$I$6:$I$11,0),1))","v":""},null,null,null,null,{"$f":"IF(Z492=\"\",\"\",INDEX('OTRAS REFERENCIAS'!$K$6:$L$11,MATCH(Z492,'OTRAS REFERENCIAS'!$L$6:$L$11,0),1))","v":""},null,null,null,null,{"$f":"IF(AE492=\"\",\"\",INDEX('OTRAS REFERENCIAS'!$N$6:$O$11,MATCH(AE492,'OTRAS REFERENCIAS'!$O$6:$O$11,0),1))","v":""},null,null,null,null,{"$f":"IF(AJ492=\"\",\"\",INDEX('OTRAS REFERENCIAS'!$Q$6:$R$11,MATCH(AJ492,'OTRAS REFERENCIAS'!$R$6:$R$11,0),1))","v":""},null,null,null,{"$f":"IF(AN492=\"\",\"\",INDEX('OTRAS REFERENCIAS'!$T$6:$U$11,MATCH(AN492,'OTRAS REFERENCIAS'!$U$6:$U$11,0),1))","v":""}]
[1,"",491,"","",{"$f":"IF(L493<>\"\",CONCATENATE(DIGITADOR!$B$2,$A$2,DIGITADOR!$M$1,A493),\"\")","v":""},null,null,"",{"$f":"IF(K493=\"\",\"\",INDEX('OTRAS REFERENCIAS'!$AL:$AM,MATCH(K493,'OTRAS REFERENCIAS'!$AL:$AL,0),2))","v":""},null,{"$f":"IF(J493=\"\",\"\",INDEX(referentes!$S:$W,MATCH(J493,referentes!$S:$S,0),1))","v":""},null,null,null,null,null,null,null,{"$f":"IF(U493=\"\",\"\",INDEX('OTRAS REFERENCIAS'!$H$6:$I$11,MATCH(U493,'OTRAS REFERENCIAS'!$I$6:$I$11,0),1))","v":""},null,null,null,null,{"$f":"IF(Z493=\"\",\"\",INDEX('OTRAS REFERENCIAS'!$K$6:$L$11,MATCH(Z493,'OTRAS REFERENCIAS'!$L$6:$L$11,0),1))","v":""},null,null,null,null,{"$f":"IF(AE493=\"\",\"\",INDEX('OTRAS REFERENCIAS'!$N$6:$O$11,MATCH(AE493,'OTRAS REFERENCIAS'!$O$6:$O$11,0),1))","v":""},null,null,null,null,{"$f":"IF(AJ493=\"\",\"\",INDEX('OTRAS REFERENCIAS'!$Q$6:$R$11,MATCH(AJ493,'OTRAS REFERENCIAS'!$R$6:$R$11,0),1))","v":""},null,null,null,{"$f":"IF(AN493=\"\",\"\",INDEX('OTRAS REFERENCIAS'!$T$6:$U$11,MATCH(AN493,'OTRAS REFERENCIAS'!$U$6:$U$11,0),1))","v":""}]
[1,"",492,"","",{"$f":"IF(L494<>\"\",CONCATENATE(DIGITADOR!$B$2,$A$2,DIGITADOR!$M$1,A494),\"\")","v":""},null,null,"",{"$f":"IF(K494=\"\",\"\",INDEX('OTRAS REFERENCIAS'!$AL:$AM,MATCH(K494,'OTRAS REFERENCIAS'!$AL:$AL,0),2))","v":""},null,{"$f":"IF(J494=\"\",\"\",INDEX(referentes!$S:$W,MATCH(J494,referentes!$S:$S,0),1))","v":""},null,null,null,null,null,null,null,{"$f":"IF(U494=\"\",\"\",INDEX('OTRAS REFERENCIAS'!$H$6:$I$11,MATCH(U494,'OTRAS REFERENCIAS'!$I$6:$I$11,0),1))","v":""},null,null,null,null,{"$f":"IF(Z494=\"\",\"\",INDEX('OTRAS REFERENCIAS'!$K$6:$L$11,MATCH(Z494,'OTRAS REFERENCIAS'!$L$6:$L$11,0),1))","v":""},null,null,null,null,{"$f":"IF(AE494=\"\",\"\",INDEX('OTRAS REFERENCIAS'!$N$6:$O$11,MATCH(AE494,'OTRAS REFERENCIAS'!$O$6:$O$11,0),1))","v":""},null,null,null,null,{"$f":"IF(AJ494=\"\",\"\",INDEX('OTRAS REFERENCIAS'!$Q$6:$R$11,MATCH(AJ494,'OTRAS REFERENCIAS'!$R$6:$R$11,0),1))","v":""},null,null,null,{"$f":"IF(AN494=\"\",\"\",INDEX('OTRAS REFERENCIAS'!$T$6:$U$11,MATCH(AN494,'OTRAS REFERENCIAS'!$U$6:$U$11,0),1))","v":""}]
[1,"",493,"","",{"$f":"IF(L495<>\"\",CONCATENATE(DIGITADOR!$B$2,$A$2,DIGITADOR!$M$1,A495),\"\")","v":""},null,null,"",{"$f":"IF(K495=\"\",\"\",INDEX('OTRAS REFERENCIAS'!$AL:$AM,MATCH(K495,'OTRAS REFERENCIAS'!$AL:$AL,0),2))","v":""},null,{"$f":"IF(J495=\"\",\"\",INDEX(referentes!$S:$W,MATCH(J495,referentes!$S:$S,0),1))","v":""},null,null,null,null,null,null,null,{"$f":"IF(U495=\"\",\"\",INDEX('OTRAS REFERENCIAS'!$H$6:$I$11,MATCH(U495,'OTRAS REFERENCIAS'!$I$6:$I$11,0),1))","v":""},null,null,null,null,{"$f":"IF(Z495=\"\",\"\",INDEX('OTRAS REFERENCIAS'!$K$6:$L$11,MATCH(Z495,'OTRAS REFERENCIAS'!$L$6:$L$11,0),1))","v":""},null,null,null,null,{"$f":"IF(AE495=\"\",\"\",INDEX('OTRAS REFERENCIAS'!$N$6:$O$11,MATCH(AE495,'OTRAS REFERENCIAS'!$O$6:$O$11,0),1))","v":""},null,null,null,null,{"$f":"IF(AJ495=\"\",\"\",INDEX('OTRAS REFERENCIAS'!$Q$6:$R$11,MATCH(AJ495,'OTRAS REFERENCIAS'!$R$6:$R$11,0),1))","v":""},null,null,null,{"$f":"IF(AN495=\"\",\"\",INDEX('OTRAS REFERENCIAS'!$T$6:$U$11,MATCH(AN495,'OTRAS REFERENCIAS'!$U$6:$U$11,0),1))","v":""}]
[1,"",494,"","",{"$f":"IF(L496<>\"\",CONCATENATE(DIGITADOR!$B$2,$A$2,DIGITADOR!$M$1,A496),\"\")","v":""},null,null,"",{"$f":"IF(K496=\"\",\"\",INDEX('OTRAS REFERENCIAS'!$AL:$AM,MATCH(K496,'OTRAS REFERENCIAS'!$AL:$AL,0),2))","v":""},null,{"$f":"IF(J496=\"\",\"\",INDEX(referentes!$S:$W,MATCH(J496,referentes!$S:$S,0),1))","v":""},null,null,null,null,null,null,null,{"$f":"IF(U496=\"\",\"\",INDEX('OTRAS REFERENCIAS'!$H$6:$I$11,MATCH(U496,'OTRAS REFERENCIAS'!$I$6:$I$11,0),1))","v":""},null,null,null,null,{"$f":"IF(Z496=\"\",\"\",INDEX('OTRAS REFERENCIAS'!$K$6:$L$11,MATCH(Z496,'OTRAS REFERENCIAS'!$L$6:$L$11,0),1))","v":""},null,null,null,null,{"$f":"IF(AE496=\"\",\"\",INDEX('OTRAS REFERENCIAS'!$N$6:$O$11,MATCH(AE496,'OTRAS REFERENCIAS'!$O$6:$O$11,0),1))","v":""},null,null,null,null,{"$f":"IF(AJ496=\"\",\"\",INDEX('OTRAS REFERENCIAS'!$Q$6:$R$11,MATCH(AJ496,'OTRAS REFERENCIAS'!$R$6:$R$11,0),1))","v":""},null,null,null,{"$f":"IF(AN496=\"\",\"\",INDEX('OTRAS REFERENCIAS'!$T$6:$U$11,MATCH(AN496,'OTRAS REFERENCIAS'!$U$6:$U$11,0),1))","v":""}]
[1,"",495,"","",{"$f":"IF(L497<>\"\",CONCATENATE(DIGITADOR!$B$2,$A$2,DIGITADOR!$M$1,A497),\"\")","v":""},null,null,"",{"$f":"IF(K497=\"\",\"\",INDEX('OTRAS REFERENCIAS'!$AL:$AM,MATCH(K497,'OTRAS REFERENCIAS'!$AL:$AL,0),2))","v":""},null,{"$f":"IF(J497=\"\",\"\",INDEX(referentes!$S:$W,MATCH(J497,referentes!$S:$S,0),1))","v":""},null,null,null,null,null,null,null,{"$f":"IF(U497=\"\",\"\",INDEX('OTRAS REFERENCIAS'!$H$6:$I$11,MATCH(U497,'OTRAS REFERENCIAS'!$I$6:$I$11,0),1))","v":""},null,null,null,null,{"$f":"IF(Z497=\"\",\"\",INDEX('OTRAS REFERENCIAS'!$K$6:$L$11,MATCH(Z497,'OTRAS REFERENCIAS'!$L$6:$L$11,0),1))","v":""},null,null,null,null,{"$f":"IF(AE497=\"\",\"\",INDEX('OTRAS REFERENCIAS'!$N$6:$O$11,MATCH(AE497,'OTRAS REFERENCIAS'!$O$6:$O$11,0),1))","v":""},null,null,null,null,{"$f":"IF(AJ497=\"\",\"\",INDEX('OTRAS REFERENCIAS'!$Q$6:$R$11,MATCH(AJ497,'OTRAS REFERENCIAS'!$R$6:$R$11,0),1))","v":""},null,null,null,{"$f":"IF(AN497=\"\",\"\",INDEX('OTRAS REFERENCIAS'!$T$6:$U$11,MATCH(AN497,'OTRAS REFERENCIAS'!$U$6:$U$11,0),1))","v":""}]
[1,"",496,"","",{"$f":"IF(L498<>\"\",CONCATENATE(DIGITADOR!$B$2,$A$2,DIGITADOR!$M$1,A498),\"\")","v":""},null,null,"",{"$f":"IF(K498=\"\",\"\",INDEX('OTRAS REFERENCIAS'!$AL:$AM,MATCH(K498,'OTRAS REFERENCIAS'!$AL:$AL,0),2))","v":""},null,{"$f":"IF(J498=\"\",\"\",INDEX(referentes!$S:$W,MATCH(J498,referentes!$S:$S,0),1))","v":""},null,null,null,null,null,null,null,{"$f":"IF(U498=\"\",\"\",INDEX('OTRAS REFERENCIAS'!$H$6:$I$11,MATCH(U498,'OTRAS REFERENCIAS'!$I$6:$I$11,0),1))","v":""},null,null,null,null,{"$f":"IF(Z498=\"\",\"\",INDEX('OTRAS REFERENCIAS'!$K$6:$L$11,MATCH(Z498,'OTRAS REFERENCIAS'!$L$6:$L$11,0),1))","v":""},null,null,null,null,{"$f":"IF(AE498=\"\",\"\",INDEX('OTRAS REFERENCIAS'!$N$6:$O$11,MATCH(AE498,'OTRAS REFERENCIAS'!$O$6:$O$11,0),1))","v":""},null,null,null,null,{"$f":"IF(AJ498=\"\",\"\",INDEX('OTRAS REFERENCIAS'!$Q$6:$R$11,MATCH(AJ498,'OTRAS REFERENCIAS'!$R$6:$R$11,0),1))","v":""},null,null,null,{"$f":"IF(AN498=\"\",\"\",INDEX('OTRAS REFERENCIAS'!$T$6:$U$11,MATCH(AN498,'OTRAS REFERENCIAS'!$U$6:$U$11,0),1))","v":""}]
[1,"",497,"","",{"$f":"IF(L499<>\"\",CONCATENATE(DIGITADOR!$B$2,$A$2,DIGITADOR!$M$1,A499),\"\")","v":""},null,null,"",{"$f":"IF(K499=\"\",\"\",INDEX('OTRAS REFERENCIAS'!$AL:$AM,MATCH(K499,'OTRAS REFERENCIAS'!$AL:$AL,0),2))","v":""},null,{"$f":"IF(J499=\"\",\"\",INDEX(referentes!$S:$W,MATCH(J499,referentes!$S:$S,0),1))","v":""},null,null,null,null,null,null,null,{"$f":"IF(U499=\"\",\"\",INDEX('OTRAS REFERENCIAS'!$H$6:$I$11,MATCH(U499,'OTRAS REFERENCIAS'!$I$6:$I$11,0),1))","v":""},null,null,null,null,{"$f":"IF(Z499=\"\",\"\",INDEX('OTRAS REFERENCIAS'!$K$6:$L$11,MATCH(Z499,'OTRAS REFERENCIAS'!$L$6:$L$11,0),1))","v":""},null,null,null,null,{"$f":"IF(AE499=\"\",\"\",INDEX('OTRAS REFERENCIAS'!$N$6:$O$11,MATCH(AE499,'OTRAS REFERENCIAS'!$O$6:$O$11,0),1))","v":""},null,null,null,null,{"$f":"IF(AJ499=\"\",\"\",INDEX('OTRAS REFERENCIAS'!$Q$6:$R$11,MATCH(AJ499,'OTRAS REFERENCIAS'!$R$6:$R$11,0),1))","v":""},null,null,null,{"$f":"IF(AN499=\"\",\"\",INDEX('OTRAS REFERENCIAS'!$T$6:$U$11,MATCH(AN499,'OTRAS REFERENCIAS'!$U$6:$U$11,0),1))","v":""}]
[1,"",498,"","",{"$f":"IF(L500<>\"\",CONCATENATE(DIGITADOR!$B$2,$A$2,DIGITADOR!$M$1,A500),\"\")","v":""},null,null,"",{"$f":"IF(K500=\"\",\"\",INDEX('OTRAS REFERENCIAS'!$AL:$AM,MATCH(K500,'OTRAS REFERENCIAS'!$AL:$AL,0),2))","v":""},null,{"$f":"IF(J500=\"\",\"\",INDEX(referentes!$S:$W,MATCH(J500,referentes!$S:$S,0),1))","v":""},null,null,null,null,null,null,null,{"$f":"IF(U500=\"\",\"\",INDEX('OTRAS REFERENCIAS'!$H$6:$I$11,MATCH(U500,'OTRAS REFERENCIAS'!$I$6:$I$11,0),1))","v":""},null,null,null,null,{"$f":"IF(Z500=\"\",\"\",INDEX('OTRAS REFERENCIAS'!$K$6:$L$11,MATCH(Z500,'OTRAS REFERENCIAS'!$L$6:$L$11,0),1))","v":""},null,null,null,null,{"$f":"IF(AE500=\"\",\"\",INDEX('OTRAS REFERENCIAS'!$N$6:$O$11,MATCH(AE500,'OTRAS REFERENCIAS'!$O$6:$O$11,0),1))","v":""},null,null,null,null,{"$f":"IF(AJ500=\"\",\"\",INDEX('OTRAS REFERENCIAS'!$Q$6:$R$11,MATCH(AJ500,'OTRAS REFERENCIAS'!$R$6:$R$11,0),1))","v":""},null,null,null,{"$f":"IF(AN500=\"\",\"\",INDEX('OTRAS REFERENCIAS'!$T$6:$U$11,MATCH(AN500,'OTRAS REFERENCIAS'!$U$6:$U$11,0),1))","v":""}]
[1,"",499,"","",{"$f":"IF(L501<>\"\",CONCATENATE(DIGITADOR!$B$2,$A$2,DIGITADOR!$M$1,A501),\"\")","v":""},null,null,"",{"$f":"IF(K501=\"\",\"\",INDEX('OTRAS REFERENCIAS'!$AL:$AM,MATCH(K501,'OTRAS REFERENCIAS'!$AL:$AL,0),2))","v":""},null,{"$f":"IF(J501=\"\",\"\",INDEX(referentes!$S:$W,MATCH(J501,referentes!$S:$S,0),1))","v":""},null,null,null,null,null,null,null,{"$f":"IF(U501=\"\",\"\",INDEX('OTRAS REFERENCIAS'!$H$6:$I$11,MATCH(U501,'OTRAS REFERENCIAS'!$I$6:$I$11,0),1))","v":""},null,null,null,null,{"$f":"IF(Z501=\"\",\"\",INDEX('OTRAS REFERENCIAS'!$K$6:$L$11,MATCH(Z501,'OTRAS REFERENCIAS'!$L$6:$L$11,0),1))","v":""},null,null,null,null,{"$f":"IF(AE501=\"\",\"\",INDEX('OTRAS REFERENCIAS'!$N$6:$O$11,MATCH(AE501,'OTRAS REFERENCIAS'!$O$6:$O$11,0),1))","v":""},null,null,null,null,{"$f":"IF(AJ501=\"\",\"\",INDEX('OTRAS REFERENCIAS'!$Q$6:$R$11,MATCH(AJ501,'OTRAS REFERENCIAS'!$R$6:$R$11,0),1))","v":""},null,null,null,{"$f":"IF(AN501=\"\",\"\",INDEX('OTRAS REFERENCIAS'!$T$6:$U$11,MATCH(AN501,'OTRAS REFERENCIAS'!$U$6:$U$11,0),1))","v":""}]
[1,"",500,{"$f":"IF(L502=\"\",\"\",CONCATENATE(C502,F502))","v":""},"",{"$f":"IF(L502<>\"\",CONCATENATE(DIGITADOR!$B$2,$A$2,DIGITADOR!$M$1,A502),\"\")","v":""},null,null,"",{"$f":"IF(K502=\"\",\"\",INDEX('OTRAS REFERENCIAS'!$AL:$AM,MATCH(K502,'OTRAS REFERENCIAS'!$AL:$AL,0),2))","v":""},null,{"$f":"IF(J502=\"\",\"\",INDEX(referentes!$S:$W,MATCH(J502,referentes!$S:$S,0),1))","v":""},null,null,null,null,null,null,null,{"$f":"IF(U502=\"\",\"\",INDEX('OTRAS REFERENCIAS'!$H$6:$I$11,MATCH(U502,'OTRAS REFERENCIAS'!$I$6:$I$11,0),1))","v":""},null,null,null,null,{"$f":"IF(Z502=\"\",\"\",INDEX('OTRAS REFERENCIAS'!$K$6:$L$11,MATCH(Z502,'OTRAS REFERENCIAS'!$L$6:$L$11,0),1))","v":""},null,null,null,null,{"$f":"IF(AE502=\"\",\"\",INDEX('OTRAS REFERENCIAS'!$N$6:$O$11,MATCH(AE502,'OTRAS REFERENCIAS'!$O$6:$O$11,0),1))","v":""},null,null,null,null,{"$f":"IF(AJ502=\"\",\"\",INDEX('OTRAS REFERENCIAS'!$Q$6:$R$11,MATCH(AJ502,'OTRAS REFERENCIAS'!$R$6:$R$11,0),1))","v":""},null,null,null,{"$f":"IF(AN502=\"\",\"\",INDEX('OTRAS REFERENCIAS'!$T$6:$U$11,MATCH(AN502,'OTRAS REFERENCIAS'!$U$6:$U$11,0),1))","v":""}]

{"sheet":"referentes","index":4,"n_rows":140,"n_cols":30,"rows_kept":140,"cut":false,"hidden":false,"merged":[]}
["cod_letras","descripcion","clave_sibm","phylum","clase","orden","familia","genero",null,null,null,null,null,null,null,null,null,null,"secuencia_loc","prefijo_cdg_est_loc","codigo_estacion_loc","descripcion_estacion_loc","lugar",null,"codigo","nombre",null,null,"codigo_in","nombre_in"]
["AB","Avicennia bicolor","2040.55.687","Tracheophyta",null,null,"VERBENACEAE",null,null,null,null,null,null,null,null,null,null,null,55958,"Bahia_Cocinetas",96321,null,"Bahia Cocinetas1",null,3546,"Administrador SIGMA"]
["AG","Avicennia germinans","2040.55.685","Tracheophyta",null,null,"VERBENACEAE",null,null,null,null,null,null,null,null,null,null,null,55957,"Bahia_Hondita",96321,null,"Bahia Hondita1",null,3444,"Alexandra Rodríguez",null,null,"AD Pto. Moin C.R.","Administración Desarrollo Complejo Portuario  Limón Moin Costa Rica"]
["CE","Conocarpus erectus","2040.55.293","Tracheophyta",null,null,"VERBENACEAE",null,null,null,null,null,null,null,null,null,null,null,55959,"Bahia_Tukakas",96321,null,"Bahia Tukakaspl1",null,8258,"Daniel Fernando Jiménez Rincón",null,null,"ANADARKO","Anadarko Colombia Company"]
["EA","Eugenia Acapulcensis","2040.55.1534","Tracheophyta","ROSOPSIDA","MYRTALES","MYRTACEAE","EUGENIA",null,null,null,null,null,null,null,null,null,null,55967,"Boca_Laenea1",96321,null,"Boca La enea1",null,8378,"David Alejandro Navarrete Rodríguez",null,null,"AQUABIOSFERA","Aquabiosfera SAS"]
["FS","Ficus","2040.46.20406","Tracheophyta","ROSOPSIDA","ROSALES","MORACEAE","FICUS",null,null,null,null,null,null,null,null,null,null,55968,"Boca_Laenea2",96321,null,"Boca La enea2",null,4918,"Edgar Fernando Dorado Roncancio",null,null,"CALIDRIS","Asociación Calidris"]
["FT","Ficus Tonduzii   ","2040.55.1536","Tracheophyta","ROSOPSIDA","ROSALES","MORACEAE","FICUS",null,null,null,null,null,null,null,null,null,null,56558,"Bocas_Atrato",96321,null,"Bocas del Atrato1",null,3403,"Eliana Marcela Barrios Vasquez",null,null,"ASOCARS","Asociación de Corporaciones Autónomas Regionales"]
["LR","Laguncularia racemosa","2040.55.290","Tracheophyta",null,null,"COMBRETACEAE",null,null,null,null,null,null,null,null,null,null,null,55972,"Broqueles",96321,null,"Broqueles1",null,7840,"Fair Fernando Dager Osorio",null,null,"ANLA","Autoridad Nacional de Licencias Ambientales"]
["MM","Mora oleifera","2040.55.507","Tracheophyta",null,null,"Caesalpiniaceae",null,null,null,null,null,null,null,null,null,null,null,57245,"Buenavista1",96321,null,"Buenavista1",null,5685,"Henry Fabian Bustos Ordoñez",null,null,"ARAP","Autoridad de Recursos Acuáticos de Panamá"]
["PR","Pelliciera rhizophorae","2040.55.532","Tracheophyta",null,null,"Rhizophoraceae",null,null,null,null,null,null,null,null,null,null,null,57246,"Buenavista2",96321,null,"Buenavista2",null,7841,"Jean David Varilla Gonzalez",null,null,"CWOP","Caribbean-Wide Orca Project"]
["RH","Rhizophora harrisonii","2040.55.1509","Tracheophyta",null,null,"Rhizophoraceae",null,null,null,null,null,null,null,null,null,null,null,56551,"Camaronera",96321,null,"Camaronera1",null,8277,"Jeffry Bolaños",null,null,"CEAC","Centro de Estudios Ambientales de Cienfuegos"]
["RM","Rhizophora mangle","2040.55.325","Tracheophyta","Magnoliopsida ",null,"RIZOPHORACEAE",null,null,null,null,null,null,null,null,null,null,null,55970,"Cristo_Rey",96321,null,"Cristo Rey1",null,8263,"Johan Casadiego Estévez",null,null,"CECIMAR","Centro de Estudios en Ciencias del Mar - Universidad Nacional"]
["RR","Rhizophora racemosa","2040.55.326","Tracheophyta",null,null,"Rhizophoraceae",null,null,null,null,null,null,null,null,null,null,null,55961,"Dibulla1_Occidente",96321,null,"Dibulla1 Occidente -Rio Jerez",null,7141,"Juan Camilo Rodríguez Atara",null,null,"CIEMAT","Centro de Investigaciones Energéticas, Medioambientales y Tecnológicas"]
["RS","Rhizophora sp.","2040.46.710","Tracheophyta","Rosopsida","Rhizophorales","Rhizophoraceae",null,null,null,null,null,null,null,null,null,null,null,55962,"Dibulla2_Occidente",96321,null,"Dibulla2 Occidente -Rio Jerez",null,8264,"Juan Fernando Cortina Munera",null,null,"CIOH","Centro de Investigaciones Oceanográficas e Hidrográficas"]
["SA","Otras Especies asociadas",null,"Tracheophyta",null,null,null,null,null,null,null,null,null,null,null,null,null,null,55974,"Laguna_Bocacorea",96321,null,"Laguna Bocacorea1",null,8217,"Juan Lazarus",null,null,"C.C.C.P.","Centro de Investigaciones Oceanográficas e Hidrográficas del Pacífico"]
["SE","Sp. manglar","2040.5.2040","Tracheophyta",null,null,"Sin especificiar",null,null,null,null,null,null,null,null,null,null,null,56887,"4484701OCEA",100,null,"PMO - BAHIA COCINETAS",null,8265,"Kevin Samuel Moreno",null,null,"CEINER","Centro de Investigación Educación y Recreación Islas del Rosario"]
["TC","Terminalia catappa",null,"Tracheophyta","Equisetopsida","MYRTALES","COMBRETACEAE","Terminalia",null,null,null,null,null,null,null,null,null,null,56888,"4484703OCEA",100,null,"PMO - BAHIA HONDITA",null,8377,"Lady Liliana Espinosa Leal",null,null,"CIRA","Centro de Investigación de los Recursos Acuáticos de Nicaragua (CIRA)"]
[null,null,null,null,null,null,null,null,null,null,null,null,null,null,null,null,null,null,56886,"4484702OCEA",100,null,"PMO - BAHIA TUKAKAS",null,7757,"Laura  Martínez Lacharme",null,null,"CICA","Centro de Investigación en Contaminación Ambiental"]
[null,null,null,null,null,null,null,null,null,null,null,null,null,null,null,null,null,null,56921,"0583740OCEA",100,null,"PMO - BAHÍA EL UNO",null,4227,"Laura Sanchez Valencia",null,null,"CRBMUV","Colección de Referencia Biología Marina Universidad del Valle"]
[null,null,null,null,null,null,null,null,null,null,null,null,null,null,null,null,null,null,56895,"4456009OCEA",100,null,"PMO - BALLENAS",null,3281,"Leonardo José Arias Alemán (2022)",null,null,"Coleccion_Personal","Colección personal"]
[null,null,null,null,null,null,null,null,null,null,null,null,null,null,null,null,null,null,56902,"4409015OCEA",100,null,"PMO - BELLO HORIZONTE",null,8099,"Marco Elias Gonzalez Arteaga",null,null,"CPPS","Comisión Permanente del Pacífico Sur"]
[null,null,null,null,null,null,null,null,null,null,null,null,null,null,null,null,null,null,56914,"2350029OCEA",100,null,"PMO - BROQUELES",null,7197,"Miller Jose Florian Sanchez",null,null,"CI","Conservación Internacional Colombia "]
[null,null,null,null,null,null,null,null,null,null,null,null,null,null,null,null,null,null,56898,"4456011OCEA",100,null,"PMO - BUENAVISTA",null,8262,"Paula Andrea López Muñoz",null,null,"CONSULTOR","Consultor independiente "]
[null,null,null,null,null,null,null,null,null,null,null,null,null,null,null,null,null,null,56889,"4484704OCEA",100,null,"PMO - CABO DE LA VELA",null,8297,"SARAH DANIELA VELASCO MARULANDA",null,null,"CMS","Consultoria y Monitoreo Ambiental"]
[null,null,null,null,null,null,null,null,null,null,null,null,null,null,null,null,null,null,56890,"4484705OCEA",100,null,"PMO - CARRIZAL",null,5745,"Sara Eilyn Guzman Henao",null,null,"CVC","Corporacion  Autonoma Regional del Valle del Cauca"]
[null,null,null,null,null,null,null,null,null,null,null,null,null,null,null,null,null,null,56906,"4718921OCEA",100,null,"PMO - CIENAGA",null,8266,"Zulay Saudith González Herrera",null,null,"CORPONARIÑO","Corporacion Autonoma Regional de Nariño"]
[null,null,null,null,null,null,null,null,null,null,null,null,null,null,null,null,null,null,56916,"2357431OCEA",100,null,"PMO - CRISTO REY",null,null,null,null,null,"CARSUCRE","Corporacion Autonoma Regional de Sucre"]
[null,null,null,null,null,null,null,null,null,null,null,null,null,null,null,null,null,null,56919,"0565934OCEA",100,null,"PMO - DAMAQUIEL",null,null,null,null,null,"CRA","Corporacion Autonoma Regional del Atlàntico"]
[null,null,null,null,null,null,null,null,null,null,null,null,null,null,null,null,null,null,56901,"4409014OCEA",100,null,"PMO - DIBULLA",null,null,null,null,null,"CARDIQUE","Corporacion Autonoma Regional del Canal del Dique"]
[null,null,null,null,null,null,null,null,null,null,null,null,null,null,null,null,null,null,56924,"0549036OCEA",100,null,"PMO - ENSENADA RIONEGRO",null,null,null,null,null,"CRC","Corporacion Autonoma Regional del Cauca"]
[null,null,null,null,null,null,null,null,null,null,null,null,null,null,null,null,null,null,56905,"4700119OCEA",100,null,"PMO - INCA INCA",null,null,null,null,null,"CODECHOCO","Corporacion para el Desarrollo Sostenible del Choco"]
[null,null,null,null,null,null,null,null,null,null,null,null,null,null,null,null,null,null,56900,"4400113OCEA",100,null,"PMO - LA ENEA",null,null,null,null,null,"CORPOGUAJIRA","Corporación Autónoma Regional de la Guajira"]
[null,null,null,null,null,null,null,null,null,null,null,null,null,null,null,null,null,null,56912,"2367527OCEA",100,null,"PMO - LAGUNA BOCA COREA",null,null,null,null,null,"CORALINA","Corporación Autónoma Regional de las Islas de San Andrés, Providencia y Santa Catalina"]
[null,null,null,null,null,null,null,null,null,null,null,null,null,null,null,null,null,null,56892,"4456007OCEA",100,null,"PMO - MANAURE",null,null,null,null,null,"CORPAMAG","Corporación Autónoma Regional del Magdalena"]
[null,null,null,null,null,null,null,null,null,null,null,null,null,null,null,null,null,null,56923,"0583745OCEA",100,null,"PMO - MATUNTUGO",null,null,null,null,null,"CORPOURABA","Corporación Autónoma Regional del Uraba"]
[null,null,null,null,null,null,null,null,null,null,null,null,null,null,null,null,null,null,56897,"4456010OCEA",100,null,"PMO - MAYAPO 1",null,null,null,null,null,"CVC-UNPA","Corporación Autónoma Regional del Valle del Cauca-Universidad del Pacifico"]
[null,null,null,null,null,null,null,null,null,null,null,null,null,null,null,null,null,null,56896,"4456010OCEA",200,null,"PMO - MAYAPO 2",null,null,null,null,null,"CORALINA OMACHA","Corporación Coralina - Fundación Omacha"]
[null,null,null,null,null,null,null,null,null,null,null,null,null,null,null,null,null,null,56894,"4456008OCEA",100,null,"PMO - MUSICHI 1",null,null,null,null,null,"CORPOURABA - OMACHA","Corporación Corpouraba - Fundación Omacha"]
[null,null,null,null,null,null,null,null,null,null,null,null,null,null,null,null,null,null,56893,"4456008OCEA",200,null,"PMO - MUSICHI 2",null,null,null,null,null,"CVS","Corporación Regional de Valle del Sinu y San Jorge"]
[null,null,null,null,null,null,null,null,null,null,null,null,null,null,null,null,null,null,56913,"2350028OCEA",100,null,"PMO - PASO NUEVO",null,null,null,null,null,"DADSA","DEPARTAMENT0 ADMiNISTRATIVO DISTRITAL DE SOSTENIBILIDAD AMBIENTAL"]
[null,null,null,null,null,null,null,null,null,null,null,null,null,null,null,null,null,null,56909,"2367246OCEA",100,null,"PMO - PLAYA BLANCA",null,null,null,null,null,"DAMARENA","Departamento Administrativo del Medio Ambiente de Cartagena -  EPA Cartagena"]
[null,null,null,null,null,null,null,null,null,null,null,null,null,null,null,null,null,null,56920,"0583739OCEA",100,null,"PMO - PLAYA LA MARTINA",null,null,null,null,null,"DAMAB","Departamento Técnico Administrativo del Medio Ambiente Barranquilla"]
[null,null,null,null,null,null,null,null,null,null,null,null,null,null,null,null,null,null,56911,"2367525OCEA",100,null,"PMO - PLAYA MIREYA",null,null,null,null,null,"DIMAR","Dirección General Maritima"]
[null,null,null,null,null,null,null,null,null,null,null,null,null,null,null,null,null,null,56907,"4757022OCEA",100,null,"PMO - PUEBLO VIEJO",null,null,null,null,null,"ECOREEF","ECOREEF Colombia LTDA"]
[null,null,null,null,null,null,null,null,null,null,null,null,null,null,null,null,null,null,56917,"2357432OCEA",100,null,"PMO - PUERTO ESCONDIDO",null,null,null,null,null,"ETH Zurich","EIDGENÖSSISCHE TECHNISCHE HOCHSCHULE ZÜRICH (Politécnico)\r\r\nEIDGENÖSSISCHE TECHNISCHE HOCHSCHULE ZÜRICH"]
[null,null,null,null,null,null,null,null,null,null,null,null,null,null,null,null,null,null,56910,"2367224OCEA",100,null,"PMO - PUNTA MESTIZO",null,null,null,null,null,"ECOMAR","Ecomar Consultoría  Ambiental S.A.S."]
[null,null,null,null,null,null,null,null,null,null,null,null,null,null,null,null,null,null,56918,"0505133OCEA",100,null,"PMO - RIO HOBO",null,null,null,null,null,"EPA BARRANQUILLA","Establecimiento Publico Ambiental Barranquilla"]
[null,null,null,null,null,null,null,null,null,null,null,null,null,null,null,null,null,null,56922,"0583743OCEA",100,null,"PMO - RIO LEON",null,null,null,null,null,"EPA BUENAVENTURA","Establecimiento Publico Ambiental Buenaventura"]
[null,null,null,null,null,null,null,null,null,null,null,null,null,null,null,null,null,null,56899,"4400112OCEA",100,null,"PMO - RIOHACHA",null,null,null,null,null,"EPA CARTAGENA","Establecimiento Publico Ambiental Cartagena"]
[null,null,null,null,null,null,null,null,null,null,null,null,null,null,null,null,null,null,56915,"2350030OCEA",100,null,"PMO - RÍO CEDRO",null,null,null,null,null,"ZOOCALI","FUNDACIÓN ZOOLÓGICA DE CALI"]
[null,null,null,null,null,null,null,null,null,null,null,null,null,null,null,null,null,null,56904,"4700118OCEA",100,null,"PMO - SANTA MARTA",null,null,null,null,null,"Fundabas","Fundacion Para El Desarrollo De La Biologia Aplicada"]
[null,null,null,null,null,null,null,null,null,null,null,null,null,null,null,null,null,null,56891,"4456006OCEA",100,null,"PMO - SANTA ROSA",null,null,null,null,null,"F. Bucea Colombia","Fundación Bucea Colombia"]
[null,null,null,null,null,null,null,null,null,null,null,null,null,null,null,null,null,null,56903,"4700117OCEA",100,null,"PMO - TAGANGA",null,null,null,null,null,"F.CORALES","Fundación Corales de Paz"]
[null,null,null,null,null,null,null,null,null,null,null,null,null,null,null,null,null,null,56908,"4757023OCEA",100,null,"PMO - TASAJERA",null,null,null,null,null,"F. Malpelo","Fundación Malpelo / Marviva"]
[null,null,null,null,null,null,null,null,null,null,null,null,null,null,null,null,null,null,55973,"Paso_Nuevo",96321,null,"Paso Nuevo1",null,null,null,null,null,"OMACHA","Fundación Omacha"]
[null,null,null,null,null,null,null,null,null,null,null,null,null,null,null,null,null,null,56689,"playa_Mireya",96321,null,"Playa Mireya",null,null,null,null,null,"OMACHA - OFM","Fundación Omacha - Observadores Fauna Marina"]
[null,null,null,null,null,null,null,null,null,null,null,null,null,null,null,null,null,null,55969,"Puerto_Escondido",96321,null,"Puerto Escondido1",null,null,null,null,null,"OMACHA - OFM - AQUAB","Fundación Omacha - Observadores Fauna Marina - Aquabiosfera"]
[null,null,null,null,null,null,null,null,null,null,null,null,null,null,null,null,null,null,55975,"Punta_Mestizos",96321,null,"Punta Mestizo1",null,null,null,null,null,"Sila Kangama","Fundación Sila Kangama"]
[null,null,null,null,null,null,null,null,null,null,null,null,null,null,null,null,null,null,55960,"Rincon_Mosquito",96321,null,"Rincon Mosquito - Bello Horizonte",null,null,null,null,null,"CIAA-UJTL","Fundación Universidad Jorge Tadeo Lozano - Centro de Investigaciones y Asesorías Agroindustriales,"]
[null,null,null,null,null,null,null,null,null,null,null,null,null,null,null,null,null,null,55971,"Rio_Cedro",96321,null,"Rio Cedro1",null,null,null,null,null,"UJTL","Fundación Universidad de Bogotá Jorge Tadeo Lozano"]
[null,null,null,null,null,null,null,null,null,null,null,null,null,null,null,null,null,null,55978,"Rio_Currulao",96321,null,"Rio Currulao1",null,null,null,null,null,"CERG","Geochemical & Environmental Research Group"]
[null,null,null,null,null,null,null,null,null,null,null,null,null,null,null,null,null,null,55983,"Rio_Hobo",96321,null,"Rio Jobo1",null,null,null,null,null,"IED_San José","INSTITUCIÓN EDUCATIVA DEPARTAMENTAL SAN JOSÉ"]
[null,null,null,null,null,null,null,null,null,null,null,null,null,null,null,null,null,null,null,null,null,null,null,null,null,null,null,null,"IRD","Institut de Recherche pour le Developpement"]
[null,null,null,null,null,null,null,null,null,null,null,null,null,null,null,null,null,null,null,null,null,null,null,null,null,null,null,null,"COLCIENCIAS","Instituto Colombiano para el Desarrollo de la Ciencia y la Tecnología"]
[null,null,null,null,null,null,null,null,null,null,null,null,null,null,null,null,null,null,null,null,null,null,null,null,null,null,null,null,"ICAL","Instituto Colombo Alemán de Investigaciones Científicas de Punta de Betín"]
[null,null,null,null,null,null,null,null,null,null,null,null,null,null,null,null,null,null,null,null,null,null,null,null,null,null,null,null,"INVEMAR - OMACHA","Instituto INVEMAR - Fundación Omacha"]
[null,null,null,null,null,null,null,null,null,null,null,null,null,null,null,null,null,null,null,null,null,null,null,null,null,null,null,null,"INDERENA","Instituto Nacional de los Recursos Naturales Renovables y del Ambiente"]
[null,null,null,null,null,null,null,null,null,null,null,null,null,null,null,null,null,null,null,null,null,null,null,null,null,null,null,null,"ICML","Instituto de Ciencias del Mar y Limnología (ICML)"]
[null,null,null,null,null,null,null,null,null,null,null,null,null,null,null,null,null,null,null,null,null,null,null,null,null,null,null,null,"IIAP","Instituto de Investigaciones Ambientales del Pacifico"]
[null,null,null,null,null,null,null,null,null,null,null,null,null,null,null,null,null,null,null,null,null,null,null,null,null,null,null,null,"INVEMAR","Instituto de Investigaciones Marinas y Costeras"]
[null,null,null,null,null,null,null,null,null,null,null,null,null,null,null,null,null,null,null,null,null,null,null,null,null,null,null,null,"INVEMAR-AGR","Instituto de Investigaciones Marinas y Costeras - AGR"]
[null,null,null,null,null,null,null,null,null,null,null,null,null,null,null,null,null,null,null,null,null,null,null,null,null,null,null,null,"INVEMAR-BVT","Instituto de Investigaciones Marinas y Costeras - BVT"]
[null,null,null,null,null,null,null,null,null,null,null,null,null,null,null,null,null,null,null,null,null,null,null,null,null,null,null,null,"INVEMAR-CPT","Instituto de Investigaciones Marinas y Costeras - CPT"]
[null,null,null,null,null,null,null,null,null,null,null,null,null,null,null,null,null,null,null,null,null,null,null,null,null,null,null,null,"IAvH","Instituto de Investigación Recursos Biológicos Alexander von Humboldt"]
[null,null,null,null,null,null,null,null,null,null,null,null,null,null,null,null,null,null,null,null,null,null,null,null,null,null,null,null,"IDO_Cuba","Instituto de Oceanologia Cuba"]
[null,null,null,null,null,null,null,null,null,null,null,null,null,null,null,null,null,null,null,null,null,null,null,null,null,null,null,null,"IATTC","Inter-American Tropical Tuna Commission"]
[null,null,null,null,null,null,null,null,null,null,null,null,null,null,null,null,null,null,null,null,null,null,null,null,null,null,null,null,"LABORMAR","Laboratorio Microbiológico Ortiz Martinez "]
[null,null,null,null,null,null,null,null,null,null,null,null,null,null,null,null,null,null,null,null,null,null,null,null,null,null,null,null,"Literature report","Literature report"]
[null,null,null,null,null,null,null,null,null,null,null,null,null,null,null,null,null,null,null,null,null,null,null,null,null,null,null,null,"MCS Consultoría","MCS Consultoría y Monitoreo ambiental S.A.S"]
[null,null,null,null,null,null,null,null,null,null,null,null,null,null,null,null,null,null,null,null,null,null,null,null,null,null,null,null,"MAKARELA","Makarela S.A.S"]
[null,null,null,null,null,null,null,null,null,null,null,null,null,null,null,null,null,null,null,null,null,null,null,null,null,null,null,null,"MHNMC","Makuriwa - Museo de Historia Natural Marina de Colombia"]
[null,null,null,null,null,null,null,null,null,null,null,null,null,null,null,null,null,null,null,null,null,null,null,null,null,null,null,null,"MMU","Manchester Metropolitan University"]
[null,null,null,null,null,null,null,null,null,null,null,null,null,null,null,null,null,null,null,null,null,null,null,null,null,null,null,null,"M_P","Marine & Port Consultants"]
[null,null,null,null,null,null,null,null,null,null,null,null,null,null,null,null,null,null,null,null,null,null,null,null,null,null,null,null,"IAEA-MEL","Marine Environment Laboratories"]
[null,null,null,null,null,null,null,null,null,null,null,null,null,null,null,null,null,null,null,null,null,null,null,null,null,null,null,null,"MINCIENCIAS","Ministerio de Ciencia, Tecnología e Innovación"]
[null,null,null,null,null,null,null,null,null,null,null,null,null,null,null,null,null,null,null,null,null,null,null,null,null,null,null,null,"MA","Ministerio del Ambiente Haiti"]
[null,null,null,null,null,null,null,null,null,null,null,null,null,null,null,null,null,null,null,null,null,null,null,null,null,null,null,null,"MADS","Ministerio del Ambiente y Desarrollo Sostenible"]
[null,null,null,null,null,null,null,null,null,null,null,null,null,null,null,null,null,null,null,null,null,null,null,null,null,null,null,null,"MINAMBIENTE","Ministerio del Ambiente y Desarrollo Sostenible"]
[null,null,null,null,null,null,null,null,null,null,null,null,null,null,null,null,null,null,null,null,null,null,null,null,null,null,null,null,"MHN-UC","Museo Historia Natural Universidad del Cauca"]
[null,null,null,null,null,null,null,null,null,null,null,null,null,null,null,null,null,null,null,null,null,null,null,null,null,null,null,null,"MZUSP","Museu de Zoologia da Universidade de São Paulo"]
[null,null,null,null,null,null,null,null,null,null,null,null,null,null,null,null,null,null,null,null,null,null,null,null,null,null,null,null,"NOAA FISHERIES","NOAA Southwest Fisheries Science Center"]
[null,null,null,null,null,null,null,null,null,null,null,null,null,null,null,null,null,null,null,null,null,null,null,null,null,null,null,null,"NEPA","National Environment and Planning Agency"]
[null,null,null,null,null,null,null,null,null,null,null,null,null,null,null,null,null,null,null,null,null,null,null,null,null,null,null,null,"NOAA","National Oceanic and Atmospheric Administration"]
[null,null,null,null,null,null,null,null,null,null,null,null,null,null,null,null,null,null,null,null,null,null,null,null,null,null,null,null,"OBIMAR","OBIMAR. Empresa Portuaria Quetzal"]
[null,null,null,null,null,null,null,null,null,null,null,null,null,null,null,null,null,null,null,null,null,null,null,null,null,null,null,null,"OBIS-SEAMAP","OBIS-SEAMAP"]
[null,null,null,null,null,null,null,null,null,null,null,null,null,null,null,null,null,null,null,null,null,null,null,null,null,null,null,null,"OBIS","Ocean Biogeographic Information System"]
[null,null,null,null,null,null,null,null,null,null,null,null,null,null,null,null,null,null,null,null,null,null,null,null,null,null,null,null,"OIR","Oceanario de las Islas del Rosario - CEINER"]
[null,null,null,null,null,null,null,null,null,null,null,null,null,null,null,null,null,null,null,null,null,null,null,null,null,null,null,null,"OIEA","Orgánismo Internacional de Energía Atómica"]
[null,null,null,null,null,null,null,null,null,null,null,null,null,null,null,null,null,null,null,null,null,null,null,null,null,null,null,null,"PNN_GORGONA","Parque Nacional Natural Gorgona"]
[null,null,null,null,null,null,null,null,null,null,null,null,null,null,null,null,null,null,null,null,null,null,null,null,null,null,null,null,"UAESPNN","Parques Nacionales Naturales de Colombia"]
[null,null,null,null,null,null,null,null,null,null,null,null,null,null,null,null,null,null,null,null,null,null,null,null,null,null,null,null,"PNN","Parques Nacionales Naturales de Colombia "]
[null,null,null,null,null,null,null,null,null,null,null,null,null,null,null,null,null,null,null,null,null,null,null,null,null,null,null,null,"PARTICULAR","Particular"]
[null,null,null,null,null,null,null,null,null,null,null,null,null,null,null,null,null,null,null,null,null,null,null,null,null,null,null,null,"PUJ","Pontificia Universidad Javeriana"]
[null,null,null,null,null,null,null,null,null,null,null,null,null,null,null,null,null,null,null,null,null,null,null,null,null,null,null,null,"RAC-CIMAB","RAC-CIMAB"]
[null,null,null,null,null,null,null,null,null,null,null,null,null,null,null,null,null,null,null,null,null,null,null,null,null,null,null,null,"REPSOL","Repsol Exploración Colombia S.A."]
[null,null,null,null,null,null,null,null,null,null,null,null,null,null,null,null,null,null,null,null,null,null,null,null,null,null,null,null,"SERNA","Secretaría de Recursos Naturales y Ambiente (SERNA)/Centro de Estudios y Control de Contaminantes (CESCCO)"]
[null,null,null,null,null,null,null,null,null,null,null,null,null,null,null,null,null,null,null,null,null,null,null,null,null,null,null,null,"SERAMBIENTE","Servicios de Ingeniería Ambiental"]
[null,null,null,null,null,null,null,null,null,null,null,null,null,null,null,null,null,null,null,null,null,null,null,null,null,null,null,null,"SEPC","Shell Exploration & Production Colombia GMBH"]
[null,null,null,null,null,null,null,null,null,null,null,null,null,null,null,null,null,null,null,null,null,null,null,null,null,null,null,null,"NMHN Smithsonian","Smithsonian Institution"]
[null,null,null,null,null,null,null,null,null,null,null,null,null,null,null,null,null,null,null,null,null,null,null,null,null,null,null,null,"SPRC - CNR","Sociedad Portuaria Rio Cordoba - Colombian Natural Resources S.A.S."]
[null,null,null,null,null,null,null,null,null,null,null,null,null,null,null,null,null,null,null,null,null,null,null,null,null,null,null,null,"SPSM","Sociedad Portuaria de Santa Marta"]
[null,null,null,null,null,null,null,null,null,null,null,null,null,null,null,null,null,null,null,null,null,null,null,null,null,null,null,null,"UPR Humacao","UNIVERSIDAD DE PUERTO RICO EN HUMACAO"]
[null,null,null,null,null,null,null,null,null,null,null,null,null,null,null,null,null,null,null,null,null,null,null,null,null,null,null,null,"UR Camelia, IRD","UR Camelia, IRD"]
[null,null,null,null,null,null,null,null,null,null,null,null,null,null,null,null,null,null,null,null,null,null,null,null,null,null,null,null,"UNEP CAR/RCU","United Nations Environment Programme - Caribbean Regional Coordinating Unit"]
[null,null,null,null,null,null,null,null,null,null,null,null,null,null,null,null,null,null,null,null,null,null,null,null,null,null,null,null,"UASD","Universidad Autónoma de Santo Domingo"]
[null,null,null,null,null,null,null,null,null,null,null,null,null,null,null,null,null,null,null,null,null,null,null,null,null,null,null,null,"UFB","Universidad Federal de Bahía"]
[null,null,null,null,null,null,null,null,null,null,null,null,null,null,null,null,null,null,null,null,null,null,null,null,null,null,null,null,"UJTL-MM","Universidad Jorje Tadeo Lozano-Museo del Mar"]
[null,null,null,null,null,null,null,null,null,null,null,null,null,null,null,null,null,null,null,null,null,null,null,null,null,null,null,null,"UNMSM","Universidad Nacional Mayor de San Marcos"]
[null,null,null,null,null,null,null,null,null,null,null,null,null,null,null,null,null,null,null,null,null,null,null,null,null,null,null,null,"UNal","Universidad Nacional de Colombia"]
[null,null,null,null,null,null,null,null,null,null,null,null,null,null,null,null,null,null,null,null,null,null,null,null,null,null,null,null,"USB","Universidad Simón Bolivar"]
[null,null,null,null,null,null,null,null,null,null,null,null,null,null,null,null,null,null,null,null,null,null,null,null,null,null,null,null,"UDEA","Universidad de Antioquia"]
[null,null,null,null,null,null,null,null,null,null,null,null,null,null,null,null,null,null,null,null,null,null,null,null,null,null,null,null,"UJTL-FCM","Universidad de Bogotá Jorge Tadeo Lozano, Fac. de Ciencias Naturales e Ingenieria"]
[null,null,null,null,null,null,null,null,null,null,null,null,null,null,null,null,null,null,null,null,null,null,null,null,null,null,null,null,"UCartagena","Universidad de Cartagena"]
[null,null,null,null,null,null,null,null,null,null,null,null,null,null,null,null,null,null,null,null,null,null,null,null,null,null,null,null,"UCO","Universidad de Córdoba"]
[null,null,null,null,null,null,null,null,null,null,null,null,null,null,null,null,null,null,null,null,null,null,null,null,null,null,null,null,"UF","Universidad de Florida"]
[null,null,null,null,null,null,null,null,null,null,null,null,null,null,null,null,null,null,null,null,null,null,null,null,null,null,null,null,"UniGie","Universidad de Giessen"]
[null,null,null,null,null,null,null,null,null,null,null,null,null,null,null,null,null,null,null,null,null,null,null,null,null,null,null,null,"UNIBAGUE","Universidad de Ibague"]
[null,null,null,null,null,null,null,null,null,null,null,null,null,null,null,null,null,null,null,null,null,null,null,null,null,null,null,null,"UDES","Universidad de La Sabana"]
[null,null,null,null,null,null,null,null,null,null,null,null,null,null,null,null,null,null,null,null,null,null,null,null,null,null,null,null,"UDO - NS","Universidad de Oriente - Núcleo de Sucre"]
[null,null,null,null,null,null,null,null,null,null,null,null,null,null,null,null,null,null,null,null,null,null,null,null,null,null,null,null,"UNIGUAJIRA","Universidad de la Guajira"]
[null,null,null,null,null,null,null,null,null,null,null,null,null,null,null,null,null,null,null,null,null,null,null,null,null,null,null,null,"UniMagdalena","Universidad del Magdalena"]
[null,null,null,null,null,null,null,null,null,null,null,null,null,null,null,null,null,null,null,null,null,null,null,null,null,null,null,null,"UNINORTE","Universidad del Norte"]
[null,null,null,null,null,null,null,null,null,null,null,null,null,null,null,null,null,null,null,null,null,null,null,null,null,null,null,null,"UPacifico","Universidad del Pacífico"]
[null,null,null,null,null,null,null,null,null,null,null,null,null,null,null,null,null,null,null,null,null,null,null,null,null,null,null,null,"UT","Universidad del Tolima"]
[null,null,null,null,null,null,null,null,null,null,null,null,null,null,null,null,null,null,null,null,null,null,null,null,null,null,null,null,"UNIVALLE","Universidad del Valle"]
[null,null,null,null,null,null,null,null,null,null,null,null,null,null,null,null,null,null,null,null,null,null,null,null,null,null,null,null,"UC","Universidae do Cerá, Estaçao de Biologia Marinha"]
[null,null,null,null,null,null,null,null,null,null,null,null,null,null,null,null,null,null,null,null,null,null,null,null,null,null,null,null,"UNH","University of New Hampshire"]
[null,null,null,null,null,null,null,null,null,null,null,null,null,null,null,null,null,null,null,null,null,null,null,null,null,null,null,null,"UM Francia","Université de Montpellier"]
[null,null,null,null,null,null,null,null,null,null,null,null,null,null,null,null,null,null,null,null,null,null,null,null,null,null,null,null,"VIMS-SI","Virginia Institute of Marine Science / Smithsonian Institution"]
[null,null,null,null,null,null,null,null,null,null,null,null,null,null,null,null,null,null,null,null,null,null,null,null,null,null,null,null,"WCS","Wildlife Conservation Society"]

{"sheet":"OTRAS REFERENCIAS","index":5,"n_rows":1299,"n_cols":39,"rows_kept":1299,"cut":false,"hidden":false,"merged":[[20,3,20,5],[4,23,4,24],[4,19,4,20],[4,13,4,14],[4,16,4,17],[0,0,2,10],[4,0,4,1],[4,3,4,4],[4,7,4,8],[4,10,4,11]]}
["Estas son listas para variables con valores que no se encuentran codificados, pero que deben manejarse de manera estandarizada. \nSi se requiere agregar un valor nuevo hagalo debajo de la lista correspondiente"]
[]
[]
[]
["UNIDADES DE MEDIDA",null,null,"PROYECTO",null,null,null,"METODOS TEMP",null,null,"METODOS SAL",null,null,"METODOS_PH",null,null,"METODOS_CONDUCTIVIDAD",null,null,"METODOS_ORP",null,null,null,"ROLES",null,null,null,null,{"$f":"IF(referentes!W2=\"\",\"\",referentes!W2)","v":"Bahia Cocinetas1"},{"$f":"referentes!S2","v":55958},null,"ORDEN","COPIAS COD","REORDENAR","LISTADO",null,null,"ESTACIONES","ID"]
["CODIGO","DESCRIPCION",null,"COD","PROYECTO","PROYECTO DESC",null,"COD","VALOR",null,"COD","VALOR",null,"COD","VALOR",null,"COD","VALOR",null,"COD","VALOR",null,null,4,"Captura en campo",null,null,null,{"$f":"IF(referentes!W3=\"\",\"\",referentes!W3)","v":"Bahia Hondita1"},{"$f":"referentes!S3","v":55957},null,1,{"$f":"IF(AC5=\"\",0,AC5)","v":"Bahia Cocinetas1"},{"$f":"IF(AG6=0,MAX($AF$6:$AF$1294)+1,AF6)","v":1},{"$f":"IFERROR(VLOOKUP(SMALL($AH$6:$AH$1294,AF6),$AF$6:$AH$1294,2,FALSE),\"X\")","v":"Bahia Cocinetas1"},null,null,"****PARCELAS******","NO VALIDO"]
[10,"cm",null,3572,"KFW","KFW",null,617,"Conductimetro",null,617,"Conductimetro",null,617,"Conductimetro",null,617,"Conductimetro",null,826,"Kit Hanna para medición de pH/ORP/Temp",null,null,6,"Revisar datos",null,null,null,{"$f":"IF(referentes!W4=\"\",\"\",referentes!W4)","v":"Bahia Tukakaspl1"},{"$f":"referentes!S4","v":55959},null,2,{"$f":"IF(AC6=\"\",0,AC6)","v":"Bahia Hondita1"},{"$f":"IF(AG7=0,MAX($AF$6:$AF$1294)+1,AF7)","v":2},{"$f":"IFERROR(VLOOKUP(SMALL($AH$6:$AH$1294,AF7),$AF$6:$AH$1294,2,FALSE),\"X\")","v":"Bahia Hondita1"},null,null,{"$f":"CONCATENATE(referentes!W2, \" \",\"(\",referentes!T2,\")\")","v":"Bahia Cocinetas1 (Bahia_Cocinetas)"},{"$f":"referentes!S2","v":55958}]
[11,"m",null,3572,"KFW FASE II","KFW FASE II",null,826,"Kit Hanna para medición de pH/ORP/Temp",null,863,"Salinidad calculada kit Hanna HI98194",null,826,"Kit Hanna para medición de pH/ORP/Temp",null,862,"Conductividad Kit Hanna HI98194/Sonda: HI7698194",null,864,"ORP (REDOX) - Kit Hanna HI98194",null,null,3497,"Coordinador actividad de campo",null,null,null,{"$f":"IF(referentes!W5=\"\",\"\",referentes!W5)","v":"Boca La enea1"},{"$f":"referentes!S5","v":55967},null,3,"Bahia Tukakaspl1",3,"Bahia Tukakaspl1",null,null,{"$f":"CONCATENATE(referentes!W3, \" \",\"(\",referentes!T3,\")\")","v":"Bahia Hondita1 (Bahia_Hondita)"},{"$f":"referentes!S3","v":55957}]
[null,null,null,null,null,null,null,865,"Temperatura Kit Hanna Hi98194",null,null,null,null,861,"pH Kit Hanna HI98194/Sonda: HI7698194",null,null,null,null,null,null,null,null,null,null,null,null,null,{"$f":"IF(referentes!W6=\"\",\"\",referentes!W6)","v":"Boca La enea2"},{"$f":"referentes!S6","v":55968},null,4,"Boca La enea1",4,"Boca La enea1",null,null,{"$f":"CONCATENATE(referentes!W4, \" \",\"(\",referentes!T4,\")\")","v":"Bahia Tukakaspl1 (Bahia_Tukakas)"},{"$f":"referentes!S4","v":55959}]
[null,null,null,null,null,null,null,null,null,null,null,null,null,null,null,null,null,null,null,null,null,null,null,null,null,null,null,null,{"$f":"IF(referentes!W7=\"\",\"\",referentes!W7)","v":"Bocas del Atrato1"},{"$f":"referentes!S7","v":56558},null,5,"Boca La enea2",5,"Boca La enea2",null,null,{"$f":"CONCATENATE(referentes!W5, \" \",\"(\",referentes!T5,\")\")","v":"Boca La enea1 (Boca_Laenea1)"},{"$f":"referentes!S5","v":55967}]
[null,null,null,null,null,null,null,null,null,null,null,null,null,null,null,null,null,null,null,null,null,null,null,null,null,null,null,null,{"$f":"IF(referentes!W8=\"\",\"\",referentes!W8)","v":"Broqueles1"},{"$f":"referentes!S8","v":55972},null,6,"Bocas del Atrato1",6,"Bocas del Atrato1",null,null,{"$f":"CONCATENATE(referentes!W6, \" \",\"(\",referentes!T6,\")\")","v":"Boca La enea2 (Boca_Laenea2)"},{"$f":"referentes!S6","v":55968}]
[null,null,null,null,null,null,null,null,null,null,null,null,null,null,null,null,null,null,null,null,null,null,null,null,null,null,null,null,{"$f":"IF(referentes!W9=\"\",\"\",referentes!W9)","v":"Buenavista1"},{"$f":"referentes!S9","v":57245},null,7,"Broqueles1",7,"Broqueles1",null,null,{"$f":"CONCATENATE(referentes!W7, \" \",\"(\",referentes!T7,\")\")","v":"Bocas del Atrato1 (Bocas_Atrato)"},{"$f":"referentes!S7","v":56558}]
[null,null,null,null,null,null,null,null,null,null,null,null,null,null,null,null,null,null,null,null,null,null,null,null,null,null,null,null,{"$f":"IF(referentes!W10=\"\",\"\",referentes!W10)","v":"Buenavista2"},{"$f":"referentes!S10","v":57246},null,8,"Buenavista1",8,"Buenavista1",null,null,{"$f":"CONCATENATE(referentes!W8, \" \",\"(\",referentes!T8,\")\")","v":"Broqueles1 (Broqueles)"},{"$f":"referentes!S8","v":55972}]
[null,null,null,null,null,null,null,null,null,null,null,null,null,null,null,null,null,null,null,null,null,null,null,null,null,null,null,null,{"$f":"IF(referentes!W11=\"\",\"\",referentes!W11)","v":"Camaronera1"},{"$f":"referentes!S11","v":56551},null,9,"Buenavista2",9,"Buenavista2",null,null,{"$f":"CONCATENATE(referentes!W9, \" \",\"(\",referentes!T9,\")\")","v":"Buenavista1 (Buenavista1)"},{"$f":"referentes!S9","v":57245}]
[null,null,null,null,null,null,null,null,null,null,null,null,null,null,null,null,null,null,null,null,null,null,null,null,null,null,null,null,{"$f":"IF(referentes!W12=\"\",\"\",referentes!W12)","v":"Cristo Rey1"},{"$f":"referentes!S12","v":55970},null,10,"Camaronera1",10,"Camaronera1",null,null,{"$f":"CONCATENATE(referentes!W10, \" \",\"(\",referentes!T10,\")\")","v":"Buenavista2 (Buenavista2)"},{"$f":"referentes!S10","v":57246}]
[null,null,null,null,null,null,null,null,null,null,null,null,null,null,null,null,null,null,null,null,null,null,null,null,null,null,null,null,{"$f":"IF(referentes!W13=\"\",\"\",referentes!W13)","v":"Dibulla1 Occidente -Rio Jerez"},{"$f":"referentes!S13","v":55961},null,11,"Cristo Rey1",11,"Cristo Rey1",null,null,{"$f":"CONCATENATE(referentes!W11, \" \",\"(\",referentes!T11,\")\")","v":"Camaronera1 (Camaronera)"},{"$f":"referentes!S11","v":56551}]
[null,null,null,null,null,null,null,null,null,null,null,null,null,null,null,null,null,null,null,null,null,null,null,null,null,null,null,null,{"$f":"IF(referentes!W14=\"\",\"\",referentes!W14)","v":"Dibulla2 Occidente -Rio Jerez"},{"$f":"referentes!S14","v":55962},null,12,"Dibulla1 Occidente -Rio Jerez",12,"Dibulla1 Occidente -Rio Jerez",null,null,{"$f":"CONCATENATE(referentes!W12, \" \",\"(\",referentes!T12,\")\")","v":"Cristo Rey1 (Cristo_Rey)"},{"$f":"referentes!S12","v":55970}]
[null,null,null,null,null,null,null,null,null,null,null,null,null,null,null,null,null,null,null,null,null,null,null,null,null,null,null,null,{"$f":"IF(referentes!W15=\"\",\"\",referentes!W15)","v":"Laguna Bocacorea1"},{"$f":"referentes!S15","v":55974},null,13,"Dibulla2 Occidente -Rio Jerez",13,"Dibulla2 Occidente -Rio Jerez",null,null,{"$f":"CONCATENATE(referentes!W13, \" \",\"(\",referentes!T13,\")\")","v":"Dibulla1 Occidente -Rio Jerez (Dibulla1_Occidente)"},{"$f":"referentes!S13","v":55961}]
[null,null,null,null,null,null,null,null,null,null,null,null,null,null,null,null,null,null,null,null,null,null,null,null,null,null,null,null,{"$f":"IF(referentes!W16=\"\",\"\",referentes!W16)","v":"PMO - BAHIA COCINETAS"},{"$f":"referentes!S16","v":56887},null,14,"Laguna Bocacorea1",14,"Laguna Bocacorea1",null,null,{"$f":"CONCATENATE(referentes!W14, \" \",\"(\",referentes!T14,\")\")","v":"Dibulla2 Occidente -Rio Jerez (Dibulla2_Occidente)"},{"$f":"referentes!S14","v":55962}]
[null,null,null,null,null,null,null,null,null,null,null,null,null,null,null,null,null,null,null,null,null,null,null,null,null,null,null,null,{"$f":"IF(referentes!W17=\"\",\"\",referentes!W17)","v":"PMO - BAHIA HONDITA"},{"$f":"referentes!S17","v":56888},null,15,"PMO - BAHIA COCINETAS",15,"PMO - BAHIA COCINETAS",null,null,{"$f":"CONCATENATE(referentes!W15, \" \",\"(\",referentes!T15,\")\")","v":"Laguna Bocacorea1 (Laguna_Bocacorea)"},{"$f":"referentes!S15","v":55974}]
[null,null,null,"CODIGOS LOV",null,null,null,null,null,null,null,null,null,null,null,null,null,null,null,null,null,null,null,null,null,null,null,null,{"$f":"IF(referentes!W18=\"\",\"\",referentes!W18)","v":"PMO - BAHIA TUKAKAS"},{"$f":"referentes!S18","v":56886},null,16,"PMO - BAHIA HONDITA",16,"PMO - BAHIA HONDITA",null,null,{"$f":"CONCATENATE(referentes!W16, \" \",\"(\",referentes!T16,\")\")","v":"PMO - BAHIA COCINETAS (4484701OCEA)"},{"$f":"referentes!S16","v":56887}]
[null,null,null,"DESCRIPCIÓN","CÓDIGO","GRUPO",null,null,null,null,null,null,null,null,null,null,null,null,null,null,null,null,null,null,null,null,null,null,{"$f":"IF(referentes!W19=\"\",\"\",referentes!W19)","v":"PMO - BAHÍA EL UNO"},{"$f":"referentes!S19","v":56921},null,17,"PMO - BAHIA TUKAKAS",17,"PMO - BAHIA TUKAKAS",null,null,{"$f":"CONCATENATE(referentes!W17, \" \",\"(\",referentes!T17,\")\")","v":"PMO - BAHIA HONDITA (4484703OCEA)"},{"$f":"referentes!S17","v":56888}]
[null,null,null,"Departamento",10,2,null,null,null,null,null,null,null,null,null,null,null,null,null,null,null,null,null,null,null,null,null,null,{"$f":"IF(referentes!W20=\"\",\"\",referentes!W20)","v":"PMO - BALLENAS"},{"$f":"referentes!S20","v":56895},null,18,"PMO - BAHÍA EL UNO",18,"PMO - BAHÍA EL UNO",null,null,{"$f":"CONCATENATE(referentes!W18, \" \",\"(\",referentes!T18,\")\")","v":"PMO - BAHIA TUKAKAS (4484702OCEA)"},{"$f":"referentes!S18","v":56886}]
[null,null,null,"Sector",20,2,null,null,null,null,null,null,null,null,null,null,null,null,null,null,null,null,null,null,null,null,null,null,{"$f":"IF(referentes!W21=\"\",\"\",referentes!W21)","v":"PMO - BELLO HORIZONTE"},{"$f":"referentes!S21","v":56902},null,19,"PMO - BALLENAS",19,"PMO - BALLENAS",null,null,{"$f":"CONCATENATE(referentes!W19, \" \",\"(\",referentes!T19,\")\")","v":"PMO - BAHÍA EL UNO (0583740OCEA)"},{"$f":"referentes!S19","v":56921}]
[null,null,null,"Punto",30,2,null,null,null,null,null,null,null,null,null,null,null,null,null,null,null,null,null,null,null,null,null,null,{"$f":"IF(referentes!W22=\"\",\"\",referentes!W22)","v":"PMO - BROQUELES"},{"$f":"referentes!S22","v":56914},null,20,"PMO - BELLO HORIZONTE",20,"PMO - BELLO HORIZONTE",null,null,{"$f":"CONCATENATE(referentes!W20, \" \",\"(\",referentes!T20,\")\")","v":"PMO - BALLENAS (4456009OCEA)"},{"$f":"referentes!S20","v":56895}]
[null,null,null,"Parcela",35,2,null,null,null,null,null,null,null,null,null,null,null,null,null,null,null,null,null,null,null,null,null,null,{"$f":"IF(referentes!W23=\"\",\"\",referentes!W23)","v":"PMO - BUENAVISTA"},{"$f":"referentes!S23","v":56898},null,21,"PMO - BROQUELES",21,"PMO - BROQUELES",null,null,{"$f":"CONCATENATE(referentes!W21, \" \",\"(\",referentes!T21,\")\")","v":"PMO - BELLO HORIZONTE (4409015OCEA)"},{"$f":"referentes!S21","v":56902}]
[null,null,null,"Estaciones",40,2,null,null,null,null,null,null,null,null,null,null,null,null,null,null,null,null,null,null,null,null,null,null,{"$f":"IF(referentes!W24=\"\",\"\",referentes!W24)","v":"PMO - CABO DE LA VELA"},{"$f":"referentes!S24","v":56889},null,22,"PMO - BUENAVISTA",22,"PMO - BUENAVISTA",null,null,{"$f":"CONCATENATE(referentes!W22, \" \",\"(\",referentes!T22,\")\")","v":"PMO - BROQUELES (2350029OCEA)"},{"$f":"referentes!S22","v":56914}]
[null,null,null,"Region",50,2,null,null,null,null,null,null,null,null,null,null,null,null,null,null,null,null,null,null,null,null,null,null,{"$f":"IF(referentes!W25=\"\",\"\",referentes!W25)","v":"PMO - CARRIZAL"},{"$f":"referentes!S25","v":56890},null,23,"PMO - CABO DE LA VELA",23,"PMO - CABO DE LA VELA",null,null,{"$f":"CONCATENATE(referentes!W23, \" \",\"(\",referentes!T23,\")\")","v":"PMO - BUENAVISTA (4456011OCEA)"},{"$f":"referentes!S23","v":56898}]
[null,null,null,"Unidad_de_Manejo",60,2,null,null,null,null,null,null,null,null,null,null,null,null,null,null,null,null,null,null,null,null,null,null,{"$f":"IF(referentes!W26=\"\",\"\",referentes!W26)","v":"PMO - CIENAGA"},{"$f":"referentes!S26","v":56906},null,24,"PMO - CARRIZAL",24,"PMO - CARRIZAL",null,null,{"$f":"CONCATENATE(referentes!W24, \" \",\"(\",referentes!T24,\")\")","v":"PMO - CABO DE LA VELA (4484704OCEA)"},{"$f":"referentes!S24","v":56889}]
[null,null,null,"Unidad_Ambiental_Costera",70,2,null,null,null,null,null,null,null,null,null,null,null,null,null,null,null,null,null,null,null,null,null,null,{"$f":"IF(referentes!W27=\"\",\"\",referentes!W27)","v":"PMO - CRISTO REY"},{"$f":"referentes!S27","v":56916},null,25,"PMO - CIENAGA",25,"PMO - CIENAGA",null,null,{"$f":"CONCATENATE(referentes!W25, \" \",\"(\",referentes!T25,\")\")","v":"PMO - CARRIZAL (4484705OCEA)"},{"$f":"referentes!S25","v":56890}]
[null,null,null,"Localidad",80,2,null,null,null,null,null,null,null,null,null,null,null,null,null,null,null,null,null,null,null,null,null,null,{"$f":"IF(referentes!W28=\"\",\"\",referentes!W28)","v":"PMO - DAMAQUIEL"},{"$f":"referentes!S28","v":56919},null,26,"PMO - CRISTO REY",26,"PMO - CRISTO REY",null,null,{"$f":"CONCATENATE(referentes!W26, \" \",\"(\",referentes!T26,\")\")","v":"PMO - CIENAGA (4718921OCEA)"},{"$f":"referentes!S26","v":56906}]
[null,null,null,"Bloque_Exploracion",85,2,null,null,null,null,null,null,null,null,null,null,null,null,null,null,null,null,null,null,null,null,null,null,{"$f":"IF(referentes!W29=\"\",\"\",referentes!W29)","v":"PMO - DIBULLA"},{"$f":"referentes!S29","v":56901},null,27,"PMO - DAMAQUIEL",27,"PMO - DAMAQUIEL",null,null,{"$f":"CONCATENATE(referentes!W27, \" \",\"(\",referentes!T27,\")\")","v":"PMO - CRISTO REY (2357431OCEA)"},{"$f":"referentes!S27","v":56916}]
[null,null,null,"Area",90,2,null,null,null,null,null,null,null,null,null,null,null,null,null,null,null,null,null,null,null,null,null,null,{"$f":"IF(referentes!W30=\"\",\"\",referentes!W30)","v":"PMO - ENSENADA RIONEGRO"},{"$f":"referentes!S30","v":56924},null,28,"PMO - DIBULLA",28,"PMO - DIBULLA",null,null,{"$f":"CONCATENATE(referentes!W28, \" \",\"(\",referentes!T28,\")\")","v":"PMO - DAMAQUIEL (0565934OCEA)"},{"$f":"referentes!S28","v":56919}]
[null,null,null,null,null,null,null,null,null,null,null,null,null,null,null,null,null,null,null,null,null,null,null,null,null,null,null,null,{"$f":"IF(referentes!W31=\"\",\"\",referentes!W31)","v":"PMO - INCA INCA"},{"$f":"referentes!S31","v":56905},null,29,"PMO - ENSENADA RIONEGRO",29,"PMO - ENSENADA RIONEGRO",null,null,{"$f":"CONCATENATE(referentes!W29, \" \",\"(\",referentes!T29,\")\")","v":"PMO - DIBULLA (4409014OCEA)"},{"$f":"referentes!S29","v":56901}]
[null,null,null,null,null,null,null,null,null,null,null,null,null,null,null,null,null,null,null,null,null,null,null,null,null,null,null,null,{"$f":"IF(referentes!W32=\"\",\"\",referentes!W32)","v":"PMO - LA ENEA"},{"$f":"referentes!S32","v":56900},null,30,"PMO - INCA INCA",30,"PMO - INCA INCA",null,null,{"$f":"CONCATENATE(referentes!W30, \" \",\"(\",referentes!T30,\")\")","v":"PMO - ENSENADA RIONEGRO (0549036OCEA)"},{"$f":"referentes!S30","v":56924}]
[null,null,null,null,null,null,null,null,null,null,null,null,null,null,null,null,null,null,null,null,null,null,null,null,null,null,null,null,{"$f":"IF(referentes!W33=\"\",\"\",referentes!W33)","v":"PMO - LAGUNA BOCA COREA"},{"$f":"referentes!S33","v":56912},null,31,"PMO - LA ENEA",31,"PMO - LA ENEA",null,null,{"$f":"CONCATENATE(referentes!W31, \" \",\"(\",referentes!T31,\")\")","v":"PMO - INCA INCA (4700119OCEA)"},{"$f":"referentes!S31","v":56905}]
[null,null,null,null,null,null,null,null,null,null,null,null,null,null,null,null,null,null,null,null,null,null,null,null,null,null,null,null,{"$f":"IF(referentes!W34=\"\",\"\",referentes!W34)","v":"PMO - MANAURE"},{"$f":"referentes!S34","v":56892},null,32,"PMO - LAGUNA BOCA COREA",32,"PMO - LAGUNA BOCA COREA",null,null,{"$f":"CONCATENATE(referentes!W32, \" \",\"(\",referentes!T32,\")\")","v":"PMO - LA ENEA (4400113OCEA)"},{"$f":"referentes!S32","v":56900}]
[null,null,null,null,null,null,null,null,null,null,null,null,null,null,null,null,null,null,null,null,null,null,null,null,null,null,null,null,{"$f":"IF(referentes!W35=\"\",\"\",referentes!W35)","v":"PMO - MATUNTUGO"},{"$f":"referentes!S35","v":56923},null,33,"PMO - MANAURE",33,"PMO - MANAURE",null,null,{"$f":"CONCATENATE(referentes!W33, \" \",\"(\",referentes!T33,\")\")","v":"PMO - LAGUNA BOCA COREA (2367527OCEA)"},{"$f":"referentes!S33","v":56912}]
[null,null,null,null,null,null,null,null,null,null,null,null,null,null,null,null,null,null,null,null,null,null,null,null,null,null,null,null,{"$f":"IF(referentes!W36=\"\",\"\",referentes!W36)","v":"PMO - MAYAPO 1"},{"$f":"referentes!S36","v":56897},null,34,"PMO - MATUNTUGO",34,"PMO - MATUNTUGO",null,null,{"$f":"CONCATENATE(referentes!W34, \" \",\"(\",referentes!T34,\")\")","v":"PMO - MANAURE (4456007OCEA)"},{"$f":"referentes!S34","v":56892}]
[null,null,null,null,null,null,null,null,null,null,null,null,null,null,null,null,null,null,null,null,null,null,null,null,null,null,null,null,{"$f":"IF(referentes!W37=\"\",\"\",referentes!W37)","v":"PMO - MAYAPO 2"},{"$f":"referentes!S37","v":56896},null,35,"PMO - MAYAPO 1",35,"PMO - MAYAPO 1",null,null,{"$f":"CONCATENATE(referentes!W35, \" \",\"(\",referentes!T35,\")\")","v":"PMO - MATUNTUGO (0583745OCEA)"},{"$f":"referentes!S35","v":56923}]
[null,null,null,null,null,null,null,null,null,null,null,null,null,null,null,null,null,null,null,null,null,null,null,null,null,null,null,null,{"$f":"IF(referentes!W38=\"\",\"\",referentes!W38)","v":"PMO - MUSICHI 1"},{"$f":"referentes!S38","v":56894},null,36,"PMO - MAYAPO 2",36,"PMO - MAYAPO 2",null,null,{"$f":"CONCATENATE(referentes!W36, \" \",\"(\",referentes!T36,\")\")","v":"PMO - MAYAPO 1 (4456010OCEA)"},{"$f":"referentes!S36","v":56897}]
[null,null,null,null,null,null,null,null,null,null,null,null,null,null,null,null,null,null,null,null,null,null,null,null,null,null,null,null,{"$f":"IF(referentes!W39=\"\",\"\",referentes!W39)","v":"PMO - MUSICHI 2"},{"$f":"referentes!S39","v":56893},null,37,"PMO - MUSICHI 1",37,"PMO - MUSICHI 1",null,null,{"$f":"CONCATENATE(referentes!W37, \" \",\"(\",referentes!T37,\")\")","v":"PMO - MAYAPO 2 (4456010OCEA)"},{"$f":"referentes!S37","v":56896}]
[null,null,null,null,null,null,null,null,null,null,null,null,null,null,null,null,null,null,null,null,null,null,null,null,null,null,null,null,{"$f":"IF(referentes!W40=\"\",\"\",referentes!W40)","v":"PMO - PASO NUEVO"},{"$f":"referentes!S40","v":56913},null,38,"PMO - MUSICHI 2",38,"PMO - MUSICHI 2",null,null,{"$f":"CONCATENATE(referentes!W38, \" \",\"(\",referentes!T38,\")\")","v":"PMO - MUSICHI 1 (4456008OCEA)"},{"$f":"referentes!S38","v":56894}]
[null,null,null,null,null,null,null,null,null,null,null,null,null,null,null,null,null,null,null,null,null,null,null,null,null,null,null,null,{"$f":"IF(referentes!W41=\"\",\"\",referentes!W41)","v":"PMO - PLAYA BLANCA"},{"$f":"referentes!S41","v":56909},null,39,"PMO - PASO NUEVO",39,"PMO - PASO NUEVO",null,null,{"$f":"CONCATENATE(referentes!W39, \" \",\"(\",referentes!T39,\")\")","v":"PMO - MUSICHI 2 (4456008OCEA)"},{"$f":"referentes!S39","v":56893}]
[null,null,null,null,null,null,null,null,null,null,null,null,null,null,null,null,null,null,null,null,null,null,null,null,null,null,null,null,{"$f":"IF(referentes!W42=\"\",\"\",referentes!W42)","v":"PMO - PLAYA LA MARTINA"},{"$f":"referentes!S42","v":56920},null,40,"PMO - PLAYA BLANCA",40,"PMO - PLAYA BLANCA",null,null,{"$f":"CONCATENATE(referentes!W40, \" \",\"(\",referentes!T40,\")\")","v":"PMO - PASO NUEVO (2350028OCEA)"},{"$f":"referentes!S40","v":56913}]
[null,null,null,null,null,null,null,null,null,null,null,null,null,null,null,null,null,null,null,null,null,null,null,null,null,null,null,null,{"$f":"IF(referentes!W43=\"\",\"\",referentes!W43)","v":"PMO - PLAYA MIREYA"},{"$f":"referentes!S43","v":56911},null,41,"PMO - PLAYA LA MARTINA",41,"PMO - PLAYA LA MARTINA",null,null,{"$f":"CONCATENATE(referentes!W41, \" \",\"(\",referentes!T41,\")\")","v":"PMO - PLAYA BLANCA (2367246OCEA)"},{"$f":"referentes!S41","v":56909}]
[null,null,null,null,null,null,null,null,null,null,null,null,null,null,null,null,null,null,null,null,null,null,null,null,null,null,null,null,{"$f":"IF(referentes!W44=\"\",\"\",referentes!W44)","v":"PMO - PUEBLO VIEJO"},{"$f":"referentes!S44","v":56907},null,42,"PMO - PLAYA MIREYA",42,"PMO - PLAYA MIREYA",null,null,{"$f":"CONCATENATE(referentes!W42, \" \",\"(\",referentes!T42,\")\")","v":"PMO - PLAYA LA MARTINA (0583739OCEA)"},{"$f":"referentes!S42","v":56920}]
[null,null,null,null,null,null,null,null,null,null,null,null,null,null,null,null,null,null,null,null,null,null,null,null,null,null,null,null,{"$f":"IF(referentes!W45=\"\",\"\",referentes!W45)","v":"PMO - PUERTO ESCONDIDO"},{"$f":"referentes!S45","v":56917},null,43,"PMO - PUEBLO VIEJO",43,"PMO - PUEBLO VIEJO",null,null,{"$f":"CONCATENATE(referentes!W43, \" \",\"(\",referentes!T43,\")\")","v":"PMO - PLAYA MIREYA (2367525OCEA)"},{"$f":"referentes!S43","v":56911}]
[null,null,null,null,null,null,null,null,null,null,null,null,null,null,null,null,null,null,null,null,null,null,null,null,null,null,null,null,{"$f":"IF(referentes!W46=\"\",\"\",referentes!W46)","v":"PMO - PUNTA MESTIZO"},{"$f":"referentes!S46","v":56910},null,44,"PMO - PUERTO ESCONDIDO",44,"PMO - PUERTO ESCONDIDO",null,null,{"$f":"CONCATENATE(referentes!W44, \" \",\"(\",referentes!T44,\")\")","v":"PMO - PUEBLO VIEJO (4757022OCEA)"},{"$f":"referentes!S44","v":56907}]
[null,null,null,null,null,null,null,null,null,null,null,null,null,null,null,null,null,null,null,null,null,null,null,null,null,null,null,null,{"$f":"IF(referentes!W47=\"\",\"\",referentes!W47)","v":"PMO - RIO HOBO"},{"$f":"referentes!S47","v":56918},null,45,"PMO - PUNTA MESTIZO",45,"PMO - PUNTA MESTIZO",null,null,{"$f":"CONCATENATE(referentes!W45, \" \",\"(\",referentes!T45,\")\")","v":"PMO - PUERTO ESCONDIDO (2357432OCEA)"},{"$f":"referentes!S45","v":56917}]
[null,null,null,null,null,null,null,null,null,null,null,null,null,null,null,null,null,null,null,null,null,null,null,null,null,null,null,null,{"$f":"IF(referentes!W48=\"\",\"\",referentes!W48)","v":"PMO - RIO LEON"},{"$f":"referentes!S48","v":56922},null,46,"PMO - RIO HOBO",46,"PMO - RIO HOBO",null,null,{"$f":"CONCATENATE(referentes!W46, \" \",\"(\",referentes!T46,\")\")","v":"PMO - PUNTA MESTIZO (2367224OCEA)"},{"$f":"referentes!S46","v":56910}]
[null,null,null,null,null,null,null,null,null,null,null,null,null,null,null,null,null,null,null,null,null,null,null,null,null,null,null,null,{"$f":"IF(referentes!W49=\"\",\"\",referentes!W49)","v":"PMO - RIOHACHA"},{"$f":"referentes!S49","v":56899},null,47,"PMO - RIO LEON",47,"PMO - RIO LEON",null,null,{"$f":"CONCATENATE(referentes!W47, \" \",\"(\",referentes!T47,\")\")","v":"PMO - RIO HOBO (0505133OCEA)"},{"$f":"referentes!S47","v":56918}]
[null,null,null,null,null,null,null,null,null,null,null,null,null,null,null,null,null,null,null,null,null,null,null,null,null,null,null,null,{"$f":"IF(referentes!W50=\"\",\"\",referentes!W50)","v":"PMO - RÍO CEDRO"},{"$f":"referentes!S50","v":56915},null,48,"PMO - RIOHACHA",48,"PMO - RIOHACHA",null,null,{"$f":"CONCATENATE(referentes!W48, \" \",\"(\",referentes!T48,\")\")","v":"PMO - RIO LEON (0583743OCEA)"},{"$f":"referentes!S48","v":56922}]
[null,null,null,null,null,null,null,null,null,null,null,null,null,null,null,null,null,null,null,null,null,null,null,null,null,null,null,null,{"$f":"IF(referentes!W51=\"\",\"\",referentes!W51)","v":"PMO - SANTA MARTA"},{"$f":"referentes!S51","v":56904},null,49,"PMO - RÍO CEDRO",49,"PMO - RÍO CEDRO",null,null,{"$f":"CONCATENATE(referentes!W49, \" \",\"(\",referentes!T49,\")\")","v":"PMO - RIOHACHA (4400112OCEA)"},{"$f":"referentes!S49","v":56899}]
[null,null,null,null,null,null,null,null,null,null,null,null,null,null,null,null,null,null,null,null,null,null,null,null,null,null,null,null,{"$f":"IF(referentes!W52=\"\",\"\",referentes!W52)","v":"PMO - SANTA ROSA"},{"$f":"referentes!S52","v":56891},null,50,"PMO - SANTA MARTA",50,"PMO - SANTA MARTA",null,null,{"$f":"CONCATENATE(referentes!W50, \" \",\"(\",referentes!T50,\")\")","v":"PMO - RÍO CEDRO (2350030OCEA)"},{"$f":"referentes!S50","v":56915}]
[null,null,null,null,null,null,null,null,null,null,null,null,null,null,null,null,null,null,null,null,null,null,null,null,null,null,null,null,{"$f":"IF(referentes!W53=\"\",\"\",referentes!W53)","v":"PMO - TAGANGA"},{"$f":"referentes!S53","v":56903},null,51,"PMO - SANTA ROSA",51,"PMO - SANTA ROSA",null,null,{"$f":"CONCATENATE(referentes!W51, \" \",\"(\",referentes!T51,\")\")","v":"PMO - SANTA MARTA (4700118OCEA)"},{"$f":"referentes!S51","v":56904}]
[null,null,null,null,null,null,null,null,null,null,null,null,null,null,null,null,null,null,null,null,null,null,null,null,null,null,null,null,{"$f":"IF(referentes!W54=\"\",\"\",referentes!W54)","v":"PMO - TASAJERA"},{"$f":"referentes!S54","v":56908},null,52,"PMO - TAGANGA",52,"PMO - TAGANGA",null,null,{"$f":"CONCATENATE(referentes!W52, \" \",\"(\",referentes!T52,\")\")","v":"PMO - SANTA ROSA (4456006OCEA)"},{"$f":"referentes!S52","v":56891}]
[null,null,null,null,null,null,null,null,null,null,null,null,null,null,null,null,null,null,null,null,null,null,null,null,null,null,null,null,{"$f":"IF(referentes!W55=\"\",\"\",referentes!W55)","v":"Paso Nuevo1"},{"$f":"referentes!S55","v":55973},null,53,"PMO - TASAJERA",53,"PMO - TASAJERA",null,null,{"$f":"CONCATENATE(referentes!W53, \" \",\"(\",referentes!T53,\")\")","v":"PMO - TAGANGA (4700117OCEA)"},{"$f":"referentes!S53","v":56903}]
[null,null,null,null,null,null,null,null,null,null,null,null,null,null,null,null,null,null,null,null,null,null,null,null,null,null,null,null,{"$f":"IF(referentes!W56=\"\",\"\",referentes!W56)","v":"Playa Mireya"},{"$f":"referentes!S56","v":56689},null,54,"Paso Nuevo1",54,"Paso Nuevo1",null,null,{"$f":"CONCATENATE(referentes!W54, \" \",\"(\",referentes!T54,\")\")","v":"PMO - TASAJERA (4757023OCEA)"},{"$f":"referentes!S54","v":56908}]
[null,null,null,null,null,null,null,null,null,null,null,null,null,null,null,null,null,null,null,null,null,null,null,null,null,null,null,null,{"$f":"IF(referentes!W57=\"\",\"\",referentes!W57)","v":"Puerto Escondido1"},{"$f":"referentes!S57","v":55969},null,55,"Playa Mireya",55,"Playa Mireya",null,null,{"$f":"CONCATENATE(referentes!W55, \" \",\"(\",referentes!T55,\")\")","v":"Paso Nuevo1 (Paso_Nuevo)"},{"$f":"referentes!S55","v":55973}]
[null,null,null,null,null,null,null,null,null,null,null,null,null,null,null,null,null,null,null,null,null,null,null,null,null,null,null,null,{"$f":"IF(referentes!W58=\"\",\"\",referentes!W58)","v":"Punta Mestizo1"},{"$f":"referentes!S58","v":55975},null,56,"Puerto Escondido1",56,"Puerto Escondido1",null,null,{"$f":"CONCATENATE(referentes!W56, \" \",\"(\",referentes!T56,\")\")","v":"Playa Mireya (playa_Mireya)"},{"$f":"referentes!S56","v":56689}]
[null,null,null,null,null,null,null,null,null,null,null,null,null,null,null,null,null,null,null,null,null,null,null,null,null,null,null,null,{"$f":"IF(referentes!W59=\"\",\"\",referentes!W59)","v":"Rincon Mosquito - Bello Horizonte"},{"$f":"referentes!S59","v":55960},null,57,"Punta Mestizo1",57,"Punta Mestizo1",null,null,{"$f":"CONCATENATE(referentes!W57, \" \",\"(\",referentes!T57,\")\")","v":"Puerto Escondido1 (Puerto_Escondido)"},{"$f":"referentes!S57","v":55969}]
[null,null,null,null,null,null,null,null,null,null,null,null,null,null,null,null,null,null,null,null,null,null,null,null,null,null,null,null,{"$f":"IF(referentes!W60=\"\",\"\",referentes!W60)","v":"Rio Cedro1"},{"$f":"referentes!S60","v":55971},null,58,"Rincon Mosquito - Bello Horizonte",58,"Rincon Mosquito - Bello Horizonte",null,null,{"$f":"CONCATENATE(referentes!W58, \" \",\"(\",referentes!T58,\")\")","v":"Punta Mestizo1 (Punta_Mestizos)"},{"$f":"referentes!S58","v":55975}]
[null,null,null,null,null,null,null,null,null,null,null,null,null,null,null,null,null,null,null,null,null,null,null,null,null,null,null,null,{"$f":"IF(referentes!W61=\"\",\"\",referentes!W61)","v":"Rio Currulao1"},{"$f":"referentes!S61","v":55978},null,59,"Rio Cedro1",59,"Rio Cedro1",null,null,{"$f":"CONCATENATE(referentes!W59, \" \",\"(\",referentes!T59,\")\")","v":"Rincon Mosquito - Bello Horizonte (Rincon_Mosquito)"},{"$f":"referentes!S59","v":55960}]
[null,null,null,null,null,null,null,null,null,null,null,null,null,null,null,null,null,null,null,null,null,null,null,null,null,null,null,null,{"$f":"IF(referentes!W62=\"\",\"\",referentes!W62)","v":"Rio Jobo1"},{"$f":"referentes!S62","v":55983},null,60,"Rio Currulao1",60,"Rio Currulao1",null,null,{"$f":"CONCATENATE(referentes!W60, \" \",\"(\",referentes!T60,\")\")","v":"Rio Cedro1 (Rio_Cedro)"},{"$f":"referentes!S60","v":55971}]
[null,null,null,null,null,null,null,null,null,null,null,null,null,null,null,null,null,null,null,null,null,null,null,null,null,null,null,null,{"$f":"IF(referentes!W63=\"\",\"\",referentes!W63)","v":""},{"$f":"referentes!S63","v":0},null,61,"Rio Jobo1",61,"Rio Jobo1",null,null,{"$f":"CONCATENATE(referentes!W61, \" \",\"(\",referentes!T61,\")\")","v":"Rio Currulao1 (Rio_Currulao)"},{"$f":"referentes!S61","v":55978}]
[null,null,null,null,null,null,null,null,null,null,null,null,null,null,null,null,null,null,null,null,null,null,null,null,null,null,null,null,{"$f":"IF(referentes!W64=\"\",\"\",referentes!W64)","v":""},{"$f":"referentes!S64","v":0},null,62,0,1290,"X",null,null,{"$f":"CONCATENATE(referentes!W62, \" \",\"(\",referentes!T62,\")\")","v":"Rio Jobo1 (Rio_Hobo)"},{"$f":"referentes!S62","v":55983}]
[null,null,null,null,null,null,null,null,null,null,null,null,null,null,null,null,null,null,null,null,null,null,null,null,null,null,null,null,{"$f":"IF(referentes!W65=\"\",\"\",referentes!W65)","v":""},{"$f":"referentes!S65","v":0},null,63,0,1290,"X",null,null,{"$f":"CONCATENATE(referentes!W63, \" \",\"(\",referentes!T63,\")\")","v":" ()"},{"$f":"referentes!S63","v":0}]
[null,null,null,null,null,null,null,null,null,null,null,null,null,null,null,null,null,null,null,null,null,null,null,null,null,null,null,null,{"$f":"IF(referentes!W66=\"\",\"\",referentes!W66)","v":""},{"$f":"referentes!S66","v":0},null,64,0,1290,"X",null,null,{"$f":"CONCATENATE(referentes!W64, \" \",\"(\",referentes!T64,\")\")","v":" ()"},{"$f":"referentes!S64","v":0}]
[null,null,null,null,null,null,null,null,null,null,null,null,null,null,null,null,null,null,null,null,null,null,null,null,null,null,null,null,{"$f":"IF(referentes!W67=\"\",\"\",referentes!W67)","v":""},{"$f":"referentes!S67","v":0},null,65,0,1290,"X",null,null,{"$f":"CONCATENATE(referentes!W65, \" \",\"(\",referentes!T65,\")\")","v":" ()"},{"$f":"referentes!S65","v":0}]
[null,null,null,null,null,null,null,null,null,null,null,null,null,null,null,null,null,null,null,null,null,null,null,null,null,null,null,null,{"$f":"IF(referentes!W68=\"\",\"\",referentes!W68)","v":""},{"$f":"referentes!S68","v":0},null,66,{"$f":"IF(AC70=\"\",0,AC70)","v":0},{"$f":"IF(AG71=0,MAX($AF$6:$AF$1294)+1,AF71)","v":1290},{"$f":"IFERROR(VLOOKUP(SMALL($AH$6:$AH$1294,AF71),$AF$6:$AH$1294,2,FALSE),\"X\")","v":"X"},null,null,{"$f":"CONCATENATE(referentes!W66, \" \",\"(\",referentes!T66,\")\")","v":" ()"},{"$f":"referentes!S66","v":0}]
[null,null,null,null,null,null,null,null,null,null,null,null,null,null,null,null,null,null,null,null,null,null,null,null,null,null,null,null,{"$f":"IF(referentes!W69=\"\",\"\",referentes!W69)","v":""},{"$f":"referentes!S69","v":0},null,67,0,1290,"X",null,null,{"$f":"CONCATENATE(referentes!W67, \" \",\"(\",referentes!T67,\")\")","v":" ()"},{"$f":"referentes!S67","v":0}]
[null,null,null,null,null,null,null,null,null,null,null,null,null,null,null,null,null,null,null,null,null,null,null,null,null,null,null,null,{"$f":"IF(referentes!W70=\"\",\"\",referentes!W70)","v":""},{"$f":"referentes!S70","v":0},null,68,0,1290,"X",null,null,{"$f":"CONCATENATE(referentes!W68, \" \",\"(\",referentes!T68,\")\")","v":" ()"},{"$f":"referentes!S68","v":0}]
[null,null,null,null,null,null,null,null,null,null,null,null,null,null,null,null,null,null,null,null,null,null,null,null,null,null,null,null,{"$f":"IF(referentes!W71=\"\",\"\",referentes!W71)","v":""},{"$f":"referentes!S71","v":0},null,69,0,1290,"X",null,null,{"$f":"CONCATENATE(referentes!W69, \" \",\"(\",referentes!T69,\")\")","v":" ()"},{"$f":"referentes!S69","v":0}]
[null,null,null,null,null,null,null,null,null,null,null,null,null,null,null,null,null,null,null,null,null,null,null,null,null,null,null,null,{"$f":"IF(referentes!W72=\"\",\"\",referentes!W72)","v":""},{"$f":"referentes!S72","v":0},null,70,0,1290,"X",null,null,{"$f":"CONCATENATE(referentes!W70, \" \",\"(\",referentes!T70,\")\")","v":" ()"},{"$f":"referentes!S70","v":0}]
[null,null,null,null,null,null,null,null,null,null,null,null,null,null,null,null,null,null,null,null,null,null,null,null,null,null,null,null,{"$f":"IF(referentes!W73=\"\",\"\",referentes!W73)","v":""},{"$f":"referentes!S73","v":0},null,71,0,1290,"X",null,null,{"$f":"CONCATENATE(referentes!W71, \" \",\"(\",referentes!T71,\")\")","v":" ()"},{"$f":"referentes!S71","v":0}]
[null,null,null,null,null,null,null,null,null,null,null,null,null,null,null,null,null,null,null,null,null,null,null,null,null,null,null,null,{"$f":"IF(referentes!W74=\"\",\"\",referentes!W74)","v":""},{"$f":"referentes!S74","v":0},null,72,0,1290,"X",null,null,{"$f":"CONCATENATE(referentes!W72, \" \",\"(\",referentes!T72,\")\")","v":" ()"},{"$f":"referentes!S72","v":0}]
[null,null,null,null,null,null,null,null,null,null,null,null,null,null,null,null,null,null,null,null,null,null,null,null,null,null,null,null,{"$f":"IF(referentes!W75=\"\",\"\",referentes!W75)","v":""},{"$f":"referentes!S75","v":0},null,73,0,1290,"X",null,null,{"$f":"CONCATENATE(referentes!W73, \" \",\"(\",referentes!T73,\")\")","v":" ()"},{"$f":"referentes!S73","v":0}]
[null,null,null,null,null,null,null,null,null,null,null,null,null,null,null,null,null,null,null,null,null,null,null,null,null,null,null,null,{"$f":"IF(referentes!W76=\"\",\"\",referentes!W76)","v":""},{"$f":"referentes!S76","v":0},null,74,0,1290,"X",null,null,{"$f":"CONCATENATE(referentes!W74, \" \",\"(\",referentes!T74,\")\")","v":" ()"},{"$f":"referentes!S74","v":0}]
[null,null,null,null,null,null,null,null,null,null,null,null,null,null,null,null,null,null,null,null,null,null,null,null,null,null,null,null,{"$f":"IF(referentes!W77=\"\",\"\",referentes!W77)","v":""},{"$f":"referentes!S77","v":0},null,75,0,1290,"X",null,null,{"$f":"CONCATENATE(referentes!W75, \" \",\"(\",referentes!T75,\")\")","v":" ()"},{"$f":"referentes!S75","v":0}]
[null,null,null,null,null,null,null,null,null,null,null,null,null,null,null,null,null,null,null,null,null,null,null,null,null,null,null,null,{"$f":"IF(referentes!W78=\"\",\"\",referentes!W78)","v":""},{"$f":"referentes!S78","v":0},null,76,0,1290,"X",null,null,{"$f":"CONCATENATE(referentes!W76, \" \",\"(\",referentes!T76,\")\")","v":" ()"},{"$f":"referentes!S76","v":0}]
[null,null,null,null,null,null,null,null,null,null,null,null,null,null,null,null,null,null,null,null,null,null,null,null,null,null,null,null,{"$f":"IF(referentes!W79=\"\",\"\",referentes!W79)","v":""},{"$f":"referentes!S79","v":0},null,77,0,1290,"X",null,null,{"$f":"CONCATENATE(referentes!W77, \" \",\"(\",referentes!T77,\")\")","v":" ()"},{"$f":"referentes!S77","v":0}]
[null,null,null,null,null,null,null,null,null,null,null,null,null,null,null,null,null,null,null,null,null,null,null,null,null,null,null,null,{"$f":"IF(referentes!W80=\"\",\"\",referentes!W80)","v":""},{"$f":"referentes!S80","v":0},null,78,0,1290,"X",null,null,{"$f":"CONCATENATE(referentes!W78, \" \",\"(\",referentes!T78,\")\")","v":" ()"},{"$f":"referentes!S78","v":0}]
[null,null,null,null,null,null,null,null,null,null,null,null,null,null,null,null,null,null,null,null,null,null,null,null,null,null,null,null,{"$f":"IF(referentes!W81=\"\",\"\",referentes!W81)","v":""},{"$f":"referentes!S81","v":0},null,79,0,1290,"X",null,null,{"$f":"CONCATENATE(referentes!W79, \" \",\"(\",referentes!T79,\")\")","v":" ()"},{"$f":"referentes!S79","v":0}]
[null,null,null,null,null,null,null,null,null,null,null,null,null,null,null,null,null,null,null,null,null,null,null,null,null,null,null,null,{"$f":"IF(referentes!W82=\"\",\"\",referentes!W82)","v":""},{"$f":"referentes!S82","v":0},null,80,0,1290,"X",null,null,{"$f":"CONCATENATE(referentes!W80, \" \",\"(\",referentes!T80,\")\")","v":" ()"},{"$f":"referentes!S80","v":0}]
[null,null,null,null,null,null,null,null,null,null,null,null,null,null,null,null,null,null,null,null,null,null,null,null,null,null,null,null,{"$f":"IF(referentes!W83=\"\",\"\",referentes!W83)","v":""},{"$f":"referentes!S83","v":0},null,81,0,1290,"X",null,null,{"$f":"CONCATENATE(referentes!W81, \" \",\"(\",referentes!T81,\")\")","v":" ()"},{"$f":"referentes!S81","v":0}]
[null,null,null,null,null,null,null,null,null,null,null,null,null,null,null,null,null,null,null,null,null,null,null,null,null,null,null,null,{"$f":"IF(referentes!W84=\"\",\"\",referentes!W84)","v":""},{"$f":"referentes!S84","v":0},null,82,0,1290,"X",null,null,{"$f":"CONCATENATE(referentes!W82, \" \",\"(\",referentes!T82,\")\")","v":" ()"},{"$f":"referentes!S82","v":0}]
[null,null,null,null,null,null,null,null,null,null,null,null,null,null,null,null,null,null,null,null,null,null,null,null,null,null,null,null,{"$f":"IF(referentes!W85=\"\",\"\",referentes!W85)","v":""},{"$f":"referentes!S85","v":0},null,83,0,1290,"X",null,null,{"$f":"CONCATENATE(referentes!W83, \" \",\"(\",referentes!T83,\")\")","v":" ()"},{"$f":"referentes!S83","v":0}]
[null,null,null,null,null,null,null,null,null,null,null,null,null,null,null,null,null,null,null,null,null,null,null,null,null,null,null,null,{"$f":"IF(referentes!W86=\"\",\"\",referentes!W86)","v":""},{"$f":"referentes!S86","v":0},null,84,0,1290,"X",null,null,{"$f":"CONCATENATE(referentes!W84, \" \",\"(\",referentes!T84,\")\")","v":" ()"},{"$f":"referentes!S84","v":0}]
[null,null,null,null,null,null,null,null,null,null,null,null,null,null,null,null,null,null,null,null,null,null,null,null,null,null,null,null,{"$f":"IF(referentes!W87=\"\",\"\",referentes!W87)","v":""},{"$f":"referentes!S87","v":0},null,85,0,1290,"X",null,null,{"$f":"CONCATENATE(referentes!W85, \" \",\"(\",referentes!T85,\")\")","v":" ()"},{"$f":"referentes!S85","v":0}]
[null,null,null,null,null,null,null,null,null,null,null,null,null,null,null,null,null,null,null,null,null,null,null,null,null,null,null,null,{"$f":"IF(referentes!W88=\"\",\"\",referentes!W88)","v":""},{"$f":"referentes!S88","v":0},null,86,0,1290,"X",null,null,{"$f":"CONCATENATE(referentes!W86, \" \",\"(\",referentes!T86,\")\")","v":" ()"},{"$f":"referentes!S86","v":0}]
[null,null,null,null,null,null,null,null,null,null,null,null,null,null,null,null,null,null,null,null,null,null,null,null,null,null,null,null,{"$f":"IF(referentes!W89=\"\",\"\",referentes!W89)","v":""},{"$f":"referentes!S89","v":0},null,87,0,1290,"X",null,null,{"$f":"CONCATENATE(referentes!W87, \" \",\"(\",referentes!T87,\")\")","v":" ()"},{"$f":"referentes!S87","v":0}]
[null,null,null,null,null,null,null,null,null,null,null,null,null,null,null,null,null,null,null,null,null,null,null,null,null,null,null,null,{"$f":"IF(referentes!W90=\"\",\"\",referentes!W90)","v":""},{"$f":"referentes!S90","v":0},null,88,0,1290,"X",null,null,{"$f":"CONCATENATE(referentes!W88, \" \",\"(\",referentes!T88,\")\")","v":" ()"},{"$f":"referentes!S88","v":0}]
[null,null,null,null,null,null,null,null,null,null,null,null,null,null,null,null,null,null,null,null,null,null,null,null,null,null,null,null,{"$f":"IF(referentes!W91=\"\",\"\",referentes!W91)","v":""},{"$f":"referentes!S91","v":0},null,89,0,1290,"X",null,null,{"$f":"CONCATENATE(referentes!W89, \" \",\"(\",referentes!T89,\")\")","v":" ()"},{"$f":"referentes!S89","v":0}]
[null,null,null,null,null,null,null,null,null,null,null,null,null,null,null,null,null,null,null,null,null,null,null,null,null,null,null,null,{"$f":"IF(referentes!W92=\"\",\"\",referentes!W92)","v":""},{"$f":"referentes!S92","v":0},null,90,0,1290,"X",null,null,{"$f":"CONCATENATE(referentes!W90, \" \",\"(\",referentes!T90,\")\")","v":" ()"},{"$f":"referentes!S90","v":0}]
[null,null,null,null,null,null,null,null,null,null,null,null,null,null,null,null,null,null,null,null,null,null,null,null,null,null,null,null,{"$f":"IF(referentes!W93=\"\",\"\",referentes!W93)","v":""},{"$f":"referentes!S93","v":0},null,91,0,1290,"X",null,null,{"$f":"CONCATENATE(referentes!W91, \" \",\"(\",referentes!T91,\")\")","v":" ()"},{"$f":"referentes!S91","v":0}]
[null,null,null,null,null,null,null,null,null,null,null,null,null,null,null,null,null,null,null,null,null,null,null,null,null,null,null,null,{"$f":"IF(referentes!W94=\"\",\"\",referentes!W94)","v":""},{"$f":"referentes!S94","v":0},null,92,0,1290,"X",null,null,{"$f":"CONCATENATE(referentes!W92, \" \",\"(\",referentes!T92,\")\")","v":" ()"},{"$f":"referentes!S92","v":0}]
[null,null,null,null,null,null,null,null,null,null,null,null,null,null,null,null,null,null,null,null,null,null,null,null,null,null,null,null,{"$f":"IF(referentes!W95=\"\",\"\",referentes!W95)","v":""},{"$f":"referentes!S95","v":0},null,93,0,1290,"X",null,null,{"$f":"CONCATENATE(referentes!W93, \" \",\"(\",referentes!T93,\")\")","v":" ()"},{"$f":"referentes!S93","v":0}]
[null,null,null,null,null,null,null,null,null,null,null,null,null,null,null,null,null,null,null,null,null,null,null,null,null,null,null,null,{"$f":"IF(referentes!W96=\"\",\"\",referentes!W96)","v":""},{"$f":"referentes!S96","v":0},null,94,0,1290,"X",null,null,{"$f":"CONCATENATE(referentes!W94, \" \",\"(\",referentes!T94,\")\")","v":" ()"},{"$f":"referentes!S94","v":0}]
[null,null,null,null,null,null,null,null,null,null,null,null,null,null,null,null,null,null,null,null,null,null,null,null,null,null,null,null,{"$f":"IF(referentes!W97=\"\",\"\",referentes!W97)","v":""},{"$f":"referentes!S97","v":0},null,95,0,1290,"X",null,null,{"$f":"CONCATENATE(referentes!W95, \" \",\"(\",referentes!T95,\")\")","v":" ()"},{"$f":"referentes!S95","v":0}]
[null,null,null,null,null,null,null,null,null,null,null,null,null,null,null,null,null,null,null,null,null,null,null,null,null,null,null,null,{"$f":"IF(referentes!W98=\"\",\"\",referentes!W98)","v":""},{"$f":"referentes!S98","v":0},null,96,0,1290,"X",null,null,{"$f":"CONCATENATE(referentes!W96, \" \",\"(\",referentes!T96,\")\")","v":" ()"},{"$f":"referentes!S96","v":0}]
[null,null,null,null,null,null,null,null,null,null,null,null,null,null,null,null,null,null,null,null,null,null,null,null,null,null,null,null,{"$f":"IF(referentes!W99=\"\",\"\",referentes!W99)","v":""},{"$f":"referentes!S99","v":0},null,97,0,1290,"X",null,null,{"$f":"CONCATENATE(referentes!W97, \" \",\"(\",referentes!T97,\")\")","v":" ()"},{"$f":"referentes!S97","v":0}]
[null,null,null,null,null,null,null,null,null,null,null,null,null,null,null,null,null,null,null,null,null,null,null,null,null,null,null,null,{"$f":"IF(referentes!W100=\"\",\"\",referentes!W100)","v":""},{"$f":"referentes!S100","v":0},null,98,0,1290,"X",null,null,{"$f":"CONCATENATE(referentes!W98, \" \",\"(\",referentes!T98,\")\")","v":" ()"},{"$f":"referentes!S98","v":0}]
[null,null,null,null,null,null,null,null,null,null,null,null,null,null,null,null,null,null,null,null,null,null,null,null,null,null,null,null,{"$f":"IF(referentes!W101=\"\",\"\",referentes!W101)","v":""},{"$f":"referentes!S101","v":0},null,99,0,1290,"X",null,null,{"$f":"CONCATENATE(referentes!W99, \" \",\"(\",referentes!T99,\")\")","v":" ()"},{"$f":"referentes!S99","v":0}]
[null,null,null,null,null,null,null,null,null,null,null,null,null,null,null,null,null,null,null,null,null,null,null,null,null,null,null,null,{"$f":"IF(referentes!W102=\"\",\"\",referentes!W102)","v":""},{"$f":"referentes!S102","v":0},null,100,0,1290,"X",null,null,{"$f":"CONCATENATE(referentes!W100, \" \",\"(\",referentes!T100,\")\")","v":" ()"},{"$f":"referentes!S100","v":0}]
[null,null,null,null,null,null,null,null,null,null,null,null,null,null,null,null,null,null,null,null,null,null,null,null,null,null,null,null,{"$f":"IF(referentes!W103=\"\",\"\",referentes!W103)","v":""},{"$f":"referentes!S103","v":0},null,101,0,1290,"X",null,null,{"$f":"CONCATENATE(referentes!W101, \" \",\"(\",referentes!T101,\")\")","v":" ()"},{"$f":"referentes!S101","v":0}]
[null,null,null,null,null,null,null,null,null,null,null,null,null,null,null,null,null,null,null,null,null,null,null,null,null,null,null,null,{"$f":"IF(referentes!W104=\"\",\"\",referentes!W104)","v":""},{"$f":"referentes!S104","v":0},null,102,0,1290,"X",null,null,{"$f":"CONCATENATE(referentes!W102, \" \",\"(\",referentes!T102,\")\")","v":" ()"},{"$f":"referentes!S102","v":0}]
[null,null,null,null,null,null,null,null,null,null,null,null,null,null,null,null,null,null,null,null,null,null,null,null,null,null,null,null,{"$f":"IF(referentes!W105=\"\",\"\",referentes!W105)","v":""},{"$f":"referentes!S105","v":0},null,103,0,1290,"X",null,null,{"$f":"CONCATENATE(referentes!W103, \" \",\"(\",referentes!T103,\")\")","v":" ()"},{"$f":"referentes!S103","v":0}]
[null,null,null,null,null,null,null,null,null,null,null,null,null,null,null,null,null,null,null,null,null,null,null,null,null,null,null,null,{"$f":"IF(referentes!W106=\"\",\"\",referentes!W106)","v":""},{"$f":"referentes!S106","v":0},null,104,0,1290,"X",null,null,{"$f":"CONCATENATE(referentes!W104, \" \",\"(\",referentes!T104,\")\")","v":" ()"},{"$f":"referentes!S104","v":0}]
[null,null,null,null,null,null,null,null,null,null,null,null,null,null,null,null,null,null,null,null,null,null,null,null,null,null,null,null,{"$f":"IF(referentes!W107=\"\",\"\",referentes!W107)","v":""},{"$f":"referentes!S107","v":0},null,105,0,1290,"X",null,null,{"$f":"CONCATENATE(referentes!W105, \" \",\"(\",referentes!T105,\")\")","v":" ()"},{"$f":"referentes!S105","v":0}]
[null,null,null,null,null,null,null,null,null,null,null,null,null,null,null,null,null,null,null,null,null,null,null,null,null,null,null,null,{"$f":"IF(referentes!W108=\"\",\"\",referentes!W108)","v":""},{"$f":"referentes!S108","v":0},null,106,0,1290,"X",null,null,{"$f":"CONCATENATE(referentes!W106, \" \",\"(\",referentes!T106,\")\")","v":" ()"},{"$f":"referentes!S106","v":0}]
[null,null,null,null,null,null,null,null,null,null,null,null,null,null,null,null,null,null,null,null,null,null,null,null,null,null,null,null,{"$f":"IF(referentes!W109=\"\",\"\",referentes!W109)","v":""},{"$f":"referentes!S109","v":0},null,107,0,1290,"X",null,null,{"$f":"CONCATENATE(referentes!W107, \" \",\"(\",referentes!T107,\")\")","v":" ()"},{"$f":"referentes!S107","v":0}]
[null,null,null,null,null,null,null,null,null,null,null,null,null,null,null,null,null,null,null,null,null,null,null,null,null,null,null,null,{"$f":"IF(referentes!W110=\"\",\"\",referentes!W110)","v":""},{"$f":"referentes!S110","v":0},null,108,0,1290,"X",null,null,{"$f":"CONCATENATE(referentes!W108, \" \",\"(\",referentes!T108,\")\")","v":" ()"},{"$f":"referentes!S108","v":0}]
[null,null,null,null,null,null,null,null,null,null,null,null,null,null,null,null,null,null,null,null,null,null,null,null,null,null,null,null,{"$f":"IF(referentes!W111=\"\",\"\",referentes!W111)","v":""},{"$f":"referentes!S111","v":0},null,109,0,1290,"X",null,null,{"$f":"CONCATENATE(referentes!W109, \" \",\"(\",referentes!T109,\")\")","v":" ()"},{"$f":"referentes!S109","v":0}]
[null,null,null,null,null,null,null,null,null,null,null,null,null,null,null,null,null,null,null,null,null,null,null,null,null,null,null,null,{"$f":"IF(referentes!W112=\"\",\"\",referentes!W112)","v":""},{"$f":"referentes!S112","v":0},null,110,0,1290,"X",null,null,{"$f":"CONCATENATE(referentes!W110, \" \",\"(\",referentes!T110,\")\")","v":" ()"},{"$f":"referentes!S110","v":0}]
[null,null,null,null,null,null,null,null,null,null,null,null,null,null,null,null,null,null,null,null,null,null,null,null,null,null,null,null,{"$f":"IF(referentes!W113=\"\",\"\",referentes!W113)","v":""},{"$f":"referentes!S113","v":0},null,111,0,1290,"X",null,null,{"$f":"CONCATENATE(referentes!W111, \" \",\"(\",referentes!T111,\")\")","v":" ()"},{"$f":"referentes!S111","v":0}]
[null,null,null,null,null,null,null,null,null,null,null,null,null,null,null,null,null,null,null,null,null,null,null,null,null,null,null,null,{"$f":"IF(referentes!W114=\"\",\"\",referentes!W114)","v":""},{"$f":"referentes!S114","v":0},null,112,0,1290,"X",null,null,{"$f":"CONCATENATE(referentes!W112, \" \",\"(\",referentes!T112,\")\")","v":" ()"},{"$f":"referentes!S112","v":0}]
[null,null,null,null,null,null,null,null,null,null,null,null,null,null,null,null,null,null,null,null,null,null,null,null,null,null,null,null,{"$f":"IF(referentes!W115=\"\",\"\",referentes!W115)","v":""},{"$f":"referentes!S115","v":0},null,113,0,1290,"X",null,null,{"$f":"CONCATENATE(referentes!W113, \" \",\"(\",referentes!T113,\")\")","v":" ()"},{"$f":"referentes!S113","v":0}]
[null,null,null,null,null,null,null,null,null,null,null,null,null,null,null,null,null,null,null,null,null,null,null,null,null,null,null,null,{"$f":"IF(referentes!W116=\"\",\"\",referentes!W116)","v":""},{"$f":"referentes!S116","v":0},null,114,0,1290,"X",null,null,{"$f":"CONCATENATE(referentes!W114, \" \",\"(\",referentes!T114,\")\")","v":" ()"},{"$f":"referentes!S114","v":0}]
[null,null,null,null,null,null,null,null,null,null,null,null,null,null,null,null,null,null,null,null,null,null,null,null,null,null,null,null,{"$f":"IF(referentes!W117=\"\",\"\",referentes!W117)","v":""},{"$f":"referentes!S117","v":0},null,115,0,1290,"X",null,null,{"$f":"CONCATENATE(referentes!W115, \" \",\"(\",referentes!T115,\")\")","v":" ()"},{"$f":"referentes!S115","v":0}]
[null,null,null,null,null,null,null,null,null,null,null,null,null,null,null,null,null,null,null,null,null,null,null,null,null,null,null,null,{"$f":"IF(referentes!W118=\"\",\"\",referentes!W118)","v":""},{"$f":"referentes!S118","v":0},null,116,0,1290,"X",null,null,{"$f":"CONCATENATE(referentes!W116, \" \",\"(\",referentes!T116,\")\")","v":" ()"},{"$f":"referentes!S116","v":0}]
[null,null,null,null,null,null,null,null,null,null,null,null,null,null,null,null,null,null,null,null,null,null,null,null,null,null,null,null,{"$f":"IF(referentes!W119=\"\",\"\",referentes!W119)","v":""},{"$f":"referentes!S119","v":0},null,117,0,1290,"X",null,null,{"$f":"CONCATENATE(referentes!W117, \" \",\"(\",referentes!T117,\")\")","v":" ()"},{"$f":"referentes!S117","v":0}]
[null,null,null,null,null,null,null,null,null,null,null,null,null,null,null,null,null,null,null,null,null,null,null,null,null,null,null,null,{"$f":"IF(referentes!W120=\"\",\"\",referentes!W120)","v":""},{"$f":"referentes!S120","v":0},null,118,0,1290,"X",null,null,{"$f":"CONCATENATE(referentes!W118, \" \",\"(\",referentes!T118,\")\")","v":" ()"},{"$f":"referentes!S118","v":0}]
[null,null,null,null,null,null,null,null,null,null,null,null,null,null,null,null,null,null,null,null,null,null,null,null,null,null,null,null,{"$f":"IF(referentes!W121=\"\",\"\",referentes!W121)","v":""},{"$f":"referentes!S121","v":0},null,119,0,1290,"X",null,null,{"$f":"CONCATENATE(referentes!W119, \" \",\"(\",referentes!T119,\")\")","v":" ()"},{"$f":"referentes!S119","v":0}]
[null,null,null,null,null,null,null,null,null,null,null,null,null,null,null,null,null,null,null,null,null,null,null,null,null,null,null,null,{"$f":"IF(referentes!W122=\"\",\"\",referentes!W122)","v":""},{"$f":"referentes!S122","v":0},null,120,0,1290,"X",null,null,{"$f":"CONCATENATE(referentes!W120, \" \",\"(\",referentes!T120,\")\")","v":" ()"},{"$f":"referentes!S120","v":0}]
[null,null,null,null,null,null,null,null,null,null,null,null,null,null,null,null,null,null,null,null,null,null,null,null,null,null,null,null,{"$f":"IF(referentes!W123=\"\",\"\",referentes!W123)","v":""},{"$f":"referentes!S123","v":0},null,121,0,1290,"X",null,null,{"$f":"CONCATENATE(referentes!W121, \" \",\"(\",referentes!T121,\")\")","v":" ()"},{"$f":"referentes!S121","v":0}]
[null,null,null,null,null,null,null,null,null,null,null,null,null,null,null,null,null,null,null,null,null,null,null,null,null,null,null,null,{"$f":"IF(referentes!W124=\"\",\"\",referentes!W124)","v":""},{"$f":"referentes!S124","v":0},null,122,0,1290,"X",null,null,{"$f":"CONCATENATE(referentes!W122, \" \",\"(\",referentes!T122,\")\")","v":" ()"},{"$f":"referentes!S122","v":0}]
[null,null,null,null,null,null,null,null,null,null,null,null,null,null,null,null,null,null,null,null,null,null,null,null,null,null,null,null,{"$f":"IF(referentes!W125=\"\",\"\",referentes!W125)","v":""},{"$f":"referentes!S125","v":0},null,123,0,1290,"X",null,null,{"$f":"CONCATENATE(referentes!W123, \" \",\"(\",referentes!T123,\")\")","v":" ()"},{"$f":"referentes!S123","v":0}]
[null,null,null,null,null,null,null,null,null,null,null,null,null,null,null,null,null,null,null,null,null,null,null,null,null,null,null,null,{"$f":"IF(referentes!W126=\"\",\"\",referentes!W126)","v":""},{"$f":"referentes!S126","v":0},null,124,0,1290,"X",null,null,{"$f":"CONCATENATE(referentes!W124, \" \",\"(\",referentes!T124,\")\")","v":" ()"},{"$f":"referentes!S124","v":0}]
[null,null,null,null,null,null,null,null,null,null,null,null,null,null,null,null,null,null,null,null,null,null,null,null,null,null,null,null,{"$f":"IF(referentes!W127=\"\",\"\",referentes!W127)","v":""},{"$f":"referentes!S127","v":0},null,125,0,1290,"X",null,null,{"$f":"CONCATENATE(referentes!W125, \" \",\"(\",referentes!T125,\")\")","v":" ()"},{"$f":"referentes!S125","v":0}]
[null,null,null,null,null,null,null,null,null,null,null,null,null,null,null,null,null,null,null,null,null,null,null,null,null,null,null,null,{"$f":"IF(referentes!W128=\"\",\"\",referentes!W128)","v":""},{"$f":"referentes!S128","v":0},null,126,0,1290,"X",null,null,{"$f":"CONCATENATE(referentes!W126, \" \",\"(\",referentes!T126,\")\")","v":" ()"},{"$f":"referentes!S126","v":0}]
[null,null,null,null,null,null,null,null,null,null,null,null,null,null,null,null,null,null,null,null,null,null,null,null,null,null,null,null,{"$f":"IF(referentes!W129=\"\",\"\",referentes!W129)","v":""},{"$f":"referentes!S129","v":0},null,127,0,1290,"X",null,null,{"$f":"CONCATENATE(referentes!W127, \" \",\"(\",referentes!T127,\")\")","v":" ()"},{"$f":"referentes!S127","v":0}]
[null,null,null,null,null,null,null,null,null,null,null,null,null,null,null,null,null,null,null,null,null,null,null,null,null,null,null,null,{"$f":"IF(referentes!W130=\"\",\"\",referentes!W130)","v":""},{"$f":"referentes!S130","v":0},null,128,0,1290,"X",null,null,{"$f":"CONCATENATE(referentes!W128, \" \",\"(\",referentes!T128,\")\")","v":" ()"},{"$f":"referentes!S128","v":0}]
[null,null,null,null,null,null,null,null,null,null,null,null,null,null,null,null,null,null,null,null,null,null,null,null,null,null,null,null,{"$f":"IF(referentes!W131=\"\",\"\",referentes!W131)","v":""},{"$f":"referentes!S131","v":0},null,129,0,1290,"X",null,null,{"$f":"CONCATENATE(referentes!W129, \" \",\"(\",referentes!T129,\")\")","v":" ()"},{"$f":"referentes!S129","v":0}]
[null,null,null,null,null,null,null,null,null,null,null,null,null,null,null,null,null,null,null,null,null,null,null,null,null,null,null,null,{"$f":"IF(referentes!W132=\"\",\"\",referentes!W132)","v":""},{"$f":"referentes!S132","v":0},null,130,{"$f":"IF(AC134=\"\",0,AC134)","v":0},{"$f":"IF(AG135=0,MAX($AF$6:$AF$1294)+1,AF135)","v":1290},{"$f":"IFERROR(VLOOKUP(SMALL($AH$6:$AH$1294,AF135),$AF$6:$AH$1294,2,FALSE),\"X\")","v":"X"},null,null,{"$f":"CONCATENATE(referentes!W130, \" \",\"(\",referentes!T130,\")\")","v":" ()"},{"$f":"referentes!S130","v":0}]
[null,null,null,null,null,null,null,null,null,null,null,null,null,null,null,null,null,null,null,null,null,null,null,null,null,null,null,null,{"$f":"IF(referentes!W133=\"\",\"\",referentes!W133)","v":""},{"$f":"referentes!S133","v":0},null,131,0,1290,"X",null,null,{"$f":"CONCATENATE(referentes!W131, \" \",\"(\",referentes!T131,\")\")","v":" ()"},{"$f":"referentes!S131","v":0}]
[null,null,null,null,null,null,null,null,null,null,null,null,null,null,null,null,null,null,null,null,null,null,null,null,null,null,null,null,{"$f":"IF(referentes!W134=\"\",\"\",referentes!W134)","v":""},{"$f":"referentes!S134","v":0},null,132,0,1290,"X",null,null,{"$f":"CONCATENATE(referentes!W132, \" \",\"(\",referentes!T132,\")\")","v":" ()"},{"$f":"referentes!S132","v":0}]
[null,null,null,null,null,null,null,null,null,null,null,null,null,null,null,null,null,null,null,null,null,null,null,null,null,null,null,null,{"$f":"IF(referentes!W135=\"\",\"\",referentes!W135)","v":""},{"$f":"referentes!S135","v":0},null,133,0,1290,"X",null,null,{"$f":"CONCATENATE(referentes!W133, \" \",\"(\",referentes!T133,\")\")","v":" ()"},{"$f":"referentes!S133","v":0}]
[null,null,null,null,null,null,null,null,null,null,null,null,null,null,null,null,null,null,null,null,null,null,null,null,null,null,null,null,{"$f":"IF(referentes!W136=\"\",\"\",referentes!W136)","v":""},{"$f":"referentes!S136","v":0},null,134,0,1290,"X",null,null,{"$f":"CONCATENATE(referentes!W134, \" \",\"(\",referentes!T134,\")\")","v":" ()"},{"$f":"referentes!S134","v":0}]
[null,null,null,null,null,null,null,null,null,null,null,null,null,null,null,null,null,null,null,null,null,null,null,null,null,null,null,null,{"$f":"IF(referentes!W137=\"\",\"\",referentes!W137)","v":""},{"$f":"referentes!S137","v":0},null,135,0,1290,"X",null,null,{"$f":"CONCATENATE(referentes!W135, \" \",\"(\",referentes!T135,\")\")","v":" ()"},{"$f":"referentes!S135","v":0}]
[null,null,null,null,null,null,null,null,null,null,null,null,null,null,null,null,null,null,null,null,null,null,null,null,null,null,null,null,{"$f":"IF(referentes!W138=\"\",\"\",referentes!W138)","v":""},{"$f":"referentes!S138","v":0},null,136,0,1290,"X",null,null,{"$f":"CONCATENATE(referentes!W136, \" \",\"(\",referentes!T136,\")\")","v":" ()"},{"$f":"referentes!S136","v":0}]
[null,null,null,null,null,null,null,null,null,null,null,null,null,null,null,null,null,null,null,null,null,null,null,null,null,null,null,null,{"$f":"IF(referentes!W139=\"\",\"\",referentes!W139)","v":""},{"$f":"referentes!S139","v":0},null,137,0,1290,"X",null,null,{"$f":"CONCATENATE(referentes!W137, \" \",\"(\",referentes!T137,\")\")","v":" ()"},{"$f":"referentes!S137","v":0}]
[null,null,null,null,null,null,null,null,null,null,null,null,null,null,null,null,null,null,null,null,null,null,null,null,null,null,null,null,{"$f":"IF(referentes!W140=\"\",\"\",referentes!W140)","v":""},{"$f":"referentes!S140","v":0},null,138,0,1290,"X",null,null,{"$f":"CONCATENATE(referentes!W138, \" \",\"(\",referentes!T138,\")\")","v":" ()"},{"$f":"referentes!S138","v":0}]
[null,null,null,null,null,null,null,null,null,null,null,null,null,null,null,null,null,null,null,null,null,null,null,null,null,null,null,null,{"$f":"IF(referentes!W141=\"\",\"\",referentes!W141)","v":""},{"$f":"referentes!S141","v":0},null,139,0,1290,"X",null,null,{"$f":"CONCATENATE(referentes!W139, \" \",\"(\",referentes!T139,\")\")","v":" ()"},{"$f":"referentes!S139","v":0}]
[null,null,null,null,null,null,null,null,null,null,null,null,null,null,null,null,null,null,null,null,null,null,null,null,null,null,null,null,{"$f":"IF(referentes!W142=\"\",\"\",referentes!W142)","v":""},{"$f":"referentes!S142","v":0},null,140,0,1290,"X",null,null,{"$f":"CONCATENATE(referentes!W140, \" \",\"(\",referentes!T140,\")\")","v":" ()"},{"$f":"referentes!S140","v":0}]
[null,null,null,null,null,null,null,null,null,null,null,null,null,null,null,null,null,null,null,null,null,null,null,null,null,null,null,null,{"$f":"IF(referentes!W143=\"\",\"\",referentes!W143)","v":""},{"$f":"referentes!S143","v":0},null,141,0,1290,"X",null,null,{"$f":"CONCATENATE(referentes!W141, \" \",\"(\",referentes!T141,\")\")","v":" ()"},{"$f":"referentes!S141","v":0}]
[null,null,null,null,null,null,null,null,null,null,null,null,null,null,null,null,null,null,null,null,null,null,null,null,null,null,null,null,{"$f":"IF(referentes!W144=\"\",\"\",referentes!W144)","v":""},{"$f":"referentes!S144","v":0},null,142,0,1290,"X",null,null,{"$f":"CONCATENATE(referentes!W142, \" \",\"(\",referentes!T142,\")\")","v":" ()"},{"$f":"referentes!S142","v":0}]
[null,null,null,null,null,null,null,null,null,null,null,null,null,null,null,null,null,null,null,null,null,null,null,null,null,null,null,null,{"$f":"IF(referentes!W145=\"\",\"\",referentes!W145)","v":""},{"$f":"referentes!S145","v":0},null,143,0,1290,"X",null,null,{"$f":"CONCATENATE(referentes!W143, \" \",\"(\",referentes!T143,\")\")","v":" ()"},{"$f":"referentes!S143","v":0}]
[null,null,null,null,null,null,null,null,null,null,null,null,null,null,null,null,null,null,null,null,null,null,null,null,null,null,null,null,{"$f":"IF(referentes!W146=\"\",\"\",referentes!W146)","v":""},{"$f":"referentes!S146","v":0},null,144,0,1290,"X",null,null,{"$f":"CONCATENATE(referentes!W144, \" \",\"(\",referentes!T144,\")\")","v":" ()"},{"$f":"referentes!S144","v":0}]
[null,null,null,null,null,null,null,null,null,null,null,null,null,null,null,null,null,null,null,null,null,null,null,null,null,null,null,null,{"$f":"IF(referentes!W147=\"\",\"\",referentes!W147)","v":""},{"$f":"referentes!S147","v":0},null,145,0,1290,"X",null,null,{"$f":"CONCATENATE(referentes!W145, \" \",\"(\",referentes!T145,\")\")","v":" ()"},{"$f":"referentes!S145","v":0}]
[null,null,null,null,null,null,null,null,null,null,null,null,null,null,null,null,null,null,null,null,null,null,null,null,null,null,null,null,{"$f":"IF(referentes!W148=\"\",\"\",referentes!W148)","v":""},{"$f":"referentes!S148","v":0},null,146,0,1290,"X",null,null,{"$f":"CONCATENATE(referentes!W146, \" \",\"(\",referentes!T146,\")\")","v":" ()"},{"$f":"referentes!S146","v":0}]
[null,null,null,null,null,null,null,null,null,null,null,null,null,null,null,null,null,null,null,null,null,null,null,null,null,null,null,null,{"$f":"IF(referentes!W149=\"\",\"\",referentes!W149)","v":""},{"$f":"referentes!S149","v":0},null,147,0,1290,"X",null,null,{"$f":"CONCATENATE(referentes!W147, \" \",\"(\",referentes!T147,\")\")","v":" ()"},{"$f":"referentes!S147","v":0}]
[null,null,null,null,null,null,null,null,null,null,null,null,null,null,null,null,null,null,null,null,null,null,null,null,null,null,null,null,{"$f":"IF(referentes!W150=\"\",\"\",referentes!W150)","v":""},{"$f":"referentes!S150","v":0},null,148,0,1290,"X",null,null,{"$f":"CONCATENATE(referentes!W148, \" \",\"(\",referentes!T148,\")\")","v":" ()"},{"$f":"referentes!S148","v":0}]
[null,null,null,null,null,null,null,null,null,null,null,null,null,null,null,null,null,null,null,null,null,null,null,null,null,null,null,null,{"$f":"IF(referentes!W151=\"\",\"\",referentes!W151)","v":""},{"$f":"referentes!S151","v":0},null,149,0,1290,"X",null,null,{"$f":"CONCATENATE(referentes!W149, \" \",\"(\",referentes!T149,\")\")","v":" ()"},{"$f":"referentes!S149","v":0}]
[null,null,null,null,null,null,null,null,null,null,null,null,null,null,null,null,null,null,null,null,null,null,null,null,null,null,null,null,{"$f":"IF(referentes!W152=\"\",\"\",referentes!W152)","v":""},{"$f":"referentes!S152","v":0},null,150,0,1290,"X",null,null,{"$f":"CONCATENATE(referentes!W150, \" \",\"(\",referentes!T150,\")\")","v":" ()"},{"$f":"referentes!S150","v":0}]
[null,null,null,null,null,null,null,null,null,null,null,null,null,null,null,null,null,null,null,null,null,null,null,null,null,null,null,null,{"$f":"IF(referentes!W153=\"\",\"\",referentes!W153)","v":""},{"$f":"referentes!S153","v":0},null,151,0,1290,"X",null,null,{"$f":"CONCATENATE(referentes!W151, \" \",\"(\",referentes!T151,\")\")","v":" ()"},{"$f":"referentes!S151","v":0}]
[null,null,null,null,null,null,null,null,null,null,null,null,null,null,null,null,null,null,null,null,null,null,null,null,null,null,null,null,{"$f":"IF(referentes!W154=\"\",\"\",referentes!W154)","v":""},{"$f":"referentes!S154","v":0},null,152,0,1290,"X",null,null,{"$f":"CONCATENATE(referentes!W152, \" \",\"(\",referentes!T152,\")\")","v":" ()"},{"$f":"referentes!S152","v":0}]
[null,null,null,null,null,null,null,null,null,null,null,null,null,null,null,null,null,null,null,null,null,null,null,null,null,null,null,null,{"$f":"IF(referentes!W155=\"\",\"\",referentes!W155)","v":""},{"$f":"referentes!S155","v":0},null,153,0,1290,"X",null,null,{"$f":"CONCATENATE(referentes!W153, \" \",\"(\",referentes!T153,\")\")","v":" ()"},{"$f":"referentes!S153","v":0}]
[null,null,null,null,null,null,null,null,null,null,null,null,null,null,null,null,null,null,null,null,null,null,null,null,null,null,null,null,{"$f":"IF(referentes!W156=\"\",\"\",referentes!W156)","v":""},{"$f":"referentes!S156","v":0},null,154,0,1290,"X",null,null,{"$f":"CONCATENATE(referentes!W154, \" \",\"(\",referentes!T154,\")\")","v":" ()"},{"$f":"referentes!S154","v":0}]
[null,null,null,null,null,null,null,null,null,null,null,null,null,null,null,null,null,null,null,null,null,null,null,null,null,null,null,null,{"$f":"IF(referentes!W157=\"\",\"\",referentes!W157)","v":""},{"$f":"referentes!S157","v":0},null,155,0,1290,"X",null,null,{"$f":"CONCATENATE(referentes!W155, \" \",\"(\",referentes!T155,\")\")","v":" ()"},{"$f":"referentes!S155","v":0}]
[null,null,null,null,null,null,null,null,null,null,null,null,null,null,null,null,null,null,null,null,null,null,null,null,null,null,null,null,{"$f":"IF(referentes!W158=\"\",\"\",referentes!W158)","v":""},{"$f":"referentes!S158","v":0},null,156,0,1290,"X",null,null,{"$f":"CONCATENATE(referentes!W156, \" \",\"(\",referentes!T156,\")\")","v":" ()"},{"$f":"referentes!S156","v":0}]
[null,null,null,null,null,null,null,null,null,null,null,null,null,null,null,null,null,null,null,null,null,null,null,null,null,null,null,null,{"$f":"IF(referentes!W159=\"\",\"\",referentes!W159)","v":""},{"$f":"referentes!S159","v":0},null,157,0,1290,"X",null,null,{"$f":"CONCATENATE(referentes!W157, \" \",\"(\",referentes!T157,\")\")","v":" ()"},{"$f":"referentes!S157","v":0}]
[null,null,null,null,null,null,null,null,null,null,null,null,null,null,null,null,null,null,null,null,null,null,null,null,null,null,null,null,{"$f":"IF(referentes!W160=\"\",\"\",referentes!W160)","v":""},{"$f":"referentes!S160","v":0},null,158,0,1290,"X",null,null,{"$f":"CONCATENATE(referentes!W158, \" \",\"(\",referentes!T158,\")\")","v":" ()"},{"$f":"referentes!S158","v":0}]
[null,null,null,null,null,null,null,null,null,null,null,null,null,null,null,null,null,null,null,null,null,null,null,null,null,null,null,null,{"$f":"IF(referentes!W161=\"\",\"\",referentes!W161)","v":""},{"$f":"referentes!S161","v":0},null,159,0,1290,"X",null,null,{"$f":"CONCATENATE(referentes!W159, \" \",\"(\",referentes!T159,\")\")","v":" ()"},{"$f":"referentes!S159","v":0}]
[null,null,null,null,null,null,null,null,null,null,null,null,null,null,null,null,null,null,null,null,null,null,null,null,null,null,null,null,{"$f":"IF(referentes!W162=\"\",\"\",referentes!W162)","v":""},{"$f":"referentes!S162","v":0},null,160,0,1290,"X",null,null,{"$f":"CONCATENATE(referentes!W160, \" \",\"(\",referentes!T160,\")\")","v":" ()"},{"$f":"referentes!S160","v":0}]
[null,null,null,null,null,null,null,null,null,null,null,null,null,null,null,null,null,null,null,null,null,null,null,null,null,null,null,null,{"$f":"IF(referentes!W163=\"\",\"\",referentes!W163)","v":""},{"$f":"referentes!S163","v":0},null,161,0,1290,"X",null,null,{"$f":"CONCATENATE(referentes!W161, \" \",\"(\",referentes!T161,\")\")","v":" ()"},{"$f":"referentes!S161","v":0}]
[null,null,null,null,null,null,null,null,null,null,null,null,null,null,null,null,null,null,null,null,null,null,null,null,null,null,null,null,{"$f":"IF(referentes!W164=\"\",\"\",referentes!W164)","v":""},{"$f":"referentes!S164","v":0},null,162,0,1290,"X",null,null,{"$f":"CONCATENATE(referentes!W162, \" \",\"(\",referentes!T162,\")\")","v":" ()"},{"$f":"referentes!S162","v":0}]
[null,null,null,null,null,null,null,null,null,null,null,null,null,null,null,null,null,null,null,null,null,null,null,null,null,null,null,null,{"$f":"IF(referentes!W165=\"\",\"\",referentes!W165)","v":""},{"$f":"referentes!S165","v":0},null,163,0,1290,"X",null,null,{"$f":"CONCATENATE(referentes!W163, \" \",\"(\",referentes!T163,\")\")","v":" ()"},{"$f":"referentes!S163","v":0}]
[null,null,null,null,null,null,null,null,null,null,null,null,null,null,null,null,null,null,null,null,null,null,null,null,null,null,null,null,{"$f":"IF(referentes!W166=\"\",\"\",referentes!W166)","v":""},{"$f":"referentes!S166","v":0},null,164,0,1290,"X",null,null,{"$f":"CONCATENATE(referentes!W164, \" \",\"(\",referentes!T164,\")\")","v":" ()"},{"$f":"referentes!S164","v":0}]
[null,null,null,null,null,null,null,null,null,null,null,null,null,null,null,null,null,null,null,null,null,null,null,null,null,null,null,null,{"$f":"IF(referentes!W167=\"\",\"\",referentes!W167)","v":""},{"$f":"referentes!S167","v":0},null,165,0,1290,"X",null,null,{"$f":"CONCATENATE(referentes!W165, \" \",\"(\",referentes!T165,\")\")","v":" ()"},{"$f":"referentes!S165","v":0}]
[null,null,null,null,null,null,null,null,null,null,null,null,null,null,null,null,null,null,null,null,null,null,null,null,null,null,null,null,{"$f":"IF(referentes!W168=\"\",\"\",referentes!W168)","v":""},{"$f":"referentes!S168","v":0},null,166,0,1290,"X",null,null,{"$f":"CONCATENATE(referentes!W166, \" \",\"(\",referentes!T166,\")\")","v":" ()"},{"$f":"referentes!S166","v":0}]
[null,null,null,null,null,null,null,null,null,null,null,null,null,null,null,null,null,null,null,null,null,null,null,null,null,null,null,null,{"$f":"IF(referentes!W169=\"\",\"\",referentes!W169)","v":""},{"$f":"referentes!S169","v":0},null,167,0,1290,"X",null,null,{"$f":"CONCATENATE(referentes!W167, \" \",\"(\",referentes!T167,\")\")","v":" ()"},{"$f":"referentes!S167","v":0}]
[null,null,null,null,null,null,null,null,null,null,null,null,null,null,null,null,null,null,null,null,null,null,null,null,null,null,null,null,{"$f":"IF(referentes!W170=\"\",\"\",referentes!W170)","v":""},{"$f":"referentes!S170","v":0},null,168,0,1290,"X",null,null,{"$f":"CONCATENATE(referentes!W168, \" \",\"(\",referentes!T168,\")\")","v":" ()"},{"$f":"referentes!S168","v":0}]
[null,null,null,null,null,null,null,null,null,null,null,null,null,null,null,null,null,null,null,null,null,null,null,null,null,null,null,null,{"$f":"IF(referentes!W171=\"\",\"\",referentes!W171)","v":""},{"$f":"referentes!S171","v":0},null,169,0,1290,"X",null,null,{"$f":"CONCATENATE(referentes!W169, \" \",\"(\",referentes!T169,\")\")","v":" ()"},{"$f":"referentes!S169","v":0}]
[null,null,null,null,null,null,null,null,null,null,null,null,null,null,null,null,null,null,null,null,null,null,null,null,null,null,null,null,{"$f":"IF(referentes!W172=\"\",\"\",referentes!W172)","v":""},{"$f":"referentes!S172","v":0},null,170,0,1290,"X",null,null,{"$f":"CONCATENATE(referentes!W170, \" \",\"(\",referentes!T170,\")\")","v":" ()"},{"$f":"referentes!S170","v":0}]
[null,null,null,null,null,null,null,null,null,null,null,null,null,null,null,null,null,null,null,null,null,null,null,null,null,null,null,null,{"$f":"IF(referentes!W173=\"\",\"\",referentes!W173)","v":""},{"$f":"referentes!S173","v":0},null,171,0,1290,"X",null,null,{"$f":"CONCATENATE(referentes!W171, \" \",\"(\",referentes!T171,\")\")","v":" ()"},{"$f":"referentes!S171","v":0}]
[null,null,null,null,null,null,null,null,null,null,null,null,null,null,null,null,null,null,null,null,null,null,null,null,null,null,null,null,{"$f":"IF(referentes!W174=\"\",\"\",referentes!W174)","v":""},{"$f":"referentes!S174","v":0},null,172,0,1290,"X",null,null,{"$f":"CONCATENATE(referentes!W172, \" \",\"(\",referentes!T172,\")\")","v":" ()"},{"$f":"referentes!S172","v":0}]
[null,null,null,null,null,null,null,null,null,null,null,null,null,null,null,null,null,null,null,null,null,null,null,null,null,null,null,null,{"$f":"IF(referentes!W175=\"\",\"\",referentes!W175)","v":""},{"$f":"referentes!S175","v":0},null,173,0,1290,"X",null,null,{"$f":"CONCATENATE(referentes!W173, \" \",\"(\",referentes!T173,\")\")","v":" ()"},{"$f":"referentes!S173","v":0}]
[null,null,null,null,null,null,null,null,null,null,null,null,null,null,null,null,null,null,null,null,null,null,null,null,null,null,null,null,{"$f":"IF(referentes!W176=\"\",\"\",referentes!W176)","v":""},{"$f":"referentes!S176","v":0},null,174,0,1290,"X",null,null,{"$f":"CONCATENATE(referentes!W174, \" \",\"(\",referentes!T174,\")\")","v":" ()"},{"$f":"referentes!S174","v":0}]
[null,null,null,null,null,null,null,null,null,null,null,null,null,null,null,null,null,null,null,null,null,null,null,null,null,null,null,null,{"$f":"IF(referentes!W177=\"\",\"\",referentes!W177)","v":""},{"$f":"referentes!S177","v":0},null,175,0,1290,"X",null,null,{"$f":"CONCATENATE(referentes!W175, \" \",\"(\",referentes!T175,\")\")","v":" ()"},{"$f":"referentes!S175","v":0}]
[null,null,null,null,null,null,null,null,null,null,null,null,null,null,null,null,null,null,null,null,null,null,null,null,null,null,null,null,{"$f":"IF(referentes!W178=\"\",\"\",referentes!W178)","v":""},{"$f":"referentes!S178","v":0},null,176,0,1290,"X",null,null,{"$f":"CONCATENATE(referentes!W176, \" \",\"(\",referentes!T176,\")\")","v":" ()"},{"$f":"referentes!S176","v":0}]
[null,null,null,null,null,null,null,null,null,null,null,null,null,null,null,null,null,null,null,null,null,null,null,null,null,null,null,null,{"$f":"IF(referentes!W179=\"\",\"\",referentes!W179)","v":""},{"$f":"referentes!S179","v":0},null,177,0,1290,"X",null,null,{"$f":"CONCATENATE(referentes!W177, \" \",\"(\",referentes!T177,\")\")","v":" ()"},{"$f":"referentes!S177","v":0}]
[null,null,null,null,null,null,null,null,null,null,null,null,null,null,null,null,null,null,null,null,null,null,null,null,null,null,null,null,{"$f":"IF(referentes!W180=\"\",\"\",referentes!W180)","v":""},{"$f":"referentes!S180","v":0},null,178,0,1290,"X",null,null,{"$f":"CONCATENATE(referentes!W178, \" \",\"(\",referentes!T178,\")\")","v":" ()"},{"$f":"referentes!S178","v":0}]
[null,null,null,null,null,null,null,null,null,null,null,null,null,null,null,null,null,null,null,null,null,null,null,null,null,null,null,null,{"$f":"IF(referentes!W181=\"\",\"\",referentes!W181)","v":""},{"$f":"referentes!S181","v":0},null,179,0,1290,"X",null,null,{"$f":"CONCATENATE(referentes!W179, \" \",\"(\",referentes!T179,\")\")","v":" ()"},{"$f":"referentes!S179","v":0}]
[null,null,null,null,null,null,null,null,null,null,null,null,null,null,null,null,null,null,null,null,null,null,null,null,null,null,null,null,{"$f":"IF(referentes!W182=\"\",\"\",referentes!W182)","v":""},{"$f":"referentes!S182","v":0},null,180,0,1290,"X",null,null,{"$f":"CONCATENATE(referentes!W180, \" \",\"(\",referentes!T180,\")\")","v":" ()"},{"$f":"referentes!S180","v":0}]
[null,null,null,null,null,null,null,null,null,null,null,null,null,null,null,null,null,null,null,null,null,null,null,null,null,null,null,null,{"$f":"IF(referentes!W183=\"\",\"\",referentes!W183)","v":""},{"$f":"referentes!S183","v":0},null,181,0,1290,"X",null,null,{"$f":"CONCATENATE(referentes!W181, \" \",\"(\",referentes!T181,\")\")","v":" ()"},{"$f":"referentes!S181","v":0}]
[null,null,null,null,null,null,null,null,null,null,null,null,null,null,null,null,null,null,null,null,null,null,null,null,null,null,null,null,{"$f":"IF(referentes!W184=\"\",\"\",referentes!W184)","v":""},{"$f":"referentes!S184","v":0},null,182,0,1290,"X",null,null,{"$f":"CONCATENATE(referentes!W182, \" \",\"(\",referentes!T182,\")\")","v":" ()"},{"$f":"referentes!S182","v":0}]
[null,null,null,null,null,null,null,null,null,null,null,null,null,null,null,null,null,null,null,null,null,null,null,null,null,null,null,null,{"$f":"IF(referentes!W185=\"\",\"\",referentes!W185)","v":""},{"$f":"referentes!S185","v":0},null,183,0,1290,"X",null,null,{"$f":"CONCATENATE(referentes!W183, \" \",\"(\",referentes!T183,\")\")","v":" ()"},{"$f":"referentes!S183","v":0}]
[null,null,null,null,null,null,null,null,null,null,null,null,null,null,null,null,null,null,null,null,null,null,null,null,null,null,null,null,{"$f":"IF(referentes!W186=\"\",\"\",referentes!W186)","v":""},{"$f":"referentes!S186","v":0},null,184,0,1290,"X",null,null,{"$f":"CONCATENATE(referentes!W184, \" \",\"(\",referentes!T184,\")\")","v":" ()"},{"$f":"referentes!S184","v":0}]
[null,null,null,null,null,null,null,null,null,null,null,null,null,null,null,null,null,null,null,null,null,null,null,null,null,null,null,null,{"$f":"IF(referentes!W187=\"\",\"\",referentes!W187)","v":""},{"$f":"referentes!S187","v":0},null,185,0,1290,"X",null,null,{"$f":"CONCATENATE(referentes!W185, \" \",\"(\",referentes!T185,\")\")","v":" ()"},{"$f":"referentes!S185","v":0}]
[null,null,null,null,null,null,null,null,null,null,null,null,null,null,null,null,null,null,null,null,null,null,null,null,null,null,null,null,{"$f":"IF(referentes!W188=\"\",\"\",referentes!W188)","v":""},{"$f":"referentes!S188","v":0},null,186,0,1290,"X",null,null,{"$f":"CONCATENATE(referentes!W186, \" \",\"(\",referentes!T186,\")\")","v":" ()"},{"$f":"referentes!S186","v":0}]
[null,null,null,null,null,null,null,null,null,null,null,null,null,null,null,null,null,null,null,null,null,null,null,null,null,null,null,null,{"$f":"IF(referentes!W189=\"\",\"\",referentes!W189)","v":""},{"$f":"referentes!S189","v":0},null,187,0,1290,"X",null,null,{"$f":"CONCATENATE(referentes!W187, \" \",\"(\",referentes!T187,\")\")","v":" ()"},{"$f":"referentes!S187","v":0}]
[null,null,null,null,null,null,null,null,null,null,null,null,null,null,null,null,null,null,null,null,null,null,null,null,null,null,null,null,{"$f":"IF(referentes!W190=\"\",\"\",referentes!W190)","v":""},{"$f":"referentes!S190","v":0},null,188,0,1290,"X",null,null,{"$f":"CONCATENATE(referentes!W188, \" \",\"(\",referentes!T188,\")\")","v":" ()"},{"$f":"referentes!S188","v":0}]
[null,null,null,null,null,null,null,null,null,null,null,null,null,null,null,null,null,null,null,null,null,null,null,null,null,null,null,null,{"$f":"IF(referentes!W191=\"\",\"\",referentes!W191)","v":""},{"$f":"referentes!S191","v":0},null,189,0,1290,"X",null,null,{"$f":"CONCATENATE(referentes!W189, \" \",\"(\",referentes!T189,\")\")","v":" ()"},{"$f":"referentes!S189","v":0}]
[null,null,null,null,null,null,null,null,null,null,null,null,null,null,null,null,null,null,null,null,null,null,null,null,null,null,null,null,{"$f":"IF(referentes!W192=\"\",\"\",referentes!W192)","v":""},{"$f":"referentes!S192","v":0},null,190,0,1290,"X",null,null,{"$f":"CONCATENATE(referentes!W190, \" \",\"(\",referentes!T190,\")\")","v":" ()"},{"$f":"referentes!S190","v":0}]
[null,null,null,null,null,null,null,null,null,null,null,null,null,null,null,null,null,null,null,null,null,null,null,null,null,null,null,null,{"$f":"IF(referentes!W193=\"\",\"\",referentes!W193)","v":""},{"$f":"referentes!S193","v":0},null,191,0,1290,"X",null,null,{"$f":"CONCATENATE(referentes!W191, \" \",\"(\",referentes!T191,\")\")","v":" ()"},{"$f":"referentes!S191","v":0}]
[null,null,null,null,null,null,null,null,null,null,null,null,null,null,null,null,null,null,null,null,null,null,null,null,null,null,null,null,{"$f":"IF(referentes!W194=\"\",\"\",referentes!W194)","v":""},{"$f":"referentes!S194","v":0},null,192,0,1290,"X",null,null,{"$f":"CONCATENATE(referentes!W192, \" \",\"(\",referentes!T192,\")\")","v":" ()"},{"$f":"referentes!S192","v":0}]
[null,null,null,null,null,null,null,null,null,null,null,null,null,null,null,null,null,null,null,null,null,null,null,null,null,null,null,null,{"$f":"IF(referentes!W195=\"\",\"\",referentes!W195)","v":""},{"$f":"referentes!S195","v":0},null,193,0,1290,"X",null,null,{"$f":"CONCATENATE(referentes!W193, \" \",\"(\",referentes!T193,\")\")","v":" ()"},{"$f":"referentes!S193","v":0}]
[null,null,null,null,null,null,null,null,null,null,null,null,null,null,null,null,null,null,null,null,null,null,null,null,null,null,null,null,{"$f":"IF(referentes!W196=\"\",\"\",referentes!W196)","v":""},{"$f":"referentes!S196","v":0},null,194,{"$f":"IF(AC198=\"\",0,AC198)","v":0},{"$f":"IF(AG199=0,MAX($AF$6:$AF$1294)+1,AF199)","v":1290},{"$f":"IFERROR(VLOOKUP(SMALL($AH$6:$AH$1294,AF199),$AF$6:$AH$1294,2,FALSE),\"X\")","v":"X"},null,null,{"$f":"CONCATENATE(referentes!W194, \" \",\"(\",referentes!T194,\")\")","v":" ()"},{"$f":"referentes!S194","v":0}]
[null,null,null,null,null,null,null,null,null,null,null,null,null,null,null,null,null,null,null,null,null,null,null,null,null,null,null,null,{"$f":"IF(referentes!W197=\"\",\"\",referentes!W197)","v":""},{"$f":"referentes!S197","v":0},null,195,0,1290,"X",null,null,{"$f":"CONCATENATE(referentes!W195, \" \",\"(\",referentes!T195,\")\")","v":" ()"},{"$f":"referentes!S195","v":0}]
[null,null,null,null,null,null,null,null,null,null,null,null,null,null,null,null,null,null,null,null,null,null,null,null,null,null,null,null,{"$f":"IF(referentes!W198=\"\",\"\",referentes!W198)","v":""},{"$f":"referentes!S198","v":0},null,196,0,1290,"X",null,null,{"$f":"CONCATENATE(referentes!W196, \" \",\"(\",referentes!T196,\")\")","v":" ()"},{"$f":"referentes!S196","v":0}]
[null,null,null,null,null,null,null,null,null,null,null,null,null,null,null,null,null,null,null,null,null,null,null,null,null,null,null,null,{"$f":"IF(referentes!W199=\"\",\"\",referentes!W199)","v":""},{"$f":"referentes!S199","v":0},null,197,0,1290,"X",null,null,{"$f":"CONCATENATE(referentes!W197, \" \",\"(\",referentes!T197,\")\")","v":" ()"},{"$f":"referentes!S197","v":0}]
[null,null,null,null,null,null,null,null,null,null,null,null,null,null,null,null,null,null,null,null,null,null,null,null,null,null,null,null,{"$f":"IF(referentes!W200=\"\",\"\",referentes!W200)","v":""},{"$f":"referentes!S200","v":0},null,198,0,1290,"X",null,null,{"$f":"CONCATENATE(referentes!W198, \" \",\"(\",referentes!T198,\")\")","v":" ()"},{"$f":"referentes!S198","v":0}]
[null,null,null,null,null,null,null,null,null,null,null,null,null,null,null,null,null,null,null,null,null,null,null,null,null,null,null,null,{"$f":"IF(referentes!W201=\"\",\"\",referentes!W201)","v":""},{"$f":"referentes!S201","v":0},null,199,0,1290,"X",null,null,{"$f":"CONCATENATE(referentes!W199, \" \",\"(\",referentes!T199,\")\")","v":" ()"},{"$f":"referentes!S199","v":0}]
[null,null,null,null,null,null,null,null,null,null,null,null,null,null,null,null,null,null,null,null,null,null,null,null,null,null,null,null,{"$f":"IF(referentes!W202=\"\",\"\",referentes!W202)","v":""},{"$f":"referentes!S202","v":0},null,200,0,1290,"X",null,null,{"$f":"CONCATENATE(referentes!W200, \" \",\"(\",referentes!T200,\")\")","v":" ()"},{"$f":"referentes!S200","v":0}]
[null,null,null,null,null,null,null,null,null,null,null,null,null,null,null,null,null,null,null,null,null,null,null,null,null,null,null,null,{"$f":"IF(referentes!W203=\"\",\"\",referentes!W203)","v":""},{"$f":"referentes!S203","v":0},null,201,0,1290,"X",null,null,{"$f":"CONCATENATE(referentes!W201, \" \",\"(\",referentes!T201,\")\")","v":" ()"},{"$f":"referentes!S201","v":0}]
[null,null,null,null,null,null,null,null,null,null,null,null,null,null,null,null,null,null,null,null,null,null,null,null,null,null,null,null,{"$f":"IF(referentes!W204=\"\",\"\",referentes!W204)","v":""},{"$f":"referentes!S204","v":0},null,202,0,1290,"X",null,null,{"$f":"CONCATENATE(referentes!W202, \" \",\"(\",referentes!T202,\")\")","v":" ()"},{"$f":"referentes!S202","v":0}]
[null,null,null,null,null,null,null,null,null,null,null,null,null,null,null,null,null,null,null,null,null,null,null,null,null,null,null,null,{"$f":"IF(referentes!W205=\"\",\"\",referentes!W205)","v":""},{"$f":"referentes!S205","v":0},null,203,0,1290,"X",null,null,{"$f":"CONCATENATE(referentes!W203, \" \",\"(\",referentes!T203,\")\")","v":" ()"},{"$f":"referentes!S203","v":0}]
[null,null,null,null,null,null,null,null,null,null,null,null,null,null,null,null,null,null,null,null,null,null,null,null,null,null,null,null,{"$f":"IF(referentes!W206=\"\",\"\",referentes!W206)","v":""},{"$f":"referentes!S206","v":0},null,204,0,1290,"X",null,null,{"$f":"CONCATENATE(referentes!W204, \" \",\"(\",referentes!T204,\")\")","v":" ()"},{"$f":"referentes!S204","v":0}]
[null,null,null,null,null,null,null,null,null,null,null,null,null,null,null,null,null,null,null,null,null,null,null,null,null,null,null,null,{"$f":"IF(referentes!W207=\"\",\"\",referentes!W207)","v":""},{"$f":"referentes!S207","v":0},null,205,0,1290,"X",null,null,{"$f":"CONCATENATE(referentes!W205, \" \",\"(\",referentes!T205,\")\")","v":" ()"},{"$f":"referentes!S205","v":0}]
[null,null,null,null,null,null,null,null,null,null,null,null,null,null,null,null,null,null,null,null,null,null,null,null,null,null,null,null,{"$f":"IF(referentes!W208=\"\",\"\",referentes!W208)","v":""},{"$f":"referentes!S208","v":0},null,206,0,1290,"X",null,null,{"$f":"CONCATENATE(referentes!W206, \" \",\"(\",referentes!T206,\")\")","v":" ()"},{"$f":"referentes!S206","v":0}]
[null,null,null,null,null,null,null,null,null,null,null,null,null,null,null,null,null,null,null,null,null,null,null,null,null,null,null,null,{"$f":"IF(referentes!W209=\"\",\"\",referentes!W209)","v":""},{"$f":"referentes!S209","v":0},null,207,0,1290,"X",null,null,{"$f":"CONCATENATE(referentes!W207, \" \",\"(\",referentes!T207,\")\")","v":" ()"},{"$f":"referentes!S207","v":0}]
[null,null,null,null,null,null,null,null,null,null,null,null,null,null,null,null,null,null,null,null,null,null,null,null,null,null,null,null,{"$f":"IF(referentes!W210=\"\",\"\",referentes!W210)","v":""},{"$f":"referentes!S210","v":0},null,208,0,1290,"X",null,null,{"$f":"CONCATENATE(referentes!W208, \" \",\"(\",referentes!T208,\")\")","v":" ()"},{"$f":"referentes!S208","v":0}]
[null,null,null,null,null,null,null,null,null,null,null,null,null,null,null,null,null,null,null,null,null,null,null,null,null,null,null,null,{"$f":"IF(referentes!W211=\"\",\"\",referentes!W211)","v":""},{"$f":"referentes!S211","v":0},null,209,0,1290,"X",null,null,{"$f":"CONCATENATE(referentes!W209, \" \",\"(\",referentes!T209,\")\")","v":" ()"},{"$f":"referentes!S209","v":0}]
[null,null,null,null,null,null,null,null,null,null,null,null,null,null,null,null,null,null,null,null,null,null,null,null,null,null,null,null,{"$f":"IF(referentes!W212=\"\",\"\",referentes!W212)","v":""},{"$f":"referentes!S212","v":0},null,210,0,1290,"X",null,null,{"$f":"CONCATENATE(referentes!W210, \" \",\"(\",referentes!T210,\")\")","v":" ()"},{"$f":"referentes!S210","v":0}]
[null,null,null,null,null,null,null,null,null,null,null,null,null,null,null,null,null,null,null,null,null,null,null,null,null,null,null,null,{"$f":"IF(referentes!W213=\"\",\"\",referentes!W213)","v":""},{"$f":"referentes!S213","v":0},null,211,0,1290,"X",null,null,{"$f":"CONCATENATE(referentes!W211, \" \",\"(\",referentes!T211,\")\")","v":" ()"},{"$f":"referentes!S211","v":0}]
[null,null,null,null,null,null,null,null,null,null,null,null,null,null,null,null,null,null,null,null,null,null,null,null,null,null,null,null,{"$f":"IF(referentes!W214=\"\",\"\",referentes!W214)","v":""},{"$f":"referentes!S214","v":0},null,212,0,1290,"X",null,null,{"$f":"CONCATENATE(referentes!W212, \" \",\"(\",referentes!T212,\")\")","v":" ()"},{"$f":"referentes!S212","v":0}]
[null,null,null,null,null,null,null,null,null,null,null,null,null,null,null,null,null,null,null,null,null,null,null,null,null,null,null,null,{"$f":"IF(referentes!W215=\"\",\"\",referentes!W215)","v":""},{"$f":"referentes!S215","v":0},null,213,0,1290,"X",null,null,{"$f":"CONCATENATE(referentes!W213, \" \",\"(\",referentes!T213,\")\")","v":" ()"},{"$f":"referentes!S213","v":0}]
[null,null,null,null,null,null,null,null,null,null,null,null,null,null,null,null,null,null,null,null,null,null,null,null,null,null,null,null,{"$f":"IF(referentes!W216=\"\",\"\",referentes!W216)","v":""},{"$f":"referentes!S216","v":0},null,214,0,1290,"X",null,null,{"$f":"CONCATENATE(referentes!W214, \" \",\"(\",referentes!T214,\")\")","v":" ()"},{"$f":"referentes!S214","v":0}]
[null,null,null,null,null,null,null,null,null,null,null,null,null,null,null,null,null,null,null,null,null,null,null,null,null,null,null,null,{"$f":"IF(referentes!W217=\"\",\"\",referentes!W217)","v":""},{"$f":"referentes!S217","v":0},null,215,0,1290,"X",null,null,{"$f":"CONCATENATE(referentes!W215, \" \",\"(\",referentes!T215,\")\")","v":" ()"},{"$f":"referentes!S215","v":0}]
[null,null,null,null,null,null,null,null,null,null,null,null,null,null,null,null,null,null,null,null,null,null,null,null,null,null,null,null,{"$f":"IF(referentes!W218=\"\",\"\",referentes!W218)","v":""},{"$f":"referentes!S218","v":0},null,216,0,1290,"X",null,null,{"$f":"CONCATENATE(referentes!W216, \" \",\"(\",referentes!T216,\")\")","v":" ()"},{"$f":"referentes!S216","v":0}]
[null,null,null,null,null,null,null,null,null,null,null,null,null,null,null,null,null,null,null,null,null,null,null,null,null,null,null,null,{"$f":"IF(referentes!W219=\"\",\"\",referentes!W219)","v":""},{"$f":"referentes!S219","v":0},null,217,0,1290,"X",null,null,{"$f":"CONCATENATE(referentes!W217, \" \",\"(\",referentes!T217,\")\")","v":" ()"},{"$f":"referentes!S217","v":0}]
[null,null,null,null,null,null,null,null,null,null,null,null,null,null,null,null,null,null,null,null,null,null,null,null,null,null,null,null,{"$f":"IF(referentes!W220=\"\",\"\",referentes!W220)","v":""},{"$f":"referentes!S220","v":0},null,218,0,1290,"X",null,null,{"$f":"CONCATENATE(referentes!W218, \" \",\"(\",referentes!T218,\")\")","v":" ()"},{"$f":"referentes!S218","v":0}]
[null,null,null,null,null,null,null,null,null,null,null,null,null,null,null,null,null,null,null,null,null,null,null,null,null,null,null,null,{"$f":"IF(referentes!W221=\"\",\"\",referentes!W221)","v":""},{"$f":"referentes!S221","v":0},null,219,0,1290,"X",null,null,{"$f":"CONCATENATE(referentes!W219, \" \",\"(\",referentes!T219,\")\")","v":" ()"},{"$f":"referentes!S219","v":0}]
[null,null,null,null,null,null,null,null,null,null,null,null,null,null,null,null,null,null,null,null,null,null,null,null,null,null,null,null,{"$f":"IF(referentes!W222=\"\",\"\",referentes!W222)","v":""},{"$f":"referentes!S222","v":0},null,220,0,1290,"X",null,null,{"$f":"CONCATENATE(referentes!W220, \" \",\"(\",referentes!T220,\")\")","v":" ()"},{"$f":"referentes!S220","v":0}]
[null,null,null,null,null,null,null,null,null,null,null,null,null,null,null,null,null,null,null,null,null,null,null,null,null,null,null,null,{"$f":"IF(referentes!W223=\"\",\"\",referentes!W223)","v":""},{"$f":"referentes!S223","v":0},null,221,0,1290,"X",null,null,{"$f":"CONCATENATE(referentes!W221, \" \",\"(\",referentes!T221,\")\")","v":" ()"},{"$f":"referentes!S221","v":0}]
[null,null,null,null,null,null,null,null,null,null,null,null,null,null,null,null,null,null,null,null,null,null,null,null,null,null,null,null,{"$f":"IF(referentes!W224=\"\",\"\",referentes!W224)","v":""},{"$f":"referentes!S224","v":0},null,222,0,1290,"X",null,null,{"$f":"CONCATENATE(referentes!W222, \" \",\"(\",referentes!T222,\")\")","v":" ()"},{"$f":"referentes!S222","v":0}]
[null,null,null,null,null,null,null,null,null,null,null,null,null,null,null,null,null,null,null,null,null,null,null,null,null,null,null,null,{"$f":"IF(referentes!W225=\"\",\"\",referentes!W225)","v":""},{"$f":"referentes!S225","v":0},null,223,0,1290,"X",null,null,{"$f":"CONCATENATE(referentes!W223, \" \",\"(\",referentes!T223,\")\")","v":" ()"},{"$f":"referentes!S223","v":0}]
[null,null,null,null,null,null,null,null,null,null,null,null,null,null,null,null,null,null,null,null,null,null,null,null,null,null,null,null,{"$f":"IF(referentes!W226=\"\",\"\",referentes!W226)","v":""},{"$f":"referentes!S226","v":0},null,224,0,1290,"X",null,null,{"$f":"CONCATENATE(referentes!W224, \" \",\"(\",referentes!T224,\")\")","v":" ()"},{"$f":"referentes!S224","v":0}]
[null,null,null,null,null,null,null,null,null,null,null,null,null,null,null,null,null,null,null,null,null,null,null,null,null,null,null,null,{"$f":"IF(referentes!W227=\"\",\"\",referentes!W227)","v":""},{"$f":"referentes!S227","v":0},null,225,0,1290,"X",null,null,{"$f":"CONCATENATE(referentes!W225, \" \",\"(\",referentes!T225,\")\")","v":" ()"},{"$f":"referentes!S225","v":0}]
[null,null,null,null,null,null,null,null,null,null,null,null,null,null,null,null,null,null,null,null,null,null,null,null,null,null,null,null,{"$f":"IF(referentes!W228=\"\",\"\",referentes!W228)","v":""},{"$f":"referentes!S228","v":0},null,226,0,1290,"X",null,null,{"$f":"CONCATENATE(referentes!W226, \" \",\"(\",referentes!T226,\")\")","v":" ()"},{"$f":"referentes!S226","v":0}]
[null,null,null,null,null,null,null,null,null,null,null,null,null,null,null,null,null,null,null,null,null,null,null,null,null,null,null,null,{"$f":"IF(referentes!W229=\"\",\"\",referentes!W229)","v":""},{"$f":"referentes!S229","v":0},null,227,0,1290,"X",null,null,{"$f":"CONCATENATE(referentes!W227, \" \",\"(\",referentes!T227,\")\")","v":" ()"},{"$f":"referentes!S227","v":0}]
[null,null,null,null,null,null,null,null,null,null,null,null,null,null,null,null,null,null,null,null,null,null,null,null,null,null,null,null,{"$f":"IF(referentes!W230=\"\",\"\",referentes!W230)","v":""},{"$f":"referentes!S230","v":0},null,228,0,1290,"X",null,null,{"$f":"CONCATENATE(referentes!W228, \" \",\"(\",referentes!T228,\")\")","v":" ()"},{"$f":"referentes!S228","v":0}]
[null,null,null,null,null,null,null,null,null,null,null,null,null,null,null,null,null,null,null,null,null,null,null,null,null,null,null,null,{"$f":"IF(referentes!W231=\"\",\"\",referentes!W231)","v":""},{"$f":"referentes!S231","v":0},null,229,0,1290,"X",null,null,{"$f":"CONCATENATE(referentes!W229, \" \",\"(\",referentes!T229,\")\")","v":" ()"},{"$f":"referentes!S229","v":0}]
[null,null,null,null,null,null,null,null,null,null,null,null,null,null,null,null,null,null,null,null,null,null,null,null,null,null,null,null,{"$f":"IF(referentes!W232=\"\",\"\",referentes!W232)","v":""},{"$f":"referentes!S232","v":0},null,230,0,1290,"X",null,null,{"$f":"CONCATENATE(referentes!W230, \" \",\"(\",referentes!T230,\")\")","v":" ()"},{"$f":"referentes!S230","v":0}]
[null,null,null,null,null,null,null,null,null,null,null,null,null,null,null,null,null,null,null,null,null,null,null,null,null,null,null,null,{"$f":"IF(referentes!W233=\"\",\"\",referentes!W233)","v":""},{"$f":"referentes!S233","v":0},null,231,0,1290,"X",null,null,{"$f":"CONCATENATE(referentes!W231, \" \",\"(\",referentes!T231,\")\")","v":" ()"},{"$f":"referentes!S231","v":0}]
[null,null,null,null,null,null,null,null,null,null,null,null,null,null,null,null,null,null,null,null,null,null,null,null,null,null,null,null,{"$f":"IF(referentes!W234=\"\",\"\",referentes!W234)","v":""},{"$f":"referentes!S234","v":0},null,232,0,1290,"X",null,null,{"$f":"CONCATENATE(referentes!W232, \" \",\"(\",referentes!T232,\")\")","v":" ()"},{"$f":"referentes!S232","v":0}]
[null,null,null,null,null,null,null,null,null,null,null,null,null,null,null,null,null,null,null,null,null,null,null,null,null,null,null,null,{"$f":"IF(referentes!W235=\"\",\"\",referentes!W235)","v":""},{"$f":"referentes!S235","v":0},null,233,0,1290,"X",null,null,{"$f":"CONCATENATE(referentes!W233, \" \",\"(\",referentes!T233,\")\")","v":" ()"},{"$f":"referentes!S233","v":0}]
[null,null,null,null,null,null,null,null,null,null,null,null,null,null,null,null,null,null,null,null,null,null,null,null,null,null,null,null,{"$f":"IF(referentes!W236=\"\",\"\",referentes!W236)","v":""},{"$f":"referentes!S236","v":0},null,234,0,1290,"X",null,null,{"$f":"CONCATENATE(referentes!W234, \" \",\"(\",referentes!T234,\")\")","v":" ()"},{"$f":"referentes!S234","v":0}]
[null,null,null,null,null,null,null,null,null,null,null,null,null,null,null,null,null,null,null,null,null,null,null,null,null,null,null,null,{"$f":"IF(referentes!W237=\"\",\"\",referentes!W237)","v":""},{"$f":"referentes!S237","v":0},null,235,0,1290,"X",null,null,{"$f":"CONCATENATE(referentes!W235, \" \",\"(\",referentes!T235,\")\")","v":" ()"},{"$f":"referentes!S235","v":0}]
[null,null,null,null,null,null,null,null,null,null,null,null,null,null,null,null,null,null,null,null,null,null,null,null,null,null,null,null,{"$f":"IF(referentes!W238=\"\",\"\",referentes!W238)","v":""},{"$f":"referentes!S238","v":0},null,236,0,1290,"X",null,null,{"$f":"CONCATENATE(referentes!W236, \" \",\"(\",referentes!T236,\")\")","v":" ()"},{"$f":"referentes!S236","v":0}]
[null,null,null,null,null,null,null,null,null,null,null,null,null,null,null,null,null,null,null,null,null,null,null,null,null,null,null,null,{"$f":"IF(referentes!W239=\"\",\"\",referentes!W239)","v":""},{"$f":"referentes!S239","v":0},null,237,0,1290,"X",null,null,{"$f":"CONCATENATE(referentes!W237, \" \",\"(\",referentes!T237,\")\")","v":" ()"},{"$f":"referentes!S237","v":0}]
[null,null,null,null,null,null,null,null,null,null,null,null,null,null,null,null,null,null,null,null,null,null,null,null,null,null,null,null,{"$f":"IF(referentes!W240=\"\",\"\",referentes!W240)","v":""},{"$f":"referentes!S240","v":0},null,238,0,1290,"X",null,null,{"$f":"CONCATENATE(referentes!W238, \" \",\"(\",referentes!T238,\")\")","v":" ()"},{"$f":"referentes!S238","v":0}]
[null,null,null,null,null,null,null,null,null,null,null,null,null,null,null,null,null,null,null,null,null,null,null,null,null,null,null,null,{"$f":"IF(referentes!W241=\"\",\"\",referentes!W241)","v":""},{"$f":"referentes!S241","v":0},null,239,0,1290,"X",null,null,{"$f":"CONCATENATE(referentes!W239, \" \",\"(\",referentes!T239,\")\")","v":" ()"},{"$f":"referentes!S239","v":0}]
[null,null,null,null,null,null,null,null,null,null,null,null,null,null,null,null,null,null,null,null,null,null,null,null,null,null,null,null,{"$f":"IF(referentes!W242=\"\",\"\",referentes!W242)","v":""},{"$f":"referentes!S242","v":0},null,240,0,1290,"X",null,null,{"$f":"CONCATENATE(referentes!W240, \" \",\"(\",referentes!T240,\")\")","v":" ()"},{"$f":"referentes!S240","v":0}]
[null,null,null,null,null,null,null,null,null,null,null,null,null,null,null,null,null,null,null,null,null,null,null,null,null,null,null,null,{"$f":"IF(referentes!W243=\"\",\"\",referentes!W243)","v":""},{"$f":"referentes!S243","v":0},null,241,0,1290,"X",null,null,{"$f":"CONCATENATE(referentes!W241, \" \",\"(\",referentes!T241,\")\")","v":" ()"},{"$f":"referentes!S241","v":0}]
[null,null,null,null,null,null,null,null,null,null,null,null,null,null,null,null,null,null,null,null,null,null,null,null,null,null,null,null,{"$f":"IF(referentes!W244=\"\",\"\",referentes!W244)","v":""},{"$f":"referentes!S244","v":0},null,242,0,1290,"X",null,null,{"$f":"CONCATENATE(referentes!W242, \" \",\"(\",referentes!T242,\")\")","v":" ()"},{"$f":"referentes!S242","v":0}]
[null,null,null,null,null,null,null,null,null,null,null,null,null,null,null,null,null,null,null,null,null,null,null,null,null,null,null,null,{"$f":"IF(referentes!W245=\"\",\"\",referentes!W245)","v":""},{"$f":"referentes!S245","v":0},null,243,0,1290,"X",null,null,{"$f":"CONCATENATE(referentes!W243, \" \",\"(\",referentes!T243,\")\")","v":" ()"},{"$f":"referentes!S243","v":0}]
[null,null,null,null,null,null,null,null,null,null,null,null,null,null,null,null,null,null,null,null,null,null,null,null,null,null,null,null,{"$f":"IF(referentes!W246=\"\",\"\",referentes!W246)","v":""},{"$f":"referentes!S246","v":0},null,244,0,1290,"X",null,null,{"$f":"CONCATENATE(referentes!W244, \" \",\"(\",referentes!T244,\")\")","v":" ()"},{"$f":"referentes!S244","v":0}]
[null,null,null,null,null,null,null,null,null,null,null,null,null,null,null,null,null,null,null,null,null,null,null,null,null,null,null,null,{"$f":"IF(referentes!W247=\"\",\"\",referentes!W247)","v":""},{"$f":"referentes!S247","v":0},null,245,0,1290,"X",null,null,{"$f":"CONCATENATE(referentes!W245, \" \",\"(\",referentes!T245,\")\")","v":" ()"},{"$f":"referentes!S245","v":0}]
[null,null,null,null,null,null,null,null,null,null,null,null,null,null,null,null,null,null,null,null,null,null,null,null,null,null,null,null,{"$f":"IF(referentes!W248=\"\",\"\",referentes!W248)","v":""},{"$f":"referentes!S248","v":0},null,246,0,1290,"X",null,null,{"$f":"CONCATENATE(referentes!W246, \" \",\"(\",referentes!T246,\")\")","v":" ()"},{"$f":"referentes!S246","v":0}]
[null,null,null,null,null,null,null,null,null,null,null,null,null,null,null,null,null,null,null,null,null,null,null,null,null,null,null,null,{"$f":"IF(referentes!W249=\"\",\"\",referentes!W249)","v":""},{"$f":"referentes!S249","v":0},null,247,0,1290,"X",null,null,{"$f":"CONCATENATE(referentes!W247, \" \",\"(\",referentes!T247,\")\")","v":" ()"},{"$f":"referentes!S247","v":0}]
[null,null,null,null,null,null,null,null,null,null,null,null,null,null,null,null,null,null,null,null,null,null,null,null,null,null,null,null,{"$f":"IF(referentes!W250=\"\",\"\",referentes!W250)","v":""},{"$f":"referentes!S250","v":0},null,248,0,1290,"X",null,null,{"$f":"CONCATENATE(referentes!W248, \" \",\"(\",referentes!T248,\")\")","v":" ()"},{"$f":"referentes!S248","v":0}]
[null,null,null,null,null,null,null,null,null,null,null,null,null,null,null,null,null,null,null,null,null,null,null,null,null,null,null,null,{"$f":"IF(referentes!W251=\"\",\"\",referentes!W251)","v":""},{"$f":"referentes!S251","v":0},null,249,0,1290,"X",null,null,{"$f":"CONCATENATE(referentes!W249, \" \",\"(\",referentes!T249,\")\")","v":" ()"},{"$f":"referentes!S249","v":0}]
[null,null,null,null,null,null,null,null,null,null,null,null,null,null,null,null,null,null,null,null,null,null,null,null,null,null,null,null,{"$f":"IF(referentes!W252=\"\",\"\",referentes!W252)","v":""},{"$f":"referentes!S252","v":0},null,250,0,1290,"X",null,null,{"$f":"CONCATENATE(referentes!W250, \" \",\"(\",referentes!T250,\")\")","v":" ()"},{"$f":"referentes!S250","v":0}]
[null,null,null,null,null,null,null,null,null,null,null,null,null,null,null,null,null,null,null,null,null,null,null,null,null,null,null,null,{"$f":"IF(referentes!W253=\"\",\"\",referentes!W253)","v":""},{"$f":"referentes!S253","v":0},null,251,0,1290,"X",null,null,{"$f":"CONCATENATE(referentes!W251, \" \",\"(\",referentes!T251,\")\")","v":" ()"},{"$f":"referentes!S251","v":0}]
[null,null,null,null,null,null,null,null,null,null,null,null,null,null,null,null,null,null,null,null,null,null,null,null,null,null,null,null,{"$f":"IF(referentes!W254=\"\",\"\",referentes!W254)","v":""},{"$f":"referentes!S254","v":0},null,252,0,1290,"X",null,null,{"$f":"CONCATENATE(referentes!W252, \" \",\"(\",referentes!T252,\")\")","v":" ()"},{"$f":"referentes!S252","v":0}]
[null,null,null,null,null,null,null,null,null,null,null,null,null,null,null,null,null,null,null,null,null,null,null,null,null,null,null,null,{"$f":"IF(referentes!W255=\"\",\"\",referentes!W255)","v":""},{"$f":"referentes!S255","v":0},null,253,0,1290,"X",null,null,{"$f":"CONCATENATE(referentes!W253, \" \",\"(\",referentes!T253,\")\")","v":" ()"},{"$f":"referentes!S253","v":0}]
[null,null,null,null,null,null,null,null,null,null,null,null,null,null,null,null,null,null,null,null,null,null,null,null,null,null,null,null,{"$f":"IF(referentes!W256=\"\",\"\",referentes!W256)","v":""},{"$f":"referentes!S256","v":0},null,254,0,1290,"X",null,null,{"$f":"CONCATENATE(referentes!W254, \" \",\"(\",referentes!T254,\")\")","v":" ()"},{"$f":"referentes!S254","v":0}]
[null,null,null,null,null,null,null,null,null,null,null,null,null,null,null,null,null,null,null,null,null,null,null,null,null,null,null,null,{"$f":"IF(referentes!W257=\"\",\"\",referentes!W257)","v":""},{"$f":"referentes!S257","v":0},null,255,0,1290,"X",null,null,{"$f":"CONCATENATE(referentes!W255, \" \",\"(\",referentes!T255,\")\")","v":" ()"},{"$f":"referentes!S255","v":0}]
[null,null,null,null,null,null,null,null,null,null,null,null,null,null,null,null,null,null,null,null,null,null,null,null,null,null,null,null,{"$f":"IF(referentes!W258=\"\",\"\",referentes!W258)","v":""},{"$f":"referentes!S258","v":0},null,256,0,1290,"X",null,null,{"$f":"CONCATENATE(referentes!W256, \" \",\"(\",referentes!T256,\")\")","v":" ()"},{"$f":"referentes!S256","v":0}]
[null,null,null,null,null,null,null,null,null,null,null,null,null,null,null,null,null,null,null,null,null,null,null,null,null,null,null,null,{"$f":"IF(referentes!W259=\"\",\"\",referentes!W259)","v":""},{"$f":"referentes!S259","v":0},null,257,0,1290,"X",null,null,{"$f":"CONCATENATE(referentes!W257, \" \",\"(\",referentes!T257,\")\")","v":" ()"},{"$f":"referentes!S257","v":0}]
[null,null,null,null,null,null,null,null,null,null,null,null,null,null,null,null,null,null,null,null,null,null,null,null,null,null,null,null,{"$f":"IF(referentes!W260=\"\",\"\",referentes!W260)","v":""},{"$f":"referentes!S260","v":0},null,258,{"$f":"IF(AC262=\"\",0,AC262)","v":0},{"$f":"IF(AG263=0,MAX($AF$6:$AF$1294)+1,AF263)","v":1290},{"$f":"IFERROR(VLOOKUP(SMALL($AH$6:$AH$1294,AF263),$AF$6:$AH$1294,2,FALSE),\"X\")","v":"X"},null,null,{"$f":"CONCATENATE(referentes!W258, \" \",\"(\",referentes!T258,\")\")","v":" ()"},{"$f":"referentes!S258","v":0}]
[null,null,null,null,null,null,null,null,null,null,null,null,null,null,null,null,null,null,null,null,null,null,null,null,null,null,null,null,{"$f":"IF(referentes!W261=\"\",\"\",referentes!W261)","v":""},{"$f":"referentes!S261","v":0},null,259,0,1290,"X",null,null,{"$f":"CONCATENATE(referentes!W259, \" \",\"(\",referentes!T259,\")\")","v":" ()"},{"$f":"referentes!S259","v":0}]
[null,null,null,null,null,null,null,null,null,null,null,null,null,null,null,null,null,null,null,null,null,null,null,null,null,null,null,null,{"$f":"IF(referentes!W262=\"\",\"\",referentes!W262)","v":""},{"$f":"referentes!S262","v":0},null,260,0,1290,"X",null,null,{"$f":"CONCATENATE(referentes!W260, \" \",\"(\",referentes!T260,\")\")","v":" ()"},{"$f":"referentes!S260","v":0}]
[null,null,null,null,null,null,null,null,null,null,null,null,null,null,null,null,null,null,null,null,null,null,null,null,null,null,null,null,{"$f":"IF(referentes!W263=\"\",\"\",referentes!W263)","v":""},{"$f":"referentes!S263","v":0},null,261,0,1290,"X",null,null,{"$f":"CONCATENATE(referentes!W261, \" \",\"(\",referentes!T261,\")\")","v":" ()"},{"$f":"referentes!S261","v":0}]
[null,null,null,null,null,null,null,null,null,null,null,null,null,null,null,null,null,null,null,null,null,null,null,null,null,null,null,null,{"$f":"IF(referentes!W264=\"\",\"\",referentes!W264)","v":""},{"$f":"referentes!S264","v":0},null,262,0,1290,"X",null,null,{"$f":"CONCATENATE(referentes!W262, \" \",\"(\",referentes!T262,\")\")","v":" ()"},{"$f":"referentes!S262","v":0}]
[null,null,null,null,null,null,null,null,null,null,null,null,null,null,null,null,null,null,null,null,null,null,null,null,null,null,null,null,{"$f":"IF(referentes!W265=\"\",\"\",referentes!W265)","v":""},{"$f":"referentes!S265","v":0},null,263,0,1290,"X",null,null,{"$f":"CONCATENATE(referentes!W263, \" \",\"(\",referentes!T263,\")\")","v":" ()"},{"$f":"referentes!S263","v":0}]
[null,null,null,null,null,null,null,null,null,null,null,null,null,null,null,null,null,null,null,null,null,null,null,null,null,null,null,null,{"$f":"IF(referentes!W266=\"\",\"\",referentes!W266)","v":""},{"$f":"referentes!S266","v":0},null,264,0,1290,"X",null,null,{"$f":"CONCATENATE(referentes!W264, \" \",\"(\",referentes!T264,\")\")","v":" ()"},{"$f":"referentes!S264","v":0}]
[null,null,null,null,null,null,null,null,null,null,null,null,null,null,null,null,null,null,null,null,null,null,null,null,null,null,null,null,{"$f":"IF(referentes!W267=\"\",\"\",referentes!W267)","v":""},{"$f":"referentes!S267","v":0},null,265,0,1290,"X",null,null,{"$f":"CONCATENATE(referentes!W265, \" \",\"(\",referentes!T265,\")\")","v":" ()"},{"$f":"referentes!S265","v":0}]
[null,null,null,null,null,null,null,null,null,null,null,null,null,null,null,null,null,null,null,null,null,null,null,null,null,null,null,null,{"$f":"IF(referentes!W268=\"\",\"\",referentes!W268)","v":""},{"$f":"referentes!S268","v":0},null,266,0,1290,"X",null,null,{"$f":"CONCATENATE(referentes!W266, \" \",\"(\",referentes!T266,\")\")","v":" ()"},{"$f":"referentes!S266","v":0}]
[null,null,null,null,null,null,null,null,null,null,null,null,null,null,null,null,null,null,null,null,null,null,null,null,null,null,null,null,{"$f":"IF(referentes!W269=\"\",\"\",referentes!W269)","v":""},{"$f":"referentes!S269","v":0},null,267,0,1290,"X",null,null,{"$f":"CONCATENATE(referentes!W267, \" \",\"(\",referentes!T267,\")\")","v":" ()"},{"$f":"referentes!S267","v":0}]
[null,null,null,null,null,null,null,null,null,null,null,null,null,null,null,null,null,null,null,null,null,null,null,null,null,null,null,null,{"$f":"IF(referentes!W270=\"\",\"\",referentes!W270)","v":""},{"$f":"referentes!S270","v":0},null,268,0,1290,"X",null,null,{"$f":"CONCATENATE(referentes!W268, \" \",\"(\",referentes!T268,\")\")","v":" ()"},{"$f":"referentes!S268","v":0}]
[null,null,null,null,null,null,null,null,null,null,null,null,null,null,null,null,null,null,null,null,null,null,null,null,null,null,null,null,{"$f":"IF(referentes!W271=\"\",\"\",referentes!W271)","v":""},{"$f":"referentes!S271","v":0},null,269,0,1290,"X",null,null,{"$f":"CONCATENATE(referentes!W269, \" \",\"(\",referentes!T269,\")\")","v":" ()"},{"$f":"referentes!S269","v":0}]
[null,null,null,null,null,null,null,null,null,null,null,null,null,null,null,null,null,null,null,null,null,null,null,null,null,null,null,null,{"$f":"IF(referentes!W272=\"\",\"\",referentes!W272)","v":""},{"$f":"referentes!S272","v":0},null,270,0,1290,"X",null,null,{"$f":"CONCATENATE(referentes!W270, \" \",\"(\",referentes!T270,\")\")","v":" ()"},{"$f":"referentes!S270","v":0}]
[null,null,null,null,null,null,null,null,null,null,null,null,null,null,null,null,null,null,null,null,null,null,null,null,null,null,null,null,{"$f":"IF(referentes!W273=\"\",\"\",referentes!W273)","v":""},{"$f":"referentes!S273","v":0},null,271,0,1290,"X",null,null,{"$f":"CONCATENATE(referentes!W271, \" \",\"(\",referentes!T271,\")\")","v":" ()"},{"$f":"referentes!S271","v":0}]
[null,null,null,null,null,null,null,null,null,null,null,null,null,null,null,null,null,null,null,null,null,null,null,null,null,null,null,null,{"$f":"IF(referentes!W274=\"\",\"\",referentes!W274)","v":""},{"$f":"referentes!S274","v":0},null,272,0,1290,"X",null,null,{"$f":"CONCATENATE(referentes!W272, \" \",\"(\",referentes!T272,\")\")","v":" ()"},{"$f":"referentes!S272","v":0}]
[null,null,null,null,null,null,null,null,null,null,null,null,null,null,null,null,null,null,null,null,null,null,null,null,null,null,null,null,{"$f":"IF(referentes!W275=\"\",\"\",referentes!W275)","v":""},{"$f":"referentes!S275","v":0},null,273,0,1290,"X",null,null,{"$f":"CONCATENATE(referentes!W273, \" \",\"(\",referentes!T273,\")\")","v":" ()"},{"$f":"referentes!S273","v":0}]
[null,null,null,null,null,null,null,null,null,null,null,null,null,null,null,null,null,null,null,null,null,null,null,null,null,null,null,null,{"$f":"IF(referentes!W276=\"\",\"\",referentes!W276)","v":""},{"$f":"referentes!S276","v":0},null,274,0,1290,"X",null,null,{"$f":"CONCATENATE(referentes!W274, \" \",\"(\",referentes!T274,\")\")","v":" ()"},{"$f":"referentes!S274","v":0}]
[null,null,null,null,null,null,null,null,null,null,null,null,null,null,null,null,null,null,null,null,null,null,null,null,null,null,null,null,{"$f":"IF(referentes!W277=\"\",\"\",referentes!W277)","v":""},{"$f":"referentes!S277","v":0},null,275,0,1290,"X",null,null,{"$f":"CONCATENATE(referentes!W275, \" \",\"(\",referentes!T275,\")\")","v":" ()"},{"$f":"referentes!S275","v":0}]
[null,null,null,null,null,null,null,null,null,null,null,null,null,null,null,null,null,null,null,null,null,null,null,null,null,null,null,null,{"$f":"IF(referentes!W278=\"\",\"\",referentes!W278)","v":""},{"$f":"referentes!S278","v":0},null,276,0,1290,"X",null,null,{"$f":"CONCATENATE(referentes!W276, \" \",\"(\",referentes!T276,\")\")","v":" ()"},{"$f":"referentes!S276","v":0}]
[null,null,null,null,null,null,null,null,null,null,null,null,null,null,null,null,null,null,null,null,null,null,null,null,null,null,null,null,{"$f":"IF(referentes!W279=\"\",\"\",referentes!W279)","v":""},{"$f":"referentes!S279","v":0},null,277,0,1290,"X",null,null,{"$f":"CONCATENATE(referentes!W277, \" \",\"(\",referentes!T277,\")\")","v":" ()"},{"$f":"referentes!S277","v":0}]
[null,null,null,null,null,null,null,null,null,null,null,null,null,null,null,null,null,null,null,null,null,null,null,null,null,null,null,null,{"$f":"IF(referentes!W280=\"\",\"\",referentes!W280)","v":""},{"$f":"referentes!S280","v":0},null,278,0,1290,"X",null,null,{"$f":"CONCATENATE(referentes!W278, \" \",\"(\",referentes!T278,\")\")","v":" ()"},{"$f":"referentes!S278","v":0}]
[null,null,null,null,null,null,null,null,null,null,null,null,null,null,null,null,null,null,null,null,null,null,null,null,null,null,null,null,{"$f":"IF(referentes!W281=\"\",\"\",referentes!W281)","v":""},{"$f":"referentes!S281","v":0},null,279,0,1290,"X",null,null,{"$f":"CONCATENATE(referentes!W279, \" \",\"(\",referentes!T279,\")\")","v":" ()"},{"$f":"referentes!S279","v":0}]
[null,null,null,null,null,null,null,null,null,null,null,null,null,null,null,null,null,null,null,null,null,null,null,null,null,null,null,null,{"$f":"IF(referentes!W282=\"\",\"\",referentes!W282)","v":""},{"$f":"referentes!S282","v":0},null,280,0,1290,"X",null,null,{"$f":"CONCATENATE(referentes!W280, \" \",\"(\",referentes!T280,\")\")","v":" ()"},{"$f":"referentes!S280","v":0}]
[null,null,null,null,null,null,null,null,null,null,null,null,null,null,null,null,null,null,null,null,null,null,null,null,null,null,null,null,{"$f":"IF(referentes!W283=\"\",\"\",referentes!W283)","v":""},{"$f":"referentes!S283","v":0},null,281,0,1290,"X",null,null,{"$f":"CONCATENATE(referentes!W281, \" \",\"(\",referentes!T281,\")\")","v":" ()"},{"$f":"referentes!S281","v":0}]
[null,null,null,null,null,null,null,null,null,null,null,null,null,null,null,null,null,null,null,null,null,null,null,null,null,null,null,null,{"$f":"IF(referentes!W284=\"\",\"\",referentes!W284)","v":""},{"$f":"referentes!S284","v":0},null,282,0,1290,"X",null,null,{"$f":"CONCATENATE(referentes!W282, \" \",\"(\",referentes!T282,\")\")","v":" ()"},{"$f":"referentes!S282","v":0}]
[null,null,null,null,null,null,null,null,null,null,null,null,null,null,null,null,null,null,null,null,null,null,null,null,null,null,null,null,{"$f":"IF(referentes!W285=\"\",\"\",referentes!W285)","v":""},{"$f":"referentes!S285","v":0},null,283,0,1290,"X",null,null,{"$f":"CONCATENATE(referentes!W283, \" \",\"(\",referentes!T283,\")\")","v":" ()"},{"$f":"referentes!S283","v":0}]
[null,null,null,null,null,null,null,null,null,null,null,null,null,null,null,null,null,null,null,null,null,null,null,null,null,null,null,null,{"$f":"IF(referentes!W286=\"\",\"\",referentes!W286)","v":""},{"$f":"referentes!S286","v":0},null,284,0,1290,"X",null,null,{"$f":"CONCATENATE(referentes!W284, \" \",\"(\",referentes!T284,\")\")","v":" ()"},{"$f":"referentes!S284","v":0}]
[null,null,null,null,null,null,null,null,null,null,null,null,null,null,null,null,null,null,null,null,null,null,null,null,null,null,null,null,{"$f":"IF(referentes!W287=\"\",\"\",referentes!W287)","v":""},{"$f":"referentes!S287","v":0},null,285,0,1290,"X",null,null,{"$f":"CONCATENATE(referentes!W285, \" \",\"(\",referentes!T285,\")\")","v":" ()"},{"$f":"referentes!S285","v":0}]
[null,null,null,null,null,null,null,null,null,null,null,null,null,null,null,null,null,null,null,null,null,null,null,null,null,null,null,null,{"$f":"IF(referentes!W288=\"\",\"\",referentes!W288)","v":""},{"$f":"referentes!S288","v":0},null,286,0,1290,"X",null,null,{"$f":"CONCATENATE(referentes!W286, \" \",\"(\",referentes!T286,\")\")","v":" ()"},{"$f":"referentes!S286","v":0}]
[null,null,null,null,null,null,null,null,null,null,null,null,null,null,null,null,null,null,null,null,null,null,null,null,null,null,null,null,{"$f":"IF(referentes!W289=\"\",\"\",referentes!W289)","v":""},{"$f":"referentes!S289","v":0},null,287,0,1290,"X",null,null,{"$f":"CONCATENATE(referentes!W287, \" \",\"(\",referentes!T287,\")\")","v":" ()"},{"$f":"referentes!S287","v":0}]
[null,null,null,null,null,null,null,null,null,null,null,null,null,null,null,null,null,null,null,null,null,null,null,null,null,null,null,null,{"$f":"IF(referentes!W290=\"\",\"\",referentes!W290)","v":""},{"$f":"referentes!S290","v":0},null,288,0,1290,"X",null,null,{"$f":"CONCATENATE(referentes!W288, \" \",\"(\",referentes!T288,\")\")","v":" ()"},{"$f":"referentes!S288","v":0}]
[null,null,null,null,null,null,null,null,null,null,null,null,null,null,null,null,null,null,null,null,null,null,null,null,null,null,null,null,{"$f":"IF(referentes!W291=\"\",\"\",referentes!W291)","v":""},{"$f":"referentes!S291","v":0},null,289,0,1290,"X",null,null,{"$f":"CONCATENATE(referentes!W289, \" \",\"(\",referentes!T289,\")\")","v":" ()"},{"$f":"referentes!S289","v":0}]
[null,null,null,null,null,null,null,null,null,null,null,null,null,null,null,null,null,null,null,null,null,null,null,null,null,null,null,null,{"$f":"IF(referentes!W292=\"\",\"\",referentes!W292)","v":""},{"$f":"referentes!S292","v":0},null,290,0,1290,"X",null,null,{"$f":"CONCATENATE(referentes!W290, \" \",\"(\",referentes!T290,\")\")","v":" ()"},{"$f":"referentes!S290","v":0}]
[null,null,null,null,null,null,null,null,null,null,null,null,null,null,null,null,null,null,null,null,null,null,null,null,null,null,null,null,{"$f":"IF(referentes!W293=\"\",\"\",referentes!W293)","v":""},{"$f":"referentes!S293","v":0},null,291,0,1290,"X",null,null,{"$f":"CONCATENATE(referentes!W291, \" \",\"(\",referentes!T291,\")\")","v":" ()"},{"$f":"referentes!S291","v":0}]
[null,null,null,null,null,null,null,null,null,null,null,null,null,null,null,null,null,null,null,null,null,null,null,null,null,null,null,null,{"$f":"IF(referentes!W294=\"\",\"\",referentes!W294)","v":""},{"$f":"referentes!S294","v":0},null,292,0,1290,"X",null,null,{"$f":"CONCATENATE(referentes!W292, \" \",\"(\",referentes!T292,\")\")","v":" ()"},{"$f":"referentes!S292","v":0}]
[null,null,null,null,null,null,null,null,null,null,null,null,null,null,null,null,null,null,null,null,null,null,null,null,null,null,null,null,{"$f":"IF(referentes!W295=\"\",\"\",referentes!W295)","v":""},{"$f":"referentes!S295","v":0},null,293,0,1290,"X",null,null,{"$f":"CONCATENATE(referentes!W293, \" \",\"(\",referentes!T293,\")\")","v":" ()"},{"$f":"referentes!S293","v":0}]
[null,null,null,null,null,null,null,null,null,null,null,null,null,null,null,null,null,null,null,null,null,null,null,null,null,null,null,null,{"$f":"IF(referentes!W296=\"\",\"\",referentes!W296)","v":""},{"$f":"referentes!S296","v":0},null,294,0,1290,"X",null,null,{"$f":"CONCATENATE(referentes!W294, \" \",\"(\",referentes!T294,\")\")","v":" ()"},{"$f":"referentes!S294","v":0}]
[null,null,null,null,null,null,null,null,null,null,null,null,null,null,null,null,null,null,null,null,null,null,null,null,null,null,null,null,{"$f":"IF(referentes!W297=\"\",\"\",referentes!W297)","v":""},{"$f":"referentes!S297","v":0},null,295,0,1290,"X",null,null,{"$f":"CONCATENATE(referentes!W295, \" \",\"(\",referentes!T295,\")\")","v":" ()"},{"$f":"referentes!S295","v":0}]
[null,null,null,null,null,null,null,null,null,null,null,null,null,null,null,null,null,null,null,null,null,null,null,null,null,null,null,null,{"$f":"IF(referentes!W298=\"\",\"\",referentes!W298)","v":""},{"$f":"referentes!S298","v":0},null,296,0,1290,"X",null,null,{"$f":"CONCATENATE(referentes!W296, \" \",\"(\",referentes!T296,\")\")","v":" ()"},{"$f":"referentes!S296","v":0}]
[null,null,null,null,null,null,null,null,null,null,null,null,null,null,null,null,null,null,null,null,null,null,null,null,null,null,null,null,{"$f":"IF(referentes!W299=\"\",\"\",referentes!W299)","v":""},{"$f":"referentes!S299","v":0},null,297,0,1290,"X",null,null,{"$f":"CONCATENATE(referentes!W297, \" \",\"(\",referentes!T297,\")\")","v":" ()"},{"$f":"referentes!S297","v":0}]
[null,null,null,null,null,null,null,null,null,null,null,null,null,null,null,null,null,null,null,null,null,null,null,null,null,null,null,null,{"$f":"IF(referentes!W300=\"\",\"\",referentes!W300)","v":""},{"$f":"referentes!S300","v":0},null,298,0,1290,"X",null,null,{"$f":"CONCATENATE(referentes!W298, \" \",\"(\",referentes!T298,\")\")","v":" ()"},{"$f":"referentes!S298","v":0}]
[null,null,null,null,null,null,null,null,null,null,null,null,null,null,null,null,null,null,null,null,null,null,null,null,null,null,null,null,{"$f":"IF(referentes!W301=\"\",\"\",referentes!W301)","v":""},{"$f":"referentes!S301","v":0},null,299,0,1290,"X",null,null,{"$f":"CONCATENATE(referentes!W299, \" \",\"(\",referentes!T299,\")\")","v":" ()"},{"$f":"referentes!S299","v":0}]
[null,null,null,null,null,null,null,null,null,null,null,null,null,null,null,null,null,null,null,null,null,null,null,null,null,null,null,null,{"$f":"IF(referentes!W302=\"\",\"\",referentes!W302)","v":""},{"$f":"referentes!S302","v":0},null,300,0,1290,"X",null,null,{"$f":"CONCATENATE(referentes!W300, \" \",\"(\",referentes!T300,\")\")","v":" ()"},{"$f":"referentes!S300","v":0}]
[null,null,null,null,null,null,null,null,null,null,null,null,null,null,null,null,null,null,null,null,null,null,null,null,null,null,null,null,{"$f":"IF(referentes!W303=\"\",\"\",referentes!W303)","v":""},{"$f":"referentes!S303","v":0},null,301,0,1290,"X",null,null,{"$f":"CONCATENATE(referentes!W301, \" \",\"(\",referentes!T301,\")\")","v":" ()"},{"$f":"referentes!S301","v":0}]
[null,null,null,null,null,null,null,null,null,null,null,null,null,null,null,null,null,null,null,null,null,null,null,null,null,null,null,null,{"$f":"IF(referentes!W304=\"\",\"\",referentes!W304)","v":""},{"$f":"referentes!S304","v":0},null,302,0,1290,"X",null,null,{"$f":"CONCATENATE(referentes!W302, \" \",\"(\",referentes!T302,\")\")","v":" ()"},{"$f":"referentes!S302","v":0}]
[null,null,null,null,null,null,null,null,null,null,null,null,null,null,null,null,null,null,null,null,null,null,null,null,null,null,null,null,{"$f":"IF(referentes!W305=\"\",\"\",referentes!W305)","v":""},{"$f":"referentes!S305","v":0},null,303,0,1290,"X",null,null,{"$f":"CONCATENATE(referentes!W303, \" \",\"(\",referentes!T303,\")\")","v":" ()"},{"$f":"referentes!S303","v":0}]
[null,null,null,null,null,null,null,null,null,null,null,null,null,null,null,null,null,null,null,null,null,null,null,null,null,null,null,null,{"$f":"IF(referentes!W306=\"\",\"\",referentes!W306)","v":""},{"$f":"referentes!S306","v":0},null,304,0,1290,"X",null,null,{"$f":"CONCATENATE(referentes!W304, \" \",\"(\",referentes!T304,\")\")","v":" ()"},{"$f":"referentes!S304","v":0}]
[null,null,null,null,null,null,null,null,null,null,null,null,null,null,null,null,null,null,null,null,null,null,null,null,null,null,null,null,{"$f":"IF(referentes!W307=\"\",\"\",referentes!W307)","v":""},{"$f":"referentes!S307","v":0},null,305,0,1290,"X",null,null,{"$f":"CONCATENATE(referentes!W305, \" \",\"(\",referentes!T305,\")\")","v":" ()"},{"$f":"referentes!S305","v":0}]
[null,null,null,null,null,null,null,null,null,null,null,null,null,null,null,null,null,null,null,null,null,null,null,null,null,null,null,null,{"$f":"IF(referentes!W308=\"\",\"\",referentes!W308)","v":""},{"$f":"referentes!S308","v":0},null,306,0,1290,"X",null,null,{"$f":"CONCATENATE(referentes!W306, \" \",\"(\",referentes!T306,\")\")","v":" ()"},{"$f":"referentes!S306","v":0}]
[null,null,null,null,null,null,null,null,null,null,null,null,null,null,null,null,null,null,null,null,null,null,null,null,null,null,null,null,{"$f":"IF(referentes!W309=\"\",\"\",referentes!W309)","v":""},{"$f":"referentes!S309","v":0},null,307,0,1290,"X",null,null,{"$f":"CONCATENATE(referentes!W307, \" \",\"(\",referentes!T307,\")\")","v":" ()"},{"$f":"referentes!S307","v":0}]
[null,null,null,null,null,null,null,null,null,null,null,null,null,null,null,null,null,null,null,null,null,null,null,null,null,null,null,null,{"$f":"IF(referentes!W310=\"\",\"\",referentes!W310)","v":""},{"$f":"referentes!S310","v":0},null,308,0,1290,"X",null,null,{"$f":"CONCATENATE(referentes!W308, \" \",\"(\",referentes!T308,\")\")","v":" ()"},{"$f":"referentes!S308","v":0}]
[null,null,null,null,null,null,null,null,null,null,null,null,null,null,null,null,null,null,null,null,null,null,null,null,null,null,null,null,{"$f":"IF(referentes!W311=\"\",\"\",referentes!W311)","v":""},{"$f":"referentes!S311","v":0},null,309,0,1290,"X",null,null,{"$f":"CONCATENATE(referentes!W309, \" \",\"(\",referentes!T309,\")\")","v":" ()"},{"$f":"referentes!S309","v":0}]
[null,null,null,null,null,null,null,null,null,null,null,null,null,null,null,null,null,null,null,null,null,null,null,null,null,null,null,null,{"$f":"IF(referentes!W312=\"\",\"\",referentes!W312)","v":""},{"$f":"referentes!S312","v":0},null,310,0,1290,"X",null,null,{"$f":"CONCATENATE(referentes!W310, \" \",\"(\",referentes!T310,\")\")","v":" ()"},{"$f":"referentes!S310","v":0}]
[null,null,null,null,null,null,null,null,null,null,null,null,null,null,null,null,null,null,null,null,null,null,null,null,null,null,null,null,{"$f":"IF(referentes!W313=\"\",\"\",referentes!W313)","v":""},{"$f":"referentes!S313","v":0},null,311,0,1290,"X",null,null,{"$f":"CONCATENATE(referentes!W311, \" \",\"(\",referentes!T311,\")\")","v":" ()"},{"$f":"referentes!S311","v":0}]
[null,null,null,null,null,null,null,null,null,null,null,null,null,null,null,null,null,null,null,null,null,null,null,null,null,null,null,null,{"$f":"IF(referentes!W314=\"\",\"\",referentes!W314)","v":""},{"$f":"referentes!S314","v":0},null,312,0,1290,"X",null,null,{"$f":"CONCATENATE(referentes!W312, \" \",\"(\",referentes!T312,\")\")","v":" ()"},{"$f":"referentes!S312","v":0}]
[null,null,null,null,null,null,null,null,null,null,null,null,null,null,null,null,null,null,null,null,null,null,null,null,null,null,null,null,{"$f":"IF(referentes!W315=\"\",\"\",referentes!W315)","v":""},{"$f":"referentes!S315","v":0},null,313,0,1290,"X",null,null,{"$f":"CONCATENATE(referentes!W313, \" \",\"(\",referentes!T313,\")\")","v":" ()"},{"$f":"referentes!S313","v":0}]
[null,null,null,null,null,null,null,null,null,null,null,null,null,null,null,null,null,null,null,null,null,null,null,null,null,null,null,null,{"$f":"IF(referentes!W316=\"\",\"\",referentes!W316)","v":""},{"$f":"referentes!S316","v":0},null,314,0,1290,"X",null,null,{"$f":"CONCATENATE(referentes!W314, \" \",\"(\",referentes!T314,\")\")","v":" ()"},{"$f":"referentes!S314","v":0}]
[null,null,null,null,null,null,null,null,null,null,null,null,null,null,null,null,null,null,null,null,null,null,null,null,null,null,null,null,{"$f":"IF(referentes!W317=\"\",\"\",referentes!W317)","v":""},{"$f":"referentes!S317","v":0},null,315,0,1290,"X",null,null,{"$f":"CONCATENATE(referentes!W315, \" \",\"(\",referentes!T315,\")\")","v":" ()"},{"$f":"referentes!S315","v":0}]
[null,null,null,null,null,null,null,null,null,null,null,null,null,null,null,null,null,null,null,null,null,null,null,null,null,null,null,null,{"$f":"IF(referentes!W318=\"\",\"\",referentes!W318)","v":""},{"$f":"referentes!S318","v":0},null,316,0,1290,"X",null,null,{"$f":"CONCATENATE(referentes!W316, \" \",\"(\",referentes!T316,\")\")","v":" ()"},{"$f":"referentes!S316","v":0}]
[null,null,null,null,null,null,null,null,null,null,null,null,null,null,null,null,null,null,null,null,null,null,null,null,null,null,null,null,{"$f":"IF(referentes!W319=\"\",\"\",referentes!W319)","v":""},{"$f":"referentes!S319","v":0},null,317,0,1290,"X",null,null,{"$f":"CONCATENATE(referentes!W317, \" \",\"(\",referentes!T317,\")\")","v":" ()"},{"$f":"referentes!S317","v":0}]
[null,null,null,null,null,null,null,null,null,null,null,null,null,null,null,null,null,null,null,null,null,null,null,null,null,null,null,null,{"$f":"IF(referentes!W320=\"\",\"\",referentes!W320)","v":""},{"$f":"referentes!S320","v":0},null,318,0,1290,"X",null,null,{"$f":"CONCATENATE(referentes!W318, \" \",\"(\",referentes!T318,\")\")","v":" ()"},{"$f":"referentes!S318","v":0}]
[null,null,null,null,null,null,null,null,null,null,null,null,null,null,null,null,null,null,null,null,null,null,null,null,null,null,null,null,{"$f":"IF(referentes!W321=\"\",\"\",referentes!W321)","v":""},{"$f":"referentes!S321","v":0},null,319,0,1290,"X",null,null,{"$f":"CONCATENATE(referentes!W319, \" \",\"(\",referentes!T319,\")\")","v":" ()"},{"$f":"referentes!S319","v":0}]
[null,null,null,null,null,null,null,null,null,null,null,null,null,null,null,null,null,null,null,null,null,null,null,null,null,null,null,null,{"$f":"IF(referentes!W322=\"\",\"\",referentes!W322)","v":""},{"$f":"referentes!S322","v":0},null,320,0,1290,"X",null,null,{"$f":"CONCATENATE(referentes!W320, \" \",\"(\",referentes!T320,\")\")","v":" ()"},{"$f":"referentes!S320","v":0}]
[null,null,null,null,null,null,null,null,null,null,null,null,null,null,null,null,null,null,null,null,null,null,null,null,null,null,null,null,{"$f":"IF(referentes!W323=\"\",\"\",referentes!W323)","v":""},{"$f":"referentes!S323","v":0},null,321,0,1290,"X",null,null,{"$f":"CONCATENATE(referentes!W321, \" \",\"(\",referentes!T321,\")\")","v":" ()"},{"$f":"referentes!S321","v":0}]
[null,null,null,null,null,null,null,null,null,null,null,null,null,null,null,null,null,null,null,null,null,null,null,null,null,null,null,null,{"$f":"IF(referentes!W324=\"\",\"\",referentes!W324)","v":""},{"$f":"referentes!S324","v":0},null,322,{"$f":"IF(AC326=\"\",0,AC326)","v":0},{"$f":"IF(AG327=0,MAX($AF$6:$AF$1294)+1,AF327)","v":1290},{"$f":"IFERROR(VLOOKUP(SMALL($AH$6:$AH$1294,AF327),$AF$6:$AH$1294,2,FALSE),\"X\")","v":"X"},null,null,{"$f":"CONCATENATE(referentes!W322, \" \",\"(\",referentes!T322,\")\")","v":" ()"},{"$f":"referentes!S322","v":0}]
[null,null,null,null,null,null,null,null,null,null,null,null,null,null,null,null,null,null,null,null,null,null,null,null,null,null,null,null,{"$f":"IF(referentes!W325=\"\",\"\",referentes!W325)","v":""},{"$f":"referentes!S325","v":0},null,323,0,1290,"X",null,null,{"$f":"CONCATENATE(referentes!W323, \" \",\"(\",referentes!T323,\")\")","v":" ()"},{"$f":"referentes!S323","v":0}]
[null,null,null,null,null,null,null,null,null,null,null,null,null,null,null,null,null,null,null,null,null,null,null,null,null,null,null,null,{"$f":"IF(referentes!W326=\"\",\"\",referentes!W326)","v":""},{"$f":"referentes!S326","v":0},null,324,0,1290,"X",null,null,{"$f":"CONCATENATE(referentes!W324, \" \",\"(\",referentes!T324,\")\")","v":" ()"},{"$f":"referentes!S324","v":0}]
[null,null,null,null,null,null,null,null,null,null,null,null,null,null,null,null,null,null,null,null,null,null,null,null,null,null,null,null,{"$f":"IF(referentes!W327=\"\",\"\",referentes!W327)","v":""},{"$f":"referentes!S327","v":0},null,325,0,1290,"X",null,null,{"$f":"CONCATENATE(referentes!W325, \" \",\"(\",referentes!T325,\")\")","v":" ()"},{"$f":"referentes!S325","v":0}]
[null,null,null,null,null,null,null,null,null,null,null,null,null,null,null,null,null,null,null,null,null,null,null,null,null,null,null,null,{"$f":"IF(referentes!W328=\"\",\"\",referentes!W328)","v":""},{"$f":"referentes!S328","v":0},null,326,0,1290,"X",null,null,{"$f":"CONCATENATE(referentes!W326, \" \",\"(\",referentes!T326,\")\")","v":" ()"},{"$f":"referentes!S326","v":0}]
[null,null,null,null,null,null,null,null,null,null,null,null,null,null,null,null,null,null,null,null,null,null,null,null,null,null,null,null,{"$f":"IF(referentes!W329=\"\",\"\",referentes!W329)","v":""},{"$f":"referentes!S329","v":0},null,327,0,1290,"X",null,null,{"$f":"CONCATENATE(referentes!W327, \" \",\"(\",referentes!T327,\")\")","v":" ()"},{"$f":"referentes!S327","v":0}]
[null,null,null,null,null,null,null,null,null,null,null,null,null,null,null,null,null,null,null,null,null,null,null,null,null,null,null,null,{"$f":"IF(referentes!W330=\"\",\"\",referentes!W330)","v":""},{"$f":"referentes!S330","v":0},null,328,0,1290,"X",null,null,{"$f":"CONCATENATE(referentes!W328, \" \",\"(\",referentes!T328,\")\")","v":" ()"},{"$f":"referentes!S328","v":0}]
[null,null,null,null,null,null,null,null,null,null,null,null,null,null,null,null,null,null,null,null,null,null,null,null,null,null,null,null,{"$f":"IF(referentes!W331=\"\",\"\",referentes!W331)","v":""},{"$f":"referentes!S331","v":0},null,329,0,1290,"X",null,null,{"$f":"CONCATENATE(referentes!W329, \" \",\"(\",referentes!T329,\")\")","v":" ()"},{"$f":"referentes!S329","v":0}]
[null,null,null,null,null,null,null,null,null,null,null,null,null,null,null,null,null,null,null,null,null,null,null,null,null,null,null,null,{"$f":"IF(referentes!W332=\"\",\"\",referentes!W332)","v":""},{"$f":"referentes!S332","v":0},null,330,0,1290,"X",null,null,{"$f":"CONCATENATE(referentes!W330, \" \",\"(\",referentes!T330,\")\")","v":" ()"},{"$f":"referentes!S330","v":0}]
[null,null,null,null,null,null,null,null,null,null,null,null,null,null,null,null,null,null,null,null,null,null,null,null,null,null,null,null,{"$f":"IF(referentes!W333=\"\",\"\",referentes!W333)","v":""},{"$f":"referentes!S333","v":0},null,331,0,1290,"X",null,null,{"$f":"CONCATENATE(referentes!W331, \" \",\"(\",referentes!T331,\")\")","v":" ()"},{"$f":"referentes!S331","v":0}]
[null,null,null,null,null,null,null,null,null,null,null,null,null,null,null,null,null,null,null,null,null,null,null,null,null,null,null,null,{"$f":"IF(referentes!W334=\"\",\"\",referentes!W334)","v":""},{"$f":"referentes!S334","v":0},null,332,0,1290,"X",null,null,{"$f":"CONCATENATE(referentes!W332, \" \",\"(\",referentes!T332,\")\")","v":" ()"},{"$f":"referentes!S332","v":0}]
[null,null,null,null,null,null,null,null,null,null,null,null,null,null,null,null,null,null,null,null,null,null,null,null,null,null,null,null,{"$f":"IF(referentes!W335=\"\",\"\",referentes!W335)","v":""},{"$f":"referentes!S335","v":0},null,333,0,1290,"X",null,null,{"$f":"CONCATENATE(referentes!W333, \" \",\"(\",referentes!T333,\")\")","v":" ()"},{"$f":"referentes!S333","v":0}]
[null,null,null,null,null,null,null,null,null,null,null,null,null,null,null,null,null,null,null,null,null,null,null,null,null,null,null,null,{"$f":"IF(referentes!W336=\"\",\"\",referentes!W336)","v":""},{"$f":"referentes!S336","v":0},null,334,0,1290,"X",null,null,{"$f":"CONCATENATE(referentes!W334, \" \",\"(\",referentes!T334,\")\")","v":" ()"},{"$f":"referentes!S334","v":0}]
[null,null,null,null,null,null,null,null,null,null,null,null,null,null,null,null,null,null,null,null,null,null,null,null,null,null,null,null,{"$f":"IF(referentes!W337=\"\",\"\",referentes!W337)","v":""},{"$f":"referentes!S337","v":0},null,335,0,1290,"X",null,null,{"$f":"CONCATENATE(referentes!W335, \" \",\"(\",referentes!T335,\")\")","v":" ()"},{"$f":"referentes!S335","v":0}]
[null,null,null,null,null,null,null,null,null,null,null,null,null,null,null,null,null,null,null,null,null,null,null,null,null,null,null,null,{"$f":"IF(referentes!W338=\"\",\"\",referentes!W338)","v":""},{"$f":"referentes!S338","v":0},null,336,0,1290,"X",null,null,{"$f":"CONCATENATE(referentes!W336, \" \",\"(\",referentes!T336,\")\")","v":" ()"},{"$f":"referentes!S336","v":0}]
[null,null,null,null,null,null,null,null,null,null,null,null,null,null,null,null,null,null,null,null,null,null,null,null,null,null,null,null,{"$f":"IF(referentes!W339=\"\",\"\",referentes!W339)","v":""},{"$f":"referentes!S339","v":0},null,337,0,1290,"X",null,null,{"$f":"CONCATENATE(referentes!W337, \" \",\"(\",referentes!T337,\")\")","v":" ()"},{"$f":"referentes!S337","v":0}]
[null,null,null,null,null,null,null,null,null,null,null,null,null,null,null,null,null,null,null,null,null,null,null,null,null,null,null,null,{"$f":"IF(referentes!W340=\"\",\"\",referentes!W340)","v":""},{"$f":"referentes!S340","v":0},null,338,0,1290,"X",null,null,{"$f":"CONCATENATE(referentes!W338, \" \",\"(\",referentes!T338,\")\")","v":" ()"},{"$f":"referentes!S338","v":0}]
[null,null,null,null,null,null,null,null,null,null,null,null,null,null,null,null,null,null,null,null,null,null,null,null,null,null,null,null,{"$f":"IF(referentes!W341=\"\",\"\",referentes!W341)","v":""},{"$f":"referentes!S341","v":0},null,339,0,1290,"X",null,null,{"$f":"CONCATENATE(referentes!W339, \" \",\"(\",referentes!T339,\")\")","v":" ()"},{"$f":"referentes!S339","v":0}]
[null,null,null,null,null,null,null,null,null,null,null,null,null,null,null,null,null,null,null,null,null,null,null,null,null,null,null,null,{"$f":"IF(referentes!W342=\"\",\"\",referentes!W342)","v":""},{"$f":"referentes!S342","v":0},null,340,0,1290,"X",null,null,{"$f":"CONCATENATE(referentes!W340, \" \",\"(\",referentes!T340,\")\")","v":" ()"},{"$f":"referentes!S340","v":0}]
[null,null,null,null,null,null,null,null,null,null,null,null,null,null,null,null,null,null,null,null,null,null,null,null,null,null,null,null,{"$f":"IF(referentes!W343=\"\",\"\",referentes!W343)","v":""},{"$f":"referentes!S343","v":0},null,341,0,1290,"X",null,null,{"$f":"CONCATENATE(referentes!W341, \" \",\"(\",referentes!T341,\")\")","v":" ()"},{"$f":"referentes!S341","v":0}]
[null,null,null,null,null,null,null,null,null,null,null,null,null,null,null,null,null,null,null,null,null,null,null,null,null,null,null,null,{"$f":"IF(referentes!W344=\"\",\"\",referentes!W344)","v":""},{"$f":"referentes!S344","v":0},null,342,0,1290,"X",null,null,{"$f":"CONCATENATE(referentes!W342, \" \",\"(\",referentes!T342,\")\")","v":" ()"},{"$f":"referentes!S342","v":0}]
[null,null,null,null,null,null,null,null,null,null,null,null,null,null,null,null,null,null,null,null,null,null,null,null,null,null,null,null,{"$f":"IF(referentes!W345=\"\",\"\",referentes!W345)","v":""},{"$f":"referentes!S345","v":0},null,343,0,1290,"X",null,null,{"$f":"CONCATENATE(referentes!W343, \" \",\"(\",referentes!T343,\")\")","v":" ()"},{"$f":"referentes!S343","v":0}]
[null,null,null,null,null,null,null,null,null,null,null,null,null,null,null,null,null,null,null,null,null,null,null,null,null,null,null,null,{"$f":"IF(referentes!W346=\"\",\"\",referentes!W346)","v":""},{"$f":"referentes!S346","v":0},null,344,0,1290,"X",null,null,{"$f":"CONCATENATE(referentes!W344, \" \",\"(\",referentes!T344,\")\")","v":" ()"},{"$f":"referentes!S344","v":0}]
[null,null,null,null,null,null,null,null,null,null,null,null,null,null,null,null,null,null,null,null,null,null,null,null,null,null,null,null,{"$f":"IF(referentes!W347=\"\",\"\",referentes!W347)","v":""},{"$f":"referentes!S347","v":0},null,345,0,1290,"X",null,null,{"$f":"CONCATENATE(referentes!W345, \" \",\"(\",referentes!T345,\")\")","v":" ()"},{"$f":"referentes!S345","v":0}]
[null,null,null,null,null,null,null,null,null,null,null,null,null,null,null,null,null,null,null,null,null,null,null,null,null,null,null,null,{"$f":"IF(referentes!W348=\"\",\"\",referentes!W348)","v":""},{"$f":"referentes!S348","v":0},null,346,0,1290,"X",null,null,{"$f":"CONCATENATE(referentes!W346, \" \",\"(\",referentes!T346,\")\")","v":" ()"},{"$f":"referentes!S346","v":0}]
[null,null,null,null,null,null,null,null,null,null,null,null,null,null,null,null,null,null,null,null,null,null,null,null,null,null,null,null,{"$f":"IF(referentes!W349=\"\",\"\",referentes!W349)","v":""},{"$f":"referentes!S349","v":0},null,347,0,1290,"X",null,null,{"$f":"CONCATENATE(referentes!W347, \" \",\"(\",referentes!T347,\")\")","v":" ()"},{"$f":"referentes!S347","v":0}]
[null,null,null,null,null,null,null,null,null,null,null,null,null,null,null,null,null,null,null,null,null,null,null,null,null,null,null,null,{"$f":"IF(referentes!W350=\"\",\"\",referentes!W350)","v":""},{"$f":"referentes!S350","v":0},null,348,0,1290,"X",null,null,{"$f":"CONCATENATE(referentes!W348, \" \",\"(\",referentes!T348,\")\")","v":" ()"},{"$f":"referentes!S348","v":0}]
[null,null,null,null,null,null,null,null,null,null,null,null,null,null,null,null,null,null,null,null,null,null,null,null,null,null,null,null,{"$f":"IF(referentes!W351=\"\",\"\",referentes!W351)","v":""},{"$f":"referentes!S351","v":0},null,349,0,1290,"X",null,null,{"$f":"CONCATENATE(referentes!W349, \" \",\"(\",referentes!T349,\")\")","v":" ()"},{"$f":"referentes!S349","v":0}]
[null,null,null,null,null,null,null,null,null,null,null,null,null,null,null,null,null,null,null,null,null,null,null,null,null,null,null,null,{"$f":"IF(referentes!W352=\"\",\"\",referentes!W352)","v":""},{"$f":"referentes!S352","v":0},null,350,0,1290,"X",null,null,{"$f":"CONCATENATE(referentes!W350, \" \",\"(\",referentes!T350,\")\")","v":" ()"},{"$f":"referentes!S350","v":0}]
[null,null,null,null,null,null,null,null,null,null,null,null,null,null,null,null,null,null,null,null,null,null,null,null,null,null,null,null,{"$f":"IF(referentes!W353=\"\",\"\",referentes!W353)","v":""},{"$f":"referentes!S353","v":0},null,351,0,1290,"X",null,null,{"$f":"CONCATENATE(referentes!W351, \" \",\"(\",referentes!T351,\")\")","v":" ()"},{"$f":"referentes!S351","v":0}]
[null,null,null,null,null,null,null,null,null,null,null,null,null,null,null,null,null,null,null,null,null,null,null,null,null,null,null,null,{"$f":"IF(referentes!W354=\"\",\"\",referentes!W354)","v":""},{"$f":"referentes!S354","v":0},null,352,0,1290,"X",null,null,{"$f":"CONCATENATE(referentes!W352, \" \",\"(\",referentes!T352,\")\")","v":" ()"},{"$f":"referentes!S352","v":0}]
[null,null,null,null,null,null,null,null,null,null,null,null,null,null,null,null,null,null,null,null,null,null,null,null,null,null,null,null,{"$f":"IF(referentes!W355=\"\",\"\",referentes!W355)","v":""},{"$f":"referentes!S355","v":0},null,353,0,1290,"X",null,null,{"$f":"CONCATENATE(referentes!W353, \" \",\"(\",referentes!T353,\")\")","v":" ()"},{"$f":"referentes!S353","v":0}]
[null,null,null,null,null,null,null,null,null,null,null,null,null,null,null,null,null,null,null,null,null,null,null,null,null,null,null,null,{"$f":"IF(referentes!W356=\"\",\"\",referentes!W356)","v":""},{"$f":"referentes!S356","v":0},null,354,0,1290,"X",null,null,{"$f":"CONCATENATE(referentes!W354, \" \",\"(\",referentes!T354,\")\")","v":" ()"},{"$f":"referentes!S354","v":0}]
[null,null,null,null,null,null,null,null,null,null,null,null,null,null,null,null,null,null,null,null,null,null,null,null,null,null,null,null,{"$f":"IF(referentes!W357=\"\",\"\",referentes!W357)","v":""},{"$f":"referentes!S357","v":0},null,355,0,1290,"X",null,null,{"$f":"CONCATENATE(referentes!W355, \" \",\"(\",referentes!T355,\")\")","v":" ()"},{"$f":"referentes!S355","v":0}]
[null,null,null,null,null,null,null,null,null,null,null,null,null,null,null,null,null,null,null,null,null,null,null,null,null,null,null,null,{"$f":"IF(referentes!W358=\"\",\"\",referentes!W358)","v":""},{"$f":"referentes!S358","v":0},null,356,0,1290,"X",null,null,{"$f":"CONCATENATE(referentes!W356, \" \",\"(\",referentes!T356,\")\")","v":" ()"},{"$f":"referentes!S356","v":0}]
[null,null,null,null,null,null,null,null,null,null,null,null,null,null,null,null,null,null,null,null,null,null,null,null,null,null,null,null,{"$f":"IF(referentes!W359=\"\",\"\",referentes!W359)","v":""},{"$f":"referentes!S359","v":0},null,357,0,1290,"X",null,null,{"$f":"CONCATENATE(referentes!W357, \" \",\"(\",referentes!T357,\")\")","v":" ()"},{"$f":"referentes!S357","v":0}]
[null,null,null,null,null,null,null,null,null,null,null,null,null,null,null,null,null,null,null,null,null,null,null,null,null,null,null,null,{"$f":"IF(referentes!W360=\"\",\"\",referentes!W360)","v":""},{"$f":"referentes!S360","v":0},null,358,0,1290,"X",null,null,{"$f":"CONCATENATE(referentes!W358, \" \",\"(\",referentes!T358,\")\")","v":" ()"},{"$f":"referentes!S358","v":0}]
[null,null,null,null,null,null,null,null,null,null,null,null,null,null,null,null,null,null,null,null,null,null,null,null,null,null,null,null,{"$f":"IF(referentes!W361=\"\",\"\",referentes!W361)","v":""},{"$f":"referentes!S361","v":0},null,359,0,1290,"X",null,null,{"$f":"CONCATENATE(referentes!W359, \" \",\"(\",referentes!T359,\")\")","v":" ()"},{"$f":"referentes!S359","v":0}]
[null,null,null,null,null,null,null,null,null,null,null,null,null,null,null,null,null,null,null,null,null,null,null,null,null,null,null,null,{"$f":"IF(referentes!W362=\"\",\"\",referentes!W362)","v":""},{"$f":"referentes!S362","v":0},null,360,0,1290,"X",null,null,{"$f":"CONCATENATE(referentes!W360, \" \",\"(\",referentes!T360,\")\")","v":" ()"},{"$f":"referentes!S360","v":0}]
[null,null,null,null,null,null,null,null,null,null,null,null,null,null,null,null,null,null,null,null,null,null,null,null,null,null,null,null,{"$f":"IF(referentes!W363=\"\",\"\",referentes!W363)","v":""},{"$f":"referentes!S363","v":0},null,361,0,1290,"X",null,null,{"$f":"CONCATENATE(referentes!W361, \" \",\"(\",referentes!T361,\")\")","v":" ()"},{"$f":"referentes!S361","v":0}]
[null,null,null,null,null,null,null,null,null,null,null,null,null,null,null,null,null,null,null,null,null,null,null,null,null,null,null,null,{"$f":"IF(referentes!W364=\"\",\"\",referentes!W364)","v":""},{"$f":"referentes!S364","v":0},null,362,0,1290,"X",null,null,{"$f":"CONCATENATE(referentes!W362, \" \",\"(\",referentes!T362,\")\")","v":" ()"},{"$f":"referentes!S362","v":0}]
[null,null,null,null,null,null,null,null,null,null,null,null,null,null,null,null,null,null,null,null,null,null,null,null,null,null,null,null,{"$f":"IF(referentes!W365=\"\",\"\",referentes!W365)","v":""},{"$f":"referentes!S365","v":0},null,363,0,1290,"X",null,null,{"$f":"CONCATENATE(referentes!W363, \" \",\"(\",referentes!T363,\")\")","v":" ()"},{"$f":"referentes!S363","v":0}]
[null,null,null,null,null,null,null,null,null,null,null,null,null,null,null,null,null,null,null,null,null,null,null,null,null,null,null,null,{"$f":"IF(referentes!W366=\"\",\"\",referentes!W366)","v":""},{"$f":"referentes!S366","v":0},null,364,0,1290,"X",null,null,{"$f":"CONCATENATE(referentes!W364, \" \",\"(\",referentes!T364,\")\")","v":" ()"},{"$f":"referentes!S364","v":0}]
[null,null,null,null,null,null,null,null,null,null,null,null,null,null,null,null,null,null,null,null,null,null,null,null,null,null,null,null,{"$f":"IF(referentes!W367=\"\",\"\",referentes!W367)","v":""},{"$f":"referentes!S367","v":0},null,365,0,1290,"X",null,null,{"$f":"CONCATENATE(referentes!W365, \" \",\"(\",referentes!T365,\")\")","v":" ()"},{"$f":"referentes!S365","v":0}]
[null,null,null,null,null,null,null,null,null,null,null,null,null,null,null,null,null,null,null,null,null,null,null,null,null,null,null,null,{"$f":"IF(referentes!W368=\"\",\"\",referentes!W368)","v":""},{"$f":"referentes!S368","v":0},null,366,0,1290,"X",null,null,{"$f":"CONCATENATE(referentes!W366, \" \",\"(\",referentes!T366,\")\")","v":" ()"},{"$f":"referentes!S366","v":0}]
[null,null,null,null,null,null,null,null,null,null,null,null,null,null,null,null,null,null,null,null,null,null,null,null,null,null,null,null,{"$f":"IF(referentes!W369=\"\",\"\",referentes!W369)","v":""},{"$f":"referentes!S369","v":0},null,367,0,1290,"X",null,null,{"$f":"CONCATENATE(referentes!W367, \" \",\"(\",referentes!T367,\")\")","v":" ()"},{"$f":"referentes!S367","v":0}]
[null,null,null,null,null,null,null,null,null,null,null,null,null,null,null,null,null,null,null,null,null,null,null,null,null,null,null,null,{"$f":"IF(referentes!W370=\"\",\"\",referentes!W370)","v":""},{"$f":"referentes!S370","v":0},null,368,0,1290,"X",null,null,{"$f":"CONCATENATE(referentes!W368, \" \",\"(\",referentes!T368,\")\")","v":" ()"},{"$f":"referentes!S368","v":0}]
[null,null,null,null,null,null,null,null,null,null,null,null,null,null,null,null,null,null,null,null,null,null,null,null,null,null,null,null,{"$f":"IF(referentes!W371=\"\",\"\",referentes!W371)","v":""},{"$f":"referentes!S371","v":0},null,369,0,1290,"X",null,null,{"$f":"CONCATENATE(referentes!W369, \" \",\"(\",referentes!T369,\")\")","v":" ()"},{"$f":"referentes!S369","v":0}]
[null,null,null,null,null,null,null,null,null,null,null,null,null,null,null,null,null,null,null,null,null,null,null,null,null,null,null,null,{"$f":"IF(referentes!W372=\"\",\"\",referentes!W372)","v":""},{"$f":"referentes!S372","v":0},null,370,0,1290,"X",null,null,{"$f":"CONCATENATE(referentes!W370, \" \",\"(\",referentes!T370,\")\")","v":" ()"},{"$f":"referentes!S370","v":0}]
[null,null,null,null,null,null,null,null,null,null,null,null,null,null,null,null,null,null,null,null,null,null,null,null,null,null,null,null,{"$f":"IF(referentes!W373=\"\",\"\",referentes!W373)","v":""},{"$f":"referentes!S373","v":0},null,371,0,1290,"X",null,null,{"$f":"CONCATENATE(referentes!W371, \" \",\"(\",referentes!T371,\")\")","v":" ()"},{"$f":"referentes!S371","v":0}]
[null,null,null,null,null,null,null,null,null,null,null,null,null,null,null,null,null,null,null,null,null,null,null,null,null,null,null,null,{"$f":"IF(referentes!W374=\"\",\"\",referentes!W374)","v":""},{"$f":"referentes!S374","v":0},null,372,0,1290,"X",null,null,{"$f":"CONCATENATE(referentes!W372, \" \",\"(\",referentes!T372,\")\")","v":" ()"},{"$f":"referentes!S372","v":0}]
[null,null,null,null,null,null,null,null,null,null,null,null,null,null,null,null,null,null,null,null,null,null,null,null,null,null,null,null,{"$f":"IF(referentes!W375=\"\",\"\",referentes!W375)","v":""},{"$f":"referentes!S375","v":0},null,373,0,1290,"X",null,null,{"$f":"CONCATENATE(referentes!W373, \" \",\"(\",referentes!T373,\")\")","v":" ()"},{"$f":"referentes!S373","v":0}]
[null,null,null,null,null,null,null,null,null,null,null,null,null,null,null,null,null,null,null,null,null,null,null,null,null,null,null,null,{"$f":"IF(referentes!W376=\"\",\"\",referentes!W376)","v":""},{"$f":"referentes!S376","v":0},null,374,0,1290,"X",null,null,{"$f":"CONCATENATE(referentes!W374, \" \",\"(\",referentes!T374,\")\")","v":" ()"},{"$f":"referentes!S374","v":0}]
[null,null,null,null,null,null,null,null,null,null,null,null,null,null,null,null,null,null,null,null,null,null,null,null,null,null,null,null,{"$f":"IF(referentes!W377=\"\",\"\",referentes!W377)","v":""},{"$f":"referentes!S377","v":0},null,375,0,1290,"X",null,null,{"$f":"CONCATENATE(referentes!W375, \" \",\"(\",referentes!T375,\")\")","v":" ()"},{"$f":"referentes!S375","v":0}]
[null,null,null,null,null,null,null,null,null,null,null,null,null,null,null,null,null,null,null,null,null,null,null,null,null,null,null,null,{"$f":"IF(referentes!W378=\"\",\"\",referentes!W378)","v":""},{"$f":"referentes!S378","v":0},null,376,0,1290,"X",null,null,{"$f":"CONCATENATE(referentes!W376, \" \",\"(\",referentes!T376,\")\")","v":" ()"},{"$f":"referentes!S376","v":0}]
[null,null,null,null,null,null,null,null,null,null,null,null,null,null,null,null,null,null,null,null,null,null,null,null,null,null,null,null,{"$f":"IF(referentes!W379=\"\",\"\",referentes!W379)","v":""},{"$f":"referentes!S379","v":0},null,377,0,1290,"X",null,null,{"$f":"CONCATENATE(referentes!W377, \" \",\"(\",referentes!T377,\")\")","v":" ()"},{"$f":"referentes!S377","v":0}]
[null,null,null,null,null,null,null,null,null,null,null,null,null,null,null,null,null,null,null,null,null,null,null,null,null,null,null,null,{"$f":"IF(referentes!W380=\"\",\"\",referentes!W380)","v":""},{"$f":"referentes!S380","v":0},null,378,0,1290,"X",null,null,{"$f":"CONCATENATE(referentes!W378, \" \",\"(\",referentes!T378,\")\")","v":" ()"},{"$f":"referentes!S378","v":0}]
[null,null,null,null,null,null,null,null,null,null,null,null,null,null,null,null,null,null,null,null,null,null,null,null,null,null,null,null,{"$f":"IF(referentes!W381=\"\",\"\",referentes!W381)","v":""},{"$f":"referentes!S381","v":0},null,379,0,1290,"X",null,null,{"$f":"CONCATENATE(referentes!W379, \" \",\"(\",referentes!T379,\")\")","v":" ()"},{"$f":"referentes!S379","v":0}]
[null,null,null,null,null,null,null,null,null,null,null,null,null,null,null,null,null,null,null,null,null,null,null,null,null,null,null,null,{"$f":"IF(referentes!W382=\"\",\"\",referentes!W382)","v":""},{"$f":"referentes!S382","v":0},null,380,0,1290,"X",null,null,{"$f":"CONCATENATE(referentes!W380, \" \",\"(\",referentes!T380,\")\")","v":" ()"},{"$f":"referentes!S380","v":0}]
[null,null,null,null,null,null,null,null,null,null,null,null,null,null,null,null,null,null,null,null,null,null,null,null,null,null,null,null,{"$f":"IF(referentes!W383=\"\",\"\",referentes!W383)","v":""},{"$f":"referentes!S383","v":0},null,381,0,1290,"X",null,null,{"$f":"CONCATENATE(referentes!W381, \" \",\"(\",referentes!T381,\")\")","v":" ()"},{"$f":"referentes!S381","v":0}]
[null,null,null,null,null,null,null,null,null,null,null,null,null,null,null,null,null,null,null,null,null,null,null,null,null,null,null,null,{"$f":"IF(referentes!W384=\"\",\"\",referentes!W384)","v":""},{"$f":"referentes!S384","v":0},null,382,0,1290,"X",null,null,{"$f":"CONCATENATE(referentes!W382, \" \",\"(\",referentes!T382,\")\")","v":" ()"},{"$f":"referentes!S382","v":0}]
[null,null,null,null,null,null,null,null,null,null,null,null,null,null,null,null,null,null,null,null,null,null,null,null,null,null,null,null,{"$f":"IF(referentes!W385=\"\",\"\",referentes!W385)","v":""},{"$f":"referentes!S385","v":0},null,383,0,1290,"X",null,null,{"$f":"CONCATENATE(referentes!W383, \" \",\"(\",referentes!T383,\")\")","v":" ()"},{"$f":"referentes!S383","v":0}]
[null,null,null,null,null,null,null,null,null,null,null,null,null,null,null,null,null,null,null,null,null,null,null,null,null,null,null,null,{"$f":"IF(referentes!W386=\"\",\"\",referentes!W386)","v":""},{"$f":"referentes!S386","v":0},null,384,0,1290,"X",null,null,{"$f":"CONCATENATE(referentes!W384, \" \",\"(\",referentes!T384,\")\")","v":" ()"},{"$f":"referentes!S384","v":0}]
[null,null,null,null,null,null,null,null,null,null,null,null,null,null,null,null,null,null,null,null,null,null,null,null,null,null,null,null,{"$f":"IF(referentes!W387=\"\",\"\",referentes!W387)","v":""},{"$f":"referentes!S387","v":0},null,385,0,1290,"X",null,null,{"$f":"CONCATENATE(referentes!W385, \" \",\"(\",referentes!T385,\")\")","v":" ()"},{"$f":"referentes!S385","v":0}]
[null,null,null,null,null,null,null,null,null,null,null,null,null,null,null,null,null,null,null,null,null,null,null,null,null,null,null,null,{"$f":"IF(referentes!W388=\"\",\"\",referentes!W388)","v":""},{"$f":"referentes!S388","v":0},null,386,{"$f":"IF(AC390=\"\",0,AC390)","v":0},{"$f":"IF(AG391=0,MAX($AF$6:$AF$1294)+1,AF391)","v":1290},{"$f":"IFERROR(VLOOKUP(SMALL($AH$6:$AH$1294,AF391),$AF$6:$AH$1294,2,FALSE),\"X\")","v":"X"},null,null,{"$f":"CONCATENATE(referentes!W386, \" \",\"(\",referentes!T386,\")\")","v":" ()"},{"$f":"referentes!S386","v":0}]
[null,null,null,null,null,null,null,null,null,null,null,null,null,null,null,null,null,null,null,null,null,null,null,null,null,null,null,null,{"$f":"IF(referentes!W389=\"\",\"\",referentes!W389)","v":""},{"$f":"referentes!S389","v":0},null,387,0,1290,"X",null,null,{"$f":"CONCATENATE(referentes!W387, \" \",\"(\",referentes!T387,\")\")","v":" ()"},{"$f":"referentes!S387","v":0}]
[null,null,null,null,null,null,null,null,null,null,null,null,null,null,null,null,null,null,null,null,null,null,null,null,null,null,null,null,{"$f":"IF(referentes!W390=\"\",\"\",referentes!W390)","v":""},{"$f":"referentes!S390","v":0},null,388,0,1290,"X",null,null,{"$f":"CONCATENATE(referentes!W388, \" \",\"(\",referentes!T388,\")\")","v":" ()"},{"$f":"referentes!S388","v":0}]
[null,null,null,null,null,null,null,null,null,null,null,null,null,null,null,null,null,null,null,null,null,null,null,null,null,null,null,null,{"$f":"IF(referentes!W391=\"\",\"\",referentes!W391)","v":""},{"$f":"referentes!S391","v":0},null,389,0,1290,"X",null,null,{"$f":"CONCATENATE(referentes!W389, \" \",\"(\",referentes!T389,\")\")","v":" ()"},{"$f":"referentes!S389","v":0}]
[null,null,null,null,null,null,null,null,null,null,null,null,null,null,null,null,null,null,null,null,null,null,null,null,null,null,null,null,{"$f":"IF(referentes!W392=\"\",\"\",referentes!W392)","v":""},{"$f":"referentes!S392","v":0},null,390,0,1290,"X",null,null,{"$f":"CONCATENATE(referentes!W390, \" \",\"(\",referentes!T390,\")\")","v":" ()"},{"$f":"referentes!S390","v":0}]
[null,null,null,null,null,null,null,null,null,null,null,null,null,null,null,null,null,null,null,null,null,null,null,null,null,null,null,null,{"$f":"IF(referentes!W393=\"\",\"\",referentes!W393)","v":""},{"$f":"referentes!S393","v":0},null,391,0,1290,"X",null,null,{"$f":"CONCATENATE(referentes!W391, \" \",\"(\",referentes!T391,\")\")","v":" ()"},{"$f":"referentes!S391","v":0}]
[null,null,null,null,null,null,null,null,null,null,null,null,null,null,null,null,null,null,null,null,null,null,null,null,null,null,null,null,{"$f":"IF(referentes!W394=\"\",\"\",referentes!W394)","v":""},{"$f":"referentes!S394","v":0},null,392,0,1290,"X",null,null,{"$f":"CONCATENATE(referentes!W392, \" \",\"(\",referentes!T392,\")\")","v":" ()"},{"$f":"referentes!S392","v":0}]
[null,null,null,null,null,null,null,null,null,null,null,null,null,null,null,null,null,null,null,null,null,null,null,null,null,null,null,null,{"$f":"IF(referentes!W395=\"\",\"\",referentes!W395)","v":""},{"$f":"referentes!S395","v":0},null,393,0,1290,"X",null,null,{"$f":"CONCATENATE(referentes!W393, \" \",\"(\",referentes!T393,\")\")","v":" ()"},{"$f":"referentes!S393","v":0}]
[null,null,null,null,null,null,null,null,null,null,null,null,null,null,null,null,null,null,null,null,null,null,null,null,null,null,null,null,{"$f":"IF(referentes!W396=\"\",\"\",referentes!W396)","v":""},{"$f":"referentes!S396","v":0},null,394,0,1290,"X",null,null,{"$f":"CONCATENATE(referentes!W394, \" \",\"(\",referentes!T394,\")\")","v":" ()"},{"$f":"referentes!S394","v":0}]
[null,null,null,null,null,null,null,null,null,null,null,null,null,null,null,null,null,null,null,null,null,null,null,null,null,null,null,null,{"$f":"IF(referentes!W397=\"\",\"\",referentes!W397)","v":""},{"$f":"referentes!S397","v":0},null,395,0,1290,"X",null,null,{"$f":"CONCATENATE(referentes!W395, \" \",\"(\",referentes!T395,\")\")","v":" ()"},{"$f":"referentes!S395","v":0}]
[null,null,null,null,null,null,null,null,null,null,null,null,null,null,null,null,null,null,null,null,null,null,null,null,null,null,null,null,{"$f":"IF(referentes!W398=\"\",\"\",referentes!W398)","v":""},{"$f":"referentes!S398","v":0},null,396,0,1290,"X",null,null,{"$f":"CONCATENATE(referentes!W396, \" \",\"(\",referentes!T396,\")\")","v":" ()"},{"$f":"referentes!S396","v":0}]
[null,null,null,null,null,null,null,null,null,null,null,null,null,null,null,null,null,null,null,null,null,null,null,null,null,null,null,null,{"$f":"IF(referentes!W399=\"\",\"\",referentes!W399)","v":""},{"$f":"referentes!S399","v":0},null,397,0,1290,"X",null,null,{"$f":"CONCATENATE(referentes!W397, \" \",\"(\",referentes!T397,\")\")","v":" ()"},{"$f":"referentes!S397","v":0}]
[null,null,null,null,null,null,null,null,null,null,null,null,null,null,null,null,null,null,null,null,null,null,null,null,null,null,null,null,{"$f":"IF(referentes!W400=\"\",\"\",referentes!W400)","v":""},{"$f":"referentes!S400","v":0},null,398,0,1290,"X",null,null,{"$f":"CONCATENATE(referentes!W398, \" \",\"(\",referentes!T398,\")\")","v":" ()"},{"$f":"referentes!S398","v":0}]
[null,null,null,null,null,null,null,null,null,null,null,null,null,null,null,null,null,null,null,null,null,null,null,null,null,null,null,null,{"$f":"IF(referentes!W401=\"\",\"\",referentes!W401)","v":""},{"$f":"referentes!S401","v":0},null,399,0,1290,"X",null,null,{"$f":"CONCATENATE(referentes!W399, \" \",\"(\",referentes!T399,\")\")","v":" ()"},{"$f":"referentes!S399","v":0}]
[null,null,null,null,null,null,null,null,null,null,null,null,null,null,null,null,null,null,null,null,null,null,null,null,null,null,null,null,{"$f":"IF(referentes!W402=\"\",\"\",referentes!W402)","v":""},{"$f":"referentes!S402","v":0},null,400,0,1290,"X",null,null,{"$f":"CONCATENATE(referentes!W400, \" \",\"(\",referentes!T400,\")\")","v":" ()"},{"$f":"referentes!S400","v":0}]
[null,null,null,null,null,null,null,null,null,null,null,null,null,null,null,null,null,null,null,null,null,null,null,null,null,null,null,null,{"$f":"IF(referentes!W403=\"\",\"\",referentes!W403)","v":""},{"$f":"referentes!S403","v":0},null,401,0,1290,"X",null,null,{"$f":"CONCATENATE(referentes!W401, \" \",\"(\",referentes!T401,\")\")","v":" ()"},{"$f":"referentes!S401","v":0}]
[null,null,null,null,null,null,null,null,null,null,null,null,null,null,null,null,null,null,null,null,null,null,null,null,null,null,null,null,{"$f":"IF(referentes!W404=\"\",\"\",referentes!W404)","v":""},{"$f":"referentes!S404","v":0},null,402,0,1290,"X",null,null,{"$f":"CONCATENATE(referentes!W402, \" \",\"(\",referentes!T402,\")\")","v":" ()"},{"$f":"referentes!S402","v":0}]
[null,null,null,null,null,null,null,null,null,null,null,null,null,null,null,null,null,null,null,null,null,null,null,null,null,null,null,null,{"$f":"IF(referentes!W405=\"\",\"\",referentes!W405)","v":""},{"$f":"referentes!S405","v":0},null,403,0,1290,"X",null,null,{"$f":"CONCATENATE(referentes!W403, \" \",\"(\",referentes!T403,\")\")","v":" ()"},{"$f":"referentes!S403","v":0}]
[null,null,null,null,null,null,null,null,null,null,null,null,null,null,null,null,null,null,null,null,null,null,null,null,null,null,null,null,{"$f":"IF(referentes!W406=\"\",\"\",referentes!W406)","v":""},{"$f":"referentes!S406","v":0},null,404,0,1290,"X",null,null,{"$f":"CONCATENATE(referentes!W404, \" \",\"(\",referentes!T404,\")\")","v":" ()"},{"$f":"referentes!S404","v":0}]
[null,null,null,null,null,null,null,null,null,null,null,null,null,null,null,null,null,null,null,null,null,null,null,null,null,null,null,null,{"$f":"IF(referentes!W407=\"\",\"\",referentes!W407)","v":""},{"$f":"referentes!S407","v":0},null,405,0,1290,"X",null,null,{"$f":"CONCATENATE(referentes!W405, \" \",\"(\",referentes!T405,\")\")","v":" ()"},{"$f":"referentes!S405","v":0}]
[null,null,null,null,null,null,null,null,null,null,null,null,null,null,null,null,null,null,null,null,null,null,null,null,null,null,null,null,{"$f":"IF(referentes!W408=\"\",\"\",referentes!W408)","v":""},{"$f":"referentes!S408","v":0},null,406,0,1290,"X",null,null,{"$f":"CONCATENATE(referentes!W406, \" \",\"(\",referentes!T406,\")\")","v":" ()"},{"$f":"referentes!S406","v":0}]
[null,null,null,null,null,null,null,null,null,null,null,null,null,null,null,null,null,null,null,null,null,null,null,null,null,null,null,null,{"$f":"IF(referentes!W409=\"\",\"\",referentes!W409)","v":""},{"$f":"referentes!S409","v":0},null,407,0,1290,"X",null,null,{"$f":"CONCATENATE(referentes!W407, \" \",\"(\",referentes!T407,\")\")","v":" ()"},{"$f":"referentes!S407","v":0}]
[null,null,null,null,null,null,null,null,null,null,null,null,null,null,null,null,null,null,null,null,null,null,null,null,null,null,null,null,{"$f":"IF(referentes!W410=\"\",\"\",referentes!W410)","v":""},{"$f":"referentes!S410","v":0},null,408,0,1290,"X",null,null,{"$f":"CONCATENATE(referentes!W408, \" \",\"(\",referentes!T408,\")\")","v":" ()"},{"$f":"referentes!S408","v":0}]
[null,null,null,null,null,null,null,null,null,null,null,null,null,null,null,null,null,null,null,null,null,null,null,null,null,null,null,null,{"$f":"IF(referentes!W411=\"\",\"\",referentes!W411)","v":""},{"$f":"referentes!S411","v":0},null,409,0,1290,"X",null,null,{"$f":"CONCATENATE(referentes!W409, \" \",\"(\",referentes!T409,\")\")","v":" ()"},{"$f":"referentes!S409","v":0}]
[null,null,null,null,null,null,null,null,null,null,null,null,null,null,null,null,null,null,null,null,null,null,null,null,null,null,null,null,{"$f":"IF(referentes!W412=\"\",\"\",referentes!W412)","v":""},{"$f":"referentes!S412","v":0},null,410,0,1290,"X",null,null,{"$f":"CONCATENATE(referentes!W410, \" \",\"(\",referentes!T410,\")\")","v":" ()"},{"$f":"referentes!S410","v":0}]
[null,null,null,null,null,null,null,null,null,null,null,null,null,null,null,null,null,null,null,null,null,null,null,null,null,null,null,null,{"$f":"IF(referentes!W413=\"\",\"\",referentes!W413)","v":""},{"$f":"referentes!S413","v":0},null,411,0,1290,"X",null,null,{"$f":"CONCATENATE(referentes!W411, \" \",\"(\",referentes!T411,\")\")","v":" ()"},{"$f":"referentes!S411","v":0}]
[null,null,null,null,null,null,null,null,null,null,null,null,null,null,null,null,null,null,null,null,null,null,null,null,null,null,null,null,{"$f":"IF(referentes!W414=\"\",\"\",referentes!W414)","v":""},{"$f":"referentes!S414","v":0},null,412,0,1290,"X",null,null,{"$f":"CONCATENATE(referentes!W412, \" \",\"(\",referentes!T412,\")\")","v":" ()"},{"$f":"referentes!S412","v":0}]
[null,null,null,null,null,null,null,null,null,null,null,null,null,null,null,null,null,null,null,null,null,null,null,null,null,null,null,null,{"$f":"IF(referentes!W415=\"\",\"\",referentes!W415)","v":""},{"$f":"referentes!S415","v":0},null,413,0,1290,"X",null,null,{"$f":"CONCATENATE(referentes!W413, \" \",\"(\",referentes!T413,\")\")","v":" ()"},{"$f":"referentes!S413","v":0}]
[null,null,null,null,null,null,null,null,null,null,null,null,null,null,null,null,null,null,null,null,null,null,null,null,null,null,null,null,{"$f":"IF(referentes!W416=\"\",\"\",referentes!W416)","v":""},{"$f":"referentes!S416","v":0},null,414,0,1290,"X",null,null,{"$f":"CONCATENATE(referentes!W414, \" \",\"(\",referentes!T414,\")\")","v":" ()"},{"$f":"referentes!S414","v":0}]
[null,null,null,null,null,null,null,null,null,null,null,null,null,null,null,null,null,null,null,null,null,null,null,null,null,null,null,null,{"$f":"IF(referentes!W417=\"\",\"\",referentes!W417)","v":""},{"$f":"referentes!S417","v":0},null,415,0,1290,"X",null,null,{"$f":"CONCATENATE(referentes!W415, \" \",\"(\",referentes!T415,\")\")","v":" ()"},{"$f":"referentes!S415","v":0}]
[null,null,null,null,null,null,null,null,null,null,null,null,null,null,null,null,null,null,null,null,null,null,null,null,null,null,null,null,{"$f":"IF(referentes!W418=\"\",\"\",referentes!W418)","v":""},{"$f":"referentes!S418","v":0},null,416,0,1290,"X",null,null,{"$f":"CONCATENATE(referentes!W416, \" \",\"(\",referentes!T416,\")\")","v":" ()"},{"$f":"referentes!S416","v":0}]
[null,null,null,null,null,null,null,null,null,null,null,null,null,null,null,null,null,null,null,null,null,null,null,null,null,null,null,null,{"$f":"IF(referentes!W419=\"\",\"\",referentes!W419)","v":""},{"$f":"referentes!S419","v":0},null,417,0,1290,"X",null,null,{"$f":"CONCATENATE(referentes!W417, \" \",\"(\",referentes!T417,\")\")","v":" ()"},{"$f":"referentes!S417","v":0}]
[null,null,null,null,null,null,null,null,null,null,null,null,null,null,null,null,null,null,null,null,null,null,null,null,null,null,null,null,{"$f":"IF(referentes!W420=\"\",\"\",referentes!W420)","v":""},{"$f":"referentes!S420","v":0},null,418,0,1290,"X",null,null,{"$f":"CONCATENATE(referentes!W418, \" \",\"(\",referentes!T418,\")\")","v":" ()"},{"$f":"referentes!S418","v":0}]
[null,null,null,null,null,null,null,null,null,null,null,null,null,null,null,null,null,null,null,null,null,null,null,null,null,null,null,null,{"$f":"IF(referentes!W421=\"\",\"\",referentes!W421)","v":""},{"$f":"referentes!S421","v":0},null,419,0,1290,"X",null,null,{"$f":"CONCATENATE(referentes!W419, \" \",\"(\",referentes!T419,\")\")","v":" ()"},{"$f":"referentes!S419","v":0}]
[null,null,null,null,null,null,null,null,null,null,null,null,null,null,null,null,null,null,null,null,null,null,null,null,null,null,null,null,{"$f":"IF(referentes!W422=\"\",\"\",referentes!W422)","v":""},{"$f":"referentes!S422","v":0},null,420,0,1290,"X",null,null,{"$f":"CONCATENATE(referentes!W420, \" \",\"(\",referentes!T420,\")\")","v":" ()"},{"$f":"referentes!S420","v":0}]
[null,null,null,null,null,null,null,null,null,null,null,null,null,null,null,null,null,null,null,null,null,null,null,null,null,null,null,null,{"$f":"IF(referentes!W423=\"\",\"\",referentes!W423)","v":""},{"$f":"referentes!S423","v":0},null,421,0,1290,"X",null,null,{"$f":"CONCATENATE(referentes!W421, \" \",\"(\",referentes!T421,\")\")","v":" ()"},{"$f":"referentes!S421","v":0}]
[null,null,null,null,null,null,null,null,null,null,null,null,null,null,null,null,null,null,null,null,null,null,null,null,null,null,null,null,{"$f":"IF(referentes!W424=\"\",\"\",referentes!W424)","v":""},{"$f":"referentes!S424","v":0},null,422,0,1290,"X",null,null,{"$f":"CONCATENATE(referentes!W422, \" \",\"(\",referentes!T422,\")\")","v":" ()"},{"$f":"referentes!S422","v":0}]
[null,null,null,null,null,null,null,null,null,null,null,null,null,null,null,null,null,null,null,null,null,null,null,null,null,null,null,null,{"$f":"IF(referentes!W425=\"\",\"\",referentes!W425)","v":""},{"$f":"referentes!S425","v":0},null,423,0,1290,"X",null,null,{"$f":"CONCATENATE(referentes!W423, \" \",\"(\",referentes!T423,\")\")","v":" ()"},{"$f":"referentes!S423","v":0}]
[null,null,null,null,null,null,null,null,null,null,null,null,null,null,null,null,null,null,null,null,null,null,null,null,null,null,null,null,{"$f":"IF(referentes!W426=\"\",\"\",referentes!W426)","v":""},{"$f":"referentes!S426","v":0},null,424,0,1290,"X",null,null,{"$f":"CONCATENATE(referentes!W424, \" \",\"(\",referentes!T424,\")\")","v":" ()"},{"$f":"referentes!S424","v":0}]
[null,null,null,null,null,null,null,null,null,null,null,null,null,null,null,null,null,null,null,null,null,null,null,null,null,null,null,null,{"$f":"IF(referentes!W427=\"\",\"\",referentes!W427)","v":""},{"$f":"referentes!S427","v":0},null,425,0,1290,"X",null,null,{"$f":"CONCATENATE(referentes!W425, \" \",\"(\",referentes!T425,\")\")","v":" ()"},{"$f":"referentes!S425","v":0}]
[null,null,null,null,null,null,null,null,null,null,null,null,null,null,null,null,null,null,null,null,null,null,null,null,null,null,null,null,{"$f":"IF(referentes!W428=\"\",\"\",referentes!W428)","v":""},{"$f":"referentes!S428","v":0},null,426,0,1290,"X",null,null,{"$f":"CONCATENATE(referentes!W426, \" \",\"(\",referentes!T426,\")\")","v":" ()"},{"$f":"referentes!S426","v":0}]
[null,null,null,null,null,null,null,null,null,null,null,null,null,null,null,null,null,null,null,null,null,null,null,null,null,null,null,null,{"$f":"IF(referentes!W429=\"\",\"\",referentes!W429)","v":""},{"$f":"referentes!S429","v":0},null,427,0,1290,"X",null,null,{"$f":"CONCATENATE(referentes!W427, \" \",\"(\",referentes!T427,\")\")","v":" ()"},{"$f":"referentes!S427","v":0}]
[null,null,null,null,null,null,null,null,null,null,null,null,null,null,null,null,null,null,null,null,null,null,null,null,null,null,null,null,{"$f":"IF(referentes!W430=\"\",\"\",referentes!W430)","v":""},{"$f":"referentes!S430","v":0},null,428,0,1290,"X",null,null,{"$f":"CONCATENATE(referentes!W428, \" \",\"(\",referentes!T428,\")\")","v":" ()"},{"$f":"referentes!S428","v":0}]
[null,null,null,null,null,null,null,null,null,null,null,null,null,null,null,null,null,null,null,null,null,null,null,null,null,null,null,null,{"$f":"IF(referentes!W431=\"\",\"\",referentes!W431)","v":""},{"$f":"referentes!S431","v":0},null,429,0,1290,"X",null,null,{"$f":"CONCATENATE(referentes!W429, \" \",\"(\",referentes!T429,\")\")","v":" ()"},{"$f":"referentes!S429","v":0}]
[null,null,null,null,null,null,null,null,null,null,null,null,null,null,null,null,null,null,null,null,null,null,null,null,null,null,null,null,{"$f":"IF(referentes!W432=\"\",\"\",referentes!W432)","v":""},{"$f":"referentes!S432","v":0},null,430,0,1290,"X",null,null,{"$f":"CONCATENATE(referentes!W430, \" \",\"(\",referentes!T430,\")\")","v":" ()"},{"$f":"referentes!S430","v":0}]
[null,null,null,null,null,null,null,null,null,null,null,null,null,null,null,null,null,null,null,null,null,null,null,null,null,null,null,null,{"$f":"IF(referentes!W433=\"\",\"\",referentes!W433)","v":""},{"$f":"referentes!S433","v":0},null,431,0,1290,"X",null,null,{"$f":"CONCATENATE(referentes!W431, \" \",\"(\",referentes!T431,\")\")","v":" ()"},{"$f":"referentes!S431","v":0}]
[null,null,null,null,null,null,null,null,null,null,null,null,null,null,null,null,null,null,null,null,null,null,null,null,null,null,null,null,{"$f":"IF(referentes!W434=\"\",\"\",referentes!W434)","v":""},{"$f":"referentes!S434","v":0},null,432,0,1290,"X",null,null,{"$f":"CONCATENATE(referentes!W432, \" \",\"(\",referentes!T432,\")\")","v":" ()"},{"$f":"referentes!S432","v":0}]
[null,null,null,null,null,null,null,null,null,null,null,null,null,null,null,null,null,null,null,null,null,null,null,null,null,null,null,null,{"$f":"IF(referentes!W435=\"\",\"\",referentes!W435)","v":""},{"$f":"referentes!S435","v":0},null,433,0,1290,"X",null,null,{"$f":"CONCATENATE(referentes!W433, \" \",\"(\",referentes!T433,\")\")","v":" ()"},{"$f":"referentes!S433","v":0}]
[null,null,null,null,null,null,null,null,null,null,null,null,null,null,null,null,null,null,null,null,null,null,null,null,null,null,null,null,{"$f":"IF(referentes!W436=\"\",\"\",referentes!W436)","v":""},{"$f":"referentes!S436","v":0},null,434,0,1290,"X",null,null,{"$f":"CONCATENATE(referentes!W434, \" \",\"(\",referentes!T434,\")\")","v":" ()"},{"$f":"referentes!S434","v":0}]
[null,null,null,null,null,null,null,null,null,null,null,null,null,null,null,null,null,null,null,null,null,null,null,null,null,null,null,null,{"$f":"IF(referentes!W437=\"\",\"\",referentes!W437)","v":""},{"$f":"referentes!S437","v":0},null,435,0,1290,"X",null,null,{"$f":"CONCATENATE(referentes!W435, \" \",\"(\",referentes!T435,\")\")","v":" ()"},{"$f":"referentes!S435","v":0}]
[null,null,null,null,null,null,null,null,null,null,null,null,null,null,null,null,null,null,null,null,null,null,null,null,null,null,null,null,{"$f":"IF(referentes!W438=\"\",\"\",referentes!W438)","v":""},{"$f":"referentes!S438","v":0},null,436,0,1290,"X",null,null,{"$f":"CONCATENATE(referentes!W436, \" \",\"(\",referentes!T436,\")\")","v":" ()"},{"$f":"referentes!S436","v":0}]
[null,null,null,null,null,null,null,null,null,null,null,null,null,null,null,null,null,null,null,null,null,null,null,null,null,null,null,null,{"$f":"IF(referentes!W439=\"\",\"\",referentes!W439)","v":""},{"$f":"referentes!S439","v":0},null,437,0,1290,"X",null,null,{"$f":"CONCATENATE(referentes!W437, \" \",\"(\",referentes!T437,\")\")","v":" ()"},{"$f":"referentes!S437","v":0}]
[null,null,null,null,null,null,null,null,null,null,null,null,null,null,null,null,null,null,null,null,null,null,null,null,null,null,null,null,{"$f":"IF(referentes!W440=\"\",\"\",referentes!W440)","v":""},{"$f":"referentes!S440","v":0},null,438,0,1290,"X",null,null,{"$f":"CONCATENATE(referentes!W438, \" \",\"(\",referentes!T438,\")\")","v":" ()"},{"$f":"referentes!S438","v":0}]
[null,null,null,null,null,null,null,null,null,null,null,null,null,null,null,null,null,null,null,null,null,null,null,null,null,null,null,null,{"$f":"IF(referentes!W441=\"\",\"\",referentes!W441)","v":""},{"$f":"referentes!S441","v":0},null,439,0,1290,"X",null,null,{"$f":"CONCATENATE(referentes!W439, \" \",\"(\",referentes!T439,\")\")","v":" ()"},{"$f":"referentes!S439","v":0}]
[null,null,null,null,null,null,null,null,null,null,null,null,null,null,null,null,null,null,null,null,null,null,null,null,null,null,null,null,{"$f":"IF(referentes!W442=\"\",\"\",referentes!W442)","v":""},{"$f":"referentes!S442","v":0},null,440,0,1290,"X",null,null,{"$f":"CONCATENATE(referentes!W440, \" \",\"(\",referentes!T440,\")\")","v":" ()"},{"$f":"referentes!S440","v":0}]
[null,null,null,null,null,null,null,null,null,null,null,null,null,null,null,null,null,null,null,null,null,null,null,null,null,null,null,null,{"$f":"IF(referentes!W443=\"\",\"\",referentes!W443)","v":""},{"$f":"referentes!S443","v":0},null,441,0,1290,"X",null,null,{"$f":"CONCATENATE(referentes!W441, \" \",\"(\",referentes!T441,\")\")","v":" ()"},{"$f":"referentes!S441","v":0}]
[null,null,null,null,null,null,null,null,null,null,null,null,null,null,null,null,null,null,null,null,null,null,null,null,null,null,null,null,{"$f":"IF(referentes!W444=\"\",\"\",referentes!W444)","v":""},{"$f":"referentes!S444","v":0},null,442,0,1290,"X",null,null,{"$f":"CONCATENATE(referentes!W442, \" \",\"(\",referentes!T442,\")\")","v":" ()"},{"$f":"referentes!S442","v":0}]
[null,null,null,null,null,null,null,null,null,null,null,null,null,null,null,null,null,null,null,null,null,null,null,null,null,null,null,null,{"$f":"IF(referentes!W445=\"\",\"\",referentes!W445)","v":""},{"$f":"referentes!S445","v":0},null,443,0,1290,"X",null,null,{"$f":"CONCATENATE(referentes!W443, \" \",\"(\",referentes!T443,\")\")","v":" ()"},{"$f":"referentes!S443","v":0}]
[null,null,null,null,null,null,null,null,null,null,null,null,null,null,null,null,null,null,null,null,null,null,null,null,null,null,null,null,{"$f":"IF(referentes!W446=\"\",\"\",referentes!W446)","v":""},{"$f":"referentes!S446","v":0},null,444,0,1290,"X",null,null,{"$f":"CONCATENATE(referentes!W444, \" \",\"(\",referentes!T444,\")\")","v":" ()"},{"$f":"referentes!S444","v":0}]
[null,null,null,null,null,null,null,null,null,null,null,null,null,null,null,null,null,null,null,null,null,null,null,null,null,null,null,null,{"$f":"IF(referentes!W447=\"\",\"\",referentes!W447)","v":""},{"$f":"referentes!S447","v":0},null,445,0,1290,"X",null,null,{"$f":"CONCATENATE(referentes!W445, \" \",\"(\",referentes!T445,\")\")","v":" ()"},{"$f":"referentes!S445","v":0}]
[null,null,null,null,null,null,null,null,null,null,null,null,null,null,null,null,null,null,null,null,null,null,null,null,null,null,null,null,{"$f":"IF(referentes!W448=\"\",\"\",referentes!W448)","v":""},{"$f":"referentes!S448","v":0},null,446,0,1290,"X",null,null,{"$f":"CONCATENATE(referentes!W446, \" \",\"(\",referentes!T446,\")\")","v":" ()"},{"$f":"referentes!S446","v":0}]
[null,null,null,null,null,null,null,null,null,null,null,null,null,null,null,null,null,null,null,null,null,null,null,null,null,null,null,null,{"$f":"IF(referentes!W449=\"\",\"\",referentes!W449)","v":""},{"$f":"referentes!S449","v":0},null,447,0,1290,"X",null,null,{"$f":"CONCATENATE(referentes!W447, \" \",\"(\",referentes!T447,\")\")","v":" ()"},{"$f":"referentes!S447","v":0}]
[null,null,null,null,null,null,null,null,null,null,null,null,null,null,null,null,null,null,null,null,null,null,null,null,null,null,null,null,{"$f":"IF(referentes!W450=\"\",\"\",referentes!W450)","v":""},{"$f":"referentes!S450","v":0},null,448,0,1290,"X",null,null,{"$f":"CONCATENATE(referentes!W448, \" \",\"(\",referentes!T448,\")\")","v":" ()"},{"$f":"referentes!S448","v":0}]
[null,null,null,null,null,null,null,null,null,null,null,null,null,null,null,null,null,null,null,null,null,null,null,null,null,null,null,null,{"$f":"IF(referentes!W451=\"\",\"\",referentes!W451)","v":""},{"$f":"referentes!S451","v":0},null,449,0,1290,"X",null,null,{"$f":"CONCATENATE(referentes!W449, \" \",\"(\",referentes!T449,\")\")","v":" ()"},{"$f":"referentes!S449","v":0}]
[null,null,null,null,null,null,null,null,null,null,null,null,null,null,null,null,null,null,null,null,null,null,null,null,null,null,null,null,{"$f":"IF(referentes!W452=\"\",\"\",referentes!W452)","v":""},{"$f":"referentes!S452","v":0},null,450,{"$f":"IF(AC454=\"\",0,AC454)","v":0},{"$f":"IF(AG455=0,MAX($AF$6:$AF$1294)+1,AF455)","v":1290},{"$f":"IFERROR(VLOOKUP(SMALL($AH$6:$AH$1294,AF455),$AF$6:$AH$1294,2,FALSE),\"X\")","v":"X"},null,null,{"$f":"CONCATENATE(referentes!W450, \" \",\"(\",referentes!T450,\")\")","v":" ()"},{"$f":"referentes!S450","v":0}]
[null,null,null,null,null,null,null,null,null,null,null,null,null,null,null,null,null,null,null,null,null,null,null,null,null,null,null,null,{"$f":"IF(referentes!W453=\"\",\"\",referentes!W453)","v":""},{"$f":"referentes!S453","v":0},null,451,0,1290,"X",null,null,{"$f":"CONCATENATE(referentes!W451, \" \",\"(\",referentes!T451,\")\")","v":" ()"},{"$f":"referentes!S451","v":0}]
[null,null,null,null,null,null,null,null,null,null,null,null,null,null,null,null,null,null,null,null,null,null,null,null,null,null,null,null,{"$f":"IF(referentes!W454=\"\",\"\",referentes!W454)","v":""},{"$f":"referentes!S454","v":0},null,452,0,1290,"X",null,null,{"$f":"CONCATENATE(referentes!W452, \" \",\"(\",referentes!T452,\")\")","v":" ()"},{"$f":"referentes!S452","v":0}]
[null,null,null,null,null,null,null,null,null,null,null,null,null,null,null,null,null,null,null,null,null,null,null,null,null,null,null,null,{"$f":"IF(referentes!W455=\"\",\"\",referentes!W455)","v":""},{"$f":"referentes!S455","v":0},null,453,0,1290,"X",null,null,{"$f":"CONCATENATE(referentes!W453, \" \",\"(\",referentes!T453,\")\")","v":" ()"},{"$f":"referentes!S453","v":0}]
[null,null,null,null,null,null,null,null,null,null,null,null,null,null,null,null,null,null,null,null,null,null,null,null,null,null,null,null,{"$f":"IF(referentes!W456=\"\",\"\",referentes!W456)","v":""},{"$f":"referentes!S456","v":0},null,454,0,1290,"X",null,null,{"$f":"CONCATENATE(referentes!W454, \" \",\"(\",referentes!T454,\")\")","v":" ()"},{"$f":"referentes!S454","v":0}]
[null,null,null,null,null,null,null,null,null,null,null,null,null,null,null,null,null,null,null,null,null,null,null,null,null,null,null,null,{"$f":"IF(referentes!W457=\"\",\"\",referentes!W457)","v":""},{"$f":"referentes!S457","v":0},null,455,0,1290,"X",null,null,{"$f":"CONCATENATE(referentes!W455, \" \",\"(\",referentes!T455,\")\")","v":" ()"},{"$f":"referentes!S455","v":0}]
[null,null,null,null,null,null,null,null,null,null,null,null,null,null,null,null,null,null,null,null,null,null,null,null,null,null,null,null,{"$f":"IF(referentes!W458=\"\",\"\",referentes!W458)","v":""},{"$f":"referentes!S458","v":0},null,456,0,1290,"X",null,null,{"$f":"CONCATENATE(referentes!W456, \" \",\"(\",referentes!T456,\")\")","v":" ()"},{"$f":"referentes!S456","v":0}]
[null,null,null,null,null,null,null,null,null,null,null,null,null,null,null,null,null,null,null,null,null,null,null,null,null,null,null,null,{"$f":"IF(referentes!W459=\"\",\"\",referentes!W459)","v":""},{"$f":"referentes!S459","v":0},null,457,0,1290,"X",null,null,{"$f":"CONCATENATE(referentes!W457, \" \",\"(\",referentes!T457,\")\")","v":" ()"},{"$f":"referentes!S457","v":0}]
[null,null,null,null,null,null,null,null,null,null,null,null,null,null,null,null,null,null,null,null,null,null,null,null,null,null,null,null,{"$f":"IF(referentes!W460=\"\",\"\",referentes!W460)","v":""},{"$f":"referentes!S460","v":0},null,458,0,1290,"X",null,null,{"$f":"CONCATENATE(referentes!W458, \" \",\"(\",referentes!T458,\")\")","v":" ()"},{"$f":"referentes!S458","v":0}]
[null,null,null,null,null,null,null,null,null,null,null,null,null,null,null,null,null,null,null,null,null,null,null,null,null,null,null,null,{"$f":"IF(referentes!W461=\"\",\"\",referentes!W461)","v":""},{"$f":"referentes!S461","v":0},null,459,0,1290,"X",null,null,{"$f":"CONCATENATE(referentes!W459, \" \",\"(\",referentes!T459,\")\")","v":" ()"},{"$f":"referentes!S459","v":0}]
[null,null,null,null,null,null,null,null,null,null,null,null,null,null,null,null,null,null,null,null,null,null,null,null,null,null,null,null,{"$f":"IF(referentes!W462=\"\",\"\",referentes!W462)","v":""},{"$f":"referentes!S462","v":0},null,460,0,1290,"X",null,null,{"$f":"CONCATENATE(referentes!W460, \" \",\"(\",referentes!T460,\")\")","v":" ()"},{"$f":"referentes!S460","v":0}]
[null,null,null,null,null,null,null,null,null,null,null,null,null,null,null,null,null,null,null,null,null,null,null,null,null,null,null,null,{"$f":"IF(referentes!W463=\"\",\"\",referentes!W463)","v":""},{"$f":"referentes!S463","v":0},null,461,0,1290,"X",null,null,{"$f":"CONCATENATE(referentes!W461, \" \",\"(\",referentes!T461,\")\")","v":" ()"},{"$f":"referentes!S461","v":0}]
[null,null,null,null,null,null,null,null,null,null,null,null,null,null,null,null,null,null,null,null,null,null,null,null,null,null,null,null,{"$f":"IF(referentes!W464=\"\",\"\",referentes!W464)","v":""},{"$f":"referentes!S464","v":0},null,462,0,1290,"X",null,null,{"$f":"CONCATENATE(referentes!W462, \" \",\"(\",referentes!T462,\")\")","v":" ()"},{"$f":"referentes!S462","v":0}]
[null,null,null,null,null,null,null,null,null,null,null,null,null,null,null,null,null,null,null,null,null,null,null,null,null,null,null,null,{"$f":"IF(referentes!W465=\"\",\"\",referentes!W465)","v":""},{"$f":"referentes!S465","v":0},null,463,0,1290,"X",null,null,{"$f":"CONCATENATE(referentes!W463, \" \",\"(\",referentes!T463,\")\")","v":" ()"},{"$f":"referentes!S463","v":0}]
[null,null,null,null,null,null,null,null,null,null,null,null,null,null,null,null,null,null,null,null,null,null,null,null,null,null,null,null,{"$f":"IF(referentes!W466=\"\",\"\",referentes!W466)","v":""},{"$f":"referentes!S466","v":0},null,464,0,1290,"X",null,null,{"$f":"CONCATENATE(referentes!W464, \" \",\"(\",referentes!T464,\")\")","v":" ()"},{"$f":"referentes!S464","v":0}]
[null,null,null,null,null,null,null,null,null,null,null,null,null,null,null,null,null,null,null,null,null,null,null,null,null,null,null,null,{"$f":"IF(referentes!W467=\"\",\"\",referentes!W467)","v":""},{"$f":"referentes!S467","v":0},null,465,0,1290,"X",null,null,{"$f":"CONCATENATE(referentes!W465, \" \",\"(\",referentes!T465,\")\")","v":" ()"},{"$f":"referentes!S465","v":0}]
[null,null,null,null,null,null,null,null,null,null,null,null,null,null,null,null,null,null,null,null,null,null,null,null,null,null,null,null,{"$f":"IF(referentes!W468=\"\",\"\",referentes!W468)","v":""},{"$f":"referentes!S468","v":0},null,466,0,1290,"X",null,null,{"$f":"CONCATENATE(referentes!W466, \" \",\"(\",referentes!T466,\")\")","v":" ()"},{"$f":"referentes!S466","v":0}]
[null,null,null,null,null,null,null,null,null,null,null,null,null,null,null,null,null,null,null,null,null,null,null,null,null,null,null,null,{"$f":"IF(referentes!W469=\"\",\"\",referentes!W469)","v":""},{"$f":"referentes!S469","v":0},null,467,0,1290,"X",null,null,{"$f":"CONCATENATE(referentes!W467, \" \",\"(\",referentes!T467,\")\")","v":" ()"},{"$f":"referentes!S467","v":0}]
[null,null,null,null,null,null,null,null,null,null,null,null,null,null,null,null,null,null,null,null,null,null,null,null,null,null,null,null,{"$f":"IF(referentes!W470=\"\",\"\",referentes!W470)","v":""},{"$f":"referentes!S470","v":0},null,468,0,1290,"X",null,null,{"$f":"CONCATENATE(referentes!W468, \" \",\"(\",referentes!T468,\")\")","v":" ()"},{"$f":"referentes!S468","v":0}]
[null,null,null,null,null,null,null,null,null,null,null,null,null,null,null,null,null,null,null,null,null,null,null,null,null,null,null,null,{"$f":"IF(referentes!W471=\"\",\"\",referentes!W471)","v":""},{"$f":"referentes!S471","v":0},null,469,0,1290,"X",null,null,{"$f":"CONCATENATE(referentes!W469, \" \",\"(\",referentes!T469,\")\")","v":" ()"},{"$f":"referentes!S469","v":0}]
[null,null,null,null,null,null,null,null,null,null,null,null,null,null,null,null,null,null,null,null,null,null,null,null,null,null,null,null,{"$f":"IF(referentes!W472=\"\",\"\",referentes!W472)","v":""},{"$f":"referentes!S472","v":0},null,470,0,1290,"X",null,null,{"$f":"CONCATENATE(referentes!W470, \" \",\"(\",referentes!T470,\")\")","v":" ()"},{"$f":"referentes!S470","v":0}]
[null,null,null,null,null,null,null,null,null,null,null,null,null,null,null,null,null,null,null,null,null,null,null,null,null,null,null,null,{"$f":"IF(referentes!W473=\"\",\"\",referentes!W473)","v":""},{"$f":"referentes!S473","v":0},null,471,0,1290,"X",null,null,{"$f":"CONCATENATE(referentes!W471, \" \",\"(\",referentes!T471,\")\")","v":" ()"},{"$f":"referentes!S471","v":0}]
[null,null,null,null,null,null,null,null,null,null,null,null,null,null,null,null,null,null,null,null,null,null,null,null,null,null,null,null,{"$f":"IF(referentes!W474=\"\",\"\",referentes!W474)","v":""},{"$f":"referentes!S474","v":0},null,472,0,1290,"X",null,null,{"$f":"CONCATENATE(referentes!W472, \" \",\"(\",referentes!T472,\")\")","v":" ()"},{"$f":"referentes!S472","v":0}]
[null,null,null,null,null,null,null,null,null,null,null,null,null,null,null,null,null,null,null,null,null,null,null,null,null,null,null,null,{"$f":"IF(referentes!W475=\"\",\"\",referentes!W475)","v":""},{"$f":"referentes!S475","v":0},null,473,0,1290,"X",null,null,{"$f":"CONCATENATE(referentes!W473, \" \",\"(\",referentes!T473,\")\")","v":" ()"},{"$f":"referentes!S473","v":0}]
[null,null,null,null,null,null,null,null,null,null,null,null,null,null,null,null,null,null,null,null,null,null,null,null,null,null,null,null,{"$f":"IF(referentes!W476=\"\",\"\",referentes!W476)","v":""},{"$f":"referentes!S476","v":0},null,474,0,1290,"X",null,null,{"$f":"CONCATENATE(referentes!W474, \" \",\"(\",referentes!T474,\")\")","v":" ()"},{"$f":"referentes!S474","v":0}]
[null,null,null,null,null,null,null,null,null,null,null,null,null,null,null,null,null,null,null,null,null,null,null,null,null,null,null,null,{"$f":"IF(referentes!W477=\"\",\"\",referentes!W477)","v":""},{"$f":"referentes!S477","v":0},null,475,0,1290,"X",null,null,{"$f":"CONCATENATE(referentes!W475, \" \",\"(\",referentes!T475,\")\")","v":" ()"},{"$f":"referentes!S475","v":0}]
[null,null,null,null,null,null,null,null,null,null,null,null,null,null,null,null,null,null,null,null,null,null,null,null,null,null,null,null,{"$f":"IF(referentes!W478=\"\",\"\",referentes!W478)","v":""},{"$f":"referentes!S478","v":0},null,476,0,1290,"X",null,null,{"$f":"CONCATENATE(referentes!W476, \" \",\"(\",referentes!T476,\")\")","v":" ()"},{"$f":"referentes!S476","v":0}]
[null,null,null,null,null,null,null,null,null,null,null,null,null,null,null,null,null,null,null,null,null,null,null,null,null,null,null,null,{"$f":"IF(referentes!W479=\"\",\"\",referentes!W479)","v":""},{"$f":"referentes!S479","v":0},null,477,0,1290,"X",null,null,{"$f":"CONCATENATE(referentes!W477, \" \",\"(\",referentes!T477,\")\")","v":" ()"},{"$f":"referentes!S477","v":0}]
[null,null,null,null,null,null,null,null,null,null,null,null,null,null,null,null,null,null,null,null,null,null,null,null,null,null,null,null,{"$f":"IF(referentes!W480=\"\",\"\",referentes!W480)","v":""},{"$f":"referentes!S480","v":0},null,478,0,1290,"X",null,null,{"$f":"CONCATENATE(referentes!W478, \" \",\"(\",referentes!T478,\")\")","v":" ()"},{"$f":"referentes!S478","v":0}]
[null,null,null,null,null,null,null,null,null,null,null,null,null,null,null,null,null,null,null,null,null,null,null,null,null,null,null,null,{"$f":"IF(referentes!W481=\"\",\"\",referentes!W481)","v":""},{"$f":"referentes!S481","v":0},null,479,0,1290,"X",null,null,{"$f":"CONCATENATE(referentes!W479, \" \",\"(\",referentes!T479,\")\")","v":" ()"},{"$f":"referentes!S479","v":0}]
[null,null,null,null,null,null,null,null,null,null,null,null,null,null,null,null,null,null,null,null,null,null,null,null,null,null,null,null,{"$f":"IF(referentes!W482=\"\",\"\",referentes!W482)","v":""},{"$f":"referentes!S482","v":0},null,480,0,1290,"X",null,null,{"$f":"CONCATENATE(referentes!W480, \" \",\"(\",referentes!T480,\")\")","v":" ()"},{"$f":"referentes!S480","v":0}]
[null,null,null,null,null,null,null,null,null,null,null,null,null,null,null,null,null,null,null,null,null,null,null,null,null,null,null,null,{"$f":"IF(referentes!W483=\"\",\"\",referentes!W483)","v":""},{"$f":"referentes!S483","v":0},null,481,0,1290,"X",null,null,{"$f":"CONCATENATE(referentes!W481, \" \",\"(\",referentes!T481,\")\")","v":" ()"},{"$f":"referentes!S481","v":0}]
[null,null,null,null,null,null,null,null,null,null,null,null,null,null,null,null,null,null,null,null,null,null,null,null,null,null,null,null,{"$f":"IF(referentes!W484=\"\",\"\",referentes!W484)","v":""},{"$f":"referentes!S484","v":0},null,482,0,1290,"X",null,null,{"$f":"CONCATENATE(referentes!W482, \" \",\"(\",referentes!T482,\")\")","v":" ()"},{"$f":"referentes!S482","v":0}]
[null,null,null,null,null,null,null,null,null,null,null,null,null,null,null,null,null,null,null,null,null,null,null,null,null,null,null,null,{"$f":"IF(referentes!W485=\"\",\"\",referentes!W485)","v":""},{"$f":"referentes!S485","v":0},null,483,0,1290,"X",null,null,{"$f":"CONCATENATE(referentes!W483, \" \",\"(\",referentes!T483,\")\")","v":" ()"},{"$f":"referentes!S483","v":0}]
[null,null,null,null,null,null,null,null,null,null,null,null,null,null,null,null,null,null,null,null,null,null,null,null,null,null,null,null,{"$f":"IF(referentes!W486=\"\",\"\",referentes!W486)","v":""},{"$f":"referentes!S486","v":0},null,484,0,1290,"X",null,null,{"$f":"CONCATENATE(referentes!W484, \" \",\"(\",referentes!T484,\")\")","v":" ()"},{"$f":"referentes!S484","v":0}]
[null,null,null,null,null,null,null,null,null,null,null,null,null,null,null,null,null,null,null,null,null,null,null,null,null,null,null,null,{"$f":"IF(referentes!W487=\"\",\"\",referentes!W487)","v":""},{"$f":"referentes!S487","v":0},null,485,0,1290,"X",null,null,{"$f":"CONCATENATE(referentes!W485, \" \",\"(\",referentes!T485,\")\")","v":" ()"},{"$f":"referentes!S485","v":0}]
[null,null,null,null,null,null,null,null,null,null,null,null,null,null,null,null,null,null,null,null,null,null,null,null,null,null,null,null,{"$f":"IF(referentes!W488=\"\",\"\",referentes!W488)","v":""},{"$f":"referentes!S488","v":0},null,486,0,1290,"X",null,null,{"$f":"CONCATENATE(referentes!W486, \" \",\"(\",referentes!T486,\")\")","v":" ()"},{"$f":"referentes!S486","v":0}]
[null,null,null,null,null,null,null,null,null,null,null,null,null,null,null,null,null,null,null,null,null,null,null,null,null,null,null,null,{"$f":"IF(referentes!W489=\"\",\"\",referentes!W489)","v":""},{"$f":"referentes!S489","v":0},null,487,0,1290,"X",null,null,{"$f":"CONCATENATE(referentes!W487, \" \",\"(\",referentes!T487,\")\")","v":" ()"},{"$f":"referentes!S487","v":0}]
[null,null,null,null,null,null,null,null,null,null,null,null,null,null,null,null,null,null,null,null,null,null,null,null,null,null,null,null,{"$f":"IF(referentes!W490=\"\",\"\",referentes!W490)","v":""},{"$f":"referentes!S490","v":0},null,488,0,1290,"X",null,null,{"$f":"CONCATENATE(referentes!W488, \" \",\"(\",referentes!T488,\")\")","v":" ()"},{"$f":"referentes!S488","v":0}]
[null,null,null,null,null,null,null,null,null,null,null,null,null,null,null,null,null,null,null,null,null,null,null,null,null,null,null,null,{"$f":"IF(referentes!W491=\"\",\"\",referentes!W491)","v":""},{"$f":"referentes!S491","v":0},null,489,0,1290,"X",null,null,{"$f":"CONCATENATE(referentes!W489, \" \",\"(\",referentes!T489,\")\")","v":" ()"},{"$f":"referentes!S489","v":0}]
[null,null,null,null,null,null,null,null,null,null,null,null,null,null,null,null,null,null,null,null,null,null,null,null,null,null,null,null,{"$f":"IF(referentes!W492=\"\",\"\",referentes!W492)","v":""},{"$f":"referentes!S492","v":0},null,490,0,1290,"X",null,null,{"$f":"CONCATENATE(referentes!W490, \" \",\"(\",referentes!T490,\")\")","v":" ()"},{"$f":"referentes!S490","v":0}]
[null,null,null,null,null,null,null,null,null,null,null,null,null,null,null,null,null,null,null,null,null,null,null,null,null,null,null,null,{"$f":"IF(referentes!W493=\"\",\"\",referentes!W493)","v":""},{"$f":"referentes!S493","v":0},null,491,0,1290,"X",null,null,{"$f":"CONCATENATE(referentes!W491, \" \",\"(\",referentes!T491,\")\")","v":" ()"},{"$f":"referentes!S491","v":0}]
[null,null,null,null,null,null,null,null,null,null,null,null,null,null,null,null,null,null,null,null,null,null,null,null,null,null,null,null,{"$f":"IF(referentes!W494=\"\",\"\",referentes!W494)","v":""},{"$f":"referentes!S494","v":0},null,492,0,1290,"X",null,null,{"$f":"CONCATENATE(referentes!W492, \" \",\"(\",referentes!T492,\")\")","v":" ()"},{"$f":"referentes!S492","v":0}]
[null,null,null,null,null,null,null,null,null,null,null,null,null,null,null,null,null,null,null,null,null,null,null,null,null,null,null,null,{"$f":"IF(referentes!W495=\"\",\"\",referentes!W495)","v":""},{"$f":"referentes!S495","v":0},null,493,0,1290,"X",null,null,{"$f":"CONCATENATE(referentes!W493, \" \",\"(\",referentes!T493,\")\")","v":" ()"},{"$f":"referentes!S493","v":0}]
[null,null,null,null,null,null,null,null,null,null,null,null,null,null,null,null,null,null,null,null,null,null,null,null,null,null,null,null,{"$f":"IF(referentes!W496=\"\",\"\",referentes!W496)","v":""},{"$f":"referentes!S496","v":0},null,494,0,1290,"X",null,null,{"$f":"CONCATENATE(referentes!W494, \" \",\"(\",referentes!T494,\")\")","v":" ()"},{"$f":"referentes!S494","v":0}]
[null,null,null,null,null,null,null,null,null,null,null,null,null,null,null,null,null,null,null,null,null,null,null,null,null,null,null,null,{"$f":"IF(referentes!W497=\"\",\"\",referentes!W497)","v":""},{"$f":"referentes!S497","v":0},null,495,0,1290,"X",null,null,{"$f":"CONCATENATE(referentes!W495, \" \",\"(\",referentes!T495,\")\")","v":" ()"},{"$f":"referentes!S495","v":0}]
[null,null,null,null,null,null,null,null,null,null,null,null,null,null,null,null,null,null,null,null,null,null,null,null,null,null,null,null,{"$f":"IF(referentes!W498=\"\",\"\",referentes!W498)","v":""},{"$f":"referentes!S498","v":0},null,496,0,1290,"X",null,null,{"$f":"CONCATENATE(referentes!W496, \" \",\"(\",referentes!T496,\")\")","v":" ()"},{"$f":"referentes!S496","v":0}]
[null,null,null,null,null,null,null,null,null,null,null,null,null,null,null,null,null,null,null,null,null,null,null,null,null,null,null,null,{"$f":"IF(referentes!W499=\"\",\"\",referentes!W499)","v":""},{"$f":"referentes!S499","v":0},null,497,0,1290,"X",null,null,{"$f":"CONCATENATE(referentes!W497, \" \",\"(\",referentes!T497,\")\")","v":" ()"},{"$f":"referentes!S497","v":0}]
[null,null,null,null,null,null,null,null,null,null,null,null,null,null,null,null,null,null,null,null,null,null,null,null,null,null,null,null,{"$f":"IF(referentes!W500=\"\",\"\",referentes!W500)","v":""},{"$f":"referentes!S500","v":0},null,498,0,1290,"X",null,null,{"$f":"CONCATENATE(referentes!W498, \" \",\"(\",referentes!T498,\")\")","v":" ()"},{"$f":"referentes!S498","v":0}]
[null,null,null,null,null,null,null,null,null,null,null,null,null,null,null,null,null,null,null,null,null,null,null,null,null,null,null,null,{"$f":"IF(referentes!W501=\"\",\"\",referentes!W501)","v":""},{"$f":"referentes!S501","v":0},null,499,0,1290,"X",null,null,{"$f":"CONCATENATE(referentes!W499, \" \",\"(\",referentes!T499,\")\")","v":" ()"},{"$f":"referentes!S499","v":0}]
[null,null,null,null,null,null,null,null,null,null,null,null,null,null,null,null,null,null,null,null,null,null,null,null,null,null,null,null,{"$f":"IF(referentes!W502=\"\",\"\",referentes!W502)","v":""},{"$f":"referentes!S502","v":0},null,500,0,1290,"X",null,null,{"$f":"CONCATENATE(referentes!W500, \" \",\"(\",referentes!T500,\")\")","v":" ()"},{"$f":"referentes!S500","v":0}]
[null,null,null,null,null,null,null,null,null,null,null,null,null,null,null,null,null,null,null,null,null,null,null,null,null,null,null,null,{"$f":"IF(referentes!W503=\"\",\"\",referentes!W503)","v":""},{"$f":"referentes!S503","v":0},null,501,0,1290,"X",null,null,{"$f":"CONCATENATE(referentes!W501, \" \",\"(\",referentes!T501,\")\")","v":" ()"},{"$f":"referentes!S501","v":0}]
[null,null,null,null,null,null,null,null,null,null,null,null,null,null,null,null,null,null,null,null,null,null,null,null,null,null,null,null,{"$f":"IF(referentes!W504=\"\",\"\",referentes!W504)","v":""},{"$f":"referentes!S504","v":0},null,502,0,1290,"X",null,null,{"$f":"CONCATENATE(referentes!W502, \" \",\"(\",referentes!T502,\")\")","v":" ()"},{"$f":"referentes!S502","v":0}]
[null,null,null,null,null,null,null,null,null,null,null,null,null,null,null,null,null,null,null,null,null,null,null,null,null,null,null,null,{"$f":"IF(referentes!W505=\"\",\"\",referentes!W505)","v":""},{"$f":"referentes!S505","v":0},null,503,0,1290,"X",null,null,{"$f":"CONCATENATE(referentes!W503, \" \",\"(\",referentes!T503,\")\")","v":" ()"},{"$f":"referentes!S503","v":0}]
[null,null,null,null,null,null,null,null,null,null,null,null,null,null,null,null,null,null,null,null,null,null,null,null,null,null,null,null,{"$f":"IF(referentes!W506=\"\",\"\",referentes!W506)","v":""},{"$f":"referentes!S506","v":0},null,504,0,1290,"X",null,null,{"$f":"CONCATENATE(referentes!W504, \" \",\"(\",referentes!T504,\")\")","v":" ()"},{"$f":"referentes!S504","v":0}]
[null,null,null,null,null,null,null,null,null,null,null,null,null,null,null,null,null,null,null,null,null,null,null,null,null,null,null,null,{"$f":"IF(referentes!W507=\"\",\"\",referentes!W507)","v":""},{"$f":"referentes!S507","v":0},null,505,0,1290,"X",null,null,{"$f":"CONCATENATE(referentes!W505, \" \",\"(\",referentes!T505,\")\")","v":" ()"},{"$f":"referentes!S505","v":0}]
[null,null,null,null,null,null,null,null,null,null,null,null,null,null,null,null,null,null,null,null,null,null,null,null,null,null,null,null,{"$f":"IF(referentes!W508=\"\",\"\",referentes!W508)","v":""},{"$f":"referentes!S508","v":0},null,506,0,1290,"X",null,null,{"$f":"CONCATENATE(referentes!W506, \" \",\"(\",referentes!T506,\")\")","v":" ()"},{"$f":"referentes!S506","v":0}]
[null,null,null,null,null,null,null,null,null,null,null,null,null,null,null,null,null,null,null,null,null,null,null,null,null,null,null,null,{"$f":"IF(referentes!W509=\"\",\"\",referentes!W509)","v":""},{"$f":"referentes!S509","v":0},null,507,0,1290,"X",null,null,{"$f":"CONCATENATE(referentes!W507, \" \",\"(\",referentes!T507,\")\")","v":" ()"},{"$f":"referentes!S507","v":0}]
[null,null,null,null,null,null,null,null,null,null,null,null,null,null,null,null,null,null,null,null,null,null,null,null,null,null,null,null,{"$f":"IF(referentes!W510=\"\",\"\",referentes!W510)","v":""},{"$f":"referentes!S510","v":0},null,508,0,1290,"X",null,null,{"$f":"CONCATENATE(referentes!W508, \" \",\"(\",referentes!T508,\")\")","v":" ()"},{"$f":"referentes!S508","v":0}]
[null,null,null,null,null,null,null,null,null,null,null,null,null,null,null,null,null,null,null,null,null,null,null,null,null,null,null,null,{"$f":"IF(referentes!W511=\"\",\"\",referentes!W511)","v":""},{"$f":"referentes!S511","v":0},null,509,0,1290,"X",null,null,{"$f":"CONCATENATE(referentes!W509, \" \",\"(\",referentes!T509,\")\")","v":" ()"},{"$f":"referentes!S509","v":0}]
[null,null,null,null,null,null,null,null,null,null,null,null,null,null,null,null,null,null,null,null,null,null,null,null,null,null,null,null,{"$f":"IF(referentes!W512=\"\",\"\",referentes!W512)","v":""},{"$f":"referentes!S512","v":0},null,510,0,1290,"X",null,null,{"$f":"CONCATENATE(referentes!W510, \" \",\"(\",referentes!T510,\")\")","v":" ()"},{"$f":"referentes!S510","v":0}]
[null,null,null,null,null,null,null,null,null,null,null,null,null,null,null,null,null,null,null,null,null,null,null,null,null,null,null,null,{"$f":"IF(referentes!W513=\"\",\"\",referentes!W513)","v":""},{"$f":"referentes!S513","v":0},null,511,0,1290,"X",null,null,{"$f":"CONCATENATE(referentes!W511, \" \",\"(\",referentes!T511,\")\")","v":" ()"},{"$f":"referentes!S511","v":0}]
[null,null,null,null,null,null,null,null,null,null,null,null,null,null,null,null,null,null,null,null,null,null,null,null,null,null,null,null,{"$f":"IF(referentes!W514=\"\",\"\",referentes!W514)","v":""},{"$f":"referentes!S514","v":0},null,512,0,1290,"X",null,null,{"$f":"CONCATENATE(referentes!W512, \" \",\"(\",referentes!T512,\")\")","v":" ()"},{"$f":"referentes!S512","v":0}]
[null,null,null,null,null,null,null,null,null,null,null,null,null,null,null,null,null,null,null,null,null,null,null,null,null,null,null,null,{"$f":"IF(referentes!W515=\"\",\"\",referentes!W515)","v":""},{"$f":"referentes!S515","v":0},null,513,0,1290,"X",null,null,{"$f":"CONCATENATE(referentes!W513, \" \",\"(\",referentes!T513,\")\")","v":" ()"},{"$f":"referentes!S513","v":0}]
[null,null,null,null,null,null,null,null,null,null,null,null,null,null,null,null,null,null,null,null,null,null,null,null,null,null,null,null,{"$f":"IF(referentes!W516=\"\",\"\",referentes!W516)","v":""},{"$f":"referentes!S516","v":0},null,514,{"$f":"IF(AC518=\"\",0,AC518)","v":0},{"$f":"IF(AG519=0,MAX($AF$6:$AF$1294)+1,AF519)","v":1290},{"$f":"IFERROR(VLOOKUP(SMALL($AH$6:$AH$1294,AF519),$AF$6:$AH$1294,2,FALSE),\"X\")","v":"X"},null,null,{"$f":"CONCATENATE(referentes!W514, \" \",\"(\",referentes!T514,\")\")","v":" ()"},{"$f":"referentes!S514","v":0}]
[null,null,null,null,null,null,null,null,null,null,null,null,null,null,null,null,null,null,null,null,null,null,null,null,null,null,null,null,{"$f":"IF(referentes!W517=\"\",\"\",referentes!W517)","v":""},{"$f":"referentes!S517","v":0},null,515,0,1290,"X",null,null,{"$f":"CONCATENATE(referentes!W515, \" \",\"(\",referentes!T515,\")\")","v":" ()"},{"$f":"referentes!S515","v":0}]
[null,null,null,null,null,null,null,null,null,null,null,null,null,null,null,null,null,null,null,null,null,null,null,null,null,null,null,null,{"$f":"IF(referentes!W518=\"\",\"\",referentes!W518)","v":""},{"$f":"referentes!S518","v":0},null,516,0,1290,"X",null,null,{"$f":"CONCATENATE(referentes!W516, \" \",\"(\",referentes!T516,\")\")","v":" ()"},{"$f":"referentes!S516","v":0}]
[null,null,null,null,null,null,null,null,null,null,null,null,null,null,null,null,null,null,null,null,null,null,null,null,null,null,null,null,{"$f":"IF(referentes!W519=\"\",\"\",referentes!W519)","v":""},{"$f":"referentes!S519","v":0},null,517,0,1290,"X",null,null,{"$f":"CONCATENATE(referentes!W517, \" \",\"(\",referentes!T517,\")\")","v":" ()"},{"$f":"referentes!S517","v":0}]
[null,null,null,null,null,null,null,null,null,null,null,null,null,null,null,null,null,null,null,null,null,null,null,null,null,null,null,null,{"$f":"IF(referentes!W520=\"\",\"\",referentes!W520)","v":""},{"$f":"referentes!S520","v":0},null,518,0,1290,"X",null,null,{"$f":"CONCATENATE(referentes!W518, \" \",\"(\",referentes!T518,\")\")","v":" ()"},{"$f":"referentes!S518","v":0}]
[null,null,null,null,null,null,null,null,null,null,null,null,null,null,null,null,null,null,null,null,null,null,null,null,null,null,null,null,{"$f":"IF(referentes!W521=\"\",\"\",referentes!W521)","v":""},{"$f":"referentes!S521","v":0},null,519,0,1290,"X",null,null,{"$f":"CONCATENATE(referentes!W519, \" \",\"(\",referentes!T519,\")\")","v":" ()"},{"$f":"referentes!S519","v":0}]
[null,null,null,null,null,null,null,null,null,null,null,null,null,null,null,null,null,null,null,null,null,null,null,null,null,null,null,null,{"$f":"IF(referentes!W522=\"\",\"\",referentes!W522)","v":""},{"$f":"referentes!S522","v":0},null,520,0,1290,"X",null,null,{"$f":"CONCATENATE(referentes!W520, \" \",\"(\",referentes!T520,\")\")","v":" ()"},{"$f":"referentes!S520","v":0}]
[null,null,null,null,null,null,null,null,null,null,null,null,null,null,null,null,null,null,null,null,null,null,null,null,null,null,null,null,{"$f":"IF(referentes!W523=\"\",\"\",referentes!W523)","v":""},{"$f":"referentes!S523","v":0},null,521,0,1290,"X",null,null,{"$f":"CONCATENATE(referentes!W521, \" \",\"(\",referentes!T521,\")\")","v":" ()"},{"$f":"referentes!S521","v":0}]
[null,null,null,null,null,null,null,null,null,null,null,null,null,null,null,null,null,null,null,null,null,null,null,null,null,null,null,null,{"$f":"IF(referentes!W524=\"\",\"\",referentes!W524)","v":""},{"$f":"referentes!S524","v":0},null,522,0,1290,"X",null,null,{"$f":"CONCATENATE(referentes!W522, \" \",\"(\",referentes!T522,\")\")","v":" ()"},{"$f":"referentes!S522","v":0}]
[null,null,null,null,null,null,null,null,null,null,null,null,null,null,null,null,null,null,null,null,null,null,null,null,null,null,null,null,{"$f":"IF(referentes!W525=\"\",\"\",referentes!W525)","v":""},{"$f":"referentes!S525","v":0},null,523,0,1290,"X",null,null,{"$f":"CONCATENATE(referentes!W523, \" \",\"(\",referentes!T523,\")\")","v":" ()"},{"$f":"referentes!S523","v":0}]
[null,null,null,null,null,null,null,null,null,null,null,null,null,null,null,null,null,null,null,null,null,null,null,null,null,null,null,null,{"$f":"IF(referentes!W526=\"\",\"\",referentes!W526)","v":""},{"$f":"referentes!S526","v":0},null,524,0,1290,"X",null,null,{"$f":"CONCATENATE(referentes!W524, \" \",\"(\",referentes!T524,\")\")","v":" ()"},{"$f":"referentes!S524","v":0}]
[null,null,null,null,null,null,null,null,null,null,null,null,null,null,null,null,null,null,null,null,null,null,null,null,null,null,null,null,{"$f":"IF(referentes!W527=\"\",\"\",referentes!W527)","v":""},{"$f":"referentes!S527","v":0},null,525,0,1290,"X",null,null,{"$f":"CONCATENATE(referentes!W525, \" \",\"(\",referentes!T525,\")\")","v":" ()"},{"$f":"referentes!S525","v":0}]
[null,null,null,null,null,null,null,null,null,null,null,null,null,null,null,null,null,null,null,null,null,null,null,null,null,null,null,null,{"$f":"IF(referentes!W528=\"\",\"\",referentes!W528)","v":""},{"$f":"referentes!S528","v":0},null,526,0,1290,"X",null,null,{"$f":"CONCATENATE(referentes!W526, \" \",\"(\",referentes!T526,\")\")","v":" ()"},{"$f":"referentes!S526","v":0}]
[null,null,null,null,null,null,null,null,null,null,null,null,null,null,null,null,null,null,null,null,null,null,null,null,null,null,null,null,{"$f":"IF(referentes!W529=\"\",\"\",referentes!W529)","v":""},{"$f":"referentes!S529","v":0},null,527,0,1290,"X",null,null,{"$f":"CONCATENATE(referentes!W527, \" \",\"(\",referentes!T527,\")\")","v":" ()"},{"$f":"referentes!S527","v":0}]
[null,null,null,null,null,null,null,null,null,null,null,null,null,null,null,null,null,null,null,null,null,null,null,null,null,null,null,null,{"$f":"IF(referentes!W530=\"\",\"\",referentes!W530)","v":""},{"$f":"referentes!S530","v":0},null,528,0,1290,"X",null,null,{"$f":"CONCATENATE(referentes!W528, \" \",\"(\",referentes!T528,\")\")","v":" ()"},{"$f":"referentes!S528","v":0}]
[null,null,null,null,null,null,null,null,null,null,null,null,null,null,null,null,null,null,null,null,null,null,null,null,null,null,null,null,{"$f":"IF(referentes!W531=\"\",\"\",referentes!W531)","v":""},{"$f":"referentes!S531","v":0},null,529,0,1290,"X",null,null,{"$f":"CONCATENATE(referentes!W529, \" \",\"(\",referentes!T529,\")\")","v":" ()"},{"$f":"referentes!S529","v":0}]
[null,null,null,null,null,null,null,null,null,null,null,null,null,null,null,null,null,null,null,null,null,null,null,null,null,null,null,null,{"$f":"IF(referentes!W532=\"\",\"\",referentes!W532)","v":""},{"$f":"referentes!S532","v":0},null,530,0,1290,"X",null,null,{"$f":"CONCATENATE(referentes!W530, \" \",\"(\",referentes!T530,\")\")","v":" ()"},{"$f":"referentes!S530","v":0}]
[null,null,null,null,null,null,null,null,null,null,null,null,null,null,null,null,null,null,null,null,null,null,null,null,null,null,null,null,{"$f":"IF(referentes!W533=\"\",\"\",referentes!W533)","v":""},{"$f":"referentes!S533","v":0},null,531,0,1290,"X",null,null,{"$f":"CONCATENATE(referentes!W531, \" \",\"(\",referentes!T531,\")\")","v":" ()"},{"$f":"referentes!S531","v":0}]
[null,null,null,null,null,null,null,null,null,null,null,null,null,null,null,null,null,null,null,null,null,null,null,null,null,null,null,null,{"$f":"IF(referentes!W534=\"\",\"\",referentes!W534)","v":""},{"$f":"referentes!S534","v":0},null,532,0,1290,"X",null,null,{"$f":"CONCATENATE(referentes!W532, \" \",\"(\",referentes!T532,\")\")","v":" ()"},{"$f":"referentes!S532","v":0}]
[null,null,null,null,null,null,null,null,null,null,null,null,null,null,null,null,null,null,null,null,null,null,null,null,null,null,null,null,{"$f":"IF(referentes!W535=\"\",\"\",referentes!W535)","v":""},{"$f":"referentes!S535","v":0},null,533,0,1290,"X",null,null,{"$f":"CONCATENATE(referentes!W533, \" \",\"(\",referentes!T533,\")\")","v":" ()"},{"$f":"referentes!S533","v":0}]
[null,null,null,null,null,null,null,null,null,null,null,null,null,null,null,null,null,null,null,null,null,null,null,null,null,null,null,null,{"$f":"IF(referentes!W536=\"\",\"\",referentes!W536)","v":""},{"$f":"referentes!S536","v":0},null,534,0,1290,"X",null,null,{"$f":"CONCATENATE(referentes!W534, \" \",\"(\",referentes!T534,\")\")","v":" ()"},{"$f":"referentes!S534","v":0}]
[null,null,null,null,null,null,null,null,null,null,null,null,null,null,null,null,null,null,null,null,null,null,null,null,null,null,null,null,{"$f":"IF(referentes!W537=\"\",\"\",referentes!W537)","v":""},{"$f":"referentes!S537","v":0},null,535,0,1290,"X",null,null,{"$f":"CONCATENATE(referentes!W535, \" \",\"(\",referentes!T535,\")\")","v":" ()"},{"$f":"referentes!S535","v":0}]
[null,null,null,null,null,null,null,null,null,null,null,null,null,null,null,null,null,null,null,null,null,null,null,null,null,null,null,null,{"$f":"IF(referentes!W538=\"\",\"\",referentes!W538)","v":""},{"$f":"referentes!S538","v":0},null,536,0,1290,"X",null,null,{"$f":"CONCATENATE(referentes!W536, \" \",\"(\",referentes!T536,\")\")","v":" ()"},{"$f":"referentes!S536","v":0}]
[null,null,null,null,null,null,null,null,null,null,null,null,null,null,null,null,null,null,null,null,null,null,null,null,null,null,null,null,{"$f":"IF(referentes!W539=\"\",\"\",referentes!W539)","v":""},{"$f":"referentes!S539","v":0},null,537,0,1290,"X",null,null,{"$f":"CONCATENATE(referentes!W537, \" \",\"(\",referentes!T537,\")\")","v":" ()"},{"$f":"referentes!S537","v":0}]
[null,null,null,null,null,null,null,null,null,null,null,null,null,null,null,null,null,null,null,null,null,null,null,null,null,null,null,null,{"$f":"IF(referentes!W540=\"\",\"\",referentes!W540)","v":""},{"$f":"referentes!S540","v":0},null,538,0,1290,"X",null,null,{"$f":"CONCATENATE(referentes!W538, \" \",\"(\",referentes!T538,\")\")","v":" ()"},{"$f":"referentes!S538","v":0}]
[null,null,null,null,null,null,null,null,null,null,null,null,null,null,null,null,null,null,null,null,null,null,null,null,null,null,null,null,{"$f":"IF(referentes!W541=\"\",\"\",referentes!W541)","v":""},{"$f":"referentes!S541","v":0},null,539,0,1290,"X",null,null,{"$f":"CONCATENATE(referentes!W539, \" \",\"(\",referentes!T539,\")\")","v":" ()"},{"$f":"referentes!S539","v":0}]
[null,null,null,null,null,null,null,null,null,null,null,null,null,null,null,null,null,null,null,null,null,null,null,null,null,null,null,null,{"$f":"IF(referentes!W542=\"\",\"\",referentes!W542)","v":""},{"$f":"referentes!S542","v":0},null,540,0,1290,"X",null,null,{"$f":"CONCATENATE(referentes!W540, \" \",\"(\",referentes!T540,\")\")","v":" ()"},{"$f":"referentes!S540","v":0}]
[null,null,null,null,null,null,null,null,null,null,null,null,null,null,null,null,null,null,null,null,null,null,null,null,null,null,null,null,{"$f":"IF(referentes!W543=\"\",\"\",referentes!W543)","v":""},{"$f":"referentes!S543","v":0},null,541,0,1290,"X",null,null,{"$f":"CONCATENATE(referentes!W541, \" \",\"(\",referentes!T541,\")\")","v":" ()"},{"$f":"referentes!S541","v":0}]
[null,null,null,null,null,null,null,null,null,null,null,null,null,null,null,null,null,null,null,null,null,null,null,null,null,null,null,null,{"$f":"IF(referentes!W544=\"\",\"\",referentes!W544)","v":""},{"$f":"referentes!S544","v":0},null,542,0,1290,"X",null,null,{"$f":"CONCATENATE(referentes!W542, \" \",\"(\",referentes!T542,\")\")","v":" ()"},{"$f":"referentes!S542","v":0}]
[null,null,null,null,null,null,null,null,null,null,null,null,null,null,null,null,null,null,null,null,null,null,null,null,null,null,null,null,{"$f":"IF(referentes!W545=\"\",\"\",referentes!W545)","v":""},{"$f":"referentes!S545","v":0},null,543,0,1290,"X",null,null,{"$f":"CONCATENATE(referentes!W543, \" \",\"(\",referentes!T543,\")\")","v":" ()"},{"$f":"referentes!S543","v":0}]
[null,null,null,null,null,null,null,null,null,null,null,null,null,null,null,null,null,null,null,null,null,null,null,null,null,null,null,null,{"$f":"IF(referentes!W546=\"\",\"\",referentes!W546)","v":""},{"$f":"referentes!S546","v":0},null,544,0,1290,"X",null,null,{"$f":"CONCATENATE(referentes!W544, \" \",\"(\",referentes!T544,\")\")","v":" ()"},{"$f":"referentes!S544","v":0}]
[null,null,null,null,null,null,null,null,null,null,null,null,null,null,null,null,null,null,null,null,null,null,null,null,null,null,null,null,{"$f":"IF(referentes!W547=\"\",\"\",referentes!W547)","v":""},{"$f":"referentes!S547","v":0},null,545,0,1290,"X",null,null,{"$f":"CONCATENATE(referentes!W545, \" \",\"(\",referentes!T545,\")\")","v":" ()"},{"$f":"referentes!S545","v":0}]
[null,null,null,null,null,null,null,null,null,null,null,null,null,null,null,null,null,null,null,null,null,null,null,null,null,null,null,null,{"$f":"IF(referentes!W548=\"\",\"\",referentes!W548)","v":""},{"$f":"referentes!S548","v":0},null,546,0,1290,"X",null,null,{"$f":"CONCATENATE(referentes!W546, \" \",\"(\",referentes!T546,\")\")","v":" ()"},{"$f":"referentes!S546","v":0}]
[null,null,null,null,null,null,null,null,null,null,null,null,null,null,null,null,null,null,null,null,null,null,null,null,null,null,null,null,{"$f":"IF(referentes!W549=\"\",\"\",referentes!W549)","v":""},{"$f":"referentes!S549","v":0},null,547,0,1290,"X",null,null,{"$f":"CONCATENATE(referentes!W547, \" \",\"(\",referentes!T547,\")\")","v":" ()"},{"$f":"referentes!S547","v":0}]
[null,null,null,null,null,null,null,null,null,null,null,null,null,null,null,null,null,null,null,null,null,null,null,null,null,null,null,null,{"$f":"IF(referentes!W550=\"\",\"\",referentes!W550)","v":""},{"$f":"referentes!S550","v":0},null,548,0,1290,"X",null,null,{"$f":"CONCATENATE(referentes!W548, \" \",\"(\",referentes!T548,\")\")","v":" ()"},{"$f":"referentes!S548","v":0}]
[null,null,null,null,null,null,null,null,null,null,null,null,null,null,null,null,null,null,null,null,null,null,null,null,null,null,null,null,{"$f":"IF(referentes!W551=\"\",\"\",referentes!W551)","v":""},{"$f":"referentes!S551","v":0},null,549,0,1290,"X",null,null,{"$f":"CONCATENATE(referentes!W549, \" \",\"(\",referentes!T549,\")\")","v":" ()"},{"$f":"referentes!S549","v":0}]
[null,null,null,null,null,null,null,null,null,null,null,null,null,null,null,null,null,null,null,null,null,null,null,null,null,null,null,null,{"$f":"IF(referentes!W552=\"\",\"\",referentes!W552)","v":""},{"$f":"referentes!S552","v":0},null,550,0,1290,"X",null,null,{"$f":"CONCATENATE(referentes!W550, \" \",\"(\",referentes!T550,\")\")","v":" ()"},{"$f":"referentes!S550","v":0}]
[null,null,null,null,null,null,null,null,null,null,null,null,null,null,null,null,null,null,null,null,null,null,null,null,null,null,null,null,{"$f":"IF(referentes!W553=\"\",\"\",referentes!W553)","v":""},{"$f":"referentes!S553","v":0},null,551,0,1290,"X",null,null,{"$f":"CONCATENATE(referentes!W551, \" \",\"(\",referentes!T551,\")\")","v":" ()"},{"$f":"referentes!S551","v":0}]
[null,null,null,null,null,null,null,null,null,null,null,null,null,null,null,null,null,null,null,null,null,null,null,null,null,null,null,null,{"$f":"IF(referentes!W554=\"\",\"\",referentes!W554)","v":""},{"$f":"referentes!S554","v":0},null,552,0,1290,"X",null,null,{"$f":"CONCATENATE(referentes!W552, \" \",\"(\",referentes!T552,\")\")","v":" ()"},{"$f":"referentes!S552","v":0}]
[null,null,null,null,null,null,null,null,null,null,null,null,null,null,null,null,null,null,null,null,null,null,null,null,null,null,null,null,{"$f":"IF(referentes!W555=\"\",\"\",referentes!W555)","v":""},{"$f":"referentes!S555","v":0},null,553,0,1290,"X",null,null,{"$f":"CONCATENATE(referentes!W553, \" \",\"(\",referentes!T553,\")\")","v":" ()"},{"$f":"referentes!S553","v":0}]
[null,null,null,null,null,null,null,null,null,null,null,null,null,null,null,null,null,null,null,null,null,null,null,null,null,null,null,null,{"$f":"IF(referentes!W556=\"\",\"\",referentes!W556)","v":""},{"$f":"referentes!S556","v":0},null,554,0,1290,"X",null,null,{"$f":"CONCATENATE(referentes!W554, \" \",\"(\",referentes!T554,\")\")","v":" ()"},{"$f":"referentes!S554","v":0}]
[null,null,null,null,null,null,null,null,null,null,null,null,null,null,null,null,null,null,null,null,null,null,null,null,null,null,null,null,{"$f":"IF(referentes!W557=\"\",\"\",referentes!W557)","v":""},{"$f":"referentes!S557","v":0},null,555,0,1290,"X",null,null,{"$f":"CONCATENATE(referentes!W555, \" \",\"(\",referentes!T555,\")\")","v":" ()"},{"$f":"referentes!S555","v":0}]
[null,null,null,null,null,null,null,null,null,null,null,null,null,null,null,null,null,null,null,null,null,null,null,null,null,null,null,null,{"$f":"IF(referentes!W558=\"\",\"\",referentes!W558)","v":""},{"$f":"referentes!S558","v":0},null,556,0,1290,"X",null,null,{"$f":"CONCATENATE(referentes!W556, \" \",\"(\",referentes!T556,\")\")","v":" ()"},{"$f":"referentes!S556","v":0}]
[null,null,null,null,null,null,null,null,null,null,null,null,null,null,null,null,null,null,null,null,null,null,null,null,null,null,null,null,{"$f":"IF(referentes!W559=\"\",\"\",referentes!W559)","v":""},{"$f":"referentes!S559","v":0},null,557,0,1290,"X",null,null,{"$f":"CONCATENATE(referentes!W557, \" \",\"(\",referentes!T557,\")\")","v":" ()"},{"$f":"referentes!S557","v":0}]
[null,null,null,null,null,null,null,null,null,null,null,null,null,null,null,null,null,null,null,null,null,null,null,null,null,null,null,null,{"$f":"IF(referentes!W560=\"\",\"\",referentes!W560)","v":""},{"$f":"referentes!S560","v":0},null,558,0,1290,"X",null,null,{"$f":"CONCATENATE(referentes!W558, \" \",\"(\",referentes!T558,\")\")","v":" ()"},{"$f":"referentes!S558","v":0}]
[null,null,null,null,null,null,null,null,null,null,null,null,null,null,null,null,null,null,null,null,null,null,null,null,null,null,null,null,{"$f":"IF(referentes!W561=\"\",\"\",referentes!W561)","v":""},{"$f":"referentes!S561","v":0},null,559,0,1290,"X",null,null,{"$f":"CONCATENATE(referentes!W559, \" \",\"(\",referentes!T559,\")\")","v":" ()"},{"$f":"referentes!S559","v":0}]
[null,null,null,null,null,null,null,null,null,null,null,null,null,null,null,null,null,null,null,null,null,null,null,null,null,null,null,null,{"$f":"IF(referentes!W562=\"\",\"\",referentes!W562)","v":""},{"$f":"referentes!S562","v":0},null,560,0,1290,"X",null,null,{"$f":"CONCATENATE(referentes!W560, \" \",\"(\",referentes!T560,\")\")","v":" ()"},{"$f":"referentes!S560","v":0}]
[null,null,null,null,null,null,null,null,null,null,null,null,null,null,null,null,null,null,null,null,null,null,null,null,null,null,null,null,{"$f":"IF(referentes!W563=\"\",\"\",referentes!W563)","v":""},{"$f":"referentes!S563","v":0},null,561,0,1290,"X",null,null,{"$f":"CONCATENATE(referentes!W561, \" \",\"(\",referentes!T561,\")\")","v":" ()"},{"$f":"referentes!S561","v":0}]
[null,null,null,null,null,null,null,null,null,null,null,null,null,null,null,null,null,null,null,null,null,null,null,null,null,null,null,null,{"$f":"IF(referentes!W564=\"\",\"\",referentes!W564)","v":""},{"$f":"referentes!S564","v":0},null,562,0,1290,"X",null,null,{"$f":"CONCATENATE(referentes!W562, \" \",\"(\",referentes!T562,\")\")","v":" ()"},{"$f":"referentes!S562","v":0}]
[null,null,null,null,null,null,null,null,null,null,null,null,null,null,null,null,null,null,null,null,null,null,null,null,null,null,null,null,{"$f":"IF(referentes!W565=\"\",\"\",referentes!W565)","v":""},{"$f":"referentes!S565","v":0},null,563,0,1290,"X",null,null,{"$f":"CONCATENATE(referentes!W563, \" \",\"(\",referentes!T563,\")\")","v":" ()"},{"$f":"referentes!S563","v":0}]
[null,null,null,null,null,null,null,null,null,null,null,null,null,null,null,null,null,null,null,null,null,null,null,null,null,null,null,null,{"$f":"IF(referentes!W566=\"\",\"\",referentes!W566)","v":""},{"$f":"referentes!S566","v":0},null,564,0,1290,"X",null,null,{"$f":"CONCATENATE(referentes!W564, \" \",\"(\",referentes!T564,\")\")","v":" ()"},{"$f":"referentes!S564","v":0}]
[null,null,null,null,null,null,null,null,null,null,null,null,null,null,null,null,null,null,null,null,null,null,null,null,null,null,null,null,{"$f":"IF(referentes!W567=\"\",\"\",referentes!W567)","v":""},{"$f":"referentes!S567","v":0},null,565,0,1290,"X",null,null,{"$f":"CONCATENATE(referentes!W565, \" \",\"(\",referentes!T565,\")\")","v":" ()"},{"$f":"referentes!S565","v":0}]
[null,null,null,null,null,null,null,null,null,null,null,null,null,null,null,null,null,null,null,null,null,null,null,null,null,null,null,null,{"$f":"IF(referentes!W568=\"\",\"\",referentes!W568)","v":""},{"$f":"referentes!S568","v":0},null,566,0,1290,"X",null,null,{"$f":"CONCATENATE(referentes!W566, \" \",\"(\",referentes!T566,\")\")","v":" ()"},{"$f":"referentes!S566","v":0}]
[null,null,null,null,null,null,null,null,null,null,null,null,null,null,null,null,null,null,null,null,null,null,null,null,null,null,null,null,{"$f":"IF(referentes!W569=\"\",\"\",referentes!W569)","v":""},{"$f":"referentes!S569","v":0},null,567,0,1290,"X",null,null,{"$f":"CONCATENATE(referentes!W567, \" \",\"(\",referentes!T567,\")\")","v":" ()"},{"$f":"referentes!S567","v":0}]
[null,null,null,null,null,null,null,null,null,null,null,null,null,null,null,null,null,null,null,null,null,null,null,null,null,null,null,null,{"$f":"IF(referentes!W570=\"\",\"\",referentes!W570)","v":""},{"$f":"referentes!S570","v":0},null,568,0,1290,"X",null,null,{"$f":"CONCATENATE(referentes!W568, \" \",\"(\",referentes!T568,\")\")","v":" ()"},{"$f":"referentes!S568","v":0}]
[null,null,null,null,null,null,null,null,null,null,null,null,null,null,null,null,null,null,null,null,null,null,null,null,null,null,null,null,{"$f":"IF(referentes!W571=\"\",\"\",referentes!W571)","v":""},{"$f":"referentes!S571","v":0},null,569,0,1290,"X",null,null,{"$f":"CONCATENATE(referentes!W569, \" \",\"(\",referentes!T569,\")\")","v":" ()"},{"$f":"referentes!S569","v":0}]
[null,null,null,null,null,null,null,null,null,null,null,null,null,null,null,null,null,null,null,null,null,null,null,null,null,null,null,null,{"$f":"IF(referentes!W572=\"\",\"\",referentes!W572)","v":""},{"$f":"referentes!S572","v":0},null,570,0,1290,"X",null,null,{"$f":"CONCATENATE(referentes!W570, \" \",\"(\",referentes!T570,\")\")","v":" ()"},{"$f":"referentes!S570","v":0}]
[null,null,null,null,null,null,null,null,null,null,null,null,null,null,null,null,null,null,null,null,null,null,null,null,null,null,null,null,{"$f":"IF(referentes!W573=\"\",\"\",referentes!W573)","v":""},{"$f":"referentes!S573","v":0},null,571,0,1290,"X",null,null,{"$f":"CONCATENATE(referentes!W571, \" \",\"(\",referentes!T571,\")\")","v":" ()"},{"$f":"referentes!S571","v":0}]
[null,null,null,null,null,null,null,null,null,null,null,null,null,null,null,null,null,null,null,null,null,null,null,null,null,null,null,null,{"$f":"IF(referentes!W574=\"\",\"\",referentes!W574)","v":""},{"$f":"referentes!S574","v":0},null,572,0,1290,"X",null,null,{"$f":"CONCATENATE(referentes!W572, \" \",\"(\",referentes!T572,\")\")","v":" ()"},{"$f":"referentes!S572","v":0}]
[null,null,null,null,null,null,null,null,null,null,null,null,null,null,null,null,null,null,null,null,null,null,null,null,null,null,null,null,{"$f":"IF(referentes!W575=\"\",\"\",referentes!W575)","v":""},{"$f":"referentes!S575","v":0},null,573,0,1290,"X",null,null,{"$f":"CONCATENATE(referentes!W573, \" \",\"(\",referentes!T573,\")\")","v":" ()"},{"$f":"referentes!S573","v":0}]
[null,null,null,null,null,null,null,null,null,null,null,null,null,null,null,null,null,null,null,null,null,null,null,null,null,null,null,null,{"$f":"IF(referentes!W576=\"\",\"\",referentes!W576)","v":""},{"$f":"referentes!S576","v":0},null,574,0,1290,"X",null,null,{"$f":"CONCATENATE(referentes!W574, \" \",\"(\",referentes!T574,\")\")","v":" ()"},{"$f":"referentes!S574","v":0}]
[null,null,null,null,null,null,null,null,null,null,null,null,null,null,null,null,null,null,null,null,null,null,null,null,null,null,null,null,{"$f":"IF(referentes!W577=\"\",\"\",referentes!W577)","v":""},{"$f":"referentes!S577","v":0},null,575,0,1290,"X",null,null,{"$f":"CONCATENATE(referentes!W575, \" \",\"(\",referentes!T575,\")\")","v":" ()"},{"$f":"referentes!S575","v":0}]
[null,null,null,null,null,null,null,null,null,null,null,null,null,null,null,null,null,null,null,null,null,null,null,null,null,null,null,null,{"$f":"IF(referentes!W578=\"\",\"\",referentes!W578)","v":""},{"$f":"referentes!S578","v":0},null,576,0,1290,"X",null,null,{"$f":"CONCATENATE(referentes!W576, \" \",\"(\",referentes!T576,\")\")","v":" ()"},{"$f":"referentes!S576","v":0}]
[null,null,null,null,null,null,null,null,null,null,null,null,null,null,null,null,null,null,null,null,null,null,null,null,null,null,null,null,{"$f":"IF(referentes!W579=\"\",\"\",referentes!W579)","v":""},{"$f":"referentes!S579","v":0},null,577,0,1290,"X",null,null,{"$f":"CONCATENATE(referentes!W577, \" \",\"(\",referentes!T577,\")\")","v":" ()"},{"$f":"referentes!S577","v":0}]
[null,null,null,null,null,null,null,null,null,null,null,null,null,null,null,null,null,null,null,null,null,null,null,null,null,null,null,null,{"$f":"IF(referentes!W580=\"\",\"\",referentes!W580)","v":""},{"$f":"referentes!S580","v":0},null,578,{"$f":"IF(AC582=\"\",0,AC582)","v":0},{"$f":"IF(AG583=0,MAX($AF$6:$AF$1294)+1,AF583)","v":1290},{"$f":"IFERROR(VLOOKUP(SMALL($AH$6:$AH$1294,AF583),$AF$6:$AH$1294,2,FALSE),\"X\")","v":"X"},null,null,{"$f":"CONCATENATE(referentes!W578, \" \",\"(\",referentes!T578,\")\")","v":" ()"},{"$f":"referentes!S578","v":0}]
[null,null,null,null,null,null,null,null,null,null,null,null,null,null,null,null,null,null,null,null,null,null,null,null,null,null,null,null,{"$f":"IF(referentes!W581=\"\",\"\",referentes!W581)","v":""},{"$f":"referentes!S581","v":0},null,579,0,1290,"X",null,null,{"$f":"CONCATENATE(referentes!W579, \" \",\"(\",referentes!T579,\")\")","v":" ()"},{"$f":"referentes!S579","v":0}]
[null,null,null,null,null,null,null,null,null,null,null,null,null,null,null,null,null,null,null,null,null,null,null,null,null,null,null,null,{"$f":"IF(referentes!W582=\"\",\"\",referentes!W582)","v":""},{"$f":"referentes!S582","v":0},null,580,0,1290,"X",null,null,{"$f":"CONCATENATE(referentes!W580, \" \",\"(\",referentes!T580,\")\")","v":" ()"},{"$f":"referentes!S580","v":0}]
[null,null,null,null,null,null,null,null,null,null,null,null,null,null,null,null,null,null,null,null,null,null,null,null,null,null,null,null,{"$f":"IF(referentes!W583=\"\",\"\",referentes!W583)","v":""},{"$f":"referentes!S583","v":0},null,581,0,1290,"X",null,null,{"$f":"CONCATENATE(referentes!W581, \" \",\"(\",referentes!T581,\")\")","v":" ()"},{"$f":"referentes!S581","v":0}]
[null,null,null,null,null,null,null,null,null,null,null,null,null,null,null,null,null,null,null,null,null,null,null,null,null,null,null,null,{"$f":"IF(referentes!W584=\"\",\"\",referentes!W584)","v":""},{"$f":"referentes!S584","v":0},null,582,0,1290,"X",null,null,{"$f":"CONCATENATE(referentes!W582, \" \",\"(\",referentes!T582,\")\")","v":" ()"},{"$f":"referentes!S582","v":0}]
[null,null,null,null,null,null,null,null,null,null,null,null,null,null,null,null,null,null,null,null,null,null,null,null,null,null,null,null,{"$f":"IF(referentes!W585=\"\",\"\",referentes!W585)","v":""},{"$f":"referentes!S585","v":0},null,583,0,1290,"X",null,null,{"$f":"CONCATENATE(referentes!W583, \" \",\"(\",referentes!T583,\")\")","v":" ()"},{"$f":"referentes!S583","v":0}]
[null,null,null,null,null,null,null,null,null,null,null,null,null,null,null,null,null,null,null,null,null,null,null,null,null,null,null,null,{"$f":"IF(referentes!W586=\"\",\"\",referentes!W586)","v":""},{"$f":"referentes!S586","v":0},null,584,0,1290,"X",null,null,{"$f":"CONCATENATE(referentes!W584, \" \",\"(\",referentes!T584,\")\")","v":" ()"},{"$f":"referentes!S584","v":0}]
[null,null,null,null,null,null,null,null,null,null,null,null,null,null,null,null,null,null,null,null,null,null,null,null,null,null,null,null,{"$f":"IF(referentes!W587=\"\",\"\",referentes!W587)","v":""},{"$f":"referentes!S587","v":0},null,585,0,1290,"X",null,null,{"$f":"CONCATENATE(referentes!W585, \" \",\"(\",referentes!T585,\")\")","v":" ()"},{"$f":"referentes!S585","v":0}]
[null,null,null,null,null,null,null,null,null,null,null,null,null,null,null,null,null,null,null,null,null,null,null,null,null,null,null,null,{"$f":"IF(referentes!W588=\"\",\"\",referentes!W588)","v":""},{"$f":"referentes!S588","v":0},null,586,0,1290,"X",null,null,{"$f":"CONCATENATE(referentes!W586, \" \",\"(\",referentes!T586,\")\")","v":" ()"},{"$f":"referentes!S586","v":0}]
[null,null,null,null,null,null,null,null,null,null,null,null,null,null,null,null,null,null,null,null,null,null,null,null,null,null,null,null,{"$f":"IF(referentes!W589=\"\",\"\",referentes!W589)","v":""},{"$f":"referentes!S589","v":0},null,587,0,1290,"X",null,null,{"$f":"CONCATENATE(referentes!W587, \" \",\"(\",referentes!T587,\")\")","v":" ()"},{"$f":"referentes!S587","v":0}]
[null,null,null,null,null,null,null,null,null,null,null,null,null,null,null,null,null,null,null,null,null,null,null,null,null,null,null,null,{"$f":"IF(referentes!W590=\"\",\"\",referentes!W590)","v":""},{"$f":"referentes!S590","v":0},null,588,0,1290,"X",null,null,{"$f":"CONCATENATE(referentes!W588, \" \",\"(\",referentes!T588,\")\")","v":" ()"},{"$f":"referentes!S588","v":0}]
[null,null,null,null,null,null,null,null,null,null,null,null,null,null,null,null,null,null,null,null,null,null,null,null,null,null,null,null,{"$f":"IF(referentes!W591=\"\",\"\",referentes!W591)","v":""},{"$f":"referentes!S591","v":0},null,589,0,1290,"X",null,null,{"$f":"CONCATENATE(referentes!W589, \" \",\"(\",referentes!T589,\")\")","v":" ()"},{"$f":"referentes!S589","v":0}]
[null,null,null,null,null,null,null,null,null,null,null,null,null,null,null,null,null,null,null,null,null,null,null,null,null,null,null,null,{"$f":"IF(referentes!W592=\"\",\"\",referentes!W592)","v":""},{"$f":"referentes!S592","v":0},null,590,0,1290,"X",null,null,{"$f":"CONCATENATE(referentes!W590, \" \",\"(\",referentes!T590,\")\")","v":" ()"},{"$f":"referentes!S590","v":0}]
[null,null,null,null,null,null,null,null,null,null,null,null,null,null,null,null,null,null,null,null,null,null,null,null,null,null,null,null,{"$f":"IF(referentes!W593=\"\",\"\",referentes!W593)","v":""},{"$f":"referentes!S593","v":0},null,591,0,1290,"X",null,null,{"$f":"CONCATENATE(referentes!W591, \" \",\"(\",referentes!T591,\")\")","v":" ()"},{"$f":"referentes!S591","v":0}]
[null,null,null,null,null,null,null,null,null,null,null,null,null,null,null,null,null,null,null,null,null,null,null,null,null,null,null,null,{"$f":"IF(referentes!W594=\"\",\"\",referentes!W594)","v":""},{"$f":"referentes!S594","v":0},null,592,0,1290,"X",null,null,{"$f":"CONCATENATE(referentes!W592, \" \",\"(\",referentes!T592,\")\")","v":" ()"},{"$f":"referentes!S592","v":0}]
[null,null,null,null,null,null,null,null,null,null,null,null,null,null,null,null,null,null,null,null,null,null,null,null,null,null,null,null,{"$f":"IF(referentes!W595=\"\",\"\",referentes!W595)","v":""},{"$f":"referentes!S595","v":0},null,593,0,1290,"X",null,null,{"$f":"CONCATENATE(referentes!W593, \" \",\"(\",referentes!T593,\")\")","v":" ()"},{"$f":"referentes!S593","v":0}]
[null,null,null,null,null,null,null,null,null,null,null,null,null,null,null,null,null,null,null,null,null,null,null,null,null,null,null,null,{"$f":"IF(referentes!W596=\"\",\"\",referentes!W596)","v":""},{"$f":"referentes!S596","v":0},null,594,0,1290,"X",null,null,{"$f":"CONCATENATE(referentes!W594, \" \",\"(\",referentes!T594,\")\")","v":" ()"},{"$f":"referentes!S594","v":0}]
[null,null,null,null,null,null,null,null,null,null,null,null,null,null,null,null,null,null,null,null,null,null,null,null,null,null,null,null,{"$f":"IF(referentes!W597=\"\",\"\",referentes!W597)","v":""},{"$f":"referentes!S597","v":0},null,595,0,1290,"X",null,null,{"$f":"CONCATENATE(referentes!W595, \" \",\"(\",referentes!T595,\")\")","v":" ()"},{"$f":"referentes!S595","v":0}]
[null,null,null,null,null,null,null,null,null,null,null,null,null,null,null,null,null,null,null,null,null,null,null,null,null,null,null,null,{"$f":"IF(referentes!W598=\"\",\"\",referentes!W598)","v":""},{"$f":"referentes!S598","v":0},null,596,0,1290,"X",null,null,{"$f":"CONCATENATE(referentes!W596, \" \",\"(\",referentes!T596,\")\")","v":" ()"},{"$f":"referentes!S596","v":0}]
[null,null,null,null,null,null,null,null,null,null,null,null,null,null,null,null,null,null,null,null,null,null,null,null,null,null,null,null,{"$f":"IF(referentes!W599=\"\",\"\",referentes!W599)","v":""},{"$f":"referentes!S599","v":0},null,597,0,1290,"X",null,null,{"$f":"CONCATENATE(referentes!W597, \" \",\"(\",referentes!T597,\")\")","v":" ()"},{"$f":"referentes!S597","v":0}]
[null,null,null,null,null,null,null,null,null,null,null,null,null,null,null,null,null,null,null,null,null,null,null,null,null,null,null,null,{"$f":"IF(referentes!W600=\"\",\"\",referentes!W600)","v":""},{"$f":"referentes!S600","v":0},null,598,0,1290,"X",null,null,{"$f":"CONCATENATE(referentes!W598, \" \",\"(\",referentes!T598,\")\")","v":" ()"},{"$f":"referentes!S598","v":0}]
[null,null,null,null,null,null,null,null,null,null,null,null,null,null,null,null,null,null,null,null,null,null,null,null,null,null,null,null,{"$f":"IF(referentes!W601=\"\",\"\",referentes!W601)","v":""},{"$f":"referentes!S601","v":0},null,599,0,1290,"X",null,null,{"$f":"CONCATENATE(referentes!W599, \" \",\"(\",referentes!T599,\")\")","v":" ()"},{"$f":"referentes!S599","v":0}]
[null,null,null,null,null,null,null,null,null,null,null,null,null,null,null,null,null,null,null,null,null,null,null,null,null,null,null,null,{"$f":"IF(referentes!W602=\"\",\"\",referentes!W602)","v":""},{"$f":"referentes!S602","v":0},null,600,0,1290,"X",null,null,{"$f":"CONCATENATE(referentes!W600, \" \",\"(\",referentes!T600,\")\")","v":" ()"},{"$f":"referentes!S600","v":0}]
[null,null,null,null,null,null,null,null,null,null,null,null,null,null,null,null,null,null,null,null,null,null,null,null,null,null,null,null,{"$f":"IF(referentes!W603=\"\",\"\",referentes!W603)","v":""},{"$f":"referentes!S603","v":0},null,601,0,1290,"X",null,null,{"$f":"CONCATENATE(referentes!W601, \" \",\"(\",referentes!T601,\")\")","v":" ()"},{"$f":"referentes!S601","v":0}]
[null,null,null,null,null,null,null,null,null,null,null,null,null,null,null,null,null,null,null,null,null,null,null,null,null,null,null,null,{"$f":"IF(referentes!W604=\"\",\"\",referentes!W604)","v":""},{"$f":"referentes!S604","v":0},null,602,0,1290,"X",null,null,{"$f":"CONCATENATE(referentes!W602, \" \",\"(\",referentes!T602,\")\")","v":" ()"},{"$f":"referentes!S602","v":0}]
[null,null,null,null,null,null,null,null,null,null,null,null,null,null,null,null,null,null,null,null,null,null,null,null,null,null,null,null,{"$f":"IF(referentes!W605=\"\",\"\",referentes!W605)","v":""},{"$f":"referentes!S605","v":0},null,603,0,1290,"X",null,null,{"$f":"CONCATENATE(referentes!W603, \" \",\"(\",referentes!T603,\")\")","v":" ()"},{"$f":"referentes!S603","v":0}]
[null,null,null,null,null,null,null,null,null,null,null,null,null,null,null,null,null,null,null,null,null,null,null,null,null,null,null,null,{"$f":"IF(referentes!W606=\"\",\"\",referentes!W606)","v":""},{"$f":"referentes!S606","v":0},null,604,0,1290,"X",null,null,{"$f":"CONCATENATE(referentes!W604, \" \",\"(\",referentes!T604,\")\")","v":" ()"},{"$f":"referentes!S604","v":0}]
[null,null,null,null,null,null,null,null,null,null,null,null,null,null,null,null,null,null,null,null,null,null,null,null,null,null,null,null,{"$f":"IF(referentes!W607=\"\",\"\",referentes!W607)","v":""},{"$f":"referentes!S607","v":0},null,605,0,1290,"X",null,null,{"$f":"CONCATENATE(referentes!W605, \" \",\"(\",referentes!T605,\")\")","v":" ()"},{"$f":"referentes!S605","v":0}]
[null,null,null,null,null,null,null,null,null,null,null,null,null,null,null,null,null,null,null,null,null,null,null,null,null,null,null,null,{"$f":"IF(referentes!W608=\"\",\"\",referentes!W608)","v":""},{"$f":"referentes!S608","v":0},null,606,0,1290,"X",null,null,{"$f":"CONCATENATE(referentes!W606, \" \",\"(\",referentes!T606,\")\")","v":" ()"},{"$f":"referentes!S606","v":0}]
[null,null,null,null,null,null,null,null,null,null,null,null,null,null,null,null,null,null,null,null,null,null,null,null,null,null,null,null,{"$f":"IF(referentes!W609=\"\",\"\",referentes!W609)","v":""},{"$f":"referentes!S609","v":0},null,607,0,1290,"X",null,null,{"$f":"CONCATENATE(referentes!W607, \" \",\"(\",referentes!T607,\")\")","v":" ()"},{"$f":"referentes!S607","v":0}]
[null,null,null,null,null,null,null,null,null,null,null,null,null,null,null,null,null,null,null,null,null,null,null,null,null,null,null,null,{"$f":"IF(referentes!W610=\"\",\"\",referentes!W610)","v":""},{"$f":"referentes!S610","v":0},null,608,0,1290,"X",null,null,{"$f":"CONCATENATE(referentes!W608, \" \",\"(\",referentes!T608,\")\")","v":" ()"},{"$f":"referentes!S608","v":0}]
[null,null,null,null,null,null,null,null,null,null,null,null,null,null,null,null,null,null,null,null,null,null,null,null,null,null,null,null,{"$f":"IF(referentes!W611=\"\",\"\",referentes!W611)","v":""},{"$f":"referentes!S611","v":0},null,609,0,1290,"X",null,null,{"$f":"CONCATENATE(referentes!W609, \" \",\"(\",referentes!T609,\")\")","v":" ()"},{"$f":"referentes!S609","v":0}]
[null,null,null,null,null,null,null,null,null,null,null,null,null,null,null,null,null,null,null,null,null,null,null,null,null,null,null,null,{"$f":"IF(referentes!W612=\"\",\"\",referentes!W612)","v":""},{"$f":"referentes!S612","v":0},null,610,0,1290,"X",null,null,{"$f":"CONCATENATE(referentes!W610, \" \",\"(\",referentes!T610,\")\")","v":" ()"},{"$f":"referentes!S610","v":0}]
[null,null,null,null,null,null,null,null,null,null,null,null,null,null,null,null,null,null,null,null,null,null,null,null,null,null,null,null,{"$f":"IF(referentes!W613=\"\",\"\",referentes!W613)","v":""},{"$f":"referentes!S613","v":0},null,611,0,1290,"X",null,null,{"$f":"CONCATENATE(referentes!W611, \" \",\"(\",referentes!T611,\")\")","v":" ()"},{"$f":"referentes!S611","v":0}]
[null,null,null,null,null,null,null,null,null,null,null,null,null,null,null,null,null,null,null,null,null,null,null,null,null,null,null,null,{"$f":"IF(referentes!W614=\"\",\"\",referentes!W614)","v":""},{"$f":"referentes!S614","v":0},null,612,0,1290,"X",null,null,{"$f":"CONCATENATE(referentes!W612, \" \",\"(\",referentes!T612,\")\")","v":" ()"},{"$f":"referentes!S612","v":0}]
[null,null,null,null,null,null,null,null,null,null,null,null,null,null,null,null,null,null,null,null,null,null,null,null,null,null,null,null,{"$f":"IF(referentes!W615=\"\",\"\",referentes!W615)","v":""},{"$f":"referentes!S615","v":0},null,613,0,1290,"X",null,null,{"$f":"CONCATENATE(referentes!W613, \" \",\"(\",referentes!T613,\")\")","v":" ()"},{"$f":"referentes!S613","v":0}]
[null,null,null,null,null,null,null,null,null,null,null,null,null,null,null,null,null,null,null,null,null,null,null,null,null,null,null,null,{"$f":"IF(referentes!W616=\"\",\"\",referentes!W616)","v":""},{"$f":"referentes!S616","v":0},null,614,0,1290,"X",null,null,{"$f":"CONCATENATE(referentes!W614, \" \",\"(\",referentes!T614,\")\")","v":" ()"},{"$f":"referentes!S614","v":0}]
[null,null,null,null,null,null,null,null,null,null,null,null,null,null,null,null,null,null,null,null,null,null,null,null,null,null,null,null,{"$f":"IF(referentes!W617=\"\",\"\",referentes!W617)","v":""},{"$f":"referentes!S617","v":0},null,615,0,1290,"X",null,null,{"$f":"CONCATENATE(referentes!W615, \" \",\"(\",referentes!T615,\")\")","v":" ()"},{"$f":"referentes!S615","v":0}]
[null,null,null,null,null,null,null,null,null,null,null,null,null,null,null,null,null,null,null,null,null,null,null,null,null,null,null,null,{"$f":"IF(referentes!W618=\"\",\"\",referentes!W618)","v":""},{"$f":"referentes!S618","v":0},null,616,0,1290,"X",null,null,{"$f":"CONCATENATE(referentes!W616, \" \",\"(\",referentes!T616,\")\")","v":" ()"},{"$f":"referentes!S616","v":0}]
[null,null,null,null,null,null,null,null,null,null,null,null,null,null,null,null,null,null,null,null,null,null,null,null,null,null,null,null,{"$f":"IF(referentes!W619=\"\",\"\",referentes!W619)","v":""},{"$f":"referentes!S619","v":0},null,617,0,1290,"X",null,null,{"$f":"CONCATENATE(referentes!W617, \" \",\"(\",referentes!T617,\")\")","v":" ()"},{"$f":"referentes!S617","v":0}]
[null,null,null,null,null,null,null,null,null,null,null,null,null,null,null,null,null,null,null,null,null,null,null,null,null,null,null,null,{"$f":"IF(referentes!W620=\"\",\"\",referentes!W620)","v":""},{"$f":"referentes!S620","v":0},null,618,0,1290,"X",null,null,{"$f":"CONCATENATE(referentes!W618, \" \",\"(\",referentes!T618,\")\")","v":" ()"},{"$f":"referentes!S618","v":0}]
[null,null,null,null,null,null,null,null,null,null,null,null,null,null,null,null,null,null,null,null,null,null,null,null,null,null,null,null,{"$f":"IF(referentes!W621=\"\",\"\",referentes!W621)","v":""},{"$f":"referentes!S621","v":0},null,619,0,1290,"X",null,null,{"$f":"CONCATENATE(referentes!W619, \" \",\"(\",referentes!T619,\")\")","v":" ()"},{"$f":"referentes!S619","v":0}]
[null,null,null,null,null,null,null,null,null,null,null,null,null,null,null,null,null,null,null,null,null,null,null,null,null,null,null,null,{"$f":"IF(referentes!W622=\"\",\"\",referentes!W622)","v":""},{"$f":"referentes!S622","v":0},null,620,0,1290,"X",null,null,{"$f":"CONCATENATE(referentes!W620, \" \",\"(\",referentes!T620,\")\")","v":" ()"},{"$f":"referentes!S620","v":0}]
[null,null,null,null,null,null,null,null,null,null,null,null,null,null,null,null,null,null,null,null,null,null,null,null,null,null,null,null,{"$f":"IF(referentes!W623=\"\",\"\",referentes!W623)","v":""},{"$f":"referentes!S623","v":0},null,621,0,1290,"X",null,null,{"$f":"CONCATENATE(referentes!W621, \" \",\"(\",referentes!T621,\")\")","v":" ()"},{"$f":"referentes!S621","v":0}]
[null,null,null,null,null,null,null,null,null,null,null,null,null,null,null,null,null,null,null,null,null,null,null,null,null,null,null,null,{"$f":"IF(referentes!W624=\"\",\"\",referentes!W624)","v":""},{"$f":"referentes!S624","v":0},null,622,0,1290,"X",null,null,{"$f":"CONCATENATE(referentes!W622, \" \",\"(\",referentes!T622,\")\")","v":" ()"},{"$f":"referentes!S622","v":0}]
[null,null,null,null,null,null,null,null,null,null,null,null,null,null,null,null,null,null,null,null,null,null,null,null,null,null,null,null,{"$f":"IF(referentes!W625=\"\",\"\",referentes!W625)","v":""},{"$f":"referentes!S625","v":0},null,623,0,1290,"X",null,null,{"$f":"CONCATENATE(referentes!W623, \" \",\"(\",referentes!T623,\")\")","v":" ()"},{"$f":"referentes!S623","v":0}]
[null,null,null,null,null,null,null,null,null,null,null,null,null,null,null,null,null,null,null,null,null,null,null,null,null,null,null,null,{"$f":"IF(referentes!W626=\"\",\"\",referentes!W626)","v":""},{"$f":"referentes!S626","v":0},null,624,0,1290,"X",null,null,{"$f":"CONCATENATE(referentes!W624, \" \",\"(\",referentes!T624,\")\")","v":" ()"},{"$f":"referentes!S624","v":0}]
[null,null,null,null,null,null,null,null,null,null,null,null,null,null,null,null,null,null,null,null,null,null,null,null,null,null,null,null,{"$f":"IF(referentes!W627=\"\",\"\",referentes!W627)","v":""},{"$f":"referentes!S627","v":0},null,625,0,1290,"X",null,null,{"$f":"CONCATENATE(referentes!W625, \" \",\"(\",referentes!T625,\")\")","v":" ()"},{"$f":"referentes!S625","v":0}]
[null,null,null,null,null,null,null,null,null,null,null,null,null,null,null,null,null,null,null,null,null,null,null,null,null,null,null,null,{"$f":"IF(referentes!W628=\"\",\"\",referentes!W628)","v":""},{"$f":"referentes!S628","v":0},null,626,0,1290,"X",null,null,{"$f":"CONCATENATE(referentes!W626, \" \",\"(\",referentes!T626,\")\")","v":" ()"},{"$f":"referentes!S626","v":0}]
[null,null,null,null,null,null,null,null,null,null,null,null,null,null,null,null,null,null,null,null,null,null,null,null,null,null,null,null,{"$f":"IF(referentes!W629=\"\",\"\",referentes!W629)","v":""},{"$f":"referentes!S629","v":0},null,627,0,1290,"X",null,null,{"$f":"CONCATENATE(referentes!W627, \" \",\"(\",referentes!T627,\")\")","v":" ()"},{"$f":"referentes!S627","v":0}]
[null,null,null,null,null,null,null,null,null,null,null,null,null,null,null,null,null,null,null,null,null,null,null,null,null,null,null,null,{"$f":"IF(referentes!W630=\"\",\"\",referentes!W630)","v":""},{"$f":"referentes!S630","v":0},null,628,0,1290,"X",null,null,{"$f":"CONCATENATE(referentes!W628, \" \",\"(\",referentes!T628,\")\")","v":" ()"},{"$f":"referentes!S628","v":0}]
[null,null,null,null,null,null,null,null,null,null,null,null,null,null,null,null,null,null,null,null,null,null,null,null,null,null,null,null,{"$f":"IF(referentes!W631=\"\",\"\",referentes!W631)","v":""},{"$f":"referentes!S631","v":0},null,629,0,1290,"X",null,null,{"$f":"CONCATENATE(referentes!W629, \" \",\"(\",referentes!T629,\")\")","v":" ()"},{"$f":"referentes!S629","v":0}]
[null,null,null,null,null,null,null,null,null,null,null,null,null,null,null,null,null,null,null,null,null,null,null,null,null,null,null,null,{"$f":"IF(referentes!W632=\"\",\"\",referentes!W632)","v":""},{"$f":"referentes!S632","v":0},null,630,0,1290,"X",null,null,{"$f":"CONCATENATE(referentes!W630, \" \",\"(\",referentes!T630,\")\")","v":" ()"},{"$f":"referentes!S630","v":0}]
[null,null,null,null,null,null,null,null,null,null,null,null,null,null,null,null,null,null,null,null,null,null,null,null,null,null,null,null,{"$f":"IF(referentes!W633=\"\",\"\",referentes!W633)","v":""},{"$f":"referentes!S633","v":0},null,631,0,1290,"X",null,null,{"$f":"CONCATENATE(referentes!W631, \" \",\"(\",referentes!T631,\")\")","v":" ()"},{"$f":"referentes!S631","v":0}]
[null,null,null,null,null,null,null,null,null,null,null,null,null,null,null,null,null,null,null,null,null,null,null,null,null,null,null,null,{"$f":"IF(referentes!W634=\"\",\"\",referentes!W634)","v":""},{"$f":"referentes!S634","v":0},null,632,0,1290,"X",null,null,{"$f":"CONCATENATE(referentes!W632, \" \",\"(\",referentes!T632,\")\")","v":" ()"},{"$f":"referentes!S632","v":0}]
[null,null,null,null,null,null,null,null,null,null,null,null,null,null,null,null,null,null,null,null,null,null,null,null,null,null,null,null,{"$f":"IF(referentes!W635=\"\",\"\",referentes!W635)","v":""},{"$f":"referentes!S635","v":0},null,633,0,1290,"X",null,null,{"$f":"CONCATENATE(referentes!W633, \" \",\"(\",referentes!T633,\")\")","v":" ()"},{"$f":"referentes!S633","v":0}]
[null,null,null,null,null,null,null,null,null,null,null,null,null,null,null,null,null,null,null,null,null,null,null,null,null,null,null,null,{"$f":"IF(referentes!W636=\"\",\"\",referentes!W636)","v":""},{"$f":"referentes!S636","v":0},null,634,0,1290,"X",null,null,{"$f":"CONCATENATE(referentes!W634, \" \",\"(\",referentes!T634,\")\")","v":" ()"},{"$f":"referentes!S634","v":0}]
[null,null,null,null,null,null,null,null,null,null,null,null,null,null,null,null,null,null,null,null,null,null,null,null,null,null,null,null,{"$f":"IF(referentes!W637=\"\",\"\",referentes!W637)","v":""},{"$f":"referentes!S637","v":0},null,635,0,1290,"X",null,null,{"$f":"CONCATENATE(referentes!W635, \" \",\"(\",referentes!T635,\")\")","v":" ()"},{"$f":"referentes!S635","v":0}]
[null,null,null,null,null,null,null,null,null,null,null,null,null,null,null,null,null,null,null,null,null,null,null,null,null,null,null,null,{"$f":"IF(referentes!W638=\"\",\"\",referentes!W638)","v":""},{"$f":"referentes!S638","v":0},null,636,0,1290,"X",null,null,{"$f":"CONCATENATE(referentes!W636, \" \",\"(\",referentes!T636,\")\")","v":" ()"},{"$f":"referentes!S636","v":0}]
[null,null,null,null,null,null,null,null,null,null,null,null,null,null,null,null,null,null,null,null,null,null,null,null,null,null,null,null,{"$f":"IF(referentes!W639=\"\",\"\",referentes!W639)","v":""},{"$f":"referentes!S639","v":0},null,637,0,1290,"X",null,null,{"$f":"CONCATENATE(referentes!W637, \" \",\"(\",referentes!T637,\")\")","v":" ()"},{"$f":"referentes!S637","v":0}]
[null,null,null,null,null,null,null,null,null,null,null,null,null,null,null,null,null,null,null,null,null,null,null,null,null,null,null,null,{"$f":"IF(referentes!W640=\"\",\"\",referentes!W640)","v":""},{"$f":"referentes!S640","v":0},null,638,0,1290,"X",null,null,{"$f":"CONCATENATE(referentes!W638, \" \",\"(\",referentes!T638,\")\")","v":" ()"},{"$f":"referentes!S638","v":0}]
[null,null,null,null,null,null,null,null,null,null,null,null,null,null,null,null,null,null,null,null,null,null,null,null,null,null,null,null,{"$f":"IF(referentes!W641=\"\",\"\",referentes!W641)","v":""},{"$f":"referentes!S641","v":0},null,639,0,1290,"X",null,null,{"$f":"CONCATENATE(referentes!W639, \" \",\"(\",referentes!T639,\")\")","v":" ()"},{"$f":"referentes!S639","v":0}]
[null,null,null,null,null,null,null,null,null,null,null,null,null,null,null,null,null,null,null,null,null,null,null,null,null,null,null,null,{"$f":"IF(referentes!W642=\"\",\"\",referentes!W642)","v":""},{"$f":"referentes!S642","v":0},null,640,0,1290,"X",null,null,{"$f":"CONCATENATE(referentes!W640, \" \",\"(\",referentes!T640,\")\")","v":" ()"},{"$f":"referentes!S640","v":0}]
[null,null,null,null,null,null,null,null,null,null,null,null,null,null,null,null,null,null,null,null,null,null,null,null,null,null,null,null,{"$f":"IF(referentes!W643=\"\",\"\",referentes!W643)","v":""},{"$f":"referentes!S643","v":0},null,641,0,1290,"X",null,null,{"$f":"CONCATENATE(referentes!W641, \" \",\"(\",referentes!T641,\")\")","v":" ()"},{"$f":"referentes!S641","v":0}]
[null,null,null,null,null,null,null,null,null,null,null,null,null,null,null,null,null,null,null,null,null,null,null,null,null,null,null,null,{"$f":"IF(referentes!W644=\"\",\"\",referentes!W644)","v":""},{"$f":"referentes!S644","v":0},null,642,{"$f":"IF(AC646=\"\",0,AC646)","v":0},{"$f":"IF(AG647=0,MAX($AF$6:$AF$1294)+1,AF647)","v":1290},{"$f":"IFERROR(VLOOKUP(SMALL($AH$6:$AH$1294,AF647),$AF$6:$AH$1294,2,FALSE),\"X\")","v":"X"},null,null,{"$f":"CONCATENATE(referentes!W642, \" \",\"(\",referentes!T642,\")\")","v":" ()"},{"$f":"referentes!S642","v":0}]
[null,null,null,null,null,null,null,null,null,null,null,null,null,null,null,null,null,null,null,null,null,null,null,null,null,null,null,null,{"$f":"IF(referentes!W645=\"\",\"\",referentes!W645)","v":""},{"$f":"referentes!S645","v":0},null,643,0,1290,"X",null,null,{"$f":"CONCATENATE(referentes!W643, \" \",\"(\",referentes!T643,\")\")","v":" ()"},{"$f":"referentes!S643","v":0}]
[null,null,null,null,null,null,null,null,null,null,null,null,null,null,null,null,null,null,null,null,null,null,null,null,null,null,null,null,{"$f":"IF(referentes!W646=\"\",\"\",referentes!W646)","v":""},{"$f":"referentes!S646","v":0},null,644,0,1290,"X",null,null,{"$f":"CONCATENATE(referentes!W644, \" \",\"(\",referentes!T644,\")\")","v":" ()"},{"$f":"referentes!S644","v":0}]
[null,null,null,null,null,null,null,null,null,null,null,null,null,null,null,null,null,null,null,null,null,null,null,null,null,null,null,null,{"$f":"IF(referentes!W647=\"\",\"\",referentes!W647)","v":""},{"$f":"referentes!S647","v":0},null,645,0,1290,"X",null,null,{"$f":"CONCATENATE(referentes!W645, \" \",\"(\",referentes!T645,\")\")","v":" ()"},{"$f":"referentes!S645","v":0}]
[null,null,null,null,null,null,null,null,null,null,null,null,null,null,null,null,null,null,null,null,null,null,null,null,null,null,null,null,{"$f":"IF(referentes!W648=\"\",\"\",referentes!W648)","v":""},{"$f":"referentes!S648","v":0},null,646,0,1290,"X",null,null,{"$f":"CONCATENATE(referentes!W646, \" \",\"(\",referentes!T646,\")\")","v":" ()"},{"$f":"referentes!S646","v":0}]
[null,null,null,null,null,null,null,null,null,null,null,null,null,null,null,null,null,null,null,null,null,null,null,null,null,null,null,null,{"$f":"IF(referentes!W649=\"\",\"\",referentes!W649)","v":""},{"$f":"referentes!S649","v":0},null,647,0,1290,"X",null,null,{"$f":"CONCATENATE(referentes!W647, \" \",\"(\",referentes!T647,\")\")","v":" ()"},{"$f":"referentes!S647","v":0}]
[null,null,null,null,null,null,null,null,null,null,null,null,null,null,null,null,null,null,null,null,null,null,null,null,null,null,null,null,{"$f":"IF(referentes!W650=\"\",\"\",referentes!W650)","v":""},{"$f":"referentes!S650","v":0},null,648,0,1290,"X",null,null,{"$f":"CONCATENATE(referentes!W648, \" \",\"(\",referentes!T648,\")\")","v":" ()"},{"$f":"referentes!S648","v":0}]
[null,null,null,null,null,null,null,null,null,null,null,null,null,null,null,null,null,null,null,null,null,null,null,null,null,null,null,null,{"$f":"IF(referentes!W651=\"\",\"\",referentes!W651)","v":""},{"$f":"referentes!S651","v":0},null,649,0,1290,"X",null,null,{"$f":"CONCATENATE(referentes!W649, \" \",\"(\",referentes!T649,\")\")","v":" ()"},{"$f":"referentes!S649","v":0}]
[null,null,null,null,null,null,null,null,null,null,null,null,null,null,null,null,null,null,null,null,null,null,null,null,null,null,null,null,{"$f":"IF(referentes!W652=\"\",\"\",referentes!W652)","v":""},{"$f":"referentes!S652","v":0},null,650,0,1290,"X",null,null,{"$f":"CONCATENATE(referentes!W650, \" \",\"(\",referentes!T650,\")\")","v":" ()"},{"$f":"referentes!S650","v":0}]
[null,null,null,null,null,null,null,null,null,null,null,null,null,null,null,null,null,null,null,null,null,null,null,null,null,null,null,null,{"$f":"IF(referentes!W653=\"\",\"\",referentes!W653)","v":""},{"$f":"referentes!S653","v":0},null,651,0,1290,"X",null,null,{"$f":"CONCATENATE(referentes!W651, \" \",\"(\",referentes!T651,\")\")","v":" ()"},{"$f":"referentes!S651","v":0}]
[null,null,null,null,null,null,null,null,null,null,null,null,null,null,null,null,null,null,null,null,null,null,null,null,null,null,null,null,{"$f":"IF(referentes!W654=\"\",\"\",referentes!W654)","v":""},{"$f":"referentes!S654","v":0},null,652,0,1290,"X",null,null,{"$f":"CONCATENATE(referentes!W652, \" \",\"(\",referentes!T652,\")\")","v":" ()"},{"$f":"referentes!S652","v":0}]
[null,null,null,null,null,null,null,null,null,null,null,null,null,null,null,null,null,null,null,null,null,null,null,null,null,null,null,null,{"$f":"IF(referentes!W655=\"\",\"\",referentes!W655)","v":""},{"$f":"referentes!S655","v":0},null,653,0,1290,"X"]
[null,null,null,null,null,null,null,null,null,null,null,null,null,null,null,null,null,null,null,null,null,null,null,null,null,null,null,null,{"$f":"IF(referentes!W656=\"\",\"\",referentes!W656)","v":""},{"$f":"referentes!S656","v":0},null,654,0,1290,"X"]
[null,null,null,null,null,null,null,null,null,null,null,null,null,null,null,null,null,null,null,null,null,null,null,null,null,null,null,null,{"$f":"IF(referentes!W657=\"\",\"\",referentes!W657)","v":""},{"$f":"referentes!S657","v":0},null,655,0,1290,"X"]
[null,null,null,null,null,null,null,null,null,null,null,null,null,null,null,null,null,null,null,null,null,null,null,null,null,null,null,null,{"$f":"IF(referentes!W658=\"\",\"\",referentes!W658)","v":""},{"$f":"referentes!S658","v":0},null,656,0,1290,"X"]
[null,null,null,null,null,null,null,null,null,null,null,null,null,null,null,null,null,null,null,null,null,null,null,null,null,null,null,null,{"$f":"IF(referentes!W659=\"\",\"\",referentes!W659)","v":""},{"$f":"referentes!S659","v":0},null,657,0,1290,"X"]
[null,null,null,null,null,null,null,null,null,null,null,null,null,null,null,null,null,null,null,null,null,null,null,null,null,null,null,null,{"$f":"IF(referentes!W660=\"\",\"\",referentes!W660)","v":""},{"$f":"referentes!S660","v":0},null,658,0,1290,"X"]
[null,null,null,null,null,null,null,null,null,null,null,null,null,null,null,null,null,null,null,null,null,null,null,null,null,null,null,null,{"$f":"IF(referentes!W661=\"\",\"\",referentes!W661)","v":""},{"$f":"referentes!S661","v":0},null,659,0,1290,"X"]
[null,null,null,null,null,null,null,null,null,null,null,null,null,null,null,null,null,null,null,null,null,null,null,null,null,null,null,null,{"$f":"IF(referentes!W662=\"\",\"\",referentes!W662)","v":""},{"$f":"referentes!S662","v":0},null,660,0,1290,"X"]
[null,null,null,null,null,null,null,null,null,null,null,null,null,null,null,null,null,null,null,null,null,null,null,null,null,null,null,null,{"$f":"IF(referentes!W663=\"\",\"\",referentes!W663)","v":""},{"$f":"referentes!S663","v":0},null,661,0,1290,"X"]
[null,null,null,null,null,null,null,null,null,null,null,null,null,null,null,null,null,null,null,null,null,null,null,null,null,null,null,null,{"$f":"IF(referentes!W664=\"\",\"\",referentes!W664)","v":""},{"$f":"referentes!S664","v":0},null,662,0,1290,"X"]
[null,null,null,null,null,null,null,null,null,null,null,null,null,null,null,null,null,null,null,null,null,null,null,null,null,null,null,null,{"$f":"IF(referentes!W665=\"\",\"\",referentes!W665)","v":""},{"$f":"referentes!S665","v":0},null,663,0,1290,"X"]
[null,null,null,null,null,null,null,null,null,null,null,null,null,null,null,null,null,null,null,null,null,null,null,null,null,null,null,null,{"$f":"IF(referentes!W666=\"\",\"\",referentes!W666)","v":""},{"$f":"referentes!S666","v":0},null,664,0,1290,"X"]
[null,null,null,null,null,null,null,null,null,null,null,null,null,null,null,null,null,null,null,null,null,null,null,null,null,null,null,null,{"$f":"IF(referentes!W667=\"\",\"\",referentes!W667)","v":""},{"$f":"referentes!S667","v":0},null,665,0,1290,"X"]
[null,null,null,null,null,null,null,null,null,null,null,null,null,null,null,null,null,null,null,null,null,null,null,null,null,null,null,null,{"$f":"IF(referentes!W668=\"\",\"\",referentes!W668)","v":""},{"$f":"referentes!S668","v":0},null,666,0,1290,"X"]
[null,null,null,null,null,null,null,null,null,null,null,null,null,null,null,null,null,null,null,null,null,null,null,null,null,null,null,null,{"$f":"IF(referentes!W669=\"\",\"\",referentes!W669)","v":""},{"$f":"referentes!S669","v":0},null,667,0,1290,"X"]
[null,null,null,null,null,null,null,null,null,null,null,null,null,null,null,null,null,null,null,null,null,null,null,null,null,null,null,null,{"$f":"IF(referentes!W670=\"\",\"\",referentes!W670)","v":""},{"$f":"referentes!S670","v":0},null,668,0,1290,"X"]
[null,null,null,null,null,null,null,null,null,null,null,null,null,null,null,null,null,null,null,null,null,null,null,null,null,null,null,null,{"$f":"IF(referentes!W671=\"\",\"\",referentes!W671)","v":""},{"$f":"referentes!S671","v":0},null,669,0,1290,"X"]
[null,null,null,null,null,null,null,null,null,null,null,null,null,null,null,null,null,null,null,null,null,null,null,null,null,null,null,null,{"$f":"IF(referentes!W672=\"\",\"\",referentes!W672)","v":""},{"$f":"referentes!S672","v":0},null,670,0,1290,"X"]
[null,null,null,null,null,null,null,null,null,null,null,null,null,null,null,null,null,null,null,null,null,null,null,null,null,null,null,null,{"$f":"IF(referentes!W673=\"\",\"\",referentes!W673)","v":""},{"$f":"referentes!S673","v":0},null,671,0,1290,"X"]
[null,null,null,null,null,null,null,null,null,null,null,null,null,null,null,null,null,null,null,null,null,null,null,null,null,null,null,null,{"$f":"IF(referentes!W674=\"\",\"\",referentes!W674)","v":""},{"$f":"referentes!S674","v":0},null,672,0,1290,"X"]
[null,null,null,null,null,null,null,null,null,null,null,null,null,null,null,null,null,null,null,null,null,null,null,null,null,null,null,null,{"$f":"IF(referentes!W675=\"\",\"\",referentes!W675)","v":""},{"$f":"referentes!S675","v":0},null,673,0,1290,"X"]
[null,null,null,null,null,null,null,null,null,null,null,null,null,null,null,null,null,null,null,null,null,null,null,null,null,null,null,null,{"$f":"IF(referentes!W676=\"\",\"\",referentes!W676)","v":""},{"$f":"referentes!S676","v":0},null,674,0,1290,"X"]
[null,null,null,null,null,null,null,null,null,null,null,null,null,null,null,null,null,null,null,null,null,null,null,null,null,null,null,null,{"$f":"IF(referentes!W677=\"\",\"\",referentes!W677)","v":""},{"$f":"referentes!S677","v":0},null,675,0,1290,"X"]
[null,null,null,null,null,null,null,null,null,null,null,null,null,null,null,null,null,null,null,null,null,null,null,null,null,null,null,null,{"$f":"IF(referentes!W678=\"\",\"\",referentes!W678)","v":""},{"$f":"referentes!S678","v":0},null,676,0,1290,"X"]
[null,null,null,null,null,null,null,null,null,null,null,null,null,null,null,null,null,null,null,null,null,null,null,null,null,null,null,null,{"$f":"IF(referentes!W679=\"\",\"\",referentes!W679)","v":""},{"$f":"referentes!S679","v":0},null,677,0,1290,"X"]
[null,null,null,null,null,null,null,null,null,null,null,null,null,null,null,null,null,null,null,null,null,null,null,null,null,null,null,null,{"$f":"IF(referentes!W680=\"\",\"\",referentes!W680)","v":""},{"$f":"referentes!S680","v":0},null,678,0,1290,"X"]
[null,null,null,null,null,null,null,null,null,null,null,null,null,null,null,null,null,null,null,null,null,null,null,null,null,null,null,null,{"$f":"IF(referentes!W681=\"\",\"\",referentes!W681)","v":""},{"$f":"referentes!S681","v":0},null,679,0,1290,"X"]
[null,null,null,null,null,null,null,null,null,null,null,null,null,null,null,null,null,null,null,null,null,null,null,null,null,null,null,null,{"$f":"IF(referentes!W682=\"\",\"\",referentes!W682)","v":""},{"$f":"referentes!S682","v":0},null,680,0,1290,"X"]
[null,null,null,null,null,null,null,null,null,null,null,null,null,null,null,null,null,null,null,null,null,null,null,null,null,null,null,null,{"$f":"IF(referentes!W683=\"\",\"\",referentes!W683)","v":""},{"$f":"referentes!S683","v":0},null,681,0,1290,"X"]
[null,null,null,null,null,null,null,null,null,null,null,null,null,null,null,null,null,null,null,null,null,null,null,null,null,null,null,null,{"$f":"IF(referentes!W684=\"\",\"\",referentes!W684)","v":""},{"$f":"referentes!S684","v":0},null,682,0,1290,"X"]
[null,null,null,null,null,null,null,null,null,null,null,null,null,null,null,null,null,null,null,null,null,null,null,null,null,null,null,null,{"$f":"IF(referentes!W685=\"\",\"\",referentes!W685)","v":""},{"$f":"referentes!S685","v":0},null,683,0,1290,"X"]
[null,null,null,null,null,null,null,null,null,null,null,null,null,null,null,null,null,null,null,null,null,null,null,null,null,null,null,null,{"$f":"IF(referentes!W686=\"\",\"\",referentes!W686)","v":""},{"$f":"referentes!S686","v":0},null,684,0,1290,"X"]
[null,null,null,null,null,null,null,null,null,null,null,null,null,null,null,null,null,null,null,null,null,null,null,null,null,null,null,null,{"$f":"IF(referentes!W687=\"\",\"\",referentes!W687)","v":""},{"$f":"referentes!S687","v":0},null,685,0,1290,"X"]
[null,null,null,null,null,null,null,null,null,null,null,null,null,null,null,null,null,null,null,null,null,null,null,null,null,null,null,null,{"$f":"IF(referentes!W688=\"\",\"\",referentes!W688)","v":""},{"$f":"referentes!S688","v":0},null,686,0,1290,"X"]
[null,null,null,null,null,null,null,null,null,null,null,null,null,null,null,null,null,null,null,null,null,null,null,null,null,null,null,null,{"$f":"IF(referentes!W689=\"\",\"\",referentes!W689)","v":""},{"$f":"referentes!S689","v":0},null,687,0,1290,"X"]
[null,null,null,null,null,null,null,null,null,null,null,null,null,null,null,null,null,null,null,null,null,null,null,null,null,null,null,null,{"$f":"IF(referentes!W690=\"\",\"\",referentes!W690)","v":""},{"$f":"referentes!S690","v":0},null,688,0,1290,"X"]
[null,null,null,null,null,null,null,null,null,null,null,null,null,null,null,null,null,null,null,null,null,null,null,null,null,null,null,null,{"$f":"IF(referentes!W691=\"\",\"\",referentes!W691)","v":""},{"$f":"referentes!S691","v":0},null,689,0,1290,"X"]
[null,null,null,null,null,null,null,null,null,null,null,null,null,null,null,null,null,null,null,null,null,null,null,null,null,null,null,null,{"$f":"IF(referentes!W692=\"\",\"\",referentes!W692)","v":""},{"$f":"referentes!S692","v":0},null,690,0,1290,"X"]
[null,null,null,null,null,null,null,null,null,null,null,null,null,null,null,null,null,null,null,null,null,null,null,null,null,null,null,null,{"$f":"IF(referentes!W693=\"\",\"\",referentes!W693)","v":""},{"$f":"referentes!S693","v":0},null,691,0,1290,"X"]
[null,null,null,null,null,null,null,null,null,null,null,null,null,null,null,null,null,null,null,null,null,null,null,null,null,null,null,null,{"$f":"IF(referentes!W694=\"\",\"\",referentes!W694)","v":""},{"$f":"referentes!S694","v":0},null,692,0,1290,"X"]
[null,null,null,null,null,null,null,null,null,null,null,null,null,null,null,null,null,null,null,null,null,null,null,null,null,null,null,null,{"$f":"IF(referentes!W695=\"\",\"\",referentes!W695)","v":""},{"$f":"referentes!S695","v":0},null,693,0,1290,"X"]
[null,null,null,null,null,null,null,null,null,null,null,null,null,null,null,null,null,null,null,null,null,null,null,null,null,null,null,null,{"$f":"IF(referentes!W696=\"\",\"\",referentes!W696)","v":""},{"$f":"referentes!S696","v":0},null,694,0,1290,"X"]
[null,null,null,null,null,null,null,null,null,null,null,null,null,null,null,null,null,null,null,null,null,null,null,null,null,null,null,null,{"$f":"IF(referentes!W697=\"\",\"\",referentes!W697)","v":""},{"$f":"referentes!S697","v":0},null,695,0,1290,"X"]
[null,null,null,null,null,null,null,null,null,null,null,null,null,null,null,null,null,null,null,null,null,null,null,null,null,null,null,null,{"$f":"IF(referentes!W698=\"\",\"\",referentes!W698)","v":""},{"$f":"referentes!S698","v":0},null,696,0,1290,"X"]
[null,null,null,null,null,null,null,null,null,null,null,null,null,null,null,null,null,null,null,null,null,null,null,null,null,null,null,null,{"$f":"IF(referentes!W699=\"\",\"\",referentes!W699)","v":""},{"$f":"referentes!S699","v":0},null,697,0,1290,"X"]
[null,null,null,null,null,null,null,null,null,null,null,null,null,null,null,null,null,null,null,null,null,null,null,null,null,null,null,null,{"$f":"IF(referentes!W700=\"\",\"\",referentes!W700)","v":""},{"$f":"referentes!S700","v":0},null,698,0,1290,"X"]
[null,null,null,null,null,null,null,null,null,null,null,null,null,null,null,null,null,null,null,null,null,null,null,null,null,null,null,null,{"$f":"IF(referentes!W701=\"\",\"\",referentes!W701)","v":""},{"$f":"referentes!S701","v":0},null,699,0,1290,"X"]
[null,null,null,null,null,null,null,null,null,null,null,null,null,null,null,null,null,null,null,null,null,null,null,null,null,null,null,null,{"$f":"IF(referentes!W702=\"\",\"\",referentes!W702)","v":""},{"$f":"referentes!S702","v":0},null,700,0,1290,"X"]
[null,null,null,null,null,null,null,null,null,null,null,null,null,null,null,null,null,null,null,null,null,null,null,null,null,null,null,null,{"$f":"IF(referentes!W703=\"\",\"\",referentes!W703)","v":""},{"$f":"referentes!S703","v":0},null,701,0,1290,"X"]
[null,null,null,null,null,null,null,null,null,null,null,null,null,null,null,null,null,null,null,null,null,null,null,null,null,null,null,null,{"$f":"IF(referentes!W704=\"\",\"\",referentes!W704)","v":""},{"$f":"referentes!S704","v":0},null,702,0,1290,"X"]
[null,null,null,null,null,null,null,null,null,null,null,null,null,null,null,null,null,null,null,null,null,null,null,null,null,null,null,null,{"$f":"IF(referentes!W705=\"\",\"\",referentes!W705)","v":""},{"$f":"referentes!S705","v":0},null,703,0,1290,"X"]
[null,null,null,null,null,null,null,null,null,null,null,null,null,null,null,null,null,null,null,null,null,null,null,null,null,null,null,null,{"$f":"IF(referentes!W706=\"\",\"\",referentes!W706)","v":""},{"$f":"referentes!S706","v":0},null,704,0,1290,"X"]
[null,null,null,null,null,null,null,null,null,null,null,null,null,null,null,null,null,null,null,null,null,null,null,null,null,null,null,null,{"$f":"IF(referentes!W707=\"\",\"\",referentes!W707)","v":""},{"$f":"referentes!S707","v":0},null,705,0,1290,"X"]
[null,null,null,null,null,null,null,null,null,null,null,null,null,null,null,null,null,null,null,null,null,null,null,null,null,null,null,null,{"$f":"IF(referentes!W708=\"\",\"\",referentes!W708)","v":""},{"$f":"referentes!S708","v":0},null,706,{"$f":"IF(AC710=\"\",0,AC710)","v":0},{"$f":"IF(AG711=0,MAX($AF$6:$AF$1294)+1,AF711)","v":1290},{"$f":"IFERROR(VLOOKUP(SMALL($AH$6:$AH$1294,AF711),$AF$6:$AH$1294,2,FALSE),\"X\")","v":"X"}]
[null,null,null,null,null,null,null,null,null,null,null,null,null,null,null,null,null,null,null,null,null,null,null,null,null,null,null,null,{"$f":"IF(referentes!W709=\"\",\"\",referentes!W709)","v":""},{"$f":"referentes!S709","v":0},null,707,0,1290,"X"]
[null,null,null,null,null,null,null,null,null,null,null,null,null,null,null,null,null,null,null,null,null,null,null,null,null,null,null,null,{"$f":"IF(referentes!W710=\"\",\"\",referentes!W710)","v":""},{"$f":"referentes!S710","v":0},null,708,0,1290,"X"]
[null,null,null,null,null,null,null,null,null,null,null,null,null,null,null,null,null,null,null,null,null,null,null,null,null,null,null,null,{"$f":"IF(referentes!W711=\"\",\"\",referentes!W711)","v":""},{"$f":"referentes!S711","v":0},null,709,0,1290,"X"]
[null,null,null,null,null,null,null,null,null,null,null,null,null,null,null,null,null,null,null,null,null,null,null,null,null,null,null,null,{"$f":"IF(referentes!W712=\"\",\"\",referentes!W712)","v":""},{"$f":"referentes!S712","v":0},null,710,0,1290,"X"]
[null,null,null,null,null,null,null,null,null,null,null,null,null,null,null,null,null,null,null,null,null,null,null,null,null,null,null,null,{"$f":"IF(referentes!W713=\"\",\"\",referentes!W713)","v":""},{"$f":"referentes!S713","v":0},null,711,0,1290,"X"]
[null,null,null,null,null,null,null,null,null,null,null,null,null,null,null,null,null,null,null,null,null,null,null,null,null,null,null,null,{"$f":"IF(referentes!W714=\"\",\"\",referentes!W714)","v":""},{"$f":"referentes!S714","v":0},null,712,0,1290,"X"]
[null,null,null,null,null,null,null,null,null,null,null,null,null,null,null,null,null,null,null,null,null,null,null,null,null,null,null,null,{"$f":"IF(referentes!W715=\"\",\"\",referentes!W715)","v":""},{"$f":"referentes!S715","v":0},null,713,0,1290,"X"]
[null,null,null,null,null,null,null,null,null,null,null,null,null,null,null,null,null,null,null,null,null,null,null,null,null,null,null,null,{"$f":"IF(referentes!W716=\"\",\"\",referentes!W716)","v":""},{"$f":"referentes!S716","v":0},null,714,0,1290,"X"]
[null,null,null,null,null,null,null,null,null,null,null,null,null,null,null,null,null,null,null,null,null,null,null,null,null,null,null,null,{"$f":"IF(referentes!W717=\"\",\"\",referentes!W717)","v":""},{"$f":"referentes!S717","v":0},null,715,0,1290,"X"]
[null,null,null,null,null,null,null,null,null,null,null,null,null,null,null,null,null,null,null,null,null,null,null,null,null,null,null,null,{"$f":"IF(referentes!W718=\"\",\"\",referentes!W718)","v":""},{"$f":"referentes!S718","v":0},null,716,0,1290,"X"]
[null,null,null,null,null,null,null,null,null,null,null,null,null,null,null,null,null,null,null,null,null,null,null,null,null,null,null,null,{"$f":"IF(referentes!W719=\"\",\"\",referentes!W719)","v":""},{"$f":"referentes!S719","v":0},null,717,0,1290,"X"]
[null,null,null,null,null,null,null,null,null,null,null,null,null,null,null,null,null,null,null,null,null,null,null,null,null,null,null,null,{"$f":"IF(referentes!W720=\"\",\"\",referentes!W720)","v":""},{"$f":"referentes!S720","v":0},null,718,0,1290,"X"]
[null,null,null,null,null,null,null,null,null,null,null,null,null,null,null,null,null,null,null,null,null,null,null,null,null,null,null,null,{"$f":"IF(referentes!W721=\"\",\"\",referentes!W721)","v":""},{"$f":"referentes!S721","v":0},null,719,0,1290,"X"]
[null,null,null,null,null,null,null,null,null,null,null,null,null,null,null,null,null,null,null,null,null,null,null,null,null,null,null,null,{"$f":"IF(referentes!W722=\"\",\"\",referentes!W722)","v":""},{"$f":"referentes!S722","v":0},null,720,0,1290,"X"]
[null,null,null,null,null,null,null,null,null,null,null,null,null,null,null,null,null,null,null,null,null,null,null,null,null,null,null,null,{"$f":"IF(referentes!W723=\"\",\"\",referentes!W723)","v":""},{"$f":"referentes!S723","v":0},null,721,0,1290,"X"]
[null,null,null,null,null,null,null,null,null,null,null,null,null,null,null,null,null,null,null,null,null,null,null,null,null,null,null,null,{"$f":"IF(referentes!W724=\"\",\"\",referentes!W724)","v":""},{"$f":"referentes!S724","v":0},null,722,0,1290,"X"]
[null,null,null,null,null,null,null,null,null,null,null,null,null,null,null,null,null,null,null,null,null,null,null,null,null,null,null,null,{"$f":"IF(referentes!W725=\"\",\"\",referentes!W725)","v":""},{"$f":"referentes!S725","v":0},null,723,0,1290,"X"]
[null,null,null,null,null,null,null,null,null,null,null,null,null,null,null,null,null,null,null,null,null,null,null,null,null,null,null,null,{"$f":"IF(referentes!W726=\"\",\"\",referentes!W726)","v":""},{"$f":"referentes!S726","v":0},null,724,0,1290,"X"]
[null,null,null,null,null,null,null,null,null,null,null,null,null,null,null,null,null,null,null,null,null,null,null,null,null,null,null,null,{"$f":"IF(referentes!W727=\"\",\"\",referentes!W727)","v":""},{"$f":"referentes!S727","v":0},null,725,0,1290,"X"]
[null,null,null,null,null,null,null,null,null,null,null,null,null,null,null,null,null,null,null,null,null,null,null,null,null,null,null,null,{"$f":"IF(referentes!W728=\"\",\"\",referentes!W728)","v":""},{"$f":"referentes!S728","v":0},null,726,0,1290,"X"]
[null,null,null,null,null,null,null,null,null,null,null,null,null,null,null,null,null,null,null,null,null,null,null,null,null,null,null,null,{"$f":"IF(referentes!W729=\"\",\"\",referentes!W729)","v":""},{"$f":"referentes!S729","v":0},null,727,0,1290,"X"]
[null,null,null,null,null,null,null,null,null,null,null,null,null,null,null,null,null,null,null,null,null,null,null,null,null,null,null,null,{"$f":"IF(referentes!W730=\"\",\"\",referentes!W730)","v":""},{"$f":"referentes!S730","v":0},null,728,0,1290,"X"]
[null,null,null,null,null,null,null,null,null,null,null,null,null,null,null,null,null,null,null,null,null,null,null,null,null,null,null,null,{"$f":"IF(referentes!W731=\"\",\"\",referentes!W731)","v":""},{"$f":"referentes!S731","v":0},null,729,0,1290,"X"]
[null,null,null,null,null,null,null,null,null,null,null,null,null,null,null,null,null,null,null,null,null,null,null,null,null,null,null,null,{"$f":"IF(referentes!W732=\"\",\"\",referentes!W732)","v":""},{"$f":"referentes!S732","v":0},null,730,0,1290,"X"]
[null,null,null,null,null,null,null,null,null,null,null,null,null,null,null,null,null,null,null,null,null,null,null,null,null,null,null,null,{"$f":"IF(referentes!W733=\"\",\"\",referentes!W733)","v":""},{"$f":"referentes!S733","v":0},null,731,0,1290,"X"]
[null,null,null,null,null,null,null,null,null,null,null,null,null,null,null,null,null,null,null,null,null,null,null,null,null,null,null,null,{"$f":"IF(referentes!W734=\"\",\"\",referentes!W734)","v":""},{"$f":"referentes!S734","v":0},null,732,0,1290,"X"]
[null,null,null,null,null,null,null,null,null,null,null,null,null,null,null,null,null,null,null,null,null,null,null,null,null,null,null,null,{"$f":"IF(referentes!W735=\"\",\"\",referentes!W735)","v":""},{"$f":"referentes!S735","v":0},null,733,0,1290,"X"]
[null,null,null,null,null,null,null,null,null,null,null,null,null,null,null,null,null,null,null,null,null,null,null,null,null,null,null,null,{"$f":"IF(referentes!W736=\"\",\"\",referentes!W736)","v":""},{"$f":"referentes!S736","v":0},null,734,0,1290,"X"]
[null,null,null,null,null,null,null,null,null,null,null,null,null,null,null,null,null,null,null,null,null,null,null,null,null,null,null,null,{"$f":"IF(referentes!W737=\"\",\"\",referentes!W737)","v":""},{"$f":"referentes!S737","v":0},null,735,0,1290,"X"]
[null,null,null,null,null,null,null,null,null,null,null,null,null,null,null,null,null,null,null,null,null,null,null,null,null,null,null,null,{"$f":"IF(referentes!W738=\"\",\"\",referentes!W738)","v":""},{"$f":"referentes!S738","v":0},null,736,0,1290,"X"]
[null,null,null,null,null,null,null,null,null,null,null,null,null,null,null,null,null,null,null,null,null,null,null,null,null,null,null,null,{"$f":"IF(referentes!W739=\"\",\"\",referentes!W739)","v":""},{"$f":"referentes!S739","v":0},null,737,0,1290,"X"]
[null,null,null,null,null,null,null,null,null,null,null,null,null,null,null,null,null,null,null,null,null,null,null,null,null,null,null,null,{"$f":"IF(referentes!W740=\"\",\"\",referentes!W740)","v":""},{"$f":"referentes!S740","v":0},null,738,0,1290,"X"]
[null,null,null,null,null,null,null,null,null,null,null,null,null,null,null,null,null,null,null,null,null,null,null,null,null,null,null,null,{"$f":"IF(referentes!W741=\"\",\"\",referentes!W741)","v":""},{"$f":"referentes!S741","v":0},null,739,0,1290,"X"]
[null,null,null,null,null,null,null,null,null,null,null,null,null,null,null,null,null,null,null,null,null,null,null,null,null,null,null,null,{"$f":"IF(referentes!W742=\"\",\"\",referentes!W742)","v":""},{"$f":"referentes!S742","v":0},null,740,0,1290,"X"]
[null,null,null,null,null,null,null,null,null,null,null,null,null,null,null,null,null,null,null,null,null,null,null,null,null,null,null,null,{"$f":"IF(referentes!W743=\"\",\"\",referentes!W743)","v":""},{"$f":"referentes!S743","v":0},null,741,0,1290,"X"]
[null,null,null,null,null,null,null,null,null,null,null,null,null,null,null,null,null,null,null,null,null,null,null,null,null,null,null,null,{"$f":"IF(referentes!W744=\"\",\"\",referentes!W744)","v":""},{"$f":"referentes!S744","v":0},null,742,0,1290,"X"]
[null,null,null,null,null,null,null,null,null,null,null,null,null,null,null,null,null,null,null,null,null,null,null,null,null,null,null,null,{"$f":"IF(referentes!W745=\"\",\"\",referentes!W745)","v":""},{"$f":"referentes!S745","v":0},null,743,0,1290,"X"]
[null,null,null,null,null,null,null,null,null,null,null,null,null,null,null,null,null,null,null,null,null,null,null,null,null,null,null,null,{"$f":"IF(referentes!W746=\"\",\"\",referentes!W746)","v":""},{"$f":"referentes!S746","v":0},null,744,0,1290,"X"]
[null,null,null,null,null,null,null,null,null,null,null,null,null,null,null,null,null,null,null,null,null,null,null,null,null,null,null,null,{"$f":"IF(referentes!W747=\"\",\"\",referentes!W747)","v":""},{"$f":"referentes!S747","v":0},null,745,0,1290,"X"]
[null,null,null,null,null,null,null,null,null,null,null,null,null,null,null,null,null,null,null,null,null,null,null,null,null,null,null,null,{"$f":"IF(referentes!W748=\"\",\"\",referentes!W748)","v":""},{"$f":"referentes!S748","v":0},null,746,0,1290,"X"]
[null,null,null,null,null,null,null,null,null,null,null,null,null,null,null,null,null,null,null,null,null,null,null,null,null,null,null,null,{"$f":"IF(referentes!W749=\"\",\"\",referentes!W749)","v":""},{"$f":"referentes!S749","v":0},null,747,0,1290,"X"]
[null,null,null,null,null,null,null,null,null,null,null,null,null,null,null,null,null,null,null,null,null,null,null,null,null,null,null,null,{"$f":"IF(referentes!W750=\"\",\"\",referentes!W750)","v":""},{"$f":"referentes!S750","v":0},null,748,0,1290,"X"]
[null,null,null,null,null,null,null,null,null,null,null,null,null,null,null,null,null,null,null,null,null,null,null,null,null,null,null,null,{"$f":"IF(referentes!W751=\"\",\"\",referentes!W751)","v":""},{"$f":"referentes!S751","v":0},null,749,0,1290,"X"]
[null,null,null,null,null,null,null,null,null,null,null,null,null,null,null,null,null,null,null,null,null,null,null,null,null,null,null,null,{"$f":"IF(referentes!W752=\"\",\"\",referentes!W752)","v":""},{"$f":"referentes!S752","v":0},null,750,0,1290,"X"]
[null,null,null,null,null,null,null,null,null,null,null,null,null,null,null,null,null,null,null,null,null,null,null,null,null,null,null,null,{"$f":"IF(referentes!W753=\"\",\"\",referentes!W753)","v":""},{"$f":"referentes!S753","v":0},null,751,0,1290,"X"]
[null,null,null,null,null,null,null,null,null,null,null,null,null,null,null,null,null,null,null,null,null,null,null,null,null,null,null,null,{"$f":"IF(referentes!W754=\"\",\"\",referentes!W754)","v":""},{"$f":"referentes!S754","v":0},null,752,0,1290,"X"]
[null,null,null,null,null,null,null,null,null,null,null,null,null,null,null,null,null,null,null,null,null,null,null,null,null,null,null,null,{"$f":"IF(referentes!W755=\"\",\"\",referentes!W755)","v":""},{"$f":"referentes!S755","v":0},null,753,0,1290,"X"]
[null,null,null,null,null,null,null,null,null,null,null,null,null,null,null,null,null,null,null,null,null,null,null,null,null,null,null,null,{"$f":"IF(referentes!W756=\"\",\"\",referentes!W756)","v":""},{"$f":"referentes!S756","v":0},null,754,0,1290,"X"]
[null,null,null,null,null,null,null,null,null,null,null,null,null,null,null,null,null,null,null,null,null,null,null,null,null,null,null,null,{"$f":"IF(referentes!W757=\"\",\"\",referentes!W757)","v":""},{"$f":"referentes!S757","v":0},null,755,0,1290,"X"]
[null,null,null,null,null,null,null,null,null,null,null,null,null,null,null,null,null,null,null,null,null,null,null,null,null,null,null,null,{"$f":"IF(referentes!W758=\"\",\"\",referentes!W758)","v":""},{"$f":"referentes!S758","v":0},null,756,0,1290,"X"]
[null,null,null,null,null,null,null,null,null,null,null,null,null,null,null,null,null,null,null,null,null,null,null,null,null,null,null,null,{"$f":"IF(referentes!W759=\"\",\"\",referentes!W759)","v":""},{"$f":"referentes!S759","v":0},null,757,0,1290,"X"]
[null,null,null,null,null,null,null,null,null,null,null,null,null,null,null,null,null,null,null,null,null,null,null,null,null,null,null,null,{"$f":"IF(referentes!W760=\"\",\"\",referentes!W760)","v":""},{"$f":"referentes!S760","v":0},null,758,0,1290,"X"]
[null,null,null,null,null,null,null,null,null,null,null,null,null,null,null,null,null,null,null,null,null,null,null,null,null,null,null,null,{"$f":"IF(referentes!W761=\"\",\"\",referentes!W761)","v":""},{"$f":"referentes!S761","v":0},null,759,0,1290,"X"]
[null,null,null,null,null,null,null,null,null,null,null,null,null,null,null,null,null,null,null,null,null,null,null,null,null,null,null,null,{"$f":"IF(referentes!W762=\"\",\"\",referentes!W762)","v":""},{"$f":"referentes!S762","v":0},null,760,0,1290,"X"]
[null,null,null,null,null,null,null,null,null,null,null,null,null,null,null,null,null,null,null,null,null,null,null,null,null,null,null,null,{"$f":"IF(referentes!W763=\"\",\"\",referentes!W763)","v":""},{"$f":"referentes!S763","v":0},null,761,0,1290,"X"]
[null,null,null,null,null,null,null,null,null,null,null,null,null,null,null,null,null,null,null,null,null,null,null,null,null,null,null,null,{"$f":"IF(referentes!W764=\"\",\"\",referentes!W764)","v":""},{"$f":"referentes!S764","v":0},null,762,0,1290,"X"]
[null,null,null,null,null,null,null,null,null,null,null,null,null,null,null,null,null,null,null,null,null,null,null,null,null,null,null,null,{"$f":"IF(referentes!W765=\"\",\"\",referentes!W765)","v":""},{"$f":"referentes!S765","v":0},null,763,0,1290,"X"]
[null,null,null,null,null,null,null,null,null,null,null,null,null,null,null,null,null,null,null,null,null,null,null,null,null,null,null,null,{"$f":"IF(referentes!W766=\"\",\"\",referentes!W766)","v":""},{"$f":"referentes!S766","v":0},null,764,0,1290,"X"]
[null,null,null,null,null,null,null,null,null,null,null,null,null,null,null,null,null,null,null,null,null,null,null,null,null,null,null,null,{"$f":"IF(referentes!W767=\"\",\"\",referentes!W767)","v":""},{"$f":"referentes!S767","v":0},null,765,0,1290,"X"]
[null,null,null,null,null,null,null,null,null,null,null,null,null,null,null,null,null,null,null,null,null,null,null,null,null,null,null,null,{"$f":"IF(referentes!W768=\"\",\"\",referentes!W768)","v":""},{"$f":"referentes!S768","v":0},null,766,0,1290,"X"]
[null,null,null,null,null,null,null,null,null,null,null,null,null,null,null,null,null,null,null,null,null,null,null,null,null,null,null,null,{"$f":"IF(referentes!W769=\"\",\"\",referentes!W769)","v":""},{"$f":"referentes!S769","v":0},null,767,0,1290,"X"]
[null,null,null,null,null,null,null,null,null,null,null,null,null,null,null,null,null,null,null,null,null,null,null,null,null,null,null,null,{"$f":"IF(referentes!W770=\"\",\"\",referentes!W770)","v":""},{"$f":"referentes!S770","v":0},null,768,0,1290,"X"]
[null,null,null,null,null,null,null,null,null,null,null,null,null,null,null,null,null,null,null,null,null,null,null,null,null,null,null,null,{"$f":"IF(referentes!W771=\"\",\"\",referentes!W771)","v":""},{"$f":"referentes!S771","v":0},null,769,0,1290,"X"]
[null,null,null,null,null,null,null,null,null,null,null,null,null,null,null,null,null,null,null,null,null,null,null,null,null,null,null,null,{"$f":"IF(referentes!W772=\"\",\"\",referentes!W772)","v":""},{"$f":"referentes!S772","v":0},null,770,{"$f":"IF(AC774=\"\",0,AC774)","v":0},{"$f":"IF(AG775=0,MAX($AF$6:$AF$1294)+1,AF775)","v":1290},{"$f":"IFERROR(VLOOKUP(SMALL($AH$6:$AH$1294,AF775),$AF$6:$AH$1294,2,FALSE),\"X\")","v":"X"}]
[null,null,null,null,null,null,null,null,null,null,null,null,null,null,null,null,null,null,null,null,null,null,null,null,null,null,null,null,{"$f":"IF(referentes!W773=\"\",\"\",referentes!W773)","v":""},{"$f":"referentes!S773","v":0},null,771,0,1290,"X"]
[null,null,null,null,null,null,null,null,null,null,null,null,null,null,null,null,null,null,null,null,null,null,null,null,null,null,null,null,{"$f":"IF(referentes!W774=\"\",\"\",referentes!W774)","v":""},{"$f":"referentes!S774","v":0},null,772,0,1290,"X"]
[null,null,null,null,null,null,null,null,null,null,null,null,null,null,null,null,null,null,null,null,null,null,null,null,null,null,null,null,{"$f":"IF(referentes!W775=\"\",\"\",referentes!W775)","v":""},{"$f":"referentes!S775","v":0},null,773,0,1290,"X"]
[null,null,null,null,null,null,null,null,null,null,null,null,null,null,null,null,null,null,null,null,null,null,null,null,null,null,null,null,{"$f":"IF(referentes!W776=\"\",\"\",referentes!W776)","v":""},{"$f":"referentes!S776","v":0},null,774,0,1290,"X"]
[null,null,null,null,null,null,null,null,null,null,null,null,null,null,null,null,null,null,null,null,null,null,null,null,null,null,null,null,{"$f":"IF(referentes!W777=\"\",\"\",referentes!W777)","v":""},{"$f":"referentes!S777","v":0},null,775,0,1290,"X"]
[null,null,null,null,null,null,null,null,null,null,null,null,null,null,null,null,null,null,null,null,null,null,null,null,null,null,null,null,{"$f":"IF(referentes!W778=\"\",\"\",referentes!W778)","v":""},{"$f":"referentes!S778","v":0},null,776,0,1290,"X"]
[null,null,null,null,null,null,null,null,null,null,null,null,null,null,null,null,null,null,null,null,null,null,null,null,null,null,null,null,{"$f":"IF(referentes!W779=\"\",\"\",referentes!W779)","v":""},{"$f":"referentes!S779","v":0},null,777,0,1290,"X"]
[null,null,null,null,null,null,null,null,null,null,null,null,null,null,null,null,null,null,null,null,null,null,null,null,null,null,null,null,{"$f":"IF(referentes!W780=\"\",\"\",referentes!W780)","v":""},{"$f":"referentes!S780","v":0},null,778,0,1290,"X"]
[null,null,null,null,null,null,null,null,null,null,null,null,null,null,null,null,null,null,null,null,null,null,null,null,null,null,null,null,{"$f":"IF(referentes!W781=\"\",\"\",referentes!W781)","v":""},{"$f":"referentes!S781","v":0},null,779,0,1290,"X"]
[null,null,null,null,null,null,null,null,null,null,null,null,null,null,null,null,null,null,null,null,null,null,null,null,null,null,null,null,{"$f":"IF(referentes!W782=\"\",\"\",referentes!W782)","v":""},{"$f":"referentes!S782","v":0},null,780,0,1290,"X"]
[null,null,null,null,null,null,null,null,null,null,null,null,null,null,null,null,null,null,null,null,null,null,null,null,null,null,null,null,{"$f":"IF(referentes!W783=\"\",\"\",referentes!W783)","v":""},{"$f":"referentes!S783","v":0},null,781,0,1290,"X"]
[null,null,null,null,null,null,null,null,null,null,null,null,null,null,null,null,null,null,null,null,null,null,null,null,null,null,null,null,{"$f":"IF(referentes!W784=\"\",\"\",referentes!W784)","v":""},{"$f":"referentes!S784","v":0},null,782,0,1290,"X"]
[null,null,null,null,null,null,null,null,null,null,null,null,null,null,null,null,null,null,null,null,null,null,null,null,null,null,null,null,{"$f":"IF(referentes!W785=\"\",\"\",referentes!W785)","v":""},{"$f":"referentes!S785","v":0},null,783,0,1290,"X"]
[null,null,null,null,null,null,null,null,null,null,null,null,null,null,null,null,null,null,null,null,null,null,null,null,null,null,null,null,{"$f":"IF(referentes!W786=\"\",\"\",referentes!W786)","v":""},{"$f":"referentes!S786","v":0},null,784,0,1290,"X"]
[null,null,null,null,null,null,null,null,null,null,null,null,null,null,null,null,null,null,null,null,null,null,null,null,null,null,null,null,{"$f":"IF(referentes!W787=\"\",\"\",referentes!W787)","v":""},{"$f":"referentes!S787","v":0},null,785,0,1290,"X"]
[null,null,null,null,null,null,null,null,null,null,null,null,null,null,null,null,null,null,null,null,null,null,null,null,null,null,null,null,{"$f":"IF(referentes!W788=\"\",\"\",referentes!W788)","v":""},{"$f":"referentes!S788","v":0},null,786,0,1290,"X"]
[null,null,null,null,null,null,null,null,null,null,null,null,null,null,null,null,null,null,null,null,null,null,null,null,null,null,null,null,{"$f":"IF(referentes!W789=\"\",\"\",referentes!W789)","v":""},{"$f":"referentes!S789","v":0},null,787,0,1290,"X"]
[null,null,null,null,null,null,null,null,null,null,null,null,null,null,null,null,null,null,null,null,null,null,null,null,null,null,null,null,{"$f":"IF(referentes!W790=\"\",\"\",referentes!W790)","v":""},{"$f":"referentes!S790","v":0},null,788,0,1290,"X"]
[null,null,null,null,null,null,null,null,null,null,null,null,null,null,null,null,null,null,null,null,null,null,null,null,null,null,null,null,{"$f":"IF(referentes!W791=\"\",\"\",referentes!W791)","v":""},{"$f":"referentes!S791","v":0},null,789,0,1290,"X"]
[null,null,null,null,null,null,null,null,null,null,null,null,null,null,null,null,null,null,null,null,null,null,null,null,null,null,null,null,{"$f":"IF(referentes!W792=\"\",\"\",referentes!W792)","v":""},{"$f":"referentes!S792","v":0},null,790,0,1290,"X"]
[null,null,null,null,null,null,null,null,null,null,null,null,null,null,null,null,null,null,null,null,null,null,null,null,null,null,null,null,{"$f":"IF(referentes!W793=\"\",\"\",referentes!W793)","v":""},{"$f":"referentes!S793","v":0},null,791,0,1290,"X"]
[null,null,null,null,null,null,null,null,null,null,null,null,null,null,null,null,null,null,null,null,null,null,null,null,null,null,null,null,{"$f":"IF(referentes!W794=\"\",\"\",referentes!W794)","v":""},{"$f":"referentes!S794","v":0},null,792,0,1290,"X"]
[null,null,null,null,null,null,null,null,null,null,null,null,null,null,null,null,null,null,null,null,null,null,null,null,null,null,null,null,{"$f":"IF(referentes!W795=\"\",\"\",referentes!W795)","v":""},{"$f":"referentes!S795","v":0},null,793,0,1290,"X"]
[null,null,null,null,null,null,null,null,null,null,null,null,null,null,null,null,null,null,null,null,null,null,null,null,null,null,null,null,{"$f":"IF(referentes!W796=\"\",\"\",referentes!W796)","v":""},{"$f":"referentes!S796","v":0},null,794,0,1290,"X"]
[null,null,null,null,null,null,null,null,null,null,null,null,null,null,null,null,null,null,null,null,null,null,null,null,null,null,null,null,{"$f":"IF(referentes!W797=\"\",\"\",referentes!W797)","v":""},{"$f":"referentes!S797","v":0},null,795,0,1290,"X"]
[null,null,null,null,null,null,null,null,null,null,null,null,null,null,null,null,null,null,null,null,null,null,null,null,null,null,null,null,{"$f":"IF(referentes!W798=\"\",\"\",referentes!W798)","v":""},{"$f":"referentes!S798","v":0},null,796,0,1290,"X"]
[null,null,null,null,null,null,null,null,null,null,null,null,null,null,null,null,null,null,null,null,null,null,null,null,null,null,null,null,{"$f":"IF(referentes!W799=\"\",\"\",referentes!W799)","v":""},{"$f":"referentes!S799","v":0},null,797,0,1290,"X"]
[null,null,null,null,null,null,null,null,null,null,null,null,null,null,null,null,null,null,null,null,null,null,null,null,null,null,null,null,{"$f":"IF(referentes!W800=\"\",\"\",referentes!W800)","v":""},{"$f":"referentes!S800","v":0},null,798,0,1290,"X"]
[null,null,null,null,null,null,null,null,null,null,null,null,null,null,null,null,null,null,null,null,null,null,null,null,null,null,null,null,{"$f":"IF(referentes!W801=\"\",\"\",referentes!W801)","v":""},{"$f":"referentes!S801","v":0},null,799,0,1290,"X"]
[null,null,null,null,null,null,null,null,null,null,null,null,null,null,null,null,null,null,null,null,null,null,null,null,null,null,null,null,{"$f":"IF(referentes!W802=\"\",\"\",referentes!W802)","v":""},{"$f":"referentes!S802","v":0},null,800,0,1290,"X"]
[null,null,null,null,null,null,null,null,null,null,null,null,null,null,null,null,null,null,null,null,null,null,null,null,null,null,null,null,{"$f":"IF(referentes!W803=\"\",\"\",referentes!W803)","v":""},{"$f":"referentes!S803","v":0},null,801,0,1290,"X"]
[null,null,null,null,null,null,null,null,null,null,null,null,null,null,null,null,null,null,null,null,null,null,null,null,null,null,null,null,{"$f":"IF(referentes!W804=\"\",\"\",referentes!W804)","v":""},{"$f":"referentes!S804","v":0},null,802,0,1290,"X"]
[null,null,null,null,null,null,null,null,null,null,null,null,null,null,null,null,null,null,null,null,null,null,null,null,null,null,null,null,{"$f":"IF(referentes!W805=\"\",\"\",referentes!W805)","v":""},{"$f":"referentes!S805","v":0},null,803,0,1290,"X"]
[null,null,null,null,null,null,null,null,null,null,null,null,null,null,null,null,null,null,null,null,null,null,null,null,null,null,null,null,{"$f":"IF(referentes!W806=\"\",\"\",referentes!W806)","v":""},{"$f":"referentes!S806","v":0},null,804,0,1290,"X"]
[null,null,null,null,null,null,null,null,null,null,null,null,null,null,null,null,null,null,null,null,null,null,null,null,null,null,null,null,{"$f":"IF(referentes!W807=\"\",\"\",referentes!W807)","v":""},{"$f":"referentes!S807","v":0},null,805,0,1290,"X"]
[null,null,null,null,null,null,null,null,null,null,null,null,null,null,null,null,null,null,null,null,null,null,null,null,null,null,null,null,{"$f":"IF(referentes!W808=\"\",\"\",referentes!W808)","v":""},{"$f":"referentes!S808","v":0},null,806,0,1290,"X"]
[null,null,null,null,null,null,null,null,null,null,null,null,null,null,null,null,null,null,null,null,null,null,null,null,null,null,null,null,{"$f":"IF(referentes!W809=\"\",\"\",referentes!W809)","v":""},{"$f":"referentes!S809","v":0},null,807,0,1290,"X"]
[null,null,null,null,null,null,null,null,null,null,null,null,null,null,null,null,null,null,null,null,null,null,null,null,null,null,null,null,{"$f":"IF(referentes!W810=\"\",\"\",referentes!W810)","v":""},{"$f":"referentes!S810","v":0},null,808,0,1290,"X"]
[null,null,null,null,null,null,null,null,null,null,null,null,null,null,null,null,null,null,null,null,null,null,null,null,null,null,null,null,{"$f":"IF(referentes!W811=\"\",\"\",referentes!W811)","v":""},{"$f":"referentes!S811","v":0},null,809,0,1290,"X"]
[null,null,null,null,null,null,null,null,null,null,null,null,null,null,null,null,null,null,null,null,null,null,null,null,null,null,null,null,{"$f":"IF(referentes!W812=\"\",\"\",referentes!W812)","v":""},{"$f":"referentes!S812","v":0},null,810,0,1290,"X"]
[null,null,null,null,null,null,null,null,null,null,null,null,null,null,null,null,null,null,null,null,null,null,null,null,null,null,null,null,{"$f":"IF(referentes!W813=\"\",\"\",referentes!W813)","v":""},{"$f":"referentes!S813","v":0},null,811,0,1290,"X"]
[null,null,null,null,null,null,null,null,null,null,null,null,null,null,null,null,null,null,null,null,null,null,null,null,null,null,null,null,{"$f":"IF(referentes!W814=\"\",\"\",referentes!W814)","v":""},{"$f":"referentes!S814","v":0},null,812,0,1290,"X"]
[null,null,null,null,null,null,null,null,null,null,null,null,null,null,null,null,null,null,null,null,null,null,null,null,null,null,null,null,{"$f":"IF(referentes!W815=\"\",\"\",referentes!W815)","v":""},{"$f":"referentes!S815","v":0},null,813,0,1290,"X"]
[null,null,null,null,null,null,null,null,null,null,null,null,null,null,null,null,null,null,null,null,null,null,null,null,null,null,null,null,{"$f":"IF(referentes!W816=\"\",\"\",referentes!W816)","v":""},{"$f":"referentes!S816","v":0},null,814,0,1290,"X"]
[null,null,null,null,null,null,null,null,null,null,null,null,null,null,null,null,null,null,null,null,null,null,null,null,null,null,null,null,{"$f":"IF(referentes!W817=\"\",\"\",referentes!W817)","v":""},{"$f":"referentes!S817","v":0},null,815,0,1290,"X"]
[null,null,null,null,null,null,null,null,null,null,null,null,null,null,null,null,null,null,null,null,null,null,null,null,null,null,null,null,{"$f":"IF(referentes!W818=\"\",\"\",referentes!W818)","v":""},{"$f":"referentes!S818","v":0},null,816,0,1290,"X"]
[null,null,null,null,null,null,null,null,null,null,null,null,null,null,null,null,null,null,null,null,null,null,null,null,null,null,null,null,{"$f":"IF(referentes!W819=\"\",\"\",referentes!W819)","v":""},{"$f":"referentes!S819","v":0},null,817,0,1290,"X"]
[null,null,null,null,null,null,null,null,null,null,null,null,null,null,null,null,null,null,null,null,null,null,null,null,null,null,null,null,{"$f":"IF(referentes!W820=\"\",\"\",referentes!W820)","v":""},{"$f":"referentes!S820","v":0},null,818,0,1290,"X"]
[null,null,null,null,null,null,null,null,null,null,null,null,null,null,null,null,null,null,null,null,null,null,null,null,null,null,null,null,{"$f":"IF(referentes!W821=\"\",\"\",referentes!W821)","v":""},{"$f":"referentes!S821","v":0},null,819,0,1290,"X"]
[null,null,null,null,null,null,null,null,null,null,null,null,null,null,null,null,null,null,null,null,null,null,null,null,null,null,null,null,{"$f":"IF(referentes!W822=\"\",\"\",referentes!W822)","v":""},{"$f":"referentes!S822","v":0},null,820,0,1290,"X"]
[null,null,null,null,null,null,null,null,null,null,null,null,null,null,null,null,null,null,null,null,null,null,null,null,null,null,null,null,{"$f":"IF(referentes!W823=\"\",\"\",referentes!W823)","v":""},{"$f":"referentes!S823","v":0},null,821,0,1290,"X"]
[null,null,null,null,null,null,null,null,null,null,null,null,null,null,null,null,null,null,null,null,null,null,null,null,null,null,null,null,{"$f":"IF(referentes!W824=\"\",\"\",referentes!W824)","v":""},{"$f":"referentes!S824","v":0},null,822,0,1290,"X"]
[null,null,null,null,null,null,null,null,null,null,null,null,null,null,null,null,null,null,null,null,null,null,null,null,null,null,null,null,{"$f":"IF(referentes!W825=\"\",\"\",referentes!W825)","v":""},{"$f":"referentes!S825","v":0},null,823,0,1290,"X"]
[null,null,null,null,null,null,null,null,null,null,null,null,null,null,null,null,null,null,null,null,null,null,null,null,null,null,null,null,{"$f":"IF(referentes!W826=\"\",\"\",referentes!W826)","v":""},{"$f":"referentes!S826","v":0},null,824,0,1290,"X"]
[null,null,null,null,null,null,null,null,null,null,null,null,null,null,null,null,null,null,null,null,null,null,null,null,null,null,null,null,{"$f":"IF(referentes!W827=\"\",\"\",referentes!W827)","v":""},{"$f":"referentes!S827","v":0},null,825,0,1290,"X"]
[null,null,null,null,null,null,null,null,null,null,null,null,null,null,null,null,null,null,null,null,null,null,null,null,null,null,null,null,{"$f":"IF(referentes!W828=\"\",\"\",referentes!W828)","v":""},{"$f":"referentes!S828","v":0},null,826,0,1290,"X"]
[null,null,null,null,null,null,null,null,null,null,null,null,null,null,null,null,null,null,null,null,null,null,null,null,null,null,null,null,{"$f":"IF(referentes!W829=\"\",\"\",referentes!W829)","v":""},{"$f":"referentes!S829","v":0},null,827,0,1290,"X"]
[null,null,null,null,null,null,null,null,null,null,null,null,null,null,null,null,null,null,null,null,null,null,null,null,null,null,null,null,{"$f":"IF(referentes!W830=\"\",\"\",referentes!W830)","v":""},{"$f":"referentes!S830","v":0},null,828,0,1290,"X"]
[null,null,null,null,null,null,null,null,null,null,null,null,null,null,null,null,null,null,null,null,null,null,null,null,null,null,null,null,{"$f":"IF(referentes!W831=\"\",\"\",referentes!W831)","v":""},{"$f":"referentes!S831","v":0},null,829,0,1290,"X"]
[null,null,null,null,null,null,null,null,null,null,null,null,null,null,null,null,null,null,null,null,null,null,null,null,null,null,null,null,{"$f":"IF(referentes!W832=\"\",\"\",referentes!W832)","v":""},{"$f":"referentes!S832","v":0},null,830,0,1290,"X"]
[null,null,null,null,null,null,null,null,null,null,null,null,null,null,null,null,null,null,null,null,null,null,null,null,null,null,null,null,{"$f":"IF(referentes!W833=\"\",\"\",referentes!W833)","v":""},{"$f":"referentes!S833","v":0},null,831,0,1290,"X"]
[null,null,null,null,null,null,null,null,null,null,null,null,null,null,null,null,null,null,null,null,null,null,null,null,null,null,null,null,{"$f":"IF(referentes!W834=\"\",\"\",referentes!W834)","v":""},{"$f":"referentes!S834","v":0},null,832,0,1290,"X"]
[null,null,null,null,null,null,null,null,null,null,null,null,null,null,null,null,null,null,null,null,null,null,null,null,null,null,null,null,{"$f":"IF(referentes!W835=\"\",\"\",referentes!W835)","v":""},{"$f":"referentes!S835","v":0},null,833,0,1290,"X"]
[null,null,null,null,null,null,null,null,null,null,null,null,null,null,null,null,null,null,null,null,null,null,null,null,null,null,null,null,{"$f":"IF(referentes!W836=\"\",\"\",referentes!W836)","v":""},{"$f":"referentes!S836","v":0},null,834,{"$f":"IF(AC838=\"\",0,AC838)","v":0},{"$f":"IF(AG839=0,MAX($AF$6:$AF$1294)+1,AF839)","v":1290},{"$f":"IFERROR(VLOOKUP(SMALL($AH$6:$AH$1294,AF839),$AF$6:$AH$1294,2,FALSE),\"X\")","v":"X"}]
[null,null,null,null,null,null,null,null,null,null,null,null,null,null,null,null,null,null,null,null,null,null,null,null,null,null,null,null,{"$f":"IF(referentes!W837=\"\",\"\",referentes!W837)","v":""},{"$f":"referentes!S837","v":0},null,835,0,1290,"X"]
[null,null,null,null,null,null,null,null,null,null,null,null,null,null,null,null,null,null,null,null,null,null,null,null,null,null,null,null,{"$f":"IF(referentes!W838=\"\",\"\",referentes!W838)","v":""},{"$f":"referentes!S838","v":0},null,836,0,1290,"X"]
[null,null,null,null,null,null,null,null,null,null,null,null,null,null,null,null,null,null,null,null,null,null,null,null,null,null,null,null,{"$f":"IF(referentes!W839=\"\",\"\",referentes!W839)","v":""},{"$f":"referentes!S839","v":0},null,837,0,1290,"X"]
[null,null,null,null,null,null,null,null,null,null,null,null,null,null,null,null,null,null,null,null,null,null,null,null,null,null,null,null,{"$f":"IF(referentes!W840=\"\",\"\",referentes!W840)","v":""},{"$f":"referentes!S840","v":0},null,838,0,1290,"X"]
[null,null,null,null,null,null,null,null,null,null,null,null,null,null,null,null,null,null,null,null,null,null,null,null,null,null,null,null,{"$f":"IF(referentes!W841=\"\",\"\",referentes!W841)","v":""},{"$f":"referentes!S841","v":0},null,839,0,1290,"X"]
[null,null,null,null,null,null,null,null,null,null,null,null,null,null,null,null,null,null,null,null,null,null,null,null,null,null,null,null,{"$f":"IF(referentes!W842=\"\",\"\",referentes!W842)","v":""},{"$f":"referentes!S842","v":0},null,840,0,1290,"X"]
[null,null,null,null,null,null,null,null,null,null,null,null,null,null,null,null,null,null,null,null,null,null,null,null,null,null,null,null,{"$f":"IF(referentes!W843=\"\",\"\",referentes!W843)","v":""},{"$f":"referentes!S843","v":0},null,841,0,1290,"X"]
[null,null,null,null,null,null,null,null,null,null,null,null,null,null,null,null,null,null,null,null,null,null,null,null,null,null,null,null,{"$f":"IF(referentes!W844=\"\",\"\",referentes!W844)","v":""},{"$f":"referentes!S844","v":0},null,842,0,1290,"X"]
[null,null,null,null,null,null,null,null,null,null,null,null,null,null,null,null,null,null,null,null,null,null,null,null,null,null,null,null,{"$f":"IF(referentes!W845=\"\",\"\",referentes!W845)","v":""},{"$f":"referentes!S845","v":0},null,843,0,1290,"X"]
[null,null,null,null,null,null,null,null,null,null,null,null,null,null,null,null,null,null,null,null,null,null,null,null,null,null,null,null,{"$f":"IF(referentes!W846=\"\",\"\",referentes!W846)","v":""},{"$f":"referentes!S846","v":0},null,844,0,1290,"X"]
[null,null,null,null,null,null,null,null,null,null,null,null,null,null,null,null,null,null,null,null,null,null,null,null,null,null,null,null,{"$f":"IF(referentes!W847=\"\",\"\",referentes!W847)","v":""},{"$f":"referentes!S847","v":0},null,845,0,1290,"X"]
[null,null,null,null,null,null,null,null,null,null,null,null,null,null,null,null,null,null,null,null,null,null,null,null,null,null,null,null,{"$f":"IF(referentes!W848=\"\",\"\",referentes!W848)","v":""},{"$f":"referentes!S848","v":0},null,846,0,1290,"X"]
[null,null,null,null,null,null,null,null,null,null,null,null,null,null,null,null,null,null,null,null,null,null,null,null,null,null,null,null,{"$f":"IF(referentes!W849=\"\",\"\",referentes!W849)","v":""},{"$f":"referentes!S849","v":0},null,847,0,1290,"X"]
[null,null,null,null,null,null,null,null,null,null,null,null,null,null,null,null,null,null,null,null,null,null,null,null,null,null,null,null,{"$f":"IF(referentes!W850=\"\",\"\",referentes!W850)","v":""},{"$f":"referentes!S850","v":0},null,848,0,1290,"X"]
[null,null,null,null,null,null,null,null,null,null,null,null,null,null,null,null,null,null,null,null,null,null,null,null,null,null,null,null,{"$f":"IF(referentes!W851=\"\",\"\",referentes!W851)","v":""},{"$f":"referentes!S851","v":0},null,849,0,1290,"X"]
[null,null,null,null,null,null,null,null,null,null,null,null,null,null,null,null,null,null,null,null,null,null,null,null,null,null,null,null,{"$f":"IF(referentes!W852=\"\",\"\",referentes!W852)","v":""},{"$f":"referentes!S852","v":0},null,850,0,1290,"X"]
[null,null,null,null,null,null,null,null,null,null,null,null,null,null,null,null,null,null,null,null,null,null,null,null,null,null,null,null,{"$f":"IF(referentes!W853=\"\",\"\",referentes!W853)","v":""},{"$f":"referentes!S853","v":0},null,851,0,1290,"X"]
[null,null,null,null,null,null,null,null,null,null,null,null,null,null,null,null,null,null,null,null,null,null,null,null,null,null,null,null,{"$f":"IF(referentes!W854=\"\",\"\",referentes!W854)","v":""},{"$f":"referentes!S854","v":0},null,852,0,1290,"X"]
[null,null,null,null,null,null,null,null,null,null,null,null,null,null,null,null,null,null,null,null,null,null,null,null,null,null,null,null,{"$f":"IF(referentes!W855=\"\",\"\",referentes!W855)","v":""},{"$f":"referentes!S855","v":0},null,853,0,1290,"X"]
[null,null,null,null,null,null,null,null,null,null,null,null,null,null,null,null,null,null,null,null,null,null,null,null,null,null,null,null,{"$f":"IF(referentes!W856=\"\",\"\",referentes!W856)","v":""},{"$f":"referentes!S856","v":0},null,854,0,1290,"X"]
[null,null,null,null,null,null,null,null,null,null,null,null,null,null,null,null,null,null,null,null,null,null,null,null,null,null,null,null,{"$f":"IF(referentes!W857=\"\",\"\",referentes!W857)","v":""},{"$f":"referentes!S857","v":0},null,855,0,1290,"X"]
[null,null,null,null,null,null,null,null,null,null,null,null,null,null,null,null,null,null,null,null,null,null,null,null,null,null,null,null,{"$f":"IF(referentes!W858=\"\",\"\",referentes!W858)","v":""},{"$f":"referentes!S858","v":0},null,856,0,1290,"X"]
[null,null,null,null,null,null,null,null,null,null,null,null,null,null,null,null,null,null,null,null,null,null,null,null,null,null,null,null,{"$f":"IF(referentes!W859=\"\",\"\",referentes!W859)","v":""},{"$f":"referentes!S859","v":0},null,857,0,1290,"X"]
[null,null,null,null,null,null,null,null,null,null,null,null,null,null,null,null,null,null,null,null,null,null,null,null,null,null,null,null,{"$f":"IF(referentes!W860=\"\",\"\",referentes!W860)","v":""},{"$f":"referentes!S860","v":0},null,858,0,1290,"X"]
[null,null,null,null,null,null,null,null,null,null,null,null,null,null,null,null,null,null,null,null,null,null,null,null,null,null,null,null,{"$f":"IF(referentes!W861=\"\",\"\",referentes!W861)","v":""},{"$f":"referentes!S861","v":0},null,859,0,1290,"X"]
[null,null,null,null,null,null,null,null,null,null,null,null,null,null,null,null,null,null,null,null,null,null,null,null,null,null,null,null,{"$f":"IF(referentes!W862=\"\",\"\",referentes!W862)","v":""},{"$f":"referentes!S862","v":0},null,860,0,1290,"X"]
[null,null,null,null,null,null,null,null,null,null,null,null,null,null,null,null,null,null,null,null,null,null,null,null,null,null,null,null,{"$f":"IF(referentes!W863=\"\",\"\",referentes!W863)","v":""},{"$f":"referentes!S863","v":0},null,861,0,1290,"X"]
[null,null,null,null,null,null,null,null,null,null,null,null,null,null,null,null,null,null,null,null,null,null,null,null,null,null,null,null,{"$f":"IF(referentes!W864=\"\",\"\",referentes!W864)","v":""},{"$f":"referentes!S864","v":0},null,862,0,1290,"X"]
[null,null,null,null,null,null,null,null,null,null,null,null,null,null,null,null,null,null,null,null,null,null,null,null,null,null,null,null,{"$f":"IF(referentes!W865=\"\",\"\",referentes!W865)","v":""},{"$f":"referentes!S865","v":0},null,863,0,1290,"X"]
[null,null,null,null,null,null,null,null,null,null,null,null,null,null,null,null,null,null,null,null,null,null,null,null,null,null,null,null,{"$f":"IF(referentes!W866=\"\",\"\",referentes!W866)","v":""},{"$f":"referentes!S866","v":0},null,864,0,1290,"X"]
[null,null,null,null,null,null,null,null,null,null,null,null,null,null,null,null,null,null,null,null,null,null,null,null,null,null,null,null,{"$f":"IF(referentes!W867=\"\",\"\",referentes!W867)","v":""},{"$f":"referentes!S867","v":0},null,865,0,1290,"X"]
[null,null,null,null,null,null,null,null,null,null,null,null,null,null,null,null,null,null,null,null,null,null,null,null,null,null,null,null,{"$f":"IF(referentes!W868=\"\",\"\",referentes!W868)","v":""},{"$f":"referentes!S868","v":0},null,866,0,1290,"X"]
[null,null,null,null,null,null,null,null,null,null,null,null,null,null,null,null,null,null,null,null,null,null,null,null,null,null,null,null,{"$f":"IF(referentes!W869=\"\",\"\",referentes!W869)","v":""},{"$f":"referentes!S869","v":0},null,867,0,1290,"X"]
[null,null,null,null,null,null,null,null,null,null,null,null,null,null,null,null,null,null,null,null,null,null,null,null,null,null,null,null,{"$f":"IF(referentes!W870=\"\",\"\",referentes!W870)","v":""},{"$f":"referentes!S870","v":0},null,868,0,1290,"X"]
[null,null,null,null,null,null,null,null,null,null,null,null,null,null,null,null,null,null,null,null,null,null,null,null,null,null,null,null,{"$f":"IF(referentes!W871=\"\",\"\",referentes!W871)","v":""},{"$f":"referentes!S871","v":0},null,869,0,1290,"X"]
[null,null,null,null,null,null,null,null,null,null,null,null,null,null,null,null,null,null,null,null,null,null,null,null,null,null,null,null,{"$f":"IF(referentes!W872=\"\",\"\",referentes!W872)","v":""},{"$f":"referentes!S872","v":0},null,870,0,1290,"X"]
[null,null,null,null,null,null,null,null,null,null,null,null,null,null,null,null,null,null,null,null,null,null,null,null,null,null,null,null,{"$f":"IF(referentes!W873=\"\",\"\",referentes!W873)","v":""},{"$f":"referentes!S873","v":0},null,871,0,1290,"X"]
[null,null,null,null,null,null,null,null,null,null,null,null,null,null,null,null,null,null,null,null,null,null,null,null,null,null,null,null,{"$f":"IF(referentes!W874=\"\",\"\",referentes!W874)","v":""},{"$f":"referentes!S874","v":0},null,872,0,1290,"X"]
[null,null,null,null,null,null,null,null,null,null,null,null,null,null,null,null,null,null,null,null,null,null,null,null,null,null,null,null,{"$f":"IF(referentes!W875=\"\",\"\",referentes!W875)","v":""},{"$f":"referentes!S875","v":0},null,873,0,1290,"X"]
[null,null,null,null,null,null,null,null,null,null,null,null,null,null,null,null,null,null,null,null,null,null,null,null,null,null,null,null,{"$f":"IF(referentes!W876=\"\",\"\",referentes!W876)","v":""},{"$f":"referentes!S876","v":0},null,874,0,1290,"X"]
[null,null,null,null,null,null,null,null,null,null,null,null,null,null,null,null,null,null,null,null,null,null,null,null,null,null,null,null,{"$f":"IF(referentes!W877=\"\",\"\",referentes!W877)","v":""},{"$f":"referentes!S877","v":0},null,875,0,1290,"X"]
[null,null,null,null,null,null,null,null,null,null,null,null,null,null,null,null,null,null,null,null,null,null,null,null,null,null,null,null,{"$f":"IF(referentes!W878=\"\",\"\",referentes!W878)","v":""},{"$f":"referentes!S878","v":0},null,876,0,1290,"X"]
[null,null,null,null,null,null,null,null,null,null,null,null,null,null,null,null,null,null,null,null,null,null,null,null,null,null,null,null,{"$f":"IF(referentes!W879=\"\",\"\",referentes!W879)","v":""},{"$f":"referentes!S879","v":0},null,877,0,1290,"X"]
[null,null,null,null,null,null,null,null,null,null,null,null,null,null,null,null,null,null,null,null,null,null,null,null,null,null,null,null,{"$f":"IF(referentes!W880=\"\",\"\",referentes!W880)","v":""},{"$f":"referentes!S880","v":0},null,878,0,1290,"X"]
[null,null,null,null,null,null,null,null,null,null,null,null,null,null,null,null,null,null,null,null,null,null,null,null,null,null,null,null,{"$f":"IF(referentes!W881=\"\",\"\",referentes!W881)","v":""},{"$f":"referentes!S881","v":0},null,879,0,1290,"X"]
[null,null,null,null,null,null,null,null,null,null,null,null,null,null,null,null,null,null,null,null,null,null,null,null,null,null,null,null,{"$f":"IF(referentes!W882=\"\",\"\",referentes!W882)","v":""},{"$f":"referentes!S882","v":0},null,880,0,1290,"X"]
[null,null,null,null,null,null,null,null,null,null,null,null,null,null,null,null,null,null,null,null,null,null,null,null,null,null,null,null,{"$f":"IF(referentes!W883=\"\",\"\",referentes!W883)","v":""},{"$f":"referentes!S883","v":0},null,881,0,1290,"X"]
[null,null,null,null,null,null,null,null,null,null,null,null,null,null,null,null,null,null,null,null,null,null,null,null,null,null,null,null,{"$f":"IF(referentes!W884=\"\",\"\",referentes!W884)","v":""},{"$f":"referentes!S884","v":0},null,882,0,1290,"X"]
[null,null,null,null,null,null,null,null,null,null,null,null,null,null,null,null,null,null,null,null,null,null,null,null,null,null,null,null,{"$f":"IF(referentes!W885=\"\",\"\",referentes!W885)","v":""},{"$f":"referentes!S885","v":0},null,883,0,1290,"X"]
[null,null,null,null,null,null,null,null,null,null,null,null,null,null,null,null,null,null,null,null,null,null,null,null,null,null,null,null,{"$f":"IF(referentes!W886=\"\",\"\",referentes!W886)","v":""},{"$f":"referentes!S886","v":0},null,884,0,1290,"X"]
[null,null,null,null,null,null,null,null,null,null,null,null,null,null,null,null,null,null,null,null,null,null,null,null,null,null,null,null,{"$f":"IF(referentes!W887=\"\",\"\",referentes!W887)","v":""},{"$f":"referentes!S887","v":0},null,885,0,1290,"X"]
[null,null,null,null,null,null,null,null,null,null,null,null,null,null,null,null,null,null,null,null,null,null,null,null,null,null,null,null,{"$f":"IF(referentes!W888=\"\",\"\",referentes!W888)","v":""},{"$f":"referentes!S888","v":0},null,886,0,1290,"X"]
[null,null,null,null,null,null,null,null,null,null,null,null,null,null,null,null,null,null,null,null,null,null,null,null,null,null,null,null,{"$f":"IF(referentes!W889=\"\",\"\",referentes!W889)","v":""},{"$f":"referentes!S889","v":0},null,887,0,1290,"X"]
[null,null,null,null,null,null,null,null,null,null,null,null,null,null,null,null,null,null,null,null,null,null,null,null,null,null,null,null,{"$f":"IF(referentes!W890=\"\",\"\",referentes!W890)","v":""},{"$f":"referentes!S890","v":0},null,888,0,1290,"X"]
[null,null,null,null,null,null,null,null,null,null,null,null,null,null,null,null,null,null,null,null,null,null,null,null,null,null,null,null,{"$f":"IF(referentes!W891=\"\",\"\",referentes!W891)","v":""},{"$f":"referentes!S891","v":0},null,889,0,1290,"X"]
[null,null,null,null,null,null,null,null,null,null,null,null,null,null,null,null,null,null,null,null,null,null,null,null,null,null,null,null,{"$f":"IF(referentes!W892=\"\",\"\",referentes!W892)","v":""},{"$f":"referentes!S892","v":0},null,890,0,1290,"X"]
[null,null,null,null,null,null,null,null,null,null,null,null,null,null,null,null,null,null,null,null,null,null,null,null,null,null,null,null,{"$f":"IF(referentes!W893=\"\",\"\",referentes!W893)","v":""},{"$f":"referentes!S893","v":0},null,891,0,1290,"X"]
[null,null,null,null,null,null,null,null,null,null,null,null,null,null,null,null,null,null,null,null,null,null,null,null,null,null,null,null,{"$f":"IF(referentes!W894=\"\",\"\",referentes!W894)","v":""},{"$f":"referentes!S894","v":0},null,892,0,1290,"X"]
[null,null,null,null,null,null,null,null,null,null,null,null,null,null,null,null,null,null,null,null,null,null,null,null,null,null,null,null,{"$f":"IF(referentes!W895=\"\",\"\",referentes!W895)","v":""},{"$f":"referentes!S895","v":0},null,893,0,1290,"X"]
[null,null,null,null,null,null,null,null,null,null,null,null,null,null,null,null,null,null,null,null,null,null,null,null,null,null,null,null,{"$f":"IF(referentes!W896=\"\",\"\",referentes!W896)","v":""},{"$f":"referentes!S896","v":0},null,894,0,1290,"X"]
[null,null,null,null,null,null,null,null,null,null,null,null,null,null,null,null,null,null,null,null,null,null,null,null,null,null,null,null,{"$f":"IF(referentes!W897=\"\",\"\",referentes!W897)","v":""},{"$f":"referentes!S897","v":0},null,895,0,1290,"X"]
[null,null,null,null,null,null,null,null,null,null,null,null,null,null,null,null,null,null,null,null,null,null,null,null,null,null,null,null,{"$f":"IF(referentes!W898=\"\",\"\",referentes!W898)","v":""},{"$f":"referentes!S898","v":0},null,896,0,1290,"X"]
[null,null,null,null,null,null,null,null,null,null,null,null,null,null,null,null,null,null,null,null,null,null,null,null,null,null,null,null,{"$f":"IF(referentes!W899=\"\",\"\",referentes!W899)","v":""},{"$f":"referentes!S899","v":0},null,897,0,1290,"X"]
[null,null,null,null,null,null,null,null,null,null,null,null,null,null,null,null,null,null,null,null,null,null,null,null,null,null,null,null,{"$f":"IF(referentes!W900=\"\",\"\",referentes!W900)","v":""},{"$f":"referentes!S900","v":0},null,898,{"$f":"IF(AC902=\"\",0,AC902)","v":0},{"$f":"IF(AG903=0,MAX($AF$6:$AF$1294)+1,AF903)","v":1290},{"$f":"IFERROR(VLOOKUP(SMALL($AH$6:$AH$1294,AF903),$AF$6:$AH$1294,2,FALSE),\"X\")","v":"X"}]
[null,null,null,null,null,null,null,null,null,null,null,null,null,null,null,null,null,null,null,null,null,null,null,null,null,null,null,null,{"$f":"IF(referentes!W901=\"\",\"\",referentes!W901)","v":""},{"$f":"referentes!S901","v":0},null,899,0,1290,"X"]
[null,null,null,null,null,null,null,null,null,null,null,null,null,null,null,null,null,null,null,null,null,null,null,null,null,null,null,null,{"$f":"IF(referentes!W902=\"\",\"\",referentes!W902)","v":""},{"$f":"referentes!S902","v":0},null,900,0,1290,"X"]
[null,null,null,null,null,null,null,null,null,null,null,null,null,null,null,null,null,null,null,null,null,null,null,null,null,null,null,null,{"$f":"IF(referentes!W903=\"\",\"\",referentes!W903)","v":""},{"$f":"referentes!S903","v":0},null,901,0,1290,"X"]
[null,null,null,null,null,null,null,null,null,null,null,null,null,null,null,null,null,null,null,null,null,null,null,null,null,null,null,null,{"$f":"IF(referentes!W904=\"\",\"\",referentes!W904)","v":""},{"$f":"referentes!S904","v":0},null,902,0,1290,"X"]
[null,null,null,null,null,null,null,null,null,null,null,null,null,null,null,null,null,null,null,null,null,null,null,null,null,null,null,null,{"$f":"IF(referentes!W905=\"\",\"\",referentes!W905)","v":""},{"$f":"referentes!S905","v":0},null,903,0,1290,"X"]
[null,null,null,null,null,null,null,null,null,null,null,null,null,null,null,null,null,null,null,null,null,null,null,null,null,null,null,null,{"$f":"IF(referentes!W906=\"\",\"\",referentes!W906)","v":""},{"$f":"referentes!S906","v":0},null,904,0,1290,"X"]
[null,null,null,null,null,null,null,null,null,null,null,null,null,null,null,null,null,null,null,null,null,null,null,null,null,null,null,null,{"$f":"IF(referentes!W907=\"\",\"\",referentes!W907)","v":""},{"$f":"referentes!S907","v":0},null,905,0,1290,"X"]
[null,null,null,null,null,null,null,null,null,null,null,null,null,null,null,null,null,null,null,null,null,null,null,null,null,null,null,null,{"$f":"IF(referentes!W908=\"\",\"\",referentes!W908)","v":""},{"$f":"referentes!S908","v":0},null,906,0,1290,"X"]
[null,null,null,null,null,null,null,null,null,null,null,null,null,null,null,null,null,null,null,null,null,null,null,null,null,null,null,null,{"$f":"IF(referentes!W909=\"\",\"\",referentes!W909)","v":""},{"$f":"referentes!S909","v":0},null,907,0,1290,"X"]
[null,null,null,null,null,null,null,null,null,null,null,null,null,null,null,null,null,null,null,null,null,null,null,null,null,null,null,null,{"$f":"IF(referentes!W910=\"\",\"\",referentes!W910)","v":""},{"$f":"referentes!S910","v":0},null,908,0,1290,"X"]
[null,null,null,null,null,null,null,null,null,null,null,null,null,null,null,null,null,null,null,null,null,null,null,null,null,null,null,null,{"$f":"IF(referentes!W911=\"\",\"\",referentes!W911)","v":""},{"$f":"referentes!S911","v":0},null,909,0,1290,"X"]
[null,null,null,null,null,null,null,null,null,null,null,null,null,null,null,null,null,null,null,null,null,null,null,null,null,null,null,null,{"$f":"IF(referentes!W912=\"\",\"\",referentes!W912)","v":""},{"$f":"referentes!S912","v":0},null,910,0,1290,"X"]
[null,null,null,null,null,null,null,null,null,null,null,null,null,null,null,null,null,null,null,null,null,null,null,null,null,null,null,null,{"$f":"IF(referentes!W913=\"\",\"\",referentes!W913)","v":""},{"$f":"referentes!S913","v":0},null,911,0,1290,"X"]
[null,null,null,null,null,null,null,null,null,null,null,null,null,null,null,null,null,null,null,null,null,null,null,null,null,null,null,null,{"$f":"IF(referentes!W914=\"\",\"\",referentes!W914)","v":""},{"$f":"referentes!S914","v":0},null,912,0,1290,"X"]
[null,null,null,null,null,null,null,null,null,null,null,null,null,null,null,null,null,null,null,null,null,null,null,null,null,null,null,null,{"$f":"IF(referentes!W915=\"\",\"\",referentes!W915)","v":""},{"$f":"referentes!S915","v":0},null,913,0,1290,"X"]
[null,null,null,null,null,null,null,null,null,null,null,null,null,null,null,null,null,null,null,null,null,null,null,null,null,null,null,null,{"$f":"IF(referentes!W916=\"\",\"\",referentes!W916)","v":""},{"$f":"referentes!S916","v":0},null,914,0,1290,"X"]
[null,null,null,null,null,null,null,null,null,null,null,null,null,null,null,null,null,null,null,null,null,null,null,null,null,null,null,null,{"$f":"IF(referentes!W917=\"\",\"\",referentes!W917)","v":""},{"$f":"referentes!S917","v":0},null,915,0,1290,"X"]
[null,null,null,null,null,null,null,null,null,null,null,null,null,null,null,null,null,null,null,null,null,null,null,null,null,null,null,null,{"$f":"IF(referentes!W918=\"\",\"\",referentes!W918)","v":""},{"$f":"referentes!S918","v":0},null,916,0,1290,"X"]
[null,null,null,null,null,null,null,null,null,null,null,null,null,null,null,null,null,null,null,null,null,null,null,null,null,null,null,null,{"$f":"IF(referentes!W919=\"\",\"\",referentes!W919)","v":""},{"$f":"referentes!S919","v":0},null,917,0,1290,"X"]
[null,null,null,null,null,null,null,null,null,null,null,null,null,null,null,null,null,null,null,null,null,null,null,null,null,null,null,null,{"$f":"IF(referentes!W920=\"\",\"\",referentes!W920)","v":""},{"$f":"referentes!S920","v":0},null,918,0,1290,"X"]
[null,null,null,null,null,null,null,null,null,null,null,null,null,null,null,null,null,null,null,null,null,null,null,null,null,null,null,null,{"$f":"IF(referentes!W921=\"\",\"\",referentes!W921)","v":""},{"$f":"referentes!S921","v":0},null,919,0,1290,"X"]
[null,null,null,null,null,null,null,null,null,null,null,null,null,null,null,null,null,null,null,null,null,null,null,null,null,null,null,null,{"$f":"IF(referentes!W922=\"\",\"\",referentes!W922)","v":""},{"$f":"referentes!S922","v":0},null,920,0,1290,"X"]
[null,null,null,null,null,null,null,null,null,null,null,null,null,null,null,null,null,null,null,null,null,null,null,null,null,null,null,null,{"$f":"IF(referentes!W923=\"\",\"\",referentes!W923)","v":""},{"$f":"referentes!S923","v":0},null,921,0,1290,"X"]
[null,null,null,null,null,null,null,null,null,null,null,null,null,null,null,null,null,null,null,null,null,null,null,null,null,null,null,null,{"$f":"IF(referentes!W924=\"\",\"\",referentes!W924)","v":""},{"$f":"referentes!S924","v":0},null,922,0,1290,"X"]
[null,null,null,null,null,null,null,null,null,null,null,null,null,null,null,null,null,null,null,null,null,null,null,null,null,null,null,null,{"$f":"IF(referentes!W925=\"\",\"\",referentes!W925)","v":""},{"$f":"referentes!S925","v":0},null,923,0,1290,"X"]
[null,null,null,null,null,null,null,null,null,null,null,null,null,null,null,null,null,null,null,null,null,null,null,null,null,null,null,null,{"$f":"IF(referentes!W926=\"\",\"\",referentes!W926)","v":""},{"$f":"referentes!S926","v":0},null,924,0,1290,"X"]
[null,null,null,null,null,null,null,null,null,null,null,null,null,null,null,null,null,null,null,null,null,null,null,null,null,null,null,null,{"$f":"IF(referentes!W927=\"\",\"\",referentes!W927)","v":""},{"$f":"referentes!S927","v":0},null,925,0,1290,"X"]
[null,null,null,null,null,null,null,null,null,null,null,null,null,null,null,null,null,null,null,null,null,null,null,null,null,null,null,null,{"$f":"IF(referentes!W928=\"\",\"\",referentes!W928)","v":""},{"$f":"referentes!S928","v":0},null,926,0,1290,"X"]
[null,null,null,null,null,null,null,null,null,null,null,null,null,null,null,null,null,null,null,null,null,null,null,null,null,null,null,null,{"$f":"IF(referentes!W929=\"\",\"\",referentes!W929)","v":""},{"$f":"referentes!S929","v":0},null,927,0,1290,"X"]
[null,null,null,null,null,null,null,null,null,null,null,null,null,null,null,null,null,null,null,null,null,null,null,null,null,null,null,null,{"$f":"IF(referentes!W930=\"\",\"\",referentes!W930)","v":""},{"$f":"referentes!S930","v":0},null,928,0,1290,"X"]
[null,null,null,null,null,null,null,null,null,null,null,null,null,null,null,null,null,null,null,null,null,null,null,null,null,null,null,null,{"$f":"IF(referentes!W931=\"\",\"\",referentes!W931)","v":""},{"$f":"referentes!S931","v":0},null,929,0,1290,"X"]
[null,null,null,null,null,null,null,null,null,null,null,null,null,null,null,null,null,null,null,null,null,null,null,null,null,null,null,null,{"$f":"IF(referentes!W932=\"\",\"\",referentes!W932)","v":""},{"$f":"referentes!S932","v":0},null,930,0,1290,"X"]
[null,null,null,null,null,null,null,null,null,null,null,null,null,null,null,null,null,null,null,null,null,null,null,null,null,null,null,null,{"$f":"IF(referentes!W933=\"\",\"\",referentes!W933)","v":""},{"$f":"referentes!S933","v":0},null,931,0,1290,"X"]
[null,null,null,null,null,null,null,null,null,null,null,null,null,null,null,null,null,null,null,null,null,null,null,null,null,null,null,null,{"$f":"IF(referentes!W934=\"\",\"\",referentes!W934)","v":""},{"$f":"referentes!S934","v":0},null,932,0,1290,"X"]
[null,null,null,null,null,null,null,null,null,null,null,null,null,null,null,null,null,null,null,null,null,null,null,null,null,null,null,null,{"$f":"IF(referentes!W935=\"\",\"\",referentes!W935)","v":""},{"$f":"referentes!S935","v":0},null,933,0,1290,"X"]
[null,null,null,null,null,null,null,null,null,null,null,null,null,null,null,null,null,null,null,null,null,null,null,null,null,null,null,null,{"$f":"IF(referentes!W936=\"\",\"\",referentes!W936)","v":""},{"$f":"referentes!S936","v":0},null,934,0,1290,"X"]
[null,null,null,null,null,null,null,null,null,null,null,null,null,null,null,null,null,null,null,null,null,null,null,null,null,null,null,null,{"$f":"IF(referentes!W937=\"\",\"\",referentes!W937)","v":""},{"$f":"referentes!S937","v":0},null,935,0,1290,"X"]
[null,null,null,null,null,null,null,null,null,null,null,null,null,null,null,null,null,null,null,null,null,null,null,null,null,null,null,null,{"$f":"IF(referentes!W938=\"\",\"\",referentes!W938)","v":""},{"$f":"referentes!S938","v":0},null,936,0,1290,"X"]
[null,null,null,null,null,null,null,null,null,null,null,null,null,null,null,null,null,null,null,null,null,null,null,null,null,null,null,null,{"$f":"IF(referentes!W939=\"\",\"\",referentes!W939)","v":""},{"$f":"referentes!S939","v":0},null,937,0,1290,"X"]
[null,null,null,null,null,null,null,null,null,null,null,null,null,null,null,null,null,null,null,null,null,null,null,null,null,null,null,null,{"$f":"IF(referentes!W940=\"\",\"\",referentes!W940)","v":""},{"$f":"referentes!S940","v":0},null,938,0,1290,"X"]
[null,null,null,null,null,null,null,null,null,null,null,null,null,null,null,null,null,null,null,null,null,null,null,null,null,null,null,null,{"$f":"IF(referentes!W941=\"\",\"\",referentes!W941)","v":""},{"$f":"referentes!S941","v":0},null,939,0,1290,"X"]
[null,null,null,null,null,null,null,null,null,null,null,null,null,null,null,null,null,null,null,null,null,null,null,null,null,null,null,null,{"$f":"IF(referentes!W942=\"\",\"\",referentes!W942)","v":""},{"$f":"referentes!S942","v":0},null,940,0,1290,"X"]
[null,null,null,null,null,null,null,null,null,null,null,null,null,null,null,null,null,null,null,null,null,null,null,null,null,null,null,null,{"$f":"IF(referentes!W943=\"\",\"\",referentes!W943)","v":""},{"$f":"referentes!S943","v":0},null,941,0,1290,"X"]
[null,null,null,null,null,null,null,null,null,null,null,null,null,null,null,null,null,null,null,null,null,null,null,null,null,null,null,null,{"$f":"IF(referentes!W944=\"\",\"\",referentes!W944)","v":""},{"$f":"referentes!S944","v":0},null,942,0,1290,"X"]
[null,null,null,null,null,null,null,null,null,null,null,null,null,null,null,null,null,null,null,null,null,null,null,null,null,null,null,null,{"$f":"IF(referentes!W945=\"\",\"\",referentes!W945)","v":""},{"$f":"referentes!S945","v":0},null,943,0,1290,"X"]
[null,null,null,null,null,null,null,null,null,null,null,null,null,null,null,null,null,null,null,null,null,null,null,null,null,null,null,null,{"$f":"IF(referentes!W946=\"\",\"\",referentes!W946)","v":""},{"$f":"referentes!S946","v":0},null,944,0,1290,"X"]
[null,null,null,null,null,null,null,null,null,null,null,null,null,null,null,null,null,null,null,null,null,null,null,null,null,null,null,null,{"$f":"IF(referentes!W947=\"\",\"\",referentes!W947)","v":""},{"$f":"referentes!S947","v":0},null,945,0,1290,"X"]
[null,null,null,null,null,null,null,null,null,null,null,null,null,null,null,null,null,null,null,null,null,null,null,null,null,null,null,null,{"$f":"IF(referentes!W948=\"\",\"\",referentes!W948)","v":""},{"$f":"referentes!S948","v":0},null,946,0,1290,"X"]
[null,null,null,null,null,null,null,null,null,null,null,null,null,null,null,null,null,null,null,null,null,null,null,null,null,null,null,null,{"$f":"IF(referentes!W949=\"\",\"\",referentes!W949)","v":""},{"$f":"referentes!S949","v":0},null,947,0,1290,"X"]
[null,null,null,null,null,null,null,null,null,null,null,null,null,null,null,null,null,null,null,null,null,null,null,null,null,null,null,null,{"$f":"IF(referentes!W950=\"\",\"\",referentes!W950)","v":""},{"$f":"referentes!S950","v":0},null,948,0,1290,"X"]
[null,null,null,null,null,null,null,null,null,null,null,null,null,null,null,null,null,null,null,null,null,null,null,null,null,null,null,null,{"$f":"IF(referentes!W951=\"\",\"\",referentes!W951)","v":""},{"$f":"referentes!S951","v":0},null,949,0,1290,"X"]
[null,null,null,null,null,null,null,null,null,null,null,null,null,null,null,null,null,null,null,null,null,null,null,null,null,null,null,null,{"$f":"IF(referentes!W952=\"\",\"\",referentes!W952)","v":""},{"$f":"referentes!S952","v":0},null,950,0,1290,"X"]
[null,null,null,null,null,null,null,null,null,null,null,null,null,null,null,null,null,null,null,null,null,null,null,null,null,null,null,null,{"$f":"IF(referentes!W953=\"\",\"\",referentes!W953)","v":""},{"$f":"referentes!S953","v":0},null,951,0,1290,"X"]
[null,null,null,null,null,null,null,null,null,null,null,null,null,null,null,null,null,null,null,null,null,null,null,null,null,null,null,null,{"$f":"IF(referentes!W954=\"\",\"\",referentes!W954)","v":""},{"$f":"referentes!S954","v":0},null,952,0,1290,"X"]
[null,null,null,null,null,null,null,null,null,null,null,null,null,null,null,null,null,null,null,null,null,null,null,null,null,null,null,null,{"$f":"IF(referentes!W955=\"\",\"\",referentes!W955)","v":""},{"$f":"referentes!S955","v":0},null,953,0,1290,"X"]
[null,null,null,null,null,null,null,null,null,null,null,null,null,null,null,null,null,null,null,null,null,null,null,null,null,null,null,null,{"$f":"IF(referentes!W956=\"\",\"\",referentes!W956)","v":""},{"$f":"referentes!S956","v":0},null,954,0,1290,"X"]
[null,null,null,null,null,null,null,null,null,null,null,null,null,null,null,null,null,null,null,null,null,null,null,null,null,null,null,null,{"$f":"IF(referentes!W957=\"\",\"\",referentes!W957)","v":""},{"$f":"referentes!S957","v":0},null,955,0,1290,"X"]
[null,null,null,null,null,null,null,null,null,null,null,null,null,null,null,null,null,null,null,null,null,null,null,null,null,null,null,null,{"$f":"IF(referentes!W958=\"\",\"\",referentes!W958)","v":""},{"$f":"referentes!S958","v":0},null,956,0,1290,"X"]
[null,null,null,null,null,null,null,null,null,null,null,null,null,null,null,null,null,null,null,null,null,null,null,null,null,null,null,null,{"$f":"IF(referentes!W959=\"\",\"\",referentes!W959)","v":""},{"$f":"referentes!S959","v":0},null,957,0,1290,"X"]
[null,null,null,null,null,null,null,null,null,null,null,null,null,null,null,null,null,null,null,null,null,null,null,null,null,null,null,null,{"$f":"IF(referentes!W960=\"\",\"\",referentes!W960)","v":""},{"$f":"referentes!S960","v":0},null,958,0,1290,"X"]
[null,null,null,null,null,null,null,null,null,null,null,null,null,null,null,null,null,null,null,null,null,null,null,null,null,null,null,null,{"$f":"IF(referentes!W961=\"\",\"\",referentes!W961)","v":""},{"$f":"referentes!S961","v":0},null,959,0,1290,"X"]
[null,null,null,null,null,null,null,null,null,null,null,null,null,null,null,null,null,null,null,null,null,null,null,null,null,null,null,null,{"$f":"IF(referentes!W962=\"\",\"\",referentes!W962)","v":""},{"$f":"referentes!S962","v":0},null,960,0,1290,"X"]
[null,null,null,null,null,null,null,null,null,null,null,null,null,null,null,null,null,null,null,null,null,null,null,null,null,null,null,null,{"$f":"IF(referentes!W963=\"\",\"\",referentes!W963)","v":""},{"$f":"referentes!S963","v":0},null,961,0,1290,"X"]
[null,null,null,null,null,null,null,null,null,null,null,null,null,null,null,null,null,null,null,null,null,null,null,null,null,null,null,null,{"$f":"IF(referentes!W964=\"\",\"\",referentes!W964)","v":""},{"$f":"referentes!S964","v":0},null,962,{"$f":"IF(AC966=\"\",0,AC966)","v":0},{"$f":"IF(AG967=0,MAX($AF$6:$AF$1294)+1,AF967)","v":1290},{"$f":"IFERROR(VLOOKUP(SMALL($AH$6:$AH$1294,AF967),$AF$6:$AH$1294,2,FALSE),\"X\")","v":"X"}]
[null,null,null,null,null,null,null,null,null,null,null,null,null,null,null,null,null,null,null,null,null,null,null,null,null,null,null,null,{"$f":"IF(referentes!W965=\"\",\"\",referentes!W965)","v":""},{"$f":"referentes!S965","v":0},null,963,0,1290,"X"]
[null,null,null,null,null,null,null,null,null,null,null,null,null,null,null,null,null,null,null,null,null,null,null,null,null,null,null,null,{"$f":"IF(referentes!W966=\"\",\"\",referentes!W966)","v":""},{"$f":"referentes!S966","v":0},null,964,0,1290,"X"]
[null,null,null,null,null,null,null,null,null,null,null,null,null,null,null,null,null,null,null,null,null,null,null,null,null,null,null,null,{"$f":"IF(referentes!W967=\"\",\"\",referentes!W967)","v":""},{"$f":"referentes!S967","v":0},null,965,0,1290,"X"]
[null,null,null,null,null,null,null,null,null,null,null,null,null,null,null,null,null,null,null,null,null,null,null,null,null,null,null,null,{"$f":"IF(referentes!W968=\"\",\"\",referentes!W968)","v":""},{"$f":"referentes!S968","v":0},null,966,0,1290,"X"]
[null,null,null,null,null,null,null,null,null,null,null,null,null,null,null,null,null,null,null,null,null,null,null,null,null,null,null,null,{"$f":"IF(referentes!W969=\"\",\"\",referentes!W969)","v":""},{"$f":"referentes!S969","v":0},null,967,0,1290,"X"]
[null,null,null,null,null,null,null,null,null,null,null,null,null,null,null,null,null,null,null,null,null,null,null,null,null,null,null,null,{"$f":"IF(referentes!W970=\"\",\"\",referentes!W970)","v":""},{"$f":"referentes!S970","v":0},null,968,0,1290,"X"]
[null,null,null,null,null,null,null,null,null,null,null,null,null,null,null,null,null,null,null,null,null,null,null,null,null,null,null,null,{"$f":"IF(referentes!W971=\"\",\"\",referentes!W971)","v":""},{"$f":"referentes!S971","v":0},null,969,0,1290,"X"]
[null,null,null,null,null,null,null,null,null,null,null,null,null,null,null,null,null,null,null,null,null,null,null,null,null,null,null,null,{"$f":"IF(referentes!W972=\"\",\"\",referentes!W972)","v":""},{"$f":"referentes!S972","v":0},null,970,0,1290,"X"]
[null,null,null,null,null,null,null,null,null,null,null,null,null,null,null,null,null,null,null,null,null,null,null,null,null,null,null,null,{"$f":"IF(referentes!W973=\"\",\"\",referentes!W973)","v":""},{"$f":"referentes!S973","v":0},null,971,0,1290,"X"]
[null,null,null,null,null,null,null,null,null,null,null,null,null,null,null,null,null,null,null,null,null,null,null,null,null,null,null,null,{"$f":"IF(referentes!W974=\"\",\"\",referentes!W974)","v":""},{"$f":"referentes!S974","v":0},null,972,0,1290,"X"]
[null,null,null,null,null,null,null,null,null,null,null,null,null,null,null,null,null,null,null,null,null,null,null,null,null,null,null,null,{"$f":"IF(referentes!W975=\"\",\"\",referentes!W975)","v":""},{"$f":"referentes!S975","v":0},null,973,0,1290,"X"]
[null,null,null,null,null,null,null,null,null,null,null,null,null,null,null,null,null,null,null,null,null,null,null,null,null,null,null,null,{"$f":"IF(referentes!W976=\"\",\"\",referentes!W976)","v":""},{"$f":"referentes!S976","v":0},null,974,0,1290,"X"]
[null,null,null,null,null,null,null,null,null,null,null,null,null,null,null,null,null,null,null,null,null,null,null,null,null,null,null,null,{"$f":"IF(referentes!W977=\"\",\"\",referentes!W977)","v":""},{"$f":"referentes!S977","v":0},null,975,0,1290,"X"]
[null,null,null,null,null,null,null,null,null,null,null,null,null,null,null,null,null,null,null,null,null,null,null,null,null,null,null,null,{"$f":"IF(referentes!W978=\"\",\"\",referentes!W978)","v":""},{"$f":"referentes!S978","v":0},null,976,0,1290,"X"]
[null,null,null,null,null,null,null,null,null,null,null,null,null,null,null,null,null,null,null,null,null,null,null,null,null,null,null,null,{"$f":"IF(referentes!W979=\"\",\"\",referentes!W979)","v":""},{"$f":"referentes!S979","v":0},null,977,0,1290,"X"]
[null,null,null,null,null,null,null,null,null,null,null,null,null,null,null,null,null,null,null,null,null,null,null,null,null,null,null,null,{"$f":"IF(referentes!W980=\"\",\"\",referentes!W980)","v":""},{"$f":"referentes!S980","v":0},null,978,0,1290,"X"]
[null,null,null,null,null,null,null,null,null,null,null,null,null,null,null,null,null,null,null,null,null,null,null,null,null,null,null,null,{"$f":"IF(referentes!W981=\"\",\"\",referentes!W981)","v":""},{"$f":"referentes!S981","v":0},null,979,0,1290,"X"]
[null,null,null,null,null,null,null,null,null,null,null,null,null,null,null,null,null,null,null,null,null,null,null,null,null,null,null,null,{"$f":"IF(referentes!W982=\"\",\"\",referentes!W982)","v":""},{"$f":"referentes!S982","v":0},null,980,0,1290,"X"]
[null,null,null,null,null,null,null,null,null,null,null,null,null,null,null,null,null,null,null,null,null,null,null,null,null,null,null,null,{"$f":"IF(referentes!W983=\"\",\"\",referentes!W983)","v":""},{"$f":"referentes!S983","v":0},null,981,0,1290,"X"]
[null,null,null,null,null,null,null,null,null,null,null,null,null,null,null,null,null,null,null,null,null,null,null,null,null,null,null,null,{"$f":"IF(referentes!W984=\"\",\"\",referentes!W984)","v":""},{"$f":"referentes!S984","v":0},null,982,0,1290,"X"]
[null,null,null,null,null,null,null,null,null,null,null,null,null,null,null,null,null,null,null,null,null,null,null,null,null,null,null,null,{"$f":"IF(referentes!W985=\"\",\"\",referentes!W985)","v":""},{"$f":"referentes!S985","v":0},null,983,0,1290,"X"]
[null,null,null,null,null,null,null,null,null,null,null,null,null,null,null,null,null,null,null,null,null,null,null,null,null,null,null,null,{"$f":"IF(referentes!W986=\"\",\"\",referentes!W986)","v":""},{"$f":"referentes!S986","v":0},null,984,0,1290,"X"]
[null,null,null,null,null,null,null,null,null,null,null,null,null,null,null,null,null,null,null,null,null,null,null,null,null,null,null,null,{"$f":"IF(referentes!W987=\"\",\"\",referentes!W987)","v":""},{"$f":"referentes!S987","v":0},null,985,0,1290,"X"]
[null,null,null,null,null,null,null,null,null,null,null,null,null,null,null,null,null,null,null,null,null,null,null,null,null,null,null,null,{"$f":"IF(referentes!W988=\"\",\"\",referentes!W988)","v":""},{"$f":"referentes!S988","v":0},null,986,0,1290,"X"]
[null,null,null,null,null,null,null,null,null,null,null,null,null,null,null,null,null,null,null,null,null,null,null,null,null,null,null,null,{"$f":"IF(referentes!W989=\"\",\"\",referentes!W989)","v":""},{"$f":"referentes!S989","v":0},null,987,0,1290,"X"]
[null,null,null,null,null,null,null,null,null,null,null,null,null,null,null,null,null,null,null,null,null,null,null,null,null,null,null,null,{"$f":"IF(referentes!W990=\"\",\"\",referentes!W990)","v":""},{"$f":"referentes!S990","v":0},null,988,0,1290,"X"]
[null,null,null,null,null,null,null,null,null,null,null,null,null,null,null,null,null,null,null,null,null,null,null,null,null,null,null,null,{"$f":"IF(referentes!W991=\"\",\"\",referentes!W991)","v":""},{"$f":"referentes!S991","v":0},null,989,0,1290,"X"]
[null,null,null,null,null,null,null,null,null,null,null,null,null,null,null,null,null,null,null,null,null,null,null,null,null,null,null,null,{"$f":"IF(referentes!W992=\"\",\"\",referentes!W992)","v":""},{"$f":"referentes!S992","v":0},null,990,0,1290,"X"]
[null,null,null,null,null,null,null,null,null,null,null,null,null,null,null,null,null,null,null,null,null,null,null,null,null,null,null,null,{"$f":"IF(referentes!W993=\"\",\"\",referentes!W993)","v":""},{"$f":"referentes!S993","v":0},null,991,0,1290,"X"]
[null,null,null,null,null,null,null,null,null,null,null,null,null,null,null,null,null,null,null,null,null,null,null,null,null,null,null,null,{"$f":"IF(referentes!W994=\"\",\"\",referentes!W994)","v":""},{"$f":"referentes!S994","v":0},null,992,0,1290,"X"]
[null,null,null,null,null,null,null,null,null,null,null,null,null,null,null,null,null,null,null,null,null,null,null,null,null,null,null,null,{"$f":"IF(referentes!W995=\"\",\"\",referentes!W995)","v":""},{"$f":"referentes!S995","v":0},null,993,0,1290,"X"]
[null,null,null,null,null,null,null,null,null,null,null,null,null,null,null,null,null,null,null,null,null,null,null,null,null,null,null,null,{"$f":"IF(referentes!W996=\"\",\"\",referentes!W996)","v":""},{"$f":"referentes!S996","v":0},null,994,0,1290,"X"]
[null,null,null,null,null,null,null,null,null,null,null,null,null,null,null,null,null,null,null,null,null,null,null,null,null,null,null,null,{"$f":"IF(referentes!W997=\"\",\"\",referentes!W997)","v":""},{"$f":"referentes!S997","v":0},null,995,0,1290,"X"]
[null,null,null,null,null,null,null,null,null,null,null,null,null,null,null,null,null,null,null,null,null,null,null,null,null,null,null,null,{"$f":"IF(referentes!W998=\"\",\"\",referentes!W998)","v":""},{"$f":"referentes!S998","v":0},null,996,0,1290,"X"]
[null,null,null,null,null,null,null,null,null,null,null,null,null,null,null,null,null,null,null,null,null,null,null,null,null,null,null,null,{"$f":"IF(referentes!W999=\"\",\"\",referentes!W999)","v":""},{"$f":"referentes!S999","v":0},null,997,0,1290,"X"]
[null,null,null,null,null,null,null,null,null,null,null,null,null,null,null,null,null,null,null,null,null,null,null,null,null,null,null,null,{"$f":"IF(referentes!W1000=\"\",\"\",referentes!W1000)","v":""},{"$f":"referentes!S1000","v":0},null,998,0,1290,"X"]
[null,null,null,null,null,null,null,null,null,null,null,null,null,null,null,null,null,null,null,null,null,null,null,null,null,null,null,null,{"$f":"IF(referentes!W1001=\"\",\"\",referentes!W1001)","v":""},{"$f":"referentes!S1001","v":0},null,999,0,1290,"X"]
[null,null,null,null,null,null,null,null,null,null,null,null,null,null,null,null,null,null,null,null,null,null,null,null,null,null,null,null,{"$f":"IF(referentes!W1002=\"\",\"\",referentes!W1002)","v":""},{"$f":"referentes!S1002","v":0},null,1000,0,1290,"X"]
[null,null,null,null,null,null,null,null,null,null,null,null,null,null,null,null,null,null,null,null,null,null,null,null,null,null,null,null,{"$f":"IF(referentes!W1003=\"\",\"\",referentes!W1003)","v":""},{"$f":"referentes!S1003","v":0},null,1001,0,1290,"X"]
[null,null,null,null,null,null,null,null,null,null,null,null,null,null,null,null,null,null,null,null,null,null,null,null,null,null,null,null,{"$f":"IF(referentes!W1004=\"\",\"\",referentes!W1004)","v":""},{"$f":"referentes!S1004","v":0},null,1002,0,1290,"X"]
[null,null,null,null,null,null,null,null,null,null,null,null,null,null,null,null,null,null,null,null,null,null,null,null,null,null,null,null,{"$f":"IF(referentes!W1005=\"\",\"\",referentes!W1005)","v":""},{"$f":"referentes!S1005","v":0},null,1003,0,1290,"X"]
[null,null,null,null,null,null,null,null,null,null,null,null,null,null,null,null,null,null,null,null,null,null,null,null,null,null,null,null,{"$f":"IF(referentes!W1006=\"\",\"\",referentes!W1006)","v":""},{"$f":"referentes!S1006","v":0},null,1004,0,1290,"X"]
[null,null,null,null,null,null,null,null,null,null,null,null,null,null,null,null,null,null,null,null,null,null,null,null,null,null,null,null,{"$f":"IF(referentes!W1007=\"\",\"\",referentes!W1007)","v":""},{"$f":"referentes!S1007","v":0},null,1005,0,1290,"X"]
[null,null,null,null,null,null,null,null,null,null,null,null,null,null,null,null,null,null,null,null,null,null,null,null,null,null,null,null,{"$f":"IF(referentes!W1008=\"\",\"\",referentes!W1008)","v":""},{"$f":"referentes!S1008","v":0},null,1006,0,1290,"X"]
[null,null,null,null,null,null,null,null,null,null,null,null,null,null,null,null,null,null,null,null,null,null,null,null,null,null,null,null,{"$f":"IF(referentes!W1009=\"\",\"\",referentes!W1009)","v":""},{"$f":"referentes!S1009","v":0},null,1007,0,1290,"X"]
[null,null,null,null,null,null,null,null,null,null,null,null,null,null,null,null,null,null,null,null,null,null,null,null,null,null,null,null,{"$f":"IF(referentes!W1010=\"\",\"\",referentes!W1010)","v":""},{"$f":"referentes!S1010","v":0},null,1008,0,1290,"X"]
[null,null,null,null,null,null,null,null,null,null,null,null,null,null,null,null,null,null,null,null,null,null,null,null,null,null,null,null,{"$f":"IF(referentes!W1011=\"\",\"\",referentes!W1011)","v":""},{"$f":"referentes!S1011","v":0},null,1009,0,1290,"X"]
[null,null,null,null,null,null,null,null,null,null,null,null,null,null,null,null,null,null,null,null,null,null,null,null,null,null,null,null,{"$f":"IF(referentes!W1012=\"\",\"\",referentes!W1012)","v":""},{"$f":"referentes!S1012","v":0},null,1010,0,1290,"X"]
[null,null,null,null,null,null,null,null,null,null,null,null,null,null,null,null,null,null,null,null,null,null,null,null,null,null,null,null,{"$f":"IF(referentes!W1013=\"\",\"\",referentes!W1013)","v":""},{"$f":"referentes!S1013","v":0},null,1011,0,1290,"X"]
[null,null,null,null,null,null,null,null,null,null,null,null,null,null,null,null,null,null,null,null,null,null,null,null,null,null,null,null,{"$f":"IF(referentes!W1014=\"\",\"\",referentes!W1014)","v":""},{"$f":"referentes!S1014","v":0},null,1012,0,1290,"X"]
[null,null,null,null,null,null,null,null,null,null,null,null,null,null,null,null,null,null,null,null,null,null,null,null,null,null,null,null,{"$f":"IF(referentes!W1015=\"\",\"\",referentes!W1015)","v":""},{"$f":"referentes!S1015","v":0},null,1013,0,1290,"X"]
[null,null,null,null,null,null,null,null,null,null,null,null,null,null,null,null,null,null,null,null,null,null,null,null,null,null,null,null,{"$f":"IF(referentes!W1016=\"\",\"\",referentes!W1016)","v":""},{"$f":"referentes!S1016","v":0},null,1014,0,1290,"X"]
[null,null,null,null,null,null,null,null,null,null,null,null,null,null,null,null,null,null,null,null,null,null,null,null,null,null,null,null,{"$f":"IF(referentes!W1017=\"\",\"\",referentes!W1017)","v":""},{"$f":"referentes!S1017","v":0},null,1015,0,1290,"X"]
[null,null,null,null,null,null,null,null,null,null,null,null,null,null,null,null,null,null,null,null,null,null,null,null,null,null,null,null,{"$f":"IF(referentes!W1018=\"\",\"\",referentes!W1018)","v":""},{"$f":"referentes!S1018","v":0},null,1016,0,1290,"X"]
[null,null,null,null,null,null,null,null,null,null,null,null,null,null,null,null,null,null,null,null,null,null,null,null,null,null,null,null,{"$f":"IF(referentes!W1019=\"\",\"\",referentes!W1019)","v":""},{"$f":"referentes!S1019","v":0},null,1017,0,1290,"X"]
[null,null,null,null,null,null,null,null,null,null,null,null,null,null,null,null,null,null,null,null,null,null,null,null,null,null,null,null,{"$f":"IF(referentes!W1020=\"\",\"\",referentes!W1020)","v":""},{"$f":"referentes!S1020","v":0},null,1018,0,1290,"X"]
[null,null,null,null,null,null,null,null,null,null,null,null,null,null,null,null,null,null,null,null,null,null,null,null,null,null,null,null,{"$f":"IF(referentes!W1021=\"\",\"\",referentes!W1021)","v":""},{"$f":"referentes!S1021","v":0},null,1019,0,1290,"X"]
[null,null,null,null,null,null,null,null,null,null,null,null,null,null,null,null,null,null,null,null,null,null,null,null,null,null,null,null,{"$f":"IF(referentes!W1022=\"\",\"\",referentes!W1022)","v":""},{"$f":"referentes!S1022","v":0},null,1020,0,1290,"X"]
[null,null,null,null,null,null,null,null,null,null,null,null,null,null,null,null,null,null,null,null,null,null,null,null,null,null,null,null,{"$f":"IF(referentes!W1023=\"\",\"\",referentes!W1023)","v":""},{"$f":"referentes!S1023","v":0},null,1021,0,1290,"X"]
[null,null,null,null,null,null,null,null,null,null,null,null,null,null,null,null,null,null,null,null,null,null,null,null,null,null,null,null,{"$f":"IF(referentes!W1024=\"\",\"\",referentes!W1024)","v":""},{"$f":"referentes!S1024","v":0},null,1022,0,1290,"X"]
[null,null,null,null,null,null,null,null,null,null,null,null,null,null,null,null,null,null,null,null,null,null,null,null,null,null,null,null,{"$f":"IF(referentes!W1025=\"\",\"\",referentes!W1025)","v":""},{"$f":"referentes!S1025","v":0},null,1023,0,1290,"X"]
[null,null,null,null,null,null,null,null,null,null,null,null,null,null,null,null,null,null,null,null,null,null,null,null,null,null,null,null,{"$f":"IF(referentes!W1026=\"\",\"\",referentes!W1026)","v":""},{"$f":"referentes!S1026","v":0},null,1024,0,1290,"X"]
[null,null,null,null,null,null,null,null,null,null,null,null,null,null,null,null,null,null,null,null,null,null,null,null,null,null,null,null,{"$f":"IF(referentes!W1027=\"\",\"\",referentes!W1027)","v":""},{"$f":"referentes!S1027","v":0},null,1025,0,1290,"X"]
[null,null,null,null,null,null,null,null,null,null,null,null,null,null,null,null,null,null,null,null,null,null,null,null,null,null,null,null,{"$f":"IF(referentes!W1028=\"\",\"\",referentes!W1028)","v":""},{"$f":"referentes!S1028","v":0},null,1026,{"$f":"IF(AC1030=\"\",0,AC1030)","v":0},{"$f":"IF(AG1031=0,MAX($AF$6:$AF$1294)+1,AF1031)","v":1290},{"$f":"IFERROR(VLOOKUP(SMALL($AH$6:$AH$1294,AF1031),$AF$6:$AH$1294,2,FALSE),\"X\")","v":"X"}]
[null,null,null,null,null,null,null,null,null,null,null,null,null,null,null,null,null,null,null,null,null,null,null,null,null,null,null,null,{"$f":"IF(referentes!W1029=\"\",\"\",referentes!W1029)","v":""},{"$f":"referentes!S1029","v":0},null,1027,0,1290,"X"]
[null,null,null,null,null,null,null,null,null,null,null,null,null,null,null,null,null,null,null,null,null,null,null,null,null,null,null,null,{"$f":"IF(referentes!W1030=\"\",\"\",referentes!W1030)","v":""},{"$f":"referentes!S1030","v":0},null,1028,0,1290,"X"]
[null,null,null,null,null,null,null,null,null,null,null,null,null,null,null,null,null,null,null,null,null,null,null,null,null,null,null,null,{"$f":"IF(referentes!W1031=\"\",\"\",referentes!W1031)","v":""},{"$f":"referentes!S1031","v":0},null,1029,0,1290,"X"]
[null,null,null,null,null,null,null,null,null,null,null,null,null,null,null,null,null,null,null,null,null,null,null,null,null,null,null,null,{"$f":"IF(referentes!W1032=\"\",\"\",referentes!W1032)","v":""},{"$f":"referentes!S1032","v":0},null,1030,0,1290,"X"]
[null,null,null,null,null,null,null,null,null,null,null,null,null,null,null,null,null,null,null,null,null,null,null,null,null,null,null,null,{"$f":"IF(referentes!W1033=\"\",\"\",referentes!W1033)","v":""},{"$f":"referentes!S1033","v":0},null,1031,0,1290,"X"]
[null,null,null,null,null,null,null,null,null,null,null,null,null,null,null,null,null,null,null,null,null,null,null,null,null,null,null,null,{"$f":"IF(referentes!W1034=\"\",\"\",referentes!W1034)","v":""},{"$f":"referentes!S1034","v":0},null,1032,0,1290,"X"]
[null,null,null,null,null,null,null,null,null,null,null,null,null,null,null,null,null,null,null,null,null,null,null,null,null,null,null,null,{"$f":"IF(referentes!W1035=\"\",\"\",referentes!W1035)","v":""},{"$f":"referentes!S1035","v":0},null,1033,0,1290,"X"]
[null,null,null,null,null,null,null,null,null,null,null,null,null,null,null,null,null,null,null,null,null,null,null,null,null,null,null,null,{"$f":"IF(referentes!W1036=\"\",\"\",referentes!W1036)","v":""},{"$f":"referentes!S1036","v":0},null,1034,0,1290,"X"]
[null,null,null,null,null,null,null,null,null,null,null,null,null,null,null,null,null,null,null,null,null,null,null,null,null,null,null,null,{"$f":"IF(referentes!W1037=\"\",\"\",referentes!W1037)","v":""},{"$f":"referentes!S1037","v":0},null,1035,0,1290,"X"]
[null,null,null,null,null,null,null,null,null,null,null,null,null,null,null,null,null,null,null,null,null,null,null,null,null,null,null,null,{"$f":"IF(referentes!W1038=\"\",\"\",referentes!W1038)","v":""},{"$f":"referentes!S1038","v":0},null,1036,0,1290,"X"]
[null,null,null,null,null,null,null,null,null,null,null,null,null,null,null,null,null,null,null,null,null,null,null,null,null,null,null,null,{"$f":"IF(referentes!W1039=\"\",\"\",referentes!W1039)","v":""},{"$f":"referentes!S1039","v":0},null,1037,0,1290,"X"]
[null,null,null,null,null,null,null,null,null,null,null,null,null,null,null,null,null,null,null,null,null,null,null,null,null,null,null,null,{"$f":"IF(referentes!W1040=\"\",\"\",referentes!W1040)","v":""},{"$f":"referentes!S1040","v":0},null,1038,0,1290,"X"]
[null,null,null,null,null,null,null,null,null,null,null,null,null,null,null,null,null,null,null,null,null,null,null,null,null,null,null,null,{"$f":"IF(referentes!W1041=\"\",\"\",referentes!W1041)","v":""},{"$f":"referentes!S1041","v":0},null,1039,0,1290,"X"]
[null,null,null,null,null,null,null,null,null,null,null,null,null,null,null,null,null,null,null,null,null,null,null,null,null,null,null,null,{"$f":"IF(referentes!W1042=\"\",\"\",referentes!W1042)","v":""},{"$f":"referentes!S1042","v":0},null,1040,0,1290,"X"]
[null,null,null,null,null,null,null,null,null,null,null,null,null,null,null,null,null,null,null,null,null,null,null,null,null,null,null,null,{"$f":"IF(referentes!W1043=\"\",\"\",referentes!W1043)","v":""},{"$f":"referentes!S1043","v":0},null,1041,0,1290,"X"]
[null,null,null,null,null,null,null,null,null,null,null,null,null,null,null,null,null,null,null,null,null,null,null,null,null,null,null,null,{"$f":"IF(referentes!W1044=\"\",\"\",referentes!W1044)","v":""},{"$f":"referentes!S1044","v":0},null,1042,0,1290,"X"]
[null,null,null,null,null,null,null,null,null,null,null,null,null,null,null,null,null,null,null,null,null,null,null,null,null,null,null,null,{"$f":"IF(referentes!W1045=\"\",\"\",referentes!W1045)","v":""},{"$f":"referentes!S1045","v":0},null,1043,0,1290,"X"]
[null,null,null,null,null,null,null,null,null,null,null,null,null,null,null,null,null,null,null,null,null,null,null,null,null,null,null,null,{"$f":"IF(referentes!W1046=\"\",\"\",referentes!W1046)","v":""},{"$f":"referentes!S1046","v":0},null,1044,0,1290,"X"]
[null,null,null,null,null,null,null,null,null,null,null,null,null,null,null,null,null,null,null,null,null,null,null,null,null,null,null,null,{"$f":"IF(referentes!W1047=\"\",\"\",referentes!W1047)","v":""},{"$f":"referentes!S1047","v":0},null,1045,0,1290,"X"]
[null,null,null,null,null,null,null,null,null,null,null,null,null,null,null,null,null,null,null,null,null,null,null,null,null,null,null,null,{"$f":"IF(referentes!W1048=\"\",\"\",referentes!W1048)","v":""},{"$f":"referentes!S1048","v":0},null,1046,0,1290,"X"]
[null,null,null,null,null,null,null,null,null,null,null,null,null,null,null,null,null,null,null,null,null,null,null,null,null,null,null,null,{"$f":"IF(referentes!W1049=\"\",\"\",referentes!W1049)","v":""},{"$f":"referentes!S1049","v":0},null,1047,0,1290,"X"]
[null,null,null,null,null,null,null,null,null,null,null,null,null,null,null,null,null,null,null,null,null,null,null,null,null,null,null,null,{"$f":"IF(referentes!W1050=\"\",\"\",referentes!W1050)","v":""},{"$f":"referentes!S1050","v":0},null,1048,0,1290,"X"]
[null,null,null,null,null,null,null,null,null,null,null,null,null,null,null,null,null,null,null,null,null,null,null,null,null,null,null,null,{"$f":"IF(referentes!W1051=\"\",\"\",referentes!W1051)","v":""},{"$f":"referentes!S1051","v":0},null,1049,0,1290,"X"]
[null,null,null,null,null,null,null,null,null,null,null,null,null,null,null,null,null,null,null,null,null,null,null,null,null,null,null,null,{"$f":"IF(referentes!W1052=\"\",\"\",referentes!W1052)","v":""},{"$f":"referentes!S1052","v":0},null,1050,0,1290,"X"]
[null,null,null,null,null,null,null,null,null,null,null,null,null,null,null,null,null,null,null,null,null,null,null,null,null,null,null,null,{"$f":"IF(referentes!W1053=\"\",\"\",referentes!W1053)","v":""},{"$f":"referentes!S1053","v":0},null,1051,0,1290,"X"]
[null,null,null,null,null,null,null,null,null,null,null,null,null,null,null,null,null,null,null,null,null,null,null,null,null,null,null,null,{"$f":"IF(referentes!W1054=\"\",\"\",referentes!W1054)","v":""},{"$f":"referentes!S1054","v":0},null,1052,0,1290,"X"]
[null,null,null,null,null,null,null,null,null,null,null,null,null,null,null,null,null,null,null,null,null,null,null,null,null,null,null,null,{"$f":"IF(referentes!W1055=\"\",\"\",referentes!W1055)","v":""},{"$f":"referentes!S1055","v":0},null,1053,0,1290,"X"]
[null,null,null,null,null,null,null,null,null,null,null,null,null,null,null,null,null,null,null,null,null,null,null,null,null,null,null,null,{"$f":"IF(referentes!W1056=\"\",\"\",referentes!W1056)","v":""},{"$f":"referentes!S1056","v":0},null,1054,0,1290,"X"]
[null,null,null,null,null,null,null,null,null,null,null,null,null,null,null,null,null,null,null,null,null,null,null,null,null,null,null,null,{"$f":"IF(referentes!W1057=\"\",\"\",referentes!W1057)","v":""},{"$f":"referentes!S1057","v":0},null,1055,0,1290,"X"]
[null,null,null,null,null,null,null,null,null,null,null,null,null,null,null,null,null,null,null,null,null,null,null,null,null,null,null,null,{"$f":"IF(referentes!W1058=\"\",\"\",referentes!W1058)","v":""},{"$f":"referentes!S1058","v":0},null,1056,0,1290,"X"]
[null,null,null,null,null,null,null,null,null,null,null,null,null,null,null,null,null,null,null,null,null,null,null,null,null,null,null,null,{"$f":"IF(referentes!W1059=\"\",\"\",referentes!W1059)","v":""},{"$f":"referentes!S1059","v":0},null,1057,0,1290,"X"]
[null,null,null,null,null,null,null,null,null,null,null,null,null,null,null,null,null,null,null,null,null,null,null,null,null,null,null,null,{"$f":"IF(referentes!W1060=\"\",\"\",referentes!W1060)","v":""},{"$f":"referentes!S1060","v":0},null,1058,0,1290,"X"]
[null,null,null,null,null,null,null,null,null,null,null,null,null,null,null,null,null,null,null,null,null,null,null,null,null,null,null,null,{"$f":"IF(referentes!W1061=\"\",\"\",referentes!W1061)","v":""},{"$f":"referentes!S1061","v":0},null,1059,0,1290,"X"]
[null,null,null,null,null,null,null,null,null,null,null,null,null,null,null,null,null,null,null,null,null,null,null,null,null,null,null,null,{"$f":"IF(referentes!W1062=\"\",\"\",referentes!W1062)","v":""},{"$f":"referentes!S1062","v":0},null,1060,0,1290,"X"]
[null,null,null,null,null,null,null,null,null,null,null,null,null,null,null,null,null,null,null,null,null,null,null,null,null,null,null,null,{"$f":"IF(referentes!W1063=\"\",\"\",referentes!W1063)","v":""},{"$f":"referentes!S1063","v":0},null,1061,0,1290,"X"]
[null,null,null,null,null,null,null,null,null,null,null,null,null,null,null,null,null,null,null,null,null,null,null,null,null,null,null,null,{"$f":"IF(referentes!W1064=\"\",\"\",referentes!W1064)","v":""},{"$f":"referentes!S1064","v":0},null,1062,0,1290,"X"]
[null,null,null,null,null,null,null,null,null,null,null,null,null,null,null,null,null,null,null,null,null,null,null,null,null,null,null,null,{"$f":"IF(referentes!W1065=\"\",\"\",referentes!W1065)","v":""},{"$f":"referentes!S1065","v":0},null,1063,0,1290,"X"]
[null,null,null,null,null,null,null,null,null,null,null,null,null,null,null,null,null,null,null,null,null,null,null,null,null,null,null,null,{"$f":"IF(referentes!W1066=\"\",\"\",referentes!W1066)","v":""},{"$f":"referentes!S1066","v":0},null,1064,0,1290,"X"]
[null,null,null,null,null,null,null,null,null,null,null,null,null,null,null,null,null,null,null,null,null,null,null,null,null,null,null,null,{"$f":"IF(referentes!W1067=\"\",\"\",referentes!W1067)","v":""},{"$f":"referentes!S1067","v":0},null,1065,0,1290,"X"]
[null,null,null,null,null,null,null,null,null,null,null,null,null,null,null,null,null,null,null,null,null,null,null,null,null,null,null,null,{"$f":"IF(referentes!W1068=\"\",\"\",referentes!W1068)","v":""},{"$f":"referentes!S1068","v":0},null,1066,0,1290,"X"]
[null,null,null,null,null,null,null,null,null,null,null,null,null,null,null,null,null,null,null,null,null,null,null,null,null,null,null,null,{"$f":"IF(referentes!W1069=\"\",\"\",referentes!W1069)","v":""},{"$f":"referentes!S1069","v":0},null,1067,0,1290,"X"]
[null,null,null,null,null,null,null,null,null,null,null,null,null,null,null,null,null,null,null,null,null,null,null,null,null,null,null,null,{"$f":"IF(referentes!W1070=\"\",\"\",referentes!W1070)","v":""},{"$f":"referentes!S1070","v":0},null,1068,0,1290,"X"]
[null,null,null,null,null,null,null,null,null,null,null,null,null,null,null,null,null,null,null,null,null,null,null,null,null,null,null,null,{"$f":"IF(referentes!W1071=\"\",\"\",referentes!W1071)","v":""},{"$f":"referentes!S1071","v":0},null,1069,0,1290,"X"]
[null,null,null,null,null,null,null,null,null,null,null,null,null,null,null,null,null,null,null,null,null,null,null,null,null,null,null,null,{"$f":"IF(referentes!W1072=\"\",\"\",referentes!W1072)","v":""},{"$f":"referentes!S1072","v":0},null,1070,0,1290,"X"]
[null,null,null,null,null,null,null,null,null,null,null,null,null,null,null,null,null,null,null,null,null,null,null,null,null,null,null,null,{"$f":"IF(referentes!W1073=\"\",\"\",referentes!W1073)","v":""},{"$f":"referentes!S1073","v":0},null,1071,0,1290,"X"]
[null,null,null,null,null,null,null,null,null,null,null,null,null,null,null,null,null,null,null,null,null,null,null,null,null,null,null,null,{"$f":"IF(referentes!W1074=\"\",\"\",referentes!W1074)","v":""},{"$f":"referentes!S1074","v":0},null,1072,0,1290,"X"]
[null,null,null,null,null,null,null,null,null,null,null,null,null,null,null,null,null,null,null,null,null,null,null,null,null,null,null,null,{"$f":"IF(referentes!W1075=\"\",\"\",referentes!W1075)","v":""},{"$f":"referentes!S1075","v":0},null,1073,0,1290,"X"]
[null,null,null,null,null,null,null,null,null,null,null,null,null,null,null,null,null,null,null,null,null,null,null,null,null,null,null,null,{"$f":"IF(referentes!W1076=\"\",\"\",referentes!W1076)","v":""},{"$f":"referentes!S1076","v":0},null,1074,0,1290,"X"]
[null,null,null,null,null,null,null,null,null,null,null,null,null,null,null,null,null,null,null,null,null,null,null,null,null,null,null,null,{"$f":"IF(referentes!W1077=\"\",\"\",referentes!W1077)","v":""},{"$f":"referentes!S1077","v":0},null,1075,0,1290,"X"]
[null,null,null,null,null,null,null,null,null,null,null,null,null,null,null,null,null,null,null,null,null,null,null,null,null,null,null,null,{"$f":"IF(referentes!W1078=\"\",\"\",referentes!W1078)","v":""},{"$f":"referentes!S1078","v":0},null,1076,0,1290,"X"]
[null,null,null,null,null,null,null,null,null,null,null,null,null,null,null,null,null,null,null,null,null,null,null,null,null,null,null,null,{"$f":"IF(referentes!W1079=\"\",\"\",referentes!W1079)","v":""},{"$f":"referentes!S1079","v":0},null,1077,0,1290,"X"]
[null,null,null,null,null,null,null,null,null,null,null,null,null,null,null,null,null,null,null,null,null,null,null,null,null,null,null,null,{"$f":"IF(referentes!W1080=\"\",\"\",referentes!W1080)","v":""},{"$f":"referentes!S1080","v":0},null,1078,0,1290,"X"]
[null,null,null,null,null,null,null,null,null,null,null,null,null,null,null,null,null,null,null,null,null,null,null,null,null,null,null,null,{"$f":"IF(referentes!W1081=\"\",\"\",referentes!W1081)","v":""},{"$f":"referentes!S1081","v":0},null,1079,0,1290,"X"]
[null,null,null,null,null,null,null,null,null,null,null,null,null,null,null,null,null,null,null,null,null,null,null,null,null,null,null,null,{"$f":"IF(referentes!W1082=\"\",\"\",referentes!W1082)","v":""},{"$f":"referentes!S1082","v":0},null,1080,0,1290,"X"]
[null,null,null,null,null,null,null,null,null,null,null,null,null,null,null,null,null,null,null,null,null,null,null,null,null,null,null,null,{"$f":"IF(referentes!W1083=\"\",\"\",referentes!W1083)","v":""},{"$f":"referentes!S1083","v":0},null,1081,0,1290,"X"]
[null,null,null,null,null,null,null,null,null,null,null,null,null,null,null,null,null,null,null,null,null,null,null,null,null,null,null,null,{"$f":"IF(referentes!W1084=\"\",\"\",referentes!W1084)","v":""},{"$f":"referentes!S1084","v":0},null,1082,0,1290,"X"]
[null,null,null,null,null,null,null,null,null,null,null,null,null,null,null,null,null,null,null,null,null,null,null,null,null,null,null,null,{"$f":"IF(referentes!W1085=\"\",\"\",referentes!W1085)","v":""},{"$f":"referentes!S1085","v":0},null,1083,0,1290,"X"]
[null,null,null,null,null,null,null,null,null,null,null,null,null,null,null,null,null,null,null,null,null,null,null,null,null,null,null,null,{"$f":"IF(referentes!W1086=\"\",\"\",referentes!W1086)","v":""},{"$f":"referentes!S1086","v":0},null,1084,0,1290,"X"]
[null,null,null,null,null,null,null,null,null,null,null,null,null,null,null,null,null,null,null,null,null,null,null,null,null,null,null,null,{"$f":"IF(referentes!W1087=\"\",\"\",referentes!W1087)","v":""},{"$f":"referentes!S1087","v":0},null,1085,0,1290,"X"]
[null,null,null,null,null,null,null,null,null,null,null,null,null,null,null,null,null,null,null,null,null,null,null,null,null,null,null,null,{"$f":"IF(referentes!W1088=\"\",\"\",referentes!W1088)","v":""},{"$f":"referentes!S1088","v":0},null,1086,0,1290,"X"]
[null,null,null,null,null,null,null,null,null,null,null,null,null,null,null,null,null,null,null,null,null,null,null,null,null,null,null,null,{"$f":"IF(referentes!W1089=\"\",\"\",referentes!W1089)","v":""},{"$f":"referentes!S1089","v":0},null,1087,0,1290,"X"]
[null,null,null,null,null,null,null,null,null,null,null,null,null,null,null,null,null,null,null,null,null,null,null,null,null,null,null,null,{"$f":"IF(referentes!W1090=\"\",\"\",referentes!W1090)","v":""},{"$f":"referentes!S1090","v":0},null,1088,0,1290,"X"]
[null,null,null,null,null,null,null,null,null,null,null,null,null,null,null,null,null,null,null,null,null,null,null,null,null,null,null,null,{"$f":"IF(referentes!W1091=\"\",\"\",referentes!W1091)","v":""},{"$f":"referentes!S1091","v":0},null,1089,0,1290,"X"]
[null,null,null,null,null,null,null,null,null,null,null,null,null,null,null,null,null,null,null,null,null,null,null,null,null,null,null,null,{"$f":"IF(referentes!W1092=\"\",\"\",referentes!W1092)","v":""},{"$f":"referentes!S1092","v":0},null,1090,{"$f":"IF(AC1094=\"\",0,AC1094)","v":0},{"$f":"IF(AG1095=0,MAX($AF$6:$AF$1294)+1,AF1095)","v":1290},{"$f":"IFERROR(VLOOKUP(SMALL($AH$6:$AH$1294,AF1095),$AF$6:$AH$1294,2,FALSE),\"X\")","v":"X"}]
[null,null,null,null,null,null,null,null,null,null,null,null,null,null,null,null,null,null,null,null,null,null,null,null,null,null,null,null,{"$f":"IF(referentes!W1093=\"\",\"\",referentes!W1093)","v":""},{"$f":"referentes!S1093","v":0},null,1091,0,1290,"X"]
[null,null,null,null,null,null,null,null,null,null,null,null,null,null,null,null,null,null,null,null,null,null,null,null,null,null,null,null,{"$f":"IF(referentes!W1094=\"\",\"\",referentes!W1094)","v":""},{"$f":"referentes!S1094","v":0},null,1092,0,1290,"X"]
[null,null,null,null,null,null,null,null,null,null,null,null,null,null,null,null,null,null,null,null,null,null,null,null,null,null,null,null,{"$f":"IF(referentes!W1095=\"\",\"\",referentes!W1095)","v":""},{"$f":"referentes!S1095","v":0},null,1093,0,1290,"X"]
[null,null,null,null,null,null,null,null,null,null,null,null,null,null,null,null,null,null,null,null,null,null,null,null,null,null,null,null,{"$f":"IF(referentes!W1096=\"\",\"\",referentes!W1096)","v":""},{"$f":"referentes!S1096","v":0},null,1094,0,1290,"X"]
[null,null,null,null,null,null,null,null,null,null,null,null,null,null,null,null,null,null,null,null,null,null,null,null,null,null,null,null,{"$f":"IF(referentes!W1097=\"\",\"\",referentes!W1097)","v":""},{"$f":"referentes!S1097","v":0},null,1095,0,1290,"X"]
[null,null,null,null,null,null,null,null,null,null,null,null,null,null,null,null,null,null,null,null,null,null,null,null,null,null,null,null,{"$f":"IF(referentes!W1098=\"\",\"\",referentes!W1098)","v":""},{"$f":"referentes!S1098","v":0},null,1096,0,1290,"X"]
[null,null,null,null,null,null,null,null,null,null,null,null,null,null,null,null,null,null,null,null,null,null,null,null,null,null,null,null,{"$f":"IF(referentes!W1099=\"\",\"\",referentes!W1099)","v":""},{"$f":"referentes!S1099","v":0},null,1097,0,1290,"X"]
[null,null,null,null,null,null,null,null,null,null,null,null,null,null,null,null,null,null,null,null,null,null,null,null,null,null,null,null,{"$f":"IF(referentes!W1100=\"\",\"\",referentes!W1100)","v":""},{"$f":"referentes!S1100","v":0},null,1098,0,1290,"X"]
[null,null,null,null,null,null,null,null,null,null,null,null,null,null,null,null,null,null,null,null,null,null,null,null,null,null,null,null,{"$f":"IF(referentes!W1101=\"\",\"\",referentes!W1101)","v":""},{"$f":"referentes!S1101","v":0},null,1099,0,1290,"X"]
[null,null,null,null,null,null,null,null,null,null,null,null,null,null,null,null,null,null,null,null,null,null,null,null,null,null,null,null,{"$f":"IF(referentes!W1102=\"\",\"\",referentes!W1102)","v":""},{"$f":"referentes!S1102","v":0},null,1100,0,1290,"X"]
[null,null,null,null,null,null,null,null,null,null,null,null,null,null,null,null,null,null,null,null,null,null,null,null,null,null,null,null,{"$f":"IF(referentes!W1103=\"\",\"\",referentes!W1103)","v":""},{"$f":"referentes!S1103","v":0},null,1101,0,1290,"X"]
[null,null,null,null,null,null,null,null,null,null,null,null,null,null,null,null,null,null,null,null,null,null,null,null,null,null,null,null,{"$f":"IF(referentes!W1104=\"\",\"\",referentes!W1104)","v":""},{"$f":"referentes!S1104","v":0},null,1102,0,1290,"X"]
[null,null,null,null,null,null,null,null,null,null,null,null,null,null,null,null,null,null,null,null,null,null,null,null,null,null,null,null,{"$f":"IF(referentes!W1105=\"\",\"\",referentes!W1105)","v":""},{"$f":"referentes!S1105","v":0},null,1103,0,1290,"X"]
[null,null,null,null,null,null,null,null,null,null,null,null,null,null,null,null,null,null,null,null,null,null,null,null,null,null,null,null,{"$f":"IF(referentes!W1106=\"\",\"\",referentes!W1106)","v":""},{"$f":"referentes!S1106","v":0},null,1104,0,1290,"X"]
[null,null,null,null,null,null,null,null,null,null,null,null,null,null,null,null,null,null,null,null,null,null,null,null,null,null,null,null,{"$f":"IF(referentes!W1107=\"\",\"\",referentes!W1107)","v":""},{"$f":"referentes!S1107","v":0},null,1105,0,1290,"X"]
[null,null,null,null,null,null,null,null,null,null,null,null,null,null,null,null,null,null,null,null,null,null,null,null,null,null,null,null,{"$f":"IF(referentes!W1108=\"\",\"\",referentes!W1108)","v":""},{"$f":"referentes!S1108","v":0},null,1106,0,1290,"X"]
[null,null,null,null,null,null,null,null,null,null,null,null,null,null,null,null,null,null,null,null,null,null,null,null,null,null,null,null,{"$f":"IF(referentes!W1109=\"\",\"\",referentes!W1109)","v":""},{"$f":"referentes!S1109","v":0},null,1107,0,1290,"X"]
[null,null,null,null,null,null,null,null,null,null,null,null,null,null,null,null,null,null,null,null,null,null,null,null,null,null,null,null,{"$f":"IF(referentes!W1110=\"\",\"\",referentes!W1110)","v":""},{"$f":"referentes!S1110","v":0},null,1108,0,1290,"X"]
[null,null,null,null,null,null,null,null,null,null,null,null,null,null,null,null,null,null,null,null,null,null,null,null,null,null,null,null,{"$f":"IF(referentes!W1111=\"\",\"\",referentes!W1111)","v":""},{"$f":"referentes!S1111","v":0},null,1109,0,1290,"X"]
[null,null,null,null,null,null,null,null,null,null,null,null,null,null,null,null,null,null,null,null,null,null,null,null,null,null,null,null,{"$f":"IF(referentes!W1112=\"\",\"\",referentes!W1112)","v":""},{"$f":"referentes!S1112","v":0},null,1110,0,1290,"X"]
[null,null,null,null,null,null,null,null,null,null,null,null,null,null,null,null,null,null,null,null,null,null,null,null,null,null,null,null,{"$f":"IF(referentes!W1113=\"\",\"\",referentes!W1113)","v":""},{"$f":"referentes!S1113","v":0},null,1111,0,1290,"X"]
[null,null,null,null,null,null,null,null,null,null,null,null,null,null,null,null,null,null,null,null,null,null,null,null,null,null,null,null,{"$f":"IF(referentes!W1114=\"\",\"\",referentes!W1114)","v":""},{"$f":"referentes!S1114","v":0},null,1112,0,1290,"X"]
[null,null,null,null,null,null,null,null,null,null,null,null,null,null,null,null,null,null,null,null,null,null,null,null,null,null,null,null,{"$f":"IF(referentes!W1115=\"\",\"\",referentes!W1115)","v":""},{"$f":"referentes!S1115","v":0},null,1113,0,1290,"X"]
[null,null,null,null,null,null,null,null,null,null,null,null,null,null,null,null,null,null,null,null,null,null,null,null,null,null,null,null,{"$f":"IF(referentes!W1116=\"\",\"\",referentes!W1116)","v":""},{"$f":"referentes!S1116","v":0},null,1114,0,1290,"X"]
[null,null,null,null,null,null,null,null,null,null,null,null,null,null,null,null,null,null,null,null,null,null,null,null,null,null,null,null,{"$f":"IF(referentes!W1117=\"\",\"\",referentes!W1117)","v":""},{"$f":"referentes!S1117","v":0},null,1115,0,1290,"X"]
[null,null,null,null,null,null,null,null,null,null,null,null,null,null,null,null,null,null,null,null,null,null,null,null,null,null,null,null,{"$f":"IF(referentes!W1118=\"\",\"\",referentes!W1118)","v":""},{"$f":"referentes!S1118","v":0},null,1116,0,1290,"X"]
[null,null,null,null,null,null,null,null,null,null,null,null,null,null,null,null,null,null,null,null,null,null,null,null,null,null,null,null,{"$f":"IF(referentes!W1119=\"\",\"\",referentes!W1119)","v":""},{"$f":"referentes!S1119","v":0},null,1117,0,1290,"X"]
[null,null,null,null,null,null,null,null,null,null,null,null,null,null,null,null,null,null,null,null,null,null,null,null,null,null,null,null,{"$f":"IF(referentes!W1120=\"\",\"\",referentes!W1120)","v":""},{"$f":"referentes!S1120","v":0},null,1118,0,1290,"X"]
[null,null,null,null,null,null,null,null,null,null,null,null,null,null,null,null,null,null,null,null,null,null,null,null,null,null,null,null,{"$f":"IF(referentes!W1121=\"\",\"\",referentes!W1121)","v":""},{"$f":"referentes!S1121","v":0},null,1119,0,1290,"X"]
[null,null,null,null,null,null,null,null,null,null,null,null,null,null,null,null,null,null,null,null,null,null,null,null,null,null,null,null,{"$f":"IF(referentes!W1122=\"\",\"\",referentes!W1122)","v":""},{"$f":"referentes!S1122","v":0},null,1120,0,1290,"X"]
[null,null,null,null,null,null,null,null,null,null,null,null,null,null,null,null,null,null,null,null,null,null,null,null,null,null,null,null,{"$f":"IF(referentes!W1123=\"\",\"\",referentes!W1123)","v":""},{"$f":"referentes!S1123","v":0},null,1121,0,1290,"X"]
[null,null,null,null,null,null,null,null,null,null,null,null,null,null,null,null,null,null,null,null,null,null,null,null,null,null,null,null,{"$f":"IF(referentes!W1124=\"\",\"\",referentes!W1124)","v":""},{"$f":"referentes!S1124","v":0},null,1122,0,1290,"X"]
[null,null,null,null,null,null,null,null,null,null,null,null,null,null,null,null,null,null,null,null,null,null,null,null,null,null,null,null,{"$f":"IF(referentes!W1125=\"\",\"\",referentes!W1125)","v":""},{"$f":"referentes!S1125","v":0},null,1123,0,1290,"X"]
[null,null,null,null,null,null,null,null,null,null,null,null,null,null,null,null,null,null,null,null,null,null,null,null,null,null,null,null,{"$f":"IF(referentes!W1126=\"\",\"\",referentes!W1126)","v":""},{"$f":"referentes!S1126","v":0},null,1124,0,1290,"X"]
[null,null,null,null,null,null,null,null,null,null,null,null,null,null,null,null,null,null,null,null,null,null,null,null,null,null,null,null,{"$f":"IF(referentes!W1127=\"\",\"\",referentes!W1127)","v":""},{"$f":"referentes!S1127","v":0},null,1125,0,1290,"X"]
[null,null,null,null,null,null,null,null,null,null,null,null,null,null,null,null,null,null,null,null,null,null,null,null,null,null,null,null,{"$f":"IF(referentes!W1128=\"\",\"\",referentes!W1128)","v":""},{"$f":"referentes!S1128","v":0},null,1126,0,1290,"X"]
[null,null,null,null,null,null,null,null,null,null,null,null,null,null,null,null,null,null,null,null,null,null,null,null,null,null,null,null,{"$f":"IF(referentes!W1129=\"\",\"\",referentes!W1129)","v":""},{"$f":"referentes!S1129","v":0},null,1127,0,1290,"X"]
[null,null,null,null,null,null,null,null,null,null,null,null,null,null,null,null,null,null,null,null,null,null,null,null,null,null,null,null,{"$f":"IF(referentes!W1130=\"\",\"\",referentes!W1130)","v":""},{"$f":"referentes!S1130","v":0},null,1128,0,1290,"X"]
[null,null,null,null,null,null,null,null,null,null,null,null,null,null,null,null,null,null,null,null,null,null,null,null,null,null,null,null,{"$f":"IF(referentes!W1131=\"\",\"\",referentes!W1131)","v":""},{"$f":"referentes!S1131","v":0},null,1129,0,1290,"X"]
[null,null,null,null,null,null,null,null,null,null,null,null,null,null,null,null,null,null,null,null,null,null,null,null,null,null,null,null,{"$f":"IF(referentes!W1132=\"\",\"\",referentes!W1132)","v":""},{"$f":"referentes!S1132","v":0},null,1130,0,1290,"X"]
[null,null,null,null,null,null,null,null,null,null,null,null,null,null,null,null,null,null,null,null,null,null,null,null,null,null,null,null,{"$f":"IF(referentes!W1133=\"\",\"\",referentes!W1133)","v":""},{"$f":"referentes!S1133","v":0},null,1131,0,1290,"X"]
[null,null,null,null,null,null,null,null,null,null,null,null,null,null,null,null,null,null,null,null,null,null,null,null,null,null,null,null,{"$f":"IF(referentes!W1134=\"\",\"\",referentes!W1134)","v":""},{"$f":"referentes!S1134","v":0},null,1132,0,1290,"X"]
[null,null,null,null,null,null,null,null,null,null,null,null,null,null,null,null,null,null,null,null,null,null,null,null,null,null,null,null,{"$f":"IF(referentes!W1135=\"\",\"\",referentes!W1135)","v":""},{"$f":"referentes!S1135","v":0},null,1133,0,1290,"X"]
[null,null,null,null,null,null,null,null,null,null,null,null,null,null,null,null,null,null,null,null,null,null,null,null,null,null,null,null,{"$f":"IF(referentes!W1136=\"\",\"\",referentes!W1136)","v":""},{"$f":"referentes!S1136","v":0},null,1134,0,1290,"X"]
[null,null,null,null,null,null,null,null,null,null,null,null,null,null,null,null,null,null,null,null,null,null,null,null,null,null,null,null,{"$f":"IF(referentes!W1137=\"\",\"\",referentes!W1137)","v":""},{"$f":"referentes!S1137","v":0},null,1135,0,1290,"X"]
[null,null,null,null,null,null,null,null,null,null,null,null,null,null,null,null,null,null,null,null,null,null,null,null,null,null,null,null,{"$f":"IF(referentes!W1138=\"\",\"\",referentes!W1138)","v":""},{"$f":"referentes!S1138","v":0},null,1136,0,1290,"X"]
[null,null,null,null,null,null,null,null,null,null,null,null,null,null,null,null,null,null,null,null,null,null,null,null,null,null,null,null,{"$f":"IF(referentes!W1139=\"\",\"\",referentes!W1139)","v":""},{"$f":"referentes!S1139","v":0},null,1137,0,1290,"X"]
[null,null,null,null,null,null,null,null,null,null,null,null,null,null,null,null,null,null,null,null,null,null,null,null,null,null,null,null,{"$f":"IF(referentes!W1140=\"\",\"\",referentes!W1140)","v":""},{"$f":"referentes!S1140","v":0},null,1138,0,1290,"X"]
[null,null,null,null,null,null,null,null,null,null,null,null,null,null,null,null,null,null,null,null,null,null,null,null,null,null,null,null,{"$f":"IF(referentes!W1141=\"\",\"\",referentes!W1141)","v":""},{"$f":"referentes!S1141","v":0},null,1139,0,1290,"X"]
[null,null,null,null,null,null,null,null,null,null,null,null,null,null,null,null,null,null,null,null,null,null,null,null,null,null,null,null,{"$f":"IF(referentes!W1142=\"\",\"\",referentes!W1142)","v":""},{"$f":"referentes!S1142","v":0},null,1140,0,1290,"X"]
[null,null,null,null,null,null,null,null,null,null,null,null,null,null,null,null,null,null,null,null,null,null,null,null,null,null,null,null,{"$f":"IF(referentes!W1143=\"\",\"\",referentes!W1143)","v":""},{"$f":"referentes!S1143","v":0},null,1141,0,1290,"X"]
[null,null,null,null,null,null,null,null,null,null,null,null,null,null,null,null,null,null,null,null,null,null,null,null,null,null,null,null,{"$f":"IF(referentes!W1144=\"\",\"\",referentes!W1144)","v":""},{"$f":"referentes!S1144","v":0},null,1142,0,1290,"X"]
[null,null,null,null,null,null,null,null,null,null,null,null,null,null,null,null,null,null,null,null,null,null,null,null,null,null,null,null,{"$f":"IF(referentes!W1145=\"\",\"\",referentes!W1145)","v":""},{"$f":"referentes!S1145","v":0},null,1143,0,1290,"X"]
[null,null,null,null,null,null,null,null,null,null,null,null,null,null,null,null,null,null,null,null,null,null,null,null,null,null,null,null,{"$f":"IF(referentes!W1146=\"\",\"\",referentes!W1146)","v":""},{"$f":"referentes!S1146","v":0},null,1144,0,1290,"X"]
[null,null,null,null,null,null,null,null,null,null,null,null,null,null,null,null,null,null,null,null,null,null,null,null,null,null,null,null,{"$f":"IF(referentes!W1147=\"\",\"\",referentes!W1147)","v":""},{"$f":"referentes!S1147","v":0},null,1145,0,1290,"X"]
[null,null,null,null,null,null,null,null,null,null,null,null,null,null,null,null,null,null,null,null,null,null,null,null,null,null,null,null,{"$f":"IF(referentes!W1148=\"\",\"\",referentes!W1148)","v":""},{"$f":"referentes!S1148","v":0},null,1146,0,1290,"X"]
[null,null,null,null,null,null,null,null,null,null,null,null,null,null,null,null,null,null,null,null,null,null,null,null,null,null,null,null,{"$f":"IF(referentes!W1149=\"\",\"\",referentes!W1149)","v":""},{"$f":"referentes!S1149","v":0},null,1147,0,1290,"X"]
[null,null,null,null,null,null,null,null,null,null,null,null,null,null,null,null,null,null,null,null,null,null,null,null,null,null,null,null,{"$f":"IF(referentes!W1150=\"\",\"\",referentes!W1150)","v":""},{"$f":"referentes!S1150","v":0},null,1148,0,1290,"X"]
[null,null,null,null,null,null,null,null,null,null,null,null,null,null,null,null,null,null,null,null,null,null,null,null,null,null,null,null,{"$f":"IF(referentes!W1151=\"\",\"\",referentes!W1151)","v":""},{"$f":"referentes!S1151","v":0},null,1149,0,1290,"X"]
[null,null,null,null,null,null,null,null,null,null,null,null,null,null,null,null,null,null,null,null,null,null,null,null,null,null,null,null,{"$f":"IF(referentes!W1152=\"\",\"\",referentes!W1152)","v":""},{"$f":"referentes!S1152","v":0},null,1150,0,1290,"X"]
[null,null,null,null,null,null,null,null,null,null,null,null,null,null,null,null,null,null,null,null,null,null,null,null,null,null,null,null,{"$f":"IF(referentes!W1153=\"\",\"\",referentes!W1153)","v":""},{"$f":"referentes!S1153","v":0},null,1151,0,1290,"X"]
[null,null,null,null,null,null,null,null,null,null,null,null,null,null,null,null,null,null,null,null,null,null,null,null,null,null,null,null,{"$f":"IF(referentes!W1154=\"\",\"\",referentes!W1154)","v":""},{"$f":"referentes!S1154","v":0},null,1152,0,1290,"X"]
[null,null,null,null,null,null,null,null,null,null,null,null,null,null,null,null,null,null,null,null,null,null,null,null,null,null,null,null,{"$f":"IF(referentes!W1155=\"\",\"\",referentes!W1155)","v":""},{"$f":"referentes!S1155","v":0},null,1153,0,1290,"X"]
[null,null,null,null,null,null,null,null,null,null,null,null,null,null,null,null,null,null,null,null,null,null,null,null,null,null,null,null,{"$f":"IF(referentes!W1156=\"\",\"\",referentes!W1156)","v":""},{"$f":"referentes!S1156","v":0},null,1154,{"$f":"IF(AC1158=\"\",0,AC1158)","v":0},{"$f":"IF(AG1159=0,MAX($AF$6:$AF$1294)+1,AF1159)","v":1290},{"$f":"IFERROR(VLOOKUP(SMALL($AH$6:$AH$1294,AF1159),$AF$6:$AH$1294,2,FALSE),\"X\")","v":"X"}]
[null,null,null,null,null,null,null,null,null,null,null,null,null,null,null,null,null,null,null,null,null,null,null,null,null,null,null,null,{"$f":"IF(referentes!W1157=\"\",\"\",referentes!W1157)","v":""},{"$f":"referentes!S1157","v":0},null,1155,0,1290,"X"]
[null,null,null,null,null,null,null,null,null,null,null,null,null,null,null,null,null,null,null,null,null,null,null,null,null,null,null,null,{"$f":"IF(referentes!W1158=\"\",\"\",referentes!W1158)","v":""},{"$f":"referentes!S1158","v":0},null,1156,0,1290,"X"]
[null,null,null,null,null,null,null,null,null,null,null,null,null,null,null,null,null,null,null,null,null,null,null,null,null,null,null,null,{"$f":"IF(referentes!W1159=\"\",\"\",referentes!W1159)","v":""},{"$f":"referentes!S1159","v":0},null,1157,0,1290,"X"]
[null,null,null,null,null,null,null,null,null,null,null,null,null,null,null,null,null,null,null,null,null,null,null,null,null,null,null,null,{"$f":"IF(referentes!W1160=\"\",\"\",referentes!W1160)","v":""},{"$f":"referentes!S1160","v":0},null,1158,0,1290,"X"]
[null,null,null,null,null,null,null,null,null,null,null,null,null,null,null,null,null,null,null,null,null,null,null,null,null,null,null,null,{"$f":"IF(referentes!W1161=\"\",\"\",referentes!W1161)","v":""},{"$f":"referentes!S1161","v":0},null,1159,0,1290,"X"]
[null,null,null,null,null,null,null,null,null,null,null,null,null,null,null,null,null,null,null,null,null,null,null,null,null,null,null,null,{"$f":"IF(referentes!W1162=\"\",\"\",referentes!W1162)","v":""},{"$f":"referentes!S1162","v":0},null,1160,0,1290,"X"]
[null,null,null,null,null,null,null,null,null,null,null,null,null,null,null,null,null,null,null,null,null,null,null,null,null,null,null,null,{"$f":"IF(referentes!W1163=\"\",\"\",referentes!W1163)","v":""},{"$f":"referentes!S1163","v":0},null,1161,0,1290,"X"]
[null,null,null,null,null,null,null,null,null,null,null,null,null,null,null,null,null,null,null,null,null,null,null,null,null,null,null,null,{"$f":"IF(referentes!W1164=\"\",\"\",referentes!W1164)","v":""},{"$f":"referentes!S1164","v":0},null,1162,0,1290,"X"]
[null,null,null,null,null,null,null,null,null,null,null,null,null,null,null,null,null,null,null,null,null,null,null,null,null,null,null,null,{"$f":"IF(referentes!W1165=\"\",\"\",referentes!W1165)","v":""},{"$f":"referentes!S1165","v":0},null,1163,0,1290,"X"]
[null,null,null,null,null,null,null,null,null,null,null,null,null,null,null,null,null,null,null,null,null,null,null,null,null,null,null,null,{"$f":"IF(referentes!W1166=\"\",\"\",referentes!W1166)","v":""},{"$f":"referentes!S1166","v":0},null,1164,0,1290,"X"]
[null,null,null,null,null,null,null,null,null,null,null,null,null,null,null,null,null,null,null,null,null,null,null,null,null,null,null,null,{"$f":"IF(referentes!W1167=\"\",\"\",referentes!W1167)","v":""},{"$f":"referentes!S1167","v":0},null,1165,0,1290,"X"]
[null,null,null,null,null,null,null,null,null,null,null,null,null,null,null,null,null,null,null,null,null,null,null,null,null,null,null,null,{"$f":"IF(referentes!W1168=\"\",\"\",referentes!W1168)","v":""},{"$f":"referentes!S1168","v":0},null,1166,0,1290,"X"]
[null,null,null,null,null,null,null,null,null,null,null,null,null,null,null,null,null,null,null,null,null,null,null,null,null,null,null,null,{"$f":"IF(referentes!W1169=\"\",\"\",referentes!W1169)","v":""},{"$f":"referentes!S1169","v":0},null,1167,0,1290,"X"]
[null,null,null,null,null,null,null,null,null,null,null,null,null,null,null,null,null,null,null,null,null,null,null,null,null,null,null,null,{"$f":"IF(referentes!W1170=\"\",\"\",referentes!W1170)","v":""},{"$f":"referentes!S1170","v":0},null,1168,0,1290,"X"]
[null,null,null,null,null,null,null,null,null,null,null,null,null,null,null,null,null,null,null,null,null,null,null,null,null,null,null,null,{"$f":"IF(referentes!W1171=\"\",\"\",referentes!W1171)","v":""},{"$f":"referentes!S1171","v":0},null,1169,0,1290,"X"]
[null,null,null,null,null,null,null,null,null,null,null,null,null,null,null,null,null,null,null,null,null,null,null,null,null,null,null,null,{"$f":"IF(referentes!W1172=\"\",\"\",referentes!W1172)","v":""},{"$f":"referentes!S1172","v":0},null,1170,0,1290,"X"]
[null,null,null,null,null,null,null,null,null,null,null,null,null,null,null,null,null,null,null,null,null,null,null,null,null,null,null,null,{"$f":"IF(referentes!W1173=\"\",\"\",referentes!W1173)","v":""},{"$f":"referentes!S1173","v":0},null,1171,0,1290,"X"]
[null,null,null,null,null,null,null,null,null,null,null,null,null,null,null,null,null,null,null,null,null,null,null,null,null,null,null,null,{"$f":"IF(referentes!W1174=\"\",\"\",referentes!W1174)","v":""},{"$f":"referentes!S1174","v":0},null,1172,0,1290,"X"]
[null,null,null,null,null,null,null,null,null,null,null,null,null,null,null,null,null,null,null,null,null,null,null,null,null,null,null,null,{"$f":"IF(referentes!W1175=\"\",\"\",referentes!W1175)","v":""},{"$f":"referentes!S1175","v":0},null,1173,0,1290,"X"]
[null,null,null,null,null,null,null,null,null,null,null,null,null,null,null,null,null,null,null,null,null,null,null,null,null,null,null,null,{"$f":"IF(referentes!W1176=\"\",\"\",referentes!W1176)","v":""},{"$f":"referentes!S1176","v":0},null,1174,0,1290,"X"]
[null,null,null,null,null,null,null,null,null,null,null,null,null,null,null,null,null,null,null,null,null,null,null,null,null,null,null,null,{"$f":"IF(referentes!W1177=\"\",\"\",referentes!W1177)","v":""},{"$f":"referentes!S1177","v":0},null,1175,0,1290,"X"]
[null,null,null,null,null,null,null,null,null,null,null,null,null,null,null,null,null,null,null,null,null,null,null,null,null,null,null,null,{"$f":"IF(referentes!W1178=\"\",\"\",referentes!W1178)","v":""},{"$f":"referentes!S1178","v":0},null,1176,0,1290,"X"]
[null,null,null,null,null,null,null,null,null,null,null,null,null,null,null,null,null,null,null,null,null,null,null,null,null,null,null,null,{"$f":"IF(referentes!W1179=\"\",\"\",referentes!W1179)","v":""},{"$f":"referentes!S1179","v":0},null,1177,0,1290,"X"]
[null,null,null,null,null,null,null,null,null,null,null,null,null,null,null,null,null,null,null,null,null,null,null,null,null,null,null,null,{"$f":"IF(referentes!W1180=\"\",\"\",referentes!W1180)","v":""},{"$f":"referentes!S1180","v":0},null,1178,0,1290,"X"]
[null,null,null,null,null,null,null,null,null,null,null,null,null,null,null,null,null,null,null,null,null,null,null,null,null,null,null,null,{"$f":"IF(referentes!W1181=\"\",\"\",referentes!W1181)","v":""},{"$f":"referentes!S1181","v":0},null,1179,0,1290,"X"]
[null,null,null,null,null,null,null,null,null,null,null,null,null,null,null,null,null,null,null,null,null,null,null,null,null,null,null,null,{"$f":"IF(referentes!W1182=\"\",\"\",referentes!W1182)","v":""},{"$f":"referentes!S1182","v":0},null,1180,0,1290,"X"]
[null,null,null,null,null,null,null,null,null,null,null,null,null,null,null,null,null,null,null,null,null,null,null,null,null,null,null,null,{"$f":"IF(referentes!W1183=\"\",\"\",referentes!W1183)","v":""},{"$f":"referentes!S1183","v":0},null,1181,0,1290,"X"]
[null,null,null,null,null,null,null,null,null,null,null,null,null,null,null,null,null,null,null,null,null,null,null,null,null,null,null,null,{"$f":"IF(referentes!W1184=\"\",\"\",referentes!W1184)","v":""},{"$f":"referentes!S1184","v":0},null,1182,0,1290,"X"]
[null,null,null,null,null,null,null,null,null,null,null,null,null,null,null,null,null,null,null,null,null,null,null,null,null,null,null,null,{"$f":"IF(referentes!W1185=\"\",\"\",referentes!W1185)","v":""},{"$f":"referentes!S1185","v":0},null,1183,0,1290,"X"]
[null,null,null,null,null,null,null,null,null,null,null,null,null,null,null,null,null,null,null,null,null,null,null,null,null,null,null,null,{"$f":"IF(referentes!W1186=\"\",\"\",referentes!W1186)","v":""},{"$f":"referentes!S1186","v":0},null,1184,0,1290,"X"]
[null,null,null,null,null,null,null,null,null,null,null,null,null,null,null,null,null,null,null,null,null,null,null,null,null,null,null,null,{"$f":"IF(referentes!W1187=\"\",\"\",referentes!W1187)","v":""},{"$f":"referentes!S1187","v":0},null,1185,0,1290,"X"]
[null,null,null,null,null,null,null,null,null,null,null,null,null,null,null,null,null,null,null,null,null,null,null,null,null,null,null,null,{"$f":"IF(referentes!W1188=\"\",\"\",referentes!W1188)","v":""},{"$f":"referentes!S1188","v":0},null,1186,0,1290,"X"]
[null,null,null,null,null,null,null,null,null,null,null,null,null,null,null,null,null,null,null,null,null,null,null,null,null,null,null,null,{"$f":"IF(referentes!W1189=\"\",\"\",referentes!W1189)","v":""},{"$f":"referentes!S1189","v":0},null,1187,0,1290,"X"]
[null,null,null,null,null,null,null,null,null,null,null,null,null,null,null,null,null,null,null,null,null,null,null,null,null,null,null,null,{"$f":"IF(referentes!W1190=\"\",\"\",referentes!W1190)","v":""},{"$f":"referentes!S1190","v":0},null,1188,0,1290,"X"]
[null,null,null,null,null,null,null,null,null,null,null,null,null,null,null,null,null,null,null,null,null,null,null,null,null,null,null,null,{"$f":"IF(referentes!W1191=\"\",\"\",referentes!W1191)","v":""},{"$f":"referentes!S1191","v":0},null,1189,0,1290,"X"]
[null,null,null,null,null,null,null,null,null,null,null,null,null,null,null,null,null,null,null,null,null,null,null,null,null,null,null,null,{"$f":"IF(referentes!W1192=\"\",\"\",referentes!W1192)","v":""},{"$f":"referentes!S1192","v":0},null,1190,0,1290,"X"]
[null,null,null,null,null,null,null,null,null,null,null,null,null,null,null,null,null,null,null,null,null,null,null,null,null,null,null,null,{"$f":"IF(referentes!W1193=\"\",\"\",referentes!W1193)","v":""},{"$f":"referentes!S1193","v":0},null,1191,0,1290,"X"]
[null,null,null,null,null,null,null,null,null,null,null,null,null,null,null,null,null,null,null,null,null,null,null,null,null,null,null,null,{"$f":"IF(referentes!W1194=\"\",\"\",referentes!W1194)","v":""},{"$f":"referentes!S1194","v":0},null,1192,0,1290,"X"]
[null,null,null,null,null,null,null,null,null,null,null,null,null,null,null,null,null,null,null,null,null,null,null,null,null,null,null,null,{"$f":"IF(referentes!W1195=\"\",\"\",referentes!W1195)","v":""},{"$f":"referentes!S1195","v":0},null,1193,0,1290,"X"]
[null,null,null,null,null,null,null,null,null,null,null,null,null,null,null,null,null,null,null,null,null,null,null,null,null,null,null,null,{"$f":"IF(referentes!W1196=\"\",\"\",referentes!W1196)","v":""},{"$f":"referentes!S1196","v":0},null,1194,0,1290,"X"]
[null,null,null,null,null,null,null,null,null,null,null,null,null,null,null,null,null,null,null,null,null,null,null,null,null,null,null,null,{"$f":"IF(referentes!W1197=\"\",\"\",referentes!W1197)","v":""},{"$f":"referentes!S1197","v":0},null,1195,0,1290,"X"]
[null,null,null,null,null,null,null,null,null,null,null,null,null,null,null,null,null,null,null,null,null,null,null,null,null,null,null,null,{"$f":"IF(referentes!W1198=\"\",\"\",referentes!W1198)","v":""},{"$f":"referentes!S1198","v":0},null,1196,0,1290,"X"]
[null,null,null,null,null,null,null,null,null,null,null,null,null,null,null,null,null,null,null,null,null,null,null,null,null,null,null,null,{"$f":"IF(referentes!W1199=\"\",\"\",referentes!W1199)","v":""},{"$f":"referentes!S1199","v":0},null,1197,0,1290,"X"]
[null,null,null,null,null,null,null,null,null,null,null,null,null,null,null,null,null,null,null,null,null,null,null,null,null,null,null,null,{"$f":"IF(referentes!W1200=\"\",\"\",referentes!W1200)","v":""},{"$f":"referentes!S1200","v":0},null,1198,0,1290,"X"]
[null,null,null,null,null,null,null,null,null,null,null,null,null,null,null,null,null,null,null,null,null,null,null,null,null,null,null,null,{"$f":"IF(referentes!W1201=\"\",\"\",referentes!W1201)","v":""},{"$f":"referentes!S1201","v":0},null,1199,0,1290,"X"]
[null,null,null,null,null,null,null,null,null,null,null,null,null,null,null,null,null,null,null,null,null,null,null,null,null,null,null,null,{"$f":"IF(referentes!W1202=\"\",\"\",referentes!W1202)","v":""},{"$f":"referentes!S1202","v":0},null,1200,0,1290,"X"]
[null,null,null,null,null,null,null,null,null,null,null,null,null,null,null,null,null,null,null,null,null,null,null,null,null,null,null,null,{"$f":"IF(referentes!W1203=\"\",\"\",referentes!W1203)","v":""},{"$f":"referentes!S1203","v":0},null,1201,0,1290,"X"]
[null,null,null,null,null,null,null,null,null,null,null,null,null,null,null,null,null,null,null,null,null,null,null,null,null,null,null,null,{"$f":"IF(referentes!W1204=\"\",\"\",referentes!W1204)","v":""},{"$f":"referentes!S1204","v":0},null,1202,0,1290,"X"]
[null,null,null,null,null,null,null,null,null,null,null,null,null,null,null,null,null,null,null,null,null,null,null,null,null,null,null,null,{"$f":"IF(referentes!W1205=\"\",\"\",referentes!W1205)","v":""},{"$f":"referentes!S1205","v":0},null,1203,0,1290,"X"]
[null,null,null,null,null,null,null,null,null,null,null,null,null,null,null,null,null,null,null,null,null,null,null,null,null,null,null,null,{"$f":"IF(referentes!W1206=\"\",\"\",referentes!W1206)","v":""},{"$f":"referentes!S1206","v":0},null,1204,0,1290,"X"]
[null,null,null,null,null,null,null,null,null,null,null,null,null,null,null,null,null,null,null,null,null,null,null,null,null,null,null,null,{"$f":"IF(referentes!W1207=\"\",\"\",referentes!W1207)","v":""},{"$f":"referentes!S1207","v":0},null,1205,0,1290,"X"]
[null,null,null,null,null,null,null,null,null,null,null,null,null,null,null,null,null,null,null,null,null,null,null,null,null,null,null,null,{"$f":"IF(referentes!W1208=\"\",\"\",referentes!W1208)","v":""},{"$f":"referentes!S1208","v":0},null,1206,0,1290,"X"]
[null,null,null,null,null,null,null,null,null,null,null,null,null,null,null,null,null,null,null,null,null,null,null,null,null,null,null,null,{"$f":"IF(referentes!W1209=\"\",\"\",referentes!W1209)","v":""},{"$f":"referentes!S1209","v":0},null,1207,0,1290,"X"]
[null,null,null,null,null,null,null,null,null,null,null,null,null,null,null,null,null,null,null,null,null,null,null,null,null,null,null,null,{"$f":"IF(referentes!W1210=\"\",\"\",referentes!W1210)","v":""},{"$f":"referentes!S1210","v":0},null,1208,0,1290,"X"]
[null,null,null,null,null,null,null,null,null,null,null,null,null,null,null,null,null,null,null,null,null,null,null,null,null,null,null,null,{"$f":"IF(referentes!W1211=\"\",\"\",referentes!W1211)","v":""},{"$f":"referentes!S1211","v":0},null,1209,0,1290,"X"]
[null,null,null,null,null,null,null,null,null,null,null,null,null,null,null,null,null,null,null,null,null,null,null,null,null,null,null,null,{"$f":"IF(referentes!W1212=\"\",\"\",referentes!W1212)","v":""},{"$f":"referentes!S1212","v":0},null,1210,0,1290,"X"]
[null,null,null,null,null,null,null,null,null,null,null,null,null,null,null,null,null,null,null,null,null,null,null,null,null,null,null,null,{"$f":"IF(referentes!W1213=\"\",\"\",referentes!W1213)","v":""},{"$f":"referentes!S1213","v":0},null,1211,0,1290,"X"]
[null,null,null,null,null,null,null,null,null,null,null,null,null,null,null,null,null,null,null,null,null,null,null,null,null,null,null,null,{"$f":"IF(referentes!W1214=\"\",\"\",referentes!W1214)","v":""},{"$f":"referentes!S1214","v":0},null,1212,0,1290,"X"]
[null,null,null,null,null,null,null,null,null,null,null,null,null,null,null,null,null,null,null,null,null,null,null,null,null,null,null,null,{"$f":"IF(referentes!W1215=\"\",\"\",referentes!W1215)","v":""},{"$f":"referentes!S1215","v":0},null,1213,0,1290,"X"]
[null,null,null,null,null,null,null,null,null,null,null,null,null,null,null,null,null,null,null,null,null,null,null,null,null,null,null,null,{"$f":"IF(referentes!W1216=\"\",\"\",referentes!W1216)","v":""},{"$f":"referentes!S1216","v":0},null,1214,0,1290,"X"]
[null,null,null,null,null,null,null,null,null,null,null,null,null,null,null,null,null,null,null,null,null,null,null,null,null,null,null,null,{"$f":"IF(referentes!W1217=\"\",\"\",referentes!W1217)","v":""},{"$f":"referentes!S1217","v":0},null,1215,0,1290,"X"]
[null,null,null,null,null,null,null,null,null,null,null,null,null,null,null,null,null,null,null,null,null,null,null,null,null,null,null,null,{"$f":"IF(referentes!W1218=\"\",\"\",referentes!W1218)","v":""},{"$f":"referentes!S1218","v":0},null,1216,0,1290,"X"]
[null,null,null,null,null,null,null,null,null,null,null,null,null,null,null,null,null,null,null,null,null,null,null,null,null,null,null,null,{"$f":"IF(referentes!W1219=\"\",\"\",referentes!W1219)","v":""},{"$f":"referentes!S1219","v":0},null,1217,0,1290,"X"]
[null,null,null,null,null,null,null,null,null,null,null,null,null,null,null,null,null,null,null,null,null,null,null,null,null,null,null,null,{"$f":"IF(referentes!W1220=\"\",\"\",referentes!W1220)","v":""},{"$f":"referentes!S1220","v":0},null,1218,{"$f":"IF(AC1222=\"\",0,AC1222)","v":0},{"$f":"IF(AG1223=0,MAX($AF$6:$AF$1294)+1,AF1223)","v":1290},{"$f":"IFERROR(VLOOKUP(SMALL($AH$6:$AH$1294,AF1223),$AF$6:$AH$1294,2,FALSE),\"X\")","v":"X"}]
[null,null,null,null,null,null,null,null,null,null,null,null,null,null,null,null,null,null,null,null,null,null,null,null,null,null,null,null,{"$f":"IF(referentes!W1221=\"\",\"\",referentes!W1221)","v":""},{"$f":"referentes!S1221","v":0},null,1219,0,1290,"X"]
[null,null,null,null,null,null,null,null,null,null,null,null,null,null,null,null,null,null,null,null,null,null,null,null,null,null,null,null,{"$f":"IF(referentes!W1222=\"\",\"\",referentes!W1222)","v":""},{"$f":"referentes!S1222","v":0},null,1220,0,1290,"X"]
[null,null,null,null,null,null,null,null,null,null,null,null,null,null,null,null,null,null,null,null,null,null,null,null,null,null,null,null,{"$f":"IF(referentes!W1223=\"\",\"\",referentes!W1223)","v":""},{"$f":"referentes!S1223","v":0},null,1221,0,1290,"X"]
[null,null,null,null,null,null,null,null,null,null,null,null,null,null,null,null,null,null,null,null,null,null,null,null,null,null,null,null,{"$f":"IF(referentes!W1224=\"\",\"\",referentes!W1224)","v":""},{"$f":"referentes!S1224","v":0},null,1222,0,1290,"X"]
[null,null,null,null,null,null,null,null,null,null,null,null,null,null,null,null,null,null,null,null,null,null,null,null,null,null,null,null,{"$f":"IF(referentes!W1225=\"\",\"\",referentes!W1225)","v":""},{"$f":"referentes!S1225","v":0},null,1223,0,1290,"X"]
[null,null,null,null,null,null,null,null,null,null,null,null,null,null,null,null,null,null,null,null,null,null,null,null,null,null,null,null,{"$f":"IF(referentes!W1226=\"\",\"\",referentes!W1226)","v":""},{"$f":"referentes!S1226","v":0},null,1224,0,1290,"X"]
[null,null,null,null,null,null,null,null,null,null,null,null,null,null,null,null,null,null,null,null,null,null,null,null,null,null,null,null,{"$f":"IF(referentes!W1227=\"\",\"\",referentes!W1227)","v":""},{"$f":"referentes!S1227","v":0},null,1225,0,1290,"X"]
[null,null,null,null,null,null,null,null,null,null,null,null,null,null,null,null,null,null,null,null,null,null,null,null,null,null,null,null,{"$f":"IF(referentes!W1228=\"\",\"\",referentes!W1228)","v":""},{"$f":"referentes!S1228","v":0},null,1226,0,1290,"X"]
[null,null,null,null,null,null,null,null,null,null,null,null,null,null,null,null,null,null,null,null,null,null,null,null,null,null,null,null,{"$f":"IF(referentes!W1229=\"\",\"\",referentes!W1229)","v":""},{"$f":"referentes!S1229","v":0},null,1227,0,1290,"X"]
[null,null,null,null,null,null,null,null,null,null,null,null,null,null,null,null,null,null,null,null,null,null,null,null,null,null,null,null,{"$f":"IF(referentes!W1230=\"\",\"\",referentes!W1230)","v":""},{"$f":"referentes!S1230","v":0},null,1228,0,1290,"X"]
[null,null,null,null,null,null,null,null,null,null,null,null,null,null,null,null,null,null,null,null,null,null,null,null,null,null,null,null,{"$f":"IF(referentes!W1231=\"\",\"\",referentes!W1231)","v":""},{"$f":"referentes!S1231","v":0},null,1229,0,1290,"X"]
[null,null,null,null,null,null,null,null,null,null,null,null,null,null,null,null,null,null,null,null,null,null,null,null,null,null,null,null,{"$f":"IF(referentes!W1232=\"\",\"\",referentes!W1232)","v":""},{"$f":"referentes!S1232","v":0},null,1230,0,1290,"X"]
[null,null,null,null,null,null,null,null,null,null,null,null,null,null,null,null,null,null,null,null,null,null,null,null,null,null,null,null,{"$f":"IF(referentes!W1233=\"\",\"\",referentes!W1233)","v":""},{"$f":"referentes!S1233","v":0},null,1231,0,1290,"X"]
[null,null,null,null,null,null,null,null,null,null,null,null,null,null,null,null,null,null,null,null,null,null,null,null,null,null,null,null,{"$f":"IF(referentes!W1234=\"\",\"\",referentes!W1234)","v":""},{"$f":"referentes!S1234","v":0},null,1232,0,1290,"X"]
[null,null,null,null,null,null,null,null,null,null,null,null,null,null,null,null,null,null,null,null,null,null,null,null,null,null,null,null,{"$f":"IF(referentes!W1235=\"\",\"\",referentes!W1235)","v":""},{"$f":"referentes!S1235","v":0},null,1233,0,1290,"X"]
[null,null,null,null,null,null,null,null,null,null,null,null,null,null,null,null,null,null,null,null,null,null,null,null,null,null,null,null,{"$f":"IF(referentes!W1236=\"\",\"\",referentes!W1236)","v":""},{"$f":"referentes!S1236","v":0},null,1234,0,1290,"X"]
[null,null,null,null,null,null,null,null,null,null,null,null,null,null,null,null,null,null,null,null,null,null,null,null,null,null,null,null,{"$f":"IF(referentes!W1237=\"\",\"\",referentes!W1237)","v":""},{"$f":"referentes!S1237","v":0},null,1235,0,1290,"X"]
[null,null,null,null,null,null,null,null,null,null,null,null,null,null,null,null,null,null,null,null,null,null,null,null,null,null,null,null,{"$f":"IF(referentes!W1238=\"\",\"\",referentes!W1238)","v":""},{"$f":"referentes!S1238","v":0},null,1236,0,1290,"X"]
[null,null,null,null,null,null,null,null,null,null,null,null,null,null,null,null,null,null,null,null,null,null,null,null,null,null,null,null,{"$f":"IF(referentes!W1239=\"\",\"\",referentes!W1239)","v":""},{"$f":"referentes!S1239","v":0},null,1237,0,1290,"X"]
[null,null,null,null,null,null,null,null,null,null,null,null,null,null,null,null,null,null,null,null,null,null,null,null,null,null,null,null,{"$f":"IF(referentes!W1240=\"\",\"\",referentes!W1240)","v":""},{"$f":"referentes!S1240","v":0},null,1238,0,1290,"X"]
[null,null,null,null,null,null,null,null,null,null,null,null,null,null,null,null,null,null,null,null,null,null,null,null,null,null,null,null,{"$f":"IF(referentes!W1241=\"\",\"\",referentes!W1241)","v":""},{"$f":"referentes!S1241","v":0},null,1239,0,1290,"X"]
[null,null,null,null,null,null,null,null,null,null,null,null,null,null,null,null,null,null,null,null,null,null,null,null,null,null,null,null,{"$f":"IF(referentes!W1242=\"\",\"\",referentes!W1242)","v":""},{"$f":"referentes!S1242","v":0},null,1240,0,1290,"X"]
[null,null,null,null,null,null,null,null,null,null,null,null,null,null,null,null,null,null,null,null,null,null,null,null,null,null,null,null,{"$f":"IF(referentes!W1243=\"\",\"\",referentes!W1243)","v":""},{"$f":"referentes!S1243","v":0},null,1241,0,1290,"X"]
[null,null,null,null,null,null,null,null,null,null,null,null,null,null,null,null,null,null,null,null,null,null,null,null,null,null,null,null,{"$f":"IF(referentes!W1244=\"\",\"\",referentes!W1244)","v":""},{"$f":"referentes!S1244","v":0},null,1242,0,1290,"X"]
[null,null,null,null,null,null,null,null,null,null,null,null,null,null,null,null,null,null,null,null,null,null,null,null,null,null,null,null,{"$f":"IF(referentes!W1245=\"\",\"\",referentes!W1245)","v":""},{"$f":"referentes!S1245","v":0},null,1243,0,1290,"X"]
[null,null,null,null,null,null,null,null,null,null,null,null,null,null,null,null,null,null,null,null,null,null,null,null,null,null,null,null,{"$f":"IF(referentes!W1246=\"\",\"\",referentes!W1246)","v":""},{"$f":"referentes!S1246","v":0},null,1244,0,1290,"X"]
[null,null,null,null,null,null,null,null,null,null,null,null,null,null,null,null,null,null,null,null,null,null,null,null,null,null,null,null,{"$f":"IF(referentes!W1247=\"\",\"\",referentes!W1247)","v":""},{"$f":"referentes!S1247","v":0},null,1245,0,1290,"X"]
[null,null,null,null,null,null,null,null,null,null,null,null,null,null,null,null,null,null,null,null,null,null,null,null,null,null,null,null,{"$f":"IF(referentes!W1248=\"\",\"\",referentes!W1248)","v":""},{"$f":"referentes!S1248","v":0},null,1246,0,1290,"X"]
[null,null,null,null,null,null,null,null,null,null,null,null,null,null,null,null,null,null,null,null,null,null,null,null,null,null,null,null,{"$f":"IF(referentes!W1249=\"\",\"\",referentes!W1249)","v":""},{"$f":"referentes!S1249","v":0},null,1247,0,1290,"X"]
[null,null,null,null,null,null,null,null,null,null,null,null,null,null,null,null,null,null,null,null,null,null,null,null,null,null,null,null,{"$f":"IF(referentes!W1250=\"\",\"\",referentes!W1250)","v":""},{"$f":"referentes!S1250","v":0},null,1248,0,1290,"X"]
[null,null,null,null,null,null,null,null,null,null,null,null,null,null,null,null,null,null,null,null,null,null,null,null,null,null,null,null,{"$f":"IF(referentes!W1251=\"\",\"\",referentes!W1251)","v":""},{"$f":"referentes!S1251","v":0},null,1249,0,1290,"X"]
[null,null,null,null,null,null,null,null,null,null,null,null,null,null,null,null,null,null,null,null,null,null,null,null,null,null,null,null,{"$f":"IF(referentes!W1252=\"\",\"\",referentes!W1252)","v":""},{"$f":"referentes!S1252","v":0},null,1250,0,1290,"X"]
[null,null,null,null,null,null,null,null,null,null,null,null,null,null,null,null,null,null,null,null,null,null,null,null,null,null,null,null,{"$f":"IF(referentes!W1253=\"\",\"\",referentes!W1253)","v":""},{"$f":"referentes!S1253","v":0},null,1251,0,1290,"X"]
[null,null,null,null,null,null,null,null,null,null,null,null,null,null,null,null,null,null,null,null,null,null,null,null,null,null,null,null,{"$f":"IF(referentes!W1254=\"\",\"\",referentes!W1254)","v":""},{"$f":"referentes!S1254","v":0},null,1252,0,1290,"X"]
[null,null,null,null,null,null,null,null,null,null,null,null,null,null,null,null,null,null,null,null,null,null,null,null,null,null,null,null,{"$f":"IF(referentes!W1255=\"\",\"\",referentes!W1255)","v":""},{"$f":"referentes!S1255","v":0},null,1253,0,1290,"X"]
[null,null,null,null,null,null,null,null,null,null,null,null,null,null,null,null,null,null,null,null,null,null,null,null,null,null,null,null,{"$f":"IF(referentes!W1256=\"\",\"\",referentes!W1256)","v":""},{"$f":"referentes!S1256","v":0},null,1254,0,1290,"X"]
[null,null,null,null,null,null,null,null,null,null,null,null,null,null,null,null,null,null,null,null,null,null,null,null,null,null,null,null,{"$f":"IF(referentes!W1257=\"\",\"\",referentes!W1257)","v":""},{"$f":"referentes!S1257","v":0},null,1255,0,1290,"X"]
[null,null,null,null,null,null,null,null,null,null,null,null,null,null,null,null,null,null,null,null,null,null,null,null,null,null,null,null,{"$f":"IF(referentes!W1258=\"\",\"\",referentes!W1258)","v":""},{"$f":"referentes!S1258","v":0},null,1256,0,1290,"X"]
[null,null,null,null,null,null,null,null,null,null,null,null,null,null,null,null,null,null,null,null,null,null,null,null,null,null,null,null,{"$f":"IF(referentes!W1259=\"\",\"\",referentes!W1259)","v":""},{"$f":"referentes!S1259","v":0},null,1257,0,1290,"X"]
[null,null,null,null,null,null,null,null,null,null,null,null,null,null,null,null,null,null,null,null,null,null,null,null,null,null,null,null,{"$f":"IF(referentes!W1260=\"\",\"\",referentes!W1260)","v":""},{"$f":"referentes!S1260","v":0},null,1258,0,1290,"X"]
[null,null,null,null,null,null,null,null,null,null,null,null,null,null,null,null,null,null,null,null,null,null,null,null,null,null,null,null,{"$f":"IF(referentes!W1261=\"\",\"\",referentes!W1261)","v":""},{"$f":"referentes!S1261","v":0},null,1259,0,1290,"X"]
[null,null,null,null,null,null,null,null,null,null,null,null,null,null,null,null,null,null,null,null,null,null,null,null,null,null,null,null,{"$f":"IF(referentes!W1262=\"\",\"\",referentes!W1262)","v":""},{"$f":"referentes!S1262","v":0},null,1260,0,1290,"X"]
[null,null,null,null,null,null,null,null,null,null,null,null,null,null,null,null,null,null,null,null,null,null,null,null,null,null,null,null,{"$f":"IF(referentes!W1263=\"\",\"\",referentes!W1263)","v":""},{"$f":"referentes!S1263","v":0},null,1261,0,1290,"X"]
[null,null,null,null,null,null,null,null,null,null,null,null,null,null,null,null,null,null,null,null,null,null,null,null,null,null,null,null,{"$f":"IF(referentes!W1264=\"\",\"\",referentes!W1264)","v":""},{"$f":"referentes!S1264","v":0},null,1262,0,1290,"X"]
[null,null,null,null,null,null,null,null,null,null,null,null,null,null,null,null,null,null,null,null,null,null,null,null,null,null,null,null,{"$f":"IF(referentes!W1265=\"\",\"\",referentes!W1265)","v":""},{"$f":"referentes!S1265","v":0},null,1263,0,1290,"X"]
[null,null,null,null,null,null,null,null,null,null,null,null,null,null,null,null,null,null,null,null,null,null,null,null,null,null,null,null,{"$f":"IF(referentes!W1266=\"\",\"\",referentes!W1266)","v":""},{"$f":"referentes!S1266","v":0},null,1264,0,1290,"X"]
[null,null,null,null,null,null,null,null,null,null,null,null,null,null,null,null,null,null,null,null,null,null,null,null,null,null,null,null,{"$f":"IF(referentes!W1267=\"\",\"\",referentes!W1267)","v":""},{"$f":"referentes!S1267","v":0},null,1265,0,1290,"X"]
[null,null,null,null,null,null,null,null,null,null,null,null,null,null,null,null,null,null,null,null,null,null,null,null,null,null,null,null,{"$f":"IF(referentes!W1268=\"\",\"\",referentes!W1268)","v":""},{"$f":"referentes!S1268","v":0},null,1266,0,1290,"X"]
[null,null,null,null,null,null,null,null,null,null,null,null,null,null,null,null,null,null,null,null,null,null,null,null,null,null,null,null,{"$f":"IF(referentes!W1269=\"\",\"\",referentes!W1269)","v":""},{"$f":"referentes!S1269","v":0},null,1267,0,1290,"X"]
[null,null,null,null,null,null,null,null,null,null,null,null,null,null,null,null,null,null,null,null,null,null,null,null,null,null,null,null,{"$f":"IF(referentes!W1270=\"\",\"\",referentes!W1270)","v":""},{"$f":"referentes!S1270","v":0},null,1268,0,1290,"X"]
[null,null,null,null,null,null,null,null,null,null,null,null,null,null,null,null,null,null,null,null,null,null,null,null,null,null,null,null,{"$f":"IF(referentes!W1271=\"\",\"\",referentes!W1271)","v":""},{"$f":"referentes!S1271","v":0},null,1269,0,1290,"X"]
[null,null,null,null,null,null,null,null,null,null,null,null,null,null,null,null,null,null,null,null,null,null,null,null,null,null,null,null,{"$f":"IF(referentes!W1272=\"\",\"\",referentes!W1272)","v":""},{"$f":"referentes!S1272","v":0},null,1270,0,1290,"X"]
[null,null,null,null,null,null,null,null,null,null,null,null,null,null,null,null,null,null,null,null,null,null,null,null,null,null,null,null,{"$f":"IF(referentes!W1273=\"\",\"\",referentes!W1273)","v":""},{"$f":"referentes!S1273","v":0},null,1271,0,1290,"X"]
[null,null,null,null,null,null,null,null,null,null,null,null,null,null,null,null,null,null,null,null,null,null,null,null,null,null,null,null,{"$f":"IF(referentes!W1274=\"\",\"\",referentes!W1274)","v":""},{"$f":"referentes!S1274","v":0},null,1272,0,1290,"X"]
[null,null,null,null,null,null,null,null,null,null,null,null,null,null,null,null,null,null,null,null,null,null,null,null,null,null,null,null,{"$f":"IF(referentes!W1275=\"\",\"\",referentes!W1275)","v":""},{"$f":"referentes!S1275","v":0},null,1273,0,1290,"X"]
[null,null,null,null,null,null,null,null,null,null,null,null,null,null,null,null,null,null,null,null,null,null,null,null,null,null,null,null,{"$f":"IF(referentes!W1276=\"\",\"\",referentes!W1276)","v":""},{"$f":"referentes!S1276","v":0},null,1274,0,1290,"X"]
[null,null,null,null,null,null,null,null,null,null,null,null,null,null,null,null,null,null,null,null,null,null,null,null,null,null,null,null,{"$f":"IF(referentes!W1277=\"\",\"\",referentes!W1277)","v":""},{"$f":"referentes!S1277","v":0},null,1275,0,1290,"X"]
[null,null,null,null,null,null,null,null,null,null,null,null,null,null,null,null,null,null,null,null,null,null,null,null,null,null,null,null,{"$f":"IF(referentes!W1278=\"\",\"\",referentes!W1278)","v":""},{"$f":"referentes!S1278","v":0},null,1276,0,1290,"X"]
[null,null,null,null,null,null,null,null,null,null,null,null,null,null,null,null,null,null,null,null,null,null,null,null,null,null,null,null,{"$f":"IF(referentes!W1279=\"\",\"\",referentes!W1279)","v":""},{"$f":"referentes!S1279","v":0},null,1277,0,1290,"X"]
[null,null,null,null,null,null,null,null,null,null,null,null,null,null,null,null,null,null,null,null,null,null,null,null,null,null,null,null,{"$f":"IF(referentes!W1280=\"\",\"\",referentes!W1280)","v":""},{"$f":"referentes!S1280","v":0},null,1278,0,1290,"X"]
[null,null,null,null,null,null,null,null,null,null,null,null,null,null,null,null,null,null,null,null,null,null,null,null,null,null,null,null,{"$f":"IF(referentes!W1281=\"\",\"\",referentes!W1281)","v":""},{"$f":"referentes!S1281","v":0},null,1279,0,1290,"X"]
[null,null,null,null,null,null,null,null,null,null,null,null,null,null,null,null,null,null,null,null,null,null,null,null,null,null,null,null,{"$f":"IF(referentes!W1282=\"\",\"\",referentes!W1282)","v":""},{"$f":"referentes!S1282","v":0},null,1280,0,1290,"X"]
[null,null,null,null,null,null,null,null,null,null,null,null,null,null,null,null,null,null,null,null,null,null,null,null,null,null,null,null,{"$f":"IF(referentes!W1283=\"\",\"\",referentes!W1283)","v":""},{"$f":"referentes!S1283","v":0},null,1281,0,1290,"X"]
[null,null,null,null,null,null,null,null,null,null,null,null,null,null,null,null,null,null,null,null,null,null,null,null,null,null,null,null,{"$f":"IF(referentes!W1284=\"\",\"\",referentes!W1284)","v":""},{"$f":"referentes!S1284","v":0},null,1282,{"$f":"IF(AC1286=\"\",0,AC1286)","v":0},{"$f":"IF(AG1287=0,MAX($AF$6:$AF$1294)+1,AF1287)","v":1290},{"$f":"IFERROR(VLOOKUP(SMALL($AH$6:$AH$1294,AF1287),$AF$6:$AH$1294,2,FALSE),\"X\")","v":"X"}]
[null,null,null,null,null,null,null,null,null,null,null,null,null,null,null,null,null,null,null,null,null,null,null,null,null,null,null,null,{"$f":"IF(referentes!W1285=\"\",\"\",referentes!W1285)","v":""},{"$f":"referentes!S1285","v":0},null,1283,0,1290,"X"]
[null,null,null,null,null,null,null,null,null,null,null,null,null,null,null,null,null,null,null,null,null,null,null,null,null,null,null,null,{"$f":"IF(referentes!W1286=\"\",\"\",referentes!W1286)","v":""},{"$f":"referentes!S1286","v":0},null,1284,0,1290,"X"]
[null,null,null,null,null,null,null,null,null,null,null,null,null,null,null,null,null,null,null,null,null,null,null,null,null,null,null,null,{"$f":"IF(referentes!W1287=\"\",\"\",referentes!W1287)","v":""},{"$f":"referentes!S1287","v":0},null,1285,0,1290,"X"]
[null,null,null,null,null,null,null,null,null,null,null,null,null,null,null,null,null,null,null,null,null,null,null,null,null,null,null,null,{"$f":"IF(referentes!W1288=\"\",\"\",referentes!W1288)","v":""},{"$f":"referentes!S1288","v":0},null,1286,0,1290,"X"]
[null,null,null,null,null,null,null,null,null,null,null,null,null,null,null,null,null,null,null,null,null,null,null,null,null,null,null,null,{"$f":"IF(referentes!W1289=\"\",\"\",referentes!W1289)","v":""},{"$f":"referentes!S1289","v":0},null,1287,0,1290,"X"]
[null,null,null,null,null,null,null,null,null,null,null,null,null,null,null,null,null,null,null,null,null,null,null,null,null,null,null,null,{"$f":"IF(referentes!W1290=\"\",\"\",referentes!W1290)","v":""},{"$f":"referentes!S1290","v":0},null,1288,0,1290,"X"]
[null,null,null,null,null,null,null,null,null,null,null,null,null,null,null,null,null,null,null,null,null,null,null,null,null,null,null,null,{"$f":"IF(referentes!W1291=\"\",\"\",referentes!W1291)","v":""},{"$f":"referentes!S1291","v":0},null,1289,0,1290,"X"]
[null,null,null,null,null,null,null,null,null,null,null,null,null,null,null,null,null,null,null,null,null,null,null,null,null,null,null,null,{"$f":"IF(referentes!W1292=\"\",\"\",referentes!W1292)","v":""},{"$f":"referentes!S1292","v":0},null,1290,0,1290,"X"]
[null,null,null,null,null,null,null,null,null,null,null,null,null,null,null,null,null,null,null,null,null,null,null,null,null,null,null,null,{"$f":"IF(referentes!W1293=\"\",\"\",referentes!W1293)","v":""},{"$f":"referentes!S1293","v":0},null,1291,0,1290,"X"]
[null,null,null,null,null,null,null,null,null,null,null,null,null,null,null,null,null,null,null,null,null,null,null,null,null,null,null,null,{"$f":"IF(referentes!W1294=\"\",\"\",referentes!W1294)","v":""},{"$f":"referentes!S1294","v":0},null,1292,0,1290,"X"]
[null,null,null,null,null,null,null,null,null,null,null,null,null,null,null,null,null,null,null,null,null,null,null,null,null,null,null,null,{"$f":"IF(referentes!W1295=\"\",\"\",referentes!W1295)","v":""},{"$f":"referentes!S1295","v":0},null,1293,0,1290,"X"]
[null,null,null,null,null,null,null,null,null,null,null,null,null,null,null,null,null,null,null,null,null,null,null,null,null,null,null,null,{"$f":"IF(referentes!W1296=\"\",\"\",referentes!W1296)","v":""},{"$f":"referentes!S1296","v":0},null,1294,0,1290,"X"]

{"sheet":"AGD_MUESTREOS","index":6,"n_rows":0,"n_cols":0,"rows_kept":0,"cut":false,"hidden":true,"merged":[]}

{"sheet":"AGD_PARAMETRO","index":7,"n_rows":0,"n_cols":0,"rows_kept":0,"cut":false,"hidden":true,"merged":[]}

{"sheet":"AGD_MUESTRAS","index":8,"n_rows":0,"n_cols":0,"rows_kept":0,"cut":false,"hidden":true,"merged":[]}

{"sheet":"AGD_MUESTRAS_VARIABLES","index":9,"n_rows":0,"n_cols":0,"rows_kept":0,"cut":false,"hidden":true,"merged":[]}

{"sheet":"AGD_AUTORIAS","index":10,"n_rows":0,"n_cols":0,"rows_kept":0,"cut":false,"hidden":true,"merged":[]}