{"text_format":"1","workbook":"xlsx","n_sheets":12,"sheets":["Registro de cambios","configuracion","DIGITADOR","DATOS","Otras referencias","referentes","referentes_original","AGD_MUESTREOS","AGD_PARAMETRO","AGD_MUESTRAS","AGD_MUESTRAS_VARIABLES","AGD_AUTORIAS"],"not_rendered":{"charts":0,"images":0,"macros":1,"external_links":1,"defined_names":35,"comments":1,"pivot_tables":0},"unopened":[],"bounds":{"document_bytes":16777216,"sheet_cells":100000,"rows_first":2000,"rows_last":500,"rows_between":2000,"halvings":0,"cell_chars":16384,"cell_head_chars":4096},"cells_cut":0,"cells_raw":0,"read":"whole","date_system":"1900"}

{"sheet":"Registro de cambios","index":0,"n_rows":21,"n_cols":7,"rows_kept":21,"cut":false,"hidden":true,"merged":[[2,3,2,6]]}
[]
[]
[null,null,null,"REGISTRO DE CAMBIOS"]
[null,null,null,"VERSIÓN No.","CAMBIO REALIZADO",null,"VIGENTE DESDE"]
[null,null,null,"20240930i","Actualización del código de la macro\nSe eliminó la URL de la antigua API de Portete: http://portete.invemar.org.co:7003/ArgosWebServices-RESTWebService-context-root/rest/1.0\n\nEsta fue reemplazada por la nueva URL de la API de ARGOS: https://argos.invemar.org.co/api/\n\nLa API actual proporciona Endpoints que permiten un mayor control y facilitan la descarga de datos relevantes, como listas de usuarios, estaciones, especies, entre otros, filtradas según criterios específicos, como el proyecto utilizado en la plantilla. Esto evita la descarga de información innecesaria.\n\nAdemás, la API permite la carga de información directamente en la base de datos del INVEMAR.\n\nLa macro extrae los Endpoints desde la hoja \"Configuración\", a través de una tabla denominada \"Configuración referentes\", en la que se pueden modificar o agregar nuevas rutas de la API. Cabe destacar que también es posible \"quemar\" directamente los Endpoints dentro de la macro cuando sea necesario.                                                                                                                                               Para asegurar que recibieran los datos correctos de las celdas correspondientes. También se incorporaron nuevos campos en la hoja \"Digitador\" y se ajustaron las fórmulas en la hoja \"Datos\" para garantizar la correcta manipulación y procesamiento de la información.","Juan Muñoz","2024-09-30"]
[null,null,null,"20230904i","1) Se modifico la regla para generar el ID_MUESTREO, antes se tenia en cuenta la fecha del monitoreo , ahora se tiene en cuenta es el COD_PARCELA del monitoreo.\n2) Se agrego un nuevo boton \"Validar Datos\" en la hoja DIGITADOR , para asi validar que ningun campo quede vacio antes de cargar los datos.",null,"2023-09-04"]
[null,null,null,"20220927i","1) Se modificó en la hoja Datos  la celda TIPO COD , agregando una lista desplegable   para generar automaticamente el valor.\n2) Se modificó la formula de subparcelas muestreadas que se encuentra en la hoja Digitador y se agrego un nuevo referente a la variable altura de la hoja Datos\n \n",null,"2022-09-27"]
[null,null,null,"20220804i","Se modifico que algunos campos fueran obligatorios y se le agrego a algunos ID lista despelgable , para generar un nombre automatico.",null,"2022-08-04"]
[null,null,null,"20220510i","Actualizacion de estaciones/parcelas",null,"2022-05-10"]
[null,null,null,"20220502i","se ordenaron los referentes de geograficos, se mapeo el proyecto financiador, por defecto todas las plantillas de sigma guardan sus datos al 2239",null,"2022-05-02"]
[null,null,null,"20220204i","cambio en el endpoint de newreferentes devsiam->argos",null,"2022-02-04"]
[null,null,null,"20211108m","Listas de validacion en hoja de DATOS",null,"2021-11-09"]
[null,null,null,"20210817m","Corrección de formato de hoja de DATOS",null,"2021-08-17"]
[null,null,null,"20201230m","Correcciónes agregar botones ocultos",null,"2021-01-01"]
[null,null,null,"20200130i","Para trazabilididad la hoja se incluye el nombre del archivo fuente y la posibilidad de anotar el DOI principal del metadato\nPor usabilidad las pestañas que son de interes para el usuario son las verdes\nSi se define mas de un proyecto los referentes de estaciones e investigadores se descargan consecutivo en las mismas columnas\nSe controla la versión para la plantilla mediante comparación dato en AGLOV de la BD.",null,"2020-01-30"]
[null,null,null,"20190211m","Se modifica el texto de recomendaciones generales en la hoja de \"DIGITADOR\".",null,"2019-02-11"]
[null,null,null,"20190117i","Se agrega el botón \"Administrador\" y se ocultan los botones \"Generar tablas\" y \"Cargar datos\" en la hoja de \"DIGITADOR\". \nSe elimina la columna \"Hora\" de la hoja \"DATOS\".",null,"2019-01-17"]
[null,null,null,"20190114i","Se agrega el título a los referenetes en la hoja \"referentes\".\nSe modifica la información de contacto en la hoja de \"DIGITADOR\".\nSe elimina el botón \"Detectar muestras repetidas\" de la hoja de \"DATOS\" a solicitud de la administradora del sistema.",null,"2019-01-14"]
[null,null,null,"20180809m","Se actualizan algunos campos a petición de los usuarios",null,"2018-08-09"]
[null,null,null,"20180801m","Modificaciones para nuevo Argos",null,"2018-08-01"]
[null,null,null,"20180413i","Se modifica la generación de los ID de muestreo y se agrega macro que genera número aleatorio en la hoja DIGITADOR.",null,"2018-04-13"]

{"sheet":"configuracion","index":1,"n_rows":71,"n_cols":11,"rows_kept":71,"cut":false,"hidden":true,"merged":[[61,0,61,2],[28,0,35,0],[37,0,42,0],[45,0,45,1],[0,0,2,0],[3,0,5,0],[7,0,8,0],[9,0,15,0],[17,0,21,0],[23,0,26,0]]}
["general","urlServicio","https://argos.invemar.org.co/api/"]
[null,"fila de inicio",3]
[null,"fila de fin",503]
["metodologias","Metodologias",3]
[null,"Referentes",3]
[null,"Cantidad maxima de referentes ",200]
["estaciones/investigadores","proyectos",3572]
["Lista especies","metodologias",3]
[null,"proyectos",3572]
["MUESTREOS","ID_MUESTREO","DATOS,B"]
[null,"ID_ESTACION","DATOS,L"]
[null,"ID_PROYECTO",3572]
[null,"ID_METODOLOGIA",3]
[null,"ID_TEMATICAS",224]
[null,"FECHA","DATOS,I"]
[null,"NOTAS","DIGITADOR,B,28"]
[null,"cantidad",503]
["parametro muestreo","ID_MUESTREO","DATOS,B","DATOS,B","DATOS,B","DATOS,B","DATOS,B","DATOS,B"]
[null,"ID_PARAMETRO",901,860,1055,1169,1170,127]
[null,"ID_METODOLOGIA",3,3,3,3,3,3]
[null,"ID_UNIDAD_MEDIDA",100,109,100,100,100,100]
[null,"VALOR","DIGITADOR,B,16","DIGITADOR,B,17","DIGITADOR,B,7","DIGITADOR,B,14","DIGITADOR,B,13","DIGITADOR,B,11"]
[null,"cantidad",503,503,503,503,503,503]
["muestra","ID_MUESTRA","DATOS,D"]
[null,"ID_MUESTREO","DATOS,F"]
[null,"NOTAS","DATOS,N"]
[null,"ES_REPLICA",1]
[null,"cantidad",503]
["muestra variable","ID_PARAMETRO",250,585,249,282,252,281,270,372,263]
[null,"ID_METODOLOGIA",3,3,3,3,3,3,3,3,3]
[null,"ID_UNIDAD_MEDIDA",100,100,100,100,100,100,11,10,10]
[null,"ID_MUESTRA","DATOS,D","DATOS,D","DATOS,D","DATOS,D","DATOS,D","DATOS,D","DATOS,D","DATOS,D","DATOS,D"]
[null,"ID_METODO",null,null,null,null,null,null,"DATOS,Y","DATOS,AC","DATOS,AC"]
[null,"VALOR","DATOS,M","DATOS,P","DATOS,R","DATOS,S","DATOS,T","DATOS,AI","DATOS,X","DATOS,AA","DATOS,AB"]
[null,"QUALITY_FLAG"]
[null,"PRECISION"]
[null,"cantidad",503,503,503,503,503,503,503,503,503]
["autoria","ID_FUNCIONARIO","DIGITADOR,B,2","DIGITADOR,B,20","DIGITADOR,B,22","DIGITADOR,B,24"]
[null,"ID_TAREA",5,"DIGITADOR,A,20","DIGITADOR,A,22","DIGITADOR,A,24"]
[null,"ORDEN",1,2,3,4]
[null,"FECHA","DIGITADOR,B,9","DATOS,I","DATOS,I","DATOS,I"]
[null,"ID_MUESTREO","DATOS,B","DATOS,B","DATOS,B","DATOS,B"]
[null,"ENTIDAD","DIGITADOR,B,6","DIGITADOR,B,6","DIGITADOR,B,6","DIGITADOR,B,6"]
[null,"cantidad",503,503,503,503]
[]
["REGISTROS GENERADOS",null,"REGISTROS CARGADOS",null,"ID_PARAMETRO","ID_UNIDAD_MEDIDA","NOMBRE_COLUMNA"]
["MUESTREOS",null,null,null,127,100,"PROYECTO_FINANCIO"]
["parametro muestreo",null,null,null,249,100,"ID_ARBOL"]
["muestra",null,null,null,250,100,"SUBPARCELA"]
["muestra variable",null,null,null,252,100,"ESTADO"]
["autoria",null,null,null,263,10,"DAP"]
["registros correctos",null,null,null,270,11,"ALTURA"]
["Fecha de carga",null,null,null,281,100,"TIPO"]
["json error",null,null,null,282,100,"TAG_ARBOL"]
["error",null,null,null,372,10,"CAP"]
[null,null,null,null,585,100,"ESPECIE"]
[null,null,null,null,860,109,"AREA_SUBPARCELA"]
["Atributo","Descripción","Código",null,901,100,"NUM_SUBPARCELAS"]
["Tipo Nodo","Estaciones",{"$f":"VLOOKUP($B$59,'Otras referencias'!D23:F33,2,FALSE)","v":40},null,1055,100,"VERSION_PLANTILLA"]
[null,null,null,null,1169,100,"URL_METADATO"]
[null,null,null,null,1170,100,"ARCHIVO_FUENTE"]
["CONFIGURACION REFERENTES"]
["Ruta de la API","Endpoint","Descripción"]
["URL - AGM Campo",{"$f":"CONCATENATE(\"parametros/agmcampo/\",$C$4,\"\")","v":"parametros/agmcampo/3"},"Listado de referentes AGM_CAMPO"]
["URL - Especies",{"$f":"IF($C$8=\"\",\"\",CONCATENATE(\"especies/filt/\",$C$9,\",\",$C$8,\"/\"))","v":"especies/filt/3572,3/"},"Especies por proyecto\n(No todos los proyectos tienen asociados una lista de especies)"]
["URL - Estaciones",{"$f":"CONCATENATE(\"estaciones/\", $C$59, \"/\",$C$9,\"\")","v":"estaciones/40/3572"},"Estaciones/parcelas por proyecto, cambia dependiendo del Tipo de Nodo, cuyo estado sea VIGENTE."]
["URL - Usuarios",{"$f":"CONCATENATE(\"parametros/usersByProject/\",$C$7,\"\")","v":"parametros/usersByProject/3572"},"Usuarios por proyecto."]
["URL - Entidades","estaciones/get-entidades","Listado de entidades."]
["Atributos de la API","codigo_in","nombre_in"]
["Rango de atributos de la API","B69:C70","nombre_in"]
["URL - Plantillas","plantillas/","Endpoint para la carga de datos al sistema."]

{"sheet":"DIGITADOR","index":2,"n_rows":38,"n_cols":4,"rows_kept":38,"cut":false,"hidden":false,"merged":[[26,0,26,1],[29,0,29,1],[0,0,0,1],[15,3,15,9],[16,3,16,9],[1,3,7,9],[8,3,14,9],[7,0,9,0],[8,1,9,1]]}
["Recolección de Datos Monitoreo Estructura Manglares KFW"]
["Código Digitador",{"$f":"IF(B3=\"\",\"\",INDEX(referentes!$Y$2:$Z$60,MATCH(DIGITADOR!B3,referentes!$Z$2:$Z$60,0),1))","v":""},null,"Recomendaciones generales: \n¡Precaución! No inserte Filas o Columnas.\nEn los casos en que falte un valor a ingresar que provenga de la hoja de referencias, informe para que el administrador del sistema haga las adiciones necesarias.\nEsta es una plantilla programada. Las columnas de color oscuro se llenan automaticamente, principalmente a partir de los contenidos de la hoja de referencias. \nNO UTILICE PUNTO Y COMA (;) en ningun campo, por ser el separador de variables (columnas). Las unidades de medida son las especificadas en la cabecera de la hoja.\nPara el correcto funcionamiento de la hoja debe estar activa la opcion de Excel de ejecutar macros (al abrir la hoja acepte la opcion habilitar macros, mensaje de Excel que aparece en la parte superior de la hoja en un recuadro amarillo). La extensión del archivo debe ser .xlsm.. Al finalizar, renombre el archivo de modo que su contenido sea claro, ejemplo corporacion)_estacion_anocuatrodigitosmesmuestreo.xlsm. El nombre no debe tener espacios en blanco vocales tildadas o ñ."]
["Nombre del responsable"]
["Código Monitoreo",{"$f":"IF(B5=\"\",\"\",INDEX('Otras referencias'!$K$14:$L$16,MATCH(DIGITADOR!B5,'Otras referencias'!$L$14:$L$16,0),1))","v":3}]
["Monitoreo","SIGMA - Parcelas Permanentes Estructura"]
["Entidad"]
["Versión de la plantilla",{"$f":"'Registro de cambios'!$D$5","v":"20240930i"}]
["Fecha en la que ingresa los datos en esta hoja","DD/MM/AAAA"]
[null,"3000-12-12",null,"Previamente a iniciar el llenado de la plantilla, debe presionar el botón \"Descargar referentes\" para que los referentes de ésta plantilla sean actualizados. \nLuego de llenar completamente la plantilla verifique que:\na. No haya celdas con valores como \"#N/A\" o \"#¡REF!\"\nb. No se esten aplicando filtros en la hoja de datos                                                                                                                                                                                                                                                                                                                                                              c.Luego presionar el botón \"Validar datos\" para corroborar que todo esté en orden.                                                                                          d.En caso de error de campos vacios corregir."]
[]
["Nombre del proyecto","KFW FASE II"]
["Codigo del proyecto",{"$f":"IF($B$11=\"\",\"\",INDEX('Otras referencias'!$D$7:$F$19,MATCH(DIGITADOR!$B$11,'Otras referencias'!E7:E19,0),1))","v":3572}]
["Nombre del Archivo",{"$f":"MID(CELL(\"FILENAME\",N50),FIND(\"[\",CELL(\"FILENAME\",N50))+1,   FIND(\"]\",CELL(\"FILENAME\",N50))-FIND(\"[\",CELL(\"FILENAME\",N50))-1)","v":"KFW_Estructura_20240930i.xlsm"}]
["DOI Metadato"]
["Fuente Plantilla ","http://cinto.invemar.org.co/download/Plantillas_ARGOS_Plus/"]
["Subparcelas Muestreadas",{"$f":"MAX(DATOS!AK:AK)","v":1},null,"Si requiere ayuda contacte a:\nadministrador.sigma@invemar.org.co  - Administrador SIGMA"]
["Area Subparcela (Mt2)",null,null,"El custodio de los datos es el único autorizado para distribuir este conjunto de datos. El observador y el digitador se comprometen a tomar las medidas necesarias para salvaguardar este conjunto de datos de modo que copia de los mismos no sean obtenidas y/o usadas por terceros no relacionados con el propósito para la cual se recolectó."]
[]
["ROLES INVOLUCRADOS","NOMBRE"]
[{"$f":"IF(A21=\"\",\"\",INDEX('Otras referencias'!$T$6:$U$8,MATCH(DIGITADOR!A21,'Otras referencias'!$U$6:$U$8,0),1))","v":""},{"$f":"IF(B21=\"\",\"\",INDEX(referentes!$Y$2:$Z$60,MATCH(DIGITADOR!B21,referentes!$Z$2:$Z$60,0),1))","v":""}]
[]
[{"$f":"IF(A23=\"\",\"\",INDEX('Otras referencias'!$T$6:$U$8,MATCH(DIGITADOR!A23,'Otras referencias'!$U$6:$U$8,0),1))","v":""},{"$f":"IF(B23=\"\",\"\",INDEX(referentes!$Y$2:$Z$60,MATCH(DIGITADOR!B23,referentes!$Z$2:$Z$60,0),1))","v":""}]
[]
[{"$f":"IF(A25=\"\",\"\",INDEX('Otras referencias'!$T$6:$U$8,MATCH(DIGITADOR!A25,'Otras referencias'!$U$6:$U$8,0),1))","v":""},{"$f":"IF(B25=\"\",\"\",INDEX(referentes!$Y$2:$Z$60,MATCH(DIGITADOR!B25,referentes!$Z$2:$Z$60,0),1))","v":""}]
[]
[]
["ATRIBUTOS ADICIONALES"]
["Observaciones generales"]
[]
["REGISTROS GENERADOS",null,"CARGADOS"]
["Muestreos",{"$f":"IF(configuracion!B47=\"\",\"\",configuracion!B47)","v":""},{"$f":"IF(configuracion!C47=\"\",\"\",configuracion!C47)","v":""}]
["Parámetros del muestreo",{"$f":"IF(configuracion!B48=\"\",\"\",configuracion!B48)","v":""},{"$f":"IF(configuracion!C48=\"\",\"\",configuracion!C48)","v":""}]
["Muestras",{"$f":"IF(configuracion!B49=\"\",\"\",configuracion!B49)","v":""},{"$f":"IF(configuracion!C49=\"\",\"\",configuracion!C49)","v":""}]
["Variables",{"$f":"IF(configuracion!B50=\"\",\"\",configuracion!B50)","v":""},{"$f":"IF(configuracion!C50=\"\",\"\",configuracion!C50)","v":""}]
["Autores",{"$f":"IF(configuracion!B51=\"\",\"\",configuracion!B51)","v":""},{"$f":"IF(configuracion!C51=\"\",\"\",configuracion!C51)","v":""}]
["Registros correctos",{"$f":"IF(configuracion!B52=\"\",\"\",configuracion!B52)","v":""},{"$f":"IF(configuracion!C52=\"\",\"\",configuracion!C52)","v":""}]
["json error",null,{"$f":"IF(configuracion!C53=\"\",\"\",configuracion!C53)","v":""}]
["error",null,{"$f":"IF(configuracion!C54=\"\",\"\",configuracion!C54)","v":""}]

{"sheet":"DATOS","index":3,"n_rows":502,"n_cols":37,"rows_kept":502,"cut":false,"hidden":false,"merged":[[0,5,1,5],[0,1,1,1],[0,12,1,12],[0,2,1,2],[0,3,1,3],[0,4,1,4],[0,6,1,6],[0,7,1,7],[0,8,1,8],[0,9,0,11],[0,31,1,31],[0,13,1,13],[0,18,1,18],[0,17,1,17],[0,28,1,29],[1,24,1,25],[0,30,1,30],[0,23,0,25],[0,15,0,16],[0,19,0,20],[0,21,0,22]]}
[{"$f":"DIGITADOR!$B$9+H3","v":"3000-12-12"},"ID_MUESTREO\n(AGD_MUESTREO)","CONSECUTIVO","ID_MUESTRA",null,"CODMUESTREO","FECHA\n(DD/MM/AAAA)","HORA\n(HH:MM)","DATE","PARCELA",null,null,"SUBPARCELA","OBSERVACIONES",null,"ESPECIE",null,"ID ÁRBOL","TAG","ESTADO",null,"TIPO",null,"ALTURA (m)",null,null,"CAP (cm)","DAP (cm)","METODO",null,"Columna de Control - Detecta muestras repetidas"]
[{"$f":"TEXT(DIGITADOR!$B$7,\"yyyymmddhhmm\")","v":"20240930i"},null,null,null,null,null,"DIA","HORA",null,"ID ESTACION","NOMBRE","CODBDD",null,null,null,"COD","NOMBRE",null,null,"COD","VALOR","COD","VALOR","VALOR","METODO",null,"VALOR","VALOR",null,null,null,null,null,null,"COD\nTIPO","PARCELA Y SUBPARCELA","SUBPARCELAS\nMUESTREADAS"]
[1,{"$f":"IF(F3=\"\",\"\",IF(COUNTIF($F$3:F3, F3)>1, \"\", F3))","v":""},1,{"$f":"IF(F3=\"\",\"\",CONCATENATE(F3,ROW()-2))","v":""},null,{"$f":"IF(I3=\"\",\"\",IF(K3=\"\",\"\", CONCATENATE(DIGITADOR!$M$1,G3,J3)))","v":""},null,null,{"$f":"IF(G3<>\"\",G3+H3,\"\")","v":""},{"$f":"IF(K3=\"\",\"\",INDEX('Otras referencias'!$AG:$AH,MATCH(K3,'Otras referencias'!$AG:$AG,0),2))","v":""},null,{"$f":"IF(J3=\"\",\"\",INDEX(referentes!$S:$W,MATCH(J3,referentes!$S:$S,0),1))","v":""},null,null,null,null,{"$f":"IF(P3=\"\",\"\",INDEX(referentes!$J:$K,MATCH(P3,referentes!$J:$J,0),2))","v":""},null,null,null,{"$f":"IF(T3=\"\",\"\",INDEX(referentes!D:E,MATCH(T3,referentes!D:D,0),2))","v":""},null,{"$f":"IF(V3=\"\",\"\",INDEX('Otras referencias'!AO:AQ,MATCH(V3,'Otras referencias'!AO:AO,0),2))","v":""},null,{"$f":"IF(Z3=\"\",\"\",INDEX('Otras referencias'!H:I,MATCH(Z3,'Otras referencias'!I:I,0),1))","v":""},null,null,null,{"$f":"IF(AD3=\"\",\"\",INDEX('Otras referencias'!K:L,MATCH(AD3,'Otras referencias'!L:L,0),1))","v":""},null,{"$f":"K3&\"-\"&M3&\"-\"&P3&\"-\"&R3","v":"---"},null,null,null,{"$f":"IF(V3=\"\",\"\",INDEX('Otras referencias'!AO:AQ,MATCH(V3,'Otras referencias'!AO:AO,0),3))","v":""},{"$f":"IF(SUMPRODUCT(--EXACT(K3&M3,$AJ$2:AJ2)),\"\",K3&M3)","v":""},{"$f":"IF(SUMPRODUCT(--EXACT(K3&M3,$AK$2:AK2)),\"\",1)","v":1}]
[{"$f":"IF(L4=L3,A3,A3+1)","v":1},{"$f":"IF(F4=\"\",\"\",IF(COUNTIF($F$3:F4, F4)>1, \"\", F4))","v":""},2,{"$f":"IF(F4=\"\",\"\",CONCATENATE(F4,ROW()-2))","v":""},null,{"$f":"IF(I4=\"\",\"\",IF(K4=\"\",\"\", CONCATENATE(DIGITADOR!$M$1,G4,J4)))","v":""},null,null,"",{"$f":"IF(K4=\"\",\"\",INDEX('Otras referencias'!$AG:$AH,MATCH(K4,'Otras referencias'!$AG:$AG,0),2))","v":""},null,{"$f":"IF(J4=\"\",\"\",INDEX(referentes!$S:$W,MATCH(J4,referentes!$S:$S,0),1))","v":""},null,null,null,null,{"$f":"IF(P4=\"\",\"\",INDEX(referentes!$J:$K,MATCH(P4,referentes!$J:$J,0),2))","v":""},null,null,null,{"$f":"IF(T4=\"\",\"\",INDEX(referentes!D:E,MATCH(T4,referentes!D:D,0),2))","v":""},null,{"$f":"IF(V4=\"\",\"\",INDEX('Otras referencias'!AO:AP,MATCH(V4,'Otras referencias'!AO:AO,0),2))","v":""},null,{"$f":"IF(Z4=\"\",\"\",INDEX('Otras referencias'!H:I,MATCH(Z4,'Otras referencias'!I:I,0),1))","v":""},null,null,null,{"$f":"IF(AD4=\"\",\"\",INDEX('Otras referencias'!K:L,MATCH(AD4,'Otras referencias'!L:L,0),1))","v":""},null,{"$f":"K4&\"-\"&M4&\"-\"&P4&\"-\"&R4","v":"---"},null,null,null,{"$f":"IF(V4=\"\",\"\",INDEX('Otras referencias'!AO:AQ,MATCH(V4,'Otras referencias'!AO:AO,0),3))","v":""},{"$f":"IF(SUMPRODUCT(--EXACT(K4&M4,$AJ$2:AJ3)),\"\",K4&M4)","v":""},{"$f":"IF(SUMPRODUCT(--EXACT(K4&M4,$AJ$2:AJ3)),\"\",MAX($AK$3:AK3)+1)","v":""}]
[{"$f":"IF(L5=L4,A4,A4+1)","v":1},{"$f":"IF(F5=\"\",\"\",IF(COUNTIF($F$3:F5, F5)>1, \"\", F5))","v":""},3,"",null,{"$f":"IF(G5=\"\",\"\",IF(K5=\"\",\"\", CONCATENATE(DIGITADOR!$M$1,G5,J5)))","v":""},null,null,"",{"$f":"IF(K5=\"\",\"\",INDEX('Otras referencias'!$AG:$AH,MATCH(K5,'Otras referencias'!$AG:$AG,0),2))","v":""},null,{"$f":"IF(J5=\"\",\"\",INDEX(referentes!$S:$W,MATCH(J5,referentes!$S:$S,0),1))","v":""},null,null,null,null,{"$f":"IF(P5=\"\",\"\",INDEX(referentes!$J:$K,MATCH(P5,referentes!$J:$J,0),2))","v":""},null,null,null,{"$f":"IF(T5=\"\",\"\",INDEX(referentes!D:E,MATCH(T5,referentes!D:D,0),2))","v":""},null,{"$f":"IF(V5=\"\",\"\",INDEX('Otras referencias'!AO:AP,MATCH(V5,'Otras referencias'!AO:AO,0),2))","v":""},null,{"$f":"IF(Z5=\"\",\"\",INDEX('Otras referencias'!H:I,MATCH(Z5,'Otras referencias'!I:I,0),1))","v":""},null,null,null,{"$f":"IF(AD5=\"\",\"\",INDEX('Otras referencias'!K:L,MATCH(AD5,'Otras referencias'!L:L,0),1))","v":""},null,"---",null,null,null,{"$f":"IF(V5=\"\",\"\",INDEX('Otras referencias'!AO:AQ,MATCH(V5,'Otras referencias'!AO:AO,0),3))","v":""},{"$f":"IF(SUMPRODUCT(--EXACT(K5&M5,$AJ$2:AJ4)),\"\",K5&M5)","v":""},{"$f":"IF(SUMPRODUCT(--EXACT(K5&M5,$AJ$2:AJ4)),\"\",MAX($AK$3:AK4)+1)","v":""}]
[1,{"$f":"IF(F6=\"\",\"\",IF(COUNTIF($F$3:F6, F6)>1, \"\", F6))","v":""},4,"",null,{"$f":"IF(I6=\"\",\"\",IF(K6=\"\",\"\", CONCATENATE(DIGITADOR!$M$1,G6,J6)))","v":""},null,null,"",{"$f":"IF(K6=\"\",\"\",INDEX('Otras referencias'!$AG:$AH,MATCH(K6,'Otras referencias'!$AG:$AG,0),2))","v":""},null,{"$f":"IF(J6=\"\",\"\",INDEX(referentes!$S:$W,MATCH(J6,referentes!$S:$S,0),1))","v":""},null,null,null,null,{"$f":"IF(P6=\"\",\"\",INDEX(referentes!$J:$K,MATCH(P6,referentes!$J:$J,0),2))","v":""},null,null,null,{"$f":"IF(T6=\"\",\"\",INDEX(referentes!D:E,MATCH(T6,referentes!D:D,0),2))","v":""},null,{"$f":"IF(V6=\"\",\"\",INDEX('Otras referencias'!AO:AP,MATCH(V6,'Otras referencias'!AO:AO,0),2))","v":""},null,{"$f":"IF(Z6=\"\",\"\",INDEX('Otras referencias'!H:I,MATCH(Z6,'Otras referencias'!I:I,0),1))","v":""},null,null,null,{"$f":"IF(AD6=\"\",\"\",INDEX('Otras referencias'!K:L,MATCH(AD6,'Otras referencias'!L:L,0),1))","v":""},null,"---",null,null,null,{"$f":"IF(V6=\"\",\"\",INDEX('Otras referencias'!AO:AQ,MATCH(V6,'Otras referencias'!AO:AO,0),3))","v":""},{"$f":"IF(SUMPRODUCT(--EXACT(K6&M6,$AJ$2:AJ5)),\"\",K6&M6)","v":""},{"$f":"IF(SUMPRODUCT(--EXACT(K6&M6,$AJ$2:AJ5)),\"\",MAX($AK$3:AK5)+1)","v":""}]
[1,{"$f":"IF(F7=\"\",\"\",IF(COUNTIF($F$3:F7, F7)>1, \"\", F7))","v":""},5,"",null,{"$f":"IF(I7=\"\",\"\",IF(K7=\"\",\"\", CONCATENATE(DIGITADOR!$M$1,G7,J7)))","v":""},null,null,"",{"$f":"IF(K7=\"\",\"\",INDEX('Otras referencias'!$AG:$AH,MATCH(K7,'Otras referencias'!$AG:$AG,0),2))","v":""},null,{"$f":"IF(J7=\"\",\"\",INDEX(referentes!$S:$W,MATCH(J7,referentes!$S:$S,0),1))","v":""},null,null,null,null,{"$f":"IF(P7=\"\",\"\",INDEX(referentes!$J:$K,MATCH(P7,referentes!$J:$J,0),2))","v":""},null,null,null,{"$f":"IF(T7=\"\",\"\",INDEX(referentes!D:E,MATCH(T7,referentes!D:D,0),2))","v":""},null,{"$f":"IF(V7=\"\",\"\",INDEX('Otras referencias'!AO:AP,MATCH(V7,'Otras referencias'!AO:AO,0),2))","v":""},null,{"$f":"IF(Z7=\"\",\"\",INDEX('Otras referencias'!H:I,MATCH(Z7,'Otras referencias'!I:I,0),1))","v":""},null,null,null,{"$f":"IF(AD7=\"\",\"\",INDEX('Otras referencias'!K:L,MATCH(AD7,'Otras referencias'!L:L,0),1))","v":""},null,"---",null,null,null,{"$f":"IF(V7=\"\",\"\",INDEX('Otras referencias'!AO:AQ,MATCH(V7,'Otras referencias'!AO:AO,0),3))","v":""},{"$f":"IF(SUMPRODUCT(--EXACT(K7&M7,$AJ$2:AJ6)),\"\",K7&M7)","v":""},{"$f":"IF(SUMPRODUCT(--EXACT(K7&M7,$AJ$2:AJ6)),\"\",MAX($AK$3:AK6)+1)","v":""}]
[1,{"$f":"IF(F8=\"\",\"\",IF(COUNTIF($F$3:F8, F8)>1, \"\", F8))","v":""},6,"",null,{"$f":"IF(I8=\"\",\"\",IF(K8=\"\",\"\", CONCATENATE(DIGITADOR!$M$1,G8,J8)))","v":""},null,null,"",{"$f":"IF(K8=\"\",\"\",INDEX('Otras referencias'!$AG:$AH,MATCH(K8,'Otras referencias'!$AG:$AG,0),2))","v":""},null,{"$f":"IF(J8=\"\",\"\",INDEX(referentes!$S:$W,MATCH(J8,referentes!$S:$S,0),1))","v":""},null,null,null,null,{"$f":"IF(P8=\"\",\"\",INDEX(referentes!$J:$K,MATCH(P8,referentes!$J:$J,0),2))","v":""},null,null,null,{"$f":"IF(T8=\"\",\"\",INDEX(referentes!D:E,MATCH(T8,referentes!D:D,0),2))","v":""},null,{"$f":"IF(V8=\"\",\"\",INDEX('Otras referencias'!AO:AP,MATCH(V8,'Otras referencias'!AO:AO,0),2))","v":""},null,{"$f":"IF(Z8=\"\",\"\",INDEX('Otras referencias'!H:I,MATCH(Z8,'Otras referencias'!I:I,0),1))","v":""},null,null,null,{"$f":"IF(AD8=\"\",\"\",INDEX('Otras referencias'!K:L,MATCH(AD8,'Otras referencias'!L:L,0),1))","v":""},null,"---",null,null,null,{"$f":"IF(V8=\"\",\"\",INDEX('Otras referencias'!AO:AQ,MATCH(V8,'Otras referencias'!AO:AO,0),3))","v":""},{"$f":"IF(SUMPRODUCT(--EXACT(K8&M8,$AJ$2:AJ7)),\"\",K8&M8)","v":""},{"$f":"IF(SUMPRODUCT(--EXACT(K8&M8,$AJ$2:AJ7)),\"\",MAX($AK$3:AK7)+1)","v":""}]
[1,{"$f":"IF(F9=\"\",\"\",IF(COUNTIF($F$3:F9, F9)>1, \"\", F9))","v":""},7,"",null,{"$f":"IF(I9=\"\",\"\",IF(K9=\"\",\"\", CONCATENATE(DIGITADOR!$M$1,G9,J9)))","v":""},null,null,"",{"$f":"IF(K9=\"\",\"\",INDEX('Otras referencias'!$AG:$AH,MATCH(K9,'Otras referencias'!$AG:$AG,0),2))","v":""},null,{"$f":"IF(J9=\"\",\"\",INDEX(referentes!$S:$W,MATCH(J9,referentes!$S:$S,0),1))","v":""},null,null,null,null,{"$f":"IF(P9=\"\",\"\",INDEX(referentes!$J:$K,MATCH(P9,referentes!$J:$J,0),2))","v":""},null,null,null,{"$f":"IF(T9=\"\",\"\",INDEX(referentes!D:E,MATCH(T9,referentes!D:D,0),2))","v":""},null,{"$f":"IF(V9=\"\",\"\",INDEX('Otras referencias'!AO:AP,MATCH(V9,'Otras referencias'!AO:AO,0),2))","v":""},null,{"$f":"IF(Z9=\"\",\"\",INDEX('Otras referencias'!H:I,MATCH(Z9,'Otras referencias'!I:I,0),1))","v":""},null,null,null,{"$f":"IF(AD9=\"\",\"\",INDEX('Otras referencias'!K:L,MATCH(AD9,'Otras referencias'!L:L,0),1))","v":""},null,"---",null,null,null,{"$f":"IF(V9=\"\",\"\",INDEX('Otras referencias'!AO:AQ,MATCH(V9,'Otras referencias'!AO:AO,0),3))","v":""},{"$f":"IF(SUMPRODUCT(--EXACT(K9&M9,$AJ$2:AJ8)),\"\",K9&M9)","v":""},{"$f":"IF(SUMPRODUCT(--EXACT(K9&M9,$AJ$2:AJ8)),\"\",MAX($AK$3:AK8)+1)","v":""}]
[1,{"$f":"IF(F10=\"\",\"\",IF(COUNTIF($F$3:F10, F10)>1, \"\", F10))","v":""},8,"",null,{"$f":"IF(I10=\"\",\"\",IF(K10=\"\",\"\", CONCATENATE(DIGITADOR!$M$1,G10,J10)))","v":""},null,null,"",{"$f":"IF(K10=\"\",\"\",INDEX('Otras referencias'!$AG:$AH,MATCH(K10,'Otras referencias'!$AG:$AG,0),2))","v":""},null,{"$f":"IF(J10=\"\",\"\",INDEX(referentes!$S:$W,MATCH(J10,referentes!$S:$S,0),1))","v":""},null,null,null,null,{"$f":"IF(P10=\"\",\"\",INDEX(referentes!$J:$K,MATCH(P10,referentes!$J:$J,0),2))","v":""},null,null,null,{"$f":"IF(T10=\"\",\"\",INDEX(referentes!D:E,MATCH(T10,referentes!D:D,0),2))","v":""},null,{"$f":"IF(V10=\"\",\"\",INDEX('Otras referencias'!AO:AP,MATCH(V10,'Otras referencias'!AO:AO,0),2))","v":""},null,{"$f":"IF(Z10=\"\",\"\",INDEX('Otras referencias'!H:I,MATCH(Z10,'Otras referencias'!I:I,0),1))","v":""},null,null,null,{"$f":"IF(AD10=\"\",\"\",INDEX('Otras referencias'!K:L,MATCH(AD10,'Otras referencias'!L:L,0),1))","v":""},null,"---",null,null,null,{"$f":"IF(V10=\"\",\"\",INDEX('Otras referencias'!AO:AQ,MATCH(V10,'Otras referencias'!AO:AO,0),3))","v":""},{"$f":"IF(SUMPRODUCT(--EXACT(K10&M10,$AJ$2:AJ9)),\"\",K10&M10)","v":""},{"$f":"IF(SUMPRODUCT(--EXACT(K10&M10,$AJ$2:AJ9)),\"\",MAX($AK$3:AK9)+1)","v":""}]
[1,{"$f":"IF(F11=\"\",\"\",IF(COUNTIF($F$3:F11, F11)>1, \"\", F11))","v":""},9,"",null,{"$f":"IF(I11=\"\",\"\",IF(K11=\"\",\"\", CONCATENATE(DIGITADOR!$M$1,G11,J11)))","v":""},null,null,"",{"$f":"IF(K11=\"\",\"\",INDEX('Otras referencias'!$AG:$AH,MATCH(K11,'Otras referencias'!$AG:$AG,0),2))","v":""},null,{"$f":"IF(J11=\"\",\"\",INDEX(referentes!$S:$W,MATCH(J11,referentes!$S:$S,0),1))","v":""},null,null,null,null,{"$f":"IF(P11=\"\",\"\",INDEX(referentes!$J:$K,MATCH(P11,referentes!$J:$J,0),2))","v":""},null,null,null,{"$f":"IF(T11=\"\",\"\",INDEX(referentes!D:E,MATCH(T11,referentes!D:D,0),2))","v":""},null,{"$f":"IF(V11=\"\",\"\",INDEX('Otras referencias'!AO:AP,MATCH(V11,'Otras referencias'!AO:AO,0),2))","v":""},null,{"$f":"IF(Z11=\"\",\"\",INDEX('Otras referencias'!H:I,MATCH(Z11,'Otras referencias'!I:I,0),1))","v":""},null,null,null,{"$f":"IF(AD11=\"\",\"\",INDEX('Otras referencias'!K:L,MATCH(AD11,'Otras referencias'!L:L,0),1))","v":""},null,"---",null,null,null,{"$f":"IF(V11=\"\",\"\",INDEX('Otras referencias'!AO:AQ,MATCH(V11,'Otras referencias'!AO:AO,0),3))","v":""},{"$f":"IF(SUMPRODUCT(--EXACT(K11&M11,$AJ$2:AJ10)),\"\",K11&M11)","v":""},{"$f":"IF(SUMPRODUCT(--EXACT(K11&M11,$AJ$2:AJ10)),\"\",MAX($AK$3:AK10)+1)","v":""}]
[1,{"$f":"IF(F12=\"\",\"\",IF(COUNTIF($F$3:F12, F12)>1, \"\", F12))","v":""},10,"",null,{"$f":"IF(I12=\"\",\"\",IF(K12=\"\",\"\", CONCATENATE(DIGITADOR!$M$1,G12,J12)))","v":""},null,null,"",{"$f":"IF(K12=\"\",\"\",INDEX('Otras referencias'!$AG:$AH,MATCH(K12,'Otras referencias'!$AG:$AG,0),2))","v":""},null,{"$f":"IF(J12=\"\",\"\",INDEX(referentes!$S:$W,MATCH(J12,referentes!$S:$S,0),1))","v":""},null,null,null,null,{"$f":"IF(P12=\"\",\"\",INDEX(referentes!$J:$K,MATCH(P12,referentes!$J:$J,0),2))","v":""},null,null,null,{"$f":"IF(T12=\"\",\"\",INDEX(referentes!D:E,MATCH(T12,referentes!D:D,0),2))","v":""},null,{"$f":"IF(V12=\"\",\"\",INDEX('Otras referencias'!AO:AP,MATCH(V12,'Otras referencias'!AO:AO,0),2))","v":""},null,{"$f":"IF(Z12=\"\",\"\",INDEX('Otras referencias'!H:I,MATCH(Z12,'Otras referencias'!I:I,0),1))","v":""},null,null,null,{"$f":"IF(AD12=\"\",\"\",INDEX('Otras referencias'!K:L,MATCH(AD12,'Otras referencias'!L:L,0),1))","v":""},null,"---",null,null,null,{"$f":"IF(V12=\"\",\"\",INDEX('Otras referencias'!AO:AQ,MATCH(V12,'Otras referencias'!AO:AO,0),3))","v":""},{"$f":"IF(SUMPRODUCT(--EXACT(K12&M12,$AJ$2:AJ11)),\"\",K12&M12)","v":""},{"$f":"IF(SUMPRODUCT(--EXACT(K12&M12,$AJ$2:AJ11)),\"\",MAX($AK$3:AK11)+1)","v":""}]
[1,{"$f":"IF(F13=\"\",\"\",IF(COUNTIF($F$3:F13, F13)>1, \"\", F13))","v":""},11,"",null,{"$f":"IF(I13=\"\",\"\",IF(K13=\"\",\"\", CONCATENATE(DIGITADOR!$M$1,G13,J13)))","v":""},null,null,"",{"$f":"IF(K13=\"\",\"\",INDEX('Otras referencias'!$AG:$AH,MATCH(K13,'Otras referencias'!$AG:$AG,0),2))","v":""},null,{"$f":"IF(J13=\"\",\"\",INDEX(referentes!$S:$W,MATCH(J13,referentes!$S:$S,0),1))","v":""},null,null,null,null,{"$f":"IF(P13=\"\",\"\",INDEX(referentes!$J:$K,MATCH(P13,referentes!$J:$J,0),2))","v":""},null,null,null,{"$f":"IF(T13=\"\",\"\",INDEX(referentes!D:E,MATCH(T13,referentes!D:D,0),2))","v":""},null,{"$f":"IF(V13=\"\",\"\",INDEX('Otras referencias'!AO:AP,MATCH(V13,'Otras referencias'!AO:AO,0),2))","v":""},null,{"$f":"IF(Z13=\"\",\"\",INDEX('Otras referencias'!H:I,MATCH(Z13,'Otras referencias'!I:I,0),1))","v":""},null,null,null,{"$f":"IF(AD13=\"\",\"\",INDEX('Otras referencias'!K:L,MATCH(AD13,'Otras referencias'!L:L,0),1))","v":""},null,"---",null,null,null,{"$f":"IF(V13=\"\",\"\",INDEX('Otras referencias'!AO:AQ,MATCH(V13,'Otras referencias'!AO:AO,0),3))","v":""},{"$f":"IF(SUMPRODUCT(--EXACT(K13&M13,$AJ$2:AJ12)),\"\",K13&M13)","v":""},{"$f":"IF(SUMPRODUCT(--EXACT(K13&M13,$AJ$2:AJ12)),\"\",MAX($AK$3:AK12)+1)","v":""}]
[1,{"$f":"IF(F14=\"\",\"\",IF(COUNTIF($F$3:F14, F14)>1, \"\", F14))","v":""},12,"",null,{"$f":"IF(I14=\"\",\"\",IF(K14=\"\",\"\", CONCATENATE(DIGITADOR!$M$1,G14,J14)))","v":""},null,null,"",{"$f":"IF(K14=\"\",\"\",INDEX('Otras referencias'!$AG:$AH,MATCH(K14,'Otras referencias'!$AG:$AG,0),2))","v":""},null,{"$f":"IF(J14=\"\",\"\",INDEX(referentes!$S:$W,MATCH(J14,referentes!$S:$S,0),1))","v":""},null,null,null,null,{"$f":"IF(P14=\"\",\"\",INDEX(referentes!$J:$K,MATCH(P14,referentes!$J:$J,0),2))","v":""},null,null,null,{"$f":"IF(T14=\"\",\"\",INDEX(referentes!D:E,MATCH(T14,referentes!D:D,0),2))","v":""},null,{"$f":"IF(V14=\"\",\"\",INDEX('Otras referencias'!AO:AP,MATCH(V14,'Otras referencias'!AO:AO,0),2))","v":""},null,{"$f":"IF(Z14=\"\",\"\",INDEX('Otras referencias'!H:I,MATCH(Z14,'Otras referencias'!I:I,0),1))","v":""},null,null,null,{"$f":"IF(AD14=\"\",\"\",INDEX('Otras referencias'!K:L,MATCH(AD14,'Otras referencias'!L:L,0),1))","v":""},null,"---",null,null,null,{"$f":"IF(V14=\"\",\"\",INDEX('Otras referencias'!AO:AQ,MATCH(V14,'Otras referencias'!AO:AO,0),3))","v":""},{"$f":"IF(SUMPRODUCT(--EXACT(K14&M14,$AJ$2:AJ13)),\"\",K14&M14)","v":""},{"$f":"IF(SUMPRODUCT(--EXACT(K14&M14,$AJ$2:AJ13)),\"\",MAX($AK$3:AK13)+1)","v":""}]
[1,{"$f":"IF(F15=\"\",\"\",IF(COUNTIF($F$3:F15, F15)>1, \"\", F15))","v":""},13,"",null,{"$f":"IF(I15=\"\",\"\",IF(K15=\"\",\"\", CONCATENATE(DIGITADOR!$M$1,G15,J15)))","v":""},null,null,"",{"$f":"IF(K15=\"\",\"\",INDEX('Otras referencias'!$AG:$AH,MATCH(K15,'Otras referencias'!$AG:$AG,0),2))","v":""},null,{"$f":"IF(J15=\"\",\"\",INDEX(referentes!$S:$W,MATCH(J15,referentes!$S:$S,0),1))","v":""},null,null,null,null,{"$f":"IF(P15=\"\",\"\",INDEX(referentes!$J:$K,MATCH(P15,referentes!$J:$J,0),2))","v":""},null,null,null,{"$f":"IF(T15=\"\",\"\",INDEX(referentes!D:E,MATCH(T15,referentes!D:D,0),2))","v":""},null,{"$f":"IF(V15=\"\",\"\",INDEX('Otras referencias'!AO:AP,MATCH(V15,'Otras referencias'!AO:AO,0),2))","v":""},null,{"$f":"IF(Z15=\"\",\"\",INDEX('Otras referencias'!H:I,MATCH(Z15,'Otras referencias'!I:I,0),1))","v":""},null,null,null,{"$f":"IF(AD15=\"\",\"\",INDEX('Otras referencias'!K:L,MATCH(AD15,'Otras referencias'!L:L,0),1))","v":""},null,"---",null,null,null,{"$f":"IF(V15=\"\",\"\",INDEX('Otras referencias'!AO:AQ,MATCH(V15,'Otras referencias'!AO:AO,0),3))","v":""},{"$f":"IF(SUMPRODUCT(--EXACT(K15&M15,$AJ$2:AJ14)),\"\",K15&M15)","v":""},{"$f":"IF(SUMPRODUCT(--EXACT(K15&M15,$AJ$2:AJ14)),\"\",MAX($AK$3:AK14)+1)","v":""}]
[1,{"$f":"IF(F16=\"\",\"\",IF(COUNTIF($F$3:F16, F16)>1, \"\", F16))","v":""},14,"",null,{"$f":"IF(I16=\"\",\"\",IF(K16=\"\",\"\", CONCATENATE(DIGITADOR!$M$1,G16,J16)))","v":""},null,null,"",{"$f":"IF(K16=\"\",\"\",INDEX('Otras referencias'!$AG:$AH,MATCH(K16,'Otras referencias'!$AG:$AG,0),2))","v":""},null,{"$f":"IF(J16=\"\",\"\",INDEX(referentes!$S:$W,MATCH(J16,referentes!$S:$S,0),1))","v":""},null,null,null,null,{"$f":"IF(P16=\"\",\"\",INDEX(referentes!$J:$K,MATCH(P16,referentes!$J:$J,0),2))","v":""},null,null,null,{"$f":"IF(T16=\"\",\"\",INDEX(referentes!D:E,MATCH(T16,referentes!D:D,0),2))","v":""},null,{"$f":"IF(V16=\"\",\"\",INDEX('Otras referencias'!AO:AP,MATCH(V16,'Otras referencias'!AO:AO,0),2))","v":""},null,{"$f":"IF(Z16=\"\",\"\",INDEX('Otras referencias'!H:I,MATCH(Z16,'Otras referencias'!I:I,0),1))","v":""},null,null,null,{"$f":"IF(AD16=\"\",\"\",INDEX('Otras referencias'!K:L,MATCH(AD16,'Otras referencias'!L:L,0),1))","v":""},null,"---",null,null,null,{"$f":"IF(V16=\"\",\"\",INDEX('Otras referencias'!AO:AQ,MATCH(V16,'Otras referencias'!AO:AO,0),3))","v":""},{"$f":"IF(SUMPRODUCT(--EXACT(K16&M16,$AJ$2:AJ15)),\"\",K16&M16)","v":""},{"$f":"IF(SUMPRODUCT(--EXACT(K16&M16,$AJ$2:AJ15)),\"\",MAX($AK$3:AK15)+1)","v":""}]
[1,{"$f":"IF(F17=\"\",\"\",IF(COUNTIF($F$3:F17, F17)>1, \"\", F17))","v":""},15,"",null,{"$f":"IF(I17=\"\",\"\",IF(K17=\"\",\"\", CONCATENATE(DIGITADOR!$M$1,G17,J17)))","v":""},null,null,"",{"$f":"IF(K17=\"\",\"\",INDEX('Otras referencias'!$AG:$AH,MATCH(K17,'Otras referencias'!$AG:$AG,0),2))","v":""},null,{"$f":"IF(J17=\"\",\"\",INDEX(referentes!$S:$W,MATCH(J17,referentes!$S:$S,0),1))","v":""},null,null,null,null,{"$f":"IF(P17=\"\",\"\",INDEX(referentes!$J:$K,MATCH(P17,referentes!$J:$J,0),2))","v":""},null,null,null,{"$f":"IF(T17=\"\",\"\",INDEX(referentes!D:E,MATCH(T17,referentes!D:D,0),2))","v":""},null,{"$f":"IF(V17=\"\",\"\",INDEX('Otras referencias'!AO:AP,MATCH(V17,'Otras referencias'!AO:AO,0),2))","v":""},null,{"$f":"IF(Z17=\"\",\"\",INDEX('Otras referencias'!H:I,MATCH(Z17,'Otras referencias'!I:I,0),1))","v":""},null,null,null,{"$f":"IF(AD17=\"\",\"\",INDEX('Otras referencias'!K:L,MATCH(AD17,'Otras referencias'!L:L,0),1))","v":""},null,"---",null,null,null,{"$f":"IF(V17=\"\",\"\",INDEX('Otras referencias'!AO:AQ,MATCH(V17,'Otras referencias'!AO:AO,0),3))","v":""},{"$f":"IF(SUMPRODUCT(--EXACT(K17&M17,$AJ$2:AJ16)),\"\",K17&M17)","v":""},{"$f":"IF(SUMPRODUCT(--EXACT(K17&M17,$AJ$2:AJ16)),\"\",MAX($AK$3:AK16)+1)","v":""}]
[1,{"$f":"IF(F18=\"\",\"\",IF(COUNTIF($F$3:F18, F18)>1, \"\", F18))","v":""},16,"",null,{"$f":"IF(I18=\"\",\"\",IF(K18=\"\",\"\", CONCATENATE(DIGITADOR!$M$1,G18,J18)))","v":""},null,null,"",{"$f":"IF(K18=\"\",\"\",INDEX('Otras referencias'!$AG:$AH,MATCH(K18,'Otras referencias'!$AG:$AG,0),2))","v":""},null,{"$f":"IF(J18=\"\",\"\",INDEX(referentes!$S:$W,MATCH(J18,referentes!$S:$S,0),1))","v":""},null,null,null,null,{"$f":"IF(P18=\"\",\"\",INDEX(referentes!$J:$K,MATCH(P18,referentes!$J:$J,0),2))","v":""},null,null,null,{"$f":"IF(T18=\"\",\"\",INDEX(referentes!D:E,MATCH(T18,referentes!D:D,0),2))","v":""},null,{"$f":"IF(V18=\"\",\"\",INDEX('Otras referencias'!AO:AP,MATCH(V18,'Otras referencias'!AO:AO,0),2))","v":""},null,{"$f":"IF(Z18=\"\",\"\",INDEX('Otras referencias'!H:I,MATCH(Z18,'Otras referencias'!I:I,0),1))","v":""},null,null,null,{"$f":"IF(AD18=\"\",\"\",INDEX('Otras referencias'!K:L,MATCH(AD18,'Otras referencias'!L:L,0),1))","v":""},null,"---",null,null,null,{"$f":"IF(V18=\"\",\"\",INDEX('Otras referencias'!AO:AQ,MATCH(V18,'Otras referencias'!AO:AO,0),3))","v":""},{"$f":"IF(SUMPRODUCT(--EXACT(K18&M18,$AJ$2:AJ17)),\"\",K18&M18)","v":""},{"$f":"IF(SUMPRODUCT(--EXACT(K18&M18,$AJ$2:AJ17)),\"\",MAX($AK$3:AK17)+1)","v":""}]
[1,{"$f":"IF(F19=\"\",\"\",IF(COUNTIF($F$3:F19, F19)>1, \"\", F19))","v":""},17,"",null,{"$f":"IF(I19=\"\",\"\",IF(K19=\"\",\"\", CONCATENATE(DIGITADOR!$M$1,G19,J19)))","v":""},null,null,"",{"$f":"IF(K19=\"\",\"\",INDEX('Otras referencias'!$AG:$AH,MATCH(K19,'Otras referencias'!$AG:$AG,0),2))","v":""},null,{"$f":"IF(J19=\"\",\"\",INDEX(referentes!$S:$W,MATCH(J19,referentes!$S:$S,0),1))","v":""},null,null,null,null,{"$f":"IF(P19=\"\",\"\",INDEX(referentes!$J:$K,MATCH(P19,referentes!$J:$J,0),2))","v":""},null,null,null,{"$f":"IF(T19=\"\",\"\",INDEX(referentes!D:E,MATCH(T19,referentes!D:D,0),2))","v":""},null,{"$f":"IF(V19=\"\",\"\",INDEX('Otras referencias'!AO:AP,MATCH(V19,'Otras referencias'!AO:AO,0),2))","v":""},null,{"$f":"IF(Z19=\"\",\"\",INDEX('Otras referencias'!H:I,MATCH(Z19,'Otras referencias'!I:I,0),1))","v":""},null,null,null,{"$f":"IF(AD19=\"\",\"\",INDEX('Otras referencias'!K:L,MATCH(AD19,'Otras referencias'!L:L,0),1))","v":""},null,"---",null,null,null,{"$f":"IF(V19=\"\",\"\",INDEX('Otras referencias'!AO:AQ,MATCH(V19,'Otras referencias'!AO:AO,0),3))","v":""},{"$f":"IF(SUMPRODUCT(--EXACT(K19&M19,$AJ$2:AJ18)),\"\",K19&M19)","v":""},{"$f":"IF(SUMPRODUCT(--EXACT(K19&M19,$AJ$2:AJ18)),\"\",MAX($AK$3:AK18)+1)","v":""}]
[1,{"$f":"IF(F20=\"\",\"\",IF(COUNTIF($F$3:F20, F20)>1, \"\", F20))","v":""},18,"",null,{"$f":"IF(I20=\"\",\"\",IF(K20=\"\",\"\", CONCATENATE(DIGITADOR!$M$1,G20,J20)))","v":""},null,null,"",{"$f":"IF(K20=\"\",\"\",INDEX('Otras referencias'!$AG:$AH,MATCH(K20,'Otras referencias'!$AG:$AG,0),2))","v":""},null,{"$f":"IF(J20=\"\",\"\",INDEX(referentes!$S:$W,MATCH(J20,referentes!$S:$S,0),1))","v":""},null,null,null,null,{"$f":"IF(P20=\"\",\"\",INDEX(referentes!$J:$K,MATCH(P20,referentes!$J:$J,0),2))","v":""},null,null,null,{"$f":"IF(T20=\"\",\"\",INDEX(referentes!D:E,MATCH(T20,referentes!D:D,0),2))","v":""},null,{"$f":"IF(V20=\"\",\"\",INDEX('Otras referencias'!AO:AP,MATCH(V20,'Otras referencias'!AO:AO,0),2))","v":""},null,{"$f":"IF(Z20=\"\",\"\",INDEX('Otras referencias'!H:I,MATCH(Z20,'Otras referencias'!I:I,0),1))","v":""},null,null,null,{"$f":"IF(AD20=\"\",\"\",INDEX('Otras referencias'!K:L,MATCH(AD20,'Otras referencias'!L:L,0),1))","v":""},null,"---",null,null,null,{"$f":"IF(V20=\"\",\"\",INDEX('Otras referencias'!AO:AQ,MATCH(V20,'Otras referencias'!AO:AO,0),3))","v":""},{"$f":"IF(SUMPRODUCT(--EXACT(K20&M20,$AJ$2:AJ19)),\"\",K20&M20)","v":""},{"$f":"IF(SUMPRODUCT(--EXACT(K20&M20,$AJ$2:AJ19)),\"\",MAX($AK$3:AK19)+1)","v":""}]
[1,{"$f":"IF(F21=\"\",\"\",IF(COUNTIF($F$3:F21, F21)>1, \"\", F21))","v":""},19,"",null,{"$f":"IF(I21=\"\",\"\",IF(K21=\"\",\"\", CONCATENATE(DIGITADOR!$M$1,G21,J21)))","v":""},null,null,"",{"$f":"IF(K21=\"\",\"\",INDEX('Otras referencias'!$AG:$AH,MATCH(K21,'Otras referencias'!$AG:$AG,0),2))","v":""},null,{"$f":"IF(J21=\"\",\"\",INDEX(referentes!$S:$W,MATCH(J21,referentes!$S:$S,0),1))","v":""},null,null,null,null,{"$f":"IF(P21=\"\",\"\",INDEX(referentes!$J:$K,MATCH(P21,referentes!$J:$J,0),2))","v":""},null,null,null,{"$f":"IF(T21=\"\",\"\",INDEX(referentes!D:E,MATCH(T21,referentes!D:D,0),2))","v":""},null,{"$f":"IF(V21=\"\",\"\",INDEX('Otras referencias'!AO:AP,MATCH(V21,'Otras referencias'!AO:AO,0),2))","v":""},null,{"$f":"IF(Z21=\"\",\"\",INDEX('Otras referencias'!H:I,MATCH(Z21,'Otras referencias'!I:I,0),1))","v":""},null,null,null,{"$f":"IF(AD21=\"\",\"\",INDEX('Otras referencias'!K:L,MATCH(AD21,'Otras referencias'!L:L,0),1))","v":""},null,"---",null,null,null,{"$f":"IF(V21=\"\",\"\",INDEX('Otras referencias'!AO:AQ,MATCH(V21,'Otras referencias'!AO:AO,0),3))","v":""},{"$f":"IF(SUMPRODUCT(--EXACT(K21&M21,$AJ$2:AJ20)),\"\",K21&M21)","v":""},{"$f":"IF(SUMPRODUCT(--EXACT(K21&M21,$AJ$2:AJ20)),\"\",MAX($AK$3:AK20)+1)","v":""}]
[1,{"$f":"IF(F22=\"\",\"\",IF(COUNTIF($F$3:F22, F22)>1, \"\", F22))","v":""},20,"",null,{"$f":"IF(I22=\"\",\"\",IF(K22=\"\",\"\", CONCATENATE(DIGITADOR!$M$1,G22,J22)))","v":""},null,null,"",{"$f":"IF(K22=\"\",\"\",INDEX('Otras referencias'!$AG:$AH,MATCH(K22,'Otras referencias'!$AG:$AG,0),2))","v":""},null,{"$f":"IF(J22=\"\",\"\",INDEX(referentes!$S:$W,MATCH(J22,referentes!$S:$S,0),1))","v":""},null,null,null,null,{"$f":"IF(P22=\"\",\"\",INDEX(referentes!$J:$K,MATCH(P22,referentes!$J:$J,0),2))","v":""},null,null,null,{"$f":"IF(T22=\"\",\"\",INDEX(referentes!D:E,MATCH(T22,referentes!D:D,0),2))","v":""},null,{"$f":"IF(V22=\"\",\"\",INDEX('Otras referencias'!AO:AP,MATCH(V22,'Otras referencias'!AO:AO,0),2))","v":""},null,{"$f":"IF(Z22=\"\",\"\",INDEX('Otras referencias'!H:I,MATCH(Z22,'Otras referencias'!I:I,0),1))","v":""},null,null,null,{"$f":"IF(AD22=\"\",\"\",INDEX('Otras referencias'!K:L,MATCH(AD22,'Otras referencias'!L:L,0),1))","v":""},null,"---",null,null,null,{"$f":"IF(V22=\"\",\"\",INDEX('Otras referencias'!AO:AQ,MATCH(V22,'Otras referencias'!AO:AO,0),3))","v":""},{"$f":"IF(SUMPRODUCT(--EXACT(K22&M22,$AJ$2:AJ21)),\"\",K22&M22)","v":""},{"$f":"IF(SUMPRODUCT(--EXACT(K22&M22,$AJ$2:AJ21)),\"\",MAX($AK$3:AK21)+1)","v":""}]
[1,{"$f":"IF(F23=\"\",\"\",IF(COUNTIF($F$3:F23, F23)>1, \"\", F23))","v":""},21,"",null,{"$f":"IF(I23=\"\",\"\",IF(K23=\"\",\"\", CONCATENATE(DIGITADOR!$M$1,G23,J23)))","v":""},null,null,"",{"$f":"IF(K23=\"\",\"\",INDEX('Otras referencias'!$AG:$AH,MATCH(K23,'Otras referencias'!$AG:$AG,0),2))","v":""},null,{"$f":"IF(J23=\"\",\"\",INDEX(referentes!$S:$W,MATCH(J23,referentes!$S:$S,0),1))","v":""},null,null,null,null,{"$f":"IF(P23=\"\",\"\",INDEX(referentes!$J:$K,MATCH(P23,referentes!$J:$J,0),2))","v":""},null,null,null,{"$f":"IF(T23=\"\",\"\",INDEX(referentes!D:E,MATCH(T23,referentes!D:D,0),2))","v":""},null,{"$f":"IF(V23=\"\",\"\",INDEX('Otras referencias'!AO:AP,MATCH(V23,'Otras referencias'!AO:AO,0),2))","v":""},null,{"$f":"IF(Z23=\"\",\"\",INDEX('Otras referencias'!H:I,MATCH(Z23,'Otras referencias'!I:I,0),1))","v":""},null,null,null,{"$f":"IF(AD23=\"\",\"\",INDEX('Otras referencias'!K:L,MATCH(AD23,'Otras referencias'!L:L,0),1))","v":""},null,"---",null,null,null,{"$f":"IF(V23=\"\",\"\",INDEX('Otras referencias'!AO:AQ,MATCH(V23,'Otras referencias'!AO:AO,0),3))","v":""},{"$f":"IF(SUMPRODUCT(--EXACT(K23&M23,$AJ$2:AJ22)),\"\",K23&M23)","v":""},{"$f":"IF(SUMPRODUCT(--EXACT(K23&M23,$AJ$2:AJ22)),\"\",MAX($AK$3:AK22)+1)","v":""}]
[1,{"$f":"IF(F24=\"\",\"\",IF(COUNTIF($F$3:F24, F24)>1, \"\", F24))","v":""},22,"",null,{"$f":"IF(I24=\"\",\"\",IF(K24=\"\",\"\", CONCATENATE(DIGITADOR!$M$1,G24,J24)))","v":""},null,null,"",{"$f":"IF(K24=\"\",\"\",INDEX('Otras referencias'!$AG:$AH,MATCH(K24,'Otras referencias'!$AG:$AG,0),2))","v":""},null,{"$f":"IF(J24=\"\",\"\",INDEX(referentes!$S:$W,MATCH(J24,referentes!$S:$S,0),1))","v":""},null,null,null,null,{"$f":"IF(P24=\"\",\"\",INDEX(referentes!$J:$K,MATCH(P24,referentes!$J:$J,0),2))","v":""},null,null,null,{"$f":"IF(T24=\"\",\"\",INDEX(referentes!D:E,MATCH(T24,referentes!D:D,0),2))","v":""},null,{"$f":"IF(V24=\"\",\"\",INDEX('Otras referencias'!AO:AP,MATCH(V24,'Otras referencias'!AO:AO,0),2))","v":""},null,{"$f":"IF(Z24=\"\",\"\",INDEX('Otras referencias'!H:I,MATCH(Z24,'Otras referencias'!I:I,0),1))","v":""},null,null,null,{"$f":"IF(AD24=\"\",\"\",INDEX('Otras referencias'!K:L,MATCH(AD24,'Otras referencias'!L:L,0),1))","v":""},null,"---",null,null,null,{"$f":"IF(V24=\"\",\"\",INDEX('Otras referencias'!AO:AQ,MATCH(V24,'Otras referencias'!AO:AO,0),3))","v":""},{"$f":"IF(SUMPRODUCT(--EXACT(K24&M24,$AJ$2:AJ23)),\"\",K24&M24)","v":""},{"$f":"IF(SUMPRODUCT(--EXACT(K24&M24,$AJ$2:AJ23)),\"\",MAX($AK$3:AK23)+1)","v":""}]
[1,{"$f":"IF(F25=\"\",\"\",IF(COUNTIF($F$3:F25, F25)>1, \"\", F25))","v":""},23,"",null,{"$f":"IF(I25=\"\",\"\",IF(K25=\"\",\"\", CONCATENATE(DIGITADOR!$M$1,G25,J25)))","v":""},null,null,"",{"$f":"IF(K25=\"\",\"\",INDEX('Otras referencias'!$AG:$AH,MATCH(K25,'Otras referencias'!$AG:$AG,0),2))","v":""},null,{"$f":"IF(J25=\"\",\"\",INDEX(referentes!$S:$W,MATCH(J25,referentes!$S:$S,0),1))","v":""},null,null,null,null,{"$f":"IF(P25=\"\",\"\",INDEX(referentes!$J:$K,MATCH(P25,referentes!$J:$J,0),2))","v":""},null,null,null,{"$f":"IF(T25=\"\",\"\",INDEX(referentes!D:E,MATCH(T25,referentes!D:D,0),2))","v":""},null,{"$f":"IF(V25=\"\",\"\",INDEX('Otras referencias'!AO:AP,MATCH(V25,'Otras referencias'!AO:AO,0),2))","v":""},null,{"$f":"IF(Z25=\"\",\"\",INDEX('Otras referencias'!H:I,MATCH(Z25,'Otras referencias'!I:I,0),1))","v":""},null,null,null,{"$f":"IF(AD25=\"\",\"\",INDEX('Otras referencias'!K:L,MATCH(AD25,'Otras referencias'!L:L,0),1))","v":""},null,"---",null,null,null,{"$f":"IF(V25=\"\",\"\",INDEX('Otras referencias'!AO:AQ,MATCH(V25,'Otras referencias'!AO:AO,0),3))","v":""},{"$f":"IF(SUMPRODUCT(--EXACT(K25&M25,$AJ$2:AJ24)),\"\",K25&M25)","v":""},{"$f":"IF(SUMPRODUCT(--EXACT(K25&M25,$AJ$2:AJ24)),\"\",MAX($AK$3:AK24)+1)","v":""}]
[1,{"$f":"IF(F26=\"\",\"\",IF(COUNTIF($F$3:F26, F26)>1, \"\", F26))","v":""},24,"",null,{"$f":"IF(I26=\"\",\"\",IF(K26=\"\",\"\", CONCATENATE(DIGITADOR!$M$1,G26,J26)))","v":""},null,null,"",{"$f":"IF(K26=\"\",\"\",INDEX('Otras referencias'!$AG:$AH,MATCH(K26,'Otras referencias'!$AG:$AG,0),2))","v":""},null,{"$f":"IF(J26=\"\",\"\",INDEX(referentes!$S:$W,MATCH(J26,referentes!$S:$S,0),1))","v":""},null,null,null,null,{"$f":"IF(P26=\"\",\"\",INDEX(referentes!$J:$K,MATCH(P26,referentes!$J:$J,0),2))","v":""},null,null,null,{"$f":"IF(T26=\"\",\"\",INDEX(referentes!D:E,MATCH(T26,referentes!D:D,0),2))","v":""},null,{"$f":"IF(V26=\"\",\"\",INDEX('Otras referencias'!AO:AP,MATCH(V26,'Otras referencias'!AO:AO,0),2))","v":""},null,{"$f":"IF(Z26=\"\",\"\",INDEX('Otras referencias'!H:I,MATCH(Z26,'Otras referencias'!I:I,0),1))","v":""},null,null,null,{"$f":"IF(AD26=\"\",\"\",INDEX('Otras referencias'!K:L,MATCH(AD26,'Otras referencias'!L:L,0),1))","v":""},null,"---",null,null,null,{"$f":"IF(V26=\"\",\"\",INDEX('Otras referencias'!AO:AQ,MATCH(V26,'Otras referencias'!AO:AO,0),3))","v":""},{"$f":"IF(SUMPRODUCT(--EXACT(K26&M26,$AJ$2:AJ25)),\"\",K26&M26)","v":""},{"$f":"IF(SUMPRODUCT(--EXACT(K26&M26,$AJ$2:AJ25)),\"\",MAX($AK$3:AK25)+1)","v":""}]
[1,{"$f":"IF(F27=\"\",\"\",IF(COUNTIF($F$3:F27, F27)>1, \"\", F27))","v":""},25,"",null,{"$f":"IF(I27=\"\",\"\",IF(K27=\"\",\"\", CONCATENATE(DIGITADOR!$M$1,G27,J27)))","v":""},null,null,"",{"$f":"IF(K27=\"\",\"\",INDEX('Otras referencias'!$AG:$AH,MATCH(K27,'Otras referencias'!$AG:$AG,0),2))","v":""},null,{"$f":"IF(J27=\"\",\"\",INDEX(referentes!$S:$W,MATCH(J27,referentes!$S:$S,0),1))","v":""},null,null,null,null,{"$f":"IF(P27=\"\",\"\",INDEX(referentes!$J:$K,MATCH(P27,referentes!$J:$J,0),2))","v":""},null,null,null,{"$f":"IF(T27=\"\",\"\",INDEX(referentes!D:E,MATCH(T27,referentes!D:D,0),2))","v":""},null,{"$f":"IF(V27=\"\",\"\",INDEX('Otras referencias'!AO:AP,MATCH(V27,'Otras referencias'!AO:AO,0),2))","v":""},null,{"$f":"IF(Z27=\"\",\"\",INDEX('Otras referencias'!H:I,MATCH(Z27,'Otras referencias'!I:I,0),1))","v":""},null,null,null,{"$f":"IF(AD27=\"\",\"\",INDEX('Otras referencias'!K:L,MATCH(AD27,'Otras referencias'!L:L,0),1))","v":""},null,"---",null,null,null,{"$f":"IF(V27=\"\",\"\",INDEX('Otras referencias'!AO:AQ,MATCH(V27,'Otras referencias'!AO:AO,0),3))","v":""},{"$f":"IF(SUMPRODUCT(--EXACT(K27&M27,$AJ$2:AJ26)),\"\",K27&M27)","v":""},{"$f":"IF(SUMPRODUCT(--EXACT(K27&M27,$AJ$2:AJ26)),\"\",MAX($AK$3:AK26)+1)","v":""}]
[1,{"$f":"IF(F28=\"\",\"\",IF(COUNTIF($F$3:F28, F28)>1, \"\", F28))","v":""},26,"",null,{"$f":"IF(I28=\"\",\"\",IF(K28=\"\",\"\", CONCATENATE(DIGITADOR!$M$1,G28,J28)))","v":""},null,null,"",{"$f":"IF(K28=\"\",\"\",INDEX('Otras referencias'!$AG:$AH,MATCH(K28,'Otras referencias'!$AG:$AG,0),2))","v":""},null,{"$f":"IF(J28=\"\",\"\",INDEX(referentes!$S:$W,MATCH(J28,referentes!$S:$S,0),1))","v":""},null,null,null,null,{"$f":"IF(P28=\"\",\"\",INDEX(referentes!$J:$K,MATCH(P28,referentes!$J:$J,0),2))","v":""},null,null,null,{"$f":"IF(T28=\"\",\"\",INDEX(referentes!D:E,MATCH(T28,referentes!D:D,0),2))","v":""},null,{"$f":"IF(V28=\"\",\"\",INDEX('Otras referencias'!AO:AP,MATCH(V28,'Otras referencias'!AO:AO,0),2))","v":""},null,{"$f":"IF(Z28=\"\",\"\",INDEX('Otras referencias'!H:I,MATCH(Z28,'Otras referencias'!I:I,0),1))","v":""},null,null,null,{"$f":"IF(AD28=\"\",\"\",INDEX('Otras referencias'!K:L,MATCH(AD28,'Otras referencias'!L:L,0),1))","v":""},null,"---",null,null,null,{"$f":"IF(V28=\"\",\"\",INDEX('Otras referencias'!AO:AQ,MATCH(V28,'Otras referencias'!AO:AO,0),3))","v":""},{"$f":"IF(SUMPRODUCT(--EXACT(K28&M28,$AJ$2:AJ27)),\"\",K28&M28)","v":""},{"$f":"IF(SUMPRODUCT(--EXACT(K28&M28,$AJ$2:AJ27)),\"\",MAX($AK$3:AK27)+1)","v":""}]
[1,{"$f":"IF(F29=\"\",\"\",IF(COUNTIF($F$3:F29, F29)>1, \"\", F29))","v":""},27,"",null,{"$f":"IF(I29=\"\",\"\",IF(K29=\"\",\"\", CONCATENATE(DIGITADOR!$M$1,G29,J29)))","v":""},null,null,"",{"$f":"IF(K29=\"\",\"\",INDEX('Otras referencias'!$AG:$AH,MATCH(K29,'Otras referencias'!$AG:$AG,0),2))","v":""},null,{"$f":"IF(J29=\"\",\"\",INDEX(referentes!$S:$W,MATCH(J29,referentes!$S:$S,0),1))","v":""},null,null,null,null,{"$f":"IF(P29=\"\",\"\",INDEX(referentes!$J:$K,MATCH(P29,referentes!$J:$J,0),2))","v":""},null,null,null,{"$f":"IF(T29=\"\",\"\",INDEX(referentes!D:E,MATCH(T29,referentes!D:D,0),2))","v":""},null,{"$f":"IF(V29=\"\",\"\",INDEX('Otras referencias'!AO:AP,MATCH(V29,'Otras referencias'!AO:AO,0),2))","v":""},null,{"$f":"IF(Z29=\"\",\"\",INDEX('Otras referencias'!H:I,MATCH(Z29,'Otras referencias'!I:I,0),1))","v":""},null,null,null,{"$f":"IF(AD29=\"\",\"\",INDEX('Otras referencias'!K:L,MATCH(AD29,'Otras referencias'!L:L,0),1))","v":""},null,"---",null,null,null,{"$f":"IF(V29=\"\",\"\",INDEX('Otras referencias'!AO:AQ,MATCH(V29,'Otras referencias'!AO:AO,0),3))","v":""},{"$f":"IF(SUMPRODUCT(--EXACT(K29&M29,$AJ$2:AJ28)),\"\",K29&M29)","v":""},{"$f":"IF(SUMPRODUCT(--EXACT(K29&M29,$AJ$2:AJ28)),\"\",MAX($AK$3:AK28)+1)","v":""}]
[1,{"$f":"IF(F30=\"\",\"\",IF(COUNTIF($F$3:F30, F30)>1, \"\", F30))","v":""},28,"",null,{"$f":"IF(I30=\"\",\"\",IF(K30=\"\",\"\", CONCATENATE(DIGITADOR!$M$1,G30,J30)))","v":""},null,null,"",{"$f":"IF(K30=\"\",\"\",INDEX('Otras referencias'!$AG:$AH,MATCH(K30,'Otras referencias'!$AG:$AG,0),2))","v":""},null,{"$f":"IF(J30=\"\",\"\",INDEX(referentes!$S:$W,MATCH(J30,referentes!$S:$S,0),1))","v":""},null,null,null,null,{"$f":"IF(P30=\"\",\"\",INDEX(referentes!$J:$K,MATCH(P30,referentes!$J:$J,0),2))","v":""},null,null,null,{"$f":"IF(T30=\"\",\"\",INDEX(referentes!D:E,MATCH(T30,referentes!D:D,0),2))","v":""},null,{"$f":"IF(V30=\"\",\"\",INDEX('Otras referencias'!AO:AP,MATCH(V30,'Otras referencias'!AO:AO,0),2))","v":""},null,{"$f":"IF(Z30=\"\",\"\",INDEX('Otras referencias'!H:I,MATCH(Z30,'Otras referencias'!I:I,0),1))","v":""},null,null,null,{"$f":"IF(AD30=\"\",\"\",INDEX('Otras referencias'!K:L,MATCH(AD30,'Otras referencias'!L:L,0),1))","v":""},null,"---",null,null,null,{"$f":"IF(V30=\"\",\"\",INDEX('Otras referencias'!AO:AQ,MATCH(V30,'Otras referencias'!AO:AO,0),3))","v":""},{"$f":"IF(SUMPRODUCT(--EXACT(K30&M30,$AJ$2:AJ29)),\"\",K30&M30)","v":""},{"$f":"IF(SUMPRODUCT(--EXACT(K30&M30,$AJ$2:AJ29)),\"\",MAX($AK$3:AK29)+1)","v":""}]
[1,{"$f":"IF(F31=\"\",\"\",IF(COUNTIF($F$3:F31, F31)>1, \"\", F31))","v":""},29,"",null,{"$f":"IF(I31=\"\",\"\",IF(K31=\"\",\"\", CONCATENATE(DIGITADOR!$M$1,G31,J31)))","v":""},null,null,"",{"$f":"IF(K31=\"\",\"\",INDEX('Otras referencias'!$AG:$AH,MATCH(K31,'Otras referencias'!$AG:$AG,0),2))","v":""},null,{"$f":"IF(J31=\"\",\"\",INDEX(referentes!$S:$W,MATCH(J31,referentes!$S:$S,0),1))","v":""},null,null,null,null,{"$f":"IF(P31=\"\",\"\",INDEX(referentes!$J:$K,MATCH(P31,referentes!$J:$J,0),2))","v":""},null,null,null,{"$f":"IF(T31=\"\",\"\",INDEX(referentes!D:E,MATCH(T31,referentes!D:D,0),2))","v":""},null,{"$f":"IF(V31=\"\",\"\",INDEX('Otras referencias'!AO:AP,MATCH(V31,'Otras referencias'!AO:AO,0),2))","v":""},null,{"$f":"IF(Z31=\"\",\"\",INDEX('Otras referencias'!H:I,MATCH(Z31,'Otras referencias'!I:I,0),1))","v":""},null,null,null,{"$f":"IF(AD31=\"\",\"\",INDEX('Otras referencias'!K:L,MATCH(AD31,'Otras referencias'!L:L,0),1))","v":""},null,"---",null,null,null,{"$f":"IF(V31=\"\",\"\",INDEX('Otras referencias'!AO:AQ,MATCH(V31,'Otras referencias'!AO:AO,0),3))","v":""},{"$f":"IF(SUMPRODUCT(--EXACT(K31&M31,$AJ$2:AJ30)),\"\",K31&M31)","v":""},{"$f":"IF(SUMPRODUCT(--EXACT(K31&M31,$AJ$2:AJ30)),\"\",MAX($AK$3:AK30)+1)","v":""}]
[1,{"$f":"IF(F32=\"\",\"\",IF(COUNTIF($F$3:F32, F32)>1, \"\", F32))","v":""},30,"",null,{"$f":"IF(I32=\"\",\"\",IF(K32=\"\",\"\", CONCATENATE(DIGITADOR!$M$1,G32,J32)))","v":""},null,null,"",{"$f":"IF(K32=\"\",\"\",INDEX('Otras referencias'!$AG:$AH,MATCH(K32,'Otras referencias'!$AG:$AG,0),2))","v":""},null,{"$f":"IF(J32=\"\",\"\",INDEX(referentes!$S:$W,MATCH(J32,referentes!$S:$S,0),1))","v":""},null,null,null,null,{"$f":"IF(P32=\"\",\"\",INDEX(referentes!$J:$K,MATCH(P32,referentes!$J:$J,0),2))","v":""},null,null,null,{"$f":"IF(T32=\"\",\"\",INDEX(referentes!D:E,MATCH(T32,referentes!D:D,0),2))","v":""},null,{"$f":"IF(V32=\"\",\"\",INDEX('Otras referencias'!AO:AP,MATCH(V32,'Otras referencias'!AO:AO,0),2))","v":""},null,{"$f":"IF(Z32=\"\",\"\",INDEX('Otras referencias'!H:I,MATCH(Z32,'Otras referencias'!I:I,0),1))","v":""},null,null,null,{"$f":"IF(AD32=\"\",\"\",INDEX('Otras referencias'!K:L,MATCH(AD32,'Otras referencias'!L:L,0),1))","v":""},null,"---",null,null,null,{"$f":"IF(V32=\"\",\"\",INDEX('Otras referencias'!AO:AQ,MATCH(V32,'Otras referencias'!AO:AO,0),3))","v":""},{"$f":"IF(SUMPRODUCT(--EXACT(K32&M32,$AJ$2:AJ31)),\"\",K32&M32)","v":""},{"$f":"IF(SUMPRODUCT(--EXACT(K32&M32,$AJ$2:AJ31)),\"\",MAX($AK$3:AK31)+1)","v":""}]
[1,{"$f":"IF(F33=\"\",\"\",IF(COUNTIF($F$3:F33, F33)>1, \"\", F33))","v":""},31,"",null,{"$f":"IF(I33=\"\",\"\",IF(K33=\"\",\"\", CONCATENATE(DIGITADOR!$M$1,G33,J33)))","v":""},null,null,"",{"$f":"IF(K33=\"\",\"\",INDEX('Otras referencias'!$AG:$AH,MATCH(K33,'Otras referencias'!$AG:$AG,0),2))","v":""},null,{"$f":"IF(J33=\"\",\"\",INDEX(referentes!$S:$W,MATCH(J33,referentes!$S:$S,0),1))","v":""},null,null,null,null,{"$f":"IF(P33=\"\",\"\",INDEX(referentes!$J:$K,MATCH(P33,referentes!$J:$J,0),2))","v":""},null,null,null,{"$f":"IF(T33=\"\",\"\",INDEX(referentes!D:E,MATCH(T33,referentes!D:D,0),2))","v":""},null,{"$f":"IF(V33=\"\",\"\",INDEX('Otras referencias'!AO:AP,MATCH(V33,'Otras referencias'!AO:AO,0),2))","v":""},null,{"$f":"IF(Z33=\"\",\"\",INDEX('Otras referencias'!H:I,MATCH(Z33,'Otras referencias'!I:I,0),1))","v":""},null,null,null,{"$f":"IF(AD33=\"\",\"\",INDEX('Otras referencias'!K:L,MATCH(AD33,'Otras referencias'!L:L,0),1))","v":""},null,"---",null,null,null,{"$f":"IF(V33=\"\",\"\",INDEX('Otras referencias'!AO:AQ,MATCH(V33,'Otras referencias'!AO:AO,0),3))","v":""},{"$f":"IF(SUMPRODUCT(--EXACT(K33&M33,$AJ$2:AJ32)),\"\",K33&M33)","v":""},{"$f":"IF(SUMPRODUCT(--EXACT(K33&M33,$AJ$2:AJ32)),\"\",MAX($AK$3:AK32)+1)","v":""}]
[1,{"$f":"IF(F34=\"\",\"\",IF(COUNTIF($F$3:F34, F34)>1, \"\", F34))","v":""},32,"",null,{"$f":"IF(I34=\"\",\"\",IF(K34=\"\",\"\", CONCATENATE(DIGITADOR!$M$1,G34,J34)))","v":""},null,null,"",{"$f":"IF(K34=\"\",\"\",INDEX('Otras referencias'!$AG:$AH,MATCH(K34,'Otras referencias'!$AG:$AG,0),2))","v":""},null,{"$f":"IF(J34=\"\",\"\",INDEX(referentes!$S:$W,MATCH(J34,referentes!$S:$S,0),1))","v":""},null,null,null,null,{"$f":"IF(P34=\"\",\"\",INDEX(referentes!$J:$K,MATCH(P34,referentes!$J:$J,0),2))","v":""},null,null,null,{"$f":"IF(T34=\"\",\"\",INDEX(referentes!D:E,MATCH(T34,referentes!D:D,0),2))","v":""},null,{"$f":"IF(V34=\"\",\"\",INDEX('Otras referencias'!AO:AP,MATCH(V34,'Otras referencias'!AO:AO,0),2))","v":""},null,{"$f":"IF(Z34=\"\",\"\",INDEX('Otras referencias'!H:I,MATCH(Z34,'Otras referencias'!I:I,0),1))","v":""},null,null,null,{"$f":"IF(AD34=\"\",\"\",INDEX('Otras referencias'!K:L,MATCH(AD34,'Otras referencias'!L:L,0),1))","v":""},null,"---",null,null,null,{"$f":"IF(V34=\"\",\"\",INDEX('Otras referencias'!AO:AQ,MATCH(V34,'Otras referencias'!AO:AO,0),3))","v":""},{"$f":"IF(SUMPRODUCT(--EXACT(K34&M34,$AJ$2:AJ33)),\"\",K34&M34)","v":""},{"$f":"IF(SUMPRODUCT(--EXACT(K34&M34,$AJ$2:AJ33)),\"\",MAX($AK$3:AK33)+1)","v":""}]
[1,{"$f":"IF(F35=\"\",\"\",IF(COUNTIF($F$3:F35, F35)>1, \"\", F35))","v":""},33,"",null,{"$f":"IF(I35=\"\",\"\",IF(K35=\"\",\"\", CONCATENATE(DIGITADOR!$M$1,G35,J35)))","v":""},null,null,"",{"$f":"IF(K35=\"\",\"\",INDEX('Otras referencias'!$AG:$AH,MATCH(K35,'Otras referencias'!$AG:$AG,0),2))","v":""},null,{"$f":"IF(J35=\"\",\"\",INDEX(referentes!$S:$W,MATCH(J35,referentes!$S:$S,0),1))","v":""},null,null,null,null,{"$f":"IF(P35=\"\",\"\",INDEX(referentes!$J:$K,MATCH(P35,referentes!$J:$J,0),2))","v":""},null,null,null,{"$f":"IF(T35=\"\",\"\",INDEX(referentes!D:E,MATCH(T35,referentes!D:D,0),2))","v":""},null,{"$f":"IF(V35=\"\",\"\",INDEX('Otras referencias'!AO:AP,MATCH(V35,'Otras referencias'!AO:AO,0),2))","v":""},null,{"$f":"IF(Z35=\"\",\"\",INDEX('Otras referencias'!H:I,MATCH(Z35,'Otras referencias'!I:I,0),1))","v":""},null,null,null,{"$f":"IF(AD35=\"\",\"\",INDEX('Otras referencias'!K:L,MATCH(AD35,'Otras referencias'!L:L,0),1))","v":""},null,"---",null,null,null,{"$f":"IF(V35=\"\",\"\",INDEX('Otras referencias'!AO:AQ,MATCH(V35,'Otras referencias'!AO:AO,0),3))","v":""},{"$f":"IF(SUMPRODUCT(--EXACT(K35&M35,$AJ$2:AJ34)),\"\",K35&M35)","v":""},{"$f":"IF(SUMPRODUCT(--EXACT(K35&M35,$AJ$2:AJ34)),\"\",MAX($AK$3:AK34)+1)","v":""}]
[1,{"$f":"IF(F36=\"\",\"\",IF(COUNTIF($F$3:F36, F36)>1, \"\", F36))","v":""},34,"",null,{"$f":"IF(I36=\"\",\"\",IF(K36=\"\",\"\", CONCATENATE(DIGITADOR!$M$1,G36,J36)))","v":""},null,null,"",{"$f":"IF(K36=\"\",\"\",INDEX('Otras referencias'!$AG:$AH,MATCH(K36,'Otras referencias'!$AG:$AG,0),2))","v":""},null,{"$f":"IF(J36=\"\",\"\",INDEX(referentes!$S:$W,MATCH(J36,referentes!$S:$S,0),1))","v":""},null,null,null,null,{"$f":"IF(P36=\"\",\"\",INDEX(referentes!$J:$K,MATCH(P36,referentes!$J:$J,0),2))","v":""},null,null,null,{"$f":"IF(T36=\"\",\"\",INDEX(referentes!D:E,MATCH(T36,referentes!D:D,0),2))","v":""},null,{"$f":"IF(V36=\"\",\"\",INDEX('Otras referencias'!AO:AP,MATCH(V36,'Otras referencias'!AO:AO,0),2))","v":""},null,{"$f":"IF(Z36=\"\",\"\",INDEX('Otras referencias'!H:I,MATCH(Z36,'Otras referencias'!I:I,0),1))","v":""},null,null,null,{"$f":"IF(AD36=\"\",\"\",INDEX('Otras referencias'!K:L,MATCH(AD36,'Otras referencias'!L:L,0),1))","v":""},null,"---",null,null,null,{"$f":"IF(V36=\"\",\"\",INDEX('Otras referencias'!AO:AQ,MATCH(V36,'Otras referencias'!AO:AO,0),3))","v":""},{"$f":"IF(SUMPRODUCT(--EXACT(K36&M36,$AJ$2:AJ35)),\"\",K36&M36)","v":""},{"$f":"IF(SUMPRODUCT(--EXACT(K36&M36,$AJ$2:AJ35)),\"\",MAX($AK$3:AK35)+1)","v":""}]
[1,{"$f":"IF(F37=\"\",\"\",IF(COUNTIF($F$3:F37, F37)>1, \"\", F37))","v":""},35,"",null,{"$f":"IF(I37=\"\",\"\",IF(K37=\"\",\"\", CONCATENATE(DIGITADOR!$M$1,G37,J37)))","v":""},null,null,"",{"$f":"IF(K37=\"\",\"\",INDEX('Otras referencias'!$AG:$AH,MATCH(K37,'Otras referencias'!$AG:$AG,0),2))","v":""},null,{"$f":"IF(J37=\"\",\"\",INDEX(referentes!$S:$W,MATCH(J37,referentes!$S:$S,0),1))","v":""},null,null,null,null,{"$f":"IF(P37=\"\",\"\",INDEX(referentes!$J:$K,MATCH(P37,referentes!$J:$J,0),2))","v":""},null,null,null,{"$f":"IF(T37=\"\",\"\",INDEX(referentes!D:E,MATCH(T37,referentes!D:D,0),2))","v":""},null,{"$f":"IF(V37=\"\",\"\",INDEX('Otras referencias'!AO:AP,MATCH(V37,'Otras referencias'!AO:AO,0),2))","v":""},null,{"$f":"IF(Z37=\"\",\"\",INDEX('Otras referencias'!H:I,MATCH(Z37,'Otras referencias'!I:I,0),1))","v":""},null,null,null,{"$f":"IF(AD37=\"\",\"\",INDEX('Otras referencias'!K:L,MATCH(AD37,'Otras referencias'!L:L,0),1))","v":""},null,"---",null,null,null,{"$f":"IF(V37=\"\",\"\",INDEX('Otras referencias'!AO:AQ,MATCH(V37,'Otras referencias'!AO:AO,0),3))","v":""},{"$f":"IF(SUMPRODUCT(--EXACT(K37&M37,$AJ$2:AJ36)),\"\",K37&M37)","v":""},{"$f":"IF(SUMPRODUCT(--EXACT(K37&M37,$AJ$2:AJ36)),\"\",MAX($AK$3:AK36)+1)","v":""}]
[1,{"$f":"IF(F38=\"\",\"\",IF(COUNTIF($F$3:F38, F38)>1, \"\", F38))","v":""},36,"",null,{"$f":"IF(I38=\"\",\"\",IF(K38=\"\",\"\", CONCATENATE(DIGITADOR!$M$1,G38,J38)))","v":""},null,null,"",{"$f":"IF(K38=\"\",\"\",INDEX('Otras referencias'!$AG:$AH,MATCH(K38,'Otras referencias'!$AG:$AG,0),2))","v":""},null,{"$f":"IF(J38=\"\",\"\",INDEX(referentes!$S:$W,MATCH(J38,referentes!$S:$S,0),1))","v":""},null,null,null,null,{"$f":"IF(P38=\"\",\"\",INDEX(referentes!$J:$K,MATCH(P38,referentes!$J:$J,0),2))","v":""},null,null,null,{"$f":"IF(T38=\"\",\"\",INDEX(referentes!D:E,MATCH(T38,referentes!D:D,0),2))","v":""},null,{"$f":"IF(V38=\"\",\"\",INDEX('Otras referencias'!AO:AP,MATCH(V38,'Otras referencias'!AO:AO,0),2))","v":""},null,{"$f":"IF(Z38=\"\",\"\",INDEX('Otras referencias'!H:I,MATCH(Z38,'Otras referencias'!I:I,0),1))","v":""},null,null,null,{"$f":"IF(AD38=\"\",\"\",INDEX('Otras referencias'!K:L,MATCH(AD38,'Otras referencias'!L:L,0),1))","v":""},null,"---",null,null,null,{"$f":"IF(V38=\"\",\"\",INDEX('Otras referencias'!AO:AQ,MATCH(V38,'Otras referencias'!AO:AO,0),3))","v":""},{"$f":"IF(SUMPRODUCT(--EXACT(K38&M38,$AJ$2:AJ37)),\"\",K38&M38)","v":""},{"$f":"IF(SUMPRODUCT(--EXACT(K38&M38,$AJ$2:AJ37)),\"\",MAX($AK$3:AK37)+1)","v":""}]
[1,{"$f":"IF(F39=\"\",\"\",IF(COUNTIF($F$3:F39, F39)>1, \"\", F39))","v":""},37,"",null,{"$f":"IF(I39=\"\",\"\",IF(K39=\"\",\"\", CONCATENATE(DIGITADOR!$M$1,G39,J39)))","v":""},null,null,"",{"$f":"IF(K39=\"\",\"\",INDEX('Otras referencias'!$AG:$AH,MATCH(K39,'Otras referencias'!$AG:$AG,0),2))","v":""},null,{"$f":"IF(J39=\"\",\"\",INDEX(referentes!$S:$W,MATCH(J39,referentes!$S:$S,0),1))","v":""},null,null,null,null,{"$f":"IF(P39=\"\",\"\",INDEX(referentes!$J:$K,MATCH(P39,referentes!$J:$J,0),2))","v":""},null,null,null,{"$f":"IF(T39=\"\",\"\",INDEX(referentes!D:E,MATCH(T39,referentes!D:D,0),2))","v":""},null,{"$f":"IF(V39=\"\",\"\",INDEX('Otras referencias'!AO:AP,MATCH(V39,'Otras referencias'!AO:AO,0),2))","v":""},null,{"$f":"IF(Z39=\"\",\"\",INDEX('Otras referencias'!H:I,MATCH(Z39,'Otras referencias'!I:I,0),1))","v":""},null,null,null,{"$f":"IF(AD39=\"\",\"\",INDEX('Otras referencias'!K:L,MATCH(AD39,'Otras referencias'!L:L,0),1))","v":""},null,"---",null,null,null,{"$f":"IF(V39=\"\",\"\",INDEX('Otras referencias'!AO:AQ,MATCH(V39,'Otras referencias'!AO:AO,0),3))","v":""},{"$f":"IF(SUMPRODUCT(--EXACT(K39&M39,$AJ$2:AJ38)),\"\",K39&M39)","v":""},{"$f":"IF(SUMPRODUCT(--EXACT(K39&M39,$AJ$2:AJ38)),\"\",MAX($AK$3:AK38)+1)","v":""}]
[1,{"$f":"IF(F40=\"\",\"\",IF(COUNTIF($F$3:F40, F40)>1, \"\", F40))","v":""},38,"",null,{"$f":"IF(I40=\"\",\"\",IF(K40=\"\",\"\", CONCATENATE(DIGITADOR!$M$1,G40,J40)))","v":""},null,null,"",{"$f":"IF(K40=\"\",\"\",INDEX('Otras referencias'!$AG:$AH,MATCH(K40,'Otras referencias'!$AG:$AG,0),2))","v":""},null,{"$f":"IF(J40=\"\",\"\",INDEX(referentes!$S:$W,MATCH(J40,referentes!$S:$S,0),1))","v":""},null,null,null,null,{"$f":"IF(P40=\"\",\"\",INDEX(referentes!$J:$K,MATCH(P40,referentes!$J:$J,0),2))","v":""},null,null,null,{"$f":"IF(T40=\"\",\"\",INDEX(referentes!D:E,MATCH(T40,referentes!D:D,0),2))","v":""},null,{"$f":"IF(V40=\"\",\"\",INDEX('Otras referencias'!AO:AP,MATCH(V40,'Otras referencias'!AO:AO,0),2))","v":""},null,{"$f":"IF(Z40=\"\",\"\",INDEX('Otras referencias'!H:I,MATCH(Z40,'Otras referencias'!I:I,0),1))","v":""},null,null,null,{"$f":"IF(AD40=\"\",\"\",INDEX('Otras referencias'!K:L,MATCH(AD40,'Otras referencias'!L:L,0),1))","v":""},null,"---",null,null,null,{"$f":"IF(V40=\"\",\"\",INDEX('Otras referencias'!AO:AQ,MATCH(V40,'Otras referencias'!AO:AO,0),3))","v":""},{"$f":"IF(SUMPRODUCT(--EXACT(K40&M40,$AJ$2:AJ39)),\"\",K40&M40)","v":""},{"$f":"IF(SUMPRODUCT(--EXACT(K40&M40,$AJ$2:AJ39)),\"\",MAX($AK$3:AK39)+1)","v":""}]
[1,{"$f":"IF(F41=\"\",\"\",IF(COUNTIF($F$3:F41, F41)>1, \"\", F41))","v":""},39,"",null,{"$f":"IF(I41=\"\",\"\",IF(K41=\"\",\"\", CONCATENATE(DIGITADOR!$M$1,G41,J41)))","v":""},null,null,"",{"$f":"IF(K41=\"\",\"\",INDEX('Otras referencias'!$AG:$AH,MATCH(K41,'Otras referencias'!$AG:$AG,0),2))","v":""},null,{"$f":"IF(J41=\"\",\"\",INDEX(referentes!$S:$W,MATCH(J41,referentes!$S:$S,0),1))","v":""},null,null,null,null,{"$f":"IF(P41=\"\",\"\",INDEX(referentes!$J:$K,MATCH(P41,referentes!$J:$J,0),2))","v":""},null,null,null,{"$f":"IF(T41=\"\",\"\",INDEX(referentes!D:E,MATCH(T41,referentes!D:D,0),2))","v":""},null,{"$f":"IF(V41=\"\",\"\",INDEX('Otras referencias'!AO:AP,MATCH(V41,'Otras referencias'!AO:AO,0),2))","v":""},null,{"$f":"IF(Z41=\"\",\"\",INDEX('Otras referencias'!H:I,MATCH(Z41,'Otras referencias'!I:I,0),1))","v":""},null,null,null,{"$f":"IF(AD41=\"\",\"\",INDEX('Otras referencias'!K:L,MATCH(AD41,'Otras referencias'!L:L,0),1))","v":""},null,"---",null,null,null,{"$f":"IF(V41=\"\",\"\",INDEX('Otras referencias'!AO:AQ,MATCH(V41,'Otras referencias'!AO:AO,0),3))","v":""},{"$f":"IF(SUMPRODUCT(--EXACT(K41&M41,$AJ$2:AJ40)),\"\",K41&M41)","v":""},{"$f":"IF(SUMPRODUCT(--EXACT(K41&M41,$AJ$2:AJ40)),\"\",MAX($AK$3:AK40)+1)","v":""}]
[1,{"$f":"IF(F42=\"\",\"\",IF(COUNTIF($F$3:F42, F42)>1, \"\", F42))","v":""},40,"",null,{"$f":"IF(I42=\"\",\"\",IF(K42=\"\",\"\", CONCATENATE(DIGITADOR!$M$1,G42,J42)))","v":""},null,null,"",{"$f":"IF(K42=\"\",\"\",INDEX('Otras referencias'!$AG:$AH,MATCH(K42,'Otras referencias'!$AG:$AG,0),2))","v":""},null,{"$f":"IF(J42=\"\",\"\",INDEX(referentes!$S:$W,MATCH(J42,referentes!$S:$S,0),1))","v":""},null,null,null,null,{"$f":"IF(P42=\"\",\"\",INDEX(referentes!$J:$K,MATCH(P42,referentes!$J:$J,0),2))","v":""},null,null,null,{"$f":"IF(T42=\"\",\"\",INDEX(referentes!D:E,MATCH(T42,referentes!D:D,0),2))","v":""},null,{"$f":"IF(V42=\"\",\"\",INDEX('Otras referencias'!AO:AP,MATCH(V42,'Otras referencias'!AO:AO,0),2))","v":""},null,{"$f":"IF(Z42=\"\",\"\",INDEX('Otras referencias'!H:I,MATCH(Z42,'Otras referencias'!I:I,0),1))","v":""},null,null,null,{"$f":"IF(AD42=\"\",\"\",INDEX('Otras referencias'!K:L,MATCH(AD42,'Otras referencias'!L:L,0),1))","v":""},null,"---",null,null,null,{"$f":"IF(V42=\"\",\"\",INDEX('Otras referencias'!AO:AQ,MATCH(V42,'Otras referencias'!AO:AO,0),3))","v":""},{"$f":"IF(SUMPRODUCT(--EXACT(K42&M42,$AJ$2:AJ41)),\"\",K42&M42)","v":""},{"$f":"IF(SUMPRODUCT(--EXACT(K42&M42,$AJ$2:AJ41)),\"\",MAX($AK$3:AK41)+1)","v":""}]
[1,{"$f":"IF(F43=\"\",\"\",IF(COUNTIF($F$3:F43, F43)>1, \"\", F43))","v":""},41,"",null,{"$f":"IF(I43=\"\",\"\",IF(K43=\"\",\"\", CONCATENATE(DIGITADOR!$M$1,G43,J43)))","v":""},null,null,"",{"$f":"IF(K43=\"\",\"\",INDEX('Otras referencias'!$AG:$AH,MATCH(K43,'Otras referencias'!$AG:$AG,0),2))","v":""},null,{"$f":"IF(J43=\"\",\"\",INDEX(referentes!$S:$W,MATCH(J43,referentes!$S:$S,0),1))","v":""},null,null,null,null,{"$f":"IF(P43=\"\",\"\",INDEX(referentes!$J:$K,MATCH(P43,referentes!$J:$J,0),2))","v":""},null,null,null,{"$f":"IF(T43=\"\",\"\",INDEX(referentes!D:E,MATCH(T43,referentes!D:D,0),2))","v":""},null,{"$f":"IF(V43=\"\",\"\",INDEX('Otras referencias'!AO:AP,MATCH(V43,'Otras referencias'!AO:AO,0),2))","v":""},null,{"$f":"IF(Z43=\"\",\"\",INDEX('Otras referencias'!H:I,MATCH(Z43,'Otras referencias'!I:I,0),1))","v":""},null,null,null,{"$f":"IF(AD43=\"\",\"\",INDEX('Otras referencias'!K:L,MATCH(AD43,'Otras referencias'!L:L,0),1))","v":""},null,"---",null,null,null,{"$f":"IF(V43=\"\",\"\",INDEX('Otras referencias'!AO:AQ,MATCH(V43,'Otras referencias'!AO:AO,0),3))","v":""},{"$f":"IF(SUMPRODUCT(--EXACT(K43&M43,$AJ$2:AJ42)),\"\",K43&M43)","v":""},{"$f":"IF(SUMPRODUCT(--EXACT(K43&M43,$AJ$2:AJ42)),\"\",MAX($AK$3:AK42)+1)","v":""}]
[1,{"$f":"IF(F44=\"\",\"\",IF(COUNTIF($F$3:F44, F44)>1, \"\", F44))","v":""},42,"",null,{"$f":"IF(I44=\"\",\"\",IF(K44=\"\",\"\", CONCATENATE(DIGITADOR!$M$1,G44,J44)))","v":""},null,null,"",{"$f":"IF(K44=\"\",\"\",INDEX('Otras referencias'!$AG:$AH,MATCH(K44,'Otras referencias'!$AG:$AG,0),2))","v":""},null,{"$f":"IF(J44=\"\",\"\",INDEX(referentes!$S:$W,MATCH(J44,referentes!$S:$S,0),1))","v":""},null,null,null,null,{"$f":"IF(P44=\"\",\"\",INDEX(referentes!$J:$K,MATCH(P44,referentes!$J:$J,0),2))","v":""},null,null,null,{"$f":"IF(T44=\"\",\"\",INDEX(referentes!D:E,MATCH(T44,referentes!D:D,0),2))","v":""},null,{"$f":"IF(V44=\"\",\"\",INDEX('Otras referencias'!AO:AP,MATCH(V44,'Otras referencias'!AO:AO,0),2))","v":""},null,{"$f":"IF(Z44=\"\",\"\",INDEX('Otras referencias'!H:I,MATCH(Z44,'Otras referencias'!I:I,0),1))","v":""},null,null,null,{"$f":"IF(AD44=\"\",\"\",INDEX('Otras referencias'!K:L,MATCH(AD44,'Otras referencias'!L:L,0),1))","v":""},null,"---",null,null,null,{"$f":"IF(V44=\"\",\"\",INDEX('Otras referencias'!AO:AQ,MATCH(V44,'Otras referencias'!AO:AO,0),3))","v":""},{"$f":"IF(SUMPRODUCT(--EXACT(K44&M44,$AJ$2:AJ43)),\"\",K44&M44)","v":""},{"$f":"IF(SUMPRODUCT(--EXACT(K44&M44,$AJ$2:AJ43)),\"\",MAX($AK$3:AK43)+1)","v":""}]
[1,{"$f":"IF(F45=\"\",\"\",IF(COUNTIF($F$3:F45, F45)>1, \"\", F45))","v":""},43,"",null,{"$f":"IF(I45=\"\",\"\",IF(K45=\"\",\"\", CONCATENATE(DIGITADOR!$M$1,G45,J45)))","v":""},null,null,"",{"$f":"IF(K45=\"\",\"\",INDEX('Otras referencias'!$AG:$AH,MATCH(K45,'Otras referencias'!$AG:$AG,0),2))","v":""},null,{"$f":"IF(J45=\"\",\"\",INDEX(referentes!$S:$W,MATCH(J45,referentes!$S:$S,0),1))","v":""},null,null,null,null,{"$f":"IF(P45=\"\",\"\",INDEX(referentes!$J:$K,MATCH(P45,referentes!$J:$J,0),2))","v":""},null,null,null,{"$f":"IF(T45=\"\",\"\",INDEX(referentes!D:E,MATCH(T45,referentes!D:D,0),2))","v":""},null,{"$f":"IF(V45=\"\",\"\",INDEX('Otras referencias'!AO:AP,MATCH(V45,'Otras referencias'!AO:AO,0),2))","v":""},null,{"$f":"IF(Z45=\"\",\"\",INDEX('Otras referencias'!H:I,MATCH(Z45,'Otras referencias'!I:I,0),1))","v":""},null,null,null,{"$f":"IF(AD45=\"\",\"\",INDEX('Otras referencias'!K:L,MATCH(AD45,'Otras referencias'!L:L,0),1))","v":""},null,"---",null,null,null,{"$f":"IF(V45=\"\",\"\",INDEX('Otras referencias'!AO:AQ,MATCH(V45,'Otras referencias'!AO:AO,0),3))","v":""},{"$f":"IF(SUMPRODUCT(--EXACT(K45&M45,$AJ$2:AJ44)),\"\",K45&M45)","v":""},{"$f":"IF(SUMPRODUCT(--EXACT(K45&M45,$AJ$2:AJ44)),\"\",MAX($AK$3:AK44)+1)","v":""}]
[1,{"$f":"IF(F46=\"\",\"\",IF(COUNTIF($F$3:F46, F46)>1, \"\", F46))","v":""},44,"",null,{"$f":"IF(I46=\"\",\"\",IF(K46=\"\",\"\", CONCATENATE(DIGITADOR!$M$1,G46,J46)))","v":""},null,null,"",{"$f":"IF(K46=\"\",\"\",INDEX('Otras referencias'!$AG:$AH,MATCH(K46,'Otras referencias'!$AG:$AG,0),2))","v":""},null,{"$f":"IF(J46=\"\",\"\",INDEX(referentes!$S:$W,MATCH(J46,referentes!$S:$S,0),1))","v":""},null,null,null,null,{"$f":"IF(P46=\"\",\"\",INDEX(referentes!$J:$K,MATCH(P46,referentes!$J:$J,0),2))","v":""},null,null,null,{"$f":"IF(T46=\"\",\"\",INDEX(referentes!D:E,MATCH(T46,referentes!D:D,0),2))","v":""},null,{"$f":"IF(V46=\"\",\"\",INDEX('Otras referencias'!AO:AP,MATCH(V46,'Otras referencias'!AO:AO,0),2))","v":""},null,{"$f":"IF(Z46=\"\",\"\",INDEX('Otras referencias'!H:I,MATCH(Z46,'Otras referencias'!I:I,0),1))","v":""},null,null,null,{"$f":"IF(AD46=\"\",\"\",INDEX('Otras referencias'!K:L,MATCH(AD46,'Otras referencias'!L:L,0),1))","v":""},null,"---",null,null,null,{"$f":"IF(V46=\"\",\"\",INDEX('Otras referencias'!AO:AQ,MATCH(V46,'Otras referencias'!AO:AO,0),3))","v":""},{"$f":"IF(SUMPRODUCT(--EXACT(K46&M46,$AJ$2:AJ45)),\"\",K46&M46)","v":""},{"$f":"IF(SUMPRODUCT(--EXACT(K46&M46,$AJ$2:AJ45)),\"\",MAX($AK$3:AK45)+1)","v":""}]
[1,{"$f":"IF(F47=\"\",\"\",IF(COUNTIF($F$3:F47, F47)>1, \"\", F47))","v":""},45,"",null,{"$f":"IF(I47=\"\",\"\",IF(K47=\"\",\"\", CONCATENATE(DIGITADOR!$M$1,G47,J47)))","v":""},null,null,"",{"$f":"IF(K47=\"\",\"\",INDEX('Otras referencias'!$AG:$AH,MATCH(K47,'Otras referencias'!$AG:$AG,0),2))","v":""},null,{"$f":"IF(J47=\"\",\"\",INDEX(referentes!$S:$W,MATCH(J47,referentes!$S:$S,0),1))","v":""},null,null,null,null,{"$f":"IF(P47=\"\",\"\",INDEX(referentes!$J:$K,MATCH(P47,referentes!$J:$J,0),2))","v":""},null,null,null,{"$f":"IF(T47=\"\",\"\",INDEX(referentes!D:E,MATCH(T47,referentes!D:D,0),2))","v":""},null,{"$f":"IF(V47=\"\",\"\",INDEX('Otras referencias'!AO:AP,MATCH(V47,'Otras referencias'!AO:AO,0),2))","v":""},null,{"$f":"IF(Z47=\"\",\"\",INDEX('Otras referencias'!H:I,MATCH(Z47,'Otras referencias'!I:I,0),1))","v":""},null,null,null,{"$f":"IF(AD47=\"\",\"\",INDEX('Otras referencias'!K:L,MATCH(AD47,'Otras referencias'!L:L,0),1))","v":""},null,"---",null,null,null,{"$f":"IF(V47=\"\",\"\",INDEX('Otras referencias'!AO:AQ,MATCH(V47,'Otras referencias'!AO:AO,0),3))","v":""},{"$f":"IF(SUMPRODUCT(--EXACT(K47&M47,$AJ$2:AJ46)),\"\",K47&M47)","v":""},{"$f":"IF(SUMPRODUCT(--EXACT(K47&M47,$AJ$2:AJ46)),\"\",MAX($AK$3:AK46)+1)","v":""}]
[1,{"$f":"IF(F48=\"\",\"\",IF(COUNTIF($F$3:F48, F48)>1, \"\", F48))","v":""},46,"",null,{"$f":"IF(I48=\"\",\"\",IF(K48=\"\",\"\", CONCATENATE(DIGITADOR!$M$1,G48,J48)))","v":""},null,null,"",{"$f":"IF(K48=\"\",\"\",INDEX('Otras referencias'!$AG:$AH,MATCH(K48,'Otras referencias'!$AG:$AG,0),2))","v":""},null,{"$f":"IF(J48=\"\",\"\",INDEX(referentes!$S:$W,MATCH(J48,referentes!$S:$S,0),1))","v":""},null,null,null,null,{"$f":"IF(P48=\"\",\"\",INDEX(referentes!$J:$K,MATCH(P48,referentes!$J:$J,0),2))","v":""},null,null,null,{"$f":"IF(T48=\"\",\"\",INDEX(referentes!D:E,MATCH(T48,referentes!D:D,0),2))","v":""},null,{"$f":"IF(V48=\"\",\"\",INDEX('Otras referencias'!AO:AP,MATCH(V48,'Otras referencias'!AO:AO,0),2))","v":""},null,{"$f":"IF(Z48=\"\",\"\",INDEX('Otras referencias'!H:I,MATCH(Z48,'Otras referencias'!I:I,0),1))","v":""},null,null,null,{"$f":"IF(AD48=\"\",\"\",INDEX('Otras referencias'!K:L,MATCH(AD48,'Otras referencias'!L:L,0),1))","v":""},null,"---",null,null,null,{"$f":"IF(V48=\"\",\"\",INDEX('Otras referencias'!AO:AQ,MATCH(V48,'Otras referencias'!AO:AO,0),3))","v":""},{"$f":"IF(SUMPRODUCT(--EXACT(K48&M48,$AJ$2:AJ47)),\"\",K48&M48)","v":""},{"$f":"IF(SUMPRODUCT(--EXACT(K48&M48,$AJ$2:AJ47)),\"\",MAX($AK$3:AK47)+1)","v":""}]
[1,{"$f":"IF(F49=\"\",\"\",IF(COUNTIF($F$3:F49, F49)>1, \"\", F49))","v":""},47,"",null,{"$f":"IF(I49=\"\",\"\",IF(K49=\"\",\"\", CONCATENATE(DIGITADOR!$M$1,G49,J49)))","v":""},null,null,"",{"$f":"IF(K49=\"\",\"\",INDEX('Otras referencias'!$AG:$AH,MATCH(K49,'Otras referencias'!$AG:$AG,0),2))","v":""},null,{"$f":"IF(J49=\"\",\"\",INDEX(referentes!$S:$W,MATCH(J49,referentes!$S:$S,0),1))","v":""},null,null,null,null,{"$f":"IF(P49=\"\",\"\",INDEX(referentes!$J:$K,MATCH(P49,referentes!$J:$J,0),2))","v":""},null,null,null,{"$f":"IF(T49=\"\",\"\",INDEX(referentes!D:E,MATCH(T49,referentes!D:D,0),2))","v":""},null,{"$f":"IF(V49=\"\",\"\",INDEX('Otras referencias'!AO:AP,MATCH(V49,'Otras referencias'!AO:AO,0),2))","v":""},null,{"$f":"IF(Z49=\"\",\"\",INDEX('Otras referencias'!H:I,MATCH(Z49,'Otras referencias'!I:I,0),1))","v":""},null,null,null,{"$f":"IF(AD49=\"\",\"\",INDEX('Otras referencias'!K:L,MATCH(AD49,'Otras referencias'!L:L,0),1))","v":""},null,"---",null,null,null,{"$f":"IF(V49=\"\",\"\",INDEX('Otras referencias'!AO:AQ,MATCH(V49,'Otras referencias'!AO:AO,0),3))","v":""},{"$f":"IF(SUMPRODUCT(--EXACT(K49&M49,$AJ$2:AJ48)),\"\",K49&M49)","v":""},{"$f":"IF(SUMPRODUCT(--EXACT(K49&M49,$AJ$2:AJ48)),\"\",MAX($AK$3:AK48)+1)","v":""}]
[1,{"$f":"IF(F50=\"\",\"\",IF(COUNTIF($F$3:F50, F50)>1, \"\", F50))","v":""},48,"",null,{"$f":"IF(I50=\"\",\"\",IF(K50=\"\",\"\", CONCATENATE(DIGITADOR!$M$1,G50,J50)))","v":""},null,null,"",{"$f":"IF(K50=\"\",\"\",INDEX('Otras referencias'!$AG:$AH,MATCH(K50,'Otras referencias'!$AG:$AG,0),2))","v":""},null,{"$f":"IF(J50=\"\",\"\",INDEX(referentes!$S:$W,MATCH(J50,referentes!$S:$S,0),1))","v":""},null,null,null,null,{"$f":"IF(P50=\"\",\"\",INDEX(referentes!$J:$K,MATCH(P50,referentes!$J:$J,0),2))","v":""},null,null,null,{"$f":"IF(T50=\"\",\"\",INDEX(referentes!D:E,MATCH(T50,referentes!D:D,0),2))","v":""},null,{"$f":"IF(V50=\"\",\"\",INDEX('Otras referencias'!AO:AP,MATCH(V50,'Otras referencias'!AO:AO,0),2))","v":""},null,{"$f":"IF(Z50=\"\",\"\",INDEX('Otras referencias'!H:I,MATCH(Z50,'Otras referencias'!I:I,0),1))","v":""},null,null,null,{"$f":"IF(AD50=\"\",\"\",INDEX('Otras referencias'!K:L,MATCH(AD50,'Otras referencias'!L:L,0),1))","v":""},null,"---",null,null,null,{"$f":"IF(V50=\"\",\"\",INDEX('Otras referencias'!AO:AQ,MATCH(V50,'Otras referencias'!AO:AO,0),3))","v":""},{"$f":"IF(SUMPRODUCT(--EXACT(K50&M50,$AJ$2:AJ49)),\"\",K50&M50)","v":""},{"$f":"IF(SUMPRODUCT(--EXACT(K50&M50,$AJ$2:AJ49)),\"\",MAX($AK$3:AK49)+1)","v":""}]
[1,{"$f":"IF(F51=\"\",\"\",IF(COUNTIF($F$3:F51, F51)>1, \"\", F51))","v":""},49,"",null,{"$f":"IF(I51=\"\",\"\",IF(K51=\"\",\"\", CONCATENATE(DIGITADOR!$M$1,G51,J51)))","v":""},null,null,"",{"$f":"IF(K51=\"\",\"\",INDEX('Otras referencias'!$AG:$AH,MATCH(K51,'Otras referencias'!$AG:$AG,0),2))","v":""},null,{"$f":"IF(J51=\"\",\"\",INDEX(referentes!$S:$W,MATCH(J51,referentes!$S:$S,0),1))","v":""},null,null,null,null,{"$f":"IF(P51=\"\",\"\",INDEX(referentes!$J:$K,MATCH(P51,referentes!$J:$J,0),2))","v":""},null,null,null,{"$f":"IF(T51=\"\",\"\",INDEX(referentes!D:E,MATCH(T51,referentes!D:D,0),2))","v":""},null,{"$f":"IF(V51=\"\",\"\",INDEX('Otras referencias'!AO:AP,MATCH(V51,'Otras referencias'!AO:AO,0),2))","v":""},null,{"$f":"IF(Z51=\"\",\"\",INDEX('Otras referencias'!H:I,MATCH(Z51,'Otras referencias'!I:I,0),1))","v":""},null,null,null,{"$f":"IF(AD51=\"\",\"\",INDEX('Otras referencias'!K:L,MATCH(AD51,'Otras referencias'!L:L,0),1))","v":""},null,"---",null,null,null,{"$f":"IF(V51=\"\",\"\",INDEX('Otras referencias'!AO:AQ,MATCH(V51,'Otras referencias'!AO:AO,0),3))","v":""},{"$f":"IF(SUMPRODUCT(--EXACT(K51&M51,$AJ$2:AJ50)),\"\",K51&M51)","v":""},{"$f":"IF(SUMPRODUCT(--EXACT(K51&M51,$AJ$2:AJ50)),\"\",MAX($AK$3:AK50)+1)","v":""}]
[1,{"$f":"IF(F52=\"\",\"\",IF(COUNTIF($F$3:F52, F52)>1, \"\", F52))","v":""},50,"",null,{"$f":"IF(I52=\"\",\"\",IF(K52=\"\",\"\", CONCATENATE(DIGITADOR!$M$1,G52,J52)))","v":""},null,null,"",{"$f":"IF(K52=\"\",\"\",INDEX('Otras referencias'!$AG:$AH,MATCH(K52,'Otras referencias'!$AG:$AG,0),2))","v":""},null,{"$f":"IF(J52=\"\",\"\",INDEX(referentes!$S:$W,MATCH(J52,referentes!$S:$S,0),1))","v":""},null,null,null,null,{"$f":"IF(P52=\"\",\"\",INDEX(referentes!$J:$K,MATCH(P52,referentes!$J:$J,0),2))","v":""},null,null,null,{"$f":"IF(T52=\"\",\"\",INDEX(referentes!D:E,MATCH(T52,referentes!D:D,0),2))","v":""},null,{"$f":"IF(V52=\"\",\"\",INDEX('Otras referencias'!AO:AP,MATCH(V52,'Otras referencias'!AO:AO,0),2))","v":""},null,{"$f":"IF(Z52=\"\",\"\",INDEX('Otras referencias'!H:I,MATCH(Z52,'Otras referencias'!I:I,0),1))","v":""},null,null,null,{"$f":"IF(AD52=\"\",\"\",INDEX('Otras referencias'!K:L,MATCH(AD52,'Otras referencias'!L:L,0),1))","v":""},null,"---",null,null,null,{"$f":"IF(V52=\"\",\"\",INDEX('Otras referencias'!AO:AQ,MATCH(V52,'Otras referencias'!AO:AO,0),3))","v":""},{"$f":"IF(SUMPRODUCT(--EXACT(K52&M52,$AJ$2:AJ51)),\"\",K52&M52)","v":""},{"$f":"IF(SUMPRODUCT(--EXACT(K52&M52,$AJ$2:AJ51)),\"\",MAX($AK$3:AK51)+1)","v":""}]
[1,{"$f":"IF(F53=\"\",\"\",IF(COUNTIF($F$3:F53, F53)>1, \"\", F53))","v":""},51,"",null,{"$f":"IF(I53=\"\",\"\",IF(K53=\"\",\"\", CONCATENATE(DIGITADOR!$M$1,G53,J53)))","v":""},null,null,"",{"$f":"IF(K53=\"\",\"\",INDEX('Otras referencias'!$AG:$AH,MATCH(K53,'Otras referencias'!$AG:$AG,0),2))","v":""},null,{"$f":"IF(J53=\"\",\"\",INDEX(referentes!$S:$W,MATCH(J53,referentes!$S:$S,0),1))","v":""},null,null,null,null,{"$f":"IF(P53=\"\",\"\",INDEX(referentes!$J:$K,MATCH(P53,referentes!$J:$J,0),2))","v":""},null,null,null,{"$f":"IF(T53=\"\",\"\",INDEX(referentes!D:E,MATCH(T53,referentes!D:D,0),2))","v":""},null,{"$f":"IF(V53=\"\",\"\",INDEX('Otras referencias'!AO:AP,MATCH(V53,'Otras referencias'!AO:AO,0),2))","v":""},null,{"$f":"IF(Z53=\"\",\"\",INDEX('Otras referencias'!H:I,MATCH(Z53,'Otras referencias'!I:I,0),1))","v":""},null,null,null,{"$f":"IF(AD53=\"\",\"\",INDEX('Otras referencias'!K:L,MATCH(AD53,'Otras referencias'!L:L,0),1))","v":""},null,"---",null,null,null,{"$f":"IF(V53=\"\",\"\",INDEX('Otras referencias'!AO:AQ,MATCH(V53,'Otras referencias'!AO:AO,0),3))","v":""},{"$f":"IF(SUMPRODUCT(--EXACT(K53&M53,$AJ$2:AJ52)),\"\",K53&M53)","v":""},{"$f":"IF(SUMPRODUCT(--EXACT(K53&M53,$AJ$2:AJ52)),\"\",MAX($AK$3:AK52)+1)","v":""}]
[1,{"$f":"IF(F54=\"\",\"\",IF(COUNTIF($F$3:F54, F54)>1, \"\", F54))","v":""},52,"",null,{"$f":"IF(I54=\"\",\"\",IF(K54=\"\",\"\", CONCATENATE(DIGITADOR!$M$1,G54,J54)))","v":""},null,null,"",{"$f":"IF(K54=\"\",\"\",INDEX('Otras referencias'!$AG:$AH,MATCH(K54,'Otras referencias'!$AG:$AG,0),2))","v":""},null,{"$f":"IF(J54=\"\",\"\",INDEX(referentes!$S:$W,MATCH(J54,referentes!$S:$S,0),1))","v":""},null,null,null,null,{"$f":"IF(P54=\"\",\"\",INDEX(referentes!$J:$K,MATCH(P54,referentes!$J:$J,0),2))","v":""},null,null,null,{"$f":"IF(T54=\"\",\"\",INDEX(referentes!D:E,MATCH(T54,referentes!D:D,0),2))","v":""},null,{"$f":"IF(V54=\"\",\"\",INDEX('Otras referencias'!AO:AP,MATCH(V54,'Otras referencias'!AO:AO,0),2))","v":""},null,{"$f":"IF(Z54=\"\",\"\",INDEX('Otras referencias'!H:I,MATCH(Z54,'Otras referencias'!I:I,0),1))","v":""},null,null,null,{"$f":"IF(AD54=\"\",\"\",INDEX('Otras referencias'!K:L,MATCH(AD54,'Otras referencias'!L:L,0),1))","v":""},null,"---",null,null,null,{"$f":"IF(V54=\"\",\"\",INDEX('Otras referencias'!AO:AQ,MATCH(V54,'Otras referencias'!AO:AO,0),3))","v":""},{"$f":"IF(SUMPRODUCT(--EXACT(K54&M54,$AJ$2:AJ53)),\"\",K54&M54)","v":""},{"$f":"IF(SUMPRODUCT(--EXACT(K54&M54,$AJ$2:AJ53)),\"\",MAX($AK$3:AK53)+1)","v":""}]
[1,{"$f":"IF(F55=\"\",\"\",IF(COUNTIF($F$3:F55, F55)>1, \"\", F55))","v":""},53,"",null,{"$f":"IF(I55=\"\",\"\",IF(K55=\"\",\"\", CONCATENATE(DIGITADOR!$M$1,G55,J55)))","v":""},null,null,"",{"$f":"IF(K55=\"\",\"\",INDEX('Otras referencias'!$AG:$AH,MATCH(K55,'Otras referencias'!$AG:$AG,0),2))","v":""},null,{"$f":"IF(J55=\"\",\"\",INDEX(referentes!$S:$W,MATCH(J55,referentes!$S:$S,0),1))","v":""},null,null,null,null,{"$f":"IF(P55=\"\",\"\",INDEX(referentes!$J:$K,MATCH(P55,referentes!$J:$J,0),2))","v":""},null,null,null,{"$f":"IF(T55=\"\",\"\",INDEX(referentes!D:E,MATCH(T55,referentes!D:D,0),2))","v":""},null,{"$f":"IF(V55=\"\",\"\",INDEX('Otras referencias'!AO:AP,MATCH(V55,'Otras referencias'!AO:AO,0),2))","v":""},null,{"$f":"IF(Z55=\"\",\"\",INDEX('Otras referencias'!H:I,MATCH(Z55,'Otras referencias'!I:I,0),1))","v":""},null,null,null,{"$f":"IF(AD55=\"\",\"\",INDEX('Otras referencias'!K:L,MATCH(AD55,'Otras referencias'!L:L,0),1))","v":""},null,"---",null,null,null,{"$f":"IF(V55=\"\",\"\",INDEX('Otras referencias'!AO:AQ,MATCH(V55,'Otras referencias'!AO:AO,0),3))","v":""},{"$f":"IF(SUMPRODUCT(--EXACT(K55&M55,$AJ$2:AJ54)),\"\",K55&M55)","v":""},{"$f":"IF(SUMPRODUCT(--EXACT(K55&M55,$AJ$2:AJ54)),\"\",MAX($AK$3:AK54)+1)","v":""}]
[1,{"$f":"IF(F56=\"\",\"\",IF(COUNTIF($F$3:F56, F56)>1, \"\", F56))","v":""},54,"",null,{"$f":"IF(I56=\"\",\"\",IF(K56=\"\",\"\", CONCATENATE(DIGITADOR!$M$1,G56,J56)))","v":""},null,null,"",{"$f":"IF(K56=\"\",\"\",INDEX('Otras referencias'!$AG:$AH,MATCH(K56,'Otras referencias'!$AG:$AG,0),2))","v":""},null,{"$f":"IF(J56=\"\",\"\",INDEX(referentes!$S:$W,MATCH(J56,referentes!$S:$S,0),1))","v":""},null,null,null,null,{"$f":"IF(P56=\"\",\"\",INDEX(referentes!$J:$K,MATCH(P56,referentes!$J:$J,0),2))","v":""},null,null,null,{"$f":"IF(T56=\"\",\"\",INDEX(referentes!D:E,MATCH(T56,referentes!D:D,0),2))","v":""},null,{"$f":"IF(V56=\"\",\"\",INDEX('Otras referencias'!AO:AP,MATCH(V56,'Otras referencias'!AO:AO,0),2))","v":""},null,{"$f":"IF(Z56=\"\",\"\",INDEX('Otras referencias'!H:I,MATCH(Z56,'Otras referencias'!I:I,0),1))","v":""},null,null,null,{"$f":"IF(AD56=\"\",\"\",INDEX('Otras referencias'!K:L,MATCH(AD56,'Otras referencias'!L:L,0),1))","v":""},null,"---",null,null,null,{"$f":"IF(V56=\"\",\"\",INDEX('Otras referencias'!AO:AQ,MATCH(V56,'Otras referencias'!AO:AO,0),3))","v":""},{"$f":"IF(SUMPRODUCT(--EXACT(K56&M56,$AJ$2:AJ55)),\"\",K56&M56)","v":""},{"$f":"IF(SUMPRODUCT(--EXACT(K56&M56,$AJ$2:AJ55)),\"\",MAX($AK$3:AK55)+1)","v":""}]
[1,{"$f":"IF(F57=\"\",\"\",IF(COUNTIF($F$3:F57, F57)>1, \"\", F57))","v":""},55,"",null,{"$f":"IF(I57=\"\",\"\",IF(K57=\"\",\"\", CONCATENATE(DIGITADOR!$M$1,G57,J57)))","v":""},null,null,"",{"$f":"IF(K57=\"\",\"\",INDEX('Otras referencias'!$AG:$AH,MATCH(K57,'Otras referencias'!$AG:$AG,0),2))","v":""},null,{"$f":"IF(J57=\"\",\"\",INDEX(referentes!$S:$W,MATCH(J57,referentes!$S:$S,0),1))","v":""},null,null,null,null,{"$f":"IF(P57=\"\",\"\",INDEX(referentes!$J:$K,MATCH(P57,referentes!$J:$J,0),2))","v":""},null,null,null,{"$f":"IF(T57=\"\",\"\",INDEX(referentes!D:E,MATCH(T57,referentes!D:D,0),2))","v":""},null,{"$f":"IF(V57=\"\",\"\",INDEX('Otras referencias'!AO:AP,MATCH(V57,'Otras referencias'!AO:AO,0),2))","v":""},null,{"$f":"IF(Z57=\"\",\"\",INDEX('Otras referencias'!H:I,MATCH(Z57,'Otras referencias'!I:I,0),1))","v":""},null,null,null,{"$f":"IF(AD57=\"\",\"\",INDEX('Otras referencias'!K:L,MATCH(AD57,'Otras referencias'!L:L,0),1))","v":""},null,"---",null,null,null,{"$f":"IF(V57=\"\",\"\",INDEX('Otras referencias'!AO:AQ,MATCH(V57,'Otras referencias'!AO:AO,0),3))","v":""},{"$f":"IF(SUMPRODUCT(--EXACT(K57&M57,$AJ$2:AJ56)),\"\",K57&M57)","v":""},{"$f":"IF(SUMPRODUCT(--EXACT(K57&M57,$AJ$2:AJ56)),\"\",MAX($AK$3:AK56)+1)","v":""}]
[1,{"$f":"IF(F58=\"\",\"\",IF(COUNTIF($F$3:F58, F58)>1, \"\", F58))","v":""},56,"",null,{"$f":"IF(I58=\"\",\"\",IF(K58=\"\",\"\", CONCATENATE(DIGITADOR!$M$1,G58,J58)))","v":""},null,null,"",{"$f":"IF(K58=\"\",\"\",INDEX('Otras referencias'!$AG:$AH,MATCH(K58,'Otras referencias'!$AG:$AG,0),2))","v":""},null,{"$f":"IF(J58=\"\",\"\",INDEX(referentes!$S:$W,MATCH(J58,referentes!$S:$S,0),1))","v":""},null,null,null,null,{"$f":"IF(P58=\"\",\"\",INDEX(referentes!$J:$K,MATCH(P58,referentes!$J:$J,0),2))","v":""},null,null,null,{"$f":"IF(T58=\"\",\"\",INDEX(referentes!D:E,MATCH(T58,referentes!D:D,0),2))","v":""},null,{"$f":"IF(V58=\"\",\"\",INDEX('Otras referencias'!AO:AP,MATCH(V58,'Otras referencias'!AO:AO,0),2))","v":""},null,{"$f":"IF(Z58=\"\",\"\",INDEX('Otras referencias'!H:I,MATCH(Z58,'Otras referencias'!I:I,0),1))","v":""},null,null,null,{"$f":"IF(AD58=\"\",\"\",INDEX('Otras referencias'!K:L,MATCH(AD58,'Otras referencias'!L:L,0),1))","v":""},null,"---",null,null,null,{"$f":"IF(V58=\"\",\"\",INDEX('Otras referencias'!AO:AQ,MATCH(V58,'Otras referencias'!AO:AO,0),3))","v":""},{"$f":"IF(SUMPRODUCT(--EXACT(K58&M58,$AJ$2:AJ57)),\"\",K58&M58)","v":""},{"$f":"IF(SUMPRODUCT(--EXACT(K58&M58,$AJ$2:AJ57)),\"\",MAX($AK$3:AK57)+1)","v":""}]
[1,{"$f":"IF(F59=\"\",\"\",IF(COUNTIF($F$3:F59, F59)>1, \"\", F59))","v":""},57,"",null,{"$f":"IF(I59=\"\",\"\",IF(K59=\"\",\"\", CONCATENATE(DIGITADOR!$M$1,G59,J59)))","v":""},null,null,"",{"$f":"IF(K59=\"\",\"\",INDEX('Otras referencias'!$AG:$AH,MATCH(K59,'Otras referencias'!$AG:$AG,0),2))","v":""},null,{"$f":"IF(J59=\"\",\"\",INDEX(referentes!$S:$W,MATCH(J59,referentes!$S:$S,0),1))","v":""},null,null,null,null,{"$f":"IF(P59=\"\",\"\",INDEX(referentes!$J:$K,MATCH(P59,referentes!$J:$J,0),2))","v":""},null,null,null,{"$f":"IF(T59=\"\",\"\",INDEX(referentes!D:E,MATCH(T59,referentes!D:D,0),2))","v":""},null,{"$f":"IF(V59=\"\",\"\",INDEX('Otras referencias'!AO:AP,MATCH(V59,'Otras referencias'!AO:AO,0),2))","v":""},null,{"$f":"IF(Z59=\"\",\"\",INDEX('Otras referencias'!H:I,MATCH(Z59,'Otras referencias'!I:I,0),1))","v":""},null,null,null,{"$f":"IF(AD59=\"\",\"\",INDEX('Otras referencias'!K:L,MATCH(AD59,'Otras referencias'!L:L,0),1))","v":""},null,"---",null,null,null,{"$f":"IF(V59=\"\",\"\",INDEX('Otras referencias'!AO:AQ,MATCH(V59,'Otras referencias'!AO:AO,0),3))","v":""},{"$f":"IF(SUMPRODUCT(--EXACT(K59&M59,$AJ$2:AJ58)),\"\",K59&M59)","v":""},{"$f":"IF(SUMPRODUCT(--EXACT(K59&M59,$AJ$2:AJ58)),\"\",MAX($AK$3:AK58)+1)","v":""}]
[1,{"$f":"IF(F60=\"\",\"\",IF(COUNTIF($F$3:F60, F60)>1, \"\", F60))","v":""},58,"",null,{"$f":"IF(I60=\"\",\"\",IF(K60=\"\",\"\", CONCATENATE(DIGITADOR!$M$1,G60,J60)))","v":""},null,null,"",{"$f":"IF(K60=\"\",\"\",INDEX('Otras referencias'!$AG:$AH,MATCH(K60,'Otras referencias'!$AG:$AG,0),2))","v":""},null,{"$f":"IF(J60=\"\",\"\",INDEX(referentes!$S:$W,MATCH(J60,referentes!$S:$S,0),1))","v":""},null,null,null,null,{"$f":"IF(P60=\"\",\"\",INDEX(referentes!$J:$K,MATCH(P60,referentes!$J:$J,0),2))","v":""},null,null,null,{"$f":"IF(T60=\"\",\"\",INDEX(referentes!D:E,MATCH(T60,referentes!D:D,0),2))","v":""},null,{"$f":"IF(V60=\"\",\"\",INDEX('Otras referencias'!AO:AP,MATCH(V60,'Otras referencias'!AO:AO,0),2))","v":""},null,{"$f":"IF(Z60=\"\",\"\",INDEX('Otras referencias'!H:I,MATCH(Z60,'Otras referencias'!I:I,0),1))","v":""},null,null,null,{"$f":"IF(AD60=\"\",\"\",INDEX('Otras referencias'!K:L,MATCH(AD60,'Otras referencias'!L:L,0),1))","v":""},null,"---",null,null,null,{"$f":"IF(V60=\"\",\"\",INDEX('Otras referencias'!AO:AQ,MATCH(V60,'Otras referencias'!AO:AO,0),3))","v":""},{"$f":"IF(SUMPRODUCT(--EXACT(K60&M60,$AJ$2:AJ59)),\"\",K60&M60)","v":""},{"$f":"IF(SUMPRODUCT(--EXACT(K60&M60,$AJ$2:AJ59)),\"\",MAX($AK$3:AK59)+1)","v":""}]
[1,{"$f":"IF(F61=\"\",\"\",IF(COUNTIF($F$3:F61, F61)>1, \"\", F61))","v":""},59,"",null,{"$f":"IF(I61=\"\",\"\",IF(K61=\"\",\"\", CONCATENATE(DIGITADOR!$M$1,G61,J61)))","v":""},null,null,"",{"$f":"IF(K61=\"\",\"\",INDEX('Otras referencias'!$AG:$AH,MATCH(K61,'Otras referencias'!$AG:$AG,0),2))","v":""},null,{"$f":"IF(J61=\"\",\"\",INDEX(referentes!$S:$W,MATCH(J61,referentes!$S:$S,0),1))","v":""},null,null,null,null,{"$f":"IF(P61=\"\",\"\",INDEX(referentes!$J:$K,MATCH(P61,referentes!$J:$J,0),2))","v":""},null,null,null,{"$f":"IF(T61=\"\",\"\",INDEX(referentes!D:E,MATCH(T61,referentes!D:D,0),2))","v":""},null,{"$f":"IF(V61=\"\",\"\",INDEX('Otras referencias'!AO:AP,MATCH(V61,'Otras referencias'!AO:AO,0),2))","v":""},null,{"$f":"IF(Z61=\"\",\"\",INDEX('Otras referencias'!H:I,MATCH(Z61,'Otras referencias'!I:I,0),1))","v":""},null,null,null,{"$f":"IF(AD61=\"\",\"\",INDEX('Otras referencias'!K:L,MATCH(AD61,'Otras referencias'!L:L,0),1))","v":""},null,"---",null,null,null,{"$f":"IF(V61=\"\",\"\",INDEX('Otras referencias'!AO:AQ,MATCH(V61,'Otras referencias'!AO:AO,0),3))","v":""},{"$f":"IF(SUMPRODUCT(--EXACT(K61&M61,$AJ$2:AJ60)),\"\",K61&M61)","v":""},{"$f":"IF(SUMPRODUCT(--EXACT(K61&M61,$AJ$2:AJ60)),\"\",MAX($AK$3:AK60)+1)","v":""}]
[1,{"$f":"IF(F62=\"\",\"\",IF(COUNTIF($F$3:F62, F62)>1, \"\", F62))","v":""},60,"",null,{"$f":"IF(I62=\"\",\"\",IF(K62=\"\",\"\", CONCATENATE(DIGITADOR!$M$1,G62,J62)))","v":""},null,null,"",{"$f":"IF(K62=\"\",\"\",INDEX('Otras referencias'!$AG:$AH,MATCH(K62,'Otras referencias'!$AG:$AG,0),2))","v":""},null,{"$f":"IF(J62=\"\",\"\",INDEX(referentes!$S:$W,MATCH(J62,referentes!$S:$S,0),1))","v":""},null,null,null,null,{"$f":"IF(P62=\"\",\"\",INDEX(referentes!$J:$K,MATCH(P62,referentes!$J:$J,0),2))","v":""},null,null,null,{"$f":"IF(T62=\"\",\"\",INDEX(referentes!D:E,MATCH(T62,referentes!D:D,0),2))","v":""},null,{"$f":"IF(V62=\"\",\"\",INDEX('Otras referencias'!AO:AP,MATCH(V62,'Otras referencias'!AO:AO,0),2))","v":""},null,{"$f":"IF(Z62=\"\",\"\",INDEX('Otras referencias'!H:I,MATCH(Z62,'Otras referencias'!I:I,0),1))","v":""},null,null,null,{"$f":"IF(AD62=\"\",\"\",INDEX('Otras referencias'!K:L,MATCH(AD62,'Otras referencias'!L:L,0),1))","v":""},null,"---",null,null,null,{"$f":"IF(V62=\"\",\"\",INDEX('Otras referencias'!AO:AQ,MATCH(V62,'Otras referencias'!AO:AO,0),3))","v":""},{"$f":"IF(SUMPRODUCT(--EXACT(K62&M62,$AJ$2:AJ61)),\"\",K62&M62)","v":""},{"$f":"IF(SUMPRODUCT(--EXACT(K62&M62,$AJ$2:AJ61)),\"\",MAX($AK$3:AK61)+1)","v":""}]
[1,{"$f":"IF(F63=\"\",\"\",IF(COUNTIF($F$3:F63, F63)>1, \"\", F63))","v":""},61,"",null,{"$f":"IF(I63=\"\",\"\",IF(K63=\"\",\"\", CONCATENATE(DIGITADOR!$M$1,G63,J63)))","v":""},null,null,"",{"$f":"IF(K63=\"\",\"\",INDEX('Otras referencias'!$AG:$AH,MATCH(K63,'Otras referencias'!$AG:$AG,0),2))","v":""},null,{"$f":"IF(J63=\"\",\"\",INDEX(referentes!$S:$W,MATCH(J63,referentes!$S:$S,0),1))","v":""},null,null,null,null,{"$f":"IF(P63=\"\",\"\",INDEX(referentes!$J:$K,MATCH(P63,referentes!$J:$J,0),2))","v":""},null,null,null,{"$f":"IF(T63=\"\",\"\",INDEX(referentes!D:E,MATCH(T63,referentes!D:D,0),2))","v":""},null,{"$f":"IF(V63=\"\",\"\",INDEX('Otras referencias'!AO:AP,MATCH(V63,'Otras referencias'!AO:AO,0),2))","v":""},null,{"$f":"IF(Z63=\"\",\"\",INDEX('Otras referencias'!H:I,MATCH(Z63,'Otras referencias'!I:I,0),1))","v":""},null,null,null,{"$f":"IF(AD63=\"\",\"\",INDEX('Otras referencias'!K:L,MATCH(AD63,'Otras referencias'!L:L,0),1))","v":""},null,"---",null,null,null,{"$f":"IF(V63=\"\",\"\",INDEX('Otras referencias'!AO:AQ,MATCH(V63,'Otras referencias'!AO:AO,0),3))","v":""},{"$f":"IF(SUMPRODUCT(--EXACT(K63&M63,$AJ$2:AJ62)),\"\",K63&M63)","v":""},{"$f":"IF(SUMPRODUCT(--EXACT(K63&M63,$AJ$2:AJ62)),\"\",MAX($AK$3:AK62)+1)","v":""}]
[1,{"$f":"IF(F64=\"\",\"\",IF(COUNTIF($F$3:F64, F64)>1, \"\", F64))","v":""},62,"",null,{"$f":"IF(I64=\"\",\"\",IF(K64=\"\",\"\", CONCATENATE(DIGITADOR!$M$1,G64,J64)))","v":""},null,null,"",{"$f":"IF(K64=\"\",\"\",INDEX('Otras referencias'!$AG:$AH,MATCH(K64,'Otras referencias'!$AG:$AG,0),2))","v":""},null,{"$f":"IF(J64=\"\",\"\",INDEX(referentes!$S:$W,MATCH(J64,referentes!$S:$S,0),1))","v":""},null,null,null,null,{"$f":"IF(P64=\"\",\"\",INDEX(referentes!$J:$K,MATCH(P64,referentes!$J:$J,0),2))","v":""},null,null,null,{"$f":"IF(T64=\"\",\"\",INDEX(referentes!D:E,MATCH(T64,referentes!D:D,0),2))","v":""},null,{"$f":"IF(V64=\"\",\"\",INDEX('Otras referencias'!AO:AP,MATCH(V64,'Otras referencias'!AO:AO,0),2))","v":""},null,{"$f":"IF(Z64=\"\",\"\",INDEX('Otras referencias'!H:I,MATCH(Z64,'Otras referencias'!I:I,0),1))","v":""},null,null,null,{"$f":"IF(AD64=\"\",\"\",INDEX('Otras referencias'!K:L,MATCH(AD64,'Otras referencias'!L:L,0),1))","v":""},null,"---",null,null,null,{"$f":"IF(V64=\"\",\"\",INDEX('Otras referencias'!AO:AQ,MATCH(V64,'Otras referencias'!AO:AO,0),3))","v":""},{"$f":"IF(SUMPRODUCT(--EXACT(K64&M64,$AJ$2:AJ63)),\"\",K64&M64)","v":""},{"$f":"IF(SUMPRODUCT(--EXACT(K64&M64,$AJ$2:AJ63)),\"\",MAX($AK$3:AK63)+1)","v":""}]
[1,{"$f":"IF(F65=\"\",\"\",IF(COUNTIF($F$3:F65, F65)>1, \"\", F65))","v":""},63,"",null,{"$f":"IF(I65=\"\",\"\",IF(K65=\"\",\"\", CONCATENATE(DIGITADOR!$M$1,G65,J65)))","v":""},null,null,"",{"$f":"IF(K65=\"\",\"\",INDEX('Otras referencias'!$AG:$AH,MATCH(K65,'Otras referencias'!$AG:$AG,0),2))","v":""},null,{"$f":"IF(J65=\"\",\"\",INDEX(referentes!$S:$W,MATCH(J65,referentes!$S:$S,0),1))","v":""},null,null,null,null,{"$f":"IF(P65=\"\",\"\",INDEX(referentes!$J:$K,MATCH(P65,referentes!$J:$J,0),2))","v":""},null,null,null,{"$f":"IF(T65=\"\",\"\",INDEX(referentes!D:E,MATCH(T65,referentes!D:D,0),2))","v":""},null,{"$f":"IF(V65=\"\",\"\",INDEX('Otras referencias'!AO:AP,MATCH(V65,'Otras referencias'!AO:AO,0),2))","v":""},null,{"$f":"IF(Z65=\"\",\"\",INDEX('Otras referencias'!H:I,MATCH(Z65,'Otras referencias'!I:I,0),1))","v":""},null,null,null,{"$f":"IF(AD65=\"\",\"\",INDEX('Otras referencias'!K:L,MATCH(AD65,'Otras referencias'!L:L,0),1))","v":""},null,"---",null,null,null,{"$f":"IF(V65=\"\",\"\",INDEX('Otras referencias'!AO:AQ,MATCH(V65,'Otras referencias'!AO:AO,0),3))","v":""},{"$f":"IF(SUMPRODUCT(--EXACT(K65&M65,$AJ$2:AJ64)),\"\",K65&M65)","v":""},{"$f":"IF(SUMPRODUCT(--EXACT(K65&M65,$AJ$2:AJ64)),\"\",MAX($AK$3:AK64)+1)","v":""}]
[1,{"$f":"IF(F66=\"\",\"\",IF(COUNTIF($F$3:F66, F66)>1, \"\", F66))","v":""},64,"",null,{"$f":"IF(I66=\"\",\"\",IF(K66=\"\",\"\", CONCATENATE(DIGITADOR!$M$1,G66,J66)))","v":""},null,null,"",{"$f":"IF(K66=\"\",\"\",INDEX('Otras referencias'!$AG:$AH,MATCH(K66,'Otras referencias'!$AG:$AG,0),2))","v":""},null,{"$f":"IF(J66=\"\",\"\",INDEX(referentes!$S:$W,MATCH(J66,referentes!$S:$S,0),1))","v":""},null,null,null,null,{"$f":"IF(P66=\"\",\"\",INDEX(referentes!$J:$K,MATCH(P66,referentes!$J:$J,0),2))","v":""},null,null,null,{"$f":"IF(T66=\"\",\"\",INDEX(referentes!D:E,MATCH(T66,referentes!D:D,0),2))","v":""},null,{"$f":"IF(V66=\"\",\"\",INDEX('Otras referencias'!AO:AP,MATCH(V66,'Otras referencias'!AO:AO,0),2))","v":""},null,{"$f":"IF(Z66=\"\",\"\",INDEX('Otras referencias'!H:I,MATCH(Z66,'Otras referencias'!I:I,0),1))","v":""},null,null,null,{"$f":"IF(AD66=\"\",\"\",INDEX('Otras referencias'!K:L,MATCH(AD66,'Otras referencias'!L:L,0),1))","v":""},null,"---",null,null,null,{"$f":"IF(V66=\"\",\"\",INDEX('Otras referencias'!AO:AQ,MATCH(V66,'Otras referencias'!AO:AO,0),3))","v":""},{"$f":"IF(SUMPRODUCT(--EXACT(K66&M66,$AJ$2:AJ65)),\"\",K66&M66)","v":""},{"$f":"IF(SUMPRODUCT(--EXACT(K66&M66,$AJ$2:AJ65)),\"\",MAX($AK$3:AK65)+1)","v":""}]
[1,{"$f":"IF(F67=\"\",\"\",IF(COUNTIF($F$3:F67, F67)>1, \"\", F67))","v":""},65,"",null,{"$f":"IF(I67=\"\",\"\",IF(K67=\"\",\"\", CONCATENATE(DIGITADOR!$M$1,G67,J67)))","v":""},null,null,{"$f":"IF(G67<>\"\",G67+H67,\"\")","v":""},{"$f":"IF(K67=\"\",\"\",INDEX('Otras referencias'!$AG:$AH,MATCH(K67,'Otras referencias'!$AG:$AG,0),2))","v":""},null,{"$f":"IF(J67=\"\",\"\",INDEX(referentes!$S:$W,MATCH(J67,referentes!$S:$S,0),1))","v":""},null,null,null,null,{"$f":"IF(P67=\"\",\"\",INDEX(referentes!$J:$K,MATCH(P67,referentes!$J:$J,0),2))","v":""},null,null,null,{"$f":"IF(T67=\"\",\"\",INDEX(referentes!D:E,MATCH(T67,referentes!D:D,0),2))","v":""},null,{"$f":"IF(V67=\"\",\"\",INDEX('Otras referencias'!AO:AP,MATCH(V67,'Otras referencias'!AO:AO,0),2))","v":""},null,{"$f":"IF(Z67=\"\",\"\",INDEX('Otras referencias'!H:I,MATCH(Z67,'Otras referencias'!I:I,0),1))","v":""},null,null,null,{"$f":"IF(AD67=\"\",\"\",INDEX('Otras referencias'!K:L,MATCH(AD67,'Otras referencias'!L:L,0),1))","v":""},null,"---",null,null,null,{"$f":"IF(V67=\"\",\"\",INDEX('Otras referencias'!AO:AQ,MATCH(V67,'Otras referencias'!AO:AO,0),3))","v":""},{"$f":"IF(SUMPRODUCT(--EXACT(K67&M67,$AJ$2:AJ66)),\"\",K67&M67)","v":""},{"$f":"IF(SUMPRODUCT(--EXACT(K67&M67,$AJ$2:AJ66)),\"\",MAX($AK$3:AK66)+1)","v":""}]
[1,{"$f":"IF(F68=\"\",\"\",IF(COUNTIF($F$3:F68, F68)>1, \"\", F68))","v":""},66,{"$f":"IF(F68=\"\",\"\",CONCATENATE(F68,ROW()-2))","v":""},null,{"$f":"IF(I68=\"\",\"\",IF(K68=\"\",\"\", CONCATENATE(DIGITADOR!$M$1,G68,J68)))","v":""},null,null,"",{"$f":"IF(K68=\"\",\"\",INDEX('Otras referencias'!$AG:$AH,MATCH(K68,'Otras referencias'!$AG:$AG,0),2))","v":""},null,{"$f":"IF(J68=\"\",\"\",INDEX(referentes!$S:$W,MATCH(J68,referentes!$S:$S,0),1))","v":""},null,null,null,null,{"$f":"IF(P68=\"\",\"\",INDEX(referentes!$J:$K,MATCH(P68,referentes!$J:$J,0),2))","v":""},null,null,null,{"$f":"IF(T68=\"\",\"\",INDEX(referentes!D:E,MATCH(T68,referentes!D:D,0),2))","v":""},null,{"$f":"IF(V68=\"\",\"\",INDEX('Otras referencias'!AO:AP,MATCH(V68,'Otras referencias'!AO:AO,0),2))","v":""},null,{"$f":"IF(Z68=\"\",\"\",INDEX('Otras referencias'!H:I,MATCH(Z68,'Otras referencias'!I:I,0),1))","v":""},null,null,null,{"$f":"IF(AD68=\"\",\"\",INDEX('Otras referencias'!K:L,MATCH(AD68,'Otras referencias'!L:L,0),1))","v":""},null,{"$f":"K68&\"-\"&M68&\"-\"&P68&\"-\"&R68","v":"---"},null,null,null,{"$f":"IF(V68=\"\",\"\",INDEX('Otras referencias'!AO:AQ,MATCH(V68,'Otras referencias'!AO:AO,0),3))","v":""},{"$f":"IF(SUMPRODUCT(--EXACT(K68&M68,$AJ$2:AJ67)),\"\",K68&M68)","v":""},{"$f":"IF(SUMPRODUCT(--EXACT(K68&M68,$AJ$2:AJ67)),\"\",MAX($AK$3:AK67)+1)","v":""}]
[{"$f":"IF(L69=L68,A68,A68+1)","v":1},{"$f":"IF(F69=\"\",\"\",IF(COUNTIF($F$3:F69, F69)>1, \"\", F69))","v":""},67,"",null,{"$f":"IF(I69=\"\",\"\",IF(K69=\"\",\"\", CONCATENATE(DIGITADOR!$M$1,G69,J69)))","v":""},null,null,"",{"$f":"IF(K69=\"\",\"\",INDEX('Otras referencias'!$AG:$AH,MATCH(K69,'Otras referencias'!$AG:$AG,0),2))","v":""},null,{"$f":"IF(J69=\"\",\"\",INDEX(referentes!$S:$W,MATCH(J69,referentes!$S:$S,0),1))","v":""},null,null,null,null,{"$f":"IF(P69=\"\",\"\",INDEX(referentes!$J:$K,MATCH(P69,referentes!$J:$J,0),2))","v":""},null,null,null,{"$f":"IF(T69=\"\",\"\",INDEX(referentes!D:E,MATCH(T69,referentes!D:D,0),2))","v":""},null,{"$f":"IF(V69=\"\",\"\",INDEX('Otras referencias'!AO:AP,MATCH(V69,'Otras referencias'!AO:AO,0),2))","v":""},null,{"$f":"IF(Z69=\"\",\"\",INDEX('Otras referencias'!H:I,MATCH(Z69,'Otras referencias'!I:I,0),1))","v":""},null,null,null,{"$f":"IF(AD69=\"\",\"\",INDEX('Otras referencias'!K:L,MATCH(AD69,'Otras referencias'!L:L,0),1))","v":""},null,"---",null,null,null,{"$f":"IF(V69=\"\",\"\",INDEX('Otras referencias'!AO:AQ,MATCH(V69,'Otras referencias'!AO:AO,0),3))","v":""},{"$f":"IF(SUMPRODUCT(--EXACT(K69&M69,$AJ$2:AJ68)),\"\",K69&M69)","v":""},{"$f":"IF(SUMPRODUCT(--EXACT(K69&M69,$AJ$2:AJ68)),\"\",MAX($AK$3:AK68)+1)","v":""}]
[1,{"$f":"IF(F70=\"\",\"\",IF(COUNTIF($F$3:F70, F70)>1, \"\", F70))","v":""},68,"",null,{"$f":"IF(I70=\"\",\"\",IF(K70=\"\",\"\", CONCATENATE(DIGITADOR!$M$1,G70,J70)))","v":""},null,null,"",{"$f":"IF(K70=\"\",\"\",INDEX('Otras referencias'!$AG:$AH,MATCH(K70,'Otras referencias'!$AG:$AG,0),2))","v":""},null,{"$f":"IF(J70=\"\",\"\",INDEX(referentes!$S:$W,MATCH(J70,referentes!$S:$S,0),1))","v":""},null,null,null,null,{"$f":"IF(P70=\"\",\"\",INDEX(referentes!$J:$K,MATCH(P70,referentes!$J:$J,0),2))","v":""},null,null,null,{"$f":"IF(T70=\"\",\"\",INDEX(referentes!D:E,MATCH(T70,referentes!D:D,0),2))","v":""},null,{"$f":"IF(V70=\"\",\"\",INDEX('Otras referencias'!AO:AP,MATCH(V70,'Otras referencias'!AO:AO,0),2))","v":""},null,{"$f":"IF(Z70=\"\",\"\",INDEX('Otras referencias'!H:I,MATCH(Z70,'Otras referencias'!I:I,0),1))","v":""},null,null,null,{"$f":"IF(AD70=\"\",\"\",INDEX('Otras referencias'!K:L,MATCH(AD70,'Otras referencias'!L:L,0),1))","v":""},null,"---",null,null,null,{"$f":"IF(V70=\"\",\"\",INDEX('Otras referencias'!AO:AQ,MATCH(V70,'Otras referencias'!AO:AO,0),3))","v":""},{"$f":"IF(SUMPRODUCT(--EXACT(K70&M70,$AJ$2:AJ69)),\"\",K70&M70)","v":""},{"$f":"IF(SUMPRODUCT(--EXACT(K70&M70,$AJ$2:AJ69)),\"\",MAX($AK$3:AK69)+1)","v":""}]
[1,{"$f":"IF(F71=\"\",\"\",IF(COUNTIF($F$3:F71, F71)>1, \"\", F71))","v":""},69,"",null,{"$f":"IF(I71=\"\",\"\",IF(K71=\"\",\"\", CONCATENATE(DIGITADOR!$M$1,G71,J71)))","v":""},null,null,"",{"$f":"IF(K71=\"\",\"\",INDEX('Otras referencias'!$AG:$AH,MATCH(K71,'Otras referencias'!$AG:$AG,0),2))","v":""},null,{"$f":"IF(J71=\"\",\"\",INDEX(referentes!$S:$W,MATCH(J71,referentes!$S:$S,0),1))","v":""},null,null,null,null,{"$f":"IF(P71=\"\",\"\",INDEX(referentes!$J:$K,MATCH(P71,referentes!$J:$J,0),2))","v":""},null,null,null,{"$f":"IF(T71=\"\",\"\",INDEX(referentes!D:E,MATCH(T71,referentes!D:D,0),2))","v":""},null,{"$f":"IF(V71=\"\",\"\",INDEX('Otras referencias'!AO:AP,MATCH(V71,'Otras referencias'!AO:AO,0),2))","v":""},null,{"$f":"IF(Z71=\"\",\"\",INDEX('Otras referencias'!H:I,MATCH(Z71,'Otras referencias'!I:I,0),1))","v":""},null,null,null,{"$f":"IF(AD71=\"\",\"\",INDEX('Otras referencias'!K:L,MATCH(AD71,'Otras referencias'!L:L,0),1))","v":""},null,"---",null,null,null,{"$f":"IF(V71=\"\",\"\",INDEX('Otras referencias'!AO:AQ,MATCH(V71,'Otras referencias'!AO:AO,0),3))","v":""},{"$f":"IF(SUMPRODUCT(--EXACT(K71&M71,$AJ$2:AJ70)),\"\",K71&M71)","v":""},{"$f":"IF(SUMPRODUCT(--EXACT(K71&M71,$AJ$2:AJ70)),\"\",MAX($AK$3:AK70)+1)","v":""}]
[1,{"$f":"IF(F72=\"\",\"\",IF(COUNTIF($F$3:F72, F72)>1, \"\", F72))","v":""},70,"",null,{"$f":"IF(I72=\"\",\"\",IF(K72=\"\",\"\", CONCATENATE(DIGITADOR!$M$1,G72,J72)))","v":""},null,null,"",{"$f":"IF(K72=\"\",\"\",INDEX('Otras referencias'!$AG:$AH,MATCH(K72,'Otras referencias'!$AG:$AG,0),2))","v":""},null,{"$f":"IF(J72=\"\",\"\",INDEX(referentes!$S:$W,MATCH(J72,referentes!$S:$S,0),1))","v":""},null,null,null,null,{"$f":"IF(P72=\"\",\"\",INDEX(referentes!$J:$K,MATCH(P72,referentes!$J:$J,0),2))","v":""},null,null,null,{"$f":"IF(T72=\"\",\"\",INDEX(referentes!D:E,MATCH(T72,referentes!D:D,0),2))","v":""},null,{"$f":"IF(V72=\"\",\"\",INDEX('Otras referencias'!AO:AP,MATCH(V72,'Otras referencias'!AO:AO,0),2))","v":""},null,{"$f":"IF(Z72=\"\",\"\",INDEX('Otras referencias'!H:I,MATCH(Z72,'Otras referencias'!I:I,0),1))","v":""},null,null,null,{"$f":"IF(AD72=\"\",\"\",INDEX('Otras referencias'!K:L,MATCH(AD72,'Otras referencias'!L:L,0),1))","v":""},null,"---",null,null,null,{"$f":"IF(V72=\"\",\"\",INDEX('Otras referencias'!AO:AQ,MATCH(V72,'Otras referencias'!AO:AO,0),3))","v":""},{"$f":"IF(SUMPRODUCT(--EXACT(K72&M72,$AJ$2:AJ71)),\"\",K72&M72)","v":""},{"$f":"IF(SUMPRODUCT(--EXACT(K72&M72,$AJ$2:AJ71)),\"\",MAX($AK$3:AK71)+1)","v":""}]
[1,{"$f":"IF(F73=\"\",\"\",IF(COUNTIF($F$3:F73, F73)>1, \"\", F73))","v":""},71,"",null,{"$f":"IF(I73=\"\",\"\",IF(K73=\"\",\"\", CONCATENATE(DIGITADOR!$M$1,G73,J73)))","v":""},null,null,"",{"$f":"IF(K73=\"\",\"\",INDEX('Otras referencias'!$AG:$AH,MATCH(K73,'Otras referencias'!$AG:$AG,0),2))","v":""},null,{"$f":"IF(J73=\"\",\"\",INDEX(referentes!$S:$W,MATCH(J73,referentes!$S:$S,0),1))","v":""},null,null,null,null,{"$f":"IF(P73=\"\",\"\",INDEX(referentes!$J:$K,MATCH(P73,referentes!$J:$J,0),2))","v":""},null,null,null,{"$f":"IF(T73=\"\",\"\",INDEX(referentes!D:E,MATCH(T73,referentes!D:D,0),2))","v":""},null,{"$f":"IF(V73=\"\",\"\",INDEX('Otras referencias'!AO:AP,MATCH(V73,'Otras referencias'!AO:AO,0),2))","v":""},null,{"$f":"IF(Z73=\"\",\"\",INDEX('Otras referencias'!H:I,MATCH(Z73,'Otras referencias'!I:I,0),1))","v":""},null,null,null,{"$f":"IF(AD73=\"\",\"\",INDEX('Otras referencias'!K:L,MATCH(AD73,'Otras referencias'!L:L,0),1))","v":""},null,"---",null,null,null,{"$f":"IF(V73=\"\",\"\",INDEX('Otras referencias'!AO:AQ,MATCH(V73,'Otras referencias'!AO:AO,0),3))","v":""},{"$f":"IF(SUMPRODUCT(--EXACT(K73&M73,$AJ$2:AJ72)),\"\",K73&M73)","v":""},{"$f":"IF(SUMPRODUCT(--EXACT(K73&M73,$AJ$2:AJ72)),\"\",MAX($AK$3:AK72)+1)","v":""}]
[1,{"$f":"IF(F74=\"\",\"\",IF(COUNTIF($F$3:F74, F74)>1, \"\", F74))","v":""},72,"",null,{"$f":"IF(I74=\"\",\"\",IF(K74=\"\",\"\", CONCATENATE(DIGITADOR!$M$1,G74,J74)))","v":""},null,null,"",{"$f":"IF(K74=\"\",\"\",INDEX('Otras referencias'!$AG:$AH,MATCH(K74,'Otras referencias'!$AG:$AG,0),2))","v":""},null,{"$f":"IF(J74=\"\",\"\",INDEX(referentes!$S:$W,MATCH(J74,referentes!$S:$S,0),1))","v":""},null,null,null,null,{"$f":"IF(P74=\"\",\"\",INDEX(referentes!$J:$K,MATCH(P74,referentes!$J:$J,0),2))","v":""},null,null,null,{"$f":"IF(T74=\"\",\"\",INDEX(referentes!D:E,MATCH(T74,referentes!D:D,0),2))","v":""},null,{"$f":"IF(V74=\"\",\"\",INDEX('Otras referencias'!AO:AP,MATCH(V74,'Otras referencias'!AO:AO,0),2))","v":""},null,{"$f":"IF(Z74=\"\",\"\",INDEX('Otras referencias'!H:I,MATCH(Z74,'Otras referencias'!I:I,0),1))","v":""},null,null,null,{"$f":"IF(AD74=\"\",\"\",INDEX('Otras referencias'!K:L,MATCH(AD74,'Otras referencias'!L:L,0),1))","v":""},null,"---",null,null,null,{"$f":"IF(V74=\"\",\"\",INDEX('Otras referencias'!AO:AQ,MATCH(V74,'Otras referencias'!AO:AO,0),3))","v":""},{"$f":"IF(SUMPRODUCT(--EXACT(K74&M74,$AJ$2:AJ73)),\"\",K74&M74)","v":""},{"$f":"IF(SUMPRODUCT(--EXACT(K74&M74,$AJ$2:AJ73)),\"\",MAX($AK$3:AK73)+1)","v":""}]
[1,{"$f":"IF(F75=\"\",\"\",IF(COUNTIF($F$3:F75, F75)>1, \"\", F75))","v":""},73,"",null,{"$f":"IF(I75=\"\",\"\",IF(K75=\"\",\"\", CONCATENATE(DIGITADOR!$M$1,G75,J75)))","v":""},null,null,"",{"$f":"IF(K75=\"\",\"\",INDEX('Otras referencias'!$AG:$AH,MATCH(K75,'Otras referencias'!$AG:$AG,0),2))","v":""},null,{"$f":"IF(J75=\"\",\"\",INDEX(referentes!$S:$W,MATCH(J75,referentes!$S:$S,0),1))","v":""},null,null,null,null,{"$f":"IF(P75=\"\",\"\",INDEX(referentes!$J:$K,MATCH(P75,referentes!$J:$J,0),2))","v":""},null,null,null,{"$f":"IF(T75=\"\",\"\",INDEX(referentes!D:E,MATCH(T75,referentes!D:D,0),2))","v":""},null,{"$f":"IF(V75=\"\",\"\",INDEX('Otras referencias'!AO:AP,MATCH(V75,'Otras referencias'!AO:AO,0),2))","v":""},null,{"$f":"IF(Z75=\"\",\"\",INDEX('Otras referencias'!H:I,MATCH(Z75,'Otras referencias'!I:I,0),1))","v":""},null,null,null,{"$f":"IF(AD75=\"\",\"\",INDEX('Otras referencias'!K:L,MATCH(AD75,'Otras referencias'!L:L,0),1))","v":""},null,"---",null,null,null,{"$f":"IF(V75=\"\",\"\",INDEX('Otras referencias'!AO:AQ,MATCH(V75,'Otras referencias'!AO:AO,0),3))","v":""},{"$f":"IF(SUMPRODUCT(--EXACT(K75&M75,$AJ$2:AJ74)),\"\",K75&M75)","v":""},{"$f":"IF(SUMPRODUCT(--EXACT(K75&M75,$AJ$2:AJ74)),\"\",MAX($AK$3:AK74)+1)","v":""}]
[1,{"$f":"IF(F76=\"\",\"\",IF(COUNTIF($F$3:F76, F76)>1, \"\", F76))","v":""},74,"",null,{"$f":"IF(I76=\"\",\"\",IF(K76=\"\",\"\", CONCATENATE(DIGITADOR!$M$1,G76,J76)))","v":""},null,null,"",{"$f":"IF(K76=\"\",\"\",INDEX('Otras referencias'!$AG:$AH,MATCH(K76,'Otras referencias'!$AG:$AG,0),2))","v":""},null,{"$f":"IF(J76=\"\",\"\",INDEX(referentes!$S:$W,MATCH(J76,referentes!$S:$S,0),1))","v":""},null,null,null,null,{"$f":"IF(P76=\"\",\"\",INDEX(referentes!$J:$K,MATCH(P76,referentes!$J:$J,0),2))","v":""},null,null,null,{"$f":"IF(T76=\"\",\"\",INDEX(referentes!D:E,MATCH(T76,referentes!D:D,0),2))","v":""},null,{"$f":"IF(V76=\"\",\"\",INDEX('Otras referencias'!AO:AP,MATCH(V76,'Otras referencias'!AO:AO,0),2))","v":""},null,{"$f":"IF(Z76=\"\",\"\",INDEX('Otras referencias'!H:I,MATCH(Z76,'Otras referencias'!I:I,0),1))","v":""},null,null,null,{"$f":"IF(AD76=\"\",\"\",INDEX('Otras referencias'!K:L,MATCH(AD76,'Otras referencias'!L:L,0),1))","v":""},null,"---",null,null,null,{"$f":"IF(V76=\"\",\"\",INDEX('Otras referencias'!AO:AQ,MATCH(V76,'Otras referencias'!AO:AO,0),3))","v":""},{"$f":"IF(SUMPRODUCT(--EXACT(K76&M76,$AJ$2:AJ75)),\"\",K76&M76)","v":""},{"$f":"IF(SUMPRODUCT(--EXACT(K76&M76,$AJ$2:AJ75)),\"\",MAX($AK$3:AK75)+1)","v":""}]
[1,{"$f":"IF(F77=\"\",\"\",IF(COUNTIF($F$3:F77, F77)>1, \"\", F77))","v":""},75,"",null,{"$f":"IF(I77=\"\",\"\",IF(K77=\"\",\"\", CONCATENATE(DIGITADOR!$M$1,G77,J77)))","v":""},null,null,"",{"$f":"IF(K77=\"\",\"\",INDEX('Otras referencias'!$AG:$AH,MATCH(K77,'Otras referencias'!$AG:$AG,0),2))","v":""},null,{"$f":"IF(J77=\"\",\"\",INDEX(referentes!$S:$W,MATCH(J77,referentes!$S:$S,0),1))","v":""},null,null,null,null,{"$f":"IF(P77=\"\",\"\",INDEX(referentes!$J:$K,MATCH(P77,referentes!$J:$J,0),2))","v":""},null,null,null,{"$f":"IF(T77=\"\",\"\",INDEX(referentes!D:E,MATCH(T77,referentes!D:D,0),2))","v":""},null,{"$f":"IF(V77=\"\",\"\",INDEX('Otras referencias'!AO:AP,MATCH(V77,'Otras referencias'!AO:AO,0),2))","v":""},null,{"$f":"IF(Z77=\"\",\"\",INDEX('Otras referencias'!H:I,MATCH(Z77,'Otras referencias'!I:I,0),1))","v":""},null,null,null,{"$f":"IF(AD77=\"\",\"\",INDEX('Otras referencias'!K:L,MATCH(AD77,'Otras referencias'!L:L,0),1))","v":""},null,"---",null,null,null,{"$f":"IF(V77=\"\",\"\",INDEX('Otras referencias'!AO:AQ,MATCH(V77,'Otras referencias'!AO:AO,0),3))","v":""},{"$f":"IF(SUMPRODUCT(--EXACT(K77&M77,$AJ$2:AJ76)),\"\",K77&M77)","v":""},{"$f":"IF(SUMPRODUCT(--EXACT(K77&M77,$AJ$2:AJ76)),\"\",MAX($AK$3:AK76)+1)","v":""}]
[1,{"$f":"IF(F78=\"\",\"\",IF(COUNTIF($F$3:F78, F78)>1, \"\", F78))","v":""},76,"",null,{"$f":"IF(I78=\"\",\"\",IF(K78=\"\",\"\", CONCATENATE(DIGITADOR!$M$1,G78,J78)))","v":""},null,null,"",{"$f":"IF(K78=\"\",\"\",INDEX('Otras referencias'!$AG:$AH,MATCH(K78,'Otras referencias'!$AG:$AG,0),2))","v":""},null,{"$f":"IF(J78=\"\",\"\",INDEX(referentes!$S:$W,MATCH(J78,referentes!$S:$S,0),1))","v":""},null,null,null,null,{"$f":"IF(P78=\"\",\"\",INDEX(referentes!$J:$K,MATCH(P78,referentes!$J:$J,0),2))","v":""},null,null,null,{"$f":"IF(T78=\"\",\"\",INDEX(referentes!D:E,MATCH(T78,referentes!D:D,0),2))","v":""},null,{"$f":"IF(V78=\"\",\"\",INDEX('Otras referencias'!AO:AP,MATCH(V78,'Otras referencias'!AO:AO,0),2))","v":""},null,{"$f":"IF(Z78=\"\",\"\",INDEX('Otras referencias'!H:I,MATCH(Z78,'Otras referencias'!I:I,0),1))","v":""},null,null,null,{"$f":"IF(AD78=\"\",\"\",INDEX('Otras referencias'!K:L,MATCH(AD78,'Otras referencias'!L:L,0),1))","v":""},null,"---",null,null,null,{"$f":"IF(V78=\"\",\"\",INDEX('Otras referencias'!AO:AQ,MATCH(V78,'Otras referencias'!AO:AO,0),3))","v":""},{"$f":"IF(SUMPRODUCT(--EXACT(K78&M78,$AJ$2:AJ77)),\"\",K78&M78)","v":""},{"$f":"IF(SUMPRODUCT(--EXACT(K78&M78,$AJ$2:AJ77)),\"\",MAX($AK$3:AK77)+1)","v":""}]
[1,{"$f":"IF(F79=\"\",\"\",IF(COUNTIF($F$3:F79, F79)>1, \"\", F79))","v":""},77,"",null,{"$f":"IF(I79=\"\",\"\",IF(K79=\"\",\"\", CONCATENATE(DIGITADOR!$M$1,G79,J79)))","v":""},null,null,"",{"$f":"IF(K79=\"\",\"\",INDEX('Otras referencias'!$AG:$AH,MATCH(K79,'Otras referencias'!$AG:$AG,0),2))","v":""},null,{"$f":"IF(J79=\"\",\"\",INDEX(referentes!$S:$W,MATCH(J79,referentes!$S:$S,0),1))","v":""},null,null,null,null,{"$f":"IF(P79=\"\",\"\",INDEX(referentes!$J:$K,MATCH(P79,referentes!$J:$J,0),2))","v":""},null,null,null,{"$f":"IF(T79=\"\",\"\",INDEX(referentes!D:E,MATCH(T79,referentes!D:D,0),2))","v":""},null,{"$f":"IF(V79=\"\",\"\",INDEX('Otras referencias'!AO:AP,MATCH(V79,'Otras referencias'!AO:AO,0),2))","v":""},null,{"$f":"IF(Z79=\"\",\"\",INDEX('Otras referencias'!H:I,MATCH(Z79,'Otras referencias'!I:I,0),1))","v":""},null,null,null,{"$f":"IF(AD79=\"\",\"\",INDEX('Otras referencias'!K:L,MATCH(AD79,'Otras referencias'!L:L,0),1))","v":""},null,"---",null,null,null,{"$f":"IF(V79=\"\",\"\",INDEX('Otras referencias'!AO:AQ,MATCH(V79,'Otras referencias'!AO:AO,0),3))","v":""},{"$f":"IF(SUMPRODUCT(--EXACT(K79&M79,$AJ$2:AJ78)),\"\",K79&M79)","v":""},{"$f":"IF(SUMPRODUCT(--EXACT(K79&M79,$AJ$2:AJ78)),\"\",MAX($AK$3:AK78)+1)","v":""}]
[1,{"$f":"IF(F80=\"\",\"\",IF(COUNTIF($F$3:F80, F80)>1, \"\", F80))","v":""},78,"",null,{"$f":"IF(I80=\"\",\"\",IF(K80=\"\",\"\", CONCATENATE(DIGITADOR!$M$1,G80,J80)))","v":""},null,null,"",{"$f":"IF(K80=\"\",\"\",INDEX('Otras referencias'!$AG:$AH,MATCH(K80,'Otras referencias'!$AG:$AG,0),2))","v":""},null,{"$f":"IF(J80=\"\",\"\",INDEX(referentes!$S:$W,MATCH(J80,referentes!$S:$S,0),1))","v":""},null,null,null,null,{"$f":"IF(P80=\"\",\"\",INDEX(referentes!$J:$K,MATCH(P80,referentes!$J:$J,0),2))","v":""},null,null,null,{"$f":"IF(T80=\"\",\"\",INDEX(referentes!D:E,MATCH(T80,referentes!D:D,0),2))","v":""},null,{"$f":"IF(V80=\"\",\"\",INDEX('Otras referencias'!AO:AP,MATCH(V80,'Otras referencias'!AO:AO,0),2))","v":""},null,{"$f":"IF(Z80=\"\",\"\",INDEX('Otras referencias'!H:I,MATCH(Z80,'Otras referencias'!I:I,0),1))","v":""},null,null,null,{"$f":"IF(AD80=\"\",\"\",INDEX('Otras referencias'!K:L,MATCH(AD80,'Otras referencias'!L:L,0),1))","v":""},null,"---",null,null,null,{"$f":"IF(V80=\"\",\"\",INDEX('Otras referencias'!AO:AQ,MATCH(V80,'Otras referencias'!AO:AO,0),3))","v":""},{"$f":"IF(SUMPRODUCT(--EXACT(K80&M80,$AJ$2:AJ79)),\"\",K80&M80)","v":""},{"$f":"IF(SUMPRODUCT(--EXACT(K80&M80,$AJ$2:AJ79)),\"\",MAX($AK$3:AK79)+1)","v":""}]
[1,{"$f":"IF(F81=\"\",\"\",IF(COUNTIF($F$3:F81, F81)>1, \"\", F81))","v":""},79,"",null,{"$f":"IF(I81=\"\",\"\",IF(K81=\"\",\"\", CONCATENATE(DIGITADOR!$M$1,G81,J81)))","v":""},null,null,"",{"$f":"IF(K81=\"\",\"\",INDEX('Otras referencias'!$AG:$AH,MATCH(K81,'Otras referencias'!$AG:$AG,0),2))","v":""},null,{"$f":"IF(J81=\"\",\"\",INDEX(referentes!$S:$W,MATCH(J81,referentes!$S:$S,0),1))","v":""},null,null,null,null,{"$f":"IF(P81=\"\",\"\",INDEX(referentes!$J:$K,MATCH(P81,referentes!$J:$J,0),2))","v":""},null,null,null,{"$f":"IF(T81=\"\",\"\",INDEX(referentes!D:E,MATCH(T81,referentes!D:D,0),2))","v":""},null,{"$f":"IF(V81=\"\",\"\",INDEX('Otras referencias'!AO:AP,MATCH(V81,'Otras referencias'!AO:AO,0),2))","v":""},null,{"$f":"IF(Z81=\"\",\"\",INDEX('Otras referencias'!H:I,MATCH(Z81,'Otras referencias'!I:I,0),1))","v":""},null,null,null,{"$f":"IF(AD81=\"\",\"\",INDEX('Otras referencias'!K:L,MATCH(AD81,'Otras referencias'!L:L,0),1))","v":""},null,"---",null,null,null,{"$f":"IF(V81=\"\",\"\",INDEX('Otras referencias'!AO:AQ,MATCH(V81,'Otras referencias'!AO:AO,0),3))","v":""},{"$f":"IF(SUMPRODUCT(--EXACT(K81&M81,$AJ$2:AJ80)),\"\",K81&M81)","v":""},{"$f":"IF(SUMPRODUCT(--EXACT(K81&M81,$AJ$2:AJ80)),\"\",MAX($AK$3:AK80)+1)","v":""}]
[1,{"$f":"IF(F82=\"\",\"\",IF(COUNTIF($F$3:F82, F82)>1, \"\", F82))","v":""},80,"",null,{"$f":"IF(I82=\"\",\"\",IF(K82=\"\",\"\", CONCATENATE(DIGITADOR!$M$1,G82,J82)))","v":""},null,null,"",{"$f":"IF(K82=\"\",\"\",INDEX('Otras referencias'!$AG:$AH,MATCH(K82,'Otras referencias'!$AG:$AG,0),2))","v":""},null,{"$f":"IF(J82=\"\",\"\",INDEX(referentes!$S:$W,MATCH(J82,referentes!$S:$S,0),1))","v":""},null,null,null,null,{"$f":"IF(P82=\"\",\"\",INDEX(referentes!$J:$K,MATCH(P82,referentes!$J:$J,0),2))","v":""},null,null,null,{"$f":"IF(T82=\"\",\"\",INDEX(referentes!D:E,MATCH(T82,referentes!D:D,0),2))","v":""},null,{"$f":"IF(V82=\"\",\"\",INDEX('Otras referencias'!AO:AP,MATCH(V82,'Otras referencias'!AO:AO,0),2))","v":""},null,{"$f":"IF(Z82=\"\",\"\",INDEX('Otras referencias'!H:I,MATCH(Z82,'Otras referencias'!I:I,0),1))","v":""},null,null,null,{"$f":"IF(AD82=\"\",\"\",INDEX('Otras referencias'!K:L,MATCH(AD82,'Otras referencias'!L:L,0),1))","v":""},null,"---",null,null,null,{"$f":"IF(V82=\"\",\"\",INDEX('Otras referencias'!AO:AQ,MATCH(V82,'Otras referencias'!AO:AO,0),3))","v":""},{"$f":"IF(SUMPRODUCT(--EXACT(K82&M82,$AJ$2:AJ81)),\"\",K82&M82)","v":""},{"$f":"IF(SUMPRODUCT(--EXACT(K82&M82,$AJ$2:AJ81)),\"\",MAX($AK$3:AK81)+1)","v":""}]
[1,{"$f":"IF(F83=\"\",\"\",IF(COUNTIF($F$3:F83, F83)>1, \"\", F83))","v":""},81,"",null,{"$f":"IF(I83=\"\",\"\",IF(K83=\"\",\"\", CONCATENATE(DIGITADOR!$M$1,G83,J83)))","v":""},null,null,"",{"$f":"IF(K83=\"\",\"\",INDEX('Otras referencias'!$AG:$AH,MATCH(K83,'Otras referencias'!$AG:$AG,0),2))","v":""},null,{"$f":"IF(J83=\"\",\"\",INDEX(referentes!$S:$W,MATCH(J83,referentes!$S:$S,0),1))","v":""},null,null,null,null,{"$f":"IF(P83=\"\",\"\",INDEX(referentes!$J:$K,MATCH(P83,referentes!$J:$J,0),2))","v":""},null,null,null,{"$f":"IF(T83=\"\",\"\",INDEX(referentes!D:E,MATCH(T83,referentes!D:D,0),2))","v":""},null,{"$f":"IF(V83=\"\",\"\",INDEX('Otras referencias'!AO:AP,MATCH(V83,'Otras referencias'!AO:AO,0),2))","v":""},null,{"$f":"IF(Z83=\"\",\"\",INDEX('Otras referencias'!H:I,MATCH(Z83,'Otras referencias'!I:I,0),1))","v":""},null,null,null,{"$f":"IF(AD83=\"\",\"\",INDEX('Otras referencias'!K:L,MATCH(AD83,'Otras referencias'!L:L,0),1))","v":""},null,"---",null,null,null,{"$f":"IF(V83=\"\",\"\",INDEX('Otras referencias'!AO:AQ,MATCH(V83,'Otras referencias'!AO:AO,0),3))","v":""},{"$f":"IF(SUMPRODUCT(--EXACT(K83&M83,$AJ$2:AJ82)),\"\",K83&M83)","v":""},{"$f":"IF(SUMPRODUCT(--EXACT(K83&M83,$AJ$2:AJ82)),\"\",MAX($AK$3:AK82)+1)","v":""}]
[1,{"$f":"IF(F84=\"\",\"\",IF(COUNTIF($F$3:F84, F84)>1, \"\", F84))","v":""},82,"",null,{"$f":"IF(I84=\"\",\"\",IF(K84=\"\",\"\", CONCATENATE(DIGITADOR!$M$1,G84,J84)))","v":""},null,null,"",{"$f":"IF(K84=\"\",\"\",INDEX('Otras referencias'!$AG:$AH,MATCH(K84,'Otras referencias'!$AG:$AG,0),2))","v":""},null,{"$f":"IF(J84=\"\",\"\",INDEX(referentes!$S:$W,MATCH(J84,referentes!$S:$S,0),1))","v":""},null,null,null,null,{"$f":"IF(P84=\"\",\"\",INDEX(referentes!$J:$K,MATCH(P84,referentes!$J:$J,0),2))","v":""},null,null,null,{"$f":"IF(T84=\"\",\"\",INDEX(referentes!D:E,MATCH(T84,referentes!D:D,0),2))","v":""},null,{"$f":"IF(V84=\"\",\"\",INDEX('Otras referencias'!AO:AP,MATCH(V84,'Otras referencias'!AO:AO,0),2))","v":""},null,{"$f":"IF(Z84=\"\",\"\",INDEX('Otras referencias'!H:I,MATCH(Z84,'Otras referencias'!I:I,0),1))","v":""},null,null,null,{"$f":"IF(AD84=\"\",\"\",INDEX('Otras referencias'!K:L,MATCH(AD84,'Otras referencias'!L:L,0),1))","v":""},null,"---",null,null,null,{"$f":"IF(V84=\"\",\"\",INDEX('Otras referencias'!AO:AQ,MATCH(V84,'Otras referencias'!AO:AO,0),3))","v":""},{"$f":"IF(SUMPRODUCT(--EXACT(K84&M84,$AJ$2:AJ83)),\"\",K84&M84)","v":""},{"$f":"IF(SUMPRODUCT(--EXACT(K84&M84,$AJ$2:AJ83)),\"\",MAX($AK$3:AK83)+1)","v":""}]
[1,{"$f":"IF(F85=\"\",\"\",IF(COUNTIF($F$3:F85, F85)>1, \"\", F85))","v":""},83,"",null,{"$f":"IF(I85=\"\",\"\",IF(K85=\"\",\"\", CONCATENATE(DIGITADOR!$M$1,G85,J85)))","v":""},null,null,"",{"$f":"IF(K85=\"\",\"\",INDEX('Otras referencias'!$AG:$AH,MATCH(K85,'Otras referencias'!$AG:$AG,0),2))","v":""},null,{"$f":"IF(J85=\"\",\"\",INDEX(referentes!$S:$W,MATCH(J85,referentes!$S:$S,0),1))","v":""},null,null,null,null,{"$f":"IF(P85=\"\",\"\",INDEX(referentes!$J:$K,MATCH(P85,referentes!$J:$J,0),2))","v":""},null,null,null,{"$f":"IF(T85=\"\",\"\",INDEX(referentes!D:E,MATCH(T85,referentes!D:D,0),2))","v":""},null,{"$f":"IF(V85=\"\",\"\",INDEX('Otras referencias'!AO:AP,MATCH(V85,'Otras referencias'!AO:AO,0),2))","v":""},null,{"$f":"IF(Z85=\"\",\"\",INDEX('Otras referencias'!H:I,MATCH(Z85,'Otras referencias'!I:I,0),1))","v":""},null,null,null,{"$f":"IF(AD85=\"\",\"\",INDEX('Otras referencias'!K:L,MATCH(AD85,'Otras referencias'!L:L,0),1))","v":""},null,"---",null,null,null,{"$f":"IF(V85=\"\",\"\",INDEX('Otras referencias'!AO:AQ,MATCH(V85,'Otras referencias'!AO:AO,0),3))","v":""},{"$f":"IF(SUMPRODUCT(--EXACT(K85&M85,$AJ$2:AJ84)),\"\",K85&M85)","v":""},{"$f":"IF(SUMPRODUCT(--EXACT(K85&M85,$AJ$2:AJ84)),\"\",MAX($AK$3:AK84)+1)","v":""}]
[1,{"$f":"IF(F86=\"\",\"\",IF(COUNTIF($F$3:F86, F86)>1, \"\", F86))","v":""},84,"",null,{"$f":"IF(I86=\"\",\"\",IF(K86=\"\",\"\", CONCATENATE(DIGITADOR!$M$1,G86,J86)))","v":""},null,null,"",{"$f":"IF(K86=\"\",\"\",INDEX('Otras referencias'!$AG:$AH,MATCH(K86,'Otras referencias'!$AG:$AG,0),2))","v":""},null,{"$f":"IF(J86=\"\",\"\",INDEX(referentes!$S:$W,MATCH(J86,referentes!$S:$S,0),1))","v":""},null,null,null,null,{"$f":"IF(P86=\"\",\"\",INDEX(referentes!$J:$K,MATCH(P86,referentes!$J:$J,0),2))","v":""},null,null,null,{"$f":"IF(T86=\"\",\"\",INDEX(referentes!D:E,MATCH(T86,referentes!D:D,0),2))","v":""},null,{"$f":"IF(V86=\"\",\"\",INDEX('Otras referencias'!AO:AP,MATCH(V86,'Otras referencias'!AO:AO,0),2))","v":""},null,{"$f":"IF(Z86=\"\",\"\",INDEX('Otras referencias'!H:I,MATCH(Z86,'Otras referencias'!I:I,0),1))","v":""},null,null,null,{"$f":"IF(AD86=\"\",\"\",INDEX('Otras referencias'!K:L,MATCH(AD86,'Otras referencias'!L:L,0),1))","v":""},null,"---",null,null,null,{"$f":"IF(V86=\"\",\"\",INDEX('Otras referencias'!AO:AQ,MATCH(V86,'Otras referencias'!AO:AO,0),3))","v":""},{"$f":"IF(SUMPRODUCT(--EXACT(K86&M86,$AJ$2:AJ85)),\"\",K86&M86)","v":""},{"$f":"IF(SUMPRODUCT(--EXACT(K86&M86,$AJ$2:AJ85)),\"\",MAX($AK$3:AK85)+1)","v":""}]
[1,{"$f":"IF(F87=\"\",\"\",IF(COUNTIF($F$3:F87, F87)>1, \"\", F87))","v":""},85,"",null,{"$f":"IF(I87=\"\",\"\",IF(K87=\"\",\"\", CONCATENATE(DIGITADOR!$M$1,G87,J87)))","v":""},null,null,"",{"$f":"IF(K87=\"\",\"\",INDEX('Otras referencias'!$AG:$AH,MATCH(K87,'Otras referencias'!$AG:$AG,0),2))","v":""},null,{"$f":"IF(J87=\"\",\"\",INDEX(referentes!$S:$W,MATCH(J87,referentes!$S:$S,0),1))","v":""},null,null,null,null,{"$f":"IF(P87=\"\",\"\",INDEX(referentes!$J:$K,MATCH(P87,referentes!$J:$J,0),2))","v":""},null,null,null,{"$f":"IF(T87=\"\",\"\",INDEX(referentes!D:E,MATCH(T87,referentes!D:D,0),2))","v":""},null,{"$f":"IF(V87=\"\",\"\",INDEX('Otras referencias'!AO:AP,MATCH(V87,'Otras referencias'!AO:AO,0),2))","v":""},null,{"$f":"IF(Z87=\"\",\"\",INDEX('Otras referencias'!H:I,MATCH(Z87,'Otras referencias'!I:I,0),1))","v":""},null,null,null,{"$f":"IF(AD87=\"\",\"\",INDEX('Otras referencias'!K:L,MATCH(AD87,'Otras referencias'!L:L,0),1))","v":""},null,"---",null,null,null,{"$f":"IF(V87=\"\",\"\",INDEX('Otras referencias'!AO:AQ,MATCH(V87,'Otras referencias'!AO:AO,0),3))","v":""},{"$f":"IF(SUMPRODUCT(--EXACT(K87&M87,$AJ$2:AJ86)),\"\",K87&M87)","v":""},{"$f":"IF(SUMPRODUCT(--EXACT(K87&M87,$AJ$2:AJ86)),\"\",MAX($AK$3:AK86)+1)","v":""}]
[1,{"$f":"IF(F88=\"\",\"\",IF(COUNTIF($F$3:F88, F88)>1, \"\", F88))","v":""},86,"",null,{"$f":"IF(I88=\"\",\"\",IF(K88=\"\",\"\", CONCATENATE(DIGITADOR!$M$1,G88,J88)))","v":""},null,null,"",{"$f":"IF(K88=\"\",\"\",INDEX('Otras referencias'!$AG:$AH,MATCH(K88,'Otras referencias'!$AG:$AG,0),2))","v":""},null,{"$f":"IF(J88=\"\",\"\",INDEX(referentes!$S:$W,MATCH(J88,referentes!$S:$S,0),1))","v":""},null,null,null,null,{"$f":"IF(P88=\"\",\"\",INDEX(referentes!$J:$K,MATCH(P88,referentes!$J:$J,0),2))","v":""},null,null,null,{"$f":"IF(T88=\"\",\"\",INDEX(referentes!D:E,MATCH(T88,referentes!D:D,0),2))","v":""},null,{"$f":"IF(V88=\"\",\"\",INDEX('Otras referencias'!AO:AP,MATCH(V88,'Otras referencias'!AO:AO,0),2))","v":""},null,{"$f":"IF(Z88=\"\",\"\",INDEX('Otras referencias'!H:I,MATCH(Z88,'Otras referencias'!I:I,0),1))","v":""},null,null,null,{"$f":"IF(AD88=\"\",\"\",INDEX('Otras referencias'!K:L,MATCH(AD88,'Otras referencias'!L:L,0),1))","v":""},null,"---",null,null,null,{"$f":"IF(V88=\"\",\"\",INDEX('Otras referencias'!AO:AQ,MATCH(V88,'Otras referencias'!AO:AO,0),3))","v":""},{"$f":"IF(SUMPRODUCT(--EXACT(K88&M88,$AJ$2:AJ87)),\"\",K88&M88)","v":""},{"$f":"IF(SUMPRODUCT(--EXACT(K88&M88,$AJ$2:AJ87)),\"\",MAX($AK$3:AK87)+1)","v":""}]
[1,{"$f":"IF(F89=\"\",\"\",IF(COUNTIF($F$3:F89, F89)>1, \"\", F89))","v":""},87,"",null,{"$f":"IF(I89=\"\",\"\",IF(K89=\"\",\"\", CONCATENATE(DIGITADOR!$M$1,G89,J89)))","v":""},null,null,"",{"$f":"IF(K89=\"\",\"\",INDEX('Otras referencias'!$AG:$AH,MATCH(K89,'Otras referencias'!$AG:$AG,0),2))","v":""},null,{"$f":"IF(J89=\"\",\"\",INDEX(referentes!$S:$W,MATCH(J89,referentes!$S:$S,0),1))","v":""},null,null,null,null,{"$f":"IF(P89=\"\",\"\",INDEX(referentes!$J:$K,MATCH(P89,referentes!$J:$J,0),2))","v":""},null,null,null,{"$f":"IF(T89=\"\",\"\",INDEX(referentes!D:E,MATCH(T89,referentes!D:D,0),2))","v":""},null,{"$f":"IF(V89=\"\",\"\",INDEX('Otras referencias'!AO:AP,MATCH(V89,'Otras referencias'!AO:AO,0),2))","v":""},null,{"$f":"IF(Z89=\"\",\"\",INDEX('Otras referencias'!H:I,MATCH(Z89,'Otras referencias'!I:I,0),1))","v":""},null,null,null,{"$f":"IF(AD89=\"\",\"\",INDEX('Otras referencias'!K:L,MATCH(AD89,'Otras referencias'!L:L,0),1))","v":""},null,"---",null,null,null,{"$f":"IF(V89=\"\",\"\",INDEX('Otras referencias'!AO:AQ,MATCH(V89,'Otras referencias'!AO:AO,0),3))","v":""},{"$f":"IF(SUMPRODUCT(--EXACT(K89&M89,$AJ$2:AJ88)),\"\",K89&M89)","v":""},{"$f":"IF(SUMPRODUCT(--EXACT(K89&M89,$AJ$2:AJ88)),\"\",MAX($AK$3:AK88)+1)","v":""}]
[1,{"$f":"IF(F90=\"\",\"\",IF(COUNTIF($F$3:F90, F90)>1, \"\", F90))","v":""},88,"",null,{"$f":"IF(I90=\"\",\"\",IF(K90=\"\",\"\", CONCATENATE(DIGITADOR!$M$1,G90,J90)))","v":""},null,null,"",{"$f":"IF(K90=\"\",\"\",INDEX('Otras referencias'!$AG:$AH,MATCH(K90,'Otras referencias'!$AG:$AG,0),2))","v":""},null,{"$f":"IF(J90=\"\",\"\",INDEX(referentes!$S:$W,MATCH(J90,referentes!$S:$S,0),1))","v":""},null,null,null,null,{"$f":"IF(P90=\"\",\"\",INDEX(referentes!$J:$K,MATCH(P90,referentes!$J:$J,0),2))","v":""},null,null,null,{"$f":"IF(T90=\"\",\"\",INDEX(referentes!D:E,MATCH(T90,referentes!D:D,0),2))","v":""},null,{"$f":"IF(V90=\"\",\"\",INDEX('Otras referencias'!AO:AP,MATCH(V90,'Otras referencias'!AO:AO,0),2))","v":""},null,{"$f":"IF(Z90=\"\",\"\",INDEX('Otras referencias'!H:I,MATCH(Z90,'Otras referencias'!I:I,0),1))","v":""},null,null,null,{"$f":"IF(AD90=\"\",\"\",INDEX('Otras referencias'!K:L,MATCH(AD90,'Otras referencias'!L:L,0),1))","v":""},null,"---",null,null,null,{"$f":"IF(V90=\"\",\"\",INDEX('Otras referencias'!AO:AQ,MATCH(V90,'Otras referencias'!AO:AO,0),3))","v":""},{"$f":"IF(SUMPRODUCT(--EXACT(K90&M90,$AJ$2:AJ89)),\"\",K90&M90)","v":""},{"$f":"IF(SUMPRODUCT(--EXACT(K90&M90,$AJ$2:AJ89)),\"\",MAX($AK$3:AK89)+1)","v":""}]
[1,{"$f":"IF(F91=\"\",\"\",IF(COUNTIF($F$3:F91, F91)>1, \"\", F91))","v":""},89,"",null,{"$f":"IF(I91=\"\",\"\",IF(K91=\"\",\"\", CONCATENATE(DIGITADOR!$M$1,G91,J91)))","v":""},null,null,"",{"$f":"IF(K91=\"\",\"\",INDEX('Otras referencias'!$AG:$AH,MATCH(K91,'Otras referencias'!$AG:$AG,0),2))","v":""},null,{"$f":"IF(J91=\"\",\"\",INDEX(referentes!$S:$W,MATCH(J91,referentes!$S:$S,0),1))","v":""},null,null,null,null,{"$f":"IF(P91=\"\",\"\",INDEX(referentes!$J:$K,MATCH(P91,referentes!$J:$J,0),2))","v":""},null,null,null,{"$f":"IF(T91=\"\",\"\",INDEX(referentes!D:E,MATCH(T91,referentes!D:D,0),2))","v":""},null,{"$f":"IF(V91=\"\",\"\",INDEX('Otras referencias'!AO:AP,MATCH(V91,'Otras referencias'!AO:AO,0),2))","v":""},null,{"$f":"IF(Z91=\"\",\"\",INDEX('Otras referencias'!H:I,MATCH(Z91,'Otras referencias'!I:I,0),1))","v":""},null,null,null,{"$f":"IF(AD91=\"\",\"\",INDEX('Otras referencias'!K:L,MATCH(AD91,'Otras referencias'!L:L,0),1))","v":""},null,"---",null,null,null,{"$f":"IF(V91=\"\",\"\",INDEX('Otras referencias'!AO:AQ,MATCH(V91,'Otras referencias'!AO:AO,0),3))","v":""},{"$f":"IF(SUMPRODUCT(--EXACT(K91&M91,$AJ$2:AJ90)),\"\",K91&M91)","v":""},{"$f":"IF(SUMPRODUCT(--EXACT(K91&M91,$AJ$2:AJ90)),\"\",MAX($AK$3:AK90)+1)","v":""}]
[1,{"$f":"IF(F92=\"\",\"\",IF(COUNTIF($F$3:F92, F92)>1, \"\", F92))","v":""},90,"",null,{"$f":"IF(I92=\"\",\"\",IF(K92=\"\",\"\", CONCATENATE(DIGITADOR!$M$1,G92,J92)))","v":""},null,null,"",{"$f":"IF(K92=\"\",\"\",INDEX('Otras referencias'!$AG:$AH,MATCH(K92,'Otras referencias'!$AG:$AG,0),2))","v":""},null,{"$f":"IF(J92=\"\",\"\",INDEX(referentes!$S:$W,MATCH(J92,referentes!$S:$S,0),1))","v":""},null,null,null,null,{"$f":"IF(P92=\"\",\"\",INDEX(referentes!$J:$K,MATCH(P92,referentes!$J:$J,0),2))","v":""},null,null,null,{"$f":"IF(T92=\"\",\"\",INDEX(referentes!D:E,MATCH(T92,referentes!D:D,0),2))","v":""},null,{"$f":"IF(V92=\"\",\"\",INDEX('Otras referencias'!AO:AP,MATCH(V92,'Otras referencias'!AO:AO,0),2))","v":""},null,{"$f":"IF(Z92=\"\",\"\",INDEX('Otras referencias'!H:I,MATCH(Z92,'Otras referencias'!I:I,0),1))","v":""},null,null,null,{"$f":"IF(AD92=\"\",\"\",INDEX('Otras referencias'!K:L,MATCH(AD92,'Otras referencias'!L:L,0),1))","v":""},null,"---",null,null,null,{"$f":"IF(V92=\"\",\"\",INDEX('Otras referencias'!AO:AQ,MATCH(V92,'Otras referencias'!AO:AO,0),3))","v":""},{"$f":"IF(SUMPRODUCT(--EXACT(K92&M92,$AJ$2:AJ91)),\"\",K92&M92)","v":""},{"$f":"IF(SUMPRODUCT(--EXACT(K92&M92,$AJ$2:AJ91)),\"\",MAX($AK$3:AK91)+1)","v":""}]
[1,{"$f":"IF(F93=\"\",\"\",IF(COUNTIF($F$3:F93, F93)>1, \"\", F93))","v":""},91,"",null,{"$f":"IF(I93=\"\",\"\",IF(K93=\"\",\"\", CONCATENATE(DIGITADOR!$M$1,G93,J93)))","v":""},null,null,"",{"$f":"IF(K93=\"\",\"\",INDEX('Otras referencias'!$AG:$AH,MATCH(K93,'Otras referencias'!$AG:$AG,0),2))","v":""},null,{"$f":"IF(J93=\"\",\"\",INDEX(referentes!$S:$W,MATCH(J93,referentes!$S:$S,0),1))","v":""},null,null,null,null,{"$f":"IF(P93=\"\",\"\",INDEX(referentes!$J:$K,MATCH(P93,referentes!$J:$J,0),2))","v":""},null,null,null,{"$f":"IF(T93=\"\",\"\",INDEX(referentes!D:E,MATCH(T93,referentes!D:D,0),2))","v":""},null,{"$f":"IF(V93=\"\",\"\",INDEX('Otras referencias'!AO:AP,MATCH(V93,'Otras referencias'!AO:AO,0),2))","v":""},null,{"$f":"IF(Z93=\"\",\"\",INDEX('Otras referencias'!H:I,MATCH(Z93,'Otras referencias'!I:I,0),1))","v":""},null,null,null,{"$f":"IF(AD93=\"\",\"\",INDEX('Otras referencias'!K:L,MATCH(AD93,'Otras referencias'!L:L,0),1))","v":""},null,"---",null,null,null,{"$f":"IF(V93=\"\",\"\",INDEX('Otras referencias'!AO:AQ,MATCH(V93,'Otras referencias'!AO:AO,0),3))","v":""},{"$f":"IF(SUMPRODUCT(--EXACT(K93&M93,$AJ$2:AJ92)),\"\",K93&M93)","v":""},{"$f":"IF(SUMPRODUCT(--EXACT(K93&M93,$AJ$2:AJ92)),\"\",MAX($AK$3:AK92)+1)","v":""}]
[1,{"$f":"IF(F94=\"\",\"\",IF(COUNTIF($F$3:F94, F94)>1, \"\", F94))","v":""},92,"",null,{"$f":"IF(I94=\"\",\"\",IF(K94=\"\",\"\", CONCATENATE(DIGITADOR!$M$1,G94,J94)))","v":""},null,null,{"$f":"IF(G94<>\"\",G94+H94,\"\")","v":""},{"$f":"IF(K94=\"\",\"\",INDEX('Otras referencias'!$AG:$AH,MATCH(K94,'Otras referencias'!$AG:$AG,0),2))","v":""},null,{"$f":"IF(J94=\"\",\"\",INDEX(referentes!$S:$W,MATCH(J94,referentes!$S:$S,0),1))","v":""},null,null,null,null,{"$f":"IF(P94=\"\",\"\",INDEX(referentes!$J:$K,MATCH(P94,referentes!$J:$J,0),2))","v":""},null,null,null,{"$f":"IF(T94=\"\",\"\",INDEX(referentes!D:E,MATCH(T94,referentes!D:D,0),2))","v":""},null,{"$f":"IF(V94=\"\",\"\",INDEX('Otras referencias'!AO:AP,MATCH(V94,'Otras referencias'!AO:AO,0),2))","v":""},null,{"$f":"IF(Z94=\"\",\"\",INDEX('Otras referencias'!H:I,MATCH(Z94,'Otras referencias'!I:I,0),1))","v":""},null,null,null,{"$f":"IF(AD94=\"\",\"\",INDEX('Otras referencias'!K:L,MATCH(AD94,'Otras referencias'!L:L,0),1))","v":""},null,"---",null,null,null,{"$f":"IF(V94=\"\",\"\",INDEX('Otras referencias'!AO:AQ,MATCH(V94,'Otras referencias'!AO:AO,0),3))","v":""},{"$f":"IF(SUMPRODUCT(--EXACT(K94&M94,$AJ$2:AJ93)),\"\",K94&M94)","v":""},{"$f":"IF(SUMPRODUCT(--EXACT(K94&M94,$AJ$2:AJ93)),\"\",MAX($AK$3:AK93)+1)","v":""}]
[1,{"$f":"IF(F95=\"\",\"\",IF(COUNTIF($F$3:F95, F95)>1, \"\", F95))","v":""},93,"",null,{"$f":"IF(I95=\"\",\"\",IF(K95=\"\",\"\", CONCATENATE(DIGITADOR!$M$1,G95,J95)))","v":""},null,null,"",{"$f":"IF(K95=\"\",\"\",INDEX('Otras referencias'!$AG:$AH,MATCH(K95,'Otras referencias'!$AG:$AG,0),2))","v":""},null,{"$f":"IF(J95=\"\",\"\",INDEX(referentes!$S:$W,MATCH(J95,referentes!$S:$S,0),1))","v":""},null,null,null,null,{"$f":"IF(P95=\"\",\"\",INDEX(referentes!$J:$K,MATCH(P95,referentes!$J:$J,0),2))","v":""},null,null,null,{"$f":"IF(T95=\"\",\"\",INDEX(referentes!D:E,MATCH(T95,referentes!D:D,0),2))","v":""},null,{"$f":"IF(V95=\"\",\"\",INDEX('Otras referencias'!AO:AP,MATCH(V95,'Otras referencias'!AO:AO,0),2))","v":""},null,{"$f":"IF(Z95=\"\",\"\",INDEX('Otras referencias'!H:I,MATCH(Z95,'Otras referencias'!I:I,0),1))","v":""},null,null,null,{"$f":"IF(AD95=\"\",\"\",INDEX('Otras referencias'!K:L,MATCH(AD95,'Otras referencias'!L:L,0),1))","v":""},null,"---",null,null,null,{"$f":"IF(V95=\"\",\"\",INDEX('Otras referencias'!AO:AQ,MATCH(V95,'Otras referencias'!AO:AO,0),3))","v":""},{"$f":"IF(SUMPRODUCT(--EXACT(K95&M95,$AJ$2:AJ94)),\"\",K95&M95)","v":""},{"$f":"IF(SUMPRODUCT(--EXACT(K95&M95,$AJ$2:AJ94)),\"\",MAX($AK$3:AK94)+1)","v":""}]
[1,{"$f":"IF(F96=\"\",\"\",IF(COUNTIF($F$3:F96, F96)>1, \"\", F96))","v":""},94,"",null,{"$f":"IF(I96=\"\",\"\",IF(K96=\"\",\"\", CONCATENATE(DIGITADOR!$M$1,G96,J96)))","v":""},null,null,"",{"$f":"IF(K96=\"\",\"\",INDEX('Otras referencias'!$AG:$AH,MATCH(K96,'Otras referencias'!$AG:$AG,0),2))","v":""},null,{"$f":"IF(J96=\"\",\"\",INDEX(referentes!$S:$W,MATCH(J96,referentes!$S:$S,0),1))","v":""},null,null,null,null,{"$f":"IF(P96=\"\",\"\",INDEX(referentes!$J:$K,MATCH(P96,referentes!$J:$J,0),2))","v":""},null,null,null,{"$f":"IF(T96=\"\",\"\",INDEX(referentes!D:E,MATCH(T96,referentes!D:D,0),2))","v":""},null,{"$f":"IF(V96=\"\",\"\",INDEX('Otras referencias'!AO:AP,MATCH(V96,'Otras referencias'!AO:AO,0),2))","v":""},null,{"$f":"IF(Z96=\"\",\"\",INDEX('Otras referencias'!H:I,MATCH(Z96,'Otras referencias'!I:I,0),1))","v":""},null,null,null,{"$f":"IF(AD96=\"\",\"\",INDEX('Otras referencias'!K:L,MATCH(AD96,'Otras referencias'!L:L,0),1))","v":""},null,"---",null,null,null,{"$f":"IF(V96=\"\",\"\",INDEX('Otras referencias'!AO:AQ,MATCH(V96,'Otras referencias'!AO:AO,0),3))","v":""},{"$f":"IF(SUMPRODUCT(--EXACT(K96&M96,$AJ$2:AJ95)),\"\",K96&M96)","v":""},{"$f":"IF(SUMPRODUCT(--EXACT(K96&M96,$AJ$2:AJ95)),\"\",MAX($AK$3:AK95)+1)","v":""}]
[1,{"$f":"IF(F97=\"\",\"\",IF(COUNTIF($F$3:F97, F97)>1, \"\", F97))","v":""},95,"",null,{"$f":"IF(I97=\"\",\"\",IF(K97=\"\",\"\", CONCATENATE(DIGITADOR!$M$1,G97,J97)))","v":""},null,null,"",{"$f":"IF(K97=\"\",\"\",INDEX('Otras referencias'!$AG:$AH,MATCH(K97,'Otras referencias'!$AG:$AG,0),2))","v":""},null,{"$f":"IF(J97=\"\",\"\",INDEX(referentes!$S:$W,MATCH(J97,referentes!$S:$S,0),1))","v":""},null,null,null,null,{"$f":"IF(P97=\"\",\"\",INDEX(referentes!$J:$K,MATCH(P97,referentes!$J:$J,0),2))","v":""},null,null,null,{"$f":"IF(T97=\"\",\"\",INDEX(referentes!D:E,MATCH(T97,referentes!D:D,0),2))","v":""},null,{"$f":"IF(V97=\"\",\"\",INDEX('Otras referencias'!AO:AP,MATCH(V97,'Otras referencias'!AO:AO,0),2))","v":""},null,{"$f":"IF(Z97=\"\",\"\",INDEX('Otras referencias'!H:I,MATCH(Z97,'Otras referencias'!I:I,0),1))","v":""},null,null,null,{"$f":"IF(AD97=\"\",\"\",INDEX('Otras referencias'!K:L,MATCH(AD97,'Otras referencias'!L:L,0),1))","v":""},null,"---",null,null,null,{"$f":"IF(V97=\"\",\"\",INDEX('Otras referencias'!AO:AQ,MATCH(V97,'Otras referencias'!AO:AO,0),3))","v":""},{"$f":"IF(SUMPRODUCT(--EXACT(K97&M97,$AJ$2:AJ96)),\"\",K97&M97)","v":""},{"$f":"IF(SUMPRODUCT(--EXACT(K97&M97,$AJ$2:AJ96)),\"\",MAX($AK$3:AK96)+1)","v":""}]
[1,{"$f":"IF(F98=\"\",\"\",IF(COUNTIF($F$3:F98, F98)>1, \"\", F98))","v":""},96,"",null,{"$f":"IF(I98=\"\",\"\",IF(K98=\"\",\"\", CONCATENATE(DIGITADOR!$M$1,G98,J98)))","v":""},null,null,"",{"$f":"IF(K98=\"\",\"\",INDEX('Otras referencias'!$AG:$AH,MATCH(K98,'Otras referencias'!$AG:$AG,0),2))","v":""},null,{"$f":"IF(J98=\"\",\"\",INDEX(referentes!$S:$W,MATCH(J98,referentes!$S:$S,0),1))","v":""},null,null,null,null,{"$f":"IF(P98=\"\",\"\",INDEX(referentes!$J:$K,MATCH(P98,referentes!$J:$J,0),2))","v":""},null,null,null,{"$f":"IF(T98=\"\",\"\",INDEX(referentes!D:E,MATCH(T98,referentes!D:D,0),2))","v":""},null,{"$f":"IF(V98=\"\",\"\",INDEX('Otras referencias'!AO:AP,MATCH(V98,'Otras referencias'!AO:AO,0),2))","v":""},null,{"$f":"IF(Z98=\"\",\"\",INDEX('Otras referencias'!H:I,MATCH(Z98,'Otras referencias'!I:I,0),1))","v":""},null,null,null,{"$f":"IF(AD98=\"\",\"\",INDEX('Otras referencias'!K:L,MATCH(AD98,'Otras referencias'!L:L,0),1))","v":""},null,"---",null,null,null,{"$f":"IF(V98=\"\",\"\",INDEX('Otras referencias'!AO:AQ,MATCH(V98,'Otras referencias'!AO:AO,0),3))","v":""},{"$f":"IF(SUMPRODUCT(--EXACT(K98&M98,$AJ$2:AJ97)),\"\",K98&M98)","v":""},{"$f":"IF(SUMPRODUCT(--EXACT(K98&M98,$AJ$2:AJ97)),\"\",MAX($AK$3:AK97)+1)","v":""}]
[1,{"$f":"IF(F99=\"\",\"\",IF(COUNTIF($F$3:F99, F99)>1, \"\", F99))","v":""},97,"",null,{"$f":"IF(I99=\"\",\"\",IF(K99=\"\",\"\", CONCATENATE(DIGITADOR!$M$1,G99,J99)))","v":""},null,null,"",{"$f":"IF(K99=\"\",\"\",INDEX('Otras referencias'!$AG:$AH,MATCH(K99,'Otras referencias'!$AG:$AG,0),2))","v":""},null,{"$f":"IF(J99=\"\",\"\",INDEX(referentes!$S:$W,MATCH(J99,referentes!$S:$S,0),1))","v":""},null,null,null,null,{"$f":"IF(P99=\"\",\"\",INDEX(referentes!$J:$K,MATCH(P99,referentes!$J:$J,0),2))","v":""},null,null,null,{"$f":"IF(T99=\"\",\"\",INDEX(referentes!D:E,MATCH(T99,referentes!D:D,0),2))","v":""},null,{"$f":"IF(V99=\"\",\"\",INDEX('Otras referencias'!AO:AP,MATCH(V99,'Otras referencias'!AO:AO,0),2))","v":""},null,{"$f":"IF(Z99=\"\",\"\",INDEX('Otras referencias'!H:I,MATCH(Z99,'Otras referencias'!I:I,0),1))","v":""},null,null,null,{"$f":"IF(AD99=\"\",\"\",INDEX('Otras referencias'!K:L,MATCH(AD99,'Otras referencias'!L:L,0),1))","v":""},null,"---",null,null,null,{"$f":"IF(V99=\"\",\"\",INDEX('Otras referencias'!AO:AQ,MATCH(V99,'Otras referencias'!AO:AO,0),3))","v":""},{"$f":"IF(SUMPRODUCT(--EXACT(K99&M99,$AJ$2:AJ98)),\"\",K99&M99)","v":""},{"$f":"IF(SUMPRODUCT(--EXACT(K99&M99,$AJ$2:AJ98)),\"\",MAX($AK$3:AK98)+1)","v":""}]
[1,{"$f":"IF(F100=\"\",\"\",IF(COUNTIF($F$3:F100, F100)>1, \"\", F100))","v":""},98,"",null,{"$f":"IF(I100=\"\",\"\",IF(K100=\"\",\"\", CONCATENATE(DIGITADOR!$M$1,G100,J100)))","v":""},null,null,"",{"$f":"IF(K100=\"\",\"\",INDEX('Otras referencias'!$AG:$AH,MATCH(K100,'Otras referencias'!$AG:$AG,0),2))","v":""},null,{"$f":"IF(J100=\"\",\"\",INDEX(referentes!$S:$W,MATCH(J100,referentes!$S:$S,0),1))","v":""},null,null,null,null,{"$f":"IF(P100=\"\",\"\",INDEX(referentes!$J:$K,MATCH(P100,referentes!$J:$J,0),2))","v":""},null,null,null,{"$f":"IF(T100=\"\",\"\",INDEX(referentes!D:E,MATCH(T100,referentes!D:D,0),2))","v":""},null,{"$f":"IF(V100=\"\",\"\",INDEX('Otras referencias'!AO:AP,MATCH(V100,'Otras referencias'!AO:AO,0),2))","v":""},null,{"$f":"IF(Z100=\"\",\"\",INDEX('Otras referencias'!H:I,MATCH(Z100,'Otras referencias'!I:I,0),1))","v":""},null,null,null,{"$f":"IF(AD100=\"\",\"\",INDEX('Otras referencias'!K:L,MATCH(AD100,'Otras referencias'!L:L,0),1))","v":""},null,"---",null,null,null,{"$f":"IF(V100=\"\",\"\",INDEX('Otras referencias'!AO:AQ,MATCH(V100,'Otras referencias'!AO:AO,0),3))","v":""},{"$f":"IF(SUMPRODUCT(--EXACT(K100&M100,$AJ$2:AJ99)),\"\",K100&M100)","v":""},{"$f":"IF(SUMPRODUCT(--EXACT(K100&M100,$AJ$2:AJ99)),\"\",MAX($AK$3:AK99)+1)","v":""}]
[1,{"$f":"IF(F101=\"\",\"\",IF(COUNTIF($F$3:F101, F101)>1, \"\", F101))","v":""},99,"",null,{"$f":"IF(I101=\"\",\"\",IF(K101=\"\",\"\", CONCATENATE(DIGITADOR!$M$1,G101,J101)))","v":""},null,null,"",{"$f":"IF(K101=\"\",\"\",INDEX('Otras referencias'!$AG:$AH,MATCH(K101,'Otras referencias'!$AG:$AG,0),2))","v":""},null,{"$f":"IF(J101=\"\",\"\",INDEX(referentes!$S:$W,MATCH(J101,referentes!$S:$S,0),1))","v":""},null,null,null,null,{"$f":"IF(P101=\"\",\"\",INDEX(referentes!$J:$K,MATCH(P101,referentes!$J:$J,0),2))","v":""},null,null,null,{"$f":"IF(T101=\"\",\"\",INDEX(referentes!D:E,MATCH(T101,referentes!D:D,0),2))","v":""},null,{"$f":"IF(V101=\"\",\"\",INDEX('Otras referencias'!AO:AP,MATCH(V101,'Otras referencias'!AO:AO,0),2))","v":""},null,{"$f":"IF(Z101=\"\",\"\",INDEX('Otras referencias'!H:I,MATCH(Z101,'Otras referencias'!I:I,0),1))","v":""},null,null,null,{"$f":"IF(AD101=\"\",\"\",INDEX('Otras referencias'!K:L,MATCH(AD101,'Otras referencias'!L:L,0),1))","v":""},null,"---",null,null,null,{"$f":"IF(V101=\"\",\"\",INDEX('Otras referencias'!AO:AQ,MATCH(V101,'Otras referencias'!AO:AO,0),3))","v":""},{"$f":"IF(SUMPRODUCT(--EXACT(K101&M101,$AJ$2:AJ100)),\"\",K101&M101)","v":""},{"$f":"IF(SUMPRODUCT(--EXACT(K101&M101,$AJ$2:AJ100)),\"\",MAX($AK$3:AK100)+1)","v":""}]
[1,{"$f":"IF(F102=\"\",\"\",IF(COUNTIF($F$3:F102, F102)>1, \"\", F102))","v":""},100,"",null,{"$f":"IF(I102=\"\",\"\",IF(K102=\"\",\"\", CONCATENATE(DIGITADOR!$M$1,G102,J102)))","v":""},null,null,"",{"$f":"IF(K102=\"\",\"\",INDEX('Otras referencias'!$AG:$AH,MATCH(K102,'Otras referencias'!$AG:$AG,0),2))","v":""},null,{"$f":"IF(J102=\"\",\"\",INDEX(referentes!$S:$W,MATCH(J102,referentes!$S:$S,0),1))","v":""},null,null,null,null,{"$f":"IF(P102=\"\",\"\",INDEX(referentes!$J:$K,MATCH(P102,referentes!$J:$J,0),2))","v":""},null,null,null,{"$f":"IF(T102=\"\",\"\",INDEX(referentes!D:E,MATCH(T102,referentes!D:D,0),2))","v":""},null,{"$f":"IF(V102=\"\",\"\",INDEX('Otras referencias'!AO:AP,MATCH(V102,'Otras referencias'!AO:AO,0),2))","v":""},null,{"$f":"IF(Z102=\"\",\"\",INDEX('Otras referencias'!H:I,MATCH(Z102,'Otras referencias'!I:I,0),1))","v":""},null,null,null,{"$f":"IF(AD102=\"\",\"\",INDEX('Otras referencias'!K:L,MATCH(AD102,'Otras referencias'!L:L,0),1))","v":""},null,"---",null,null,null,{"$f":"IF(V102=\"\",\"\",INDEX('Otras referencias'!AO:AQ,MATCH(V102,'Otras referencias'!AO:AO,0),3))","v":""},{"$f":"IF(SUMPRODUCT(--EXACT(K102&M102,$AJ$2:AJ101)),\"\",K102&M102)","v":""},{"$f":"IF(SUMPRODUCT(--EXACT(K102&M102,$AJ$2:AJ101)),\"\",MAX($AK$3:AK101)+1)","v":""}]
[1,{"$f":"IF(F103=\"\",\"\",IF(COUNTIF($F$3:F103, F103)>1, \"\", F103))","v":""},101,"",null,{"$f":"IF(I103=\"\",\"\",IF(K103=\"\",\"\", CONCATENATE(DIGITADOR!$M$1,G103,J103)))","v":""},null,null,"",{"$f":"IF(K103=\"\",\"\",INDEX('Otras referencias'!$AG:$AH,MATCH(K103,'Otras referencias'!$AG:$AG,0),2))","v":""},null,{"$f":"IF(J103=\"\",\"\",INDEX(referentes!$S:$W,MATCH(J103,referentes!$S:$S,0),1))","v":""},null,null,null,null,{"$f":"IF(P103=\"\",\"\",INDEX(referentes!$J:$K,MATCH(P103,referentes!$J:$J,0),2))","v":""},null,null,null,{"$f":"IF(T103=\"\",\"\",INDEX(referentes!D:E,MATCH(T103,referentes!D:D,0),2))","v":""},null,{"$f":"IF(V103=\"\",\"\",INDEX('Otras referencias'!AO:AP,MATCH(V103,'Otras referencias'!AO:AO,0),2))","v":""},null,{"$f":"IF(Z103=\"\",\"\",INDEX('Otras referencias'!H:I,MATCH(Z103,'Otras referencias'!I:I,0),1))","v":""},null,null,null,{"$f":"IF(AD103=\"\",\"\",INDEX('Otras referencias'!K:L,MATCH(AD103,'Otras referencias'!L:L,0),1))","v":""},null,"---",null,null,null,{"$f":"IF(V103=\"\",\"\",INDEX('Otras referencias'!AO:AQ,MATCH(V103,'Otras referencias'!AO:AO,0),3))","v":""},{"$f":"IF(SUMPRODUCT(--EXACT(K103&M103,$AJ$2:AJ102)),\"\",K103&M103)","v":""},{"$f":"IF(SUMPRODUCT(--EXACT(K103&M103,$AJ$2:AJ102)),\"\",MAX($AK$3:AK102)+1)","v":""}]
[1,{"$f":"IF(F104=\"\",\"\",IF(COUNTIF($F$3:F104, F104)>1, \"\", F104))","v":""},102,"",null,{"$f":"IF(I104=\"\",\"\",IF(K104=\"\",\"\", CONCATENATE(DIGITADOR!$M$1,G104,J104)))","v":""},null,null,"",{"$f":"IF(K104=\"\",\"\",INDEX('Otras referencias'!$AG:$AH,MATCH(K104,'Otras referencias'!$AG:$AG,0),2))","v":""},null,{"$f":"IF(J104=\"\",\"\",INDEX(referentes!$S:$W,MATCH(J104,referentes!$S:$S,0),1))","v":""},null,null,null,null,{"$f":"IF(P104=\"\",\"\",INDEX(referentes!$J:$K,MATCH(P104,referentes!$J:$J,0),2))","v":""},null,null,null,{"$f":"IF(T104=\"\",\"\",INDEX(referentes!D:E,MATCH(T104,referentes!D:D,0),2))","v":""},null,{"$f":"IF(V104=\"\",\"\",INDEX('Otras referencias'!AO:AP,MATCH(V104,'Otras referencias'!AO:AO,0),2))","v":""},null,{"$f":"IF(Z104=\"\",\"\",INDEX('Otras referencias'!H:I,MATCH(Z104,'Otras referencias'!I:I,0),1))","v":""},null,null,null,{"$f":"IF(AD104=\"\",\"\",INDEX('Otras referencias'!K:L,MATCH(AD104,'Otras referencias'!L:L,0),1))","v":""},null,"---",null,null,null,{"$f":"IF(V104=\"\",\"\",INDEX('Otras referencias'!AO:AQ,MATCH(V104,'Otras referencias'!AO:AO,0),3))","v":""},{"$f":"IF(SUMPRODUCT(--EXACT(K104&M104,$AJ$2:AJ103)),\"\",K104&M104)","v":""},{"$f":"IF(SUMPRODUCT(--EXACT(K104&M104,$AJ$2:AJ103)),\"\",MAX($AK$3:AK103)+1)","v":""}]
[1,{"$f":"IF(F105=\"\",\"\",IF(COUNTIF($F$3:F105, F105)>1, \"\", F105))","v":""},103,"",null,{"$f":"IF(I105=\"\",\"\",IF(K105=\"\",\"\", CONCATENATE(DIGITADOR!$M$1,G105,J105)))","v":""},null,null,"",{"$f":"IF(K105=\"\",\"\",INDEX('Otras referencias'!$AG:$AH,MATCH(K105,'Otras referencias'!$AG:$AG,0),2))","v":""},null,{"$f":"IF(J105=\"\",\"\",INDEX(referentes!$S:$W,MATCH(J105,referentes!$S:$S,0),1))","v":""},null,null,null,null,{"$f":"IF(P105=\"\",\"\",INDEX(referentes!$J:$K,MATCH(P105,referentes!$J:$J,0),2))","v":""},null,null,null,{"$f":"IF(T105=\"\",\"\",INDEX(referentes!D:E,MATCH(T105,referentes!D:D,0),2))","v":""},null,{"$f":"IF(V105=\"\",\"\",INDEX('Otras referencias'!AO:AP,MATCH(V105,'Otras referencias'!AO:AO,0),2))","v":""},null,{"$f":"IF(Z105=\"\",\"\",INDEX('Otras referencias'!H:I,MATCH(Z105,'Otras referencias'!I:I,0),1))","v":""},null,null,null,{"$f":"IF(AD105=\"\",\"\",INDEX('Otras referencias'!K:L,MATCH(AD105,'Otras referencias'!L:L,0),1))","v":""},null,"---",null,null,null,{"$f":"IF(V105=\"\",\"\",INDEX('Otras referencias'!AO:AQ,MATCH(V105,'Otras referencias'!AO:AO,0),3))","v":""},{"$f":"IF(SUMPRODUCT(--EXACT(K105&M105,$AJ$2:AJ104)),\"\",K105&M105)","v":""},{"$f":"IF(SUMPRODUCT(--EXACT(K105&M105,$AJ$2:AJ104)),\"\",MAX($AK$3:AK104)+1)","v":""}]
[1,{"$f":"IF(F106=\"\",\"\",IF(COUNTIF($F$3:F106, F106)>1, \"\", F106))","v":""},104,"",null,{"$f":"IF(I106=\"\",\"\",IF(K106=\"\",\"\", CONCATENATE(DIGITADOR!$M$1,G106,J106)))","v":""},null,null,"",{"$f":"IF(K106=\"\",\"\",INDEX('Otras referencias'!$AG:$AH,MATCH(K106,'Otras referencias'!$AG:$AG,0),2))","v":""},null,{"$f":"IF(J106=\"\",\"\",INDEX(referentes!$S:$W,MATCH(J106,referentes!$S:$S,0),1))","v":""},null,null,null,null,{"$f":"IF(P106=\"\",\"\",INDEX(referentes!$J:$K,MATCH(P106,referentes!$J:$J,0),2))","v":""},null,null,null,{"$f":"IF(T106=\"\",\"\",INDEX(referentes!D:E,MATCH(T106,referentes!D:D,0),2))","v":""},null,{"$f":"IF(V106=\"\",\"\",INDEX('Otras referencias'!AO:AP,MATCH(V106,'Otras referencias'!AO:AO,0),2))","v":""},null,{"$f":"IF(Z106=\"\",\"\",INDEX('Otras referencias'!H:I,MATCH(Z106,'Otras referencias'!I:I,0),1))","v":""},null,null,null,{"$f":"IF(AD106=\"\",\"\",INDEX('Otras referencias'!K:L,MATCH(AD106,'Otras referencias'!L:L,0),1))","v":""},null,"---",null,null,null,{"$f":"IF(V106=\"\",\"\",INDEX('Otras referencias'!AO:AQ,MATCH(V106,'Otras referencias'!AO:AO,0),3))","v":""},{"$f":"IF(SUMPRODUCT(--EXACT(K106&M106,$AJ$2:AJ105)),\"\",K106&M106)","v":""},{"$f":"IF(SUMPRODUCT(--EXACT(K106&M106,$AJ$2:AJ105)),\"\",MAX($AK$3:AK105)+1)","v":""}]
[1,{"$f":"IF(F107=\"\",\"\",IF(COUNTIF($F$3:F107, F107)>1, \"\", F107))","v":""},105,"",null,{"$f":"IF(I107=\"\",\"\",IF(K107=\"\",\"\", CONCATENATE(DIGITADOR!$M$1,G107,J107)))","v":""},null,null,"",{"$f":"IF(K107=\"\",\"\",INDEX('Otras referencias'!$AG:$AH,MATCH(K107,'Otras referencias'!$AG:$AG,0),2))","v":""},null,{"$f":"IF(J107=\"\",\"\",INDEX(referentes!$S:$W,MATCH(J107,referentes!$S:$S,0),1))","v":""},null,null,null,null,{"$f":"IF(P107=\"\",\"\",INDEX(referentes!$J:$K,MATCH(P107,referentes!$J:$J,0),2))","v":""},null,null,null,{"$f":"IF(T107=\"\",\"\",INDEX(referentes!D:E,MATCH(T107,referentes!D:D,0),2))","v":""},null,{"$f":"IF(V107=\"\",\"\",INDEX('Otras referencias'!AO:AP,MATCH(V107,'Otras referencias'!AO:AO,0),2))","v":""},null,{"$f":"IF(Z107=\"\",\"\",INDEX('Otras referencias'!H:I,MATCH(Z107,'Otras referencias'!I:I,0),1))","v":""},null,null,null,{"$f":"IF(AD107=\"\",\"\",INDEX('Otras referencias'!K:L,MATCH(AD107,'Otras referencias'!L:L,0),1))","v":""},null,"---",null,null,null,{"$f":"IF(V107=\"\",\"\",INDEX('Otras referencias'!AO:AQ,MATCH(V107,'Otras referencias'!AO:AO,0),3))","v":""},{"$f":"IF(SUMPRODUCT(--EXACT(K107&M107,$AJ$2:AJ106)),\"\",K107&M107)","v":""},{"$f":"IF(SUMPRODUCT(--EXACT(K107&M107,$AJ$2:AJ106)),\"\",MAX($AK$3:AK106)+1)","v":""}]
[1,{"$f":"IF(F108=\"\",\"\",IF(COUNTIF($F$3:F108, F108)>1, \"\", F108))","v":""},106,"",null,{"$f":"IF(I108=\"\",\"\",IF(K108=\"\",\"\", CONCATENATE(DIGITADOR!$M$1,G108,J108)))","v":""},null,null,"",{"$f":"IF(K108=\"\",\"\",INDEX('Otras referencias'!$AG:$AH,MATCH(K108,'Otras referencias'!$AG:$AG,0),2))","v":""},null,{"$f":"IF(J108=\"\",\"\",INDEX(referentes!$S:$W,MATCH(J108,referentes!$S:$S,0),1))","v":""},null,null,null,null,{"$f":"IF(P108=\"\",\"\",INDEX(referentes!$J:$K,MATCH(P108,referentes!$J:$J,0),2))","v":""},null,null,null,{"$f":"IF(T108=\"\",\"\",INDEX(referentes!D:E,MATCH(T108,referentes!D:D,0),2))","v":""},null,{"$f":"IF(V108=\"\",\"\",INDEX('Otras referencias'!AO:AP,MATCH(V108,'Otras referencias'!AO:AO,0),2))","v":""},null,{"$f":"IF(Z108=\"\",\"\",INDEX('Otras referencias'!H:I,MATCH(Z108,'Otras referencias'!I:I,0),1))","v":""},null,null,null,{"$f":"IF(AD108=\"\",\"\",INDEX('Otras referencias'!K:L,MATCH(AD108,'Otras referencias'!L:L,0),1))","v":""},null,"---",null,null,null,{"$f":"IF(V108=\"\",\"\",INDEX('Otras referencias'!AO:AQ,MATCH(V108,'Otras referencias'!AO:AO,0),3))","v":""},{"$f":"IF(SUMPRODUCT(--EXACT(K108&M108,$AJ$2:AJ107)),\"\",K108&M108)","v":""},{"$f":"IF(SUMPRODUCT(--EXACT(K108&M108,$AJ$2:AJ107)),\"\",MAX($AK$3:AK107)+1)","v":""}]
[1,{"$f":"IF(F109=\"\",\"\",IF(COUNTIF($F$3:F109, F109)>1, \"\", F109))","v":""},107,"",null,{"$f":"IF(I109=\"\",\"\",IF(K109=\"\",\"\", CONCATENATE(DIGITADOR!$M$1,G109,J109)))","v":""},null,null,"",{"$f":"IF(K109=\"\",\"\",INDEX('Otras referencias'!$AG:$AH,MATCH(K109,'Otras referencias'!$AG:$AG,0),2))","v":""},null,{"$f":"IF(J109=\"\",\"\",INDEX(referentes!$S:$W,MATCH(J109,referentes!$S:$S,0),1))","v":""},null,null,null,null,{"$f":"IF(P109=\"\",\"\",INDEX(referentes!$J:$K,MATCH(P109,referentes!$J:$J,0),2))","v":""},null,null,null,{"$f":"IF(T109=\"\",\"\",INDEX(referentes!D:E,MATCH(T109,referentes!D:D,0),2))","v":""},null,{"$f":"IF(V109=\"\",\"\",INDEX('Otras referencias'!AO:AP,MATCH(V109,'Otras referencias'!AO:AO,0),2))","v":""},null,{"$f":"IF(Z109=\"\",\"\",INDEX('Otras referencias'!H:I,MATCH(Z109,'Otras referencias'!I:I,0),1))","v":""},null,null,null,{"$f":"IF(AD109=\"\",\"\",INDEX('Otras referencias'!K:L,MATCH(AD109,'Otras referencias'!L:L,0),1))","v":""},null,"---",null,null,null,{"$f":"IF(V109=\"\",\"\",INDEX('Otras referencias'!AO:AQ,MATCH(V109,'Otras referencias'!AO:AO,0),3))","v":""},{"$f":"IF(SUMPRODUCT(--EXACT(K109&M109,$AJ$2:AJ108)),\"\",K109&M109)","v":""},{"$f":"IF(SUMPRODUCT(--EXACT(K109&M109,$AJ$2:AJ108)),\"\",MAX($AK$3:AK108)+1)","v":""}]
[1,{"$f":"IF(F110=\"\",\"\",IF(COUNTIF($F$3:F110, F110)>1, \"\", F110))","v":""},108,"",null,{"$f":"IF(I110=\"\",\"\",IF(K110=\"\",\"\", CONCATENATE(DIGITADOR!$M$1,G110,J110)))","v":""},null,null,"",{"$f":"IF(K110=\"\",\"\",INDEX('Otras referencias'!$AG:$AH,MATCH(K110,'Otras referencias'!$AG:$AG,0),2))","v":""},null,{"$f":"IF(J110=\"\",\"\",INDEX(referentes!$S:$W,MATCH(J110,referentes!$S:$S,0),1))","v":""},null,null,null,null,{"$f":"IF(P110=\"\",\"\",INDEX(referentes!$J:$K,MATCH(P110,referentes!$J:$J,0),2))","v":""},null,null,null,{"$f":"IF(T110=\"\",\"\",INDEX(referentes!D:E,MATCH(T110,referentes!D:D,0),2))","v":""},null,{"$f":"IF(V110=\"\",\"\",INDEX('Otras referencias'!AO:AP,MATCH(V110,'Otras referencias'!AO:AO,0),2))","v":""},null,{"$f":"IF(Z110=\"\",\"\",INDEX('Otras referencias'!H:I,MATCH(Z110,'Otras referencias'!I:I,0),1))","v":""},null,null,null,{"$f":"IF(AD110=\"\",\"\",INDEX('Otras referencias'!K:L,MATCH(AD110,'Otras referencias'!L:L,0),1))","v":""},null,"---",null,null,null,{"$f":"IF(V110=\"\",\"\",INDEX('Otras referencias'!AO:AQ,MATCH(V110,'Otras referencias'!AO:AO,0),3))","v":""},{"$f":"IF(SUMPRODUCT(--EXACT(K110&M110,$AJ$2:AJ109)),\"\",K110&M110)","v":""},{"$f":"IF(SUMPRODUCT(--EXACT(K110&M110,$AJ$2:AJ109)),\"\",MAX($AK$3:AK109)+1)","v":""}]
[1,{"$f":"IF(F111=\"\",\"\",IF(COUNTIF($F$3:F111, F111)>1, \"\", F111))","v":""},109,"",null,{"$f":"IF(I111=\"\",\"\",IF(K111=\"\",\"\", CONCATENATE(DIGITADOR!$M$1,G111,J111)))","v":""},null,null,"",{"$f":"IF(K111=\"\",\"\",INDEX('Otras referencias'!$AG:$AH,MATCH(K111,'Otras referencias'!$AG:$AG,0),2))","v":""},null,{"$f":"IF(J111=\"\",\"\",INDEX(referentes!$S:$W,MATCH(J111,referentes!$S:$S,0),1))","v":""},null,null,null,null,{"$f":"IF(P111=\"\",\"\",INDEX(referentes!$J:$K,MATCH(P111,referentes!$J:$J,0),2))","v":""},null,null,null,{"$f":"IF(T111=\"\",\"\",INDEX(referentes!D:E,MATCH(T111,referentes!D:D,0),2))","v":""},null,{"$f":"IF(V111=\"\",\"\",INDEX('Otras referencias'!AO:AP,MATCH(V111,'Otras referencias'!AO:AO,0),2))","v":""},null,{"$f":"IF(Z111=\"\",\"\",INDEX('Otras referencias'!H:I,MATCH(Z111,'Otras referencias'!I:I,0),1))","v":""},null,null,null,{"$f":"IF(AD111=\"\",\"\",INDEX('Otras referencias'!K:L,MATCH(AD111,'Otras referencias'!L:L,0),1))","v":""},null,"---",null,null,null,{"$f":"IF(V111=\"\",\"\",INDEX('Otras referencias'!AO:AQ,MATCH(V111,'Otras referencias'!AO:AO,0),3))","v":""},{"$f":"IF(SUMPRODUCT(--EXACT(K111&M111,$AJ$2:AJ110)),\"\",K111&M111)","v":""},{"$f":"IF(SUMPRODUCT(--EXACT(K111&M111,$AJ$2:AJ110)),\"\",MAX($AK$3:AK110)+1)","v":""}]
[1,{"$f":"IF(F112=\"\",\"\",IF(COUNTIF($F$3:F112, F112)>1, \"\", F112))","v":""},110,"",null,{"$f":"IF(I112=\"\",\"\",IF(K112=\"\",\"\", CONCATENATE(DIGITADOR!$M$1,G112,J112)))","v":""},null,null,"",{"$f":"IF(K112=\"\",\"\",INDEX('Otras referencias'!$AG:$AH,MATCH(K112,'Otras referencias'!$AG:$AG,0),2))","v":""},null,{"$f":"IF(J112=\"\",\"\",INDEX(referentes!$S:$W,MATCH(J112,referentes!$S:$S,0),1))","v":""},null,null,null,null,{"$f":"IF(P112=\"\",\"\",INDEX(referentes!$J:$K,MATCH(P112,referentes!$J:$J,0),2))","v":""},null,null,null,{"$f":"IF(T112=\"\",\"\",INDEX(referentes!D:E,MATCH(T112,referentes!D:D,0),2))","v":""},null,{"$f":"IF(V112=\"\",\"\",INDEX('Otras referencias'!AO:AP,MATCH(V112,'Otras referencias'!AO:AO,0),2))","v":""},null,{"$f":"IF(Z112=\"\",\"\",INDEX('Otras referencias'!H:I,MATCH(Z112,'Otras referencias'!I:I,0),1))","v":""},null,null,null,{"$f":"IF(AD112=\"\",\"\",INDEX('Otras referencias'!K:L,MATCH(AD112,'Otras referencias'!L:L,0),1))","v":""},null,"---",null,null,null,{"$f":"IF(V112=\"\",\"\",INDEX('Otras referencias'!AO:AQ,MATCH(V112,'Otras referencias'!AO:AO,0),3))","v":""},{"$f":"IF(SUMPRODUCT(--EXACT(K112&M112,$AJ$2:AJ111)),\"\",K112&M112)","v":""},{"$f":"IF(SUMPRODUCT(--EXACT(K112&M112,$AJ$2:AJ111)),\"\",MAX($AK$3:AK111)+1)","v":""}]
[1,{"$f":"IF(F113=\"\",\"\",IF(COUNTIF($F$3:F113, F113)>1, \"\", F113))","v":""},111,"",null,{"$f":"IF(I113=\"\",\"\",IF(K113=\"\",\"\", CONCATENATE(DIGITADOR!$M$1,G113,J113)))","v":""},null,null,"",{"$f":"IF(K113=\"\",\"\",INDEX('Otras referencias'!$AG:$AH,MATCH(K113,'Otras referencias'!$AG:$AG,0),2))","v":""},null,{"$f":"IF(J113=\"\",\"\",INDEX(referentes!$S:$W,MATCH(J113,referentes!$S:$S,0),1))","v":""},null,null,null,null,{"$f":"IF(P113=\"\",\"\",INDEX(referentes!$J:$K,MATCH(P113,referentes!$J:$J,0),2))","v":""},null,null,null,{"$f":"IF(T113=\"\",\"\",INDEX(referentes!D:E,MATCH(T113,referentes!D:D,0),2))","v":""},null,{"$f":"IF(V113=\"\",\"\",INDEX('Otras referencias'!AO:AP,MATCH(V113,'Otras referencias'!AO:AO,0),2))","v":""},null,{"$f":"IF(Z113=\"\",\"\",INDEX('Otras referencias'!H:I,MATCH(Z113,'Otras referencias'!I:I,0),1))","v":""},null,null,null,{"$f":"IF(AD113=\"\",\"\",INDEX('Otras referencias'!K:L,MATCH(AD113,'Otras referencias'!L:L,0),1))","v":""},null,"---",null,null,null,{"$f":"IF(V113=\"\",\"\",INDEX('Otras referencias'!AO:AQ,MATCH(V113,'Otras referencias'!AO:AO,0),3))","v":""},{"$f":"IF(SUMPRODUCT(--EXACT(K113&M113,$AJ$2:AJ112)),\"\",K113&M113)","v":""},{"$f":"IF(SUMPRODUCT(--EXACT(K113&M113,$AJ$2:AJ112)),\"\",MAX($AK$3:AK112)+1)","v":""}]
[1,{"$f":"IF(F114=\"\",\"\",IF(COUNTIF($F$3:F114, F114)>1, \"\", F114))","v":""},112,"",null,{"$f":"IF(I114=\"\",\"\",IF(K114=\"\",\"\", CONCATENATE(DIGITADOR!$M$1,G114,J114)))","v":""},null,null,"",{"$f":"IF(K114=\"\",\"\",INDEX('Otras referencias'!$AG:$AH,MATCH(K114,'Otras referencias'!$AG:$AG,0),2))","v":""},null,{"$f":"IF(J114=\"\",\"\",INDEX(referentes!$S:$W,MATCH(J114,referentes!$S:$S,0),1))","v":""},null,null,null,null,{"$f":"IF(P114=\"\",\"\",INDEX(referentes!$J:$K,MATCH(P114,referentes!$J:$J,0),2))","v":""},null,null,null,{"$f":"IF(T114=\"\",\"\",INDEX(referentes!D:E,MATCH(T114,referentes!D:D,0),2))","v":""},null,{"$f":"IF(V114=\"\",\"\",INDEX('Otras referencias'!AO:AP,MATCH(V114,'Otras referencias'!AO:AO,0),2))","v":""},null,{"$f":"IF(Z114=\"\",\"\",INDEX('Otras referencias'!H:I,MATCH(Z114,'Otras referencias'!I:I,0),1))","v":""},null,null,null,{"$f":"IF(AD114=\"\",\"\",INDEX('Otras referencias'!K:L,MATCH(AD114,'Otras referencias'!L:L,0),1))","v":""},null,"---",null,null,null,{"$f":"IF(V114=\"\",\"\",INDEX('Otras referencias'!AO:AQ,MATCH(V114,'Otras referencias'!AO:AO,0),3))","v":""},{"$f":"IF(SUMPRODUCT(--EXACT(K114&M114,$AJ$2:AJ113)),\"\",K114&M114)","v":""},{"$f":"IF(SUMPRODUCT(--EXACT(K114&M114,$AJ$2:AJ113)),\"\",MAX($AK$3:AK113)+1)","v":""}]
[1,{"$f":"IF(F115=\"\",\"\",IF(COUNTIF($F$3:F115, F115)>1, \"\", F115))","v":""},113,"",null,{"$f":"IF(I115=\"\",\"\",IF(K115=\"\",\"\", CONCATENATE(DIGITADOR!$M$1,G115,J115)))","v":""},null,null,"",{"$f":"IF(K115=\"\",\"\",INDEX('Otras referencias'!$AG:$AH,MATCH(K115,'Otras referencias'!$AG:$AG,0),2))","v":""},null,{"$f":"IF(J115=\"\",\"\",INDEX(referentes!$S:$W,MATCH(J115,referentes!$S:$S,0),1))","v":""},null,null,null,null,{"$f":"IF(P115=\"\",\"\",INDEX(referentes!$J:$K,MATCH(P115,referentes!$J:$J,0),2))","v":""},null,null,null,{"$f":"IF(T115=\"\",\"\",INDEX(referentes!D:E,MATCH(T115,referentes!D:D,0),2))","v":""},null,{"$f":"IF(V115=\"\",\"\",INDEX('Otras referencias'!AO:AP,MATCH(V115,'Otras referencias'!AO:AO,0),2))","v":""},null,{"$f":"IF(Z115=\"\",\"\",INDEX('Otras referencias'!H:I,MATCH(Z115,'Otras referencias'!I:I,0),1))","v":""},null,null,null,{"$f":"IF(AD115=\"\",\"\",INDEX('Otras referencias'!K:L,MATCH(AD115,'Otras referencias'!L:L,0),1))","v":""},null,"---",null,null,null,{"$f":"IF(V115=\"\",\"\",INDEX('Otras referencias'!AO:AQ,MATCH(V115,'Otras referencias'!AO:AO,0),3))","v":""},{"$f":"IF(SUMPRODUCT(--EXACT(K115&M115,$AJ$2:AJ114)),\"\",K115&M115)","v":""},{"$f":"IF(SUMPRODUCT(--EXACT(K115&M115,$AJ$2:AJ114)),\"\",MAX($AK$3:AK114)+1)","v":""}]
[1,{"$f":"IF(F116=\"\",\"\",IF(COUNTIF($F$3:F116, F116)>1, \"\", F116))","v":""},114,"",null,{"$f":"IF(I116=\"\",\"\",IF(K116=\"\",\"\", CONCATENATE(DIGITADOR!$M$1,G116,J116)))","v":""},null,null,"",{"$f":"IF(K116=\"\",\"\",INDEX('Otras referencias'!$AG:$AH,MATCH(K116,'Otras referencias'!$AG:$AG,0),2))","v":""},null,{"$f":"IF(J116=\"\",\"\",INDEX(referentes!$S:$W,MATCH(J116,referentes!$S:$S,0),1))","v":""},null,null,null,null,{"$f":"IF(P116=\"\",\"\",INDEX(referentes!$J:$K,MATCH(P116,referentes!$J:$J,0),2))","v":""},null,null,null,{"$f":"IF(T116=\"\",\"\",INDEX(referentes!D:E,MATCH(T116,referentes!D:D,0),2))","v":""},null,{"$f":"IF(V116=\"\",\"\",INDEX('Otras referencias'!AO:AP,MATCH(V116,'Otras referencias'!AO:AO,0),2))","v":""},null,{"$f":"IF(Z116=\"\",\"\",INDEX('Otras referencias'!H:I,MATCH(Z116,'Otras referencias'!I:I,0),1))","v":""},null,null,null,{"$f":"IF(AD116=\"\",\"\",INDEX('Otras referencias'!K:L,MATCH(AD116,'Otras referencias'!L:L,0),1))","v":""},null,"---",null,null,null,{"$f":"IF(V116=\"\",\"\",INDEX('Otras referencias'!AO:AQ,MATCH(V116,'Otras referencias'!AO:AO,0),3))","v":""},{"$f":"IF(SUMPRODUCT(--EXACT(K116&M116,$AJ$2:AJ115)),\"\",K116&M116)","v":""},{"$f":"IF(SUMPRODUCT(--EXACT(K116&M116,$AJ$2:AJ115)),\"\",MAX($AK$3:AK115)+1)","v":""}]
[1,{"$f":"IF(F117=\"\",\"\",IF(COUNTIF($F$3:F117, F117)>1, \"\", F117))","v":""},115,"",null,{"$f":"IF(I117=\"\",\"\",IF(K117=\"\",\"\", CONCATENATE(DIGITADOR!$M$1,G117,J117)))","v":""},null,null,"",{"$f":"IF(K117=\"\",\"\",INDEX('Otras referencias'!$AG:$AH,MATCH(K117,'Otras referencias'!$AG:$AG,0),2))","v":""},null,{"$f":"IF(J117=\"\",\"\",INDEX(referentes!$S:$W,MATCH(J117,referentes!$S:$S,0),1))","v":""},null,null,null,null,{"$f":"IF(P117=\"\",\"\",INDEX(referentes!$J:$K,MATCH(P117,referentes!$J:$J,0),2))","v":""},null,null,null,{"$f":"IF(T117=\"\",\"\",INDEX(referentes!D:E,MATCH(T117,referentes!D:D,0),2))","v":""},null,{"$f":"IF(V117=\"\",\"\",INDEX('Otras referencias'!AO:AP,MATCH(V117,'Otras referencias'!AO:AO,0),2))","v":""},null,{"$f":"IF(Z117=\"\",\"\",INDEX('Otras referencias'!H:I,MATCH(Z117,'Otras referencias'!I:I,0),1))","v":""},null,null,null,{"$f":"IF(AD117=\"\",\"\",INDEX('Otras referencias'!K:L,MATCH(AD117,'Otras referencias'!L:L,0),1))","v":""},null,"---",null,null,null,{"$f":"IF(V117=\"\",\"\",INDEX('Otras referencias'!AO:AQ,MATCH(V117,'Otras referencias'!AO:AO,0),3))","v":""},{"$f":"IF(SUMPRODUCT(--EXACT(K117&M117,$AJ$2:AJ116)),\"\",K117&M117)","v":""},{"$f":"IF(SUMPRODUCT(--EXACT(K117&M117,$AJ$2:AJ116)),\"\",MAX($AK$3:AK116)+1)","v":""}]
[1,{"$f":"IF(F118=\"\",\"\",IF(COUNTIF($F$3:F118, F118)>1, \"\", F118))","v":""},116,"",null,{"$f":"IF(I118=\"\",\"\",IF(K118=\"\",\"\", CONCATENATE(DIGITADOR!$M$1,G118,J118)))","v":""},null,null,"",{"$f":"IF(K118=\"\",\"\",INDEX('Otras referencias'!$AG:$AH,MATCH(K118,'Otras referencias'!$AG:$AG,0),2))","v":""},null,{"$f":"IF(J118=\"\",\"\",INDEX(referentes!$S:$W,MATCH(J118,referentes!$S:$S,0),1))","v":""},null,null,null,null,{"$f":"IF(P118=\"\",\"\",INDEX(referentes!$J:$K,MATCH(P118,referentes!$J:$J,0),2))","v":""},null,null,null,{"$f":"IF(T118=\"\",\"\",INDEX(referentes!D:E,MATCH(T118,referentes!D:D,0),2))","v":""},null,{"$f":"IF(V118=\"\",\"\",INDEX('Otras referencias'!AO:AP,MATCH(V118,'Otras referencias'!AO:AO,0),2))","v":""},null,{"$f":"IF(Z118=\"\",\"\",INDEX('Otras referencias'!H:I,MATCH(Z118,'Otras referencias'!I:I,0),1))","v":""},null,null,null,{"$f":"IF(AD118=\"\",\"\",INDEX('Otras referencias'!K:L,MATCH(AD118,'Otras referencias'!L:L,0),1))","v":""},null,"---",null,null,null,{"$f":"IF(V118=\"\",\"\",INDEX('Otras referencias'!AO:AQ,MATCH(V118,'Otras referencias'!AO:AO,0),3))","v":""},{"$f":"IF(SUMPRODUCT(--EXACT(K118&M118,$AJ$2:AJ117)),\"\",K118&M118)","v":""},{"$f":"IF(SUMPRODUCT(--EXACT(K118&M118,$AJ$2:AJ117)),\"\",MAX($AK$3:AK117)+1)","v":""}]
[1,{"$f":"IF(F119=\"\",\"\",IF(COUNTIF($F$3:F119, F119)>1, \"\", F119))","v":""},117,"",null,{"$f":"IF(I119=\"\",\"\",IF(K119=\"\",\"\", CONCATENATE(DIGITADOR!$M$1,G119,J119)))","v":""},null,null,"",{"$f":"IF(K119=\"\",\"\",INDEX('Otras referencias'!$AG:$AH,MATCH(K119,'Otras referencias'!$AG:$AG,0),2))","v":""},null,{"$f":"IF(J119=\"\",\"\",INDEX(referentes!$S:$W,MATCH(J119,referentes!$S:$S,0),1))","v":""},null,null,null,null,{"$f":"IF(P119=\"\",\"\",INDEX(referentes!$J:$K,MATCH(P119,referentes!$J:$J,0),2))","v":""},null,null,null,{"$f":"IF(T119=\"\",\"\",INDEX(referentes!D:E,MATCH(T119,referentes!D:D,0),2))","v":""},null,{"$f":"IF(V119=\"\",\"\",INDEX('Otras referencias'!AO:AP,MATCH(V119,'Otras referencias'!AO:AO,0),2))","v":""},null,{"$f":"IF(Z119=\"\",\"\",INDEX('Otras referencias'!H:I,MATCH(Z119,'Otras referencias'!I:I,0),1))","v":""},null,null,null,{"$f":"IF(AD119=\"\",\"\",INDEX('Otras referencias'!K:L,MATCH(AD119,'Otras referencias'!L:L,0),1))","v":""},null,"---",null,null,null,{"$f":"IF(V119=\"\",\"\",INDEX('Otras referencias'!AO:AQ,MATCH(V119,'Otras referencias'!AO:AO,0),3))","v":""},{"$f":"IF(SUMPRODUCT(--EXACT(K119&M119,$AJ$2:AJ118)),\"\",K119&M119)","v":""},{"$f":"IF(SUMPRODUCT(--EXACT(K119&M119,$AJ$2:AJ118)),\"\",MAX($AK$3:AK118)+1)","v":""}]
[1,{"$f":"IF(F120=\"\",\"\",IF(COUNTIF($F$3:F120, F120)>1, \"\", F120))","v":""},118,"",null,{"$f":"IF(I120=\"\",\"\",IF(K120=\"\",\"\", CONCATENATE(DIGITADOR!$M$1,G120,J120)))","v":""},null,null,"",{"$f":"IF(K120=\"\",\"\",INDEX('Otras referencias'!$AG:$AH,MATCH(K120,'Otras referencias'!$AG:$AG,0),2))","v":""},null,{"$f":"IF(J120=\"\",\"\",INDEX(referentes!$S:$W,MATCH(J120,referentes!$S:$S,0),1))","v":""},null,null,null,null,{"$f":"IF(P120=\"\",\"\",INDEX(referentes!$J:$K,MATCH(P120,referentes!$J:$J,0),2))","v":""},null,null,null,{"$f":"IF(T120=\"\",\"\",INDEX(referentes!D:E,MATCH(T120,referentes!D:D,0),2))","v":""},null,{"$f":"IF(V120=\"\",\"\",INDEX('Otras referencias'!AO:AP,MATCH(V120,'Otras referencias'!AO:AO,0),2))","v":""},null,{"$f":"IF(Z120=\"\",\"\",INDEX('Otras referencias'!H:I,MATCH(Z120,'Otras referencias'!I:I,0),1))","v":""},null,null,null,{"$f":"IF(AD120=\"\",\"\",INDEX('Otras referencias'!K:L,MATCH(AD120,'Otras referencias'!L:L,0),1))","v":""},null,"---",null,null,null,{"$f":"IF(V120=\"\",\"\",INDEX('Otras referencias'!AO:AQ,MATCH(V120,'Otras referencias'!AO:AO,0),3))","v":""},{"$f":"IF(SUMPRODUCT(--EXACT(K120&M120,$AJ$2:AJ119)),\"\",K120&M120)","v":""},{"$f":"IF(SUMPRODUCT(--EXACT(K120&M120,$AJ$2:AJ119)),\"\",MAX($AK$3:AK119)+1)","v":""}]
[1,{"$f":"IF(F121=\"\",\"\",IF(COUNTIF($F$3:F121, F121)>1, \"\", F121))","v":""},119,"",null,{"$f":"IF(I121=\"\",\"\",IF(K121=\"\",\"\", CONCATENATE(DIGITADOR!$M$1,G121,J121)))","v":""},null,null,"",{"$f":"IF(K121=\"\",\"\",INDEX('Otras referencias'!$AG:$AH,MATCH(K121,'Otras referencias'!$AG:$AG,0),2))","v":""},null,{"$f":"IF(J121=\"\",\"\",INDEX(referentes!$S:$W,MATCH(J121,referentes!$S:$S,0),1))","v":""},null,null,null,null,{"$f":"IF(P121=\"\",\"\",INDEX(referentes!$J:$K,MATCH(P121,referentes!$J:$J,0),2))","v":""},null,null,null,{"$f":"IF(T121=\"\",\"\",INDEX(referentes!D:E,MATCH(T121,referentes!D:D,0),2))","v":""},null,{"$f":"IF(V121=\"\",\"\",INDEX('Otras referencias'!AO:AP,MATCH(V121,'Otras referencias'!AO:AO,0),2))","v":""},null,{"$f":"IF(Z121=\"\",\"\",INDEX('Otras referencias'!H:I,MATCH(Z121,'Otras referencias'!I:I,0),1))","v":""},null,null,null,{"$f":"IF(AD121=\"\",\"\",INDEX('Otras referencias'!K:L,MATCH(AD121,'Otras referencias'!L:L,0),1))","v":""},null,"---",null,null,null,{"$f":"IF(V121=\"\",\"\",INDEX('Otras referencias'!AO:AQ,MATCH(V121,'Otras referencias'!AO:AO,0),3))","v":""},{"$f":"IF(SUMPRODUCT(--EXACT(K121&M121,$AJ$2:AJ120)),\"\",K121&M121)","v":""},{"$f":"IF(SUMPRODUCT(--EXACT(K121&M121,$AJ$2:AJ120)),\"\",MAX($AK$3:AK120)+1)","v":""}]
[1,{"$f":"IF(F122=\"\",\"\",IF(COUNTIF($F$3:F122, F122)>1, \"\", F122))","v":""},120,"",null,{"$f":"IF(I122=\"\",\"\",IF(K122=\"\",\"\", CONCATENATE(DIGITADOR!$M$1,G122,J122)))","v":""},null,null,"",{"$f":"IF(K122=\"\",\"\",INDEX('Otras referencias'!$AG:$AH,MATCH(K122,'Otras referencias'!$AG:$AG,0),2))","v":""},null,{"$f":"IF(J122=\"\",\"\",INDEX(referentes!$S:$W,MATCH(J122,referentes!$S:$S,0),1))","v":""},null,null,null,null,{"$f":"IF(P122=\"\",\"\",INDEX(referentes!$J:$K,MATCH(P122,referentes!$J:$J,0),2))","v":""},null,null,null,{"$f":"IF(T122=\"\",\"\",INDEX(referentes!D:E,MATCH(T122,referentes!D:D,0),2))","v":""},null,{"$f":"IF(V122=\"\",\"\",INDEX('Otras referencias'!AO:AP,MATCH(V122,'Otras referencias'!AO:AO,0),2))","v":""},null,{"$f":"IF(Z122=\"\",\"\",INDEX('Otras referencias'!H:I,MATCH(Z122,'Otras referencias'!I:I,0),1))","v":""},null,null,null,{"$f":"IF(AD122=\"\",\"\",INDEX('Otras referencias'!K:L,MATCH(AD122,'Otras referencias'!L:L,0),1))","v":""},null,"---",null,null,null,{"$f":"IF(V122=\"\",\"\",INDEX('Otras referencias'!AO:AQ,MATCH(V122,'Otras referencias'!AO:AO,0),3))","v":""},{"$f":"IF(SUMPRODUCT(--EXACT(K122&M122,$AJ$2:AJ121)),\"\",K122&M122)","v":""},{"$f":"IF(SUMPRODUCT(--EXACT(K122&M122,$AJ$2:AJ121)),\"\",MAX($AK$3:AK121)+1)","v":""}]
[1,{"$f":"IF(F123=\"\",\"\",IF(COUNTIF($F$3:F123, F123)>1, \"\", F123))","v":""},121,"",null,{"$f":"IF(I123=\"\",\"\",IF(K123=\"\",\"\", CONCATENATE(DIGITADOR!$M$1,G123,J123)))","v":""},null,null,"",{"$f":"IF(K123=\"\",\"\",INDEX('Otras referencias'!$AG:$AH,MATCH(K123,'Otras referencias'!$AG:$AG,0),2))","v":""},null,{"$f":"IF(J123=\"\",\"\",INDEX(referentes!$S:$W,MATCH(J123,referentes!$S:$S,0),1))","v":""},null,null,null,null,{"$f":"IF(P123=\"\",\"\",INDEX(referentes!$J:$K,MATCH(P123,referentes!$J:$J,0),2))","v":""},null,null,null,{"$f":"IF(T123=\"\",\"\",INDEX(referentes!D:E,MATCH(T123,referentes!D:D,0),2))","v":""},null,{"$f":"IF(V123=\"\",\"\",INDEX('Otras referencias'!AO:AP,MATCH(V123,'Otras referencias'!AO:AO,0),2))","v":""},null,{"$f":"IF(Z123=\"\",\"\",INDEX('Otras referencias'!H:I,MATCH(Z123,'Otras referencias'!I:I,0),1))","v":""},null,null,null,{"$f":"IF(AD123=\"\",\"\",INDEX('Otras referencias'!K:L,MATCH(AD123,'Otras referencias'!L:L,0),1))","v":""},null,"---",null,null,null,{"$f":"IF(V123=\"\",\"\",INDEX('Otras referencias'!AO:AQ,MATCH(V123,'Otras referencias'!AO:AO,0),3))","v":""},{"$f":"IF(SUMPRODUCT(--EXACT(K123&M123,$AJ$2:AJ122)),\"\",K123&M123)","v":""},{"$f":"IF(SUMPRODUCT(--EXACT(K123&M123,$AJ$2:AJ122)),\"\",MAX($AK$3:AK122)+1)","v":""}]
[1,{"$f":"IF(F124=\"\",\"\",IF(COUNTIF($F$3:F124, F124)>1, \"\", F124))","v":""},122,"",null,{"$f":"IF(I124=\"\",\"\",IF(K124=\"\",\"\", CONCATENATE(DIGITADOR!$M$1,G124,J124)))","v":""},null,null,"",{"$f":"IF(K124=\"\",\"\",INDEX('Otras referencias'!$AG:$AH,MATCH(K124,'Otras referencias'!$AG:$AG,0),2))","v":""},null,{"$f":"IF(J124=\"\",\"\",INDEX(referentes!$S:$W,MATCH(J124,referentes!$S:$S,0),1))","v":""},null,null,null,null,{"$f":"IF(P124=\"\",\"\",INDEX(referentes!$J:$K,MATCH(P124,referentes!$J:$J,0),2))","v":""},null,null,null,{"$f":"IF(T124=\"\",\"\",INDEX(referentes!D:E,MATCH(T124,referentes!D:D,0),2))","v":""},null,{"$f":"IF(V124=\"\",\"\",INDEX('Otras referencias'!AO:AP,MATCH(V124,'Otras referencias'!AO:AO,0),2))","v":""},null,{"$f":"IF(Z124=\"\",\"\",INDEX('Otras referencias'!H:I,MATCH(Z124,'Otras referencias'!I:I,0),1))","v":""},null,null,null,{"$f":"IF(AD124=\"\",\"\",INDEX('Otras referencias'!K:L,MATCH(AD124,'Otras referencias'!L:L,0),1))","v":""},null,"---",null,null,null,{"$f":"IF(V124=\"\",\"\",INDEX('Otras referencias'!AO:AQ,MATCH(V124,'Otras referencias'!AO:AO,0),3))","v":""},{"$f":"IF(SUMPRODUCT(--EXACT(K124&M124,$AJ$2:AJ123)),\"\",K124&M124)","v":""},{"$f":"IF(SUMPRODUCT(--EXACT(K124&M124,$AJ$2:AJ123)),\"\",MAX($AK$3:AK123)+1)","v":""}]
[1,{"$f":"IF(F125=\"\",\"\",IF(COUNTIF($F$3:F125, F125)>1, \"\", F125))","v":""},123,"",null,{"$f":"IF(I125=\"\",\"\",IF(K125=\"\",\"\", CONCATENATE(DIGITADOR!$M$1,G125,J125)))","v":""},null,null,"",{"$f":"IF(K125=\"\",\"\",INDEX('Otras referencias'!$AG:$AH,MATCH(K125,'Otras referencias'!$AG:$AG,0),2))","v":""},null,{"$f":"IF(J125=\"\",\"\",INDEX(referentes!$S:$W,MATCH(J125,referentes!$S:$S,0),1))","v":""},null,null,null,null,{"$f":"IF(P125=\"\",\"\",INDEX(referentes!$J:$K,MATCH(P125,referentes!$J:$J,0),2))","v":""},null,null,null,{"$f":"IF(T125=\"\",\"\",INDEX(referentes!D:E,MATCH(T125,referentes!D:D,0),2))","v":""},null,{"$f":"IF(V125=\"\",\"\",INDEX('Otras referencias'!AO:AP,MATCH(V125,'Otras referencias'!AO:AO,0),2))","v":""},null,{"$f":"IF(Z125=\"\",\"\",INDEX('Otras referencias'!H:I,MATCH(Z125,'Otras referencias'!I:I,0),1))","v":""},null,null,null,{"$f":"IF(AD125=\"\",\"\",INDEX('Otras referencias'!K:L,MATCH(AD125,'Otras referencias'!L:L,0),1))","v":""},null,"---",null,null,null,{"$f":"IF(V125=\"\",\"\",INDEX('Otras referencias'!AO:AQ,MATCH(V125,'Otras referencias'!AO:AO,0),3))","v":""},{"$f":"IF(SUMPRODUCT(--EXACT(K125&M125,$AJ$2:AJ124)),\"\",K125&M125)","v":""},{"$f":"IF(SUMPRODUCT(--EXACT(K125&M125,$AJ$2:AJ124)),\"\",MAX($AK$3:AK124)+1)","v":""}]
[1,{"$f":"IF(F126=\"\",\"\",IF(COUNTIF($F$3:F126, F126)>1, \"\", F126))","v":""},124,"",null,{"$f":"IF(I126=\"\",\"\",IF(K126=\"\",\"\", CONCATENATE(DIGITADOR!$M$1,G126,J126)))","v":""},null,null,"",{"$f":"IF(K126=\"\",\"\",INDEX('Otras referencias'!$AG:$AH,MATCH(K126,'Otras referencias'!$AG:$AG,0),2))","v":""},null,{"$f":"IF(J126=\"\",\"\",INDEX(referentes!$S:$W,MATCH(J126,referentes!$S:$S,0),1))","v":""},null,null,null,null,{"$f":"IF(P126=\"\",\"\",INDEX(referentes!$J:$K,MATCH(P126,referentes!$J:$J,0),2))","v":""},null,null,null,{"$f":"IF(T126=\"\",\"\",INDEX(referentes!D:E,MATCH(T126,referentes!D:D,0),2))","v":""},null,{"$f":"IF(V126=\"\",\"\",INDEX('Otras referencias'!AO:AP,MATCH(V126,'Otras referencias'!AO:AO,0),2))","v":""},null,{"$f":"IF(Z126=\"\",\"\",INDEX('Otras referencias'!H:I,MATCH(Z126,'Otras referencias'!I:I,0),1))","v":""},null,null,null,{"$f":"IF(AD126=\"\",\"\",INDEX('Otras referencias'!K:L,MATCH(AD126,'Otras referencias'!L:L,0),1))","v":""},null,"---",null,null,null,{"$f":"IF(V126=\"\",\"\",INDEX('Otras referencias'!AO:AQ,MATCH(V126,'Otras referencias'!AO:AO,0),3))","v":""},{"$f":"IF(SUMPRODUCT(--EXACT(K126&M126,$AJ$2:AJ125)),\"\",K126&M126)","v":""},{"$f":"IF(SUMPRODUCT(--EXACT(K126&M126,$AJ$2:AJ125)),\"\",MAX($AK$3:AK125)+1)","v":""}]
[1,{"$f":"IF(F127=\"\",\"\",IF(COUNTIF($F$3:F127, F127)>1, \"\", F127))","v":""},125,"",null,{"$f":"IF(I127=\"\",\"\",IF(K127=\"\",\"\", CONCATENATE(DIGITADOR!$M$1,G127,J127)))","v":""},null,null,"",{"$f":"IF(K127=\"\",\"\",INDEX('Otras referencias'!$AG:$AH,MATCH(K127,'Otras referencias'!$AG:$AG,0),2))","v":""},null,{"$f":"IF(J127=\"\",\"\",INDEX(referentes!$S:$W,MATCH(J127,referentes!$S:$S,0),1))","v":""},null,null,null,null,{"$f":"IF(P127=\"\",\"\",INDEX(referentes!$J:$K,MATCH(P127,referentes!$J:$J,0),2))","v":""},null,null,null,{"$f":"IF(T127=\"\",\"\",INDEX(referentes!D:E,MATCH(T127,referentes!D:D,0),2))","v":""},null,{"$f":"IF(V127=\"\",\"\",INDEX('Otras referencias'!AO:AP,MATCH(V127,'Otras referencias'!AO:AO,0),2))","v":""},null,{"$f":"IF(Z127=\"\",\"\",INDEX('Otras referencias'!H:I,MATCH(Z127,'Otras referencias'!I:I,0),1))","v":""},null,null,null,{"$f":"IF(AD127=\"\",\"\",INDEX('Otras referencias'!K:L,MATCH(AD127,'Otras referencias'!L:L,0),1))","v":""},null,"---",null,null,null,{"$f":"IF(V127=\"\",\"\",INDEX('Otras referencias'!AO:AQ,MATCH(V127,'Otras referencias'!AO:AO,0),3))","v":""},{"$f":"IF(SUMPRODUCT(--EXACT(K127&M127,$AJ$2:AJ126)),\"\",K127&M127)","v":""},{"$f":"IF(SUMPRODUCT(--EXACT(K127&M127,$AJ$2:AJ126)),\"\",MAX($AK$3:AK126)+1)","v":""}]
[1,{"$f":"IF(F128=\"\",\"\",IF(COUNTIF($F$3:F128, F128)>1, \"\", F128))","v":""},126,"",null,{"$f":"IF(I128=\"\",\"\",IF(K128=\"\",\"\", CONCATENATE(DIGITADOR!$M$1,G128,J128)))","v":""},null,null,"",{"$f":"IF(K128=\"\",\"\",INDEX('Otras referencias'!$AG:$AH,MATCH(K128,'Otras referencias'!$AG:$AG,0),2))","v":""},null,{"$f":"IF(J128=\"\",\"\",INDEX(referentes!$S:$W,MATCH(J128,referentes!$S:$S,0),1))","v":""},null,null,null,null,{"$f":"IF(P128=\"\",\"\",INDEX(referentes!$J:$K,MATCH(P128,referentes!$J:$J,0),2))","v":""},null,null,null,{"$f":"IF(T128=\"\",\"\",INDEX(referentes!D:E,MATCH(T128,referentes!D:D,0),2))","v":""},null,{"$f":"IF(V128=\"\",\"\",INDEX('Otras referencias'!AO:AP,MATCH(V128,'Otras referencias'!AO:AO,0),2))","v":""},null,{"$f":"IF(Z128=\"\",\"\",INDEX('Otras referencias'!H:I,MATCH(Z128,'Otras referencias'!I:I,0),1))","v":""},null,null,null,{"$f":"IF(AD128=\"\",\"\",INDEX('Otras referencias'!K:L,MATCH(AD128,'Otras referencias'!L:L,0),1))","v":""},null,"---",null,null,null,{"$f":"IF(V128=\"\",\"\",INDEX('Otras referencias'!AO:AQ,MATCH(V128,'Otras referencias'!AO:AO,0),3))","v":""},{"$f":"IF(SUMPRODUCT(--EXACT(K128&M128,$AJ$2:AJ127)),\"\",K128&M128)","v":""},{"$f":"IF(SUMPRODUCT(--EXACT(K128&M128,$AJ$2:AJ127)),\"\",MAX($AK$3:AK127)+1)","v":""}]
[1,{"$f":"IF(F129=\"\",\"\",IF(COUNTIF($F$3:F129, F129)>1, \"\", F129))","v":""},127,"",null,{"$f":"IF(I129=\"\",\"\",IF(K129=\"\",\"\", CONCATENATE(DIGITADOR!$M$1,G129,J129)))","v":""},null,null,"",{"$f":"IF(K129=\"\",\"\",INDEX('Otras referencias'!$AG:$AH,MATCH(K129,'Otras referencias'!$AG:$AG,0),2))","v":""},null,{"$f":"IF(J129=\"\",\"\",INDEX(referentes!$S:$W,MATCH(J129,referentes!$S:$S,0),1))","v":""},null,null,null,null,{"$f":"IF(P129=\"\",\"\",INDEX(referentes!$J:$K,MATCH(P129,referentes!$J:$J,0),2))","v":""},null,null,null,{"$f":"IF(T129=\"\",\"\",INDEX(referentes!D:E,MATCH(T129,referentes!D:D,0),2))","v":""},null,{"$f":"IF(V129=\"\",\"\",INDEX('Otras referencias'!AO:AP,MATCH(V129,'Otras referencias'!AO:AO,0),2))","v":""},null,{"$f":"IF(Z129=\"\",\"\",INDEX('Otras referencias'!H:I,MATCH(Z129,'Otras referencias'!I:I,0),1))","v":""},null,null,null,{"$f":"IF(AD129=\"\",\"\",INDEX('Otras referencias'!K:L,MATCH(AD129,'Otras referencias'!L:L,0),1))","v":""},null,"---",null,null,null,{"$f":"IF(V129=\"\",\"\",INDEX('Otras referencias'!AO:AQ,MATCH(V129,'Otras referencias'!AO:AO,0),3))","v":""},{"$f":"IF(SUMPRODUCT(--EXACT(K129&M129,$AJ$2:AJ128)),\"\",K129&M129)","v":""},{"$f":"IF(SUMPRODUCT(--EXACT(K129&M129,$AJ$2:AJ128)),\"\",MAX($AK$3:AK128)+1)","v":""}]
[1,{"$f":"IF(F130=\"\",\"\",IF(COUNTIF($F$3:F130, F130)>1, \"\", F130))","v":""},128,"",null,{"$f":"IF(I130=\"\",\"\",IF(K130=\"\",\"\", CONCATENATE(DIGITADOR!$M$1,G130,J130)))","v":""},null,null,"",{"$f":"IF(K130=\"\",\"\",INDEX('Otras referencias'!$AG:$AH,MATCH(K130,'Otras referencias'!$AG:$AG,0),2))","v":""},null,{"$f":"IF(J130=\"\",\"\",INDEX(referentes!$S:$W,MATCH(J130,referentes!$S:$S,0),1))","v":""},null,null,null,null,{"$f":"IF(P130=\"\",\"\",INDEX(referentes!$J:$K,MATCH(P130,referentes!$J:$J,0),2))","v":""},null,null,null,{"$f":"IF(T130=\"\",\"\",INDEX(referentes!D:E,MATCH(T130,referentes!D:D,0),2))","v":""},null,{"$f":"IF(V130=\"\",\"\",INDEX('Otras referencias'!AO:AP,MATCH(V130,'Otras referencias'!AO:AO,0),2))","v":""},null,{"$f":"IF(Z130=\"\",\"\",INDEX('Otras referencias'!H:I,MATCH(Z130,'Otras referencias'!I:I,0),1))","v":""},null,null,null,{"$f":"IF(AD130=\"\",\"\",INDEX('Otras referencias'!K:L,MATCH(AD130,'Otras referencias'!L:L,0),1))","v":""},null,"---",null,null,null,{"$f":"IF(V130=\"\",\"\",INDEX('Otras referencias'!AO:AQ,MATCH(V130,'Otras referencias'!AO:AO,0),3))","v":""},{"$f":"IF(SUMPRODUCT(--EXACT(K130&M130,$AJ$2:AJ129)),\"\",K130&M130)","v":""},{"$f":"IF(SUMPRODUCT(--EXACT(K130&M130,$AJ$2:AJ129)),\"\",MAX($AK$3:AK129)+1)","v":""}]
[1,{"$f":"IF(F131=\"\",\"\",IF(COUNTIF($F$3:F131, F131)>1, \"\", F131))","v":""},129,"",null,{"$f":"IF(I131=\"\",\"\",IF(K131=\"\",\"\", CONCATENATE(DIGITADOR!$M$1,G131,J131)))","v":""},null,null,{"$f":"IF(G131<>\"\",G131+H131,\"\")","v":""},{"$f":"IF(K131=\"\",\"\",INDEX('Otras referencias'!$AG:$AH,MATCH(K131,'Otras referencias'!$AG:$AG,0),2))","v":""},null,{"$f":"IF(J131=\"\",\"\",INDEX(referentes!$S:$W,MATCH(J131,referentes!$S:$S,0),1))","v":""},null,null,null,null,{"$f":"IF(P131=\"\",\"\",INDEX(referentes!$J:$K,MATCH(P131,referentes!$J:$J,0),2))","v":""},null,null,null,{"$f":"IF(T131=\"\",\"\",INDEX(referentes!D:E,MATCH(T131,referentes!D:D,0),2))","v":""},null,{"$f":"IF(V131=\"\",\"\",INDEX('Otras referencias'!AO:AP,MATCH(V131,'Otras referencias'!AO:AO,0),2))","v":""},null,{"$f":"IF(Z131=\"\",\"\",INDEX('Otras referencias'!H:I,MATCH(Z131,'Otras referencias'!I:I,0),1))","v":""},null,null,null,{"$f":"IF(AD131=\"\",\"\",INDEX('Otras referencias'!K:L,MATCH(AD131,'Otras referencias'!L:L,0),1))","v":""},null,"---",null,null,null,{"$f":"IF(V131=\"\",\"\",INDEX('Otras referencias'!AO:AQ,MATCH(V131,'Otras referencias'!AO:AO,0),3))","v":""},{"$f":"IF(SUMPRODUCT(--EXACT(K131&M131,$AJ$2:AJ130)),\"\",K131&M131)","v":""},{"$f":"IF(SUMPRODUCT(--EXACT(K131&M131,$AJ$2:AJ130)),\"\",MAX($AK$3:AK130)+1)","v":""}]
[1,{"$f":"IF(F132=\"\",\"\",IF(COUNTIF($F$3:F132, F132)>1, \"\", F132))","v":""},130,{"$f":"IF(F132=\"\",\"\",CONCATENATE(F132,ROW()-2))","v":""},null,{"$f":"IF(I132=\"\",\"\",IF(K132=\"\",\"\", CONCATENATE(DIGITADOR!$M$1,G132,J132)))","v":""},null,null,"",{"$f":"IF(K132=\"\",\"\",INDEX('Otras referencias'!$AG:$AH,MATCH(K132,'Otras referencias'!$AG:$AG,0),2))","v":""},null,{"$f":"IF(J132=\"\",\"\",INDEX(referentes!$S:$W,MATCH(J132,referentes!$S:$S,0),1))","v":""},null,null,null,null,{"$f":"IF(P132=\"\",\"\",INDEX(referentes!$J:$K,MATCH(P132,referentes!$J:$J,0),2))","v":""},null,null,null,{"$f":"IF(T132=\"\",\"\",INDEX(referentes!D:E,MATCH(T132,referentes!D:D,0),2))","v":""},null,{"$f":"IF(V132=\"\",\"\",INDEX('Otras referencias'!AO:AP,MATCH(V132,'Otras referencias'!AO:AO,0),2))","v":""},null,{"$f":"IF(Z132=\"\",\"\",INDEX('Otras referencias'!H:I,MATCH(Z132,'Otras referencias'!I:I,0),1))","v":""},null,null,null,{"$f":"IF(AD132=\"\",\"\",INDEX('Otras referencias'!K:L,MATCH(AD132,'Otras referencias'!L:L,0),1))","v":""},null,{"$f":"K132&\"-\"&M132&\"-\"&P132&\"-\"&R132","v":"---"},null,null,null,{"$f":"IF(V132=\"\",\"\",INDEX('Otras referencias'!AO:AQ,MATCH(V132,'Otras referencias'!AO:AO,0),3))","v":""},{"$f":"IF(SUMPRODUCT(--EXACT(K132&M132,$AJ$2:AJ131)),\"\",K132&M132)","v":""},{"$f":"IF(SUMPRODUCT(--EXACT(K132&M132,$AJ$2:AJ131)),\"\",MAX($AK$3:AK131)+1)","v":""}]
[{"$f":"IF(L133=L132,A132,A132+1)","v":1},{"$f":"IF(F133=\"\",\"\",IF(COUNTIF($F$3:F133, F133)>1, \"\", F133))","v":""},131,"",null,{"$f":"IF(I133=\"\",\"\",IF(K133=\"\",\"\", CONCATENATE(DIGITADOR!$M$1,G133,J133)))","v":""},null,null,"",{"$f":"IF(K133=\"\",\"\",INDEX('Otras referencias'!$AG:$AH,MATCH(K133,'Otras referencias'!$AG:$AG,0),2))","v":""},null,{"$f":"IF(J133=\"\",\"\",INDEX(referentes!$S:$W,MATCH(J133,referentes!$S:$S,0),1))","v":""},null,null,null,null,{"$f":"IF(P133=\"\",\"\",INDEX(referentes!$J:$K,MATCH(P133,referentes!$J:$J,0),2))","v":""},null,null,null,{"$f":"IF(T133=\"\",\"\",INDEX(referentes!D:E,MATCH(T133,referentes!D:D,0),2))","v":""},null,{"$f":"IF(V133=\"\",\"\",INDEX('Otras referencias'!AO:AP,MATCH(V133,'Otras referencias'!AO:AO,0),2))","v":""},null,{"$f":"IF(Z133=\"\",\"\",INDEX('Otras referencias'!H:I,MATCH(Z133,'Otras referencias'!I:I,0),1))","v":""},null,null,null,{"$f":"IF(AD133=\"\",\"\",INDEX('Otras referencias'!K:L,MATCH(AD133,'Otras referencias'!L:L,0),1))","v":""},null,"---",null,null,null,{"$f":"IF(V133=\"\",\"\",INDEX('Otras referencias'!AO:AQ,MATCH(V133,'Otras referencias'!AO:AO,0),3))","v":""},{"$f":"IF(SUMPRODUCT(--EXACT(K133&M133,$AJ$2:AJ132)),\"\",K133&M133)","v":""},{"$f":"IF(SUMPRODUCT(--EXACT(K133&M133,$AJ$2:AJ132)),\"\",MAX($AK$3:AK132)+1)","v":""}]
[1,{"$f":"IF(F134=\"\",\"\",IF(COUNTIF($F$3:F134, F134)>1, \"\", F134))","v":""},132,"",null,{"$f":"IF(I134=\"\",\"\",IF(K134=\"\",\"\", CONCATENATE(DIGITADOR!$M$1,G134,J134)))","v":""},null,null,"",{"$f":"IF(K134=\"\",\"\",INDEX('Otras referencias'!$AG:$AH,MATCH(K134,'Otras referencias'!$AG:$AG,0),2))","v":""},null,{"$f":"IF(J134=\"\",\"\",INDEX(referentes!$S:$W,MATCH(J134,referentes!$S:$S,0),1))","v":""},null,null,null,null,{"$f":"IF(P134=\"\",\"\",INDEX(referentes!$J:$K,MATCH(P134,referentes!$J:$J,0),2))","v":""},null,null,null,{"$f":"IF(T134=\"\",\"\",INDEX(referentes!D:E,MATCH(T134,referentes!D:D,0),2))","v":""},null,{"$f":"IF(V134=\"\",\"\",INDEX('Otras referencias'!AO:AP,MATCH(V134,'Otras referencias'!AO:AO,0),2))","v":""},null,{"$f":"IF(Z134=\"\",\"\",INDEX('Otras referencias'!H:I,MATCH(Z134,'Otras referencias'!I:I,0),1))","v":""},null,null,null,{"$f":"IF(AD134=\"\",\"\",INDEX('Otras referencias'!K:L,MATCH(AD134,'Otras referencias'!L:L,0),1))","v":""},null,"---",null,null,null,{"$f":"IF(V134=\"\",\"\",INDEX('Otras referencias'!AO:AQ,MATCH(V134,'Otras referencias'!AO:AO,0),3))","v":""},{"$f":"IF(SUMPRODUCT(--EXACT(K134&M134,$AJ$2:AJ133)),\"\",K134&M134)","v":""},{"$f":"IF(SUMPRODUCT(--EXACT(K134&M134,$AJ$2:AJ133)),\"\",MAX($AK$3:AK133)+1)","v":""}]
[1,{"$f":"IF(F135=\"\",\"\",IF(COUNTIF($F$3:F135, F135)>1, \"\", F135))","v":""},133,"",null,{"$f":"IF(I135=\"\",\"\",IF(K135=\"\",\"\", CONCATENATE(DIGITADOR!$M$1,G135,J135)))","v":""},null,null,"",{"$f":"IF(K135=\"\",\"\",INDEX('Otras referencias'!$AG:$AH,MATCH(K135,'Otras referencias'!$AG:$AG,0),2))","v":""},null,{"$f":"IF(J135=\"\",\"\",INDEX(referentes!$S:$W,MATCH(J135,referentes!$S:$S,0),1))","v":""},null,null,null,null,{"$f":"IF(P135=\"\",\"\",INDEX(referentes!$J:$K,MATCH(P135,referentes!$J:$J,0),2))","v":""},null,null,null,{"$f":"IF(T135=\"\",\"\",INDEX(referentes!D:E,MATCH(T135,referentes!D:D,0),2))","v":""},null,{"$f":"IF(V135=\"\",\"\",INDEX('Otras referencias'!AO:AP,MATCH(V135,'Otras referencias'!AO:AO,0),2))","v":""},null,{"$f":"IF(Z135=\"\",\"\",INDEX('Otras referencias'!H:I,MATCH(Z135,'Otras referencias'!I:I,0),1))","v":""},null,null,null,{"$f":"IF(AD135=\"\",\"\",INDEX('Otras referencias'!K:L,MATCH(AD135,'Otras referencias'!L:L,0),1))","v":""},null,"---",null,null,null,{"$f":"IF(V135=\"\",\"\",INDEX('Otras referencias'!AO:AQ,MATCH(V135,'Otras referencias'!AO:AO,0),3))","v":""},{"$f":"IF(SUMPRODUCT(--EXACT(K135&M135,$AJ$2:AJ134)),\"\",K135&M135)","v":""},{"$f":"IF(SUMPRODUCT(--EXACT(K135&M135,$AJ$2:AJ134)),\"\",MAX($AK$3:AK134)+1)","v":""}]
[1,{"$f":"IF(F136=\"\",\"\",IF(COUNTIF($F$3:F136, F136)>1, \"\", F136))","v":""},134,"",null,{"$f":"IF(I136=\"\",\"\",IF(K136=\"\",\"\", CONCATENATE(DIGITADOR!$M$1,G136,J136)))","v":""},null,null,"",{"$f":"IF(K136=\"\",\"\",INDEX('Otras referencias'!$AG:$AH,MATCH(K136,'Otras referencias'!$AG:$AG,0),2))","v":""},null,{"$f":"IF(J136=\"\",\"\",INDEX(referentes!$S:$W,MATCH(J136,referentes!$S:$S,0),1))","v":""},null,null,null,null,{"$f":"IF(P136=\"\",\"\",INDEX(referentes!$J:$K,MATCH(P136,referentes!$J:$J,0),2))","v":""},null,null,null,{"$f":"IF(T136=\"\",\"\",INDEX(referentes!D:E,MATCH(T136,referentes!D:D,0),2))","v":""},null,{"$f":"IF(V136=\"\",\"\",INDEX('Otras referencias'!AO:AP,MATCH(V136,'Otras referencias'!AO:AO,0),2))","v":""},null,{"$f":"IF(Z136=\"\",\"\",INDEX('Otras referencias'!H:I,MATCH(Z136,'Otras referencias'!I:I,0),1))","v":""},null,null,null,{"$f":"IF(AD136=\"\",\"\",INDEX('Otras referencias'!K:L,MATCH(AD136,'Otras referencias'!L:L,0),1))","v":""},null,"---",null,null,null,{"$f":"IF(V136=\"\",\"\",INDEX('Otras referencias'!AO:AQ,MATCH(V136,'Otras referencias'!AO:AO,0),3))","v":""},{"$f":"IF(SUMPRODUCT(--EXACT(K136&M136,$AJ$2:AJ135)),\"\",K136&M136)","v":""},{"$f":"IF(SUMPRODUCT(--EXACT(K136&M136,$AJ$2:AJ135)),\"\",MAX($AK$3:AK135)+1)","v":""}]
[1,{"$f":"IF(F137=\"\",\"\",IF(COUNTIF($F$3:F137, F137)>1, \"\", F137))","v":""},135,"",null,{"$f":"IF(I137=\"\",\"\",IF(K137=\"\",\"\", CONCATENATE(DIGITADOR!$M$1,G137,J137)))","v":""},null,null,"",{"$f":"IF(K137=\"\",\"\",INDEX('Otras referencias'!$AG:$AH,MATCH(K137,'Otras referencias'!$AG:$AG,0),2))","v":""},null,{"$f":"IF(J137=\"\",\"\",INDEX(referentes!$S:$W,MATCH(J137,referentes!$S:$S,0),1))","v":""},null,null,null,null,{"$f":"IF(P137=\"\",\"\",INDEX(referentes!$J:$K,MATCH(P137,referentes!$J:$J,0),2))","v":""},null,null,null,{"$f":"IF(T137=\"\",\"\",INDEX(referentes!D:E,MATCH(T137,referentes!D:D,0),2))","v":""},null,{"$f":"IF(V137=\"\",\"\",INDEX('Otras referencias'!AO:AP,MATCH(V137,'Otras referencias'!AO:AO,0),2))","v":""},null,{"$f":"IF(Z137=\"\",\"\",INDEX('Otras referencias'!H:I,MATCH(Z137,'Otras referencias'!I:I,0),1))","v":""},null,null,null,{"$f":"IF(AD137=\"\",\"\",INDEX('Otras referencias'!K:L,MATCH(AD137,'Otras referencias'!L:L,0),1))","v":""},null,"---",null,null,null,{"$f":"IF(V137=\"\",\"\",INDEX('Otras referencias'!AO:AQ,MATCH(V137,'Otras referencias'!AO:AO,0),3))","v":""},{"$f":"IF(SUMPRODUCT(--EXACT(K137&M137,$AJ$2:AJ136)),\"\",K137&M137)","v":""},{"$f":"IF(SUMPRODUCT(--EXACT(K137&M137,$AJ$2:AJ136)),\"\",MAX($AK$3:AK136)+1)","v":""}]
[1,{"$f":"IF(F138=\"\",\"\",IF(COUNTIF($F$3:F138, F138)>1, \"\", F138))","v":""},136,"",null,{"$f":"IF(I138=\"\",\"\",IF(K138=\"\",\"\", CONCATENATE(DIGITADOR!$M$1,G138,J138)))","v":""},null,null,"",{"$f":"IF(K138=\"\",\"\",INDEX('Otras referencias'!$AG:$AH,MATCH(K138,'Otras referencias'!$AG:$AG,0),2))","v":""},null,{"$f":"IF(J138=\"\",\"\",INDEX(referentes!$S:$W,MATCH(J138,referentes!$S:$S,0),1))","v":""},null,null,null,null,{"$f":"IF(P138=\"\",\"\",INDEX(referentes!$J:$K,MATCH(P138,referentes!$J:$J,0),2))","v":""},null,null,null,{"$f":"IF(T138=\"\",\"\",INDEX(referentes!D:E,MATCH(T138,referentes!D:D,0),2))","v":""},null,{"$f":"IF(V138=\"\",\"\",INDEX('Otras referencias'!AO:AP,MATCH(V138,'Otras referencias'!AO:AO,0),2))","v":""},null,{"$f":"IF(Z138=\"\",\"\",INDEX('Otras referencias'!H:I,MATCH(Z138,'Otras referencias'!I:I,0),1))","v":""},null,null,null,{"$f":"IF(AD138=\"\",\"\",INDEX('Otras referencias'!K:L,MATCH(AD138,'Otras referencias'!L:L,0),1))","v":""},null,"---",null,null,null,{"$f":"IF(V138=\"\",\"\",INDEX('Otras referencias'!AO:AQ,MATCH(V138,'Otras referencias'!AO:AO,0),3))","v":""},{"$f":"IF(SUMPRODUCT(--EXACT(K138&M138,$AJ$2:AJ137)),\"\",K138&M138)","v":""},{"$f":"IF(SUMPRODUCT(--EXACT(K138&M138,$AJ$2:AJ137)),\"\",MAX($AK$3:AK137)+1)","v":""}]
[1,{"$f":"IF(F139=\"\",\"\",IF(COUNTIF($F$3:F139, F139)>1, \"\", F139))","v":""},137,"",null,{"$f":"IF(I139=\"\",\"\",IF(K139=\"\",\"\", CONCATENATE(DIGITADOR!$M$1,G139,J139)))","v":""},null,null,"",{"$f":"IF(K139=\"\",\"\",INDEX('Otras referencias'!$AG:$AH,MATCH(K139,'Otras referencias'!$AG:$AG,0),2))","v":""},null,{"$f":"IF(J139=\"\",\"\",INDEX(referentes!$S:$W,MATCH(J139,referentes!$S:$S,0),1))","v":""},null,null,null,null,{"$f":"IF(P139=\"\",\"\",INDEX(referentes!$J:$K,MATCH(P139,referentes!$J:$J,0),2))","v":""},null,null,null,{"$f":"IF(T139=\"\",\"\",INDEX(referentes!D:E,MATCH(T139,referentes!D:D,0),2))","v":""},null,{"$f":"IF(V139=\"\",\"\",INDEX('Otras referencias'!AO:AP,MATCH(V139,'Otras referencias'!AO:AO,0),2))","v":""},null,{"$f":"IF(Z139=\"\",\"\",INDEX('Otras referencias'!H:I,MATCH(Z139,'Otras referencias'!I:I,0),1))","v":""},null,null,null,{"$f":"IF(AD139=\"\",\"\",INDEX('Otras referencias'!K:L,MATCH(AD139,'Otras referencias'!L:L,0),1))","v":""},null,"---",null,null,null,{"$f":"IF(V139=\"\",\"\",INDEX('Otras referencias'!AO:AQ,MATCH(V139,'Otras referencias'!AO:AO,0),3))","v":""},{"$f":"IF(SUMPRODUCT(--EXACT(K139&M139,$AJ$2:AJ138)),\"\",K139&M139)","v":""},{"$f":"IF(SUMPRODUCT(--EXACT(K139&M139,$AJ$2:AJ138)),\"\",MAX($AK$3:AK138)+1)","v":""}]
[1,{"$f":"IF(F140=\"\",\"\",IF(COUNTIF($F$3:F140, F140)>1, \"\", F140))","v":""},138,"",null,{"$f":"IF(I140=\"\",\"\",IF(K140=\"\",\"\", CONCATENATE(DIGITADOR!$M$1,G140,J140)))","v":""},null,null,"",{"$f":"IF(K140=\"\",\"\",INDEX('Otras referencias'!$AG:$AH,MATCH(K140,'Otras referencias'!$AG:$AG,0),2))","v":""},null,{"$f":"IF(J140=\"\",\"\",INDEX(referentes!$S:$W,MATCH(J140,referentes!$S:$S,0),1))","v":""},null,null,null,null,{"$f":"IF(P140=\"\",\"\",INDEX(referentes!$J:$K,MATCH(P140,referentes!$J:$J,0),2))","v":""},null,null,null,{"$f":"IF(T140=\"\",\"\",INDEX(referentes!D:E,MATCH(T140,referentes!D:D,0),2))","v":""},null,{"$f":"IF(V140=\"\",\"\",INDEX('Otras referencias'!AO:AP,MATCH(V140,'Otras referencias'!AO:AO,0),2))","v":""},null,{"$f":"IF(Z140=\"\",\"\",INDEX('Otras referencias'!H:I,MATCH(Z140,'Otras referencias'!I:I,0),1))","v":""},null,null,null,{"$f":"IF(AD140=\"\",\"\",INDEX('Otras referencias'!K:L,MATCH(AD140,'Otras referencias'!L:L,0),1))","v":""},null,"---",null,null,null,{"$f":"IF(V140=\"\",\"\",INDEX('Otras referencias'!AO:AQ,MATCH(V140,'Otras referencias'!AO:AO,0),3))","v":""},{"$f":"IF(SUMPRODUCT(--EXACT(K140&M140,$AJ$2:AJ139)),\"\",K140&M140)","v":""},{"$f":"IF(SUMPRODUCT(--EXACT(K140&M140,$AJ$2:AJ139)),\"\",MAX($AK$3:AK139)+1)","v":""}]
[1,{"$f":"IF(F141=\"\",\"\",IF(COUNTIF($F$3:F141, F141)>1, \"\", F141))","v":""},139,"",null,{"$f":"IF(I141=\"\",\"\",IF(K141=\"\",\"\", CONCATENATE(DIGITADOR!$M$1,G141,J141)))","v":""},null,null,"",{"$f":"IF(K141=\"\",\"\",INDEX('Otras referencias'!$AG:$AH,MATCH(K141,'Otras referencias'!$AG:$AG,0),2))","v":""},null,{"$f":"IF(J141=\"\",\"\",INDEX(referentes!$S:$W,MATCH(J141,referentes!$S:$S,0),1))","v":""},null,null,null,null,{"$f":"IF(P141=\"\",\"\",INDEX(referentes!$J:$K,MATCH(P141,referentes!$J:$J,0),2))","v":""},null,null,null,{"$f":"IF(T141=\"\",\"\",INDEX(referentes!D:E,MATCH(T141,referentes!D:D,0),2))","v":""},null,{"$f":"IF(V141=\"\",\"\",INDEX('Otras referencias'!AO:AP,MATCH(V141,'Otras referencias'!AO:AO,0),2))","v":""},null,{"$f":"IF(Z141=\"\",\"\",INDEX('Otras referencias'!H:I,MATCH(Z141,'Otras referencias'!I:I,0),1))","v":""},null,null,null,{"$f":"IF(AD141=\"\",\"\",INDEX('Otras referencias'!K:L,MATCH(AD141,'Otras referencias'!L:L,0),1))","v":""},null,"---",null,null,null,{"$f":"IF(V141=\"\",\"\",INDEX('Otras referencias'!AO:AQ,MATCH(V141,'Otras referencias'!AO:AO,0),3))","v":""},{"$f":"IF(SUMPRODUCT(--EXACT(K141&M141,$AJ$2:AJ140)),\"\",K141&M141)","v":""},{"$f":"IF(SUMPRODUCT(--EXACT(K141&M141,$AJ$2:AJ140)),\"\",MAX($AK$3:AK140)+1)","v":""}]
[1,{"$f":"IF(F142=\"\",\"\",IF(COUNTIF($F$3:F142, F142)>1, \"\", F142))","v":""},140,"",null,{"$f":"IF(I142=\"\",\"\",IF(K142=\"\",\"\", CONCATENATE(DIGITADOR!$M$1,G142,J142)))","v":""},null,null,"",{"$f":"IF(K142=\"\",\"\",INDEX('Otras referencias'!$AG:$AH,MATCH(K142,'Otras referencias'!$AG:$AG,0),2))","v":""},null,{"$f":"IF(J142=\"\",\"\",INDEX(referentes!$S:$W,MATCH(J142,referentes!$S:$S,0),1))","v":""},null,null,null,null,{"$f":"IF(P142=\"\",\"\",INDEX(referentes!$J:$K,MATCH(P142,referentes!$J:$J,0),2))","v":""},null,null,null,{"$f":"IF(T142=\"\",\"\",INDEX(referentes!D:E,MATCH(T142,referentes!D:D,0),2))","v":""},null,{"$f":"IF(V142=\"\",\"\",INDEX('Otras referencias'!AO:AP,MATCH(V142,'Otras referencias'!AO:AO,0),2))","v":""},null,{"$f":"IF(Z142=\"\",\"\",INDEX('Otras referencias'!H:I,MATCH(Z142,'Otras referencias'!I:I,0),1))","v":""},null,null,null,{"$f":"IF(AD142=\"\",\"\",INDEX('Otras referencias'!K:L,MATCH(AD142,'Otras referencias'!L:L,0),1))","v":""},null,"---",null,null,null,{"$f":"IF(V142=\"\",\"\",INDEX('Otras referencias'!AO:AQ,MATCH(V142,'Otras referencias'!AO:AO,0),3))","v":""},{"$f":"IF(SUMPRODUCT(--EXACT(K142&M142,$AJ$2:AJ141)),\"\",K142&M142)","v":""},{"$f":"IF(SUMPRODUCT(--EXACT(K142&M142,$AJ$2:AJ141)),\"\",MAX($AK$3:AK141)+1)","v":""}]
[1,{"$f":"IF(F143=\"\",\"\",IF(COUNTIF($F$3:F143, F143)>1, \"\", F143))","v":""},141,"",null,{"$f":"IF(I143=\"\",\"\",IF(K143=\"\",\"\", CONCATENATE(DIGITADOR!$M$1,G143,J143)))","v":""},null,null,"",{"$f":"IF(K143=\"\",\"\",INDEX('Otras referencias'!$AG:$AH,MATCH(K143,'Otras referencias'!$AG:$AG,0),2))","v":""},null,{"$f":"IF(J143=\"\",\"\",INDEX(referentes!$S:$W,MATCH(J143,referentes!$S:$S,0),1))","v":""},null,null,null,null,{"$f":"IF(P143=\"\",\"\",INDEX(referentes!$J:$K,MATCH(P143,referentes!$J:$J,0),2))","v":""},null,null,null,{"$f":"IF(T143=\"\",\"\",INDEX(referentes!D:E,MATCH(T143,referentes!D:D,0),2))","v":""},null,{"$f":"IF(V143=\"\",\"\",INDEX('Otras referencias'!AO:AP,MATCH(V143,'Otras referencias'!AO:AO,0),2))","v":""},null,{"$f":"IF(Z143=\"\",\"\",INDEX('Otras referencias'!H:I,MATCH(Z143,'Otras referencias'!I:I,0),1))","v":""},null,null,null,{"$f":"IF(AD143=\"\",\"\",INDEX('Otras referencias'!K:L,MATCH(AD143,'Otras referencias'!L:L,0),1))","v":""},null,"---",null,null,null,{"$f":"IF(V143=\"\",\"\",INDEX('Otras referencias'!AO:AQ,MATCH(V143,'Otras referencias'!AO:AO,0),3))","v":""},{"$f":"IF(SUMPRODUCT(--EXACT(K143&M143,$AJ$2:AJ142)),\"\",K143&M143)","v":""},{"$f":"IF(SUMPRODUCT(--EXACT(K143&M143,$AJ$2:AJ142)),\"\",MAX($AK$3:AK142)+1)","v":""}]
[1,{"$f":"IF(F144=\"\",\"\",IF(COUNTIF($F$3:F144, F144)>1, \"\", F144))","v":""},142,"",null,{"$f":"IF(I144=\"\",\"\",IF(K144=\"\",\"\", CONCATENATE(DIGITADOR!$M$1,G144,J144)))","v":""},null,null,"",{"$f":"IF(K144=\"\",\"\",INDEX('Otras referencias'!$AG:$AH,MATCH(K144,'Otras referencias'!$AG:$AG,0),2))","v":""},null,{"$f":"IF(J144=\"\",\"\",INDEX(referentes!$S:$W,MATCH(J144,referentes!$S:$S,0),1))","v":""},null,null,null,null,{"$f":"IF(P144=\"\",\"\",INDEX(referentes!$J:$K,MATCH(P144,referentes!$J:$J,0),2))","v":""},null,null,null,{"$f":"IF(T144=\"\",\"\",INDEX(referentes!D:E,MATCH(T144,referentes!D:D,0),2))","v":""},null,{"$f":"IF(V144=\"\",\"\",INDEX('Otras referencias'!AO:AP,MATCH(V144,'Otras referencias'!AO:AO,0),2))","v":""},null,{"$f":"IF(Z144=\"\",\"\",INDEX('Otras referencias'!H:I,MATCH(Z144,'Otras referencias'!I:I,0),1))","v":""},null,null,null,{"$f":"IF(AD144=\"\",\"\",INDEX('Otras referencias'!K:L,MATCH(AD144,'Otras referencias'!L:L,0),1))","v":""},null,"---",null,null,null,{"$f":"IF(V144=\"\",\"\",INDEX('Otras referencias'!AO:AQ,MATCH(V144,'Otras referencias'!AO:AO,0),3))","v":""},{"$f":"IF(SUMPRODUCT(--EXACT(K144&M144,$AJ$2:AJ143)),\"\",K144&M144)","v":""},{"$f":"IF(SUMPRODUCT(--EXACT(K144&M144,$AJ$2:AJ143)),\"\",MAX($AK$3:AK143)+1)","v":""}]
[1,{"$f":"IF(F145=\"\",\"\",IF(COUNTIF($F$3:F145, F145)>1, \"\", F145))","v":""},143,"",null,{"$f":"IF(I145=\"\",\"\",IF(K145=\"\",\"\", CONCATENATE(DIGITADOR!$M$1,G145,J145)))","v":""},null,null,"",{"$f":"IF(K145=\"\",\"\",INDEX('Otras referencias'!$AG:$AH,MATCH(K145,'Otras referencias'!$AG:$AG,0),2))","v":""},null,{"$f":"IF(J145=\"\",\"\",INDEX(referentes!$S:$W,MATCH(J145,referentes!$S:$S,0),1))","v":""},null,null,null,null,{"$f":"IF(P145=\"\",\"\",INDEX(referentes!$J:$K,MATCH(P145,referentes!$J:$J,0),2))","v":""},null,null,null,{"$f":"IF(T145=\"\",\"\",INDEX(referentes!D:E,MATCH(T145,referentes!D:D,0),2))","v":""},null,{"$f":"IF(V145=\"\",\"\",INDEX('Otras referencias'!AO:AP,MATCH(V145,'Otras referencias'!AO:AO,0),2))","v":""},null,{"$f":"IF(Z145=\"\",\"\",INDEX('Otras referencias'!H:I,MATCH(Z145,'Otras referencias'!I:I,0),1))","v":""},null,null,null,{"$f":"IF(AD145=\"\",\"\",INDEX('Otras referencias'!K:L,MATCH(AD145,'Otras referencias'!L:L,0),1))","v":""},null,"---",null,null,null,{"$f":"IF(V145=\"\",\"\",INDEX('Otras referencias'!AO:AQ,MATCH(V145,'Otras referencias'!AO:AO,0),3))","v":""},{"$f":"IF(SUMPRODUCT(--EXACT(K145&M145,$AJ$2:AJ144)),\"\",K145&M145)","v":""},{"$f":"IF(SUMPRODUCT(--EXACT(K145&M145,$AJ$2:AJ144)),\"\",MAX($AK$3:AK144)+1)","v":""}]
[1,{"$f":"IF(F146=\"\",\"\",IF(COUNTIF($F$3:F146, F146)>1, \"\", F146))","v":""},144,"",null,{"$f":"IF(I146=\"\",\"\",IF(K146=\"\",\"\", CONCATENATE(DIGITADOR!$M$1,G146,J146)))","v":""},null,null,"",{"$f":"IF(K146=\"\",\"\",INDEX('Otras referencias'!$AG:$AH,MATCH(K146,'Otras referencias'!$AG:$AG,0),2))","v":""},null,{"$f":"IF(J146=\"\",\"\",INDEX(referentes!$S:$W,MATCH(J146,referentes!$S:$S,0),1))","v":""},null,null,null,null,{"$f":"IF(P146=\"\",\"\",INDEX(referentes!$J:$K,MATCH(P146,referentes!$J:$J,0),2))","v":""},null,null,null,{"$f":"IF(T146=\"\",\"\",INDEX(referentes!D:E,MATCH(T146,referentes!D:D,0),2))","v":""},null,{"$f":"IF(V146=\"\",\"\",INDEX('Otras referencias'!AO:AP,MATCH(V146,'Otras referencias'!AO:AO,0),2))","v":""},null,{"$f":"IF(Z146=\"\",\"\",INDEX('Otras referencias'!H:I,MATCH(Z146,'Otras referencias'!I:I,0),1))","v":""},null,null,null,{"$f":"IF(AD146=\"\",\"\",INDEX('Otras referencias'!K:L,MATCH(AD146,'Otras referencias'!L:L,0),1))","v":""},null,"---",null,null,null,{"$f":"IF(V146=\"\",\"\",INDEX('Otras referencias'!AO:AQ,MATCH(V146,'Otras referencias'!AO:AO,0),3))","v":""},{"$f":"IF(SUMPRODUCT(--EXACT(K146&M146,$AJ$2:AJ145)),\"\",K146&M146)","v":""},{"$f":"IF(SUMPRODUCT(--EXACT(K146&M146,$AJ$2:AJ145)),\"\",MAX($AK$3:AK145)+1)","v":""}]
[1,{"$f":"IF(F147=\"\",\"\",IF(COUNTIF($F$3:F147, F147)>1, \"\", F147))","v":""},145,"",null,{"$f":"IF(I147=\"\",\"\",IF(K147=\"\",\"\", CONCATENATE(DIGITADOR!$M$1,G147,J147)))","v":""},null,null,"",{"$f":"IF(K147=\"\",\"\",INDEX('Otras referencias'!$AG:$AH,MATCH(K147,'Otras referencias'!$AG:$AG,0),2))","v":""},null,{"$f":"IF(J147=\"\",\"\",INDEX(referentes!$S:$W,MATCH(J147,referentes!$S:$S,0),1))","v":""},null,null,null,null,{"$f":"IF(P147=\"\",\"\",INDEX(referentes!$J:$K,MATCH(P147,referentes!$J:$J,0),2))","v":""},null,null,null,{"$f":"IF(T147=\"\",\"\",INDEX(referentes!D:E,MATCH(T147,referentes!D:D,0),2))","v":""},null,{"$f":"IF(V147=\"\",\"\",INDEX('Otras referencias'!AO:AP,MATCH(V147,'Otras referencias'!AO:AO,0),2))","v":""},null,{"$f":"IF(Z147=\"\",\"\",INDEX('Otras referencias'!H:I,MATCH(Z147,'Otras referencias'!I:I,0),1))","v":""},null,null,null,{"$f":"IF(AD147=\"\",\"\",INDEX('Otras referencias'!K:L,MATCH(AD147,'Otras referencias'!L:L,0),1))","v":""},null,"---",null,null,null,{"$f":"IF(V147=\"\",\"\",INDEX('Otras referencias'!AO:AQ,MATCH(V147,'Otras referencias'!AO:AO,0),3))","v":""},{"$f":"IF(SUMPRODUCT(--EXACT(K147&M147,$AJ$2:AJ146)),\"\",K147&M147)","v":""},{"$f":"IF(SUMPRODUCT(--EXACT(K147&M147,$AJ$2:AJ146)),\"\",MAX($AK$3:AK146)+1)","v":""}]
[1,{"$f":"IF(F148=\"\",\"\",IF(COUNTIF($F$3:F148, F148)>1, \"\", F148))","v":""},146,"",null,{"$f":"IF(I148=\"\",\"\",IF(K148=\"\",\"\", CONCATENATE(DIGITADOR!$M$1,G148,J148)))","v":""},null,null,"",{"$f":"IF(K148=\"\",\"\",INDEX('Otras referencias'!$AG:$AH,MATCH(K148,'Otras referencias'!$AG:$AG,0),2))","v":""},null,{"$f":"IF(J148=\"\",\"\",INDEX(referentes!$S:$W,MATCH(J148,referentes!$S:$S,0),1))","v":""},null,null,null,null,{"$f":"IF(P148=\"\",\"\",INDEX(referentes!$J:$K,MATCH(P148,referentes!$J:$J,0),2))","v":""},null,null,null,{"$f":"IF(T148=\"\",\"\",INDEX(referentes!D:E,MATCH(T148,referentes!D:D,0),2))","v":""},null,{"$f":"IF(V148=\"\",\"\",INDEX('Otras referencias'!AO:AP,MATCH(V148,'Otras referencias'!AO:AO,0),2))","v":""},null,{"$f":"IF(Z148=\"\",\"\",INDEX('Otras referencias'!H:I,MATCH(Z148,'Otras referencias'!I:I,0),1))","v":""},null,null,null,{"$f":"IF(AD148=\"\",\"\",INDEX('Otras referencias'!K:L,MATCH(AD148,'Otras referencias'!L:L,0),1))","v":""},null,"---",null,null,null,{"$f":"IF(V148=\"\",\"\",INDEX('Otras referencias'!AO:AQ,MATCH(V148,'Otras referencias'!AO:AO,0),3))","v":""},{"$f":"IF(SUMPRODUCT(--EXACT(K148&M148,$AJ$2:AJ147)),\"\",K148&M148)","v":""},{"$f":"IF(SUMPRODUCT(--EXACT(K148&M148,$AJ$2:AJ147)),\"\",MAX($AK$3:AK147)+1)","v":""}]
[1,{"$f":"IF(F149=\"\",\"\",IF(COUNTIF($F$3:F149, F149)>1, \"\", F149))","v":""},147,"",null,{"$f":"IF(I149=\"\",\"\",IF(K149=\"\",\"\", CONCATENATE(DIGITADOR!$M$1,G149,J149)))","v":""},null,null,"",{"$f":"IF(K149=\"\",\"\",INDEX('Otras referencias'!$AG:$AH,MATCH(K149,'Otras referencias'!$AG:$AG,0),2))","v":""},null,{"$f":"IF(J149=\"\",\"\",INDEX(referentes!$S:$W,MATCH(J149,referentes!$S:$S,0),1))","v":""},null,null,null,null,{"$f":"IF(P149=\"\",\"\",INDEX(referentes!$J:$K,MATCH(P149,referentes!$J:$J,0),2))","v":""},null,null,null,{"$f":"IF(T149=\"\",\"\",INDEX(referentes!D:E,MATCH(T149,referentes!D:D,0),2))","v":""},null,{"$f":"IF(V149=\"\",\"\",INDEX('Otras referencias'!AO:AP,MATCH(V149,'Otras referencias'!AO:AO,0),2))","v":""},null,{"$f":"IF(Z149=\"\",\"\",INDEX('Otras referencias'!H:I,MATCH(Z149,'Otras referencias'!I:I,0),1))","v":""},null,null,null,{"$f":"IF(AD149=\"\",\"\",INDEX('Otras referencias'!K:L,MATCH(AD149,'Otras referencias'!L:L,0),1))","v":""},null,"---",null,null,null,{"$f":"IF(V149=\"\",\"\",INDEX('Otras referencias'!AO:AQ,MATCH(V149,'Otras referencias'!AO:AO,0),3))","v":""},{"$f":"IF(SUMPRODUCT(--EXACT(K149&M149,$AJ$2:AJ148)),\"\",K149&M149)","v":""},{"$f":"IF(SUMPRODUCT(--EXACT(K149&M149,$AJ$2:AJ148)),\"\",MAX($AK$3:AK148)+1)","v":""}]
[1,{"$f":"IF(F150=\"\",\"\",IF(COUNTIF($F$3:F150, F150)>1, \"\", F150))","v":""},148,"",null,{"$f":"IF(I150=\"\",\"\",IF(K150=\"\",\"\", CONCATENATE(DIGITADOR!$M$1,G150,J150)))","v":""},null,null,"",{"$f":"IF(K150=\"\",\"\",INDEX('Otras referencias'!$AG:$AH,MATCH(K150,'Otras referencias'!$AG:$AG,0),2))","v":""},null,{"$f":"IF(J150=\"\",\"\",INDEX(referentes!$S:$W,MATCH(J150,referentes!$S:$S,0),1))","v":""},null,null,null,null,{"$f":"IF(P150=\"\",\"\",INDEX(referentes!$J:$K,MATCH(P150,referentes!$J:$J,0),2))","v":""},null,null,null,{"$f":"IF(T150=\"\",\"\",INDEX(referentes!D:E,MATCH(T150,referentes!D:D,0),2))","v":""},null,{"$f":"IF(V150=\"\",\"\",INDEX('Otras referencias'!AO:AP,MATCH(V150,'Otras referencias'!AO:AO,0),2))","v":""},null,{"$f":"IF(Z150=\"\",\"\",INDEX('Otras referencias'!H:I,MATCH(Z150,'Otras referencias'!I:I,0),1))","v":""},null,null,null,{"$f":"IF(AD150=\"\",\"\",INDEX('Otras referencias'!K:L,MATCH(AD150,'Otras referencias'!L:L,0),1))","v":""},null,"---",null,null,null,{"$f":"IF(V150=\"\",\"\",INDEX('Otras referencias'!AO:AQ,MATCH(V150,'Otras referencias'!AO:AO,0),3))","v":""},{"$f":"IF(SUMPRODUCT(--EXACT(K150&M150,$AJ$2:AJ149)),\"\",K150&M150)","v":""},{"$f":"IF(SUMPRODUCT(--EXACT(K150&M150,$AJ$2:AJ149)),\"\",MAX($AK$3:AK149)+1)","v":""}]
[1,{"$f":"IF(F151=\"\",\"\",IF(COUNTIF($F$3:F151, F151)>1, \"\", F151))","v":""},149,"",null,{"$f":"IF(I151=\"\",\"\",IF(K151=\"\",\"\", CONCATENATE(DIGITADOR!$M$1,G151,J151)))","v":""},null,null,"",{"$f":"IF(K151=\"\",\"\",INDEX('Otras referencias'!$AG:$AH,MATCH(K151,'Otras referencias'!$AG:$AG,0),2))","v":""},null,{"$f":"IF(J151=\"\",\"\",INDEX(referentes!$S:$W,MATCH(J151,referentes!$S:$S,0),1))","v":""},null,null,null,null,{"$f":"IF(P151=\"\",\"\",INDEX(referentes!$J:$K,MATCH(P151,referentes!$J:$J,0),2))","v":""},null,null,null,{"$f":"IF(T151=\"\",\"\",INDEX(referentes!D:E,MATCH(T151,referentes!D:D,0),2))","v":""},null,{"$f":"IF(V151=\"\",\"\",INDEX('Otras referencias'!AO:AP,MATCH(V151,'Otras referencias'!AO:AO,0),2))","v":""},null,{"$f":"IF(Z151=\"\",\"\",INDEX('Otras referencias'!H:I,MATCH(Z151,'Otras referencias'!I:I,0),1))","v":""},null,null,null,{"$f":"IF(AD151=\"\",\"\",INDEX('Otras referencias'!K:L,MATCH(AD151,'Otras referencias'!L:L,0),1))","v":""},null,"---",null,null,null,{"$f":"IF(V151=\"\",\"\",INDEX('Otras referencias'!AO:AQ,MATCH(V151,'Otras referencias'!AO:AO,0),3))","v":""},{"$f":"IF(SUMPRODUCT(--EXACT(K151&M151,$AJ$2:AJ150)),\"\",K151&M151)","v":""},{"$f":"IF(SUMPRODUCT(--EXACT(K151&M151,$AJ$2:AJ150)),\"\",MAX($AK$3:AK150)+1)","v":""}]
[1,{"$f":"IF(F152=\"\",\"\",IF(COUNTIF($F$3:F152, F152)>1, \"\", F152))","v":""},150,"",null,{"$f":"IF(I152=\"\",\"\",IF(K152=\"\",\"\", CONCATENATE(DIGITADOR!$M$1,G152,J152)))","v":""},null,null,"",{"$f":"IF(K152=\"\",\"\",INDEX('Otras referencias'!$AG:$AH,MATCH(K152,'Otras referencias'!$AG:$AG,0),2))","v":""},null,{"$f":"IF(J152=\"\",\"\",INDEX(referentes!$S:$W,MATCH(J152,referentes!$S:$S,0),1))","v":""},null,null,null,null,{"$f":"IF(P152=\"\",\"\",INDEX(referentes!$J:$K,MATCH(P152,referentes!$J:$J,0),2))","v":""},null,null,null,{"$f":"IF(T152=\"\",\"\",INDEX(referentes!D:E,MATCH(T152,referentes!D:D,0),2))","v":""},null,{"$f":"IF(V152=\"\",\"\",INDEX('Otras referencias'!AO:AP,MATCH(V152,'Otras referencias'!AO:AO,0),2))","v":""},null,{"$f":"IF(Z152=\"\",\"\",INDEX('Otras referencias'!H:I,MATCH(Z152,'Otras referencias'!I:I,0),1))","v":""},null,null,null,{"$f":"IF(AD152=\"\",\"\",INDEX('Otras referencias'!K:L,MATCH(AD152,'Otras referencias'!L:L,0),1))","v":""},null,"---",null,null,null,{"$f":"IF(V152=\"\",\"\",INDEX('Otras referencias'!AO:AQ,MATCH(V152,'Otras referencias'!AO:AO,0),3))","v":""},{"$f":"IF(SUMPRODUCT(--EXACT(K152&M152,$AJ$2:AJ151)),\"\",K152&M152)","v":""},{"$f":"IF(SUMPRODUCT(--EXACT(K152&M152,$AJ$2:AJ151)),\"\",MAX($AK$3:AK151)+1)","v":""}]
[1,{"$f":"IF(F153=\"\",\"\",IF(COUNTIF($F$3:F153, F153)>1, \"\", F153))","v":""},151,"",null,{"$f":"IF(I153=\"\",\"\",IF(K153=\"\",\"\", CONCATENATE(DIGITADOR!$M$1,G153,J153)))","v":""},null,null,"",{"$f":"IF(K153=\"\",\"\",INDEX('Otras referencias'!$AG:$AH,MATCH(K153,'Otras referencias'!$AG:$AG,0),2))","v":""},null,{"$f":"IF(J153=\"\",\"\",INDEX(referentes!$S:$W,MATCH(J153,referentes!$S:$S,0),1))","v":""},null,null,null,null,{"$f":"IF(P153=\"\",\"\",INDEX(referentes!$J:$K,MATCH(P153,referentes!$J:$J,0),2))","v":""},null,null,null,{"$f":"IF(T153=\"\",\"\",INDEX(referentes!D:E,MATCH(T153,referentes!D:D,0),2))","v":""},null,{"$f":"IF(V153=\"\",\"\",INDEX('Otras referencias'!AO:AP,MATCH(V153,'Otras referencias'!AO:AO,0),2))","v":""},null,{"$f":"IF(Z153=\"\",\"\",INDEX('Otras referencias'!H:I,MATCH(Z153,'Otras referencias'!I:I,0),1))","v":""},null,null,null,{"$f":"IF(AD153=\"\",\"\",INDEX('Otras referencias'!K:L,MATCH(AD153,'Otras referencias'!L:L,0),1))","v":""},null,"---",null,null,null,{"$f":"IF(V153=\"\",\"\",INDEX('Otras referencias'!AO:AQ,MATCH(V153,'Otras referencias'!AO:AO,0),3))","v":""},{"$f":"IF(SUMPRODUCT(--EXACT(K153&M153,$AJ$2:AJ152)),\"\",K153&M153)","v":""},{"$f":"IF(SUMPRODUCT(--EXACT(K153&M153,$AJ$2:AJ152)),\"\",MAX($AK$3:AK152)+1)","v":""}]
[1,{"$f":"IF(F154=\"\",\"\",IF(COUNTIF($F$3:F154, F154)>1, \"\", F154))","v":""},152,"",null,{"$f":"IF(I154=\"\",\"\",IF(K154=\"\",\"\", CONCATENATE(DIGITADOR!$M$1,G154,J154)))","v":""},null,null,"",{"$f":"IF(K154=\"\",\"\",INDEX('Otras referencias'!$AG:$AH,MATCH(K154,'Otras referencias'!$AG:$AG,0),2))","v":""},null,{"$f":"IF(J154=\"\",\"\",INDEX(referentes!$S:$W,MATCH(J154,referentes!$S:$S,0),1))","v":""},null,null,null,null,{"$f":"IF(P154=\"\",\"\",INDEX(referentes!$J:$K,MATCH(P154,referentes!$J:$J,0),2))","v":""},null,null,null,{"$f":"IF(T154=\"\",\"\",INDEX(referentes!D:E,MATCH(T154,referentes!D:D,0),2))","v":""},null,{"$f":"IF(V154=\"\",\"\",INDEX('Otras referencias'!AO:AP,MATCH(V154,'Otras referencias'!AO:AO,0),2))","v":""},null,{"$f":"IF(Z154=\"\",\"\",INDEX('Otras referencias'!H:I,MATCH(Z154,'Otras referencias'!I:I,0),1))","v":""},null,null,null,{"$f":"IF(AD154=\"\",\"\",INDEX('Otras referencias'!K:L,MATCH(AD154,'Otras referencias'!L:L,0),1))","v":""},null,"---",null,null,null,{"$f":"IF(V154=\"\",\"\",INDEX('Otras referencias'!AO:AQ,MATCH(V154,'Otras referencias'!AO:AO,0),3))","v":""},{"$f":"IF(SUMPRODUCT(--EXACT(K154&M154,$AJ$2:AJ153)),\"\",K154&M154)","v":""},{"$f":"IF(SUMPRODUCT(--EXACT(K154&M154,$AJ$2:AJ153)),\"\",MAX($AK$3:AK153)+1)","v":""}]
[1,{"$f":"IF(F155=\"\",\"\",IF(COUNTIF($F$3:F155, F155)>1, \"\", F155))","v":""},153,"",null,{"$f":"IF(I155=\"\",\"\",IF(K155=\"\",\"\", CONCATENATE(DIGITADOR!$M$1,G155,J155)))","v":""},null,null,"",{"$f":"IF(K155=\"\",\"\",INDEX('Otras referencias'!$AG:$AH,MATCH(K155,'Otras referencias'!$AG:$AG,0),2))","v":""},null,{"$f":"IF(J155=\"\",\"\",INDEX(referentes!$S:$W,MATCH(J155,referentes!$S:$S,0),1))","v":""},null,null,null,null,{"$f":"IF(P155=\"\",\"\",INDEX(referentes!$J:$K,MATCH(P155,referentes!$J:$J,0),2))","v":""},null,null,null,{"$f":"IF(T155=\"\",\"\",INDEX(referentes!D:E,MATCH(T155,referentes!D:D,0),2))","v":""},null,{"$f":"IF(V155=\"\",\"\",INDEX('Otras referencias'!AO:AP,MATCH(V155,'Otras referencias'!AO:AO,0),2))","v":""},null,{"$f":"IF(Z155=\"\",\"\",INDEX('Otras referencias'!H:I,MATCH(Z155,'Otras referencias'!I:I,0),1))","v":""},null,null,null,{"$f":"IF(AD155=\"\",\"\",INDEX('Otras referencias'!K:L,MATCH(AD155,'Otras referencias'!L:L,0),1))","v":""},null,"---",null,null,null,{"$f":"IF(V155=\"\",\"\",INDEX('Otras referencias'!AO:AQ,MATCH(V155,'Otras referencias'!AO:AO,0),3))","v":""},{"$f":"IF(SUMPRODUCT(--EXACT(K155&M155,$AJ$2:AJ154)),\"\",K155&M155)","v":""},{"$f":"IF(SUMPRODUCT(--EXACT(K155&M155,$AJ$2:AJ154)),\"\",MAX($AK$3:AK154)+1)","v":""}]
[1,{"$f":"IF(F156=\"\",\"\",IF(COUNTIF($F$3:F156, F156)>1, \"\", F156))","v":""},154,"",null,{"$f":"IF(I156=\"\",\"\",IF(K156=\"\",\"\", CONCATENATE(DIGITADOR!$M$1,G156,J156)))","v":""},null,null,"",{"$f":"IF(K156=\"\",\"\",INDEX('Otras referencias'!$AG:$AH,MATCH(K156,'Otras referencias'!$AG:$AG,0),2))","v":""},null,{"$f":"IF(J156=\"\",\"\",INDEX(referentes!$S:$W,MATCH(J156,referentes!$S:$S,0),1))","v":""},null,null,null,null,{"$f":"IF(P156=\"\",\"\",INDEX(referentes!$J:$K,MATCH(P156,referentes!$J:$J,0),2))","v":""},null,null,null,{"$f":"IF(T156=\"\",\"\",INDEX(referentes!D:E,MATCH(T156,referentes!D:D,0),2))","v":""},null,{"$f":"IF(V156=\"\",\"\",INDEX('Otras referencias'!AO:AP,MATCH(V156,'Otras referencias'!AO:AO,0),2))","v":""},null,{"$f":"IF(Z156=\"\",\"\",INDEX('Otras referencias'!H:I,MATCH(Z156,'Otras referencias'!I:I,0),1))","v":""},null,null,null,{"$f":"IF(AD156=\"\",\"\",INDEX('Otras referencias'!K:L,MATCH(AD156,'Otras referencias'!L:L,0),1))","v":""},null,"---",null,null,null,{"$f":"IF(V156=\"\",\"\",INDEX('Otras referencias'!AO:AQ,MATCH(V156,'Otras referencias'!AO:AO,0),3))","v":""},{"$f":"IF(SUMPRODUCT(--EXACT(K156&M156,$AJ$2:AJ155)),\"\",K156&M156)","v":""},{"$f":"IF(SUMPRODUCT(--EXACT(K156&M156,$AJ$2:AJ155)),\"\",MAX($AK$3:AK155)+1)","v":""}]
[1,{"$f":"IF(F157=\"\",\"\",IF(COUNTIF($F$3:F157, F157)>1, \"\", F157))","v":""},155,"",null,{"$f":"IF(I157=\"\",\"\",IF(K157=\"\",\"\", CONCATENATE(DIGITADOR!$M$1,G157,J157)))","v":""},null,null,"",{"$f":"IF(K157=\"\",\"\",INDEX('Otras referencias'!$AG:$AH,MATCH(K157,'Otras referencias'!$AG:$AG,0),2))","v":""},null,{"$f":"IF(J157=\"\",\"\",INDEX(referentes!$S:$W,MATCH(J157,referentes!$S:$S,0),1))","v":""},null,null,null,null,{"$f":"IF(P157=\"\",\"\",INDEX(referentes!$J:$K,MATCH(P157,referentes!$J:$J,0),2))","v":""},null,null,null,{"$f":"IF(T157=\"\",\"\",INDEX(referentes!D:E,MATCH(T157,referentes!D:D,0),2))","v":""},null,{"$f":"IF(V157=\"\",\"\",INDEX('Otras referencias'!AO:AP,MATCH(V157,'Otras referencias'!AO:AO,0),2))","v":""},null,{"$f":"IF(Z157=\"\",\"\",INDEX('Otras referencias'!H:I,MATCH(Z157,'Otras referencias'!I:I,0),1))","v":""},null,null,null,{"$f":"IF(AD157=\"\",\"\",INDEX('Otras referencias'!K:L,MATCH(AD157,'Otras referencias'!L:L,0),1))","v":""},null,"---",null,null,null,{"$f":"IF(V157=\"\",\"\",INDEX('Otras referencias'!AO:AQ,MATCH(V157,'Otras referencias'!AO:AO,0),3))","v":""},{"$f":"IF(SUMPRODUCT(--EXACT(K157&M157,$AJ$2:AJ156)),\"\",K157&M157)","v":""},{"$f":"IF(SUMPRODUCT(--EXACT(K157&M157,$AJ$2:AJ156)),\"\",MAX($AK$3:AK156)+1)","v":""}]
[1,{"$f":"IF(F158=\"\",\"\",IF(COUNTIF($F$3:F158, F158)>1, \"\", F158))","v":""},156,"",null,{"$f":"IF(I158=\"\",\"\",IF(K158=\"\",\"\", CONCATENATE(DIGITADOR!$M$1,G158,J158)))","v":""},null,null,"",{"$f":"IF(K158=\"\",\"\",INDEX('Otras referencias'!$AG:$AH,MATCH(K158,'Otras referencias'!$AG:$AG,0),2))","v":""},null,{"$f":"IF(J158=\"\",\"\",INDEX(referentes!$S:$W,MATCH(J158,referentes!$S:$S,0),1))","v":""},null,null,null,null,{"$f":"IF(P158=\"\",\"\",INDEX(referentes!$J:$K,MATCH(P158,referentes!$J:$J,0),2))","v":""},null,null,null,{"$f":"IF(T158=\"\",\"\",INDEX(referentes!D:E,MATCH(T158,referentes!D:D,0),2))","v":""},null,{"$f":"IF(V158=\"\",\"\",INDEX('Otras referencias'!AO:AP,MATCH(V158,'Otras referencias'!AO:AO,0),2))","v":""},null,{"$f":"IF(Z158=\"\",\"\",INDEX('Otras referencias'!H:I,MATCH(Z158,'Otras referencias'!I:I,0),1))","v":""},null,null,null,{"$f":"IF(AD158=\"\",\"\",INDEX('Otras referencias'!K:L,MATCH(AD158,'Otras referencias'!L:L,0),1))","v":""},null,"---",null,null,null,{"$f":"IF(V158=\"\",\"\",INDEX('Otras referencias'!AO:AQ,MATCH(V158,'Otras referencias'!AO:AO,0),3))","v":""},{"$f":"IF(SUMPRODUCT(--EXACT(K158&M158,$AJ$2:AJ157)),\"\",K158&M158)","v":""},{"$f":"IF(SUMPRODUCT(--EXACT(K158&M158,$AJ$2:AJ157)),\"\",MAX($AK$3:AK157)+1)","v":""}]
[1,{"$f":"IF(F159=\"\",\"\",IF(COUNTIF($F$3:F159, F159)>1, \"\", F159))","v":""},157,"",null,{"$f":"IF(I159=\"\",\"\",IF(K159=\"\",\"\", CONCATENATE(DIGITADOR!$M$1,G159,J159)))","v":""},null,null,"",{"$f":"IF(K159=\"\",\"\",INDEX('Otras referencias'!$AG:$AH,MATCH(K159,'Otras referencias'!$AG:$AG,0),2))","v":""},null,{"$f":"IF(J159=\"\",\"\",INDEX(referentes!$S:$W,MATCH(J159,referentes!$S:$S,0),1))","v":""},null,null,null,null,{"$f":"IF(P159=\"\",\"\",INDEX(referentes!$J:$K,MATCH(P159,referentes!$J:$J,0),2))","v":""},null,null,null,{"$f":"IF(T159=\"\",\"\",INDEX(referentes!D:E,MATCH(T159,referentes!D:D,0),2))","v":""},null,{"$f":"IF(V159=\"\",\"\",INDEX('Otras referencias'!AO:AP,MATCH(V159,'Otras referencias'!AO:AO,0),2))","v":""},null,{"$f":"IF(Z159=\"\",\"\",INDEX('Otras referencias'!H:I,MATCH(Z159,'Otras referencias'!I:I,0),1))","v":""},null,null,null,{"$f":"IF(AD159=\"\",\"\",INDEX('Otras referencias'!K:L,MATCH(AD159,'Otras referencias'!L:L,0),1))","v":""},null,"---",null,null,null,{"$f":"IF(V159=\"\",\"\",INDEX('Otras referencias'!AO:AQ,MATCH(V159,'Otras referencias'!AO:AO,0),3))","v":""},{"$f":"IF(SUMPRODUCT(--EXACT(K159&M159,$AJ$2:AJ158)),\"\",K159&M159)","v":""},{"$f":"IF(SUMPRODUCT(--EXACT(K159&M159,$AJ$2:AJ158)),\"\",MAX($AK$3:AK158)+1)","v":""}]
[1,{"$f":"IF(F160=\"\",\"\",IF(COUNTIF($F$3:F160, F160)>1, \"\", F160))","v":""},158,"",null,{"$f":"IF(I160=\"\",\"\",IF(K160=\"\",\"\", CONCATENATE(DIGITADOR!$M$1,G160,J160)))","v":""},null,null,"",{"$f":"IF(K160=\"\",\"\",INDEX('Otras referencias'!$AG:$AH,MATCH(K160,'Otras referencias'!$AG:$AG,0),2))","v":""},null,{"$f":"IF(J160=\"\",\"\",INDEX(referentes!$S:$W,MATCH(J160,referentes!$S:$S,0),1))","v":""},null,null,null,null,{"$f":"IF(P160=\"\",\"\",INDEX(referentes!$J:$K,MATCH(P160,referentes!$J:$J,0),2))","v":""},null,null,null,{"$f":"IF(T160=\"\",\"\",INDEX(referentes!D:E,MATCH(T160,referentes!D:D,0),2))","v":""},null,{"$f":"IF(V160=\"\",\"\",INDEX('Otras referencias'!AO:AP,MATCH(V160,'Otras referencias'!AO:AO,0),2))","v":""},null,{"$f":"IF(Z160=\"\",\"\",INDEX('Otras referencias'!H:I,MATCH(Z160,'Otras referencias'!I:I,0),1))","v":""},null,null,null,{"$f":"IF(AD160=\"\",\"\",INDEX('Otras referencias'!K:L,MATCH(AD160,'Otras referencias'!L:L,0),1))","v":""},null,"---",null,null,null,{"$f":"IF(V160=\"\",\"\",INDEX('Otras referencias'!AO:AQ,MATCH(V160,'Otras referencias'!AO:AO,0),3))","v":""},{"$f":"IF(SUMPRODUCT(--EXACT(K160&M160,$AJ$2:AJ159)),\"\",K160&M160)","v":""},{"$f":"IF(SUMPRODUCT(--EXACT(K160&M160,$AJ$2:AJ159)),\"\",MAX($AK$3:AK159)+1)","v":""}]
[1,{"$f":"IF(F161=\"\",\"\",IF(COUNTIF($F$3:F161, F161)>1, \"\", F161))","v":""},159,"",null,{"$f":"IF(I161=\"\",\"\",IF(K161=\"\",\"\", CONCATENATE(DIGITADOR!$M$1,G161,J161)))","v":""},null,null,"",{"$f":"IF(K161=\"\",\"\",INDEX('Otras referencias'!$AG:$AH,MATCH(K161,'Otras referencias'!$AG:$AG,0),2))","v":""},null,{"$f":"IF(J161=\"\",\"\",INDEX(referentes!$S:$W,MATCH(J161,referentes!$S:$S,0),1))","v":""},null,null,null,null,{"$f":"IF(P161=\"\",\"\",INDEX(referentes!$J:$K,MATCH(P161,referentes!$J:$J,0),2))","v":""},null,null,null,{"$f":"IF(T161=\"\",\"\",INDEX(referentes!D:E,MATCH(T161,referentes!D:D,0),2))","v":""},null,{"$f":"IF(V161=\"\",\"\",INDEX('Otras referencias'!AO:AP,MATCH(V161,'Otras referencias'!AO:AO,0),2))","v":""},null,{"$f":"IF(Z161=\"\",\"\",INDEX('Otras referencias'!H:I,MATCH(Z161,'Otras referencias'!I:I,0),1))","v":""},null,null,null,{"$f":"IF(AD161=\"\",\"\",INDEX('Otras referencias'!K:L,MATCH(AD161,'Otras referencias'!L:L,0),1))","v":""},null,"---",null,null,null,{"$f":"IF(V161=\"\",\"\",INDEX('Otras referencias'!AO:AQ,MATCH(V161,'Otras referencias'!AO:AO,0),3))","v":""},{"$f":"IF(SUMPRODUCT(--EXACT(K161&M161,$AJ$2:AJ160)),\"\",K161&M161)","v":""},{"$f":"IF(SUMPRODUCT(--EXACT(K161&M161,$AJ$2:AJ160)),\"\",MAX($AK$3:AK160)+1)","v":""}]
[1,{"$f":"IF(F162=\"\",\"\",IF(COUNTIF($F$3:F162, F162)>1, \"\", F162))","v":""},160,"",null,{"$f":"IF(I162=\"\",\"\",IF(K162=\"\",\"\", CONCATENATE(DIGITADOR!$M$1,G162,J162)))","v":""},null,null,"",{"$f":"IF(K162=\"\",\"\",INDEX('Otras referencias'!$AG:$AH,MATCH(K162,'Otras referencias'!$AG:$AG,0),2))","v":""},null,{"$f":"IF(J162=\"\",\"\",INDEX(referentes!$S:$W,MATCH(J162,referentes!$S:$S,0),1))","v":""},null,null,null,null,{"$f":"IF(P162=\"\",\"\",INDEX(referentes!$J:$K,MATCH(P162,referentes!$J:$J,0),2))","v":""},null,null,null,{"$f":"IF(T162=\"\",\"\",INDEX(referentes!D:E,MATCH(T162,referentes!D:D,0),2))","v":""},null,{"$f":"IF(V162=\"\",\"\",INDEX('Otras referencias'!AO:AP,MATCH(V162,'Otras referencias'!AO:AO,0),2))","v":""},null,{"$f":"IF(Z162=\"\",\"\",INDEX('Otras referencias'!H:I,MATCH(Z162,'Otras referencias'!I:I,0),1))","v":""},null,null,null,{"$f":"IF(AD162=\"\",\"\",INDEX('Otras referencias'!K:L,MATCH(AD162,'Otras referencias'!L:L,0),1))","v":""},null,"---",null,null,null,{"$f":"IF(V162=\"\",\"\",INDEX('Otras referencias'!AO:AQ,MATCH(V162,'Otras referencias'!AO:AO,0),3))","v":""},{"$f":"IF(SUMPRODUCT(--EXACT(K162&M162,$AJ$2:AJ161)),\"\",K162&M162)","v":""},{"$f":"IF(SUMPRODUCT(--EXACT(K162&M162,$AJ$2:AJ161)),\"\",MAX($AK$3:AK161)+1)","v":""}]
[1,{"$f":"IF(F163=\"\",\"\",IF(COUNTIF($F$3:F163, F163)>1, \"\", F163))","v":""},161,"",null,{"$f":"IF(I163=\"\",\"\",IF(K163=\"\",\"\", CONCATENATE(DIGITADOR!$M$1,G163,J163)))","v":""},null,null,"",{"$f":"IF(K163=\"\",\"\",INDEX('Otras referencias'!$AG:$AH,MATCH(K163,'Otras referencias'!$AG:$AG,0),2))","v":""},null,{"$f":"IF(J163=\"\",\"\",INDEX(referentes!$S:$W,MATCH(J163,referentes!$S:$S,0),1))","v":""},null,null,null,null,{"$f":"IF(P163=\"\",\"\",INDEX(referentes!$J:$K,MATCH(P163,referentes!$J:$J,0),2))","v":""},null,null,null,{"$f":"IF(T163=\"\",\"\",INDEX(referentes!D:E,MATCH(T163,referentes!D:D,0),2))","v":""},null,{"$f":"IF(V163=\"\",\"\",INDEX('Otras referencias'!AO:AP,MATCH(V163,'Otras referencias'!AO:AO,0),2))","v":""},null,{"$f":"IF(Z163=\"\",\"\",INDEX('Otras referencias'!H:I,MATCH(Z163,'Otras referencias'!I:I,0),1))","v":""},null,null,null,{"$f":"IF(AD163=\"\",\"\",INDEX('Otras referencias'!K:L,MATCH(AD163,'Otras referencias'!L:L,0),1))","v":""},null,"---",null,null,null,{"$f":"IF(V163=\"\",\"\",INDEX('Otras referencias'!AO:AQ,MATCH(V163,'Otras referencias'!AO:AO,0),3))","v":""},{"$f":"IF(SUMPRODUCT(--EXACT(K163&M163,$AJ$2:AJ162)),\"\",K163&M163)","v":""},{"$f":"IF(SUMPRODUCT(--EXACT(K163&M163,$AJ$2:AJ162)),\"\",MAX($AK$3:AK162)+1)","v":""}]
[1,{"$f":"IF(F164=\"\",\"\",IF(COUNTIF($F$3:F164, F164)>1, \"\", F164))","v":""},162,"",null,{"$f":"IF(I164=\"\",\"\",IF(K164=\"\",\"\", CONCATENATE(DIGITADOR!$M$1,G164,J164)))","v":""},null,null,"",{"$f":"IF(K164=\"\",\"\",INDEX('Otras referencias'!$AG:$AH,MATCH(K164,'Otras referencias'!$AG:$AG,0),2))","v":""},null,{"$f":"IF(J164=\"\",\"\",INDEX(referentes!$S:$W,MATCH(J164,referentes!$S:$S,0),1))","v":""},null,null,null,null,{"$f":"IF(P164=\"\",\"\",INDEX(referentes!$J:$K,MATCH(P164,referentes!$J:$J,0),2))","v":""},null,null,null,{"$f":"IF(T164=\"\",\"\",INDEX(referentes!D:E,MATCH(T164,referentes!D:D,0),2))","v":""},null,{"$f":"IF(V164=\"\",\"\",INDEX('Otras referencias'!AO:AP,MATCH(V164,'Otras referencias'!AO:AO,0),2))","v":""},null,{"$f":"IF(Z164=\"\",\"\",INDEX('Otras referencias'!H:I,MATCH(Z164,'Otras referencias'!I:I,0),1))","v":""},null,null,null,{"$f":"IF(AD164=\"\",\"\",INDEX('Otras referencias'!K:L,MATCH(AD164,'Otras referencias'!L:L,0),1))","v":""},null,"---",null,null,null,{"$f":"IF(V164=\"\",\"\",INDEX('Otras referencias'!AO:AQ,MATCH(V164,'Otras referencias'!AO:AO,0),3))","v":""},{"$f":"IF(SUMPRODUCT(--EXACT(K164&M164,$AJ$2:AJ163)),\"\",K164&M164)","v":""},{"$f":"IF(SUMPRODUCT(--EXACT(K164&M164,$AJ$2:AJ163)),\"\",MAX($AK$3:AK163)+1)","v":""}]
[1,{"$f":"IF(F165=\"\",\"\",IF(COUNTIF($F$3:F165, F165)>1, \"\", F165))","v":""},163,"",null,{"$f":"IF(I165=\"\",\"\",IF(K165=\"\",\"\", CONCATENATE(DIGITADOR!$M$1,G165,J165)))","v":""},null,null,"",{"$f":"IF(K165=\"\",\"\",INDEX('Otras referencias'!$AG:$AH,MATCH(K165,'Otras referencias'!$AG:$AG,0),2))","v":""},null,{"$f":"IF(J165=\"\",\"\",INDEX(referentes!$S:$W,MATCH(J165,referentes!$S:$S,0),1))","v":""},null,null,null,null,{"$f":"IF(P165=\"\",\"\",INDEX(referentes!$J:$K,MATCH(P165,referentes!$J:$J,0),2))","v":""},null,null,null,{"$f":"IF(T165=\"\",\"\",INDEX(referentes!D:E,MATCH(T165,referentes!D:D,0),2))","v":""},null,{"$f":"IF(V165=\"\",\"\",INDEX('Otras referencias'!AO:AP,MATCH(V165,'Otras referencias'!AO:AO,0),2))","v":""},null,{"$f":"IF(Z165=\"\",\"\",INDEX('Otras referencias'!H:I,MATCH(Z165,'Otras referencias'!I:I,0),1))","v":""},null,null,null,{"$f":"IF(AD165=\"\",\"\",INDEX('Otras referencias'!K:L,MATCH(AD165,'Otras referencias'!L:L,0),1))","v":""},null,"---",null,null,null,{"$f":"IF(V165=\"\",\"\",INDEX('Otras referencias'!AO:AQ,MATCH(V165,'Otras referencias'!AO:AO,0),3))","v":""},{"$f":"IF(SUMPRODUCT(--EXACT(K165&M165,$AJ$2:AJ164)),\"\",K165&M165)","v":""},{"$f":"IF(SUMPRODUCT(--EXACT(K165&M165,$AJ$2:AJ164)),\"\",MAX($AK$3:AK164)+1)","v":""}]
[1,{"$f":"IF(F166=\"\",\"\",IF(COUNTIF($F$3:F166, F166)>1, \"\", F166))","v":""},164,"",null,{"$f":"IF(I166=\"\",\"\",IF(K166=\"\",\"\", CONCATENATE(DIGITADOR!$M$1,G166,J166)))","v":""},null,null,"",{"$f":"IF(K166=\"\",\"\",INDEX('Otras referencias'!$AG:$AH,MATCH(K166,'Otras referencias'!$AG:$AG,0),2))","v":""},null,{"$f":"IF(J166=\"\",\"\",INDEX(referentes!$S:$W,MATCH(J166,referentes!$S:$S,0),1))","v":""},null,null,null,null,{"$f":"IF(P166=\"\",\"\",INDEX(referentes!$J:$K,MATCH(P166,referentes!$J:$J,0),2))","v":""},null,null,null,{"$f":"IF(T166=\"\",\"\",INDEX(referentes!D:E,MATCH(T166,referentes!D:D,0),2))","v":""},null,{"$f":"IF(V166=\"\",\"\",INDEX('Otras referencias'!AO:AP,MATCH(V166,'Otras referencias'!AO:AO,0),2))","v":""},null,{"$f":"IF(Z166=\"\",\"\",INDEX('Otras referencias'!H:I,MATCH(Z166,'Otras referencias'!I:I,0),1))","v":""},null,null,null,{"$f":"IF(AD166=\"\",\"\",INDEX('Otras referencias'!K:L,MATCH(AD166,'Otras referencias'!L:L,0),1))","v":""},null,"---",null,null,null,{"$f":"IF(V166=\"\",\"\",INDEX('Otras referencias'!AO:AQ,MATCH(V166,'Otras referencias'!AO:AO,0),3))","v":""},{"$f":"IF(SUMPRODUCT(--EXACT(K166&M166,$AJ$2:AJ165)),\"\",K166&M166)","v":""},{"$f":"IF(SUMPRODUCT(--EXACT(K166&M166,$AJ$2:AJ165)),\"\",MAX($AK$3:AK165)+1)","v":""}]
[1,{"$f":"IF(F167=\"\",\"\",IF(COUNTIF($F$3:F167, F167)>1, \"\", F167))","v":""},165,"",null,{"$f":"IF(I167=\"\",\"\",IF(K167=\"\",\"\", CONCATENATE(DIGITADOR!$M$1,G167,J167)))","v":""},null,null,"",{"$f":"IF(K167=\"\",\"\",INDEX('Otras referencias'!$AG:$AH,MATCH(K167,'Otras referencias'!$AG:$AG,0),2))","v":""},null,{"$f":"IF(J167=\"\",\"\",INDEX(referentes!$S:$W,MATCH(J167,referentes!$S:$S,0),1))","v":""},null,null,null,null,{"$f":"IF(P167=\"\",\"\",INDEX(referentes!$J:$K,MATCH(P167,referentes!$J:$J,0),2))","v":""},null,null,null,{"$f":"IF(T167=\"\",\"\",INDEX(referentes!D:E,MATCH(T167,referentes!D:D,0),2))","v":""},null,{"$f":"IF(V167=\"\",\"\",INDEX('Otras referencias'!AO:AP,MATCH(V167,'Otras referencias'!AO:AO,0),2))","v":""},null,{"$f":"IF(Z167=\"\",\"\",INDEX('Otras referencias'!H:I,MATCH(Z167,'Otras referencias'!I:I,0),1))","v":""},null,null,null,{"$f":"IF(AD167=\"\",\"\",INDEX('Otras referencias'!K:L,MATCH(AD167,'Otras referencias'!L:L,0),1))","v":""},null,"---",null,null,null,{"$f":"IF(V167=\"\",\"\",INDEX('Otras referencias'!AO:AQ,MATCH(V167,'Otras referencias'!AO:AO,0),3))","v":""},{"$f":"IF(SUMPRODUCT(--EXACT(K167&M167,$AJ$2:AJ166)),\"\",K167&M167)","v":""},{"$f":"IF(SUMPRODUCT(--EXACT(K167&M167,$AJ$2:AJ166)),\"\",MAX($AK$3:AK166)+1)","v":""}]
[1,{"$f":"IF(F168=\"\",\"\",IF(COUNTIF($F$3:F168, F168)>1, \"\", F168))","v":""},166,"",null,{"$f":"IF(I168=\"\",\"\",IF(K168=\"\",\"\", CONCATENATE(DIGITADOR!$M$1,G168,J168)))","v":""},null,null,"",{"$f":"IF(K168=\"\",\"\",INDEX('Otras referencias'!$AG:$AH,MATCH(K168,'Otras referencias'!$AG:$AG,0),2))","v":""},null,{"$f":"IF(J168=\"\",\"\",INDEX(referentes!$S:$W,MATCH(J168,referentes!$S:$S,0),1))","v":""},null,null,null,null,{"$f":"IF(P168=\"\",\"\",INDEX(referentes!$J:$K,MATCH(P168,referentes!$J:$J,0),2))","v":""},null,null,null,{"$f":"IF(T168=\"\",\"\",INDEX(referentes!D:E,MATCH(T168,referentes!D:D,0),2))","v":""},null,{"$f":"IF(V168=\"\",\"\",INDEX('Otras referencias'!AO:AP,MATCH(V168,'Otras referencias'!AO:AO,0),2))","v":""},null,{"$f":"IF(Z168=\"\",\"\",INDEX('Otras referencias'!H:I,MATCH(Z168,'Otras referencias'!I:I,0),1))","v":""},null,null,null,{"$f":"IF(AD168=\"\",\"\",INDEX('Otras referencias'!K:L,MATCH(AD168,'Otras referencias'!L:L,0),1))","v":""},null,"---",null,null,null,{"$f":"IF(V168=\"\",\"\",INDEX('Otras referencias'!AO:AQ,MATCH(V168,'Otras referencias'!AO:AO,0),3))","v":""},{"$f":"IF(SUMPRODUCT(--EXACT(K168&M168,$AJ$2:AJ167)),\"\",K168&M168)","v":""},{"$f":"IF(SUMPRODUCT(--EXACT(K168&M168,$AJ$2:AJ167)),\"\",MAX($AK$3:AK167)+1)","v":""}]
[1,{"$f":"IF(F169=\"\",\"\",IF(COUNTIF($F$3:F169, F169)>1, \"\", F169))","v":""},167,"",null,{"$f":"IF(I169=\"\",\"\",IF(K169=\"\",\"\", CONCATENATE(DIGITADOR!$M$1,G169,J169)))","v":""},null,null,"",{"$f":"IF(K169=\"\",\"\",INDEX('Otras referencias'!$AG:$AH,MATCH(K169,'Otras referencias'!$AG:$AG,0),2))","v":""},null,{"$f":"IF(J169=\"\",\"\",INDEX(referentes!$S:$W,MATCH(J169,referentes!$S:$S,0),1))","v":""},null,null,null,null,{"$f":"IF(P169=\"\",\"\",INDEX(referentes!$J:$K,MATCH(P169,referentes!$J:$J,0),2))","v":""},null,null,null,{"$f":"IF(T169=\"\",\"\",INDEX(referentes!D:E,MATCH(T169,referentes!D:D,0),2))","v":""},null,{"$f":"IF(V169=\"\",\"\",INDEX('Otras referencias'!AO:AP,MATCH(V169,'Otras referencias'!AO:AO,0),2))","v":""},null,{"$f":"IF(Z169=\"\",\"\",INDEX('Otras referencias'!H:I,MATCH(Z169,'Otras referencias'!I:I,0),1))","v":""},null,null,null,{"$f":"IF(AD169=\"\",\"\",INDEX('Otras referencias'!K:L,MATCH(AD169,'Otras referencias'!L:L,0),1))","v":""},null,"---",null,null,null,{"$f":"IF(V169=\"\",\"\",INDEX('Otras referencias'!AO:AQ,MATCH(V169,'Otras referencias'!AO:AO,0),3))","v":""},{"$f":"IF(SUMPRODUCT(--EXACT(K169&M169,$AJ$2:AJ168)),\"\",K169&M169)","v":""},{"$f":"IF(SUMPRODUCT(--EXACT(K169&M169,$AJ$2:AJ168)),\"\",MAX($AK$3:AK168)+1)","v":""}]
[1,{"$f":"IF(F170=\"\",\"\",IF(COUNTIF($F$3:F170, F170)>1, \"\", F170))","v":""},168,"",null,{"$f":"IF(I170=\"\",\"\",IF(K170=\"\",\"\", CONCATENATE(DIGITADOR!$M$1,G170,J170)))","v":""},null,null,"",{"$f":"IF(K170=\"\",\"\",INDEX('Otras referencias'!$AG:$AH,MATCH(K170,'Otras referencias'!$AG:$AG,0),2))","v":""},null,{"$f":"IF(J170=\"\",\"\",INDEX(referentes!$S:$W,MATCH(J170,referentes!$S:$S,0),1))","v":""},null,null,null,null,{"$f":"IF(P170=\"\",\"\",INDEX(referentes!$J:$K,MATCH(P170,referentes!$J:$J,0),2))","v":""},null,null,null,{"$f":"IF(T170=\"\",\"\",INDEX(referentes!D:E,MATCH(T170,referentes!D:D,0),2))","v":""},null,{"$f":"IF(V170=\"\",\"\",INDEX('Otras referencias'!AO:AP,MATCH(V170,'Otras referencias'!AO:AO,0),2))","v":""},null,{"$f":"IF(Z170=\"\",\"\",INDEX('Otras referencias'!H:I,MATCH(Z170,'Otras referencias'!I:I,0),1))","v":""},null,null,null,{"$f":"IF(AD170=\"\",\"\",INDEX('Otras referencias'!K:L,MATCH(AD170,'Otras referencias'!L:L,0),1))","v":""},null,"---",null,null,null,{"$f":"IF(V170=\"\",\"\",INDEX('Otras referencias'!AO:AQ,MATCH(V170,'Otras referencias'!AO:AO,0),3))","v":""},{"$f":"IF(SUMPRODUCT(--EXACT(K170&M170,$AJ$2:AJ169)),\"\",K170&M170)","v":""},{"$f":"IF(SUMPRODUCT(--EXACT(K170&M170,$AJ$2:AJ169)),\"\",MAX($AK$3:AK169)+1)","v":""}]
[1,{"$f":"IF(F171=\"\",\"\",IF(COUNTIF($F$3:F171, F171)>1, \"\", F171))","v":""},169,"",null,{"$f":"IF(I171=\"\",\"\",IF(K171=\"\",\"\", CONCATENATE(DIGITADOR!$M$1,G171,J171)))","v":""},null,null,"",{"$f":"IF(K171=\"\",\"\",INDEX('Otras referencias'!$AG:$AH,MATCH(K171,'Otras referencias'!$AG:$AG,0),2))","v":""},null,{"$f":"IF(J171=\"\",\"\",INDEX(referentes!$S:$W,MATCH(J171,referentes!$S:$S,0),1))","v":""},null,null,null,null,{"$f":"IF(P171=\"\",\"\",INDEX(referentes!$J:$K,MATCH(P171,referentes!$J:$J,0),2))","v":""},null,null,null,{"$f":"IF(T171=\"\",\"\",INDEX(referentes!D:E,MATCH(T171,referentes!D:D,0),2))","v":""},null,{"$f":"IF(V171=\"\",\"\",INDEX('Otras referencias'!AO:AP,MATCH(V171,'Otras referencias'!AO:AO,0),2))","v":""},null,{"$f":"IF(Z171=\"\",\"\",INDEX('Otras referencias'!H:I,MATCH(Z171,'Otras referencias'!I:I,0),1))","v":""},null,null,null,{"$f":"IF(AD171=\"\",\"\",INDEX('Otras referencias'!K:L,MATCH(AD171,'Otras referencias'!L:L,0),1))","v":""},null,"---",null,null,null,{"$f":"IF(V171=\"\",\"\",INDEX('Otras referencias'!AO:AQ,MATCH(V171,'Otras referencias'!AO:AO,0),3))","v":""},{"$f":"IF(SUMPRODUCT(--EXACT(K171&M171,$AJ$2:AJ170)),\"\",K171&M171)","v":""},{"$f":"IF(SUMPRODUCT(--EXACT(K171&M171,$AJ$2:AJ170)),\"\",MAX($AK$3:AK170)+1)","v":""}]
[1,{"$f":"IF(F172=\"\",\"\",IF(COUNTIF($F$3:F172, F172)>1, \"\", F172))","v":""},170,"",null,{"$f":"IF(I172=\"\",\"\",IF(K172=\"\",\"\", CONCATENATE(DIGITADOR!$M$1,G172,J172)))","v":""},null,null,"",{"$f":"IF(K172=\"\",\"\",INDEX('Otras referencias'!$AG:$AH,MATCH(K172,'Otras referencias'!$AG:$AG,0),2))","v":""},null,{"$f":"IF(J172=\"\",\"\",INDEX(referentes!$S:$W,MATCH(J172,referentes!$S:$S,0),1))","v":""},null,null,null,null,{"$f":"IF(P172=\"\",\"\",INDEX(referentes!$J:$K,MATCH(P172,referentes!$J:$J,0),2))","v":""},null,null,null,{"$f":"IF(T172=\"\",\"\",INDEX(referentes!D:E,MATCH(T172,referentes!D:D,0),2))","v":""},null,{"$f":"IF(V172=\"\",\"\",INDEX('Otras referencias'!AO:AP,MATCH(V172,'Otras referencias'!AO:AO,0),2))","v":""},null,{"$f":"IF(Z172=\"\",\"\",INDEX('Otras referencias'!H:I,MATCH(Z172,'Otras referencias'!I:I,0),1))","v":""},null,null,null,{"$f":"IF(AD172=\"\",\"\",INDEX('Otras referencias'!K:L,MATCH(AD172,'Otras referencias'!L:L,0),1))","v":""},null,"---",null,null,null,{"$f":"IF(V172=\"\",\"\",INDEX('Otras referencias'!AO:AQ,MATCH(V172,'Otras referencias'!AO:AO,0),3))","v":""},{"$f":"IF(SUMPRODUCT(--EXACT(K172&M172,$AJ$2:AJ171)),\"\",K172&M172)","v":""},{"$f":"IF(SUMPRODUCT(--EXACT(K172&M172,$AJ$2:AJ171)),\"\",MAX($AK$3:AK171)+1)","v":""}]
[1,{"$f":"IF(F173=\"\",\"\",IF(COUNTIF($F$3:F173, F173)>1, \"\", F173))","v":""},171,"",null,{"$f":"IF(I173=\"\",\"\",IF(K173=\"\",\"\", CONCATENATE(DIGITADOR!$M$1,G173,J173)))","v":""},null,null,"",{"$f":"IF(K173=\"\",\"\",INDEX('Otras referencias'!$AG:$AH,MATCH(K173,'Otras referencias'!$AG:$AG,0),2))","v":""},null,{"$f":"IF(J173=\"\",\"\",INDEX(referentes!$S:$W,MATCH(J173,referentes!$S:$S,0),1))","v":""},null,null,null,null,{"$f":"IF(P173=\"\",\"\",INDEX(referentes!$J:$K,MATCH(P173,referentes!$J:$J,0),2))","v":""},null,null,null,{"$f":"IF(T173=\"\",\"\",INDEX(referentes!D:E,MATCH(T173,referentes!D:D,0),2))","v":""},null,{"$f":"IF(V173=\"\",\"\",INDEX('Otras referencias'!AO:AP,MATCH(V173,'Otras referencias'!AO:AO,0),2))","v":""},null,{"$f":"IF(Z173=\"\",\"\",INDEX('Otras referencias'!H:I,MATCH(Z173,'Otras referencias'!I:I,0),1))","v":""},null,null,null,{"$f":"IF(AD173=\"\",\"\",INDEX('Otras referencias'!K:L,MATCH(AD173,'Otras referencias'!L:L,0),1))","v":""},null,"---",null,null,null,{"$f":"IF(V173=\"\",\"\",INDEX('Otras referencias'!AO:AQ,MATCH(V173,'Otras referencias'!AO:AO,0),3))","v":""},{"$f":"IF(SUMPRODUCT(--EXACT(K173&M173,$AJ$2:AJ172)),\"\",K173&M173)","v":""},{"$f":"IF(SUMPRODUCT(--EXACT(K173&M173,$AJ$2:AJ172)),\"\",MAX($AK$3:AK172)+1)","v":""}]
[1,{"$f":"IF(F174=\"\",\"\",IF(COUNTIF($F$3:F174, F174)>1, \"\", F174))","v":""},172,"",null,{"$f":"IF(I174=\"\",\"\",IF(K174=\"\",\"\", CONCATENATE(DIGITADOR!$M$1,G174,J174)))","v":""},null,null,"",{"$f":"IF(K174=\"\",\"\",INDEX('Otras referencias'!$AG:$AH,MATCH(K174,'Otras referencias'!$AG:$AG,0),2))","v":""},null,{"$f":"IF(J174=\"\",\"\",INDEX(referentes!$S:$W,MATCH(J174,referentes!$S:$S,0),1))","v":""},null,null,null,null,{"$f":"IF(P174=\"\",\"\",INDEX(referentes!$J:$K,MATCH(P174,referentes!$J:$J,0),2))","v":""},null,null,null,{"$f":"IF(T174=\"\",\"\",INDEX(referentes!D:E,MATCH(T174,referentes!D:D,0),2))","v":""},null,{"$f":"IF(V174=\"\",\"\",INDEX('Otras referencias'!AO:AP,MATCH(V174,'Otras referencias'!AO:AO,0),2))","v":""},null,{"$f":"IF(Z174=\"\",\"\",INDEX('Otras referencias'!H:I,MATCH(Z174,'Otras referencias'!I:I,0),1))","v":""},null,null,null,{"$f":"IF(AD174=\"\",\"\",INDEX('Otras referencias'!K:L,MATCH(AD174,'Otras referencias'!L:L,0),1))","v":""},null,"---",null,null,null,{"$f":"IF(V174=\"\",\"\",INDEX('Otras referencias'!AO:AQ,MATCH(V174,'Otras referencias'!AO:AO,0),3))","v":""},{"$f":"IF(SUMPRODUCT(--EXACT(K174&M174,$AJ$2:AJ173)),\"\",K174&M174)","v":""},{"$f":"IF(SUMPRODUCT(--EXACT(K174&M174,$AJ$2:AJ173)),\"\",MAX($AK$3:AK173)+1)","v":""}]
[1,{"$f":"IF(F175=\"\",\"\",IF(COUNTIF($F$3:F175, F175)>1, \"\", F175))","v":""},173,"",null,{"$f":"IF(I175=\"\",\"\",IF(K175=\"\",\"\", CONCATENATE(DIGITADOR!$M$1,G175,J175)))","v":""},null,null,"",{"$f":"IF(K175=\"\",\"\",INDEX('Otras referencias'!$AG:$AH,MATCH(K175,'Otras referencias'!$AG:$AG,0),2))","v":""},null,{"$f":"IF(J175=\"\",\"\",INDEX(referentes!$S:$W,MATCH(J175,referentes!$S:$S,0),1))","v":""},null,null,null,null,{"$f":"IF(P175=\"\",\"\",INDEX(referentes!$J:$K,MATCH(P175,referentes!$J:$J,0),2))","v":""},null,null,null,{"$f":"IF(T175=\"\",\"\",INDEX(referentes!D:E,MATCH(T175,referentes!D:D,0),2))","v":""},null,{"$f":"IF(V175=\"\",\"\",INDEX('Otras referencias'!AO:AP,MATCH(V175,'Otras referencias'!AO:AO,0),2))","v":""},null,{"$f":"IF(Z175=\"\",\"\",INDEX('Otras referencias'!H:I,MATCH(Z175,'Otras referencias'!I:I,0),1))","v":""},null,null,null,{"$f":"IF(AD175=\"\",\"\",INDEX('Otras referencias'!K:L,MATCH(AD175,'Otras referencias'!L:L,0),1))","v":""},null,"---",null,null,null,{"$f":"IF(V175=\"\",\"\",INDEX('Otras referencias'!AO:AQ,MATCH(V175,'Otras referencias'!AO:AO,0),3))","v":""},{"$f":"IF(SUMPRODUCT(--EXACT(K175&M175,$AJ$2:AJ174)),\"\",K175&M175)","v":""},{"$f":"IF(SUMPRODUCT(--EXACT(K175&M175,$AJ$2:AJ174)),\"\",MAX($AK$3:AK174)+1)","v":""}]
[1,{"$f":"IF(F176=\"\",\"\",IF(COUNTIF($F$3:F176, F176)>1, \"\", F176))","v":""},174,"",null,{"$f":"IF(I176=\"\",\"\",IF(K176=\"\",\"\", CONCATENATE(DIGITADOR!$M$1,G176,J176)))","v":""},null,null,"",{"$f":"IF(K176=\"\",\"\",INDEX('Otras referencias'!$AG:$AH,MATCH(K176,'Otras referencias'!$AG:$AG,0),2))","v":""},null,{"$f":"IF(J176=\"\",\"\",INDEX(referentes!$S:$W,MATCH(J176,referentes!$S:$S,0),1))","v":""},null,null,null,null,{"$f":"IF(P176=\"\",\"\",INDEX(referentes!$J:$K,MATCH(P176,referentes!$J:$J,0),2))","v":""},null,null,null,{"$f":"IF(T176=\"\",\"\",INDEX(referentes!D:E,MATCH(T176,referentes!D:D,0),2))","v":""},null,{"$f":"IF(V176=\"\",\"\",INDEX('Otras referencias'!AO:AP,MATCH(V176,'Otras referencias'!AO:AO,0),2))","v":""},null,{"$f":"IF(Z176=\"\",\"\",INDEX('Otras referencias'!H:I,MATCH(Z176,'Otras referencias'!I:I,0),1))","v":""},null,null,null,{"$f":"IF(AD176=\"\",\"\",INDEX('Otras referencias'!K:L,MATCH(AD176,'Otras referencias'!L:L,0),1))","v":""},null,"---",null,null,null,{"$f":"IF(V176=\"\",\"\",INDEX('Otras referencias'!AO:AQ,MATCH(V176,'Otras referencias'!AO:AO,0),3))","v":""},{"$f":"IF(SUMPRODUCT(--EXACT(K176&M176,$AJ$2:AJ175)),\"\",K176&M176)","v":""},{"$f":"IF(SUMPRODUCT(--EXACT(K176&M176,$AJ$2:AJ175)),\"\",MAX($AK$3:AK175)+1)","v":""}]
[1,{"$f":"IF(F177=\"\",\"\",IF(COUNTIF($F$3:F177, F177)>1, \"\", F177))","v":""},175,"",null,{"$f":"IF(I177=\"\",\"\",IF(K177=\"\",\"\", CONCATENATE(DIGITADOR!$M$1,G177,J177)))","v":""},null,null,"",{"$f":"IF(K177=\"\",\"\",INDEX('Otras referencias'!$AG:$AH,MATCH(K177,'Otras referencias'!$AG:$AG,0),2))","v":""},null,{"$f":"IF(J177=\"\",\"\",INDEX(referentes!$S:$W,MATCH(J177,referentes!$S:$S,0),1))","v":""},null,null,null,null,{"$f":"IF(P177=\"\",\"\",INDEX(referentes!$J:$K,MATCH(P177,referentes!$J:$J,0),2))","v":""},null,null,null,{"$f":"IF(T177=\"\",\"\",INDEX(referentes!D:E,MATCH(T177,referentes!D:D,0),2))","v":""},null,{"$f":"IF(V177=\"\",\"\",INDEX('Otras referencias'!AO:AP,MATCH(V177,'Otras referencias'!AO:AO,0),2))","v":""},null,{"$f":"IF(Z177=\"\",\"\",INDEX('Otras referencias'!H:I,MATCH(Z177,'Otras referencias'!I:I,0),1))","v":""},null,null,null,{"$f":"IF(AD177=\"\",\"\",INDEX('Otras referencias'!K:L,MATCH(AD177,'Otras referencias'!L:L,0),1))","v":""},null,"---",null,null,null,{"$f":"IF(V177=\"\",\"\",INDEX('Otras referencias'!AO:AQ,MATCH(V177,'Otras referencias'!AO:AO,0),3))","v":""},{"$f":"IF(SUMPRODUCT(--EXACT(K177&M177,$AJ$2:AJ176)),\"\",K177&M177)","v":""},{"$f":"IF(SUMPRODUCT(--EXACT(K177&M177,$AJ$2:AJ176)),\"\",MAX($AK$3:AK176)+1)","v":""}]
[1,{"$f":"IF(F178=\"\",\"\",IF(COUNTIF($F$3:F178, F178)>1, \"\", F178))","v":""},176,"",null,{"$f":"IF(I178=\"\",\"\",IF(K178=\"\",\"\", CONCATENATE(DIGITADOR!$M$1,G178,J178)))","v":""},null,null,"",{"$f":"IF(K178=\"\",\"\",INDEX('Otras referencias'!$AG:$AH,MATCH(K178,'Otras referencias'!$AG:$AG,0),2))","v":""},null,{"$f":"IF(J178=\"\",\"\",INDEX(referentes!$S:$W,MATCH(J178,referentes!$S:$S,0),1))","v":""},null,null,null,null,{"$f":"IF(P178=\"\",\"\",INDEX(referentes!$J:$K,MATCH(P178,referentes!$J:$J,0),2))","v":""},null,null,null,{"$f":"IF(T178=\"\",\"\",INDEX(referentes!D:E,MATCH(T178,referentes!D:D,0),2))","v":""},null,{"$f":"IF(V178=\"\",\"\",INDEX('Otras referencias'!AO:AP,MATCH(V178,'Otras referencias'!AO:AO,0),2))","v":""},null,{"$f":"IF(Z178=\"\",\"\",INDEX('Otras referencias'!H:I,MATCH(Z178,'Otras referencias'!I:I,0),1))","v":""},null,null,null,{"$f":"IF(AD178=\"\",\"\",INDEX('Otras referencias'!K:L,MATCH(AD178,'Otras referencias'!L:L,0),1))","v":""},null,"---",null,null,null,{"$f":"IF(V178=\"\",\"\",INDEX('Otras referencias'!AO:AQ,MATCH(V178,'Otras referencias'!AO:AO,0),3))","v":""},{"$f":"IF(SUMPRODUCT(--EXACT(K178&M178,$AJ$2:AJ177)),\"\",K178&M178)","v":""},{"$f":"IF(SUMPRODUCT(--EXACT(K178&M178,$AJ$2:AJ177)),\"\",MAX($AK$3:AK177)+1)","v":""}]
[1,{"$f":"IF(F179=\"\",\"\",IF(COUNTIF($F$3:F179, F179)>1, \"\", F179))","v":""},177,"",null,{"$f":"IF(I179=\"\",\"\",IF(K179=\"\",\"\", CONCATENATE(DIGITADOR!$M$1,G179,J179)))","v":""},null,null,"",{"$f":"IF(K179=\"\",\"\",INDEX('Otras referencias'!$AG:$AH,MATCH(K179,'Otras referencias'!$AG:$AG,0),2))","v":""},null,{"$f":"IF(J179=\"\",\"\",INDEX(referentes!$S:$W,MATCH(J179,referentes!$S:$S,0),1))","v":""},null,null,null,null,{"$f":"IF(P179=\"\",\"\",INDEX(referentes!$J:$K,MATCH(P179,referentes!$J:$J,0),2))","v":""},null,null,null,{"$f":"IF(T179=\"\",\"\",INDEX(referentes!D:E,MATCH(T179,referentes!D:D,0),2))","v":""},null,{"$f":"IF(V179=\"\",\"\",INDEX('Otras referencias'!AO:AP,MATCH(V179,'Otras referencias'!AO:AO,0),2))","v":""},null,{"$f":"IF(Z179=\"\",\"\",INDEX('Otras referencias'!H:I,MATCH(Z179,'Otras referencias'!I:I,0),1))","v":""},null,null,null,{"$f":"IF(AD179=\"\",\"\",INDEX('Otras referencias'!K:L,MATCH(AD179,'Otras referencias'!L:L,0),1))","v":""},null,"---",null,null,null,{"$f":"IF(V179=\"\",\"\",INDEX('Otras referencias'!AO:AQ,MATCH(V179,'Otras referencias'!AO:AO,0),3))","v":""},{"$f":"IF(SUMPRODUCT(--EXACT(K179&M179,$AJ$2:AJ178)),\"\",K179&M179)","v":""},{"$f":"IF(SUMPRODUCT(--EXACT(K179&M179,$AJ$2:AJ178)),\"\",MAX($AK$3:AK178)+1)","v":""}]
[1,{"$f":"IF(F180=\"\",\"\",IF(COUNTIF($F$3:F180, F180)>1, \"\", F180))","v":""},178,"",null,{"$f":"IF(I180=\"\",\"\",IF(K180=\"\",\"\", CONCATENATE(DIGITADOR!$M$1,G180,J180)))","v":""},null,null,"",{"$f":"IF(K180=\"\",\"\",INDEX('Otras referencias'!$AG:$AH,MATCH(K180,'Otras referencias'!$AG:$AG,0),2))","v":""},null,{"$f":"IF(J180=\"\",\"\",INDEX(referentes!$S:$W,MATCH(J180,referentes!$S:$S,0),1))","v":""},null,null,null,null,{"$f":"IF(P180=\"\",\"\",INDEX(referentes!$J:$K,MATCH(P180,referentes!$J:$J,0),2))","v":""},null,null,null,{"$f":"IF(T180=\"\",\"\",INDEX(referentes!D:E,MATCH(T180,referentes!D:D,0),2))","v":""},null,{"$f":"IF(V180=\"\",\"\",INDEX('Otras referencias'!AO:AP,MATCH(V180,'Otras referencias'!AO:AO,0),2))","v":""},null,{"$f":"IF(Z180=\"\",\"\",INDEX('Otras referencias'!H:I,MATCH(Z180,'Otras referencias'!I:I,0),1))","v":""},null,null,null,{"$f":"IF(AD180=\"\",\"\",INDEX('Otras referencias'!K:L,MATCH(AD180,'Otras referencias'!L:L,0),1))","v":""},null,"---",null,null,null,{"$f":"IF(V180=\"\",\"\",INDEX('Otras referencias'!AO:AQ,MATCH(V180,'Otras referencias'!AO:AO,0),3))","v":""},{"$f":"IF(SUMPRODUCT(--EXACT(K180&M180,$AJ$2:AJ179)),\"\",K180&M180)","v":""},{"$f":"IF(SUMPRODUCT(--EXACT(K180&M180,$AJ$2:AJ179)),\"\",MAX($AK$3:AK179)+1)","v":""}]
[1,{"$f":"IF(F181=\"\",\"\",IF(COUNTIF($F$3:F181, F181)>1, \"\", F181))","v":""},179,"",null,{"$f":"IF(I181=\"\",\"\",IF(K181=\"\",\"\", CONCATENATE(DIGITADOR!$M$1,G181,J181)))","v":""},null,null,"",{"$f":"IF(K181=\"\",\"\",INDEX('Otras referencias'!$AG:$AH,MATCH(K181,'Otras referencias'!$AG:$AG,0),2))","v":""},null,{"$f":"IF(J181=\"\",\"\",INDEX(referentes!$S:$W,MATCH(J181,referentes!$S:$S,0),1))","v":""},null,null,null,null,{"$f":"IF(P181=\"\",\"\",INDEX(referentes!$J:$K,MATCH(P181,referentes!$J:$J,0),2))","v":""},null,null,null,{"$f":"IF(T181=\"\",\"\",INDEX(referentes!D:E,MATCH(T181,referentes!D:D,0),2))","v":""},null,{"$f":"IF(V181=\"\",\"\",INDEX('Otras referencias'!AO:AP,MATCH(V181,'Otras referencias'!AO:AO,0),2))","v":""},null,{"$f":"IF(Z181=\"\",\"\",INDEX('Otras referencias'!H:I,MATCH(Z181,'Otras referencias'!I:I,0),1))","v":""},null,null,null,{"$f":"IF(AD181=\"\",\"\",INDEX('Otras referencias'!K:L,MATCH(AD181,'Otras referencias'!L:L,0),1))","v":""},null,"---",null,null,null,{"$f":"IF(V181=\"\",\"\",INDEX('Otras referencias'!AO:AQ,MATCH(V181,'Otras referencias'!AO:AO,0),3))","v":""},{"$f":"IF(SUMPRODUCT(--EXACT(K181&M181,$AJ$2:AJ180)),\"\",K181&M181)","v":""},{"$f":"IF(SUMPRODUCT(--EXACT(K181&M181,$AJ$2:AJ180)),\"\",MAX($AK$3:AK180)+1)","v":""}]
[1,{"$f":"IF(F182=\"\",\"\",IF(COUNTIF($F$3:F182, F182)>1, \"\", F182))","v":""},180,"",null,{"$f":"IF(I182=\"\",\"\",IF(K182=\"\",\"\", CONCATENATE(DIGITADOR!$M$1,G182,J182)))","v":""},null,null,"",{"$f":"IF(K182=\"\",\"\",INDEX('Otras referencias'!$AG:$AH,MATCH(K182,'Otras referencias'!$AG:$AG,0),2))","v":""},null,{"$f":"IF(J182=\"\",\"\",INDEX(referentes!$S:$W,MATCH(J182,referentes!$S:$S,0),1))","v":""},null,null,null,null,{"$f":"IF(P182=\"\",\"\",INDEX(referentes!$J:$K,MATCH(P182,referentes!$J:$J,0),2))","v":""},null,null,null,{"$f":"IF(T182=\"\",\"\",INDEX(referentes!D:E,MATCH(T182,referentes!D:D,0),2))","v":""},null,{"$f":"IF(V182=\"\",\"\",INDEX('Otras referencias'!AO:AP,MATCH(V182,'Otras referencias'!AO:AO,0),2))","v":""},null,{"$f":"IF(Z182=\"\",\"\",INDEX('Otras referencias'!H:I,MATCH(Z182,'Otras referencias'!I:I,0),1))","v":""},null,null,null,{"$f":"IF(AD182=\"\",\"\",INDEX('Otras referencias'!K:L,MATCH(AD182,'Otras referencias'!L:L,0),1))","v":""},null,"---",null,null,null,{"$f":"IF(V182=\"\",\"\",INDEX('Otras referencias'!AO:AQ,MATCH(V182,'Otras referencias'!AO:AO,0),3))","v":""},{"$f":"IF(SUMPRODUCT(--EXACT(K182&M182,$AJ$2:AJ181)),\"\",K182&M182)","v":""},{"$f":"IF(SUMPRODUCT(--EXACT(K182&M182,$AJ$2:AJ181)),\"\",MAX($AK$3:AK181)+1)","v":""}]
[1,{"$f":"IF(F183=\"\",\"\",IF(COUNTIF($F$3:F183, F183)>1, \"\", F183))","v":""},181,"",null,{"$f":"IF(I183=\"\",\"\",IF(K183=\"\",\"\", CONCATENATE(DIGITADOR!$M$1,G183,J183)))","v":""},null,null,"",{"$f":"IF(K183=\"\",\"\",INDEX('Otras referencias'!$AG:$AH,MATCH(K183,'Otras referencias'!$AG:$AG,0),2))","v":""},null,{"$f":"IF(J183=\"\",\"\",INDEX(referentes!$S:$W,MATCH(J183,referentes!$S:$S,0),1))","v":""},null,null,null,null,{"$f":"IF(P183=\"\",\"\",INDEX(referentes!$J:$K,MATCH(P183,referentes!$J:$J,0),2))","v":""},null,null,null,{"$f":"IF(T183=\"\",\"\",INDEX(referentes!D:E,MATCH(T183,referentes!D:D,0),2))","v":""},null,{"$f":"IF(V183=\"\",\"\",INDEX('Otras referencias'!AO:AP,MATCH(V183,'Otras referencias'!AO:AO,0),2))","v":""},null,{"$f":"IF(Z183=\"\",\"\",INDEX('Otras referencias'!H:I,MATCH(Z183,'Otras referencias'!I:I,0),1))","v":""},null,null,null,{"$f":"IF(AD183=\"\",\"\",INDEX('Otras referencias'!K:L,MATCH(AD183,'Otras referencias'!L:L,0),1))","v":""},null,"---",null,null,null,{"$f":"IF(V183=\"\",\"\",INDEX('Otras referencias'!AO:AQ,MATCH(V183,'Otras referencias'!AO:AO,0),3))","v":""},{"$f":"IF(SUMPRODUCT(--EXACT(K183&M183,$AJ$2:AJ182)),\"\",K183&M183)","v":""},{"$f":"IF(SUMPRODUCT(--EXACT(K183&M183,$AJ$2:AJ182)),\"\",MAX($AK$3:AK182)+1)","v":""}]
[1,{"$f":"IF(F184=\"\",\"\",IF(COUNTIF($F$3:F184, F184)>1, \"\", F184))","v":""},182,"",null,{"$f":"IF(I184=\"\",\"\",IF(K184=\"\",\"\", CONCATENATE(DIGITADOR!$M$1,G184,J184)))","v":""},null,null,"",{"$f":"IF(K184=\"\",\"\",INDEX('Otras referencias'!$AG:$AH,MATCH(K184,'Otras referencias'!$AG:$AG,0),2))","v":""},null,{"$f":"IF(J184=\"\",\"\",INDEX(referentes!$S:$W,MATCH(J184,referentes!$S:$S,0),1))","v":""},null,null,null,null,{"$f":"IF(P184=\"\",\"\",INDEX(referentes!$J:$K,MATCH(P184,referentes!$J:$J,0),2))","v":""},null,null,null,{"$f":"IF(T184=\"\",\"\",INDEX(referentes!D:E,MATCH(T184,referentes!D:D,0),2))","v":""},null,{"$f":"IF(V184=\"\",\"\",INDEX('Otras referencias'!AO:AP,MATCH(V184,'Otras referencias'!AO:AO,0),2))","v":""},null,{"$f":"IF(Z184=\"\",\"\",INDEX('Otras referencias'!H:I,MATCH(Z184,'Otras referencias'!I:I,0),1))","v":""},null,null,null,{"$f":"IF(AD184=\"\",\"\",INDEX('Otras referencias'!K:L,MATCH(AD184,'Otras referencias'!L:L,0),1))","v":""},null,"---",null,null,null,{"$f":"IF(V184=\"\",\"\",INDEX('Otras referencias'!AO:AQ,MATCH(V184,'Otras referencias'!AO:AO,0),3))","v":""},{"$f":"IF(SUMPRODUCT(--EXACT(K184&M184,$AJ$2:AJ183)),\"\",K184&M184)","v":""},{"$f":"IF(SUMPRODUCT(--EXACT(K184&M184,$AJ$2:AJ183)),\"\",MAX($AK$3:AK183)+1)","v":""}]
[1,{"$f":"IF(F185=\"\",\"\",IF(COUNTIF($F$3:F185, F185)>1, \"\", F185))","v":""},183,"",null,{"$f":"IF(I185=\"\",\"\",IF(K185=\"\",\"\", CONCATENATE(DIGITADOR!$M$1,G185,J185)))","v":""},null,null,"",{"$f":"IF(K185=\"\",\"\",INDEX('Otras referencias'!$AG:$AH,MATCH(K185,'Otras referencias'!$AG:$AG,0),2))","v":""},null,{"$f":"IF(J185=\"\",\"\",INDEX(referentes!$S:$W,MATCH(J185,referentes!$S:$S,0),1))","v":""},null,null,null,null,{"$f":"IF(P185=\"\",\"\",INDEX(referentes!$J:$K,MATCH(P185,referentes!$J:$J,0),2))","v":""},null,null,null,{"$f":"IF(T185=\"\",\"\",INDEX(referentes!D:E,MATCH(T185,referentes!D:D,0),2))","v":""},null,{"$f":"IF(V185=\"\",\"\",INDEX('Otras referencias'!AO:AP,MATCH(V185,'Otras referencias'!AO:AO,0),2))","v":""},null,{"$f":"IF(Z185=\"\",\"\",INDEX('Otras referencias'!H:I,MATCH(Z185,'Otras referencias'!I:I,0),1))","v":""},null,null,null,{"$f":"IF(AD185=\"\",\"\",INDEX('Otras referencias'!K:L,MATCH(AD185,'Otras referencias'!L:L,0),1))","v":""},null,"---",null,null,null,{"$f":"IF(V185=\"\",\"\",INDEX('Otras referencias'!AO:AQ,MATCH(V185,'Otras referencias'!AO:AO,0),3))","v":""},{"$f":"IF(SUMPRODUCT(--EXACT(K185&M185,$AJ$2:AJ184)),\"\",K185&M185)","v":""},{"$f":"IF(SUMPRODUCT(--EXACT(K185&M185,$AJ$2:AJ184)),\"\",MAX($AK$3:AK184)+1)","v":""}]
[1,{"$f":"IF(F186=\"\",\"\",IF(COUNTIF($F$3:F186, F186)>1, \"\", F186))","v":""},184,"",null,{"$f":"IF(I186=\"\",\"\",IF(K186=\"\",\"\", CONCATENATE(DIGITADOR!$M$1,G186,J186)))","v":""},null,null,"",{"$f":"IF(K186=\"\",\"\",INDEX('Otras referencias'!$AG:$AH,MATCH(K186,'Otras referencias'!$AG:$AG,0),2))","v":""},null,{"$f":"IF(J186=\"\",\"\",INDEX(referentes!$S:$W,MATCH(J186,referentes!$S:$S,0),1))","v":""},null,null,null,null,{"$f":"IF(P186=\"\",\"\",INDEX(referentes!$J:$K,MATCH(P186,referentes!$J:$J,0),2))","v":""},null,null,null,{"$f":"IF(T186=\"\",\"\",INDEX(referentes!D:E,MATCH(T186,referentes!D:D,0),2))","v":""},null,{"$f":"IF(V186=\"\",\"\",INDEX('Otras referencias'!AO:AP,MATCH(V186,'Otras referencias'!AO:AO,0),2))","v":""},null,{"$f":"IF(Z186=\"\",\"\",INDEX('Otras referencias'!H:I,MATCH(Z186,'Otras referencias'!I:I,0),1))","v":""},null,null,null,{"$f":"IF(AD186=\"\",\"\",INDEX('Otras referencias'!K:L,MATCH(AD186,'Otras referencias'!L:L,0),1))","v":""},null,"---",null,null,null,{"$f":"IF(V186=\"\",\"\",INDEX('Otras referencias'!AO:AQ,MATCH(V186,'Otras referencias'!AO:AO,0),3))","v":""},{"$f":"IF(SUMPRODUCT(--EXACT(K186&M186,$AJ$2:AJ185)),\"\",K186&M186)","v":""},{"$f":"IF(SUMPRODUCT(--EXACT(K186&M186,$AJ$2:AJ185)),\"\",MAX($AK$3:AK185)+1)","v":""}]
[1,{"$f":"IF(F187=\"\",\"\",IF(COUNTIF($F$3:F187, F187)>1, \"\", F187))","v":""},185,"",null,{"$f":"IF(I187=\"\",\"\",IF(K187=\"\",\"\", CONCATENATE(DIGITADOR!$M$1,G187,J187)))","v":""},null,null,"",{"$f":"IF(K187=\"\",\"\",INDEX('Otras referencias'!$AG:$AH,MATCH(K187,'Otras referencias'!$AG:$AG,0),2))","v":""},null,{"$f":"IF(J187=\"\",\"\",INDEX(referentes!$S:$W,MATCH(J187,referentes!$S:$S,0),1))","v":""},null,null,null,null,{"$f":"IF(P187=\"\",\"\",INDEX(referentes!$J:$K,MATCH(P187,referentes!$J:$J,0),2))","v":""},null,null,null,{"$f":"IF(T187=\"\",\"\",INDEX(referentes!D:E,MATCH(T187,referentes!D:D,0),2))","v":""},null,{"$f":"IF(V187=\"\",\"\",INDEX('Otras referencias'!AO:AP,MATCH(V187,'Otras referencias'!AO:AO,0),2))","v":""},null,{"$f":"IF(Z187=\"\",\"\",INDEX('Otras referencias'!H:I,MATCH(Z187,'Otras referencias'!I:I,0),1))","v":""},null,null,null,{"$f":"IF(AD187=\"\",\"\",INDEX('Otras referencias'!K:L,MATCH(AD187,'Otras referencias'!L:L,0),1))","v":""},null,"---",null,null,null,{"$f":"IF(V187=\"\",\"\",INDEX('Otras referencias'!AO:AQ,MATCH(V187,'Otras referencias'!AO:AO,0),3))","v":""},{"$f":"IF(SUMPRODUCT(--EXACT(K187&M187,$AJ$2:AJ186)),\"\",K187&M187)","v":""},{"$f":"IF(SUMPRODUCT(--EXACT(K187&M187,$AJ$2:AJ186)),\"\",MAX($AK$3:AK186)+1)","v":""}]
[1,{"$f":"IF(F188=\"\",\"\",IF(COUNTIF($F$3:F188, F188)>1, \"\", F188))","v":""},186,"",null,{"$f":"IF(I188=\"\",\"\",IF(K188=\"\",\"\", CONCATENATE(DIGITADOR!$M$1,G188,J188)))","v":""},null,null,"",{"$f":"IF(K188=\"\",\"\",INDEX('Otras referencias'!$AG:$AH,MATCH(K188,'Otras referencias'!$AG:$AG,0),2))","v":""},null,{"$f":"IF(J188=\"\",\"\",INDEX(referentes!$S:$W,MATCH(J188,referentes!$S:$S,0),1))","v":""},null,null,null,null,{"$f":"IF(P188=\"\",\"\",INDEX(referentes!$J:$K,MATCH(P188,referentes!$J:$J,0),2))","v":""},null,null,null,{"$f":"IF(T188=\"\",\"\",INDEX(referentes!D:E,MATCH(T188,referentes!D:D,0),2))","v":""},null,{"$f":"IF(V188=\"\",\"\",INDEX('Otras referencias'!AO:AP,MATCH(V188,'Otras referencias'!AO:AO,0),2))","v":""},null,{"$f":"IF(Z188=\"\",\"\",INDEX('Otras referencias'!H:I,MATCH(Z188,'Otras referencias'!I:I,0),1))","v":""},null,null,null,{"$f":"IF(AD188=\"\",\"\",INDEX('Otras referencias'!K:L,MATCH(AD188,'Otras referencias'!L:L,0),1))","v":""},null,"---",null,null,null,{"$f":"IF(V188=\"\",\"\",INDEX('Otras referencias'!AO:AQ,MATCH(V188,'Otras referencias'!AO:AO,0),3))","v":""},{"$f":"IF(SUMPRODUCT(--EXACT(K188&M188,$AJ$2:AJ187)),\"\",K188&M188)","v":""},{"$f":"IF(SUMPRODUCT(--EXACT(K188&M188,$AJ$2:AJ187)),\"\",MAX($AK$3:AK187)+1)","v":""}]
[1,{"$f":"IF(F189=\"\",\"\",IF(COUNTIF($F$3:F189, F189)>1, \"\", F189))","v":""},187,"",null,{"$f":"IF(I189=\"\",\"\",IF(K189=\"\",\"\", CONCATENATE(DIGITADOR!$M$1,G189,J189)))","v":""},null,null,"",{"$f":"IF(K189=\"\",\"\",INDEX('Otras referencias'!$AG:$AH,MATCH(K189,'Otras referencias'!$AG:$AG,0),2))","v":""},null,{"$f":"IF(J189=\"\",\"\",INDEX(referentes!$S:$W,MATCH(J189,referentes!$S:$S,0),1))","v":""},null,null,null,null,{"$f":"IF(P189=\"\",\"\",INDEX(referentes!$J:$K,MATCH(P189,referentes!$J:$J,0),2))","v":""},null,null,null,{"$f":"IF(T189=\"\",\"\",INDEX(referentes!D:E,MATCH(T189,referentes!D:D,0),2))","v":""},null,{"$f":"IF(V189=\"\",\"\",INDEX('Otras referencias'!AO:AP,MATCH(V189,'Otras referencias'!AO:AO,0),2))","v":""},null,{"$f":"IF(Z189=\"\",\"\",INDEX('Otras referencias'!H:I,MATCH(Z189,'Otras referencias'!I:I,0),1))","v":""},null,null,null,{"$f":"IF(AD189=\"\",\"\",INDEX('Otras referencias'!K:L,MATCH(AD189,'Otras referencias'!L:L,0),1))","v":""},null,"---",null,null,null,{"$f":"IF(V189=\"\",\"\",INDEX('Otras referencias'!AO:AQ,MATCH(V189,'Otras referencias'!AO:AO,0),3))","v":""},{"$f":"IF(SUMPRODUCT(--EXACT(K189&M189,$AJ$2:AJ188)),\"\",K189&M189)","v":""},{"$f":"IF(SUMPRODUCT(--EXACT(K189&M189,$AJ$2:AJ188)),\"\",MAX($AK$3:AK188)+1)","v":""}]
[1,{"$f":"IF(F190=\"\",\"\",IF(COUNTIF($F$3:F190, F190)>1, \"\", F190))","v":""},188,"",null,{"$f":"IF(I190=\"\",\"\",IF(K190=\"\",\"\", CONCATENATE(DIGITADOR!$M$1,G190,J190)))","v":""},null,null,"",{"$f":"IF(K190=\"\",\"\",INDEX('Otras referencias'!$AG:$AH,MATCH(K190,'Otras referencias'!$AG:$AG,0),2))","v":""},null,{"$f":"IF(J190=\"\",\"\",INDEX(referentes!$S:$W,MATCH(J190,referentes!$S:$S,0),1))","v":""},null,null,null,null,{"$f":"IF(P190=\"\",\"\",INDEX(referentes!$J:$K,MATCH(P190,referentes!$J:$J,0),2))","v":""},null,null,null,{"$f":"IF(T190=\"\",\"\",INDEX(referentes!D:E,MATCH(T190,referentes!D:D,0),2))","v":""},null,{"$f":"IF(V190=\"\",\"\",INDEX('Otras referencias'!AO:AP,MATCH(V190,'Otras referencias'!AO:AO,0),2))","v":""},null,{"$f":"IF(Z190=\"\",\"\",INDEX('Otras referencias'!H:I,MATCH(Z190,'Otras referencias'!I:I,0),1))","v":""},null,null,null,{"$f":"IF(AD190=\"\",\"\",INDEX('Otras referencias'!K:L,MATCH(AD190,'Otras referencias'!L:L,0),1))","v":""},null,"---",null,null,null,{"$f":"IF(V190=\"\",\"\",INDEX('Otras referencias'!AO:AQ,MATCH(V190,'Otras referencias'!AO:AO,0),3))","v":""},{"$f":"IF(SUMPRODUCT(--EXACT(K190&M190,$AJ$2:AJ189)),\"\",K190&M190)","v":""},{"$f":"IF(SUMPRODUCT(--EXACT(K190&M190,$AJ$2:AJ189)),\"\",MAX($AK$3:AK189)+1)","v":""}]
[1,{"$f":"IF(F191=\"\",\"\",IF(COUNTIF($F$3:F191, F191)>1, \"\", F191))","v":""},189,"",null,{"$f":"IF(I191=\"\",\"\",IF(K191=\"\",\"\", CONCATENATE(DIGITADOR!$M$1,G191,J191)))","v":""},null,null,"",{"$f":"IF(K191=\"\",\"\",INDEX('Otras referencias'!$AG:$AH,MATCH(K191,'Otras referencias'!$AG:$AG,0),2))","v":""},null,{"$f":"IF(J191=\"\",\"\",INDEX(referentes!$S:$W,MATCH(J191,referentes!$S:$S,0),1))","v":""},null,null,null,null,{"$f":"IF(P191=\"\",\"\",INDEX(referentes!$J:$K,MATCH(P191,referentes!$J:$J,0),2))","v":""},null,null,null,{"$f":"IF(T191=\"\",\"\",INDEX(referentes!D:E,MATCH(T191,referentes!D:D,0),2))","v":""},null,{"$f":"IF(V191=\"\",\"\",INDEX('Otras referencias'!AO:AP,MATCH(V191,'Otras referencias'!AO:AO,0),2))","v":""},null,{"$f":"IF(Z191=\"\",\"\",INDEX('Otras referencias'!H:I,MATCH(Z191,'Otras referencias'!I:I,0),1))","v":""},null,null,null,{"$f":"IF(AD191=\"\",\"\",INDEX('Otras referencias'!K:L,MATCH(AD191,'Otras referencias'!L:L,0),1))","v":""},null,"---",null,null,null,{"$f":"IF(V191=\"\",\"\",INDEX('Otras referencias'!AO:AQ,MATCH(V191,'Otras referencias'!AO:AO,0),3))","v":""},{"$f":"IF(SUMPRODUCT(--EXACT(K191&M191,$AJ$2:AJ190)),\"\",K191&M191)","v":""},{"$f":"IF(SUMPRODUCT(--EXACT(K191&M191,$AJ$2:AJ190)),\"\",MAX($AK$3:AK190)+1)","v":""}]
[1,{"$f":"IF(F192=\"\",\"\",IF(COUNTIF($F$3:F192, F192)>1, \"\", F192))","v":""},190,"",null,{"$f":"IF(I192=\"\",\"\",IF(K192=\"\",\"\", CONCATENATE(DIGITADOR!$M$1,G192,J192)))","v":""},null,null,"",{"$f":"IF(K192=\"\",\"\",INDEX('Otras referencias'!$AG:$AH,MATCH(K192,'Otras referencias'!$AG:$AG,0),2))","v":""},null,{"$f":"IF(J192=\"\",\"\",INDEX(referentes!$S:$W,MATCH(J192,referentes!$S:$S,0),1))","v":""},null,null,null,null,{"$f":"IF(P192=\"\",\"\",INDEX(referentes!$J:$K,MATCH(P192,referentes!$J:$J,0),2))","v":""},null,null,null,{"$f":"IF(T192=\"\",\"\",INDEX(referentes!D:E,MATCH(T192,referentes!D:D,0),2))","v":""},null,{"$f":"IF(V192=\"\",\"\",INDEX('Otras referencias'!AO:AP,MATCH(V192,'Otras referencias'!AO:AO,0),2))","v":""},null,{"$f":"IF(Z192=\"\",\"\",INDEX('Otras referencias'!H:I,MATCH(Z192,'Otras referencias'!I:I,0),1))","v":""},null,null,null,{"$f":"IF(AD192=\"\",\"\",INDEX('Otras referencias'!K:L,MATCH(AD192,'Otras referencias'!L:L,0),1))","v":""},null,"---",null,null,null,{"$f":"IF(V192=\"\",\"\",INDEX('Otras referencias'!AO:AQ,MATCH(V192,'Otras referencias'!AO:AO,0),3))","v":""},{"$f":"IF(SUMPRODUCT(--EXACT(K192&M192,$AJ$2:AJ191)),\"\",K192&M192)","v":""},{"$f":"IF(SUMPRODUCT(--EXACT(K192&M192,$AJ$2:AJ191)),\"\",MAX($AK$3:AK191)+1)","v":""}]
[1,{"$f":"IF(F193=\"\",\"\",IF(COUNTIF($F$3:F193, F193)>1, \"\", F193))","v":""},191,"",null,{"$f":"IF(I193=\"\",\"\",IF(K193=\"\",\"\", CONCATENATE(DIGITADOR!$M$1,G193,J193)))","v":""},null,null,"",{"$f":"IF(K193=\"\",\"\",INDEX('Otras referencias'!$AG:$AH,MATCH(K193,'Otras referencias'!$AG:$AG,0),2))","v":""},null,{"$f":"IF(J193=\"\",\"\",INDEX(referentes!$S:$W,MATCH(J193,referentes!$S:$S,0),1))","v":""},null,null,null,null,{"$f":"IF(P193=\"\",\"\",INDEX(referentes!$J:$K,MATCH(P193,referentes!$J:$J,0),2))","v":""},null,null,null,{"$f":"IF(T193=\"\",\"\",INDEX(referentes!D:E,MATCH(T193,referentes!D:D,0),2))","v":""},null,{"$f":"IF(V193=\"\",\"\",INDEX('Otras referencias'!AO:AP,MATCH(V193,'Otras referencias'!AO:AO,0),2))","v":""},null,{"$f":"IF(Z193=\"\",\"\",INDEX('Otras referencias'!H:I,MATCH(Z193,'Otras referencias'!I:I,0),1))","v":""},null,null,null,{"$f":"IF(AD193=\"\",\"\",INDEX('Otras referencias'!K:L,MATCH(AD193,'Otras referencias'!L:L,0),1))","v":""},null,"---",null,null,null,{"$f":"IF(V193=\"\",\"\",INDEX('Otras referencias'!AO:AQ,MATCH(V193,'Otras referencias'!AO:AO,0),3))","v":""},{"$f":"IF(SUMPRODUCT(--EXACT(K193&M193,$AJ$2:AJ192)),\"\",K193&M193)","v":""},{"$f":"IF(SUMPRODUCT(--EXACT(K193&M193,$AJ$2:AJ192)),\"\",MAX($AK$3:AK192)+1)","v":""}]
[1,{"$f":"IF(F194=\"\",\"\",IF(COUNTIF($F$3:F194, F194)>1, \"\", F194))","v":""},192,"",null,{"$f":"IF(I194=\"\",\"\",IF(K194=\"\",\"\", CONCATENATE(DIGITADOR!$M$1,G194,J194)))","v":""},null,null,"",{"$f":"IF(K194=\"\",\"\",INDEX('Otras referencias'!$AG:$AH,MATCH(K194,'Otras referencias'!$AG:$AG,0),2))","v":""},null,{"$f":"IF(J194=\"\",\"\",INDEX(referentes!$S:$W,MATCH(J194,referentes!$S:$S,0),1))","v":""},null,null,null,null,{"$f":"IF(P194=\"\",\"\",INDEX(referentes!$J:$K,MATCH(P194,referentes!$J:$J,0),2))","v":""},null,null,null,{"$f":"IF(T194=\"\",\"\",INDEX(referentes!D:E,MATCH(T194,referentes!D:D,0),2))","v":""},null,{"$f":"IF(V194=\"\",\"\",INDEX('Otras referencias'!AO:AP,MATCH(V194,'Otras referencias'!AO:AO,0),2))","v":""},null,{"$f":"IF(Z194=\"\",\"\",INDEX('Otras referencias'!H:I,MATCH(Z194,'Otras referencias'!I:I,0),1))","v":""},null,null,null,{"$f":"IF(AD194=\"\",\"\",INDEX('Otras referencias'!K:L,MATCH(AD194,'Otras referencias'!L:L,0),1))","v":""},null,"---",null,null,null,{"$f":"IF(V194=\"\",\"\",INDEX('Otras referencias'!AO:AQ,MATCH(V194,'Otras referencias'!AO:AO,0),3))","v":""},{"$f":"IF(SUMPRODUCT(--EXACT(K194&M194,$AJ$2:AJ193)),\"\",K194&M194)","v":""},{"$f":"IF(SUMPRODUCT(--EXACT(K194&M194,$AJ$2:AJ193)),\"\",MAX($AK$3:AK193)+1)","v":""}]
[1,{"$f":"IF(F195=\"\",\"\",IF(COUNTIF($F$3:F195, F195)>1, \"\", F195))","v":""},193,"",null,{"$f":"IF(I195=\"\",\"\",IF(K195=\"\",\"\", CONCATENATE(DIGITADOR!$M$1,G195,J195)))","v":""},null,null,{"$f":"IF(G195<>\"\",G195+H195,\"\")","v":""},{"$f":"IF(K195=\"\",\"\",INDEX('Otras referencias'!$AG:$AH,MATCH(K195,'Otras referencias'!$AG:$AG,0),2))","v":""},null,{"$f":"IF(J195=\"\",\"\",INDEX(referentes!$S:$W,MATCH(J195,referentes!$S:$S,0),1))","v":""},null,null,null,null,{"$f":"IF(P195=\"\",\"\",INDEX(referentes!$J:$K,MATCH(P195,referentes!$J:$J,0),2))","v":""},null,null,null,{"$f":"IF(T195=\"\",\"\",INDEX(referentes!D:E,MATCH(T195,referentes!D:D,0),2))","v":""},null,{"$f":"IF(V195=\"\",\"\",INDEX('Otras referencias'!AO:AP,MATCH(V195,'Otras referencias'!AO:AO,0),2))","v":""},null,{"$f":"IF(Z195=\"\",\"\",INDEX('Otras referencias'!H:I,MATCH(Z195,'Otras referencias'!I:I,0),1))","v":""},null,null,null,{"$f":"IF(AD195=\"\",\"\",INDEX('Otras referencias'!K:L,MATCH(AD195,'Otras referencias'!L:L,0),1))","v":""},null,"---",null,null,null,{"$f":"IF(V195=\"\",\"\",INDEX('Otras referencias'!AO:AQ,MATCH(V195,'Otras referencias'!AO:AO,0),3))","v":""},{"$f":"IF(SUMPRODUCT(--EXACT(K195&M195,$AJ$2:AJ194)),\"\",K195&M195)","v":""},{"$f":"IF(SUMPRODUCT(--EXACT(K195&M195,$AJ$2:AJ194)),\"\",MAX($AK$3:AK194)+1)","v":""}]
[1,{"$f":"IF(F196=\"\",\"\",IF(COUNTIF($F$3:F196, F196)>1, \"\", F196))","v":""},194,{"$f":"IF(F196=\"\",\"\",CONCATENATE(F196,ROW()-2))","v":""},null,{"$f":"IF(I196=\"\",\"\",IF(K196=\"\",\"\", CONCATENATE(DIGITADOR!$M$1,G196,J196)))","v":""},null,null,"",{"$f":"IF(K196=\"\",\"\",INDEX('Otras referencias'!$AG:$AH,MATCH(K196,'Otras referencias'!$AG:$AG,0),2))","v":""},null,{"$f":"IF(J196=\"\",\"\",INDEX(referentes!$S:$W,MATCH(J196,referentes!$S:$S,0),1))","v":""},null,null,null,null,{"$f":"IF(P196=\"\",\"\",INDEX(referentes!$J:$K,MATCH(P196,referentes!$J:$J,0),2))","v":""},null,null,null,{"$f":"IF(T196=\"\",\"\",INDEX(referentes!D:E,MATCH(T196,referentes!D:D,0),2))","v":""},null,{"$f":"IF(V196=\"\",\"\",INDEX('Otras referencias'!AO:AP,MATCH(V196,'Otras referencias'!AO:AO,0),2))","v":""},null,{"$f":"IF(Z196=\"\",\"\",INDEX('Otras referencias'!H:I,MATCH(Z196,'Otras referencias'!I:I,0),1))","v":""},null,null,null,{"$f":"IF(AD196=\"\",\"\",INDEX('Otras referencias'!K:L,MATCH(AD196,'Otras referencias'!L:L,0),1))","v":""},null,{"$f":"K196&\"-\"&M196&\"-\"&P196&\"-\"&R196","v":"---"},null,null,null,{"$f":"IF(V196=\"\",\"\",INDEX('Otras referencias'!AO:AQ,MATCH(V196,'Otras referencias'!AO:AO,0),3))","v":""},{"$f":"IF(SUMPRODUCT(--EXACT(K196&M196,$AJ$2:AJ195)),\"\",K196&M196)","v":""},{"$f":"IF(SUMPRODUCT(--EXACT(K196&M196,$AJ$2:AJ195)),\"\",MAX($AK$3:AK195)+1)","v":""}]
[{"$f":"IF(L197=L196,A196,A196+1)","v":1},{"$f":"IF(F197=\"\",\"\",IF(COUNTIF($F$3:F197, F197)>1, \"\", F197))","v":""},195,"",null,{"$f":"IF(I197=\"\",\"\",IF(K197=\"\",\"\", CONCATENATE(DIGITADOR!$M$1,G197,J197)))","v":""},null,null,"",{"$f":"IF(K197=\"\",\"\",INDEX('Otras referencias'!$AG:$AH,MATCH(K197,'Otras referencias'!$AG:$AG,0),2))","v":""},null,{"$f":"IF(J197=\"\",\"\",INDEX(referentes!$S:$W,MATCH(J197,referentes!$S:$S,0),1))","v":""},null,null,null,null,{"$f":"IF(P197=\"\",\"\",INDEX(referentes!$J:$K,MATCH(P197,referentes!$J:$J,0),2))","v":""},null,null,null,{"$f":"IF(T197=\"\",\"\",INDEX(referentes!D:E,MATCH(T197,referentes!D:D,0),2))","v":""},null,{"$f":"IF(V197=\"\",\"\",INDEX('Otras referencias'!AO:AP,MATCH(V197,'Otras referencias'!AO:AO,0),2))","v":""},null,{"$f":"IF(Z197=\"\",\"\",INDEX('Otras referencias'!H:I,MATCH(Z197,'Otras referencias'!I:I,0),1))","v":""},null,null,null,{"$f":"IF(AD197=\"\",\"\",INDEX('Otras referencias'!K:L,MATCH(AD197,'Otras referencias'!L:L,0),1))","v":""},null,"---",null,null,null,{"$f":"IF(V197=\"\",\"\",INDEX('Otras referencias'!AO:AQ,MATCH(V197,'Otras referencias'!AO:AO,0),3))","v":""},{"$f":"IF(SUMPRODUCT(--EXACT(K197&M197,$AJ$2:AJ196)),\"\",K197&M197)","v":""},{"$f":"IF(SUMPRODUCT(--EXACT(K197&M197,$AJ$2:AJ196)),\"\",MAX($AK$3:AK196)+1)","v":""}]
[1,{"$f":"IF(F198=\"\",\"\",IF(COUNTIF($F$3:F198, F198)>1, \"\", F198))","v":""},196,"",null,{"$f":"IF(I198=\"\",\"\",IF(K198=\"\",\"\", CONCATENATE(DIGITADOR!$M$1,G198,J198)))","v":""},null,null,"",{"$f":"IF(K198=\"\",\"\",INDEX('Otras referencias'!$AG:$AH,MATCH(K198,'Otras referencias'!$AG:$AG,0),2))","v":""},null,{"$f":"IF(J198=\"\",\"\",INDEX(referentes!$S:$W,MATCH(J198,referentes!$S:$S,0),1))","v":""},null,null,null,null,{"$f":"IF(P198=\"\",\"\",INDEX(referentes!$J:$K,MATCH(P198,referentes!$J:$J,0),2))","v":""},null,null,null,{"$f":"IF(T198=\"\",\"\",INDEX(referentes!D:E,MATCH(T198,referentes!D:D,0),2))","v":""},null,{"$f":"IF(V198=\"\",\"\",INDEX('Otras referencias'!AO:AP,MATCH(V198,'Otras referencias'!AO:AO,0),2))","v":""},null,{"$f":"IF(Z198=\"\",\"\",INDEX('Otras referencias'!H:I,MATCH(Z198,'Otras referencias'!I:I,0),1))","v":""},null,null,null,{"$f":"IF(AD198=\"\",\"\",INDEX('Otras referencias'!K:L,MATCH(AD198,'Otras referencias'!L:L,0),1))","v":""},null,"---",null,null,null,{"$f":"IF(V198=\"\",\"\",INDEX('Otras referencias'!AO:AQ,MATCH(V198,'Otras referencias'!AO:AO,0),3))","v":""},{"$f":"IF(SUMPRODUCT(--EXACT(K198&M198,$AJ$2:AJ197)),\"\",K198&M198)","v":""},{"$f":"IF(SUMPRODUCT(--EXACT(K198&M198,$AJ$2:AJ197)),\"\",MAX($AK$3:AK197)+1)","v":""}]
[1,{"$f":"IF(F199=\"\",\"\",IF(COUNTIF($F$3:F199, F199)>1, \"\", F199))","v":""},197,"",null,{"$f":"IF(I199=\"\",\"\",IF(K199=\"\",\"\", CONCATENATE(DIGITADOR!$M$1,G199,J199)))","v":""},null,null,"",{"$f":"IF(K199=\"\",\"\",INDEX('Otras referencias'!$AG:$AH,MATCH(K199,'Otras referencias'!$AG:$AG,0),2))","v":""},null,{"$f":"IF(J199=\"\",\"\",INDEX(referentes!$S:$W,MATCH(J199,referentes!$S:$S,0),1))","v":""},null,null,null,null,{"$f":"IF(P199=\"\",\"\",INDEX(referentes!$J:$K,MATCH(P199,referentes!$J:$J,0),2))","v":""},null,null,null,{"$f":"IF(T199=\"\",\"\",INDEX(referentes!D:E,MATCH(T199,referentes!D:D,0),2))","v":""},null,{"$f":"IF(V199=\"\",\"\",INDEX('Otras referencias'!AO:AP,MATCH(V199,'Otras referencias'!AO:AO,0),2))","v":""},null,{"$f":"IF(Z199=\"\",\"\",INDEX('Otras referencias'!H:I,MATCH(Z199,'Otras referencias'!I:I,0),1))","v":""},null,null,null,{"$f":"IF(AD199=\"\",\"\",INDEX('Otras referencias'!K:L,MATCH(AD199,'Otras referencias'!L:L,0),1))","v":""},null,"---",null,null,null,{"$f":"IF(V199=\"\",\"\",INDEX('Otras referencias'!AO:AQ,MATCH(V199,'Otras referencias'!AO:AO,0),3))","v":""},{"$f":"IF(SUMPRODUCT(--EXACT(K199&M199,$AJ$2:AJ198)),\"\",K199&M199)","v":""},{"$f":"IF(SUMPRODUCT(--EXACT(K199&M199,$AJ$2:AJ198)),\"\",MAX($AK$3:AK198)+1)","v":""}]
[1,{"$f":"IF(F200=\"\",\"\",IF(COUNTIF($F$3:F200, F200)>1, \"\", F200))","v":""},198,"",null,{"$f":"IF(I200=\"\",\"\",IF(K200=\"\",\"\", CONCATENATE(DIGITADOR!$M$1,G200,J200)))","v":""},null,null,"",{"$f":"IF(K200=\"\",\"\",INDEX('Otras referencias'!$AG:$AH,MATCH(K200,'Otras referencias'!$AG:$AG,0),2))","v":""},null,{"$f":"IF(J200=\"\",\"\",INDEX(referentes!$S:$W,MATCH(J200,referentes!$S:$S,0),1))","v":""},null,null,null,null,{"$f":"IF(P200=\"\",\"\",INDEX(referentes!$J:$K,MATCH(P200,referentes!$J:$J,0),2))","v":""},null,null,null,{"$f":"IF(T200=\"\",\"\",INDEX(referentes!D:E,MATCH(T200,referentes!D:D,0),2))","v":""},null,{"$f":"IF(V200=\"\",\"\",INDEX('Otras referencias'!AO:AP,MATCH(V200,'Otras referencias'!AO:AO,0),2))","v":""},null,{"$f":"IF(Z200=\"\",\"\",INDEX('Otras referencias'!H:I,MATCH(Z200,'Otras referencias'!I:I,0),1))","v":""},null,null,null,{"$f":"IF(AD200=\"\",\"\",INDEX('Otras referencias'!K:L,MATCH(AD200,'Otras referencias'!L:L,0),1))","v":""},null,"---",null,null,null,{"$f":"IF(V200=\"\",\"\",INDEX('Otras referencias'!AO:AQ,MATCH(V200,'Otras referencias'!AO:AO,0),3))","v":""},{"$f":"IF(SUMPRODUCT(--EXACT(K200&M200,$AJ$2:AJ199)),\"\",K200&M200)","v":""},{"$f":"IF(SUMPRODUCT(--EXACT(K200&M200,$AJ$2:AJ199)),\"\",MAX($AK$3:AK199)+1)","v":""}]
[1,{"$f":"IF(F201=\"\",\"\",IF(COUNTIF($F$3:F201, F201)>1, \"\", F201))","v":""},199,"",null,{"$f":"IF(I201=\"\",\"\",IF(K201=\"\",\"\", CONCATENATE(DIGITADOR!$M$1,G201,J201)))","v":""},null,null,"",{"$f":"IF(K201=\"\",\"\",INDEX('Otras referencias'!$AG:$AH,MATCH(K201,'Otras referencias'!$AG:$AG,0),2))","v":""},null,{"$f":"IF(J201=\"\",\"\",INDEX(referentes!$S:$W,MATCH(J201,referentes!$S:$S,0),1))","v":""},null,null,null,null,{"$f":"IF(P201=\"\",\"\",INDEX(referentes!$J:$K,MATCH(P201,referentes!$J:$J,0),2))","v":""},null,null,null,{"$f":"IF(T201=\"\",\"\",INDEX(referentes!D:E,MATCH(T201,referentes!D:D,0),2))","v":""},null,{"$f":"IF(V201=\"\",\"\",INDEX('Otras referencias'!AO:AP,MATCH(V201,'Otras referencias'!AO:AO,0),2))","v":""},null,{"$f":"IF(Z201=\"\",\"\",INDEX('Otras referencias'!H:I,MATCH(Z201,'Otras referencias'!I:I,0),1))","v":""},null,null,null,{"$f":"IF(AD201=\"\",\"\",INDEX('Otras referencias'!K:L,MATCH(AD201,'Otras referencias'!L:L,0),1))","v":""},null,"---",null,null,null,{"$f":"IF(V201=\"\",\"\",INDEX('Otras referencias'!AO:AQ,MATCH(V201,'Otras referencias'!AO:AO,0),3))","v":""},{"$f":"IF(SUMPRODUCT(--EXACT(K201&M201,$AJ$2:AJ200)),\"\",K201&M201)","v":""},{"$f":"IF(SUMPRODUCT(--EXACT(K201&M201,$AJ$2:AJ200)),\"\",MAX($AK$3:AK200)+1)","v":""}]
[1,{"$f":"IF(F202=\"\",\"\",IF(COUNTIF($F$3:F202, F202)>1, \"\", F202))","v":""},200,"",null,{"$f":"IF(I202=\"\",\"\",IF(K202=\"\",\"\", CONCATENATE(DIGITADOR!$M$1,G202,J202)))","v":""},null,null,"",{"$f":"IF(K202=\"\",\"\",INDEX('Otras referencias'!$AG:$AH,MATCH(K202,'Otras referencias'!$AG:$AG,0),2))","v":""},null,{"$f":"IF(J202=\"\",\"\",INDEX(referentes!$S:$W,MATCH(J202,referentes!$S:$S,0),1))","v":""},null,null,null,null,{"$f":"IF(P202=\"\",\"\",INDEX(referentes!$J:$K,MATCH(P202,referentes!$J:$J,0),2))","v":""},null,null,null,{"$f":"IF(T202=\"\",\"\",INDEX(referentes!D:E,MATCH(T202,referentes!D:D,0),2))","v":""},null,{"$f":"IF(V202=\"\",\"\",INDEX('Otras referencias'!AO:AP,MATCH(V202,'Otras referencias'!AO:AO,0),2))","v":""},null,{"$f":"IF(Z202=\"\",\"\",INDEX('Otras referencias'!H:I,MATCH(Z202,'Otras referencias'!I:I,0),1))","v":""},null,null,null,{"$f":"IF(AD202=\"\",\"\",INDEX('Otras referencias'!K:L,MATCH(AD202,'Otras referencias'!L:L,0),1))","v":""},null,"---",null,null,null,{"$f":"IF(V202=\"\",\"\",INDEX('Otras referencias'!AO:AQ,MATCH(V202,'Otras referencias'!AO:AO,0),3))","v":""},{"$f":"IF(SUMPRODUCT(--EXACT(K202&M202,$AJ$2:AJ201)),\"\",K202&M202)","v":""},{"$f":"IF(SUMPRODUCT(--EXACT(K202&M202,$AJ$2:AJ201)),\"\",MAX($AK$3:AK201)+1)","v":""}]
[1,{"$f":"IF(F203=\"\",\"\",IF(COUNTIF($F$3:F203, F203)>1, \"\", F203))","v":""},201,"",null,{"$f":"IF(I203=\"\",\"\",IF(K203=\"\",\"\", CONCATENATE(DIGITADOR!$M$1,G203,J203)))","v":""},null,null,"",{"$f":"IF(K203=\"\",\"\",INDEX('Otras referencias'!$AG:$AH,MATCH(K203,'Otras referencias'!$AG:$AG,0),2))","v":""},null,{"$f":"IF(J203=\"\",\"\",INDEX(referentes!$S:$W,MATCH(J203,referentes!$S:$S,0),1))","v":""},null,null,null,null,{"$f":"IF(P203=\"\",\"\",INDEX(referentes!$J:$K,MATCH(P203,referentes!$J:$J,0),2))","v":""},null,null,null,{"$f":"IF(T203=\"\",\"\",INDEX(referentes!D:E,MATCH(T203,referentes!D:D,0),2))","v":""},null,{"$f":"IF(V203=\"\",\"\",INDEX('Otras referencias'!AO:AP,MATCH(V203,'Otras referencias'!AO:AO,0),2))","v":""},null,{"$f":"IF(Z203=\"\",\"\",INDEX('Otras referencias'!H:I,MATCH(Z203,'Otras referencias'!I:I,0),1))","v":""},null,null,null,{"$f":"IF(AD203=\"\",\"\",INDEX('Otras referencias'!K:L,MATCH(AD203,'Otras referencias'!L:L,0),1))","v":""},null,"---",null,null,null,{"$f":"IF(V203=\"\",\"\",INDEX('Otras referencias'!AO:AQ,MATCH(V203,'Otras referencias'!AO:AO,0),3))","v":""},{"$f":"IF(SUMPRODUCT(--EXACT(K203&M203,$AJ$2:AJ202)),\"\",K203&M203)","v":""},{"$f":"IF(SUMPRODUCT(--EXACT(K203&M203,$AJ$2:AJ202)),\"\",MAX($AK$3:AK202)+1)","v":""}]
[1,{"$f":"IF(F204=\"\",\"\",IF(COUNTIF($F$3:F204, F204)>1, \"\", F204))","v":""},202,"",null,{"$f":"IF(I204=\"\",\"\",IF(K204=\"\",\"\", CONCATENATE(DIGITADOR!$M$1,G204,J204)))","v":""},null,null,"",{"$f":"IF(K204=\"\",\"\",INDEX('Otras referencias'!$AG:$AH,MATCH(K204,'Otras referencias'!$AG:$AG,0),2))","v":""},null,{"$f":"IF(J204=\"\",\"\",INDEX(referentes!$S:$W,MATCH(J204,referentes!$S:$S,0),1))","v":""},null,null,null,null,{"$f":"IF(P204=\"\",\"\",INDEX(referentes!$J:$K,MATCH(P204,referentes!$J:$J,0),2))","v":""},null,null,null,{"$f":"IF(T204=\"\",\"\",INDEX(referentes!D:E,MATCH(T204,referentes!D:D,0),2))","v":""},null,{"$f":"IF(V204=\"\",\"\",INDEX('Otras referencias'!AO:AP,MATCH(V204,'Otras referencias'!AO:AO,0),2))","v":""},null,{"$f":"IF(Z204=\"\",\"\",INDEX('Otras referencias'!H:I,MATCH(Z204,'Otras referencias'!I:I,0),1))","v":""},null,null,null,{"$f":"IF(AD204=\"\",\"\",INDEX('Otras referencias'!K:L,MATCH(AD204,'Otras referencias'!L:L,0),1))","v":""},null,"---",null,null,null,{"$f":"IF(V204=\"\",\"\",INDEX('Otras referencias'!AO:AQ,MATCH(V204,'Otras referencias'!AO:AO,0),3))","v":""},{"$f":"IF(SUMPRODUCT(--EXACT(K204&M204,$AJ$2:AJ203)),\"\",K204&M204)","v":""},{"$f":"IF(SUMPRODUCT(--EXACT(K204&M204,$AJ$2:AJ203)),\"\",MAX($AK$3:AK203)+1)","v":""}]
[1,{"$f":"IF(F205=\"\",\"\",IF(COUNTIF($F$3:F205, F205)>1, \"\", F205))","v":""},203,"",null,{"$f":"IF(I205=\"\",\"\",IF(K205=\"\",\"\", CONCATENATE(DIGITADOR!$M$1,G205,J205)))","v":""},null,null,"",{"$f":"IF(K205=\"\",\"\",INDEX('Otras referencias'!$AG:$AH,MATCH(K205,'Otras referencias'!$AG:$AG,0),2))","v":""},null,{"$f":"IF(J205=\"\",\"\",INDEX(referentes!$S:$W,MATCH(J205,referentes!$S:$S,0),1))","v":""},null,null,null,null,{"$f":"IF(P205=\"\",\"\",INDEX(referentes!$J:$K,MATCH(P205,referentes!$J:$J,0),2))","v":""},null,null,null,{"$f":"IF(T205=\"\",\"\",INDEX(referentes!D:E,MATCH(T205,referentes!D:D,0),2))","v":""},null,{"$f":"IF(V205=\"\",\"\",INDEX('Otras referencias'!AO:AP,MATCH(V205,'Otras referencias'!AO:AO,0),2))","v":""},null,{"$f":"IF(Z205=\"\",\"\",INDEX('Otras referencias'!H:I,MATCH(Z205,'Otras referencias'!I:I,0),1))","v":""},null,null,null,{"$f":"IF(AD205=\"\",\"\",INDEX('Otras referencias'!K:L,MATCH(AD205,'Otras referencias'!L:L,0),1))","v":""},null,"---",null,null,null,{"$f":"IF(V205=\"\",\"\",INDEX('Otras referencias'!AO:AQ,MATCH(V205,'Otras referencias'!AO:AO,0),3))","v":""},{"$f":"IF(SUMPRODUCT(--EXACT(K205&M205,$AJ$2:AJ204)),\"\",K205&M205)","v":""},{"$f":"IF(SUMPRODUCT(--EXACT(K205&M205,$AJ$2:AJ204)),\"\",MAX($AK$3:AK204)+1)","v":""}]
[1,{"$f":"IF(F206=\"\",\"\",IF(COUNTIF($F$3:F206, F206)>1, \"\", F206))","v":""},204,"",null,{"$f":"IF(I206=\"\",\"\",IF(K206=\"\",\"\", CONCATENATE(DIGITADOR!$M$1,G206,J206)))","v":""},null,null,"",{"$f":"IF(K206=\"\",\"\",INDEX('Otras referencias'!$AG:$AH,MATCH(K206,'Otras referencias'!$AG:$AG,0),2))","v":""},null,{"$f":"IF(J206=\"\",\"\",INDEX(referentes!$S:$W,MATCH(J206,referentes!$S:$S,0),1))","v":""},null,null,null,null,{"$f":"IF(P206=\"\",\"\",INDEX(referentes!$J:$K,MATCH(P206,referentes!$J:$J,0),2))","v":""},null,null,null,{"$f":"IF(T206=\"\",\"\",INDEX(referentes!D:E,MATCH(T206,referentes!D:D,0),2))","v":""},null,{"$f":"IF(V206=\"\",\"\",INDEX('Otras referencias'!AO:AP,MATCH(V206,'Otras referencias'!AO:AO,0),2))","v":""},null,{"$f":"IF(Z206=\"\",\"\",INDEX('Otras referencias'!H:I,MATCH(Z206,'Otras referencias'!I:I,0),1))","v":""},null,null,null,{"$f":"IF(AD206=\"\",\"\",INDEX('Otras referencias'!K:L,MATCH(AD206,'Otras referencias'!L:L,0),1))","v":""},null,"---",null,null,null,{"$f":"IF(V206=\"\",\"\",INDEX('Otras referencias'!AO:AQ,MATCH(V206,'Otras referencias'!AO:AO,0),3))","v":""},{"$f":"IF(SUMPRODUCT(--EXACT(K206&M206,$AJ$2:AJ205)),\"\",K206&M206)","v":""},{"$f":"IF(SUMPRODUCT(--EXACT(K206&M206,$AJ$2:AJ205)),\"\",MAX($AK$3:AK205)+1)","v":""}]
[1,{"$f":"IF(F207=\"\",\"\",IF(COUNTIF($F$3:F207, F207)>1, \"\", F207))","v":""},205,"",null,{"$f":"IF(I207=\"\",\"\",IF(K207=\"\",\"\", CONCATENATE(DIGITADOR!$M$1,G207,J207)))","v":""},null,null,"",{"$f":"IF(K207=\"\",\"\",INDEX('Otras referencias'!$AG:$AH,MATCH(K207,'Otras referencias'!$AG:$AG,0),2))","v":""},null,{"$f":"IF(J207=\"\",\"\",INDEX(referentes!$S:$W,MATCH(J207,referentes!$S:$S,0),1))","v":""},null,null,null,null,{"$f":"IF(P207=\"\",\"\",INDEX(referentes!$J:$K,MATCH(P207,referentes!$J:$J,0),2))","v":""},null,null,null,{"$f":"IF(T207=\"\",\"\",INDEX(referentes!D:E,MATCH(T207,referentes!D:D,0),2))","v":""},null,{"$f":"IF(V207=\"\",\"\",INDEX('Otras referencias'!AO:AP,MATCH(V207,'Otras referencias'!AO:AO,0),2))","v":""},null,{"$f":"IF(Z207=\"\",\"\",INDEX('Otras referencias'!H:I,MATCH(Z207,'Otras referencias'!I:I,0),1))","v":""},null,null,null,{"$f":"IF(AD207=\"\",\"\",INDEX('Otras referencias'!K:L,MATCH(AD207,'Otras referencias'!L:L,0),1))","v":""},null,"---",null,null,null,{"$f":"IF(V207=\"\",\"\",INDEX('Otras referencias'!AO:AQ,MATCH(V207,'Otras referencias'!AO:AO,0),3))","v":""},{"$f":"IF(SUMPRODUCT(--EXACT(K207&M207,$AJ$2:AJ206)),\"\",K207&M207)","v":""},{"$f":"IF(SUMPRODUCT(--EXACT(K207&M207,$AJ$2:AJ206)),\"\",MAX($AK$3:AK206)+1)","v":""}]
[1,{"$f":"IF(F208=\"\",\"\",IF(COUNTIF($F$3:F208, F208)>1, \"\", F208))","v":""},206,"",null,{"$f":"IF(I208=\"\",\"\",IF(K208=\"\",\"\", CONCATENATE(DIGITADOR!$M$1,G208,J208)))","v":""},null,null,"",{"$f":"IF(K208=\"\",\"\",INDEX('Otras referencias'!$AG:$AH,MATCH(K208,'Otras referencias'!$AG:$AG,0),2))","v":""},null,{"$f":"IF(J208=\"\",\"\",INDEX(referentes!$S:$W,MATCH(J208,referentes!$S:$S,0),1))","v":""},null,null,null,null,{"$f":"IF(P208=\"\",\"\",INDEX(referentes!$J:$K,MATCH(P208,referentes!$J:$J,0),2))","v":""},null,null,null,{"$f":"IF(T208=\"\",\"\",INDEX(referentes!D:E,MATCH(T208,referentes!D:D,0),2))","v":""},null,{"$f":"IF(V208=\"\",\"\",INDEX('Otras referencias'!AO:AP,MATCH(V208,'Otras referencias'!AO:AO,0),2))","v":""},null,{"$f":"IF(Z208=\"\",\"\",INDEX('Otras referencias'!H:I,MATCH(Z208,'Otras referencias'!I:I,0),1))","v":""},null,null,null,{"$f":"IF(AD208=\"\",\"\",INDEX('Otras referencias'!K:L,MATCH(AD208,'Otras referencias'!L:L,0),1))","v":""},null,"---",null,null,null,{"$f":"IF(V208=\"\",\"\",INDEX('Otras referencias'!AO:AQ,MATCH(V208,'Otras referencias'!AO:AO,0),3))","v":""},{"$f":"IF(SUMPRODUCT(--EXACT(K208&M208,$AJ$2:AJ207)),\"\",K208&M208)","v":""},{"$f":"IF(SUMPRODUCT(--EXACT(K208&M208,$AJ$2:AJ207)),\"\",MAX($AK$3:AK207)+1)","v":""}]
[1,{"$f":"IF(F209=\"\",\"\",IF(COUNTIF($F$3:F209, F209)>1, \"\", F209))","v":""},207,"",null,{"$f":"IF(I209=\"\",\"\",IF(K209=\"\",\"\", CONCATENATE(DIGITADOR!$M$1,G209,J209)))","v":""},null,null,"",{"$f":"IF(K209=\"\",\"\",INDEX('Otras referencias'!$AG:$AH,MATCH(K209,'Otras referencias'!$AG:$AG,0),2))","v":""},null,{"$f":"IF(J209=\"\",\"\",INDEX(referentes!$S:$W,MATCH(J209,referentes!$S:$S,0),1))","v":""},null,null,null,null,{"$f":"IF(P209=\"\",\"\",INDEX(referentes!$J:$K,MATCH(P209,referentes!$J:$J,0),2))","v":""},null,null,null,{"$f":"IF(T209=\"\",\"\",INDEX(referentes!D:E,MATCH(T209,referentes!D:D,0),2))","v":""},null,{"$f":"IF(V209=\"\",\"\",INDEX('Otras referencias'!AO:AP,MATCH(V209,'Otras referencias'!AO:AO,0),2))","v":""},null,{"$f":"IF(Z209=\"\",\"\",INDEX('Otras referencias'!H:I,MATCH(Z209,'Otras referencias'!I:I,0),1))","v":""},null,null,null,{"$f":"IF(AD209=\"\",\"\",INDEX('Otras referencias'!K:L,MATCH(AD209,'Otras referencias'!L:L,0),1))","v":""},null,"---",null,null,null,{"$f":"IF(V209=\"\",\"\",INDEX('Otras referencias'!AO:AQ,MATCH(V209,'Otras referencias'!AO:AO,0),3))","v":""},{"$f":"IF(SUMPRODUCT(--EXACT(K209&M209,$AJ$2:AJ208)),\"\",K209&M209)","v":""},{"$f":"IF(SUMPRODUCT(--EXACT(K209&M209,$AJ$2:AJ208)),\"\",MAX($AK$3:AK208)+1)","v":""}]
[1,{"$f":"IF(F210=\"\",\"\",IF(COUNTIF($F$3:F210, F210)>1, \"\", F210))","v":""},208,"",null,{"$f":"IF(I210=\"\",\"\",IF(K210=\"\",\"\", CONCATENATE(DIGITADOR!$M$1,G210,J210)))","v":""},null,null,"",{"$f":"IF(K210=\"\",\"\",INDEX('Otras referencias'!$AG:$AH,MATCH(K210,'Otras referencias'!$AG:$AG,0),2))","v":""},null,{"$f":"IF(J210=\"\",\"\",INDEX(referentes!$S:$W,MATCH(J210,referentes!$S:$S,0),1))","v":""},null,null,null,null,{"$f":"IF(P210=\"\",\"\",INDEX(referentes!$J:$K,MATCH(P210,referentes!$J:$J,0),2))","v":""},null,null,null,{"$f":"IF(T210=\"\",\"\",INDEX(referentes!D:E,MATCH(T210,referentes!D:D,0),2))","v":""},null,{"$f":"IF(V210=\"\",\"\",INDEX('Otras referencias'!AO:AP,MATCH(V210,'Otras referencias'!AO:AO,0),2))","v":""},null,{"$f":"IF(Z210=\"\",\"\",INDEX('Otras referencias'!H:I,MATCH(Z210,'Otras referencias'!I:I,0),1))","v":""},null,null,null,{"$f":"IF(AD210=\"\",\"\",INDEX('Otras referencias'!K:L,MATCH(AD210,'Otras referencias'!L:L,0),1))","v":""},null,"---",null,null,null,{"$f":"IF(V210=\"\",\"\",INDEX('Otras referencias'!AO:AQ,MATCH(V210,'Otras referencias'!AO:AO,0),3))","v":""},{"$f":"IF(SUMPRODUCT(--EXACT(K210&M210,$AJ$2:AJ209)),\"\",K210&M210)","v":""},{"$f":"IF(SUMPRODUCT(--EXACT(K210&M210,$AJ$2:AJ209)),\"\",MAX($AK$3:AK209)+1)","v":""}]
[1,{"$f":"IF(F211=\"\",\"\",IF(COUNTIF($F$3:F211, F211)>1, \"\", F211))","v":""},209,"",null,{"$f":"IF(I211=\"\",\"\",IF(K211=\"\",\"\", CONCATENATE(DIGITADOR!$M$1,G211,J211)))","v":""},null,null,"",{"$f":"IF(K211=\"\",\"\",INDEX('Otras referencias'!$AG:$AH,MATCH(K211,'Otras referencias'!$AG:$AG,0),2))","v":""},null,{"$f":"IF(J211=\"\",\"\",INDEX(referentes!$S:$W,MATCH(J211,referentes!$S:$S,0),1))","v":""},null,null,null,null,{"$f":"IF(P211=\"\",\"\",INDEX(referentes!$J:$K,MATCH(P211,referentes!$J:$J,0),2))","v":""},null,null,null,{"$f":"IF(T211=\"\",\"\",INDEX(referentes!D:E,MATCH(T211,referentes!D:D,0),2))","v":""},null,{"$f":"IF(V211=\"\",\"\",INDEX('Otras referencias'!AO:AP,MATCH(V211,'Otras referencias'!AO:AO,0),2))","v":""},null,{"$f":"IF(Z211=\"\",\"\",INDEX('Otras referencias'!H:I,MATCH(Z211,'Otras referencias'!I:I,0),1))","v":""},null,null,null,{"$f":"IF(AD211=\"\",\"\",INDEX('Otras referencias'!K:L,MATCH(AD211,'Otras referencias'!L:L,0),1))","v":""},null,"---",null,null,null,{"$f":"IF(V211=\"\",\"\",INDEX('Otras referencias'!AO:AQ,MATCH(V211,'Otras referencias'!AO:AO,0),3))","v":""},{"$f":"IF(SUMPRODUCT(--EXACT(K211&M211,$AJ$2:AJ210)),\"\",K211&M211)","v":""},{"$f":"IF(SUMPRODUCT(--EXACT(K211&M211,$AJ$2:AJ210)),\"\",MAX($AK$3:AK210)+1)","v":""}]
[1,{"$f":"IF(F212=\"\",\"\",IF(COUNTIF($F$3:F212, F212)>1, \"\", F212))","v":""},210,"",null,{"$f":"IF(I212=\"\",\"\",IF(K212=\"\",\"\", CONCATENATE(DIGITADOR!$M$1,G212,J212)))","v":""},null,null,"",{"$f":"IF(K212=\"\",\"\",INDEX('Otras referencias'!$AG:$AH,MATCH(K212,'Otras referencias'!$AG:$AG,0),2))","v":""},null,{"$f":"IF(J212=\"\",\"\",INDEX(referentes!$S:$W,MATCH(J212,referentes!$S:$S,0),1))","v":""},null,null,null,null,{"$f":"IF(P212=\"\",\"\",INDEX(referentes!$J:$K,MATCH(P212,referentes!$J:$J,0),2))","v":""},null,null,null,{"$f":"IF(T212=\"\",\"\",INDEX(referentes!D:E,MATCH(T212,referentes!D:D,0),2))","v":""},null,{"$f":"IF(V212=\"\",\"\",INDEX('Otras referencias'!AO:AP,MATCH(V212,'Otras referencias'!AO:AO,0),2))","v":""},null,{"$f":"IF(Z212=\"\",\"\",INDEX('Otras referencias'!H:I,MATCH(Z212,'Otras referencias'!I:I,0),1))","v":""},null,null,null,{"$f":"IF(AD212=\"\",\"\",INDEX('Otras referencias'!K:L,MATCH(AD212,'Otras referencias'!L:L,0),1))","v":""},null,"---",null,null,null,{"$f":"IF(V212=\"\",\"\",INDEX('Otras referencias'!AO:AQ,MATCH(V212,'Otras referencias'!AO:AO,0),3))","v":""},{"$f":"IF(SUMPRODUCT(--EXACT(K212&M212,$AJ$2:AJ211)),\"\",K212&M212)","v":""},{"$f":"IF(SUMPRODUCT(--EXACT(K212&M212,$AJ$2:AJ211)),\"\",MAX($AK$3:AK211)+1)","v":""}]
[1,{"$f":"IF(F213=\"\",\"\",IF(COUNTIF($F$3:F213, F213)>1, \"\", F213))","v":""},211,"",null,{"$f":"IF(I213=\"\",\"\",IF(K213=\"\",\"\", CONCATENATE(DIGITADOR!$M$1,G213,J213)))","v":""},null,null,"",{"$f":"IF(K213=\"\",\"\",INDEX('Otras referencias'!$AG:$AH,MATCH(K213,'Otras referencias'!$AG:$AG,0),2))","v":""},null,{"$f":"IF(J213=\"\",\"\",INDEX(referentes!$S:$W,MATCH(J213,referentes!$S:$S,0),1))","v":""},null,null,null,null,{"$f":"IF(P213=\"\",\"\",INDEX(referentes!$J:$K,MATCH(P213,referentes!$J:$J,0),2))","v":""},null,null,null,{"$f":"IF(T213=\"\",\"\",INDEX(referentes!D:E,MATCH(T213,referentes!D:D,0),2))","v":""},null,{"$f":"IF(V213=\"\",\"\",INDEX('Otras referencias'!AO:AP,MATCH(V213,'Otras referencias'!AO:AO,0),2))","v":""},null,{"$f":"IF(Z213=\"\",\"\",INDEX('Otras referencias'!H:I,MATCH(Z213,'Otras referencias'!I:I,0),1))","v":""},null,null,null,{"$f":"IF(AD213=\"\",\"\",INDEX('Otras referencias'!K:L,MATCH(AD213,'Otras referencias'!L:L,0),1))","v":""},null,"---",null,null,null,{"$f":"IF(V213=\"\",\"\",INDEX('Otras referencias'!AO:AQ,MATCH(V213,'Otras referencias'!AO:AO,0),3))","v":""},{"$f":"IF(SUMPRODUCT(--EXACT(K213&M213,$AJ$2:AJ212)),\"\",K213&M213)","v":""},{"$f":"IF(SUMPRODUCT(--EXACT(K213&M213,$AJ$2:AJ212)),\"\",MAX($AK$3:AK212)+1)","v":""}]
[1,{"$f":"IF(F214=\"\",\"\",IF(COUNTIF($F$3:F214, F214)>1, \"\", F214))","v":""},212,"",null,{"$f":"IF(I214=\"\",\"\",IF(K214=\"\",\"\", CONCATENATE(DIGITADOR!$M$1,G214,J214)))","v":""},null,null,"",{"$f":"IF(K214=\"\",\"\",INDEX('Otras referencias'!$AG:$AH,MATCH(K214,'Otras referencias'!$AG:$AG,0),2))","v":""},null,{"$f":"IF(J214=\"\",\"\",INDEX(referentes!$S:$W,MATCH(J214,referentes!$S:$S,0),1))","v":""},null,null,null,null,{"$f":"IF(P214=\"\",\"\",INDEX(referentes!$J:$K,MATCH(P214,referentes!$J:$J,0),2))","v":""},null,null,null,{"$f":"IF(T214=\"\",\"\",INDEX(referentes!D:E,MATCH(T214,referentes!D:D,0),2))","v":""},null,{"$f":"IF(V214=\"\",\"\",INDEX('Otras referencias'!AO:AP,MATCH(V214,'Otras referencias'!AO:AO,0),2))","v":""},null,{"$f":"IF(Z214=\"\",\"\",INDEX('Otras referencias'!H:I,MATCH(Z214,'Otras referencias'!I:I,0),1))","v":""},null,null,null,{"$f":"IF(AD214=\"\",\"\",INDEX('Otras referencias'!K:L,MATCH(AD214,'Otras referencias'!L:L,0),1))","v":""},null,"---",null,null,null,{"$f":"IF(V214=\"\",\"\",INDEX('Otras referencias'!AO:AQ,MATCH(V214,'Otras referencias'!AO:AO,0),3))","v":""},{"$f":"IF(SUMPRODUCT(--EXACT(K214&M214,$AJ$2:AJ213)),\"\",K214&M214)","v":""},{"$f":"IF(SUMPRODUCT(--EXACT(K214&M214,$AJ$2:AJ213)),\"\",MAX($AK$3:AK213)+1)","v":""}]
[1,{"$f":"IF(F215=\"\",\"\",IF(COUNTIF($F$3:F215, F215)>1, \"\", F215))","v":""},213,"",null,{"$f":"IF(I215=\"\",\"\",IF(K215=\"\",\"\", CONCATENATE(DIGITADOR!$M$1,G215,J215)))","v":""},null,null,"",{"$f":"IF(K215=\"\",\"\",INDEX('Otras referencias'!$AG:$AH,MATCH(K215,'Otras referencias'!$AG:$AG,0),2))","v":""},null,{"$f":"IF(J215=\"\",\"\",INDEX(referentes!$S:$W,MATCH(J215,referentes!$S:$S,0),1))","v":""},null,null,null,null,{"$f":"IF(P215=\"\",\"\",INDEX(referentes!$J:$K,MATCH(P215,referentes!$J:$J,0),2))","v":""},null,null,null,{"$f":"IF(T215=\"\",\"\",INDEX(referentes!D:E,MATCH(T215,referentes!D:D,0),2))","v":""},null,{"$f":"IF(V215=\"\",\"\",INDEX('Otras referencias'!AO:AP,MATCH(V215,'Otras referencias'!AO:AO,0),2))","v":""},null,{"$f":"IF(Z215=\"\",\"\",INDEX('Otras referencias'!H:I,MATCH(Z215,'Otras referencias'!I:I,0),1))","v":""},null,null,null,{"$f":"IF(AD215=\"\",\"\",INDEX('Otras referencias'!K:L,MATCH(AD215,'Otras referencias'!L:L,0),1))","v":""},null,"---",null,null,null,{"$f":"IF(V215=\"\",\"\",INDEX('Otras referencias'!AO:AQ,MATCH(V215,'Otras referencias'!AO:AO,0),3))","v":""},{"$f":"IF(SUMPRODUCT(--EXACT(K215&M215,$AJ$2:AJ214)),\"\",K215&M215)","v":""},{"$f":"IF(SUMPRODUCT(--EXACT(K215&M215,$AJ$2:AJ214)),\"\",MAX($AK$3:AK214)+1)","v":""}]
[1,{"$f":"IF(F216=\"\",\"\",IF(COUNTIF($F$3:F216, F216)>1, \"\", F216))","v":""},214,"",null,{"$f":"IF(I216=\"\",\"\",IF(K216=\"\",\"\", CONCATENATE(DIGITADOR!$M$1,G216,J216)))","v":""},null,null,"",{"$f":"IF(K216=\"\",\"\",INDEX('Otras referencias'!$AG:$AH,MATCH(K216,'Otras referencias'!$AG:$AG,0),2))","v":""},null,{"$f":"IF(J216=\"\",\"\",INDEX(referentes!$S:$W,MATCH(J216,referentes!$S:$S,0),1))","v":""},null,null,null,null,{"$f":"IF(P216=\"\",\"\",INDEX(referentes!$J:$K,MATCH(P216,referentes!$J:$J,0),2))","v":""},null,null,null,{"$f":"IF(T216=\"\",\"\",INDEX(referentes!D:E,MATCH(T216,referentes!D:D,0),2))","v":""},null,{"$f":"IF(V216=\"\",\"\",INDEX('Otras referencias'!AO:AP,MATCH(V216,'Otras referencias'!AO:AO,0),2))","v":""},null,{"$f":"IF(Z216=\"\",\"\",INDEX('Otras referencias'!H:I,MATCH(Z216,'Otras referencias'!I:I,0),1))","v":""},null,null,null,{"$f":"IF(AD216=\"\",\"\",INDEX('Otras referencias'!K:L,MATCH(AD216,'Otras referencias'!L:L,0),1))","v":""},null,"---",null,null,null,{"$f":"IF(V216=\"\",\"\",INDEX('Otras referencias'!AO:AQ,MATCH(V216,'Otras referencias'!AO:AO,0),3))","v":""},{"$f":"IF(SUMPRODUCT(--EXACT(K216&M216,$AJ$2:AJ215)),\"\",K216&M216)","v":""},{"$f":"IF(SUMPRODUCT(--EXACT(K216&M216,$AJ$2:AJ215)),\"\",MAX($AK$3:AK215)+1)","v":""}]
[1,{"$f":"IF(F217=\"\",\"\",IF(COUNTIF($F$3:F217, F217)>1, \"\", F217))","v":""},215,"",null,{"$f":"IF(I217=\"\",\"\",IF(K217=\"\",\"\", CONCATENATE(DIGITADOR!$M$1,G217,J217)))","v":""},null,null,"",{"$f":"IF(K217=\"\",\"\",INDEX('Otras referencias'!$AG:$AH,MATCH(K217,'Otras referencias'!$AG:$AG,0),2))","v":""},null,{"$f":"IF(J217=\"\",\"\",INDEX(referentes!$S:$W,MATCH(J217,referentes!$S:$S,0),1))","v":""},null,null,null,null,{"$f":"IF(P217=\"\",\"\",INDEX(referentes!$J:$K,MATCH(P217,referentes!$J:$J,0),2))","v":""},null,null,null,{"$f":"IF(T217=\"\",\"\",INDEX(referentes!D:E,MATCH(T217,referentes!D:D,0),2))","v":""},null,{"$f":"IF(V217=\"\",\"\",INDEX('Otras referencias'!AO:AP,MATCH(V217,'Otras referencias'!AO:AO,0),2))","v":""},null,{"$f":"IF(Z217=\"\",\"\",INDEX('Otras referencias'!H:I,MATCH(Z217,'Otras referencias'!I:I,0),1))","v":""},null,null,null,{"$f":"IF(AD217=\"\",\"\",INDEX('Otras referencias'!K:L,MATCH(AD217,'Otras referencias'!L:L,0),1))","v":""},null,"---",null,null,null,{"$f":"IF(V217=\"\",\"\",INDEX('Otras referencias'!AO:AQ,MATCH(V217,'Otras referencias'!AO:AO,0),3))","v":""},{"$f":"IF(SUMPRODUCT(--EXACT(K217&M217,$AJ$2:AJ216)),\"\",K217&M217)","v":""},{"$f":"IF(SUMPRODUCT(--EXACT(K217&M217,$AJ$2:AJ216)),\"\",MAX($AK$3:AK216)+1)","v":""}]
[1,{"$f":"IF(F218=\"\",\"\",IF(COUNTIF($F$3:F218, F218)>1, \"\", F218))","v":""},216,"",null,{"$f":"IF(I218=\"\",\"\",IF(K218=\"\",\"\", CONCATENATE(DIGITADOR!$M$1,G218,J218)))","v":""},null,null,"",{"$f":"IF(K218=\"\",\"\",INDEX('Otras referencias'!$AG:$AH,MATCH(K218,'Otras referencias'!$AG:$AG,0),2))","v":""},null,{"$f":"IF(J218=\"\",\"\",INDEX(referentes!$S:$W,MATCH(J218,referentes!$S:$S,0),1))","v":""},null,null,null,null,{"$f":"IF(P218=\"\",\"\",INDEX(referentes!$J:$K,MATCH(P218,referentes!$J:$J,0),2))","v":""},null,null,null,{"$f":"IF(T218=\"\",\"\",INDEX(referentes!D:E,MATCH(T218,referentes!D:D,0),2))","v":""},null,{"$f":"IF(V218=\"\",\"\",INDEX('Otras referencias'!AO:AP,MATCH(V218,'Otras referencias'!AO:AO,0),2))","v":""},null,{"$f":"IF(Z218=\"\",\"\",INDEX('Otras referencias'!H:I,MATCH(Z218,'Otras referencias'!I:I,0),1))","v":""},null,null,null,{"$f":"IF(AD218=\"\",\"\",INDEX('Otras referencias'!K:L,MATCH(AD218,'Otras referencias'!L:L,0),1))","v":""},null,"---",null,null,null,{"$f":"IF(V218=\"\",\"\",INDEX('Otras referencias'!AO:AQ,MATCH(V218,'Otras referencias'!AO:AO,0),3))","v":""},{"$f":"IF(SUMPRODUCT(--EXACT(K218&M218,$AJ$2:AJ217)),\"\",K218&M218)","v":""},{"$f":"IF(SUMPRODUCT(--EXACT(K218&M218,$AJ$2:AJ217)),\"\",MAX($AK$3:AK217)+1)","v":""}]
[1,{"$f":"IF(F219=\"\",\"\",IF(COUNTIF($F$3:F219, F219)>1, \"\", F219))","v":""},217,"",null,{"$f":"IF(I219=\"\",\"\",IF(K219=\"\",\"\", CONCATENATE(DIGITADOR!$M$1,G219,J219)))","v":""},null,null,"",{"$f":"IF(K219=\"\",\"\",INDEX('Otras referencias'!$AG:$AH,MATCH(K219,'Otras referencias'!$AG:$AG,0),2))","v":""},null,{"$f":"IF(J219=\"\",\"\",INDEX(referentes!$S:$W,MATCH(J219,referentes!$S:$S,0),1))","v":""},null,null,null,null,{"$f":"IF(P219=\"\",\"\",INDEX(referentes!$J:$K,MATCH(P219,referentes!$J:$J,0),2))","v":""},null,null,null,{"$f":"IF(T219=\"\",\"\",INDEX(referentes!D:E,MATCH(T219,referentes!D:D,0),2))","v":""},null,{"$f":"IF(V219=\"\",\"\",INDEX('Otras referencias'!AO:AP,MATCH(V219,'Otras referencias'!AO:AO,0),2))","v":""},null,{"$f":"IF(Z219=\"\",\"\",INDEX('Otras referencias'!H:I,MATCH(Z219,'Otras referencias'!I:I,0),1))","v":""},null,null,null,{"$f":"IF(AD219=\"\",\"\",INDEX('Otras referencias'!K:L,MATCH(AD219,'Otras referencias'!L:L,0),1))","v":""},null,"---",null,null,null,{"$f":"IF(V219=\"\",\"\",INDEX('Otras referencias'!AO:AQ,MATCH(V219,'Otras referencias'!AO:AO,0),3))","v":""},{"$f":"IF(SUMPRODUCT(--EXACT(K219&M219,$AJ$2:AJ218)),\"\",K219&M219)","v":""},{"$f":"IF(SUMPRODUCT(--EXACT(K219&M219,$AJ$2:AJ218)),\"\",MAX($AK$3:AK218)+1)","v":""}]
[1,{"$f":"IF(F220=\"\",\"\",IF(COUNTIF($F$3:F220, F220)>1, \"\", F220))","v":""},218,"",null,{"$f":"IF(I220=\"\",\"\",IF(K220=\"\",\"\", CONCATENATE(DIGITADOR!$M$1,G220,J220)))","v":""},null,null,"",{"$f":"IF(K220=\"\",\"\",INDEX('Otras referencias'!$AG:$AH,MATCH(K220,'Otras referencias'!$AG:$AG,0),2))","v":""},null,{"$f":"IF(J220=\"\",\"\",INDEX(referentes!$S:$W,MATCH(J220,referentes!$S:$S,0),1))","v":""},null,null,null,null,{"$f":"IF(P220=\"\",\"\",INDEX(referentes!$J:$K,MATCH(P220,referentes!$J:$J,0),2))","v":""},null,null,null,{"$f":"IF(T220=\"\",\"\",INDEX(referentes!D:E,MATCH(T220,referentes!D:D,0),2))","v":""},null,{"$f":"IF(V220=\"\",\"\",INDEX('Otras referencias'!AO:AP,MATCH(V220,'Otras referencias'!AO:AO,0),2))","v":""},null,{"$f":"IF(Z220=\"\",\"\",INDEX('Otras referencias'!H:I,MATCH(Z220,'Otras referencias'!I:I,0),1))","v":""},null,null,null,{"$f":"IF(AD220=\"\",\"\",INDEX('Otras referencias'!K:L,MATCH(AD220,'Otras referencias'!L:L,0),1))","v":""},null,"---",null,null,null,{"$f":"IF(V220=\"\",\"\",INDEX('Otras referencias'!AO:AQ,MATCH(V220,'Otras referencias'!AO:AO,0),3))","v":""},{"$f":"IF(SUMPRODUCT(--EXACT(K220&M220,$AJ$2:AJ219)),\"\",K220&M220)","v":""},{"$f":"IF(SUMPRODUCT(--EXACT(K220&M220,$AJ$2:AJ219)),\"\",MAX($AK$3:AK219)+1)","v":""}]
[1,{"$f":"IF(F221=\"\",\"\",IF(COUNTIF($F$3:F221, F221)>1, \"\", F221))","v":""},219,"",null,{"$f":"IF(I221=\"\",\"\",IF(K221=\"\",\"\", CONCATENATE(DIGITADOR!$M$1,G221,J221)))","v":""},null,null,"",{"$f":"IF(K221=\"\",\"\",INDEX('Otras referencias'!$AG:$AH,MATCH(K221,'Otras referencias'!$AG:$AG,0),2))","v":""},null,{"$f":"IF(J221=\"\",\"\",INDEX(referentes!$S:$W,MATCH(J221,referentes!$S:$S,0),1))","v":""},null,null,null,null,{"$f":"IF(P221=\"\",\"\",INDEX(referentes!$J:$K,MATCH(P221,referentes!$J:$J,0),2))","v":""},null,null,null,{"$f":"IF(T221=\"\",\"\",INDEX(referentes!D:E,MATCH(T221,referentes!D:D,0),2))","v":""},null,{"$f":"IF(V221=\"\",\"\",INDEX('Otras referencias'!AO:AP,MATCH(V221,'Otras referencias'!AO:AO,0),2))","v":""},null,{"$f":"IF(Z221=\"\",\"\",INDEX('Otras referencias'!H:I,MATCH(Z221,'Otras referencias'!I:I,0),1))","v":""},null,null,null,{"$f":"IF(AD221=\"\",\"\",INDEX('Otras referencias'!K:L,MATCH(AD221,'Otras referencias'!L:L,0),1))","v":""},null,"---",null,null,null,{"$f":"IF(V221=\"\",\"\",INDEX('Otras referencias'!AO:AQ,MATCH(V221,'Otras referencias'!AO:AO,0),3))","v":""},{"$f":"IF(SUMPRODUCT(--EXACT(K221&M221,$AJ$2:AJ220)),\"\",K221&M221)","v":""},{"$f":"IF(SUMPRODUCT(--EXACT(K221&M221,$AJ$2:AJ220)),\"\",MAX($AK$3:AK220)+1)","v":""}]
[1,{"$f":"IF(F222=\"\",\"\",IF(COUNTIF($F$3:F222, F222)>1, \"\", F222))","v":""},220,"",null,{"$f":"IF(I222=\"\",\"\",IF(K222=\"\",\"\", CONCATENATE(DIGITADOR!$M$1,G222,J222)))","v":""},null,null,"",{"$f":"IF(K222=\"\",\"\",INDEX('Otras referencias'!$AG:$AH,MATCH(K222,'Otras referencias'!$AG:$AG,0),2))","v":""},null,{"$f":"IF(J222=\"\",\"\",INDEX(referentes!$S:$W,MATCH(J222,referentes!$S:$S,0),1))","v":""},null,null,null,null,{"$f":"IF(P222=\"\",\"\",INDEX(referentes!$J:$K,MATCH(P222,referentes!$J:$J,0),2))","v":""},null,null,null,{"$f":"IF(T222=\"\",\"\",INDEX(referentes!D:E,MATCH(T222,referentes!D:D,0),2))","v":""},null,{"$f":"IF(V222=\"\",\"\",INDEX('Otras referencias'!AO:AP,MATCH(V222,'Otras referencias'!AO:AO,0),2))","v":""},null,{"$f":"IF(Z222=\"\",\"\",INDEX('Otras referencias'!H:I,MATCH(Z222,'Otras referencias'!I:I,0),1))","v":""},null,null,null,{"$f":"IF(AD222=\"\",\"\",INDEX('Otras referencias'!K:L,MATCH(AD222,'Otras referencias'!L:L,0),1))","v":""},null,"---",null,null,null,{"$f":"IF(V222=\"\",\"\",INDEX('Otras referencias'!AO:AQ,MATCH(V222,'Otras referencias'!AO:AO,0),3))","v":""},{"$f":"IF(SUMPRODUCT(--EXACT(K222&M222,$AJ$2:AJ221)),\"\",K222&M222)","v":""},{"$f":"IF(SUMPRODUCT(--EXACT(K222&M222,$AJ$2:AJ221)),\"\",MAX($AK$3:AK221)+1)","v":""}]
[1,{"$f":"IF(F223=\"\",\"\",IF(COUNTIF($F$3:F223, F223)>1, \"\", F223))","v":""},221,"",null,{"$f":"IF(I223=\"\",\"\",IF(K223=\"\",\"\", CONCATENATE(DIGITADOR!$M$1,G223,J223)))","v":""},null,null,"",{"$f":"IF(K223=\"\",\"\",INDEX('Otras referencias'!$AG:$AH,MATCH(K223,'Otras referencias'!$AG:$AG,0),2))","v":""},null,{"$f":"IF(J223=\"\",\"\",INDEX(referentes!$S:$W,MATCH(J223,referentes!$S:$S,0),1))","v":""},null,null,null,null,{"$f":"IF(P223=\"\",\"\",INDEX(referentes!$J:$K,MATCH(P223,referentes!$J:$J,0),2))","v":""},null,null,null,{"$f":"IF(T223=\"\",\"\",INDEX(referentes!D:E,MATCH(T223,referentes!D:D,0),2))","v":""},null,{"$f":"IF(V223=\"\",\"\",INDEX('Otras referencias'!AO:AP,MATCH(V223,'Otras referencias'!AO:AO,0),2))","v":""},null,{"$f":"IF(Z223=\"\",\"\",INDEX('Otras referencias'!H:I,MATCH(Z223,'Otras referencias'!I:I,0),1))","v":""},null,null,null,{"$f":"IF(AD223=\"\",\"\",INDEX('Otras referencias'!K:L,MATCH(AD223,'Otras referencias'!L:L,0),1))","v":""},null,"---",null,null,null,{"$f":"IF(V223=\"\",\"\",INDEX('Otras referencias'!AO:AQ,MATCH(V223,'Otras referencias'!AO:AO,0),3))","v":""},{"$f":"IF(SUMPRODUCT(--EXACT(K223&M223,$AJ$2:AJ222)),\"\",K223&M223)","v":""},{"$f":"IF(SUMPRODUCT(--EXACT(K223&M223,$AJ$2:AJ222)),\"\",MAX($AK$3:AK222)+1)","v":""}]
[1,{"$f":"IF(F224=\"\",\"\",IF(COUNTIF($F$3:F224, F224)>1, \"\", F224))","v":""},222,"",null,{"$f":"IF(I224=\"\",\"\",IF(K224=\"\",\"\", CONCATENATE(DIGITADOR!$M$1,G224,J224)))","v":""},null,null,"",{"$f":"IF(K224=\"\",\"\",INDEX('Otras referencias'!$AG:$AH,MATCH(K224,'Otras referencias'!$AG:$AG,0),2))","v":""},null,{"$f":"IF(J224=\"\",\"\",INDEX(referentes!$S:$W,MATCH(J224,referentes!$S:$S,0),1))","v":""},null,null,null,null,{"$f":"IF(P224=\"\",\"\",INDEX(referentes!$J:$K,MATCH(P224,referentes!$J:$J,0),2))","v":""},null,null,null,{"$f":"IF(T224=\"\",\"\",INDEX(referentes!D:E,MATCH(T224,referentes!D:D,0),2))","v":""},null,{"$f":"IF(V224=\"\",\"\",INDEX('Otras referencias'!AO:AP,MATCH(V224,'Otras referencias'!AO:AO,0),2))","v":""},null,{"$f":"IF(Z224=\"\",\"\",INDEX('Otras referencias'!H:I,MATCH(Z224,'Otras referencias'!I:I,0),1))","v":""},null,null,null,{"$f":"IF(AD224=\"\",\"\",INDEX('Otras referencias'!K:L,MATCH(AD224,'Otras referencias'!L:L,0),1))","v":""},null,"---",null,null,null,{"$f":"IF(V224=\"\",\"\",INDEX('Otras referencias'!AO:AQ,MATCH(V224,'Otras referencias'!AO:AO,0),3))","v":""},{"$f":"IF(SUMPRODUCT(--EXACT(K224&M224,$AJ$2:AJ223)),\"\",K224&M224)","v":""},{"$f":"IF(SUMPRODUCT(--EXACT(K224&M224,$AJ$2:AJ223)),\"\",MAX($AK$3:AK223)+1)","v":""}]
[1,{"$f":"IF(F225=\"\",\"\",IF(COUNTIF($F$3:F225, F225)>1, \"\", F225))","v":""},223,"",null,{"$f":"IF(I225=\"\",\"\",IF(K225=\"\",\"\", CONCATENATE(DIGITADOR!$M$1,G225,J225)))","v":""},null,null,"",{"$f":"IF(K225=\"\",\"\",INDEX('Otras referencias'!$AG:$AH,MATCH(K225,'Otras referencias'!$AG:$AG,0),2))","v":""},null,{"$f":"IF(J225=\"\",\"\",INDEX(referentes!$S:$W,MATCH(J225,referentes!$S:$S,0),1))","v":""},null,null,null,null,{"$f":"IF(P225=\"\",\"\",INDEX(referentes!$J:$K,MATCH(P225,referentes!$J:$J,0),2))","v":""},null,null,null,{"$f":"IF(T225=\"\",\"\",INDEX(referentes!D:E,MATCH(T225,referentes!D:D,0),2))","v":""},null,{"$f":"IF(V225=\"\",\"\",INDEX('Otras referencias'!AO:AP,MATCH(V225,'Otras referencias'!AO:AO,0),2))","v":""},null,{"$f":"IF(Z225=\"\",\"\",INDEX('Otras referencias'!H:I,MATCH(Z225,'Otras referencias'!I:I,0),1))","v":""},null,null,null,{"$f":"IF(AD225=\"\",\"\",INDEX('Otras referencias'!K:L,MATCH(AD225,'Otras referencias'!L:L,0),1))","v":""},null,"---",null,null,null,{"$f":"IF(V225=\"\",\"\",INDEX('Otras referencias'!AO:AQ,MATCH(V225,'Otras referencias'!AO:AO,0),3))","v":""},{"$f":"IF(SUMPRODUCT(--EXACT(K225&M225,$AJ$2:AJ224)),\"\",K225&M225)","v":""},{"$f":"IF(SUMPRODUCT(--EXACT(K225&M225,$AJ$2:AJ224)),\"\",MAX($AK$3:AK224)+1)","v":""}]
[1,{"$f":"IF(F226=\"\",\"\",IF(COUNTIF($F$3:F226, F226)>1, \"\", F226))","v":""},224,"",null,{"$f":"IF(I226=\"\",\"\",IF(K226=\"\",\"\", CONCATENATE(DIGITADOR!$M$1,G226,J226)))","v":""},null,null,"",{"$f":"IF(K226=\"\",\"\",INDEX('Otras referencias'!$AG:$AH,MATCH(K226,'Otras referencias'!$AG:$AG,0),2))","v":""},null,{"$f":"IF(J226=\"\",\"\",INDEX(referentes!$S:$W,MATCH(J226,referentes!$S:$S,0),1))","v":""},null,null,null,null,{"$f":"IF(P226=\"\",\"\",INDEX(referentes!$J:$K,MATCH(P226,referentes!$J:$J,0),2))","v":""},null,null,null,{"$f":"IF(T226=\"\",\"\",INDEX(referentes!D:E,MATCH(T226,referentes!D:D,0),2))","v":""},null,{"$f":"IF(V226=\"\",\"\",INDEX('Otras referencias'!AO:AP,MATCH(V226,'Otras referencias'!AO:AO,0),2))","v":""},null,{"$f":"IF(Z226=\"\",\"\",INDEX('Otras referencias'!H:I,MATCH(Z226,'Otras referencias'!I:I,0),1))","v":""},null,null,null,{"$f":"IF(AD226=\"\",\"\",INDEX('Otras referencias'!K:L,MATCH(AD226,'Otras referencias'!L:L,0),1))","v":""},null,"---",null,null,null,{"$f":"IF(V226=\"\",\"\",INDEX('Otras referencias'!AO:AQ,MATCH(V226,'Otras referencias'!AO:AO,0),3))","v":""},{"$f":"IF(SUMPRODUCT(--EXACT(K226&M226,$AJ$2:AJ225)),\"\",K226&M226)","v":""},{"$f":"IF(SUMPRODUCT(--EXACT(K226&M226,$AJ$2:AJ225)),\"\",MAX($AK$3:AK225)+1)","v":""}]
[1,{"$f":"IF(F227=\"\",\"\",IF(COUNTIF($F$3:F227, F227)>1, \"\", F227))","v":""},225,"",null,{"$f":"IF(I227=\"\",\"\",IF(K227=\"\",\"\", CONCATENATE(DIGITADOR!$M$1,G227,J227)))","v":""},null,null,"",{"$f":"IF(K227=\"\",\"\",INDEX('Otras referencias'!$AG:$AH,MATCH(K227,'Otras referencias'!$AG:$AG,0),2))","v":""},null,{"$f":"IF(J227=\"\",\"\",INDEX(referentes!$S:$W,MATCH(J227,referentes!$S:$S,0),1))","v":""},null,null,null,null,{"$f":"IF(P227=\"\",\"\",INDEX(referentes!$J:$K,MATCH(P227,referentes!$J:$J,0),2))","v":""},null,null,null,{"$f":"IF(T227=\"\",\"\",INDEX(referentes!D:E,MATCH(T227,referentes!D:D,0),2))","v":""},null,{"$f":"IF(V227=\"\",\"\",INDEX('Otras referencias'!AO:AP,MATCH(V227,'Otras referencias'!AO:AO,0),2))","v":""},null,{"$f":"IF(Z227=\"\",\"\",INDEX('Otras referencias'!H:I,MATCH(Z227,'Otras referencias'!I:I,0),1))","v":""},null,null,null,{"$f":"IF(AD227=\"\",\"\",INDEX('Otras referencias'!K:L,MATCH(AD227,'Otras referencias'!L:L,0),1))","v":""},null,"---",null,null,null,{"$f":"IF(V227=\"\",\"\",INDEX('Otras referencias'!AO:AQ,MATCH(V227,'Otras referencias'!AO:AO,0),3))","v":""},{"$f":"IF(SUMPRODUCT(--EXACT(K227&M227,$AJ$2:AJ226)),\"\",K227&M227)","v":""},{"$f":"IF(SUMPRODUCT(--EXACT(K227&M227,$AJ$2:AJ226)),\"\",MAX($AK$3:AK226)+1)","v":""}]
[1,{"$f":"IF(F228=\"\",\"\",IF(COUNTIF($F$3:F228, F228)>1, \"\", F228))","v":""},226,"",null,{"$f":"IF(I228=\"\",\"\",IF(K228=\"\",\"\", CONCATENATE(DIGITADOR!$M$1,G228,J228)))","v":""},null,null,"",{"$f":"IF(K228=\"\",\"\",INDEX('Otras referencias'!$AG:$AH,MATCH(K228,'Otras referencias'!$AG:$AG,0),2))","v":""},null,{"$f":"IF(J228=\"\",\"\",INDEX(referentes!$S:$W,MATCH(J228,referentes!$S:$S,0),1))","v":""},null,null,null,null,{"$f":"IF(P228=\"\",\"\",INDEX(referentes!$J:$K,MATCH(P228,referentes!$J:$J,0),2))","v":""},null,null,null,{"$f":"IF(T228=\"\",\"\",INDEX(referentes!D:E,MATCH(T228,referentes!D:D,0),2))","v":""},null,{"$f":"IF(V228=\"\",\"\",INDEX('Otras referencias'!AO:AP,MATCH(V228,'Otras referencias'!AO:AO,0),2))","v":""},null,{"$f":"IF(Z228=\"\",\"\",INDEX('Otras referencias'!H:I,MATCH(Z228,'Otras referencias'!I:I,0),1))","v":""},null,null,null,{"$f":"IF(AD228=\"\",\"\",INDEX('Otras referencias'!K:L,MATCH(AD228,'Otras referencias'!L:L,0),1))","v":""},null,"---",null,null,null,{"$f":"IF(V228=\"\",\"\",INDEX('Otras referencias'!AO:AQ,MATCH(V228,'Otras referencias'!AO:AO,0),3))","v":""},{"$f":"IF(SUMPRODUCT(--EXACT(K228&M228,$AJ$2:AJ227)),\"\",K228&M228)","v":""},{"$f":"IF(SUMPRODUCT(--EXACT(K228&M228,$AJ$2:AJ227)),\"\",MAX($AK$3:AK227)+1)","v":""}]
[1,{"$f":"IF(F229=\"\",\"\",IF(COUNTIF($F$3:F229, F229)>1, \"\", F229))","v":""},227,"",null,{"$f":"IF(I229=\"\",\"\",IF(K229=\"\",\"\", CONCATENATE(DIGITADOR!$M$1,G229,J229)))","v":""},null,null,"",{"$f":"IF(K229=\"\",\"\",INDEX('Otras referencias'!$AG:$AH,MATCH(K229,'Otras referencias'!$AG:$AG,0),2))","v":""},null,{"$f":"IF(J229=\"\",\"\",INDEX(referentes!$S:$W,MATCH(J229,referentes!$S:$S,0),1))","v":""},null,null,null,null,{"$f":"IF(P229=\"\",\"\",INDEX(referentes!$J:$K,MATCH(P229,referentes!$J:$J,0),2))","v":""},null,null,null,{"$f":"IF(T229=\"\",\"\",INDEX(referentes!D:E,MATCH(T229,referentes!D:D,0),2))","v":""},null,{"$f":"IF(V229=\"\",\"\",INDEX('Otras referencias'!AO:AP,MATCH(V229,'Otras referencias'!AO:AO,0),2))","v":""},null,{"$f":"IF(Z229=\"\",\"\",INDEX('Otras referencias'!H:I,MATCH(Z229,'Otras referencias'!I:I,0),1))","v":""},null,null,null,{"$f":"IF(AD229=\"\",\"\",INDEX('Otras referencias'!K:L,MATCH(AD229,'Otras referencias'!L:L,0),1))","v":""},null,"---",null,null,null,{"$f":"IF(V229=\"\",\"\",INDEX('Otras referencias'!AO:AQ,MATCH(V229,'Otras referencias'!AO:AO,0),3))","v":""},{"$f":"IF(SUMPRODUCT(--EXACT(K229&M229,$AJ$2:AJ228)),\"\",K229&M229)","v":""},{"$f":"IF(SUMPRODUCT(--EXACT(K229&M229,$AJ$2:AJ228)),\"\",MAX($AK$3:AK228)+1)","v":""}]
[1,{"$f":"IF(F230=\"\",\"\",IF(COUNTIF($F$3:F230, F230)>1, \"\", F230))","v":""},228,"",null,{"$f":"IF(I230=\"\",\"\",IF(K230=\"\",\"\", CONCATENATE(DIGITADOR!$M$1,G230,J230)))","v":""},null,null,"",{"$f":"IF(K230=\"\",\"\",INDEX('Otras referencias'!$AG:$AH,MATCH(K230,'Otras referencias'!$AG:$AG,0),2))","v":""},null,{"$f":"IF(J230=\"\",\"\",INDEX(referentes!$S:$W,MATCH(J230,referentes!$S:$S,0),1))","v":""},null,null,null,null,{"$f":"IF(P230=\"\",\"\",INDEX(referentes!$J:$K,MATCH(P230,referentes!$J:$J,0),2))","v":""},null,null,null,{"$f":"IF(T230=\"\",\"\",INDEX(referentes!D:E,MATCH(T230,referentes!D:D,0),2))","v":""},null,{"$f":"IF(V230=\"\",\"\",INDEX('Otras referencias'!AO:AP,MATCH(V230,'Otras referencias'!AO:AO,0),2))","v":""},null,{"$f":"IF(Z230=\"\",\"\",INDEX('Otras referencias'!H:I,MATCH(Z230,'Otras referencias'!I:I,0),1))","v":""},null,null,null,{"$f":"IF(AD230=\"\",\"\",INDEX('Otras referencias'!K:L,MATCH(AD230,'Otras referencias'!L:L,0),1))","v":""},null,"---",null,null,null,{"$f":"IF(V230=\"\",\"\",INDEX('Otras referencias'!AO:AQ,MATCH(V230,'Otras referencias'!AO:AO,0),3))","v":""},{"$f":"IF(SUMPRODUCT(--EXACT(K230&M230,$AJ$2:AJ229)),\"\",K230&M230)","v":""},{"$f":"IF(SUMPRODUCT(--EXACT(K230&M230,$AJ$2:AJ229)),\"\",MAX($AK$3:AK229)+1)","v":""}]
[1,{"$f":"IF(F231=\"\",\"\",IF(COUNTIF($F$3:F231, F231)>1, \"\", F231))","v":""},229,"",null,{"$f":"IF(I231=\"\",\"\",IF(K231=\"\",\"\", CONCATENATE(DIGITADOR!$M$1,G231,J231)))","v":""},null,null,"",{"$f":"IF(K231=\"\",\"\",INDEX('Otras referencias'!$AG:$AH,MATCH(K231,'Otras referencias'!$AG:$AG,0),2))","v":""},null,{"$f":"IF(J231=\"\",\"\",INDEX(referentes!$S:$W,MATCH(J231,referentes!$S:$S,0),1))","v":""},null,null,null,null,{"$f":"IF(P231=\"\",\"\",INDEX(referentes!$J:$K,MATCH(P231,referentes!$J:$J,0),2))","v":""},null,null,null,{"$f":"IF(T231=\"\",\"\",INDEX(referentes!D:E,MATCH(T231,referentes!D:D,0),2))","v":""},null,{"$f":"IF(V231=\"\",\"\",INDEX('Otras referencias'!AO:AP,MATCH(V231,'Otras referencias'!AO:AO,0),2))","v":""},null,{"$f":"IF(Z231=\"\",\"\",INDEX('Otras referencias'!H:I,MATCH(Z231,'Otras referencias'!I:I,0),1))","v":""},null,null,null,{"$f":"IF(AD231=\"\",\"\",INDEX('Otras referencias'!K:L,MATCH(AD231,'Otras referencias'!L:L,0),1))","v":""},null,"---",null,null,null,{"$f":"IF(V231=\"\",\"\",INDEX('Otras referencias'!AO:AQ,MATCH(V231,'Otras referencias'!AO:AO,0),3))","v":""},{"$f":"IF(SUMPRODUCT(--EXACT(K231&M231,$AJ$2:AJ230)),\"\",K231&M231)","v":""},{"$f":"IF(SUMPRODUCT(--EXACT(K231&M231,$AJ$2:AJ230)),\"\",MAX($AK$3:AK230)+1)","v":""}]
[1,{"$f":"IF(F232=\"\",\"\",IF(COUNTIF($F$3:F232, F232)>1, \"\", F232))","v":""},230,"",null,{"$f":"IF(I232=\"\",\"\",IF(K232=\"\",\"\", CONCATENATE(DIGITADOR!$M$1,G232,J232)))","v":""},null,null,"",{"$f":"IF(K232=\"\",\"\",INDEX('Otras referencias'!$AG:$AH,MATCH(K232,'Otras referencias'!$AG:$AG,0),2))","v":""},null,{"$f":"IF(J232=\"\",\"\",INDEX(referentes!$S:$W,MATCH(J232,referentes!$S:$S,0),1))","v":""},null,null,null,null,{"$f":"IF(P232=\"\",\"\",INDEX(referentes!$J:$K,MATCH(P232,referentes!$J:$J,0),2))","v":""},null,null,null,{"$f":"IF(T232=\"\",\"\",INDEX(referentes!D:E,MATCH(T232,referentes!D:D,0),2))","v":""},null,{"$f":"IF(V232=\"\",\"\",INDEX('Otras referencias'!AO:AP,MATCH(V232,'Otras referencias'!AO:AO,0),2))","v":""},null,{"$f":"IF(Z232=\"\",\"\",INDEX('Otras referencias'!H:I,MATCH(Z232,'Otras referencias'!I:I,0),1))","v":""},null,null,null,{"$f":"IF(AD232=\"\",\"\",INDEX('Otras referencias'!K:L,MATCH(AD232,'Otras referencias'!L:L,0),1))","v":""},null,"---",null,null,null,{"$f":"IF(V232=\"\",\"\",INDEX('Otras referencias'!AO:AQ,MATCH(V232,'Otras referencias'!AO:AO,0),3))","v":""},{"$f":"IF(SUMPRODUCT(--EXACT(K232&M232,$AJ$2:AJ231)),\"\",K232&M232)","v":""},{"$f":"IF(SUMPRODUCT(--EXACT(K232&M232,$AJ$2:AJ231)),\"\",MAX($AK$3:AK231)+1)","v":""}]
[1,{"$f":"IF(F233=\"\",\"\",IF(COUNTIF($F$3:F233, F233)>1, \"\", F233))","v":""},231,"",null,{"$f":"IF(I233=\"\",\"\",IF(K233=\"\",\"\", CONCATENATE(DIGITADOR!$M$1,G233,J233)))","v":""},null,null,"",{"$f":"IF(K233=\"\",\"\",INDEX('Otras referencias'!$AG:$AH,MATCH(K233,'Otras referencias'!$AG:$AG,0),2))","v":""},null,{"$f":"IF(J233=\"\",\"\",INDEX(referentes!$S:$W,MATCH(J233,referentes!$S:$S,0),1))","v":""},null,null,null,null,{"$f":"IF(P233=\"\",\"\",INDEX(referentes!$J:$K,MATCH(P233,referentes!$J:$J,0),2))","v":""},null,null,null,{"$f":"IF(T233=\"\",\"\",INDEX(referentes!D:E,MATCH(T233,referentes!D:D,0),2))","v":""},null,{"$f":"IF(V233=\"\",\"\",INDEX('Otras referencias'!AO:AP,MATCH(V233,'Otras referencias'!AO:AO,0),2))","v":""},null,{"$f":"IF(Z233=\"\",\"\",INDEX('Otras referencias'!H:I,MATCH(Z233,'Otras referencias'!I:I,0),1))","v":""},null,null,null,{"$f":"IF(AD233=\"\",\"\",INDEX('Otras referencias'!K:L,MATCH(AD233,'Otras referencias'!L:L,0),1))","v":""},null,"---",null,null,null,{"$f":"IF(V233=\"\",\"\",INDEX('Otras referencias'!AO:AQ,MATCH(V233,'Otras referencias'!AO:AO,0),3))","v":""},{"$f":"IF(SUMPRODUCT(--EXACT(K233&M233,$AJ$2:AJ232)),\"\",K233&M233)","v":""},{"$f":"IF(SUMPRODUCT(--EXACT(K233&M233,$AJ$2:AJ232)),\"\",MAX($AK$3:AK232)+1)","v":""}]
[1,{"$f":"IF(F234=\"\",\"\",IF(COUNTIF($F$3:F234, F234)>1, \"\", F234))","v":""},232,"",null,{"$f":"IF(I234=\"\",\"\",IF(K234=\"\",\"\", CONCATENATE(DIGITADOR!$M$1,G234,J234)))","v":""},null,null,"",{"$f":"IF(K234=\"\",\"\",INDEX('Otras referencias'!$AG:$AH,MATCH(K234,'Otras referencias'!$AG:$AG,0),2))","v":""},null,{"$f":"IF(J234=\"\",\"\",INDEX(referentes!$S:$W,MATCH(J234,referentes!$S:$S,0),1))","v":""},null,null,null,null,{"$f":"IF(P234=\"\",\"\",INDEX(referentes!$J:$K,MATCH(P234,referentes!$J:$J,0),2))","v":""},null,null,null,{"$f":"IF(T234=\"\",\"\",INDEX(referentes!D:E,MATCH(T234,referentes!D:D,0),2))","v":""},null,{"$f":"IF(V234=\"\",\"\",INDEX('Otras referencias'!AO:AP,MATCH(V234,'Otras referencias'!AO:AO,0),2))","v":""},null,{"$f":"IF(Z234=\"\",\"\",INDEX('Otras referencias'!H:I,MATCH(Z234,'Otras referencias'!I:I,0),1))","v":""},null,null,null,{"$f":"IF(AD234=\"\",\"\",INDEX('Otras referencias'!K:L,MATCH(AD234,'Otras referencias'!L:L,0),1))","v":""},null,"---",null,null,null,{"$f":"IF(V234=\"\",\"\",INDEX('Otras referencias'!AO:AQ,MATCH(V234,'Otras referencias'!AO:AO,0),3))","v":""},{"$f":"IF(SUMPRODUCT(--EXACT(K234&M234,$AJ$2:AJ233)),\"\",K234&M234)","v":""},{"$f":"IF(SUMPRODUCT(--EXACT(K234&M234,$AJ$2:AJ233)),\"\",MAX($AK$3:AK233)+1)","v":""}]
[1,{"$f":"IF(F235=\"\",\"\",IF(COUNTIF($F$3:F235, F235)>1, \"\", F235))","v":""},233,"",null,{"$f":"IF(I235=\"\",\"\",IF(K235=\"\",\"\", CONCATENATE(DIGITADOR!$M$1,G235,J235)))","v":""},null,null,"",{"$f":"IF(K235=\"\",\"\",INDEX('Otras referencias'!$AG:$AH,MATCH(K235,'Otras referencias'!$AG:$AG,0),2))","v":""},null,{"$f":"IF(J235=\"\",\"\",INDEX(referentes!$S:$W,MATCH(J235,referentes!$S:$S,0),1))","v":""},null,null,null,null,{"$f":"IF(P235=\"\",\"\",INDEX(referentes!$J:$K,MATCH(P235,referentes!$J:$J,0),2))","v":""},null,null,null,{"$f":"IF(T235=\"\",\"\",INDEX(referentes!D:E,MATCH(T235,referentes!D:D,0),2))","v":""},null,{"$f":"IF(V235=\"\",\"\",INDEX('Otras referencias'!AO:AP,MATCH(V235,'Otras referencias'!AO:AO,0),2))","v":""},null,{"$f":"IF(Z235=\"\",\"\",INDEX('Otras referencias'!H:I,MATCH(Z235,'Otras referencias'!I:I,0),1))","v":""},null,null,null,{"$f":"IF(AD235=\"\",\"\",INDEX('Otras referencias'!K:L,MATCH(AD235,'Otras referencias'!L:L,0),1))","v":""},null,"---",null,null,null,{"$f":"IF(V235=\"\",\"\",INDEX('Otras referencias'!AO:AQ,MATCH(V235,'Otras referencias'!AO:AO,0),3))","v":""},{"$f":"IF(SUMPRODUCT(--EXACT(K235&M235,$AJ$2:AJ234)),\"\",K235&M235)","v":""},{"$f":"IF(SUMPRODUCT(--EXACT(K235&M235,$AJ$2:AJ234)),\"\",MAX($AK$3:AK234)+1)","v":""}]
[1,{"$f":"IF(F236=\"\",\"\",IF(COUNTIF($F$3:F236, F236)>1, \"\", F236))","v":""},234,"",null,{"$f":"IF(I236=\"\",\"\",IF(K236=\"\",\"\", CONCATENATE(DIGITADOR!$M$1,G236,J236)))","v":""},null,null,"",{"$f":"IF(K236=\"\",\"\",INDEX('Otras referencias'!$AG:$AH,MATCH(K236,'Otras referencias'!$AG:$AG,0),2))","v":""},null,{"$f":"IF(J236=\"\",\"\",INDEX(referentes!$S:$W,MATCH(J236,referentes!$S:$S,0),1))","v":""},null,null,null,null,{"$f":"IF(P236=\"\",\"\",INDEX(referentes!$J:$K,MATCH(P236,referentes!$J:$J,0),2))","v":""},null,null,null,{"$f":"IF(T236=\"\",\"\",INDEX(referentes!D:E,MATCH(T236,referentes!D:D,0),2))","v":""},null,{"$f":"IF(V236=\"\",\"\",INDEX('Otras referencias'!AO:AP,MATCH(V236,'Otras referencias'!AO:AO,0),2))","v":""},null,{"$f":"IF(Z236=\"\",\"\",INDEX('Otras referencias'!H:I,MATCH(Z236,'Otras referencias'!I:I,0),1))","v":""},null,null,null,{"$f":"IF(AD236=\"\",\"\",INDEX('Otras referencias'!K:L,MATCH(AD236,'Otras referencias'!L:L,0),1))","v":""},null,"---",null,null,null,{"$f":"IF(V236=\"\",\"\",INDEX('Otras referencias'!AO:AQ,MATCH(V236,'Otras referencias'!AO:AO,0),3))","v":""},{"$f":"IF(SUMPRODUCT(--EXACT(K236&M236,$AJ$2:AJ235)),\"\",K236&M236)","v":""},{"$f":"IF(SUMPRODUCT(--EXACT(K236&M236,$AJ$2:AJ235)),\"\",MAX($AK$3:AK235)+1)","v":""}]
[1,{"$f":"IF(F237=\"\",\"\",IF(COUNTIF($F$3:F237, F237)>1, \"\", F237))","v":""},235,"",null,{"$f":"IF(I237=\"\",\"\",IF(K237=\"\",\"\", CONCATENATE(DIGITADOR!$M$1,G237,J237)))","v":""},null,null,"",{"$f":"IF(K237=\"\",\"\",INDEX('Otras referencias'!$AG:$AH,MATCH(K237,'Otras referencias'!$AG:$AG,0),2))","v":""},null,{"$f":"IF(J237=\"\",\"\",INDEX(referentes!$S:$W,MATCH(J237,referentes!$S:$S,0),1))","v":""},null,null,null,null,{"$f":"IF(P237=\"\",\"\",INDEX(referentes!$J:$K,MATCH(P237,referentes!$J:$J,0),2))","v":""},null,null,null,{"$f":"IF(T237=\"\",\"\",INDEX(referentes!D:E,MATCH(T237,referentes!D:D,0),2))","v":""},null,{"$f":"IF(V237=\"\",\"\",INDEX('Otras referencias'!AO:AP,MATCH(V237,'Otras referencias'!AO:AO,0),2))","v":""},null,{"$f":"IF(Z237=\"\",\"\",INDEX('Otras referencias'!H:I,MATCH(Z237,'Otras referencias'!I:I,0),1))","v":""},null,null,null,{"$f":"IF(AD237=\"\",\"\",INDEX('Otras referencias'!K:L,MATCH(AD237,'Otras referencias'!L:L,0),1))","v":""},null,"---",null,null,null,{"$f":"IF(V237=\"\",\"\",INDEX('Otras referencias'!AO:AQ,MATCH(V237,'Otras referencias'!AO:AO,0),3))","v":""},{"$f":"IF(SUMPRODUCT(--EXACT(K237&M237,$AJ$2:AJ236)),\"\",K237&M237)","v":""},{"$f":"IF(SUMPRODUCT(--EXACT(K237&M237,$AJ$2:AJ236)),\"\",MAX($AK$3:AK236)+1)","v":""}]
[1,{"$f":"IF(F238=\"\",\"\",IF(COUNTIF($F$3:F238, F238)>1, \"\", F238))","v":""},236,"",null,{"$f":"IF(I238=\"\",\"\",IF(K238=\"\",\"\", CONCATENATE(DIGITADOR!$M$1,G238,J238)))","v":""},null,null,"",{"$f":"IF(K238=\"\",\"\",INDEX('Otras referencias'!$AG:$AH,MATCH(K238,'Otras referencias'!$AG:$AG,0),2))","v":""},null,{"$f":"IF(J238=\"\",\"\",INDEX(referentes!$S:$W,MATCH(J238,referentes!$S:$S,0),1))","v":""},null,null,null,null,{"$f":"IF(P238=\"\",\"\",INDEX(referentes!$J:$K,MATCH(P238,referentes!$J:$J,0),2))","v":""},null,null,null,{"$f":"IF(T238=\"\",\"\",INDEX(referentes!D:E,MATCH(T238,referentes!D:D,0),2))","v":""},null,{"$f":"IF(V238=\"\",\"\",INDEX('Otras referencias'!AO:AP,MATCH(V238,'Otras referencias'!AO:AO,0),2))","v":""},null,{"$f":"IF(Z238=\"\",\"\",INDEX('Otras referencias'!H:I,MATCH(Z238,'Otras referencias'!I:I,0),1))","v":""},null,null,null,{"$f":"IF(AD238=\"\",\"\",INDEX('Otras referencias'!K:L,MATCH(AD238,'Otras referencias'!L:L,0),1))","v":""},null,"---",null,null,null,{"$f":"IF(V238=\"\",\"\",INDEX('Otras referencias'!AO:AQ,MATCH(V238,'Otras referencias'!AO:AO,0),3))","v":""},{"$f":"IF(SUMPRODUCT(--EXACT(K238&M238,$AJ$2:AJ237)),\"\",K238&M238)","v":""},{"$f":"IF(SUMPRODUCT(--EXACT(K238&M238,$AJ$2:AJ237)),\"\",MAX($AK$3:AK237)+1)","v":""}]
[1,{"$f":"IF(F239=\"\",\"\",IF(COUNTIF($F$3:F239, F239)>1, \"\", F239))","v":""},237,"",null,{"$f":"IF(I239=\"\",\"\",IF(K239=\"\",\"\", CONCATENATE(DIGITADOR!$M$1,G239,J239)))","v":""},null,null,"",{"$f":"IF(K239=\"\",\"\",INDEX('Otras referencias'!$AG:$AH,MATCH(K239,'Otras referencias'!$AG:$AG,0),2))","v":""},null,{"$f":"IF(J239=\"\",\"\",INDEX(referentes!$S:$W,MATCH(J239,referentes!$S:$S,0),1))","v":""},null,null,null,null,{"$f":"IF(P239=\"\",\"\",INDEX(referentes!$J:$K,MATCH(P239,referentes!$J:$J,0),2))","v":""},null,null,null,{"$f":"IF(T239=\"\",\"\",INDEX(referentes!D:E,MATCH(T239,referentes!D:D,0),2))","v":""},null,{"$f":"IF(V239=\"\",\"\",INDEX('Otras referencias'!AO:AP,MATCH(V239,'Otras referencias'!AO:AO,0),2))","v":""},null,{"$f":"IF(Z239=\"\",\"\",INDEX('Otras referencias'!H:I,MATCH(Z239,'Otras referencias'!I:I,0),1))","v":""},null,null,null,{"$f":"IF(AD239=\"\",\"\",INDEX('Otras referencias'!K:L,MATCH(AD239,'Otras referencias'!L:L,0),1))","v":""},null,"---",null,null,null,{"$f":"IF(V239=\"\",\"\",INDEX('Otras referencias'!AO:AQ,MATCH(V239,'Otras referencias'!AO:AO,0),3))","v":""},{"$f":"IF(SUMPRODUCT(--EXACT(K239&M239,$AJ$2:AJ238)),\"\",K239&M239)","v":""},{"$f":"IF(SUMPRODUCT(--EXACT(K239&M239,$AJ$2:AJ238)),\"\",MAX($AK$3:AK238)+1)","v":""}]
[1,{"$f":"IF(F240=\"\",\"\",IF(COUNTIF($F$3:F240, F240)>1, \"\", F240))","v":""},238,"",null,{"$f":"IF(I240=\"\",\"\",IF(K240=\"\",\"\", CONCATENATE(DIGITADOR!$M$1,G240,J240)))","v":""},null,null,"",{"$f":"IF(K240=\"\",\"\",INDEX('Otras referencias'!$AG:$AH,MATCH(K240,'Otras referencias'!$AG:$AG,0),2))","v":""},null,{"$f":"IF(J240=\"\",\"\",INDEX(referentes!$S:$W,MATCH(J240,referentes!$S:$S,0),1))","v":""},null,null,null,null,{"$f":"IF(P240=\"\",\"\",INDEX(referentes!$J:$K,MATCH(P240,referentes!$J:$J,0),2))","v":""},null,null,null,{"$f":"IF(T240=\"\",\"\",INDEX(referentes!D:E,MATCH(T240,referentes!D:D,0),2))","v":""},null,{"$f":"IF(V240=\"\",\"\",INDEX('Otras referencias'!AO:AP,MATCH(V240,'Otras referencias'!AO:AO,0),2))","v":""},null,{"$f":"IF(Z240=\"\",\"\",INDEX('Otras referencias'!H:I,MATCH(Z240,'Otras referencias'!I:I,0),1))","v":""},null,null,null,{"$f":"IF(AD240=\"\",\"\",INDEX('Otras referencias'!K:L,MATCH(AD240,'Otras referencias'!L:L,0),1))","v":""},null,"---",null,null,null,{"$f":"IF(V240=\"\",\"\",INDEX('Otras referencias'!AO:AQ,MATCH(V240,'Otras referencias'!AO:AO,0),3))","v":""},{"$f":"IF(SUMPRODUCT(--EXACT(K240&M240,$AJ$2:AJ239)),\"\",K240&M240)","v":""},{"$f":"IF(SUMPRODUCT(--EXACT(K240&M240,$AJ$2:AJ239)),\"\",MAX($AK$3:AK239)+1)","v":""}]
[1,{"$f":"IF(F241=\"\",\"\",IF(COUNTIF($F$3:F241, F241)>1, \"\", F241))","v":""},239,"",null,{"$f":"IF(I241=\"\",\"\",IF(K241=\"\",\"\", CONCATENATE(DIGITADOR!$M$1,G241,J241)))","v":""},null,null,"",{"$f":"IF(K241=\"\",\"\",INDEX('Otras referencias'!$AG:$AH,MATCH(K241,'Otras referencias'!$AG:$AG,0),2))","v":""},null,{"$f":"IF(J241=\"\",\"\",INDEX(referentes!$S:$W,MATCH(J241,referentes!$S:$S,0),1))","v":""},null,null,null,null,{"$f":"IF(P241=\"\",\"\",INDEX(referentes!$J:$K,MATCH(P241,referentes!$J:$J,0),2))","v":""},null,null,null,{"$f":"IF(T241=\"\",\"\",INDEX(referentes!D:E,MATCH(T241,referentes!D:D,0),2))","v":""},null,{"$f":"IF(V241=\"\",\"\",INDEX('Otras referencias'!AO:AP,MATCH(V241,'Otras referencias'!AO:AO,0),2))","v":""},null,{"$f":"IF(Z241=\"\",\"\",INDEX('Otras referencias'!H:I,MATCH(Z241,'Otras referencias'!I:I,0),1))","v":""},null,null,null,{"$f":"IF(AD241=\"\",\"\",INDEX('Otras referencias'!K:L,MATCH(AD241,'Otras referencias'!L:L,0),1))","v":""},null,"---",null,null,null,{"$f":"IF(V241=\"\",\"\",INDEX('Otras referencias'!AO:AQ,MATCH(V241,'Otras referencias'!AO:AO,0),3))","v":""},{"$f":"IF(SUMPRODUCT(--EXACT(K241&M241,$AJ$2:AJ240)),\"\",K241&M241)","v":""},{"$f":"IF(SUMPRODUCT(--EXACT(K241&M241,$AJ$2:AJ240)),\"\",MAX($AK$3:AK240)+1)","v":""}]
[1,{"$f":"IF(F242=\"\",\"\",IF(COUNTIF($F$3:F242, F242)>1, \"\", F242))","v":""},240,"",null,{"$f":"IF(I242=\"\",\"\",IF(K242=\"\",\"\", CONCATENATE(DIGITADOR!$M$1,G242,J242)))","v":""},null,null,"",{"$f":"IF(K242=\"\",\"\",INDEX('Otras referencias'!$AG:$AH,MATCH(K242,'Otras referencias'!$AG:$AG,0),2))","v":""},null,{"$f":"IF(J242=\"\",\"\",INDEX(referentes!$S:$W,MATCH(J242,referentes!$S:$S,0),1))","v":""},null,null,null,null,{"$f":"IF(P242=\"\",\"\",INDEX(referentes!$J:$K,MATCH(P242,referentes!$J:$J,0),2))","v":""},null,null,null,{"$f":"IF(T242=\"\",\"\",INDEX(referentes!D:E,MATCH(T242,referentes!D:D,0),2))","v":""},null,{"$f":"IF(V242=\"\",\"\",INDEX('Otras referencias'!AO:AP,MATCH(V242,'Otras referencias'!AO:AO,0),2))","v":""},null,{"$f":"IF(Z242=\"\",\"\",INDEX('Otras referencias'!H:I,MATCH(Z242,'Otras referencias'!I:I,0),1))","v":""},null,null,null,{"$f":"IF(AD242=\"\",\"\",INDEX('Otras referencias'!K:L,MATCH(AD242,'Otras referencias'!L:L,0),1))","v":""},null,"---",null,null,null,{"$f":"IF(V242=\"\",\"\",INDEX('Otras referencias'!AO:AQ,MATCH(V242,'Otras referencias'!AO:AO,0),3))","v":""},{"$f":"IF(SUMPRODUCT(--EXACT(K242&M242,$AJ$2:AJ241)),\"\",K242&M242)","v":""},{"$f":"IF(SUMPRODUCT(--EXACT(K242&M242,$AJ$2:AJ241)),\"\",MAX($AK$3:AK241)+1)","v":""}]
[1,{"$f":"IF(F243=\"\",\"\",IF(COUNTIF($F$3:F243, F243)>1, \"\", F243))","v":""},241,"",null,{"$f":"IF(I243=\"\",\"\",IF(K243=\"\",\"\", CONCATENATE(DIGITADOR!$M$1,G243,J243)))","v":""},null,null,"",{"$f":"IF(K243=\"\",\"\",INDEX('Otras referencias'!$AG:$AH,MATCH(K243,'Otras referencias'!$AG:$AG,0),2))","v":""},null,{"$f":"IF(J243=\"\",\"\",INDEX(referentes!$S:$W,MATCH(J243,referentes!$S:$S,0),1))","v":""},null,null,null,null,{"$f":"IF(P243=\"\",\"\",INDEX(referentes!$J:$K,MATCH(P243,referentes!$J:$J,0),2))","v":""},null,null,null,{"$f":"IF(T243=\"\",\"\",INDEX(referentes!D:E,MATCH(T243,referentes!D:D,0),2))","v":""},null,{"$f":"IF(V243=\"\",\"\",INDEX('Otras referencias'!AO:AP,MATCH(V243,'Otras referencias'!AO:AO,0),2))","v":""},null,{"$f":"IF(Z243=\"\",\"\",INDEX('Otras referencias'!H:I,MATCH(Z243,'Otras referencias'!I:I,0),1))","v":""},null,null,null,{"$f":"IF(AD243=\"\",\"\",INDEX('Otras referencias'!K:L,MATCH(AD243,'Otras referencias'!L:L,0),1))","v":""},null,"---",null,null,null,{"$f":"IF(V243=\"\",\"\",INDEX('Otras referencias'!AO:AQ,MATCH(V243,'Otras referencias'!AO:AO,0),3))","v":""},{"$f":"IF(SUMPRODUCT(--EXACT(K243&M243,$AJ$2:AJ242)),\"\",K243&M243)","v":""},{"$f":"IF(SUMPRODUCT(--EXACT(K243&M243,$AJ$2:AJ242)),\"\",MAX($AK$3:AK242)+1)","v":""}]
[1,{"$f":"IF(F244=\"\",\"\",IF(COUNTIF($F$3:F244, F244)>1, \"\", F244))","v":""},242,"",null,{"$f":"IF(I244=\"\",\"\",IF(K244=\"\",\"\", CONCATENATE(DIGITADOR!$M$1,G244,J244)))","v":""},null,null,"",{"$f":"IF(K244=\"\",\"\",INDEX('Otras referencias'!$AG:$AH,MATCH(K244,'Otras referencias'!$AG:$AG,0),2))","v":""},null,{"$f":"IF(J244=\"\",\"\",INDEX(referentes!$S:$W,MATCH(J244,referentes!$S:$S,0),1))","v":""},null,null,null,null,{"$f":"IF(P244=\"\",\"\",INDEX(referentes!$J:$K,MATCH(P244,referentes!$J:$J,0),2))","v":""},null,null,null,{"$f":"IF(T244=\"\",\"\",INDEX(referentes!D:E,MATCH(T244,referentes!D:D,0),2))","v":""},null,{"$f":"IF(V244=\"\",\"\",INDEX('Otras referencias'!AO:AP,MATCH(V244,'Otras referencias'!AO:AO,0),2))","v":""},null,{"$f":"IF(Z244=\"\",\"\",INDEX('Otras referencias'!H:I,MATCH(Z244,'Otras referencias'!I:I,0),1))","v":""},null,null,null,{"$f":"IF(AD244=\"\",\"\",INDEX('Otras referencias'!K:L,MATCH(AD244,'Otras referencias'!L:L,0),1))","v":""},null,"---",null,null,null,{"$f":"IF(V244=\"\",\"\",INDEX('Otras referencias'!AO:AQ,MATCH(V244,'Otras referencias'!AO:AO,0),3))","v":""},{"$f":"IF(SUMPRODUCT(--EXACT(K244&M244,$AJ$2:AJ243)),\"\",K244&M244)","v":""},{"$f":"IF(SUMPRODUCT(--EXACT(K244&M244,$AJ$2:AJ243)),\"\",MAX($AK$3:AK243)+1)","v":""}]
[1,{"$f":"IF(F245=\"\",\"\",IF(COUNTIF($F$3:F245, F245)>1, \"\", F245))","v":""},243,"",null,{"$f":"IF(I245=\"\",\"\",IF(K245=\"\",\"\", CONCATENATE(DIGITADOR!$M$1,G245,J245)))","v":""},null,null,"",{"$f":"IF(K245=\"\",\"\",INDEX('Otras referencias'!$AG:$AH,MATCH(K245,'Otras referencias'!$AG:$AG,0),2))","v":""},null,{"$f":"IF(J245=\"\",\"\",INDEX(referentes!$S:$W,MATCH(J245,referentes!$S:$S,0),1))","v":""},null,null,null,null,{"$f":"IF(P245=\"\",\"\",INDEX(referentes!$J:$K,MATCH(P245,referentes!$J:$J,0),2))","v":""},null,null,null,{"$f":"IF(T245=\"\",\"\",INDEX(referentes!D:E,MATCH(T245,referentes!D:D,0),2))","v":""},null,{"$f":"IF(V245=\"\",\"\",INDEX('Otras referencias'!AO:AP,MATCH(V245,'Otras referencias'!AO:AO,0),2))","v":""},null,{"$f":"IF(Z245=\"\",\"\",INDEX('Otras referencias'!H:I,MATCH(Z245,'Otras referencias'!I:I,0),1))","v":""},null,null,null,{"$f":"IF(AD245=\"\",\"\",INDEX('Otras referencias'!K:L,MATCH(AD245,'Otras referencias'!L:L,0),1))","v":""},null,"---",null,null,null,{"$f":"IF(V245=\"\",\"\",INDEX('Otras referencias'!AO:AQ,MATCH(V245,'Otras referencias'!AO:AO,0),3))","v":""},{"$f":"IF(SUMPRODUCT(--EXACT(K245&M245,$AJ$2:AJ244)),\"\",K245&M245)","v":""},{"$f":"IF(SUMPRODUCT(--EXACT(K245&M245,$AJ$2:AJ244)),\"\",MAX($AK$3:AK244)+1)","v":""}]
[1,{"$f":"IF(F246=\"\",\"\",IF(COUNTIF($F$3:F246, F246)>1, \"\", F246))","v":""},244,"",null,{"$f":"IF(I246=\"\",\"\",IF(K246=\"\",\"\", CONCATENATE(DIGITADOR!$M$1,G246,J246)))","v":""},null,null,"",{"$f":"IF(K246=\"\",\"\",INDEX('Otras referencias'!$AG:$AH,MATCH(K246,'Otras referencias'!$AG:$AG,0),2))","v":""},null,{"$f":"IF(J246=\"\",\"\",INDEX(referentes!$S:$W,MATCH(J246,referentes!$S:$S,0),1))","v":""},null,null,null,null,{"$f":"IF(P246=\"\",\"\",INDEX(referentes!$J:$K,MATCH(P246,referentes!$J:$J,0),2))","v":""},null,null,null,{"$f":"IF(T246=\"\",\"\",INDEX(referentes!D:E,MATCH(T246,referentes!D:D,0),2))","v":""},null,{"$f":"IF(V246=\"\",\"\",INDEX('Otras referencias'!AO:AP,MATCH(V246,'Otras referencias'!AO:AO,0),2))","v":""},null,{"$f":"IF(Z246=\"\",\"\",INDEX('Otras referencias'!H:I,MATCH(Z246,'Otras referencias'!I:I,0),1))","v":""},null,null,null,{"$f":"IF(AD246=\"\",\"\",INDEX('Otras referencias'!K:L,MATCH(AD246,'Otras referencias'!L:L,0),1))","v":""},null,"---",null,null,null,{"$f":"IF(V246=\"\",\"\",INDEX('Otras referencias'!AO:AQ,MATCH(V246,'Otras referencias'!AO:AO,0),3))","v":""},{"$f":"IF(SUMPRODUCT(--EXACT(K246&M246,$AJ$2:AJ245)),\"\",K246&M246)","v":""},{"$f":"IF(SUMPRODUCT(--EXACT(K246&M246,$AJ$2:AJ245)),\"\",MAX($AK$3:AK245)+1)","v":""}]
[1,{"$f":"IF(F247=\"\",\"\",IF(COUNTIF($F$3:F247, F247)>1, \"\", F247))","v":""},245,"",null,{"$f":"IF(I247=\"\",\"\",IF(K247=\"\",\"\", CONCATENATE(DIGITADOR!$M$1,G247,J247)))","v":""},null,null,"",{"$f":"IF(K247=\"\",\"\",INDEX('Otras referencias'!$AG:$AH,MATCH(K247,'Otras referencias'!$AG:$AG,0),2))","v":""},null,{"$f":"IF(J247=\"\",\"\",INDEX(referentes!$S:$W,MATCH(J247,referentes!$S:$S,0),1))","v":""},null,null,null,null,{"$f":"IF(P247=\"\",\"\",INDEX(referentes!$J:$K,MATCH(P247,referentes!$J:$J,0),2))","v":""},null,null,null,{"$f":"IF(T247=\"\",\"\",INDEX(referentes!D:E,MATCH(T247,referentes!D:D,0),2))","v":""},null,{"$f":"IF(V247=\"\",\"\",INDEX('Otras referencias'!AO:AP,MATCH(V247,'Otras referencias'!AO:AO,0),2))","v":""},null,{"$f":"IF(Z247=\"\",\"\",INDEX('Otras referencias'!H:I,MATCH(Z247,'Otras referencias'!I:I,0),1))","v":""},null,null,null,{"$f":"IF(AD247=\"\",\"\",INDEX('Otras referencias'!K:L,MATCH(AD247,'Otras referencias'!L:L,0),1))","v":""},null,"---",null,null,null,{"$f":"IF(V247=\"\",\"\",INDEX('Otras referencias'!AO:AQ,MATCH(V247,'Otras referencias'!AO:AO,0),3))","v":""},{"$f":"IF(SUMPRODUCT(--EXACT(K247&M247,$AJ$2:AJ246)),\"\",K247&M247)","v":""},{"$f":"IF(SUMPRODUCT(--EXACT(K247&M247,$AJ$2:AJ246)),\"\",MAX($AK$3:AK246)+1)","v":""}]
[1,{"$f":"IF(F248=\"\",\"\",IF(COUNTIF($F$3:F248, F248)>1, \"\", F248))","v":""},246,"",null,{"$f":"IF(I248=\"\",\"\",IF(K248=\"\",\"\", CONCATENATE(DIGITADOR!$M$1,G248,J248)))","v":""},null,null,"",{"$f":"IF(K248=\"\",\"\",INDEX('Otras referencias'!$AG:$AH,MATCH(K248,'Otras referencias'!$AG:$AG,0),2))","v":""},null,{"$f":"IF(J248=\"\",\"\",INDEX(referentes!$S:$W,MATCH(J248,referentes!$S:$S,0),1))","v":""},null,null,null,null,{"$f":"IF(P248=\"\",\"\",INDEX(referentes!$J:$K,MATCH(P248,referentes!$J:$J,0),2))","v":""},null,null,null,{"$f":"IF(T248=\"\",\"\",INDEX(referentes!D:E,MATCH(T248,referentes!D:D,0),2))","v":""},null,{"$f":"IF(V248=\"\",\"\",INDEX('Otras referencias'!AO:AP,MATCH(V248,'Otras referencias'!AO:AO,0),2))","v":""},null,{"$f":"IF(Z248=\"\",\"\",INDEX('Otras referencias'!H:I,MATCH(Z248,'Otras referencias'!I:I,0),1))","v":""},null,null,null,{"$f":"IF(AD248=\"\",\"\",INDEX('Otras referencias'!K:L,MATCH(AD248,'Otras referencias'!L:L,0),1))","v":""},null,"---",null,null,null,{"$f":"IF(V248=\"\",\"\",INDEX('Otras referencias'!AO:AQ,MATCH(V248,'Otras referencias'!AO:AO,0),3))","v":""},{"$f":"IF(SUMPRODUCT(--EXACT(K248&M248,$AJ$2:AJ247)),\"\",K248&M248)","v":""},{"$f":"IF(SUMPRODUCT(--EXACT(K248&M248,$AJ$2:AJ247)),\"\",MAX($AK$3:AK247)+1)","v":""}]
[1,{"$f":"IF(F249=\"\",\"\",IF(COUNTIF($F$3:F249, F249)>1, \"\", F249))","v":""},247,"",null,{"$f":"IF(I249=\"\",\"\",IF(K249=\"\",\"\", CONCATENATE(DIGITADOR!$M$1,G249,J249)))","v":""},null,null,"",{"$f":"IF(K249=\"\",\"\",INDEX('Otras referencias'!$AG:$AH,MATCH(K249,'Otras referencias'!$AG:$AG,0),2))","v":""},null,{"$f":"IF(J249=\"\",\"\",INDEX(referentes!$S:$W,MATCH(J249,referentes!$S:$S,0),1))","v":""},null,null,null,null,{"$f":"IF(P249=\"\",\"\",INDEX(referentes!$J:$K,MATCH(P249,referentes!$J:$J,0),2))","v":""},null,null,null,{"$f":"IF(T249=\"\",\"\",INDEX(referentes!D:E,MATCH(T249,referentes!D:D,0),2))","v":""},null,{"$f":"IF(V249=\"\",\"\",INDEX('Otras referencias'!AO:AP,MATCH(V249,'Otras referencias'!AO:AO,0),2))","v":""},null,{"$f":"IF(Z249=\"\",\"\",INDEX('Otras referencias'!H:I,MATCH(Z249,'Otras referencias'!I:I,0),1))","v":""},null,null,null,{"$f":"IF(AD249=\"\",\"\",INDEX('Otras referencias'!K:L,MATCH(AD249,'Otras referencias'!L:L,0),1))","v":""},null,"---",null,null,null,{"$f":"IF(V249=\"\",\"\",INDEX('Otras referencias'!AO:AQ,MATCH(V249,'Otras referencias'!AO:AO,0),3))","v":""},{"$f":"IF(SUMPRODUCT(--EXACT(K249&M249,$AJ$2:AJ248)),\"\",K249&M249)","v":""},{"$f":"IF(SUMPRODUCT(--EXACT(K249&M249,$AJ$2:AJ248)),\"\",MAX($AK$3:AK248)+1)","v":""}]
[1,{"$f":"IF(F250=\"\",\"\",IF(COUNTIF($F$3:F250, F250)>1, \"\", F250))","v":""},248,"",null,{"$f":"IF(I250=\"\",\"\",IF(K250=\"\",\"\", CONCATENATE(DIGITADOR!$M$1,G250,J250)))","v":""},null,null,"",{"$f":"IF(K250=\"\",\"\",INDEX('Otras referencias'!$AG:$AH,MATCH(K250,'Otras referencias'!$AG:$AG,0),2))","v":""},null,{"$f":"IF(J250=\"\",\"\",INDEX(referentes!$S:$W,MATCH(J250,referentes!$S:$S,0),1))","v":""},null,null,null,null,{"$f":"IF(P250=\"\",\"\",INDEX(referentes!$J:$K,MATCH(P250,referentes!$J:$J,0),2))","v":""},null,null,null,{"$f":"IF(T250=\"\",\"\",INDEX(referentes!D:E,MATCH(T250,referentes!D:D,0),2))","v":""},null,{"$f":"IF(V250=\"\",\"\",INDEX('Otras referencias'!AO:AP,MATCH(V250,'Otras referencias'!AO:AO,0),2))","v":""},null,{"$f":"IF(Z250=\"\",\"\",INDEX('Otras referencias'!H:I,MATCH(Z250,'Otras referencias'!I:I,0),1))","v":""},null,null,null,{"$f":"IF(AD250=\"\",\"\",INDEX('Otras referencias'!K:L,MATCH(AD250,'Otras referencias'!L:L,0),1))","v":""},null,"---",null,null,null,{"$f":"IF(V250=\"\",\"\",INDEX('Otras referencias'!AO:AQ,MATCH(V250,'Otras referencias'!AO:AO,0),3))","v":""},{"$f":"IF(SUMPRODUCT(--EXACT(K250&M250,$AJ$2:AJ249)),\"\",K250&M250)","v":""},{"$f":"IF(SUMPRODUCT(--EXACT(K250&M250,$AJ$2:AJ249)),\"\",MAX($AK$3:AK249)+1)","v":""}]
[1,{"$f":"IF(F251=\"\",\"\",IF(COUNTIF($F$3:F251, F251)>1, \"\", F251))","v":""},249,"",null,{"$f":"IF(I251=\"\",\"\",IF(K251=\"\",\"\", CONCATENATE(DIGITADOR!$M$1,G251,J251)))","v":""},null,null,"",{"$f":"IF(K251=\"\",\"\",INDEX('Otras referencias'!$AG:$AH,MATCH(K251,'Otras referencias'!$AG:$AG,0),2))","v":""},null,{"$f":"IF(J251=\"\",\"\",INDEX(referentes!$S:$W,MATCH(J251,referentes!$S:$S,0),1))","v":""},null,null,null,null,{"$f":"IF(P251=\"\",\"\",INDEX(referentes!$J:$K,MATCH(P251,referentes!$J:$J,0),2))","v":""},null,null,null,{"$f":"IF(T251=\"\",\"\",INDEX(referentes!D:E,MATCH(T251,referentes!D:D,0),2))","v":""},null,{"$f":"IF(V251=\"\",\"\",INDEX('Otras referencias'!AO:AP,MATCH(V251,'Otras referencias'!AO:AO,0),2))","v":""},null,{"$f":"IF(Z251=\"\",\"\",INDEX('Otras referencias'!H:I,MATCH(Z251,'Otras referencias'!I:I,0),1))","v":""},null,null,null,{"$f":"IF(AD251=\"\",\"\",INDEX('Otras referencias'!K:L,MATCH(AD251,'Otras referencias'!L:L,0),1))","v":""},null,"---",null,null,null,{"$f":"IF(V251=\"\",\"\",INDEX('Otras referencias'!AO:AQ,MATCH(V251,'Otras referencias'!AO:AO,0),3))","v":""},{"$f":"IF(SUMPRODUCT(--EXACT(K251&M251,$AJ$2:AJ250)),\"\",K251&M251)","v":""},{"$f":"IF(SUMPRODUCT(--EXACT(K251&M251,$AJ$2:AJ250)),\"\",MAX($AK$3:AK250)+1)","v":""}]
[1,{"$f":"IF(F252=\"\",\"\",IF(COUNTIF($F$3:F252, F252)>1, \"\", F252))","v":""},250,"",null,{"$f":"IF(I252=\"\",\"\",IF(K252=\"\",\"\", CONCATENATE(DIGITADOR!$M$1,G252,J252)))","v":""},null,null,"",{"$f":"IF(K252=\"\",\"\",INDEX('Otras referencias'!$AG:$AH,MATCH(K252,'Otras referencias'!$AG:$AG,0),2))","v":""},null,{"$f":"IF(J252=\"\",\"\",INDEX(referentes!$S:$W,MATCH(J252,referentes!$S:$S,0),1))","v":""},null,null,null,null,{"$f":"IF(P252=\"\",\"\",INDEX(referentes!$J:$K,MATCH(P252,referentes!$J:$J,0),2))","v":""},null,null,null,{"$f":"IF(T252=\"\",\"\",INDEX(referentes!D:E,MATCH(T252,referentes!D:D,0),2))","v":""},null,{"$f":"IF(V252=\"\",\"\",INDEX('Otras referencias'!AO:AP,MATCH(V252,'Otras referencias'!AO:AO,0),2))","v":""},null,{"$f":"IF(Z252=\"\",\"\",INDEX('Otras referencias'!H:I,MATCH(Z252,'Otras referencias'!I:I,0),1))","v":""},null,null,null,{"$f":"IF(AD252=\"\",\"\",INDEX('Otras referencias'!K:L,MATCH(AD252,'Otras referencias'!L:L,0),1))","v":""},null,"---",null,null,null,{"$f":"IF(V252=\"\",\"\",INDEX('Otras referencias'!AO:AQ,MATCH(V252,'Otras referencias'!AO:AO,0),3))","v":""},{"$f":"IF(SUMPRODUCT(--EXACT(K252&M252,$AJ$2:AJ251)),\"\",K252&M252)","v":""},{"$f":"IF(SUMPRODUCT(--EXACT(K252&M252,$AJ$2:AJ251)),\"\",MAX($AK$3:AK251)+1)","v":""}]
[1,{"$f":"IF(F253=\"\",\"\",IF(COUNTIF($F$3:F253, F253)>1, \"\", F253))","v":""},251,"",null,{"$f":"IF(I253=\"\",\"\",IF(K253=\"\",\"\", CONCATENATE(DIGITADOR!$M$1,G253,J253)))","v":""},null,null,"",{"$f":"IF(K253=\"\",\"\",INDEX('Otras referencias'!$AG:$AH,MATCH(K253,'Otras referencias'!$AG:$AG,0),2))","v":""},null,{"$f":"IF(J253=\"\",\"\",INDEX(referentes!$S:$W,MATCH(J253,referentes!$S:$S,0),1))","v":""},null,null,null,null,{"$f":"IF(P253=\"\",\"\",INDEX(referentes!$J:$K,MATCH(P253,referentes!$J:$J,0),2))","v":""},null,null,null,{"$f":"IF(T253=\"\",\"\",INDEX(referentes!D:E,MATCH(T253,referentes!D:D,0),2))","v":""},null,{"$f":"IF(V253=\"\",\"\",INDEX('Otras referencias'!AO:AP,MATCH(V253,'Otras referencias'!AO:AO,0),2))","v":""},null,{"$f":"IF(Z253=\"\",\"\",INDEX('Otras referencias'!H:I,MATCH(Z253,'Otras referencias'!I:I,0),1))","v":""},null,null,null,{"$f":"IF(AD253=\"\",\"\",INDEX('Otras referencias'!K:L,MATCH(AD253,'Otras referencias'!L:L,0),1))","v":""},null,"---",null,null,null,{"$f":"IF(V253=\"\",\"\",INDEX('Otras referencias'!AO:AQ,MATCH(V253,'Otras referencias'!AO:AO,0),3))","v":""},{"$f":"IF(SUMPRODUCT(--EXACT(K253&M253,$AJ$2:AJ252)),\"\",K253&M253)","v":""},{"$f":"IF(SUMPRODUCT(--EXACT(K253&M253,$AJ$2:AJ252)),\"\",MAX($AK$3:AK252)+1)","v":""}]
[1,{"$f":"IF(F254=\"\",\"\",IF(COUNTIF($F$3:F254, F254)>1, \"\", F254))","v":""},252,"",null,{"$f":"IF(I254=\"\",\"\",IF(K254=\"\",\"\", CONCATENATE(DIGITADOR!$M$1,G254,J254)))","v":""},null,null,"",{"$f":"IF(K254=\"\",\"\",INDEX('Otras referencias'!$AG:$AH,MATCH(K254,'Otras referencias'!$AG:$AG,0),2))","v":""},null,{"$f":"IF(J254=\"\",\"\",INDEX(referentes!$S:$W,MATCH(J254,referentes!$S:$S,0),1))","v":""},null,null,null,null,{"$f":"IF(P254=\"\",\"\",INDEX(referentes!$J:$K,MATCH(P254,referentes!$J:$J,0),2))","v":""},null,null,null,{"$f":"IF(T254=\"\",\"\",INDEX(referentes!D:E,MATCH(T254,referentes!D:D,0),2))","v":""},null,{"$f":"IF(V254=\"\",\"\",INDEX('Otras referencias'!AO:AP,MATCH(V254,'Otras referencias'!AO:AO,0),2))","v":""},null,{"$f":"IF(Z254=\"\",\"\",INDEX('Otras referencias'!H:I,MATCH(Z254,'Otras referencias'!I:I,0),1))","v":""},null,null,null,{"$f":"IF(AD254=\"\",\"\",INDEX('Otras referencias'!K:L,MATCH(AD254,'Otras referencias'!L:L,0),1))","v":""},null,"---",null,null,null,{"$f":"IF(V254=\"\",\"\",INDEX('Otras referencias'!AO:AQ,MATCH(V254,'Otras referencias'!AO:AO,0),3))","v":""},{"$f":"IF(SUMPRODUCT(--EXACT(K254&M254,$AJ$2:AJ253)),\"\",K254&M254)","v":""},{"$f":"IF(SUMPRODUCT(--EXACT(K254&M254,$AJ$2:AJ253)),\"\",MAX($AK$3:AK253)+1)","v":""}]
[1,{"$f":"IF(F255=\"\",\"\",IF(COUNTIF($F$3:F255, F255)>1, \"\", F255))","v":""},253,"",null,{"$f":"IF(I255=\"\",\"\",IF(K255=\"\",\"\", CONCATENATE(DIGITADOR!$M$1,G255,J255)))","v":""},null,null,"",{"$f":"IF(K255=\"\",\"\",INDEX('Otras referencias'!$AG:$AH,MATCH(K255,'Otras referencias'!$AG:$AG,0),2))","v":""},null,{"$f":"IF(J255=\"\",\"\",INDEX(referentes!$S:$W,MATCH(J255,referentes!$S:$S,0),1))","v":""},null,null,null,null,{"$f":"IF(P255=\"\",\"\",INDEX(referentes!$J:$K,MATCH(P255,referentes!$J:$J,0),2))","v":""},null,null,null,{"$f":"IF(T255=\"\",\"\",INDEX(referentes!D:E,MATCH(T255,referentes!D:D,0),2))","v":""},null,{"$f":"IF(V255=\"\",\"\",INDEX('Otras referencias'!AO:AP,MATCH(V255,'Otras referencias'!AO:AO,0),2))","v":""},null,{"$f":"IF(Z255=\"\",\"\",INDEX('Otras referencias'!H:I,MATCH(Z255,'Otras referencias'!I:I,0),1))","v":""},null,null,null,{"$f":"IF(AD255=\"\",\"\",INDEX('Otras referencias'!K:L,MATCH(AD255,'Otras referencias'!L:L,0),1))","v":""},null,"---",null,null,null,{"$f":"IF(V255=\"\",\"\",INDEX('Otras referencias'!AO:AQ,MATCH(V255,'Otras referencias'!AO:AO,0),3))","v":""},{"$f":"IF(SUMPRODUCT(--EXACT(K255&M255,$AJ$2:AJ254)),\"\",K255&M255)","v":""},{"$f":"IF(SUMPRODUCT(--EXACT(K255&M255,$AJ$2:AJ254)),\"\",MAX($AK$3:AK254)+1)","v":""}]
[1,{"$f":"IF(F256=\"\",\"\",IF(COUNTIF($F$3:F256, F256)>1, \"\", F256))","v":""},254,"",null,{"$f":"IF(I256=\"\",\"\",IF(K256=\"\",\"\", CONCATENATE(DIGITADOR!$M$1,G256,J256)))","v":""},null,null,"",{"$f":"IF(K256=\"\",\"\",INDEX('Otras referencias'!$AG:$AH,MATCH(K256,'Otras referencias'!$AG:$AG,0),2))","v":""},null,{"$f":"IF(J256=\"\",\"\",INDEX(referentes!$S:$W,MATCH(J256,referentes!$S:$S,0),1))","v":""},null,null,null,null,{"$f":"IF(P256=\"\",\"\",INDEX(referentes!$J:$K,MATCH(P256,referentes!$J:$J,0),2))","v":""},null,null,null,{"$f":"IF(T256=\"\",\"\",INDEX(referentes!D:E,MATCH(T256,referentes!D:D,0),2))","v":""},null,{"$f":"IF(V256=\"\",\"\",INDEX('Otras referencias'!AO:AP,MATCH(V256,'Otras referencias'!AO:AO,0),2))","v":""},null,{"$f":"IF(Z256=\"\",\"\",INDEX('Otras referencias'!H:I,MATCH(Z256,'Otras referencias'!I:I,0),1))","v":""},null,null,null,{"$f":"IF(AD256=\"\",\"\",INDEX('Otras referencias'!K:L,MATCH(AD256,'Otras referencias'!L:L,0),1))","v":""},null,"---",null,null,null,{"$f":"IF(V256=\"\",\"\",INDEX('Otras referencias'!AO:AQ,MATCH(V256,'Otras referencias'!AO:AO,0),3))","v":""},{"$f":"IF(SUMPRODUCT(--EXACT(K256&M256,$AJ$2:AJ255)),\"\",K256&M256)","v":""},{"$f":"IF(SUMPRODUCT(--EXACT(K256&M256,$AJ$2:AJ255)),\"\",MAX($AK$3:AK255)+1)","v":""}]
[1,{"$f":"IF(F257=\"\",\"\",IF(COUNTIF($F$3:F257, F257)>1, \"\", F257))","v":""},255,"",null,{"$f":"IF(I257=\"\",\"\",IF(K257=\"\",\"\", CONCATENATE(DIGITADOR!$M$1,G257,J257)))","v":""},null,null,"",{"$f":"IF(K257=\"\",\"\",INDEX('Otras referencias'!$AG:$AH,MATCH(K257,'Otras referencias'!$AG:$AG,0),2))","v":""},null,{"$f":"IF(J257=\"\",\"\",INDEX(referentes!$S:$W,MATCH(J257,referentes!$S:$S,0),1))","v":""},null,null,null,null,{"$f":"IF(P257=\"\",\"\",INDEX(referentes!$J:$K,MATCH(P257,referentes!$J:$J,0),2))","v":""},null,null,null,{"$f":"IF(T257=\"\",\"\",INDEX(referentes!D:E,MATCH(T257,referentes!D:D,0),2))","v":""},null,{"$f":"IF(V257=\"\",\"\",INDEX('Otras referencias'!AO:AP,MATCH(V257,'Otras referencias'!AO:AO,0),2))","v":""},null,{"$f":"IF(Z257=\"\",\"\",INDEX('Otras referencias'!H:I,MATCH(Z257,'Otras referencias'!I:I,0),1))","v":""},null,null,null,{"$f":"IF(AD257=\"\",\"\",INDEX('Otras referencias'!K:L,MATCH(AD257,'Otras referencias'!L:L,0),1))","v":""},null,"---",null,null,null,{"$f":"IF(V257=\"\",\"\",INDEX('Otras referencias'!AO:AQ,MATCH(V257,'Otras referencias'!AO:AO,0),3))","v":""},{"$f":"IF(SUMPRODUCT(--EXACT(K257&M257,$AJ$2:AJ256)),\"\",K257&M257)","v":""},{"$f":"IF(SUMPRODUCT(--EXACT(K257&M257,$AJ$2:AJ256)),\"\",MAX($AK$3:AK256)+1)","v":""}]
[1,{"$f":"IF(F258=\"\",\"\",IF(COUNTIF($F$3:F258, F258)>1, \"\", F258))","v":""},256,"",null,{"$f":"IF(I258=\"\",\"\",IF(K258=\"\",\"\", CONCATENATE(DIGITADOR!$M$1,G258,J258)))","v":""},null,null,"",{"$f":"IF(K258=\"\",\"\",INDEX('Otras referencias'!$AG:$AH,MATCH(K258,'Otras referencias'!$AG:$AG,0),2))","v":""},null,{"$f":"IF(J258=\"\",\"\",INDEX(referentes!$S:$W,MATCH(J258,referentes!$S:$S,0),1))","v":""},null,null,null,null,{"$f":"IF(P258=\"\",\"\",INDEX(referentes!$J:$K,MATCH(P258,referentes!$J:$J,0),2))","v":""},null,null,null,{"$f":"IF(T258=\"\",\"\",INDEX(referentes!D:E,MATCH(T258,referentes!D:D,0),2))","v":""},null,{"$f":"IF(V258=\"\",\"\",INDEX('Otras referencias'!AO:AP,MATCH(V258,'Otras referencias'!AO:AO,0),2))","v":""},null,{"$f":"IF(Z258=\"\",\"\",INDEX('Otras referencias'!H:I,MATCH(Z258,'Otras referencias'!I:I,0),1))","v":""},null,null,null,{"$f":"IF(AD258=\"\",\"\",INDEX('Otras referencias'!K:L,MATCH(AD258,'Otras referencias'!L:L,0),1))","v":""},null,"---",null,null,null,{"$f":"IF(V258=\"\",\"\",INDEX('Otras referencias'!AO:AQ,MATCH(V258,'Otras referencias'!AO:AO,0),3))","v":""},{"$f":"IF(SUMPRODUCT(--EXACT(K258&M258,$AJ$2:AJ257)),\"\",K258&M258)","v":""},{"$f":"IF(SUMPRODUCT(--EXACT(K258&M258,$AJ$2:AJ257)),\"\",MAX($AK$3:AK257)+1)","v":""}]
[1,{"$f":"IF(F259=\"\",\"\",IF(COUNTIF($F$3:F259, F259)>1, \"\", F259))","v":""},257,"",null,{"$f":"IF(I259=\"\",\"\",IF(K259=\"\",\"\", CONCATENATE(DIGITADOR!$M$1,G259,J259)))","v":""},null,null,{"$f":"IF(G259<>\"\",G259+H259,\"\")","v":""},{"$f":"IF(K259=\"\",\"\",INDEX('Otras referencias'!$AG:$AH,MATCH(K259,'Otras referencias'!$AG:$AG,0),2))","v":""},null,{"$f":"IF(J259=\"\",\"\",INDEX(referentes!$S:$W,MATCH(J259,referentes!$S:$S,0),1))","v":""},null,null,null,null,{"$f":"IF(P259=\"\",\"\",INDEX(referentes!$J:$K,MATCH(P259,referentes!$J:$J,0),2))","v":""},null,null,null,{"$f":"IF(T259=\"\",\"\",INDEX(referentes!D:E,MATCH(T259,referentes!D:D,0),2))","v":""},null,{"$f":"IF(V259=\"\",\"\",INDEX('Otras referencias'!AO:AP,MATCH(V259,'Otras referencias'!AO:AO,0),2))","v":""},null,{"$f":"IF(Z259=\"\",\"\",INDEX('Otras referencias'!H:I,MATCH(Z259,'Otras referencias'!I:I,0),1))","v":""},null,null,null,{"$f":"IF(AD259=\"\",\"\",INDEX('Otras referencias'!K:L,MATCH(AD259,'Otras referencias'!L:L,0),1))","v":""},null,"---",null,null,null,{"$f":"IF(V259=\"\",\"\",INDEX('Otras referencias'!AO:AQ,MATCH(V259,'Otras referencias'!AO:AO,0),3))","v":""},{"$f":"IF(SUMPRODUCT(--EXACT(K259&M259,$AJ$2:AJ258)),\"\",K259&M259)","v":""},{"$f":"IF(SUMPRODUCT(--EXACT(K259&M259,$AJ$2:AJ258)),\"\",MAX($AK$3:AK258)+1)","v":""}]
[1,{"$f":"IF(F260=\"\",\"\",IF(COUNTIF($F$3:F260, F260)>1, \"\", F260))","v":""},258,{"$f":"IF(F260=\"\",\"\",CONCATENATE(F260,ROW()-2))","v":""},null,{"$f":"IF(I260=\"\",\"\",IF(K260=\"\",\"\", CONCATENATE(DIGITADOR!$M$1,G260,J260)))","v":""},null,null,"",{"$f":"IF(K260=\"\",\"\",INDEX('Otras referencias'!$AG:$AH,MATCH(K260,'Otras referencias'!$AG:$AG,0),2))","v":""},null,{"$f":"IF(J260=\"\",\"\",INDEX(referentes!$S:$W,MATCH(J260,referentes!$S:$S,0),1))","v":""},null,null,null,null,{"$f":"IF(P260=\"\",\"\",INDEX(referentes!$J:$K,MATCH(P260,referentes!$J:$J,0),2))","v":""},null,null,null,{"$f":"IF(T260=\"\",\"\",INDEX(referentes!D:E,MATCH(T260,referentes!D:D,0),2))","v":""},null,{"$f":"IF(V260=\"\",\"\",INDEX('Otras referencias'!AO:AP,MATCH(V260,'Otras referencias'!AO:AO,0),2))","v":""},null,{"$f":"IF(Z260=\"\",\"\",INDEX('Otras referencias'!H:I,MATCH(Z260,'Otras referencias'!I:I,0),1))","v":""},null,null,null,{"$f":"IF(AD260=\"\",\"\",INDEX('Otras referencias'!K:L,MATCH(AD260,'Otras referencias'!L:L,0),1))","v":""},null,{"$f":"K260&\"-\"&M260&\"-\"&P260&\"-\"&R260","v":"---"},null,null,null,{"$f":"IF(V260=\"\",\"\",INDEX('Otras referencias'!AO:AQ,MATCH(V260,'Otras referencias'!AO:AO,0),3))","v":""},{"$f":"IF(SUMPRODUCT(--EXACT(K260&M260,$AJ$2:AJ259)),\"\",K260&M260)","v":""},{"$f":"IF(SUMPRODUCT(--EXACT(K260&M260,$AJ$2:AJ259)),\"\",MAX($AK$3:AK259)+1)","v":""}]
[{"$f":"IF(L261=L260,A260,A260+1)","v":1},{"$f":"IF(F261=\"\",\"\",IF(COUNTIF($F$3:F261, F261)>1, \"\", F261))","v":""},259,"",null,{"$f":"IF(I261=\"\",\"\",IF(K261=\"\",\"\", CONCATENATE(DIGITADOR!$M$1,G261,J261)))","v":""},null,null,"",{"$f":"IF(K261=\"\",\"\",INDEX('Otras referencias'!$AG:$AH,MATCH(K261,'Otras referencias'!$AG:$AG,0),2))","v":""},null,{"$f":"IF(J261=\"\",\"\",INDEX(referentes!$S:$W,MATCH(J261,referentes!$S:$S,0),1))","v":""},null,null,null,null,{"$f":"IF(P261=\"\",\"\",INDEX(referentes!$J:$K,MATCH(P261,referentes!$J:$J,0),2))","v":""},null,null,null,{"$f":"IF(T261=\"\",\"\",INDEX(referentes!D:E,MATCH(T261,referentes!D:D,0),2))","v":""},null,{"$f":"IF(V261=\"\",\"\",INDEX('Otras referencias'!AO:AP,MATCH(V261,'Otras referencias'!AO:AO,0),2))","v":""},null,{"$f":"IF(Z261=\"\",\"\",INDEX('Otras referencias'!H:I,MATCH(Z261,'Otras referencias'!I:I,0),1))","v":""},null,null,null,{"$f":"IF(AD261=\"\",\"\",INDEX('Otras referencias'!K:L,MATCH(AD261,'Otras referencias'!L:L,0),1))","v":""},null,"---",null,null,null,{"$f":"IF(V261=\"\",\"\",INDEX('Otras referencias'!AO:AQ,MATCH(V261,'Otras referencias'!AO:AO,0),3))","v":""},{"$f":"IF(SUMPRODUCT(--EXACT(K261&M261,$AJ$2:AJ260)),\"\",K261&M261)","v":""},{"$f":"IF(SUMPRODUCT(--EXACT(K261&M261,$AJ$2:AJ260)),\"\",MAX($AK$3:AK260)+1)","v":""}]
[1,{"$f":"IF(F262=\"\",\"\",IF(COUNTIF($F$3:F262, F262)>1, \"\", F262))","v":""},260,"",null,{"$f":"IF(I262=\"\",\"\",IF(K262=\"\",\"\", CONCATENATE(DIGITADOR!$M$1,G262,J262)))","v":""},null,null,"",{"$f":"IF(K262=\"\",\"\",INDEX('Otras referencias'!$AG:$AH,MATCH(K262,'Otras referencias'!$AG:$AG,0),2))","v":""},null,{"$f":"IF(J262=\"\",\"\",INDEX(referentes!$S:$W,MATCH(J262,referentes!$S:$S,0),1))","v":""},null,null,null,null,{"$f":"IF(P262=\"\",\"\",INDEX(referentes!$J:$K,MATCH(P262,referentes!$J:$J,0),2))","v":""},null,null,null,{"$f":"IF(T262=\"\",\"\",INDEX(referentes!D:E,MATCH(T262,referentes!D:D,0),2))","v":""},null,{"$f":"IF(V262=\"\",\"\",INDEX('Otras referencias'!AO:AP,MATCH(V262,'Otras referencias'!AO:AO,0),2))","v":""},null,{"$f":"IF(Z262=\"\",\"\",INDEX('Otras referencias'!H:I,MATCH(Z262,'Otras referencias'!I:I,0),1))","v":""},null,null,null,{"$f":"IF(AD262=\"\",\"\",INDEX('Otras referencias'!K:L,MATCH(AD262,'Otras referencias'!L:L,0),1))","v":""},null,"---",null,null,null,{"$f":"IF(V262=\"\",\"\",INDEX('Otras referencias'!AO:AQ,MATCH(V262,'Otras referencias'!AO:AO,0),3))","v":""},{"$f":"IF(SUMPRODUCT(--EXACT(K262&M262,$AJ$2:AJ261)),\"\",K262&M262)","v":""},{"$f":"IF(SUMPRODUCT(--EXACT(K262&M262,$AJ$2:AJ261)),\"\",MAX($AK$3:AK261)+1)","v":""}]
[1,{"$f":"IF(F263=\"\",\"\",IF(COUNTIF($F$3:F263, F263)>1, \"\", F263))","v":""},261,"",null,{"$f":"IF(I263=\"\",\"\",IF(K263=\"\",\"\", CONCATENATE(DIGITADOR!$M$1,G263,J263)))","v":""},null,null,"",{"$f":"IF(K263=\"\",\"\",INDEX('Otras referencias'!$AG:$AH,MATCH(K263,'Otras referencias'!$AG:$AG,0),2))","v":""},null,{"$f":"IF(J263=\"\",\"\",INDEX(referentes!$S:$W,MATCH(J263,referentes!$S:$S,0),1))","v":""},null,null,null,null,{"$f":"IF(P263=\"\",\"\",INDEX(referentes!$J:$K,MATCH(P263,referentes!$J:$J,0),2))","v":""},null,null,null,{"$f":"IF(T263=\"\",\"\",INDEX(referentes!D:E,MATCH(T263,referentes!D:D,0),2))","v":""},null,{"$f":"IF(V263=\"\",\"\",INDEX('Otras referencias'!AO:AP,MATCH(V263,'Otras referencias'!AO:AO,0),2))","v":""},null,{"$f":"IF(Z263=\"\",\"\",INDEX('Otras referencias'!H:I,MATCH(Z263,'Otras referencias'!I:I,0),1))","v":""},null,null,null,{"$f":"IF(AD263=\"\",\"\",INDEX('Otras referencias'!K:L,MATCH(AD263,'Otras referencias'!L:L,0),1))","v":""},null,"---",null,null,null,{"$f":"IF(V263=\"\",\"\",INDEX('Otras referencias'!AO:AQ,MATCH(V263,'Otras referencias'!AO:AO,0),3))","v":""},{"$f":"IF(SUMPRODUCT(--EXACT(K263&M263,$AJ$2:AJ262)),\"\",K263&M263)","v":""},{"$f":"IF(SUMPRODUCT(--EXACT(K263&M263,$AJ$2:AJ262)),\"\",MAX($AK$3:AK262)+1)","v":""}]
[1,{"$f":"IF(F264=\"\",\"\",IF(COUNTIF($F$3:F264, F264)>1, \"\", F264))","v":""},262,"",null,{"$f":"IF(I264=\"\",\"\",IF(K264=\"\",\"\", CONCATENATE(DIGITADOR!$M$1,G264,J264)))","v":""},null,null,"",{"$f":"IF(K264=\"\",\"\",INDEX('Otras referencias'!$AG:$AH,MATCH(K264,'Otras referencias'!$AG:$AG,0),2))","v":""},null,{"$f":"IF(J264=\"\",\"\",INDEX(referentes!$S:$W,MATCH(J264,referentes!$S:$S,0),1))","v":""},null,null,null,null,{"$f":"IF(P264=\"\",\"\",INDEX(referentes!$J:$K,MATCH(P264,referentes!$J:$J,0),2))","v":""},null,null,null,{"$f":"IF(T264=\"\",\"\",INDEX(referentes!D:E,MATCH(T264,referentes!D:D,0),2))","v":""},null,{"$f":"IF(V264=\"\",\"\",INDEX('Otras referencias'!AO:AP,MATCH(V264,'Otras referencias'!AO:AO,0),2))","v":""},null,{"$f":"IF(Z264=\"\",\"\",INDEX('Otras referencias'!H:I,MATCH(Z264,'Otras referencias'!I:I,0),1))","v":""},null,null,null,{"$f":"IF(AD264=\"\",\"\",INDEX('Otras referencias'!K:L,MATCH(AD264,'Otras referencias'!L:L,0),1))","v":""},null,"---",null,null,null,{"$f":"IF(V264=\"\",\"\",INDEX('Otras referencias'!AO:AQ,MATCH(V264,'Otras referencias'!AO:AO,0),3))","v":""},{"$f":"IF(SUMPRODUCT(--EXACT(K264&M264,$AJ$2:AJ263)),\"\",K264&M264)","v":""},{"$f":"IF(SUMPRODUCT(--EXACT(K264&M264,$AJ$2:AJ263)),\"\",MAX($AK$3:AK263)+1)","v":""}]
[1,{"$f":"IF(F265=\"\",\"\",IF(COUNTIF($F$3:F265, F265)>1, \"\", F265))","v":""},263,"",null,{"$f":"IF(I265=\"\",\"\",IF(K265=\"\",\"\", CONCATENATE(DIGITADOR!$M$1,G265,J265)))","v":""},null,null,"",{"$f":"IF(K265=\"\",\"\",INDEX('Otras referencias'!$AG:$AH,MATCH(K265,'Otras referencias'!$AG:$AG,0),2))","v":""},null,{"$f":"IF(J265=\"\",\"\",INDEX(referentes!$S:$W,MATCH(J265,referentes!$S:$S,0),1))","v":""},null,null,null,null,{"$f":"IF(P265=\"\",\"\",INDEX(referentes!$J:$K,MATCH(P265,referentes!$J:$J,0),2))","v":""},null,null,null,{"$f":"IF(T265=\"\",\"\",INDEX(referentes!D:E,MATCH(T265,referentes!D:D,0),2))","v":""},null,{"$f":"IF(V265=\"\",\"\",INDEX('Otras referencias'!AO:AP,MATCH(V265,'Otras referencias'!AO:AO,0),2))","v":""},null,{"$f":"IF(Z265=\"\",\"\",INDEX('Otras referencias'!H:I,MATCH(Z265,'Otras referencias'!I:I,0),1))","v":""},null,null,null,{"$f":"IF(AD265=\"\",\"\",INDEX('Otras referencias'!K:L,MATCH(AD265,'Otras referencias'!L:L,0),1))","v":""},null,"---",null,null,null,{"$f":"IF(V265=\"\",\"\",INDEX('Otras referencias'!AO:AQ,MATCH(V265,'Otras referencias'!AO:AO,0),3))","v":""},{"$f":"IF(SUMPRODUCT(--EXACT(K265&M265,$AJ$2:AJ264)),\"\",K265&M265)","v":""},{"$f":"IF(SUMPRODUCT(--EXACT(K265&M265,$AJ$2:AJ264)),\"\",MAX($AK$3:AK264)+1)","v":""}]
[1,{"$f":"IF(F266=\"\",\"\",IF(COUNTIF($F$3:F266, F266)>1, \"\", F266))","v":""},264,"",null,{"$f":"IF(I266=\"\",\"\",IF(K266=\"\",\"\", CONCATENATE(DIGITADOR!$M$1,G266,J266)))","v":""},null,null,"",{"$f":"IF(K266=\"\",\"\",INDEX('Otras referencias'!$AG:$AH,MATCH(K266,'Otras referencias'!$AG:$AG,0),2))","v":""},null,{"$f":"IF(J266=\"\",\"\",INDEX(referentes!$S:$W,MATCH(J266,referentes!$S:$S,0),1))","v":""},null,null,null,null,{"$f":"IF(P266=\"\",\"\",INDEX(referentes!$J:$K,MATCH(P266,referentes!$J:$J,0),2))","v":""},null,null,null,{"$f":"IF(T266=\"\",\"\",INDEX(referentes!D:E,MATCH(T266,referentes!D:D,0),2))","v":""},null,{"$f":"IF(V266=\"\",\"\",INDEX('Otras referencias'!AO:AP,MATCH(V266,'Otras referencias'!AO:AO,0),2))","v":""},null,{"$f":"IF(Z266=\"\",\"\",INDEX('Otras referencias'!H:I,MATCH(Z266,'Otras referencias'!I:I,0),1))","v":""},null,null,null,{"$f":"IF(AD266=\"\",\"\",INDEX('Otras referencias'!K:L,MATCH(AD266,'Otras referencias'!L:L,0),1))","v":""},null,"---",null,null,null,{"$f":"IF(V266=\"\",\"\",INDEX('Otras referencias'!AO:AQ,MATCH(V266,'Otras referencias'!AO:AO,0),3))","v":""},{"$f":"IF(SUMPRODUCT(--EXACT(K266&M266,$AJ$2:AJ265)),\"\",K266&M266)","v":""},{"$f":"IF(SUMPRODUCT(--EXACT(K266&M266,$AJ$2:AJ265)),\"\",MAX($AK$3:AK265)+1)","v":""}]
[1,{"$f":"IF(F267=\"\",\"\",IF(COUNTIF($F$3:F267, F267)>1, \"\", F267))","v":""},265,"",null,{"$f":"IF(I267=\"\",\"\",IF(K267=\"\",\"\", CONCATENATE(DIGITADOR!$M$1,G267,J267)))","v":""},null,null,"",{"$f":"IF(K267=\"\",\"\",INDEX('Otras referencias'!$AG:$AH,MATCH(K267,'Otras referencias'!$AG:$AG,0),2))","v":""},null,{"$f":"IF(J267=\"\",\"\",INDEX(referentes!$S:$W,MATCH(J267,referentes!$S:$S,0),1))","v":""},null,null,null,null,{"$f":"IF(P267=\"\",\"\",INDEX(referentes!$J:$K,MATCH(P267,referentes!$J:$J,0),2))","v":""},null,null,null,{"$f":"IF(T267=\"\",\"\",INDEX(referentes!D:E,MATCH(T267,referentes!D:D,0),2))","v":""},null,{"$f":"IF(V267=\"\",\"\",INDEX('Otras referencias'!AO:AP,MATCH(V267,'Otras referencias'!AO:AO,0),2))","v":""},null,{"$f":"IF(Z267=\"\",\"\",INDEX('Otras referencias'!H:I,MATCH(Z267,'Otras referencias'!I:I,0),1))","v":""},null,null,null,{"$f":"IF(AD267=\"\",\"\",INDEX('Otras referencias'!K:L,MATCH(AD267,'Otras referencias'!L:L,0),1))","v":""},null,"---",null,null,null,{"$f":"IF(V267=\"\",\"\",INDEX('Otras referencias'!AO:AQ,MATCH(V267,'Otras referencias'!AO:AO,0),3))","v":""},{"$f":"IF(SUMPRODUCT(--EXACT(K267&M267,$AJ$2:AJ266)),\"\",K267&M267)","v":""},{"$f":"IF(SUMPRODUCT(--EXACT(K267&M267,$AJ$2:AJ266)),\"\",MAX($AK$3:AK266)+1)","v":""}]
[1,{"$f":"IF(F268=\"\",\"\",IF(COUNTIF($F$3:F268, F268)>1, \"\", F268))","v":""},266,"",null,{"$f":"IF(I268=\"\",\"\",IF(K268=\"\",\"\", CONCATENATE(DIGITADOR!$M$1,G268,J268)))","v":""},null,null,"",{"$f":"IF(K268=\"\",\"\",INDEX('Otras referencias'!$AG:$AH,MATCH(K268,'Otras referencias'!$AG:$AG,0),2))","v":""},null,{"$f":"IF(J268=\"\",\"\",INDEX(referentes!$S:$W,MATCH(J268,referentes!$S:$S,0),1))","v":""},null,null,null,null,{"$f":"IF(P268=\"\",\"\",INDEX(referentes!$J:$K,MATCH(P268,referentes!$J:$J,0),2))","v":""},null,null,null,{"$f":"IF(T268=\"\",\"\",INDEX(referentes!D:E,MATCH(T268,referentes!D:D,0),2))","v":""},null,{"$f":"IF(V268=\"\",\"\",INDEX('Otras referencias'!AO:AP,MATCH(V268,'Otras referencias'!AO:AO,0),2))","v":""},null,{"$f":"IF(Z268=\"\",\"\",INDEX('Otras referencias'!H:I,MATCH(Z268,'Otras referencias'!I:I,0),1))","v":""},null,null,null,{"$f":"IF(AD268=\"\",\"\",INDEX('Otras referencias'!K:L,MATCH(AD268,'Otras referencias'!L:L,0),1))","v":""},null,"---",null,null,null,{"$f":"IF(V268=\"\",\"\",INDEX('Otras referencias'!AO:AQ,MATCH(V268,'Otras referencias'!AO:AO,0),3))","v":""},{"$f":"IF(SUMPRODUCT(--EXACT(K268&M268,$AJ$2:AJ267)),\"\",K268&M268)","v":""},{"$f":"IF(SUMPRODUCT(--EXACT(K268&M268,$AJ$2:AJ267)),\"\",MAX($AK$3:AK267)+1)","v":""}]
[1,{"$f":"IF(F269=\"\",\"\",IF(COUNTIF($F$3:F269, F269)>1, \"\", F269))","v":""},267,"",null,{"$f":"IF(I269=\"\",\"\",IF(K269=\"\",\"\", CONCATENATE(DIGITADOR!$M$1,G269,J269)))","v":""},null,null,"",{"$f":"IF(K269=\"\",\"\",INDEX('Otras referencias'!$AG:$AH,MATCH(K269,'Otras referencias'!$AG:$AG,0),2))","v":""},null,{"$f":"IF(J269=\"\",\"\",INDEX(referentes!$S:$W,MATCH(J269,referentes!$S:$S,0),1))","v":""},null,null,null,null,{"$f":"IF(P269=\"\",\"\",INDEX(referentes!$J:$K,MATCH(P269,referentes!$J:$J,0),2))","v":""},null,null,null,{"$f":"IF(T269=\"\",\"\",INDEX(referentes!D:E,MATCH(T269,referentes!D:D,0),2))","v":""},null,{"$f":"IF(V269=\"\",\"\",INDEX('Otras referencias'!AO:AP,MATCH(V269,'Otras referencias'!AO:AO,0),2))","v":""},null,{"$f":"IF(Z269=\"\",\"\",INDEX('Otras referencias'!H:I,MATCH(Z269,'Otras referencias'!I:I,0),1))","v":""},null,null,null,{"$f":"IF(AD269=\"\",\"\",INDEX('Otras referencias'!K:L,MATCH(AD269,'Otras referencias'!L:L,0),1))","v":""},null,"---",null,null,null,{"$f":"IF(V269=\"\",\"\",INDEX('Otras referencias'!AO:AQ,MATCH(V269,'Otras referencias'!AO:AO,0),3))","v":""},{"$f":"IF(SUMPRODUCT(--EXACT(K269&M269,$AJ$2:AJ268)),\"\",K269&M269)","v":""},{"$f":"IF(SUMPRODUCT(--EXACT(K269&M269,$AJ$2:AJ268)),\"\",MAX($AK$3:AK268)+1)","v":""}]
[1,{"$f":"IF(F270=\"\",\"\",IF(COUNTIF($F$3:F270, F270)>1, \"\", F270))","v":""},268,"",null,{"$f":"IF(I270=\"\",\"\",IF(K270=\"\",\"\", CONCATENATE(DIGITADOR!$M$1,G270,J270)))","v":""},null,null,"",{"$f":"IF(K270=\"\",\"\",INDEX('Otras referencias'!$AG:$AH,MATCH(K270,'Otras referencias'!$AG:$AG,0),2))","v":""},null,{"$f":"IF(J270=\"\",\"\",INDEX(referentes!$S:$W,MATCH(J270,referentes!$S:$S,0),1))","v":""},null,null,null,null,{"$f":"IF(P270=\"\",\"\",INDEX(referentes!$J:$K,MATCH(P270,referentes!$J:$J,0),2))","v":""},null,null,null,{"$f":"IF(T270=\"\",\"\",INDEX(referentes!D:E,MATCH(T270,referentes!D:D,0),2))","v":""},null,{"$f":"IF(V270=\"\",\"\",INDEX('Otras referencias'!AO:AP,MATCH(V270,'Otras referencias'!AO:AO,0),2))","v":""},null,{"$f":"IF(Z270=\"\",\"\",INDEX('Otras referencias'!H:I,MATCH(Z270,'Otras referencias'!I:I,0),1))","v":""},null,null,null,{"$f":"IF(AD270=\"\",\"\",INDEX('Otras referencias'!K:L,MATCH(AD270,'Otras referencias'!L:L,0),1))","v":""},null,"---",null,null,null,{"$f":"IF(V270=\"\",\"\",INDEX('Otras referencias'!AO:AQ,MATCH(V270,'Otras referencias'!AO:AO,0),3))","v":""},{"$f":"IF(SUMPRODUCT(--EXACT(K270&M270,$AJ$2:AJ269)),\"\",K270&M270)","v":""},{"$f":"IF(SUMPRODUCT(--EXACT(K270&M270,$AJ$2:AJ269)),\"\",MAX($AK$3:AK269)+1)","v":""}]
[1,{"$f":"IF(F271=\"\",\"\",IF(COUNTIF($F$3:F271, F271)>1, \"\", F271))","v":""},269,"",null,{"$f":"IF(I271=\"\",\"\",IF(K271=\"\",\"\", CONCATENATE(DIGITADOR!$M$1,G271,J271)))","v":""},null,null,"",{"$f":"IF(K271=\"\",\"\",INDEX('Otras referencias'!$AG:$AH,MATCH(K271,'Otras referencias'!$AG:$AG,0),2))","v":""},null,{"$f":"IF(J271=\"\",\"\",INDEX(referentes!$S:$W,MATCH(J271,referentes!$S:$S,0),1))","v":""},null,null,null,null,{"$f":"IF(P271=\"\",\"\",INDEX(referentes!$J:$K,MATCH(P271,referentes!$J:$J,0),2))","v":""},null,null,null,{"$f":"IF(T271=\"\",\"\",INDEX(referentes!D:E,MATCH(T271,referentes!D:D,0),2))","v":""},null,{"$f":"IF(V271=\"\",\"\",INDEX('Otras referencias'!AO:AP,MATCH(V271,'Otras referencias'!AO:AO,0),2))","v":""},null,{"$f":"IF(Z271=\"\",\"\",INDEX('Otras referencias'!H:I,MATCH(Z271,'Otras referencias'!I:I,0),1))","v":""},null,null,null,{"$f":"IF(AD271=\"\",\"\",INDEX('Otras referencias'!K:L,MATCH(AD271,'Otras referencias'!L:L,0),1))","v":""},null,"---",null,null,null,{"$f":"IF(V271=\"\",\"\",INDEX('Otras referencias'!AO:AQ,MATCH(V271,'Otras referencias'!AO:AO,0),3))","v":""},{"$f":"IF(SUMPRODUCT(--EXACT(K271&M271,$AJ$2:AJ270)),\"\",K271&M271)","v":""},{"$f":"IF(SUMPRODUCT(--EXACT(K271&M271,$AJ$2:AJ270)),\"\",MAX($AK$3:AK270)+1)","v":""}]
[1,{"$f":"IF(F272=\"\",\"\",IF(COUNTIF($F$3:F272, F272)>1, \"\", F272))","v":""},270,"",null,{"$f":"IF(I272=\"\",\"\",IF(K272=\"\",\"\", CONCATENATE(DIGITADOR!$M$1,G272,J272)))","v":""},null,null,"",{"$f":"IF(K272=\"\",\"\",INDEX('Otras referencias'!$AG:$AH,MATCH(K272,'Otras referencias'!$AG:$AG,0),2))","v":""},null,{"$f":"IF(J272=\"\",\"\",INDEX(referentes!$S:$W,MATCH(J272,referentes!$S:$S,0),1))","v":""},null,null,null,null,{"$f":"IF(P272=\"\",\"\",INDEX(referentes!$J:$K,MATCH(P272,referentes!$J:$J,0),2))","v":""},null,null,null,{"$f":"IF(T272=\"\",\"\",INDEX(referentes!D:E,MATCH(T272,referentes!D:D,0),2))","v":""},null,{"$f":"IF(V272=\"\",\"\",INDEX('Otras referencias'!AO:AP,MATCH(V272,'Otras referencias'!AO:AO,0),2))","v":""},null,{"$f":"IF(Z272=\"\",\"\",INDEX('Otras referencias'!H:I,MATCH(Z272,'Otras referencias'!I:I,0),1))","v":""},null,null,null,{"$f":"IF(AD272=\"\",\"\",INDEX('Otras referencias'!K:L,MATCH(AD272,'Otras referencias'!L:L,0),1))","v":""},null,"---",null,null,null,{"$f":"IF(V272=\"\",\"\",INDEX('Otras referencias'!AO:AQ,MATCH(V272,'Otras referencias'!AO:AO,0),3))","v":""},{"$f":"IF(SUMPRODUCT(--EXACT(K272&M272,$AJ$2:AJ271)),\"\",K272&M272)","v":""},{"$f":"IF(SUMPRODUCT(--EXACT(K272&M272,$AJ$2:AJ271)),\"\",MAX($AK$3:AK271)+1)","v":""}]
[1,{"$f":"IF(F273=\"\",\"\",IF(COUNTIF($F$3:F273, F273)>1, \"\", F273))","v":""},271,"",null,{"$f":"IF(I273=\"\",\"\",IF(K273=\"\",\"\", CONCATENATE(DIGITADOR!$M$1,G273,J273)))","v":""},null,null,"",{"$f":"IF(K273=\"\",\"\",INDEX('Otras referencias'!$AG:$AH,MATCH(K273,'Otras referencias'!$AG:$AG,0),2))","v":""},null,{"$f":"IF(J273=\"\",\"\",INDEX(referentes!$S:$W,MATCH(J273,referentes!$S:$S,0),1))","v":""},null,null,null,null,{"$f":"IF(P273=\"\",\"\",INDEX(referentes!$J:$K,MATCH(P273,referentes!$J:$J,0),2))","v":""},null,null,null,{"$f":"IF(T273=\"\",\"\",INDEX(referentes!D:E,MATCH(T273,referentes!D:D,0),2))","v":""},null,{"$f":"IF(V273=\"\",\"\",INDEX('Otras referencias'!AO:AP,MATCH(V273,'Otras referencias'!AO:AO,0),2))","v":""},null,{"$f":"IF(Z273=\"\",\"\",INDEX('Otras referencias'!H:I,MATCH(Z273,'Otras referencias'!I:I,0),1))","v":""},null,null,null,{"$f":"IF(AD273=\"\",\"\",INDEX('Otras referencias'!K:L,MATCH(AD273,'Otras referencias'!L:L,0),1))","v":""},null,"---",null,null,null,{"$f":"IF(V273=\"\",\"\",INDEX('Otras referencias'!AO:AQ,MATCH(V273,'Otras referencias'!AO:AO,0),3))","v":""},{"$f":"IF(SUMPRODUCT(--EXACT(K273&M273,$AJ$2:AJ272)),\"\",K273&M273)","v":""},{"$f":"IF(SUMPRODUCT(--EXACT(K273&M273,$AJ$2:AJ272)),\"\",MAX($AK$3:AK272)+1)","v":""}]
[1,{"$f":"IF(F274=\"\",\"\",IF(COUNTIF($F$3:F274, F274)>1, \"\", F274))","v":""},272,"",null,{"$f":"IF(I274=\"\",\"\",IF(K274=\"\",\"\", CONCATENATE(DIGITADOR!$M$1,G274,J274)))","v":""},null,null,"",{"$f":"IF(K274=\"\",\"\",INDEX('Otras referencias'!$AG:$AH,MATCH(K274,'Otras referencias'!$AG:$AG,0),2))","v":""},null,{"$f":"IF(J274=\"\",\"\",INDEX(referentes!$S:$W,MATCH(J274,referentes!$S:$S,0),1))","v":""},null,null,null,null,{"$f":"IF(P274=\"\",\"\",INDEX(referentes!$J:$K,MATCH(P274,referentes!$J:$J,0),2))","v":""},null,null,null,{"$f":"IF(T274=\"\",\"\",INDEX(referentes!D:E,MATCH(T274,referentes!D:D,0),2))","v":""},null,{"$f":"IF(V274=\"\",\"\",INDEX('Otras referencias'!AO:AP,MATCH(V274,'Otras referencias'!AO:AO,0),2))","v":""},null,{"$f":"IF(Z274=\"\",\"\",INDEX('Otras referencias'!H:I,MATCH(Z274,'Otras referencias'!I:I,0),1))","v":""},null,null,null,{"$f":"IF(AD274=\"\",\"\",INDEX('Otras referencias'!K:L,MATCH(AD274,'Otras referencias'!L:L,0),1))","v":""},null,"---",null,null,null,{"$f":"IF(V274=\"\",\"\",INDEX('Otras referencias'!AO:AQ,MATCH(V274,'Otras referencias'!AO:AO,0),3))","v":""},{"$f":"IF(SUMPRODUCT(--EXACT(K274&M274,$AJ$2:AJ273)),\"\",K274&M274)","v":""},{"$f":"IF(SUMPRODUCT(--EXACT(K274&M274,$AJ$2:AJ273)),\"\",MAX($AK$3:AK273)+1)","v":""}]
[1,{"$f":"IF(F275=\"\",\"\",IF(COUNTIF($F$3:F275, F275)>1, \"\", F275))","v":""},273,"",null,{"$f":"IF(I275=\"\",\"\",IF(K275=\"\",\"\", CONCATENATE(DIGITADOR!$M$1,G275,J275)))","v":""},null,null,"",{"$f":"IF(K275=\"\",\"\",INDEX('Otras referencias'!$AG:$AH,MATCH(K275,'Otras referencias'!$AG:$AG,0),2))","v":""},null,{"$f":"IF(J275=\"\",\"\",INDEX(referentes!$S:$W,MATCH(J275,referentes!$S:$S,0),1))","v":""},null,null,null,null,{"$f":"IF(P275=\"\",\"\",INDEX(referentes!$J:$K,MATCH(P275,referentes!$J:$J,0),2))","v":""},null,null,null,{"$f":"IF(T275=\"\",\"\",INDEX(referentes!D:E,MATCH(T275,referentes!D:D,0),2))","v":""},null,{"$f":"IF(V275=\"\",\"\",INDEX('Otras referencias'!AO:AP,MATCH(V275,'Otras referencias'!AO:AO,0),2))","v":""},null,{"$f":"IF(Z275=\"\",\"\",INDEX('Otras referencias'!H:I,MATCH(Z275,'Otras referencias'!I:I,0),1))","v":""},null,null,null,{"$f":"IF(AD275=\"\",\"\",INDEX('Otras referencias'!K:L,MATCH(AD275,'Otras referencias'!L:L,0),1))","v":""},null,"---",null,null,null,{"$f":"IF(V275=\"\",\"\",INDEX('Otras referencias'!AO:AQ,MATCH(V275,'Otras referencias'!AO:AO,0),3))","v":""},{"$f":"IF(SUMPRODUCT(--EXACT(K275&M275,$AJ$2:AJ274)),\"\",K275&M275)","v":""},{"$f":"IF(SUMPRODUCT(--EXACT(K275&M275,$AJ$2:AJ274)),\"\",MAX($AK$3:AK274)+1)","v":""}]
[1,{"$f":"IF(F276=\"\",\"\",IF(COUNTIF($F$3:F276, F276)>1, \"\", F276))","v":""},274,"",null,{"$f":"IF(I276=\"\",\"\",IF(K276=\"\",\"\", CONCATENATE(DIGITADOR!$M$1,G276,J276)))","v":""},null,null,"",{"$f":"IF(K276=\"\",\"\",INDEX('Otras referencias'!$AG:$AH,MATCH(K276,'Otras referencias'!$AG:$AG,0),2))","v":""},null,{"$f":"IF(J276=\"\",\"\",INDEX(referentes!$S:$W,MATCH(J276,referentes!$S:$S,0),1))","v":""},null,null,null,null,{"$f":"IF(P276=\"\",\"\",INDEX(referentes!$J:$K,MATCH(P276,referentes!$J:$J,0),2))","v":""},null,null,null,{"$f":"IF(T276=\"\",\"\",INDEX(referentes!D:E,MATCH(T276,referentes!D:D,0),2))","v":""},null,{"$f":"IF(V276=\"\",\"\",INDEX('Otras referencias'!AO:AP,MATCH(V276,'Otras referencias'!AO:AO,0),2))","v":""},null,{"$f":"IF(Z276=\"\",\"\",INDEX('Otras referencias'!H:I,MATCH(Z276,'Otras referencias'!I:I,0),1))","v":""},null,null,null,{"$f":"IF(AD276=\"\",\"\",INDEX('Otras referencias'!K:L,MATCH(AD276,'Otras referencias'!L:L,0),1))","v":""},null,"---",null,null,null,{"$f":"IF(V276=\"\",\"\",INDEX('Otras referencias'!AO:AQ,MATCH(V276,'Otras referencias'!AO:AO,0),3))","v":""},{"$f":"IF(SUMPRODUCT(--EXACT(K276&M276,$AJ$2:AJ275)),\"\",K276&M276)","v":""},{"$f":"IF(SUMPRODUCT(--EXACT(K276&M276,$AJ$2:AJ275)),\"\",MAX($AK$3:AK275)+1)","v":""}]
[1,{"$f":"IF(F277=\"\",\"\",IF(COUNTIF($F$3:F277, F277)>1, \"\", F277))","v":""},275,"",null,{"$f":"IF(I277=\"\",\"\",IF(K277=\"\",\"\", CONCATENATE(DIGITADOR!$M$1,G277,J277)))","v":""},null,null,"",{"$f":"IF(K277=\"\",\"\",INDEX('Otras referencias'!$AG:$AH,MATCH(K277,'Otras referencias'!$AG:$AG,0),2))","v":""},null,{"$f":"IF(J277=\"\",\"\",INDEX(referentes!$S:$W,MATCH(J277,referentes!$S:$S,0),1))","v":""},null,null,null,null,{"$f":"IF(P277=\"\",\"\",INDEX(referentes!$J:$K,MATCH(P277,referentes!$J:$J,0),2))","v":""},null,null,null,{"$f":"IF(T277=\"\",\"\",INDEX(referentes!D:E,MATCH(T277,referentes!D:D,0),2))","v":""},null,{"$f":"IF(V277=\"\",\"\",INDEX('Otras referencias'!AO:AP,MATCH(V277,'Otras referencias'!AO:AO,0),2))","v":""},null,{"$f":"IF(Z277=\"\",\"\",INDEX('Otras referencias'!H:I,MATCH(Z277,'Otras referencias'!I:I,0),1))","v":""},null,null,null,{"$f":"IF(AD277=\"\",\"\",INDEX('Otras referencias'!K:L,MATCH(AD277,'Otras referencias'!L:L,0),1))","v":""},null,"---",null,null,null,{"$f":"IF(V277=\"\",\"\",INDEX('Otras referencias'!AO:AQ,MATCH(V277,'Otras referencias'!AO:AO,0),3))","v":""},{"$f":"IF(SUMPRODUCT(--EXACT(K277&M277,$AJ$2:AJ276)),\"\",K277&M277)","v":""},{"$f":"IF(SUMPRODUCT(--EXACT(K277&M277,$AJ$2:AJ276)),\"\",MAX($AK$3:AK276)+1)","v":""}]
[1,{"$f":"IF(F278=\"\",\"\",IF(COUNTIF($F$3:F278, F278)>1, \"\", F278))","v":""},276,"",null,{"$f":"IF(I278=\"\",\"\",IF(K278=\"\",\"\", CONCATENATE(DIGITADOR!$M$1,G278,J278)))","v":""},null,null,"",{"$f":"IF(K278=\"\",\"\",INDEX('Otras referencias'!$AG:$AH,MATCH(K278,'Otras referencias'!$AG:$AG,0),2))","v":""},null,{"$f":"IF(J278=\"\",\"\",INDEX(referentes!$S:$W,MATCH(J278,referentes!$S:$S,0),1))","v":""},null,null,null,null,{"$f":"IF(P278=\"\",\"\",INDEX(referentes!$J:$K,MATCH(P278,referentes!$J:$J,0),2))","v":""},null,null,null,{"$f":"IF(T278=\"\",\"\",INDEX(referentes!D:E,MATCH(T278,referentes!D:D,0),2))","v":""},null,{"$f":"IF(V278=\"\",\"\",INDEX('Otras referencias'!AO:AP,MATCH(V278,'Otras referencias'!AO:AO,0),2))","v":""},null,{"$f":"IF(Z278=\"\",\"\",INDEX('Otras referencias'!H:I,MATCH(Z278,'Otras referencias'!I:I,0),1))","v":""},null,null,null,{"$f":"IF(AD278=\"\",\"\",INDEX('Otras referencias'!K:L,MATCH(AD278,'Otras referencias'!L:L,0),1))","v":""},null,"---",null,null,null,{"$f":"IF(V278=\"\",\"\",INDEX('Otras referencias'!AO:AQ,MATCH(V278,'Otras referencias'!AO:AO,0),3))","v":""},{"$f":"IF(SUMPRODUCT(--EXACT(K278&M278,$AJ$2:AJ277)),\"\",K278&M278)","v":""},{"$f":"IF(SUMPRODUCT(--EXACT(K278&M278,$AJ$2:AJ277)),\"\",MAX($AK$3:AK277)+1)","v":""}]
[1,{"$f":"IF(F279=\"\",\"\",IF(COUNTIF($F$3:F279, F279)>1, \"\", F279))","v":""},277,"",null,{"$f":"IF(I279=\"\",\"\",IF(K279=\"\",\"\", CONCATENATE(DIGITADOR!$M$1,G279,J279)))","v":""},null,null,"",{"$f":"IF(K279=\"\",\"\",INDEX('Otras referencias'!$AG:$AH,MATCH(K279,'Otras referencias'!$AG:$AG,0),2))","v":""},null,{"$f":"IF(J279=\"\",\"\",INDEX(referentes!$S:$W,MATCH(J279,referentes!$S:$S,0),1))","v":""},null,null,null,null,{"$f":"IF(P279=\"\",\"\",INDEX(referentes!$J:$K,MATCH(P279,referentes!$J:$J,0),2))","v":""},null,null,null,{"$f":"IF(T279=\"\",\"\",INDEX(referentes!D:E,MATCH(T279,referentes!D:D,0),2))","v":""},null,{"$f":"IF(V279=\"\",\"\",INDEX('Otras referencias'!AO:AP,MATCH(V279,'Otras referencias'!AO:AO,0),2))","v":""},null,{"$f":"IF(Z279=\"\",\"\",INDEX('Otras referencias'!H:I,MATCH(Z279,'Otras referencias'!I:I,0),1))","v":""},null,null,null,{"$f":"IF(AD279=\"\",\"\",INDEX('Otras referencias'!K:L,MATCH(AD279,'Otras referencias'!L:L,0),1))","v":""},null,"---",null,null,null,{"$f":"IF(V279=\"\",\"\",INDEX('Otras referencias'!AO:AQ,MATCH(V279,'Otras referencias'!AO:AO,0),3))","v":""},{"$f":"IF(SUMPRODUCT(--EXACT(K279&M279,$AJ$2:AJ278)),\"\",K279&M279)","v":""},{"$f":"IF(SUMPRODUCT(--EXACT(K279&M279,$AJ$2:AJ278)),\"\",MAX($AK$3:AK278)+1)","v":""}]
[1,{"$f":"IF(F280=\"\",\"\",IF(COUNTIF($F$3:F280, F280)>1, \"\", F280))","v":""},278,"",null,{"$f":"IF(I280=\"\",\"\",IF(K280=\"\",\"\", CONCATENATE(DIGITADOR!$M$1,G280,J280)))","v":""},null,null,"",{"$f":"IF(K280=\"\",\"\",INDEX('Otras referencias'!$AG:$AH,MATCH(K280,'Otras referencias'!$AG:$AG,0),2))","v":""},null,{"$f":"IF(J280=\"\",\"\",INDEX(referentes!$S:$W,MATCH(J280,referentes!$S:$S,0),1))","v":""},null,null,null,null,{"$f":"IF(P280=\"\",\"\",INDEX(referentes!$J:$K,MATCH(P280,referentes!$J:$J,0),2))","v":""},null,null,null,{"$f":"IF(T280=\"\",\"\",INDEX(referentes!D:E,MATCH(T280,referentes!D:D,0),2))","v":""},null,{"$f":"IF(V280=\"\",\"\",INDEX('Otras referencias'!AO:AP,MATCH(V280,'Otras referencias'!AO:AO,0),2))","v":""},null,{"$f":"IF(Z280=\"\",\"\",INDEX('Otras referencias'!H:I,MATCH(Z280,'Otras referencias'!I:I,0),1))","v":""},null,null,null,{"$f":"IF(AD280=\"\",\"\",INDEX('Otras referencias'!K:L,MATCH(AD280,'Otras referencias'!L:L,0),1))","v":""},null,"---",null,null,null,{"$f":"IF(V280=\"\",\"\",INDEX('Otras referencias'!AO:AQ,MATCH(V280,'Otras referencias'!AO:AO,0),3))","v":""},{"$f":"IF(SUMPRODUCT(--EXACT(K280&M280,$AJ$2:AJ279)),\"\",K280&M280)","v":""},{"$f":"IF(SUMPRODUCT(--EXACT(K280&M280,$AJ$2:AJ279)),\"\",MAX($AK$3:AK279)+1)","v":""}]
[1,{"$f":"IF(F281=\"\",\"\",IF(COUNTIF($F$3:F281, F281)>1, \"\", F281))","v":""},279,"",null,{"$f":"IF(I281=\"\",\"\",IF(K281=\"\",\"\", CONCATENATE(DIGITADOR!$M$1,G281,J281)))","v":""},null,null,"",{"$f":"IF(K281=\"\",\"\",INDEX('Otras referencias'!$AG:$AH,MATCH(K281,'Otras referencias'!$AG:$AG,0),2))","v":""},null,{"$f":"IF(J281=\"\",\"\",INDEX(referentes!$S:$W,MATCH(J281,referentes!$S:$S,0),1))","v":""},null,null,null,null,{"$f":"IF(P281=\"\",\"\",INDEX(referentes!$J:$K,MATCH(P281,referentes!$J:$J,0),2))","v":""},null,null,null,{"$f":"IF(T281=\"\",\"\",INDEX(referentes!D:E,MATCH(T281,referentes!D:D,0),2))","v":""},null,{"$f":"IF(V281=\"\",\"\",INDEX('Otras referencias'!AO:AP,MATCH(V281,'Otras referencias'!AO:AO,0),2))","v":""},null,{"$f":"IF(Z281=\"\",\"\",INDEX('Otras referencias'!H:I,MATCH(Z281,'Otras referencias'!I:I,0),1))","v":""},null,null,null,{"$f":"IF(AD281=\"\",\"\",INDEX('Otras referencias'!K:L,MATCH(AD281,'Otras referencias'!L:L,0),1))","v":""},null,"---",null,null,null,{"$f":"IF(V281=\"\",\"\",INDEX('Otras referencias'!AO:AQ,MATCH(V281,'Otras referencias'!AO:AO,0),3))","v":""},{"$f":"IF(SUMPRODUCT(--EXACT(K281&M281,$AJ$2:AJ280)),\"\",K281&M281)","v":""},{"$f":"IF(SUMPRODUCT(--EXACT(K281&M281,$AJ$2:AJ280)),\"\",MAX($AK$3:AK280)+1)","v":""}]
[1,{"$f":"IF(F282=\"\",\"\",IF(COUNTIF($F$3:F282, F282)>1, \"\", F282))","v":""},280,"",null,{"$f":"IF(I282=\"\",\"\",IF(K282=\"\",\"\", CONCATENATE(DIGITADOR!$M$1,G282,J282)))","v":""},null,null,"",{"$f":"IF(K282=\"\",\"\",INDEX('Otras referencias'!$AG:$AH,MATCH(K282,'Otras referencias'!$AG:$AG,0),2))","v":""},null,{"$f":"IF(J282=\"\",\"\",INDEX(referentes!$S:$W,MATCH(J282,referentes!$S:$S,0),1))","v":""},null,null,null,null,{"$f":"IF(P282=\"\",\"\",INDEX(referentes!$J:$K,MATCH(P282,referentes!$J:$J,0),2))","v":""},null,null,null,{"$f":"IF(T282=\"\",\"\",INDEX(referentes!D:E,MATCH(T282,referentes!D:D,0),2))","v":""},null,{"$f":"IF(V282=\"\",\"\",INDEX('Otras referencias'!AO:AP,MATCH(V282,'Otras referencias'!AO:AO,0),2))","v":""},null,{"$f":"IF(Z282=\"\",\"\",INDEX('Otras referencias'!H:I,MATCH(Z282,'Otras referencias'!I:I,0),1))","v":""},null,null,null,{"$f":"IF(AD282=\"\",\"\",INDEX('Otras referencias'!K:L,MATCH(AD282,'Otras referencias'!L:L,0),1))","v":""},null,"---",null,null,null,{"$f":"IF(V282=\"\",\"\",INDEX('Otras referencias'!AO:AQ,MATCH(V282,'Otras referencias'!AO:AO,0),3))","v":""},{"$f":"IF(SUMPRODUCT(--EXACT(K282&M282,$AJ$2:AJ281)),\"\",K282&M282)","v":""},{"$f":"IF(SUMPRODUCT(--EXACT(K282&M282,$AJ$2:AJ281)),\"\",MAX($AK$3:AK281)+1)","v":""}]
[1,{"$f":"IF(F283=\"\",\"\",IF(COUNTIF($F$3:F283, F283)>1, \"\", F283))","v":""},281,"",null,{"$f":"IF(I283=\"\",\"\",IF(K283=\"\",\"\", CONCATENATE(DIGITADOR!$M$1,G283,J283)))","v":""},null,null,"",{"$f":"IF(K283=\"\",\"\",INDEX('Otras referencias'!$AG:$AH,MATCH(K283,'Otras referencias'!$AG:$AG,0),2))","v":""},null,{"$f":"IF(J283=\"\",\"\",INDEX(referentes!$S:$W,MATCH(J283,referentes!$S:$S,0),1))","v":""},null,null,null,null,{"$f":"IF(P283=\"\",\"\",INDEX(referentes!$J:$K,MATCH(P283,referentes!$J:$J,0),2))","v":""},null,null,null,{"$f":"IF(T283=\"\",\"\",INDEX(referentes!D:E,MATCH(T283,referentes!D:D,0),2))","v":""},null,{"$f":"IF(V283=\"\",\"\",INDEX('Otras referencias'!AO:AP,MATCH(V283,'Otras referencias'!AO:AO,0),2))","v":""},null,{"$f":"IF(Z283=\"\",\"\",INDEX('Otras referencias'!H:I,MATCH(Z283,'Otras referencias'!I:I,0),1))","v":""},null,null,null,{"$f":"IF(AD283=\"\",\"\",INDEX('Otras referencias'!K:L,MATCH(AD283,'Otras referencias'!L:L,0),1))","v":""},null,"---",null,null,null,{"$f":"IF(V283=\"\",\"\",INDEX('Otras referencias'!AO:AQ,MATCH(V283,'Otras referencias'!AO:AO,0),3))","v":""},{"$f":"IF(SUMPRODUCT(--EXACT(K283&M283,$AJ$2:AJ282)),\"\",K283&M283)","v":""},{"$f":"IF(SUMPRODUCT(--EXACT(K283&M283,$AJ$2:AJ282)),\"\",MAX($AK$3:AK282)+1)","v":""}]
[1,{"$f":"IF(F284=\"\",\"\",IF(COUNTIF($F$3:F284, F284)>1, \"\", F284))","v":""},282,"",null,{"$f":"IF(I284=\"\",\"\",IF(K284=\"\",\"\", CONCATENATE(DIGITADOR!$M$1,G284,J284)))","v":""},null,null,"",{"$f":"IF(K284=\"\",\"\",INDEX('Otras referencias'!$AG:$AH,MATCH(K284,'Otras referencias'!$AG:$AG,0),2))","v":""},null,{"$f":"IF(J284=\"\",\"\",INDEX(referentes!$S:$W,MATCH(J284,referentes!$S:$S,0),1))","v":""},null,null,null,null,{"$f":"IF(P284=\"\",\"\",INDEX(referentes!$J:$K,MATCH(P284,referentes!$J:$J,0),2))","v":""},null,null,null,{"$f":"IF(T284=\"\",\"\",INDEX(referentes!D:E,MATCH(T284,referentes!D:D,0),2))","v":""},null,{"$f":"IF(V284=\"\",\"\",INDEX('Otras referencias'!AO:AP,MATCH(V284,'Otras referencias'!AO:AO,0),2))","v":""},null,{"$f":"IF(Z284=\"\",\"\",INDEX('Otras referencias'!H:I,MATCH(Z284,'Otras referencias'!I:I,0),1))","v":""},null,null,null,{"$f":"IF(AD284=\"\",\"\",INDEX('Otras referencias'!K:L,MATCH(AD284,'Otras referencias'!L:L,0),1))","v":""},null,"---",null,null,null,{"$f":"IF(V284=\"\",\"\",INDEX('Otras referencias'!AO:AQ,MATCH(V284,'Otras referencias'!AO:AO,0),3))","v":""},{"$f":"IF(SUMPRODUCT(--EXACT(K284&M284,$AJ$2:AJ283)),\"\",K284&M284)","v":""},{"$f":"IF(SUMPRODUCT(--EXACT(K284&M284,$AJ$2:AJ283)),\"\",MAX($AK$3:AK283)+1)","v":""}]
[1,{"$f":"IF(F285=\"\",\"\",IF(COUNTIF($F$3:F285, F285)>1, \"\", F285))","v":""},283,"",null,{"$f":"IF(I285=\"\",\"\",IF(K285=\"\",\"\", CONCATENATE(DIGITADOR!$M$1,G285,J285)))","v":""},null,null,"",{"$f":"IF(K285=\"\",\"\",INDEX('Otras referencias'!$AG:$AH,MATCH(K285,'Otras referencias'!$AG:$AG,0),2))","v":""},null,{"$f":"IF(J285=\"\",\"\",INDEX(referentes!$S:$W,MATCH(J285,referentes!$S:$S,0),1))","v":""},null,null,null,null,{"$f":"IF(P285=\"\",\"\",INDEX(referentes!$J:$K,MATCH(P285,referentes!$J:$J,0),2))","v":""},null,null,null,{"$f":"IF(T285=\"\",\"\",INDEX(referentes!D:E,MATCH(T285,referentes!D:D,0),2))","v":""},null,{"$f":"IF(V285=\"\",\"\",INDEX('Otras referencias'!AO:AP,MATCH(V285,'Otras referencias'!AO:AO,0),2))","v":""},null,{"$f":"IF(Z285=\"\",\"\",INDEX('Otras referencias'!H:I,MATCH(Z285,'Otras referencias'!I:I,0),1))","v":""},null,null,null,{"$f":"IF(AD285=\"\",\"\",INDEX('Otras referencias'!K:L,MATCH(AD285,'Otras referencias'!L:L,0),1))","v":""},null,"---",null,null,null,{"$f":"IF(V285=\"\",\"\",INDEX('Otras referencias'!AO:AQ,MATCH(V285,'Otras referencias'!AO:AO,0),3))","v":""},{"$f":"IF(SUMPRODUCT(--EXACT(K285&M285,$AJ$2:AJ284)),\"\",K285&M285)","v":""},{"$f":"IF(SUMPRODUCT(--EXACT(K285&M285,$AJ$2:AJ284)),\"\",MAX($AK$3:AK284)+1)","v":""}]
[1,{"$f":"IF(F286=\"\",\"\",IF(COUNTIF($F$3:F286, F286)>1, \"\", F286))","v":""},284,"",null,{"$f":"IF(I286=\"\",\"\",IF(K286=\"\",\"\", CONCATENATE(DIGITADOR!$M$1,G286,J286)))","v":""},null,null,"",{"$f":"IF(K286=\"\",\"\",INDEX('Otras referencias'!$AG:$AH,MATCH(K286,'Otras referencias'!$AG:$AG,0),2))","v":""},null,{"$f":"IF(J286=\"\",\"\",INDEX(referentes!$S:$W,MATCH(J286,referentes!$S:$S,0),1))","v":""},null,null,null,null,{"$f":"IF(P286=\"\",\"\",INDEX(referentes!$J:$K,MATCH(P286,referentes!$J:$J,0),2))","v":""},null,null,null,{"$f":"IF(T286=\"\",\"\",INDEX(referentes!D:E,MATCH(T286,referentes!D:D,0),2))","v":""},null,{"$f":"IF(V286=\"\",\"\",INDEX('Otras referencias'!AO:AP,MATCH(V286,'Otras referencias'!AO:AO,0),2))","v":""},null,{"$f":"IF(Z286=\"\",\"\",INDEX('Otras referencias'!H:I,MATCH(Z286,'Otras referencias'!I:I,0),1))","v":""},null,null,null,{"$f":"IF(AD286=\"\",\"\",INDEX('Otras referencias'!K:L,MATCH(AD286,'Otras referencias'!L:L,0),1))","v":""},null,"---",null,null,null,{"$f":"IF(V286=\"\",\"\",INDEX('Otras referencias'!AO:AQ,MATCH(V286,'Otras referencias'!AO:AO,0),3))","v":""},{"$f":"IF(SUMPRODUCT(--EXACT(K286&M286,$AJ$2:AJ285)),\"\",K286&M286)","v":""},{"$f":"IF(SUMPRODUCT(--EXACT(K286&M286,$AJ$2:AJ285)),\"\",MAX($AK$3:AK285)+1)","v":""}]
[1,{"$f":"IF(F287=\"\",\"\",IF(COUNTIF($F$3:F287, F287)>1, \"\", F287))","v":""},285,"",null,{"$f":"IF(I287=\"\",\"\",IF(K287=\"\",\"\", CONCATENATE(DIGITADOR!$M$1,G287,J287)))","v":""},null,null,"",{"$f":"IF(K287=\"\",\"\",INDEX('Otras referencias'!$AG:$AH,MATCH(K287,'Otras referencias'!$AG:$AG,0),2))","v":""},null,{"$f":"IF(J287=\"\",\"\",INDEX(referentes!$S:$W,MATCH(J287,referentes!$S:$S,0),1))","v":""},null,null,null,null,{"$f":"IF(P287=\"\",\"\",INDEX(referentes!$J:$K,MATCH(P287,referentes!$J:$J,0),2))","v":""},null,null,null,{"$f":"IF(T287=\"\",\"\",INDEX(referentes!D:E,MATCH(T287,referentes!D:D,0),2))","v":""},null,{"$f":"IF(V287=\"\",\"\",INDEX('Otras referencias'!AO:AP,MATCH(V287,'Otras referencias'!AO:AO,0),2))","v":""},null,{"$f":"IF(Z287=\"\",\"\",INDEX('Otras referencias'!H:I,MATCH(Z287,'Otras referencias'!I:I,0),1))","v":""},null,null,null,{"$f":"IF(AD287=\"\",\"\",INDEX('Otras referencias'!K:L,MATCH(AD287,'Otras referencias'!L:L,0),1))","v":""},null,"---",null,null,null,{"$f":"IF(V287=\"\",\"\",INDEX('Otras referencias'!AO:AQ,MATCH(V287,'Otras referencias'!AO:AO,0),3))","v":""},{"$f":"IF(SUMPRODUCT(--EXACT(K287&M287,$AJ$2:AJ286)),\"\",K287&M287)","v":""},{"$f":"IF(SUMPRODUCT(--EXACT(K287&M287,$AJ$2:AJ286)),\"\",MAX($AK$3:AK286)+1)","v":""}]
[1,{"$f":"IF(F288=\"\",\"\",IF(COUNTIF($F$3:F288, F288)>1, \"\", F288))","v":""},286,"",null,{"$f":"IF(I288=\"\",\"\",IF(K288=\"\",\"\", CONCATENATE(DIGITADOR!$M$1,G288,J288)))","v":""},null,null,"",{"$f":"IF(K288=\"\",\"\",INDEX('Otras referencias'!$AG:$AH,MATCH(K288,'Otras referencias'!$AG:$AG,0),2))","v":""},null,{"$f":"IF(J288=\"\",\"\",INDEX(referentes!$S:$W,MATCH(J288,referentes!$S:$S,0),1))","v":""},null,null,null,null,{"$f":"IF(P288=\"\",\"\",INDEX(referentes!$J:$K,MATCH(P288,referentes!$J:$J,0),2))","v":""},null,null,null,{"$f":"IF(T288=\"\",\"\",INDEX(referentes!D:E,MATCH(T288,referentes!D:D,0),2))","v":""},null,{"$f":"IF(V288=\"\",\"\",INDEX('Otras referencias'!AO:AP,MATCH(V288,'Otras referencias'!AO:AO,0),2))","v":""},null,{"$f":"IF(Z288=\"\",\"\",INDEX('Otras referencias'!H:I,MATCH(Z288,'Otras referencias'!I:I,0),1))","v":""},null,null,null,{"$f":"IF(AD288=\"\",\"\",INDEX('Otras referencias'!K:L,MATCH(AD288,'Otras referencias'!L:L,0),1))","v":""},null,"---",null,null,null,{"$f":"IF(V288=\"\",\"\",INDEX('Otras referencias'!AO:AQ,MATCH(V288,'Otras referencias'!AO:AO,0),3))","v":""},{"$f":"IF(SUMPRODUCT(--EXACT(K288&M288,$AJ$2:AJ287)),\"\",K288&M288)","v":""},{"$f":"IF(SUMPRODUCT(--EXACT(K288&M288,$AJ$2:AJ287)),\"\",MAX($AK$3:AK287)+1)","v":""}]
[1,{"$f":"IF(F289=\"\",\"\",IF(COUNTIF($F$3:F289, F289)>1, \"\", F289))","v":""},287,"",null,{"$f":"IF(I289=\"\",\"\",IF(K289=\"\",\"\", CONCATENATE(DIGITADOR!$M$1,G289,J289)))","v":""},null,null,"",{"$f":"IF(K289=\"\",\"\",INDEX('Otras referencias'!$AG:$AH,MATCH(K289,'Otras referencias'!$AG:$AG,0),2))","v":""},null,{"$f":"IF(J289=\"\",\"\",INDEX(referentes!$S:$W,MATCH(J289,referentes!$S:$S,0),1))","v":""},null,null,null,null,{"$f":"IF(P289=\"\",\"\",INDEX(referentes!$J:$K,MATCH(P289,referentes!$J:$J,0),2))","v":""},null,null,null,{"$f":"IF(T289=\"\",\"\",INDEX(referentes!D:E,MATCH(T289,referentes!D:D,0),2))","v":""},null,{"$f":"IF(V289=\"\",\"\",INDEX('Otras referencias'!AO:AP,MATCH(V289,'Otras referencias'!AO:AO,0),2))","v":""},null,{"$f":"IF(Z289=\"\",\"\",INDEX('Otras referencias'!H:I,MATCH(Z289,'Otras referencias'!I:I,0),1))","v":""},null,null,null,{"$f":"IF(AD289=\"\",\"\",INDEX('Otras referencias'!K:L,MATCH(AD289,'Otras referencias'!L:L,0),1))","v":""},null,"---",null,null,null,{"$f":"IF(V289=\"\",\"\",INDEX('Otras referencias'!AO:AQ,MATCH(V289,'Otras referencias'!AO:AO,0),3))","v":""},{"$f":"IF(SUMPRODUCT(--EXACT(K289&M289,$AJ$2:AJ288)),\"\",K289&M289)","v":""},{"$f":"IF(SUMPRODUCT(--EXACT(K289&M289,$AJ$2:AJ288)),\"\",MAX($AK$3:AK288)+1)","v":""}]
[1,{"$f":"IF(F290=\"\",\"\",IF(COUNTIF($F$3:F290, F290)>1, \"\", F290))","v":""},288,"",null,{"$f":"IF(I290=\"\",\"\",IF(K290=\"\",\"\", CONCATENATE(DIGITADOR!$M$1,G290,J290)))","v":""},null,null,"",{"$f":"IF(K290=\"\",\"\",INDEX('Otras referencias'!$AG:$AH,MATCH(K290,'Otras referencias'!$AG:$AG,0),2))","v":""},null,{"$f":"IF(J290=\"\",\"\",INDEX(referentes!$S:$W,MATCH(J290,referentes!$S:$S,0),1))","v":""},null,null,null,null,{"$f":"IF(P290=\"\",\"\",INDEX(referentes!$J:$K,MATCH(P290,referentes!$J:$J,0),2))","v":""},null,null,null,{"$f":"IF(T290=\"\",\"\",INDEX(referentes!D:E,MATCH(T290,referentes!D:D,0),2))","v":""},null,{"$f":"IF(V290=\"\",\"\",INDEX('Otras referencias'!AO:AP,MATCH(V290,'Otras referencias'!AO:AO,0),2))","v":""},null,{"$f":"IF(Z290=\"\",\"\",INDEX('Otras referencias'!H:I,MATCH(Z290,'Otras referencias'!I:I,0),1))","v":""},null,null,null,{"$f":"IF(AD290=\"\",\"\",INDEX('Otras referencias'!K:L,MATCH(AD290,'Otras referencias'!L:L,0),1))","v":""},null,"---",null,null,null,{"$f":"IF(V290=\"\",\"\",INDEX('Otras referencias'!AO:AQ,MATCH(V290,'Otras referencias'!AO:AO,0),3))","v":""},{"$f":"IF(SUMPRODUCT(--EXACT(K290&M290,$AJ$2:AJ289)),\"\",K290&M290)","v":""},{"$f":"IF(SUMPRODUCT(--EXACT(K290&M290,$AJ$2:AJ289)),\"\",MAX($AK$3:AK289)+1)","v":""}]
[1,{"$f":"IF(F291=\"\",\"\",IF(COUNTIF($F$3:F291, F291)>1, \"\", F291))","v":""},289,"",null,{"$f":"IF(I291=\"\",\"\",IF(K291=\"\",\"\", CONCATENATE(DIGITADOR!$M$1,G291,J291)))","v":""},null,null,"",{"$f":"IF(K291=\"\",\"\",INDEX('Otras referencias'!$AG:$AH,MATCH(K291,'Otras referencias'!$AG:$AG,0),2))","v":""},null,{"$f":"IF(J291=\"\",\"\",INDEX(referentes!$S:$W,MATCH(J291,referentes!$S:$S,0),1))","v":""},null,null,null,null,{"$f":"IF(P291=\"\",\"\",INDEX(referentes!$J:$K,MATCH(P291,referentes!$J:$J,0),2))","v":""},null,null,null,{"$f":"IF(T291=\"\",\"\",INDEX(referentes!D:E,MATCH(T291,referentes!D:D,0),2))","v":""},null,{"$f":"IF(V291=\"\",\"\",INDEX('Otras referencias'!AO:AP,MATCH(V291,'Otras referencias'!AO:AO,0),2))","v":""},null,{"$f":"IF(Z291=\"\",\"\",INDEX('Otras referencias'!H:I,MATCH(Z291,'Otras referencias'!I:I,0),1))","v":""},null,null,null,{"$f":"IF(AD291=\"\",\"\",INDEX('Otras referencias'!K:L,MATCH(AD291,'Otras referencias'!L:L,0),1))","v":""},null,"---",null,null,null,{"$f":"IF(V291=\"\",\"\",INDEX('Otras referencias'!AO:AQ,MATCH(V291,'Otras referencias'!AO:AO,0),3))","v":""},{"$f":"IF(SUMPRODUCT(--EXACT(K291&M291,$AJ$2:AJ290)),\"\",K291&M291)","v":""},{"$f":"IF(SUMPRODUCT(--EXACT(K291&M291,$AJ$2:AJ290)),\"\",MAX($AK$3:AK290)+1)","v":""}]
[1,{"$f":"IF(F292=\"\",\"\",IF(COUNTIF($F$3:F292, F292)>1, \"\", F292))","v":""},290,"",null,{"$f":"IF(I292=\"\",\"\",IF(K292=\"\",\"\", CONCATENATE(DIGITADOR!$M$1,G292,J292)))","v":""},null,null,"",{"$f":"IF(K292=\"\",\"\",INDEX('Otras referencias'!$AG:$AH,MATCH(K292,'Otras referencias'!$AG:$AG,0),2))","v":""},null,{"$f":"IF(J292=\"\",\"\",INDEX(referentes!$S:$W,MATCH(J292,referentes!$S:$S,0),1))","v":""},null,null,null,null,{"$f":"IF(P292=\"\",\"\",INDEX(referentes!$J:$K,MATCH(P292,referentes!$J:$J,0),2))","v":""},null,null,null,{"$f":"IF(T292=\"\",\"\",INDEX(referentes!D:E,MATCH(T292,referentes!D:D,0),2))","v":""},null,{"$f":"IF(V292=\"\",\"\",INDEX('Otras referencias'!AO:AP,MATCH(V292,'Otras referencias'!AO:AO,0),2))","v":""},null,{"$f":"IF(Z292=\"\",\"\",INDEX('Otras referencias'!H:I,MATCH(Z292,'Otras referencias'!I:I,0),1))","v":""},null,null,null,{"$f":"IF(AD292=\"\",\"\",INDEX('Otras referencias'!K:L,MATCH(AD292,'Otras referencias'!L:L,0),1))","v":""},null,"---",null,null,null,{"$f":"IF(V292=\"\",\"\",INDEX('Otras referencias'!AO:AQ,MATCH(V292,'Otras referencias'!AO:AO,0),3))","v":""},{"$f":"IF(SUMPRODUCT(--EXACT(K292&M292,$AJ$2:AJ291)),\"\",K292&M292)","v":""},{"$f":"IF(SUMPRODUCT(--EXACT(K292&M292,$AJ$2:AJ291)),\"\",MAX($AK$3:AK291)+1)","v":""}]
[1,{"$f":"IF(F293=\"\",\"\",IF(COUNTIF($F$3:F293, F293)>1, \"\", F293))","v":""},291,"",null,{"$f":"IF(I293=\"\",\"\",IF(K293=\"\",\"\", CONCATENATE(DIGITADOR!$M$1,G293,J293)))","v":""},null,null,"",{"$f":"IF(K293=\"\",\"\",INDEX('Otras referencias'!$AG:$AH,MATCH(K293,'Otras referencias'!$AG:$AG,0),2))","v":""},null,{"$f":"IF(J293=\"\",\"\",INDEX(referentes!$S:$W,MATCH(J293,referentes!$S:$S,0),1))","v":""},null,null,null,null,{"$f":"IF(P293=\"\",\"\",INDEX(referentes!$J:$K,MATCH(P293,referentes!$J:$J,0),2))","v":""},null,null,null,{"$f":"IF(T293=\"\",\"\",INDEX(referentes!D:E,MATCH(T293,referentes!D:D,0),2))","v":""},null,{"$f":"IF(V293=\"\",\"\",INDEX('Otras referencias'!AO:AP,MATCH(V293,'Otras referencias'!AO:AO,0),2))","v":""},null,{"$f":"IF(Z293=\"\",\"\",INDEX('Otras referencias'!H:I,MATCH(Z293,'Otras referencias'!I:I,0),1))","v":""},null,null,null,{"$f":"IF(AD293=\"\",\"\",INDEX('Otras referencias'!K:L,MATCH(AD293,'Otras referencias'!L:L,0),1))","v":""},null,"---",null,null,null,{"$f":"IF(V293=\"\",\"\",INDEX('Otras referencias'!AO:AQ,MATCH(V293,'Otras referencias'!AO:AO,0),3))","v":""},{"$f":"IF(SUMPRODUCT(--EXACT(K293&M293,$AJ$2:AJ292)),\"\",K293&M293)","v":""},{"$f":"IF(SUMPRODUCT(--EXACT(K293&M293,$AJ$2:AJ292)),\"\",MAX($AK$3:AK292)+1)","v":""}]
[1,{"$f":"IF(F294=\"\",\"\",IF(COUNTIF($F$3:F294, F294)>1, \"\", F294))","v":""},292,"",null,{"$f":"IF(I294=\"\",\"\",IF(K294=\"\",\"\", CONCATENATE(DIGITADOR!$M$1,G294,J294)))","v":""},null,null,"",{"$f":"IF(K294=\"\",\"\",INDEX('Otras referencias'!$AG:$AH,MATCH(K294,'Otras referencias'!$AG:$AG,0),2))","v":""},null,{"$f":"IF(J294=\"\",\"\",INDEX(referentes!$S:$W,MATCH(J294,referentes!$S:$S,0),1))","v":""},null,null,null,null,{"$f":"IF(P294=\"\",\"\",INDEX(referentes!$J:$K,MATCH(P294,referentes!$J:$J,0),2))","v":""},null,null,null,{"$f":"IF(T294=\"\",\"\",INDEX(referentes!D:E,MATCH(T294,referentes!D:D,0),2))","v":""},null,{"$f":"IF(V294=\"\",\"\",INDEX('Otras referencias'!AO:AP,MATCH(V294,'Otras referencias'!AO:AO,0),2))","v":""},null,{"$f":"IF(Z294=\"\",\"\",INDEX('Otras referencias'!H:I,MATCH(Z294,'Otras referencias'!I:I,0),1))","v":""},null,null,null,{"$f":"IF(AD294=\"\",\"\",INDEX('Otras referencias'!K:L,MATCH(AD294,'Otras referencias'!L:L,0),1))","v":""},null,"---",null,null,null,{"$f":"IF(V294=\"\",\"\",INDEX('Otras referencias'!AO:AQ,MATCH(V294,'Otras referencias'!AO:AO,0),3))","v":""},{"$f":"IF(SUMPRODUCT(--EXACT(K294&M294,$AJ$2:AJ293)),\"\",K294&M294)","v":""},{"$f":"IF(SUMPRODUCT(--EXACT(K294&M294,$AJ$2:AJ293)),\"\",MAX($AK$3:AK293)+1)","v":""}]
[1,{"$f":"IF(F295=\"\",\"\",IF(COUNTIF($F$3:F295, F295)>1, \"\", F295))","v":""},293,"",null,{"$f":"IF(I295=\"\",\"\",IF(K295=\"\",\"\", CONCATENATE(DIGITADOR!$M$1,G295,J295)))","v":""},null,null,"",{"$f":"IF(K295=\"\",\"\",INDEX('Otras referencias'!$AG:$AH,MATCH(K295,'Otras referencias'!$AG:$AG,0),2))","v":""},null,{"$f":"IF(J295=\"\",\"\",INDEX(referentes!$S:$W,MATCH(J295,referentes!$S:$S,0),1))","v":""},null,null,null,null,{"$f":"IF(P295=\"\",\"\",INDEX(referentes!$J:$K,MATCH(P295,referentes!$J:$J,0),2))","v":""},null,null,null,{"$f":"IF(T295=\"\",\"\",INDEX(referentes!D:E,MATCH(T295,referentes!D:D,0),2))","v":""},null,{"$f":"IF(V295=\"\",\"\",INDEX('Otras referencias'!AO:AP,MATCH(V295,'Otras referencias'!AO:AO,0),2))","v":""},null,{"$f":"IF(Z295=\"\",\"\",INDEX('Otras referencias'!H:I,MATCH(Z295,'Otras referencias'!I:I,0),1))","v":""},null,null,null,{"$f":"IF(AD295=\"\",\"\",INDEX('Otras referencias'!K:L,MATCH(AD295,'Otras referencias'!L:L,0),1))","v":""},null,"---",null,null,null,{"$f":"IF(V295=\"\",\"\",INDEX('Otras referencias'!AO:AQ,MATCH(V295,'Otras referencias'!AO:AO,0),3))","v":""},{"$f":"IF(SUMPRODUCT(--EXACT(K295&M295,$AJ$2:AJ294)),\"\",K295&M295)","v":""},{"$f":"IF(SUMPRODUCT(--EXACT(K295&M295,$AJ$2:AJ294)),\"\",MAX($AK$3:AK294)+1)","v":""}]
[1,{"$f":"IF(F296=\"\",\"\",IF(COUNTIF($F$3:F296, F296)>1, \"\", F296))","v":""},294,"",null,{"$f":"IF(I296=\"\",\"\",IF(K296=\"\",\"\", CONCATENATE(DIGITADOR!$M$1,G296,J296)))","v":""},null,null,"",{"$f":"IF(K296=\"\",\"\",INDEX('Otras referencias'!$AG:$AH,MATCH(K296,'Otras referencias'!$AG:$AG,0),2))","v":""},null,{"$f":"IF(J296=\"\",\"\",INDEX(referentes!$S:$W,MATCH(J296,referentes!$S:$S,0),1))","v":""},null,null,null,null,{"$f":"IF(P296=\"\",\"\",INDEX(referentes!$J:$K,MATCH(P296,referentes!$J:$J,0),2))","v":""},null,null,null,{"$f":"IF(T296=\"\",\"\",INDEX(referentes!D:E,MATCH(T296,referentes!D:D,0),2))","v":""},null,{"$f":"IF(V296=\"\",\"\",INDEX('Otras referencias'!AO:AP,MATCH(V296,'Otras referencias'!AO:AO,0),2))","v":""},null,{"$f":"IF(Z296=\"\",\"\",INDEX('Otras referencias'!H:I,MATCH(Z296,'Otras referencias'!I:I,0),1))","v":""},null,null,null,{"$f":"IF(AD296=\"\",\"\",INDEX('Otras referencias'!K:L,MATCH(AD296,'Otras referencias'!L:L,0),1))","v":""},null,"---",null,null,null,{"$f":"IF(V296=\"\",\"\",INDEX('Otras referencias'!AO:AQ,MATCH(V296,'Otras referencias'!AO:AO,0),3))","v":""},{"$f":"IF(SUMPRODUCT(--EXACT(K296&M296,$AJ$2:AJ295)),\"\",K296&M296)","v":""},{"$f":"IF(SUMPRODUCT(--EXACT(K296&M296,$AJ$2:AJ295)),\"\",MAX($AK$3:AK295)+1)","v":""}]
[1,{"$f":"IF(F297=\"\",\"\",IF(COUNTIF($F$3:F297, F297)>1, \"\", F297))","v":""},295,"",null,{"$f":"IF(I297=\"\",\"\",IF(K297=\"\",\"\", CONCATENATE(DIGITADOR!$M$1,G297,J297)))","v":""},null,null,"",{"$f":"IF(K297=\"\",\"\",INDEX('Otras referencias'!$AG:$AH,MATCH(K297,'Otras referencias'!$AG:$AG,0),2))","v":""},null,{"$f":"IF(J297=\"\",\"\",INDEX(referentes!$S:$W,MATCH(J297,referentes!$S:$S,0),1))","v":""},null,null,null,null,{"$f":"IF(P297=\"\",\"\",INDEX(referentes!$J:$K,MATCH(P297,referentes!$J:$J,0),2))","v":""},null,null,null,{"$f":"IF(T297=\"\",\"\",INDEX(referentes!D:E,MATCH(T297,referentes!D:D,0),2))","v":""},null,{"$f":"IF(V297=\"\",\"\",INDEX('Otras referencias'!AO:AP,MATCH(V297,'Otras referencias'!AO:AO,0),2))","v":""},null,{"$f":"IF(Z297=\"\",\"\",INDEX('Otras referencias'!H:I,MATCH(Z297,'Otras referencias'!I:I,0),1))","v":""},null,null,null,{"$f":"IF(AD297=\"\",\"\",INDEX('Otras referencias'!K:L,MATCH(AD297,'Otras referencias'!L:L,0),1))","v":""},null,"---",null,null,null,{"$f":"IF(V297=\"\",\"\",INDEX('Otras referencias'!AO:AQ,MATCH(V297,'Otras referencias'!AO:AO,0),3))","v":""},{"$f":"IF(SUMPRODUCT(--EXACT(K297&M297,$AJ$2:AJ296)),\"\",K297&M297)","v":""},{"$f":"IF(SUMPRODUCT(--EXACT(K297&M297,$AJ$2:AJ296)),\"\",MAX($AK$3:AK296)+1)","v":""}]
[1,{"$f":"IF(F298=\"\",\"\",IF(COUNTIF($F$3:F298, F298)>1, \"\", F298))","v":""},296,"",null,{"$f":"IF(I298=\"\",\"\",IF(K298=\"\",\"\", CONCATENATE(DIGITADOR!$M$1,G298,J298)))","v":""},null,null,"",{"$f":"IF(K298=\"\",\"\",INDEX('Otras referencias'!$AG:$AH,MATCH(K298,'Otras referencias'!$AG:$AG,0),2))","v":""},null,{"$f":"IF(J298=\"\",\"\",INDEX(referentes!$S:$W,MATCH(J298,referentes!$S:$S,0),1))","v":""},null,null,null,null,{"$f":"IF(P298=\"\",\"\",INDEX(referentes!$J:$K,MATCH(P298,referentes!$J:$J,0),2))","v":""},null,null,null,{"$f":"IF(T298=\"\",\"\",INDEX(referentes!D:E,MATCH(T298,referentes!D:D,0),2))","v":""},null,{"$f":"IF(V298=\"\",\"\",INDEX('Otras referencias'!AO:AP,MATCH(V298,'Otras referencias'!AO:AO,0),2))","v":""},null,{"$f":"IF(Z298=\"\",\"\",INDEX('Otras referencias'!H:I,MATCH(Z298,'Otras referencias'!I:I,0),1))","v":""},null,null,null,{"$f":"IF(AD298=\"\",\"\",INDEX('Otras referencias'!K:L,MATCH(AD298,'Otras referencias'!L:L,0),1))","v":""},null,"---",null,null,null,{"$f":"IF(V298=\"\",\"\",INDEX('Otras referencias'!AO:AQ,MATCH(V298,'Otras referencias'!AO:AO,0),3))","v":""},{"$f":"IF(SUMPRODUCT(--EXACT(K298&M298,$AJ$2:AJ297)),\"\",K298&M298)","v":""},{"$f":"IF(SUMPRODUCT(--EXACT(K298&M298,$AJ$2:AJ297)),\"\",MAX($AK$3:AK297)+1)","v":""}]
[1,{"$f":"IF(F299=\"\",\"\",IF(COUNTIF($F$3:F299, F299)>1, \"\", F299))","v":""},297,"",null,{"$f":"IF(I299=\"\",\"\",IF(K299=\"\",\"\", CONCATENATE(DIGITADOR!$M$1,G299,J299)))","v":""},null,null,"",{"$f":"IF(K299=\"\",\"\",INDEX('Otras referencias'!$AG:$AH,MATCH(K299,'Otras referencias'!$AG:$AG,0),2))","v":""},null,{"$f":"IF(J299=\"\",\"\",INDEX(referentes!$S:$W,MATCH(J299,referentes!$S:$S,0),1))","v":""},null,null,null,null,{"$f":"IF(P299=\"\",\"\",INDEX(referentes!$J:$K,MATCH(P299,referentes!$J:$J,0),2))","v":""},null,null,null,{"$f":"IF(T299=\"\",\"\",INDEX(referentes!D:E,MATCH(T299,referentes!D:D,0),2))","v":""},null,{"$f":"IF(V299=\"\",\"\",INDEX('Otras referencias'!AO:AP,MATCH(V299,'Otras referencias'!AO:AO,0),2))","v":""},null,{"$f":"IF(Z299=\"\",\"\",INDEX('Otras referencias'!H:I,MATCH(Z299,'Otras referencias'!I:I,0),1))","v":""},null,null,null,{"$f":"IF(AD299=\"\",\"\",INDEX('Otras referencias'!K:L,MATCH(AD299,'Otras referencias'!L:L,0),1))","v":""},null,"---",null,null,null,{"$f":"IF(V299=\"\",\"\",INDEX('Otras referencias'!AO:AQ,MATCH(V299,'Otras referencias'!AO:AO,0),3))","v":""},{"$f":"IF(SUMPRODUCT(--EXACT(K299&M299,$AJ$2:AJ298)),\"\",K299&M299)","v":""},{"$f":"IF(SUMPRODUCT(--EXACT(K299&M299,$AJ$2:AJ298)),\"\",MAX($AK$3:AK298)+1)","v":""}]
[1,{"$f":"IF(F300=\"\",\"\",IF(COUNTIF($F$3:F300, F300)>1, \"\", F300))","v":""},298,"",null,{"$f":"IF(I300=\"\",\"\",IF(K300=\"\",\"\", CONCATENATE(DIGITADOR!$M$1,G300,J300)))","v":""},null,null,"",{"$f":"IF(K300=\"\",\"\",INDEX('Otras referencias'!$AG:$AH,MATCH(K300,'Otras referencias'!$AG:$AG,0),2))","v":""},null,{"$f":"IF(J300=\"\",\"\",INDEX(referentes!$S:$W,MATCH(J300,referentes!$S:$S,0),1))","v":""},null,null,null,null,{"$f":"IF(P300=\"\",\"\",INDEX(referentes!$J:$K,MATCH(P300,referentes!$J:$J,0),2))","v":""},null,null,null,{"$f":"IF(T300=\"\",\"\",INDEX(referentes!D:E,MATCH(T300,referentes!D:D,0),2))","v":""},null,{"$f":"IF(V300=\"\",\"\",INDEX('Otras referencias'!AO:AP,MATCH(V300,'Otras referencias'!AO:AO,0),2))","v":""},null,{"$f":"IF(Z300=\"\",\"\",INDEX('Otras referencias'!H:I,MATCH(Z300,'Otras referencias'!I:I,0),1))","v":""},null,null,null,{"$f":"IF(AD300=\"\",\"\",INDEX('Otras referencias'!K:L,MATCH(AD300,'Otras referencias'!L:L,0),1))","v":""},null,"---",null,null,null,{"$f":"IF(V300=\"\",\"\",INDEX('Otras referencias'!AO:AQ,MATCH(V300,'Otras referencias'!AO:AO,0),3))","v":""},{"$f":"IF(SUMPRODUCT(--EXACT(K300&M300,$AJ$2:AJ299)),\"\",K300&M300)","v":""},{"$f":"IF(SUMPRODUCT(--EXACT(K300&M300,$AJ$2:AJ299)),\"\",MAX($AK$3:AK299)+1)","v":""}]
[1,{"$f":"IF(F301=\"\",\"\",IF(COUNTIF($F$3:F301, F301)>1, \"\", F301))","v":""},299,"",null,{"$f":"IF(I301=\"\",\"\",IF(K301=\"\",\"\", CONCATENATE(DIGITADOR!$M$1,G301,J301)))","v":""},null,null,"",{"$f":"IF(K301=\"\",\"\",INDEX('Otras referencias'!$AG:$AH,MATCH(K301,'Otras referencias'!$AG:$AG,0),2))","v":""},null,{"$f":"IF(J301=\"\",\"\",INDEX(referentes!$S:$W,MATCH(J301,referentes!$S:$S,0),1))","v":""},null,null,null,null,{"$f":"IF(P301=\"\",\"\",INDEX(referentes!$J:$K,MATCH(P301,referentes!$J:$J,0),2))","v":""},null,null,null,{"$f":"IF(T301=\"\",\"\",INDEX(referentes!D:E,MATCH(T301,referentes!D:D,0),2))","v":""},null,{"$f":"IF(V301=\"\",\"\",INDEX('Otras referencias'!AO:AP,MATCH(V301,'Otras referencias'!AO:AO,0),2))","v":""},null,{"$f":"IF(Z301=\"\",\"\",INDEX('Otras referencias'!H:I,MATCH(Z301,'Otras referencias'!I:I,0),1))","v":""},null,null,null,{"$f":"IF(AD301=\"\",\"\",INDEX('Otras referencias'!K:L,MATCH(AD301,'Otras referencias'!L:L,0),1))","v":""},null,"---",null,null,null,{"$f":"IF(V301=\"\",\"\",INDEX('Otras referencias'!AO:AQ,MATCH(V301,'Otras referencias'!AO:AO,0),3))","v":""},{"$f":"IF(SUMPRODUCT(--EXACT(K301&M301,$AJ$2:AJ300)),\"\",K301&M301)","v":""},{"$f":"IF(SUMPRODUCT(--EXACT(K301&M301,$AJ$2:AJ300)),\"\",MAX($AK$3:AK300)+1)","v":""}]
[1,{"$f":"IF(F302=\"\",\"\",IF(COUNTIF($F$3:F302, F302)>1, \"\", F302))","v":""},300,"",null,{"$f":"IF(I302=\"\",\"\",IF(K302=\"\",\"\", CONCATENATE(DIGITADOR!$M$1,G302,J302)))","v":""},null,null,"",{"$f":"IF(K302=\"\",\"\",INDEX('Otras referencias'!$AG:$AH,MATCH(K302,'Otras referencias'!$AG:$AG,0),2))","v":""},null,{"$f":"IF(J302=\"\",\"\",INDEX(referentes!$S:$W,MATCH(J302,referentes!$S:$S,0),1))","v":""},null,null,null,null,{"$f":"IF(P302=\"\",\"\",INDEX(referentes!$J:$K,MATCH(P302,referentes!$J:$J,0),2))","v":""},null,null,null,{"$f":"IF(T302=\"\",\"\",INDEX(referentes!D:E,MATCH(T302,referentes!D:D,0),2))","v":""},null,{"$f":"IF(V302=\"\",\"\",INDEX('Otras referencias'!AO:AP,MATCH(V302,'Otras referencias'!AO:AO,0),2))","v":""},null,{"$f":"IF(Z302=\"\",\"\",INDEX('Otras referencias'!H:I,MATCH(Z302,'Otras referencias'!I:I,0),1))","v":""},null,null,null,{"$f":"IF(AD302=\"\",\"\",INDEX('Otras referencias'!K:L,MATCH(AD302,'Otras referencias'!L:L,0),1))","v":""},null,"---",null,null,null,{"$f":"IF(V302=\"\",\"\",INDEX('Otras referencias'!AO:AQ,MATCH(V302,'Otras referencias'!AO:AO,0),3))","v":""},{"$f":"IF(SUMPRODUCT(--EXACT(K302&M302,$AJ$2:AJ301)),\"\",K302&M302)","v":""},{"$f":"IF(SUMPRODUCT(--EXACT(K302&M302,$AJ$2:AJ301)),\"\",MAX($AK$3:AK301)+1)","v":""}]
[1,{"$f":"IF(F303=\"\",\"\",IF(COUNTIF($F$3:F303, F303)>1, \"\", F303))","v":""},301,"",null,{"$f":"IF(I303=\"\",\"\",IF(K303=\"\",\"\", CONCATENATE(DIGITADOR!$M$1,G303,J303)))","v":""},null,null,"",{"$f":"IF(K303=\"\",\"\",INDEX('Otras referencias'!$AG:$AH,MATCH(K303,'Otras referencias'!$AG:$AG,0),2))","v":""},null,{"$f":"IF(J303=\"\",\"\",INDEX(referentes!$S:$W,MATCH(J303,referentes!$S:$S,0),1))","v":""},null,null,null,null,{"$f":"IF(P303=\"\",\"\",INDEX(referentes!$J:$K,MATCH(P303,referentes!$J:$J,0),2))","v":""},null,null,null,{"$f":"IF(T303=\"\",\"\",INDEX(referentes!D:E,MATCH(T303,referentes!D:D,0),2))","v":""},null,{"$f":"IF(V303=\"\",\"\",INDEX('Otras referencias'!AO:AP,MATCH(V303,'Otras referencias'!AO:AO,0),2))","v":""},null,{"$f":"IF(Z303=\"\",\"\",INDEX('Otras referencias'!H:I,MATCH(Z303,'Otras referencias'!I:I,0),1))","v":""},null,null,null,{"$f":"IF(AD303=\"\",\"\",INDEX('Otras referencias'!K:L,MATCH(AD303,'Otras referencias'!L:L,0),1))","v":""},null,"---",null,null,null,{"$f":"IF(V303=\"\",\"\",INDEX('Otras referencias'!AO:AQ,MATCH(V303,'Otras referencias'!AO:AO,0),3))","v":""},{"$f":"IF(SUMPRODUCT(--EXACT(K303&M303,$AJ$2:AJ302)),\"\",K303&M303)","v":""},{"$f":"IF(SUMPRODUCT(--EXACT(K303&M303,$AJ$2:AJ302)),\"\",MAX($AK$3:AK302)+1)","v":""}]
[1,{"$f":"IF(F304=\"\",\"\",IF(COUNTIF($F$3:F304, F304)>1, \"\", F304))","v":""},302,"",null,{"$f":"IF(I304=\"\",\"\",IF(K304=\"\",\"\", CONCATENATE(DIGITADOR!$M$1,G304,J304)))","v":""},null,null,"",{"$f":"IF(K304=\"\",\"\",INDEX('Otras referencias'!$AG:$AH,MATCH(K304,'Otras referencias'!$AG:$AG,0),2))","v":""},null,{"$f":"IF(J304=\"\",\"\",INDEX(referentes!$S:$W,MATCH(J304,referentes!$S:$S,0),1))","v":""},null,null,null,null,{"$f":"IF(P304=\"\",\"\",INDEX(referentes!$J:$K,MATCH(P304,referentes!$J:$J,0),2))","v":""},null,null,null,{"$f":"IF(T304=\"\",\"\",INDEX(referentes!D:E,MATCH(T304,referentes!D:D,0),2))","v":""},null,{"$f":"IF(V304=\"\",\"\",INDEX('Otras referencias'!AO:AP,MATCH(V304,'Otras referencias'!AO:AO,0),2))","v":""},null,{"$f":"IF(Z304=\"\",\"\",INDEX('Otras referencias'!H:I,MATCH(Z304,'Otras referencias'!I:I,0),1))","v":""},null,null,null,{"$f":"IF(AD304=\"\",\"\",INDEX('Otras referencias'!K:L,MATCH(AD304,'Otras referencias'!L:L,0),1))","v":""},null,"---",null,null,null,{"$f":"IF(V304=\"\",\"\",INDEX('Otras referencias'!AO:AQ,MATCH(V304,'Otras referencias'!AO:AO,0),3))","v":""},{"$f":"IF(SUMPRODUCT(--EXACT(K304&M304,$AJ$2:AJ303)),\"\",K304&M304)","v":""},{"$f":"IF(SUMPRODUCT(--EXACT(K304&M304,$AJ$2:AJ303)),\"\",MAX($AK$3:AK303)+1)","v":""}]
[1,{"$f":"IF(F305=\"\",\"\",IF(COUNTIF($F$3:F305, F305)>1, \"\", F305))","v":""},303,"",null,{"$f":"IF(I305=\"\",\"\",IF(K305=\"\",\"\", CONCATENATE(DIGITADOR!$M$1,G305,J305)))","v":""},null,null,"",{"$f":"IF(K305=\"\",\"\",INDEX('Otras referencias'!$AG:$AH,MATCH(K305,'Otras referencias'!$AG:$AG,0),2))","v":""},null,{"$f":"IF(J305=\"\",\"\",INDEX(referentes!$S:$W,MATCH(J305,referentes!$S:$S,0),1))","v":""},null,null,null,null,{"$f":"IF(P305=\"\",\"\",INDEX(referentes!$J:$K,MATCH(P305,referentes!$J:$J,0),2))","v":""},null,null,null,{"$f":"IF(T305=\"\",\"\",INDEX(referentes!D:E,MATCH(T305,referentes!D:D,0),2))","v":""},null,{"$f":"IF(V305=\"\",\"\",INDEX('Otras referencias'!AO:AP,MATCH(V305,'Otras referencias'!AO:AO,0),2))","v":""},null,{"$f":"IF(Z305=\"\",\"\",INDEX('Otras referencias'!H:I,MATCH(Z305,'Otras referencias'!I:I,0),1))","v":""},null,null,null,{"$f":"IF(AD305=\"\",\"\",INDEX('Otras referencias'!K:L,MATCH(AD305,'Otras referencias'!L:L,0),1))","v":""},null,"---",null,null,null,{"$f":"IF(V305=\"\",\"\",INDEX('Otras referencias'!AO:AQ,MATCH(V305,'Otras referencias'!AO:AO,0),3))","v":""},{"$f":"IF(SUMPRODUCT(--EXACT(K305&M305,$AJ$2:AJ304)),\"\",K305&M305)","v":""},{"$f":"IF(SUMPRODUCT(--EXACT(K305&M305,$AJ$2:AJ304)),\"\",MAX($AK$3:AK304)+1)","v":""}]
[1,{"$f":"IF(F306=\"\",\"\",IF(COUNTIF($F$3:F306, F306)>1, \"\", F306))","v":""},304,"",null,{"$f":"IF(I306=\"\",\"\",IF(K306=\"\",\"\", CONCATENATE(DIGITADOR!$M$1,G306,J306)))","v":""},null,null,"",{"$f":"IF(K306=\"\",\"\",INDEX('Otras referencias'!$AG:$AH,MATCH(K306,'Otras referencias'!$AG:$AG,0),2))","v":""},null,{"$f":"IF(J306=\"\",\"\",INDEX(referentes!$S:$W,MATCH(J306,referentes!$S:$S,0),1))","v":""},null,null,null,null,{"$f":"IF(P306=\"\",\"\",INDEX(referentes!$J:$K,MATCH(P306,referentes!$J:$J,0),2))","v":""},null,null,null,{"$f":"IF(T306=\"\",\"\",INDEX(referentes!D:E,MATCH(T306,referentes!D:D,0),2))","v":""},null,{"$f":"IF(V306=\"\",\"\",INDEX('Otras referencias'!AO:AP,MATCH(V306,'Otras referencias'!AO:AO,0),2))","v":""},null,{"$f":"IF(Z306=\"\",\"\",INDEX('Otras referencias'!H:I,MATCH(Z306,'Otras referencias'!I:I,0),1))","v":""},null,null,null,{"$f":"IF(AD306=\"\",\"\",INDEX('Otras referencias'!K:L,MATCH(AD306,'Otras referencias'!L:L,0),1))","v":""},null,"---",null,null,null,{"$f":"IF(V306=\"\",\"\",INDEX('Otras referencias'!AO:AQ,MATCH(V306,'Otras referencias'!AO:AO,0),3))","v":""},{"$f":"IF(SUMPRODUCT(--EXACT(K306&M306,$AJ$2:AJ305)),\"\",K306&M306)","v":""},{"$f":"IF(SUMPRODUCT(--EXACT(K306&M306,$AJ$2:AJ305)),\"\",MAX($AK$3:AK305)+1)","v":""}]
[1,{"$f":"IF(F307=\"\",\"\",IF(COUNTIF($F$3:F307, F307)>1, \"\", F307))","v":""},305,"",null,{"$f":"IF(I307=\"\",\"\",IF(K307=\"\",\"\", CONCATENATE(DIGITADOR!$M$1,G307,J307)))","v":""},null,null,"",{"$f":"IF(K307=\"\",\"\",INDEX('Otras referencias'!$AG:$AH,MATCH(K307,'Otras referencias'!$AG:$AG,0),2))","v":""},null,{"$f":"IF(J307=\"\",\"\",INDEX(referentes!$S:$W,MATCH(J307,referentes!$S:$S,0),1))","v":""},null,null,null,null,{"$f":"IF(P307=\"\",\"\",INDEX(referentes!$J:$K,MATCH(P307,referentes!$J:$J,0),2))","v":""},null,null,null,{"$f":"IF(T307=\"\",\"\",INDEX(referentes!D:E,MATCH(T307,referentes!D:D,0),2))","v":""},null,{"$f":"IF(V307=\"\",\"\",INDEX('Otras referencias'!AO:AP,MATCH(V307,'Otras referencias'!AO:AO,0),2))","v":""},null,{"$f":"IF(Z307=\"\",\"\",INDEX('Otras referencias'!H:I,MATCH(Z307,'Otras referencias'!I:I,0),1))","v":""},null,null,null,{"$f":"IF(AD307=\"\",\"\",INDEX('Otras referencias'!K:L,MATCH(AD307,'Otras referencias'!L:L,0),1))","v":""},null,"---",null,null,null,{"$f":"IF(V307=\"\",\"\",INDEX('Otras referencias'!AO:AQ,MATCH(V307,'Otras referencias'!AO:AO,0),3))","v":""},{"$f":"IF(SUMPRODUCT(--EXACT(K307&M307,$AJ$2:AJ306)),\"\",K307&M307)","v":""},{"$f":"IF(SUMPRODUCT(--EXACT(K307&M307,$AJ$2:AJ306)),\"\",MAX($AK$3:AK306)+1)","v":""}]
[1,{"$f":"IF(F308=\"\",\"\",IF(COUNTIF($F$3:F308, F308)>1, \"\", F308))","v":""},306,"",null,{"$f":"IF(I308=\"\",\"\",IF(K308=\"\",\"\", CONCATENATE(DIGITADOR!$M$1,G308,J308)))","v":""},null,null,"",{"$f":"IF(K308=\"\",\"\",INDEX('Otras referencias'!$AG:$AH,MATCH(K308,'Otras referencias'!$AG:$AG,0),2))","v":""},null,{"$f":"IF(J308=\"\",\"\",INDEX(referentes!$S:$W,MATCH(J308,referentes!$S:$S,0),1))","v":""},null,null,null,null,{"$f":"IF(P308=\"\",\"\",INDEX(referentes!$J:$K,MATCH(P308,referentes!$J:$J,0),2))","v":""},null,null,null,{"$f":"IF(T308=\"\",\"\",INDEX(referentes!D:E,MATCH(T308,referentes!D:D,0),2))","v":""},null,{"$f":"IF(V308=\"\",\"\",INDEX('Otras referencias'!AO:AP,MATCH(V308,'Otras referencias'!AO:AO,0),2))","v":""},null,{"$f":"IF(Z308=\"\",\"\",INDEX('Otras referencias'!H:I,MATCH(Z308,'Otras referencias'!I:I,0),1))","v":""},null,null,null,{"$f":"IF(AD308=\"\",\"\",INDEX('Otras referencias'!K:L,MATCH(AD308,'Otras referencias'!L:L,0),1))","v":""},null,"---",null,null,null,{"$f":"IF(V308=\"\",\"\",INDEX('Otras referencias'!AO:AQ,MATCH(V308,'Otras referencias'!AO:AO,0),3))","v":""},{"$f":"IF(SUMPRODUCT(--EXACT(K308&M308,$AJ$2:AJ307)),\"\",K308&M308)","v":""},{"$f":"IF(SUMPRODUCT(--EXACT(K308&M308,$AJ$2:AJ307)),\"\",MAX($AK$3:AK307)+1)","v":""}]
[1,{"$f":"IF(F309=\"\",\"\",IF(COUNTIF($F$3:F309, F309)>1, \"\", F309))","v":""},307,"",null,{"$f":"IF(I309=\"\",\"\",IF(K309=\"\",\"\", CONCATENATE(DIGITADOR!$M$1,G309,J309)))","v":""},null,null,"",{"$f":"IF(K309=\"\",\"\",INDEX('Otras referencias'!$AG:$AH,MATCH(K309,'Otras referencias'!$AG:$AG,0),2))","v":""},null,{"$f":"IF(J309=\"\",\"\",INDEX(referentes!$S:$W,MATCH(J309,referentes!$S:$S,0),1))","v":""},null,null,null,null,{"$f":"IF(P309=\"\",\"\",INDEX(referentes!$J:$K,MATCH(P309,referentes!$J:$J,0),2))","v":""},null,null,null,{"$f":"IF(T309=\"\",\"\",INDEX(referentes!D:E,MATCH(T309,referentes!D:D,0),2))","v":""},null,{"$f":"IF(V309=\"\",\"\",INDEX('Otras referencias'!AO:AP,MATCH(V309,'Otras referencias'!AO:AO,0),2))","v":""},null,{"$f":"IF(Z309=\"\",\"\",INDEX('Otras referencias'!H:I,MATCH(Z309,'Otras referencias'!I:I,0),1))","v":""},null,null,null,{"$f":"IF(AD309=\"\",\"\",INDEX('Otras referencias'!K:L,MATCH(AD309,'Otras referencias'!L:L,0),1))","v":""},null,"---",null,null,null,{"$f":"IF(V309=\"\",\"\",INDEX('Otras referencias'!AO:AQ,MATCH(V309,'Otras referencias'!AO:AO,0),3))","v":""},{"$f":"IF(SUMPRODUCT(--EXACT(K309&M309,$AJ$2:AJ308)),\"\",K309&M309)","v":""},{"$f":"IF(SUMPRODUCT(--EXACT(K309&M309,$AJ$2:AJ308)),\"\",MAX($AK$3:AK308)+1)","v":""}]
[1,{"$f":"IF(F310=\"\",\"\",IF(COUNTIF($F$3:F310, F310)>1, \"\", F310))","v":""},308,"",null,{"$f":"IF(I310=\"\",\"\",IF(K310=\"\",\"\", CONCATENATE(DIGITADOR!$M$1,G310,J310)))","v":""},null,null,"",{"$f":"IF(K310=\"\",\"\",INDEX('Otras referencias'!$AG:$AH,MATCH(K310,'Otras referencias'!$AG:$AG,0),2))","v":""},null,{"$f":"IF(J310=\"\",\"\",INDEX(referentes!$S:$W,MATCH(J310,referentes!$S:$S,0),1))","v":""},null,null,null,null,{"$f":"IF(P310=\"\",\"\",INDEX(referentes!$J:$K,MATCH(P310,referentes!$J:$J,0),2))","v":""},null,null,null,{"$f":"IF(T310=\"\",\"\",INDEX(referentes!D:E,MATCH(T310,referentes!D:D,0),2))","v":""},null,{"$f":"IF(V310=\"\",\"\",INDEX('Otras referencias'!AO:AP,MATCH(V310,'Otras referencias'!AO:AO,0),2))","v":""},null,{"$f":"IF(Z310=\"\",\"\",INDEX('Otras referencias'!H:I,MATCH(Z310,'Otras referencias'!I:I,0),1))","v":""},null,null,null,{"$f":"IF(AD310=\"\",\"\",INDEX('Otras referencias'!K:L,MATCH(AD310,'Otras referencias'!L:L,0),1))","v":""},null,"---",null,null,null,{"$f":"IF(V310=\"\",\"\",INDEX('Otras referencias'!AO:AQ,MATCH(V310,'Otras referencias'!AO:AO,0),3))","v":""},{"$f":"IF(SUMPRODUCT(--EXACT(K310&M310,$AJ$2:AJ309)),\"\",K310&M310)","v":""},{"$f":"IF(SUMPRODUCT(--EXACT(K310&M310,$AJ$2:AJ309)),\"\",MAX($AK$3:AK309)+1)","v":""}]
[1,{"$f":"IF(F311=\"\",\"\",IF(COUNTIF($F$3:F311, F311)>1, \"\", F311))","v":""},309,"",null,{"$f":"IF(I311=\"\",\"\",IF(K311=\"\",\"\", CONCATENATE(DIGITADOR!$M$1,G311,J311)))","v":""},null,null,"",{"$f":"IF(K311=\"\",\"\",INDEX('Otras referencias'!$AG:$AH,MATCH(K311,'Otras referencias'!$AG:$AG,0),2))","v":""},null,{"$f":"IF(J311=\"\",\"\",INDEX(referentes!$S:$W,MATCH(J311,referentes!$S:$S,0),1))","v":""},null,null,null,null,{"$f":"IF(P311=\"\",\"\",INDEX(referentes!$J:$K,MATCH(P311,referentes!$J:$J,0),2))","v":""},null,null,null,{"$f":"IF(T311=\"\",\"\",INDEX(referentes!D:E,MATCH(T311,referentes!D:D,0),2))","v":""},null,{"$f":"IF(V311=\"\",\"\",INDEX('Otras referencias'!AO:AP,MATCH(V311,'Otras referencias'!AO:AO,0),2))","v":""},null,{"$f":"IF(Z311=\"\",\"\",INDEX('Otras referencias'!H:I,MATCH(Z311,'Otras referencias'!I:I,0),1))","v":""},null,null,null,{"$f":"IF(AD311=\"\",\"\",INDEX('Otras referencias'!K:L,MATCH(AD311,'Otras referencias'!L:L,0),1))","v":""},null,"---",null,null,null,{"$f":"IF(V311=\"\",\"\",INDEX('Otras referencias'!AO:AQ,MATCH(V311,'Otras referencias'!AO:AO,0),3))","v":""},{"$f":"IF(SUMPRODUCT(--EXACT(K311&M311,$AJ$2:AJ310)),\"\",K311&M311)","v":""},{"$f":"IF(SUMPRODUCT(--EXACT(K311&M311,$AJ$2:AJ310)),\"\",MAX($AK$3:AK310)+1)","v":""}]
[1,{"$f":"IF(F312=\"\",\"\",IF(COUNTIF($F$3:F312, F312)>1, \"\", F312))","v":""},310,"",null,{"$f":"IF(I312=\"\",\"\",IF(K312=\"\",\"\", CONCATENATE(DIGITADOR!$M$1,G312,J312)))","v":""},null,null,"",{"$f":"IF(K312=\"\",\"\",INDEX('Otras referencias'!$AG:$AH,MATCH(K312,'Otras referencias'!$AG:$AG,0),2))","v":""},null,{"$f":"IF(J312=\"\",\"\",INDEX(referentes!$S:$W,MATCH(J312,referentes!$S:$S,0),1))","v":""},null,null,null,null,{"$f":"IF(P312=\"\",\"\",INDEX(referentes!$J:$K,MATCH(P312,referentes!$J:$J,0),2))","v":""},null,null,null,{"$f":"IF(T312=\"\",\"\",INDEX(referentes!D:E,MATCH(T312,referentes!D:D,0),2))","v":""},null,{"$f":"IF(V312=\"\",\"\",INDEX('Otras referencias'!AO:AP,MATCH(V312,'Otras referencias'!AO:AO,0),2))","v":""},null,{"$f":"IF(Z312=\"\",\"\",INDEX('Otras referencias'!H:I,MATCH(Z312,'Otras referencias'!I:I,0),1))","v":""},null,null,null,{"$f":"IF(AD312=\"\",\"\",INDEX('Otras referencias'!K:L,MATCH(AD312,'Otras referencias'!L:L,0),1))","v":""},null,"---",null,null,null,{"$f":"IF(V312=\"\",\"\",INDEX('Otras referencias'!AO:AQ,MATCH(V312,'Otras referencias'!AO:AO,0),3))","v":""},{"$f":"IF(SUMPRODUCT(--EXACT(K312&M312,$AJ$2:AJ311)),\"\",K312&M312)","v":""},{"$f":"IF(SUMPRODUCT(--EXACT(K312&M312,$AJ$2:AJ311)),\"\",MAX($AK$3:AK311)+1)","v":""}]
[1,{"$f":"IF(F313=\"\",\"\",IF(COUNTIF($F$3:F313, F313)>1, \"\", F313))","v":""},311,"",null,{"$f":"IF(I313=\"\",\"\",IF(K313=\"\",\"\", CONCATENATE(DIGITADOR!$M$1,G313,J313)))","v":""},null,null,"",{"$f":"IF(K313=\"\",\"\",INDEX('Otras referencias'!$AG:$AH,MATCH(K313,'Otras referencias'!$AG:$AG,0),2))","v":""},null,{"$f":"IF(J313=\"\",\"\",INDEX(referentes!$S:$W,MATCH(J313,referentes!$S:$S,0),1))","v":""},null,null,null,null,{"$f":"IF(P313=\"\",\"\",INDEX(referentes!$J:$K,MATCH(P313,referentes!$J:$J,0),2))","v":""},null,null,null,{"$f":"IF(T313=\"\",\"\",INDEX(referentes!D:E,MATCH(T313,referentes!D:D,0),2))","v":""},null,{"$f":"IF(V313=\"\",\"\",INDEX('Otras referencias'!AO:AP,MATCH(V313,'Otras referencias'!AO:AO,0),2))","v":""},null,{"$f":"IF(Z313=\"\",\"\",INDEX('Otras referencias'!H:I,MATCH(Z313,'Otras referencias'!I:I,0),1))","v":""},null,null,null,{"$f":"IF(AD313=\"\",\"\",INDEX('Otras referencias'!K:L,MATCH(AD313,'Otras referencias'!L:L,0),1))","v":""},null,"---",null,null,null,{"$f":"IF(V313=\"\",\"\",INDEX('Otras referencias'!AO:AQ,MATCH(V313,'Otras referencias'!AO:AO,0),3))","v":""},{"$f":"IF(SUMPRODUCT(--EXACT(K313&M313,$AJ$2:AJ312)),\"\",K313&M313)","v":""},{"$f":"IF(SUMPRODUCT(--EXACT(K313&M313,$AJ$2:AJ312)),\"\",MAX($AK$3:AK312)+1)","v":""}]
[1,{"$f":"IF(F314=\"\",\"\",IF(COUNTIF($F$3:F314, F314)>1, \"\", F314))","v":""},312,"",null,{"$f":"IF(I314=\"\",\"\",IF(K314=\"\",\"\", CONCATENATE(DIGITADOR!$M$1,G314,J314)))","v":""},null,null,"",{"$f":"IF(K314=\"\",\"\",INDEX('Otras referencias'!$AG:$AH,MATCH(K314,'Otras referencias'!$AG:$AG,0),2))","v":""},null,{"$f":"IF(J314=\"\",\"\",INDEX(referentes!$S:$W,MATCH(J314,referentes!$S:$S,0),1))","v":""},null,null,null,null,{"$f":"IF(P314=\"\",\"\",INDEX(referentes!$J:$K,MATCH(P314,referentes!$J:$J,0),2))","v":""},null,null,null,{"$f":"IF(T314=\"\",\"\",INDEX(referentes!D:E,MATCH(T314,referentes!D:D,0),2))","v":""},null,{"$f":"IF(V314=\"\",\"\",INDEX('Otras referencias'!AO:AP,MATCH(V314,'Otras referencias'!AO:AO,0),2))","v":""},null,{"$f":"IF(Z314=\"\",\"\",INDEX('Otras referencias'!H:I,MATCH(Z314,'Otras referencias'!I:I,0),1))","v":""},null,null,null,{"$f":"IF(AD314=\"\",\"\",INDEX('Otras referencias'!K:L,MATCH(AD314,'Otras referencias'!L:L,0),1))","v":""},null,"---",null,null,null,{"$f":"IF(V314=\"\",\"\",INDEX('Otras referencias'!AO:AQ,MATCH(V314,'Otras referencias'!AO:AO,0),3))","v":""},{"$f":"IF(SUMPRODUCT(--EXACT(K314&M314,$AJ$2:AJ313)),\"\",K314&M314)","v":""},{"$f":"IF(SUMPRODUCT(--EXACT(K314&M314,$AJ$2:AJ313)),\"\",MAX($AK$3:AK313)+1)","v":""}]
[1,{"$f":"IF(F315=\"\",\"\",IF(COUNTIF($F$3:F315, F315)>1, \"\", F315))","v":""},313,"",null,{"$f":"IF(I315=\"\",\"\",IF(K315=\"\",\"\", CONCATENATE(DIGITADOR!$M$1,G315,J315)))","v":""},null,null,"",{"$f":"IF(K315=\"\",\"\",INDEX('Otras referencias'!$AG:$AH,MATCH(K315,'Otras referencias'!$AG:$AG,0),2))","v":""},null,{"$f":"IF(J315=\"\",\"\",INDEX(referentes!$S:$W,MATCH(J315,referentes!$S:$S,0),1))","v":""},null,null,null,null,{"$f":"IF(P315=\"\",\"\",INDEX(referentes!$J:$K,MATCH(P315,referentes!$J:$J,0),2))","v":""},null,null,null,{"$f":"IF(T315=\"\",\"\",INDEX(referentes!D:E,MATCH(T315,referentes!D:D,0),2))","v":""},null,{"$f":"IF(V315=\"\",\"\",INDEX('Otras referencias'!AO:AP,MATCH(V315,'Otras referencias'!AO:AO,0),2))","v":""},null,{"$f":"IF(Z315=\"\",\"\",INDEX('Otras referencias'!H:I,MATCH(Z315,'Otras referencias'!I:I,0),1))","v":""},null,null,null,{"$f":"IF(AD315=\"\",\"\",INDEX('Otras referencias'!K:L,MATCH(AD315,'Otras referencias'!L:L,0),1))","v":""},null,"---",null,null,null,{"$f":"IF(V315=\"\",\"\",INDEX('Otras referencias'!AO:AQ,MATCH(V315,'Otras referencias'!AO:AO,0),3))","v":""},{"$f":"IF(SUMPRODUCT(--EXACT(K315&M315,$AJ$2:AJ314)),\"\",K315&M315)","v":""},{"$f":"IF(SUMPRODUCT(--EXACT(K315&M315,$AJ$2:AJ314)),\"\",MAX($AK$3:AK314)+1)","v":""}]
[1,{"$f":"IF(F316=\"\",\"\",IF(COUNTIF($F$3:F316, F316)>1, \"\", F316))","v":""},314,"",null,{"$f":"IF(I316=\"\",\"\",IF(K316=\"\",\"\", CONCATENATE(DIGITADOR!$M$1,G316,J316)))","v":""},null,null,"",{"$f":"IF(K316=\"\",\"\",INDEX('Otras referencias'!$AG:$AH,MATCH(K316,'Otras referencias'!$AG:$AG,0),2))","v":""},null,{"$f":"IF(J316=\"\",\"\",INDEX(referentes!$S:$W,MATCH(J316,referentes!$S:$S,0),1))","v":""},null,null,null,null,{"$f":"IF(P316=\"\",\"\",INDEX(referentes!$J:$K,MATCH(P316,referentes!$J:$J,0),2))","v":""},null,null,null,{"$f":"IF(T316=\"\",\"\",INDEX(referentes!D:E,MATCH(T316,referentes!D:D,0),2))","v":""},null,{"$f":"IF(V316=\"\",\"\",INDEX('Otras referencias'!AO:AP,MATCH(V316,'Otras referencias'!AO:AO,0),2))","v":""},null,{"$f":"IF(Z316=\"\",\"\",INDEX('Otras referencias'!H:I,MATCH(Z316,'Otras referencias'!I:I,0),1))","v":""},null,null,null,{"$f":"IF(AD316=\"\",\"\",INDEX('Otras referencias'!K:L,MATCH(AD316,'Otras referencias'!L:L,0),1))","v":""},null,"---",null,null,null,{"$f":"IF(V316=\"\",\"\",INDEX('Otras referencias'!AO:AQ,MATCH(V316,'Otras referencias'!AO:AO,0),3))","v":""},{"$f":"IF(SUMPRODUCT(--EXACT(K316&M316,$AJ$2:AJ315)),\"\",K316&M316)","v":""},{"$f":"IF(SUMPRODUCT(--EXACT(K316&M316,$AJ$2:AJ315)),\"\",MAX($AK$3:AK315)+1)","v":""}]
[1,{"$f":"IF(F317=\"\",\"\",IF(COUNTIF($F$3:F317, F317)>1, \"\", F317))","v":""},315,"",null,{"$f":"IF(I317=\"\",\"\",IF(K317=\"\",\"\", CONCATENATE(DIGITADOR!$M$1,G317,J317)))","v":""},null,null,"",{"$f":"IF(K317=\"\",\"\",INDEX('Otras referencias'!$AG:$AH,MATCH(K317,'Otras referencias'!$AG:$AG,0),2))","v":""},null,{"$f":"IF(J317=\"\",\"\",INDEX(referentes!$S:$W,MATCH(J317,referentes!$S:$S,0),1))","v":""},null,null,null,null,{"$f":"IF(P317=\"\",\"\",INDEX(referentes!$J:$K,MATCH(P317,referentes!$J:$J,0),2))","v":""},null,null,null,{"$f":"IF(T317=\"\",\"\",INDEX(referentes!D:E,MATCH(T317,referentes!D:D,0),2))","v":""},null,{"$f":"IF(V317=\"\",\"\",INDEX('Otras referencias'!AO:AP,MATCH(V317,'Otras referencias'!AO:AO,0),2))","v":""},null,{"$f":"IF(Z317=\"\",\"\",INDEX('Otras referencias'!H:I,MATCH(Z317,'Otras referencias'!I:I,0),1))","v":""},null,null,null,{"$f":"IF(AD317=\"\",\"\",INDEX('Otras referencias'!K:L,MATCH(AD317,'Otras referencias'!L:L,0),1))","v":""},null,"---",null,null,null,{"$f":"IF(V317=\"\",\"\",INDEX('Otras referencias'!AO:AQ,MATCH(V317,'Otras referencias'!AO:AO,0),3))","v":""},{"$f":"IF(SUMPRODUCT(--EXACT(K317&M317,$AJ$2:AJ316)),\"\",K317&M317)","v":""},{"$f":"IF(SUMPRODUCT(--EXACT(K317&M317,$AJ$2:AJ316)),\"\",MAX($AK$3:AK316)+1)","v":""}]
[1,{"$f":"IF(F318=\"\",\"\",IF(COUNTIF($F$3:F318, F318)>1, \"\", F318))","v":""},316,"",null,{"$f":"IF(I318=\"\",\"\",IF(K318=\"\",\"\", CONCATENATE(DIGITADOR!$M$1,G318,J318)))","v":""},null,null,"",{"$f":"IF(K318=\"\",\"\",INDEX('Otras referencias'!$AG:$AH,MATCH(K318,'Otras referencias'!$AG:$AG,0),2))","v":""},null,{"$f":"IF(J318=\"\",\"\",INDEX(referentes!$S:$W,MATCH(J318,referentes!$S:$S,0),1))","v":""},null,null,null,null,{"$f":"IF(P318=\"\",\"\",INDEX(referentes!$J:$K,MATCH(P318,referentes!$J:$J,0),2))","v":""},null,null,null,{"$f":"IF(T318=\"\",\"\",INDEX(referentes!D:E,MATCH(T318,referentes!D:D,0),2))","v":""},null,{"$f":"IF(V318=\"\",\"\",INDEX('Otras referencias'!AO:AP,MATCH(V318,'Otras referencias'!AO:AO,0),2))","v":""},null,{"$f":"IF(Z318=\"\",\"\",INDEX('Otras referencias'!H:I,MATCH(Z318,'Otras referencias'!I:I,0),1))","v":""},null,null,null,{"$f":"IF(AD318=\"\",\"\",INDEX('Otras referencias'!K:L,MATCH(AD318,'Otras referencias'!L:L,0),1))","v":""},null,"---",null,null,null,{"$f":"IF(V318=\"\",\"\",INDEX('Otras referencias'!AO:AQ,MATCH(V318,'Otras referencias'!AO:AO,0),3))","v":""},{"$f":"IF(SUMPRODUCT(--EXACT(K318&M318,$AJ$2:AJ317)),\"\",K318&M318)","v":""},{"$f":"IF(SUMPRODUCT(--EXACT(K318&M318,$AJ$2:AJ317)),\"\",MAX($AK$3:AK317)+1)","v":""}]
[1,{"$f":"IF(F319=\"\",\"\",IF(COUNTIF($F$3:F319, F319)>1, \"\", F319))","v":""},317,"",null,{"$f":"IF(I319=\"\",\"\",IF(K319=\"\",\"\", CONCATENATE(DIGITADOR!$M$1,G319,J319)))","v":""},null,null,"",{"$f":"IF(K319=\"\",\"\",INDEX('Otras referencias'!$AG:$AH,MATCH(K319,'Otras referencias'!$AG:$AG,0),2))","v":""},null,{"$f":"IF(J319=\"\",\"\",INDEX(referentes!$S:$W,MATCH(J319,referentes!$S:$S,0),1))","v":""},null,null,null,null,{"$f":"IF(P319=\"\",\"\",INDEX(referentes!$J:$K,MATCH(P319,referentes!$J:$J,0),2))","v":""},null,null,null,{"$f":"IF(T319=\"\",\"\",INDEX(referentes!D:E,MATCH(T319,referentes!D:D,0),2))","v":""},null,{"$f":"IF(V319=\"\",\"\",INDEX('Otras referencias'!AO:AP,MATCH(V319,'Otras referencias'!AO:AO,0),2))","v":""},null,{"$f":"IF(Z319=\"\",\"\",INDEX('Otras referencias'!H:I,MATCH(Z319,'Otras referencias'!I:I,0),1))","v":""},null,null,null,{"$f":"IF(AD319=\"\",\"\",INDEX('Otras referencias'!K:L,MATCH(AD319,'Otras referencias'!L:L,0),1))","v":""},null,"---",null,null,null,{"$f":"IF(V319=\"\",\"\",INDEX('Otras referencias'!AO:AQ,MATCH(V319,'Otras referencias'!AO:AO,0),3))","v":""},{"$f":"IF(SUMPRODUCT(--EXACT(K319&M319,$AJ$2:AJ318)),\"\",K319&M319)","v":""},{"$f":"IF(SUMPRODUCT(--EXACT(K319&M319,$AJ$2:AJ318)),\"\",MAX($AK$3:AK318)+1)","v":""}]
[1,{"$f":"IF(F320=\"\",\"\",IF(COUNTIF($F$3:F320, F320)>1, \"\", F320))","v":""},318,"",null,{"$f":"IF(I320=\"\",\"\",IF(K320=\"\",\"\", CONCATENATE(DIGITADOR!$M$1,G320,J320)))","v":""},null,null,"",{"$f":"IF(K320=\"\",\"\",INDEX('Otras referencias'!$AG:$AH,MATCH(K320,'Otras referencias'!$AG:$AG,0),2))","v":""},null,{"$f":"IF(J320=\"\",\"\",INDEX(referentes!$S:$W,MATCH(J320,referentes!$S:$S,0),1))","v":""},null,null,null,null,{"$f":"IF(P320=\"\",\"\",INDEX(referentes!$J:$K,MATCH(P320,referentes!$J:$J,0),2))","v":""},null,null,null,{"$f":"IF(T320=\"\",\"\",INDEX(referentes!D:E,MATCH(T320,referentes!D:D,0),2))","v":""},null,{"$f":"IF(V320=\"\",\"\",INDEX('Otras referencias'!AO:AP,MATCH(V320,'Otras referencias'!AO:AO,0),2))","v":""},null,{"$f":"IF(Z320=\"\",\"\",INDEX('Otras referencias'!H:I,MATCH(Z320,'Otras referencias'!I:I,0),1))","v":""},null,null,null,{"$f":"IF(AD320=\"\",\"\",INDEX('Otras referencias'!K:L,MATCH(AD320,'Otras referencias'!L:L,0),1))","v":""},null,"---",null,null,null,{"$f":"IF(V320=\"\",\"\",INDEX('Otras referencias'!AO:AQ,MATCH(V320,'Otras referencias'!AO:AO,0),3))","v":""},{"$f":"IF(SUMPRODUCT(--EXACT(K320&M320,$AJ$2:AJ319)),\"\",K320&M320)","v":""},{"$f":"IF(SUMPRODUCT(--EXACT(K320&M320,$AJ$2:AJ319)),\"\",MAX($AK$3:AK319)+1)","v":""}]
[1,{"$f":"IF(F321=\"\",\"\",IF(COUNTIF($F$3:F321, F321)>1, \"\", F321))","v":""},319,"",null,{"$f":"IF(I321=\"\",\"\",IF(K321=\"\",\"\", CONCATENATE(DIGITADOR!$M$1,G321,J321)))","v":""},null,null,"",{"$f":"IF(K321=\"\",\"\",INDEX('Otras referencias'!$AG:$AH,MATCH(K321,'Otras referencias'!$AG:$AG,0),2))","v":""},null,{"$f":"IF(J321=\"\",\"\",INDEX(referentes!$S:$W,MATCH(J321,referentes!$S:$S,0),1))","v":""},null,null,null,null,{"$f":"IF(P321=\"\",\"\",INDEX(referentes!$J:$K,MATCH(P321,referentes!$J:$J,0),2))","v":""},null,null,null,{"$f":"IF(T321=\"\",\"\",INDEX(referentes!D:E,MATCH(T321,referentes!D:D,0),2))","v":""},null,{"$f":"IF(V321=\"\",\"\",INDEX('Otras referencias'!AO:AP,MATCH(V321,'Otras referencias'!AO:AO,0),2))","v":""},null,{"$f":"IF(Z321=\"\",\"\",INDEX('Otras referencias'!H:I,MATCH(Z321,'Otras referencias'!I:I,0),1))","v":""},null,null,null,{"$f":"IF(AD321=\"\",\"\",INDEX('Otras referencias'!K:L,MATCH(AD321,'Otras referencias'!L:L,0),1))","v":""},null,"---",null,null,null,{"$f":"IF(V321=\"\",\"\",INDEX('Otras referencias'!AO:AQ,MATCH(V321,'Otras referencias'!AO:AO,0),3))","v":""},{"$f":"IF(SUMPRODUCT(--EXACT(K321&M321,$AJ$2:AJ320)),\"\",K321&M321)","v":""},{"$f":"IF(SUMPRODUCT(--EXACT(K321&M321,$AJ$2:AJ320)),\"\",MAX($AK$3:AK320)+1)","v":""}]
[1,{"$f":"IF(F322=\"\",\"\",IF(COUNTIF($F$3:F322, F322)>1, \"\", F322))","v":""},320,"",null,{"$f":"IF(I322=\"\",\"\",IF(K322=\"\",\"\", CONCATENATE(DIGITADOR!$M$1,G322,J322)))","v":""},null,null,"",{"$f":"IF(K322=\"\",\"\",INDEX('Otras referencias'!$AG:$AH,MATCH(K322,'Otras referencias'!$AG:$AG,0),2))","v":""},null,{"$f":"IF(J322=\"\",\"\",INDEX(referentes!$S:$W,MATCH(J322,referentes!$S:$S,0),1))","v":""},null,null,null,null,{"$f":"IF(P322=\"\",\"\",INDEX(referentes!$J:$K,MATCH(P322,referentes!$J:$J,0),2))","v":""},null,null,null,{"$f":"IF(T322=\"\",\"\",INDEX(referentes!D:E,MATCH(T322,referentes!D:D,0),2))","v":""},null,{"$f":"IF(V322=\"\",\"\",INDEX('Otras referencias'!AO:AP,MATCH(V322,'Otras referencias'!AO:AO,0),2))","v":""},null,{"$f":"IF(Z322=\"\",\"\",INDEX('Otras referencias'!H:I,MATCH(Z322,'Otras referencias'!I:I,0),1))","v":""},null,null,null,{"$f":"IF(AD322=\"\",\"\",INDEX('Otras referencias'!K:L,MATCH(AD322,'Otras referencias'!L:L,0),1))","v":""},null,"---",null,null,null,{"$f":"IF(V322=\"\",\"\",INDEX('Otras referencias'!AO:AQ,MATCH(V322,'Otras referencias'!AO:AO,0),3))","v":""},{"$f":"IF(SUMPRODUCT(--EXACT(K322&M322,$AJ$2:AJ321)),\"\",K322&M322)","v":""},{"$f":"IF(SUMPRODUCT(--EXACT(K322&M322,$AJ$2:AJ321)),\"\",MAX($AK$3:AK321)+1)","v":""}]
[1,{"$f":"IF(F323=\"\",\"\",IF(COUNTIF($F$3:F323, F323)>1, \"\", F323))","v":""},321,"",null,{"$f":"IF(I323=\"\",\"\",IF(K323=\"\",\"\", CONCATENATE(DIGITADOR!$M$1,G323,J323)))","v":""},null,null,{"$f":"IF(G323<>\"\",G323+H323,\"\")","v":""},{"$f":"IF(K323=\"\",\"\",INDEX('Otras referencias'!$AG:$AH,MATCH(K323,'Otras referencias'!$AG:$AG,0),2))","v":""},null,{"$f":"IF(J323=\"\",\"\",INDEX(referentes!$S:$W,MATCH(J323,referentes!$S:$S,0),1))","v":""},null,null,null,null,{"$f":"IF(P323=\"\",\"\",INDEX(referentes!$J:$K,MATCH(P323,referentes!$J:$J,0),2))","v":""},null,null,null,{"$f":"IF(T323=\"\",\"\",INDEX(referentes!D:E,MATCH(T323,referentes!D:D,0),2))","v":""},null,{"$f":"IF(V323=\"\",\"\",INDEX('Otras referencias'!AO:AP,MATCH(V323,'Otras referencias'!AO:AO,0),2))","v":""},null,{"$f":"IF(Z323=\"\",\"\",INDEX('Otras referencias'!H:I,MATCH(Z323,'Otras referencias'!I:I,0),1))","v":""},null,null,null,{"$f":"IF(AD323=\"\",\"\",INDEX('Otras referencias'!K:L,MATCH(AD323,'Otras referencias'!L:L,0),1))","v":""},null,"---",null,null,null,{"$f":"IF(V323=\"\",\"\",INDEX('Otras referencias'!AO:AQ,MATCH(V323,'Otras referencias'!AO:AO,0),3))","v":""},{"$f":"IF(SUMPRODUCT(--EXACT(K323&M323,$AJ$2:AJ322)),\"\",K323&M323)","v":""},{"$f":"IF(SUMPRODUCT(--EXACT(K323&M323,$AJ$2:AJ322)),\"\",MAX($AK$3:AK322)+1)","v":""}]
[1,{"$f":"IF(F324=\"\",\"\",IF(COUNTIF($F$3:F324, F324)>1, \"\", F324))","v":""},322,{"$f":"IF(F324=\"\",\"\",CONCATENATE(F324,ROW()-2))","v":""},null,{"$f":"IF(I324=\"\",\"\",IF(K324=\"\",\"\", CONCATENATE(DIGITADOR!$M$1,G324,J324)))","v":""},null,null,"",{"$f":"IF(K324=\"\",\"\",INDEX('Otras referencias'!$AG:$AH,MATCH(K324,'Otras referencias'!$AG:$AG,0),2))","v":""},null,{"$f":"IF(J324=\"\",\"\",INDEX(referentes!$S:$W,MATCH(J324,referentes!$S:$S,0),1))","v":""},null,null,null,null,{"$f":"IF(P324=\"\",\"\",INDEX(referentes!$J:$K,MATCH(P324,referentes!$J:$J,0),2))","v":""},null,null,null,{"$f":"IF(T324=\"\",\"\",INDEX(referentes!D:E,MATCH(T324,referentes!D:D,0),2))","v":""},null,{"$f":"IF(V324=\"\",\"\",INDEX('Otras referencias'!AO:AP,MATCH(V324,'Otras referencias'!AO:AO,0),2))","v":""},null,{"$f":"IF(Z324=\"\",\"\",INDEX('Otras referencias'!H:I,MATCH(Z324,'Otras referencias'!I:I,0),1))","v":""},null,null,null,{"$f":"IF(AD324=\"\",\"\",INDEX('Otras referencias'!K:L,MATCH(AD324,'Otras referencias'!L:L,0),1))","v":""},null,{"$f":"K324&\"-\"&M324&\"-\"&P324&\"-\"&R324","v":"---"},null,null,null,{"$f":"IF(V324=\"\",\"\",INDEX('Otras referencias'!AO:AQ,MATCH(V324,'Otras referencias'!AO:AO,0),3))","v":""},{"$f":"IF(SUMPRODUCT(--EXACT(K324&M324,$AJ$2:AJ323)),\"\",K324&M324)","v":""},{"$f":"IF(SUMPRODUCT(--EXACT(K324&M324,$AJ$2:AJ323)),\"\",MAX($AK$3:AK323)+1)","v":""}]
[{"$f":"IF(L325=L324,A324,A324+1)","v":1},{"$f":"IF(F325=\"\",\"\",IF(COUNTIF($F$3:F325, F325)>1, \"\", F325))","v":""},323,"",null,{"$f":"IF(I325=\"\",\"\",IF(K325=\"\",\"\", CONCATENATE(DIGITADOR!$M$1,G325,J325)))","v":""},null,null,"",{"$f":"IF(K325=\"\",\"\",INDEX('Otras referencias'!$AG:$AH,MATCH(K325,'Otras referencias'!$AG:$AG,0),2))","v":""},null,{"$f":"IF(J325=\"\",\"\",INDEX(referentes!$S:$W,MATCH(J325,referentes!$S:$S,0),1))","v":""},null,null,null,null,{"$f":"IF(P325=\"\",\"\",INDEX(referentes!$J:$K,MATCH(P325,referentes!$J:$J,0),2))","v":""},null,null,null,{"$f":"IF(T325=\"\",\"\",INDEX(referentes!D:E,MATCH(T325,referentes!D:D,0),2))","v":""},null,{"$f":"IF(V325=\"\",\"\",INDEX('Otras referencias'!AO:AP,MATCH(V325,'Otras referencias'!AO:AO,0),2))","v":""},null,{"$f":"IF(Z325=\"\",\"\",INDEX('Otras referencias'!H:I,MATCH(Z325,'Otras referencias'!I:I,0),1))","v":""},null,null,null,{"$f":"IF(AD325=\"\",\"\",INDEX('Otras referencias'!K:L,MATCH(AD325,'Otras referencias'!L:L,0),1))","v":""},null,"---",null,null,null,{"$f":"IF(V325=\"\",\"\",INDEX('Otras referencias'!AO:AQ,MATCH(V325,'Otras referencias'!AO:AO,0),3))","v":""},{"$f":"IF(SUMPRODUCT(--EXACT(K325&M325,$AJ$2:AJ324)),\"\",K325&M325)","v":""},{"$f":"IF(SUMPRODUCT(--EXACT(K325&M325,$AJ$2:AJ324)),\"\",MAX($AK$3:AK324)+1)","v":""}]
[1,{"$f":"IF(F326=\"\",\"\",IF(COUNTIF($F$3:F326, F326)>1, \"\", F326))","v":""},324,"",null,{"$f":"IF(I326=\"\",\"\",IF(K326=\"\",\"\", CONCATENATE(DIGITADOR!$M$1,G326,J326)))","v":""},null,null,"",{"$f":"IF(K326=\"\",\"\",INDEX('Otras referencias'!$AG:$AH,MATCH(K326,'Otras referencias'!$AG:$AG,0),2))","v":""},null,{"$f":"IF(J326=\"\",\"\",INDEX(referentes!$S:$W,MATCH(J326,referentes!$S:$S,0),1))","v":""},null,null,null,null,{"$f":"IF(P326=\"\",\"\",INDEX(referentes!$J:$K,MATCH(P326,referentes!$J:$J,0),2))","v":""},null,null,null,{"$f":"IF(T326=\"\",\"\",INDEX(referentes!D:E,MATCH(T326,referentes!D:D,0),2))","v":""},null,{"$f":"IF(V326=\"\",\"\",INDEX('Otras referencias'!AO:AP,MATCH(V326,'Otras referencias'!AO:AO,0),2))","v":""},null,{"$f":"IF(Z326=\"\",\"\",INDEX('Otras referencias'!H:I,MATCH(Z326,'Otras referencias'!I:I,0),1))","v":""},null,null,null,{"$f":"IF(AD326=\"\",\"\",INDEX('Otras referencias'!K:L,MATCH(AD326,'Otras referencias'!L:L,0),1))","v":""},null,"---",null,null,null,{"$f":"IF(V326=\"\",\"\",INDEX('Otras referencias'!AO:AQ,MATCH(V326,'Otras referencias'!AO:AO,0),3))","v":""},{"$f":"IF(SUMPRODUCT(--EXACT(K326&M326,$AJ$2:AJ325)),\"\",K326&M326)","v":""},{"$f":"IF(SUMPRODUCT(--EXACT(K326&M326,$AJ$2:AJ325)),\"\",MAX($AK$3:AK325)+1)","v":""}]
[1,{"$f":"IF(F327=\"\",\"\",IF(COUNTIF($F$3:F327, F327)>1, \"\", F327))","v":""},325,"",null,{"$f":"IF(I327=\"\",\"\",IF(K327=\"\",\"\", CONCATENATE(DIGITADOR!$M$1,G327,J327)))","v":""},null,null,"",{"$f":"IF(K327=\"\",\"\",INDEX('Otras referencias'!$AG:$AH,MATCH(K327,'Otras referencias'!$AG:$AG,0),2))","v":""},null,{"$f":"IF(J327=\"\",\"\",INDEX(referentes!$S:$W,MATCH(J327,referentes!$S:$S,0),1))","v":""},null,null,null,null,{"$f":"IF(P327=\"\",\"\",INDEX(referentes!$J:$K,MATCH(P327,referentes!$J:$J,0),2))","v":""},null,null,null,{"$f":"IF(T327=\"\",\"\",INDEX(referentes!D:E,MATCH(T327,referentes!D:D,0),2))","v":""},null,{"$f":"IF(V327=\"\",\"\",INDEX('Otras referencias'!AO:AP,MATCH(V327,'Otras referencias'!AO:AO,0),2))","v":""},null,{"$f":"IF(Z327=\"\",\"\",INDEX('Otras referencias'!H:I,MATCH(Z327,'Otras referencias'!I:I,0),1))","v":""},null,null,null,{"$f":"IF(AD327=\"\",\"\",INDEX('Otras referencias'!K:L,MATCH(AD327,'Otras referencias'!L:L,0),1))","v":""},null,"---",null,null,null,{"$f":"IF(V327=\"\",\"\",INDEX('Otras referencias'!AO:AQ,MATCH(V327,'Otras referencias'!AO:AO,0),3))","v":""},{"$f":"IF(SUMPRODUCT(--EXACT(K327&M327,$AJ$2:AJ326)),\"\",K327&M327)","v":""},{"$f":"IF(SUMPRODUCT(--EXACT(K327&M327,$AJ$2:AJ326)),\"\",MAX($AK$3:AK326)+1)","v":""}]
[1,{"$f":"IF(F328=\"\",\"\",IF(COUNTIF($F$3:F328, F328)>1, \"\", F328))","v":""},326,"",null,{"$f":"IF(I328=\"\",\"\",IF(K328=\"\",\"\", CONCATENATE(DIGITADOR!$M$1,G328,J328)))","v":""},null,null,"",{"$f":"IF(K328=\"\",\"\",INDEX('Otras referencias'!$AG:$AH,MATCH(K328,'Otras referencias'!$AG:$AG,0),2))","v":""},null,{"$f":"IF(J328=\"\",\"\",INDEX(referentes!$S:$W,MATCH(J328,referentes!$S:$S,0),1))","v":""},null,null,null,null,{"$f":"IF(P328=\"\",\"\",INDEX(referentes!$J:$K,MATCH(P328,referentes!$J:$J,0),2))","v":""},null,null,null,{"$f":"IF(T328=\"\",\"\",INDEX(referentes!D:E,MATCH(T328,referentes!D:D,0),2))","v":""},null,{"$f":"IF(V328=\"\",\"\",INDEX('Otras referencias'!AO:AP,MATCH(V328,'Otras referencias'!AO:AO,0),2))","v":""},null,{"$f":"IF(Z328=\"\",\"\",INDEX('Otras referencias'!H:I,MATCH(Z328,'Otras referencias'!I:I,0),1))","v":""},null,null,null,{"$f":"IF(AD328=\"\",\"\",INDEX('Otras referencias'!K:L,MATCH(AD328,'Otras referencias'!L:L,0),1))","v":""},null,"---",null,null,null,{"$f":"IF(V328=\"\",\"\",INDEX('Otras referencias'!AO:AQ,MATCH(V328,'Otras referencias'!AO:AO,0),3))","v":""},{"$f":"IF(SUMPRODUCT(--EXACT(K328&M328,$AJ$2:AJ327)),\"\",K328&M328)","v":""},{"$f":"IF(SUMPRODUCT(--EXACT(K328&M328,$AJ$2:AJ327)),\"\",MAX($AK$3:AK327)+1)","v":""}]
[1,{"$f":"IF(F329=\"\",\"\",IF(COUNTIF($F$3:F329, F329)>1, \"\", F329))","v":""},327,"",null,{"$f":"IF(I329=\"\",\"\",IF(K329=\"\",\"\", CONCATENATE(DIGITADOR!$M$1,G329,J329)))","v":""},null,null,"",{"$f":"IF(K329=\"\",\"\",INDEX('Otras referencias'!$AG:$AH,MATCH(K329,'Otras referencias'!$AG:$AG,0),2))","v":""},null,{"$f":"IF(J329=\"\",\"\",INDEX(referentes!$S:$W,MATCH(J329,referentes!$S:$S,0),1))","v":""},null,null,null,null,{"$f":"IF(P329=\"\",\"\",INDEX(referentes!$J:$K,MATCH(P329,referentes!$J:$J,0),2))","v":""},null,null,null,{"$f":"IF(T329=\"\",\"\",INDEX(referentes!D:E,MATCH(T329,referentes!D:D,0),2))","v":""},null,{"$f":"IF(V329=\"\",\"\",INDEX('Otras referencias'!AO:AP,MATCH(V329,'Otras referencias'!AO:AO,0),2))","v":""},null,{"$f":"IF(Z329=\"\",\"\",INDEX('Otras referencias'!H:I,MATCH(Z329,'Otras referencias'!I:I,0),1))","v":""},null,null,null,{"$f":"IF(AD329=\"\",\"\",INDEX('Otras referencias'!K:L,MATCH(AD329,'Otras referencias'!L:L,0),1))","v":""},null,"---",null,null,null,{"$f":"IF(V329=\"\",\"\",INDEX('Otras referencias'!AO:AQ,MATCH(V329,'Otras referencias'!AO:AO,0),3))","v":""},{"$f":"IF(SUMPRODUCT(--EXACT(K329&M329,$AJ$2:AJ328)),\"\",K329&M329)","v":""},{"$f":"IF(SUMPRODUCT(--EXACT(K329&M329,$AJ$2:AJ328)),\"\",MAX($AK$3:AK328)+1)","v":""}]
[1,{"$f":"IF(F330=\"\",\"\",IF(COUNTIF($F$3:F330, F330)>1, \"\", F330))","v":""},328,"",null,{"$f":"IF(I330=\"\",\"\",IF(K330=\"\",\"\", CONCATENATE(DIGITADOR!$M$1,G330,J330)))","v":""},null,null,"",{"$f":"IF(K330=\"\",\"\",INDEX('Otras referencias'!$AG:$AH,MATCH(K330,'Otras referencias'!$AG:$AG,0),2))","v":""},null,{"$f":"IF(J330=\"\",\"\",INDEX(referentes!$S:$W,MATCH(J330,referentes!$S:$S,0),1))","v":""},null,null,null,null,{"$f":"IF(P330=\"\",\"\",INDEX(referentes!$J:$K,MATCH(P330,referentes!$J:$J,0),2))","v":""},null,null,null,{"$f":"IF(T330=\"\",\"\",INDEX(referentes!D:E,MATCH(T330,referentes!D:D,0),2))","v":""},null,{"$f":"IF(V330=\"\",\"\",INDEX('Otras referencias'!AO:AP,MATCH(V330,'Otras referencias'!AO:AO,0),2))","v":""},null,{"$f":"IF(Z330=\"\",\"\",INDEX('Otras referencias'!H:I,MATCH(Z330,'Otras referencias'!I:I,0),1))","v":""},null,null,null,{"$f":"IF(AD330=\"\",\"\",INDEX('Otras referencias'!K:L,MATCH(AD330,'Otras referencias'!L:L,0),1))","v":""},null,"---",null,null,null,{"$f":"IF(V330=\"\",\"\",INDEX('Otras referencias'!AO:AQ,MATCH(V330,'Otras referencias'!AO:AO,0),3))","v":""},{"$f":"IF(SUMPRODUCT(--EXACT(K330&M330,$AJ$2:AJ329)),\"\",K330&M330)","v":""},{"$f":"IF(SUMPRODUCT(--EXACT(K330&M330,$AJ$2:AJ329)),\"\",MAX($AK$3:AK329)+1)","v":""}]
[1,{"$f":"IF(F331=\"\",\"\",IF(COUNTIF($F$3:F331, F331)>1, \"\", F331))","v":""},329,"",null,{"$f":"IF(I331=\"\",\"\",IF(K331=\"\",\"\", CONCATENATE(DIGITADOR!$M$1,G331,J331)))","v":""},null,null,"",{"$f":"IF(K331=\"\",\"\",INDEX('Otras referencias'!$AG:$AH,MATCH(K331,'Otras referencias'!$AG:$AG,0),2))","v":""},null,{"$f":"IF(J331=\"\",\"\",INDEX(referentes!$S:$W,MATCH(J331,referentes!$S:$S,0),1))","v":""},null,null,null,null,{"$f":"IF(P331=\"\",\"\",INDEX(referentes!$J:$K,MATCH(P331,referentes!$J:$J,0),2))","v":""},null,null,null,{"$f":"IF(T331=\"\",\"\",INDEX(referentes!D:E,MATCH(T331,referentes!D:D,0),2))","v":""},null,{"$f":"IF(V331=\"\",\"\",INDEX('Otras referencias'!AO:AP,MATCH(V331,'Otras referencias'!AO:AO,0),2))","v":""},null,{"$f":"IF(Z331=\"\",\"\",INDEX('Otras referencias'!H:I,MATCH(Z331,'Otras referencias'!I:I,0),1))","v":""},null,null,null,{"$f":"IF(AD331=\"\",\"\",INDEX('Otras referencias'!K:L,MATCH(AD331,'Otras referencias'!L:L,0),1))","v":""},null,"---",null,null,null,{"$f":"IF(V331=\"\",\"\",INDEX('Otras referencias'!AO:AQ,MATCH(V331,'Otras referencias'!AO:AO,0),3))","v":""},{"$f":"IF(SUMPRODUCT(--EXACT(K331&M331,$AJ$2:AJ330)),\"\",K331&M331)","v":""},{"$f":"IF(SUMPRODUCT(--EXACT(K331&M331,$AJ$2:AJ330)),\"\",MAX($AK$3:AK330)+1)","v":""}]
[1,{"$f":"IF(F332=\"\",\"\",IF(COUNTIF($F$3:F332, F332)>1, \"\", F332))","v":""},330,"",null,{"$f":"IF(I332=\"\",\"\",IF(K332=\"\",\"\", CONCATENATE(DIGITADOR!$M$1,G332,J332)))","v":""},null,null,"",{"$f":"IF(K332=\"\",\"\",INDEX('Otras referencias'!$AG:$AH,MATCH(K332,'Otras referencias'!$AG:$AG,0),2))","v":""},null,{"$f":"IF(J332=\"\",\"\",INDEX(referentes!$S:$W,MATCH(J332,referentes!$S:$S,0),1))","v":""},null,null,null,null,{"$f":"IF(P332=\"\",\"\",INDEX(referentes!$J:$K,MATCH(P332,referentes!$J:$J,0),2))","v":""},null,null,null,{"$f":"IF(T332=\"\",\"\",INDEX(referentes!D:E,MATCH(T332,referentes!D:D,0),2))","v":""},null,{"$f":"IF(V332=\"\",\"\",INDEX('Otras referencias'!AO:AP,MATCH(V332,'Otras referencias'!AO:AO,0),2))","v":""},null,{"$f":"IF(Z332=\"\",\"\",INDEX('Otras referencias'!H:I,MATCH(Z332,'Otras referencias'!I:I,0),1))","v":""},null,null,null,{"$f":"IF(AD332=\"\",\"\",INDEX('Otras referencias'!K:L,MATCH(AD332,'Otras referencias'!L:L,0),1))","v":""},null,"---",null,null,null,{"$f":"IF(V332=\"\",\"\",INDEX('Otras referencias'!AO:AQ,MATCH(V332,'Otras referencias'!AO:AO,0),3))","v":""},{"$f":"IF(SUMPRODUCT(--EXACT(K332&M332,$AJ$2:AJ331)),\"\",K332&M332)","v":""},{"$f":"IF(SUMPRODUCT(--EXACT(K332&M332,$AJ$2:AJ331)),\"\",MAX($AK$3:AK331)+1)","v":""}]
[1,{"$f":"IF(F333=\"\",\"\",IF(COUNTIF($F$3:F333, F333)>1, \"\", F333))","v":""},331,"",null,{"$f":"IF(I333=\"\",\"\",IF(K333=\"\",\"\", CONCATENATE(DIGITADOR!$M$1,G333,J333)))","v":""},null,null,"",{"$f":"IF(K333=\"\",\"\",INDEX('Otras referencias'!$AG:$AH,MATCH(K333,'Otras referencias'!$AG:$AG,0),2))","v":""},null,{"$f":"IF(J333=\"\",\"\",INDEX(referentes!$S:$W,MATCH(J333,referentes!$S:$S,0),1))","v":""},null,null,null,null,{"$f":"IF(P333=\"\",\"\",INDEX(referentes!$J:$K,MATCH(P333,referentes!$J:$J,0),2))","v":""},null,null,null,{"$f":"IF(T333=\"\",\"\",INDEX(referentes!D:E,MATCH(T333,referentes!D:D,0),2))","v":""},null,{"$f":"IF(V333=\"\",\"\",INDEX('Otras referencias'!AO:AP,MATCH(V333,'Otras referencias'!AO:AO,0),2))","v":""},null,{"$f":"IF(Z333=\"\",\"\",INDEX('Otras referencias'!H:I,MATCH(Z333,'Otras referencias'!I:I,0),1))","v":""},null,null,null,{"$f":"IF(AD333=\"\",\"\",INDEX('Otras referencias'!K:L,MATCH(AD333,'Otras referencias'!L:L,0),1))","v":""},null,"---",null,null,null,{"$f":"IF(V333=\"\",\"\",INDEX('Otras referencias'!AO:AQ,MATCH(V333,'Otras referencias'!AO:AO,0),3))","v":""},{"$f":"IF(SUMPRODUCT(--EXACT(K333&M333,$AJ$2:AJ332)),\"\",K333&M333)","v":""},{"$f":"IF(SUMPRODUCT(--EXACT(K333&M333,$AJ$2:AJ332)),\"\",MAX($AK$3:AK332)+1)","v":""}]
[1,{"$f":"IF(F334=\"\",\"\",IF(COUNTIF($F$3:F334, F334)>1, \"\", F334))","v":""},332,"",null,{"$f":"IF(I334=\"\",\"\",IF(K334=\"\",\"\", CONCATENATE(DIGITADOR!$M$1,G334,J334)))","v":""},null,null,"",{"$f":"IF(K334=\"\",\"\",INDEX('Otras referencias'!$AG:$AH,MATCH(K334,'Otras referencias'!$AG:$AG,0),2))","v":""},null,{"$f":"IF(J334=\"\",\"\",INDEX(referentes!$S:$W,MATCH(J334,referentes!$S:$S,0),1))","v":""},null,null,null,null,{"$f":"IF(P334=\"\",\"\",INDEX(referentes!$J:$K,MATCH(P334,referentes!$J:$J,0),2))","v":""},null,null,null,{"$f":"IF(T334=\"\",\"\",INDEX(referentes!D:E,MATCH(T334,referentes!D:D,0),2))","v":""},null,{"$f":"IF(V334=\"\",\"\",INDEX('Otras referencias'!AO:AP,MATCH(V334,'Otras referencias'!AO:AO,0),2))","v":""},null,{"$f":"IF(Z334=\"\",\"\",INDEX('Otras referencias'!H:I,MATCH(Z334,'Otras referencias'!I:I,0),1))","v":""},null,null,null,{"$f":"IF(AD334=\"\",\"\",INDEX('Otras referencias'!K:L,MATCH(AD334,'Otras referencias'!L:L,0),1))","v":""},null,"---",null,null,null,{"$f":"IF(V334=\"\",\"\",INDEX('Otras referencias'!AO:AQ,MATCH(V334,'Otras referencias'!AO:AO,0),3))","v":""},{"$f":"IF(SUMPRODUCT(--EXACT(K334&M334,$AJ$2:AJ333)),\"\",K334&M334)","v":""},{"$f":"IF(SUMPRODUCT(--EXACT(K334&M334,$AJ$2:AJ333)),\"\",MAX($AK$3:AK333)+1)","v":""}]
[1,{"$f":"IF(F335=\"\",\"\",IF(COUNTIF($F$3:F335, F335)>1, \"\", F335))","v":""},333,"",null,{"$f":"IF(I335=\"\",\"\",IF(K335=\"\",\"\", CONCATENATE(DIGITADOR!$M$1,G335,J335)))","v":""},null,null,"",{"$f":"IF(K335=\"\",\"\",INDEX('Otras referencias'!$AG:$AH,MATCH(K335,'Otras referencias'!$AG:$AG,0),2))","v":""},null,{"$f":"IF(J335=\"\",\"\",INDEX(referentes!$S:$W,MATCH(J335,referentes!$S:$S,0),1))","v":""},null,null,null,null,{"$f":"IF(P335=\"\",\"\",INDEX(referentes!$J:$K,MATCH(P335,referentes!$J:$J,0),2))","v":""},null,null,null,{"$f":"IF(T335=\"\",\"\",INDEX(referentes!D:E,MATCH(T335,referentes!D:D,0),2))","v":""},null,{"$f":"IF(V335=\"\",\"\",INDEX('Otras referencias'!AO:AP,MATCH(V335,'Otras referencias'!AO:AO,0),2))","v":""},null,{"$f":"IF(Z335=\"\",\"\",INDEX('Otras referencias'!H:I,MATCH(Z335,'Otras referencias'!I:I,0),1))","v":""},null,null,null,{"$f":"IF(AD335=\"\",\"\",INDEX('Otras referencias'!K:L,MATCH(AD335,'Otras referencias'!L:L,0),1))","v":""},null,"---",null,null,null,{"$f":"IF(V335=\"\",\"\",INDEX('Otras referencias'!AO:AQ,MATCH(V335,'Otras referencias'!AO:AO,0),3))","v":""},{"$f":"IF(SUMPRODUCT(--EXACT(K335&M335,$AJ$2:AJ334)),\"\",K335&M335)","v":""},{"$f":"IF(SUMPRODUCT(--EXACT(K335&M335,$AJ$2:AJ334)),\"\",MAX($AK$3:AK334)+1)","v":""}]
[1,{"$f":"IF(F336=\"\",\"\",IF(COUNTIF($F$3:F336, F336)>1, \"\", F336))","v":""},334,"",null,{"$f":"IF(I336=\"\",\"\",IF(K336=\"\",\"\", CONCATENATE(DIGITADOR!$M$1,G336,J336)))","v":""},null,null,"",{"$f":"IF(K336=\"\",\"\",INDEX('Otras referencias'!$AG:$AH,MATCH(K336,'Otras referencias'!$AG:$AG,0),2))","v":""},null,{"$f":"IF(J336=\"\",\"\",INDEX(referentes!$S:$W,MATCH(J336,referentes!$S:$S,0),1))","v":""},null,null,null,null,{"$f":"IF(P336=\"\",\"\",INDEX(referentes!$J:$K,MATCH(P336,referentes!$J:$J,0),2))","v":""},null,null,null,{"$f":"IF(T336=\"\",\"\",INDEX(referentes!D:E,MATCH(T336,referentes!D:D,0),2))","v":""},null,{"$f":"IF(V336=\"\",\"\",INDEX('Otras referencias'!AO:AP,MATCH(V336,'Otras referencias'!AO:AO,0),2))","v":""},null,{"$f":"IF(Z336=\"\",\"\",INDEX('Otras referencias'!H:I,MATCH(Z336,'Otras referencias'!I:I,0),1))","v":""},null,null,null,{"$f":"IF(AD336=\"\",\"\",INDEX('Otras referencias'!K:L,MATCH(AD336,'Otras referencias'!L:L,0),1))","v":""},null,"---",null,null,null,{"$f":"IF(V336=\"\",\"\",INDEX('Otras referencias'!AO:AQ,MATCH(V336,'Otras referencias'!AO:AO,0),3))","v":""},{"$f":"IF(SUMPRODUCT(--EXACT(K336&M336,$AJ$2:AJ335)),\"\",K336&M336)","v":""},{"$f":"IF(SUMPRODUCT(--EXACT(K336&M336,$AJ$2:AJ335)),\"\",MAX($AK$3:AK335)+1)","v":""}]
[1,{"$f":"IF(F337=\"\",\"\",IF(COUNTIF($F$3:F337, F337)>1, \"\", F337))","v":""},335,"",null,{"$f":"IF(I337=\"\",\"\",IF(K337=\"\",\"\", CONCATENATE(DIGITADOR!$M$1,G337,J337)))","v":""},null,null,"",{"$f":"IF(K337=\"\",\"\",INDEX('Otras referencias'!$AG:$AH,MATCH(K337,'Otras referencias'!$AG:$AG,0),2))","v":""},null,{"$f":"IF(J337=\"\",\"\",INDEX(referentes!$S:$W,MATCH(J337,referentes!$S:$S,0),1))","v":""},null,null,null,null,{"$f":"IF(P337=\"\",\"\",INDEX(referentes!$J:$K,MATCH(P337,referentes!$J:$J,0),2))","v":""},null,null,null,{"$f":"IF(T337=\"\",\"\",INDEX(referentes!D:E,MATCH(T337,referentes!D:D,0),2))","v":""},null,{"$f":"IF(V337=\"\",\"\",INDEX('Otras referencias'!AO:AP,MATCH(V337,'Otras referencias'!AO:AO,0),2))","v":""},null,{"$f":"IF(Z337=\"\",\"\",INDEX('Otras referencias'!H:I,MATCH(Z337,'Otras referencias'!I:I,0),1))","v":""},null,null,null,{"$f":"IF(AD337=\"\",\"\",INDEX('Otras referencias'!K:L,MATCH(AD337,'Otras referencias'!L:L,0),1))","v":""},null,"---",null,null,null,{"$f":"IF(V337=\"\",\"\",INDEX('Otras referencias'!AO:AQ,MATCH(V337,'Otras referencias'!AO:AO,0),3))","v":""},{"$f":"IF(SUMPRODUCT(--EXACT(K337&M337,$AJ$2:AJ336)),\"\",K337&M337)","v":""},{"$f":"IF(SUMPRODUCT(--EXACT(K337&M337,$AJ$2:AJ336)),\"\",MAX($AK$3:AK336)+1)","v":""}]
[1,{"$f":"IF(F338=\"\",\"\",IF(COUNTIF($F$3:F338, F338)>1, \"\", F338))","v":""},336,"",null,{"$f":"IF(I338=\"\",\"\",IF(K338=\"\",\"\", CONCATENATE(DIGITADOR!$M$1,G338,J338)))","v":""},null,null,"",{"$f":"IF(K338=\"\",\"\",INDEX('Otras referencias'!$AG:$AH,MATCH(K338,'Otras referencias'!$AG:$AG,0),2))","v":""},null,{"$f":"IF(J338=\"\",\"\",INDEX(referentes!$S:$W,MATCH(J338,referentes!$S:$S,0),1))","v":""},null,null,null,null,{"$f":"IF(P338=\"\",\"\",INDEX(referentes!$J:$K,MATCH(P338,referentes!$J:$J,0),2))","v":""},null,null,null,{"$f":"IF(T338=\"\",\"\",INDEX(referentes!D:E,MATCH(T338,referentes!D:D,0),2))","v":""},null,{"$f":"IF(V338=\"\",\"\",INDEX('Otras referencias'!AO:AP,MATCH(V338,'Otras referencias'!AO:AO,0),2))","v":""},null,{"$f":"IF(Z338=\"\",\"\",INDEX('Otras referencias'!H:I,MATCH(Z338,'Otras referencias'!I:I,0),1))","v":""},null,null,null,{"$f":"IF(AD338=\"\",\"\",INDEX('Otras referencias'!K:L,MATCH(AD338,'Otras referencias'!L:L,0),1))","v":""},null,"---",null,null,null,{"$f":"IF(V338=\"\",\"\",INDEX('Otras referencias'!AO:AQ,MATCH(V338,'Otras referencias'!AO:AO,0),3))","v":""},{"$f":"IF(SUMPRODUCT(--EXACT(K338&M338,$AJ$2:AJ337)),\"\",K338&M338)","v":""},{"$f":"IF(SUMPRODUCT(--EXACT(K338&M338,$AJ$2:AJ337)),\"\",MAX($AK$3:AK337)+1)","v":""}]
[1,{"$f":"IF(F339=\"\",\"\",IF(COUNTIF($F$3:F339, F339)>1, \"\", F339))","v":""},337,"",null,{"$f":"IF(I339=\"\",\"\",IF(K339=\"\",\"\", CONCATENATE(DIGITADOR!$M$1,G339,J339)))","v":""},null,null,"",{"$f":"IF(K339=\"\",\"\",INDEX('Otras referencias'!$AG:$AH,MATCH(K339,'Otras referencias'!$AG:$AG,0),2))","v":""},null,{"$f":"IF(J339=\"\",\"\",INDEX(referentes!$S:$W,MATCH(J339,referentes!$S:$S,0),1))","v":""},null,null,null,null,{"$f":"IF(P339=\"\",\"\",INDEX(referentes!$J:$K,MATCH(P339,referentes!$J:$J,0),2))","v":""},null,null,null,{"$f":"IF(T339=\"\",\"\",INDEX(referentes!D:E,MATCH(T339,referentes!D:D,0),2))","v":""},null,{"$f":"IF(V339=\"\",\"\",INDEX('Otras referencias'!AO:AP,MATCH(V339,'Otras referencias'!AO:AO,0),2))","v":""},null,{"$f":"IF(Z339=\"\",\"\",INDEX('Otras referencias'!H:I,MATCH(Z339,'Otras referencias'!I:I,0),1))","v":""},null,null,null,{"$f":"IF(AD339=\"\",\"\",INDEX('Otras referencias'!K:L,MATCH(AD339,'Otras referencias'!L:L,0),1))","v":""},null,"---",null,null,null,{"$f":"IF(V339=\"\",\"\",INDEX('Otras referencias'!AO:AQ,MATCH(V339,'Otras referencias'!AO:AO,0),3))","v":""},{"$f":"IF(SUMPRODUCT(--EXACT(K339&M339,$AJ$2:AJ338)),\"\",K339&M339)","v":""},{"$f":"IF(SUMPRODUCT(--EXACT(K339&M339,$AJ$2:AJ338)),\"\",MAX($AK$3:AK338)+1)","v":""}]
[1,{"$f":"IF(F340=\"\",\"\",IF(COUNTIF($F$3:F340, F340)>1, \"\", F340))","v":""},338,"",null,{"$f":"IF(I340=\"\",\"\",IF(K340=\"\",\"\", CONCATENATE(DIGITADOR!$M$1,G340,J340)))","v":""},null,null,"",{"$f":"IF(K340=\"\",\"\",INDEX('Otras referencias'!$AG:$AH,MATCH(K340,'Otras referencias'!$AG:$AG,0),2))","v":""},null,{"$f":"IF(J340=\"\",\"\",INDEX(referentes!$S:$W,MATCH(J340,referentes!$S:$S,0),1))","v":""},null,null,null,null,{"$f":"IF(P340=\"\",\"\",INDEX(referentes!$J:$K,MATCH(P340,referentes!$J:$J,0),2))","v":""},null,null,null,{"$f":"IF(T340=\"\",\"\",INDEX(referentes!D:E,MATCH(T340,referentes!D:D,0),2))","v":""},null,{"$f":"IF(V340=\"\",\"\",INDEX('Otras referencias'!AO:AP,MATCH(V340,'Otras referencias'!AO:AO,0),2))","v":""},null,{"$f":"IF(Z340=\"\",\"\",INDEX('Otras referencias'!H:I,MATCH(Z340,'Otras referencias'!I:I,0),1))","v":""},null,null,null,{"$f":"IF(AD340=\"\",\"\",INDEX('Otras referencias'!K:L,MATCH(AD340,'Otras referencias'!L:L,0),1))","v":""},null,"---",null,null,null,{"$f":"IF(V340=\"\",\"\",INDEX('Otras referencias'!AO:AQ,MATCH(V340,'Otras referencias'!AO:AO,0),3))","v":""},{"$f":"IF(SUMPRODUCT(--EXACT(K340&M340,$AJ$2:AJ339)),\"\",K340&M340)","v":""},{"$f":"IF(SUMPRODUCT(--EXACT(K340&M340,$AJ$2:AJ339)),\"\",MAX($AK$3:AK339)+1)","v":""}]
[1,{"$f":"IF(F341=\"\",\"\",IF(COUNTIF($F$3:F341, F341)>1, \"\", F341))","v":""},339,"",null,{"$f":"IF(I341=\"\",\"\",IF(K341=\"\",\"\", CONCATENATE(DIGITADOR!$M$1,G341,J341)))","v":""},null,null,"",{"$f":"IF(K341=\"\",\"\",INDEX('Otras referencias'!$AG:$AH,MATCH(K341,'Otras referencias'!$AG:$AG,0),2))","v":""},null,{"$f":"IF(J341=\"\",\"\",INDEX(referentes!$S:$W,MATCH(J341,referentes!$S:$S,0),1))","v":""},null,null,null,null,{"$f":"IF(P341=\"\",\"\",INDEX(referentes!$J:$K,MATCH(P341,referentes!$J:$J,0),2))","v":""},null,null,null,{"$f":"IF(T341=\"\",\"\",INDEX(referentes!D:E,MATCH(T341,referentes!D:D,0),2))","v":""},null,{"$f":"IF(V341=\"\",\"\",INDEX('Otras referencias'!AO:AP,MATCH(V341,'Otras referencias'!AO:AO,0),2))","v":""},null,{"$f":"IF(Z341=\"\",\"\",INDEX('Otras referencias'!H:I,MATCH(Z341,'Otras referencias'!I:I,0),1))","v":""},null,null,null,{"$f":"IF(AD341=\"\",\"\",INDEX('Otras referencias'!K:L,MATCH(AD341,'Otras referencias'!L:L,0),1))","v":""},null,"---",null,null,null,{"$f":"IF(V341=\"\",\"\",INDEX('Otras referencias'!AO:AQ,MATCH(V341,'Otras referencias'!AO:AO,0),3))","v":""},{"$f":"IF(SUMPRODUCT(--EXACT(K341&M341,$AJ$2:AJ340)),\"\",K341&M341)","v":""},{"$f":"IF(SUMPRODUCT(--EXACT(K341&M341,$AJ$2:AJ340)),\"\",MAX($AK$3:AK340)+1)","v":""}]
[1,{"$f":"IF(F342=\"\",\"\",IF(COUNTIF($F$3:F342, F342)>1, \"\", F342))","v":""},340,"",null,{"$f":"IF(I342=\"\",\"\",IF(K342=\"\",\"\", CONCATENATE(DIGITADOR!$M$1,G342,J342)))","v":""},null,null,"",{"$f":"IF(K342=\"\",\"\",INDEX('Otras referencias'!$AG:$AH,MATCH(K342,'Otras referencias'!$AG:$AG,0),2))","v":""},null,{"$f":"IF(J342=\"\",\"\",INDEX(referentes!$S:$W,MATCH(J342,referentes!$S:$S,0),1))","v":""},null,null,null,null,{"$f":"IF(P342=\"\",\"\",INDEX(referentes!$J:$K,MATCH(P342,referentes!$J:$J,0),2))","v":""},null,null,null,{"$f":"IF(T342=\"\",\"\",INDEX(referentes!D:E,MATCH(T342,referentes!D:D,0),2))","v":""},null,{"$f":"IF(V342=\"\",\"\",INDEX('Otras referencias'!AO:AP,MATCH(V342,'Otras referencias'!AO:AO,0),2))","v":""},null,{"$f":"IF(Z342=\"\",\"\",INDEX('Otras referencias'!H:I,MATCH(Z342,'Otras referencias'!I:I,0),1))","v":""},null,null,null,{"$f":"IF(AD342=\"\",\"\",INDEX('Otras referencias'!K:L,MATCH(AD342,'Otras referencias'!L:L,0),1))","v":""},null,"---",null,null,null,{"$f":"IF(V342=\"\",\"\",INDEX('Otras referencias'!AO:AQ,MATCH(V342,'Otras referencias'!AO:AO,0),3))","v":""},{"$f":"IF(SUMPRODUCT(--EXACT(K342&M342,$AJ$2:AJ341)),\"\",K342&M342)","v":""},{"$f":"IF(SUMPRODUCT(--EXACT(K342&M342,$AJ$2:AJ341)),\"\",MAX($AK$3:AK341)+1)","v":""}]
[1,{"$f":"IF(F343=\"\",\"\",IF(COUNTIF($F$3:F343, F343)>1, \"\", F343))","v":""},341,"",null,{"$f":"IF(I343=\"\",\"\",IF(K343=\"\",\"\", CONCATENATE(DIGITADOR!$M$1,G343,J343)))","v":""},null,null,"",{"$f":"IF(K343=\"\",\"\",INDEX('Otras referencias'!$AG:$AH,MATCH(K343,'Otras referencias'!$AG:$AG,0),2))","v":""},null,{"$f":"IF(J343=\"\",\"\",INDEX(referentes!$S:$W,MATCH(J343,referentes!$S:$S,0),1))","v":""},null,null,null,null,{"$f":"IF(P343=\"\",\"\",INDEX(referentes!$J:$K,MATCH(P343,referentes!$J:$J,0),2))","v":""},null,null,null,{"$f":"IF(T343=\"\",\"\",INDEX(referentes!D:E,MATCH(T343,referentes!D:D,0),2))","v":""},null,{"$f":"IF(V343=\"\",\"\",INDEX('Otras referencias'!AO:AP,MATCH(V343,'Otras referencias'!AO:AO,0),2))","v":""},null,{"$f":"IF(Z343=\"\",\"\",INDEX('Otras referencias'!H:I,MATCH(Z343,'Otras referencias'!I:I,0),1))","v":""},null,null,null,{"$f":"IF(AD343=\"\",\"\",INDEX('Otras referencias'!K:L,MATCH(AD343,'Otras referencias'!L:L,0),1))","v":""},null,"---",null,null,null,{"$f":"IF(V343=\"\",\"\",INDEX('Otras referencias'!AO:AQ,MATCH(V343,'Otras referencias'!AO:AO,0),3))","v":""},{"$f":"IF(SUMPRODUCT(--EXACT(K343&M343,$AJ$2:AJ342)),\"\",K343&M343)","v":""},{"$f":"IF(SUMPRODUCT(--EXACT(K343&M343,$AJ$2:AJ342)),\"\",MAX($AK$3:AK342)+1)","v":""}]
[1,{"$f":"IF(F344=\"\",\"\",IF(COUNTIF($F$3:F344, F344)>1, \"\", F344))","v":""},342,"",null,{"$f":"IF(I344=\"\",\"\",IF(K344=\"\",\"\", CONCATENATE(DIGITADOR!$M$1,G344,J344)))","v":""},null,null,"",{"$f":"IF(K344=\"\",\"\",INDEX('Otras referencias'!$AG:$AH,MATCH(K344,'Otras referencias'!$AG:$AG,0),2))","v":""},null,{"$f":"IF(J344=\"\",\"\",INDEX(referentes!$S:$W,MATCH(J344,referentes!$S:$S,0),1))","v":""},null,null,null,null,{"$f":"IF(P344=\"\",\"\",INDEX(referentes!$J:$K,MATCH(P344,referentes!$J:$J,0),2))","v":""},null,null,null,{"$f":"IF(T344=\"\",\"\",INDEX(referentes!D:E,MATCH(T344,referentes!D:D,0),2))","v":""},null,{"$f":"IF(V344=\"\",\"\",INDEX('Otras referencias'!AO:AP,MATCH(V344,'Otras referencias'!AO:AO,0),2))","v":""},null,{"$f":"IF(Z344=\"\",\"\",INDEX('Otras referencias'!H:I,MATCH(Z344,'Otras referencias'!I:I,0),1))","v":""},null,null,null,{"$f":"IF(AD344=\"\",\"\",INDEX('Otras referencias'!K:L,MATCH(AD344,'Otras referencias'!L:L,0),1))","v":""},null,"---",null,null,null,{"$f":"IF(V344=\"\",\"\",INDEX('Otras referencias'!AO:AQ,MATCH(V344,'Otras referencias'!AO:AO,0),3))","v":""},{"$f":"IF(SUMPRODUCT(--EXACT(K344&M344,$AJ$2:AJ343)),\"\",K344&M344)","v":""},{"$f":"IF(SUMPRODUCT(--EXACT(K344&M344,$AJ$2:AJ343)),\"\",MAX($AK$3:AK343)+1)","v":""}]
[1,{"$f":"IF(F345=\"\",\"\",IF(COUNTIF($F$3:F345, F345)>1, \"\", F345))","v":""},343,"",null,{"$f":"IF(I345=\"\",\"\",IF(K345=\"\",\"\", CONCATENATE(DIGITADOR!$M$1,G345,J345)))","v":""},null,null,"",{"$f":"IF(K345=\"\",\"\",INDEX('Otras referencias'!$AG:$AH,MATCH(K345,'Otras referencias'!$AG:$AG,0),2))","v":""},null,{"$f":"IF(J345=\"\",\"\",INDEX(referentes!$S:$W,MATCH(J345,referentes!$S:$S,0),1))","v":""},null,null,null,null,{"$f":"IF(P345=\"\",\"\",INDEX(referentes!$J:$K,MATCH(P345,referentes!$J:$J,0),2))","v":""},null,null,null,{"$f":"IF(T345=\"\",\"\",INDEX(referentes!D:E,MATCH(T345,referentes!D:D,0),2))","v":""},null,{"$f":"IF(V345=\"\",\"\",INDEX('Otras referencias'!AO:AP,MATCH(V345,'Otras referencias'!AO:AO,0),2))","v":""},null,{"$f":"IF(Z345=\"\",\"\",INDEX('Otras referencias'!H:I,MATCH(Z345,'Otras referencias'!I:I,0),1))","v":""},null,null,null,{"$f":"IF(AD345=\"\",\"\",INDEX('Otras referencias'!K:L,MATCH(AD345,'Otras referencias'!L:L,0),1))","v":""},null,"---",null,null,null,{"$f":"IF(V345=\"\",\"\",INDEX('Otras referencias'!AO:AQ,MATCH(V345,'Otras referencias'!AO:AO,0),3))","v":""},{"$f":"IF(SUMPRODUCT(--EXACT(K345&M345,$AJ$2:AJ344)),\"\",K345&M345)","v":""},{"$f":"IF(SUMPRODUCT(--EXACT(K345&M345,$AJ$2:AJ344)),\"\",MAX($AK$3:AK344)+1)","v":""}]
[1,{"$f":"IF(F346=\"\",\"\",IF(COUNTIF($F$3:F346, F346)>1, \"\", F346))","v":""},344,"",null,{"$f":"IF(I346=\"\",\"\",IF(K346=\"\",\"\", CONCATENATE(DIGITADOR!$M$1,G346,J346)))","v":""},null,null,"",{"$f":"IF(K346=\"\",\"\",INDEX('Otras referencias'!$AG:$AH,MATCH(K346,'Otras referencias'!$AG:$AG,0),2))","v":""},null,{"$f":"IF(J346=\"\",\"\",INDEX(referentes!$S:$W,MATCH(J346,referentes!$S:$S,0),1))","v":""},null,null,null,null,{"$f":"IF(P346=\"\",\"\",INDEX(referentes!$J:$K,MATCH(P346,referentes!$J:$J,0),2))","v":""},null,null,null,{"$f":"IF(T346=\"\",\"\",INDEX(referentes!D:E,MATCH(T346,referentes!D:D,0),2))","v":""},null,{"$f":"IF(V346=\"\",\"\",INDEX('Otras referencias'!AO:AP,MATCH(V346,'Otras referencias'!AO:AO,0),2))","v":""},null,{"$f":"IF(Z346=\"\",\"\",INDEX('Otras referencias'!H:I,MATCH(Z346,'Otras referencias'!I:I,0),1))","v":""},null,null,null,{"$f":"IF(AD346=\"\",\"\",INDEX('Otras referencias'!K:L,MATCH(AD346,'Otras referencias'!L:L,0),1))","v":""},null,"---",null,null,null,{"$f":"IF(V346=\"\",\"\",INDEX('Otras referencias'!AO:AQ,MATCH(V346,'Otras referencias'!AO:AO,0),3))","v":""},{"$f":"IF(SUMPRODUCT(--EXACT(K346&M346,$AJ$2:AJ345)),\"\",K346&M346)","v":""},{"$f":"IF(SUMPRODUCT(--EXACT(K346&M346,$AJ$2:AJ345)),\"\",MAX($AK$3:AK345)+1)","v":""}]
[1,{"$f":"IF(F347=\"\",\"\",IF(COUNTIF($F$3:F347, F347)>1, \"\", F347))","v":""},345,"",null,{"$f":"IF(I347=\"\",\"\",IF(K347=\"\",\"\", CONCATENATE(DIGITADOR!$M$1,G347,J347)))","v":""},null,null,"",{"$f":"IF(K347=\"\",\"\",INDEX('Otras referencias'!$AG:$AH,MATCH(K347,'Otras referencias'!$AG:$AG,0),2))","v":""},null,{"$f":"IF(J347=\"\",\"\",INDEX(referentes!$S:$W,MATCH(J347,referentes!$S:$S,0),1))","v":""},null,null,null,null,{"$f":"IF(P347=\"\",\"\",INDEX(referentes!$J:$K,MATCH(P347,referentes!$J:$J,0),2))","v":""},null,null,null,{"$f":"IF(T347=\"\",\"\",INDEX(referentes!D:E,MATCH(T347,referentes!D:D,0),2))","v":""},null,{"$f":"IF(V347=\"\",\"\",INDEX('Otras referencias'!AO:AP,MATCH(V347,'Otras referencias'!AO:AO,0),2))","v":""},null,{"$f":"IF(Z347=\"\",\"\",INDEX('Otras referencias'!H:I,MATCH(Z347,'Otras referencias'!I:I,0),1))","v":""},null,null,null,{"$f":"IF(AD347=\"\",\"\",INDEX('Otras referencias'!K:L,MATCH(AD347,'Otras referencias'!L:L,0),1))","v":""},null,"---",null,null,null,{"$f":"IF(V347=\"\",\"\",INDEX('Otras referencias'!AO:AQ,MATCH(V347,'Otras referencias'!AO:AO,0),3))","v":""},{"$f":"IF(SUMPRODUCT(--EXACT(K347&M347,$AJ$2:AJ346)),\"\",K347&M347)","v":""},{"$f":"IF(SUMPRODUCT(--EXACT(K347&M347,$AJ$2:AJ346)),\"\",MAX($AK$3:AK346)+1)","v":""}]
[1,{"$f":"IF(F348=\"\",\"\",IF(COUNTIF($F$3:F348, F348)>1, \"\", F348))","v":""},346,"",null,{"$f":"IF(I348=\"\",\"\",IF(K348=\"\",\"\", CONCATENATE(DIGITADOR!$M$1,G348,J348)))","v":""},null,null,"",{"$f":"IF(K348=\"\",\"\",INDEX('Otras referencias'!$AG:$AH,MATCH(K348,'Otras referencias'!$AG:$AG,0),2))","v":""},null,{"$f":"IF(J348=\"\",\"\",INDEX(referentes!$S:$W,MATCH(J348,referentes!$S:$S,0),1))","v":""},null,null,null,null,{"$f":"IF(P348=\"\",\"\",INDEX(referentes!$J:$K,MATCH(P348,referentes!$J:$J,0),2))","v":""},null,null,null,{"$f":"IF(T348=\"\",\"\",INDEX(referentes!D:E,MATCH(T348,referentes!D:D,0),2))","v":""},null,{"$f":"IF(V348=\"\",\"\",INDEX('Otras referencias'!AO:AP,MATCH(V348,'Otras referencias'!AO:AO,0),2))","v":""},null,{"$f":"IF(Z348=\"\",\"\",INDEX('Otras referencias'!H:I,MATCH(Z348,'Otras referencias'!I:I,0),1))","v":""},null,null,null,{"$f":"IF(AD348=\"\",\"\",INDEX('Otras referencias'!K:L,MATCH(AD348,'Otras referencias'!L:L,0),1))","v":""},null,"---",null,null,null,{"$f":"IF(V348=\"\",\"\",INDEX('Otras referencias'!AO:AQ,MATCH(V348,'Otras referencias'!AO:AO,0),3))","v":""},{"$f":"IF(SUMPRODUCT(--EXACT(K348&M348,$AJ$2:AJ347)),\"\",K348&M348)","v":""},{"$f":"IF(SUMPRODUCT(--EXACT(K348&M348,$AJ$2:AJ347)),\"\",MAX($AK$3:AK347)+1)","v":""}]
[1,{"$f":"IF(F349=\"\",\"\",IF(COUNTIF($F$3:F349, F349)>1, \"\", F349))","v":""},347,"",null,{"$f":"IF(I349=\"\",\"\",IF(K349=\"\",\"\", CONCATENATE(DIGITADOR!$M$1,G349,J349)))","v":""},null,null,"",{"$f":"IF(K349=\"\",\"\",INDEX('Otras referencias'!$AG:$AH,MATCH(K349,'Otras referencias'!$AG:$AG,0),2))","v":""},null,{"$f":"IF(J349=\"\",\"\",INDEX(referentes!$S:$W,MATCH(J349,referentes!$S:$S,0),1))","v":""},null,null,null,null,{"$f":"IF(P349=\"\",\"\",INDEX(referentes!$J:$K,MATCH(P349,referentes!$J:$J,0),2))","v":""},null,null,null,{"$f":"IF(T349=\"\",\"\",INDEX(referentes!D:E,MATCH(T349,referentes!D:D,0),2))","v":""},null,{"$f":"IF(V349=\"\",\"\",INDEX('Otras referencias'!AO:AP,MATCH(V349,'Otras referencias'!AO:AO,0),2))","v":""},null,{"$f":"IF(Z349=\"\",\"\",INDEX('Otras referencias'!H:I,MATCH(Z349,'Otras referencias'!I:I,0),1))","v":""},null,null,null,{"$f":"IF(AD349=\"\",\"\",INDEX('Otras referencias'!K:L,MATCH(AD349,'Otras referencias'!L:L,0),1))","v":""},null,"---",null,null,null,{"$f":"IF(V349=\"\",\"\",INDEX('Otras referencias'!AO:AQ,MATCH(V349,'Otras referencias'!AO:AO,0),3))","v":""},{"$f":"IF(SUMPRODUCT(--EXACT(K349&M349,$AJ$2:AJ348)),\"\",K349&M349)","v":""},{"$f":"IF(SUMPRODUCT(--EXACT(K349&M349,$AJ$2:AJ348)),\"\",MAX($AK$3:AK348)+1)","v":""}]
[1,{"$f":"IF(F350=\"\",\"\",IF(COUNTIF($F$3:F350, F350)>1, \"\", F350))","v":""},348,"",null,{"$f":"IF(I350=\"\",\"\",IF(K350=\"\",\"\", CONCATENATE(DIGITADOR!$M$1,G350,J350)))","v":""},null,null,"",{"$f":"IF(K350=\"\",\"\",INDEX('Otras referencias'!$AG:$AH,MATCH(K350,'Otras referencias'!$AG:$AG,0),2))","v":""},null,{"$f":"IF(J350=\"\",\"\",INDEX(referentes!$S:$W,MATCH(J350,referentes!$S:$S,0),1))","v":""},null,null,null,null,{"$f":"IF(P350=\"\",\"\",INDEX(referentes!$J:$K,MATCH(P350,referentes!$J:$J,0),2))","v":""},null,null,null,{"$f":"IF(T350=\"\",\"\",INDEX(referentes!D:E,MATCH(T350,referentes!D:D,0),2))","v":""},null,{"$f":"IF(V350=\"\",\"\",INDEX('Otras referencias'!AO:AP,MATCH(V350,'Otras referencias'!AO:AO,0),2))","v":""},null,{"$f":"IF(Z350=\"\",\"\",INDEX('Otras referencias'!H:I,MATCH(Z350,'Otras referencias'!I:I,0),1))","v":""},null,null,null,{"$f":"IF(AD350=\"\",\"\",INDEX('Otras referencias'!K:L,MATCH(AD350,'Otras referencias'!L:L,0),1))","v":""},null,"---",null,null,null,{"$f":"IF(V350=\"\",\"\",INDEX('Otras referencias'!AO:AQ,MATCH(V350,'Otras referencias'!AO:AO,0),3))","v":""},{"$f":"IF(SUMPRODUCT(--EXACT(K350&M350,$AJ$2:AJ349)),\"\",K350&M350)","v":""},{"$f":"IF(SUMPRODUCT(--EXACT(K350&M350,$AJ$2:AJ349)),\"\",MAX($AK$3:AK349)+1)","v":""}]
[1,{"$f":"IF(F351=\"\",\"\",IF(COUNTIF($F$3:F351, F351)>1, \"\", F351))","v":""},349,"",null,{"$f":"IF(I351=\"\",\"\",IF(K351=\"\",\"\", CONCATENATE(DIGITADOR!$M$1,G351,J351)))","v":""},null,null,"",{"$f":"IF(K351=\"\",\"\",INDEX('Otras referencias'!$AG:$AH,MATCH(K351,'Otras referencias'!$AG:$AG,0),2))","v":""},null,{"$f":"IF(J351=\"\",\"\",INDEX(referentes!$S:$W,MATCH(J351,referentes!$S:$S,0),1))","v":""},null,null,null,null,{"$f":"IF(P351=\"\",\"\",INDEX(referentes!$J:$K,MATCH(P351,referentes!$J:$J,0),2))","v":""},null,null,null,{"$f":"IF(T351=\"\",\"\",INDEX(referentes!D:E,MATCH(T351,referentes!D:D,0),2))","v":""},null,{"$f":"IF(V351=\"\",\"\",INDEX('Otras referencias'!AO:AP,MATCH(V351,'Otras referencias'!AO:AO,0),2))","v":""},null,{"$f":"IF(Z351=\"\",\"\",INDEX('Otras referencias'!H:I,MATCH(Z351,'Otras referencias'!I:I,0),1))","v":""},null,null,null,{"$f":"IF(AD351=\"\",\"\",INDEX('Otras referencias'!K:L,MATCH(AD351,'Otras referencias'!L:L,0),1))","v":""},null,"---",null,null,null,{"$f":"IF(V351=\"\",\"\",INDEX('Otras referencias'!AO:AQ,MATCH(V351,'Otras referencias'!AO:AO,0),3))","v":""},{"$f":"IF(SUMPRODUCT(--EXACT(K351&M351,$AJ$2:AJ350)),\"\",K351&M351)","v":""},{"$f":"IF(SUMPRODUCT(--EXACT(K351&M351,$AJ$2:AJ350)),\"\",MAX($AK$3:AK350)+1)","v":""}]
[1,{"$f":"IF(F352=\"\",\"\",IF(COUNTIF($F$3:F352, F352)>1, \"\", F352))","v":""},350,"",null,{"$f":"IF(I352=\"\",\"\",IF(K352=\"\",\"\", CONCATENATE(DIGITADOR!$M$1,G352,J352)))","v":""},null,null,"",{"$f":"IF(K352=\"\",\"\",INDEX('Otras referencias'!$AG:$AH,MATCH(K352,'Otras referencias'!$AG:$AG,0),2))","v":""},null,{"$f":"IF(J352=\"\",\"\",INDEX(referentes!$S:$W,MATCH(J352,referentes!$S:$S,0),1))","v":""},null,null,null,null,{"$f":"IF(P352=\"\",\"\",INDEX(referentes!$J:$K,MATCH(P352,referentes!$J:$J,0),2))","v":""},null,null,null,{"$f":"IF(T352=\"\",\"\",INDEX(referentes!D:E,MATCH(T352,referentes!D:D,0),2))","v":""},null,{"$f":"IF(V352=\"\",\"\",INDEX('Otras referencias'!AO:AP,MATCH(V352,'Otras referencias'!AO:AO,0),2))","v":""},null,{"$f":"IF(Z352=\"\",\"\",INDEX('Otras referencias'!H:I,MATCH(Z352,'Otras referencias'!I:I,0),1))","v":""},null,null,null,{"$f":"IF(AD352=\"\",\"\",INDEX('Otras referencias'!K:L,MATCH(AD352,'Otras referencias'!L:L,0),1))","v":""},null,"---",null,null,null,{"$f":"IF(V352=\"\",\"\",INDEX('Otras referencias'!AO:AQ,MATCH(V352,'Otras referencias'!AO:AO,0),3))","v":""},{"$f":"IF(SUMPRODUCT(--EXACT(K352&M352,$AJ$2:AJ351)),\"\",K352&M352)","v":""},{"$f":"IF(SUMPRODUCT(--EXACT(K352&M352,$AJ$2:AJ351)),\"\",MAX($AK$3:AK351)+1)","v":""}]
[1,{"$f":"IF(F353=\"\",\"\",IF(COUNTIF($F$3:F353, F353)>1, \"\", F353))","v":""},351,"",null,{"$f":"IF(I353=\"\",\"\",IF(K353=\"\",\"\", CONCATENATE(DIGITADOR!$M$1,G353,J353)))","v":""},null,null,"",{"$f":"IF(K353=\"\",\"\",INDEX('Otras referencias'!$AG:$AH,MATCH(K353,'Otras referencias'!$AG:$AG,0),2))","v":""},null,{"$f":"IF(J353=\"\",\"\",INDEX(referentes!$S:$W,MATCH(J353,referentes!$S:$S,0),1))","v":""},null,null,null,null,{"$f":"IF(P353=\"\",\"\",INDEX(referentes!$J:$K,MATCH(P353,referentes!$J:$J,0),2))","v":""},null,null,null,{"$f":"IF(T353=\"\",\"\",INDEX(referentes!D:E,MATCH(T353,referentes!D:D,0),2))","v":""},null,{"$f":"IF(V353=\"\",\"\",INDEX('Otras referencias'!AO:AP,MATCH(V353,'Otras referencias'!AO:AO,0),2))","v":""},null,{"$f":"IF(Z353=\"\",\"\",INDEX('Otras referencias'!H:I,MATCH(Z353,'Otras referencias'!I:I,0),1))","v":""},null,null,null,{"$f":"IF(AD353=\"\",\"\",INDEX('Otras referencias'!K:L,MATCH(AD353,'Otras referencias'!L:L,0),1))","v":""},null,"---",null,null,null,{"$f":"IF(V353=\"\",\"\",INDEX('Otras referencias'!AO:AQ,MATCH(V353,'Otras referencias'!AO:AO,0),3))","v":""},{"$f":"IF(SUMPRODUCT(--EXACT(K353&M353,$AJ$2:AJ352)),\"\",K353&M353)","v":""},{"$f":"IF(SUMPRODUCT(--EXACT(K353&M353,$AJ$2:AJ352)),\"\",MAX($AK$3:AK352)+1)","v":""}]
[1,{"$f":"IF(F354=\"\",\"\",IF(COUNTIF($F$3:F354, F354)>1, \"\", F354))","v":""},352,"",null,{"$f":"IF(I354=\"\",\"\",IF(K354=\"\",\"\", CONCATENATE(DIGITADOR!$M$1,G354,J354)))","v":""},null,null,"",{"$f":"IF(K354=\"\",\"\",INDEX('Otras referencias'!$AG:$AH,MATCH(K354,'Otras referencias'!$AG:$AG,0),2))","v":""},null,{"$f":"IF(J354=\"\",\"\",INDEX(referentes!$S:$W,MATCH(J354,referentes!$S:$S,0),1))","v":""},null,null,null,null,{"$f":"IF(P354=\"\",\"\",INDEX(referentes!$J:$K,MATCH(P354,referentes!$J:$J,0),2))","v":""},null,null,null,{"$f":"IF(T354=\"\",\"\",INDEX(referentes!D:E,MATCH(T354,referentes!D:D,0),2))","v":""},null,{"$f":"IF(V354=\"\",\"\",INDEX('Otras referencias'!AO:AP,MATCH(V354,'Otras referencias'!AO:AO,0),2))","v":""},null,{"$f":"IF(Z354=\"\",\"\",INDEX('Otras referencias'!H:I,MATCH(Z354,'Otras referencias'!I:I,0),1))","v":""},null,null,null,{"$f":"IF(AD354=\"\",\"\",INDEX('Otras referencias'!K:L,MATCH(AD354,'Otras referencias'!L:L,0),1))","v":""},null,"---",null,null,null,{"$f":"IF(V354=\"\",\"\",INDEX('Otras referencias'!AO:AQ,MATCH(V354,'Otras referencias'!AO:AO,0),3))","v":""},{"$f":"IF(SUMPRODUCT(--EXACT(K354&M354,$AJ$2:AJ353)),\"\",K354&M354)","v":""},{"$f":"IF(SUMPRODUCT(--EXACT(K354&M354,$AJ$2:AJ353)),\"\",MAX($AK$3:AK353)+1)","v":""}]
[1,{"$f":"IF(F355=\"\",\"\",IF(COUNTIF($F$3:F355, F355)>1, \"\", F355))","v":""},353,"",null,{"$f":"IF(I355=\"\",\"\",IF(K355=\"\",\"\", CONCATENATE(DIGITADOR!$M$1,G355,J355)))","v":""},null,null,"",{"$f":"IF(K355=\"\",\"\",INDEX('Otras referencias'!$AG:$AH,MATCH(K355,'Otras referencias'!$AG:$AG,0),2))","v":""},null,{"$f":"IF(J355=\"\",\"\",INDEX(referentes!$S:$W,MATCH(J355,referentes!$S:$S,0),1))","v":""},null,null,null,null,{"$f":"IF(P355=\"\",\"\",INDEX(referentes!$J:$K,MATCH(P355,referentes!$J:$J,0),2))","v":""},null,null,null,{"$f":"IF(T355=\"\",\"\",INDEX(referentes!D:E,MATCH(T355,referentes!D:D,0),2))","v":""},null,{"$f":"IF(V355=\"\",\"\",INDEX('Otras referencias'!AO:AP,MATCH(V355,'Otras referencias'!AO:AO,0),2))","v":""},null,{"$f":"IF(Z355=\"\",\"\",INDEX('Otras referencias'!H:I,MATCH(Z355,'Otras referencias'!I:I,0),1))","v":""},null,null,null,{"$f":"IF(AD355=\"\",\"\",INDEX('Otras referencias'!K:L,MATCH(AD355,'Otras referencias'!L:L,0),1))","v":""},null,"---",null,null,null,{"$f":"IF(V355=\"\",\"\",INDEX('Otras referencias'!AO:AQ,MATCH(V355,'Otras referencias'!AO:AO,0),3))","v":""},{"$f":"IF(SUMPRODUCT(--EXACT(K355&M355,$AJ$2:AJ354)),\"\",K355&M355)","v":""},{"$f":"IF(SUMPRODUCT(--EXACT(K355&M355,$AJ$2:AJ354)),\"\",MAX($AK$3:AK354)+1)","v":""}]
[1,{"$f":"IF(F356=\"\",\"\",IF(COUNTIF($F$3:F356, F356)>1, \"\", F356))","v":""},354,"",null,{"$f":"IF(I356=\"\",\"\",IF(K356=\"\",\"\", CONCATENATE(DIGITADOR!$M$1,G356,J356)))","v":""},null,null,"",{"$f":"IF(K356=\"\",\"\",INDEX('Otras referencias'!$AG:$AH,MATCH(K356,'Otras referencias'!$AG:$AG,0),2))","v":""},null,{"$f":"IF(J356=\"\",\"\",INDEX(referentes!$S:$W,MATCH(J356,referentes!$S:$S,0),1))","v":""},null,null,null,null,{"$f":"IF(P356=\"\",\"\",INDEX(referentes!$J:$K,MATCH(P356,referentes!$J:$J,0),2))","v":""},null,null,null,{"$f":"IF(T356=\"\",\"\",INDEX(referentes!D:E,MATCH(T356,referentes!D:D,0),2))","v":""},null,{"$f":"IF(V356=\"\",\"\",INDEX('Otras referencias'!AO:AP,MATCH(V356,'Otras referencias'!AO:AO,0),2))","v":""},null,{"$f":"IF(Z356=\"\",\"\",INDEX('Otras referencias'!H:I,MATCH(Z356,'Otras referencias'!I:I,0),1))","v":""},null,null,null,{"$f":"IF(AD356=\"\",\"\",INDEX('Otras referencias'!K:L,MATCH(AD356,'Otras referencias'!L:L,0),1))","v":""},null,"---",null,null,null,{"$f":"IF(V356=\"\",\"\",INDEX('Otras referencias'!AO:AQ,MATCH(V356,'Otras referencias'!AO:AO,0),3))","v":""},{"$f":"IF(SUMPRODUCT(--EXACT(K356&M356,$AJ$2:AJ355)),\"\",K356&M356)","v":""},{"$f":"IF(SUMPRODUCT(--EXACT(K356&M356,$AJ$2:AJ355)),\"\",MAX($AK$3:AK355)+1)","v":""}]
[1,{"$f":"IF(F357=\"\",\"\",IF(COUNTIF($F$3:F357, F357)>1, \"\", F357))","v":""},355,"",null,{"$f":"IF(I357=\"\",\"\",IF(K357=\"\",\"\", CONCATENATE(DIGITADOR!$M$1,G357,J357)))","v":""},null,null,"",{"$f":"IF(K357=\"\",\"\",INDEX('Otras referencias'!$AG:$AH,MATCH(K357,'Otras referencias'!$AG:$AG,0),2))","v":""},null,{"$f":"IF(J357=\"\",\"\",INDEX(referentes!$S:$W,MATCH(J357,referentes!$S:$S,0),1))","v":""},null,null,null,null,{"$f":"IF(P357=\"\",\"\",INDEX(referentes!$J:$K,MATCH(P357,referentes!$J:$J,0),2))","v":""},null,null,null,{"$f":"IF(T357=\"\",\"\",INDEX(referentes!D:E,MATCH(T357,referentes!D:D,0),2))","v":""},null,{"$f":"IF(V357=\"\",\"\",INDEX('Otras referencias'!AO:AP,MATCH(V357,'Otras referencias'!AO:AO,0),2))","v":""},null,{"$f":"IF(Z357=\"\",\"\",INDEX('Otras referencias'!H:I,MATCH(Z357,'Otras referencias'!I:I,0),1))","v":""},null,null,null,{"$f":"IF(AD357=\"\",\"\",INDEX('Otras referencias'!K:L,MATCH(AD357,'Otras referencias'!L:L,0),1))","v":""},null,"---",null,null,null,{"$f":"IF(V357=\"\",\"\",INDEX('Otras referencias'!AO:AQ,MATCH(V357,'Otras referencias'!AO:AO,0),3))","v":""},{"$f":"IF(SUMPRODUCT(--EXACT(K357&M357,$AJ$2:AJ356)),\"\",K357&M357)","v":""},{"$f":"IF(SUMPRODUCT(--EXACT(K357&M357,$AJ$2:AJ356)),\"\",MAX($AK$3:AK356)+1)","v":""}]
[1,{"$f":"IF(F358=\"\",\"\",IF(COUNTIF($F$3:F358, F358)>1, \"\", F358))","v":""},356,"",null,{"$f":"IF(I358=\"\",\"\",IF(K358=\"\",\"\", CONCATENATE(DIGITADOR!$M$1,G358,J358)))","v":""},null,null,"",{"$f":"IF(K358=\"\",\"\",INDEX('Otras referencias'!$AG:$AH,MATCH(K358,'Otras referencias'!$AG:$AG,0),2))","v":""},null,{"$f":"IF(J358=\"\",\"\",INDEX(referentes!$S:$W,MATCH(J358,referentes!$S:$S,0),1))","v":""},null,null,null,null,{"$f":"IF(P358=\"\",\"\",INDEX(referentes!$J:$K,MATCH(P358,referentes!$J:$J,0),2))","v":""},null,null,null,{"$f":"IF(T358=\"\",\"\",INDEX(referentes!D:E,MATCH(T358,referentes!D:D,0),2))","v":""},null,{"$f":"IF(V358=\"\",\"\",INDEX('Otras referencias'!AO:AP,MATCH(V358,'Otras referencias'!AO:AO,0),2))","v":""},null,{"$f":"IF(Z358=\"\",\"\",INDEX('Otras referencias'!H:I,MATCH(Z358,'Otras referencias'!I:I,0),1))","v":""},null,null,null,{"$f":"IF(AD358=\"\",\"\",INDEX('Otras referencias'!K:L,MATCH(AD358,'Otras referencias'!L:L,0),1))","v":""},null,"---",null,null,null,{"$f":"IF(V358=\"\",\"\",INDEX('Otras referencias'!AO:AQ,MATCH(V358,'Otras referencias'!AO:AO,0),3))","v":""},{"$f":"IF(SUMPRODUCT(--EXACT(K358&M358,$AJ$2:AJ357)),\"\",K358&M358)","v":""},{"$f":"IF(SUMPRODUCT(--EXACT(K358&M358,$AJ$2:AJ357)),\"\",MAX($AK$3:AK357)+1)","v":""}]
[1,{"$f":"IF(F359=\"\",\"\",IF(COUNTIF($F$3:F359, F359)>1, \"\", F359))","v":""},357,"",null,{"$f":"IF(I359=\"\",\"\",IF(K359=\"\",\"\", CONCATENATE(DIGITADOR!$M$1,G359,J359)))","v":""},null,null,"",{"$f":"IF(K359=\"\",\"\",INDEX('Otras referencias'!$AG:$AH,MATCH(K359,'Otras referencias'!$AG:$AG,0),2))","v":""},null,{"$f":"IF(J359=\"\",\"\",INDEX(referentes!$S:$W,MATCH(J359,referentes!$S:$S,0),1))","v":""},null,null,null,null,{"$f":"IF(P359=\"\",\"\",INDEX(referentes!$J:$K,MATCH(P359,referentes!$J:$J,0),2))","v":""},null,null,null,{"$f":"IF(T359=\"\",\"\",INDEX(referentes!D:E,MATCH(T359,referentes!D:D,0),2))","v":""},null,{"$f":"IF(V359=\"\",\"\",INDEX('Otras referencias'!AO:AP,MATCH(V359,'Otras referencias'!AO:AO,0),2))","v":""},null,{"$f":"IF(Z359=\"\",\"\",INDEX('Otras referencias'!H:I,MATCH(Z359,'Otras referencias'!I:I,0),1))","v":""},null,null,null,{"$f":"IF(AD359=\"\",\"\",INDEX('Otras referencias'!K:L,MATCH(AD359,'Otras referencias'!L:L,0),1))","v":""},null,"---",null,null,null,{"$f":"IF(V359=\"\",\"\",INDEX('Otras referencias'!AO:AQ,MATCH(V359,'Otras referencias'!AO:AO,0),3))","v":""},{"$f":"IF(SUMPRODUCT(--EXACT(K359&M359,$AJ$2:AJ358)),\"\",K359&M359)","v":""},{"$f":"IF(SUMPRODUCT(--EXACT(K359&M359,$AJ$2:AJ358)),\"\",MAX($AK$3:AK358)+1)","v":""}]
[1,{"$f":"IF(F360=\"\",\"\",IF(COUNTIF($F$3:F360, F360)>1, \"\", F360))","v":""},358,"",null,{"$f":"IF(I360=\"\",\"\",IF(K360=\"\",\"\", CONCATENATE(DIGITADOR!$M$1,G360,J360)))","v":""},null,null,"",{"$f":"IF(K360=\"\",\"\",INDEX('Otras referencias'!$AG:$AH,MATCH(K360,'Otras referencias'!$AG:$AG,0),2))","v":""},null,{"$f":"IF(J360=\"\",\"\",INDEX(referentes!$S:$W,MATCH(J360,referentes!$S:$S,0),1))","v":""},null,null,null,null,{"$f":"IF(P360=\"\",\"\",INDEX(referentes!$J:$K,MATCH(P360,referentes!$J:$J,0),2))","v":""},null,null,null,{"$f":"IF(T360=\"\",\"\",INDEX(referentes!D:E,MATCH(T360,referentes!D:D,0),2))","v":""},null,{"$f":"IF(V360=\"\",\"\",INDEX('Otras referencias'!AO:AP,MATCH(V360,'Otras referencias'!AO:AO,0),2))","v":""},null,{"$f":"IF(Z360=\"\",\"\",INDEX('Otras referencias'!H:I,MATCH(Z360,'Otras referencias'!I:I,0),1))","v":""},null,null,null,{"$f":"IF(AD360=\"\",\"\",INDEX('Otras referencias'!K:L,MATCH(AD360,'Otras referencias'!L:L,0),1))","v":""},null,"---",null,null,null,{"$f":"IF(V360=\"\",\"\",INDEX('Otras referencias'!AO:AQ,MATCH(V360,'Otras referencias'!AO:AO,0),3))","v":""},{"$f":"IF(SUMPRODUCT(--EXACT(K360&M360,$AJ$2:AJ359)),\"\",K360&M360)","v":""},{"$f":"IF(SUMPRODUCT(--EXACT(K360&M360,$AJ$2:AJ359)),\"\",MAX($AK$3:AK359)+1)","v":""}]
[1,{"$f":"IF(F361=\"\",\"\",IF(COUNTIF($F$3:F361, F361)>1, \"\", F361))","v":""},359,"",null,{"$f":"IF(I361=\"\",\"\",IF(K361=\"\",\"\", CONCATENATE(DIGITADOR!$M$1,G361,J361)))","v":""},null,null,"",{"$f":"IF(K361=\"\",\"\",INDEX('Otras referencias'!$AG:$AH,MATCH(K361,'Otras referencias'!$AG:$AG,0),2))","v":""},null,{"$f":"IF(J361=\"\",\"\",INDEX(referentes!$S:$W,MATCH(J361,referentes!$S:$S,0),1))","v":""},null,null,null,null,{"$f":"IF(P361=\"\",\"\",INDEX(referentes!$J:$K,MATCH(P361,referentes!$J:$J,0),2))","v":""},null,null,null,{"$f":"IF(T361=\"\",\"\",INDEX(referentes!D:E,MATCH(T361,referentes!D:D,0),2))","v":""},null,{"$f":"IF(V361=\"\",\"\",INDEX('Otras referencias'!AO:AP,MATCH(V361,'Otras referencias'!AO:AO,0),2))","v":""},null,{"$f":"IF(Z361=\"\",\"\",INDEX('Otras referencias'!H:I,MATCH(Z361,'Otras referencias'!I:I,0),1))","v":""},null,null,null,{"$f":"IF(AD361=\"\",\"\",INDEX('Otras referencias'!K:L,MATCH(AD361,'Otras referencias'!L:L,0),1))","v":""},null,"---",null,null,null,{"$f":"IF(V361=\"\",\"\",INDEX('Otras referencias'!AO:AQ,MATCH(V361,'Otras referencias'!AO:AO,0),3))","v":""},{"$f":"IF(SUMPRODUCT(--EXACT(K361&M361,$AJ$2:AJ360)),\"\",K361&M361)","v":""},{"$f":"IF(SUMPRODUCT(--EXACT(K361&M361,$AJ$2:AJ360)),\"\",MAX($AK$3:AK360)+1)","v":""}]
[1,{"$f":"IF(F362=\"\",\"\",IF(COUNTIF($F$3:F362, F362)>1, \"\", F362))","v":""},360,"",null,{"$f":"IF(I362=\"\",\"\",IF(K362=\"\",\"\", CONCATENATE(DIGITADOR!$M$1,G362,J362)))","v":""},null,null,"",{"$f":"IF(K362=\"\",\"\",INDEX('Otras referencias'!$AG:$AH,MATCH(K362,'Otras referencias'!$AG:$AG,0),2))","v":""},null,{"$f":"IF(J362=\"\",\"\",INDEX(referentes!$S:$W,MATCH(J362,referentes!$S:$S,0),1))","v":""},null,null,null,null,{"$f":"IF(P362=\"\",\"\",INDEX(referentes!$J:$K,MATCH(P362,referentes!$J:$J,0),2))","v":""},null,null,null,{"$f":"IF(T362=\"\",\"\",INDEX(referentes!D:E,MATCH(T362,referentes!D:D,0),2))","v":""},null,{"$f":"IF(V362=\"\",\"\",INDEX('Otras referencias'!AO:AP,MATCH(V362,'Otras referencias'!AO:AO,0),2))","v":""},null,{"$f":"IF(Z362=\"\",\"\",INDEX('Otras referencias'!H:I,MATCH(Z362,'Otras referencias'!I:I,0),1))","v":""},null,null,null,{"$f":"IF(AD362=\"\",\"\",INDEX('Otras referencias'!K:L,MATCH(AD362,'Otras referencias'!L:L,0),1))","v":""},null,"---",null,null,null,{"$f":"IF(V362=\"\",\"\",INDEX('Otras referencias'!AO:AQ,MATCH(V362,'Otras referencias'!AO:AO,0),3))","v":""},{"$f":"IF(SUMPRODUCT(--EXACT(K362&M362,$AJ$2:AJ361)),\"\",K362&M362)","v":""},{"$f":"IF(SUMPRODUCT(--EXACT(K362&M362,$AJ$2:AJ361)),\"\",MAX($AK$3:AK361)+1)","v":""}]
[1,{"$f":"IF(F363=\"\",\"\",IF(COUNTIF($F$3:F363, F363)>1, \"\", F363))","v":""},361,"",null,{"$f":"IF(I363=\"\",\"\",IF(K363=\"\",\"\", CONCATENATE(DIGITADOR!$M$1,G363,J363)))","v":""},null,null,"",{"$f":"IF(K363=\"\",\"\",INDEX('Otras referencias'!$AG:$AH,MATCH(K363,'Otras referencias'!$AG:$AG,0),2))","v":""},null,{"$f":"IF(J363=\"\",\"\",INDEX(referentes!$S:$W,MATCH(J363,referentes!$S:$S,0),1))","v":""},null,null,null,null,{"$f":"IF(P363=\"\",\"\",INDEX(referentes!$J:$K,MATCH(P363,referentes!$J:$J,0),2))","v":""},null,null,null,{"$f":"IF(T363=\"\",\"\",INDEX(referentes!D:E,MATCH(T363,referentes!D:D,0),2))","v":""},null,{"$f":"IF(V363=\"\",\"\",INDEX('Otras referencias'!AO:AP,MATCH(V363,'Otras referencias'!AO:AO,0),2))","v":""},null,{"$f":"IF(Z363=\"\",\"\",INDEX('Otras referencias'!H:I,MATCH(Z363,'Otras referencias'!I:I,0),1))","v":""},null,null,null,{"$f":"IF(AD363=\"\",\"\",INDEX('Otras referencias'!K:L,MATCH(AD363,'Otras referencias'!L:L,0),1))","v":""},null,"---",null,null,null,{"$f":"IF(V363=\"\",\"\",INDEX('Otras referencias'!AO:AQ,MATCH(V363,'Otras referencias'!AO:AO,0),3))","v":""},{"$f":"IF(SUMPRODUCT(--EXACT(K363&M363,$AJ$2:AJ362)),\"\",K363&M363)","v":""},{"$f":"IF(SUMPRODUCT(--EXACT(K363&M363,$AJ$2:AJ362)),\"\",MAX($AK$3:AK362)+1)","v":""}]
[1,{"$f":"IF(F364=\"\",\"\",IF(COUNTIF($F$3:F364, F364)>1, \"\", F364))","v":""},362,"",null,{"$f":"IF(I364=\"\",\"\",IF(K364=\"\",\"\", CONCATENATE(DIGITADOR!$M$1,G364,J364)))","v":""},null,null,"",{"$f":"IF(K364=\"\",\"\",INDEX('Otras referencias'!$AG:$AH,MATCH(K364,'Otras referencias'!$AG:$AG,0),2))","v":""},null,{"$f":"IF(J364=\"\",\"\",INDEX(referentes!$S:$W,MATCH(J364,referentes!$S:$S,0),1))","v":""},null,null,null,null,{"$f":"IF(P364=\"\",\"\",INDEX(referentes!$J:$K,MATCH(P364,referentes!$J:$J,0),2))","v":""},null,null,null,{"$f":"IF(T364=\"\",\"\",INDEX(referentes!D:E,MATCH(T364,referentes!D:D,0),2))","v":""},null,{"$f":"IF(V364=\"\",\"\",INDEX('Otras referencias'!AO:AP,MATCH(V364,'Otras referencias'!AO:AO,0),2))","v":""},null,{"$f":"IF(Z364=\"\",\"\",INDEX('Otras referencias'!H:I,MATCH(Z364,'Otras referencias'!I:I,0),1))","v":""},null,null,null,{"$f":"IF(AD364=\"\",\"\",INDEX('Otras referencias'!K:L,MATCH(AD364,'Otras referencias'!L:L,0),1))","v":""},null,"---",null,null,null,{"$f":"IF(V364=\"\",\"\",INDEX('Otras referencias'!AO:AQ,MATCH(V364,'Otras referencias'!AO:AO,0),3))","v":""},{"$f":"IF(SUMPRODUCT(--EXACT(K364&M364,$AJ$2:AJ363)),\"\",K364&M364)","v":""},{"$f":"IF(SUMPRODUCT(--EXACT(K364&M364,$AJ$2:AJ363)),\"\",MAX($AK$3:AK363)+1)","v":""}]
[1,{"$f":"IF(F365=\"\",\"\",IF(COUNTIF($F$3:F365, F365)>1, \"\", F365))","v":""},363,"",null,{"$f":"IF(I365=\"\",\"\",IF(K365=\"\",\"\", CONCATENATE(DIGITADOR!$M$1,G365,J365)))","v":""},null,null,"",{"$f":"IF(K365=\"\",\"\",INDEX('Otras referencias'!$AG:$AH,MATCH(K365,'Otras referencias'!$AG:$AG,0),2))","v":""},null,{"$f":"IF(J365=\"\",\"\",INDEX(referentes!$S:$W,MATCH(J365,referentes!$S:$S,0),1))","v":""},null,null,null,null,{"$f":"IF(P365=\"\",\"\",INDEX(referentes!$J:$K,MATCH(P365,referentes!$J:$J,0),2))","v":""},null,null,null,{"$f":"IF(T365=\"\",\"\",INDEX(referentes!D:E,MATCH(T365,referentes!D:D,0),2))","v":""},null,{"$f":"IF(V365=\"\",\"\",INDEX('Otras referencias'!AO:AP,MATCH(V365,'Otras referencias'!AO:AO,0),2))","v":""},null,{"$f":"IF(Z365=\"\",\"\",INDEX('Otras referencias'!H:I,MATCH(Z365,'Otras referencias'!I:I,0),1))","v":""},null,null,null,{"$f":"IF(AD365=\"\",\"\",INDEX('Otras referencias'!K:L,MATCH(AD365,'Otras referencias'!L:L,0),1))","v":""},null,"---",null,null,null,{"$f":"IF(V365=\"\",\"\",INDEX('Otras referencias'!AO:AQ,MATCH(V365,'Otras referencias'!AO:AO,0),3))","v":""},{"$f":"IF(SUMPRODUCT(--EXACT(K365&M365,$AJ$2:AJ364)),\"\",K365&M365)","v":""},{"$f":"IF(SUMPRODUCT(--EXACT(K365&M365,$AJ$2:AJ364)),\"\",MAX($AK$3:AK364)+1)","v":""}]
[1,{"$f":"IF(F366=\"\",\"\",IF(COUNTIF($F$3:F366, F366)>1, \"\", F366))","v":""},364,"",null,{"$f":"IF(I366=\"\",\"\",IF(K366=\"\",\"\", CONCATENATE(DIGITADOR!$M$1,G366,J366)))","v":""},null,null,"",{"$f":"IF(K366=\"\",\"\",INDEX('Otras referencias'!$AG:$AH,MATCH(K366,'Otras referencias'!$AG:$AG,0),2))","v":""},null,{"$f":"IF(J366=\"\",\"\",INDEX(referentes!$S:$W,MATCH(J366,referentes!$S:$S,0),1))","v":""},null,null,null,null,{"$f":"IF(P366=\"\",\"\",INDEX(referentes!$J:$K,MATCH(P366,referentes!$J:$J,0),2))","v":""},null,null,null,{"$f":"IF(T366=\"\",\"\",INDEX(referentes!D:E,MATCH(T366,referentes!D:D,0),2))","v":""},null,{"$f":"IF(V366=\"\",\"\",INDEX('Otras referencias'!AO:AP,MATCH(V366,'Otras referencias'!AO:AO,0),2))","v":""},null,{"$f":"IF(Z366=\"\",\"\",INDEX('Otras referencias'!H:I,MATCH(Z366,'Otras referencias'!I:I,0),1))","v":""},null,null,null,{"$f":"IF(AD366=\"\",\"\",INDEX('Otras referencias'!K:L,MATCH(AD366,'Otras referencias'!L:L,0),1))","v":""},null,"---",null,null,null,{"$f":"IF(V366=\"\",\"\",INDEX('Otras referencias'!AO:AQ,MATCH(V366,'Otras referencias'!AO:AO,0),3))","v":""},{"$f":"IF(SUMPRODUCT(--EXACT(K366&M366,$AJ$2:AJ365)),\"\",K366&M366)","v":""},{"$f":"IF(SUMPRODUCT(--EXACT(K366&M366,$AJ$2:AJ365)),\"\",MAX($AK$3:AK365)+1)","v":""}]
[1,{"$f":"IF(F367=\"\",\"\",IF(COUNTIF($F$3:F367, F367)>1, \"\", F367))","v":""},365,"",null,{"$f":"IF(I367=\"\",\"\",IF(K367=\"\",\"\", CONCATENATE(DIGITADOR!$M$1,G367,J367)))","v":""},null,null,"",{"$f":"IF(K367=\"\",\"\",INDEX('Otras referencias'!$AG:$AH,MATCH(K367,'Otras referencias'!$AG:$AG,0),2))","v":""},null,{"$f":"IF(J367=\"\",\"\",INDEX(referentes!$S:$W,MATCH(J367,referentes!$S:$S,0),1))","v":""},null,null,null,null,{"$f":"IF(P367=\"\",\"\",INDEX(referentes!$J:$K,MATCH(P367,referentes!$J:$J,0),2))","v":""},null,null,null,{"$f":"IF(T367=\"\",\"\",INDEX(referentes!D:E,MATCH(T367,referentes!D:D,0),2))","v":""},null,{"$f":"IF(V367=\"\",\"\",INDEX('Otras referencias'!AO:AP,MATCH(V367,'Otras referencias'!AO:AO,0),2))","v":""},null,{"$f":"IF(Z367=\"\",\"\",INDEX('Otras referencias'!H:I,MATCH(Z367,'Otras referencias'!I:I,0),1))","v":""},null,null,null,{"$f":"IF(AD367=\"\",\"\",INDEX('Otras referencias'!K:L,MATCH(AD367,'Otras referencias'!L:L,0),1))","v":""},null,"---",null,null,null,{"$f":"IF(V367=\"\",\"\",INDEX('Otras referencias'!AO:AQ,MATCH(V367,'Otras referencias'!AO:AO,0),3))","v":""},{"$f":"IF(SUMPRODUCT(--EXACT(K367&M367,$AJ$2:AJ366)),\"\",K367&M367)","v":""},{"$f":"IF(SUMPRODUCT(--EXACT(K367&M367,$AJ$2:AJ366)),\"\",MAX($AK$3:AK366)+1)","v":""}]
[1,{"$f":"IF(F368=\"\",\"\",IF(COUNTIF($F$3:F368, F368)>1, \"\", F368))","v":""},366,"",null,{"$f":"IF(I368=\"\",\"\",IF(K368=\"\",\"\", CONCATENATE(DIGITADOR!$M$1,G368,J368)))","v":""},null,null,"",{"$f":"IF(K368=\"\",\"\",INDEX('Otras referencias'!$AG:$AH,MATCH(K368,'Otras referencias'!$AG:$AG,0),2))","v":""},null,{"$f":"IF(J368=\"\",\"\",INDEX(referentes!$S:$W,MATCH(J368,referentes!$S:$S,0),1))","v":""},null,null,null,null,{"$f":"IF(P368=\"\",\"\",INDEX(referentes!$J:$K,MATCH(P368,referentes!$J:$J,0),2))","v":""},null,null,null,{"$f":"IF(T368=\"\",\"\",INDEX(referentes!D:E,MATCH(T368,referentes!D:D,0),2))","v":""},null,{"$f":"IF(V368=\"\",\"\",INDEX('Otras referencias'!AO:AP,MATCH(V368,'Otras referencias'!AO:AO,0),2))","v":""},null,{"$f":"IF(Z368=\"\",\"\",INDEX('Otras referencias'!H:I,MATCH(Z368,'Otras referencias'!I:I,0),1))","v":""},null,null,null,{"$f":"IF(AD368=\"\",\"\",INDEX('Otras referencias'!K:L,MATCH(AD368,'Otras referencias'!L:L,0),1))","v":""},null,"---",null,null,null,{"$f":"IF(V368=\"\",\"\",INDEX('Otras referencias'!AO:AQ,MATCH(V368,'Otras referencias'!AO:AO,0),3))","v":""},{"$f":"IF(SUMPRODUCT(--EXACT(K368&M368,$AJ$2:AJ367)),\"\",K368&M368)","v":""},{"$f":"IF(SUMPRODUCT(--EXACT(K368&M368,$AJ$2:AJ367)),\"\",MAX($AK$3:AK367)+1)","v":""}]
[1,{"$f":"IF(F369=\"\",\"\",IF(COUNTIF($F$3:F369, F369)>1, \"\", F369))","v":""},367,"",null,{"$f":"IF(I369=\"\",\"\",IF(K369=\"\",\"\", CONCATENATE(DIGITADOR!$M$1,G369,J369)))","v":""},null,null,"",{"$f":"IF(K369=\"\",\"\",INDEX('Otras referencias'!$AG:$AH,MATCH(K369,'Otras referencias'!$AG:$AG,0),2))","v":""},null,{"$f":"IF(J369=\"\",\"\",INDEX(referentes!$S:$W,MATCH(J369,referentes!$S:$S,0),1))","v":""},null,null,null,null,{"$f":"IF(P369=\"\",\"\",INDEX(referentes!$J:$K,MATCH(P369,referentes!$J:$J,0),2))","v":""},null,null,null,{"$f":"IF(T369=\"\",\"\",INDEX(referentes!D:E,MATCH(T369,referentes!D:D,0),2))","v":""},null,{"$f":"IF(V369=\"\",\"\",INDEX('Otras referencias'!AO:AP,MATCH(V369,'Otras referencias'!AO:AO,0),2))","v":""},null,{"$f":"IF(Z369=\"\",\"\",INDEX('Otras referencias'!H:I,MATCH(Z369,'Otras referencias'!I:I,0),1))","v":""},null,null,null,{"$f":"IF(AD369=\"\",\"\",INDEX('Otras referencias'!K:L,MATCH(AD369,'Otras referencias'!L:L,0),1))","v":""},null,"---",null,null,null,{"$f":"IF(V369=\"\",\"\",INDEX('Otras referencias'!AO:AQ,MATCH(V369,'Otras referencias'!AO:AO,0),3))","v":""},{"$f":"IF(SUMPRODUCT(--EXACT(K369&M369,$AJ$2:AJ368)),\"\",K369&M369)","v":""},{"$f":"IF(SUMPRODUCT(--EXACT(K369&M369,$AJ$2:AJ368)),\"\",MAX($AK$3:AK368)+1)","v":""}]
[1,{"$f":"IF(F370=\"\",\"\",IF(COUNTIF($F$3:F370, F370)>1, \"\", F370))","v":""},368,"",null,{"$f":"IF(I370=\"\",\"\",IF(K370=\"\",\"\", CONCATENATE(DIGITADOR!$M$1,G370,J370)))","v":""},null,null,"",{"$f":"IF(K370=\"\",\"\",INDEX('Otras referencias'!$AG:$AH,MATCH(K370,'Otras referencias'!$AG:$AG,0),2))","v":""},null,{"$f":"IF(J370=\"\",\"\",INDEX(referentes!$S:$W,MATCH(J370,referentes!$S:$S,0),1))","v":""},null,null,null,null,{"$f":"IF(P370=\"\",\"\",INDEX(referentes!$J:$K,MATCH(P370,referentes!$J:$J,0),2))","v":""},null,null,null,{"$f":"IF(T370=\"\",\"\",INDEX(referentes!D:E,MATCH(T370,referentes!D:D,0),2))","v":""},null,{"$f":"IF(V370=\"\",\"\",INDEX('Otras referencias'!AO:AP,MATCH(V370,'Otras referencias'!AO:AO,0),2))","v":""},null,{"$f":"IF(Z370=\"\",\"\",INDEX('Otras referencias'!H:I,MATCH(Z370,'Otras referencias'!I:I,0),1))","v":""},null,null,null,{"$f":"IF(AD370=\"\",\"\",INDEX('Otras referencias'!K:L,MATCH(AD370,'Otras referencias'!L:L,0),1))","v":""},null,"---",null,null,null,{"$f":"IF(V370=\"\",\"\",INDEX('Otras referencias'!AO:AQ,MATCH(V370,'Otras referencias'!AO:AO,0),3))","v":""},{"$f":"IF(SUMPRODUCT(--EXACT(K370&M370,$AJ$2:AJ369)),\"\",K370&M370)","v":""},{"$f":"IF(SUMPRODUCT(--EXACT(K370&M370,$AJ$2:AJ369)),\"\",MAX($AK$3:AK369)+1)","v":""}]
[1,{"$f":"IF(F371=\"\",\"\",IF(COUNTIF($F$3:F371, F371)>1, \"\", F371))","v":""},369,"",null,{"$f":"IF(I371=\"\",\"\",IF(K371=\"\",\"\", CONCATENATE(DIGITADOR!$M$1,G371,J371)))","v":""},null,null,"",{"$f":"IF(K371=\"\",\"\",INDEX('Otras referencias'!$AG:$AH,MATCH(K371,'Otras referencias'!$AG:$AG,0),2))","v":""},null,{"$f":"IF(J371=\"\",\"\",INDEX(referentes!$S:$W,MATCH(J371,referentes!$S:$S,0),1))","v":""},null,null,null,null,{"$f":"IF(P371=\"\",\"\",INDEX(referentes!$J:$K,MATCH(P371,referentes!$J:$J,0),2))","v":""},null,null,null,{"$f":"IF(T371=\"\",\"\",INDEX(referentes!D:E,MATCH(T371,referentes!D:D,0),2))","v":""},null,{"$f":"IF(V371=\"\",\"\",INDEX('Otras referencias'!AO:AP,MATCH(V371,'Otras referencias'!AO:AO,0),2))","v":""},null,{"$f":"IF(Z371=\"\",\"\",INDEX('Otras referencias'!H:I,MATCH(Z371,'Otras referencias'!I:I,0),1))","v":""},null,null,null,{"$f":"IF(AD371=\"\",\"\",INDEX('Otras referencias'!K:L,MATCH(AD371,'Otras referencias'!L:L,0),1))","v":""},null,"---",null,null,null,{"$f":"IF(V371=\"\",\"\",INDEX('Otras referencias'!AO:AQ,MATCH(V371,'Otras referencias'!AO:AO,0),3))","v":""},{"$f":"IF(SUMPRODUCT(--EXACT(K371&M371,$AJ$2:AJ370)),\"\",K371&M371)","v":""},{"$f":"IF(SUMPRODUCT(--EXACT(K371&M371,$AJ$2:AJ370)),\"\",MAX($AK$3:AK370)+1)","v":""}]
[1,{"$f":"IF(F372=\"\",\"\",IF(COUNTIF($F$3:F372, F372)>1, \"\", F372))","v":""},370,"",null,{"$f":"IF(I372=\"\",\"\",IF(K372=\"\",\"\", CONCATENATE(DIGITADOR!$M$1,G372,J372)))","v":""},null,null,"",{"$f":"IF(K372=\"\",\"\",INDEX('Otras referencias'!$AG:$AH,MATCH(K372,'Otras referencias'!$AG:$AG,0),2))","v":""},null,{"$f":"IF(J372=\"\",\"\",INDEX(referentes!$S:$W,MATCH(J372,referentes!$S:$S,0),1))","v":""},null,null,null,null,{"$f":"IF(P372=\"\",\"\",INDEX(referentes!$J:$K,MATCH(P372,referentes!$J:$J,0),2))","v":""},null,null,null,{"$f":"IF(T372=\"\",\"\",INDEX(referentes!D:E,MATCH(T372,referentes!D:D,0),2))","v":""},null,{"$f":"IF(V372=\"\",\"\",INDEX('Otras referencias'!AO:AP,MATCH(V372,'Otras referencias'!AO:AO,0),2))","v":""},null,{"$f":"IF(Z372=\"\",\"\",INDEX('Otras referencias'!H:I,MATCH(Z372,'Otras referencias'!I:I,0),1))","v":""},null,null,null,{"$f":"IF(AD372=\"\",\"\",INDEX('Otras referencias'!K:L,MATCH(AD372,'Otras referencias'!L:L,0),1))","v":""},null,"---",null,null,null,{"$f":"IF(V372=\"\",\"\",INDEX('Otras referencias'!AO:AQ,MATCH(V372,'Otras referencias'!AO:AO,0),3))","v":""},{"$f":"IF(SUMPRODUCT(--EXACT(K372&M372,$AJ$2:AJ371)),\"\",K372&M372)","v":""},{"$f":"IF(SUMPRODUCT(--EXACT(K372&M372,$AJ$2:AJ371)),\"\",MAX($AK$3:AK371)+1)","v":""}]
[1,{"$f":"IF(F373=\"\",\"\",IF(COUNTIF($F$3:F373, F373)>1, \"\", F373))","v":""},371,"",null,{"$f":"IF(I373=\"\",\"\",IF(K373=\"\",\"\", CONCATENATE(DIGITADOR!$M$1,G373,J373)))","v":""},null,null,"",{"$f":"IF(K373=\"\",\"\",INDEX('Otras referencias'!$AG:$AH,MATCH(K373,'Otras referencias'!$AG:$AG,0),2))","v":""},null,{"$f":"IF(J373=\"\",\"\",INDEX(referentes!$S:$W,MATCH(J373,referentes!$S:$S,0),1))","v":""},null,null,null,null,{"$f":"IF(P373=\"\",\"\",INDEX(referentes!$J:$K,MATCH(P373,referentes!$J:$J,0),2))","v":""},null,null,null,{"$f":"IF(T373=\"\",\"\",INDEX(referentes!D:E,MATCH(T373,referentes!D:D,0),2))","v":""},null,{"$f":"IF(V373=\"\",\"\",INDEX('Otras referencias'!AO:AP,MATCH(V373,'Otras referencias'!AO:AO,0),2))","v":""},null,{"$f":"IF(Z373=\"\",\"\",INDEX('Otras referencias'!H:I,MATCH(Z373,'Otras referencias'!I:I,0),1))","v":""},null,null,null,{"$f":"IF(AD373=\"\",\"\",INDEX('Otras referencias'!K:L,MATCH(AD373,'Otras referencias'!L:L,0),1))","v":""},null,"---",null,null,null,{"$f":"IF(V373=\"\",\"\",INDEX('Otras referencias'!AO:AQ,MATCH(V373,'Otras referencias'!AO:AO,0),3))","v":""},{"$f":"IF(SUMPRODUCT(--EXACT(K373&M373,$AJ$2:AJ372)),\"\",K373&M373)","v":""},{"$f":"IF(SUMPRODUCT(--EXACT(K373&M373,$AJ$2:AJ372)),\"\",MAX($AK$3:AK372)+1)","v":""}]
[1,{"$f":"IF(F374=\"\",\"\",IF(COUNTIF($F$3:F374, F374)>1, \"\", F374))","v":""},372,"",null,{"$f":"IF(I374=\"\",\"\",IF(K374=\"\",\"\", CONCATENATE(DIGITADOR!$M$1,G374,J374)))","v":""},null,null,"",{"$f":"IF(K374=\"\",\"\",INDEX('Otras referencias'!$AG:$AH,MATCH(K374,'Otras referencias'!$AG:$AG,0),2))","v":""},null,{"$f":"IF(J374=\"\",\"\",INDEX(referentes!$S:$W,MATCH(J374,referentes!$S:$S,0),1))","v":""},null,null,null,null,{"$f":"IF(P374=\"\",\"\",INDEX(referentes!$J:$K,MATCH(P374,referentes!$J:$J,0),2))","v":""},null,null,null,{"$f":"IF(T374=\"\",\"\",INDEX(referentes!D:E,MATCH(T374,referentes!D:D,0),2))","v":""},null,{"$f":"IF(V374=\"\",\"\",INDEX('Otras referencias'!AO:AP,MATCH(V374,'Otras referencias'!AO:AO,0),2))","v":""},null,{"$f":"IF(Z374=\"\",\"\",INDEX('Otras referencias'!H:I,MATCH(Z374,'Otras referencias'!I:I,0),1))","v":""},null,null,null,{"$f":"IF(AD374=\"\",\"\",INDEX('Otras referencias'!K:L,MATCH(AD374,'Otras referencias'!L:L,0),1))","v":""},null,"---",null,null,null,{"$f":"IF(V374=\"\",\"\",INDEX('Otras referencias'!AO:AQ,MATCH(V374,'Otras referencias'!AO:AO,0),3))","v":""},{"$f":"IF(SUMPRODUCT(--EXACT(K374&M374,$AJ$2:AJ373)),\"\",K374&M374)","v":""},{"$f":"IF(SUMPRODUCT(--EXACT(K374&M374,$AJ$2:AJ373)),\"\",MAX($AK$3:AK373)+1)","v":""}]
[1,{"$f":"IF(F375=\"\",\"\",IF(COUNTIF($F$3:F375, F375)>1, \"\", F375))","v":""},373,"",null,{"$f":"IF(I375=\"\",\"\",IF(K375=\"\",\"\", CONCATENATE(DIGITADOR!$M$1,G375,J375)))","v":""},null,null,"",{"$f":"IF(K375=\"\",\"\",INDEX('Otras referencias'!$AG:$AH,MATCH(K375,'Otras referencias'!$AG:$AG,0),2))","v":""},null,{"$f":"IF(J375=\"\",\"\",INDEX(referentes!$S:$W,MATCH(J375,referentes!$S:$S,0),1))","v":""},null,null,null,null,{"$f":"IF(P375=\"\",\"\",INDEX(referentes!$J:$K,MATCH(P375,referentes!$J:$J,0),2))","v":""},null,null,null,{"$f":"IF(T375=\"\",\"\",INDEX(referentes!D:E,MATCH(T375,referentes!D:D,0),2))","v":""},null,{"$f":"IF(V375=\"\",\"\",INDEX('Otras referencias'!AO:AP,MATCH(V375,'Otras referencias'!AO:AO,0),2))","v":""},null,{"$f":"IF(Z375=\"\",\"\",INDEX('Otras referencias'!H:I,MATCH(Z375,'Otras referencias'!I:I,0),1))","v":""},null,null,null,{"$f":"IF(AD375=\"\",\"\",INDEX('Otras referencias'!K:L,MATCH(AD375,'Otras referencias'!L:L,0),1))","v":""},null,"---",null,null,null,{"$f":"IF(V375=\"\",\"\",INDEX('Otras referencias'!AO:AQ,MATCH(V375,'Otras referencias'!AO:AO,0),3))","v":""},{"$f":"IF(SUMPRODUCT(--EXACT(K375&M375,$AJ$2:AJ374)),\"\",K375&M375)","v":""},{"$f":"IF(SUMPRODUCT(--EXACT(K375&M375,$AJ$2:AJ374)),\"\",MAX($AK$3:AK374)+1)","v":""}]
[1,{"$f":"IF(F376=\"\",\"\",IF(COUNTIF($F$3:F376, F376)>1, \"\", F376))","v":""},374,"",null,{"$f":"IF(I376=\"\",\"\",IF(K376=\"\",\"\", CONCATENATE(DIGITADOR!$M$1,G376,J376)))","v":""},null,null,"",{"$f":"IF(K376=\"\",\"\",INDEX('Otras referencias'!$AG:$AH,MATCH(K376,'Otras referencias'!$AG:$AG,0),2))","v":""},null,{"$f":"IF(J376=\"\",\"\",INDEX(referentes!$S:$W,MATCH(J376,referentes!$S:$S,0),1))","v":""},null,null,null,null,{"$f":"IF(P376=\"\",\"\",INDEX(referentes!$J:$K,MATCH(P376,referentes!$J:$J,0),2))","v":""},null,null,null,{"$f":"IF(T376=\"\",\"\",INDEX(referentes!D:E,MATCH(T376,referentes!D:D,0),2))","v":""},null,{"$f":"IF(V376=\"\",\"\",INDEX('Otras referencias'!AO:AP,MATCH(V376,'Otras referencias'!AO:AO,0),2))","v":""},null,{"$f":"IF(Z376=\"\",\"\",INDEX('Otras referencias'!H:I,MATCH(Z376,'Otras referencias'!I:I,0),1))","v":""},null,null,null,{"$f":"IF(AD376=\"\",\"\",INDEX('Otras referencias'!K:L,MATCH(AD376,'Otras referencias'!L:L,0),1))","v":""},null,"---",null,null,null,{"$f":"IF(V376=\"\",\"\",INDEX('Otras referencias'!AO:AQ,MATCH(V376,'Otras referencias'!AO:AO,0),3))","v":""},{"$f":"IF(SUMPRODUCT(--EXACT(K376&M376,$AJ$2:AJ375)),\"\",K376&M376)","v":""},{"$f":"IF(SUMPRODUCT(--EXACT(K376&M376,$AJ$2:AJ375)),\"\",MAX($AK$3:AK375)+1)","v":""}]
[1,{"$f":"IF(F377=\"\",\"\",IF(COUNTIF($F$3:F377, F377)>1, \"\", F377))","v":""},375,"",null,{"$f":"IF(I377=\"\",\"\",IF(K377=\"\",\"\", CONCATENATE(DIGITADOR!$M$1,G377,J377)))","v":""},null,null,"",{"$f":"IF(K377=\"\",\"\",INDEX('Otras referencias'!$AG:$AH,MATCH(K377,'Otras referencias'!$AG:$AG,0),2))","v":""},null,{"$f":"IF(J377=\"\",\"\",INDEX(referentes!$S:$W,MATCH(J377,referentes!$S:$S,0),1))","v":""},null,null,null,null,{"$f":"IF(P377=\"\",\"\",INDEX(referentes!$J:$K,MATCH(P377,referentes!$J:$J,0),2))","v":""},null,null,null,{"$f":"IF(T377=\"\",\"\",INDEX(referentes!D:E,MATCH(T377,referentes!D:D,0),2))","v":""},null,{"$f":"IF(V377=\"\",\"\",INDEX('Otras referencias'!AO:AP,MATCH(V377,'Otras referencias'!AO:AO,0),2))","v":""},null,{"$f":"IF(Z377=\"\",\"\",INDEX('Otras referencias'!H:I,MATCH(Z377,'Otras referencias'!I:I,0),1))","v":""},null,null,null,{"$f":"IF(AD377=\"\",\"\",INDEX('Otras referencias'!K:L,MATCH(AD377,'Otras referencias'!L:L,0),1))","v":""},null,"---",null,null,null,{"$f":"IF(V377=\"\",\"\",INDEX('Otras referencias'!AO:AQ,MATCH(V377,'Otras referencias'!AO:AO,0),3))","v":""},{"$f":"IF(SUMPRODUCT(--EXACT(K377&M377,$AJ$2:AJ376)),\"\",K377&M377)","v":""},{"$f":"IF(SUMPRODUCT(--EXACT(K377&M377,$AJ$2:AJ376)),\"\",MAX($AK$3:AK376)+1)","v":""}]
[1,{"$f":"IF(F378=\"\",\"\",IF(COUNTIF($F$3:F378, F378)>1, \"\", F378))","v":""},376,"",null,{"$f":"IF(I378=\"\",\"\",IF(K378=\"\",\"\", CONCATENATE(DIGITADOR!$M$1,G378,J378)))","v":""},null,null,"",{"$f":"IF(K378=\"\",\"\",INDEX('Otras referencias'!$AG:$AH,MATCH(K378,'Otras referencias'!$AG:$AG,0),2))","v":""},null,{"$f":"IF(J378=\"\",\"\",INDEX(referentes!$S:$W,MATCH(J378,referentes!$S:$S,0),1))","v":""},null,null,null,null,{"$f":"IF(P378=\"\",\"\",INDEX(referentes!$J:$K,MATCH(P378,referentes!$J:$J,0),2))","v":""},null,null,null,{"$f":"IF(T378=\"\",\"\",INDEX(referentes!D:E,MATCH(T378,referentes!D:D,0),2))","v":""},null,{"$f":"IF(V378=\"\",\"\",INDEX('Otras referencias'!AO:AP,MATCH(V378,'Otras referencias'!AO:AO,0),2))","v":""},null,{"$f":"IF(Z378=\"\",\"\",INDEX('Otras referencias'!H:I,MATCH(Z378,'Otras referencias'!I:I,0),1))","v":""},null,null,null,{"$f":"IF(AD378=\"\",\"\",INDEX('Otras referencias'!K:L,MATCH(AD378,'Otras referencias'!L:L,0),1))","v":""},null,"---",null,null,null,{"$f":"IF(V378=\"\",\"\",INDEX('Otras referencias'!AO:AQ,MATCH(V378,'Otras referencias'!AO:AO,0),3))","v":""},{"$f":"IF(SUMPRODUCT(--EXACT(K378&M378,$AJ$2:AJ377)),\"\",K378&M378)","v":""},{"$f":"IF(SUMPRODUCT(--EXACT(K378&M378,$AJ$2:AJ377)),\"\",MAX($AK$3:AK377)+1)","v":""}]
[1,{"$f":"IF(F379=\"\",\"\",IF(COUNTIF($F$3:F379, F379)>1, \"\", F379))","v":""},377,"",null,{"$f":"IF(I379=\"\",\"\",IF(K379=\"\",\"\", CONCATENATE(DIGITADOR!$M$1,G379,J379)))","v":""},null,null,"",{"$f":"IF(K379=\"\",\"\",INDEX('Otras referencias'!$AG:$AH,MATCH(K379,'Otras referencias'!$AG:$AG,0),2))","v":""},null,{"$f":"IF(J379=\"\",\"\",INDEX(referentes!$S:$W,MATCH(J379,referentes!$S:$S,0),1))","v":""},null,null,null,null,{"$f":"IF(P379=\"\",\"\",INDEX(referentes!$J:$K,MATCH(P379,referentes!$J:$J,0),2))","v":""},null,null,null,{"$f":"IF(T379=\"\",\"\",INDEX(referentes!D:E,MATCH(T379,referentes!D:D,0),2))","v":""},null,{"$f":"IF(V379=\"\",\"\",INDEX('Otras referencias'!AO:AP,MATCH(V379,'Otras referencias'!AO:AO,0),2))","v":""},null,{"$f":"IF(Z379=\"\",\"\",INDEX('Otras referencias'!H:I,MATCH(Z379,'Otras referencias'!I:I,0),1))","v":""},null,null,null,{"$f":"IF(AD379=\"\",\"\",INDEX('Otras referencias'!K:L,MATCH(AD379,'Otras referencias'!L:L,0),1))","v":""},null,"---",null,null,null,{"$f":"IF(V379=\"\",\"\",INDEX('Otras referencias'!AO:AQ,MATCH(V379,'Otras referencias'!AO:AO,0),3))","v":""},{"$f":"IF(SUMPRODUCT(--EXACT(K379&M379,$AJ$2:AJ378)),\"\",K379&M379)","v":""},{"$f":"IF(SUMPRODUCT(--EXACT(K379&M379,$AJ$2:AJ378)),\"\",MAX($AK$3:AK378)+1)","v":""}]
[1,{"$f":"IF(F380=\"\",\"\",IF(COUNTIF($F$3:F380, F380)>1, \"\", F380))","v":""},378,"",null,{"$f":"IF(I380=\"\",\"\",IF(K380=\"\",\"\", CONCATENATE(DIGITADOR!$M$1,G380,J380)))","v":""},null,null,"",{"$f":"IF(K380=\"\",\"\",INDEX('Otras referencias'!$AG:$AH,MATCH(K380,'Otras referencias'!$AG:$AG,0),2))","v":""},null,{"$f":"IF(J380=\"\",\"\",INDEX(referentes!$S:$W,MATCH(J380,referentes!$S:$S,0),1))","v":""},null,null,null,null,{"$f":"IF(P380=\"\",\"\",INDEX(referentes!$J:$K,MATCH(P380,referentes!$J:$J,0),2))","v":""},null,null,null,{"$f":"IF(T380=\"\",\"\",INDEX(referentes!D:E,MATCH(T380,referentes!D:D,0),2))","v":""},null,{"$f":"IF(V380=\"\",\"\",INDEX('Otras referencias'!AO:AP,MATCH(V380,'Otras referencias'!AO:AO,0),2))","v":""},null,{"$f":"IF(Z380=\"\",\"\",INDEX('Otras referencias'!H:I,MATCH(Z380,'Otras referencias'!I:I,0),1))","v":""},null,null,null,{"$f":"IF(AD380=\"\",\"\",INDEX('Otras referencias'!K:L,MATCH(AD380,'Otras referencias'!L:L,0),1))","v":""},null,"---",null,null,null,{"$f":"IF(V380=\"\",\"\",INDEX('Otras referencias'!AO:AQ,MATCH(V380,'Otras referencias'!AO:AO,0),3))","v":""},{"$f":"IF(SUMPRODUCT(--EXACT(K380&M380,$AJ$2:AJ379)),\"\",K380&M380)","v":""},{"$f":"IF(SUMPRODUCT(--EXACT(K380&M380,$AJ$2:AJ379)),\"\",MAX($AK$3:AK379)+1)","v":""}]
[1,{"$f":"IF(F381=\"\",\"\",IF(COUNTIF($F$3:F381, F381)>1, \"\", F381))","v":""},379,"",null,{"$f":"IF(I381=\"\",\"\",IF(K381=\"\",\"\", CONCATENATE(DIGITADOR!$M$1,G381,J381)))","v":""},null,null,"",{"$f":"IF(K381=\"\",\"\",INDEX('Otras referencias'!$AG:$AH,MATCH(K381,'Otras referencias'!$AG:$AG,0),2))","v":""},null,{"$f":"IF(J381=\"\",\"\",INDEX(referentes!$S:$W,MATCH(J381,referentes!$S:$S,0),1))","v":""},null,null,null,null,{"$f":"IF(P381=\"\",\"\",INDEX(referentes!$J:$K,MATCH(P381,referentes!$J:$J,0),2))","v":""},null,null,null,{"$f":"IF(T381=\"\",\"\",INDEX(referentes!D:E,MATCH(T381,referentes!D:D,0),2))","v":""},null,{"$f":"IF(V381=\"\",\"\",INDEX('Otras referencias'!AO:AP,MATCH(V381,'Otras referencias'!AO:AO,0),2))","v":""},null,{"$f":"IF(Z381=\"\",\"\",INDEX('Otras referencias'!H:I,MATCH(Z381,'Otras referencias'!I:I,0),1))","v":""},null,null,null,{"$f":"IF(AD381=\"\",\"\",INDEX('Otras referencias'!K:L,MATCH(AD381,'Otras referencias'!L:L,0),1))","v":""},null,"---",null,null,null,{"$f":"IF(V381=\"\",\"\",INDEX('Otras referencias'!AO:AQ,MATCH(V381,'Otras referencias'!AO:AO,0),3))","v":""},{"$f":"IF(SUMPRODUCT(--EXACT(K381&M381,$AJ$2:AJ380)),\"\",K381&M381)","v":""},{"$f":"IF(SUMPRODUCT(--EXACT(K381&M381,$AJ$2:AJ380)),\"\",MAX($AK$3:AK380)+1)","v":""}]
[1,{"$f":"IF(F382=\"\",\"\",IF(COUNTIF($F$3:F382, F382)>1, \"\", F382))","v":""},380,"",null,{"$f":"IF(I382=\"\",\"\",IF(K382=\"\",\"\", CONCATENATE(DIGITADOR!$M$1,G382,J382)))","v":""},null,null,"",{"$f":"IF(K382=\"\",\"\",INDEX('Otras referencias'!$AG:$AH,MATCH(K382,'Otras referencias'!$AG:$AG,0),2))","v":""},null,{"$f":"IF(J382=\"\",\"\",INDEX(referentes!$S:$W,MATCH(J382,referentes!$S:$S,0),1))","v":""},null,null,null,null,{"$f":"IF(P382=\"\",\"\",INDEX(referentes!$J:$K,MATCH(P382,referentes!$J:$J,0),2))","v":""},null,null,null,{"$f":"IF(T382=\"\",\"\",INDEX(referentes!D:E,MATCH(T382,referentes!D:D,0),2))","v":""},null,{"$f":"IF(V382=\"\",\"\",INDEX('Otras referencias'!AO:AP,MATCH(V382,'Otras referencias'!AO:AO,0),2))","v":""},null,{"$f":"IF(Z382=\"\",\"\",INDEX('Otras referencias'!H:I,MATCH(Z382,'Otras referencias'!I:I,0),1))","v":""},null,null,null,{"$f":"IF(AD382=\"\",\"\",INDEX('Otras referencias'!K:L,MATCH(AD382,'Otras referencias'!L:L,0),1))","v":""},null,"---",null,null,null,{"$f":"IF(V382=\"\",\"\",INDEX('Otras referencias'!AO:AQ,MATCH(V382,'Otras referencias'!AO:AO,0),3))","v":""},{"$f":"IF(SUMPRODUCT(--EXACT(K382&M382,$AJ$2:AJ381)),\"\",K382&M382)","v":""},{"$f":"IF(SUMPRODUCT(--EXACT(K382&M382,$AJ$2:AJ381)),\"\",MAX($AK$3:AK381)+1)","v":""}]
[1,{"$f":"IF(F383=\"\",\"\",IF(COUNTIF($F$3:F383, F383)>1, \"\", F383))","v":""},381,"",null,{"$f":"IF(I383=\"\",\"\",IF(K383=\"\",\"\", CONCATENATE(DIGITADOR!$M$1,G383,J383)))","v":""},null,null,"",{"$f":"IF(K383=\"\",\"\",INDEX('Otras referencias'!$AG:$AH,MATCH(K383,'Otras referencias'!$AG:$AG,0),2))","v":""},null,{"$f":"IF(J383=\"\",\"\",INDEX(referentes!$S:$W,MATCH(J383,referentes!$S:$S,0),1))","v":""},null,null,null,null,{"$f":"IF(P383=\"\",\"\",INDEX(referentes!$J:$K,MATCH(P383,referentes!$J:$J,0),2))","v":""},null,null,null,{"$f":"IF(T383=\"\",\"\",INDEX(referentes!D:E,MATCH(T383,referentes!D:D,0),2))","v":""},null,{"$f":"IF(V383=\"\",\"\",INDEX('Otras referencias'!AO:AP,MATCH(V383,'Otras referencias'!AO:AO,0),2))","v":""},null,{"$f":"IF(Z383=\"\",\"\",INDEX('Otras referencias'!H:I,MATCH(Z383,'Otras referencias'!I:I,0),1))","v":""},null,null,null,{"$f":"IF(AD383=\"\",\"\",INDEX('Otras referencias'!K:L,MATCH(AD383,'Otras referencias'!L:L,0),1))","v":""},null,"---",null,null,null,{"$f":"IF(V383=\"\",\"\",INDEX('Otras referencias'!AO:AQ,MATCH(V383,'Otras referencias'!AO:AO,0),3))","v":""},{"$f":"IF(SUMPRODUCT(--EXACT(K383&M383,$AJ$2:AJ382)),\"\",K383&M383)","v":""},{"$f":"IF(SUMPRODUCT(--EXACT(K383&M383,$AJ$2:AJ382)),\"\",MAX($AK$3:AK382)+1)","v":""}]
[1,{"$f":"IF(F384=\"\",\"\",IF(COUNTIF($F$3:F384, F384)>1, \"\", F384))","v":""},382,"",null,{"$f":"IF(I384=\"\",\"\",IF(K384=\"\",\"\", CONCATENATE(DIGITADOR!$M$1,G384,J384)))","v":""},null,null,"",{"$f":"IF(K384=\"\",\"\",INDEX('Otras referencias'!$AG:$AH,MATCH(K384,'Otras referencias'!$AG:$AG,0),2))","v":""},null,{"$f":"IF(J384=\"\",\"\",INDEX(referentes!$S:$W,MATCH(J384,referentes!$S:$S,0),1))","v":""},null,null,null,null,{"$f":"IF(P384=\"\",\"\",INDEX(referentes!$J:$K,MATCH(P384,referentes!$J:$J,0),2))","v":""},null,null,null,{"$f":"IF(T384=\"\",\"\",INDEX(referentes!D:E,MATCH(T384,referentes!D:D,0),2))","v":""},null,{"$f":"IF(V384=\"\",\"\",INDEX('Otras referencias'!AO:AP,MATCH(V384,'Otras referencias'!AO:AO,0),2))","v":""},null,{"$f":"IF(Z384=\"\",\"\",INDEX('Otras referencias'!H:I,MATCH(Z384,'Otras referencias'!I:I,0),1))","v":""},null,null,null,{"$f":"IF(AD384=\"\",\"\",INDEX('Otras referencias'!K:L,MATCH(AD384,'Otras referencias'!L:L,0),1))","v":""},null,"---",null,null,null,{"$f":"IF(V384=\"\",\"\",INDEX('Otras referencias'!AO:AQ,MATCH(V384,'Otras referencias'!AO:AO,0),3))","v":""},{"$f":"IF(SUMPRODUCT(--EXACT(K384&M384,$AJ$2:AJ383)),\"\",K384&M384)","v":""},{"$f":"IF(SUMPRODUCT(--EXACT(K384&M384,$AJ$2:AJ383)),\"\",MAX($AK$3:AK383)+1)","v":""}]
[1,{"$f":"IF(F385=\"\",\"\",IF(COUNTIF($F$3:F385, F385)>1, \"\", F385))","v":""},383,"",null,{"$f":"IF(I385=\"\",\"\",IF(K385=\"\",\"\", CONCATENATE(DIGITADOR!$M$1,G385,J385)))","v":""},null,null,"",{"$f":"IF(K385=\"\",\"\",INDEX('Otras referencias'!$AG:$AH,MATCH(K385,'Otras referencias'!$AG:$AG,0),2))","v":""},null,{"$f":"IF(J385=\"\",\"\",INDEX(referentes!$S:$W,MATCH(J385,referentes!$S:$S,0),1))","v":""},null,null,null,null,{"$f":"IF(P385=\"\",\"\",INDEX(referentes!$J:$K,MATCH(P385,referentes!$J:$J,0),2))","v":""},null,null,null,{"$f":"IF(T385=\"\",\"\",INDEX(referentes!D:E,MATCH(T385,referentes!D:D,0),2))","v":""},null,{"$f":"IF(V385=\"\",\"\",INDEX('Otras referencias'!AO:AP,MATCH(V385,'Otras referencias'!AO:AO,0),2))","v":""},null,{"$f":"IF(Z385=\"\",\"\",INDEX('Otras referencias'!H:I,MATCH(Z385,'Otras referencias'!I:I,0),1))","v":""},null,null,null,{"$f":"IF(AD385=\"\",\"\",INDEX('Otras referencias'!K:L,MATCH(AD385,'Otras referencias'!L:L,0),1))","v":""},null,"---",null,null,null,{"$f":"IF(V385=\"\",\"\",INDEX('Otras referencias'!AO:AQ,MATCH(V385,'Otras referencias'!AO:AO,0),3))","v":""},{"$f":"IF(SUMPRODUCT(--EXACT(K385&M385,$AJ$2:AJ384)),\"\",K385&M385)","v":""},{"$f":"IF(SUMPRODUCT(--EXACT(K385&M385,$AJ$2:AJ384)),\"\",MAX($AK$3:AK384)+1)","v":""}]
[1,{"$f":"IF(F386=\"\",\"\",IF(COUNTIF($F$3:F386, F386)>1, \"\", F386))","v":""},384,"",null,{"$f":"IF(I386=\"\",\"\",IF(K386=\"\",\"\", CONCATENATE(DIGITADOR!$M$1,G386,J386)))","v":""},null,null,"",{"$f":"IF(K386=\"\",\"\",INDEX('Otras referencias'!$AG:$AH,MATCH(K386,'Otras referencias'!$AG:$AG,0),2))","v":""},null,{"$f":"IF(J386=\"\",\"\",INDEX(referentes!$S:$W,MATCH(J386,referentes!$S:$S,0),1))","v":""},null,null,null,null,{"$f":"IF(P386=\"\",\"\",INDEX(referentes!$J:$K,MATCH(P386,referentes!$J:$J,0),2))","v":""},null,null,null,{"$f":"IF(T386=\"\",\"\",INDEX(referentes!D:E,MATCH(T386,referentes!D:D,0),2))","v":""},null,{"$f":"IF(V386=\"\",\"\",INDEX('Otras referencias'!AO:AP,MATCH(V386,'Otras referencias'!AO:AO,0),2))","v":""},null,{"$f":"IF(Z386=\"\",\"\",INDEX('Otras referencias'!H:I,MATCH(Z386,'Otras referencias'!I:I,0),1))","v":""},null,null,null,{"$f":"IF(AD386=\"\",\"\",INDEX('Otras referencias'!K:L,MATCH(AD386,'Otras referencias'!L:L,0),1))","v":""},null,"---",null,null,null,{"$f":"IF(V386=\"\",\"\",INDEX('Otras referencias'!AO:AQ,MATCH(V386,'Otras referencias'!AO:AO,0),3))","v":""},{"$f":"IF(SUMPRODUCT(--EXACT(K386&M386,$AJ$2:AJ385)),\"\",K386&M386)","v":""},{"$f":"IF(SUMPRODUCT(--EXACT(K386&M386,$AJ$2:AJ385)),\"\",MAX($AK$3:AK385)+1)","v":""}]
[1,{"$f":"IF(F387=\"\",\"\",IF(COUNTIF($F$3:F387, F387)>1, \"\", F387))","v":""},385,"",null,{"$f":"IF(I387=\"\",\"\",IF(K387=\"\",\"\", CONCATENATE(DIGITADOR!$M$1,G387,J387)))","v":""},null,null,{"$f":"IF(G387<>\"\",G387+H387,\"\")","v":""},{"$f":"IF(K387=\"\",\"\",INDEX('Otras referencias'!$AG:$AH,MATCH(K387,'Otras referencias'!$AG:$AG,0),2))","v":""},null,{"$f":"IF(J387=\"\",\"\",INDEX(referentes!$S:$W,MATCH(J387,referentes!$S:$S,0),1))","v":""},null,null,null,null,{"$f":"IF(P387=\"\",\"\",INDEX(referentes!$J:$K,MATCH(P387,referentes!$J:$J,0),2))","v":""},null,null,null,{"$f":"IF(T387=\"\",\"\",INDEX(referentes!D:E,MATCH(T387,referentes!D:D,0),2))","v":""},null,{"$f":"IF(V387=\"\",\"\",INDEX('Otras referencias'!AO:AP,MATCH(V387,'Otras referencias'!AO:AO,0),2))","v":""},null,{"$f":"IF(Z387=\"\",\"\",INDEX('Otras referencias'!H:I,MATCH(Z387,'Otras referencias'!I:I,0),1))","v":""},null,null,null,{"$f":"IF(AD387=\"\",\"\",INDEX('Otras referencias'!K:L,MATCH(AD387,'Otras referencias'!L:L,0),1))","v":""},null,"---",null,null,null,{"$f":"IF(V387=\"\",\"\",INDEX('Otras referencias'!AO:AQ,MATCH(V387,'Otras referencias'!AO:AO,0),3))","v":""},{"$f":"IF(SUMPRODUCT(--EXACT(K387&M387,$AJ$2:AJ386)),\"\",K387&M387)","v":""},{"$f":"IF(SUMPRODUCT(--EXACT(K387&M387,$AJ$2:AJ386)),\"\",MAX($AK$3:AK386)+1)","v":""}]
[1,{"$f":"IF(F388=\"\",\"\",IF(COUNTIF($F$3:F388, F388)>1, \"\", F388))","v":""},386,{"$f":"IF(F388=\"\",\"\",CONCATENATE(F388,ROW()-2))","v":""},null,{"$f":"IF(I388=\"\",\"\",IF(K388=\"\",\"\", CONCATENATE(DIGITADOR!$M$1,G388,J388)))","v":""},null,null,"",{"$f":"IF(K388=\"\",\"\",INDEX('Otras referencias'!$AG:$AH,MATCH(K388,'Otras referencias'!$AG:$AG,0),2))","v":""},null,{"$f":"IF(J388=\"\",\"\",INDEX(referentes!$S:$W,MATCH(J388,referentes!$S:$S,0),1))","v":""},null,null,null,null,{"$f":"IF(P388=\"\",\"\",INDEX(referentes!$J:$K,MATCH(P388,referentes!$J:$J,0),2))","v":""},null,null,null,{"$f":"IF(T388=\"\",\"\",INDEX(referentes!D:E,MATCH(T388,referentes!D:D,0),2))","v":""},null,{"$f":"IF(V388=\"\",\"\",INDEX('Otras referencias'!AO:AP,MATCH(V388,'Otras referencias'!AO:AO,0),2))","v":""},null,{"$f":"IF(Z388=\"\",\"\",INDEX('Otras referencias'!H:I,MATCH(Z388,'Otras referencias'!I:I,0),1))","v":""},null,null,null,{"$f":"IF(AD388=\"\",\"\",INDEX('Otras referencias'!K:L,MATCH(AD388,'Otras referencias'!L:L,0),1))","v":""},null,{"$f":"K388&\"-\"&M388&\"-\"&P388&\"-\"&R388","v":"---"},null,null,null,{"$f":"IF(V388=\"\",\"\",INDEX('Otras referencias'!AO:AQ,MATCH(V388,'Otras referencias'!AO:AO,0),3))","v":""},{"$f":"IF(SUMPRODUCT(--EXACT(K388&M388,$AJ$2:AJ387)),\"\",K388&M388)","v":""},{"$f":"IF(SUMPRODUCT(--EXACT(K388&M388,$AJ$2:AJ387)),\"\",MAX($AK$3:AK387)+1)","v":""}]
[{"$f":"IF(L389=L388,A388,A388+1)","v":1},{"$f":"IF(F389=\"\",\"\",IF(COUNTIF($F$3:F389, F389)>1, \"\", F389))","v":""},387,"",null,{"$f":"IF(I389=\"\",\"\",IF(K389=\"\",\"\", CONCATENATE(DIGITADOR!$M$1,G389,J389)))","v":""},null,null,"",{"$f":"IF(K389=\"\",\"\",INDEX('Otras referencias'!$AG:$AH,MATCH(K389,'Otras referencias'!$AG:$AG,0),2))","v":""},null,{"$f":"IF(J389=\"\",\"\",INDEX(referentes!$S:$W,MATCH(J389,referentes!$S:$S,0),1))","v":""},null,null,null,null,{"$f":"IF(P389=\"\",\"\",INDEX(referentes!$J:$K,MATCH(P389,referentes!$J:$J,0),2))","v":""},null,null,null,{"$f":"IF(T389=\"\",\"\",INDEX(referentes!D:E,MATCH(T389,referentes!D:D,0),2))","v":""},null,{"$f":"IF(V389=\"\",\"\",INDEX('Otras referencias'!AO:AP,MATCH(V389,'Otras referencias'!AO:AO,0),2))","v":""},null,{"$f":"IF(Z389=\"\",\"\",INDEX('Otras referencias'!H:I,MATCH(Z389,'Otras referencias'!I:I,0),1))","v":""},null,null,null,{"$f":"IF(AD389=\"\",\"\",INDEX('Otras referencias'!K:L,MATCH(AD389,'Otras referencias'!L:L,0),1))","v":""},null,"---",null,null,null,{"$f":"IF(V389=\"\",\"\",INDEX('Otras referencias'!AO:AQ,MATCH(V389,'Otras referencias'!AO:AO,0),3))","v":""},{"$f":"IF(SUMPRODUCT(--EXACT(K389&M389,$AJ$2:AJ388)),\"\",K389&M389)","v":""},{"$f":"IF(SUMPRODUCT(--EXACT(K389&M389,$AJ$2:AJ388)),\"\",MAX($AK$3:AK388)+1)","v":""}]
[1,{"$f":"IF(F390=\"\",\"\",IF(COUNTIF($F$3:F390, F390)>1, \"\", F390))","v":""},388,"",null,{"$f":"IF(I390=\"\",\"\",IF(K390=\"\",\"\", CONCATENATE(DIGITADOR!$M$1,G390,J390)))","v":""},null,null,"",{"$f":"IF(K390=\"\",\"\",INDEX('Otras referencias'!$AG:$AH,MATCH(K390,'Otras referencias'!$AG:$AG,0),2))","v":""},null,{"$f":"IF(J390=\"\",\"\",INDEX(referentes!$S:$W,MATCH(J390,referentes!$S:$S,0),1))","v":""},null,null,null,null,{"$f":"IF(P390=\"\",\"\",INDEX(referentes!$J:$K,MATCH(P390,referentes!$J:$J,0),2))","v":""},null,null,null,{"$f":"IF(T390=\"\",\"\",INDEX(referentes!D:E,MATCH(T390,referentes!D:D,0),2))","v":""},null,{"$f":"IF(V390=\"\",\"\",INDEX('Otras referencias'!AO:AP,MATCH(V390,'Otras referencias'!AO:AO,0),2))","v":""},null,{"$f":"IF(Z390=\"\",\"\",INDEX('Otras referencias'!H:I,MATCH(Z390,'Otras referencias'!I:I,0),1))","v":""},null,null,null,{"$f":"IF(AD390=\"\",\"\",INDEX('Otras referencias'!K:L,MATCH(AD390,'Otras referencias'!L:L,0),1))","v":""},null,"---",null,null,null,{"$f":"IF(V390=\"\",\"\",INDEX('Otras referencias'!AO:AQ,MATCH(V390,'Otras referencias'!AO:AO,0),3))","v":""},{"$f":"IF(SUMPRODUCT(--EXACT(K390&M390,$AJ$2:AJ389)),\"\",K390&M390)","v":""},{"$f":"IF(SUMPRODUCT(--EXACT(K390&M390,$AJ$2:AJ389)),\"\",MAX($AK$3:AK389)+1)","v":""}]
[1,{"$f":"IF(F391=\"\",\"\",IF(COUNTIF($F$3:F391, F391)>1, \"\", F391))","v":""},389,"",null,{"$f":"IF(I391=\"\",\"\",IF(K391=\"\",\"\", CONCATENATE(DIGITADOR!$M$1,G391,J391)))","v":""},null,null,"",{"$f":"IF(K391=\"\",\"\",INDEX('Otras referencias'!$AG:$AH,MATCH(K391,'Otras referencias'!$AG:$AG,0),2))","v":""},null,{"$f":"IF(J391=\"\",\"\",INDEX(referentes!$S:$W,MATCH(J391,referentes!$S:$S,0),1))","v":""},null,null,null,null,{"$f":"IF(P391=\"\",\"\",INDEX(referentes!$J:$K,MATCH(P391,referentes!$J:$J,0),2))","v":""},null,null,null,{"$f":"IF(T391=\"\",\"\",INDEX(referentes!D:E,MATCH(T391,referentes!D:D,0),2))","v":""},null,{"$f":"IF(V391=\"\",\"\",INDEX('Otras referencias'!AO:AP,MATCH(V391,'Otras referencias'!AO:AO,0),2))","v":""},null,{"$f":"IF(Z391=\"\",\"\",INDEX('Otras referencias'!H:I,MATCH(Z391,'Otras referencias'!I:I,0),1))","v":""},null,null,null,{"$f":"IF(AD391=\"\",\"\",INDEX('Otras referencias'!K:L,MATCH(AD391,'Otras referencias'!L:L,0),1))","v":""},null,"---",null,null,null,{"$f":"IF(V391=\"\",\"\",INDEX('Otras referencias'!AO:AQ,MATCH(V391,'Otras referencias'!AO:AO,0),3))","v":""},{"$f":"IF(SUMPRODUCT(--EXACT(K391&M391,$AJ$2:AJ390)),\"\",K391&M391)","v":""},{"$f":"IF(SUMPRODUCT(--EXACT(K391&M391,$AJ$2:AJ390)),\"\",MAX($AK$3:AK390)+1)","v":""}]
[1,{"$f":"IF(F392=\"\",\"\",IF(COUNTIF($F$3:F392, F392)>1, \"\", F392))","v":""},390,"",null,{"$f":"IF(I392=\"\",\"\",IF(K392=\"\",\"\", CONCATENATE(DIGITADOR!$M$1,G392,J392)))","v":""},null,null,"",{"$f":"IF(K392=\"\",\"\",INDEX('Otras referencias'!$AG:$AH,MATCH(K392,'Otras referencias'!$AG:$AG,0),2))","v":""},null,{"$f":"IF(J392=\"\",\"\",INDEX(referentes!$S:$W,MATCH(J392,referentes!$S:$S,0),1))","v":""},null,null,null,null,{"$f":"IF(P392=\"\",\"\",INDEX(referentes!$J:$K,MATCH(P392,referentes!$J:$J,0),2))","v":""},null,null,null,{"$f":"IF(T392=\"\",\"\",INDEX(referentes!D:E,MATCH(T392,referentes!D:D,0),2))","v":""},null,{"$f":"IF(V392=\"\",\"\",INDEX('Otras referencias'!AO:AP,MATCH(V392,'Otras referencias'!AO:AO,0),2))","v":""},null,{"$f":"IF(Z392=\"\",\"\",INDEX('Otras referencias'!H:I,MATCH(Z392,'Otras referencias'!I:I,0),1))","v":""},null,null,null,{"$f":"IF(AD392=\"\",\"\",INDEX('Otras referencias'!K:L,MATCH(AD392,'Otras referencias'!L:L,0),1))","v":""},null,"---",null,null,null,{"$f":"IF(V392=\"\",\"\",INDEX('Otras referencias'!AO:AQ,MATCH(V392,'Otras referencias'!AO:AO,0),3))","v":""},{"$f":"IF(SUMPRODUCT(--EXACT(K392&M392,$AJ$2:AJ391)),\"\",K392&M392)","v":""},{"$f":"IF(SUMPRODUCT(--EXACT(K392&M392,$AJ$2:AJ391)),\"\",MAX($AK$3:AK391)+1)","v":""}]
[1,{"$f":"IF(F393=\"\",\"\",IF(COUNTIF($F$3:F393, F393)>1, \"\", F393))","v":""},391,"",null,{"$f":"IF(I393=\"\",\"\",IF(K393=\"\",\"\", CONCATENATE(DIGITADOR!$M$1,G393,J393)))","v":""},null,null,"",{"$f":"IF(K393=\"\",\"\",INDEX('Otras referencias'!$AG:$AH,MATCH(K393,'Otras referencias'!$AG:$AG,0),2))","v":""},null,{"$f":"IF(J393=\"\",\"\",INDEX(referentes!$S:$W,MATCH(J393,referentes!$S:$S,0),1))","v":""},null,null,null,null,{"$f":"IF(P393=\"\",\"\",INDEX(referentes!$J:$K,MATCH(P393,referentes!$J:$J,0),2))","v":""},null,null,null,{"$f":"IF(T393=\"\",\"\",INDEX(referentes!D:E,MATCH(T393,referentes!D:D,0),2))","v":""},null,{"$f":"IF(V393=\"\",\"\",INDEX('Otras referencias'!AO:AP,MATCH(V393,'Otras referencias'!AO:AO,0),2))","v":""},null,{"$f":"IF(Z393=\"\",\"\",INDEX('Otras referencias'!H:I,MATCH(Z393,'Otras referencias'!I:I,0),1))","v":""},null,null,null,{"$f":"IF(AD393=\"\",\"\",INDEX('Otras referencias'!K:L,MATCH(AD393,'Otras referencias'!L:L,0),1))","v":""},null,"---",null,null,null,{"$f":"IF(V393=\"\",\"\",INDEX('Otras referencias'!AO:AQ,MATCH(V393,'Otras referencias'!AO:AO,0),3))","v":""},{"$f":"IF(SUMPRODUCT(--EXACT(K393&M393,$AJ$2:AJ392)),\"\",K393&M393)","v":""},{"$f":"IF(SUMPRODUCT(--EXACT(K393&M393,$AJ$2:AJ392)),\"\",MAX($AK$3:AK392)+1)","v":""}]
[1,{"$f":"IF(F394=\"\",\"\",IF(COUNTIF($F$3:F394, F394)>1, \"\", F394))","v":""},392,"",null,{"$f":"IF(I394=\"\",\"\",IF(K394=\"\",\"\", CONCATENATE(DIGITADOR!$M$1,G394,J394)))","v":""},null,null,"",{"$f":"IF(K394=\"\",\"\",INDEX('Otras referencias'!$AG:$AH,MATCH(K394,'Otras referencias'!$AG:$AG,0),2))","v":""},null,{"$f":"IF(J394=\"\",\"\",INDEX(referentes!$S:$W,MATCH(J394,referentes!$S:$S,0),1))","v":""},null,null,null,null,{"$f":"IF(P394=\"\",\"\",INDEX(referentes!$J:$K,MATCH(P394,referentes!$J:$J,0),2))","v":""},null,null,null,{"$f":"IF(T394=\"\",\"\",INDEX(referentes!D:E,MATCH(T394,referentes!D:D,0),2))","v":""},null,{"$f":"IF(V394=\"\",\"\",INDEX('Otras referencias'!AO:AP,MATCH(V394,'Otras referencias'!AO:AO,0),2))","v":""},null,{"$f":"IF(Z394=\"\",\"\",INDEX('Otras referencias'!H:I,MATCH(Z394,'Otras referencias'!I:I,0),1))","v":""},null,null,null,{"$f":"IF(AD394=\"\",\"\",INDEX('Otras referencias'!K:L,MATCH(AD394,'Otras referencias'!L:L,0),1))","v":""},null,"---",null,null,null,{"$f":"IF(V394=\"\",\"\",INDEX('Otras referencias'!AO:AQ,MATCH(V394,'Otras referencias'!AO:AO,0),3))","v":""},{"$f":"IF(SUMPRODUCT(--EXACT(K394&M394,$AJ$2:AJ393)),\"\",K394&M394)","v":""},{"$f":"IF(SUMPRODUCT(--EXACT(K394&M394,$AJ$2:AJ393)),\"\",MAX($AK$3:AK393)+1)","v":""}]
[1,{"$f":"IF(F395=\"\",\"\",IF(COUNTIF($F$3:F395, F395)>1, \"\", F395))","v":""},393,"",null,{"$f":"IF(I395=\"\",\"\",IF(K395=\"\",\"\", CONCATENATE(DIGITADOR!$M$1,G395,J395)))","v":""},null,null,"",{"$f":"IF(K395=\"\",\"\",INDEX('Otras referencias'!$AG:$AH,MATCH(K395,'Otras referencias'!$AG:$AG,0),2))","v":""},null,{"$f":"IF(J395=\"\",\"\",INDEX(referentes!$S:$W,MATCH(J395,referentes!$S:$S,0),1))","v":""},null,null,null,null,{"$f":"IF(P395=\"\",\"\",INDEX(referentes!$J:$K,MATCH(P395,referentes!$J:$J,0),2))","v":""},null,null,null,{"$f":"IF(T395=\"\",\"\",INDEX(referentes!D:E,MATCH(T395,referentes!D:D,0),2))","v":""},null,{"$f":"IF(V395=\"\",\"\",INDEX('Otras referencias'!AO:AP,MATCH(V395,'Otras referencias'!AO:AO,0),2))","v":""},null,{"$f":"IF(Z395=\"\",\"\",INDEX('Otras referencias'!H:I,MATCH(Z395,'Otras referencias'!I:I,0),1))","v":""},null,null,null,{"$f":"IF(AD395=\"\",\"\",INDEX('Otras referencias'!K:L,MATCH(AD395,'Otras referencias'!L:L,0),1))","v":""},null,"---",null,null,null,{"$f":"IF(V395=\"\",\"\",INDEX('Otras referencias'!AO:AQ,MATCH(V395,'Otras referencias'!AO:AO,0),3))","v":""},{"$f":"IF(SUMPRODUCT(--EXACT(K395&M395,$AJ$2:AJ394)),\"\",K395&M395)","v":""},{"$f":"IF(SUMPRODUCT(--EXACT(K395&M395,$AJ$2:AJ394)),\"\",MAX($AK$3:AK394)+1)","v":""}]
[1,{"$f":"IF(F396=\"\",\"\",IF(COUNTIF($F$3:F396, F396)>1, \"\", F396))","v":""},394,"",null,{"$f":"IF(I396=\"\",\"\",IF(K396=\"\",\"\", CONCATENATE(DIGITADOR!$M$1,G396,J396)))","v":""},null,null,"",{"$f":"IF(K396=\"\",\"\",INDEX('Otras referencias'!$AG:$AH,MATCH(K396,'Otras referencias'!$AG:$AG,0),2))","v":""},null,{"$f":"IF(J396=\"\",\"\",INDEX(referentes!$S:$W,MATCH(J396,referentes!$S:$S,0),1))","v":""},null,null,null,null,{"$f":"IF(P396=\"\",\"\",INDEX(referentes!$J:$K,MATCH(P396,referentes!$J:$J,0),2))","v":""},null,null,null,{"$f":"IF(T396=\"\",\"\",INDEX(referentes!D:E,MATCH(T396,referentes!D:D,0),2))","v":""},null,{"$f":"IF(V396=\"\",\"\",INDEX('Otras referencias'!AO:AP,MATCH(V396,'Otras referencias'!AO:AO,0),2))","v":""},null,{"$f":"IF(Z396=\"\",\"\",INDEX('Otras referencias'!H:I,MATCH(Z396,'Otras referencias'!I:I,0),1))","v":""},null,null,null,{"$f":"IF(AD396=\"\",\"\",INDEX('Otras referencias'!K:L,MATCH(AD396,'Otras referencias'!L:L,0),1))","v":""},null,"---",null,null,null,{"$f":"IF(V396=\"\",\"\",INDEX('Otras referencias'!AO:AQ,MATCH(V396,'Otras referencias'!AO:AO,0),3))","v":""},{"$f":"IF(SUMPRODUCT(--EXACT(K396&M396,$AJ$2:AJ395)),\"\",K396&M396)","v":""},{"$f":"IF(SUMPRODUCT(--EXACT(K396&M396,$AJ$2:AJ395)),\"\",MAX($AK$3:AK395)+1)","v":""}]
[1,{"$f":"IF(F397=\"\",\"\",IF(COUNTIF($F$3:F397, F397)>1, \"\", F397))","v":""},395,"",null,{"$f":"IF(I397=\"\",\"\",IF(K397=\"\",\"\", CONCATENATE(DIGITADOR!$M$1,G397,J397)))","v":""},null,null,"",{"$f":"IF(K397=\"\",\"\",INDEX('Otras referencias'!$AG:$AH,MATCH(K397,'Otras referencias'!$AG:$AG,0),2))","v":""},null,{"$f":"IF(J397=\"\",\"\",INDEX(referentes!$S:$W,MATCH(J397,referentes!$S:$S,0),1))","v":""},null,null,null,null,{"$f":"IF(P397=\"\",\"\",INDEX(referentes!$J:$K,MATCH(P397,referentes!$J:$J,0),2))","v":""},null,null,null,{"$f":"IF(T397=\"\",\"\",INDEX(referentes!D:E,MATCH(T397,referentes!D:D,0),2))","v":""},null,{"$f":"IF(V397=\"\",\"\",INDEX('Otras referencias'!AO:AP,MATCH(V397,'Otras referencias'!AO:AO,0),2))","v":""},null,{"$f":"IF(Z397=\"\",\"\",INDEX('Otras referencias'!H:I,MATCH(Z397,'Otras referencias'!I:I,0),1))","v":""},null,null,null,{"$f":"IF(AD397=\"\",\"\",INDEX('Otras referencias'!K:L,MATCH(AD397,'Otras referencias'!L:L,0),1))","v":""},null,"---",null,null,null,{"$f":"IF(V397=\"\",\"\",INDEX('Otras referencias'!AO:AQ,MATCH(V397,'Otras referencias'!AO:AO,0),3))","v":""},{"$f":"IF(SUMPRODUCT(--EXACT(K397&M397,$AJ$2:AJ396)),\"\",K397&M397)","v":""},{"$f":"IF(SUMPRODUCT(--EXACT(K397&M397,$AJ$2:AJ396)),\"\",MAX($AK$3:AK396)+1)","v":""}]
[1,{"$f":"IF(F398=\"\",\"\",IF(COUNTIF($F$3:F398, F398)>1, \"\", F398))","v":""},396,"",null,{"$f":"IF(I398=\"\",\"\",IF(K398=\"\",\"\", CONCATENATE(DIGITADOR!$M$1,G398,J398)))","v":""},null,null,"",{"$f":"IF(K398=\"\",\"\",INDEX('Otras referencias'!$AG:$AH,MATCH(K398,'Otras referencias'!$AG:$AG,0),2))","v":""},null,{"$f":"IF(J398=\"\",\"\",INDEX(referentes!$S:$W,MATCH(J398,referentes!$S:$S,0),1))","v":""},null,null,null,null,{"$f":"IF(P398=\"\",\"\",INDEX(referentes!$J:$K,MATCH(P398,referentes!$J:$J,0),2))","v":""},null,null,null,{"$f":"IF(T398=\"\",\"\",INDEX(referentes!D:E,MATCH(T398,referentes!D:D,0),2))","v":""},null,{"$f":"IF(V398=\"\",\"\",INDEX('Otras referencias'!AO:AP,MATCH(V398,'Otras referencias'!AO:AO,0),2))","v":""},null,{"$f":"IF(Z398=\"\",\"\",INDEX('Otras referencias'!H:I,MATCH(Z398,'Otras referencias'!I:I,0),1))","v":""},null,null,null,{"$f":"IF(AD398=\"\",\"\",INDEX('Otras referencias'!K:L,MATCH(AD398,'Otras referencias'!L:L,0),1))","v":""},null,"---",null,null,null,{"$f":"IF(V398=\"\",\"\",INDEX('Otras referencias'!AO:AQ,MATCH(V398,'Otras referencias'!AO:AO,0),3))","v":""},{"$f":"IF(SUMPRODUCT(--EXACT(K398&M398,$AJ$2:AJ397)),\"\",K398&M398)","v":""},{"$f":"IF(SUMPRODUCT(--EXACT(K398&M398,$AJ$2:AJ397)),\"\",MAX($AK$3:AK397)+1)","v":""}]
[1,{"$f":"IF(F399=\"\",\"\",IF(COUNTIF($F$3:F399, F399)>1, \"\", F399))","v":""},397,"",null,{"$f":"IF(I399=\"\",\"\",IF(K399=\"\",\"\", CONCATENATE(DIGITADOR!$M$1,G399,J399)))","v":""},null,null,"",{"$f":"IF(K399=\"\",\"\",INDEX('Otras referencias'!$AG:$AH,MATCH(K399,'Otras referencias'!$AG:$AG,0),2))","v":""},null,{"$f":"IF(J399=\"\",\"\",INDEX(referentes!$S:$W,MATCH(J399,referentes!$S:$S,0),1))","v":""},null,null,null,null,{"$f":"IF(P399=\"\",\"\",INDEX(referentes!$J:$K,MATCH(P399,referentes!$J:$J,0),2))","v":""},null,null,null,{"$f":"IF(T399=\"\",\"\",INDEX(referentes!D:E,MATCH(T399,referentes!D:D,0),2))","v":""},null,{"$f":"IF(V399=\"\",\"\",INDEX('Otras referencias'!AO:AP,MATCH(V399,'Otras referencias'!AO:AO,0),2))","v":""},null,{"$f":"IF(Z399=\"\",\"\",INDEX('Otras referencias'!H:I,MATCH(Z399,'Otras referencias'!I:I,0),1))","v":""},null,null,null,{"$f":"IF(AD399=\"\",\"\",INDEX('Otras referencias'!K:L,MATCH(AD399,'Otras referencias'!L:L,0),1))","v":""},null,"---",null,null,null,{"$f":"IF(V399=\"\",\"\",INDEX('Otras referencias'!AO:AQ,MATCH(V399,'Otras referencias'!AO:AO,0),3))","v":""},{"$f":"IF(SUMPRODUCT(--EXACT(K399&M399,$AJ$2:AJ398)),\"\",K399&M399)","v":""},{"$f":"IF(SUMPRODUCT(--EXACT(K399&M399,$AJ$2:AJ398)),\"\",MAX($AK$3:AK398)+1)","v":""}]
[1,{"$f":"IF(F400=\"\",\"\",IF(COUNTIF($F$3:F400, F400)>1, \"\", F400))","v":""},398,"",null,{"$f":"IF(I400=\"\",\"\",IF(K400=\"\",\"\", CONCATENATE(DIGITADOR!$M$1,G400,J400)))","v":""},null,null,"",{"$f":"IF(K400=\"\",\"\",INDEX('Otras referencias'!$AG:$AH,MATCH(K400,'Otras referencias'!$AG:$AG,0),2))","v":""},null,{"$f":"IF(J400=\"\",\"\",INDEX(referentes!$S:$W,MATCH(J400,referentes!$S:$S,0),1))","v":""},null,null,null,null,{"$f":"IF(P400=\"\",\"\",INDEX(referentes!$J:$K,MATCH(P400,referentes!$J:$J,0),2))","v":""},null,null,null,{"$f":"IF(T400=\"\",\"\",INDEX(referentes!D:E,MATCH(T400,referentes!D:D,0),2))","v":""},null,{"$f":"IF(V400=\"\",\"\",INDEX('Otras referencias'!AO:AP,MATCH(V400,'Otras referencias'!AO:AO,0),2))","v":""},null,{"$f":"IF(Z400=\"\",\"\",INDEX('Otras referencias'!H:I,MATCH(Z400,'Otras referencias'!I:I,0),1))","v":""},null,null,null,{"$f":"IF(AD400=\"\",\"\",INDEX('Otras referencias'!K:L,MATCH(AD400,'Otras referencias'!L:L,0),1))","v":""},null,"---",null,null,null,{"$f":"IF(V400=\"\",\"\",INDEX('Otras referencias'!AO:AQ,MATCH(V400,'Otras referencias'!AO:AO,0),3))","v":""},{"$f":"IF(SUMPRODUCT(--EXACT(K400&M400,$AJ$2:AJ399)),\"\",K400&M400)","v":""},{"$f":"IF(SUMPRODUCT(--EXACT(K400&M400,$AJ$2:AJ399)),\"\",MAX($AK$3:AK399)+1)","v":""}]
[1,{"$f":"IF(F401=\"\",\"\",IF(COUNTIF($F$3:F401, F401)>1, \"\", F401))","v":""},399,"",null,{"$f":"IF(I401=\"\",\"\",IF(K401=\"\",\"\", CONCATENATE(DIGITADOR!$M$1,G401,J401)))","v":""},null,null,"",{"$f":"IF(K401=\"\",\"\",INDEX('Otras referencias'!$AG:$AH,MATCH(K401,'Otras referencias'!$AG:$AG,0),2))","v":""},null,{"$f":"IF(J401=\"\",\"\",INDEX(referentes!$S:$W,MATCH(J401,referentes!$S:$S,0),1))","v":""},null,null,null,null,{"$f":"IF(P401=\"\",\"\",INDEX(referentes!$J:$K,MATCH(P401,referentes!$J:$J,0),2))","v":""},null,null,null,{"$f":"IF(T401=\"\",\"\",INDEX(referentes!D:E,MATCH(T401,referentes!D:D,0),2))","v":""},null,{"$f":"IF(V401=\"\",\"\",INDEX('Otras referencias'!AO:AP,MATCH(V401,'Otras referencias'!AO:AO,0),2))","v":""},null,{"$f":"IF(Z401=\"\",\"\",INDEX('Otras referencias'!H:I,MATCH(Z401,'Otras referencias'!I:I,0),1))","v":""},null,null,null,{"$f":"IF(AD401=\"\",\"\",INDEX('Otras referencias'!K:L,MATCH(AD401,'Otras referencias'!L:L,0),1))","v":""},null,"---",null,null,null,{"$f":"IF(V401=\"\",\"\",INDEX('Otras referencias'!AO:AQ,MATCH(V401,'Otras referencias'!AO:AO,0),3))","v":""},{"$f":"IF(SUMPRODUCT(--EXACT(K401&M401,$AJ$2:AJ400)),\"\",K401&M401)","v":""},{"$f":"IF(SUMPRODUCT(--EXACT(K401&M401,$AJ$2:AJ400)),\"\",MAX($AK$3:AK400)+1)","v":""}]
[1,{"$f":"IF(F402=\"\",\"\",IF(COUNTIF($F$3:F402, F402)>1, \"\", F402))","v":""},400,"",null,{"$f":"IF(I402=\"\",\"\",IF(K402=\"\",\"\", CONCATENATE(DIGITADOR!$M$1,G402,J402)))","v":""},null,null,"",{"$f":"IF(K402=\"\",\"\",INDEX('Otras referencias'!$AG:$AH,MATCH(K402,'Otras referencias'!$AG:$AG,0),2))","v":""},null,{"$f":"IF(J402=\"\",\"\",INDEX(referentes!$S:$W,MATCH(J402,referentes!$S:$S,0),1))","v":""},null,null,null,null,{"$f":"IF(P402=\"\",\"\",INDEX(referentes!$J:$K,MATCH(P402,referentes!$J:$J,0),2))","v":""},null,null,null,{"$f":"IF(T402=\"\",\"\",INDEX(referentes!D:E,MATCH(T402,referentes!D:D,0),2))","v":""},null,{"$f":"IF(V402=\"\",\"\",INDEX('Otras referencias'!AO:AP,MATCH(V402,'Otras referencias'!AO:AO,0),2))","v":""},null,{"$f":"IF(Z402=\"\",\"\",INDEX('Otras referencias'!H:I,MATCH(Z402,'Otras referencias'!I:I,0),1))","v":""},null,null,null,{"$f":"IF(AD402=\"\",\"\",INDEX('Otras referencias'!K:L,MATCH(AD402,'Otras referencias'!L:L,0),1))","v":""},null,"---",null,null,null,{"$f":"IF(V402=\"\",\"\",INDEX('Otras referencias'!AO:AQ,MATCH(V402,'Otras referencias'!AO:AO,0),3))","v":""},{"$f":"IF(SUMPRODUCT(--EXACT(K402&M402,$AJ$2:AJ401)),\"\",K402&M402)","v":""},{"$f":"IF(SUMPRODUCT(--EXACT(K402&M402,$AJ$2:AJ401)),\"\",MAX($AK$3:AK401)+1)","v":""}]
[1,{"$f":"IF(F403=\"\",\"\",IF(COUNTIF($F$3:F403, F403)>1, \"\", F403))","v":""},401,"",null,{"$f":"IF(I403=\"\",\"\",IF(K403=\"\",\"\", CONCATENATE(DIGITADOR!$M$1,G403,J403)))","v":""},null,null,"",{"$f":"IF(K403=\"\",\"\",INDEX('Otras referencias'!$AG:$AH,MATCH(K403,'Otras referencias'!$AG:$AG,0),2))","v":""},null,{"$f":"IF(J403=\"\",\"\",INDEX(referentes!$S:$W,MATCH(J403,referentes!$S:$S,0),1))","v":""},null,null,null,null,{"$f":"IF(P403=\"\",\"\",INDEX(referentes!$J:$K,MATCH(P403,referentes!$J:$J,0),2))","v":""},null,null,null,{"$f":"IF(T403=\"\",\"\",INDEX(referentes!D:E,MATCH(T403,referentes!D:D,0),2))","v":""},null,{"$f":"IF(V403=\"\",\"\",INDEX('Otras referencias'!AO:AP,MATCH(V403,'Otras referencias'!AO:AO,0),2))","v":""},null,{"$f":"IF(Z403=\"\",\"\",INDEX('Otras referencias'!H:I,MATCH(Z403,'Otras referencias'!I:I,0),1))","v":""},null,null,null,{"$f":"IF(AD403=\"\",\"\",INDEX('Otras referencias'!K:L,MATCH(AD403,'Otras referencias'!L:L,0),1))","v":""},null,"---",null,null,null,{"$f":"IF(V403=\"\",\"\",INDEX('Otras referencias'!AO:AQ,MATCH(V403,'Otras referencias'!AO:AO,0),3))","v":""},{"$f":"IF(SUMPRODUCT(--EXACT(K403&M403,$AJ$2:AJ402)),\"\",K403&M403)","v":""},{"$f":"IF(SUMPRODUCT(--EXACT(K403&M403,$AJ$2:AJ402)),\"\",MAX($AK$3:AK402)+1)","v":""}]
[1,{"$f":"IF(F404=\"\",\"\",IF(COUNTIF($F$3:F404, F404)>1, \"\", F404))","v":""},402,"",null,{"$f":"IF(I404=\"\",\"\",IF(K404=\"\",\"\", CONCATENATE(DIGITADOR!$M$1,G404,J404)))","v":""},null,null,"",{"$f":"IF(K404=\"\",\"\",INDEX('Otras referencias'!$AG:$AH,MATCH(K404,'Otras referencias'!$AG:$AG,0),2))","v":""},null,{"$f":"IF(J404=\"\",\"\",INDEX(referentes!$S:$W,MATCH(J404,referentes!$S:$S,0),1))","v":""},null,null,null,null,{"$f":"IF(P404=\"\",\"\",INDEX(referentes!$J:$K,MATCH(P404,referentes!$J:$J,0),2))","v":""},null,null,null,{"$f":"IF(T404=\"\",\"\",INDEX(referentes!D:E,MATCH(T404,referentes!D:D,0),2))","v":""},null,{"$f":"IF(V404=\"\",\"\",INDEX('Otras referencias'!AO:AP,MATCH(V404,'Otras referencias'!AO:AO,0),2))","v":""},null,{"$f":"IF(Z404=\"\",\"\",INDEX('Otras referencias'!H:I,MATCH(Z404,'Otras referencias'!I:I,0),1))","v":""},null,null,null,{"$f":"IF(AD404=\"\",\"\",INDEX('Otras referencias'!K:L,MATCH(AD404,'Otras referencias'!L:L,0),1))","v":""},null,"---",null,null,null,{"$f":"IF(V404=\"\",\"\",INDEX('Otras referencias'!AO:AQ,MATCH(V404,'Otras referencias'!AO:AO,0),3))","v":""},{"$f":"IF(SUMPRODUCT(--EXACT(K404&M404,$AJ$2:AJ403)),\"\",K404&M404)","v":""},{"$f":"IF(SUMPRODUCT(--EXACT(K404&M404,$AJ$2:AJ403)),\"\",MAX($AK$3:AK403)+1)","v":""}]
[1,{"$f":"IF(F405=\"\",\"\",IF(COUNTIF($F$3:F405, F405)>1, \"\", F405))","v":""},403,"",null,{"$f":"IF(I405=\"\",\"\",IF(K405=\"\",\"\", CONCATENATE(DIGITADOR!$M$1,G405,J405)))","v":""},null,null,"",{"$f":"IF(K405=\"\",\"\",INDEX('Otras referencias'!$AG:$AH,MATCH(K405,'Otras referencias'!$AG:$AG,0),2))","v":""},null,{"$f":"IF(J405=\"\",\"\",INDEX(referentes!$S:$W,MATCH(J405,referentes!$S:$S,0),1))","v":""},null,null,null,null,{"$f":"IF(P405=\"\",\"\",INDEX(referentes!$J:$K,MATCH(P405,referentes!$J:$J,0),2))","v":""},null,null,null,{"$f":"IF(T405=\"\",\"\",INDEX(referentes!D:E,MATCH(T405,referentes!D:D,0),2))","v":""},null,{"$f":"IF(V405=\"\",\"\",INDEX('Otras referencias'!AO:AP,MATCH(V405,'Otras referencias'!AO:AO,0),2))","v":""},null,{"$f":"IF(Z405=\"\",\"\",INDEX('Otras referencias'!H:I,MATCH(Z405,'Otras referencias'!I:I,0),1))","v":""},null,null,null,{"$f":"IF(AD405=\"\",\"\",INDEX('Otras referencias'!K:L,MATCH(AD405,'Otras referencias'!L:L,0),1))","v":""},null,"---",null,null,null,{"$f":"IF(V405=\"\",\"\",INDEX('Otras referencias'!AO:AQ,MATCH(V405,'Otras referencias'!AO:AO,0),3))","v":""},{"$f":"IF(SUMPRODUCT(--EXACT(K405&M405,$AJ$2:AJ404)),\"\",K405&M405)","v":""},{"$f":"IF(SUMPRODUCT(--EXACT(K405&M405,$AJ$2:AJ404)),\"\",MAX($AK$3:AK404)+1)","v":""}]
[1,{"$f":"IF(F406=\"\",\"\",IF(COUNTIF($F$3:F406, F406)>1, \"\", F406))","v":""},404,"",null,{"$f":"IF(I406=\"\",\"\",IF(K406=\"\",\"\", CONCATENATE(DIGITADOR!$M$1,G406,J406)))","v":""},null,null,"",{"$f":"IF(K406=\"\",\"\",INDEX('Otras referencias'!$AG:$AH,MATCH(K406,'Otras referencias'!$AG:$AG,0),2))","v":""},null,{"$f":"IF(J406=\"\",\"\",INDEX(referentes!$S:$W,MATCH(J406,referentes!$S:$S,0),1))","v":""},null,null,null,null,{"$f":"IF(P406=\"\",\"\",INDEX(referentes!$J:$K,MATCH(P406,referentes!$J:$J,0),2))","v":""},null,null,null,{"$f":"IF(T406=\"\",\"\",INDEX(referentes!D:E,MATCH(T406,referentes!D:D,0),2))","v":""},null,{"$f":"IF(V406=\"\",\"\",INDEX('Otras referencias'!AO:AP,MATCH(V406,'Otras referencias'!AO:AO,0),2))","v":""},null,{"$f":"IF(Z406=\"\",\"\",INDEX('Otras referencias'!H:I,MATCH(Z406,'Otras referencias'!I:I,0),1))","v":""},null,null,null,{"$f":"IF(AD406=\"\",\"\",INDEX('Otras referencias'!K:L,MATCH(AD406,'Otras referencias'!L:L,0),1))","v":""},null,"---",null,null,null,{"$f":"IF(V406=\"\",\"\",INDEX('Otras referencias'!AO:AQ,MATCH(V406,'Otras referencias'!AO:AO,0),3))","v":""},{"$f":"IF(SUMPRODUCT(--EXACT(K406&M406,$AJ$2:AJ405)),\"\",K406&M406)","v":""},{"$f":"IF(SUMPRODUCT(--EXACT(K406&M406,$AJ$2:AJ405)),\"\",MAX($AK$3:AK405)+1)","v":""}]
[1,{"$f":"IF(F407=\"\",\"\",IF(COUNTIF($F$3:F407, F407)>1, \"\", F407))","v":""},405,"",null,{"$f":"IF(I407=\"\",\"\",IF(K407=\"\",\"\", CONCATENATE(DIGITADOR!$M$1,G407,J407)))","v":""},null,null,"",{"$f":"IF(K407=\"\",\"\",INDEX('Otras referencias'!$AG:$AH,MATCH(K407,'Otras referencias'!$AG:$AG,0),2))","v":""},null,{"$f":"IF(J407=\"\",\"\",INDEX(referentes!$S:$W,MATCH(J407,referentes!$S:$S,0),1))","v":""},null,null,null,null,{"$f":"IF(P407=\"\",\"\",INDEX(referentes!$J:$K,MATCH(P407,referentes!$J:$J,0),2))","v":""},null,null,null,{"$f":"IF(T407=\"\",\"\",INDEX(referentes!D:E,MATCH(T407,referentes!D:D,0),2))","v":""},null,{"$f":"IF(V407=\"\",\"\",INDEX('Otras referencias'!AO:AP,MATCH(V407,'Otras referencias'!AO:AO,0),2))","v":""},null,{"$f":"IF(Z407=\"\",\"\",INDEX('Otras referencias'!H:I,MATCH(Z407,'Otras referencias'!I:I,0),1))","v":""},null,null,null,{"$f":"IF(AD407=\"\",\"\",INDEX('Otras referencias'!K:L,MATCH(AD407,'Otras referencias'!L:L,0),1))","v":""},null,"---",null,null,null,{"$f":"IF(V407=\"\",\"\",INDEX('Otras referencias'!AO:AQ,MATCH(V407,'Otras referencias'!AO:AO,0),3))","v":""},{"$f":"IF(SUMPRODUCT(--EXACT(K407&M407,$AJ$2:AJ406)),\"\",K407&M407)","v":""},{"$f":"IF(SUMPRODUCT(--EXACT(K407&M407,$AJ$2:AJ406)),\"\",MAX($AK$3:AK406)+1)","v":""}]
[1,{"$f":"IF(F408=\"\",\"\",IF(COUNTIF($F$3:F408, F408)>1, \"\", F408))","v":""},406,"",null,{"$f":"IF(I408=\"\",\"\",IF(K408=\"\",\"\", CONCATENATE(DIGITADOR!$M$1,G408,J408)))","v":""},null,null,"",{"$f":"IF(K408=\"\",\"\",INDEX('Otras referencias'!$AG:$AH,MATCH(K408,'Otras referencias'!$AG:$AG,0),2))","v":""},null,{"$f":"IF(J408=\"\",\"\",INDEX(referentes!$S:$W,MATCH(J408,referentes!$S:$S,0),1))","v":""},null,null,null,null,{"$f":"IF(P408=\"\",\"\",INDEX(referentes!$J:$K,MATCH(P408,referentes!$J:$J,0),2))","v":""},null,null,null,{"$f":"IF(T408=\"\",\"\",INDEX(referentes!D:E,MATCH(T408,referentes!D:D,0),2))","v":""},null,{"$f":"IF(V408=\"\",\"\",INDEX('Otras referencias'!AO:AP,MATCH(V408,'Otras referencias'!AO:AO,0),2))","v":""},null,{"$f":"IF(Z408=\"\",\"\",INDEX('Otras referencias'!H:I,MATCH(Z408,'Otras referencias'!I:I,0),1))","v":""},null,null,null,{"$f":"IF(AD408=\"\",\"\",INDEX('Otras referencias'!K:L,MATCH(AD408,'Otras referencias'!L:L,0),1))","v":""},null,"---",null,null,null,{"$f":"IF(V408=\"\",\"\",INDEX('Otras referencias'!AO:AQ,MATCH(V408,'Otras referencias'!AO:AO,0),3))","v":""},{"$f":"IF(SUMPRODUCT(--EXACT(K408&M408,$AJ$2:AJ407)),\"\",K408&M408)","v":""},{"$f":"IF(SUMPRODUCT(--EXACT(K408&M408,$AJ$2:AJ407)),\"\",MAX($AK$3:AK407)+1)","v":""}]
[1,{"$f":"IF(F409=\"\",\"\",IF(COUNTIF($F$3:F409, F409)>1, \"\", F409))","v":""},407,"",null,{"$f":"IF(I409=\"\",\"\",IF(K409=\"\",\"\", CONCATENATE(DIGITADOR!$M$1,G409,J409)))","v":""},null,null,"",{"$f":"IF(K409=\"\",\"\",INDEX('Otras referencias'!$AG:$AH,MATCH(K409,'Otras referencias'!$AG:$AG,0),2))","v":""},null,{"$f":"IF(J409=\"\",\"\",INDEX(referentes!$S:$W,MATCH(J409,referentes!$S:$S,0),1))","v":""},null,null,null,null,{"$f":"IF(P409=\"\",\"\",INDEX(referentes!$J:$K,MATCH(P409,referentes!$J:$J,0),2))","v":""},null,null,null,{"$f":"IF(T409=\"\",\"\",INDEX(referentes!D:E,MATCH(T409,referentes!D:D,0),2))","v":""},null,{"$f":"IF(V409=\"\",\"\",INDEX('Otras referencias'!AO:AP,MATCH(V409,'Otras referencias'!AO:AO,0),2))","v":""},null,{"$f":"IF(Z409=\"\",\"\",INDEX('Otras referencias'!H:I,MATCH(Z409,'Otras referencias'!I:I,0),1))","v":""},null,null,null,{"$f":"IF(AD409=\"\",\"\",INDEX('Otras referencias'!K:L,MATCH(AD409,'Otras referencias'!L:L,0),1))","v":""},null,"---",null,null,null,{"$f":"IF(V409=\"\",\"\",INDEX('Otras referencias'!AO:AQ,MATCH(V409,'Otras referencias'!AO:AO,0),3))","v":""},{"$f":"IF(SUMPRODUCT(--EXACT(K409&M409,$AJ$2:AJ408)),\"\",K409&M409)","v":""},{"$f":"IF(SUMPRODUCT(--EXACT(K409&M409,$AJ$2:AJ408)),\"\",MAX($AK$3:AK408)+1)","v":""}]
[1,{"$f":"IF(F410=\"\",\"\",IF(COUNTIF($F$3:F410, F410)>1, \"\", F410))","v":""},408,"",null,{"$f":"IF(I410=\"\",\"\",IF(K410=\"\",\"\", CONCATENATE(DIGITADOR!$M$1,G410,J410)))","v":""},null,null,"",{"$f":"IF(K410=\"\",\"\",INDEX('Otras referencias'!$AG:$AH,MATCH(K410,'Otras referencias'!$AG:$AG,0),2))","v":""},null,{"$f":"IF(J410=\"\",\"\",INDEX(referentes!$S:$W,MATCH(J410,referentes!$S:$S,0),1))","v":""},null,null,null,null,{"$f":"IF(P410=\"\",\"\",INDEX(referentes!$J:$K,MATCH(P410,referentes!$J:$J,0),2))","v":""},null,null,null,{"$f":"IF(T410=\"\",\"\",INDEX(referentes!D:E,MATCH(T410,referentes!D:D,0),2))","v":""},null,{"$f":"IF(V410=\"\",\"\",INDEX('Otras referencias'!AO:AP,MATCH(V410,'Otras referencias'!AO:AO,0),2))","v":""},null,{"$f":"IF(Z410=\"\",\"\",INDEX('Otras referencias'!H:I,MATCH(Z410,'Otras referencias'!I:I,0),1))","v":""},null,null,null,{"$f":"IF(AD410=\"\",\"\",INDEX('Otras referencias'!K:L,MATCH(AD410,'Otras referencias'!L:L,0),1))","v":""},null,"---",null,null,null,{"$f":"IF(V410=\"\",\"\",INDEX('Otras referencias'!AO:AQ,MATCH(V410,'Otras referencias'!AO:AO,0),3))","v":""},{"$f":"IF(SUMPRODUCT(--EXACT(K410&M410,$AJ$2:AJ409)),\"\",K410&M410)","v":""},{"$f":"IF(SUMPRODUCT(--EXACT(K410&M410,$AJ$2:AJ409)),\"\",MAX($AK$3:AK409)+1)","v":""}]
[1,{"$f":"IF(F411=\"\",\"\",IF(COUNTIF($F$3:F411, F411)>1, \"\", F411))","v":""},409,"",null,{"$f":"IF(I411=\"\",\"\",IF(K411=\"\",\"\", CONCATENATE(DIGITADOR!$M$1,G411,J411)))","v":""},null,null,"",{"$f":"IF(K411=\"\",\"\",INDEX('Otras referencias'!$AG:$AH,MATCH(K411,'Otras referencias'!$AG:$AG,0),2))","v":""},null,{"$f":"IF(J411=\"\",\"\",INDEX(referentes!$S:$W,MATCH(J411,referentes!$S:$S,0),1))","v":""},null,null,null,null,{"$f":"IF(P411=\"\",\"\",INDEX(referentes!$J:$K,MATCH(P411,referentes!$J:$J,0),2))","v":""},null,null,null,{"$f":"IF(T411=\"\",\"\",INDEX(referentes!D:E,MATCH(T411,referentes!D:D,0),2))","v":""},null,{"$f":"IF(V411=\"\",\"\",INDEX('Otras referencias'!AO:AP,MATCH(V411,'Otras referencias'!AO:AO,0),2))","v":""},null,{"$f":"IF(Z411=\"\",\"\",INDEX('Otras referencias'!H:I,MATCH(Z411,'Otras referencias'!I:I,0),1))","v":""},null,null,null,{"$f":"IF(AD411=\"\",\"\",INDEX('Otras referencias'!K:L,MATCH(AD411,'Otras referencias'!L:L,0),1))","v":""},null,"---",null,null,null,{"$f":"IF(V411=\"\",\"\",INDEX('Otras referencias'!AO:AQ,MATCH(V411,'Otras referencias'!AO:AO,0),3))","v":""},{"$f":"IF(SUMPRODUCT(--EXACT(K411&M411,$AJ$2:AJ410)),\"\",K411&M411)","v":""},{"$f":"IF(SUMPRODUCT(--EXACT(K411&M411,$AJ$2:AJ410)),\"\",MAX($AK$3:AK410)+1)","v":""}]
[1,{"$f":"IF(F412=\"\",\"\",IF(COUNTIF($F$3:F412, F412)>1, \"\", F412))","v":""},410,"",null,{"$f":"IF(I412=\"\",\"\",IF(K412=\"\",\"\", CONCATENATE(DIGITADOR!$M$1,G412,J412)))","v":""},null,null,"",{"$f":"IF(K412=\"\",\"\",INDEX('Otras referencias'!$AG:$AH,MATCH(K412,'Otras referencias'!$AG:$AG,0),2))","v":""},null,{"$f":"IF(J412=\"\",\"\",INDEX(referentes!$S:$W,MATCH(J412,referentes!$S:$S,0),1))","v":""},null,null,null,null,{"$f":"IF(P412=\"\",\"\",INDEX(referentes!$J:$K,MATCH(P412,referentes!$J:$J,0),2))","v":""},null,null,null,{"$f":"IF(T412=\"\",\"\",INDEX(referentes!D:E,MATCH(T412,referentes!D:D,0),2))","v":""},null,{"$f":"IF(V412=\"\",\"\",INDEX('Otras referencias'!AO:AP,MATCH(V412,'Otras referencias'!AO:AO,0),2))","v":""},null,{"$f":"IF(Z412=\"\",\"\",INDEX('Otras referencias'!H:I,MATCH(Z412,'Otras referencias'!I:I,0),1))","v":""},null,null,null,{"$f":"IF(AD412=\"\",\"\",INDEX('Otras referencias'!K:L,MATCH(AD412,'Otras referencias'!L:L,0),1))","v":""},null,"---",null,null,null,{"$f":"IF(V412=\"\",\"\",INDEX('Otras referencias'!AO:AQ,MATCH(V412,'Otras referencias'!AO:AO,0),3))","v":""},{"$f":"IF(SUMPRODUCT(--EXACT(K412&M412,$AJ$2:AJ411)),\"\",K412&M412)","v":""},{"$f":"IF(SUMPRODUCT(--EXACT(K412&M412,$AJ$2:AJ411)),\"\",MAX($AK$3:AK411)+1)","v":""}]
[1,{"$f":"IF(F413=\"\",\"\",IF(COUNTIF($F$3:F413, F413)>1, \"\", F413))","v":""},411,"",null,{"$f":"IF(I413=\"\",\"\",IF(K413=\"\",\"\", CONCATENATE(DIGITADOR!$M$1,G413,J413)))","v":""},null,null,"",{"$f":"IF(K413=\"\",\"\",INDEX('Otras referencias'!$AG:$AH,MATCH(K413,'Otras referencias'!$AG:$AG,0),2))","v":""},null,{"$f":"IF(J413=\"\",\"\",INDEX(referentes!$S:$W,MATCH(J413,referentes!$S:$S,0),1))","v":""},null,null,null,null,{"$f":"IF(P413=\"\",\"\",INDEX(referentes!$J:$K,MATCH(P413,referentes!$J:$J,0),2))","v":""},null,null,null,{"$f":"IF(T413=\"\",\"\",INDEX(referentes!D:E,MATCH(T413,referentes!D:D,0),2))","v":""},null,{"$f":"IF(V413=\"\",\"\",INDEX('Otras referencias'!AO:AP,MATCH(V413,'Otras referencias'!AO:AO,0),2))","v":""},null,{"$f":"IF(Z413=\"\",\"\",INDEX('Otras referencias'!H:I,MATCH(Z413,'Otras referencias'!I:I,0),1))","v":""},null,null,null,{"$f":"IF(AD413=\"\",\"\",INDEX('Otras referencias'!K:L,MATCH(AD413,'Otras referencias'!L:L,0),1))","v":""},null,"---",null,null,null,{"$f":"IF(V413=\"\",\"\",INDEX('Otras referencias'!AO:AQ,MATCH(V413,'Otras referencias'!AO:AO,0),3))","v":""},{"$f":"IF(SUMPRODUCT(--EXACT(K413&M413,$AJ$2:AJ412)),\"\",K413&M413)","v":""},{"$f":"IF(SUMPRODUCT(--EXACT(K413&M413,$AJ$2:AJ412)),\"\",MAX($AK$3:AK412)+1)","v":""}]
[1,{"$f":"IF(F414=\"\",\"\",IF(COUNTIF($F$3:F414, F414)>1, \"\", F414))","v":""},412,"",null,{"$f":"IF(I414=\"\",\"\",IF(K414=\"\",\"\", CONCATENATE(DIGITADOR!$M$1,G414,J414)))","v":""},null,null,"",{"$f":"IF(K414=\"\",\"\",INDEX('Otras referencias'!$AG:$AH,MATCH(K414,'Otras referencias'!$AG:$AG,0),2))","v":""},null,{"$f":"IF(J414=\"\",\"\",INDEX(referentes!$S:$W,MATCH(J414,referentes!$S:$S,0),1))","v":""},null,null,null,null,{"$f":"IF(P414=\"\",\"\",INDEX(referentes!$J:$K,MATCH(P414,referentes!$J:$J,0),2))","v":""},null,null,null,{"$f":"IF(T414=\"\",\"\",INDEX(referentes!D:E,MATCH(T414,referentes!D:D,0),2))","v":""},null,{"$f":"IF(V414=\"\",\"\",INDEX('Otras referencias'!AO:AP,MATCH(V414,'Otras referencias'!AO:AO,0),2))","v":""},null,{"$f":"IF(Z414=\"\",\"\",INDEX('Otras referencias'!H:I,MATCH(Z414,'Otras referencias'!I:I,0),1))","v":""},null,null,null,{"$f":"IF(AD414=\"\",\"\",INDEX('Otras referencias'!K:L,MATCH(AD414,'Otras referencias'!L:L,0),1))","v":""},null,"---",null,null,null,{"$f":"IF(V414=\"\",\"\",INDEX('Otras referencias'!AO:AQ,MATCH(V414,'Otras referencias'!AO:AO,0),3))","v":""},{"$f":"IF(SUMPRODUCT(--EXACT(K414&M414,$AJ$2:AJ413)),\"\",K414&M414)","v":""},{"$f":"IF(SUMPRODUCT(--EXACT(K414&M414,$AJ$2:AJ413)),\"\",MAX($AK$3:AK413)+1)","v":""}]
[1,{"$f":"IF(F415=\"\",\"\",IF(COUNTIF($F$3:F415, F415)>1, \"\", F415))","v":""},413,"",null,{"$f":"IF(I415=\"\",\"\",IF(K415=\"\",\"\", CONCATENATE(DIGITADOR!$M$1,G415,J415)))","v":""},null,null,"",{"$f":"IF(K415=\"\",\"\",INDEX('Otras referencias'!$AG:$AH,MATCH(K415,'Otras referencias'!$AG:$AG,0),2))","v":""},null,{"$f":"IF(J415=\"\",\"\",INDEX(referentes!$S:$W,MATCH(J415,referentes!$S:$S,0),1))","v":""},null,null,null,null,{"$f":"IF(P415=\"\",\"\",INDEX(referentes!$J:$K,MATCH(P415,referentes!$J:$J,0),2))","v":""},null,null,null,{"$f":"IF(T415=\"\",\"\",INDEX(referentes!D:E,MATCH(T415,referentes!D:D,0),2))","v":""},null,{"$f":"IF(V415=\"\",\"\",INDEX('Otras referencias'!AO:AP,MATCH(V415,'Otras referencias'!AO:AO,0),2))","v":""},null,{"$f":"IF(Z415=\"\",\"\",INDEX('Otras referencias'!H:I,MATCH(Z415,'Otras referencias'!I:I,0),1))","v":""},null,null,null,{"$f":"IF(AD415=\"\",\"\",INDEX('Otras referencias'!K:L,MATCH(AD415,'Otras referencias'!L:L,0),1))","v":""},null,"---",null,null,null,{"$f":"IF(V415=\"\",\"\",INDEX('Otras referencias'!AO:AQ,MATCH(V415,'Otras referencias'!AO:AO,0),3))","v":""},{"$f":"IF(SUMPRODUCT(--EXACT(K415&M415,$AJ$2:AJ414)),\"\",K415&M415)","v":""},{"$f":"IF(SUMPRODUCT(--EXACT(K415&M415,$AJ$2:AJ414)),\"\",MAX($AK$3:AK414)+1)","v":""}]
[1,{"$f":"IF(F416=\"\",\"\",IF(COUNTIF($F$3:F416, F416)>1, \"\", F416))","v":""},414,"",null,{"$f":"IF(I416=\"\",\"\",IF(K416=\"\",\"\", CONCATENATE(DIGITADOR!$M$1,G416,J416)))","v":""},null,null,"",{"$f":"IF(K416=\"\",\"\",INDEX('Otras referencias'!$AG:$AH,MATCH(K416,'Otras referencias'!$AG:$AG,0),2))","v":""},null,{"$f":"IF(J416=\"\",\"\",INDEX(referentes!$S:$W,MATCH(J416,referentes!$S:$S,0),1))","v":""},null,null,null,null,{"$f":"IF(P416=\"\",\"\",INDEX(referentes!$J:$K,MATCH(P416,referentes!$J:$J,0),2))","v":""},null,null,null,{"$f":"IF(T416=\"\",\"\",INDEX(referentes!D:E,MATCH(T416,referentes!D:D,0),2))","v":""},null,{"$f":"IF(V416=\"\",\"\",INDEX('Otras referencias'!AO:AP,MATCH(V416,'Otras referencias'!AO:AO,0),2))","v":""},null,{"$f":"IF(Z416=\"\",\"\",INDEX('Otras referencias'!H:I,MATCH(Z416,'Otras referencias'!I:I,0),1))","v":""},null,null,null,{"$f":"IF(AD416=\"\",\"\",INDEX('Otras referencias'!K:L,MATCH(AD416,'Otras referencias'!L:L,0),1))","v":""},null,"---",null,null,null,{"$f":"IF(V416=\"\",\"\",INDEX('Otras referencias'!AO:AQ,MATCH(V416,'Otras referencias'!AO:AO,0),3))","v":""},{"$f":"IF(SUMPRODUCT(--EXACT(K416&M416,$AJ$2:AJ415)),\"\",K416&M416)","v":""},{"$f":"IF(SUMPRODUCT(--EXACT(K416&M416,$AJ$2:AJ415)),\"\",MAX($AK$3:AK415)+1)","v":""}]
[1,{"$f":"IF(F417=\"\",\"\",IF(COUNTIF($F$3:F417, F417)>1, \"\", F417))","v":""},415,"",null,{"$f":"IF(I417=\"\",\"\",IF(K417=\"\",\"\", CONCATENATE(DIGITADOR!$M$1,G417,J417)))","v":""},null,null,"",{"$f":"IF(K417=\"\",\"\",INDEX('Otras referencias'!$AG:$AH,MATCH(K417,'Otras referencias'!$AG:$AG,0),2))","v":""},null,{"$f":"IF(J417=\"\",\"\",INDEX(referentes!$S:$W,MATCH(J417,referentes!$S:$S,0),1))","v":""},null,null,null,null,{"$f":"IF(P417=\"\",\"\",INDEX(referentes!$J:$K,MATCH(P417,referentes!$J:$J,0),2))","v":""},null,null,null,{"$f":"IF(T417=\"\",\"\",INDEX(referentes!D:E,MATCH(T417,referentes!D:D,0),2))","v":""},null,{"$f":"IF(V417=\"\",\"\",INDEX('Otras referencias'!AO:AP,MATCH(V417,'Otras referencias'!AO:AO,0),2))","v":""},null,{"$f":"IF(Z417=\"\",\"\",INDEX('Otras referencias'!H:I,MATCH(Z417,'Otras referencias'!I:I,0),1))","v":""},null,null,null,{"$f":"IF(AD417=\"\",\"\",INDEX('Otras referencias'!K:L,MATCH(AD417,'Otras referencias'!L:L,0),1))","v":""},null,"---",null,null,null,{"$f":"IF(V417=\"\",\"\",INDEX('Otras referencias'!AO:AQ,MATCH(V417,'Otras referencias'!AO:AO,0),3))","v":""},{"$f":"IF(SUMPRODUCT(--EXACT(K417&M417,$AJ$2:AJ416)),\"\",K417&M417)","v":""},{"$f":"IF(SUMPRODUCT(--EXACT(K417&M417,$AJ$2:AJ416)),\"\",MAX($AK$3:AK416)+1)","v":""}]
[1,{"$f":"IF(F418=\"\",\"\",IF(COUNTIF($F$3:F418, F418)>1, \"\", F418))","v":""},416,"",null,{"$f":"IF(I418=\"\",\"\",IF(K418=\"\",\"\", CONCATENATE(DIGITADOR!$M$1,G418,J418)))","v":""},null,null,"",{"$f":"IF(K418=\"\",\"\",INDEX('Otras referencias'!$AG:$AH,MATCH(K418,'Otras referencias'!$AG:$AG,0),2))","v":""},null,{"$f":"IF(J418=\"\",\"\",INDEX(referentes!$S:$W,MATCH(J418,referentes!$S:$S,0),1))","v":""},null,null,null,null,{"$f":"IF(P418=\"\",\"\",INDEX(referentes!$J:$K,MATCH(P418,referentes!$J:$J,0),2))","v":""},null,null,null,{"$f":"IF(T418=\"\",\"\",INDEX(referentes!D:E,MATCH(T418,referentes!D:D,0),2))","v":""},null,{"$f":"IF(V418=\"\",\"\",INDEX('Otras referencias'!AO:AP,MATCH(V418,'Otras referencias'!AO:AO,0),2))","v":""},null,{"$f":"IF(Z418=\"\",\"\",INDEX('Otras referencias'!H:I,MATCH(Z418,'Otras referencias'!I:I,0),1))","v":""},null,null,null,{"$f":"IF(AD418=\"\",\"\",INDEX('Otras referencias'!K:L,MATCH(AD418,'Otras referencias'!L:L,0),1))","v":""},null,"---",null,null,null,{"$f":"IF(V418=\"\",\"\",INDEX('Otras referencias'!AO:AQ,MATCH(V418,'Otras referencias'!AO:AO,0),3))","v":""},{"$f":"IF(SUMPRODUCT(--EXACT(K418&M418,$AJ$2:AJ417)),\"\",K418&M418)","v":""},{"$f":"IF(SUMPRODUCT(--EXACT(K418&M418,$AJ$2:AJ417)),\"\",MAX($AK$3:AK417)+1)","v":""}]
[1,{"$f":"IF(F419=\"\",\"\",IF(COUNTIF($F$3:F419, F419)>1, \"\", F419))","v":""},417,"",null,{"$f":"IF(I419=\"\",\"\",IF(K419=\"\",\"\", CONCATENATE(DIGITADOR!$M$1,G419,J419)))","v":""},null,null,"",{"$f":"IF(K419=\"\",\"\",INDEX('Otras referencias'!$AG:$AH,MATCH(K419,'Otras referencias'!$AG:$AG,0),2))","v":""},null,{"$f":"IF(J419=\"\",\"\",INDEX(referentes!$S:$W,MATCH(J419,referentes!$S:$S,0),1))","v":""},null,null,null,null,{"$f":"IF(P419=\"\",\"\",INDEX(referentes!$J:$K,MATCH(P419,referentes!$J:$J,0),2))","v":""},null,null,null,{"$f":"IF(T419=\"\",\"\",INDEX(referentes!D:E,MATCH(T419,referentes!D:D,0),2))","v":""},null,{"$f":"IF(V419=\"\",\"\",INDEX('Otras referencias'!AO:AP,MATCH(V419,'Otras referencias'!AO:AO,0),2))","v":""},null,{"$f":"IF(Z419=\"\",\"\",INDEX('Otras referencias'!H:I,MATCH(Z419,'Otras referencias'!I:I,0),1))","v":""},null,null,null,{"$f":"IF(AD419=\"\",\"\",INDEX('Otras referencias'!K:L,MATCH(AD419,'Otras referencias'!L:L,0),1))","v":""},null,"---",null,null,null,{"$f":"IF(V419=\"\",\"\",INDEX('Otras referencias'!AO:AQ,MATCH(V419,'Otras referencias'!AO:AO,0),3))","v":""},{"$f":"IF(SUMPRODUCT(--EXACT(K419&M419,$AJ$2:AJ418)),\"\",K419&M419)","v":""},{"$f":"IF(SUMPRODUCT(--EXACT(K419&M419,$AJ$2:AJ418)),\"\",MAX($AK$3:AK418)+1)","v":""}]
[1,{"$f":"IF(F420=\"\",\"\",IF(COUNTIF($F$3:F420, F420)>1, \"\", F420))","v":""},418,"",null,{"$f":"IF(I420=\"\",\"\",IF(K420=\"\",\"\", CONCATENATE(DIGITADOR!$M$1,G420,J420)))","v":""},null,null,"",{"$f":"IF(K420=\"\",\"\",INDEX('Otras referencias'!$AG:$AH,MATCH(K420,'Otras referencias'!$AG:$AG,0),2))","v":""},null,{"$f":"IF(J420=\"\",\"\",INDEX(referentes!$S:$W,MATCH(J420,referentes!$S:$S,0),1))","v":""},null,null,null,null,{"$f":"IF(P420=\"\",\"\",INDEX(referentes!$J:$K,MATCH(P420,referentes!$J:$J,0),2))","v":""},null,null,null,{"$f":"IF(T420=\"\",\"\",INDEX(referentes!D:E,MATCH(T420,referentes!D:D,0),2))","v":""},null,{"$f":"IF(V420=\"\",\"\",INDEX('Otras referencias'!AO:AP,MATCH(V420,'Otras referencias'!AO:AO,0),2))","v":""},null,{"$f":"IF(Z420=\"\",\"\",INDEX('Otras referencias'!H:I,MATCH(Z420,'Otras referencias'!I:I,0),1))","v":""},null,null,null,{"$f":"IF(AD420=\"\",\"\",INDEX('Otras referencias'!K:L,MATCH(AD420,'Otras referencias'!L:L,0),1))","v":""},null,"---",null,null,null,{"$f":"IF(V420=\"\",\"\",INDEX('Otras referencias'!AO:AQ,MATCH(V420,'Otras referencias'!AO:AO,0),3))","v":""},{"$f":"IF(SUMPRODUCT(--EXACT(K420&M420,$AJ$2:AJ419)),\"\",K420&M420)","v":""},{"$f":"IF(SUMPRODUCT(--EXACT(K420&M420,$AJ$2:AJ419)),\"\",MAX($AK$3:AK419)+1)","v":""}]
[1,{"$f":"IF(F421=\"\",\"\",IF(COUNTIF($F$3:F421, F421)>1, \"\", F421))","v":""},419,"",null,{"$f":"IF(I421=\"\",\"\",IF(K421=\"\",\"\", CONCATENATE(DIGITADOR!$M$1,G421,J421)))","v":""},null,null,"",{"$f":"IF(K421=\"\",\"\",INDEX('Otras referencias'!$AG:$AH,MATCH(K421,'Otras referencias'!$AG:$AG,0),2))","v":""},null,{"$f":"IF(J421=\"\",\"\",INDEX(referentes!$S:$W,MATCH(J421,referentes!$S:$S,0),1))","v":""},null,null,null,null,{"$f":"IF(P421=\"\",\"\",INDEX(referentes!$J:$K,MATCH(P421,referentes!$J:$J,0),2))","v":""},null,null,null,{"$f":"IF(T421=\"\",\"\",INDEX(referentes!D:E,MATCH(T421,referentes!D:D,0),2))","v":""},null,{"$f":"IF(V421=\"\",\"\",INDEX('Otras referencias'!AO:AP,MATCH(V421,'Otras referencias'!AO:AO,0),2))","v":""},null,{"$f":"IF(Z421=\"\",\"\",INDEX('Otras referencias'!H:I,MATCH(Z421,'Otras referencias'!I:I,0),1))","v":""},null,null,null,{"$f":"IF(AD421=\"\",\"\",INDEX('Otras referencias'!K:L,MATCH(AD421,'Otras referencias'!L:L,0),1))","v":""},null,"---",null,null,null,{"$f":"IF(V421=\"\",\"\",INDEX('Otras referencias'!AO:AQ,MATCH(V421,'Otras referencias'!AO:AO,0),3))","v":""},{"$f":"IF(SUMPRODUCT(--EXACT(K421&M421,$AJ$2:AJ420)),\"\",K421&M421)","v":""},{"$f":"IF(SUMPRODUCT(--EXACT(K421&M421,$AJ$2:AJ420)),\"\",MAX($AK$3:AK420)+1)","v":""}]
[1,{"$f":"IF(F422=\"\",\"\",IF(COUNTIF($F$3:F422, F422)>1, \"\", F422))","v":""},420,"",null,{"$f":"IF(I422=\"\",\"\",IF(K422=\"\",\"\", CONCATENATE(DIGITADOR!$M$1,G422,J422)))","v":""},null,null,"",{"$f":"IF(K422=\"\",\"\",INDEX('Otras referencias'!$AG:$AH,MATCH(K422,'Otras referencias'!$AG:$AG,0),2))","v":""},null,{"$f":"IF(J422=\"\",\"\",INDEX(referentes!$S:$W,MATCH(J422,referentes!$S:$S,0),1))","v":""},null,null,null,null,{"$f":"IF(P422=\"\",\"\",INDEX(referentes!$J:$K,MATCH(P422,referentes!$J:$J,0),2))","v":""},null,null,null,{"$f":"IF(T422=\"\",\"\",INDEX(referentes!D:E,MATCH(T422,referentes!D:D,0),2))","v":""},null,{"$f":"IF(V422=\"\",\"\",INDEX('Otras referencias'!AO:AP,MATCH(V422,'Otras referencias'!AO:AO,0),2))","v":""},null,{"$f":"IF(Z422=\"\",\"\",INDEX('Otras referencias'!H:I,MATCH(Z422,'Otras referencias'!I:I,0),1))","v":""},null,null,null,{"$f":"IF(AD422=\"\",\"\",INDEX('Otras referencias'!K:L,MATCH(AD422,'Otras referencias'!L:L,0),1))","v":""},null,"---",null,null,null,{"$f":"IF(V422=\"\",\"\",INDEX('Otras referencias'!AO:AQ,MATCH(V422,'Otras referencias'!AO:AO,0),3))","v":""},{"$f":"IF(SUMPRODUCT(--EXACT(K422&M422,$AJ$2:AJ421)),\"\",K422&M422)","v":""},{"$f":"IF(SUMPRODUCT(--EXACT(K422&M422,$AJ$2:AJ421)),\"\",MAX($AK$3:AK421)+1)","v":""}]
[1,{"$f":"IF(F423=\"\",\"\",IF(COUNTIF($F$3:F423, F423)>1, \"\", F423))","v":""},421,"",null,{"$f":"IF(I423=\"\",\"\",IF(K423=\"\",\"\", CONCATENATE(DIGITADOR!$M$1,G423,J423)))","v":""},null,null,"",{"$f":"IF(K423=\"\",\"\",INDEX('Otras referencias'!$AG:$AH,MATCH(K423,'Otras referencias'!$AG:$AG,0),2))","v":""},null,{"$f":"IF(J423=\"\",\"\",INDEX(referentes!$S:$W,MATCH(J423,referentes!$S:$S,0),1))","v":""},null,null,null,null,{"$f":"IF(P423=\"\",\"\",INDEX(referentes!$J:$K,MATCH(P423,referentes!$J:$J,0),2))","v":""},null,null,null,{"$f":"IF(T423=\"\",\"\",INDEX(referentes!D:E,MATCH(T423,referentes!D:D,0),2))","v":""},null,{"$f":"IF(V423=\"\",\"\",INDEX('Otras referencias'!AO:AP,MATCH(V423,'Otras referencias'!AO:AO,0),2))","v":""},null,{"$f":"IF(Z423=\"\",\"\",INDEX('Otras referencias'!H:I,MATCH(Z423,'Otras referencias'!I:I,0),1))","v":""},null,null,null,{"$f":"IF(AD423=\"\",\"\",INDEX('Otras referencias'!K:L,MATCH(AD423,'Otras referencias'!L:L,0),1))","v":""},null,"---",null,null,null,{"$f":"IF(V423=\"\",\"\",INDEX('Otras referencias'!AO:AQ,MATCH(V423,'Otras referencias'!AO:AO,0),3))","v":""},{"$f":"IF(SUMPRODUCT(--EXACT(K423&M423,$AJ$2:AJ422)),\"\",K423&M423)","v":""},{"$f":"IF(SUMPRODUCT(--EXACT(K423&M423,$AJ$2:AJ422)),\"\",MAX($AK$3:AK422)+1)","v":""}]
[1,{"$f":"IF(F424=\"\",\"\",IF(COUNTIF($F$3:F424, F424)>1, \"\", F424))","v":""},422,"",null,{"$f":"IF(I424=\"\",\"\",IF(K424=\"\",\"\", CONCATENATE(DIGITADOR!$M$1,G424,J424)))","v":""},null,null,"",{"$f":"IF(K424=\"\",\"\",INDEX('Otras referencias'!$AG:$AH,MATCH(K424,'Otras referencias'!$AG:$AG,0),2))","v":""},null,{"$f":"IF(J424=\"\",\"\",INDEX(referentes!$S:$W,MATCH(J424,referentes!$S:$S,0),1))","v":""},null,null,null,null,{"$f":"IF(P424=\"\",\"\",INDEX(referentes!$J:$K,MATCH(P424,referentes!$J:$J,0),2))","v":""},null,null,null,{"$f":"IF(T424=\"\",\"\",INDEX(referentes!D:E,MATCH(T424,referentes!D:D,0),2))","v":""},null,{"$f":"IF(V424=\"\",\"\",INDEX('Otras referencias'!AO:AP,MATCH(V424,'Otras referencias'!AO:AO,0),2))","v":""},null,{"$f":"IF(Z424=\"\",\"\",INDEX('Otras referencias'!H:I,MATCH(Z424,'Otras referencias'!I:I,0),1))","v":""},null,null,null,{"$f":"IF(AD424=\"\",\"\",INDEX('Otras referencias'!K:L,MATCH(AD424,'Otras referencias'!L:L,0),1))","v":""},null,"---",null,null,null,{"$f":"IF(V424=\"\",\"\",INDEX('Otras referencias'!AO:AQ,MATCH(V424,'Otras referencias'!AO:AO,0),3))","v":""},{"$f":"IF(SUMPRODUCT(--EXACT(K424&M424,$AJ$2:AJ423)),\"\",K424&M424)","v":""},{"$f":"IF(SUMPRODUCT(--EXACT(K424&M424,$AJ$2:AJ423)),\"\",MAX($AK$3:AK423)+1)","v":""}]
[1,{"$f":"IF(F425=\"\",\"\",IF(COUNTIF($F$3:F425, F425)>1, \"\", F425))","v":""},423,"",null,{"$f":"IF(I425=\"\",\"\",IF(K425=\"\",\"\", CONCATENATE(DIGITADOR!$M$1,G425,J425)))","v":""},null,null,"",{"$f":"IF(K425=\"\",\"\",INDEX('Otras referencias'!$AG:$AH,MATCH(K425,'Otras referencias'!$AG:$AG,0),2))","v":""},null,{"$f":"IF(J425=\"\",\"\",INDEX(referentes!$S:$W,MATCH(J425,referentes!$S:$S,0),1))","v":""},null,null,null,null,{"$f":"IF(P425=\"\",\"\",INDEX(referentes!$J:$K,MATCH(P425,referentes!$J:$J,0),2))","v":""},null,null,null,{"$f":"IF(T425=\"\",\"\",INDEX(referentes!D:E,MATCH(T425,referentes!D:D,0),2))","v":""},null,{"$f":"IF(V425=\"\",\"\",INDEX('Otras referencias'!AO:AP,MATCH(V425,'Otras referencias'!AO:AO,0),2))","v":""},null,{"$f":"IF(Z425=\"\",\"\",INDEX('Otras referencias'!H:I,MATCH(Z425,'Otras referencias'!I:I,0),1))","v":""},null,null,null,{"$f":"IF(AD425=\"\",\"\",INDEX('Otras referencias'!K:L,MATCH(AD425,'Otras referencias'!L:L,0),1))","v":""},null,"---",null,null,null,{"$f":"IF(V425=\"\",\"\",INDEX('Otras referencias'!AO:AQ,MATCH(V425,'Otras referencias'!AO:AO,0),3))","v":""},{"$f":"IF(SUMPRODUCT(--EXACT(K425&M425,$AJ$2:AJ424)),\"\",K425&M425)","v":""},{"$f":"IF(SUMPRODUCT(--EXACT(K425&M425,$AJ$2:AJ424)),\"\",MAX($AK$3:AK424)+1)","v":""}]
[1,{"$f":"IF(F426=\"\",\"\",IF(COUNTIF($F$3:F426, F426)>1, \"\", F426))","v":""},424,"",null,{"$f":"IF(I426=\"\",\"\",IF(K426=\"\",\"\", CONCATENATE(DIGITADOR!$M$1,G426,J426)))","v":""},null,null,"",{"$f":"IF(K426=\"\",\"\",INDEX('Otras referencias'!$AG:$AH,MATCH(K426,'Otras referencias'!$AG:$AG,0),2))","v":""},null,{"$f":"IF(J426=\"\",\"\",INDEX(referentes!$S:$W,MATCH(J426,referentes!$S:$S,0),1))","v":""},null,null,null,null,{"$f":"IF(P426=\"\",\"\",INDEX(referentes!$J:$K,MATCH(P426,referentes!$J:$J,0),2))","v":""},null,null,null,{"$f":"IF(T426=\"\",\"\",INDEX(referentes!D:E,MATCH(T426,referentes!D:D,0),2))","v":""},null,{"$f":"IF(V426=\"\",\"\",INDEX('Otras referencias'!AO:AP,MATCH(V426,'Otras referencias'!AO:AO,0),2))","v":""},null,{"$f":"IF(Z426=\"\",\"\",INDEX('Otras referencias'!H:I,MATCH(Z426,'Otras referencias'!I:I,0),1))","v":""},null,null,null,{"$f":"IF(AD426=\"\",\"\",INDEX('Otras referencias'!K:L,MATCH(AD426,'Otras referencias'!L:L,0),1))","v":""},null,"---",null,null,null,{"$f":"IF(V426=\"\",\"\",INDEX('Otras referencias'!AO:AQ,MATCH(V426,'Otras referencias'!AO:AO,0),3))","v":""},{"$f":"IF(SUMPRODUCT(--EXACT(K426&M426,$AJ$2:AJ425)),\"\",K426&M426)","v":""},{"$f":"IF(SUMPRODUCT(--EXACT(K426&M426,$AJ$2:AJ425)),\"\",MAX($AK$3:AK425)+1)","v":""}]
[1,{"$f":"IF(F427=\"\",\"\",IF(COUNTIF($F$3:F427, F427)>1, \"\", F427))","v":""},425,"",null,{"$f":"IF(I427=\"\",\"\",IF(K427=\"\",\"\", CONCATENATE(DIGITADOR!$M$1,G427,J427)))","v":""},null,null,"",{"$f":"IF(K427=\"\",\"\",INDEX('Otras referencias'!$AG:$AH,MATCH(K427,'Otras referencias'!$AG:$AG,0),2))","v":""},null,{"$f":"IF(J427=\"\",\"\",INDEX(referentes!$S:$W,MATCH(J427,referentes!$S:$S,0),1))","v":""},null,null,null,null,{"$f":"IF(P427=\"\",\"\",INDEX(referentes!$J:$K,MATCH(P427,referentes!$J:$J,0),2))","v":""},null,null,null,{"$f":"IF(T427=\"\",\"\",INDEX(referentes!D:E,MATCH(T427,referentes!D:D,0),2))","v":""},null,{"$f":"IF(V427=\"\",\"\",INDEX('Otras referencias'!AO:AP,MATCH(V427,'Otras referencias'!AO:AO,0),2))","v":""},null,{"$f":"IF(Z427=\"\",\"\",INDEX('Otras referencias'!H:I,MATCH(Z427,'Otras referencias'!I:I,0),1))","v":""},null,null,null,{"$f":"IF(AD427=\"\",\"\",INDEX('Otras referencias'!K:L,MATCH(AD427,'Otras referencias'!L:L,0),1))","v":""},null,"---",null,null,null,{"$f":"IF(V427=\"\",\"\",INDEX('Otras referencias'!AO:AQ,MATCH(V427,'Otras referencias'!AO:AO,0),3))","v":""},{"$f":"IF(SUMPRODUCT(--EXACT(K427&M427,$AJ$2:AJ426)),\"\",K427&M427)","v":""},{"$f":"IF(SUMPRODUCT(--EXACT(K427&M427,$AJ$2:AJ426)),\"\",MAX($AK$3:AK426)+1)","v":""}]
[1,{"$f":"IF(F428=\"\",\"\",IF(COUNTIF($F$3:F428, F428)>1, \"\", F428))","v":""},426,"",null,{"$f":"IF(I428=\"\",\"\",IF(K428=\"\",\"\", CONCATENATE(DIGITADOR!$M$1,G428,J428)))","v":""},null,null,"",{"$f":"IF(K428=\"\",\"\",INDEX('Otras referencias'!$AG:$AH,MATCH(K428,'Otras referencias'!$AG:$AG,0),2))","v":""},null,{"$f":"IF(J428=\"\",\"\",INDEX(referentes!$S:$W,MATCH(J428,referentes!$S:$S,0),1))","v":""},null,null,null,null,{"$f":"IF(P428=\"\",\"\",INDEX(referentes!$J:$K,MATCH(P428,referentes!$J:$J,0),2))","v":""},null,null,null,{"$f":"IF(T428=\"\",\"\",INDEX(referentes!D:E,MATCH(T428,referentes!D:D,0),2))","v":""},null,{"$f":"IF(V428=\"\",\"\",INDEX('Otras referencias'!AO:AP,MATCH(V428,'Otras referencias'!AO:AO,0),2))","v":""},null,{"$f":"IF(Z428=\"\",\"\",INDEX('Otras referencias'!H:I,MATCH(Z428,'Otras referencias'!I:I,0),1))","v":""},null,null,null,{"$f":"IF(AD428=\"\",\"\",INDEX('Otras referencias'!K:L,MATCH(AD428,'Otras referencias'!L:L,0),1))","v":""},null,"---",null,null,null,{"$f":"IF(V428=\"\",\"\",INDEX('Otras referencias'!AO:AQ,MATCH(V428,'Otras referencias'!AO:AO,0),3))","v":""},{"$f":"IF(SUMPRODUCT(--EXACT(K428&M428,$AJ$2:AJ427)),\"\",K428&M428)","v":""},{"$f":"IF(SUMPRODUCT(--EXACT(K428&M428,$AJ$2:AJ427)),\"\",MAX($AK$3:AK427)+1)","v":""}]
[1,{"$f":"IF(F429=\"\",\"\",IF(COUNTIF($F$3:F429, F429)>1, \"\", F429))","v":""},427,"",null,{"$f":"IF(I429=\"\",\"\",IF(K429=\"\",\"\", CONCATENATE(DIGITADOR!$M$1,G429,J429)))","v":""},null,null,"",{"$f":"IF(K429=\"\",\"\",INDEX('Otras referencias'!$AG:$AH,MATCH(K429,'Otras referencias'!$AG:$AG,0),2))","v":""},null,{"$f":"IF(J429=\"\",\"\",INDEX(referentes!$S:$W,MATCH(J429,referentes!$S:$S,0),1))","v":""},null,null,null,null,{"$f":"IF(P429=\"\",\"\",INDEX(referentes!$J:$K,MATCH(P429,referentes!$J:$J,0),2))","v":""},null,null,null,{"$f":"IF(T429=\"\",\"\",INDEX(referentes!D:E,MATCH(T429,referentes!D:D,0),2))","v":""},null,{"$f":"IF(V429=\"\",\"\",INDEX('Otras referencias'!AO:AP,MATCH(V429,'Otras referencias'!AO:AO,0),2))","v":""},null,{"$f":"IF(Z429=\"\",\"\",INDEX('Otras referencias'!H:I,MATCH(Z429,'Otras referencias'!I:I,0),1))","v":""},null,null,null,{"$f":"IF(AD429=\"\",\"\",INDEX('Otras referencias'!K:L,MATCH(AD429,'Otras referencias'!L:L,0),1))","v":""},null,"---",null,null,null,{"$f":"IF(V429=\"\",\"\",INDEX('Otras referencias'!AO:AQ,MATCH(V429,'Otras referencias'!AO:AO,0),3))","v":""},{"$f":"IF(SUMPRODUCT(--EXACT(K429&M429,$AJ$2:AJ428)),\"\",K429&M429)","v":""},{"$f":"IF(SUMPRODUCT(--EXACT(K429&M429,$AJ$2:AJ428)),\"\",MAX($AK$3:AK428)+1)","v":""}]
[1,{"$f":"IF(F430=\"\",\"\",IF(COUNTIF($F$3:F430, F430)>1, \"\", F430))","v":""},428,"",null,{"$f":"IF(I430=\"\",\"\",IF(K430=\"\",\"\", CONCATENATE(DIGITADOR!$M$1,G430,J430)))","v":""},null,null,"",{"$f":"IF(K430=\"\",\"\",INDEX('Otras referencias'!$AG:$AH,MATCH(K430,'Otras referencias'!$AG:$AG,0),2))","v":""},null,{"$f":"IF(J430=\"\",\"\",INDEX(referentes!$S:$W,MATCH(J430,referentes!$S:$S,0),1))","v":""},null,null,null,null,{"$f":"IF(P430=\"\",\"\",INDEX(referentes!$J:$K,MATCH(P430,referentes!$J:$J,0),2))","v":""},null,null,null,{"$f":"IF(T430=\"\",\"\",INDEX(referentes!D:E,MATCH(T430,referentes!D:D,0),2))","v":""},null,{"$f":"IF(V430=\"\",\"\",INDEX('Otras referencias'!AO:AP,MATCH(V430,'Otras referencias'!AO:AO,0),2))","v":""},null,{"$f":"IF(Z430=\"\",\"\",INDEX('Otras referencias'!H:I,MATCH(Z430,'Otras referencias'!I:I,0),1))","v":""},null,null,null,{"$f":"IF(AD430=\"\",\"\",INDEX('Otras referencias'!K:L,MATCH(AD430,'Otras referencias'!L:L,0),1))","v":""},null,"---",null,null,null,{"$f":"IF(V430=\"\",\"\",INDEX('Otras referencias'!AO:AQ,MATCH(V430,'Otras referencias'!AO:AO,0),3))","v":""},{"$f":"IF(SUMPRODUCT(--EXACT(K430&M430,$AJ$2:AJ429)),\"\",K430&M430)","v":""},{"$f":"IF(SUMPRODUCT(--EXACT(K430&M430,$AJ$2:AJ429)),\"\",MAX($AK$3:AK429)+1)","v":""}]
[1,{"$f":"IF(F431=\"\",\"\",IF(COUNTIF($F$3:F431, F431)>1, \"\", F431))","v":""},429,"",null,{"$f":"IF(I431=\"\",\"\",IF(K431=\"\",\"\", CONCATENATE(DIGITADOR!$M$1,G431,J431)))","v":""},null,null,"",{"$f":"IF(K431=\"\",\"\",INDEX('Otras referencias'!$AG:$AH,MATCH(K431,'Otras referencias'!$AG:$AG,0),2))","v":""},null,{"$f":"IF(J431=\"\",\"\",INDEX(referentes!$S:$W,MATCH(J431,referentes!$S:$S,0),1))","v":""},null,null,null,null,{"$f":"IF(P431=\"\",\"\",INDEX(referentes!$J:$K,MATCH(P431,referentes!$J:$J,0),2))","v":""},null,null,null,{"$f":"IF(T431=\"\",\"\",INDEX(referentes!D:E,MATCH(T431,referentes!D:D,0),2))","v":""},null,{"$f":"IF(V431=\"\",\"\",INDEX('Otras referencias'!AO:AP,MATCH(V431,'Otras referencias'!AO:AO,0),2))","v":""},null,{"$f":"IF(Z431=\"\",\"\",INDEX('Otras referencias'!H:I,MATCH(Z431,'Otras referencias'!I:I,0),1))","v":""},null,null,null,{"$f":"IF(AD431=\"\",\"\",INDEX('Otras referencias'!K:L,MATCH(AD431,'Otras referencias'!L:L,0),1))","v":""},null,"---",null,null,null,{"$f":"IF(V431=\"\",\"\",INDEX('Otras referencias'!AO:AQ,MATCH(V431,'Otras referencias'!AO:AO,0),3))","v":""},{"$f":"IF(SUMPRODUCT(--EXACT(K431&M431,$AJ$2:AJ430)),\"\",K431&M431)","v":""},{"$f":"IF(SUMPRODUCT(--EXACT(K431&M431,$AJ$2:AJ430)),\"\",MAX($AK$3:AK430)+1)","v":""}]
[1,{"$f":"IF(F432=\"\",\"\",IF(COUNTIF($F$3:F432, F432)>1, \"\", F432))","v":""},430,"",null,{"$f":"IF(I432=\"\",\"\",IF(K432=\"\",\"\", CONCATENATE(DIGITADOR!$M$1,G432,J432)))","v":""},null,null,"",{"$f":"IF(K432=\"\",\"\",INDEX('Otras referencias'!$AG:$AH,MATCH(K432,'Otras referencias'!$AG:$AG,0),2))","v":""},null,{"$f":"IF(J432=\"\",\"\",INDEX(referentes!$S:$W,MATCH(J432,referentes!$S:$S,0),1))","v":""},null,null,null,null,{"$f":"IF(P432=\"\",\"\",INDEX(referentes!$J:$K,MATCH(P432,referentes!$J:$J,0),2))","v":""},null,null,null,{"$f":"IF(T432=\"\",\"\",INDEX(referentes!D:E,MATCH(T432,referentes!D:D,0),2))","v":""},null,{"$f":"IF(V432=\"\",\"\",INDEX('Otras referencias'!AO:AP,MATCH(V432,'Otras referencias'!AO:AO,0),2))","v":""},null,{"$f":"IF(Z432=\"\",\"\",INDEX('Otras referencias'!H:I,MATCH(Z432,'Otras referencias'!I:I,0),1))","v":""},null,null,null,{"$f":"IF(AD432=\"\",\"\",INDEX('Otras referencias'!K:L,MATCH(AD432,'Otras referencias'!L:L,0),1))","v":""},null,"---",null,null,null,{"$f":"IF(V432=\"\",\"\",INDEX('Otras referencias'!AO:AQ,MATCH(V432,'Otras referencias'!AO:AO,0),3))","v":""},{"$f":"IF(SUMPRODUCT(--EXACT(K432&M432,$AJ$2:AJ431)),\"\",K432&M432)","v":""},{"$f":"IF(SUMPRODUCT(--EXACT(K432&M432,$AJ$2:AJ431)),\"\",MAX($AK$3:AK431)+1)","v":""}]
[1,{"$f":"IF(F433=\"\",\"\",IF(COUNTIF($F$3:F433, F433)>1, \"\", F433))","v":""},431,"",null,{"$f":"IF(I433=\"\",\"\",IF(K433=\"\",\"\", CONCATENATE(DIGITADOR!$M$1,G433,J433)))","v":""},null,null,"",{"$f":"IF(K433=\"\",\"\",INDEX('Otras referencias'!$AG:$AH,MATCH(K433,'Otras referencias'!$AG:$AG,0),2))","v":""},null,{"$f":"IF(J433=\"\",\"\",INDEX(referentes!$S:$W,MATCH(J433,referentes!$S:$S,0),1))","v":""},null,null,null,null,{"$f":"IF(P433=\"\",\"\",INDEX(referentes!$J:$K,MATCH(P433,referentes!$J:$J,0),2))","v":""},null,null,null,{"$f":"IF(T433=\"\",\"\",INDEX(referentes!D:E,MATCH(T433,referentes!D:D,0),2))","v":""},null,{"$f":"IF(V433=\"\",\"\",INDEX('Otras referencias'!AO:AP,MATCH(V433,'Otras referencias'!AO:AO,0),2))","v":""},null,{"$f":"IF(Z433=\"\",\"\",INDEX('Otras referencias'!H:I,MATCH(Z433,'Otras referencias'!I:I,0),1))","v":""},null,null,null,{"$f":"IF(AD433=\"\",\"\",INDEX('Otras referencias'!K:L,MATCH(AD433,'Otras referencias'!L:L,0),1))","v":""},null,"---",null,null,null,{"$f":"IF(V433=\"\",\"\",INDEX('Otras referencias'!AO:AQ,MATCH(V433,'Otras referencias'!AO:AO,0),3))","v":""},{"$f":"IF(SUMPRODUCT(--EXACT(K433&M433,$AJ$2:AJ432)),\"\",K433&M433)","v":""},{"$f":"IF(SUMPRODUCT(--EXACT(K433&M433,$AJ$2:AJ432)),\"\",MAX($AK$3:AK432)+1)","v":""}]
[1,{"$f":"IF(F434=\"\",\"\",IF(COUNTIF($F$3:F434, F434)>1, \"\", F434))","v":""},432,"",null,{"$f":"IF(I434=\"\",\"\",IF(K434=\"\",\"\", CONCATENATE(DIGITADOR!$M$1,G434,J434)))","v":""},null,null,"",{"$f":"IF(K434=\"\",\"\",INDEX('Otras referencias'!$AG:$AH,MATCH(K434,'Otras referencias'!$AG:$AG,0),2))","v":""},null,{"$f":"IF(J434=\"\",\"\",INDEX(referentes!$S:$W,MATCH(J434,referentes!$S:$S,0),1))","v":""},null,null,null,null,{"$f":"IF(P434=\"\",\"\",INDEX(referentes!$J:$K,MATCH(P434,referentes!$J:$J,0),2))","v":""},null,null,null,{"$f":"IF(T434=\"\",\"\",INDEX(referentes!D:E,MATCH(T434,referentes!D:D,0),2))","v":""},null,{"$f":"IF(V434=\"\",\"\",INDEX('Otras referencias'!AO:AP,MATCH(V434,'Otras referencias'!AO:AO,0),2))","v":""},null,{"$f":"IF(Z434=\"\",\"\",INDEX('Otras referencias'!H:I,MATCH(Z434,'Otras referencias'!I:I,0),1))","v":""},null,null,null,{"$f":"IF(AD434=\"\",\"\",INDEX('Otras referencias'!K:L,MATCH(AD434,'Otras referencias'!L:L,0),1))","v":""},null,"---",null,null,null,{"$f":"IF(V434=\"\",\"\",INDEX('Otras referencias'!AO:AQ,MATCH(V434,'Otras referencias'!AO:AO,0),3))","v":""},{"$f":"IF(SUMPRODUCT(--EXACT(K434&M434,$AJ$2:AJ433)),\"\",K434&M434)","v":""},{"$f":"IF(SUMPRODUCT(--EXACT(K434&M434,$AJ$2:AJ433)),\"\",MAX($AK$3:AK433)+1)","v":""}]
[1,{"$f":"IF(F435=\"\",\"\",IF(COUNTIF($F$3:F435, F435)>1, \"\", F435))","v":""},433,"",null,{"$f":"IF(I435=\"\",\"\",IF(K435=\"\",\"\", CONCATENATE(DIGITADOR!$M$1,G435,J435)))","v":""},null,null,"",{"$f":"IF(K435=\"\",\"\",INDEX('Otras referencias'!$AG:$AH,MATCH(K435,'Otras referencias'!$AG:$AG,0),2))","v":""},null,{"$f":"IF(J435=\"\",\"\",INDEX(referentes!$S:$W,MATCH(J435,referentes!$S:$S,0),1))","v":""},null,null,null,null,{"$f":"IF(P435=\"\",\"\",INDEX(referentes!$J:$K,MATCH(P435,referentes!$J:$J,0),2))","v":""},null,null,null,{"$f":"IF(T435=\"\",\"\",INDEX(referentes!D:E,MATCH(T435,referentes!D:D,0),2))","v":""},null,{"$f":"IF(V435=\"\",\"\",INDEX('Otras referencias'!AO:AP,MATCH(V435,'Otras referencias'!AO:AO,0),2))","v":""},null,{"$f":"IF(Z435=\"\",\"\",INDEX('Otras referencias'!H:I,MATCH(Z435,'Otras referencias'!I:I,0),1))","v":""},null,null,null,{"$f":"IF(AD435=\"\",\"\",INDEX('Otras referencias'!K:L,MATCH(AD435,'Otras referencias'!L:L,0),1))","v":""},null,"---",null,null,null,{"$f":"IF(V435=\"\",\"\",INDEX('Otras referencias'!AO:AQ,MATCH(V435,'Otras referencias'!AO:AO,0),3))","v":""},{"$f":"IF(SUMPRODUCT(--EXACT(K435&M435,$AJ$2:AJ434)),\"\",K435&M435)","v":""},{"$f":"IF(SUMPRODUCT(--EXACT(K435&M435,$AJ$2:AJ434)),\"\",MAX($AK$3:AK434)+1)","v":""}]
[1,{"$f":"IF(F436=\"\",\"\",IF(COUNTIF($F$3:F436, F436)>1, \"\", F436))","v":""},434,"",null,{"$f":"IF(I436=\"\",\"\",IF(K436=\"\",\"\", CONCATENATE(DIGITADOR!$M$1,G436,J436)))","v":""},null,null,"",{"$f":"IF(K436=\"\",\"\",INDEX('Otras referencias'!$AG:$AH,MATCH(K436,'Otras referencias'!$AG:$AG,0),2))","v":""},null,{"$f":"IF(J436=\"\",\"\",INDEX(referentes!$S:$W,MATCH(J436,referentes!$S:$S,0),1))","v":""},null,null,null,null,{"$f":"IF(P436=\"\",\"\",INDEX(referentes!$J:$K,MATCH(P436,referentes!$J:$J,0),2))","v":""},null,null,null,{"$f":"IF(T436=\"\",\"\",INDEX(referentes!D:E,MATCH(T436,referentes!D:D,0),2))","v":""},null,{"$f":"IF(V436=\"\",\"\",INDEX('Otras referencias'!AO:AP,MATCH(V436,'Otras referencias'!AO:AO,0),2))","v":""},null,{"$f":"IF(Z436=\"\",\"\",INDEX('Otras referencias'!H:I,MATCH(Z436,'Otras referencias'!I:I,0),1))","v":""},null,null,null,{"$f":"IF(AD436=\"\",\"\",INDEX('Otras referencias'!K:L,MATCH(AD436,'Otras referencias'!L:L,0),1))","v":""},null,"---",null,null,null,{"$f":"IF(V436=\"\",\"\",INDEX('Otras referencias'!AO:AQ,MATCH(V436,'Otras referencias'!AO:AO,0),3))","v":""},{"$f":"IF(SUMPRODUCT(--EXACT(K436&M436,$AJ$2:AJ435)),\"\",K436&M436)","v":""},{"$f":"IF(SUMPRODUCT(--EXACT(K436&M436,$AJ$2:AJ435)),\"\",MAX($AK$3:AK435)+1)","v":""}]
[1,{"$f":"IF(F437=\"\",\"\",IF(COUNTIF($F$3:F437, F437)>1, \"\", F437))","v":""},435,"",null,{"$f":"IF(I437=\"\",\"\",IF(K437=\"\",\"\", CONCATENATE(DIGITADOR!$M$1,G437,J437)))","v":""},null,null,"",{"$f":"IF(K437=\"\",\"\",INDEX('Otras referencias'!$AG:$AH,MATCH(K437,'Otras referencias'!$AG:$AG,0),2))","v":""},null,{"$f":"IF(J437=\"\",\"\",INDEX(referentes!$S:$W,MATCH(J437,referentes!$S:$S,0),1))","v":""},null,null,null,null,{"$f":"IF(P437=\"\",\"\",INDEX(referentes!$J:$K,MATCH(P437,referentes!$J:$J,0),2))","v":""},null,null,null,{"$f":"IF(T437=\"\",\"\",INDEX(referentes!D:E,MATCH(T437,referentes!D:D,0),2))","v":""},null,{"$f":"IF(V437=\"\",\"\",INDEX('Otras referencias'!AO:AP,MATCH(V437,'Otras referencias'!AO:AO,0),2))","v":""},null,{"$f":"IF(Z437=\"\",\"\",INDEX('Otras referencias'!H:I,MATCH(Z437,'Otras referencias'!I:I,0),1))","v":""},null,null,null,{"$f":"IF(AD437=\"\",\"\",INDEX('Otras referencias'!K:L,MATCH(AD437,'Otras referencias'!L:L,0),1))","v":""},null,"---",null,null,null,{"$f":"IF(V437=\"\",\"\",INDEX('Otras referencias'!AO:AQ,MATCH(V437,'Otras referencias'!AO:AO,0),3))","v":""},{"$f":"IF(SUMPRODUCT(--EXACT(K437&M437,$AJ$2:AJ436)),\"\",K437&M437)","v":""},{"$f":"IF(SUMPRODUCT(--EXACT(K437&M437,$AJ$2:AJ436)),\"\",MAX($AK$3:AK436)+1)","v":""}]
[1,{"$f":"IF(F438=\"\",\"\",IF(COUNTIF($F$3:F438, F438)>1, \"\", F438))","v":""},436,"",null,{"$f":"IF(I438=\"\",\"\",IF(K438=\"\",\"\", CONCATENATE(DIGITADOR!$M$1,G438,J438)))","v":""},null,null,"",{"$f":"IF(K438=\"\",\"\",INDEX('Otras referencias'!$AG:$AH,MATCH(K438,'Otras referencias'!$AG:$AG,0),2))","v":""},null,{"$f":"IF(J438=\"\",\"\",INDEX(referentes!$S:$W,MATCH(J438,referentes!$S:$S,0),1))","v":""},null,null,null,null,{"$f":"IF(P438=\"\",\"\",INDEX(referentes!$J:$K,MATCH(P438,referentes!$J:$J,0),2))","v":""},null,null,null,{"$f":"IF(T438=\"\",\"\",INDEX(referentes!D:E,MATCH(T438,referentes!D:D,0),2))","v":""},null,{"$f":"IF(V438=\"\",\"\",INDEX('Otras referencias'!AO:AP,MATCH(V438,'Otras referencias'!AO:AO,0),2))","v":""},null,{"$f":"IF(Z438=\"\",\"\",INDEX('Otras referencias'!H:I,MATCH(Z438,'Otras referencias'!I:I,0),1))","v":""},null,null,null,{"$f":"IF(AD438=\"\",\"\",INDEX('Otras referencias'!K:L,MATCH(AD438,'Otras referencias'!L:L,0),1))","v":""},null,"---",null,null,null,{"$f":"IF(V438=\"\",\"\",INDEX('Otras referencias'!AO:AQ,MATCH(V438,'Otras referencias'!AO:AO,0),3))","v":""},{"$f":"IF(SUMPRODUCT(--EXACT(K438&M438,$AJ$2:AJ437)),\"\",K438&M438)","v":""},{"$f":"IF(SUMPRODUCT(--EXACT(K438&M438,$AJ$2:AJ437)),\"\",MAX($AK$3:AK437)+1)","v":""}]
[1,{"$f":"IF(F439=\"\",\"\",IF(COUNTIF($F$3:F439, F439)>1, \"\", F439))","v":""},437,"",null,{"$f":"IF(I439=\"\",\"\",IF(K439=\"\",\"\", CONCATENATE(DIGITADOR!$M$1,G439,J439)))","v":""},null,null,"",{"$f":"IF(K439=\"\",\"\",INDEX('Otras referencias'!$AG:$AH,MATCH(K439,'Otras referencias'!$AG:$AG,0),2))","v":""},null,{"$f":"IF(J439=\"\",\"\",INDEX(referentes!$S:$W,MATCH(J439,referentes!$S:$S,0),1))","v":""},null,null,null,null,{"$f":"IF(P439=\"\",\"\",INDEX(referentes!$J:$K,MATCH(P439,referentes!$J:$J,0),2))","v":""},null,null,null,{"$f":"IF(T439=\"\",\"\",INDEX(referentes!D:E,MATCH(T439,referentes!D:D,0),2))","v":""},null,{"$f":"IF(V439=\"\",\"\",INDEX('Otras referencias'!AO:AP,MATCH(V439,'Otras referencias'!AO:AO,0),2))","v":""},null,{"$f":"IF(Z439=\"\",\"\",INDEX('Otras referencias'!H:I,MATCH(Z439,'Otras referencias'!I:I,0),1))","v":""},null,null,null,{"$f":"IF(AD439=\"\",\"\",INDEX('Otras referencias'!K:L,MATCH(AD439,'Otras referencias'!L:L,0),1))","v":""},null,"---",null,null,null,{"$f":"IF(V439=\"\",\"\",INDEX('Otras referencias'!AO:AQ,MATCH(V439,'Otras referencias'!AO:AO,0),3))","v":""},{"$f":"IF(SUMPRODUCT(--EXACT(K439&M439,$AJ$2:AJ438)),\"\",K439&M439)","v":""},{"$f":"IF(SUMPRODUCT(--EXACT(K439&M439,$AJ$2:AJ438)),\"\",MAX($AK$3:AK438)+1)","v":""}]
[1,{"$f":"IF(F440=\"\",\"\",IF(COUNTIF($F$3:F440, F440)>1, \"\", F440))","v":""},438,"",null,{"$f":"IF(I440=\"\",\"\",IF(K440=\"\",\"\", CONCATENATE(DIGITADOR!$M$1,G440,J440)))","v":""},null,null,"",{"$f":"IF(K440=\"\",\"\",INDEX('Otras referencias'!$AG:$AH,MATCH(K440,'Otras referencias'!$AG:$AG,0),2))","v":""},null,{"$f":"IF(J440=\"\",\"\",INDEX(referentes!$S:$W,MATCH(J440,referentes!$S:$S,0),1))","v":""},null,null,null,null,{"$f":"IF(P440=\"\",\"\",INDEX(referentes!$J:$K,MATCH(P440,referentes!$J:$J,0),2))","v":""},null,null,null,{"$f":"IF(T440=\"\",\"\",INDEX(referentes!D:E,MATCH(T440,referentes!D:D,0),2))","v":""},null,{"$f":"IF(V440=\"\",\"\",INDEX('Otras referencias'!AO:AP,MATCH(V440,'Otras referencias'!AO:AO,0),2))","v":""},null,{"$f":"IF(Z440=\"\",\"\",INDEX('Otras referencias'!H:I,MATCH(Z440,'Otras referencias'!I:I,0),1))","v":""},null,null,null,{"$f":"IF(AD440=\"\",\"\",INDEX('Otras referencias'!K:L,MATCH(AD440,'Otras referencias'!L:L,0),1))","v":""},null,"---",null,null,null,{"$f":"IF(V440=\"\",\"\",INDEX('Otras referencias'!AO:AQ,MATCH(V440,'Otras referencias'!AO:AO,0),3))","v":""},{"$f":"IF(SUMPRODUCT(--EXACT(K440&M440,$AJ$2:AJ439)),\"\",K440&M440)","v":""},{"$f":"IF(SUMPRODUCT(--EXACT(K440&M440,$AJ$2:AJ439)),\"\",MAX($AK$3:AK439)+1)","v":""}]
[1,{"$f":"IF(F441=\"\",\"\",IF(COUNTIF($F$3:F441, F441)>1, \"\", F441))","v":""},439,"",null,{"$f":"IF(I441=\"\",\"\",IF(K441=\"\",\"\", CONCATENATE(DIGITADOR!$M$1,G441,J441)))","v":""},null,null,"",{"$f":"IF(K441=\"\",\"\",INDEX('Otras referencias'!$AG:$AH,MATCH(K441,'Otras referencias'!$AG:$AG,0),2))","v":""},null,{"$f":"IF(J441=\"\",\"\",INDEX(referentes!$S:$W,MATCH(J441,referentes!$S:$S,0),1))","v":""},null,null,null,null,{"$f":"IF(P441=\"\",\"\",INDEX(referentes!$J:$K,MATCH(P441,referentes!$J:$J,0),2))","v":""},null,null,null,{"$f":"IF(T441=\"\",\"\",INDEX(referentes!D:E,MATCH(T441,referentes!D:D,0),2))","v":""},null,{"$f":"IF(V441=\"\",\"\",INDEX('Otras referencias'!AO:AP,MATCH(V441,'Otras referencias'!AO:AO,0),2))","v":""},null,{"$f":"IF(Z441=\"\",\"\",INDEX('Otras referencias'!H:I,MATCH(Z441,'Otras referencias'!I:I,0),1))","v":""},null,null,null,{"$f":"IF(AD441=\"\",\"\",INDEX('Otras referencias'!K:L,MATCH(AD441,'Otras referencias'!L:L,0),1))","v":""},null,"---",null,null,null,{"$f":"IF(V441=\"\",\"\",INDEX('Otras referencias'!AO:AQ,MATCH(V441,'Otras referencias'!AO:AO,0),3))","v":""},{"$f":"IF(SUMPRODUCT(--EXACT(K441&M441,$AJ$2:AJ440)),\"\",K441&M441)","v":""},{"$f":"IF(SUMPRODUCT(--EXACT(K441&M441,$AJ$2:AJ440)),\"\",MAX($AK$3:AK440)+1)","v":""}]
[1,{"$f":"IF(F442=\"\",\"\",IF(COUNTIF($F$3:F442, F442)>1, \"\", F442))","v":""},440,"",null,{"$f":"IF(I442=\"\",\"\",IF(K442=\"\",\"\", CONCATENATE(DIGITADOR!$M$1,G442,J442)))","v":""},null,null,"",{"$f":"IF(K442=\"\",\"\",INDEX('Otras referencias'!$AG:$AH,MATCH(K442,'Otras referencias'!$AG:$AG,0),2))","v":""},null,{"$f":"IF(J442=\"\",\"\",INDEX(referentes!$S:$W,MATCH(J442,referentes!$S:$S,0),1))","v":""},null,null,null,null,{"$f":"IF(P442=\"\",\"\",INDEX(referentes!$J:$K,MATCH(P442,referentes!$J:$J,0),2))","v":""},null,null,null,{"$f":"IF(T442=\"\",\"\",INDEX(referentes!D:E,MATCH(T442,referentes!D:D,0),2))","v":""},null,{"$f":"IF(V442=\"\",\"\",INDEX('Otras referencias'!AO:AP,MATCH(V442,'Otras referencias'!AO:AO,0),2))","v":""},null,{"$f":"IF(Z442=\"\",\"\",INDEX('Otras referencias'!H:I,MATCH(Z442,'Otras referencias'!I:I,0),1))","v":""},null,null,null,{"$f":"IF(AD442=\"\",\"\",INDEX('Otras referencias'!K:L,MATCH(AD442,'Otras referencias'!L:L,0),1))","v":""},null,"---",null,null,null,{"$f":"IF(V442=\"\",\"\",INDEX('Otras referencias'!AO:AQ,MATCH(V442,'Otras referencias'!AO:AO,0),3))","v":""},{"$f":"IF(SUMPRODUCT(--EXACT(K442&M442,$AJ$2:AJ441)),\"\",K442&M442)","v":""},{"$f":"IF(SUMPRODUCT(--EXACT(K442&M442,$AJ$2:AJ441)),\"\",MAX($AK$3:AK441)+1)","v":""}]
[1,{"$f":"IF(F443=\"\",\"\",IF(COUNTIF($F$3:F443, F443)>1, \"\", F443))","v":""},441,"",null,{"$f":"IF(I443=\"\",\"\",IF(K443=\"\",\"\", CONCATENATE(DIGITADOR!$M$1,G443,J443)))","v":""},null,null,"",{"$f":"IF(K443=\"\",\"\",INDEX('Otras referencias'!$AG:$AH,MATCH(K443,'Otras referencias'!$AG:$AG,0),2))","v":""},null,{"$f":"IF(J443=\"\",\"\",INDEX(referentes!$S:$W,MATCH(J443,referentes!$S:$S,0),1))","v":""},null,null,null,null,{"$f":"IF(P443=\"\",\"\",INDEX(referentes!$J:$K,MATCH(P443,referentes!$J:$J,0),2))","v":""},null,null,null,{"$f":"IF(T443=\"\",\"\",INDEX(referentes!D:E,MATCH(T443,referentes!D:D,0),2))","v":""},null,{"$f":"IF(V443=\"\",\"\",INDEX('Otras referencias'!AO:AP,MATCH(V443,'Otras referencias'!AO:AO,0),2))","v":""},null,{"$f":"IF(Z443=\"\",\"\",INDEX('Otras referencias'!H:I,MATCH(Z443,'Otras referencias'!I:I,0),1))","v":""},null,null,null,{"$f":"IF(AD443=\"\",\"\",INDEX('Otras referencias'!K:L,MATCH(AD443,'Otras referencias'!L:L,0),1))","v":""},null,"---",null,null,null,{"$f":"IF(V443=\"\",\"\",INDEX('Otras referencias'!AO:AQ,MATCH(V443,'Otras referencias'!AO:AO,0),3))","v":""},{"$f":"IF(SUMPRODUCT(--EXACT(K443&M443,$AJ$2:AJ442)),\"\",K443&M443)","v":""},{"$f":"IF(SUMPRODUCT(--EXACT(K443&M443,$AJ$2:AJ442)),\"\",MAX($AK$3:AK442)+1)","v":""}]
[1,{"$f":"IF(F444=\"\",\"\",IF(COUNTIF($F$3:F444, F444)>1, \"\", F444))","v":""},442,"",null,{"$f":"IF(I444=\"\",\"\",IF(K444=\"\",\"\", CONCATENATE(DIGITADOR!$M$1,G444,J444)))","v":""},null,null,"",{"$f":"IF(K444=\"\",\"\",INDEX('Otras referencias'!$AG:$AH,MATCH(K444,'Otras referencias'!$AG:$AG,0),2))","v":""},null,{"$f":"IF(J444=\"\",\"\",INDEX(referentes!$S:$W,MATCH(J444,referentes!$S:$S,0),1))","v":""},null,null,null,null,{"$f":"IF(P444=\"\",\"\",INDEX(referentes!$J:$K,MATCH(P444,referentes!$J:$J,0),2))","v":""},null,null,null,{"$f":"IF(T444=\"\",\"\",INDEX(referentes!D:E,MATCH(T444,referentes!D:D,0),2))","v":""},null,{"$f":"IF(V444=\"\",\"\",INDEX('Otras referencias'!AO:AP,MATCH(V444,'Otras referencias'!AO:AO,0),2))","v":""},null,{"$f":"IF(Z444=\"\",\"\",INDEX('Otras referencias'!H:I,MATCH(Z444,'Otras referencias'!I:I,0),1))","v":""},null,null,null,{"$f":"IF(AD444=\"\",\"\",INDEX('Otras referencias'!K:L,MATCH(AD444,'Otras referencias'!L:L,0),1))","v":""},null,"---",null,null,null,{"$f":"IF(V444=\"\",\"\",INDEX('Otras referencias'!AO:AQ,MATCH(V444,'Otras referencias'!AO:AO,0),3))","v":""},{"$f":"IF(SUMPRODUCT(--EXACT(K444&M444,$AJ$2:AJ443)),\"\",K444&M444)","v":""},{"$f":"IF(SUMPRODUCT(--EXACT(K444&M444,$AJ$2:AJ443)),\"\",MAX($AK$3:AK443)+1)","v":""}]
[1,{"$f":"IF(F445=\"\",\"\",IF(COUNTIF($F$3:F445, F445)>1, \"\", F445))","v":""},443,"",null,{"$f":"IF(I445=\"\",\"\",IF(K445=\"\",\"\", CONCATENATE(DIGITADOR!$M$1,G445,J445)))","v":""},null,null,"",{"$f":"IF(K445=\"\",\"\",INDEX('Otras referencias'!$AG:$AH,MATCH(K445,'Otras referencias'!$AG:$AG,0),2))","v":""},null,{"$f":"IF(J445=\"\",\"\",INDEX(referentes!$S:$W,MATCH(J445,referentes!$S:$S,0),1))","v":""},null,null,null,null,{"$f":"IF(P445=\"\",\"\",INDEX(referentes!$J:$K,MATCH(P445,referentes!$J:$J,0),2))","v":""},null,null,null,{"$f":"IF(T445=\"\",\"\",INDEX(referentes!D:E,MATCH(T445,referentes!D:D,0),2))","v":""},null,{"$f":"IF(V445=\"\",\"\",INDEX('Otras referencias'!AO:AP,MATCH(V445,'Otras referencias'!AO:AO,0),2))","v":""},null,{"$f":"IF(Z445=\"\",\"\",INDEX('Otras referencias'!H:I,MATCH(Z445,'Otras referencias'!I:I,0),1))","v":""},null,null,null,{"$f":"IF(AD445=\"\",\"\",INDEX('Otras referencias'!K:L,MATCH(AD445,'Otras referencias'!L:L,0),1))","v":""},null,"---",null,null,null,{"$f":"IF(V445=\"\",\"\",INDEX('Otras referencias'!AO:AQ,MATCH(V445,'Otras referencias'!AO:AO,0),3))","v":""},{"$f":"IF(SUMPRODUCT(--EXACT(K445&M445,$AJ$2:AJ444)),\"\",K445&M445)","v":""},{"$f":"IF(SUMPRODUCT(--EXACT(K445&M445,$AJ$2:AJ444)),\"\",MAX($AK$3:AK444)+1)","v":""}]
[1,{"$f":"IF(F446=\"\",\"\",IF(COUNTIF($F$3:F446, F446)>1, \"\", F446))","v":""},444,"",null,{"$f":"IF(I446=\"\",\"\",IF(K446=\"\",\"\", CONCATENATE(DIGITADOR!$M$1,G446,J446)))","v":""},null,null,"",{"$f":"IF(K446=\"\",\"\",INDEX('Otras referencias'!$AG:$AH,MATCH(K446,'Otras referencias'!$AG:$AG,0),2))","v":""},null,{"$f":"IF(J446=\"\",\"\",INDEX(referentes!$S:$W,MATCH(J446,referentes!$S:$S,0),1))","v":""},null,null,null,null,{"$f":"IF(P446=\"\",\"\",INDEX(referentes!$J:$K,MATCH(P446,referentes!$J:$J,0),2))","v":""},null,null,null,{"$f":"IF(T446=\"\",\"\",INDEX(referentes!D:E,MATCH(T446,referentes!D:D,0),2))","v":""},null,{"$f":"IF(V446=\"\",\"\",INDEX('Otras referencias'!AO:AP,MATCH(V446,'Otras referencias'!AO:AO,0),2))","v":""},null,{"$f":"IF(Z446=\"\",\"\",INDEX('Otras referencias'!H:I,MATCH(Z446,'Otras referencias'!I:I,0),1))","v":""},null,null,null,{"$f":"IF(AD446=\"\",\"\",INDEX('Otras referencias'!K:L,MATCH(AD446,'Otras referencias'!L:L,0),1))","v":""},null,"---",null,null,null,{"$f":"IF(V446=\"\",\"\",INDEX('Otras referencias'!AO:AQ,MATCH(V446,'Otras referencias'!AO:AO,0),3))","v":""},{"$f":"IF(SUMPRODUCT(--EXACT(K446&M446,$AJ$2:AJ445)),\"\",K446&M446)","v":""},{"$f":"IF(SUMPRODUCT(--EXACT(K446&M446,$AJ$2:AJ445)),\"\",MAX($AK$3:AK445)+1)","v":""}]
[1,{"$f":"IF(F447=\"\",\"\",IF(COUNTIF($F$3:F447, F447)>1, \"\", F447))","v":""},445,"",null,{"$f":"IF(I447=\"\",\"\",IF(K447=\"\",\"\", CONCATENATE(DIGITADOR!$M$1,G447,J447)))","v":""},null,null,"",{"$f":"IF(K447=\"\",\"\",INDEX('Otras referencias'!$AG:$AH,MATCH(K447,'Otras referencias'!$AG:$AG,0),2))","v":""},null,{"$f":"IF(J447=\"\",\"\",INDEX(referentes!$S:$W,MATCH(J447,referentes!$S:$S,0),1))","v":""},null,null,null,null,{"$f":"IF(P447=\"\",\"\",INDEX(referentes!$J:$K,MATCH(P447,referentes!$J:$J,0),2))","v":""},null,null,null,{"$f":"IF(T447=\"\",\"\",INDEX(referentes!D:E,MATCH(T447,referentes!D:D,0),2))","v":""},null,{"$f":"IF(V447=\"\",\"\",INDEX('Otras referencias'!AO:AP,MATCH(V447,'Otras referencias'!AO:AO,0),2))","v":""},null,{"$f":"IF(Z447=\"\",\"\",INDEX('Otras referencias'!H:I,MATCH(Z447,'Otras referencias'!I:I,0),1))","v":""},null,null,null,{"$f":"IF(AD447=\"\",\"\",INDEX('Otras referencias'!K:L,MATCH(AD447,'Otras referencias'!L:L,0),1))","v":""},null,"---",null,null,null,{"$f":"IF(V447=\"\",\"\",INDEX('Otras referencias'!AO:AQ,MATCH(V447,'Otras referencias'!AO:AO,0),3))","v":""},{"$f":"IF(SUMPRODUCT(--EXACT(K447&M447,$AJ$2:AJ446)),\"\",K447&M447)","v":""},{"$f":"IF(SUMPRODUCT(--EXACT(K447&M447,$AJ$2:AJ446)),\"\",MAX($AK$3:AK446)+1)","v":""}]
[1,{"$f":"IF(F448=\"\",\"\",IF(COUNTIF($F$3:F448, F448)>1, \"\", F448))","v":""},446,"",null,{"$f":"IF(I448=\"\",\"\",IF(K448=\"\",\"\", CONCATENATE(DIGITADOR!$M$1,G448,J448)))","v":""},null,null,"",{"$f":"IF(K448=\"\",\"\",INDEX('Otras referencias'!$AG:$AH,MATCH(K448,'Otras referencias'!$AG:$AG,0),2))","v":""},null,{"$f":"IF(J448=\"\",\"\",INDEX(referentes!$S:$W,MATCH(J448,referentes!$S:$S,0),1))","v":""},null,null,null,null,{"$f":"IF(P448=\"\",\"\",INDEX(referentes!$J:$K,MATCH(P448,referentes!$J:$J,0),2))","v":""},null,null,null,{"$f":"IF(T448=\"\",\"\",INDEX(referentes!D:E,MATCH(T448,referentes!D:D,0),2))","v":""},null,{"$f":"IF(V448=\"\",\"\",INDEX('Otras referencias'!AO:AP,MATCH(V448,'Otras referencias'!AO:AO,0),2))","v":""},null,{"$f":"IF(Z448=\"\",\"\",INDEX('Otras referencias'!H:I,MATCH(Z448,'Otras referencias'!I:I,0),1))","v":""},null,null,null,{"$f":"IF(AD448=\"\",\"\",INDEX('Otras referencias'!K:L,MATCH(AD448,'Otras referencias'!L:L,0),1))","v":""},null,"---",null,null,null,{"$f":"IF(V448=\"\",\"\",INDEX('Otras referencias'!AO:AQ,MATCH(V448,'Otras referencias'!AO:AO,0),3))","v":""},{"$f":"IF(SUMPRODUCT(--EXACT(K448&M448,$AJ$2:AJ447)),\"\",K448&M448)","v":""},{"$f":"IF(SUMPRODUCT(--EXACT(K448&M448,$AJ$2:AJ447)),\"\",MAX($AK$3:AK447)+1)","v":""}]
[1,{"$f":"IF(F449=\"\",\"\",IF(COUNTIF($F$3:F449, F449)>1, \"\", F449))","v":""},447,"",null,{"$f":"IF(I449=\"\",\"\",IF(K449=\"\",\"\", CONCATENATE(DIGITADOR!$M$1,G449,J449)))","v":""},null,null,"",{"$f":"IF(K449=\"\",\"\",INDEX('Otras referencias'!$AG:$AH,MATCH(K449,'Otras referencias'!$AG:$AG,0),2))","v":""},null,{"$f":"IF(J449=\"\",\"\",INDEX(referentes!$S:$W,MATCH(J449,referentes!$S:$S,0),1))","v":""},null,null,null,null,{"$f":"IF(P449=\"\",\"\",INDEX(referentes!$J:$K,MATCH(P449,referentes!$J:$J,0),2))","v":""},null,null,null,{"$f":"IF(T449=\"\",\"\",INDEX(referentes!D:E,MATCH(T449,referentes!D:D,0),2))","v":""},null,{"$f":"IF(V449=\"\",\"\",INDEX('Otras referencias'!AO:AP,MATCH(V449,'Otras referencias'!AO:AO,0),2))","v":""},null,{"$f":"IF(Z449=\"\",\"\",INDEX('Otras referencias'!H:I,MATCH(Z449,'Otras referencias'!I:I,0),1))","v":""},null,null,null,{"$f":"IF(AD449=\"\",\"\",INDEX('Otras referencias'!K:L,MATCH(AD449,'Otras referencias'!L:L,0),1))","v":""},null,"---",null,null,null,{"$f":"IF(V449=\"\",\"\",INDEX('Otras referencias'!AO:AQ,MATCH(V449,'Otras referencias'!AO:AO,0),3))","v":""},{"$f":"IF(SUMPRODUCT(--EXACT(K449&M449,$AJ$2:AJ448)),\"\",K449&M449)","v":""},{"$f":"IF(SUMPRODUCT(--EXACT(K449&M449,$AJ$2:AJ448)),\"\",MAX($AK$3:AK448)+1)","v":""}]
[1,{"$f":"IF(F450=\"\",\"\",IF(COUNTIF($F$3:F450, F450)>1, \"\", F450))","v":""},448,"",null,{"$f":"IF(I450=\"\",\"\",IF(K450=\"\",\"\", CONCATENATE(DIGITADOR!$M$1,G450,J450)))","v":""},null,null,"",{"$f":"IF(K450=\"\",\"\",INDEX('Otras referencias'!$AG:$AH,MATCH(K450,'Otras referencias'!$AG:$AG,0),2))","v":""},null,{"$f":"IF(J450=\"\",\"\",INDEX(referentes!$S:$W,MATCH(J450,referentes!$S:$S,0),1))","v":""},null,null,null,null,{"$f":"IF(P450=\"\",\"\",INDEX(referentes!$J:$K,MATCH(P450,referentes!$J:$J,0),2))","v":""},null,null,null,{"$f":"IF(T450=\"\",\"\",INDEX(referentes!D:E,MATCH(T450,referentes!D:D,0),2))","v":""},null,{"$f":"IF(V450=\"\",\"\",INDEX('Otras referencias'!AO:AP,MATCH(V450,'Otras referencias'!AO:AO,0),2))","v":""},null,{"$f":"IF(Z450=\"\",\"\",INDEX('Otras referencias'!H:I,MATCH(Z450,'Otras referencias'!I:I,0),1))","v":""},null,null,null,{"$f":"IF(AD450=\"\",\"\",INDEX('Otras referencias'!K:L,MATCH(AD450,'Otras referencias'!L:L,0),1))","v":""},null,"---",null,null,null,{"$f":"IF(V450=\"\",\"\",INDEX('Otras referencias'!AO:AQ,MATCH(V450,'Otras referencias'!AO:AO,0),3))","v":""},{"$f":"IF(SUMPRODUCT(--EXACT(K450&M450,$AJ$2:AJ449)),\"\",K450&M450)","v":""},{"$f":"IF(SUMPRODUCT(--EXACT(K450&M450,$AJ$2:AJ449)),\"\",MAX($AK$3:AK449)+1)","v":""}]
[1,{"$f":"IF(F451=\"\",\"\",IF(COUNTIF($F$3:F451, F451)>1, \"\", F451))","v":""},449,"",null,{"$f":"IF(I451=\"\",\"\",IF(K451=\"\",\"\", CONCATENATE(DIGITADOR!$M$1,G451,J451)))","v":""},null,null,{"$f":"IF(G451<>\"\",G451+H451,\"\")","v":""},{"$f":"IF(K451=\"\",\"\",INDEX('Otras referencias'!$AG:$AH,MATCH(K451,'Otras referencias'!$AG:$AG,0),2))","v":""},null,{"$f":"IF(J451=\"\",\"\",INDEX(referentes!$S:$W,MATCH(J451,referentes!$S:$S,0),1))","v":""},null,null,null,null,{"$f":"IF(P451=\"\",\"\",INDEX(referentes!$J:$K,MATCH(P451,referentes!$J:$J,0),2))","v":""},null,null,null,{"$f":"IF(T451=\"\",\"\",INDEX(referentes!D:E,MATCH(T451,referentes!D:D,0),2))","v":""},null,{"$f":"IF(V451=\"\",\"\",INDEX('Otras referencias'!AO:AP,MATCH(V451,'Otras referencias'!AO:AO,0),2))","v":""},null,{"$f":"IF(Z451=\"\",\"\",INDEX('Otras referencias'!H:I,MATCH(Z451,'Otras referencias'!I:I,0),1))","v":""},null,null,null,{"$f":"IF(AD451=\"\",\"\",INDEX('Otras referencias'!K:L,MATCH(AD451,'Otras referencias'!L:L,0),1))","v":""},null,"---",null,null,null,{"$f":"IF(V451=\"\",\"\",INDEX('Otras referencias'!AO:AQ,MATCH(V451,'Otras referencias'!AO:AO,0),3))","v":""},{"$f":"IF(SUMPRODUCT(--EXACT(K451&M451,$AJ$2:AJ450)),\"\",K451&M451)","v":""},{"$f":"IF(SUMPRODUCT(--EXACT(K451&M451,$AJ$2:AJ450)),\"\",MAX($AK$3:AK450)+1)","v":""}]
[1,{"$f":"IF(F452=\"\",\"\",IF(COUNTIF($F$3:F452, F452)>1, \"\", F452))","v":""},450,{"$f":"IF(F452=\"\",\"\",CONCATENATE(F452,ROW()-2))","v":""},null,{"$f":"IF(I452=\"\",\"\",IF(K452=\"\",\"\", CONCATENATE(DIGITADOR!$M$1,G452,J452)))","v":""},null,null,"",{"$f":"IF(K452=\"\",\"\",INDEX('Otras referencias'!$AG:$AH,MATCH(K452,'Otras referencias'!$AG:$AG,0),2))","v":""},null,{"$f":"IF(J452=\"\",\"\",INDEX(referentes!$S:$W,MATCH(J452,referentes!$S:$S,0),1))","v":""},null,null,null,null,{"$f":"IF(P452=\"\",\"\",INDEX(referentes!$J:$K,MATCH(P452,referentes!$J:$J,0),2))","v":""},null,null,null,{"$f":"IF(T452=\"\",\"\",INDEX(referentes!D:E,MATCH(T452,referentes!D:D,0),2))","v":""},null,{"$f":"IF(V452=\"\",\"\",INDEX('Otras referencias'!AO:AP,MATCH(V452,'Otras referencias'!AO:AO,0),2))","v":""},null,{"$f":"IF(Z452=\"\",\"\",INDEX('Otras referencias'!H:I,MATCH(Z452,'Otras referencias'!I:I,0),1))","v":""},null,null,null,{"$f":"IF(AD452=\"\",\"\",INDEX('Otras referencias'!K:L,MATCH(AD452,'Otras referencias'!L:L,0),1))","v":""},null,{"$f":"K452&\"-\"&M452&\"-\"&P452&\"-\"&R452","v":"---"},null,null,null,{"$f":"IF(V452=\"\",\"\",INDEX('Otras referencias'!AO:AQ,MATCH(V452,'Otras referencias'!AO:AO,0),3))","v":""},{"$f":"IF(SUMPRODUCT(--EXACT(K452&M452,$AJ$2:AJ451)),\"\",K452&M452)","v":""},{"$f":"IF(SUMPRODUCT(--EXACT(K452&M452,$AJ$2:AJ451)),\"\",MAX($AK$3:AK451)+1)","v":""}]
[{"$f":"IF(L453=L452,A452,A452+1)","v":1},{"$f":"IF(F453=\"\",\"\",IF(COUNTIF($F$3:F453, F453)>1, \"\", F453))","v":""},451,"",null,{"$f":"IF(I453=\"\",\"\",IF(K453=\"\",\"\", CONCATENATE(DIGITADOR!$M$1,G453,J453)))","v":""},null,null,"",{"$f":"IF(K453=\"\",\"\",INDEX('Otras referencias'!$AG:$AH,MATCH(K453,'Otras referencias'!$AG:$AG,0),2))","v":""},null,{"$f":"IF(J453=\"\",\"\",INDEX(referentes!$S:$W,MATCH(J453,referentes!$S:$S,0),1))","v":""},null,null,null,null,{"$f":"IF(P453=\"\",\"\",INDEX(referentes!$J:$K,MATCH(P453,referentes!$J:$J,0),2))","v":""},null,null,null,{"$f":"IF(T453=\"\",\"\",INDEX(referentes!D:E,MATCH(T453,referentes!D:D,0),2))","v":""},null,{"$f":"IF(V453=\"\",\"\",INDEX('Otras referencias'!AO:AP,MATCH(V453,'Otras referencias'!AO:AO,0),2))","v":""},null,{"$f":"IF(Z453=\"\",\"\",INDEX('Otras referencias'!H:I,MATCH(Z453,'Otras referencias'!I:I,0),1))","v":""},null,null,null,{"$f":"IF(AD453=\"\",\"\",INDEX('Otras referencias'!K:L,MATCH(AD453,'Otras referencias'!L:L,0),1))","v":""},null,"---",null,null,null,{"$f":"IF(V453=\"\",\"\",INDEX('Otras referencias'!AO:AQ,MATCH(V453,'Otras referencias'!AO:AO,0),3))","v":""},{"$f":"IF(SUMPRODUCT(--EXACT(K453&M453,$AJ$2:AJ452)),\"\",K453&M453)","v":""},{"$f":"IF(SUMPRODUCT(--EXACT(K453&M453,$AJ$2:AJ452)),\"\",MAX($AK$3:AK452)+1)","v":""}]
[1,{"$f":"IF(F454=\"\",\"\",IF(COUNTIF($F$3:F454, F454)>1, \"\", F454))","v":""},452,"",null,{"$f":"IF(I454=\"\",\"\",IF(K454=\"\",\"\", CONCATENATE(DIGITADOR!$M$1,G454,J454)))","v":""},null,null,"",{"$f":"IF(K454=\"\",\"\",INDEX('Otras referencias'!$AG:$AH,MATCH(K454,'Otras referencias'!$AG:$AG,0),2))","v":""},null,{"$f":"IF(J454=\"\",\"\",INDEX(referentes!$S:$W,MATCH(J454,referentes!$S:$S,0),1))","v":""},null,null,null,null,{"$f":"IF(P454=\"\",\"\",INDEX(referentes!$J:$K,MATCH(P454,referentes!$J:$J,0),2))","v":""},null,null,null,{"$f":"IF(T454=\"\",\"\",INDEX(referentes!D:E,MATCH(T454,referentes!D:D,0),2))","v":""},null,{"$f":"IF(V454=\"\",\"\",INDEX('Otras referencias'!AO:AP,MATCH(V454,'Otras referencias'!AO:AO,0),2))","v":""},null,{"$f":"IF(Z454=\"\",\"\",INDEX('Otras referencias'!H:I,MATCH(Z454,'Otras referencias'!I:I,0),1))","v":""},null,null,null,{"$f":"IF(AD454=\"\",\"\",INDEX('Otras referencias'!K:L,MATCH(AD454,'Otras referencias'!L:L,0),1))","v":""},null,"---",null,null,null,{"$f":"IF(V454=\"\",\"\",INDEX('Otras referencias'!AO:AQ,MATCH(V454,'Otras referencias'!AO:AO,0),3))","v":""},{"$f":"IF(SUMPRODUCT(--EXACT(K454&M454,$AJ$2:AJ453)),\"\",K454&M454)","v":""},{"$f":"IF(SUMPRODUCT(--EXACT(K454&M454,$AJ$2:AJ453)),\"\",MAX($AK$3:AK453)+1)","v":""}]
[1,{"$f":"IF(F455=\"\",\"\",IF(COUNTIF($F$3:F455, F455)>1, \"\", F455))","v":""},453,"",null,{"$f":"IF(I455=\"\",\"\",IF(K455=\"\",\"\", CONCATENATE(DIGITADOR!$M$1,G455,J455)))","v":""},null,null,"",{"$f":"IF(K455=\"\",\"\",INDEX('Otras referencias'!$AG:$AH,MATCH(K455,'Otras referencias'!$AG:$AG,0),2))","v":""},null,{"$f":"IF(J455=\"\",\"\",INDEX(referentes!$S:$W,MATCH(J455,referentes!$S:$S,0),1))","v":""},null,null,null,null,{"$f":"IF(P455=\"\",\"\",INDEX(referentes!$J:$K,MATCH(P455,referentes!$J:$J,0),2))","v":""},null,null,null,{"$f":"IF(T455=\"\",\"\",INDEX(referentes!D:E,MATCH(T455,referentes!D:D,0),2))","v":""},null,{"$f":"IF(V455=\"\",\"\",INDEX('Otras referencias'!AO:AP,MATCH(V455,'Otras referencias'!AO:AO,0),2))","v":""},null,{"$f":"IF(Z455=\"\",\"\",INDEX('Otras referencias'!H:I,MATCH(Z455,'Otras referencias'!I:I,0),1))","v":""},null,null,null,{"$f":"IF(AD455=\"\",\"\",INDEX('Otras referencias'!K:L,MATCH(AD455,'Otras referencias'!L:L,0),1))","v":""},null,"---",null,null,null,{"$f":"IF(V455=\"\",\"\",INDEX('Otras referencias'!AO:AQ,MATCH(V455,'Otras referencias'!AO:AO,0),3))","v":""},{"$f":"IF(SUMPRODUCT(--EXACT(K455&M455,$AJ$2:AJ454)),\"\",K455&M455)","v":""},{"$f":"IF(SUMPRODUCT(--EXACT(K455&M455,$AJ$2:AJ454)),\"\",MAX($AK$3:AK454)+1)","v":""}]
[1,{"$f":"IF(F456=\"\",\"\",IF(COUNTIF($F$3:F456, F456)>1, \"\", F456))","v":""},454,"",null,{"$f":"IF(I456=\"\",\"\",IF(K456=\"\",\"\", CONCATENATE(DIGITADOR!$M$1,G456,J456)))","v":""},null,null,"",{"$f":"IF(K456=\"\",\"\",INDEX('Otras referencias'!$AG:$AH,MATCH(K456,'Otras referencias'!$AG:$AG,0),2))","v":""},null,{"$f":"IF(J456=\"\",\"\",INDEX(referentes!$S:$W,MATCH(J456,referentes!$S:$S,0),1))","v":""},null,null,null,null,{"$f":"IF(P456=\"\",\"\",INDEX(referentes!$J:$K,MATCH(P456,referentes!$J:$J,0),2))","v":""},null,null,null,{"$f":"IF(T456=\"\",\"\",INDEX(referentes!D:E,MATCH(T456,referentes!D:D,0),2))","v":""},null,{"$f":"IF(V456=\"\",\"\",INDEX('Otras referencias'!AO:AP,MATCH(V456,'Otras referencias'!AO:AO,0),2))","v":""},null,{"$f":"IF(Z456=\"\",\"\",INDEX('Otras referencias'!H:I,MATCH(Z456,'Otras referencias'!I:I,0),1))","v":""},null,null,null,{"$f":"IF(AD456=\"\",\"\",INDEX('Otras referencias'!K:L,MATCH(AD456,'Otras referencias'!L:L,0),1))","v":""},null,"---",null,null,null,{"$f":"IF(V456=\"\",\"\",INDEX('Otras referencias'!AO:AQ,MATCH(V456,'Otras referencias'!AO:AO,0),3))","v":""},{"$f":"IF(SUMPRODUCT(--EXACT(K456&M456,$AJ$2:AJ455)),\"\",K456&M456)","v":""},{"$f":"IF(SUMPRODUCT(--EXACT(K456&M456,$AJ$2:AJ455)),\"\",MAX($AK$3:AK455)+1)","v":""}]
[1,{"$f":"IF(F457=\"\",\"\",IF(COUNTIF($F$3:F457, F457)>1, \"\", F457))","v":""},455,"",null,{"$f":"IF(I457=\"\",\"\",IF(K457=\"\",\"\", CONCATENATE(DIGITADOR!$M$1,G457,J457)))","v":""},null,null,"",{"$f":"IF(K457=\"\",\"\",INDEX('Otras referencias'!$AG:$AH,MATCH(K457,'Otras referencias'!$AG:$AG,0),2))","v":""},null,{"$f":"IF(J457=\"\",\"\",INDEX(referentes!$S:$W,MATCH(J457,referentes!$S:$S,0),1))","v":""},null,null,null,null,{"$f":"IF(P457=\"\",\"\",INDEX(referentes!$J:$K,MATCH(P457,referentes!$J:$J,0),2))","v":""},null,null,null,{"$f":"IF(T457=\"\",\"\",INDEX(referentes!D:E,MATCH(T457,referentes!D:D,0),2))","v":""},null,{"$f":"IF(V457=\"\",\"\",INDEX('Otras referencias'!AO:AP,MATCH(V457,'Otras referencias'!AO:AO,0),2))","v":""},null,{"$f":"IF(Z457=\"\",\"\",INDEX('Otras referencias'!H:I,MATCH(Z457,'Otras referencias'!I:I,0),1))","v":""},null,null,null,{"$f":"IF(AD457=\"\",\"\",INDEX('Otras referencias'!K:L,MATCH(AD457,'Otras referencias'!L:L,0),1))","v":""},null,"---",null,null,null,{"$f":"IF(V457=\"\",\"\",INDEX('Otras referencias'!AO:AQ,MATCH(V457,'Otras referencias'!AO:AO,0),3))","v":""},{"$f":"IF(SUMPRODUCT(--EXACT(K457&M457,$AJ$2:AJ456)),\"\",K457&M457)","v":""},{"$f":"IF(SUMPRODUCT(--EXACT(K457&M457,$AJ$2:AJ456)),\"\",MAX($AK$3:AK456)+1)","v":""}]
[1,{"$f":"IF(F458=\"\",\"\",IF(COUNTIF($F$3:F458, F458)>1, \"\", F458))","v":""},456,"",null,{"$f":"IF(I458=\"\",\"\",IF(K458=\"\",\"\", CONCATENATE(DIGITADOR!$M$1,G458,J458)))","v":""},null,null,"",{"$f":"IF(K458=\"\",\"\",INDEX('Otras referencias'!$AG:$AH,MATCH(K458,'Otras referencias'!$AG:$AG,0),2))","v":""},null,{"$f":"IF(J458=\"\",\"\",INDEX(referentes!$S:$W,MATCH(J458,referentes!$S:$S,0),1))","v":""},null,null,null,null,{"$f":"IF(P458=\"\",\"\",INDEX(referentes!$J:$K,MATCH(P458,referentes!$J:$J,0),2))","v":""},null,null,null,{"$f":"IF(T458=\"\",\"\",INDEX(referentes!D:E,MATCH(T458,referentes!D:D,0),2))","v":""},null,{"$f":"IF(V458=\"\",\"\",INDEX('Otras referencias'!AO:AP,MATCH(V458,'Otras referencias'!AO:AO,0),2))","v":""},null,{"$f":"IF(Z458=\"\",\"\",INDEX('Otras referencias'!H:I,MATCH(Z458,'Otras referencias'!I:I,0),1))","v":""},null,null,null,{"$f":"IF(AD458=\"\",\"\",INDEX('Otras referencias'!K:L,MATCH(AD458,'Otras referencias'!L:L,0),1))","v":""},null,"---",null,null,null,{"$f":"IF(V458=\"\",\"\",INDEX('Otras referencias'!AO:AQ,MATCH(V458,'Otras referencias'!AO:AO,0),3))","v":""},{"$f":"IF(SUMPRODUCT(--EXACT(K458&M458,$AJ$2:AJ457)),\"\",K458&M458)","v":""},{"$f":"IF(SUMPRODUCT(--EXACT(K458&M458,$AJ$2:AJ457)),\"\",MAX($AK$3:AK457)+1)","v":""}]
[1,{"$f":"IF(F459=\"\",\"\",IF(COUNTIF($F$3:F459, F459)>1, \"\", F459))","v":""},457,"",null,{"$f":"IF(I459=\"\",\"\",IF(K459=\"\",\"\", CONCATENATE(DIGITADOR!$M$1,G459,J459)))","v":""},null,null,"",{"$f":"IF(K459=\"\",\"\",INDEX('Otras referencias'!$AG:$AH,MATCH(K459,'Otras referencias'!$AG:$AG,0),2))","v":""},null,{"$f":"IF(J459=\"\",\"\",INDEX(referentes!$S:$W,MATCH(J459,referentes!$S:$S,0),1))","v":""},null,null,null,null,{"$f":"IF(P459=\"\",\"\",INDEX(referentes!$J:$K,MATCH(P459,referentes!$J:$J,0),2))","v":""},null,null,null,{"$f":"IF(T459=\"\",\"\",INDEX(referentes!D:E,MATCH(T459,referentes!D:D,0),2))","v":""},null,{"$f":"IF(V459=\"\",\"\",INDEX('Otras referencias'!AO:AP,MATCH(V459,'Otras referencias'!AO:AO,0),2))","v":""},null,{"$f":"IF(Z459=\"\",\"\",INDEX('Otras referencias'!H:I,MATCH(Z459,'Otras referencias'!I:I,0),1))","v":""},null,null,null,{"$f":"IF(AD459=\"\",\"\",INDEX('Otras referencias'!K:L,MATCH(AD459,'Otras referencias'!L:L,0),1))","v":""},null,"---",null,null,null,{"$f":"IF(V459=\"\",\"\",INDEX('Otras referencias'!AO:AQ,MATCH(V459,'Otras referencias'!AO:AO,0),3))","v":""},{"$f":"IF(SUMPRODUCT(--EXACT(K459&M459,$AJ$2:AJ458)),\"\",K459&M459)","v":""},{"$f":"IF(SUMPRODUCT(--EXACT(K459&M459,$AJ$2:AJ458)),\"\",MAX($AK$3:AK458)+1)","v":""}]
[1,{"$f":"IF(F460=\"\",\"\",IF(COUNTIF($F$3:F460, F460)>1, \"\", F460))","v":""},458,"",null,{"$f":"IF(I460=\"\",\"\",IF(K460=\"\",\"\", CONCATENATE(DIGITADOR!$M$1,G460,J460)))","v":""},null,null,"",{"$f":"IF(K460=\"\",\"\",INDEX('Otras referencias'!$AG:$AH,MATCH(K460,'Otras referencias'!$AG:$AG,0),2))","v":""},null,{"$f":"IF(J460=\"\",\"\",INDEX(referentes!$S:$W,MATCH(J460,referentes!$S:$S,0),1))","v":""},null,null,null,null,{"$f":"IF(P460=\"\",\"\",INDEX(referentes!$J:$K,MATCH(P460,referentes!$J:$J,0),2))","v":""},null,null,null,{"$f":"IF(T460=\"\",\"\",INDEX(referentes!D:E,MATCH(T460,referentes!D:D,0),2))","v":""},null,{"$f":"IF(V460=\"\",\"\",INDEX('Otras referencias'!AO:AP,MATCH(V460,'Otras referencias'!AO:AO,0),2))","v":""},null,{"$f":"IF(Z460=\"\",\"\",INDEX('Otras referencias'!H:I,MATCH(Z460,'Otras referencias'!I:I,0),1))","v":""},null,null,null,{"$f":"IF(AD460=\"\",\"\",INDEX('Otras referencias'!K:L,MATCH(AD460,'Otras referencias'!L:L,0),1))","v":""},null,"---",null,null,null,{"$f":"IF(V460=\"\",\"\",INDEX('Otras referencias'!AO:AQ,MATCH(V460,'Otras referencias'!AO:AO,0),3))","v":""},{"$f":"IF(SUMPRODUCT(--EXACT(K460&M460,$AJ$2:AJ459)),\"\",K460&M460)","v":""},{"$f":"IF(SUMPRODUCT(--EXACT(K460&M460,$AJ$2:AJ459)),\"\",MAX($AK$3:AK459)+1)","v":""}]
[1,{"$f":"IF(F461=\"\",\"\",IF(COUNTIF($F$3:F461, F461)>1, \"\", F461))","v":""},459,"",null,{"$f":"IF(I461=\"\",\"\",IF(K461=\"\",\"\", CONCATENATE(DIGITADOR!$M$1,G461,J461)))","v":""},null,null,"",{"$f":"IF(K461=\"\",\"\",INDEX('Otras referencias'!$AG:$AH,MATCH(K461,'Otras referencias'!$AG:$AG,0),2))","v":""},null,{"$f":"IF(J461=\"\",\"\",INDEX(referentes!$S:$W,MATCH(J461,referentes!$S:$S,0),1))","v":""},null,null,null,null,{"$f":"IF(P461=\"\",\"\",INDEX(referentes!$J:$K,MATCH(P461,referentes!$J:$J,0),2))","v":""},null,null,null,{"$f":"IF(T461=\"\",\"\",INDEX(referentes!D:E,MATCH(T461,referentes!D:D,0),2))","v":""},null,{"$f":"IF(V461=\"\",\"\",INDEX('Otras referencias'!AO:AP,MATCH(V461,'Otras referencias'!AO:AO,0),2))","v":""},null,{"$f":"IF(Z461=\"\",\"\",INDEX('Otras referencias'!H:I,MATCH(Z461,'Otras referencias'!I:I,0),1))","v":""},null,null,null,{"$f":"IF(AD461=\"\",\"\",INDEX('Otras referencias'!K:L,MATCH(AD461,'Otras referencias'!L:L,0),1))","v":""},null,"---",null,null,null,{"$f":"IF(V461=\"\",\"\",INDEX('Otras referencias'!AO:AQ,MATCH(V461,'Otras referencias'!AO:AO,0),3))","v":""},{"$f":"IF(SUMPRODUCT(--EXACT(K461&M461,$AJ$2:AJ460)),\"\",K461&M461)","v":""},{"$f":"IF(SUMPRODUCT(--EXACT(K461&M461,$AJ$2:AJ460)),\"\",MAX($AK$3:AK460)+1)","v":""}]
[1,{"$f":"IF(F462=\"\",\"\",IF(COUNTIF($F$3:F462, F462)>1, \"\", F462))","v":""},460,"",null,{"$f":"IF(I462=\"\",\"\",IF(K462=\"\",\"\", CONCATENATE(DIGITADOR!$M$1,G462,J462)))","v":""},null,null,"",{"$f":"IF(K462=\"\",\"\",INDEX('Otras referencias'!$AG:$AH,MATCH(K462,'Otras referencias'!$AG:$AG,0),2))","v":""},null,{"$f":"IF(J462=\"\",\"\",INDEX(referentes!$S:$W,MATCH(J462,referentes!$S:$S,0),1))","v":""},null,null,null,null,{"$f":"IF(P462=\"\",\"\",INDEX(referentes!$J:$K,MATCH(P462,referentes!$J:$J,0),2))","v":""},null,null,null,{"$f":"IF(T462=\"\",\"\",INDEX(referentes!D:E,MATCH(T462,referentes!D:D,0),2))","v":""},null,{"$f":"IF(V462=\"\",\"\",INDEX('Otras referencias'!AO:AP,MATCH(V462,'Otras referencias'!AO:AO,0),2))","v":""},null,{"$f":"IF(Z462=\"\",\"\",INDEX('Otras referencias'!H:I,MATCH(Z462,'Otras referencias'!I:I,0),1))","v":""},null,null,null,{"$f":"IF(AD462=\"\",\"\",INDEX('Otras referencias'!K:L,MATCH(AD462,'Otras referencias'!L:L,0),1))","v":""},null,"---",null,null,null,{"$f":"IF(V462=\"\",\"\",INDEX('Otras referencias'!AO:AQ,MATCH(V462,'Otras referencias'!AO:AO,0),3))","v":""},{"$f":"IF(SUMPRODUCT(--EXACT(K462&M462,$AJ$2:AJ461)),\"\",K462&M462)","v":""},{"$f":"IF(SUMPRODUCT(--EXACT(K462&M462,$AJ$2:AJ461)),\"\",MAX($AK$3:AK461)+1)","v":""}]
[1,{"$f":"IF(F463=\"\",\"\",IF(COUNTIF($F$3:F463, F463)>1, \"\", F463))","v":""},461,"",null,{"$f":"IF(I463=\"\",\"\",IF(K463=\"\",\"\", CONCATENATE(DIGITADOR!$M$1,G463,J463)))","v":""},null,null,"",{"$f":"IF(K463=\"\",\"\",INDEX('Otras referencias'!$AG:$AH,MATCH(K463,'Otras referencias'!$AG:$AG,0),2))","v":""},null,{"$f":"IF(J463=\"\",\"\",INDEX(referentes!$S:$W,MATCH(J463,referentes!$S:$S,0),1))","v":""},null,null,null,null,{"$f":"IF(P463=\"\",\"\",INDEX(referentes!$J:$K,MATCH(P463,referentes!$J:$J,0),2))","v":""},null,null,null,{"$f":"IF(T463=\"\",\"\",INDEX(referentes!D:E,MATCH(T463,referentes!D:D,0),2))","v":""},null,{"$f":"IF(V463=\"\",\"\",INDEX('Otras referencias'!AO:AP,MATCH(V463,'Otras referencias'!AO:AO,0),2))","v":""},null,{"$f":"IF(Z463=\"\",\"\",INDEX('Otras referencias'!H:I,MATCH(Z463,'Otras referencias'!I:I,0),1))","v":""},null,null,null,{"$f":"IF(AD463=\"\",\"\",INDEX('Otras referencias'!K:L,MATCH(AD463,'Otras referencias'!L:L,0),1))","v":""},null,"---",null,null,null,{"$f":"IF(V463=\"\",\"\",INDEX('Otras referencias'!AO:AQ,MATCH(V463,'Otras referencias'!AO:AO,0),3))","v":""},{"$f":"IF(SUMPRODUCT(--EXACT(K463&M463,$AJ$2:AJ462)),\"\",K463&M463)","v":""},{"$f":"IF(SUMPRODUCT(--EXACT(K463&M463,$AJ$2:AJ462)),\"\",MAX($AK$3:AK462)+1)","v":""}]
[1,{"$f":"IF(F464=\"\",\"\",IF(COUNTIF($F$3:F464, F464)>1, \"\", F464))","v":""},462,"",null,{"$f":"IF(I464=\"\",\"\",IF(K464=\"\",\"\", CONCATENATE(DIGITADOR!$M$1,G464,J464)))","v":""},null,null,"",{"$f":"IF(K464=\"\",\"\",INDEX('Otras referencias'!$AG:$AH,MATCH(K464,'Otras referencias'!$AG:$AG,0),2))","v":""},null,{"$f":"IF(J464=\"\",\"\",INDEX(referentes!$S:$W,MATCH(J464,referentes!$S:$S,0),1))","v":""},null,null,null,null,{"$f":"IF(P464=\"\",\"\",INDEX(referentes!$J:$K,MATCH(P464,referentes!$J:$J,0),2))","v":""},null,null,null,{"$f":"IF(T464=\"\",\"\",INDEX(referentes!D:E,MATCH(T464,referentes!D:D,0),2))","v":""},null,{"$f":"IF(V464=\"\",\"\",INDEX('Otras referencias'!AO:AP,MATCH(V464,'Otras referencias'!AO:AO,0),2))","v":""},null,{"$f":"IF(Z464=\"\",\"\",INDEX('Otras referencias'!H:I,MATCH(Z464,'Otras referencias'!I:I,0),1))","v":""},null,null,null,{"$f":"IF(AD464=\"\",\"\",INDEX('Otras referencias'!K:L,MATCH(AD464,'Otras referencias'!L:L,0),1))","v":""},null,"---",null,null,null,{"$f":"IF(V464=\"\",\"\",INDEX('Otras referencias'!AO:AQ,MATCH(V464,'Otras referencias'!AO:AO,0),3))","v":""},{"$f":"IF(SUMPRODUCT(--EXACT(K464&M464,$AJ$2:AJ463)),\"\",K464&M464)","v":""},{"$f":"IF(SUMPRODUCT(--EXACT(K464&M464,$AJ$2:AJ463)),\"\",MAX($AK$3:AK463)+1)","v":""}]
[1,{"$f":"IF(F465=\"\",\"\",IF(COUNTIF($F$3:F465, F465)>1, \"\", F465))","v":""},463,"",null,{"$f":"IF(I465=\"\",\"\",IF(K465=\"\",\"\", CONCATENATE(DIGITADOR!$M$1,G465,J465)))","v":""},null,null,"",{"$f":"IF(K465=\"\",\"\",INDEX('Otras referencias'!$AG:$AH,MATCH(K465,'Otras referencias'!$AG:$AG,0),2))","v":""},null,{"$f":"IF(J465=\"\",\"\",INDEX(referentes!$S:$W,MATCH(J465,referentes!$S:$S,0),1))","v":""},null,null,null,null,{"$f":"IF(P465=\"\",\"\",INDEX(referentes!$J:$K,MATCH(P465,referentes!$J:$J,0),2))","v":""},null,null,null,{"$f":"IF(T465=\"\",\"\",INDEX(referentes!D:E,MATCH(T465,referentes!D:D,0),2))","v":""},null,{"$f":"IF(V465=\"\",\"\",INDEX('Otras referencias'!AO:AP,MATCH(V465,'Otras referencias'!AO:AO,0),2))","v":""},null,{"$f":"IF(Z465=\"\",\"\",INDEX('Otras referencias'!H:I,MATCH(Z465,'Otras referencias'!I:I,0),1))","v":""},null,null,null,{"$f":"IF(AD465=\"\",\"\",INDEX('Otras referencias'!K:L,MATCH(AD465,'Otras referencias'!L:L,0),1))","v":""},null,"---",null,null,null,{"$f":"IF(V465=\"\",\"\",INDEX('Otras referencias'!AO:AQ,MATCH(V465,'Otras referencias'!AO:AO,0),3))","v":""},{"$f":"IF(SUMPRODUCT(--EXACT(K465&M465,$AJ$2:AJ464)),\"\",K465&M465)","v":""},{"$f":"IF(SUMPRODUCT(--EXACT(K465&M465,$AJ$2:AJ464)),\"\",MAX($AK$3:AK464)+1)","v":""}]
[1,{"$f":"IF(F466=\"\",\"\",IF(COUNTIF($F$3:F466, F466)>1, \"\", F466))","v":""},464,"",null,{"$f":"IF(I466=\"\",\"\",IF(K466=\"\",\"\", CONCATENATE(DIGITADOR!$M$1,G466,J466)))","v":""},null,null,"",{"$f":"IF(K466=\"\",\"\",INDEX('Otras referencias'!$AG:$AH,MATCH(K466,'Otras referencias'!$AG:$AG,0),2))","v":""},null,{"$f":"IF(J466=\"\",\"\",INDEX(referentes!$S:$W,MATCH(J466,referentes!$S:$S,0),1))","v":""},null,null,null,null,{"$f":"IF(P466=\"\",\"\",INDEX(referentes!$J:$K,MATCH(P466,referentes!$J:$J,0),2))","v":""},null,null,null,{"$f":"IF(T466=\"\",\"\",INDEX(referentes!D:E,MATCH(T466,referentes!D:D,0),2))","v":""},null,{"$f":"IF(V466=\"\",\"\",INDEX('Otras referencias'!AO:AP,MATCH(V466,'Otras referencias'!AO:AO,0),2))","v":""},null,{"$f":"IF(Z466=\"\",\"\",INDEX('Otras referencias'!H:I,MATCH(Z466,'Otras referencias'!I:I,0),1))","v":""},null,null,null,{"$f":"IF(AD466=\"\",\"\",INDEX('Otras referencias'!K:L,MATCH(AD466,'Otras referencias'!L:L,0),1))","v":""},null,"---",null,null,null,{"$f":"IF(V466=\"\",\"\",INDEX('Otras referencias'!AO:AQ,MATCH(V466,'Otras referencias'!AO:AO,0),3))","v":""},{"$f":"IF(SUMPRODUCT(--EXACT(K466&M466,$AJ$2:AJ465)),\"\",K466&M466)","v":""},{"$f":"IF(SUMPRODUCT(--EXACT(K466&M466,$AJ$2:AJ465)),\"\",MAX($AK$3:AK465)+1)","v":""}]
[1,{"$f":"IF(F467=\"\",\"\",IF(COUNTIF($F$3:F467, F467)>1, \"\", F467))","v":""},465,"",null,{"$f":"IF(I467=\"\",\"\",IF(K467=\"\",\"\", CONCATENATE(DIGITADOR!$M$1,G467,J467)))","v":""},null,null,"",{"$f":"IF(K467=\"\",\"\",INDEX('Otras referencias'!$AG:$AH,MATCH(K467,'Otras referencias'!$AG:$AG,0),2))","v":""},null,{"$f":"IF(J467=\"\",\"\",INDEX(referentes!$S:$W,MATCH(J467,referentes!$S:$S,0),1))","v":""},null,null,null,null,{"$f":"IF(P467=\"\",\"\",INDEX(referentes!$J:$K,MATCH(P467,referentes!$J:$J,0),2))","v":""},null,null,null,{"$f":"IF(T467=\"\",\"\",INDEX(referentes!D:E,MATCH(T467,referentes!D:D,0),2))","v":""},null,{"$f":"IF(V467=\"\",\"\",INDEX('Otras referencias'!AO:AP,MATCH(V467,'Otras referencias'!AO:AO,0),2))","v":""},null,{"$f":"IF(Z467=\"\",\"\",INDEX('Otras referencias'!H:I,MATCH(Z467,'Otras referencias'!I:I,0),1))","v":""},null,null,null,{"$f":"IF(AD467=\"\",\"\",INDEX('Otras referencias'!K:L,MATCH(AD467,'Otras referencias'!L:L,0),1))","v":""},null,"---",null,null,null,{"$f":"IF(V467=\"\",\"\",INDEX('Otras referencias'!AO:AQ,MATCH(V467,'Otras referencias'!AO:AO,0),3))","v":""},{"$f":"IF(SUMPRODUCT(--EXACT(K467&M467,$AJ$2:AJ466)),\"\",K467&M467)","v":""},{"$f":"IF(SUMPRODUCT(--EXACT(K467&M467,$AJ$2:AJ466)),\"\",MAX($AK$3:AK466)+1)","v":""}]
[1,{"$f":"IF(F468=\"\",\"\",IF(COUNTIF($F$3:F468, F468)>1, \"\", F468))","v":""},466,"",null,{"$f":"IF(I468=\"\",\"\",IF(K468=\"\",\"\", CONCATENATE(DIGITADOR!$M$1,G468,J468)))","v":""},null,null,"",{"$f":"IF(K468=\"\",\"\",INDEX('Otras referencias'!$AG:$AH,MATCH(K468,'Otras referencias'!$AG:$AG,0),2))","v":""},null,{"$f":"IF(J468=\"\",\"\",INDEX(referentes!$S:$W,MATCH(J468,referentes!$S:$S,0),1))","v":""},null,null,null,null,{"$f":"IF(P468=\"\",\"\",INDEX(referentes!$J:$K,MATCH(P468,referentes!$J:$J,0),2))","v":""},null,null,null,{"$f":"IF(T468=\"\",\"\",INDEX(referentes!D:E,MATCH(T468,referentes!D:D,0),2))","v":""},null,{"$f":"IF(V468=\"\",\"\",INDEX('Otras referencias'!AO:AP,MATCH(V468,'Otras referencias'!AO:AO,0),2))","v":""},null,{"$f":"IF(Z468=\"\",\"\",INDEX('Otras referencias'!H:I,MATCH(Z468,'Otras referencias'!I:I,0),1))","v":""},null,null,null,{"$f":"IF(AD468=\"\",\"\",INDEX('Otras referencias'!K:L,MATCH(AD468,'Otras referencias'!L:L,0),1))","v":""},null,"---",null,null,null,{"$f":"IF(V468=\"\",\"\",INDEX('Otras referencias'!AO:AQ,MATCH(V468,'Otras referencias'!AO:AO,0),3))","v":""},{"$f":"IF(SUMPRODUCT(--EXACT(K468&M468,$AJ$2:AJ467)),\"\",K468&M468)","v":""},{"$f":"IF(SUMPRODUCT(--EXACT(K468&M468,$AJ$2:AJ467)),\"\",MAX($AK$3:AK467)+1)","v":""}]
[1,{"$f":"IF(F469=\"\",\"\",IF(COUNTIF($F$3:F469, F469)>1, \"\", F469))","v":""},467,"",null,{"$f":"IF(I469=\"\",\"\",IF(K469=\"\",\"\", CONCATENATE(DIGITADOR!$M$1,G469,J469)))","v":""},null,null,"",{"$f":"IF(K469=\"\",\"\",INDEX('Otras referencias'!$AG:$AH,MATCH(K469,'Otras referencias'!$AG:$AG,0),2))","v":""},null,{"$f":"IF(J469=\"\",\"\",INDEX(referentes!$S:$W,MATCH(J469,referentes!$S:$S,0),1))","v":""},null,null,null,null,{"$f":"IF(P469=\"\",\"\",INDEX(referentes!$J:$K,MATCH(P469,referentes!$J:$J,0),2))","v":""},null,null,null,{"$f":"IF(T469=\"\",\"\",INDEX(referentes!D:E,MATCH(T469,referentes!D:D,0),2))","v":""},null,{"$f":"IF(V469=\"\",\"\",INDEX('Otras referencias'!AO:AP,MATCH(V469,'Otras referencias'!AO:AO,0),2))","v":""},null,{"$f":"IF(Z469=\"\",\"\",INDEX('Otras referencias'!H:I,MATCH(Z469,'Otras referencias'!I:I,0),1))","v":""},null,null,null,{"$f":"IF(AD469=\"\",\"\",INDEX('Otras referencias'!K:L,MATCH(AD469,'Otras referencias'!L:L,0),1))","v":""},null,"---",null,null,null,{"$f":"IF(V469=\"\",\"\",INDEX('Otras referencias'!AO:AQ,MATCH(V469,'Otras referencias'!AO:AO,0),3))","v":""},{"$f":"IF(SUMPRODUCT(--EXACT(K469&M469,$AJ$2:AJ468)),\"\",K469&M469)","v":""},{"$f":"IF(SUMPRODUCT(--EXACT(K469&M469,$AJ$2:AJ468)),\"\",MAX($AK$3:AK468)+1)","v":""}]
[1,{"$f":"IF(F470=\"\",\"\",IF(COUNTIF($F$3:F470, F470)>1, \"\", F470))","v":""},468,"",null,{"$f":"IF(I470=\"\",\"\",IF(K470=\"\",\"\", CONCATENATE(DIGITADOR!$M$1,G470,J470)))","v":""},null,null,"",{"$f":"IF(K470=\"\",\"\",INDEX('Otras referencias'!$AG:$AH,MATCH(K470,'Otras referencias'!$AG:$AG,0),2))","v":""},null,{"$f":"IF(J470=\"\",\"\",INDEX(referentes!$S:$W,MATCH(J470,referentes!$S:$S,0),1))","v":""},null,null,null,null,{"$f":"IF(P470=\"\",\"\",INDEX(referentes!$J:$K,MATCH(P470,referentes!$J:$J,0),2))","v":""},null,null,null,{"$f":"IF(T470=\"\",\"\",INDEX(referentes!D:E,MATCH(T470,referentes!D:D,0),2))","v":""},null,{"$f":"IF(V470=\"\",\"\",INDEX('Otras referencias'!AO:AP,MATCH(V470,'Otras referencias'!AO:AO,0),2))","v":""},null,{"$f":"IF(Z470=\"\",\"\",INDEX('Otras referencias'!H:I,MATCH(Z470,'Otras referencias'!I:I,0),1))","v":""},null,null,null,{"$f":"IF(AD470=\"\",\"\",INDEX('Otras referencias'!K:L,MATCH(AD470,'Otras referencias'!L:L,0),1))","v":""},null,"---",null,null,null,{"$f":"IF(V470=\"\",\"\",INDEX('Otras referencias'!AO:AQ,MATCH(V470,'Otras referencias'!AO:AO,0),3))","v":""},{"$f":"IF(SUMPRODUCT(--EXACT(K470&M470,$AJ$2:AJ469)),\"\",K470&M470)","v":""},{"$f":"IF(SUMPRODUCT(--EXACT(K470&M470,$AJ$2:AJ469)),\"\",MAX($AK$3:AK469)+1)","v":""}]
[1,{"$f":"IF(F471=\"\",\"\",IF(COUNTIF($F$3:F471, F471)>1, \"\", F471))","v":""},469,"",null,{"$f":"IF(I471=\"\",\"\",IF(K471=\"\",\"\", CONCATENATE(DIGITADOR!$M$1,G471,J471)))","v":""},null,null,"",{"$f":"IF(K471=\"\",\"\",INDEX('Otras referencias'!$AG:$AH,MATCH(K471,'Otras referencias'!$AG:$AG,0),2))","v":""},null,{"$f":"IF(J471=\"\",\"\",INDEX(referentes!$S:$W,MATCH(J471,referentes!$S:$S,0),1))","v":""},null,null,null,null,{"$f":"IF(P471=\"\",\"\",INDEX(referentes!$J:$K,MATCH(P471,referentes!$J:$J,0),2))","v":""},null,null,null,{"$f":"IF(T471=\"\",\"\",INDEX(referentes!D:E,MATCH(T471,referentes!D:D,0),2))","v":""},null,{"$f":"IF(V471=\"\",\"\",INDEX('Otras referencias'!AO:AP,MATCH(V471,'Otras referencias'!AO:AO,0),2))","v":""},null,{"$f":"IF(Z471=\"\",\"\",INDEX('Otras referencias'!H:I,MATCH(Z471,'Otras referencias'!I:I,0),1))","v":""},null,null,null,{"$f":"IF(AD471=\"\",\"\",INDEX('Otras referencias'!K:L,MATCH(AD471,'Otras referencias'!L:L,0),1))","v":""},null,"---",null,null,null,{"$f":"IF(V471=\"\",\"\",INDEX('Otras referencias'!AO:AQ,MATCH(V471,'Otras referencias'!AO:AO,0),3))","v":""},{"$f":"IF(SUMPRODUCT(--EXACT(K471&M471,$AJ$2:AJ470)),\"\",K471&M471)","v":""},{"$f":"IF(SUMPRODUCT(--EXACT(K471&M471,$AJ$2:AJ470)),\"\",MAX($AK$3:AK470)+1)","v":""}]
[1,{"$f":"IF(F472=\"\",\"\",IF(COUNTIF($F$3:F472, F472)>1, \"\", F472))","v":""},470,"",null,{"$f":"IF(I472=\"\",\"\",IF(K472=\"\",\"\", CONCATENATE(DIGITADOR!$M$1,G472,J472)))","v":""},null,null,"",{"$f":"IF(K472=\"\",\"\",INDEX('Otras referencias'!$AG:$AH,MATCH(K472,'Otras referencias'!$AG:$AG,0),2))","v":""},null,{"$f":"IF(J472=\"\",\"\",INDEX(referentes!$S:$W,MATCH(J472,referentes!$S:$S,0),1))","v":""},null,null,null,null,{"$f":"IF(P472=\"\",\"\",INDEX(referentes!$J:$K,MATCH(P472,referentes!$J:$J,0),2))","v":""},null,null,null,{"$f":"IF(T472=\"\",\"\",INDEX(referentes!D:E,MATCH(T472,referentes!D:D,0),2))","v":""},null,{"$f":"IF(V472=\"\",\"\",INDEX('Otras referencias'!AO:AP,MATCH(V472,'Otras referencias'!AO:AO,0),2))","v":""},null,{"$f":"IF(Z472=\"\",\"\",INDEX('Otras referencias'!H:I,MATCH(Z472,'Otras referencias'!I:I,0),1))","v":""},null,null,null,{"$f":"IF(AD472=\"\",\"\",INDEX('Otras referencias'!K:L,MATCH(AD472,'Otras referencias'!L:L,0),1))","v":""},null,"---",null,null,null,{"$f":"IF(V472=\"\",\"\",INDEX('Otras referencias'!AO:AQ,MATCH(V472,'Otras referencias'!AO:AO,0),3))","v":""},{"$f":"IF(SUMPRODUCT(--EXACT(K472&M472,$AJ$2:AJ471)),\"\",K472&M472)","v":""},{"$f":"IF(SUMPRODUCT(--EXACT(K472&M472,$AJ$2:AJ471)),\"\",MAX($AK$3:AK471)+1)","v":""}]
[1,{"$f":"IF(F473=\"\",\"\",IF(COUNTIF($F$3:F473, F473)>1, \"\", F473))","v":""},471,"",null,{"$f":"IF(I473=\"\",\"\",IF(K473=\"\",\"\", CONCATENATE(DIGITADOR!$M$1,G473,J473)))","v":""},null,null,"",{"$f":"IF(K473=\"\",\"\",INDEX('Otras referencias'!$AG:$AH,MATCH(K473,'Otras referencias'!$AG:$AG,0),2))","v":""},null,{"$f":"IF(J473=\"\",\"\",INDEX(referentes!$S:$W,MATCH(J473,referentes!$S:$S,0),1))","v":""},null,null,null,null,{"$f":"IF(P473=\"\",\"\",INDEX(referentes!$J:$K,MATCH(P473,referentes!$J:$J,0),2))","v":""},null,null,null,{"$f":"IF(T473=\"\",\"\",INDEX(referentes!D:E,MATCH(T473,referentes!D:D,0),2))","v":""},null,{"$f":"IF(V473=\"\",\"\",INDEX('Otras referencias'!AO:AP,MATCH(V473,'Otras referencias'!AO:AO,0),2))","v":""},null,{"$f":"IF(Z473=\"\",\"\",INDEX('Otras referencias'!H:I,MATCH(Z473,'Otras referencias'!I:I,0),1))","v":""},null,null,null,{"$f":"IF(AD473=\"\",\"\",INDEX('Otras referencias'!K:L,MATCH(AD473,'Otras referencias'!L:L,0),1))","v":""},null,"---",null,null,null,{"$f":"IF(V473=\"\",\"\",INDEX('Otras referencias'!AO:AQ,MATCH(V473,'Otras referencias'!AO:AO,0),3))","v":""},{"$f":"IF(SUMPRODUCT(--EXACT(K473&M473,$AJ$2:AJ472)),\"\",K473&M473)","v":""},{"$f":"IF(SUMPRODUCT(--EXACT(K473&M473,$AJ$2:AJ472)),\"\",MAX($AK$3:AK472)+1)","v":""}]
[1,{"$f":"IF(F474=\"\",\"\",IF(COUNTIF($F$3:F474, F474)>1, \"\", F474))","v":""},472,"",null,{"$f":"IF(I474=\"\",\"\",IF(K474=\"\",\"\", CONCATENATE(DIGITADOR!$M$1,G474,J474)))","v":""},null,null,"",{"$f":"IF(K474=\"\",\"\",INDEX('Otras referencias'!$AG:$AH,MATCH(K474,'Otras referencias'!$AG:$AG,0),2))","v":""},null,{"$f":"IF(J474=\"\",\"\",INDEX(referentes!$S:$W,MATCH(J474,referentes!$S:$S,0),1))","v":""},null,null,null,null,{"$f":"IF(P474=\"\",\"\",INDEX(referentes!$J:$K,MATCH(P474,referentes!$J:$J,0),2))","v":""},null,null,null,{"$f":"IF(T474=\"\",\"\",INDEX(referentes!D:E,MATCH(T474,referentes!D:D,0),2))","v":""},null,{"$f":"IF(V474=\"\",\"\",INDEX('Otras referencias'!AO:AP,MATCH(V474,'Otras referencias'!AO:AO,0),2))","v":""},null,{"$f":"IF(Z474=\"\",\"\",INDEX('Otras referencias'!H:I,MATCH(Z474,'Otras referencias'!I:I,0),1))","v":""},null,null,null,{"$f":"IF(AD474=\"\",\"\",INDEX('Otras referencias'!K:L,MATCH(AD474,'Otras referencias'!L:L,0),1))","v":""},null,"---",null,null,null,{"$f":"IF(V474=\"\",\"\",INDEX('Otras referencias'!AO:AQ,MATCH(V474,'Otras referencias'!AO:AO,0),3))","v":""},{"$f":"IF(SUMPRODUCT(--EXACT(K474&M474,$AJ$2:AJ473)),\"\",K474&M474)","v":""},{"$f":"IF(SUMPRODUCT(--EXACT(K474&M474,$AJ$2:AJ473)),\"\",MAX($AK$3:AK473)+1)","v":""}]
[1,{"$f":"IF(F475=\"\",\"\",IF(COUNTIF($F$3:F475, F475)>1, \"\", F475))","v":""},473,"",null,{"$f":"IF(I475=\"\",\"\",IF(K475=\"\",\"\", CONCATENATE(DIGITADOR!$M$1,G475,J475)))","v":""},null,null,"",{"$f":"IF(K475=\"\",\"\",INDEX('Otras referencias'!$AG:$AH,MATCH(K475,'Otras referencias'!$AG:$AG,0),2))","v":""},null,{"$f":"IF(J475=\"\",\"\",INDEX(referentes!$S:$W,MATCH(J475,referentes!$S:$S,0),1))","v":""},null,null,null,null,{"$f":"IF(P475=\"\",\"\",INDEX(referentes!$J:$K,MATCH(P475,referentes!$J:$J,0),2))","v":""},null,null,null,{"$f":"IF(T475=\"\",\"\",INDEX(referentes!D:E,MATCH(T475,referentes!D:D,0),2))","v":""},null,{"$f":"IF(V475=\"\",\"\",INDEX('Otras referencias'!AO:AP,MATCH(V475,'Otras referencias'!AO:AO,0),2))","v":""},null,{"$f":"IF(Z475=\"\",\"\",INDEX('Otras referencias'!H:I,MATCH(Z475,'Otras referencias'!I:I,0),1))","v":""},null,null,null,{"$f":"IF(AD475=\"\",\"\",INDEX('Otras referencias'!K:L,MATCH(AD475,'Otras referencias'!L:L,0),1))","v":""},null,"---",null,null,null,{"$f":"IF(V475=\"\",\"\",INDEX('Otras referencias'!AO:AQ,MATCH(V475,'Otras referencias'!AO:AO,0),3))","v":""},{"$f":"IF(SUMPRODUCT(--EXACT(K475&M475,$AJ$2:AJ474)),\"\",K475&M475)","v":""},{"$f":"IF(SUMPRODUCT(--EXACT(K475&M475,$AJ$2:AJ474)),\"\",MAX($AK$3:AK474)+1)","v":""}]
[1,{"$f":"IF(F476=\"\",\"\",IF(COUNTIF($F$3:F476, F476)>1, \"\", F476))","v":""},474,"",null,{"$f":"IF(I476=\"\",\"\",IF(K476=\"\",\"\", CONCATENATE(DIGITADOR!$M$1,G476,J476)))","v":""},null,null,"",{"$f":"IF(K476=\"\",\"\",INDEX('Otras referencias'!$AG:$AH,MATCH(K476,'Otras referencias'!$AG:$AG,0),2))","v":""},null,{"$f":"IF(J476=\"\",\"\",INDEX(referentes!$S:$W,MATCH(J476,referentes!$S:$S,0),1))","v":""},null,null,null,null,{"$f":"IF(P476=\"\",\"\",INDEX(referentes!$J:$K,MATCH(P476,referentes!$J:$J,0),2))","v":""},null,null,null,{"$f":"IF(T476=\"\",\"\",INDEX(referentes!D:E,MATCH(T476,referentes!D:D,0),2))","v":""},null,{"$f":"IF(V476=\"\",\"\",INDEX('Otras referencias'!AO:AP,MATCH(V476,'Otras referencias'!AO:AO,0),2))","v":""},null,{"$f":"IF(Z476=\"\",\"\",INDEX('Otras referencias'!H:I,MATCH(Z476,'Otras referencias'!I:I,0),1))","v":""},null,null,null,{"$f":"IF(AD476=\"\",\"\",INDEX('Otras referencias'!K:L,MATCH(AD476,'Otras referencias'!L:L,0),1))","v":""},null,"---",null,null,null,{"$f":"IF(V476=\"\",\"\",INDEX('Otras referencias'!AO:AQ,MATCH(V476,'Otras referencias'!AO:AO,0),3))","v":""},{"$f":"IF(SUMPRODUCT(--EXACT(K476&M476,$AJ$2:AJ475)),\"\",K476&M476)","v":""},{"$f":"IF(SUMPRODUCT(--EXACT(K476&M476,$AJ$2:AJ475)),\"\",MAX($AK$3:AK475)+1)","v":""}]
[1,{"$f":"IF(F477=\"\",\"\",IF(COUNTIF($F$3:F477, F477)>1, \"\", F477))","v":""},475,"",null,{"$f":"IF(I477=\"\",\"\",IF(K477=\"\",\"\", CONCATENATE(DIGITADOR!$M$1,G477,J477)))","v":""},null,null,"",{"$f":"IF(K477=\"\",\"\",INDEX('Otras referencias'!$AG:$AH,MATCH(K477,'Otras referencias'!$AG:$AG,0),2))","v":""},null,{"$f":"IF(J477=\"\",\"\",INDEX(referentes!$S:$W,MATCH(J477,referentes!$S:$S,0),1))","v":""},null,null,null,null,{"$f":"IF(P477=\"\",\"\",INDEX(referentes!$J:$K,MATCH(P477,referentes!$J:$J,0),2))","v":""},null,null,null,{"$f":"IF(T477=\"\",\"\",INDEX(referentes!D:E,MATCH(T477,referentes!D:D,0),2))","v":""},null,{"$f":"IF(V477=\"\",\"\",INDEX('Otras referencias'!AO:AP,MATCH(V477,'Otras referencias'!AO:AO,0),2))","v":""},null,{"$f":"IF(Z477=\"\",\"\",INDEX('Otras referencias'!H:I,MATCH(Z477,'Otras referencias'!I:I,0),1))","v":""},null,null,null,{"$f":"IF(AD477=\"\",\"\",INDEX('Otras referencias'!K:L,MATCH(AD477,'Otras referencias'!L:L,0),1))","v":""},null,"---",null,null,null,{"$f":"IF(V477=\"\",\"\",INDEX('Otras referencias'!AO:AQ,MATCH(V477,'Otras referencias'!AO:AO,0),3))","v":""},{"$f":"IF(SUMPRODUCT(--EXACT(K477&M477,$AJ$2:AJ476)),\"\",K477&M477)","v":""},{"$f":"IF(SUMPRODUCT(--EXACT(K477&M477,$AJ$2:AJ476)),\"\",MAX($AK$3:AK476)+1)","v":""}]
[1,{"$f":"IF(F478=\"\",\"\",IF(COUNTIF($F$3:F478, F478)>1, \"\", F478))","v":""},476,"",null,{"$f":"IF(I478=\"\",\"\",IF(K478=\"\",\"\", CONCATENATE(DIGITADOR!$M$1,G478,J478)))","v":""},null,null,"",{"$f":"IF(K478=\"\",\"\",INDEX('Otras referencias'!$AG:$AH,MATCH(K478,'Otras referencias'!$AG:$AG,0),2))","v":""},null,{"$f":"IF(J478=\"\",\"\",INDEX(referentes!$S:$W,MATCH(J478,referentes!$S:$S,0),1))","v":""},null,null,null,null,{"$f":"IF(P478=\"\",\"\",INDEX(referentes!$J:$K,MATCH(P478,referentes!$J:$J,0),2))","v":""},null,null,null,{"$f":"IF(T478=\"\",\"\",INDEX(referentes!D:E,MATCH(T478,referentes!D:D,0),2))","v":""},null,{"$f":"IF(V478=\"\",\"\",INDEX('Otras referencias'!AO:AP,MATCH(V478,'Otras referencias'!AO:AO,0),2))","v":""},null,{"$f":"IF(Z478=\"\",\"\",INDEX('Otras referencias'!H:I,MATCH(Z478,'Otras referencias'!I:I,0),1))","v":""},null,null,null,{"$f":"IF(AD478=\"\",\"\",INDEX('Otras referencias'!K:L,MATCH(AD478,'Otras referencias'!L:L,0),1))","v":""},null,"---",null,null,null,{"$f":"IF(V478=\"\",\"\",INDEX('Otras referencias'!AO:AQ,MATCH(V478,'Otras referencias'!AO:AO,0),3))","v":""},{"$f":"IF(SUMPRODUCT(--EXACT(K478&M478,$AJ$2:AJ477)),\"\",K478&M478)","v":""},{"$f":"IF(SUMPRODUCT(--EXACT(K478&M478,$AJ$2:AJ477)),\"\",MAX($AK$3:AK477)+1)","v":""}]
[1,{"$f":"IF(F479=\"\",\"\",IF(COUNTIF($F$3:F479, F479)>1, \"\", F479))","v":""},477,"",null,{"$f":"IF(I479=\"\",\"\",IF(K479=\"\",\"\", CONCATENATE(DIGITADOR!$M$1,G479,J479)))","v":""},null,null,"",{"$f":"IF(K479=\"\",\"\",INDEX('Otras referencias'!$AG:$AH,MATCH(K479,'Otras referencias'!$AG:$AG,0),2))","v":""},null,{"$f":"IF(J479=\"\",\"\",INDEX(referentes!$S:$W,MATCH(J479,referentes!$S:$S,0),1))","v":""},null,null,null,null,{"$f":"IF(P479=\"\",\"\",INDEX(referentes!$J:$K,MATCH(P479,referentes!$J:$J,0),2))","v":""},null,null,null,{"$f":"IF(T479=\"\",\"\",INDEX(referentes!D:E,MATCH(T479,referentes!D:D,0),2))","v":""},null,{"$f":"IF(V479=\"\",\"\",INDEX('Otras referencias'!AO:AP,MATCH(V479,'Otras referencias'!AO:AO,0),2))","v":""},null,{"$f":"IF(Z479=\"\",\"\",INDEX('Otras referencias'!H:I,MATCH(Z479,'Otras referencias'!I:I,0),1))","v":""},null,null,null,{"$f":"IF(AD479=\"\",\"\",INDEX('Otras referencias'!K:L,MATCH(AD479,'Otras referencias'!L:L,0),1))","v":""},null,"---",null,null,null,{"$f":"IF(V479=\"\",\"\",INDEX('Otras referencias'!AO:AQ,MATCH(V479,'Otras referencias'!AO:AO,0),3))","v":""},{"$f":"IF(SUMPRODUCT(--EXACT(K479&M479,$AJ$2:AJ478)),\"\",K479&M479)","v":""},{"$f":"IF(SUMPRODUCT(--EXACT(K479&M479,$AJ$2:AJ478)),\"\",MAX($AK$3:AK478)+1)","v":""}]
[1,{"$f":"IF(F480=\"\",\"\",IF(COUNTIF($F$3:F480, F480)>1, \"\", F480))","v":""},478,"",null,{"$f":"IF(I480=\"\",\"\",IF(K480=\"\",\"\", CONCATENATE(DIGITADOR!$M$1,G480,J480)))","v":""},null,null,"",{"$f":"IF(K480=\"\",\"\",INDEX('Otras referencias'!$AG:$AH,MATCH(K480,'Otras referencias'!$AG:$AG,0),2))","v":""},null,{"$f":"IF(J480=\"\",\"\",INDEX(referentes!$S:$W,MATCH(J480,referentes!$S:$S,0),1))","v":""},null,null,null,null,{"$f":"IF(P480=\"\",\"\",INDEX(referentes!$J:$K,MATCH(P480,referentes!$J:$J,0),2))","v":""},null,null,null,{"$f":"IF(T480=\"\",\"\",INDEX(referentes!D:E,MATCH(T480,referentes!D:D,0),2))","v":""},null,{"$f":"IF(V480=\"\",\"\",INDEX('Otras referencias'!AO:AP,MATCH(V480,'Otras referencias'!AO:AO,0),2))","v":""},null,{"$f":"IF(Z480=\"\",\"\",INDEX('Otras referencias'!H:I,MATCH(Z480,'Otras referencias'!I:I,0),1))","v":""},null,null,null,{"$f":"IF(AD480=\"\",\"\",INDEX('Otras referencias'!K:L,MATCH(AD480,'Otras referencias'!L:L,0),1))","v":""},null,"---",null,null,null,{"$f":"IF(V480=\"\",\"\",INDEX('Otras referencias'!AO:AQ,MATCH(V480,'Otras referencias'!AO:AO,0),3))","v":""},{"$f":"IF(SUMPRODUCT(--EXACT(K480&M480,$AJ$2:AJ479)),\"\",K480&M480)","v":""},{"$f":"IF(SUMPRODUCT(--EXACT(K480&M480,$AJ$2:AJ479)),\"\",MAX($AK$3:AK479)+1)","v":""}]
[1,{"$f":"IF(F481=\"\",\"\",IF(COUNTIF($F$3:F481, F481)>1, \"\", F481))","v":""},479,"",null,{"$f":"IF(I481=\"\",\"\",IF(K481=\"\",\"\", CONCATENATE(DIGITADOR!$M$1,G481,J481)))","v":""},null,null,"",{"$f":"IF(K481=\"\",\"\",INDEX('Otras referencias'!$AG:$AH,MATCH(K481,'Otras referencias'!$AG:$AG,0),2))","v":""},null,{"$f":"IF(J481=\"\",\"\",INDEX(referentes!$S:$W,MATCH(J481,referentes!$S:$S,0),1))","v":""},null,null,null,null,{"$f":"IF(P481=\"\",\"\",INDEX(referentes!$J:$K,MATCH(P481,referentes!$J:$J,0),2))","v":""},null,null,null,{"$f":"IF(T481=\"\",\"\",INDEX(referentes!D:E,MATCH(T481,referentes!D:D,0),2))","v":""},null,{"$f":"IF(V481=\"\",\"\",INDEX('Otras referencias'!AO:AP,MATCH(V481,'Otras referencias'!AO:AO,0),2))","v":""},null,{"$f":"IF(Z481=\"\",\"\",INDEX('Otras referencias'!H:I,MATCH(Z481,'Otras referencias'!I:I,0),1))","v":""},null,null,null,{"$f":"IF(AD481=\"\",\"\",INDEX('Otras referencias'!K:L,MATCH(AD481,'Otras referencias'!L:L,0),1))","v":""},null,"---",null,null,null,{"$f":"IF(V481=\"\",\"\",INDEX('Otras referencias'!AO:AQ,MATCH(V481,'Otras referencias'!AO:AO,0),3))","v":""},{"$f":"IF(SUMPRODUCT(--EXACT(K481&M481,$AJ$2:AJ480)),\"\",K481&M481)","v":""},{"$f":"IF(SUMPRODUCT(--EXACT(K481&M481,$AJ$2:AJ480)),\"\",MAX($AK$3:AK480)+1)","v":""}]
[1,{"$f":"IF(F482=\"\",\"\",IF(COUNTIF($F$3:F482, F482)>1, \"\", F482))","v":""},480,"",null,{"$f":"IF(I482=\"\",\"\",IF(K482=\"\",\"\", CONCATENATE(DIGITADOR!$M$1,G482,J482)))","v":""},null,null,"",{"$f":"IF(K482=\"\",\"\",INDEX('Otras referencias'!$AG:$AH,MATCH(K482,'Otras referencias'!$AG:$AG,0),2))","v":""},null,{"$f":"IF(J482=\"\",\"\",INDEX(referentes!$S:$W,MATCH(J482,referentes!$S:$S,0),1))","v":""},null,null,null,null,{"$f":"IF(P482=\"\",\"\",INDEX(referentes!$J:$K,MATCH(P482,referentes!$J:$J,0),2))","v":""},null,null,null,{"$f":"IF(T482=\"\",\"\",INDEX(referentes!D:E,MATCH(T482,referentes!D:D,0),2))","v":""},null,{"$f":"IF(V482=\"\",\"\",INDEX('Otras referencias'!AO:AP,MATCH(V482,'Otras referencias'!AO:AO,0),2))","v":""},null,{"$f":"IF(Z482=\"\",\"\",INDEX('Otras referencias'!H:I,MATCH(Z482,'Otras referencias'!I:I,0),1))","v":""},null,null,null,{"$f":"IF(AD482=\"\",\"\",INDEX('Otras referencias'!K:L,MATCH(AD482,'Otras referencias'!L:L,0),1))","v":""},null,"---",null,null,null,{"$f":"IF(V482=\"\",\"\",INDEX('Otras referencias'!AO:AQ,MATCH(V482,'Otras referencias'!AO:AO,0),3))","v":""},{"$f":"IF(SUMPRODUCT(--EXACT(K482&M482,$AJ$2:AJ481)),\"\",K482&M482)","v":""},{"$f":"IF(SUMPRODUCT(--EXACT(K482&M482,$AJ$2:AJ481)),\"\",MAX($AK$3:AK481)+1)","v":""}]
[1,{"$f":"IF(F483=\"\",\"\",IF(COUNTIF($F$3:F483, F483)>1, \"\", F483))","v":""},481,"",null,{"$f":"IF(I483=\"\",\"\",IF(K483=\"\",\"\", CONCATENATE(DIGITADOR!$M$1,G483,J483)))","v":""},null,null,"",{"$f":"IF(K483=\"\",\"\",INDEX('Otras referencias'!$AG:$AH,MATCH(K483,'Otras referencias'!$AG:$AG,0),2))","v":""},null,{"$f":"IF(J483=\"\",\"\",INDEX(referentes!$S:$W,MATCH(J483,referentes!$S:$S,0),1))","v":""},null,null,null,null,{"$f":"IF(P483=\"\",\"\",INDEX(referentes!$J:$K,MATCH(P483,referentes!$J:$J,0),2))","v":""},null,null,null,{"$f":"IF(T483=\"\",\"\",INDEX(referentes!D:E,MATCH(T483,referentes!D:D,0),2))","v":""},null,{"$f":"IF(V483=\"\",\"\",INDEX('Otras referencias'!AO:AP,MATCH(V483,'Otras referencias'!AO:AO,0),2))","v":""},null,{"$f":"IF(Z483=\"\",\"\",INDEX('Otras referencias'!H:I,MATCH(Z483,'Otras referencias'!I:I,0),1))","v":""},null,null,null,{"$f":"IF(AD483=\"\",\"\",INDEX('Otras referencias'!K:L,MATCH(AD483,'Otras referencias'!L:L,0),1))","v":""},null,"---",null,null,null,{"$f":"IF(V483=\"\",\"\",INDEX('Otras referencias'!AO:AQ,MATCH(V483,'Otras referencias'!AO:AO,0),3))","v":""},{"$f":"IF(SUMPRODUCT(--EXACT(K483&M483,$AJ$2:AJ482)),\"\",K483&M483)","v":""},{"$f":"IF(SUMPRODUCT(--EXACT(K483&M483,$AJ$2:AJ482)),\"\",MAX($AK$3:AK482)+1)","v":""}]
[1,{"$f":"IF(F484=\"\",\"\",IF(COUNTIF($F$3:F484, F484)>1, \"\", F484))","v":""},482,"",null,{"$f":"IF(I484=\"\",\"\",IF(K484=\"\",\"\", CONCATENATE(DIGITADOR!$M$1,G484,J484)))","v":""},null,null,"",{"$f":"IF(K484=\"\",\"\",INDEX('Otras referencias'!$AG:$AH,MATCH(K484,'Otras referencias'!$AG:$AG,0),2))","v":""},null,{"$f":"IF(J484=\"\",\"\",INDEX(referentes!$S:$W,MATCH(J484,referentes!$S:$S,0),1))","v":""},null,null,null,null,{"$f":"IF(P484=\"\",\"\",INDEX(referentes!$J:$K,MATCH(P484,referentes!$J:$J,0),2))","v":""},null,null,null,{"$f":"IF(T484=\"\",\"\",INDEX(referentes!D:E,MATCH(T484,referentes!D:D,0),2))","v":""},null,{"$f":"IF(V484=\"\",\"\",INDEX('Otras referencias'!AO:AP,MATCH(V484,'Otras referencias'!AO:AO,0),2))","v":""},null,{"$f":"IF(Z484=\"\",\"\",INDEX('Otras referencias'!H:I,MATCH(Z484,'Otras referencias'!I:I,0),1))","v":""},null,null,null,{"$f":"IF(AD484=\"\",\"\",INDEX('Otras referencias'!K:L,MATCH(AD484,'Otras referencias'!L:L,0),1))","v":""},null,"---",null,null,null,{"$f":"IF(V484=\"\",\"\",INDEX('Otras referencias'!AO:AQ,MATCH(V484,'Otras referencias'!AO:AO,0),3))","v":""},{"$f":"IF(SUMPRODUCT(--EXACT(K484&M484,$AJ$2:AJ483)),\"\",K484&M484)","v":""},{"$f":"IF(SUMPRODUCT(--EXACT(K484&M484,$AJ$2:AJ483)),\"\",MAX($AK$3:AK483)+1)","v":""}]
[1,{"$f":"IF(F485=\"\",\"\",IF(COUNTIF($F$3:F485, F485)>1, \"\", F485))","v":""},483,"",null,{"$f":"IF(I485=\"\",\"\",IF(K485=\"\",\"\", CONCATENATE(DIGITADOR!$M$1,G485,J485)))","v":""},null,null,"",{"$f":"IF(K485=\"\",\"\",INDEX('Otras referencias'!$AG:$AH,MATCH(K485,'Otras referencias'!$AG:$AG,0),2))","v":""},null,{"$f":"IF(J485=\"\",\"\",INDEX(referentes!$S:$W,MATCH(J485,referentes!$S:$S,0),1))","v":""},null,null,null,null,{"$f":"IF(P485=\"\",\"\",INDEX(referentes!$J:$K,MATCH(P485,referentes!$J:$J,0),2))","v":""},null,null,null,{"$f":"IF(T485=\"\",\"\",INDEX(referentes!D:E,MATCH(T485,referentes!D:D,0),2))","v":""},null,{"$f":"IF(V485=\"\",\"\",INDEX('Otras referencias'!AO:AP,MATCH(V485,'Otras referencias'!AO:AO,0),2))","v":""},null,{"$f":"IF(Z485=\"\",\"\",INDEX('Otras referencias'!H:I,MATCH(Z485,'Otras referencias'!I:I,0),1))","v":""},null,null,null,{"$f":"IF(AD485=\"\",\"\",INDEX('Otras referencias'!K:L,MATCH(AD485,'Otras referencias'!L:L,0),1))","v":""},null,"---",null,null,null,{"$f":"IF(V485=\"\",\"\",INDEX('Otras referencias'!AO:AQ,MATCH(V485,'Otras referencias'!AO:AO,0),3))","v":""},{"$f":"IF(SUMPRODUCT(--EXACT(K485&M485,$AJ$2:AJ484)),\"\",K485&M485)","v":""},{"$f":"IF(SUMPRODUCT(--EXACT(K485&M485,$AJ$2:AJ484)),\"\",MAX($AK$3:AK484)+1)","v":""}]
[1,{"$f":"IF(F486=\"\",\"\",IF(COUNTIF($F$3:F486, F486)>1, \"\", F486))","v":""},484,"",null,{"$f":"IF(I486=\"\",\"\",IF(K486=\"\",\"\", CONCATENATE(DIGITADOR!$M$1,G486,J486)))","v":""},null,null,"",{"$f":"IF(K486=\"\",\"\",INDEX('Otras referencias'!$AG:$AH,MATCH(K486,'Otras referencias'!$AG:$AG,0),2))","v":""},null,{"$f":"IF(J486=\"\",\"\",INDEX(referentes!$S:$W,MATCH(J486,referentes!$S:$S,0),1))","v":""},null,null,null,null,{"$f":"IF(P486=\"\",\"\",INDEX(referentes!$J:$K,MATCH(P486,referentes!$J:$J,0),2))","v":""},null,null,null,{"$f":"IF(T486=\"\",\"\",INDEX(referentes!D:E,MATCH(T486,referentes!D:D,0),2))","v":""},null,{"$f":"IF(V486=\"\",\"\",INDEX('Otras referencias'!AO:AP,MATCH(V486,'Otras referencias'!AO:AO,0),2))","v":""},null,{"$f":"IF(Z486=\"\",\"\",INDEX('Otras referencias'!H:I,MATCH(Z486,'Otras referencias'!I:I,0),1))","v":""},null,null,null,{"$f":"IF(AD486=\"\",\"\",INDEX('Otras referencias'!K:L,MATCH(AD486,'Otras referencias'!L:L,0),1))","v":""},null,"---",null,null,null,{"$f":"IF(V486=\"\",\"\",INDEX('Otras referencias'!AO:AQ,MATCH(V486,'Otras referencias'!AO:AO,0),3))","v":""},{"$f":"IF(SUMPRODUCT(--EXACT(K486&M486,$AJ$2:AJ485)),\"\",K486&M486)","v":""},{"$f":"IF(SUMPRODUCT(--EXACT(K486&M486,$AJ$2:AJ485)),\"\",MAX($AK$3:AK485)+1)","v":""}]
[1,{"$f":"IF(F487=\"\",\"\",IF(COUNTIF($F$3:F487, F487)>1, \"\", F487))","v":""},485,"",null,{"$f":"IF(I487=\"\",\"\",IF(K487=\"\",\"\", CONCATENATE(DIGITADOR!$M$1,G487,J487)))","v":""},null,null,"",{"$f":"IF(K487=\"\",\"\",INDEX('Otras referencias'!$AG:$AH,MATCH(K487,'Otras referencias'!$AG:$AG,0),2))","v":""},null,{"$f":"IF(J487=\"\",\"\",INDEX(referentes!$S:$W,MATCH(J487,referentes!$S:$S,0),1))","v":""},null,null,null,null,{"$f":"IF(P487=\"\",\"\",INDEX(referentes!$J:$K,MATCH(P487,referentes!$J:$J,0),2))","v":""},null,null,null,{"$f":"IF(T487=\"\",\"\",INDEX(referentes!D:E,MATCH(T487,referentes!D:D,0),2))","v":""},null,{"$f":"IF(V487=\"\",\"\",INDEX('Otras referencias'!AO:AP,MATCH(V487,'Otras referencias'!AO:AO,0),2))","v":""},null,{"$f":"IF(Z487=\"\",\"\",INDEX('Otras referencias'!H:I,MATCH(Z487,'Otras referencias'!I:I,0),1))","v":""},null,null,null,{"$f":"IF(AD487=\"\",\"\",INDEX('Otras referencias'!K:L,MATCH(AD487,'Otras referencias'!L:L,0),1))","v":""},null,"---",null,null,null,{"$f":"IF(V487=\"\",\"\",INDEX('Otras referencias'!AO:AQ,MATCH(V487,'Otras referencias'!AO:AO,0),3))","v":""},{"$f":"IF(SUMPRODUCT(--EXACT(K487&M487,$AJ$2:AJ486)),\"\",K487&M487)","v":""},{"$f":"IF(SUMPRODUCT(--EXACT(K487&M487,$AJ$2:AJ486)),\"\",MAX($AK$3:AK486)+1)","v":""}]
[1,{"$f":"IF(F488=\"\",\"\",IF(COUNTIF($F$3:F488, F488)>1, \"\", F488))","v":""},486,"",null,{"$f":"IF(I488=\"\",\"\",IF(K488=\"\",\"\", CONCATENATE(DIGITADOR!$M$1,G488,J488)))","v":""},null,null,"",{"$f":"IF(K488=\"\",\"\",INDEX('Otras referencias'!$AG:$AH,MATCH(K488,'Otras referencias'!$AG:$AG,0),2))","v":""},null,{"$f":"IF(J488=\"\",\"\",INDEX(referentes!$S:$W,MATCH(J488,referentes!$S:$S,0),1))","v":""},null,null,null,null,{"$f":"IF(P488=\"\",\"\",INDEX(referentes!$J:$K,MATCH(P488,referentes!$J:$J,0),2))","v":""},null,null,null,{"$f":"IF(T488=\"\",\"\",INDEX(referentes!D:E,MATCH(T488,referentes!D:D,0),2))","v":""},null,{"$f":"IF(V488=\"\",\"\",INDEX('Otras referencias'!AO:AP,MATCH(V488,'Otras referencias'!AO:AO,0),2))","v":""},null,{"$f":"IF(Z488=\"\",\"\",INDEX('Otras referencias'!H:I,MATCH(Z488,'Otras referencias'!I:I,0),1))","v":""},null,null,null,{"$f":"IF(AD488=\"\",\"\",INDEX('Otras referencias'!K:L,MATCH(AD488,'Otras referencias'!L:L,0),1))","v":""},null,"---",null,null,null,{"$f":"IF(V488=\"\",\"\",INDEX('Otras referencias'!AO:AQ,MATCH(V488,'Otras referencias'!AO:AO,0),3))","v":""},{"$f":"IF(SUMPRODUCT(--EXACT(K488&M488,$AJ$2:AJ487)),\"\",K488&M488)","v":""},{"$f":"IF(SUMPRODUCT(--EXACT(K488&M488,$AJ$2:AJ487)),\"\",MAX($AK$3:AK487)+1)","v":""}]
[1,{"$f":"IF(F489=\"\",\"\",IF(COUNTIF($F$3:F489, F489)>1, \"\", F489))","v":""},487,"",null,{"$f":"IF(I489=\"\",\"\",IF(K489=\"\",\"\", CONCATENATE(DIGITADOR!$M$1,G489,J489)))","v":""},null,null,"",{"$f":"IF(K489=\"\",\"\",INDEX('Otras referencias'!$AG:$AH,MATCH(K489,'Otras referencias'!$AG:$AG,0),2))","v":""},null,{"$f":"IF(J489=\"\",\"\",INDEX(referentes!$S:$W,MATCH(J489,referentes!$S:$S,0),1))","v":""},null,null,null,null,{"$f":"IF(P489=\"\",\"\",INDEX(referentes!$J:$K,MATCH(P489,referentes!$J:$J,0),2))","v":""},null,null,null,{"$f":"IF(T489=\"\",\"\",INDEX(referentes!D:E,MATCH(T489,referentes!D:D,0),2))","v":""},null,{"$f":"IF(V489=\"\",\"\",INDEX('Otras referencias'!AO:AP,MATCH(V489,'Otras referencias'!AO:AO,0),2))","v":""},null,{"$f":"IF(Z489=\"\",\"\",INDEX('Otras referencias'!H:I,MATCH(Z489,'Otras referencias'!I:I,0),1))","v":""},null,null,null,{"$f":"IF(AD489=\"\",\"\",INDEX('Otras referencias'!K:L,MATCH(AD489,'Otras referencias'!L:L,0),1))","v":""},null,"---",null,null,null,{"$f":"IF(V489=\"\",\"\",INDEX('Otras referencias'!AO:AQ,MATCH(V489,'Otras referencias'!AO:AO,0),3))","v":""},{"$f":"IF(SUMPRODUCT(--EXACT(K489&M489,$AJ$2:AJ488)),\"\",K489&M489)","v":""},{"$f":"IF(SUMPRODUCT(--EXACT(K489&M489,$AJ$2:AJ488)),\"\",MAX($AK$3:AK488)+1)","v":""}]
[1,{"$f":"IF(F490=\"\",\"\",IF(COUNTIF($F$3:F490, F490)>1, \"\", F490))","v":""},488,"",null,{"$f":"IF(I490=\"\",\"\",IF(K490=\"\",\"\", CONCATENATE(DIGITADOR!$M$1,G490,J490)))","v":""},null,null,"",{"$f":"IF(K490=\"\",\"\",INDEX('Otras referencias'!$AG:$AH,MATCH(K490,'Otras referencias'!$AG:$AG,0),2))","v":""},null,{"$f":"IF(J490=\"\",\"\",INDEX(referentes!$S:$W,MATCH(J490,referentes!$S:$S,0),1))","v":""},null,null,null,null,{"$f":"IF(P490=\"\",\"\",INDEX(referentes!$J:$K,MATCH(P490,referentes!$J:$J,0),2))","v":""},null,null,null,{"$f":"IF(T490=\"\",\"\",INDEX(referentes!D:E,MATCH(T490,referentes!D:D,0),2))","v":""},null,{"$f":"IF(V490=\"\",\"\",INDEX('Otras referencias'!AO:AP,MATCH(V490,'Otras referencias'!AO:AO,0),2))","v":""},null,{"$f":"IF(Z490=\"\",\"\",INDEX('Otras referencias'!H:I,MATCH(Z490,'Otras referencias'!I:I,0),1))","v":""},null,null,null,{"$f":"IF(AD490=\"\",\"\",INDEX('Otras referencias'!K:L,MATCH(AD490,'Otras referencias'!L:L,0),1))","v":""},null,"---",null,null,null,{"$f":"IF(V490=\"\",\"\",INDEX('Otras referencias'!AO:AQ,MATCH(V490,'Otras referencias'!AO:AO,0),3))","v":""},{"$f":"IF(SUMPRODUCT(--EXACT(K490&M490,$AJ$2:AJ489)),\"\",K490&M490)","v":""},{"$f":"IF(SUMPRODUCT(--EXACT(K490&M490,$AJ$2:AJ489)),\"\",MAX($AK$3:AK489)+1)","v":""}]
[1,{"$f":"IF(F491=\"\",\"\",IF(COUNTIF($F$3:F491, F491)>1, \"\", F491))","v":""},489,"",null,{"$f":"IF(I491=\"\",\"\",IF(K491=\"\",\"\", CONCATENATE(DIGITADOR!$M$1,G491,J491)))","v":""},null,null,"",{"$f":"IF(K491=\"\",\"\",INDEX('Otras referencias'!$AG:$AH,MATCH(K491,'Otras referencias'!$AG:$AG,0),2))","v":""},null,{"$f":"IF(J491=\"\",\"\",INDEX(referentes!$S:$W,MATCH(J491,referentes!$S:$S,0),1))","v":""},null,null,null,null,{"$f":"IF(P491=\"\",\"\",INDEX(referentes!$J:$K,MATCH(P491,referentes!$J:$J,0),2))","v":""},null,null,null,{"$f":"IF(T491=\"\",\"\",INDEX(referentes!D:E,MATCH(T491,referentes!D:D,0),2))","v":""},null,{"$f":"IF(V491=\"\",\"\",INDEX('Otras referencias'!AO:AP,MATCH(V491,'Otras referencias'!AO:AO,0),2))","v":""},null,{"$f":"IF(Z491=\"\",\"\",INDEX('Otras referencias'!H:I,MATCH(Z491,'Otras referencias'!I:I,0),1))","v":""},null,null,null,{"$f":"IF(AD491=\"\",\"\",INDEX('Otras referencias'!K:L,MATCH(AD491,'Otras referencias'!L:L,0),1))","v":""},null,"---",null,null,null,{"$f":"IF(V491=\"\",\"\",INDEX('Otras referencias'!AO:AQ,MATCH(V491,'Otras referencias'!AO:AO,0),3))","v":""},{"$f":"IF(SUMPRODUCT(--EXACT(K491&M491,$AJ$2:AJ490)),\"\",K491&M491)","v":""},{"$f":"IF(SUMPRODUCT(--EXACT(K491&M491,$AJ$2:AJ490)),\"\",MAX($AK$3:AK490)+1)","v":""}]
[1,{"$f":"IF(F492=\"\",\"\",IF(COUNTIF($F$3:F492, F492)>1, \"\", F492))","v":""},490,"",null,{"$f":"IF(I492=\"\",\"\",IF(K492=\"\",\"\", CONCATENATE(DIGITADOR!$M$1,G492,J492)))","v":""},null,null,"",{"$f":"IF(K492=\"\",\"\",INDEX('Otras referencias'!$AG:$AH,MATCH(K492,'Otras referencias'!$AG:$AG,0),2))","v":""},null,{"$f":"IF(J492=\"\",\"\",INDEX(referentes!$S:$W,MATCH(J492,referentes!$S:$S,0),1))","v":""},null,null,null,null,{"$f":"IF(P492=\"\",\"\",INDEX(referentes!$J:$K,MATCH(P492,referentes!$J:$J,0),2))","v":""},null,null,null,{"$f":"IF(T492=\"\",\"\",INDEX(referentes!D:E,MATCH(T492,referentes!D:D,0),2))","v":""},null,{"$f":"IF(V492=\"\",\"\",INDEX('Otras referencias'!AO:AP,MATCH(V492,'Otras referencias'!AO:AO,0),2))","v":""},null,{"$f":"IF(Z492=\"\",\"\",INDEX('Otras referencias'!H:I,MATCH(Z492,'Otras referencias'!I:I,0),1))","v":""},null,null,null,{"$f":"IF(AD492=\"\",\"\",INDEX('Otras referencias'!K:L,MATCH(AD492,'Otras referencias'!L:L,0),1))","v":""},null,"---",null,null,null,{"$f":"IF(V492=\"\",\"\",INDEX('Otras referencias'!AO:AQ,MATCH(V492,'Otras referencias'!AO:AO,0),3))","v":""},{"$f":"IF(SUMPRODUCT(--EXACT(K492&M492,$AJ$2:AJ491)),\"\",K492&M492)","v":""},{"$f":"IF(SUMPRODUCT(--EXACT(K492&M492,$AJ$2:AJ491)),\"\",MAX($AK$3:AK491)+1)","v":""}]
[1,{"$f":"IF(F493=\"\",\"\",IF(COUNTIF($F$3:F493, F493)>1, \"\", F493))","v":""},491,"",null,{"$f":"IF(I493=\"\",\"\",IF(K493=\"\",\"\", CONCATENATE(DIGITADOR!$M$1,G493,J493)))","v":""},null,null,"",{"$f":"IF(K493=\"\",\"\",INDEX('Otras referencias'!$AG:$AH,MATCH(K493,'Otras referencias'!$AG:$AG,0),2))","v":""},null,{"$f":"IF(J493=\"\",\"\",INDEX(referentes!$S:$W,MATCH(J493,referentes!$S:$S,0),1))","v":""},null,null,null,null,{"$f":"IF(P493=\"\",\"\",INDEX(referentes!$J:$K,MATCH(P493,referentes!$J:$J,0),2))","v":""},null,null,null,{"$f":"IF(T493=\"\",\"\",INDEX(referentes!D:E,MATCH(T493,referentes!D:D,0),2))","v":""},null,{"$f":"IF(V493=\"\",\"\",INDEX('Otras referencias'!AO:AP,MATCH(V493,'Otras referencias'!AO:AO,0),2))","v":""},null,{"$f":"IF(Z493=\"\",\"\",INDEX('Otras referencias'!H:I,MATCH(Z493,'Otras referencias'!I:I,0),1))","v":""},null,null,null,{"$f":"IF(AD493=\"\",\"\",INDEX('Otras referencias'!K:L,MATCH(AD493,'Otras referencias'!L:L,0),1))","v":""},null,"---",null,null,null,{"$f":"IF(V493=\"\",\"\",INDEX('Otras referencias'!AO:AQ,MATCH(V493,'Otras referencias'!AO:AO,0),3))","v":""},{"$f":"IF(SUMPRODUCT(--EXACT(K493&M493,$AJ$2:AJ492)),\"\",K493&M493)","v":""},{"$f":"IF(SUMPRODUCT(--EXACT(K493&M493,$AJ$2:AJ492)),\"\",MAX($AK$3:AK492)+1)","v":""}]
[1,{"$f":"IF(F494=\"\",\"\",IF(COUNTIF($F$3:F494, F494)>1, \"\", F494))","v":""},492,"",null,{"$f":"IF(I494=\"\",\"\",IF(K494=\"\",\"\", CONCATENATE(DIGITADOR!$M$1,G494,J494)))","v":""},null,null,"",{"$f":"IF(K494=\"\",\"\",INDEX('Otras referencias'!$AG:$AH,MATCH(K494,'Otras referencias'!$AG:$AG,0),2))","v":""},null,{"$f":"IF(J494=\"\",\"\",INDEX(referentes!$S:$W,MATCH(J494,referentes!$S:$S,0),1))","v":""},null,null,null,null,{"$f":"IF(P494=\"\",\"\",INDEX(referentes!$J:$K,MATCH(P494,referentes!$J:$J,0),2))","v":""},null,null,null,{"$f":"IF(T494=\"\",\"\",INDEX(referentes!D:E,MATCH(T494,referentes!D:D,0),2))","v":""},null,{"$f":"IF(V494=\"\",\"\",INDEX('Otras referencias'!AO:AP,MATCH(V494,'Otras referencias'!AO:AO,0),2))","v":""},null,{"$f":"IF(Z494=\"\",\"\",INDEX('Otras referencias'!H:I,MATCH(Z494,'Otras referencias'!I:I,0),1))","v":""},null,null,null,{"$f":"IF(AD494=\"\",\"\",INDEX('Otras referencias'!K:L,MATCH(AD494,'Otras referencias'!L:L,0),1))","v":""},null,"---",null,null,null,{"$f":"IF(V494=\"\",\"\",INDEX('Otras referencias'!AO:AQ,MATCH(V494,'Otras referencias'!AO:AO,0),3))","v":""},{"$f":"IF(SUMPRODUCT(--EXACT(K494&M494,$AJ$2:AJ493)),\"\",K494&M494)","v":""},{"$f":"IF(SUMPRODUCT(--EXACT(K494&M494,$AJ$2:AJ493)),\"\",MAX($AK$3:AK493)+1)","v":""}]
[1,{"$f":"IF(F495=\"\",\"\",IF(COUNTIF($F$3:F495, F495)>1, \"\", F495))","v":""},493,"",null,{"$f":"IF(I495=\"\",\"\",IF(K495=\"\",\"\", CONCATENATE(DIGITADOR!$M$1,G495,J495)))","v":""},null,null,"",{"$f":"IF(K495=\"\",\"\",INDEX('Otras referencias'!$AG:$AH,MATCH(K495,'Otras referencias'!$AG:$AG,0),2))","v":""},null,{"$f":"IF(J495=\"\",\"\",INDEX(referentes!$S:$W,MATCH(J495,referentes!$S:$S,0),1))","v":""},null,null,null,null,{"$f":"IF(P495=\"\",\"\",INDEX(referentes!$J:$K,MATCH(P495,referentes!$J:$J,0),2))","v":""},null,null,null,{"$f":"IF(T495=\"\",\"\",INDEX(referentes!D:E,MATCH(T495,referentes!D:D,0),2))","v":""},null,{"$f":"IF(V495=\"\",\"\",INDEX('Otras referencias'!AO:AP,MATCH(V495,'Otras referencias'!AO:AO,0),2))","v":""},null,{"$f":"IF(Z495=\"\",\"\",INDEX('Otras referencias'!H:I,MATCH(Z495,'Otras referencias'!I:I,0),1))","v":""},null,null,null,{"$f":"IF(AD495=\"\",\"\",INDEX('Otras referencias'!K:L,MATCH(AD495,'Otras referencias'!L:L,0),1))","v":""},null,"---",null,null,null,{"$f":"IF(V495=\"\",\"\",INDEX('Otras referencias'!AO:AQ,MATCH(V495,'Otras referencias'!AO:AO,0),3))","v":""},{"$f":"IF(SUMPRODUCT(--EXACT(K495&M495,$AJ$2:AJ494)),\"\",K495&M495)","v":""},{"$f":"IF(SUMPRODUCT(--EXACT(K495&M495,$AJ$2:AJ494)),\"\",MAX($AK$3:AK494)+1)","v":""}]
[1,{"$f":"IF(F496=\"\",\"\",IF(COUNTIF($F$3:F496, F496)>1, \"\", F496))","v":""},494,"",null,{"$f":"IF(I496=\"\",\"\",IF(K496=\"\",\"\", CONCATENATE(DIGITADOR!$M$1,G496,J496)))","v":""},null,null,"",{"$f":"IF(K496=\"\",\"\",INDEX('Otras referencias'!$AG:$AH,MATCH(K496,'Otras referencias'!$AG:$AG,0),2))","v":""},null,{"$f":"IF(J496=\"\",\"\",INDEX(referentes!$S:$W,MATCH(J496,referentes!$S:$S,0),1))","v":""},null,null,null,null,{"$f":"IF(P496=\"\",\"\",INDEX(referentes!$J:$K,MATCH(P496,referentes!$J:$J,0),2))","v":""},null,null,null,{"$f":"IF(T496=\"\",\"\",INDEX(referentes!D:E,MATCH(T496,referentes!D:D,0),2))","v":""},null,{"$f":"IF(V496=\"\",\"\",INDEX('Otras referencias'!AO:AP,MATCH(V496,'Otras referencias'!AO:AO,0),2))","v":""},null,{"$f":"IF(Z496=\"\",\"\",INDEX('Otras referencias'!H:I,MATCH(Z496,'Otras referencias'!I:I,0),1))","v":""},null,null,null,{"$f":"IF(AD496=\"\",\"\",INDEX('Otras referencias'!K:L,MATCH(AD496,'Otras referencias'!L:L,0),1))","v":""},null,"---",null,null,null,{"$f":"IF(V496=\"\",\"\",INDEX('Otras referencias'!AO:AQ,MATCH(V496,'Otras referencias'!AO:AO,0),3))","v":""},{"$f":"IF(SUMPRODUCT(--EXACT(K496&M496,$AJ$2:AJ495)),\"\",K496&M496)","v":""},{"$f":"IF(SUMPRODUCT(--EXACT(K496&M496,$AJ$2:AJ495)),\"\",MAX($AK$3:AK495)+1)","v":""}]
[1,{"$f":"IF(F497=\"\",\"\",IF(COUNTIF($F$3:F497, F497)>1, \"\", F497))","v":""},495,"",null,{"$f":"IF(I497=\"\",\"\",IF(K497=\"\",\"\", CONCATENATE(DIGITADOR!$M$1,G497,J497)))","v":""},null,null,"",{"$f":"IF(K497=\"\",\"\",INDEX('Otras referencias'!$AG:$AH,MATCH(K497,'Otras referencias'!$AG:$AG,0),2))","v":""},null,{"$f":"IF(J497=\"\",\"\",INDEX(referentes!$S:$W,MATCH(J497,referentes!$S:$S,0),1))","v":""},null,null,null,null,{"$f":"IF(P497=\"\",\"\",INDEX(referentes!$J:$K,MATCH(P497,referentes!$J:$J,0),2))","v":""},null,null,null,{"$f":"IF(T497=\"\",\"\",INDEX(referentes!D:E,MATCH(T497,referentes!D:D,0),2))","v":""},null,{"$f":"IF(V497=\"\",\"\",INDEX('Otras referencias'!AO:AP,MATCH(V497,'Otras referencias'!AO:AO,0),2))","v":""},null,{"$f":"IF(Z497=\"\",\"\",INDEX('Otras referencias'!H:I,MATCH(Z497,'Otras referencias'!I:I,0),1))","v":""},null,null,null,{"$f":"IF(AD497=\"\",\"\",INDEX('Otras referencias'!K:L,MATCH(AD497,'Otras referencias'!L:L,0),1))","v":""},null,"---",null,null,null,{"$f":"IF(V497=\"\",\"\",INDEX('Otras referencias'!AO:AQ,MATCH(V497,'Otras referencias'!AO:AO,0),3))","v":""},{"$f":"IF(SUMPRODUCT(--EXACT(K497&M497,$AJ$2:AJ496)),\"\",K497&M497)","v":""},{"$f":"IF(SUMPRODUCT(--EXACT(K497&M497,$AJ$2:AJ496)),\"\",MAX($AK$3:AK496)+1)","v":""}]
[1,{"$f":"IF(F498=\"\",\"\",IF(COUNTIF($F$3:F498, F498)>1, \"\", F498))","v":""},496,"",null,{"$f":"IF(I498=\"\",\"\",IF(K498=\"\",\"\", CONCATENATE(DIGITADOR!$M$1,G498,J498)))","v":""},null,null,"",{"$f":"IF(K498=\"\",\"\",INDEX('Otras referencias'!$AG:$AH,MATCH(K498,'Otras referencias'!$AG:$AG,0),2))","v":""},null,{"$f":"IF(J498=\"\",\"\",INDEX(referentes!$S:$W,MATCH(J498,referentes!$S:$S,0),1))","v":""},null,null,null,null,{"$f":"IF(P498=\"\",\"\",INDEX(referentes!$J:$K,MATCH(P498,referentes!$J:$J,0),2))","v":""},null,null,null,{"$f":"IF(T498=\"\",\"\",INDEX(referentes!D:E,MATCH(T498,referentes!D:D,0),2))","v":""},null,{"$f":"IF(V498=\"\",\"\",INDEX('Otras referencias'!AO:AP,MATCH(V498,'Otras referencias'!AO:AO,0),2))","v":""},null,{"$f":"IF(Z498=\"\",\"\",INDEX('Otras referencias'!H:I,MATCH(Z498,'Otras referencias'!I:I,0),1))","v":""},null,null,null,{"$f":"IF(AD498=\"\",\"\",INDEX('Otras referencias'!K:L,MATCH(AD498,'Otras referencias'!L:L,0),1))","v":""},null,"---",null,null,null,{"$f":"IF(V498=\"\",\"\",INDEX('Otras referencias'!AO:AQ,MATCH(V498,'Otras referencias'!AO:AO,0),3))","v":""},{"$f":"IF(SUMPRODUCT(--EXACT(K498&M498,$AJ$2:AJ497)),\"\",K498&M498)","v":""},{"$f":"IF(SUMPRODUCT(--EXACT(K498&M498,$AJ$2:AJ497)),\"\",MAX($AK$3:AK497)+1)","v":""}]
[1,{"$f":"IF(F499=\"\",\"\",IF(COUNTIF($F$3:F499, F499)>1, \"\", F499))","v":""},497,"",null,{"$f":"IF(I499=\"\",\"\",IF(K499=\"\",\"\", CONCATENATE(DIGITADOR!$M$1,G499,J499)))","v":""},null,null,"",{"$f":"IF(K499=\"\",\"\",INDEX('Otras referencias'!$AG:$AH,MATCH(K499,'Otras referencias'!$AG:$AG,0),2))","v":""},null,{"$f":"IF(J499=\"\",\"\",INDEX(referentes!$S:$W,MATCH(J499,referentes!$S:$S,0),1))","v":""},null,null,null,null,{"$f":"IF(P499=\"\",\"\",INDEX(referentes!$J:$K,MATCH(P499,referentes!$J:$J,0),2))","v":""},null,null,null,{"$f":"IF(T499=\"\",\"\",INDEX(referentes!D:E,MATCH(T499,referentes!D:D,0),2))","v":""},null,{"$f":"IF(V499=\"\",\"\",INDEX('Otras referencias'!AO:AP,MATCH(V499,'Otras referencias'!AO:AO,0),2))","v":""},null,{"$f":"IF(Z499=\"\",\"\",INDEX('Otras referencias'!H:I,MATCH(Z499,'Otras referencias'!I:I,0),1))","v":""},null,null,null,{"$f":"IF(AD499=\"\",\"\",INDEX('Otras referencias'!K:L,MATCH(AD499,'Otras referencias'!L:L,0),1))","v":""},null,"---",null,null,null,{"$f":"IF(V499=\"\",\"\",INDEX('Otras referencias'!AO:AQ,MATCH(V499,'Otras referencias'!AO:AO,0),3))","v":""},{"$f":"IF(SUMPRODUCT(--EXACT(K499&M499,$AJ$2:AJ498)),\"\",K499&M499)","v":""},{"$f":"IF(SUMPRODUCT(--EXACT(K499&M499,$AJ$2:AJ498)),\"\",MAX($AK$3:AK498)+1)","v":""}]
[1,{"$f":"IF(F500=\"\",\"\",IF(COUNTIF($F$3:F500, F500)>1, \"\", F500))","v":""},498,"",null,{"$f":"IF(I500=\"\",\"\",IF(K500=\"\",\"\", CONCATENATE(DIGITADOR!$M$1,G500,J500)))","v":""},null,null,"",{"$f":"IF(K500=\"\",\"\",INDEX('Otras referencias'!$AG:$AH,MATCH(K500,'Otras referencias'!$AG:$AG,0),2))","v":""},null,{"$f":"IF(J500=\"\",\"\",INDEX(referentes!$S:$W,MATCH(J500,referentes!$S:$S,0),1))","v":""},null,null,null,null,{"$f":"IF(P500=\"\",\"\",INDEX(referentes!$J:$K,MATCH(P500,referentes!$J:$J,0),2))","v":""},null,null,null,{"$f":"IF(T500=\"\",\"\",INDEX(referentes!D:E,MATCH(T500,referentes!D:D,0),2))","v":""},null,{"$f":"IF(V500=\"\",\"\",INDEX('Otras referencias'!AO:AP,MATCH(V500,'Otras referencias'!AO:AO,0),2))","v":""},null,{"$f":"IF(Z500=\"\",\"\",INDEX('Otras referencias'!H:I,MATCH(Z500,'Otras referencias'!I:I,0),1))","v":""},null,null,null,{"$f":"IF(AD500=\"\",\"\",INDEX('Otras referencias'!K:L,MATCH(AD500,'Otras referencias'!L:L,0),1))","v":""},null,"---",null,null,null,{"$f":"IF(V500=\"\",\"\",INDEX('Otras referencias'!AO:AQ,MATCH(V500,'Otras referencias'!AO:AO,0),3))","v":""},{"$f":"IF(SUMPRODUCT(--EXACT(K500&M500,$AJ$2:AJ499)),\"\",K500&M500)","v":""},{"$f":"IF(SUMPRODUCT(--EXACT(K500&M500,$AJ$2:AJ499)),\"\",MAX($AK$3:AK499)+1)","v":""}]
[1,{"$f":"IF(F501=\"\",\"\",IF(COUNTIF($F$3:F501, F501)>1, \"\", F501))","v":""},499,"",null,{"$f":"IF(I501=\"\",\"\",IF(K501=\"\",\"\", CONCATENATE(DIGITADOR!$M$1,G501,J501)))","v":""},null,null,"",{"$f":"IF(K501=\"\",\"\",INDEX('Otras referencias'!$AG:$AH,MATCH(K501,'Otras referencias'!$AG:$AG,0),2))","v":""},null,{"$f":"IF(J501=\"\",\"\",INDEX(referentes!$S:$W,MATCH(J501,referentes!$S:$S,0),1))","v":""},null,null,null,null,{"$f":"IF(P501=\"\",\"\",INDEX(referentes!$J:$K,MATCH(P501,referentes!$J:$J,0),2))","v":""},null,null,null,{"$f":"IF(T501=\"\",\"\",INDEX(referentes!D:E,MATCH(T501,referentes!D:D,0),2))","v":""},null,{"$f":"IF(V501=\"\",\"\",INDEX('Otras referencias'!AO:AP,MATCH(V501,'Otras referencias'!AO:AO,0),2))","v":""},null,{"$f":"IF(Z501=\"\",\"\",INDEX('Otras referencias'!H:I,MATCH(Z501,'Otras referencias'!I:I,0),1))","v":""},null,null,null,{"$f":"IF(AD501=\"\",\"\",INDEX('Otras referencias'!K:L,MATCH(AD501,'Otras referencias'!L:L,0),1))","v":""},null,"---",null,null,null,{"$f":"IF(V501=\"\",\"\",INDEX('Otras referencias'!AO:AQ,MATCH(V501,'Otras referencias'!AO:AO,0),3))","v":""},{"$f":"IF(SUMPRODUCT(--EXACT(K501&M501,$AJ$2:AJ500)),\"\",K501&M501)","v":""},{"$f":"IF(SUMPRODUCT(--EXACT(K501&M501,$AJ$2:AJ500)),\"\",MAX($AK$3:AK500)+1)","v":""}]
[1,{"$f":"IF(F502=\"\",\"\",IF(COUNTIF($F$3:F502, F502)>1, \"\", F502))","v":""},500,"",null,{"$f":"IF(I502=\"\",\"\",IF(K502=\"\",\"\", CONCATENATE(DIGITADOR!$M$1,G502,J502)))","v":""},null,null,"",{"$f":"IF(K502=\"\",\"\",INDEX('Otras referencias'!$AG:$AH,MATCH(K502,'Otras referencias'!$AG:$AG,0),2))","v":""},null,{"$f":"IF(J502=\"\",\"\",INDEX(referentes!$S:$W,MATCH(J502,referentes!$S:$S,0),1))","v":""},null,null,null,null,{"$f":"IF(P502=\"\",\"\",INDEX(referentes!$J:$K,MATCH(P502,referentes!$J:$J,0),2))","v":""},null,null,null,{"$f":"IF(T502=\"\",\"\",INDEX(referentes!D:E,MATCH(T502,referentes!D:D,0),2))","v":""},null,{"$f":"IF(V502=\"\",\"\",INDEX('Otras referencias'!AO:AP,MATCH(V502,'Otras referencias'!AO:AO,0),2))","v":""},null,{"$f":"IF(Z502=\"\",\"\",INDEX('Otras referencias'!H:I,MATCH(Z502,'Otras referencias'!I:I,0),1))","v":""},null,null,null,{"$f":"IF(AD502=\"\",\"\",INDEX('Otras referencias'!K:L,MATCH(AD502,'Otras referencias'!L:L,0),1))","v":""},null,"---",null,null,null,{"$f":"IF(V502=\"\",\"\",INDEX('Otras referencias'!AO:AQ,MATCH(V502,'Otras referencias'!AO:AO,0),3))","v":""},{"$f":"IF(SUMPRODUCT(--EXACT(K502&M502,$AJ$2:AJ501)),\"\",K502&M502)","v":""},{"$f":"IF(SUMPRODUCT(--EXACT(K502&M502,$AJ$2:AJ501)),\"\",MAX($AK$3:AK501)+1)","v":""}]

{"sheet":"Otras referencias","index":4,"n_rows":1272,"n_cols":43,"rows_kept":1272,"cut":false,"hidden":false,"merged":[[0,0,2,10],[4,0,4,1],[4,3,4,4],[4,7,4,8],[4,10,4,11],[26,0,26,1],[11,10,11,11],[20,3,20,5],[3,40,3,42],[4,19,4,20],[4,13,4,14]]}
["Estas son listas para variables con valores que no se encuentran codificados, pero que deben manejarse de manera estandarizada. \nSi se requiere agregar un valor nuevo hagalo debajo de la lista correspondiente"]
[]
[]
[null,null,null,null,null,null,null,null,null,null,null,null,null,null,null,null,null,null,null,null,null,null,null,null,null,null,null,null,null,null,null,null,null,null,null,null,null,null,null,null,"TIPO"]
["UNIDADES DE MEDIDA",null,null,"PROYECTO",null,null,null,"METODOS ALTURA",null,null,"METODOS_DAP_CAP",null,null,null,null,null,null,null,null,"ROLES",null,null,null,null,null,null,null,null,null,null,null,null,null,null,null,null,null,"COD_PROYECTO","PROYECTO",null,"T",{"$f":"referentes!H2","v":"Rama"},{"$f":"referentes!G2","v":7}]
["CODIGO","DESCRIPCION",null,"COD","PROYECTO","PROYECTO DESC",null,"COD","VALOR",null,"COD","VALOR",null,null,null,null,null,null,null,4,"Captura en campo",null,null,null,{"$f":"IF(AND(referentes!U2<>\"\",          referentes!U2<>96321,    referentes!U2<>96222            ),(referentes!W2),\"\")","v":""},{"$f":"referentes!S2","v":55958},null,"ORDEN","COPIAS COD","REORDENAR","LISTADO",null,"ESTACIONES","ID",null,null,null,"Monitoreo_CGSM","Monitoreo CGSM",null,"R",{"$f":"referentes!H3","v":"Tronco"},{"$f":"referentes!G3","v":8}]
[10,"cm",null,3572,"KFW ","KFW",null,47,"Clinómetro",null,614,"Cinta diamétrica",null,null,null,null,null,null,null,6,"Revisar datos",null,null,null,{"$f":"IF(AND(referentes!U3<>\"\",          referentes!U3<>96321,    referentes!U3<>96222            ),(referentes!W3),\"\")","v":""},{"$f":"referentes!S3","v":55957},null,1,{"$f":"IF(Y6=\"\",0,Y6)","v":0},{"$f":"IF(AC7=0,MAX($AB$7:$AB$1135)+1,AB7)","v":1130},{"$f":"IFERROR(VLOOKUP(SMALL($AD$7:$AD$1135,AB7),$AB$7:$AD$1135,2,FALSE),\"X\")","v":"PMO - BAHIA COCINETAS"},null,"****PARCELAS******","NO VALIDO",null,null,null,"SIGMA","Sistema Nacional de Monitoreo de Manglares"]
[11,"m",null,3572,"KFW FASE II","KFW FASE II",null,48,"Hipsómetro",null,615,"Cinta métrica",null,null,null,null,null,null,null,3497,"Coordinador actividad de campo",null,null,null,{"$f":"IF(AND(referentes!U4<>\"\",          referentes!U4<>96321,    referentes!U4<>96222            ),(referentes!W4),\"\")","v":""},{"$f":"referentes!S4","v":55959},null,2,{"$f":"IF(Y7=\"\",0,Y7)","v":0},{"$f":"IF(AC8=0,MAX($AB$7:$AB$1135)+1,AB8)","v":1130},{"$f":"IFERROR(VLOOKUP(SMALL($AD$7:$AD$1135,AB8),$AB$7:$AD$1135,2,FALSE),\"X\")","v":"PMO - BAHIA HONDITA"},null,{"$f":"CONCATENATE(referentes!W2,\"(\",referentes!T2,\")\")","v":"Bahia Cocinetas1(Bahia_Cocinetas)"},{"$f":"referentes!S2","v":55958},null,null,null,"CVS_URRA_MANGLARES","CVS.URRA"]
[null,null,null,null,null,null,null,633,"Estimación visual directa",null,744,"Forcipula",null,null,null,null,null,null,null,null,null,null,null,null,{"$f":"IF(AND(referentes!U5<>\"\",          referentes!U5<>96321,    referentes!U5<>96222            ),(referentes!W5),\"\")","v":""},{"$f":"referentes!S5","v":55967},null,3,0,1130,"PMO - BAHIA TUKAKAS",null,{"$f":"CONCATENATE(referentes!W3,\"(\",referentes!T3,\")\")","v":"Bahia Hondita1(Bahia_Hondita)"},{"$f":"referentes!S3","v":55957},null,null,null,"PILOTOS-RES_CORPAMAG_2019","Piloto restauración CGSM CORPAMAG,Implementación de un piloto de restauración activa de manglar en el sector noroccidental de la Ciénaga Grande de Santa Marta."]
[null,null,null,null,null,null,null,866,"Pértiga de altura",null,null,null,null,null,null,null,null,null,null,null,null,null,null,null,{"$f":"IF(AND(referentes!U6<>\"\",          referentes!U6<>96321,    referentes!U6<>96222            ),(referentes!W6),\"\")","v":""},{"$f":"referentes!S6","v":55968},null,4,0,1130,"PMO - BAHÍA EL UNO",null,{"$f":"CONCATENATE(referentes!W4,\"(\",referentes!T4,\")\")","v":"Bahia Tukakaspl1(Bahia_Tukakas)"},{"$f":"referentes!S4","v":55959},null,null,null,"RESTAURACION_CORPAMAG_2020","RESTAURACION_CORPAMAG_2020,Generación de insumos técnicos para la restauración del manglar en el sector noroeste de la CGSM y evaluación del desempeño de algunas medidas previamente implementadas"]
[null,null,null,null,null,null,null,null,null,null,null,null,null,null,null,null,null,null,null,null,null,null,null,null,{"$f":"IF(AND(referentes!U7<>\"\",          referentes!U7<>96321,    referentes!U7<>96222            ),(referentes!W7),\"\")","v":""},{"$f":"referentes!S7","v":56558},null,5,0,1130,"PMO - BALLENAS",null,{"$f":"CONCATENATE(referentes!W5,\"(\",referentes!T5,\")\")","v":"Boca La enea1(Boca_Laenea1)"},{"$f":"referentes!S5","v":55967},null,null,null,"FORTALECIMIENTO_MANGLARES","BPIN 2017011000113 - RES 0176 del 26 de febrero 2021, Rehabiliación de manglares de Providencia y Santa Catalina"]
[null,null,null,null,null,null,null,null,null,null,"METODOLOGIAS",null,null,null,null,null,null,{"$f":"IF(AND(#REF!<>\"\"    ),(#REF!),\"\")","v":{"$error":"#REF!"}},null,null,null,null,null,null,{"$f":"IF(AND(referentes!U8<>\"\",          referentes!U8<>96321,    referentes!U8<>96222            ),(referentes!W8),\"\")","v":""},{"$f":"referentes!S8","v":55972},null,6,0,1130,"PMO - BELLO HORIZONTE",null,{"$f":"CONCATENATE(referentes!W6,\"(\",referentes!T6,\")\")","v":"Boca La enea2(Boca_Laenea2)"},{"$f":"referentes!S6","v":55968},null,null,null,"RestauracionManglares","Restauracion Manglares"]
[null,null,null,null,null,null,null,null,null,null,"CODIGO","DESCRIPCION",null,null,null,null,null,{"$f":"IF(AND(#REF!<>\"\"    ),(#REF!),\"\")","v":{"$error":"#REF!"}},null,null,null,null,null,null,{"$f":"IF(AND(referentes!U9<>\"\",          referentes!U9<>96321,    referentes!U9<>96222            ),(referentes!W9),\"\")","v":""},{"$f":"referentes!S9","v":57245},null,7,0,1130,"PMO - BROQUELES",null,{"$f":"CONCATENATE(referentes!W7,\"(\",referentes!T7,\")\")","v":"Bocas del Atrato1(Bocas_Atrato)"},{"$f":"referentes!S7","v":56558},null,null,null,"VIVO_TORIBIO_2019","VIVO_TORIBIO_2019,Implementación de lineamientos para la restauración del ecosistema de manglar de la desembocadura del rio Toribio, departamento del Magdalena"]
[null,null,null,null,null,null,null,null,null,null,null,null,null,null,null,null,null,{"$f":"IF(AND(#REF!<>\"\"    ),(#REF!),\"\")","v":{"$error":"#REF!"}},null,null,null,null,null,null,{"$f":"IF(AND(referentes!U10<>\"\",          referentes!U10<>96321,    referentes!U10<>96222            ),(referentes!W10),\"\")","v":""},{"$f":"referentes!S10","v":57246},null,8,0,1130,"PMO - BUENAVISTA",null,{"$f":"CONCATENATE(referentes!W8,\"(\",referentes!T8,\")\")","v":"Broqueles1(Broqueles)"},{"$f":"referentes!S8","v":55972}]
[null,null,null,null,null,null,null,null,null,null,null,null,null,null,null,null,null,{"$f":"IF(AND(#REF!<>\"\"    ),(#REF!),\"\")","v":{"$error":"#REF!"}},null,null,null,null,null,null,{"$f":"IF(AND(referentes!U11<>\"\",          referentes!U11<>96321,    referentes!U11<>96222            ),(referentes!W11),\"\")","v":""},{"$f":"referentes!S11","v":56551},null,9,0,1130,"PMO - CABO DE LA VELA",null,{"$f":"CONCATENATE(referentes!W9,\"(\",referentes!T9,\")\")","v":"Buenavista1(Buenavista1)"},{"$f":"referentes!S9","v":57245}]
[null,null,null,null,null,null,null,null,null,null,3,"SIGMA - Parcelas Permanentes Estructura",null,null,null,null,null,{"$f":"IF(AND(#REF!<>\"\"    ),(#REF!),\"\")","v":{"$error":"#REF!"}},null,null,null,null,null,null,{"$f":"IF(AND(referentes!U12<>\"\",          referentes!U12<>96321,    referentes!U12<>96222            ),(referentes!W12),\"\")","v":""},{"$f":"referentes!S12","v":55970},null,10,0,1130,"PMO - CARRIZAL",null,{"$f":"CONCATENATE(referentes!W10,\"(\",referentes!T10,\")\")","v":"Buenavista2(Buenavista2)"},{"$f":"referentes!S10","v":57246}]
[null,null,null,null,null,null,null,null,null,null,null,null,null,null,null,null,null,{"$f":"IF(AND(#REF!<>\"\"    ),(#REF!),\"\")","v":{"$error":"#REF!"}},null,null,null,null,null,null,{"$f":"IF(AND(referentes!U13<>\"\",          referentes!U13<>96321,    referentes!U13<>96222            ),(referentes!W13),\"\")","v":""},{"$f":"referentes!S13","v":55961},null,11,0,1130,"PMO - CIENAGA",null,{"$f":"CONCATENATE(referentes!W11,\"(\",referentes!T11,\")\")","v":"Camaronera1(Camaronera)"},{"$f":"referentes!S11","v":56551}]
[null,null,null,null,null,null,null,null,null,null,null,null,null,null,null,null,null,{"$f":"IF(AND(#REF!<>\"\"    ),(#REF!),\"\")","v":{"$error":"#REF!"}},null,null,null,null,null,null,{"$f":"IF(AND(referentes!U14<>\"\",          referentes!U14<>96321,    referentes!U14<>96222            ),(referentes!W14),\"\")","v":""},{"$f":"referentes!S14","v":55962},null,12,0,1130,"PMO - CRISTO REY",null,{"$f":"CONCATENATE(referentes!W12,\"(\",referentes!T12,\")\")","v":"Cristo Rey1(Cristo_Rey)"},{"$f":"referentes!S12","v":55970}]
[null,null,null,null,null,null,null,null,null,null,null,null,null,null,null,null,null,{"$f":"IF(AND(#REF!<>\"\"    ),(#REF!),\"\")","v":{"$error":"#REF!"}},null,null,null,null,null,null,{"$f":"IF(AND(referentes!U15<>\"\",          referentes!U15<>96321,    referentes!U15<>96222            ),(referentes!W15),\"\")","v":""},{"$f":"referentes!S15","v":55974},null,13,0,1130,"PMO - DAMAQUIEL",null,{"$f":"CONCATENATE(referentes!W13,\"(\",referentes!T13,\")\")","v":"Dibulla1 Occidente -Rio Jerez(Dibulla1_Occidente)"},{"$f":"referentes!S13","v":55961}]
[null,null,null,null,null,null,null,null,null,null,null,null,null,null,null,null,null,{"$f":"IF(AND(#REF!<>\"\"    ),(#REF!),\"\")","v":{"$error":"#REF!"}},null,null,null,null,null,null,{"$f":"IF(AND(referentes!U16<>\"\",          referentes!U16<>96321,    referentes!U16<>96222            ),(referentes!W16),\"\")","v":"PMO - BAHIA COCINETAS"},{"$f":"referentes!S16","v":56887},null,14,0,1130,"PMO - DIBULLA",null,{"$f":"CONCATENATE(referentes!W14,\"(\",referentes!T14,\")\")","v":"Dibulla2 Occidente -Rio Jerez(Dibulla2_Occidente)"},{"$f":"referentes!S14","v":55962}]
[null,null,null,"CODIGOS LOV",null,null,null,null,null,null,null,null,null,null,null,null,null,{"$f":"IF(AND(#REF!<>\"\"    ),(#REF!),\"\")","v":{"$error":"#REF!"}},null,null,null,null,null,null,{"$f":"IF(AND(referentes!U17<>\"\",          referentes!U17<>96321,    referentes!U17<>96222            ),(referentes!W17),\"\")","v":"PMO - BAHIA HONDITA"},{"$f":"referentes!S17","v":56888},null,15,"PMO - BAHIA COCINETAS",15,"PMO - ENSENADA RIONEGRO",null,{"$f":"CONCATENATE(referentes!W15,\"(\",referentes!T15,\")\")","v":"Laguna Bocacorea1(Laguna_Bocacorea)"},{"$f":"referentes!S15","v":55974}]
[null,null,null,"DESCRIPCIÓN","CÓDIGO","GRUPO",null,null,null,null,null,null,null,null,null,null,null,{"$f":"IF(AND(#REF!<>\"\"    ),(#REF!),\"\")","v":{"$error":"#REF!"}},null,null,null,null,null,null,{"$f":"IF(AND(referentes!U18<>\"\",          referentes!U18<>96321,    referentes!U18<>96222            ),(referentes!W18),\"\")","v":"PMO - BAHIA TUKAKAS"},{"$f":"referentes!S18","v":56886},null,16,"PMO - BAHIA HONDITA",16,"PMO - INCA INCA",null,{"$f":"CONCATENATE(referentes!W16,\"(\",referentes!T16,\")\")","v":"PMO - BAHIA COCINETAS(4484701OCEA)"},{"$f":"referentes!S16","v":56887}]
[null,null,null,"Departamento",10,2,null,null,null,null,null,null,null,null,null,null,null,{"$f":"IF(AND(#REF!<>\"\"    ),(#REF!),\"\")","v":{"$error":"#REF!"}},null,null,null,null,null,null,{"$f":"IF(AND(referentes!U19<>\"\",          referentes!U19<>96321,    referentes!U19<>96222            ),(referentes!W19),\"\")","v":"PMO - BAHÍA EL UNO"},{"$f":"referentes!S19","v":56921},null,17,"PMO - BAHIA TUKAKAS",17,"PMO - LA ENEA",null,{"$f":"CONCATENATE(referentes!W17,\"(\",referentes!T17,\")\")","v":"PMO - BAHIA HONDITA(4484703OCEA)"},{"$f":"referentes!S17","v":56888}]
[null,null,null,"Sector",20,2,null,null,null,null,null,null,null,null,null,null,null,{"$f":"IF(AND(#REF!<>\"\"    ),(#REF!),\"\")","v":{"$error":"#REF!"}},null,null,null,null,null,null,{"$f":"IF(AND(referentes!U20<>\"\",          referentes!U20<>96321,    referentes!U20<>96222            ),(referentes!W20),\"\")","v":"PMO - BALLENAS"},{"$f":"referentes!S20","v":56895},null,18,"PMO - BAHÍA EL UNO",18,"PMO - LAGUNA BOCA COREA",null,{"$f":"CONCATENATE(referentes!W18,\"(\",referentes!T18,\")\")","v":"PMO - BAHIA TUKAKAS(4484702OCEA)"},{"$f":"referentes!S18","v":56886}]
[null,null,null,"Punto",30,2,null,null,null,null,null,null,null,null,null,null,null,{"$f":"IF(AND(#REF!<>\"\"    ),(#REF!),\"\")","v":{"$error":"#REF!"}},null,null,null,null,null,null,{"$f":"IF(AND(referentes!U21<>\"\",          referentes!U21<>96321,    referentes!U21<>96222            ),(referentes!W21),\"\")","v":"PMO - BELLO HORIZONTE"},{"$f":"referentes!S21","v":56902},null,19,"PMO - BALLENAS",19,"PMO - MANAURE",null,{"$f":"CONCATENATE(referentes!W19,\"(\",referentes!T19,\")\")","v":"PMO - BAHÍA EL UNO(0583740OCEA)"},{"$f":"referentes!S19","v":56921}]
[null,null,null,"Parcela",35,2,null,null,null,null,null,null,null,null,null,null,null,{"$f":"IF(AND(#REF!<>\"\"    ),(#REF!),\"\")","v":{"$error":"#REF!"}},null,null,null,null,null,null,{"$f":"IF(AND(referentes!U22<>\"\",          referentes!U22<>96321,    referentes!U22<>96222            ),(referentes!W22),\"\")","v":"PMO - BROQUELES"},{"$f":"referentes!S22","v":56914},null,20,"PMO - BELLO HORIZONTE",20,"PMO - MATUNTUGO",null,{"$f":"CONCATENATE(referentes!W20,\"(\",referentes!T20,\")\")","v":"PMO - BALLENAS(4456009OCEA)"},{"$f":"referentes!S20","v":56895}]
["ENTIDAD",null,null,"Estaciones",40,2,null,null,null,null,null,null,null,null,null,null,null,{"$f":"IF(AND(#REF!<>\"\"    ),(#REF!),\"\")","v":{"$error":"#REF!"}},null,null,null,null,null,null,{"$f":"IF(AND(referentes!U23<>\"\",          referentes!U23<>96321,    referentes!U23<>96222            ),(referentes!W23),\"\")","v":"PMO - BUENAVISTA"},{"$f":"referentes!S23","v":56898},null,21,"PMO - BROQUELES",21,"PMO - MAYAPO 1",null,{"$f":"CONCATENATE(referentes!W21,\"(\",referentes!T21,\")\")","v":"PMO - BELLO HORIZONTE(4409015OCEA)"},{"$f":"referentes!S21","v":56902}]
["INVEMAR","Instituto de Investigaciones Marinas y Costeras",null,"Region",50,2,null,null,null,null,null,null,null,null,null,null,null,{"$f":"IF(AND(#REF!<>\"\"    ),(#REF!),\"\")","v":{"$error":"#REF!"}},null,null,null,null,null,null,{"$f":"IF(AND(referentes!U24<>\"\",          referentes!U24<>96321,    referentes!U24<>96222            ),(referentes!W24),\"\")","v":"PMO - CABO DE LA VELA"},{"$f":"referentes!S24","v":56889},null,22,"PMO - BUENAVISTA",22,"PMO - MAYAPO 2",null,{"$f":"CONCATENATE(referentes!W22,\"(\",referentes!T22,\")\")","v":"PMO - BROQUELES(2350029OCEA)"},{"$f":"referentes!S22","v":56914}]
[null,null,null,"Unidad_de_Manejo",60,2,null,null,null,null,null,null,null,null,null,null,null,{"$f":"IF(AND(#REF!<>\"\"    ),(#REF!),\"\")","v":{"$error":"#REF!"}},null,null,null,null,null,null,{"$f":"IF(AND(referentes!U25<>\"\",          referentes!U25<>96321,    referentes!U25<>96222            ),(referentes!W25),\"\")","v":"PMO - CARRIZAL"},{"$f":"referentes!S25","v":56890},null,23,"PMO - CABO DE LA VELA",23,"PMO - MUSICHI 1",null,{"$f":"CONCATENATE(referentes!W23,\"(\",referentes!T23,\")\")","v":"PMO - BUENAVISTA(4456011OCEA)"},{"$f":"referentes!S23","v":56898}]
[null,null,null,"Unidad_Ambiental_Costera",70,2,null,null,null,null,null,null,null,null,null,null,null,{"$f":"IF(AND(#REF!<>\"\"    ),(#REF!),\"\")","v":{"$error":"#REF!"}},null,null,null,null,null,null,{"$f":"IF(AND(referentes!U26<>\"\",          referentes!U26<>96321,    referentes!U26<>96222            ),(referentes!W26),\"\")","v":"PMO - CIENAGA"},{"$f":"referentes!S26","v":56906},null,24,"PMO - CARRIZAL",24,"PMO - MUSICHI 2",null,{"$f":"CONCATENATE(referentes!W24,\"(\",referentes!T24,\")\")","v":"PMO - CABO DE LA VELA(4484704OCEA)"},{"$f":"referentes!S24","v":56889}]
[null,null,null,"Localidad",80,2,null,null,null,null,null,null,null,null,null,null,null,{"$f":"IF(AND(#REF!<>\"\"    ),(#REF!),\"\")","v":{"$error":"#REF!"}},null,null,null,null,null,null,{"$f":"IF(AND(referentes!U27<>\"\",          referentes!U27<>96321,    referentes!U27<>96222            ),(referentes!W27),\"\")","v":"PMO - CRISTO REY"},{"$f":"referentes!S27","v":56916},null,25,"PMO - CIENAGA",25,"PMO - PASO NUEVO",null,{"$f":"CONCATENATE(referentes!W25,\"(\",referentes!T25,\")\")","v":"PMO - CARRIZAL(4484705OCEA)"},{"$f":"referentes!S25","v":56890}]
[null,null,null,"Bloque_Exploracion",85,2,null,null,null,null,null,null,null,null,null,null,null,{"$f":"IF(AND(#REF!<>\"\"    ),(#REF!),\"\")","v":{"$error":"#REF!"}},null,null,null,null,null,null,{"$f":"IF(AND(referentes!U28<>\"\",          referentes!U28<>96321,    referentes!U28<>96222            ),(referentes!W28),\"\")","v":"PMO - DAMAQUIEL"},{"$f":"referentes!S28","v":56919},null,26,"PMO - CRISTO REY",26,"PMO - PLAYA BLANCA",null,{"$f":"CONCATENATE(referentes!W26,\"(\",referentes!T26,\")\")","v":"PMO - CIENAGA(4718921OCEA)"},{"$f":"referentes!S26","v":56906}]
[null,null,null,"Area",90,2,null,null,null,null,null,null,null,null,null,null,null,{"$f":"IF(AND(#REF!<>\"\"    ),(#REF!),\"\")","v":{"$error":"#REF!"}},null,null,null,null,null,null,{"$f":"IF(AND(referentes!U29<>\"\",          referentes!U29<>96321,    referentes!U29<>96222            ),(referentes!W29),\"\")","v":"PMO - DIBULLA"},{"$f":"referentes!S29","v":56901},null,27,"PMO - DAMAQUIEL",27,"PMO - PLAYA LA MARTINA",null,{"$f":"CONCATENATE(referentes!W27,\"(\",referentes!T27,\")\")","v":"PMO - CRISTO REY(2357431OCEA)"},{"$f":"referentes!S27","v":56916}]
[null,null,null,null,null,null,null,null,null,null,null,null,null,null,null,null,null,{"$f":"IF(AND(#REF!<>\"\"    ),(#REF!),\"\")","v":{"$error":"#REF!"}},null,null,null,null,null,null,{"$f":"IF(AND(referentes!U30<>\"\",          referentes!U30<>96321,    referentes!U30<>96222            ),(referentes!W30),\"\")","v":"PMO - ENSENADA RIONEGRO"},{"$f":"referentes!S30","v":56924},null,28,"PMO - DIBULLA",28,"PMO - PLAYA MIREYA",null,{"$f":"CONCATENATE(referentes!W28,\"(\",referentes!T28,\")\")","v":"PMO - DAMAQUIEL(0565934OCEA)"},{"$f":"referentes!S28","v":56919}]
[null,null,null,null,null,null,null,null,null,null,null,null,null,null,null,null,null,{"$f":"IF(AND(#REF!<>\"\"    ),(#REF!),\"\")","v":{"$error":"#REF!"}},null,null,null,null,null,null,{"$f":"IF(AND(referentes!U31<>\"\",          referentes!U31<>96321,    referentes!U31<>96222            ),(referentes!W31),\"\")","v":"PMO - INCA INCA"},{"$f":"referentes!S31","v":56905},null,29,"PMO - ENSENADA RIONEGRO",29,"PMO - PUEBLO VIEJO",null,{"$f":"CONCATENATE(referentes!W29,\"(\",referentes!T29,\")\")","v":"PMO - DIBULLA(4409014OCEA)"},{"$f":"referentes!S29","v":56901}]
[null,null,null,null,null,null,null,null,null,null,null,null,null,null,null,null,null,{"$f":"IF(AND(#REF!<>\"\"    ),(#REF!),\"\")","v":{"$error":"#REF!"}},null,null,null,null,null,null,{"$f":"IF(AND(referentes!U32<>\"\",          referentes!U32<>96321,    referentes!U32<>96222            ),(referentes!W32),\"\")","v":"PMO - LA ENEA"},{"$f":"referentes!S32","v":56900},null,30,"PMO - INCA INCA",30,"PMO - PUERTO ESCONDIDO",null,{"$f":"CONCATENATE(referentes!W30,\"(\",referentes!T30,\")\")","v":"PMO - ENSENADA RIONEGRO(0549036OCEA)"},{"$f":"referentes!S30","v":56924}]
[null,null,null,null,null,null,null,null,null,null,null,null,null,null,null,null,null,{"$f":"IF(AND(#REF!<>\"\"    ),(#REF!),\"\")","v":{"$error":"#REF!"}},null,null,null,null,null,null,{"$f":"IF(AND(referentes!U33<>\"\",          referentes!U33<>96321,    referentes!U33<>96222            ),(referentes!W33),\"\")","v":"PMO - LAGUNA BOCA COREA"},{"$f":"referentes!S33","v":56912},null,31,"PMO - LA ENEA",31,"PMO - PUNTA MESTIZO",null,{"$f":"CONCATENATE(referentes!W31,\"(\",referentes!T31,\")\")","v":"PMO - INCA INCA(4700119OCEA)"},{"$f":"referentes!S31","v":56905}]
[null,null,null,null,null,null,null,null,null,null,null,null,null,null,null,null,null,{"$f":"IF(AND(#REF!<>\"\"    ),(#REF!),\"\")","v":{"$error":"#REF!"}},null,null,null,null,null,null,{"$f":"IF(AND(referentes!U34<>\"\",          referentes!U34<>96321,    referentes!U34<>96222            ),(referentes!W34),\"\")","v":"PMO - MANAURE"},{"$f":"referentes!S34","v":56892},null,32,"PMO - LAGUNA BOCA COREA",32,"PMO - RIO HOBO",null,{"$f":"CONCATENATE(referentes!W32,\"(\",referentes!T32,\")\")","v":"PMO - LA ENEA(4400113OCEA)"},{"$f":"referentes!S32","v":56900}]
[null,null,null,null,null,null,null,null,null,null,null,null,null,null,null,null,null,{"$f":"IF(AND(#REF!<>\"\"    ),(#REF!),\"\")","v":{"$error":"#REF!"}},null,null,null,null,null,null,{"$f":"IF(AND(referentes!U35<>\"\",          referentes!U35<>96321,    referentes!U35<>96222            ),(referentes!W35),\"\")","v":"PMO - MATUNTUGO"},{"$f":"referentes!S35","v":56923},null,33,"PMO - MANAURE",33,"PMO - RIO LEON",null,{"$f":"CONCATENATE(referentes!W33,\"(\",referentes!T33,\")\")","v":"PMO - LAGUNA BOCA COREA(2367527OCEA)"},{"$f":"referentes!S33","v":56912}]
[null,null,null,null,null,null,null,null,null,null,null,null,null,null,null,null,null,{"$f":"IF(AND(#REF!<>\"\"    ),(#REF!),\"\")","v":{"$error":"#REF!"}},null,null,null,null,null,null,{"$f":"IF(AND(referentes!U36<>\"\",          referentes!U36<>96321,    referentes!U36<>96222            ),(referentes!W36),\"\")","v":"PMO - MAYAPO 1"},{"$f":"referentes!S36","v":56897},null,34,"PMO - MATUNTUGO",34,"PMO - RIOHACHA",null,{"$f":"CONCATENATE(referentes!W34,\"(\",referentes!T34,\")\")","v":"PMO - MANAURE(4456007OCEA)"},{"$f":"referentes!S34","v":56892}]
[null,null,null,null,null,null,null,null,null,null,null,null,null,null,null,null,null,{"$f":"IF(AND(#REF!<>\"\"    ),(#REF!),\"\")","v":{"$error":"#REF!"}},null,null,null,null,null,null,{"$f":"IF(AND(referentes!U37<>\"\",          referentes!U37<>96321,    referentes!U37<>96222            ),(referentes!W37),\"\")","v":"PMO - MAYAPO 2"},{"$f":"referentes!S37","v":56896},null,35,"PMO - MAYAPO 1",35,"PMO - RÍO CEDRO",null,{"$f":"CONCATENATE(referentes!W35,\"(\",referentes!T35,\")\")","v":"PMO - MATUNTUGO(0583745OCEA)"},{"$f":"referentes!S35","v":56923}]
[null,null,null,null,null,null,null,null,null,null,null,null,null,null,null,null,null,{"$f":"IF(AND(#REF!<>\"\"    ),(#REF!),\"\")","v":{"$error":"#REF!"}},null,null,null,null,null,null,{"$f":"IF(AND(referentes!U38<>\"\",          referentes!U38<>96321,    referentes!U38<>96222            ),(referentes!W38),\"\")","v":"PMO - MUSICHI 1"},{"$f":"referentes!S38","v":56894},null,36,"PMO - MAYAPO 2",36,"PMO - SANTA MARTA",null,{"$f":"CONCATENATE(referentes!W36,\"(\",referentes!T36,\")\")","v":"PMO - MAYAPO 1(4456010OCEA)"},{"$f":"referentes!S36","v":56897}]
[null,null,null,null,null,null,null,null,null,null,null,null,null,null,null,null,null,{"$f":"IF(AND(#REF!<>\"\"    ),(#REF!),\"\")","v":{"$error":"#REF!"}},null,null,null,null,null,null,{"$f":"IF(AND(referentes!U39<>\"\",          referentes!U39<>96321,    referentes!U39<>96222            ),(referentes!W39),\"\")","v":"PMO - MUSICHI 2"},{"$f":"referentes!S39","v":56893},null,37,"PMO - MUSICHI 1",37,"PMO - SANTA ROSA",null,{"$f":"CONCATENATE(referentes!W37,\"(\",referentes!T37,\")\")","v":"PMO - MAYAPO 2(4456010OCEA)"},{"$f":"referentes!S37","v":56896}]
[null,null,null,null,null,null,null,null,null,null,null,null,null,null,null,null,null,{"$f":"IF(AND(#REF!<>\"\"    ),(#REF!),\"\")","v":{"$error":"#REF!"}},null,null,null,null,null,null,{"$f":"IF(AND(referentes!U40<>\"\",          referentes!U40<>96321,    referentes!U40<>96222            ),(referentes!W40),\"\")","v":"PMO - PASO NUEVO"},{"$f":"referentes!S40","v":56913},null,38,"PMO - MUSICHI 2",38,"PMO - TAGANGA",null,{"$f":"CONCATENATE(referentes!W38,\"(\",referentes!T38,\")\")","v":"PMO - MUSICHI 1(4456008OCEA)"},{"$f":"referentes!S38","v":56894}]
[null,null,null,null,null,null,null,null,null,null,null,null,null,null,null,null,null,{"$f":"IF(AND(#REF!<>\"\"    ),(#REF!),\"\")","v":{"$error":"#REF!"}},null,null,null,null,null,null,{"$f":"IF(AND(referentes!U41<>\"\",          referentes!U41<>96321,    referentes!U41<>96222            ),(referentes!W41),\"\")","v":"PMO - PLAYA BLANCA"},{"$f":"referentes!S41","v":56909},null,39,"PMO - PASO NUEVO",39,"PMO - TASAJERA",null,{"$f":"CONCATENATE(referentes!W39,\"(\",referentes!T39,\")\")","v":"PMO - MUSICHI 2(4456008OCEA)"},{"$f":"referentes!S39","v":56893}]
[null,null,null,null,null,null,null,null,null,null,null,null,null,null,null,null,null,{"$f":"IF(AND(#REF!<>\"\"    ),(#REF!),\"\")","v":{"$error":"#REF!"}},null,null,null,null,null,null,{"$f":"IF(AND(referentes!U42<>\"\",          referentes!U42<>96321,    referentes!U42<>96222            ),(referentes!W42),\"\")","v":"PMO - PLAYA LA MARTINA"},{"$f":"referentes!S42","v":56920},null,40,"PMO - PLAYA BLANCA",40,"X",null,{"$f":"CONCATENATE(referentes!W40,\"(\",referentes!T40,\")\")","v":"PMO - PASO NUEVO(2350028OCEA)"},{"$f":"referentes!S40","v":56913}]
[null,null,null,null,null,null,null,null,null,null,null,null,null,null,null,null,null,{"$f":"IF(AND(#REF!<>\"\"    ),(#REF!),\"\")","v":{"$error":"#REF!"}},null,null,null,null,null,null,{"$f":"IF(AND(referentes!U43<>\"\",          referentes!U43<>96321,    referentes!U43<>96222            ),(referentes!W43),\"\")","v":"PMO - PLAYA MIREYA"},{"$f":"referentes!S43","v":56911},null,41,"PMO - PLAYA LA MARTINA",41,"X",null,{"$f":"CONCATENATE(referentes!W41,\"(\",referentes!T41,\")\")","v":"PMO - PLAYA BLANCA(2367246OCEA)"},{"$f":"referentes!S41","v":56909}]
[null,null,null,null,null,null,null,null,null,null,null,null,null,null,null,null,null,{"$f":"IF(AND(#REF!<>\"\"    ),(#REF!),\"\")","v":{"$error":"#REF!"}},null,null,null,null,null,null,{"$f":"IF(AND(referentes!U44<>\"\",          referentes!U44<>96321,    referentes!U44<>96222            ),(referentes!W44),\"\")","v":"PMO - PUEBLO VIEJO"},{"$f":"referentes!S44","v":56907},null,42,"PMO - PLAYA MIREYA",42,"X",null,{"$f":"CONCATENATE(referentes!W42,\"(\",referentes!T42,\")\")","v":"PMO - PLAYA LA MARTINA(0583739OCEA)"},{"$f":"referentes!S42","v":56920}]
[null,null,null,null,null,null,null,null,null,null,null,null,null,null,null,null,null,{"$f":"IF(AND(#REF!<>\"\"    ),(#REF!),\"\")","v":{"$error":"#REF!"}},null,null,null,null,null,null,{"$f":"IF(AND(referentes!U45<>\"\",          referentes!U45<>96321,    referentes!U45<>96222            ),(referentes!W45),\"\")","v":"PMO - PUERTO ESCONDIDO"},{"$f":"referentes!S45","v":56917},null,43,"PMO - PUEBLO VIEJO",43,"X",null,{"$f":"CONCATENATE(referentes!W43,\"(\",referentes!T43,\")\")","v":"PMO - PLAYA MIREYA(2367525OCEA)"},{"$f":"referentes!S43","v":56911}]
[null,null,null,null,null,null,null,null,null,null,null,null,null,null,null,null,null,{"$f":"IF(AND(#REF!<>\"\"    ),(#REF!),\"\")","v":{"$error":"#REF!"}},null,null,null,null,null,null,{"$f":"IF(AND(referentes!U46<>\"\",          referentes!U46<>96321,    referentes!U46<>96222            ),(referentes!W46),\"\")","v":"PMO - PUNTA MESTIZO"},{"$f":"referentes!S46","v":56910},null,44,"PMO - PUERTO ESCONDIDO",44,"X",null,{"$f":"CONCATENATE(referentes!W44,\"(\",referentes!T44,\")\")","v":"PMO - PUEBLO VIEJO(4757022OCEA)"},{"$f":"referentes!S44","v":56907}]
[null,null,null,null,null,null,null,null,null,null,null,null,null,null,null,null,null,{"$f":"IF(AND(#REF!<>\"\"    ),(#REF!),\"\")","v":{"$error":"#REF!"}},null,null,null,null,null,null,{"$f":"IF(AND(referentes!U47<>\"\",          referentes!U47<>96321,    referentes!U47<>96222            ),(referentes!W47),\"\")","v":"PMO - RIO HOBO"},{"$f":"referentes!S47","v":56918},null,45,"PMO - PUNTA MESTIZO",45,"X",null,{"$f":"CONCATENATE(referentes!W45,\"(\",referentes!T45,\")\")","v":"PMO - PUERTO ESCONDIDO(2357432OCEA)"},{"$f":"referentes!S45","v":56917}]
[null,null,null,null,null,null,null,null,null,null,null,null,null,null,null,null,null,{"$f":"IF(AND(#REF!<>\"\"    ),(#REF!),\"\")","v":{"$error":"#REF!"}},null,null,null,null,null,null,{"$f":"IF(AND(referentes!U48<>\"\",          referentes!U48<>96321,    referentes!U48<>96222            ),(referentes!W48),\"\")","v":"PMO - RIO LEON"},{"$f":"referentes!S48","v":56922},null,46,"PMO - RIO HOBO",46,"X",null,{"$f":"CONCATENATE(referentes!W46,\"(\",referentes!T46,\")\")","v":"PMO - PUNTA MESTIZO(2367224OCEA)"},{"$f":"referentes!S46","v":56910}]
[null,null,null,null,null,null,null,null,null,null,null,null,null,null,null,null,null,{"$f":"IF(AND(#REF!<>\"\"    ),(#REF!),\"\")","v":{"$error":"#REF!"}},null,null,null,null,null,null,{"$f":"IF(AND(referentes!U49<>\"\",          referentes!U49<>96321,    referentes!U49<>96222            ),(referentes!W49),\"\")","v":"PMO - RIOHACHA"},{"$f":"referentes!S49","v":56899},null,47,"PMO - RIO LEON",47,"X",null,{"$f":"CONCATENATE(referentes!W47,\"(\",referentes!T47,\")\")","v":"PMO - RIO HOBO(0505133OCEA)"},{"$f":"referentes!S47","v":56918}]
[null,null,null,null,null,null,null,null,null,null,null,null,null,null,null,null,null,{"$f":"IF(AND(#REF!<>\"\"    ),(#REF!),\"\")","v":{"$error":"#REF!"}},null,null,null,null,null,null,{"$f":"IF(AND(referentes!U50<>\"\",          referentes!U50<>96321,    referentes!U50<>96222            ),(referentes!W50),\"\")","v":"PMO - RÍO CEDRO"},{"$f":"referentes!S50","v":56915},null,48,"PMO - RIOHACHA",48,"X",null,{"$f":"CONCATENATE(referentes!W48,\"(\",referentes!T48,\")\")","v":"PMO - RIO LEON(0583743OCEA)"},{"$f":"referentes!S48","v":56922}]
[null,null,null,null,null,null,null,null,null,null,null,null,null,null,null,null,null,{"$f":"IF(AND(#REF!<>\"\"    ),(#REF!),\"\")","v":{"$error":"#REF!"}},null,null,null,null,null,null,{"$f":"IF(AND(referentes!U51<>\"\",          referentes!U51<>96321,    referentes!U51<>96222            ),(referentes!W51),\"\")","v":"PMO - SANTA MARTA"},{"$f":"referentes!S51","v":56904},null,49,"PMO - RÍO CEDRO",49,"X",null,{"$f":"CONCATENATE(referentes!W49,\"(\",referentes!T49,\")\")","v":"PMO - RIOHACHA(4400112OCEA)"},{"$f":"referentes!S49","v":56899}]
[null,null,null,null,null,null,null,null,null,null,null,null,null,null,null,null,null,{"$f":"IF(AND(#REF!<>\"\"    ),(#REF!),\"\")","v":{"$error":"#REF!"}},null,null,null,null,null,null,{"$f":"IF(AND(referentes!U52<>\"\",          referentes!U52<>96321,    referentes!U52<>96222            ),(referentes!W52),\"\")","v":"PMO - SANTA ROSA"},{"$f":"referentes!S52","v":56891},null,50,"PMO - SANTA MARTA",50,"X",null,{"$f":"CONCATENATE(referentes!W50,\"(\",referentes!T50,\")\")","v":"PMO - RÍO CEDRO(2350030OCEA)"},{"$f":"referentes!S50","v":56915}]
[null,null,null,null,null,null,null,null,null,null,null,null,null,null,null,null,null,{"$f":"IF(AND(#REF!<>\"\"    ),(#REF!),\"\")","v":{"$error":"#REF!"}},null,null,null,null,null,null,{"$f":"IF(AND(referentes!U53<>\"\",          referentes!U53<>96321,    referentes!U53<>96222            ),(referentes!W53),\"\")","v":"PMO - TAGANGA"},{"$f":"referentes!S53","v":56903},null,51,"PMO - SANTA ROSA",51,"X",null,{"$f":"CONCATENATE(referentes!W51,\"(\",referentes!T51,\")\")","v":"PMO - SANTA MARTA(4700118OCEA)"},{"$f":"referentes!S51","v":56904}]
[null,null,null,null,null,null,null,null,null,null,null,null,null,null,null,null,null,{"$f":"IF(AND(#REF!<>\"\"    ),(#REF!),\"\")","v":{"$error":"#REF!"}},null,null,null,null,null,null,{"$f":"IF(AND(referentes!U54<>\"\",          referentes!U54<>96321,    referentes!U54<>96222            ),(referentes!W54),\"\")","v":"PMO - TASAJERA"},{"$f":"referentes!S54","v":56908},null,52,"PMO - TAGANGA",52,"X",null,{"$f":"CONCATENATE(referentes!W52,\"(\",referentes!T52,\")\")","v":"PMO - SANTA ROSA(4456006OCEA)"},{"$f":"referentes!S52","v":56891}]
[null,null,null,null,null,null,null,null,null,null,null,null,null,null,null,null,null,{"$f":"IF(AND(#REF!<>\"\"    ),(#REF!),\"\")","v":{"$error":"#REF!"}},null,null,null,null,null,null,{"$f":"IF(AND(referentes!U55<>\"\",          referentes!U55<>96321,    referentes!U55<>96222            ),(referentes!W55),\"\")","v":""},{"$f":"referentes!S55","v":55973},null,53,"PMO - TASAJERA",53,"X",null,{"$f":"CONCATENATE(referentes!W53,\"(\",referentes!T53,\")\")","v":"PMO - TAGANGA(4700117OCEA)"},{"$f":"referentes!S53","v":56903}]
[null,null,null,null,null,null,null,null,null,null,null,null,null,null,null,null,null,{"$f":"IF(AND(#REF!<>\"\"    ),(#REF!),\"\")","v":{"$error":"#REF!"}},null,null,null,null,null,null,{"$f":"IF(AND(referentes!U56<>\"\",          referentes!U56<>96321,    referentes!U56<>96222            ),(referentes!W56),\"\")","v":""},{"$f":"referentes!S56","v":56689},null,54,0,1130,"X",null,{"$f":"CONCATENATE(referentes!W54,\"(\",referentes!T54,\")\")","v":"PMO - TASAJERA(4757023OCEA)"},{"$f":"referentes!S54","v":56908}]
[null,null,null,null,null,null,null,null,null,null,null,null,null,null,null,null,null,{"$f":"IF(AND(#REF!<>\"\"    ),(#REF!),\"\")","v":{"$error":"#REF!"}},null,null,null,null,null,null,{"$f":"IF(AND(referentes!U57<>\"\",          referentes!U57<>96321,    referentes!U57<>96222            ),(referentes!W57),\"\")","v":""},{"$f":"referentes!S57","v":55969},null,55,0,1130,"X",null,{"$f":"CONCATENATE(referentes!W55,\"(\",referentes!T55,\")\")","v":"Paso Nuevo1(Paso_Nuevo)"},{"$f":"referentes!S55","v":55973}]
[null,null,null,null,null,null,null,null,null,null,null,null,null,null,null,null,null,{"$f":"IF(AND(#REF!<>\"\"    ),(#REF!),\"\")","v":{"$error":"#REF!"}},null,null,null,null,null,null,{"$f":"IF(AND(referentes!U58<>\"\",          referentes!U58<>96321,    referentes!U58<>96222            ),(referentes!W58),\"\")","v":""},{"$f":"referentes!S58","v":55975},null,56,0,1130,"X",null,{"$f":"CONCATENATE(referentes!W56,\"(\",referentes!T56,\")\")","v":"Playa Mireya(playa_Mireya)"},{"$f":"referentes!S56","v":56689}]
[null,null,null,null,null,null,null,null,null,null,null,null,null,null,null,null,null,{"$f":"IF(AND(#REF!<>\"\"    ),(#REF!),\"\")","v":{"$error":"#REF!"}},null,null,null,null,null,null,{"$f":"IF(AND(referentes!U59<>\"\",          referentes!U59<>96321,    referentes!U59<>96222            ),(referentes!W59),\"\")","v":""},{"$f":"referentes!S59","v":55960},null,57,0,1130,"X",null,{"$f":"CONCATENATE(referentes!W57,\"(\",referentes!T57,\")\")","v":"Puerto Escondido1(Puerto_Escondido)"},{"$f":"referentes!S57","v":55969}]
[null,null,null,null,null,null,null,null,null,null,null,null,null,null,null,null,null,{"$f":"IF(AND(#REF!<>\"\"    ),(#REF!),\"\")","v":{"$error":"#REF!"}},null,null,null,null,null,null,{"$f":"IF(AND(referentes!U60<>\"\",          referentes!U60<>96321,    referentes!U60<>96222            ),(referentes!W60),\"\")","v":""},{"$f":"referentes!S60","v":55971},null,58,0,1130,"X",null,{"$f":"CONCATENATE(referentes!W58,\"(\",referentes!T58,\")\")","v":"Punta Mestizo1(Punta_Mestizos)"},{"$f":"referentes!S58","v":55975}]
[null,null,null,null,null,null,null,null,null,null,null,null,null,null,null,null,null,{"$f":"IF(AND(#REF!<>\"\"    ),(#REF!),\"\")","v":{"$error":"#REF!"}},null,null,null,null,null,null,{"$f":"IF(AND(referentes!U61<>\"\",          referentes!U61<>96321,    referentes!U61<>96222            ),(referentes!W61),\"\")","v":""},{"$f":"referentes!S61","v":55978},null,59,0,1130,"X",null,{"$f":"CONCATENATE(referentes!W59,\"(\",referentes!T59,\")\")","v":"Rincon Mosquito - Bello Horizonte(Rincon_Mosquito)"},{"$f":"referentes!S59","v":55960}]
[null,null,null,null,null,null,null,null,null,null,null,null,null,null,null,null,null,{"$f":"IF(AND(#REF!<>\"\"    ),(#REF!),\"\")","v":{"$error":"#REF!"}},null,null,null,null,null,null,{"$f":"IF(AND(referentes!U62<>\"\",          referentes!U62<>96321,    referentes!U62<>96222            ),(referentes!W62),\"\")","v":""},{"$f":"referentes!S62","v":55983},null,60,0,1130,"X",null,{"$f":"CONCATENATE(referentes!W60,\"(\",referentes!T60,\")\")","v":"Rio Cedro1(Rio_Cedro)"},{"$f":"referentes!S60","v":55971}]
[null,null,null,null,null,null,null,null,null,null,null,null,null,null,null,null,null,{"$f":"IF(AND(#REF!<>\"\"    ),(#REF!),\"\")","v":{"$error":"#REF!"}},null,null,null,null,null,null,{"$f":"IF(AND(referentes!U63<>\"\",          referentes!U63<>96321,    referentes!U63<>96222            ),(referentes!W63),\"\")","v":""},{"$f":"referentes!S63","v":0},null,61,0,1130,"X",null,{"$f":"CONCATENATE(referentes!W61,\"(\",referentes!T61,\")\")","v":"Rio Currulao1(Rio_Currulao)"},{"$f":"referentes!S61","v":55978}]
[null,null,null,null,null,null,null,null,null,null,null,null,null,null,null,null,null,{"$f":"IF(AND(#REF!<>\"\"    ),(#REF!),\"\")","v":{"$error":"#REF!"}},null,null,null,null,null,null,{"$f":"IF(AND(referentes!U64<>\"\",          referentes!U64<>96321,    referentes!U64<>96222            ),(referentes!W64),\"\")","v":""},{"$f":"referentes!S64","v":0},null,62,0,1130,"X",null,{"$f":"CONCATENATE(referentes!W62,\"(\",referentes!T62,\")\")","v":"Rio Jobo1(Rio_Hobo)"},{"$f":"referentes!S62","v":55983}]
[null,null,null,null,null,null,null,null,null,null,null,null,null,null,null,null,null,{"$f":"IF(AND(#REF!<>\"\"    ),(#REF!),\"\")","v":{"$error":"#REF!"}},null,null,null,null,null,null,{"$f":"IF(AND(referentes!U65<>\"\",          referentes!U65<>96321,    referentes!U65<>96222            ),(referentes!W65),\"\")","v":""},{"$f":"referentes!S65","v":0},null,63,0,1130,"X",null,{"$f":"CONCATENATE(referentes!W63,\"(\",referentes!T63,\")\")","v":"()"},{"$f":"referentes!S63","v":0}]
[null,null,null,null,null,null,null,null,null,null,null,null,null,null,null,null,null,{"$f":"IF(AND(#REF!<>\"\"    ),(#REF!),\"\")","v":{"$error":"#REF!"}},null,null,null,null,null,null,{"$f":"IF(AND(referentes!U66<>\"\",          referentes!U66<>96321,    referentes!U66<>96222            ),(referentes!W66),\"\")","v":""},{"$f":"referentes!S66","v":0},null,64,0,1130,"X",null,{"$f":"CONCATENATE(referentes!W64,\"(\",referentes!T64,\")\")","v":"()"},{"$f":"referentes!S64","v":0}]
[null,null,null,null,null,null,null,null,null,null,null,null,null,null,null,null,null,{"$f":"IF(AND(#REF!<>\"\"    ),(#REF!),\"\")","v":{"$error":"#REF!"}},null,null,null,null,null,null,{"$f":"IF(AND(referentes!U67<>\"\",          referentes!U67<>96321,    referentes!U67<>96222            ),(referentes!W67),\"\")","v":""},{"$f":"referentes!S67","v":0},null,65,0,1130,"X",null,{"$f":"CONCATENATE(referentes!W65,\"(\",referentes!T65,\")\")","v":"()"},{"$f":"referentes!S65","v":0}]
[null,null,null,null,null,null,null,null,null,null,null,null,null,null,null,null,null,{"$f":"IF(AND(#REF!<>\"\"    ),(#REF!),\"\")","v":{"$error":"#REF!"}},null,null,null,null,null,null,{"$f":"IF(AND(referentes!U68<>\"\",          referentes!U68<>96321,    referentes!U68<>96222            ),(referentes!W68),\"\")","v":""},{"$f":"referentes!S68","v":0},null,66,{"$f":"IF(Y71=\"\",0,Y71)","v":0},{"$f":"IF(AC72=0,MAX($AB$7:$AB$1135)+1,AB72)","v":1130},{"$f":"IFERROR(VLOOKUP(SMALL($AD$7:$AD$1135,AB72),$AB$7:$AD$1135,2,FALSE),\"X\")","v":"X"},null,{"$f":"CONCATENATE(referentes!W66,\"(\",referentes!T66,\")\")","v":"()"},{"$f":"referentes!S66","v":0}]
[null,null,null,null,null,null,null,null,null,null,null,null,null,null,null,null,null,{"$f":"IF(AND(#REF!<>\"\"    ),(#REF!),\"\")","v":{"$error":"#REF!"}},null,null,null,null,null,null,{"$f":"IF(AND(referentes!U69<>\"\",          referentes!U69<>96321,    referentes!U69<>96222            ),(referentes!W69),\"\")","v":""},{"$f":"referentes!S69","v":0},null,67,0,1130,"X",null,{"$f":"CONCATENATE(referentes!W67,\"(\",referentes!T67,\")\")","v":"()"},{"$f":"referentes!S67","v":0}]
[null,null,null,null,null,null,null,null,null,null,null,null,null,null,null,null,null,{"$f":"IF(AND(#REF!<>\"\"    ),(#REF!),\"\")","v":{"$error":"#REF!"}},null,null,null,null,null,null,{"$f":"IF(AND(referentes!U70<>\"\",          referentes!U70<>96321,    referentes!U70<>96222            ),(referentes!W70),\"\")","v":""},{"$f":"referentes!S70","v":0},null,68,0,1130,"X",null,{"$f":"CONCATENATE(referentes!W68,\"(\",referentes!T68,\")\")","v":"()"},{"$f":"referentes!S68","v":0}]
[null,null,null,null,null,null,null,null,null,null,null,null,null,null,null,null,null,{"$f":"IF(AND(#REF!<>\"\"    ),(#REF!),\"\")","v":{"$error":"#REF!"}},null,null,null,null,null,null,{"$f":"IF(AND(referentes!U71<>\"\",          referentes!U71<>96321,    referentes!U71<>96222            ),(referentes!W71),\"\")","v":""},{"$f":"referentes!S71","v":0},null,69,0,1130,"X",null,{"$f":"CONCATENATE(referentes!W69,\"(\",referentes!T69,\")\")","v":"()"},{"$f":"referentes!S69","v":0}]
[null,null,null,null,null,null,null,null,null,null,null,null,null,null,null,null,null,{"$f":"IF(AND(#REF!<>\"\"    ),(#REF!),\"\")","v":{"$error":"#REF!"}},null,null,null,null,null,null,{"$f":"IF(AND(referentes!U72<>\"\",          referentes!U72<>96321,    referentes!U72<>96222            ),(referentes!W72),\"\")","v":""},{"$f":"referentes!S72","v":0},null,70,0,1130,"X",null,{"$f":"CONCATENATE(referentes!W70,\"(\",referentes!T70,\")\")","v":"()"},{"$f":"referentes!S70","v":0}]
[null,null,null,null,null,null,null,null,null,null,null,null,null,null,null,null,null,{"$f":"IF(AND(#REF!<>\"\"    ),(#REF!),\"\")","v":{"$error":"#REF!"}},null,null,null,null,null,null,{"$f":"IF(AND(referentes!U73<>\"\",          referentes!U73<>96321,    referentes!U73<>96222            ),(referentes!W73),\"\")","v":""},{"$f":"referentes!S73","v":0},null,71,0,1130,"X",null,{"$f":"CONCATENATE(referentes!W71,\"(\",referentes!T71,\")\")","v":"()"},{"$f":"referentes!S71","v":0}]
[null,null,null,null,null,null,null,null,null,null,null,null,null,null,null,null,null,{"$f":"IF(AND(#REF!<>\"\"    ),(#REF!),\"\")","v":{"$error":"#REF!"}},null,null,null,null,null,null,{"$f":"IF(AND(referentes!U74<>\"\",          referentes!U74<>96321,    referentes!U74<>96222            ),(referentes!W74),\"\")","v":""},{"$f":"referentes!S74","v":0},null,72,0,1130,"X",null,{"$f":"CONCATENATE(referentes!W72,\"(\",referentes!T72,\")\")","v":"()"},{"$f":"referentes!S72","v":0}]
[null,null,null,null,null,null,null,null,null,null,null,null,null,null,null,null,null,{"$f":"IF(AND(#REF!<>\"\"    ),(#REF!),\"\")","v":{"$error":"#REF!"}},null,null,null,null,null,null,{"$f":"IF(AND(referentes!U75<>\"\",          referentes!U75<>96321,    referentes!U75<>96222            ),(referentes!W75),\"\")","v":""},{"$f":"referentes!S75","v":0},null,73,0,1130,"X",null,{"$f":"CONCATENATE(referentes!W73,\"(\",referentes!T73,\")\")","v":"()"},{"$f":"referentes!S73","v":0}]
[null,null,null,null,null,null,null,null,null,null,null,null,null,null,null,null,null,{"$f":"IF(AND(#REF!<>\"\"    ),(#REF!),\"\")","v":{"$error":"#REF!"}},null,null,null,null,null,null,{"$f":"IF(AND(referentes!U76<>\"\",          referentes!U76<>96321,    referentes!U76<>96222            ),(referentes!W76),\"\")","v":""},{"$f":"referentes!S76","v":0},null,74,0,1130,"X",null,{"$f":"CONCATENATE(referentes!W74,\"(\",referentes!T74,\")\")","v":"()"},{"$f":"referentes!S74","v":0}]
[null,null,null,null,null,null,null,null,null,null,null,null,null,null,null,null,null,{"$f":"IF(AND(#REF!<>\"\"    ),(#REF!),\"\")","v":{"$error":"#REF!"}},null,null,null,null,null,null,{"$f":"IF(AND(referentes!U77<>\"\",          referentes!U77<>96321,    referentes!U77<>96222            ),(referentes!W77),\"\")","v":""},{"$f":"referentes!S77","v":0},null,75,0,1130,"X",null,{"$f":"CONCATENATE(referentes!W75,\"(\",referentes!T75,\")\")","v":"()"},{"$f":"referentes!S75","v":0}]
[null,null,null,null,null,null,null,null,null,null,null,null,null,null,null,null,null,{"$f":"IF(AND(#REF!<>\"\"    ),(#REF!),\"\")","v":{"$error":"#REF!"}},null,null,null,null,null,null,{"$f":"IF(AND(referentes!U78<>\"\",          referentes!U78<>96321,    referentes!U78<>96222            ),(referentes!W78),\"\")","v":""},{"$f":"referentes!S78","v":0},null,76,0,1130,"X",null,{"$f":"CONCATENATE(referentes!W76,\"(\",referentes!T76,\")\")","v":"()"},{"$f":"referentes!S76","v":0}]
[null,null,null,null,null,null,null,null,null,null,null,null,null,null,null,null,null,{"$f":"IF(AND(#REF!<>\"\"    ),(#REF!),\"\")","v":{"$error":"#REF!"}},null,null,null,null,null,null,{"$f":"IF(AND(referentes!U79<>\"\",          referentes!U79<>96321,    referentes!U79<>96222            ),(referentes!W79),\"\")","v":""},{"$f":"referentes!S79","v":0},null,77,0,1130,"X",null,{"$f":"CONCATENATE(referentes!W77,\"(\",referentes!T77,\")\")","v":"()"},{"$f":"referentes!S77","v":0}]
[null,null,null,null,null,null,null,null,null,null,null,null,null,null,null,null,null,{"$f":"IF(AND(#REF!<>\"\"    ),(#REF!),\"\")","v":{"$error":"#REF!"}},null,null,null,null,null,null,{"$f":"IF(AND(referentes!U80<>\"\",          referentes!U80<>96321,    referentes!U80<>96222            ),(referentes!W80),\"\")","v":""},{"$f":"referentes!S80","v":0},null,78,0,1130,"X",null,{"$f":"CONCATENATE(referentes!W78,\"(\",referentes!T78,\")\")","v":"()"},{"$f":"referentes!S78","v":0}]
[null,null,null,null,null,null,null,null,null,null,null,null,null,null,null,null,null,{"$f":"IF(AND(#REF!<>\"\"    ),(#REF!),\"\")","v":{"$error":"#REF!"}},null,null,null,null,null,null,{"$f":"IF(AND(referentes!U81<>\"\",          referentes!U81<>96321,    referentes!U81<>96222            ),(referentes!W81),\"\")","v":""},{"$f":"referentes!S81","v":0},null,79,0,1130,"X",null,{"$f":"CONCATENATE(referentes!W79,\"(\",referentes!T79,\")\")","v":"()"},{"$f":"referentes!S79","v":0}]
[null,null,null,null,null,null,null,null,null,null,null,null,null,null,null,null,null,{"$f":"IF(AND(#REF!<>\"\"    ),(#REF!),\"\")","v":{"$error":"#REF!"}},null,null,null,null,null,null,{"$f":"IF(AND(referentes!U82<>\"\",          referentes!U82<>96321,    referentes!U82<>96222            ),(referentes!W82),\"\")","v":""},{"$f":"referentes!S82","v":0},null,80,0,1130,"X",null,{"$f":"CONCATENATE(referentes!W80,\"(\",referentes!T80,\")\")","v":"()"},{"$f":"referentes!S80","v":0}]
[null,null,null,null,null,null,null,null,null,null,null,null,null,null,null,null,null,{"$f":"IF(AND(#REF!<>\"\"    ),(#REF!),\"\")","v":{"$error":"#REF!"}},null,null,null,null,null,null,{"$f":"IF(AND(referentes!U83<>\"\",          referentes!U83<>96321,    referentes!U83<>96222            ),(referentes!W83),\"\")","v":""},{"$f":"referentes!S83","v":0},null,81,0,1130,"X",null,{"$f":"CONCATENATE(referentes!W81,\"(\",referentes!T81,\")\")","v":"()"},{"$f":"referentes!S81","v":0}]
[null,null,null,null,null,null,null,null,null,null,null,null,null,null,null,null,null,{"$f":"IF(AND(#REF!<>\"\"    ),(#REF!),\"\")","v":{"$error":"#REF!"}},null,null,null,null,null,null,{"$f":"IF(AND(referentes!U84<>\"\",          referentes!U84<>96321,    referentes!U84<>96222            ),(referentes!W84),\"\")","v":""},{"$f":"referentes!S84","v":0},null,82,0,1130,"X",null,{"$f":"CONCATENATE(referentes!W82,\"(\",referentes!T82,\")\")","v":"()"},{"$f":"referentes!S82","v":0}]
[null,null,null,null,null,null,null,null,null,null,null,null,null,null,null,null,null,{"$f":"IF(AND(#REF!<>\"\"    ),(#REF!),\"\")","v":{"$error":"#REF!"}},null,null,null,null,null,null,{"$f":"IF(AND(referentes!U85<>\"\",          referentes!U85<>96321,    referentes!U85<>96222            ),(referentes!W85),\"\")","v":""},{"$f":"referentes!S85","v":0},null,83,0,1130,"X",null,{"$f":"CONCATENATE(referentes!W83,\"(\",referentes!T83,\")\")","v":"()"},{"$f":"referentes!S83","v":0}]
[null,null,null,null,null,null,null,null,null,null,null,null,null,null,null,null,null,{"$f":"IF(AND(#REF!<>\"\"    ),(#REF!),\"\")","v":{"$error":"#REF!"}},null,null,null,null,null,null,{"$f":"IF(AND(referentes!U86<>\"\",          referentes!U86<>96321,    referentes!U86<>96222            ),(referentes!W86),\"\")","v":""},{"$f":"referentes!S86","v":0},null,84,0,1130,"X",null,{"$f":"CONCATENATE(referentes!W84,\"(\",referentes!T84,\")\")","v":"()"},{"$f":"referentes!S84","v":0}]
[null,null,null,null,null,null,null,null,null,null,null,null,null,null,null,null,null,{"$f":"IF(AND(#REF!<>\"\"    ),(#REF!),\"\")","v":{"$error":"#REF!"}},null,null,null,null,null,null,{"$f":"IF(AND(referentes!U87<>\"\",          referentes!U87<>96321,    referentes!U87<>96222            ),(referentes!W87),\"\")","v":""},{"$f":"referentes!S87","v":0},null,85,0,1130,"X",null,{"$f":"CONCATENATE(referentes!W85,\"(\",referentes!T85,\")\")","v":"()"},{"$f":"referentes!S85","v":0}]
[null,null,null,null,null,null,null,null,null,null,null,null,null,null,null,null,null,{"$f":"IF(AND(#REF!<>\"\"    ),(#REF!),\"\")","v":{"$error":"#REF!"}},null,null,null,null,null,null,{"$f":"IF(AND(referentes!U88<>\"\",          referentes!U88<>96321,    referentes!U88<>96222            ),(referentes!W88),\"\")","v":""},{"$f":"referentes!S88","v":0},null,86,0,1130,"X",null,{"$f":"CONCATENATE(referentes!W86,\"(\",referentes!T86,\")\")","v":"()"},{"$f":"referentes!S86","v":0}]
[null,null,null,null,null,null,null,null,null,null,null,null,null,null,null,null,null,{"$f":"IF(AND(#REF!<>\"\"    ),(#REF!),\"\")","v":{"$error":"#REF!"}},null,null,null,null,null,null,{"$f":"IF(AND(referentes!U89<>\"\",          referentes!U89<>96321,    referentes!U89<>96222            ),(referentes!W89),\"\")","v":""},{"$f":"referentes!S89","v":0},null,87,0,1130,"X",null,{"$f":"CONCATENATE(referentes!W87,\"(\",referentes!T87,\")\")","v":"()"},{"$f":"referentes!S87","v":0}]
[null,null,null,null,null,null,null,null,null,null,null,null,null,null,null,null,null,{"$f":"IF(AND(#REF!<>\"\"    ),(#REF!),\"\")","v":{"$error":"#REF!"}},null,null,null,null,null,null,{"$f":"IF(AND(referentes!U90<>\"\",          referentes!U90<>96321,    referentes!U90<>96222            ),(referentes!W90),\"\")","v":""},{"$f":"referentes!S90","v":0},null,88,0,1130,"X",null,{"$f":"CONCATENATE(referentes!W88,\"(\",referentes!T88,\")\")","v":"()"},{"$f":"referentes!S88","v":0}]
[null,null,null,null,null,null,null,null,null,null,null,null,null,null,null,null,null,{"$f":"IF(AND(#REF!<>\"\"    ),(#REF!),\"\")","v":{"$error":"#REF!"}},null,null,null,null,null,null,{"$f":"IF(AND(referentes!U91<>\"\",          referentes!U91<>96321,    referentes!U91<>96222            ),(referentes!W91),\"\")","v":""},{"$f":"referentes!S91","v":0},null,89,0,1130,"X",null,{"$f":"CONCATENATE(referentes!W89,\"(\",referentes!T89,\")\")","v":"()"},{"$f":"referentes!S89","v":0}]
[null,null,null,null,null,null,null,null,null,null,null,null,null,null,null,null,null,{"$f":"IF(AND(#REF!<>\"\"    ),(#REF!),\"\")","v":{"$error":"#REF!"}},null,null,null,null,null,null,{"$f":"IF(AND(referentes!U92<>\"\",          referentes!U92<>96321,    referentes!U92<>96222            ),(referentes!W92),\"\")","v":""},{"$f":"referentes!S92","v":0},null,90,0,1130,"X",null,{"$f":"CONCATENATE(referentes!W90,\"(\",referentes!T90,\")\")","v":"()"},{"$f":"referentes!S90","v":0}]
[null,null,null,null,null,null,null,null,null,null,null,null,null,null,null,null,null,{"$f":"IF(AND(#REF!<>\"\"    ),(#REF!),\"\")","v":{"$error":"#REF!"}},null,null,null,null,null,null,{"$f":"IF(AND(referentes!U93<>\"\",          referentes!U93<>96321,    referentes!U93<>96222            ),(referentes!W93),\"\")","v":""},{"$f":"referentes!S93","v":0},null,91,0,1130,"X",null,{"$f":"CONCATENATE(referentes!W91,\"(\",referentes!T91,\")\")","v":"()"},{"$f":"referentes!S91","v":0}]
[null,null,null,null,null,null,null,null,null,null,null,null,null,null,null,null,null,{"$f":"IF(AND(#REF!<>\"\"    ),(#REF!),\"\")","v":{"$error":"#REF!"}},null,null,null,null,null,null,{"$f":"IF(AND(referentes!U94<>\"\",          referentes!U94<>96321,    referentes!U94<>96222            ),(referentes!W94),\"\")","v":""},{"$f":"referentes!S94","v":0},null,92,0,1130,"X",null,{"$f":"CONCATENATE(referentes!W92,\"(\",referentes!T92,\")\")","v":"()"},{"$f":"referentes!S92","v":0}]
[null,null,null,null,null,null,null,null,null,null,null,null,null,null,null,null,null,{"$f":"IF(AND(#REF!<>\"\"    ),(#REF!),\"\")","v":{"$error":"#REF!"}},null,null,null,null,null,null,{"$f":"IF(AND(referentes!U95<>\"\",          referentes!U95<>96321,    referentes!U95<>96222            ),(referentes!W95),\"\")","v":""},{"$f":"referentes!S95","v":0},null,93,0,1130,"X",null,{"$f":"CONCATENATE(referentes!W93,\"(\",referentes!T93,\")\")","v":"()"},{"$f":"referentes!S93","v":0}]
[null,null,null,null,null,null,null,null,null,null,null,null,null,null,null,null,null,{"$f":"IF(AND(#REF!<>\"\"    ),(#REF!),\"\")","v":{"$error":"#REF!"}},null,null,null,null,null,null,{"$f":"IF(AND(referentes!U96<>\"\",          referentes!U96<>96321,    referentes!U96<>96222            ),(referentes!W96),\"\")","v":""},{"$f":"referentes!S96","v":0},null,94,0,1130,"X",null,{"$f":"CONCATENATE(referentes!W94,\"(\",referentes!T94,\")\")","v":"()"},{"$f":"referentes!S94","v":0}]
[null,null,null,null,null,null,null,null,null,null,null,null,null,null,null,null,null,{"$f":"IF(AND(#REF!<>\"\"    ),(#REF!),\"\")","v":{"$error":"#REF!"}},null,null,null,null,null,null,{"$f":"IF(AND(referentes!U97<>\"\",          referentes!U97<>96321,    referentes!U97<>96222            ),(referentes!W97),\"\")","v":""},{"$f":"referentes!S97","v":0},null,95,0,1130,"X",null,{"$f":"CONCATENATE(referentes!W95,\"(\",referentes!T95,\")\")","v":"()"},{"$f":"referentes!S95","v":0}]
[null,null,null,null,null,null,null,null,null,null,null,null,null,null,null,null,null,{"$f":"IF(AND(#REF!<>\"\"    ),(#REF!),\"\")","v":{"$error":"#REF!"}},null,null,null,null,null,null,{"$f":"IF(AND(referentes!U98<>\"\",          referentes!U98<>96321,    referentes!U98<>96222            ),(referentes!W98),\"\")","v":""},{"$f":"referentes!S98","v":0},null,96,0,1130,"X",null,{"$f":"CONCATENATE(referentes!W96,\"(\",referentes!T96,\")\")","v":"()"},{"$f":"referentes!S96","v":0}]
[null,null,null,null,null,null,null,null,null,null,null,null,null,null,null,null,null,{"$f":"IF(AND(#REF!<>\"\"    ),(#REF!),\"\")","v":{"$error":"#REF!"}},null,null,null,null,null,null,{"$f":"IF(AND(referentes!U99<>\"\",          referentes!U99<>96321,    referentes!U99<>96222            ),(referentes!W99),\"\")","v":""},{"$f":"referentes!S99","v":0},null,97,0,1130,"X",null,{"$f":"CONCATENATE(referentes!W97,\"(\",referentes!T97,\")\")","v":"()"},{"$f":"referentes!S97","v":0}]
[null,null,null,null,null,null,null,null,null,null,null,null,null,null,null,null,null,{"$f":"IF(AND(#REF!<>\"\"    ),(#REF!),\"\")","v":{"$error":"#REF!"}},null,null,null,null,null,null,{"$f":"IF(AND(referentes!U100<>\"\",          referentes!U100<>96321,    referentes!U100<>96222            ),(referentes!W100),\"\")","v":""},{"$f":"referentes!S100","v":0},null,98,0,1130,"X",null,{"$f":"CONCATENATE(referentes!W98,\"(\",referentes!T98,\")\")","v":"()"},{"$f":"referentes!S98","v":0}]
[null,null,null,null,null,null,null,null,null,null,null,null,null,null,null,null,null,{"$f":"IF(AND(#REF!<>\"\"    ),(#REF!),\"\")","v":{"$error":"#REF!"}},null,null,null,null,null,null,{"$f":"IF(AND(referentes!U101<>\"\",          referentes!U101<>96321,    referentes!U101<>96222            ),(referentes!W101),\"\")","v":""},{"$f":"referentes!S101","v":0},null,99,0,1130,"X",null,{"$f":"CONCATENATE(referentes!W99,\"(\",referentes!T99,\")\")","v":"()"},{"$f":"referentes!S99","v":0}]
[null,null,null,null,null,null,null,null,null,null,null,null,null,null,null,null,null,{"$f":"IF(AND(#REF!<>\"\"    ),(#REF!),\"\")","v":{"$error":"#REF!"}},null,null,null,null,null,null,{"$f":"IF(AND(referentes!U102<>\"\",          referentes!U102<>96321,    referentes!U102<>96222            ),(referentes!W102),\"\")","v":""},{"$f":"referentes!S102","v":0},null,100,0,1130,"X",null,{"$f":"CONCATENATE(referentes!W100,\"(\",referentes!T100,\")\")","v":"()"},{"$f":"referentes!S100","v":0}]
[null,null,null,null,null,null,null,null,null,null,null,null,null,null,null,null,null,{"$f":"IF(AND(#REF!<>\"\"    ),(#REF!),\"\")","v":{"$error":"#REF!"}},null,null,null,null,null,null,{"$f":"IF(AND(referentes!U103<>\"\",          referentes!U103<>96321,    referentes!U103<>96222            ),(referentes!W103),\"\")","v":""},{"$f":"referentes!S103","v":0},null,101,0,1130,"X",null,{"$f":"CONCATENATE(referentes!W101,\"(\",referentes!T101,\")\")","v":"()"},{"$f":"referentes!S101","v":0}]
[null,null,null,null,null,null,null,null,null,null,null,null,null,null,null,null,null,{"$f":"IF(AND(#REF!<>\"\"    ),(#REF!),\"\")","v":{"$error":"#REF!"}},null,null,null,null,null,null,{"$f":"IF(AND(referentes!U104<>\"\",          referentes!U104<>96321,    referentes!U104<>96222            ),(referentes!W104),\"\")","v":""},{"$f":"referentes!S104","v":0},null,102,0,1130,"X",null,{"$f":"CONCATENATE(referentes!W102,\"(\",referentes!T102,\")\")","v":"()"},{"$f":"referentes!S102","v":0}]
[null,null,null,null,null,null,null,null,null,null,null,null,null,null,null,null,null,{"$f":"IF(AND(#REF!<>\"\"    ),(#REF!),\"\")","v":{"$error":"#REF!"}},null,null,null,null,null,null,{"$f":"IF(AND(referentes!U105<>\"\",          referentes!U105<>96321,    referentes!U105<>96222            ),(referentes!W105),\"\")","v":""},{"$f":"referentes!S105","v":0},null,103,0,1130,"X",null,{"$f":"CONCATENATE(referentes!W103,\"(\",referentes!T103,\")\")","v":"()"},{"$f":"referentes!S103","v":0}]
[null,null,null,null,null,null,null,null,null,null,null,null,null,null,null,null,null,{"$f":"IF(AND(#REF!<>\"\"    ),(#REF!),\"\")","v":{"$error":"#REF!"}},null,null,null,null,null,null,{"$f":"IF(AND(referentes!U106<>\"\",          referentes!U106<>96321,    referentes!U106<>96222            ),(referentes!W106),\"\")","v":""},{"$f":"referentes!S106","v":0},null,104,0,1130,"X",null,{"$f":"CONCATENATE(referentes!W104,\"(\",referentes!T104,\")\")","v":"()"},{"$f":"referentes!S104","v":0}]
[null,null,null,null,null,null,null,null,null,null,null,null,null,null,null,null,null,{"$f":"IF(AND(#REF!<>\"\"    ),(#REF!),\"\")","v":{"$error":"#REF!"}},null,null,null,null,null,null,{"$f":"IF(AND(referentes!U107<>\"\",          referentes!U107<>96321,    referentes!U107<>96222            ),(referentes!W107),\"\")","v":""},{"$f":"referentes!S107","v":0},null,105,0,1130,"X",null,{"$f":"CONCATENATE(referentes!W105,\"(\",referentes!T105,\")\")","v":"()"},{"$f":"referentes!S105","v":0}]
[null,null,null,null,null,null,null,null,null,null,null,null,null,null,null,null,null,{"$f":"IF(AND(#REF!<>\"\"    ),(#REF!),\"\")","v":{"$error":"#REF!"}},null,null,null,null,null,null,{"$f":"IF(AND(referentes!U108<>\"\",          referentes!U108<>96321,    referentes!U108<>96222            ),(referentes!W108),\"\")","v":""},{"$f":"referentes!S108","v":0},null,106,0,1130,"X",null,{"$f":"CONCATENATE(referentes!W106,\"(\",referentes!T106,\")\")","v":"()"},{"$f":"referentes!S106","v":0}]
[null,null,null,null,null,null,null,null,null,null,null,null,null,null,null,null,null,{"$f":"IF(AND(#REF!<>\"\"    ),(#REF!),\"\")","v":{"$error":"#REF!"}},null,null,null,null,null,null,{"$f":"IF(AND(referentes!U109<>\"\",          referentes!U109<>96321,    referentes!U109<>96222            ),(referentes!W109),\"\")","v":""},{"$f":"referentes!S109","v":0},null,107,0,1130,"X",null,{"$f":"CONCATENATE(referentes!W107,\"(\",referentes!T107,\")\")","v":"()"},{"$f":"referentes!S107","v":0}]
[null,null,null,null,null,null,null,null,null,null,null,null,null,null,null,null,null,{"$f":"IF(AND(#REF!<>\"\"    ),(#REF!),\"\")","v":{"$error":"#REF!"}},null,null,null,null,null,null,{"$f":"IF(AND(referentes!U110<>\"\",          referentes!U110<>96321,    referentes!U110<>96222            ),(referentes!W110),\"\")","v":""},{"$f":"referentes!S110","v":0},null,108,0,1130,"X",null,{"$f":"CONCATENATE(referentes!W108,\"(\",referentes!T108,\")\")","v":"()"},{"$f":"referentes!S108","v":0}]
[null,null,null,null,null,null,null,null,null,null,null,null,null,null,null,null,null,{"$f":"IF(AND(#REF!<>\"\"    ),(#REF!),\"\")","v":{"$error":"#REF!"}},null,null,null,null,null,null,{"$f":"IF(AND(referentes!U111<>\"\",          referentes!U111<>96321,    referentes!U111<>96222            ),(referentes!W111),\"\")","v":""},{"$f":"referentes!S111","v":0},null,109,0,1130,"X",null,{"$f":"CONCATENATE(referentes!W109,\"(\",referentes!T109,\")\")","v":"()"},{"$f":"referentes!S109","v":0}]
[null,null,null,null,null,null,null,null,null,null,null,null,null,null,null,null,null,{"$f":"IF(AND(#REF!<>\"\"    ),(#REF!),\"\")","v":{"$error":"#REF!"}},null,null,null,null,null,null,{"$f":"IF(AND(referentes!U112<>\"\",          referentes!U112<>96321,    referentes!U112<>96222            ),(referentes!W112),\"\")","v":""},{"$f":"referentes!S112","v":0},null,110,0,1130,"X",null,{"$f":"CONCATENATE(referentes!W110,\"(\",referentes!T110,\")\")","v":"()"},{"$f":"referentes!S110","v":0}]
[null,null,null,null,null,null,null,null,null,null,null,null,null,null,null,null,null,{"$f":"IF(AND(#REF!<>\"\"    ),(#REF!),\"\")","v":{"$error":"#REF!"}},null,null,null,null,null,null,{"$f":"IF(AND(referentes!U113<>\"\",          referentes!U113<>96321,    referentes!U113<>96222            ),(referentes!W113),\"\")","v":""},{"$f":"referentes!S113","v":0},null,111,0,1130,"X",null,{"$f":"CONCATENATE(referentes!W111,\"(\",referentes!T111,\")\")","v":"()"},{"$f":"referentes!S111","v":0}]
[null,null,null,null,null,null,null,null,null,null,null,null,null,null,null,null,null,{"$f":"IF(AND(#REF!<>\"\"    ),(#REF!),\"\")","v":{"$error":"#REF!"}},null,null,null,null,null,null,{"$f":"IF(AND(referentes!U114<>\"\",          referentes!U114<>96321,    referentes!U114<>96222            ),(referentes!W114),\"\")","v":""},{"$f":"referentes!S114","v":0},null,112,0,1130,"X",null,{"$f":"CONCATENATE(referentes!W112,\"(\",referentes!T112,\")\")","v":"()"},{"$f":"referentes!S112","v":0}]
[null,null,null,null,null,null,null,null,null,null,null,null,null,null,null,null,null,{"$f":"IF(AND(#REF!<>\"\"    ),(#REF!),\"\")","v":{"$error":"#REF!"}},null,null,null,null,null,null,{"$f":"IF(AND(referentes!U115<>\"\",          referentes!U115<>96321,    referentes!U115<>96222            ),(referentes!W115),\"\")","v":""},{"$f":"referentes!S115","v":0},null,113,0,1130,"X",null,{"$f":"CONCATENATE(referentes!W113,\"(\",referentes!T113,\")\")","v":"()"},{"$f":"referentes!S113","v":0}]
[null,null,null,null,null,null,null,null,null,null,null,null,null,null,null,null,null,{"$f":"IF(AND(#REF!<>\"\"    ),(#REF!),\"\")","v":{"$error":"#REF!"}},null,null,null,null,null,null,{"$f":"IF(AND(referentes!U116<>\"\",          referentes!U116<>96321,    referentes!U116<>96222            ),(referentes!W116),\"\")","v":""},{"$f":"referentes!S116","v":0},null,114,0,1130,"X",null,{"$f":"CONCATENATE(referentes!W114,\"(\",referentes!T114,\")\")","v":"()"},{"$f":"referentes!S114","v":0}]
[null,null,null,null,null,null,null,null,null,null,null,null,null,null,null,null,null,{"$f":"IF(AND(#REF!<>\"\"    ),(#REF!),\"\")","v":{"$error":"#REF!"}},null,null,null,null,null,null,{"$f":"IF(AND(referentes!U117<>\"\",          referentes!U117<>96321,    referentes!U117<>96222            ),(referentes!W117),\"\")","v":""},{"$f":"referentes!S117","v":0},null,115,0,1130,"X",null,{"$f":"CONCATENATE(referentes!W115,\"(\",referentes!T115,\")\")","v":"()"},{"$f":"referentes!S115","v":0}]
[null,null,null,null,null,null,null,null,null,null,null,null,null,null,null,null,null,{"$f":"IF(AND(#REF!<>\"\"    ),(#REF!),\"\")","v":{"$error":"#REF!"}},null,null,null,null,null,null,{"$f":"IF(AND(referentes!U118<>\"\",          referentes!U118<>96321,    referentes!U118<>96222            ),(referentes!W118),\"\")","v":""},{"$f":"referentes!S118","v":0},null,116,0,1130,"X",null,{"$f":"CONCATENATE(referentes!W116,\"(\",referentes!T116,\")\")","v":"()"},{"$f":"referentes!S116","v":0}]
[null,null,null,null,null,null,null,null,null,null,null,null,null,null,null,null,null,{"$f":"IF(AND(#REF!<>\"\"    ),(#REF!),\"\")","v":{"$error":"#REF!"}},null,null,null,null,null,null,{"$f":"IF(AND(referentes!U119<>\"\",          referentes!U119<>96321,    referentes!U119<>96222            ),(referentes!W119),\"\")","v":""},{"$f":"referentes!S119","v":0},null,117,0,1130,"X",null,{"$f":"CONCATENATE(referentes!W117,\"(\",referentes!T117,\")\")","v":"()"},{"$f":"referentes!S117","v":0}]
[null,null,null,null,null,null,null,null,null,null,null,null,null,null,null,null,null,{"$f":"IF(AND(#REF!<>\"\"    ),(#REF!),\"\")","v":{"$error":"#REF!"}},null,null,null,null,null,null,{"$f":"IF(AND(referentes!U120<>\"\",          referentes!U120<>96321,    referentes!U120<>96222            ),(referentes!W120),\"\")","v":""},{"$f":"referentes!S120","v":0},null,118,0,1130,"X",null,{"$f":"CONCATENATE(referentes!W118,\"(\",referentes!T118,\")\")","v":"()"},{"$f":"referentes!S118","v":0}]
[null,null,null,null,null,null,null,null,null,null,null,null,null,null,null,null,null,{"$f":"IF(AND(#REF!<>\"\"    ),(#REF!),\"\")","v":{"$error":"#REF!"}},null,null,null,null,null,null,{"$f":"IF(AND(referentes!U121<>\"\",          referentes!U121<>96321,    referentes!U121<>96222            ),(referentes!W121),\"\")","v":""},{"$f":"referentes!S121","v":0},null,119,0,1130,"X",null,{"$f":"CONCATENATE(referentes!W119,\"(\",referentes!T119,\")\")","v":"()"},{"$f":"referentes!S119","v":0}]
[null,null,null,null,null,null,null,null,null,null,null,null,null,null,null,null,null,{"$f":"IF(AND(#REF!<>\"\"    ),(#REF!),\"\")","v":{"$error":"#REF!"}},null,null,null,null,null,null,{"$f":"IF(AND(referentes!U122<>\"\",          referentes!U122<>96321,    referentes!U122<>96222            ),(referentes!W122),\"\")","v":""},{"$f":"referentes!S122","v":0},null,120,0,1130,"X",null,{"$f":"CONCATENATE(referentes!W120,\"(\",referentes!T120,\")\")","v":"()"},{"$f":"referentes!S120","v":0}]
[null,null,null,null,null,null,null,null,null,null,null,null,null,null,null,null,null,{"$f":"IF(AND(#REF!<>\"\"    ),(#REF!),\"\")","v":{"$error":"#REF!"}},null,null,null,null,null,null,{"$f":"IF(AND(referentes!U123<>\"\",          referentes!U123<>96321,    referentes!U123<>96222            ),(referentes!W123),\"\")","v":""},{"$f":"referentes!S123","v":0},null,121,0,1130,"X",null,{"$f":"CONCATENATE(referentes!W121,\"(\",referentes!T121,\")\")","v":"()"},{"$f":"referentes!S121","v":0}]
[null,null,null,null,null,null,null,null,null,null,null,null,null,null,null,null,null,{"$f":"IF(AND(#REF!<>\"\"    ),(#REF!),\"\")","v":{"$error":"#REF!"}},null,null,null,null,null,null,{"$f":"IF(AND(referentes!U124<>\"\",          referentes!U124<>96321,    referentes!U124<>96222            ),(referentes!W124),\"\")","v":""},{"$f":"referentes!S124","v":0},null,122,0,1130,"X",null,{"$f":"CONCATENATE(referentes!W122,\"(\",referentes!T122,\")\")","v":"()"},{"$f":"referentes!S122","v":0}]
[null,null,null,null,null,null,null,null,null,null,null,null,null,null,null,null,null,{"$f":"IF(AND(#REF!<>\"\"    ),(#REF!),\"\")","v":{"$error":"#REF!"}},null,null,null,null,null,null,{"$f":"IF(AND(referentes!U125<>\"\",          referentes!U125<>96321,    referentes!U125<>96222            ),(referentes!W125),\"\")","v":""},{"$f":"referentes!S125","v":0},null,123,0,1130,"X",null,{"$f":"CONCATENATE(referentes!W123,\"(\",referentes!T123,\")\")","v":"()"},{"$f":"referentes!S123","v":0}]
[null,null,null,null,null,null,null,null,null,null,null,null,null,null,null,null,null,{"$f":"IF(AND(#REF!<>\"\"    ),(#REF!),\"\")","v":{"$error":"#REF!"}},null,null,null,null,null,null,{"$f":"IF(AND(referentes!U126<>\"\",          referentes!U126<>96321,    referentes!U126<>96222            ),(referentes!W126),\"\")","v":""},{"$f":"referentes!S126","v":0},null,124,0,1130,"X",null,{"$f":"CONCATENATE(referentes!W124,\"(\",referentes!T124,\")\")","v":"()"},{"$f":"referentes!S124","v":0}]
[null,null,null,null,null,null,null,null,null,null,null,null,null,null,null,null,null,{"$f":"IF(AND(#REF!<>\"\"    ),(#REF!),\"\")","v":{"$error":"#REF!"}},null,null,null,null,null,null,{"$f":"IF(AND(referentes!U127<>\"\",          referentes!U127<>96321,    referentes!U127<>96222            ),(referentes!W127),\"\")","v":""},{"$f":"referentes!S127","v":0},null,125,0,1130,"X",null,{"$f":"CONCATENATE(referentes!W125,\"(\",referentes!T125,\")\")","v":"()"},{"$f":"referentes!S125","v":0}]
[null,null,null,null,null,null,null,null,null,null,null,null,null,null,null,null,null,{"$f":"IF(AND(#REF!<>\"\"    ),(#REF!),\"\")","v":{"$error":"#REF!"}},null,null,null,null,null,null,{"$f":"IF(AND(referentes!U128<>\"\",          referentes!U128<>96321,    referentes!U128<>96222            ),(referentes!W128),\"\")","v":""},{"$f":"referentes!S128","v":0},null,126,0,1130,"X",null,{"$f":"CONCATENATE(referentes!W126,\"(\",referentes!T126,\")\")","v":"()"},{"$f":"referentes!S126","v":0}]
[null,null,null,null,null,null,null,null,null,null,null,null,null,null,null,null,null,{"$f":"IF(AND(#REF!<>\"\"    ),(#REF!),\"\")","v":{"$error":"#REF!"}},null,null,null,null,null,null,{"$f":"IF(AND(referentes!U129<>\"\",          referentes!U129<>96321,    referentes!U129<>96222            ),(referentes!W129),\"\")","v":""},{"$f":"referentes!S129","v":0},null,127,0,1130,"X",null,{"$f":"CONCATENATE(referentes!W127,\"(\",referentes!T127,\")\")","v":"()"},{"$f":"referentes!S127","v":0}]
[null,null,null,null,null,null,null,null,null,null,null,null,null,null,null,null,null,{"$f":"IF(AND(#REF!<>\"\"    ),(#REF!),\"\")","v":{"$error":"#REF!"}},null,null,null,null,null,null,{"$f":"IF(AND(referentes!U130<>\"\",          referentes!U130<>96321,    referentes!U130<>96222            ),(referentes!W130),\"\")","v":""},{"$f":"referentes!S130","v":0},null,128,0,1130,"X",null,{"$f":"CONCATENATE(referentes!W128,\"(\",referentes!T128,\")\")","v":"()"},{"$f":"referentes!S128","v":0}]
[null,null,null,null,null,null,null,null,null,null,null,null,null,null,null,null,null,{"$f":"IF(AND(#REF!<>\"\"    ),(#REF!),\"\")","v":{"$error":"#REF!"}},null,null,null,null,null,null,{"$f":"IF(AND(referentes!U131<>\"\",          referentes!U131<>96321,    referentes!U131<>96222            ),(referentes!W131),\"\")","v":""},{"$f":"referentes!S131","v":0},null,129,0,1130,"X",null,{"$f":"CONCATENATE(referentes!W129,\"(\",referentes!T129,\")\")","v":"()"},{"$f":"referentes!S129","v":0}]
[null,null,null,null,null,null,null,null,null,null,null,null,null,null,null,null,null,{"$f":"IF(AND(#REF!<>\"\"    ),(#REF!),\"\")","v":{"$error":"#REF!"}},null,null,null,null,null,null,{"$f":"IF(AND(referentes!U132<>\"\",          referentes!U132<>96321,    referentes!U132<>96222            ),(referentes!W132),\"\")","v":""},{"$f":"referentes!S132","v":0},null,130,{"$f":"IF(Y135=\"\",0,Y135)","v":0},{"$f":"IF(AC136=0,MAX($AB$7:$AB$1135)+1,AB136)","v":1130},{"$f":"IFERROR(VLOOKUP(SMALL($AD$7:$AD$1135,AB136),$AB$7:$AD$1135,2,FALSE),\"X\")","v":"X"},null,{"$f":"CONCATENATE(referentes!W130,\"(\",referentes!T130,\")\")","v":"()"},{"$f":"referentes!S130","v":0}]
[null,null,null,null,null,null,null,null,null,null,null,null,null,null,null,null,null,{"$f":"IF(AND(#REF!<>\"\"    ),(#REF!),\"\")","v":{"$error":"#REF!"}},null,null,null,null,null,null,{"$f":"IF(AND(referentes!U133<>\"\",          referentes!U133<>96321,    referentes!U133<>96222            ),(referentes!W133),\"\")","v":""},{"$f":"referentes!S133","v":0},null,131,0,1130,"X",null,{"$f":"CONCATENATE(referentes!W131,\"(\",referentes!T131,\")\")","v":"()"},{"$f":"referentes!S131","v":0}]
[null,null,null,null,null,null,null,null,null,null,null,null,null,null,null,null,null,{"$f":"IF(AND(#REF!<>\"\"    ),(#REF!),\"\")","v":{"$error":"#REF!"}},null,null,null,null,null,null,{"$f":"IF(AND(referentes!U134<>\"\",          referentes!U134<>96321,    referentes!U134<>96222            ),(referentes!W134),\"\")","v":""},{"$f":"referentes!S134","v":0},null,132,0,1130,"X",null,{"$f":"CONCATENATE(referentes!W132,\"(\",referentes!T132,\")\")","v":"()"},{"$f":"referentes!S132","v":0}]
[null,null,null,null,null,null,null,null,null,null,null,null,null,null,null,null,null,{"$f":"IF(AND(#REF!<>\"\"    ),(#REF!),\"\")","v":{"$error":"#REF!"}},null,null,null,null,null,null,{"$f":"IF(AND(referentes!U135<>\"\",          referentes!U135<>96321,    referentes!U135<>96222            ),(referentes!W135),\"\")","v":""},{"$f":"referentes!S135","v":0},null,133,0,1130,"X",null,{"$f":"CONCATENATE(referentes!W133,\"(\",referentes!T133,\")\")","v":"()"},{"$f":"referentes!S133","v":0}]
[null,null,null,null,null,null,null,null,null,null,null,null,null,null,null,null,null,{"$f":"IF(AND(#REF!<>\"\"    ),(#REF!),\"\")","v":{"$error":"#REF!"}},null,null,null,null,null,null,{"$f":"IF(AND(referentes!U136<>\"\",          referentes!U136<>96321,    referentes!U136<>96222            ),(referentes!W136),\"\")","v":""},{"$f":"referentes!S136","v":0},null,134,0,1130,"X",null,{"$f":"CONCATENATE(referentes!W134,\"(\",referentes!T134,\")\")","v":"()"},{"$f":"referentes!S134","v":0}]
[null,null,null,null,null,null,null,null,null,null,null,null,null,null,null,null,null,{"$f":"IF(AND(#REF!<>\"\"    ),(#REF!),\"\")","v":{"$error":"#REF!"}},null,null,null,null,null,null,{"$f":"IF(AND(referentes!U137<>\"\",          referentes!U137<>96321,    referentes!U137<>96222            ),(referentes!W137),\"\")","v":""},{"$f":"referentes!S137","v":0},null,135,0,1130,"X",null,{"$f":"CONCATENATE(referentes!W135,\"(\",referentes!T135,\")\")","v":"()"},{"$f":"referentes!S135","v":0}]
[null,null,null,null,null,null,null,null,null,null,null,null,null,null,null,null,null,{"$f":"IF(AND(#REF!<>\"\"    ),(#REF!),\"\")","v":{"$error":"#REF!"}},null,null,null,null,null,null,{"$f":"IF(AND(referentes!U138<>\"\",          referentes!U138<>96321,    referentes!U138<>96222            ),(referentes!W138),\"\")","v":""},{"$f":"referentes!S138","v":0},null,136,0,1130,"X",null,{"$f":"CONCATENATE(referentes!W136,\"(\",referentes!T136,\")\")","v":"()"},{"$f":"referentes!S136","v":0}]
[null,null,null,null,null,null,null,null,null,null,null,null,null,null,null,null,null,{"$f":"IF(AND(#REF!<>\"\"    ),(#REF!),\"\")","v":{"$error":"#REF!"}},null,null,null,null,null,null,{"$f":"IF(AND(referentes!U139<>\"\",          referentes!U139<>96321,    referentes!U139<>96222            ),(referentes!W139),\"\")","v":""},{"$f":"referentes!S139","v":0},null,137,0,1130,"X",null,{"$f":"CONCATENATE(referentes!W137,\"(\",referentes!T137,\")\")","v":"()"},{"$f":"referentes!S137","v":0}]
[null,null,null,null,null,null,null,null,null,null,null,null,null,null,null,null,null,{"$f":"IF(AND(#REF!<>\"\"    ),(#REF!),\"\")","v":{"$error":"#REF!"}},null,null,null,null,null,null,{"$f":"IF(AND(referentes!U140<>\"\",          referentes!U140<>96321,    referentes!U140<>96222            ),(referentes!W140),\"\")","v":""},{"$f":"referentes!S140","v":0},null,138,0,1130,"X",null,{"$f":"CONCATENATE(referentes!W138,\"(\",referentes!T138,\")\")","v":"()"},{"$f":"referentes!S138","v":0}]
[null,null,null,null,null,null,null,null,null,null,null,null,null,null,null,null,null,{"$f":"IF(AND(#REF!<>\"\"    ),(#REF!),\"\")","v":{"$error":"#REF!"}},null,null,null,null,null,null,{"$f":"IF(AND(referentes!U141<>\"\",          referentes!U141<>96321,    referentes!U141<>96222            ),(referentes!W141),\"\")","v":""},{"$f":"referentes!S141","v":0},null,139,0,1130,"X",null,{"$f":"CONCATENATE(referentes!W139,\"(\",referentes!T139,\")\")","v":"()"},{"$f":"referentes!S139","v":0}]
[null,null,null,null,null,null,null,null,null,null,null,null,null,null,null,null,null,{"$f":"IF(AND(#REF!<>\"\"    ),(#REF!),\"\")","v":{"$error":"#REF!"}},null,null,null,null,null,null,{"$f":"IF(AND(referentes!U142<>\"\",          referentes!U142<>96321,    referentes!U142<>96222            ),(referentes!W142),\"\")","v":""},{"$f":"referentes!S142","v":0},null,140,0,1130,"X",null,{"$f":"CONCATENATE(referentes!W140,\"(\",referentes!T140,\")\")","v":"()"},{"$f":"referentes!S140","v":0}]
[null,null,null,null,null,null,null,null,null,null,null,null,null,null,null,null,null,{"$f":"IF(AND(#REF!<>\"\"    ),(#REF!),\"\")","v":{"$error":"#REF!"}},null,null,null,null,null,null,{"$f":"IF(AND(referentes!U143<>\"\",          referentes!U143<>96321,    referentes!U143<>96222            ),(referentes!W143),\"\")","v":""},{"$f":"referentes!S143","v":0},null,141,0,1130,"X",null,{"$f":"CONCATENATE(referentes!W141,\"(\",referentes!T141,\")\")","v":"()"},{"$f":"referentes!S141","v":0}]
[null,null,null,null,null,null,null,null,null,null,null,null,null,null,null,null,null,{"$f":"IF(AND(#REF!<>\"\"    ),(#REF!),\"\")","v":{"$error":"#REF!"}},null,null,null,null,null,null,{"$f":"IF(AND(referentes!U144<>\"\",          referentes!U144<>96321,    referentes!U144<>96222            ),(referentes!W144),\"\")","v":""},{"$f":"referentes!S144","v":0},null,142,0,1130,"X",null,{"$f":"CONCATENATE(referentes!W142,\"(\",referentes!T142,\")\")","v":"()"},{"$f":"referentes!S142","v":0}]
[null,null,null,null,null,null,null,null,null,null,null,null,null,null,null,null,null,{"$f":"IF(AND(#REF!<>\"\"    ),(#REF!),\"\")","v":{"$error":"#REF!"}},null,null,null,null,null,null,{"$f":"IF(AND(referentes!U145<>\"\",          referentes!U145<>96321,    referentes!U145<>96222            ),(referentes!W145),\"\")","v":""},{"$f":"referentes!S145","v":0},null,143,0,1130,"X",null,{"$f":"CONCATENATE(referentes!W143,\"(\",referentes!T143,\")\")","v":"()"},{"$f":"referentes!S143","v":0}]
[null,null,null,null,null,null,null,null,null,null,null,null,null,null,null,null,null,{"$f":"IF(AND(#REF!<>\"\"    ),(#REF!),\"\")","v":{"$error":"#REF!"}},null,null,null,null,null,null,{"$f":"IF(AND(referentes!U146<>\"\",          referentes!U146<>96321,    referentes!U146<>96222            ),(referentes!W146),\"\")","v":""},{"$f":"referentes!S146","v":0},null,144,0,1130,"X",null,{"$f":"CONCATENATE(referentes!W144,\"(\",referentes!T144,\")\")","v":"()"},{"$f":"referentes!S144","v":0}]
[null,null,null,null,null,null,null,null,null,null,null,null,null,null,null,null,null,{"$f":"IF(AND(#REF!<>\"\"    ),(#REF!),\"\")","v":{"$error":"#REF!"}},null,null,null,null,null,null,{"$f":"IF(AND(referentes!U147<>\"\",          referentes!U147<>96321,    referentes!U147<>96222            ),(referentes!W147),\"\")","v":""},{"$f":"referentes!S147","v":0},null,145,0,1130,"X",null,{"$f":"CONCATENATE(referentes!W145,\"(\",referentes!T145,\")\")","v":"()"},{"$f":"referentes!S145","v":0}]
[null,null,null,null,null,null,null,null,null,null,null,null,null,null,null,null,null,{"$f":"IF(AND(#REF!<>\"\"    ),(#REF!),\"\")","v":{"$error":"#REF!"}},null,null,null,null,null,null,{"$f":"IF(AND(referentes!U148<>\"\",          referentes!U148<>96321,    referentes!U148<>96222            ),(referentes!W148),\"\")","v":""},{"$f":"referentes!S148","v":0},null,146,0,1130,"X",null,{"$f":"CONCATENATE(referentes!W146,\"(\",referentes!T146,\")\")","v":"()"},{"$f":"referentes!S146","v":0}]
[null,null,null,null,null,null,null,null,null,null,null,null,null,null,null,null,null,{"$f":"IF(AND(#REF!<>\"\"    ),(#REF!),\"\")","v":{"$error":"#REF!"}},null,null,null,null,null,null,{"$f":"IF(AND(referentes!U149<>\"\",          referentes!U149<>96321,    referentes!U149<>96222            ),(referentes!W149),\"\")","v":""},{"$f":"referentes!S149","v":0},null,147,0,1130,"X",null,{"$f":"CONCATENATE(referentes!W147,\"(\",referentes!T147,\")\")","v":"()"},{"$f":"referentes!S147","v":0}]
[null,null,null,null,null,null,null,null,null,null,null,null,null,null,null,null,null,{"$f":"IF(AND(#REF!<>\"\"    ),(#REF!),\"\")","v":{"$error":"#REF!"}},null,null,null,null,null,null,{"$f":"IF(AND(referentes!U150<>\"\",          referentes!U150<>96321,    referentes!U150<>96222            ),(referentes!W150),\"\")","v":""},{"$f":"referentes!S150","v":0},null,148,0,1130,"X",null,{"$f":"CONCATENATE(referentes!W148,\"(\",referentes!T148,\")\")","v":"()"},{"$f":"referentes!S148","v":0}]
[null,null,null,null,null,null,null,null,null,null,null,null,null,null,null,null,null,{"$f":"IF(AND(#REF!<>\"\"    ),(#REF!),\"\")","v":{"$error":"#REF!"}},null,null,null,null,null,null,{"$f":"IF(AND(referentes!U151<>\"\",          referentes!U151<>96321,    referentes!U151<>96222            ),(referentes!W151),\"\")","v":""},{"$f":"referentes!S151","v":0},null,149,0,1130,"X",null,{"$f":"CONCATENATE(referentes!W149,\"(\",referentes!T149,\")\")","v":"()"},{"$f":"referentes!S149","v":0}]
[null,null,null,null,null,null,null,null,null,null,null,null,null,null,null,null,null,{"$f":"IF(AND(#REF!<>\"\"    ),(#REF!),\"\")","v":{"$error":"#REF!"}},null,null,null,null,null,null,{"$f":"IF(AND(referentes!U152<>\"\",          referentes!U152<>96321,    referentes!U152<>96222            ),(referentes!W152),\"\")","v":""},{"$f":"referentes!S152","v":0},null,150,0,1130,"X",null,{"$f":"CONCATENATE(referentes!W150,\"(\",referentes!T150,\")\")","v":"()"},{"$f":"referentes!S150","v":0}]
[null,null,null,null,null,null,null,null,null,null,null,null,null,null,null,null,null,{"$f":"IF(AND(#REF!<>\"\"    ),(#REF!),\"\")","v":{"$error":"#REF!"}},null,null,null,null,null,null,{"$f":"IF(AND(referentes!U153<>\"\",          referentes!U153<>96321,    referentes!U153<>96222            ),(referentes!W153),\"\")","v":""},{"$f":"referentes!S153","v":0},null,151,0,1130,"X",null,{"$f":"CONCATENATE(referentes!W151,\"(\",referentes!T151,\")\")","v":"()"},{"$f":"referentes!S151","v":0}]
[null,null,null,null,null,null,null,null,null,null,null,null,null,null,null,null,null,{"$f":"IF(AND(#REF!<>\"\"    ),(#REF!),\"\")","v":{"$error":"#REF!"}},null,null,null,null,null,null,{"$f":"IF(AND(referentes!U154<>\"\",          referentes!U154<>96321,    referentes!U154<>96222            ),(referentes!W154),\"\")","v":""},{"$f":"referentes!S154","v":0},null,152,0,1130,"X",null,{"$f":"CONCATENATE(referentes!W152,\"(\",referentes!T152,\")\")","v":"()"},{"$f":"referentes!S152","v":0}]
[null,null,null,null,null,null,null,null,null,null,null,null,null,null,null,null,null,{"$f":"IF(AND(#REF!<>\"\"    ),(#REF!),\"\")","v":{"$error":"#REF!"}},null,null,null,null,null,null,{"$f":"IF(AND(referentes!U155<>\"\",          referentes!U155<>96321,    referentes!U155<>96222            ),(referentes!W155),\"\")","v":""},{"$f":"referentes!S155","v":0},null,153,0,1130,"X",null,{"$f":"CONCATENATE(referentes!W153,\"(\",referentes!T153,\")\")","v":"()"},{"$f":"referentes!S153","v":0}]
[null,null,null,null,null,null,null,null,null,null,null,null,null,null,null,null,null,{"$f":"IF(AND(#REF!<>\"\"    ),(#REF!),\"\")","v":{"$error":"#REF!"}},null,null,null,null,null,null,{"$f":"IF(AND(referentes!U156<>\"\",          referentes!U156<>96321,    referentes!U156<>96222            ),(referentes!W156),\"\")","v":""},{"$f":"referentes!S156","v":0},null,154,0,1130,"X",null,{"$f":"CONCATENATE(referentes!W154,\"(\",referentes!T154,\")\")","v":"()"},{"$f":"referentes!S154","v":0}]
[null,null,null,null,null,null,null,null,null,null,null,null,null,null,null,null,null,{"$f":"IF(AND(#REF!<>\"\"    ),(#REF!),\"\")","v":{"$error":"#REF!"}},null,null,null,null,null,null,{"$f":"IF(AND(referentes!U157<>\"\",          referentes!U157<>96321,    referentes!U157<>96222            ),(referentes!W157),\"\")","v":""},{"$f":"referentes!S157","v":0},null,155,0,1130,"X",null,{"$f":"CONCATENATE(referentes!W155,\"(\",referentes!T155,\")\")","v":"()"},{"$f":"referentes!S155","v":0}]
[null,null,null,null,null,null,null,null,null,null,null,null,null,null,null,null,null,{"$f":"IF(AND(#REF!<>\"\"    ),(#REF!),\"\")","v":{"$error":"#REF!"}},null,null,null,null,null,null,{"$f":"IF(AND(referentes!U158<>\"\",          referentes!U158<>96321,    referentes!U158<>96222            ),(referentes!W158),\"\")","v":""},{"$f":"referentes!S158","v":0},null,156,0,1130,"X",null,{"$f":"CONCATENATE(referentes!W156,\"(\",referentes!T156,\")\")","v":"()"},{"$f":"referentes!S156","v":0}]
[null,null,null,null,null,null,null,null,null,null,null,null,null,null,null,null,null,{"$f":"IF(AND(#REF!<>\"\"    ),(#REF!),\"\")","v":{"$error":"#REF!"}},null,null,null,null,null,null,{"$f":"IF(AND(referentes!U159<>\"\",          referentes!U159<>96321,    referentes!U159<>96222            ),(referentes!W159),\"\")","v":""},{"$f":"referentes!S159","v":0},null,157,0,1130,"X",null,{"$f":"CONCATENATE(referentes!W157,\"(\",referentes!T157,\")\")","v":"()"},{"$f":"referentes!S157","v":0}]
[null,null,null,null,null,null,null,null,null,null,null,null,null,null,null,null,null,{"$f":"IF(AND(#REF!<>\"\"    ),(#REF!),\"\")","v":{"$error":"#REF!"}},null,null,null,null,null,null,{"$f":"IF(AND(referentes!U160<>\"\",          referentes!U160<>96321,    referentes!U160<>96222            ),(referentes!W160),\"\")","v":""},{"$f":"referentes!S160","v":0},null,158,0,1130,"X",null,{"$f":"CONCATENATE(referentes!W158,\"(\",referentes!T158,\")\")","v":"()"},{"$f":"referentes!S158","v":0}]
[null,null,null,null,null,null,null,null,null,null,null,null,null,null,null,null,null,{"$f":"IF(AND(#REF!<>\"\"    ),(#REF!),\"\")","v":{"$error":"#REF!"}},null,null,null,null,null,null,{"$f":"IF(AND(referentes!U161<>\"\",          referentes!U161<>96321,    referentes!U161<>96222            ),(referentes!W161),\"\")","v":""},{"$f":"referentes!S161","v":0},null,159,0,1130,"X",null,{"$f":"CONCATENATE(referentes!W159,\"(\",referentes!T159,\")\")","v":"()"},{"$f":"referentes!S159","v":0}]
[null,null,null,null,null,null,null,null,null,null,null,null,null,null,null,null,null,{"$f":"IF(AND(#REF!<>\"\"    ),(#REF!),\"\")","v":{"$error":"#REF!"}},null,null,null,null,null,null,{"$f":"IF(AND(referentes!U162<>\"\",          referentes!U162<>96321,    referentes!U162<>96222            ),(referentes!W162),\"\")","v":""},{"$f":"referentes!S162","v":0},null,160,0,1130,"X",null,{"$f":"CONCATENATE(referentes!W160,\"(\",referentes!T160,\")\")","v":"()"},{"$f":"referentes!S160","v":0}]
[null,null,null,null,null,null,null,null,null,null,null,null,null,null,null,null,null,{"$f":"IF(AND(#REF!<>\"\"    ),(#REF!),\"\")","v":{"$error":"#REF!"}},null,null,null,null,null,null,{"$f":"IF(AND(referentes!U163<>\"\",          referentes!U163<>96321,    referentes!U163<>96222            ),(referentes!W163),\"\")","v":""},{"$f":"referentes!S163","v":0},null,161,0,1130,"X",null,{"$f":"CONCATENATE(referentes!W161,\"(\",referentes!T161,\")\")","v":"()"},{"$f":"referentes!S161","v":0}]
[null,null,null,null,null,null,null,null,null,null,null,null,null,null,null,null,null,{"$f":"IF(AND(#REF!<>\"\"    ),(#REF!),\"\")","v":{"$error":"#REF!"}},null,null,null,null,null,null,{"$f":"IF(AND(referentes!U164<>\"\",          referentes!U164<>96321,    referentes!U164<>96222            ),(referentes!W164),\"\")","v":""},{"$f":"referentes!S164","v":0},null,162,0,1130,"X",null,{"$f":"CONCATENATE(referentes!W162,\"(\",referentes!T162,\")\")","v":"()"},{"$f":"referentes!S162","v":0}]
[null,null,null,null,null,null,null,null,null,null,null,null,null,null,null,null,null,{"$f":"IF(AND(#REF!<>\"\"    ),(#REF!),\"\")","v":{"$error":"#REF!"}},null,null,null,null,null,null,{"$f":"IF(AND(referentes!U165<>\"\",          referentes!U165<>96321,    referentes!U165<>96222            ),(referentes!W165),\"\")","v":""},{"$f":"referentes!S165","v":0},null,163,0,1130,"X",null,{"$f":"CONCATENATE(referentes!W163,\"(\",referentes!T163,\")\")","v":"()"},{"$f":"referentes!S163","v":0}]
[null,null,null,null,null,null,null,null,null,null,null,null,null,null,null,null,null,{"$f":"IF(AND(#REF!<>\"\"    ),(#REF!),\"\")","v":{"$error":"#REF!"}},null,null,null,null,null,null,{"$f":"IF(AND(referentes!U166<>\"\",          referentes!U166<>96321,    referentes!U166<>96222            ),(referentes!W166),\"\")","v":""},{"$f":"referentes!S166","v":0},null,164,0,1130,"X",null,{"$f":"CONCATENATE(referentes!W164,\"(\",referentes!T164,\")\")","v":"()"},{"$f":"referentes!S164","v":0}]
[null,null,null,null,null,null,null,null,null,null,null,null,null,null,null,null,null,{"$f":"IF(AND(#REF!<>\"\"    ),(#REF!),\"\")","v":{"$error":"#REF!"}},null,null,null,null,null,null,{"$f":"IF(AND(referentes!U167<>\"\",          referentes!U167<>96321,    referentes!U167<>96222            ),(referentes!W167),\"\")","v":""},{"$f":"referentes!S167","v":0},null,165,0,1130,"X",null,{"$f":"CONCATENATE(referentes!W165,\"(\",referentes!T165,\")\")","v":"()"},{"$f":"referentes!S165","v":0}]
[null,null,null,null,null,null,null,null,null,null,null,null,null,null,null,null,null,{"$f":"IF(AND(#REF!<>\"\"    ),(#REF!),\"\")","v":{"$error":"#REF!"}},null,null,null,null,null,null,{"$f":"IF(AND(referentes!U168<>\"\",          referentes!U168<>96321,    referentes!U168<>96222            ),(referentes!W168),\"\")","v":""},{"$f":"referentes!S168","v":0},null,166,0,1130,"X",null,{"$f":"CONCATENATE(referentes!W166,\"(\",referentes!T166,\")\")","v":"()"},{"$f":"referentes!S166","v":0}]
[null,null,null,null,null,null,null,null,null,null,null,null,null,null,null,null,null,{"$f":"IF(AND(#REF!<>\"\"    ),(#REF!),\"\")","v":{"$error":"#REF!"}},null,null,null,null,null,null,{"$f":"IF(AND(referentes!U169<>\"\",          referentes!U169<>96321,    referentes!U169<>96222            ),(referentes!W169),\"\")","v":""},{"$f":"referentes!S169","v":0},null,167,0,1130,"X",null,{"$f":"CONCATENATE(referentes!W167,\"(\",referentes!T167,\")\")","v":"()"},{"$f":"referentes!S167","v":0}]
[null,null,null,null,null,null,null,null,null,null,null,null,null,null,null,null,null,{"$f":"IF(AND(#REF!<>\"\"    ),(#REF!),\"\")","v":{"$error":"#REF!"}},null,null,null,null,null,null,{"$f":"IF(AND(referentes!U170<>\"\",          referentes!U170<>96321,    referentes!U170<>96222            ),(referentes!W170),\"\")","v":""},{"$f":"referentes!S170","v":0},null,168,0,1130,"X",null,{"$f":"CONCATENATE(referentes!W168,\"(\",referentes!T168,\")\")","v":"()"},{"$f":"referentes!S168","v":0}]
[null,null,null,null,null,null,null,null,null,null,null,null,null,null,null,null,null,{"$f":"IF(AND(#REF!<>\"\"    ),(#REF!),\"\")","v":{"$error":"#REF!"}},null,null,null,null,null,null,{"$f":"IF(AND(referentes!U171<>\"\",          referentes!U171<>96321,    referentes!U171<>96222            ),(referentes!W171),\"\")","v":""},{"$f":"referentes!S171","v":0},null,169,0,1130,"X",null,{"$f":"CONCATENATE(referentes!W169,\"(\",referentes!T169,\")\")","v":"()"},{"$f":"referentes!S169","v":0}]
[null,null,null,null,null,null,null,null,null,null,null,null,null,null,null,null,null,{"$f":"IF(AND(#REF!<>\"\"    ),(#REF!),\"\")","v":{"$error":"#REF!"}},null,null,null,null,null,null,{"$f":"IF(AND(referentes!U172<>\"\",          referentes!U172<>96321,    referentes!U172<>96222            ),(referentes!W172),\"\")","v":""},{"$f":"referentes!S172","v":0},null,170,0,1130,"X",null,{"$f":"CONCATENATE(referentes!W170,\"(\",referentes!T170,\")\")","v":"()"},{"$f":"referentes!S170","v":0}]
[null,null,null,null,null,null,null,null,null,null,null,null,null,null,null,null,null,{"$f":"IF(AND(#REF!<>\"\"    ),(#REF!),\"\")","v":{"$error":"#REF!"}},null,null,null,null,null,null,{"$f":"IF(AND(referentes!U173<>\"\",          referentes!U173<>96321,    referentes!U173<>96222            ),(referentes!W173),\"\")","v":""},{"$f":"referentes!S173","v":0},null,171,0,1130,"X",null,{"$f":"CONCATENATE(referentes!W171,\"(\",referentes!T171,\")\")","v":"()"},{"$f":"referentes!S171","v":0}]
[null,null,null,null,null,null,null,null,null,null,null,null,null,null,null,null,null,{"$f":"IF(AND(#REF!<>\"\"    ),(#REF!),\"\")","v":{"$error":"#REF!"}},null,null,null,null,null,null,{"$f":"IF(AND(referentes!U174<>\"\",          referentes!U174<>96321,    referentes!U174<>96222            ),(referentes!W174),\"\")","v":""},{"$f":"referentes!S174","v":0},null,172,0,1130,"X",null,{"$f":"CONCATENATE(referentes!W172,\"(\",referentes!T172,\")\")","v":"()"},{"$f":"referentes!S172","v":0}]
[null,null,null,null,null,null,null,null,null,null,null,null,null,null,null,null,null,{"$f":"IF(AND(#REF!<>\"\"    ),(#REF!),\"\")","v":{"$error":"#REF!"}},null,null,null,null,null,null,{"$f":"IF(AND(referentes!U175<>\"\",          referentes!U175<>96321,    referentes!U175<>96222            ),(referentes!W175),\"\")","v":""},{"$f":"referentes!S175","v":0},null,173,0,1130,"X",null,{"$f":"CONCATENATE(referentes!W173,\"(\",referentes!T173,\")\")","v":"()"},{"$f":"referentes!S173","v":0}]
[null,null,null,null,null,null,null,null,null,null,null,null,null,null,null,null,null,{"$f":"IF(AND(#REF!<>\"\"    ),(#REF!),\"\")","v":{"$error":"#REF!"}},null,null,null,null,null,null,{"$f":"IF(AND(referentes!U176<>\"\",          referentes!U176<>96321,    referentes!U176<>96222            ),(referentes!W176),\"\")","v":""},{"$f":"referentes!S176","v":0},null,174,0,1130,"X",null,{"$f":"CONCATENATE(referentes!W174,\"(\",referentes!T174,\")\")","v":"()"},{"$f":"referentes!S174","v":0}]
[null,null,null,null,null,null,null,null,null,null,null,null,null,null,null,null,null,{"$f":"IF(AND(#REF!<>\"\"    ),(#REF!),\"\")","v":{"$error":"#REF!"}},null,null,null,null,null,null,{"$f":"IF(AND(referentes!U177<>\"\",          referentes!U177<>96321,    referentes!U177<>96222            ),(referentes!W177),\"\")","v":""},{"$f":"referentes!S177","v":0},null,175,0,1130,"X",null,{"$f":"CONCATENATE(referentes!W175,\"(\",referentes!T175,\")\")","v":"()"},{"$f":"referentes!S175","v":0}]
[null,null,null,null,null,null,null,null,null,null,null,null,null,null,null,null,null,{"$f":"IF(AND(#REF!<>\"\"    ),(#REF!),\"\")","v":{"$error":"#REF!"}},null,null,null,null,null,null,{"$f":"IF(AND(referentes!U178<>\"\",          referentes!U178<>96321,    referentes!U178<>96222            ),(referentes!W178),\"\")","v":""},{"$f":"referentes!S178","v":0},null,176,0,1130,"X",null,{"$f":"CONCATENATE(referentes!W176,\"(\",referentes!T176,\")\")","v":"()"},{"$f":"referentes!S176","v":0}]
[null,null,null,null,null,null,null,null,null,null,null,null,null,null,null,null,null,{"$f":"IF(AND(#REF!<>\"\"    ),(#REF!),\"\")","v":{"$error":"#REF!"}},null,null,null,null,null,null,{"$f":"IF(AND(referentes!U179<>\"\",          referentes!U179<>96321,    referentes!U179<>96222            ),(referentes!W179),\"\")","v":""},{"$f":"referentes!S179","v":0},null,177,0,1130,"X",null,{"$f":"CONCATENATE(referentes!W177,\"(\",referentes!T177,\")\")","v":"()"},{"$f":"referentes!S177","v":0}]
[null,null,null,null,null,null,null,null,null,null,null,null,null,null,null,null,null,{"$f":"IF(AND(#REF!<>\"\"    ),(#REF!),\"\")","v":{"$error":"#REF!"}},null,null,null,null,null,null,{"$f":"IF(AND(referentes!U180<>\"\",          referentes!U180<>96321,    referentes!U180<>96222            ),(referentes!W180),\"\")","v":""},{"$f":"referentes!S180","v":0},null,178,0,1130,"X",null,{"$f":"CONCATENATE(referentes!W178,\"(\",referentes!T178,\")\")","v":"()"},{"$f":"referentes!S178","v":0}]
[null,null,null,null,null,null,null,null,null,null,null,null,null,null,null,null,null,{"$f":"IF(AND(#REF!<>\"\"    ),(#REF!),\"\")","v":{"$error":"#REF!"}},null,null,null,null,null,null,{"$f":"IF(AND(referentes!U181<>\"\",          referentes!U181<>96321,    referentes!U181<>96222            ),(referentes!W181),\"\")","v":""},{"$f":"referentes!S181","v":0},null,179,0,1130,"X",null,{"$f":"CONCATENATE(referentes!W179,\"(\",referentes!T179,\")\")","v":"()"},{"$f":"referentes!S179","v":0}]
[null,null,null,null,null,null,null,null,null,null,null,null,null,null,null,null,null,{"$f":"IF(AND(#REF!<>\"\"    ),(#REF!),\"\")","v":{"$error":"#REF!"}},null,null,null,null,null,null,{"$f":"IF(AND(referentes!U182<>\"\",          referentes!U182<>96321,    referentes!U182<>96222            ),(referentes!W182),\"\")","v":""},{"$f":"referentes!S182","v":0},null,180,0,1130,"X",null,{"$f":"CONCATENATE(referentes!W180,\"(\",referentes!T180,\")\")","v":"()"},{"$f":"referentes!S180","v":0}]
[null,null,null,null,null,null,null,null,null,null,null,null,null,null,null,null,null,{"$f":"IF(AND(#REF!<>\"\"    ),(#REF!),\"\")","v":{"$error":"#REF!"}},null,null,null,null,null,null,{"$f":"IF(AND(referentes!U183<>\"\",          referentes!U183<>96321,    referentes!U183<>96222            ),(referentes!W183),\"\")","v":""},{"$f":"referentes!S183","v":0},null,181,0,1130,"X",null,{"$f":"CONCATENATE(referentes!W181,\"(\",referentes!T181,\")\")","v":"()"},{"$f":"referentes!S181","v":0}]
[null,null,null,null,null,null,null,null,null,null,null,null,null,null,null,null,null,{"$f":"IF(AND(#REF!<>\"\"    ),(#REF!),\"\")","v":{"$error":"#REF!"}},null,null,null,null,null,null,{"$f":"IF(AND(referentes!U184<>\"\",          referentes!U184<>96321,    referentes!U184<>96222            ),(referentes!W184),\"\")","v":""},{"$f":"referentes!S184","v":0},null,182,0,1130,"X",null,{"$f":"CONCATENATE(referentes!W182,\"(\",referentes!T182,\")\")","v":"()"},{"$f":"referentes!S182","v":0}]
[null,null,null,null,null,null,null,null,null,null,null,null,null,null,null,null,null,{"$f":"IF(AND(#REF!<>\"\"    ),(#REF!),\"\")","v":{"$error":"#REF!"}},null,null,null,null,null,null,{"$f":"IF(AND(referentes!U185<>\"\",          referentes!U185<>96321,    referentes!U185<>96222            ),(referentes!W185),\"\")","v":""},{"$f":"referentes!S185","v":0},null,183,0,1130,"X",null,{"$f":"CONCATENATE(referentes!W183,\"(\",referentes!T183,\")\")","v":"()"},{"$f":"referentes!S183","v":0}]
[null,null,null,null,null,null,null,null,null,null,null,null,null,null,null,null,null,{"$f":"IF(AND(#REF!<>\"\"    ),(#REF!),\"\")","v":{"$error":"#REF!"}},null,null,null,null,null,null,{"$f":"IF(AND(referentes!U186<>\"\",          referentes!U186<>96321,    referentes!U186<>96222            ),(referentes!W186),\"\")","v":""},{"$f":"referentes!S186","v":0},null,184,0,1130,"X",null,{"$f":"CONCATENATE(referentes!W184,\"(\",referentes!T184,\")\")","v":"()"},{"$f":"referentes!S184","v":0}]
[null,null,null,null,null,null,null,null,null,null,null,null,null,null,null,null,null,{"$f":"IF(AND(#REF!<>\"\"    ),(#REF!),\"\")","v":{"$error":"#REF!"}},null,null,null,null,null,null,{"$f":"IF(AND(referentes!U187<>\"\",          referentes!U187<>96321,    referentes!U187<>96222            ),(referentes!W187),\"\")","v":""},{"$f":"referentes!S187","v":0},null,185,0,1130,"X",null,{"$f":"CONCATENATE(referentes!W185,\"(\",referentes!T185,\")\")","v":"()"},{"$f":"referentes!S185","v":0}]
[null,null,null,null,null,null,null,null,null,null,null,null,null,null,null,null,null,{"$f":"IF(AND(#REF!<>\"\"    ),(#REF!),\"\")","v":{"$error":"#REF!"}},null,null,null,null,null,null,{"$f":"IF(AND(referentes!U188<>\"\",          referentes!U188<>96321,    referentes!U188<>96222            ),(referentes!W188),\"\")","v":""},{"$f":"referentes!S188","v":0},null,186,0,1130,"X",null,{"$f":"CONCATENATE(referentes!W186,\"(\",referentes!T186,\")\")","v":"()"},{"$f":"referentes!S186","v":0}]
[null,null,null,null,null,null,null,null,null,null,null,null,null,null,null,null,null,{"$f":"IF(AND(#REF!<>\"\"    ),(#REF!),\"\")","v":{"$error":"#REF!"}},null,null,null,null,null,null,{"$f":"IF(AND(referentes!U189<>\"\",          referentes!U189<>96321,    referentes!U189<>96222            ),(referentes!W189),\"\")","v":""},{"$f":"referentes!S189","v":0},null,187,0,1130,"X",null,{"$f":"CONCATENATE(referentes!W187,\"(\",referentes!T187,\")\")","v":"()"},{"$f":"referentes!S187","v":0}]
[null,null,null,null,null,null,null,null,null,null,null,null,null,null,null,null,null,{"$f":"IF(AND(#REF!<>\"\"    ),(#REF!),\"\")","v":{"$error":"#REF!"}},null,null,null,null,null,null,{"$f":"IF(AND(referentes!U190<>\"\",          referentes!U190<>96321,    referentes!U190<>96222            ),(referentes!W190),\"\")","v":""},{"$f":"referentes!S190","v":0},null,188,0,1130,"X",null,{"$f":"CONCATENATE(referentes!W188,\"(\",referentes!T188,\")\")","v":"()"},{"$f":"referentes!S188","v":0}]
[null,null,null,null,null,null,null,null,null,null,null,null,null,null,null,null,null,{"$f":"IF(AND(#REF!<>\"\"    ),(#REF!),\"\")","v":{"$error":"#REF!"}},null,null,null,null,null,null,{"$f":"IF(AND(referentes!U191<>\"\",          referentes!U191<>96321,    referentes!U191<>96222            ),(referentes!W191),\"\")","v":""},{"$f":"referentes!S191","v":0},null,189,0,1130,"X",null,{"$f":"CONCATENATE(referentes!W189,\"(\",referentes!T189,\")\")","v":"()"},{"$f":"referentes!S189","v":0}]
[null,null,null,null,null,null,null,null,null,null,null,null,null,null,null,null,null,{"$f":"IF(AND(#REF!<>\"\"    ),(#REF!),\"\")","v":{"$error":"#REF!"}},null,null,null,null,null,null,{"$f":"IF(AND(referentes!U192<>\"\",          referentes!U192<>96321,    referentes!U192<>96222            ),(referentes!W192),\"\")","v":""},{"$f":"referentes!S192","v":0},null,190,0,1130,"X",null,{"$f":"CONCATENATE(referentes!W190,\"(\",referentes!T190,\")\")","v":"()"},{"$f":"referentes!S190","v":0}]
[null,null,null,null,null,null,null,null,null,null,null,null,null,null,null,null,null,{"$f":"IF(AND(#REF!<>\"\"    ),(#REF!),\"\")","v":{"$error":"#REF!"}},null,null,null,null,null,null,{"$f":"IF(AND(referentes!U193<>\"\",          referentes!U193<>96321,    referentes!U193<>96222            ),(referentes!W193),\"\")","v":""},{"$f":"referentes!S193","v":0},null,191,0,1130,"X",null,{"$f":"CONCATENATE(referentes!W191,\"(\",referentes!T191,\")\")","v":"()"},{"$f":"referentes!S191","v":0}]
[null,null,null,null,null,null,null,null,null,null,null,null,null,null,null,null,null,{"$f":"IF(AND(#REF!<>\"\"    ),(#REF!),\"\")","v":{"$error":"#REF!"}},null,null,null,null,null,null,{"$f":"IF(AND(referentes!U194<>\"\",          referentes!U194<>96321,    referentes!U194<>96222            ),(referentes!W194),\"\")","v":""},{"$f":"referentes!S194","v":0},null,192,0,1130,"X",null,{"$f":"CONCATENATE(referentes!W192,\"(\",referentes!T192,\")\")","v":"()"},{"$f":"referentes!S192","v":0}]
[null,null,null,null,null,null,null,null,null,null,null,null,null,null,null,null,null,{"$f":"IF(AND(#REF!<>\"\"    ),(#REF!),\"\")","v":{"$error":"#REF!"}},null,null,null,null,null,null,{"$f":"IF(AND(referentes!U195<>\"\",          referentes!U195<>96321,    referentes!U195<>96222            ),(referentes!W195),\"\")","v":""},{"$f":"referentes!S195","v":0},null,193,0,1130,"X",null,{"$f":"CONCATENATE(referentes!W193,\"(\",referentes!T193,\")\")","v":"()"},{"$f":"referentes!S193","v":0}]
[null,null,null,null,null,null,null,null,null,null,null,null,null,null,null,null,null,{"$f":"IF(AND(#REF!<>\"\"    ),(#REF!),\"\")","v":{"$error":"#REF!"}},null,null,null,null,null,null,{"$f":"IF(AND(referentes!U196<>\"\",          referentes!U196<>96321,    referentes!U196<>96222            ),(referentes!W196),\"\")","v":""},{"$f":"referentes!S196","v":0},null,194,{"$f":"IF(Y199=\"\",0,Y199)","v":0},{"$f":"IF(AC200=0,MAX($AB$7:$AB$1135)+1,AB200)","v":1130},{"$f":"IFERROR(VLOOKUP(SMALL($AD$7:$AD$1135,AB200),$AB$7:$AD$1135,2,FALSE),\"X\")","v":"X"},null,{"$f":"CONCATENATE(referentes!W194,\"(\",referentes!T194,\")\")","v":"()"},{"$f":"referentes!S194","v":0}]
[null,null,null,null,null,null,null,null,null,null,null,null,null,null,null,null,null,{"$f":"IF(AND(#REF!<>\"\"    ),(#REF!),\"\")","v":{"$error":"#REF!"}},null,null,null,null,null,null,{"$f":"IF(AND(referentes!U197<>\"\",          referentes!U197<>96321,    referentes!U197<>96222            ),(referentes!W197),\"\")","v":""},{"$f":"referentes!S197","v":0},null,195,0,1130,"X",null,{"$f":"CONCATENATE(referentes!W195,\"(\",referentes!T195,\")\")","v":"()"},{"$f":"referentes!S195","v":0}]
[null,null,null,null,null,null,null,null,null,null,null,null,null,null,null,null,null,{"$f":"IF(AND(#REF!<>\"\"    ),(#REF!),\"\")","v":{"$error":"#REF!"}},null,null,null,null,null,null,{"$f":"IF(AND(referentes!U198<>\"\",          referentes!U198<>96321,    referentes!U198<>96222            ),(referentes!W198),\"\")","v":""},{"$f":"referentes!S198","v":0},null,196,0,1130,"X",null,{"$f":"CONCATENATE(referentes!W196,\"(\",referentes!T196,\")\")","v":"()"},{"$f":"referentes!S196","v":0}]
[null,null,null,null,null,null,null,null,null,null,null,null,null,null,null,null,null,{"$f":"IF(AND(#REF!<>\"\"    ),(#REF!),\"\")","v":{"$error":"#REF!"}},null,null,null,null,null,null,{"$f":"IF(AND(referentes!U199<>\"\",          referentes!U199<>96321,    referentes!U199<>96222            ),(referentes!W199),\"\")","v":""},{"$f":"referentes!S199","v":0},null,197,0,1130,"X",null,{"$f":"CONCATENATE(referentes!W197,\"(\",referentes!T197,\")\")","v":"()"},{"$f":"referentes!S197","v":0}]
[null,null,null,null,null,null,null,null,null,null,null,null,null,null,null,null,null,{"$f":"IF(AND(#REF!<>\"\"    ),(#REF!),\"\")","v":{"$error":"#REF!"}},null,null,null,null,null,null,{"$f":"IF(AND(referentes!U200<>\"\",          referentes!U200<>96321,    referentes!U200<>96222            ),(referentes!W200),\"\")","v":""},{"$f":"referentes!S200","v":0},null,198,0,1130,"X",null,{"$f":"CONCATENATE(referentes!W198,\"(\",referentes!T198,\")\")","v":"()"},{"$f":"referentes!S198","v":0}]
[null,null,null,null,null,null,null,null,null,null,null,null,null,null,null,null,null,{"$f":"IF(AND(#REF!<>\"\"    ),(#REF!),\"\")","v":{"$error":"#REF!"}},null,null,null,null,null,null,{"$f":"IF(AND(referentes!U201<>\"\",          referentes!U201<>96321,    referentes!U201<>96222            ),(referentes!W201),\"\")","v":""},{"$f":"referentes!S201","v":0},null,199,0,1130,"X",null,{"$f":"CONCATENATE(referentes!W199,\"(\",referentes!T199,\")\")","v":"()"},{"$f":"referentes!S199","v":0}]
[null,null,null,null,null,null,null,null,null,null,null,null,null,null,null,null,null,{"$f":"IF(AND(#REF!<>\"\"    ),(#REF!),\"\")","v":{"$error":"#REF!"}},null,null,null,null,null,null,{"$f":"IF(AND(referentes!U202<>\"\",          referentes!U202<>96321,    referentes!U202<>96222            ),(referentes!W202),\"\")","v":""},{"$f":"referentes!S202","v":0},null,200,0,1130,"X",null,{"$f":"CONCATENATE(referentes!W200,\"(\",referentes!T200,\")\")","v":"()"},{"$f":"referentes!S200","v":0}]
[null,null,null,null,null,null,null,null,null,null,null,null,null,null,null,null,null,{"$f":"IF(AND(#REF!<>\"\"    ),(#REF!),\"\")","v":{"$error":"#REF!"}},null,null,null,null,null,null,{"$f":"IF(AND(referentes!U203<>\"\",          referentes!U203<>96321,    referentes!U203<>96222            ),(referentes!W203),\"\")","v":""},{"$f":"referentes!S203","v":0},null,201,0,1130,"X",null,{"$f":"CONCATENATE(referentes!W201,\"(\",referentes!T201,\")\")","v":"()"},{"$f":"referentes!S201","v":0}]
[null,null,null,null,null,null,null,null,null,null,null,null,null,null,null,null,null,{"$f":"IF(AND(#REF!<>\"\"    ),(#REF!),\"\")","v":{"$error":"#REF!"}},null,null,null,null,null,null,{"$f":"IF(AND(referentes!U204<>\"\",          referentes!U204<>96321,    referentes!U204<>96222            ),(referentes!W204),\"\")","v":""},{"$f":"referentes!S204","v":0},null,202,0,1130,"X",null,{"$f":"CONCATENATE(referentes!W202,\"(\",referentes!T202,\")\")","v":"()"},{"$f":"referentes!S202","v":0}]
[null,null,null,null,null,null,null,null,null,null,null,null,null,null,null,null,null,{"$f":"IF(AND(#REF!<>\"\"    ),(#REF!),\"\")","v":{"$error":"#REF!"}},null,null,null,null,null,null,{"$f":"IF(AND(referentes!U205<>\"\",          referentes!U205<>96321,    referentes!U205<>96222            ),(referentes!W205),\"\")","v":""},{"$f":"referentes!S205","v":0},null,203,0,1130,"X",null,{"$f":"CONCATENATE(referentes!W203,\"(\",referentes!T203,\")\")","v":"()"},{"$f":"referentes!S203","v":0}]
[null,null,null,null,null,null,null,null,null,null,null,null,null,null,null,null,null,{"$f":"IF(AND(#REF!<>\"\"    ),(#REF!),\"\")","v":{"$error":"#REF!"}},null,null,null,null,null,null,{"$f":"IF(AND(referentes!U206<>\"\",          referentes!U206<>96321,    referentes!U206<>96222            ),(referentes!W206),\"\")","v":""},{"$f":"referentes!S206","v":0},null,204,0,1130,"X",null,{"$f":"CONCATENATE(referentes!W204,\"(\",referentes!T204,\")\")","v":"()"},{"$f":"referentes!S204","v":0}]
[null,null,null,null,null,null,null,null,null,null,null,null,null,null,null,null,null,{"$f":"IF(AND(#REF!<>\"\"    ),(#REF!),\"\")","v":{"$error":"#REF!"}},null,null,null,null,null,null,{"$f":"IF(AND(referentes!U207<>\"\",          referentes!U207<>96321,    referentes!U207<>96222            ),(referentes!W207),\"\")","v":""},{"$f":"referentes!S207","v":0},null,205,0,1130,"X",null,{"$f":"CONCATENATE(referentes!W205,\"(\",referentes!T205,\")\")","v":"()"},{"$f":"referentes!S205","v":0}]
[null,null,null,null,null,null,null,null,null,null,null,null,null,null,null,null,null,{"$f":"IF(AND(#REF!<>\"\"    ),(#REF!),\"\")","v":{"$error":"#REF!"}},null,null,null,null,null,null,{"$f":"IF(AND(referentes!U208<>\"\",          referentes!U208<>96321,    referentes!U208<>96222            ),(referentes!W208),\"\")","v":""},{"$f":"referentes!S208","v":0},null,206,0,1130,"X",null,{"$f":"CONCATENATE(referentes!W206,\"(\",referentes!T206,\")\")","v":"()"},{"$f":"referentes!S206","v":0}]
[null,null,null,null,null,null,null,null,null,null,null,null,null,null,null,null,null,{"$f":"IF(AND(#REF!<>\"\"    ),(#REF!),\"\")","v":{"$error":"#REF!"}},null,null,null,null,null,null,{"$f":"IF(AND(referentes!U209<>\"\",          referentes!U209<>96321,    referentes!U209<>96222            ),(referentes!W209),\"\")","v":""},{"$f":"referentes!S209","v":0},null,207,0,1130,"X",null,{"$f":"CONCATENATE(referentes!W207,\"(\",referentes!T207,\")\")","v":"()"},{"$f":"referentes!S207","v":0}]
[null,null,null,null,null,null,null,null,null,null,null,null,null,null,null,null,null,{"$f":"IF(AND(#REF!<>\"\"    ),(#REF!),\"\")","v":{"$error":"#REF!"}},null,null,null,null,null,null,{"$f":"IF(AND(referentes!U210<>\"\",          referentes!U210<>96321,    referentes!U210<>96222            ),(referentes!W210),\"\")","v":""},{"$f":"referentes!S210","v":0},null,208,0,1130,"X",null,{"$f":"CONCATENATE(referentes!W208,\"(\",referentes!T208,\")\")","v":"()"},{"$f":"referentes!S208","v":0}]
[null,null,null,null,null,null,null,null,null,null,null,null,null,null,null,null,null,{"$f":"IF(AND(#REF!<>\"\"    ),(#REF!),\"\")","v":{"$error":"#REF!"}},null,null,null,null,null,null,{"$f":"IF(AND(referentes!U211<>\"\",          referentes!U211<>96321,    referentes!U211<>96222            ),(referentes!W211),\"\")","v":""},{"$f":"referentes!S211","v":0},null,209,0,1130,"X",null,{"$f":"CONCATENATE(referentes!W209,\"(\",referentes!T209,\")\")","v":"()"},{"$f":"referentes!S209","v":0}]
[null,null,null,null,null,null,null,null,null,null,null,null,null,null,null,null,null,{"$f":"IF(AND(#REF!<>\"\"    ),(#REF!),\"\")","v":{"$error":"#REF!"}},null,null,null,null,null,null,{"$f":"IF(AND(referentes!U212<>\"\",          referentes!U212<>96321,    referentes!U212<>96222            ),(referentes!W212),\"\")","v":""},{"$f":"referentes!S212","v":0},null,210,0,1130,"X",null,{"$f":"CONCATENATE(referentes!W210,\"(\",referentes!T210,\")\")","v":"()"},{"$f":"referentes!S210","v":0}]
[null,null,null,null,null,null,null,null,null,null,null,null,null,null,null,null,null,{"$f":"IF(AND(#REF!<>\"\"    ),(#REF!),\"\")","v":{"$error":"#REF!"}},null,null,null,null,null,null,{"$f":"IF(AND(referentes!U213<>\"\",          referentes!U213<>96321,    referentes!U213<>96222            ),(referentes!W213),\"\")","v":""},{"$f":"referentes!S213","v":0},null,211,0,1130,"X",null,{"$f":"CONCATENATE(referentes!W211,\"(\",referentes!T211,\")\")","v":"()"},{"$f":"referentes!S211","v":0}]
[null,null,null,null,null,null,null,null,null,null,null,null,null,null,null,null,null,{"$f":"IF(AND(#REF!<>\"\"    ),(#REF!),\"\")","v":{"$error":"#REF!"}},null,null,null,null,null,null,{"$f":"IF(AND(referentes!U214<>\"\",          referentes!U214<>96321,    referentes!U214<>96222            ),(referentes!W214),\"\")","v":""},{"$f":"referentes!S214","v":0},null,212,0,1130,"X",null,{"$f":"CONCATENATE(referentes!W212,\"(\",referentes!T212,\")\")","v":"()"},{"$f":"referentes!S212","v":0}]
[null,null,null,null,null,null,null,null,null,null,null,null,null,null,null,null,null,{"$f":"IF(AND(#REF!<>\"\"    ),(#REF!),\"\")","v":{"$error":"#REF!"}},null,null,null,null,null,null,{"$f":"IF(AND(referentes!U215<>\"\",          referentes!U215<>96321,    referentes!U215<>96222            ),(referentes!W215),\"\")","v":""},{"$f":"referentes!S215","v":0},null,213,0,1130,"X",null,{"$f":"CONCATENATE(referentes!W213,\"(\",referentes!T213,\")\")","v":"()"},{"$f":"referentes!S213","v":0}]
[null,null,null,null,null,null,null,null,null,null,null,null,null,null,null,null,null,{"$f":"IF(AND(#REF!<>\"\"    ),(#REF!),\"\")","v":{"$error":"#REF!"}},null,null,null,null,null,null,{"$f":"IF(AND(referentes!U216<>\"\",          referentes!U216<>96321,    referentes!U216<>96222            ),(referentes!W216),\"\")","v":""},{"$f":"referentes!S216","v":0},null,214,0,1130,"X",null,{"$f":"CONCATENATE(referentes!W214,\"(\",referentes!T214,\")\")","v":"()"},{"$f":"referentes!S214","v":0}]
[null,null,null,null,null,null,null,null,null,null,null,null,null,null,null,null,null,{"$f":"IF(AND(#REF!<>\"\"    ),(#REF!),\"\")","v":{"$error":"#REF!"}},null,null,null,null,null,null,{"$f":"IF(AND(referentes!U217<>\"\",          referentes!U217<>96321,    referentes!U217<>96222            ),(referentes!W217),\"\")","v":""},{"$f":"referentes!S217","v":0},null,215,0,1130,"X",null,{"$f":"CONCATENATE(referentes!W215,\"(\",referentes!T215,\")\")","v":"()"},{"$f":"referentes!S215","v":0}]
[null,null,null,null,null,null,null,null,null,null,null,null,null,null,null,null,null,{"$f":"IF(AND(#REF!<>\"\"    ),(#REF!),\"\")","v":{"$error":"#REF!"}},null,null,null,null,null,null,{"$f":"IF(AND(referentes!U218<>\"\",          referentes!U218<>96321,    referentes!U218<>96222            ),(referentes!W218),\"\")","v":""},{"$f":"referentes!S218","v":0},null,216,0,1130,"X",null,{"$f":"CONCATENATE(referentes!W216,\"(\",referentes!T216,\")\")","v":"()"},{"$f":"referentes!S216","v":0}]
[null,null,null,null,null,null,null,null,null,null,null,null,null,null,null,null,null,{"$f":"IF(AND(#REF!<>\"\"    ),(#REF!),\"\")","v":{"$error":"#REF!"}},null,null,null,null,null,null,{"$f":"IF(AND(referentes!U219<>\"\",          referentes!U219<>96321,    referentes!U219<>96222            ),(referentes!W219),\"\")","v":""},{"$f":"referentes!S219","v":0},null,217,0,1130,"X",null,{"$f":"CONCATENATE(referentes!W217,\"(\",referentes!T217,\")\")","v":"()"},{"$f":"referentes!S217","v":0}]
[null,null,null,null,null,null,null,null,null,null,null,null,null,null,null,null,null,{"$f":"IF(AND(#REF!<>\"\"    ),(#REF!),\"\")","v":{"$error":"#REF!"}},null,null,null,null,null,null,{"$f":"IF(AND(referentes!U220<>\"\",          referentes!U220<>96321,    referentes!U220<>96222            ),(referentes!W220),\"\")","v":""},{"$f":"referentes!S220","v":0},null,218,0,1130,"X",null,{"$f":"CONCATENATE(referentes!W218,\"(\",referentes!T218,\")\")","v":"()"},{"$f":"referentes!S218","v":0}]
[null,null,null,null,null,null,null,null,null,null,null,null,null,null,null,null,null,{"$f":"IF(AND(#REF!<>\"\"    ),(#REF!),\"\")","v":{"$error":"#REF!"}},null,null,null,null,null,null,{"$f":"IF(AND(referentes!U221<>\"\",          referentes!U221<>96321,    referentes!U221<>96222            ),(referentes!W221),\"\")","v":""},{"$f":"referentes!S221","v":0},null,219,0,1130,"X",null,{"$f":"CONCATENATE(referentes!W219,\"(\",referentes!T219,\")\")","v":"()"},{"$f":"referentes!S219","v":0}]
[null,null,null,null,null,null,null,null,null,null,null,null,null,null,null,null,null,{"$f":"IF(AND(#REF!<>\"\"    ),(#REF!),\"\")","v":{"$error":"#REF!"}},null,null,null,null,null,null,{"$f":"IF(AND(referentes!U222<>\"\",          referentes!U222<>96321,    referentes!U222<>96222            ),(referentes!W222),\"\")","v":""},{"$f":"referentes!S222","v":0},null,220,0,1130,"X",null,{"$f":"CONCATENATE(referentes!W220,\"(\",referentes!T220,\")\")","v":"()"},{"$f":"referentes!S220","v":0}]
[null,null,null,null,null,null,null,null,null,null,null,null,null,null,null,null,null,{"$f":"IF(AND(#REF!<>\"\"    ),(#REF!),\"\")","v":{"$error":"#REF!"}},null,null,null,null,null,null,{"$f":"IF(AND(referentes!U223<>\"\",          referentes!U223<>96321,    referentes!U223<>96222            ),(referentes!W223),\"\")","v":""},{"$f":"referentes!S223","v":0},null,221,0,1130,"X",null,{"$f":"CONCATENATE(referentes!W221,\"(\",referentes!T221,\")\")","v":"()"},{"$f":"referentes!S221","v":0}]
[null,null,null,null,null,null,null,null,null,null,null,null,null,null,null,null,null,{"$f":"IF(AND(#REF!<>\"\"    ),(#REF!),\"\")","v":{"$error":"#REF!"}},null,null,null,null,null,null,{"$f":"IF(AND(referentes!U224<>\"\",          referentes!U224<>96321,    referentes!U224<>96222            ),(referentes!W224),\"\")","v":""},{"$f":"referentes!S224","v":0},null,222,0,1130,"X",null,{"$f":"CONCATENATE(referentes!W222,\"(\",referentes!T222,\")\")","v":"()"},{"$f":"referentes!S222","v":0}]
[null,null,null,null,null,null,null,null,null,null,null,null,null,null,null,null,null,{"$f":"IF(AND(#REF!<>\"\"    ),(#REF!),\"\")","v":{"$error":"#REF!"}},null,null,null,null,null,null,{"$f":"IF(AND(referentes!U225<>\"\",          referentes!U225<>96321,    referentes!U225<>96222            ),(referentes!W225),\"\")","v":""},{"$f":"referentes!S225","v":0},null,223,0,1130,"X",null,{"$f":"CONCATENATE(referentes!W223,\"(\",referentes!T223,\")\")","v":"()"},{"$f":"referentes!S223","v":0}]
[null,null,null,null,null,null,null,null,null,null,null,null,null,null,null,null,null,{"$f":"IF(AND(#REF!<>\"\"    ),(#REF!),\"\")","v":{"$error":"#REF!"}},null,null,null,null,null,null,{"$f":"IF(AND(referentes!U226<>\"\",          referentes!U226<>96321,    referentes!U226<>96222            ),(referentes!W226),\"\")","v":""},{"$f":"referentes!S226","v":0},null,224,0,1130,"X",null,{"$f":"CONCATENATE(referentes!W224,\"(\",referentes!T224,\")\")","v":"()"},{"$f":"referentes!S224","v":0}]
[null,null,null,null,null,null,null,null,null,null,null,null,null,null,null,null,null,{"$f":"IF(AND(#REF!<>\"\"    ),(#REF!),\"\")","v":{"$error":"#REF!"}},null,null,null,null,null,null,{"$f":"IF(AND(referentes!U227<>\"\",          referentes!U227<>96321,    referentes!U227<>96222            ),(referentes!W227),\"\")","v":""},{"$f":"referentes!S227","v":0},null,225,0,1130,"X",null,{"$f":"CONCATENATE(referentes!W225,\"(\",referentes!T225,\")\")","v":"()"},{"$f":"referentes!S225","v":0}]
[null,null,null,null,null,null,null,null,null,null,null,null,null,null,null,null,null,{"$f":"IF(AND(#REF!<>\"\"    ),(#REF!),\"\")","v":{"$error":"#REF!"}},null,null,null,null,null,null,{"$f":"IF(AND(referentes!U228<>\"\",          referentes!U228<>96321,    referentes!U228<>96222            ),(referentes!W228),\"\")","v":""},{"$f":"referentes!S228","v":0},null,226,0,1130,"X",null,{"$f":"CONCATENATE(referentes!W226,\"(\",referentes!T226,\")\")","v":"()"},{"$f":"referentes!S226","v":0}]
[null,null,null,null,null,null,null,null,null,null,null,null,null,null,null,null,null,{"$f":"IF(AND(#REF!<>\"\"    ),(#REF!),\"\")","v":{"$error":"#REF!"}},null,null,null,null,null,null,{"$f":"IF(AND(referentes!U229<>\"\",          referentes!U229<>96321,    referentes!U229<>96222            ),(referentes!W229),\"\")","v":""},{"$f":"referentes!S229","v":0},null,227,0,1130,"X",null,{"$f":"CONCATENATE(referentes!W227,\"(\",referentes!T227,\")\")","v":"()"},{"$f":"referentes!S227","v":0}]
[null,null,null,null,null,null,null,null,null,null,null,null,null,null,null,null,null,{"$f":"IF(AND(#REF!<>\"\"    ),(#REF!),\"\")","v":{"$error":"#REF!"}},null,null,null,null,null,null,{"$f":"IF(AND(referentes!U230<>\"\",          referentes!U230<>96321,    referentes!U230<>96222            ),(referentes!W230),\"\")","v":""},{"$f":"referentes!S230","v":0},null,228,0,1130,"X",null,{"$f":"CONCATENATE(referentes!W228,\"(\",referentes!T228,\")\")","v":"()"},{"$f":"referentes!S228","v":0}]
[null,null,null,null,null,null,null,null,null,null,null,null,null,null,null,null,null,{"$f":"IF(AND(#REF!<>\"\"    ),(#REF!),\"\")","v":{"$error":"#REF!"}},null,null,null,null,null,null,{"$f":"IF(AND(referentes!U231<>\"\",          referentes!U231<>96321,    referentes!U231<>96222            ),(referentes!W231),\"\")","v":""},{"$f":"referentes!S231","v":0},null,229,0,1130,"X",null,{"$f":"CONCATENATE(referentes!W229,\"(\",referentes!T229,\")\")","v":"()"},{"$f":"referentes!S229","v":0}]
[null,null,null,null,null,null,null,null,null,null,null,null,null,null,null,null,null,{"$f":"IF(AND(#REF!<>\"\"    ),(#REF!),\"\")","v":{"$error":"#REF!"}},null,null,null,null,null,null,{"$f":"IF(AND(referentes!U232<>\"\",          referentes!U232<>96321,    referentes!U232<>96222            ),(referentes!W232),\"\")","v":""},{"$f":"referentes!S232","v":0},null,230,0,1130,"X",null,{"$f":"CONCATENATE(referentes!W230,\"(\",referentes!T230,\")\")","v":"()"},{"$f":"referentes!S230","v":0}]
[null,null,null,null,null,null,null,null,null,null,null,null,null,null,null,null,null,{"$f":"IF(AND(#REF!<>\"\"    ),(#REF!),\"\")","v":{"$error":"#REF!"}},null,null,null,null,null,null,{"$f":"IF(AND(referentes!U233<>\"\",          referentes!U233<>96321,    referentes!U233<>96222            ),(referentes!W233),\"\")","v":""},{"$f":"referentes!S233","v":0},null,231,0,1130,"X",null,{"$f":"CONCATENATE(referentes!W231,\"(\",referentes!T231,\")\")","v":"()"},{"$f":"referentes!S231","v":0}]
[null,null,null,null,null,null,null,null,null,null,null,null,null,null,null,null,null,{"$f":"IF(AND(#REF!<>\"\"    ),(#REF!),\"\")","v":{"$error":"#REF!"}},null,null,null,null,null,null,{"$f":"IF(AND(referentes!U234<>\"\",          referentes!U234<>96321,    referentes!U234<>96222            ),(referentes!W234),\"\")","v":""},{"$f":"referentes!S234","v":0},null,232,0,1130,"X",null,{"$f":"CONCATENATE(referentes!W232,\"(\",referentes!T232,\")\")","v":"()"},{"$f":"referentes!S232","v":0}]
[null,null,null,null,null,null,null,null,null,null,null,null,null,null,null,null,null,{"$f":"IF(AND(#REF!<>\"\"    ),(#REF!),\"\")","v":{"$error":"#REF!"}},null,null,null,null,null,null,{"$f":"IF(AND(referentes!U235<>\"\",          referentes!U235<>96321,    referentes!U235<>96222            ),(referentes!W235),\"\")","v":""},{"$f":"referentes!S235","v":0},null,233,0,1130,"X",null,{"$f":"CONCATENATE(referentes!W233,\"(\",referentes!T233,\")\")","v":"()"},{"$f":"referentes!S233","v":0}]
[null,null,null,null,null,null,null,null,null,null,null,null,null,null,null,null,null,{"$f":"IF(AND(#REF!<>\"\"    ),(#REF!),\"\")","v":{"$error":"#REF!"}},null,null,null,null,null,null,{"$f":"IF(AND(referentes!U236<>\"\",          referentes!U236<>96321,    referentes!U236<>96222            ),(referentes!W236),\"\")","v":""},{"$f":"referentes!S236","v":0},null,234,0,1130,"X",null,{"$f":"CONCATENATE(referentes!W234,\"(\",referentes!T234,\")\")","v":"()"},{"$f":"referentes!S234","v":0}]
[null,null,null,null,null,null,null,null,null,null,null,null,null,null,null,null,null,{"$f":"IF(AND(#REF!<>\"\"    ),(#REF!),\"\")","v":{"$error":"#REF!"}},null,null,null,null,null,null,{"$f":"IF(AND(referentes!U237<>\"\",          referentes!U237<>96321,    referentes!U237<>96222            ),(referentes!W237),\"\")","v":""},{"$f":"referentes!S237","v":0},null,235,0,1130,"X",null,{"$f":"CONCATENATE(referentes!W235,\"(\",referentes!T235,\")\")","v":"()"},{"$f":"referentes!S235","v":0}]
[null,null,null,null,null,null,null,null,null,null,null,null,null,null,null,null,null,{"$f":"IF(AND(#REF!<>\"\"    ),(#REF!),\"\")","v":{"$error":"#REF!"}},null,null,null,null,null,null,{"$f":"IF(AND(referentes!U238<>\"\",          referentes!U238<>96321,    referentes!U238<>96222            ),(referentes!W238),\"\")","v":""},{"$f":"referentes!S238","v":0},null,236,0,1130,"X",null,{"$f":"CONCATENATE(referentes!W236,\"(\",referentes!T236,\")\")","v":"()"},{"$f":"referentes!S236","v":0}]
[null,null,null,null,null,null,null,null,null,null,null,null,null,null,null,null,null,{"$f":"IF(AND(#REF!<>\"\"    ),(#REF!),\"\")","v":{"$error":"#REF!"}},null,null,null,null,null,null,{"$f":"IF(AND(referentes!U239<>\"\",          referentes!U239<>96321,    referentes!U239<>96222            ),(referentes!W239),\"\")","v":""},{"$f":"referentes!S239","v":0},null,237,0,1130,"X",null,{"$f":"CONCATENATE(referentes!W237,\"(\",referentes!T237,\")\")","v":"()"},{"$f":"referentes!S237","v":0}]
[null,null,null,null,null,null,null,null,null,null,null,null,null,null,null,null,null,{"$f":"IF(AND(#REF!<>\"\"    ),(#REF!),\"\")","v":{"$error":"#REF!"}},null,null,null,null,null,null,{"$f":"IF(AND(referentes!U240<>\"\",          referentes!U240<>96321,    referentes!U240<>96222            ),(referentes!W240),\"\")","v":""},{"$f":"referentes!S240","v":0},null,238,0,1130,"X",null,{"$f":"CONCATENATE(referentes!W238,\"(\",referentes!T238,\")\")","v":"()"},{"$f":"referentes!S238","v":0}]
[null,null,null,null,null,null,null,null,null,null,null,null,null,null,null,null,null,{"$f":"IF(AND(#REF!<>\"\"    ),(#REF!),\"\")","v":{"$error":"#REF!"}},null,null,null,null,null,null,{"$f":"IF(AND(referentes!U241<>\"\",          referentes!U241<>96321,    referentes!U241<>96222            ),(referentes!W241),\"\")","v":""},{"$f":"referentes!S241","v":0},null,239,0,1130,"X",null,{"$f":"CONCATENATE(referentes!W239,\"(\",referentes!T239,\")\")","v":"()"},{"$f":"referentes!S239","v":0}]
[null,null,null,null,null,null,null,null,null,null,null,null,null,null,null,null,null,{"$f":"IF(AND(#REF!<>\"\"    ),(#REF!),\"\")","v":{"$error":"#REF!"}},null,null,null,null,null,null,{"$f":"IF(AND(referentes!U242<>\"\",          referentes!U242<>96321,    referentes!U242<>96222            ),(referentes!W242),\"\")","v":""},{"$f":"referentes!S242","v":0},null,240,0,1130,"X",null,{"$f":"CONCATENATE(referentes!W240,\"(\",referentes!T240,\")\")","v":"()"},{"$f":"referentes!S240","v":0}]
[null,null,null,null,null,null,null,null,null,null,null,null,null,null,null,null,null,{"$f":"IF(AND(#REF!<>\"\"    ),(#REF!),\"\")","v":{"$error":"#REF!"}},null,null,null,null,null,null,{"$f":"IF(AND(referentes!U243<>\"\",          referentes!U243<>96321,    referentes!U243<>96222            ),(referentes!W243),\"\")","v":""},{"$f":"referentes!S243","v":0},null,241,0,1130,"X",null,{"$f":"CONCATENATE(referentes!W241,\"(\",referentes!T241,\")\")","v":"()"},{"$f":"referentes!S241","v":0}]
[null,null,null,null,null,null,null,null,null,null,null,null,null,null,null,null,null,{"$f":"IF(AND(#REF!<>\"\"    ),(#REF!),\"\")","v":{"$error":"#REF!"}},null,null,null,null,null,null,{"$f":"IF(AND(referentes!U244<>\"\",          referentes!U244<>96321,    referentes!U244<>96222            ),(referentes!W244),\"\")","v":""},{"$f":"referentes!S244","v":0},null,242,0,1130,"X",null,{"$f":"CONCATENATE(referentes!W242,\"(\",referentes!T242,\")\")","v":"()"},{"$f":"referentes!S242","v":0}]
[null,null,null,null,null,null,null,null,null,null,null,null,null,null,null,null,null,{"$f":"IF(AND(#REF!<>\"\"    ),(#REF!),\"\")","v":{"$error":"#REF!"}},null,null,null,null,null,null,{"$f":"IF(AND(referentes!U245<>\"\",          referentes!U245<>96321,    referentes!U245<>96222            ),(referentes!W245),\"\")","v":""},{"$f":"referentes!S245","v":0},null,243,0,1130,"X",null,{"$f":"CONCATENATE(referentes!W243,\"(\",referentes!T243,\")\")","v":"()"},{"$f":"referentes!S243","v":0}]
[null,null,null,null,null,null,null,null,null,null,null,null,null,null,null,null,null,{"$f":"IF(AND(#REF!<>\"\"    ),(#REF!),\"\")","v":{"$error":"#REF!"}},null,null,null,null,null,null,{"$f":"IF(AND(referentes!U246<>\"\",          referentes!U246<>96321,    referentes!U246<>96222            ),(referentes!W246),\"\")","v":""},{"$f":"referentes!S246","v":0},null,244,0,1130,"X",null,{"$f":"CONCATENATE(referentes!W244,\"(\",referentes!T244,\")\")","v":"()"},{"$f":"referentes!S244","v":0}]
[null,null,null,null,null,null,null,null,null,null,null,null,null,null,null,null,null,{"$f":"IF(AND(#REF!<>\"\"    ),(#REF!),\"\")","v":{"$error":"#REF!"}},null,null,null,null,null,null,{"$f":"IF(AND(referentes!U247<>\"\",          referentes!U247<>96321,    referentes!U247<>96222            ),(referentes!W247),\"\")","v":""},{"$f":"referentes!S247","v":0},null,245,0,1130,"X",null,{"$f":"CONCATENATE(referentes!W245,\"(\",referentes!T245,\")\")","v":"()"},{"$f":"referentes!S245","v":0}]
[null,null,null,null,null,null,null,null,null,null,null,null,null,null,null,null,null,{"$f":"IF(AND(#REF!<>\"\"    ),(#REF!),\"\")","v":{"$error":"#REF!"}},null,null,null,null,null,null,{"$f":"IF(AND(referentes!U248<>\"\",          referentes!U248<>96321,    referentes!U248<>96222            ),(referentes!W248),\"\")","v":""},{"$f":"referentes!S248","v":0},null,246,0,1130,"X",null,{"$f":"CONCATENATE(referentes!W246,\"(\",referentes!T246,\")\")","v":"()"},{"$f":"referentes!S246","v":0}]
[null,null,null,null,null,null,null,null,null,null,null,null,null,null,null,null,null,{"$f":"IF(AND(#REF!<>\"\"    ),(#REF!),\"\")","v":{"$error":"#REF!"}},null,null,null,null,null,null,{"$f":"IF(AND(referentes!U249<>\"\",          referentes!U249<>96321,    referentes!U249<>96222            ),(referentes!W249),\"\")","v":""},{"$f":"referentes!S249","v":0},null,247,0,1130,"X",null,{"$f":"CONCATENATE(referentes!W247,\"(\",referentes!T247,\")\")","v":"()"},{"$f":"referentes!S247","v":0}]
[null,null,null,null,null,null,null,null,null,null,null,null,null,null,null,null,null,{"$f":"IF(AND(#REF!<>\"\"    ),(#REF!),\"\")","v":{"$error":"#REF!"}},null,null,null,null,null,null,{"$f":"IF(AND(referentes!U250<>\"\",          referentes!U250<>96321,    referentes!U250<>96222            ),(referentes!W250),\"\")","v":""},{"$f":"referentes!S250","v":0},null,248,0,1130,"X",null,{"$f":"CONCATENATE(referentes!W248,\"(\",referentes!T248,\")\")","v":"()"},{"$f":"referentes!S248","v":0}]
[null,null,null,null,null,null,null,null,null,null,null,null,null,null,null,null,null,{"$f":"IF(AND(#REF!<>\"\"    ),(#REF!),\"\")","v":{"$error":"#REF!"}},null,null,null,null,null,null,{"$f":"IF(AND(referentes!U251<>\"\",          referentes!U251<>96321,    referentes!U251<>96222            ),(referentes!W251),\"\")","v":""},{"$f":"referentes!S251","v":0},null,249,0,1130,"X",null,{"$f":"CONCATENATE(referentes!W249,\"(\",referentes!T249,\")\")","v":"()"},{"$f":"referentes!S249","v":0}]
[null,null,null,null,null,null,null,null,null,null,null,null,null,null,null,null,null,{"$f":"IF(AND(#REF!<>\"\"    ),(#REF!),\"\")","v":{"$error":"#REF!"}},null,null,null,null,null,null,{"$f":"IF(AND(referentes!U252<>\"\",          referentes!U252<>96321,    referentes!U252<>96222            ),(referentes!W252),\"\")","v":""},{"$f":"referentes!S252","v":0},null,250,0,1130,"X",null,{"$f":"CONCATENATE(referentes!W250,\"(\",referentes!T250,\")\")","v":"()"},{"$f":"referentes!S250","v":0}]
[null,null,null,null,null,null,null,null,null,null,null,null,null,null,null,null,null,{"$f":"IF(AND(#REF!<>\"\"    ),(#REF!),\"\")","v":{"$error":"#REF!"}},null,null,null,null,null,null,{"$f":"IF(AND(referentes!U253<>\"\",          referentes!U253<>96321,    referentes!U253<>96222            ),(referentes!W253),\"\")","v":""},{"$f":"referentes!S253","v":0},null,251,0,1130,"X",null,{"$f":"CONCATENATE(referentes!W251,\"(\",referentes!T251,\")\")","v":"()"},{"$f":"referentes!S251","v":0}]
[null,null,null,null,null,null,null,null,null,null,null,null,null,null,null,null,null,{"$f":"IF(AND(#REF!<>\"\"    ),(#REF!),\"\")","v":{"$error":"#REF!"}},null,null,null,null,null,null,{"$f":"IF(AND(referentes!U254<>\"\",          referentes!U254<>96321,    referentes!U254<>96222            ),(referentes!W254),\"\")","v":""},{"$f":"referentes!S254","v":0},null,252,0,1130,"X",null,{"$f":"CONCATENATE(referentes!W252,\"(\",referentes!T252,\")\")","v":"()"},{"$f":"referentes!S252","v":0}]
[null,null,null,null,null,null,null,null,null,null,null,null,null,null,null,null,null,{"$f":"IF(AND(#REF!<>\"\"    ),(#REF!),\"\")","v":{"$error":"#REF!"}},null,null,null,null,null,null,{"$f":"IF(AND(referentes!U255<>\"\",          referentes!U255<>96321,    referentes!U255<>96222            ),(referentes!W255),\"\")","v":""},{"$f":"referentes!S255","v":0},null,253,0,1130,"X",null,{"$f":"CONCATENATE(referentes!W253,\"(\",referentes!T253,\")\")","v":"()"},{"$f":"referentes!S253","v":0}]
[null,null,null,null,null,null,null,null,null,null,null,null,null,null,null,null,null,{"$f":"IF(AND(#REF!<>\"\"    ),(#REF!),\"\")","v":{"$error":"#REF!"}},null,null,null,null,null,null,{"$f":"IF(AND(referentes!U256<>\"\",          referentes!U256<>96321,    referentes!U256<>96222            ),(referentes!W256),\"\")","v":""},{"$f":"referentes!S256","v":0},null,254,0,1130,"X",null,{"$f":"CONCATENATE(referentes!W254,\"(\",referentes!T254,\")\")","v":"()"},{"$f":"referentes!S254","v":0}]
[null,null,null,null,null,null,null,null,null,null,null,null,null,null,null,null,null,{"$f":"IF(AND(#REF!<>\"\"    ),(#REF!),\"\")","v":{"$error":"#REF!"}},null,null,null,null,null,null,{"$f":"IF(AND(referentes!U257<>\"\",          referentes!U257<>96321,    referentes!U257<>96222            ),(referentes!W257),\"\")","v":""},{"$f":"referentes!S257","v":0},null,255,0,1130,"X",null,{"$f":"CONCATENATE(referentes!W255,\"(\",referentes!T255,\")\")","v":"()"},{"$f":"referentes!S255","v":0}]
[null,null,null,null,null,null,null,null,null,null,null,null,null,null,null,null,null,{"$f":"IF(AND(#REF!<>\"\"    ),(#REF!),\"\")","v":{"$error":"#REF!"}},null,null,null,null,null,null,{"$f":"IF(AND(referentes!U258<>\"\",          referentes!U258<>96321,    referentes!U258<>96222            ),(referentes!W258),\"\")","v":""},{"$f":"referentes!S258","v":0},null,256,0,1130,"X",null,{"$f":"CONCATENATE(referentes!W256,\"(\",referentes!T256,\")\")","v":"()"},{"$f":"referentes!S256","v":0}]
[null,null,null,null,null,null,null,null,null,null,null,null,null,null,null,null,null,{"$f":"IF(AND(#REF!<>\"\"    ),(#REF!),\"\")","v":{"$error":"#REF!"}},null,null,null,null,null,null,{"$f":"IF(AND(referentes!U259<>\"\",          referentes!U259<>96321,    referentes!U259<>96222            ),(referentes!W259),\"\")","v":""},{"$f":"referentes!S259","v":0},null,257,0,1130,"X",null,{"$f":"CONCATENATE(referentes!W257,\"(\",referentes!T257,\")\")","v":"()"},{"$f":"referentes!S257","v":0}]
[null,null,null,null,null,null,null,null,null,null,null,null,null,null,null,null,null,{"$f":"IF(AND(#REF!<>\"\"    ),(#REF!),\"\")","v":{"$error":"#REF!"}},null,null,null,null,null,null,{"$f":"IF(AND(referentes!U260<>\"\",          referentes!U260<>96321,    referentes!U260<>96222            ),(referentes!W260),\"\")","v":""},{"$f":"referentes!S260","v":0},null,258,{"$f":"IF(Y263=\"\",0,Y263)","v":0},{"$f":"IF(AC264=0,MAX($AB$7:$AB$1135)+1,AB264)","v":1130},{"$f":"IFERROR(VLOOKUP(SMALL($AD$7:$AD$1135,AB264),$AB$7:$AD$1135,2,FALSE),\"X\")","v":"X"},null,{"$f":"CONCATENATE(referentes!W258,\"(\",referentes!T258,\")\")","v":"()"},{"$f":"referentes!S258","v":0}]
[null,null,null,null,null,null,null,null,null,null,null,null,null,null,null,null,null,{"$f":"IF(AND(#REF!<>\"\"    ),(#REF!),\"\")","v":{"$error":"#REF!"}},null,null,null,null,null,null,{"$f":"IF(AND(referentes!U261<>\"\",          referentes!U261<>96321,    referentes!U261<>96222            ),(referentes!W261),\"\")","v":""},{"$f":"referentes!S261","v":0},null,259,0,1130,"X",null,{"$f":"CONCATENATE(referentes!W259,\"(\",referentes!T259,\")\")","v":"()"},{"$f":"referentes!S259","v":0}]
[null,null,null,null,null,null,null,null,null,null,null,null,null,null,null,null,null,{"$f":"IF(AND(#REF!<>\"\"    ),(#REF!),\"\")","v":{"$error":"#REF!"}},null,null,null,null,null,null,{"$f":"IF(AND(referentes!U262<>\"\",          referentes!U262<>96321,    referentes!U262<>96222            ),(referentes!W262),\"\")","v":""},{"$f":"referentes!S262","v":0},null,260,0,1130,"X",null,{"$f":"CONCATENATE(referentes!W260,\"(\",referentes!T260,\")\")","v":"()"},{"$f":"referentes!S260","v":0}]
[null,null,null,null,null,null,null,null,null,null,null,null,null,null,null,null,null,{"$f":"IF(AND(#REF!<>\"\"    ),(#REF!),\"\")","v":{"$error":"#REF!"}},null,null,null,null,null,null,{"$f":"IF(AND(referentes!U263<>\"\",          referentes!U263<>96321,    referentes!U263<>96222            ),(referentes!W263),\"\")","v":""},{"$f":"referentes!S263","v":0},null,261,0,1130,"X",null,{"$f":"CONCATENATE(referentes!W261,\"(\",referentes!T261,\")\")","v":"()"},{"$f":"referentes!S261","v":0}]
[null,null,null,null,null,null,null,null,null,null,null,null,null,null,null,null,null,{"$f":"IF(AND(#REF!<>\"\"    ),(#REF!),\"\")","v":{"$error":"#REF!"}},null,null,null,null,null,null,{"$f":"IF(AND(referentes!U264<>\"\",          referentes!U264<>96321,    referentes!U264<>96222            ),(referentes!W264),\"\")","v":""},{"$f":"referentes!S264","v":0},null,262,0,1130,"X",null,{"$f":"CONCATENATE(referentes!W262,\"(\",referentes!T262,\")\")","v":"()"},{"$f":"referentes!S262","v":0}]
[null,null,null,null,null,null,null,null,null,null,null,null,null,null,null,null,null,{"$f":"IF(AND(#REF!<>\"\"    ),(#REF!),\"\")","v":{"$error":"#REF!"}},null,null,null,null,null,null,{"$f":"IF(AND(referentes!U265<>\"\",          referentes!U265<>96321,    referentes!U265<>96222            ),(referentes!W265),\"\")","v":""},{"$f":"referentes!S265","v":0},null,263,0,1130,"X",null,{"$f":"CONCATENATE(referentes!W263,\"(\",referentes!T263,\")\")","v":"()"},{"$f":"referentes!S263","v":0}]
[null,null,null,null,null,null,null,null,null,null,null,null,null,null,null,null,null,{"$f":"IF(AND(#REF!<>\"\"    ),(#REF!),\"\")","v":{"$error":"#REF!"}},null,null,null,null,null,null,{"$f":"IF(AND(referentes!U266<>\"\",          referentes!U266<>96321,    referentes!U266<>96222            ),(referentes!W266),\"\")","v":""},{"$f":"referentes!S266","v":0},null,264,0,1130,"X",null,{"$f":"CONCATENATE(referentes!W264,\"(\",referentes!T264,\")\")","v":"()"},{"$f":"referentes!S264","v":0}]
[null,null,null,null,null,null,null,null,null,null,null,null,null,null,null,null,null,{"$f":"IF(AND(#REF!<>\"\"    ),(#REF!),\"\")","v":{"$error":"#REF!"}},null,null,null,null,null,null,{"$f":"IF(AND(referentes!U267<>\"\",          referentes!U267<>96321,    referentes!U267<>96222            ),(referentes!W267),\"\")","v":""},{"$f":"referentes!S267","v":0},null,265,0,1130,"X",null,{"$f":"CONCATENATE(referentes!W265,\"(\",referentes!T265,\")\")","v":"()"},{"$f":"referentes!S265","v":0}]
[null,null,null,null,null,null,null,null,null,null,null,null,null,null,null,null,null,{"$f":"IF(AND(#REF!<>\"\"    ),(#REF!),\"\")","v":{"$error":"#REF!"}},null,null,null,null,null,null,{"$f":"IF(AND(referentes!U268<>\"\",          referentes!U268<>96321,    referentes!U268<>96222            ),(referentes!W268),\"\")","v":""},{"$f":"referentes!S268","v":0},null,266,0,1130,"X",null,{"$f":"CONCATENATE(referentes!W266,\"(\",referentes!T266,\")\")","v":"()"},{"$f":"referentes!S266","v":0}]
[null,null,null,null,null,null,null,null,null,null,null,null,null,null,null,null,null,{"$f":"IF(AND(#REF!<>\"\"    ),(#REF!),\"\")","v":{"$error":"#REF!"}},null,null,null,null,null,null,{"$f":"IF(AND(referentes!U269<>\"\",          referentes!U269<>96321,    referentes!U269<>96222            ),(referentes!W269),\"\")","v":""},{"$f":"referentes!S269","v":0},null,267,0,1130,"X",null,{"$f":"CONCATENATE(referentes!W267,\"(\",referentes!T267,\")\")","v":"()"},{"$f":"referentes!S267","v":0}]
[null,null,null,null,null,null,null,null,null,null,null,null,null,null,null,null,null,{"$f":"IF(AND(#REF!<>\"\"    ),(#REF!),\"\")","v":{"$error":"#REF!"}},null,null,null,null,null,null,{"$f":"IF(AND(referentes!U270<>\"\",          referentes!U270<>96321,    referentes!U270<>96222            ),(referentes!W270),\"\")","v":""},{"$f":"referentes!S270","v":0},null,268,0,1130,"X",null,{"$f":"CONCATENATE(referentes!W268,\"(\",referentes!T268,\")\")","v":"()"},{"$f":"referentes!S268","v":0}]
[null,null,null,null,null,null,null,null,null,null,null,null,null,null,null,null,null,{"$f":"IF(AND(#REF!<>\"\"    ),(#REF!),\"\")","v":{"$error":"#REF!"}},null,null,null,null,null,null,{"$f":"IF(AND(referentes!U271<>\"\",          referentes!U271<>96321,    referentes!U271<>96222            ),(referentes!W271),\"\")","v":""},{"$f":"referentes!S271","v":0},null,269,0,1130,"X",null,{"$f":"CONCATENATE(referentes!W269,\"(\",referentes!T269,\")\")","v":"()"},{"$f":"referentes!S269","v":0}]
[null,null,null,null,null,null,null,null,null,null,null,null,null,null,null,null,null,{"$f":"IF(AND(#REF!<>\"\"    ),(#REF!),\"\")","v":{"$error":"#REF!"}},null,null,null,null,null,null,{"$f":"IF(AND(referentes!U272<>\"\",          referentes!U272<>96321,    referentes!U272<>96222            ),(referentes!W272),\"\")","v":""},{"$f":"referentes!S272","v":0},null,270,0,1130,"X",null,{"$f":"CONCATENATE(referentes!W270,\"(\",referentes!T270,\")\")","v":"()"},{"$f":"referentes!S270","v":0}]
[null,null,null,null,null,null,null,null,null,null,null,null,null,null,null,null,null,{"$f":"IF(AND(#REF!<>\"\"    ),(#REF!),\"\")","v":{"$error":"#REF!"}},null,null,null,null,null,null,{"$f":"IF(AND(referentes!U273<>\"\",          referentes!U273<>96321,    referentes!U273<>96222            ),(referentes!W273),\"\")","v":""},{"$f":"referentes!S273","v":0},null,271,0,1130,"X",null,{"$f":"CONCATENATE(referentes!W271,\"(\",referentes!T271,\")\")","v":"()"},{"$f":"referentes!S271","v":0}]
[null,null,null,null,null,null,null,null,null,null,null,null,null,null,null,null,null,{"$f":"IF(AND(#REF!<>\"\"    ),(#REF!),\"\")","v":{"$error":"#REF!"}},null,null,null,null,null,null,{"$f":"IF(AND(referentes!U274<>\"\",          referentes!U274<>96321,    referentes!U274<>96222            ),(referentes!W274),\"\")","v":""},{"$f":"referentes!S274","v":0},null,272,0,1130,"X",null,{"$f":"CONCATENATE(referentes!W272,\"(\",referentes!T272,\")\")","v":"()"},{"$f":"referentes!S272","v":0}]
[null,null,null,null,null,null,null,null,null,null,null,null,null,null,null,null,null,{"$f":"IF(AND(#REF!<>\"\"    ),(#REF!),\"\")","v":{"$error":"#REF!"}},null,null,null,null,null,null,{"$f":"IF(AND(referentes!U275<>\"\",          referentes!U275<>96321,    referentes!U275<>96222            ),(referentes!W275),\"\")","v":""},{"$f":"referentes!S275","v":0},null,273,0,1130,"X",null,{"$f":"CONCATENATE(referentes!W273,\"(\",referentes!T273,\")\")","v":"()"},{"$f":"referentes!S273","v":0}]
[null,null,null,null,null,null,null,null,null,null,null,null,null,null,null,null,null,{"$f":"IF(AND(#REF!<>\"\"    ),(#REF!),\"\")","v":{"$error":"#REF!"}},null,null,null,null,null,null,{"$f":"IF(AND(referentes!U276<>\"\",          referentes!U276<>96321,    referentes!U276<>96222            ),(referentes!W276),\"\")","v":""},{"$f":"referentes!S276","v":0},null,274,0,1130,"X",null,{"$f":"CONCATENATE(referentes!W274,\"(\",referentes!T274,\")\")","v":"()"},{"$f":"referentes!S274","v":0}]
[null,null,null,null,null,null,null,null,null,null,null,null,null,null,null,null,null,{"$f":"IF(AND(#REF!<>\"\"    ),(#REF!),\"\")","v":{"$error":"#REF!"}},null,null,null,null,null,null,{"$f":"IF(AND(referentes!U277<>\"\",          referentes!U277<>96321,    referentes!U277<>96222            ),(referentes!W277),\"\")","v":""},{"$f":"referentes!S277","v":0},null,275,0,1130,"X",null,{"$f":"CONCATENATE(referentes!W275,\"(\",referentes!T275,\")\")","v":"()"},{"$f":"referentes!S275","v":0}]
[null,null,null,null,null,null,null,null,null,null,null,null,null,null,null,null,null,{"$f":"IF(AND(#REF!<>\"\"    ),(#REF!),\"\")","v":{"$error":"#REF!"}},null,null,null,null,null,null,{"$f":"IF(AND(referentes!U278<>\"\",          referentes!U278<>96321,    referentes!U278<>96222            ),(referentes!W278),\"\")","v":""},{"$f":"referentes!S278","v":0},null,276,0,1130,"X",null,{"$f":"CONCATENATE(referentes!W276,\"(\",referentes!T276,\")\")","v":"()"},{"$f":"referentes!S276","v":0}]
[null,null,null,null,null,null,null,null,null,null,null,null,null,null,null,null,null,{"$f":"IF(AND(#REF!<>\"\"    ),(#REF!),\"\")","v":{"$error":"#REF!"}},null,null,null,null,null,null,{"$f":"IF(AND(referentes!U279<>\"\",          referentes!U279<>96321,    referentes!U279<>96222            ),(referentes!W279),\"\")","v":""},{"$f":"referentes!S279","v":0},null,277,0,1130,"X",null,{"$f":"CONCATENATE(referentes!W277,\"(\",referentes!T277,\")\")","v":"()"},{"$f":"referentes!S277","v":0}]
[null,null,null,null,null,null,null,null,null,null,null,null,null,null,null,null,null,{"$f":"IF(AND(#REF!<>\"\"    ),(#REF!),\"\")","v":{"$error":"#REF!"}},null,null,null,null,null,null,{"$f":"IF(AND(referentes!U280<>\"\",          referentes!U280<>96321,    referentes!U280<>96222            ),(referentes!W280),\"\")","v":""},{"$f":"referentes!S280","v":0},null,278,0,1130,"X",null,{"$f":"CONCATENATE(referentes!W278,\"(\",referentes!T278,\")\")","v":"()"},{"$f":"referentes!S278","v":0}]
[null,null,null,null,null,null,null,null,null,null,null,null,null,null,null,null,null,{"$f":"IF(AND(#REF!<>\"\"    ),(#REF!),\"\")","v":{"$error":"#REF!"}},null,null,null,null,null,null,{"$f":"IF(AND(referentes!U281<>\"\",          referentes!U281<>96321,    referentes!U281<>96222            ),(referentes!W281),\"\")","v":""},{"$f":"referentes!S281","v":0},null,279,0,1130,"X",null,{"$f":"CONCATENATE(referentes!W279,\"(\",referentes!T279,\")\")","v":"()"},{"$f":"referentes!S279","v":0}]
[null,null,null,null,null,null,null,null,null,null,null,null,null,null,null,null,null,{"$f":"IF(AND(#REF!<>\"\"    ),(#REF!),\"\")","v":{"$error":"#REF!"}},null,null,null,null,null,null,{"$f":"IF(AND(referentes!U282<>\"\",          referentes!U282<>96321,    referentes!U282<>96222            ),(referentes!W282),\"\")","v":""},{"$f":"referentes!S282","v":0},null,280,0,1130,"X",null,{"$f":"CONCATENATE(referentes!W280,\"(\",referentes!T280,\")\")","v":"()"},{"$f":"referentes!S280","v":0}]
[null,null,null,null,null,null,null,null,null,null,null,null,null,null,null,null,null,{"$f":"IF(AND(#REF!<>\"\"    ),(#REF!),\"\")","v":{"$error":"#REF!"}},null,null,null,null,null,null,{"$f":"IF(AND(referentes!U283<>\"\",          referentes!U283<>96321,    referentes!U283<>96222            ),(referentes!W283),\"\")","v":""},{"$f":"referentes!S283","v":0},null,281,0,1130,"X",null,{"$f":"CONCATENATE(referentes!W281,\"(\",referentes!T281,\")\")","v":"()"},{"$f":"referentes!S281","v":0}]
[null,null,null,null,null,null,null,null,null,null,null,null,null,null,null,null,null,{"$f":"IF(AND(#REF!<>\"\"    ),(#REF!),\"\")","v":{"$error":"#REF!"}},null,null,null,null,null,null,{"$f":"IF(AND(referentes!U284<>\"\",          referentes!U284<>96321,    referentes!U284<>96222            ),(referentes!W284),\"\")","v":""},{"$f":"referentes!S284","v":0},null,282,0,1130,"X",null,{"$f":"CONCATENATE(referentes!W282,\"(\",referentes!T282,\")\")","v":"()"},{"$f":"referentes!S282","v":0}]
[null,null,null,null,null,null,null,null,null,null,null,null,null,null,null,null,null,{"$f":"IF(AND(#REF!<>\"\"    ),(#REF!),\"\")","v":{"$error":"#REF!"}},null,null,null,null,null,null,{"$f":"IF(AND(referentes!U285<>\"\",          referentes!U285<>96321,    referentes!U285<>96222            ),(referentes!W285),\"\")","v":""},{"$f":"referentes!S285","v":0},null,283,0,1130,"X",null,{"$f":"CONCATENATE(referentes!W283,\"(\",referentes!T283,\")\")","v":"()"},{"$f":"referentes!S283","v":0}]
[null,null,null,null,null,null,null,null,null,null,null,null,null,null,null,null,null,{"$f":"IF(AND(#REF!<>\"\"    ),(#REF!),\"\")","v":{"$error":"#REF!"}},null,null,null,null,null,null,{"$f":"IF(AND(referentes!U286<>\"\",          referentes!U286<>96321,    referentes!U286<>96222            ),(referentes!W286),\"\")","v":""},{"$f":"referentes!S286","v":0},null,284,0,1130,"X",null,{"$f":"CONCATENATE(referentes!W284,\"(\",referentes!T284,\")\")","v":"()"},{"$f":"referentes!S284","v":0}]
[null,null,null,null,null,null,null,null,null,null,null,null,null,null,null,null,null,{"$f":"IF(AND(#REF!<>\"\"    ),(#REF!),\"\")","v":{"$error":"#REF!"}},null,null,null,null,null,null,{"$f":"IF(AND(referentes!U287<>\"\",          referentes!U287<>96321,    referentes!U287<>96222            ),(referentes!W287),\"\")","v":""},{"$f":"referentes!S287","v":0},null,285,0,1130,"X",null,{"$f":"CONCATENATE(referentes!W285,\"(\",referentes!T285,\")\")","v":"()"},{"$f":"referentes!S285","v":0}]
[null,null,null,null,null,null,null,null,null,null,null,null,null,null,null,null,null,{"$f":"IF(AND(#REF!<>\"\"    ),(#REF!),\"\")","v":{"$error":"#REF!"}},null,null,null,null,null,null,{"$f":"IF(AND(referentes!U288<>\"\",          referentes!U288<>96321,    referentes!U288<>96222            ),(referentes!W288),\"\")","v":""},{"$f":"referentes!S288","v":0},null,286,0,1130,"X",null,{"$f":"CONCATENATE(referentes!W286,\"(\",referentes!T286,\")\")","v":"()"},{"$f":"referentes!S286","v":0}]
[null,null,null,null,null,null,null,null,null,null,null,null,null,null,null,null,null,{"$f":"IF(AND(#REF!<>\"\"    ),(#REF!),\"\")","v":{"$error":"#REF!"}},null,null,null,null,null,null,{"$f":"IF(AND(referentes!U289<>\"\",          referentes!U289<>96321,    referentes!U289<>96222            ),(referentes!W289),\"\")","v":""},{"$f":"referentes!S289","v":0},null,287,0,1130,"X",null,{"$f":"CONCATENATE(referentes!W287,\"(\",referentes!T287,\")\")","v":"()"},{"$f":"referentes!S287","v":0}]
[null,null,null,null,null,null,null,null,null,null,null,null,null,null,null,null,null,{"$f":"IF(AND(#REF!<>\"\"    ),(#REF!),\"\")","v":{"$error":"#REF!"}},null,null,null,null,null,null,{"$f":"IF(AND(referentes!U290<>\"\",          referentes!U290<>96321,    referentes!U290<>96222            ),(referentes!W290),\"\")","v":""},{"$f":"referentes!S290","v":0},null,288,0,1130,"X",null,{"$f":"CONCATENATE(referentes!W288,\"(\",referentes!T288,\")\")","v":"()"},{"$f":"referentes!S288","v":0}]
[null,null,null,null,null,null,null,null,null,null,null,null,null,null,null,null,null,{"$f":"IF(AND(#REF!<>\"\"    ),(#REF!),\"\")","v":{"$error":"#REF!"}},null,null,null,null,null,null,{"$f":"IF(AND(referentes!U291<>\"\",          referentes!U291<>96321,    referentes!U291<>96222            ),(referentes!W291),\"\")","v":""},{"$f":"referentes!S291","v":0},null,289,0,1130,"X",null,{"$f":"CONCATENATE(referentes!W289,\"(\",referentes!T289,\")\")","v":"()"},{"$f":"referentes!S289","v":0}]
[null,null,null,null,null,null,null,null,null,null,null,null,null,null,null,null,null,{"$f":"IF(AND(#REF!<>\"\"    ),(#REF!),\"\")","v":{"$error":"#REF!"}},null,null,null,null,null,null,{"$f":"IF(AND(referentes!U292<>\"\",          referentes!U292<>96321,    referentes!U292<>96222            ),(referentes!W292),\"\")","v":""},{"$f":"referentes!S292","v":0},null,290,0,1130,"X",null,{"$f":"CONCATENATE(referentes!W290,\"(\",referentes!T290,\")\")","v":"()"},{"$f":"referentes!S290","v":0}]
[null,null,null,null,null,null,null,null,null,null,null,null,null,null,null,null,null,{"$f":"IF(AND(#REF!<>\"\"    ),(#REF!),\"\")","v":{"$error":"#REF!"}},null,null,null,null,null,null,{"$f":"IF(AND(referentes!U293<>\"\",          referentes!U293<>96321,    referentes!U293<>96222            ),(referentes!W293),\"\")","v":""},{"$f":"referentes!S293","v":0},null,291,0,1130,"X",null,{"$f":"CONCATENATE(referentes!W291,\"(\",referentes!T291,\")\")","v":"()"},{"$f":"referentes!S291","v":0}]
[null,null,null,null,null,null,null,null,null,null,null,null,null,null,null,null,null,{"$f":"IF(AND(#REF!<>\"\"    ),(#REF!),\"\")","v":{"$error":"#REF!"}},null,null,null,null,null,null,{"$f":"IF(AND(referentes!U294<>\"\",          referentes!U294<>96321,    referentes!U294<>96222            ),(referentes!W294),\"\")","v":""},{"$f":"referentes!S294","v":0},null,292,0,1130,"X",null,{"$f":"CONCATENATE(referentes!W292,\"(\",referentes!T292,\")\")","v":"()"},{"$f":"referentes!S292","v":0}]
[null,null,null,null,null,null,null,null,null,null,null,null,null,null,null,null,null,{"$f":"IF(AND(#REF!<>\"\"    ),(#REF!),\"\")","v":{"$error":"#REF!"}},null,null,null,null,null,null,{"$f":"IF(AND(referentes!U295<>\"\",          referentes!U295<>96321,    referentes!U295<>96222            ),(referentes!W295),\"\")","v":""},{"$f":"referentes!S295","v":0},null,293,0,1130,"X",null,{"$f":"CONCATENATE(referentes!W293,\"(\",referentes!T293,\")\")","v":"()"},{"$f":"referentes!S293","v":0}]
[null,null,null,null,null,null,null,null,null,null,null,null,null,null,null,null,null,{"$f":"IF(AND(#REF!<>\"\"    ),(#REF!),\"\")","v":{"$error":"#REF!"}},null,null,null,null,null,null,{"$f":"IF(AND(referentes!U296<>\"\",          referentes!U296<>96321,    referentes!U296<>96222            ),(referentes!W296),\"\")","v":""},{"$f":"referentes!S296","v":0},null,294,0,1130,"X",null,{"$f":"CONCATENATE(referentes!W294,\"(\",referentes!T294,\")\")","v":"()"},{"$f":"referentes!S294","v":0}]
[null,null,null,null,null,null,null,null,null,null,null,null,null,null,null,null,null,{"$f":"IF(AND(#REF!<>\"\"    ),(#REF!),\"\")","v":{"$error":"#REF!"}},null,null,null,null,null,null,{"$f":"IF(AND(referentes!U297<>\"\",          referentes!U297<>96321,    referentes!U297<>96222            ),(referentes!W297),\"\")","v":""},{"$f":"referentes!S297","v":0},null,295,0,1130,"X",null,{"$f":"CONCATENATE(referentes!W295,\"(\",referentes!T295,\")\")","v":"()"},{"$f":"referentes!S295","v":0}]
[null,null,null,null,null,null,null,null,null,null,null,null,null,null,null,null,null,{"$f":"IF(AND(#REF!<>\"\"    ),(#REF!),\"\")","v":{"$error":"#REF!"}},null,null,null,null,null,null,{"$f":"IF(AND(referentes!U298<>\"\",          referentes!U298<>96321,    referentes!U298<>96222            ),(referentes!W298),\"\")","v":""},{"$f":"referentes!S298","v":0},null,296,0,1130,"X",null,{"$f":"CONCATENATE(referentes!W296,\"(\",referentes!T296,\")\")","v":"()"},{"$f":"referentes!S296","v":0}]
[null,null,null,null,null,null,null,null,null,null,null,null,null,null,null,null,null,{"$f":"IF(AND(#REF!<>\"\"    ),(#REF!),\"\")","v":{"$error":"#REF!"}},null,null,null,null,null,null,{"$f":"IF(AND(referentes!U299<>\"\",          referentes!U299<>96321,    referentes!U299<>96222            ),(referentes!W299),\"\")","v":""},{"$f":"referentes!S299","v":0},null,297,0,1130,"X",null,{"$f":"CONCATENATE(referentes!W297,\"(\",referentes!T297,\")\")","v":"()"},{"$f":"referentes!S297","v":0}]
[null,null,null,null,null,null,null,null,null,null,null,null,null,null,null,null,null,{"$f":"IF(AND(#REF!<>\"\"    ),(#REF!),\"\")","v":{"$error":"#REF!"}},null,null,null,null,null,null,{"$f":"IF(AND(referentes!U300<>\"\",          referentes!U300<>96321,    referentes!U300<>96222            ),(referentes!W300),\"\")","v":""},{"$f":"referentes!S300","v":0},null,298,0,1130,"X",null,{"$f":"CONCATENATE(referentes!W298,\"(\",referentes!T298,\")\")","v":"()"},{"$f":"referentes!S298","v":0}]
[null,null,null,null,null,null,null,null,null,null,null,null,null,null,null,null,null,{"$f":"IF(AND(#REF!<>\"\"    ),(#REF!),\"\")","v":{"$error":"#REF!"}},null,null,null,null,null,null,{"$f":"IF(AND(referentes!U301<>\"\",          referentes!U301<>96321,    referentes!U301<>96222            ),(referentes!W301),\"\")","v":""},{"$f":"referentes!S301","v":0},null,299,0,1130,"X",null,{"$f":"CONCATENATE(referentes!W299,\"(\",referentes!T299,\")\")","v":"()"},{"$f":"referentes!S299","v":0}]
[null,null,null,null,null,null,null,null,null,null,null,null,null,null,null,null,null,{"$f":"IF(AND(#REF!<>\"\"    ),(#REF!),\"\")","v":{"$error":"#REF!"}},null,null,null,null,null,null,{"$f":"IF(AND(referentes!U302<>\"\",          referentes!U302<>96321,    referentes!U302<>96222            ),(referentes!W302),\"\")","v":""},{"$f":"referentes!S302","v":0},null,300,0,1130,"X",null,{"$f":"CONCATENATE(referentes!W300,\"(\",referentes!T300,\")\")","v":"()"},{"$f":"referentes!S300","v":0}]
[null,null,null,null,null,null,null,null,null,null,null,null,null,null,null,null,null,{"$f":"IF(AND(#REF!<>\"\"    ),(#REF!),\"\")","v":{"$error":"#REF!"}},null,null,null,null,null,null,{"$f":"IF(AND(referentes!U303<>\"\",          referentes!U303<>96321,    referentes!U303<>96222            ),(referentes!W303),\"\")","v":""},{"$f":"referentes!S303","v":0},null,301,0,1130,"X",null,{"$f":"CONCATENATE(referentes!W301,\"(\",referentes!T301,\")\")","v":"()"},{"$f":"referentes!S301","v":0}]
[null,null,null,null,null,null,null,null,null,null,null,null,null,null,null,null,null,{"$f":"IF(AND(#REF!<>\"\"    ),(#REF!),\"\")","v":{"$error":"#REF!"}},null,null,null,null,null,null,{"$f":"IF(AND(referentes!U304<>\"\",          referentes!U304<>96321,    referentes!U304<>96222            ),(referentes!W304),\"\")","v":""},{"$f":"referentes!S304","v":0},null,302,0,1130,"X",null,{"$f":"CONCATENATE(referentes!W302,\"(\",referentes!T302,\")\")","v":"()"},{"$f":"referentes!S302","v":0}]
[null,null,null,null,null,null,null,null,null,null,null,null,null,null,null,null,null,{"$f":"IF(AND(#REF!<>\"\"    ),(#REF!),\"\")","v":{"$error":"#REF!"}},null,null,null,null,null,null,{"$f":"IF(AND(referentes!U305<>\"\",          referentes!U305<>96321,    referentes!U305<>96222            ),(referentes!W305),\"\")","v":""},{"$f":"referentes!S305","v":0},null,303,0,1130,"X",null,{"$f":"CONCATENATE(referentes!W303,\"(\",referentes!T303,\")\")","v":"()"},{"$f":"referentes!S303","v":0}]
[null,null,null,null,null,null,null,null,null,null,null,null,null,null,null,null,null,{"$f":"IF(AND(#REF!<>\"\"    ),(#REF!),\"\")","v":{"$error":"#REF!"}},null,null,null,null,null,null,{"$f":"IF(AND(referentes!U306<>\"\",          referentes!U306<>96321,    referentes!U306<>96222            ),(referentes!W306),\"\")","v":""},{"$f":"referentes!S306","v":0},null,304,0,1130,"X",null,{"$f":"CONCATENATE(referentes!W304,\"(\",referentes!T304,\")\")","v":"()"},{"$f":"referentes!S304","v":0}]
[null,null,null,null,null,null,null,null,null,null,null,null,null,null,null,null,null,{"$f":"IF(AND(#REF!<>\"\"    ),(#REF!),\"\")","v":{"$error":"#REF!"}},null,null,null,null,null,null,{"$f":"IF(AND(referentes!U307<>\"\",          referentes!U307<>96321,    referentes!U307<>96222            ),(referentes!W307),\"\")","v":""},{"$f":"referentes!S307","v":0},null,305,0,1130,"X",null,{"$f":"CONCATENATE(referentes!W305,\"(\",referentes!T305,\")\")","v":"()"},{"$f":"referentes!S305","v":0}]
[null,null,null,null,null,null,null,null,null,null,null,null,null,null,null,null,null,{"$f":"IF(AND(#REF!<>\"\"    ),(#REF!),\"\")","v":{"$error":"#REF!"}},null,null,null,null,null,null,{"$f":"IF(AND(referentes!U308<>\"\",          referentes!U308<>96321,    referentes!U308<>96222            ),(referentes!W308),\"\")","v":""},{"$f":"referentes!S308","v":0},null,306,0,1130,"X",null,{"$f":"CONCATENATE(referentes!W306,\"(\",referentes!T306,\")\")","v":"()"},{"$f":"referentes!S306","v":0}]
[null,null,null,null,null,null,null,null,null,null,null,null,null,null,null,null,null,{"$f":"IF(AND(#REF!<>\"\"    ),(#REF!),\"\")","v":{"$error":"#REF!"}},null,null,null,null,null,null,{"$f":"IF(AND(referentes!U309<>\"\",          referentes!U309<>96321,    referentes!U309<>96222            ),(referentes!W309),\"\")","v":""},{"$f":"referentes!S309","v":0},null,307,0,1130,"X",null,{"$f":"CONCATENATE(referentes!W307,\"(\",referentes!T307,\")\")","v":"()"},{"$f":"referentes!S307","v":0}]
[null,null,null,null,null,null,null,null,null,null,null,null,null,null,null,null,null,{"$f":"IF(AND(#REF!<>\"\"    ),(#REF!),\"\")","v":{"$error":"#REF!"}},null,null,null,null,null,null,{"$f":"IF(AND(referentes!U310<>\"\",          referentes!U310<>96321,    referentes!U310<>96222            ),(referentes!W310),\"\")","v":""},{"$f":"referentes!S310","v":0},null,308,0,1130,"X",null,{"$f":"CONCATENATE(referentes!W308,\"(\",referentes!T308,\")\")","v":"()"},{"$f":"referentes!S308","v":0}]
[null,null,null,null,null,null,null,null,null,null,null,null,null,null,null,null,null,{"$f":"IF(AND(#REF!<>\"\"    ),(#REF!),\"\")","v":{"$error":"#REF!"}},null,null,null,null,null,null,{"$f":"IF(AND(referentes!U311<>\"\",          referentes!U311<>96321,    referentes!U311<>96222            ),(referentes!W311),\"\")","v":""},{"$f":"referentes!S311","v":0},null,309,0,1130,"X",null,{"$f":"CONCATENATE(referentes!W309,\"(\",referentes!T309,\")\")","v":"()"},{"$f":"referentes!S309","v":0}]
[null,null,null,null,null,null,null,null,null,null,null,null,null,null,null,null,null,{"$f":"IF(AND(#REF!<>\"\"    ),(#REF!),\"\")","v":{"$error":"#REF!"}},null,null,null,null,null,null,{"$f":"IF(AND(referentes!U312<>\"\",          referentes!U312<>96321,    referentes!U312<>96222            ),(referentes!W312),\"\")","v":""},{"$f":"referentes!S312","v":0},null,310,0,1130,"X",null,{"$f":"CONCATENATE(referentes!W310,\"(\",referentes!T310,\")\")","v":"()"},{"$f":"referentes!S310","v":0}]
[null,null,null,null,null,null,null,null,null,null,null,null,null,null,null,null,null,{"$f":"IF(AND(#REF!<>\"\"    ),(#REF!),\"\")","v":{"$error":"#REF!"}},null,null,null,null,null,null,{"$f":"IF(AND(referentes!U313<>\"\",          referentes!U313<>96321,    referentes!U313<>96222            ),(referentes!W313),\"\")","v":""},{"$f":"referentes!S313","v":0},null,311,0,1130,"X",null,{"$f":"CONCATENATE(referentes!W311,\"(\",referentes!T311,\")\")","v":"()"},{"$f":"referentes!S311","v":0}]
[null,null,null,null,null,null,null,null,null,null,null,null,null,null,null,null,null,{"$f":"IF(AND(#REF!<>\"\"    ),(#REF!),\"\")","v":{"$error":"#REF!"}},null,null,null,null,null,null,{"$f":"IF(AND(referentes!U314<>\"\",          referentes!U314<>96321,    referentes!U314<>96222            ),(referentes!W314),\"\")","v":""},{"$f":"referentes!S314","v":0},null,312,0,1130,"X",null,{"$f":"CONCATENATE(referentes!W312,\"(\",referentes!T312,\")\")","v":"()"},{"$f":"referentes!S312","v":0}]
[null,null,null,null,null,null,null,null,null,null,null,null,null,null,null,null,null,{"$f":"IF(AND(#REF!<>\"\"    ),(#REF!),\"\")","v":{"$error":"#REF!"}},null,null,null,null,null,null,{"$f":"IF(AND(referentes!U315<>\"\",          referentes!U315<>96321,    referentes!U315<>96222            ),(referentes!W315),\"\")","v":""},{"$f":"referentes!S315","v":0},null,313,0,1130,"X",null,{"$f":"CONCATENATE(referentes!W313,\"(\",referentes!T313,\")\")","v":"()"},{"$f":"referentes!S313","v":0}]
[null,null,null,null,null,null,null,null,null,null,null,null,null,null,null,null,null,{"$f":"IF(AND(#REF!<>\"\"    ),(#REF!),\"\")","v":{"$error":"#REF!"}},null,null,null,null,null,null,{"$f":"IF(AND(referentes!U316<>\"\",          referentes!U316<>96321,    referentes!U316<>96222            ),(referentes!W316),\"\")","v":""},{"$f":"referentes!S316","v":0},null,314,0,1130,"X",null,{"$f":"CONCATENATE(referentes!W314,\"(\",referentes!T314,\")\")","v":"()"},{"$f":"referentes!S314","v":0}]
[null,null,null,null,null,null,null,null,null,null,null,null,null,null,null,null,null,{"$f":"IF(AND(#REF!<>\"\"    ),(#REF!),\"\")","v":{"$error":"#REF!"}},null,null,null,null,null,null,{"$f":"IF(AND(referentes!U317<>\"\",          referentes!U317<>96321,    referentes!U317<>96222            ),(referentes!W317),\"\")","v":""},{"$f":"referentes!S317","v":0},null,315,0,1130,"X",null,{"$f":"CONCATENATE(referentes!W315,\"(\",referentes!T315,\")\")","v":"()"},{"$f":"referentes!S315","v":0}]
[null,null,null,null,null,null,null,null,null,null,null,null,null,null,null,null,null,{"$f":"IF(AND(#REF!<>\"\"    ),(#REF!),\"\")","v":{"$error":"#REF!"}},null,null,null,null,null,null,{"$f":"IF(AND(referentes!U318<>\"\",          referentes!U318<>96321,    referentes!U318<>96222            ),(referentes!W318),\"\")","v":""},{"$f":"referentes!S318","v":0},null,316,0,1130,"X",null,{"$f":"CONCATENATE(referentes!W316,\"(\",referentes!T316,\")\")","v":"()"},{"$f":"referentes!S316","v":0}]
[null,null,null,null,null,null,null,null,null,null,null,null,null,null,null,null,null,{"$f":"IF(AND(#REF!<>\"\"    ),(#REF!),\"\")","v":{"$error":"#REF!"}},null,null,null,null,null,null,{"$f":"IF(AND(referentes!U319<>\"\",          referentes!U319<>96321,    referentes!U319<>96222            ),(referentes!W319),\"\")","v":""},{"$f":"referentes!S319","v":0},null,317,0,1130,"X",null,{"$f":"CONCATENATE(referentes!W317,\"(\",referentes!T317,\")\")","v":"()"},{"$f":"referentes!S317","v":0}]
[null,null,null,null,null,null,null,null,null,null,null,null,null,null,null,null,null,{"$f":"IF(AND(#REF!<>\"\"    ),(#REF!),\"\")","v":{"$error":"#REF!"}},null,null,null,null,null,null,{"$f":"IF(AND(referentes!U320<>\"\",          referentes!U320<>96321,    referentes!U320<>96222            ),(referentes!W320),\"\")","v":""},{"$f":"referentes!S320","v":0},null,318,0,1130,"X",null,{"$f":"CONCATENATE(referentes!W318,\"(\",referentes!T318,\")\")","v":"()"},{"$f":"referentes!S318","v":0}]
[null,null,null,null,null,null,null,null,null,null,null,null,null,null,null,null,null,{"$f":"IF(AND(#REF!<>\"\"    ),(#REF!),\"\")","v":{"$error":"#REF!"}},null,null,null,null,null,null,{"$f":"IF(AND(referentes!U321<>\"\",          referentes!U321<>96321,    referentes!U321<>96222            ),(referentes!W321),\"\")","v":""},{"$f":"referentes!S321","v":0},null,319,0,1130,"X",null,{"$f":"CONCATENATE(referentes!W319,\"(\",referentes!T319,\")\")","v":"()"},{"$f":"referentes!S319","v":0}]
[null,null,null,null,null,null,null,null,null,null,null,null,null,null,null,null,null,{"$f":"IF(AND(#REF!<>\"\"    ),(#REF!),\"\")","v":{"$error":"#REF!"}},null,null,null,null,null,null,{"$f":"IF(AND(referentes!U322<>\"\",          referentes!U322<>96321,    referentes!U322<>96222            ),(referentes!W322),\"\")","v":""},{"$f":"referentes!S322","v":0},null,320,0,1130,"X",null,{"$f":"CONCATENATE(referentes!W320,\"(\",referentes!T320,\")\")","v":"()"},{"$f":"referentes!S320","v":0}]
[null,null,null,null,null,null,null,null,null,null,null,null,null,null,null,null,null,{"$f":"IF(AND(#REF!<>\"\"    ),(#REF!),\"\")","v":{"$error":"#REF!"}},null,null,null,null,null,null,{"$f":"IF(AND(referentes!U323<>\"\",          referentes!U323<>96321,    referentes!U323<>96222            ),(referentes!W323),\"\")","v":""},{"$f":"referentes!S323","v":0},null,321,0,1130,"X",null,{"$f":"CONCATENATE(referentes!W321,\"(\",referentes!T321,\")\")","v":"()"},{"$f":"referentes!S321","v":0}]
[null,null,null,null,null,null,null,null,null,null,null,null,null,null,null,null,null,{"$f":"IF(AND(#REF!<>\"\"    ),(#REF!),\"\")","v":{"$error":"#REF!"}},null,null,null,null,null,null,{"$f":"IF(AND(referentes!U324<>\"\",          referentes!U324<>96321,    referentes!U324<>96222            ),(referentes!W324),\"\")","v":""},{"$f":"referentes!S324","v":0},null,322,{"$f":"IF(Y327=\"\",0,Y327)","v":0},{"$f":"IF(AC328=0,MAX($AB$7:$AB$1135)+1,AB328)","v":1130},{"$f":"IFERROR(VLOOKUP(SMALL($AD$7:$AD$1135,AB328),$AB$7:$AD$1135,2,FALSE),\"X\")","v":"X"},null,{"$f":"CONCATENATE(referentes!W322,\"(\",referentes!T322,\")\")","v":"()"},{"$f":"referentes!S322","v":0}]
[null,null,null,null,null,null,null,null,null,null,null,null,null,null,null,null,null,{"$f":"IF(AND(#REF!<>\"\"    ),(#REF!),\"\")","v":{"$error":"#REF!"}},null,null,null,null,null,null,{"$f":"IF(AND(referentes!U325<>\"\",          referentes!U325<>96321,    referentes!U325<>96222            ),(referentes!W325),\"\")","v":""},{"$f":"referentes!S325","v":0},null,323,0,1130,"X",null,{"$f":"CONCATENATE(referentes!W323,\"(\",referentes!T323,\")\")","v":"()"},{"$f":"referentes!S323","v":0}]
[null,null,null,null,null,null,null,null,null,null,null,null,null,null,null,null,null,{"$f":"IF(AND(#REF!<>\"\"    ),(#REF!),\"\")","v":{"$error":"#REF!"}},null,null,null,null,null,null,{"$f":"IF(AND(referentes!U326<>\"\",          referentes!U326<>96321,    referentes!U326<>96222            ),(referentes!W326),\"\")","v":""},{"$f":"referentes!S326","v":0},null,324,0,1130,"X",null,{"$f":"CONCATENATE(referentes!W324,\"(\",referentes!T324,\")\")","v":"()"},{"$f":"referentes!S324","v":0}]
[null,null,null,null,null,null,null,null,null,null,null,null,null,null,null,null,null,{"$f":"IF(AND(#REF!<>\"\"    ),(#REF!),\"\")","v":{"$error":"#REF!"}},null,null,null,null,null,null,{"$f":"IF(AND(referentes!U327<>\"\",          referentes!U327<>96321,    referentes!U327<>96222            ),(referentes!W327),\"\")","v":""},{"$f":"referentes!S327","v":0},null,325,0,1130,"X",null,{"$f":"CONCATENATE(referentes!W325,\"(\",referentes!T325,\")\")","v":"()"},{"$f":"referentes!S325","v":0}]
[null,null,null,null,null,null,null,null,null,null,null,null,null,null,null,null,null,{"$f":"IF(AND(#REF!<>\"\"    ),(#REF!),\"\")","v":{"$error":"#REF!"}},null,null,null,null,null,null,{"$f":"IF(AND(referentes!U328<>\"\",          referentes!U328<>96321,    referentes!U328<>96222            ),(referentes!W328),\"\")","v":""},{"$f":"referentes!S328","v":0},null,326,0,1130,"X",null,{"$f":"CONCATENATE(referentes!W326,\"(\",referentes!T326,\")\")","v":"()"},{"$f":"referentes!S326","v":0}]
[null,null,null,null,null,null,null,null,null,null,null,null,null,null,null,null,null,{"$f":"IF(AND(#REF!<>\"\"    ),(#REF!),\"\")","v":{"$error":"#REF!"}},null,null,null,null,null,null,{"$f":"IF(AND(referentes!U329<>\"\",          referentes!U329<>96321,    referentes!U329<>96222            ),(referentes!W329),\"\")","v":""},{"$f":"referentes!S329","v":0},null,327,0,1130,"X",null,{"$f":"CONCATENATE(referentes!W327,\"(\",referentes!T327,\")\")","v":"()"},{"$f":"referentes!S327","v":0}]
[null,null,null,null,null,null,null,null,null,null,null,null,null,null,null,null,null,{"$f":"IF(AND(#REF!<>\"\"    ),(#REF!),\"\")","v":{"$error":"#REF!"}},null,null,null,null,null,null,{"$f":"IF(AND(referentes!U330<>\"\",          referentes!U330<>96321,    referentes!U330<>96222            ),(referentes!W330),\"\")","v":""},{"$f":"referentes!S330","v":0},null,328,0,1130,"X",null,{"$f":"CONCATENATE(referentes!W328,\"(\",referentes!T328,\")\")","v":"()"},{"$f":"referentes!S328","v":0}]
[null,null,null,null,null,null,null,null,null,null,null,null,null,null,null,null,null,{"$f":"IF(AND(#REF!<>\"\"    ),(#REF!),\"\")","v":{"$error":"#REF!"}},null,null,null,null,null,null,{"$f":"IF(AND(referentes!U331<>\"\",          referentes!U331<>96321,    referentes!U331<>96222            ),(referentes!W331),\"\")","v":""},{"$f":"referentes!S331","v":0},null,329,0,1130,"X",null,{"$f":"CONCATENATE(referentes!W329,\"(\",referentes!T329,\")\")","v":"()"},{"$f":"referentes!S329","v":0}]
[null,null,null,null,null,null,null,null,null,null,null,null,null,null,null,null,null,{"$f":"IF(AND(#REF!<>\"\"    ),(#REF!),\"\")","v":{"$error":"#REF!"}},null,null,null,null,null,null,{"$f":"IF(AND(referentes!U332<>\"\",          referentes!U332<>96321,    referentes!U332<>96222            ),(referentes!W332),\"\")","v":""},{"$f":"referentes!S332","v":0},null,330,0,1130,"X",null,{"$f":"CONCATENATE(referentes!W330,\"(\",referentes!T330,\")\")","v":"()"},{"$f":"referentes!S330","v":0}]
[null,null,null,null,null,null,null,null,null,null,null,null,null,null,null,null,null,{"$f":"IF(AND(#REF!<>\"\"    ),(#REF!),\"\")","v":{"$error":"#REF!"}},null,null,null,null,null,null,{"$f":"IF(AND(referentes!U333<>\"\",          referentes!U333<>96321,    referentes!U333<>96222            ),(referentes!W333),\"\")","v":""},{"$f":"referentes!S333","v":0},null,331,0,1130,"X",null,{"$f":"CONCATENATE(referentes!W331,\"(\",referentes!T331,\")\")","v":"()"},{"$f":"referentes!S331","v":0}]
[null,null,null,null,null,null,null,null,null,null,null,null,null,null,null,null,null,{"$f":"IF(AND(#REF!<>\"\"    ),(#REF!),\"\")","v":{"$error":"#REF!"}},null,null,null,null,null,null,{"$f":"IF(AND(referentes!U334<>\"\",          referentes!U334<>96321,    referentes!U334<>96222            ),(referentes!W334),\"\")","v":""},{"$f":"referentes!S334","v":0},null,332,0,1130,"X",null,{"$f":"CONCATENATE(referentes!W332,\"(\",referentes!T332,\")\")","v":"()"},{"$f":"referentes!S332","v":0}]
[null,null,null,null,null,null,null,null,null,null,null,null,null,null,null,null,null,{"$f":"IF(AND(#REF!<>\"\"    ),(#REF!),\"\")","v":{"$error":"#REF!"}},null,null,null,null,null,null,{"$f":"IF(AND(referentes!U335<>\"\",          referentes!U335<>96321,    referentes!U335<>96222            ),(referentes!W335),\"\")","v":""},{"$f":"referentes!S335","v":0},null,333,0,1130,"X",null,{"$f":"CONCATENATE(referentes!W333,\"(\",referentes!T333,\")\")","v":"()"},{"$f":"referentes!S333","v":0}]
[null,null,null,null,null,null,null,null,null,null,null,null,null,null,null,null,null,{"$f":"IF(AND(#REF!<>\"\"    ),(#REF!),\"\")","v":{"$error":"#REF!"}},null,null,null,null,null,null,{"$f":"IF(AND(referentes!U336<>\"\",          referentes!U336<>96321,    referentes!U336<>96222            ),(referentes!W336),\"\")","v":""},{"$f":"referentes!S336","v":0},null,334,0,1130,"X",null,{"$f":"CONCATENATE(referentes!W334,\"(\",referentes!T334,\")\")","v":"()"},{"$f":"referentes!S334","v":0}]
[null,null,null,null,null,null,null,null,null,null,null,null,null,null,null,null,null,{"$f":"IF(AND(#REF!<>\"\"    ),(#REF!),\"\")","v":{"$error":"#REF!"}},null,null,null,null,null,null,{"$f":"IF(AND(referentes!U337<>\"\",          referentes!U337<>96321,    referentes!U337<>96222            ),(referentes!W337),\"\")","v":""},{"$f":"referentes!S337","v":0},null,335,0,1130,"X",null,{"$f":"CONCATENATE(referentes!W335,\"(\",referentes!T335,\")\")","v":"()"},{"$f":"referentes!S335","v":0}]
[null,null,null,null,null,null,null,null,null,null,null,null,null,null,null,null,null,{"$f":"IF(AND(#REF!<>\"\"    ),(#REF!),\"\")","v":{"$error":"#REF!"}},null,null,null,null,null,null,{"$f":"IF(AND(referentes!U338<>\"\",          referentes!U338<>96321,    referentes!U338<>96222            ),(referentes!W338),\"\")","v":""},{"$f":"referentes!S338","v":0},null,336,0,1130,"X",null,{"$f":"CONCATENATE(referentes!W336,\"(\",referentes!T336,\")\")","v":"()"},{"$f":"referentes!S336","v":0}]
[null,null,null,null,null,null,null,null,null,null,null,null,null,null,null,null,null,{"$f":"IF(AND(#REF!<>\"\"    ),(#REF!),\"\")","v":{"$error":"#REF!"}},null,null,null,null,null,null,{"$f":"IF(AND(referentes!U339<>\"\",          referentes!U339<>96321,    referentes!U339<>96222            ),(referentes!W339),\"\")","v":""},{"$f":"referentes!S339","v":0},null,337,0,1130,"X",null,{"$f":"CONCATENATE(referentes!W337,\"(\",referentes!T337,\")\")","v":"()"},{"$f":"referentes!S337","v":0}]
[null,null,null,null,null,null,null,null,null,null,null,null,null,null,null,null,null,{"$f":"IF(AND(#REF!<>\"\"    ),(#REF!),\"\")","v":{"$error":"#REF!"}},null,null,null,null,null,null,{"$f":"IF(AND(referentes!U340<>\"\",          referentes!U340<>96321,    referentes!U340<>96222            ),(referentes!W340),\"\")","v":""},{"$f":"referentes!S340","v":0},null,338,0,1130,"X",null,{"$f":"CONCATENATE(referentes!W338,\"(\",referentes!T338,\")\")","v":"()"},{"$f":"referentes!S338","v":0}]
[null,null,null,null,null,null,null,null,null,null,null,null,null,null,null,null,null,{"$f":"IF(AND(#REF!<>\"\"    ),(#REF!),\"\")","v":{"$error":"#REF!"}},null,null,null,null,null,null,{"$f":"IF(AND(referentes!U341<>\"\",          referentes!U341<>96321,    referentes!U341<>96222            ),(referentes!W341),\"\")","v":""},{"$f":"referentes!S341","v":0},null,339,0,1130,"X",null,{"$f":"CONCATENATE(referentes!W339,\"(\",referentes!T339,\")\")","v":"()"},{"$f":"referentes!S339","v":0}]
[null,null,null,null,null,null,null,null,null,null,null,null,null,null,null,null,null,{"$f":"IF(AND(#REF!<>\"\"    ),(#REF!),\"\")","v":{"$error":"#REF!"}},null,null,null,null,null,null,{"$f":"IF(AND(referentes!U342<>\"\",          referentes!U342<>96321,    referentes!U342<>96222            ),(referentes!W342),\"\")","v":""},{"$f":"referentes!S342","v":0},null,340,0,1130,"X",null,{"$f":"CONCATENATE(referentes!W340,\"(\",referentes!T340,\")\")","v":"()"},{"$f":"referentes!S340","v":0}]
[null,null,null,null,null,null,null,null,null,null,null,null,null,null,null,null,null,{"$f":"IF(AND(#REF!<>\"\"    ),(#REF!),\"\")","v":{"$error":"#REF!"}},null,null,null,null,null,null,{"$f":"IF(AND(referentes!U343<>\"\",          referentes!U343<>96321,    referentes!U343<>96222            ),(referentes!W343),\"\")","v":""},{"$f":"referentes!S343","v":0},null,341,0,1130,"X",null,{"$f":"CONCATENATE(referentes!W341,\"(\",referentes!T341,\")\")","v":"()"},{"$f":"referentes!S341","v":0}]
[null,null,null,null,null,null,null,null,null,null,null,null,null,null,null,null,null,{"$f":"IF(AND(#REF!<>\"\"    ),(#REF!),\"\")","v":{"$error":"#REF!"}},null,null,null,null,null,null,{"$f":"IF(AND(referentes!U344<>\"\",          referentes!U344<>96321,    referentes!U344<>96222            ),(referentes!W344),\"\")","v":""},{"$f":"referentes!S344","v":0},null,342,0,1130,"X",null,{"$f":"CONCATENATE(referentes!W342,\"(\",referentes!T342,\")\")","v":"()"},{"$f":"referentes!S342","v":0}]
[null,null,null,null,null,null,null,null,null,null,null,null,null,null,null,null,null,{"$f":"IF(AND(#REF!<>\"\"    ),(#REF!),\"\")","v":{"$error":"#REF!"}},null,null,null,null,null,null,{"$f":"IF(AND(referentes!U345<>\"\",          referentes!U345<>96321,    referentes!U345<>96222            ),(referentes!W345),\"\")","v":""},{"$f":"referentes!S345","v":0},null,343,0,1130,"X",null,{"$f":"CONCATENATE(referentes!W343,\"(\",referentes!T343,\")\")","v":"()"},{"$f":"referentes!S343","v":0}]
[null,null,null,null,null,null,null,null,null,null,null,null,null,null,null,null,null,{"$f":"IF(AND(#REF!<>\"\"    ),(#REF!),\"\")","v":{"$error":"#REF!"}},null,null,null,null,null,null,{"$f":"IF(AND(referentes!U346<>\"\",          referentes!U346<>96321,    referentes!U346<>96222            ),(referentes!W346),\"\")","v":""},{"$f":"referentes!S346","v":0},null,344,0,1130,"X",null,{"$f":"CONCATENATE(referentes!W344,\"(\",referentes!T344,\")\")","v":"()"},{"$f":"referentes!S344","v":0}]
[null,null,null,null,null,null,null,null,null,null,null,null,null,null,null,null,null,{"$f":"IF(AND(#REF!<>\"\"    ),(#REF!),\"\")","v":{"$error":"#REF!"}},null,null,null,null,null,null,{"$f":"IF(AND(referentes!U347<>\"\",          referentes!U347<>96321,    referentes!U347<>96222            ),(referentes!W347),\"\")","v":""},{"$f":"referentes!S347","v":0},null,345,0,1130,"X",null,{"$f":"CONCATENATE(referentes!W345,\"(\",referentes!T345,\")\")","v":"()"},{"$f":"referentes!S345","v":0}]
[null,null,null,null,null,null,null,null,null,null,null,null,null,null,null,null,null,{"$f":"IF(AND(#REF!<>\"\"    ),(#REF!),\"\")","v":{"$error":"#REF!"}},null,null,null,null,null,null,{"$f":"IF(AND(referentes!U348<>\"\",          referentes!U348<>96321,    referentes!U348<>96222            ),(referentes!W348),\"\")","v":""},{"$f":"referentes!S348","v":0},null,346,0,1130,"X",null,{"$f":"CONCATENATE(referentes!W346,\"(\",referentes!T346,\")\")","v":"()"},{"$f":"referentes!S346","v":0}]
[null,null,null,null,null,null,null,null,null,null,null,null,null,null,null,null,null,{"$f":"IF(AND(#REF!<>\"\"    ),(#REF!),\"\")","v":{"$error":"#REF!"}},null,null,null,null,null,null,{"$f":"IF(AND(referentes!U349<>\"\",          referentes!U349<>96321,    referentes!U349<>96222            ),(referentes!W349),\"\")","v":""},{"$f":"referentes!S349","v":0},null,347,0,1130,"X",null,{"$f":"CONCATENATE(referentes!W347,\"(\",referentes!T347,\")\")","v":"()"},{"$f":"referentes!S347","v":0}]
[null,null,null,null,null,null,null,null,null,null,null,null,null,null,null,null,null,{"$f":"IF(AND(#REF!<>\"\"    ),(#REF!),\"\")","v":{"$error":"#REF!"}},null,null,null,null,null,null,{"$f":"IF(AND(referentes!U350<>\"\",          referentes!U350<>96321,    referentes!U350<>96222            ),(referentes!W350),\"\")","v":""},{"$f":"referentes!S350","v":0},null,348,0,1130,"X",null,{"$f":"CONCATENATE(referentes!W348,\"(\",referentes!T348,\")\")","v":"()"},{"$f":"referentes!S348","v":0}]
[null,null,null,null,null,null,null,null,null,null,null,null,null,null,null,null,null,{"$f":"IF(AND(#REF!<>\"\"    ),(#REF!),\"\")","v":{"$error":"#REF!"}},null,null,null,null,null,null,{"$f":"IF(AND(referentes!U351<>\"\",          referentes!U351<>96321,    referentes!U351<>96222            ),(referentes!W351),\"\")","v":""},{"$f":"referentes!S351","v":0},null,349,0,1130,"X",null,{"$f":"CONCATENATE(referentes!W349,\"(\",referentes!T349,\")\")","v":"()"},{"$f":"referentes!S349","v":0}]
[null,null,null,null,null,null,null,null,null,null,null,null,null,null,null,null,null,{"$f":"IF(AND(#REF!<>\"\"    ),(#REF!),\"\")","v":{"$error":"#REF!"}},null,null,null,null,null,null,{"$f":"IF(AND(referentes!U352<>\"\",          referentes!U352<>96321,    referentes!U352<>96222            ),(referentes!W352),\"\")","v":""},{"$f":"referentes!S352","v":0},null,350,0,1130,"X",null,{"$f":"CONCATENATE(referentes!W350,\"(\",referentes!T350,\")\")","v":"()"},{"$f":"referentes!S350","v":0}]
[null,null,null,null,null,null,null,null,null,null,null,null,null,null,null,null,null,{"$f":"IF(AND(#REF!<>\"\"    ),(#REF!),\"\")","v":{"$error":"#REF!"}},null,null,null,null,null,null,{"$f":"IF(AND(referentes!U353<>\"\",          referentes!U353<>96321,    referentes!U353<>96222            ),(referentes!W353),\"\")","v":""},{"$f":"referentes!S353","v":0},null,351,0,1130,"X",null,{"$f":"CONCATENATE(referentes!W351,\"(\",referentes!T351,\")\")","v":"()"},{"$f":"referentes!S351","v":0}]
[null,null,null,null,null,null,null,null,null,null,null,null,null,null,null,null,null,{"$f":"IF(AND(#REF!<>\"\"    ),(#REF!),\"\")","v":{"$error":"#REF!"}},null,null,null,null,null,null,{"$f":"IF(AND(referentes!U354<>\"\",          referentes!U354<>96321,    referentes!U354<>96222            ),(referentes!W354),\"\")","v":""},{"$f":"referentes!S354","v":0},null,352,0,1130,"X",null,{"$f":"CONCATENATE(referentes!W352,\"(\",referentes!T352,\")\")","v":"()"},{"$f":"referentes!S352","v":0}]
[null,null,null,null,null,null,null,null,null,null,null,null,null,null,null,null,null,{"$f":"IF(AND(#REF!<>\"\"    ),(#REF!),\"\")","v":{"$error":"#REF!"}},null,null,null,null,null,null,{"$f":"IF(AND(referentes!U355<>\"\",          referentes!U355<>96321,    referentes!U355<>96222            ),(referentes!W355),\"\")","v":""},{"$f":"referentes!S355","v":0},null,353,0,1130,"X",null,{"$f":"CONCATENATE(referentes!W353,\"(\",referentes!T353,\")\")","v":"()"},{"$f":"referentes!S353","v":0}]
[null,null,null,null,null,null,null,null,null,null,null,null,null,null,null,null,null,{"$f":"IF(AND(#REF!<>\"\"    ),(#REF!),\"\")","v":{"$error":"#REF!"}},null,null,null,null,null,null,{"$f":"IF(AND(referentes!U356<>\"\",          referentes!U356<>96321,    referentes!U356<>96222            ),(referentes!W356),\"\")","v":""},{"$f":"referentes!S356","v":0},null,354,0,1130,"X",null,{"$f":"CONCATENATE(referentes!W354,\"(\",referentes!T354,\")\")","v":"()"},{"$f":"referentes!S354","v":0}]
[null,null,null,null,null,null,null,null,null,null,null,null,null,null,null,null,null,{"$f":"IF(AND(#REF!<>\"\"    ),(#REF!),\"\")","v":{"$error":"#REF!"}},null,null,null,null,null,null,{"$f":"IF(AND(referentes!U357<>\"\",          referentes!U357<>96321,    referentes!U357<>96222            ),(referentes!W357),\"\")","v":""},{"$f":"referentes!S357","v":0},null,355,0,1130,"X",null,{"$f":"CONCATENATE(referentes!W355,\"(\",referentes!T355,\")\")","v":"()"},{"$f":"referentes!S355","v":0}]
[null,null,null,null,null,null,null,null,null,null,null,null,null,null,null,null,null,{"$f":"IF(AND(#REF!<>\"\"    ),(#REF!),\"\")","v":{"$error":"#REF!"}},null,null,null,null,null,null,{"$f":"IF(AND(referentes!U358<>\"\",          referentes!U358<>96321,    referentes!U358<>96222            ),(referentes!W358),\"\")","v":""},{"$f":"referentes!S358","v":0},null,356,0,1130,"X",null,{"$f":"CONCATENATE(referentes!W356,\"(\",referentes!T356,\")\")","v":"()"},{"$f":"referentes!S356","v":0}]
[null,null,null,null,null,null,null,null,null,null,null,null,null,null,null,null,null,{"$f":"IF(AND(#REF!<>\"\"    ),(#REF!),\"\")","v":{"$error":"#REF!"}},null,null,null,null,null,null,{"$f":"IF(AND(referentes!U359<>\"\",          referentes!U359<>96321,    referentes!U359<>96222            ),(referentes!W359),\"\")","v":""},{"$f":"referentes!S359","v":0},null,357,0,1130,"X",null,{"$f":"CONCATENATE(referentes!W357,\"(\",referentes!T357,\")\")","v":"()"},{"$f":"referentes!S357","v":0}]
[null,null,null,null,null,null,null,null,null,null,null,null,null,null,null,null,null,{"$f":"IF(AND(#REF!<>\"\"    ),(#REF!),\"\")","v":{"$error":"#REF!"}},null,null,null,null,null,null,{"$f":"IF(AND(referentes!U360<>\"\",          referentes!U360<>96321,    referentes!U360<>96222            ),(referentes!W360),\"\")","v":""},{"$f":"referentes!S360","v":0},null,358,0,1130,"X",null,{"$f":"CONCATENATE(referentes!W358,\"(\",referentes!T358,\")\")","v":"()"},{"$f":"referentes!S358","v":0}]
[null,null,null,null,null,null,null,null,null,null,null,null,null,null,null,null,null,{"$f":"IF(AND(#REF!<>\"\"    ),(#REF!),\"\")","v":{"$error":"#REF!"}},null,null,null,null,null,null,{"$f":"IF(AND(referentes!U361<>\"\",          referentes!U361<>96321,    referentes!U361<>96222            ),(referentes!W361),\"\")","v":""},{"$f":"referentes!S361","v":0},null,359,0,1130,"X",null,{"$f":"CONCATENATE(referentes!W359,\"(\",referentes!T359,\")\")","v":"()"},{"$f":"referentes!S359","v":0}]
[null,null,null,null,null,null,null,null,null,null,null,null,null,null,null,null,null,{"$f":"IF(AND(#REF!<>\"\"    ),(#REF!),\"\")","v":{"$error":"#REF!"}},null,null,null,null,null,null,{"$f":"IF(AND(referentes!U362<>\"\",          referentes!U362<>96321,    referentes!U362<>96222            ),(referentes!W362),\"\")","v":""},{"$f":"referentes!S362","v":0},null,360,0,1130,"X",null,{"$f":"CONCATENATE(referentes!W360,\"(\",referentes!T360,\")\")","v":"()"},{"$f":"referentes!S360","v":0}]
[null,null,null,null,null,null,null,null,null,null,null,null,null,null,null,null,null,{"$f":"IF(AND(#REF!<>\"\"    ),(#REF!),\"\")","v":{"$error":"#REF!"}},null,null,null,null,null,null,{"$f":"IF(AND(referentes!U363<>\"\",          referentes!U363<>96321,    referentes!U363<>96222            ),(referentes!W363),\"\")","v":""},{"$f":"referentes!S363","v":0},null,361,0,1130,"X",null,{"$f":"CONCATENATE(referentes!W361,\"(\",referentes!T361,\")\")","v":"()"},{"$f":"referentes!S361","v":0}]
[null,null,null,null,null,null,null,null,null,null,null,null,null,null,null,null,null,{"$f":"IF(AND(#REF!<>\"\"    ),(#REF!),\"\")","v":{"$error":"#REF!"}},null,null,null,null,null,null,{"$f":"IF(AND(referentes!U364<>\"\",          referentes!U364<>96321,    referentes!U364<>96222            ),(referentes!W364),\"\")","v":""},{"$f":"referentes!S364","v":0},null,362,0,1130,"X",null,{"$f":"CONCATENATE(referentes!W362,\"(\",referentes!T362,\")\")","v":"()"},{"$f":"referentes!S362","v":0}]
[null,null,null,null,null,null,null,null,null,null,null,null,null,null,null,null,null,{"$f":"IF(AND(#REF!<>\"\"    ),(#REF!),\"\")","v":{"$error":"#REF!"}},null,null,null,null,null,null,{"$f":"IF(AND(referentes!U365<>\"\",          referentes!U365<>96321,    referentes!U365<>96222            ),(referentes!W365),\"\")","v":""},{"$f":"referentes!S365","v":0},null,363,0,1130,"X",null,{"$f":"CONCATENATE(referentes!W363,\"(\",referentes!T363,\")\")","v":"()"},{"$f":"referentes!S363","v":0}]
[null,null,null,null,null,null,null,null,null,null,null,null,null,null,null,null,null,{"$f":"IF(AND(#REF!<>\"\"    ),(#REF!),\"\")","v":{"$error":"#REF!"}},null,null,null,null,null,null,{"$f":"IF(AND(referentes!U366<>\"\",          referentes!U366<>96321,    referentes!U366<>96222            ),(referentes!W366),\"\")","v":""},{"$f":"referentes!S366","v":0},null,364,0,1130,"X",null,{"$f":"CONCATENATE(referentes!W364,\"(\",referentes!T364,\")\")","v":"()"},{"$f":"referentes!S364","v":0}]
[null,null,null,null,null,null,null,null,null,null,null,null,null,null,null,null,null,{"$f":"IF(AND(#REF!<>\"\"    ),(#REF!),\"\")","v":{"$error":"#REF!"}},null,null,null,null,null,null,{"$f":"IF(AND(referentes!U367<>\"\",          referentes!U367<>96321,    referentes!U367<>96222            ),(referentes!W367),\"\")","v":""},{"$f":"referentes!S367","v":0},null,365,0,1130,"X",null,{"$f":"CONCATENATE(referentes!W365,\"(\",referentes!T365,\")\")","v":"()"},{"$f":"referentes!S365","v":0}]
[null,null,null,null,null,null,null,null,null,null,null,null,null,null,null,null,null,{"$f":"IF(AND(#REF!<>\"\"    ),(#REF!),\"\")","v":{"$error":"#REF!"}},null,null,null,null,null,null,{"$f":"IF(AND(referentes!U368<>\"\",          referentes!U368<>96321,    referentes!U368<>96222            ),(referentes!W368),\"\")","v":""},{"$f":"referentes!S368","v":0},null,366,0,1130,"X",null,{"$f":"CONCATENATE(referentes!W366,\"(\",referentes!T366,\")\")","v":"()"},{"$f":"referentes!S366","v":0}]
[null,null,null,null,null,null,null,null,null,null,null,null,null,null,null,null,null,{"$f":"IF(AND(#REF!<>\"\"    ),(#REF!),\"\")","v":{"$error":"#REF!"}},null,null,null,null,null,null,{"$f":"IF(AND(referentes!U369<>\"\",          referentes!U369<>96321,    referentes!U369<>96222            ),(referentes!W369),\"\")","v":""},{"$f":"referentes!S369","v":0},null,367,0,1130,"X",null,{"$f":"CONCATENATE(referentes!W367,\"(\",referentes!T367,\")\")","v":"()"},{"$f":"referentes!S367","v":0}]
[null,null,null,null,null,null,null,null,null,null,null,null,null,null,null,null,null,{"$f":"IF(AND(#REF!<>\"\"    ),(#REF!),\"\")","v":{"$error":"#REF!"}},null,null,null,null,null,null,{"$f":"IF(AND(referentes!U370<>\"\",          referentes!U370<>96321,    referentes!U370<>96222            ),(referentes!W370),\"\")","v":""},{"$f":"referentes!S370","v":0},null,368,0,1130,"X",null,{"$f":"CONCATENATE(referentes!W368,\"(\",referentes!T368,\")\")","v":"()"},{"$f":"referentes!S368","v":0}]
[null,null,null,null,null,null,null,null,null,null,null,null,null,null,null,null,null,{"$f":"IF(AND(#REF!<>\"\"    ),(#REF!),\"\")","v":{"$error":"#REF!"}},null,null,null,null,null,null,{"$f":"IF(AND(referentes!U371<>\"\",          referentes!U371<>96321,    referentes!U371<>96222            ),(referentes!W371),\"\")","v":""},{"$f":"referentes!S371","v":0},null,369,0,1130,"X",null,{"$f":"CONCATENATE(referentes!W369,\"(\",referentes!T369,\")\")","v":"()"},{"$f":"referentes!S369","v":0}]
[null,null,null,null,null,null,null,null,null,null,null,null,null,null,null,null,null,{"$f":"IF(AND(#REF!<>\"\"    ),(#REF!),\"\")","v":{"$error":"#REF!"}},null,null,null,null,null,null,{"$f":"IF(AND(referentes!U372<>\"\",          referentes!U372<>96321,    referentes!U372<>96222            ),(referentes!W372),\"\")","v":""},{"$f":"referentes!S372","v":0},null,370,0,1130,"X",null,{"$f":"CONCATENATE(referentes!W370,\"(\",referentes!T370,\")\")","v":"()"},{"$f":"referentes!S370","v":0}]
[null,null,null,null,null,null,null,null,null,null,null,null,null,null,null,null,null,{"$f":"IF(AND(#REF!<>\"\"    ),(#REF!),\"\")","v":{"$error":"#REF!"}},null,null,null,null,null,null,{"$f":"IF(AND(referentes!U373<>\"\",          referentes!U373<>96321,    referentes!U373<>96222            ),(referentes!W373),\"\")","v":""},{"$f":"referentes!S373","v":0},null,371,0,1130,"X",null,{"$f":"CONCATENATE(referentes!W371,\"(\",referentes!T371,\")\")","v":"()"},{"$f":"referentes!S371","v":0}]
[null,null,null,null,null,null,null,null,null,null,null,null,null,null,null,null,null,{"$f":"IF(AND(#REF!<>\"\"    ),(#REF!),\"\")","v":{"$error":"#REF!"}},null,null,null,null,null,null,{"$f":"IF(AND(referentes!U374<>\"\",          referentes!U374<>96321,    referentes!U374<>96222            ),(referentes!W374),\"\")","v":""},{"$f":"referentes!S374","v":0},null,372,0,1130,"X",null,{"$f":"CONCATENATE(referentes!W372,\"(\",referentes!T372,\")\")","v":"()"},{"$f":"referentes!S372","v":0}]
[null,null,null,null,null,null,null,null,null,null,null,null,null,null,null,null,null,{"$f":"IF(AND(#REF!<>\"\"    ),(#REF!),\"\")","v":{"$error":"#REF!"}},null,null,null,null,null,null,{"$f":"IF(AND(referentes!U375<>\"\",          referentes!U375<>96321,    referentes!U375<>96222            ),(referentes!W375),\"\")","v":""},{"$f":"referentes!S375","v":0},null,373,0,1130,"X",null,{"$f":"CONCATENATE(referentes!W373,\"(\",referentes!T373,\")\")","v":"()"},{"$f":"referentes!S373","v":0}]
[null,null,null,null,null,null,null,null,null,null,null,null,null,null,null,null,null,{"$f":"IF(AND(#REF!<>\"\"    ),(#REF!),\"\")","v":{"$error":"#REF!"}},null,null,null,null,null,null,{"$f":"IF(AND(referentes!U376<>\"\",          referentes!U376<>96321,    referentes!U376<>96222            ),(referentes!W376),\"\")","v":""},{"$f":"referentes!S376","v":0},null,374,0,1130,"X",null,{"$f":"CONCATENATE(referentes!W374,\"(\",referentes!T374,\")\")","v":"()"},{"$f":"referentes!S374","v":0}]
[null,null,null,null,null,null,null,null,null,null,null,null,null,null,null,null,null,{"$f":"IF(AND(#REF!<>\"\"    ),(#REF!),\"\")","v":{"$error":"#REF!"}},null,null,null,null,null,null,{"$f":"IF(AND(referentes!U377<>\"\",          referentes!U377<>96321,    referentes!U377<>96222            ),(referentes!W377),\"\")","v":""},{"$f":"referentes!S377","v":0},null,375,0,1130,"X",null,{"$f":"CONCATENATE(referentes!W375,\"(\",referentes!T375,\")\")","v":"()"},{"$f":"referentes!S375","v":0}]
[null,null,null,null,null,null,null,null,null,null,null,null,null,null,null,null,null,{"$f":"IF(AND(#REF!<>\"\"    ),(#REF!),\"\")","v":{"$error":"#REF!"}},null,null,null,null,null,null,{"$f":"IF(AND(referentes!U378<>\"\",          referentes!U378<>96321,    referentes!U378<>96222            ),(referentes!W378),\"\")","v":""},{"$f":"referentes!S378","v":0},null,376,0,1130,"X",null,{"$f":"CONCATENATE(referentes!W376,\"(\",referentes!T376,\")\")","v":"()"},{"$f":"referentes!S376","v":0}]
[null,null,null,null,null,null,null,null,null,null,null,null,null,null,null,null,null,{"$f":"IF(AND(#REF!<>\"\"    ),(#REF!),\"\")","v":{"$error":"#REF!"}},null,null,null,null,null,null,{"$f":"IF(AND(referentes!U379<>\"\",          referentes!U379<>96321,    referentes!U379<>96222            ),(referentes!W379),\"\")","v":""},{"$f":"referentes!S379","v":0},null,377,0,1130,"X",null,{"$f":"CONCATENATE(referentes!W377,\"(\",referentes!T377,\")\")","v":"()"},{"$f":"referentes!S377","v":0}]
[null,null,null,null,null,null,null,null,null,null,null,null,null,null,null,null,null,{"$f":"IF(AND(#REF!<>\"\"    ),(#REF!),\"\")","v":{"$error":"#REF!"}},null,null,null,null,null,null,{"$f":"IF(AND(referentes!U380<>\"\",          referentes!U380<>96321,    referentes!U380<>96222            ),(referentes!W380),\"\")","v":""},{"$f":"referentes!S380","v":0},null,378,0,1130,"X",null,{"$f":"CONCATENATE(referentes!W378,\"(\",referentes!T378,\")\")","v":"()"},{"$f":"referentes!S378","v":0}]
[null,null,null,null,null,null,null,null,null,null,null,null,null,null,null,null,null,{"$f":"IF(AND(#REF!<>\"\"    ),(#REF!),\"\")","v":{"$error":"#REF!"}},null,null,null,null,null,null,{"$f":"IF(AND(referentes!U381<>\"\",          referentes!U381<>96321,    referentes!U381<>96222            ),(referentes!W381),\"\")","v":""},{"$f":"referentes!S381","v":0},null,379,0,1130,"X",null,{"$f":"CONCATENATE(referentes!W379,\"(\",referentes!T379,\")\")","v":"()"},{"$f":"referentes!S379","v":0}]
[null,null,null,null,null,null,null,null,null,null,null,null,null,null,null,null,null,{"$f":"IF(AND(#REF!<>\"\"    ),(#REF!),\"\")","v":{"$error":"#REF!"}},null,null,null,null,null,null,{"$f":"IF(AND(referentes!U382<>\"\",          referentes!U382<>96321,    referentes!U382<>96222            ),(referentes!W382),\"\")","v":""},{"$f":"referentes!S382","v":0},null,380,0,1130,"X",null,{"$f":"CONCATENATE(referentes!W380,\"(\",referentes!T380,\")\")","v":"()"},{"$f":"referentes!S380","v":0}]
[null,null,null,null,null,null,null,null,null,null,null,null,null,null,null,null,null,{"$f":"IF(AND(#REF!<>\"\"    ),(#REF!),\"\")","v":{"$error":"#REF!"}},null,null,null,null,null,null,{"$f":"IF(AND(referentes!U383<>\"\",          referentes!U383<>96321,    referentes!U383<>96222            ),(referentes!W383),\"\")","v":""},{"$f":"referentes!S383","v":0},null,381,0,1130,"X",null,{"$f":"CONCATENATE(referentes!W381,\"(\",referentes!T381,\")\")","v":"()"},{"$f":"referentes!S381","v":0}]
[null,null,null,null,null,null,null,null,null,null,null,null,null,null,null,null,null,{"$f":"IF(AND(#REF!<>\"\"    ),(#REF!),\"\")","v":{"$error":"#REF!"}},null,null,null,null,null,null,{"$f":"IF(AND(referentes!U384<>\"\",          referentes!U384<>96321,    referentes!U384<>96222            ),(referentes!W384),\"\")","v":""},{"$f":"referentes!S384","v":0},null,382,0,1130,"X",null,{"$f":"CONCATENATE(referentes!W382,\"(\",referentes!T382,\")\")","v":"()"},{"$f":"referentes!S382","v":0}]
[null,null,null,null,null,null,null,null,null,null,null,null,null,null,null,null,null,{"$f":"IF(AND(#REF!<>\"\"    ),(#REF!),\"\")","v":{"$error":"#REF!"}},null,null,null,null,null,null,{"$f":"IF(AND(referentes!U385<>\"\",          referentes!U385<>96321,    referentes!U385<>96222            ),(referentes!W385),\"\")","v":""},{"$f":"referentes!S385","v":0},null,383,0,1130,"X",null,{"$f":"CONCATENATE(referentes!W383,\"(\",referentes!T383,\")\")","v":"()"},{"$f":"referentes!S383","v":0}]
[null,null,null,null,null,null,null,null,null,null,null,null,null,null,null,null,null,{"$f":"IF(AND(#REF!<>\"\"    ),(#REF!),\"\")","v":{"$error":"#REF!"}},null,null,null,null,null,null,{"$f":"IF(AND(referentes!U386<>\"\",          referentes!U386<>96321,    referentes!U386<>96222            ),(referentes!W386),\"\")","v":""},{"$f":"referentes!S386","v":0},null,384,0,1130,"X",null,{"$f":"CONCATENATE(referentes!W384,\"(\",referentes!T384,\")\")","v":"()"},{"$f":"referentes!S384","v":0}]
[null,null,null,null,null,null,null,null,null,null,null,null,null,null,null,null,null,{"$f":"IF(AND(#REF!<>\"\"    ),(#REF!),\"\")","v":{"$error":"#REF!"}},null,null,null,null,null,null,{"$f":"IF(AND(referentes!U387<>\"\",          referentes!U387<>96321,    referentes!U387<>96222            ),(referentes!W387),\"\")","v":""},{"$f":"referentes!S387","v":0},null,385,0,1130,"X",null,{"$f":"CONCATENATE(referentes!W385,\"(\",referentes!T385,\")\")","v":"()"},{"$f":"referentes!S385","v":0}]
[null,null,null,null,null,null,null,null,null,null,null,null,null,null,null,null,null,{"$f":"IF(AND(#REF!<>\"\"    ),(#REF!),\"\")","v":{"$error":"#REF!"}},null,null,null,null,null,null,{"$f":"IF(AND(referentes!U388<>\"\",          referentes!U388<>96321,    referentes!U388<>96222            ),(referentes!W388),\"\")","v":""},{"$f":"referentes!S388","v":0},null,386,{"$f":"IF(Y391=\"\",0,Y391)","v":0},{"$f":"IF(AC392=0,MAX($AB$7:$AB$1135)+1,AB392)","v":1130},{"$f":"IFERROR(VLOOKUP(SMALL($AD$7:$AD$1135,AB392),$AB$7:$AD$1135,2,FALSE),\"X\")","v":"X"},null,{"$f":"CONCATENATE(referentes!W386,\"(\",referentes!T386,\")\")","v":"()"},{"$f":"referentes!S386","v":0}]
[null,null,null,null,null,null,null,null,null,null,null,null,null,null,null,null,null,{"$f":"IF(AND(#REF!<>\"\"    ),(#REF!),\"\")","v":{"$error":"#REF!"}},null,null,null,null,null,null,{"$f":"IF(AND(referentes!U389<>\"\",          referentes!U389<>96321,    referentes!U389<>96222            ),(referentes!W389),\"\")","v":""},{"$f":"referentes!S389","v":0},null,387,0,1130,"X",null,{"$f":"CONCATENATE(referentes!W387,\"(\",referentes!T387,\")\")","v":"()"},{"$f":"referentes!S387","v":0}]
[null,null,null,null,null,null,null,null,null,null,null,null,null,null,null,null,null,{"$f":"IF(AND(#REF!<>\"\"    ),(#REF!),\"\")","v":{"$error":"#REF!"}},null,null,null,null,null,null,{"$f":"IF(AND(referentes!U390<>\"\",          referentes!U390<>96321,    referentes!U390<>96222            ),(referentes!W390),\"\")","v":""},{"$f":"referentes!S390","v":0},null,388,0,1130,"X",null,{"$f":"CONCATENATE(referentes!W388,\"(\",referentes!T388,\")\")","v":"()"},{"$f":"referentes!S388","v":0}]
[null,null,null,null,null,null,null,null,null,null,null,null,null,null,null,null,null,{"$f":"IF(AND(#REF!<>\"\"    ),(#REF!),\"\")","v":{"$error":"#REF!"}},null,null,null,null,null,null,{"$f":"IF(AND(referentes!U391<>\"\",          referentes!U391<>96321,    referentes!U391<>96222            ),(referentes!W391),\"\")","v":""},{"$f":"referentes!S391","v":0},null,389,0,1130,"X",null,{"$f":"CONCATENATE(referentes!W389,\"(\",referentes!T389,\")\")","v":"()"},{"$f":"referentes!S389","v":0}]
[null,null,null,null,null,null,null,null,null,null,null,null,null,null,null,null,null,{"$f":"IF(AND(#REF!<>\"\"    ),(#REF!),\"\")","v":{"$error":"#REF!"}},null,null,null,null,null,null,{"$f":"IF(AND(referentes!U392<>\"\",          referentes!U392<>96321,    referentes!U392<>96222            ),(referentes!W392),\"\")","v":""},{"$f":"referentes!S392","v":0},null,390,0,1130,"X",null,{"$f":"CONCATENATE(referentes!W390,\"(\",referentes!T390,\")\")","v":"()"},{"$f":"referentes!S390","v":0}]
[null,null,null,null,null,null,null,null,null,null,null,null,null,null,null,null,null,{"$f":"IF(AND(#REF!<>\"\"    ),(#REF!),\"\")","v":{"$error":"#REF!"}},null,null,null,null,null,null,{"$f":"IF(AND(referentes!U393<>\"\",          referentes!U393<>96321,    referentes!U393<>96222            ),(referentes!W393),\"\")","v":""},{"$f":"referentes!S393","v":0},null,391,0,1130,"X",null,{"$f":"CONCATENATE(referentes!W391,\"(\",referentes!T391,\")\")","v":"()"},{"$f":"referentes!S391","v":0}]
[null,null,null,null,null,null,null,null,null,null,null,null,null,null,null,null,null,{"$f":"IF(AND(#REF!<>\"\"    ),(#REF!),\"\")","v":{"$error":"#REF!"}},null,null,null,null,null,null,{"$f":"IF(AND(referentes!U394<>\"\",          referentes!U394<>96321,    referentes!U394<>96222            ),(referentes!W394),\"\")","v":""},{"$f":"referentes!S394","v":0},null,392,0,1130,"X",null,{"$f":"CONCATENATE(referentes!W392,\"(\",referentes!T392,\")\")","v":"()"},{"$f":"referentes!S392","v":0}]
[null,null,null,null,null,null,null,null,null,null,null,null,null,null,null,null,null,{"$f":"IF(AND(#REF!<>\"\"    ),(#REF!),\"\")","v":{"$error":"#REF!"}},null,null,null,null,null,null,{"$f":"IF(AND(referentes!U395<>\"\",          referentes!U395<>96321,    referentes!U395<>96222            ),(referentes!W395),\"\")","v":""},{"$f":"referentes!S395","v":0},null,393,0,1130,"X",null,{"$f":"CONCATENATE(referentes!W393,\"(\",referentes!T393,\")\")","v":"()"},{"$f":"referentes!S393","v":0}]
[null,null,null,null,null,null,null,null,null,null,null,null,null,null,null,null,null,{"$f":"IF(AND(#REF!<>\"\"    ),(#REF!),\"\")","v":{"$error":"#REF!"}},null,null,null,null,null,null,{"$f":"IF(AND(referentes!U396<>\"\",          referentes!U396<>96321,    referentes!U396<>96222            ),(referentes!W396),\"\")","v":""},{"$f":"referentes!S396","v":0},null,394,0,1130,"X",null,{"$f":"CONCATENATE(referentes!W394,\"(\",referentes!T394,\")\")","v":"()"},{"$f":"referentes!S394","v":0}]
[null,null,null,null,null,null,null,null,null,null,null,null,null,null,null,null,null,{"$f":"IF(AND(#REF!<>\"\"    ),(#REF!),\"\")","v":{"$error":"#REF!"}},null,null,null,null,null,null,{"$f":"IF(AND(referentes!U397<>\"\",          referentes!U397<>96321,    referentes!U397<>96222            ),(referentes!W397),\"\")","v":""},{"$f":"referentes!S397","v":0},null,395,0,1130,"X",null,{"$f":"CONCATENATE(referentes!W395,\"(\",referentes!T395,\")\")","v":"()"},{"$f":"referentes!S395","v":0}]
[null,null,null,null,null,null,null,null,null,null,null,null,null,null,null,null,null,{"$f":"IF(AND(#REF!<>\"\"    ),(#REF!),\"\")","v":{"$error":"#REF!"}},null,null,null,null,null,null,{"$f":"IF(AND(referentes!U398<>\"\",          referentes!U398<>96321,    referentes!U398<>96222            ),(referentes!W398),\"\")","v":""},{"$f":"referentes!S398","v":0},null,396,0,1130,"X",null,{"$f":"CONCATENATE(referentes!W396,\"(\",referentes!T396,\")\")","v":"()"},{"$f":"referentes!S396","v":0}]
[null,null,null,null,null,null,null,null,null,null,null,null,null,null,null,null,null,{"$f":"IF(AND(#REF!<>\"\"    ),(#REF!),\"\")","v":{"$error":"#REF!"}},null,null,null,null,null,null,{"$f":"IF(AND(referentes!U399<>\"\",          referentes!U399<>96321,    referentes!U399<>96222            ),(referentes!W399),\"\")","v":""},{"$f":"referentes!S399","v":0},null,397,0,1130,"X",null,{"$f":"CONCATENATE(referentes!W397,\"(\",referentes!T397,\")\")","v":"()"},{"$f":"referentes!S397","v":0}]
[null,null,null,null,null,null,null,null,null,null,null,null,null,null,null,null,null,{"$f":"IF(AND(#REF!<>\"\"    ),(#REF!),\"\")","v":{"$error":"#REF!"}},null,null,null,null,null,null,{"$f":"IF(AND(referentes!U400<>\"\",          referentes!U400<>96321,    referentes!U400<>96222            ),(referentes!W400),\"\")","v":""},{"$f":"referentes!S400","v":0},null,398,0,1130,"X",null,{"$f":"CONCATENATE(referentes!W398,\"(\",referentes!T398,\")\")","v":"()"},{"$f":"referentes!S398","v":0}]
[null,null,null,null,null,null,null,null,null,null,null,null,null,null,null,null,null,{"$f":"IF(AND(#REF!<>\"\"    ),(#REF!),\"\")","v":{"$error":"#REF!"}},null,null,null,null,null,null,{"$f":"IF(AND(referentes!U401<>\"\",          referentes!U401<>96321,    referentes!U401<>96222            ),(referentes!W401),\"\")","v":""},{"$f":"referentes!S401","v":0},null,399,0,1130,"X",null,{"$f":"CONCATENATE(referentes!W399,\"(\",referentes!T399,\")\")","v":"()"},{"$f":"referentes!S399","v":0}]
[null,null,null,null,null,null,null,null,null,null,null,null,null,null,null,null,null,{"$f":"IF(AND(#REF!<>\"\"    ),(#REF!),\"\")","v":{"$error":"#REF!"}},null,null,null,null,null,null,{"$f":"IF(AND(referentes!U402<>\"\",          referentes!U402<>96321,    referentes!U402<>96222            ),(referentes!W402),\"\")","v":""},{"$f":"referentes!S402","v":0},null,400,0,1130,"X",null,{"$f":"CONCATENATE(referentes!W400,\"(\",referentes!T400,\")\")","v":"()"},{"$f":"referentes!S400","v":0}]
[null,null,null,null,null,null,null,null,null,null,null,null,null,null,null,null,null,{"$f":"IF(AND(#REF!<>\"\"    ),(#REF!),\"\")","v":{"$error":"#REF!"}},null,null,null,null,null,null,{"$f":"IF(AND(referentes!U403<>\"\",          referentes!U403<>96321,    referentes!U403<>96222            ),(referentes!W403),\"\")","v":""},{"$f":"referentes!S403","v":0},null,401,0,1130,"X",null,{"$f":"CONCATENATE(referentes!W401,\"(\",referentes!T401,\")\")","v":"()"},{"$f":"referentes!S401","v":0}]
[null,null,null,null,null,null,null,null,null,null,null,null,null,null,null,null,null,{"$f":"IF(AND(#REF!<>\"\"    ),(#REF!),\"\")","v":{"$error":"#REF!"}},null,null,null,null,null,null,{"$f":"IF(AND(referentes!U404<>\"\",          referentes!U404<>96321,    referentes!U404<>96222            ),(referentes!W404),\"\")","v":""},{"$f":"referentes!S404","v":0},null,402,0,1130,"X",null,{"$f":"CONCATENATE(referentes!W402,\"(\",referentes!T402,\")\")","v":"()"},{"$f":"referentes!S402","v":0}]
[null,null,null,null,null,null,null,null,null,null,null,null,null,null,null,null,null,{"$f":"IF(AND(#REF!<>\"\"    ),(#REF!),\"\")","v":{"$error":"#REF!"}},null,null,null,null,null,null,{"$f":"IF(AND(referentes!U405<>\"\",          referentes!U405<>96321,    referentes!U405<>96222            ),(referentes!W405),\"\")","v":""},{"$f":"referentes!S405","v":0},null,403,0,1130,"X",null,{"$f":"CONCATENATE(referentes!W403,\"(\",referentes!T403,\")\")","v":"()"},{"$f":"referentes!S403","v":0}]
[null,null,null,null,null,null,null,null,null,null,null,null,null,null,null,null,null,{"$f":"IF(AND(#REF!<>\"\"    ),(#REF!),\"\")","v":{"$error":"#REF!"}},null,null,null,null,null,null,{"$f":"IF(AND(referentes!U406<>\"\",          referentes!U406<>96321,    referentes!U406<>96222            ),(referentes!W406),\"\")","v":""},{"$f":"referentes!S406","v":0},null,404,0,1130,"X",null,{"$f":"CONCATENATE(referentes!W404,\"(\",referentes!T404,\")\")","v":"()"},{"$f":"referentes!S404","v":0}]
[null,null,null,null,null,null,null,null,null,null,null,null,null,null,null,null,null,{"$f":"IF(AND(#REF!<>\"\"    ),(#REF!),\"\")","v":{"$error":"#REF!"}},null,null,null,null,null,null,{"$f":"IF(AND(referentes!U407<>\"\",          referentes!U407<>96321,    referentes!U407<>96222            ),(referentes!W407),\"\")","v":""},{"$f":"referentes!S407","v":0},null,405,0,1130,"X",null,{"$f":"CONCATENATE(referentes!W405,\"(\",referentes!T405,\")\")","v":"()"},{"$f":"referentes!S405","v":0}]
[null,null,null,null,null,null,null,null,null,null,null,null,null,null,null,null,null,{"$f":"IF(AND(#REF!<>\"\"    ),(#REF!),\"\")","v":{"$error":"#REF!"}},null,null,null,null,null,null,{"$f":"IF(AND(referentes!U408<>\"\",          referentes!U408<>96321,    referentes!U408<>96222            ),(referentes!W408),\"\")","v":""},{"$f":"referentes!S408","v":0},null,406,0,1130,"X",null,{"$f":"CONCATENATE(referentes!W406,\"(\",referentes!T406,\")\")","v":"()"},{"$f":"referentes!S406","v":0}]
[null,null,null,null,null,null,null,null,null,null,null,null,null,null,null,null,null,{"$f":"IF(AND(#REF!<>\"\"    ),(#REF!),\"\")","v":{"$error":"#REF!"}},null,null,null,null,null,null,{"$f":"IF(AND(referentes!U409<>\"\",          referentes!U409<>96321,    referentes!U409<>96222            ),(referentes!W409),\"\")","v":""},{"$f":"referentes!S409","v":0},null,407,0,1130,"X",null,{"$f":"CONCATENATE(referentes!W407,\"(\",referentes!T407,\")\")","v":"()"},{"$f":"referentes!S407","v":0}]
[null,null,null,null,null,null,null,null,null,null,null,null,null,null,null,null,null,{"$f":"IF(AND(#REF!<>\"\"    ),(#REF!),\"\")","v":{"$error":"#REF!"}},null,null,null,null,null,null,{"$f":"IF(AND(referentes!U410<>\"\",          referentes!U410<>96321,    referentes!U410<>96222            ),(referentes!W410),\"\")","v":""},{"$f":"referentes!S410","v":0},null,408,0,1130,"X",null,{"$f":"CONCATENATE(referentes!W408,\"(\",referentes!T408,\")\")","v":"()"},{"$f":"referentes!S408","v":0}]
[null,null,null,null,null,null,null,null,null,null,null,null,null,null,null,null,null,{"$f":"IF(AND(#REF!<>\"\"    ),(#REF!),\"\")","v":{"$error":"#REF!"}},null,null,null,null,null,null,{"$f":"IF(AND(referentes!U411<>\"\",          referentes!U411<>96321,    referentes!U411<>96222            ),(referentes!W411),\"\")","v":""},{"$f":"referentes!S411","v":0},null,409,0,1130,"X",null,{"$f":"CONCATENATE(referentes!W409,\"(\",referentes!T409,\")\")","v":"()"},{"$f":"referentes!S409","v":0}]
[null,null,null,null,null,null,null,null,null,null,null,null,null,null,null,null,null,{"$f":"IF(AND(#REF!<>\"\"    ),(#REF!),\"\")","v":{"$error":"#REF!"}},null,null,null,null,null,null,{"$f":"IF(AND(referentes!U412<>\"\",          referentes!U412<>96321,    referentes!U412<>96222            ),(referentes!W412),\"\")","v":""},{"$f":"referentes!S412","v":0},null,410,0,1130,"X",null,{"$f":"CONCATENATE(referentes!W410,\"(\",referentes!T410,\")\")","v":"()"},{"$f":"referentes!S410","v":0}]
[null,null,null,null,null,null,null,null,null,null,null,null,null,null,null,null,null,{"$f":"IF(AND(#REF!<>\"\"    ),(#REF!),\"\")","v":{"$error":"#REF!"}},null,null,null,null,null,null,{"$f":"IF(AND(referentes!U413<>\"\",          referentes!U413<>96321,    referentes!U413<>96222            ),(referentes!W413),\"\")","v":""},{"$f":"referentes!S413","v":0},null,411,0,1130,"X",null,{"$f":"CONCATENATE(referentes!W411,\"(\",referentes!T411,\")\")","v":"()"},{"$f":"referentes!S411","v":0}]
[null,null,null,null,null,null,null,null,null,null,null,null,null,null,null,null,null,{"$f":"IF(AND(#REF!<>\"\"    ),(#REF!),\"\")","v":{"$error":"#REF!"}},null,null,null,null,null,null,{"$f":"IF(AND(referentes!U414<>\"\",          referentes!U414<>96321,    referentes!U414<>96222            ),(referentes!W414),\"\")","v":""},{"$f":"referentes!S414","v":0},null,412,0,1130,"X",null,{"$f":"CONCATENATE(referentes!W412,\"(\",referentes!T412,\")\")","v":"()"},{"$f":"referentes!S412","v":0}]
[null,null,null,null,null,null,null,null,null,null,null,null,null,null,null,null,null,{"$f":"IF(AND(#REF!<>\"\"    ),(#REF!),\"\")","v":{"$error":"#REF!"}},null,null,null,null,null,null,{"$f":"IF(AND(referentes!U415<>\"\",          referentes!U415<>96321,    referentes!U415<>96222            ),(referentes!W415),\"\")","v":""},{"$f":"referentes!S415","v":0},null,413,0,1130,"X",null,{"$f":"CONCATENATE(referentes!W413,\"(\",referentes!T413,\")\")","v":"()"},{"$f":"referentes!S413","v":0}]
[null,null,null,null,null,null,null,null,null,null,null,null,null,null,null,null,null,{"$f":"IF(AND(#REF!<>\"\"    ),(#REF!),\"\")","v":{"$error":"#REF!"}},null,null,null,null,null,null,{"$f":"IF(AND(referentes!U416<>\"\",          referentes!U416<>96321,    referentes!U416<>96222            ),(referentes!W416),\"\")","v":""},{"$f":"referentes!S416","v":0},null,414,0,1130,"X",null,{"$f":"CONCATENATE(referentes!W414,\"(\",referentes!T414,\")\")","v":"()"},{"$f":"referentes!S414","v":0}]
[null,null,null,null,null,null,null,null,null,null,null,null,null,null,null,null,null,{"$f":"IF(AND(#REF!<>\"\"    ),(#REF!),\"\")","v":{"$error":"#REF!"}},null,null,null,null,null,null,{"$f":"IF(AND(referentes!U417<>\"\",          referentes!U417<>96321,    referentes!U417<>96222            ),(referentes!W417),\"\")","v":""},{"$f":"referentes!S417","v":0},null,415,0,1130,"X",null,{"$f":"CONCATENATE(referentes!W415,\"(\",referentes!T415,\")\")","v":"()"},{"$f":"referentes!S415","v":0}]
[null,null,null,null,null,null,null,null,null,null,null,null,null,null,null,null,null,{"$f":"IF(AND(#REF!<>\"\"    ),(#REF!),\"\")","v":{"$error":"#REF!"}},null,null,null,null,null,null,{"$f":"IF(AND(referentes!U418<>\"\",          referentes!U418<>96321,    referentes!U418<>96222            ),(referentes!W418),\"\")","v":""},{"$f":"referentes!S418","v":0},null,416,0,1130,"X",null,{"$f":"CONCATENATE(referentes!W416,\"(\",referentes!T416,\")\")","v":"()"},{"$f":"referentes!S416","v":0}]
[null,null,null,null,null,null,null,null,null,null,null,null,null,null,null,null,null,{"$f":"IF(AND(#REF!<>\"\"    ),(#REF!),\"\")","v":{"$error":"#REF!"}},null,null,null,null,null,null,{"$f":"IF(AND(referentes!U419<>\"\",          referentes!U419<>96321,    referentes!U419<>96222            ),(referentes!W419),\"\")","v":""},{"$f":"referentes!S419","v":0},null,417,0,1130,"X",null,{"$f":"CONCATENATE(referentes!W417,\"(\",referentes!T417,\")\")","v":"()"},{"$f":"referentes!S417","v":0}]
[null,null,null,null,null,null,null,null,null,null,null,null,null,null,null,null,null,{"$f":"IF(AND(#REF!<>\"\"    ),(#REF!),\"\")","v":{"$error":"#REF!"}},null,null,null,null,null,null,{"$f":"IF(AND(referentes!U420<>\"\",          referentes!U420<>96321,    referentes!U420<>96222            ),(referentes!W420),\"\")","v":""},{"$f":"referentes!S420","v":0},null,418,0,1130,"X",null,{"$f":"CONCATENATE(referentes!W418,\"(\",referentes!T418,\")\")","v":"()"},{"$f":"referentes!S418","v":0}]
[null,null,null,null,null,null,null,null,null,null,null,null,null,null,null,null,null,{"$f":"IF(AND(#REF!<>\"\"    ),(#REF!),\"\")","v":{"$error":"#REF!"}},null,null,null,null,null,null,{"$f":"IF(AND(referentes!U421<>\"\",          referentes!U421<>96321,    referentes!U421<>96222            ),(referentes!W421),\"\")","v":""},{"$f":"referentes!S421","v":0},null,419,0,1130,"X",null,{"$f":"CONCATENATE(referentes!W419,\"(\",referentes!T419,\")\")","v":"()"},{"$f":"referentes!S419","v":0}]
[null,null,null,null,null,null,null,null,null,null,null,null,null,null,null,null,null,{"$f":"IF(AND(#REF!<>\"\"    ),(#REF!),\"\")","v":{"$error":"#REF!"}},null,null,null,null,null,null,{"$f":"IF(AND(referentes!U422<>\"\",          referentes!U422<>96321,    referentes!U422<>96222            ),(referentes!W422),\"\")","v":""},{"$f":"referentes!S422","v":0},null,420,0,1130,"X",null,{"$f":"CONCATENATE(referentes!W420,\"(\",referentes!T420,\")\")","v":"()"},{"$f":"referentes!S420","v":0}]
[null,null,null,null,null,null,null,null,null,null,null,null,null,null,null,null,null,{"$f":"IF(AND(#REF!<>\"\"    ),(#REF!),\"\")","v":{"$error":"#REF!"}},null,null,null,null,null,null,{"$f":"IF(AND(referentes!U423<>\"\",          referentes!U423<>96321,    referentes!U423<>96222            ),(referentes!W423),\"\")","v":""},{"$f":"referentes!S423","v":0},null,421,0,1130,"X",null,{"$f":"CONCATENATE(referentes!W421,\"(\",referentes!T421,\")\")","v":"()"},{"$f":"referentes!S421","v":0}]
[null,null,null,null,null,null,null,null,null,null,null,null,null,null,null,null,null,{"$f":"IF(AND(#REF!<>\"\"    ),(#REF!),\"\")","v":{"$error":"#REF!"}},null,null,null,null,null,null,{"$f":"IF(AND(referentes!U424<>\"\",          referentes!U424<>96321,    referentes!U424<>96222            ),(referentes!W424),\"\")","v":""},{"$f":"referentes!S424","v":0},null,422,0,1130,"X",null,{"$f":"CONCATENATE(referentes!W422,\"(\",referentes!T422,\")\")","v":"()"},{"$f":"referentes!S422","v":0}]
[null,null,null,null,null,null,null,null,null,null,null,null,null,null,null,null,null,{"$f":"IF(AND(#REF!<>\"\"    ),(#REF!),\"\")","v":{"$error":"#REF!"}},null,null,null,null,null,null,{"$f":"IF(AND(referentes!U425<>\"\",          referentes!U425<>96321,    referentes!U425<>96222            ),(referentes!W425),\"\")","v":""},{"$f":"referentes!S425","v":0},null,423,0,1130,"X",null,{"$f":"CONCATENATE(referentes!W423,\"(\",referentes!T423,\")\")","v":"()"},{"$f":"referentes!S423","v":0}]
[null,null,null,null,null,null,null,null,null,null,null,null,null,null,null,null,null,{"$f":"IF(AND(#REF!<>\"\"    ),(#REF!),\"\")","v":{"$error":"#REF!"}},null,null,null,null,null,null,{"$f":"IF(AND(referentes!U426<>\"\",          referentes!U426<>96321,    referentes!U426<>96222            ),(referentes!W426),\"\")","v":""},{"$f":"referentes!S426","v":0},null,424,0,1130,"X",null,{"$f":"CONCATENATE(referentes!W424,\"(\",referentes!T424,\")\")","v":"()"},{"$f":"referentes!S424","v":0}]
[null,null,null,null,null,null,null,null,null,null,null,null,null,null,null,null,null,{"$f":"IF(AND(#REF!<>\"\"    ),(#REF!),\"\")","v":{"$error":"#REF!"}},null,null,null,null,null,null,{"$f":"IF(AND(referentes!U427<>\"\",          referentes!U427<>96321,    referentes!U427<>96222            ),(referentes!W427),\"\")","v":""},{"$f":"referentes!S427","v":0},null,425,0,1130,"X",null,{"$f":"CONCATENATE(referentes!W425,\"(\",referentes!T425,\")\")","v":"()"},{"$f":"referentes!S425","v":0}]
[null,null,null,null,null,null,null,null,null,null,null,null,null,null,null,null,null,{"$f":"IF(AND(#REF!<>\"\"    ),(#REF!),\"\")","v":{"$error":"#REF!"}},null,null,null,null,null,null,{"$f":"IF(AND(referentes!U428<>\"\",          referentes!U428<>96321,    referentes!U428<>96222            ),(referentes!W428),\"\")","v":""},{"$f":"referentes!S428","v":0},null,426,0,1130,"X",null,{"$f":"CONCATENATE(referentes!W426,\"(\",referentes!T426,\")\")","v":"()"},{"$f":"referentes!S426","v":0}]
[null,null,null,null,null,null,null,null,null,null,null,null,null,null,null,null,null,{"$f":"IF(AND(#REF!<>\"\"    ),(#REF!),\"\")","v":{"$error":"#REF!"}},null,null,null,null,null,null,{"$f":"IF(AND(referentes!U429<>\"\",          referentes!U429<>96321,    referentes!U429<>96222            ),(referentes!W429),\"\")","v":""},{"$f":"referentes!S429","v":0},null,427,0,1130,"X",null,{"$f":"CONCATENATE(referentes!W427,\"(\",referentes!T427,\")\")","v":"()"},{"$f":"referentes!S427","v":0}]
[null,null,null,null,null,null,null,null,null,null,null,null,null,null,null,null,null,{"$f":"IF(AND(#REF!<>\"\"    ),(#REF!),\"\")","v":{"$error":"#REF!"}},null,null,null,null,null,null,{"$f":"IF(AND(referentes!U430<>\"\",          referentes!U430<>96321,    referentes!U430<>96222            ),(referentes!W430),\"\")","v":""},{"$f":"referentes!S430","v":0},null,428,0,1130,"X",null,{"$f":"CONCATENATE(referentes!W428,\"(\",referentes!T428,\")\")","v":"()"},{"$f":"referentes!S428","v":0}]
[null,null,null,null,null,null,null,null,null,null,null,null,null,null,null,null,null,{"$f":"IF(AND(#REF!<>\"\"    ),(#REF!),\"\")","v":{"$error":"#REF!"}},null,null,null,null,null,null,{"$f":"IF(AND(referentes!U431<>\"\",          referentes!U431<>96321,    referentes!U431<>96222            ),(referentes!W431),\"\")","v":""},{"$f":"referentes!S431","v":0},null,429,0,1130,"X",null,{"$f":"CONCATENATE(referentes!W429,\"(\",referentes!T429,\")\")","v":"()"},{"$f":"referentes!S429","v":0}]
[null,null,null,null,null,null,null,null,null,null,null,null,null,null,null,null,null,{"$f":"IF(AND(#REF!<>\"\"    ),(#REF!),\"\")","v":{"$error":"#REF!"}},null,null,null,null,null,null,{"$f":"IF(AND(referentes!U432<>\"\",          referentes!U432<>96321,    referentes!U432<>96222            ),(referentes!W432),\"\")","v":""},{"$f":"referentes!S432","v":0},null,430,0,1130,"X",null,{"$f":"CONCATENATE(referentes!W430,\"(\",referentes!T430,\")\")","v":"()"},{"$f":"referentes!S430","v":0}]
[null,null,null,null,null,null,null,null,null,null,null,null,null,null,null,null,null,{"$f":"IF(AND(#REF!<>\"\"    ),(#REF!),\"\")","v":{"$error":"#REF!"}},null,null,null,null,null,null,{"$f":"IF(AND(referentes!U433<>\"\",          referentes!U433<>96321,    referentes!U433<>96222            ),(referentes!W433),\"\")","v":""},{"$f":"referentes!S433","v":0},null,431,0,1130,"X",null,{"$f":"CONCATENATE(referentes!W431,\"(\",referentes!T431,\")\")","v":"()"},{"$f":"referentes!S431","v":0}]
[null,null,null,null,null,null,null,null,null,null,null,null,null,null,null,null,null,{"$f":"IF(AND(#REF!<>\"\"    ),(#REF!),\"\")","v":{"$error":"#REF!"}},null,null,null,null,null,null,{"$f":"IF(AND(referentes!U434<>\"\",          referentes!U434<>96321,    referentes!U434<>96222            ),(referentes!W434),\"\")","v":""},{"$f":"referentes!S434","v":0},null,432,0,1130,"X",null,{"$f":"CONCATENATE(referentes!W432,\"(\",referentes!T432,\")\")","v":"()"},{"$f":"referentes!S432","v":0}]
[null,null,null,null,null,null,null,null,null,null,null,null,null,null,null,null,null,{"$f":"IF(AND(#REF!<>\"\"    ),(#REF!),\"\")","v":{"$error":"#REF!"}},null,null,null,null,null,null,{"$f":"IF(AND(referentes!U435<>\"\",          referentes!U435<>96321,    referentes!U435<>96222            ),(referentes!W435),\"\")","v":""},{"$f":"referentes!S435","v":0},null,433,0,1130,"X",null,{"$f":"CONCATENATE(referentes!W433,\"(\",referentes!T433,\")\")","v":"()"},{"$f":"referentes!S433","v":0}]
[null,null,null,null,null,null,null,null,null,null,null,null,null,null,null,null,null,{"$f":"IF(AND(#REF!<>\"\"    ),(#REF!),\"\")","v":{"$error":"#REF!"}},null,null,null,null,null,null,{"$f":"IF(AND(referentes!U436<>\"\",          referentes!U436<>96321,    referentes!U436<>96222            ),(referentes!W436),\"\")","v":""},{"$f":"referentes!S436","v":0},null,434,0,1130,"X",null,{"$f":"CONCATENATE(referentes!W434,\"(\",referentes!T434,\")\")","v":"()"},{"$f":"referentes!S434","v":0}]
[null,null,null,null,null,null,null,null,null,null,null,null,null,null,null,null,null,{"$f":"IF(AND(#REF!<>\"\"    ),(#REF!),\"\")","v":{"$error":"#REF!"}},null,null,null,null,null,null,{"$f":"IF(AND(referentes!U437<>\"\",          referentes!U437<>96321,    referentes!U437<>96222            ),(referentes!W437),\"\")","v":""},{"$f":"referentes!S437","v":0},null,435,0,1130,"X",null,{"$f":"CONCATENATE(referentes!W435,\"(\",referentes!T435,\")\")","v":"()"},{"$f":"referentes!S435","v":0}]
[null,null,null,null,null,null,null,null,null,null,null,null,null,null,null,null,null,{"$f":"IF(AND(#REF!<>\"\"    ),(#REF!),\"\")","v":{"$error":"#REF!"}},null,null,null,null,null,null,{"$f":"IF(AND(referentes!U438<>\"\",          referentes!U438<>96321,    referentes!U438<>96222            ),(referentes!W438),\"\")","v":""},{"$f":"referentes!S438","v":0},null,436,0,1130,"X",null,{"$f":"CONCATENATE(referentes!W436,\"(\",referentes!T436,\")\")","v":"()"},{"$f":"referentes!S436","v":0}]
[null,null,null,null,null,null,null,null,null,null,null,null,null,null,null,null,null,{"$f":"IF(AND(#REF!<>\"\"    ),(#REF!),\"\")","v":{"$error":"#REF!"}},null,null,null,null,null,null,{"$f":"IF(AND(referentes!U439<>\"\",          referentes!U439<>96321,    referentes!U439<>96222            ),(referentes!W439),\"\")","v":""},{"$f":"referentes!S439","v":0},null,437,0,1130,"X",null,{"$f":"CONCATENATE(referentes!W437,\"(\",referentes!T437,\")\")","v":"()"},{"$f":"referentes!S437","v":0}]
[null,null,null,null,null,null,null,null,null,null,null,null,null,null,null,null,null,{"$f":"IF(AND(#REF!<>\"\"    ),(#REF!),\"\")","v":{"$error":"#REF!"}},null,null,null,null,null,null,{"$f":"IF(AND(referentes!U440<>\"\",          referentes!U440<>96321,    referentes!U440<>96222            ),(referentes!W440),\"\")","v":""},{"$f":"referentes!S440","v":0},null,438,0,1130,"X",null,{"$f":"CONCATENATE(referentes!W438,\"(\",referentes!T438,\")\")","v":"()"},{"$f":"referentes!S438","v":0}]
[null,null,null,null,null,null,null,null,null,null,null,null,null,null,null,null,null,{"$f":"IF(AND(#REF!<>\"\"    ),(#REF!),\"\")","v":{"$error":"#REF!"}},null,null,null,null,null,null,{"$f":"IF(AND(referentes!U441<>\"\",          referentes!U441<>96321,    referentes!U441<>96222            ),(referentes!W441),\"\")","v":""},{"$f":"referentes!S441","v":0},null,439,0,1130,"X",null,{"$f":"CONCATENATE(referentes!W439,\"(\",referentes!T439,\")\")","v":"()"},{"$f":"referentes!S439","v":0}]
[null,null,null,null,null,null,null,null,null,null,null,null,null,null,null,null,null,{"$f":"IF(AND(#REF!<>\"\"    ),(#REF!),\"\")","v":{"$error":"#REF!"}},null,null,null,null,null,null,{"$f":"IF(AND(referentes!U442<>\"\",          referentes!U442<>96321,    referentes!U442<>96222            ),(referentes!W442),\"\")","v":""},{"$f":"referentes!S442","v":0},null,440,0,1130,"X",null,{"$f":"CONCATENATE(referentes!W440,\"(\",referentes!T440,\")\")","v":"()"},{"$f":"referentes!S440","v":0}]
[null,null,null,null,null,null,null,null,null,null,null,null,null,null,null,null,null,{"$f":"IF(AND(#REF!<>\"\"    ),(#REF!),\"\")","v":{"$error":"#REF!"}},null,null,null,null,null,null,{"$f":"IF(AND(referentes!U443<>\"\",          referentes!U443<>96321,    referentes!U443<>96222            ),(referentes!W443),\"\")","v":""},{"$f":"referentes!S443","v":0},null,441,0,1130,"X",null,{"$f":"CONCATENATE(referentes!W441,\"(\",referentes!T441,\")\")","v":"()"},{"$f":"referentes!S441","v":0}]
[null,null,null,null,null,null,null,null,null,null,null,null,null,null,null,null,null,{"$f":"IF(AND(#REF!<>\"\"    ),(#REF!),\"\")","v":{"$error":"#REF!"}},null,null,null,null,null,null,{"$f":"IF(AND(referentes!U444<>\"\",          referentes!U444<>96321,    referentes!U444<>96222            ),(referentes!W444),\"\")","v":""},{"$f":"referentes!S444","v":0},null,442,0,1130,"X",null,{"$f":"CONCATENATE(referentes!W442,\"(\",referentes!T442,\")\")","v":"()"},{"$f":"referentes!S442","v":0}]
[null,null,null,null,null,null,null,null,null,null,null,null,null,null,null,null,null,{"$f":"IF(AND(#REF!<>\"\"    ),(#REF!),\"\")","v":{"$error":"#REF!"}},null,null,null,null,null,null,{"$f":"IF(AND(referentes!U445<>\"\",          referentes!U445<>96321,    referentes!U445<>96222            ),(referentes!W445),\"\")","v":""},{"$f":"referentes!S445","v":0},null,443,0,1130,"X",null,{"$f":"CONCATENATE(referentes!W443,\"(\",referentes!T443,\")\")","v":"()"},{"$f":"referentes!S443","v":0}]
[null,null,null,null,null,null,null,null,null,null,null,null,null,null,null,null,null,{"$f":"IF(AND(#REF!<>\"\"    ),(#REF!),\"\")","v":{"$error":"#REF!"}},null,null,null,null,null,null,{"$f":"IF(AND(referentes!U446<>\"\",          referentes!U446<>96321,    referentes!U446<>96222            ),(referentes!W446),\"\")","v":""},{"$f":"referentes!S446","v":0},null,444,0,1130,"X",null,{"$f":"CONCATENATE(referentes!W444,\"(\",referentes!T444,\")\")","v":"()"},{"$f":"referentes!S444","v":0}]
[null,null,null,null,null,null,null,null,null,null,null,null,null,null,null,null,null,{"$f":"IF(AND(#REF!<>\"\"    ),(#REF!),\"\")","v":{"$error":"#REF!"}},null,null,null,null,null,null,{"$f":"IF(AND(referentes!U447<>\"\",          referentes!U447<>96321,    referentes!U447<>96222            ),(referentes!W447),\"\")","v":""},{"$f":"referentes!S447","v":0},null,445,0,1130,"X",null,{"$f":"CONCATENATE(referentes!W445,\"(\",referentes!T445,\")\")","v":"()"},{"$f":"referentes!S445","v":0}]
[null,null,null,null,null,null,null,null,null,null,null,null,null,null,null,null,null,{"$f":"IF(AND(#REF!<>\"\"    ),(#REF!),\"\")","v":{"$error":"#REF!"}},null,null,null,null,null,null,{"$f":"IF(AND(referentes!U448<>\"\",          referentes!U448<>96321,    referentes!U448<>96222            ),(referentes!W448),\"\")","v":""},{"$f":"referentes!S448","v":0},null,446,0,1130,"X",null,{"$f":"CONCATENATE(referentes!W446,\"(\",referentes!T446,\")\")","v":"()"},{"$f":"referentes!S446","v":0}]
[null,null,null,null,null,null,null,null,null,null,null,null,null,null,null,null,null,{"$f":"IF(AND(#REF!<>\"\"    ),(#REF!),\"\")","v":{"$error":"#REF!"}},null,null,null,null,null,null,{"$f":"IF(AND(referentes!U449<>\"\",          referentes!U449<>96321,    referentes!U449<>96222            ),(referentes!W449),\"\")","v":""},{"$f":"referentes!S449","v":0},null,447,0,1130,"X",null,{"$f":"CONCATENATE(referentes!W447,\"(\",referentes!T447,\")\")","v":"()"},{"$f":"referentes!S447","v":0}]
[null,null,null,null,null,null,null,null,null,null,null,null,null,null,null,null,null,{"$f":"IF(AND(#REF!<>\"\"    ),(#REF!),\"\")","v":{"$error":"#REF!"}},null,null,null,null,null,null,{"$f":"IF(AND(referentes!U450<>\"\",          referentes!U450<>96321,    referentes!U450<>96222            ),(referentes!W450),\"\")","v":""},{"$f":"referentes!S450","v":0},null,448,0,1130,"X",null,{"$f":"CONCATENATE(referentes!W448,\"(\",referentes!T448,\")\")","v":"()"},{"$f":"referentes!S448","v":0}]
[null,null,null,null,null,null,null,null,null,null,null,null,null,null,null,null,null,{"$f":"IF(AND(#REF!<>\"\"    ),(#REF!),\"\")","v":{"$error":"#REF!"}},null,null,null,null,null,null,{"$f":"IF(AND(referentes!U451<>\"\",          referentes!U451<>96321,    referentes!U451<>96222            ),(referentes!W451),\"\")","v":""},{"$f":"referentes!S451","v":0},null,449,0,1130,"X",null,{"$f":"CONCATENATE(referentes!W449,\"(\",referentes!T449,\")\")","v":"()"},{"$f":"referentes!S449","v":0}]
[null,null,null,null,null,null,null,null,null,null,null,null,null,null,null,null,null,{"$f":"IF(AND(#REF!<>\"\"    ),(#REF!),\"\")","v":{"$error":"#REF!"}},null,null,null,null,null,null,{"$f":"IF(AND(referentes!U452<>\"\",          referentes!U452<>96321,    referentes!U452<>96222            ),(referentes!W452),\"\")","v":""},{"$f":"referentes!S452","v":0},null,450,{"$f":"IF(Y455=\"\",0,Y455)","v":0},{"$f":"IF(AC456=0,MAX($AB$7:$AB$1135)+1,AB456)","v":1130},{"$f":"IFERROR(VLOOKUP(SMALL($AD$7:$AD$1135,AB456),$AB$7:$AD$1135,2,FALSE),\"X\")","v":"X"},null,{"$f":"CONCATENATE(referentes!W450,\"(\",referentes!T450,\")\")","v":"()"},{"$f":"referentes!S450","v":0}]
[null,null,null,null,null,null,null,null,null,null,null,null,null,null,null,null,null,{"$f":"IF(AND(#REF!<>\"\"    ),(#REF!),\"\")","v":{"$error":"#REF!"}},null,null,null,null,null,null,{"$f":"IF(AND(referentes!U453<>\"\",          referentes!U453<>96321,    referentes!U453<>96222            ),(referentes!W453),\"\")","v":""},{"$f":"referentes!S453","v":0},null,451,0,1130,"X",null,{"$f":"CONCATENATE(referentes!W451,\"(\",referentes!T451,\")\")","v":"()"},{"$f":"referentes!S451","v":0}]
[null,null,null,null,null,null,null,null,null,null,null,null,null,null,null,null,null,{"$f":"IF(AND(#REF!<>\"\"    ),(#REF!),\"\")","v":{"$error":"#REF!"}},null,null,null,null,null,null,{"$f":"IF(AND(referentes!U454<>\"\",          referentes!U454<>96321,    referentes!U454<>96222            ),(referentes!W454),\"\")","v":""},{"$f":"referentes!S454","v":0},null,452,0,1130,"X",null,{"$f":"CONCATENATE(referentes!W452,\"(\",referentes!T452,\")\")","v":"()"},{"$f":"referentes!S452","v":0}]
[null,null,null,null,null,null,null,null,null,null,null,null,null,null,null,null,null,{"$f":"IF(AND(#REF!<>\"\"    ),(#REF!),\"\")","v":{"$error":"#REF!"}},null,null,null,null,null,null,{"$f":"IF(AND(referentes!U455<>\"\",          referentes!U455<>96321,    referentes!U455<>96222            ),(referentes!W455),\"\")","v":""},{"$f":"referentes!S455","v":0},null,453,0,1130,"X",null,{"$f":"CONCATENATE(referentes!W453,\"(\",referentes!T453,\")\")","v":"()"},{"$f":"referentes!S453","v":0}]
[null,null,null,null,null,null,null,null,null,null,null,null,null,null,null,null,null,{"$f":"IF(AND(#REF!<>\"\"    ),(#REF!),\"\")","v":{"$error":"#REF!"}},null,null,null,null,null,null,{"$f":"IF(AND(referentes!U456<>\"\",          referentes!U456<>96321,    referentes!U456<>96222            ),(referentes!W456),\"\")","v":""},{"$f":"referentes!S456","v":0},null,454,0,1130,"X",null,{"$f":"CONCATENATE(referentes!W454,\"(\",referentes!T454,\")\")","v":"()"},{"$f":"referentes!S454","v":0}]
[null,null,null,null,null,null,null,null,null,null,null,null,null,null,null,null,null,{"$f":"IF(AND(#REF!<>\"\"    ),(#REF!),\"\")","v":{"$error":"#REF!"}},null,null,null,null,null,null,{"$f":"IF(AND(referentes!U457<>\"\",          referentes!U457<>96321,    referentes!U457<>96222            ),(referentes!W457),\"\")","v":""},{"$f":"referentes!S457","v":0},null,455,0,1130,"X",null,{"$f":"CONCATENATE(referentes!W455,\"(\",referentes!T455,\")\")","v":"()"},{"$f":"referentes!S455","v":0}]
[null,null,null,null,null,null,null,null,null,null,null,null,null,null,null,null,null,{"$f":"IF(AND(#REF!<>\"\"    ),(#REF!),\"\")","v":{"$error":"#REF!"}},null,null,null,null,null,null,{"$f":"IF(AND(referentes!U458<>\"\",          referentes!U458<>96321,    referentes!U458<>96222            ),(referentes!W458),\"\")","v":""},{"$f":"referentes!S458","v":0},null,456,0,1130,"X",null,{"$f":"CONCATENATE(referentes!W456,\"(\",referentes!T456,\")\")","v":"()"},{"$f":"referentes!S456","v":0}]
[null,null,null,null,null,null,null,null,null,null,null,null,null,null,null,null,null,{"$f":"IF(AND(#REF!<>\"\"    ),(#REF!),\"\")","v":{"$error":"#REF!"}},null,null,null,null,null,null,{"$f":"IF(AND(referentes!U459<>\"\",          referentes!U459<>96321,    referentes!U459<>96222            ),(referentes!W459),\"\")","v":""},{"$f":"referentes!S459","v":0},null,457,0,1130,"X",null,{"$f":"CONCATENATE(referentes!W457,\"(\",referentes!T457,\")\")","v":"()"},{"$f":"referentes!S457","v":0}]
[null,null,null,null,null,null,null,null,null,null,null,null,null,null,null,null,null,{"$f":"IF(AND(#REF!<>\"\"    ),(#REF!),\"\")","v":{"$error":"#REF!"}},null,null,null,null,null,null,{"$f":"IF(AND(referentes!U460<>\"\",          referentes!U460<>96321,    referentes!U460<>96222            ),(referentes!W460),\"\")","v":""},{"$f":"referentes!S460","v":0},null,458,0,1130,"X",null,{"$f":"CONCATENATE(referentes!W458,\"(\",referentes!T458,\")\")","v":"()"},{"$f":"referentes!S458","v":0}]
[null,null,null,null,null,null,null,null,null,null,null,null,null,null,null,null,null,{"$f":"IF(AND(#REF!<>\"\"    ),(#REF!),\"\")","v":{"$error":"#REF!"}},null,null,null,null,null,null,{"$f":"IF(AND(referentes!U461<>\"\",          referentes!U461<>96321,    referentes!U461<>96222            ),(referentes!W461),\"\")","v":""},{"$f":"referentes!S461","v":0},null,459,0,1130,"X",null,{"$f":"CONCATENATE(referentes!W459,\"(\",referentes!T459,\")\")","v":"()"},{"$f":"referentes!S459","v":0}]
[null,null,null,null,null,null,null,null,null,null,null,null,null,null,null,null,null,{"$f":"IF(AND(#REF!<>\"\"    ),(#REF!),\"\")","v":{"$error":"#REF!"}},null,null,null,null,null,null,{"$f":"IF(AND(referentes!U462<>\"\",          referentes!U462<>96321,    referentes!U462<>96222            ),(referentes!W462),\"\")","v":""},{"$f":"referentes!S462","v":0},null,460,0,1130,"X",null,{"$f":"CONCATENATE(referentes!W460,\"(\",referentes!T460,\")\")","v":"()"},{"$f":"referentes!S460","v":0}]
[null,null,null,null,null,null,null,null,null,null,null,null,null,null,null,null,null,{"$f":"IF(AND(#REF!<>\"\"    ),(#REF!),\"\")","v":{"$error":"#REF!"}},null,null,null,null,null,null,{"$f":"IF(AND(referentes!U463<>\"\",          referentes!U463<>96321,    referentes!U463<>96222            ),(referentes!W463),\"\")","v":""},{"$f":"referentes!S463","v":0},null,461,0,1130,"X",null,{"$f":"CONCATENATE(referentes!W461,\"(\",referentes!T461,\")\")","v":"()"},{"$f":"referentes!S461","v":0}]
[null,null,null,null,null,null,null,null,null,null,null,null,null,null,null,null,null,{"$f":"IF(AND(#REF!<>\"\"    ),(#REF!),\"\")","v":{"$error":"#REF!"}},null,null,null,null,null,null,{"$f":"IF(AND(referentes!U464<>\"\",          referentes!U464<>96321,    referentes!U464<>96222            ),(referentes!W464),\"\")","v":""},{"$f":"referentes!S464","v":0},null,462,0,1130,"X",null,{"$f":"CONCATENATE(referentes!W462,\"(\",referentes!T462,\")\")","v":"()"},{"$f":"referentes!S462","v":0}]
[null,null,null,null,null,null,null,null,null,null,null,null,null,null,null,null,null,{"$f":"IF(AND(#REF!<>\"\"    ),(#REF!),\"\")","v":{"$error":"#REF!"}},null,null,null,null,null,null,{"$f":"IF(AND(referentes!U465<>\"\",          referentes!U465<>96321,    referentes!U465<>96222            ),(referentes!W465),\"\")","v":""},{"$f":"referentes!S465","v":0},null,463,0,1130,"X",null,{"$f":"CONCATENATE(referentes!W463,\"(\",referentes!T463,\")\")","v":"()"},{"$f":"referentes!S463","v":0}]
[null,null,null,null,null,null,null,null,null,null,null,null,null,null,null,null,null,{"$f":"IF(AND(#REF!<>\"\"    ),(#REF!),\"\")","v":{"$error":"#REF!"}},null,null,null,null,null,null,{"$f":"IF(AND(referentes!U466<>\"\",          referentes!U466<>96321,    referentes!U466<>96222            ),(referentes!W466),\"\")","v":""},{"$f":"referentes!S466","v":0},null,464,0,1130,"X",null,{"$f":"CONCATENATE(referentes!W464,\"(\",referentes!T464,\")\")","v":"()"},{"$f":"referentes!S464","v":0}]
[null,null,null,null,null,null,null,null,null,null,null,null,null,null,null,null,null,{"$f":"IF(AND(#REF!<>\"\"    ),(#REF!),\"\")","v":{"$error":"#REF!"}},null,null,null,null,null,null,{"$f":"IF(AND(referentes!U467<>\"\",          referentes!U467<>96321,    referentes!U467<>96222            ),(referentes!W467),\"\")","v":""},{"$f":"referentes!S467","v":0},null,465,0,1130,"X",null,{"$f":"CONCATENATE(referentes!W465,\"(\",referentes!T465,\")\")","v":"()"},{"$f":"referentes!S465","v":0}]
[null,null,null,null,null,null,null,null,null,null,null,null,null,null,null,null,null,{"$f":"IF(AND(#REF!<>\"\"    ),(#REF!),\"\")","v":{"$error":"#REF!"}},null,null,null,null,null,null,{"$f":"IF(AND(referentes!U468<>\"\",          referentes!U468<>96321,    referentes!U468<>96222            ),(referentes!W468),\"\")","v":""},{"$f":"referentes!S468","v":0},null,466,0,1130,"X",null,{"$f":"CONCATENATE(referentes!W466,\"(\",referentes!T466,\")\")","v":"()"},{"$f":"referentes!S466","v":0}]
[null,null,null,null,null,null,null,null,null,null,null,null,null,null,null,null,null,{"$f":"IF(AND(#REF!<>\"\"    ),(#REF!),\"\")","v":{"$error":"#REF!"}},null,null,null,null,null,null,{"$f":"IF(AND(referentes!U469<>\"\",          referentes!U469<>96321,    referentes!U469<>96222            ),(referentes!W469),\"\")","v":""},{"$f":"referentes!S469","v":0},null,467,0,1130,"X",null,{"$f":"CONCATENATE(referentes!W467,\"(\",referentes!T467,\")\")","v":"()"},{"$f":"referentes!S467","v":0}]
[null,null,null,null,null,null,null,null,null,null,null,null,null,null,null,null,null,{"$f":"IF(AND(#REF!<>\"\"    ),(#REF!),\"\")","v":{"$error":"#REF!"}},null,null,null,null,null,null,{"$f":"IF(AND(referentes!U470<>\"\",          referentes!U470<>96321,    referentes!U470<>96222            ),(referentes!W470),\"\")","v":""},{"$f":"referentes!S470","v":0},null,468,0,1130,"X",null,{"$f":"CONCATENATE(referentes!W468,\"(\",referentes!T468,\")\")","v":"()"},{"$f":"referentes!S468","v":0}]
[null,null,null,null,null,null,null,null,null,null,null,null,null,null,null,null,null,{"$f":"IF(AND(#REF!<>\"\"    ),(#REF!),\"\")","v":{"$error":"#REF!"}},null,null,null,null,null,null,{"$f":"IF(AND(referentes!U471<>\"\",          referentes!U471<>96321,    referentes!U471<>96222            ),(referentes!W471),\"\")","v":""},{"$f":"referentes!S471","v":0},null,469,0,1130,"X",null,{"$f":"CONCATENATE(referentes!W469,\"(\",referentes!T469,\")\")","v":"()"},{"$f":"referentes!S469","v":0}]
[null,null,null,null,null,null,null,null,null,null,null,null,null,null,null,null,null,{"$f":"IF(AND(#REF!<>\"\"    ),(#REF!),\"\")","v":{"$error":"#REF!"}},null,null,null,null,null,null,{"$f":"IF(AND(referentes!U472<>\"\",          referentes!U472<>96321,    referentes!U472<>96222            ),(referentes!W472),\"\")","v":""},{"$f":"referentes!S472","v":0},null,470,0,1130,"X",null,{"$f":"CONCATENATE(referentes!W470,\"(\",referentes!T470,\")\")","v":"()"},{"$f":"referentes!S470","v":0}]
[null,null,null,null,null,null,null,null,null,null,null,null,null,null,null,null,null,{"$f":"IF(AND(#REF!<>\"\"    ),(#REF!),\"\")","v":{"$error":"#REF!"}},null,null,null,null,null,null,{"$f":"IF(AND(referentes!U473<>\"\",          referentes!U473<>96321,    referentes!U473<>96222            ),(referentes!W473),\"\")","v":""},{"$f":"referentes!S473","v":0},null,471,0,1130,"X",null,{"$f":"CONCATENATE(referentes!W471,\"(\",referentes!T471,\")\")","v":"()"},{"$f":"referentes!S471","v":0}]
[null,null,null,null,null,null,null,null,null,null,null,null,null,null,null,null,null,{"$f":"IF(AND(#REF!<>\"\"    ),(#REF!),\"\")","v":{"$error":"#REF!"}},null,null,null,null,null,null,{"$f":"IF(AND(referentes!U474<>\"\",          referentes!U474<>96321,    referentes!U474<>96222            ),(referentes!W474),\"\")","v":""},{"$f":"referentes!S474","v":0},null,472,0,1130,"X",null,{"$f":"CONCATENATE(referentes!W472,\"(\",referentes!T472,\")\")","v":"()"},{"$f":"referentes!S472","v":0}]
[null,null,null,null,null,null,null,null,null,null,null,null,null,null,null,null,null,{"$f":"IF(AND(#REF!<>\"\"    ),(#REF!),\"\")","v":{"$error":"#REF!"}},null,null,null,null,null,null,{"$f":"IF(AND(referentes!U475<>\"\",          referentes!U475<>96321,    referentes!U475<>96222            ),(referentes!W475),\"\")","v":""},{"$f":"referentes!S475","v":0},null,473,0,1130,"X",null,{"$f":"CONCATENATE(referentes!W473,\"(\",referentes!T473,\")\")","v":"()"},{"$f":"referentes!S473","v":0}]
[null,null,null,null,null,null,null,null,null,null,null,null,null,null,null,null,null,{"$f":"IF(AND(#REF!<>\"\"    ),(#REF!),\"\")","v":{"$error":"#REF!"}},null,null,null,null,null,null,{"$f":"IF(AND(referentes!U476<>\"\",          referentes!U476<>96321,    referentes!U476<>96222            ),(referentes!W476),\"\")","v":""},{"$f":"referentes!S476","v":0},null,474,0,1130,"X",null,{"$f":"CONCATENATE(referentes!W474,\"(\",referentes!T474,\")\")","v":"()"},{"$f":"referentes!S474","v":0}]
[null,null,null,null,null,null,null,null,null,null,null,null,null,null,null,null,null,{"$f":"IF(AND(#REF!<>\"\"    ),(#REF!),\"\")","v":{"$error":"#REF!"}},null,null,null,null,null,null,{"$f":"IF(AND(referentes!U477<>\"\",          referentes!U477<>96321,    referentes!U477<>96222            ),(referentes!W477),\"\")","v":""},{"$f":"referentes!S477","v":0},null,475,0,1130,"X",null,{"$f":"CONCATENATE(referentes!W475,\"(\",referentes!T475,\")\")","v":"()"},{"$f":"referentes!S475","v":0}]
[null,null,null,null,null,null,null,null,null,null,null,null,null,null,null,null,null,{"$f":"IF(AND(#REF!<>\"\"    ),(#REF!),\"\")","v":{"$error":"#REF!"}},null,null,null,null,null,null,{"$f":"IF(AND(referentes!U478<>\"\",          referentes!U478<>96321,    referentes!U478<>96222            ),(referentes!W478),\"\")","v":""},{"$f":"referentes!S478","v":0},null,476,0,1130,"X",null,{"$f":"CONCATENATE(referentes!W476,\"(\",referentes!T476,\")\")","v":"()"},{"$f":"referentes!S476","v":0}]
[null,null,null,null,null,null,null,null,null,null,null,null,null,null,null,null,null,{"$f":"IF(AND(#REF!<>\"\"    ),(#REF!),\"\")","v":{"$error":"#REF!"}},null,null,null,null,null,null,{"$f":"IF(AND(referentes!U479<>\"\",          referentes!U479<>96321,    referentes!U479<>96222            ),(referentes!W479),\"\")","v":""},{"$f":"referentes!S479","v":0},null,477,0,1130,"X",null,{"$f":"CONCATENATE(referentes!W477,\"(\",referentes!T477,\")\")","v":"()"},{"$f":"referentes!S477","v":0}]
[null,null,null,null,null,null,null,null,null,null,null,null,null,null,null,null,null,{"$f":"IF(AND(#REF!<>\"\"    ),(#REF!),\"\")","v":{"$error":"#REF!"}},null,null,null,null,null,null,{"$f":"IF(AND(referentes!U480<>\"\",          referentes!U480<>96321,    referentes!U480<>96222            ),(referentes!W480),\"\")","v":""},{"$f":"referentes!S480","v":0},null,478,0,1130,"X",null,{"$f":"CONCATENATE(referentes!W478,\"(\",referentes!T478,\")\")","v":"()"},{"$f":"referentes!S478","v":0}]
[null,null,null,null,null,null,null,null,null,null,null,null,null,null,null,null,null,{"$f":"IF(AND(#REF!<>\"\"    ),(#REF!),\"\")","v":{"$error":"#REF!"}},null,null,null,null,null,null,{"$f":"IF(AND(referentes!U481<>\"\",          referentes!U481<>96321,    referentes!U481<>96222            ),(referentes!W481),\"\")","v":""},{"$f":"referentes!S481","v":0},null,479,0,1130,"X",null,{"$f":"CONCATENATE(referentes!W479,\"(\",referentes!T479,\")\")","v":"()"},{"$f":"referentes!S479","v":0}]
[null,null,null,null,null,null,null,null,null,null,null,null,null,null,null,null,null,{"$f":"IF(AND(#REF!<>\"\"    ),(#REF!),\"\")","v":{"$error":"#REF!"}},null,null,null,null,null,null,{"$f":"IF(AND(referentes!U482<>\"\",          referentes!U482<>96321,    referentes!U482<>96222            ),(referentes!W482),\"\")","v":""},{"$f":"referentes!S482","v":0},null,480,0,1130,"X",null,{"$f":"CONCATENATE(referentes!W480,\"(\",referentes!T480,\")\")","v":"()"},{"$f":"referentes!S480","v":0}]
[null,null,null,null,null,null,null,null,null,null,null,null,null,null,null,null,null,{"$f":"IF(AND(#REF!<>\"\"    ),(#REF!),\"\")","v":{"$error":"#REF!"}},null,null,null,null,null,null,{"$f":"IF(AND(referentes!U483<>\"\",          referentes!U483<>96321,    referentes!U483<>96222            ),(referentes!W483),\"\")","v":""},{"$f":"referentes!S483","v":0},null,481,0,1130,"X",null,{"$f":"CONCATENATE(referentes!W481,\"(\",referentes!T481,\")\")","v":"()"},{"$f":"referentes!S481","v":0}]
[null,null,null,null,null,null,null,null,null,null,null,null,null,null,null,null,null,{"$f":"IF(AND(#REF!<>\"\"    ),(#REF!),\"\")","v":{"$error":"#REF!"}},null,null,null,null,null,null,{"$f":"IF(AND(referentes!U484<>\"\",          referentes!U484<>96321,    referentes!U484<>96222            ),(referentes!W484),\"\")","v":""},{"$f":"referentes!S484","v":0},null,482,0,1130,"X",null,{"$f":"CONCATENATE(referentes!W482,\"(\",referentes!T482,\")\")","v":"()"},{"$f":"referentes!S482","v":0}]
[null,null,null,null,null,null,null,null,null,null,null,null,null,null,null,null,null,{"$f":"IF(AND(#REF!<>\"\"    ),(#REF!),\"\")","v":{"$error":"#REF!"}},null,null,null,null,null,null,{"$f":"IF(AND(referentes!U485<>\"\",          referentes!U485<>96321,    referentes!U485<>96222            ),(referentes!W485),\"\")","v":""},{"$f":"referentes!S485","v":0},null,483,0,1130,"X",null,{"$f":"CONCATENATE(referentes!W483,\"(\",referentes!T483,\")\")","v":"()"},{"$f":"referentes!S483","v":0}]
[null,null,null,null,null,null,null,null,null,null,null,null,null,null,null,null,null,{"$f":"IF(AND(#REF!<>\"\"    ),(#REF!),\"\")","v":{"$error":"#REF!"}},null,null,null,null,null,null,{"$f":"IF(AND(referentes!U486<>\"\",          referentes!U486<>96321,    referentes!U486<>96222            ),(referentes!W486),\"\")","v":""},{"$f":"referentes!S486","v":0},null,484,0,1130,"X",null,{"$f":"CONCATENATE(referentes!W484,\"(\",referentes!T484,\")\")","v":"()"},{"$f":"referentes!S484","v":0}]
[null,null,null,null,null,null,null,null,null,null,null,null,null,null,null,null,null,{"$f":"IF(AND(#REF!<>\"\"    ),(#REF!),\"\")","v":{"$error":"#REF!"}},null,null,null,null,null,null,{"$f":"IF(AND(referentes!U487<>\"\",          referentes!U487<>96321,    referentes!U487<>96222            ),(referentes!W487),\"\")","v":""},{"$f":"referentes!S487","v":0},null,485,0,1130,"X",null,{"$f":"CONCATENATE(referentes!W485,\"(\",referentes!T485,\")\")","v":"()"},{"$f":"referentes!S485","v":0}]
[null,null,null,null,null,null,null,null,null,null,null,null,null,null,null,null,null,{"$f":"IF(AND(#REF!<>\"\"    ),(#REF!),\"\")","v":{"$error":"#REF!"}},null,null,null,null,null,null,{"$f":"IF(AND(referentes!U488<>\"\",          referentes!U488<>96321,    referentes!U488<>96222            ),(referentes!W488),\"\")","v":""},{"$f":"referentes!S488","v":0},null,486,0,1130,"X",null,{"$f":"CONCATENATE(referentes!W486,\"(\",referentes!T486,\")\")","v":"()"},{"$f":"referentes!S486","v":0}]
[null,null,null,null,null,null,null,null,null,null,null,null,null,null,null,null,null,{"$f":"IF(AND(#REF!<>\"\"    ),(#REF!),\"\")","v":{"$error":"#REF!"}},null,null,null,null,null,null,{"$f":"IF(AND(referentes!U489<>\"\",          referentes!U489<>96321,    referentes!U489<>96222            ),(referentes!W489),\"\")","v":""},{"$f":"referentes!S489","v":0},null,487,0,1130,"X",null,{"$f":"CONCATENATE(referentes!W487,\"(\",referentes!T487,\")\")","v":"()"},{"$f":"referentes!S487","v":0}]
[null,null,null,null,null,null,null,null,null,null,null,null,null,null,null,null,null,{"$f":"IF(AND(#REF!<>\"\"    ),(#REF!),\"\")","v":{"$error":"#REF!"}},null,null,null,null,null,null,{"$f":"IF(AND(referentes!U490<>\"\",          referentes!U490<>96321,    referentes!U490<>96222            ),(referentes!W490),\"\")","v":""},{"$f":"referentes!S490","v":0},null,488,0,1130,"X",null,{"$f":"CONCATENATE(referentes!W488,\"(\",referentes!T488,\")\")","v":"()"},{"$f":"referentes!S488","v":0}]
[null,null,null,null,null,null,null,null,null,null,null,null,null,null,null,null,null,{"$f":"IF(AND(#REF!<>\"\"    ),(#REF!),\"\")","v":{"$error":"#REF!"}},null,null,null,null,null,null,{"$f":"IF(AND(referentes!U491<>\"\",          referentes!U491<>96321,    referentes!U491<>96222            ),(referentes!W491),\"\")","v":""},{"$f":"referentes!S491","v":0},null,489,0,1130,"X",null,{"$f":"CONCATENATE(referentes!W489,\"(\",referentes!T489,\")\")","v":"()"},{"$f":"referentes!S489","v":0}]
[null,null,null,null,null,null,null,null,null,null,null,null,null,null,null,null,null,{"$f":"IF(AND(#REF!<>\"\"    ),(#REF!),\"\")","v":{"$error":"#REF!"}},null,null,null,null,null,null,{"$f":"IF(AND(referentes!U492<>\"\",          referentes!U492<>96321,    referentes!U492<>96222            ),(referentes!W492),\"\")","v":""},{"$f":"referentes!S492","v":0},null,490,0,1130,"X",null,{"$f":"CONCATENATE(referentes!W490,\"(\",referentes!T490,\")\")","v":"()"},{"$f":"referentes!S490","v":0}]
[null,null,null,null,null,null,null,null,null,null,null,null,null,null,null,null,null,{"$f":"IF(AND(#REF!<>\"\"    ),(#REF!),\"\")","v":{"$error":"#REF!"}},null,null,null,null,null,null,{"$f":"IF(AND(referentes!U493<>\"\",          referentes!U493<>96321,    referentes!U493<>96222            ),(referentes!W493),\"\")","v":""},{"$f":"referentes!S493","v":0},null,491,0,1130,"X",null,{"$f":"CONCATENATE(referentes!W491,\"(\",referentes!T491,\")\")","v":"()"},{"$f":"referentes!S491","v":0}]
[null,null,null,null,null,null,null,null,null,null,null,null,null,null,null,null,null,{"$f":"IF(AND(#REF!<>\"\"    ),(#REF!),\"\")","v":{"$error":"#REF!"}},null,null,null,null,null,null,{"$f":"IF(AND(referentes!U494<>\"\",          referentes!U494<>96321,    referentes!U494<>96222            ),(referentes!W494),\"\")","v":""},{"$f":"referentes!S494","v":0},null,492,0,1130,"X",null,{"$f":"CONCATENATE(referentes!W492,\"(\",referentes!T492,\")\")","v":"()"},{"$f":"referentes!S492","v":0}]
[null,null,null,null,null,null,null,null,null,null,null,null,null,null,null,null,null,{"$f":"IF(AND(#REF!<>\"\"    ),(#REF!),\"\")","v":{"$error":"#REF!"}},null,null,null,null,null,null,{"$f":"IF(AND(referentes!U495<>\"\",          referentes!U495<>96321,    referentes!U495<>96222            ),(referentes!W495),\"\")","v":""},{"$f":"referentes!S495","v":0},null,493,0,1130,"X",null,{"$f":"CONCATENATE(referentes!W493,\"(\",referentes!T493,\")\")","v":"()"},{"$f":"referentes!S493","v":0}]
[null,null,null,null,null,null,null,null,null,null,null,null,null,null,null,null,null,{"$f":"IF(AND(#REF!<>\"\"    ),(#REF!),\"\")","v":{"$error":"#REF!"}},null,null,null,null,null,null,{"$f":"IF(AND(referentes!U496<>\"\",          referentes!U496<>96321,    referentes!U496<>96222            ),(referentes!W496),\"\")","v":""},{"$f":"referentes!S496","v":0},null,494,0,1130,"X",null,{"$f":"CONCATENATE(referentes!W494,\"(\",referentes!T494,\")\")","v":"()"},{"$f":"referentes!S494","v":0}]
[null,null,null,null,null,null,null,null,null,null,null,null,null,null,null,null,null,{"$f":"IF(AND(#REF!<>\"\"    ),(#REF!),\"\")","v":{"$error":"#REF!"}},null,null,null,null,null,null,{"$f":"IF(AND(referentes!U497<>\"\",          referentes!U497<>96321,    referentes!U497<>96222            ),(referentes!W497),\"\")","v":""},{"$f":"referentes!S497","v":0},null,495,0,1130,"X",null,{"$f":"CONCATENATE(referentes!W495,\"(\",referentes!T495,\")\")","v":"()"},{"$f":"referentes!S495","v":0}]
[null,null,null,null,null,null,null,null,null,null,null,null,null,null,null,null,null,{"$f":"IF(AND(#REF!<>\"\"    ),(#REF!),\"\")","v":{"$error":"#REF!"}},null,null,null,null,null,null,{"$f":"IF(AND(referentes!U498<>\"\",          referentes!U498<>96321,    referentes!U498<>96222            ),(referentes!W498),\"\")","v":""},{"$f":"referentes!S498","v":0},null,496,0,1130,"X",null,{"$f":"CONCATENATE(referentes!W496,\"(\",referentes!T496,\")\")","v":"()"},{"$f":"referentes!S496","v":0}]
[null,null,null,null,null,null,null,null,null,null,null,null,null,null,null,null,null,{"$f":"IF(AND(#REF!<>\"\"    ),(#REF!),\"\")","v":{"$error":"#REF!"}},null,null,null,null,null,null,{"$f":"IF(AND(referentes!U499<>\"\",          referentes!U499<>96321,    referentes!U499<>96222            ),(referentes!W499),\"\")","v":""},{"$f":"referentes!S499","v":0},null,497,0,1130,"X",null,{"$f":"CONCATENATE(referentes!W497,\"(\",referentes!T497,\")\")","v":"()"},{"$f":"referentes!S497","v":0}]
[null,null,null,null,null,null,null,null,null,null,null,null,null,null,null,null,null,{"$f":"IF(AND(#REF!<>\"\"    ),(#REF!),\"\")","v":{"$error":"#REF!"}},null,null,null,null,null,null,{"$f":"IF(AND(referentes!U500<>\"\",          referentes!U500<>96321,    referentes!U500<>96222            ),(referentes!W500),\"\")","v":""},{"$f":"referentes!S500","v":0},null,498,0,1130,"X",null,{"$f":"CONCATENATE(referentes!W498,\"(\",referentes!T498,\")\")","v":"()"},{"$f":"referentes!S498","v":0}]
[null,null,null,null,null,null,null,null,null,null,null,null,null,null,null,null,null,{"$f":"IF(AND(#REF!<>\"\"    ),(#REF!),\"\")","v":{"$error":"#REF!"}},null,null,null,null,null,null,{"$f":"IF(AND(referentes!U501<>\"\",          referentes!U501<>96321,    referentes!U501<>96222            ),(referentes!W501),\"\")","v":""},{"$f":"referentes!S501","v":0},null,499,0,1130,"X",null,{"$f":"CONCATENATE(referentes!W499,\"(\",referentes!T499,\")\")","v":"()"},{"$f":"referentes!S499","v":0}]
[null,null,null,null,null,null,null,null,null,null,null,null,null,null,null,null,null,{"$f":"IF(AND(#REF!<>\"\"    ),(#REF!),\"\")","v":{"$error":"#REF!"}},null,null,null,null,null,null,{"$f":"IF(AND(referentes!U502<>\"\",          referentes!U502<>96321,    referentes!U502<>96222            ),(referentes!W502),\"\")","v":""},{"$f":"referentes!S502","v":0},null,500,0,1130,"X",null,{"$f":"CONCATENATE(referentes!W500,\"(\",referentes!T500,\")\")","v":"()"},{"$f":"referentes!S500","v":0}]
[null,null,null,null,null,null,null,null,null,null,null,null,null,null,null,null,null,{"$f":"IF(AND(#REF!<>\"\"    ),(#REF!),\"\")","v":{"$error":"#REF!"}},null,null,null,null,null,null,{"$f":"IF(AND(referentes!U503<>\"\",          referentes!U503<>96321,    referentes!U503<>96222            ),(referentes!W503),\"\")","v":""},{"$f":"referentes!S503","v":0},null,501,0,1130,"X",null,{"$f":"CONCATENATE(referentes!W501,\"(\",referentes!T501,\")\")","v":"()"},{"$f":"referentes!S501","v":0}]
[null,null,null,null,null,null,null,null,null,null,null,null,null,null,null,null,null,{"$f":"IF(AND(#REF!<>\"\"    ),(#REF!),\"\")","v":{"$error":"#REF!"}},null,null,null,null,null,null,{"$f":"IF(AND(referentes!U504<>\"\",          referentes!U504<>96321,    referentes!U504<>96222            ),(referentes!W504),\"\")","v":""},{"$f":"referentes!S504","v":0},null,502,0,1130,"X",null,{"$f":"CONCATENATE(referentes!W502,\"(\",referentes!T502,\")\")","v":"()"},{"$f":"referentes!S502","v":0}]
[null,null,null,null,null,null,null,null,null,null,null,null,null,null,null,null,null,{"$f":"IF(AND(#REF!<>\"\"    ),(#REF!),\"\")","v":{"$error":"#REF!"}},null,null,null,null,null,null,{"$f":"IF(AND(referentes!U505<>\"\",          referentes!U505<>96321,    referentes!U505<>96222            ),(referentes!W505),\"\")","v":""},{"$f":"referentes!S505","v":0},null,503,0,1130,"X",null,{"$f":"CONCATENATE(referentes!W503,\"(\",referentes!T503,\")\")","v":"()"},{"$f":"referentes!S503","v":0}]
[null,null,null,null,null,null,null,null,null,null,null,null,null,null,null,null,null,{"$f":"IF(AND(#REF!<>\"\"    ),(#REF!),\"\")","v":{"$error":"#REF!"}},null,null,null,null,null,null,{"$f":"IF(AND(referentes!U506<>\"\",          referentes!U506<>96321,    referentes!U506<>96222            ),(referentes!W506),\"\")","v":""},{"$f":"referentes!S506","v":0},null,504,0,1130,"X",null,{"$f":"CONCATENATE(referentes!W504,\"(\",referentes!T504,\")\")","v":"()"},{"$f":"referentes!S504","v":0}]
[null,null,null,null,null,null,null,null,null,null,null,null,null,null,null,null,null,{"$f":"IF(AND(#REF!<>\"\"    ),(#REF!),\"\")","v":{"$error":"#REF!"}},null,null,null,null,null,null,{"$f":"IF(AND(referentes!U507<>\"\",          referentes!U507<>96321,    referentes!U507<>96222            ),(referentes!W507),\"\")","v":""},{"$f":"referentes!S507","v":0},null,505,0,1130,"X",null,{"$f":"CONCATENATE(referentes!W505,\"(\",referentes!T505,\")\")","v":"()"},{"$f":"referentes!S505","v":0}]
[null,null,null,null,null,null,null,null,null,null,null,null,null,null,null,null,null,{"$f":"IF(AND(#REF!<>\"\"    ),(#REF!),\"\")","v":{"$error":"#REF!"}},null,null,null,null,null,null,{"$f":"IF(AND(referentes!U508<>\"\",          referentes!U508<>96321,    referentes!U508<>96222            ),(referentes!W508),\"\")","v":""},{"$f":"referentes!S508","v":0},null,506,0,1130,"X",null,{"$f":"CONCATENATE(referentes!W506,\"(\",referentes!T506,\")\")","v":"()"},{"$f":"referentes!S506","v":0}]
[null,null,null,null,null,null,null,null,null,null,null,null,null,null,null,null,null,{"$f":"IF(AND(#REF!<>\"\"    ),(#REF!),\"\")","v":{"$error":"#REF!"}},null,null,null,null,null,null,{"$f":"IF(AND(referentes!U509<>\"\",          referentes!U509<>96321,    referentes!U509<>96222            ),(referentes!W509),\"\")","v":""},{"$f":"referentes!S509","v":0},null,507,0,1130,"X",null,{"$f":"CONCATENATE(referentes!W507,\"(\",referentes!T507,\")\")","v":"()"},{"$f":"referentes!S507","v":0}]
[null,null,null,null,null,null,null,null,null,null,null,null,null,null,null,null,null,{"$f":"IF(AND(#REF!<>\"\"    ),(#REF!),\"\")","v":{"$error":"#REF!"}},null,null,null,null,null,null,{"$f":"IF(AND(referentes!U510<>\"\",          referentes!U510<>96321,    referentes!U510<>96222            ),(referentes!W510),\"\")","v":""},{"$f":"referentes!S510","v":0},null,508,0,1130,"X",null,{"$f":"CONCATENATE(referentes!W508,\"(\",referentes!T508,\")\")","v":"()"},{"$f":"referentes!S508","v":0}]
[null,null,null,null,null,null,null,null,null,null,null,null,null,null,null,null,null,{"$f":"IF(AND(#REF!<>\"\"    ),(#REF!),\"\")","v":{"$error":"#REF!"}},null,null,null,null,null,null,{"$f":"IF(AND(referentes!U511<>\"\",          referentes!U511<>96321,    referentes!U511<>96222            ),(referentes!W511),\"\")","v":""},{"$f":"referentes!S511","v":0},null,509,0,1130,"X",null,{"$f":"CONCATENATE(referentes!W509,\"(\",referentes!T509,\")\")","v":"()"},{"$f":"referentes!S509","v":0}]
[null,null,null,null,null,null,null,null,null,null,null,null,null,null,null,null,null,{"$f":"IF(AND(#REF!<>\"\"    ),(#REF!),\"\")","v":{"$error":"#REF!"}},null,null,null,null,null,null,{"$f":"IF(AND(referentes!U512<>\"\",          referentes!U512<>96321,    referentes!U512<>96222            ),(referentes!W512),\"\")","v":""},{"$f":"referentes!S512","v":0},null,510,0,1130,"X",null,{"$f":"CONCATENATE(referentes!W510,\"(\",referentes!T510,\")\")","v":"()"},{"$f":"referentes!S510","v":0}]
[null,null,null,null,null,null,null,null,null,null,null,null,null,null,null,null,null,{"$f":"IF(AND(#REF!<>\"\"    ),(#REF!),\"\")","v":{"$error":"#REF!"}},null,null,null,null,null,null,{"$f":"IF(AND(referentes!U513<>\"\",          referentes!U513<>96321,    referentes!U513<>96222            ),(referentes!W513),\"\")","v":""},{"$f":"referentes!S513","v":0},null,511,0,1130,"X",null,{"$f":"CONCATENATE(referentes!W511,\"(\",referentes!T511,\")\")","v":"()"},{"$f":"referentes!S511","v":0}]
[null,null,null,null,null,null,null,null,null,null,null,null,null,null,null,null,null,{"$f":"IF(AND(#REF!<>\"\"    ),(#REF!),\"\")","v":{"$error":"#REF!"}},null,null,null,null,null,null,{"$f":"IF(AND(referentes!U514<>\"\",          referentes!U514<>96321,    referentes!U514<>96222            ),(referentes!W514),\"\")","v":""},{"$f":"referentes!S514","v":0},null,512,0,1130,"X",null,{"$f":"CONCATENATE(referentes!W512,\"(\",referentes!T512,\")\")","v":"()"},{"$f":"referentes!S512","v":0}]
[null,null,null,null,null,null,null,null,null,null,null,null,null,null,null,null,null,{"$f":"IF(AND(#REF!<>\"\"    ),(#REF!),\"\")","v":{"$error":"#REF!"}},null,null,null,null,null,null,{"$f":"IF(AND(referentes!U515<>\"\",          referentes!U515<>96321,    referentes!U515<>96222            ),(referentes!W515),\"\")","v":""},{"$f":"referentes!S515","v":0},null,513,0,1130,"X",null,{"$f":"CONCATENATE(referentes!W513,\"(\",referentes!T513,\")\")","v":"()"},{"$f":"referentes!S513","v":0}]
[null,null,null,null,null,null,null,null,null,null,null,null,null,null,null,null,null,{"$f":"IF(AND(#REF!<>\"\"    ),(#REF!),\"\")","v":{"$error":"#REF!"}},null,null,null,null,null,null,{"$f":"IF(AND(referentes!U516<>\"\",          referentes!U516<>96321,    referentes!U516<>96222            ),(referentes!W516),\"\")","v":""},{"$f":"referentes!S516","v":0},null,514,{"$f":"IF(Y519=\"\",0,Y519)","v":0},{"$f":"IF(AC520=0,MAX($AB$7:$AB$1135)+1,AB520)","v":1130},{"$f":"IFERROR(VLOOKUP(SMALL($AD$7:$AD$1135,AB520),$AB$7:$AD$1135,2,FALSE),\"X\")","v":"X"},null,{"$f":"CONCATENATE(referentes!W514,\"(\",referentes!T514,\")\")","v":"()"},{"$f":"referentes!S514","v":0}]
[null,null,null,null,null,null,null,null,null,null,null,null,null,null,null,null,null,{"$f":"IF(AND(#REF!<>\"\"    ),(#REF!),\"\")","v":{"$error":"#REF!"}},null,null,null,null,null,null,{"$f":"IF(AND(referentes!U517<>\"\",          referentes!U517<>96321,    referentes!U517<>96222            ),(referentes!W517),\"\")","v":""},{"$f":"referentes!S517","v":0},null,515,0,1130,"X",null,{"$f":"CONCATENATE(referentes!W515,\"(\",referentes!T515,\")\")","v":"()"},{"$f":"referentes!S515","v":0}]
[null,null,null,null,null,null,null,null,null,null,null,null,null,null,null,null,null,{"$f":"IF(AND(#REF!<>\"\"    ),(#REF!),\"\")","v":{"$error":"#REF!"}},null,null,null,null,null,null,{"$f":"IF(AND(referentes!U518<>\"\",          referentes!U518<>96321,    referentes!U518<>96222            ),(referentes!W518),\"\")","v":""},{"$f":"referentes!S518","v":0},null,516,0,1130,"X",null,{"$f":"CONCATENATE(referentes!W516,\"(\",referentes!T516,\")\")","v":"()"},{"$f":"referentes!S516","v":0}]
[null,null,null,null,null,null,null,null,null,null,null,null,null,null,null,null,null,{"$f":"IF(AND(#REF!<>\"\"    ),(#REF!),\"\")","v":{"$error":"#REF!"}},null,null,null,null,null,null,{"$f":"IF(AND(referentes!U519<>\"\",          referentes!U519<>96321,    referentes!U519<>96222            ),(referentes!W519),\"\")","v":""},{"$f":"referentes!S519","v":0},null,517,0,1130,"X",null,{"$f":"CONCATENATE(referentes!W517,\"(\",referentes!T517,\")\")","v":"()"},{"$f":"referentes!S517","v":0}]
[null,null,null,null,null,null,null,null,null,null,null,null,null,null,null,null,null,{"$f":"IF(AND(#REF!<>\"\"    ),(#REF!),\"\")","v":{"$error":"#REF!"}},null,null,null,null,null,null,{"$f":"IF(AND(referentes!U520<>\"\",          referentes!U520<>96321,    referentes!U520<>96222            ),(referentes!W520),\"\")","v":""},{"$f":"referentes!S520","v":0},null,518,0,1130,"X",null,{"$f":"CONCATENATE(referentes!W518,\"(\",referentes!T518,\")\")","v":"()"},{"$f":"referentes!S518","v":0}]
[null,null,null,null,null,null,null,null,null,null,null,null,null,null,null,null,null,{"$f":"IF(AND(#REF!<>\"\"    ),(#REF!),\"\")","v":{"$error":"#REF!"}},null,null,null,null,null,null,{"$f":"IF(AND(referentes!U521<>\"\",          referentes!U521<>96321,    referentes!U521<>96222            ),(referentes!W521),\"\")","v":""},{"$f":"referentes!S521","v":0},null,519,0,1130,"X",null,{"$f":"CONCATENATE(referentes!W519,\"(\",referentes!T519,\")\")","v":"()"},{"$f":"referentes!S519","v":0}]
[null,null,null,null,null,null,null,null,null,null,null,null,null,null,null,null,null,{"$f":"IF(AND(#REF!<>\"\"    ),(#REF!),\"\")","v":{"$error":"#REF!"}},null,null,null,null,null,null,{"$f":"IF(AND(referentes!U522<>\"\",          referentes!U522<>96321,    referentes!U522<>96222            ),(referentes!W522),\"\")","v":""},{"$f":"referentes!S522","v":0},null,520,0,1130,"X",null,{"$f":"CONCATENATE(referentes!W520,\"(\",referentes!T520,\")\")","v":"()"},{"$f":"referentes!S520","v":0}]
[null,null,null,null,null,null,null,null,null,null,null,null,null,null,null,null,null,{"$f":"IF(AND(#REF!<>\"\"    ),(#REF!),\"\")","v":{"$error":"#REF!"}},null,null,null,null,null,null,{"$f":"IF(AND(referentes!U523<>\"\",          referentes!U523<>96321,    referentes!U523<>96222            ),(referentes!W523),\"\")","v":""},{"$f":"referentes!S523","v":0},null,521,0,1130,"X",null,{"$f":"CONCATENATE(referentes!W521,\"(\",referentes!T521,\")\")","v":"()"},{"$f":"referentes!S521","v":0}]
[null,null,null,null,null,null,null,null,null,null,null,null,null,null,null,null,null,{"$f":"IF(AND(#REF!<>\"\"    ),(#REF!),\"\")","v":{"$error":"#REF!"}},null,null,null,null,null,null,{"$f":"IF(AND(referentes!U524<>\"\",          referentes!U524<>96321,    referentes!U524<>96222            ),(referentes!W524),\"\")","v":""},{"$f":"referentes!S524","v":0},null,522,0,1130,"X",null,{"$f":"CONCATENATE(referentes!W522,\"(\",referentes!T522,\")\")","v":"()"},{"$f":"referentes!S522","v":0}]
[null,null,null,null,null,null,null,null,null,null,null,null,null,null,null,null,null,{"$f":"IF(AND(#REF!<>\"\"    ),(#REF!),\"\")","v":{"$error":"#REF!"}},null,null,null,null,null,null,{"$f":"IF(AND(referentes!U525<>\"\",          referentes!U525<>96321,    referentes!U525<>96222            ),(referentes!W525),\"\")","v":""},{"$f":"referentes!S525","v":0},null,523,0,1130,"X",null,{"$f":"CONCATENATE(referentes!W523,\"(\",referentes!T523,\")\")","v":"()"},{"$f":"referentes!S523","v":0}]
[null,null,null,null,null,null,null,null,null,null,null,null,null,null,null,null,null,{"$f":"IF(AND(#REF!<>\"\"    ),(#REF!),\"\")","v":{"$error":"#REF!"}},null,null,null,null,null,null,{"$f":"IF(AND(referentes!U526<>\"\",          referentes!U526<>96321,    referentes!U526<>96222            ),(referentes!W526),\"\")","v":""},{"$f":"referentes!S526","v":0},null,524,0,1130,"X",null,{"$f":"CONCATENATE(referentes!W524,\"(\",referentes!T524,\")\")","v":"()"},{"$f":"referentes!S524","v":0}]
[null,null,null,null,null,null,null,null,null,null,null,null,null,null,null,null,null,{"$f":"IF(AND(#REF!<>\"\"    ),(#REF!),\"\")","v":{"$error":"#REF!"}},null,null,null,null,null,null,{"$f":"IF(AND(referentes!U527<>\"\",          referentes!U527<>96321,    referentes!U527<>96222            ),(referentes!W527),\"\")","v":""},{"$f":"referentes!S527","v":0},null,525,0,1130,"X",null,{"$f":"CONCATENATE(referentes!W525,\"(\",referentes!T525,\")\")","v":"()"},{"$f":"referentes!S525","v":0}]
[null,null,null,null,null,null,null,null,null,null,null,null,null,null,null,null,null,{"$f":"IF(AND(#REF!<>\"\"    ),(#REF!),\"\")","v":{"$error":"#REF!"}},null,null,null,null,null,null,{"$f":"IF(AND(referentes!U528<>\"\",          referentes!U528<>96321,    referentes!U528<>96222            ),(referentes!W528),\"\")","v":""},{"$f":"referentes!S528","v":0},null,526,0,1130,"X",null,{"$f":"CONCATENATE(referentes!W526,\"(\",referentes!T526,\")\")","v":"()"},{"$f":"referentes!S526","v":0}]
[null,null,null,null,null,null,null,null,null,null,null,null,null,null,null,null,null,{"$f":"IF(AND(#REF!<>\"\"    ),(#REF!),\"\")","v":{"$error":"#REF!"}},null,null,null,null,null,null,{"$f":"IF(AND(referentes!U529<>\"\",          referentes!U529<>96321,    referentes!U529<>96222            ),(referentes!W529),\"\")","v":""},{"$f":"referentes!S529","v":0},null,527,0,1130,"X",null,{"$f":"CONCATENATE(referentes!W527,\"(\",referentes!T527,\")\")","v":"()"},{"$f":"referentes!S527","v":0}]
[null,null,null,null,null,null,null,null,null,null,null,null,null,null,null,null,null,{"$f":"IF(AND(#REF!<>\"\"    ),(#REF!),\"\")","v":{"$error":"#REF!"}},null,null,null,null,null,null,{"$f":"IF(AND(referentes!U530<>\"\",          referentes!U530<>96321,    referentes!U530<>96222            ),(referentes!W530),\"\")","v":""},{"$f":"referentes!S530","v":0},null,528,0,1130,"X",null,{"$f":"CONCATENATE(referentes!W528,\"(\",referentes!T528,\")\")","v":"()"},{"$f":"referentes!S528","v":0}]
[null,null,null,null,null,null,null,null,null,null,null,null,null,null,null,null,null,{"$f":"IF(AND(#REF!<>\"\"    ),(#REF!),\"\")","v":{"$error":"#REF!"}},null,null,null,null,null,null,{"$f":"IF(AND(referentes!U531<>\"\",          referentes!U531<>96321,    referentes!U531<>96222            ),(referentes!W531),\"\")","v":""},{"$f":"referentes!S531","v":0},null,529,0,1130,"X",null,{"$f":"CONCATENATE(referentes!W529,\"(\",referentes!T529,\")\")","v":"()"},{"$f":"referentes!S529","v":0}]
[null,null,null,null,null,null,null,null,null,null,null,null,null,null,null,null,null,{"$f":"IF(AND(#REF!<>\"\"    ),(#REF!),\"\")","v":{"$error":"#REF!"}},null,null,null,null,null,null,{"$f":"IF(AND(referentes!U532<>\"\",          referentes!U532<>96321,    referentes!U532<>96222            ),(referentes!W532),\"\")","v":""},{"$f":"referentes!S532","v":0},null,530,0,1130,"X",null,{"$f":"CONCATENATE(referentes!W530,\"(\",referentes!T530,\")\")","v":"()"},{"$f":"referentes!S530","v":0}]
[null,null,null,null,null,null,null,null,null,null,null,null,null,null,null,null,null,{"$f":"IF(AND(#REF!<>\"\"    ),(#REF!),\"\")","v":{"$error":"#REF!"}},null,null,null,null,null,null,{"$f":"IF(AND(referentes!U533<>\"\",          referentes!U533<>96321,    referentes!U533<>96222            ),(referentes!W533),\"\")","v":""},{"$f":"referentes!S533","v":0},null,531,0,1130,"X",null,{"$f":"CONCATENATE(referentes!W531,\"(\",referentes!T531,\")\")","v":"()"},{"$f":"referentes!S531","v":0}]
[null,null,null,null,null,null,null,null,null,null,null,null,null,null,null,null,null,{"$f":"IF(AND(#REF!<>\"\"    ),(#REF!),\"\")","v":{"$error":"#REF!"}},null,null,null,null,null,null,{"$f":"IF(AND(referentes!U534<>\"\",          referentes!U534<>96321,    referentes!U534<>96222            ),(referentes!W534),\"\")","v":""},{"$f":"referentes!S534","v":0},null,532,0,1130,"X",null,{"$f":"CONCATENATE(referentes!W532,\"(\",referentes!T532,\")\")","v":"()"},{"$f":"referentes!S532","v":0}]
[null,null,null,null,null,null,null,null,null,null,null,null,null,null,null,null,null,{"$f":"IF(AND(#REF!<>\"\"    ),(#REF!),\"\")","v":{"$error":"#REF!"}},null,null,null,null,null,null,{"$f":"IF(AND(referentes!U535<>\"\",          referentes!U535<>96321,    referentes!U535<>96222            ),(referentes!W535),\"\")","v":""},{"$f":"referentes!S535","v":0},null,533,0,1130,"X",null,{"$f":"CONCATENATE(referentes!W533,\"(\",referentes!T533,\")\")","v":"()"},{"$f":"referentes!S533","v":0}]
[null,null,null,null,null,null,null,null,null,null,null,null,null,null,null,null,null,{"$f":"IF(AND(#REF!<>\"\"    ),(#REF!),\"\")","v":{"$error":"#REF!"}},null,null,null,null,null,null,{"$f":"IF(AND(referentes!U536<>\"\",          referentes!U536<>96321,    referentes!U536<>96222            ),(referentes!W536),\"\")","v":""},{"$f":"referentes!S536","v":0},null,534,0,1130,"X",null,{"$f":"CONCATENATE(referentes!W534,\"(\",referentes!T534,\")\")","v":"()"},{"$f":"referentes!S534","v":0}]
[null,null,null,null,null,null,null,null,null,null,null,null,null,null,null,null,null,{"$f":"IF(AND(#REF!<>\"\"    ),(#REF!),\"\")","v":{"$error":"#REF!"}},null,null,null,null,null,null,{"$f":"IF(AND(referentes!U537<>\"\",          referentes!U537<>96321,    referentes!U537<>96222            ),(referentes!W537),\"\")","v":""},{"$f":"referentes!S537","v":0},null,535,0,1130,"X",null,{"$f":"CONCATENATE(referentes!W535,\"(\",referentes!T535,\")\")","v":"()"},{"$f":"referentes!S535","v":0}]
[null,null,null,null,null,null,null,null,null,null,null,null,null,null,null,null,null,{"$f":"IF(AND(#REF!<>\"\"    ),(#REF!),\"\")","v":{"$error":"#REF!"}},null,null,null,null,null,null,{"$f":"IF(AND(referentes!U538<>\"\",          referentes!U538<>96321,    referentes!U538<>96222            ),(referentes!W538),\"\")","v":""},{"$f":"referentes!S538","v":0},null,536,0,1130,"X",null,{"$f":"CONCATENATE(referentes!W536,\"(\",referentes!T536,\")\")","v":"()"},{"$f":"referentes!S536","v":0}]
[null,null,null,null,null,null,null,null,null,null,null,null,null,null,null,null,null,{"$f":"IF(AND(#REF!<>\"\"    ),(#REF!),\"\")","v":{"$error":"#REF!"}},null,null,null,null,null,null,{"$f":"IF(AND(referentes!U539<>\"\",          referentes!U539<>96321,    referentes!U539<>96222            ),(referentes!W539),\"\")","v":""},{"$f":"referentes!S539","v":0},null,537,0,1130,"X",null,{"$f":"CONCATENATE(referentes!W537,\"(\",referentes!T537,\")\")","v":"()"},{"$f":"referentes!S537","v":0}]
[null,null,null,null,null,null,null,null,null,null,null,null,null,null,null,null,null,{"$f":"IF(AND(#REF!<>\"\"    ),(#REF!),\"\")","v":{"$error":"#REF!"}},null,null,null,null,null,null,{"$f":"IF(AND(referentes!U540<>\"\",          referentes!U540<>96321,    referentes!U540<>96222            ),(referentes!W540),\"\")","v":""},{"$f":"referentes!S540","v":0},null,538,0,1130,"X",null,{"$f":"CONCATENATE(referentes!W538,\"(\",referentes!T538,\")\")","v":"()"},{"$f":"referentes!S538","v":0}]
[null,null,null,null,null,null,null,null,null,null,null,null,null,null,null,null,null,{"$f":"IF(AND(#REF!<>\"\"    ),(#REF!),\"\")","v":{"$error":"#REF!"}},null,null,null,null,null,null,{"$f":"IF(AND(referentes!U541<>\"\",          referentes!U541<>96321,    referentes!U541<>96222            ),(referentes!W541),\"\")","v":""},{"$f":"referentes!S541","v":0},null,539,0,1130,"X",null,{"$f":"CONCATENATE(referentes!W539,\"(\",referentes!T539,\")\")","v":"()"},{"$f":"referentes!S539","v":0}]
[null,null,null,null,null,null,null,null,null,null,null,null,null,null,null,null,null,{"$f":"IF(AND(#REF!<>\"\"    ),(#REF!),\"\")","v":{"$error":"#REF!"}},null,null,null,null,null,null,{"$f":"IF(AND(referentes!U542<>\"\",          referentes!U542<>96321,    referentes!U542<>96222            ),(referentes!W542),\"\")","v":""},{"$f":"referentes!S542","v":0},null,540,0,1130,"X",null,{"$f":"CONCATENATE(referentes!W540,\"(\",referentes!T540,\")\")","v":"()"},{"$f":"referentes!S540","v":0}]
[null,null,null,null,null,null,null,null,null,null,null,null,null,null,null,null,null,{"$f":"IF(AND(#REF!<>\"\"    ),(#REF!),\"\")","v":{"$error":"#REF!"}},null,null,null,null,null,null,{"$f":"IF(AND(referentes!U543<>\"\",          referentes!U543<>96321,    referentes!U543<>96222            ),(referentes!W543),\"\")","v":""},{"$f":"referentes!S543","v":0},null,541,0,1130,"X",null,{"$f":"CONCATENATE(referentes!W541,\"(\",referentes!T541,\")\")","v":"()"},{"$f":"referentes!S541","v":0}]
[null,null,null,null,null,null,null,null,null,null,null,null,null,null,null,null,null,{"$f":"IF(AND(#REF!<>\"\"    ),(#REF!),\"\")","v":{"$error":"#REF!"}},null,null,null,null,null,null,{"$f":"IF(AND(referentes!U544<>\"\",          referentes!U544<>96321,    referentes!U544<>96222            ),(referentes!W544),\"\")","v":""},{"$f":"referentes!S544","v":0},null,542,0,1130,"X",null,{"$f":"CONCATENATE(referentes!W542,\"(\",referentes!T542,\")\")","v":"()"},{"$f":"referentes!S542","v":0}]
[null,null,null,null,null,null,null,null,null,null,null,null,null,null,null,null,null,{"$f":"IF(AND(#REF!<>\"\"    ),(#REF!),\"\")","v":{"$error":"#REF!"}},null,null,null,null,null,null,{"$f":"IF(AND(referentes!U545<>\"\",          referentes!U545<>96321,    referentes!U545<>96222            ),(referentes!W545),\"\")","v":""},{"$f":"referentes!S545","v":0},null,543,0,1130,"X",null,{"$f":"CONCATENATE(referentes!W543,\"(\",referentes!T543,\")\")","v":"()"},{"$f":"referentes!S543","v":0}]
[null,null,null,null,null,null,null,null,null,null,null,null,null,null,null,null,null,{"$f":"IF(AND(#REF!<>\"\"    ),(#REF!),\"\")","v":{"$error":"#REF!"}},null,null,null,null,null,null,{"$f":"IF(AND(referentes!U546<>\"\",          referentes!U546<>96321,    referentes!U546<>96222            ),(referentes!W546),\"\")","v":""},{"$f":"referentes!S546","v":0},null,544,0,1130,"X",null,{"$f":"CONCATENATE(referentes!W544,\"(\",referentes!T544,\")\")","v":"()"},{"$f":"referentes!S544","v":0}]
[null,null,null,null,null,null,null,null,null,null,null,null,null,null,null,null,null,{"$f":"IF(AND(#REF!<>\"\"    ),(#REF!),\"\")","v":{"$error":"#REF!"}},null,null,null,null,null,null,{"$f":"IF(AND(referentes!U547<>\"\",          referentes!U547<>96321,    referentes!U547<>96222            ),(referentes!W547),\"\")","v":""},{"$f":"referentes!S547","v":0},null,545,0,1130,"X",null,{"$f":"CONCATENATE(referentes!W545,\"(\",referentes!T545,\")\")","v":"()"},{"$f":"referentes!S545","v":0}]
[null,null,null,null,null,null,null,null,null,null,null,null,null,null,null,null,null,{"$f":"IF(AND(#REF!<>\"\"    ),(#REF!),\"\")","v":{"$error":"#REF!"}},null,null,null,null,null,null,{"$f":"IF(AND(referentes!U548<>\"\",          referentes!U548<>96321,    referentes!U548<>96222            ),(referentes!W548),\"\")","v":""},{"$f":"referentes!S548","v":0},null,546,0,1130,"X",null,{"$f":"CONCATENATE(referentes!W546,\"(\",referentes!T546,\")\")","v":"()"},{"$f":"referentes!S546","v":0}]
[null,null,null,null,null,null,null,null,null,null,null,null,null,null,null,null,null,{"$f":"IF(AND(#REF!<>\"\"    ),(#REF!),\"\")","v":{"$error":"#REF!"}},null,null,null,null,null,null,{"$f":"IF(AND(referentes!U549<>\"\",          referentes!U549<>96321,    referentes!U549<>96222            ),(referentes!W549),\"\")","v":""},{"$f":"referentes!S549","v":0},null,547,0,1130,"X",null,{"$f":"CONCATENATE(referentes!W547,\"(\",referentes!T547,\")\")","v":"()"},{"$f":"referentes!S547","v":0}]
[null,null,null,null,null,null,null,null,null,null,null,null,null,null,null,null,null,{"$f":"IF(AND(#REF!<>\"\"    ),(#REF!),\"\")","v":{"$error":"#REF!"}},null,null,null,null,null,null,{"$f":"IF(AND(referentes!U550<>\"\",          referentes!U550<>96321,    referentes!U550<>96222            ),(referentes!W550),\"\")","v":""},{"$f":"referentes!S550","v":0},null,548,0,1130,"X",null,{"$f":"CONCATENATE(referentes!W548,\"(\",referentes!T548,\")\")","v":"()"},{"$f":"referentes!S548","v":0}]
[null,null,null,null,null,null,null,null,null,null,null,null,null,null,null,null,null,{"$f":"IF(AND(#REF!<>\"\"    ),(#REF!),\"\")","v":{"$error":"#REF!"}},null,null,null,null,null,null,{"$f":"IF(AND(referentes!U551<>\"\",          referentes!U551<>96321,    referentes!U551<>96222            ),(referentes!W551),\"\")","v":""},{"$f":"referentes!S551","v":0},null,549,0,1130,"X",null,{"$f":"CONCATENATE(referentes!W549,\"(\",referentes!T549,\")\")","v":"()"},{"$f":"referentes!S549","v":0}]
[null,null,null,null,null,null,null,null,null,null,null,null,null,null,null,null,null,{"$f":"IF(AND(#REF!<>\"\"    ),(#REF!),\"\")","v":{"$error":"#REF!"}},null,null,null,null,null,null,{"$f":"IF(AND(referentes!U552<>\"\",          referentes!U552<>96321,    referentes!U552<>96222            ),(referentes!W552),\"\")","v":""},{"$f":"referentes!S552","v":0},null,550,0,1130,"X",null,{"$f":"CONCATENATE(referentes!W550,\"(\",referentes!T550,\")\")","v":"()"},{"$f":"referentes!S550","v":0}]
[null,null,null,null,null,null,null,null,null,null,null,null,null,null,null,null,null,{"$f":"IF(AND(#REF!<>\"\"    ),(#REF!),\"\")","v":{"$error":"#REF!"}},null,null,null,null,null,null,{"$f":"IF(AND(referentes!U553<>\"\",          referentes!U553<>96321,    referentes!U553<>96222            ),(referentes!W553),\"\")","v":""},{"$f":"referentes!S553","v":0},null,551,0,1130,"X",null,{"$f":"CONCATENATE(referentes!W551,\"(\",referentes!T551,\")\")","v":"()"},{"$f":"referentes!S551","v":0}]
[null,null,null,null,null,null,null,null,null,null,null,null,null,null,null,null,null,{"$f":"IF(AND(#REF!<>\"\"    ),(#REF!),\"\")","v":{"$error":"#REF!"}},null,null,null,null,null,null,{"$f":"IF(AND(referentes!U554<>\"\",          referentes!U554<>96321,    referentes!U554<>96222            ),(referentes!W554),\"\")","v":""},{"$f":"referentes!S554","v":0},null,552,0,1130,"X",null,{"$f":"CONCATENATE(referentes!W552,\"(\",referentes!T552,\")\")","v":"()"},{"$f":"referentes!S552","v":0}]
[null,null,null,null,null,null,null,null,null,null,null,null,null,null,null,null,null,{"$f":"IF(AND(#REF!<>\"\"    ),(#REF!),\"\")","v":{"$error":"#REF!"}},null,null,null,null,null,null,{"$f":"IF(AND(referentes!U555<>\"\",          referentes!U555<>96321,    referentes!U555<>96222            ),(referentes!W555),\"\")","v":""},{"$f":"referentes!S555","v":0},null,553,0,1130,"X",null,{"$f":"CONCATENATE(referentes!W553,\"(\",referentes!T553,\")\")","v":"()"},{"$f":"referentes!S553","v":0}]
[null,null,null,null,null,null,null,null,null,null,null,null,null,null,null,null,null,{"$f":"IF(AND(#REF!<>\"\"    ),(#REF!),\"\")","v":{"$error":"#REF!"}},null,null,null,null,null,null,{"$f":"IF(AND(referentes!U556<>\"\",          referentes!U556<>96321,    referentes!U556<>96222            ),(referentes!W556),\"\")","v":""},{"$f":"referentes!S556","v":0},null,554,0,1130,"X",null,{"$f":"CONCATENATE(referentes!W554,\"(\",referentes!T554,\")\")","v":"()"},{"$f":"referentes!S554","v":0}]
[null,null,null,null,null,null,null,null,null,null,null,null,null,null,null,null,null,{"$f":"IF(AND(#REF!<>\"\"    ),(#REF!),\"\")","v":{"$error":"#REF!"}},null,null,null,null,null,null,{"$f":"IF(AND(referentes!U557<>\"\",          referentes!U557<>96321,    referentes!U557<>96222            ),(referentes!W557),\"\")","v":""},{"$f":"referentes!S557","v":0},null,555,0,1130,"X",null,{"$f":"CONCATENATE(referentes!W555,\"(\",referentes!T555,\")\")","v":"()"},{"$f":"referentes!S555","v":0}]
[null,null,null,null,null,null,null,null,null,null,null,null,null,null,null,null,null,{"$f":"IF(AND(#REF!<>\"\"    ),(#REF!),\"\")","v":{"$error":"#REF!"}},null,null,null,null,null,null,{"$f":"IF(AND(referentes!U558<>\"\",          referentes!U558<>96321,    referentes!U558<>96222            ),(referentes!W558),\"\")","v":""},{"$f":"referentes!S558","v":0},null,556,0,1130,"X",null,{"$f":"CONCATENATE(referentes!W556,\"(\",referentes!T556,\")\")","v":"()"},{"$f":"referentes!S556","v":0}]
[null,null,null,null,null,null,null,null,null,null,null,null,null,null,null,null,null,{"$f":"IF(AND(#REF!<>\"\"    ),(#REF!),\"\")","v":{"$error":"#REF!"}},null,null,null,null,null,null,{"$f":"IF(AND(referentes!U559<>\"\",          referentes!U559<>96321,    referentes!U559<>96222            ),(referentes!W559),\"\")","v":""},{"$f":"referentes!S559","v":0},null,557,0,1130,"X",null,{"$f":"CONCATENATE(referentes!W557,\"(\",referentes!T557,\")\")","v":"()"},{"$f":"referentes!S557","v":0}]
[null,null,null,null,null,null,null,null,null,null,null,null,null,null,null,null,null,{"$f":"IF(AND(#REF!<>\"\"    ),(#REF!),\"\")","v":{"$error":"#REF!"}},null,null,null,null,null,null,{"$f":"IF(AND(referentes!U560<>\"\",          referentes!U560<>96321,    referentes!U560<>96222            ),(referentes!W560),\"\")","v":""},{"$f":"referentes!S560","v":0},null,558,0,1130,"X",null,{"$f":"CONCATENATE(referentes!W558,\"(\",referentes!T558,\")\")","v":"()"},{"$f":"referentes!S558","v":0}]
[null,null,null,null,null,null,null,null,null,null,null,null,null,null,null,null,null,{"$f":"IF(AND(#REF!<>\"\"    ),(#REF!),\"\")","v":{"$error":"#REF!"}},null,null,null,null,null,null,{"$f":"IF(AND(referentes!U561<>\"\",          referentes!U561<>96321,    referentes!U561<>96222            ),(referentes!W561),\"\")","v":""},{"$f":"referentes!S561","v":0},null,559,0,1130,"X",null,{"$f":"CONCATENATE(referentes!W559,\"(\",referentes!T559,\")\")","v":"()"},{"$f":"referentes!S559","v":0}]
[null,null,null,null,null,null,null,null,null,null,null,null,null,null,null,null,null,{"$f":"IF(AND(#REF!<>\"\"    ),(#REF!),\"\")","v":{"$error":"#REF!"}},null,null,null,null,null,null,{"$f":"IF(AND(referentes!U562<>\"\",          referentes!U562<>96321,    referentes!U562<>96222            ),(referentes!W562),\"\")","v":""},{"$f":"referentes!S562","v":0},null,560,0,1130,"X",null,{"$f":"CONCATENATE(referentes!W560,\"(\",referentes!T560,\")\")","v":"()"},{"$f":"referentes!S560","v":0}]
[null,null,null,null,null,null,null,null,null,null,null,null,null,null,null,null,null,{"$f":"IF(AND(#REF!<>\"\"    ),(#REF!),\"\")","v":{"$error":"#REF!"}},null,null,null,null,null,null,{"$f":"IF(AND(referentes!U563<>\"\",          referentes!U563<>96321,    referentes!U563<>96222            ),(referentes!W563),\"\")","v":""},{"$f":"referentes!S563","v":0},null,561,0,1130,"X",null,{"$f":"CONCATENATE(referentes!W561,\"(\",referentes!T561,\")\")","v":"()"},{"$f":"referentes!S561","v":0}]
[null,null,null,null,null,null,null,null,null,null,null,null,null,null,null,null,null,{"$f":"IF(AND(#REF!<>\"\"    ),(#REF!),\"\")","v":{"$error":"#REF!"}},null,null,null,null,null,null,{"$f":"IF(AND(referentes!U564<>\"\",          referentes!U564<>96321,    referentes!U564<>96222            ),(referentes!W564),\"\")","v":""},{"$f":"referentes!S564","v":0},null,562,0,1130,"X",null,{"$f":"CONCATENATE(referentes!W562,\"(\",referentes!T562,\")\")","v":"()"},{"$f":"referentes!S562","v":0}]
[null,null,null,null,null,null,null,null,null,null,null,null,null,null,null,null,null,{"$f":"IF(AND(#REF!<>\"\"    ),(#REF!),\"\")","v":{"$error":"#REF!"}},null,null,null,null,null,null,{"$f":"IF(AND(referentes!U565<>\"\",          referentes!U565<>96321,    referentes!U565<>96222            ),(referentes!W565),\"\")","v":""},{"$f":"referentes!S565","v":0},null,563,0,1130,"X",null,{"$f":"CONCATENATE(referentes!W563,\"(\",referentes!T563,\")\")","v":"()"},{"$f":"referentes!S563","v":0}]
[null,null,null,null,null,null,null,null,null,null,null,null,null,null,null,null,null,{"$f":"IF(AND(#REF!<>\"\"    ),(#REF!),\"\")","v":{"$error":"#REF!"}},null,null,null,null,null,null,{"$f":"IF(AND(referentes!U566<>\"\",          referentes!U566<>96321,    referentes!U566<>96222            ),(referentes!W566),\"\")","v":""},{"$f":"referentes!S566","v":0},null,564,0,1130,"X",null,{"$f":"CONCATENATE(referentes!W564,\"(\",referentes!T564,\")\")","v":"()"},{"$f":"referentes!S564","v":0}]
[null,null,null,null,null,null,null,null,null,null,null,null,null,null,null,null,null,{"$f":"IF(AND(#REF!<>\"\"    ),(#REF!),\"\")","v":{"$error":"#REF!"}},null,null,null,null,null,null,{"$f":"IF(AND(referentes!U567<>\"\",          referentes!U567<>96321,    referentes!U567<>96222            ),(referentes!W567),\"\")","v":""},{"$f":"referentes!S567","v":0},null,565,0,1130,"X",null,{"$f":"CONCATENATE(referentes!W565,\"(\",referentes!T565,\")\")","v":"()"},{"$f":"referentes!S565","v":0}]
[null,null,null,null,null,null,null,null,null,null,null,null,null,null,null,null,null,{"$f":"IF(AND(#REF!<>\"\"    ),(#REF!),\"\")","v":{"$error":"#REF!"}},null,null,null,null,null,null,{"$f":"IF(AND(referentes!U568<>\"\",          referentes!U568<>96321,    referentes!U568<>96222            ),(referentes!W568),\"\")","v":""},{"$f":"referentes!S568","v":0},null,566,0,1130,"X",null,{"$f":"CONCATENATE(referentes!W566,\"(\",referentes!T566,\")\")","v":"()"},{"$f":"referentes!S566","v":0}]
[null,null,null,null,null,null,null,null,null,null,null,null,null,null,null,null,null,{"$f":"IF(AND(#REF!<>\"\"    ),(#REF!),\"\")","v":{"$error":"#REF!"}},null,null,null,null,null,null,{"$f":"IF(AND(referentes!U569<>\"\",          referentes!U569<>96321,    referentes!U569<>96222            ),(referentes!W569),\"\")","v":""},{"$f":"referentes!S569","v":0},null,567,0,1130,"X",null,{"$f":"CONCATENATE(referentes!W567,\"(\",referentes!T567,\")\")","v":"()"},{"$f":"referentes!S567","v":0}]
[null,null,null,null,null,null,null,null,null,null,null,null,null,null,null,null,null,{"$f":"IF(AND(#REF!<>\"\"    ),(#REF!),\"\")","v":{"$error":"#REF!"}},null,null,null,null,null,null,{"$f":"IF(AND(referentes!U570<>\"\",          referentes!U570<>96321,    referentes!U570<>96222            ),(referentes!W570),\"\")","v":""},{"$f":"referentes!S570","v":0},null,568,0,1130,"X",null,{"$f":"CONCATENATE(referentes!W568,\"(\",referentes!T568,\")\")","v":"()"},{"$f":"referentes!S568","v":0}]
[null,null,null,null,null,null,null,null,null,null,null,null,null,null,null,null,null,{"$f":"IF(AND(#REF!<>\"\"    ),(#REF!),\"\")","v":{"$error":"#REF!"}},null,null,null,null,null,null,{"$f":"IF(AND(referentes!U571<>\"\",          referentes!U571<>96321,    referentes!U571<>96222            ),(referentes!W571),\"\")","v":""},{"$f":"referentes!S571","v":0},null,569,0,1130,"X",null,{"$f":"CONCATENATE(referentes!W569,\"(\",referentes!T569,\")\")","v":"()"},{"$f":"referentes!S569","v":0}]
[null,null,null,null,null,null,null,null,null,null,null,null,null,null,null,null,null,{"$f":"IF(AND(#REF!<>\"\"    ),(#REF!),\"\")","v":{"$error":"#REF!"}},null,null,null,null,null,null,{"$f":"IF(AND(referentes!U572<>\"\",          referentes!U572<>96321,    referentes!U572<>96222            ),(referentes!W572),\"\")","v":""},{"$f":"referentes!S572","v":0},null,570,0,1130,"X",null,{"$f":"CONCATENATE(referentes!W570,\"(\",referentes!T570,\")\")","v":"()"},{"$f":"referentes!S570","v":0}]
[null,null,null,null,null,null,null,null,null,null,null,null,null,null,null,null,null,{"$f":"IF(AND(#REF!<>\"\"    ),(#REF!),\"\")","v":{"$error":"#REF!"}},null,null,null,null,null,null,{"$f":"IF(AND(referentes!U573<>\"\",          referentes!U573<>96321,    referentes!U573<>96222            ),(referentes!W573),\"\")","v":""},{"$f":"referentes!S573","v":0},null,571,0,1130,"X",null,{"$f":"CONCATENATE(referentes!W571,\"(\",referentes!T571,\")\")","v":"()"},{"$f":"referentes!S571","v":0}]
[null,null,null,null,null,null,null,null,null,null,null,null,null,null,null,null,null,{"$f":"IF(AND(#REF!<>\"\"    ),(#REF!),\"\")","v":{"$error":"#REF!"}},null,null,null,null,null,null,{"$f":"IF(AND(referentes!U574<>\"\",          referentes!U574<>96321,    referentes!U574<>96222            ),(referentes!W574),\"\")","v":""},{"$f":"referentes!S574","v":0},null,572,0,1130,"X",null,{"$f":"CONCATENATE(referentes!W572,\"(\",referentes!T572,\")\")","v":"()"},{"$f":"referentes!S572","v":0}]
[null,null,null,null,null,null,null,null,null,null,null,null,null,null,null,null,null,{"$f":"IF(AND(#REF!<>\"\"    ),(#REF!),\"\")","v":{"$error":"#REF!"}},null,null,null,null,null,null,{"$f":"IF(AND(referentes!U575<>\"\",          referentes!U575<>96321,    referentes!U575<>96222            ),(referentes!W575),\"\")","v":""},{"$f":"referentes!S575","v":0},null,573,0,1130,"X",null,{"$f":"CONCATENATE(referentes!W573,\"(\",referentes!T573,\")\")","v":"()"},{"$f":"referentes!S573","v":0}]
[null,null,null,null,null,null,null,null,null,null,null,null,null,null,null,null,null,{"$f":"IF(AND(#REF!<>\"\"    ),(#REF!),\"\")","v":{"$error":"#REF!"}},null,null,null,null,null,null,{"$f":"IF(AND(referentes!U576<>\"\",          referentes!U576<>96321,    referentes!U576<>96222            ),(referentes!W576),\"\")","v":""},{"$f":"referentes!S576","v":0},null,574,0,1130,"X",null,{"$f":"CONCATENATE(referentes!W574,\"(\",referentes!T574,\")\")","v":"()"},{"$f":"referentes!S574","v":0}]
[null,null,null,null,null,null,null,null,null,null,null,null,null,null,null,null,null,{"$f":"IF(AND(#REF!<>\"\"    ),(#REF!),\"\")","v":{"$error":"#REF!"}},null,null,null,null,null,null,{"$f":"IF(AND(referentes!U577<>\"\",          referentes!U577<>96321,    referentes!U577<>96222            ),(referentes!W577),\"\")","v":""},{"$f":"referentes!S577","v":0},null,575,0,1130,"X",null,{"$f":"CONCATENATE(referentes!W575,\"(\",referentes!T575,\")\")","v":"()"},{"$f":"referentes!S575","v":0}]
[null,null,null,null,null,null,null,null,null,null,null,null,null,null,null,null,null,{"$f":"IF(AND(#REF!<>\"\"    ),(#REF!),\"\")","v":{"$error":"#REF!"}},null,null,null,null,null,null,{"$f":"IF(AND(referentes!U578<>\"\",          referentes!U578<>96321,    referentes!U578<>96222            ),(referentes!W578),\"\")","v":""},{"$f":"referentes!S578","v":0},null,576,0,1130,"X",null,{"$f":"CONCATENATE(referentes!W576,\"(\",referentes!T576,\")\")","v":"()"},{"$f":"referentes!S576","v":0}]
[null,null,null,null,null,null,null,null,null,null,null,null,null,null,null,null,null,{"$f":"IF(AND(#REF!<>\"\"    ),(#REF!),\"\")","v":{"$error":"#REF!"}},null,null,null,null,null,null,{"$f":"IF(AND(referentes!U579<>\"\",          referentes!U579<>96321,    referentes!U579<>96222            ),(referentes!W579),\"\")","v":""},{"$f":"referentes!S579","v":0},null,577,0,1130,"X",null,{"$f":"CONCATENATE(referentes!W577,\"(\",referentes!T577,\")\")","v":"()"},{"$f":"referentes!S577","v":0}]
[null,null,null,null,null,null,null,null,null,null,null,null,null,null,null,null,null,{"$f":"IF(AND(#REF!<>\"\"    ),(#REF!),\"\")","v":{"$error":"#REF!"}},null,null,null,null,null,null,{"$f":"IF(AND(referentes!U580<>\"\",          referentes!U580<>96321,    referentes!U580<>96222            ),(referentes!W580),\"\")","v":""},{"$f":"referentes!S580","v":0},null,578,{"$f":"IF(Y583=\"\",0,Y583)","v":0},{"$f":"IF(AC584=0,MAX($AB$7:$AB$1135)+1,AB584)","v":1130},{"$f":"IFERROR(VLOOKUP(SMALL($AD$7:$AD$1135,AB584),$AB$7:$AD$1135,2,FALSE),\"X\")","v":"X"},null,{"$f":"CONCATENATE(referentes!W578,\"(\",referentes!T578,\")\")","v":"()"},{"$f":"referentes!S578","v":0}]
[null,null,null,null,null,null,null,null,null,null,null,null,null,null,null,null,null,{"$f":"IF(AND(#REF!<>\"\"    ),(#REF!),\"\")","v":{"$error":"#REF!"}},null,null,null,null,null,null,{"$f":"IF(AND(referentes!U581<>\"\",          referentes!U581<>96321,    referentes!U581<>96222            ),(referentes!W581),\"\")","v":""},{"$f":"referentes!S581","v":0},null,579,0,1130,"X",null,{"$f":"CONCATENATE(referentes!W579,\"(\",referentes!T579,\")\")","v":"()"},{"$f":"referentes!S579","v":0}]
[null,null,null,null,null,null,null,null,null,null,null,null,null,null,null,null,null,{"$f":"IF(AND(#REF!<>\"\"    ),(#REF!),\"\")","v":{"$error":"#REF!"}},null,null,null,null,null,null,{"$f":"IF(AND(referentes!U582<>\"\",          referentes!U582<>96321,    referentes!U582<>96222            ),(referentes!W582),\"\")","v":""},{"$f":"referentes!S582","v":0},null,580,0,1130,"X",null,{"$f":"CONCATENATE(referentes!W580,\"(\",referentes!T580,\")\")","v":"()"},{"$f":"referentes!S580","v":0}]
[null,null,null,null,null,null,null,null,null,null,null,null,null,null,null,null,null,{"$f":"IF(AND(#REF!<>\"\"    ),(#REF!),\"\")","v":{"$error":"#REF!"}},null,null,null,null,null,null,{"$f":"IF(AND(referentes!U583<>\"\",          referentes!U583<>96321,    referentes!U583<>96222            ),(referentes!W583),\"\")","v":""},{"$f":"referentes!S583","v":0},null,581,0,1130,"X",null,{"$f":"CONCATENATE(referentes!W581,\"(\",referentes!T581,\")\")","v":"()"},{"$f":"referentes!S581","v":0}]
[null,null,null,null,null,null,null,null,null,null,null,null,null,null,null,null,null,{"$f":"IF(AND(#REF!<>\"\"    ),(#REF!),\"\")","v":{"$error":"#REF!"}},null,null,null,null,null,null,{"$f":"IF(AND(referentes!U584<>\"\",          referentes!U584<>96321,    referentes!U584<>96222            ),(referentes!W584),\"\")","v":""},{"$f":"referentes!S584","v":0},null,582,0,1130,"X",null,{"$f":"CONCATENATE(referentes!W582,\"(\",referentes!T582,\")\")","v":"()"},{"$f":"referentes!S582","v":0}]
[null,null,null,null,null,null,null,null,null,null,null,null,null,null,null,null,null,{"$f":"IF(AND(#REF!<>\"\"    ),(#REF!),\"\")","v":{"$error":"#REF!"}},null,null,null,null,null,null,{"$f":"IF(AND(referentes!U585<>\"\",          referentes!U585<>96321,    referentes!U585<>96222            ),(referentes!W585),\"\")","v":""},{"$f":"referentes!S585","v":0},null,583,0,1130,"X",null,{"$f":"CONCATENATE(referentes!W583,\"(\",referentes!T583,\")\")","v":"()"},{"$f":"referentes!S583","v":0}]
[null,null,null,null,null,null,null,null,null,null,null,null,null,null,null,null,null,{"$f":"IF(AND(#REF!<>\"\"    ),(#REF!),\"\")","v":{"$error":"#REF!"}},null,null,null,null,null,null,{"$f":"IF(AND(referentes!U586<>\"\",          referentes!U586<>96321,    referentes!U586<>96222            ),(referentes!W586),\"\")","v":""},{"$f":"referentes!S586","v":0},null,584,0,1130,"X",null,{"$f":"CONCATENATE(referentes!W584,\"(\",referentes!T584,\")\")","v":"()"},{"$f":"referentes!S584","v":0}]
[null,null,null,null,null,null,null,null,null,null,null,null,null,null,null,null,null,{"$f":"IF(AND(#REF!<>\"\"    ),(#REF!),\"\")","v":{"$error":"#REF!"}},null,null,null,null,null,null,{"$f":"IF(AND(referentes!U587<>\"\",          referentes!U587<>96321,    referentes!U587<>96222            ),(referentes!W587),\"\")","v":""},{"$f":"referentes!S587","v":0},null,585,0,1130,"X",null,{"$f":"CONCATENATE(referentes!W585,\"(\",referentes!T585,\")\")","v":"()"},{"$f":"referentes!S585","v":0}]
[null,null,null,null,null,null,null,null,null,null,null,null,null,null,null,null,null,{"$f":"IF(AND(#REF!<>\"\"    ),(#REF!),\"\")","v":{"$error":"#REF!"}},null,null,null,null,null,null,{"$f":"IF(AND(referentes!U588<>\"\",          referentes!U588<>96321,    referentes!U588<>96222            ),(referentes!W588),\"\")","v":""},{"$f":"referentes!S588","v":0},null,586,0,1130,"X",null,{"$f":"CONCATENATE(referentes!W586,\"(\",referentes!T586,\")\")","v":"()"},{"$f":"referentes!S586","v":0}]
[null,null,null,null,null,null,null,null,null,null,null,null,null,null,null,null,null,{"$f":"IF(AND(#REF!<>\"\"    ),(#REF!),\"\")","v":{"$error":"#REF!"}},null,null,null,null,null,null,{"$f":"IF(AND(referentes!U589<>\"\",          referentes!U589<>96321,    referentes!U589<>96222            ),(referentes!W589),\"\")","v":""},{"$f":"referentes!S589","v":0},null,587,0,1130,"X",null,{"$f":"CONCATENATE(referentes!W587,\"(\",referentes!T587,\")\")","v":"()"},{"$f":"referentes!S587","v":0}]
[null,null,null,null,null,null,null,null,null,null,null,null,null,null,null,null,null,{"$f":"IF(AND(#REF!<>\"\"    ),(#REF!),\"\")","v":{"$error":"#REF!"}},null,null,null,null,null,null,{"$f":"IF(AND(referentes!U590<>\"\",          referentes!U590<>96321,    referentes!U590<>96222            ),(referentes!W590),\"\")","v":""},{"$f":"referentes!S590","v":0},null,588,0,1130,"X",null,{"$f":"CONCATENATE(referentes!W588,\"(\",referentes!T588,\")\")","v":"()"},{"$f":"referentes!S588","v":0}]
[null,null,null,null,null,null,null,null,null,null,null,null,null,null,null,null,null,{"$f":"IF(AND(#REF!<>\"\"    ),(#REF!),\"\")","v":{"$error":"#REF!"}},null,null,null,null,null,null,{"$f":"IF(AND(referentes!U591<>\"\",          referentes!U591<>96321,    referentes!U591<>96222            ),(referentes!W591),\"\")","v":""},{"$f":"referentes!S591","v":0},null,589,0,1130,"X",null,{"$f":"CONCATENATE(referentes!W589,\"(\",referentes!T589,\")\")","v":"()"},{"$f":"referentes!S589","v":0}]
[null,null,null,null,null,null,null,null,null,null,null,null,null,null,null,null,null,{"$f":"IF(AND(#REF!<>\"\"    ),(#REF!),\"\")","v":{"$error":"#REF!"}},null,null,null,null,null,null,{"$f":"IF(AND(referentes!U592<>\"\",          referentes!U592<>96321,    referentes!U592<>96222            ),(referentes!W592),\"\")","v":""},{"$f":"referentes!S592","v":0},null,590,0,1130,"X",null,{"$f":"CONCATENATE(referentes!W590,\"(\",referentes!T590,\")\")","v":"()"},{"$f":"referentes!S590","v":0}]
[null,null,null,null,null,null,null,null,null,null,null,null,null,null,null,null,null,{"$f":"IF(AND(#REF!<>\"\"    ),(#REF!),\"\")","v":{"$error":"#REF!"}},null,null,null,null,null,null,{"$f":"IF(AND(referentes!U593<>\"\",          referentes!U593<>96321,    referentes!U593<>96222            ),(referentes!W593),\"\")","v":""},{"$f":"referentes!S593","v":0},null,591,0,1130,"X",null,{"$f":"CONCATENATE(referentes!W591,\"(\",referentes!T591,\")\")","v":"()"},{"$f":"referentes!S591","v":0}]
[null,null,null,null,null,null,null,null,null,null,null,null,null,null,null,null,null,{"$f":"IF(AND(#REF!<>\"\"    ),(#REF!),\"\")","v":{"$error":"#REF!"}},null,null,null,null,null,null,{"$f":"IF(AND(referentes!U594<>\"\",          referentes!U594<>96321,    referentes!U594<>96222            ),(referentes!W594),\"\")","v":""},{"$f":"referentes!S594","v":0},null,592,0,1130,"X",null,{"$f":"CONCATENATE(referentes!W592,\"(\",referentes!T592,\")\")","v":"()"},{"$f":"referentes!S592","v":0}]
[null,null,null,null,null,null,null,null,null,null,null,null,null,null,null,null,null,{"$f":"IF(AND(#REF!<>\"\"    ),(#REF!),\"\")","v":{"$error":"#REF!"}},null,null,null,null,null,null,{"$f":"IF(AND(referentes!U595<>\"\",          referentes!U595<>96321,    referentes!U595<>96222            ),(referentes!W595),\"\")","v":""},{"$f":"referentes!S595","v":0},null,593,0,1130,"X",null,{"$f":"CONCATENATE(referentes!W593,\"(\",referentes!T593,\")\")","v":"()"},{"$f":"referentes!S593","v":0}]
[null,null,null,null,null,null,null,null,null,null,null,null,null,null,null,null,null,{"$f":"IF(AND(#REF!<>\"\"    ),(#REF!),\"\")","v":{"$error":"#REF!"}},null,null,null,null,null,null,{"$f":"IF(AND(referentes!U596<>\"\",          referentes!U596<>96321,    referentes!U596<>96222            ),(referentes!W596),\"\")","v":""},{"$f":"referentes!S596","v":0},null,594,0,1130,"X",null,{"$f":"CONCATENATE(referentes!W594,\"(\",referentes!T594,\")\")","v":"()"},{"$f":"referentes!S594","v":0}]
[null,null,null,null,null,null,null,null,null,null,null,null,null,null,null,null,null,{"$f":"IF(AND(#REF!<>\"\"    ),(#REF!),\"\")","v":{"$error":"#REF!"}},null,null,null,null,null,null,{"$f":"IF(AND(referentes!U597<>\"\",          referentes!U597<>96321,    referentes!U597<>96222            ),(referentes!W597),\"\")","v":""},{"$f":"referentes!S597","v":0},null,595,0,1130,"X",null,{"$f":"CONCATENATE(referentes!W595,\"(\",referentes!T595,\")\")","v":"()"},{"$f":"referentes!S595","v":0}]
[null,null,null,null,null,null,null,null,null,null,null,null,null,null,null,null,null,{"$f":"IF(AND(#REF!<>\"\"    ),(#REF!),\"\")","v":{"$error":"#REF!"}},null,null,null,null,null,null,{"$f":"IF(AND(referentes!U598<>\"\",          referentes!U598<>96321,    referentes!U598<>96222            ),(referentes!W598),\"\")","v":""},{"$f":"referentes!S598","v":0},null,596,0,1130,"X",null,{"$f":"CONCATENATE(referentes!W596,\"(\",referentes!T596,\")\")","v":"()"},{"$f":"referentes!S596","v":0}]
[null,null,null,null,null,null,null,null,null,null,null,null,null,null,null,null,null,{"$f":"IF(AND(#REF!<>\"\"    ),(#REF!),\"\")","v":{"$error":"#REF!"}},null,null,null,null,null,null,{"$f":"IF(AND(referentes!U599<>\"\",          referentes!U599<>96321,    referentes!U599<>96222            ),(referentes!W599),\"\")","v":""},{"$f":"referentes!S599","v":0},null,597,0,1130,"X",null,{"$f":"CONCATENATE(referentes!W597,\"(\",referentes!T597,\")\")","v":"()"},{"$f":"referentes!S597","v":0}]
[null,null,null,null,null,null,null,null,null,null,null,null,null,null,null,null,null,{"$f":"IF(AND(#REF!<>\"\"    ),(#REF!),\"\")","v":{"$error":"#REF!"}},null,null,null,null,null,null,{"$f":"IF(AND(referentes!U600<>\"\",          referentes!U600<>96321,    referentes!U600<>96222            ),(referentes!W600),\"\")","v":""},{"$f":"referentes!S600","v":0},null,598,0,1130,"X",null,{"$f":"CONCATENATE(referentes!W598,\"(\",referentes!T598,\")\")","v":"()"},{"$f":"referentes!S598","v":0}]
[null,null,null,null,null,null,null,null,null,null,null,null,null,null,null,null,null,{"$f":"IF(AND(#REF!<>\"\"    ),(#REF!),\"\")","v":{"$error":"#REF!"}},null,null,null,null,null,null,{"$f":"IF(AND(referentes!U601<>\"\",          referentes!U601<>96321,    referentes!U601<>96222            ),(referentes!W601),\"\")","v":""},{"$f":"referentes!S601","v":0},null,599,0,1130,"X",null,{"$f":"CONCATENATE(referentes!W599,\"(\",referentes!T599,\")\")","v":"()"},{"$f":"referentes!S599","v":0}]
[null,null,null,null,null,null,null,null,null,null,null,null,null,null,null,null,null,{"$f":"IF(AND(#REF!<>\"\"    ),(#REF!),\"\")","v":{"$error":"#REF!"}},null,null,null,null,null,null,{"$f":"IF(AND(referentes!U602<>\"\",          referentes!U602<>96321,    referentes!U602<>96222            ),(referentes!W602),\"\")","v":""},{"$f":"referentes!S602","v":0},null,600,0,1130,"X",null,{"$f":"CONCATENATE(referentes!W600,\"(\",referentes!T600,\")\")","v":"()"},{"$f":"referentes!S600","v":0}]
[null,null,null,null,null,null,null,null,null,null,null,null,null,null,null,null,null,{"$f":"IF(AND(#REF!<>\"\"    ),(#REF!),\"\")","v":{"$error":"#REF!"}},null,null,null,null,null,null,{"$f":"IF(AND(referentes!U603<>\"\",          referentes!U603<>96321,    referentes!U603<>96222            ),(referentes!W603),\"\")","v":""},{"$f":"referentes!S603","v":0},null,601,0,1130,"X",null,{"$f":"CONCATENATE(referentes!W601,\"(\",referentes!T601,\")\")","v":"()"},{"$f":"referentes!S601","v":0}]
[null,null,null,null,null,null,null,null,null,null,null,null,null,null,null,null,null,{"$f":"IF(AND(#REF!<>\"\"    ),(#REF!),\"\")","v":{"$error":"#REF!"}},null,null,null,null,null,null,{"$f":"IF(AND(referentes!U604<>\"\",          referentes!U604<>96321,    referentes!U604<>96222            ),(referentes!W604),\"\")","v":""},{"$f":"referentes!S604","v":0},null,602,0,1130,"X",null,{"$f":"CONCATENATE(referentes!W602,\"(\",referentes!T602,\")\")","v":"()"},{"$f":"referentes!S602","v":0}]
[null,null,null,null,null,null,null,null,null,null,null,null,null,null,null,null,null,{"$f":"IF(AND(#REF!<>\"\"    ),(#REF!),\"\")","v":{"$error":"#REF!"}},null,null,null,null,null,null,{"$f":"IF(AND(referentes!U605<>\"\",          referentes!U605<>96321,    referentes!U605<>96222            ),(referentes!W605),\"\")","v":""},{"$f":"referentes!S605","v":0},null,603,0,1130,"X",null,{"$f":"CONCATENATE(referentes!W603,\"(\",referentes!T603,\")\")","v":"()"},{"$f":"referentes!S603","v":0}]
[null,null,null,null,null,null,null,null,null,null,null,null,null,null,null,null,null,{"$f":"IF(AND(#REF!<>\"\"    ),(#REF!),\"\")","v":{"$error":"#REF!"}},null,null,null,null,null,null,{"$f":"IF(AND(referentes!U606<>\"\",          referentes!U606<>96321,    referentes!U606<>96222            ),(referentes!W606),\"\")","v":""},{"$f":"referentes!S606","v":0},null,604,0,1130,"X",null,{"$f":"CONCATENATE(referentes!W604,\"(\",referentes!T604,\")\")","v":"()"},{"$f":"referentes!S604","v":0}]
[null,null,null,null,null,null,null,null,null,null,null,null,null,null,null,null,null,{"$f":"IF(AND(#REF!<>\"\"    ),(#REF!),\"\")","v":{"$error":"#REF!"}},null,null,null,null,null,null,{"$f":"IF(AND(referentes!U607<>\"\",          referentes!U607<>96321,    referentes!U607<>96222            ),(referentes!W607),\"\")","v":""},{"$f":"referentes!S607","v":0},null,605,0,1130,"X",null,{"$f":"CONCATENATE(referentes!W605,\"(\",referentes!T605,\")\")","v":"()"},{"$f":"referentes!S605","v":0}]
[null,null,null,null,null,null,null,null,null,null,null,null,null,null,null,null,null,{"$f":"IF(AND(#REF!<>\"\"    ),(#REF!),\"\")","v":{"$error":"#REF!"}},null,null,null,null,null,null,{"$f":"IF(AND(referentes!U608<>\"\",          referentes!U608<>96321,    referentes!U608<>96222            ),(referentes!W608),\"\")","v":""},{"$f":"referentes!S608","v":0},null,606,0,1130,"X",null,{"$f":"CONCATENATE(referentes!W606,\"(\",referentes!T606,\")\")","v":"()"},{"$f":"referentes!S606","v":0}]
[null,null,null,null,null,null,null,null,null,null,null,null,null,null,null,null,null,{"$f":"IF(AND(#REF!<>\"\"    ),(#REF!),\"\")","v":{"$error":"#REF!"}},null,null,null,null,null,null,{"$f":"IF(AND(referentes!U609<>\"\",          referentes!U609<>96321,    referentes!U609<>96222            ),(referentes!W609),\"\")","v":""},{"$f":"referentes!S609","v":0},null,607,0,1130,"X",null,{"$f":"CONCATENATE(referentes!W607,\"(\",referentes!T607,\")\")","v":"()"},{"$f":"referentes!S607","v":0}]
[null,null,null,null,null,null,null,null,null,null,null,null,null,null,null,null,null,{"$f":"IF(AND(#REF!<>\"\"    ),(#REF!),\"\")","v":{"$error":"#REF!"}},null,null,null,null,null,null,{"$f":"IF(AND(referentes!U610<>\"\",          referentes!U610<>96321,    referentes!U610<>96222            ),(referentes!W610),\"\")","v":""},{"$f":"referentes!S610","v":0},null,608,0,1130,"X",null,{"$f":"CONCATENATE(referentes!W608,\"(\",referentes!T608,\")\")","v":"()"},{"$f":"referentes!S608","v":0}]
[null,null,null,null,null,null,null,null,null,null,null,null,null,null,null,null,null,{"$f":"IF(AND(#REF!<>\"\"    ),(#REF!),\"\")","v":{"$error":"#REF!"}},null,null,null,null,null,null,{"$f":"IF(AND(referentes!U611<>\"\",          referentes!U611<>96321,    referentes!U611<>96222            ),(referentes!W611),\"\")","v":""},{"$f":"referentes!S611","v":0},null,609,0,1130,"X",null,{"$f":"CONCATENATE(referentes!W609,\"(\",referentes!T609,\")\")","v":"()"},{"$f":"referentes!S609","v":0}]
[null,null,null,null,null,null,null,null,null,null,null,null,null,null,null,null,null,{"$f":"IF(AND(#REF!<>\"\"    ),(#REF!),\"\")","v":{"$error":"#REF!"}},null,null,null,null,null,null,{"$f":"IF(AND(referentes!U612<>\"\",          referentes!U612<>96321,    referentes!U612<>96222            ),(referentes!W612),\"\")","v":""},{"$f":"referentes!S612","v":0},null,610,0,1130,"X",null,{"$f":"CONCATENATE(referentes!W610,\"(\",referentes!T610,\")\")","v":"()"},{"$f":"referentes!S610","v":0}]
[null,null,null,null,null,null,null,null,null,null,null,null,null,null,null,null,null,{"$f":"IF(AND(#REF!<>\"\"    ),(#REF!),\"\")","v":{"$error":"#REF!"}},null,null,null,null,null,null,{"$f":"IF(AND(referentes!U613<>\"\",          referentes!U613<>96321,    referentes!U613<>96222            ),(referentes!W613),\"\")","v":""},{"$f":"referentes!S613","v":0},null,611,0,1130,"X",null,{"$f":"CONCATENATE(referentes!W611,\"(\",referentes!T611,\")\")","v":"()"},{"$f":"referentes!S611","v":0}]
[null,null,null,null,null,null,null,null,null,null,null,null,null,null,null,null,null,{"$f":"IF(AND(#REF!<>\"\"    ),(#REF!),\"\")","v":{"$error":"#REF!"}},null,null,null,null,null,null,{"$f":"IF(AND(referentes!U614<>\"\",          referentes!U614<>96321,    referentes!U614<>96222            ),(referentes!W614),\"\")","v":""},{"$f":"referentes!S614","v":0},null,612,0,1130,"X",null,{"$f":"CONCATENATE(referentes!W612,\"(\",referentes!T612,\")\")","v":"()"},{"$f":"referentes!S612","v":0}]
[null,null,null,null,null,null,null,null,null,null,null,null,null,null,null,null,null,{"$f":"IF(AND(#REF!<>\"\"    ),(#REF!),\"\")","v":{"$error":"#REF!"}},null,null,null,null,null,null,{"$f":"IF(AND(referentes!U615<>\"\",          referentes!U615<>96321,    referentes!U615<>96222            ),(referentes!W615),\"\")","v":""},{"$f":"referentes!S615","v":0},null,613,0,1130,"X",null,{"$f":"CONCATENATE(referentes!W613,\"(\",referentes!T613,\")\")","v":"()"},{"$f":"referentes!S613","v":0}]
[null,null,null,null,null,null,null,null,null,null,null,null,null,null,null,null,null,{"$f":"IF(AND(#REF!<>\"\"    ),(#REF!),\"\")","v":{"$error":"#REF!"}},null,null,null,null,null,null,{"$f":"IF(AND(referentes!U616<>\"\",          referentes!U616<>96321,    referentes!U616<>96222            ),(referentes!W616),\"\")","v":""},{"$f":"referentes!S616","v":0},null,614,0,1130,"X",null,{"$f":"CONCATENATE(referentes!W614,\"(\",referentes!T614,\")\")","v":"()"},{"$f":"referentes!S614","v":0}]
[null,null,null,null,null,null,null,null,null,null,null,null,null,null,null,null,null,{"$f":"IF(AND(#REF!<>\"\"    ),(#REF!),\"\")","v":{"$error":"#REF!"}},null,null,null,null,null,null,{"$f":"IF(AND(referentes!U617<>\"\",          referentes!U617<>96321,    referentes!U617<>96222            ),(referentes!W617),\"\")","v":""},{"$f":"referentes!S617","v":0},null,615,0,1130,"X",null,{"$f":"CONCATENATE(referentes!W615,\"(\",referentes!T615,\")\")","v":"()"},{"$f":"referentes!S615","v":0}]
[null,null,null,null,null,null,null,null,null,null,null,null,null,null,null,null,null,{"$f":"IF(AND(#REF!<>\"\"    ),(#REF!),\"\")","v":{"$error":"#REF!"}},null,null,null,null,null,null,{"$f":"IF(AND(referentes!U618<>\"\",          referentes!U618<>96321,    referentes!U618<>96222            ),(referentes!W618),\"\")","v":""},{"$f":"referentes!S618","v":0},null,616,0,1130,"X",null,{"$f":"CONCATENATE(referentes!W616,\"(\",referentes!T616,\")\")","v":"()"},{"$f":"referentes!S616","v":0}]
[null,null,null,null,null,null,null,null,null,null,null,null,null,null,null,null,null,{"$f":"IF(AND(#REF!<>\"\"    ),(#REF!),\"\")","v":{"$error":"#REF!"}},null,null,null,null,null,null,{"$f":"IF(AND(referentes!U619<>\"\",          referentes!U619<>96321,    referentes!U619<>96222            ),(referentes!W619),\"\")","v":""},{"$f":"referentes!S619","v":0},null,617,0,1130,"X",null,{"$f":"CONCATENATE(referentes!W617,\"(\",referentes!T617,\")\")","v":"()"},{"$f":"referentes!S617","v":0}]
[null,null,null,null,null,null,null,null,null,null,null,null,null,null,null,null,null,{"$f":"IF(AND(#REF!<>\"\"    ),(#REF!),\"\")","v":{"$error":"#REF!"}},null,null,null,null,null,null,{"$f":"IF(AND(referentes!U620<>\"\",          referentes!U620<>96321,    referentes!U620<>96222            ),(referentes!W620),\"\")","v":""},{"$f":"referentes!S620","v":0},null,618,0,1130,"X",null,{"$f":"CONCATENATE(referentes!W618,\"(\",referentes!T618,\")\")","v":"()"},{"$f":"referentes!S618","v":0}]
[null,null,null,null,null,null,null,null,null,null,null,null,null,null,null,null,null,{"$f":"IF(AND(#REF!<>\"\"    ),(#REF!),\"\")","v":{"$error":"#REF!"}},null,null,null,null,null,null,{"$f":"IF(AND(referentes!U621<>\"\",          referentes!U621<>96321,    referentes!U621<>96222            ),(referentes!W621),\"\")","v":""},{"$f":"referentes!S621","v":0},null,619,0,1130,"X",null,{"$f":"CONCATENATE(referentes!W619,\"(\",referentes!T619,\")\")","v":"()"},{"$f":"referentes!S619","v":0}]
[null,null,null,null,null,null,null,null,null,null,null,null,null,null,null,null,null,{"$f":"IF(AND(#REF!<>\"\"    ),(#REF!),\"\")","v":{"$error":"#REF!"}},null,null,null,null,null,null,{"$f":"IF(AND(referentes!U622<>\"\",          referentes!U622<>96321,    referentes!U622<>96222            ),(referentes!W622),\"\")","v":""},{"$f":"referentes!S622","v":0},null,620,0,1130,"X",null,{"$f":"CONCATENATE(referentes!W620,\"(\",referentes!T620,\")\")","v":"()"},{"$f":"referentes!S620","v":0}]
[null,null,null,null,null,null,null,null,null,null,null,null,null,null,null,null,null,{"$f":"IF(AND(#REF!<>\"\"    ),(#REF!),\"\")","v":{"$error":"#REF!"}},null,null,null,null,null,null,{"$f":"IF(AND(referentes!U623<>\"\",          referentes!U623<>96321,    referentes!U623<>96222            ),(referentes!W623),\"\")","v":""},{"$f":"referentes!S623","v":0},null,621,0,1130,"X",null,{"$f":"CONCATENATE(referentes!W621,\"(\",referentes!T621,\")\")","v":"()"},{"$f":"referentes!S621","v":0}]
[null,null,null,null,null,null,null,null,null,null,null,null,null,null,null,null,null,{"$f":"IF(AND(#REF!<>\"\"    ),(#REF!),\"\")","v":{"$error":"#REF!"}},null,null,null,null,null,null,{"$f":"IF(AND(referentes!U624<>\"\",          referentes!U624<>96321,    referentes!U624<>96222            ),(referentes!W624),\"\")","v":""},{"$f":"referentes!S624","v":0},null,622,0,1130,"X",null,{"$f":"CONCATENATE(referentes!W622,\"(\",referentes!T622,\")\")","v":"()"},{"$f":"referentes!S622","v":0}]
[null,null,null,null,null,null,null,null,null,null,null,null,null,null,null,null,null,{"$f":"IF(AND(#REF!<>\"\"    ),(#REF!),\"\")","v":{"$error":"#REF!"}},null,null,null,null,null,null,{"$f":"IF(AND(referentes!U625<>\"\",          referentes!U625<>96321,    referentes!U625<>96222            ),(referentes!W625),\"\")","v":""},{"$f":"referentes!S625","v":0},null,623,0,1130,"X",null,{"$f":"CONCATENATE(referentes!W623,\"(\",referentes!T623,\")\")","v":"()"},{"$f":"referentes!S623","v":0}]
[null,null,null,null,null,null,null,null,null,null,null,null,null,null,null,null,null,{"$f":"IF(AND(#REF!<>\"\"    ),(#REF!),\"\")","v":{"$error":"#REF!"}},null,null,null,null,null,null,{"$f":"IF(AND(referentes!U626<>\"\",          referentes!U626<>96321,    referentes!U626<>96222            ),(referentes!W626),\"\")","v":""},{"$f":"referentes!S626","v":0},null,624,0,1130,"X",null,{"$f":"CONCATENATE(referentes!W624,\"(\",referentes!T624,\")\")","v":"()"},{"$f":"referentes!S624","v":0}]
[null,null,null,null,null,null,null,null,null,null,null,null,null,null,null,null,null,{"$f":"IF(AND(#REF!<>\"\"    ),(#REF!),\"\")","v":{"$error":"#REF!"}},null,null,null,null,null,null,{"$f":"IF(AND(referentes!U627<>\"\",          referentes!U627<>96321,    referentes!U627<>96222            ),(referentes!W627),\"\")","v":""},{"$f":"referentes!S627","v":0},null,625,0,1130,"X",null,{"$f":"CONCATENATE(referentes!W625,\"(\",referentes!T625,\")\")","v":"()"},{"$f":"referentes!S625","v":0}]
[null,null,null,null,null,null,null,null,null,null,null,null,null,null,null,null,null,{"$f":"IF(AND(#REF!<>\"\"    ),(#REF!),\"\")","v":{"$error":"#REF!"}},null,null,null,null,null,null,{"$f":"IF(AND(referentes!U628<>\"\",          referentes!U628<>96321,    referentes!U628<>96222            ),(referentes!W628),\"\")","v":""},{"$f":"referentes!S628","v":0},null,626,0,1130,"X",null,{"$f":"CONCATENATE(referentes!W626,\"(\",referentes!T626,\")\")","v":"()"},{"$f":"referentes!S626","v":0}]
[null,null,null,null,null,null,null,null,null,null,null,null,null,null,null,null,null,{"$f":"IF(AND(#REF!<>\"\"    ),(#REF!),\"\")","v":{"$error":"#REF!"}},null,null,null,null,null,null,{"$f":"IF(AND(referentes!U629<>\"\",          referentes!U629<>96321,    referentes!U629<>96222            ),(referentes!W629),\"\")","v":""},{"$f":"referentes!S629","v":0},null,627,0,1130,"X",null,{"$f":"CONCATENATE(referentes!W627,\"(\",referentes!T627,\")\")","v":"()"},{"$f":"referentes!S627","v":0}]
[null,null,null,null,null,null,null,null,null,null,null,null,null,null,null,null,null,{"$f":"IF(AND(#REF!<>\"\"    ),(#REF!),\"\")","v":{"$error":"#REF!"}},null,null,null,null,null,null,{"$f":"IF(AND(referentes!U630<>\"\",          referentes!U630<>96321,    referentes!U630<>96222            ),(referentes!W630),\"\")","v":""},{"$f":"referentes!S630","v":0},null,628,0,1130,"X",null,{"$f":"CONCATENATE(referentes!W628,\"(\",referentes!T628,\")\")","v":"()"},{"$f":"referentes!S628","v":0}]
[null,null,null,null,null,null,null,null,null,null,null,null,null,null,null,null,null,{"$f":"IF(AND(#REF!<>\"\"    ),(#REF!),\"\")","v":{"$error":"#REF!"}},null,null,null,null,null,null,{"$f":"IF(AND(referentes!U631<>\"\",          referentes!U631<>96321,    referentes!U631<>96222            ),(referentes!W631),\"\")","v":""},{"$f":"referentes!S631","v":0},null,629,0,1130,"X",null,{"$f":"CONCATENATE(referentes!W629,\"(\",referentes!T629,\")\")","v":"()"},{"$f":"referentes!S629","v":0}]
[null,null,null,null,null,null,null,null,null,null,null,null,null,null,null,null,null,{"$f":"IF(AND(#REF!<>\"\"    ),(#REF!),\"\")","v":{"$error":"#REF!"}},null,null,null,null,null,null,{"$f":"IF(AND(referentes!U632<>\"\",          referentes!U632<>96321,    referentes!U632<>96222            ),(referentes!W632),\"\")","v":""},{"$f":"referentes!S632","v":0},null,630,0,1130,"X",null,{"$f":"CONCATENATE(referentes!W630,\"(\",referentes!T630,\")\")","v":"()"},{"$f":"referentes!S630","v":0}]
[null,null,null,null,null,null,null,null,null,null,null,null,null,null,null,null,null,{"$f":"IF(AND(#REF!<>\"\"    ),(#REF!),\"\")","v":{"$error":"#REF!"}},null,null,null,null,null,null,{"$f":"IF(AND(referentes!U633<>\"\",          referentes!U633<>96321,    referentes!U633<>96222            ),(referentes!W633),\"\")","v":""},{"$f":"referentes!S633","v":0},null,631,0,1130,"X",null,{"$f":"CONCATENATE(referentes!W631,\"(\",referentes!T631,\")\")","v":"()"},{"$f":"referentes!S631","v":0}]
[null,null,null,null,null,null,null,null,null,null,null,null,null,null,null,null,null,{"$f":"IF(AND(#REF!<>\"\"    ),(#REF!),\"\")","v":{"$error":"#REF!"}},null,null,null,null,null,null,{"$f":"IF(AND(referentes!U634<>\"\",          referentes!U634<>96321,    referentes!U634<>96222            ),(referentes!W634),\"\")","v":""},{"$f":"referentes!S634","v":0},null,632,0,1130,"X",null,{"$f":"CONCATENATE(referentes!W632,\"(\",referentes!T632,\")\")","v":"()"},{"$f":"referentes!S632","v":0}]
[null,null,null,null,null,null,null,null,null,null,null,null,null,null,null,null,null,{"$f":"IF(AND(#REF!<>\"\"    ),(#REF!),\"\")","v":{"$error":"#REF!"}},null,null,null,null,null,null,{"$f":"IF(AND(referentes!U635<>\"\",          referentes!U635<>96321,    referentes!U635<>96222            ),(referentes!W635),\"\")","v":""},{"$f":"referentes!S635","v":0},null,633,0,1130,"X",null,{"$f":"CONCATENATE(referentes!W633,\"(\",referentes!T633,\")\")","v":"()"},{"$f":"referentes!S633","v":0}]
[null,null,null,null,null,null,null,null,null,null,null,null,null,null,null,null,null,{"$f":"IF(AND(#REF!<>\"\"    ),(#REF!),\"\")","v":{"$error":"#REF!"}},null,null,null,null,null,null,{"$f":"IF(AND(referentes!U636<>\"\",          referentes!U636<>96321,    referentes!U636<>96222            ),(referentes!W636),\"\")","v":""},{"$f":"referentes!S636","v":0},null,634,0,1130,"X",null,{"$f":"CONCATENATE(referentes!W634,\"(\",referentes!T634,\")\")","v":"()"},{"$f":"referentes!S634","v":0}]
[null,null,null,null,null,null,null,null,null,null,null,null,null,null,null,null,null,{"$f":"IF(AND(#REF!<>\"\"    ),(#REF!),\"\")","v":{"$error":"#REF!"}},null,null,null,null,null,null,{"$f":"IF(AND(referentes!U637<>\"\",          referentes!U637<>96321,    referentes!U637<>96222            ),(referentes!W637),\"\")","v":""},{"$f":"referentes!S637","v":0},null,635,0,1130,"X",null,{"$f":"CONCATENATE(referentes!W635,\"(\",referentes!T635,\")\")","v":"()"},{"$f":"referentes!S635","v":0}]
[null,null,null,null,null,null,null,null,null,null,null,null,null,null,null,null,null,{"$f":"IF(AND(#REF!<>\"\"    ),(#REF!),\"\")","v":{"$error":"#REF!"}},null,null,null,null,null,null,{"$f":"IF(AND(referentes!U638<>\"\",          referentes!U638<>96321,    referentes!U638<>96222            ),(referentes!W638),\"\")","v":""},{"$f":"referentes!S638","v":0},null,636,0,1130,"X",null,{"$f":"CONCATENATE(referentes!W636,\"(\",referentes!T636,\")\")","v":"()"},{"$f":"referentes!S636","v":0}]
[null,null,null,null,null,null,null,null,null,null,null,null,null,null,null,null,null,{"$f":"IF(AND(#REF!<>\"\"    ),(#REF!),\"\")","v":{"$error":"#REF!"}},null,null,null,null,null,null,{"$f":"IF(AND(referentes!U639<>\"\",          referentes!U639<>96321,    referentes!U639<>96222            ),(referentes!W639),\"\")","v":""},{"$f":"referentes!S639","v":0},null,637,0,1130,"X",null,{"$f":"CONCATENATE(referentes!W637,\"(\",referentes!T637,\")\")","v":"()"},{"$f":"referentes!S637","v":0}]
[null,null,null,null,null,null,null,null,null,null,null,null,null,null,null,null,null,{"$f":"IF(AND(#REF!<>\"\"    ),(#REF!),\"\")","v":{"$error":"#REF!"}},null,null,null,null,null,null,{"$f":"IF(AND(referentes!U640<>\"\",          referentes!U640<>96321,    referentes!U640<>96222            ),(referentes!W640),\"\")","v":""},{"$f":"referentes!S640","v":0},null,638,0,1130,"X",null,{"$f":"CONCATENATE(referentes!W638,\"(\",referentes!T638,\")\")","v":"()"},{"$f":"referentes!S638","v":0}]
[null,null,null,null,null,null,null,null,null,null,null,null,null,null,null,null,null,{"$f":"IF(AND(#REF!<>\"\"    ),(#REF!),\"\")","v":{"$error":"#REF!"}},null,null,null,null,null,null,{"$f":"IF(AND(referentes!U641<>\"\",          referentes!U641<>96321,    referentes!U641<>96222            ),(referentes!W641),\"\")","v":""},{"$f":"referentes!S641","v":0},null,639,0,1130,"X",null,{"$f":"CONCATENATE(referentes!W639,\"(\",referentes!T639,\")\")","v":"()"},{"$f":"referentes!S639","v":0}]
[null,null,null,null,null,null,null,null,null,null,null,null,null,null,null,null,null,{"$f":"IF(AND(#REF!<>\"\"    ),(#REF!),\"\")","v":{"$error":"#REF!"}},null,null,null,null,null,null,{"$f":"IF(AND(referentes!U642<>\"\",          referentes!U642<>96321,    referentes!U642<>96222            ),(referentes!W642),\"\")","v":""},{"$f":"referentes!S642","v":0},null,640,0,1130,"X",null,{"$f":"CONCATENATE(referentes!W640,\"(\",referentes!T640,\")\")","v":"()"},{"$f":"referentes!S640","v":0}]
[null,null,null,null,null,null,null,null,null,null,null,null,null,null,null,null,null,{"$f":"IF(AND(#REF!<>\"\"    ),(#REF!),\"\")","v":{"$error":"#REF!"}},null,null,null,null,null,null,{"$f":"IF(AND(referentes!U643<>\"\",          referentes!U643<>96321,    referentes!U643<>96222            ),(referentes!W643),\"\")","v":""},{"$f":"referentes!S643","v":0},null,641,0,1130,"X",null,{"$f":"CONCATENATE(referentes!W641,\"(\",referentes!T641,\")\")","v":"()"},{"$f":"referentes!S641","v":0}]
[null,null,null,null,null,null,null,null,null,null,null,null,null,null,null,null,null,{"$f":"IF(AND(#REF!<>\"\"    ),(#REF!),\"\")","v":{"$error":"#REF!"}},null,null,null,null,null,null,{"$f":"IF(AND(referentes!U644<>\"\",          referentes!U644<>96321,    referentes!U644<>96222            ),(referentes!W644),\"\")","v":""},{"$f":"referentes!S644","v":0},null,642,{"$f":"IF(Y647=\"\",0,Y647)","v":0},{"$f":"IF(AC648=0,MAX($AB$7:$AB$1135)+1,AB648)","v":1130},{"$f":"IFERROR(VLOOKUP(SMALL($AD$7:$AD$1135,AB648),$AB$7:$AD$1135,2,FALSE),\"X\")","v":"X"},null,{"$f":"CONCATENATE(referentes!W642,\"(\",referentes!T642,\")\")","v":"()"},{"$f":"referentes!S642","v":0}]
[null,null,null,null,null,null,null,null,null,null,null,null,null,null,null,null,null,{"$f":"IF(AND(#REF!<>\"\"    ),(#REF!),\"\")","v":{"$error":"#REF!"}},null,null,null,null,null,null,{"$f":"IF(AND(referentes!U645<>\"\",          referentes!U645<>96321,    referentes!U645<>96222            ),(referentes!W645),\"\")","v":""},{"$f":"referentes!S645","v":0},null,643,0,1130,"X",null,{"$f":"CONCATENATE(referentes!W643,\"(\",referentes!T643,\")\")","v":"()"},{"$f":"referentes!S643","v":0}]
[null,null,null,null,null,null,null,null,null,null,null,null,null,null,null,null,null,{"$f":"IF(AND(#REF!<>\"\"    ),(#REF!),\"\")","v":{"$error":"#REF!"}},null,null,null,null,null,null,{"$f":"IF(AND(referentes!U646<>\"\",          referentes!U646<>96321,    referentes!U646<>96222            ),(referentes!W646),\"\")","v":""},{"$f":"referentes!S646","v":0},null,644,0,1130,"X",null,{"$f":"CONCATENATE(referentes!W644,\"(\",referentes!T644,\")\")","v":"()"},{"$f":"referentes!S644","v":0}]
[null,null,null,null,null,null,null,null,null,null,null,null,null,null,null,null,null,{"$f":"IF(AND(#REF!<>\"\"    ),(#REF!),\"\")","v":{"$error":"#REF!"}},null,null,null,null,null,null,{"$f":"IF(AND(referentes!U647<>\"\",          referentes!U647<>96321,    referentes!U647<>96222            ),(referentes!W647),\"\")","v":""},{"$f":"referentes!S647","v":0},null,645,0,1130,"X",null,{"$f":"CONCATENATE(referentes!W645,\"(\",referentes!T645,\")\")","v":"()"},{"$f":"referentes!S645","v":0}]
[null,null,null,null,null,null,null,null,null,null,null,null,null,null,null,null,null,{"$f":"IF(AND(#REF!<>\"\"    ),(#REF!),\"\")","v":{"$error":"#REF!"}},null,null,null,null,null,null,{"$f":"IF(AND(referentes!U648<>\"\",          referentes!U648<>96321,    referentes!U648<>96222            ),(referentes!W648),\"\")","v":""},{"$f":"referentes!S648","v":0},null,646,0,1130,"X",null,{"$f":"CONCATENATE(referentes!W646,\"(\",referentes!T646,\")\")","v":"()"},{"$f":"referentes!S646","v":0}]
[null,null,null,null,null,null,null,null,null,null,null,null,null,null,null,null,null,{"$f":"IF(AND(#REF!<>\"\"    ),(#REF!),\"\")","v":{"$error":"#REF!"}},null,null,null,null,null,null,{"$f":"IF(AND(referentes!U649<>\"\",          referentes!U649<>96321,    referentes!U649<>96222            ),(referentes!W649),\"\")","v":""},{"$f":"referentes!S649","v":0},null,647,0,1130,"X",null,{"$f":"CONCATENATE(referentes!W647,\"(\",referentes!T647,\")\")","v":"()"},{"$f":"referentes!S647","v":0}]
[null,null,null,null,null,null,null,null,null,null,null,null,null,null,null,null,null,{"$f":"IF(AND(#REF!<>\"\"    ),(#REF!),\"\")","v":{"$error":"#REF!"}},null,null,null,null,null,null,{"$f":"IF(AND(referentes!U650<>\"\",          referentes!U650<>96321,    referentes!U650<>96222            ),(referentes!W650),\"\")","v":""},{"$f":"referentes!S650","v":0},null,648,0,1130,"X",null,{"$f":"CONCATENATE(referentes!W648,\"(\",referentes!T648,\")\")","v":"()"},{"$f":"referentes!S648","v":0}]
[null,null,null,null,null,null,null,null,null,null,null,null,null,null,null,null,null,{"$f":"IF(AND(#REF!<>\"\"    ),(#REF!),\"\")","v":{"$error":"#REF!"}},null,null,null,null,null,null,{"$f":"IF(AND(referentes!U651<>\"\",          referentes!U651<>96321,    referentes!U651<>96222            ),(referentes!W651),\"\")","v":""},{"$f":"referentes!S651","v":0},null,649,0,1130,"X",null,{"$f":"CONCATENATE(referentes!W649,\"(\",referentes!T649,\")\")","v":"()"},{"$f":"referentes!S649","v":0}]
[null,null,null,null,null,null,null,null,null,null,null,null,null,null,null,null,null,{"$f":"IF(AND(#REF!<>\"\"    ),(#REF!),\"\")","v":{"$error":"#REF!"}},null,null,null,null,null,null,{"$f":"IF(AND(referentes!U652<>\"\",          referentes!U652<>96321,    referentes!U652<>96222            ),(referentes!W652),\"\")","v":""},{"$f":"referentes!S652","v":0},null,650,0,1130,"X",null,{"$f":"CONCATENATE(referentes!W650,\"(\",referentes!T650,\")\")","v":"()"},{"$f":"referentes!S650","v":0}]
[null,null,null,null,null,null,null,null,null,null,null,null,null,null,null,null,null,{"$f":"IF(AND(#REF!<>\"\"    ),(#REF!),\"\")","v":{"$error":"#REF!"}},null,null,null,null,null,null,{"$f":"IF(AND(referentes!U653<>\"\",          referentes!U653<>96321,    referentes!U653<>96222            ),(referentes!W653),\"\")","v":""},{"$f":"referentes!S653","v":0},null,651,0,1130,"X",null,{"$f":"CONCATENATE(referentes!W651,\"(\",referentes!T651,\")\")","v":"()"},{"$f":"referentes!S651","v":0}]
[null,null,null,null,null,null,null,null,null,null,null,null,null,null,null,null,null,{"$f":"IF(AND(#REF!<>\"\"    ),(#REF!),\"\")","v":{"$error":"#REF!"}},null,null,null,null,null,null,{"$f":"IF(AND(referentes!U654<>\"\",          referentes!U654<>96321,    referentes!U654<>96222            ),(referentes!W654),\"\")","v":""},{"$f":"referentes!S654","v":0},null,652,0,1130,"X",null,{"$f":"CONCATENATE(referentes!W652,\"(\",referentes!T652,\")\")","v":"()"},{"$f":"referentes!S652","v":0}]
[null,null,null,null,null,null,null,null,null,null,null,null,null,null,null,null,null,{"$f":"IF(AND(#REF!<>\"\"    ),(#REF!),\"\")","v":{"$error":"#REF!"}},null,null,null,null,null,null,{"$f":"IF(AND(referentes!U655<>\"\",          referentes!U655<>96321,    referentes!U655<>96222            ),(referentes!W655),\"\")","v":""},{"$f":"referentes!S655","v":0},null,653,0,1130,"X",null,{"$f":"CONCATENATE(referentes!W653,\"(\",referentes!T653,\")\")","v":"()"},{"$f":"referentes!S653","v":0}]
[null,null,null,null,null,null,null,null,null,null,null,null,null,null,null,null,null,{"$f":"IF(AND(#REF!<>\"\"    ),(#REF!),\"\")","v":{"$error":"#REF!"}},null,null,null,null,null,null,{"$f":"IF(AND(referentes!U656<>\"\",          referentes!U656<>96321,    referentes!U656<>96222            ),(referentes!W656),\"\")","v":""},{"$f":"referentes!S656","v":0},null,654,0,1130,"X"]
[null,null,null,null,null,null,null,null,null,null,null,null,null,null,null,null,null,{"$f":"IF(AND(#REF!<>\"\"    ),(#REF!),\"\")","v":{"$error":"#REF!"}},null,null,null,null,null,null,{"$f":"IF(AND(referentes!U657<>\"\",          referentes!U657<>96321,    referentes!U657<>96222            ),(referentes!W657),\"\")","v":""},{"$f":"referentes!S657","v":0},null,655,0,1130,"X"]
[null,null,null,null,null,null,null,null,null,null,null,null,null,null,null,null,null,{"$f":"IF(AND(#REF!<>\"\"    ),(#REF!),\"\")","v":{"$error":"#REF!"}},null,null,null,null,null,null,{"$f":"IF(AND(referentes!U658<>\"\",          referentes!U658<>96321,    referentes!U658<>96222            ),(referentes!W658),\"\")","v":""},{"$f":"referentes!S658","v":0},null,656,0,1130,"X"]
[null,null,null,null,null,null,null,null,null,null,null,null,null,null,null,null,null,{"$f":"IF(AND(#REF!<>\"\"    ),(#REF!),\"\")","v":{"$error":"#REF!"}},null,null,null,null,null,null,{"$f":"IF(AND(referentes!U659<>\"\",          referentes!U659<>96321,    referentes!U659<>96222            ),(referentes!W659),\"\")","v":""},{"$f":"referentes!S659","v":0},null,657,0,1130,"X"]
[null,null,null,null,null,null,null,null,null,null,null,null,null,null,null,null,null,{"$f":"IF(AND(#REF!<>\"\"    ),(#REF!),\"\")","v":{"$error":"#REF!"}},null,null,null,null,null,null,{"$f":"IF(AND(referentes!U660<>\"\",          referentes!U660<>96321,    referentes!U660<>96222            ),(referentes!W660),\"\")","v":""},{"$f":"referentes!S660","v":0},null,658,0,1130,"X"]
[null,null,null,null,null,null,null,null,null,null,null,null,null,null,null,null,null,{"$f":"IF(AND(#REF!<>\"\"    ),(#REF!),\"\")","v":{"$error":"#REF!"}},null,null,null,null,null,null,{"$f":"IF(AND(referentes!U661<>\"\",          referentes!U661<>96321,    referentes!U661<>96222            ),(referentes!W661),\"\")","v":""},{"$f":"referentes!S661","v":0},null,659,0,1130,"X"]
[null,null,null,null,null,null,null,null,null,null,null,null,null,null,null,null,null,{"$f":"IF(AND(#REF!<>\"\"    ),(#REF!),\"\")","v":{"$error":"#REF!"}},null,null,null,null,null,null,{"$f":"IF(AND(referentes!U662<>\"\",          referentes!U662<>96321,    referentes!U662<>96222            ),(referentes!W662),\"\")","v":""},{"$f":"referentes!S662","v":0},null,660,0,1130,"X"]
[null,null,null,null,null,null,null,null,null,null,null,null,null,null,null,null,null,{"$f":"IF(AND(#REF!<>\"\"    ),(#REF!),\"\")","v":{"$error":"#REF!"}},null,null,null,null,null,null,{"$f":"IF(AND(referentes!U663<>\"\",          referentes!U663<>96321,    referentes!U663<>96222            ),(referentes!W663),\"\")","v":""},{"$f":"referentes!S663","v":0},null,661,0,1130,"X"]
[null,null,null,null,null,null,null,null,null,null,null,null,null,null,null,null,null,{"$f":"IF(AND(#REF!<>\"\"    ),(#REF!),\"\")","v":{"$error":"#REF!"}},null,null,null,null,null,null,{"$f":"IF(AND(referentes!U664<>\"\",          referentes!U664<>96321,    referentes!U664<>96222            ),(referentes!W664),\"\")","v":""},{"$f":"referentes!S664","v":0},null,662,0,1130,"X"]
[null,null,null,null,null,null,null,null,null,null,null,null,null,null,null,null,null,{"$f":"IF(AND(#REF!<>\"\"    ),(#REF!),\"\")","v":{"$error":"#REF!"}},null,null,null,null,null,null,{"$f":"IF(AND(referentes!U665<>\"\",          referentes!U665<>96321,    referentes!U665<>96222            ),(referentes!W665),\"\")","v":""},{"$f":"referentes!S665","v":0},null,663,0,1130,"X"]
[null,null,null,null,null,null,null,null,null,null,null,null,null,null,null,null,null,{"$f":"IF(AND(#REF!<>\"\"    ),(#REF!),\"\")","v":{"$error":"#REF!"}},null,null,null,null,null,null,{"$f":"IF(AND(referentes!U666<>\"\",          referentes!U666<>96321,    referentes!U666<>96222            ),(referentes!W666),\"\")","v":""},{"$f":"referentes!S666","v":0},null,664,0,1130,"X"]
[null,null,null,null,null,null,null,null,null,null,null,null,null,null,null,null,null,{"$f":"IF(AND(#REF!<>\"\"    ),(#REF!),\"\")","v":{"$error":"#REF!"}},null,null,null,null,null,null,{"$f":"IF(AND(referentes!U667<>\"\",          referentes!U667<>96321,    referentes!U667<>96222            ),(referentes!W667),\"\")","v":""},{"$f":"referentes!S667","v":0},null,665,0,1130,"X"]
[null,null,null,null,null,null,null,null,null,null,null,null,null,null,null,null,null,{"$f":"IF(AND(#REF!<>\"\"    ),(#REF!),\"\")","v":{"$error":"#REF!"}},null,null,null,null,null,null,{"$f":"IF(AND(referentes!U668<>\"\",          referentes!U668<>96321,    referentes!U668<>96222            ),(referentes!W668),\"\")","v":""},{"$f":"referentes!S668","v":0},null,666,0,1130,"X"]
[null,null,null,null,null,null,null,null,null,null,null,null,null,null,null,null,null,{"$f":"IF(AND(#REF!<>\"\"    ),(#REF!),\"\")","v":{"$error":"#REF!"}},null,null,null,null,null,null,{"$f":"IF(AND(referentes!U669<>\"\",          referentes!U669<>96321,    referentes!U669<>96222            ),(referentes!W669),\"\")","v":""},{"$f":"referentes!S669","v":0},null,667,0,1130,"X"]
[null,null,null,null,null,null,null,null,null,null,null,null,null,null,null,null,null,{"$f":"IF(AND(#REF!<>\"\"    ),(#REF!),\"\")","v":{"$error":"#REF!"}},null,null,null,null,null,null,{"$f":"IF(AND(referentes!U670<>\"\",          referentes!U670<>96321,    referentes!U670<>96222            ),(referentes!W670),\"\")","v":""},{"$f":"referentes!S670","v":0},null,668,0,1130,"X"]
[null,null,null,null,null,null,null,null,null,null,null,null,null,null,null,null,null,{"$f":"IF(AND(#REF!<>\"\"    ),(#REF!),\"\")","v":{"$error":"#REF!"}},null,null,null,null,null,null,{"$f":"IF(AND(referentes!U671<>\"\",          referentes!U671<>96321,    referentes!U671<>96222            ),(referentes!W671),\"\")","v":""},{"$f":"referentes!S671","v":0},null,669,0,1130,"X"]
[null,null,null,null,null,null,null,null,null,null,null,null,null,null,null,null,null,{"$f":"IF(AND(#REF!<>\"\"    ),(#REF!),\"\")","v":{"$error":"#REF!"}},null,null,null,null,null,null,{"$f":"IF(AND(referentes!U672<>\"\",          referentes!U672<>96321,    referentes!U672<>96222            ),(referentes!W672),\"\")","v":""},{"$f":"referentes!S672","v":0},null,670,0,1130,"X"]
[null,null,null,null,null,null,null,null,null,null,null,null,null,null,null,null,null,{"$f":"IF(AND(#REF!<>\"\"    ),(#REF!),\"\")","v":{"$error":"#REF!"}},null,null,null,null,null,null,{"$f":"IF(AND(referentes!U673<>\"\",          referentes!U673<>96321,    referentes!U673<>96222            ),(referentes!W673),\"\")","v":""},{"$f":"referentes!S673","v":0},null,671,0,1130,"X"]
[null,null,null,null,null,null,null,null,null,null,null,null,null,null,null,null,null,{"$f":"IF(AND(#REF!<>\"\"    ),(#REF!),\"\")","v":{"$error":"#REF!"}},null,null,null,null,null,null,{"$f":"IF(AND(referentes!U674<>\"\",          referentes!U674<>96321,    referentes!U674<>96222            ),(referentes!W674),\"\")","v":""},{"$f":"referentes!S674","v":0},null,672,0,1130,"X"]
[null,null,null,null,null,null,null,null,null,null,null,null,null,null,null,null,null,{"$f":"IF(AND(#REF!<>\"\"    ),(#REF!),\"\")","v":{"$error":"#REF!"}},null,null,null,null,null,null,{"$f":"IF(AND(referentes!U675<>\"\",          referentes!U675<>96321,    referentes!U675<>96222            ),(referentes!W675),\"\")","v":""},{"$f":"referentes!S675","v":0},null,673,0,1130,"X"]
[null,null,null,null,null,null,null,null,null,null,null,null,null,null,null,null,null,{"$f":"IF(AND(#REF!<>\"\"    ),(#REF!),\"\")","v":{"$error":"#REF!"}},null,null,null,null,null,null,{"$f":"IF(AND(referentes!U676<>\"\",          referentes!U676<>96321,    referentes!U676<>96222            ),(referentes!W676),\"\")","v":""},{"$f":"referentes!S676","v":0},null,674,0,1130,"X"]
[null,null,null,null,null,null,null,null,null,null,null,null,null,null,null,null,null,{"$f":"IF(AND(#REF!<>\"\"    ),(#REF!),\"\")","v":{"$error":"#REF!"}},null,null,null,null,null,null,{"$f":"IF(AND(referentes!U677<>\"\",          referentes!U677<>96321,    referentes!U677<>96222            ),(referentes!W677),\"\")","v":""},{"$f":"referentes!S677","v":0},null,675,0,1130,"X"]
[null,null,null,null,null,null,null,null,null,null,null,null,null,null,null,null,null,{"$f":"IF(AND(#REF!<>\"\"    ),(#REF!),\"\")","v":{"$error":"#REF!"}},null,null,null,null,null,null,{"$f":"IF(AND(referentes!U678<>\"\",          referentes!U678<>96321,    referentes!U678<>96222            ),(referentes!W678),\"\")","v":""},{"$f":"referentes!S678","v":0},null,676,0,1130,"X"]
[null,null,null,null,null,null,null,null,null,null,null,null,null,null,null,null,null,{"$f":"IF(AND(#REF!<>\"\"    ),(#REF!),\"\")","v":{"$error":"#REF!"}},null,null,null,null,null,null,{"$f":"IF(AND(referentes!U679<>\"\",          referentes!U679<>96321,    referentes!U679<>96222            ),(referentes!W679),\"\")","v":""},{"$f":"referentes!S679","v":0},null,677,0,1130,"X"]
[null,null,null,null,null,null,null,null,null,null,null,null,null,null,null,null,null,{"$f":"IF(AND(#REF!<>\"\"    ),(#REF!),\"\")","v":{"$error":"#REF!"}},null,null,null,null,null,null,{"$f":"IF(AND(referentes!U680<>\"\",          referentes!U680<>96321,    referentes!U680<>96222            ),(referentes!W680),\"\")","v":""},{"$f":"referentes!S680","v":0},null,678,0,1130,"X"]
[null,null,null,null,null,null,null,null,null,null,null,null,null,null,null,null,null,{"$f":"IF(AND(#REF!<>\"\"    ),(#REF!),\"\")","v":{"$error":"#REF!"}},null,null,null,null,null,null,{"$f":"IF(AND(referentes!U681<>\"\",          referentes!U681<>96321,    referentes!U681<>96222            ),(referentes!W681),\"\")","v":""},{"$f":"referentes!S681","v":0},null,679,0,1130,"X"]
[null,null,null,null,null,null,null,null,null,null,null,null,null,null,null,null,null,{"$f":"IF(AND(#REF!<>\"\"    ),(#REF!),\"\")","v":{"$error":"#REF!"}},null,null,null,null,null,null,{"$f":"IF(AND(referentes!U682<>\"\",          referentes!U682<>96321,    referentes!U682<>96222            ),(referentes!W682),\"\")","v":""},{"$f":"referentes!S682","v":0},null,680,0,1130,"X"]
[null,null,null,null,null,null,null,null,null,null,null,null,null,null,null,null,null,{"$f":"IF(AND(#REF!<>\"\"    ),(#REF!),\"\")","v":{"$error":"#REF!"}},null,null,null,null,null,null,{"$f":"IF(AND(referentes!U683<>\"\",          referentes!U683<>96321,    referentes!U683<>96222            ),(referentes!W683),\"\")","v":""},{"$f":"referentes!S683","v":0},null,681,0,1130,"X"]
[null,null,null,null,null,null,null,null,null,null,null,null,null,null,null,null,null,{"$f":"IF(AND(#REF!<>\"\"    ),(#REF!),\"\")","v":{"$error":"#REF!"}},null,null,null,null,null,null,{"$f":"IF(AND(referentes!U684<>\"\",          referentes!U684<>96321,    referentes!U684<>96222            ),(referentes!W684),\"\")","v":""},{"$f":"referentes!S684","v":0},null,682,0,1130,"X"]
[null,null,null,null,null,null,null,null,null,null,null,null,null,null,null,null,null,{"$f":"IF(AND(#REF!<>\"\"    ),(#REF!),\"\")","v":{"$error":"#REF!"}},null,null,null,null,null,null,{"$f":"IF(AND(referentes!U685<>\"\",          referentes!U685<>96321,    referentes!U685<>96222            ),(referentes!W685),\"\")","v":""},{"$f":"referentes!S685","v":0},null,683,0,1130,"X"]
[null,null,null,null,null,null,null,null,null,null,null,null,null,null,null,null,null,{"$f":"IF(AND(#REF!<>\"\"    ),(#REF!),\"\")","v":{"$error":"#REF!"}},null,null,null,null,null,null,{"$f":"IF(AND(referentes!U686<>\"\",          referentes!U686<>96321,    referentes!U686<>96222            ),(referentes!W686),\"\")","v":""},{"$f":"referentes!S686","v":0},null,684,0,1130,"X"]
[null,null,null,null,null,null,null,null,null,null,null,null,null,null,null,null,null,{"$f":"IF(AND(#REF!<>\"\"    ),(#REF!),\"\")","v":{"$error":"#REF!"}},null,null,null,null,null,null,{"$f":"IF(AND(referentes!U687<>\"\",          referentes!U687<>96321,    referentes!U687<>96222            ),(referentes!W687),\"\")","v":""},{"$f":"referentes!S687","v":0},null,685,0,1130,"X"]
[null,null,null,null,null,null,null,null,null,null,null,null,null,null,null,null,null,{"$f":"IF(AND(#REF!<>\"\"    ),(#REF!),\"\")","v":{"$error":"#REF!"}},null,null,null,null,null,null,{"$f":"IF(AND(referentes!U688<>\"\",          referentes!U688<>96321,    referentes!U688<>96222            ),(referentes!W688),\"\")","v":""},{"$f":"referentes!S688","v":0},null,686,0,1130,"X"]
[null,null,null,null,null,null,null,null,null,null,null,null,null,null,null,null,null,{"$f":"IF(AND(#REF!<>\"\"    ),(#REF!),\"\")","v":{"$error":"#REF!"}},null,null,null,null,null,null,{"$f":"IF(AND(referentes!U689<>\"\",          referentes!U689<>96321,    referentes!U689<>96222            ),(referentes!W689),\"\")","v":""},{"$f":"referentes!S689","v":0},null,687,0,1130,"X"]
[null,null,null,null,null,null,null,null,null,null,null,null,null,null,null,null,null,{"$f":"IF(AND(#REF!<>\"\"    ),(#REF!),\"\")","v":{"$error":"#REF!"}},null,null,null,null,null,null,{"$f":"IF(AND(referentes!U690<>\"\",          referentes!U690<>96321,    referentes!U690<>96222            ),(referentes!W690),\"\")","v":""},{"$f":"referentes!S690","v":0},null,688,0,1130,"X"]
[null,null,null,null,null,null,null,null,null,null,null,null,null,null,null,null,null,{"$f":"IF(AND(#REF!<>\"\"    ),(#REF!),\"\")","v":{"$error":"#REF!"}},null,null,null,null,null,null,{"$f":"IF(AND(referentes!U691<>\"\",          referentes!U691<>96321,    referentes!U691<>96222            ),(referentes!W691),\"\")","v":""},{"$f":"referentes!S691","v":0},null,689,0,1130,"X"]
[null,null,null,null,null,null,null,null,null,null,null,null,null,null,null,null,null,{"$f":"IF(AND(#REF!<>\"\"    ),(#REF!),\"\")","v":{"$error":"#REF!"}},null,null,null,null,null,null,{"$f":"IF(AND(referentes!U692<>\"\",          referentes!U692<>96321,    referentes!U692<>96222            ),(referentes!W692),\"\")","v":""},{"$f":"referentes!S692","v":0},null,690,0,1130,"X"]
[null,null,null,null,null,null,null,null,null,null,null,null,null,null,null,null,null,{"$f":"IF(AND(#REF!<>\"\"    ),(#REF!),\"\")","v":{"$error":"#REF!"}},null,null,null,null,null,null,{"$f":"IF(AND(referentes!U693<>\"\",          referentes!U693<>96321,    referentes!U693<>96222            ),(referentes!W693),\"\")","v":""},{"$f":"referentes!S693","v":0},null,691,0,1130,"X"]
[null,null,null,null,null,null,null,null,null,null,null,null,null,null,null,null,null,{"$f":"IF(AND(#REF!<>\"\"    ),(#REF!),\"\")","v":{"$error":"#REF!"}},null,null,null,null,null,null,{"$f":"IF(AND(referentes!U694<>\"\",          referentes!U694<>96321,    referentes!U694<>96222            ),(referentes!W694),\"\")","v":""},{"$f":"referentes!S694","v":0},null,692,0,1130,"X"]
[null,null,null,null,null,null,null,null,null,null,null,null,null,null,null,null,null,{"$f":"IF(AND(#REF!<>\"\"    ),(#REF!),\"\")","v":{"$error":"#REF!"}},null,null,null,null,null,null,{"$f":"IF(AND(referentes!U695<>\"\",          referentes!U695<>96321,    referentes!U695<>96222            ),(referentes!W695),\"\")","v":""},{"$f":"referentes!S695","v":0},null,693,0,1130,"X"]
[null,null,null,null,null,null,null,null,null,null,null,null,null,null,null,null,null,{"$f":"IF(AND(#REF!<>\"\"    ),(#REF!),\"\")","v":{"$error":"#REF!"}},null,null,null,null,null,null,{"$f":"IF(AND(referentes!U696<>\"\",          referentes!U696<>96321,    referentes!U696<>96222            ),(referentes!W696),\"\")","v":""},{"$f":"referentes!S696","v":0},null,694,0,1130,"X"]
[null,null,null,null,null,null,null,null,null,null,null,null,null,null,null,null,null,{"$f":"IF(AND(#REF!<>\"\"    ),(#REF!),\"\")","v":{"$error":"#REF!"}},null,null,null,null,null,null,{"$f":"IF(AND(referentes!U697<>\"\",          referentes!U697<>96321,    referentes!U697<>96222            ),(referentes!W697),\"\")","v":""},{"$f":"referentes!S697","v":0},null,695,0,1130,"X"]
[null,null,null,null,null,null,null,null,null,null,null,null,null,null,null,null,null,{"$f":"IF(AND(#REF!<>\"\"    ),(#REF!),\"\")","v":{"$error":"#REF!"}},null,null,null,null,null,null,{"$f":"IF(AND(referentes!U698<>\"\",          referentes!U698<>96321,    referentes!U698<>96222            ),(referentes!W698),\"\")","v":""},{"$f":"referentes!S698","v":0},null,696,0,1130,"X"]
[null,null,null,null,null,null,null,null,null,null,null,null,null,null,null,null,null,{"$f":"IF(AND(#REF!<>\"\"    ),(#REF!),\"\")","v":{"$error":"#REF!"}},null,null,null,null,null,null,{"$f":"IF(AND(referentes!U699<>\"\",          referentes!U699<>96321,    referentes!U699<>96222            ),(referentes!W699),\"\")","v":""},{"$f":"referentes!S699","v":0},null,697,0,1130,"X"]
[null,null,null,null,null,null,null,null,null,null,null,null,null,null,null,null,null,{"$f":"IF(AND(#REF!<>\"\"    ),(#REF!),\"\")","v":{"$error":"#REF!"}},null,null,null,null,null,null,{"$f":"IF(AND(referentes!U700<>\"\",          referentes!U700<>96321,    referentes!U700<>96222            ),(referentes!W700),\"\")","v":""},{"$f":"referentes!S700","v":0},null,698,0,1130,"X"]
[null,null,null,null,null,null,null,null,null,null,null,null,null,null,null,null,null,{"$f":"IF(AND(#REF!<>\"\"    ),(#REF!),\"\")","v":{"$error":"#REF!"}},null,null,null,null,null,null,{"$f":"IF(AND(referentes!U701<>\"\",          referentes!U701<>96321,    referentes!U701<>96222            ),(referentes!W701),\"\")","v":""},{"$f":"referentes!S701","v":0},null,699,0,1130,"X"]
[null,null,null,null,null,null,null,null,null,null,null,null,null,null,null,null,null,{"$f":"IF(AND(#REF!<>\"\"    ),(#REF!),\"\")","v":{"$error":"#REF!"}},null,null,null,null,null,null,{"$f":"IF(AND(referentes!U702<>\"\",          referentes!U702<>96321,    referentes!U702<>96222            ),(referentes!W702),\"\")","v":""},{"$f":"referentes!S702","v":0},null,700,0,1130,"X"]
[null,null,null,null,null,null,null,null,null,null,null,null,null,null,null,null,null,{"$f":"IF(AND(#REF!<>\"\"    ),(#REF!),\"\")","v":{"$error":"#REF!"}},null,null,null,null,null,null,{"$f":"IF(AND(referentes!U703<>\"\",          referentes!U703<>96321,    referentes!U703<>96222            ),(referentes!W703),\"\")","v":""},{"$f":"referentes!S703","v":0},null,701,0,1130,"X"]
[null,null,null,null,null,null,null,null,null,null,null,null,null,null,null,null,null,{"$f":"IF(AND(#REF!<>\"\"    ),(#REF!),\"\")","v":{"$error":"#REF!"}},null,null,null,null,null,null,{"$f":"IF(AND(referentes!U704<>\"\",          referentes!U704<>96321,    referentes!U704<>96222            ),(referentes!W704),\"\")","v":""},{"$f":"referentes!S704","v":0},null,702,0,1130,"X"]
[null,null,null,null,null,null,null,null,null,null,null,null,null,null,null,null,null,{"$f":"IF(AND(#REF!<>\"\"    ),(#REF!),\"\")","v":{"$error":"#REF!"}},null,null,null,null,null,null,{"$f":"IF(AND(referentes!U705<>\"\",          referentes!U705<>96321,    referentes!U705<>96222            ),(referentes!W705),\"\")","v":""},{"$f":"referentes!S705","v":0},null,703,0,1130,"X"]
[null,null,null,null,null,null,null,null,null,null,null,null,null,null,null,null,null,{"$f":"IF(AND(#REF!<>\"\"    ),(#REF!),\"\")","v":{"$error":"#REF!"}},null,null,null,null,null,null,{"$f":"IF(AND(referentes!U706<>\"\",          referentes!U706<>96321,    referentes!U706<>96222            ),(referentes!W706),\"\")","v":""},{"$f":"referentes!S706","v":0},null,704,0,1130,"X"]
[null,null,null,null,null,null,null,null,null,null,null,null,null,null,null,null,null,{"$f":"IF(AND(#REF!<>\"\"    ),(#REF!),\"\")","v":{"$error":"#REF!"}},null,null,null,null,null,null,{"$f":"IF(AND(referentes!U707<>\"\",          referentes!U707<>96321,    referentes!U707<>96222            ),(referentes!W707),\"\")","v":""},{"$f":"referentes!S707","v":0},null,705,0,1130,"X"]
[null,null,null,null,null,null,null,null,null,null,null,null,null,null,null,null,null,{"$f":"IF(AND(#REF!<>\"\"    ),(#REF!),\"\")","v":{"$error":"#REF!"}},null,null,null,null,null,null,{"$f":"IF(AND(referentes!U708<>\"\",          referentes!U708<>96321,    referentes!U708<>96222            ),(referentes!W708),\"\")","v":""},{"$f":"referentes!S708","v":0},null,706,{"$f":"IF(Y711=\"\",0,Y711)","v":0},{"$f":"IF(AC712=0,MAX($AB$7:$AB$1135)+1,AB712)","v":1130},{"$f":"IFERROR(VLOOKUP(SMALL($AD$7:$AD$1135,AB712),$AB$7:$AD$1135,2,FALSE),\"X\")","v":"X"}]
[null,null,null,null,null,null,null,null,null,null,null,null,null,null,null,null,null,{"$f":"IF(AND(#REF!<>\"\"    ),(#REF!),\"\")","v":{"$error":"#REF!"}},null,null,null,null,null,null,{"$f":"IF(AND(referentes!U709<>\"\",          referentes!U709<>96321,    referentes!U709<>96222            ),(referentes!W709),\"\")","v":""},{"$f":"referentes!S709","v":0},null,707,0,1130,"X"]
[null,null,null,null,null,null,null,null,null,null,null,null,null,null,null,null,null,{"$f":"IF(AND(#REF!<>\"\"    ),(#REF!),\"\")","v":{"$error":"#REF!"}},null,null,null,null,null,null,{"$f":"IF(AND(referentes!U710<>\"\",          referentes!U710<>96321,    referentes!U710<>96222            ),(referentes!W710),\"\")","v":""},{"$f":"referentes!S710","v":0},null,708,0,1130,"X"]
[null,null,null,null,null,null,null,null,null,null,null,null,null,null,null,null,null,{"$f":"IF(AND(#REF!<>\"\"    ),(#REF!),\"\")","v":{"$error":"#REF!"}},null,null,null,null,null,null,{"$f":"IF(AND(referentes!U711<>\"\",          referentes!U711<>96321,    referentes!U711<>96222            ),(referentes!W711),\"\")","v":""},{"$f":"referentes!S711","v":0},null,709,0,1130,"X"]
[null,null,null,null,null,null,null,null,null,null,null,null,null,null,null,null,null,{"$f":"IF(AND(#REF!<>\"\"    ),(#REF!),\"\")","v":{"$error":"#REF!"}},null,null,null,null,null,null,{"$f":"IF(AND(referentes!U712<>\"\",          referentes!U712<>96321,    referentes!U712<>96222            ),(referentes!W712),\"\")","v":""},{"$f":"referentes!S712","v":0},null,710,0,1130,"X"]
[null,null,null,null,null,null,null,null,null,null,null,null,null,null,null,null,null,{"$f":"IF(AND(#REF!<>\"\"    ),(#REF!),\"\")","v":{"$error":"#REF!"}},null,null,null,null,null,null,{"$f":"IF(AND(referentes!U713<>\"\",          referentes!U713<>96321,    referentes!U713<>96222            ),(referentes!W713),\"\")","v":""},{"$f":"referentes!S713","v":0},null,711,0,1130,"X"]
[null,null,null,null,null,null,null,null,null,null,null,null,null,null,null,null,null,{"$f":"IF(AND(#REF!<>\"\"    ),(#REF!),\"\")","v":{"$error":"#REF!"}},null,null,null,null,null,null,{"$f":"IF(AND(referentes!U714<>\"\",          referentes!U714<>96321,    referentes!U714<>96222            ),(referentes!W714),\"\")","v":""},{"$f":"referentes!S714","v":0},null,712,0,1130,"X"]
[null,null,null,null,null,null,null,null,null,null,null,null,null,null,null,null,null,{"$f":"IF(AND(#REF!<>\"\"    ),(#REF!),\"\")","v":{"$error":"#REF!"}},null,null,null,null,null,null,{"$f":"IF(AND(referentes!U715<>\"\",          referentes!U715<>96321,    referentes!U715<>96222            ),(referentes!W715),\"\")","v":""},{"$f":"referentes!S715","v":0},null,713,0,1130,"X"]
[null,null,null,null,null,null,null,null,null,null,null,null,null,null,null,null,null,{"$f":"IF(AND(#REF!<>\"\"    ),(#REF!),\"\")","v":{"$error":"#REF!"}},null,null,null,null,null,null,{"$f":"IF(AND(referentes!U716<>\"\",          referentes!U716<>96321,    referentes!U716<>96222            ),(referentes!W716),\"\")","v":""},{"$f":"referentes!S716","v":0},null,714,0,1130,"X"]
[null,null,null,null,null,null,null,null,null,null,null,null,null,null,null,null,null,{"$f":"IF(AND(#REF!<>\"\"    ),(#REF!),\"\")","v":{"$error":"#REF!"}},null,null,null,null,null,null,{"$f":"IF(AND(referentes!U717<>\"\",          referentes!U717<>96321,    referentes!U717<>96222            ),(referentes!W717),\"\")","v":""},{"$f":"referentes!S717","v":0},null,715,0,1130,"X"]
[null,null,null,null,null,null,null,null,null,null,null,null,null,null,null,null,null,{"$f":"IF(AND(#REF!<>\"\"    ),(#REF!),\"\")","v":{"$error":"#REF!"}},null,null,null,null,null,null,{"$f":"IF(AND(referentes!U718<>\"\",          referentes!U718<>96321,    referentes!U718<>96222            ),(referentes!W718),\"\")","v":""},{"$f":"referentes!S718","v":0},null,716,0,1130,"X"]
[null,null,null,null,null,null,null,null,null,null,null,null,null,null,null,null,null,{"$f":"IF(AND(#REF!<>\"\"    ),(#REF!),\"\")","v":{"$error":"#REF!"}},null,null,null,null,null,null,{"$f":"IF(AND(referentes!U719<>\"\",          referentes!U719<>96321,    referentes!U719<>96222            ),(referentes!W719),\"\")","v":""},{"$f":"referentes!S719","v":0},null,717,0,1130,"X"]
[null,null,null,null,null,null,null,null,null,null,null,null,null,null,null,null,null,{"$f":"IF(AND(#REF!<>\"\"    ),(#REF!),\"\")","v":{"$error":"#REF!"}},null,null,null,null,null,null,{"$f":"IF(AND(referentes!U720<>\"\",          referentes!U720<>96321,    referentes!U720<>96222            ),(referentes!W720),\"\")","v":""},{"$f":"referentes!S720","v":0},null,718,0,1130,"X"]
[null,null,null,null,null,null,null,null,null,null,null,null,null,null,null,null,null,{"$f":"IF(AND(#REF!<>\"\"    ),(#REF!),\"\")","v":{"$error":"#REF!"}},null,null,null,null,null,null,{"$f":"IF(AND(referentes!U721<>\"\",          referentes!U721<>96321,    referentes!U721<>96222            ),(referentes!W721),\"\")","v":""},{"$f":"referentes!S721","v":0},null,719,0,1130,"X"]
[null,null,null,null,null,null,null,null,null,null,null,null,null,null,null,null,null,{"$f":"IF(AND(#REF!<>\"\"    ),(#REF!),\"\")","v":{"$error":"#REF!"}},null,null,null,null,null,null,{"$f":"IF(AND(referentes!U722<>\"\",          referentes!U722<>96321,    referentes!U722<>96222            ),(referentes!W722),\"\")","v":""},{"$f":"referentes!S722","v":0},null,720,0,1130,"X"]
[null,null,null,null,null,null,null,null,null,null,null,null,null,null,null,null,null,{"$f":"IF(AND(#REF!<>\"\"    ),(#REF!),\"\")","v":{"$error":"#REF!"}},null,null,null,null,null,null,{"$f":"IF(AND(referentes!U723<>\"\",          referentes!U723<>96321,    referentes!U723<>96222            ),(referentes!W723),\"\")","v":""},{"$f":"referentes!S723","v":0},null,721,0,1130,"X"]
[null,null,null,null,null,null,null,null,null,null,null,null,null,null,null,null,null,{"$f":"IF(AND(#REF!<>\"\"    ),(#REF!),\"\")","v":{"$error":"#REF!"}},null,null,null,null,null,null,{"$f":"IF(AND(referentes!U724<>\"\",          referentes!U724<>96321,    referentes!U724<>96222            ),(referentes!W724),\"\")","v":""},{"$f":"referentes!S724","v":0},null,722,0,1130,"X"]
[null,null,null,null,null,null,null,null,null,null,null,null,null,null,null,null,null,{"$f":"IF(AND(#REF!<>\"\"    ),(#REF!),\"\")","v":{"$error":"#REF!"}},null,null,null,null,null,null,{"$f":"IF(AND(referentes!U725<>\"\",          referentes!U725<>96321,    referentes!U725<>96222            ),(referentes!W725),\"\")","v":""},{"$f":"referentes!S725","v":0},null,723,0,1130,"X"]
[null,null,null,null,null,null,null,null,null,null,null,null,null,null,null,null,null,{"$f":"IF(AND(#REF!<>\"\"    ),(#REF!),\"\")","v":{"$error":"#REF!"}},null,null,null,null,null,null,{"$f":"IF(AND(referentes!U726<>\"\",          referentes!U726<>96321,    referentes!U726<>96222            ),(referentes!W726),\"\")","v":""},{"$f":"referentes!S726","v":0},null,724,0,1130,"X"]
[null,null,null,null,null,null,null,null,null,null,null,null,null,null,null,null,null,{"$f":"IF(AND(#REF!<>\"\"    ),(#REF!),\"\")","v":{"$error":"#REF!"}},null,null,null,null,null,null,{"$f":"IF(AND(referentes!U727<>\"\",          referentes!U727<>96321,    referentes!U727<>96222            ),(referentes!W727),\"\")","v":""},{"$f":"referentes!S727","v":0},null,725,0,1130,"X"]
[null,null,null,null,null,null,null,null,null,null,null,null,null,null,null,null,null,{"$f":"IF(AND(#REF!<>\"\"    ),(#REF!),\"\")","v":{"$error":"#REF!"}},null,null,null,null,null,null,{"$f":"IF(AND(referentes!U728<>\"\",          referentes!U728<>96321,    referentes!U728<>96222            ),(referentes!W728),\"\")","v":""},{"$f":"referentes!S728","v":0},null,726,0,1130,"X"]
[null,null,null,null,null,null,null,null,null,null,null,null,null,null,null,null,null,{"$f":"IF(AND(#REF!<>\"\"    ),(#REF!),\"\")","v":{"$error":"#REF!"}},null,null,null,null,null,null,{"$f":"IF(AND(referentes!U729<>\"\",          referentes!U729<>96321,    referentes!U729<>96222            ),(referentes!W729),\"\")","v":""},{"$f":"referentes!S729","v":0},null,727,0,1130,"X"]
[null,null,null,null,null,null,null,null,null,null,null,null,null,null,null,null,null,{"$f":"IF(AND(#REF!<>\"\"    ),(#REF!),\"\")","v":{"$error":"#REF!"}},null,null,null,null,null,null,{"$f":"IF(AND(referentes!U730<>\"\",          referentes!U730<>96321,    referentes!U730<>96222            ),(referentes!W730),\"\")","v":""},{"$f":"referentes!S730","v":0},null,728,0,1130,"X"]
[null,null,null,null,null,null,null,null,null,null,null,null,null,null,null,null,null,{"$f":"IF(AND(#REF!<>\"\"    ),(#REF!),\"\")","v":{"$error":"#REF!"}},null,null,null,null,null,null,{"$f":"IF(AND(referentes!U731<>\"\",          referentes!U731<>96321,    referentes!U731<>96222            ),(referentes!W731),\"\")","v":""},{"$f":"referentes!S731","v":0},null,729,0,1130,"X"]
[null,null,null,null,null,null,null,null,null,null,null,null,null,null,null,null,null,{"$f":"IF(AND(#REF!<>\"\"    ),(#REF!),\"\")","v":{"$error":"#REF!"}},null,null,null,null,null,null,{"$f":"IF(AND(referentes!U732<>\"\",          referentes!U732<>96321,    referentes!U732<>96222            ),(referentes!W732),\"\")","v":""},{"$f":"referentes!S732","v":0},null,730,0,1130,"X"]
[null,null,null,null,null,null,null,null,null,null,null,null,null,null,null,null,null,{"$f":"IF(AND(#REF!<>\"\"    ),(#REF!),\"\")","v":{"$error":"#REF!"}},null,null,null,null,null,null,{"$f":"IF(AND(referentes!U733<>\"\",          referentes!U733<>96321,    referentes!U733<>96222            ),(referentes!W733),\"\")","v":""},{"$f":"referentes!S733","v":0},null,731,0,1130,"X"]
[null,null,null,null,null,null,null,null,null,null,null,null,null,null,null,null,null,{"$f":"IF(AND(#REF!<>\"\"    ),(#REF!),\"\")","v":{"$error":"#REF!"}},null,null,null,null,null,null,{"$f":"IF(AND(referentes!U734<>\"\",          referentes!U734<>96321,    referentes!U734<>96222            ),(referentes!W734),\"\")","v":""},{"$f":"referentes!S734","v":0},null,732,0,1130,"X"]
[null,null,null,null,null,null,null,null,null,null,null,null,null,null,null,null,null,{"$f":"IF(AND(#REF!<>\"\"    ),(#REF!),\"\")","v":{"$error":"#REF!"}},null,null,null,null,null,null,{"$f":"IF(AND(referentes!U735<>\"\",          referentes!U735<>96321,    referentes!U735<>96222            ),(referentes!W735),\"\")","v":""},{"$f":"referentes!S735","v":0},null,733,0,1130,"X"]
[null,null,null,null,null,null,null,null,null,null,null,null,null,null,null,null,null,{"$f":"IF(AND(#REF!<>\"\"    ),(#REF!),\"\")","v":{"$error":"#REF!"}},null,null,null,null,null,null,{"$f":"IF(AND(referentes!U736<>\"\",          referentes!U736<>96321,    referentes!U736<>96222            ),(referentes!W736),\"\")","v":""},{"$f":"referentes!S736","v":0},null,734,0,1130,"X"]
[null,null,null,null,null,null,null,null,null,null,null,null,null,null,null,null,null,{"$f":"IF(AND(#REF!<>\"\"    ),(#REF!),\"\")","v":{"$error":"#REF!"}},null,null,null,null,null,null,{"$f":"IF(AND(referentes!U737<>\"\",          referentes!U737<>96321,    referentes!U737<>96222            ),(referentes!W737),\"\")","v":""},{"$f":"referentes!S737","v":0},null,735,0,1130,"X"]
[null,null,null,null,null,null,null,null,null,null,null,null,null,null,null,null,null,{"$f":"IF(AND(#REF!<>\"\"    ),(#REF!),\"\")","v":{"$error":"#REF!"}},null,null,null,null,null,null,{"$f":"IF(AND(referentes!U738<>\"\",          referentes!U738<>96321,    referentes!U738<>96222            ),(referentes!W738),\"\")","v":""},{"$f":"referentes!S738","v":0},null,736,0,1130,"X"]
[null,null,null,null,null,null,null,null,null,null,null,null,null,null,null,null,null,{"$f":"IF(AND(#REF!<>\"\"    ),(#REF!),\"\")","v":{"$error":"#REF!"}},null,null,null,null,null,null,{"$f":"IF(AND(referentes!U739<>\"\",          referentes!U739<>96321,    referentes!U739<>96222            ),(referentes!W739),\"\")","v":""},{"$f":"referentes!S739","v":0},null,737,0,1130,"X"]
[null,null,null,null,null,null,null,null,null,null,null,null,null,null,null,null,null,{"$f":"IF(AND(#REF!<>\"\"    ),(#REF!),\"\")","v":{"$error":"#REF!"}},null,null,null,null,null,null,{"$f":"IF(AND(referentes!U740<>\"\",          referentes!U740<>96321,    referentes!U740<>96222            ),(referentes!W740),\"\")","v":""},{"$f":"referentes!S740","v":0},null,738,0,1130,"X"]
[null,null,null,null,null,null,null,null,null,null,null,null,null,null,null,null,null,{"$f":"IF(AND(#REF!<>\"\"    ),(#REF!),\"\")","v":{"$error":"#REF!"}},null,null,null,null,null,null,{"$f":"IF(AND(referentes!U741<>\"\",          referentes!U741<>96321,    referentes!U741<>96222            ),(referentes!W741),\"\")","v":""},{"$f":"referentes!S741","v":0},null,739,0,1130,"X"]
[null,null,null,null,null,null,null,null,null,null,null,null,null,null,null,null,null,{"$f":"IF(AND(#REF!<>\"\"    ),(#REF!),\"\")","v":{"$error":"#REF!"}},null,null,null,null,null,null,{"$f":"IF(AND(referentes!U742<>\"\",          referentes!U742<>96321,    referentes!U742<>96222            ),(referentes!W742),\"\")","v":""},{"$f":"referentes!S742","v":0},null,740,0,1130,"X"]
[null,null,null,null,null,null,null,null,null,null,null,null,null,null,null,null,null,{"$f":"IF(AND(#REF!<>\"\"    ),(#REF!),\"\")","v":{"$error":"#REF!"}},null,null,null,null,null,null,{"$f":"IF(AND(referentes!U743<>\"\",          referentes!U743<>96321,    referentes!U743<>96222            ),(referentes!W743),\"\")","v":""},{"$f":"referentes!S743","v":0},null,741,0,1130,"X"]
[null,null,null,null,null,null,null,null,null,null,null,null,null,null,null,null,null,{"$f":"IF(AND(#REF!<>\"\"    ),(#REF!),\"\")","v":{"$error":"#REF!"}},null,null,null,null,null,null,{"$f":"IF(AND(referentes!U744<>\"\",          referentes!U744<>96321,    referentes!U744<>96222            ),(referentes!W744),\"\")","v":""},{"$f":"referentes!S744","v":0},null,742,0,1130,"X"]
[null,null,null,null,null,null,null,null,null,null,null,null,null,null,null,null,null,{"$f":"IF(AND(#REF!<>\"\"    ),(#REF!),\"\")","v":{"$error":"#REF!"}},null,null,null,null,null,null,{"$f":"IF(AND(referentes!U745<>\"\",          referentes!U745<>96321,    referentes!U745<>96222            ),(referentes!W745),\"\")","v":""},{"$f":"referentes!S745","v":0},null,743,0,1130,"X"]
[null,null,null,null,null,null,null,null,null,null,null,null,null,null,null,null,null,{"$f":"IF(AND(#REF!<>\"\"    ),(#REF!),\"\")","v":{"$error":"#REF!"}},null,null,null,null,null,null,{"$f":"IF(AND(referentes!U746<>\"\",          referentes!U746<>96321,    referentes!U746<>96222            ),(referentes!W746),\"\")","v":""},{"$f":"referentes!S746","v":0},null,744,0,1130,"X"]
[null,null,null,null,null,null,null,null,null,null,null,null,null,null,null,null,null,{"$f":"IF(AND(#REF!<>\"\"    ),(#REF!),\"\")","v":{"$error":"#REF!"}},null,null,null,null,null,null,{"$f":"IF(AND(referentes!U747<>\"\",          referentes!U747<>96321,    referentes!U747<>96222            ),(referentes!W747),\"\")","v":""},{"$f":"referentes!S747","v":0},null,745,0,1130,"X"]
[null,null,null,null,null,null,null,null,null,null,null,null,null,null,null,null,null,{"$f":"IF(AND(#REF!<>\"\"    ),(#REF!),\"\")","v":{"$error":"#REF!"}},null,null,null,null,null,null,{"$f":"IF(AND(referentes!U748<>\"\",          referentes!U748<>96321,    referentes!U748<>96222            ),(referentes!W748),\"\")","v":""},{"$f":"referentes!S748","v":0},null,746,0,1130,"X"]
[null,null,null,null,null,null,null,null,null,null,null,null,null,null,null,null,null,{"$f":"IF(AND(#REF!<>\"\"    ),(#REF!),\"\")","v":{"$error":"#REF!"}},null,null,null,null,null,null,{"$f":"IF(AND(referentes!U749<>\"\",          referentes!U749<>96321,    referentes!U749<>96222            ),(referentes!W749),\"\")","v":""},{"$f":"referentes!S749","v":0},null,747,0,1130,"X"]
[null,null,null,null,null,null,null,null,null,null,null,null,null,null,null,null,null,{"$f":"IF(AND(#REF!<>\"\"    ),(#REF!),\"\")","v":{"$error":"#REF!"}},null,null,null,null,null,null,{"$f":"IF(AND(referentes!U750<>\"\",          referentes!U750<>96321,    referentes!U750<>96222            ),(referentes!W750),\"\")","v":""},{"$f":"referentes!S750","v":0},null,748,0,1130,"X"]
[null,null,null,null,null,null,null,null,null,null,null,null,null,null,null,null,null,{"$f":"IF(AND(#REF!<>\"\"    ),(#REF!),\"\")","v":{"$error":"#REF!"}},null,null,null,null,null,null,{"$f":"IF(AND(referentes!U751<>\"\",          referentes!U751<>96321,    referentes!U751<>96222            ),(referentes!W751),\"\")","v":""},{"$f":"referentes!S751","v":0},null,749,0,1130,"X"]
[null,null,null,null,null,null,null,null,null,null,null,null,null,null,null,null,null,{"$f":"IF(AND(#REF!<>\"\"    ),(#REF!),\"\")","v":{"$error":"#REF!"}},null,null,null,null,null,null,{"$f":"IF(AND(referentes!U752<>\"\",          referentes!U752<>96321,    referentes!U752<>96222            ),(referentes!W752),\"\")","v":""},{"$f":"referentes!S752","v":0},null,750,0,1130,"X"]
[null,null,null,null,null,null,null,null,null,null,null,null,null,null,null,null,null,{"$f":"IF(AND(#REF!<>\"\"    ),(#REF!),\"\")","v":{"$error":"#REF!"}},null,null,null,null,null,null,{"$f":"IF(AND(referentes!U753<>\"\",          referentes!U753<>96321,    referentes!U753<>96222            ),(referentes!W753),\"\")","v":""},{"$f":"referentes!S753","v":0},null,751,0,1130,"X"]
[null,null,null,null,null,null,null,null,null,null,null,null,null,null,null,null,null,{"$f":"IF(AND(#REF!<>\"\"    ),(#REF!),\"\")","v":{"$error":"#REF!"}},null,null,null,null,null,null,{"$f":"IF(AND(referentes!U754<>\"\",          referentes!U754<>96321,    referentes!U754<>96222            ),(referentes!W754),\"\")","v":""},{"$f":"referentes!S754","v":0},null,752,0,1130,"X"]
[null,null,null,null,null,null,null,null,null,null,null,null,null,null,null,null,null,{"$f":"IF(AND(#REF!<>\"\"    ),(#REF!),\"\")","v":{"$error":"#REF!"}},null,null,null,null,null,null,{"$f":"IF(AND(referentes!U755<>\"\",          referentes!U755<>96321,    referentes!U755<>96222            ),(referentes!W755),\"\")","v":""},{"$f":"referentes!S755","v":0},null,753,0,1130,"X"]
[null,null,null,null,null,null,null,null,null,null,null,null,null,null,null,null,null,{"$f":"IF(AND(#REF!<>\"\"    ),(#REF!),\"\")","v":{"$error":"#REF!"}},null,null,null,null,null,null,{"$f":"IF(AND(referentes!U756<>\"\",          referentes!U756<>96321,    referentes!U756<>96222            ),(referentes!W756),\"\")","v":""},{"$f":"referentes!S756","v":0},null,754,0,1130,"X"]
[null,null,null,null,null,null,null,null,null,null,null,null,null,null,null,null,null,{"$f":"IF(AND(#REF!<>\"\"    ),(#REF!),\"\")","v":{"$error":"#REF!"}},null,null,null,null,null,null,{"$f":"IF(AND(referentes!U757<>\"\",          referentes!U757<>96321,    referentes!U757<>96222            ),(referentes!W757),\"\")","v":""},{"$f":"referentes!S757","v":0},null,755,0,1130,"X"]
[null,null,null,null,null,null,null,null,null,null,null,null,null,null,null,null,null,{"$f":"IF(AND(#REF!<>\"\"    ),(#REF!),\"\")","v":{"$error":"#REF!"}},null,null,null,null,null,null,{"$f":"IF(AND(referentes!U758<>\"\",          referentes!U758<>96321,    referentes!U758<>96222            ),(referentes!W758),\"\")","v":""},{"$f":"referentes!S758","v":0},null,756,0,1130,"X"]
[null,null,null,null,null,null,null,null,null,null,null,null,null,null,null,null,null,{"$f":"IF(AND(#REF!<>\"\"    ),(#REF!),\"\")","v":{"$error":"#REF!"}},null,null,null,null,null,null,{"$f":"IF(AND(referentes!U759<>\"\",          referentes!U759<>96321,    referentes!U759<>96222            ),(referentes!W759),\"\")","v":""},{"$f":"referentes!S759","v":0},null,757,0,1130,"X"]
[null,null,null,null,null,null,null,null,null,null,null,null,null,null,null,null,null,{"$f":"IF(AND(#REF!<>\"\"    ),(#REF!),\"\")","v":{"$error":"#REF!"}},null,null,null,null,null,null,{"$f":"IF(AND(referentes!U760<>\"\",          referentes!U760<>96321,    referentes!U760<>96222            ),(referentes!W760),\"\")","v":""},{"$f":"referentes!S760","v":0},null,758,0,1130,"X"]
[null,null,null,null,null,null,null,null,null,null,null,null,null,null,null,null,null,{"$f":"IF(AND(#REF!<>\"\"    ),(#REF!),\"\")","v":{"$error":"#REF!"}},null,null,null,null,null,null,{"$f":"IF(AND(referentes!U761<>\"\",          referentes!U761<>96321,    referentes!U761<>96222            ),(referentes!W761),\"\")","v":""},{"$f":"referentes!S761","v":0},null,759,0,1130,"X"]
[null,null,null,null,null,null,null,null,null,null,null,null,null,null,null,null,null,{"$f":"IF(AND(#REF!<>\"\"    ),(#REF!),\"\")","v":{"$error":"#REF!"}},null,null,null,null,null,null,{"$f":"IF(AND(referentes!U762<>\"\",          referentes!U762<>96321,    referentes!U762<>96222            ),(referentes!W762),\"\")","v":""},{"$f":"referentes!S762","v":0},null,760,0,1130,"X"]
[null,null,null,null,null,null,null,null,null,null,null,null,null,null,null,null,null,{"$f":"IF(AND(#REF!<>\"\"    ),(#REF!),\"\")","v":{"$error":"#REF!"}},null,null,null,null,null,null,{"$f":"IF(AND(referentes!U763<>\"\",          referentes!U763<>96321,    referentes!U763<>96222            ),(referentes!W763),\"\")","v":""},{"$f":"referentes!S763","v":0},null,761,0,1130,"X"]
[null,null,null,null,null,null,null,null,null,null,null,null,null,null,null,null,null,{"$f":"IF(AND(#REF!<>\"\"    ),(#REF!),\"\")","v":{"$error":"#REF!"}},null,null,null,null,null,null,{"$f":"IF(AND(referentes!U764<>\"\",          referentes!U764<>96321,    referentes!U764<>96222            ),(referentes!W764),\"\")","v":""},{"$f":"referentes!S764","v":0},null,762,0,1130,"X"]
[null,null,null,null,null,null,null,null,null,null,null,null,null,null,null,null,null,{"$f":"IF(AND(#REF!<>\"\"    ),(#REF!),\"\")","v":{"$error":"#REF!"}},null,null,null,null,null,null,{"$f":"IF(AND(referentes!U765<>\"\",          referentes!U765<>96321,    referentes!U765<>96222            ),(referentes!W765),\"\")","v":""},{"$f":"referentes!S765","v":0},null,763,0,1130,"X"]
[null,null,null,null,null,null,null,null,null,null,null,null,null,null,null,null,null,{"$f":"IF(AND(#REF!<>\"\"    ),(#REF!),\"\")","v":{"$error":"#REF!"}},null,null,null,null,null,null,{"$f":"IF(AND(referentes!U766<>\"\",          referentes!U766<>96321,    referentes!U766<>96222            ),(referentes!W766),\"\")","v":""},{"$f":"referentes!S766","v":0},null,764,0,1130,"X"]
[null,null,null,null,null,null,null,null,null,null,null,null,null,null,null,null,null,{"$f":"IF(AND(#REF!<>\"\"    ),(#REF!),\"\")","v":{"$error":"#REF!"}},null,null,null,null,null,null,{"$f":"IF(AND(referentes!U767<>\"\",          referentes!U767<>96321,    referentes!U767<>96222            ),(referentes!W767),\"\")","v":""},{"$f":"referentes!S767","v":0},null,765,0,1130,"X"]
[null,null,null,null,null,null,null,null,null,null,null,null,null,null,null,null,null,{"$f":"IF(AND(#REF!<>\"\"    ),(#REF!),\"\")","v":{"$error":"#REF!"}},null,null,null,null,null,null,{"$f":"IF(AND(referentes!U768<>\"\",          referentes!U768<>96321,    referentes!U768<>96222            ),(referentes!W768),\"\")","v":""},{"$f":"referentes!S768","v":0},null,766,0,1130,"X"]
[null,null,null,null,null,null,null,null,null,null,null,null,null,null,null,null,null,{"$f":"IF(AND(#REF!<>\"\"    ),(#REF!),\"\")","v":{"$error":"#REF!"}},null,null,null,null,null,null,{"$f":"IF(AND(referentes!U769<>\"\",          referentes!U769<>96321,    referentes!U769<>96222            ),(referentes!W769),\"\")","v":""},{"$f":"referentes!S769","v":0},null,767,0,1130,"X"]
[null,null,null,null,null,null,null,null,null,null,null,null,null,null,null,null,null,{"$f":"IF(AND(#REF!<>\"\"    ),(#REF!),\"\")","v":{"$error":"#REF!"}},null,null,null,null,null,null,{"$f":"IF(AND(referentes!U770<>\"\",          referentes!U770<>96321,    referentes!U770<>96222            ),(referentes!W770),\"\")","v":""},{"$f":"referentes!S770","v":0},null,768,0,1130,"X"]
[null,null,null,null,null,null,null,null,null,null,null,null,null,null,null,null,null,{"$f":"IF(AND(#REF!<>\"\"    ),(#REF!),\"\")","v":{"$error":"#REF!"}},null,null,null,null,null,null,{"$f":"IF(AND(referentes!U771<>\"\",          referentes!U771<>96321,    referentes!U771<>96222            ),(referentes!W771),\"\")","v":""},{"$f":"referentes!S771","v":0},null,769,0,1130,"X"]
[null,null,null,null,null,null,null,null,null,null,null,null,null,null,null,null,null,{"$f":"IF(AND(#REF!<>\"\"    ),(#REF!),\"\")","v":{"$error":"#REF!"}},null,null,null,null,null,null,{"$f":"IF(AND(referentes!U772<>\"\",          referentes!U772<>96321,    referentes!U772<>96222            ),(referentes!W772),\"\")","v":""},{"$f":"referentes!S772","v":0},null,770,{"$f":"IF(Y775=\"\",0,Y775)","v":0},{"$f":"IF(AC776=0,MAX($AB$7:$AB$1135)+1,AB776)","v":1130},{"$f":"IFERROR(VLOOKUP(SMALL($AD$7:$AD$1135,AB776),$AB$7:$AD$1135,2,FALSE),\"X\")","v":"X"}]
[null,null,null,null,null,null,null,null,null,null,null,null,null,null,null,null,null,{"$f":"IF(AND(#REF!<>\"\"    ),(#REF!),\"\")","v":{"$error":"#REF!"}},null,null,null,null,null,null,{"$f":"IF(AND(referentes!U773<>\"\",          referentes!U773<>96321,    referentes!U773<>96222            ),(referentes!W773),\"\")","v":""},{"$f":"referentes!S773","v":0},null,771,0,1130,"X"]
[null,null,null,null,null,null,null,null,null,null,null,null,null,null,null,null,null,{"$f":"IF(AND(#REF!<>\"\"    ),(#REF!),\"\")","v":{"$error":"#REF!"}},null,null,null,null,null,null,{"$f":"IF(AND(referentes!U774<>\"\",          referentes!U774<>96321,    referentes!U774<>96222            ),(referentes!W774),\"\")","v":""},{"$f":"referentes!S774","v":0},null,772,0,1130,"X"]
[null,null,null,null,null,null,null,null,null,null,null,null,null,null,null,null,null,{"$f":"IF(AND(#REF!<>\"\"    ),(#REF!),\"\")","v":{"$error":"#REF!"}},null,null,null,null,null,null,{"$f":"IF(AND(referentes!U775<>\"\",          referentes!U775<>96321,    referentes!U775<>96222            ),(referentes!W775),\"\")","v":""},{"$f":"referentes!S775","v":0},null,773,0,1130,"X"]
[null,null,null,null,null,null,null,null,null,null,null,null,null,null,null,null,null,{"$f":"IF(AND(#REF!<>\"\"    ),(#REF!),\"\")","v":{"$error":"#REF!"}},null,null,null,null,null,null,{"$f":"IF(AND(referentes!U776<>\"\",          referentes!U776<>96321,    referentes!U776<>96222            ),(referentes!W776),\"\")","v":""},{"$f":"referentes!S776","v":0},null,774,0,1130,"X"]
[null,null,null,null,null,null,null,null,null,null,null,null,null,null,null,null,null,{"$f":"IF(AND(#REF!<>\"\"    ),(#REF!),\"\")","v":{"$error":"#REF!"}},null,null,null,null,null,null,{"$f":"IF(AND(referentes!U777<>\"\",          referentes!U777<>96321,    referentes!U777<>96222            ),(referentes!W777),\"\")","v":""},{"$f":"referentes!S777","v":0},null,775,0,1130,"X"]
[null,null,null,null,null,null,null,null,null,null,null,null,null,null,null,null,null,{"$f":"IF(AND(#REF!<>\"\"    ),(#REF!),\"\")","v":{"$error":"#REF!"}},null,null,null,null,null,null,{"$f":"IF(AND(referentes!U778<>\"\",          referentes!U778<>96321,    referentes!U778<>96222            ),(referentes!W778),\"\")","v":""},{"$f":"referentes!S778","v":0},null,776,0,1130,"X"]
[null,null,null,null,null,null,null,null,null,null,null,null,null,null,null,null,null,{"$f":"IF(AND(#REF!<>\"\"    ),(#REF!),\"\")","v":{"$error":"#REF!"}},null,null,null,null,null,null,{"$f":"IF(AND(referentes!U779<>\"\",          referentes!U779<>96321,    referentes!U779<>96222            ),(referentes!W779),\"\")","v":""},{"$f":"referentes!S779","v":0},null,777,0,1130,"X"]
[null,null,null,null,null,null,null,null,null,null,null,null,null,null,null,null,null,{"$f":"IF(AND(#REF!<>\"\"    ),(#REF!),\"\")","v":{"$error":"#REF!"}},null,null,null,null,null,null,{"$f":"IF(AND(referentes!U780<>\"\",          referentes!U780<>96321,    referentes!U780<>96222            ),(referentes!W780),\"\")","v":""},{"$f":"referentes!S780","v":0},null,778,0,1130,"X"]
[null,null,null,null,null,null,null,null,null,null,null,null,null,null,null,null,null,{"$f":"IF(AND(#REF!<>\"\"    ),(#REF!),\"\")","v":{"$error":"#REF!"}},null,null,null,null,null,null,{"$f":"IF(AND(referentes!U781<>\"\",          referentes!U781<>96321,    referentes!U781<>96222            ),(referentes!W781),\"\")","v":""},{"$f":"referentes!S781","v":0},null,779,0,1130,"X"]
[null,null,null,null,null,null,null,null,null,null,null,null,null,null,null,null,null,{"$f":"IF(AND(#REF!<>\"\"    ),(#REF!),\"\")","v":{"$error":"#REF!"}},null,null,null,null,null,null,{"$f":"IF(AND(referentes!U782<>\"\",          referentes!U782<>96321,    referentes!U782<>96222            ),(referentes!W782),\"\")","v":""},{"$f":"referentes!S782","v":0},null,780,0,1130,"X"]
[null,null,null,null,null,null,null,null,null,null,null,null,null,null,null,null,null,{"$f":"IF(AND(#REF!<>\"\"    ),(#REF!),\"\")","v":{"$error":"#REF!"}},null,null,null,null,null,null,{"$f":"IF(AND(referentes!U783<>\"\",          referentes!U783<>96321,    referentes!U783<>96222            ),(referentes!W783),\"\")","v":""},{"$f":"referentes!S783","v":0},null,781,0,1130,"X"]
[null,null,null,null,null,null,null,null,null,null,null,null,null,null,null,null,null,{"$f":"IF(AND(#REF!<>\"\"    ),(#REF!),\"\")","v":{"$error":"#REF!"}},null,null,null,null,null,null,{"$f":"IF(AND(referentes!U784<>\"\",          referentes!U784<>96321,    referentes!U784<>96222            ),(referentes!W784),\"\")","v":""},{"$f":"referentes!S784","v":0},null,782,0,1130,"X"]
[null,null,null,null,null,null,null,null,null,null,null,null,null,null,null,null,null,{"$f":"IF(AND(#REF!<>\"\"    ),(#REF!),\"\")","v":{"$error":"#REF!"}},null,null,null,null,null,null,{"$f":"IF(AND(referentes!U785<>\"\",          referentes!U785<>96321,    referentes!U785<>96222            ),(referentes!W785),\"\")","v":""},{"$f":"referentes!S785","v":0},null,783,0,1130,"X"]
[null,null,null,null,null,null,null,null,null,null,null,null,null,null,null,null,null,{"$f":"IF(AND(#REF!<>\"\"    ),(#REF!),\"\")","v":{"$error":"#REF!"}},null,null,null,null,null,null,{"$f":"IF(AND(referentes!U786<>\"\",          referentes!U786<>96321,    referentes!U786<>96222            ),(referentes!W786),\"\")","v":""},{"$f":"referentes!S786","v":0},null,784,0,1130,"X"]
[null,null,null,null,null,null,null,null,null,null,null,null,null,null,null,null,null,{"$f":"IF(AND(#REF!<>\"\"    ),(#REF!),\"\")","v":{"$error":"#REF!"}},null,null,null,null,null,null,{"$f":"IF(AND(referentes!U787<>\"\",          referentes!U787<>96321,    referentes!U787<>96222            ),(referentes!W787),\"\")","v":""},{"$f":"referentes!S787","v":0},null,785,0,1130,"X"]
[null,null,null,null,null,null,null,null,null,null,null,null,null,null,null,null,null,{"$f":"IF(AND(#REF!<>\"\"    ),(#REF!),\"\")","v":{"$error":"#REF!"}},null,null,null,null,null,null,{"$f":"IF(AND(referentes!U788<>\"\",          referentes!U788<>96321,    referentes!U788<>96222            ),(referentes!W788),\"\")","v":""},{"$f":"referentes!S788","v":0},null,786,0,1130,"X"]
[null,null,null,null,null,null,null,null,null,null,null,null,null,null,null,null,null,{"$f":"IF(AND(#REF!<>\"\"    ),(#REF!),\"\")","v":{"$error":"#REF!"}},null,null,null,null,null,null,{"$f":"IF(AND(referentes!U789<>\"\",          referentes!U789<>96321,    referentes!U789<>96222            ),(referentes!W789),\"\")","v":""},{"$f":"referentes!S789","v":0},null,787,0,1130,"X"]
[null,null,null,null,null,null,null,null,null,null,null,null,null,null,null,null,null,{"$f":"IF(AND(#REF!<>\"\"    ),(#REF!),\"\")","v":{"$error":"#REF!"}},null,null,null,null,null,null,{"$f":"IF(AND(referentes!U790<>\"\",          referentes!U790<>96321,    referentes!U790<>96222            ),(referentes!W790),\"\")","v":""},{"$f":"referentes!S790","v":0},null,788,0,1130,"X"]
[null,null,null,null,null,null,null,null,null,null,null,null,null,null,null,null,null,{"$f":"IF(AND(#REF!<>\"\"    ),(#REF!),\"\")","v":{"$error":"#REF!"}},null,null,null,null,null,null,{"$f":"IF(AND(referentes!U791<>\"\",          referentes!U791<>96321,    referentes!U791<>96222            ),(referentes!W791),\"\")","v":""},{"$f":"referentes!S791","v":0},null,789,0,1130,"X"]
[null,null,null,null,null,null,null,null,null,null,null,null,null,null,null,null,null,{"$f":"IF(AND(#REF!<>\"\"    ),(#REF!),\"\")","v":{"$error":"#REF!"}},null,null,null,null,null,null,{"$f":"IF(AND(referentes!U792<>\"\",          referentes!U792<>96321,    referentes!U792<>96222            ),(referentes!W792),\"\")","v":""},{"$f":"referentes!S792","v":0},null,790,0,1130,"X"]
[null,null,null,null,null,null,null,null,null,null,null,null,null,null,null,null,null,{"$f":"IF(AND(#REF!<>\"\"    ),(#REF!),\"\")","v":{"$error":"#REF!"}},null,null,null,null,null,null,{"$f":"IF(AND(referentes!U793<>\"\",          referentes!U793<>96321,    referentes!U793<>96222            ),(referentes!W793),\"\")","v":""},{"$f":"referentes!S793","v":0},null,791,0,1130,"X"]
[null,null,null,null,null,null,null,null,null,null,null,null,null,null,null,null,null,{"$f":"IF(AND(#REF!<>\"\"    ),(#REF!),\"\")","v":{"$error":"#REF!"}},null,null,null,null,null,null,{"$f":"IF(AND(referentes!U794<>\"\",          referentes!U794<>96321,    referentes!U794<>96222            ),(referentes!W794),\"\")","v":""},{"$f":"referentes!S794","v":0},null,792,0,1130,"X"]
[null,null,null,null,null,null,null,null,null,null,null,null,null,null,null,null,null,{"$f":"IF(AND(#REF!<>\"\"    ),(#REF!),\"\")","v":{"$error":"#REF!"}},null,null,null,null,null,null,{"$f":"IF(AND(referentes!U795<>\"\",          referentes!U795<>96321,    referentes!U795<>96222            ),(referentes!W795),\"\")","v":""},{"$f":"referentes!S795","v":0},null,793,0,1130,"X"]
[null,null,null,null,null,null,null,null,null,null,null,null,null,null,null,null,null,{"$f":"IF(AND(#REF!<>\"\"    ),(#REF!),\"\")","v":{"$error":"#REF!"}},null,null,null,null,null,null,{"$f":"IF(AND(referentes!U796<>\"\",          referentes!U796<>96321,    referentes!U796<>96222            ),(referentes!W796),\"\")","v":""},{"$f":"referentes!S796","v":0},null,794,0,1130,"X"]
[null,null,null,null,null,null,null,null,null,null,null,null,null,null,null,null,null,{"$f":"IF(AND(#REF!<>\"\"    ),(#REF!),\"\")","v":{"$error":"#REF!"}},null,null,null,null,null,null,{"$f":"IF(AND(referentes!U797<>\"\",          referentes!U797<>96321,    referentes!U797<>96222            ),(referentes!W797),\"\")","v":""},{"$f":"referentes!S797","v":0},null,795,0,1130,"X"]
[null,null,null,null,null,null,null,null,null,null,null,null,null,null,null,null,null,{"$f":"IF(AND(#REF!<>\"\"    ),(#REF!),\"\")","v":{"$error":"#REF!"}},null,null,null,null,null,null,{"$f":"IF(AND(referentes!U798<>\"\",          referentes!U798<>96321,    referentes!U798<>96222            ),(referentes!W798),\"\")","v":""},{"$f":"referentes!S798","v":0},null,796,0,1130,"X"]
[null,null,null,null,null,null,null,null,null,null,null,null,null,null,null,null,null,{"$f":"IF(AND(#REF!<>\"\"    ),(#REF!),\"\")","v":{"$error":"#REF!"}},null,null,null,null,null,null,{"$f":"IF(AND(referentes!U799<>\"\",          referentes!U799<>96321,    referentes!U799<>96222            ),(referentes!W799),\"\")","v":""},{"$f":"referentes!S799","v":0},null,797,0,1130,"X"]
[null,null,null,null,null,null,null,null,null,null,null,null,null,null,null,null,null,{"$f":"IF(AND(#REF!<>\"\"    ),(#REF!),\"\")","v":{"$error":"#REF!"}},null,null,null,null,null,null,{"$f":"IF(AND(referentes!U800<>\"\",          referentes!U800<>96321,    referentes!U800<>96222            ),(referentes!W800),\"\")","v":""},{"$f":"referentes!S800","v":0},null,798,0,1130,"X"]
[null,null,null,null,null,null,null,null,null,null,null,null,null,null,null,null,null,{"$f":"IF(AND(#REF!<>\"\"    ),(#REF!),\"\")","v":{"$error":"#REF!"}},null,null,null,null,null,null,{"$f":"IF(AND(referentes!U801<>\"\",          referentes!U801<>96321,    referentes!U801<>96222            ),(referentes!W801),\"\")","v":""},{"$f":"referentes!S801","v":0},null,799,0,1130,"X"]
[null,null,null,null,null,null,null,null,null,null,null,null,null,null,null,null,null,{"$f":"IF(AND(#REF!<>\"\"    ),(#REF!),\"\")","v":{"$error":"#REF!"}},null,null,null,null,null,null,{"$f":"IF(AND(referentes!U802<>\"\",          referentes!U802<>96321,    referentes!U802<>96222            ),(referentes!W802),\"\")","v":""},{"$f":"referentes!S802","v":0},null,800,0,1130,"X"]
[null,null,null,null,null,null,null,null,null,null,null,null,null,null,null,null,null,{"$f":"IF(AND(#REF!<>\"\"    ),(#REF!),\"\")","v":{"$error":"#REF!"}},null,null,null,null,null,null,{"$f":"IF(AND(referentes!U803<>\"\",          referentes!U803<>96321,    referentes!U803<>96222            ),(referentes!W803),\"\")","v":""},{"$f":"referentes!S803","v":0},null,801,0,1130,"X"]
[null,null,null,null,null,null,null,null,null,null,null,null,null,null,null,null,null,{"$f":"IF(AND(#REF!<>\"\"    ),(#REF!),\"\")","v":{"$error":"#REF!"}},null,null,null,null,null,null,{"$f":"IF(AND(referentes!U804<>\"\",          referentes!U804<>96321,    referentes!U804<>96222            ),(referentes!W804),\"\")","v":""},{"$f":"referentes!S804","v":0},null,802,0,1130,"X"]
[null,null,null,null,null,null,null,null,null,null,null,null,null,null,null,null,null,{"$f":"IF(AND(#REF!<>\"\"    ),(#REF!),\"\")","v":{"$error":"#REF!"}},null,null,null,null,null,null,{"$f":"IF(AND(referentes!U805<>\"\",          referentes!U805<>96321,    referentes!U805<>96222            ),(referentes!W805),\"\")","v":""},{"$f":"referentes!S805","v":0},null,803,0,1130,"X"]
[null,null,null,null,null,null,null,null,null,null,null,null,null,null,null,null,null,{"$f":"IF(AND(#REF!<>\"\"    ),(#REF!),\"\")","v":{"$error":"#REF!"}},null,null,null,null,null,null,{"$f":"IF(AND(referentes!U806<>\"\",          referentes!U806<>96321,    referentes!U806<>96222            ),(referentes!W806),\"\")","v":""},{"$f":"referentes!S806","v":0},null,804,0,1130,"X"]
[null,null,null,null,null,null,null,null,null,null,null,null,null,null,null,null,null,{"$f":"IF(AND(#REF!<>\"\"    ),(#REF!),\"\")","v":{"$error":"#REF!"}},null,null,null,null,null,null,{"$f":"IF(AND(referentes!U807<>\"\",          referentes!U807<>96321,    referentes!U807<>96222            ),(referentes!W807),\"\")","v":""},{"$f":"referentes!S807","v":0},null,805,0,1130,"X"]
[null,null,null,null,null,null,null,null,null,null,null,null,null,null,null,null,null,{"$f":"IF(AND(#REF!<>\"\"    ),(#REF!),\"\")","v":{"$error":"#REF!"}},null,null,null,null,null,null,{"$f":"IF(AND(referentes!U808<>\"\",          referentes!U808<>96321,    referentes!U808<>96222            ),(referentes!W808),\"\")","v":""},{"$f":"referentes!S808","v":0},null,806,0,1130,"X"]
[null,null,null,null,null,null,null,null,null,null,null,null,null,null,null,null,null,{"$f":"IF(AND(#REF!<>\"\"    ),(#REF!),\"\")","v":{"$error":"#REF!"}},null,null,null,null,null,null,{"$f":"IF(AND(referentes!U809<>\"\",          referentes!U809<>96321,    referentes!U809<>96222            ),(referentes!W809),\"\")","v":""},{"$f":"referentes!S809","v":0},null,807,0,1130,"X"]
[null,null,null,null,null,null,null,null,null,null,null,null,null,null,null,null,null,{"$f":"IF(AND(#REF!<>\"\"    ),(#REF!),\"\")","v":{"$error":"#REF!"}},null,null,null,null,null,null,{"$f":"IF(AND(referentes!U810<>\"\",          referentes!U810<>96321,    referentes!U810<>96222            ),(referentes!W810),\"\")","v":""},{"$f":"referentes!S810","v":0},null,808,0,1130,"X"]
[null,null,null,null,null,null,null,null,null,null,null,null,null,null,null,null,null,{"$f":"IF(AND(#REF!<>\"\"    ),(#REF!),\"\")","v":{"$error":"#REF!"}},null,null,null,null,null,null,{"$f":"IF(AND(referentes!U811<>\"\",          referentes!U811<>96321,    referentes!U811<>96222            ),(referentes!W811),\"\")","v":""},{"$f":"referentes!S811","v":0},null,809,0,1130,"X"]
[null,null,null,null,null,null,null,null,null,null,null,null,null,null,null,null,null,{"$f":"IF(AND(#REF!<>\"\"    ),(#REF!),\"\")","v":{"$error":"#REF!"}},null,null,null,null,null,null,{"$f":"IF(AND(referentes!U812<>\"\",          referentes!U812<>96321,    referentes!U812<>96222            ),(referentes!W812),\"\")","v":""},{"$f":"referentes!S812","v":0},null,810,0,1130,"X"]
[null,null,null,null,null,null,null,null,null,null,null,null,null,null,null,null,null,{"$f":"IF(AND(#REF!<>\"\"    ),(#REF!),\"\")","v":{"$error":"#REF!"}},null,null,null,null,null,null,{"$f":"IF(AND(referentes!U813<>\"\",          referentes!U813<>96321,    referentes!U813<>96222            ),(referentes!W813),\"\")","v":""},{"$f":"referentes!S813","v":0},null,811,0,1130,"X"]
[null,null,null,null,null,null,null,null,null,null,null,null,null,null,null,null,null,{"$f":"IF(AND(#REF!<>\"\"    ),(#REF!),\"\")","v":{"$error":"#REF!"}},null,null,null,null,null,null,{"$f":"IF(AND(referentes!U814<>\"\",          referentes!U814<>96321,    referentes!U814<>96222            ),(referentes!W814),\"\")","v":""},{"$f":"referentes!S814","v":0},null,812,0,1130,"X"]
[null,null,null,null,null,null,null,null,null,null,null,null,null,null,null,null,null,{"$f":"IF(AND(#REF!<>\"\"    ),(#REF!),\"\")","v":{"$error":"#REF!"}},null,null,null,null,null,null,{"$f":"IF(AND(referentes!U815<>\"\",          referentes!U815<>96321,    referentes!U815<>96222            ),(referentes!W815),\"\")","v":""},{"$f":"referentes!S815","v":0},null,813,0,1130,"X"]
[null,null,null,null,null,null,null,null,null,null,null,null,null,null,null,null,null,{"$f":"IF(AND(#REF!<>\"\"    ),(#REF!),\"\")","v":{"$error":"#REF!"}},null,null,null,null,null,null,{"$f":"IF(AND(referentes!U816<>\"\",          referentes!U816<>96321,    referentes!U816<>96222            ),(referentes!W816),\"\")","v":""},{"$f":"referentes!S816","v":0},null,814,0,1130,"X"]
[null,null,null,null,null,null,null,null,null,null,null,null,null,null,null,null,null,{"$f":"IF(AND(#REF!<>\"\"    ),(#REF!),\"\")","v":{"$error":"#REF!"}},null,null,null,null,null,null,{"$f":"IF(AND(referentes!U817<>\"\",          referentes!U817<>96321,    referentes!U817<>96222            ),(referentes!W817),\"\")","v":""},{"$f":"referentes!S817","v":0},null,815,0,1130,"X"]
[null,null,null,null,null,null,null,null,null,null,null,null,null,null,null,null,null,{"$f":"IF(AND(#REF!<>\"\"    ),(#REF!),\"\")","v":{"$error":"#REF!"}},null,null,null,null,null,null,{"$f":"IF(AND(referentes!U818<>\"\",          referentes!U818<>96321,    referentes!U818<>96222            ),(referentes!W818),\"\")","v":""},{"$f":"referentes!S818","v":0},null,816,0,1130,"X"]
[null,null,null,null,null,null,null,null,null,null,null,null,null,null,null,null,null,{"$f":"IF(AND(#REF!<>\"\"    ),(#REF!),\"\")","v":{"$error":"#REF!"}},null,null,null,null,null,null,{"$f":"IF(AND(referentes!U819<>\"\",          referentes!U819<>96321,    referentes!U819<>96222            ),(referentes!W819),\"\")","v":""},{"$f":"referentes!S819","v":0},null,817,0,1130,"X"]
[null,null,null,null,null,null,null,null,null,null,null,null,null,null,null,null,null,{"$f":"IF(AND(#REF!<>\"\"    ),(#REF!),\"\")","v":{"$error":"#REF!"}},null,null,null,null,null,null,{"$f":"IF(AND(referentes!U820<>\"\",          referentes!U820<>96321,    referentes!U820<>96222            ),(referentes!W820),\"\")","v":""},{"$f":"referentes!S820","v":0},null,818,0,1130,"X"]
[null,null,null,null,null,null,null,null,null,null,null,null,null,null,null,null,null,{"$f":"IF(AND(#REF!<>\"\"    ),(#REF!),\"\")","v":{"$error":"#REF!"}},null,null,null,null,null,null,{"$f":"IF(AND(referentes!U821<>\"\",          referentes!U821<>96321,    referentes!U821<>96222            ),(referentes!W821),\"\")","v":""},{"$f":"referentes!S821","v":0},null,819,0,1130,"X"]
[null,null,null,null,null,null,null,null,null,null,null,null,null,null,null,null,null,{"$f":"IF(AND(#REF!<>\"\"    ),(#REF!),\"\")","v":{"$error":"#REF!"}},null,null,null,null,null,null,{"$f":"IF(AND(referentes!U822<>\"\",          referentes!U822<>96321,    referentes!U822<>96222            ),(referentes!W822),\"\")","v":""},{"$f":"referentes!S822","v":0},null,820,0,1130,"X"]
[null,null,null,null,null,null,null,null,null,null,null,null,null,null,null,null,null,{"$f":"IF(AND(#REF!<>\"\"    ),(#REF!),\"\")","v":{"$error":"#REF!"}},null,null,null,null,null,null,{"$f":"IF(AND(referentes!U823<>\"\",          referentes!U823<>96321,    referentes!U823<>96222            ),(referentes!W823),\"\")","v":""},{"$f":"referentes!S823","v":0},null,821,0,1130,"X"]
[null,null,null,null,null,null,null,null,null,null,null,null,null,null,null,null,null,{"$f":"IF(AND(#REF!<>\"\"    ),(#REF!),\"\")","v":{"$error":"#REF!"}},null,null,null,null,null,null,{"$f":"IF(AND(referentes!U824<>\"\",          referentes!U824<>96321,    referentes!U824<>96222            ),(referentes!W824),\"\")","v":""},{"$f":"referentes!S824","v":0},null,822,0,1130,"X"]
[null,null,null,null,null,null,null,null,null,null,null,null,null,null,null,null,null,{"$f":"IF(AND(#REF!<>\"\"    ),(#REF!),\"\")","v":{"$error":"#REF!"}},null,null,null,null,null,null,{"$f":"IF(AND(referentes!U825<>\"\",          referentes!U825<>96321,    referentes!U825<>96222            ),(referentes!W825),\"\")","v":""},{"$f":"referentes!S825","v":0},null,823,0,1130,"X"]
[null,null,null,null,null,null,null,null,null,null,null,null,null,null,null,null,null,{"$f":"IF(AND(#REF!<>\"\"    ),(#REF!),\"\")","v":{"$error":"#REF!"}},null,null,null,null,null,null,{"$f":"IF(AND(referentes!U826<>\"\",          referentes!U826<>96321,    referentes!U826<>96222            ),(referentes!W826),\"\")","v":""},{"$f":"referentes!S826","v":0},null,824,0,1130,"X"]
[null,null,null,null,null,null,null,null,null,null,null,null,null,null,null,null,null,{"$f":"IF(AND(#REF!<>\"\"    ),(#REF!),\"\")","v":{"$error":"#REF!"}},null,null,null,null,null,null,{"$f":"IF(AND(referentes!U827<>\"\",          referentes!U827<>96321,    referentes!U827<>96222            ),(referentes!W827),\"\")","v":""},{"$f":"referentes!S827","v":0},null,825,0,1130,"X"]
[null,null,null,null,null,null,null,null,null,null,null,null,null,null,null,null,null,{"$f":"IF(AND(#REF!<>\"\"    ),(#REF!),\"\")","v":{"$error":"#REF!"}},null,null,null,null,null,null,{"$f":"IF(AND(referentes!U828<>\"\",          referentes!U828<>96321,    referentes!U828<>96222            ),(referentes!W828),\"\")","v":""},{"$f":"referentes!S828","v":0},null,826,0,1130,"X"]
[null,null,null,null,null,null,null,null,null,null,null,null,null,null,null,null,null,{"$f":"IF(AND(#REF!<>\"\"    ),(#REF!),\"\")","v":{"$error":"#REF!"}},null,null,null,null,null,null,{"$f":"IF(AND(referentes!U829<>\"\",          referentes!U829<>96321,    referentes!U829<>96222            ),(referentes!W829),\"\")","v":""},{"$f":"referentes!S829","v":0},null,827,0,1130,"X"]
[null,null,null,null,null,null,null,null,null,null,null,null,null,null,null,null,null,{"$f":"IF(AND(#REF!<>\"\"    ),(#REF!),\"\")","v":{"$error":"#REF!"}},null,null,null,null,null,null,{"$f":"IF(AND(referentes!U830<>\"\",          referentes!U830<>96321,    referentes!U830<>96222            ),(referentes!W830),\"\")","v":""},{"$f":"referentes!S830","v":0},null,828,0,1130,"X"]
[null,null,null,null,null,null,null,null,null,null,null,null,null,null,null,null,null,{"$f":"IF(AND(#REF!<>\"\"    ),(#REF!),\"\")","v":{"$error":"#REF!"}},null,null,null,null,null,null,{"$f":"IF(AND(referentes!U831<>\"\",          referentes!U831<>96321,    referentes!U831<>96222            ),(referentes!W831),\"\")","v":""},{"$f":"referentes!S831","v":0},null,829,0,1130,"X"]
[null,null,null,null,null,null,null,null,null,null,null,null,null,null,null,null,null,{"$f":"IF(AND(#REF!<>\"\"    ),(#REF!),\"\")","v":{"$error":"#REF!"}},null,null,null,null,null,null,{"$f":"IF(AND(referentes!U832<>\"\",          referentes!U832<>96321,    referentes!U832<>96222            ),(referentes!W832),\"\")","v":""},{"$f":"referentes!S832","v":0},null,830,0,1130,"X"]
[null,null,null,null,null,null,null,null,null,null,null,null,null,null,null,null,null,{"$f":"IF(AND(#REF!<>\"\"    ),(#REF!),\"\")","v":{"$error":"#REF!"}},null,null,null,null,null,null,{"$f":"IF(AND(referentes!U833<>\"\",          referentes!U833<>96321,    referentes!U833<>96222            ),(referentes!W833),\"\")","v":""},{"$f":"referentes!S833","v":0},null,831,0,1130,"X"]
[null,null,null,null,null,null,null,null,null,null,null,null,null,null,null,null,null,{"$f":"IF(AND(#REF!<>\"\"    ),(#REF!),\"\")","v":{"$error":"#REF!"}},null,null,null,null,null,null,{"$f":"IF(AND(referentes!U834<>\"\",          referentes!U834<>96321,    referentes!U834<>96222            ),(referentes!W834),\"\")","v":""},{"$f":"referentes!S834","v":0},null,832,0,1130,"X"]
[null,null,null,null,null,null,null,null,null,null,null,null,null,null,null,null,null,{"$f":"IF(AND(#REF!<>\"\"    ),(#REF!),\"\")","v":{"$error":"#REF!"}},null,null,null,null,null,null,{"$f":"IF(AND(referentes!U835<>\"\",          referentes!U835<>96321,    referentes!U835<>96222            ),(referentes!W835),\"\")","v":""},{"$f":"referentes!S835","v":0},null,833,0,1130,"X"]
[null,null,null,null,null,null,null,null,null,null,null,null,null,null,null,null,null,{"$f":"IF(AND(#REF!<>\"\"    ),(#REF!),\"\")","v":{"$error":"#REF!"}},null,null,null,null,null,null,{"$f":"IF(AND(referentes!U836<>\"\",          referentes!U836<>96321,    referentes!U836<>96222            ),(referentes!W836),\"\")","v":""},{"$f":"referentes!S836","v":0},null,834,{"$f":"IF(Y839=\"\",0,Y839)","v":0},{"$f":"IF(AC840=0,MAX($AB$7:$AB$1135)+1,AB840)","v":1130},{"$f":"IFERROR(VLOOKUP(SMALL($AD$7:$AD$1135,AB840),$AB$7:$AD$1135,2,FALSE),\"X\")","v":"X"}]
[null,null,null,null,null,null,null,null,null,null,null,null,null,null,null,null,null,{"$f":"IF(AND(#REF!<>\"\"    ),(#REF!),\"\")","v":{"$error":"#REF!"}},null,null,null,null,null,null,{"$f":"IF(AND(referentes!U837<>\"\",          referentes!U837<>96321,    referentes!U837<>96222            ),(referentes!W837),\"\")","v":""},{"$f":"referentes!S837","v":0},null,835,0,1130,"X"]
[null,null,null,null,null,null,null,null,null,null,null,null,null,null,null,null,null,{"$f":"IF(AND(#REF!<>\"\"    ),(#REF!),\"\")","v":{"$error":"#REF!"}},null,null,null,null,null,null,{"$f":"IF(AND(referentes!U838<>\"\",          referentes!U838<>96321,    referentes!U838<>96222            ),(referentes!W838),\"\")","v":""},{"$f":"referentes!S838","v":0},null,836,0,1130,"X"]
[null,null,null,null,null,null,null,null,null,null,null,null,null,null,null,null,null,{"$f":"IF(AND(#REF!<>\"\"    ),(#REF!),\"\")","v":{"$error":"#REF!"}},null,null,null,null,null,null,{"$f":"IF(AND(referentes!U839<>\"\",          referentes!U839<>96321,    referentes!U839<>96222            ),(referentes!W839),\"\")","v":""},{"$f":"referentes!S839","v":0},null,837,0,1130,"X"]
[null,null,null,null,null,null,null,null,null,null,null,null,null,null,null,null,null,{"$f":"IF(AND(#REF!<>\"\"    ),(#REF!),\"\")","v":{"$error":"#REF!"}},null,null,null,null,null,null,{"$f":"IF(AND(referentes!U840<>\"\",          referentes!U840<>96321,    referentes!U840<>96222            ),(referentes!W840),\"\")","v":""},{"$f":"referentes!S840","v":0},null,838,0,1130,"X"]
[null,null,null,null,null,null,null,null,null,null,null,null,null,null,null,null,null,{"$f":"IF(AND(#REF!<>\"\"    ),(#REF!),\"\")","v":{"$error":"#REF!"}},null,null,null,null,null,null,{"$f":"IF(AND(referentes!U841<>\"\",          referentes!U841<>96321,    referentes!U841<>96222            ),(referentes!W841),\"\")","v":""},{"$f":"referentes!S841","v":0},null,839,0,1130,"X"]
[null,null,null,null,null,null,null,null,null,null,null,null,null,null,null,null,null,{"$f":"IF(AND(#REF!<>\"\"    ),(#REF!),\"\")","v":{"$error":"#REF!"}},null,null,null,null,null,null,{"$f":"IF(AND(referentes!U842<>\"\",          referentes!U842<>96321,    referentes!U842<>96222            ),(referentes!W842),\"\")","v":""},{"$f":"referentes!S842","v":0},null,840,0,1130,"X"]
[null,null,null,null,null,null,null,null,null,null,null,null,null,null,null,null,null,{"$f":"IF(AND(#REF!<>\"\"    ),(#REF!),\"\")","v":{"$error":"#REF!"}},null,null,null,null,null,null,{"$f":"IF(AND(referentes!U843<>\"\",          referentes!U843<>96321,    referentes!U843<>96222            ),(referentes!W843),\"\")","v":""},{"$f":"referentes!S843","v":0},null,841,0,1130,"X"]
[null,null,null,null,null,null,null,null,null,null,null,null,null,null,null,null,null,{"$f":"IF(AND(#REF!<>\"\"    ),(#REF!),\"\")","v":{"$error":"#REF!"}},null,null,null,null,null,null,{"$f":"IF(AND(referentes!U844<>\"\",          referentes!U844<>96321,    referentes!U844<>96222            ),(referentes!W844),\"\")","v":""},{"$f":"referentes!S844","v":0},null,842,0,1130,"X"]
[null,null,null,null,null,null,null,null,null,null,null,null,null,null,null,null,null,{"$f":"IF(AND(#REF!<>\"\"    ),(#REF!),\"\")","v":{"$error":"#REF!"}},null,null,null,null,null,null,{"$f":"IF(AND(referentes!U845<>\"\",          referentes!U845<>96321,    referentes!U845<>96222            ),(referentes!W845),\"\")","v":""},{"$f":"referentes!S845","v":0},null,843,0,1130,"X"]
[null,null,null,null,null,null,null,null,null,null,null,null,null,null,null,null,null,{"$f":"IF(AND(#REF!<>\"\"    ),(#REF!),\"\")","v":{"$error":"#REF!"}},null,null,null,null,null,null,{"$f":"IF(AND(referentes!U846<>\"\",          referentes!U846<>96321,    referentes!U846<>96222            ),(referentes!W846),\"\")","v":""},{"$f":"referentes!S846","v":0},null,844,0,1130,"X"]
[null,null,null,null,null,null,null,null,null,null,null,null,null,null,null,null,null,{"$f":"IF(AND(#REF!<>\"\"    ),(#REF!),\"\")","v":{"$error":"#REF!"}},null,null,null,null,null,null,{"$f":"IF(AND(referentes!U847<>\"\",          referentes!U847<>96321,    referentes!U847<>96222            ),(referentes!W847),\"\")","v":""},{"$f":"referentes!S847","v":0},null,845,0,1130,"X"]
[null,null,null,null,null,null,null,null,null,null,null,null,null,null,null,null,null,{"$f":"IF(AND(#REF!<>\"\"    ),(#REF!),\"\")","v":{"$error":"#REF!"}},null,null,null,null,null,null,{"$f":"IF(AND(referentes!U848<>\"\",          referentes!U848<>96321,    referentes!U848<>96222            ),(referentes!W848),\"\")","v":""},{"$f":"referentes!S848","v":0},null,846,0,1130,"X"]
[null,null,null,null,null,null,null,null,null,null,null,null,null,null,null,null,null,{"$f":"IF(AND(#REF!<>\"\"    ),(#REF!),\"\")","v":{"$error":"#REF!"}},null,null,null,null,null,null,{"$f":"IF(AND(referentes!U849<>\"\",          referentes!U849<>96321,    referentes!U849<>96222            ),(referentes!W849),\"\")","v":""},{"$f":"referentes!S849","v":0},null,847,0,1130,"X"]
[null,null,null,null,null,null,null,null,null,null,null,null,null,null,null,null,null,{"$f":"IF(AND(#REF!<>\"\"    ),(#REF!),\"\")","v":{"$error":"#REF!"}},null,null,null,null,null,null,{"$f":"IF(AND(referentes!U850<>\"\",          referentes!U850<>96321,    referentes!U850<>96222            ),(referentes!W850),\"\")","v":""},{"$f":"referentes!S850","v":0},null,848,0,1130,"X"]
[null,null,null,null,null,null,null,null,null,null,null,null,null,null,null,null,null,{"$f":"IF(AND(#REF!<>\"\"    ),(#REF!),\"\")","v":{"$error":"#REF!"}},null,null,null,null,null,null,{"$f":"IF(AND(referentes!U851<>\"\",          referentes!U851<>96321,    referentes!U851<>96222            ),(referentes!W851),\"\")","v":""},{"$f":"referentes!S851","v":0},null,849,0,1130,"X"]
[null,null,null,null,null,null,null,null,null,null,null,null,null,null,null,null,null,{"$f":"IF(AND(#REF!<>\"\"    ),(#REF!),\"\")","v":{"$error":"#REF!"}},null,null,null,null,null,null,{"$f":"IF(AND(referentes!U852<>\"\",          referentes!U852<>96321,    referentes!U852<>96222            ),(referentes!W852),\"\")","v":""},{"$f":"referentes!S852","v":0},null,850,0,1130,"X"]
[null,null,null,null,null,null,null,null,null,null,null,null,null,null,null,null,null,{"$f":"IF(AND(#REF!<>\"\"    ),(#REF!),\"\")","v":{"$error":"#REF!"}},null,null,null,null,null,null,{"$f":"IF(AND(referentes!U853<>\"\",          referentes!U853<>96321,    referentes!U853<>96222            ),(referentes!W853),\"\")","v":""},{"$f":"referentes!S853","v":0},null,851,0,1130,"X"]
[null,null,null,null,null,null,null,null,null,null,null,null,null,null,null,null,null,{"$f":"IF(AND(#REF!<>\"\"    ),(#REF!),\"\")","v":{"$error":"#REF!"}},null,null,null,null,null,null,{"$f":"IF(AND(referentes!U854<>\"\",          referentes!U854<>96321,    referentes!U854<>96222            ),(referentes!W854),\"\")","v":""},{"$f":"referentes!S854","v":0},null,852,0,1130,"X"]
[null,null,null,null,null,null,null,null,null,null,null,null,null,null,null,null,null,{"$f":"IF(AND(#REF!<>\"\"    ),(#REF!),\"\")","v":{"$error":"#REF!"}},null,null,null,null,null,null,{"$f":"IF(AND(referentes!U855<>\"\",          referentes!U855<>96321,    referentes!U855<>96222            ),(referentes!W855),\"\")","v":""},{"$f":"referentes!S855","v":0},null,853,0,1130,"X"]
[null,null,null,null,null,null,null,null,null,null,null,null,null,null,null,null,null,{"$f":"IF(AND(#REF!<>\"\"    ),(#REF!),\"\")","v":{"$error":"#REF!"}},null,null,null,null,null,null,{"$f":"IF(AND(referentes!U856<>\"\",          referentes!U856<>96321,    referentes!U856<>96222            ),(referentes!W856),\"\")","v":""},{"$f":"referentes!S856","v":0},null,854,0,1130,"X"]
[null,null,null,null,null,null,null,null,null,null,null,null,null,null,null,null,null,{"$f":"IF(AND(#REF!<>\"\"    ),(#REF!),\"\")","v":{"$error":"#REF!"}},null,null,null,null,null,null,{"$f":"IF(AND(referentes!U857<>\"\",          referentes!U857<>96321,    referentes!U857<>96222            ),(referentes!W857),\"\")","v":""},{"$f":"referentes!S857","v":0},null,855,0,1130,"X"]
[null,null,null,null,null,null,null,null,null,null,null,null,null,null,null,null,null,{"$f":"IF(AND(#REF!<>\"\"    ),(#REF!),\"\")","v":{"$error":"#REF!"}},null,null,null,null,null,null,{"$f":"IF(AND(referentes!U858<>\"\",          referentes!U858<>96321,    referentes!U858<>96222            ),(referentes!W858),\"\")","v":""},{"$f":"referentes!S858","v":0},null,856,0,1130,"X"]
[null,null,null,null,null,null,null,null,null,null,null,null,null,null,null,null,null,{"$f":"IF(AND(#REF!<>\"\"    ),(#REF!),\"\")","v":{"$error":"#REF!"}},null,null,null,null,null,null,{"$f":"IF(AND(referentes!U859<>\"\",          referentes!U859<>96321,    referentes!U859<>96222            ),(referentes!W859),\"\")","v":""},{"$f":"referentes!S859","v":0},null,857,0,1130,"X"]
[null,null,null,null,null,null,null,null,null,null,null,null,null,null,null,null,null,{"$f":"IF(AND(#REF!<>\"\"    ),(#REF!),\"\")","v":{"$error":"#REF!"}},null,null,null,null,null,null,{"$f":"IF(AND(referentes!U860<>\"\",          referentes!U860<>96321,    referentes!U860<>96222            ),(referentes!W860),\"\")","v":""},{"$f":"referentes!S860","v":0},null,858,0,1130,"X"]
[null,null,null,null,null,null,null,null,null,null,null,null,null,null,null,null,null,{"$f":"IF(AND(#REF!<>\"\"    ),(#REF!),\"\")","v":{"$error":"#REF!"}},null,null,null,null,null,null,{"$f":"IF(AND(referentes!U861<>\"\",          referentes!U861<>96321,    referentes!U861<>96222            ),(referentes!W861),\"\")","v":""},{"$f":"referentes!S861","v":0},null,859,0,1130,"X"]
[null,null,null,null,null,null,null,null,null,null,null,null,null,null,null,null,null,{"$f":"IF(AND(#REF!<>\"\"    ),(#REF!),\"\")","v":{"$error":"#REF!"}},null,null,null,null,null,null,{"$f":"IF(AND(referentes!U862<>\"\",          referentes!U862<>96321,    referentes!U862<>96222            ),(referentes!W862),\"\")","v":""},{"$f":"referentes!S862","v":0},null,860,0,1130,"X"]
[null,null,null,null,null,null,null,null,null,null,null,null,null,null,null,null,null,{"$f":"IF(AND(#REF!<>\"\"    ),(#REF!),\"\")","v":{"$error":"#REF!"}},null,null,null,null,null,null,{"$f":"IF(AND(referentes!U863<>\"\",          referentes!U863<>96321,    referentes!U863<>96222            ),(referentes!W863),\"\")","v":""},{"$f":"referentes!S863","v":0},null,861,0,1130,"X"]
[null,null,null,null,null,null,null,null,null,null,null,null,null,null,null,null,null,{"$f":"IF(AND(#REF!<>\"\"    ),(#REF!),\"\")","v":{"$error":"#REF!"}},null,null,null,null,null,null,{"$f":"IF(AND(referentes!U864<>\"\",          referentes!U864<>96321,    referentes!U864<>96222            ),(referentes!W864),\"\")","v":""},{"$f":"referentes!S864","v":0},null,862,0,1130,"X"]
[null,null,null,null,null,null,null,null,null,null,null,null,null,null,null,null,null,{"$f":"IF(AND(#REF!<>\"\"    ),(#REF!),\"\")","v":{"$error":"#REF!"}},null,null,null,null,null,null,{"$f":"IF(AND(referentes!U865<>\"\",          referentes!U865<>96321,    referentes!U865<>96222            ),(referentes!W865),\"\")","v":""},{"$f":"referentes!S865","v":0},null,863,0,1130,"X"]
[null,null,null,null,null,null,null,null,null,null,null,null,null,null,null,null,null,{"$f":"IF(AND(#REF!<>\"\"    ),(#REF!),\"\")","v":{"$error":"#REF!"}},null,null,null,null,null,null,{"$f":"IF(AND(referentes!U866<>\"\",          referentes!U866<>96321,    referentes!U866<>96222            ),(referentes!W866),\"\")","v":""},{"$f":"referentes!S866","v":0},null,864,0,1130,"X"]
[null,null,null,null,null,null,null,null,null,null,null,null,null,null,null,null,null,{"$f":"IF(AND(#REF!<>\"\"    ),(#REF!),\"\")","v":{"$error":"#REF!"}},null,null,null,null,null,null,{"$f":"IF(AND(referentes!U867<>\"\",          referentes!U867<>96321,    referentes!U867<>96222            ),(referentes!W867),\"\")","v":""},{"$f":"referentes!S867","v":0},null,865,0,1130,"X"]
[null,null,null,null,null,null,null,null,null,null,null,null,null,null,null,null,null,{"$f":"IF(AND(#REF!<>\"\"    ),(#REF!),\"\")","v":{"$error":"#REF!"}},null,null,null,null,null,null,{"$f":"IF(AND(referentes!U868<>\"\",          referentes!U868<>96321,    referentes!U868<>96222            ),(referentes!W868),\"\")","v":""},{"$f":"referentes!S868","v":0},null,866,0,1130,"X"]
[null,null,null,null,null,null,null,null,null,null,null,null,null,null,null,null,null,{"$f":"IF(AND(#REF!<>\"\"    ),(#REF!),\"\")","v":{"$error":"#REF!"}},null,null,null,null,null,null,{"$f":"IF(AND(referentes!U869<>\"\",          referentes!U869<>96321,    referentes!U869<>96222            ),(referentes!W869),\"\")","v":""},{"$f":"referentes!S869","v":0},null,867,0,1130,"X"]
[null,null,null,null,null,null,null,null,null,null,null,null,null,null,null,null,null,{"$f":"IF(AND(#REF!<>\"\"    ),(#REF!),\"\")","v":{"$error":"#REF!"}},null,null,null,null,null,null,{"$f":"IF(AND(referentes!U870<>\"\",          referentes!U870<>96321,    referentes!U870<>96222            ),(referentes!W870),\"\")","v":""},{"$f":"referentes!S870","v":0},null,868,0,1130,"X"]
[null,null,null,null,null,null,null,null,null,null,null,null,null,null,null,null,null,{"$f":"IF(AND(#REF!<>\"\"    ),(#REF!),\"\")","v":{"$error":"#REF!"}},null,null,null,null,null,null,{"$f":"IF(AND(referentes!U871<>\"\",          referentes!U871<>96321,    referentes!U871<>96222            ),(referentes!W871),\"\")","v":""},{"$f":"referentes!S871","v":0},null,869,0,1130,"X"]
[null,null,null,null,null,null,null,null,null,null,null,null,null,null,null,null,null,{"$f":"IF(AND(#REF!<>\"\"    ),(#REF!),\"\")","v":{"$error":"#REF!"}},null,null,null,null,null,null,{"$f":"IF(AND(referentes!U872<>\"\",          referentes!U872<>96321,    referentes!U872<>96222            ),(referentes!W872),\"\")","v":""},{"$f":"referentes!S872","v":0},null,870,0,1130,"X"]
[null,null,null,null,null,null,null,null,null,null,null,null,null,null,null,null,null,{"$f":"IF(AND(#REF!<>\"\"    ),(#REF!),\"\")","v":{"$error":"#REF!"}},null,null,null,null,null,null,{"$f":"IF(AND(referentes!U873<>\"\",          referentes!U873<>96321,    referentes!U873<>96222            ),(referentes!W873),\"\")","v":""},{"$f":"referentes!S873","v":0},null,871,0,1130,"X"]
[null,null,null,null,null,null,null,null,null,null,null,null,null,null,null,null,null,{"$f":"IF(AND(#REF!<>\"\"    ),(#REF!),\"\")","v":{"$error":"#REF!"}},null,null,null,null,null,null,{"$f":"IF(AND(referentes!U874<>\"\",          referentes!U874<>96321,    referentes!U874<>96222            ),(referentes!W874),\"\")","v":""},{"$f":"referentes!S874","v":0},null,872,0,1130,"X"]
[null,null,null,null,null,null,null,null,null,null,null,null,null,null,null,null,null,{"$f":"IF(AND(#REF!<>\"\"    ),(#REF!),\"\")","v":{"$error":"#REF!"}},null,null,null,null,null,null,{"$f":"IF(AND(referentes!U875<>\"\",          referentes!U875<>96321,    referentes!U875<>96222            ),(referentes!W875),\"\")","v":""},{"$f":"referentes!S875","v":0},null,873,0,1130,"X"]
[null,null,null,null,null,null,null,null,null,null,null,null,null,null,null,null,null,{"$f":"IF(AND(#REF!<>\"\"    ),(#REF!),\"\")","v":{"$error":"#REF!"}},null,null,null,null,null,null,{"$f":"IF(AND(referentes!U876<>\"\",          referentes!U876<>96321,    referentes!U876<>96222            ),(referentes!W876),\"\")","v":""},{"$f":"referentes!S876","v":0},null,874,0,1130,"X"]
[null,null,null,null,null,null,null,null,null,null,null,null,null,null,null,null,null,{"$f":"IF(AND(#REF!<>\"\"    ),(#REF!),\"\")","v":{"$error":"#REF!"}},null,null,null,null,null,null,{"$f":"IF(AND(referentes!U877<>\"\",          referentes!U877<>96321,    referentes!U877<>96222            ),(referentes!W877),\"\")","v":""},{"$f":"referentes!S877","v":0},null,875,0,1130,"X"]
[null,null,null,null,null,null,null,null,null,null,null,null,null,null,null,null,null,{"$f":"IF(AND(#REF!<>\"\"    ),(#REF!),\"\")","v":{"$error":"#REF!"}},null,null,null,null,null,null,{"$f":"IF(AND(referentes!U878<>\"\",          referentes!U878<>96321,    referentes!U878<>96222            ),(referentes!W878),\"\")","v":""},{"$f":"referentes!S878","v":0},null,876,0,1130,"X"]
[null,null,null,null,null,null,null,null,null,null,null,null,null,null,null,null,null,{"$f":"IF(AND(#REF!<>\"\"    ),(#REF!),\"\")","v":{"$error":"#REF!"}},null,null,null,null,null,null,{"$f":"IF(AND(referentes!U879<>\"\",          referentes!U879<>96321,    referentes!U879<>96222            ),(referentes!W879),\"\")","v":""},{"$f":"referentes!S879","v":0},null,877,0,1130,"X"]
[null,null,null,null,null,null,null,null,null,null,null,null,null,null,null,null,null,{"$f":"IF(AND(#REF!<>\"\"    ),(#REF!),\"\")","v":{"$error":"#REF!"}},null,null,null,null,null,null,{"$f":"IF(AND(referentes!U880<>\"\",          referentes!U880<>96321,    referentes!U880<>96222            ),(referentes!W880),\"\")","v":""},{"$f":"referentes!S880","v":0},null,878,0,1130,"X"]
[null,null,null,null,null,null,null,null,null,null,null,null,null,null,null,null,null,{"$f":"IF(AND(#REF!<>\"\"    ),(#REF!),\"\")","v":{"$error":"#REF!"}},null,null,null,null,null,null,{"$f":"IF(AND(referentes!U881<>\"\",          referentes!U881<>96321,    referentes!U881<>96222            ),(referentes!W881),\"\")","v":""},{"$f":"referentes!S881","v":0},null,879,0,1130,"X"]
[null,null,null,null,null,null,null,null,null,null,null,null,null,null,null,null,null,{"$f":"IF(AND(#REF!<>\"\"    ),(#REF!),\"\")","v":{"$error":"#REF!"}},null,null,null,null,null,null,{"$f":"IF(AND(referentes!U882<>\"\",          referentes!U882<>96321,    referentes!U882<>96222            ),(referentes!W882),\"\")","v":""},{"$f":"referentes!S882","v":0},null,880,0,1130,"X"]
[null,null,null,null,null,null,null,null,null,null,null,null,null,null,null,null,null,{"$f":"IF(AND(#REF!<>\"\"    ),(#REF!),\"\")","v":{"$error":"#REF!"}},null,null,null,null,null,null,{"$f":"IF(AND(referentes!U883<>\"\",          referentes!U883<>96321,    referentes!U883<>96222            ),(referentes!W883),\"\")","v":""},{"$f":"referentes!S883","v":0},null,881,0,1130,"X"]
[null,null,null,null,null,null,null,null,null,null,null,null,null,null,null,null,null,{"$f":"IF(AND(#REF!<>\"\"    ),(#REF!),\"\")","v":{"$error":"#REF!"}},null,null,null,null,null,null,{"$f":"IF(AND(referentes!U884<>\"\",          referentes!U884<>96321,    referentes!U884<>96222            ),(referentes!W884),\"\")","v":""},{"$f":"referentes!S884","v":0},null,882,0,1130,"X"]
[null,null,null,null,null,null,null,null,null,null,null,null,null,null,null,null,null,{"$f":"IF(AND(#REF!<>\"\"    ),(#REF!),\"\")","v":{"$error":"#REF!"}},null,null,null,null,null,null,{"$f":"IF(AND(referentes!U885<>\"\",          referentes!U885<>96321,    referentes!U885<>96222            ),(referentes!W885),\"\")","v":""},{"$f":"referentes!S885","v":0},null,883,0,1130,"X"]
[null,null,null,null,null,null,null,null,null,null,null,null,null,null,null,null,null,{"$f":"IF(AND(#REF!<>\"\"    ),(#REF!),\"\")","v":{"$error":"#REF!"}},null,null,null,null,null,null,{"$f":"IF(AND(referentes!U886<>\"\",          referentes!U886<>96321,    referentes!U886<>96222            ),(referentes!W886),\"\")","v":""},{"$f":"referentes!S886","v":0},null,884,0,1130,"X"]
[null,null,null,null,null,null,null,null,null,null,null,null,null,null,null,null,null,{"$f":"IF(AND(#REF!<>\"\"    ),(#REF!),\"\")","v":{"$error":"#REF!"}},null,null,null,null,null,null,{"$f":"IF(AND(referentes!U887<>\"\",          referentes!U887<>96321,    referentes!U887<>96222            ),(referentes!W887),\"\")","v":""},{"$f":"referentes!S887","v":0},null,885,0,1130,"X"]
[null,null,null,null,null,null,null,null,null,null,null,null,null,null,null,null,null,{"$f":"IF(AND(#REF!<>\"\"    ),(#REF!),\"\")","v":{"$error":"#REF!"}},null,null,null,null,null,null,{"$f":"IF(AND(referentes!U888<>\"\",          referentes!U888<>96321,    referentes!U888<>96222            ),(referentes!W888),\"\")","v":""},{"$f":"referentes!S888","v":0},null,886,0,1130,"X"]
[null,null,null,null,null,null,null,null,null,null,null,null,null,null,null,null,null,{"$f":"IF(AND(#REF!<>\"\"    ),(#REF!),\"\")","v":{"$error":"#REF!"}},null,null,null,null,null,null,{"$f":"IF(AND(referentes!U889<>\"\",          referentes!U889<>96321,    referentes!U889<>96222            ),(referentes!W889),\"\")","v":""},{"$f":"referentes!S889","v":0},null,887,0,1130,"X"]
[null,null,null,null,null,null,null,null,null,null,null,null,null,null,null,null,null,{"$f":"IF(AND(#REF!<>\"\"    ),(#REF!),\"\")","v":{"$error":"#REF!"}},null,null,null,null,null,null,{"$f":"IF(AND(referentes!U890<>\"\",          referentes!U890<>96321,    referentes!U890<>96222            ),(referentes!W890),\"\")","v":""},{"$f":"referentes!S890","v":0},null,888,0,1130,"X"]
[null,null,null,null,null,null,null,null,null,null,null,null,null,null,null,null,null,{"$f":"IF(AND(#REF!<>\"\"    ),(#REF!),\"\")","v":{"$error":"#REF!"}},null,null,null,null,null,null,{"$f":"IF(AND(referentes!U891<>\"\",          referentes!U891<>96321,    referentes!U891<>96222            ),(referentes!W891),\"\")","v":""},{"$f":"referentes!S891","v":0},null,889,0,1130,"X"]
[null,null,null,null,null,null,null,null,null,null,null,null,null,null,null,null,null,{"$f":"IF(AND(#REF!<>\"\"    ),(#REF!),\"\")","v":{"$error":"#REF!"}},null,null,null,null,null,null,{"$f":"IF(AND(referentes!U892<>\"\",          referentes!U892<>96321,    referentes!U892<>96222            ),(referentes!W892),\"\")","v":""},{"$f":"referentes!S892","v":0},null,890,0,1130,"X"]
[null,null,null,null,null,null,null,null,null,null,null,null,null,null,null,null,null,{"$f":"IF(AND(#REF!<>\"\"    ),(#REF!),\"\")","v":{"$error":"#REF!"}},null,null,null,null,null,null,{"$f":"IF(AND(referentes!U893<>\"\",          referentes!U893<>96321,    referentes!U893<>96222            ),(referentes!W893),\"\")","v":""},{"$f":"referentes!S893","v":0},null,891,0,1130,"X"]
[null,null,null,null,null,null,null,null,null,null,null,null,null,null,null,null,null,{"$f":"IF(AND(#REF!<>\"\"    ),(#REF!),\"\")","v":{"$error":"#REF!"}},null,null,null,null,null,null,{"$f":"IF(AND(referentes!U894<>\"\",          referentes!U894<>96321,    referentes!U894<>96222            ),(referentes!W894),\"\")","v":""},{"$f":"referentes!S894","v":0},null,892,0,1130,"X"]
[null,null,null,null,null,null,null,null,null,null,null,null,null,null,null,null,null,{"$f":"IF(AND(#REF!<>\"\"    ),(#REF!),\"\")","v":{"$error":"#REF!"}},null,null,null,null,null,null,{"$f":"IF(AND(referentes!U895<>\"\",          referentes!U895<>96321,    referentes!U895<>96222            ),(referentes!W895),\"\")","v":""},{"$f":"referentes!S895","v":0},null,893,0,1130,"X"]
[null,null,null,null,null,null,null,null,null,null,null,null,null,null,null,null,null,{"$f":"IF(AND(#REF!<>\"\"    ),(#REF!),\"\")","v":{"$error":"#REF!"}},null,null,null,null,null,null,{"$f":"IF(AND(referentes!U896<>\"\",          referentes!U896<>96321,    referentes!U896<>96222            ),(referentes!W896),\"\")","v":""},{"$f":"referentes!S896","v":0},null,894,0,1130,"X"]
[null,null,null,null,null,null,null,null,null,null,null,null,null,null,null,null,null,{"$f":"IF(AND(#REF!<>\"\"    ),(#REF!),\"\")","v":{"$error":"#REF!"}},null,null,null,null,null,null,{"$f":"IF(AND(referentes!U897<>\"\",          referentes!U897<>96321,    referentes!U897<>96222            ),(referentes!W897),\"\")","v":""},{"$f":"referentes!S897","v":0},null,895,0,1130,"X"]
[null,null,null,null,null,null,null,null,null,null,null,null,null,null,null,null,null,{"$f":"IF(AND(#REF!<>\"\"    ),(#REF!),\"\")","v":{"$error":"#REF!"}},null,null,null,null,null,null,{"$f":"IF(AND(referentes!U898<>\"\",          referentes!U898<>96321,    referentes!U898<>96222            ),(referentes!W898),\"\")","v":""},{"$f":"referentes!S898","v":0},null,896,0,1130,"X"]
[null,null,null,null,null,null,null,null,null,null,null,null,null,null,null,null,null,{"$f":"IF(AND(#REF!<>\"\"    ),(#REF!),\"\")","v":{"$error":"#REF!"}},null,null,null,null,null,null,{"$f":"IF(AND(referentes!U899<>\"\",          referentes!U899<>96321,    referentes!U899<>96222            ),(referentes!W899),\"\")","v":""},{"$f":"referentes!S899","v":0},null,897,0,1130,"X"]
[null,null,null,null,null,null,null,null,null,null,null,null,null,null,null,null,null,{"$f":"IF(AND(#REF!<>\"\"    ),(#REF!),\"\")","v":{"$error":"#REF!"}},null,null,null,null,null,null,{"$f":"IF(AND(referentes!U900<>\"\",          referentes!U900<>96321,    referentes!U900<>96222            ),(referentes!W900),\"\")","v":""},{"$f":"referentes!S900","v":0},null,898,{"$f":"IF(Y903=\"\",0,Y903)","v":0},{"$f":"IF(AC904=0,MAX($AB$7:$AB$1135)+1,AB904)","v":1130},{"$f":"IFERROR(VLOOKUP(SMALL($AD$7:$AD$1135,AB904),$AB$7:$AD$1135,2,FALSE),\"X\")","v":"X"}]
[null,null,null,null,null,null,null,null,null,null,null,null,null,null,null,null,null,{"$f":"IF(AND(#REF!<>\"\"    ),(#REF!),\"\")","v":{"$error":"#REF!"}},null,null,null,null,null,null,{"$f":"IF(AND(referentes!U901<>\"\",          referentes!U901<>96321,    referentes!U901<>96222            ),(referentes!W901),\"\")","v":""},{"$f":"referentes!S901","v":0},null,899,0,1130,"X"]
[null,null,null,null,null,null,null,null,null,null,null,null,null,null,null,null,null,{"$f":"IF(AND(#REF!<>\"\"    ),(#REF!),\"\")","v":{"$error":"#REF!"}},null,null,null,null,null,null,{"$f":"IF(AND(referentes!U902<>\"\",          referentes!U902<>96321,    referentes!U902<>96222            ),(referentes!W902),\"\")","v":""},{"$f":"referentes!S902","v":0},null,900,0,1130,"X"]
[null,null,null,null,null,null,null,null,null,null,null,null,null,null,null,null,null,{"$f":"IF(AND(#REF!<>\"\"    ),(#REF!),\"\")","v":{"$error":"#REF!"}},null,null,null,null,null,null,{"$f":"IF(AND(referentes!U903<>\"\",          referentes!U903<>96321,    referentes!U903<>96222            ),(referentes!W903),\"\")","v":""},{"$f":"referentes!S903","v":0},null,901,0,1130,"X"]
[null,null,null,null,null,null,null,null,null,null,null,null,null,null,null,null,null,{"$f":"IF(AND(#REF!<>\"\"    ),(#REF!),\"\")","v":{"$error":"#REF!"}},null,null,null,null,null,null,{"$f":"IF(AND(referentes!U904<>\"\",          referentes!U904<>96321,    referentes!U904<>96222            ),(referentes!W904),\"\")","v":""},{"$f":"referentes!S904","v":0},null,902,0,1130,"X"]
[null,null,null,null,null,null,null,null,null,null,null,null,null,null,null,null,null,{"$f":"IF(AND(#REF!<>\"\"    ),(#REF!),\"\")","v":{"$error":"#REF!"}},null,null,null,null,null,null,{"$f":"IF(AND(referentes!U905<>\"\",          referentes!U905<>96321,    referentes!U905<>96222            ),(referentes!W905),\"\")","v":""},{"$f":"referentes!S905","v":0},null,903,0,1130,"X"]
[null,null,null,null,null,null,null,null,null,null,null,null,null,null,null,null,null,{"$f":"IF(AND(#REF!<>\"\"    ),(#REF!),\"\")","v":{"$error":"#REF!"}},null,null,null,null,null,null,{"$f":"IF(AND(referentes!U906<>\"\",          referentes!U906<>96321,    referentes!U906<>96222            ),(referentes!W906),\"\")","v":""},{"$f":"referentes!S906","v":0},null,904,0,1130,"X"]
[null,null,null,null,null,null,null,null,null,null,null,null,null,null,null,null,null,{"$f":"IF(AND(#REF!<>\"\"    ),(#REF!),\"\")","v":{"$error":"#REF!"}},null,null,null,null,null,null,{"$f":"IF(AND(referentes!U907<>\"\",          referentes!U907<>96321,    referentes!U907<>96222            ),(referentes!W907),\"\")","v":""},{"$f":"referentes!S907","v":0},null,905,0,1130,"X"]
[null,null,null,null,null,null,null,null,null,null,null,null,null,null,null,null,null,{"$f":"IF(AND(#REF!<>\"\"    ),(#REF!),\"\")","v":{"$error":"#REF!"}},null,null,null,null,null,null,{"$f":"IF(AND(referentes!U908<>\"\",          referentes!U908<>96321,    referentes!U908<>96222            ),(referentes!W908),\"\")","v":""},{"$f":"referentes!S908","v":0},null,906,0,1130,"X"]
[null,null,null,null,null,null,null,null,null,null,null,null,null,null,null,null,null,{"$f":"IF(AND(#REF!<>\"\"    ),(#REF!),\"\")","v":{"$error":"#REF!"}},null,null,null,null,null,null,{"$f":"IF(AND(referentes!U909<>\"\",          referentes!U909<>96321,    referentes!U909<>96222            ),(referentes!W909),\"\")","v":""},{"$f":"referentes!S909","v":0},null,907,0,1130,"X"]
[null,null,null,null,null,null,null,null,null,null,null,null,null,null,null,null,null,{"$f":"IF(AND(#REF!<>\"\"    ),(#REF!),\"\")","v":{"$error":"#REF!"}},null,null,null,null,null,null,{"$f":"IF(AND(referentes!U910<>\"\",          referentes!U910<>96321,    referentes!U910<>96222            ),(referentes!W910),\"\")","v":""},{"$f":"referentes!S910","v":0},null,908,0,1130,"X"]
[null,null,null,null,null,null,null,null,null,null,null,null,null,null,null,null,null,{"$f":"IF(AND(#REF!<>\"\"    ),(#REF!),\"\")","v":{"$error":"#REF!"}},null,null,null,null,null,null,{"$f":"IF(AND(referentes!U911<>\"\",          referentes!U911<>96321,    referentes!U911<>96222            ),(referentes!W911),\"\")","v":""},{"$f":"referentes!S911","v":0},null,909,0,1130,"X"]
[null,null,null,null,null,null,null,null,null,null,null,null,null,null,null,null,null,{"$f":"IF(AND(#REF!<>\"\"    ),(#REF!),\"\")","v":{"$error":"#REF!"}},null,null,null,null,null,null,{"$f":"IF(AND(referentes!U912<>\"\",          referentes!U912<>96321,    referentes!U912<>96222            ),(referentes!W912),\"\")","v":""},{"$f":"referentes!S912","v":0},null,910,0,1130,"X"]
[null,null,null,null,null,null,null,null,null,null,null,null,null,null,null,null,null,{"$f":"IF(AND(#REF!<>\"\"    ),(#REF!),\"\")","v":{"$error":"#REF!"}},null,null,null,null,null,null,{"$f":"IF(AND(referentes!U913<>\"\",          referentes!U913<>96321,    referentes!U913<>96222            ),(referentes!W913),\"\")","v":""},{"$f":"referentes!S913","v":0},null,911,0,1130,"X"]
[null,null,null,null,null,null,null,null,null,null,null,null,null,null,null,null,null,{"$f":"IF(AND(#REF!<>\"\"    ),(#REF!),\"\")","v":{"$error":"#REF!"}},null,null,null,null,null,null,{"$f":"IF(AND(referentes!U914<>\"\",          referentes!U914<>96321,    referentes!U914<>96222            ),(referentes!W914),\"\")","v":""},{"$f":"referentes!S914","v":0},null,912,0,1130,"X"]
[null,null,null,null,null,null,null,null,null,null,null,null,null,null,null,null,null,{"$f":"IF(AND(#REF!<>\"\"    ),(#REF!),\"\")","v":{"$error":"#REF!"}},null,null,null,null,null,null,{"$f":"IF(AND(referentes!U915<>\"\",          referentes!U915<>96321,    referentes!U915<>96222            ),(referentes!W915),\"\")","v":""},{"$f":"referentes!S915","v":0},null,913,0,1130,"X"]
[null,null,null,null,null,null,null,null,null,null,null,null,null,null,null,null,null,{"$f":"IF(AND(#REF!<>\"\"    ),(#REF!),\"\")","v":{"$error":"#REF!"}},null,null,null,null,null,null,{"$f":"IF(AND(referentes!U916<>\"\",          referentes!U916<>96321,    referentes!U916<>96222            ),(referentes!W916),\"\")","v":""},{"$f":"referentes!S916","v":0},null,914,0,1130,"X"]
[null,null,null,null,null,null,null,null,null,null,null,null,null,null,null,null,null,{"$f":"IF(AND(#REF!<>\"\"    ),(#REF!),\"\")","v":{"$error":"#REF!"}},null,null,null,null,null,null,{"$f":"IF(AND(referentes!U917<>\"\",          referentes!U917<>96321,    referentes!U917<>96222            ),(referentes!W917),\"\")","v":""},{"$f":"referentes!S917","v":0},null,915,0,1130,"X"]
[null,null,null,null,null,null,null,null,null,null,null,null,null,null,null,null,null,{"$f":"IF(AND(#REF!<>\"\"    ),(#REF!),\"\")","v":{"$error":"#REF!"}},null,null,null,null,null,null,{"$f":"IF(AND(referentes!U918<>\"\",          referentes!U918<>96321,    referentes!U918<>96222            ),(referentes!W918),\"\")","v":""},{"$f":"referentes!S918","v":0},null,916,0,1130,"X"]
[null,null,null,null,null,null,null,null,null,null,null,null,null,null,null,null,null,{"$f":"IF(AND(#REF!<>\"\"    ),(#REF!),\"\")","v":{"$error":"#REF!"}},null,null,null,null,null,null,{"$f":"IF(AND(referentes!U919<>\"\",          referentes!U919<>96321,    referentes!U919<>96222            ),(referentes!W919),\"\")","v":""},{"$f":"referentes!S919","v":0},null,917,0,1130,"X"]
[null,null,null,null,null,null,null,null,null,null,null,null,null,null,null,null,null,{"$f":"IF(AND(#REF!<>\"\"    ),(#REF!),\"\")","v":{"$error":"#REF!"}},null,null,null,null,null,null,{"$f":"IF(AND(referentes!U920<>\"\",          referentes!U920<>96321,    referentes!U920<>96222            ),(referentes!W920),\"\")","v":""},{"$f":"referentes!S920","v":0},null,918,0,1130,"X"]
[null,null,null,null,null,null,null,null,null,null,null,null,null,null,null,null,null,{"$f":"IF(AND(#REF!<>\"\"    ),(#REF!),\"\")","v":{"$error":"#REF!"}},null,null,null,null,null,null,{"$f":"IF(AND(referentes!U921<>\"\",          referentes!U921<>96321,    referentes!U921<>96222            ),(referentes!W921),\"\")","v":""},{"$f":"referentes!S921","v":0},null,919,0,1130,"X"]
[null,null,null,null,null,null,null,null,null,null,null,null,null,null,null,null,null,{"$f":"IF(AND(#REF!<>\"\"    ),(#REF!),\"\")","v":{"$error":"#REF!"}},null,null,null,null,null,null,{"$f":"IF(AND(referentes!U922<>\"\",          referentes!U922<>96321,    referentes!U922<>96222            ),(referentes!W922),\"\")","v":""},{"$f":"referentes!S922","v":0},null,920,0,1130,"X"]
[null,null,null,null,null,null,null,null,null,null,null,null,null,null,null,null,null,{"$f":"IF(AND(#REF!<>\"\"    ),(#REF!),\"\")","v":{"$error":"#REF!"}},null,null,null,null,null,null,{"$f":"IF(AND(referentes!U923<>\"\",          referentes!U923<>96321,    referentes!U923<>96222            ),(referentes!W923),\"\")","v":""},{"$f":"referentes!S923","v":0},null,921,0,1130,"X"]
[null,null,null,null,null,null,null,null,null,null,null,null,null,null,null,null,null,{"$f":"IF(AND(#REF!<>\"\"    ),(#REF!),\"\")","v":{"$error":"#REF!"}},null,null,null,null,null,null,{"$f":"IF(AND(referentes!U924<>\"\",          referentes!U924<>96321,    referentes!U924<>96222            ),(referentes!W924),\"\")","v":""},{"$f":"referentes!S924","v":0},null,922,0,1130,"X"]
[null,null,null,null,null,null,null,null,null,null,null,null,null,null,null,null,null,{"$f":"IF(AND(#REF!<>\"\"    ),(#REF!),\"\")","v":{"$error":"#REF!"}},null,null,null,null,null,null,{"$f":"IF(AND(referentes!U925<>\"\",          referentes!U925<>96321,    referentes!U925<>96222            ),(referentes!W925),\"\")","v":""},{"$f":"referentes!S925","v":0},null,923,0,1130,"X"]
[null,null,null,null,null,null,null,null,null,null,null,null,null,null,null,null,null,{"$f":"IF(AND(#REF!<>\"\"    ),(#REF!),\"\")","v":{"$error":"#REF!"}},null,null,null,null,null,null,{"$f":"IF(AND(referentes!U926<>\"\",          referentes!U926<>96321,    referentes!U926<>96222            ),(referentes!W926),\"\")","v":""},{"$f":"referentes!S926","v":0},null,924,0,1130,"X"]
[null,null,null,null,null,null,null,null,null,null,null,null,null,null,null,null,null,{"$f":"IF(AND(#REF!<>\"\"    ),(#REF!),\"\")","v":{"$error":"#REF!"}},null,null,null,null,null,null,{"$f":"IF(AND(referentes!U927<>\"\",          referentes!U927<>96321,    referentes!U927<>96222            ),(referentes!W927),\"\")","v":""},{"$f":"referentes!S927","v":0},null,925,0,1130,"X"]
[null,null,null,null,null,null,null,null,null,null,null,null,null,null,null,null,null,{"$f":"IF(AND(#REF!<>\"\"    ),(#REF!),\"\")","v":{"$error":"#REF!"}},null,null,null,null,null,null,{"$f":"IF(AND(referentes!U928<>\"\",          referentes!U928<>96321,    referentes!U928<>96222            ),(referentes!W928),\"\")","v":""},{"$f":"referentes!S928","v":0},null,926,0,1130,"X"]
[null,null,null,null,null,null,null,null,null,null,null,null,null,null,null,null,null,{"$f":"IF(AND(#REF!<>\"\"    ),(#REF!),\"\")","v":{"$error":"#REF!"}},null,null,null,null,null,null,{"$f":"IF(AND(referentes!U929<>\"\",          referentes!U929<>96321,    referentes!U929<>96222            ),(referentes!W929),\"\")","v":""},{"$f":"referentes!S929","v":0},null,927,0,1130,"X"]
[null,null,null,null,null,null,null,null,null,null,null,null,null,null,null,null,null,{"$f":"IF(AND(#REF!<>\"\"    ),(#REF!),\"\")","v":{"$error":"#REF!"}},null,null,null,null,null,null,{"$f":"IF(AND(referentes!U930<>\"\",          referentes!U930<>96321,    referentes!U930<>96222            ),(referentes!W930),\"\")","v":""},{"$f":"referentes!S930","v":0},null,928,0,1130,"X"]
[null,null,null,null,null,null,null,null,null,null,null,null,null,null,null,null,null,{"$f":"IF(AND(#REF!<>\"\"    ),(#REF!),\"\")","v":{"$error":"#REF!"}},null,null,null,null,null,null,{"$f":"IF(AND(referentes!U931<>\"\",          referentes!U931<>96321,    referentes!U931<>96222            ),(referentes!W931),\"\")","v":""},{"$f":"referentes!S931","v":0},null,929,0,1130,"X"]
[null,null,null,null,null,null,null,null,null,null,null,null,null,null,null,null,null,{"$f":"IF(AND(#REF!<>\"\"    ),(#REF!),\"\")","v":{"$error":"#REF!"}},null,null,null,null,null,null,{"$f":"IF(AND(referentes!U932<>\"\",          referentes!U932<>96321,    referentes!U932<>96222            ),(referentes!W932),\"\")","v":""},{"$f":"referentes!S932","v":0},null,930,0,1130,"X"]
[null,null,null,null,null,null,null,null,null,null,null,null,null,null,null,null,null,{"$f":"IF(AND(#REF!<>\"\"    ),(#REF!),\"\")","v":{"$error":"#REF!"}},null,null,null,null,null,null,{"$f":"IF(AND(referentes!U933<>\"\",          referentes!U933<>96321,    referentes!U933<>96222            ),(referentes!W933),\"\")","v":""},{"$f":"referentes!S933","v":0},null,931,0,1130,"X"]
[null,null,null,null,null,null,null,null,null,null,null,null,null,null,null,null,null,{"$f":"IF(AND(#REF!<>\"\"    ),(#REF!),\"\")","v":{"$error":"#REF!"}},null,null,null,null,null,null,{"$f":"IF(AND(referentes!U934<>\"\",          referentes!U934<>96321,    referentes!U934<>96222            ),(referentes!W934),\"\")","v":""},{"$f":"referentes!S934","v":0},null,932,0,1130,"X"]
[null,null,null,null,null,null,null,null,null,null,null,null,null,null,null,null,null,{"$f":"IF(AND(#REF!<>\"\"    ),(#REF!),\"\")","v":{"$error":"#REF!"}},null,null,null,null,null,null,{"$f":"IF(AND(referentes!U935<>\"\",          referentes!U935<>96321,    referentes!U935<>96222            ),(referentes!W935),\"\")","v":""},{"$f":"referentes!S935","v":0},null,933,0,1130,"X"]
[null,null,null,null,null,null,null,null,null,null,null,null,null,null,null,null,null,{"$f":"IF(AND(#REF!<>\"\"    ),(#REF!),\"\")","v":{"$error":"#REF!"}},null,null,null,null,null,null,{"$f":"IF(AND(referentes!U936<>\"\",          referentes!U936<>96321,    referentes!U936<>96222            ),(referentes!W936),\"\")","v":""},{"$f":"referentes!S936","v":0},null,934,0,1130,"X"]
[null,null,null,null,null,null,null,null,null,null,null,null,null,null,null,null,null,{"$f":"IF(AND(#REF!<>\"\"    ),(#REF!),\"\")","v":{"$error":"#REF!"}},null,null,null,null,null,null,{"$f":"IF(AND(referentes!U937<>\"\",          referentes!U937<>96321,    referentes!U937<>96222            ),(referentes!W937),\"\")","v":""},{"$f":"referentes!S937","v":0},null,935,0,1130,"X"]
[null,null,null,null,null,null,null,null,null,null,null,null,null,null,null,null,null,{"$f":"IF(AND(#REF!<>\"\"    ),(#REF!),\"\")","v":{"$error":"#REF!"}},null,null,null,null,null,null,{"$f":"IF(AND(referentes!U938<>\"\",          referentes!U938<>96321,    referentes!U938<>96222            ),(referentes!W938),\"\")","v":""},{"$f":"referentes!S938","v":0},null,936,0,1130,"X"]
[null,null,null,null,null,null,null,null,null,null,null,null,null,null,null,null,null,{"$f":"IF(AND(#REF!<>\"\"    ),(#REF!),\"\")","v":{"$error":"#REF!"}},null,null,null,null,null,null,{"$f":"IF(AND(referentes!U939<>\"\",          referentes!U939<>96321,    referentes!U939<>96222            ),(referentes!W939),\"\")","v":""},{"$f":"referentes!S939","v":0},null,937,0,1130,"X"]
[null,null,null,null,null,null,null,null,null,null,null,null,null,null,null,null,null,{"$f":"IF(AND(#REF!<>\"\"    ),(#REF!),\"\")","v":{"$error":"#REF!"}},null,null,null,null,null,null,{"$f":"IF(AND(referentes!U940<>\"\",          referentes!U940<>96321,    referentes!U940<>96222            ),(referentes!W940),\"\")","v":""},{"$f":"referentes!S940","v":0},null,938,0,1130,"X"]
[null,null,null,null,null,null,null,null,null,null,null,null,null,null,null,null,null,{"$f":"IF(AND(#REF!<>\"\"    ),(#REF!),\"\")","v":{"$error":"#REF!"}},null,null,null,null,null,null,{"$f":"IF(AND(referentes!U941<>\"\",          referentes!U941<>96321,    referentes!U941<>96222            ),(referentes!W941),\"\")","v":""},{"$f":"referentes!S941","v":0},null,939,0,1130,"X"]
[null,null,null,null,null,null,null,null,null,null,null,null,null,null,null,null,null,{"$f":"IF(AND(#REF!<>\"\"    ),(#REF!),\"\")","v":{"$error":"#REF!"}},null,null,null,null,null,null,{"$f":"IF(AND(referentes!U942<>\"\",          referentes!U942<>96321,    referentes!U942<>96222            ),(referentes!W942),\"\")","v":""},{"$f":"referentes!S942","v":0},null,940,0,1130,"X"]
[null,null,null,null,null,null,null,null,null,null,null,null,null,null,null,null,null,{"$f":"IF(AND(#REF!<>\"\"    ),(#REF!),\"\")","v":{"$error":"#REF!"}},null,null,null,null,null,null,{"$f":"IF(AND(referentes!U943<>\"\",          referentes!U943<>96321,    referentes!U943<>96222            ),(referentes!W943),\"\")","v":""},{"$f":"referentes!S943","v":0},null,941,0,1130,"X"]
[null,null,null,null,null,null,null,null,null,null,null,null,null,null,null,null,null,{"$f":"IF(AND(#REF!<>\"\"    ),(#REF!),\"\")","v":{"$error":"#REF!"}},null,null,null,null,null,null,{"$f":"IF(AND(referentes!U944<>\"\",          referentes!U944<>96321,    referentes!U944<>96222            ),(referentes!W944),\"\")","v":""},{"$f":"referentes!S944","v":0},null,942,0,1130,"X"]
[null,null,null,null,null,null,null,null,null,null,null,null,null,null,null,null,null,{"$f":"IF(AND(#REF!<>\"\"    ),(#REF!),\"\")","v":{"$error":"#REF!"}},null,null,null,null,null,null,{"$f":"IF(AND(referentes!U945<>\"\",          referentes!U945<>96321,    referentes!U945<>96222            ),(referentes!W945),\"\")","v":""},{"$f":"referentes!S945","v":0},null,943,0,1130,"X"]
[null,null,null,null,null,null,null,null,null,null,null,null,null,null,null,null,null,{"$f":"IF(AND(#REF!<>\"\"    ),(#REF!),\"\")","v":{"$error":"#REF!"}},null,null,null,null,null,null,{"$f":"IF(AND(referentes!U946<>\"\",          referentes!U946<>96321,    referentes!U946<>96222            ),(referentes!W946),\"\")","v":""},{"$f":"referentes!S946","v":0},null,944,0,1130,"X"]
[null,null,null,null,null,null,null,null,null,null,null,null,null,null,null,null,null,{"$f":"IF(AND(#REF!<>\"\"    ),(#REF!),\"\")","v":{"$error":"#REF!"}},null,null,null,null,null,null,{"$f":"IF(AND(referentes!U947<>\"\",          referentes!U947<>96321,    referentes!U947<>96222            ),(referentes!W947),\"\")","v":""},{"$f":"referentes!S947","v":0},null,945,0,1130,"X"]
[null,null,null,null,null,null,null,null,null,null,null,null,null,null,null,null,null,{"$f":"IF(AND(#REF!<>\"\"    ),(#REF!),\"\")","v":{"$error":"#REF!"}},null,null,null,null,null,null,{"$f":"IF(AND(referentes!U948<>\"\",          referentes!U948<>96321,    referentes!U948<>96222            ),(referentes!W948),\"\")","v":""},{"$f":"referentes!S948","v":0},null,946,0,1130,"X"]
[null,null,null,null,null,null,null,null,null,null,null,null,null,null,null,null,null,{"$f":"IF(AND(#REF!<>\"\"    ),(#REF!),\"\")","v":{"$error":"#REF!"}},null,null,null,null,null,null,{"$f":"IF(AND(referentes!U949<>\"\",          referentes!U949<>96321,    referentes!U949<>96222            ),(referentes!W949),\"\")","v":""},{"$f":"referentes!S949","v":0},null,947,0,1130,"X"]
[null,null,null,null,null,null,null,null,null,null,null,null,null,null,null,null,null,{"$f":"IF(AND(#REF!<>\"\"    ),(#REF!),\"\")","v":{"$error":"#REF!"}},null,null,null,null,null,null,{"$f":"IF(AND(referentes!U950<>\"\",          referentes!U950<>96321,    referentes!U950<>96222            ),(referentes!W950),\"\")","v":""},{"$f":"referentes!S950","v":0},null,948,0,1130,"X"]
[null,null,null,null,null,null,null,null,null,null,null,null,null,null,null,null,null,{"$f":"IF(AND(#REF!<>\"\"    ),(#REF!),\"\")","v":{"$error":"#REF!"}},null,null,null,null,null,null,{"$f":"IF(AND(referentes!U951<>\"\",          referentes!U951<>96321,    referentes!U951<>96222            ),(referentes!W951),\"\")","v":""},{"$f":"referentes!S951","v":0},null,949,0,1130,"X"]
[null,null,null,null,null,null,null,null,null,null,null,null,null,null,null,null,null,{"$f":"IF(AND(#REF!<>\"\"    ),(#REF!),\"\")","v":{"$error":"#REF!"}},null,null,null,null,null,null,{"$f":"IF(AND(referentes!U952<>\"\",          referentes!U952<>96321,    referentes!U952<>96222            ),(referentes!W952),\"\")","v":""},{"$f":"referentes!S952","v":0},null,950,0,1130,"X"]
[null,null,null,null,null,null,null,null,null,null,null,null,null,null,null,null,null,{"$f":"IF(AND(#REF!<>\"\"    ),(#REF!),\"\")","v":{"$error":"#REF!"}},null,null,null,null,null,null,{"$f":"IF(AND(referentes!U953<>\"\",          referentes!U953<>96321,    referentes!U953<>96222            ),(referentes!W953),\"\")","v":""},{"$f":"referentes!S953","v":0},null,951,0,1130,"X"]
[null,null,null,null,null,null,null,null,null,null,null,null,null,null,null,null,null,{"$f":"IF(AND(#REF!<>\"\"    ),(#REF!),\"\")","v":{"$error":"#REF!"}},null,null,null,null,null,null,{"$f":"IF(AND(referentes!U954<>\"\",          referentes!U954<>96321,    referentes!U954<>96222            ),(referentes!W954),\"\")","v":""},{"$f":"referentes!S954","v":0},null,952,0,1130,"X"]
[null,null,null,null,null,null,null,null,null,null,null,null,null,null,null,null,null,{"$f":"IF(AND(#REF!<>\"\"    ),(#REF!),\"\")","v":{"$error":"#REF!"}},null,null,null,null,null,null,{"$f":"IF(AND(referentes!U955<>\"\",          referentes!U955<>96321,    referentes!U955<>96222            ),(referentes!W955),\"\")","v":""},{"$f":"referentes!S955","v":0},null,953,0,1130,"X"]
[null,null,null,null,null,null,null,null,null,null,null,null,null,null,null,null,null,{"$f":"IF(AND(#REF!<>\"\"    ),(#REF!),\"\")","v":{"$error":"#REF!"}},null,null,null,null,null,null,{"$f":"IF(AND(referentes!U956<>\"\",          referentes!U956<>96321,    referentes!U956<>96222            ),(referentes!W956),\"\")","v":""},{"$f":"referentes!S956","v":0},null,954,0,1130,"X"]
[null,null,null,null,null,null,null,null,null,null,null,null,null,null,null,null,null,{"$f":"IF(AND(#REF!<>\"\"    ),(#REF!),\"\")","v":{"$error":"#REF!"}},null,null,null,null,null,null,{"$f":"IF(AND(referentes!U957<>\"\",          referentes!U957<>96321,    referentes!U957<>96222            ),(referentes!W957),\"\")","v":""},{"$f":"referentes!S957","v":0},null,955,0,1130,"X"]
[null,null,null,null,null,null,null,null,null,null,null,null,null,null,null,null,null,{"$f":"IF(AND(#REF!<>\"\"    ),(#REF!),\"\")","v":{"$error":"#REF!"}},null,null,null,null,null,null,{"$f":"IF(AND(referentes!U958<>\"\",          referentes!U958<>96321,    referentes!U958<>96222            ),(referentes!W958),\"\")","v":""},{"$f":"referentes!S958","v":0},null,956,0,1130,"X"]
[null,null,null,null,null,null,null,null,null,null,null,null,null,null,null,null,null,{"$f":"IF(AND(#REF!<>\"\"    ),(#REF!),\"\")","v":{"$error":"#REF!"}},null,null,null,null,null,null,{"$f":"IF(AND(referentes!U959<>\"\",          referentes!U959<>96321,    referentes!U959<>96222            ),(referentes!W959),\"\")","v":""},{"$f":"referentes!S959","v":0},null,957,0,1130,"X"]
[null,null,null,null,null,null,null,null,null,null,null,null,null,null,null,null,null,{"$f":"IF(AND(#REF!<>\"\"    ),(#REF!),\"\")","v":{"$error":"#REF!"}},null,null,null,null,null,null,{"$f":"IF(AND(referentes!U960<>\"\",          referentes!U960<>96321,    referentes!U960<>96222            ),(referentes!W960),\"\")","v":""},{"$f":"referentes!S960","v":0},null,958,0,1130,"X"]
[null,null,null,null,null,null,null,null,null,null,null,null,null,null,null,null,null,{"$f":"IF(AND(#REF!<>\"\"    ),(#REF!),\"\")","v":{"$error":"#REF!"}},null,null,null,null,null,null,{"$f":"IF(AND(referentes!U961<>\"\",          referentes!U961<>96321,    referentes!U961<>96222            ),(referentes!W961),\"\")","v":""},{"$f":"referentes!S961","v":0},null,959,0,1130,"X"]
[null,null,null,null,null,null,null,null,null,null,null,null,null,null,null,null,null,{"$f":"IF(AND(#REF!<>\"\"    ),(#REF!),\"\")","v":{"$error":"#REF!"}},null,null,null,null,null,null,{"$f":"IF(AND(referentes!U962<>\"\",          referentes!U962<>96321,    referentes!U962<>96222            ),(referentes!W962),\"\")","v":""},{"$f":"referentes!S962","v":0},null,960,0,1130,"X"]
[null,null,null,null,null,null,null,null,null,null,null,null,null,null,null,null,null,{"$f":"IF(AND(#REF!<>\"\"    ),(#REF!),\"\")","v":{"$error":"#REF!"}},null,null,null,null,null,null,{"$f":"IF(AND(referentes!U963<>\"\",          referentes!U963<>96321,    referentes!U963<>96222            ),(referentes!W963),\"\")","v":""},{"$f":"referentes!S963","v":0},null,961,0,1130,"X"]
[null,null,null,null,null,null,null,null,null,null,null,null,null,null,null,null,null,{"$f":"IF(AND(#REF!<>\"\"    ),(#REF!),\"\")","v":{"$error":"#REF!"}},null,null,null,null,null,null,{"$f":"IF(AND(referentes!U964<>\"\",          referentes!U964<>96321,    referentes!U964<>96222            ),(referentes!W964),\"\")","v":""},{"$f":"referentes!S964","v":0},null,962,{"$f":"IF(Y967=\"\",0,Y967)","v":0},{"$f":"IF(AC968=0,MAX($AB$7:$AB$1135)+1,AB968)","v":1130},{"$f":"IFERROR(VLOOKUP(SMALL($AD$7:$AD$1135,AB968),$AB$7:$AD$1135,2,FALSE),\"X\")","v":"X"}]
[null,null,null,null,null,null,null,null,null,null,null,null,null,null,null,null,null,{"$f":"IF(AND(#REF!<>\"\"    ),(#REF!),\"\")","v":{"$error":"#REF!"}},null,null,null,null,null,null,{"$f":"IF(AND(referentes!U965<>\"\",          referentes!U965<>96321,    referentes!U965<>96222            ),(referentes!W965),\"\")","v":""},{"$f":"referentes!S965","v":0},null,963,0,1130,"X"]
[null,null,null,null,null,null,null,null,null,null,null,null,null,null,null,null,null,{"$f":"IF(AND(#REF!<>\"\"    ),(#REF!),\"\")","v":{"$error":"#REF!"}},null,null,null,null,null,null,{"$f":"IF(AND(referentes!U966<>\"\",          referentes!U966<>96321,    referentes!U966<>96222            ),(referentes!W966),\"\")","v":""},{"$f":"referentes!S966","v":0},null,964,0,1130,"X"]
[null,null,null,null,null,null,null,null,null,null,null,null,null,null,null,null,null,{"$f":"IF(AND(#REF!<>\"\"    ),(#REF!),\"\")","v":{"$error":"#REF!"}},null,null,null,null,null,null,{"$f":"IF(AND(referentes!U967<>\"\",          referentes!U967<>96321,    referentes!U967<>96222            ),(referentes!W967),\"\")","v":""},{"$f":"referentes!S967","v":0},null,965,0,1130,"X"]
[null,null,null,null,null,null,null,null,null,null,null,null,null,null,null,null,null,{"$f":"IF(AND(#REF!<>\"\"    ),(#REF!),\"\")","v":{"$error":"#REF!"}},null,null,null,null,null,null,{"$f":"IF(AND(referentes!U968<>\"\",          referentes!U968<>96321,    referentes!U968<>96222            ),(referentes!W968),\"\")","v":""},{"$f":"referentes!S968","v":0},null,966,0,1130,"X"]
[null,null,null,null,null,null,null,null,null,null,null,null,null,null,null,null,null,{"$f":"IF(AND(#REF!<>\"\"    ),(#REF!),\"\")","v":{"$error":"#REF!"}},null,null,null,null,null,null,{"$f":"IF(AND(referentes!U969<>\"\",          referentes!U969<>96321,    referentes!U969<>96222            ),(referentes!W969),\"\")","v":""},{"$f":"referentes!S969","v":0},null,967,0,1130,"X"]
[null,null,null,null,null,null,null,null,null,null,null,null,null,null,null,null,null,{"$f":"IF(AND(#REF!<>\"\"    ),(#REF!),\"\")","v":{"$error":"#REF!"}},null,null,null,null,null,null,{"$f":"IF(AND(referentes!U970<>\"\",          referentes!U970<>96321,    referentes!U970<>96222            ),(referentes!W970),\"\")","v":""},{"$f":"referentes!S970","v":0},null,968,0,1130,"X"]
[null,null,null,null,null,null,null,null,null,null,null,null,null,null,null,null,null,{"$f":"IF(AND(#REF!<>\"\"    ),(#REF!),\"\")","v":{"$error":"#REF!"}},null,null,null,null,null,null,{"$f":"IF(AND(referentes!U971<>\"\",          referentes!U971<>96321,    referentes!U971<>96222            ),(referentes!W971),\"\")","v":""},{"$f":"referentes!S971","v":0},null,969,0,1130,"X"]
[null,null,null,null,null,null,null,null,null,null,null,null,null,null,null,null,null,{"$f":"IF(AND(#REF!<>\"\"    ),(#REF!),\"\")","v":{"$error":"#REF!"}},null,null,null,null,null,null,{"$f":"IF(AND(referentes!U972<>\"\",          referentes!U972<>96321,    referentes!U972<>96222            ),(referentes!W972),\"\")","v":""},{"$f":"referentes!S972","v":0},null,970,0,1130,"X"]
[null,null,null,null,null,null,null,null,null,null,null,null,null,null,null,null,null,{"$f":"IF(AND(#REF!<>\"\"    ),(#REF!),\"\")","v":{"$error":"#REF!"}},null,null,null,null,null,null,{"$f":"IF(AND(referentes!U973<>\"\",          referentes!U973<>96321,    referentes!U973<>96222            ),(referentes!W973),\"\")","v":""},{"$f":"referentes!S973","v":0},null,971,0,1130,"X"]
[null,null,null,null,null,null,null,null,null,null,null,null,null,null,null,null,null,{"$f":"IF(AND(#REF!<>\"\"    ),(#REF!),\"\")","v":{"$error":"#REF!"}},null,null,null,null,null,null,{"$f":"IF(AND(referentes!U974<>\"\",          referentes!U974<>96321,    referentes!U974<>96222            ),(referentes!W974),\"\")","v":""},{"$f":"referentes!S974","v":0},null,972,0,1130,"X"]
[null,null,null,null,null,null,null,null,null,null,null,null,null,null,null,null,null,{"$f":"IF(AND(#REF!<>\"\"    ),(#REF!),\"\")","v":{"$error":"#REF!"}},null,null,null,null,null,null,{"$f":"IF(AND(referentes!U975<>\"\",          referentes!U975<>96321,    referentes!U975<>96222            ),(referentes!W975),\"\")","v":""},{"$f":"referentes!S975","v":0},null,973,0,1130,"X"]
[null,null,null,null,null,null,null,null,null,null,null,null,null,null,null,null,null,{"$f":"IF(AND(#REF!<>\"\"    ),(#REF!),\"\")","v":{"$error":"#REF!"}},null,null,null,null,null,null,{"$f":"IF(AND(referentes!U976<>\"\",          referentes!U976<>96321,    referentes!U976<>96222            ),(referentes!W976),\"\")","v":""},{"$f":"referentes!S976","v":0},null,974,0,1130,"X"]
[null,null,null,null,null,null,null,null,null,null,null,null,null,null,null,null,null,{"$f":"IF(AND(#REF!<>\"\"    ),(#REF!),\"\")","v":{"$error":"#REF!"}},null,null,null,null,null,null,{"$f":"IF(AND(referentes!U977<>\"\",          referentes!U977<>96321,    referentes!U977<>96222            ),(referentes!W977),\"\")","v":""},{"$f":"referentes!S977","v":0},null,975,0,1130,"X"]
[null,null,null,null,null,null,null,null,null,null,null,null,null,null,null,null,null,{"$f":"IF(AND(#REF!<>\"\"    ),(#REF!),\"\")","v":{"$error":"#REF!"}},null,null,null,null,null,null,{"$f":"IF(AND(referentes!U978<>\"\",          referentes!U978<>96321,    referentes!U978<>96222            ),(referentes!W978),\"\")","v":""},{"$f":"referentes!S978","v":0},null,976,0,1130,"X"]
[null,null,null,null,null,null,null,null,null,null,null,null,null,null,null,null,null,{"$f":"IF(AND(#REF!<>\"\"    ),(#REF!),\"\")","v":{"$error":"#REF!"}},null,null,null,null,null,null,{"$f":"IF(AND(referentes!U979<>\"\",          referentes!U979<>96321,    referentes!U979<>96222            ),(referentes!W979),\"\")","v":""},{"$f":"referentes!S979","v":0},null,977,0,1130,"X"]
[null,null,null,null,null,null,null,null,null,null,null,null,null,null,null,null,null,{"$f":"IF(AND(#REF!<>\"\"    ),(#REF!),\"\")","v":{"$error":"#REF!"}},null,null,null,null,null,null,{"$f":"IF(AND(referentes!U980<>\"\",          referentes!U980<>96321,    referentes!U980<>96222            ),(referentes!W980),\"\")","v":""},{"$f":"referentes!S980","v":0},null,978,0,1130,"X"]
[null,null,null,null,null,null,null,null,null,null,null,null,null,null,null,null,null,{"$f":"IF(AND(#REF!<>\"\"    ),(#REF!),\"\")","v":{"$error":"#REF!"}},null,null,null,null,null,null,{"$f":"IF(AND(referentes!U981<>\"\",          referentes!U981<>96321,    referentes!U981<>96222            ),(referentes!W981),\"\")","v":""},{"$f":"referentes!S981","v":0},null,979,0,1130,"X"]
[null,null,null,null,null,null,null,null,null,null,null,null,null,null,null,null,null,{"$f":"IF(AND(#REF!<>\"\"    ),(#REF!),\"\")","v":{"$error":"#REF!"}},null,null,null,null,null,null,{"$f":"IF(AND(referentes!U982<>\"\",          referentes!U982<>96321,    referentes!U982<>96222            ),(referentes!W982),\"\")","v":""},{"$f":"referentes!S982","v":0},null,980,0,1130,"X"]
[null,null,null,null,null,null,null,null,null,null,null,null,null,null,null,null,null,{"$f":"IF(AND(#REF!<>\"\"    ),(#REF!),\"\")","v":{"$error":"#REF!"}},null,null,null,null,null,null,{"$f":"IF(AND(referentes!U983<>\"\",          referentes!U983<>96321,    referentes!U983<>96222            ),(referentes!W983),\"\")","v":""},{"$f":"referentes!S983","v":0},null,981,0,1130,"X"]
[null,null,null,null,null,null,null,null,null,null,null,null,null,null,null,null,null,{"$f":"IF(AND(#REF!<>\"\"    ),(#REF!),\"\")","v":{"$error":"#REF!"}},null,null,null,null,null,null,{"$f":"IF(AND(referentes!U984<>\"\",          referentes!U984<>96321,    referentes!U984<>96222            ),(referentes!W984),\"\")","v":""},{"$f":"referentes!S984","v":0},null,982,0,1130,"X"]
[null,null,null,null,null,null,null,null,null,null,null,null,null,null,null,null,null,{"$f":"IF(AND(#REF!<>\"\"    ),(#REF!),\"\")","v":{"$error":"#REF!"}},null,null,null,null,null,null,{"$f":"IF(AND(referentes!U985<>\"\",          referentes!U985<>96321,    referentes!U985<>96222            ),(referentes!W985),\"\")","v":""},{"$f":"referentes!S985","v":0},null,983,0,1130,"X"]
[null,null,null,null,null,null,null,null,null,null,null,null,null,null,null,null,null,{"$f":"IF(AND(#REF!<>\"\"    ),(#REF!),\"\")","v":{"$error":"#REF!"}},null,null,null,null,null,null,{"$f":"IF(AND(referentes!U986<>\"\",          referentes!U986<>96321,    referentes!U986<>96222            ),(referentes!W986),\"\")","v":""},{"$f":"referentes!S986","v":0},null,984,0,1130,"X"]
[null,null,null,null,null,null,null,null,null,null,null,null,null,null,null,null,null,{"$f":"IF(AND(#REF!<>\"\"    ),(#REF!),\"\")","v":{"$error":"#REF!"}},null,null,null,null,null,null,{"$f":"IF(AND(referentes!U987<>\"\",          referentes!U987<>96321,    referentes!U987<>96222            ),(referentes!W987),\"\")","v":""},{"$f":"referentes!S987","v":0},null,985,0,1130,"X"]
[null,null,null,null,null,null,null,null,null,null,null,null,null,null,null,null,null,{"$f":"IF(AND(#REF!<>\"\"    ),(#REF!),\"\")","v":{"$error":"#REF!"}},null,null,null,null,null,null,{"$f":"IF(AND(referentes!U988<>\"\",          referentes!U988<>96321,    referentes!U988<>96222            ),(referentes!W988),\"\")","v":""},{"$f":"referentes!S988","v":0},null,986,0,1130,"X"]
[null,null,null,null,null,null,null,null,null,null,null,null,null,null,null,null,null,{"$f":"IF(AND(#REF!<>\"\"    ),(#REF!),\"\")","v":{"$error":"#REF!"}},null,null,null,null,null,null,{"$f":"IF(AND(referentes!U989<>\"\",          referentes!U989<>96321,    referentes!U989<>96222            ),(referentes!W989),\"\")","v":""},{"$f":"referentes!S989","v":0},null,987,0,1130,"X"]
[null,null,null,null,null,null,null,null,null,null,null,null,null,null,null,null,null,{"$f":"IF(AND(#REF!<>\"\"    ),(#REF!),\"\")","v":{"$error":"#REF!"}},null,null,null,null,null,null,{"$f":"IF(AND(referentes!U990<>\"\",          referentes!U990<>96321,    referentes!U990<>96222            ),(referentes!W990),\"\")","v":""},{"$f":"referentes!S990","v":0},null,988,0,1130,"X"]
[null,null,null,null,null,null,null,null,null,null,null,null,null,null,null,null,null,{"$f":"IF(AND(#REF!<>\"\"    ),(#REF!),\"\")","v":{"$error":"#REF!"}},null,null,null,null,null,null,{"$f":"IF(AND(referentes!U991<>\"\",          referentes!U991<>96321,    referentes!U991<>96222            ),(referentes!W991),\"\")","v":""},{"$f":"referentes!S991","v":0},null,989,0,1130,"X"]
[null,null,null,null,null,null,null,null,null,null,null,null,null,null,null,null,null,{"$f":"IF(AND(#REF!<>\"\"    ),(#REF!),\"\")","v":{"$error":"#REF!"}},null,null,null,null,null,null,{"$f":"IF(AND(referentes!U992<>\"\",          referentes!U992<>96321,    referentes!U992<>96222            ),(referentes!W992),\"\")","v":""},{"$f":"referentes!S992","v":0},null,990,0,1130,"X"]
[null,null,null,null,null,null,null,null,null,null,null,null,null,null,null,null,null,{"$f":"IF(AND(#REF!<>\"\"    ),(#REF!),\"\")","v":{"$error":"#REF!"}},null,null,null,null,null,null,{"$f":"IF(AND(referentes!U993<>\"\",          referentes!U993<>96321,    referentes!U993<>96222            ),(referentes!W993),\"\")","v":""},{"$f":"referentes!S993","v":0},null,991,0,1130,"X"]
[null,null,null,null,null,null,null,null,null,null,null,null,null,null,null,null,null,{"$f":"IF(AND(#REF!<>\"\"    ),(#REF!),\"\")","v":{"$error":"#REF!"}},null,null,null,null,null,null,{"$f":"IF(AND(referentes!U994<>\"\",          referentes!U994<>96321,    referentes!U994<>96222            ),(referentes!W994),\"\")","v":""},{"$f":"referentes!S994","v":0},null,992,0,1130,"X"]
[null,null,null,null,null,null,null,null,null,null,null,null,null,null,null,null,null,{"$f":"IF(AND(#REF!<>\"\"    ),(#REF!),\"\")","v":{"$error":"#REF!"}},null,null,null,null,null,null,{"$f":"IF(AND(referentes!U995<>\"\",          referentes!U995<>96321,    referentes!U995<>96222            ),(referentes!W995),\"\")","v":""},{"$f":"referentes!S995","v":0},null,993,0,1130,"X"]
[null,null,null,null,null,null,null,null,null,null,null,null,null,null,null,null,null,{"$f":"IF(AND(#REF!<>\"\"    ),(#REF!),\"\")","v":{"$error":"#REF!"}},null,null,null,null,null,null,{"$f":"IF(AND(referentes!U996<>\"\",          referentes!U996<>96321,    referentes!U996<>96222            ),(referentes!W996),\"\")","v":""},{"$f":"referentes!S996","v":0},null,994,0,1130,"X"]
[null,null,null,null,null,null,null,null,null,null,null,null,null,null,null,null,null,{"$f":"IF(AND(#REF!<>\"\"    ),(#REF!),\"\")","v":{"$error":"#REF!"}},null,null,null,null,null,null,{"$f":"IF(AND(referentes!U997<>\"\",          referentes!U997<>96321,    referentes!U997<>96222            ),(referentes!W997),\"\")","v":""},{"$f":"referentes!S997","v":0},null,995,0,1130,"X"]
[null,null,null,null,null,null,null,null,null,null,null,null,null,null,null,null,null,{"$f":"IF(AND(#REF!<>\"\"    ),(#REF!),\"\")","v":{"$error":"#REF!"}},null,null,null,null,null,null,{"$f":"IF(AND(referentes!U998<>\"\",          referentes!U998<>96321,    referentes!U998<>96222            ),(referentes!W998),\"\")","v":""},{"$f":"referentes!S998","v":0},null,996,0,1130,"X"]
[null,null,null,null,null,null,null,null,null,null,null,null,null,null,null,null,null,{"$f":"IF(AND(#REF!<>\"\"    ),(#REF!),\"\")","v":{"$error":"#REF!"}},null,null,null,null,null,null,{"$f":"IF(AND(referentes!U999<>\"\",          referentes!U999<>96321,    referentes!U999<>96222            ),(referentes!W999),\"\")","v":""},{"$f":"referentes!S999","v":0},null,997,0,1130,"X"]
[null,null,null,null,null,null,null,null,null,null,null,null,null,null,null,null,null,{"$f":"IF(AND(#REF!<>\"\"    ),(#REF!),\"\")","v":{"$error":"#REF!"}},null,null,null,null,null,null,{"$f":"IF(AND(referentes!U1000<>\"\",          referentes!U1000<>96321,    referentes!U1000<>96222            ),(referentes!W1000),\"\")","v":""},{"$f":"referentes!S1000","v":0},null,998,0,1130,"X"]
[null,null,null,null,null,null,null,null,null,null,null,null,null,null,null,null,null,{"$f":"IF(AND(#REF!<>\"\"    ),(#REF!),\"\")","v":{"$error":"#REF!"}},null,null,null,null,null,null,{"$f":"IF(AND(referentes!U1001<>\"\",          referentes!U1001<>96321,    referentes!U1001<>96222            ),(referentes!W1001),\"\")","v":""},{"$f":"referentes!S1001","v":0},null,999,0,1130,"X"]
[null,null,null,null,null,null,null,null,null,null,null,null,null,null,null,null,null,{"$f":"IF(AND(#REF!<>\"\"    ),(#REF!),\"\")","v":{"$error":"#REF!"}},null,null,null,null,null,null,{"$f":"IF(AND(referentes!U1002<>\"\",          referentes!U1002<>96321,    referentes!U1002<>96222            ),(referentes!W1002),\"\")","v":""},{"$f":"referentes!S1002","v":0},null,1000,0,1130,"X"]
[null,null,null,null,null,null,null,null,null,null,null,null,null,null,null,null,null,{"$f":"IF(AND(#REF!<>\"\"    ),(#REF!),\"\")","v":{"$error":"#REF!"}},null,null,null,null,null,null,{"$f":"IF(AND(referentes!U1003<>\"\",          referentes!U1003<>96321,    referentes!U1003<>96222            ),(referentes!W1003),\"\")","v":""},{"$f":"referentes!S1003","v":0},null,1001,0,1130,"X"]
[null,null,null,null,null,null,null,null,null,null,null,null,null,null,null,null,null,{"$f":"IF(AND(#REF!<>\"\"    ),(#REF!),\"\")","v":{"$error":"#REF!"}},null,null,null,null,null,null,{"$f":"IF(AND(referentes!U1004<>\"\",          referentes!U1004<>96321,    referentes!U1004<>96222            ),(referentes!W1004),\"\")","v":""},{"$f":"referentes!S1004","v":0},null,1002,0,1130,"X"]
[null,null,null,null,null,null,null,null,null,null,null,null,null,null,null,null,null,{"$f":"IF(AND(#REF!<>\"\"    ),(#REF!),\"\")","v":{"$error":"#REF!"}},null,null,null,null,null,null,{"$f":"IF(AND(referentes!U1005<>\"\",          referentes!U1005<>96321,    referentes!U1005<>96222            ),(referentes!W1005),\"\")","v":""},{"$f":"referentes!S1005","v":0},null,1003,0,1130,"X"]
[null,null,null,null,null,null,null,null,null,null,null,null,null,null,null,null,null,{"$f":"IF(AND(#REF!<>\"\"    ),(#REF!),\"\")","v":{"$error":"#REF!"}},null,null,null,null,null,null,{"$f":"IF(AND(referentes!U1006<>\"\",          referentes!U1006<>96321,    referentes!U1006<>96222            ),(referentes!W1006),\"\")","v":""},{"$f":"referentes!S1006","v":0},null,1004,0,1130,"X"]
[null,null,null,null,null,null,null,null,null,null,null,null,null,null,null,null,null,{"$f":"IF(AND(#REF!<>\"\"    ),(#REF!),\"\")","v":{"$error":"#REF!"}},null,null,null,null,null,null,{"$f":"IF(AND(referentes!U1007<>\"\",          referentes!U1007<>96321,    referentes!U1007<>96222            ),(referentes!W1007),\"\")","v":""},{"$f":"referentes!S1007","v":0},null,1005,0,1130,"X"]
[null,null,null,null,null,null,null,null,null,null,null,null,null,null,null,null,null,{"$f":"IF(AND(#REF!<>\"\"    ),(#REF!),\"\")","v":{"$error":"#REF!"}},null,null,null,null,null,null,{"$f":"IF(AND(referentes!U1008<>\"\",          referentes!U1008<>96321,    referentes!U1008<>96222            ),(referentes!W1008),\"\")","v":""},{"$f":"referentes!S1008","v":0},null,1006,0,1130,"X"]
[null,null,null,null,null,null,null,null,null,null,null,null,null,null,null,null,null,{"$f":"IF(AND(#REF!<>\"\"    ),(#REF!),\"\")","v":{"$error":"#REF!"}},null,null,null,null,null,null,{"$f":"IF(AND(referentes!U1009<>\"\",          referentes!U1009<>96321,    referentes!U1009<>96222            ),(referentes!W1009),\"\")","v":""},{"$f":"referentes!S1009","v":0},null,1007,0,1130,"X"]
[null,null,null,null,null,null,null,null,null,null,null,null,null,null,null,null,null,{"$f":"IF(AND(#REF!<>\"\"    ),(#REF!),\"\")","v":{"$error":"#REF!"}},null,null,null,null,null,null,{"$f":"IF(AND(referentes!U1010<>\"\",          referentes!U1010<>96321,    referentes!U1010<>96222            ),(referentes!W1010),\"\")","v":""},{"$f":"referentes!S1010","v":0},null,1008,0,1130,"X"]
[null,null,null,null,null,null,null,null,null,null,null,null,null,null,null,null,null,{"$f":"IF(AND(#REF!<>\"\"    ),(#REF!),\"\")","v":{"$error":"#REF!"}},null,null,null,null,null,null,{"$f":"IF(AND(referentes!U1011<>\"\",          referentes!U1011<>96321,    referentes!U1011<>96222            ),(referentes!W1011),\"\")","v":""},{"$f":"referentes!S1011","v":0},null,1009,0,1130,"X"]
[null,null,null,null,null,null,null,null,null,null,null,null,null,null,null,null,null,{"$f":"IF(AND(#REF!<>\"\"    ),(#REF!),\"\")","v":{"$error":"#REF!"}},null,null,null,null,null,null,{"$f":"IF(AND(referentes!U1012<>\"\",          referentes!U1012<>96321,    referentes!U1012<>96222            ),(referentes!W1012),\"\")","v":""},{"$f":"referentes!S1012","v":0},null,1010,0,1130,"X"]
[null,null,null,null,null,null,null,null,null,null,null,null,null,null,null,null,null,{"$f":"IF(AND(#REF!<>\"\"    ),(#REF!),\"\")","v":{"$error":"#REF!"}},null,null,null,null,null,null,{"$f":"IF(AND(referentes!U1013<>\"\",          referentes!U1013<>96321,    referentes!U1013<>96222            ),(referentes!W1013),\"\")","v":""},{"$f":"referentes!S1013","v":0},null,1011,0,1130,"X"]
[null,null,null,null,null,null,null,null,null,null,null,null,null,null,null,null,null,{"$f":"IF(AND(#REF!<>\"\"    ),(#REF!),\"\")","v":{"$error":"#REF!"}},null,null,null,null,null,null,{"$f":"IF(AND(referentes!U1014<>\"\",          referentes!U1014<>96321,    referentes!U1014<>96222            ),(referentes!W1014),\"\")","v":""},{"$f":"referentes!S1014","v":0},null,1012,0,1130,"X"]
[null,null,null,null,null,null,null,null,null,null,null,null,null,null,null,null,null,{"$f":"IF(AND(#REF!<>\"\"    ),(#REF!),\"\")","v":{"$error":"#REF!"}},null,null,null,null,null,null,{"$f":"IF(AND(referentes!U1015<>\"\",          referentes!U1015<>96321,    referentes!U1015<>96222            ),(referentes!W1015),\"\")","v":""},{"$f":"referentes!S1015","v":0},null,1013,0,1130,"X"]
[null,null,null,null,null,null,null,null,null,null,null,null,null,null,null,null,null,{"$f":"IF(AND(#REF!<>\"\"    ),(#REF!),\"\")","v":{"$error":"#REF!"}},null,null,null,null,null,null,{"$f":"IF(AND(referentes!U1016<>\"\",          referentes!U1016<>96321,    referentes!U1016<>96222            ),(referentes!W1016),\"\")","v":""},{"$f":"referentes!S1016","v":0},null,1014,0,1130,"X"]
[null,null,null,null,null,null,null,null,null,null,null,null,null,null,null,null,null,{"$f":"IF(AND(#REF!<>\"\"    ),(#REF!),\"\")","v":{"$error":"#REF!"}},null,null,null,null,null,null,{"$f":"IF(AND(referentes!U1017<>\"\",          referentes!U1017<>96321,    referentes!U1017<>96222            ),(referentes!W1017),\"\")","v":""},{"$f":"referentes!S1017","v":0},null,1015,0,1130,"X"]
[null,null,null,null,null,null,null,null,null,null,null,null,null,null,null,null,null,{"$f":"IF(AND(#REF!<>\"\"    ),(#REF!),\"\")","v":{"$error":"#REF!"}},null,null,null,null,null,null,{"$f":"IF(AND(referentes!U1018<>\"\",          referentes!U1018<>96321,    referentes!U1018<>96222            ),(referentes!W1018),\"\")","v":""},{"$f":"referentes!S1018","v":0},null,1016,0,1130,"X"]
[null,null,null,null,null,null,null,null,null,null,null,null,null,null,null,null,null,{"$f":"IF(AND(#REF!<>\"\"    ),(#REF!),\"\")","v":{"$error":"#REF!"}},null,null,null,null,null,null,{"$f":"IF(AND(referentes!U1019<>\"\",          referentes!U1019<>96321,    referentes!U1019<>96222            ),(referentes!W1019),\"\")","v":""},{"$f":"referentes!S1019","v":0},null,1017,0,1130,"X"]
[null,null,null,null,null,null,null,null,null,null,null,null,null,null,null,null,null,{"$f":"IF(AND(#REF!<>\"\"    ),(#REF!),\"\")","v":{"$error":"#REF!"}},null,null,null,null,null,null,{"$f":"IF(AND(referentes!U1020<>\"\",          referentes!U1020<>96321,    referentes!U1020<>96222            ),(referentes!W1020),\"\")","v":""},{"$f":"referentes!S1020","v":0},null,1018,0,1130,"X"]
[null,null,null,null,null,null,null,null,null,null,null,null,null,null,null,null,null,{"$f":"IF(AND(#REF!<>\"\"    ),(#REF!),\"\")","v":{"$error":"#REF!"}},null,null,null,null,null,null,{"$f":"IF(AND(referentes!U1021<>\"\",          referentes!U1021<>96321,    referentes!U1021<>96222            ),(referentes!W1021),\"\")","v":""},{"$f":"referentes!S1021","v":0},null,1019,0,1130,"X"]
[null,null,null,null,null,null,null,null,null,null,null,null,null,null,null,null,null,{"$f":"IF(AND(#REF!<>\"\"    ),(#REF!),\"\")","v":{"$error":"#REF!"}},null,null,null,null,null,null,{"$f":"IF(AND(referentes!U1022<>\"\",          referentes!U1022<>96321,    referentes!U1022<>96222            ),(referentes!W1022),\"\")","v":""},{"$f":"referentes!S1022","v":0},null,1020,0,1130,"X"]
[null,null,null,null,null,null,null,null,null,null,null,null,null,null,null,null,null,{"$f":"IF(AND(#REF!<>\"\"    ),(#REF!),\"\")","v":{"$error":"#REF!"}},null,null,null,null,null,null,{"$f":"IF(AND(referentes!U1023<>\"\",          referentes!U1023<>96321,    referentes!U1023<>96222            ),(referentes!W1023),\"\")","v":""},{"$f":"referentes!S1023","v":0},null,1021,0,1130,"X"]
[null,null,null,null,null,null,null,null,null,null,null,null,null,null,null,null,null,{"$f":"IF(AND(#REF!<>\"\"    ),(#REF!),\"\")","v":{"$error":"#REF!"}},null,null,null,null,null,null,{"$f":"IF(AND(referentes!U1024<>\"\",          referentes!U1024<>96321,    referentes!U1024<>96222            ),(referentes!W1024),\"\")","v":""},{"$f":"referentes!S1024","v":0},null,1022,0,1130,"X"]
[null,null,null,null,null,null,null,null,null,null,null,null,null,null,null,null,null,{"$f":"IF(AND(#REF!<>\"\"    ),(#REF!),\"\")","v":{"$error":"#REF!"}},null,null,null,null,null,null,{"$f":"IF(AND(referentes!U1025<>\"\",          referentes!U1025<>96321,    referentes!U1025<>96222            ),(referentes!W1025),\"\")","v":""},{"$f":"referentes!S1025","v":0},null,1023,0,1130,"X"]
[null,null,null,null,null,null,null,null,null,null,null,null,null,null,null,null,null,{"$f":"IF(AND(#REF!<>\"\"    ),(#REF!),\"\")","v":{"$error":"#REF!"}},null,null,null,null,null,null,{"$f":"IF(AND(referentes!U1026<>\"\",          referentes!U1026<>96321,    referentes!U1026<>96222            ),(referentes!W1026),\"\")","v":""},{"$f":"referentes!S1026","v":0},null,1024,0,1130,"X"]
[null,null,null,null,null,null,null,null,null,null,null,null,null,null,null,null,null,{"$f":"IF(AND(#REF!<>\"\"    ),(#REF!),\"\")","v":{"$error":"#REF!"}},null,null,null,null,null,null,{"$f":"IF(AND(referentes!U1027<>\"\",          referentes!U1027<>96321,    referentes!U1027<>96222            ),(referentes!W1027),\"\")","v":""},{"$f":"referentes!S1027","v":0},null,1025,0,1130,"X"]
[null,null,null,null,null,null,null,null,null,null,null,null,null,null,null,null,null,{"$f":"IF(AND(#REF!<>\"\"    ),(#REF!),\"\")","v":{"$error":"#REF!"}},null,null,null,null,null,null,{"$f":"IF(AND(referentes!U1028<>\"\",          referentes!U1028<>96321,    referentes!U1028<>96222            ),(referentes!W1028),\"\")","v":""},{"$f":"referentes!S1028","v":0},null,1026,{"$f":"IF(Y1031=\"\",0,Y1031)","v":0},{"$f":"IF(AC1032=0,MAX($AB$7:$AB$1135)+1,AB1032)","v":1130},{"$f":"IFERROR(VLOOKUP(SMALL($AD$7:$AD$1135,AB1032),$AB$7:$AD$1135,2,FALSE),\"X\")","v":"X"}]
[null,null,null,null,null,null,null,null,null,null,null,null,null,null,null,null,null,{"$f":"IF(AND(#REF!<>\"\"    ),(#REF!),\"\")","v":{"$error":"#REF!"}},null,null,null,null,null,null,{"$f":"IF(AND(referentes!U1029<>\"\",          referentes!U1029<>96321,    referentes!U1029<>96222            ),(referentes!W1029),\"\")","v":""},{"$f":"referentes!S1029","v":0},null,1027,0,1130,"X"]
[null,null,null,null,null,null,null,null,null,null,null,null,null,null,null,null,null,{"$f":"IF(AND(#REF!<>\"\"    ),(#REF!),\"\")","v":{"$error":"#REF!"}},null,null,null,null,null,null,{"$f":"IF(AND(referentes!U1030<>\"\",          referentes!U1030<>96321,    referentes!U1030<>96222            ),(referentes!W1030),\"\")","v":""},{"$f":"referentes!S1030","v":0},null,1028,0,1130,"X"]
[null,null,null,null,null,null,null,null,null,null,null,null,null,null,null,null,null,{"$f":"IF(AND(#REF!<>\"\"    ),(#REF!),\"\")","v":{"$error":"#REF!"}},null,null,null,null,null,null,{"$f":"IF(AND(referentes!U1031<>\"\",          referentes!U1031<>96321,    referentes!U1031<>96222            ),(referentes!W1031),\"\")","v":""},{"$f":"referentes!S1031","v":0},null,1029,0,1130,"X"]
[null,null,null,null,null,null,null,null,null,null,null,null,null,null,null,null,null,{"$f":"IF(AND(#REF!<>\"\"    ),(#REF!),\"\")","v":{"$error":"#REF!"}},null,null,null,null,null,null,{"$f":"IF(AND(referentes!U1032<>\"\",          referentes!U1032<>96321,    referentes!U1032<>96222            ),(referentes!W1032),\"\")","v":""},{"$f":"referentes!S1032","v":0},null,1030,0,1130,"X"]
[null,null,null,null,null,null,null,null,null,null,null,null,null,null,null,null,null,{"$f":"IF(AND(#REF!<>\"\"    ),(#REF!),\"\")","v":{"$error":"#REF!"}},null,null,null,null,null,null,{"$f":"IF(AND(referentes!U1033<>\"\",          referentes!U1033<>96321,    referentes!U1033<>96222            ),(referentes!W1033),\"\")","v":""},{"$f":"referentes!S1033","v":0},null,1031,0,1130,"X"]
[null,null,null,null,null,null,null,null,null,null,null,null,null,null,null,null,null,{"$f":"IF(AND(#REF!<>\"\"    ),(#REF!),\"\")","v":{"$error":"#REF!"}},null,null,null,null,null,null,{"$f":"IF(AND(referentes!U1034<>\"\",          referentes!U1034<>96321,    referentes!U1034<>96222            ),(referentes!W1034),\"\")","v":""},{"$f":"referentes!S1034","v":0},null,1032,0,1130,"X"]
[null,null,null,null,null,null,null,null,null,null,null,null,null,null,null,null,null,{"$f":"IF(AND(#REF!<>\"\"    ),(#REF!),\"\")","v":{"$error":"#REF!"}},null,null,null,null,null,null,{"$f":"IF(AND(referentes!U1035<>\"\",          referentes!U1035<>96321,    referentes!U1035<>96222            ),(referentes!W1035),\"\")","v":""},{"$f":"referentes!S1035","v":0},null,1033,0,1130,"X"]
[null,null,null,null,null,null,null,null,null,null,null,null,null,null,null,null,null,{"$f":"IF(AND(#REF!<>\"\"    ),(#REF!),\"\")","v":{"$error":"#REF!"}},null,null,null,null,null,null,{"$f":"IF(AND(referentes!U1036<>\"\",          referentes!U1036<>96321,    referentes!U1036<>96222            ),(referentes!W1036),\"\")","v":""},{"$f":"referentes!S1036","v":0},null,1034,0,1130,"X"]
[null,null,null,null,null,null,null,null,null,null,null,null,null,null,null,null,null,{"$f":"IF(AND(#REF!<>\"\"    ),(#REF!),\"\")","v":{"$error":"#REF!"}},null,null,null,null,null,null,{"$f":"IF(AND(referentes!U1037<>\"\",          referentes!U1037<>96321,    referentes!U1037<>96222            ),(referentes!W1037),\"\")","v":""},{"$f":"referentes!S1037","v":0},null,1035,0,1130,"X"]
[null,null,null,null,null,null,null,null,null,null,null,null,null,null,null,null,null,{"$f":"IF(AND(#REF!<>\"\"    ),(#REF!),\"\")","v":{"$error":"#REF!"}},null,null,null,null,null,null,{"$f":"IF(AND(referentes!U1038<>\"\",          referentes!U1038<>96321,    referentes!U1038<>96222            ),(referentes!W1038),\"\")","v":""},{"$f":"referentes!S1038","v":0},null,1036,0,1130,"X"]
[null,null,null,null,null,null,null,null,null,null,null,null,null,null,null,null,null,{"$f":"IF(AND(#REF!<>\"\"    ),(#REF!),\"\")","v":{"$error":"#REF!"}},null,null,null,null,null,null,{"$f":"IF(AND(referentes!U1039<>\"\",          referentes!U1039<>96321,    referentes!U1039<>96222            ),(referentes!W1039),\"\")","v":""},{"$f":"referentes!S1039","v":0},null,1037,0,1130,"X"]
[null,null,null,null,null,null,null,null,null,null,null,null,null,null,null,null,null,{"$f":"IF(AND(#REF!<>\"\"    ),(#REF!),\"\")","v":{"$error":"#REF!"}},null,null,null,null,null,null,{"$f":"IF(AND(referentes!U1040<>\"\",          referentes!U1040<>96321,    referentes!U1040<>96222            ),(referentes!W1040),\"\")","v":""},{"$f":"referentes!S1040","v":0},null,1038,0,1130,"X"]
[null,null,null,null,null,null,null,null,null,null,null,null,null,null,null,null,null,{"$f":"IF(AND(#REF!<>\"\"    ),(#REF!),\"\")","v":{"$error":"#REF!"}},null,null,null,null,null,null,{"$f":"IF(AND(referentes!U1041<>\"\",          referentes!U1041<>96321,    referentes!U1041<>96222            ),(referentes!W1041),\"\")","v":""},{"$f":"referentes!S1041","v":0},null,1039,0,1130,"X"]
[null,null,null,null,null,null,null,null,null,null,null,null,null,null,null,null,null,{"$f":"IF(AND(#REF!<>\"\"    ),(#REF!),\"\")","v":{"$error":"#REF!"}},null,null,null,null,null,null,{"$f":"IF(AND(referentes!U1042<>\"\",          referentes!U1042<>96321,    referentes!U1042<>96222            ),(referentes!W1042),\"\")","v":""},{"$f":"referentes!S1042","v":0},null,1040,0,1130,"X"]
[null,null,null,null,null,null,null,null,null,null,null,null,null,null,null,null,null,{"$f":"IF(AND(#REF!<>\"\"    ),(#REF!),\"\")","v":{"$error":"#REF!"}},null,null,null,null,null,null,{"$f":"IF(AND(referentes!U1043<>\"\",          referentes!U1043<>96321,    referentes!U1043<>96222            ),(referentes!W1043),\"\")","v":""},{"$f":"referentes!S1043","v":0},null,1041,0,1130,"X"]
[null,null,null,null,null,null,null,null,null,null,null,null,null,null,null,null,null,{"$f":"IF(AND(#REF!<>\"\"    ),(#REF!),\"\")","v":{"$error":"#REF!"}},null,null,null,null,null,null,{"$f":"IF(AND(referentes!U1044<>\"\",          referentes!U1044<>96321,    referentes!U1044<>96222            ),(referentes!W1044),\"\")","v":""},{"$f":"referentes!S1044","v":0},null,1042,0,1130,"X"]
[null,null,null,null,null,null,null,null,null,null,null,null,null,null,null,null,null,{"$f":"IF(AND(#REF!<>\"\"    ),(#REF!),\"\")","v":{"$error":"#REF!"}},null,null,null,null,null,null,{"$f":"IF(AND(referentes!U1045<>\"\",          referentes!U1045<>96321,    referentes!U1045<>96222            ),(referentes!W1045),\"\")","v":""},{"$f":"referentes!S1045","v":0},null,1043,0,1130,"X"]
[null,null,null,null,null,null,null,null,null,null,null,null,null,null,null,null,null,{"$f":"IF(AND(#REF!<>\"\"    ),(#REF!),\"\")","v":{"$error":"#REF!"}},null,null,null,null,null,null,{"$f":"IF(AND(referentes!U1046<>\"\",          referentes!U1046<>96321,    referentes!U1046<>96222            ),(referentes!W1046),\"\")","v":""},{"$f":"referentes!S1046","v":0},null,1044,0,1130,"X"]
[null,null,null,null,null,null,null,null,null,null,null,null,null,null,null,null,null,{"$f":"IF(AND(#REF!<>\"\"    ),(#REF!),\"\")","v":{"$error":"#REF!"}},null,null,null,null,null,null,{"$f":"IF(AND(referentes!U1047<>\"\",          referentes!U1047<>96321,    referentes!U1047<>96222            ),(referentes!W1047),\"\")","v":""},{"$f":"referentes!S1047","v":0},null,1045,0,1130,"X"]
[null,null,null,null,null,null,null,null,null,null,null,null,null,null,null,null,null,{"$f":"IF(AND(#REF!<>\"\"    ),(#REF!),\"\")","v":{"$error":"#REF!"}},null,null,null,null,null,null,{"$f":"IF(AND(referentes!U1048<>\"\",          referentes!U1048<>96321,    referentes!U1048<>96222            ),(referentes!W1048),\"\")","v":""},{"$f":"referentes!S1048","v":0},null,1046,0,1130,"X"]
[null,null,null,null,null,null,null,null,null,null,null,null,null,null,null,null,null,{"$f":"IF(AND(#REF!<>\"\"    ),(#REF!),\"\")","v":{"$error":"#REF!"}},null,null,null,null,null,null,{"$f":"IF(AND(referentes!U1049<>\"\",          referentes!U1049<>96321,    referentes!U1049<>96222            ),(referentes!W1049),\"\")","v":""},{"$f":"referentes!S1049","v":0},null,1047,0,1130,"X"]
[null,null,null,null,null,null,null,null,null,null,null,null,null,null,null,null,null,{"$f":"IF(AND(#REF!<>\"\"    ),(#REF!),\"\")","v":{"$error":"#REF!"}},null,null,null,null,null,null,{"$f":"IF(AND(referentes!U1050<>\"\",          referentes!U1050<>96321,    referentes!U1050<>96222            ),(referentes!W1050),\"\")","v":""},{"$f":"referentes!S1050","v":0},null,1048,0,1130,"X"]
[null,null,null,null,null,null,null,null,null,null,null,null,null,null,null,null,null,{"$f":"IF(AND(#REF!<>\"\"    ),(#REF!),\"\")","v":{"$error":"#REF!"}},null,null,null,null,null,null,{"$f":"IF(AND(referentes!U1051<>\"\",          referentes!U1051<>96321,    referentes!U1051<>96222            ),(referentes!W1051),\"\")","v":""},{"$f":"referentes!S1051","v":0},null,1049,0,1130,"X"]
[null,null,null,null,null,null,null,null,null,null,null,null,null,null,null,null,null,{"$f":"IF(AND(#REF!<>\"\"    ),(#REF!),\"\")","v":{"$error":"#REF!"}},null,null,null,null,null,null,{"$f":"IF(AND(referentes!U1052<>\"\",          referentes!U1052<>96321,    referentes!U1052<>96222            ),(referentes!W1052),\"\")","v":""},{"$f":"referentes!S1052","v":0},null,1050,0,1130,"X"]
[null,null,null,null,null,null,null,null,null,null,null,null,null,null,null,null,null,{"$f":"IF(AND(#REF!<>\"\"    ),(#REF!),\"\")","v":{"$error":"#REF!"}},null,null,null,null,null,null,{"$f":"IF(AND(referentes!U1053<>\"\",          referentes!U1053<>96321,    referentes!U1053<>96222            ),(referentes!W1053),\"\")","v":""},{"$f":"referentes!S1053","v":0},null,1051,0,1130,"X"]
[null,null,null,null,null,null,null,null,null,null,null,null,null,null,null,null,null,{"$f":"IF(AND(#REF!<>\"\"    ),(#REF!),\"\")","v":{"$error":"#REF!"}},null,null,null,null,null,null,{"$f":"IF(AND(referentes!U1054<>\"\",          referentes!U1054<>96321,    referentes!U1054<>96222            ),(referentes!W1054),\"\")","v":""},{"$f":"referentes!S1054","v":0},null,1052,0,1130,"X"]
[null,null,null,null,null,null,null,null,null,null,null,null,null,null,null,null,null,{"$f":"IF(AND(#REF!<>\"\"    ),(#REF!),\"\")","v":{"$error":"#REF!"}},null,null,null,null,null,null,{"$f":"IF(AND(referentes!U1055<>\"\",          referentes!U1055<>96321,    referentes!U1055<>96222            ),(referentes!W1055),\"\")","v":""},{"$f":"referentes!S1055","v":0},null,1053,0,1130,"X"]
[null,null,null,null,null,null,null,null,null,null,null,null,null,null,null,null,null,{"$f":"IF(AND(#REF!<>\"\"    ),(#REF!),\"\")","v":{"$error":"#REF!"}},null,null,null,null,null,null,{"$f":"IF(AND(referentes!U1056<>\"\",          referentes!U1056<>96321,    referentes!U1056<>96222            ),(referentes!W1056),\"\")","v":""},{"$f":"referentes!S1056","v":0},null,1054,0,1130,"X"]
[null,null,null,null,null,null,null,null,null,null,null,null,null,null,null,null,null,{"$f":"IF(AND(#REF!<>\"\"    ),(#REF!),\"\")","v":{"$error":"#REF!"}},null,null,null,null,null,null,{"$f":"IF(AND(referentes!U1057<>\"\",          referentes!U1057<>96321,    referentes!U1057<>96222            ),(referentes!W1057),\"\")","v":""},{"$f":"referentes!S1057","v":0},null,1055,0,1130,"X"]
[null,null,null,null,null,null,null,null,null,null,null,null,null,null,null,null,null,{"$f":"IF(AND(#REF!<>\"\"    ),(#REF!),\"\")","v":{"$error":"#REF!"}},null,null,null,null,null,null,{"$f":"IF(AND(referentes!U1058<>\"\",          referentes!U1058<>96321,    referentes!U1058<>96222            ),(referentes!W1058),\"\")","v":""},{"$f":"referentes!S1058","v":0},null,1056,0,1130,"X"]
[null,null,null,null,null,null,null,null,null,null,null,null,null,null,null,null,null,{"$f":"IF(AND(#REF!<>\"\"    ),(#REF!),\"\")","v":{"$error":"#REF!"}},null,null,null,null,null,null,{"$f":"IF(AND(referentes!U1059<>\"\",          referentes!U1059<>96321,    referentes!U1059<>96222            ),(referentes!W1059),\"\")","v":""},{"$f":"referentes!S1059","v":0},null,1057,0,1130,"X"]
[null,null,null,null,null,null,null,null,null,null,null,null,null,null,null,null,null,{"$f":"IF(AND(#REF!<>\"\"    ),(#REF!),\"\")","v":{"$error":"#REF!"}},null,null,null,null,null,null,{"$f":"IF(AND(referentes!U1060<>\"\",          referentes!U1060<>96321,    referentes!U1060<>96222            ),(referentes!W1060),\"\")","v":""},{"$f":"referentes!S1060","v":0},null,1058,0,1130,"X"]
[null,null,null,null,null,null,null,null,null,null,null,null,null,null,null,null,null,{"$f":"IF(AND(#REF!<>\"\"    ),(#REF!),\"\")","v":{"$error":"#REF!"}},null,null,null,null,null,null,{"$f":"IF(AND(referentes!U1061<>\"\",          referentes!U1061<>96321,    referentes!U1061<>96222            ),(referentes!W1061),\"\")","v":""},{"$f":"referentes!S1061","v":0},null,1059,0,1130,"X"]
[null,null,null,null,null,null,null,null,null,null,null,null,null,null,null,null,null,{"$f":"IF(AND(#REF!<>\"\"    ),(#REF!),\"\")","v":{"$error":"#REF!"}},null,null,null,null,null,null,{"$f":"IF(AND(referentes!U1062<>\"\",          referentes!U1062<>96321,    referentes!U1062<>96222            ),(referentes!W1062),\"\")","v":""},{"$f":"referentes!S1062","v":0},null,1060,0,1130,"X"]
[null,null,null,null,null,null,null,null,null,null,null,null,null,null,null,null,null,{"$f":"IF(AND(#REF!<>\"\"    ),(#REF!),\"\")","v":{"$error":"#REF!"}},null,null,null,null,null,null,{"$f":"IF(AND(referentes!U1063<>\"\",          referentes!U1063<>96321,    referentes!U1063<>96222            ),(referentes!W1063),\"\")","v":""},{"$f":"referentes!S1063","v":0},null,1061,0,1130,"X"]
[null,null,null,null,null,null,null,null,null,null,null,null,null,null,null,null,null,{"$f":"IF(AND(#REF!<>\"\"    ),(#REF!),\"\")","v":{"$error":"#REF!"}},null,null,null,null,null,null,{"$f":"IF(AND(referentes!U1064<>\"\",          referentes!U1064<>96321,    referentes!U1064<>96222            ),(referentes!W1064),\"\")","v":""},{"$f":"referentes!S1064","v":0},null,1062,0,1130,"X"]
[null,null,null,null,null,null,null,null,null,null,null,null,null,null,null,null,null,{"$f":"IF(AND(#REF!<>\"\"    ),(#REF!),\"\")","v":{"$error":"#REF!"}},null,null,null,null,null,null,{"$f":"IF(AND(referentes!U1065<>\"\",          referentes!U1065<>96321,    referentes!U1065<>96222            ),(referentes!W1065),\"\")","v":""},{"$f":"referentes!S1065","v":0},null,1063,0,1130,"X"]
[null,null,null,null,null,null,null,null,null,null,null,null,null,null,null,null,null,{"$f":"IF(AND(#REF!<>\"\"    ),(#REF!),\"\")","v":{"$error":"#REF!"}},null,null,null,null,null,null,{"$f":"IF(AND(referentes!U1066<>\"\",          referentes!U1066<>96321,    referentes!U1066<>96222            ),(referentes!W1066),\"\")","v":""},{"$f":"referentes!S1066","v":0},null,1064,0,1130,"X"]
[null,null,null,null,null,null,null,null,null,null,null,null,null,null,null,null,null,{"$f":"IF(AND(#REF!<>\"\"    ),(#REF!),\"\")","v":{"$error":"#REF!"}},null,null,null,null,null,null,{"$f":"IF(AND(referentes!U1067<>\"\",          referentes!U1067<>96321,    referentes!U1067<>96222            ),(referentes!W1067),\"\")","v":""},{"$f":"referentes!S1067","v":0},null,1065,0,1130,"X"]
[null,null,null,null,null,null,null,null,null,null,null,null,null,null,null,null,null,{"$f":"IF(AND(#REF!<>\"\"    ),(#REF!),\"\")","v":{"$error":"#REF!"}},null,null,null,null,null,null,{"$f":"IF(AND(referentes!U1068<>\"\",          referentes!U1068<>96321,    referentes!U1068<>96222            ),(referentes!W1068),\"\")","v":""},{"$f":"referentes!S1068","v":0},null,1066,0,1130,"X"]
[null,null,null,null,null,null,null,null,null,null,null,null,null,null,null,null,null,{"$f":"IF(AND(#REF!<>\"\"    ),(#REF!),\"\")","v":{"$error":"#REF!"}},null,null,null,null,null,null,{"$f":"IF(AND(referentes!U1069<>\"\",          referentes!U1069<>96321,    referentes!U1069<>96222            ),(referentes!W1069),\"\")","v":""},{"$f":"referentes!S1069","v":0},null,1067,0,1130,"X"]
[null,null,null,null,null,null,null,null,null,null,null,null,null,null,null,null,null,{"$f":"IF(AND(#REF!<>\"\"    ),(#REF!),\"\")","v":{"$error":"#REF!"}},null,null,null,null,null,null,{"$f":"IF(AND(referentes!U1070<>\"\",          referentes!U1070<>96321,    referentes!U1070<>96222            ),(referentes!W1070),\"\")","v":""},{"$f":"referentes!S1070","v":0},null,1068,0,1130,"X"]
[null,null,null,null,null,null,null,null,null,null,null,null,null,null,null,null,null,{"$f":"IF(AND(#REF!<>\"\"    ),(#REF!),\"\")","v":{"$error":"#REF!"}},null,null,null,null,null,null,{"$f":"IF(AND(referentes!U1071<>\"\",          referentes!U1071<>96321,    referentes!U1071<>96222            ),(referentes!W1071),\"\")","v":""},{"$f":"referentes!S1071","v":0},null,1069,0,1130,"X"]
[null,null,null,null,null,null,null,null,null,null,null,null,null,null,null,null,null,{"$f":"IF(AND(#REF!<>\"\"    ),(#REF!),\"\")","v":{"$error":"#REF!"}},null,null,null,null,null,null,{"$f":"IF(AND(referentes!U1072<>\"\",          referentes!U1072<>96321,    referentes!U1072<>96222            ),(referentes!W1072),\"\")","v":""},{"$f":"referentes!S1072","v":0},null,1070,0,1130,"X"]
[null,null,null,null,null,null,null,null,null,null,null,null,null,null,null,null,null,{"$f":"IF(AND(#REF!<>\"\"    ),(#REF!),\"\")","v":{"$error":"#REF!"}},null,null,null,null,null,null,{"$f":"IF(AND(referentes!U1073<>\"\",          referentes!U1073<>96321,    referentes!U1073<>96222            ),(referentes!W1073),\"\")","v":""},{"$f":"referentes!S1073","v":0},null,1071,0,1130,"X"]
[null,null,null,null,null,null,null,null,null,null,null,null,null,null,null,null,null,{"$f":"IF(AND(#REF!<>\"\"    ),(#REF!),\"\")","v":{"$error":"#REF!"}},null,null,null,null,null,null,{"$f":"IF(AND(referentes!U1074<>\"\",          referentes!U1074<>96321,    referentes!U1074<>96222            ),(referentes!W1074),\"\")","v":""},{"$f":"referentes!S1074","v":0},null,1072,0,1130,"X"]
[null,null,null,null,null,null,null,null,null,null,null,null,null,null,null,null,null,{"$f":"IF(AND(#REF!<>\"\"    ),(#REF!),\"\")","v":{"$error":"#REF!"}},null,null,null,null,null,null,{"$f":"IF(AND(referentes!U1075<>\"\",          referentes!U1075<>96321,    referentes!U1075<>96222            ),(referentes!W1075),\"\")","v":""},{"$f":"referentes!S1075","v":0},null,1073,0,1130,"X"]
[null,null,null,null,null,null,null,null,null,null,null,null,null,null,null,null,null,{"$f":"IF(AND(#REF!<>\"\"    ),(#REF!),\"\")","v":{"$error":"#REF!"}},null,null,null,null,null,null,{"$f":"IF(AND(referentes!U1076<>\"\",          referentes!U1076<>96321,    referentes!U1076<>96222            ),(referentes!W1076),\"\")","v":""},{"$f":"referentes!S1076","v":0},null,1074,0,1130,"X"]
[null,null,null,null,null,null,null,null,null,null,null,null,null,null,null,null,null,{"$f":"IF(AND(#REF!<>\"\"    ),(#REF!),\"\")","v":{"$error":"#REF!"}},null,null,null,null,null,null,{"$f":"IF(AND(referentes!U1077<>\"\",          referentes!U1077<>96321,    referentes!U1077<>96222            ),(referentes!W1077),\"\")","v":""},{"$f":"referentes!S1077","v":0},null,1075,0,1130,"X"]
[null,null,null,null,null,null,null,null,null,null,null,null,null,null,null,null,null,{"$f":"IF(AND(#REF!<>\"\"    ),(#REF!),\"\")","v":{"$error":"#REF!"}},null,null,null,null,null,null,{"$f":"IF(AND(referentes!U1078<>\"\",          referentes!U1078<>96321,    referentes!U1078<>96222            ),(referentes!W1078),\"\")","v":""},{"$f":"referentes!S1078","v":0},null,1076,0,1130,"X"]
[null,null,null,null,null,null,null,null,null,null,null,null,null,null,null,null,null,{"$f":"IF(AND(#REF!<>\"\"    ),(#REF!),\"\")","v":{"$error":"#REF!"}},null,null,null,null,null,null,{"$f":"IF(AND(referentes!U1079<>\"\",          referentes!U1079<>96321,    referentes!U1079<>96222            ),(referentes!W1079),\"\")","v":""},{"$f":"referentes!S1079","v":0},null,1077,0,1130,"X"]
[null,null,null,null,null,null,null,null,null,null,null,null,null,null,null,null,null,{"$f":"IF(AND(#REF!<>\"\"    ),(#REF!),\"\")","v":{"$error":"#REF!"}},null,null,null,null,null,null,{"$f":"IF(AND(referentes!U1080<>\"\",          referentes!U1080<>96321,    referentes!U1080<>96222            ),(referentes!W1080),\"\")","v":""},{"$f":"referentes!S1080","v":0},null,1078,0,1130,"X"]
[null,null,null,null,null,null,null,null,null,null,null,null,null,null,null,null,null,{"$f":"IF(AND(#REF!<>\"\"    ),(#REF!),\"\")","v":{"$error":"#REF!"}},null,null,null,null,null,null,{"$f":"IF(AND(referentes!U1081<>\"\",          referentes!U1081<>96321,    referentes!U1081<>96222            ),(referentes!W1081),\"\")","v":""},{"$f":"referentes!S1081","v":0},null,1079,0,1130,"X"]
[null,null,null,null,null,null,null,null,null,null,null,null,null,null,null,null,null,{"$f":"IF(AND(#REF!<>\"\"    ),(#REF!),\"\")","v":{"$error":"#REF!"}},null,null,null,null,null,null,{"$f":"IF(AND(referentes!U1082<>\"\",          referentes!U1082<>96321,    referentes!U1082<>96222            ),(referentes!W1082),\"\")","v":""},{"$f":"referentes!S1082","v":0},null,1080,0,1130,"X"]
[null,null,null,null,null,null,null,null,null,null,null,null,null,null,null,null,null,{"$f":"IF(AND(#REF!<>\"\"    ),(#REF!),\"\")","v":{"$error":"#REF!"}},null,null,null,null,null,null,{"$f":"IF(AND(referentes!U1083<>\"\",          referentes!U1083<>96321,    referentes!U1083<>96222            ),(referentes!W1083),\"\")","v":""},{"$f":"referentes!S1083","v":0},null,1081,0,1130,"X"]
[null,null,null,null,null,null,null,null,null,null,null,null,null,null,null,null,null,{"$f":"IF(AND(#REF!<>\"\"    ),(#REF!),\"\")","v":{"$error":"#REF!"}},null,null,null,null,null,null,{"$f":"IF(AND(referentes!U1084<>\"\",          referentes!U1084<>96321,    referentes!U1084<>96222            ),(referentes!W1084),\"\")","v":""},{"$f":"referentes!S1084","v":0},null,1082,0,1130,"X"]
[null,null,null,null,null,null,null,null,null,null,null,null,null,null,null,null,null,{"$f":"IF(AND(#REF!<>\"\"    ),(#REF!),\"\")","v":{"$error":"#REF!"}},null,null,null,null,null,null,{"$f":"IF(AND(referentes!U1085<>\"\",          referentes!U1085<>96321,    referentes!U1085<>96222            ),(referentes!W1085),\"\")","v":""},{"$f":"referentes!S1085","v":0},null,1083,0,1130,"X"]
[null,null,null,null,null,null,null,null,null,null,null,null,null,null,null,null,null,{"$f":"IF(AND(#REF!<>\"\"    ),(#REF!),\"\")","v":{"$error":"#REF!"}},null,null,null,null,null,null,{"$f":"IF(AND(referentes!U1086<>\"\",          referentes!U1086<>96321,    referentes!U1086<>96222            ),(referentes!W1086),\"\")","v":""},{"$f":"referentes!S1086","v":0},null,1084,0,1130,"X"]
[null,null,null,null,null,null,null,null,null,null,null,null,null,null,null,null,null,{"$f":"IF(AND(#REF!<>\"\"    ),(#REF!),\"\")","v":{"$error":"#REF!"}},null,null,null,null,null,null,{"$f":"IF(AND(referentes!U1087<>\"\",          referentes!U1087<>96321,    referentes!U1087<>96222            ),(referentes!W1087),\"\")","v":""},{"$f":"referentes!S1087","v":0},null,1085,0,1130,"X"]
[null,null,null,null,null,null,null,null,null,null,null,null,null,null,null,null,null,{"$f":"IF(AND(#REF!<>\"\"    ),(#REF!),\"\")","v":{"$error":"#REF!"}},null,null,null,null,null,null,{"$f":"IF(AND(referentes!U1088<>\"\",          referentes!U1088<>96321,    referentes!U1088<>96222            ),(referentes!W1088),\"\")","v":""},{"$f":"referentes!S1088","v":0},null,1086,0,1130,"X"]
[null,null,null,null,null,null,null,null,null,null,null,null,null,null,null,null,null,{"$f":"IF(AND(#REF!<>\"\"    ),(#REF!),\"\")","v":{"$error":"#REF!"}},null,null,null,null,null,null,{"$f":"IF(AND(referentes!U1089<>\"\",          referentes!U1089<>96321,    referentes!U1089<>96222            ),(referentes!W1089),\"\")","v":""},{"$f":"referentes!S1089","v":0},null,1087,0,1130,"X"]
[null,null,null,null,null,null,null,null,null,null,null,null,null,null,null,null,null,{"$f":"IF(AND(#REF!<>\"\"    ),(#REF!),\"\")","v":{"$error":"#REF!"}},null,null,null,null,null,null,{"$f":"IF(AND(referentes!U1090<>\"\",          referentes!U1090<>96321,    referentes!U1090<>96222            ),(referentes!W1090),\"\")","v":""},{"$f":"referentes!S1090","v":0},null,1088,0,1130,"X"]
[null,null,null,null,null,null,null,null,null,null,null,null,null,null,null,null,null,{"$f":"IF(AND(#REF!<>\"\"    ),(#REF!),\"\")","v":{"$error":"#REF!"}},null,null,null,null,null,null,{"$f":"IF(AND(referentes!U1091<>\"\",          referentes!U1091<>96321,    referentes!U1091<>96222            ),(referentes!W1091),\"\")","v":""},{"$f":"referentes!S1091","v":0},null,1089,0,1130,"X"]
[null,null,null,null,null,null,null,null,null,null,null,null,null,null,null,null,null,{"$f":"IF(AND(#REF!<>\"\"    ),(#REF!),\"\")","v":{"$error":"#REF!"}},null,null,null,null,null,null,{"$f":"IF(AND(referentes!U1092<>\"\",          referentes!U1092<>96321,    referentes!U1092<>96222            ),(referentes!W1092),\"\")","v":""},{"$f":"referentes!S1092","v":0},null,1090,{"$f":"IF(Y1095=\"\",0,Y1095)","v":0},{"$f":"IF(AC1096=0,MAX($AB$7:$AB$1135)+1,AB1096)","v":1130},{"$f":"IFERROR(VLOOKUP(SMALL($AD$7:$AD$1135,AB1096),$AB$7:$AD$1135,2,FALSE),\"X\")","v":"X"}]
[null,null,null,null,null,null,null,null,null,null,null,null,null,null,null,null,null,{"$f":"IF(AND(#REF!<>\"\"    ),(#REF!),\"\")","v":{"$error":"#REF!"}},null,null,null,null,null,null,{"$f":"IF(AND(referentes!U1093<>\"\",          referentes!U1093<>96321,    referentes!U1093<>96222            ),(referentes!W1093),\"\")","v":""},{"$f":"referentes!S1093","v":0},null,1091,0,1130,"X"]
[null,null,null,null,null,null,null,null,null,null,null,null,null,null,null,null,null,{"$f":"IF(AND(#REF!<>\"\"    ),(#REF!),\"\")","v":{"$error":"#REF!"}},null,null,null,null,null,null,{"$f":"IF(AND(referentes!U1094<>\"\",          referentes!U1094<>96321,    referentes!U1094<>96222            ),(referentes!W1094),\"\")","v":""},{"$f":"referentes!S1094","v":0},null,1092,0,1130,"X"]
[null,null,null,null,null,null,null,null,null,null,null,null,null,null,null,null,null,{"$f":"IF(AND(#REF!<>\"\"    ),(#REF!),\"\")","v":{"$error":"#REF!"}},null,null,null,null,null,null,{"$f":"IF(AND(referentes!U1095<>\"\",          referentes!U1095<>96321,    referentes!U1095<>96222            ),(referentes!W1095),\"\")","v":""},{"$f":"referentes!S1095","v":0},null,1093,0,1130,"X"]
[null,null,null,null,null,null,null,null,null,null,null,null,null,null,null,null,null,null,null,null,null,null,null,null,{"$f":"IF(AND(referentes!U1096<>\"\",          referentes!U1096<>96321,    referentes!U1096<>96222            ),(referentes!W1096),\"\")","v":""},{"$f":"referentes!S1096","v":0},null,1094,0,1130,"X"]
[null,null,null,null,null,null,null,null,null,null,null,null,null,null,null,null,null,null,null,null,null,null,null,null,{"$f":"IF(AND(referentes!U1097<>\"\",          referentes!U1097<>96321,    referentes!U1097<>96222            ),(referentes!W1097),\"\")","v":""},{"$f":"referentes!S1097","v":0},null,1095,0,1130,"X"]
[null,null,null,null,null,null,null,null,null,null,null,null,null,null,null,null,null,null,null,null,null,null,null,null,{"$f":"IF(AND(referentes!U1098<>\"\",          referentes!U1098<>96321,    referentes!U1098<>96222            ),(referentes!W1098),\"\")","v":""},{"$f":"referentes!S1098","v":0},null,1096,0,1130,"X"]
[null,null,null,null,null,null,null,null,null,null,null,null,null,null,null,null,null,null,null,null,null,null,null,null,{"$f":"IF(AND(referentes!U1099<>\"\",          referentes!U1099<>96321,    referentes!U1099<>96222            ),(referentes!W1099),\"\")","v":""},{"$f":"referentes!S1099","v":0},null,1097,0,1130,"X"]
[null,null,null,null,null,null,null,null,null,null,null,null,null,null,null,null,null,null,null,null,null,null,null,null,{"$f":"IF(AND(referentes!U1100<>\"\",          referentes!U1100<>96321,    referentes!U1100<>96222            ),(referentes!W1100),\"\")","v":""},{"$f":"referentes!S1100","v":0},null,1098,0,1130,"X"]
[null,null,null,null,null,null,null,null,null,null,null,null,null,null,null,null,null,null,null,null,null,null,null,null,{"$f":"IF(AND(referentes!U1101<>\"\",          referentes!U1101<>96321,    referentes!U1101<>96222            ),(referentes!W1101),\"\")","v":""},{"$f":"referentes!S1101","v":0},null,1099,0,1130,"X"]
[null,null,null,null,null,null,null,null,null,null,null,null,null,null,null,null,null,null,null,null,null,null,null,null,{"$f":"IF(AND(referentes!U1102<>\"\",          referentes!U1102<>96321,    referentes!U1102<>96222            ),(referentes!W1102),\"\")","v":""},{"$f":"referentes!S1102","v":0},null,1100,0,1130,"X"]
[null,null,null,null,null,null,null,null,null,null,null,null,null,null,null,null,null,null,null,null,null,null,null,null,{"$f":"IF(AND(referentes!U1103<>\"\",          referentes!U1103<>96321,    referentes!U1103<>96222            ),(referentes!W1103),\"\")","v":""},{"$f":"referentes!S1103","v":0},null,1101,0,1130,"X"]
[null,null,null,null,null,null,null,null,null,null,null,null,null,null,null,null,null,null,null,null,null,null,null,null,{"$f":"IF(AND(referentes!U1104<>\"\",          referentes!U1104<>96321,    referentes!U1104<>96222            ),(referentes!W1104),\"\")","v":""},{"$f":"referentes!S1104","v":0},null,1102,0,1130,"X"]
[null,null,null,null,null,null,null,null,null,null,null,null,null,null,null,null,null,null,null,null,null,null,null,null,{"$f":"IF(AND(referentes!U1105<>\"\",          referentes!U1105<>96321,    referentes!U1105<>96222            ),(referentes!W1105),\"\")","v":""},{"$f":"referentes!S1105","v":0},null,1103,0,1130,"X"]
[null,null,null,null,null,null,null,null,null,null,null,null,null,null,null,null,null,null,null,null,null,null,null,null,{"$f":"IF(AND(referentes!U1106<>\"\",          referentes!U1106<>96321,    referentes!U1106<>96222            ),(referentes!W1106),\"\")","v":""},{"$f":"referentes!S1106","v":0},null,1104,0,1130,"X"]
[null,null,null,null,null,null,null,null,null,null,null,null,null,null,null,null,null,null,null,null,null,null,null,null,{"$f":"IF(AND(referentes!U1107<>\"\",          referentes!U1107<>96321,    referentes!U1107<>96222            ),(referentes!W1107),\"\")","v":""},{"$f":"referentes!S1107","v":0},null,1105,0,1130,"X"]
[null,null,null,null,null,null,null,null,null,null,null,null,null,null,null,null,null,null,null,null,null,null,null,null,{"$f":"IF(AND(referentes!U1108<>\"\",          referentes!U1108<>96321,    referentes!U1108<>96222            ),(referentes!W1108),\"\")","v":""},{"$f":"referentes!S1108","v":0},null,1106,0,1130,"X"]
[null,null,null,null,null,null,null,null,null,null,null,null,null,null,null,null,null,null,null,null,null,null,null,null,{"$f":"IF(AND(referentes!U1109<>\"\",          referentes!U1109<>96321,    referentes!U1109<>96222            ),(referentes!W1109),\"\")","v":""},{"$f":"referentes!S1109","v":0},null,1107,0,1130,"X"]
[null,null,null,null,null,null,null,null,null,null,null,null,null,null,null,null,null,null,null,null,null,null,null,null,{"$f":"IF(AND(referentes!U1110<>\"\",          referentes!U1110<>96321,    referentes!U1110<>96222            ),(referentes!W1110),\"\")","v":""},{"$f":"referentes!S1110","v":0},null,1108,0,1130,"X"]
[null,null,null,null,null,null,null,null,null,null,null,null,null,null,null,null,null,null,null,null,null,null,null,null,{"$f":"IF(AND(referentes!U1111<>\"\",          referentes!U1111<>96321,    referentes!U1111<>96222            ),(referentes!W1111),\"\")","v":""},{"$f":"referentes!S1111","v":0},null,1109,0,1130,"X"]
[null,null,null,null,null,null,null,null,null,null,null,null,null,null,null,null,null,null,null,null,null,null,null,null,{"$f":"IF(AND(referentes!U1112<>\"\",          referentes!U1112<>96321,    referentes!U1112<>96222            ),(referentes!W1112),\"\")","v":""},{"$f":"referentes!S1112","v":0},null,1110,0,1130,"X"]
[null,null,null,null,null,null,null,null,null,null,null,null,null,null,null,null,null,null,null,null,null,null,null,null,{"$f":"IF(AND(referentes!U1113<>\"\",          referentes!U1113<>96321,    referentes!U1113<>96222            ),(referentes!W1113),\"\")","v":""},{"$f":"referentes!S1113","v":0},null,1111,0,1130,"X"]
[null,null,null,null,null,null,null,null,null,null,null,null,null,null,null,null,null,null,null,null,null,null,null,null,{"$f":"IF(AND(referentes!U1114<>\"\",          referentes!U1114<>96321,    referentes!U1114<>96222            ),(referentes!W1114),\"\")","v":""},{"$f":"referentes!S1114","v":0},null,1112,0,1130,"X"]
[null,null,null,null,null,null,null,null,null,null,null,null,null,null,null,null,null,null,null,null,null,null,null,null,{"$f":"IF(AND(referentes!U1115<>\"\",          referentes!U1115<>96321,    referentes!U1115<>96222            ),(referentes!W1115),\"\")","v":""},{"$f":"referentes!S1115","v":0},null,1113,0,1130,"X"]
[null,null,null,null,null,null,null,null,null,null,null,null,null,null,null,null,null,null,null,null,null,null,null,null,{"$f":"IF(AND(referentes!U1116<>\"\",          referentes!U1116<>96321,    referentes!U1116<>96222            ),(referentes!W1116),\"\")","v":""},{"$f":"referentes!S1116","v":0},null,1114,0,1130,"X"]
[null,null,null,null,null,null,null,null,null,null,null,null,null,null,null,null,null,null,null,null,null,null,null,null,{"$f":"IF(AND(referentes!U1117<>\"\",          referentes!U1117<>96321,    referentes!U1117<>96222            ),(referentes!W1117),\"\")","v":""},{"$f":"referentes!S1117","v":0},null,1115,0,1130,"X"]
[null,null,null,null,null,null,null,null,null,null,null,null,null,null,null,null,null,null,null,null,null,null,null,null,{"$f":"IF(AND(referentes!U1118<>\"\",          referentes!U1118<>96321,    referentes!U1118<>96222            ),(referentes!W1118),\"\")","v":""},{"$f":"referentes!S1118","v":0},null,1116,0,1130,"X"]
[null,null,null,null,null,null,null,null,null,null,null,null,null,null,null,null,null,null,null,null,null,null,null,null,{"$f":"IF(AND(referentes!U1119<>\"\",          referentes!U1119<>96321,    referentes!U1119<>96222            ),(referentes!W1119),\"\")","v":""},{"$f":"referentes!S1119","v":0},null,1117,0,1130,"X"]
[null,null,null,null,null,null,null,null,null,null,null,null,null,null,null,null,null,null,null,null,null,null,null,null,{"$f":"IF(AND(referentes!U1120<>\"\",          referentes!U1120<>96321,    referentes!U1120<>96222            ),(referentes!W1120),\"\")","v":""},{"$f":"referentes!S1120","v":0},null,1118,0,1130,"X"]
[null,null,null,null,null,null,null,null,null,null,null,null,null,null,null,null,null,null,null,null,null,null,null,null,{"$f":"IF(AND(referentes!U1121<>\"\",          referentes!U1121<>96321,    referentes!U1121<>96222            ),(referentes!W1121),\"\")","v":""},{"$f":"referentes!S1121","v":0},null,1119,0,1130,"X"]
[null,null,null,null,null,null,null,null,null,null,null,null,null,null,null,null,null,null,null,null,null,null,null,null,{"$f":"IF(AND(referentes!U1122<>\"\",          referentes!U1122<>96321,    referentes!U1122<>96222            ),(referentes!W1122),\"\")","v":""},{"$f":"referentes!S1122","v":0},null,1120,0,1130,"X"]
[null,null,null,null,null,null,null,null,null,null,null,null,null,null,null,null,null,null,null,null,null,null,null,null,{"$f":"IF(AND(referentes!U1123<>\"\",          referentes!U1123<>96321,    referentes!U1123<>96222            ),(referentes!W1123),\"\")","v":""},{"$f":"referentes!S1123","v":0},null,1121,0,1130,"X"]
[null,null,null,null,null,null,null,null,null,null,null,null,null,null,null,null,null,null,null,null,null,null,null,null,{"$f":"IF(AND(referentes!U1124<>\"\",          referentes!U1124<>96321,    referentes!U1124<>96222            ),(referentes!W1124),\"\")","v":""},{"$f":"referentes!S1124","v":0},null,1122,0,1130,"X"]
[null,null,null,null,null,null,null,null,null,null,null,null,null,null,null,null,null,null,null,null,null,null,null,null,{"$f":"IF(AND(referentes!U1125<>\"\",          referentes!U1125<>96321,    referentes!U1125<>96222            ),(referentes!W1125),\"\")","v":""},{"$f":"referentes!S1125","v":0},null,1123,0,1130,"X"]
[null,null,null,null,null,null,null,null,null,null,null,null,null,null,null,null,null,null,null,null,null,null,null,null,{"$f":"IF(AND(referentes!U1126<>\"\",          referentes!U1126<>96321,    referentes!U1126<>96222            ),(referentes!W1126),\"\")","v":""},{"$f":"referentes!S1126","v":0},null,1124,0,1130,"X"]
[null,null,null,null,null,null,null,null,null,null,null,null,null,null,null,null,null,null,null,null,null,null,null,null,{"$f":"IF(AND(referentes!U1127<>\"\",          referentes!U1127<>96321,    referentes!U1127<>96222            ),(referentes!W1127),\"\")","v":""},{"$f":"referentes!S1127","v":0},null,1125,0,1130,"X"]
[null,null,null,null,null,null,null,null,null,null,null,null,null,null,null,null,null,null,null,null,null,null,null,null,{"$f":"IF(AND(referentes!U1128<>\"\",          referentes!U1128<>96321,    referentes!U1128<>96222            ),(referentes!W1128),\"\")","v":""},{"$f":"referentes!S1128","v":0},null,1126,0,1130,"X"]
[null,null,null,null,null,null,null,null,null,null,null,null,null,null,null,null,null,null,null,null,null,null,null,null,{"$f":"IF(AND(referentes!U1129<>\"\",          referentes!U1129<>96321,    referentes!U1129<>96222            ),(referentes!W1129),\"\")","v":""},{"$f":"referentes!S1129","v":0},null,1127,0,1130,"X"]
[null,null,null,null,null,null,null,null,null,null,null,null,null,null,null,null,null,null,null,null,null,null,null,null,{"$f":"IF(AND(referentes!U1130<>\"\",          referentes!U1130<>96321,    referentes!U1130<>96222            ),(referentes!W1130),\"\")","v":""},{"$f":"referentes!S1130","v":0},null,1128,0,1130,"X"]
[null,null,null,null,null,null,null,null,null,null,null,null,null,null,null,null,null,null,null,null,null,null,null,null,{"$f":"IF(AND(referentes!U1131<>\"\",          referentes!U1131<>96321,    referentes!U1131<>96222            ),(referentes!W1131),\"\")","v":""},{"$f":"referentes!S1131","v":0},null,1129,0,1130,"X"]
[null,null,null,null,null,null,null,null,null,null,null,null,null,null,null,null,null,null,null,null,null,null,null,null,{"$f":"IF(AND(referentes!U1132<>\"\",          referentes!U1132<>96321,    referentes!U1132<>96222            ),(referentes!W1132),\"\")","v":""},{"$f":"referentes!S1132","v":0},null,1130,0,1130,"X"]
[null,null,null,null,null,null,null,null,null,null,null,null,null,null,null,null,null,null,null,null,null,null,null,null,{"$f":"IF(AND(referentes!U1133<>\"\",          referentes!U1133<>96321,    referentes!U1133<>96222            ),(referentes!W1133),\"\")","v":""},{"$f":"referentes!S1133","v":0},null,1131,0,1130,"X"]
[null,null,null,null,null,null,null,null,null,null,null,null,null,null,null,null,null,null,null,null,null,null,null,null,{"$f":"IF(AND(referentes!U1134<>\"\",          referentes!U1134<>96321,    referentes!U1134<>96222            ),(referentes!W1134),\"\")","v":""},{"$f":"referentes!S1134","v":0},null,1132,0,1130,"X"]
[null,null,null,null,null,null,null,null,null,null,null,null,null,null,null,null,null,null,null,null,null,null,null,null,{"$f":"IF(AND(referentes!U1135<>\"\",          referentes!U1135<>96321,    referentes!U1135<>96222            ),(referentes!W1135),\"\")","v":""},{"$f":"referentes!S1135","v":0},null,1133,0,1130,"X"]
[null,null,null,null,null,null,null,null,null,null,null,null,null,null,null,null,null,null,null,null,null,null,null,null,{"$f":"IF(AND(referentes!U1136<>\"\",          referentes!U1136<>96321,    referentes!U1136<>96222            ),(referentes!W1136),\"\")","v":""},{"$f":"referentes!S1136","v":0},null,1134,0,1130,"X"]
[null,null,null,null,null,null,null,null,null,null,null,null,null,null,null,null,null,null,null,null,null,null,null,null,{"$f":"IF(AND(referentes!U1137<>\"\",          referentes!U1137<>96321,    referentes!U1137<>96222            ),(referentes!W1137),\"\")","v":""},{"$f":"referentes!S1137","v":0},null,1135,0,1130,"X"]
[null,null,null,null,null,null,null,null,null,null,null,null,null,null,null,null,null,null,null,null,null,null,null,null,{"$f":"IF(AND(referentes!U1138<>\"\",          referentes!U1138<>96321,    referentes!U1138<>96222            ),(referentes!W1138),\"\")","v":""},{"$f":"referentes!S1138","v":0},null,1136,0,1130,"X"]
[null,null,null,null,null,null,null,null,null,null,null,null,null,null,null,null,null,null,null,null,null,null,null,null,{"$f":"IF(AND(referentes!U1139<>\"\",          referentes!U1139<>96321,    referentes!U1139<>96222            ),(referentes!W1139),\"\")","v":""},{"$f":"referentes!S1139","v":0},null,1137,0,1130,"X"]
[null,null,null,null,null,null,null,null,null,null,null,null,null,null,null,null,null,null,null,null,null,null,null,null,{"$f":"IF(AND(referentes!U1140<>\"\",          referentes!U1140<>96321,    referentes!U1140<>96222            ),(referentes!W1140),\"\")","v":""},{"$f":"referentes!S1140","v":0},null,1138,0,1130,"X"]
[null,null,null,null,null,null,null,null,null,null,null,null,null,null,null,null,null,null,null,null,null,null,null,null,{"$f":"IF(AND(referentes!U1141<>\"\",          referentes!U1141<>96321,    referentes!U1141<>96222            ),(referentes!W1141),\"\")","v":""},{"$f":"referentes!S1141","v":0},null,1139,0,1130,"X"]
[null,null,null,null,null,null,null,null,null,null,null,null,null,null,null,null,null,null,null,null,null,null,null,null,{"$f":"IF(AND(referentes!U1142<>\"\",          referentes!U1142<>96321,    referentes!U1142<>96222            ),(referentes!W1142),\"\")","v":""},{"$f":"referentes!S1142","v":0},null,1140,0,1130,"X"]
[null,null,null,null,null,null,null,null,null,null,null,null,null,null,null,null,null,null,null,null,null,null,null,null,{"$f":"IF(AND(referentes!U1143<>\"\",          referentes!U1143<>96321,    referentes!U1143<>96222            ),(referentes!W1143),\"\")","v":""},{"$f":"referentes!S1143","v":0},null,1141,0,1130,"X"]
[null,null,null,null,null,null,null,null,null,null,null,null,null,null,null,null,null,null,null,null,null,null,null,null,{"$f":"IF(AND(referentes!U1144<>\"\",          referentes!U1144<>96321,    referentes!U1144<>96222            ),(referentes!W1144),\"\")","v":""},{"$f":"referentes!S1144","v":0},null,1142,0,1130,"X"]
[null,null,null,null,null,null,null,null,null,null,null,null,null,null,null,null,null,null,null,null,null,null,null,null,{"$f":"IF(AND(referentes!U1145<>\"\",          referentes!U1145<>96321,    referentes!U1145<>96222            ),(referentes!W1145),\"\")","v":""},{"$f":"referentes!S1145","v":0},null,1143,0,1130,"X"]
[null,null,null,null,null,null,null,null,null,null,null,null,null,null,null,null,null,null,null,null,null,null,null,null,{"$f":"IF(AND(referentes!U1146<>\"\",          referentes!U1146<>96321,    referentes!U1146<>96222            ),(referentes!W1146),\"\")","v":""},{"$f":"referentes!S1146","v":0},null,1144,0,1130,"X"]
[null,null,null,null,null,null,null,null,null,null,null,null,null,null,null,null,null,null,null,null,null,null,null,null,{"$f":"IF(AND(referentes!U1147<>\"\",          referentes!U1147<>96321,    referentes!U1147<>96222            ),(referentes!W1147),\"\")","v":""},{"$f":"referentes!S1147","v":0},null,1145,0,1130,"X"]
[null,null,null,null,null,null,null,null,null,null,null,null,null,null,null,null,null,null,null,null,null,null,null,null,{"$f":"IF(AND(referentes!U1148<>\"\",          referentes!U1148<>96321,    referentes!U1148<>96222            ),(referentes!W1148),\"\")","v":""},{"$f":"referentes!S1148","v":0},null,1146,0,1130,"X"]
[null,null,null,null,null,null,null,null,null,null,null,null,null,null,null,null,null,null,null,null,null,null,null,null,{"$f":"IF(AND(referentes!U1149<>\"\",          referentes!U1149<>96321,    referentes!U1149<>96222            ),(referentes!W1149),\"\")","v":""},{"$f":"referentes!S1149","v":0},null,1147,0,1130,"X"]
[null,null,null,null,null,null,null,null,null,null,null,null,null,null,null,null,null,null,null,null,null,null,null,null,{"$f":"IF(AND(referentes!U1150<>\"\",          referentes!U1150<>96321,    referentes!U1150<>96222            ),(referentes!W1150),\"\")","v":""},{"$f":"referentes!S1150","v":0},null,1148,0,1130,"X"]
[null,null,null,null,null,null,null,null,null,null,null,null,null,null,null,null,null,null,null,null,null,null,null,null,{"$f":"IF(AND(referentes!U1151<>\"\",          referentes!U1151<>96321,    referentes!U1151<>96222            ),(referentes!W1151),\"\")","v":""},{"$f":"referentes!S1151","v":0},null,1149,0,1130,"X"]
[null,null,null,null,null,null,null,null,null,null,null,null,null,null,null,null,null,null,null,null,null,null,null,null,{"$f":"IF(AND(referentes!U1152<>\"\",          referentes!U1152<>96321,    referentes!U1152<>96222            ),(referentes!W1152),\"\")","v":""},{"$f":"referentes!S1152","v":0},null,1150,0,1130,"X"]
[null,null,null,null,null,null,null,null,null,null,null,null,null,null,null,null,null,null,null,null,null,null,null,null,{"$f":"IF(AND(referentes!U1153<>\"\",          referentes!U1153<>96321,    referentes!U1153<>96222            ),(referentes!W1153),\"\")","v":""},{"$f":"referentes!S1153","v":0},null,1151,0,1130,"X"]
[null,null,null,null,null,null,null,null,null,null,null,null,null,null,null,null,null,null,null,null,null,null,null,null,{"$f":"IF(AND(referentes!U1154<>\"\",          referentes!U1154<>96321,    referentes!U1154<>96222            ),(referentes!W1154),\"\")","v":""},{"$f":"referentes!S1154","v":0},null,1152,0,1130,"X"]
[null,null,null,null,null,null,null,null,null,null,null,null,null,null,null,null,null,null,null,null,null,null,null,null,{"$f":"IF(AND(referentes!U1155<>\"\",          referentes!U1155<>96321,    referentes!U1155<>96222            ),(referentes!W1155),\"\")","v":""},{"$f":"referentes!S1155","v":0},null,1153,0,1130,"X"]
[null,null,null,null,null,null,null,null,null,null,null,null,null,null,null,null,null,null,null,null,null,null,null,null,{"$f":"IF(AND(referentes!U1156<>\"\",          referentes!U1156<>96321,    referentes!U1156<>96222            ),(referentes!W1156),\"\")","v":""},{"$f":"referentes!S1156","v":0},null,1154,{"$f":"IF(Y1159=\"\",0,Y1159)","v":0},{"$f":"IF(AC1160=0,MAX($AB$7:$AB$1135)+1,AB1160)","v":1130},{"$f":"IFERROR(VLOOKUP(SMALL($AD$7:$AD$1135,AB1160),$AB$7:$AD$1135,2,FALSE),\"X\")","v":"X"}]
[null,null,null,null,null,null,null,null,null,null,null,null,null,null,null,null,null,null,null,null,null,null,null,null,{"$f":"IF(AND(referentes!U1157<>\"\",          referentes!U1157<>96321,    referentes!U1157<>96222            ),(referentes!W1157),\"\")","v":""},{"$f":"referentes!S1157","v":0},null,1155,0,1130,"X"]
[null,null,null,null,null,null,null,null,null,null,null,null,null,null,null,null,null,null,null,null,null,null,null,null,{"$f":"IF(AND(referentes!U1158<>\"\",          referentes!U1158<>96321,    referentes!U1158<>96222            ),(referentes!W1158),\"\")","v":""},{"$f":"referentes!S1158","v":0},null,1156,0,1130,"X"]
[null,null,null,null,null,null,null,null,null,null,null,null,null,null,null,null,null,null,null,null,null,null,null,null,{"$f":"IF(AND(referentes!U1159<>\"\",          referentes!U1159<>96321,    referentes!U1159<>96222            ),(referentes!W1159),\"\")","v":""},{"$f":"referentes!S1159","v":0},null,1157,0,1130,"X"]
[null,null,null,null,null,null,null,null,null,null,null,null,null,null,null,null,null,null,null,null,null,null,null,null,{"$f":"IF(AND(referentes!U1160<>\"\",          referentes!U1160<>96321,    referentes!U1160<>96222            ),(referentes!W1160),\"\")","v":""},{"$f":"referentes!S1160","v":0},null,1158,0,1130,"X"]
[null,null,null,null,null,null,null,null,null,null,null,null,null,null,null,null,null,null,null,null,null,null,null,null,{"$f":"IF(AND(referentes!U1161<>\"\",          referentes!U1161<>96321,    referentes!U1161<>96222            ),(referentes!W1161),\"\")","v":""},{"$f":"referentes!S1161","v":0},null,1159,0,1130,"X"]
[null,null,null,null,null,null,null,null,null,null,null,null,null,null,null,null,null,null,null,null,null,null,null,null,{"$f":"IF(AND(referentes!U1162<>\"\",          referentes!U1162<>96321,    referentes!U1162<>96222            ),(referentes!W1162),\"\")","v":""},{"$f":"referentes!S1162","v":0},null,1160,0,1130,"X"]
[null,null,null,null,null,null,null,null,null,null,null,null,null,null,null,null,null,null,null,null,null,null,null,null,{"$f":"IF(AND(referentes!U1163<>\"\",          referentes!U1163<>96321,    referentes!U1163<>96222            ),(referentes!W1163),\"\")","v":""},{"$f":"referentes!S1163","v":0},null,1161,0,1130,"X"]
[null,null,null,null,null,null,null,null,null,null,null,null,null,null,null,null,null,null,null,null,null,null,null,null,{"$f":"IF(AND(referentes!U1164<>\"\",          referentes!U1164<>96321,    referentes!U1164<>96222            ),(referentes!W1164),\"\")","v":""},{"$f":"referentes!S1164","v":0},null,1162,0,1130,"X"]
[null,null,null,null,null,null,null,null,null,null,null,null,null,null,null,null,null,null,null,null,null,null,null,null,{"$f":"IF(AND(referentes!U1165<>\"\",          referentes!U1165<>96321,    referentes!U1165<>96222            ),(referentes!W1165),\"\")","v":""},{"$f":"referentes!S1165","v":0},null,1163,0,1130,"X"]
[null,null,null,null,null,null,null,null,null,null,null,null,null,null,null,null,null,null,null,null,null,null,null,null,{"$f":"IF(AND(referentes!U1166<>\"\",          referentes!U1166<>96321,    referentes!U1166<>96222            ),(referentes!W1166),\"\")","v":""},{"$f":"referentes!S1166","v":0},null,1164,0,1130,"X"]
[null,null,null,null,null,null,null,null,null,null,null,null,null,null,null,null,null,null,null,null,null,null,null,null,{"$f":"IF(AND(referentes!U1167<>\"\",          referentes!U1167<>96321,    referentes!U1167<>96222            ),(referentes!W1167),\"\")","v":""},{"$f":"referentes!S1167","v":0},null,1165,0,1130,"X"]
[null,null,null,null,null,null,null,null,null,null,null,null,null,null,null,null,null,null,null,null,null,null,null,null,{"$f":"IF(AND(referentes!U1168<>\"\",          referentes!U1168<>96321,    referentes!U1168<>96222            ),(referentes!W1168),\"\")","v":""},{"$f":"referentes!S1168","v":0},null,1166,0,1130,"X"]
[null,null,null,null,null,null,null,null,null,null,null,null,null,null,null,null,null,null,null,null,null,null,null,null,{"$f":"IF(AND(referentes!U1169<>\"\",          referentes!U1169<>96321,    referentes!U1169<>96222            ),(referentes!W1169),\"\")","v":""},{"$f":"referentes!S1169","v":0},null,1167,0,1130,"X"]
[null,null,null,null,null,null,null,null,null,null,null,null,null,null,null,null,null,null,null,null,null,null,null,null,{"$f":"IF(AND(referentes!U1170<>\"\",          referentes!U1170<>96321,    referentes!U1170<>96222            ),(referentes!W1170),\"\")","v":""},{"$f":"referentes!S1170","v":0},null,1168,0,1130,"X"]
[null,null,null,null,null,null,null,null,null,null,null,null,null,null,null,null,null,null,null,null,null,null,null,null,{"$f":"IF(AND(referentes!U1171<>\"\",          referentes!U1171<>96321,    referentes!U1171<>96222            ),(referentes!W1171),\"\")","v":""},{"$f":"referentes!S1171","v":0},null,1169,0,1130,"X"]
[null,null,null,null,null,null,null,null,null,null,null,null,null,null,null,null,null,null,null,null,null,null,null,null,{"$f":"IF(AND(referentes!U1172<>\"\",          referentes!U1172<>96321,    referentes!U1172<>96222            ),(referentes!W1172),\"\")","v":""},{"$f":"referentes!S1172","v":0},null,1170,0,1130,"X"]
[null,null,null,null,null,null,null,null,null,null,null,null,null,null,null,null,null,null,null,null,null,null,null,null,{"$f":"IF(AND(referentes!U1173<>\"\",          referentes!U1173<>96321,    referentes!U1173<>96222            ),(referentes!W1173),\"\")","v":""},{"$f":"referentes!S1173","v":0},null,1171,0,1130,"X"]
[null,null,null,null,null,null,null,null,null,null,null,null,null,null,null,null,null,null,null,null,null,null,null,null,{"$f":"IF(AND(referentes!U1174<>\"\",          referentes!U1174<>96321,    referentes!U1174<>96222            ),(referentes!W1174),\"\")","v":""},{"$f":"referentes!S1174","v":0},null,1172,0,1130,"X"]
[null,null,null,null,null,null,null,null,null,null,null,null,null,null,null,null,null,null,null,null,null,null,null,null,{"$f":"IF(AND(referentes!U1175<>\"\",          referentes!U1175<>96321,    referentes!U1175<>96222            ),(referentes!W1175),\"\")","v":""},{"$f":"referentes!S1175","v":0},null,1173,0,1130,"X"]
[null,null,null,null,null,null,null,null,null,null,null,null,null,null,null,null,null,null,null,null,null,null,null,null,{"$f":"IF(AND(referentes!U1176<>\"\",          referentes!U1176<>96321,    referentes!U1176<>96222            ),(referentes!W1176),\"\")","v":""},{"$f":"referentes!S1176","v":0},null,1174,0,1130,"X"]
[null,null,null,null,null,null,null,null,null,null,null,null,null,null,null,null,null,null,null,null,null,null,null,null,{"$f":"IF(AND(referentes!U1177<>\"\",          referentes!U1177<>96321,    referentes!U1177<>96222            ),(referentes!W1177),\"\")","v":""},{"$f":"referentes!S1177","v":0},null,1175,0,1130,"X"]
[null,null,null,null,null,null,null,null,null,null,null,null,null,null,null,null,null,null,null,null,null,null,null,null,{"$f":"IF(AND(referentes!U1178<>\"\",          referentes!U1178<>96321,    referentes!U1178<>96222            ),(referentes!W1178),\"\")","v":""},{"$f":"referentes!S1178","v":0},null,1176,0,1130,"X"]
[null,null,null,null,null,null,null,null,null,null,null,null,null,null,null,null,null,null,null,null,null,null,null,null,{"$f":"IF(AND(referentes!U1179<>\"\",          referentes!U1179<>96321,    referentes!U1179<>96222            ),(referentes!W1179),\"\")","v":""},{"$f":"referentes!S1179","v":0},null,1177,0,1130,"X"]
[null,null,null,null,null,null,null,null,null,null,null,null,null,null,null,null,null,null,null,null,null,null,null,null,{"$f":"IF(AND(referentes!U1180<>\"\",          referentes!U1180<>96321,    referentes!U1180<>96222            ),(referentes!W1180),\"\")","v":""},{"$f":"referentes!S1180","v":0},null,1178,0,1130,"X"]
[null,null,null,null,null,null,null,null,null,null,null,null,null,null,null,null,null,null,null,null,null,null,null,null,{"$f":"IF(AND(referentes!U1181<>\"\",          referentes!U1181<>96321,    referentes!U1181<>96222            ),(referentes!W1181),\"\")","v":""},{"$f":"referentes!S1181","v":0},null,1179,0,1130,"X"]
[null,null,null,null,null,null,null,null,null,null,null,null,null,null,null,null,null,null,null,null,null,null,null,null,{"$f":"IF(AND(referentes!U1182<>\"\",          referentes!U1182<>96321,    referentes!U1182<>96222            ),(referentes!W1182),\"\")","v":""},{"$f":"referentes!S1182","v":0},null,1180,0,1130,"X"]
[null,null,null,null,null,null,null,null,null,null,null,null,null,null,null,null,null,null,null,null,null,null,null,null,{"$f":"IF(AND(referentes!U1183<>\"\",          referentes!U1183<>96321,    referentes!U1183<>96222            ),(referentes!W1183),\"\")","v":""},{"$f":"referentes!S1183","v":0},null,1181,0,1130,"X"]
[null,null,null,null,null,null,null,null,null,null,null,null,null,null,null,null,null,null,null,null,null,null,null,null,{"$f":"IF(AND(referentes!U1184<>\"\",          referentes!U1184<>96321,    referentes!U1184<>96222            ),(referentes!W1184),\"\")","v":""},{"$f":"referentes!S1184","v":0},null,1182,0,1130,"X"]
[null,null,null,null,null,null,null,null,null,null,null,null,null,null,null,null,null,null,null,null,null,null,null,null,{"$f":"IF(AND(referentes!U1185<>\"\",          referentes!U1185<>96321,    referentes!U1185<>96222            ),(referentes!W1185),\"\")","v":""},{"$f":"referentes!S1185","v":0},null,1183,0,1130,"X"]
[null,null,null,null,null,null,null,null,null,null,null,null,null,null,null,null,null,null,null,null,null,null,null,null,{"$f":"IF(AND(referentes!U1186<>\"\",          referentes!U1186<>96321,    referentes!U1186<>96222            ),(referentes!W1186),\"\")","v":""},{"$f":"referentes!S1186","v":0},null,1184,0,1130,"X"]
[null,null,null,null,null,null,null,null,null,null,null,null,null,null,null,null,null,null,null,null,null,null,null,null,{"$f":"IF(AND(referentes!U1187<>\"\",          referentes!U1187<>96321,    referentes!U1187<>96222            ),(referentes!W1187),\"\")","v":""},{"$f":"referentes!S1187","v":0},null,1185,0,1130,"X"]
[null,null,null,null,null,null,null,null,null,null,null,null,null,null,null,null,null,null,null,null,null,null,null,null,{"$f":"IF(AND(referentes!U1188<>\"\",          referentes!U1188<>96321,    referentes!U1188<>96222            ),(referentes!W1188),\"\")","v":""},{"$f":"referentes!S1188","v":0},null,1186,0,1130,"X"]
[null,null,null,null,null,null,null,null,null,null,null,null,null,null,null,null,null,null,null,null,null,null,null,null,{"$f":"IF(AND(referentes!U1189<>\"\",          referentes!U1189<>96321,    referentes!U1189<>96222            ),(referentes!W1189),\"\")","v":""},{"$f":"referentes!S1189","v":0},null,1187,0,1130,"X"]
[null,null,null,null,null,null,null,null,null,null,null,null,null,null,null,null,null,null,null,null,null,null,null,null,{"$f":"IF(AND(referentes!U1190<>\"\",          referentes!U1190<>96321,    referentes!U1190<>96222            ),(referentes!W1190),\"\")","v":""},{"$f":"referentes!S1190","v":0},null,1188,0,1130,"X"]
[null,null,null,null,null,null,null,null,null,null,null,null,null,null,null,null,null,null,null,null,null,null,null,null,{"$f":"IF(AND(referentes!U1191<>\"\",          referentes!U1191<>96321,    referentes!U1191<>96222            ),(referentes!W1191),\"\")","v":""},{"$f":"referentes!S1191","v":0},null,1189,0,1130,"X"]
[null,null,null,null,null,null,null,null,null,null,null,null,null,null,null,null,null,null,null,null,null,null,null,null,{"$f":"IF(AND(referentes!U1192<>\"\",          referentes!U1192<>96321,    referentes!U1192<>96222            ),(referentes!W1192),\"\")","v":""},{"$f":"referentes!S1192","v":0},null,1190,0,1130,"X"]
[null,null,null,null,null,null,null,null,null,null,null,null,null,null,null,null,null,null,null,null,null,null,null,null,{"$f":"IF(AND(referentes!U1193<>\"\",          referentes!U1193<>96321,    referentes!U1193<>96222            ),(referentes!W1193),\"\")","v":""},{"$f":"referentes!S1193","v":0},null,1191,0,1130,"X"]
[null,null,null,null,null,null,null,null,null,null,null,null,null,null,null,null,null,null,null,null,null,null,null,null,{"$f":"IF(AND(referentes!U1194<>\"\",          referentes!U1194<>96321,    referentes!U1194<>96222            ),(referentes!W1194),\"\")","v":""},{"$f":"referentes!S1194","v":0},null,1192,0,1130,"X"]
[null,null,null,null,null,null,null,null,null,null,null,null,null,null,null,null,null,null,null,null,null,null,null,null,{"$f":"IF(AND(referentes!U1195<>\"\",          referentes!U1195<>96321,    referentes!U1195<>96222            ),(referentes!W1195),\"\")","v":""},{"$f":"referentes!S1195","v":0},null,1193,0,1130,"X"]
[null,null,null,null,null,null,null,null,null,null,null,null,null,null,null,null,null,null,null,null,null,null,null,null,{"$f":"IF(AND(referentes!U1196<>\"\",          referentes!U1196<>96321,    referentes!U1196<>96222            ),(referentes!W1196),\"\")","v":""},{"$f":"referentes!S1196","v":0},null,1194,0,1130,"X"]
[null,null,null,null,null,null,null,null,null,null,null,null,null,null,null,null,null,null,null,null,null,null,null,null,{"$f":"IF(AND(referentes!U1197<>\"\",          referentes!U1197<>96321,    referentes!U1197<>96222            ),(referentes!W1197),\"\")","v":""},{"$f":"referentes!S1197","v":0},null,1195,0,1130,"X"]
[null,null,null,null,null,null,null,null,null,null,null,null,null,null,null,null,null,null,null,null,null,null,null,null,{"$f":"IF(AND(referentes!U1198<>\"\",          referentes!U1198<>96321,    referentes!U1198<>96222            ),(referentes!W1198),\"\")","v":""},{"$f":"referentes!S1198","v":0},null,1196,0,1130,"X"]
[null,null,null,null,null,null,null,null,null,null,null,null,null,null,null,null,null,null,null,null,null,null,null,null,{"$f":"IF(AND(referentes!U1199<>\"\",          referentes!U1199<>96321,    referentes!U1199<>96222            ),(referentes!W1199),\"\")","v":""},{"$f":"referentes!S1199","v":0},null,1197,0,1130,"X"]
[null,null,null,null,null,null,null,null,null,null,null,null,null,null,null,null,null,null,null,null,null,null,null,null,{"$f":"IF(AND(referentes!U1200<>\"\",          referentes!U1200<>96321,    referentes!U1200<>96222            ),(referentes!W1200),\"\")","v":""},{"$f":"referentes!S1200","v":0},null,1198,0,1130,"X"]
[null,null,null,null,null,null,null,null,null,null,null,null,null,null,null,null,null,null,null,null,null,null,null,null,{"$f":"IF(AND(referentes!U1201<>\"\",          referentes!U1201<>96321,    referentes!U1201<>96222            ),(referentes!W1201),\"\")","v":""},{"$f":"referentes!S1201","v":0},null,1199,0,1130,"X"]
[null,null,null,null,null,null,null,null,null,null,null,null,null,null,null,null,null,null,null,null,null,null,null,null,{"$f":"IF(AND(referentes!U1202<>\"\",          referentes!U1202<>96321,    referentes!U1202<>96222            ),(referentes!W1202),\"\")","v":""},{"$f":"referentes!S1202","v":0},null,1200,0,1130,"X"]
[null,null,null,null,null,null,null,null,null,null,null,null,null,null,null,null,null,null,null,null,null,null,null,null,{"$f":"IF(AND(referentes!U1203<>\"\",          referentes!U1203<>96321,    referentes!U1203<>96222            ),(referentes!W1203),\"\")","v":""},{"$f":"referentes!S1203","v":0},null,1201,0,1130,"X"]
[null,null,null,null,null,null,null,null,null,null,null,null,null,null,null,null,null,null,null,null,null,null,null,null,{"$f":"IF(AND(referentes!U1204<>\"\",          referentes!U1204<>96321,    referentes!U1204<>96222            ),(referentes!W1204),\"\")","v":""},{"$f":"referentes!S1204","v":0},null,1202,0,1130,"X"]
[null,null,null,null,null,null,null,null,null,null,null,null,null,null,null,null,null,null,null,null,null,null,null,null,{"$f":"IF(AND(referentes!U1205<>\"\",          referentes!U1205<>96321,    referentes!U1205<>96222            ),(referentes!W1205),\"\")","v":""},{"$f":"referentes!S1205","v":0},null,1203,0,1130,"X"]
[null,null,null,null,null,null,null,null,null,null,null,null,null,null,null,null,null,null,null,null,null,null,null,null,{"$f":"IF(AND(referentes!U1206<>\"\",          referentes!U1206<>96321,    referentes!U1206<>96222            ),(referentes!W1206),\"\")","v":""},{"$f":"referentes!S1206","v":0},null,1204,0,1130,"X"]
[null,null,null,null,null,null,null,null,null,null,null,null,null,null,null,null,null,null,null,null,null,null,null,null,{"$f":"IF(AND(referentes!U1207<>\"\",          referentes!U1207<>96321,    referentes!U1207<>96222            ),(referentes!W1207),\"\")","v":""},{"$f":"referentes!S1207","v":0},null,1205,0,1130,"X"]
[null,null,null,null,null,null,null,null,null,null,null,null,null,null,null,null,null,null,null,null,null,null,null,null,{"$f":"IF(AND(referentes!U1208<>\"\",          referentes!U1208<>96321,    referentes!U1208<>96222            ),(referentes!W1208),\"\")","v":""},{"$f":"referentes!S1208","v":0},null,1206,0,1130,"X"]
[null,null,null,null,null,null,null,null,null,null,null,null,null,null,null,null,null,null,null,null,null,null,null,null,{"$f":"IF(AND(referentes!U1209<>\"\",          referentes!U1209<>96321,    referentes!U1209<>96222            ),(referentes!W1209),\"\")","v":""},{"$f":"referentes!S1209","v":0},null,1207,0,1130,"X"]
[null,null,null,null,null,null,null,null,null,null,null,null,null,null,null,null,null,null,null,null,null,null,null,null,{"$f":"IF(AND(referentes!U1210<>\"\",          referentes!U1210<>96321,    referentes!U1210<>96222            ),(referentes!W1210),\"\")","v":""},{"$f":"referentes!S1210","v":0},null,1208,0,1130,"X"]
[null,null,null,null,null,null,null,null,null,null,null,null,null,null,null,null,null,null,null,null,null,null,null,null,{"$f":"IF(AND(referentes!U1211<>\"\",          referentes!U1211<>96321,    referentes!U1211<>96222            ),(referentes!W1211),\"\")","v":""},{"$f":"referentes!S1211","v":0},null,1209,0,1130,"X"]
[null,null,null,null,null,null,null,null,null,null,null,null,null,null,null,null,null,null,null,null,null,null,null,null,{"$f":"IF(AND(referentes!U1212<>\"\",          referentes!U1212<>96321,    referentes!U1212<>96222            ),(referentes!W1212),\"\")","v":""},{"$f":"referentes!S1212","v":0},null,1210,0,1130,"X"]
[null,null,null,null,null,null,null,null,null,null,null,null,null,null,null,null,null,null,null,null,null,null,null,null,{"$f":"IF(AND(referentes!U1213<>\"\",          referentes!U1213<>96321,    referentes!U1213<>96222            ),(referentes!W1213),\"\")","v":""},{"$f":"referentes!S1213","v":0},null,1211,0,1130,"X"]
[null,null,null,null,null,null,null,null,null,null,null,null,null,null,null,null,null,null,null,null,null,null,null,null,{"$f":"IF(AND(referentes!U1214<>\"\",          referentes!U1214<>96321,    referentes!U1214<>96222            ),(referentes!W1214),\"\")","v":""},{"$f":"referentes!S1214","v":0},null,1212,0,1130,"X"]
[null,null,null,null,null,null,null,null,null,null,null,null,null,null,null,null,null,null,null,null,null,null,null,null,{"$f":"IF(AND(referentes!U1215<>\"\",          referentes!U1215<>96321,    referentes!U1215<>96222            ),(referentes!W1215),\"\")","v":""},{"$f":"referentes!S1215","v":0},null,1213,0,1130,"X"]
[null,null,null,null,null,null,null,null,null,null,null,null,null,null,null,null,null,null,null,null,null,null,null,null,{"$f":"IF(AND(referentes!U1216<>\"\",          referentes!U1216<>96321,    referentes!U1216<>96222            ),(referentes!W1216),\"\")","v":""},{"$f":"referentes!S1216","v":0},null,1214,0,1130,"X"]
[null,null,null,null,null,null,null,null,null,null,null,null,null,null,null,null,null,null,null,null,null,null,null,null,{"$f":"IF(AND(referentes!U1217<>\"\",          referentes!U1217<>96321,    referentes!U1217<>96222            ),(referentes!W1217),\"\")","v":""},{"$f":"referentes!S1217","v":0},null,1215,0,1130,"X"]
[null,null,null,null,null,null,null,null,null,null,null,null,null,null,null,null,null,null,null,null,null,null,null,null,{"$f":"IF(AND(referentes!U1218<>\"\",          referentes!U1218<>96321,    referentes!U1218<>96222            ),(referentes!W1218),\"\")","v":""},{"$f":"referentes!S1218","v":0},null,1216,0,1130,"X"]
[null,null,null,null,null,null,null,null,null,null,null,null,null,null,null,null,null,null,null,null,null,null,null,null,{"$f":"IF(AND(referentes!U1219<>\"\",          referentes!U1219<>96321,    referentes!U1219<>96222            ),(referentes!W1219),\"\")","v":""},{"$f":"referentes!S1219","v":0},null,1217,0,1130,"X"]
[null,null,null,null,null,null,null,null,null,null,null,null,null,null,null,null,null,null,null,null,null,null,null,null,{"$f":"IF(AND(referentes!U1220<>\"\",          referentes!U1220<>96321,    referentes!U1220<>96222            ),(referentes!W1220),\"\")","v":""},{"$f":"referentes!S1220","v":0},null,1218,{"$f":"IF(Y1223=\"\",0,Y1223)","v":0},{"$f":"IF(AC1224=0,MAX($AB$7:$AB$1135)+1,AB1224)","v":1130},{"$f":"IFERROR(VLOOKUP(SMALL($AD$7:$AD$1135,AB1224),$AB$7:$AD$1135,2,FALSE),\"X\")","v":"X"}]
[null,null,null,null,null,null,null,null,null,null,null,null,null,null,null,null,null,null,null,null,null,null,null,null,{"$f":"IF(AND(referentes!U1221<>\"\",          referentes!U1221<>96321,    referentes!U1221<>96222            ),(referentes!W1221),\"\")","v":""},{"$f":"referentes!S1221","v":0},null,1219,0,1130,"X"]
[null,null,null,null,null,null,null,null,null,null,null,null,null,null,null,null,null,null,null,null,null,null,null,null,{"$f":"IF(AND(referentes!U1222<>\"\",          referentes!U1222<>96321,    referentes!U1222<>96222            ),(referentes!W1222),\"\")","v":""},{"$f":"referentes!S1222","v":0},null,1220,0,1130,"X"]
[null,null,null,null,null,null,null,null,null,null,null,null,null,null,null,null,null,null,null,null,null,null,null,null,{"$f":"IF(AND(referentes!U1223<>\"\",          referentes!U1223<>96321,    referentes!U1223<>96222            ),(referentes!W1223),\"\")","v":""},{"$f":"referentes!S1223","v":0},null,1221,0,1130,"X"]
[null,null,null,null,null,null,null,null,null,null,null,null,null,null,null,null,null,null,null,null,null,null,null,null,{"$f":"IF(AND(referentes!U1224<>\"\",          referentes!U1224<>96321,    referentes!U1224<>96222            ),(referentes!W1224),\"\")","v":""},{"$f":"referentes!S1224","v":0},null,1222,0,1130,"X"]
[null,null,null,null,null,null,null,null,null,null,null,null,null,null,null,null,null,null,null,null,null,null,null,null,{"$f":"IF(AND(referentes!U1225<>\"\",          referentes!U1225<>96321,    referentes!U1225<>96222            ),(referentes!W1225),\"\")","v":""},{"$f":"referentes!S1225","v":0},null,1223,0,1130,"X"]
[null,null,null,null,null,null,null,null,null,null,null,null,null,null,null,null,null,null,null,null,null,null,null,null,{"$f":"IF(AND(referentes!U1226<>\"\",          referentes!U1226<>96321,    referentes!U1226<>96222            ),(referentes!W1226),\"\")","v":""},{"$f":"referentes!S1226","v":0},null,1224,0,1130,"X"]
[null,null,null,null,null,null,null,null,null,null,null,null,null,null,null,null,null,null,null,null,null,null,null,null,{"$f":"IF(AND(referentes!U1227<>\"\",          referentes!U1227<>96321,    referentes!U1227<>96222            ),(referentes!W1227),\"\")","v":""},{"$f":"referentes!S1227","v":0},null,1225,0,1130,"X"]
[null,null,null,null,null,null,null,null,null,null,null,null,null,null,null,null,null,null,null,null,null,null,null,null,{"$f":"IF(AND(referentes!U1228<>\"\",          referentes!U1228<>96321,    referentes!U1228<>96222            ),(referentes!W1228),\"\")","v":""},{"$f":"referentes!S1228","v":0},null,1226,0,1130,"X"]
[null,null,null,null,null,null,null,null,null,null,null,null,null,null,null,null,null,null,null,null,null,null,null,null,{"$f":"IF(AND(referentes!U1229<>\"\",          referentes!U1229<>96321,    referentes!U1229<>96222            ),(referentes!W1229),\"\")","v":""},{"$f":"referentes!S1229","v":0},null,1227,0,1130,"X"]
[null,null,null,null,null,null,null,null,null,null,null,null,null,null,null,null,null,null,null,null,null,null,null,null,{"$f":"IF(AND(referentes!U1230<>\"\",          referentes!U1230<>96321,    referentes!U1230<>96222            ),(referentes!W1230),\"\")","v":""},{"$f":"referentes!S1230","v":0},null,1228,0,1130,"X"]
[null,null,null,null,null,null,null,null,null,null,null,null,null,null,null,null,null,null,null,null,null,null,null,null,{"$f":"IF(AND(referentes!U1231<>\"\",          referentes!U1231<>96321,    referentes!U1231<>96222            ),(referentes!W1231),\"\")","v":""},{"$f":"referentes!S1231","v":0},null,1229,0,1130,"X"]
[null,null,null,null,null,null,null,null,null,null,null,null,null,null,null,null,null,null,null,null,null,null,null,null,{"$f":"IF(AND(referentes!U1232<>\"\",          referentes!U1232<>96321,    referentes!U1232<>96222            ),(referentes!W1232),\"\")","v":""},{"$f":"referentes!S1232","v":0},null,1230,0,1130,"X"]
[null,null,null,null,null,null,null,null,null,null,null,null,null,null,null,null,null,null,null,null,null,null,null,null,{"$f":"IF(AND(referentes!U1233<>\"\",          referentes!U1233<>96321,    referentes!U1233<>96222            ),(referentes!W1233),\"\")","v":""},{"$f":"referentes!S1233","v":0},null,1231,0,1130,"X"]
[null,null,null,null,null,null,null,null,null,null,null,null,null,null,null,null,null,null,null,null,null,null,null,null,{"$f":"IF(AND(referentes!U1234<>\"\",          referentes!U1234<>96321,    referentes!U1234<>96222            ),(referentes!W1234),\"\")","v":""},{"$f":"referentes!S1234","v":0},null,1232,0,1130,"X"]
[null,null,null,null,null,null,null,null,null,null,null,null,null,null,null,null,null,null,null,null,null,null,null,null,{"$f":"IF(AND(referentes!U1235<>\"\",          referentes!U1235<>96321,    referentes!U1235<>96222            ),(referentes!W1235),\"\")","v":""},{"$f":"referentes!S1235","v":0},null,1233,0,1130,"X"]
[null,null,null,null,null,null,null,null,null,null,null,null,null,null,null,null,null,null,null,null,null,null,null,null,{"$f":"IF(AND(referentes!U1236<>\"\",          referentes!U1236<>96321,    referentes!U1236<>96222            ),(referentes!W1236),\"\")","v":""},{"$f":"referentes!S1236","v":0},null,1234,0,1130,"X"]
[null,null,null,null,null,null,null,null,null,null,null,null,null,null,null,null,null,null,null,null,null,null,null,null,{"$f":"IF(AND(referentes!U1237<>\"\",          referentes!U1237<>96321,    referentes!U1237<>96222            ),(referentes!W1237),\"\")","v":""},{"$f":"referentes!S1237","v":0},null,1235,0,1130,"X"]
[null,null,null,null,null,null,null,null,null,null,null,null,null,null,null,null,null,null,null,null,null,null,null,null,{"$f":"IF(AND(referentes!U1238<>\"\",          referentes!U1238<>96321,    referentes!U1238<>96222            ),(referentes!W1238),\"\")","v":""},{"$f":"referentes!S1238","v":0},null,1236,0,1130,"X"]
[null,null,null,null,null,null,null,null,null,null,null,null,null,null,null,null,null,null,null,null,null,null,null,null,{"$f":"IF(AND(referentes!U1239<>\"\",          referentes!U1239<>96321,    referentes!U1239<>96222            ),(referentes!W1239),\"\")","v":""},{"$f":"referentes!S1239","v":0},null,1237,0,1130,"X"]
[null,null,null,null,null,null,null,null,null,null,null,null,null,null,null,null,null,null,null,null,null,null,null,null,{"$f":"IF(AND(referentes!U1240<>\"\",          referentes!U1240<>96321,    referentes!U1240<>96222            ),(referentes!W1240),\"\")","v":""},{"$f":"referentes!S1240","v":0},null,1238,0,1130,"X"]
[null,null,null,null,null,null,null,null,null,null,null,null,null,null,null,null,null,null,null,null,null,null,null,null,{"$f":"IF(AND(referentes!U1241<>\"\",          referentes!U1241<>96321,    referentes!U1241<>96222            ),(referentes!W1241),\"\")","v":""},{"$f":"referentes!S1241","v":0},null,1239,0,1130,"X"]
[null,null,null,null,null,null,null,null,null,null,null,null,null,null,null,null,null,null,null,null,null,null,null,null,{"$f":"IF(AND(referentes!U1242<>\"\",          referentes!U1242<>96321,    referentes!U1242<>96222            ),(referentes!W1242),\"\")","v":""},{"$f":"referentes!S1242","v":0},null,1240,0,1130,"X"]
[null,null,null,null,null,null,null,null,null,null,null,null,null,null,null,null,null,null,null,null,null,null,null,null,{"$f":"IF(AND(referentes!U1243<>\"\",          referentes!U1243<>96321,    referentes!U1243<>96222            ),(referentes!W1243),\"\")","v":""},{"$f":"referentes!S1243","v":0},null,1241,0,1130,"X"]
[null,null,null,null,null,null,null,null,null,null,null,null,null,null,null,null,null,null,null,null,null,null,null,null,{"$f":"IF(AND(referentes!U1244<>\"\",          referentes!U1244<>96321,    referentes!U1244<>96222            ),(referentes!W1244),\"\")","v":""},{"$f":"referentes!S1244","v":0},null,1242,0,1130,"X"]
[null,null,null,null,null,null,null,null,null,null,null,null,null,null,null,null,null,null,null,null,null,null,null,null,{"$f":"IF(AND(referentes!U1245<>\"\",          referentes!U1245<>96321,    referentes!U1245<>96222            ),(referentes!W1245),\"\")","v":""},{"$f":"referentes!S1245","v":0},null,1243,0,1130,"X"]
[null,null,null,null,null,null,null,null,null,null,null,null,null,null,null,null,null,null,null,null,null,null,null,null,{"$f":"IF(AND(referentes!U1246<>\"\",          referentes!U1246<>96321,    referentes!U1246<>96222            ),(referentes!W1246),\"\")","v":""},{"$f":"referentes!S1246","v":0},null,1244,0,1130,"X"]
[null,null,null,null,null,null,null,null,null,null,null,null,null,null,null,null,null,null,null,null,null,null,null,null,{"$f":"IF(AND(referentes!U1247<>\"\",          referentes!U1247<>96321,    referentes!U1247<>96222            ),(referentes!W1247),\"\")","v":""},{"$f":"referentes!S1247","v":0},null,1245,0,1130,"X"]
[null,null,null,null,null,null,null,null,null,null,null,null,null,null,null,null,null,null,null,null,null,null,null,null,{"$f":"IF(AND(referentes!U1248<>\"\",          referentes!U1248<>96321,    referentes!U1248<>96222            ),(referentes!W1248),\"\")","v":""},{"$f":"referentes!S1248","v":0},null,1246,0,1130,"X"]
[null,null,null,null,null,null,null,null,null,null,null,null,null,null,null,null,null,null,null,null,null,null,null,null,{"$f":"IF(AND(referentes!U1249<>\"\",          referentes!U1249<>96321,    referentes!U1249<>96222            ),(referentes!W1249),\"\")","v":""},{"$f":"referentes!S1249","v":0},null,1247,0,1130,"X"]
[null,null,null,null,null,null,null,null,null,null,null,null,null,null,null,null,null,null,null,null,null,null,null,null,{"$f":"IF(AND(referentes!U1250<>\"\",          referentes!U1250<>96321,    referentes!U1250<>96222            ),(referentes!W1250),\"\")","v":""},{"$f":"referentes!S1250","v":0},null,1248,0,1130,"X"]
[null,null,null,null,null,null,null,null,null,null,null,null,null,null,null,null,null,null,null,null,null,null,null,null,{"$f":"IF(AND(referentes!U1251<>\"\",          referentes!U1251<>96321,    referentes!U1251<>96222            ),(referentes!W1251),\"\")","v":""},{"$f":"referentes!S1251","v":0},null,1249,0,1130,"X"]
[null,null,null,null,null,null,null,null,null,null,null,null,null,null,null,null,null,null,null,null,null,null,null,null,{"$f":"IF(AND(referentes!U1252<>\"\",          referentes!U1252<>96321,    referentes!U1252<>96222            ),(referentes!W1252),\"\")","v":""},{"$f":"referentes!S1252","v":0},null,1250,0,1130,"X"]
[null,null,null,null,null,null,null,null,null,null,null,null,null,null,null,null,null,null,null,null,null,null,null,null,{"$f":"IF(AND(referentes!U1253<>\"\",          referentes!U1253<>96321,    referentes!U1253<>96222            ),(referentes!W1253),\"\")","v":""},{"$f":"referentes!S1253","v":0},null,1251,0,1130,"X"]
[null,null,null,null,null,null,null,null,null,null,null,null,null,null,null,null,null,null,null,null,null,null,null,null,{"$f":"IF(AND(referentes!U1254<>\"\",          referentes!U1254<>96321,    referentes!U1254<>96222            ),(referentes!W1254),\"\")","v":""},{"$f":"referentes!S1254","v":0},null,1252,0,1130,"X"]
[null,null,null,null,null,null,null,null,null,null,null,null,null,null,null,null,null,null,null,null,null,null,null,null,{"$f":"IF(AND(referentes!U1255<>\"\",          referentes!U1255<>96321,    referentes!U1255<>96222            ),(referentes!W1255),\"\")","v":""},{"$f":"referentes!S1255","v":0},null,1253,0,1130,"X"]
[null,null,null,null,null,null,null,null,null,null,null,null,null,null,null,null,null,null,null,null,null,null,null,null,{"$f":"IF(AND(referentes!U1256<>\"\",          referentes!U1256<>96321,    referentes!U1256<>96222            ),(referentes!W1256),\"\")","v":""},{"$f":"referentes!S1256","v":0},null,1254,0,1130,"X"]
[null,null,null,null,null,null,null,null,null,null,null,null,null,null,null,null,null,null,null,null,null,null,null,null,{"$f":"IF(AND(referentes!U1257<>\"\",          referentes!U1257<>96321,    referentes!U1257<>96222            ),(referentes!W1257),\"\")","v":""},{"$f":"referentes!S1257","v":0},null,1255,0,1130,"X"]
[null,null,null,null,null,null,null,null,null,null,null,null,null,null,null,null,null,null,null,null,null,null,null,null,{"$f":"IF(AND(referentes!U1258<>\"\",          referentes!U1258<>96321,    referentes!U1258<>96222            ),(referentes!W1258),\"\")","v":""},{"$f":"referentes!S1258","v":0},null,1256,0,1130,"X"]
[null,null,null,null,null,null,null,null,null,null,null,null,null,null,null,null,null,null,null,null,null,null,null,null,{"$f":"IF(AND(referentes!U1259<>\"\",          referentes!U1259<>96321,    referentes!U1259<>96222            ),(referentes!W1259),\"\")","v":""},{"$f":"referentes!S1259","v":0},null,1257,0,1130,"X"]
[null,null,null,null,null,null,null,null,null,null,null,null,null,null,null,null,null,null,null,null,null,null,null,null,{"$f":"IF(AND(referentes!U1260<>\"\",          referentes!U1260<>96321,    referentes!U1260<>96222            ),(referentes!W1260),\"\")","v":""},{"$f":"referentes!S1260","v":0},null,1258,0,1130,"X"]
[null,null,null,null,null,null,null,null,null,null,null,null,null,null,null,null,null,null,null,null,null,null,null,null,{"$f":"IF(AND(referentes!U1261<>\"\",          referentes!U1261<>96321,    referentes!U1261<>96222            ),(referentes!W1261),\"\")","v":""},{"$f":"referentes!S1261","v":0},null,1259,0,1130,"X"]
[null,null,null,null,null,null,null,null,null,null,null,null,null,null,null,null,null,null,null,null,null,null,null,null,{"$f":"IF(AND(referentes!U1262<>\"\",          referentes!U1262<>96321,    referentes!U1262<>96222            ),(referentes!W1262),\"\")","v":""},{"$f":"referentes!S1262","v":0},null,1260,0,1130,"X"]
[null,null,null,null,null,null,null,null,null,null,null,null,null,null,null,null,null,null,null,null,null,null,null,null,{"$f":"IF(AND(referentes!U1263<>\"\",          referentes!U1263<>96321,    referentes!U1263<>96222            ),(referentes!W1263),\"\")","v":""},{"$f":"referentes!S1263","v":0},null,1261,0,1130,"X"]
[null,null,null,null,null,null,null,null,null,null,null,null,null,null,null,null,null,null,null,null,null,null,null,null,{"$f":"IF(AND(referentes!U1264<>\"\",          referentes!U1264<>96321,    referentes!U1264<>96222            ),(referentes!W1264),\"\")","v":""},{"$f":"referentes!S1264","v":0},null,1262,0,1130,"X"]
[null,null,null,null,null,null,null,null,null,null,null,null,null,null,null,null,null,null,null,null,null,null,null,null,{"$f":"IF(AND(referentes!U1265<>\"\",          referentes!U1265<>96321,    referentes!U1265<>96222            ),(referentes!W1265),\"\")","v":""},{"$f":"referentes!S1265","v":0},null,1263,0,1130,"X"]
[null,null,null,null,null,null,null,null,null,null,null,null,null,null,null,null,null,null,null,null,null,null,null,null,{"$f":"IF(AND(referentes!U1266<>\"\",          referentes!U1266<>96321,    referentes!U1266<>96222            ),(referentes!W1266),\"\")","v":""},{"$f":"referentes!S1266","v":0},null,1264,0,1130,"X"]
[null,null,null,null,null,null,null,null,null,null,null,null,null,null,null,null,null,null,null,null,null,null,null,null,{"$f":"IF(AND(referentes!U1267<>\"\",          referentes!U1267<>96321,    referentes!U1267<>96222            ),(referentes!W1267),\"\")","v":""},{"$f":"referentes!S1267","v":0},null,1265,0,1130,"X"]
[null,null,null,null,null,null,null,null,null,null,null,null,null,null,null,null,null,null,null,null,null,null,null,null,{"$f":"IF(AND(referentes!U1268<>\"\",          referentes!U1268<>96321,    referentes!U1268<>96222            ),(referentes!W1268),\"\")","v":""},{"$f":"referentes!S1268","v":0},null,1266,0,1130,"X"]

{"sheet":"referentes","index":5,"n_rows":140,"n_cols":30,"rows_kept":140,"cut":false,"hidden":false,"merged":[]}
["AG_ESPECIES",22393,null,"AG_LOV",1,null,"AG_LOV",2,null,"cod_letras","descripcion",null,"phylum","clase","orden","familia","genero",null,"secuencia_loc","prefijo_cdg_est_loc","codigo_estacion_loc","descripcion_estacion_loc","lugar"]
["AB","Avicennia bicolor",null,"CA","Caido",null,7,"Rama",null,"AB","Avicennia bicolor","2040.55.687","Tracheophyta",null,null,"VERBENACEAE",null,null,55958,"Bahia_Cocinetas",96321,null,"Bahia Cocinetas1",null,3546,"Administrador SIGMA"]
["CE","Conocarpus erectus",null,"CO","Cortado",null,8,"Tronco",null,"AG","Avicennia germinans","2040.55.685","Tracheophyta",null,null,"VERBENACEAE",null,null,55957,"Bahia_Hondita",96321,null,"Bahia Hondita1",null,3444,"Alexandra Rodríguez",null,null,"AD Pto. Moin C.R.","Administración Desarrollo Complejo Portuario  Limón Moin Costa Rica"]
["LR","Laguncularia racemosa",null,"ME","Mal Estado",null,null,null,null,"CE","Conocarpus erectus","2040.55.293","Tracheophyta",null,null,"VERBENACEAE",null,null,55959,"Bahia_Tukakas",96321,null,"Bahia Tukakaspl1",null,8258,"Daniel Fernando Jiménez Rincón",null,null,"ANADARKO","Anadarko Colombia Company"]
["MM","Mora oleifera ",null,"MU","Muerto",null,null,null,null,"EA","Eugenia Acapulcensis","2040.55.1534","Tracheophyta","ROSOPSIDA","MYRTALES","MYRTACEAE","EUGENIA",null,55967,"Boca_Laenea1",96321,null,"Boca La enea1",null,8378,"David Alejandro Navarrete Rodríguez",null,null,"AQUABIOSFERA","Aquabiosfera SAS"]
["PR","Pelliciera rhizophorae",null,"PA","Partido",null,null,null,null,"FS","Ficus","2040.46.20406","Tracheophyta","ROSOPSIDA","ROSALES","MORACEAE","FICUS",null,55968,"Boca_Laenea2",96321,null,"Boca La enea2",null,4918,"Edgar Fernando Dorado Roncancio",null,null,"CALIDRIS","Asociación Calidris"]
["RM","Rhizophora mangle",null,"VI","Vivo",null,null,null,null,"FT","Ficus Tonduzii   ","2040.55.1536","Tracheophyta","ROSOPSIDA","ROSALES","MORACEAE","FICUS",null,56558,"Bocas_Atrato",96321,null,"Bocas del Atrato1",null,3403,"Eliana Marcela Barrios Vasquez",null,null,"ASOCARS","Asociación de Corporaciones Autónomas Regionales"]
["RR","Rhizophora racemosa",null,"NE","No Encontrado",null,null,null,null,"LR","Laguncularia racemosa","2040.55.290","Tracheophyta",null,null,"COMBRETACEAE",null,null,55972,"Broqueles",96321,null,"Broqueles1",null,7840,"Fair Fernando Dager Osorio",null,null,"ANLA","Autoridad Nacional de Licencias Ambientales"]
["SE","Sp. manglar",null,"NA","No Asignado",null,null,null,null,"MM","Mora oleifera","2040.55.507","Tracheophyta",null,null,"Caesalpiniaceae",null,null,57245,"Buenavista1",96321,null,"Buenavista1",null,5685,"Henry Fabian Bustos Ordoñez",null,null,"ARAP","Autoridad de Recursos Acuáticos de Panamá"]
["FS","Ficus",null,null,null,null,null,null,null,"PR","Pelliciera rhizophorae","2040.55.532","Tracheophyta",null,null,"Rhizophoraceae",null,null,57246,"Buenavista2",96321,null,"Buenavista2",null,7841,"Jean David Varilla Gonzalez",null,null,"CWOP","Caribbean-Wide Orca Project"]
["FT","Ficus Tonduzii   ",null,null,null,null,null,null,null,"RH","Rhizophora harrisonii","2040.55.1509","Tracheophyta",null,null,"Rhizophoraceae",null,null,56551,"Camaronera",96321,null,"Camaronera1",null,8277,"Jeffry Bolaños",null,null,"CEAC","Centro de Estudios Ambientales de Cienfuegos"]
["EA","Eugenia Acapulcensis",null,null,null,null,null,null,null,"RM","Rhizophora mangle","2040.55.325","Tracheophyta","Magnoliopsida ",null,"RIZOPHORACEAE",null,null,55970,"Cristo_Rey",96321,null,"Cristo Rey1",null,8263,"Johan Casadiego Estévez",null,null,"CECIMAR","Centro de Estudios en Ciencias del Mar - Universidad Nacional"]
["AG","Avicennia germinans",null,null,null,null,null,null,null,"RR","Rhizophora racemosa","2040.55.326","Tracheophyta",null,null,"Rhizophoraceae",null,null,55961,"Dibulla1_Occidente",96321,null,"Dibulla1 Occidente -Rio Jerez",null,7141,"Juan Camilo Rodríguez Atara",null,null,"CIEMAT","Centro de Investigaciones Energéticas, Medioambientales y Tecnológicas"]
["RH","Rhizophora harrisonii ",null,null,null,null,null,null,null,"RS","Rhizophora sp.","2040.46.710","Tracheophyta","Rosopsida","Rhizophorales","Rhizophoraceae",null,null,55962,"Dibulla2_Occidente",96321,null,"Dibulla2 Occidente -Rio Jerez",null,8264,"Juan Fernando Cortina Munera",null,null,"CIOH","Centro de Investigaciones Oceanográficas e Hidrográficas"]
["TC","Terminalia catappa",null,null,null,null,null,null,null,"SA","Otras Especies asociadas",null,"Tracheophyta",null,null,null,null,null,55974,"Laguna_Bocacorea",96321,null,"Laguna Bocacorea1",null,8217,"Juan Lazarus",null,null,"C.C.C.P.","Centro de Investigaciones Oceanográficas e Hidrográficas del Pacífico"]
["SA","Otras Especies asociadas",null,null,null,null,null,null,null,"SE","Sp. manglar","2040.5.2040","Tracheophyta",null,null,"Sin especificiar",null,null,56887,"4484701OCEA",100,null,"PMO - BAHIA COCINETAS",null,8265,"Kevin Samuel Moreno",null,null,"CEINER","Centro de Investigación Educación y Recreación Islas del Rosario"]
["RS","Rhizophora sp.",null,null,null,null,null,null,null,"TC","Terminalia catappa",null,"Tracheophyta","Equisetopsida","MYRTALES","COMBRETACEAE","Terminalia",null,56888,"4484703OCEA",100,null,"PMO - BAHIA HONDITA",null,8377,"Lady Liliana Espinosa Leal",null,null,"CIRA","Centro de Investigación de los Recursos Acuáticos de Nicaragua (CIRA)"]
[null,null,null,null,null,null,null,null,null,null,null,null,null,null,null,null,null,null,56886,"4484702OCEA",100,null,"PMO - BAHIA TUKAKAS",null,7757,"Laura  Martínez Lacharme",null,null,"CICA","Centro de Investigación en Contaminación Ambiental"]
[null,null,null,null,null,null,null,null,null,null,null,null,null,null,null,null,null,null,56921,"0583740OCEA",100,null,"PMO - BAHÍA EL UNO",null,4227,"Laura Sanchez Valencia",null,null,"CRBMUV","Colección de Referencia Biología Marina Universidad del Valle"]
[null,null,null,null,null,null,null,null,null,null,null,null,null,null,null,null,null,null,56895,"4456009OCEA",100,null,"PMO - BALLENAS",null,3281,"Leonardo José Arias Alemán (2022)",null,null,"Coleccion_Personal","Colección personal"]
[null,null,null,null,null,null,null,null,null,null,null,null,null,null,null,null,null,null,56902,"4409015OCEA",100,null,"PMO - BELLO HORIZONTE",null,8099,"Marco Elias Gonzalez Arteaga",null,null,"CPPS","Comisión Permanente del Pacífico Sur"]
[null,null,null,null,null,null,null,null,null,null,null,null,null,null,null,null,null,null,56914,"2350029OCEA",100,null,"PMO - BROQUELES",null,7197,"Miller Jose Florian Sanchez",null,null,"CI","Conservación Internacional Colombia "]
[null,null,null,null,null,null,null,null,null,null,null,null,null,null,null,null,null,null,56898,"4456011OCEA",100,null,"PMO - BUENAVISTA",null,8262,"Paula Andrea López Muñoz",null,null,"CONSULTOR","Consultor independiente "]
[null,null,null,null,null,null,null,null,null,null,null,null,null,null,null,null,null,null,56889,"4484704OCEA",100,null,"PMO - CABO DE LA VELA",null,8297,"SARAH DANIELA VELASCO MARULANDA",null,null,"CMS","Consultoria y Monitoreo Ambiental"]
[null,null,null,null,null,null,null,null,null,null,null,null,null,null,null,null,null,null,56890,"4484705OCEA",100,null,"PMO - CARRIZAL",null,5745,"Sara Eilyn Guzman Henao",null,null,"CVC","Corporacion  Autonoma Regional del Valle del Cauca"]
[null,null,null,null,null,null,null,null,null,null,null,null,null,null,null,null,null,null,56906,"4718921OCEA",100,null,"PMO - CIENAGA",null,8266,"Zulay Saudith González Herrera",null,null,"CORPONARIÑO","Corporacion Autonoma Regional de Nariño"]
[null,null,null,null,null,null,null,null,null,null,null,null,null,null,null,null,null,null,56916,"2357431OCEA",100,null,"PMO - CRISTO REY",null,null,null,null,null,"CARSUCRE","Corporacion Autonoma Regional de Sucre"]
[null,null,null,null,null,null,null,null,null,null,null,null,null,null,null,null,null,null,56919,"0565934OCEA",100,null,"PMO - DAMAQUIEL",null,null,null,null,null,"CRA","Corporacion Autonoma Regional del Atlàntico"]
[null,null,null,null,null,null,null,null,null,null,null,null,null,null,null,null,null,null,56901,"4409014OCEA",100,null,"PMO - DIBULLA",null,null,null,null,null,"CARDIQUE","Corporacion Autonoma Regional del Canal del Dique"]
[null,null,null,null,null,null,null,null,null,null,null,null,null,null,null,null,null,null,56924,"0549036OCEA",100,null,"PMO - ENSENADA RIONEGRO",null,null,null,null,null,"CRC","Corporacion Autonoma Regional del Cauca"]
[null,null,null,null,null,null,null,null,null,null,null,null,null,null,null,null,null,null,56905,"4700119OCEA",100,null,"PMO - INCA INCA",null,null,null,null,null,"CODECHOCO","Corporacion para el Desarrollo Sostenible del Choco"]
[null,null,null,null,null,null,null,null,null,null,null,null,null,null,null,null,null,null,56900,"4400113OCEA",100,null,"PMO - LA ENEA",null,null,null,null,null,"CORPOGUAJIRA","Corporación Autónoma Regional de la Guajira"]
[null,null,null,null,null,null,null,null,null,null,null,null,null,null,null,null,null,null,56912,"2367527OCEA",100,null,"PMO - LAGUNA BOCA COREA",null,null,null,null,null,"CORALINA","Corporación Autónoma Regional de las Islas de San Andrés, Providencia y Santa Catalina"]
[null,null,null,null,null,null,null,null,null,null,null,null,null,null,null,null,null,null,56892,"4456007OCEA",100,null,"PMO - MANAURE",null,null,null,null,null,"CORPAMAG","Corporación Autónoma Regional del Magdalena"]
[null,null,null,null,null,null,null,null,null,null,null,null,null,null,null,null,null,null,56923,"0583745OCEA",100,null,"PMO - MATUNTUGO",null,null,null,null,null,"CORPOURABA","Corporación Autónoma Regional del Uraba"]
[null,null,null,null,null,null,null,null,null,null,null,null,null,null,null,null,null,null,56897,"4456010OCEA",100,null,"PMO - MAYAPO 1",null,null,null,null,null,"CVC-UNPA","Corporación Autónoma Regional del Valle del Cauca-Universidad del Pacifico"]
[null,null,null,null,null,null,null,null,null,null,null,null,null,null,null,null,null,null,56896,"4456010OCEA",200,null,"PMO - MAYAPO 2",null,null,null,null,null,"CORALINA OMACHA","Corporación Coralina - Fundación Omacha"]
[null,null,null,null,null,null,null,null,null,null,null,null,null,null,null,null,null,null,56894,"4456008OCEA",100,null,"PMO - MUSICHI 1",null,null,null,null,null,"CORPOURABA - OMACHA","Corporación Corpouraba - Fundación Omacha"]
[null,null,null,null,null,null,null,null,null,null,null,null,null,null,null,null,null,null,56893,"4456008OCEA",200,null,"PMO - MUSICHI 2",null,null,null,null,null,"CVS","Corporación Regional de Valle del Sinu y San Jorge"]
[null,null,null,null,null,null,null,null,null,null,null,null,null,null,null,null,null,null,56913,"2350028OCEA",100,null,"PMO - PASO NUEVO",null,null,null,null,null,"DADSA","DEPARTAMENT0 ADMiNISTRATIVO DISTRITAL DE SOSTENIBILIDAD AMBIENTAL"]
[null,null,null,null,null,null,null,null,null,null,null,null,null,null,null,null,null,null,56909,"2367246OCEA",100,null,"PMO - PLAYA BLANCA",null,null,null,null,null,"DAMARENA","Departamento Administrativo del Medio Ambiente de Cartagena -  EPA Cartagena"]
[null,null,null,null,null,null,null,null,null,null,null,null,null,null,null,null,null,null,56920,"0583739OCEA",100,null,"PMO - PLAYA LA MARTINA",null,null,null,null,null,"DAMAB","Departamento Técnico Administrativo del Medio Ambiente Barranquilla"]
[null,null,null,null,null,null,null,null,null,null,null,null,null,null,null,null,null,null,56911,"2367525OCEA",100,null,"PMO - PLAYA MIREYA",null,null,null,null,null,"DIMAR","Dirección General Maritima"]
[null,null,null,null,null,null,null,null,null,null,null,null,null,null,null,null,null,null,56907,"4757022OCEA",100,null,"PMO - PUEBLO VIEJO",null,null,null,null,null,"ECOREEF","ECOREEF Colombia LTDA"]
[null,null,null,null,null,null,null,null,null,null,null,null,null,null,null,null,null,null,56917,"2357432OCEA",100,null,"PMO - PUERTO ESCONDIDO",null,null,null,null,null,"ETH Zurich","EIDGENÖSSISCHE TECHNISCHE HOCHSCHULE ZÜRICH (Politécnico)\r\r\nEIDGENÖSSISCHE TECHNISCHE HOCHSCHULE ZÜRICH"]
[null,null,null,null,null,null,null,null,null,null,null,null,null,null,null,null,null,null,56910,"2367224OCEA",100,null,"PMO - PUNTA MESTIZO",null,null,null,null,null,"ECOMAR","Ecomar Consultoría  Ambiental S.A.S."]
[null,null,null,null,null,null,null,null,null,null,null,null,null,null,null,null,null,null,56918,"0505133OCEA",100,null,"PMO - RIO HOBO",null,null,null,null,null,"EPA BARRANQUILLA","Establecimiento Publico Ambiental Barranquilla"]
[null,null,null,null,null,null,null,null,null,null,null,null,null,null,null,null,null,null,56922,"0583743OCEA",100,null,"PMO - RIO LEON",null,null,null,null,null,"EPA BUENAVENTURA","Establecimiento Publico Ambiental Buenaventura"]
[null,null,null,null,null,null,null,null,null,null,null,null,null,null,null,null,null,null,56899,"4400112OCEA",100,null,"PMO - RIOHACHA",null,null,null,null,null,"EPA CARTAGENA","Establecimiento Publico Ambiental Cartagena"]
[null,null,null,null,null,null,null,null,null,null,null,null,null,null,null,null,null,null,56915,"2350030OCEA",100,null,"PMO - RÍO CEDRO",null,null,null,null,null,"ZOOCALI","FUNDACIÓN ZOOLÓGICA DE CALI"]
[null,null,null,null,null,null,null,null,null,null,null,null,null,null,null,null,null,null,56904,"4700118OCEA",100,null,"PMO - SANTA MARTA",null,null,null,null,null,"Fundabas","Fundacion Para El Desarrollo De La Biologia Aplicada"]
[null,null,null,null,null,null,null,null,null,null,null,null,null,null,null,null,null,null,56891,"4456006OCEA",100,null,"PMO - SANTA ROSA",null,null,null,null,null,"F. Bucea Colombia","Fundación Bucea Colombia"]
[null,null,null,null,null,null,null,null,null,null,null,null,null,null,null,null,null,null,56903,"4700117OCEA",100,null,"PMO - TAGANGA",null,null,null,null,null,"F.CORALES","Fundación Corales de Paz"]
[null,null,null,null,null,null,null,null,null,null,null,null,null,null,null,null,null,null,56908,"4757023OCEA",100,null,"PMO - TASAJERA",null,null,null,null,null,"F. Malpelo","Fundación Malpelo / Marviva"]
[null,null,null,null,null,null,null,null,null,null,null,null,null,null,null,null,null,null,55973,"Paso_Nuevo",96321,null,"Paso Nuevo1",null,null,null,null,null,"OMACHA","Fundación Omacha"]
[null,null,null,null,null,null,null,null,null,null,null,null,null,null,null,null,null,null,56689,"playa_Mireya",96321,null,"Playa Mireya",null,null,null,null,null,"OMACHA - OFM","Fundación Omacha - Observadores Fauna Marina"]
[null,null,null,null,null,null,null,null,null,null,null,null,null,null,null,null,null,null,55969,"Puerto_Escondido",96321,null,"Puerto Escondido1",null,null,null,null,null,"OMACHA - OFM - AQUAB","Fundación Omacha - Observadores Fauna Marina - Aquabiosfera"]
[null,null,null,null,null,null,null,null,null,null,null,null,null,null,null,null,null,null,55975,"Punta_Mestizos",96321,null,"Punta Mestizo1",null,null,null,null,null,"Sila Kangama","Fundación Sila Kangama"]
[null,null,null,null,null,null,null,null,null,null,null,null,null,null,null,null,null,null,55960,"Rincon_Mosquito",96321,null,"Rincon Mosquito - Bello Horizonte",null,null,null,null,null,"CIAA-UJTL","Fundación Universidad Jorge Tadeo Lozano - Centro de Investigaciones y Asesorías Agroindustriales,"]
[null,null,null,null,null,null,null,null,null,null,null,null,null,null,null,null,null,null,55971,"Rio_Cedro",96321,null,"Rio Cedro1",null,null,null,null,null,"UJTL","Fundación Universidad de Bogotá Jorge Tadeo Lozano"]
[null,null,null,null,null,null,null,null,null,null,null,null,null,null,null,null,null,null,55978,"Rio_Currulao",96321,null,"Rio Currulao1",null,null,null,null,null,"CERG","Geochemical & Environmental Research Group"]
[null,null,null,null,null,null,null,null,null,null,null,null,null,null,null,null,null,null,55983,"Rio_Hobo",96321,null,"Rio Jobo1",null,null,null,null,null,"IED_San José","INSTITUCIÓN EDUCATIVA DEPARTAMENTAL SAN JOSÉ"]
[null,null,null,null,null,null,null,null,null,null,null,null,null,null,null,null,null,null,null,null,null,null,null,null,null,null,null,null,"IRD","Institut de Recherche pour le Developpement"]
[null,null,null,null,null,null,null,null,null,null,null,null,null,null,null,null,null,null,null,null,null,null,null,null,null,null,null,null,"COLCIENCIAS","Instituto Colombiano para el Desarrollo de la Ciencia y la Tecnología"]
[null,null,null,null,null,null,null,null,null,null,null,null,null,null,null,null,null,null,null,null,null,null,null,null,null,null,null,null,"ICAL","Instituto Colombo Alemán de Investigaciones Científicas de Punta de Betín"]
[null,null,null,null,null,null,null,null,null,null,null,null,null,null,null,null,null,null,null,null,null,null,null,null,null,null,null,null,"INVEMAR - OMACHA","Instituto INVEMAR - Fundación Omacha"]
[null,null,null,null,null,null,null,null,null,null,null,null,null,null,null,null,null,null,null,null,null,null,null,null,null,null,null,null,"INDERENA","Instituto Nacional de los Recursos Naturales Renovables y del Ambiente"]
[null,null,null,null,null,null,null,null,null,null,null,null,null,null,null,null,null,null,null,null,null,null,null,null,null,null,null,null,"ICML","Instituto de Ciencias del Mar y Limnología (ICML)"]
[null,null,null,null,null,null,null,null,null,null,null,null,null,null,null,null,null,null,null,null,null,null,null,null,null,null,null,null,"IIAP","Instituto de Investigaciones Ambientales del Pacifico"]
[null,null,null,null,null,null,null,null,null,null,null,null,null,null,null,null,null,null,null,null,null,null,null,null,null,null,null,null,"INVEMAR","Instituto de Investigaciones Marinas y Costeras"]
[null,null,null,null,null,null,null,null,null,null,null,null,null,null,null,null,null,null,null,null,null,null,null,null,null,null,null,null,"INVEMAR-AGR","Instituto de Investigaciones Marinas y Costeras - AGR"]
[null,null,null,null,null,null,null,null,null,null,null,null,null,null,null,null,null,null,null,null,null,null,null,null,null,null,null,null,"INVEMAR-BVT","Instituto de Investigaciones Marinas y Costeras - BVT"]
[null,null,null,null,null,null,null,null,null,null,null,null,null,null,null,null,null,null,null,null,null,null,null,null,null,null,null,null,"INVEMAR-CPT","Instituto de Investigaciones Marinas y Costeras - CPT"]
[null,null,null,null,null,null,null,null,null,null,null,null,null,null,null,null,null,null,null,null,null,null,null,null,null,null,null,null,"IAvH","Instituto de Investigación Recursos Biológicos Alexander von Humboldt"]
[null,null,null,null,null,null,null,null,null,null,null,null,null,null,null,null,null,null,null,null,null,null,null,null,null,null,null,null,"IDO_Cuba","Instituto de Oceanologia Cuba"]
[null,null,null,null,null,null,null,null,null,null,null,null,null,null,null,null,null,null,null,null,null,null,null,null,null,null,null,null,"IATTC","Inter-American Tropical Tuna Commission"]
[null,null,null,null,null,null,null,null,null,null,null,null,null,null,null,null,null,null,null,null,null,null,null,null,null,null,null,null,"LABORMAR","Laboratorio Microbiológico Ortiz Martinez "]
[null,null,null,null,null,null,null,null,null,null,null,null,null,null,null,null,null,null,null,null,null,null,null,null,null,null,null,null,"Literature report","Literature report"]
[null,null,null,null,null,null,null,null,null,null,null,null,null,null,null,null,null,null,null,null,null,null,null,null,null,null,null,null,"MCS Consultoría","MCS Consultoría y Monitoreo ambiental S.A.S"]
[null,null,null,null,null,null,null,null,null,null,null,null,null,null,null,null,null,null,null,null,null,null,null,null,null,null,null,null,"MAKARELA","Makarela S.A.S"]
[null,null,null,null,null,null,null,null,null,null,null,null,null,null,null,null,null,null,null,null,null,null,null,null,null,null,null,null,"MHNMC","Makuriwa - Museo de Historia Natural Marina de Colombia"]
[null,null,null,null,null,null,null,null,null,null,null,null,null,null,null,null,null,null,null,null,null,null,null,null,null,null,null,null,"MMU","Manchester Metropolitan University"]
[null,null,null,null,null,null,null,null,null,null,null,null,null,null,null,null,null,null,null,null,null,null,null,null,null,null,null,null,"M_P","Marine & Port Consultants"]
[null,null,null,null,null,null,null,null,null,null,null,null,null,null,null,null,null,null,null,null,null,null,null,null,null,null,null,null,"IAEA-MEL","Marine Environment Laboratories"]
[null,null,null,null,null,null,null,null,null,null,null,null,null,null,null,null,null,null,null,null,null,null,null,null,null,null,null,null,"MINCIENCIAS","Ministerio de Ciencia, Tecnología e Innovación"]
[null,null,null,null,null,null,null,null,null,null,null,null,null,null,null,null,null,null,null,null,null,null,null,null,null,null,null,null,"MA","Ministerio del Ambiente Haiti"]
[null,null,null,null,null,null,null,null,null,null,null,null,null,null,null,null,null,null,null,null,null,null,null,null,null,null,null,null,"MADS","Ministerio del Ambiente y Desarrollo Sostenible"]
[null,null,null,null,null,null,null,null,null,null,null,null,null,null,null,null,null,null,null,null,null,null,null,null,null,null,null,null,"MINAMBIENTE","Ministerio del Ambiente y Desarrollo Sostenible"]
[null,null,null,null,null,null,null,null,null,null,null,null,null,null,null,null,null,null,null,null,null,null,null,null,null,null,null,null,"MHN-UC","Museo Historia Natural Universidad del Cauca"]
[null,null,null,null,null,null,null,null,null,null,null,null,null,null,null,null,null,null,null,null,null,null,null,null,null,null,null,null,"MZUSP","Museu de Zoologia da Universidade de São Paulo"]
[null,null,null,null,null,null,null,null,null,null,null,null,null,null,null,null,null,null,null,null,null,null,null,null,null,null,null,null,"NOAA FISHERIES","NOAA Southwest Fisheries Science Center"]
[null,null,null,null,null,null,null,null,null,null,null,null,null,null,null,null,null,null,null,null,null,null,null,null,null,null,null,null,"NEPA","National Environment and Planning Agency"]
[null,null,null,null,null,null,null,null,null,null,null,null,null,null,null,null,null,null,null,null,null,null,null,null,null,null,null,null,"NOAA","National Oceanic and Atmospheric Administration"]
[null,null,null,null,null,null,null,null,null,null,null,null,null,null,null,null,null,null,null,null,null,null,null,null,null,null,null,null,"OBIMAR","OBIMAR. Empresa Portuaria Quetzal"]
[null,null,null,null,null,null,null,null,null,null,null,null,null,null,null,null,null,null,null,null,null,null,null,null,null,null,null,null,"OBIS-SEAMAP","OBIS-SEAMAP"]
[null,null,null,null,null,null,null,null,null,null,null,null,null,null,null,null,null,null,null,null,null,null,null,null,null,null,null,null,"OBIS","Ocean Biogeographic Information System"]
[null,null,null,null,null,null,null,null,null,null,null,null,null,null,null,null,null,null,null,null,null,null,null,null,null,null,null,null,"OIR","Oceanario de las Islas del Rosario - CEINER"]
[null,null,null,null,null,null,null,null,null,null,null,null,null,null,null,null,null,null,null,null,null,null,null,null,null,null,null,null,"OIEA","Orgánismo Internacional de Energía Atómica"]
[null,null,null,null,null,null,null,null,null,null,null,null,null,null,null,null,null,null,null,null,null,null,null,null,null,null,null,null,"PNN_GORGONA","Parque Nacional Natural Gorgona"]
[null,null,null,null,null,null,null,null,null,null,null,null,null,null,null,null,null,null,null,null,null,null,null,null,null,null,null,null,"UAESPNN","Parques Nacionales Naturales de Colombia"]
[null,null,null,null,null,null,null,null,null,null,null,null,null,null,null,null,null,null,null,null,null,null,null,null,null,null,null,null,"PNN","Parques Nacionales Naturales de Colombia "]
[null,null,null,null,null,null,null,null,null,null,null,null,null,null,null,null,null,null,null,null,null,null,null,null,null,null,null,null,"PARTICULAR","Particular"]
[null,null,null,null,null,null,null,null,null,null,null,null,null,null,null,null,null,null,null,null,null,null,null,null,null,null,null,null,"PUJ","Pontificia Universidad Javeriana"]
[null,null,null,null,null,null,null,null,null,null,null,null,null,null,null,null,null,null,null,null,null,null,null,null,null,null,null,null,"RAC-CIMAB","RAC-CIMAB"]
[null,null,null,null,null,null,null,null,null,null,null,null,null,null,null,null,null,null,null,null,null,null,null,null,null,null,null,null,"REPSOL","Repsol Exploración Colombia S.A."]
[null,null,null,null,null,null,null,null,null,null,null,null,null,null,null,null,null,null,null,null,null,null,null,null,null,null,null,null,"SERNA","Secretaría de Recursos Naturales y Ambiente (SERNA)/Centro de Estudios y Control de Contaminantes (CESCCO)"]
[null,null,null,null,null,null,null,null,null,null,null,null,null,null,null,null,null,null,null,null,null,null,null,null,null,null,null,null,"SERAMBIENTE","Servicios de Ingeniería Ambiental"]
[null,null,null,null,null,null,null,null,null,null,null,null,null,null,null,null,null,null,null,null,null,null,null,null,null,null,null,null,"SEPC","Shell Exploration & Production Colombia GMBH"]
[null,null,null,null,null,null,null,null,null,null,null,null,null,null,null,null,null,null,null,null,null,null,null,null,null,null,null,null,"NMHN Smithsonian","Smithsonian Institution"]
[null,null,null,null,null,null,null,null,null,null,null,null,null,null,null,null,null,null,null,null,null,null,null,null,null,null,null,null,"SPRC - CNR","Sociedad Portuaria Rio Cordoba - Colombian Natural Resources S.A.S."]
[null,null,null,null,null,null,null,null,null,null,null,null,null,null,null,null,null,null,null,null,null,null,null,null,null,null,null,null,"SPSM","Sociedad Portuaria de Santa Marta"]
[null,null,null,null,null,null,null,null,null,null,null,null,null,null,null,null,null,null,null,null,null,null,null,null,null,null,null,null,"UPR Humacao","UNIVERSIDAD DE PUERTO RICO EN HUMACAO"]
[null,null,null,null,null,null,null,null,null,null,null,null,null,null,null,null,null,null,null,null,null,null,null,null,null,null,null,null,"UR Camelia, IRD","UR Camelia, IRD"]
[null,null,null,null,null,null,null,null,null,null,null,null,null,null,null,null,null,null,null,null,null,null,null,null,null,null,null,null,"UNEP CAR/RCU","United Nations Environment Programme - Caribbean Regional Coordinating Unit"]
[null,null,null,null,null,null,null,null,null,null,null,null,null,null,null,null,null,null,null,null,null,null,null,null,null,null,null,null,"UASD","Universidad Autónoma de Santo Domingo"]
[null,null,null,null,null,null,null,null,null,null,null,null,null,null,null,null,null,null,null,null,null,null,null,null,null,null,null,null,"UFB","Universidad Federal de Bahía"]
[null,null,null,null,null,null,null,null,null,null,null,null,null,null,null,null,null,null,null,null,null,null,null,null,null,null,null,null,"UJTL-MM","Universidad Jorje Tadeo Lozano-Museo del Mar"]
[null,null,null,null,null,null,null,null,null,null,null,null,null,null,null,null,null,null,null,null,null,null,null,null,null,null,null,null,"UNMSM","Universidad Nacional Mayor de San Marcos"]
[null,null,null,null,null,null,null,null,null,null,null,null,null,null,null,null,null,null,null,null,null,null,null,null,null,null,null,null,"UNal","Universidad Nacional de Colombia"]
[null,null,null,null,null,null,null,null,null,null,null,null,null,null,null,null,null,null,null,null,null,null,null,null,null,null,null,null,"USB","Universidad Simón Bolivar"]
[null,null,null,null,null,null,null,null,null,null,null,null,null,null,null,null,null,null,null,null,null,null,null,null,null,null,null,null,"UDEA","Universidad de Antioquia"]
[null,null,null,null,null,null,null,null,null,null,null,null,null,null,null,null,null,null,null,null,null,null,null,null,null,null,null,null,"UJTL-FCM","Universidad de Bogotá Jorge Tadeo Lozano, Fac. de Ciencias Naturales e Ingenieria"]
[null,null,null,null,null,null,null,null,null,null,null,null,null,null,null,null,null,null,null,null,null,null,null,null,null,null,null,null,"UCartagena","Universidad de Cartagena"]
[null,null,null,null,null,null,null,null,null,null,null,null,null,null,null,null,null,null,null,null,null,null,null,null,null,null,null,null,"UCO","Universidad de Córdoba"]
[null,null,null,null,null,null,null,null,null,null,null,null,null,null,null,null,null,null,null,null,null,null,null,null,null,null,null,null,"UF","Universidad de Florida"]
[null,null,null,null,null,null,null,null,null,null,null,null,null,null,null,null,null,null,null,null,null,null,null,null,null,null,null,null,"UniGie","Universidad de Giessen"]
[null,null,null,null,null,null,null,null,null,null,null,null,null,null,null,null,null,null,null,null,null,null,null,null,null,null,null,null,"UNIBAGUE","Universidad de Ibague"]
[null,null,null,null,null,null,null,null,null,null,null,null,null,null,null,null,null,null,null,null,null,null,null,null,null,null,null,null,"UDES","Universidad de La Sabana"]
[null,null,null,null,null,null,null,null,null,null,null,null,null,null,null,null,null,null,null,null,null,null,null,null,null,null,null,null,"UDO - NS","Universidad de Oriente - Núcleo de Sucre"]
[null,null,null,null,null,null,null,null,null,null,null,null,null,null,null,null,null,null,null,null,null,null,null,null,null,null,null,null,"UNIGUAJIRA","Universidad de la Guajira"]
[null,null,null,null,null,null,null,null,null,null,null,null,null,null,null,null,null,null,null,null,null,null,null,null,null,null,null,null,"UniMagdalena","Universidad del Magdalena"]
[null,null,null,null,null,null,null,null,null,null,null,null,null,null,null,null,null,null,null,null,null,null,null,null,null,null,null,null,"UNINORTE","Universidad del Norte"]
[null,null,null,null,null,null,null,null,null,null,null,null,null,null,null,null,null,null,null,null,null,null,null,null,null,null,null,null,"UPacifico","Universidad del Pacífico"]
[null,null,null,null,null,null,null,null,null,null,null,null,null,null,null,null,null,null,null,null,null,null,null,null,null,null,null,null,"UT","Universidad del Tolima"]
[null,null,null,null,null,null,null,null,null,null,null,null,null,null,null,null,null,null,null,null,null,null,null,null,null,null,null,null,"UNIVALLE","Universidad del Valle"]
[null,null,null,null,null,null,null,null,null,null,null,null,null,null,null,null,null,null,null,null,null,null,null,null,null,null,null,null,"UC","Universidae do Cerá, Estaçao de Biologia Marinha"]
[null,null,null,null,null,null,null,null,null,null,null,null,null,null,null,null,null,null,null,null,null,null,null,null,null,null,null,null,"UNH","University of New Hampshire"]
[null,null,null,null,null,null,null,null,null,null,null,null,null,null,null,null,null,null,null,null,null,null,null,null,null,null,null,null,"UM Francia","Université de Montpellier"]
[null,null,null,null,null,null,null,null,null,null,null,null,null,null,null,null,null,null,null,null,null,null,null,null,null,null,null,null,"VIMS-SI","Virginia Institute of Marine Science / Smithsonian Institution"]
[null,null,null,null,null,null,null,null,null,null,null,null,null,null,null,null,null,null,null,null,null,null,null,null,null,null,null,null,"WCS","Wildlife Conservation Society"]

{"sheet":"referentes_original","index":6,"n_rows":415,"n_cols":30,"rows_kept":415,"cut":false,"hidden":false,"merged":[[0,28,0,29]]}
[null,null,null,null,null,null,null,null,null,"cod_letras","descripcion","clave_sibm","phylum","clase","orden","familia","genero",null,{"$f":"COLUMN()","v":19},"prefifo","consecutivo","descipcion","lugar"]
[null,null,null,"CA","Caido",null,8,"Tronco",null,"AB","Avicennia bicolor","2040.55.687","Tracheophyta",null,null,"VERBENACEAE",null,null,56831,"4718921PFAU1P",1,null,"CNG-01",null,3546,"Administrador SIGMA"]
[null,null,null,"CO","Cortado",null,7,"Rama",null,"AG","Avicennia germinans","2040.55.685","Tracheophyta",null,null,"VERBENACEAE",null,null,56832,"4718921PFAU1P",2,null,"CNG-02",null,3444,"Alexandra Rodríguez",null,null,"AD Pto. Moin C.R.","Administración Desarrollo Complejo Portuario  Limón Moin Costa Rica"]
[null,null,null,"ME","Mal Estado",null,null,null,null,"CE","Conocarpus erectus","2040.55.293","Tracheophyta",null,null,"VERBENACEAE",null,null,56833,"4718921PFAU1P",3,null,"CNG-03",null,8258,"Daniel Fernando Jiménez Rincón",null,null,"ANADARKO","Anadarko Colombia Company"]
[null,null,null,"NA","No Asignado",null,null,null,null,"EA","Eugenia Acapulcensis","2040.55.1534","Tracheophyta","ROSOPSIDA","MYRTALES","MYRTACEAE","EUGENIA",null,56731,"4718921PFISP",1,null,"CNG-PFISP1",null,8378,"David Alejandro Navarrete Rodríguez",null,null,"AQUABIOSFERA","Aquabiosfera SAS"]
[null,null,null,"PA","Partido",null,null,null,null,"FS","Ficus","2040.46.20406","Tracheophyta","ROSOPSIDA","ROSALES","MORACEAE","FICUS",null,56732,"4718921PFISP",2,null,"CNG-PFISP2",null,4918,"Edgar Fernando Dorado Roncancio",null,null,"CALIDRIS","Asociación Calidris"]
[null,null,null,"VI","Vivo",null,null,null,null,"FT","Ficus Tonduzii   ","2040.55.1536","Tracheophyta","ROSOPSIDA","ROSALES","MORACEAE","FICUS",null,56733,"4718921PFISP",3,null,"CNG-PFISP3",null,3403,"Eliana Marcela Barrios Vasquez",null,null,"ASOCARS","Asociación de Corporaciones Autónomas Regionales"]
[null,null,null,"NE","No Encontrado",null,null,null,null,"LR","Laguncularia racemosa","2040.55.290","Tracheophyta",null,null,"COMBRETACEAE",null,null,56840,"2357431PFAU1P",1,null,"CR-01",null,7840,"Fair Fernando Dager Osorio",null,null,"ANLA","Autoridad Nacional de Licencias Ambientales"]
[null,null,null,"MU","Muerto",null,null,null,null,"MM","Mora oleifera","2040.55.507","Tracheophyta",null,null,"Caesalpiniaceae",null,null,56841,"2357431PFAU1P",2,null,"CR-02",null,5685,"Henry Fabian Bustos Ordoñez",null,null,"ARAP","Autoridad de Recursos Acuáticos de Panamá"]
[null,null,null,null,null,null,null,null,null,"PR","Pelliciera rhizophorae","2040.55.532","Tracheophyta",null,null,"Rhizophoraceae",null,null,56842,"2357431PFAU1P",3,null,"CR-03",null,7841,"Jean David Varilla Gonzalez",null,null,"CWOP","Caribbean-Wide Orca Project"]
[null,null,null,null,null,null,null,null,null,"RH","Rhizophora harrisonii","2040.55.1509","Tracheophyta",null,null,"Rhizophoraceae",null,null,56740,"2357431PFISP",1,null,"CTRY-PFISP1",null,8277,"Jeffry Bolaños",null,null,"CEAC","Centro de Estudios Ambientales de Cienfuegos"]
[null,null,null,null,null,null,null,null,null,"RM","Rhizophora mangle","2040.55.325","Tracheophyta","Magnoliopsida ",null,"RIZOPHORACEAE",null,null,56741,"2357431PFISP",2,null,"CTRY-PFISP2",null,8263,"Johan Casadiego Estévez",null,null,"CECIMAR","Centro de Estudios en Ciencias del Mar - Universidad Nacional"]
[null,null,null,null,null,null,null,null,null,"RR","Rhizophora racemosa","2040.55.326","Tracheophyta",null,null,"Rhizophoraceae",null,null,56742,"2357431PFISP",3,null,"CTRY-PFISP3",null,7141,"Juan Camilo Rodríguez Atara",null,null,"CIEMAT","Centro de Investigaciones Energéticas, Medioambientales y Tecnológicas"]
[null,null,null,null,null,null,null,null,null,"RS","Rhizophora sp.","2040.46.710","Tracheophyta","Rosopsida","Rhizophorales","Rhizophoraceae",null,null,56828,"4400113PFAU1P",1,null,"LEN-01",null,8264,"Juan Fernando Cortina Munera",null,null,"CIOH","Centro de Investigaciones Oceanográficas e Hidrográficas"]
[null,null,null,null,null,null,null,null,null,"SA","Otras Especies asociadas",null,"Tracheophyta",null,null,null,null,null,56829,"4400113PFAU1P",2,null,"LEN-02",null,8217,"Juan Lazarus",null,null,"C.C.C.P.","Centro de Investigaciones Oceanográficas e Hidrográficas del Pacífico"]
[null,null,null,null,null,null,null,null,null,"SE","Sp. manglar","2040.5.2040","Tracheophyta",null,null,"Sin especificiar",null,null,56830,"4400113PFAU1P",3,null,"LEN-03",null,8265,"Kevin Samuel Moreno",null,null,"CEINER","Centro de Investigación Educación y Recreación Islas del Rosario"]
[null,null,null,null,null,null,null,null,null,"TC","Terminalia catappa",null,"Tracheophyta","Equisetopsida","MYRTALES","COMBRETACEAE","Terminalia",null,56846,"0583739PFAU1P",1,null,"LMT-01",null,8377,"Lady Liliana Espinosa Leal",null,null,"CIRA","Centro de Investigación de los Recursos Acuáticos de Nicaragua (CIRA)"]
[null,null,null,null,null,null,null,null,null,null,null,null,null,null,null,null,null,null,56847,"0583739PFAU1P",2,null,"LMT-02",null,7757,"Laura  Martínez Lacharme",null,null,"CICA","Centro de Investigación en Contaminación Ambiental"]
[null,null,null,null,null,null,null,null,null,null,null,null,null,null,null,null,null,null,56848,"0583739PFAU1P",3,null,"LMT-03",null,4227,"Laura Sanchez Valencia",null,null,"CRBMUV","Colección de Referencia Biología Marina Universidad del Valle"]
[null,null,null,null,null,null,null,null,null,null,null,null,null,null,null,null,null,null,56728,"4400113PFISP",1,null,"LNA-PFISP1",null,3281,"Leonardo José Arias Alemán (2022)",null,null,"Coleccion_Personal","Colección personal"]
[null,null,null,null,null,null,null,null,null,null,null,null,null,null,null,null,null,null,56729,"4400113PFISP",2,null,"LNA-PFISP2",null,8099,"Marco Elias Gonzalez Arteaga",null,null,"CPPS","Comisión Permanente del Pacífico Sur"]
[null,null,null,null,null,null,null,null,null,null,null,null,null,null,null,null,null,null,56730,"4400113PFISP",3,null,"LNA-PFISP3",null,7197,"Miller Jose Florian Sanchez",null,null,"CI","Conservación Internacional Colombia "]
[null,null,null,null,null,null,null,null,null,null,null,null,null,null,null,null,null,null,56746,"0583739PFISP",1,null,"MRT-PFISP1",null,8262,"Paula Andrea López Muñoz",null,null,"CONSULTOR","Consultor independiente "]
[null,null,null,null,null,null,null,null,null,null,null,null,null,null,null,null,null,null,56747,"0583739PFISP",2,null,"MRT-PFISP2",null,8297,"SARAH DANIELA VELASCO MARULANDA",null,null,"CMS","Consultoria y Monitoreo Ambiental"]
[null,null,null,null,null,null,null,null,null,null,null,null,null,null,null,null,null,null,56748,"0583739PFISP",3,null,"MRT-PFISP3",null,5745,"Sara Eilyn Guzman Henao",null,null,"CVC","Corporacion  Autonoma Regional del Valle del Cauca"]
[null,null,null,null,null,null,null,null,null,null,null,null,null,null,null,null,null,null,56737,"2367246PFISP",1,null,"PBL-PFISP1",null,8266,"Zulay Saudith González Herrera",null,null,"CORPONARIÑO","Corporacion Autonoma Regional de Nariño"]
[null,null,null,null,null,null,null,null,null,null,null,null,null,null,null,null,null,null,56738,"2367246PFISP",2,null,"PBL-PFISP2",null,null,null,null,null,"CARSUCRE","Corporacion Autonoma Regional de Sucre"]
[null,null,null,null,null,null,null,null,null,null,null,null,null,null,null,null,null,null,56739,"2367246PFISP",3,null,"PBL-PFISP3",null,null,null,null,null,"CRA","Corporacion Autonoma Regional del Atlàntico"]
[null,null,null,null,null,null,null,null,null,null,null,null,null,null,null,null,null,null,56837,"2367246PFAU1P",1,null,"PLB-01",null,null,null,null,null,"CARDIQUE","Corporacion Autonoma Regional del Canal del Dique"]
[null,null,null,null,null,null,null,null,null,null,null,null,null,null,null,null,null,null,56838,"2367246PFAU1P",2,null,"PLB-02",null,null,null,null,null,"CRC","Corporacion Autonoma Regional del Cauca"]
[null,null,null,null,null,null,null,null,null,null,null,null,null,null,null,null,null,null,56839,"2367246PFAU1P",3,null,"PLB-03",null,null,null,null,null,"CODECHOCO","Corporacion para el Desarrollo Sostenible del Choco"]
[null,null,null,null,null,null,null,null,null,null,null,null,null,null,null,null,null,null,56834,"4757022PFAU1P",1,null,"PV-01",null,null,null,null,null,"CORPOGUAJIRA","Corporación Autónoma Regional de la Guajira"]
[null,null,null,null,null,null,null,null,null,null,null,null,null,null,null,null,null,null,56835,"4757022PFAU1P",2,null,"PV-02",null,null,null,null,null,"CORALINA","Corporación Autónoma Regional de las Islas de San Andrés, Providencia y Santa Catalina"]
[null,null,null,null,null,null,null,null,null,null,null,null,null,null,null,null,null,null,56836,"4757022PFAU1P",3,null,"PV-03",null,null,null,null,null,"CORPAMAG","Corporación Autónoma Regional del Magdalena"]
[null,null,null,null,null,null,null,null,null,null,null,null,null,null,null,null,null,null,56734,"4757022PFISP",1,null,"PVJ-PFISP1",null,null,null,null,null,"CORPOURABA","Corporación Autónoma Regional del Uraba"]
[null,null,null,null,null,null,null,null,null,null,null,null,null,null,null,null,null,null,56735,"4757022PFISP",2,null,"PVJ-PFISP2",null,null,null,null,null,"CVC-UNPA","Corporación Autónoma Regional del Valle del Cauca-Universidad del Pacifico"]
[null,null,null,null,null,null,null,null,null,null,null,null,null,null,null,null,null,null,56736,"4757022PFISP",3,null,"PVJ-PFISP3",null,null,null,null,null,"CORALINA OMACHA","Corporación Coralina - Fundación Omacha"]
[null,null,null,null,null,null,null,null,null,null,null,null,null,null,null,null,null,null,56825,"4400112PFAU1P",1,null,"RH-01",null,null,null,null,null,"CORPOURABA - OMACHA","Corporación Corpouraba - Fundación Omacha"]
[null,null,null,null,null,null,null,null,null,null,null,null,null,null,null,null,null,null,56826,"4400112PFAU1P",2,null,"RH-02",null,null,null,null,null,"CVS","Corporación Regional de Valle del Sinu y San Jorge"]
[null,null,null,null,null,null,null,null,null,null,null,null,null,null,null,null,null,null,56827,"4400112PFAU1P",3,null,"RH-03",null,null,null,null,null,"DADSA","DEPARTAMENT0 ADMiNISTRATIVO DISTRITAL DE SOSTENIBILIDAD AMBIENTAL"]
[null,null,null,null,null,null,null,null,null,null,null,null,null,null,null,null,null,null,56725,"4400112PFISP",1,null,"RH-PFISP1",null,null,null,null,null,"DAMARENA","Departamento Administrativo del Medio Ambiente de Cartagena -  EPA Cartagena"]
[null,null,null,null,null,null,null,null,null,null,null,null,null,null,null,null,null,null,56726,"4400112PFISP",2,null,"RH-PFISP2",null,null,null,null,null,"DAMAB","Departamento Técnico Administrativo del Medio Ambiente Barranquilla"]
[null,null,null,null,null,null,null,null,null,null,null,null,null,null,null,null,null,null,56727,"4400112PFISP",3,null,"RH-PFISP3",null,null,null,null,null,"DIMAR","Dirección General Maritima"]
[null,null,null,null,null,null,null,null,null,null,null,null,null,null,null,null,null,null,56843,"0565934PFAU1P",1,null,"UV-DM-01",null,null,null,null,null,"ECOREEF","ECOREEF Colombia LTDA"]
[null,null,null,null,null,null,null,null,null,null,null,null,null,null,null,null,null,null,56844,"0565934PFAU1P",2,null,"UV-DM-02",null,null,null,null,null,"ETH Zurich","EIDGENÖSSISCHE TECHNISCHE HOCHSCHULE ZÜRICH (Politécnico)\r\r\nEIDGENÖSSISCHE TECHNISCHE HOCHSCHULE ZÜRICH"]
[null,null,null,null,null,null,null,null,null,null,null,null,null,null,null,null,null,null,56845,"0565934PFAU1P",3,null,"UV-DM-03",null,null,null,null,null,"ECOMAR","Ecomar Consultoría  Ambiental S.A.S."]
[null,null,null,null,null,null,null,null,null,null,null,null,null,null,null,null,null,null,56743,"0565934PFISP",1,null,"UVD-PFISP1",null,null,null,null,null,"EPA BUENAVENTURA","Entidad Publica Ambiental Buenaventura"]
[null,null,null,null,null,null,null,null,null,null,null,null,null,null,null,null,null,null,56744,"0565934PFISP",2,null,"UVD-PFISP2",null,null,null,null,null,"EPA","Entidad Publica Ambiental Cartagena"]
[null,null,null,null,null,null,null,null,null,null,null,null,null,null,null,null,null,null,56745,"0565934PFISP",3,null,"UVD-PFISP3",null,null,null,null,null,"ZOOCALI","FUNDACIÓN ZOOLÓGICA DE CALI"]
[null,null,null,null,null,null,null,null,null,null,null,null,null,null,null,null,null,null,55987,"BCTAS_P1",2709,null,"BAHIA COCINETAS PARCELA1",null,null,null,null,null,"Fundabas","Fundacion Para El Desarrollo De La Biologia Aplicada"]
[null,null,null,null,null,null,null,null,null,null,null,null,null,null,null,null,null,null,55988,"BCTAS_P2",2710,null,"BAHIA COCINETAS PARCELA2",null,null,null,null,null,"F. Bucea Colombia","Fundación Bucea Colombia"]
[null,null,null,null,null,null,null,null,null,null,null,null,null,null,null,null,null,null,55989,"BCTAS_P3",2711,null,"BAHIA COCINETAS PARCELA3",null,null,null,null,null,"F.CORALES","Fundación Corales de Paz"]
[null,null,null,null,null,null,null,null,null,null,null,null,null,null,null,null,null,null,56693,"BUNO_P1",2799,null,"BAHIA EL UNO PARCELA1",null,null,null,null,null,"F. Malpelo","Fundación Malpelo / Marviva"]
[null,null,null,null,null,null,null,null,null,null,null,null,null,null,null,null,null,null,56694,"BUNO_P2",2800,null,"BAHIA EL UNO PARCELA2",null,null,null,null,null,"OMACHA","Fundación Omacha"]
[null,null,null,null,null,null,null,null,null,null,null,null,null,null,null,null,null,null,56695,"BUNO_P3",2801,null,"BAHIA EL UNO PARCELA3",null,null,null,null,null,"OMACHA - OFM","Fundación Omacha - Observadores Fauna Marina"]
[null,null,null,null,null,null,null,null,null,null,null,null,null,null,null,null,null,null,55984,"BHTA_P1",2706,null,"BAHIA HONDITA PARCELA1",null,null,null,null,null,"OMACHA - OFM - AQUAB","Fundación Omacha - Observadores Fauna Marina - Aquabiosfera"]
[null,null,null,null,null,null,null,null,null,null,null,null,null,null,null,null,null,null,55985,"BHTA_P2",2707,null,"BAHIA HONDITA PARCELA2",null,null,null,null,null,"Sila Kangama","Fundación Sila Kangama"]
[null,null,null,null,null,null,null,null,null,null,null,null,null,null,null,null,null,null,55986,"BHTA_P3",2708,null,"BAHIA HONDITA PARCELA3",null,null,null,null,null,"CIAA-UJTL","Fundación Universidad Jorge Tadeo Lozano - Centro de Investigaciones y Asesorías Agroindustriales,"]
[null,null,null,null,null,null,null,null,null,null,null,null,null,null,null,null,null,null,55990,"BTKAS_P1",2712,null,"BAHIA TUKAKAS PARCELA1",null,null,null,null,null,"UJTL","Fundación Universidad de Bogotá Jorge Tadeo Lozano"]
[null,null,null,null,null,null,null,null,null,null,null,null,null,null,null,null,null,null,55991,"BTKAS_P2",2713,null,"BAHIA TUKAKAS PARCELA2",null,null,null,null,null,"CERG","Geochemical & Environmental Research Group"]
[null,null,null,null,null,null,null,null,null,null,null,null,null,null,null,null,null,null,55992,"BTKAS_P3",2714,null,"BAHIA TUKAKAS PARCELA3",null,null,null,null,null,"IED_San José","INSTITUCIÓN EDUCATIVA DEPARTAMENTAL SAN JOSÉ"]
[null,null,null,null,null,null,null,null,null,null,null,null,null,null,null,null,null,null,55993,"BHTE_P1",2715,null,"BELLO HORIZONTE PARCELA1",null,null,null,null,null,"IRD","Institut de Recherche pour le Developpement"]
[null,null,null,null,null,null,null,null,null,null,null,null,null,null,null,null,null,null,55994,"BHTE_P2",2716,null,"BELLO HORIZONTE PARCELA2",null,null,null,null,null,"COLCIENCIAS","Instituto Colombiano para el Desarrollo de la Ciencia y la Tecnología"]
[null,null,null,null,null,null,null,null,null,null,null,null,null,null,null,null,null,null,55995,"BHTE_P3",2717,null,"BELLO HORIZONTE PARCELA3",null,null,null,null,null,"ICAL","Instituto Colombo Alemán de Investigaciones Científicas de Punta de Betín"]
[null,null,null,null,null,null,null,null,null,null,null,null,null,null,null,null,null,null,56559,"BATRA_P1",2790,null,"BOCAS DEL ATRATO PARCELA1",null,null,null,null,null,"INVEMAR - OMACHA","Instituto INVEMAR - Fundación Omacha"]
[null,null,null,null,null,null,null,null,null,null,null,null,null,null,null,null,null,null,56560,"BATRA_P2",2791,null,"BOCAS DEL ATRATO PARCELA2",null,null,null,null,null,"INDERENA","Instituto Nacional de los Recursos Naturales Renovables y del Ambiente"]
[null,null,null,null,null,null,null,null,null,null,null,null,null,null,null,null,null,null,56561,"BATRA_P3",2792,null,"BOCAS DEL ATRATO PARCELA3",null,null,null,null,null,"ICML","Instituto de Ciencias del Mar y Limnología (ICML)"]
[null,null,null,null,null,null,null,null,null,null,null,null,null,null,null,null,null,null,56041,"BMTGO_P1",2763,null,"BRAZO MATUNTUGO PARCELA1",null,null,null,null,null,"IIAP","Instituto de Investigaciones Ambientales del Pacifico"]
[null,null,null,null,null,null,null,null,null,null,null,null,null,null,null,null,null,null,56042,"BMTGO_P2",2764,null,"BRAZO MATUNTUGO PARCELA2",null,null,null,null,null,"INVEMAR","Instituto de Investigaciones Marinas y Costeras"]
[null,null,null,null,null,null,null,null,null,null,null,null,null,null,null,null,null,null,56043,"BMTGO_P3",2765,null,"BRAZO MATUNTUGO PARCELA3",null,null,null,null,null,"INVEMAR-AGR","Instituto de Investigaciones Marinas y Costeras - AGR"]
[null,null,null,null,null,null,null,null,null,null,null,null,null,null,null,null,null,null,56029,"BQLES_P1",2751,null,"BROQUELES PARCELA1",null,null,null,null,null,"INVEMAR-BVT","Instituto de Investigaciones Marinas y Costeras - BVT"]
[null,null,null,null,null,null,null,null,null,null,null,null,null,null,null,null,null,null,56030,"BQLES_P2",2752,null,"BROQUELES PARCELA2",null,null,null,null,null,"INVEMAR-CPT","Instituto de Investigaciones Marinas y Costeras - CPT"]
[null,null,null,null,null,null,null,null,null,null,null,null,null,null,null,null,null,null,56031,"BQLES_P3",2753,null,"BROQUELES PARCELA3",null,null,null,null,null,"IAvH","Instituto de Investigación Recursos Biológicos Alexander von Humboldt"]
[null,null,null,null,null,null,null,null,null,null,null,null,null,null,null,null,null,null,56002,"BVTA1_P1",2724,null,"BUENAVISTA1 PARCELA1",null,null,null,null,null,"IDO_Cuba","Instituto de Oceanologia Cuba"]
[null,null,null,null,null,null,null,null,null,null,null,null,null,null,null,null,null,null,56003,"BVTA1_P2",2725,null,"BUENAVISTA1 PARCELA2",null,null,null,null,null,"IATTC","Inter-American Tropical Tuna Commission"]
[null,null,null,null,null,null,null,null,null,null,null,null,null,null,null,null,null,null,56004,"BVTA1_P3",2726,null,"BUENAVISTA1 PARCELA3",null,null,null,null,null,"LABORMAR","Laboratorio Microbiológico Ortiz Martinez "]
[null,null,null,null,null,null,null,null,null,null,null,null,null,null,null,null,null,null,56005,"BVTA2_P4",2727,null,"BUENAVISTA2 PARCELA4",null,null,null,null,null,"Literature report","Literature report"]
[null,null,null,null,null,null,null,null,null,null,null,null,null,null,null,null,null,null,56006,"BVTA2_P5",2728,null,"BUENAVISTA2 PARCELA5",null,null,null,null,null,"MCS Consultoría","MCS Consultoría y Monitoreo ambiental S.A.S"]
[null,null,null,null,null,null,null,null,null,null,null,null,null,null,null,null,null,null,56007,"BVTA2_P6",2729,null,"BUENAVISTA2 PARCELA6",null,null,null,null,null,"MAKARELA","Makarela S.A.S"]
[null,null,null,null,null,null,null,null,null,null,null,null,null,null,null,null,null,null,56552,"CRA_P01",2784,null,"CAMARONERA PARCELA1",null,null,null,null,null,"MHNMC","Makuriwa - Museo de Historia Natural Marina de Colombia"]
[null,null,null,null,null,null,null,null,null,null,null,null,null,null,null,null,null,null,56553,"CRA_P02",2785,null,"CAMARONERA PARCELA2",null,null,null,null,null,"MMU","Manchester Metropolitan University"]
[null,null,null,null,null,null,null,null,null,null,null,null,null,null,null,null,null,null,56554,"CRA_P03",2786,null,"CAMARONERA PARCELA3",null,null,null,null,null,"M_P","Marine & Port Consultants"]
[null,null,null,null,null,null,null,null,null,null,null,null,null,null,null,null,null,null,57167,"0549037MANG1P",1,null,"CNJO_P1",null,null,null,null,null,"IAEA-MEL","Marine Environment Laboratories"]
[null,null,null,null,null,null,null,null,null,null,null,null,null,null,null,null,null,null,57165,"0549037MANG1P",2,null,"CNJO_P2",null,null,null,null,null,"MINCIENCIAS","Ministerio de Ciencia, Tecnología e Innovación"]
[null,null,null,null,null,null,null,null,null,null,null,null,null,null,null,null,null,null,57166,"0549037MANG1P",3,null,"CNJO_P3",null,null,null,null,null,"MA","Ministerio del Ambiente Haiti"]
[null,null,null,null,null,null,null,null,null,null,null,null,null,null,null,null,null,null,56023,"CREY_P1",2745,null,"CRISTO REY PARCELA1",null,null,null,null,null,"MADS","Ministerio del Ambiente y Desarrollo Sostenible"]
[null,null,null,null,null,null,null,null,null,null,null,null,null,null,null,null,null,null,56024,"CREY_P2",2746,null,"CRISTO REY PARCELA2",null,null,null,null,null,"MINAMBIENTE","Ministerio del Ambiente y Desarrollo Sostenible"]
[null,null,null,null,null,null,null,null,null,null,null,null,null,null,null,null,null,null,56025,"CREY_P3",2747,null,"CRISTO REY PARCELA3",null,null,null,null,null,"MHN-UC","Museo Historia Natural Universidad del Cauca"]
[null,null,null,null,null,null,null,null,null,null,null,null,null,null,null,null,null,null,56047,"CLAO_P1",2769,null,"CURRULAO PARCELA1",null,null,null,null,null,"MZUSP","Museu de Zoologia da Universidade de São Paulo"]
[null,null,null,null,null,null,null,null,null,null,null,null,null,null,null,null,null,null,56048,"CLAO_P2",2770,null,"CURRULAO PARCELA2",null,null,null,null,null,"NOAA FISHERIES","NOAA Southwest Fisheries Science Center"]
[null,null,null,null,null,null,null,null,null,null,null,null,null,null,null,null,null,null,56049,"CLAO_P3",2771,null,"CURRULAO PARCELA3",null,null,null,null,null,"NEPA","National Environment and Planning Agency"]
[null,null,null,null,null,null,null,null,null,null,null,null,null,null,null,null,null,null,56186,"CRZ",null,null,"Carrizal",null,null,null,null,null,"NOAA","National Oceanic and Atmospheric Administration"]
[null,null,null,null,null,null,null,null,null,null,null,null,null,null,null,null,null,null,56243,"4718921PVEG1P",1,null,"Ciénaga P1",null,null,null,null,null,"OBIMAR","OBIMAR. Empresa Portuaria Quetzal"]
[null,null,null,null,null,null,null,null,null,null,null,null,null,null,null,null,null,null,56252,"4718921PVEG1P",10,null,"Ciénaga P10",null,null,null,null,null,"OBIS-SEAMAP","OBIS-SEAMAP"]
[null,null,null,null,null,null,null,null,null,null,null,null,null,null,null,null,null,null,56253,"4718921PVEG1P",11,null,"Ciénaga P11",null,null,null,null,null,"OBIS","Ocean Biogeographic Information System"]
[null,null,null,null,null,null,null,null,null,null,null,null,null,null,null,null,null,null,56254,"4718921PVEG1P",12,null,"Ciénaga P12",null,null,null,null,null,"OIR","Oceanario de las Islas del Rosario - CEINER"]
[null,null,null,null,null,null,null,null,null,null,null,null,null,null,null,null,null,null,56255,"4718921PVEG1P",13,null,"Ciénaga P13",null,null,null,null,null,"OIEA","Orgánismo Internacional de Energía Atómica"]
[null,null,null,null,null,null,null,null,null,null,null,null,null,null,null,null,null,null,56256,"4718921PVEG1P",14,null,"Ciénaga P14",null,null,null,null,null,"PNN_GORGONA","Parque Nacional Natural Gorgona"]
[null,null,null,null,null,null,null,null,null,null,null,null,null,null,null,null,null,null,56257,"4718921PVEG1P",15,null,"Ciénaga P15",null,null,null,null,null,"UAESPNN","Parques Nacionales Naturales de Colombia"]
[null,null,null,null,null,null,null,null,null,null,null,null,null,null,null,null,null,null,56258,"4718921PVEG1P",16,null,"Ciénaga P16",null,null,null,null,null,"PNN","Parques Nacionales Naturales de Colombia "]
[null,null,null,null,null,null,null,null,null,null,null,null,null,null,null,null,null,null,56259,"4718921PVEG1P",17,null,"Ciénaga P17",null,null,null,null,null,"PARTICULAR","Particular"]
[null,null,null,null,null,null,null,null,null,null,null,null,null,null,null,null,null,null,56260,"4718921PVEG1P",18,null,"Ciénaga P18",null,null,null,null,null,"PUJ","Pontificia Universidad Javeriana"]
[null,null,null,null,null,null,null,null,null,null,null,null,null,null,null,null,null,null,56261,"4718921PVEG1P",19,null,"Ciénaga P19",null,null,null,null,null,"RAC-CIMAB","RAC-CIMAB"]
[null,null,null,null,null,null,null,null,null,null,null,null,null,null,null,null,null,null,56244,"4718921PVEG1P",2,null,"Ciénaga P2",null,null,null,null,null,"REPSOL","Repsol Exploración Colombia S.A."]
[null,null,null,null,null,null,null,null,null,null,null,null,null,null,null,null,null,null,56262,"4718921PVEG1P",20,null,"Ciénaga P20",null,null,null,null,null,"SERNA","Secretaría de Recursos Naturales y Ambiente (SERNA)/Centro de Estudios y Control de Contaminantes (CESCCO)"]
[null,null,null,null,null,null,null,null,null,null,null,null,null,null,null,null,null,null,56245,"4718921PVEG1P",3,null,"Ciénaga P3",null,null,null,null,null,"SERAMBIENTE","Servicios de Ingeniería Ambiental"]
[null,null,null,null,null,null,null,null,null,null,null,null,null,null,null,null,null,null,56246,"4718921PVEG1P",4,null,"Ciénaga P4",null,null,null,null,null,"SEPC","Shell Exploration & Production Colombia GMBH"]
[null,null,null,null,null,null,null,null,null,null,null,null,null,null,null,null,null,null,56247,"4718921PVEG1P",5,null,"Ciénaga P5",null,null,null,null,null,"NMHN Smithsonian","Smithsonian Institution"]
[null,null,null,null,null,null,null,null,null,null,null,null,null,null,null,null,null,null,56248,"4718921PVEG1P",6,null,"Ciénaga P6",null,null,null,null,null,"SPRC - CNR","Sociedad Portuaria Rio Cordoba - Colombian Natural Resources S.A.S."]
[null,null,null,null,null,null,null,null,null,null,null,null,null,null,null,null,null,null,56249,"4718921PVEG1P",7,null,"Ciénaga P7",null,null,null,null,null,"SPSM","Sociedad Portuaria de Santa Marta"]
[null,null,null,null,null,null,null,null,null,null,null,null,null,null,null,null,null,null,56250,"4718921PVEG1P",8,null,"Ciénaga P8",null,null,null,null,null,"UPR Humacao","UNIVERSIDAD DE PUERTO RICO EN HUMACAO"]
[null,null,null,null,null,null,null,null,null,null,null,null,null,null,null,null,null,null,56251,"4718921PVEG1P",9,null,"Ciénaga P9",null,null,null,null,null,"UR Camelia, IRD","UR Camelia, IRD"]
[null,null,null,null,null,null,null,null,null,null,null,null,null,null,null,null,null,null,57145,"2357431PVEG1P",1,null,"Cristo Rey P1",null,null,null,null,null,"UNEP CAR/RCU","United Nations Environment Programme - Caribbean Regional Coordinating Unit"]
[null,null,null,null,null,null,null,null,null,null,null,null,null,null,null,null,null,null,57154,"2357431PVEG1P",10,null,"Cristo Rey P10",null,null,null,null,null,"UASD","Universidad Autónoma de Santo Domingo"]
[null,null,null,null,null,null,null,null,null,null,null,null,null,null,null,null,null,null,57155,"2357431PVEG1P",11,null,"Cristo Rey P11",null,null,null,null,null,"UFB","Universidad Federal de Bahía"]
[null,null,null,null,null,null,null,null,null,null,null,null,null,null,null,null,null,null,57156,"2357431PVEG1P",12,null,"Cristo Rey P12",null,null,null,null,null,"UJTL-MM","Universidad Jorje Tadeo Lozano-Museo del Mar"]
[null,null,null,null,null,null,null,null,null,null,null,null,null,null,null,null,null,null,57157,"2357431PVEG1P",13,null,"Cristo Rey P13",null,null,null,null,null,"UNMSM","Universidad Nacional Mayor de San Marcos"]
[null,null,null,null,null,null,null,null,null,null,null,null,null,null,null,null,null,null,57158,"2357431PVEG1P",14,null,"Cristo Rey P14",null,null,null,null,null,"UNal","Universidad Nacional de Colombia"]
[null,null,null,null,null,null,null,null,null,null,null,null,null,null,null,null,null,null,57159,"2357431PVEG1P",15,null,"Cristo Rey P15",null,null,null,null,null,"USB","Universidad Simón Bolivar"]
[null,null,null,null,null,null,null,null,null,null,null,null,null,null,null,null,null,null,57160,"2357431PVEG1P",16,null,"Cristo Rey P16",null,null,null,null,null,"UDEA","Universidad de Antioquia"]
[null,null,null,null,null,null,null,null,null,null,null,null,null,null,null,null,null,null,57161,"2357431PVEG1P",17,null,"Cristo Rey P17",null,null,null,null,null,"UJTL-FCM","Universidad de Bogotá Jorge Tadeo Lozano, Fac. de Ciencias Naturales e Ingenieria"]
[null,null,null,null,null,null,null,null,null,null,null,null,null,null,null,null,null,null,57162,"2357431PVEG1P",18,null,"Cristo Rey P18",null,null,null,null,null,"UCartagena","Universidad de Cartagena"]
[null,null,null,null,null,null,null,null,null,null,null,null,null,null,null,null,null,null,57163,"2357431PVEG1P",19,null,"Cristo Rey P19",null,null,null,null,null,"UCO","Universidad de Córdoba"]
[null,null,null,null,null,null,null,null,null,null,null,null,null,null,null,null,null,null,57146,"2357431PVEG1P",2,null,"Cristo Rey P2",null,null,null,null,null,"UF","Universidad de Florida"]
[null,null,null,null,null,null,null,null,null,null,null,null,null,null,null,null,null,null,57164,"2357431PVEG1P",20,null,"Cristo Rey P20",null,null,null,null,null,"UniGie","Universidad de Giessen"]
[null,null,null,null,null,null,null,null,null,null,null,null,null,null,null,null,null,null,57147,"2357431PVEG1P",3,null,"Cristo Rey P3",null,null,null,null,null,"UNIBAGUE","Universidad de Ibague"]
[null,null,null,null,null,null,null,null,null,null,null,null,null,null,null,null,null,null,57148,"2357431PVEG1P",4,null,"Cristo Rey P4",null,null,null,null,null,"UDES","Universidad de La Sabana"]
[null,null,null,null,null,null,null,null,null,null,null,null,null,null,null,null,null,null,57149,"2357431PVEG1P",5,null,"Cristo Rey P5",null,null,null,null,null,"UDO - NS","Universidad de Oriente - Núcleo de Sucre"]
[null,null,null,null,null,null,null,null,null,null,null,null,null,null,null,null,null,null,57150,"2357431PVEG1P",6,null,"Cristo Rey P6",null,null,null,null,null,"UNIGUAJIRA","Universidad de la Guajira"]
[null,null,null,null,null,null,null,null,null,null,null,null,null,null,null,null,null,null,57151,"2357431PVEG1P",7,null,"Cristo Rey P7",null,null,null,null,null,"UniMagdalena","Universidad del Magdalena"]
[null,null,null,null,null,null,null,null,null,null,null,null,null,null,null,null,null,null,57152,"2357431PVEG1P",8,null,"Cristo Rey P8",null,null,null,null,null,"UPacifico","Universidad del Pacífico"]
[null,null,null,null,null,null,null,null,null,null,null,null,null,null,null,null,null,null,57153,"2357431PVEG1P",9,null,"Cristo Rey P9",null,null,null,null,null,"UT","Universidad del Tolima"]
[null,null,null,null,null,null,null,null,null,null,null,null,null,null,null,null,null,null,55996,"DBLLA1_P1",2718,null,"DIBULLA1 PARCELA1",null,null,null,null,null,"UNIVALLE","Universidad del Valle"]
[null,null,null,null,null,null,null,null,null,null,null,null,null,null,null,null,null,null,55997,"DBLLA1_P2",2719,null,"DIBULLA1 PARCELA2",null,null,null,null,null,"UC","Universidae do Cerá, Estaçao de Biologia Marinha"]
[null,null,null,null,null,null,null,null,null,null,null,null,null,null,null,null,null,null,55998,"DBLLA1_P3",2720,null,"DIBULLA1 PARCELA3",null,null,null,null,null,"UNH","University of New Hampshire"]
[null,null,null,null,null,null,null,null,null,null,null,null,null,null,null,null,null,null,55999,"DBLLA2_P4",2721,null,"DIBULLA2 PARCELA4",null,null,null,null,null,"UM Francia","Université de Montpellier"]
[null,null,null,null,null,null,null,null,null,null,null,null,null,null,null,null,null,null,56000,"DBLLA2_P5",2722,null,"DIBULLA2 PARCELA5",null,null,null,null,null,"VIMS-SI","Virginia Institute of Marine Science / Smithsonian Institution"]
[null,null,null,null,null,null,null,null,null,null,null,null,null,null,null,null,null,null,56001,"DBLLA2_P6",2723,null,"DIBULLA2 PARCELA6",null,null,null,null,null,"WCS","Wildlife Conservation Society"]
[null,null,null,null,null,null,null,null,null,null,null,null,null,null,null,null,null,null,56054,"ERNGRO_P1",2776,null,"ENSENADA RIONEGRO PARCELA1"]
[null,null,null,null,null,null,null,null,null,null,null,null,null,null,null,null,null,null,56055,"ERNGRO_P2",2777,null,"ENSENADA RIONEGRO PARCELA2"]
[null,null,null,null,null,null,null,null,null,null,null,null,null,null,null,null,null,null,56557,"ERNGRO_P3",2789,null,"ENSENADA RIONEGRO PARCELA3"]
[null,null,null,null,null,null,null,null,null,null,null,null,null,null,null,null,null,null,56014,"ENA1_P1",2736,null,"LA ENEA1 PARCELA1"]
[null,null,null,null,null,null,null,null,null,null,null,null,null,null,null,null,null,null,56015,"ENA1_P2",2737,null,"LA ENEA1 PARCELA2"]
[null,null,null,null,null,null,null,null,null,null,null,null,null,null,null,null,null,null,56016,"ENA1_P3",2738,null,"LA ENEA1 PARCELA3"]
[null,null,null,null,null,null,null,null,null,null,null,null,null,null,null,null,null,null,56017,"ENA2_P4",2739,null,"LA ENEA2 PARCELA4"]
[null,null,null,null,null,null,null,null,null,null,null,null,null,null,null,null,null,null,56018,"ENA2_P5",2740,null,"LA ENEA2 PARCELA5"]
[null,null,null,null,null,null,null,null,null,null,null,null,null,null,null,null,null,null,56019,"ENA2_P6",2741,null,"LA ENEA2 PARCELA6"]
[null,null,null,null,null,null,null,null,null,null,null,null,null,null,null,null,null,null,56035,"LBC_P1",2757,null,"LAGUNA BOCACOREA PARCELA1"]
[null,null,null,null,null,null,null,null,null,null,null,null,null,null,null,null,null,null,56036,"LBC_P2",2758,null,"LAGUNA BOCACOREA PARCELA2"]
[null,null,null,null,null,null,null,null,null,null,null,null,null,null,null,null,null,null,56037,"LBC_P3",2759,null,"LAGUNA BOCACOREA PARCELA3"]
[null,null,null,null,null,null,null,null,null,null,null,null,null,null,null,null,null,null,57104,"4400113PVEG1P",1,null,"La Enea P1"]
[null,null,null,null,null,null,null,null,null,null,null,null,null,null,null,null,null,null,57095,"4400113PVEG1P",10,null,"La Enea P10"]
[null,null,null,null,null,null,null,null,null,null,null,null,null,null,null,null,null,null,57094,"4400113PVEG1P",11,null,"La Enea P11"]
[null,null,null,null,null,null,null,null,null,null,null,null,null,null,null,null,null,null,57093,"4400113PVEG1P",12,null,"La Enea P12"]
[null,null,null,null,null,null,null,null,null,null,null,null,null,null,null,null,null,null,57092,"4400113PVEG1P",13,null,"La Enea P13"]
[null,null,null,null,null,null,null,null,null,null,null,null,null,null,null,null,null,null,57091,"4400113PVEG1P",14,null,"La Enea P14"]
[null,null,null,null,null,null,null,null,null,null,null,null,null,null,null,null,null,null,57090,"4400113PVEG1P",15,null,"La Enea P15"]
[null,null,null,null,null,null,null,null,null,null,null,null,null,null,null,null,null,null,57089,"4400113PVEG1P",16,null,"La Enea P16"]
[null,null,null,null,null,null,null,null,null,null,null,null,null,null,null,null,null,null,57088,"4400113PVEG1P",17,null,"La Enea P17"]
[null,null,null,null,null,null,null,null,null,null,null,null,null,null,null,null,null,null,57087,"4400113PVEG1P",18,null,"La Enea P18"]
[null,null,null,null,null,null,null,null,null,null,null,null,null,null,null,null,null,null,57086,"4400113PVEG1P",19,null,"La Enea P19"]
[null,null,null,null,null,null,null,null,null,null,null,null,null,null,null,null,null,null,57103,"4400113PVEG1P",2,null,"La Enea P2"]
[null,null,null,null,null,null,null,null,null,null,null,null,null,null,null,null,null,null,57085,"4400113PVEG1P",20,null,"La Enea P20"]
[null,null,null,null,null,null,null,null,null,null,null,null,null,null,null,null,null,null,57102,"4400113PVEG1P",3,null,"La Enea P3"]
[null,null,null,null,null,null,null,null,null,null,null,null,null,null,null,null,null,null,57101,"4400113PVEG1P",4,null,"La Enea P4"]
[null,null,null,null,null,null,null,null,null,null,null,null,null,null,null,null,null,null,57100,"4400113PVEG1P",5,null,"La Enea P5"]
[null,null,null,null,null,null,null,null,null,null,null,null,null,null,null,null,null,null,57099,"4400113PVEG1P",6,null,"La Enea P6"]
[null,null,null,null,null,null,null,null,null,null,null,null,null,null,null,null,null,null,57098,"4400113PVEG1P",7,null,"La Enea P7"]
[null,null,null,null,null,null,null,null,null,null,null,null,null,null,null,null,null,null,57097,"4400113PVEG1P",8,null,"La Enea P8"]
[null,null,null,null,null,null,null,null,null,null,null,null,null,null,null,null,null,null,57096,"4400113PVEG1P",9,null,"La Enea P9"]
[null,null,null,null,null,null,null,null,null,null,null,null,null,null,null,null,null,null,56283,"0583739PVEG1P",1,null,"La Martina P1"]
[null,null,null,null,null,null,null,null,null,null,null,null,null,null,null,null,null,null,56292,"0583739PVEG1P",10,null,"La Martina P10"]
[null,null,null,null,null,null,null,null,null,null,null,null,null,null,null,null,null,null,56293,"0583739PVEG1P",11,null,"La Martina P11"]
[null,null,null,null,null,null,null,null,null,null,null,null,null,null,null,null,null,null,56294,"0583739PVEG1P",12,null,"La Martina P12"]
[null,null,null,null,null,null,null,null,null,null,null,null,null,null,null,null,null,null,56295,"0583739PVEG1P",13,null,"La Martina P13"]
[null,null,null,null,null,null,null,null,null,null,null,null,null,null,null,null,null,null,56296,"0583739PVEG1P",14,null,"La Martina P14"]
[null,null,null,null,null,null,null,null,null,null,null,null,null,null,null,null,null,null,56297,"0583739PVEG1P",15,null,"La Martina P15"]
[null,null,null,null,null,null,null,null,null,null,null,null,null,null,null,null,null,null,56298,"0583739PVEG1P",16,null,"La Martina P16"]
[null,null,null,null,null,null,null,null,null,null,null,null,null,null,null,null,null,null,56299,"0583739PVEG1P",17,null,"La Martina P17"]
[null,null,null,null,null,null,null,null,null,null,null,null,null,null,null,null,null,null,56300,"0583739PVEG1P",18,null,"La Martina P18"]
[null,null,null,null,null,null,null,null,null,null,null,null,null,null,null,null,null,null,56301,"0583739PVEG1P",19,null,"La Martina P19"]
[null,null,null,null,null,null,null,null,null,null,null,null,null,null,null,null,null,null,56284,"0583739PVEG1P",2,null,"La Martina P2"]
[null,null,null,null,null,null,null,null,null,null,null,null,null,null,null,null,null,null,56302,"0583739PVEG1P",20,null,"La Martina P20"]
[null,null,null,null,null,null,null,null,null,null,null,null,null,null,null,null,null,null,56285,"0583739PVEG1P",3,null,"La Martina P3"]
[null,null,null,null,null,null,null,null,null,null,null,null,null,null,null,null,null,null,56286,"0583739PVEG1P",4,null,"La Martina P4"]
[null,null,null,null,null,null,null,null,null,null,null,null,null,null,null,null,null,null,56287,"0583739PVEG1P",5,null,"La Martina P5"]
[null,null,null,null,null,null,null,null,null,null,null,null,null,null,null,null,null,null,56288,"0583739PVEG1P",6,null,"La Martina P6"]
[null,null,null,null,null,null,null,null,null,null,null,null,null,null,null,null,null,null,56289,"0583739PVEG1P",7,null,"La Martina P7"]
[null,null,null,null,null,null,null,null,null,null,null,null,null,null,null,null,null,null,56290,"0583739PVEG1P",8,null,"La Martina P8"]
[null,null,null,null,null,null,null,null,null,null,null,null,null,null,null,null,null,null,56291,"0583739PVEG1P",9,null,"La Martina P9"]
[null,null,null,null,null,null,null,null,null,null,null,null,null,null,null,null,null,null,56008,"MYPO_P1",2730,null,"MAYAPO PARCELA1"]
[null,null,null,null,null,null,null,null,null,null,null,null,null,null,null,null,null,null,56009,"MYPO_P2",2731,null,"MAYAPO PARCELA2"]
[null,null,null,null,null,null,null,null,null,null,null,null,null,null,null,null,null,null,56010,"MYPO_P3",2732,null,"MAYAPO PARCELA3"]
[null,null,null,null,null,null,null,null,null,null,null,null,null,null,null,null,null,null,56011,"MSCHI_P1",2733,null,"MUSICHI PARCELA1"]
[null,null,null,null,null,null,null,null,null,null,null,null,null,null,null,null,null,null,56012,"MSCHI_P2",2734,null,"MUSICHI PARCELA2"]
[null,null,null,null,null,null,null,null,null,null,null,null,null,null,null,null,null,null,56013,"MSCHI_P3",2735,null,"MUSICHI PARCELA3"]
[null,null,null,null,null,null,null,null,null,null,null,null,null,null,null,null,null,null,56032,"PNVO_P1",2754,null,"PASO NUEVO PARCELA1"]
[null,null,null,null,null,null,null,null,null,null,null,null,null,null,null,null,null,null,56033,"PNVO_P2",2755,null,"PASO NUEVO PARCELA2"]
[null,null,null,null,null,null,null,null,null,null,null,null,null,null,null,null,null,null,56034,"PNVO_P3",2756,null,"PASO NUEVO PARCELA3"]
[null,null,null,null,null,null,null,null,null,null,null,null,null,null,null,null,null,null,56690,"PMIR_P01",2796,null,"PLAYA MIREYA PARCELA1"]
[null,null,null,null,null,null,null,null,null,null,null,null,null,null,null,null,null,null,56691,"PMIR_P02",2797,null,"PLAYA MIREYA PARCELA2"]
[null,null,null,null,null,null,null,null,null,null,null,null,null,null,null,null,null,null,56692,"PMIR_P03",2798,null,"PLAYA MIREYA PARCELA3"]
[null,null,null,null,null,null,null,null,null,null,null,null,null,null,null,null,null,null,56051,"PCES_P1",2773,null,"PUERTO CÉSAR PARCELA1"]
[null,null,null,null,null,null,null,null,null,null,null,null,null,null,null,null,null,null,56052,"PCES_P2",2774,null,"PUERTO CÉSAR PARCELA2"]
[null,null,null,null,null,null,null,null,null,null,null,null,null,null,null,null,null,null,56053,"PCES_P3",2775,null,"PUERTO CÉSAR PARCELA3"]
[null,null,null,null,null,null,null,null,null,null,null,null,null,null,null,null,null,null,56020,"PESDO_P1",2742,null,"PUERTO ESCONDIDO PARCELA1"]
[null,null,null,null,null,null,null,null,null,null,null,null,null,null,null,null,null,null,56021,"PESDO_P2",2743,null,"PUERTO ESCONDIDO PARCELA2"]
[null,null,null,null,null,null,null,null,null,null,null,null,null,null,null,null,null,null,56022,"PESDO_P3",2744,null,"PUERTO ESCONDIDO PARCELA3"]
[null,null,null,null,null,null,null,null,null,null,null,null,null,null,null,null,null,null,56038,"PMTZO_P1",2760,null,"PUNTA MESTIZO PARCELA1"]
[null,null,null,null,null,null,null,null,null,null,null,null,null,null,null,null,null,null,56039,"PMTZO_P2",2761,null,"PUNTA MESTIZO PARCELA2"]
[null,null,null,null,null,null,null,null,null,null,null,null,null,null,null,null,null,null,56040,"PMTZO_P3",2762,null,"PUNTA MESTIZO PARCELA3"]
[null,null,null,null,null,null,null,null,null,null,null,null,null,null,null,null,null,null,56686,"PMTZO2_P1",2793,null,"PUNTA MESTIZO PARCELA4"]
[null,null,null,null,null,null,null,null,null,null,null,null,null,null,null,null,null,null,56687,"PMTZO2_P2",2794,null,"PUNTA MESTIZO PARCELA5"]
[null,null,null,null,null,null,null,null,null,null,null,null,null,null,null,null,null,null,56688,"PMTZO2_P3",2795,null,"PUNTA MESTIZO PARCELA6"]
[null,null,null,null,null,null,null,null,null,null,null,null,null,null,null,null,null,null,57125,"2367246PVEG1P",1,null,"Playa Blanca P1"]
[null,null,null,null,null,null,null,null,null,null,null,null,null,null,null,null,null,null,57134,"2367246PVEG1P",10,null,"Playa Blanca P10"]
[null,null,null,null,null,null,null,null,null,null,null,null,null,null,null,null,null,null,57135,"2367246PVEG1P",11,null,"Playa Blanca P11"]
[null,null,null,null,null,null,null,null,null,null,null,null,null,null,null,null,null,null,57136,"2367246PVEG1P",12,null,"Playa Blanca P12"]
[null,null,null,null,null,null,null,null,null,null,null,null,null,null,null,null,null,null,57137,"2367246PVEG1P",13,null,"Playa Blanca P13"]
[null,null,null,null,null,null,null,null,null,null,null,null,null,null,null,null,null,null,57138,"2367246PVEG1P",14,null,"Playa Blanca P14"]
[null,null,null,null,null,null,null,null,null,null,null,null,null,null,null,null,null,null,57139,"2367246PVEG1P",15,null,"Playa Blanca P15"]
[null,null,null,null,null,null,null,null,null,null,null,null,null,null,null,null,null,null,57140,"2367246PVEG1P",16,null,"Playa Blanca P16"]
[null,null,null,null,null,null,null,null,null,null,null,null,null,null,null,null,null,null,57141,"2367246PVEG1P",17,null,"Playa Blanca P17"]
[null,null,null,null,null,null,null,null,null,null,null,null,null,null,null,null,null,null,57142,"2367246PVEG1P",18,null,"Playa Blanca P18"]
[null,null,null,null,null,null,null,null,null,null,null,null,null,null,null,null,null,null,57143,"2367246PVEG1P",19,null,"Playa Blanca P19"]
[null,null,null,null,null,null,null,null,null,null,null,null,null,null,null,null,null,null,57126,"2367246PVEG1P",2,null,"Playa Blanca P2"]
[null,null,null,null,null,null,null,null,null,null,null,null,null,null,null,null,null,null,57144,"2367246PVEG1P",20,null,"Playa Blanca P20"]
[null,null,null,null,null,null,null,null,null,null,null,null,null,null,null,null,null,null,57127,"2367246PVEG1P",3,null,"Playa Blanca P3"]
[null,null,null,null,null,null,null,null,null,null,null,null,null,null,null,null,null,null,57128,"2367246PVEG1P",4,null,"Playa Blanca P4"]
[null,null,null,null,null,null,null,null,null,null,null,null,null,null,null,null,null,null,57129,"2367246PVEG1P",5,null,"Playa Blanca P5"]
[null,null,null,null,null,null,null,null,null,null,null,null,null,null,null,null,null,null,57130,"2367246PVEG1P",6,null,"Playa Blanca P6"]
[null,null,null,null,null,null,null,null,null,null,null,null,null,null,null,null,null,null,57131,"2367246PVEG1P",7,null,"Playa Blanca P7"]
[null,null,null,null,null,null,null,null,null,null,null,null,null,null,null,null,null,null,57132,"2367246PVEG1P",8,null,"Playa Blanca P8"]
[null,null,null,null,null,null,null,null,null,null,null,null,null,null,null,null,null,null,57133,"2367246PVEG1P",9,null,"Playa Blanca P9"]
[null,null,null,null,null,null,null,null,null,null,null,null,null,null,null,null,null,null,57105,"4757022PVEG1P",1,null,"Pueblo Viejo P1"]
[null,null,null,null,null,null,null,null,null,null,null,null,null,null,null,null,null,null,57114,"4757022PVEG1P",10,null,"Pueblo Viejo P10"]
[null,null,null,null,null,null,null,null,null,null,null,null,null,null,null,null,null,null,57115,"4757022PVEG1P",11,null,"Pueblo Viejo P11"]
[null,null,null,null,null,null,null,null,null,null,null,null,null,null,null,null,null,null,57116,"4757022PVEG1P",12,null,"Pueblo Viejo P12"]
[null,null,null,null,null,null,null,null,null,null,null,null,null,null,null,null,null,null,57117,"4757022PVEG1P",13,null,"Pueblo Viejo P13"]
[null,null,null,null,null,null,null,null,null,null,null,null,null,null,null,null,null,null,57118,"4757022PVEG1P",14,null,"Pueblo Viejo P14"]
[null,null,null,null,null,null,null,null,null,null,null,null,null,null,null,null,null,null,57119,"4757022PVEG1P",15,null,"Pueblo Viejo P15"]
[null,null,null,null,null,null,null,null,null,null,null,null,null,null,null,null,null,null,57120,"4757022PVEG1P",16,null,"Pueblo Viejo P16"]
[null,null,null,null,null,null,null,null,null,null,null,null,null,null,null,null,null,null,57121,"4757022PVEG1P",17,null,"Pueblo Viejo P17"]
[null,null,null,null,null,null,null,null,null,null,null,null,null,null,null,null,null,null,57122,"4757022PVEG1P",18,null,"Pueblo Viejo P18"]
[null,null,null,null,null,null,null,null,null,null,null,null,null,null,null,null,null,null,57123,"4757022PVEG1P",19,null,"Pueblo Viejo P19"]
[null,null,null,null,null,null,null,null,null,null,null,null,null,null,null,null,null,null,57106,"4757022PVEG1P",2,null,"Pueblo Viejo P2"]
[null,null,null,null,null,null,null,null,null,null,null,null,null,null,null,null,null,null,57124,"4757022PVEG1P",20,null,"Pueblo Viejo P20"]
[null,null,null,null,null,null,null,null,null,null,null,null,null,null,null,null,null,null,57107,"4757022PVEG1P",3,null,"Pueblo Viejo P3"]
[null,null,null,null,null,null,null,null,null,null,null,null,null,null,null,null,null,null,57108,"4757022PVEG1P",4,null,"Pueblo Viejo P4"]
[null,null,null,null,null,null,null,null,null,null,null,null,null,null,null,null,null,null,57109,"4757022PVEG1P",5,null,"Pueblo Viejo P5"]
[null,null,null,null,null,null,null,null,null,null,null,null,null,null,null,null,null,null,57110,"4757022PVEG1P",6,null,"Pueblo Viejo P6"]
[null,null,null,null,null,null,null,null,null,null,null,null,null,null,null,null,null,null,57111,"4757022PVEG1P",7,null,"Pueblo Viejo P7"]
[null,null,null,null,null,null,null,null,null,null,null,null,null,null,null,null,null,null,57112,"4757022PVEG1P",8,null,"Pueblo Viejo P8"]
[null,null,null,null,null,null,null,null,null,null,null,null,null,null,null,null,null,null,57113,"4757022PVEG1P",9,null,"Pueblo Viejo P9"]
[null,null,null,null,null,null,null,null,null,null,null,null,null,null,null,null,null,null,56026,"RCDRO_P1",2748,null,"RIO CEDRO PARCELA1"]
[null,null,null,null,null,null,null,null,null,null,null,null,null,null,null,null,null,null,56027,"RCDRO_P2",2749,null,"RIO CEDRO PARCELA2"]
[null,null,null,null,null,null,null,null,null,null,null,null,null,null,null,null,null,null,56028,"RCDRO_P3",2750,null,"RIO CEDRO PARCELA3"]
[null,null,null,null,null,null,null,null,null,null,null,null,null,null,null,null,null,null,56059,"RHOB_P1",2781,null,"RIO HOBO PARCELA1"]
[null,null,null,null,null,null,null,null,null,null,null,null,null,null,null,null,null,null,56060,"RHOB_P2",2782,null,"RIO HOBO PARCELA2"]
[null,null,null,null,null,null,null,null,null,null,null,null,null,null,null,null,null,null,56061,"RHOB_P3",2783,null,"RIO HOBO PARCELA3"]
[null,null,null,null,null,null,null,null,null,null,null,null,null,null,null,null,null,null,56050,"RCNVO_P1",2772,null,"RIOCAIMAN  NUEVO PARCELA1"]
[null,null,null,null,null,null,null,null,null,null,null,null,null,null,null,null,null,null,56555,"RCNVO_P2",2787,null,"RIOCAIMAN  NUEVO PARCELA2"]
[null,null,null,null,null,null,null,null,null,null,null,null,null,null,null,null,null,null,56556,"RCNVO_P3",2788,null,"RIOCAIMAN  NUEVO PARCELA3"]
[null,null,null,null,null,null,null,null,null,null,null,null,null,null,null,null,null,null,56044,"RLEON_P1",2766,null,"RIOLEON PARCELA1"]
[null,null,null,null,null,null,null,null,null,null,null,null,null,null,null,null,null,null,56045,"RLEON_P2",2767,null,"RIOLEON PARCELA2"]
[null,null,null,null,null,null,null,null,null,null,null,null,null,null,null,null,null,null,56046,"RLEON_P3",2768,null,"RIOLEON PARCELA3"]
[null,null,null,null,null,null,null,null,null,null,null,null,null,null,null,null,null,null,56223,"4400112PVEG1P",1,null,"Riohacha P1"]
[null,null,null,null,null,null,null,null,null,null,null,null,null,null,null,null,null,null,56232,"4400112PVEG1P",10,null,"Riohacha P10"]
[null,null,null,null,null,null,null,null,null,null,null,null,null,null,null,null,null,null,56233,"4400112PVEG1P",11,null,"Riohacha P11"]
[null,null,null,null,null,null,null,null,null,null,null,null,null,null,null,null,null,null,56234,"4400112PVEG1P",12,null,"Riohacha P12"]
[null,null,null,null,null,null,null,null,null,null,null,null,null,null,null,null,null,null,56235,"4400112PVEG1P",13,null,"Riohacha P13"]
[null,null,null,null,null,null,null,null,null,null,null,null,null,null,null,null,null,null,56236,"4400112PVEG1P",14,null,"Riohacha P14"]
[null,null,null,null,null,null,null,null,null,null,null,null,null,null,null,null,null,null,56237,"4400112PVEG1P",15,null,"Riohacha P15"]
[null,null,null,null,null,null,null,null,null,null,null,null,null,null,null,null,null,null,56238,"4400112PVEG1P",16,null,"Riohacha P16"]
[null,null,null,null,null,null,null,null,null,null,null,null,null,null,null,null,null,null,56239,"4400112PVEG1P",17,null,"Riohacha P17"]
[null,null,null,null,null,null,null,null,null,null,null,null,null,null,null,null,null,null,56240,"4400112PVEG1P",18,null,"Riohacha P18"]
[null,null,null,null,null,null,null,null,null,null,null,null,null,null,null,null,null,null,56241,"4400112PVEG1P",19,null,"Riohacha P19"]
[null,null,null,null,null,null,null,null,null,null,null,null,null,null,null,null,null,null,56224,"4400112PVEG1P",2,null,"Riohacha P2"]
[null,null,null,null,null,null,null,null,null,null,null,null,null,null,null,null,null,null,56242,"4400112PVEG1P",20,null,"Riohacha P20"]
[null,null,null,null,null,null,null,null,null,null,null,null,null,null,null,null,null,null,56225,"4400112PVEG1P",3,null,"Riohacha P3"]
[null,null,null,null,null,null,null,null,null,null,null,null,null,null,null,null,null,null,56226,"4400112PVEG1P",4,null,"Riohacha P4"]
[null,null,null,null,null,null,null,null,null,null,null,null,null,null,null,null,null,null,56227,"4400112PVEG1P",5,null,"Riohacha P5"]
[null,null,null,null,null,null,null,null,null,null,null,null,null,null,null,null,null,null,56228,"4400112PVEG1P",6,null,"Riohacha P6"]
[null,null,null,null,null,null,null,null,null,null,null,null,null,null,null,null,null,null,56229,"4400112PVEG1P",7,null,"Riohacha P7"]
[null,null,null,null,null,null,null,null,null,null,null,null,null,null,null,null,null,null,56230,"4400112PVEG1P",8,null,"Riohacha P8"]
[null,null,null,null,null,null,null,null,null,null,null,null,null,null,null,null,null,null,56231,"4400112PVEG1P",9,null,"Riohacha P9"]
[null,null,null,null,null,null,null,null,null,null,null,null,null,null,null,null,null,null,56056,"UVE_P1",2778,null,"UVEROS PARCELA1"]
[null,null,null,null,null,null,null,null,null,null,null,null,null,null,null,null,null,null,56057,"UVE_P2",2779,null,"UVEROS PARCELA2"]
[null,null,null,null,null,null,null,null,null,null,null,null,null,null,null,null,null,null,56058,"UVE_P3",2780,null,"UVEROS PARCELA3"]
[null,null,null,null,null,null,null,null,null,null,null,null,null,null,null,null,null,null,56263,"0565934PVEG1P",1,null,"Uveros-Damaquiel P1"]
[null,null,null,null,null,null,null,null,null,null,null,null,null,null,null,null,null,null,56272,"0565934PVEG1P",10,null,"Uveros-Damaquiel P10"]
[null,null,null,null,null,null,null,null,null,null,null,null,null,null,null,null,null,null,56273,"0565934PVEG1P",11,null,"Uveros-Damaquiel P11"]
[null,null,null,null,null,null,null,null,null,null,null,null,null,null,null,null,null,null,56274,"0565934PVEG1P",12,null,"Uveros-Damaquiel P12"]
[null,null,null,null,null,null,null,null,null,null,null,null,null,null,null,null,null,null,56275,"0565934PVEG1P",13,null,"Uveros-Damaquiel P13"]
[null,null,null,null,null,null,null,null,null,null,null,null,null,null,null,null,null,null,56276,"0565934PVEG1P",14,null,"Uveros-Damaquiel P14"]
[null,null,null,null,null,null,null,null,null,null,null,null,null,null,null,null,null,null,56277,"0565934PVEG1P",15,null,"Uveros-Damaquiel P15"]
[null,null,null,null,null,null,null,null,null,null,null,null,null,null,null,null,null,null,56278,"0565934PVEG1P",16,null,"Uveros-Damaquiel P16"]
[null,null,null,null,null,null,null,null,null,null,null,null,null,null,null,null,null,null,56279,"0565934PVEG1P",17,null,"Uveros-Damaquiel P17"]
[null,null,null,null,null,null,null,null,null,null,null,null,null,null,null,null,null,null,56280,"0565934PVEG1P",18,null,"Uveros-Damaquiel P18"]
[null,null,null,null,null,null,null,null,null,null,null,null,null,null,null,null,null,null,56281,"0565934PVEG1P",19,null,"Uveros-Damaquiel P19"]
[null,null,null,null,null,null,null,null,null,null,null,null,null,null,null,null,null,null,56264,"0565934PVEG1P",2,null,"Uveros-Damaquiel P2"]
[null,null,null,null,null,null,null,null,null,null,null,null,null,null,null,null,null,null,56282,"0565934PVEG1P",20,null,"Uveros-Damaquiel P20"]
[null,null,null,null,null,null,null,null,null,null,null,null,null,null,null,null,null,null,56265,"0565934PVEG1P",3,null,"Uveros-Damaquiel P3"]
[null,null,null,null,null,null,null,null,null,null,null,null,null,null,null,null,null,null,56266,"0565934PVEG1P",4,null,"Uveros-Damaquiel P4"]
[null,null,null,null,null,null,null,null,null,null,null,null,null,null,null,null,null,null,56267,"0565934PVEG1P",5,null,"Uveros-Damaquiel P5"]
[null,null,null,null,null,null,null,null,null,null,null,null,null,null,null,null,null,null,56268,"0565934PVEG1P",6,null,"Uveros-Damaquiel P6"]
[null,null,null,null,null,null,null,null,null,null,null,null,null,null,null,null,null,null,56269,"0565934PVEG1P",7,null,"Uveros-Damaquiel P7"]
[null,null,null,null,null,null,null,null,null,null,null,null,null,null,null,null,null,null,56270,"0565934PVEG1P",8,null,"Uveros-Damaquiel P8"]
[null,null,null,null,null,null,null,null,null,null,null,null,null,null,null,null,null,null,56271,"0565934PVEG1P",9,null,"Uveros-Damaquiel P9"]
[null,null,null,null,null,null,null,null,null,null,null,null,null,null,null,null,null,null,55958,"Bahia_Cocinetas",96321,null,"Bahia Cocinetas1"]
[null,null,null,null,null,null,null,null,null,null,null,null,null,null,null,null,null,null,55957,"Bahia_Hondita",96321,null,"Bahia Hondita1"]
[null,null,null,null,null,null,null,null,null,null,null,null,null,null,null,null,null,null,55959,"Bahia_Tukakas",96321,null,"Bahia Tukakaspl1"]
[null,null,null,null,null,null,null,null,null,null,null,null,null,null,null,null,null,null,55967,"Boca_Laenea1",96321,null,"Boca La enea1"]
[null,null,null,null,null,null,null,null,null,null,null,null,null,null,null,null,null,null,55968,"Boca_Laenea2",96321,null,"Boca La enea2"]
[null,null,null,null,null,null,null,null,null,null,null,null,null,null,null,null,null,null,56558,"Bocas_Atrato",96321,null,"Bocas del Atrato1"]
[null,null,null,null,null,null,null,null,null,null,null,null,null,null,null,null,null,null,55972,"Broqueles",96321,null,"Broqueles1"]
[null,null,null,null,null,null,null,null,null,null,null,null,null,null,null,null,null,null,56551,"Camaronera",96321,null,"Camaronera1"]
[null,null,null,null,null,null,null,null,null,null,null,null,null,null,null,null,null,null,55970,"Cristo_Rey",96321,null,"Cristo Rey1"]
[null,null,null,null,null,null,null,null,null,null,null,null,null,null,null,null,null,null,55961,"Dibulla1_Occidente",96321,null,"Dibulla1 Occidente -Rio Jerez"]
[null,null,null,null,null,null,null,null,null,null,null,null,null,null,null,null,null,null,55962,"Dibulla2_Occidente",96321,null,"Dibulla2 Occidente -Rio Jerez"]
[null,null,null,null,null,null,null,null,null,null,null,null,null,null,null,null,null,null,55974,"Laguna_Bocacorea",96321,null,"Laguna Bocacorea1"]
[null,null,null,null,null,null,null,null,null,null,null,null,null,null,null,null,null,null,56887,"4484701OCEA",100,null,"PMO - BAHIA COCINETAS"]
[null,null,null,null,null,null,null,null,null,null,null,null,null,null,null,null,null,null,56888,"4484703OCEA",100,null,"PMO - BAHIA HONDITA"]
[null,null,null,null,null,null,null,null,null,null,null,null,null,null,null,null,null,null,56886,"4484702OCEA",100,null,"PMO - BAHIA TUKAKAS"]
[null,null,null,null,null,null,null,null,null,null,null,null,null,null,null,null,null,null,56921,"0583740OCEA",100,null,"PMO - BAHÍA EL UNO"]
[null,null,null,null,null,null,null,null,null,null,null,null,null,null,null,null,null,null,56895,"4456009OCEA",100,null,"PMO - BALLENAS"]
[null,null,null,null,null,null,null,null,null,null,null,null,null,null,null,null,null,null,56902,"4409015OCEA",100,null,"PMO - BELLO HORIZONTE"]
[null,null,null,null,null,null,null,null,null,null,null,null,null,null,null,null,null,null,56914,"2350029OCEA",100,null,"PMO - BROQUELES"]
[null,null,null,null,null,null,null,null,null,null,null,null,null,null,null,null,null,null,56898,"4456011OCEA",100,null,"PMO - BUENAVISTA"]
[null,null,null,null,null,null,null,null,null,null,null,null,null,null,null,null,null,null,56889,"4484704OCEA",100,null,"PMO - CABO DE LA VELA"]
[null,null,null,null,null,null,null,null,null,null,null,null,null,null,null,null,null,null,56890,"4484705OCEA",100,null,"PMO - CARRIZAL"]
[null,null,null,null,null,null,null,null,null,null,null,null,null,null,null,null,null,null,56906,"4718921OCEA",100,null,"PMO - CIENAGA"]
[null,null,null,null,null,null,null,null,null,null,null,null,null,null,null,null,null,null,56916,"2357431OCEA",100,null,"PMO - CRISTO REY"]
[null,null,null,null,null,null,null,null,null,null,null,null,null,null,null,null,null,null,56919,"0565934OCEA",100,null,"PMO - DAMAQUIEL"]
[null,null,null,null,null,null,null,null,null,null,null,null,null,null,null,null,null,null,56901,"4409014OCEA",100,null,"PMO - DIBULLA"]
[null,null,null,null,null,null,null,null,null,null,null,null,null,null,null,null,null,null,56924,"0549036OCEA",100,null,"PMO - ENSENADA RIONEGRO"]
[null,null,null,null,null,null,null,null,null,null,null,null,null,null,null,null,null,null,56905,"4700119OCEA",100,null,"PMO - INCA INCA"]
[null,null,null,null,null,null,null,null,null,null,null,null,null,null,null,null,null,null,56900,"4400113OCEA",100,null,"PMO - LA ENEA"]
[null,null,null,null,null,null,null,null,null,null,null,null,null,null,null,null,null,null,56912,"2367527OCEA",100,null,"PMO - LAGUNA BOCA COREA"]
[null,null,null,null,null,null,null,null,null,null,null,null,null,null,null,null,null,null,56892,"4456007OCEA",100,null,"PMO - MANAURE"]
[null,null,null,null,null,null,null,null,null,null,null,null,null,null,null,null,null,null,56923,"0583745OCEA",100,null,"PMO - MATUNTUGO"]
[null,null,null,null,null,null,null,null,null,null,null,null,null,null,null,null,null,null,56897,"4456010OCEA",100,null,"PMO - MAYAPO 1"]
[null,null,null,null,null,null,null,null,null,null,null,null,null,null,null,null,null,null,56896,"4456010OCEA",200,null,"PMO - MAYAPO 2"]
[null,null,null,null,null,null,null,null,null,null,null,null,null,null,null,null,null,null,56894,"4456008OCEA",100,null,"PMO - MUSICHI 1"]
[null,null,null,null,null,null,null,null,null,null,null,null,null,null,null,null,null,null,56893,"4456008OCEA",200,null,"PMO - MUSICHI 2"]
[null,null,null,null,null,null,null,null,null,null,null,null,null,null,null,null,null,null,56913,"2350028OCEA",100,null,"PMO - PASO NUEVO"]
[null,null,null,null,null,null,null,null,null,null,null,null,null,null,null,null,null,null,56909,"2367246OCEA",100,null,"PMO - PLAYA BLANCA"]
[null,null,null,null,null,null,null,null,null,null,null,null,null,null,null,null,null,null,56920,"0583739OCEA",100,null,"PMO - PLAYA LA MARTINA"]
[null,null,null,null,null,null,null,null,null,null,null,null,null,null,null,null,null,null,56911,"2367525OCEA",100,null,"PMO - PLAYA MIREYA"]
[null,null,null,null,null,null,null,null,null,null,null,null,null,null,null,null,null,null,56907,"4757022OCEA",100,null,"PMO - PUEBLO VIEJO"]
[null,null,null,null,null,null,null,null,null,null,null,null,null,null,null,null,null,null,56917,"2357432OCEA",100,null,"PMO - PUERTO ESCONDIDO"]
[null,null,null,null,null,null,null,null,null,null,null,null,null,null,null,null,null,null,56910,"2367224OCEA",100,null,"PMO - PUNTA MESTIZO"]
[null,null,null,null,null,null,null,null,null,null,null,null,null,null,null,null,null,null,56918,"0505133OCEA",100,null,"PMO - RIO HOBO"]
[null,null,null,null,null,null,null,null,null,null,null,null,null,null,null,null,null,null,56922,"0583743OCEA",100,null,"PMO - RIO LEON"]
[null,null,null,null,null,null,null,null,null,null,null,null,null,null,null,null,null,null,56899,"4400112OCEA",100,null,"PMO - RIOHACHA"]
[null,null,null,null,null,null,null,null,null,null,null,null,null,null,null,null,null,null,56915,"2350030OCEA",100,null,"PMO - RÍO CEDRO"]
[null,null,null,null,null,null,null,null,null,null,null,null,null,null,null,null,null,null,56904,"4700118OCEA",100,null,"PMO - SANTA MARTA"]
[null,null,null,null,null,null,null,null,null,null,null,null,null,null,null,null,null,null,56891,"4456006OCEA",100,null,"PMO - SANTA ROSA"]
[null,null,null,null,null,null,null,null,null,null,null,null,null,null,null,null,null,null,56903,"4700117OCEA",100,null,"PMO - TAGANGA"]
[null,null,null,null,null,null,null,null,null,null,null,null,null,null,null,null,null,null,56908,"4757023OCEA",100,null,"PMO - TASAJERA"]
[null,null,null,null,null,null,null,null,null,null,null,null,null,null,null,null,null,null,55973,"Paso_Nuevo",96321,null,"Paso Nuevo1"]
[null,null,null,null,null,null,null,null,null,null,null,null,null,null,null,null,null,null,56689,"playa_Mireya",96321,null,"Playa Mireya1"]
[null,null,null,null,null,null,null,null,null,null,null,null,null,null,null,null,null,null,55969,"Puerto_Escondido",96321,null,"Puerto Escondido1"]
[null,null,null,null,null,null,null,null,null,null,null,null,null,null,null,null,null,null,55975,"Punta_Mestizos",96321,null,"Punta Mestizo1"]
[null,null,null,null,null,null,null,null,null,null,null,null,null,null,null,null,null,null,55960,"Rincon_Mosquito",96321,null,"Rincon Mosquito - Bello Horizonte"]
[null,null,null,null,null,null,null,null,null,null,null,null,null,null,null,null,null,null,55971,"Rio_Cedro",96321,null,"Rio Cedro1"]
[null,null,null,null,null,null,null,null,null,null,null,null,null,null,null,null,null,null,55978,"Rio_Currulao",96321,null,"Rio Currulao1"]
[null,null,null,null,null,null,null,null,null,null,null,null,null,null,null,null,null,null,55983,"Rio_Hobo",96321,null,"Rio Jobo1"]
[null,null,null,null,null,null,null,null,null,null,null,null,null,null,null,null,null,null,56387,"4484701VULN",100,null,"Bahía Cocinetas"]
[null,null,null,null,null,null,null,null,null,null,null,null,null,null,null,null,null,null,56389,"4484703VULN",100,null,"Bahía Hondita"]
[null,null,null,null,null,null,null,null,null,null,null,null,null,null,null,null,null,null,56388,"4484702VULN",100,null,"Bahía Tukakas "]
[null,null,null,null,null,null,null,null,null,null,null,null,null,null,null,null,null,null,56426,"0583740VULN",100,null,"Bahía el Uno"]
[null,null,null,null,null,null,null,null,null,null,null,null,null,null,null,null,null,null,56395,"4456009VULN",100,null,"Ballena"]
[null,null,null,null,null,null,null,null,null,null,null,null,null,null,null,null,null,null,56401,"4409015VULN",100,null,"Bello Horizonte"]
[null,null,null,null,null,null,null,null,null,null,null,null,null,null,null,null,null,null,56430,"0583744VULN",100,null,"Bocas del Atrato"]
[null,null,null,null,null,null,null,null,null,null,null,null,null,null,null,null,null,null,56415,"2350029VULN",100,null,"Broqueles"]
[null,null,null,null,null,null,null,null,null,null,null,null,null,null,null,null,null,null,56390,"4484704VULN",100,null,"Cabo de la Vela"]
[null,null,null,null,null,null,null,null,null,null,null,null,null,null,null,null,null,null,56424,"CM-NV-0",100,null,"Caimán Nuevo"]
[null,null,null,null,null,null,null,null,null,null,null,null,null,null,null,null,null,null,56423,"0549037VULN",100,null,"Caimán Viejo"]
[null,null,null,null,null,null,null,null,null,null,null,null,null,null,null,null,null,null,56413,"2367526VULN",100,null,"Camaronera"]
[null,null,null,null,null,null,null,null,null,null,null,null,null,null,null,null,null,null,56391,"4484705VULN",100,null,"Carrizal"]
[null,null,null,null,null,null,null,null,null,null,null,null,null,null,null,null,null,null,56407,"4718921VULN",100,null,"Ciénaga"]
[null,null,null,null,null,null,null,null,null,null,null,null,null,null,null,null,null,null,56417,"2357431VULN",100,null,"Cristo Rey"]
[null,null,null,null,null,null,null,null,null,null,null,null,null,null,null,null,null,null,57185,"0583742VULN",100,null,"Currulao"]
[null,null,null,null,null,null,null,null,null,null,null,null,null,null,null,null,null,null,56400,"4409014VULN",100,null,"Dibulla"]
[null,null,null,null,null,null,null,null,null,null,null,null,null,null,null,null,null,null,56422,"EN-RN-0",100,null,"Ensenada Ríonegro"]
[null,null,null,null,null,null,null,null,null,null,null,null,null,null,null,null,null,null,56428,"GDT-0",100,null,"Guadualito"]
[null,null,null,null,null,null,null,null,null,null,null,null,null,null,null,null,null,null,56405,"4700119VULN",100,null,"Inca Inca"]
[null,null,null,null,null,null,null,null,null,null,null,null,null,null,null,null,null,null,56399,"4400113VULN",100,null,"La Enea"]
[null,null,null,null,null,null,null,null,null,null,null,null,null,null,null,null,null,null,56425,"0583739VULN",100,null,"La Martina"]
[null,null,null,null,null,null,null,null,null,null,null,null,null,null,null,null,null,null,56412,"LG-BC-0",100,null,"Laguna Boca Corea"]
[null,null,null,null,null,null,null,null,null,null,null,null,null,null,null,null,null,null,56397,"LG-BV-0",100,null,"Laguna de Buenavista"]
[null,null,null,null,null,null,null,null,null,null,null,null,null,null,null,null,null,null,56393,"4456007VULN",100,null,"Manaure"]
[null,null,null,null,null,null,null,null,null,null,null,null,null,null,null,null,null,null,56431,"0583745VULN",100,null,"Matuntugo"]
[null,null,null,null,null,null,null,null,null,null,null,null,null,null,null,null,null,null,56396,"4456010VULN",100,null,"Mayapo"]
[null,null,null,null,null,null,null,null,null,null,null,null,null,null,null,null,null,null,56394,"4456008VULN",100,null,"Musichi"]
[null,null,null,null,null,null,null,null,null,null,null,null,null,null,null,null,null,null,56414,"2350028VULN",100,null,"Paso Nuevo"]
[null,null,null,null,null,null,null,null,null,null,null,null,null,null,null,null,null,null,56705,"2367246VULN",100,null,"Playa Blanca"]
[null,null,null,null,null,null,null,null,null,null,null,null,null,null,null,null,null,null,56402,"4700116VULN",100,null,"Playa Grande"]
[null,null,null,null,null,null,null,null,null,null,null,null,null,null,null,null,null,null,56411,"2367525VULN",100,null,"Playa Mireya"]
[null,null,null,null,null,null,null,null,null,null,null,null,null,null,null,null,null,null,56408,"4757022VULN",100,null,"Pueblo Viejo"]
[null,null,null,null,null,null,null,null,null,null,null,null,null,null,null,null,null,null,56427,"0583741VULN",100,null,"Puerto Cesar"]
[null,null,null,null,null,null,null,null,null,null,null,null,null,null,null,null,null,null,56418,"2357432VULN",100,null,"Puerto Escondido"]
[null,null,null,null,null,null,null,null,null,null,null,null,null,null,null,null,null,null,56421,"PT-CB-0",100,null,"Punta Caribaná"]
[null,null,null,null,null,null,null,null,null,null,null,null,null,null,null,null,null,null,56410,"2367224VULN",100,null,"Punta Mestizo"]
[null,null,null,null,null,null,null,null,null,null,null,null,null,null,null,null,null,null,56419,"RHO-0",100,null,"Rio Hobo"]
[null,null,null,null,null,null,null,null,null,null,null,null,null,null,null,null,null,null,56398,"4400112VULN",100,null,"Riohacha"]
[null,null,null,null,null,null,null,null,null,null,null,null,null,null,null,null,null,null,56406,"4700120VULN",100,null,"Rodadero"]
[null,null,null,null,null,null,null,null,null,null,null,null,null,null,null,null,null,null,56416,"2350030VULN",100,null,"Río Cedro"]
[null,null,null,null,null,null,null,null,null,null,null,null,null,null,null,null,null,null,56429,"RL-0",100,null,"Río León"]
[null,null,null,null,null,null,null,null,null,null,null,null,null,null,null,null,null,null,56404,"4700118VULN",100,null,"Santa Marta"]
[null,null,null,null,null,null,null,null,null,null,null,null,null,null,null,null,null,null,56392,"SR-0",100,null,"Santa Rosa"]
[null,null,null,null,null,null,null,null,null,null,null,null,null,null,null,null,null,null,56403,"4700117VULN",100,null,"Taganga"]
[null,null,null,null,null,null,null,null,null,null,null,null,null,null,null,null,null,null,56409,"TSJ-0",100,null,"Tasajeras"]
[null,null,null,null,null,null,null,null,null,null,null,null,null,null,null,null,null,null,56420,"0565934VULN",100,null,"Uveros-Damaquiel"]

{"sheet":"AGD_MUESTREOS","index":7,"n_rows":0,"n_cols":0,"rows_kept":0,"cut":false,"hidden":true,"merged":[]}

{"sheet":"AGD_PARAMETRO","index":8,"n_rows":0,"n_cols":0,"rows_kept":0,"cut":false,"hidden":true,"merged":[]}

{"sheet":"AGD_MUESTRAS","index":9,"n_rows":0,"n_cols":0,"rows_kept":0,"cut":false,"hidden":true,"merged":[]}

{"sheet":"AGD_MUESTRAS_VARIABLES","index":10,"n_rows":0,"n_cols":0,"rows_kept":0,"cut":false,"hidden":true,"merged":[]}

{"sheet":"AGD_AUTORIAS","index":11,"n_rows":0,"n_cols":0,"rows_kept":0,"cut":false,"hidden":true,"merged":[]}