{"text_format":"1","workbook":"xlsx","n_sheets":11,"sheets":["Registro de cambios","configuracion","DIGITADOR","Hobo","referentes","Otras referencias","AGD_MUESTREOS","AGD_PARAMETRO","AGD_MUESTRAS","AGD_MUESTRAS_VARIABLES","AGD_AUTORIAS"],"not_rendered":{"charts":0,"images":0,"macros":1,"external_links":1,"defined_names":29,"comments":3,"pivot_tables":0},"unopened":[],"bounds":{"document_bytes":16777216,"sheet_cells":100000,"rows_first":2000,"rows_last":500,"rows_between":2000,"halvings":0,"cell_chars":16384,"cell_head_chars":4096},"cells_cut":0,"cells_raw":0,"read":"whole","date_system":"1900"}

{"sheet":"Registro de cambios","index":0,"n_rows":6,"n_cols":11,"rows_kept":6,"cut":false,"hidden":true,"merged":[[1,3,1,10],[2,4,2,8],[5,4,5,8],[4,4,4,8],[3,4,3,8]]}
[]
[null,null,null,"REGISTRO DE CAMBIOS"]
[null,null,null,"VERSIÓN No.","CAMBIO REALIZADO",null,null,null,null,null,"VIGENTE DESDE"]
[null,null,null,"20240719i","Validación de campos en la pestaña DIGITADOR a través del código de las macros para generar las tablas de datos.",null,null,null,null,"Kevin Moreno","19/07/2024"]
[null,null,null,"20240515i","Actualización del código de la macro.\n\nSe eliminó la URL de la antigua API de portete:\n       http://portete.invemar.org.co:7003/ArgosWebServices-RESTWebService-context-root/rest/1.0\n\nFue reemplazada por la URL de la API de ARGOS:\n       https://argos.invemar.org.co/api/\n\nLa API contiene End Points que permiten tener mayor control, facilitan la descarga de referentes (listas de usuarios, estaciones, especies, etc.) que corresponden a criterios específicos como el proyecto usado en la plantilla para evitar descargar data innecesaria.\n\nDel mismo modo, también permite la carga de información a la BDD del INVEMAR.\n\nLa macro toma los Endpoints desde la hoja configuracion de una tabla llamada \"Configuración referentes\", a la que se le puede modificar las rutas de la API o agregar nuevas. cabe resaltar que se puede \"quemar\" directamente en la macro los Endpoints que lo requieran.",null,null,null,null,"Kevin Moreno","15/5/2024"]
[null,null,null,3.1,"Se modifica la generación de los ID de muestreo y se agrega macro que genera número aleatorio en la hoja DIGITADOR.",null,null,null,null,null,"13/4/2018"]

{"sheet":"configuracion","index":1,"n_rows":71,"n_cols":10,"rows_kept":71,"cut":false,"hidden":true,"merged":[[61,0,61,2],[28,0,35,0],[37,0,42,0],[45,0,45,1],[0,0,2,0],[3,0,5,0],[7,0,8,0],[9,0,15,0],[17,0,21,0],[23,0,26,0]]}
["general","urlServicio","https://argos.invemar.org.co/api/"]
[null,"fila de inicio",3]
[null,"fila de fin",15000]
["metodologias","Metodologias",814]
[null,"Referentes",300]
[null,"Cantidad maxima de referentes ",300]
["estaciones/investigadores","proyectos",2025]
["Lista especies","metodologias"]
[null,"proyectos"]
["MUESTREOS","ID_MUESTREO",{"$f":"814&YEAR(NOW())&TEXT(NOW(),\"mmddhhmmss\")","v":"81420240722134351"}]
[null,"ID_ESTACION",17255]
[null,"ID_PROYECTO",2025]
[null,"ID_METODOLOGIA",814]
[null,"ID_TEMATICAS",212]
[null,"FECHA","DIGITADOR,C,6"]
[null,"NOTAS","DIGITADOR,C,13"]
[null,"cantidad",0]
["parametro muestreo","ID_MUESTREO",{"$f":"$C$10","v":"81420240722134351"},{"$f":"$C$10","v":"81420240722134351"},"81420240722134351","81420240722134351"]
[null,"ID_PARAMETRO",249,1170,1055,1169]
[null,"ID_METODOLOGIA",814,814,814,814]
[null,"ID_UNIDAD_MEDIDA",100,100,100,100]
[null,"VALOR","DIGITADOR,C,4","DIGITADOR,C,9","DIGITADOR,C,7","DIGITADOR,C,11"]
[null,"cantidad",0]
["muestra","ID_MUESTRA","Hobo,H"]
[null,"ID_MUESTREO",{"$f":"C10","v":"81420240722134351"}]
[null,"NOTAS"]
[null,"ES_REPLICA",0]
[null,"cantidad",12000]
["muestra variable","ID_PARAMETRO",100,140,731,145]
[null,"ID_METODOLOGIA",814,814,814,814]
[null,"ID_UNIDAD_MEDIDA",5,4,101,100]
[null,"ID_MUESTRA","Hobo,H","Hobo,H","Hobo,H","Hobo,H"]
[null,"ID_METODO",624,624,624,624]
[null,"VALOR","Hobo,C","Hobo,D","Hobo,E","Hobo,I"]
[null,"QUALITY_FLAG"]
[null,"PRECISION"]
[null,"cantidad",12000,12000,12000,12000]
["autoria","ID_FUNCIONARIO","DIGITADOR,C,2"]
[null,"ID_TAREA",4]
[null,"ORDEN",1]
[null,"FECHA","DIGITADOR,C,6"]
[null,"ID_MUESTRA",{"$f":"$C$10","v":"81420240722134351"}]
[null,"ENTIDAD","INVEMAR"]
[null,"cantidad",0]
[null,null,null,null,null,null,null,"ID_PARAMETRO","ID_UNIDAD_MEDIDA","COLUMNA"]
["REGISTROS GENERADOS",null,"REGISTROS CARGADOS",null,null,null,null,249,100,"HOBO"]
["MUESTREOS",null,null,null,null,null,null,145,100,"FECHA_REGISTRO"]
["parametro muestreo",null,null,null,null,null,null,100,5,"TEMPERATURA"]
["muestra",null,null,null,null,null,null,140,4,"HUMEDAD_RELATIVA"]
["muestra variable",null,null,null,null,null,null,731,101,"LUMINOSIDAD"]
["autoria",null,null,null,null,null,null,1170,100,"ARCHIVO_FUENTE"]
["registros correctos",null,null,null,null,null,null,1055,100,"VERSION_PLANTILLA"]
["Fecha de carga",null,null,null,null,null,null,1169,100,"URL_METADATO"]
["json error"]
["error"]
[]
[]
["Atributo","Descripción","Código"]
["Tipo Nodo","Estaciones",{"$f":"VLOOKUP(B59, 'Otras referencias'!$A$14:$C$24, 2, FALSE)","v":40}]
[]
[]
["CONFIGURACION REFERENTES"]
["Ruta de la API","Endpoint","Descripción"]
["URL - AGM Campo",{"$f":"CONCATENATE(\"parametros/agmcampo/\",$C$4)","v":"parametros/agmcampo/814"},"Listado de referentes AGM_CAMPO"]
["URL - Especies",{"$f":"IF('Otras referencias'!$C$8=\"\",\"\",CONCATENATE(\"especies/filt/\",$C$9,\",\",$C$8,\"/\"))","v":""},"Especies por proyecto\n(No todos los proyectos tienen asociados una lista de especies)"]
["URL - Estaciones",{"$f":"CONCATENATE(\"estaciones/\", $C$59, \"/\", $C$7)","v":"estaciones/40/2025"},"Estaciones/parcelas por proyecto, cambia dependiendo del Tipo de Nodo, cuyo estado sea VIGENTE."]
["URL - Usuarios",{"$f":"CONCATENATE(\"parametros/usersByProject/\",$C$7)","v":"parametros/usersByProject/2025"},"Usuarios por proyecto."]
["URL - Entidades","estaciones/get-entidades","Listado de entidades."]
["Atributos de la API","codigo_in","nombre_in"]
["Rango de atributos de la API","B70:C71","nombre_in"]
["URL - Plantillas","plantillas/","Endpoint para la carga de datos al sistema."]

{"sheet":"DIGITADOR","index":2,"n_rows":27,"n_cols":6,"rows_kept":27,"cut":false,"hidden":false,"merged":[[0,5,7,11],[9,5,13,11],[15,5,16,11],[18,5,20,11],[17,1,17,2],[0,1,0,2],[4,1,5,1],[12,1,13,1],[12,2,13,2]]}
[null,"Recolección de Datos - Hobos",null,null,null,"Recomendaciones generales: \n¡Precaución! No inserte Filas o Columnas.\nEn los casos en que falte un valor a ingresar que provenga de la hoja de referencias, informe para que el administrador del sistema haga las adiciones necesarias.\nEsta es una plantilla programada. Las columnas de color oscuro se llenan automaticamente, principalmente a partir de los contenidos de la hoja de referencias. \nNO UTILICE PUNTO Y COMA (;) en ningun campo, por ser el separador de variables (columnas). Las unidades de medida son las especificadas en la cabecera de la hoja.\nPara el correcto funcionamiento de la hoja debe estar activa la opcion de Excel de ejecutar macros (al abrir la hoja acepte la opcion habilitar macros, mensaje de Excel que aparece en la parte superior de la hoja en un recuadro amarillo). La extensión del archivo debe ser .xlsm.. \nAl finalizar, renombre el archivo de modo que su contenido sea claro, ejemplo:\ncorporacion_estacion_anocuatrodigitosmesmuestreo.xlsm. El nombre no debe tener espacios en blanco vocales tildadas o ñ."]
[null,"Código del responsable",{"$f":"IF(C3=\"\",\"\",VLOOKUP(C3,referentes!A2:B28,2,FALSE))","v":1656}]
[null,"Nombre del responsable","Miguel Martelo López"]
[null,"HOBO"]
[null,"Fecha en la que se ingresa los datos en esta hoja","DD/MM/AAAA"]
[]
[null,"Versión de la plantilla",{"$f":"'Registro de cambios'!$D$4","v":"20240719i"}]
[]
[null,"Nombre del archivo",{"$f":"MID(CELL(\"FILENAME\",N63),FIND(\"[\",CELL(\"FILENAME\",N63))+1,   FIND(\"]\",CELL(\"FILENAME\",N63))-FIND(\"[\",CELL(\"FILENAME\",N63))-1)","v":"HOBOS_MHNMC_V2.2.xlsm"}]
[null,"Fuente plantilla","http://cinto.invemar.org.co/download/Plantillas_ARGOS_Plus/",null,null,"Previamente a iniciar el llenado de la plantilla, debe presionar el botón \"Descargar referentes\" (si aplica) para que los referentes de ésta plantilla sean actualizados. \nLuego de llenar completamente la plantilla verifique que:\na. No haya celdas con valores como \"#N/A\" o \"#¡REF!\".\nb. No se estén aplicando filtros en la hoja de datos.\nEnvíe la plantilla diligenciada al correo kevin.moreno@invemar.org.co"]
[null,"DOI Metadato"]
[]
[null,"Observaciones generales"]
[]
[]
[null,null,null,null,null,"Si requiere ayuda contacte a:\nKevin S. Moreno (kevin.moreno@invemar.org.co)"]
[]
[null,"REGISTROS GENERADOS",null,"REGISTROS CARGADOS"]
[null,"MUESTREOS",{"$f":"IF(configuracion!B47=\"\",\"\",configuracion!B47)","v":""},{"$f":"IF(configuracion!C47=\"\",\"\",configuracion!C47)","v":""},null,"El custodio de los datos es el único autorizado para distribuir este conjunto de datos. El observador y el digitador se comprometen a tomar las medidas necesarias para salvaguardar este conjunto de datos de modo que copia de los mismos no sean obtenidas y/o usadas por terceros no relacionados con el propósito para la cual se recolectó."]
[null,"parametro muestreo",{"$f":"IF(configuracion!B48=\"\",\"\",configuracion!B48)","v":""},{"$f":"IF(configuracion!C48=\"\",\"\",configuracion!C48)","v":""}]
[null,"muestra",{"$f":"IF(configuracion!B49=\"\",\"\",configuracion!B49)","v":""},{"$f":"IF(configuracion!C49=\"\",\"\",configuracion!C49)","v":""}]
[null,"muestra variable",{"$f":"IF(configuracion!B50=\"\",\"\",configuracion!B50)","v":""},{"$f":"IF(configuracion!C50=\"\",\"\",configuracion!C50)","v":""}]
[null,"autoria",{"$f":"IF(configuracion!B51=\"\",\"\",configuracion!B51)","v":""},{"$f":"IF(configuracion!C51=\"\",\"\",configuracion!C51)","v":""}]
[null,"registros correctos",{"$f":"IF(configuracion!B52=\"\",\"\",configuracion!B52)","v":""},{"$f":"IF(configuracion!C52=\"\",\"\",configuracion!C52)","v":""}]
[null,"Fecha de carga",{"$f":"IF(configuracion!B53=\"\",\"\",configuracion!B53)","v":""},{"$f":"IF(configuracion!C53=\"\",\"\",configuracion!C53)","v":""}]
[null,"json error",{"$f":"IF(configuracion!B54=\"\",\"\",configuracion!B54)","v":""},{"$f":"IF(configuracion!C54=\"\",\"\",configuracion!C54)","v":""}]
[null,"error",{"$f":"IF(configuracion!B55=\"\",\"\",configuracion!B55)","v":""},{"$f":"IF(configuracion!C55=\"\",\"\",configuracion!C55)","v":""}]

{"sheet":"Hobo","index":3,"n_rows":15003,"n_cols":9,"rows_kept":4500,"cut":true,"hidden":false,"merged":[],"bounds":{"rows_first":2000,"rows_last":500,"rows_between":2000,"halvings":0}}
[]
["N.º","Fecha Tiempo, GMT-05:00","Temp, °C (LGR S/N: 10967833, SEN S/N: 10967833, LBL: TEMP)","HR, % (LGR S/N: 10967833, SEN S/N: 10967833, LBL: HUM_REL)","Intensidad, lum/ft² (LGR S/N: 10967833, SEN S/N: 10967833, LBL: INT_LUZ)",null,null,"ID MUESTRA","Fecha Tiempo, GMT-05:00 (Texto)"]
[null,null,null,null,null,null,null,{"$f":"IF(Hobo!A3<>\"\",Hobo!A3&configuracion!$C$10,\"\")","v":""},{"$f":"IF(B3=\"\",\"\",TEXT(B3, \"DD/MM/YYYY HH:MM:SS\"))","v":""}]
[null,null,null,null,null,null,null,{"$f":"IF(Hobo!A4<>\"\",Hobo!A4&configuracion!$C$10,\"\")","v":""},{"$f":"IF(B4=\"\",\"\",TEXT(B4, \"DD/MM/YYYY HH:MM:SS\"))","v":""}]
[null,null,null,null,null,null,null,{"$f":"IF(Hobo!A5<>\"\",Hobo!A5&configuracion!$C$10,\"\")","v":""},""]
[null,null,null,null,null,null,null,{"$f":"IF(Hobo!A6<>\"\",Hobo!A6&configuracion!$C$10,\"\")","v":""},""]
[null,null,null,null,null,null,null,{"$f":"IF(Hobo!A7<>\"\",Hobo!A7&configuracion!$C$10,\"\")","v":""},""]
[null,null,null,null,null,null,null,{"$f":"IF(Hobo!A8<>\"\",Hobo!A8&configuracion!$C$10,\"\")","v":""},""]
[null,null,null,null,null,null,null,{"$f":"IF(Hobo!A9<>\"\",Hobo!A9&configuracion!$C$10,\"\")","v":""},""]
[null,null,null,null,null,null,null,{"$f":"IF(Hobo!A10<>\"\",Hobo!A10&configuracion!$C$10,\"\")","v":""},""]
[null,null,null,null,null,null,null,{"$f":"IF(Hobo!A11<>\"\",Hobo!A11&configuracion!$C$10,\"\")","v":""},""]
[null,null,null,null,null,null,null,{"$f":"IF(Hobo!A12<>\"\",Hobo!A12&configuracion!$C$10,\"\")","v":""},""]
[null,null,null,null,null,null,null,{"$f":"IF(Hobo!A13<>\"\",Hobo!A13&configuracion!$C$10,\"\")","v":""},""]
[null,null,null,null,null,null,null,{"$f":"IF(Hobo!A14<>\"\",Hobo!A14&configuracion!$C$10,\"\")","v":""},""]
[null,null,null,null,null,null,null,{"$f":"IF(Hobo!A15<>\"\",Hobo!A15&configuracion!$C$10,\"\")","v":""},""]
[null,null,null,null,null,null,null,{"$f":"IF(Hobo!A16<>\"\",Hobo!A16&configuracion!$C$10,\"\")","v":""},""]
[null,null,null,null,null,null,null,{"$f":"IF(Hobo!A17<>\"\",Hobo!A17&configuracion!$C$10,\"\")","v":""},""]
[null,null,null,null,null,null,null,{"$f":"IF(Hobo!A18<>\"\",Hobo!A18&configuracion!$C$10,\"\")","v":""},""]
[null,null,null,null,null,null,null,{"$f":"IF(Hobo!A19<>\"\",Hobo!A19&configuracion!$C$10,\"\")","v":""},""]
[null,null,null,null,null,null,null,{"$f":"IF(Hobo!A20<>\"\",Hobo!A20&configuracion!$C$10,\"\")","v":""},""]
[null,null,null,null,null,null,null,{"$f":"IF(Hobo!A21<>\"\",Hobo!A21&configuracion!$C$10,\"\")","v":""},""]
[null,null,null,null,null,null,null,{"$f":"IF(Hobo!A22<>\"\",Hobo!A22&configuracion!$C$10,\"\")","v":""},""]
[null,null,null,null,null,null,null,{"$f":"IF(Hobo!A23<>\"\",Hobo!A23&configuracion!$C$10,\"\")","v":""},""]
[null,null,null,null,null,null,null,{"$f":"IF(Hobo!A24<>\"\",Hobo!A24&configuracion!$C$10,\"\")","v":""},""]
[null,null,null,null,null,null,null,{"$f":"IF(Hobo!A25<>\"\",Hobo!A25&configuracion!$C$10,\"\")","v":""},""]
[null,null,null,null,null,null,null,{"$f":"IF(Hobo!A26<>\"\",Hobo!A26&configuracion!$C$10,\"\")","v":""},""]
[null,null,null,null,null,null,null,{"$f":"IF(Hobo!A27<>\"\",Hobo!A27&configuracion!$C$10,\"\")","v":""},""]
[null,null,null,null,null,null,null,{"$f":"IF(Hobo!A28<>\"\",Hobo!A28&configuracion!$C$10,\"\")","v":""},""]
[null,null,null,null,null,null,null,{"$f":"IF(Hobo!A29<>\"\",Hobo!A29&configuracion!$C$10,\"\")","v":""},""]
[null,null,null,null,null,null,null,{"$f":"IF(Hobo!A30<>\"\",Hobo!A30&configuracion!$C$10,\"\")","v":""},""]
[null,null,null,null,null,null,null,{"$f":"IF(Hobo!A31<>\"\",Hobo!A31&configuracion!$C$10,\"\")","v":""},""]
[null,null,null,null,null,null,null,{"$f":"IF(Hobo!A32<>\"\",Hobo!A32&configuracion!$C$10,\"\")","v":""},""]
[null,null,null,null,null,null,null,{"$f":"IF(Hobo!A33<>\"\",Hobo!A33&configuracion!$C$10,\"\")","v":""},""]
[null,null,null,null,null,null,null,{"$f":"IF(Hobo!A34<>\"\",Hobo!A34&configuracion!$C$10,\"\")","v":""},""]
[null,null,null,null,null,null,null,{"$f":"IF(Hobo!A35<>\"\",Hobo!A35&configuracion!$C$10,\"\")","v":""},""]
[null,null,null,null,null,null,null,{"$f":"IF(Hobo!A36<>\"\",Hobo!A36&configuracion!$C$10,\"\")","v":""},""]
[null,null,null,null,null,null,null,{"$f":"IF(Hobo!A37<>\"\",Hobo!A37&configuracion!$C$10,\"\")","v":""},""]
[null,null,null,null,null,null,null,{"$f":"IF(Hobo!A38<>\"\",Hobo!A38&configuracion!$C$10,\"\")","v":""},""]
[null,null,null,null,null,null,null,{"$f":"IF(Hobo!A39<>\"\",Hobo!A39&configuracion!$C$10,\"\")","v":""},""]
[null,null,null,null,null,null,null,{"$f":"IF(Hobo!A40<>\"\",Hobo!A40&configuracion!$C$10,\"\")","v":""},""]
[null,null,null,null,null,null,null,{"$f":"IF(Hobo!A41<>\"\",Hobo!A41&configuracion!$C$10,\"\")","v":""},""]
[null,null,null,null,null,null,null,{"$f":"IF(Hobo!A42<>\"\",Hobo!A42&configuracion!$C$10,\"\")","v":""},""]
[null,null,null,null,null,null,null,{"$f":"IF(Hobo!A43<>\"\",Hobo!A43&configuracion!$C$10,\"\")","v":""},""]
[null,null,null,null,null,null,null,{"$f":"IF(Hobo!A44<>\"\",Hobo!A44&configuracion!$C$10,\"\")","v":""},""]
[null,null,null,null,null,null,null,{"$f":"IF(Hobo!A45<>\"\",Hobo!A45&configuracion!$C$10,\"\")","v":""},""]
[null,null,null,null,null,null,null,{"$f":"IF(Hobo!A46<>\"\",Hobo!A46&configuracion!$C$10,\"\")","v":""},""]
[null,null,null,null,null,null,null,{"$f":"IF(Hobo!A47<>\"\",Hobo!A47&configuracion!$C$10,\"\")","v":""},""]
[null,null,null,null,null,null,null,{"$f":"IF(Hobo!A48<>\"\",Hobo!A48&configuracion!$C$10,\"\")","v":""},""]
[null,null,null,null,null,null,null,{"$f":"IF(Hobo!A49<>\"\",Hobo!A49&configuracion!$C$10,\"\")","v":""},""]
[null,null,null,null,null,null,null,{"$f":"IF(Hobo!A50<>\"\",Hobo!A50&configuracion!$C$10,\"\")","v":""},""]
[null,null,null,null,null,null,null,{"$f":"IF(Hobo!A51<>\"\",Hobo!A51&configuracion!$C$10,\"\")","v":""},""]
[null,null,null,null,null,null,null,{"$f":"IF(Hobo!A52<>\"\",Hobo!A52&configuracion!$C$10,\"\")","v":""},""]
[null,null,null,null,null,null,null,{"$f":"IF(Hobo!A53<>\"\",Hobo!A53&configuracion!$C$10,\"\")","v":""},""]
[null,null,null,null,null,null,null,{"$f":"IF(Hobo!A54<>\"\",Hobo!A54&configuracion!$C$10,\"\")","v":""},""]
[null,null,null,null,null,null,null,{"$f":"IF(Hobo!A55<>\"\",Hobo!A55&configuracion!$C$10,\"\")","v":""},""]
[null,null,null,null,null,null,null,{"$f":"IF(Hobo!A56<>\"\",Hobo!A56&configuracion!$C$10,\"\")","v":""},""]
[null,null,null,null,null,null,null,{"$f":"IF(Hobo!A57<>\"\",Hobo!A57&configuracion!$C$10,\"\")","v":""},""]
[null,null,null,null,null,null,null,{"$f":"IF(Hobo!A58<>\"\",Hobo!A58&configuracion!$C$10,\"\")","v":""},""]
[null,null,null,null,null,null,null,{"$f":"IF(Hobo!A59<>\"\",Hobo!A59&configuracion!$C$10,\"\")","v":""},""]
[null,null,null,null,null,null,null,{"$f":"IF(Hobo!A60<>\"\",Hobo!A60&configuracion!$C$10,\"\")","v":""},""]
[null,null,null,null,null,null,null,{"$f":"IF(Hobo!A61<>\"\",Hobo!A61&configuracion!$C$10,\"\")","v":""},""]
[null,null,null,null,null,null,null,{"$f":"IF(Hobo!A62<>\"\",Hobo!A62&configuracion!$C$10,\"\")","v":""},""]
[null,null,null,null,null,null,null,{"$f":"IF(Hobo!A63<>\"\",Hobo!A63&configuracion!$C$10,\"\")","v":""},""]
[null,null,null,null,null,null,null,{"$f":"IF(Hobo!A64<>\"\",Hobo!A64&configuracion!$C$10,\"\")","v":""},""]
[null,null,null,null,null,null,null,{"$f":"IF(Hobo!A65<>\"\",Hobo!A65&configuracion!$C$10,\"\")","v":""},""]
[null,null,null,null,null,null,null,{"$f":"IF(Hobo!A66<>\"\",Hobo!A66&configuracion!$C$10,\"\")","v":""},""]
[null,null,null,null,null,null,null,{"$f":"IF(Hobo!A67<>\"\",Hobo!A67&configuracion!$C$10,\"\")","v":""},""]
[null,null,null,null,null,null,null,{"$f":"IF(Hobo!A68<>\"\",Hobo!A68&configuracion!$C$10,\"\")","v":""},{"$f":"IF(B68=\"\",\"\",TEXT(B68, \"DD/MM/YYYY HH:MM:SS\"))","v":""}]
[null,null,null,null,null,null,null,{"$f":"IF(Hobo!A69<>\"\",Hobo!A69&configuracion!$C$10,\"\")","v":""},""]
[null,null,null,null,null,null,null,{"$f":"IF(Hobo!A70<>\"\",Hobo!A70&configuracion!$C$10,\"\")","v":""},""]
[null,null,null,null,null,null,null,{"$f":"IF(Hobo!A71<>\"\",Hobo!A71&configuracion!$C$10,\"\")","v":""},""]
[null,null,null,null,null,null,null,{"$f":"IF(Hobo!A72<>\"\",Hobo!A72&configuracion!$C$10,\"\")","v":""},""]
[null,null,null,null,null,null,null,{"$f":"IF(Hobo!A73<>\"\",Hobo!A73&configuracion!$C$10,\"\")","v":""},""]
[null,null,null,null,null,null,null,{"$f":"IF(Hobo!A74<>\"\",Hobo!A74&configuracion!$C$10,\"\")","v":""},""]
[null,null,null,null,null,null,null,{"$f":"IF(Hobo!A75<>\"\",Hobo!A75&configuracion!$C$10,\"\")","v":""},""]
[null,null,null,null,null,null,null,{"$f":"IF(Hobo!A76<>\"\",Hobo!A76&configuracion!$C$10,\"\")","v":""},""]
[null,null,null,null,null,null,null,{"$f":"IF(Hobo!A77<>\"\",Hobo!A77&configuracion!$C$10,\"\")","v":""},""]
[null,null,null,null,null,null,null,{"$f":"IF(Hobo!A78<>\"\",Hobo!A78&configuracion!$C$10,\"\")","v":""},""]
[null,null,null,null,null,null,null,{"$f":"IF(Hobo!A79<>\"\",Hobo!A79&configuracion!$C$10,\"\")","v":""},""]
[null,null,null,null,null,null,null,{"$f":"IF(Hobo!A80<>\"\",Hobo!A80&configuracion!$C$10,\"\")","v":""},""]
[null,null,null,null,null,null,null,{"$f":"IF(Hobo!A81<>\"\",Hobo!A81&configuracion!$C$10,\"\")","v":""},""]
[null,null,null,null,null,null,null,{"$f":"IF(Hobo!A82<>\"\",Hobo!A82&configuracion!$C$10,\"\")","v":""},""]
[null,null,null,null,null,null,null,{"$f":"IF(Hobo!A83<>\"\",Hobo!A83&configuracion!$C$10,\"\")","v":""},""]
[null,null,null,null,null,null,null,{"$f":"IF(Hobo!A84<>\"\",Hobo!A84&configuracion!$C$10,\"\")","v":""},""]
[null,null,null,null,null,null,null,{"$f":"IF(Hobo!A85<>\"\",Hobo!A85&configuracion!$C$10,\"\")","v":""},""]
[null,null,null,null,null,null,null,{"$f":"IF(Hobo!A86<>\"\",Hobo!A86&configuracion!$C$10,\"\")","v":""},""]
[null,null,null,null,null,null,null,{"$f":"IF(Hobo!A87<>\"\",Hobo!A87&configuracion!$C$10,\"\")","v":""},""]
[null,null,null,null,null,null,null,{"$f":"IF(Hobo!A88<>\"\",Hobo!A88&configuracion!$C$10,\"\")","v":""},""]
[null,null,null,null,null,null,null,{"$f":"IF(Hobo!A89<>\"\",Hobo!A89&configuracion!$C$10,\"\")","v":""},""]
[null,null,null,null,null,null,null,{"$f":"IF(Hobo!A90<>\"\",Hobo!A90&configuracion!$C$10,\"\")","v":""},""]
[null,null,null,null,null,null,null,{"$f":"IF(Hobo!A91<>\"\",Hobo!A91&configuracion!$C$10,\"\")","v":""},""]
[null,null,null,null,null,null,null,{"$f":"IF(Hobo!A92<>\"\",Hobo!A92&configuracion!$C$10,\"\")","v":""},""]
[null,null,null,null,null,null,null,{"$f":"IF(Hobo!A93<>\"\",Hobo!A93&configuracion!$C$10,\"\")","v":""},""]
[null,null,null,null,null,null,null,{"$f":"IF(Hobo!A94<>\"\",Hobo!A94&configuracion!$C$10,\"\")","v":""},""]
[null,null,null,null,null,null,null,{"$f":"IF(Hobo!A95<>\"\",Hobo!A95&configuracion!$C$10,\"\")","v":""},""]
[null,null,null,null,null,null,null,{"$f":"IF(Hobo!A96<>\"\",Hobo!A96&configuracion!$C$10,\"\")","v":""},""]
[null,null,null,null,null,null,null,{"$f":"IF(Hobo!A97<>\"\",Hobo!A97&configuracion!$C$10,\"\")","v":""},""]
[null,null,null,null,null,null,null,{"$f":"IF(Hobo!A98<>\"\",Hobo!A98&configuracion!$C$10,\"\")","v":""},""]
[null,null,null,null,null,null,null,{"$f":"IF(Hobo!A99<>\"\",Hobo!A99&configuracion!$C$10,\"\")","v":""},""]
[null,null,null,null,null,null,null,{"$f":"IF(Hobo!A100<>\"\",Hobo!A100&configuracion!$C$10,\"\")","v":""},""]
[null,null,null,null,null,null,null,{"$f":"IF(Hobo!A101<>\"\",Hobo!A101&configuracion!$C$10,\"\")","v":""},""]
[null,null,null,null,null,null,null,{"$f":"IF(Hobo!A102<>\"\",Hobo!A102&configuracion!$C$10,\"\")","v":""},""]
[null,null,null,null,null,null,null,{"$f":"IF(Hobo!A103<>\"\",Hobo!A103&configuracion!$C$10,\"\")","v":""},""]
[null,null,null,null,null,null,null,{"$f":"IF(Hobo!A104<>\"\",Hobo!A104&configuracion!$C$10,\"\")","v":""},""]
[null,null,null,null,null,null,null,{"$f":"IF(Hobo!A105<>\"\",Hobo!A105&configuracion!$C$10,\"\")","v":""},""]
[null,null,null,null,null,null,null,{"$f":"IF(Hobo!A106<>\"\",Hobo!A106&configuracion!$C$10,\"\")","v":""},""]
[null,null,null,null,null,null,null,{"$f":"IF(Hobo!A107<>\"\",Hobo!A107&configuracion!$C$10,\"\")","v":""},""]
[null,null,null,null,null,null,null,{"$f":"IF(Hobo!A108<>\"\",Hobo!A108&configuracion!$C$10,\"\")","v":""},""]
[null,null,null,null,null,null,null,{"$f":"IF(Hobo!A109<>\"\",Hobo!A109&configuracion!$C$10,\"\")","v":""},""]
[null,null,null,null,null,null,null,{"$f":"IF(Hobo!A110<>\"\",Hobo!A110&configuracion!$C$10,\"\")","v":""},""]
[null,null,null,null,null,null,null,{"$f":"IF(Hobo!A111<>\"\",Hobo!A111&configuracion!$C$10,\"\")","v":""},""]
[null,null,null,null,null,null,null,{"$f":"IF(Hobo!A112<>\"\",Hobo!A112&configuracion!$C$10,\"\")","v":""},""]
[null,null,null,null,null,null,null,{"$f":"IF(Hobo!A113<>\"\",Hobo!A113&configuracion!$C$10,\"\")","v":""},""]
[null,null,null,null,null,null,null,{"$f":"IF(Hobo!A114<>\"\",Hobo!A114&configuracion!$C$10,\"\")","v":""},""]
[null,null,null,null,null,null,null,{"$f":"IF(Hobo!A115<>\"\",Hobo!A115&configuracion!$C$10,\"\")","v":""},""]
[null,null,null,null,null,null,null,{"$f":"IF(Hobo!A116<>\"\",Hobo!A116&configuracion!$C$10,\"\")","v":""},""]
[null,null,null,null,null,null,null,{"$f":"IF(Hobo!A117<>\"\",Hobo!A117&configuracion!$C$10,\"\")","v":""},""]
[null,null,null,null,null,null,null,{"$f":"IF(Hobo!A118<>\"\",Hobo!A118&configuracion!$C$10,\"\")","v":""},""]
[null,null,null,null,null,null,null,{"$f":"IF(Hobo!A119<>\"\",Hobo!A119&configuracion!$C$10,\"\")","v":""},""]
[null,null,null,null,null,null,null,{"$f":"IF(Hobo!A120<>\"\",Hobo!A120&configuracion!$C$10,\"\")","v":""},""]
[null,null,null,null,null,null,null,{"$f":"IF(Hobo!A121<>\"\",Hobo!A121&configuracion!$C$10,\"\")","v":""},""]
[null,null,null,null,null,null,null,{"$f":"IF(Hobo!A122<>\"\",Hobo!A122&configuracion!$C$10,\"\")","v":""},""]
[null,null,null,null,null,null,null,{"$f":"IF(Hobo!A123<>\"\",Hobo!A123&configuracion!$C$10,\"\")","v":""},""]
[null,null,null,null,null,null,null,{"$f":"IF(Hobo!A124<>\"\",Hobo!A124&configuracion!$C$10,\"\")","v":""},""]
[null,null,null,null,null,null,null,{"$f":"IF(Hobo!A125<>\"\",Hobo!A125&configuracion!$C$10,\"\")","v":""},""]
[null,null,null,null,null,null,null,{"$f":"IF(Hobo!A126<>\"\",Hobo!A126&configuracion!$C$10,\"\")","v":""},""]
[null,null,null,null,null,null,null,{"$f":"IF(Hobo!A127<>\"\",Hobo!A127&configuracion!$C$10,\"\")","v":""},""]
[null,null,null,null,null,null,null,{"$f":"IF(Hobo!A128<>\"\",Hobo!A128&configuracion!$C$10,\"\")","v":""},""]
[null,null,null,null,null,null,null,{"$f":"IF(Hobo!A129<>\"\",Hobo!A129&configuracion!$C$10,\"\")","v":""},""]
[null,null,null,null,null,null,null,{"$f":"IF(Hobo!A130<>\"\",Hobo!A130&configuracion!$C$10,\"\")","v":""},""]
[null,null,null,null,null,null,null,{"$f":"IF(Hobo!A131<>\"\",Hobo!A131&configuracion!$C$10,\"\")","v":""},""]
[null,null,null,null,null,null,null,{"$f":"IF(Hobo!A132<>\"\",Hobo!A132&configuracion!$C$10,\"\")","v":""},{"$f":"IF(B132=\"\",\"\",TEXT(B132, \"DD/MM/YYYY HH:MM:SS\"))","v":""}]
[null,null,null,null,null,null,null,{"$f":"IF(Hobo!A133<>\"\",Hobo!A133&configuracion!$C$10,\"\")","v":""},""]
[null,null,null,null,null,null,null,{"$f":"IF(Hobo!A134<>\"\",Hobo!A134&configuracion!$C$10,\"\")","v":""},""]
[null,null,null,null,null,null,null,{"$f":"IF(Hobo!A135<>\"\",Hobo!A135&configuracion!$C$10,\"\")","v":""},""]
[null,null,null,null,null,null,null,{"$f":"IF(Hobo!A136<>\"\",Hobo!A136&configuracion!$C$10,\"\")","v":""},""]
[null,null,null,null,null,null,null,{"$f":"IF(Hobo!A137<>\"\",Hobo!A137&configuracion!$C$10,\"\")","v":""},""]
[null,null,null,null,null,null,null,{"$f":"IF(Hobo!A138<>\"\",Hobo!A138&configuracion!$C$10,\"\")","v":""},""]
[null,null,null,null,null,null,null,{"$f":"IF(Hobo!A139<>\"\",Hobo!A139&configuracion!$C$10,\"\")","v":""},""]
[null,null,null,null,null,null,null,{"$f":"IF(Hobo!A140<>\"\",Hobo!A140&configuracion!$C$10,\"\")","v":""},""]
[null,null,null,null,null,null,null,{"$f":"IF(Hobo!A141<>\"\",Hobo!A141&configuracion!$C$10,\"\")","v":""},""]
[null,null,null,null,null,null,null,{"$f":"IF(Hobo!A142<>\"\",Hobo!A142&configuracion!$C$10,\"\")","v":""},""]
[null,null,null,null,null,null,null,{"$f":"IF(Hobo!A143<>\"\",Hobo!A143&configuracion!$C$10,\"\")","v":""},""]
[null,null,null,null,null,null,null,{"$f":"IF(Hobo!A144<>\"\",Hobo!A144&configuracion!$C$10,\"\")","v":""},""]
[null,null,null,null,null,null,null,{"$f":"IF(Hobo!A145<>\"\",Hobo!A145&configuracion!$C$10,\"\")","v":""},""]
[null,null,null,null,null,null,null,{"$f":"IF(Hobo!A146<>\"\",Hobo!A146&configuracion!$C$10,\"\")","v":""},""]
[null,null,null,null,null,null,null,{"$f":"IF(Hobo!A147<>\"\",Hobo!A147&configuracion!$C$10,\"\")","v":""},""]
[null,null,null,null,null,null,null,{"$f":"IF(Hobo!A148<>\"\",Hobo!A148&configuracion!$C$10,\"\")","v":""},""]
[null,null,null,null,null,null,null,{"$f":"IF(Hobo!A149<>\"\",Hobo!A149&configuracion!$C$10,\"\")","v":""},""]
[null,null,null,null,null,null,null,{"$f":"IF(Hobo!A150<>\"\",Hobo!A150&configuracion!$C$10,\"\")","v":""},""]
[null,null,null,null,null,null,null,{"$f":"IF(Hobo!A151<>\"\",Hobo!A151&configuracion!$C$10,\"\")","v":""},""]
[null,null,null,null,null,null,null,{"$f":"IF(Hobo!A152<>\"\",Hobo!A152&configuracion!$C$10,\"\")","v":""},""]
[null,null,null,null,null,null,null,{"$f":"IF(Hobo!A153<>\"\",Hobo!A153&configuracion!$C$10,\"\")","v":""},""]
[null,null,null,null,null,null,null,{"$f":"IF(Hobo!A154<>\"\",Hobo!A154&configuracion!$C$10,\"\")","v":""},""]
[null,null,null,null,null,null,null,{"$f":"IF(Hobo!A155<>\"\",Hobo!A155&configuracion!$C$10,\"\")","v":""},""]
[null,null,null,null,null,null,null,{"$f":"IF(Hobo!A156<>\"\",Hobo!A156&configuracion!$C$10,\"\")","v":""},""]
[null,null,null,null,null,null,null,{"$f":"IF(Hobo!A157<>\"\",Hobo!A157&configuracion!$C$10,\"\")","v":""},""]
[null,null,null,null,null,null,null,{"$f":"IF(Hobo!A158<>\"\",Hobo!A158&configuracion!$C$10,\"\")","v":""},""]
[null,null,null,null,null,null,null,{"$f":"IF(Hobo!A159<>\"\",Hobo!A159&configuracion!$C$10,\"\")","v":""},""]
[null,null,null,null,null,null,null,{"$f":"IF(Hobo!A160<>\"\",Hobo!A160&configuracion!$C$10,\"\")","v":""},""]
[null,null,null,null,null,null,null,{"$f":"IF(Hobo!A161<>\"\",Hobo!A161&configuracion!$C$10,\"\")","v":""},""]
[null,null,null,null,null,null,null,{"$f":"IF(Hobo!A162<>\"\",Hobo!A162&configuracion!$C$10,\"\")","v":""},""]
[null,null,null,null,null,null,null,{"$f":"IF(Hobo!A163<>\"\",Hobo!A163&configuracion!$C$10,\"\")","v":""},""]
[null,null,null,null,null,null,null,{"$f":"IF(Hobo!A164<>\"\",Hobo!A164&configuracion!$C$10,\"\")","v":""},""]
[null,null,null,null,null,null,null,{"$f":"IF(Hobo!A165<>\"\",Hobo!A165&configuracion!$C$10,\"\")","v":""},""]
[null,null,null,null,null,null,null,{"$f":"IF(Hobo!A166<>\"\",Hobo!A166&configuracion!$C$10,\"\")","v":""},""]
[null,null,null,null,null,null,null,{"$f":"IF(Hobo!A167<>\"\",Hobo!A167&configuracion!$C$10,\"\")","v":""},""]
[null,null,null,null,null,null,null,{"$f":"IF(Hobo!A168<>\"\",Hobo!A168&configuracion!$C$10,\"\")","v":""},""]
[null,null,null,null,null,null,null,{"$f":"IF(Hobo!A169<>\"\",Hobo!A169&configuracion!$C$10,\"\")","v":""},""]
[null,null,null,null,null,null,null,{"$f":"IF(Hobo!A170<>\"\",Hobo!A170&configuracion!$C$10,\"\")","v":""},""]
[null,null,null,null,null,null,null,{"$f":"IF(Hobo!A171<>\"\",Hobo!A171&configuracion!$C$10,\"\")","v":""},""]
[null,null,null,null,null,null,null,{"$f":"IF(Hobo!A172<>\"\",Hobo!A172&configuracion!$C$10,\"\")","v":""},""]
[null,null,null,null,null,null,null,{"$f":"IF(Hobo!A173<>\"\",Hobo!A173&configuracion!$C$10,\"\")","v":""},""]
[null,null,null,null,null,null,null,{"$f":"IF(Hobo!A174<>\"\",Hobo!A174&configuracion!$C$10,\"\")","v":""},""]
[null,null,null,null,null,null,null,{"$f":"IF(Hobo!A175<>\"\",Hobo!A175&configuracion!$C$10,\"\")","v":""},""]
[null,null,null,null,null,null,null,{"$f":"IF(Hobo!A176<>\"\",Hobo!A176&configuracion!$C$10,\"\")","v":""},""]
[null,null,null,null,null,null,null,{"$f":"IF(Hobo!A177<>\"\",Hobo!A177&configuracion!$C$10,\"\")","v":""},""]
[null,null,null,null,null,null,null,{"$f":"IF(Hobo!A178<>\"\",Hobo!A178&configuracion!$C$10,\"\")","v":""},""]
[null,null,null,null,null,null,null,{"$f":"IF(Hobo!A179<>\"\",Hobo!A179&configuracion!$C$10,\"\")","v":""},""]
[null,null,null,null,null,null,null,{"$f":"IF(Hobo!A180<>\"\",Hobo!A180&configuracion!$C$10,\"\")","v":""},""]
[null,null,null,null,null,null,null,{"$f":"IF(Hobo!A181<>\"\",Hobo!A181&configuracion!$C$10,\"\")","v":""},""]
[null,null,null,null,null,null,null,{"$f":"IF(Hobo!A182<>\"\",Hobo!A182&configuracion!$C$10,\"\")","v":""},""]
[null,null,null,null,null,null,null,{"$f":"IF(Hobo!A183<>\"\",Hobo!A183&configuracion!$C$10,\"\")","v":""},""]
[null,null,null,null,null,null,null,{"$f":"IF(Hobo!A184<>\"\",Hobo!A184&configuracion!$C$10,\"\")","v":""},""]
[null,null,null,null,null,null,null,{"$f":"IF(Hobo!A185<>\"\",Hobo!A185&configuracion!$C$10,\"\")","v":""},""]
[null,null,null,null,null,null,null,{"$f":"IF(Hobo!A186<>\"\",Hobo!A186&configuracion!$C$10,\"\")","v":""},""]
[null,null,null,null,null,null,null,{"$f":"IF(Hobo!A187<>\"\",Hobo!A187&configuracion!$C$10,\"\")","v":""},""]
[null,null,null,null,null,null,null,{"$f":"IF(Hobo!A188<>\"\",Hobo!A188&configuracion!$C$10,\"\")","v":""},""]
[null,null,null,null,null,null,null,{"$f":"IF(Hobo!A189<>\"\",Hobo!A189&configuracion!$C$10,\"\")","v":""},""]
[null,null,null,null,null,null,null,{"$f":"IF(Hobo!A190<>\"\",Hobo!A190&configuracion!$C$10,\"\")","v":""},""]
[null,null,null,null,null,null,null,{"$f":"IF(Hobo!A191<>\"\",Hobo!A191&configuracion!$C$10,\"\")","v":""},""]
[null,null,null,null,null,null,null,{"$f":"IF(Hobo!A192<>\"\",Hobo!A192&configuracion!$C$10,\"\")","v":""},""]
[null,null,null,null,null,null,null,{"$f":"IF(Hobo!A193<>\"\",Hobo!A193&configuracion!$C$10,\"\")","v":""},""]
[null,null,null,null,null,null,null,{"$f":"IF(Hobo!A194<>\"\",Hobo!A194&configuracion!$C$10,\"\")","v":""},""]
[null,null,null,null,null,null,null,{"$f":"IF(Hobo!A195<>\"\",Hobo!A195&configuracion!$C$10,\"\")","v":""},""]
[null,null,null,null,null,null,null,{"$f":"IF(Hobo!A196<>\"\",Hobo!A196&configuracion!$C$10,\"\")","v":""},{"$f":"IF(B196=\"\",\"\",TEXT(B196, \"DD/MM/YYYY HH:MM:SS\"))","v":""}]
[null,null,null,null,null,null,null,{"$f":"IF(Hobo!A197<>\"\",Hobo!A197&configuracion!$C$10,\"\")","v":""},""]
[null,null,null,null,null,null,null,{"$f":"IF(Hobo!A198<>\"\",Hobo!A198&configuracion!$C$10,\"\")","v":""},""]
[null,null,null,null,null,null,null,{"$f":"IF(Hobo!A199<>\"\",Hobo!A199&configuracion!$C$10,\"\")","v":""},""]
[null,null,null,null,null,null,null,{"$f":"IF(Hobo!A200<>\"\",Hobo!A200&configuracion!$C$10,\"\")","v":""},""]
[null,null,null,null,null,null,null,{"$f":"IF(Hobo!A201<>\"\",Hobo!A201&configuracion!$C$10,\"\")","v":""},""]
[null,null,null,null,null,null,null,{"$f":"IF(Hobo!A202<>\"\",Hobo!A202&configuracion!$C$10,\"\")","v":""},""]
[null,null,null,null,null,null,null,{"$f":"IF(Hobo!A203<>\"\",Hobo!A203&configuracion!$C$10,\"\")","v":""},""]
[null,null,null,null,null,null,null,{"$f":"IF(Hobo!A204<>\"\",Hobo!A204&configuracion!$C$10,\"\")","v":""},""]
[null,null,null,null,null,null,null,{"$f":"IF(Hobo!A205<>\"\",Hobo!A205&configuracion!$C$10,\"\")","v":""},""]
[null,null,null,null,null,null,null,{"$f":"IF(Hobo!A206<>\"\",Hobo!A206&configuracion!$C$10,\"\")","v":""},""]
[null,null,null,null,null,null,null,{"$f":"IF(Hobo!A207<>\"\",Hobo!A207&configuracion!$C$10,\"\")","v":""},""]
[null,null,null,null,null,null,null,{"$f":"IF(Hobo!A208<>\"\",Hobo!A208&configuracion!$C$10,\"\")","v":""},""]
[null,null,null,null,null,null,null,{"$f":"IF(Hobo!A209<>\"\",Hobo!A209&configuracion!$C$10,\"\")","v":""},""]
[null,null,null,null,null,null,null,{"$f":"IF(Hobo!A210<>\"\",Hobo!A210&configuracion!$C$10,\"\")","v":""},""]
[null,null,null,null,null,null,null,{"$f":"IF(Hobo!A211<>\"\",Hobo!A211&configuracion!$C$10,\"\")","v":""},""]
[null,null,null,null,null,null,null,{"$f":"IF(Hobo!A212<>\"\",Hobo!A212&configuracion!$C$10,\"\")","v":""},""]
[null,null,null,null,null,null,null,{"$f":"IF(Hobo!A213<>\"\",Hobo!A213&configuracion!$C$10,\"\")","v":""},""]
[null,null,null,null,null,null,null,{"$f":"IF(Hobo!A214<>\"\",Hobo!A214&configuracion!$C$10,\"\")","v":""},""]
[null,null,null,null,null,null,null,{"$f":"IF(Hobo!A215<>\"\",Hobo!A215&configuracion!$C$10,\"\")","v":""},""]
[null,null,null,null,null,null,null,{"$f":"IF(Hobo!A216<>\"\",Hobo!A216&configuracion!$C$10,\"\")","v":""},""]
[null,null,null,null,null,null,null,{"$f":"IF(Hobo!A217<>\"\",Hobo!A217&configuracion!$C$10,\"\")","v":""},""]
[null,null,null,null,null,null,null,{"$f":"IF(Hobo!A218<>\"\",Hobo!A218&configuracion!$C$10,\"\")","v":""},""]
[null,null,null,null,null,null,null,{"$f":"IF(Hobo!A219<>\"\",Hobo!A219&configuracion!$C$10,\"\")","v":""},""]
[null,null,null,null,null,null,null,{"$f":"IF(Hobo!A220<>\"\",Hobo!A220&configuracion!$C$10,\"\")","v":""},""]
[null,null,null,null,null,null,null,{"$f":"IF(Hobo!A221<>\"\",Hobo!A221&configuracion!$C$10,\"\")","v":""},""]
[null,null,null,null,null,null,null,{"$f":"IF(Hobo!A222<>\"\",Hobo!A222&configuracion!$C$10,\"\")","v":""},""]
[null,null,null,null,null,null,null,{"$f":"IF(Hobo!A223<>\"\",Hobo!A223&configuracion!$C$10,\"\")","v":""},""]
[null,null,null,null,null,null,null,{"$f":"IF(Hobo!A224<>\"\",Hobo!A224&configuracion!$C$10,\"\")","v":""},""]
[null,null,null,null,null,null,null,{"$f":"IF(Hobo!A225<>\"\",Hobo!A225&configuracion!$C$10,\"\")","v":""},""]
[null,null,null,null,null,null,null,{"$f":"IF(Hobo!A226<>\"\",Hobo!A226&configuracion!$C$10,\"\")","v":""},""]
[null,null,null,null,null,null,null,{"$f":"IF(Hobo!A227<>\"\",Hobo!A227&configuracion!$C$10,\"\")","v":""},""]
[null,null,null,null,null,null,null,{"$f":"IF(Hobo!A228<>\"\",Hobo!A228&configuracion!$C$10,\"\")","v":""},""]
[null,null,null,null,null,null,null,{"$f":"IF(Hobo!A229<>\"\",Hobo!A229&configuracion!$C$10,\"\")","v":""},""]
[null,null,null,null,null,null,null,{"$f":"IF(Hobo!A230<>\"\",Hobo!A230&configuracion!$C$10,\"\")","v":""},""]
[null,null,null,null,null,null,null,{"$f":"IF(Hobo!A231<>\"\",Hobo!A231&configuracion!$C$10,\"\")","v":""},""]
[null,null,null,null,null,null,null,{"$f":"IF(Hobo!A232<>\"\",Hobo!A232&configuracion!$C$10,\"\")","v":""},""]
[null,null,null,null,null,null,null,{"$f":"IF(Hobo!A233<>\"\",Hobo!A233&configuracion!$C$10,\"\")","v":""},""]
[null,null,null,null,null,null,null,{"$f":"IF(Hobo!A234<>\"\",Hobo!A234&configuracion!$C$10,\"\")","v":""},""]
[null,null,null,null,null,null,null,{"$f":"IF(Hobo!A235<>\"\",Hobo!A235&configuracion!$C$10,\"\")","v":""},""]
[null,null,null,null,null,null,null,{"$f":"IF(Hobo!A236<>\"\",Hobo!A236&configuracion!$C$10,\"\")","v":""},""]
[null,null,null,null,null,null,null,{"$f":"IF(Hobo!A237<>\"\",Hobo!A237&configuracion!$C$10,\"\")","v":""},""]
[null,null,null,null,null,null,null,{"$f":"IF(Hobo!A238<>\"\",Hobo!A238&configuracion!$C$10,\"\")","v":""},""]
[null,null,null,null,null,null,null,{"$f":"IF(Hobo!A239<>\"\",Hobo!A239&configuracion!$C$10,\"\")","v":""},""]
[null,null,null,null,null,null,null,{"$f":"IF(Hobo!A240<>\"\",Hobo!A240&configuracion!$C$10,\"\")","v":""},""]
[null,null,null,null,null,null,null,{"$f":"IF(Hobo!A241<>\"\",Hobo!A241&configuracion!$C$10,\"\")","v":""},""]
[null,null,null,null,null,null,null,{"$f":"IF(Hobo!A242<>\"\",Hobo!A242&configuracion!$C$10,\"\")","v":""},""]
[null,null,null,null,null,null,null,{"$f":"IF(Hobo!A243<>\"\",Hobo!A243&configuracion!$C$10,\"\")","v":""},""]
[null,null,null,null,null,null,null,{"$f":"IF(Hobo!A244<>\"\",Hobo!A244&configuracion!$C$10,\"\")","v":""},""]
[null,null,null,null,null,null,null,{"$f":"IF(Hobo!A245<>\"\",Hobo!A245&configuracion!$C$10,\"\")","v":""},""]
[null,null,null,null,null,null,null,{"$f":"IF(Hobo!A246<>\"\",Hobo!A246&configuracion!$C$10,\"\")","v":""},""]
[null,null,null,null,null,null,null,{"$f":"IF(Hobo!A247<>\"\",Hobo!A247&configuracion!$C$10,\"\")","v":""},""]
[null,null,null,null,null,null,null,{"$f":"IF(Hobo!A248<>\"\",Hobo!A248&configuracion!$C$10,\"\")","v":""},""]
[null,null,null,null,null,null,null,{"$f":"IF(Hobo!A249<>\"\",Hobo!A249&configuracion!$C$10,\"\")","v":""},""]
[null,null,null,null,null,null,null,{"$f":"IF(Hobo!A250<>\"\",Hobo!A250&configuracion!$C$10,\"\")","v":""},""]
[null,null,null,null,null,null,null,{"$f":"IF(Hobo!A251<>\"\",Hobo!A251&configuracion!$C$10,\"\")","v":""},""]
[null,null,null,null,null,null,null,{"$f":"IF(Hobo!A252<>\"\",Hobo!A252&configuracion!$C$10,\"\")","v":""},""]
[null,null,null,null,null,null,null,{"$f":"IF(Hobo!A253<>\"\",Hobo!A253&configuracion!$C$10,\"\")","v":""},""]
[null,null,null,null,null,null,null,{"$f":"IF(Hobo!A254<>\"\",Hobo!A254&configuracion!$C$10,\"\")","v":""},""]
[null,null,null,null,null,null,null,{"$f":"IF(Hobo!A255<>\"\",Hobo!A255&configuracion!$C$10,\"\")","v":""},""]
[null,null,null,null,null,null,null,{"$f":"IF(Hobo!A256<>\"\",Hobo!A256&configuracion!$C$10,\"\")","v":""},""]
[null,null,null,null,null,null,null,{"$f":"IF(Hobo!A257<>\"\",Hobo!A257&configuracion!$C$10,\"\")","v":""},""]
[null,null,null,null,null,null,null,{"$f":"IF(Hobo!A258<>\"\",Hobo!A258&configuracion!$C$10,\"\")","v":""},""]
[null,null,null,null,null,null,null,{"$f":"IF(Hobo!A259<>\"\",Hobo!A259&configuracion!$C$10,\"\")","v":""},""]
[null,null,null,null,null,null,null,{"$f":"IF(Hobo!A260<>\"\",Hobo!A260&configuracion!$C$10,\"\")","v":""},{"$f":"IF(B260=\"\",\"\",TEXT(B260, \"DD/MM/YYYY HH:MM:SS\"))","v":""}]
[null,null,null,null,null,null,null,{"$f":"IF(Hobo!A261<>\"\",Hobo!A261&configuracion!$C$10,\"\")","v":""},""]
[null,null,null,null,null,null,null,{"$f":"IF(Hobo!A262<>\"\",Hobo!A262&configuracion!$C$10,\"\")","v":""},""]
[null,null,null,null,null,null,null,{"$f":"IF(Hobo!A263<>\"\",Hobo!A263&configuracion!$C$10,\"\")","v":""},""]
[null,null,null,null,null,null,null,{"$f":"IF(Hobo!A264<>\"\",Hobo!A264&configuracion!$C$10,\"\")","v":""},""]
[null,null,null,null,null,null,null,{"$f":"IF(Hobo!A265<>\"\",Hobo!A265&configuracion!$C$10,\"\")","v":""},""]
[null,null,null,null,null,null,null,{"$f":"IF(Hobo!A266<>\"\",Hobo!A266&configuracion!$C$10,\"\")","v":""},""]
[null,null,null,null,null,null,null,{"$f":"IF(Hobo!A267<>\"\",Hobo!A267&configuracion!$C$10,\"\")","v":""},""]
[null,null,null,null,null,null,null,{"$f":"IF(Hobo!A268<>\"\",Hobo!A268&configuracion!$C$10,\"\")","v":""},""]
[null,null,null,null,null,null,null,{"$f":"IF(Hobo!A269<>\"\",Hobo!A269&configuracion!$C$10,\"\")","v":""},""]
[null,null,null,null,null,null,null,{"$f":"IF(Hobo!A270<>\"\",Hobo!A270&configuracion!$C$10,\"\")","v":""},""]
[null,null,null,null,null,null,null,{"$f":"IF(Hobo!A271<>\"\",Hobo!A271&configuracion!$C$10,\"\")","v":""},""]
[null,null,null,null,null,null,null,{"$f":"IF(Hobo!A272<>\"\",Hobo!A272&configuracion!$C$10,\"\")","v":""},""]
[null,null,null,null,null,null,null,{"$f":"IF(Hobo!A273<>\"\",Hobo!A273&configuracion!$C$10,\"\")","v":""},""]
[null,null,null,null,null,null,null,{"$f":"IF(Hobo!A274<>\"\",Hobo!A274&configuracion!$C$10,\"\")","v":""},""]
[null,null,null,null,null,null,null,{"$f":"IF(Hobo!A275<>\"\",Hobo!A275&configuracion!$C$10,\"\")","v":""},""]
[null,null,null,null,null,null,null,{"$f":"IF(Hobo!A276<>\"\",Hobo!A276&configuracion!$C$10,\"\")","v":""},""]
[null,null,null,null,null,null,null,{"$f":"IF(Hobo!A277<>\"\",Hobo!A277&configuracion!$C$10,\"\")","v":""},""]
[null,null,null,null,null,null,null,{"$f":"IF(Hobo!A278<>\"\",Hobo!A278&configuracion!$C$10,\"\")","v":""},""]
[null,null,null,null,null,null,null,{"$f":"IF(Hobo!A279<>\"\",Hobo!A279&configuracion!$C$10,\"\")","v":""},""]
[null,null,null,null,null,null,null,{"$f":"IF(Hobo!A280<>\"\",Hobo!A280&configuracion!$C$10,\"\")","v":""},""]
[null,null,null,null,null,null,null,{"$f":"IF(Hobo!A281<>\"\",Hobo!A281&configuracion!$C$10,\"\")","v":""},""]
[null,null,null,null,null,null,null,{"$f":"IF(Hobo!A282<>\"\",Hobo!A282&configuracion!$C$10,\"\")","v":""},""]
[null,null,null,null,null,null,null,{"$f":"IF(Hobo!A283<>\"\",Hobo!A283&configuracion!$C$10,\"\")","v":""},""]
[null,null,null,null,null,null,null,{"$f":"IF(Hobo!A284<>\"\",Hobo!A284&configuracion!$C$10,\"\")","v":""},""]
[null,null,null,null,null,null,null,{"$f":"IF(Hobo!A285<>\"\",Hobo!A285&configuracion!$C$10,\"\")","v":""},""]
[null,null,null,null,null,null,null,{"$f":"IF(Hobo!A286<>\"\",Hobo!A286&configuracion!$C$10,\"\")","v":""},""]
[null,null,null,null,null,null,null,{"$f":"IF(Hobo!A287<>\"\",Hobo!A287&configuracion!$C$10,\"\")","v":""},""]
[null,null,null,null,null,null,null,{"$f":"IF(Hobo!A288<>\"\",Hobo!A288&configuracion!$C$10,\"\")","v":""},""]
[null,null,null,null,null,null,null,{"$f":"IF(Hobo!A289<>\"\",Hobo!A289&configuracion!$C$10,\"\")","v":""},""]
[null,null,null,null,null,null,null,{"$f":"IF(Hobo!A290<>\"\",Hobo!A290&configuracion!$C$10,\"\")","v":""},""]
[null,null,null,null,null,null,null,{"$f":"IF(Hobo!A291<>\"\",Hobo!A291&configuracion!$C$10,\"\")","v":""},""]
[null,null,null,null,null,null,null,{"$f":"IF(Hobo!A292<>\"\",Hobo!A292&configuracion!$C$10,\"\")","v":""},""]
[null,null,null,null,null,null,null,{"$f":"IF(Hobo!A293<>\"\",Hobo!A293&configuracion!$C$10,\"\")","v":""},""]
[null,null,null,null,null,null,null,{"$f":"IF(Hobo!A294<>\"\",Hobo!A294&configuracion!$C$10,\"\")","v":""},""]
[null,null,null,null,null,null,null,{"$f":"IF(Hobo!A295<>\"\",Hobo!A295&configuracion!$C$10,\"\")","v":""},""]
[null,null,null,null,null,null,null,{"$f":"IF(Hobo!A296<>\"\",Hobo!A296&configuracion!$C$10,\"\")","v":""},""]
[null,null,null,null,null,null,null,{"$f":"IF(Hobo!A297<>\"\",Hobo!A297&configuracion!$C$10,\"\")","v":""},""]
[null,null,null,null,null,null,null,{"$f":"IF(Hobo!A298<>\"\",Hobo!A298&configuracion!$C$10,\"\")","v":""},""]
[null,null,null,null,null,null,null,{"$f":"IF(Hobo!A299<>\"\",Hobo!A299&configuracion!$C$10,\"\")","v":""},""]
[null,null,null,null,null,null,null,{"$f":"IF(Hobo!A300<>\"\",Hobo!A300&configuracion!$C$10,\"\")","v":""},""]
[null,null,null,null,null,null,null,{"$f":"IF(Hobo!A301<>\"\",Hobo!A301&configuracion!$C$10,\"\")","v":""},""]
[null,null,null,null,null,null,null,{"$f":"IF(Hobo!A302<>\"\",Hobo!A302&configuracion!$C$10,\"\")","v":""},""]
[null,null,null,null,null,null,null,{"$f":"IF(Hobo!A303<>\"\",Hobo!A303&configuracion!$C$10,\"\")","v":""},""]
[null,null,null,null,null,null,null,{"$f":"IF(Hobo!A304<>\"\",Hobo!A304&configuracion!$C$10,\"\")","v":""},""]
[null,null,null,null,null,null,null,{"$f":"IF(Hobo!A305<>\"\",Hobo!A305&configuracion!$C$10,\"\")","v":""},""]
[null,null,null,null,null,null,null,{"$f":"IF(Hobo!A306<>\"\",Hobo!A306&configuracion!$C$10,\"\")","v":""},""]
[null,null,null,null,null,null,null,{"$f":"IF(Hobo!A307<>\"\",Hobo!A307&configuracion!$C$10,\"\")","v":""},""]
[null,null,null,null,null,null,null,{"$f":"IF(Hobo!A308<>\"\",Hobo!A308&configuracion!$C$10,\"\")","v":""},""]
[null,null,null,null,null,null,null,{"$f":"IF(Hobo!A309<>\"\",Hobo!A309&configuracion!$C$10,\"\")","v":""},""]
[null,null,null,null,null,null,null,{"$f":"IF(Hobo!A310<>\"\",Hobo!A310&configuracion!$C$10,\"\")","v":""},""]
[null,null,null,null,null,null,null,{"$f":"IF(Hobo!A311<>\"\",Hobo!A311&configuracion!$C$10,\"\")","v":""},""]
[null,null,null,null,null,null,null,{"$f":"IF(Hobo!A312<>\"\",Hobo!A312&configuracion!$C$10,\"\")","v":""},""]
[null,null,null,null,null,null,null,{"$f":"IF(Hobo!A313<>\"\",Hobo!A313&configuracion!$C$10,\"\")","v":""},""]
[null,null,null,null,null,null,null,{"$f":"IF(Hobo!A314<>\"\",Hobo!A314&configuracion!$C$10,\"\")","v":""},""]
[null,null,null,null,null,null,null,{"$f":"IF(Hobo!A315<>\"\",Hobo!A315&configuracion!$C$10,\"\")","v":""},""]
[null,null,null,null,null,null,null,{"$f":"IF(Hobo!A316<>\"\",Hobo!A316&configuracion!$C$10,\"\")","v":""},""]
[null,null,null,null,null,null,null,{"$f":"IF(Hobo!A317<>\"\",Hobo!A317&configuracion!$C$10,\"\")","v":""},""]
[null,null,null,null,null,null,null,{"$f":"IF(Hobo!A318<>\"\",Hobo!A318&configuracion!$C$10,\"\")","v":""},""]
[null,null,null,null,null,null,null,{"$f":"IF(Hobo!A319<>\"\",Hobo!A319&configuracion!$C$10,\"\")","v":""},""]
[null,null,null,null,null,null,null,{"$f":"IF(Hobo!A320<>\"\",Hobo!A320&configuracion!$C$10,\"\")","v":""},""]
[null,null,null,null,null,null,null,{"$f":"IF(Hobo!A321<>\"\",Hobo!A321&configuracion!$C$10,\"\")","v":""},""]
[null,null,null,null,null,null,null,{"$f":"IF(Hobo!A322<>\"\",Hobo!A322&configuracion!$C$10,\"\")","v":""},""]
[null,null,null,null,null,null,null,{"$f":"IF(Hobo!A323<>\"\",Hobo!A323&configuracion!$C$10,\"\")","v":""},""]
[null,null,null,null,null,null,null,{"$f":"IF(Hobo!A324<>\"\",Hobo!A324&configuracion!$C$10,\"\")","v":""},{"$f":"IF(B324=\"\",\"\",TEXT(B324, \"DD/MM/YYYY HH:MM:SS\"))","v":""}]
[null,null,null,null,null,null,null,{"$f":"IF(Hobo!A325<>\"\",Hobo!A325&configuracion!$C$10,\"\")","v":""},""]
[null,null,null,null,null,null,null,{"$f":"IF(Hobo!A326<>\"\",Hobo!A326&configuracion!$C$10,\"\")","v":""},""]
[null,null,null,null,null,null,null,{"$f":"IF(Hobo!A327<>\"\",Hobo!A327&configuracion!$C$10,\"\")","v":""},""]
[null,null,null,null,null,null,null,{"$f":"IF(Hobo!A328<>\"\",Hobo!A328&configuracion!$C$10,\"\")","v":""},""]
[null,null,null,null,null,null,null,{"$f":"IF(Hobo!A329<>\"\",Hobo!A329&configuracion!$C$10,\"\")","v":""},""]
[null,null,null,null,null,null,null,{"$f":"IF(Hobo!A330<>\"\",Hobo!A330&configuracion!$C$10,\"\")","v":""},""]
[null,null,null,null,null,null,null,{"$f":"IF(Hobo!A331<>\"\",Hobo!A331&configuracion!$C$10,\"\")","v":""},""]
[null,null,null,null,null,null,null,{"$f":"IF(Hobo!A332<>\"\",Hobo!A332&configuracion!$C$10,\"\")","v":""},""]
[null,null,null,null,null,null,null,{"$f":"IF(Hobo!A333<>\"\",Hobo!A333&configuracion!$C$10,\"\")","v":""},""]
[null,null,null,null,null,null,null,{"$f":"IF(Hobo!A334<>\"\",Hobo!A334&configuracion!$C$10,\"\")","v":""},""]
[null,null,null,null,null,null,null,{"$f":"IF(Hobo!A335<>\"\",Hobo!A335&configuracion!$C$10,\"\")","v":""},""]
[null,null,null,null,null,null,null,{"$f":"IF(Hobo!A336<>\"\",Hobo!A336&configuracion!$C$10,\"\")","v":""},""]
[null,null,null,null,null,null,null,{"$f":"IF(Hobo!A337<>\"\",Hobo!A337&configuracion!$C$10,\"\")","v":""},""]
[null,null,null,null,null,null,null,{"$f":"IF(Hobo!A338<>\"\",Hobo!A338&configuracion!$C$10,\"\")","v":""},""]
[null,null,null,null,null,null,null,{"$f":"IF(Hobo!A339<>\"\",Hobo!A339&configuracion!$C$10,\"\")","v":""},""]
[null,null,null,null,null,null,null,{"$f":"IF(Hobo!A340<>\"\",Hobo!A340&configuracion!$C$10,\"\")","v":""},""]
[null,null,null,null,null,null,null,{"$f":"IF(Hobo!A341<>\"\",Hobo!A341&configuracion!$C$10,\"\")","v":""},""]
[null,null,null,null,null,null,null,{"$f":"IF(Hobo!A342<>\"\",Hobo!A342&configuracion!$C$10,\"\")","v":""},""]
[null,null,null,null,null,null,null,{"$f":"IF(Hobo!A343<>\"\",Hobo!A343&configuracion!$C$10,\"\")","v":""},""]
[null,null,null,null,null,null,null,{"$f":"IF(Hobo!A344<>\"\",Hobo!A344&configuracion!$C$10,\"\")","v":""},""]
[null,null,null,null,null,null,null,{"$f":"IF(Hobo!A345<>\"\",Hobo!A345&configuracion!$C$10,\"\")","v":""},""]
[null,null,null,null,null,null,null,{"$f":"IF(Hobo!A346<>\"\",Hobo!A346&configuracion!$C$10,\"\")","v":""},""]
[null,null,null,null,null,null,null,{"$f":"IF(Hobo!A347<>\"\",Hobo!A347&configuracion!$C$10,\"\")","v":""},""]
[null,null,null,null,null,null,null,{"$f":"IF(Hobo!A348<>\"\",Hobo!A348&configuracion!$C$10,\"\")","v":""},""]
[null,null,null,null,null,null,null,{"$f":"IF(Hobo!A349<>\"\",Hobo!A349&configuracion!$C$10,\"\")","v":""},""]
[null,null,null,null,null,null,null,{"$f":"IF(Hobo!A350<>\"\",Hobo!A350&configuracion!$C$10,\"\")","v":""},""]
[null,null,null,null,null,null,null,{"$f":"IF(Hobo!A351<>\"\",Hobo!A351&configuracion!$C$10,\"\")","v":""},""]
[null,null,null,null,null,null,null,{"$f":"IF(Hobo!A352<>\"\",Hobo!A352&configuracion!$C$10,\"\")","v":""},""]
[null,null,null,null,null,null,null,{"$f":"IF(Hobo!A353<>\"\",Hobo!A353&configuracion!$C$10,\"\")","v":""},""]
[null,null,null,null,null,null,null,{"$f":"IF(Hobo!A354<>\"\",Hobo!A354&configuracion!$C$10,\"\")","v":""},""]
[null,null,null,null,null,null,null,{"$f":"IF(Hobo!A355<>\"\",Hobo!A355&configuracion!$C$10,\"\")","v":""},""]
[null,null,null,null,null,null,null,{"$f":"IF(Hobo!A356<>\"\",Hobo!A356&configuracion!$C$10,\"\")","v":""},""]
[null,null,null,null,null,null,null,{"$f":"IF(Hobo!A357<>\"\",Hobo!A357&configuracion!$C$10,\"\")","v":""},""]
[null,null,null,null,null,null,null,{"$f":"IF(Hobo!A358<>\"\",Hobo!A358&configuracion!$C$10,\"\")","v":""},""]
[null,null,null,null,null,null,null,{"$f":"IF(Hobo!A359<>\"\",Hobo!A359&configuracion!$C$10,\"\")","v":""},""]
[null,null,null,null,null,null,null,{"$f":"IF(Hobo!A360<>\"\",Hobo!A360&configuracion!$C$10,\"\")","v":""},""]
[null,null,null,null,null,null,null,{"$f":"IF(Hobo!A361<>\"\",Hobo!A361&configuracion!$C$10,\"\")","v":""},""]
[null,null,null,null,null,null,null,{"$f":"IF(Hobo!A362<>\"\",Hobo!A362&configuracion!$C$10,\"\")","v":""},""]
[null,null,null,null,null,null,null,{"$f":"IF(Hobo!A363<>\"\",Hobo!A363&configuracion!$C$10,\"\")","v":""},""]
[null,null,null,null,null,null,null,{"$f":"IF(Hobo!A364<>\"\",Hobo!A364&configuracion!$C$10,\"\")","v":""},""]
[null,null,null,null,null,null,null,{"$f":"IF(Hobo!A365<>\"\",Hobo!A365&configuracion!$C$10,\"\")","v":""},""]
[null,null,null,null,null,null,null,{"$f":"IF(Hobo!A366<>\"\",Hobo!A366&configuracion!$C$10,\"\")","v":""},""]
[null,null,null,null,null,null,null,{"$f":"IF(Hobo!A367<>\"\",Hobo!A367&configuracion!$C$10,\"\")","v":""},""]
[null,null,null,null,null,null,null,{"$f":"IF(Hobo!A368<>\"\",Hobo!A368&configuracion!$C$10,\"\")","v":""},""]
[null,null,null,null,null,null,null,{"$f":"IF(Hobo!A369<>\"\",Hobo!A369&configuracion!$C$10,\"\")","v":""},""]
[null,null,null,null,null,null,null,{"$f":"IF(Hobo!A370<>\"\",Hobo!A370&configuracion!$C$10,\"\")","v":""},""]
[null,null,null,null,null,null,null,{"$f":"IF(Hobo!A371<>\"\",Hobo!A371&configuracion!$C$10,\"\")","v":""},""]
[null,null,null,null,null,null,null,{"$f":"IF(Hobo!A372<>\"\",Hobo!A372&configuracion!$C$10,\"\")","v":""},""]
[null,null,null,null,null,null,null,{"$f":"IF(Hobo!A373<>\"\",Hobo!A373&configuracion!$C$10,\"\")","v":""},""]
[null,null,null,null,null,null,null,{"$f":"IF(Hobo!A374<>\"\",Hobo!A374&configuracion!$C$10,\"\")","v":""},""]
[null,null,null,null,null,null,null,{"$f":"IF(Hobo!A375<>\"\",Hobo!A375&configuracion!$C$10,\"\")","v":""},""]
[null,null,null,null,null,null,null,{"$f":"IF(Hobo!A376<>\"\",Hobo!A376&configuracion!$C$10,\"\")","v":""},""]
[null,null,null,null,null,null,null,{"$f":"IF(Hobo!A377<>\"\",Hobo!A377&configuracion!$C$10,\"\")","v":""},""]
[null,null,null,null,null,null,null,{"$f":"IF(Hobo!A378<>\"\",Hobo!A378&configuracion!$C$10,\"\")","v":""},""]
[null,null,null,null,null,null,null,{"$f":"IF(Hobo!A379<>\"\",Hobo!A379&configuracion!$C$10,\"\")","v":""},""]
[null,null,null,null,null,null,null,{"$f":"IF(Hobo!A380<>\"\",Hobo!A380&configuracion!$C$10,\"\")","v":""},""]
[null,null,null,null,null,null,null,{"$f":"IF(Hobo!A381<>\"\",Hobo!A381&configuracion!$C$10,\"\")","v":""},""]
[null,null,null,null,null,null,null,{"$f":"IF(Hobo!A382<>\"\",Hobo!A382&configuracion!$C$10,\"\")","v":""},""]
[null,null,null,null,null,null,null,{"$f":"IF(Hobo!A383<>\"\",Hobo!A383&configuracion!$C$10,\"\")","v":""},""]
[null,null,null,null,null,null,null,{"$f":"IF(Hobo!A384<>\"\",Hobo!A384&configuracion!$C$10,\"\")","v":""},""]
[null,null,null,null,null,null,null,{"$f":"IF(Hobo!A385<>\"\",Hobo!A385&configuracion!$C$10,\"\")","v":""},""]
[null,null,null,null,null,null,null,{"$f":"IF(Hobo!A386<>\"\",Hobo!A386&configuracion!$C$10,\"\")","v":""},""]
[null,null,null,null,null,null,null,{"$f":"IF(Hobo!A387<>\"\",Hobo!A387&configuracion!$C$10,\"\")","v":""},""]
[null,null,null,null,null,null,null,{"$f":"IF(Hobo!A388<>\"\",Hobo!A388&configuracion!$C$10,\"\")","v":""},{"$f":"IF(B388=\"\",\"\",TEXT(B388, \"DD/MM/YYYY HH:MM:SS\"))","v":""}]
[null,null,null,null,null,null,null,{"$f":"IF(Hobo!A389<>\"\",Hobo!A389&configuracion!$C$10,\"\")","v":""},""]
[null,null,null,null,null,null,null,{"$f":"IF(Hobo!A390<>\"\",Hobo!A390&configuracion!$C$10,\"\")","v":""},""]
[null,null,null,null,null,null,null,{"$f":"IF(Hobo!A391<>\"\",Hobo!A391&configuracion!$C$10,\"\")","v":""},""]
[null,null,null,null,null,null,null,{"$f":"IF(Hobo!A392<>\"\",Hobo!A392&configuracion!$C$10,\"\")","v":""},""]
[null,null,null,null,null,null,null,{"$f":"IF(Hobo!A393<>\"\",Hobo!A393&configuracion!$C$10,\"\")","v":""},""]
[null,null,null,null,null,null,null,{"$f":"IF(Hobo!A394<>\"\",Hobo!A394&configuracion!$C$10,\"\")","v":""},""]
[null,null,null,null,null,null,null,{"$f":"IF(Hobo!A395<>\"\",Hobo!A395&configuracion!$C$10,\"\")","v":""},""]
[null,null,null,null,null,null,null,{"$f":"IF(Hobo!A396<>\"\",Hobo!A396&configuracion!$C$10,\"\")","v":""},""]
[null,null,null,null,null,null,null,{"$f":"IF(Hobo!A397<>\"\",Hobo!A397&configuracion!$C$10,\"\")","v":""},""]
[null,null,null,null,null,null,null,{"$f":"IF(Hobo!A398<>\"\",Hobo!A398&configuracion!$C$10,\"\")","v":""},""]
[null,null,null,null,null,null,null,{"$f":"IF(Hobo!A399<>\"\",Hobo!A399&configuracion!$C$10,\"\")","v":""},""]
[null,null,null,null,null,null,null,{"$f":"IF(Hobo!A400<>\"\",Hobo!A400&configuracion!$C$10,\"\")","v":""},""]
[null,null,null,null,null,null,null,{"$f":"IF(Hobo!A401<>\"\",Hobo!A401&configuracion!$C$10,\"\")","v":""},""]
[null,null,null,null,null,null,null,{"$f":"IF(Hobo!A402<>\"\",Hobo!A402&configuracion!$C$10,\"\")","v":""},""]
[null,null,null,null,null,null,null,{"$f":"IF(Hobo!A403<>\"\",Hobo!A403&configuracion!$C$10,\"\")","v":""},""]
[null,null,null,null,null,null,null,{"$f":"IF(Hobo!A404<>\"\",Hobo!A404&configuracion!$C$10,\"\")","v":""},""]
[null,null,null,null,null,null,null,{"$f":"IF(Hobo!A405<>\"\",Hobo!A405&configuracion!$C$10,\"\")","v":""},""]
[null,null,null,null,null,null,null,{"$f":"IF(Hobo!A406<>\"\",Hobo!A406&configuracion!$C$10,\"\")","v":""},""]
[null,null,null,null,null,null,null,{"$f":"IF(Hobo!A407<>\"\",Hobo!A407&configuracion!$C$10,\"\")","v":""},""]
[null,null,null,null,null,null,null,{"$f":"IF(Hobo!A408<>\"\",Hobo!A408&configuracion!$C$10,\"\")","v":""},""]
[null,null,null,null,null,null,null,{"$f":"IF(Hobo!A409<>\"\",Hobo!A409&configuracion!$C$10,\"\")","v":""},""]
[null,null,null,null,null,null,null,{"$f":"IF(Hobo!A410<>\"\",Hobo!A410&configuracion!$C$10,\"\")","v":""},""]
[null,null,null,null,null,null,null,{"$f":"IF(Hobo!A411<>\"\",Hobo!A411&configuracion!$C$10,\"\")","v":""},""]
[null,null,null,null,null,null,null,{"$f":"IF(Hobo!A412<>\"\",Hobo!A412&configuracion!$C$10,\"\")","v":""},""]
[null,null,null,null,null,null,null,{"$f":"IF(Hobo!A413<>\"\",Hobo!A413&configuracion!$C$10,\"\")","v":""},""]
[null,null,null,null,null,null,null,{"$f":"IF(Hobo!A414<>\"\",Hobo!A414&configuracion!$C$10,\"\")","v":""},""]
[null,null,null,null,null,null,null,{"$f":"IF(Hobo!A415<>\"\",Hobo!A415&configuracion!$C$10,\"\")","v":""},""]
[null,null,null,null,null,null,null,{"$f":"IF(Hobo!A416<>\"\",Hobo!A416&configuracion!$C$10,\"\")","v":""},""]
[null,null,null,null,null,null,null,{"$f":"IF(Hobo!A417<>\"\",Hobo!A417&configuracion!$C$10,\"\")","v":""},""]
[null,null,null,null,null,null,null,{"$f":"IF(Hobo!A418<>\"\",Hobo!A418&configuracion!$C$10,\"\")","v":""},""]
[null,null,null,null,null,null,null,{"$f":"IF(Hobo!A419<>\"\",Hobo!A419&configuracion!$C$10,\"\")","v":""},""]
[null,null,null,null,null,null,null,{"$f":"IF(Hobo!A420<>\"\",Hobo!A420&configuracion!$C$10,\"\")","v":""},""]
[null,null,null,null,null,null,null,{"$f":"IF(Hobo!A421<>\"\",Hobo!A421&configuracion!$C$10,\"\")","v":""},""]
[null,null,null,null,null,null,null,{"$f":"IF(Hobo!A422<>\"\",Hobo!A422&configuracion!$C$10,\"\")","v":""},""]
[null,null,null,null,null,null,null,{"$f":"IF(Hobo!A423<>\"\",Hobo!A423&configuracion!$C$10,\"\")","v":""},""]
[null,null,null,null,null,null,null,{"$f":"IF(Hobo!A424<>\"\",Hobo!A424&configuracion!$C$10,\"\")","v":""},""]
[null,null,null,null,null,null,null,{"$f":"IF(Hobo!A425<>\"\",Hobo!A425&configuracion!$C$10,\"\")","v":""},""]
[null,null,null,null,null,null,null,{"$f":"IF(Hobo!A426<>\"\",Hobo!A426&configuracion!$C$10,\"\")","v":""},""]
[null,null,null,null,null,null,null,{"$f":"IF(Hobo!A427<>\"\",Hobo!A427&configuracion!$C$10,\"\")","v":""},""]
[null,null,null,null,null,null,null,{"$f":"IF(Hobo!A428<>\"\",Hobo!A428&configuracion!$C$10,\"\")","v":""},""]
[null,null,null,null,null,null,null,{"$f":"IF(Hobo!A429<>\"\",Hobo!A429&configuracion!$C$10,\"\")","v":""},""]
[null,null,null,null,null,null,null,{"$f":"IF(Hobo!A430<>\"\",Hobo!A430&configuracion!$C$10,\"\")","v":""},""]
[null,null,null,null,null,null,null,{"$f":"IF(Hobo!A431<>\"\",Hobo!A431&configuracion!$C$10,\"\")","v":""},""]
[null,null,null,null,null,null,null,{"$f":"IF(Hobo!A432<>\"\",Hobo!A432&configuracion!$C$10,\"\")","v":""},""]
[null,null,null,null,null,null,null,{"$f":"IF(Hobo!A433<>\"\",Hobo!A433&configuracion!$C$10,\"\")","v":""},""]
[null,null,null,null,null,null,null,{"$f":"IF(Hobo!A434<>\"\",Hobo!A434&configuracion!$C$10,\"\")","v":""},""]
[null,null,null,null,null,null,null,{"$f":"IF(Hobo!A435<>\"\",Hobo!A435&configuracion!$C$10,\"\")","v":""},""]
[null,null,null,null,null,null,null,{"$f":"IF(Hobo!A436<>\"\",Hobo!A436&configuracion!$C$10,\"\")","v":""},""]
[null,null,null,null,null,null,null,{"$f":"IF(Hobo!A437<>\"\",Hobo!A437&configuracion!$C$10,\"\")","v":""},""]
[null,null,null,null,null,null,null,{"$f":"IF(Hobo!A438<>\"\",Hobo!A438&configuracion!$C$10,\"\")","v":""},""]
[null,null,null,null,null,null,null,{"$f":"IF(Hobo!A439<>\"\",Hobo!A439&configuracion!$C$10,\"\")","v":""},""]
[null,null,null,null,null,null,null,{"$f":"IF(Hobo!A440<>\"\",Hobo!A440&configuracion!$C$10,\"\")","v":""},""]
[null,null,null,null,null,null,null,{"$f":"IF(Hobo!A441<>\"\",Hobo!A441&configuracion!$C$10,\"\")","v":""},""]
[null,null,null,null,null,null,null,{"$f":"IF(Hobo!A442<>\"\",Hobo!A442&configuracion!$C$10,\"\")","v":""},""]
[null,null,null,null,null,null,null,{"$f":"IF(Hobo!A443<>\"\",Hobo!A443&configuracion!$C$10,\"\")","v":""},""]
[null,null,null,null,null,null,null,{"$f":"IF(Hobo!A444<>\"\",Hobo!A444&configuracion!$C$10,\"\")","v":""},""]
[null,null,null,null,null,null,null,{"$f":"IF(Hobo!A445<>\"\",Hobo!A445&configuracion!$C$10,\"\")","v":""},""]
[null,null,null,null,null,null,null,{"$f":"IF(Hobo!A446<>\"\",Hobo!A446&configuracion!$C$10,\"\")","v":""},""]
[null,null,null,null,null,null,null,{"$f":"IF(Hobo!A447<>\"\",Hobo!A447&configuracion!$C$10,\"\")","v":""},""]
[null,null,null,null,null,null,null,{"$f":"IF(Hobo!A448<>\"\",Hobo!A448&configuracion!$C$10,\"\")","v":""},""]
[null,null,null,null,null,null,null,{"$f":"IF(Hobo!A449<>\"\",Hobo!A449&configuracion!$C$10,\"\")","v":""},""]
[null,null,null,null,null,null,null,{"$f":"IF(Hobo!A450<>\"\",Hobo!A450&configuracion!$C$10,\"\")","v":""},""]
[null,null,null,null,null,null,null,{"$f":"IF(Hobo!A451<>\"\",Hobo!A451&configuracion!$C$10,\"\")","v":""},""]
[null,null,null,null,null,null,null,{"$f":"IF(Hobo!A452<>\"\",Hobo!A452&configuracion!$C$10,\"\")","v":""},{"$f":"IF(B452=\"\",\"\",TEXT(B452, \"DD/MM/YYYY HH:MM:SS\"))","v":""}]
[null,null,null,null,null,null,null,{"$f":"IF(Hobo!A453<>\"\",Hobo!A453&configuracion!$C$10,\"\")","v":""},""]
[null,null,null,null,null,null,null,{"$f":"IF(Hobo!A454<>\"\",Hobo!A454&configuracion!$C$10,\"\")","v":""},""]
[null,null,null,null,null,null,null,{"$f":"IF(Hobo!A455<>\"\",Hobo!A455&configuracion!$C$10,\"\")","v":""},""]
[null,null,null,null,null,null,null,{"$f":"IF(Hobo!A456<>\"\",Hobo!A456&configuracion!$C$10,\"\")","v":""},""]
[null,null,null,null,null,null,null,{"$f":"IF(Hobo!A457<>\"\",Hobo!A457&configuracion!$C$10,\"\")","v":""},""]
[null,null,null,null,null,null,null,{"$f":"IF(Hobo!A458<>\"\",Hobo!A458&configuracion!$C$10,\"\")","v":""},""]
[null,null,null,null,null,null,null,{"$f":"IF(Hobo!A459<>\"\",Hobo!A459&configuracion!$C$10,\"\")","v":""},""]
[null,null,null,null,null,null,null,{"$f":"IF(Hobo!A460<>\"\",Hobo!A460&configuracion!$C$10,\"\")","v":""},""]
[null,null,null,null,null,null,null,{"$f":"IF(Hobo!A461<>\"\",Hobo!A461&configuracion!$C$10,\"\")","v":""},""]
[null,null,null,null,null,null,null,{"$f":"IF(Hobo!A462<>\"\",Hobo!A462&configuracion!$C$10,\"\")","v":""},""]
[null,null,null,null,null,null,null,{"$f":"IF(Hobo!A463<>\"\",Hobo!A463&configuracion!$C$10,\"\")","v":""},""]
[null,null,null,null,null,null,null,{"$f":"IF(Hobo!A464<>\"\",Hobo!A464&configuracion!$C$10,\"\")","v":""},""]
[null,null,null,null,null,null,null,{"$f":"IF(Hobo!A465<>\"\",Hobo!A465&configuracion!$C$10,\"\")","v":""},""]
[null,null,null,null,null,null,null,{"$f":"IF(Hobo!A466<>\"\",Hobo!A466&configuracion!$C$10,\"\")","v":""},""]
[null,null,null,null,null,null,null,{"$f":"IF(Hobo!A467<>\"\",Hobo!A467&configuracion!$C$10,\"\")","v":""},""]
[null,null,null,null,null,null,null,{"$f":"IF(Hobo!A468<>\"\",Hobo!A468&configuracion!$C$10,\"\")","v":""},""]
[null,null,null,null,null,null,null,{"$f":"IF(Hobo!A469<>\"\",Hobo!A469&configuracion!$C$10,\"\")","v":""},""]
[null,null,null,null,null,null,null,{"$f":"IF(Hobo!A470<>\"\",Hobo!A470&configuracion!$C$10,\"\")","v":""},""]
[null,null,null,null,null,null,null,{"$f":"IF(Hobo!A471<>\"\",Hobo!A471&configuracion!$C$10,\"\")","v":""},""]
[null,null,null,null,null,null,null,{"$f":"IF(Hobo!A472<>\"\",Hobo!A472&configuracion!$C$10,\"\")","v":""},""]
[null,null,null,null,null,null,null,{"$f":"IF(Hobo!A473<>\"\",Hobo!A473&configuracion!$C$10,\"\")","v":""},""]
[null,null,null,null,null,null,null,{"$f":"IF(Hobo!A474<>\"\",Hobo!A474&configuracion!$C$10,\"\")","v":""},""]
[null,null,null,null,null,null,null,{"$f":"IF(Hobo!A475<>\"\",Hobo!A475&configuracion!$C$10,\"\")","v":""},""]
[null,null,null,null,null,null,null,{"$f":"IF(Hobo!A476<>\"\",Hobo!A476&configuracion!$C$10,\"\")","v":""},""]
[null,null,null,null,null,null,null,{"$f":"IF(Hobo!A477<>\"\",Hobo!A477&configuracion!$C$10,\"\")","v":""},""]
[null,null,null,null,null,null,null,{"$f":"IF(Hobo!A478<>\"\",Hobo!A478&configuracion!$C$10,\"\")","v":""},""]
[null,null,null,null,null,null,null,{"$f":"IF(Hobo!A479<>\"\",Hobo!A479&configuracion!$C$10,\"\")","v":""},""]
[null,null,null,null,null,null,null,{"$f":"IF(Hobo!A480<>\"\",Hobo!A480&configuracion!$C$10,\"\")","v":""},""]
[null,null,null,null,null,null,null,{"$f":"IF(Hobo!A481<>\"\",Hobo!A481&configuracion!$C$10,\"\")","v":""},""]
[null,null,null,null,null,null,null,{"$f":"IF(Hobo!A482<>\"\",Hobo!A482&configuracion!$C$10,\"\")","v":""},""]
[null,null,null,null,null,null,null,{"$f":"IF(Hobo!A483<>\"\",Hobo!A483&configuracion!$C$10,\"\")","v":""},""]
[null,null,null,null,null,null,null,{"$f":"IF(Hobo!A484<>\"\",Hobo!A484&configuracion!$C$10,\"\")","v":""},""]
[null,null,null,null,null,null,null,{"$f":"IF(Hobo!A485<>\"\",Hobo!A485&configuracion!$C$10,\"\")","v":""},""]
[null,null,null,null,null,null,null,{"$f":"IF(Hobo!A486<>\"\",Hobo!A486&configuracion!$C$10,\"\")","v":""},""]
[null,null,null,null,null,null,null,{"$f":"IF(Hobo!A487<>\"\",Hobo!A487&configuracion!$C$10,\"\")","v":""},""]
[null,null,null,null,null,null,null,{"$f":"IF(Hobo!A488<>\"\",Hobo!A488&configuracion!$C$10,\"\")","v":""},""]
[null,null,null,null,null,null,null,{"$f":"IF(Hobo!A489<>\"\",Hobo!A489&configuracion!$C$10,\"\")","v":""},""]
[null,null,null,null,null,null,null,{"$f":"IF(Hobo!A490<>\"\",Hobo!A490&configuracion!$C$10,\"\")","v":""},""]
[null,null,null,null,null,null,null,{"$f":"IF(Hobo!A491<>\"\",Hobo!A491&configuracion!$C$10,\"\")","v":""},""]
[null,null,null,null,null,null,null,{"$f":"IF(Hobo!A492<>\"\",Hobo!A492&configuracion!$C$10,\"\")","v":""},""]
[null,null,null,null,null,null,null,{"$f":"IF(Hobo!A493<>\"\",Hobo!A493&configuracion!$C$10,\"\")","v":""},""]
[null,null,null,null,null,null,null,{"$f":"IF(Hobo!A494<>\"\",Hobo!A494&configuracion!$C$10,\"\")","v":""},""]
[null,null,null,null,null,null,null,{"$f":"IF(Hobo!A495<>\"\",Hobo!A495&configuracion!$C$10,\"\")","v":""},""]
[null,null,null,null,null,null,null,{"$f":"IF(Hobo!A496<>\"\",Hobo!A496&configuracion!$C$10,\"\")","v":""},""]
[null,null,null,null,null,null,null,{"$f":"IF(Hobo!A497<>\"\",Hobo!A497&configuracion!$C$10,\"\")","v":""},""]
[null,null,null,null,null,null,null,{"$f":"IF(Hobo!A498<>\"\",Hobo!A498&configuracion!$C$10,\"\")","v":""},""]
[null,null,null,null,null,null,null,{"$f":"IF(Hobo!A499<>\"\",Hobo!A499&configuracion!$C$10,\"\")","v":""},""]
[null,null,null,null,null,null,null,{"$f":"IF(Hobo!A500<>\"\",Hobo!A500&configuracion!$C$10,\"\")","v":""},""]
[null,null,null,null,null,null,null,{"$f":"IF(Hobo!A501<>\"\",Hobo!A501&configuracion!$C$10,\"\")","v":""},""]
[null,null,null,null,null,null,null,{"$f":"IF(Hobo!A502<>\"\",Hobo!A502&configuracion!$C$10,\"\")","v":""},""]
[null,null,null,null,null,null,null,{"$f":"IF(Hobo!A503<>\"\",Hobo!A503&configuracion!$C$10,\"\")","v":""},""]
[null,null,null,null,null,null,null,{"$f":"IF(Hobo!A504<>\"\",Hobo!A504&configuracion!$C$10,\"\")","v":""},""]
[null,null,null,null,null,null,null,{"$f":"IF(Hobo!A505<>\"\",Hobo!A505&configuracion!$C$10,\"\")","v":""},""]
[null,null,null,null,null,null,null,{"$f":"IF(Hobo!A506<>\"\",Hobo!A506&configuracion!$C$10,\"\")","v":""},""]
[null,null,null,null,null,null,null,{"$f":"IF(Hobo!A507<>\"\",Hobo!A507&configuracion!$C$10,\"\")","v":""},""]
[null,null,null,null,null,null,null,{"$f":"IF(Hobo!A508<>\"\",Hobo!A508&configuracion!$C$10,\"\")","v":""},""]
[null,null,null,null,null,null,null,{"$f":"IF(Hobo!A509<>\"\",Hobo!A509&configuracion!$C$10,\"\")","v":""},""]
[null,null,null,null,null,null,null,{"$f":"IF(Hobo!A510<>\"\",Hobo!A510&configuracion!$C$10,\"\")","v":""},""]
[null,null,null,null,null,null,null,{"$f":"IF(Hobo!A511<>\"\",Hobo!A511&configuracion!$C$10,\"\")","v":""},""]
[null,null,null,null,null,null,null,{"$f":"IF(Hobo!A512<>\"\",Hobo!A512&configuracion!$C$10,\"\")","v":""},""]
[null,null,null,null,null,null,null,{"$f":"IF(Hobo!A513<>\"\",Hobo!A513&configuracion!$C$10,\"\")","v":""},""]
[null,null,null,null,null,null,null,{"$f":"IF(Hobo!A514<>\"\",Hobo!A514&configuracion!$C$10,\"\")","v":""},""]
[null,null,null,null,null,null,null,{"$f":"IF(Hobo!A515<>\"\",Hobo!A515&configuracion!$C$10,\"\")","v":""},""]
[null,null,null,null,null,null,null,{"$f":"IF(Hobo!A516<>\"\",Hobo!A516&configuracion!$C$10,\"\")","v":""},{"$f":"IF(B516=\"\",\"\",TEXT(B516, \"DD/MM/YYYY HH:MM:SS\"))","v":""}]
[null,null,null,null,null,null,null,{"$f":"IF(Hobo!A517<>\"\",Hobo!A517&configuracion!$C$10,\"\")","v":""},""]
[null,null,null,null,null,null,null,{"$f":"IF(Hobo!A518<>\"\",Hobo!A518&configuracion!$C$10,\"\")","v":""},""]
[null,null,null,null,null,null,null,{"$f":"IF(Hobo!A519<>\"\",Hobo!A519&configuracion!$C$10,\"\")","v":""},""]
[null,null,null,null,null,null,null,{"$f":"IF(Hobo!A520<>\"\",Hobo!A520&configuracion!$C$10,\"\")","v":""},""]
[null,null,null,null,null,null,null,{"$f":"IF(Hobo!A521<>\"\",Hobo!A521&configuracion!$C$10,\"\")","v":""},""]
[null,null,null,null,null,null,null,{"$f":"IF(Hobo!A522<>\"\",Hobo!A522&configuracion!$C$10,\"\")","v":""},""]
[null,null,null,null,null,null,null,{"$f":"IF(Hobo!A523<>\"\",Hobo!A523&configuracion!$C$10,\"\")","v":""},""]
[null,null,null,null,null,null,null,{"$f":"IF(Hobo!A524<>\"\",Hobo!A524&configuracion!$C$10,\"\")","v":""},""]
[null,null,null,null,null,null,null,{"$f":"IF(Hobo!A525<>\"\",Hobo!A525&configuracion!$C$10,\"\")","v":""},""]
[null,null,null,null,null,null,null,{"$f":"IF(Hobo!A526<>\"\",Hobo!A526&configuracion!$C$10,\"\")","v":""},""]
[null,null,null,null,null,null,null,{"$f":"IF(Hobo!A527<>\"\",Hobo!A527&configuracion!$C$10,\"\")","v":""},""]
[null,null,null,null,null,null,null,{"$f":"IF(Hobo!A528<>\"\",Hobo!A528&configuracion!$C$10,\"\")","v":""},""]
[null,null,null,null,null,null,null,{"$f":"IF(Hobo!A529<>\"\",Hobo!A529&configuracion!$C$10,\"\")","v":""},""]
[null,null,null,null,null,null,null,{"$f":"IF(Hobo!A530<>\"\",Hobo!A530&configuracion!$C$10,\"\")","v":""},""]
[null,null,null,null,null,null,null,{"$f":"IF(Hobo!A531<>\"\",Hobo!A531&configuracion!$C$10,\"\")","v":""},""]
[null,null,null,null,null,null,null,{"$f":"IF(Hobo!A532<>\"\",Hobo!A532&configuracion!$C$10,\"\")","v":""},""]
[null,null,null,null,null,null,null,{"$f":"IF(Hobo!A533<>\"\",Hobo!A533&configuracion!$C$10,\"\")","v":""},""]
[null,null,null,null,null,null,null,{"$f":"IF(Hobo!A534<>\"\",Hobo!A534&configuracion!$C$10,\"\")","v":""},""]
[null,null,null,null,null,null,null,{"$f":"IF(Hobo!A535<>\"\",Hobo!A535&configuracion!$C$10,\"\")","v":""},""]
[null,null,null,null,null,null,null,{"$f":"IF(Hobo!A536<>\"\",Hobo!A536&configuracion!$C$10,\"\")","v":""},""]
[null,null,null,null,null,null,null,{"$f":"IF(Hobo!A537<>\"\",Hobo!A537&configuracion!$C$10,\"\")","v":""},""]
[null,null,null,null,null,null,null,{"$f":"IF(Hobo!A538<>\"\",Hobo!A538&configuracion!$C$10,\"\")","v":""},""]
[null,null,null,null,null,null,null,{"$f":"IF(Hobo!A539<>\"\",Hobo!A539&configuracion!$C$10,\"\")","v":""},""]
[null,null,null,null,null,null,null,{"$f":"IF(Hobo!A540<>\"\",Hobo!A540&configuracion!$C$10,\"\")","v":""},""]
[null,null,null,null,null,null,null,{"$f":"IF(Hobo!A541<>\"\",Hobo!A541&configuracion!$C$10,\"\")","v":""},""]
[null,null,null,null,null,null,null,{"$f":"IF(Hobo!A542<>\"\",Hobo!A542&configuracion!$C$10,\"\")","v":""},""]
[null,null,null,null,null,null,null,{"$f":"IF(Hobo!A543<>\"\",Hobo!A543&configuracion!$C$10,\"\")","v":""},""]
[null,null,null,null,null,null,null,{"$f":"IF(Hobo!A544<>\"\",Hobo!A544&configuracion!$C$10,\"\")","v":""},""]
[null,null,null,null,null,null,null,{"$f":"IF(Hobo!A545<>\"\",Hobo!A545&configuracion!$C$10,\"\")","v":""},""]
[null,null,null,null,null,null,null,{"$f":"IF(Hobo!A546<>\"\",Hobo!A546&configuracion!$C$10,\"\")","v":""},""]
[null,null,null,null,null,null,null,{"$f":"IF(Hobo!A547<>\"\",Hobo!A547&configuracion!$C$10,\"\")","v":""},""]
[null,null,null,null,null,null,null,{"$f":"IF(Hobo!A548<>\"\",Hobo!A548&configuracion!$C$10,\"\")","v":""},""]
[null,null,null,null,null,null,null,{"$f":"IF(Hobo!A549<>\"\",Hobo!A549&configuracion!$C$10,\"\")","v":""},""]
[null,null,null,null,null,null,null,{"$f":"IF(Hobo!A550<>\"\",Hobo!A550&configuracion!$C$10,\"\")","v":""},""]
[null,null,null,null,null,null,null,{"$f":"IF(Hobo!A551<>\"\",Hobo!A551&configuracion!$C$10,\"\")","v":""},""]
[null,null,null,null,null,null,null,{"$f":"IF(Hobo!A552<>\"\",Hobo!A552&configuracion!$C$10,\"\")","v":""},""]
[null,null,null,null,null,null,null,{"$f":"IF(Hobo!A553<>\"\",Hobo!A553&configuracion!$C$10,\"\")","v":""},""]
[null,null,null,null,null,null,null,{"$f":"IF(Hobo!A554<>\"\",Hobo!A554&configuracion!$C$10,\"\")","v":""},""]
[null,null,null,null,null,null,null,{"$f":"IF(Hobo!A555<>\"\",Hobo!A555&configuracion!$C$10,\"\")","v":""},""]
[null,null,null,null,null,null,null,{"$f":"IF(Hobo!A556<>\"\",Hobo!A556&configuracion!$C$10,\"\")","v":""},""]
[null,null,null,null,null,null,null,{"$f":"IF(Hobo!A557<>\"\",Hobo!A557&configuracion!$C$10,\"\")","v":""},""]
[null,null,null,null,null,null,null,{"$f":"IF(Hobo!A558<>\"\",Hobo!A558&configuracion!$C$10,\"\")","v":""},""]
[null,null,null,null,null,null,null,{"$f":"IF(Hobo!A559<>\"\",Hobo!A559&configuracion!$C$10,\"\")","v":""},""]
[null,null,null,null,null,null,null,{"$f":"IF(Hobo!A560<>\"\",Hobo!A560&configuracion!$C$10,\"\")","v":""},""]
[null,null,null,null,null,null,null,{"$f":"IF(Hobo!A561<>\"\",Hobo!A561&configuracion!$C$10,\"\")","v":""},""]
[null,null,null,null,null,null,null,{"$f":"IF(Hobo!A562<>\"\",Hobo!A562&configuracion!$C$10,\"\")","v":""},""]
[null,null,null,null,null,null,null,{"$f":"IF(Hobo!A563<>\"\",Hobo!A563&configuracion!$C$10,\"\")","v":""},""]
[null,null,null,null,null,null,null,{"$f":"IF(Hobo!A564<>\"\",Hobo!A564&configuracion!$C$10,\"\")","v":""},""]
[null,null,null,null,null,null,null,{"$f":"IF(Hobo!A565<>\"\",Hobo!A565&configuracion!$C$10,\"\")","v":""},""]
[null,null,null,null,null,null,null,{"$f":"IF(Hobo!A566<>\"\",Hobo!A566&configuracion!$C$10,\"\")","v":""},""]
[null,null,null,null,null,null,null,{"$f":"IF(Hobo!A567<>\"\",Hobo!A567&configuracion!$C$10,\"\")","v":""},""]
[null,null,null,null,null,null,null,{"$f":"IF(Hobo!A568<>\"\",Hobo!A568&configuracion!$C$10,\"\")","v":""},""]
[null,null,null,null,null,null,null,{"$f":"IF(Hobo!A569<>\"\",Hobo!A569&configuracion!$C$10,\"\")","v":""},""]
[null,null,null,null,null,null,null,{"$f":"IF(Hobo!A570<>\"\",Hobo!A570&configuracion!$C$10,\"\")","v":""},""]
[null,null,null,null,null,null,null,{"$f":"IF(Hobo!A571<>\"\",Hobo!A571&configuracion!$C$10,\"\")","v":""},""]
[null,null,null,null,null,null,null,{"$f":"IF(Hobo!A572<>\"\",Hobo!A572&configuracion!$C$10,\"\")","v":""},""]
[null,null,null,null,null,null,null,{"$f":"IF(Hobo!A573<>\"\",Hobo!A573&configuracion!$C$10,\"\")","v":""},""]
[null,null,null,null,null,null,null,{"$f":"IF(Hobo!A574<>\"\",Hobo!A574&configuracion!$C$10,\"\")","v":""},""]
[null,null,null,null,null,null,null,{"$f":"IF(Hobo!A575<>\"\",Hobo!A575&configuracion!$C$10,\"\")","v":""},""]
[null,null,null,null,null,null,null,{"$f":"IF(Hobo!A576<>\"\",Hobo!A576&configuracion!$C$10,\"\")","v":""},""]
[null,null,null,null,null,null,null,{"$f":"IF(Hobo!A577<>\"\",Hobo!A577&configuracion!$C$10,\"\")","v":""},""]
[null,null,null,null,null,null,null,{"$f":"IF(Hobo!A578<>\"\",Hobo!A578&configuracion!$C$10,\"\")","v":""},""]
[null,null,null,null,null,null,null,{"$f":"IF(Hobo!A579<>\"\",Hobo!A579&configuracion!$C$10,\"\")","v":""},""]
[null,null,null,null,null,null,null,{"$f":"IF(Hobo!A580<>\"\",Hobo!A580&configuracion!$C$10,\"\")","v":""},{"$f":"IF(B580=\"\",\"\",TEXT(B580, \"DD/MM/YYYY HH:MM:SS\"))","v":""}]
[null,null,null,null,null,null,null,{"$f":"IF(Hobo!A581<>\"\",Hobo!A581&configuracion!$C$10,\"\")","v":""},""]
[null,null,null,null,null,null,null,{"$f":"IF(Hobo!A582<>\"\",Hobo!A582&configuracion!$C$10,\"\")","v":""},""]
[null,null,null,null,null,null,null,{"$f":"IF(Hobo!A583<>\"\",Hobo!A583&configuracion!$C$10,\"\")","v":""},""]
[null,null,null,null,null,null,null,{"$f":"IF(Hobo!A584<>\"\",Hobo!A584&configuracion!$C$10,\"\")","v":""},""]
[null,null,null,null,null,null,null,{"$f":"IF(Hobo!A585<>\"\",Hobo!A585&configuracion!$C$10,\"\")","v":""},""]
[null,null,null,null,null,null,null,{"$f":"IF(Hobo!A586<>\"\",Hobo!A586&configuracion!$C$10,\"\")","v":""},""]
[null,null,null,null,null,null,null,{"$f":"IF(Hobo!A587<>\"\",Hobo!A587&configuracion!$C$10,\"\")","v":""},""]
[null,null,null,null,null,null,null,{"$f":"IF(Hobo!A588<>\"\",Hobo!A588&configuracion!$C$10,\"\")","v":""},""]
[null,null,null,null,null,null,null,{"$f":"IF(Hobo!A589<>\"\",Hobo!A589&configuracion!$C$10,\"\")","v":""},""]
[null,null,null,null,null,null,null,{"$f":"IF(Hobo!A590<>\"\",Hobo!A590&configuracion!$C$10,\"\")","v":""},""]
[null,null,null,null,null,null,null,{"$f":"IF(Hobo!A591<>\"\",Hobo!A591&configuracion!$C$10,\"\")","v":""},""]
[null,null,null,null,null,null,null,{"$f":"IF(Hobo!A592<>\"\",Hobo!A592&configuracion!$C$10,\"\")","v":""},""]
[null,null,null,null,null,null,null,{"$f":"IF(Hobo!A593<>\"\",Hobo!A593&configuracion!$C$10,\"\")","v":""},""]
[null,null,null,null,null,null,null,{"$f":"IF(Hobo!A594<>\"\",Hobo!A594&configuracion!$C$10,\"\")","v":""},""]
[null,null,null,null,null,null,null,{"$f":"IF(Hobo!A595<>\"\",Hobo!A595&configuracion!$C$10,\"\")","v":""},""]
[null,null,null,null,null,null,null,{"$f":"IF(Hobo!A596<>\"\",Hobo!A596&configuracion!$C$10,\"\")","v":""},""]
[null,null,null,null,null,null,null,{"$f":"IF(Hobo!A597<>\"\",Hobo!A597&configuracion!$C$10,\"\")","v":""},""]
[null,null,null,null,null,null,null,{"$f":"IF(Hobo!A598<>\"\",Hobo!A598&configuracion!$C$10,\"\")","v":""},""]
[null,null,null,null,null,null,null,{"$f":"IF(Hobo!A599<>\"\",Hobo!A599&configuracion!$C$10,\"\")","v":""},""]
[null,null,null,null,null,null,null,{"$f":"IF(Hobo!A600<>\"\",Hobo!A600&configuracion!$C$10,\"\")","v":""},""]
[null,null,null,null,null,null,null,{"$f":"IF(Hobo!A601<>\"\",Hobo!A601&configuracion!$C$10,\"\")","v":""},""]
[null,null,null,null,null,null,null,{"$f":"IF(Hobo!A602<>\"\",Hobo!A602&configuracion!$C$10,\"\")","v":""},""]
[null,null,null,null,null,null,null,{"$f":"IF(Hobo!A603<>\"\",Hobo!A603&configuracion!$C$10,\"\")","v":""},""]
[null,null,null,null,null,null,null,{"$f":"IF(Hobo!A604<>\"\",Hobo!A604&configuracion!$C$10,\"\")","v":""},""]
[null,null,null,null,null,null,null,{"$f":"IF(Hobo!A605<>\"\",Hobo!A605&configuracion!$C$10,\"\")","v":""},""]
[null,null,null,null,null,null,null,{"$f":"IF(Hobo!A606<>\"\",Hobo!A606&configuracion!$C$10,\"\")","v":""},""]
[null,null,null,null,null,null,null,{"$f":"IF(Hobo!A607<>\"\",Hobo!A607&configuracion!$C$10,\"\")","v":""},""]
[null,null,null,null,null,null,null,{"$f":"IF(Hobo!A608<>\"\",Hobo!A608&configuracion!$C$10,\"\")","v":""},""]
[null,null,null,null,null,null,null,{"$f":"IF(Hobo!A609<>\"\",Hobo!A609&configuracion!$C$10,\"\")","v":""},""]
[null,null,null,null,null,null,null,{"$f":"IF(Hobo!A610<>\"\",Hobo!A610&configuracion!$C$10,\"\")","v":""},""]
[null,null,null,null,null,null,null,{"$f":"IF(Hobo!A611<>\"\",Hobo!A611&configuracion!$C$10,\"\")","v":""},""]
[null,null,null,null,null,null,null,{"$f":"IF(Hobo!A612<>\"\",Hobo!A612&configuracion!$C$10,\"\")","v":""},""]
[null,null,null,null,null,null,null,{"$f":"IF(Hobo!A613<>\"\",Hobo!A613&configuracion!$C$10,\"\")","v":""},""]
[null,null,null,null,null,null,null,{"$f":"IF(Hobo!A614<>\"\",Hobo!A614&configuracion!$C$10,\"\")","v":""},""]
[null,null,null,null,null,null,null,{"$f":"IF(Hobo!A615<>\"\",Hobo!A615&configuracion!$C$10,\"\")","v":""},""]
[null,null,null,null,null,null,null,{"$f":"IF(Hobo!A616<>\"\",Hobo!A616&configuracion!$C$10,\"\")","v":""},""]
[null,null,null,null,null,null,null,{"$f":"IF(Hobo!A617<>\"\",Hobo!A617&configuracion!$C$10,\"\")","v":""},""]
[null,null,null,null,null,null,null,{"$f":"IF(Hobo!A618<>\"\",Hobo!A618&configuracion!$C$10,\"\")","v":""},""]
[null,null,null,null,null,null,null,{"$f":"IF(Hobo!A619<>\"\",Hobo!A619&configuracion!$C$10,\"\")","v":""},""]
[null,null,null,null,null,null,null,{"$f":"IF(Hobo!A620<>\"\",Hobo!A620&configuracion!$C$10,\"\")","v":""},""]
[null,null,null,null,null,null,null,{"$f":"IF(Hobo!A621<>\"\",Hobo!A621&configuracion!$C$10,\"\")","v":""},""]
[null,null,null,null,null,null,null,{"$f":"IF(Hobo!A622<>\"\",Hobo!A622&configuracion!$C$10,\"\")","v":""},""]
[null,null,null,null,null,null,null,{"$f":"IF(Hobo!A623<>\"\",Hobo!A623&configuracion!$C$10,\"\")","v":""},""]
[null,null,null,null,null,null,null,{"$f":"IF(Hobo!A624<>\"\",Hobo!A624&configuracion!$C$10,\"\")","v":""},""]
[null,null,null,null,null,null,null,{"$f":"IF(Hobo!A625<>\"\",Hobo!A625&configuracion!$C$10,\"\")","v":""},""]
[null,null,null,null,null,null,null,{"$f":"IF(Hobo!A626<>\"\",Hobo!A626&configuracion!$C$10,\"\")","v":""},""]
[null,null,null,null,null,null,null,{"$f":"IF(Hobo!A627<>\"\",Hobo!A627&configuracion!$C$10,\"\")","v":""},""]
[null,null,null,null,null,null,null,{"$f":"IF(Hobo!A628<>\"\",Hobo!A628&configuracion!$C$10,\"\")","v":""},""]
[null,null,null,null,null,null,null,{"$f":"IF(Hobo!A629<>\"\",Hobo!A629&configuracion!$C$10,\"\")","v":""},""]
[null,null,null,null,null,null,null,{"$f":"IF(Hobo!A630<>\"\",Hobo!A630&configuracion!$C$10,\"\")","v":""},""]
[null,null,null,null,null,null,null,{"$f":"IF(Hobo!A631<>\"\",Hobo!A631&configuracion!$C$10,\"\")","v":""},""]
[null,null,null,null,null,null,null,{"$f":"IF(Hobo!A632<>\"\",Hobo!A632&configuracion!$C$10,\"\")","v":""},""]
[null,null,null,null,null,null,null,{"$f":"IF(Hobo!A633<>\"\",Hobo!A633&configuracion!$C$10,\"\")","v":""},""]
[null,null,null,null,null,null,null,{"$f":"IF(Hobo!A634<>\"\",Hobo!A634&configuracion!$C$10,\"\")","v":""},""]
[null,null,null,null,null,null,null,{"$f":"IF(Hobo!A635<>\"\",Hobo!A635&configuracion!$C$10,\"\")","v":""},""]
[null,null,null,null,null,null,null,{"$f":"IF(Hobo!A636<>\"\",Hobo!A636&configuracion!$C$10,\"\")","v":""},""]
[null,null,null,null,null,null,null,{"$f":"IF(Hobo!A637<>\"\",Hobo!A637&configuracion!$C$10,\"\")","v":""},""]
[null,null,null,null,null,null,null,{"$f":"IF(Hobo!A638<>\"\",Hobo!A638&configuracion!$C$10,\"\")","v":""},""]
[null,null,null,null,null,null,null,{"$f":"IF(Hobo!A639<>\"\",Hobo!A639&configuracion!$C$10,\"\")","v":""},""]
[null,null,null,null,null,null,null,{"$f":"IF(Hobo!A640<>\"\",Hobo!A640&configuracion!$C$10,\"\")","v":""},""]
[null,null,null,null,null,null,null,{"$f":"IF(Hobo!A641<>\"\",Hobo!A641&configuracion!$C$10,\"\")","v":""},""]
[null,null,null,null,null,null,null,{"$f":"IF(Hobo!A642<>\"\",Hobo!A642&configuracion!$C$10,\"\")","v":""},""]
[null,null,null,null,null,null,null,{"$f":"IF(Hobo!A643<>\"\",Hobo!A643&configuracion!$C$10,\"\")","v":""},""]
[null,null,null,null,null,null,null,{"$f":"IF(Hobo!A644<>\"\",Hobo!A644&configuracion!$C$10,\"\")","v":""},{"$f":"IF(B644=\"\",\"\",TEXT(B644, \"DD/MM/YYYY HH:MM:SS\"))","v":""}]
[null,null,null,null,null,null,null,{"$f":"IF(Hobo!A645<>\"\",Hobo!A645&configuracion!$C$10,\"\")","v":""},""]
[null,null,null,null,null,null,null,{"$f":"IF(Hobo!A646<>\"\",Hobo!A646&configuracion!$C$10,\"\")","v":""},""]
[null,null,null,null,null,null,null,{"$f":"IF(Hobo!A647<>\"\",Hobo!A647&configuracion!$C$10,\"\")","v":""},""]
[null,null,null,null,null,null,null,{"$f":"IF(Hobo!A648<>\"\",Hobo!A648&configuracion!$C$10,\"\")","v":""},""]
[null,null,null,null,null,null,null,{"$f":"IF(Hobo!A649<>\"\",Hobo!A649&configuracion!$C$10,\"\")","v":""},""]
[null,null,null,null,null,null,null,{"$f":"IF(Hobo!A650<>\"\",Hobo!A650&configuracion!$C$10,\"\")","v":""},""]
[null,null,null,null,null,null,null,{"$f":"IF(Hobo!A651<>\"\",Hobo!A651&configuracion!$C$10,\"\")","v":""},""]
[null,null,null,null,null,null,null,{"$f":"IF(Hobo!A652<>\"\",Hobo!A652&configuracion!$C$10,\"\")","v":""},""]
[null,null,null,null,null,null,null,{"$f":"IF(Hobo!A653<>\"\",Hobo!A653&configuracion!$C$10,\"\")","v":""},""]
[null,null,null,null,null,null,null,{"$f":"IF(Hobo!A654<>\"\",Hobo!A654&configuracion!$C$10,\"\")","v":""},""]
[null,null,null,null,null,null,null,{"$f":"IF(Hobo!A655<>\"\",Hobo!A655&configuracion!$C$10,\"\")","v":""},""]
[null,null,null,null,null,null,null,{"$f":"IF(Hobo!A656<>\"\",Hobo!A656&configuracion!$C$10,\"\")","v":""},""]
[null,null,null,null,null,null,null,{"$f":"IF(Hobo!A657<>\"\",Hobo!A657&configuracion!$C$10,\"\")","v":""},""]
[null,null,null,null,null,null,null,{"$f":"IF(Hobo!A658<>\"\",Hobo!A658&configuracion!$C$10,\"\")","v":""},""]
[null,null,null,null,null,null,null,{"$f":"IF(Hobo!A659<>\"\",Hobo!A659&configuracion!$C$10,\"\")","v":""},""]
[null,null,null,null,null,null,null,{"$f":"IF(Hobo!A660<>\"\",Hobo!A660&configuracion!$C$10,\"\")","v":""},""]
[null,null,null,null,null,null,null,{"$f":"IF(Hobo!A661<>\"\",Hobo!A661&configuracion!$C$10,\"\")","v":""},""]
[null,null,null,null,null,null,null,{"$f":"IF(Hobo!A662<>\"\",Hobo!A662&configuracion!$C$10,\"\")","v":""},""]
[null,null,null,null,null,null,null,{"$f":"IF(Hobo!A663<>\"\",Hobo!A663&configuracion!$C$10,\"\")","v":""},""]
[null,null,null,null,null,null,null,{"$f":"IF(Hobo!A664<>\"\",Hobo!A664&configuracion!$C$10,\"\")","v":""},""]
[null,null,null,null,null,null,null,{"$f":"IF(Hobo!A665<>\"\",Hobo!A665&configuracion!$C$10,\"\")","v":""},""]
[null,null,null,null,null,null,null,{"$f":"IF(Hobo!A666<>\"\",Hobo!A666&configuracion!$C$10,\"\")","v":""},""]
[null,null,null,null,null,null,null,{"$f":"IF(Hobo!A667<>\"\",Hobo!A667&configuracion!$C$10,\"\")","v":""},""]
[null,null,null,null,null,null,null,{"$f":"IF(Hobo!A668<>\"\",Hobo!A668&configuracion!$C$10,\"\")","v":""},""]
[null,null,null,null,null,null,null,{"$f":"IF(Hobo!A669<>\"\",Hobo!A669&configuracion!$C$10,\"\")","v":""},""]
[null,null,null,null,null,null,null,{"$f":"IF(Hobo!A670<>\"\",Hobo!A670&configuracion!$C$10,\"\")","v":""},""]
[null,null,null,null,null,null,null,{"$f":"IF(Hobo!A671<>\"\",Hobo!A671&configuracion!$C$10,\"\")","v":""},""]
[null,null,null,null,null,null,null,{"$f":"IF(Hobo!A672<>\"\",Hobo!A672&configuracion!$C$10,\"\")","v":""},""]
[null,null,null,null,null,null,null,{"$f":"IF(Hobo!A673<>\"\",Hobo!A673&configuracion!$C$10,\"\")","v":""},""]
[null,null,null,null,null,null,null,{"$f":"IF(Hobo!A674<>\"\",Hobo!A674&configuracion!$C$10,\"\")","v":""},""]
[null,null,null,null,null,null,null,{"$f":"IF(Hobo!A675<>\"\",Hobo!A675&configuracion!$C$10,\"\")","v":""},""]
[null,null,null,null,null,null,null,{"$f":"IF(Hobo!A676<>\"\",Hobo!A676&configuracion!$C$10,\"\")","v":""},""]
[null,null,null,null,null,null,null,{"$f":"IF(Hobo!A677<>\"\",Hobo!A677&configuracion!$C$10,\"\")","v":""},""]
[null,null,null,null,null,null,null,{"$f":"IF(Hobo!A678<>\"\",Hobo!A678&configuracion!$C$10,\"\")","v":""},""]
[null,null,null,null,null,null,null,{"$f":"IF(Hobo!A679<>\"\",Hobo!A679&configuracion!$C$10,\"\")","v":""},""]
[null,null,null,null,null,null,null,{"$f":"IF(Hobo!A680<>\"\",Hobo!A680&configuracion!$C$10,\"\")","v":""},""]
[null,null,null,null,null,null,null,{"$f":"IF(Hobo!A681<>\"\",Hobo!A681&configuracion!$C$10,\"\")","v":""},""]
[null,null,null,null,null,null,null,{"$f":"IF(Hobo!A682<>\"\",Hobo!A682&configuracion!$C$10,\"\")","v":""},""]
[null,null,null,null,null,null,null,{"$f":"IF(Hobo!A683<>\"\",Hobo!A683&configuracion!$C$10,\"\")","v":""},""]
[null,null,null,null,null,null,null,{"$f":"IF(Hobo!A684<>\"\",Hobo!A684&configuracion!$C$10,\"\")","v":""},""]
[null,null,null,null,null,null,null,{"$f":"IF(Hobo!A685<>\"\",Hobo!A685&configuracion!$C$10,\"\")","v":""},""]
[null,null,null,null,null,null,null,{"$f":"IF(Hobo!A686<>\"\",Hobo!A686&configuracion!$C$10,\"\")","v":""},""]
[null,null,null,null,null,null,null,{"$f":"IF(Hobo!A687<>\"\",Hobo!A687&configuracion!$C$10,\"\")","v":""},""]
[null,null,null,null,null,null,null,{"$f":"IF(Hobo!A688<>\"\",Hobo!A688&configuracion!$C$10,\"\")","v":""},""]
[null,null,null,null,null,null,null,{"$f":"IF(Hobo!A689<>\"\",Hobo!A689&configuracion!$C$10,\"\")","v":""},""]
[null,null,null,null,null,null,null,{"$f":"IF(Hobo!A690<>\"\",Hobo!A690&configuracion!$C$10,\"\")","v":""},""]
[null,null,null,null,null,null,null,{"$f":"IF(Hobo!A691<>\"\",Hobo!A691&configuracion!$C$10,\"\")","v":""},""]
[null,null,null,null,null,null,null,{"$f":"IF(Hobo!A692<>\"\",Hobo!A692&configuracion!$C$10,\"\")","v":""},""]
[null,null,null,null,null,null,null,{"$f":"IF(Hobo!A693<>\"\",Hobo!A693&configuracion!$C$10,\"\")","v":""},""]
[null,null,null,null,null,null,null,{"$f":"IF(Hobo!A694<>\"\",Hobo!A694&configuracion!$C$10,\"\")","v":""},""]
[null,null,null,null,null,null,null,{"$f":"IF(Hobo!A695<>\"\",Hobo!A695&configuracion!$C$10,\"\")","v":""},""]
[null,null,null,null,null,null,null,{"$f":"IF(Hobo!A696<>\"\",Hobo!A696&configuracion!$C$10,\"\")","v":""},""]
[null,null,null,null,null,null,null,{"$f":"IF(Hobo!A697<>\"\",Hobo!A697&configuracion!$C$10,\"\")","v":""},""]
[null,null,null,null,null,null,null,{"$f":"IF(Hobo!A698<>\"\",Hobo!A698&configuracion!$C$10,\"\")","v":""},""]
[null,null,null,null,null,null,null,{"$f":"IF(Hobo!A699<>\"\",Hobo!A699&configuracion!$C$10,\"\")","v":""},""]
[null,null,null,null,null,null,null,{"$f":"IF(Hobo!A700<>\"\",Hobo!A700&configuracion!$C$10,\"\")","v":""},""]
[null,null,null,null,null,null,null,{"$f":"IF(Hobo!A701<>\"\",Hobo!A701&configuracion!$C$10,\"\")","v":""},""]
[null,null,null,null,null,null,null,{"$f":"IF(Hobo!A702<>\"\",Hobo!A702&configuracion!$C$10,\"\")","v":""},""]
[null,null,null,null,null,null,null,{"$f":"IF(Hobo!A703<>\"\",Hobo!A703&configuracion!$C$10,\"\")","v":""},""]
[null,null,null,null,null,null,null,{"$f":"IF(Hobo!A704<>\"\",Hobo!A704&configuracion!$C$10,\"\")","v":""},""]
[null,null,null,null,null,null,null,{"$f":"IF(Hobo!A705<>\"\",Hobo!A705&configuracion!$C$10,\"\")","v":""},""]
[null,null,null,null,null,null,null,{"$f":"IF(Hobo!A706<>\"\",Hobo!A706&configuracion!$C$10,\"\")","v":""},""]
[null,null,null,null,null,null,null,{"$f":"IF(Hobo!A707<>\"\",Hobo!A707&configuracion!$C$10,\"\")","v":""},""]
[null,null,null,null,null,null,null,{"$f":"IF(Hobo!A708<>\"\",Hobo!A708&configuracion!$C$10,\"\")","v":""},{"$f":"IF(B708=\"\",\"\",TEXT(B708, \"DD/MM/YYYY HH:MM:SS\"))","v":""}]
[null,null,null,null,null,null,null,{"$f":"IF(Hobo!A709<>\"\",Hobo!A709&configuracion!$C$10,\"\")","v":""},""]
[null,null,null,null,null,null,null,{"$f":"IF(Hobo!A710<>\"\",Hobo!A710&configuracion!$C$10,\"\")","v":""},""]
[null,null,null,null,null,null,null,{"$f":"IF(Hobo!A711<>\"\",Hobo!A711&configuracion!$C$10,\"\")","v":""},""]
[null,null,null,null,null,null,null,{"$f":"IF(Hobo!A712<>\"\",Hobo!A712&configuracion!$C$10,\"\")","v":""},""]
[null,null,null,null,null,null,null,{"$f":"IF(Hobo!A713<>\"\",Hobo!A713&configuracion!$C$10,\"\")","v":""},""]
[null,null,null,null,null,null,null,{"$f":"IF(Hobo!A714<>\"\",Hobo!A714&configuracion!$C$10,\"\")","v":""},""]
[null,null,null,null,null,null,null,{"$f":"IF(Hobo!A715<>\"\",Hobo!A715&configuracion!$C$10,\"\")","v":""},""]
[null,null,null,null,null,null,null,{"$f":"IF(Hobo!A716<>\"\",Hobo!A716&configuracion!$C$10,\"\")","v":""},""]
[null,null,null,null,null,null,null,{"$f":"IF(Hobo!A717<>\"\",Hobo!A717&configuracion!$C$10,\"\")","v":""},""]
[null,null,null,null,null,null,null,{"$f":"IF(Hobo!A718<>\"\",Hobo!A718&configuracion!$C$10,\"\")","v":""},""]
[null,null,null,null,null,null,null,{"$f":"IF(Hobo!A719<>\"\",Hobo!A719&configuracion!$C$10,\"\")","v":""},""]
[null,null,null,null,null,null,null,{"$f":"IF(Hobo!A720<>\"\",Hobo!A720&configuracion!$C$10,\"\")","v":""},""]
[null,null,null,null,null,null,null,{"$f":"IF(Hobo!A721<>\"\",Hobo!A721&configuracion!$C$10,\"\")","v":""},""]
[null,null,null,null,null,null,null,{"$f":"IF(Hobo!A722<>\"\",Hobo!A722&configuracion!$C$10,\"\")","v":""},""]
[null,null,null,null,null,null,null,{"$f":"IF(Hobo!A723<>\"\",Hobo!A723&configuracion!$C$10,\"\")","v":""},""]
[null,null,null,null,null,null,null,{"$f":"IF(Hobo!A724<>\"\",Hobo!A724&configuracion!$C$10,\"\")","v":""},""]
[null,null,null,null,null,null,null,{"$f":"IF(Hobo!A725<>\"\",Hobo!A725&configuracion!$C$10,\"\")","v":""},""]
[null,null,null,null,null,null,null,{"$f":"IF(Hobo!A726<>\"\",Hobo!A726&configuracion!$C$10,\"\")","v":""},""]
[null,null,null,null,null,null,null,{"$f":"IF(Hobo!A727<>\"\",Hobo!A727&configuracion!$C$10,\"\")","v":""},""]
[null,null,null,null,null,null,null,{"$f":"IF(Hobo!A728<>\"\",Hobo!A728&configuracion!$C$10,\"\")","v":""},""]
[null,null,null,null,null,null,null,{"$f":"IF(Hobo!A729<>\"\",Hobo!A729&configuracion!$C$10,\"\")","v":""},""]
[null,null,null,null,null,null,null,{"$f":"IF(Hobo!A730<>\"\",Hobo!A730&configuracion!$C$10,\"\")","v":""},""]
[null,null,null,null,null,null,null,{"$f":"IF(Hobo!A731<>\"\",Hobo!A731&configuracion!$C$10,\"\")","v":""},""]
[null,null,null,null,null,null,null,{"$f":"IF(Hobo!A732<>\"\",Hobo!A732&configuracion!$C$10,\"\")","v":""},""]
[null,null,null,null,null,null,null,{"$f":"IF(Hobo!A733<>\"\",Hobo!A733&configuracion!$C$10,\"\")","v":""},""]
[null,null,null,null,null,null,null,{"$f":"IF(Hobo!A734<>\"\",Hobo!A734&configuracion!$C$10,\"\")","v":""},""]
[null,null,null,null,null,null,null,{"$f":"IF(Hobo!A735<>\"\",Hobo!A735&configuracion!$C$10,\"\")","v":""},""]
[null,null,null,null,null,null,null,{"$f":"IF(Hobo!A736<>\"\",Hobo!A736&configuracion!$C$10,\"\")","v":""},""]
[null,null,null,null,null,null,null,{"$f":"IF(Hobo!A737<>\"\",Hobo!A737&configuracion!$C$10,\"\")","v":""},""]
[null,null,null,null,null,null,null,{"$f":"IF(Hobo!A738<>\"\",Hobo!A738&configuracion!$C$10,\"\")","v":""},""]
[null,null,null,null,null,null,null,{"$f":"IF(Hobo!A739<>\"\",Hobo!A739&configuracion!$C$10,\"\")","v":""},""]
[null,null,null,null,null,null,null,{"$f":"IF(Hobo!A740<>\"\",Hobo!A740&configuracion!$C$10,\"\")","v":""},""]
[null,null,null,null,null,null,null,{"$f":"IF(Hobo!A741<>\"\",Hobo!A741&configuracion!$C$10,\"\")","v":""},""]
[null,null,null,null,null,null,null,{"$f":"IF(Hobo!A742<>\"\",Hobo!A742&configuracion!$C$10,\"\")","v":""},""]
[null,null,null,null,null,null,null,{"$f":"IF(Hobo!A743<>\"\",Hobo!A743&configuracion!$C$10,\"\")","v":""},""]
[null,null,null,null,null,null,null,{"$f":"IF(Hobo!A744<>\"\",Hobo!A744&configuracion!$C$10,\"\")","v":""},""]
[null,null,null,null,null,null,null,{"$f":"IF(Hobo!A745<>\"\",Hobo!A745&configuracion!$C$10,\"\")","v":""},""]
[null,null,null,null,null,null,null,{"$f":"IF(Hobo!A746<>\"\",Hobo!A746&configuracion!$C$10,\"\")","v":""},""]
[null,null,null,null,null,null,null,{"$f":"IF(Hobo!A747<>\"\",Hobo!A747&configuracion!$C$10,\"\")","v":""},""]
[null,null,null,null,null,null,null,{"$f":"IF(Hobo!A748<>\"\",Hobo!A748&configuracion!$C$10,\"\")","v":""},""]
[null,null,null,null,null,null,null,{"$f":"IF(Hobo!A749<>\"\",Hobo!A749&configuracion!$C$10,\"\")","v":""},""]
[null,null,null,null,null,null,null,{"$f":"IF(Hobo!A750<>\"\",Hobo!A750&configuracion!$C$10,\"\")","v":""},""]
[null,null,null,null,null,null,null,{"$f":"IF(Hobo!A751<>\"\",Hobo!A751&configuracion!$C$10,\"\")","v":""},""]
[null,null,null,null,null,null,null,{"$f":"IF(Hobo!A752<>\"\",Hobo!A752&configuracion!$C$10,\"\")","v":""},""]
[null,null,null,null,null,null,null,{"$f":"IF(Hobo!A753<>\"\",Hobo!A753&configuracion!$C$10,\"\")","v":""},""]
[null,null,null,null,null,null,null,{"$f":"IF(Hobo!A754<>\"\",Hobo!A754&configuracion!$C$10,\"\")","v":""},""]
[null,null,null,null,null,null,null,{"$f":"IF(Hobo!A755<>\"\",Hobo!A755&configuracion!$C$10,\"\")","v":""},""]
[null,null,null,null,null,null,null,{"$f":"IF(Hobo!A756<>\"\",Hobo!A756&configuracion!$C$10,\"\")","v":""},""]
[null,null,null,null,null,null,null,{"$f":"IF(Hobo!A757<>\"\",Hobo!A757&configuracion!$C$10,\"\")","v":""},""]
[null,null,null,null,null,null,null,{"$f":"IF(Hobo!A758<>\"\",Hobo!A758&configuracion!$C$10,\"\")","v":""},""]
[null,null,null,null,null,null,null,{"$f":"IF(Hobo!A759<>\"\",Hobo!A759&configuracion!$C$10,\"\")","v":""},""]
[null,null,null,null,null,null,null,{"$f":"IF(Hobo!A760<>\"\",Hobo!A760&configuracion!$C$10,\"\")","v":""},""]
[null,null,null,null,null,null,null,{"$f":"IF(Hobo!A761<>\"\",Hobo!A761&configuracion!$C$10,\"\")","v":""},""]
[null,null,null,null,null,null,null,{"$f":"IF(Hobo!A762<>\"\",Hobo!A762&configuracion!$C$10,\"\")","v":""},""]
[null,null,null,null,null,null,null,{"$f":"IF(Hobo!A763<>\"\",Hobo!A763&configuracion!$C$10,\"\")","v":""},""]
[null,null,null,null,null,null,null,{"$f":"IF(Hobo!A764<>\"\",Hobo!A764&configuracion!$C$10,\"\")","v":""},""]
[null,null,null,null,null,null,null,{"$f":"IF(Hobo!A765<>\"\",Hobo!A765&configuracion!$C$10,\"\")","v":""},""]
[null,null,null,null,null,null,null,{"$f":"IF(Hobo!A766<>\"\",Hobo!A766&configuracion!$C$10,\"\")","v":""},""]
[null,null,null,null,null,null,null,{"$f":"IF(Hobo!A767<>\"\",Hobo!A767&configuracion!$C$10,\"\")","v":""},""]
[null,null,null,null,null,null,null,{"$f":"IF(Hobo!A768<>\"\",Hobo!A768&configuracion!$C$10,\"\")","v":""},""]
[null,null,null,null,null,null,null,{"$f":"IF(Hobo!A769<>\"\",Hobo!A769&configuracion!$C$10,\"\")","v":""},""]
[null,null,null,null,null,null,null,{"$f":"IF(Hobo!A770<>\"\",Hobo!A770&configuracion!$C$10,\"\")","v":""},""]
[null,null,null,null,null,null,null,{"$f":"IF(Hobo!A771<>\"\",Hobo!A771&configuracion!$C$10,\"\")","v":""},""]
[null,null,null,null,null,null,null,{"$f":"IF(Hobo!A772<>\"\",Hobo!A772&configuracion!$C$10,\"\")","v":""},{"$f":"IF(B772=\"\",\"\",TEXT(B772, \"DD/MM/YYYY HH:MM:SS\"))","v":""}]
[null,null,null,null,null,null,null,{"$f":"IF(Hobo!A773<>\"\",Hobo!A773&configuracion!$C$10,\"\")","v":""},""]
[null,null,null,null,null,null,null,{"$f":"IF(Hobo!A774<>\"\",Hobo!A774&configuracion!$C$10,\"\")","v":""},""]
[null,null,null,null,null,null,null,{"$f":"IF(Hobo!A775<>\"\",Hobo!A775&configuracion!$C$10,\"\")","v":""},""]
[null,null,null,null,null,null,null,{"$f":"IF(Hobo!A776<>\"\",Hobo!A776&configuracion!$C$10,\"\")","v":""},""]
[null,null,null,null,null,null,null,{"$f":"IF(Hobo!A777<>\"\",Hobo!A777&configuracion!$C$10,\"\")","v":""},""]
[null,null,null,null,null,null,null,{"$f":"IF(Hobo!A778<>\"\",Hobo!A778&configuracion!$C$10,\"\")","v":""},""]
[null,null,null,null,null,null,null,{"$f":"IF(Hobo!A779<>\"\",Hobo!A779&configuracion!$C$10,\"\")","v":""},""]
[null,null,null,null,null,null,null,{"$f":"IF(Hobo!A780<>\"\",Hobo!A780&configuracion!$C$10,\"\")","v":""},""]
[null,null,null,null,null,null,null,{"$f":"IF(Hobo!A781<>\"\",Hobo!A781&configuracion!$C$10,\"\")","v":""},""]
[null,null,null,null,null,null,null,{"$f":"IF(Hobo!A782<>\"\",Hobo!A782&configuracion!$C$10,\"\")","v":""},""]
[null,null,null,null,null,null,null,{"$f":"IF(Hobo!A783<>\"\",Hobo!A783&configuracion!$C$10,\"\")","v":""},""]
[null,null,null,null,null,null,null,{"$f":"IF(Hobo!A784<>\"\",Hobo!A784&configuracion!$C$10,\"\")","v":""},""]
[null,null,null,null,null,null,null,{"$f":"IF(Hobo!A785<>\"\",Hobo!A785&configuracion!$C$10,\"\")","v":""},""]
[null,null,null,null,null,null,null,{"$f":"IF(Hobo!A786<>\"\",Hobo!A786&configuracion!$C$10,\"\")","v":""},""]
[null,null,null,null,null,null,null,{"$f":"IF(Hobo!A787<>\"\",Hobo!A787&configuracion!$C$10,\"\")","v":""},""]
[null,null,null,null,null,null,null,{"$f":"IF(Hobo!A788<>\"\",Hobo!A788&configuracion!$C$10,\"\")","v":""},""]
[null,null,null,null,null,null,null,{"$f":"IF(Hobo!A789<>\"\",Hobo!A789&configuracion!$C$10,\"\")","v":""},""]
[null,null,null,null,null,null,null,{"$f":"IF(Hobo!A790<>\"\",Hobo!A790&configuracion!$C$10,\"\")","v":""},""]
[null,null,null,null,null,null,null,{"$f":"IF(Hobo!A791<>\"\",Hobo!A791&configuracion!$C$10,\"\")","v":""},""]
[null,null,null,null,null,null,null,{"$f":"IF(Hobo!A792<>\"\",Hobo!A792&configuracion!$C$10,\"\")","v":""},""]
[null,null,null,null,null,null,null,{"$f":"IF(Hobo!A793<>\"\",Hobo!A793&configuracion!$C$10,\"\")","v":""},""]
[null,null,null,null,null,null,null,{"$f":"IF(Hobo!A794<>\"\",Hobo!A794&configuracion!$C$10,\"\")","v":""},""]
[null,null,null,null,null,null,null,{"$f":"IF(Hobo!A795<>\"\",Hobo!A795&configuracion!$C$10,\"\")","v":""},""]
[null,null,null,null,null,null,null,{"$f":"IF(Hobo!A796<>\"\",Hobo!A796&configuracion!$C$10,\"\")","v":""},""]
[null,null,null,null,null,null,null,{"$f":"IF(Hobo!A797<>\"\",Hobo!A797&configuracion!$C$10,\"\")","v":""},""]
[null,null,null,null,null,null,null,{"$f":"IF(Hobo!A798<>\"\",Hobo!A798&configuracion!$C$10,\"\")","v":""},""]
[null,null,null,null,null,null,null,{"$f":"IF(Hobo!A799<>\"\",Hobo!A799&configuracion!$C$10,\"\")","v":""},""]
[null,null,null,null,null,null,null,{"$f":"IF(Hobo!A800<>\"\",Hobo!A800&configuracion!$C$10,\"\")","v":""},""]
[null,null,null,null,null,null,null,{"$f":"IF(Hobo!A801<>\"\",Hobo!A801&configuracion!$C$10,\"\")","v":""},""]
[null,null,null,null,null,null,null,{"$f":"IF(Hobo!A802<>\"\",Hobo!A802&configuracion!$C$10,\"\")","v":""},""]
[null,null,null,null,null,null,null,{"$f":"IF(Hobo!A803<>\"\",Hobo!A803&configuracion!$C$10,\"\")","v":""},""]
[null,null,null,null,null,null,null,{"$f":"IF(Hobo!A804<>\"\",Hobo!A804&configuracion!$C$10,\"\")","v":""},""]
[null,null,null,null,null,null,null,{"$f":"IF(Hobo!A805<>\"\",Hobo!A805&configuracion!$C$10,\"\")","v":""},""]
[null,null,null,null,null,null,null,{"$f":"IF(Hobo!A806<>\"\",Hobo!A806&configuracion!$C$10,\"\")","v":""},""]
[null,null,null,null,null,null,null,{"$f":"IF(Hobo!A807<>\"\",Hobo!A807&configuracion!$C$10,\"\")","v":""},""]
[null,null,null,null,null,null,null,{"$f":"IF(Hobo!A808<>\"\",Hobo!A808&configuracion!$C$10,\"\")","v":""},""]
[null,null,null,null,null,null,null,{"$f":"IF(Hobo!A809<>\"\",Hobo!A809&configuracion!$C$10,\"\")","v":""},""]
[null,null,null,null,null,null,null,{"$f":"IF(Hobo!A810<>\"\",Hobo!A810&configuracion!$C$10,\"\")","v":""},""]
[null,null,null,null,null,null,null,{"$f":"IF(Hobo!A811<>\"\",Hobo!A811&configuracion!$C$10,\"\")","v":""},""]
[null,null,null,null,null,null,null,{"$f":"IF(Hobo!A812<>\"\",Hobo!A812&configuracion!$C$10,\"\")","v":""},""]
[null,null,null,null,null,null,null,{"$f":"IF(Hobo!A813<>\"\",Hobo!A813&configuracion!$C$10,\"\")","v":""},""]
[null,null,null,null,null,null,null,{"$f":"IF(Hobo!A814<>\"\",Hobo!A814&configuracion!$C$10,\"\")","v":""},""]
[null,null,null,null,null,null,null,{"$f":"IF(Hobo!A815<>\"\",Hobo!A815&configuracion!$C$10,\"\")","v":""},""]
[null,null,null,null,null,null,null,{"$f":"IF(Hobo!A816<>\"\",Hobo!A816&configuracion!$C$10,\"\")","v":""},""]
[null,null,null,null,null,null,null,{"$f":"IF(Hobo!A817<>\"\",Hobo!A817&configuracion!$C$10,\"\")","v":""},""]
[null,null,null,null,null,null,null,{"$f":"IF(Hobo!A818<>\"\",Hobo!A818&configuracion!$C$10,\"\")","v":""},""]
[null,null,null,null,null,null,null,{"$f":"IF(Hobo!A819<>\"\",Hobo!A819&configuracion!$C$10,\"\")","v":""},""]
[null,null,null,null,null,null,null,{"$f":"IF(Hobo!A820<>\"\",Hobo!A820&configuracion!$C$10,\"\")","v":""},""]
[null,null,null,null,null,null,null,{"$f":"IF(Hobo!A821<>\"\",Hobo!A821&configuracion!$C$10,\"\")","v":""},""]
[null,null,null,null,null,null,null,{"$f":"IF(Hobo!A822<>\"\",Hobo!A822&configuracion!$C$10,\"\")","v":""},""]
[null,null,null,null,null,null,null,{"$f":"IF(Hobo!A823<>\"\",Hobo!A823&configuracion!$C$10,\"\")","v":""},""]
[null,null,null,null,null,null,null,{"$f":"IF(Hobo!A824<>\"\",Hobo!A824&configuracion!$C$10,\"\")","v":""},""]
[null,null,null,null,null,null,null,{"$f":"IF(Hobo!A825<>\"\",Hobo!A825&configuracion!$C$10,\"\")","v":""},""]
[null,null,null,null,null,null,null,{"$f":"IF(Hobo!A826<>\"\",Hobo!A826&configuracion!$C$10,\"\")","v":""},""]
[null,null,null,null,null,null,null,{"$f":"IF(Hobo!A827<>\"\",Hobo!A827&configuracion!$C$10,\"\")","v":""},""]
[null,null,null,null,null,null,null,{"$f":"IF(Hobo!A828<>\"\",Hobo!A828&configuracion!$C$10,\"\")","v":""},""]
[null,null,null,null,null,null,null,{"$f":"IF(Hobo!A829<>\"\",Hobo!A829&configuracion!$C$10,\"\")","v":""},""]
[null,null,null,null,null,null,null,{"$f":"IF(Hobo!A830<>\"\",Hobo!A830&configuracion!$C$10,\"\")","v":""},""]
[null,null,null,null,null,null,null,{"$f":"IF(Hobo!A831<>\"\",Hobo!A831&configuracion!$C$10,\"\")","v":""},""]
[null,null,null,null,null,null,null,{"$f":"IF(Hobo!A832<>\"\",Hobo!A832&configuracion!$C$10,\"\")","v":""},""]
[null,null,null,null,null,null,null,{"$f":"IF(Hobo!A833<>\"\",Hobo!A833&configuracion!$C$10,\"\")","v":""},""]
[null,null,null,null,null,null,null,{"$f":"IF(Hobo!A834<>\"\",Hobo!A834&configuracion!$C$10,\"\")","v":""},""]
[null,null,null,null,null,null,null,{"$f":"IF(Hobo!A835<>\"\",Hobo!A835&configuracion!$C$10,\"\")","v":""},""]
[null,null,null,null,null,null,null,{"$f":"IF(Hobo!A836<>\"\",Hobo!A836&configuracion!$C$10,\"\")","v":""},{"$f":"IF(B836=\"\",\"\",TEXT(B836, \"DD/MM/YYYY HH:MM:SS\"))","v":""}]
[null,null,null,null,null,null,null,{"$f":"IF(Hobo!A837<>\"\",Hobo!A837&configuracion!$C$10,\"\")","v":""},""]
[null,null,null,null,null,null,null,{"$f":"IF(Hobo!A838<>\"\",Hobo!A838&configuracion!$C$10,\"\")","v":""},""]
[null,null,null,null,null,null,null,{"$f":"IF(Hobo!A839<>\"\",Hobo!A839&configuracion!$C$10,\"\")","v":""},""]
[null,null,null,null,null,null,null,{"$f":"IF(Hobo!A840<>\"\",Hobo!A840&configuracion!$C$10,\"\")","v":""},""]
[null,null,null,null,null,null,null,{"$f":"IF(Hobo!A841<>\"\",Hobo!A841&configuracion!$C$10,\"\")","v":""},""]
[null,null,null,null,null,null,null,{"$f":"IF(Hobo!A842<>\"\",Hobo!A842&configuracion!$C$10,\"\")","v":""},""]
[null,null,null,null,null,null,null,{"$f":"IF(Hobo!A843<>\"\",Hobo!A843&configuracion!$C$10,\"\")","v":""},""]
[null,null,null,null,null,null,null,{"$f":"IF(Hobo!A844<>\"\",Hobo!A844&configuracion!$C$10,\"\")","v":""},""]
[null,null,null,null,null,null,null,{"$f":"IF(Hobo!A845<>\"\",Hobo!A845&configuracion!$C$10,\"\")","v":""},""]
[null,null,null,null,null,null,null,{"$f":"IF(Hobo!A846<>\"\",Hobo!A846&configuracion!$C$10,\"\")","v":""},""]
[null,null,null,null,null,null,null,{"$f":"IF(Hobo!A847<>\"\",Hobo!A847&configuracion!$C$10,\"\")","v":""},""]
[null,null,null,null,null,null,null,{"$f":"IF(Hobo!A848<>\"\",Hobo!A848&configuracion!$C$10,\"\")","v":""},""]
[null,null,null,null,null,null,null,{"$f":"IF(Hobo!A849<>\"\",Hobo!A849&configuracion!$C$10,\"\")","v":""},""]
[null,null,null,null,null,null,null,{"$f":"IF(Hobo!A850<>\"\",Hobo!A850&configuracion!$C$10,\"\")","v":""},""]
[null,null,null,null,null,null,null,{"$f":"IF(Hobo!A851<>\"\",Hobo!A851&configuracion!$C$10,\"\")","v":""},""]
[null,null,null,null,null,null,null,{"$f":"IF(Hobo!A852<>\"\",Hobo!A852&configuracion!$C$10,\"\")","v":""},""]
[null,null,null,null,null,null,null,{"$f":"IF(Hobo!A853<>\"\",Hobo!A853&configuracion!$C$10,\"\")","v":""},""]
[null,null,null,null,null,null,null,{"$f":"IF(Hobo!A854<>\"\",Hobo!A854&configuracion!$C$10,\"\")","v":""},""]
[null,null,null,null,null,null,null,{"$f":"IF(Hobo!A855<>\"\",Hobo!A855&configuracion!$C$10,\"\")","v":""},""]
[null,null,null,null,null,null,null,{"$f":"IF(Hobo!A856<>\"\",Hobo!A856&configuracion!$C$10,\"\")","v":""},""]
[null,null,null,null,null,null,null,{"$f":"IF(Hobo!A857<>\"\",Hobo!A857&configuracion!$C$10,\"\")","v":""},""]
[null,null,null,null,null,null,null,{"$f":"IF(Hobo!A858<>\"\",Hobo!A858&configuracion!$C$10,\"\")","v":""},""]
[null,null,null,null,null,null,null,{"$f":"IF(Hobo!A859<>\"\",Hobo!A859&configuracion!$C$10,\"\")","v":""},""]
[null,null,null,null,null,null,null,{"$f":"IF(Hobo!A860<>\"\",Hobo!A860&configuracion!$C$10,\"\")","v":""},""]
[null,null,null,null,null,null,null,{"$f":"IF(Hobo!A861<>\"\",Hobo!A861&configuracion!$C$10,\"\")","v":""},""]
[null,null,null,null,null,null,null,{"$f":"IF(Hobo!A862<>\"\",Hobo!A862&configuracion!$C$10,\"\")","v":""},""]
[null,null,null,null,null,null,null,{"$f":"IF(Hobo!A863<>\"\",Hobo!A863&configuracion!$C$10,\"\")","v":""},""]
[null,null,null,null,null,null,null,{"$f":"IF(Hobo!A864<>\"\",Hobo!A864&configuracion!$C$10,\"\")","v":""},""]
[null,null,null,null,null,null,null,{"$f":"IF(Hobo!A865<>\"\",Hobo!A865&configuracion!$C$10,\"\")","v":""},""]
[null,null,null,null,null,null,null,{"$f":"IF(Hobo!A866<>\"\",Hobo!A866&configuracion!$C$10,\"\")","v":""},""]
[null,null,null,null,null,null,null,{"$f":"IF(Hobo!A867<>\"\",Hobo!A867&configuracion!$C$10,\"\")","v":""},""]
[null,null,null,null,null,null,null,{"$f":"IF(Hobo!A868<>\"\",Hobo!A868&configuracion!$C$10,\"\")","v":""},""]
[null,null,null,null,null,null,null,{"$f":"IF(Hobo!A869<>\"\",Hobo!A869&configuracion!$C$10,\"\")","v":""},""]
[null,null,null,null,null,null,null,{"$f":"IF(Hobo!A870<>\"\",Hobo!A870&configuracion!$C$10,\"\")","v":""},""]
[null,null,null,null,null,null,null,{"$f":"IF(Hobo!A871<>\"\",Hobo!A871&configuracion!$C$10,\"\")","v":""},""]
[null,null,null,null,null,null,null,{"$f":"IF(Hobo!A872<>\"\",Hobo!A872&configuracion!$C$10,\"\")","v":""},""]
[null,null,null,null,null,null,null,{"$f":"IF(Hobo!A873<>\"\",Hobo!A873&configuracion!$C$10,\"\")","v":""},""]
[null,null,null,null,null,null,null,{"$f":"IF(Hobo!A874<>\"\",Hobo!A874&configuracion!$C$10,\"\")","v":""},""]
[null,null,null,null,null,null,null,{"$f":"IF(Hobo!A875<>\"\",Hobo!A875&configuracion!$C$10,\"\")","v":""},""]
[null,null,null,null,null,null,null,{"$f":"IF(Hobo!A876<>\"\",Hobo!A876&configuracion!$C$10,\"\")","v":""},""]
[null,null,null,null,null,null,null,{"$f":"IF(Hobo!A877<>\"\",Hobo!A877&configuracion!$C$10,\"\")","v":""},""]
[null,null,null,null,null,null,null,{"$f":"IF(Hobo!A878<>\"\",Hobo!A878&configuracion!$C$10,\"\")","v":""},""]
[null,null,null,null,null,null,null,{"$f":"IF(Hobo!A879<>\"\",Hobo!A879&configuracion!$C$10,\"\")","v":""},""]
[null,null,null,null,null,null,null,{"$f":"IF(Hobo!A880<>\"\",Hobo!A880&configuracion!$C$10,\"\")","v":""},""]
[null,null,null,null,null,null,null,{"$f":"IF(Hobo!A881<>\"\",Hobo!A881&configuracion!$C$10,\"\")","v":""},""]
[null,null,null,null,null,null,null,{"$f":"IF(Hobo!A882<>\"\",Hobo!A882&configuracion!$C$10,\"\")","v":""},""]
[null,null,null,null,null,null,null,{"$f":"IF(Hobo!A883<>\"\",Hobo!A883&configuracion!$C$10,\"\")","v":""},""]
[null,null,null,null,null,null,null,{"$f":"IF(Hobo!A884<>\"\",Hobo!A884&configuracion!$C$10,\"\")","v":""},""]
[null,null,null,null,null,null,null,{"$f":"IF(Hobo!A885<>\"\",Hobo!A885&configuracion!$C$10,\"\")","v":""},""]
[null,null,null,null,null,null,null,{"$f":"IF(Hobo!A886<>\"\",Hobo!A886&configuracion!$C$10,\"\")","v":""},""]
[null,null,null,null,null,null,null,{"$f":"IF(Hobo!A887<>\"\",Hobo!A887&configuracion!$C$10,\"\")","v":""},""]
[null,null,null,null,null,null,null,{"$f":"IF(Hobo!A888<>\"\",Hobo!A888&configuracion!$C$10,\"\")","v":""},""]
[null,null,null,null,null,null,null,{"$f":"IF(Hobo!A889<>\"\",Hobo!A889&configuracion!$C$10,\"\")","v":""},""]
[null,null,null,null,null,null,null,{"$f":"IF(Hobo!A890<>\"\",Hobo!A890&configuracion!$C$10,\"\")","v":""},""]
[null,null,null,null,null,null,null,{"$f":"IF(Hobo!A891<>\"\",Hobo!A891&configuracion!$C$10,\"\")","v":""},""]
[null,null,null,null,null,null,null,{"$f":"IF(Hobo!A892<>\"\",Hobo!A892&configuracion!$C$10,\"\")","v":""},""]
[null,null,null,null,null,null,null,{"$f":"IF(Hobo!A893<>\"\",Hobo!A893&configuracion!$C$10,\"\")","v":""},""]
[null,null,null,null,null,null,null,{"$f":"IF(Hobo!A894<>\"\",Hobo!A894&configuracion!$C$10,\"\")","v":""},""]
[null,null,null,null,null,null,null,{"$f":"IF(Hobo!A895<>\"\",Hobo!A895&configuracion!$C$10,\"\")","v":""},""]
[null,null,null,null,null,null,null,{"$f":"IF(Hobo!A896<>\"\",Hobo!A896&configuracion!$C$10,\"\")","v":""},""]
[null,null,null,null,null,null,null,{"$f":"IF(Hobo!A897<>\"\",Hobo!A897&configuracion!$C$10,\"\")","v":""},""]
[null,null,null,null,null,null,null,{"$f":"IF(Hobo!A898<>\"\",Hobo!A898&configuracion!$C$10,\"\")","v":""},""]
[null,null,null,null,null,null,null,{"$f":"IF(Hobo!A899<>\"\",Hobo!A899&configuracion!$C$10,\"\")","v":""},""]
[null,null,null,null,null,null,null,{"$f":"IF(Hobo!A900<>\"\",Hobo!A900&configuracion!$C$10,\"\")","v":""},{"$f":"IF(B900=\"\",\"\",TEXT(B900, \"DD/MM/YYYY HH:MM:SS\"))","v":""}]
[null,null,null,null,null,null,null,{"$f":"IF(Hobo!A901<>\"\",Hobo!A901&configuracion!$C$10,\"\")","v":""},""]
[null,null,null,null,null,null,null,{"$f":"IF(Hobo!A902<>\"\",Hobo!A902&configuracion!$C$10,\"\")","v":""},""]
[null,null,null,null,null,null,null,{"$f":"IF(Hobo!A903<>\"\",Hobo!A903&configuracion!$C$10,\"\")","v":""},""]
[null,null,null,null,null,null,null,{"$f":"IF(Hobo!A904<>\"\",Hobo!A904&configuracion!$C$10,\"\")","v":""},""]
[null,null,null,null,null,null,null,{"$f":"IF(Hobo!A905<>\"\",Hobo!A905&configuracion!$C$10,\"\")","v":""},""]
[null,null,null,null,null,null,null,{"$f":"IF(Hobo!A906<>\"\",Hobo!A906&configuracion!$C$10,\"\")","v":""},""]
[null,null,null,null,null,null,null,{"$f":"IF(Hobo!A907<>\"\",Hobo!A907&configuracion!$C$10,\"\")","v":""},""]
[null,null,null,null,null,null,null,{"$f":"IF(Hobo!A908<>\"\",Hobo!A908&configuracion!$C$10,\"\")","v":""},""]
[null,null,null,null,null,null,null,{"$f":"IF(Hobo!A909<>\"\",Hobo!A909&configuracion!$C$10,\"\")","v":""},""]
[null,null,null,null,null,null,null,{"$f":"IF(Hobo!A910<>\"\",Hobo!A910&configuracion!$C$10,\"\")","v":""},""]
[null,null,null,null,null,null,null,{"$f":"IF(Hobo!A911<>\"\",Hobo!A911&configuracion!$C$10,\"\")","v":""},""]
[null,null,null,null,null,null,null,{"$f":"IF(Hobo!A912<>\"\",Hobo!A912&configuracion!$C$10,\"\")","v":""},""]
[null,null,null,null,null,null,null,{"$f":"IF(Hobo!A913<>\"\",Hobo!A913&configuracion!$C$10,\"\")","v":""},""]
[null,null,null,null,null,null,null,{"$f":"IF(Hobo!A914<>\"\",Hobo!A914&configuracion!$C$10,\"\")","v":""},""]
[null,null,null,null,null,null,null,{"$f":"IF(Hobo!A915<>\"\",Hobo!A915&configuracion!$C$10,\"\")","v":""},""]
[null,null,null,null,null,null,null,{"$f":"IF(Hobo!A916<>\"\",Hobo!A916&configuracion!$C$10,\"\")","v":""},""]
[null,null,null,null,null,null,null,{"$f":"IF(Hobo!A917<>\"\",Hobo!A917&configuracion!$C$10,\"\")","v":""},""]
[null,null,null,null,null,null,null,{"$f":"IF(Hobo!A918<>\"\",Hobo!A918&configuracion!$C$10,\"\")","v":""},""]
[null,null,null,null,null,null,null,{"$f":"IF(Hobo!A919<>\"\",Hobo!A919&configuracion!$C$10,\"\")","v":""},""]
[null,null,null,null,null,null,null,{"$f":"IF(Hobo!A920<>\"\",Hobo!A920&configuracion!$C$10,\"\")","v":""},""]
[null,null,null,null,null,null,null,{"$f":"IF(Hobo!A921<>\"\",Hobo!A921&configuracion!$C$10,\"\")","v":""},""]
[null,null,null,null,null,null,null,{"$f":"IF(Hobo!A922<>\"\",Hobo!A922&configuracion!$C$10,\"\")","v":""},""]
[null,null,null,null,null,null,null,{"$f":"IF(Hobo!A923<>\"\",Hobo!A923&configuracion!$C$10,\"\")","v":""},""]
[null,null,null,null,null,null,null,{"$f":"IF(Hobo!A924<>\"\",Hobo!A924&configuracion!$C$10,\"\")","v":""},""]
[null,null,null,null,null,null,null,{"$f":"IF(Hobo!A925<>\"\",Hobo!A925&configuracion!$C$10,\"\")","v":""},""]
[null,null,null,null,null,null,null,{"$f":"IF(Hobo!A926<>\"\",Hobo!A926&configuracion!$C$10,\"\")","v":""},""]
[null,null,null,null,null,null,null,{"$f":"IF(Hobo!A927<>\"\",Hobo!A927&configuracion!$C$10,\"\")","v":""},""]
[null,null,null,null,null,null,null,{"$f":"IF(Hobo!A928<>\"\",Hobo!A928&configuracion!$C$10,\"\")","v":""},""]
[null,null,null,null,null,null,null,{"$f":"IF(Hobo!A929<>\"\",Hobo!A929&configuracion!$C$10,\"\")","v":""},""]
[null,null,null,null,null,null,null,{"$f":"IF(Hobo!A930<>\"\",Hobo!A930&configuracion!$C$10,\"\")","v":""},""]
[null,null,null,null,null,null,null,{"$f":"IF(Hobo!A931<>\"\",Hobo!A931&configuracion!$C$10,\"\")","v":""},""]
[null,null,null,null,null,null,null,{"$f":"IF(Hobo!A932<>\"\",Hobo!A932&configuracion!$C$10,\"\")","v":""},""]
[null,null,null,null,null,null,null,{"$f":"IF(Hobo!A933<>\"\",Hobo!A933&configuracion!$C$10,\"\")","v":""},""]
[null,null,null,null,null,null,null,{"$f":"IF(Hobo!A934<>\"\",Hobo!A934&configuracion!$C$10,\"\")","v":""},""]
[null,null,null,null,null,null,null,{"$f":"IF(Hobo!A935<>\"\",Hobo!A935&configuracion!$C$10,\"\")","v":""},""]
[null,null,null,null,null,null,null,{"$f":"IF(Hobo!A936<>\"\",Hobo!A936&configuracion!$C$10,\"\")","v":""},""]
[null,null,null,null,null,null,null,{"$f":"IF(Hobo!A937<>\"\",Hobo!A937&configuracion!$C$10,\"\")","v":""},""]
[null,null,null,null,null,null,null,{"$f":"IF(Hobo!A938<>\"\",Hobo!A938&configuracion!$C$10,\"\")","v":""},""]
[null,null,null,null,null,null,null,{"$f":"IF(Hobo!A939<>\"\",Hobo!A939&configuracion!$C$10,\"\")","v":""},""]
[null,null,null,null,null,null,null,{"$f":"IF(Hobo!A940<>\"\",Hobo!A940&configuracion!$C$10,\"\")","v":""},""]
[null,null,null,null,null,null,null,{"$f":"IF(Hobo!A941<>\"\",Hobo!A941&configuracion!$C$10,\"\")","v":""},""]
[null,null,null,null,null,null,null,{"$f":"IF(Hobo!A942<>\"\",Hobo!A942&configuracion!$C$10,\"\")","v":""},""]
[null,null,null,null,null,null,null,{"$f":"IF(Hobo!A943<>\"\",Hobo!A943&configuracion!$C$10,\"\")","v":""},""]
[null,null,null,null,null,null,null,{"$f":"IF(Hobo!A944<>\"\",Hobo!A944&configuracion!$C$10,\"\")","v":""},""]
[null,null,null,null,null,null,null,{"$f":"IF(Hobo!A945<>\"\",Hobo!A945&configuracion!$C$10,\"\")","v":""},""]
[null,null,null,null,null,null,null,{"$f":"IF(Hobo!A946<>\"\",Hobo!A946&configuracion!$C$10,\"\")","v":""},""]
[null,null,null,null,null,null,null,{"$f":"IF(Hobo!A947<>\"\",Hobo!A947&configuracion!$C$10,\"\")","v":""},""]
[null,null,null,null,null,null,null,{"$f":"IF(Hobo!A948<>\"\",Hobo!A948&configuracion!$C$10,\"\")","v":""},""]
[null,null,null,null,null,null,null,{"$f":"IF(Hobo!A949<>\"\",Hobo!A949&configuracion!$C$10,\"\")","v":""},""]
[null,null,null,null,null,null,null,{"$f":"IF(Hobo!A950<>\"\",Hobo!A950&configuracion!$C$10,\"\")","v":""},""]
[null,null,null,null,null,null,null,{"$f":"IF(Hobo!A951<>\"\",Hobo!A951&configuracion!$C$10,\"\")","v":""},""]
[null,null,null,null,null,null,null,{"$f":"IF(Hobo!A952<>\"\",Hobo!A952&configuracion!$C$10,\"\")","v":""},""]
[null,null,null,null,null,null,null,{"$f":"IF(Hobo!A953<>\"\",Hobo!A953&configuracion!$C$10,\"\")","v":""},""]
[null,null,null,null,null,null,null,{"$f":"IF(Hobo!A954<>\"\",Hobo!A954&configuracion!$C$10,\"\")","v":""},""]
[null,null,null,null,null,null,null,{"$f":"IF(Hobo!A955<>\"\",Hobo!A955&configuracion!$C$10,\"\")","v":""},""]
[null,null,null,null,null,null,null,{"$f":"IF(Hobo!A956<>\"\",Hobo!A956&configuracion!$C$10,\"\")","v":""},""]
[null,null,null,null,null,null,null,{"$f":"IF(Hobo!A957<>\"\",Hobo!A957&configuracion!$C$10,\"\")","v":""},""]
[null,null,null,null,null,null,null,{"$f":"IF(Hobo!A958<>\"\",Hobo!A958&configuracion!$C$10,\"\")","v":""},""]
[null,null,null,null,null,null,null,{"$f":"IF(Hobo!A959<>\"\",Hobo!A959&configuracion!$C$10,\"\")","v":""},""]
[null,null,null,null,null,null,null,{"$f":"IF(Hobo!A960<>\"\",Hobo!A960&configuracion!$C$10,\"\")","v":""},""]
[null,null,null,null,null,null,null,{"$f":"IF(Hobo!A961<>\"\",Hobo!A961&configuracion!$C$10,\"\")","v":""},""]
[null,null,null,null,null,null,null,{"$f":"IF(Hobo!A962<>\"\",Hobo!A962&configuracion!$C$10,\"\")","v":""},""]
[null,null,null,null,null,null,null,{"$f":"IF(Hobo!A963<>\"\",Hobo!A963&configuracion!$C$10,\"\")","v":""},""]
[null,null,null,null,null,null,null,{"$f":"IF(Hobo!A964<>\"\",Hobo!A964&configuracion!$C$10,\"\")","v":""},{"$f":"IF(B964=\"\",\"\",TEXT(B964, \"DD/MM/YYYY HH:MM:SS\"))","v":""}]
[null,null,null,null,null,null,null,{"$f":"IF(Hobo!A965<>\"\",Hobo!A965&configuracion!$C$10,\"\")","v":""},""]
[null,null,null,null,null,null,null,{"$f":"IF(Hobo!A966<>\"\",Hobo!A966&configuracion!$C$10,\"\")","v":""},""]
[null,null,null,null,null,null,null,{"$f":"IF(Hobo!A967<>\"\",Hobo!A967&configuracion!$C$10,\"\")","v":""},""]
[null,null,null,null,null,null,null,{"$f":"IF(Hobo!A968<>\"\",Hobo!A968&configuracion!$C$10,\"\")","v":""},""]
[null,null,null,null,null,null,null,{"$f":"IF(Hobo!A969<>\"\",Hobo!A969&configuracion!$C$10,\"\")","v":""},""]
[null,null,null,null,null,null,null,{"$f":"IF(Hobo!A970<>\"\",Hobo!A970&configuracion!$C$10,\"\")","v":""},""]
[null,null,null,null,null,null,null,{"$f":"IF(Hobo!A971<>\"\",Hobo!A971&configuracion!$C$10,\"\")","v":""},""]
[null,null,null,null,null,null,null,{"$f":"IF(Hobo!A972<>\"\",Hobo!A972&configuracion!$C$10,\"\")","v":""},""]
[null,null,null,null,null,null,null,{"$f":"IF(Hobo!A973<>\"\",Hobo!A973&configuracion!$C$10,\"\")","v":""},""]
[null,null,null,null,null,null,null,{"$f":"IF(Hobo!A974<>\"\",Hobo!A974&configuracion!$C$10,\"\")","v":""},""]
[null,null,null,null,null,null,null,{"$f":"IF(Hobo!A975<>\"\",Hobo!A975&configuracion!$C$10,\"\")","v":""},""]
[null,null,null,null,null,null,null,{"$f":"IF(Hobo!A976<>\"\",Hobo!A976&configuracion!$C$10,\"\")","v":""},""]
[null,null,null,null,null,null,null,{"$f":"IF(Hobo!A977<>\"\",Hobo!A977&configuracion!$C$10,\"\")","v":""},""]
[null,null,null,null,null,null,null,{"$f":"IF(Hobo!A978<>\"\",Hobo!A978&configuracion!$C$10,\"\")","v":""},""]
[null,null,null,null,null,null,null,{"$f":"IF(Hobo!A979<>\"\",Hobo!A979&configuracion!$C$10,\"\")","v":""},""]
[null,null,null,null,null,null,null,{"$f":"IF(Hobo!A980<>\"\",Hobo!A980&configuracion!$C$10,\"\")","v":""},""]
[null,null,null,null,null,null,null,{"$f":"IF(Hobo!A981<>\"\",Hobo!A981&configuracion!$C$10,\"\")","v":""},""]
[null,null,null,null,null,null,null,{"$f":"IF(Hobo!A982<>\"\",Hobo!A982&configuracion!$C$10,\"\")","v":""},""]
[null,null,null,null,null,null,null,{"$f":"IF(Hobo!A983<>\"\",Hobo!A983&configuracion!$C$10,\"\")","v":""},""]
[null,null,null,null,null,null,null,{"$f":"IF(Hobo!A984<>\"\",Hobo!A984&configuracion!$C$10,\"\")","v":""},""]
[null,null,null,null,null,null,null,{"$f":"IF(Hobo!A985<>\"\",Hobo!A985&configuracion!$C$10,\"\")","v":""},""]
[null,null,null,null,null,null,null,{"$f":"IF(Hobo!A986<>\"\",Hobo!A986&configuracion!$C$10,\"\")","v":""},""]
[null,null,null,null,null,null,null,{"$f":"IF(Hobo!A987<>\"\",Hobo!A987&configuracion!$C$10,\"\")","v":""},""]
[null,null,null,null,null,null,null,{"$f":"IF(Hobo!A988<>\"\",Hobo!A988&configuracion!$C$10,\"\")","v":""},""]
[null,null,null,null,null,null,null,{"$f":"IF(Hobo!A989<>\"\",Hobo!A989&configuracion!$C$10,\"\")","v":""},""]
[null,null,null,null,null,null,null,{"$f":"IF(Hobo!A990<>\"\",Hobo!A990&configuracion!$C$10,\"\")","v":""},""]
[null,null,null,null,null,null,null,{"$f":"IF(Hobo!A991<>\"\",Hobo!A991&configuracion!$C$10,\"\")","v":""},""]
[null,null,null,null,null,null,null,{"$f":"IF(Hobo!A992<>\"\",Hobo!A992&configuracion!$C$10,\"\")","v":""},""]
[null,null,null,null,null,null,null,{"$f":"IF(Hobo!A993<>\"\",Hobo!A993&configuracion!$C$10,\"\")","v":""},""]
[null,null,null,null,null,null,null,{"$f":"IF(Hobo!A994<>\"\",Hobo!A994&configuracion!$C$10,\"\")","v":""},""]
[null,null,null,null,null,null,null,{"$f":"IF(Hobo!A995<>\"\",Hobo!A995&configuracion!$C$10,\"\")","v":""},""]
[null,null,null,null,null,null,null,{"$f":"IF(Hobo!A996<>\"\",Hobo!A996&configuracion!$C$10,\"\")","v":""},""]
[null,null,null,null,null,null,null,{"$f":"IF(Hobo!A997<>\"\",Hobo!A997&configuracion!$C$10,\"\")","v":""},""]
[null,null,null,null,null,null,null,{"$f":"IF(Hobo!A998<>\"\",Hobo!A998&configuracion!$C$10,\"\")","v":""},""]
[null,null,null,null,null,null,null,{"$f":"IF(Hobo!A999<>\"\",Hobo!A999&configuracion!$C$10,\"\")","v":""},""]
[null,null,null,null,null,null,null,{"$f":"IF(Hobo!A1000<>\"\",Hobo!A1000&configuracion!$C$10,\"\")","v":""},""]
[null,null,null,null,null,null,null,{"$f":"IF(Hobo!A1001<>\"\",Hobo!A1001&configuracion!$C$10,\"\")","v":""},""]
[null,null,null,null,null,null,null,{"$f":"IF(Hobo!A1002<>\"\",Hobo!A1002&configuracion!$C$10,\"\")","v":""},""]
[null,null,null,null,null,null,null,{"$f":"IF(Hobo!A1003<>\"\",Hobo!A1003&configuracion!$C$10,\"\")","v":""},""]
[null,null,null,null,null,null,null,{"$f":"IF(Hobo!A1004<>\"\",Hobo!A1004&configuracion!$C$10,\"\")","v":""},""]
[null,null,null,null,null,null,null,{"$f":"IF(Hobo!A1005<>\"\",Hobo!A1005&configuracion!$C$10,\"\")","v":""},""]
[null,null,null,null,null,null,null,{"$f":"IF(Hobo!A1006<>\"\",Hobo!A1006&configuracion!$C$10,\"\")","v":""},""]
[null,null,null,null,null,null,null,{"$f":"IF(Hobo!A1007<>\"\",Hobo!A1007&configuracion!$C$10,\"\")","v":""},""]
[null,null,null,null,null,null,null,{"$f":"IF(Hobo!A1008<>\"\",Hobo!A1008&configuracion!$C$10,\"\")","v":""},""]
[null,null,null,null,null,null,null,{"$f":"IF(Hobo!A1009<>\"\",Hobo!A1009&configuracion!$C$10,\"\")","v":""},""]
[null,null,null,null,null,null,null,{"$f":"IF(Hobo!A1010<>\"\",Hobo!A1010&configuracion!$C$10,\"\")","v":""},""]
[null,null,null,null,null,null,null,{"$f":"IF(Hobo!A1011<>\"\",Hobo!A1011&configuracion!$C$10,\"\")","v":""},""]
[null,null,null,null,null,null,null,{"$f":"IF(Hobo!A1012<>\"\",Hobo!A1012&configuracion!$C$10,\"\")","v":""},""]
[null,null,null,null,null,null,null,{"$f":"IF(Hobo!A1013<>\"\",Hobo!A1013&configuracion!$C$10,\"\")","v":""},""]
[null,null,null,null,null,null,null,{"$f":"IF(Hobo!A1014<>\"\",Hobo!A1014&configuracion!$C$10,\"\")","v":""},""]
[null,null,null,null,null,null,null,{"$f":"IF(Hobo!A1015<>\"\",Hobo!A1015&configuracion!$C$10,\"\")","v":""},""]
[null,null,null,null,null,null,null,{"$f":"IF(Hobo!A1016<>\"\",Hobo!A1016&configuracion!$C$10,\"\")","v":""},""]
[null,null,null,null,null,null,null,{"$f":"IF(Hobo!A1017<>\"\",Hobo!A1017&configuracion!$C$10,\"\")","v":""},""]
[null,null,null,null,null,null,null,{"$f":"IF(Hobo!A1018<>\"\",Hobo!A1018&configuracion!$C$10,\"\")","v":""},""]
[null,null,null,null,null,null,null,{"$f":"IF(Hobo!A1019<>\"\",Hobo!A1019&configuracion!$C$10,\"\")","v":""},""]
[null,null,null,null,null,null,null,{"$f":"IF(Hobo!A1020<>\"\",Hobo!A1020&configuracion!$C$10,\"\")","v":""},""]
[null,null,null,null,null,null,null,{"$f":"IF(Hobo!A1021<>\"\",Hobo!A1021&configuracion!$C$10,\"\")","v":""},""]
[null,null,null,null,null,null,null,{"$f":"IF(Hobo!A1022<>\"\",Hobo!A1022&configuracion!$C$10,\"\")","v":""},""]
[null,null,null,null,null,null,null,{"$f":"IF(Hobo!A1023<>\"\",Hobo!A1023&configuracion!$C$10,\"\")","v":""},""]
[null,null,null,null,null,null,null,{"$f":"IF(Hobo!A1024<>\"\",Hobo!A1024&configuracion!$C$10,\"\")","v":""},""]
[null,null,null,null,null,null,null,{"$f":"IF(Hobo!A1025<>\"\",Hobo!A1025&configuracion!$C$10,\"\")","v":""},""]
[null,null,null,null,null,null,null,{"$f":"IF(Hobo!A1026<>\"\",Hobo!A1026&configuracion!$C$10,\"\")","v":""},""]
[null,null,null,null,null,null,null,{"$f":"IF(Hobo!A1027<>\"\",Hobo!A1027&configuracion!$C$10,\"\")","v":""},""]
[null,null,null,null,null,null,null,{"$f":"IF(Hobo!A1028<>\"\",Hobo!A1028&configuracion!$C$10,\"\")","v":""},{"$f":"IF(B1028=\"\",\"\",TEXT(B1028, \"DD/MM/YYYY HH:MM:SS\"))","v":""}]
[null,null,null,null,null,null,null,{"$f":"IF(Hobo!A1029<>\"\",Hobo!A1029&configuracion!$C$10,\"\")","v":""},""]
[null,null,null,null,null,null,null,{"$f":"IF(Hobo!A1030<>\"\",Hobo!A1030&configuracion!$C$10,\"\")","v":""},""]
[null,null,null,null,null,null,null,{"$f":"IF(Hobo!A1031<>\"\",Hobo!A1031&configuracion!$C$10,\"\")","v":""},""]
[null,null,null,null,null,null,null,{"$f":"IF(Hobo!A1032<>\"\",Hobo!A1032&configuracion!$C$10,\"\")","v":""},""]
[null,null,null,null,null,null,null,{"$f":"IF(Hobo!A1033<>\"\",Hobo!A1033&configuracion!$C$10,\"\")","v":""},""]
[null,null,null,null,null,null,null,{"$f":"IF(Hobo!A1034<>\"\",Hobo!A1034&configuracion!$C$10,\"\")","v":""},""]
[null,null,null,null,null,null,null,{"$f":"IF(Hobo!A1035<>\"\",Hobo!A1035&configuracion!$C$10,\"\")","v":""},""]
[null,null,null,null,null,null,null,{"$f":"IF(Hobo!A1036<>\"\",Hobo!A1036&configuracion!$C$10,\"\")","v":""},""]
[null,null,null,null,null,null,null,{"$f":"IF(Hobo!A1037<>\"\",Hobo!A1037&configuracion!$C$10,\"\")","v":""},""]
[null,null,null,null,null,null,null,{"$f":"IF(Hobo!A1038<>\"\",Hobo!A1038&configuracion!$C$10,\"\")","v":""},""]
[null,null,null,null,null,null,null,{"$f":"IF(Hobo!A1039<>\"\",Hobo!A1039&configuracion!$C$10,\"\")","v":""},""]
[null,null,null,null,null,null,null,{"$f":"IF(Hobo!A1040<>\"\",Hobo!A1040&configuracion!$C$10,\"\")","v":""},""]
[null,null,null,null,null,null,null,{"$f":"IF(Hobo!A1041<>\"\",Hobo!A1041&configuracion!$C$10,\"\")","v":""},""]
[null,null,null,null,null,null,null,{"$f":"IF(Hobo!A1042<>\"\",Hobo!A1042&configuracion!$C$10,\"\")","v":""},""]
[null,null,null,null,null,null,null,{"$f":"IF(Hobo!A1043<>\"\",Hobo!A1043&configuracion!$C$10,\"\")","v":""},""]
[null,null,null,null,null,null,null,{"$f":"IF(Hobo!A1044<>\"\",Hobo!A1044&configuracion!$C$10,\"\")","v":""},""]
[null,null,null,null,null,null,null,{"$f":"IF(Hobo!A1045<>\"\",Hobo!A1045&configuracion!$C$10,\"\")","v":""},""]
[null,null,null,null,null,null,null,{"$f":"IF(Hobo!A1046<>\"\",Hobo!A1046&configuracion!$C$10,\"\")","v":""},""]
[null,null,null,null,null,null,null,{"$f":"IF(Hobo!A1047<>\"\",Hobo!A1047&configuracion!$C$10,\"\")","v":""},""]
[null,null,null,null,null,null,null,{"$f":"IF(Hobo!A1048<>\"\",Hobo!A1048&configuracion!$C$10,\"\")","v":""},""]
[null,null,null,null,null,null,null,{"$f":"IF(Hobo!A1049<>\"\",Hobo!A1049&configuracion!$C$10,\"\")","v":""},""]
[null,null,null,null,null,null,null,{"$f":"IF(Hobo!A1050<>\"\",Hobo!A1050&configuracion!$C$10,\"\")","v":""},""]
[null,null,null,null,null,null,null,{"$f":"IF(Hobo!A1051<>\"\",Hobo!A1051&configuracion!$C$10,\"\")","v":""},""]
[null,null,null,null,null,null,null,{"$f":"IF(Hobo!A1052<>\"\",Hobo!A1052&configuracion!$C$10,\"\")","v":""},""]
[null,null,null,null,null,null,null,{"$f":"IF(Hobo!A1053<>\"\",Hobo!A1053&configuracion!$C$10,\"\")","v":""},""]
[null,null,null,null,null,null,null,{"$f":"IF(Hobo!A1054<>\"\",Hobo!A1054&configuracion!$C$10,\"\")","v":""},""]
[null,null,null,null,null,null,null,{"$f":"IF(Hobo!A1055<>\"\",Hobo!A1055&configuracion!$C$10,\"\")","v":""},""]
[null,null,null,null,null,null,null,{"$f":"IF(Hobo!A1056<>\"\",Hobo!A1056&configuracion!$C$10,\"\")","v":""},""]
[null,null,null,null,null,null,null,{"$f":"IF(Hobo!A1057<>\"\",Hobo!A1057&configuracion!$C$10,\"\")","v":""},""]
[null,null,null,null,null,null,null,{"$f":"IF(Hobo!A1058<>\"\",Hobo!A1058&configuracion!$C$10,\"\")","v":""},""]
[null,null,null,null,null,null,null,{"$f":"IF(Hobo!A1059<>\"\",Hobo!A1059&configuracion!$C$10,\"\")","v":""},""]
[null,null,null,null,null,null,null,{"$f":"IF(Hobo!A1060<>\"\",Hobo!A1060&configuracion!$C$10,\"\")","v":""},""]
[null,null,null,null,null,null,null,{"$f":"IF(Hobo!A1061<>\"\",Hobo!A1061&configuracion!$C$10,\"\")","v":""},""]
[null,null,null,null,null,null,null,{"$f":"IF(Hobo!A1062<>\"\",Hobo!A1062&configuracion!$C$10,\"\")","v":""},""]
[null,null,null,null,null,null,null,{"$f":"IF(Hobo!A1063<>\"\",Hobo!A1063&configuracion!$C$10,\"\")","v":""},""]
[null,null,null,null,null,null,null,{"$f":"IF(Hobo!A1064<>\"\",Hobo!A1064&configuracion!$C$10,\"\")","v":""},""]
[null,null,null,null,null,null,null,{"$f":"IF(Hobo!A1065<>\"\",Hobo!A1065&configuracion!$C$10,\"\")","v":""},""]
[null,null,null,null,null,null,null,{"$f":"IF(Hobo!A1066<>\"\",Hobo!A1066&configuracion!$C$10,\"\")","v":""},""]
[null,null,null,null,null,null,null,{"$f":"IF(Hobo!A1067<>\"\",Hobo!A1067&configuracion!$C$10,\"\")","v":""},""]
[null,null,null,null,null,null,null,{"$f":"IF(Hobo!A1068<>\"\",Hobo!A1068&configuracion!$C$10,\"\")","v":""},""]
[null,null,null,null,null,null,null,{"$f":"IF(Hobo!A1069<>\"\",Hobo!A1069&configuracion!$C$10,\"\")","v":""},""]
[null,null,null,null,null,null,null,{"$f":"IF(Hobo!A1070<>\"\",Hobo!A1070&configuracion!$C$10,\"\")","v":""},""]
[null,null,null,null,null,null,null,{"$f":"IF(Hobo!A1071<>\"\",Hobo!A1071&configuracion!$C$10,\"\")","v":""},""]
[null,null,null,null,null,null,null,{"$f":"IF(Hobo!A1072<>\"\",Hobo!A1072&configuracion!$C$10,\"\")","v":""},""]
[null,null,null,null,null,null,null,{"$f":"IF(Hobo!A1073<>\"\",Hobo!A1073&configuracion!$C$10,\"\")","v":""},""]
[null,null,null,null,null,null,null,{"$f":"IF(Hobo!A1074<>\"\",Hobo!A1074&configuracion!$C$10,\"\")","v":""},""]
[null,null,null,null,null,null,null,{"$f":"IF(Hobo!A1075<>\"\",Hobo!A1075&configuracion!$C$10,\"\")","v":""},""]
[null,null,null,null,null,null,null,{"$f":"IF(Hobo!A1076<>\"\",Hobo!A1076&configuracion!$C$10,\"\")","v":""},""]
[null,null,null,null,null,null,null,{"$f":"IF(Hobo!A1077<>\"\",Hobo!A1077&configuracion!$C$10,\"\")","v":""},""]
[null,null,null,null,null,null,null,{"$f":"IF(Hobo!A1078<>\"\",Hobo!A1078&configuracion!$C$10,\"\")","v":""},""]
[null,null,null,null,null,null,null,{"$f":"IF(Hobo!A1079<>\"\",Hobo!A1079&configuracion!$C$10,\"\")","v":""},""]
[null,null,null,null,null,null,null,{"$f":"IF(Hobo!A1080<>\"\",Hobo!A1080&configuracion!$C$10,\"\")","v":""},""]
[null,null,null,null,null,null,null,{"$f":"IF(Hobo!A1081<>\"\",Hobo!A1081&configuracion!$C$10,\"\")","v":""},""]
[null,null,null,null,null,null,null,{"$f":"IF(Hobo!A1082<>\"\",Hobo!A1082&configuracion!$C$10,\"\")","v":""},""]
[null,null,null,null,null,null,null,{"$f":"IF(Hobo!A1083<>\"\",Hobo!A1083&configuracion!$C$10,\"\")","v":""},""]
[null,null,null,null,null,null,null,{"$f":"IF(Hobo!A1084<>\"\",Hobo!A1084&configuracion!$C$10,\"\")","v":""},""]
[null,null,null,null,null,null,null,{"$f":"IF(Hobo!A1085<>\"\",Hobo!A1085&configuracion!$C$10,\"\")","v":""},""]
[null,null,null,null,null,null,null,{"$f":"IF(Hobo!A1086<>\"\",Hobo!A1086&configuracion!$C$10,\"\")","v":""},""]
[null,null,null,null,null,null,null,{"$f":"IF(Hobo!A1087<>\"\",Hobo!A1087&configuracion!$C$10,\"\")","v":""},""]
[null,null,null,null,null,null,null,{"$f":"IF(Hobo!A1088<>\"\",Hobo!A1088&configuracion!$C$10,\"\")","v":""},""]
[null,null,null,null,null,null,null,{"$f":"IF(Hobo!A1089<>\"\",Hobo!A1089&configuracion!$C$10,\"\")","v":""},""]
[null,null,null,null,null,null,null,{"$f":"IF(Hobo!A1090<>\"\",Hobo!A1090&configuracion!$C$10,\"\")","v":""},""]
[null,null,null,null,null,null,null,{"$f":"IF(Hobo!A1091<>\"\",Hobo!A1091&configuracion!$C$10,\"\")","v":""},""]
[null,null,null,null,null,null,null,{"$f":"IF(Hobo!A1092<>\"\",Hobo!A1092&configuracion!$C$10,\"\")","v":""},{"$f":"IF(B1092=\"\",\"\",TEXT(B1092, \"DD/MM/YYYY HH:MM:SS\"))","v":""}]
[null,null,null,null,null,null,null,{"$f":"IF(Hobo!A1093<>\"\",Hobo!A1093&configuracion!$C$10,\"\")","v":""},""]
[null,null,null,null,null,null,null,{"$f":"IF(Hobo!A1094<>\"\",Hobo!A1094&configuracion!$C$10,\"\")","v":""},""]
[null,null,null,null,null,null,null,{"$f":"IF(Hobo!A1095<>\"\",Hobo!A1095&configuracion!$C$10,\"\")","v":""},""]
[null,null,null,null,null,null,null,{"$f":"IF(Hobo!A1096<>\"\",Hobo!A1096&configuracion!$C$10,\"\")","v":""},""]
[null,null,null,null,null,null,null,{"$f":"IF(Hobo!A1097<>\"\",Hobo!A1097&configuracion!$C$10,\"\")","v":""},""]
[null,null,null,null,null,null,null,{"$f":"IF(Hobo!A1098<>\"\",Hobo!A1098&configuracion!$C$10,\"\")","v":""},""]
[null,null,null,null,null,null,null,{"$f":"IF(Hobo!A1099<>\"\",Hobo!A1099&configuracion!$C$10,\"\")","v":""},""]
[null,null,null,null,null,null,null,{"$f":"IF(Hobo!A1100<>\"\",Hobo!A1100&configuracion!$C$10,\"\")","v":""},""]
[null,null,null,null,null,null,null,{"$f":"IF(Hobo!A1101<>\"\",Hobo!A1101&configuracion!$C$10,\"\")","v":""},""]
[null,null,null,null,null,null,null,{"$f":"IF(Hobo!A1102<>\"\",Hobo!A1102&configuracion!$C$10,\"\")","v":""},""]
[null,null,null,null,null,null,null,{"$f":"IF(Hobo!A1103<>\"\",Hobo!A1103&configuracion!$C$10,\"\")","v":""},""]
[null,null,null,null,null,null,null,{"$f":"IF(Hobo!A1104<>\"\",Hobo!A1104&configuracion!$C$10,\"\")","v":""},""]
[null,null,null,null,null,null,null,{"$f":"IF(Hobo!A1105<>\"\",Hobo!A1105&configuracion!$C$10,\"\")","v":""},""]
[null,null,null,null,null,null,null,{"$f":"IF(Hobo!A1106<>\"\",Hobo!A1106&configuracion!$C$10,\"\")","v":""},""]
[null,null,null,null,null,null,null,{"$f":"IF(Hobo!A1107<>\"\",Hobo!A1107&configuracion!$C$10,\"\")","v":""},""]
[null,null,null,null,null,null,null,{"$f":"IF(Hobo!A1108<>\"\",Hobo!A1108&configuracion!$C$10,\"\")","v":""},""]
[null,null,null,null,null,null,null,{"$f":"IF(Hobo!A1109<>\"\",Hobo!A1109&configuracion!$C$10,\"\")","v":""},""]
[null,null,null,null,null,null,null,{"$f":"IF(Hobo!A1110<>\"\",Hobo!A1110&configuracion!$C$10,\"\")","v":""},""]
[null,null,null,null,null,null,null,{"$f":"IF(Hobo!A1111<>\"\",Hobo!A1111&configuracion!$C$10,\"\")","v":""},""]
[null,null,null,null,null,null,null,{"$f":"IF(Hobo!A1112<>\"\",Hobo!A1112&configuracion!$C$10,\"\")","v":""},""]
[null,null,null,null,null,null,null,{"$f":"IF(Hobo!A1113<>\"\",Hobo!A1113&configuracion!$C$10,\"\")","v":""},""]
[null,null,null,null,null,null,null,{"$f":"IF(Hobo!A1114<>\"\",Hobo!A1114&configuracion!$C$10,\"\")","v":""},""]
[null,null,null,null,null,null,null,{"$f":"IF(Hobo!A1115<>\"\",Hobo!A1115&configuracion!$C$10,\"\")","v":""},""]
[null,null,null,null,null,null,null,{"$f":"IF(Hobo!A1116<>\"\",Hobo!A1116&configuracion!$C$10,\"\")","v":""},""]
[null,null,null,null,null,null,null,{"$f":"IF(Hobo!A1117<>\"\",Hobo!A1117&configuracion!$C$10,\"\")","v":""},""]
[null,null,null,null,null,null,null,{"$f":"IF(Hobo!A1118<>\"\",Hobo!A1118&configuracion!$C$10,\"\")","v":""},""]
[null,null,null,null,null,null,null,{"$f":"IF(Hobo!A1119<>\"\",Hobo!A1119&configuracion!$C$10,\"\")","v":""},""]
[null,null,null,null,null,null,null,{"$f":"IF(Hobo!A1120<>\"\",Hobo!A1120&configuracion!$C$10,\"\")","v":""},""]
[null,null,null,null,null,null,null,{"$f":"IF(Hobo!A1121<>\"\",Hobo!A1121&configuracion!$C$10,\"\")","v":""},""]
[null,null,null,null,null,null,null,{"$f":"IF(Hobo!A1122<>\"\",Hobo!A1122&configuracion!$C$10,\"\")","v":""},""]
[null,null,null,null,null,null,null,{"$f":"IF(Hobo!A1123<>\"\",Hobo!A1123&configuracion!$C$10,\"\")","v":""},""]
[null,null,null,null,null,null,null,{"$f":"IF(Hobo!A1124<>\"\",Hobo!A1124&configuracion!$C$10,\"\")","v":""},""]
[null,null,null,null,null,null,null,{"$f":"IF(Hobo!A1125<>\"\",Hobo!A1125&configuracion!$C$10,\"\")","v":""},""]
[null,null,null,null,null,null,null,{"$f":"IF(Hobo!A1126<>\"\",Hobo!A1126&configuracion!$C$10,\"\")","v":""},""]
[null,null,null,null,null,null,null,{"$f":"IF(Hobo!A1127<>\"\",Hobo!A1127&configuracion!$C$10,\"\")","v":""},""]
[null,null,null,null,null,null,null,{"$f":"IF(Hobo!A1128<>\"\",Hobo!A1128&configuracion!$C$10,\"\")","v":""},""]
[null,null,null,null,null,null,null,{"$f":"IF(Hobo!A1129<>\"\",Hobo!A1129&configuracion!$C$10,\"\")","v":""},""]
[null,null,null,null,null,null,null,{"$f":"IF(Hobo!A1130<>\"\",Hobo!A1130&configuracion!$C$10,\"\")","v":""},""]
[null,null,null,null,null,null,null,{"$f":"IF(Hobo!A1131<>\"\",Hobo!A1131&configuracion!$C$10,\"\")","v":""},""]
[null,null,null,null,null,null,null,{"$f":"IF(Hobo!A1132<>\"\",Hobo!A1132&configuracion!$C$10,\"\")","v":""},""]
[null,null,null,null,null,null,null,{"$f":"IF(Hobo!A1133<>\"\",Hobo!A1133&configuracion!$C$10,\"\")","v":""},""]
[null,null,null,null,null,null,null,{"$f":"IF(Hobo!A1134<>\"\",Hobo!A1134&configuracion!$C$10,\"\")","v":""},""]
[null,null,null,null,null,null,null,{"$f":"IF(Hobo!A1135<>\"\",Hobo!A1135&configuracion!$C$10,\"\")","v":""},""]
[null,null,null,null,null,null,null,{"$f":"IF(Hobo!A1136<>\"\",Hobo!A1136&configuracion!$C$10,\"\")","v":""},""]
[null,null,null,null,null,null,null,{"$f":"IF(Hobo!A1137<>\"\",Hobo!A1137&configuracion!$C$10,\"\")","v":""},""]
[null,null,null,null,null,null,null,{"$f":"IF(Hobo!A1138<>\"\",Hobo!A1138&configuracion!$C$10,\"\")","v":""},""]
[null,null,null,null,null,null,null,{"$f":"IF(Hobo!A1139<>\"\",Hobo!A1139&configuracion!$C$10,\"\")","v":""},""]
[null,null,null,null,null,null,null,{"$f":"IF(Hobo!A1140<>\"\",Hobo!A1140&configuracion!$C$10,\"\")","v":""},""]
[null,null,null,null,null,null,null,{"$f":"IF(Hobo!A1141<>\"\",Hobo!A1141&configuracion!$C$10,\"\")","v":""},""]
[null,null,null,null,null,null,null,{"$f":"IF(Hobo!A1142<>\"\",Hobo!A1142&configuracion!$C$10,\"\")","v":""},""]
[null,null,null,null,null,null,null,{"$f":"IF(Hobo!A1143<>\"\",Hobo!A1143&configuracion!$C$10,\"\")","v":""},""]
[null,null,null,null,null,null,null,{"$f":"IF(Hobo!A1144<>\"\",Hobo!A1144&configuracion!$C$10,\"\")","v":""},""]
[null,null,null,null,null,null,null,{"$f":"IF(Hobo!A1145<>\"\",Hobo!A1145&configuracion!$C$10,\"\")","v":""},""]
[null,null,null,null,null,null,null,{"$f":"IF(Hobo!A1146<>\"\",Hobo!A1146&configuracion!$C$10,\"\")","v":""},""]
[null,null,null,null,null,null,null,{"$f":"IF(Hobo!A1147<>\"\",Hobo!A1147&configuracion!$C$10,\"\")","v":""},""]
[null,null,null,null,null,null,null,{"$f":"IF(Hobo!A1148<>\"\",Hobo!A1148&configuracion!$C$10,\"\")","v":""},""]
[null,null,null,null,null,null,null,{"$f":"IF(Hobo!A1149<>\"\",Hobo!A1149&configuracion!$C$10,\"\")","v":""},""]
[null,null,null,null,null,null,null,{"$f":"IF(Hobo!A1150<>\"\",Hobo!A1150&configuracion!$C$10,\"\")","v":""},""]
[null,null,null,null,null,null,null,{"$f":"IF(Hobo!A1151<>\"\",Hobo!A1151&configuracion!$C$10,\"\")","v":""},""]
[null,null,null,null,null,null,null,{"$f":"IF(Hobo!A1152<>\"\",Hobo!A1152&configuracion!$C$10,\"\")","v":""},""]
[null,null,null,null,null,null,null,{"$f":"IF(Hobo!A1153<>\"\",Hobo!A1153&configuracion!$C$10,\"\")","v":""},""]
[null,null,null,null,null,null,null,{"$f":"IF(Hobo!A1154<>\"\",Hobo!A1154&configuracion!$C$10,\"\")","v":""},""]
[null,null,null,null,null,null,null,{"$f":"IF(Hobo!A1155<>\"\",Hobo!A1155&configuracion!$C$10,\"\")","v":""},""]
[null,null,null,null,null,null,null,{"$f":"IF(Hobo!A1156<>\"\",Hobo!A1156&configuracion!$C$10,\"\")","v":""},{"$f":"IF(B1156=\"\",\"\",TEXT(B1156, \"DD/MM/YYYY HH:MM:SS\"))","v":""}]
[null,null,null,null,null,null,null,{"$f":"IF(Hobo!A1157<>\"\",Hobo!A1157&configuracion!$C$10,\"\")","v":""},""]
[null,null,null,null,null,null,null,{"$f":"IF(Hobo!A1158<>\"\",Hobo!A1158&configuracion!$C$10,\"\")","v":""},""]
[null,null,null,null,null,null,null,{"$f":"IF(Hobo!A1159<>\"\",Hobo!A1159&configuracion!$C$10,\"\")","v":""},""]
[null,null,null,null,null,null,null,{"$f":"IF(Hobo!A1160<>\"\",Hobo!A1160&configuracion!$C$10,\"\")","v":""},""]
[null,null,null,null,null,null,null,{"$f":"IF(Hobo!A1161<>\"\",Hobo!A1161&configuracion!$C$10,\"\")","v":""},""]
[null,null,null,null,null,null,null,{"$f":"IF(Hobo!A1162<>\"\",Hobo!A1162&configuracion!$C$10,\"\")","v":""},""]
[null,null,null,null,null,null,null,{"$f":"IF(Hobo!A1163<>\"\",Hobo!A1163&configuracion!$C$10,\"\")","v":""},""]
[null,null,null,null,null,null,null,{"$f":"IF(Hobo!A1164<>\"\",Hobo!A1164&configuracion!$C$10,\"\")","v":""},""]
[null,null,null,null,null,null,null,{"$f":"IF(Hobo!A1165<>\"\",Hobo!A1165&configuracion!$C$10,\"\")","v":""},""]
[null,null,null,null,null,null,null,{"$f":"IF(Hobo!A1166<>\"\",Hobo!A1166&configuracion!$C$10,\"\")","v":""},""]
[null,null,null,null,null,null,null,{"$f":"IF(Hobo!A1167<>\"\",Hobo!A1167&configuracion!$C$10,\"\")","v":""},""]
[null,null,null,null,null,null,null,{"$f":"IF(Hobo!A1168<>\"\",Hobo!A1168&configuracion!$C$10,\"\")","v":""},""]
[null,null,null,null,null,null,null,{"$f":"IF(Hobo!A1169<>\"\",Hobo!A1169&configuracion!$C$10,\"\")","v":""},""]
[null,null,null,null,null,null,null,{"$f":"IF(Hobo!A1170<>\"\",Hobo!A1170&configuracion!$C$10,\"\")","v":""},""]
[null,null,null,null,null,null,null,{"$f":"IF(Hobo!A1171<>\"\",Hobo!A1171&configuracion!$C$10,\"\")","v":""},""]
[null,null,null,null,null,null,null,{"$f":"IF(Hobo!A1172<>\"\",Hobo!A1172&configuracion!$C$10,\"\")","v":""},""]
[null,null,null,null,null,null,null,{"$f":"IF(Hobo!A1173<>\"\",Hobo!A1173&configuracion!$C$10,\"\")","v":""},""]
[null,null,null,null,null,null,null,{"$f":"IF(Hobo!A1174<>\"\",Hobo!A1174&configuracion!$C$10,\"\")","v":""},""]
[null,null,null,null,null,null,null,{"$f":"IF(Hobo!A1175<>\"\",Hobo!A1175&configuracion!$C$10,\"\")","v":""},""]
[null,null,null,null,null,null,null,{"$f":"IF(Hobo!A1176<>\"\",Hobo!A1176&configuracion!$C$10,\"\")","v":""},""]
[null,null,null,null,null,null,null,{"$f":"IF(Hobo!A1177<>\"\",Hobo!A1177&configuracion!$C$10,\"\")","v":""},""]
[null,null,null,null,null,null,null,{"$f":"IF(Hobo!A1178<>\"\",Hobo!A1178&configuracion!$C$10,\"\")","v":""},""]
[null,null,null,null,null,null,null,{"$f":"IF(Hobo!A1179<>\"\",Hobo!A1179&configuracion!$C$10,\"\")","v":""},""]
[null,null,null,null,null,null,null,{"$f":"IF(Hobo!A1180<>\"\",Hobo!A1180&configuracion!$C$10,\"\")","v":""},""]
[null,null,null,null,null,null,null,{"$f":"IF(Hobo!A1181<>\"\",Hobo!A1181&configuracion!$C$10,\"\")","v":""},""]
[null,null,null,null,null,null,null,{"$f":"IF(Hobo!A1182<>\"\",Hobo!A1182&configuracion!$C$10,\"\")","v":""},""]
[null,null,null,null,null,null,null,{"$f":"IF(Hobo!A1183<>\"\",Hobo!A1183&configuracion!$C$10,\"\")","v":""},""]
[null,null,null,null,null,null,null,{"$f":"IF(Hobo!A1184<>\"\",Hobo!A1184&configuracion!$C$10,\"\")","v":""},""]
[null,null,null,null,null,null,null,{"$f":"IF(Hobo!A1185<>\"\",Hobo!A1185&configuracion!$C$10,\"\")","v":""},""]
[null,null,null,null,null,null,null,{"$f":"IF(Hobo!A1186<>\"\",Hobo!A1186&configuracion!$C$10,\"\")","v":""},""]
[null,null,null,null,null,null,null,{"$f":"IF(Hobo!A1187<>\"\",Hobo!A1187&configuracion!$C$10,\"\")","v":""},""]
[null,null,null,null,null,null,null,{"$f":"IF(Hobo!A1188<>\"\",Hobo!A1188&configuracion!$C$10,\"\")","v":""},""]
[null,null,null,null,null,null,null,{"$f":"IF(Hobo!A1189<>\"\",Hobo!A1189&configuracion!$C$10,\"\")","v":""},""]
[null,null,null,null,null,null,null,{"$f":"IF(Hobo!A1190<>\"\",Hobo!A1190&configuracion!$C$10,\"\")","v":""},""]
[null,null,null,null,null,null,null,{"$f":"IF(Hobo!A1191<>\"\",Hobo!A1191&configuracion!$C$10,\"\")","v":""},""]
[null,null,null,null,null,null,null,{"$f":"IF(Hobo!A1192<>\"\",Hobo!A1192&configuracion!$C$10,\"\")","v":""},""]
[null,null,null,null,null,null,null,{"$f":"IF(Hobo!A1193<>\"\",Hobo!A1193&configuracion!$C$10,\"\")","v":""},""]
[null,null,null,null,null,null,null,{"$f":"IF(Hobo!A1194<>\"\",Hobo!A1194&configuracion!$C$10,\"\")","v":""},""]
[null,null,null,null,null,null,null,{"$f":"IF(Hobo!A1195<>\"\",Hobo!A1195&configuracion!$C$10,\"\")","v":""},""]
[null,null,null,null,null,null,null,{"$f":"IF(Hobo!A1196<>\"\",Hobo!A1196&configuracion!$C$10,\"\")","v":""},""]
[null,null,null,null,null,null,null,{"$f":"IF(Hobo!A1197<>\"\",Hobo!A1197&configuracion!$C$10,\"\")","v":""},""]
[null,null,null,null,null,null,null,{"$f":"IF(Hobo!A1198<>\"\",Hobo!A1198&configuracion!$C$10,\"\")","v":""},""]
[null,null,null,null,null,null,null,{"$f":"IF(Hobo!A1199<>\"\",Hobo!A1199&configuracion!$C$10,\"\")","v":""},""]
[null,null,null,null,null,null,null,{"$f":"IF(Hobo!A1200<>\"\",Hobo!A1200&configuracion!$C$10,\"\")","v":""},""]
[null,null,null,null,null,null,null,{"$f":"IF(Hobo!A1201<>\"\",Hobo!A1201&configuracion!$C$10,\"\")","v":""},""]
[null,null,null,null,null,null,null,{"$f":"IF(Hobo!A1202<>\"\",Hobo!A1202&configuracion!$C$10,\"\")","v":""},""]
[null,null,null,null,null,null,null,{"$f":"IF(Hobo!A1203<>\"\",Hobo!A1203&configuracion!$C$10,\"\")","v":""},""]
[null,null,null,null,null,null,null,{"$f":"IF(Hobo!A1204<>\"\",Hobo!A1204&configuracion!$C$10,\"\")","v":""},""]
[null,null,null,null,null,null,null,{"$f":"IF(Hobo!A1205<>\"\",Hobo!A1205&configuracion!$C$10,\"\")","v":""},""]
[null,null,null,null,null,null,null,{"$f":"IF(Hobo!A1206<>\"\",Hobo!A1206&configuracion!$C$10,\"\")","v":""},""]
[null,null,null,null,null,null,null,{"$f":"IF(Hobo!A1207<>\"\",Hobo!A1207&configuracion!$C$10,\"\")","v":""},""]
[null,null,null,null,null,null,null,{"$f":"IF(Hobo!A1208<>\"\",Hobo!A1208&configuracion!$C$10,\"\")","v":""},""]
[null,null,null,null,null,null,null,{"$f":"IF(Hobo!A1209<>\"\",Hobo!A1209&configuracion!$C$10,\"\")","v":""},""]
[null,null,null,null,null,null,null,{"$f":"IF(Hobo!A1210<>\"\",Hobo!A1210&configuracion!$C$10,\"\")","v":""},""]
[null,null,null,null,null,null,null,{"$f":"IF(Hobo!A1211<>\"\",Hobo!A1211&configuracion!$C$10,\"\")","v":""},""]
[null,null,null,null,null,null,null,{"$f":"IF(Hobo!A1212<>\"\",Hobo!A1212&configuracion!$C$10,\"\")","v":""},""]
[null,null,null,null,null,null,null,{"$f":"IF(Hobo!A1213<>\"\",Hobo!A1213&configuracion!$C$10,\"\")","v":""},""]
[null,null,null,null,null,null,null,{"$f":"IF(Hobo!A1214<>\"\",Hobo!A1214&configuracion!$C$10,\"\")","v":""},""]
[null,null,null,null,null,null,null,{"$f":"IF(Hobo!A1215<>\"\",Hobo!A1215&configuracion!$C$10,\"\")","v":""},""]
[null,null,null,null,null,null,null,{"$f":"IF(Hobo!A1216<>\"\",Hobo!A1216&configuracion!$C$10,\"\")","v":""},""]
[null,null,null,null,null,null,null,{"$f":"IF(Hobo!A1217<>\"\",Hobo!A1217&configuracion!$C$10,\"\")","v":""},""]
[null,null,null,null,null,null,null,{"$f":"IF(Hobo!A1218<>\"\",Hobo!A1218&configuracion!$C$10,\"\")","v":""},""]
[null,null,null,null,null,null,null,{"$f":"IF(Hobo!A1219<>\"\",Hobo!A1219&configuracion!$C$10,\"\")","v":""},""]
[null,null,null,null,null,null,null,{"$f":"IF(Hobo!A1220<>\"\",Hobo!A1220&configuracion!$C$10,\"\")","v":""},{"$f":"IF(B1220=\"\",\"\",TEXT(B1220, \"DD/MM/YYYY HH:MM:SS\"))","v":""}]
[null,null,null,null,null,null,null,{"$f":"IF(Hobo!A1221<>\"\",Hobo!A1221&configuracion!$C$10,\"\")","v":""},""]
[null,null,null,null,null,null,null,{"$f":"IF(Hobo!A1222<>\"\",Hobo!A1222&configuracion!$C$10,\"\")","v":""},""]
[null,null,null,null,null,null,null,{"$f":"IF(Hobo!A1223<>\"\",Hobo!A1223&configuracion!$C$10,\"\")","v":""},""]
[null,null,null,null,null,null,null,{"$f":"IF(Hobo!A1224<>\"\",Hobo!A1224&configuracion!$C$10,\"\")","v":""},""]
[null,null,null,null,null,null,null,{"$f":"IF(Hobo!A1225<>\"\",Hobo!A1225&configuracion!$C$10,\"\")","v":""},""]
[null,null,null,null,null,null,null,{"$f":"IF(Hobo!A1226<>\"\",Hobo!A1226&configuracion!$C$10,\"\")","v":""},""]
[null,null,null,null,null,null,null,{"$f":"IF(Hobo!A1227<>\"\",Hobo!A1227&configuracion!$C$10,\"\")","v":""},""]
[null,null,null,null,null,null,null,{"$f":"IF(Hobo!A1228<>\"\",Hobo!A1228&configuracion!$C$10,\"\")","v":""},""]
[null,null,null,null,null,null,null,{"$f":"IF(Hobo!A1229<>\"\",Hobo!A1229&configuracion!$C$10,\"\")","v":""},""]
[null,null,null,null,null,null,null,{"$f":"IF(Hobo!A1230<>\"\",Hobo!A1230&configuracion!$C$10,\"\")","v":""},""]
[null,null,null,null,null,null,null,{"$f":"IF(Hobo!A1231<>\"\",Hobo!A1231&configuracion!$C$10,\"\")","v":""},""]
[null,null,null,null,null,null,null,{"$f":"IF(Hobo!A1232<>\"\",Hobo!A1232&configuracion!$C$10,\"\")","v":""},""]
[null,null,null,null,null,null,null,{"$f":"IF(Hobo!A1233<>\"\",Hobo!A1233&configuracion!$C$10,\"\")","v":""},""]
[null,null,null,null,null,null,null,{"$f":"IF(Hobo!A1234<>\"\",Hobo!A1234&configuracion!$C$10,\"\")","v":""},""]
[null,null,null,null,null,null,null,{"$f":"IF(Hobo!A1235<>\"\",Hobo!A1235&configuracion!$C$10,\"\")","v":""},""]
[null,null,null,null,null,null,null,{"$f":"IF(Hobo!A1236<>\"\",Hobo!A1236&configuracion!$C$10,\"\")","v":""},""]
[null,null,null,null,null,null,null,{"$f":"IF(Hobo!A1237<>\"\",Hobo!A1237&configuracion!$C$10,\"\")","v":""},""]
[null,null,null,null,null,null,null,{"$f":"IF(Hobo!A1238<>\"\",Hobo!A1238&configuracion!$C$10,\"\")","v":""},""]
[null,null,null,null,null,null,null,{"$f":"IF(Hobo!A1239<>\"\",Hobo!A1239&configuracion!$C$10,\"\")","v":""},""]
[null,null,null,null,null,null,null,{"$f":"IF(Hobo!A1240<>\"\",Hobo!A1240&configuracion!$C$10,\"\")","v":""},""]
[null,null,null,null,null,null,null,{"$f":"IF(Hobo!A1241<>\"\",Hobo!A1241&configuracion!$C$10,\"\")","v":""},""]
[null,null,null,null,null,null,null,{"$f":"IF(Hobo!A1242<>\"\",Hobo!A1242&configuracion!$C$10,\"\")","v":""},""]
[null,null,null,null,null,null,null,{"$f":"IF(Hobo!A1243<>\"\",Hobo!A1243&configuracion!$C$10,\"\")","v":""},""]
[null,null,null,null,null,null,null,{"$f":"IF(Hobo!A1244<>\"\",Hobo!A1244&configuracion!$C$10,\"\")","v":""},""]
[null,null,null,null,null,null,null,{"$f":"IF(Hobo!A1245<>\"\",Hobo!A1245&configuracion!$C$10,\"\")","v":""},""]
[null,null,null,null,null,null,null,{"$f":"IF(Hobo!A1246<>\"\",Hobo!A1246&configuracion!$C$10,\"\")","v":""},""]
[null,null,null,null,null,null,null,{"$f":"IF(Hobo!A1247<>\"\",Hobo!A1247&configuracion!$C$10,\"\")","v":""},""]
[null,null,null,null,null,null,null,{"$f":"IF(Hobo!A1248<>\"\",Hobo!A1248&configuracion!$C$10,\"\")","v":""},""]
[null,null,null,null,null,null,null,{"$f":"IF(Hobo!A1249<>\"\",Hobo!A1249&configuracion!$C$10,\"\")","v":""},""]
[null,null,null,null,null,null,null,{"$f":"IF(Hobo!A1250<>\"\",Hobo!A1250&configuracion!$C$10,\"\")","v":""},""]
[null,null,null,null,null,null,null,{"$f":"IF(Hobo!A1251<>\"\",Hobo!A1251&configuracion!$C$10,\"\")","v":""},""]
[null,null,null,null,null,null,null,{"$f":"IF(Hobo!A1252<>\"\",Hobo!A1252&configuracion!$C$10,\"\")","v":""},""]
[null,null,null,null,null,null,null,{"$f":"IF(Hobo!A1253<>\"\",Hobo!A1253&configuracion!$C$10,\"\")","v":""},""]
[null,null,null,null,null,null,null,{"$f":"IF(Hobo!A1254<>\"\",Hobo!A1254&configuracion!$C$10,\"\")","v":""},""]
[null,null,null,null,null,null,null,{"$f":"IF(Hobo!A1255<>\"\",Hobo!A1255&configuracion!$C$10,\"\")","v":""},""]
[null,null,null,null,null,null,null,{"$f":"IF(Hobo!A1256<>\"\",Hobo!A1256&configuracion!$C$10,\"\")","v":""},""]
[null,null,null,null,null,null,null,{"$f":"IF(Hobo!A1257<>\"\",Hobo!A1257&configuracion!$C$10,\"\")","v":""},""]
[null,null,null,null,null,null,null,{"$f":"IF(Hobo!A1258<>\"\",Hobo!A1258&configuracion!$C$10,\"\")","v":""},""]
[null,null,null,null,null,null,null,{"$f":"IF(Hobo!A1259<>\"\",Hobo!A1259&configuracion!$C$10,\"\")","v":""},""]
[null,null,null,null,null,null,null,{"$f":"IF(Hobo!A1260<>\"\",Hobo!A1260&configuracion!$C$10,\"\")","v":""},""]
[null,null,null,null,null,null,null,{"$f":"IF(Hobo!A1261<>\"\",Hobo!A1261&configuracion!$C$10,\"\")","v":""},""]
[null,null,null,null,null,null,null,{"$f":"IF(Hobo!A1262<>\"\",Hobo!A1262&configuracion!$C$10,\"\")","v":""},""]
[null,null,null,null,null,null,null,{"$f":"IF(Hobo!A1263<>\"\",Hobo!A1263&configuracion!$C$10,\"\")","v":""},""]
[null,null,null,null,null,null,null,{"$f":"IF(Hobo!A1264<>\"\",Hobo!A1264&configuracion!$C$10,\"\")","v":""},""]
[null,null,null,null,null,null,null,{"$f":"IF(Hobo!A1265<>\"\",Hobo!A1265&configuracion!$C$10,\"\")","v":""},""]
[null,null,null,null,null,null,null,{"$f":"IF(Hobo!A1266<>\"\",Hobo!A1266&configuracion!$C$10,\"\")","v":""},""]
[null,null,null,null,null,null,null,{"$f":"IF(Hobo!A1267<>\"\",Hobo!A1267&configuracion!$C$10,\"\")","v":""},""]
[null,null,null,null,null,null,null,{"$f":"IF(Hobo!A1268<>\"\",Hobo!A1268&configuracion!$C$10,\"\")","v":""},""]
[null,null,null,null,null,null,null,{"$f":"IF(Hobo!A1269<>\"\",Hobo!A1269&configuracion!$C$10,\"\")","v":""},""]
[null,null,null,null,null,null,null,{"$f":"IF(Hobo!A1270<>\"\",Hobo!A1270&configuracion!$C$10,\"\")","v":""},""]
[null,null,null,null,null,null,null,{"$f":"IF(Hobo!A1271<>\"\",Hobo!A1271&configuracion!$C$10,\"\")","v":""},""]
[null,null,null,null,null,null,null,{"$f":"IF(Hobo!A1272<>\"\",Hobo!A1272&configuracion!$C$10,\"\")","v":""},""]
[null,null,null,null,null,null,null,{"$f":"IF(Hobo!A1273<>\"\",Hobo!A1273&configuracion!$C$10,\"\")","v":""},""]
[null,null,null,null,null,null,null,{"$f":"IF(Hobo!A1274<>\"\",Hobo!A1274&configuracion!$C$10,\"\")","v":""},""]
[null,null,null,null,null,null,null,{"$f":"IF(Hobo!A1275<>\"\",Hobo!A1275&configuracion!$C$10,\"\")","v":""},""]
[null,null,null,null,null,null,null,{"$f":"IF(Hobo!A1276<>\"\",Hobo!A1276&configuracion!$C$10,\"\")","v":""},""]
[null,null,null,null,null,null,null,{"$f":"IF(Hobo!A1277<>\"\",Hobo!A1277&configuracion!$C$10,\"\")","v":""},""]
[null,null,null,null,null,null,null,{"$f":"IF(Hobo!A1278<>\"\",Hobo!A1278&configuracion!$C$10,\"\")","v":""},""]
[null,null,null,null,null,null,null,{"$f":"IF(Hobo!A1279<>\"\",Hobo!A1279&configuracion!$C$10,\"\")","v":""},""]
[null,null,null,null,null,null,null,{"$f":"IF(Hobo!A1280<>\"\",Hobo!A1280&configuracion!$C$10,\"\")","v":""},""]
[null,null,null,null,null,null,null,{"$f":"IF(Hobo!A1281<>\"\",Hobo!A1281&configuracion!$C$10,\"\")","v":""},""]
[null,null,null,null,null,null,null,{"$f":"IF(Hobo!A1282<>\"\",Hobo!A1282&configuracion!$C$10,\"\")","v":""},""]
[null,null,null,null,null,null,null,{"$f":"IF(Hobo!A1283<>\"\",Hobo!A1283&configuracion!$C$10,\"\")","v":""},""]
[null,null,null,null,null,null,null,{"$f":"IF(Hobo!A1284<>\"\",Hobo!A1284&configuracion!$C$10,\"\")","v":""},{"$f":"IF(B1284=\"\",\"\",TEXT(B1284, \"DD/MM/YYYY HH:MM:SS\"))","v":""}]
[null,null,null,null,null,null,null,{"$f":"IF(Hobo!A1285<>\"\",Hobo!A1285&configuracion!$C$10,\"\")","v":""},""]
[null,null,null,null,null,null,null,{"$f":"IF(Hobo!A1286<>\"\",Hobo!A1286&configuracion!$C$10,\"\")","v":""},""]
[null,null,null,null,null,null,null,{"$f":"IF(Hobo!A1287<>\"\",Hobo!A1287&configuracion!$C$10,\"\")","v":""},""]
[null,null,null,null,null,null,null,{"$f":"IF(Hobo!A1288<>\"\",Hobo!A1288&configuracion!$C$10,\"\")","v":""},""]
[null,null,null,null,null,null,null,{"$f":"IF(Hobo!A1289<>\"\",Hobo!A1289&configuracion!$C$10,\"\")","v":""},""]
[null,null,null,null,null,null,null,{"$f":"IF(Hobo!A1290<>\"\",Hobo!A1290&configuracion!$C$10,\"\")","v":""},""]
[null,null,null,null,null,null,null,{"$f":"IF(Hobo!A1291<>\"\",Hobo!A1291&configuracion!$C$10,\"\")","v":""},""]
[null,null,null,null,null,null,null,{"$f":"IF(Hobo!A1292<>\"\",Hobo!A1292&configuracion!$C$10,\"\")","v":""},""]
[null,null,null,null,null,null,null,{"$f":"IF(Hobo!A1293<>\"\",Hobo!A1293&configuracion!$C$10,\"\")","v":""},""]
[null,null,null,null,null,null,null,{"$f":"IF(Hobo!A1294<>\"\",Hobo!A1294&configuracion!$C$10,\"\")","v":""},""]
[null,null,null,null,null,null,null,{"$f":"IF(Hobo!A1295<>\"\",Hobo!A1295&configuracion!$C$10,\"\")","v":""},""]
[null,null,null,null,null,null,null,{"$f":"IF(Hobo!A1296<>\"\",Hobo!A1296&configuracion!$C$10,\"\")","v":""},""]
[null,null,null,null,null,null,null,{"$f":"IF(Hobo!A1297<>\"\",Hobo!A1297&configuracion!$C$10,\"\")","v":""},""]
[null,null,null,null,null,null,null,{"$f":"IF(Hobo!A1298<>\"\",Hobo!A1298&configuracion!$C$10,\"\")","v":""},""]
[null,null,null,null,null,null,null,{"$f":"IF(Hobo!A1299<>\"\",Hobo!A1299&configuracion!$C$10,\"\")","v":""},""]
[null,null,null,null,null,null,null,{"$f":"IF(Hobo!A1300<>\"\",Hobo!A1300&configuracion!$C$10,\"\")","v":""},""]
[null,null,null,null,null,null,null,{"$f":"IF(Hobo!A1301<>\"\",Hobo!A1301&configuracion!$C$10,\"\")","v":""},""]
[null,null,null,null,null,null,null,{"$f":"IF(Hobo!A1302<>\"\",Hobo!A1302&configuracion!$C$10,\"\")","v":""},""]
[null,null,null,null,null,null,null,{"$f":"IF(Hobo!A1303<>\"\",Hobo!A1303&configuracion!$C$10,\"\")","v":""},""]
[null,null,null,null,null,null,null,{"$f":"IF(Hobo!A1304<>\"\",Hobo!A1304&configuracion!$C$10,\"\")","v":""},""]
[null,null,null,null,null,null,null,{"$f":"IF(Hobo!A1305<>\"\",Hobo!A1305&configuracion!$C$10,\"\")","v":""},""]
[null,null,null,null,null,null,null,{"$f":"IF(Hobo!A1306<>\"\",Hobo!A1306&configuracion!$C$10,\"\")","v":""},""]
[null,null,null,null,null,null,null,{"$f":"IF(Hobo!A1307<>\"\",Hobo!A1307&configuracion!$C$10,\"\")","v":""},""]
[null,null,null,null,null,null,null,{"$f":"IF(Hobo!A1308<>\"\",Hobo!A1308&configuracion!$C$10,\"\")","v":""},""]
[null,null,null,null,null,null,null,{"$f":"IF(Hobo!A1309<>\"\",Hobo!A1309&configuracion!$C$10,\"\")","v":""},""]
[null,null,null,null,null,null,null,{"$f":"IF(Hobo!A1310<>\"\",Hobo!A1310&configuracion!$C$10,\"\")","v":""},""]
[null,null,null,null,null,null,null,{"$f":"IF(Hobo!A1311<>\"\",Hobo!A1311&configuracion!$C$10,\"\")","v":""},""]
[null,null,null,null,null,null,null,{"$f":"IF(Hobo!A1312<>\"\",Hobo!A1312&configuracion!$C$10,\"\")","v":""},""]
[null,null,null,null,null,null,null,{"$f":"IF(Hobo!A1313<>\"\",Hobo!A1313&configuracion!$C$10,\"\")","v":""},""]
[null,null,null,null,null,null,null,{"$f":"IF(Hobo!A1314<>\"\",Hobo!A1314&configuracion!$C$10,\"\")","v":""},""]
[null,null,null,null,null,null,null,{"$f":"IF(Hobo!A1315<>\"\",Hobo!A1315&configuracion!$C$10,\"\")","v":""},""]
[null,null,null,null,null,null,null,{"$f":"IF(Hobo!A1316<>\"\",Hobo!A1316&configuracion!$C$10,\"\")","v":""},""]
[null,null,null,null,null,null,null,{"$f":"IF(Hobo!A1317<>\"\",Hobo!A1317&configuracion!$C$10,\"\")","v":""},""]
[null,null,null,null,null,null,null,{"$f":"IF(Hobo!A1318<>\"\",Hobo!A1318&configuracion!$C$10,\"\")","v":""},""]
[null,null,null,null,null,null,null,{"$f":"IF(Hobo!A1319<>\"\",Hobo!A1319&configuracion!$C$10,\"\")","v":""},""]
[null,null,null,null,null,null,null,{"$f":"IF(Hobo!A1320<>\"\",Hobo!A1320&configuracion!$C$10,\"\")","v":""},""]
[null,null,null,null,null,null,null,{"$f":"IF(Hobo!A1321<>\"\",Hobo!A1321&configuracion!$C$10,\"\")","v":""},""]
[null,null,null,null,null,null,null,{"$f":"IF(Hobo!A1322<>\"\",Hobo!A1322&configuracion!$C$10,\"\")","v":""},""]
[null,null,null,null,null,null,null,{"$f":"IF(Hobo!A1323<>\"\",Hobo!A1323&configuracion!$C$10,\"\")","v":""},""]
[null,null,null,null,null,null,null,{"$f":"IF(Hobo!A1324<>\"\",Hobo!A1324&configuracion!$C$10,\"\")","v":""},""]
[null,null,null,null,null,null,null,{"$f":"IF(Hobo!A1325<>\"\",Hobo!A1325&configuracion!$C$10,\"\")","v":""},""]
[null,null,null,null,null,null,null,{"$f":"IF(Hobo!A1326<>\"\",Hobo!A1326&configuracion!$C$10,\"\")","v":""},""]
[null,null,null,null,null,null,null,{"$f":"IF(Hobo!A1327<>\"\",Hobo!A1327&configuracion!$C$10,\"\")","v":""},""]
[null,null,null,null,null,null,null,{"$f":"IF(Hobo!A1328<>\"\",Hobo!A1328&configuracion!$C$10,\"\")","v":""},""]
[null,null,null,null,null,null,null,{"$f":"IF(Hobo!A1329<>\"\",Hobo!A1329&configuracion!$C$10,\"\")","v":""},""]
[null,null,null,null,null,null,null,{"$f":"IF(Hobo!A1330<>\"\",Hobo!A1330&configuracion!$C$10,\"\")","v":""},""]
[null,null,null,null,null,null,null,{"$f":"IF(Hobo!A1331<>\"\",Hobo!A1331&configuracion!$C$10,\"\")","v":""},""]
[null,null,null,null,null,null,null,{"$f":"IF(Hobo!A1332<>\"\",Hobo!A1332&configuracion!$C$10,\"\")","v":""},""]
[null,null,null,null,null,null,null,{"$f":"IF(Hobo!A1333<>\"\",Hobo!A1333&configuracion!$C$10,\"\")","v":""},""]
[null,null,null,null,null,null,null,{"$f":"IF(Hobo!A1334<>\"\",Hobo!A1334&configuracion!$C$10,\"\")","v":""},""]
[null,null,null,null,null,null,null,{"$f":"IF(Hobo!A1335<>\"\",Hobo!A1335&configuracion!$C$10,\"\")","v":""},""]
[null,null,null,null,null,null,null,{"$f":"IF(Hobo!A1336<>\"\",Hobo!A1336&configuracion!$C$10,\"\")","v":""},""]
[null,null,null,null,null,null,null,{"$f":"IF(Hobo!A1337<>\"\",Hobo!A1337&configuracion!$C$10,\"\")","v":""},""]
[null,null,null,null,null,null,null,{"$f":"IF(Hobo!A1338<>\"\",Hobo!A1338&configuracion!$C$10,\"\")","v":""},""]
[null,null,null,null,null,null,null,{"$f":"IF(Hobo!A1339<>\"\",Hobo!A1339&configuracion!$C$10,\"\")","v":""},""]
[null,null,null,null,null,null,null,{"$f":"IF(Hobo!A1340<>\"\",Hobo!A1340&configuracion!$C$10,\"\")","v":""},""]
[null,null,null,null,null,null,null,{"$f":"IF(Hobo!A1341<>\"\",Hobo!A1341&configuracion!$C$10,\"\")","v":""},""]
[null,null,null,null,null,null,null,{"$f":"IF(Hobo!A1342<>\"\",Hobo!A1342&configuracion!$C$10,\"\")","v":""},""]
[null,null,null,null,null,null,null,{"$f":"IF(Hobo!A1343<>\"\",Hobo!A1343&configuracion!$C$10,\"\")","v":""},""]
[null,null,null,null,null,null,null,{"$f":"IF(Hobo!A1344<>\"\",Hobo!A1344&configuracion!$C$10,\"\")","v":""},""]
[null,null,null,null,null,null,null,{"$f":"IF(Hobo!A1345<>\"\",Hobo!A1345&configuracion!$C$10,\"\")","v":""},""]
[null,null,null,null,null,null,null,{"$f":"IF(Hobo!A1346<>\"\",Hobo!A1346&configuracion!$C$10,\"\")","v":""},""]
[null,null,null,null,null,null,null,{"$f":"IF(Hobo!A1347<>\"\",Hobo!A1347&configuracion!$C$10,\"\")","v":""},""]
[null,null,null,null,null,null,null,{"$f":"IF(Hobo!A1348<>\"\",Hobo!A1348&configuracion!$C$10,\"\")","v":""},{"$f":"IF(B1348=\"\",\"\",TEXT(B1348, \"DD/MM/YYYY HH:MM:SS\"))","v":""}]
[null,null,null,null,null,null,null,{"$f":"IF(Hobo!A1349<>\"\",Hobo!A1349&configuracion!$C$10,\"\")","v":""},""]
[null,null,null,null,null,null,null,{"$f":"IF(Hobo!A1350<>\"\",Hobo!A1350&configuracion!$C$10,\"\")","v":""},""]
[null,null,null,null,null,null,null,{"$f":"IF(Hobo!A1351<>\"\",Hobo!A1351&configuracion!$C$10,\"\")","v":""},""]
[null,null,null,null,null,null,null,{"$f":"IF(Hobo!A1352<>\"\",Hobo!A1352&configuracion!$C$10,\"\")","v":""},""]
[null,null,null,null,null,null,null,{"$f":"IF(Hobo!A1353<>\"\",Hobo!A1353&configuracion!$C$10,\"\")","v":""},""]
[null,null,null,null,null,null,null,{"$f":"IF(Hobo!A1354<>\"\",Hobo!A1354&configuracion!$C$10,\"\")","v":""},""]
[null,null,null,null,null,null,null,{"$f":"IF(Hobo!A1355<>\"\",Hobo!A1355&configuracion!$C$10,\"\")","v":""},""]
[null,null,null,null,null,null,null,{"$f":"IF(Hobo!A1356<>\"\",Hobo!A1356&configuracion!$C$10,\"\")","v":""},""]
[null,null,null,null,null,null,null,{"$f":"IF(Hobo!A1357<>\"\",Hobo!A1357&configuracion!$C$10,\"\")","v":""},""]
[null,null,null,null,null,null,null,{"$f":"IF(Hobo!A1358<>\"\",Hobo!A1358&configuracion!$C$10,\"\")","v":""},""]
[null,null,null,null,null,null,null,{"$f":"IF(Hobo!A1359<>\"\",Hobo!A1359&configuracion!$C$10,\"\")","v":""},""]
[null,null,null,null,null,null,null,{"$f":"IF(Hobo!A1360<>\"\",Hobo!A1360&configuracion!$C$10,\"\")","v":""},""]
[null,null,null,null,null,null,null,{"$f":"IF(Hobo!A1361<>\"\",Hobo!A1361&configuracion!$C$10,\"\")","v":""},""]
[null,null,null,null,null,null,null,{"$f":"IF(Hobo!A1362<>\"\",Hobo!A1362&configuracion!$C$10,\"\")","v":""},""]
[null,null,null,null,null,null,null,{"$f":"IF(Hobo!A1363<>\"\",Hobo!A1363&configuracion!$C$10,\"\")","v":""},""]
[null,null,null,null,null,null,null,{"$f":"IF(Hobo!A1364<>\"\",Hobo!A1364&configuracion!$C$10,\"\")","v":""},""]
[null,null,null,null,null,null,null,{"$f":"IF(Hobo!A1365<>\"\",Hobo!A1365&configuracion!$C$10,\"\")","v":""},""]
[null,null,null,null,null,null,null,{"$f":"IF(Hobo!A1366<>\"\",Hobo!A1366&configuracion!$C$10,\"\")","v":""},""]
[null,null,null,null,null,null,null,{"$f":"IF(Hobo!A1367<>\"\",Hobo!A1367&configuracion!$C$10,\"\")","v":""},""]
[null,null,null,null,null,null,null,{"$f":"IF(Hobo!A1368<>\"\",Hobo!A1368&configuracion!$C$10,\"\")","v":""},""]
[null,null,null,null,null,null,null,{"$f":"IF(Hobo!A1369<>\"\",Hobo!A1369&configuracion!$C$10,\"\")","v":""},""]
[null,null,null,null,null,null,null,{"$f":"IF(Hobo!A1370<>\"\",Hobo!A1370&configuracion!$C$10,\"\")","v":""},""]
[null,null,null,null,null,null,null,{"$f":"IF(Hobo!A1371<>\"\",Hobo!A1371&configuracion!$C$10,\"\")","v":""},""]
[null,null,null,null,null,null,null,{"$f":"IF(Hobo!A1372<>\"\",Hobo!A1372&configuracion!$C$10,\"\")","v":""},""]
[null,null,null,null,null,null,null,{"$f":"IF(Hobo!A1373<>\"\",Hobo!A1373&configuracion!$C$10,\"\")","v":""},""]
[null,null,null,null,null,null,null,{"$f":"IF(Hobo!A1374<>\"\",Hobo!A1374&configuracion!$C$10,\"\")","v":""},""]
[null,null,null,null,null,null,null,{"$f":"IF(Hobo!A1375<>\"\",Hobo!A1375&configuracion!$C$10,\"\")","v":""},""]
[null,null,null,null,null,null,null,{"$f":"IF(Hobo!A1376<>\"\",Hobo!A1376&configuracion!$C$10,\"\")","v":""},""]
[null,null,null,null,null,null,null,{"$f":"IF(Hobo!A1377<>\"\",Hobo!A1377&configuracion!$C$10,\"\")","v":""},""]
[null,null,null,null,null,null,null,{"$f":"IF(Hobo!A1378<>\"\",Hobo!A1378&configuracion!$C$10,\"\")","v":""},""]
[null,null,null,null,null,null,null,{"$f":"IF(Hobo!A1379<>\"\",Hobo!A1379&configuracion!$C$10,\"\")","v":""},""]
[null,null,null,null,null,null,null,{"$f":"IF(Hobo!A1380<>\"\",Hobo!A1380&configuracion!$C$10,\"\")","v":""},""]
[null,null,null,null,null,null,null,{"$f":"IF(Hobo!A1381<>\"\",Hobo!A1381&configuracion!$C$10,\"\")","v":""},""]
[null,null,null,null,null,null,null,{"$f":"IF(Hobo!A1382<>\"\",Hobo!A1382&configuracion!$C$10,\"\")","v":""},""]
[null,null,null,null,null,null,null,{"$f":"IF(Hobo!A1383<>\"\",Hobo!A1383&configuracion!$C$10,\"\")","v":""},""]
[null,null,null,null,null,null,null,{"$f":"IF(Hobo!A1384<>\"\",Hobo!A1384&configuracion!$C$10,\"\")","v":""},""]
[null,null,null,null,null,null,null,{"$f":"IF(Hobo!A1385<>\"\",Hobo!A1385&configuracion!$C$10,\"\")","v":""},""]
[null,null,null,null,null,null,null,{"$f":"IF(Hobo!A1386<>\"\",Hobo!A1386&configuracion!$C$10,\"\")","v":""},""]
[null,null,null,null,null,null,null,{"$f":"IF(Hobo!A1387<>\"\",Hobo!A1387&configuracion!$C$10,\"\")","v":""},""]
[null,null,null,null,null,null,null,{"$f":"IF(Hobo!A1388<>\"\",Hobo!A1388&configuracion!$C$10,\"\")","v":""},""]
[null,null,null,null,null,null,null,{"$f":"IF(Hobo!A1389<>\"\",Hobo!A1389&configuracion!$C$10,\"\")","v":""},""]
[null,null,null,null,null,null,null,{"$f":"IF(Hobo!A1390<>\"\",Hobo!A1390&configuracion!$C$10,\"\")","v":""},""]
[null,null,null,null,null,null,null,{"$f":"IF(Hobo!A1391<>\"\",Hobo!A1391&configuracion!$C$10,\"\")","v":""},""]
[null,null,null,null,null,null,null,{"$f":"IF(Hobo!A1392<>\"\",Hobo!A1392&configuracion!$C$10,\"\")","v":""},""]
[null,null,null,null,null,null,null,{"$f":"IF(Hobo!A1393<>\"\",Hobo!A1393&configuracion!$C$10,\"\")","v":""},""]
[null,null,null,null,null,null,null,{"$f":"IF(Hobo!A1394<>\"\",Hobo!A1394&configuracion!$C$10,\"\")","v":""},""]
[null,null,null,null,null,null,null,{"$f":"IF(Hobo!A1395<>\"\",Hobo!A1395&configuracion!$C$10,\"\")","v":""},""]
[null,null,null,null,null,null,null,{"$f":"IF(Hobo!A1396<>\"\",Hobo!A1396&configuracion!$C$10,\"\")","v":""},""]
[null,null,null,null,null,null,null,{"$f":"IF(Hobo!A1397<>\"\",Hobo!A1397&configuracion!$C$10,\"\")","v":""},""]
[null,null,null,null,null,null,null,{"$f":"IF(Hobo!A1398<>\"\",Hobo!A1398&configuracion!$C$10,\"\")","v":""},""]
[null,null,null,null,null,null,null,{"$f":"IF(Hobo!A1399<>\"\",Hobo!A1399&configuracion!$C$10,\"\")","v":""},""]
[null,null,null,null,null,null,null,{"$f":"IF(Hobo!A1400<>\"\",Hobo!A1400&configuracion!$C$10,\"\")","v":""},""]
[null,null,null,null,null,null,null,{"$f":"IF(Hobo!A1401<>\"\",Hobo!A1401&configuracion!$C$10,\"\")","v":""},""]
[null,null,null,null,null,null,null,{"$f":"IF(Hobo!A1402<>\"\",Hobo!A1402&configuracion!$C$10,\"\")","v":""},""]
[null,null,null,null,null,null,null,{"$f":"IF(Hobo!A1403<>\"\",Hobo!A1403&configuracion!$C$10,\"\")","v":""},""]
[null,null,null,null,null,null,null,{"$f":"IF(Hobo!A1404<>\"\",Hobo!A1404&configuracion!$C$10,\"\")","v":""},""]
[null,null,null,null,null,null,null,{"$f":"IF(Hobo!A1405<>\"\",Hobo!A1405&configuracion!$C$10,\"\")","v":""},""]
[null,null,null,null,null,null,null,{"$f":"IF(Hobo!A1406<>\"\",Hobo!A1406&configuracion!$C$10,\"\")","v":""},""]
[null,null,null,null,null,null,null,{"$f":"IF(Hobo!A1407<>\"\",Hobo!A1407&configuracion!$C$10,\"\")","v":""},""]
[null,null,null,null,null,null,null,{"$f":"IF(Hobo!A1408<>\"\",Hobo!A1408&configuracion!$C$10,\"\")","v":""},""]
[null,null,null,null,null,null,null,{"$f":"IF(Hobo!A1409<>\"\",Hobo!A1409&configuracion!$C$10,\"\")","v":""},""]
[null,null,null,null,null,null,null,{"$f":"IF(Hobo!A1410<>\"\",Hobo!A1410&configuracion!$C$10,\"\")","v":""},""]
[null,null,null,null,null,null,null,{"$f":"IF(Hobo!A1411<>\"\",Hobo!A1411&configuracion!$C$10,\"\")","v":""},""]
[null,null,null,null,null,null,null,{"$f":"IF(Hobo!A1412<>\"\",Hobo!A1412&configuracion!$C$10,\"\")","v":""},{"$f":"IF(B1412=\"\",\"\",TEXT(B1412, \"DD/MM/YYYY HH:MM:SS\"))","v":""}]
[null,null,null,null,null,null,null,{"$f":"IF(Hobo!A1413<>\"\",Hobo!A1413&configuracion!$C$10,\"\")","v":""},""]
[null,null,null,null,null,null,null,{"$f":"IF(Hobo!A1414<>\"\",Hobo!A1414&configuracion!$C$10,\"\")","v":""},""]
[null,null,null,null,null,null,null,{"$f":"IF(Hobo!A1415<>\"\",Hobo!A1415&configuracion!$C$10,\"\")","v":""},""]
[null,null,null,null,null,null,null,{"$f":"IF(Hobo!A1416<>\"\",Hobo!A1416&configuracion!$C$10,\"\")","v":""},""]
[null,null,null,null,null,null,null,{"$f":"IF(Hobo!A1417<>\"\",Hobo!A1417&configuracion!$C$10,\"\")","v":""},""]
[null,null,null,null,null,null,null,{"$f":"IF(Hobo!A1418<>\"\",Hobo!A1418&configuracion!$C$10,\"\")","v":""},""]
[null,null,null,null,null,null,null,{"$f":"IF(Hobo!A1419<>\"\",Hobo!A1419&configuracion!$C$10,\"\")","v":""},""]
[null,null,null,null,null,null,null,{"$f":"IF(Hobo!A1420<>\"\",Hobo!A1420&configuracion!$C$10,\"\")","v":""},""]
[null,null,null,null,null,null,null,{"$f":"IF(Hobo!A1421<>\"\",Hobo!A1421&configuracion!$C$10,\"\")","v":""},""]
[null,null,null,null,null,null,null,{"$f":"IF(Hobo!A1422<>\"\",Hobo!A1422&configuracion!$C$10,\"\")","v":""},""]
[null,null,null,null,null,null,null,{"$f":"IF(Hobo!A1423<>\"\",Hobo!A1423&configuracion!$C$10,\"\")","v":""},""]
[null,null,null,null,null,null,null,{"$f":"IF(Hobo!A1424<>\"\",Hobo!A1424&configuracion!$C$10,\"\")","v":""},""]
[null,null,null,null,null,null,null,{"$f":"IF(Hobo!A1425<>\"\",Hobo!A1425&configuracion!$C$10,\"\")","v":""},""]
[null,null,null,null,null,null,null,{"$f":"IF(Hobo!A1426<>\"\",Hobo!A1426&configuracion!$C$10,\"\")","v":""},""]
[null,null,null,null,null,null,null,{"$f":"IF(Hobo!A1427<>\"\",Hobo!A1427&configuracion!$C$10,\"\")","v":""},""]
[null,null,null,null,null,null,null,{"$f":"IF(Hobo!A1428<>\"\",Hobo!A1428&configuracion!$C$10,\"\")","v":""},""]
[null,null,null,null,null,null,null,{"$f":"IF(Hobo!A1429<>\"\",Hobo!A1429&configuracion!$C$10,\"\")","v":""},""]
[null,null,null,null,null,null,null,{"$f":"IF(Hobo!A1430<>\"\",Hobo!A1430&configuracion!$C$10,\"\")","v":""},""]
[null,null,null,null,null,null,null,{"$f":"IF(Hobo!A1431<>\"\",Hobo!A1431&configuracion!$C$10,\"\")","v":""},""]
[null,null,null,null,null,null,null,{"$f":"IF(Hobo!A1432<>\"\",Hobo!A1432&configuracion!$C$10,\"\")","v":""},""]
[null,null,null,null,null,null,null,{"$f":"IF(Hobo!A1433<>\"\",Hobo!A1433&configuracion!$C$10,\"\")","v":""},""]
[null,null,null,null,null,null,null,{"$f":"IF(Hobo!A1434<>\"\",Hobo!A1434&configuracion!$C$10,\"\")","v":""},""]
[null,null,null,null,null,null,null,{"$f":"IF(Hobo!A1435<>\"\",Hobo!A1435&configuracion!$C$10,\"\")","v":""},""]
[null,null,null,null,null,null,null,{"$f":"IF(Hobo!A1436<>\"\",Hobo!A1436&configuracion!$C$10,\"\")","v":""},""]
[null,null,null,null,null,null,null,{"$f":"IF(Hobo!A1437<>\"\",Hobo!A1437&configuracion!$C$10,\"\")","v":""},""]
[null,null,null,null,null,null,null,{"$f":"IF(Hobo!A1438<>\"\",Hobo!A1438&configuracion!$C$10,\"\")","v":""},""]
[null,null,null,null,null,null,null,{"$f":"IF(Hobo!A1439<>\"\",Hobo!A1439&configuracion!$C$10,\"\")","v":""},""]
[null,null,null,null,null,null,null,{"$f":"IF(Hobo!A1440<>\"\",Hobo!A1440&configuracion!$C$10,\"\")","v":""},""]
[null,null,null,null,null,null,null,{"$f":"IF(Hobo!A1441<>\"\",Hobo!A1441&configuracion!$C$10,\"\")","v":""},""]
[null,null,null,null,null,null,null,{"$f":"IF(Hobo!A1442<>\"\",Hobo!A1442&configuracion!$C$10,\"\")","v":""},""]
[null,null,null,null,null,null,null,{"$f":"IF(Hobo!A1443<>\"\",Hobo!A1443&configuracion!$C$10,\"\")","v":""},""]
[null,null,null,null,null,null,null,{"$f":"IF(Hobo!A1444<>\"\",Hobo!A1444&configuracion!$C$10,\"\")","v":""},""]
[null,null,null,null,null,null,null,{"$f":"IF(Hobo!A1445<>\"\",Hobo!A1445&configuracion!$C$10,\"\")","v":""},""]
[null,null,null,null,null,null,null,{"$f":"IF(Hobo!A1446<>\"\",Hobo!A1446&configuracion!$C$10,\"\")","v":""},""]
[null,null,null,null,null,null,null,{"$f":"IF(Hobo!A1447<>\"\",Hobo!A1447&configuracion!$C$10,\"\")","v":""},""]
[null,null,null,null,null,null,null,{"$f":"IF(Hobo!A1448<>\"\",Hobo!A1448&configuracion!$C$10,\"\")","v":""},""]
[null,null,null,null,null,null,null,{"$f":"IF(Hobo!A1449<>\"\",Hobo!A1449&configuracion!$C$10,\"\")","v":""},""]
[null,null,null,null,null,null,null,{"$f":"IF(Hobo!A1450<>\"\",Hobo!A1450&configuracion!$C$10,\"\")","v":""},""]
[null,null,null,null,null,null,null,{"$f":"IF(Hobo!A1451<>\"\",Hobo!A1451&configuracion!$C$10,\"\")","v":""},""]
[null,null,null,null,null,null,null,{"$f":"IF(Hobo!A1452<>\"\",Hobo!A1452&configuracion!$C$10,\"\")","v":""},""]
[null,null,null,null,null,null,null,{"$f":"IF(Hobo!A1453<>\"\",Hobo!A1453&configuracion!$C$10,\"\")","v":""},""]
[null,null,null,null,null,null,null,{"$f":"IF(Hobo!A1454<>\"\",Hobo!A1454&configuracion!$C$10,\"\")","v":""},""]
[null,null,null,null,null,null,null,{"$f":"IF(Hobo!A1455<>\"\",Hobo!A1455&configuracion!$C$10,\"\")","v":""},""]
[null,null,null,null,null,null,null,{"$f":"IF(Hobo!A1456<>\"\",Hobo!A1456&configuracion!$C$10,\"\")","v":""},""]
[null,null,null,null,null,null,null,{"$f":"IF(Hobo!A1457<>\"\",Hobo!A1457&configuracion!$C$10,\"\")","v":""},""]
[null,null,null,null,null,null,null,{"$f":"IF(Hobo!A1458<>\"\",Hobo!A1458&configuracion!$C$10,\"\")","v":""},""]
[null,null,null,null,null,null,null,{"$f":"IF(Hobo!A1459<>\"\",Hobo!A1459&configuracion!$C$10,\"\")","v":""},""]
[null,null,null,null,null,null,null,{"$f":"IF(Hobo!A1460<>\"\",Hobo!A1460&configuracion!$C$10,\"\")","v":""},""]
[null,null,null,null,null,null,null,{"$f":"IF(Hobo!A1461<>\"\",Hobo!A1461&configuracion!$C$10,\"\")","v":""},""]
[null,null,null,null,null,null,null,{"$f":"IF(Hobo!A1462<>\"\",Hobo!A1462&configuracion!$C$10,\"\")","v":""},""]
[null,null,null,null,null,null,null,{"$f":"IF(Hobo!A1463<>\"\",Hobo!A1463&configuracion!$C$10,\"\")","v":""},""]
[null,null,null,null,null,null,null,{"$f":"IF(Hobo!A1464<>\"\",Hobo!A1464&configuracion!$C$10,\"\")","v":""},""]
[null,null,null,null,null,null,null,{"$f":"IF(Hobo!A1465<>\"\",Hobo!A1465&configuracion!$C$10,\"\")","v":""},""]
[null,null,null,null,null,null,null,{"$f":"IF(Hobo!A1466<>\"\",Hobo!A1466&configuracion!$C$10,\"\")","v":""},""]
[null,null,null,null,null,null,null,{"$f":"IF(Hobo!A1467<>\"\",Hobo!A1467&configuracion!$C$10,\"\")","v":""},""]
[null,null,null,null,null,null,null,{"$f":"IF(Hobo!A1468<>\"\",Hobo!A1468&configuracion!$C$10,\"\")","v":""},""]
[null,null,null,null,null,null,null,{"$f":"IF(Hobo!A1469<>\"\",Hobo!A1469&configuracion!$C$10,\"\")","v":""},""]
[null,null,null,null,null,null,null,{"$f":"IF(Hobo!A1470<>\"\",Hobo!A1470&configuracion!$C$10,\"\")","v":""},""]
[null,null,null,null,null,null,null,{"$f":"IF(Hobo!A1471<>\"\",Hobo!A1471&configuracion!$C$10,\"\")","v":""},""]
[null,null,null,null,null,null,null,{"$f":"IF(Hobo!A1472<>\"\",Hobo!A1472&configuracion!$C$10,\"\")","v":""},""]
[null,null,null,null,null,null,null,{"$f":"IF(Hobo!A1473<>\"\",Hobo!A1473&configuracion!$C$10,\"\")","v":""},""]
[null,null,null,null,null,null,null,{"$f":"IF(Hobo!A1474<>\"\",Hobo!A1474&configuracion!$C$10,\"\")","v":""},""]
[null,null,null,null,null,null,null,{"$f":"IF(Hobo!A1475<>\"\",Hobo!A1475&configuracion!$C$10,\"\")","v":""},""]
[null,null,null,null,null,null,null,{"$f":"IF(Hobo!A1476<>\"\",Hobo!A1476&configuracion!$C$10,\"\")","v":""},{"$f":"IF(B1476=\"\",\"\",TEXT(B1476, \"DD/MM/YYYY HH:MM:SS\"))","v":""}]
[null,null,null,null,null,null,null,{"$f":"IF(Hobo!A1477<>\"\",Hobo!A1477&configuracion!$C$10,\"\")","v":""},""]
[null,null,null,null,null,null,null,{"$f":"IF(Hobo!A1478<>\"\",Hobo!A1478&configuracion!$C$10,\"\")","v":""},""]
[null,null,null,null,null,null,null,{"$f":"IF(Hobo!A1479<>\"\",Hobo!A1479&configuracion!$C$10,\"\")","v":""},""]
[null,null,null,null,null,null,null,{"$f":"IF(Hobo!A1480<>\"\",Hobo!A1480&configuracion!$C$10,\"\")","v":""},""]
[null,null,null,null,null,null,null,{"$f":"IF(Hobo!A1481<>\"\",Hobo!A1481&configuracion!$C$10,\"\")","v":""},""]
[null,null,null,null,null,null,null,{"$f":"IF(Hobo!A1482<>\"\",Hobo!A1482&configuracion!$C$10,\"\")","v":""},""]
[null,null,null,null,null,null,null,{"$f":"IF(Hobo!A1483<>\"\",Hobo!A1483&configuracion!$C$10,\"\")","v":""},""]
[null,null,null,null,null,null,null,{"$f":"IF(Hobo!A1484<>\"\",Hobo!A1484&configuracion!$C$10,\"\")","v":""},""]
[null,null,null,null,null,null,null,{"$f":"IF(Hobo!A1485<>\"\",Hobo!A1485&configuracion!$C$10,\"\")","v":""},""]
[null,null,null,null,null,null,null,{"$f":"IF(Hobo!A1486<>\"\",Hobo!A1486&configuracion!$C$10,\"\")","v":""},""]
[null,null,null,null,null,null,null,{"$f":"IF(Hobo!A1487<>\"\",Hobo!A1487&configuracion!$C$10,\"\")","v":""},""]
[null,null,null,null,null,null,null,{"$f":"IF(Hobo!A1488<>\"\",Hobo!A1488&configuracion!$C$10,\"\")","v":""},""]
[null,null,null,null,null,null,null,{"$f":"IF(Hobo!A1489<>\"\",Hobo!A1489&configuracion!$C$10,\"\")","v":""},""]
[null,null,null,null,null,null,null,{"$f":"IF(Hobo!A1490<>\"\",Hobo!A1490&configuracion!$C$10,\"\")","v":""},""]
[null,null,null,null,null,null,null,{"$f":"IF(Hobo!A1491<>\"\",Hobo!A1491&configuracion!$C$10,\"\")","v":""},""]
[null,null,null,null,null,null,null,{"$f":"IF(Hobo!A1492<>\"\",Hobo!A1492&configuracion!$C$10,\"\")","v":""},""]
[null,null,null,null,null,null,null,{"$f":"IF(Hobo!A1493<>\"\",Hobo!A1493&configuracion!$C$10,\"\")","v":""},""]
[null,null,null,null,null,null,null,{"$f":"IF(Hobo!A1494<>\"\",Hobo!A1494&configuracion!$C$10,\"\")","v":""},""]
[null,null,null,null,null,null,null,{"$f":"IF(Hobo!A1495<>\"\",Hobo!A1495&configuracion!$C$10,\"\")","v":""},""]
[null,null,null,null,null,null,null,{"$f":"IF(Hobo!A1496<>\"\",Hobo!A1496&configuracion!$C$10,\"\")","v":""},""]
[null,null,null,null,null,null,null,{"$f":"IF(Hobo!A1497<>\"\",Hobo!A1497&configuracion!$C$10,\"\")","v":""},""]
[null,null,null,null,null,null,null,{"$f":"IF(Hobo!A1498<>\"\",Hobo!A1498&configuracion!$C$10,\"\")","v":""},""]
[null,null,null,null,null,null,null,{"$f":"IF(Hobo!A1499<>\"\",Hobo!A1499&configuracion!$C$10,\"\")","v":""},""]
[null,null,null,null,null,null,null,{"$f":"IF(Hobo!A1500<>\"\",Hobo!A1500&configuracion!$C$10,\"\")","v":""},""]
[null,null,null,null,null,null,null,{"$f":"IF(Hobo!A1501<>\"\",Hobo!A1501&configuracion!$C$10,\"\")","v":""},""]
[null,null,null,null,null,null,null,{"$f":"IF(Hobo!A1502<>\"\",Hobo!A1502&configuracion!$C$10,\"\")","v":""},""]
[null,null,null,null,null,null,null,{"$f":"IF(Hobo!A1503<>\"\",Hobo!A1503&configuracion!$C$10,\"\")","v":""},""]
[null,null,null,null,null,null,null,{"$f":"IF(Hobo!A1504<>\"\",Hobo!A1504&configuracion!$C$10,\"\")","v":""},""]
[null,null,null,null,null,null,null,{"$f":"IF(Hobo!A1505<>\"\",Hobo!A1505&configuracion!$C$10,\"\")","v":""},""]
[null,null,null,null,null,null,null,{"$f":"IF(Hobo!A1506<>\"\",Hobo!A1506&configuracion!$C$10,\"\")","v":""},""]
[null,null,null,null,null,null,null,{"$f":"IF(Hobo!A1507<>\"\",Hobo!A1507&configuracion!$C$10,\"\")","v":""},""]
[null,null,null,null,null,null,null,{"$f":"IF(Hobo!A1508<>\"\",Hobo!A1508&configuracion!$C$10,\"\")","v":""},""]
[null,null,null,null,null,null,null,{"$f":"IF(Hobo!A1509<>\"\",Hobo!A1509&configuracion!$C$10,\"\")","v":""},""]
[null,null,null,null,null,null,null,{"$f":"IF(Hobo!A1510<>\"\",Hobo!A1510&configuracion!$C$10,\"\")","v":""},""]
[null,null,null,null,null,null,null,{"$f":"IF(Hobo!A1511<>\"\",Hobo!A1511&configuracion!$C$10,\"\")","v":""},""]
[null,null,null,null,null,null,null,{"$f":"IF(Hobo!A1512<>\"\",Hobo!A1512&configuracion!$C$10,\"\")","v":""},""]
[null,null,null,null,null,null,null,{"$f":"IF(Hobo!A1513<>\"\",Hobo!A1513&configuracion!$C$10,\"\")","v":""},""]
[null,null,null,null,null,null,null,{"$f":"IF(Hobo!A1514<>\"\",Hobo!A1514&configuracion!$C$10,\"\")","v":""},""]
[null,null,null,null,null,null,null,{"$f":"IF(Hobo!A1515<>\"\",Hobo!A1515&configuracion!$C$10,\"\")","v":""},""]
[null,null,null,null,null,null,null,{"$f":"IF(Hobo!A1516<>\"\",Hobo!A1516&configuracion!$C$10,\"\")","v":""},""]
[null,null,null,null,null,null,null,{"$f":"IF(Hobo!A1517<>\"\",Hobo!A1517&configuracion!$C$10,\"\")","v":""},""]
[null,null,null,null,null,null,null,{"$f":"IF(Hobo!A1518<>\"\",Hobo!A1518&configuracion!$C$10,\"\")","v":""},""]
[null,null,null,null,null,null,null,{"$f":"IF(Hobo!A1519<>\"\",Hobo!A1519&configuracion!$C$10,\"\")","v":""},""]
[null,null,null,null,null,null,null,{"$f":"IF(Hobo!A1520<>\"\",Hobo!A1520&configuracion!$C$10,\"\")","v":""},""]
[null,null,null,null,null,null,null,{"$f":"IF(Hobo!A1521<>\"\",Hobo!A1521&configuracion!$C$10,\"\")","v":""},""]
[null,null,null,null,null,null,null,{"$f":"IF(Hobo!A1522<>\"\",Hobo!A1522&configuracion!$C$10,\"\")","v":""},""]
[null,null,null,null,null,null,null,{"$f":"IF(Hobo!A1523<>\"\",Hobo!A1523&configuracion!$C$10,\"\")","v":""},""]
[null,null,null,null,null,null,null,{"$f":"IF(Hobo!A1524<>\"\",Hobo!A1524&configuracion!$C$10,\"\")","v":""},""]
[null,null,null,null,null,null,null,{"$f":"IF(Hobo!A1525<>\"\",Hobo!A1525&configuracion!$C$10,\"\")","v":""},""]
[null,null,null,null,null,null,null,{"$f":"IF(Hobo!A1526<>\"\",Hobo!A1526&configuracion!$C$10,\"\")","v":""},""]
[null,null,null,null,null,null,null,{"$f":"IF(Hobo!A1527<>\"\",Hobo!A1527&configuracion!$C$10,\"\")","v":""},""]
[null,null,null,null,null,null,null,{"$f":"IF(Hobo!A1528<>\"\",Hobo!A1528&configuracion!$C$10,\"\")","v":""},""]
[null,null,null,null,null,null,null,{"$f":"IF(Hobo!A1529<>\"\",Hobo!A1529&configuracion!$C$10,\"\")","v":""},""]
[null,null,null,null,null,null,null,{"$f":"IF(Hobo!A1530<>\"\",Hobo!A1530&configuracion!$C$10,\"\")","v":""},""]
[null,null,null,null,null,null,null,{"$f":"IF(Hobo!A1531<>\"\",Hobo!A1531&configuracion!$C$10,\"\")","v":""},""]
[null,null,null,null,null,null,null,{"$f":"IF(Hobo!A1532<>\"\",Hobo!A1532&configuracion!$C$10,\"\")","v":""},""]
[null,null,null,null,null,null,null,{"$f":"IF(Hobo!A1533<>\"\",Hobo!A1533&configuracion!$C$10,\"\")","v":""},""]
[null,null,null,null,null,null,null,{"$f":"IF(Hobo!A1534<>\"\",Hobo!A1534&configuracion!$C$10,\"\")","v":""},""]
[null,null,null,null,null,null,null,{"$f":"IF(Hobo!A1535<>\"\",Hobo!A1535&configuracion!$C$10,\"\")","v":""},""]
[null,null,null,null,null,null,null,{"$f":"IF(Hobo!A1536<>\"\",Hobo!A1536&configuracion!$C$10,\"\")","v":""},""]
[null,null,null,null,null,null,null,{"$f":"IF(Hobo!A1537<>\"\",Hobo!A1537&configuracion!$C$10,\"\")","v":""},""]
[null,null,null,null,null,null,null,{"$f":"IF(Hobo!A1538<>\"\",Hobo!A1538&configuracion!$C$10,\"\")","v":""},""]
[null,null,null,null,null,null,null,{"$f":"IF(Hobo!A1539<>\"\",Hobo!A1539&configuracion!$C$10,\"\")","v":""},""]
[null,null,null,null,null,null,null,{"$f":"IF(Hobo!A1540<>\"\",Hobo!A1540&configuracion!$C$10,\"\")","v":""},{"$f":"IF(B1540=\"\",\"\",TEXT(B1540, \"DD/MM/YYYY HH:MM:SS\"))","v":""}]
[null,null,null,null,null,null,null,{"$f":"IF(Hobo!A1541<>\"\",Hobo!A1541&configuracion!$C$10,\"\")","v":""},""]
[null,null,null,null,null,null,null,{"$f":"IF(Hobo!A1542<>\"\",Hobo!A1542&configuracion!$C$10,\"\")","v":""},""]
[null,null,null,null,null,null,null,{"$f":"IF(Hobo!A1543<>\"\",Hobo!A1543&configuracion!$C$10,\"\")","v":""},""]
[null,null,null,null,null,null,null,{"$f":"IF(Hobo!A1544<>\"\",Hobo!A1544&configuracion!$C$10,\"\")","v":""},""]
[null,null,null,null,null,null,null,{"$f":"IF(Hobo!A1545<>\"\",Hobo!A1545&configuracion!$C$10,\"\")","v":""},""]
[null,null,null,null,null,null,null,{"$f":"IF(Hobo!A1546<>\"\",Hobo!A1546&configuracion!$C$10,\"\")","v":""},""]
[null,null,null,null,null,null,null,{"$f":"IF(Hobo!A1547<>\"\",Hobo!A1547&configuracion!$C$10,\"\")","v":""},""]
[null,null,null,null,null,null,null,{"$f":"IF(Hobo!A1548<>\"\",Hobo!A1548&configuracion!$C$10,\"\")","v":""},""]
[null,null,null,null,null,null,null,{"$f":"IF(Hobo!A1549<>\"\",Hobo!A1549&configuracion!$C$10,\"\")","v":""},""]
[null,null,null,null,null,null,null,{"$f":"IF(Hobo!A1550<>\"\",Hobo!A1550&configuracion!$C$10,\"\")","v":""},""]
[null,null,null,null,null,null,null,{"$f":"IF(Hobo!A1551<>\"\",Hobo!A1551&configuracion!$C$10,\"\")","v":""},""]
[null,null,null,null,null,null,null,{"$f":"IF(Hobo!A1552<>\"\",Hobo!A1552&configuracion!$C$10,\"\")","v":""},""]
[null,null,null,null,null,null,null,{"$f":"IF(Hobo!A1553<>\"\",Hobo!A1553&configuracion!$C$10,\"\")","v":""},""]
[null,null,null,null,null,null,null,{"$f":"IF(Hobo!A1554<>\"\",Hobo!A1554&configuracion!$C$10,\"\")","v":""},""]
[null,null,null,null,null,null,null,{"$f":"IF(Hobo!A1555<>\"\",Hobo!A1555&configuracion!$C$10,\"\")","v":""},""]
[null,null,null,null,null,null,null,{"$f":"IF(Hobo!A1556<>\"\",Hobo!A1556&configuracion!$C$10,\"\")","v":""},""]
[null,null,null,null,null,null,null,{"$f":"IF(Hobo!A1557<>\"\",Hobo!A1557&configuracion!$C$10,\"\")","v":""},""]
[null,null,null,null,null,null,null,{"$f":"IF(Hobo!A1558<>\"\",Hobo!A1558&configuracion!$C$10,\"\")","v":""},""]
[null,null,null,null,null,null,null,{"$f":"IF(Hobo!A1559<>\"\",Hobo!A1559&configuracion!$C$10,\"\")","v":""},""]
[null,null,null,null,null,null,null,{"$f":"IF(Hobo!A1560<>\"\",Hobo!A1560&configuracion!$C$10,\"\")","v":""},""]
[null,null,null,null,null,null,null,{"$f":"IF(Hobo!A1561<>\"\",Hobo!A1561&configuracion!$C$10,\"\")","v":""},""]
[null,null,null,null,null,null,null,{"$f":"IF(Hobo!A1562<>\"\",Hobo!A1562&configuracion!$C$10,\"\")","v":""},""]
[null,null,null,null,null,null,null,{"$f":"IF(Hobo!A1563<>\"\",Hobo!A1563&configuracion!$C$10,\"\")","v":""},""]
[null,null,null,null,null,null,null,{"$f":"IF(Hobo!A1564<>\"\",Hobo!A1564&configuracion!$C$10,\"\")","v":""},""]
[null,null,null,null,null,null,null,{"$f":"IF(Hobo!A1565<>\"\",Hobo!A1565&configuracion!$C$10,\"\")","v":""},""]
[null,null,null,null,null,null,null,{"$f":"IF(Hobo!A1566<>\"\",Hobo!A1566&configuracion!$C$10,\"\")","v":""},""]
[null,null,null,null,null,null,null,{"$f":"IF(Hobo!A1567<>\"\",Hobo!A1567&configuracion!$C$10,\"\")","v":""},""]
[null,null,null,null,null,null,null,{"$f":"IF(Hobo!A1568<>\"\",Hobo!A1568&configuracion!$C$10,\"\")","v":""},""]
[null,null,null,null,null,null,null,{"$f":"IF(Hobo!A1569<>\"\",Hobo!A1569&configuracion!$C$10,\"\")","v":""},""]
[null,null,null,null,null,null,null,{"$f":"IF(Hobo!A1570<>\"\",Hobo!A1570&configuracion!$C$10,\"\")","v":""},""]
[null,null,null,null,null,null,null,{"$f":"IF(Hobo!A1571<>\"\",Hobo!A1571&configuracion!$C$10,\"\")","v":""},""]
[null,null,null,null,null,null,null,{"$f":"IF(Hobo!A1572<>\"\",Hobo!A1572&configuracion!$C$10,\"\")","v":""},""]
[null,null,null,null,null,null,null,{"$f":"IF(Hobo!A1573<>\"\",Hobo!A1573&configuracion!$C$10,\"\")","v":""},""]
[null,null,null,null,null,null,null,{"$f":"IF(Hobo!A1574<>\"\",Hobo!A1574&configuracion!$C$10,\"\")","v":""},""]
[null,null,null,null,null,null,null,{"$f":"IF(Hobo!A1575<>\"\",Hobo!A1575&configuracion!$C$10,\"\")","v":""},""]
[null,null,null,null,null,null,null,{"$f":"IF(Hobo!A1576<>\"\",Hobo!A1576&configuracion!$C$10,\"\")","v":""},""]
[null,null,null,null,null,null,null,{"$f":"IF(Hobo!A1577<>\"\",Hobo!A1577&configuracion!$C$10,\"\")","v":""},""]
[null,null,null,null,null,null,null,{"$f":"IF(Hobo!A1578<>\"\",Hobo!A1578&configuracion!$C$10,\"\")","v":""},""]
[null,null,null,null,null,null,null,{"$f":"IF(Hobo!A1579<>\"\",Hobo!A1579&configuracion!$C$10,\"\")","v":""},""]
[null,null,null,null,null,null,null,{"$f":"IF(Hobo!A1580<>\"\",Hobo!A1580&configuracion!$C$10,\"\")","v":""},""]
[null,null,null,null,null,null,null,{"$f":"IF(Hobo!A1581<>\"\",Hobo!A1581&configuracion!$C$10,\"\")","v":""},""]
[null,null,null,null,null,null,null,{"$f":"IF(Hobo!A1582<>\"\",Hobo!A1582&configuracion!$C$10,\"\")","v":""},""]
[null,null,null,null,null,null,null,{"$f":"IF(Hobo!A1583<>\"\",Hobo!A1583&configuracion!$C$10,\"\")","v":""},""]
[null,null,null,null,null,null,null,{"$f":"IF(Hobo!A1584<>\"\",Hobo!A1584&configuracion!$C$10,\"\")","v":""},""]
[null,null,null,null,null,null,null,{"$f":"IF(Hobo!A1585<>\"\",Hobo!A1585&configuracion!$C$10,\"\")","v":""},""]
[null,null,null,null,null,null,null,{"$f":"IF(Hobo!A1586<>\"\",Hobo!A1586&configuracion!$C$10,\"\")","v":""},""]
[null,null,null,null,null,null,null,{"$f":"IF(Hobo!A1587<>\"\",Hobo!A1587&configuracion!$C$10,\"\")","v":""},""]
[null,null,null,null,null,null,null,{"$f":"IF(Hobo!A1588<>\"\",Hobo!A1588&configuracion!$C$10,\"\")","v":""},""]
[null,null,null,null,null,null,null,{"$f":"IF(Hobo!A1589<>\"\",Hobo!A1589&configuracion!$C$10,\"\")","v":""},""]
[null,null,null,null,null,null,null,{"$f":"IF(Hobo!A1590<>\"\",Hobo!A1590&configuracion!$C$10,\"\")","v":""},""]
[null,null,null,null,null,null,null,{"$f":"IF(Hobo!A1591<>\"\",Hobo!A1591&configuracion!$C$10,\"\")","v":""},""]
[null,null,null,null,null,null,null,{"$f":"IF(Hobo!A1592<>\"\",Hobo!A1592&configuracion!$C$10,\"\")","v":""},""]
[null,null,null,null,null,null,null,{"$f":"IF(Hobo!A1593<>\"\",Hobo!A1593&configuracion!$C$10,\"\")","v":""},""]
[null,null,null,null,null,null,null,{"$f":"IF(Hobo!A1594<>\"\",Hobo!A1594&configuracion!$C$10,\"\")","v":""},""]
[null,null,null,null,null,null,null,{"$f":"IF(Hobo!A1595<>\"\",Hobo!A1595&configuracion!$C$10,\"\")","v":""},""]
[null,null,null,null,null,null,null,{"$f":"IF(Hobo!A1596<>\"\",Hobo!A1596&configuracion!$C$10,\"\")","v":""},""]
[null,null,null,null,null,null,null,{"$f":"IF(Hobo!A1597<>\"\",Hobo!A1597&configuracion!$C$10,\"\")","v":""},""]
[null,null,null,null,null,null,null,{"$f":"IF(Hobo!A1598<>\"\",Hobo!A1598&configuracion!$C$10,\"\")","v":""},""]
[null,null,null,null,null,null,null,{"$f":"IF(Hobo!A1599<>\"\",Hobo!A1599&configuracion!$C$10,\"\")","v":""},""]
[null,null,null,null,null,null,null,{"$f":"IF(Hobo!A1600<>\"\",Hobo!A1600&configuracion!$C$10,\"\")","v":""},""]
[null,null,null,null,null,null,null,{"$f":"IF(Hobo!A1601<>\"\",Hobo!A1601&configuracion!$C$10,\"\")","v":""},""]
[null,null,null,null,null,null,null,{"$f":"IF(Hobo!A1602<>\"\",Hobo!A1602&configuracion!$C$10,\"\")","v":""},""]
[null,null,null,null,null,null,null,{"$f":"IF(Hobo!A1603<>\"\",Hobo!A1603&configuracion!$C$10,\"\")","v":""},""]
[null,null,null,null,null,null,null,{"$f":"IF(Hobo!A1604<>\"\",Hobo!A1604&configuracion!$C$10,\"\")","v":""},{"$f":"IF(B1604=\"\",\"\",TEXT(B1604, \"DD/MM/YYYY HH:MM:SS\"))","v":""}]
[null,null,null,null,null,null,null,{"$f":"IF(Hobo!A1605<>\"\",Hobo!A1605&configuracion!$C$10,\"\")","v":""},""]
[null,null,null,null,null,null,null,{"$f":"IF(Hobo!A1606<>\"\",Hobo!A1606&configuracion!$C$10,\"\")","v":""},""]
[null,null,null,null,null,null,null,{"$f":"IF(Hobo!A1607<>\"\",Hobo!A1607&configuracion!$C$10,\"\")","v":""},""]
[null,null,null,null,null,null,null,{"$f":"IF(Hobo!A1608<>\"\",Hobo!A1608&configuracion!$C$10,\"\")","v":""},""]
[null,null,null,null,null,null,null,{"$f":"IF(Hobo!A1609<>\"\",Hobo!A1609&configuracion!$C$10,\"\")","v":""},""]
[null,null,null,null,null,null,null,{"$f":"IF(Hobo!A1610<>\"\",Hobo!A1610&configuracion!$C$10,\"\")","v":""},""]
[null,null,null,null,null,null,null,{"$f":"IF(Hobo!A1611<>\"\",Hobo!A1611&configuracion!$C$10,\"\")","v":""},""]
[null,null,null,null,null,null,null,{"$f":"IF(Hobo!A1612<>\"\",Hobo!A1612&configuracion!$C$10,\"\")","v":""},""]
[null,null,null,null,null,null,null,{"$f":"IF(Hobo!A1613<>\"\",Hobo!A1613&configuracion!$C$10,\"\")","v":""},""]
[null,null,null,null,null,null,null,{"$f":"IF(Hobo!A1614<>\"\",Hobo!A1614&configuracion!$C$10,\"\")","v":""},""]
[null,null,null,null,null,null,null,{"$f":"IF(Hobo!A1615<>\"\",Hobo!A1615&configuracion!$C$10,\"\")","v":""},""]
[null,null,null,null,null,null,null,{"$f":"IF(Hobo!A1616<>\"\",Hobo!A1616&configuracion!$C$10,\"\")","v":""},""]
[null,null,null,null,null,null,null,{"$f":"IF(Hobo!A1617<>\"\",Hobo!A1617&configuracion!$C$10,\"\")","v":""},""]
[null,null,null,null,null,null,null,{"$f":"IF(Hobo!A1618<>\"\",Hobo!A1618&configuracion!$C$10,\"\")","v":""},""]
[null,null,null,null,null,null,null,{"$f":"IF(Hobo!A1619<>\"\",Hobo!A1619&configuracion!$C$10,\"\")","v":""},""]
[null,null,null,null,null,null,null,{"$f":"IF(Hobo!A1620<>\"\",Hobo!A1620&configuracion!$C$10,\"\")","v":""},""]
[null,null,null,null,null,null,null,{"$f":"IF(Hobo!A1621<>\"\",Hobo!A1621&configuracion!$C$10,\"\")","v":""},""]
[null,null,null,null,null,null,null,{"$f":"IF(Hobo!A1622<>\"\",Hobo!A1622&configuracion!$C$10,\"\")","v":""},""]
[null,null,null,null,null,null,null,{"$f":"IF(Hobo!A1623<>\"\",Hobo!A1623&configuracion!$C$10,\"\")","v":""},""]
[null,null,null,null,null,null,null,{"$f":"IF(Hobo!A1624<>\"\",Hobo!A1624&configuracion!$C$10,\"\")","v":""},""]
[null,null,null,null,null,null,null,{"$f":"IF(Hobo!A1625<>\"\",Hobo!A1625&configuracion!$C$10,\"\")","v":""},""]
[null,null,null,null,null,null,null,{"$f":"IF(Hobo!A1626<>\"\",Hobo!A1626&configuracion!$C$10,\"\")","v":""},""]
[null,null,null,null,null,null,null,{"$f":"IF(Hobo!A1627<>\"\",Hobo!A1627&configuracion!$C$10,\"\")","v":""},""]
[null,null,null,null,null,null,null,{"$f":"IF(Hobo!A1628<>\"\",Hobo!A1628&configuracion!$C$10,\"\")","v":""},""]
[null,null,null,null,null,null,null,{"$f":"IF(Hobo!A1629<>\"\",Hobo!A1629&configuracion!$C$10,\"\")","v":""},""]
[null,null,null,null,null,null,null,{"$f":"IF(Hobo!A1630<>\"\",Hobo!A1630&configuracion!$C$10,\"\")","v":""},""]
[null,null,null,null,null,null,null,{"$f":"IF(Hobo!A1631<>\"\",Hobo!A1631&configuracion!$C$10,\"\")","v":""},""]
[null,null,null,null,null,null,null,{"$f":"IF(Hobo!A1632<>\"\",Hobo!A1632&configuracion!$C$10,\"\")","v":""},""]
[null,null,null,null,null,null,null,{"$f":"IF(Hobo!A1633<>\"\",Hobo!A1633&configuracion!$C$10,\"\")","v":""},""]
[null,null,null,null,null,null,null,{"$f":"IF(Hobo!A1634<>\"\",Hobo!A1634&configuracion!$C$10,\"\")","v":""},""]
[null,null,null,null,null,null,null,{"$f":"IF(Hobo!A1635<>\"\",Hobo!A1635&configuracion!$C$10,\"\")","v":""},""]
[null,null,null,null,null,null,null,{"$f":"IF(Hobo!A1636<>\"\",Hobo!A1636&configuracion!$C$10,\"\")","v":""},""]
[null,null,null,null,null,null,null,{"$f":"IF(Hobo!A1637<>\"\",Hobo!A1637&configuracion!$C$10,\"\")","v":""},""]
[null,null,null,null,null,null,null,{"$f":"IF(Hobo!A1638<>\"\",Hobo!A1638&configuracion!$C$10,\"\")","v":""},""]
[null,null,null,null,null,null,null,{"$f":"IF(Hobo!A1639<>\"\",Hobo!A1639&configuracion!$C$10,\"\")","v":""},""]
[null,null,null,null,null,null,null,{"$f":"IF(Hobo!A1640<>\"\",Hobo!A1640&configuracion!$C$10,\"\")","v":""},""]
[null,null,null,null,null,null,null,{"$f":"IF(Hobo!A1641<>\"\",Hobo!A1641&configuracion!$C$10,\"\")","v":""},""]
[null,null,null,null,null,null,null,{"$f":"IF(Hobo!A1642<>\"\",Hobo!A1642&configuracion!$C$10,\"\")","v":""},""]
[null,null,null,null,null,null,null,{"$f":"IF(Hobo!A1643<>\"\",Hobo!A1643&configuracion!$C$10,\"\")","v":""},""]
[null,null,null,null,null,null,null,{"$f":"IF(Hobo!A1644<>\"\",Hobo!A1644&configuracion!$C$10,\"\")","v":""},""]
[null,null,null,null,null,null,null,{"$f":"IF(Hobo!A1645<>\"\",Hobo!A1645&configuracion!$C$10,\"\")","v":""},""]
[null,null,null,null,null,null,null,{"$f":"IF(Hobo!A1646<>\"\",Hobo!A1646&configuracion!$C$10,\"\")","v":""},""]
[null,null,null,null,null,null,null,{"$f":"IF(Hobo!A1647<>\"\",Hobo!A1647&configuracion!$C$10,\"\")","v":""},""]
[null,null,null,null,null,null,null,{"$f":"IF(Hobo!A1648<>\"\",Hobo!A1648&configuracion!$C$10,\"\")","v":""},""]
[null,null,null,null,null,null,null,{"$f":"IF(Hobo!A1649<>\"\",Hobo!A1649&configuracion!$C$10,\"\")","v":""},""]
[null,null,null,null,null,null,null,{"$f":"IF(Hobo!A1650<>\"\",Hobo!A1650&configuracion!$C$10,\"\")","v":""},""]
[null,null,null,null,null,null,null,{"$f":"IF(Hobo!A1651<>\"\",Hobo!A1651&configuracion!$C$10,\"\")","v":""},""]
[null,null,null,null,null,null,null,{"$f":"IF(Hobo!A1652<>\"\",Hobo!A1652&configuracion!$C$10,\"\")","v":""},""]
[null,null,null,null,null,null,null,{"$f":"IF(Hobo!A1653<>\"\",Hobo!A1653&configuracion!$C$10,\"\")","v":""},""]
[null,null,null,null,null,null,null,{"$f":"IF(Hobo!A1654<>\"\",Hobo!A1654&configuracion!$C$10,\"\")","v":""},""]
[null,null,null,null,null,null,null,{"$f":"IF(Hobo!A1655<>\"\",Hobo!A1655&configuracion!$C$10,\"\")","v":""},""]
[null,null,null,null,null,null,null,{"$f":"IF(Hobo!A1656<>\"\",Hobo!A1656&configuracion!$C$10,\"\")","v":""},""]
[null,null,null,null,null,null,null,{"$f":"IF(Hobo!A1657<>\"\",Hobo!A1657&configuracion!$C$10,\"\")","v":""},""]
[null,null,null,null,null,null,null,{"$f":"IF(Hobo!A1658<>\"\",Hobo!A1658&configuracion!$C$10,\"\")","v":""},""]
[null,null,null,null,null,null,null,{"$f":"IF(Hobo!A1659<>\"\",Hobo!A1659&configuracion!$C$10,\"\")","v":""},""]
[null,null,null,null,null,null,null,{"$f":"IF(Hobo!A1660<>\"\",Hobo!A1660&configuracion!$C$10,\"\")","v":""},""]
[null,null,null,null,null,null,null,{"$f":"IF(Hobo!A1661<>\"\",Hobo!A1661&configuracion!$C$10,\"\")","v":""},""]
[null,null,null,null,null,null,null,{"$f":"IF(Hobo!A1662<>\"\",Hobo!A1662&configuracion!$C$10,\"\")","v":""},""]
[null,null,null,null,null,null,null,{"$f":"IF(Hobo!A1663<>\"\",Hobo!A1663&configuracion!$C$10,\"\")","v":""},""]
[null,null,null,null,null,null,null,{"$f":"IF(Hobo!A1664<>\"\",Hobo!A1664&configuracion!$C$10,\"\")","v":""},""]
[null,null,null,null,null,null,null,{"$f":"IF(Hobo!A1665<>\"\",Hobo!A1665&configuracion!$C$10,\"\")","v":""},""]
[null,null,null,null,null,null,null,{"$f":"IF(Hobo!A1666<>\"\",Hobo!A1666&configuracion!$C$10,\"\")","v":""},""]
[null,null,null,null,null,null,null,{"$f":"IF(Hobo!A1667<>\"\",Hobo!A1667&configuracion!$C$10,\"\")","v":""},""]
[null,null,null,null,null,null,null,{"$f":"IF(Hobo!A1668<>\"\",Hobo!A1668&configuracion!$C$10,\"\")","v":""},{"$f":"IF(B1668=\"\",\"\",TEXT(B1668, \"DD/MM/YYYY HH:MM:SS\"))","v":""}]
[null,null,null,null,null,null,null,{"$f":"IF(Hobo!A1669<>\"\",Hobo!A1669&configuracion!$C$10,\"\")","v":""},""]
[null,null,null,null,null,null,null,{"$f":"IF(Hobo!A1670<>\"\",Hobo!A1670&configuracion!$C$10,\"\")","v":""},""]
[null,null,null,null,null,null,null,{"$f":"IF(Hobo!A1671<>\"\",Hobo!A1671&configuracion!$C$10,\"\")","v":""},""]
[null,null,null,null,null,null,null,{"$f":"IF(Hobo!A1672<>\"\",Hobo!A1672&configuracion!$C$10,\"\")","v":""},""]
[null,null,null,null,null,null,null,{"$f":"IF(Hobo!A1673<>\"\",Hobo!A1673&configuracion!$C$10,\"\")","v":""},""]
[null,null,null,null,null,null,null,{"$f":"IF(Hobo!A1674<>\"\",Hobo!A1674&configuracion!$C$10,\"\")","v":""},""]
[null,null,null,null,null,null,null,{"$f":"IF(Hobo!A1675<>\"\",Hobo!A1675&configuracion!$C$10,\"\")","v":""},""]
[null,null,null,null,null,null,null,{"$f":"IF(Hobo!A1676<>\"\",Hobo!A1676&configuracion!$C$10,\"\")","v":""},""]
[null,null,null,null,null,null,null,{"$f":"IF(Hobo!A1677<>\"\",Hobo!A1677&configuracion!$C$10,\"\")","v":""},""]
[null,null,null,null,null,null,null,{"$f":"IF(Hobo!A1678<>\"\",Hobo!A1678&configuracion!$C$10,\"\")","v":""},""]
[null,null,null,null,null,null,null,{"$f":"IF(Hobo!A1679<>\"\",Hobo!A1679&configuracion!$C$10,\"\")","v":""},""]
[null,null,null,null,null,null,null,{"$f":"IF(Hobo!A1680<>\"\",Hobo!A1680&configuracion!$C$10,\"\")","v":""},""]
[null,null,null,null,null,null,null,{"$f":"IF(Hobo!A1681<>\"\",Hobo!A1681&configuracion!$C$10,\"\")","v":""},""]
[null,null,null,null,null,null,null,{"$f":"IF(Hobo!A1682<>\"\",Hobo!A1682&configuracion!$C$10,\"\")","v":""},""]
[null,null,null,null,null,null,null,{"$f":"IF(Hobo!A1683<>\"\",Hobo!A1683&configuracion!$C$10,\"\")","v":""},""]
[null,null,null,null,null,null,null,{"$f":"IF(Hobo!A1684<>\"\",Hobo!A1684&configuracion!$C$10,\"\")","v":""},""]
[null,null,null,null,null,null,null,{"$f":"IF(Hobo!A1685<>\"\",Hobo!A1685&configuracion!$C$10,\"\")","v":""},""]
[null,null,null,null,null,null,null,{"$f":"IF(Hobo!A1686<>\"\",Hobo!A1686&configuracion!$C$10,\"\")","v":""},""]
[null,null,null,null,null,null,null,{"$f":"IF(Hobo!A1687<>\"\",Hobo!A1687&configuracion!$C$10,\"\")","v":""},""]
[null,null,null,null,null,null,null,{"$f":"IF(Hobo!A1688<>\"\",Hobo!A1688&configuracion!$C$10,\"\")","v":""},""]
[null,null,null,null,null,null,null,{"$f":"IF(Hobo!A1689<>\"\",Hobo!A1689&configuracion!$C$10,\"\")","v":""},""]
[null,null,null,null,null,null,null,{"$f":"IF(Hobo!A1690<>\"\",Hobo!A1690&configuracion!$C$10,\"\")","v":""},""]
[null,null,null,null,null,null,null,{"$f":"IF(Hobo!A1691<>\"\",Hobo!A1691&configuracion!$C$10,\"\")","v":""},""]
[null,null,null,null,null,null,null,{"$f":"IF(Hobo!A1692<>\"\",Hobo!A1692&configuracion!$C$10,\"\")","v":""},""]
[null,null,null,null,null,null,null,{"$f":"IF(Hobo!A1693<>\"\",Hobo!A1693&configuracion!$C$10,\"\")","v":""},""]
[null,null,null,null,null,null,null,{"$f":"IF(Hobo!A1694<>\"\",Hobo!A1694&configuracion!$C$10,\"\")","v":""},""]
[null,null,null,null,null,null,null,{"$f":"IF(Hobo!A1695<>\"\",Hobo!A1695&configuracion!$C$10,\"\")","v":""},""]
[null,null,null,null,null,null,null,{"$f":"IF(Hobo!A1696<>\"\",Hobo!A1696&configuracion!$C$10,\"\")","v":""},""]
[null,null,null,null,null,null,null,{"$f":"IF(Hobo!A1697<>\"\",Hobo!A1697&configuracion!$C$10,\"\")","v":""},""]
[null,null,null,null,null,null,null,{"$f":"IF(Hobo!A1698<>\"\",Hobo!A1698&configuracion!$C$10,\"\")","v":""},""]
[null,null,null,null,null,null,null,{"$f":"IF(Hobo!A1699<>\"\",Hobo!A1699&configuracion!$C$10,\"\")","v":""},""]
[null,null,null,null,null,null,null,{"$f":"IF(Hobo!A1700<>\"\",Hobo!A1700&configuracion!$C$10,\"\")","v":""},""]
[null,null,null,null,null,null,null,{"$f":"IF(Hobo!A1701<>\"\",Hobo!A1701&configuracion!$C$10,\"\")","v":""},""]
[null,null,null,null,null,null,null,{"$f":"IF(Hobo!A1702<>\"\",Hobo!A1702&configuracion!$C$10,\"\")","v":""},""]
[null,null,null,null,null,null,null,{"$f":"IF(Hobo!A1703<>\"\",Hobo!A1703&configuracion!$C$10,\"\")","v":""},""]
[null,null,null,null,null,null,null,{"$f":"IF(Hobo!A1704<>\"\",Hobo!A1704&configuracion!$C$10,\"\")","v":""},""]
[null,null,null,null,null,null,null,{"$f":"IF(Hobo!A1705<>\"\",Hobo!A1705&configuracion!$C$10,\"\")","v":""},""]
[null,null,null,null,null,null,null,{"$f":"IF(Hobo!A1706<>\"\",Hobo!A1706&configuracion!$C$10,\"\")","v":""},""]
[null,null,null,null,null,null,null,{"$f":"IF(Hobo!A1707<>\"\",Hobo!A1707&configuracion!$C$10,\"\")","v":""},""]
[null,null,null,null,null,null,null,{"$f":"IF(Hobo!A1708<>\"\",Hobo!A1708&configuracion!$C$10,\"\")","v":""},""]
[null,null,null,null,null,null,null,{"$f":"IF(Hobo!A1709<>\"\",Hobo!A1709&configuracion!$C$10,\"\")","v":""},""]
[null,null,null,null,null,null,null,{"$f":"IF(Hobo!A1710<>\"\",Hobo!A1710&configuracion!$C$10,\"\")","v":""},""]
[null,null,null,null,null,null,null,{"$f":"IF(Hobo!A1711<>\"\",Hobo!A1711&configuracion!$C$10,\"\")","v":""},""]
[null,null,null,null,null,null,null,{"$f":"IF(Hobo!A1712<>\"\",Hobo!A1712&configuracion!$C$10,\"\")","v":""},""]
[null,null,null,null,null,null,null,{"$f":"IF(Hobo!A1713<>\"\",Hobo!A1713&configuracion!$C$10,\"\")","v":""},""]
[null,null,null,null,null,null,null,{"$f":"IF(Hobo!A1714<>\"\",Hobo!A1714&configuracion!$C$10,\"\")","v":""},""]
[null,null,null,null,null,null,null,{"$f":"IF(Hobo!A1715<>\"\",Hobo!A1715&configuracion!$C$10,\"\")","v":""},""]
[null,null,null,null,null,null,null,{"$f":"IF(Hobo!A1716<>\"\",Hobo!A1716&configuracion!$C$10,\"\")","v":""},""]
[null,null,null,null,null,null,null,{"$f":"IF(Hobo!A1717<>\"\",Hobo!A1717&configuracion!$C$10,\"\")","v":""},""]
[null,null,null,null,null,null,null,{"$f":"IF(Hobo!A1718<>\"\",Hobo!A1718&configuracion!$C$10,\"\")","v":""},""]
[null,null,null,null,null,null,null,{"$f":"IF(Hobo!A1719<>\"\",Hobo!A1719&configuracion!$C$10,\"\")","v":""},""]
[null,null,null,null,null,null,null,{"$f":"IF(Hobo!A1720<>\"\",Hobo!A1720&configuracion!$C$10,\"\")","v":""},""]
[null,null,null,null,null,null,null,{"$f":"IF(Hobo!A1721<>\"\",Hobo!A1721&configuracion!$C$10,\"\")","v":""},""]
[null,null,null,null,null,null,null,{"$f":"IF(Hobo!A1722<>\"\",Hobo!A1722&configuracion!$C$10,\"\")","v":""},""]
[null,null,null,null,null,null,null,{"$f":"IF(Hobo!A1723<>\"\",Hobo!A1723&configuracion!$C$10,\"\")","v":""},""]
[null,null,null,null,null,null,null,{"$f":"IF(Hobo!A1724<>\"\",Hobo!A1724&configuracion!$C$10,\"\")","v":""},""]
[null,null,null,null,null,null,null,{"$f":"IF(Hobo!A1725<>\"\",Hobo!A1725&configuracion!$C$10,\"\")","v":""},""]
[null,null,null,null,null,null,null,{"$f":"IF(Hobo!A1726<>\"\",Hobo!A1726&configuracion!$C$10,\"\")","v":""},""]
[null,null,null,null,null,null,null,{"$f":"IF(Hobo!A1727<>\"\",Hobo!A1727&configuracion!$C$10,\"\")","v":""},""]
[null,null,null,null,null,null,null,{"$f":"IF(Hobo!A1728<>\"\",Hobo!A1728&configuracion!$C$10,\"\")","v":""},""]
[null,null,null,null,null,null,null,{"$f":"IF(Hobo!A1729<>\"\",Hobo!A1729&configuracion!$C$10,\"\")","v":""},""]
[null,null,null,null,null,null,null,{"$f":"IF(Hobo!A1730<>\"\",Hobo!A1730&configuracion!$C$10,\"\")","v":""},""]
[null,null,null,null,null,null,null,{"$f":"IF(Hobo!A1731<>\"\",Hobo!A1731&configuracion!$C$10,\"\")","v":""},""]
[null,null,null,null,null,null,null,{"$f":"IF(Hobo!A1732<>\"\",Hobo!A1732&configuracion!$C$10,\"\")","v":""},{"$f":"IF(B1732=\"\",\"\",TEXT(B1732, \"DD/MM/YYYY HH:MM:SS\"))","v":""}]
[null,null,null,null,null,null,null,{"$f":"IF(Hobo!A1733<>\"\",Hobo!A1733&configuracion!$C$10,\"\")","v":""},""]
[null,null,null,null,null,null,null,{"$f":"IF(Hobo!A1734<>\"\",Hobo!A1734&configuracion!$C$10,\"\")","v":""},""]
[null,null,null,null,null,null,null,{"$f":"IF(Hobo!A1735<>\"\",Hobo!A1735&configuracion!$C$10,\"\")","v":""},""]
[null,null,null,null,null,null,null,{"$f":"IF(Hobo!A1736<>\"\",Hobo!A1736&configuracion!$C$10,\"\")","v":""},""]
[null,null,null,null,null,null,null,{"$f":"IF(Hobo!A1737<>\"\",Hobo!A1737&configuracion!$C$10,\"\")","v":""},""]
[null,null,null,null,null,null,null,{"$f":"IF(Hobo!A1738<>\"\",Hobo!A1738&configuracion!$C$10,\"\")","v":""},""]
[null,null,null,null,null,null,null,{"$f":"IF(Hobo!A1739<>\"\",Hobo!A1739&configuracion!$C$10,\"\")","v":""},""]
[null,null,null,null,null,null,null,{"$f":"IF(Hobo!A1740<>\"\",Hobo!A1740&configuracion!$C$10,\"\")","v":""},""]
[null,null,null,null,null,null,null,{"$f":"IF(Hobo!A1741<>\"\",Hobo!A1741&configuracion!$C$10,\"\")","v":""},""]
[null,null,null,null,null,null,null,{"$f":"IF(Hobo!A1742<>\"\",Hobo!A1742&configuracion!$C$10,\"\")","v":""},""]
[null,null,null,null,null,null,null,{"$f":"IF(Hobo!A1743<>\"\",Hobo!A1743&configuracion!$C$10,\"\")","v":""},""]
[null,null,null,null,null,null,null,{"$f":"IF(Hobo!A1744<>\"\",Hobo!A1744&configuracion!$C$10,\"\")","v":""},""]
[null,null,null,null,null,null,null,{"$f":"IF(Hobo!A1745<>\"\",Hobo!A1745&configuracion!$C$10,\"\")","v":""},""]
[null,null,null,null,null,null,null,{"$f":"IF(Hobo!A1746<>\"\",Hobo!A1746&configuracion!$C$10,\"\")","v":""},""]
[null,null,null,null,null,null,null,{"$f":"IF(Hobo!A1747<>\"\",Hobo!A1747&configuracion!$C$10,\"\")","v":""},""]
[null,null,null,null,null,null,null,{"$f":"IF(Hobo!A1748<>\"\",Hobo!A1748&configuracion!$C$10,\"\")","v":""},""]
[null,null,null,null,null,null,null,{"$f":"IF(Hobo!A1749<>\"\",Hobo!A1749&configuracion!$C$10,\"\")","v":""},""]
[null,null,null,null,null,null,null,{"$f":"IF(Hobo!A1750<>\"\",Hobo!A1750&configuracion!$C$10,\"\")","v":""},""]
[null,null,null,null,null,null,null,{"$f":"IF(Hobo!A1751<>\"\",Hobo!A1751&configuracion!$C$10,\"\")","v":""},""]
[null,null,null,null,null,null,null,{"$f":"IF(Hobo!A1752<>\"\",Hobo!A1752&configuracion!$C$10,\"\")","v":""},""]
[null,null,null,null,null,null,null,{"$f":"IF(Hobo!A1753<>\"\",Hobo!A1753&configuracion!$C$10,\"\")","v":""},""]
[null,null,null,null,null,null,null,{"$f":"IF(Hobo!A1754<>\"\",Hobo!A1754&configuracion!$C$10,\"\")","v":""},""]
[null,null,null,null,null,null,null,{"$f":"IF(Hobo!A1755<>\"\",Hobo!A1755&configuracion!$C$10,\"\")","v":""},""]
[null,null,null,null,null,null,null,{"$f":"IF(Hobo!A1756<>\"\",Hobo!A1756&configuracion!$C$10,\"\")","v":""},""]
[null,null,null,null,null,null,null,{"$f":"IF(Hobo!A1757<>\"\",Hobo!A1757&configuracion!$C$10,\"\")","v":""},""]
[null,null,null,null,null,null,null,{"$f":"IF(Hobo!A1758<>\"\",Hobo!A1758&configuracion!$C$10,\"\")","v":""},""]
[null,null,null,null,null,null,null,{"$f":"IF(Hobo!A1759<>\"\",Hobo!A1759&configuracion!$C$10,\"\")","v":""},""]
[null,null,null,null,null,null,null,{"$f":"IF(Hobo!A1760<>\"\",Hobo!A1760&configuracion!$C$10,\"\")","v":""},""]
[null,null,null,null,null,null,null,{"$f":"IF(Hobo!A1761<>\"\",Hobo!A1761&configuracion!$C$10,\"\")","v":""},""]
[null,null,null,null,null,null,null,{"$f":"IF(Hobo!A1762<>\"\",Hobo!A1762&configuracion!$C$10,\"\")","v":""},""]
[null,null,null,null,null,null,null,{"$f":"IF(Hobo!A1763<>\"\",Hobo!A1763&configuracion!$C$10,\"\")","v":""},""]
[null,null,null,null,null,null,null,{"$f":"IF(Hobo!A1764<>\"\",Hobo!A1764&configuracion!$C$10,\"\")","v":""},""]
[null,null,null,null,null,null,null,{"$f":"IF(Hobo!A1765<>\"\",Hobo!A1765&configuracion!$C$10,\"\")","v":""},""]
[null,null,null,null,null,null,null,{"$f":"IF(Hobo!A1766<>\"\",Hobo!A1766&configuracion!$C$10,\"\")","v":""},""]
[null,null,null,null,null,null,null,{"$f":"IF(Hobo!A1767<>\"\",Hobo!A1767&configuracion!$C$10,\"\")","v":""},""]
[null,null,null,null,null,null,null,{"$f":"IF(Hobo!A1768<>\"\",Hobo!A1768&configuracion!$C$10,\"\")","v":""},""]
[null,null,null,null,null,null,null,{"$f":"IF(Hobo!A1769<>\"\",Hobo!A1769&configuracion!$C$10,\"\")","v":""},""]
[null,null,null,null,null,null,null,{"$f":"IF(Hobo!A1770<>\"\",Hobo!A1770&configuracion!$C$10,\"\")","v":""},""]
[null,null,null,null,null,null,null,{"$f":"IF(Hobo!A1771<>\"\",Hobo!A1771&configuracion!$C$10,\"\")","v":""},""]
[null,null,null,null,null,null,null,{"$f":"IF(Hobo!A1772<>\"\",Hobo!A1772&configuracion!$C$10,\"\")","v":""},""]
[null,null,null,null,null,null,null,{"$f":"IF(Hobo!A1773<>\"\",Hobo!A1773&configuracion!$C$10,\"\")","v":""},""]
[null,null,null,null,null,null,null,{"$f":"IF(Hobo!A1774<>\"\",Hobo!A1774&configuracion!$C$10,\"\")","v":""},""]
[null,null,null,null,null,null,null,{"$f":"IF(Hobo!A1775<>\"\",Hobo!A1775&configuracion!$C$10,\"\")","v":""},""]
[null,null,null,null,null,null,null,{"$f":"IF(Hobo!A1776<>\"\",Hobo!A1776&configuracion!$C$10,\"\")","v":""},""]
[null,null,null,null,null,null,null,{"$f":"IF(Hobo!A1777<>\"\",Hobo!A1777&configuracion!$C$10,\"\")","v":""},""]
[null,null,null,null,null,null,null,{"$f":"IF(Hobo!A1778<>\"\",Hobo!A1778&configuracion!$C$10,\"\")","v":""},""]
[null,null,null,null,null,null,null,{"$f":"IF(Hobo!A1779<>\"\",Hobo!A1779&configuracion!$C$10,\"\")","v":""},""]
[null,null,null,null,null,null,null,{"$f":"IF(Hobo!A1780<>\"\",Hobo!A1780&configuracion!$C$10,\"\")","v":""},""]
[null,null,null,null,null,null,null,{"$f":"IF(Hobo!A1781<>\"\",Hobo!A1781&configuracion!$C$10,\"\")","v":""},""]
[null,null,null,null,null,null,null,{"$f":"IF(Hobo!A1782<>\"\",Hobo!A1782&configuracion!$C$10,\"\")","v":""},""]
[null,null,null,null,null,null,null,{"$f":"IF(Hobo!A1783<>\"\",Hobo!A1783&configuracion!$C$10,\"\")","v":""},""]
[null,null,null,null,null,null,null,{"$f":"IF(Hobo!A1784<>\"\",Hobo!A1784&configuracion!$C$10,\"\")","v":""},""]
[null,null,null,null,null,null,null,{"$f":"IF(Hobo!A1785<>\"\",Hobo!A1785&configuracion!$C$10,\"\")","v":""},""]
[null,null,null,null,null,null,null,{"$f":"IF(Hobo!A1786<>\"\",Hobo!A1786&configuracion!$C$10,\"\")","v":""},""]
[null,null,null,null,null,null,null,{"$f":"IF(Hobo!A1787<>\"\",Hobo!A1787&configuracion!$C$10,\"\")","v":""},""]
[null,null,null,null,null,null,null,{"$f":"IF(Hobo!A1788<>\"\",Hobo!A1788&configuracion!$C$10,\"\")","v":""},""]
[null,null,null,null,null,null,null,{"$f":"IF(Hobo!A1789<>\"\",Hobo!A1789&configuracion!$C$10,\"\")","v":""},""]
[null,null,null,null,null,null,null,{"$f":"IF(Hobo!A1790<>\"\",Hobo!A1790&configuracion!$C$10,\"\")","v":""},""]
[null,null,null,null,null,null,null,{"$f":"IF(Hobo!A1791<>\"\",Hobo!A1791&configuracion!$C$10,\"\")","v":""},""]
[null,null,null,null,null,null,null,{"$f":"IF(Hobo!A1792<>\"\",Hobo!A1792&configuracion!$C$10,\"\")","v":""},""]
[null,null,null,null,null,null,null,{"$f":"IF(Hobo!A1793<>\"\",Hobo!A1793&configuracion!$C$10,\"\")","v":""},""]
[null,null,null,null,null,null,null,{"$f":"IF(Hobo!A1794<>\"\",Hobo!A1794&configuracion!$C$10,\"\")","v":""},""]
[null,null,null,null,null,null,null,{"$f":"IF(Hobo!A1795<>\"\",Hobo!A1795&configuracion!$C$10,\"\")","v":""},""]
[null,null,null,null,null,null,null,{"$f":"IF(Hobo!A1796<>\"\",Hobo!A1796&configuracion!$C$10,\"\")","v":""},{"$f":"IF(B1796=\"\",\"\",TEXT(B1796, \"DD/MM/YYYY HH:MM:SS\"))","v":""}]
[null,null,null,null,null,null,null,{"$f":"IF(Hobo!A1797<>\"\",Hobo!A1797&configuracion!$C$10,\"\")","v":""},""]
[null,null,null,null,null,null,null,{"$f":"IF(Hobo!A1798<>\"\",Hobo!A1798&configuracion!$C$10,\"\")","v":""},""]
[null,null,null,null,null,null,null,{"$f":"IF(Hobo!A1799<>\"\",Hobo!A1799&configuracion!$C$10,\"\")","v":""},""]
[null,null,null,null,null,null,null,{"$f":"IF(Hobo!A1800<>\"\",Hobo!A1800&configuracion!$C$10,\"\")","v":""},""]
[null,null,null,null,null,null,null,{"$f":"IF(Hobo!A1801<>\"\",Hobo!A1801&configuracion!$C$10,\"\")","v":""},""]
[null,null,null,null,null,null,null,{"$f":"IF(Hobo!A1802<>\"\",Hobo!A1802&configuracion!$C$10,\"\")","v":""},""]
[null,null,null,null,null,null,null,{"$f":"IF(Hobo!A1803<>\"\",Hobo!A1803&configuracion!$C$10,\"\")","v":""},""]
[null,null,null,null,null,null,null,{"$f":"IF(Hobo!A1804<>\"\",Hobo!A1804&configuracion!$C$10,\"\")","v":""},""]
[null,null,null,null,null,null,null,{"$f":"IF(Hobo!A1805<>\"\",Hobo!A1805&configuracion!$C$10,\"\")","v":""},""]
[null,null,null,null,null,null,null,{"$f":"IF(Hobo!A1806<>\"\",Hobo!A1806&configuracion!$C$10,\"\")","v":""},""]
[null,null,null,null,null,null,null,{"$f":"IF(Hobo!A1807<>\"\",Hobo!A1807&configuracion!$C$10,\"\")","v":""},""]
[null,null,null,null,null,null,null,{"$f":"IF(Hobo!A1808<>\"\",Hobo!A1808&configuracion!$C$10,\"\")","v":""},""]
[null,null,null,null,null,null,null,{"$f":"IF(Hobo!A1809<>\"\",Hobo!A1809&configuracion!$C$10,\"\")","v":""},""]
[null,null,null,null,null,null,null,{"$f":"IF(Hobo!A1810<>\"\",Hobo!A1810&configuracion!$C$10,\"\")","v":""},""]
[null,null,null,null,null,null,null,{"$f":"IF(Hobo!A1811<>\"\",Hobo!A1811&configuracion!$C$10,\"\")","v":""},""]
[null,null,null,null,null,null,null,{"$f":"IF(Hobo!A1812<>\"\",Hobo!A1812&configuracion!$C$10,\"\")","v":""},""]
[null,null,null,null,null,null,null,{"$f":"IF(Hobo!A1813<>\"\",Hobo!A1813&configuracion!$C$10,\"\")","v":""},""]
[null,null,null,null,null,null,null,{"$f":"IF(Hobo!A1814<>\"\",Hobo!A1814&configuracion!$C$10,\"\")","v":""},""]
[null,null,null,null,null,null,null,{"$f":"IF(Hobo!A1815<>\"\",Hobo!A1815&configuracion!$C$10,\"\")","v":""},""]
[null,null,null,null,null,null,null,{"$f":"IF(Hobo!A1816<>\"\",Hobo!A1816&configuracion!$C$10,\"\")","v":""},""]
[null,null,null,null,null,null,null,{"$f":"IF(Hobo!A1817<>\"\",Hobo!A1817&configuracion!$C$10,\"\")","v":""},""]
[null,null,null,null,null,null,null,{"$f":"IF(Hobo!A1818<>\"\",Hobo!A1818&configuracion!$C$10,\"\")","v":""},""]
[null,null,null,null,null,null,null,{"$f":"IF(Hobo!A1819<>\"\",Hobo!A1819&configuracion!$C$10,\"\")","v":""},""]
[null,null,null,null,null,null,null,{"$f":"IF(Hobo!A1820<>\"\",Hobo!A1820&configuracion!$C$10,\"\")","v":""},""]
[null,null,null,null,null,null,null,{"$f":"IF(Hobo!A1821<>\"\",Hobo!A1821&configuracion!$C$10,\"\")","v":""},""]
[null,null,null,null,null,null,null,{"$f":"IF(Hobo!A1822<>\"\",Hobo!A1822&configuracion!$C$10,\"\")","v":""},""]
[null,null,null,null,null,null,null,{"$f":"IF(Hobo!A1823<>\"\",Hobo!A1823&configuracion!$C$10,\"\")","v":""},""]
[null,null,null,null,null,null,null,{"$f":"IF(Hobo!A1824<>\"\",Hobo!A1824&configuracion!$C$10,\"\")","v":""},""]
[null,null,null,null,null,null,null,{"$f":"IF(Hobo!A1825<>\"\",Hobo!A1825&configuracion!$C$10,\"\")","v":""},""]
[null,null,null,null,null,null,null,{"$f":"IF(Hobo!A1826<>\"\",Hobo!A1826&configuracion!$C$10,\"\")","v":""},""]
[null,null,null,null,null,null,null,{"$f":"IF(Hobo!A1827<>\"\",Hobo!A1827&configuracion!$C$10,\"\")","v":""},""]
[null,null,null,null,null,null,null,{"$f":"IF(Hobo!A1828<>\"\",Hobo!A1828&configuracion!$C$10,\"\")","v":""},""]
[null,null,null,null,null,null,null,{"$f":"IF(Hobo!A1829<>\"\",Hobo!A1829&configuracion!$C$10,\"\")","v":""},""]
[null,null,null,null,null,null,null,{"$f":"IF(Hobo!A1830<>\"\",Hobo!A1830&configuracion!$C$10,\"\")","v":""},""]
[null,null,null,null,null,null,null,{"$f":"IF(Hobo!A1831<>\"\",Hobo!A1831&configuracion!$C$10,\"\")","v":""},""]
[null,null,null,null,null,null,null,{"$f":"IF(Hobo!A1832<>\"\",Hobo!A1832&configuracion!$C$10,\"\")","v":""},""]
[null,null,null,null,null,null,null,{"$f":"IF(Hobo!A1833<>\"\",Hobo!A1833&configuracion!$C$10,\"\")","v":""},""]
[null,null,null,null,null,null,null,{"$f":"IF(Hobo!A1834<>\"\",Hobo!A1834&configuracion!$C$10,\"\")","v":""},""]
[null,null,null,null,null,null,null,{"$f":"IF(Hobo!A1835<>\"\",Hobo!A1835&configuracion!$C$10,\"\")","v":""},""]
[null,null,null,null,null,null,null,{"$f":"IF(Hobo!A1836<>\"\",Hobo!A1836&configuracion!$C$10,\"\")","v":""},""]
[null,null,null,null,null,null,null,{"$f":"IF(Hobo!A1837<>\"\",Hobo!A1837&configuracion!$C$10,\"\")","v":""},""]
[null,null,null,null,null,null,null,{"$f":"IF(Hobo!A1838<>\"\",Hobo!A1838&configuracion!$C$10,\"\")","v":""},""]
[null,null,null,null,null,null,null,{"$f":"IF(Hobo!A1839<>\"\",Hobo!A1839&configuracion!$C$10,\"\")","v":""},""]
[null,null,null,null,null,null,null,{"$f":"IF(Hobo!A1840<>\"\",Hobo!A1840&configuracion!$C$10,\"\")","v":""},""]
[null,null,null,null,null,null,null,{"$f":"IF(Hobo!A1841<>\"\",Hobo!A1841&configuracion!$C$10,\"\")","v":""},""]
[null,null,null,null,null,null,null,{"$f":"IF(Hobo!A1842<>\"\",Hobo!A1842&configuracion!$C$10,\"\")","v":""},""]
[null,null,null,null,null,null,null,{"$f":"IF(Hobo!A1843<>\"\",Hobo!A1843&configuracion!$C$10,\"\")","v":""},""]
[null,null,null,null,null,null,null,{"$f":"IF(Hobo!A1844<>\"\",Hobo!A1844&configuracion!$C$10,\"\")","v":""},""]
[null,null,null,null,null,null,null,{"$f":"IF(Hobo!A1845<>\"\",Hobo!A1845&configuracion!$C$10,\"\")","v":""},""]
[null,null,null,null,null,null,null,{"$f":"IF(Hobo!A1846<>\"\",Hobo!A1846&configuracion!$C$10,\"\")","v":""},""]
[null,null,null,null,null,null,null,{"$f":"IF(Hobo!A1847<>\"\",Hobo!A1847&configuracion!$C$10,\"\")","v":""},""]
[null,null,null,null,null,null,null,{"$f":"IF(Hobo!A1848<>\"\",Hobo!A1848&configuracion!$C$10,\"\")","v":""},""]
[null,null,null,null,null,null,null,{"$f":"IF(Hobo!A1849<>\"\",Hobo!A1849&configuracion!$C$10,\"\")","v":""},""]
[null,null,null,null,null,null,null,{"$f":"IF(Hobo!A1850<>\"\",Hobo!A1850&configuracion!$C$10,\"\")","v":""},""]
[null,null,null,null,null,null,null,{"$f":"IF(Hobo!A1851<>\"\",Hobo!A1851&configuracion!$C$10,\"\")","v":""},""]
[null,null,null,null,null,null,null,{"$f":"IF(Hobo!A1852<>\"\",Hobo!A1852&configuracion!$C$10,\"\")","v":""},""]
[null,null,null,null,null,null,null,{"$f":"IF(Hobo!A1853<>\"\",Hobo!A1853&configuracion!$C$10,\"\")","v":""},""]
[null,null,null,null,null,null,null,{"$f":"IF(Hobo!A1854<>\"\",Hobo!A1854&configuracion!$C$10,\"\")","v":""},""]
[null,null,null,null,null,null,null,{"$f":"IF(Hobo!A1855<>\"\",Hobo!A1855&configuracion!$C$10,\"\")","v":""},""]
[null,null,null,null,null,null,null,{"$f":"IF(Hobo!A1856<>\"\",Hobo!A1856&configuracion!$C$10,\"\")","v":""},""]
[null,null,null,null,null,null,null,{"$f":"IF(Hobo!A1857<>\"\",Hobo!A1857&configuracion!$C$10,\"\")","v":""},""]
[null,null,null,null,null,null,null,{"$f":"IF(Hobo!A1858<>\"\",Hobo!A1858&configuracion!$C$10,\"\")","v":""},""]
[null,null,null,null,null,null,null,{"$f":"IF(Hobo!A1859<>\"\",Hobo!A1859&configuracion!$C$10,\"\")","v":""},""]
[null,null,null,null,null,null,null,{"$f":"IF(Hobo!A1860<>\"\",Hobo!A1860&configuracion!$C$10,\"\")","v":""},{"$f":"IF(B1860=\"\",\"\",TEXT(B1860, \"DD/MM/YYYY HH:MM:SS\"))","v":""}]
[null,null,null,null,null,null,null,{"$f":"IF(Hobo!A1861<>\"\",Hobo!A1861&configuracion!$C$10,\"\")","v":""},""]
[null,null,null,null,null,null,null,{"$f":"IF(Hobo!A1862<>\"\",Hobo!A1862&configuracion!$C$10,\"\")","v":""},""]
[null,null,null,null,null,null,null,{"$f":"IF(Hobo!A1863<>\"\",Hobo!A1863&configuracion!$C$10,\"\")","v":""},""]
[null,null,null,null,null,null,null,{"$f":"IF(Hobo!A1864<>\"\",Hobo!A1864&configuracion!$C$10,\"\")","v":""},""]
[null,null,null,null,null,null,null,{"$f":"IF(Hobo!A1865<>\"\",Hobo!A1865&configuracion!$C$10,\"\")","v":""},""]
[null,null,null,null,null,null,null,{"$f":"IF(Hobo!A1866<>\"\",Hobo!A1866&configuracion!$C$10,\"\")","v":""},""]
[null,null,null,null,null,null,null,{"$f":"IF(Hobo!A1867<>\"\",Hobo!A1867&configuracion!$C$10,\"\")","v":""},""]
[null,null,null,null,null,null,null,{"$f":"IF(Hobo!A1868<>\"\",Hobo!A1868&configuracion!$C$10,\"\")","v":""},""]
[null,null,null,null,null,null,null,{"$f":"IF(Hobo!A1869<>\"\",Hobo!A1869&configuracion!$C$10,\"\")","v":""},""]
[null,null,null,null,null,null,null,{"$f":"IF(Hobo!A1870<>\"\",Hobo!A1870&configuracion!$C$10,\"\")","v":""},""]
[null,null,null,null,null,null,null,{"$f":"IF(Hobo!A1871<>\"\",Hobo!A1871&configuracion!$C$10,\"\")","v":""},""]
[null,null,null,null,null,null,null,{"$f":"IF(Hobo!A1872<>\"\",Hobo!A1872&configuracion!$C$10,\"\")","v":""},""]
[null,null,null,null,null,null,null,{"$f":"IF(Hobo!A1873<>\"\",Hobo!A1873&configuracion!$C$10,\"\")","v":""},""]
[null,null,null,null,null,null,null,{"$f":"IF(Hobo!A1874<>\"\",Hobo!A1874&configuracion!$C$10,\"\")","v":""},""]
[null,null,null,null,null,null,null,{"$f":"IF(Hobo!A1875<>\"\",Hobo!A1875&configuracion!$C$10,\"\")","v":""},""]
[null,null,null,null,null,null,null,{"$f":"IF(Hobo!A1876<>\"\",Hobo!A1876&configuracion!$C$10,\"\")","v":""},""]
[null,null,null,null,null,null,null,{"$f":"IF(Hobo!A1877<>\"\",Hobo!A1877&configuracion!$C$10,\"\")","v":""},""]
[null,null,null,null,null,null,null,{"$f":"IF(Hobo!A1878<>\"\",Hobo!A1878&configuracion!$C$10,\"\")","v":""},""]
[null,null,null,null,null,null,null,{"$f":"IF(Hobo!A1879<>\"\",Hobo!A1879&configuracion!$C$10,\"\")","v":""},""]
[null,null,null,null,null,null,null,{"$f":"IF(Hobo!A1880<>\"\",Hobo!A1880&configuracion!$C$10,\"\")","v":""},""]
[null,null,null,null,null,null,null,{"$f":"IF(Hobo!A1881<>\"\",Hobo!A1881&configuracion!$C$10,\"\")","v":""},""]
[null,null,null,null,null,null,null,{"$f":"IF(Hobo!A1882<>\"\",Hobo!A1882&configuracion!$C$10,\"\")","v":""},""]
[null,null,null,null,null,null,null,{"$f":"IF(Hobo!A1883<>\"\",Hobo!A1883&configuracion!$C$10,\"\")","v":""},""]
[null,null,null,null,null,null,null,{"$f":"IF(Hobo!A1884<>\"\",Hobo!A1884&configuracion!$C$10,\"\")","v":""},""]
[null,null,null,null,null,null,null,{"$f":"IF(Hobo!A1885<>\"\",Hobo!A1885&configuracion!$C$10,\"\")","v":""},""]
[null,null,null,null,null,null,null,{"$f":"IF(Hobo!A1886<>\"\",Hobo!A1886&configuracion!$C$10,\"\")","v":""},""]
[null,null,null,null,null,null,null,{"$f":"IF(Hobo!A1887<>\"\",Hobo!A1887&configuracion!$C$10,\"\")","v":""},""]
[null,null,null,null,null,null,null,{"$f":"IF(Hobo!A1888<>\"\",Hobo!A1888&configuracion!$C$10,\"\")","v":""},""]
[null,null,null,null,null,null,null,{"$f":"IF(Hobo!A1889<>\"\",Hobo!A1889&configuracion!$C$10,\"\")","v":""},""]
[null,null,null,null,null,null,null,{"$f":"IF(Hobo!A1890<>\"\",Hobo!A1890&configuracion!$C$10,\"\")","v":""},""]
[null,null,null,null,null,null,null,{"$f":"IF(Hobo!A1891<>\"\",Hobo!A1891&configuracion!$C$10,\"\")","v":""},""]
[null,null,null,null,null,null,null,{"$f":"IF(Hobo!A1892<>\"\",Hobo!A1892&configuracion!$C$10,\"\")","v":""},""]
[null,null,null,null,null,null,null,{"$f":"IF(Hobo!A1893<>\"\",Hobo!A1893&configuracion!$C$10,\"\")","v":""},""]
[null,null,null,null,null,null,null,{"$f":"IF(Hobo!A1894<>\"\",Hobo!A1894&configuracion!$C$10,\"\")","v":""},""]
[null,null,null,null,null,null,null,{"$f":"IF(Hobo!A1895<>\"\",Hobo!A1895&configuracion!$C$10,\"\")","v":""},""]
[null,null,null,null,null,null,null,{"$f":"IF(Hobo!A1896<>\"\",Hobo!A1896&configuracion!$C$10,\"\")","v":""},""]
[null,null,null,null,null,null,null,{"$f":"IF(Hobo!A1897<>\"\",Hobo!A1897&configuracion!$C$10,\"\")","v":""},""]
[null,null,null,null,null,null,null,{"$f":"IF(Hobo!A1898<>\"\",Hobo!A1898&configuracion!$C$10,\"\")","v":""},""]
[null,null,null,null,null,null,null,{"$f":"IF(Hobo!A1899<>\"\",Hobo!A1899&configuracion!$C$10,\"\")","v":""},""]
[null,null,null,null,null,null,null,{"$f":"IF(Hobo!A1900<>\"\",Hobo!A1900&configuracion!$C$10,\"\")","v":""},""]
[null,null,null,null,null,null,null,{"$f":"IF(Hobo!A1901<>\"\",Hobo!A1901&configuracion!$C$10,\"\")","v":""},""]
[null,null,null,null,null,null,null,{"$f":"IF(Hobo!A1902<>\"\",Hobo!A1902&configuracion!$C$10,\"\")","v":""},""]
[null,null,null,null,null,null,null,{"$f":"IF(Hobo!A1903<>\"\",Hobo!A1903&configuracion!$C$10,\"\")","v":""},""]
[null,null,null,null,null,null,null,{"$f":"IF(Hobo!A1904<>\"\",Hobo!A1904&configuracion!$C$10,\"\")","v":""},""]
[null,null,null,null,null,null,null,{"$f":"IF(Hobo!A1905<>\"\",Hobo!A1905&configuracion!$C$10,\"\")","v":""},""]
[null,null,null,null,null,null,null,{"$f":"IF(Hobo!A1906<>\"\",Hobo!A1906&configuracion!$C$10,\"\")","v":""},""]
[null,null,null,null,null,null,null,{"$f":"IF(Hobo!A1907<>\"\",Hobo!A1907&configuracion!$C$10,\"\")","v":""},""]
[null,null,null,null,null,null,null,{"$f":"IF(Hobo!A1908<>\"\",Hobo!A1908&configuracion!$C$10,\"\")","v":""},""]
[null,null,null,null,null,null,null,{"$f":"IF(Hobo!A1909<>\"\",Hobo!A1909&configuracion!$C$10,\"\")","v":""},""]
[null,null,null,null,null,null,null,{"$f":"IF(Hobo!A1910<>\"\",Hobo!A1910&configuracion!$C$10,\"\")","v":""},""]
[null,null,null,null,null,null,null,{"$f":"IF(Hobo!A1911<>\"\",Hobo!A1911&configuracion!$C$10,\"\")","v":""},""]
[null,null,null,null,null,null,null,{"$f":"IF(Hobo!A1912<>\"\",Hobo!A1912&configuracion!$C$10,\"\")","v":""},""]
[null,null,null,null,null,null,null,{"$f":"IF(Hobo!A1913<>\"\",Hobo!A1913&configuracion!$C$10,\"\")","v":""},""]
[null,null,null,null,null,null,null,{"$f":"IF(Hobo!A1914<>\"\",Hobo!A1914&configuracion!$C$10,\"\")","v":""},""]
[null,null,null,null,null,null,null,{"$f":"IF(Hobo!A1915<>\"\",Hobo!A1915&configuracion!$C$10,\"\")","v":""},""]
[null,null,null,null,null,null,null,{"$f":"IF(Hobo!A1916<>\"\",Hobo!A1916&configuracion!$C$10,\"\")","v":""},""]
[null,null,null,null,null,null,null,{"$f":"IF(Hobo!A1917<>\"\",Hobo!A1917&configuracion!$C$10,\"\")","v":""},""]
[null,null,null,null,null,null,null,{"$f":"IF(Hobo!A1918<>\"\",Hobo!A1918&configuracion!$C$10,\"\")","v":""},""]
[null,null,null,null,null,null,null,{"$f":"IF(Hobo!A1919<>\"\",Hobo!A1919&configuracion!$C$10,\"\")","v":""},""]
[null,null,null,null,null,null,null,{"$f":"IF(Hobo!A1920<>\"\",Hobo!A1920&configuracion!$C$10,\"\")","v":""},""]
[null,null,null,null,null,null,null,{"$f":"IF(Hobo!A1921<>\"\",Hobo!A1921&configuracion!$C$10,\"\")","v":""},""]
[null,null,null,null,null,null,null,{"$f":"IF(Hobo!A1922<>\"\",Hobo!A1922&configuracion!$C$10,\"\")","v":""},""]
[null,null,null,null,null,null,null,{"$f":"IF(Hobo!A1923<>\"\",Hobo!A1923&configuracion!$C$10,\"\")","v":""},""]
[null,null,null,null,null,null,null,{"$f":"IF(Hobo!A1924<>\"\",Hobo!A1924&configuracion!$C$10,\"\")","v":""},{"$f":"IF(B1924=\"\",\"\",TEXT(B1924, \"DD/MM/YYYY HH:MM:SS\"))","v":""}]
[null,null,null,null,null,null,null,{"$f":"IF(Hobo!A1925<>\"\",Hobo!A1925&configuracion!$C$10,\"\")","v":""},""]
[null,null,null,null,null,null,null,{"$f":"IF(Hobo!A1926<>\"\",Hobo!A1926&configuracion!$C$10,\"\")","v":""},""]
[null,null,null,null,null,null,null,{"$f":"IF(Hobo!A1927<>\"\",Hobo!A1927&configuracion!$C$10,\"\")","v":""},""]
[null,null,null,null,null,null,null,{"$f":"IF(Hobo!A1928<>\"\",Hobo!A1928&configuracion!$C$10,\"\")","v":""},""]
[null,null,null,null,null,null,null,{"$f":"IF(Hobo!A1929<>\"\",Hobo!A1929&configuracion!$C$10,\"\")","v":""},""]
[null,null,null,null,null,null,null,{"$f":"IF(Hobo!A1930<>\"\",Hobo!A1930&configuracion!$C$10,\"\")","v":""},""]
[null,null,null,null,null,null,null,{"$f":"IF(Hobo!A1931<>\"\",Hobo!A1931&configuracion!$C$10,\"\")","v":""},""]
[null,null,null,null,null,null,null,{"$f":"IF(Hobo!A1932<>\"\",Hobo!A1932&configuracion!$C$10,\"\")","v":""},""]
[null,null,null,null,null,null,null,{"$f":"IF(Hobo!A1933<>\"\",Hobo!A1933&configuracion!$C$10,\"\")","v":""},""]
[null,null,null,null,null,null,null,{"$f":"IF(Hobo!A1934<>\"\",Hobo!A1934&configuracion!$C$10,\"\")","v":""},""]
[null,null,null,null,null,null,null,{"$f":"IF(Hobo!A1935<>\"\",Hobo!A1935&configuracion!$C$10,\"\")","v":""},""]
[null,null,null,null,null,null,null,{"$f":"IF(Hobo!A1936<>\"\",Hobo!A1936&configuracion!$C$10,\"\")","v":""},""]
[null,null,null,null,null,null,null,{"$f":"IF(Hobo!A1937<>\"\",Hobo!A1937&configuracion!$C$10,\"\")","v":""},""]
[null,null,null,null,null,null,null,{"$f":"IF(Hobo!A1938<>\"\",Hobo!A1938&configuracion!$C$10,\"\")","v":""},""]
[null,null,null,null,null,null,null,{"$f":"IF(Hobo!A1939<>\"\",Hobo!A1939&configuracion!$C$10,\"\")","v":""},""]
[null,null,null,null,null,null,null,{"$f":"IF(Hobo!A1940<>\"\",Hobo!A1940&configuracion!$C$10,\"\")","v":""},""]
[null,null,null,null,null,null,null,{"$f":"IF(Hobo!A1941<>\"\",Hobo!A1941&configuracion!$C$10,\"\")","v":""},""]
[null,null,null,null,null,null,null,{"$f":"IF(Hobo!A1942<>\"\",Hobo!A1942&configuracion!$C$10,\"\")","v":""},""]
[null,null,null,null,null,null,null,{"$f":"IF(Hobo!A1943<>\"\",Hobo!A1943&configuracion!$C$10,\"\")","v":""},""]
[null,null,null,null,null,null,null,{"$f":"IF(Hobo!A1944<>\"\",Hobo!A1944&configuracion!$C$10,\"\")","v":""},""]
[null,null,null,null,null,null,null,{"$f":"IF(Hobo!A1945<>\"\",Hobo!A1945&configuracion!$C$10,\"\")","v":""},""]
[null,null,null,null,null,null,null,{"$f":"IF(Hobo!A1946<>\"\",Hobo!A1946&configuracion!$C$10,\"\")","v":""},""]
[null,null,null,null,null,null,null,{"$f":"IF(Hobo!A1947<>\"\",Hobo!A1947&configuracion!$C$10,\"\")","v":""},""]
[null,null,null,null,null,null,null,{"$f":"IF(Hobo!A1948<>\"\",Hobo!A1948&configuracion!$C$10,\"\")","v":""},""]
[null,null,null,null,null,null,null,{"$f":"IF(Hobo!A1949<>\"\",Hobo!A1949&configuracion!$C$10,\"\")","v":""},""]
[null,null,null,null,null,null,null,{"$f":"IF(Hobo!A1950<>\"\",Hobo!A1950&configuracion!$C$10,\"\")","v":""},""]
[null,null,null,null,null,null,null,{"$f":"IF(Hobo!A1951<>\"\",Hobo!A1951&configuracion!$C$10,\"\")","v":""},""]
[null,null,null,null,null,null,null,{"$f":"IF(Hobo!A1952<>\"\",Hobo!A1952&configuracion!$C$10,\"\")","v":""},""]
[null,null,null,null,null,null,null,{"$f":"IF(Hobo!A1953<>\"\",Hobo!A1953&configuracion!$C$10,\"\")","v":""},""]
[null,null,null,null,null,null,null,{"$f":"IF(Hobo!A1954<>\"\",Hobo!A1954&configuracion!$C$10,\"\")","v":""},""]
[null,null,null,null,null,null,null,{"$f":"IF(Hobo!A1955<>\"\",Hobo!A1955&configuracion!$C$10,\"\")","v":""},""]
[null,null,null,null,null,null,null,{"$f":"IF(Hobo!A1956<>\"\",Hobo!A1956&configuracion!$C$10,\"\")","v":""},""]
[null,null,null,null,null,null,null,{"$f":"IF(Hobo!A1957<>\"\",Hobo!A1957&configuracion!$C$10,\"\")","v":""},""]
[null,null,null,null,null,null,null,{"$f":"IF(Hobo!A1958<>\"\",Hobo!A1958&configuracion!$C$10,\"\")","v":""},""]
[null,null,null,null,null,null,null,{"$f":"IF(Hobo!A1959<>\"\",Hobo!A1959&configuracion!$C$10,\"\")","v":""},""]
[null,null,null,null,null,null,null,{"$f":"IF(Hobo!A1960<>\"\",Hobo!A1960&configuracion!$C$10,\"\")","v":""},""]
[null,null,null,null,null,null,null,{"$f":"IF(Hobo!A1961<>\"\",Hobo!A1961&configuracion!$C$10,\"\")","v":""},""]
[null,null,null,null,null,null,null,{"$f":"IF(Hobo!A1962<>\"\",Hobo!A1962&configuracion!$C$10,\"\")","v":""},""]
[null,null,null,null,null,null,null,{"$f":"IF(Hobo!A1963<>\"\",Hobo!A1963&configuracion!$C$10,\"\")","v":""},""]
[null,null,null,null,null,null,null,{"$f":"IF(Hobo!A1964<>\"\",Hobo!A1964&configuracion!$C$10,\"\")","v":""},""]
[null,null,null,null,null,null,null,{"$f":"IF(Hobo!A1965<>\"\",Hobo!A1965&configuracion!$C$10,\"\")","v":""},""]
[null,null,null,null,null,null,null,{"$f":"IF(Hobo!A1966<>\"\",Hobo!A1966&configuracion!$C$10,\"\")","v":""},""]
[null,null,null,null,null,null,null,{"$f":"IF(Hobo!A1967<>\"\",Hobo!A1967&configuracion!$C$10,\"\")","v":""},""]
[null,null,null,null,null,null,null,{"$f":"IF(Hobo!A1968<>\"\",Hobo!A1968&configuracion!$C$10,\"\")","v":""},""]
[null,null,null,null,null,null,null,{"$f":"IF(Hobo!A1969<>\"\",Hobo!A1969&configuracion!$C$10,\"\")","v":""},""]
[null,null,null,null,null,null,null,{"$f":"IF(Hobo!A1970<>\"\",Hobo!A1970&configuracion!$C$10,\"\")","v":""},""]
[null,null,null,null,null,null,null,{"$f":"IF(Hobo!A1971<>\"\",Hobo!A1971&configuracion!$C$10,\"\")","v":""},""]
[null,null,null,null,null,null,null,{"$f":"IF(Hobo!A1972<>\"\",Hobo!A1972&configuracion!$C$10,\"\")","v":""},""]
[null,null,null,null,null,null,null,{"$f":"IF(Hobo!A1973<>\"\",Hobo!A1973&configuracion!$C$10,\"\")","v":""},""]
[null,null,null,null,null,null,null,{"$f":"IF(Hobo!A1974<>\"\",Hobo!A1974&configuracion!$C$10,\"\")","v":""},""]
[null,null,null,null,null,null,null,{"$f":"IF(Hobo!A1975<>\"\",Hobo!A1975&configuracion!$C$10,\"\")","v":""},""]
[null,null,null,null,null,null,null,{"$f":"IF(Hobo!A1976<>\"\",Hobo!A1976&configuracion!$C$10,\"\")","v":""},""]
[null,null,null,null,null,null,null,{"$f":"IF(Hobo!A1977<>\"\",Hobo!A1977&configuracion!$C$10,\"\")","v":""},""]
[null,null,null,null,null,null,null,{"$f":"IF(Hobo!A1978<>\"\",Hobo!A1978&configuracion!$C$10,\"\")","v":""},""]
[null,null,null,null,null,null,null,{"$f":"IF(Hobo!A1979<>\"\",Hobo!A1979&configuracion!$C$10,\"\")","v":""},""]
[null,null,null,null,null,null,null,{"$f":"IF(Hobo!A1980<>\"\",Hobo!A1980&configuracion!$C$10,\"\")","v":""},""]
[null,null,null,null,null,null,null,{"$f":"IF(Hobo!A1981<>\"\",Hobo!A1981&configuracion!$C$10,\"\")","v":""},""]
[null,null,null,null,null,null,null,{"$f":"IF(Hobo!A1982<>\"\",Hobo!A1982&configuracion!$C$10,\"\")","v":""},""]
[null,null,null,null,null,null,null,{"$f":"IF(Hobo!A1983<>\"\",Hobo!A1983&configuracion!$C$10,\"\")","v":""},""]
[null,null,null,null,null,null,null,{"$f":"IF(Hobo!A1984<>\"\",Hobo!A1984&configuracion!$C$10,\"\")","v":""},""]
[null,null,null,null,null,null,null,{"$f":"IF(Hobo!A1985<>\"\",Hobo!A1985&configuracion!$C$10,\"\")","v":""},""]
[null,null,null,null,null,null,null,{"$f":"IF(Hobo!A1986<>\"\",Hobo!A1986&configuracion!$C$10,\"\")","v":""},""]
[null,null,null,null,null,null,null,{"$f":"IF(Hobo!A1987<>\"\",Hobo!A1987&configuracion!$C$10,\"\")","v":""},""]
[null,null,null,null,null,null,null,{"$f":"IF(Hobo!A1988<>\"\",Hobo!A1988&configuracion!$C$10,\"\")","v":""},{"$f":"IF(B1988=\"\",\"\",TEXT(B1988, \"DD/MM/YYYY HH:MM:SS\"))","v":""}]
[null,null,null,null,null,null,null,{"$f":"IF(Hobo!A1989<>\"\",Hobo!A1989&configuracion!$C$10,\"\")","v":""},""]
[null,null,null,null,null,null,null,{"$f":"IF(Hobo!A1990<>\"\",Hobo!A1990&configuracion!$C$10,\"\")","v":""},""]
[null,null,null,null,null,null,null,{"$f":"IF(Hobo!A1991<>\"\",Hobo!A1991&configuracion!$C$10,\"\")","v":""},""]
[null,null,null,null,null,null,null,{"$f":"IF(Hobo!A1992<>\"\",Hobo!A1992&configuracion!$C$10,\"\")","v":""},""]
[null,null,null,null,null,null,null,{"$f":"IF(Hobo!A1993<>\"\",Hobo!A1993&configuracion!$C$10,\"\")","v":""},""]
[null,null,null,null,null,null,null,{"$f":"IF(Hobo!A1994<>\"\",Hobo!A1994&configuracion!$C$10,\"\")","v":""},""]
[null,null,null,null,null,null,null,{"$f":"IF(Hobo!A1995<>\"\",Hobo!A1995&configuracion!$C$10,\"\")","v":""},""]
[null,null,null,null,null,null,null,{"$f":"IF(Hobo!A1996<>\"\",Hobo!A1996&configuracion!$C$10,\"\")","v":""},""]
[null,null,null,null,null,null,null,{"$f":"IF(Hobo!A1997<>\"\",Hobo!A1997&configuracion!$C$10,\"\")","v":""},""]
[null,null,null,null,null,null,null,{"$f":"IF(Hobo!A1998<>\"\",Hobo!A1998&configuracion!$C$10,\"\")","v":""},""]
[null,null,null,null,null,null,null,{"$f":"IF(Hobo!A1999<>\"\",Hobo!A1999&configuracion!$C$10,\"\")","v":""},""]
[null,null,null,null,null,null,null,{"$f":"IF(Hobo!A2000<>\"\",Hobo!A2000&configuracion!$C$10,\"\")","v":""},""]
[null,null,null,null,null,null,null,{"$f":"IF(Hobo!A2004<>\"\",Hobo!A2004&configuracion!$C$10,\"\")","v":""},""]
[null,null,null,null,null,null,null,{"$f":"IF(Hobo!A2011<>\"\",Hobo!A2011&configuracion!$C$10,\"\")","v":""},""]
[null,null,null,null,null,null,null,{"$f":"IF(Hobo!A2014<>\"\",Hobo!A2014&configuracion!$C$10,\"\")","v":""},""]
[null,null,null,null,null,null,null,{"$f":"IF(Hobo!A2020<>\"\",Hobo!A2020&configuracion!$C$10,\"\")","v":""},""]
[null,null,null,null,null,null,null,{"$f":"IF(Hobo!A2031<>\"\",Hobo!A2031&configuracion!$C$10,\"\")","v":""},""]
[null,null,null,null,null,null,null,{"$f":"IF(Hobo!A2034<>\"\",Hobo!A2034&configuracion!$C$10,\"\")","v":""},""]
[null,null,null,null,null,null,null,{"$f":"IF(Hobo!A2041<>\"\",Hobo!A2041&configuracion!$C$10,\"\")","v":""},""]
[null,null,null,null,null,null,null,{"$f":"IF(Hobo!A2046<>\"\",Hobo!A2046&configuracion!$C$10,\"\")","v":""},""]
[null,null,null,null,null,null,null,{"$f":"IF(Hobo!A2052<>\"\",Hobo!A2052&configuracion!$C$10,\"\")","v":""},{"$f":"IF(B2052=\"\",\"\",TEXT(B2052, \"DD/MM/YYYY HH:MM:SS\"))","v":""}]
[null,null,null,null,null,null,null,{"$f":"IF(Hobo!A2061<>\"\",Hobo!A2061&configuracion!$C$10,\"\")","v":""},""]
[null,null,null,null,null,null,null,{"$f":"IF(Hobo!A2064<>\"\",Hobo!A2064&configuracion!$C$10,\"\")","v":""},""]
[null,null,null,null,null,null,null,{"$f":"IF(Hobo!A2069<>\"\",Hobo!A2069&configuracion!$C$10,\"\")","v":""},""]
[null,null,null,null,null,null,null,{"$f":"IF(Hobo!A2081<>\"\",Hobo!A2081&configuracion!$C$10,\"\")","v":""},""]
[null,null,null,null,null,null,null,{"$f":"IF(Hobo!A2084<>\"\",Hobo!A2084&configuracion!$C$10,\"\")","v":""},""]
[null,null,null,null,null,null,null,{"$f":"IF(Hobo!A2091<>\"\",Hobo!A2091&configuracion!$C$10,\"\")","v":""},""]
[null,null,null,null,null,null,null,{"$f":"IF(Hobo!A2095<>\"\",Hobo!A2095&configuracion!$C$10,\"\")","v":""},""]
[null,null,null,null,null,null,null,{"$f":"IF(Hobo!A2102<>\"\",Hobo!A2102&configuracion!$C$10,\"\")","v":""},""]
[null,null,null,null,null,null,null,{"$f":"IF(Hobo!A2111<>\"\",Hobo!A2111&configuracion!$C$10,\"\")","v":""},""]
[null,null,null,null,null,null,null,{"$f":"IF(Hobo!A2114<>\"\",Hobo!A2114&configuracion!$C$10,\"\")","v":""},""]
[null,null,null,null,null,null,null,{"$f":"IF(Hobo!A2125<>\"\",Hobo!A2125&configuracion!$C$10,\"\")","v":""},""]
[null,null,null,null,null,null,null,{"$f":"IF(Hobo!A2131<>\"\",Hobo!A2131&configuracion!$C$10,\"\")","v":""},""]
[null,null,null,null,null,null,null,{"$f":"IF(Hobo!A2132<>\"\",Hobo!A2132&configuracion!$C$10,\"\")","v":""},""]
[null,null,null,null,null,null,null,{"$f":"IF(Hobo!A2141<>\"\",Hobo!A2141&configuracion!$C$10,\"\")","v":""},""]
[null,null,null,null,null,null,null,{"$f":"IF(Hobo!A2144<>\"\",Hobo!A2144&configuracion!$C$10,\"\")","v":""},""]
[null,null,null,null,null,null,null,{"$f":"IF(Hobo!A2152<>\"\",Hobo!A2152&configuracion!$C$10,\"\")","v":""},""]
[null,null,null,null,null,null,null,{"$f":"IF(Hobo!A2161<>\"\",Hobo!A2161&configuracion!$C$10,\"\")","v":""},""]
[null,null,null,null,null,null,null,{"$f":"IF(Hobo!A2164<>\"\",Hobo!A2164&configuracion!$C$10,\"\")","v":""},""]
[null,null,null,null,null,null,null,{"$f":"IF(Hobo!A2174<>\"\",Hobo!A2174&configuracion!$C$10,\"\")","v":""},""]
[null,null,null,null,null,null,null,{"$f":"IF(Hobo!A2181<>\"\",Hobo!A2181&configuracion!$C$10,\"\")","v":""},""]
[null,null,null,null,null,null,null,{"$f":"IF(Hobo!A2182<>\"\",Hobo!A2182&configuracion!$C$10,\"\")","v":""},""]
[null,null,null,null,null,null,null,{"$f":"IF(Hobo!A2191<>\"\",Hobo!A2191&configuracion!$C$10,\"\")","v":""},""]
[null,null,null,null,null,null,null,{"$f":"IF(Hobo!A2200<>\"\",Hobo!A2200&configuracion!$C$10,\"\")","v":""},""]
[null,null,null,null,null,null,null,{"$f":"IF(Hobo!A2202<>\"\",Hobo!A2202&configuracion!$C$10,\"\")","v":""},""]
[null,null,null,null,null,null,null,{"$f":"IF(Hobo!A2211<>\"\",Hobo!A2211&configuracion!$C$10,\"\")","v":""},""]
[null,null,null,null,null,null,null,{"$f":"IF(Hobo!A2214<>\"\",Hobo!A2214&configuracion!$C$10,\"\")","v":""},""]
[null,null,null,null,null,null,null,{"$f":"IF(Hobo!A2223<>\"\",Hobo!A2223&configuracion!$C$10,\"\")","v":""},""]
[null,null,null,null,null,null,null,{"$f":"IF(Hobo!A2231<>\"\",Hobo!A2231&configuracion!$C$10,\"\")","v":""},""]
[null,null,null,null,null,null,null,{"$f":"IF(Hobo!A2232<>\"\",Hobo!A2232&configuracion!$C$10,\"\")","v":""},""]
[null,null,null,null,null,null,null,{"$f":"IF(Hobo!A2241<>\"\",Hobo!A2241&configuracion!$C$10,\"\")","v":""},""]
[null,null,null,null,null,null,null,{"$f":"IF(Hobo!A2249<>\"\",Hobo!A2249&configuracion!$C$10,\"\")","v":""},""]
[null,null,null,null,null,null,null,{"$f":"IF(Hobo!A2252<>\"\",Hobo!A2252&configuracion!$C$10,\"\")","v":""},""]
[null,null,null,null,null,null,null,{"$f":"IF(Hobo!A2261<>\"\",Hobo!A2261&configuracion!$C$10,\"\")","v":""},""]
[null,null,null,null,null,null,null,{"$f":"IF(Hobo!A2268<>\"\",Hobo!A2268&configuracion!$C$10,\"\")","v":""},""]
[null,null,null,null,null,null,null,{"$f":"IF(Hobo!A2272<>\"\",Hobo!A2272&configuracion!$C$10,\"\")","v":""},""]
[null,null,null,null,null,null,null,{"$f":"IF(Hobo!A2281<>\"\",Hobo!A2281&configuracion!$C$10,\"\")","v":""},""]
[null,null,null,null,null,null,null,{"$f":"IF(Hobo!A2282<>\"\",Hobo!A2282&configuracion!$C$10,\"\")","v":""},""]
[null,null,null,null,null,null,null,{"$f":"IF(Hobo!A2291<>\"\",Hobo!A2291&configuracion!$C$10,\"\")","v":""},""]
[null,null,null,null,null,null,null,{"$f":"IF(Hobo!A2298<>\"\",Hobo!A2298&configuracion!$C$10,\"\")","v":""},""]
[null,null,null,null,null,null,null,{"$f":"IF(Hobo!A2302<>\"\",Hobo!A2302&configuracion!$C$10,\"\")","v":""},""]
[null,null,null,null,null,null,null,{"$f":"IF(Hobo!A2311<>\"\",Hobo!A2311&configuracion!$C$10,\"\")","v":""},""]
[null,null,null,null,null,null,null,{"$f":"IF(Hobo!A2318<>\"\",Hobo!A2318&configuracion!$C$10,\"\")","v":""},""]
[null,null,null,null,null,null,null,{"$f":"IF(Hobo!A2321<>\"\",Hobo!A2321&configuracion!$C$10,\"\")","v":""},""]
[null,null,null,null,null,null,null,{"$f":"IF(Hobo!A2331<>\"\",Hobo!A2331&configuracion!$C$10,\"\")","v":""},""]
[null,null,null,null,null,null,null,{"$f":"IF(Hobo!A2332<>\"\",Hobo!A2332&configuracion!$C$10,\"\")","v":""},""]
[null,null,null,null,null,null,null,{"$f":"IF(Hobo!A2341<>\"\",Hobo!A2341&configuracion!$C$10,\"\")","v":""},""]
[null,null,null,null,null,null,null,{"$f":"IF(Hobo!A2344<>\"\",Hobo!A2344&configuracion!$C$10,\"\")","v":""},""]
[null,null,null,null,null,null,null,{"$f":"IF(Hobo!A2352<>\"\",Hobo!A2352&configuracion!$C$10,\"\")","v":""},""]
[null,null,null,null,null,null,null,{"$f":"IF(Hobo!A2361<>\"\",Hobo!A2361&configuracion!$C$10,\"\")","v":""},""]
[null,null,null,null,null,null,null,{"$f":"IF(Hobo!A2368<>\"\",Hobo!A2368&configuracion!$C$10,\"\")","v":""},""]
[null,null,null,null,null,null,null,{"$f":"IF(Hobo!A2370<>\"\",Hobo!A2370&configuracion!$C$10,\"\")","v":""},""]
[null,null,null,null,null,null,null,{"$f":"IF(Hobo!A2381<>\"\",Hobo!A2381&configuracion!$C$10,\"\")","v":""},""]
[null,null,null,null,null,null,null,{"$f":"IF(Hobo!A2382<>\"\",Hobo!A2382&configuracion!$C$10,\"\")","v":""},""]
[null,null,null,null,null,null,null,{"$f":"IF(Hobo!A2391<>\"\",Hobo!A2391&configuracion!$C$10,\"\")","v":""},""]
[null,null,null,null,null,null,null,{"$f":"IF(Hobo!A2400<>\"\",Hobo!A2400&configuracion!$C$10,\"\")","v":""},""]
[null,null,null,null,null,null,null,{"$f":"IF(Hobo!A2402<>\"\",Hobo!A2402&configuracion!$C$10,\"\")","v":""},""]
[null,null,null,null,null,null,null,{"$f":"IF(Hobo!A2411<>\"\",Hobo!A2411&configuracion!$C$10,\"\")","v":""},""]
[null,null,null,null,null,null,null,{"$f":"IF(Hobo!A2418<>\"\",Hobo!A2418&configuracion!$C$10,\"\")","v":""},""]
[null,null,null,null,null,null,null,{"$f":"IF(Hobo!A2419<>\"\",Hobo!A2419&configuracion!$C$10,\"\")","v":""},""]
[null,null,null,null,null,null,null,{"$f":"IF(Hobo!A2431<>\"\",Hobo!A2431&configuracion!$C$10,\"\")","v":""},""]
[null,null,null,null,null,null,null,{"$f":"IF(Hobo!A2432<>\"\",Hobo!A2432&configuracion!$C$10,\"\")","v":""},""]
[null,null,null,null,null,null,null,{"$f":"IF(Hobo!A2441<>\"\",Hobo!A2441&configuracion!$C$10,\"\")","v":""},""]
[null,null,null,null,null,null,null,{"$f":"IF(Hobo!A2449<>\"\",Hobo!A2449&configuracion!$C$10,\"\")","v":""},""]
[null,null,null,null,null,null,null,{"$f":"IF(Hobo!A2452<>\"\",Hobo!A2452&configuracion!$C$10,\"\")","v":""},""]
[null,null,null,null,null,null,null,{"$f":"IF(Hobo!A2461<>\"\",Hobo!A2461&configuracion!$C$10,\"\")","v":""},""]
[null,null,null,null,null,null,null,{"$f":"IF(Hobo!A2468<>\"\",Hobo!A2468&configuracion!$C$10,\"\")","v":""},""]
[null,null,null,null,null,null,null,{"$f":"IF(Hobo!A2475<>\"\",Hobo!A2475&configuracion!$C$10,\"\")","v":""},""]
[null,null,null,null,null,null,null,{"$f":"IF(Hobo!A2479<>\"\",Hobo!A2479&configuracion!$C$10,\"\")","v":""},""]
[null,null,null,null,null,null,null,{"$f":"IF(Hobo!A2482<>\"\",Hobo!A2482&configuracion!$C$10,\"\")","v":""},""]
[null,null,null,null,null,null,null,{"$f":"IF(Hobo!A2491<>\"\",Hobo!A2491&configuracion!$C$10,\"\")","v":""},""]
[null,null,null,null,null,null,null,{"$f":"IF(Hobo!A2498<>\"\",Hobo!A2498&configuracion!$C$10,\"\")","v":""},""]
[null,null,null,null,null,null,null,{"$f":"IF(Hobo!A2502<>\"\",Hobo!A2502&configuracion!$C$10,\"\")","v":""},""]
[null,null,null,null,null,null,null,{"$f":"IF(Hobo!A2511<>\"\",Hobo!A2511&configuracion!$C$10,\"\")","v":""},""]
[null,null,null,null,null,null,null,{"$f":"IF(Hobo!A2518<>\"\",Hobo!A2518&configuracion!$C$10,\"\")","v":""},""]
[null,null,null,null,null,null,null,{"$f":"IF(Hobo!A2524<>\"\",Hobo!A2524&configuracion!$C$10,\"\")","v":""},""]
[null,null,null,null,null,null,null,{"$f":"IF(Hobo!A2529<>\"\",Hobo!A2529&configuracion!$C$10,\"\")","v":""},""]
[null,null,null,null,null,null,null,{"$f":"IF(Hobo!A2532<>\"\",Hobo!A2532&configuracion!$C$10,\"\")","v":""},""]
[null,null,null,null,null,null,null,{"$f":"IF(Hobo!A2541<>\"\",Hobo!A2541&configuracion!$C$10,\"\")","v":""},""]
[null,null,null,null,null,null,null,{"$f":"IF(Hobo!A2547<>\"\",Hobo!A2547&configuracion!$C$10,\"\")","v":""},""]
[null,null,null,null,null,null,null,{"$f":"IF(Hobo!A2552<>\"\",Hobo!A2552&configuracion!$C$10,\"\")","v":""},""]
[null,null,null,null,null,null,null,{"$f":"IF(Hobo!A2561<>\"\",Hobo!A2561&configuracion!$C$10,\"\")","v":""},""]
[null,null,null,null,null,null,null,{"$f":"IF(Hobo!A2568<>\"\",Hobo!A2568&configuracion!$C$10,\"\")","v":""},""]
[null,null,null,null,null,null,null,{"$f":"IF(Hobo!A2573<>\"\",Hobo!A2573&configuracion!$C$10,\"\")","v":""},""]
[null,null,null,null,null,null,null,{"$f":"IF(Hobo!A2579<>\"\",Hobo!A2579&configuracion!$C$10,\"\")","v":""},""]
[null,null,null,null,null,null,null,{"$f":"IF(Hobo!A2582<>\"\",Hobo!A2582&configuracion!$C$10,\"\")","v":""},""]
[null,null,null,null,null,null,null,{"$f":"IF(Hobo!A2591<>\"\",Hobo!A2591&configuracion!$C$10,\"\")","v":""},""]
[null,null,null,null,null,null,null,{"$f":"IF(Hobo!A2596<>\"\",Hobo!A2596&configuracion!$C$10,\"\")","v":""},""]
[null,null,null,null,null,null,null,{"$f":"IF(Hobo!A2602<>\"\",Hobo!A2602&configuracion!$C$10,\"\")","v":""},""]
[null,null,null,null,null,null,null,{"$f":"IF(Hobo!A2609<>\"\",Hobo!A2609&configuracion!$C$10,\"\")","v":""},""]
[null,null,null,null,null,null,null,{"$f":"IF(Hobo!A2618<>\"\",Hobo!A2618&configuracion!$C$10,\"\")","v":""},""]
[null,null,null,null,null,null,null,{"$f":"IF(Hobo!A2622<>\"\",Hobo!A2622&configuracion!$C$10,\"\")","v":""},""]
[null,null,null,null,null,null,null,{"$f":"IF(Hobo!A2629<>\"\",Hobo!A2629&configuracion!$C$10,\"\")","v":""},""]
[null,null,null,null,null,null,null,{"$f":"IF(Hobo!A2632<>\"\",Hobo!A2632&configuracion!$C$10,\"\")","v":""},""]
[null,null,null,null,null,null,null,{"$f":"IF(Hobo!A2641<>\"\",Hobo!A2641&configuracion!$C$10,\"\")","v":""},""]
[null,null,null,null,null,null,null,{"$f":"IF(Hobo!A2645<>\"\",Hobo!A2645&configuracion!$C$10,\"\")","v":""},""]
[null,null,null,null,null,null,null,{"$f":"IF(Hobo!A2652<>\"\",Hobo!A2652&configuracion!$C$10,\"\")","v":""},""]
[null,null,null,null,null,null,null,{"$f":"IF(Hobo!A2659<>\"\",Hobo!A2659&configuracion!$C$10,\"\")","v":""},""]
[null,null,null,null,null,null,null,{"$f":"IF(Hobo!A2668<>\"\",Hobo!A2668&configuracion!$C$10,\"\")","v":""},""]
[null,null,null,null,null,null,null,{"$f":"IF(Hobo!A2671<>\"\",Hobo!A2671&configuracion!$C$10,\"\")","v":""},""]
[null,null,null,null,null,null,null,{"$f":"IF(Hobo!A2679<>\"\",Hobo!A2679&configuracion!$C$10,\"\")","v":""},""]
[null,null,null,null,null,null,null,{"$f":"IF(Hobo!A2682<>\"\",Hobo!A2682&configuracion!$C$10,\"\")","v":""},""]
[null,null,null,null,null,null,null,{"$f":"IF(Hobo!A2689<>\"\",Hobo!A2689&configuracion!$C$10,\"\")","v":""},""]
[null,null,null,null,null,null,null,{"$f":"IF(Hobo!A2694<>\"\",Hobo!A2694&configuracion!$C$10,\"\")","v":""},""]
[null,null,null,null,null,null,null,{"$f":"IF(Hobo!A2702<>\"\",Hobo!A2702&configuracion!$C$10,\"\")","v":""},""]
[null,null,null,null,null,null,null,{"$f":"IF(Hobo!A2709<>\"\",Hobo!A2709&configuracion!$C$10,\"\")","v":""},""]
[null,null,null,null,null,null,null,{"$f":"IF(Hobo!A2718<>\"\",Hobo!A2718&configuracion!$C$10,\"\")","v":""},""]
[null,null,null,null,null,null,null,{"$f":"IF(Hobo!A2720<>\"\",Hobo!A2720&configuracion!$C$10,\"\")","v":""},""]
[null,null,null,null,null,null,null,{"$f":"IF(Hobo!A2729<>\"\",Hobo!A2729&configuracion!$C$10,\"\")","v":""},""]
[null,null,null,null,null,null,null,{"$f":"IF(Hobo!A2732<>\"\",Hobo!A2732&configuracion!$C$10,\"\")","v":""},""]
[null,null,null,null,null,null,null,{"$f":"IF(Hobo!A2739<>\"\",Hobo!A2739&configuracion!$C$10,\"\")","v":""},""]
[null,null,null,null,null,null,null,{"$f":"IF(Hobo!A2750<>\"\",Hobo!A2750&configuracion!$C$10,\"\")","v":""},""]
[null,null,null,null,null,null,null,{"$f":"IF(Hobo!A2752<>\"\",Hobo!A2752&configuracion!$C$10,\"\")","v":""},""]
[null,null,null,null,null,null,null,{"$f":"IF(Hobo!A2759<>\"\",Hobo!A2759&configuracion!$C$10,\"\")","v":""},""]
[null,null,null,null,null,null,null,{"$f":"IF(Hobo!A2768<>\"\",Hobo!A2768&configuracion!$C$10,\"\")","v":""},""]
[null,null,null,null,null,null,null,{"$f":"IF(Hobo!A2769<>\"\",Hobo!A2769&configuracion!$C$10,\"\")","v":""},""]
[null,null,null,null,null,null,null,{"$f":"IF(Hobo!A2779<>\"\",Hobo!A2779&configuracion!$C$10,\"\")","v":""},""]
[null,null,null,null,null,null,null,{"$f":"IF(Hobo!A2782<>\"\",Hobo!A2782&configuracion!$C$10,\"\")","v":""},""]
[null,null,null,null,null,null,null,{"$f":"IF(Hobo!A2789<>\"\",Hobo!A2789&configuracion!$C$10,\"\")","v":""},""]
[null,null,null,null,null,null,null,{"$f":"IF(Hobo!A2799<>\"\",Hobo!A2799&configuracion!$C$10,\"\")","v":""},""]
[null,null,null,null,null,null,null,{"$f":"IF(Hobo!A2802<>\"\",Hobo!A2802&configuracion!$C$10,\"\")","v":""},""]
[null,null,null,null,null,null,null,{"$f":"IF(Hobo!A2809<>\"\",Hobo!A2809&configuracion!$C$10,\"\")","v":""},""]
[null,null,null,null,null,null,null,{"$f":"IF(Hobo!A2818<>\"\",Hobo!A2818&configuracion!$C$10,\"\")","v":""},""]
[null,null,null,null,null,null,null,{"$f":"IF(Hobo!A2822<>\"\",Hobo!A2822&configuracion!$C$10,\"\")","v":""},""]
[null,null,null,null,null,null,null,{"$f":"IF(Hobo!A2829<>\"\",Hobo!A2829&configuracion!$C$10,\"\")","v":""},""]
[null,null,null,null,null,null,null,{"$f":"IF(Hobo!A2832<>\"\",Hobo!A2832&configuracion!$C$10,\"\")","v":""},""]
[null,null,null,null,null,null,null,{"$f":"IF(Hobo!A2839<>\"\",Hobo!A2839&configuracion!$C$10,\"\")","v":""},""]
[null,null,null,null,null,null,null,{"$f":"IF(Hobo!A2848<>\"\",Hobo!A2848&configuracion!$C$10,\"\")","v":""},""]
[null,null,null,null,null,null,null,{"$f":"IF(Hobo!A2852<>\"\",Hobo!A2852&configuracion!$C$10,\"\")","v":""},""]
[null,null,null,null,null,null,null,{"$f":"IF(Hobo!A2859<>\"\",Hobo!A2859&configuracion!$C$10,\"\")","v":""},""]
[null,null,null,null,null,null,null,{"$f":"IF(Hobo!A2868<>\"\",Hobo!A2868&configuracion!$C$10,\"\")","v":""},""]
[null,null,null,null,null,null,null,{"$f":"IF(Hobo!A2871<>\"\",Hobo!A2871&configuracion!$C$10,\"\")","v":""},""]
[null,null,null,null,null,null,null,{"$f":"IF(Hobo!A2879<>\"\",Hobo!A2879&configuracion!$C$10,\"\")","v":""},""]
[null,null,null,null,null,null,null,{"$f":"IF(Hobo!A2882<>\"\",Hobo!A2882&configuracion!$C$10,\"\")","v":""},""]
[null,null,null,null,null,null,null,{"$f":"IF(Hobo!A2889<>\"\",Hobo!A2889&configuracion!$C$10,\"\")","v":""},""]
[null,null,null,null,null,null,null,{"$f":"IF(Hobo!A2897<>\"\",Hobo!A2897&configuracion!$C$10,\"\")","v":""},""]
[null,null,null,null,null,null,null,{"$f":"IF(Hobo!A2906<>\"\",Hobo!A2906&configuracion!$C$10,\"\")","v":""},""]
[null,null,null,null,null,null,null,{"$f":"IF(Hobo!A2909<>\"\",Hobo!A2909&configuracion!$C$10,\"\")","v":""},""]
[null,null,null,null,null,null,null,{"$f":"IF(Hobo!A2918<>\"\",Hobo!A2918&configuracion!$C$10,\"\")","v":""},""]
[null,null,null,null,null,null,null,{"$f":"IF(Hobo!A2920<>\"\",Hobo!A2920&configuracion!$C$10,\"\")","v":""},""]
[null,null,null,null,null,null,null,{"$f":"IF(Hobo!A2929<>\"\",Hobo!A2929&configuracion!$C$10,\"\")","v":""},""]
[null,null,null,null,null,null,null,{"$f":"IF(Hobo!A2932<>\"\",Hobo!A2932&configuracion!$C$10,\"\")","v":""},""]
[null,null,null,null,null,null,null,{"$f":"IF(Hobo!A2939<>\"\",Hobo!A2939&configuracion!$C$10,\"\")","v":""},""]
[null,null,null,null,null,null,null,{"$f":"IF(Hobo!A2946<>\"\",Hobo!A2946&configuracion!$C$10,\"\")","v":""},""]
[null,null,null,null,null,null,null,{"$f":"IF(Hobo!A2956<>\"\",Hobo!A2956&configuracion!$C$10,\"\")","v":""},""]
[null,null,null,null,null,null,null,{"$f":"IF(Hobo!A2959<>\"\",Hobo!A2959&configuracion!$C$10,\"\")","v":""},""]
[null,null,null,null,null,null,null,{"$f":"IF(Hobo!A2968<>\"\",Hobo!A2968&configuracion!$C$10,\"\")","v":""},""]
[null,null,null,null,null,null,null,{"$f":"IF(Hobo!A2969<>\"\",Hobo!A2969&configuracion!$C$10,\"\")","v":""},""]
[null,null,null,null,null,null,null,{"$f":"IF(Hobo!A2979<>\"\",Hobo!A2979&configuracion!$C$10,\"\")","v":""},""]
[null,null,null,null,null,null,null,{"$f":"IF(Hobo!A2982<>\"\",Hobo!A2982&configuracion!$C$10,\"\")","v":""},""]
[null,null,null,null,null,null,null,{"$f":"IF(Hobo!A2989<>\"\",Hobo!A2989&configuracion!$C$10,\"\")","v":""},""]
[null,null,null,null,null,null,null,{"$f":"IF(Hobo!A2995<>\"\",Hobo!A2995&configuracion!$C$10,\"\")","v":""},""]
[null,null,null,null,null,null,null,{"$f":"IF(Hobo!A3006<>\"\",Hobo!A3006&configuracion!$C$10,\"\")","v":""},""]
[null,null,null,null,null,null,null,{"$f":"IF(Hobo!A3009<>\"\",Hobo!A3009&configuracion!$C$10,\"\")","v":""},""]
[null,null,null,null,null,null,null,{"$f":"IF(Hobo!A3018<>\"\",Hobo!A3018&configuracion!$C$10,\"\")","v":""},""]
[null,null,null,null,null,null,null,{"$f":"IF(Hobo!A3025<>\"\",Hobo!A3025&configuracion!$C$10,\"\")","v":""},""]
[null,null,null,null,null,null,null,{"$f":"IF(Hobo!A3029<>\"\",Hobo!A3029&configuracion!$C$10,\"\")","v":""},""]
[null,null,null,null,null,null,null,{"$f":"IF(Hobo!A3036<>\"\",Hobo!A3036&configuracion!$C$10,\"\")","v":""},""]
[null,null,null,null,null,null,null,{"$f":"IF(Hobo!A3044<>\"\",Hobo!A3044&configuracion!$C$10,\"\")","v":""},""]
[null,null,null,null,null,null,null,{"$f":"IF(Hobo!A3049<>\"\",Hobo!A3049&configuracion!$C$10,\"\")","v":""},""]
[null,null,null,null,null,null,null,{"$f":"IF(Hobo!A3056<>\"\",Hobo!A3056&configuracion!$C$10,\"\")","v":""},""]
[null,null,null,null,null,null,null,{"$f":"IF(Hobo!A3059<>\"\",Hobo!A3059&configuracion!$C$10,\"\")","v":""},""]
[null,null,null,null,null,null,null,{"$f":"IF(Hobo!A3063<>\"\",Hobo!A3063&configuracion!$C$10,\"\")","v":""},""]
[null,null,null,null,null,null,null,{"$f":"IF(Hobo!A3070<>\"\",Hobo!A3070&configuracion!$C$10,\"\")","v":""},""]
[null,null,null,null,null,null,null,{"$f":"IF(Hobo!A3079<>\"\",Hobo!A3079&configuracion!$C$10,\"\")","v":""},""]
[null,null,null,null,null,null,null,{"$f":"IF(Hobo!A3086<>\"\",Hobo!A3086&configuracion!$C$10,\"\")","v":""},""]
[null,null,null,null,null,null,null,{"$f":"IF(Hobo!A3093<>\"\",Hobo!A3093&configuracion!$C$10,\"\")","v":""},""]
[null,null,null,null,null,null,null,{"$f":"IF(Hobo!A3099<>\"\",Hobo!A3099&configuracion!$C$10,\"\")","v":""},""]
[null,null,null,null,null,null,null,{"$f":"IF(Hobo!A3106<>\"\",Hobo!A3106&configuracion!$C$10,\"\")","v":""},""]
[null,null,null,null,null,null,null,{"$f":"IF(Hobo!A3109<>\"\",Hobo!A3109&configuracion!$C$10,\"\")","v":""},""]
[null,null,null,null,null,null,null,{"$f":"IF(Hobo!A3119<>\"\",Hobo!A3119&configuracion!$C$10,\"\")","v":""},""]
[null,null,null,null,null,null,null,{"$f":"IF(Hobo!A3120<>\"\",Hobo!A3120&configuracion!$C$10,\"\")","v":""},""]
[null,null,null,null,null,null,null,{"$f":"IF(Hobo!A3129<>\"\",Hobo!A3129&configuracion!$C$10,\"\")","v":""},""]
[null,null,null,null,null,null,null,{"$f":"IF(Hobo!A3136<>\"\",Hobo!A3136&configuracion!$C$10,\"\")","v":""},""]
[null,null,null,null,null,null,null,{"$f":"IF(Hobo!A3142<>\"\",Hobo!A3142&configuracion!$C$10,\"\")","v":""},""]
[null,null,null,null,null,null,null,{"$f":"IF(Hobo!A3149<>\"\",Hobo!A3149&configuracion!$C$10,\"\")","v":""},""]
[null,null,null,null,null,null,null,{"$f":"IF(Hobo!A3156<>\"\",Hobo!A3156&configuracion!$C$10,\"\")","v":""},""]
[null,null,null,null,null,null,null,{"$f":"IF(Hobo!A3159<>\"\",Hobo!A3159&configuracion!$C$10,\"\")","v":""},""]
[null,null,null,null,null,null,null,{"$f":"IF(Hobo!A3165<>\"\",Hobo!A3165&configuracion!$C$10,\"\")","v":""},""]
[null,null,null,null,null,null,null,{"$f":"IF(Hobo!A3170<>\"\",Hobo!A3170&configuracion!$C$10,\"\")","v":""},""]
[null,null,null,null,null,null,null,{"$f":"IF(Hobo!A3179<>\"\",Hobo!A3179&configuracion!$C$10,\"\")","v":""},""]
[null,null,null,null,null,null,null,{"$f":"IF(Hobo!A3186<>\"\",Hobo!A3186&configuracion!$C$10,\"\")","v":""},""]
[null,null,null,null,null,null,null,{"$f":"IF(Hobo!A3191<>\"\",Hobo!A3191&configuracion!$C$10,\"\")","v":""},""]
[null,null,null,null,null,null,null,{"$f":"IF(Hobo!A3199<>\"\",Hobo!A3199&configuracion!$C$10,\"\")","v":""},""]
[null,null,null,null,null,null,null,{"$f":"IF(Hobo!A3206<>\"\",Hobo!A3206&configuracion!$C$10,\"\")","v":""},""]
[null,null,null,null,null,null,null,{"$f":"IF(Hobo!A3209<>\"\",Hobo!A3209&configuracion!$C$10,\"\")","v":""},""]
[null,null,null,null,null,null,null,{"$f":"IF(Hobo!A3214<>\"\",Hobo!A3214&configuracion!$C$10,\"\")","v":""},""]
[null,null,null,null,null,null,null,{"$f":"IF(Hobo!A3220<>\"\",Hobo!A3220&configuracion!$C$10,\"\")","v":""},""]
[null,null,null,null,null,null,null,{"$f":"IF(Hobo!A3229<>\"\",Hobo!A3229&configuracion!$C$10,\"\")","v":""},""]
[null,null,null,null,null,null,null,{"$f":"IF(Hobo!A3236<>\"\",Hobo!A3236&configuracion!$C$10,\"\")","v":""},""]
[null,null,null,null,null,null,null,{"$f":"IF(Hobo!A3240<>\"\",Hobo!A3240&configuracion!$C$10,\"\")","v":""},""]
[null,null,null,null,null,null,null,{"$f":"IF(Hobo!A3247<>\"\",Hobo!A3247&configuracion!$C$10,\"\")","v":""},""]
[null,null,null,null,null,null,null,{"$f":"IF(Hobo!A3256<>\"\",Hobo!A3256&configuracion!$C$10,\"\")","v":""},""]
[null,null,null,null,null,null,null,{"$f":"IF(Hobo!A3259<>\"\",Hobo!A3259&configuracion!$C$10,\"\")","v":""},""]
[null,null,null,null,null,null,null,{"$f":"IF(Hobo!A3263<>\"\",Hobo!A3263&configuracion!$C$10,\"\")","v":""},""]
[null,null,null,null,null,null,null,{"$f":"IF(Hobo!A3270<>\"\",Hobo!A3270&configuracion!$C$10,\"\")","v":""},""]
[null,null,null,null,null,null,null,{"$f":"IF(Hobo!A3279<>\"\",Hobo!A3279&configuracion!$C$10,\"\")","v":""},""]
[null,null,null,null,null,null,null,{"$f":"IF(Hobo!A3286<>\"\",Hobo!A3286&configuracion!$C$10,\"\")","v":""},""]
[null,null,null,null,null,null,null,{"$f":"IF(Hobo!A3289<>\"\",Hobo!A3289&configuracion!$C$10,\"\")","v":""},""]
[null,null,null,null,null,null,null,{"$f":"IF(Hobo!A3297<>\"\",Hobo!A3297&configuracion!$C$10,\"\")","v":""},""]
[null,null,null,null,null,null,null,{"$f":"IF(Hobo!A3306<>\"\",Hobo!A3306&configuracion!$C$10,\"\")","v":""},""]
[null,null,null,null,null,null,null,{"$f":"IF(Hobo!A3309<>\"\",Hobo!A3309&configuracion!$C$10,\"\")","v":""},""]
[null,null,null,null,null,null,null,{"$f":"IF(Hobo!A3319<>\"\",Hobo!A3319&configuracion!$C$10,\"\")","v":""},""]
[null,null,null,null,null,null,null,{"$f":"IF(Hobo!A3320<>\"\",Hobo!A3320&configuracion!$C$10,\"\")","v":""},""]
[null,null,null,null,null,null,null,{"$f":"IF(Hobo!A3329<>\"\",Hobo!A3329&configuracion!$C$10,\"\")","v":""},""]
[null,null,null,null,null,null,null,{"$f":"IF(Hobo!A3336<>\"\",Hobo!A3336&configuracion!$C$10,\"\")","v":""},""]
[null,null,null,null,null,null,null,{"$f":"IF(Hobo!A3338<>\"\",Hobo!A3338&configuracion!$C$10,\"\")","v":""},""]
[null,null,null,null,null,null,null,{"$f":"IF(Hobo!A3347<>\"\",Hobo!A3347&configuracion!$C$10,\"\")","v":""},""]
[null,null,null,null,null,null,null,{"$f":"IF(Hobo!A3356<>\"\",Hobo!A3356&configuracion!$C$10,\"\")","v":""},""]
[null,null,null,null,null,null,null,{"$f":"IF(Hobo!A3359<>\"\",Hobo!A3359&configuracion!$C$10,\"\")","v":""},""]
[null,null,null,null,null,null,null,{"$f":"IF(Hobo!A3368<>\"\",Hobo!A3368&configuracion!$C$10,\"\")","v":""},""]
[null,null,null,null,null,null,null,{"$f":"IF(Hobo!A3370<>\"\",Hobo!A3370&configuracion!$C$10,\"\")","v":""},""]
[null,null,null,null,null,null,null,{"$f":"IF(Hobo!A3377<>\"\",Hobo!A3377&configuracion!$C$10,\"\")","v":""},""]
[null,null,null,null,null,null,null,{"$f":"IF(Hobo!A3386<>\"\",Hobo!A3386&configuracion!$C$10,\"\")","v":""},""]
[null,null,null,null,null,null,null,{"$f":"IF(Hobo!A3394<>\"\",Hobo!A3394&configuracion!$C$10,\"\")","v":""},""]
[null,null,null,null,null,null,null,{"$f":"IF(Hobo!A3397<>\"\",Hobo!A3397&configuracion!$C$10,\"\")","v":""},""]
[null,null,null,null,null,null,null,{"$f":"IF(Hobo!A3406<>\"\",Hobo!A3406&configuracion!$C$10,\"\")","v":""},""]
[null,null,null,null,null,null,null,{"$f":"IF(Hobo!A3409<>\"\",Hobo!A3409&configuracion!$C$10,\"\")","v":""},""]
[null,null,null,null,null,null,null,{"$f":"IF(Hobo!A3417<>\"\",Hobo!A3417&configuracion!$C$10,\"\")","v":""},""]
[null,null,null,null,null,null,null,{"$f":"IF(Hobo!A3420<>\"\",Hobo!A3420&configuracion!$C$10,\"\")","v":""},""]
[null,null,null,null,null,null,null,{"$f":"IF(Hobo!A3427<>\"\",Hobo!A3427&configuracion!$C$10,\"\")","v":""},""]
[null,null,null,null,null,null,null,{"$f":"IF(Hobo!A3436<>\"\",Hobo!A3436&configuracion!$C$10,\"\")","v":""},""]
[null,null,null,null,null,null,null,{"$f":"IF(Hobo!A3443<>\"\",Hobo!A3443&configuracion!$C$10,\"\")","v":""},""]
[null,null,null,null,null,null,null,{"$f":"IF(Hobo!A3447<>\"\",Hobo!A3447&configuracion!$C$10,\"\")","v":""},""]
[null,null,null,null,null,null,null,{"$f":"IF(Hobo!A3456<>\"\",Hobo!A3456&configuracion!$C$10,\"\")","v":""},""]
[null,null,null,null,null,null,null,{"$f":"IF(Hobo!A3459<>\"\",Hobo!A3459&configuracion!$C$10,\"\")","v":""},""]
[null,null,null,null,null,null,null,{"$f":"IF(Hobo!A3466<>\"\",Hobo!A3466&configuracion!$C$10,\"\")","v":""},""]
[null,null,null,null,null,null,null,{"$f":"IF(Hobo!A3470<>\"\",Hobo!A3470&configuracion!$C$10,\"\")","v":""},""]
[null,null,null,null,null,null,null,{"$f":"IF(Hobo!A3477<>\"\",Hobo!A3477&configuracion!$C$10,\"\")","v":""},""]
[null,null,null,null,null,null,null,{"$f":"IF(Hobo!A3486<>\"\",Hobo!A3486&configuracion!$C$10,\"\")","v":""},""]
[null,null,null,null,null,null,null,{"$f":"IF(Hobo!A3492<>\"\",Hobo!A3492&configuracion!$C$10,\"\")","v":""},""]
[null,null,null,null,null,null,null,{"$f":"IF(Hobo!A3497<>\"\",Hobo!A3497&configuracion!$C$10,\"\")","v":""},""]
[null,null,null,null,null,null,null,{"$f":"IF(Hobo!A3506<>\"\",Hobo!A3506&configuracion!$C$10,\"\")","v":""},""]
[null,null,null,null,null,null,null,{"$f":"IF(Hobo!A3507<>\"\",Hobo!A3507&configuracion!$C$10,\"\")","v":""},""]
[null,null,null,null,null,null,null,{"$f":"IF(Hobo!A3515<>\"\",Hobo!A3515&configuracion!$C$10,\"\")","v":""},""]
[null,null,null,null,null,null,null,{"$f":"IF(Hobo!A3520<>\"\",Hobo!A3520&configuracion!$C$10,\"\")","v":""},""]
[null,null,null,null,null,null,null,{"$f":"IF(Hobo!A3527<>\"\",Hobo!A3527&configuracion!$C$10,\"\")","v":""},""]
[null,null,null,null,null,null,null,{"$f":"IF(Hobo!A3536<>\"\",Hobo!A3536&configuracion!$C$10,\"\")","v":""},""]
[null,null,null,null,null,null,null,{"$f":"IF(Hobo!A3541<>\"\",Hobo!A3541&configuracion!$C$10,\"\")","v":""},""]
[null,null,null,null,null,null,null,{"$f":"IF(Hobo!A3547<>\"\",Hobo!A3547&configuracion!$C$10,\"\")","v":""},""]
[null,null,null,null,null,null,null,{"$f":"IF(Hobo!A3556<>\"\",Hobo!A3556&configuracion!$C$10,\"\")","v":""},""]
[null,null,null,null,null,null,null,{"$f":"IF(Hobo!A3557<>\"\",Hobo!A3557&configuracion!$C$10,\"\")","v":""},""]
[null,null,null,null,null,null,null,{"$f":"IF(Hobo!A3564<>\"\",Hobo!A3564&configuracion!$C$10,\"\")","v":""},""]
[null,null,null,null,null,null,null,{"$f":"IF(Hobo!A3570<>\"\",Hobo!A3570&configuracion!$C$10,\"\")","v":""},""]
[null,null,null,null,null,null,null,{"$f":"IF(Hobo!A3577<>\"\",Hobo!A3577&configuracion!$C$10,\"\")","v":""},""]
[null,null,null,null,null,null,null,{"$f":"IF(Hobo!A3586<>\"\",Hobo!A3586&configuracion!$C$10,\"\")","v":""},""]
[null,null,null,null,null,null,null,{"$f":"IF(Hobo!A3594<>\"\",Hobo!A3594&configuracion!$C$10,\"\")","v":""},""]
[null,null,null,null,null,null,null,{"$f":"IF(Hobo!A3597<>\"\",Hobo!A3597&configuracion!$C$10,\"\")","v":""},""]
[null,null,null,null,null,null,null,{"$f":"IF(Hobo!A3606<>\"\",Hobo!A3606&configuracion!$C$10,\"\")","v":""},""]
[null,null,null,null,null,null,null,{"$f":"IF(Hobo!A3607<>\"\",Hobo!A3607&configuracion!$C$10,\"\")","v":""},""]
[null,null,null,null,null,null,null,{"$f":"IF(Hobo!A3613<>\"\",Hobo!A3613&configuracion!$C$10,\"\")","v":""},""]
[null,null,null,null,null,null,null,{"$f":"IF(Hobo!A3620<>\"\",Hobo!A3620&configuracion!$C$10,\"\")","v":""},""]
[null,null,null,null,null,null,null,{"$f":"IF(Hobo!A3627<>\"\",Hobo!A3627&configuracion!$C$10,\"\")","v":""},""]
[null,null,null,null,null,null,null,{"$f":"IF(Hobo!A3636<>\"\",Hobo!A3636&configuracion!$C$10,\"\")","v":""},""]
[null,null,null,null,null,null,null,{"$f":"IF(Hobo!A3643<>\"\",Hobo!A3643&configuracion!$C$10,\"\")","v":""},""]
[null,null,null,null,null,null,null,{"$f":"IF(Hobo!A3647<>\"\",Hobo!A3647&configuracion!$C$10,\"\")","v":""},""]
[null,null,null,null,null,null,null,{"$f":"IF(Hobo!A3656<>\"\",Hobo!A3656&configuracion!$C$10,\"\")","v":""},""]
[null,null,null,null,null,null,null,{"$f":"IF(Hobo!A3657<>\"\",Hobo!A3657&configuracion!$C$10,\"\")","v":""},""]
[null,null,null,null,null,null,null,{"$f":"IF(Hobo!A3669<>\"\",Hobo!A3669&configuracion!$C$10,\"\")","v":""},""]
[null,null,null,null,null,null,null,{"$f":"IF(Hobo!A3670<>\"\",Hobo!A3670&configuracion!$C$10,\"\")","v":""},""]
[null,null,null,null,null,null,null,{"$f":"IF(Hobo!A3677<>\"\",Hobo!A3677&configuracion!$C$10,\"\")","v":""},""]
[null,null,null,null,null,null,null,{"$f":"IF(Hobo!A3686<>\"\",Hobo!A3686&configuracion!$C$10,\"\")","v":""},""]
[null,null,null,null,null,null,null,{"$f":"IF(Hobo!A3692<>\"\",Hobo!A3692&configuracion!$C$10,\"\")","v":""},""]
[null,null,null,null,null,null,null,{"$f":"IF(Hobo!A3697<>\"\",Hobo!A3697&configuracion!$C$10,\"\")","v":""},""]
[null,null,null,null,null,null,null,{"$f":"IF(Hobo!A3706<>\"\",Hobo!A3706&configuracion!$C$10,\"\")","v":""},""]
[null,null,null,null,null,null,null,{"$f":"IF(Hobo!A3707<>\"\",Hobo!A3707&configuracion!$C$10,\"\")","v":""},""]
[null,null,null,null,null,null,null,{"$f":"IF(Hobo!A3718<>\"\",Hobo!A3718&configuracion!$C$10,\"\")","v":""},""]
[null,null,null,null,null,null,null,{"$f":"IF(Hobo!A3724<>\"\",Hobo!A3724&configuracion!$C$10,\"\")","v":""},""]
[null,null,null,null,null,null,null,{"$f":"IF(Hobo!A3727<>\"\",Hobo!A3727&configuracion!$C$10,\"\")","v":""},""]
[null,null,null,null,null,null,null,{"$f":"IF(Hobo!A3736<>\"\",Hobo!A3736&configuracion!$C$10,\"\")","v":""},""]
[null,null,null,null,null,null,null,{"$f":"IF(Hobo!A3741<>\"\",Hobo!A3741&configuracion!$C$10,\"\")","v":""},""]
[null,null,null,null,null,null,null,{"$f":"IF(Hobo!A3747<>\"\",Hobo!A3747&configuracion!$C$10,\"\")","v":""},""]
[null,null,null,null,null,null,null,{"$f":"IF(Hobo!A3756<>\"\",Hobo!A3756&configuracion!$C$10,\"\")","v":""},""]
[null,null,null,null,null,null,null,{"$f":"IF(Hobo!A3757<>\"\",Hobo!A3757&configuracion!$C$10,\"\")","v":""},""]
[null,null,null,null,null,null,null,{"$f":"IF(Hobo!A3767<>\"\",Hobo!A3767&configuracion!$C$10,\"\")","v":""},""]
[null,null,null,null,null,null,null,{"$f":"IF(Hobo!A3774<>\"\",Hobo!A3774&configuracion!$C$10,\"\")","v":""},""]
[null,null,null,null,null,null,null,{"$f":"IF(Hobo!A3777<>\"\",Hobo!A3777&configuracion!$C$10,\"\")","v":""},""]
[null,null,null,null,null,null,null,{"$f":"IF(Hobo!A3786<>\"\",Hobo!A3786&configuracion!$C$10,\"\")","v":""},""]
[null,null,null,null,null,null,null,{"$f":"IF(Hobo!A3790<>\"\",Hobo!A3790&configuracion!$C$10,\"\")","v":""},""]
[null,null,null,null,null,null,null,{"$f":"IF(Hobo!A3797<>\"\",Hobo!A3797&configuracion!$C$10,\"\")","v":""},""]
[null,null,null,null,null,null,null,{"$f":"IF(Hobo!A3804<>\"\",Hobo!A3804&configuracion!$C$10,\"\")","v":""},""]
[null,null,null,null,null,null,null,{"$f":"IF(Hobo!A3807<>\"\",Hobo!A3807&configuracion!$C$10,\"\")","v":""},""]
[null,null,null,null,null,null,null,{"$f":"IF(Hobo!A3816<>\"\",Hobo!A3816&configuracion!$C$10,\"\")","v":""},""]
[null,null,null,null,null,null,null,{"$f":"IF(Hobo!A3824<>\"\",Hobo!A3824&configuracion!$C$10,\"\")","v":""},""]
[null,null,null,null,null,null,null,{"$f":"IF(Hobo!A3827<>\"\",Hobo!A3827&configuracion!$C$10,\"\")","v":""},""]
[null,null,null,null,null,null,null,{"$f":"IF(Hobo!A3836<>\"\",Hobo!A3836&configuracion!$C$10,\"\")","v":""},""]
[null,null,null,null,null,null,null,{"$f":"IF(Hobo!A3839<>\"\",Hobo!A3839&configuracion!$C$10,\"\")","v":""},""]
[null,null,null,null,null,null,null,{"$f":"IF(Hobo!A3847<>\"\",Hobo!A3847&configuracion!$C$10,\"\")","v":""},""]
[null,null,null,null,null,null,null,{"$f":"IF(Hobo!A3854<>\"\",Hobo!A3854&configuracion!$C$10,\"\")","v":""},""]
[null,null,null,null,null,null,null,{"$f":"IF(Hobo!A3857<>\"\",Hobo!A3857&configuracion!$C$10,\"\")","v":""},""]
[null,null,null,null,null,null,null,{"$f":"IF(Hobo!A3865<>\"\",Hobo!A3865&configuracion!$C$10,\"\")","v":""},""]
[null,null,null,null,null,null,null,{"$f":"IF(Hobo!A3874<>\"\",Hobo!A3874&configuracion!$C$10,\"\")","v":""},""]
[null,null,null,null,null,null,null,{"$f":"IF(Hobo!A3877<>\"\",Hobo!A3877&configuracion!$C$10,\"\")","v":""},""]
[null,null,null,null,null,null,null,{"$f":"IF(Hobo!A3886<>\"\",Hobo!A3886&configuracion!$C$10,\"\")","v":""},""]
[null,null,null,null,null,null,null,{"$f":"IF(Hobo!A3888<>\"\",Hobo!A3888&configuracion!$C$10,\"\")","v":""},""]
[null,null,null,null,null,null,null,{"$f":"IF(Hobo!A3897<>\"\",Hobo!A3897&configuracion!$C$10,\"\")","v":""},""]
[null,null,null,null,null,null,null,{"$f":"IF(Hobo!A3904<>\"\",Hobo!A3904&configuracion!$C$10,\"\")","v":""},""]
[null,null,null,null,null,null,null,{"$f":"IF(Hobo!A3907<>\"\",Hobo!A3907&configuracion!$C$10,\"\")","v":""},""]
[null,null,null,null,null,null,null,{"$f":"IF(Hobo!A3914<>\"\",Hobo!A3914&configuracion!$C$10,\"\")","v":""},""]
[null,null,null,null,null,null,null,{"$f":"IF(Hobo!A3924<>\"\",Hobo!A3924&configuracion!$C$10,\"\")","v":""},""]
[null,null,null,null,null,null,null,{"$f":"IF(Hobo!A3927<>\"\",Hobo!A3927&configuracion!$C$10,\"\")","v":""},""]
[null,null,null,null,null,null,null,{"$f":"IF(Hobo!A3934<>\"\",Hobo!A3934&configuracion!$C$10,\"\")","v":""},""]
[null,null,null,null,null,null,null,{"$f":"IF(Hobo!A3944<>\"\",Hobo!A3944&configuracion!$C$10,\"\")","v":""},""]
[null,null,null,null,null,null,null,{"$f":"IF(Hobo!A3947<>\"\",Hobo!A3947&configuracion!$C$10,\"\")","v":""},""]
[null,null,null,null,null,null,null,{"$f":"IF(Hobo!A3954<>\"\",Hobo!A3954&configuracion!$C$10,\"\")","v":""},""]
[null,null,null,null,null,null,null,{"$f":"IF(Hobo!A3957<>\"\",Hobo!A3957&configuracion!$C$10,\"\")","v":""},""]
[null,null,null,null,null,null,null,{"$f":"IF(Hobo!A3963<>\"\",Hobo!A3963&configuracion!$C$10,\"\")","v":""},""]
[null,null,null,null,null,null,null,{"$f":"IF(Hobo!A3974<>\"\",Hobo!A3974&configuracion!$C$10,\"\")","v":""},""]
[null,null,null,null,null,null,null,{"$f":"IF(Hobo!A3977<>\"\",Hobo!A3977&configuracion!$C$10,\"\")","v":""},""]
[null,null,null,null,null,null,null,{"$f":"IF(Hobo!A3984<>\"\",Hobo!A3984&configuracion!$C$10,\"\")","v":""},""]
[null,null,null,null,null,null,null,{"$f":"IF(Hobo!A3993<>\"\",Hobo!A3993&configuracion!$C$10,\"\")","v":""},""]
[null,null,null,null,null,null,null,{"$f":"IF(Hobo!A3997<>\"\",Hobo!A3997&configuracion!$C$10,\"\")","v":""},""]
[null,null,null,null,null,null,null,{"$f":"IF(Hobo!A4004<>\"\",Hobo!A4004&configuracion!$C$10,\"\")","v":""},""]
[null,null,null,null,null,null,null,{"$f":"IF(Hobo!A4007<>\"\",Hobo!A4007&configuracion!$C$10,\"\")","v":""},""]
[null,null,null,null,null,null,null,{"$f":"IF(Hobo!A4019<>\"\",Hobo!A4019&configuracion!$C$10,\"\")","v":""},""]
[null,null,null,null,null,null,null,{"$f":"IF(Hobo!A4024<>\"\",Hobo!A4024&configuracion!$C$10,\"\")","v":""},""]
[null,null,null,null,null,null,null,{"$f":"IF(Hobo!A4027<>\"\",Hobo!A4027&configuracion!$C$10,\"\")","v":""},""]
[null,null,null,null,null,null,null,{"$f":"IF(Hobo!A4034<>\"\",Hobo!A4034&configuracion!$C$10,\"\")","v":""},""]
[null,null,null,null,null,null,null,{"$f":"IF(Hobo!A4042<>\"\",Hobo!A4042&configuracion!$C$10,\"\")","v":""},""]
[null,null,null,null,null,null,null,{"$f":"IF(Hobo!A4047<>\"\",Hobo!A4047&configuracion!$C$10,\"\")","v":""},""]
[null,null,null,null,null,null,null,{"$f":"IF(Hobo!A4054<>\"\",Hobo!A4054&configuracion!$C$10,\"\")","v":""},""]
[null,null,null,null,null,null,null,{"$f":"IF(Hobo!A4057<>\"\",Hobo!A4057&configuracion!$C$10,\"\")","v":""},""]
[null,null,null,null,null,null,null,{"$f":"IF(Hobo!A4065<>\"\",Hobo!A4065&configuracion!$C$10,\"\")","v":""},""]
[null,null,null,null,null,null,null,{"$f":"IF(Hobo!A4074<>\"\",Hobo!A4074&configuracion!$C$10,\"\")","v":""},""]
[null,null,null,null,null,null,null,{"$f":"IF(Hobo!A4077<>\"\",Hobo!A4077&configuracion!$C$10,\"\")","v":""},""]
[null,null,null,null,null,null,null,{"$f":"IF(Hobo!A4084<>\"\",Hobo!A4084&configuracion!$C$10,\"\")","v":""},""]
[null,null,null,null,null,null,null,{"$f":"IF(Hobo!A4094<>\"\",Hobo!A4094&configuracion!$C$10,\"\")","v":""},""]
[null,null,null,null,null,null,null,{"$f":"IF(Hobo!A4097<>\"\",Hobo!A4097&configuracion!$C$10,\"\")","v":""},""]
[null,null,null,null,null,null,null,{"$f":"IF(Hobo!A4104<>\"\",Hobo!A4104&configuracion!$C$10,\"\")","v":""},""]
[null,null,null,null,null,null,null,{"$f":"IF(Hobo!A4110<>\"\",Hobo!A4110&configuracion!$C$10,\"\")","v":""},""]
[null,null,null,null,null,null,null,{"$f":"IF(Hobo!A4115<>\"\",Hobo!A4115&configuracion!$C$10,\"\")","v":""},""]
[null,null,null,null,null,null,null,{"$f":"IF(Hobo!A4124<>\"\",Hobo!A4124&configuracion!$C$10,\"\")","v":""},""]
[null,null,null,null,null,null,null,{"$f":"IF(Hobo!A4127<>\"\",Hobo!A4127&configuracion!$C$10,\"\")","v":""},""]
[null,null,null,null,null,null,null,{"$f":"IF(Hobo!A4133<>\"\",Hobo!A4133&configuracion!$C$10,\"\")","v":""},""]
[null,null,null,null,null,null,null,{"$f":"IF(Hobo!A4144<>\"\",Hobo!A4144&configuracion!$C$10,\"\")","v":""},""]
[null,null,null,null,null,null,null,{"$f":"IF(Hobo!A4145<>\"\",Hobo!A4145&configuracion!$C$10,\"\")","v":""},""]
[null,null,null,null,null,null,null,{"$f":"IF(Hobo!A4154<>\"\",Hobo!A4154&configuracion!$C$10,\"\")","v":""},""]
[null,null,null,null,null,null,null,{"$f":"IF(Hobo!A4159<>\"\",Hobo!A4159&configuracion!$C$10,\"\")","v":""},""]
[null,null,null,null,null,null,null,{"$f":"IF(Hobo!A4165<>\"\",Hobo!A4165&configuracion!$C$10,\"\")","v":""},""]
[null,null,null,null,null,null,null,{"$f":"IF(Hobo!A4174<>\"\",Hobo!A4174&configuracion!$C$10,\"\")","v":""},""]
[null,null,null,null,null,null,null,{"$f":"IF(Hobo!A4177<>\"\",Hobo!A4177&configuracion!$C$10,\"\")","v":""},""]
[null,null,null,null,null,null,null,{"$f":"IF(Hobo!A4182<>\"\",Hobo!A4182&configuracion!$C$10,\"\")","v":""},""]
[null,null,null,null,null,null,null,{"$f":"IF(Hobo!A4194<>\"\",Hobo!A4194&configuracion!$C$10,\"\")","v":""},""]
[null,null,null,null,null,null,null,{"$f":"IF(Hobo!A4195<>\"\",Hobo!A4195&configuracion!$C$10,\"\")","v":""},""]
[null,null,null,null,null,null,null,{"$f":"IF(Hobo!A4204<>\"\",Hobo!A4204&configuracion!$C$10,\"\")","v":""},""]
[null,null,null,null,null,null,null,{"$f":"IF(Hobo!A4208<>\"\",Hobo!A4208&configuracion!$C$10,\"\")","v":""},""]
[null,null,null,null,null,null,null,{"$f":"IF(Hobo!A4215<>\"\",Hobo!A4215&configuracion!$C$10,\"\")","v":""},""]
[null,null,null,null,null,null,null,{"$f":"IF(Hobo!A4224<>\"\",Hobo!A4224&configuracion!$C$10,\"\")","v":""},""]
[null,null,null,null,null,null,null,{"$f":"IF(Hobo!A4227<>\"\",Hobo!A4227&configuracion!$C$10,\"\")","v":""},""]
[null,null,null,null,null,null,null,{"$f":"IF(Hobo!A4238<>\"\",Hobo!A4238&configuracion!$C$10,\"\")","v":""},""]
[null,null,null,null,null,null,null,{"$f":"IF(Hobo!A4244<>\"\",Hobo!A4244&configuracion!$C$10,\"\")","v":""},""]
[null,null,null,null,null,null,null,{"$f":"IF(Hobo!A4245<>\"\",Hobo!A4245&configuracion!$C$10,\"\")","v":""},""]
[null,null,null,null,null,null,null,{"$f":"IF(Hobo!A4254<>\"\",Hobo!A4254&configuracion!$C$10,\"\")","v":""},""]
[null,null,null,null,null,null,null,{"$f":"IF(Hobo!A4257<>\"\",Hobo!A4257&configuracion!$C$10,\"\")","v":""},""]
[null,null,null,null,null,null,null,{"$f":"IF(Hobo!A4265<>\"\",Hobo!A4265&configuracion!$C$10,\"\")","v":""},""]
[null,null,null,null,null,null,null,{"$f":"IF(Hobo!A4274<>\"\",Hobo!A4274&configuracion!$C$10,\"\")","v":""},""]
[null,null,null,null,null,null,null,{"$f":"IF(Hobo!A4281<>\"\",Hobo!A4281&configuracion!$C$10,\"\")","v":""},""]
[null,null,null,null,null,null,null,{"$f":"IF(Hobo!A4287<>\"\",Hobo!A4287&configuracion!$C$10,\"\")","v":""},""]
[null,null,null,null,null,null,null,{"$f":"IF(Hobo!A4294<>\"\",Hobo!A4294&configuracion!$C$10,\"\")","v":""},""]
[null,null,null,null,null,null,null,{"$f":"IF(Hobo!A4295<>\"\",Hobo!A4295&configuracion!$C$10,\"\")","v":""},""]
[null,null,null,null,null,null,null,{"$f":"IF(Hobo!A4304<>\"\",Hobo!A4304&configuracion!$C$10,\"\")","v":""},""]
[null,null,null,null,null,null,null,{"$f":"IF(Hobo!A4313<>\"\",Hobo!A4313&configuracion!$C$10,\"\")","v":""},""]
[null,null,null,null,null,null,null,{"$f":"IF(Hobo!A4315<>\"\",Hobo!A4315&configuracion!$C$10,\"\")","v":""},""]
[null,null,null,null,null,null,null,{"$f":"IF(Hobo!A4324<>\"\",Hobo!A4324&configuracion!$C$10,\"\")","v":""},""]
[null,null,null,null,null,null,null,{"$f":"IF(Hobo!A4331<>\"\",Hobo!A4331&configuracion!$C$10,\"\")","v":""},""]
[null,null,null,null,null,null,null,{"$f":"IF(Hobo!A4336<>\"\",Hobo!A4336&configuracion!$C$10,\"\")","v":""},""]
[null,null,null,null,null,null,null,{"$f":"IF(Hobo!A4344<>\"\",Hobo!A4344&configuracion!$C$10,\"\")","v":""},""]
[null,null,null,null,null,null,null,{"$f":"IF(Hobo!A4345<>\"\",Hobo!A4345&configuracion!$C$10,\"\")","v":""},""]
[null,null,null,null,null,null,null,{"$f":"IF(Hobo!A4354<>\"\",Hobo!A4354&configuracion!$C$10,\"\")","v":""},""]
[null,null,null,null,null,null,null,{"$f":"IF(Hobo!A4359<>\"\",Hobo!A4359&configuracion!$C$10,\"\")","v":""},""]
[null,null,null,null,null,null,null,{"$f":"IF(Hobo!A4365<>\"\",Hobo!A4365&configuracion!$C$10,\"\")","v":""},""]
[null,null,null,null,null,null,null,{"$f":"IF(Hobo!A4374<>\"\",Hobo!A4374&configuracion!$C$10,\"\")","v":""},""]
[null,null,null,null,null,null,null,{"$f":"IF(Hobo!A4381<>\"\",Hobo!A4381&configuracion!$C$10,\"\")","v":""},""]
[null,null,null,null,null,null,null,{"$f":"IF(Hobo!A4385<>\"\",Hobo!A4385&configuracion!$C$10,\"\")","v":""},""]
[null,null,null,null,null,null,null,{"$f":"IF(Hobo!A4394<>\"\",Hobo!A4394&configuracion!$C$10,\"\")","v":""},""]
[null,null,null,null,null,null,null,{"$f":"IF(Hobo!A4395<>\"\",Hobo!A4395&configuracion!$C$10,\"\")","v":""},""]
[null,null,null,null,null,null,null,{"$f":"IF(Hobo!A4404<>\"\",Hobo!A4404&configuracion!$C$10,\"\")","v":""},""]
[null,null,null,null,null,null,null,{"$f":"IF(Hobo!A4408<>\"\",Hobo!A4408&configuracion!$C$10,\"\")","v":""},""]
[null,null,null,null,null,null,null,{"$f":"IF(Hobo!A4415<>\"\",Hobo!A4415&configuracion!$C$10,\"\")","v":""},""]
[null,null,null,null,null,null,null,{"$f":"IF(Hobo!A4424<>\"\",Hobo!A4424&configuracion!$C$10,\"\")","v":""},""]
[null,null,null,null,null,null,null,{"$f":"IF(Hobo!A4431<>\"\",Hobo!A4431&configuracion!$C$10,\"\")","v":""},""]
[null,null,null,null,null,null,null,{"$f":"IF(Hobo!A4434<>\"\",Hobo!A4434&configuracion!$C$10,\"\")","v":""},""]
[null,null,null,null,null,null,null,{"$f":"IF(Hobo!A4444<>\"\",Hobo!A4444&configuracion!$C$10,\"\")","v":""},""]
[null,null,null,null,null,null,null,{"$f":"IF(Hobo!A4445<>\"\",Hobo!A4445&configuracion!$C$10,\"\")","v":""},""]
[null,null,null,null,null,null,null,{"$f":"IF(Hobo!A4454<>\"\",Hobo!A4454&configuracion!$C$10,\"\")","v":""},""]
[null,null,null,null,null,null,null,{"$f":"IF(Hobo!A4457<>\"\",Hobo!A4457&configuracion!$C$10,\"\")","v":""},""]
[null,null,null,null,null,null,null,{"$f":"IF(Hobo!A4465<>\"\",Hobo!A4465&configuracion!$C$10,\"\")","v":""},""]
[null,null,null,null,null,null,null,{"$f":"IF(Hobo!A4474<>\"\",Hobo!A4474&configuracion!$C$10,\"\")","v":""},""]
[null,null,null,null,null,null,null,{"$f":"IF(Hobo!A4481<>\"\",Hobo!A4481&configuracion!$C$10,\"\")","v":""},""]
[null,null,null,null,null,null,null,{"$f":"IF(Hobo!A4483<>\"\",Hobo!A4483&configuracion!$C$10,\"\")","v":""},""]
[null,null,null,null,null,null,null,{"$f":"IF(Hobo!A4492<>\"\",Hobo!A4492&configuracion!$C$10,\"\")","v":""},""]
[null,null,null,null,null,null,null,{"$f":"IF(Hobo!A4495<>\"\",Hobo!A4495&configuracion!$C$10,\"\")","v":""},""]
[null,null,null,null,null,null,null,{"$f":"IF(Hobo!A4504<>\"\",Hobo!A4504&configuracion!$C$10,\"\")","v":""},""]
[null,null,null,null,null,null,null,{"$f":"IF(Hobo!A4513<>\"\",Hobo!A4513&configuracion!$C$10,\"\")","v":""},""]
[null,null,null,null,null,null,null,{"$f":"IF(Hobo!A4515<>\"\",Hobo!A4515&configuracion!$C$10,\"\")","v":""},""]
[null,null,null,null,null,null,null,{"$f":"IF(Hobo!A4524<>\"\",Hobo!A4524&configuracion!$C$10,\"\")","v":""},""]
[null,null,null,null,null,null,null,{"$f":"IF(Hobo!A4531<>\"\",Hobo!A4531&configuracion!$C$10,\"\")","v":""},""]
[null,null,null,null,null,null,null,{"$f":"IF(Hobo!A4532<>\"\",Hobo!A4532&configuracion!$C$10,\"\")","v":""},""]
[null,null,null,null,null,null,null,{"$f":"IF(Hobo!A4542<>\"\",Hobo!A4542&configuracion!$C$10,\"\")","v":""},""]
[null,null,null,null,null,null,null,{"$f":"IF(Hobo!A4545<>\"\",Hobo!A4545&configuracion!$C$10,\"\")","v":""},""]
[null,null,null,null,null,null,null,{"$f":"IF(Hobo!A4554<>\"\",Hobo!A4554&configuracion!$C$10,\"\")","v":""},""]
[null,null,null,null,null,null,null,{"$f":"IF(Hobo!A4562<>\"\",Hobo!A4562&configuracion!$C$10,\"\")","v":""},""]
[null,null,null,null,null,null,null,{"$f":"IF(Hobo!A4565<>\"\",Hobo!A4565&configuracion!$C$10,\"\")","v":""},""]
[null,null,null,null,null,null,null,{"$f":"IF(Hobo!A4574<>\"\",Hobo!A4574&configuracion!$C$10,\"\")","v":""},""]
[null,null,null,null,null,null,null,{"$f":"IF(Hobo!A4581<>\"\",Hobo!A4581&configuracion!$C$10,\"\")","v":""},""]
[null,null,null,null,null,null,null,{"$f":"IF(Hobo!A4588<>\"\",Hobo!A4588&configuracion!$C$10,\"\")","v":""},""]
[null,null,null,null,null,null,null,{"$f":"IF(Hobo!A4592<>\"\",Hobo!A4592&configuracion!$C$10,\"\")","v":""},""]
[null,null,null,null,null,null,null,{"$f":"IF(Hobo!A4595<>\"\",Hobo!A4595&configuracion!$C$10,\"\")","v":""},""]
[null,null,null,null,null,null,null,{"$f":"IF(Hobo!A4604<>\"\",Hobo!A4604&configuracion!$C$10,\"\")","v":""},""]
[null,null,null,null,null,null,null,{"$f":"IF(Hobo!A4611<>\"\",Hobo!A4611&configuracion!$C$10,\"\")","v":""},""]
[null,null,null,null,null,null,null,{"$f":"IF(Hobo!A4615<>\"\",Hobo!A4615&configuracion!$C$10,\"\")","v":""},""]
[null,null,null,null,null,null,null,{"$f":"IF(Hobo!A4622<>\"\",Hobo!A4622&configuracion!$C$10,\"\")","v":""},""]
[null,null,null,null,null,null,null,{"$f":"IF(Hobo!A4631<>\"\",Hobo!A4631&configuracion!$C$10,\"\")","v":""},""]
[null,null,null,null,null,null,null,{"$f":"IF(Hobo!A4637<>\"\",Hobo!A4637&configuracion!$C$10,\"\")","v":""},""]
[null,null,null,null,null,null,null,{"$f":"IF(Hobo!A4642<>\"\",Hobo!A4642&configuracion!$C$10,\"\")","v":""},""]
[null,null,null,null,null,null,null,{"$f":"IF(Hobo!A4645<>\"\",Hobo!A4645&configuracion!$C$10,\"\")","v":""},""]
[null,null,null,null,null,null,null,{"$f":"IF(Hobo!A4654<>\"\",Hobo!A4654&configuracion!$C$10,\"\")","v":""},""]
[null,null,null,null,null,null,null,{"$f":"IF(Hobo!A4660<>\"\",Hobo!A4660&configuracion!$C$10,\"\")","v":""},""]
[null,null,null,null,null,null,null,{"$f":"IF(Hobo!A4665<>\"\",Hobo!A4665&configuracion!$C$10,\"\")","v":""},""]
[null,null,null,null,null,null,null,{"$f":"IF(Hobo!A4672<>\"\",Hobo!A4672&configuracion!$C$10,\"\")","v":""},""]
[null,null,null,null,null,null,null,{"$f":"IF(Hobo!A4681<>\"\",Hobo!A4681&configuracion!$C$10,\"\")","v":""},""]
[null,null,null,null,null,null,null,{"$f":"IF(Hobo!A4686<>\"\",Hobo!A4686&configuracion!$C$10,\"\")","v":""},""]
[null,null,null,null,null,null,null,{"$f":"IF(Hobo!A4692<>\"\",Hobo!A4692&configuracion!$C$10,\"\")","v":""},""]
[null,null,null,null,null,null,null,{"$f":"IF(Hobo!A4695<>\"\",Hobo!A4695&configuracion!$C$10,\"\")","v":""},""]
[null,null,null,null,null,null,null,{"$f":"IF(Hobo!A4702<>\"\",Hobo!A4702&configuracion!$C$10,\"\")","v":""},""]
[null,null,null,null,null,null,null,{"$f":"IF(Hobo!A4709<>\"\",Hobo!A4709&configuracion!$C$10,\"\")","v":""},""]
[null,null,null,null,null,null,null,{"$f":"IF(Hobo!A4715<>\"\",Hobo!A4715&configuracion!$C$10,\"\")","v":""},""]
[null,null,null,null,null,null,null,{"$f":"IF(Hobo!A4722<>\"\",Hobo!A4722&configuracion!$C$10,\"\")","v":""},""]
[null,null,null,null,null,null,null,{"$f":"IF(Hobo!A4731<>\"\",Hobo!A4731&configuracion!$C$10,\"\")","v":""},""]
[null,null,null,null,null,null,null,{"$f":"IF(Hobo!A4735<>\"\",Hobo!A4735&configuracion!$C$10,\"\")","v":""},""]
[null,null,null,null,null,null,null,{"$f":"IF(Hobo!A4742<>\"\",Hobo!A4742&configuracion!$C$10,\"\")","v":""},""]
[null,null,null,null,null,null,null,{"$f":"IF(Hobo!A4745<>\"\",Hobo!A4745&configuracion!$C$10,\"\")","v":""},""]
[null,null,null,null,null,null,null,{"$f":"IF(Hobo!A4752<>\"\",Hobo!A4752&configuracion!$C$10,\"\")","v":""},""]
[null,null,null,null,null,null,null,{"$f":"IF(Hobo!A4758<>\"\",Hobo!A4758&configuracion!$C$10,\"\")","v":""},""]
[null,null,null,null,null,null,null,{"$f":"IF(Hobo!A4765<>\"\",Hobo!A4765&configuracion!$C$10,\"\")","v":""},""]
[null,null,null,null,null,null,null,{"$f":"IF(Hobo!A4772<>\"\",Hobo!A4772&configuracion!$C$10,\"\")","v":""},""]
[null,null,null,null,null,null,null,{"$f":"IF(Hobo!A4781<>\"\",Hobo!A4781&configuracion!$C$10,\"\")","v":""},""]
[null,null,null,null,null,null,null,{"$f":"IF(Hobo!A4784<>\"\",Hobo!A4784&configuracion!$C$10,\"\")","v":""},""]
[null,null,null,null,null,null,null,{"$f":"IF(Hobo!A4792<>\"\",Hobo!A4792&configuracion!$C$10,\"\")","v":""},""]
[null,null,null,null,null,null,null,{"$f":"IF(Hobo!A4795<>\"\",Hobo!A4795&configuracion!$C$10,\"\")","v":""},""]
[null,null,null,null,null,null,null,{"$f":"IF(Hobo!A4802<>\"\",Hobo!A4802&configuracion!$C$10,\"\")","v":""},""]
[null,null,null,null,null,null,null,{"$f":"IF(Hobo!A4807<>\"\",Hobo!A4807&configuracion!$C$10,\"\")","v":""},""]
[null,null,null,null,null,null,null,{"$f":"IF(Hobo!A4815<>\"\",Hobo!A4815&configuracion!$C$10,\"\")","v":""},""]
[null,null,null,null,null,null,null,{"$f":"IF(Hobo!A4822<>\"\",Hobo!A4822&configuracion!$C$10,\"\")","v":""},""]
[null,null,null,null,null,null,null,{"$f":"IF(Hobo!A4831<>\"\",Hobo!A4831&configuracion!$C$10,\"\")","v":""},""]
[null,null,null,null,null,null,null,{"$f":"IF(Hobo!A4837<>\"\",Hobo!A4837&configuracion!$C$10,\"\")","v":""},""]
[null,null,null,null,null,null,null,{"$f":"IF(Hobo!A4842<>\"\",Hobo!A4842&configuracion!$C$10,\"\")","v":""},""]
[null,null,null,null,null,null,null,{"$f":"IF(Hobo!A4845<>\"\",Hobo!A4845&configuracion!$C$10,\"\")","v":""},""]
[null,null,null,null,null,null,null,{"$f":"IF(Hobo!A4852<>\"\",Hobo!A4852&configuracion!$C$10,\"\")","v":""},""]
[null,null,null,null,null,null,null,{"$f":"IF(Hobo!A4863<>\"\",Hobo!A4863&configuracion!$C$10,\"\")","v":""},""]
[null,null,null,null,null,null,null,{"$f":"IF(Hobo!A4865<>\"\",Hobo!A4865&configuracion!$C$10,\"\")","v":""},""]
[null,null,null,null,null,null,null,{"$f":"IF(Hobo!A4872<>\"\",Hobo!A4872&configuracion!$C$10,\"\")","v":""},""]
[null,null,null,null,null,null,null,{"$f":"IF(Hobo!A4881<>\"\",Hobo!A4881&configuracion!$C$10,\"\")","v":""},""]
[null,null,null,null,null,null,null,{"$f":"IF(Hobo!A4886<>\"\",Hobo!A4886&configuracion!$C$10,\"\")","v":""},""]
[null,null,null,null,null,null,null,{"$f":"IF(Hobo!A4892<>\"\",Hobo!A4892&configuracion!$C$10,\"\")","v":""},""]
[null,null,null,null,null,null,null,{"$f":"IF(Hobo!A4895<>\"\",Hobo!A4895&configuracion!$C$10,\"\")","v":""},""]
[null,null,null,null,null,null,null,{"$f":"IF(Hobo!A4902<>\"\",Hobo!A4902&configuracion!$C$10,\"\")","v":""},""]
[null,null,null,null,null,null,null,{"$f":"IF(Hobo!A4912<>\"\",Hobo!A4912&configuracion!$C$10,\"\")","v":""},""]
[null,null,null,null,null,null,null,{"$f":"IF(Hobo!A4915<>\"\",Hobo!A4915&configuracion!$C$10,\"\")","v":""},""]
[null,null,null,null,null,null,null,{"$f":"IF(Hobo!A4922<>\"\",Hobo!A4922&configuracion!$C$10,\"\")","v":""},""]
[null,null,null,null,null,null,null,{"$f":"IF(Hobo!A4931<>\"\",Hobo!A4931&configuracion!$C$10,\"\")","v":""},""]
[null,null,null,null,null,null,null,{"$f":"IF(Hobo!A4935<>\"\",Hobo!A4935&configuracion!$C$10,\"\")","v":""},""]
[null,null,null,null,null,null,null,{"$f":"IF(Hobo!A4942<>\"\",Hobo!A4942&configuracion!$C$10,\"\")","v":""},""]
[null,null,null,null,null,null,null,{"$f":"IF(Hobo!A4945<>\"\",Hobo!A4945&configuracion!$C$10,\"\")","v":""},""]
[null,null,null,null,null,null,null,{"$f":"IF(Hobo!A4952<>\"\",Hobo!A4952&configuracion!$C$10,\"\")","v":""},""]
[null,null,null,null,null,null,null,{"$f":"IF(Hobo!A4961<>\"\",Hobo!A4961&configuracion!$C$10,\"\")","v":""},""]
[null,null,null,null,null,null,null,{"$f":"IF(Hobo!A4969<>\"\",Hobo!A4969&configuracion!$C$10,\"\")","v":""},""]
[null,null,null,null,null,null,null,{"$f":"IF(Hobo!A4972<>\"\",Hobo!A4972&configuracion!$C$10,\"\")","v":""},""]
[null,null,null,null,null,null,null,{"$f":"IF(Hobo!A4981<>\"\",Hobo!A4981&configuracion!$C$10,\"\")","v":""},""]
[null,null,null,null,null,null,null,{"$f":"IF(Hobo!A4984<>\"\",Hobo!A4984&configuracion!$C$10,\"\")","v":""},""]
[null,null,null,null,null,null,null,{"$f":"IF(Hobo!A4992<>\"\",Hobo!A4992&configuracion!$C$10,\"\")","v":""},""]
[null,null,null,null,null,null,null,{"$f":"IF(Hobo!A4995<>\"\",Hobo!A4995&configuracion!$C$10,\"\")","v":""},""]
[null,null,null,null,null,null,null,{"$f":"IF(Hobo!A5002<>\"\",Hobo!A5002&configuracion!$C$10,\"\")","v":""},""]
[null,null,null,null,null,null,null,{"$f":"IF(Hobo!A5010<>\"\",Hobo!A5010&configuracion!$C$10,\"\")","v":""},""]
[null,null,null,null,null,null,null,{"$f":"IF(Hobo!A5019<>\"\",Hobo!A5019&configuracion!$C$10,\"\")","v":""},""]
[null,null,null,null,null,null,null,{"$f":"IF(Hobo!A5022<>\"\",Hobo!A5022&configuracion!$C$10,\"\")","v":""},""]
[null,null,null,null,null,null,null,{"$f":"IF(Hobo!A5031<>\"\",Hobo!A5031&configuracion!$C$10,\"\")","v":""},""]
[null,null,null,null,null,null,null,{"$f":"IF(Hobo!A5033<>\"\",Hobo!A5033&configuracion!$C$10,\"\")","v":""},""]
[null,null,null,null,null,null,null,{"$f":"IF(Hobo!A5042<>\"\",Hobo!A5042&configuracion!$C$10,\"\")","v":""},""]
[null,null,null,null,null,null,null,{"$f":"IF(Hobo!A5049<>\"\",Hobo!A5049&configuracion!$C$10,\"\")","v":""},""]
[null,null,null,null,null,null,null,{"$f":"IF(Hobo!A5052<>\"\",Hobo!A5052&configuracion!$C$10,\"\")","v":""},""]
[null,null,null,null,null,null,null,{"$f":"IF(Hobo!A5059<>\"\",Hobo!A5059&configuracion!$C$10,\"\")","v":""},""]
[null,null,null,null,null,null,null,{"$f":"IF(Hobo!A5069<>\"\",Hobo!A5069&configuracion!$C$10,\"\")","v":""},""]
[null,null,null,null,null,null,null,{"$f":"IF(Hobo!A5072<>\"\",Hobo!A5072&configuracion!$C$10,\"\")","v":""},""]
[null,null,null,null,null,null,null,{"$f":"IF(Hobo!A5081<>\"\",Hobo!A5081&configuracion!$C$10,\"\")","v":""},""]
[null,null,null,null,null,null,null,{"$f":"IF(Hobo!A5082<>\"\",Hobo!A5082&configuracion!$C$10,\"\")","v":""},""]
[null,null,null,null,null,null,null,{"$f":"IF(Hobo!A5092<>\"\",Hobo!A5092&configuracion!$C$10,\"\")","v":""},""]
[null,null,null,null,null,null,null,{"$f":"IF(Hobo!A5099<>\"\",Hobo!A5099&configuracion!$C$10,\"\")","v":""},""]
[null,null,null,null,null,null,null,{"$f":"IF(Hobo!A5102<>\"\",Hobo!A5102&configuracion!$C$10,\"\")","v":""},""]
[null,null,null,null,null,null,null,{"$f":"IF(Hobo!A5108<>\"\",Hobo!A5108&configuracion!$C$10,\"\")","v":""},""]
[null,null,null,null,null,null,null,{"$f":"IF(Hobo!A5119<>\"\",Hobo!A5119&configuracion!$C$10,\"\")","v":""},""]
[null,null,null,null,null,null,null,{"$f":"IF(Hobo!A5122<>\"\",Hobo!A5122&configuracion!$C$10,\"\")","v":""},""]
[null,null,null,null,null,null,null,{"$f":"IF(Hobo!A5127<>\"\",Hobo!A5127&configuracion!$C$10,\"\")","v":""},""]
[null,null,null,null,null,null,null,{"$f":"IF(Hobo!A5133<>\"\",Hobo!A5133&configuracion!$C$10,\"\")","v":""},""]
[null,null,null,null,null,null,null,{"$f":"IF(Hobo!A5142<>\"\",Hobo!A5142&configuracion!$C$10,\"\")","v":""},""]
[null,null,null,null,null,null,null,{"$f":"IF(Hobo!A5149<>\"\",Hobo!A5149&configuracion!$C$10,\"\")","v":""},""]
[null,null,null,null,null,null,null,{"$f":"IF(Hobo!A5157<>\"\",Hobo!A5157&configuracion!$C$10,\"\")","v":""},""]
[null,null,null,null,null,null,null,{"$f":"IF(Hobo!A5162<>\"\",Hobo!A5162&configuracion!$C$10,\"\")","v":""},""]
[null,null,null,null,null,null,null,{"$f":"IF(Hobo!A5169<>\"\",Hobo!A5169&configuracion!$C$10,\"\")","v":""},""]
[null,null,null,null,null,null,null,{"$f":"IF(Hobo!A5172<>\"\",Hobo!A5172&configuracion!$C$10,\"\")","v":""},""]
[null,null,null,null,null,null,null,{"$f":"IF(Hobo!A5180<>\"\",Hobo!A5180&configuracion!$C$10,\"\")","v":""},""]
[null,null,null,null,null,null,null,{"$f":"IF(Hobo!A5183<>\"\",Hobo!A5183&configuracion!$C$10,\"\")","v":""},""]
[null,null,null,null,null,null,null,{"$f":"IF(Hobo!A5192<>\"\",Hobo!A5192&configuracion!$C$10,\"\")","v":""},""]
[null,null,null,null,null,null,null,{"$f":"IF(Hobo!A5199<>\"\",Hobo!A5199&configuracion!$C$10,\"\")","v":""},""]
[null,null,null,null,null,null,null,{"$f":"IF(Hobo!A5206<>\"\",Hobo!A5206&configuracion!$C$10,\"\")","v":""},""]
[null,null,null,null,null,null,null,{"$f":"IF(Hobo!A5212<>\"\",Hobo!A5212&configuracion!$C$10,\"\")","v":""},""]
[null,null,null,null,null,null,null,{"$f":"IF(Hobo!A5219<>\"\",Hobo!A5219&configuracion!$C$10,\"\")","v":""},""]
[null,null,null,null,null,null,null,{"$f":"IF(Hobo!A5222<>\"\",Hobo!A5222&configuracion!$C$10,\"\")","v":""},""]
[null,null,null,null,null,null,null,{"$f":"IF(Hobo!A5229<>\"\",Hobo!A5229&configuracion!$C$10,\"\")","v":""},""]
[null,null,null,null,null,null,null,{"$f":"IF(Hobo!A5233<>\"\",Hobo!A5233&configuracion!$C$10,\"\")","v":""},""]
[null,null,null,null,null,null,null,{"$f":"IF(Hobo!A5242<>\"\",Hobo!A5242&configuracion!$C$10,\"\")","v":""},""]
[null,null,null,null,null,null,null,{"$f":"IF(Hobo!A5249<>\"\",Hobo!A5249&configuracion!$C$10,\"\")","v":""},""]
[null,null,null,null,null,null,null,{"$f":"IF(Hobo!A5255<>\"\",Hobo!A5255&configuracion!$C$10,\"\")","v":""},""]
[null,null,null,null,null,null,null,{"$f":"IF(Hobo!A5260<>\"\",Hobo!A5260&configuracion!$C$10,\"\")","v":""},""]
[null,null,null,null,null,null,null,{"$f":"IF(Hobo!A5269<>\"\",Hobo!A5269&configuracion!$C$10,\"\")","v":""},""]
[null,null,null,null,null,null,null,{"$f":"IF(Hobo!A5272<>\"\",Hobo!A5272&configuracion!$C$10,\"\")","v":""},""]
[null,null,null,null,null,null,null,{"$f":"IF(Hobo!A5278<>\"\",Hobo!A5278&configuracion!$C$10,\"\")","v":""},""]
[null,null,null,null,null,null,null,{"$f":"IF(Hobo!A5283<>\"\",Hobo!A5283&configuracion!$C$10,\"\")","v":""},""]
[null,null,null,null,null,null,null,{"$f":"IF(Hobo!A5292<>\"\",Hobo!A5292&configuracion!$C$10,\"\")","v":""},""]
[null,null,null,null,null,null,null,{"$f":"IF(Hobo!A5299<>\"\",Hobo!A5299&configuracion!$C$10,\"\")","v":""},""]
[null,null,null,null,null,null,null,{"$f":"IF(Hobo!A5304<>\"\",Hobo!A5304&configuracion!$C$10,\"\")","v":""},""]
[null,null,null,null,null,null,null,{"$f":"IF(Hobo!A5310<>\"\",Hobo!A5310&configuracion!$C$10,\"\")","v":""},""]
[null,null,null,null,null,null,null,{"$f":"IF(Hobo!A5319<>\"\",Hobo!A5319&configuracion!$C$10,\"\")","v":""},""]
[null,null,null,null,null,null,null,{"$f":"IF(Hobo!A5322<>\"\",Hobo!A5322&configuracion!$C$10,\"\")","v":""},""]
[null,null,null,null,null,null,null,{"$f":"IF(Hobo!A5327<>\"\",Hobo!A5327&configuracion!$C$10,\"\")","v":""},""]
[null,null,null,null,null,null,null,{"$f":"IF(Hobo!A5333<>\"\",Hobo!A5333&configuracion!$C$10,\"\")","v":""},""]
[null,null,null,null,null,null,null,{"$f":"IF(Hobo!A5342<>\"\",Hobo!A5342&configuracion!$C$10,\"\")","v":""},""]
[null,null,null,null,null,null,null,{"$f":"IF(Hobo!A5349<>\"\",Hobo!A5349&configuracion!$C$10,\"\")","v":""},""]
[null,null,null,null,null,null,null,{"$f":"IF(Hobo!A5353<>\"\",Hobo!A5353&configuracion!$C$10,\"\")","v":""},""]
[null,null,null,null,null,null,null,{"$f":"IF(Hobo!A5360<>\"\",Hobo!A5360&configuracion!$C$10,\"\")","v":""},""]
[null,null,null,null,null,null,null,{"$f":"IF(Hobo!A5369<>\"\",Hobo!A5369&configuracion!$C$10,\"\")","v":""},""]
[null,null,null,null,null,null,null,{"$f":"IF(Hobo!A5372<>\"\",Hobo!A5372&configuracion!$C$10,\"\")","v":""},""]
[null,null,null,null,null,null,null,{"$f":"IF(Hobo!A5376<>\"\",Hobo!A5376&configuracion!$C$10,\"\")","v":""},""]
[null,null,null,null,null,null,null,{"$f":"IF(Hobo!A5383<>\"\",Hobo!A5383&configuracion!$C$10,\"\")","v":""},""]
[null,null,null,null,null,null,null,{"$f":"IF(Hobo!A5390<>\"\",Hobo!A5390&configuracion!$C$10,\"\")","v":""},""]
[null,null,null,null,null,null,null,{"$f":"IF(Hobo!A5399<>\"\",Hobo!A5399&configuracion!$C$10,\"\")","v":""},""]
[null,null,null,null,null,null,null,{"$f":"IF(Hobo!A5402<>\"\",Hobo!A5402&configuracion!$C$10,\"\")","v":""},""]
[null,null,null,null,null,null,null,{"$f":"IF(Hobo!A5410<>\"\",Hobo!A5410&configuracion!$C$10,\"\")","v":""},""]
[null,null,null,null,null,null,null,{"$f":"IF(Hobo!A5419<>\"\",Hobo!A5419&configuracion!$C$10,\"\")","v":""},""]
[null,null,null,null,null,null,null,{"$f":"IF(Hobo!A5422<>\"\",Hobo!A5422&configuracion!$C$10,\"\")","v":""},""]
[null,null,null,null,null,null,null,{"$f":"IF(Hobo!A5432<>\"\",Hobo!A5432&configuracion!$C$10,\"\")","v":""},""]
[null,null,null,null,null,null,null,{"$f":"IF(Hobo!A5433<>\"\",Hobo!A5433&configuracion!$C$10,\"\")","v":""},""]
[null,null,null,null,null,null,null,{"$f":"IF(Hobo!A5440<>\"\",Hobo!A5440&configuracion!$C$10,\"\")","v":""},""]
[null,null,null,null,null,null,null,{"$f":"IF(Hobo!A5449<>\"\",Hobo!A5449&configuracion!$C$10,\"\")","v":""},""]
[null,null,null,null,null,null,null,{"$f":"IF(Hobo!A5451<>\"\",Hobo!A5451&configuracion!$C$10,\"\")","v":""},""]
[null,null,null,null,null,null,null,{"$f":"IF(Hobo!A5460<>\"\",Hobo!A5460&configuracion!$C$10,\"\")","v":""},""]
[null,null,null,null,null,null,null,{"$f":"IF(Hobo!A5469<>\"\",Hobo!A5469&configuracion!$C$10,\"\")","v":""},""]
[null,null,null,null,null,null,null,{"$f":"IF(Hobo!A5472<>\"\",Hobo!A5472&configuracion!$C$10,\"\")","v":""},""]
[null,null,null,null,null,null,null,{"$f":"IF(Hobo!A5481<>\"\",Hobo!A5481&configuracion!$C$10,\"\")","v":""},""]
[null,null,null,null,null,null,null,{"$f":"IF(Hobo!A5483<>\"\",Hobo!A5483&configuracion!$C$10,\"\")","v":""},""]
[null,null,null,null,null,null,null,{"$f":"IF(Hobo!A5490<>\"\",Hobo!A5490&configuracion!$C$10,\"\")","v":""},""]
[null,null,null,null,null,null,null,{"$f":"IF(Hobo!A5499<>\"\",Hobo!A5499&configuracion!$C$10,\"\")","v":""},""]
[null,null,null,null,null,null,null,{"$f":"IF(Hobo!A5507<>\"\",Hobo!A5507&configuracion!$C$10,\"\")","v":""},""]
[null,null,null,null,null,null,null,{"$f":"IF(Hobo!A5510<>\"\",Hobo!A5510&configuracion!$C$10,\"\")","v":""},""]
[null,null,null,null,null,null,null,{"$f":"IF(Hobo!A5519<>\"\",Hobo!A5519&configuracion!$C$10,\"\")","v":""},""]
[null,null,null,null,null,null,null,{"$f":"IF(Hobo!A5520<>\"\",Hobo!A5520&configuracion!$C$10,\"\")","v":""},""]
[null,null,null,null,null,null,null,{"$f":"IF(Hobo!A5530<>\"\",Hobo!A5530&configuracion!$C$10,\"\")","v":""},""]
[null,null,null,null,null,null,null,{"$f":"IF(Hobo!A5533<>\"\",Hobo!A5533&configuracion!$C$10,\"\")","v":""},""]
[null,null,null,null,null,null,null,{"$f":"IF(Hobo!A5540<>\"\",Hobo!A5540&configuracion!$C$10,\"\")","v":""},""]
[null,null,null,null,null,null,null,{"$f":"IF(Hobo!A5549<>\"\",Hobo!A5549&configuracion!$C$10,\"\")","v":""},""]
[null,null,null,null,null,null,null,{"$f":"IF(Hobo!A5556<>\"\",Hobo!A5556&configuracion!$C$10,\"\")","v":""},""]
[null,null,null,null,null,null,null,{"$f":"IF(Hobo!A5560<>\"\",Hobo!A5560&configuracion!$C$10,\"\")","v":""},""]
[null,null,null,null,null,null,null,{"$f":"IF(Hobo!A5569<>\"\",Hobo!A5569&configuracion!$C$10,\"\")","v":""},""]
[null,null,null,null,null,null,null,{"$f":"IF(Hobo!A5570<>\"\",Hobo!A5570&configuracion!$C$10,\"\")","v":""},""]
[null,null,null,null,null,null,null,{"$f":"IF(Hobo!A5579<>\"\",Hobo!A5579&configuracion!$C$10,\"\")","v":""},""]
[null,null,null,null,null,null,null,{"$f":"IF(Hobo!A5583<>\"\",Hobo!A5583&configuracion!$C$10,\"\")","v":""},""]
[null,null,null,null,null,null,null,{"$f":"IF(Hobo!A5590<>\"\",Hobo!A5590&configuracion!$C$10,\"\")","v":""},""]
[null,null,null,null,null,null,null,{"$f":"IF(Hobo!A5599<>\"\",Hobo!A5599&configuracion!$C$10,\"\")","v":""},""]
[null,null,null,null,null,null,null,{"$f":"IF(Hobo!A5602<>\"\",Hobo!A5602&configuracion!$C$10,\"\")","v":""},""]
[null,null,null,null,null,null,null,{"$f":"IF(Hobo!A5610<>\"\",Hobo!A5610&configuracion!$C$10,\"\")","v":""},""]
[null,null,null,null,null,null,null,{"$f":"IF(Hobo!A5619<>\"\",Hobo!A5619&configuracion!$C$10,\"\")","v":""},""]
[null,null,null,null,null,null,null,{"$f":"IF(Hobo!A5620<>\"\",Hobo!A5620&configuracion!$C$10,\"\")","v":""},""]
[null,null,null,null,null,null,null,{"$f":"IF(Hobo!A5628<>\"\",Hobo!A5628&configuracion!$C$10,\"\")","v":""},""]
[null,null,null,null,null,null,null,{"$f":"IF(Hobo!A5633<>\"\",Hobo!A5633&configuracion!$C$10,\"\")","v":""},""]
[null,null,null,null,null,null,null,{"$f":"IF(Hobo!A5640<>\"\",Hobo!A5640&configuracion!$C$10,\"\")","v":""},""]
[null,null,null,null,null,null,null,{"$f":"IF(Hobo!A5649<>\"\",Hobo!A5649&configuracion!$C$10,\"\")","v":""},""]
[null,null,null,null,null,null,null,{"$f":"IF(Hobo!A5651<>\"\",Hobo!A5651&configuracion!$C$10,\"\")","v":""},""]
[null,null,null,null,null,null,null,{"$f":"IF(Hobo!A5660<>\"\",Hobo!A5660&configuracion!$C$10,\"\")","v":""},""]
[null,null,null,null,null,null,null,{"$f":"IF(Hobo!A5669<>\"\",Hobo!A5669&configuracion!$C$10,\"\")","v":""},""]
[null,null,null,null,null,null,null,{"$f":"IF(Hobo!A5670<>\"\",Hobo!A5670&configuracion!$C$10,\"\")","v":""},""]
[null,null,null,null,null,null,null,{"$f":"IF(Hobo!A5677<>\"\",Hobo!A5677&configuracion!$C$10,\"\")","v":""},""]
[null,null,null,null,null,null,null,{"$f":"IF(Hobo!A5683<>\"\",Hobo!A5683&configuracion!$C$10,\"\")","v":""},""]
[null,null,null,null,null,null,null,{"$f":"IF(Hobo!A5690<>\"\",Hobo!A5690&configuracion!$C$10,\"\")","v":""},""]
[null,null,null,null,null,null,null,{"$f":"IF(Hobo!A5699<>\"\",Hobo!A5699&configuracion!$C$10,\"\")","v":""},""]
[null,null,null,null,null,null,null,{"$f":"IF(Hobo!A5707<>\"\",Hobo!A5707&configuracion!$C$10,\"\")","v":""},""]
[null,null,null,null,null,null,null,{"$f":"IF(Hobo!A5710<>\"\",Hobo!A5710&configuracion!$C$10,\"\")","v":""},""]
[null,null,null,null,null,null,null,{"$f":"IF(Hobo!A5719<>\"\",Hobo!A5719&configuracion!$C$10,\"\")","v":""},""]
[null,null,null,null,null,null,null,{"$f":"IF(Hobo!A5720<>\"\",Hobo!A5720&configuracion!$C$10,\"\")","v":""},""]
[null,null,null,null,null,null,null,{"$f":"IF(Hobo!A5726<>\"\",Hobo!A5726&configuracion!$C$10,\"\")","v":""},""]
[null,null,null,null,null,null,null,{"$f":"IF(Hobo!A5737<>\"\",Hobo!A5737&configuracion!$C$10,\"\")","v":""},""]
[null,null,null,null,null,null,null,{"$f":"IF(Hobo!A5740<>\"\",Hobo!A5740&configuracion!$C$10,\"\")","v":""},""]
[null,null,null,null,null,null,null,{"$f":"IF(Hobo!A5749<>\"\",Hobo!A5749&configuracion!$C$10,\"\")","v":""},""]
[null,null,null,null,null,null,null,{"$f":"IF(Hobo!A5756<>\"\",Hobo!A5756&configuracion!$C$10,\"\")","v":""},""]
[null,null,null,null,null,null,null,{"$f":"IF(Hobo!A5760<>\"\",Hobo!A5760&configuracion!$C$10,\"\")","v":""},""]
[null,null,null,null,null,null,null,{"$f":"IF(Hobo!A5769<>\"\",Hobo!A5769&configuracion!$C$10,\"\")","v":""},""]
[null,null,null,null,null,null,null,{"$f":"IF(Hobo!A5770<>\"\",Hobo!A5770&configuracion!$C$10,\"\")","v":""},""]
[null,null,null,null,null,null,null,{"$f":"IF(Hobo!A5782<>\"\",Hobo!A5782&configuracion!$C$10,\"\")","v":""},""]
[null,null,null,null,null,null,null,{"$f":"IF(Hobo!A5787<>\"\",Hobo!A5787&configuracion!$C$10,\"\")","v":""},""]
[null,null,null,null,null,null,null,{"$f":"IF(Hobo!A5790<>\"\",Hobo!A5790&configuracion!$C$10,\"\")","v":""},""]
[null,null,null,null,null,null,null,{"$f":"IF(Hobo!A5799<>\"\",Hobo!A5799&configuracion!$C$10,\"\")","v":""},""]
[null,null,null,null,null,null,null,{"$f":"IF(Hobo!A5805<>\"\",Hobo!A5805&configuracion!$C$10,\"\")","v":""},""]
[null,null,null,null,null,null,null,{"$f":"IF(Hobo!A5810<>\"\",Hobo!A5810&configuracion!$C$10,\"\")","v":""},""]
[null,null,null,null,null,null,null,{"$f":"IF(Hobo!A5819<>\"\",Hobo!A5819&configuracion!$C$10,\"\")","v":""},""]
[null,null,null,null,null,null,null,{"$f":"IF(Hobo!A5820<>\"\",Hobo!A5820&configuracion!$C$10,\"\")","v":""},""]
[null,null,null,null,null,null,null,{"$f":"IF(Hobo!A5831<>\"\",Hobo!A5831&configuracion!$C$10,\"\")","v":""},""]
[null,null,null,null,null,null,null,{"$f":"IF(Hobo!A5837<>\"\",Hobo!A5837&configuracion!$C$10,\"\")","v":""},""]
[null,null,null,null,null,null,null,{"$f":"IF(Hobo!A5840<>\"\",Hobo!A5840&configuracion!$C$10,\"\")","v":""},""]
[null,null,null,null,null,null,null,{"$f":"IF(Hobo!A5849<>\"\",Hobo!A5849&configuracion!$C$10,\"\")","v":""},""]
[null,null,null,null,null,null,null,{"$f":"IF(Hobo!A5854<>\"\",Hobo!A5854&configuracion!$C$10,\"\")","v":""},""]
[null,null,null,null,null,null,null,{"$f":"IF(Hobo!A5860<>\"\",Hobo!A5860&configuracion!$C$10,\"\")","v":""},""]
[null,null,null,null,null,null,null,{"$f":"IF(Hobo!A5867<>\"\",Hobo!A5867&configuracion!$C$10,\"\")","v":""},""]
[null,null,null,null,null,null,null,{"$f":"IF(Hobo!A5870<>\"\",Hobo!A5870&configuracion!$C$10,\"\")","v":""},""]
[null,null,null,null,null,null,null,{"$f":"IF(Hobo!A5880<>\"\",Hobo!A5880&configuracion!$C$10,\"\")","v":""},""]
[null,null,null,null,null,null,null,{"$f":"IF(Hobo!A5887<>\"\",Hobo!A5887&configuracion!$C$10,\"\")","v":""},""]
[null,null,null,null,null,null,null,{"$f":"IF(Hobo!A5890<>\"\",Hobo!A5890&configuracion!$C$10,\"\")","v":""},""]
[null,null,null,null,null,null,null,{"$f":"IF(Hobo!A5899<>\"\",Hobo!A5899&configuracion!$C$10,\"\")","v":""},""]
[null,null,null,null,null,null,null,{"$f":"IF(Hobo!A5903<>\"\",Hobo!A5903&configuracion!$C$10,\"\")","v":""},""]
[null,null,null,null,null,null,null,{"$f":"IF(Hobo!A5910<>\"\",Hobo!A5910&configuracion!$C$10,\"\")","v":""},""]
[null,null,null,null,null,null,null,{"$f":"IF(Hobo!A5917<>\"\",Hobo!A5917&configuracion!$C$10,\"\")","v":""},""]
[null,null,null,null,null,null,null,{"$f":"IF(Hobo!A5920<>\"\",Hobo!A5920&configuracion!$C$10,\"\")","v":""},""]
[null,null,null,null,null,null,null,{"$f":"IF(Hobo!A5929<>\"\",Hobo!A5929&configuracion!$C$10,\"\")","v":""},""]
[null,null,null,null,null,null,null,{"$f":"IF(Hobo!A5937<>\"\",Hobo!A5937&configuracion!$C$10,\"\")","v":""},""]
[null,null,null,null,null,null,null,{"$f":"IF(Hobo!A5940<>\"\",Hobo!A5940&configuracion!$C$10,\"\")","v":""},""]
[null,null,null,null,null,null,null,{"$f":"IF(Hobo!A5947<>\"\",Hobo!A5947&configuracion!$C$10,\"\")","v":""},""]
[null,null,null,null,null,null,null,{"$f":"IF(Hobo!A5952<>\"\",Hobo!A5952&configuracion!$C$10,\"\")","v":""},""]
[null,null,null,null,null,null,null,{"$f":"IF(Hobo!A5960<>\"\",Hobo!A5960&configuracion!$C$10,\"\")","v":""},""]
[null,null,null,null,null,null,null,{"$f":"IF(Hobo!A5967<>\"\",Hobo!A5967&configuracion!$C$10,\"\")","v":""},""]
[null,null,null,null,null,null,null,{"$f":"IF(Hobo!A5970<>\"\",Hobo!A5970&configuracion!$C$10,\"\")","v":""},""]
[null,null,null,null,null,null,null,{"$f":"IF(Hobo!A5978<>\"\",Hobo!A5978&configuracion!$C$10,\"\")","v":""},""]
[null,null,null,null,null,null,null,{"$f":"IF(Hobo!A5987<>\"\",Hobo!A5987&configuracion!$C$10,\"\")","v":""},""]
[null,null,null,null,null,null,null,{"$f":"IF(Hobo!A5990<>\"\",Hobo!A5990&configuracion!$C$10,\"\")","v":""},""]
[null,null,null,null,null,null,null,{"$f":"IF(Hobo!A5997<>\"\",Hobo!A5997&configuracion!$C$10,\"\")","v":""},""]
[null,null,null,null,null,null,null,{"$f":"IF(Hobo!A6001<>\"\",Hobo!A6001&configuracion!$C$10,\"\")","v":""},""]
[null,null,null,null,null,null,null,{"$f":"IF(Hobo!A6010<>\"\",Hobo!A6010&configuracion!$C$10,\"\")","v":""},""]
[null,null,null,null,null,null,null,{"$f":"IF(Hobo!A6017<>\"\",Hobo!A6017&configuracion!$C$10,\"\")","v":""},""]
[null,null,null,null,null,null,null,{"$f":"IF(Hobo!A6020<>\"\",Hobo!A6020&configuracion!$C$10,\"\")","v":""},{"$f":"IF(B6020=\"\",\"\",TEXT(B6020, \"DD/MM/YYYY HH:MM:SS\"))","v":""}]
[null,null,null,null,null,null,null,{"$f":"IF(Hobo!A6027<>\"\",Hobo!A6027&configuracion!$C$10,\"\")","v":""},""]
[null,null,null,null,null,null,null,{"$f":"IF(Hobo!A6037<>\"\",Hobo!A6037&configuracion!$C$10,\"\")","v":""},""]
[null,null,null,null,null,null,null,{"$f":"IF(Hobo!A6040<>\"\",Hobo!A6040&configuracion!$C$10,\"\")","v":""},""]
[null,null,null,null,null,null,null,{"$f":"IF(Hobo!A6047<>\"\",Hobo!A6047&configuracion!$C$10,\"\")","v":""},""]
[null,null,null,null,null,null,null,{"$f":"IF(Hobo!A6057<>\"\",Hobo!A6057&configuracion!$C$10,\"\")","v":""},""]
[null,null,null,null,null,null,null,{"$f":"IF(Hobo!A6060<>\"\",Hobo!A6060&configuracion!$C$10,\"\")","v":""},""]
[null,null,null,null,null,null,null,{"$f":"IF(Hobo!A6067<>\"\",Hobo!A6067&configuracion!$C$10,\"\")","v":""},""]
[null,null,null,null,null,null,null,{"$f":"IF(Hobo!A6070<>\"\",Hobo!A6070&configuracion!$C$10,\"\")","v":""},""]
[null,null,null,null,null,null,null,{"$f":"IF(Hobo!A6080<>\"\",Hobo!A6080&configuracion!$C$10,\"\")","v":""},""]
[null,null,null,null,null,null,null,{"$f":"IF(Hobo!A6087<>\"\",Hobo!A6087&configuracion!$C$10,\"\")","v":""},""]
[null,null,null,null,null,null,null,{"$f":"IF(Hobo!A6090<>\"\",Hobo!A6090&configuracion!$C$10,\"\")","v":""},""]
[null,null,null,null,null,null,null,{"$f":"IF(Hobo!A6097<>\"\",Hobo!A6097&configuracion!$C$10,\"\")","v":""},""]
[null,null,null,null,null,null,null,{"$f":"IF(Hobo!A6106<>\"\",Hobo!A6106&configuracion!$C$10,\"\")","v":""},""]
[null,null,null,null,null,null,null,{"$f":"IF(Hobo!A6110<>\"\",Hobo!A6110&configuracion!$C$10,\"\")","v":""},""]
[null,null,null,null,null,null,null,{"$f":"IF(Hobo!A6117<>\"\",Hobo!A6117&configuracion!$C$10,\"\")","v":""},""]
[null,null,null,null,null,null,null,{"$f":"IF(Hobo!A6120<>\"\",Hobo!A6120&configuracion!$C$10,\"\")","v":""},""]
[null,null,null,null,null,null,null,{"$f":"IF(Hobo!A6129<>\"\",Hobo!A6129&configuracion!$C$10,\"\")","v":""},""]
[null,null,null,null,null,null,null,{"$f":"IF(Hobo!A6137<>\"\",Hobo!A6137&configuracion!$C$10,\"\")","v":""},""]
[null,null,null,null,null,null,null,{"$f":"IF(Hobo!A6140<>\"\",Hobo!A6140&configuracion!$C$10,\"\")","v":""},""]
[null,null,null,null,null,null,null,{"$f":"IF(Hobo!A6147<>\"\",Hobo!A6147&configuracion!$C$10,\"\")","v":""},""]
[null,null,null,null,null,null,null,{"$f":"IF(Hobo!A6155<>\"\",Hobo!A6155&configuracion!$C$10,\"\")","v":""},""]
[null,null,null,null,null,null,null,{"$f":"IF(Hobo!A6158<>\"\",Hobo!A6158&configuracion!$C$10,\"\")","v":""},""]
[null,null,null,null,null,null,null,{"$f":"IF(Hobo!A6167<>\"\",Hobo!A6167&configuracion!$C$10,\"\")","v":""},""]
[null,null,null,null,null,null,null,{"$f":"IF(Hobo!A6174<>\"\",Hobo!A6174&configuracion!$C$10,\"\")","v":""},""]
[null,null,null,null,null,null,null,{"$f":"IF(Hobo!A6178<>\"\",Hobo!A6178&configuracion!$C$10,\"\")","v":""},""]
[null,null,null,null,null,null,null,{"$f":"IF(Hobo!A6187<>\"\",Hobo!A6187&configuracion!$C$10,\"\")","v":""},""]
[null,null,null,null,null,null,null,{"$f":"IF(Hobo!A6190<>\"\",Hobo!A6190&configuracion!$C$10,\"\")","v":""},""]
[null,null,null,null,null,null,null,{"$f":"IF(Hobo!A6197<>\"\",Hobo!A6197&configuracion!$C$10,\"\")","v":""},""]
[null,null,null,null,null,null,null,{"$f":"IF(Hobo!A6207<>\"\",Hobo!A6207&configuracion!$C$10,\"\")","v":""},""]
[null,null,null,null,null,null,null,{"$f":"IF(Hobo!A6208<>\"\",Hobo!A6208&configuracion!$C$10,\"\")","v":""},""]
[null,null,null,null,null,null,null,{"$f":"IF(Hobo!A6217<>\"\",Hobo!A6217&configuracion!$C$10,\"\")","v":""},""]
[null,null,null,null,null,null,null,{"$f":"IF(Hobo!A6223<>\"\",Hobo!A6223&configuracion!$C$10,\"\")","v":""},""]
[null,null,null,null,null,null,null,{"$f":"IF(Hobo!A6228<>\"\",Hobo!A6228&configuracion!$C$10,\"\")","v":""},""]
[null,null,null,null,null,null,null,{"$f":"IF(Hobo!A6237<>\"\",Hobo!A6237&configuracion!$C$10,\"\")","v":""},""]
[null,null,null,null,null,null,null,{"$f":"IF(Hobo!A6240<>\"\",Hobo!A6240&configuracion!$C$10,\"\")","v":""},""]
[null,null,null,null,null,null,null,{"$f":"IF(Hobo!A6246<>\"\",Hobo!A6246&configuracion!$C$10,\"\")","v":""},""]
[null,null,null,null,null,null,null,{"$f":"IF(Hobo!A6257<>\"\",Hobo!A6257&configuracion!$C$10,\"\")","v":""},""]
[null,null,null,null,null,null,null,{"$f":"IF(Hobo!A6258<>\"\",Hobo!A6258&configuracion!$C$10,\"\")","v":""},""]
[null,null,null,null,null,null,null,{"$f":"IF(Hobo!A6267<>\"\",Hobo!A6267&configuracion!$C$10,\"\")","v":""},""]
[null,null,null,null,null,null,null,{"$f":"IF(Hobo!A6272<>\"\",Hobo!A6272&configuracion!$C$10,\"\")","v":""},""]
[null,null,null,null,null,null,null,{"$f":"IF(Hobo!A6278<>\"\",Hobo!A6278&configuracion!$C$10,\"\")","v":""},""]
[null,null,null,null,null,null,null,{"$f":"IF(Hobo!A6287<>\"\",Hobo!A6287&configuracion!$C$10,\"\")","v":""},""]
[null,null,null,null,null,null,null,{"$f":"IF(Hobo!A6294<>\"\",Hobo!A6294&configuracion!$C$10,\"\")","v":""},""]
[null,null,null,null,null,null,null,{"$f":"IF(Hobo!A6295<>\"\",Hobo!A6295&configuracion!$C$10,\"\")","v":""},""]
[null,null,null,null,null,null,null,{"$f":"IF(Hobo!A6307<>\"\",Hobo!A6307&configuracion!$C$10,\"\")","v":""},""]
[null,null,null,null,null,null,null,{"$f":"IF(Hobo!A6308<>\"\",Hobo!A6308&configuracion!$C$10,\"\")","v":""},""]
[null,null,null,null,null,null,null,{"$f":"IF(Hobo!A6317<>\"\",Hobo!A6317&configuracion!$C$10,\"\")","v":""},""]
[null,null,null,null,null,null,null,{"$f":"IF(Hobo!A6321<>\"\",Hobo!A6321&configuracion!$C$10,\"\")","v":""},""]
[null,null,null,null,null,null,null,{"$f":"IF(Hobo!A6328<>\"\",Hobo!A6328&configuracion!$C$10,\"\")","v":""},""]
[null,null,null,null,null,null,null,{"$f":"IF(Hobo!A6337<>\"\",Hobo!A6337&configuracion!$C$10,\"\")","v":""},""]
[null,null,null,null,null,null,null,{"$f":"IF(Hobo!A6344<>\"\",Hobo!A6344&configuracion!$C$10,\"\")","v":""},""]
[null,null,null,null,null,null,null,{"$f":"IF(Hobo!A6351<>\"\",Hobo!A6351&configuracion!$C$10,\"\")","v":""},""]
[null,null,null,null,null,null,null,{"$f":"IF(Hobo!A6357<>\"\",Hobo!A6357&configuracion!$C$10,\"\")","v":""},""]
[null,null,null,null,null,null,null,{"$f":"IF(Hobo!A6358<>\"\",Hobo!A6358&configuracion!$C$10,\"\")","v":""},""]
[null,null,null,null,null,null,null,{"$f":"IF(Hobo!A6367<>\"\",Hobo!A6367&configuracion!$C$10,\"\")","v":""},""]
[null,null,null,null,null,null,null,{"$f":"IF(Hobo!A6370<>\"\",Hobo!A6370&configuracion!$C$10,\"\")","v":""},""]
[null,null,null,null,null,null,null,{"$f":"IF(Hobo!A6378<>\"\",Hobo!A6378&configuracion!$C$10,\"\")","v":""},""]
[null,null,null,null,null,null,null,{"$f":"IF(Hobo!A6387<>\"\",Hobo!A6387&configuracion!$C$10,\"\")","v":""},""]
[null,null,null,null,null,null,null,{"$f":"IF(Hobo!A6394<>\"\",Hobo!A6394&configuracion!$C$10,\"\")","v":""},""]
[null,null,null,null,null,null,null,{"$f":"IF(Hobo!A6400<>\"\",Hobo!A6400&configuracion!$C$10,\"\")","v":""},""]
[null,null,null,null,null,null,null,{"$f":"IF(Hobo!A6407<>\"\",Hobo!A6407&configuracion!$C$10,\"\")","v":""},""]
[null,null,null,null,null,null,null,{"$f":"IF(Hobo!A6408<>\"\",Hobo!A6408&configuracion!$C$10,\"\")","v":""},""]
[null,null,null,null,null,null,null,{"$f":"IF(Hobo!A6417<>\"\",Hobo!A6417&configuracion!$C$10,\"\")","v":""},""]
[null,null,null,null,null,null,null,{"$f":"IF(Hobo!A6423<>\"\",Hobo!A6423&configuracion!$C$10,\"\")","v":""},""]
[null,null,null,null,null,null,null,{"$f":"IF(Hobo!A6428<>\"\",Hobo!A6428&configuracion!$C$10,\"\")","v":""},""]
[null,null,null,null,null,null,null,{"$f":"IF(Hobo!A6437<>\"\",Hobo!A6437&configuracion!$C$10,\"\")","v":""},""]
[null,null,null,null,null,null,null,{"$f":"IF(Hobo!A6444<>\"\",Hobo!A6444&configuracion!$C$10,\"\")","v":""},""]
[null,null,null,null,null,null,null,{"$f":"IF(Hobo!A6449<>\"\",Hobo!A6449&configuracion!$C$10,\"\")","v":""},""]
[null,null,null,null,null,null,null,{"$f":"IF(Hobo!A6457<>\"\",Hobo!A6457&configuracion!$C$10,\"\")","v":""},""]
[null,null,null,null,null,null,null,{"$f":"IF(Hobo!A6458<>\"\",Hobo!A6458&configuracion!$C$10,\"\")","v":""},""]
[null,null,null,null,null,null,null,{"$f":"IF(Hobo!A6467<>\"\",Hobo!A6467&configuracion!$C$10,\"\")","v":""},""]
[null,null,null,null,null,null,null,{"$f":"IF(Hobo!A6472<>\"\",Hobo!A6472&configuracion!$C$10,\"\")","v":""},""]
[null,null,null,null,null,null,null,{"$f":"IF(Hobo!A6478<>\"\",Hobo!A6478&configuracion!$C$10,\"\")","v":""},""]
[null,null,null,null,null,null,null,{"$f":"IF(Hobo!A6487<>\"\",Hobo!A6487&configuracion!$C$10,\"\")","v":""},""]
[null,null,null,null,null,null,null,{"$f":"IF(Hobo!A6494<>\"\",Hobo!A6494&configuracion!$C$10,\"\")","v":""},""]
[null,null,null,null,null,null,null,{"$f":"IF(Hobo!A6498<>\"\",Hobo!A6498&configuracion!$C$10,\"\")","v":""},""]
[null,null,null,null,null,null,null,{"$f":"IF(Hobo!A6505<>\"\",Hobo!A6505&configuracion!$C$10,\"\")","v":""},""]
[null,null,null,null,null,null,null,{"$f":"IF(Hobo!A6508<>\"\",Hobo!A6508&configuracion!$C$10,\"\")","v":""},""]
[null,null,null,null,null,null,null,{"$f":"IF(Hobo!A6517<>\"\",Hobo!A6517&configuracion!$C$10,\"\")","v":""},""]
[null,null,null,null,null,null,null,{"$f":"IF(Hobo!A6521<>\"\",Hobo!A6521&configuracion!$C$10,\"\")","v":""},""]
[null,null,null,null,null,null,null,{"$f":"IF(Hobo!A6528<>\"\",Hobo!A6528&configuracion!$C$10,\"\")","v":""},""]
[null,null,null,null,null,null,null,{"$f":"IF(Hobo!A6537<>\"\",Hobo!A6537&configuracion!$C$10,\"\")","v":""},""]
[null,null,null,null,null,null,null,{"$f":"IF(Hobo!A6544<>\"\",Hobo!A6544&configuracion!$C$10,\"\")","v":""},""]
[null,null,null,null,null,null,null,{"$f":"IF(Hobo!A6547<>\"\",Hobo!A6547&configuracion!$C$10,\"\")","v":""},""]
[null,null,null,null,null,null,null,{"$f":"IF(Hobo!A6555<>\"\",Hobo!A6555&configuracion!$C$10,\"\")","v":""},""]
[null,null,null,null,null,null,null,{"$f":"IF(Hobo!A6558<>\"\",Hobo!A6558&configuracion!$C$10,\"\")","v":""},""]
[null,null,null,null,null,null,null,{"$f":"IF(Hobo!A6567<>\"\",Hobo!A6567&configuracion!$C$10,\"\")","v":""},""]
[null,null,null,null,null,null,null,{"$f":"IF(Hobo!A6570<>\"\",Hobo!A6570&configuracion!$C$10,\"\")","v":""},""]
[null,null,null,null,null,null,null,{"$f":"IF(Hobo!A6578<>\"\",Hobo!A6578&configuracion!$C$10,\"\")","v":""},""]
[null,null,null,null,null,null,null,{"$f":"IF(Hobo!A6587<>\"\",Hobo!A6587&configuracion!$C$10,\"\")","v":""},""]
[null,null,null,null,null,null,null,{"$f":"IF(Hobo!A6594<>\"\",Hobo!A6594&configuracion!$C$10,\"\")","v":""},""]
[null,null,null,null,null,null,null,{"$f":"IF(Hobo!A6596<>\"\",Hobo!A6596&configuracion!$C$10,\"\")","v":""},{"$f":"IF(B6596=\"\",\"\",TEXT(B6596, \"DD/MM/YYYY HH:MM:SS\"))","v":""}]
[null,null,null,null,null,null,null,{"$f":"IF(Hobo!A6605<>\"\",Hobo!A6605&configuracion!$C$10,\"\")","v":""},""]
[null,null,null,null,null,null,null,{"$f":"IF(Hobo!A6608<>\"\",Hobo!A6608&configuracion!$C$10,\"\")","v":""},""]
[null,null,null,null,null,null,null,{"$f":"IF(Hobo!A6617<>\"\",Hobo!A6617&configuracion!$C$10,\"\")","v":""},""]
[null,null,null,null,null,null,null,{"$f":"IF(Hobo!A6626<>\"\",Hobo!A6626&configuracion!$C$10,\"\")","v":""},""]
[null,null,null,null,null,null,null,{"$f":"IF(Hobo!A6628<>\"\",Hobo!A6628&configuracion!$C$10,\"\")","v":""},""]
[null,null,null,null,null,null,null,{"$f":"IF(Hobo!A6635<>\"\",Hobo!A6635&configuracion!$C$10,\"\")","v":""},""]
[null,null,null,null,null,null,null,{"$f":"IF(Hobo!A6644<>\"\",Hobo!A6644&configuracion!$C$10,\"\")","v":""},""]
[null,null,null,null,null,null,null,{"$f":"IF(Hobo!A6645<>\"\",Hobo!A6645&configuracion!$C$10,\"\")","v":""},""]
[null,null,null,null,null,null,null,{"$f":"IF(Hobo!A6655<>\"\",Hobo!A6655&configuracion!$C$10,\"\")","v":""},""]
[null,null,null,null,null,null,null,{"$f":"IF(Hobo!A6658<>\"\",Hobo!A6658&configuracion!$C$10,\"\")","v":""},""]
[null,null,null,null,null,null,null,{"$f":"IF(Hobo!A6667<>\"\",Hobo!A6667&configuracion!$C$10,\"\")","v":""},""]
[null,null,null,null,null,null,null,{"$f":"IF(Hobo!A6675<>\"\",Hobo!A6675&configuracion!$C$10,\"\")","v":""},""]
[null,null,null,null,null,null,null,{"$f":"IF(Hobo!A6678<>\"\",Hobo!A6678&configuracion!$C$10,\"\")","v":""},""]
[null,null,null,null,null,null,null,{"$f":"IF(Hobo!A6685<>\"\",Hobo!A6685&configuracion!$C$10,\"\")","v":""},""]
[null,null,null,null,null,null,null,{"$f":"IF(Hobo!A6694<>\"\",Hobo!A6694&configuracion!$C$10,\"\")","v":""},""]
[null,null,null,null,null,null,null,{"$f":"IF(Hobo!A6701<>\"\",Hobo!A6701&configuracion!$C$10,\"\")","v":""},""]
[null,null,null,null,null,null,null,{"$f":"IF(Hobo!A6705<>\"\",Hobo!A6705&configuracion!$C$10,\"\")","v":""},""]
[null,null,null,null,null,null,null,{"$f":"IF(Hobo!A6708<>\"\",Hobo!A6708&configuracion!$C$10,\"\")","v":""},""]
[null,null,null,null,null,null,null,{"$f":"IF(Hobo!A6715<>\"\",Hobo!A6715&configuracion!$C$10,\"\")","v":""},""]
[null,null,null,null,null,null,null,{"$f":"IF(Hobo!A6724<>\"\",Hobo!A6724&configuracion!$C$10,\"\")","v":""},{"$f":"IF(B6724=\"\",\"\",TEXT(B6724, \"DD/MM/YYYY HH:MM:SS\"))","v":""}]
[null,null,null,null,null,null,null,{"$f":"IF(Hobo!A6728<>\"\",Hobo!A6728&configuracion!$C$10,\"\")","v":""},""]
[null,null,null,null,null,null,null,{"$f":"IF(Hobo!A6735<>\"\",Hobo!A6735&configuracion!$C$10,\"\")","v":""},""]
[null,null,null,null,null,null,null,{"$f":"IF(Hobo!A6744<>\"\",Hobo!A6744&configuracion!$C$10,\"\")","v":""},""]
[null,null,null,null,null,null,null,{"$f":"IF(Hobo!A6750<>\"\",Hobo!A6750&configuracion!$C$10,\"\")","v":""},""]
[null,null,null,null,null,null,null,{"$f":"IF(Hobo!A6755<>\"\",Hobo!A6755&configuracion!$C$10,\"\")","v":""},""]
[null,null,null,null,null,null,null,{"$f":"IF(Hobo!A6758<>\"\",Hobo!A6758&configuracion!$C$10,\"\")","v":""},""]
[null,null,null,null,null,null,null,{"$f":"IF(Hobo!A6765<>\"\",Hobo!A6765&configuracion!$C$10,\"\")","v":""},""]
[null,null,null,null,null,null,null,{"$f":"IF(Hobo!A6773<>\"\",Hobo!A6773&configuracion!$C$10,\"\")","v":""},""]
[null,null,null,null,null,null,null,{"$f":"IF(Hobo!A6778<>\"\",Hobo!A6778&configuracion!$C$10,\"\")","v":""},""]
[null,null,null,null,null,null,null,{"$f":"IF(Hobo!A6785<>\"\",Hobo!A6785&configuracion!$C$10,\"\")","v":""},""]
[null,null,null,null,null,null,null,{"$f":"IF(Hobo!A6794<>\"\",Hobo!A6794&configuracion!$C$10,\"\")","v":""},""]
[null,null,null,null,null,null,null,{"$f":"IF(Hobo!A6799<>\"\",Hobo!A6799&configuracion!$C$10,\"\")","v":""},""]
[null,null,null,null,null,null,null,{"$f":"IF(Hobo!A6805<>\"\",Hobo!A6805&configuracion!$C$10,\"\")","v":""},""]
[null,null,null,null,null,null,null,{"$f":"IF(Hobo!A6808<>\"\",Hobo!A6808&configuracion!$C$10,\"\")","v":""},""]
[null,null,null,null,null,null,null,{"$f":"IF(Hobo!A6815<>\"\",Hobo!A6815&configuracion!$C$10,\"\")","v":""},""]
[null,null,null,null,null,null,null,{"$f":"IF(Hobo!A6822<>\"\",Hobo!A6822&configuracion!$C$10,\"\")","v":""},""]
[null,null,null,null,null,null,null,{"$f":"IF(Hobo!A6828<>\"\",Hobo!A6828&configuracion!$C$10,\"\")","v":""},""]
[null,null,null,null,null,null,null,{"$f":"IF(Hobo!A6835<>\"\",Hobo!A6835&configuracion!$C$10,\"\")","v":""},""]
[null,null,null,null,null,null,null,{"$f":"IF(Hobo!A6844<>\"\",Hobo!A6844&configuracion!$C$10,\"\")","v":""},""]
[null,null,null,null,null,null,null,{"$f":"IF(Hobo!A6845<>\"\",Hobo!A6845&configuracion!$C$10,\"\")","v":""},""]
[null,null,null,null,null,null,null,{"$f":"IF(Hobo!A6855<>\"\",Hobo!A6855&configuracion!$C$10,\"\")","v":""},""]
[null,null,null,null,null,null,null,{"$f":"IF(Hobo!A6858<>\"\",Hobo!A6858&configuracion!$C$10,\"\")","v":""},""]
[null,null,null,null,null,null,null,{"$f":"IF(Hobo!A6865<>\"\",Hobo!A6865&configuracion!$C$10,\"\")","v":""},""]
[null,null,null,null,null,null,null,{"$f":"IF(Hobo!A6871<>\"\",Hobo!A6871&configuracion!$C$10,\"\")","v":""},""]
[null,null,null,null,null,null,null,{"$f":"IF(Hobo!A6878<>\"\",Hobo!A6878&configuracion!$C$10,\"\")","v":""},""]
[null,null,null,null,null,null,null,{"$f":"IF(Hobo!A6885<>\"\",Hobo!A6885&configuracion!$C$10,\"\")","v":""},""]
[null,null,null,null,null,null,null,{"$f":"IF(Hobo!A6894<>\"\",Hobo!A6894&configuracion!$C$10,\"\")","v":""},""]
[null,null,null,null,null,null,null,{"$f":"IF(Hobo!A6901<>\"\",Hobo!A6901&configuracion!$C$10,\"\")","v":""},""]
[null,null,null,null,null,null,null,{"$f":"IF(Hobo!A6905<>\"\",Hobo!A6905&configuracion!$C$10,\"\")","v":""},""]
[null,null,null,null,null,null,null,{"$f":"IF(Hobo!A6908<>\"\",Hobo!A6908&configuracion!$C$10,\"\")","v":""},""]
[null,null,null,null,null,null,null,{"$f":"IF(Hobo!A6915<>\"\",Hobo!A6915&configuracion!$C$10,\"\")","v":""},""]
[null,null,null,null,null,null,null,{"$f":"IF(Hobo!A6920<>\"\",Hobo!A6920&configuracion!$C$10,\"\")","v":""},""]
[null,null,null,null,null,null,null,{"$f":"IF(Hobo!A6928<>\"\",Hobo!A6928&configuracion!$C$10,\"\")","v":""},""]
[null,null,null,null,null,null,null,{"$f":"IF(Hobo!A6935<>\"\",Hobo!A6935&configuracion!$C$10,\"\")","v":""},""]
[null,null,null,null,null,null,null,{"$f":"IF(Hobo!A6944<>\"\",Hobo!A6944&configuracion!$C$10,\"\")","v":""},""]
[null,null,null,null,null,null,null,{"$f":"IF(Hobo!A6950<>\"\",Hobo!A6950&configuracion!$C$10,\"\")","v":""},""]
[null,null,null,null,null,null,null,{"$f":"IF(Hobo!A6955<>\"\",Hobo!A6955&configuracion!$C$10,\"\")","v":""},""]
[null,null,null,null,null,null,null,{"$f":"IF(Hobo!A6958<>\"\",Hobo!A6958&configuracion!$C$10,\"\")","v":""},""]
[null,null,null,null,null,null,null,{"$f":"IF(Hobo!A6965<>\"\",Hobo!A6965&configuracion!$C$10,\"\")","v":""},""]
[null,null,null,null,null,null,null,{"$f":"IF(Hobo!A6976<>\"\",Hobo!A6976&configuracion!$C$10,\"\")","v":""},""]
[null,null,null,null,null,null,null,{"$f":"IF(Hobo!A6982<>\"\",Hobo!A6982&configuracion!$C$10,\"\")","v":""},""]
[null,null,null,null,null,null,null,{"$f":"IF(Hobo!A6985<>\"\",Hobo!A6985&configuracion!$C$10,\"\")","v":""},""]
[null,null,null,null,null,null,null,{"$f":"IF(Hobo!A6994<>\"\",Hobo!A6994&configuracion!$C$10,\"\")","v":""},""]
[null,null,null,null,null,null,null,{"$f":"IF(Hobo!A6999<>\"\",Hobo!A6999&configuracion!$C$10,\"\")","v":""},""]
[null,null,null,null,null,null,null,{"$f":"IF(Hobo!A7005<>\"\",Hobo!A7005&configuracion!$C$10,\"\")","v":""},""]
[null,null,null,null,null,null,null,{"$f":"IF(Hobo!A7008<>\"\",Hobo!A7008&configuracion!$C$10,\"\")","v":""},""]
[null,null,null,null,null,null,null,{"$f":"IF(Hobo!A7015<>\"\",Hobo!A7015&configuracion!$C$10,\"\")","v":""},""]
[null,null,null,null,null,null,null,{"$f":"IF(Hobo!A7025<>\"\",Hobo!A7025&configuracion!$C$10,\"\")","v":""},""]
[null,null,null,null,null,null,null,{"$f":"IF(Hobo!A7032<>\"\",Hobo!A7032&configuracion!$C$10,\"\")","v":""},""]
[null,null,null,null,null,null,null,{"$f":"IF(Hobo!A7035<>\"\",Hobo!A7035&configuracion!$C$10,\"\")","v":""},""]
[null,null,null,null,null,null,null,{"$f":"IF(Hobo!A7044<>\"\",Hobo!A7044&configuracion!$C$10,\"\")","v":""},{"$f":"IF(B7044=\"\",\"\",TEXT(B7044, \"DD/MM/YYYY HH:MM:SS\"))","v":""}]
[null,null,null,null,null,null,null,{"$f":"IF(Hobo!A7048<>\"\",Hobo!A7048&configuracion!$C$10,\"\")","v":""},""]
[null,null,null,null,null,null,null,{"$f":"IF(Hobo!A7055<>\"\",Hobo!A7055&configuracion!$C$10,\"\")","v":""},""]
[null,null,null,null,null,null,null,{"$f":"IF(Hobo!A7062<>\"\",Hobo!A7062&configuracion!$C$10,\"\")","v":""},""]
[null,null,null,null,null,null,null,{"$f":"IF(Hobo!A7065<>\"\",Hobo!A7065&configuracion!$C$10,\"\")","v":""},""]
[null,null,null,null,null,null,null,{"$f":"IF(Hobo!A7074<>\"\",Hobo!A7074&configuracion!$C$10,\"\")","v":""},""]
[null,null,null,null,null,null,null,{"$f":"IF(Hobo!A7082<>\"\",Hobo!A7082&configuracion!$C$10,\"\")","v":""},""]
[null,null,null,null,null,null,null,{"$f":"IF(Hobo!A7085<>\"\",Hobo!A7085&configuracion!$C$10,\"\")","v":""},""]
[null,null,null,null,null,null,null,{"$f":"IF(Hobo!A7094<>\"\",Hobo!A7094&configuracion!$C$10,\"\")","v":""},""]
[null,null,null,null,null,null,null,{"$f":"IF(Hobo!A7097<>\"\",Hobo!A7097&configuracion!$C$10,\"\")","v":""},""]
[null,null,null,null,null,null,null,{"$f":"IF(Hobo!A7105<>\"\",Hobo!A7105&configuracion!$C$10,\"\")","v":""},""]
[null,null,null,null,null,null,null,{"$f":"IF(Hobo!A7112<>\"\",Hobo!A7112&configuracion!$C$10,\"\")","v":""},""]
[null,null,null,null,null,null,null,{"$f":"IF(Hobo!A7115<>\"\",Hobo!A7115&configuracion!$C$10,\"\")","v":""},""]
[null,null,null,null,null,null,null,{"$f":"IF(Hobo!A7123<>\"\",Hobo!A7123&configuracion!$C$10,\"\")","v":""},""]
[null,null,null,null,null,null,null,{"$f":"IF(Hobo!A7132<>\"\",Hobo!A7132&configuracion!$C$10,\"\")","v":""},""]
[null,null,null,null,null,null,null,{"$f":"IF(Hobo!A7135<>\"\",Hobo!A7135&configuracion!$C$10,\"\")","v":""},""]
[null,null,null,null,null,null,null,{"$f":"IF(Hobo!A7144<>\"\",Hobo!A7144&configuracion!$C$10,\"\")","v":""},""]
[null,null,null,null,null,null,null,{"$f":"IF(Hobo!A7146<>\"\",Hobo!A7146&configuracion!$C$10,\"\")","v":""},""]
[null,null,null,null,null,null,null,{"$f":"IF(Hobo!A7155<>\"\",Hobo!A7155&configuracion!$C$10,\"\")","v":""},""]
[null,null,null,null,null,null,null,{"$f":"IF(Hobo!A7162<>\"\",Hobo!A7162&configuracion!$C$10,\"\")","v":""},""]
[null,null,null,null,null,null,null,{"$f":"IF(Hobo!A7165<>\"\",Hobo!A7165&configuracion!$C$10,\"\")","v":""},""]
[null,null,null,null,null,null,null,{"$f":"IF(Hobo!A7172<>\"\",Hobo!A7172&configuracion!$C$10,\"\")","v":""},{"$f":"IF(B7172=\"\",\"\",TEXT(B7172, \"DD/MM/YYYY HH:MM:SS\"))","v":""}]
[null,null,null,null,null,null,null,{"$f":"IF(Hobo!A7182<>\"\",Hobo!A7182&configuracion!$C$10,\"\")","v":""},""]
[null,null,null,null,null,null,null,{"$f":"IF(Hobo!A7185<>\"\",Hobo!A7185&configuracion!$C$10,\"\")","v":""},""]
[null,null,null,null,null,null,null,{"$f":"IF(Hobo!A7192<>\"\",Hobo!A7192&configuracion!$C$10,\"\")","v":""},""]
[null,null,null,null,null,null,null,{"$f":"IF(Hobo!A7195<>\"\",Hobo!A7195&configuracion!$C$10,\"\")","v":""},""]
[null,null,null,null,null,null,null,{"$f":"IF(Hobo!A7205<>\"\",Hobo!A7205&configuracion!$C$10,\"\")","v":""},""]
[null,null,null,null,null,null,null,{"$f":"IF(Hobo!A7212<>\"\",Hobo!A7212&configuracion!$C$10,\"\")","v":""},""]
[null,null,null,null,null,null,null,{"$f":"IF(Hobo!A7214<>\"\",Hobo!A7214&configuracion!$C$10,\"\")","v":""},""]
[null,null,null,null,null,null,null,{"$f":"IF(Hobo!A7225<>\"\",Hobo!A7225&configuracion!$C$10,\"\")","v":""},""]
[null,null,null,null,null,null,null,{"$f":"IF(Hobo!A7232<>\"\",Hobo!A7232&configuracion!$C$10,\"\")","v":""},""]
[null,null,null,null,null,null,null,{"$f":"IF(Hobo!A7235<>\"\",Hobo!A7235&configuracion!$C$10,\"\")","v":""},""]
[null,null,null,null,null,null,null,{"$f":"IF(Hobo!A7244<>\"\",Hobo!A7244&configuracion!$C$10,\"\")","v":""},""]
[null,null,null,null,null,null,null,{"$f":"IF(Hobo!A7246<>\"\",Hobo!A7246&configuracion!$C$10,\"\")","v":""},""]
[null,null,null,null,null,null,null,{"$f":"IF(Hobo!A7255<>\"\",Hobo!A7255&configuracion!$C$10,\"\")","v":""},""]
[null,null,null,null,null,null,null,{"$f":"IF(Hobo!A7262<>\"\",Hobo!A7262&configuracion!$C$10,\"\")","v":""},""]
[null,null,null,null,null,null,null,{"$f":"IF(Hobo!A7270<>\"\",Hobo!A7270&configuracion!$C$10,\"\")","v":""},""]
[null,null,null,null,null,null,null,{"$f":"IF(Hobo!A7275<>\"\",Hobo!A7275&configuracion!$C$10,\"\")","v":""},""]
[null,null,null,null,null,null,null,{"$f":"IF(Hobo!A7282<>\"\",Hobo!A7282&configuracion!$C$10,\"\")","v":""},""]
[null,null,null,null,null,null,null,{"$f":"IF(Hobo!A7285<>\"\",Hobo!A7285&configuracion!$C$10,\"\")","v":""},""]
[null,null,null,null,null,null,null,{"$f":"IF(Hobo!A7293<>\"\",Hobo!A7293&configuracion!$C$10,\"\")","v":""},""]
[null,null,null,null,null,null,null,{"$f":"IF(Hobo!A7296<>\"\",Hobo!A7296&configuracion!$C$10,\"\")","v":""},""]
[null,null,null,null,null,null,null,{"$f":"IF(Hobo!A7305<>\"\",Hobo!A7305&configuracion!$C$10,\"\")","v":""},""]
[null,null,null,null,null,null,null,{"$f":"IF(Hobo!A7312<>\"\",Hobo!A7312&configuracion!$C$10,\"\")","v":""},""]
[null,null,null,null,null,null,null,{"$f":"IF(Hobo!A7319<>\"\",Hobo!A7319&configuracion!$C$10,\"\")","v":""},""]
[null,null,null,null,null,null,null,{"$f":"IF(Hobo!A7323<>\"\",Hobo!A7323&configuracion!$C$10,\"\")","v":""},""]
[null,null,null,null,null,null,null,{"$f":"IF(Hobo!A7332<>\"\",Hobo!A7332&configuracion!$C$10,\"\")","v":""},""]
[null,null,null,null,null,null,null,{"$f":"IF(Hobo!A7335<>\"\",Hobo!A7335&configuracion!$C$10,\"\")","v":""},""]
[null,null,null,null,null,null,null,{"$f":"IF(Hobo!A7342<>\"\",Hobo!A7342&configuracion!$C$10,\"\")","v":""},""]
[null,null,null,null,null,null,null,{"$f":"IF(Hobo!A7346<>\"\",Hobo!A7346&configuracion!$C$10,\"\")","v":""},""]
[null,null,null,null,null,null,null,{"$f":"IF(Hobo!A7355<>\"\",Hobo!A7355&configuracion!$C$10,\"\")","v":""},""]
[null,null,null,null,null,null,null,{"$f":"IF(Hobo!A7362<>\"\",Hobo!A7362&configuracion!$C$10,\"\")","v":""},""]
[null,null,null,null,null,null,null,{"$f":"IF(Hobo!A7368<>\"\",Hobo!A7368&configuracion!$C$10,\"\")","v":""},""]
[null,null,null,null,null,null,null,{"$f":"IF(Hobo!A7373<>\"\",Hobo!A7373&configuracion!$C$10,\"\")","v":""},""]
[null,null,null,null,null,null,null,{"$f":"IF(Hobo!A7382<>\"\",Hobo!A7382&configuracion!$C$10,\"\")","v":""},""]
[null,null,null,null,null,null,null,{"$f":"IF(Hobo!A7385<>\"\",Hobo!A7385&configuracion!$C$10,\"\")","v":""},""]
[null,null,null,null,null,null,null,{"$f":"IF(Hobo!A7391<>\"\",Hobo!A7391&configuracion!$C$10,\"\")","v":""},""]
[null,null,null,null,null,null,null,{"$f":"IF(Hobo!A7396<>\"\",Hobo!A7396&configuracion!$C$10,\"\")","v":""},""]
[null,null,null,null,null,null,null,{"$f":"IF(Hobo!A7403<>\"\",Hobo!A7403&configuracion!$C$10,\"\")","v":""},""]
[null,null,null,null,null,null,null,{"$f":"IF(Hobo!A7412<>\"\",Hobo!A7412&configuracion!$C$10,\"\")","v":""},""]
[null,null,null,null,null,null,null,{"$f":"IF(Hobo!A7417<>\"\",Hobo!A7417&configuracion!$C$10,\"\")","v":""},""]
[null,null,null,null,null,null,null,{"$f":"IF(Hobo!A7423<>\"\",Hobo!A7423&configuracion!$C$10,\"\")","v":""},""]
[null,null,null,null,null,null,null,{"$f":"IF(Hobo!A7432<>\"\",Hobo!A7432&configuracion!$C$10,\"\")","v":""},""]
[null,null,null,null,null,null,null,{"$f":"IF(Hobo!A7435<>\"\",Hobo!A7435&configuracion!$C$10,\"\")","v":""},""]
[null,null,null,null,null,null,null,{"$f":"IF(Hobo!A7440<>\"\",Hobo!A7440&configuracion!$C$10,\"\")","v":""},""]
[null,null,null,null,null,null,null,{"$f":"IF(Hobo!A7446<>\"\",Hobo!A7446&configuracion!$C$10,\"\")","v":""},""]
[null,null,null,null,null,null,null,{"$f":"IF(Hobo!A7453<>\"\",Hobo!A7453&configuracion!$C$10,\"\")","v":""},""]
[null,null,null,null,null,null,null,{"$f":"IF(Hobo!A7462<>\"\",Hobo!A7462&configuracion!$C$10,\"\")","v":""},""]
[null,null,null,null,null,null,null,{"$f":"IF(Hobo!A7466<>\"\",Hobo!A7466&configuracion!$C$10,\"\")","v":""},""]
[null,null,null,null,null,null,null,{"$f":"IF(Hobo!A7473<>\"\",Hobo!A7473&configuracion!$C$10,\"\")","v":""},""]
[null,null,null,null,null,null,null,{"$f":"IF(Hobo!A7482<>\"\",Hobo!A7482&configuracion!$C$10,\"\")","v":""},""]
[null,null,null,null,null,null,null,{"$f":"IF(Hobo!A7485<>\"\",Hobo!A7485&configuracion!$C$10,\"\")","v":""},""]
[null,null,null,null,null,null,null,{"$f":"IF(Hobo!A7489<>\"\",Hobo!A7489&configuracion!$C$10,\"\")","v":""},""]
[null,null,null,null,null,null,null,{"$f":"IF(Hobo!A7496<>\"\",Hobo!A7496&configuracion!$C$10,\"\")","v":""},""]
[null,null,null,null,null,null,null,{"$f":"IF(Hobo!A7503<>\"\",Hobo!A7503&configuracion!$C$10,\"\")","v":""},""]
[null,null,null,null,null,null,null,{"$f":"IF(Hobo!A7512<>\"\",Hobo!A7512&configuracion!$C$10,\"\")","v":""},""]
[null,null,null,null,null,null,null,{"$f":"IF(Hobo!A7515<>\"\",Hobo!A7515&configuracion!$C$10,\"\")","v":""},""]
[null,null,null,null,null,null,null,{"$f":"IF(Hobo!A7523<>\"\",Hobo!A7523&configuracion!$C$10,\"\")","v":""},""]
[null,null,null,null,null,null,null,{"$f":"IF(Hobo!A7532<>\"\",Hobo!A7532&configuracion!$C$10,\"\")","v":""},""]
[null,null,null,null,null,null,null,{"$f":"IF(Hobo!A7533<>\"\",Hobo!A7533&configuracion!$C$10,\"\")","v":""},""]
[null,null,null,null,null,null,null,{"$f":"IF(Hobo!A7545<>\"\",Hobo!A7545&configuracion!$C$10,\"\")","v":""},""]
[null,null,null,null,null,null,null,{"$f":"IF(Hobo!A7546<>\"\",Hobo!A7546&configuracion!$C$10,\"\")","v":""},""]
[null,null,null,null,null,null,null,{"$f":"IF(Hobo!A7553<>\"\",Hobo!A7553&configuracion!$C$10,\"\")","v":""},""]
[null,null,null,null,null,null,null,{"$f":"IF(Hobo!A7562<>\"\",Hobo!A7562&configuracion!$C$10,\"\")","v":""},""]
[null,null,null,null,null,null,null,{"$f":"IF(Hobo!A7564<>\"\",Hobo!A7564&configuracion!$C$10,\"\")","v":""},""]
[null,null,null,null,null,null,null,{"$f":"IF(Hobo!A7573<>\"\",Hobo!A7573&configuracion!$C$10,\"\")","v":""},""]
[null,null,null,null,null,null,null,{"$f":"IF(Hobo!A7582<>\"\",Hobo!A7582&configuracion!$C$10,\"\")","v":""},""]
[null,null,null,null,null,null,null,{"$f":"IF(Hobo!A7583<>\"\",Hobo!A7583&configuracion!$C$10,\"\")","v":""},""]
[null,null,null,null,null,null,null,{"$f":"IF(Hobo!A7594<>\"\",Hobo!A7594&configuracion!$C$10,\"\")","v":""},""]
[null,null,null,null,null,null,null,{"$f":"IF(Hobo!A7596<>\"\",Hobo!A7596&configuracion!$C$10,\"\")","v":""},""]
[null,null,null,null,null,null,null,{"$f":"IF(Hobo!A7603<>\"\",Hobo!A7603&configuracion!$C$10,\"\")","v":""},""]
[null,null,null,null,null,null,null,{"$f":"IF(Hobo!A7612<>\"\",Hobo!A7612&configuracion!$C$10,\"\")","v":""},""]
[null,null,null,null,null,null,null,{"$f":"IF(Hobo!A7617<>\"\",Hobo!A7617&configuracion!$C$10,\"\")","v":""},""]
[null,null,null,null,null,null,null,{"$f":"IF(Hobo!A7623<>\"\",Hobo!A7623&configuracion!$C$10,\"\")","v":""},""]
[null,null,null,null,null,null,null,{"$f":"IF(Hobo!A7632<>\"\",Hobo!A7632&configuracion!$C$10,\"\")","v":""},""]
[null,null,null,null,null,null,null,{"$f":"IF(Hobo!A7633<>\"\",Hobo!A7633&configuracion!$C$10,\"\")","v":""},""]
[null,null,null,null,null,null,null,{"$f":"IF(Hobo!A7643<>\"\",Hobo!A7643&configuracion!$C$10,\"\")","v":""},""]
[null,null,null,null,null,null,null,{"$f":"IF(Hobo!A7646<>\"\",Hobo!A7646&configuracion!$C$10,\"\")","v":""},""]
[null,null,null,null,null,null,null,{"$f":"IF(Hobo!A7653<>\"\",Hobo!A7653&configuracion!$C$10,\"\")","v":""},""]
[null,null,null,null,null,null,null,{"$f":"IF(Hobo!A7662<>\"\",Hobo!A7662&configuracion!$C$10,\"\")","v":""},""]
[null,null,null,null,null,null,null,{"$f":"IF(Hobo!A7666<>\"\",Hobo!A7666&configuracion!$C$10,\"\")","v":""},""]
[null,null,null,null,null,null,null,{"$f":"IF(Hobo!A7673<>\"\",Hobo!A7673&configuracion!$C$10,\"\")","v":""},""]
[null,null,null,null,null,null,null,{"$f":"IF(Hobo!A7682<>\"\",Hobo!A7682&configuracion!$C$10,\"\")","v":""},""]
[null,null,null,null,null,null,null,{"$f":"IF(Hobo!A7683<>\"\",Hobo!A7683&configuracion!$C$10,\"\")","v":""},""]
[null,null,null,null,null,null,null,{"$f":"IF(Hobo!A7692<>\"\",Hobo!A7692&configuracion!$C$10,\"\")","v":""},""]
[null,null,null,null,null,null,null,{"$f":"IF(Hobo!A7696<>\"\",Hobo!A7696&configuracion!$C$10,\"\")","v":""},""]
[null,null,null,null,null,null,null,{"$f":"IF(Hobo!A7703<>\"\",Hobo!A7703&configuracion!$C$10,\"\")","v":""},""]
[null,null,null,null,null,null,null,{"$f":"IF(Hobo!A7712<>\"\",Hobo!A7712&configuracion!$C$10,\"\")","v":""},""]
[null,null,null,null,null,null,null,{"$f":"IF(Hobo!A7715<>\"\",Hobo!A7715&configuracion!$C$10,\"\")","v":""},""]
[null,null,null,null,null,null,null,{"$f":"IF(Hobo!A7723<>\"\",Hobo!A7723&configuracion!$C$10,\"\")","v":""},""]
[null,null,null,null,null,null,null,{"$f":"IF(Hobo!A7732<>\"\",Hobo!A7732&configuracion!$C$10,\"\")","v":""},""]
[null,null,null,null,null,null,null,{"$f":"IF(Hobo!A7733<>\"\",Hobo!A7733&configuracion!$C$10,\"\")","v":""},""]
[null,null,null,null,null,null,null,{"$f":"IF(Hobo!A7741<>\"\",Hobo!A7741&configuracion!$C$10,\"\")","v":""},""]
[null,null,null,null,null,null,null,{"$f":"IF(Hobo!A7750<>\"\",Hobo!A7750&configuracion!$C$10,\"\")","v":""},""]
[null,null,null,null,null,null,null,{"$f":"IF(Hobo!A7753<>\"\",Hobo!A7753&configuracion!$C$10,\"\")","v":""},""]
[null,null,null,null,null,null,null,{"$f":"IF(Hobo!A7762<>\"\",Hobo!A7762&configuracion!$C$10,\"\")","v":""},""]
[null,null,null,null,null,null,null,{"$f":"IF(Hobo!A7764<>\"\",Hobo!A7764&configuracion!$C$10,\"\")","v":""},""]
[null,null,null,null,null,null,null,{"$f":"IF(Hobo!A7773<>\"\",Hobo!A7773&configuracion!$C$10,\"\")","v":""},""]
[null,null,null,null,null,null,null,{"$f":"IF(Hobo!A7782<>\"\",Hobo!A7782&configuracion!$C$10,\"\")","v":""},""]
[null,null,null,null,null,null,null,{"$f":"IF(Hobo!A7783<>\"\",Hobo!A7783&configuracion!$C$10,\"\")","v":""},""]
[null,null,null,null,null,null,null,{"$f":"IF(Hobo!A7790<>\"\",Hobo!A7790&configuracion!$C$10,\"\")","v":""},""]
[null,null,null,null,null,null,null,{"$f":"IF(Hobo!A7800<>\"\",Hobo!A7800&configuracion!$C$10,\"\")","v":""},""]
[null,null,null,null,null,null,null,{"$f":"IF(Hobo!A7803<>\"\",Hobo!A7803&configuracion!$C$10,\"\")","v":""},""]
[null,null,null,null,null,null,null,{"$f":"IF(Hobo!A7812<>\"\",Hobo!A7812&configuracion!$C$10,\"\")","v":""},{"$f":"IF(B7812=\"\",\"\",TEXT(B7812, \"DD/MM/YYYY HH:MM:SS\"))","v":""}]
[null,null,null,null,null,null,null,{"$f":"IF(Hobo!A7820<>\"\",Hobo!A7820&configuracion!$C$10,\"\")","v":""},""]
[null,null,null,null,null,null,null,{"$f":"IF(Hobo!A7823<>\"\",Hobo!A7823&configuracion!$C$10,\"\")","v":""},""]
[null,null,null,null,null,null,null,{"$f":"IF(Hobo!A7832<>\"\",Hobo!A7832&configuracion!$C$10,\"\")","v":""},""]
[null,null,null,null,null,null,null,{"$f":"IF(Hobo!A7833<>\"\",Hobo!A7833&configuracion!$C$10,\"\")","v":""},""]
[null,null,null,null,null,null,null,{"$f":"IF(Hobo!A7839<>\"\",Hobo!A7839&configuracion!$C$10,\"\")","v":""},""]
[null,null,null,null,null,null,null,{"$f":"IF(Hobo!A7850<>\"\",Hobo!A7850&configuracion!$C$10,\"\")","v":""},""]
[null,null,null,null,null,null,null,{"$f":"IF(Hobo!A7853<>\"\",Hobo!A7853&configuracion!$C$10,\"\")","v":""},""]
[null,null,null,null,null,null,null,{"$f":"IF(Hobo!A7862<>\"\",Hobo!A7862&configuracion!$C$10,\"\")","v":""},""]
[null,null,null,null,null,null,null,{"$f":"IF(Hobo!A7869<>\"\",Hobo!A7869&configuracion!$C$10,\"\")","v":""},""]
[null,null,null,null,null,null,null,{"$f":"IF(Hobo!A7873<>\"\",Hobo!A7873&configuracion!$C$10,\"\")","v":""},""]
[null,null,null,null,null,null,null,{"$f":"IF(Hobo!A7880<>\"\",Hobo!A7880&configuracion!$C$10,\"\")","v":""},""]
[null,null,null,null,null,null,null,{"$f":"IF(Hobo!A7883<>\"\",Hobo!A7883&configuracion!$C$10,\"\")","v":""},""]
[null,null,null,null,null,null,null,{"$f":"IF(Hobo!A7895<>\"\",Hobo!A7895&configuracion!$C$10,\"\")","v":""},""]
[null,null,null,null,null,null,null,{"$f":"IF(Hobo!A7900<>\"\",Hobo!A7900&configuracion!$C$10,\"\")","v":""},""]
[null,null,null,null,null,null,null,{"$f":"IF(Hobo!A7903<>\"\",Hobo!A7903&configuracion!$C$10,\"\")","v":""},""]
[null,null,null,null,null,null,null,{"$f":"IF(Hobo!A7912<>\"\",Hobo!A7912&configuracion!$C$10,\"\")","v":""},""]
[null,null,null,null,null,null,null,{"$f":"IF(Hobo!A7918<>\"\",Hobo!A7918&configuracion!$C$10,\"\")","v":""},""]
[null,null,null,null,null,null,null,{"$f":"IF(Hobo!A7923<>\"\",Hobo!A7923&configuracion!$C$10,\"\")","v":""},""]
[null,null,null,null,null,null,null,{"$f":"IF(Hobo!A7930<>\"\",Hobo!A7930&configuracion!$C$10,\"\")","v":""},""]
[null,null,null,null,null,null,null,{"$f":"IF(Hobo!A7933<>\"\",Hobo!A7933&configuracion!$C$10,\"\")","v":""},""]
[null,null,null,null,null,null,null,{"$f":"IF(Hobo!A7944<>\"\",Hobo!A7944&configuracion!$C$10,\"\")","v":""},""]
[null,null,null,null,null,null,null,{"$f":"IF(Hobo!A7950<>\"\",Hobo!A7950&configuracion!$C$10,\"\")","v":""},""]
[null,null,null,null,null,null,null,{"$f":"IF(Hobo!A7953<>\"\",Hobo!A7953&configuracion!$C$10,\"\")","v":""},""]
[null,null,null,null,null,null,null,{"$f":"IF(Hobo!A7960<>\"\",Hobo!A7960&configuracion!$C$10,\"\")","v":""},""]
[null,null,null,null,null,null,null,{"$f":"IF(Hobo!A7967<>\"\",Hobo!A7967&configuracion!$C$10,\"\")","v":""},""]
[null,null,null,null,null,null,null,{"$f":"IF(Hobo!A7973<>\"\",Hobo!A7973&configuracion!$C$10,\"\")","v":""},""]
[null,null,null,null,null,null,null,{"$f":"IF(Hobo!A7980<>\"\",Hobo!A7980&configuracion!$C$10,\"\")","v":""},""]
[null,null,null,null,null,null,null,{"$f":"IF(Hobo!A7983<>\"\",Hobo!A7983&configuracion!$C$10,\"\")","v":""},""]
[null,null,null,null,null,null,null,{"$f":"IF(Hobo!A7993<>\"\",Hobo!A7993&configuracion!$C$10,\"\")","v":""},""]
[null,null,null,null,null,null,null,{"$f":"IF(Hobo!A8000<>\"\",Hobo!A8000&configuracion!$C$10,\"\")","v":""},""]
[null,null,null,null,null,null,null,{"$f":"IF(Hobo!A8003<>\"\",Hobo!A8003&configuracion!$C$10,\"\")","v":""},""]
[null,null,null,null,null,null,null,{"$f":"IF(Hobo!A8010<>\"\",Hobo!A8010&configuracion!$C$10,\"\")","v":""},""]
[null,null,null,null,null,null,null,{"$f":"IF(Hobo!A8016<>\"\",Hobo!A8016&configuracion!$C$10,\"\")","v":""},""]
[null,null,null,null,null,null,null,{"$f":"IF(Hobo!A8023<>\"\",Hobo!A8023&configuracion!$C$10,\"\")","v":""},""]
[null,null,null,null,null,null,null,{"$f":"IF(Hobo!A8030<>\"\",Hobo!A8030&configuracion!$C$10,\"\")","v":""},""]
[null,null,null,null,null,null,null,{"$f":"IF(Hobo!A8033<>\"\",Hobo!A8033&configuracion!$C$10,\"\")","v":""},""]
[null,null,null,null,null,null,null,{"$f":"IF(Hobo!A8042<>\"\",Hobo!A8042&configuracion!$C$10,\"\")","v":""},""]
[null,null,null,null,null,null,null,{"$f":"IF(Hobo!A8050<>\"\",Hobo!A8050&configuracion!$C$10,\"\")","v":""},""]
[null,null,null,null,null,null,null,{"$f":"IF(Hobo!A8053<>\"\",Hobo!A8053&configuracion!$C$10,\"\")","v":""},""]
[null,null,null,null,null,null,null,{"$f":"IF(Hobo!A8060<>\"\",Hobo!A8060&configuracion!$C$10,\"\")","v":""},""]
[null,null,null,null,null,null,null,{"$f":"IF(Hobo!A8065<>\"\",Hobo!A8065&configuracion!$C$10,\"\")","v":""},""]
[null,null,null,null,null,null,null,{"$f":"IF(Hobo!A8073<>\"\",Hobo!A8073&configuracion!$C$10,\"\")","v":""},""]
[null,null,null,null,null,null,null,{"$f":"IF(Hobo!A8080<>\"\",Hobo!A8080&configuracion!$C$10,\"\")","v":""},""]
[null,null,null,null,null,null,null,{"$f":"IF(Hobo!A8083<>\"\",Hobo!A8083&configuracion!$C$10,\"\")","v":""},""]
[null,null,null,null,null,null,null,{"$f":"IF(Hobo!A8095<>\"\",Hobo!A8095&configuracion!$C$10,\"\")","v":""},""]
[null,null,null,null,null,null,null,{"$f":"IF(Hobo!A8100<>\"\",Hobo!A8100&configuracion!$C$10,\"\")","v":""},""]
[null,null,null,null,null,null,null,{"$f":"IF(Hobo!A8103<>\"\",Hobo!A8103&configuracion!$C$10,\"\")","v":""},""]
[null,null,null,null,null,null,null,{"$f":"IF(Hobo!A8110<>\"\",Hobo!A8110&configuracion!$C$10,\"\")","v":""},""]
[null,null,null,null,null,null,null,{"$f":"IF(Hobo!A8114<>\"\",Hobo!A8114&configuracion!$C$10,\"\")","v":""},""]
[null,null,null,null,null,null,null,{"$f":"IF(Hobo!A8123<>\"\",Hobo!A8123&configuracion!$C$10,\"\")","v":""},""]
[null,null,null,null,null,null,null,{"$f":"IF(Hobo!A8130<>\"\",Hobo!A8130&configuracion!$C$10,\"\")","v":""},""]
[null,null,null,null,null,null,null,{"$f":"IF(Hobo!A8133<>\"\",Hobo!A8133&configuracion!$C$10,\"\")","v":""},""]
[null,null,null,null,null,null,null,{"$f":"IF(Hobo!A8144<>\"\",Hobo!A8144&configuracion!$C$10,\"\")","v":""},""]
[null,null,null,null,null,null,null,{"$f":"IF(Hobo!A8150<>\"\",Hobo!A8150&configuracion!$C$10,\"\")","v":""},""]
[null,null,null,null,null,null,null,{"$f":"IF(Hobo!A8153<>\"\",Hobo!A8153&configuracion!$C$10,\"\")","v":""},""]
[null,null,null,null,null,null,null,{"$f":"IF(Hobo!A8160<>\"\",Hobo!A8160&configuracion!$C$10,\"\")","v":""},""]
[null,null,null,null,null,null,null,{"$f":"IF(Hobo!A8170<>\"\",Hobo!A8170&configuracion!$C$10,\"\")","v":""},""]
[null,null,null,null,null,null,null,{"$f":"IF(Hobo!A8171<>\"\",Hobo!A8171&configuracion!$C$10,\"\")","v":""},""]
[null,null,null,null,null,null,null,{"$f":"IF(Hobo!A8180<>\"\",Hobo!A8180&configuracion!$C$10,\"\")","v":""},""]
[null,null,null,null,null,null,null,{"$f":"IF(Hobo!A8183<>\"\",Hobo!A8183&configuracion!$C$10,\"\")","v":""},""]
[null,null,null,null,null,null,null,{"$f":"IF(Hobo!A8193<>\"\",Hobo!A8193&configuracion!$C$10,\"\")","v":""},""]
[null,null,null,null,null,null,null,{"$f":"IF(Hobo!A8200<>\"\",Hobo!A8200&configuracion!$C$10,\"\")","v":""},""]
[null,null,null,null,null,null,null,{"$f":"IF(Hobo!A8203<>\"\",Hobo!A8203&configuracion!$C$10,\"\")","v":""},""]
[null,null,null,null,null,null,null,{"$f":"IF(Hobo!A8210<>\"\",Hobo!A8210&configuracion!$C$10,\"\")","v":""},""]
[null,null,null,null,null,null,null,{"$f":"IF(Hobo!A8219<>\"\",Hobo!A8219&configuracion!$C$10,\"\")","v":""},""]
[null,null,null,null,null,null,null,{"$f":"IF(Hobo!A8221<>\"\",Hobo!A8221&configuracion!$C$10,\"\")","v":""},""]
[null,null,null,null,null,null,null,{"$f":"IF(Hobo!A8230<>\"\",Hobo!A8230&configuracion!$C$10,\"\")","v":""},""]
[null,null,null,null,null,null,null,{"$f":"IF(Hobo!A8233<>\"\",Hobo!A8233&configuracion!$C$10,\"\")","v":""},""]
[null,null,null,null,null,null,null,{"$f":"IF(Hobo!A8242<>\"\",Hobo!A8242&configuracion!$C$10,\"\")","v":""},""]
[null,null,null,null,null,null,null,{"$f":"IF(Hobo!A8250<>\"\",Hobo!A8250&configuracion!$C$10,\"\")","v":""},""]
[null,null,null,null,null,null,null,{"$f":"IF(Hobo!A8253<>\"\",Hobo!A8253&configuracion!$C$10,\"\")","v":""},""]
[null,null,null,null,null,null,null,{"$f":"IF(Hobo!A8261<>\"\",Hobo!A8261&configuracion!$C$10,\"\")","v":""},""]
[null,null,null,null,null,null,null,{"$f":"IF(Hobo!A8270<>\"\",Hobo!A8270&configuracion!$C$10,\"\")","v":""},""]
[null,null,null,null,null,null,null,{"$f":"IF(Hobo!A8271<>\"\",Hobo!A8271&configuracion!$C$10,\"\")","v":""},""]
[null,null,null,null,null,null,null,{"$f":"IF(Hobo!A8280<>\"\",Hobo!A8280&configuracion!$C$10,\"\")","v":""},""]
[null,null,null,null,null,null,null,{"$f":"IF(Hobo!A8287<>\"\",Hobo!A8287&configuracion!$C$10,\"\")","v":""},""]
[null,null,null,null,null,null,null,{"$f":"IF(Hobo!A8291<>\"\",Hobo!A8291&configuracion!$C$10,\"\")","v":""},""]
[null,null,null,null,null,null,null,{"$f":"IF(Hobo!A8300<>\"\",Hobo!A8300&configuracion!$C$10,\"\")","v":""},""]
[null,null,null,null,null,null,null,{"$f":"IF(Hobo!A8307<>\"\",Hobo!A8307&configuracion!$C$10,\"\")","v":""},""]
[null,null,null,null,null,null,null,{"$f":"IF(Hobo!A8310<>\"\",Hobo!A8310&configuracion!$C$10,\"\")","v":""},""]
[null,null,null,null,null,null,null,{"$f":"IF(Hobo!A8320<>\"\",Hobo!A8320&configuracion!$C$10,\"\")","v":""},""]
[null,null,null,null,null,null,null,{"$f":"IF(Hobo!A8321<>\"\",Hobo!A8321&configuracion!$C$10,\"\")","v":""},""]
[null,null,null,null,null,null,null,{"$f":"IF(Hobo!A8330<>\"\",Hobo!A8330&configuracion!$C$10,\"\")","v":""},""]
[null,null,null,null,null,null,null,{"$f":"IF(Hobo!A8336<>\"\",Hobo!A8336&configuracion!$C$10,\"\")","v":""},""]
[null,null,null,null,null,null,null,{"$f":"IF(Hobo!A8341<>\"\",Hobo!A8341&configuracion!$C$10,\"\")","v":""},""]
[null,null,null,null,null,null,null,{"$f":"IF(Hobo!A8350<>\"\",Hobo!A8350&configuracion!$C$10,\"\")","v":""},""]
[null,null,null,null,null,null,null,{"$f":"IF(Hobo!A8357<>\"\",Hobo!A8357&configuracion!$C$10,\"\")","v":""},""]
[null,null,null,null,null,null,null,{"$f":"IF(Hobo!A8359<>\"\",Hobo!A8359&configuracion!$C$10,\"\")","v":""},""]
[null,null,null,null,null,null,null,{"$f":"IF(Hobo!A8370<>\"\",Hobo!A8370&configuracion!$C$10,\"\")","v":""},""]
[null,null,null,null,null,null,null,{"$f":"IF(Hobo!A8371<>\"\",Hobo!A8371&configuracion!$C$10,\"\")","v":""},""]
[null,null,null,null,null,null,null,{"$f":"IF(Hobo!A8380<>\"\",Hobo!A8380&configuracion!$C$10,\"\")","v":""},""]
[null,null,null,null,null,null,null,{"$f":"IF(Hobo!A8385<>\"\",Hobo!A8385&configuracion!$C$10,\"\")","v":""},""]
[null,null,null,null,null,null,null,{"$f":"IF(Hobo!A8391<>\"\",Hobo!A8391&configuracion!$C$10,\"\")","v":""},""]
[null,null,null,null,null,null,null,{"$f":"IF(Hobo!A8400<>\"\",Hobo!A8400&configuracion!$C$10,\"\")","v":""},""]
[null,null,null,null,null,null,null,{"$f":"IF(Hobo!A8407<>\"\",Hobo!A8407&configuracion!$C$10,\"\")","v":""},""]
[null,null,null,null,null,null,null,{"$f":"IF(Hobo!A8408<>\"\",Hobo!A8408&configuracion!$C$10,\"\")","v":""},""]
[null,null,null,null,null,null,null,{"$f":"IF(Hobo!A8420<>\"\",Hobo!A8420&configuracion!$C$10,\"\")","v":""},""]
[null,null,null,null,null,null,null,{"$f":"IF(Hobo!A8421<>\"\",Hobo!A8421&configuracion!$C$10,\"\")","v":""},""]
[null,null,null,null,null,null,null,{"$f":"IF(Hobo!A8430<>\"\",Hobo!A8430&configuracion!$C$10,\"\")","v":""},""]
[null,null,null,null,null,null,null,{"$f":"IF(Hobo!A8438<>\"\",Hobo!A8438&configuracion!$C$10,\"\")","v":""},""]
[null,null,null,null,null,null,null,{"$f":"IF(Hobo!A8441<>\"\",Hobo!A8441&configuracion!$C$10,\"\")","v":""},""]
[null,null,null,null,null,null,null,{"$f":"IF(Hobo!A8450<>\"\",Hobo!A8450&configuracion!$C$10,\"\")","v":""},""]
[null,null,null,null,null,null,null,{"$f":"IF(Hobo!A8457<>\"\",Hobo!A8457&configuracion!$C$10,\"\")","v":""},""]
[null,null,null,null,null,null,null,{"$f":"IF(Hobo!A8464<>\"\",Hobo!A8464&configuracion!$C$10,\"\")","v":""},""]
[null,null,null,null,null,null,null,{"$f":"IF(Hobo!A8470<>\"\",Hobo!A8470&configuracion!$C$10,\"\")","v":""},""]
[null,null,null,null,null,null,null,{"$f":"IF(Hobo!A8471<>\"\",Hobo!A8471&configuracion!$C$10,\"\")","v":""},""]
[null,null,null,null,null,null,null,{"$f":"IF(Hobo!A8480<>\"\",Hobo!A8480&configuracion!$C$10,\"\")","v":""},""]
[null,null,null,null,null,null,null,{"$f":"IF(Hobo!A8487<>\"\",Hobo!A8487&configuracion!$C$10,\"\")","v":""},""]
[null,null,null,null,null,null,null,{"$f":"IF(Hobo!A8491<>\"\",Hobo!A8491&configuracion!$C$10,\"\")","v":""},""]
[null,null,null,null,null,null,null,{"$f":"IF(Hobo!A8500<>\"\",Hobo!A8500&configuracion!$C$10,\"\")","v":""},""]
[null,null,null,null,null,null,null,{"$f":"IF(Hobo!A8507<>\"\",Hobo!A8507&configuracion!$C$10,\"\")","v":""},""]
[null,null,null,null,null,null,null,{"$f":"IF(Hobo!A8513<>\"\",Hobo!A8513&configuracion!$C$10,\"\")","v":""},""]
[null,null,null,null,null,null,null,{"$f":"IF(Hobo!A8518<>\"\",Hobo!A8518&configuracion!$C$10,\"\")","v":""},""]
[null,null,null,null,null,null,null,{"$f":"IF(Hobo!A8521<>\"\",Hobo!A8521&configuracion!$C$10,\"\")","v":""},""]
[null,null,null,null,null,null,null,{"$f":"IF(Hobo!A8530<>\"\",Hobo!A8530&configuracion!$C$10,\"\")","v":""},""]
[null,null,null,null,null,null,null,{"$f":"IF(Hobo!A8536<>\"\",Hobo!A8536&configuracion!$C$10,\"\")","v":""},""]
[null,null,null,null,null,null,null,{"$f":"IF(Hobo!A8541<>\"\",Hobo!A8541&configuracion!$C$10,\"\")","v":""},""]
[null,null,null,null,null,null,null,{"$f":"IF(Hobo!A8550<>\"\",Hobo!A8550&configuracion!$C$10,\"\")","v":""},""]
[null,null,null,null,null,null,null,{"$f":"IF(Hobo!A8557<>\"\",Hobo!A8557&configuracion!$C$10,\"\")","v":""},""]
[null,null,null,null,null,null,null,{"$f":"IF(Hobo!A8562<>\"\",Hobo!A8562&configuracion!$C$10,\"\")","v":""},""]
[null,null,null,null,null,null,null,{"$f":"IF(Hobo!A8568<>\"\",Hobo!A8568&configuracion!$C$10,\"\")","v":""},""]
[null,null,null,null,null,null,null,{"$f":"IF(Hobo!A8571<>\"\",Hobo!A8571&configuracion!$C$10,\"\")","v":""},""]
[null,null,null,null,null,null,null,{"$f":"IF(Hobo!A8580<>\"\",Hobo!A8580&configuracion!$C$10,\"\")","v":""},{"$f":"IF(B8580=\"\",\"\",TEXT(B8580, \"DD/MM/YYYY HH:MM:SS\"))","v":""}]
[null,null,null,null,null,null,null,{"$f":"IF(Hobo!A8585<>\"\",Hobo!A8585&configuracion!$C$10,\"\")","v":""},""]
[null,null,null,null,null,null,null,{"$f":"IF(Hobo!A8591<>\"\",Hobo!A8591&configuracion!$C$10,\"\")","v":""},""]
[null,null,null,null,null,null,null,{"$f":"IF(Hobo!A8600<>\"\",Hobo!A8600&configuracion!$C$10,\"\")","v":""},""]
[null,null,null,null,null,null,null,{"$f":"IF(Hobo!A8607<>\"\",Hobo!A8607&configuracion!$C$10,\"\")","v":""},""]
[null,null,null,null,null,null,null,{"$f":"IF(Hobo!A8611<>\"\",Hobo!A8611&configuracion!$C$10,\"\")","v":""},""]
[null,null,null,null,null,null,null,{"$f":"IF(Hobo!A8618<>\"\",Hobo!A8618&configuracion!$C$10,\"\")","v":""},""]
[null,null,null,null,null,null,null,{"$f":"IF(Hobo!A8621<>\"\",Hobo!A8621&configuracion!$C$10,\"\")","v":""},""]
[null,null,null,null,null,null,null,{"$f":"IF(Hobo!A8630<>\"\",Hobo!A8630&configuracion!$C$10,\"\")","v":""},""]
[null,null,null,null,null,null,null,{"$f":"IF(Hobo!A8634<>\"\",Hobo!A8634&configuracion!$C$10,\"\")","v":""},""]
[null,null,null,null,null,null,null,{"$f":"IF(Hobo!A8641<>\"\",Hobo!A8641&configuracion!$C$10,\"\")","v":""},""]
[null,null,null,null,null,null,null,{"$f":"IF(Hobo!A8648<>\"\",Hobo!A8648&configuracion!$C$10,\"\")","v":""},""]
[null,null,null,null,null,null,null,{"$f":"IF(Hobo!A8657<>\"\",Hobo!A8657&configuracion!$C$10,\"\")","v":""},""]
[null,null,null,null,null,null,null,{"$f":"IF(Hobo!A8660<>\"\",Hobo!A8660&configuracion!$C$10,\"\")","v":""},""]
[null,null,null,null,null,null,null,{"$f":"IF(Hobo!A8668<>\"\",Hobo!A8668&configuracion!$C$10,\"\")","v":""},""]
[null,null,null,null,null,null,null,{"$f":"IF(Hobo!A8671<>\"\",Hobo!A8671&configuracion!$C$10,\"\")","v":""},""]
[null,null,null,null,null,null,null,{"$f":"IF(Hobo!A8680<>\"\",Hobo!A8680&configuracion!$C$10,\"\")","v":""},""]
[null,null,null,null,null,null,null,{"$f":"IF(Hobo!A8683<>\"\",Hobo!A8683&configuracion!$C$10,\"\")","v":""},""]
[null,null,null,null,null,null,null,{"$f":"IF(Hobo!A8691<>\"\",Hobo!A8691&configuracion!$C$10,\"\")","v":""},""]
[null,null,null,null,null,null,null,{"$f":"IF(Hobo!A8698<>\"\",Hobo!A8698&configuracion!$C$10,\"\")","v":""},""]
[null,null,null,null,null,null,null,{"$f":"IF(Hobo!A8707<>\"\",Hobo!A8707&configuracion!$C$10,\"\")","v":""},""]
[null,null,null,null,null,null,null,{"$f":"IF(Hobo!A8709<>\"\",Hobo!A8709&configuracion!$C$10,\"\")","v":""},""]
[null,null,null,null,null,null,null,{"$f":"IF(Hobo!A8718<>\"\",Hobo!A8718&configuracion!$C$10,\"\")","v":""},""]
[null,null,null,null,null,null,null,{"$f":"IF(Hobo!A8721<>\"\",Hobo!A8721&configuracion!$C$10,\"\")","v":""},""]
[null,null,null,null,null,null,null,{"$f":"IF(Hobo!A8730<>\"\",Hobo!A8730&configuracion!$C$10,\"\")","v":""},""]
[null,null,null,null,null,null,null,{"$f":"IF(Hobo!A8739<>\"\",Hobo!A8739&configuracion!$C$10,\"\")","v":""},""]
[null,null,null,null,null,null,null,{"$f":"IF(Hobo!A8741<>\"\",Hobo!A8741&configuracion!$C$10,\"\")","v":""},""]
[null,null,null,null,null,null,null,{"$f":"IF(Hobo!A8748<>\"\",Hobo!A8748&configuracion!$C$10,\"\")","v":""},""]
[null,null,null,null,null,null,null,{"$f":"IF(Hobo!A8757<>\"\",Hobo!A8757&configuracion!$C$10,\"\")","v":""},""]
[null,null,null,null,null,null,null,{"$f":"IF(Hobo!A8758<>\"\",Hobo!A8758&configuracion!$C$10,\"\")","v":""},""]
[null,null,null,null,null,null,null,{"$f":"IF(Hobo!A8768<>\"\",Hobo!A8768&configuracion!$C$10,\"\")","v":""},""]
[null,null,null,null,null,null,null,{"$f":"IF(Hobo!A8771<>\"\",Hobo!A8771&configuracion!$C$10,\"\")","v":""},""]
[null,null,null,null,null,null,null,{"$f":"IF(Hobo!A8778<>\"\",Hobo!A8778&configuracion!$C$10,\"\")","v":""},""]
[null,null,null,null,null,null,null,{"$f":"IF(Hobo!A8788<>\"\",Hobo!A8788&configuracion!$C$10,\"\")","v":""},""]
[null,null,null,null,null,null,null,{"$f":"IF(Hobo!A8791<>\"\",Hobo!A8791&configuracion!$C$10,\"\")","v":""},""]
[null,null,null,null,null,null,null,{"$f":"IF(Hobo!A8798<>\"\",Hobo!A8798&configuracion!$C$10,\"\")","v":""},""]
[null,null,null,null,null,null,null,{"$f":"IF(Hobo!A8807<>\"\",Hobo!A8807&configuracion!$C$10,\"\")","v":""},""]
[null,null,null,null,null,null,null,{"$f":"IF(Hobo!A8814<>\"\",Hobo!A8814&configuracion!$C$10,\"\")","v":""},""]
[null,null,null,null,null,null,null,{"$f":"IF(Hobo!A8818<>\"\",Hobo!A8818&configuracion!$C$10,\"\")","v":""},""]
[null,null,null,null,null,null,null,{"$f":"IF(Hobo!A8821<>\"\",Hobo!A8821&configuracion!$C$10,\"\")","v":""},""]
[null,null,null,null,null,null,null,{"$f":"IF(Hobo!A8828<>\"\",Hobo!A8828&configuracion!$C$10,\"\")","v":""},""]
[null,null,null,null,null,null,null,{"$f":"IF(Hobo!A8837<>\"\",Hobo!A8837&configuracion!$C$10,\"\")","v":""},""]
[null,null,null,null,null,null,null,{"$f":"IF(Hobo!A8841<>\"\",Hobo!A8841&configuracion!$C$10,\"\")","v":""},""]
[null,null,null,null,null,null,null,{"$f":"IF(Hobo!A8848<>\"\",Hobo!A8848&configuracion!$C$10,\"\")","v":""},""]
[null,null,null,null,null,null,null,{"$f":"IF(Hobo!A8857<>\"\",Hobo!A8857&configuracion!$C$10,\"\")","v":""},""]
[null,null,null,null,null,null,null,{"$f":"IF(Hobo!A8860<>\"\",Hobo!A8860&configuracion!$C$10,\"\")","v":""},""]
[null,null,null,null,null,null,null,{"$f":"IF(Hobo!A8868<>\"\",Hobo!A8868&configuracion!$C$10,\"\")","v":""},""]
[null,null,null,null,null,null,null,{"$f":"IF(Hobo!A8871<>\"\",Hobo!A8871&configuracion!$C$10,\"\")","v":""},""]
[null,null,null,null,null,null,null,{"$f":"IF(Hobo!A8878<>\"\",Hobo!A8878&configuracion!$C$10,\"\")","v":""},""]
[null,null,null,null,null,null,null,{"$f":"IF(Hobo!A8886<>\"\",Hobo!A8886&configuracion!$C$10,\"\")","v":""},""]
[null,null,null,null,null,null,null,{"$f":"IF(Hobo!A8891<>\"\",Hobo!A8891&configuracion!$C$10,\"\")","v":""},""]
[null,null,null,null,null,null,null,{"$f":"IF(Hobo!A8898<>\"\",Hobo!A8898&configuracion!$C$10,\"\")","v":""},""]
[null,null,null,null,null,null,null,{"$f":"IF(Hobo!A8907<>\"\",Hobo!A8907&configuracion!$C$10,\"\")","v":""},""]
[null,null,null,null,null,null,null,{"$f":"IF(Hobo!A8909<>\"\",Hobo!A8909&configuracion!$C$10,\"\")","v":""},""]
[null,null,null,null,null,null,null,{"$f":"IF(Hobo!A8918<>\"\",Hobo!A8918&configuracion!$C$10,\"\")","v":""},""]
[null,null,null,null,null,null,null,{"$f":"IF(Hobo!A8921<>\"\",Hobo!A8921&configuracion!$C$10,\"\")","v":""},""]
[null,null,null,null,null,null,null,{"$f":"IF(Hobo!A8928<>\"\",Hobo!A8928&configuracion!$C$10,\"\")","v":""},""]
[null,null,null,null,null,null,null,{"$f":"IF(Hobo!A8935<>\"\",Hobo!A8935&configuracion!$C$10,\"\")","v":""},""]
[null,null,null,null,null,null,null,{"$f":"IF(Hobo!A8941<>\"\",Hobo!A8941&configuracion!$C$10,\"\")","v":""},""]
[null,null,null,null,null,null,null,{"$f":"IF(Hobo!A8948<>\"\",Hobo!A8948&configuracion!$C$10,\"\")","v":""},""]
[null,null,null,null,null,null,null,{"$f":"IF(Hobo!A8957<>\"\",Hobo!A8957&configuracion!$C$10,\"\")","v":""},""]
[null,null,null,null,null,null,null,{"$f":"IF(Hobo!A8958<>\"\",Hobo!A8958&configuracion!$C$10,\"\")","v":""},""]
[null,null,null,null,null,null,null,{"$f":"IF(Hobo!A8968<>\"\",Hobo!A8968&configuracion!$C$10,\"\")","v":""},""]
[null,null,null,null,null,null,null,{"$f":"IF(Hobo!A8971<>\"\",Hobo!A8971&configuracion!$C$10,\"\")","v":""},""]
[null,null,null,null,null,null,null,{"$f":"IF(Hobo!A8978<>\"\",Hobo!A8978&configuracion!$C$10,\"\")","v":""},""]
[null,null,null,null,null,null,null,{"$f":"IF(Hobo!A8984<>\"\",Hobo!A8984&configuracion!$C$10,\"\")","v":""},""]
[null,null,null,null,null,null,null,{"$f":"IF(Hobo!A8995<>\"\",Hobo!A8995&configuracion!$C$10,\"\")","v":""},""]
[null,null,null,null,null,null,null,{"$f":"IF(Hobo!A8998<>\"\",Hobo!A8998&configuracion!$C$10,\"\")","v":""},""]
[null,null,null,null,null,null,null,{"$f":"IF(Hobo!A9007<>\"\",Hobo!A9007&configuracion!$C$10,\"\")","v":""},""]
[null,null,null,null,null,null,null,{"$f":"IF(Hobo!A9014<>\"\",Hobo!A9014&configuracion!$C$10,\"\")","v":""},""]
[null,null,null,null,null,null,null,{"$f":"IF(Hobo!A9018<>\"\",Hobo!A9018&configuracion!$C$10,\"\")","v":""},""]
[null,null,null,null,null,null,null,{"$f":"IF(Hobo!A9021<>\"\",Hobo!A9021&configuracion!$C$10,\"\")","v":""},""]
[null,null,null,null,null,null,null,{"$f":"IF(Hobo!A9028<>\"\",Hobo!A9028&configuracion!$C$10,\"\")","v":""},{"$f":"IF(B9028=\"\",\"\",TEXT(B9028, \"DD/MM/YYYY HH:MM:SS\"))","v":""}]
[null,null,null,null,null,null,null,{"$f":"IF(Hobo!A9033<>\"\",Hobo!A9033&configuracion!$C$10,\"\")","v":""},""]
[null,null,null,null,null,null,null,{"$f":"IF(Hobo!A9045<>\"\",Hobo!A9045&configuracion!$C$10,\"\")","v":""},""]
[null,null,null,null,null,null,null,{"$f":"IF(Hobo!A9048<>\"\",Hobo!A9048&configuracion!$C$10,\"\")","v":""},""]
[null,null,null,null,null,null,null,{"$f":"IF(Hobo!A9057<>\"\",Hobo!A9057&configuracion!$C$10,\"\")","v":""},""]
[null,null,null,null,null,null,null,{"$f":"IF(Hobo!A9063<>\"\",Hobo!A9063&configuracion!$C$10,\"\")","v":""},""]
[null,null,null,null,null,null,null,{"$f":"IF(Hobo!A9068<>\"\",Hobo!A9068&configuracion!$C$10,\"\")","v":""},""]
[null,null,null,null,null,null,null,{"$f":"IF(Hobo!A9075<>\"\",Hobo!A9075&configuracion!$C$10,\"\")","v":""},""]
[null,null,null,null,null,null,null,{"$f":"IF(Hobo!A9078<>\"\",Hobo!A9078&configuracion!$C$10,\"\")","v":""},""]
[null,null,null,null,null,null,null,{"$f":"IF(Hobo!A9089<>\"\",Hobo!A9089&configuracion!$C$10,\"\")","v":""},""]
[null,null,null,null,null,null,null,{"$f":"IF(Hobo!A9095<>\"\",Hobo!A9095&configuracion!$C$10,\"\")","v":""},""]
[null,null,null,null,null,null,null,{"$f":"IF(Hobo!A9098<>\"\",Hobo!A9098&configuracion!$C$10,\"\")","v":""},""]
[null,null,null,null,null,null,null,{"$f":"IF(Hobo!A9107<>\"\",Hobo!A9107&configuracion!$C$10,\"\")","v":""},""]
[null,null,null,null,null,null,null,{"$f":"IF(Hobo!A9112<>\"\",Hobo!A9112&configuracion!$C$10,\"\")","v":""},""]
[null,null,null,null,null,null,null,{"$f":"IF(Hobo!A9118<>\"\",Hobo!A9118&configuracion!$C$10,\"\")","v":""},""]
[null,null,null,null,null,null,null,{"$f":"IF(Hobo!A9125<>\"\",Hobo!A9125&configuracion!$C$10,\"\")","v":""},""]
[null,null,null,null,null,null,null,{"$f":"IF(Hobo!A9128<>\"\",Hobo!A9128&configuracion!$C$10,\"\")","v":""},""]
[null,null,null,null,null,null,null,{"$f":"IF(Hobo!A9138<>\"\",Hobo!A9138&configuracion!$C$10,\"\")","v":""},""]
[null,null,null,null,null,null,null,{"$f":"IF(Hobo!A9145<>\"\",Hobo!A9145&configuracion!$C$10,\"\")","v":""},""]
[null,null,null,null,null,null,null,{"$f":"IF(Hobo!A9148<>\"\",Hobo!A9148&configuracion!$C$10,\"\")","v":""},""]
[null,null,null,null,null,null,null,{"$f":"IF(Hobo!A9157<>\"\",Hobo!A9157&configuracion!$C$10,\"\")","v":""},""]
[null,null,null,null,null,null,null,{"$f":"IF(Hobo!A9161<>\"\",Hobo!A9161&configuracion!$C$10,\"\")","v":""},""]
[null,null,null,null,null,null,null,{"$f":"IF(Hobo!A9168<>\"\",Hobo!A9168&configuracion!$C$10,\"\")","v":""},""]
[null,null,null,null,null,null,null,{"$f":"IF(Hobo!A9175<>\"\",Hobo!A9175&configuracion!$C$10,\"\")","v":""},""]
[null,null,null,null,null,null,null,{"$f":"IF(Hobo!A9178<>\"\",Hobo!A9178&configuracion!$C$10,\"\")","v":""},""]
[null,null,null,null,null,null,null,{"$f":"IF(Hobo!A9187<>\"\",Hobo!A9187&configuracion!$C$10,\"\")","v":""},""]
[null,null,null,null,null,null,null,{"$f":"IF(Hobo!A9195<>\"\",Hobo!A9195&configuracion!$C$10,\"\")","v":""},""]
[null,null,null,null,null,null,null,{"$f":"IF(Hobo!A9198<>\"\",Hobo!A9198&configuracion!$C$10,\"\")","v":""},""]
[null,null,null,null,null,null,null,{"$f":"IF(Hobo!A9205<>\"\",Hobo!A9205&configuracion!$C$10,\"\")","v":""},""]
[null,null,null,null,null,null,null,{"$f":"IF(Hobo!A9210<>\"\",Hobo!A9210&configuracion!$C$10,\"\")","v":""},""]
[null,null,null,null,null,null,null,{"$f":"IF(Hobo!A9218<>\"\",Hobo!A9218&configuracion!$C$10,\"\")","v":""},""]
[null,null,null,null,null,null,null,{"$f":"IF(Hobo!A9225<>\"\",Hobo!A9225&configuracion!$C$10,\"\")","v":""},""]
[null,null,null,null,null,null,null,{"$f":"IF(Hobo!A9228<>\"\",Hobo!A9228&configuracion!$C$10,\"\")","v":""},""]
[null,null,null,null,null,null,null,{"$f":"IF(Hobo!A9236<>\"\",Hobo!A9236&configuracion!$C$10,\"\")","v":""},""]
[null,null,null,null,null,null,null,{"$f":"IF(Hobo!A9245<>\"\",Hobo!A9245&configuracion!$C$10,\"\")","v":""},""]
[null,null,null,null,null,null,null,{"$f":"IF(Hobo!A9248<>\"\",Hobo!A9248&configuracion!$C$10,\"\")","v":""},""]
[null,null,null,null,null,null,null,{"$f":"IF(Hobo!A9255<>\"\",Hobo!A9255&configuracion!$C$10,\"\")","v":""},""]
[null,null,null,null,null,null,null,{"$f":"IF(Hobo!A9259<>\"\",Hobo!A9259&configuracion!$C$10,\"\")","v":""},""]
[null,null,null,null,null,null,null,{"$f":"IF(Hobo!A9268<>\"\",Hobo!A9268&configuracion!$C$10,\"\")","v":""},""]
[null,null,null,null,null,null,null,{"$f":"IF(Hobo!A9275<>\"\",Hobo!A9275&configuracion!$C$10,\"\")","v":""},""]
[null,null,null,null,null,null,null,{"$f":"IF(Hobo!A9278<>\"\",Hobo!A9278&configuracion!$C$10,\"\")","v":""},""]
[null,null,null,null,null,null,null,{"$f":"IF(Hobo!A9285<>\"\",Hobo!A9285&configuracion!$C$10,\"\")","v":""},""]
[null,null,null,null,null,null,null,{"$f":"IF(Hobo!A9295<>\"\",Hobo!A9295&configuracion!$C$10,\"\")","v":""},""]
[null,null,null,null,null,null,null,{"$f":"IF(Hobo!A9298<>\"\",Hobo!A9298&configuracion!$C$10,\"\")","v":""},""]
[null,null,null,null,null,null,null,{"$f":"IF(Hobo!A9308<>\"\",Hobo!A9308&configuracion!$C$10,\"\")","v":""},""]
[null,null,null,null,null,null,null,{"$f":"IF(Hobo!A9309<>\"\",Hobo!A9309&configuracion!$C$10,\"\")","v":""},""]
[null,null,null,null,null,null,null,{"$f":"IF(Hobo!A9318<>\"\",Hobo!A9318&configuracion!$C$10,\"\")","v":""},""]
[null,null,null,null,null,null,null,{"$f":"IF(Hobo!A9325<>\"\",Hobo!A9325&configuracion!$C$10,\"\")","v":""},""]
[null,null,null,null,null,null,null,{"$f":"IF(Hobo!A9327<>\"\",Hobo!A9327&configuracion!$C$10,\"\")","v":""},""]
[null,null,null,null,null,null,null,{"$f":"IF(Hobo!A9336<>\"\",Hobo!A9336&configuracion!$C$10,\"\")","v":""},""]
[null,null,null,null,null,null,null,{"$f":"IF(Hobo!A9345<>\"\",Hobo!A9345&configuracion!$C$10,\"\")","v":""},""]
[null,null,null,null,null,null,null,{"$f":"IF(Hobo!A9348<>\"\",Hobo!A9348&configuracion!$C$10,\"\")","v":""},{"$f":"IF(B9348=\"\",\"\",TEXT(B9348, \"DD/MM/YYYY HH:MM:SS\"))","v":""}]
[null,null,null,null,null,null,null,{"$f":"IF(Hobo!A9357<>\"\",Hobo!A9357&configuracion!$C$10,\"\")","v":""},""]
[null,null,null,null,null,null,null,{"$f":"IF(Hobo!A9359<>\"\",Hobo!A9359&configuracion!$C$10,\"\")","v":""},""]
[null,null,null,null,null,null,null,{"$f":"IF(Hobo!A9368<>\"\",Hobo!A9368&configuracion!$C$10,\"\")","v":""},""]
[null,null,null,null,null,null,null,{"$f":"IF(Hobo!A9375<>\"\",Hobo!A9375&configuracion!$C$10,\"\")","v":""},""]
[null,null,null,null,null,null,null,{"$f":"IF(Hobo!A9383<>\"\",Hobo!A9383&configuracion!$C$10,\"\")","v":""},""]
[null,null,null,null,null,null,null,{"$f":"IF(Hobo!A9386<>\"\",Hobo!A9386&configuracion!$C$10,\"\")","v":""},""]
[null,null,null,null,null,null,null,{"$f":"IF(Hobo!A9395<>\"\",Hobo!A9395&configuracion!$C$10,\"\")","v":""},""]
[null,null,null,null,null,null,null,{"$f":"IF(Hobo!A9398<>\"\",Hobo!A9398&configuracion!$C$10,\"\")","v":""},""]
[null,null,null,null,null,null,null,{"$f":"IF(Hobo!A9406<>\"\",Hobo!A9406&configuracion!$C$10,\"\")","v":""},""]
[null,null,null,null,null,null,null,{"$f":"IF(Hobo!A9409<>\"\",Hobo!A9409&configuracion!$C$10,\"\")","v":""},""]
[null,null,null,null,null,null,null,{"$f":"IF(Hobo!A9416<>\"\",Hobo!A9416&configuracion!$C$10,\"\")","v":""},""]
[null,null,null,null,null,null,null,{"$f":"IF(Hobo!A9425<>\"\",Hobo!A9425&configuracion!$C$10,\"\")","v":""},""]
[null,null,null,null,null,null,null,{"$f":"IF(Hobo!A9432<>\"\",Hobo!A9432&configuracion!$C$10,\"\")","v":""},""]
[null,null,null,null,null,null,null,{"$f":"IF(Hobo!A9436<>\"\",Hobo!A9436&configuracion!$C$10,\"\")","v":""},""]
[null,null,null,null,null,null,null,{"$f":"IF(Hobo!A9445<>\"\",Hobo!A9445&configuracion!$C$10,\"\")","v":""},""]
[null,null,null,null,null,null,null,{"$f":"IF(Hobo!A9448<>\"\",Hobo!A9448&configuracion!$C$10,\"\")","v":""},""]
[null,null,null,null,null,null,null,{"$f":"IF(Hobo!A9455<>\"\",Hobo!A9455&configuracion!$C$10,\"\")","v":""},""]
[null,null,null,null,null,null,null,{"$f":"IF(Hobo!A9459<>\"\",Hobo!A9459&configuracion!$C$10,\"\")","v":""},""]
[null,null,null,null,null,null,null,{"$f":"IF(Hobo!A9466<>\"\",Hobo!A9466&configuracion!$C$10,\"\")","v":""},""]
[null,null,null,null,null,null,null,{"$f":"IF(Hobo!A9475<>\"\",Hobo!A9475&configuracion!$C$10,\"\")","v":""},""]
[null,null,null,null,null,null,null,{"$f":"IF(Hobo!A9481<>\"\",Hobo!A9481&configuracion!$C$10,\"\")","v":""},""]
[null,null,null,null,null,null,null,{"$f":"IF(Hobo!A9486<>\"\",Hobo!A9486&configuracion!$C$10,\"\")","v":""},""]
[null,null,null,null,null,null,null,{"$f":"IF(Hobo!A9495<>\"\",Hobo!A9495&configuracion!$C$10,\"\")","v":""},""]
[null,null,null,null,null,null,null,{"$f":"IF(Hobo!A9498<>\"\",Hobo!A9498&configuracion!$C$10,\"\")","v":""},""]
[null,null,null,null,null,null,null,{"$f":"IF(Hobo!A9504<>\"\",Hobo!A9504&configuracion!$C$10,\"\")","v":""},""]
[null,null,null,null,null,null,null,{"$f":"IF(Hobo!A9509<>\"\",Hobo!A9509&configuracion!$C$10,\"\")","v":""},""]
[null,null,null,null,null,null,null,{"$f":"IF(Hobo!A9516<>\"\",Hobo!A9516&configuracion!$C$10,\"\")","v":""},""]
[null,null,null,null,null,null,null,{"$f":"IF(Hobo!A9525<>\"\",Hobo!A9525&configuracion!$C$10,\"\")","v":""},""]
[null,null,null,null,null,null,null,{"$f":"IF(Hobo!A9530<>\"\",Hobo!A9530&configuracion!$C$10,\"\")","v":""},""]
[null,null,null,null,null,null,null,{"$f":"IF(Hobo!A9536<>\"\",Hobo!A9536&configuracion!$C$10,\"\")","v":""},""]
[null,null,null,null,null,null,null,{"$f":"IF(Hobo!A9545<>\"\",Hobo!A9545&configuracion!$C$10,\"\")","v":""},""]
[null,null,null,null,null,null,null,{"$f":"IF(Hobo!A9546<>\"\",Hobo!A9546&configuracion!$C$10,\"\")","v":""},""]
[null,null,null,null,null,null,null,{"$f":"IF(Hobo!A9553<>\"\",Hobo!A9553&configuracion!$C$10,\"\")","v":""},""]
[null,null,null,null,null,null,null,{"$f":"IF(Hobo!A9559<>\"\",Hobo!A9559&configuracion!$C$10,\"\")","v":""},""]
[null,null,null,null,null,null,null,{"$f":"IF(Hobo!A9566<>\"\",Hobo!A9566&configuracion!$C$10,\"\")","v":""},""]
[null,null,null,null,null,null,null,{"$f":"IF(Hobo!A9575<>\"\",Hobo!A9575&configuracion!$C$10,\"\")","v":""},""]
[null,null,null,null,null,null,null,{"$f":"IF(Hobo!A9579<>\"\",Hobo!A9579&configuracion!$C$10,\"\")","v":""},""]
[null,null,null,null,null,null,null,{"$f":"IF(Hobo!A9586<>\"\",Hobo!A9586&configuracion!$C$10,\"\")","v":""},""]
[null,null,null,null,null,null,null,{"$f":"IF(Hobo!A9595<>\"\",Hobo!A9595&configuracion!$C$10,\"\")","v":""},""]
[null,null,null,null,null,null,null,{"$f":"IF(Hobo!A9596<>\"\",Hobo!A9596&configuracion!$C$10,\"\")","v":""},""]
[null,null,null,null,null,null,null,{"$f":"IF(Hobo!A9602<>\"\",Hobo!A9602&configuracion!$C$10,\"\")","v":""},""]
[null,null,null,null,null,null,null,{"$f":"IF(Hobo!A9609<>\"\",Hobo!A9609&configuracion!$C$10,\"\")","v":""},""]
[null,null,null,null,null,null,null,{"$f":"IF(Hobo!A9616<>\"\",Hobo!A9616&configuracion!$C$10,\"\")","v":""},""]
[null,null,null,null,null,null,null,{"$f":"IF(Hobo!A9625<>\"\",Hobo!A9625&configuracion!$C$10,\"\")","v":""},""]
[null,null,null,null,null,null,null,{"$f":"IF(Hobo!A9628<>\"\",Hobo!A9628&configuracion!$C$10,\"\")","v":""},""]
[null,null,null,null,null,null,null,{"$f":"IF(Hobo!A9636<>\"\",Hobo!A9636&configuracion!$C$10,\"\")","v":""},""]
[null,null,null,null,null,null,null,{"$f":"IF(Hobo!A9645<>\"\",Hobo!A9645&configuracion!$C$10,\"\")","v":""},""]
[null,null,null,null,null,null,null,{"$f":"IF(Hobo!A9646<>\"\",Hobo!A9646&configuracion!$C$10,\"\")","v":""},""]
[null,null,null,null,null,null,null,{"$f":"IF(Hobo!A9658<>\"\",Hobo!A9658&configuracion!$C$10,\"\")","v":""},""]
[null,null,null,null,null,null,null,{"$f":"IF(Hobo!A9659<>\"\",Hobo!A9659&configuracion!$C$10,\"\")","v":""},""]
[null,null,null,null,null,null,null,{"$f":"IF(Hobo!A9666<>\"\",Hobo!A9666&configuracion!$C$10,\"\")","v":""},""]
[null,null,null,null,null,null,null,{"$f":"IF(Hobo!A9675<>\"\",Hobo!A9675&configuracion!$C$10,\"\")","v":""},""]
[null,null,null,null,null,null,null,{"$f":"IF(Hobo!A9681<>\"\",Hobo!A9681&configuracion!$C$10,\"\")","v":""},""]
[null,null,null,null,null,null,null,{"$f":"IF(Hobo!A9686<>\"\",Hobo!A9686&configuracion!$C$10,\"\")","v":""},""]
[null,null,null,null,null,null,null,{"$f":"IF(Hobo!A9695<>\"\",Hobo!A9695&configuracion!$C$10,\"\")","v":""},""]
[null,null,null,null,null,null,null,{"$f":"IF(Hobo!A9696<>\"\",Hobo!A9696&configuracion!$C$10,\"\")","v":""},""]
[null,null,null,null,null,null,null,{"$f":"IF(Hobo!A9707<>\"\",Hobo!A9707&configuracion!$C$10,\"\")","v":""},""]
[null,null,null,null,null,null,null,{"$f":"IF(Hobo!A9709<>\"\",Hobo!A9709&configuracion!$C$10,\"\")","v":""},""]
[null,null,null,null,null,null,null,{"$f":"IF(Hobo!A9716<>\"\",Hobo!A9716&configuracion!$C$10,\"\")","v":""},""]
[null,null,null,null,null,null,null,{"$f":"IF(Hobo!A9725<>\"\",Hobo!A9725&configuracion!$C$10,\"\")","v":""},""]
[null,null,null,null,null,null,null,{"$f":"IF(Hobo!A9730<>\"\",Hobo!A9730&configuracion!$C$10,\"\")","v":""},""]
[null,null,null,null,null,null,null,{"$f":"IF(Hobo!A9736<>\"\",Hobo!A9736&configuracion!$C$10,\"\")","v":""},""]
[null,null,null,null,null,null,null,{"$f":"IF(Hobo!A9745<>\"\",Hobo!A9745&configuracion!$C$10,\"\")","v":""},""]
[null,null,null,null,null,null,null,{"$f":"IF(Hobo!A9746<>\"\",Hobo!A9746&configuracion!$C$10,\"\")","v":""},""]
[null,null,null,null,null,null,null,{"$f":"IF(Hobo!A9756<>\"\",Hobo!A9756&configuracion!$C$10,\"\")","v":""},""]
[null,null,null,null,null,null,null,{"$f":"IF(Hobo!A9763<>\"\",Hobo!A9763&configuracion!$C$10,\"\")","v":""},""]
[null,null,null,null,null,null,null,{"$f":"IF(Hobo!A9766<>\"\",Hobo!A9766&configuracion!$C$10,\"\")","v":""},""]
[null,null,null,null,null,null,null,{"$f":"IF(Hobo!A9775<>\"\",Hobo!A9775&configuracion!$C$10,\"\")","v":""},""]
[null,null,null,null,null,null,null,{"$f":"IF(Hobo!A9779<>\"\",Hobo!A9779&configuracion!$C$10,\"\")","v":""},""]
[null,null,null,null,null,null,null,{"$f":"IF(Hobo!A9786<>\"\",Hobo!A9786&configuracion!$C$10,\"\")","v":""},""]
[null,null,null,null,null,null,null,{"$f":"IF(Hobo!A9795<>\"\",Hobo!A9795&configuracion!$C$10,\"\")","v":""},""]
[null,null,null,null,null,null,null,{"$f":"IF(Hobo!A9796<>\"\",Hobo!A9796&configuracion!$C$10,\"\")","v":""},{"$f":"IF(B9796=\"\",\"\",TEXT(B9796, \"DD/MM/YYYY HH:MM:SS\"))","v":""}]
[null,null,null,null,null,null,null,{"$f":"IF(Hobo!A9805<>\"\",Hobo!A9805&configuracion!$C$10,\"\")","v":""},""]
[null,null,null,null,null,null,null,{"$f":"IF(Hobo!A9813<>\"\",Hobo!A9813&configuracion!$C$10,\"\")","v":""},""]
[null,null,null,null,null,null,null,{"$f":"IF(Hobo!A9816<>\"\",Hobo!A9816&configuracion!$C$10,\"\")","v":""},""]
[null,null,null,null,null,null,null,{"$f":"IF(Hobo!A9825<>\"\",Hobo!A9825&configuracion!$C$10,\"\")","v":""},""]
[null,null,null,null,null,null,null,{"$f":"IF(Hobo!A9828<>\"\",Hobo!A9828&configuracion!$C$10,\"\")","v":""},""]
[null,null,null,null,null,null,null,{"$f":"IF(Hobo!A9836<>\"\",Hobo!A9836&configuracion!$C$10,\"\")","v":""},""]
[null,null,null,null,null,null,null,{"$f":"IF(Hobo!A9845<>\"\",Hobo!A9845&configuracion!$C$10,\"\")","v":""},""]
[null,null,null,null,null,null,null,{"$f":"IF(Hobo!A9846<>\"\",Hobo!A9846&configuracion!$C$10,\"\")","v":""},""]
[null,null,null,null,null,null,null,{"$f":"IF(Hobo!A9854<>\"\",Hobo!A9854&configuracion!$C$10,\"\")","v":""},""]
[null,null,null,null,null,null,null,{"$f":"IF(Hobo!A9863<>\"\",Hobo!A9863&configuracion!$C$10,\"\")","v":""},""]
[null,null,null,null,null,null,null,{"$f":"IF(Hobo!A9866<>\"\",Hobo!A9866&configuracion!$C$10,\"\")","v":""},""]
[null,null,null,null,null,null,null,{"$f":"IF(Hobo!A9875<>\"\",Hobo!A9875&configuracion!$C$10,\"\")","v":""},""]
[null,null,null,null,null,null,null,{"$f":"IF(Hobo!A9877<>\"\",Hobo!A9877&configuracion!$C$10,\"\")","v":""},""]
[null,null,null,null,null,null,null,{"$f":"IF(Hobo!A9886<>\"\",Hobo!A9886&configuracion!$C$10,\"\")","v":""},""]
[null,null,null,null,null,null,null,{"$f":"IF(Hobo!A9893<>\"\",Hobo!A9893&configuracion!$C$10,\"\")","v":""},""]
[null,null,null,null,null,null,null,{"$f":"IF(Hobo!A9896<>\"\",Hobo!A9896&configuracion!$C$10,\"\")","v":""},""]
[null,null,null,null,null,null,null,{"$f":"IF(Hobo!A9903<>\"\",Hobo!A9903&configuracion!$C$10,\"\")","v":""},""]
[null,null,null,null,null,null,null,{"$f":"IF(Hobo!A9913<>\"\",Hobo!A9913&configuracion!$C$10,\"\")","v":""},""]
[null,null,null,null,null,null,null,{"$f":"IF(Hobo!A9916<>\"\",Hobo!A9916&configuracion!$C$10,\"\")","v":""},""]
[null,null,null,null,null,null,null,{"$f":"IF(Hobo!A9925<>\"\",Hobo!A9925&configuracion!$C$10,\"\")","v":""},""]
[null,null,null,null,null,null,null,{"$f":"IF(Hobo!A9933<>\"\",Hobo!A9933&configuracion!$C$10,\"\")","v":""},""]
[null,null,null,null,null,null,null,{"$f":"IF(Hobo!A9936<>\"\",Hobo!A9936&configuracion!$C$10,\"\")","v":""},""]
[null,null,null,null,null,null,null,{"$f":"IF(Hobo!A9943<>\"\",Hobo!A9943&configuracion!$C$10,\"\")","v":""},""]
[null,null,null,null,null,null,null,{"$f":"IF(Hobo!A9946<>\"\",Hobo!A9946&configuracion!$C$10,\"\")","v":""},""]
[null,null,null,null,null,null,null,{"$f":"IF(Hobo!A9952<>\"\",Hobo!A9952&configuracion!$C$10,\"\")","v":""},""]
[null,null,null,null,null,null,null,{"$f":"IF(Hobo!A9963<>\"\",Hobo!A9963&configuracion!$C$10,\"\")","v":""},""]
[null,null,null,null,null,null,null,{"$f":"IF(Hobo!A9966<>\"\",Hobo!A9966&configuracion!$C$10,\"\")","v":""},""]
[null,null,null,null,null,null,null,{"$f":"IF(Hobo!A9973<>\"\",Hobo!A9973&configuracion!$C$10,\"\")","v":""},""]
[null,null,null,null,null,null,null,{"$f":"IF(Hobo!A9982<>\"\",Hobo!A9982&configuracion!$C$10,\"\")","v":""},""]
[null,null,null,null,null,null,null,{"$f":"IF(Hobo!A9986<>\"\",Hobo!A9986&configuracion!$C$10,\"\")","v":""},""]
[null,null,null,null,null,null,null,{"$f":"IF(Hobo!A9993<>\"\",Hobo!A9993&configuracion!$C$10,\"\")","v":""},""]
[null,null,null,null,null,null,null,{"$f":"IF(Hobo!A9996<>\"\",Hobo!A9996&configuracion!$C$10,\"\")","v":""},""]
[null,null,null,null,null,null,null,{"$f":"IF(Hobo!A10008<>\"\",Hobo!A10008&configuracion!$C$10,\"\")","v":""},""]
[null,null,null,null,null,null,null,{"$f":"IF(Hobo!A10013<>\"\",Hobo!A10013&configuracion!$C$10,\"\")","v":""},""]
[null,null,null,null,null,null,null,{"$f":"IF(Hobo!A10016<>\"\",Hobo!A10016&configuracion!$C$10,\"\")","v":""},""]
[null,null,null,null,null,null,null,{"$f":"IF(Hobo!A10023<>\"\",Hobo!A10023&configuracion!$C$10,\"\")","v":""},""]
[null,null,null,null,null,null,null,{"$f":"IF(Hobo!A10031<>\"\",Hobo!A10031&configuracion!$C$10,\"\")","v":""},""]
[null,null,null,null,null,null,null,{"$f":"IF(Hobo!A10036<>\"\",Hobo!A10036&configuracion!$C$10,\"\")","v":""},""]
[null,null,null,null,null,null,null,{"$f":"IF(Hobo!A10043<>\"\",Hobo!A10043&configuracion!$C$10,\"\")","v":""},""]
[null,null,null,null,null,null,null,{"$f":"IF(Hobo!A10046<>\"\",Hobo!A10046&configuracion!$C$10,\"\")","v":""},""]
[null,null,null,null,null,null,null,{"$f":"IF(Hobo!A10057<>\"\",Hobo!A10057&configuracion!$C$10,\"\")","v":""},""]
[null,null,null,null,null,null,null,{"$f":"IF(Hobo!A10063<>\"\",Hobo!A10063&configuracion!$C$10,\"\")","v":""},""]
[null,null,null,null,null,null,null,{"$f":"IF(Hobo!A10066<>\"\",Hobo!A10066&configuracion!$C$10,\"\")","v":""},""]
[null,null,null,null,null,null,null,{"$f":"IF(Hobo!A10073<>\"\",Hobo!A10073&configuracion!$C$10,\"\")","v":""},""]
[null,null,null,null,null,null,null,{"$f":"IF(Hobo!A10080<>\"\",Hobo!A10080&configuracion!$C$10,\"\")","v":""},""]
[null,null,null,null,null,null,null,{"$f":"IF(Hobo!A10086<>\"\",Hobo!A10086&configuracion!$C$10,\"\")","v":""},""]
[null,null,null,null,null,null,null,{"$f":"IF(Hobo!A10093<>\"\",Hobo!A10093&configuracion!$C$10,\"\")","v":""},""]
[null,null,null,null,null,null,null,{"$f":"IF(Hobo!A10096<>\"\",Hobo!A10096&configuracion!$C$10,\"\")","v":""},""]
[null,null,null,null,null,null,null,{"$f":"IF(Hobo!A10103<>\"\",Hobo!A10103&configuracion!$C$10,\"\")","v":""},""]
[null,null,null,null,null,null,null,{"$f":"IF(Hobo!A10113<>\"\",Hobo!A10113&configuracion!$C$10,\"\")","v":""},""]
[null,null,null,null,null,null,null,{"$f":"IF(Hobo!A10116<>\"\",Hobo!A10116&configuracion!$C$10,\"\")","v":""},{"$f":"IF(B10116=\"\",\"\",TEXT(B10116, \"DD/MM/YYYY HH:MM:SS\"))","v":""}]
[null,null,null,null,null,null,null,{"$f":"IF(Hobo!A10123<>\"\",Hobo!A10123&configuracion!$C$10,\"\")","v":""},""]
[null,null,null,null,null,null,null,{"$f":"IF(Hobo!A10129<>\"\",Hobo!A10129&configuracion!$C$10,\"\")","v":""},""]
[null,null,null,null,null,null,null,{"$f":"IF(Hobo!A10136<>\"\",Hobo!A10136&configuracion!$C$10,\"\")","v":""},""]
[null,null,null,null,null,null,null,{"$f":"IF(Hobo!A10143<>\"\",Hobo!A10143&configuracion!$C$10,\"\")","v":""},""]
[null,null,null,null,null,null,null,{"$f":"IF(Hobo!A10146<>\"\",Hobo!A10146&configuracion!$C$10,\"\")","v":""},""]
[null,null,null,null,null,null,null,{"$f":"IF(Hobo!A10152<>\"\",Hobo!A10152&configuracion!$C$10,\"\")","v":""},""]
[null,null,null,null,null,null,null,{"$f":"IF(Hobo!A10163<>\"\",Hobo!A10163&configuracion!$C$10,\"\")","v":""},""]
[null,null,null,null,null,null,null,{"$f":"IF(Hobo!A10166<>\"\",Hobo!A10166&configuracion!$C$10,\"\")","v":""},""]
[null,null,null,null,null,null,null,{"$f":"IF(Hobo!A10173<>\"\",Hobo!A10173&configuracion!$C$10,\"\")","v":""},""]
[null,null,null,null,null,null,null,{"$f":"IF(Hobo!A10178<>\"\",Hobo!A10178&configuracion!$C$10,\"\")","v":""},""]
[null,null,null,null,null,null,null,{"$f":"IF(Hobo!A10186<>\"\",Hobo!A10186&configuracion!$C$10,\"\")","v":""},""]
[null,null,null,null,null,null,null,{"$f":"IF(Hobo!A10193<>\"\",Hobo!A10193&configuracion!$C$10,\"\")","v":""},""]
[null,null,null,null,null,null,null,{"$f":"IF(Hobo!A10196<>\"\",Hobo!A10196&configuracion!$C$10,\"\")","v":""},""]
[null,null,null,null,null,null,null,{"$f":"IF(Hobo!A10208<>\"\",Hobo!A10208&configuracion!$C$10,\"\")","v":""},""]
[null,null,null,null,null,null,null,{"$f":"IF(Hobo!A10213<>\"\",Hobo!A10213&configuracion!$C$10,\"\")","v":""},""]
[null,null,null,null,null,null,null,{"$f":"IF(Hobo!A10216<>\"\",Hobo!A10216&configuracion!$C$10,\"\")","v":""},""]
[null,null,null,null,null,null,null,{"$f":"IF(Hobo!A10223<>\"\",Hobo!A10223&configuracion!$C$10,\"\")","v":""},""]
[null,null,null,null,null,null,null,{"$f":"IF(Hobo!A10227<>\"\",Hobo!A10227&configuracion!$C$10,\"\")","v":""},""]
[null,null,null,null,null,null,null,{"$f":"IF(Hobo!A10234<>\"\",Hobo!A10234&configuracion!$C$10,\"\")","v":""},""]
[null,null,null,null,null,null,null,{"$f":"IF(Hobo!A10243<>\"\",Hobo!A10243&configuracion!$C$10,\"\")","v":""},""]
[null,null,null,null,null,null,null,{"$f":"IF(Hobo!A10246<>\"\",Hobo!A10246&configuracion!$C$10,\"\")","v":""},""]
[null,null,null,null,null,null,null,{"$f":"IF(Hobo!A10257<>\"\",Hobo!A10257&configuracion!$C$10,\"\")","v":""},""]
[null,null,null,null,null,null,null,{"$f":"IF(Hobo!A10263<>\"\",Hobo!A10263&configuracion!$C$10,\"\")","v":""},""]
[null,null,null,null,null,null,null,{"$f":"IF(Hobo!A10266<>\"\",Hobo!A10266&configuracion!$C$10,\"\")","v":""},""]
[null,null,null,null,null,null,null,{"$f":"IF(Hobo!A10273<>\"\",Hobo!A10273&configuracion!$C$10,\"\")","v":""},""]
[null,null,null,null,null,null,null,{"$f":"IF(Hobo!A10283<>\"\",Hobo!A10283&configuracion!$C$10,\"\")","v":""},""]
[null,null,null,null,null,null,null,{"$f":"IF(Hobo!A10284<>\"\",Hobo!A10284&configuracion!$C$10,\"\")","v":""},""]
[null,null,null,null,null,null,null,{"$f":"IF(Hobo!A10293<>\"\",Hobo!A10293&configuracion!$C$10,\"\")","v":""},""]
[null,null,null,null,null,null,null,{"$f":"IF(Hobo!A10296<>\"\",Hobo!A10296&configuracion!$C$10,\"\")","v":""},""]
[null,null,null,null,null,null,null,{"$f":"IF(Hobo!A10306<>\"\",Hobo!A10306&configuracion!$C$10,\"\")","v":""},""]
[null,null,null,null,null,null,null,{"$f":"IF(Hobo!A10313<>\"\",Hobo!A10313&configuracion!$C$10,\"\")","v":""},""]
[null,null,null,null,null,null,null,{"$f":"IF(Hobo!A10320<>\"\",Hobo!A10320&configuracion!$C$10,\"\")","v":""},""]
[null,null,null,null,null,null,null,{"$f":"IF(Hobo!A10323<>\"\",Hobo!A10323&configuracion!$C$10,\"\")","v":""},""]
[null,null,null,null,null,null,null,{"$f":"IF(Hobo!A10332<>\"\",Hobo!A10332&configuracion!$C$10,\"\")","v":""},""]
[null,null,null,null,null,null,null,{"$f":"IF(Hobo!A10334<>\"\",Hobo!A10334&configuracion!$C$10,\"\")","v":""},""]
[null,null,null,null,null,null,null,{"$f":"IF(Hobo!A10343<>\"\",Hobo!A10343&configuracion!$C$10,\"\")","v":""},""]
[null,null,null,null,null,null,null,{"$f":"IF(Hobo!A10351<>\"\",Hobo!A10351&configuracion!$C$10,\"\")","v":""},""]
[null,null,null,null,null,null,null,{"$f":"IF(Hobo!A10354<>\"\",Hobo!A10354&configuracion!$C$10,\"\")","v":""},""]
[null,null,null,null,null,null,null,{"$f":"IF(Hobo!A10363<>\"\",Hobo!A10363&configuracion!$C$10,\"\")","v":""},""]
[null,null,null,null,null,null,null,{"$f":"IF(Hobo!A10370<>\"\",Hobo!A10370&configuracion!$C$10,\"\")","v":""},""]
[null,null,null,null,null,null,null,{"$f":"IF(Hobo!A10374<>\"\",Hobo!A10374&configuracion!$C$10,\"\")","v":""},""]
[null,null,null,null,null,null,null,{"$f":"IF(Hobo!A10383<>\"\",Hobo!A10383&configuracion!$C$10,\"\")","v":""},""]
[null,null,null,null,null,null,null,{"$f":"IF(Hobo!A10384<>\"\",Hobo!A10384&configuracion!$C$10,\"\")","v":""},""]
[null,null,null,null,null,null,null,{"$f":"IF(Hobo!A10393<>\"\",Hobo!A10393&configuracion!$C$10,\"\")","v":""},""]
[null,null,null,null,null,null,null,{"$f":"IF(Hobo!A10400<>\"\",Hobo!A10400&configuracion!$C$10,\"\")","v":""},""]
[null,null,null,null,null,null,null,{"$f":"IF(Hobo!A10404<>\"\",Hobo!A10404&configuracion!$C$10,\"\")","v":""},""]
[null,null,null,null,null,null,null,{"$f":"IF(Hobo!A10413<>\"\",Hobo!A10413&configuracion!$C$10,\"\")","v":""},""]
[null,null,null,null,null,null,null,{"$f":"IF(Hobo!A10420<>\"\",Hobo!A10420&configuracion!$C$10,\"\")","v":""},""]
[null,null,null,null,null,null,null,{"$f":"IF(Hobo!A10423<>\"\",Hobo!A10423&configuracion!$C$10,\"\")","v":""},""]
[null,null,null,null,null,null,null,{"$f":"IF(Hobo!A10433<>\"\",Hobo!A10433&configuracion!$C$10,\"\")","v":""},""]
[null,null,null,null,null,null,null,{"$f":"IF(Hobo!A10434<>\"\",Hobo!A10434&configuracion!$C$10,\"\")","v":""},""]
[null,null,null,null,null,null,null,{"$f":"IF(Hobo!A10443<>\"\",Hobo!A10443&configuracion!$C$10,\"\")","v":""},""]
[null,null,null,null,null,null,null,{"$f":"IF(Hobo!A10446<>\"\",Hobo!A10446&configuracion!$C$10,\"\")","v":""},""]
[null,null,null,null,null,null,null,{"$f":"IF(Hobo!A10454<>\"\",Hobo!A10454&configuracion!$C$10,\"\")","v":""},""]
[null,null,null,null,null,null,null,{"$f":"IF(Hobo!A10463<>\"\",Hobo!A10463&configuracion!$C$10,\"\")","v":""},""]
[null,null,null,null,null,null,null,{"$f":"IF(Hobo!A10470<>\"\",Hobo!A10470&configuracion!$C$10,\"\")","v":""},""]
[null,null,null,null,null,null,null,{"$f":"IF(Hobo!A10472<>\"\",Hobo!A10472&configuracion!$C$10,\"\")","v":""},""]
[null,null,null,null,null,null,null,{"$f":"IF(Hobo!A10483<>\"\",Hobo!A10483&configuracion!$C$10,\"\")","v":""},""]
[null,null,null,null,null,null,null,{"$f":"IF(Hobo!A10484<>\"\",Hobo!A10484&configuracion!$C$10,\"\")","v":""},""]
[null,null,null,null,null,null,null,{"$f":"IF(Hobo!A10493<>\"\",Hobo!A10493&configuracion!$C$10,\"\")","v":""},""]
[null,null,null,null,null,null,null,{"$f":"IF(Hobo!A10502<>\"\",Hobo!A10502&configuracion!$C$10,\"\")","v":""},""]
[null,null,null,null,null,null,null,{"$f":"IF(Hobo!A10504<>\"\",Hobo!A10504&configuracion!$C$10,\"\")","v":""},""]
[null,null,null,null,null,null,null,{"$f":"IF(Hobo!A10513<>\"\",Hobo!A10513&configuracion!$C$10,\"\")","v":""},""]
[null,null,null,null,null,null,null,{"$f":"IF(Hobo!A10520<>\"\",Hobo!A10520&configuracion!$C$10,\"\")","v":""},""]
[null,null,null,null,null,null,null,{"$f":"IF(Hobo!A10521<>\"\",Hobo!A10521&configuracion!$C$10,\"\")","v":""},""]
[null,null,null,null,null,null,null,{"$f":"IF(Hobo!A10531<>\"\",Hobo!A10531&configuracion!$C$10,\"\")","v":""},""]
[null,null,null,null,null,null,null,{"$f":"IF(Hobo!A10534<>\"\",Hobo!A10534&configuracion!$C$10,\"\")","v":""},""]
[null,null,null,null,null,null,null,{"$f":"IF(Hobo!A10543<>\"\",Hobo!A10543&configuracion!$C$10,\"\")","v":""},""]
[null,null,null,null,null,null,null,{"$f":"IF(Hobo!A10551<>\"\",Hobo!A10551&configuracion!$C$10,\"\")","v":""},""]
[null,null,null,null,null,null,null,{"$f":"IF(Hobo!A10554<>\"\",Hobo!A10554&configuracion!$C$10,\"\")","v":""},""]
[null,null,null,null,null,null,null,{"$f":"IF(Hobo!A10563<>\"\",Hobo!A10563&configuracion!$C$10,\"\")","v":""},""]
[null,null,null,null,null,null,null,{"$f":"IF(Hobo!A10570<>\"\",Hobo!A10570&configuracion!$C$10,\"\")","v":""},""]
[null,null,null,null,null,null,null,{"$f":"IF(Hobo!A10577<>\"\",Hobo!A10577&configuracion!$C$10,\"\")","v":""},""]
[null,null,null,null,null,null,null,{"$f":"IF(Hobo!A10581<>\"\",Hobo!A10581&configuracion!$C$10,\"\")","v":""},""]
[null,null,null,null,null,null,null,{"$f":"IF(Hobo!A10584<>\"\",Hobo!A10584&configuracion!$C$10,\"\")","v":""},""]
[null,null,null,null,null,null,null,{"$f":"IF(Hobo!A10593<>\"\",Hobo!A10593&configuracion!$C$10,\"\")","v":""},""]
[null,null,null,null,null,null,null,{"$f":"IF(Hobo!A10600<>\"\",Hobo!A10600&configuracion!$C$10,\"\")","v":""},""]
[null,null,null,null,null,null,null,{"$f":"IF(Hobo!A10604<>\"\",Hobo!A10604&configuracion!$C$10,\"\")","v":""},""]
[null,null,null,null,null,null,null,{"$f":"IF(Hobo!A10613<>\"\",Hobo!A10613&configuracion!$C$10,\"\")","v":""},""]
[null,null,null,null,null,null,null,{"$f":"IF(Hobo!A10620<>\"\",Hobo!A10620&configuracion!$C$10,\"\")","v":""},""]
[null,null,null,null,null,null,null,{"$f":"IF(Hobo!A10626<>\"\",Hobo!A10626&configuracion!$C$10,\"\")","v":""},""]
[null,null,null,null,null,null,null,{"$f":"IF(Hobo!A10631<>\"\",Hobo!A10631&configuracion!$C$10,\"\")","v":""},""]
[null,null,null,null,null,null,null,{"$f":"IF(Hobo!A10634<>\"\",Hobo!A10634&configuracion!$C$10,\"\")","v":""},""]
[null,null,null,null,null,null,null,{"$f":"IF(Hobo!A10643<>\"\",Hobo!A10643&configuracion!$C$10,\"\")","v":""},""]
[null,null,null,null,null,null,null,{"$f":"IF(Hobo!A10649<>\"\",Hobo!A10649&configuracion!$C$10,\"\")","v":""},""]
[null,null,null,null,null,null,null,{"$f":"IF(Hobo!A10654<>\"\",Hobo!A10654&configuracion!$C$10,\"\")","v":""},""]
[null,null,null,null,null,null,null,{"$f":"IF(Hobo!A10661<>\"\",Hobo!A10661&configuracion!$C$10,\"\")","v":""},""]
[null,null,null,null,null,null,null,{"$f":"IF(Hobo!A10670<>\"\",Hobo!A10670&configuracion!$C$10,\"\")","v":""},""]
[null,null,null,null,null,null,null,{"$f":"IF(Hobo!A10675<>\"\",Hobo!A10675&configuracion!$C$10,\"\")","v":""},""]
[null,null,null,null,null,null,null,{"$f":"IF(Hobo!A10681<>\"\",Hobo!A10681&configuracion!$C$10,\"\")","v":""},""]
[null,null,null,null,null,null,null,{"$f":"IF(Hobo!A10684<>\"\",Hobo!A10684&configuracion!$C$10,\"\")","v":""},""]
[null,null,null,null,null,null,null,{"$f":"IF(Hobo!A10693<>\"\",Hobo!A10693&configuracion!$C$10,\"\")","v":""},""]
[null,null,null,null,null,null,null,{"$f":"IF(Hobo!A10698<>\"\",Hobo!A10698&configuracion!$C$10,\"\")","v":""},""]
[null,null,null,null,null,null,null,{"$f":"IF(Hobo!A10704<>\"\",Hobo!A10704&configuracion!$C$10,\"\")","v":""},""]
[null,null,null,null,null,null,null,{"$f":"IF(Hobo!A10711<>\"\",Hobo!A10711&configuracion!$C$10,\"\")","v":""},""]
[null,null,null,null,null,null,null,{"$f":"IF(Hobo!A10720<>\"\",Hobo!A10720&configuracion!$C$10,\"\")","v":""},""]
[null,null,null,null,null,null,null,{"$f":"IF(Hobo!A10724<>\"\",Hobo!A10724&configuracion!$C$10,\"\")","v":""},""]
[null,null,null,null,null,null,null,{"$f":"IF(Hobo!A10731<>\"\",Hobo!A10731&configuracion!$C$10,\"\")","v":""},""]
[null,null,null,null,null,null,null,{"$f":"IF(Hobo!A10734<>\"\",Hobo!A10734&configuracion!$C$10,\"\")","v":""},""]
[null,null,null,null,null,null,null,{"$f":"IF(Hobo!A10743<>\"\",Hobo!A10743&configuracion!$C$10,\"\")","v":""},""]
[null,null,null,null,null,null,null,{"$f":"IF(Hobo!A10747<>\"\",Hobo!A10747&configuracion!$C$10,\"\")","v":""},""]
[null,null,null,null,null,null,null,{"$f":"IF(Hobo!A10754<>\"\",Hobo!A10754&configuracion!$C$10,\"\")","v":""},""]
[null,null,null,null,null,null,null,{"$f":"IF(Hobo!A10761<>\"\",Hobo!A10761&configuracion!$C$10,\"\")","v":""},""]
[null,null,null,null,null,null,null,{"$f":"IF(Hobo!A10770<>\"\",Hobo!A10770&configuracion!$C$10,\"\")","v":""},""]
[null,null,null,null,null,null,null,{"$f":"IF(Hobo!A10773<>\"\",Hobo!A10773&configuracion!$C$10,\"\")","v":""},""]
[null,null,null,null,null,null,null,{"$f":"IF(Hobo!A10781<>\"\",Hobo!A10781&configuracion!$C$10,\"\")","v":""},""]
[null,null,null,null,null,null,null,{"$f":"IF(Hobo!A10784<>\"\",Hobo!A10784&configuracion!$C$10,\"\")","v":""},""]
[null,null,null,null,null,null,null,{"$f":"IF(Hobo!A10791<>\"\",Hobo!A10791&configuracion!$C$10,\"\")","v":""},""]
[null,null,null,null,null,null,null,{"$f":"IF(Hobo!A10796<>\"\",Hobo!A10796&configuracion!$C$10,\"\")","v":""},""]
[null,null,null,null,null,null,null,{"$f":"IF(Hobo!A10804<>\"\",Hobo!A10804&configuracion!$C$10,\"\")","v":""},""]
[null,null,null,null,null,null,null,{"$f":"IF(Hobo!A10811<>\"\",Hobo!A10811&configuracion!$C$10,\"\")","v":""},""]
[null,null,null,null,null,null,null,{"$f":"IF(Hobo!A10820<>\"\",Hobo!A10820&configuracion!$C$10,\"\")","v":""},{"$f":"IF(B10820=\"\",\"\",TEXT(B10820, \"DD/MM/YYYY HH:MM:SS\"))","v":""}]
[null,null,null,null,null,null,null,{"$f":"IF(Hobo!A10822<>\"\",Hobo!A10822&configuracion!$C$10,\"\")","v":""},""]
[null,null,null,null,null,null,null,{"$f":"IF(Hobo!A10831<>\"\",Hobo!A10831&configuracion!$C$10,\"\")","v":""},""]
[null,null,null,null,null,null,null,{"$f":"IF(Hobo!A10834<>\"\",Hobo!A10834&configuracion!$C$10,\"\")","v":""},""]
[null,null,null,null,null,null,null,{"$f":"IF(Hobo!A10841<>\"\",Hobo!A10841&configuracion!$C$10,\"\")","v":""},""]
[null,null,null,null,null,null,null,{"$f":"IF(Hobo!A10852<>\"\",Hobo!A10852&configuracion!$C$10,\"\")","v":""},""]
[null,null,null,null,null,null,null,{"$f":"IF(Hobo!A10854<>\"\",Hobo!A10854&configuracion!$C$10,\"\")","v":""},""]
[null,null,null,null,null,null,null,{"$f":"IF(Hobo!A10861<>\"\",Hobo!A10861&configuracion!$C$10,\"\")","v":""},""]
[null,null,null,null,null,null,null,{"$f":"IF(Hobo!A10870<>\"\",Hobo!A10870&configuracion!$C$10,\"\")","v":""},""]
[null,null,null,null,null,null,null,{"$f":"IF(Hobo!A10875<>\"\",Hobo!A10875&configuracion!$C$10,\"\")","v":""},""]
[null,null,null,null,null,null,null,{"$f":"IF(Hobo!A10881<>\"\",Hobo!A10881&configuracion!$C$10,\"\")","v":""},""]
[null,null,null,null,null,null,null,{"$f":"IF(Hobo!A10884<>\"\",Hobo!A10884&configuracion!$C$10,\"\")","v":""},{"$f":"IF(B10884=\"\",\"\",TEXT(B10884, \"DD/MM/YYYY HH:MM:SS\"))","v":""}]
[null,null,null,null,null,null,null,{"$f":"IF(Hobo!A10891<>\"\",Hobo!A10891&configuracion!$C$10,\"\")","v":""},""]
[null,null,null,null,null,null,null,{"$f":"IF(Hobo!A10901<>\"\",Hobo!A10901&configuracion!$C$10,\"\")","v":""},""]
[null,null,null,null,null,null,null,{"$f":"IF(Hobo!A10904<>\"\",Hobo!A10904&configuracion!$C$10,\"\")","v":""},""]
[null,null,null,null,null,null,null,{"$f":"IF(Hobo!A10911<>\"\",Hobo!A10911&configuracion!$C$10,\"\")","v":""},""]
[null,null,null,null,null,null,null,{"$f":"IF(Hobo!A10920<>\"\",Hobo!A10920&configuracion!$C$10,\"\")","v":""},""]
[null,null,null,null,null,null,null,{"$f":"IF(Hobo!A10924<>\"\",Hobo!A10924&configuracion!$C$10,\"\")","v":""},""]
[null,null,null,null,null,null,null,{"$f":"IF(Hobo!A10931<>\"\",Hobo!A10931&configuracion!$C$10,\"\")","v":""},""]
[null,null,null,null,null,null,null,{"$f":"IF(Hobo!A10934<>\"\",Hobo!A10934&configuracion!$C$10,\"\")","v":""},""]
[null,null,null,null,null,null,null,{"$f":"IF(Hobo!A10941<>\"\",Hobo!A10941&configuracion!$C$10,\"\")","v":""},""]
[null,null,null,null,null,null,null,{"$f":"IF(Hobo!A10950<>\"\",Hobo!A10950&configuracion!$C$10,\"\")","v":""},""]
[null,null,null,null,null,null,null,{"$f":"IF(Hobo!A10954<>\"\",Hobo!A10954&configuracion!$C$10,\"\")","v":""},""]
[null,null,null,null,null,null,null,{"$f":"IF(Hobo!A10961<>\"\",Hobo!A10961&configuracion!$C$10,\"\")","v":""},""]
[null,null,null,null,null,null,null,{"$f":"IF(Hobo!A10970<>\"\",Hobo!A10970&configuracion!$C$10,\"\")","v":""},""]
[null,null,null,null,null,null,null,{"$f":"IF(Hobo!A10973<>\"\",Hobo!A10973&configuracion!$C$10,\"\")","v":""},""]
[null,null,null,null,null,null,null,{"$f":"IF(Hobo!A10981<>\"\",Hobo!A10981&configuracion!$C$10,\"\")","v":""},""]
[null,null,null,null,null,null,null,{"$f":"IF(Hobo!A10984<>\"\",Hobo!A10984&configuracion!$C$10,\"\")","v":""},""]
[null,null,null,null,null,null,null,{"$f":"IF(Hobo!A10991<>\"\",Hobo!A10991&configuracion!$C$10,\"\")","v":""},""]
[null,null,null,null,null,null,null,{"$f":"IF(Hobo!A10999<>\"\",Hobo!A10999&configuracion!$C$10,\"\")","v":""},""]
[null,null,null,null,null,null,null,{"$f":"IF(Hobo!A11008<>\"\",Hobo!A11008&configuracion!$C$10,\"\")","v":""},""]
[null,null,null,null,null,null,null,{"$f":"IF(Hobo!A11011<>\"\",Hobo!A11011&configuracion!$C$10,\"\")","v":""},""]
[null,null,null,null,null,null,null,{"$f":"IF(Hobo!A11020<>\"\",Hobo!A11020&configuracion!$C$10,\"\")","v":""},""]
[null,null,null,null,null,null,null,{"$f":"IF(Hobo!A11022<>\"\",Hobo!A11022&configuracion!$C$10,\"\")","v":""},""]
[null,null,null,null,null,null,null,{"$f":"IF(Hobo!A11031<>\"\",Hobo!A11031&configuracion!$C$10,\"\")","v":""},""]
[null,null,null,null,null,null,null,{"$f":"IF(Hobo!A11034<>\"\",Hobo!A11034&configuracion!$C$10,\"\")","v":""},""]
[null,null,null,null,null,null,null,{"$f":"IF(Hobo!A11041<>\"\",Hobo!A11041&configuracion!$C$10,\"\")","v":""},""]
[null,null,null,null,null,null,null,{"$f":"IF(Hobo!A11048<>\"\",Hobo!A11048&configuracion!$C$10,\"\")","v":""},""]
[null,null,null,null,null,null,null,{"$f":"IF(Hobo!A11058<>\"\",Hobo!A11058&configuracion!$C$10,\"\")","v":""},""]
[null,null,null,null,null,null,null,{"$f":"IF(Hobo!A11061<>\"\",Hobo!A11061&configuracion!$C$10,\"\")","v":""},""]
[null,null,null,null,null,null,null,{"$f":"IF(Hobo!A11070<>\"\",Hobo!A11070&configuracion!$C$10,\"\")","v":""},""]
[null,null,null,null,null,null,null,{"$f":"IF(Hobo!A11071<>\"\",Hobo!A11071&configuracion!$C$10,\"\")","v":""},""]
[null,null,null,null,null,null,null,{"$f":"IF(Hobo!A11081<>\"\",Hobo!A11081&configuracion!$C$10,\"\")","v":""},""]
[null,null,null,null,null,null,null,{"$f":"IF(Hobo!A11084<>\"\",Hobo!A11084&configuracion!$C$10,\"\")","v":""},""]
[null,null,null,null,null,null,null,{"$f":"IF(Hobo!A11091<>\"\",Hobo!A11091&configuracion!$C$10,\"\")","v":""},""]
[null,null,null,null,null,null,null,{"$f":"IF(Hobo!A11097<>\"\",Hobo!A11097&configuracion!$C$10,\"\")","v":""},""]
[null,null,null,null,null,null,null,{"$f":"IF(Hobo!A11108<>\"\",Hobo!A11108&configuracion!$C$10,\"\")","v":""},""]
[null,null,null,null,null,null,null,{"$f":"IF(Hobo!A11111<>\"\",Hobo!A11111&configuracion!$C$10,\"\")","v":""},""]
[null,null,null,null,null,null,null,{"$f":"IF(Hobo!A11120<>\"\",Hobo!A11120&configuracion!$C$10,\"\")","v":""},""]
[null,null,null,null,null,null,null,{"$f":"IF(Hobo!A11127<>\"\",Hobo!A11127&configuracion!$C$10,\"\")","v":""},""]
[null,null,null,null,null,null,null,{"$f":"IF(Hobo!A11131<>\"\",Hobo!A11131&configuracion!$C$10,\"\")","v":""},""]
[null,null,null,null,null,null,null,{"$f":"IF(Hobo!A11138<>\"\",Hobo!A11138&configuracion!$C$10,\"\")","v":""},""]
[null,null,null,null,null,null,null,{"$f":"IF(Hobo!A11141<>\"\",Hobo!A11141&configuracion!$C$10,\"\")","v":""},""]
[null,null,null,null,null,null,null,{"$f":"IF(Hobo!A11146<>\"\",Hobo!A11146&configuracion!$C$10,\"\")","v":""},""]
[null,null,null,null,null,null,null,{"$f":"IF(Hobo!A11158<>\"\",Hobo!A11158&configuracion!$C$10,\"\")","v":""},""]
[null,null,null,null,null,null,null,{"$f":"IF(Hobo!A11161<>\"\",Hobo!A11161&configuracion!$C$10,\"\")","v":""},""]
[null,null,null,null,null,null,null,{"$f":"IF(Hobo!A11170<>\"\",Hobo!A11170&configuracion!$C$10,\"\")","v":""},""]
[null,null,null,null,null,null,null,{"$f":"IF(Hobo!A11176<>\"\",Hobo!A11176&configuracion!$C$10,\"\")","v":""},""]
[null,null,null,null,null,null,null,{"$f":"IF(Hobo!A11181<>\"\",Hobo!A11181&configuracion!$C$10,\"\")","v":""},""]
[null,null,null,null,null,null,null,{"$f":"IF(Hobo!A11188<>\"\",Hobo!A11188&configuracion!$C$10,\"\")","v":""},""]
[null,null,null,null,null,null,null,{"$f":"IF(Hobo!A11191<>\"\",Hobo!A11191&configuracion!$C$10,\"\")","v":""},""]
[null,null,null,null,null,null,null,{"$f":"IF(Hobo!A11202<>\"\",Hobo!A11202&configuracion!$C$10,\"\")","v":""},""]
[null,null,null,null,null,null,null,{"$f":"IF(Hobo!A11208<>\"\",Hobo!A11208&configuracion!$C$10,\"\")","v":""},""]
[null,null,null,null,null,null,null,{"$f":"IF(Hobo!A11211<>\"\",Hobo!A11211&configuracion!$C$10,\"\")","v":""},""]
[null,null,null,null,null,null,null,{"$f":"IF(Hobo!A11218<>\"\",Hobo!A11218&configuracion!$C$10,\"\")","v":""},""]
[null,null,null,null,null,null,null,{"$f":"IF(Hobo!A11225<>\"\",Hobo!A11225&configuracion!$C$10,\"\")","v":""},""]
[null,null,null,null,null,null,null,{"$f":"IF(Hobo!A11231<>\"\",Hobo!A11231&configuracion!$C$10,\"\")","v":""},""]
[null,null,null,null,null,null,null,{"$f":"IF(Hobo!A11238<>\"\",Hobo!A11238&configuracion!$C$10,\"\")","v":""},""]
[null,null,null,null,null,null,null,{"$f":"IF(Hobo!A11241<>\"\",Hobo!A11241&configuracion!$C$10,\"\")","v":""},""]
[null,null,null,null,null,null,null,{"$f":"IF(Hobo!A11251<>\"\",Hobo!A11251&configuracion!$C$10,\"\")","v":""},""]
[null,null,null,null,null,null,null,{"$f":"IF(Hobo!A11258<>\"\",Hobo!A11258&configuracion!$C$10,\"\")","v":""},""]
[null,null,null,null,null,null,null,{"$f":"IF(Hobo!A11261<>\"\",Hobo!A11261&configuracion!$C$10,\"\")","v":""},""]
[null,null,null,null,null,null,null,{"$f":"IF(Hobo!A11268<>\"\",Hobo!A11268&configuracion!$C$10,\"\")","v":""},{"$f":"IF(B11268=\"\",\"\",TEXT(B11268, \"DD/MM/YYYY HH:MM:SS\"))","v":""}]
[null,null,null,null,null,null,null,{"$f":"IF(Hobo!A11274<>\"\",Hobo!A11274&configuracion!$C$10,\"\")","v":""},""]
[null,null,null,null,null,null,null,{"$f":"IF(Hobo!A11281<>\"\",Hobo!A11281&configuracion!$C$10,\"\")","v":""},""]
[null,null,null,null,null,null,null,{"$f":"IF(Hobo!A11288<>\"\",Hobo!A11288&configuracion!$C$10,\"\")","v":""},""]
[null,null,null,null,null,null,null,{"$f":"IF(Hobo!A11291<>\"\",Hobo!A11291&configuracion!$C$10,\"\")","v":""},""]
[null,null,null,null,null,null,null,{"$f":"IF(Hobo!A11300<>\"\",Hobo!A11300&configuracion!$C$10,\"\")","v":""},""]
[null,null,null,null,null,null,null,{"$f":"IF(Hobo!A11308<>\"\",Hobo!A11308&configuracion!$C$10,\"\")","v":""},""]
[null,null,null,null,null,null,null,{"$f":"IF(Hobo!A11311<>\"\",Hobo!A11311&configuracion!$C$10,\"\")","v":""},""]
[null,null,null,null,null,null,null,{"$f":"IF(Hobo!A11318<>\"\",Hobo!A11318&configuracion!$C$10,\"\")","v":""},""]
[null,null,null,null,null,null,null,{"$f":"IF(Hobo!A11323<>\"\",Hobo!A11323&configuracion!$C$10,\"\")","v":""},""]
[null,null,null,null,null,null,null,{"$f":"IF(Hobo!A11331<>\"\",Hobo!A11331&configuracion!$C$10,\"\")","v":""},""]
[null,null,null,null,null,null,null,{"$f":"IF(Hobo!A11338<>\"\",Hobo!A11338&configuracion!$C$10,\"\")","v":""},""]
[null,null,null,null,null,null,null,{"$f":"IF(Hobo!A11341<>\"\",Hobo!A11341&configuracion!$C$10,\"\")","v":""},""]
[null,null,null,null,null,null,null,{"$f":"IF(Hobo!A11346<>\"\",Hobo!A11346&configuracion!$C$10,\"\")","v":""},""]
[null,null,null,null,null,null,null,{"$f":"IF(Hobo!A11358<>\"\",Hobo!A11358&configuracion!$C$10,\"\")","v":""},""]
[null,null,null,null,null,null,null,{"$f":"IF(Hobo!A11361<>\"\",Hobo!A11361&configuracion!$C$10,\"\")","v":""},""]
[null,null,null,null,null,null,null,{"$f":"IF(Hobo!A11368<>\"\",Hobo!A11368&configuracion!$C$10,\"\")","v":""},""]
[null,null,null,null,null,null,null,{"$f":"IF(Hobo!A11372<>\"\",Hobo!A11372&configuracion!$C$10,\"\")","v":""},""]
[null,null,null,null,null,null,null,{"$f":"IF(Hobo!A11381<>\"\",Hobo!A11381&configuracion!$C$10,\"\")","v":""},""]
[null,null,null,null,null,null,null,{"$f":"IF(Hobo!A11388<>\"\",Hobo!A11388&configuracion!$C$10,\"\")","v":""},""]
[null,null,null,null,null,null,null,{"$f":"IF(Hobo!A11391<>\"\",Hobo!A11391&configuracion!$C$10,\"\")","v":""},""]
[null,null,null,null,null,null,null,{"$f":"IF(Hobo!A11399<>\"\",Hobo!A11399&configuracion!$C$10,\"\")","v":""},""]
[null,null,null,null,null,null,null,{"$f":"IF(Hobo!A11408<>\"\",Hobo!A11408&configuracion!$C$10,\"\")","v":""},""]
[null,null,null,null,null,null,null,{"$f":"IF(Hobo!A11411<>\"\",Hobo!A11411&configuracion!$C$10,\"\")","v":""},""]
[null,null,null,null,null,null,null,{"$f":"IF(Hobo!A11421<>\"\",Hobo!A11421&configuracion!$C$10,\"\")","v":""},""]
[null,null,null,null,null,null,null,{"$f":"IF(Hobo!A11422<>\"\",Hobo!A11422&configuracion!$C$10,\"\")","v":""},""]
[null,null,null,null,null,null,null,{"$f":"IF(Hobo!A11429<>\"\",Hobo!A11429&configuracion!$C$10,\"\")","v":""},""]
[null,null,null,null,null,null,null,{"$f":"IF(Hobo!A11438<>\"\",Hobo!A11438&configuracion!$C$10,\"\")","v":""},""]
[null,null,null,null,null,null,null,{"$f":"IF(Hobo!A11440<>\"\",Hobo!A11440&configuracion!$C$10,\"\")","v":""},""]
[null,null,null,null,null,null,null,{"$f":"IF(Hobo!A11449<>\"\",Hobo!A11449&configuracion!$C$10,\"\")","v":""},""]
[null,null,null,null,null,null,null,{"$f":"IF(Hobo!A11458<>\"\",Hobo!A11458&configuracion!$C$10,\"\")","v":""},""]
[null,null,null,null,null,null,null,{"$f":"IF(Hobo!A11461<>\"\",Hobo!A11461&configuracion!$C$10,\"\")","v":""},""]
[null,null,null,null,null,null,null,{"$f":"IF(Hobo!A11470<>\"\",Hobo!A11470&configuracion!$C$10,\"\")","v":""},""]
[null,null,null,null,null,null,null,{"$f":"IF(Hobo!A11472<>\"\",Hobo!A11472&configuracion!$C$10,\"\")","v":""},""]
[null,null,null,null,null,null,null,{"$f":"IF(Hobo!A11479<>\"\",Hobo!A11479&configuracion!$C$10,\"\")","v":""},""]
[null,null,null,null,null,null,null,{"$f":"IF(Hobo!A11488<>\"\",Hobo!A11488&configuracion!$C$10,\"\")","v":""},""]
[null,null,null,null,null,null,null,{"$f":"IF(Hobo!A11496<>\"\",Hobo!A11496&configuracion!$C$10,\"\")","v":""},""]
[null,null,null,null,null,null,null,{"$f":"IF(Hobo!A11499<>\"\",Hobo!A11499&configuracion!$C$10,\"\")","v":""},""]
[null,null,null,null,null,null,null,{"$f":"IF(Hobo!A11508<>\"\",Hobo!A11508&configuracion!$C$10,\"\")","v":""},""]
[null,null,null,null,null,null,null,{"$f":"IF(Hobo!A11511<>\"\",Hobo!A11511&configuracion!$C$10,\"\")","v":""},""]
[null,null,null,null,null,null,null,{"$f":"IF(Hobo!A11519<>\"\",Hobo!A11519&configuracion!$C$10,\"\")","v":""},""]
[null,null,null,null,null,null,null,{"$f":"IF(Hobo!A11522<>\"\",Hobo!A11522&configuracion!$C$10,\"\")","v":""},""]
[null,null,null,null,null,null,null,{"$f":"IF(Hobo!A11529<>\"\",Hobo!A11529&configuracion!$C$10,\"\")","v":""},""]
[null,null,null,null,null,null,null,{"$f":"IF(Hobo!A11538<>\"\",Hobo!A11538&configuracion!$C$10,\"\")","v":""},""]
[null,null,null,null,null,null,null,{"$f":"IF(Hobo!A11545<>\"\",Hobo!A11545&configuracion!$C$10,\"\")","v":""},""]
[null,null,null,null,null,null,null,{"$f":"IF(Hobo!A11549<>\"\",Hobo!A11549&configuracion!$C$10,\"\")","v":""},""]
[null,null,null,null,null,null,null,{"$f":"IF(Hobo!A11558<>\"\",Hobo!A11558&configuracion!$C$10,\"\")","v":""},""]
[null,null,null,null,null,null,null,{"$f":"IF(Hobo!A11559<>\"\",Hobo!A11559&configuracion!$C$10,\"\")","v":""},""]
[null,null,null,null,null,null,null,{"$f":"IF(Hobo!A11568<>\"\",Hobo!A11568&configuracion!$C$10,\"\")","v":""},""]
[null,null,null,null,null,null,null,{"$f":"IF(Hobo!A11572<>\"\",Hobo!A11572&configuracion!$C$10,\"\")","v":""},""]
[null,null,null,null,null,null,null,{"$f":"IF(Hobo!A11579<>\"\",Hobo!A11579&configuracion!$C$10,\"\")","v":""},""]
[null,null,null,null,null,null,null,{"$f":"IF(Hobo!A11588<>\"\",Hobo!A11588&configuracion!$C$10,\"\")","v":""},{"$f":"IF(B11588=\"\",\"\",TEXT(B11588, \"DD/MM/YYYY HH:MM:SS\"))","v":""}]
[null,null,null,null,null,null,null,{"$f":"IF(Hobo!A11594<>\"\",Hobo!A11594&configuracion!$C$10,\"\")","v":""},""]
[null,null,null,null,null,null,null,{"$f":"IF(Hobo!A11599<>\"\",Hobo!A11599&configuracion!$C$10,\"\")","v":""},""]
[null,null,null,null,null,null,null,{"$f":"IF(Hobo!A11608<>\"\",Hobo!A11608&configuracion!$C$10,\"\")","v":""},""]
[null,null,null,null,null,null,null,{"$f":"IF(Hobo!A11609<>\"\",Hobo!A11609&configuracion!$C$10,\"\")","v":""},""]
[null,null,null,null,null,null,null,{"$f":"IF(Hobo!A11617<>\"\",Hobo!A11617&configuracion!$C$10,\"\")","v":""},""]
[null,null,null,null,null,null,null,{"$f":"IF(Hobo!A11622<>\"\",Hobo!A11622&configuracion!$C$10,\"\")","v":""},""]
[null,null,null,null,null,null,null,{"$f":"IF(Hobo!A11629<>\"\",Hobo!A11629&configuracion!$C$10,\"\")","v":""},""]
[null,null,null,null,null,null,null,{"$f":"IF(Hobo!A11638<>\"\",Hobo!A11638&configuracion!$C$10,\"\")","v":""},""]
[null,null,null,null,null,null,null,{"$f":"IF(Hobo!A11643<>\"\",Hobo!A11643&configuracion!$C$10,\"\")","v":""},""]
[null,null,null,null,null,null,null,{"$f":"IF(Hobo!A11649<>\"\",Hobo!A11649&configuracion!$C$10,\"\")","v":""},""]
[null,null,null,null,null,null,null,{"$f":"IF(Hobo!A11658<>\"\",Hobo!A11658&configuracion!$C$10,\"\")","v":""},""]
[null,null,null,null,null,null,null,{"$f":"IF(Hobo!A11659<>\"\",Hobo!A11659&configuracion!$C$10,\"\")","v":""},""]
[null,null,null,null,null,null,null,{"$f":"IF(Hobo!A11666<>\"\",Hobo!A11666&configuracion!$C$10,\"\")","v":""},""]
[null,null,null,null,null,null,null,{"$f":"IF(Hobo!A11672<>\"\",Hobo!A11672&configuracion!$C$10,\"\")","v":""},""]
[null,null,null,null,null,null,null,{"$f":"IF(Hobo!A11679<>\"\",Hobo!A11679&configuracion!$C$10,\"\")","v":""},""]
[null,null,null,null,null,null,null,{"$f":"IF(Hobo!A11688<>\"\",Hobo!A11688&configuracion!$C$10,\"\")","v":""},""]
[null,null,null,null,null,null,null,{"$f":"IF(Hobo!A11696<>\"\",Hobo!A11696&configuracion!$C$10,\"\")","v":""},""]
[null,null,null,null,null,null,null,{"$f":"IF(Hobo!A11699<>\"\",Hobo!A11699&configuracion!$C$10,\"\")","v":""},""]
[null,null,null,null,null,null,null,{"$f":"IF(Hobo!A11708<>\"\",Hobo!A11708&configuracion!$C$10,\"\")","v":""},""]
[null,null,null,null,null,null,null,{"$f":"IF(Hobo!A11709<>\"\",Hobo!A11709&configuracion!$C$10,\"\")","v":""},""]
[null,null,null,null,null,null,null,{"$f":"IF(Hobo!A11715<>\"\",Hobo!A11715&configuracion!$C$10,\"\")","v":""},""]
[null,null,null,null,null,null,null,{"$f":"IF(Hobo!A11722<>\"\",Hobo!A11722&configuracion!$C$10,\"\")","v":""},""]
[null,null,null,null,null,null,null,{"$f":"IF(Hobo!A11729<>\"\",Hobo!A11729&configuracion!$C$10,\"\")","v":""},""]
[null,null,null,null,null,null,null,{"$f":"IF(Hobo!A11738<>\"\",Hobo!A11738&configuracion!$C$10,\"\")","v":""},""]
[null,null,null,null,null,null,null,{"$f":"IF(Hobo!A11745<>\"\",Hobo!A11745&configuracion!$C$10,\"\")","v":""},""]
[null,null,null,null,null,null,null,{"$f":"IF(Hobo!A11749<>\"\",Hobo!A11749&configuracion!$C$10,\"\")","v":""},""]
[null,null,null,null,null,null,null,{"$f":"IF(Hobo!A11758<>\"\",Hobo!A11758&configuracion!$C$10,\"\")","v":""},""]
[null,null,null,null,null,null,null,{"$f":"IF(Hobo!A11759<>\"\",Hobo!A11759&configuracion!$C$10,\"\")","v":""},""]
[null,null,null,null,null,null,null,{"$f":"IF(Hobo!A11771<>\"\",Hobo!A11771&configuracion!$C$10,\"\")","v":""},""]
[null,null,null,null,null,null,null,{"$f":"IF(Hobo!A11776<>\"\",Hobo!A11776&configuracion!$C$10,\"\")","v":""},""]
[null,null,null,null,null,null,null,{"$f":"IF(Hobo!A11779<>\"\",Hobo!A11779&configuracion!$C$10,\"\")","v":""},""]
[null,null,null,null,null,null,null,{"$f":"IF(Hobo!A11788<>\"\",Hobo!A11788&configuracion!$C$10,\"\")","v":""},""]
[null,null,null,null,null,null,null,{"$f":"IF(Hobo!A11794<>\"\",Hobo!A11794&configuracion!$C$10,\"\")","v":""},""]
[null,null,null,null,null,null,null,{"$f":"IF(Hobo!A11799<>\"\",Hobo!A11799&configuracion!$C$10,\"\")","v":""},""]
[null,null,null,null,null,null,null,{"$f":"IF(Hobo!A11808<>\"\",Hobo!A11808&configuracion!$C$10,\"\")","v":""},""]
[null,null,null,null,null,null,null,{"$f":"IF(Hobo!A11809<>\"\",Hobo!A11809&configuracion!$C$10,\"\")","v":""},""]
[null,null,null,null,null,null,null,{"$f":"IF(Hobo!A11820<>\"\",Hobo!A11820&configuracion!$C$10,\"\")","v":""},""]
[null,null,null,null,null,null,null,{"$f":"IF(Hobo!A11826<>\"\",Hobo!A11826&configuracion!$C$10,\"\")","v":""},""]
[null,null,null,null,null,null,null,{"$f":"IF(Hobo!A11829<>\"\",Hobo!A11829&configuracion!$C$10,\"\")","v":""},""]
[null,null,null,null,null,null,null,{"$f":"IF(Hobo!A11838<>\"\",Hobo!A11838&configuracion!$C$10,\"\")","v":""},""]
[null,null,null,null,null,null,null,{"$f":"IF(Hobo!A11843<>\"\",Hobo!A11843&configuracion!$C$10,\"\")","v":""},""]
[null,null,null,null,null,null,null,{"$f":"IF(Hobo!A11849<>\"\",Hobo!A11849&configuracion!$C$10,\"\")","v":""},""]
[null,null,null,null,null,null,null,{"$f":"IF(Hobo!A11858<>\"\",Hobo!A11858&configuracion!$C$10,\"\")","v":""},""]
[null,null,null,null,null,null,null,{"$f":"IF(Hobo!A11859<>\"\",Hobo!A11859&configuracion!$C$10,\"\")","v":""},""]
[null,null,null,null,null,null,null,{"$f":"IF(Hobo!A11869<>\"\",Hobo!A11869&configuracion!$C$10,\"\")","v":""},""]
[null,null,null,null,null,null,null,{"$f":"IF(Hobo!A11876<>\"\",Hobo!A11876&configuracion!$C$10,\"\")","v":""},""]
[null,null,null,null,null,null,null,{"$f":"IF(Hobo!A11879<>\"\",Hobo!A11879&configuracion!$C$10,\"\")","v":""},""]
[null,null,null,null,null,null,null,{"$f":"IF(Hobo!A11888<>\"\",Hobo!A11888&configuracion!$C$10,\"\")","v":""},""]
[null,null,null,null,null,null,null,{"$f":"IF(Hobo!A11892<>\"\",Hobo!A11892&configuracion!$C$10,\"\")","v":""},""]
[null,null,null,null,null,null,null,{"$f":"IF(Hobo!A11899<>\"\",Hobo!A11899&configuracion!$C$10,\"\")","v":""},""]
[null,null,null,null,null,null,null,{"$f":"IF(Hobo!A11906<>\"\",Hobo!A11906&configuracion!$C$10,\"\")","v":""},""]
[null,null,null,null,null,null,null,{"$f":"IF(Hobo!A11909<>\"\",Hobo!A11909&configuracion!$C$10,\"\")","v":""},""]
[null,null,null,null,null,null,null,{"$f":"IF(Hobo!A11918<>\"\",Hobo!A11918&configuracion!$C$10,\"\")","v":""},""]
[null,null,null,null,null,null,null,{"$f":"IF(Hobo!A11926<>\"\",Hobo!A11926&configuracion!$C$10,\"\")","v":""},""]
[null,null,null,null,null,null,null,{"$f":"IF(Hobo!A11929<>\"\",Hobo!A11929&configuracion!$C$10,\"\")","v":""},""]
[null,null,null,null,null,null,null,{"$f":"IF(Hobo!A11938<>\"\",Hobo!A11938&configuracion!$C$10,\"\")","v":""},""]
[null,null,null,null,null,null,null,{"$f":"IF(Hobo!A11941<>\"\",Hobo!A11941&configuracion!$C$10,\"\")","v":""},""]
[null,null,null,null,null,null,null,{"$f":"IF(Hobo!A11949<>\"\",Hobo!A11949&configuracion!$C$10,\"\")","v":""},""]
[null,null,null,null,null,null,null,{"$f":"IF(Hobo!A11956<>\"\",Hobo!A11956&configuracion!$C$10,\"\")","v":""},""]
[null,null,null,null,null,null,null,{"$f":"IF(Hobo!A11959<>\"\",Hobo!A11959&configuracion!$C$10,\"\")","v":""},""]
[null,null,null,null,null,null,null,{"$f":"IF(Hobo!A11967<>\"\",Hobo!A11967&configuracion!$C$10,\"\")","v":""},""]
[null,null,null,null,null,null,null,{"$f":"IF(Hobo!A11976<>\"\",Hobo!A11976&configuracion!$C$10,\"\")","v":""},""]
[null,null,null,null,null,null,null,{"$f":"IF(Hobo!A11979<>\"\",Hobo!A11979&configuracion!$C$10,\"\")","v":""},""]
[null,null,null,null,null,null,null,{"$f":"IF(Hobo!A11988<>\"\",Hobo!A11988&configuracion!$C$10,\"\")","v":""},""]
[null,null,null,null,null,null,null,{"$f":"IF(Hobo!A11990<>\"\",Hobo!A11990&configuracion!$C$10,\"\")","v":""},""]
[null,null,null,null,null,null,null,{"$f":"IF(Hobo!A11999<>\"\",Hobo!A11999&configuracion!$C$10,\"\")","v":""},""]
[null,null,null,null,null,null,null,{"$f":"IF(Hobo!A12006<>\"\",Hobo!A12006&configuracion!$C$10,\"\")","v":""},""]
[null,null,null,null,null,null,null,{"$f":"IF(Hobo!A12009<>\"\",Hobo!A12009&configuracion!$C$10,\"\")","v":""},""]
[null,null,null,null,null,null,null,{"$f":"IF(Hobo!A12016<>\"\",Hobo!A12016&configuracion!$C$10,\"\")","v":""},""]
[null,null,null,null,null,null,null,{"$f":"IF(Hobo!A12026<>\"\",Hobo!A12026&configuracion!$C$10,\"\")","v":""},""]
[null,null,null,null,null,null,null,{"$f":"IF(Hobo!A12029<>\"\",Hobo!A12029&configuracion!$C$10,\"\")","v":""},""]
[null,null,null,null,null,null,null,{"$f":"IF(Hobo!A12036<>\"\",Hobo!A12036&configuracion!$C$10,\"\")","v":""},{"$f":"IF(B12036=\"\",\"\",TEXT(B12036, \"DD/MM/YYYY HH:MM:SS\"))","v":""}]
[null,null,null,null,null,null,null,{"$f":"IF(Hobo!A12046<>\"\",Hobo!A12046&configuracion!$C$10,\"\")","v":""},""]
[null,null,null,null,null,null,null,{"$f":"IF(Hobo!A12049<>\"\",Hobo!A12049&configuracion!$C$10,\"\")","v":""},""]
[null,null,null,null,null,null,null,{"$f":"IF(Hobo!A12056<>\"\",Hobo!A12056&configuracion!$C$10,\"\")","v":""},""]
[null,null,null,null,null,null,null,{"$f":"IF(Hobo!A12059<>\"\",Hobo!A12059&configuracion!$C$10,\"\")","v":""},""]
[null,null,null,null,null,null,null,{"$f":"IF(Hobo!A12065<>\"\",Hobo!A12065&configuracion!$C$10,\"\")","v":""},""]
[null,null,null,null,null,null,null,{"$f":"IF(Hobo!A12076<>\"\",Hobo!A12076&configuracion!$C$10,\"\")","v":""},""]
[null,null,null,null,null,null,null,{"$f":"IF(Hobo!A12079<>\"\",Hobo!A12079&configuracion!$C$10,\"\")","v":""},""]
[null,null,null,null,null,null,null,{"$f":"IF(Hobo!A12086<>\"\",Hobo!A12086&configuracion!$C$10,\"\")","v":""},""]
[null,null,null,null,null,null,null,{"$f":"IF(Hobo!A12095<>\"\",Hobo!A12095&configuracion!$C$10,\"\")","v":""},""]
[null,null,null,null,null,null,null,{"$f":"IF(Hobo!A12099<>\"\",Hobo!A12099&configuracion!$C$10,\"\")","v":""},""]
[null,null,null,null,null,null,null,{"$f":"IF(Hobo!A12106<>\"\",Hobo!A12106&configuracion!$C$10,\"\")","v":""},""]
[null,null,null,null,null,null,null,{"$f":"IF(Hobo!A12109<>\"\",Hobo!A12109&configuracion!$C$10,\"\")","v":""},""]
[null,null,null,null,null,null,null,{"$f":"IF(Hobo!A12118<>\"\",Hobo!A12118&configuracion!$C$10,\"\")","v":""},""]
[null,null,null,null,null,null,null,{"$f":"IF(Hobo!A12126<>\"\",Hobo!A12126&configuracion!$C$10,\"\")","v":""},""]
[null,null,null,null,null,null,null,{"$f":"IF(Hobo!A12129<>\"\",Hobo!A12129&configuracion!$C$10,\"\")","v":""},""]
[null,null,null,null,null,null,null,{"$f":"IF(Hobo!A12136<>\"\",Hobo!A12136&configuracion!$C$10,\"\")","v":""},""]
[null,null,null,null,null,null,null,{"$f":"IF(Hobo!A12144<>\"\",Hobo!A12144&configuracion!$C$10,\"\")","v":""},""]
[null,null,null,null,null,null,null,{"$f":"IF(Hobo!A12149<>\"\",Hobo!A12149&configuracion!$C$10,\"\")","v":""},""]
[null,null,null,null,null,null,null,{"$f":"IF(Hobo!A12156<>\"\",Hobo!A12156&configuracion!$C$10,\"\")","v":""},""]
[null,null,null,null,null,null,null,{"$f":"IF(Hobo!A12159<>\"\",Hobo!A12159&configuracion!$C$10,\"\")","v":""},""]
[null,null,null,null,null,null,null,{"$f":"IF(Hobo!A12167<>\"\",Hobo!A12167&configuracion!$C$10,\"\")","v":""},""]
[null,null,null,null,null,null,null,{"$f":"IF(Hobo!A12176<>\"\",Hobo!A12176&configuracion!$C$10,\"\")","v":""},""]
[null,null,null,null,null,null,null,{"$f":"IF(Hobo!A12179<>\"\",Hobo!A12179&configuracion!$C$10,\"\")","v":""},""]
[null,null,null,null,null,null,null,{"$f":"IF(Hobo!A12186<>\"\",Hobo!A12186&configuracion!$C$10,\"\")","v":""},""]
[null,null,null,null,null,null,null,{"$f":"IF(Hobo!A12193<>\"\",Hobo!A12193&configuracion!$C$10,\"\")","v":""},""]
[null,null,null,null,null,null,null,{"$f":"IF(Hobo!A12199<>\"\",Hobo!A12199&configuracion!$C$10,\"\")","v":""},""]
[null,null,null,null,null,null,null,{"$f":"IF(Hobo!A12206<>\"\",Hobo!A12206&configuracion!$C$10,\"\")","v":""},""]
[null,null,null,null,null,null,null,{"$f":"IF(Hobo!A12209<>\"\",Hobo!A12209&configuracion!$C$10,\"\")","v":""},""]
[null,null,null,null,null,null,null,{"$f":"IF(Hobo!A12216<>\"\",Hobo!A12216&configuracion!$C$10,\"\")","v":""},""]
[null,null,null,null,null,null,null,{"$f":"IF(Hobo!A12226<>\"\",Hobo!A12226&configuracion!$C$10,\"\")","v":""},""]
[null,null,null,null,null,null,null,{"$f":"IF(Hobo!A12229<>\"\",Hobo!A12229&configuracion!$C$10,\"\")","v":""},""]
[null,null,null,null,null,null,null,{"$f":"IF(Hobo!A12236<>\"\",Hobo!A12236&configuracion!$C$10,\"\")","v":""},""]
[null,null,null,null,null,null,null,{"$f":"IF(Hobo!A12242<>\"\",Hobo!A12242&configuracion!$C$10,\"\")","v":""},""]
[null,null,null,null,null,null,null,{"$f":"IF(Hobo!A12247<>\"\",Hobo!A12247&configuracion!$C$10,\"\")","v":""},""]
[null,null,null,null,null,null,null,{"$f":"IF(Hobo!A12256<>\"\",Hobo!A12256&configuracion!$C$10,\"\")","v":""},""]
[null,null,null,null,null,null,null,{"$f":"IF(Hobo!A12259<>\"\",Hobo!A12259&configuracion!$C$10,\"\")","v":""},""]
[null,null,null,null,null,null,null,{"$f":"IF(Hobo!A12265<>\"\",Hobo!A12265&configuracion!$C$10,\"\")","v":""},""]
[null,null,null,null,null,null,null,{"$f":"IF(Hobo!A12276<>\"\",Hobo!A12276&configuracion!$C$10,\"\")","v":""},""]
[null,null,null,null,null,null,null,{"$f":"IF(Hobo!A12279<>\"\",Hobo!A12279&configuracion!$C$10,\"\")","v":""},""]
[null,null,null,null,null,null,null,{"$f":"IF(Hobo!A12286<>\"\",Hobo!A12286&configuracion!$C$10,\"\")","v":""},""]
[null,null,null,null,null,null,null,{"$f":"IF(Hobo!A12291<>\"\",Hobo!A12291&configuracion!$C$10,\"\")","v":""},""]
[null,null,null,null,null,null,null,{"$f":"IF(Hobo!A12297<>\"\",Hobo!A12297&configuracion!$C$10,\"\")","v":""},""]
[null,null,null,null,null,null,null,{"$f":"IF(Hobo!A12306<>\"\",Hobo!A12306&configuracion!$C$10,\"\")","v":""},""]
[null,null,null,null,null,null,null,{"$f":"IF(Hobo!A12309<>\"\",Hobo!A12309&configuracion!$C$10,\"\")","v":""},""]
[null,null,null,null,null,null,null,{"$f":"IF(Hobo!A12321<>\"\",Hobo!A12321&configuracion!$C$10,\"\")","v":""},""]
[null,null,null,null,null,null,null,{"$f":"IF(Hobo!A12326<>\"\",Hobo!A12326&configuracion!$C$10,\"\")","v":""},""]
[null,null,null,null,null,null,null,{"$f":"IF(Hobo!A12333<>\"\",Hobo!A12333&configuracion!$C$10,\"\")","v":""},""]
[null,null,null,null,null,null,null,{"$f":"IF(Hobo!A12336<>\"\",Hobo!A12336&configuracion!$C$10,\"\")","v":""},""]
[null,null,null,null,null,null,null,{"$f":"IF(Hobo!A12340<>\"\",Hobo!A12340&configuracion!$C$10,\"\")","v":""},""]
[null,null,null,null,null,null,null,{"$f":"IF(Hobo!A12347<>\"\",Hobo!A12347&configuracion!$C$10,\"\")","v":""},""]
[null,null,null,null,null,null,null,{"$f":"IF(Hobo!A12356<>\"\",Hobo!A12356&configuracion!$C$10,\"\")","v":""},{"$f":"IF(B12356=\"\",\"\",TEXT(B12356, \"DD/MM/YYYY HH:MM:SS\"))","v":""}]
[null,null,null,null,null,null,null,{"$f":"IF(Hobo!A12359<>\"\",Hobo!A12359&configuracion!$C$10,\"\")","v":""},""]
[null,null,null,null,null,null,null,{"$f":"IF(Hobo!A12370<>\"\",Hobo!A12370&configuracion!$C$10,\"\")","v":""},""]
[null,null,null,null,null,null,null,{"$f":"IF(Hobo!A12376<>\"\",Hobo!A12376&configuracion!$C$10,\"\")","v":""},""]
[null,null,null,null,null,null,null,{"$f":"IF(Hobo!A12383<>\"\",Hobo!A12383&configuracion!$C$10,\"\")","v":""},""]
[null,null,null,null,null,null,null,{"$f":"IF(Hobo!A12386<>\"\",Hobo!A12386&configuracion!$C$10,\"\")","v":""},""]
[null,null,null,null,null,null,null,{"$f":"IF(Hobo!A12396<>\"\",Hobo!A12396&configuracion!$C$10,\"\")","v":""},""]
[null,null,null,null,null,null,null,{"$f":"IF(Hobo!A12397<>\"\",Hobo!A12397&configuracion!$C$10,\"\")","v":""},""]
[null,null,null,null,null,null,null,{"$f":"IF(Hobo!A12406<>\"\",Hobo!A12406&configuracion!$C$10,\"\")","v":""},""]
[null,null,null,null,null,null,null,{"$f":"IF(Hobo!A12409<>\"\",Hobo!A12409&configuracion!$C$10,\"\")","v":""},""]
[null,null,null,null,null,null,null,{"$f":"IF(Hobo!A12419<>\"\",Hobo!A12419&configuracion!$C$10,\"\")","v":""},""]
[null,null,null,null,null,null,null,{"$f":"IF(Hobo!A12426<>\"\",Hobo!A12426&configuracion!$C$10,\"\")","v":""},""]
[null,null,null,null,null,null,null,{"$f":"IF(Hobo!A12433<>\"\",Hobo!A12433&configuracion!$C$10,\"\")","v":""},""]
[null,null,null,null,null,null,null,{"$f":"IF(Hobo!A12438<>\"\",Hobo!A12438&configuracion!$C$10,\"\")","v":""},""]
[null,null,null,null,null,null,null,{"$f":"IF(Hobo!A12446<>\"\",Hobo!A12446&configuracion!$C$10,\"\")","v":""},""]
[null,null,null,null,null,null,null,{"$f":"IF(Hobo!A12447<>\"\",Hobo!A12447&configuracion!$C$10,\"\")","v":""},""]
[null,null,null,null,null,null,null,{"$f":"IF(Hobo!A12456<>\"\",Hobo!A12456&configuracion!$C$10,\"\")","v":""},""]
[null,null,null,null,null,null,null,{"$f":"IF(Hobo!A12461<>\"\",Hobo!A12461&configuracion!$C$10,\"\")","v":""},""]
[null,null,null,null,null,null,null,{"$f":"IF(Hobo!A12467<>\"\",Hobo!A12467&configuracion!$C$10,\"\")","v":""},""]
[null,null,null,null,null,null,null,{"$f":"IF(Hobo!A12476<>\"\",Hobo!A12476&configuracion!$C$10,\"\")","v":""},""]
[null,null,null,null,null,null,null,{"$f":"IF(Hobo!A12483<>\"\",Hobo!A12483&configuracion!$C$10,\"\")","v":""},""]
[null,null,null,null,null,null,null,{"$f":"IF(Hobo!A12487<>\"\",Hobo!A12487&configuracion!$C$10,\"\")","v":""},""]
[null,null,null,null,null,null,null,{"$f":"IF(Hobo!A12496<>\"\",Hobo!A12496&configuracion!$C$10,\"\")","v":""},""]
[null,null,null,null,null,null,null,{"$f":"IF(Hobo!A12497<>\"\",Hobo!A12497&configuracion!$C$10,\"\")","v":""},""]
[null,null,null,null,null,null,null,{"$f":"IF(Hobo!A12506<>\"\",Hobo!A12506&configuracion!$C$10,\"\")","v":""},""]
[null,null,null,null,null,null,null,{"$f":"IF(Hobo!A12510<>\"\",Hobo!A12510&configuracion!$C$10,\"\")","v":""},""]
[null,null,null,null,null,null,null,{"$f":"IF(Hobo!A12517<>\"\",Hobo!A12517&configuracion!$C$10,\"\")","v":""},""]
[null,null,null,null,null,null,null,{"$f":"IF(Hobo!A12526<>\"\",Hobo!A12526&configuracion!$C$10,\"\")","v":""},""]
[null,null,null,null,null,null,null,{"$f":"IF(Hobo!A12533<>\"\",Hobo!A12533&configuracion!$C$10,\"\")","v":""},""]
[null,null,null,null,null,null,null,{"$f":"IF(Hobo!A12536<>\"\",Hobo!A12536&configuracion!$C$10,\"\")","v":""},""]
[null,null,null,null,null,null,null,{"$f":"IF(Hobo!A12546<>\"\",Hobo!A12546&configuracion!$C$10,\"\")","v":""},""]
[null,null,null,null,null,null,null,{"$f":"IF(Hobo!A12547<>\"\",Hobo!A12547&configuracion!$C$10,\"\")","v":""},""]
[null,null,null,null,null,null,null,{"$f":"IF(Hobo!A12556<>\"\",Hobo!A12556&configuracion!$C$10,\"\")","v":""},""]
[null,null,null,null,null,null,null,{"$f":"IF(Hobo!A12559<>\"\",Hobo!A12559&configuracion!$C$10,\"\")","v":""},""]
[null,null,null,null,null,null,null,{"$f":"IF(Hobo!A12567<>\"\",Hobo!A12567&configuracion!$C$10,\"\")","v":""},""]
[null,null,null,null,null,null,null,{"$f":"IF(Hobo!A12576<>\"\",Hobo!A12576&configuracion!$C$10,\"\")","v":""},""]
[null,null,null,null,null,null,null,{"$f":"IF(Hobo!A12583<>\"\",Hobo!A12583&configuracion!$C$10,\"\")","v":""},""]
[null,null,null,null,null,null,null,{"$f":"IF(Hobo!A12585<>\"\",Hobo!A12585&configuracion!$C$10,\"\")","v":""},""]
[null,null,null,null,null,null,null,{"$f":"IF(Hobo!A12594<>\"\",Hobo!A12594&configuracion!$C$10,\"\")","v":""},""]
[null,null,null,null,null,null,null,{"$f":"IF(Hobo!A12597<>\"\",Hobo!A12597&configuracion!$C$10,\"\")","v":""},""]
[null,null,null,null,null,null,null,{"$f":"IF(Hobo!A12606<>\"\",Hobo!A12606&configuracion!$C$10,\"\")","v":""},""]
[null,null,null,null,null,null,null,{"$f":"IF(Hobo!A12615<>\"\",Hobo!A12615&configuracion!$C$10,\"\")","v":""},""]
[null,null,null,null,null,null,null,{"$f":"IF(Hobo!A12617<>\"\",Hobo!A12617&configuracion!$C$10,\"\")","v":""},""]
[null,null,null,null,null,null,null,{"$f":"IF(Hobo!A12626<>\"\",Hobo!A12626&configuracion!$C$10,\"\")","v":""},""]
[null,null,null,null,null,null,null,{"$f":"IF(Hobo!A12633<>\"\",Hobo!A12633&configuracion!$C$10,\"\")","v":""},""]
[null,null,null,null,null,null,null,{"$f":"IF(Hobo!A12634<>\"\",Hobo!A12634&configuracion!$C$10,\"\")","v":""},""]
[null,null,null,null,null,null,null,{"$f":"IF(Hobo!A12644<>\"\",Hobo!A12644&configuracion!$C$10,\"\")","v":""},""]
[null,null,null,null,null,null,null,{"$f":"IF(Hobo!A12647<>\"\",Hobo!A12647&configuracion!$C$10,\"\")","v":""},""]
[null,null,null,null,null,null,null,{"$f":"IF(Hobo!A12656<>\"\",Hobo!A12656&configuracion!$C$10,\"\")","v":""},""]
[null,null,null,null,null,null,null,{"$f":"IF(Hobo!A12664<>\"\",Hobo!A12664&configuracion!$C$10,\"\")","v":""},""]
[null,null,null,null,null,null,null,{"$f":"IF(Hobo!A12667<>\"\",Hobo!A12667&configuracion!$C$10,\"\")","v":""},""]
[null,null,null,null,null,null,null,{"$f":"IF(Hobo!A12674<>\"\",Hobo!A12674&configuracion!$C$10,\"\")","v":""},""]
[null,null,null,null,null,null,null,{"$f":"IF(Hobo!A12683<>\"\",Hobo!A12683&configuracion!$C$10,\"\")","v":""},""]
[null,null,null,null,null,null,null,{"$f":"IF(Hobo!A12690<>\"\",Hobo!A12690&configuracion!$C$10,\"\")","v":""},""]
[null,null,null,null,null,null,null,{"$f":"IF(Hobo!A12694<>\"\",Hobo!A12694&configuracion!$C$10,\"\")","v":""},""]
[null,null,null,null,null,null,null,{"$f":"IF(Hobo!A12697<>\"\",Hobo!A12697&configuracion!$C$10,\"\")","v":""},""]
[null,null,null,null,null,null,null,{"$f":"IF(Hobo!A12706<>\"\",Hobo!A12706&configuracion!$C$10,\"\")","v":""},""]
[null,null,null,null,null,null,null,{"$f":"IF(Hobo!A12713<>\"\",Hobo!A12713&configuracion!$C$10,\"\")","v":""},""]
[null,null,null,null,null,null,null,{"$f":"IF(Hobo!A12717<>\"\",Hobo!A12717&configuracion!$C$10,\"\")","v":""},""]
[null,null,null,null,null,null,null,{"$f":"IF(Hobo!A12724<>\"\",Hobo!A12724&configuracion!$C$10,\"\")","v":""},""]
[null,null,null,null,null,null,null,{"$f":"IF(Hobo!A12733<>\"\",Hobo!A12733&configuracion!$C$10,\"\")","v":""},""]
[null,null,null,null,null,null,null,{"$f":"IF(Hobo!A12739<>\"\",Hobo!A12739&configuracion!$C$10,\"\")","v":""},""]
[null,null,null,null,null,null,null,{"$f":"IF(Hobo!A12744<>\"\",Hobo!A12744&configuracion!$C$10,\"\")","v":""},""]
[null,null,null,null,null,null,null,{"$f":"IF(Hobo!A12747<>\"\",Hobo!A12747&configuracion!$C$10,\"\")","v":""},""]
[null,null,null,null,null,null,null,{"$f":"IF(Hobo!A12756<>\"\",Hobo!A12756&configuracion!$C$10,\"\")","v":""},""]
[null,null,null,null,null,null,null,{"$f":"IF(Hobo!A12762<>\"\",Hobo!A12762&configuracion!$C$10,\"\")","v":""},""]
[null,null,null,null,null,null,null,{"$f":"IF(Hobo!A12767<>\"\",Hobo!A12767&configuracion!$C$10,\"\")","v":""},""]
[null,null,null,null,null,null,null,{"$f":"IF(Hobo!A12774<>\"\",Hobo!A12774&configuracion!$C$10,\"\")","v":""},""]
[null,null,null,null,null,null,null,{"$f":"IF(Hobo!A12783<>\"\",Hobo!A12783&configuracion!$C$10,\"\")","v":""},""]
[null,null,null,null,null,null,null,{"$f":"IF(Hobo!A12788<>\"\",Hobo!A12788&configuracion!$C$10,\"\")","v":""},""]
[null,null,null,null,null,null,null,{"$f":"IF(Hobo!A12794<>\"\",Hobo!A12794&configuracion!$C$10,\"\")","v":""},""]
[null,null,null,null,null,null,null,{"$f":"IF(Hobo!A12797<>\"\",Hobo!A12797&configuracion!$C$10,\"\")","v":""},""]
[null,null,null,null,null,null,null,{"$f":"IF(Hobo!A12804<>\"\",Hobo!A12804&configuracion!$C$10,\"\")","v":""},{"$f":"IF(B12804=\"\",\"\",TEXT(B12804, \"DD/MM/YYYY HH:MM:SS\"))","v":""}]
[null,null,null,null,null,null,null,{"$f":"IF(Hobo!A12811<>\"\",Hobo!A12811&configuracion!$C$10,\"\")","v":""},""]
[null,null,null,null,null,null,null,{"$f":"IF(Hobo!A12817<>\"\",Hobo!A12817&configuracion!$C$10,\"\")","v":""},""]
[null,null,null,null,null,null,null,{"$f":"IF(Hobo!A12824<>\"\",Hobo!A12824&configuracion!$C$10,\"\")","v":""},""]
[null,null,null,null,null,null,null,{"$f":"IF(Hobo!A12833<>\"\",Hobo!A12833&configuracion!$C$10,\"\")","v":""},""]
[null,null,null,null,null,null,null,{"$f":"IF(Hobo!A12837<>\"\",Hobo!A12837&configuracion!$C$10,\"\")","v":""},""]
[null,null,null,null,null,null,null,{"$f":"IF(Hobo!A12844<>\"\",Hobo!A12844&configuracion!$C$10,\"\")","v":""},""]
[null,null,null,null,null,null,null,{"$f":"IF(Hobo!A12847<>\"\",Hobo!A12847&configuracion!$C$10,\"\")","v":""},""]
[null,null,null,null,null,null,null,{"$f":"IF(Hobo!A12854<>\"\",Hobo!A12854&configuracion!$C$10,\"\")","v":""},""]
[null,null,null,null,null,null,null,{"$f":"IF(Hobo!A12860<>\"\",Hobo!A12860&configuracion!$C$10,\"\")","v":""},""]
[null,null,null,null,null,null,null,{"$f":"IF(Hobo!A12867<>\"\",Hobo!A12867&configuracion!$C$10,\"\")","v":""},""]
[null,null,null,null,null,null,null,{"$f":"IF(Hobo!A12874<>\"\",Hobo!A12874&configuracion!$C$10,\"\")","v":""},""]
[null,null,null,null,null,null,null,{"$f":"IF(Hobo!A12883<>\"\",Hobo!A12883&configuracion!$C$10,\"\")","v":""},""]
[null,null,null,null,null,null,null,{"$f":"IF(Hobo!A12890<>\"\",Hobo!A12890&configuracion!$C$10,\"\")","v":""},""]
[null,null,null,null,null,null,null,{"$f":"IF(Hobo!A12894<>\"\",Hobo!A12894&configuracion!$C$10,\"\")","v":""},""]
[null,null,null,null,null,null,null,{"$f":"IF(Hobo!A12897<>\"\",Hobo!A12897&configuracion!$C$10,\"\")","v":""},""]
[null,null,null,null,null,null,null,{"$f":"IF(Hobo!A12904<>\"\",Hobo!A12904&configuracion!$C$10,\"\")","v":""},""]
[null,null,null,null,null,null,null,{"$f":"IF(Hobo!A12909<>\"\",Hobo!A12909&configuracion!$C$10,\"\")","v":""},""]
[null,null,null,null,null,null,null,{"$f":"IF(Hobo!A12917<>\"\",Hobo!A12917&configuracion!$C$10,\"\")","v":""},""]
[null,null,null,null,null,null,null,{"$f":"IF(Hobo!A12924<>\"\",Hobo!A12924&configuracion!$C$10,\"\")","v":""},""]
[null,null,null,null,null,null,null,{"$f":"IF(Hobo!A12933<>\"\",Hobo!A12933&configuracion!$C$10,\"\")","v":""},""]
[null,null,null,null,null,null,null,{"$f":"IF(Hobo!A12939<>\"\",Hobo!A12939&configuracion!$C$10,\"\")","v":""},""]
[null,null,null,null,null,null,null,{"$f":"IF(Hobo!A12944<>\"\",Hobo!A12944&configuracion!$C$10,\"\")","v":""},""]
[null,null,null,null,null,null,null,{"$f":"IF(Hobo!A12947<>\"\",Hobo!A12947&configuracion!$C$10,\"\")","v":""},""]
[null,null,null,null,null,null,null,{"$f":"IF(Hobo!A12954<>\"\",Hobo!A12954&configuracion!$C$10,\"\")","v":""},""]
[null,null,null,null,null,null,null,{"$f":"IF(Hobo!A12965<>\"\",Hobo!A12965&configuracion!$C$10,\"\")","v":""},""]
[null,null,null,null,null,null,null,{"$f":"IF(Hobo!A12967<>\"\",Hobo!A12967&configuracion!$C$10,\"\")","v":""},""]
[null,null,null,null,null,null,null,{"$f":"IF(Hobo!A12974<>\"\",Hobo!A12974&configuracion!$C$10,\"\")","v":""},""]
[null,null,null,null,null,null,null,{"$f":"IF(Hobo!A12983<>\"\",Hobo!A12983&configuracion!$C$10,\"\")","v":""},""]
[null,null,null,null,null,null,null,{"$f":"IF(Hobo!A12988<>\"\",Hobo!A12988&configuracion!$C$10,\"\")","v":""},""]
[null,null,null,null,null,null,null,{"$f":"IF(Hobo!A12994<>\"\",Hobo!A12994&configuracion!$C$10,\"\")","v":""},""]
[null,null,null,null,null,null,null,{"$f":"IF(Hobo!A12997<>\"\",Hobo!A12997&configuracion!$C$10,\"\")","v":""},""]
[null,null,null,null,null,null,null,{"$f":"IF(Hobo!A13004<>\"\",Hobo!A13004&configuracion!$C$10,\"\")","v":""},""]
[null,null,null,null,null,null,null,{"$f":"IF(Hobo!A13014<>\"\",Hobo!A13014&configuracion!$C$10,\"\")","v":""},""]
[null,null,null,null,null,null,null,{"$f":"IF(Hobo!A13021<>\"\",Hobo!A13021&configuracion!$C$10,\"\")","v":""},""]
[null,null,null,null,null,null,null,{"$f":"IF(Hobo!A13024<>\"\",Hobo!A13024&configuracion!$C$10,\"\")","v":""},""]
[null,null,null,null,null,null,null,{"$f":"IF(Hobo!A13033<>\"\",Hobo!A13033&configuracion!$C$10,\"\")","v":""},""]
[null,null,null,null,null,null,null,{"$f":"IF(Hobo!A13037<>\"\",Hobo!A13037&configuracion!$C$10,\"\")","v":""},""]
[null,null,null,null,null,null,null,{"$f":"IF(Hobo!A13044<>\"\",Hobo!A13044&configuracion!$C$10,\"\")","v":""},""]
[null,null,null,null,null,null,null,{"$f":"IF(Hobo!A13047<>\"\",Hobo!A13047&configuracion!$C$10,\"\")","v":""},""]
[null,null,null,null,null,null,null,{"$f":"IF(Hobo!A13054<>\"\",Hobo!A13054&configuracion!$C$10,\"\")","v":""},""]
[null,null,null,null,null,null,null,{"$f":"IF(Hobo!A13063<>\"\",Hobo!A13063&configuracion!$C$10,\"\")","v":""},""]
[null,null,null,null,null,null,null,{"$f":"IF(Hobo!A13071<>\"\",Hobo!A13071&configuracion!$C$10,\"\")","v":""},""]
[null,null,null,null,null,null,null,{"$f":"IF(Hobo!A13074<>\"\",Hobo!A13074&configuracion!$C$10,\"\")","v":""},""]
[null,null,null,null,null,null,null,{"$f":"IF(Hobo!A13083<>\"\",Hobo!A13083&configuracion!$C$10,\"\")","v":""},""]
[null,null,null,null,null,null,null,{"$f":"IF(Hobo!A13086<>\"\",Hobo!A13086&configuracion!$C$10,\"\")","v":""},""]
[null,null,null,null,null,null,null,{"$f":"IF(Hobo!A13094<>\"\",Hobo!A13094&configuracion!$C$10,\"\")","v":""},""]
[null,null,null,null,null,null,null,{"$f":"IF(Hobo!A13097<>\"\",Hobo!A13097&configuracion!$C$10,\"\")","v":""},""]
[null,null,null,null,null,null,null,{"$f":"IF(Hobo!A13104<>\"\",Hobo!A13104&configuracion!$C$10,\"\")","v":""},""]
[null,null,null,null,null,null,null,{"$f":"IF(Hobo!A13112<>\"\",Hobo!A13112&configuracion!$C$10,\"\")","v":""},""]
[null,null,null,null,null,null,null,{"$f":"IF(Hobo!A13121<>\"\",Hobo!A13121&configuracion!$C$10,\"\")","v":""},""]
[null,null,null,null,null,null,null,{"$f":"IF(Hobo!A13124<>\"\",Hobo!A13124&configuracion!$C$10,\"\")","v":""},{"$f":"IF(B13124=\"\",\"\",TEXT(B13124, \"DD/MM/YYYY HH:MM:SS\"))","v":""}]
[null,null,null,null,null,null,null,{"$f":"IF(Hobo!A13133<>\"\",Hobo!A13133&configuracion!$C$10,\"\")","v":""},""]
[null,null,null,null,null,null,null,{"$f":"IF(Hobo!A13135<>\"\",Hobo!A13135&configuracion!$C$10,\"\")","v":""},""]
[null,null,null,null,null,null,null,{"$f":"IF(Hobo!A13144<>\"\",Hobo!A13144&configuracion!$C$10,\"\")","v":""},""]
[null,null,null,null,null,null,null,{"$f":"IF(Hobo!A13151<>\"\",Hobo!A13151&configuracion!$C$10,\"\")","v":""},""]
[null,null,null,null,null,null,null,{"$f":"IF(Hobo!A13154<>\"\",Hobo!A13154&configuracion!$C$10,\"\")","v":""},""]
[null,null,null,null,null,null,null,{"$f":"IF(Hobo!A13161<>\"\",Hobo!A13161&configuracion!$C$10,\"\")","v":""},""]
[null,null,null,null,null,null,null,{"$f":"IF(Hobo!A13171<>\"\",Hobo!A13171&configuracion!$C$10,\"\")","v":""},""]
[null,null,null,null,null,null,null,{"$f":"IF(Hobo!A13174<>\"\",Hobo!A13174&configuracion!$C$10,\"\")","v":""},""]
[null,null,null,null,null,null,null,{"$f":"IF(Hobo!A13183<>\"\",Hobo!A13183&configuracion!$C$10,\"\")","v":""},""]
[null,null,null,null,null,null,null,{"$f":"IF(Hobo!A13184<>\"\",Hobo!A13184&configuracion!$C$10,\"\")","v":""},""]
[null,null,null,null,null,null,null,{"$f":"IF(Hobo!A13194<>\"\",Hobo!A13194&configuracion!$C$10,\"\")","v":""},""]
[null,null,null,null,null,null,null,{"$f":"IF(Hobo!A13201<>\"\",Hobo!A13201&configuracion!$C$10,\"\")","v":""},""]
[null,null,null,null,null,null,null,{"$f":"IF(Hobo!A13204<>\"\",Hobo!A13204&configuracion!$C$10,\"\")","v":""},""]
[null,null,null,null,null,null,null,{"$f":"IF(Hobo!A13210<>\"\",Hobo!A13210&configuracion!$C$10,\"\")","v":""},""]
[null,null,null,null,null,null,null,{"$f":"IF(Hobo!A13221<>\"\",Hobo!A13221&configuracion!$C$10,\"\")","v":""},""]
[null,null,null,null,null,null,null,{"$f":"IF(Hobo!A13224<>\"\",Hobo!A13224&configuracion!$C$10,\"\")","v":""},""]
[null,null,null,null,null,null,null,{"$f":"IF(Hobo!A13231<>\"\",Hobo!A13231&configuracion!$C$10,\"\")","v":""},""]
[null,null,null,null,null,null,null,{"$f":"IF(Hobo!A13240<>\"\",Hobo!A13240&configuracion!$C$10,\"\")","v":""},""]
[null,null,null,null,null,null,null,{"$f":"IF(Hobo!A13244<>\"\",Hobo!A13244&configuracion!$C$10,\"\")","v":""},""]
[null,null,null,null,null,null,null,{"$f":"IF(Hobo!A13251<>\"\",Hobo!A13251&configuracion!$C$10,\"\")","v":""},""]
[null,null,null,null,null,null,null,{"$f":"IF(Hobo!A13254<>\"\",Hobo!A13254&configuracion!$C$10,\"\")","v":""},""]
[null,null,null,null,null,null,null,{"$f":"IF(Hobo!A13259<>\"\",Hobo!A13259&configuracion!$C$10,\"\")","v":""},""]
[null,null,null,null,null,null,null,{"$f":"IF(Hobo!A13271<>\"\",Hobo!A13271&configuracion!$C$10,\"\")","v":""},""]
[null,null,null,null,null,null,null,{"$f":"IF(Hobo!A13274<>\"\",Hobo!A13274&configuracion!$C$10,\"\")","v":""},""]
[null,null,null,null,null,null,null,{"$f":"IF(Hobo!A13281<>\"\",Hobo!A13281&configuracion!$C$10,\"\")","v":""},""]
[null,null,null,null,null,null,null,{"$f":"IF(Hobo!A13289<>\"\",Hobo!A13289&configuracion!$C$10,\"\")","v":""},""]
[null,null,null,null,null,null,null,{"$f":"IF(Hobo!A13294<>\"\",Hobo!A13294&configuracion!$C$10,\"\")","v":""},""]
[null,null,null,null,null,null,null,{"$f":"IF(Hobo!A13301<>\"\",Hobo!A13301&configuracion!$C$10,\"\")","v":""},""]
[null,null,null,null,null,null,null,{"$f":"IF(Hobo!A13304<>\"\",Hobo!A13304&configuracion!$C$10,\"\")","v":""},""]
[null,null,null,null,null,null,null,{"$f":"IF(Hobo!A13315<>\"\",Hobo!A13315&configuracion!$C$10,\"\")","v":""},""]
[null,null,null,null,null,null,null,{"$f":"IF(Hobo!A13321<>\"\",Hobo!A13321&configuracion!$C$10,\"\")","v":""},""]
[null,null,null,null,null,null,null,{"$f":"IF(Hobo!A13324<>\"\",Hobo!A13324&configuracion!$C$10,\"\")","v":""},""]
[null,null,null,null,null,null,null,{"$f":"IF(Hobo!A13331<>\"\",Hobo!A13331&configuracion!$C$10,\"\")","v":""},""]
[null,null,null,null,null,null,null,{"$f":"IF(Hobo!A13338<>\"\",Hobo!A13338&configuracion!$C$10,\"\")","v":""},""]
[null,null,null,null,null,null,null,{"$f":"IF(Hobo!A13344<>\"\",Hobo!A13344&configuracion!$C$10,\"\")","v":""},""]
[null,null,null,null,null,null,null,{"$f":"IF(Hobo!A13351<>\"\",Hobo!A13351&configuracion!$C$10,\"\")","v":""},""]
[null,null,null,null,null,null,null,{"$f":"IF(Hobo!A13354<>\"\",Hobo!A13354&configuracion!$C$10,\"\")","v":""},""]
[null,null,null,null,null,null,null,{"$f":"IF(Hobo!A13361<>\"\",Hobo!A13361&configuracion!$C$10,\"\")","v":""},""]
[null,null,null,null,null,null,null,{"$f":"IF(Hobo!A13371<>\"\",Hobo!A13371&configuracion!$C$10,\"\")","v":""},""]
[null,null,null,null,null,null,null,{"$f":"IF(Hobo!A13374<>\"\",Hobo!A13374&configuracion!$C$10,\"\")","v":""},""]
[null,null,null,null,null,null,null,{"$f":"IF(Hobo!A13381<>\"\",Hobo!A13381&configuracion!$C$10,\"\")","v":""},""]
[null,null,null,null,null,null,null,{"$f":"IF(Hobo!A13387<>\"\",Hobo!A13387&configuracion!$C$10,\"\")","v":""},""]
[null,null,null,null,null,null,null,{"$f":"IF(Hobo!A13394<>\"\",Hobo!A13394&configuracion!$C$10,\"\")","v":""},""]
[null,null,null,null,null,null,null,{"$f":"IF(Hobo!A13401<>\"\",Hobo!A13401&configuracion!$C$10,\"\")","v":""},""]
[null,null,null,null,null,null,null,{"$f":"IF(Hobo!A13404<>\"\",Hobo!A13404&configuracion!$C$10,\"\")","v":""},""]
[null,null,null,null,null,null,null,{"$f":"IF(Hobo!A13410<>\"\",Hobo!A13410&configuracion!$C$10,\"\")","v":""},""]
[null,null,null,null,null,null,null,{"$f":"IF(Hobo!A13421<>\"\",Hobo!A13421&configuracion!$C$10,\"\")","v":""},""]
[null,null,null,null,null,null,null,{"$f":"IF(Hobo!A13424<>\"\",Hobo!A13424&configuracion!$C$10,\"\")","v":""},""]
[null,null,null,null,null,null,null,{"$f":"IF(Hobo!A13431<>\"\",Hobo!A13431&configuracion!$C$10,\"\")","v":""},""]
[null,null,null,null,null,null,null,{"$f":"IF(Hobo!A13436<>\"\",Hobo!A13436&configuracion!$C$10,\"\")","v":""},""]
[null,null,null,null,null,null,null,{"$f":"IF(Hobo!A13444<>\"\",Hobo!A13444&configuracion!$C$10,\"\")","v":""},{"$f":"IF(B13444=\"\",\"\",TEXT(B13444, \"DD/MM/YYYY HH:MM:SS\"))","v":""}]
[null,null,null,null,null,null,null,{"$f":"IF(Hobo!A13451<>\"\",Hobo!A13451&configuracion!$C$10,\"\")","v":""},""]
[null,null,null,null,null,null,null,{"$f":"IF(Hobo!A13454<>\"\",Hobo!A13454&configuracion!$C$10,\"\")","v":""},""]
[null,null,null,null,null,null,null,{"$f":"IF(Hobo!A13459<>\"\",Hobo!A13459&configuracion!$C$10,\"\")","v":""},""]
[null,null,null,null,null,null,null,{"$f":"IF(Hobo!A13471<>\"\",Hobo!A13471&configuracion!$C$10,\"\")","v":""},""]
[null,null,null,null,null,null,null,{"$f":"IF(Hobo!A13474<>\"\",Hobo!A13474&configuracion!$C$10,\"\")","v":""},""]
[null,null,null,null,null,null,null,{"$f":"IF(Hobo!A13478<>\"\",Hobo!A13478&configuracion!$C$10,\"\")","v":""},""]
[null,null,null,null,null,null,null,{"$f":"IF(Hobo!A13485<>\"\",Hobo!A13485&configuracion!$C$10,\"\")","v":""},""]
[null,null,null,null,null,null,null,{"$f":"IF(Hobo!A13492<>\"\",Hobo!A13492&configuracion!$C$10,\"\")","v":""},""]
[null,null,null,null,null,null,null,{"$f":"IF(Hobo!A13501<>\"\",Hobo!A13501&configuracion!$C$10,\"\")","v":""},""]
[null,null,null,null,null,null,null,{"$f":"IF(Hobo!A13504<>\"\",Hobo!A13504&configuracion!$C$10,\"\")","v":""},""]
[null,null,null,null,null,null,null,{"$f":"IF(Hobo!A13512<>\"\",Hobo!A13512&configuracion!$C$10,\"\")","v":""},""]
[null,null,null,null,null,null,null,{"$f":"IF(Hobo!A13521<>\"\",Hobo!A13521&configuracion!$C$10,\"\")","v":""},""]
[null,null,null,null,null,null,null,{"$f":"IF(Hobo!A13524<>\"\",Hobo!A13524&configuracion!$C$10,\"\")","v":""},""]
[null,null,null,null,null,null,null,{"$f":"IF(Hobo!A13534<>\"\",Hobo!A13534&configuracion!$C$10,\"\")","v":""},""]
[null,null,null,null,null,null,null,{"$f":"IF(Hobo!A13535<>\"\",Hobo!A13535&configuracion!$C$10,\"\")","v":""},""]
[null,null,null,null,null,null,null,{"$f":"IF(Hobo!A13542<>\"\",Hobo!A13542&configuracion!$C$10,\"\")","v":""},""]
[null,null,null,null,null,null,null,{"$f":"IF(Hobo!A13551<>\"\",Hobo!A13551&configuracion!$C$10,\"\")","v":""},""]
[null,null,null,null,null,null,null,{"$f":"IF(Hobo!A13553<>\"\",Hobo!A13553&configuracion!$C$10,\"\")","v":""},""]
[null,null,null,null,null,null,null,{"$f":"IF(Hobo!A13562<>\"\",Hobo!A13562&configuracion!$C$10,\"\")","v":""},""]
[null,null,null,null,null,null,null,{"$f":"IF(Hobo!A13571<>\"\",Hobo!A13571&configuracion!$C$10,\"\")","v":""},""]
[null,null,null,null,null,null,null,{"$f":"IF(Hobo!A13572<>\"\",Hobo!A13572&configuracion!$C$10,\"\")","v":""},{"$f":"IF(B13572=\"\",\"\",TEXT(B13572, \"DD/MM/YYYY HH:MM:SS\"))","v":""}]
[null,null,null,null,null,null,null,{"$f":"IF(Hobo!A13583<>\"\",Hobo!A13583&configuracion!$C$10,\"\")","v":""},""]
[null,null,null,null,null,null,null,{"$f":"IF(Hobo!A13585<>\"\",Hobo!A13585&configuracion!$C$10,\"\")","v":""},""]
[null,null,null,null,null,null,null,{"$f":"IF(Hobo!A13592<>\"\",Hobo!A13592&configuracion!$C$10,\"\")","v":""},""]
[null,null,null,null,null,null,null,{"$f":"IF(Hobo!A13601<>\"\",Hobo!A13601&configuracion!$C$10,\"\")","v":""},""]
[null,null,null,null,null,null,null,{"$f":"IF(Hobo!A13609<>\"\",Hobo!A13609&configuracion!$C$10,\"\")","v":""},""]
[null,null,null,null,null,null,null,{"$f":"IF(Hobo!A13612<>\"\",Hobo!A13612&configuracion!$C$10,\"\")","v":""},""]
[null,null,null,null,null,null,null,{"$f":"IF(Hobo!A13621<>\"\",Hobo!A13621&configuracion!$C$10,\"\")","v":""},""]
[null,null,null,null,null,null,null,{"$f":"IF(Hobo!A13622<>\"\",Hobo!A13622&configuracion!$C$10,\"\")","v":""},""]
[null,null,null,null,null,null,null,{"$f":"IF(Hobo!A13632<>\"\",Hobo!A13632&configuracion!$C$10,\"\")","v":""},""]
[null,null,null,null,null,null,null,{"$f":"IF(Hobo!A13635<>\"\",Hobo!A13635&configuracion!$C$10,\"\")","v":""},""]
[null,null,null,null,null,null,null,{"$f":"IF(Hobo!A13642<>\"\",Hobo!A13642&configuracion!$C$10,\"\")","v":""},""]
[null,null,null,null,null,null,null,{"$f":"IF(Hobo!A13651<>\"\",Hobo!A13651&configuracion!$C$10,\"\")","v":""},""]
[null,null,null,null,null,null,null,{"$f":"IF(Hobo!A13658<>\"\",Hobo!A13658&configuracion!$C$10,\"\")","v":""},""]
[null,null,null,null,null,null,null,{"$f":"IF(Hobo!A13662<>\"\",Hobo!A13662&configuracion!$C$10,\"\")","v":""},""]
[null,null,null,null,null,null,null,{"$f":"IF(Hobo!A13671<>\"\",Hobo!A13671&configuracion!$C$10,\"\")","v":""},""]
[null,null,null,null,null,null,null,{"$f":"IF(Hobo!A13672<>\"\",Hobo!A13672&configuracion!$C$10,\"\")","v":""},""]
[null,null,null,null,null,null,null,{"$f":"IF(Hobo!A13681<>\"\",Hobo!A13681&configuracion!$C$10,\"\")","v":""},""]
[null,null,null,null,null,null,null,{"$f":"IF(Hobo!A13685<>\"\",Hobo!A13685&configuracion!$C$10,\"\")","v":""},""]
[null,null,null,null,null,null,null,{"$f":"IF(Hobo!A13692<>\"\",Hobo!A13692&configuracion!$C$10,\"\")","v":""},""]
[null,null,null,null,null,null,null,{"$f":"IF(Hobo!A13701<>\"\",Hobo!A13701&configuracion!$C$10,\"\")","v":""},""]
[null,null,null,null,null,null,null,{"$f":"IF(Hobo!A13704<>\"\",Hobo!A13704&configuracion!$C$10,\"\")","v":""},""]
[null,null,null,null,null,null,null,{"$f":"IF(Hobo!A13712<>\"\",Hobo!A13712&configuracion!$C$10,\"\")","v":""},""]
[null,null,null,null,null,null,null,{"$f":"IF(Hobo!A13721<>\"\",Hobo!A13721&configuracion!$C$10,\"\")","v":""},""]
[null,null,null,null,null,null,null,{"$f":"IF(Hobo!A13722<>\"\",Hobo!A13722&configuracion!$C$10,\"\")","v":""},""]
[null,null,null,null,null,null,null,{"$f":"IF(Hobo!A13730<>\"\",Hobo!A13730&configuracion!$C$10,\"\")","v":""},""]
[null,null,null,null,null,null,null,{"$f":"IF(Hobo!A13735<>\"\",Hobo!A13735&configuracion!$C$10,\"\")","v":""},""]
[null,null,null,null,null,null,null,{"$f":"IF(Hobo!A13742<>\"\",Hobo!A13742&configuracion!$C$10,\"\")","v":""},""]
[null,null,null,null,null,null,null,{"$f":"IF(Hobo!A13751<>\"\",Hobo!A13751&configuracion!$C$10,\"\")","v":""},""]
[null,null,null,null,null,null,null,{"$f":"IF(Hobo!A13753<>\"\",Hobo!A13753&configuracion!$C$10,\"\")","v":""},""]
[null,null,null,null,null,null,null,{"$f":"IF(Hobo!A13762<>\"\",Hobo!A13762&configuracion!$C$10,\"\")","v":""},""]
[null,null,null,null,null,null,null,{"$f":"IF(Hobo!A13771<>\"\",Hobo!A13771&configuracion!$C$10,\"\")","v":""},""]
[null,null,null,null,null,null,null,{"$f":"IF(Hobo!A13772<>\"\",Hobo!A13772&configuracion!$C$10,\"\")","v":""},""]
[null,null,null,null,null,null,null,{"$f":"IF(Hobo!A13779<>\"\",Hobo!A13779&configuracion!$C$10,\"\")","v":""},""]
[null,null,null,null,null,null,null,{"$f":"IF(Hobo!A13789<>\"\",Hobo!A13789&configuracion!$C$10,\"\")","v":""},""]
[null,null,null,null,null,null,null,{"$f":"IF(Hobo!A13792<>\"\",Hobo!A13792&configuracion!$C$10,\"\")","v":""},""]
[null,null,null,null,null,null,null,{"$f":"IF(Hobo!A13801<>\"\",Hobo!A13801&configuracion!$C$10,\"\")","v":""},""]
[null,null,null,null,null,null,null,{"$f":"IF(Hobo!A13809<>\"\",Hobo!A13809&configuracion!$C$10,\"\")","v":""},""]
[null,null,null,null,null,null,null,{"$f":"IF(Hobo!A13812<>\"\",Hobo!A13812&configuracion!$C$10,\"\")","v":""},""]
[null,null,null,null,null,null,null,{"$f":"IF(Hobo!A13821<>\"\",Hobo!A13821&configuracion!$C$10,\"\")","v":""},""]
[null,null,null,null,null,null,null,{"$f":"IF(Hobo!A13822<>\"\",Hobo!A13822&configuracion!$C$10,\"\")","v":""},""]
[null,null,null,null,null,null,null,{"$f":"IF(Hobo!A13828<>\"\",Hobo!A13828&configuracion!$C$10,\"\")","v":""},{"$f":"IF(B13828=\"\",\"\",TEXT(B13828, \"DD/MM/YYYY HH:MM:SS\"))","v":""}]
[null,null,null,null,null,null,null,{"$f":"IF(Hobo!A13839<>\"\",Hobo!A13839&configuracion!$C$10,\"\")","v":""},""]
[null,null,null,null,null,null,null,{"$f":"IF(Hobo!A13842<>\"\",Hobo!A13842&configuracion!$C$10,\"\")","v":""},""]
[null,null,null,null,null,null,null,{"$f":"IF(Hobo!A13851<>\"\",Hobo!A13851&configuracion!$C$10,\"\")","v":""},""]
[null,null,null,null,null,null,null,{"$f":"IF(Hobo!A13858<>\"\",Hobo!A13858&configuracion!$C$10,\"\")","v":""},""]
[null,null,null,null,null,null,null,{"$f":"IF(Hobo!A13862<>\"\",Hobo!A13862&configuracion!$C$10,\"\")","v":""},""]
[null,null,null,null,null,null,null,{"$f":"IF(Hobo!A13871<>\"\",Hobo!A13871&configuracion!$C$10,\"\")","v":""},""]
[null,null,null,null,null,null,null,{"$f":"IF(Hobo!A13872<>\"\",Hobo!A13872&configuracion!$C$10,\"\")","v":""},""]
[null,null,null,null,null,null,null,{"$f":"IF(Hobo!A13884<>\"\",Hobo!A13884&configuracion!$C$10,\"\")","v":""},""]
[null,null,null,null,null,null,null,{"$f":"IF(Hobo!A13889<>\"\",Hobo!A13889&configuracion!$C$10,\"\")","v":""},""]
[null,null,null,null,null,null,null,{"$f":"IF(Hobo!A13892<>\"\",Hobo!A13892&configuracion!$C$10,\"\")","v":""},{"$f":"IF(B13892=\"\",\"\",TEXT(B13892, \"DD/MM/YYYY HH:MM:SS\"))","v":""}]
[null,null,null,null,null,null,null,{"$f":"IF(Hobo!A13901<>\"\",Hobo!A13901&configuracion!$C$10,\"\")","v":""},""]
[null,null,null,null,null,null,null,{"$f":"IF(Hobo!A13907<>\"\",Hobo!A13907&configuracion!$C$10,\"\")","v":""},""]
[null,null,null,null,null,null,null,{"$f":"IF(Hobo!A13912<>\"\",Hobo!A13912&configuracion!$C$10,\"\")","v":""},""]
[null,null,null,null,null,null,null,{"$f":"IF(Hobo!A13919<>\"\",Hobo!A13919&configuracion!$C$10,\"\")","v":""},""]
[null,null,null,null,null,null,null,{"$f":"IF(Hobo!A13922<>\"\",Hobo!A13922&configuracion!$C$10,\"\")","v":""},""]
[null,null,null,null,null,null,null,{"$f":"IF(Hobo!A13933<>\"\",Hobo!A13933&configuracion!$C$10,\"\")","v":""},""]
[null,null,null,null,null,null,null,{"$f":"IF(Hobo!A13939<>\"\",Hobo!A13939&configuracion!$C$10,\"\")","v":""},""]
[null,null,null,null,null,null,null,{"$f":"IF(Hobo!A13942<>\"\",Hobo!A13942&configuracion!$C$10,\"\")","v":""},""]
[null,null,null,null,null,null,null,{"$f":"IF(Hobo!A13951<>\"\",Hobo!A13951&configuracion!$C$10,\"\")","v":""},""]
[null,null,null,null,null,null,null,{"$f":"IF(Hobo!A13956<>\"\",Hobo!A13956&configuracion!$C$10,\"\")","v":""},{"$f":"IF(B13956=\"\",\"\",TEXT(B13956, \"DD/MM/YYYY HH:MM:SS\"))","v":""}]
[null,null,null,null,null,null,null,{"$f":"IF(Hobo!A13962<>\"\",Hobo!A13962&configuracion!$C$10,\"\")","v":""},""]
[null,null,null,null,null,null,null,{"$f":"IF(Hobo!A13969<>\"\",Hobo!A13969&configuracion!$C$10,\"\")","v":""},""]
[null,null,null,null,null,null,null,{"$f":"IF(Hobo!A13972<>\"\",Hobo!A13972&configuracion!$C$10,\"\")","v":""},""]
[null,null,null,null,null,null,null,{"$f":"IF(Hobo!A13982<>\"\",Hobo!A13982&configuracion!$C$10,\"\")","v":""},""]
[null,null,null,null,null,null,null,{"$f":"IF(Hobo!A13989<>\"\",Hobo!A13989&configuracion!$C$10,\"\")","v":""},""]
[null,null,null,null,null,null,null,{"$f":"IF(Hobo!A13992<>\"\",Hobo!A13992&configuracion!$C$10,\"\")","v":""},""]
[null,null,null,null,null,null,null,{"$f":"IF(Hobo!A14001<>\"\",Hobo!A14001&configuracion!$C$10,\"\")","v":""},""]
[null,null,null,null,null,null,null,{"$f":"IF(Hobo!A14005<>\"\",Hobo!A14005&configuracion!$C$10,\"\")","v":""},""]
[null,null,null,null,null,null,null,{"$f":"IF(Hobo!A14012<>\"\",Hobo!A14012&configuracion!$C$10,\"\")","v":""},""]
[null,null,null,null,null,null,null,{"$f":"IF(Hobo!A14019<>\"\",Hobo!A14019&configuracion!$C$10,\"\")","v":""},""]
[null,null,null,null,null,null,null,{"$f":"IF(Hobo!A14022<>\"\",Hobo!A14022&configuracion!$C$10,\"\")","v":""},""]
[null,null,null,null,null,null,null,{"$f":"IF(Hobo!A14031<>\"\",Hobo!A14031&configuracion!$C$10,\"\")","v":""},""]
[null,null,null,null,null,null,null,{"$f":"IF(Hobo!A14039<>\"\",Hobo!A14039&configuracion!$C$10,\"\")","v":""},""]
[null,null,null,null,null,null,null,{"$f":"IF(Hobo!A14042<>\"\",Hobo!A14042&configuracion!$C$10,\"\")","v":""},""]
[null,null,null,null,null,null,null,{"$f":"IF(Hobo!A14049<>\"\",Hobo!A14049&configuracion!$C$10,\"\")","v":""},""]
[null,null,null,null,null,null,null,{"$f":"IF(Hobo!A14054<>\"\",Hobo!A14054&configuracion!$C$10,\"\")","v":""},""]
[null,null,null,null,null,null,null,{"$f":"IF(Hobo!A14062<>\"\",Hobo!A14062&configuracion!$C$10,\"\")","v":""},""]
[null,null,null,null,null,null,null,{"$f":"IF(Hobo!A14069<>\"\",Hobo!A14069&configuracion!$C$10,\"\")","v":""},""]
[null,null,null,null,null,null,null,{"$f":"IF(Hobo!A14072<>\"\",Hobo!A14072&configuracion!$C$10,\"\")","v":""},""]
[null,null,null,null,null,null,null,{"$f":"IF(Hobo!A14080<>\"\",Hobo!A14080&configuracion!$C$10,\"\")","v":""},""]
[null,null,null,null,null,null,null,{"$f":"IF(Hobo!A14089<>\"\",Hobo!A14089&configuracion!$C$10,\"\")","v":""},""]
[null,null,null,null,null,null,null,{"$f":"IF(Hobo!A14092<>\"\",Hobo!A14092&configuracion!$C$10,\"\")","v":""},""]
[null,null,null,null,null,null,null,{"$f":"IF(Hobo!A14099<>\"\",Hobo!A14099&configuracion!$C$10,\"\")","v":""},""]
[null,null,null,null,null,null,null,{"$f":"IF(Hobo!A14103<>\"\",Hobo!A14103&configuracion!$C$10,\"\")","v":""},""]
[null,null,null,null,null,null,null,{"$f":"IF(Hobo!A14112<>\"\",Hobo!A14112&configuracion!$C$10,\"\")","v":""},""]
[null,null,null,null,null,null,null,{"$f":"IF(Hobo!A14119<>\"\",Hobo!A14119&configuracion!$C$10,\"\")","v":""},""]
[null,null,null,null,null,null,null,{"$f":"IF(Hobo!A14122<>\"\",Hobo!A14122&configuracion!$C$10,\"\")","v":""},""]
[null,null,null,null,null,null,null,{"$f":"IF(Hobo!A14133<>\"\",Hobo!A14133&configuracion!$C$10,\"\")","v":""},""]
[null,null,null,null,null,null,null,{"$f":"IF(Hobo!A14139<>\"\",Hobo!A14139&configuracion!$C$10,\"\")","v":""},""]
[null,null,null,null,null,null,null,{"$f":"IF(Hobo!A14142<>\"\",Hobo!A14142&configuracion!$C$10,\"\")","v":""},""]
[null,null,null,null,null,null,null,{"$f":"IF(Hobo!A14149<>\"\",Hobo!A14149&configuracion!$C$10,\"\")","v":""},""]
[null,null,null,null,null,null,null,{"$f":"IF(Hobo!A14159<>\"\",Hobo!A14159&configuracion!$C$10,\"\")","v":""},""]
[null,null,null,null,null,null,null,{"$f":"IF(Hobo!A14162<>\"\",Hobo!A14162&configuracion!$C$10,\"\")","v":""},""]
[null,null,null,null,null,null,null,{"$f":"IF(Hobo!A14169<>\"\",Hobo!A14169&configuracion!$C$10,\"\")","v":""},""]
[null,null,null,null,null,null,null,{"$f":"IF(Hobo!A14172<>\"\",Hobo!A14172&configuracion!$C$10,\"\")","v":""},""]
[null,null,null,null,null,null,null,{"$f":"IF(Hobo!A14182<>\"\",Hobo!A14182&configuracion!$C$10,\"\")","v":""},""]
[null,null,null,null,null,null,null,{"$f":"IF(Hobo!A14189<>\"\",Hobo!A14189&configuracion!$C$10,\"\")","v":""},""]
[null,null,null,null,null,null,null,{"$f":"IF(Hobo!A14192<>\"\",Hobo!A14192&configuracion!$C$10,\"\")","v":""},""]
[null,null,null,null,null,null,null,{"$f":"IF(Hobo!A14199<>\"\",Hobo!A14199&configuracion!$C$10,\"\")","v":""},""]
[null,null,null,null,null,null,null,{"$f":"IF(Hobo!A14208<>\"\",Hobo!A14208&configuracion!$C$10,\"\")","v":""},""]
[null,null,null,null,null,null,null,{"$f":"IF(Hobo!A14212<>\"\",Hobo!A14212&configuracion!$C$10,\"\")","v":""},{"$f":"IF(B14212=\"\",\"\",TEXT(B14212, \"DD/MM/YYYY HH:MM:SS\"))","v":""}]
[null,null,null,null,null,null,null,{"$f":"IF(Hobo!A14219<>\"\",Hobo!A14219&configuracion!$C$10,\"\")","v":""},""]
[null,null,null,null,null,null,null,{"$f":"IF(Hobo!A14222<>\"\",Hobo!A14222&configuracion!$C$10,\"\")","v":""},""]
[null,null,null,null,null,null,null,{"$f":"IF(Hobo!A14231<>\"\",Hobo!A14231&configuracion!$C$10,\"\")","v":""},""]
[null,null,null,null,null,null,null,{"$f":"IF(Hobo!A14239<>\"\",Hobo!A14239&configuracion!$C$10,\"\")","v":""},""]
[null,null,null,null,null,null,null,{"$f":"IF(Hobo!A14242<>\"\",Hobo!A14242&configuracion!$C$10,\"\")","v":""},""]
[null,null,null,null,null,null,null,{"$f":"IF(Hobo!A14249<>\"\",Hobo!A14249&configuracion!$C$10,\"\")","v":""},""]
[null,null,null,null,null,null,null,{"$f":"IF(Hobo!A14257<>\"\",Hobo!A14257&configuracion!$C$10,\"\")","v":""},""]
[null,null,null,null,null,null,null,{"$f":"IF(Hobo!A14260<>\"\",Hobo!A14260&configuracion!$C$10,\"\")","v":""},""]
[null,null,null,null,null,null,null,{"$f":"IF(Hobo!A14269<>\"\",Hobo!A14269&configuracion!$C$10,\"\")","v":""},""]
[null,null,null,null,null,null,null,{"$f":"IF(Hobo!A14272<>\"\",Hobo!A14272&configuracion!$C$10,\"\")","v":""},""]
[null,null,null,null,null,null,null,{"$f":"IF(Hobo!A14280<>\"\",Hobo!A14280&configuracion!$C$10,\"\")","v":""},""]
[null,null,null,null,null,null,null,{"$f":"IF(Hobo!A14289<>\"\",Hobo!A14289&configuracion!$C$10,\"\")","v":""},""]
[null,null,null,null,null,null,null,{"$f":"IF(Hobo!A14292<>\"\",Hobo!A14292&configuracion!$C$10,\"\")","v":""},""]
[null,null,null,null,null,null,null,{"$f":"IF(Hobo!A14299<>\"\",Hobo!A14299&configuracion!$C$10,\"\")","v":""},""]
[null,null,null,null,null,null,null,{"$f":"IF(Hobo!A14306<>\"\",Hobo!A14306&configuracion!$C$10,\"\")","v":""},""]
[null,null,null,null,null,null,null,{"$f":"IF(Hobo!A14310<>\"\",Hobo!A14310&configuracion!$C$10,\"\")","v":""},""]
[null,null,null,null,null,null,null,{"$f":"IF(Hobo!A14319<>\"\",Hobo!A14319&configuracion!$C$10,\"\")","v":""},""]
[null,null,null,null,null,null,null,{"$f":"IF(Hobo!A14322<>\"\",Hobo!A14322&configuracion!$C$10,\"\")","v":""},""]
[null,null,null,null,null,null,null,{"$f":"IF(Hobo!A14329<>\"\",Hobo!A14329&configuracion!$C$10,\"\")","v":""},""]
[null,null,null,null,null,null,null,{"$f":"IF(Hobo!A14339<>\"\",Hobo!A14339&configuracion!$C$10,\"\")","v":""},""]
[null,null,null,null,null,null,null,{"$f":"IF(Hobo!A14346<>\"\",Hobo!A14346&configuracion!$C$10,\"\")","v":""},""]
[null,null,null,null,null,null,null,{"$f":"IF(Hobo!A14349<>\"\",Hobo!A14349&configuracion!$C$10,\"\")","v":""},""]
[null,null,null,null,null,null,null,{"$f":"IF(Hobo!A14355<>\"\",Hobo!A14355&configuracion!$C$10,\"\")","v":""},""]
[null,null,null,null,null,null,null,{"$f":"IF(Hobo!A14360<>\"\",Hobo!A14360&configuracion!$C$10,\"\")","v":""},""]
[null,null,null,null,null,null,null,{"$f":"IF(Hobo!A14369<>\"\",Hobo!A14369&configuracion!$C$10,\"\")","v":""},""]
[null,null,null,null,null,null,null,{"$f":"IF(Hobo!A14372<>\"\",Hobo!A14372&configuracion!$C$10,\"\")","v":""},""]
[null,null,null,null,null,null,null,{"$f":"IF(Hobo!A14378<>\"\",Hobo!A14378&configuracion!$C$10,\"\")","v":""},""]
[null,null,null,null,null,null,null,{"$f":"IF(Hobo!A14389<>\"\",Hobo!A14389&configuracion!$C$10,\"\")","v":""},""]
[null,null,null,null,null,null,null,{"$f":"IF(Hobo!A14396<>\"\",Hobo!A14396&configuracion!$C$10,\"\")","v":""},""]
[null,null,null,null,null,null,null,{"$f":"IF(Hobo!A14399<>\"\",Hobo!A14399&configuracion!$C$10,\"\")","v":""},""]
[null,null,null,null,null,null,null,{"$f":"IF(Hobo!A14404<>\"\",Hobo!A14404&configuracion!$C$10,\"\")","v":""},{"$f":"IF(B14404=\"\",\"\",TEXT(B14404, \"DD/MM/YYYY HH:MM:SS\"))","v":""}]
[null,null,null,null,null,null,null,{"$f":"IF(Hobo!A14410<>\"\",Hobo!A14410&configuracion!$C$10,\"\")","v":""},""]
[null,null,null,null,null,null,null,{"$f":"IF(Hobo!A14419<>\"\",Hobo!A14419&configuracion!$C$10,\"\")","v":""},""]
[null,null,null,null,null,null,null,{"$f":"IF(Hobo!A14422<>\"\",Hobo!A14422&configuracion!$C$10,\"\")","v":""},""]
[null,null,null,null,null,null,null,{"$f":"IF(Hobo!A14434<>\"\",Hobo!A14434&configuracion!$C$10,\"\")","v":""},""]
[null,null,null,null,null,null,null,{"$f":"IF(Hobo!A14439<>\"\",Hobo!A14439&configuracion!$C$10,\"\")","v":""},""]
[null,null,null,null,null,null,null,{"$f":"IF(Hobo!A14446<>\"\",Hobo!A14446&configuracion!$C$10,\"\")","v":""},""]
[null,null,null,null,null,null,null,{"$f":"IF(Hobo!A14449<>\"\",Hobo!A14449&configuracion!$C$10,\"\")","v":""},""]
[null,null,null,null,null,null,null,{"$f":"IF(Hobo!A14453<>\"\",Hobo!A14453&configuracion!$C$10,\"\")","v":""},""]
[null,null,null,null,null,null,null,{"$f":"IF(Hobo!A14460<>\"\",Hobo!A14460&configuracion!$C$10,\"\")","v":""},""]
[null,null,null,null,null,null,null,{"$f":"IF(Hobo!A14469<>\"\",Hobo!A14469&configuracion!$C$10,\"\")","v":""},""]
[null,null,null,null,null,null,null,{"$f":"IF(Hobo!A14476<>\"\",Hobo!A14476&configuracion!$C$10,\"\")","v":""},""]
[null,null,null,null,null,null,null,{"$f":"IF(Hobo!A14483<>\"\",Hobo!A14483&configuracion!$C$10,\"\")","v":""},""]
[null,null,null,null,null,null,null,{"$f":"IF(Hobo!A14489<>\"\",Hobo!A14489&configuracion!$C$10,\"\")","v":""},""]
[null,null,null,null,null,null,null,{"$f":"IF(Hobo!A14496<>\"\",Hobo!A14496&configuracion!$C$10,\"\")","v":""},""]
[null,null,null,null,null,null,null,{"$f":"IF(Hobo!A14502<>\"\",Hobo!A14502&configuracion!$C$10,\"\")","v":""},""]
[null,null,null,null,null,null,null,{"$f":"IF(Hobo!A14504<>\"\",Hobo!A14504&configuracion!$C$10,\"\")","v":""},""]
[null,null,null,null,null,null,null,{"$f":"IF(Hobo!A14505<>\"\",Hobo!A14505&configuracion!$C$10,\"\")","v":""},""]
[null,null,null,null,null,null,null,{"$f":"IF(Hobo!A14506<>\"\",Hobo!A14506&configuracion!$C$10,\"\")","v":""},""]
[null,null,null,null,null,null,null,{"$f":"IF(Hobo!A14507<>\"\",Hobo!A14507&configuracion!$C$10,\"\")","v":""},""]
[null,null,null,null,null,null,null,{"$f":"IF(Hobo!A14508<>\"\",Hobo!A14508&configuracion!$C$10,\"\")","v":""},""]
[null,null,null,null,null,null,null,{"$f":"IF(Hobo!A14509<>\"\",Hobo!A14509&configuracion!$C$10,\"\")","v":""},""]
[null,null,null,null,null,null,null,{"$f":"IF(Hobo!A14510<>\"\",Hobo!A14510&configuracion!$C$10,\"\")","v":""},""]
[null,null,null,null,null,null,null,{"$f":"IF(Hobo!A14511<>\"\",Hobo!A14511&configuracion!$C$10,\"\")","v":""},""]
[null,null,null,null,null,null,null,{"$f":"IF(Hobo!A14512<>\"\",Hobo!A14512&configuracion!$C$10,\"\")","v":""},""]
[null,null,null,null,null,null,null,{"$f":"IF(Hobo!A14513<>\"\",Hobo!A14513&configuracion!$C$10,\"\")","v":""},""]
[null,null,null,null,null,null,null,{"$f":"IF(Hobo!A14514<>\"\",Hobo!A14514&configuracion!$C$10,\"\")","v":""},""]
[null,null,null,null,null,null,null,{"$f":"IF(Hobo!A14515<>\"\",Hobo!A14515&configuracion!$C$10,\"\")","v":""},""]
[null,null,null,null,null,null,null,{"$f":"IF(Hobo!A14516<>\"\",Hobo!A14516&configuracion!$C$10,\"\")","v":""},""]
[null,null,null,null,null,null,null,{"$f":"IF(Hobo!A14517<>\"\",Hobo!A14517&configuracion!$C$10,\"\")","v":""},""]
[null,null,null,null,null,null,null,{"$f":"IF(Hobo!A14518<>\"\",Hobo!A14518&configuracion!$C$10,\"\")","v":""},""]
[null,null,null,null,null,null,null,{"$f":"IF(Hobo!A14519<>\"\",Hobo!A14519&configuracion!$C$10,\"\")","v":""},""]
[null,null,null,null,null,null,null,{"$f":"IF(Hobo!A14520<>\"\",Hobo!A14520&configuracion!$C$10,\"\")","v":""},""]
[null,null,null,null,null,null,null,{"$f":"IF(Hobo!A14521<>\"\",Hobo!A14521&configuracion!$C$10,\"\")","v":""},""]
[null,null,null,null,null,null,null,{"$f":"IF(Hobo!A14522<>\"\",Hobo!A14522&configuracion!$C$10,\"\")","v":""},""]
[null,null,null,null,null,null,null,{"$f":"IF(Hobo!A14523<>\"\",Hobo!A14523&configuracion!$C$10,\"\")","v":""},""]
[null,null,null,null,null,null,null,{"$f":"IF(Hobo!A14524<>\"\",Hobo!A14524&configuracion!$C$10,\"\")","v":""},""]
[null,null,null,null,null,null,null,{"$f":"IF(Hobo!A14525<>\"\",Hobo!A14525&configuracion!$C$10,\"\")","v":""},""]
[null,null,null,null,null,null,null,{"$f":"IF(Hobo!A14526<>\"\",Hobo!A14526&configuracion!$C$10,\"\")","v":""},""]
[null,null,null,null,null,null,null,{"$f":"IF(Hobo!A14527<>\"\",Hobo!A14527&configuracion!$C$10,\"\")","v":""},""]
[null,null,null,null,null,null,null,{"$f":"IF(Hobo!A14528<>\"\",Hobo!A14528&configuracion!$C$10,\"\")","v":""},""]
[null,null,null,null,null,null,null,{"$f":"IF(Hobo!A14529<>\"\",Hobo!A14529&configuracion!$C$10,\"\")","v":""},""]
[null,null,null,null,null,null,null,{"$f":"IF(Hobo!A14530<>\"\",Hobo!A14530&configuracion!$C$10,\"\")","v":""},""]
[null,null,null,null,null,null,null,{"$f":"IF(Hobo!A14531<>\"\",Hobo!A14531&configuracion!$C$10,\"\")","v":""},""]
[null,null,null,null,null,null,null,{"$f":"IF(Hobo!A14532<>\"\",Hobo!A14532&configuracion!$C$10,\"\")","v":""},{"$f":"IF(B14532=\"\",\"\",TEXT(B14532, \"DD/MM/YYYY HH:MM:SS\"))","v":""}]
[null,null,null,null,null,null,null,{"$f":"IF(Hobo!A14533<>\"\",Hobo!A14533&configuracion!$C$10,\"\")","v":""},""]
[null,null,null,null,null,null,null,{"$f":"IF(Hobo!A14534<>\"\",Hobo!A14534&configuracion!$C$10,\"\")","v":""},""]
[null,null,null,null,null,null,null,{"$f":"IF(Hobo!A14535<>\"\",Hobo!A14535&configuracion!$C$10,\"\")","v":""},""]
[null,null,null,null,null,null,null,{"$f":"IF(Hobo!A14536<>\"\",Hobo!A14536&configuracion!$C$10,\"\")","v":""},""]
[null,null,null,null,null,null,null,{"$f":"IF(Hobo!A14537<>\"\",Hobo!A14537&configuracion!$C$10,\"\")","v":""},""]
[null,null,null,null,null,null,null,{"$f":"IF(Hobo!A14538<>\"\",Hobo!A14538&configuracion!$C$10,\"\")","v":""},""]
[null,null,null,null,null,null,null,{"$f":"IF(Hobo!A14539<>\"\",Hobo!A14539&configuracion!$C$10,\"\")","v":""},""]
[null,null,null,null,null,null,null,{"$f":"IF(Hobo!A14540<>\"\",Hobo!A14540&configuracion!$C$10,\"\")","v":""},""]
[null,null,null,null,null,null,null,{"$f":"IF(Hobo!A14541<>\"\",Hobo!A14541&configuracion!$C$10,\"\")","v":""},""]
[null,null,null,null,null,null,null,{"$f":"IF(Hobo!A14542<>\"\",Hobo!A14542&configuracion!$C$10,\"\")","v":""},""]
[null,null,null,null,null,null,null,{"$f":"IF(Hobo!A14543<>\"\",Hobo!A14543&configuracion!$C$10,\"\")","v":""},""]
[null,null,null,null,null,null,null,{"$f":"IF(Hobo!A14544<>\"\",Hobo!A14544&configuracion!$C$10,\"\")","v":""},""]
[null,null,null,null,null,null,null,{"$f":"IF(Hobo!A14545<>\"\",Hobo!A14545&configuracion!$C$10,\"\")","v":""},""]
[null,null,null,null,null,null,null,{"$f":"IF(Hobo!A14546<>\"\",Hobo!A14546&configuracion!$C$10,\"\")","v":""},""]
[null,null,null,null,null,null,null,{"$f":"IF(Hobo!A14547<>\"\",Hobo!A14547&configuracion!$C$10,\"\")","v":""},""]
[null,null,null,null,null,null,null,{"$f":"IF(Hobo!A14548<>\"\",Hobo!A14548&configuracion!$C$10,\"\")","v":""},""]
[null,null,null,null,null,null,null,{"$f":"IF(Hobo!A14549<>\"\",Hobo!A14549&configuracion!$C$10,\"\")","v":""},""]
[null,null,null,null,null,null,null,{"$f":"IF(Hobo!A14550<>\"\",Hobo!A14550&configuracion!$C$10,\"\")","v":""},""]
[null,null,null,null,null,null,null,{"$f":"IF(Hobo!A14551<>\"\",Hobo!A14551&configuracion!$C$10,\"\")","v":""},""]
[null,null,null,null,null,null,null,{"$f":"IF(Hobo!A14552<>\"\",Hobo!A14552&configuracion!$C$10,\"\")","v":""},""]
[null,null,null,null,null,null,null,{"$f":"IF(Hobo!A14553<>\"\",Hobo!A14553&configuracion!$C$10,\"\")","v":""},""]
[null,null,null,null,null,null,null,{"$f":"IF(Hobo!A14554<>\"\",Hobo!A14554&configuracion!$C$10,\"\")","v":""},""]
[null,null,null,null,null,null,null,{"$f":"IF(Hobo!A14555<>\"\",Hobo!A14555&configuracion!$C$10,\"\")","v":""},""]
[null,null,null,null,null,null,null,{"$f":"IF(Hobo!A14556<>\"\",Hobo!A14556&configuracion!$C$10,\"\")","v":""},""]
[null,null,null,null,null,null,null,{"$f":"IF(Hobo!A14557<>\"\",Hobo!A14557&configuracion!$C$10,\"\")","v":""},""]
[null,null,null,null,null,null,null,{"$f":"IF(Hobo!A14558<>\"\",Hobo!A14558&configuracion!$C$10,\"\")","v":""},""]
[null,null,null,null,null,null,null,{"$f":"IF(Hobo!A14559<>\"\",Hobo!A14559&configuracion!$C$10,\"\")","v":""},""]
[null,null,null,null,null,null,null,{"$f":"IF(Hobo!A14560<>\"\",Hobo!A14560&configuracion!$C$10,\"\")","v":""},""]
[null,null,null,null,null,null,null,{"$f":"IF(Hobo!A14561<>\"\",Hobo!A14561&configuracion!$C$10,\"\")","v":""},""]
[null,null,null,null,null,null,null,{"$f":"IF(Hobo!A14562<>\"\",Hobo!A14562&configuracion!$C$10,\"\")","v":""},""]
[null,null,null,null,null,null,null,{"$f":"IF(Hobo!A14563<>\"\",Hobo!A14563&configuracion!$C$10,\"\")","v":""},""]
[null,null,null,null,null,null,null,{"$f":"IF(Hobo!A14564<>\"\",Hobo!A14564&configuracion!$C$10,\"\")","v":""},""]
[null,null,null,null,null,null,null,{"$f":"IF(Hobo!A14565<>\"\",Hobo!A14565&configuracion!$C$10,\"\")","v":""},""]
[null,null,null,null,null,null,null,{"$f":"IF(Hobo!A14566<>\"\",Hobo!A14566&configuracion!$C$10,\"\")","v":""},""]
[null,null,null,null,null,null,null,{"$f":"IF(Hobo!A14567<>\"\",Hobo!A14567&configuracion!$C$10,\"\")","v":""},""]
[null,null,null,null,null,null,null,{"$f":"IF(Hobo!A14568<>\"\",Hobo!A14568&configuracion!$C$10,\"\")","v":""},""]
[null,null,null,null,null,null,null,{"$f":"IF(Hobo!A14569<>\"\",Hobo!A14569&configuracion!$C$10,\"\")","v":""},""]
[null,null,null,null,null,null,null,{"$f":"IF(Hobo!A14570<>\"\",Hobo!A14570&configuracion!$C$10,\"\")","v":""},""]
[null,null,null,null,null,null,null,{"$f":"IF(Hobo!A14571<>\"\",Hobo!A14571&configuracion!$C$10,\"\")","v":""},""]
[null,null,null,null,null,null,null,{"$f":"IF(Hobo!A14572<>\"\",Hobo!A14572&configuracion!$C$10,\"\")","v":""},""]
[null,null,null,null,null,null,null,{"$f":"IF(Hobo!A14573<>\"\",Hobo!A14573&configuracion!$C$10,\"\")","v":""},""]
[null,null,null,null,null,null,null,{"$f":"IF(Hobo!A14574<>\"\",Hobo!A14574&configuracion!$C$10,\"\")","v":""},""]
[null,null,null,null,null,null,null,{"$f":"IF(Hobo!A14575<>\"\",Hobo!A14575&configuracion!$C$10,\"\")","v":""},""]
[null,null,null,null,null,null,null,{"$f":"IF(Hobo!A14576<>\"\",Hobo!A14576&configuracion!$C$10,\"\")","v":""},""]
[null,null,null,null,null,null,null,{"$f":"IF(Hobo!A14577<>\"\",Hobo!A14577&configuracion!$C$10,\"\")","v":""},""]
[null,null,null,null,null,null,null,{"$f":"IF(Hobo!A14578<>\"\",Hobo!A14578&configuracion!$C$10,\"\")","v":""},""]
[null,null,null,null,null,null,null,{"$f":"IF(Hobo!A14579<>\"\",Hobo!A14579&configuracion!$C$10,\"\")","v":""},""]
[null,null,null,null,null,null,null,{"$f":"IF(Hobo!A14580<>\"\",Hobo!A14580&configuracion!$C$10,\"\")","v":""},""]
[null,null,null,null,null,null,null,{"$f":"IF(Hobo!A14581<>\"\",Hobo!A14581&configuracion!$C$10,\"\")","v":""},""]
[null,null,null,null,null,null,null,{"$f":"IF(Hobo!A14582<>\"\",Hobo!A14582&configuracion!$C$10,\"\")","v":""},""]
[null,null,null,null,null,null,null,{"$f":"IF(Hobo!A14583<>\"\",Hobo!A14583&configuracion!$C$10,\"\")","v":""},""]
[null,null,null,null,null,null,null,{"$f":"IF(Hobo!A14584<>\"\",Hobo!A14584&configuracion!$C$10,\"\")","v":""},""]
[null,null,null,null,null,null,null,{"$f":"IF(Hobo!A14585<>\"\",Hobo!A14585&configuracion!$C$10,\"\")","v":""},""]
[null,null,null,null,null,null,null,{"$f":"IF(Hobo!A14586<>\"\",Hobo!A14586&configuracion!$C$10,\"\")","v":""},""]
[null,null,null,null,null,null,null,{"$f":"IF(Hobo!A14587<>\"\",Hobo!A14587&configuracion!$C$10,\"\")","v":""},""]
[null,null,null,null,null,null,null,{"$f":"IF(Hobo!A14588<>\"\",Hobo!A14588&configuracion!$C$10,\"\")","v":""},""]
[null,null,null,null,null,null,null,{"$f":"IF(Hobo!A14589<>\"\",Hobo!A14589&configuracion!$C$10,\"\")","v":""},""]
[null,null,null,null,null,null,null,{"$f":"IF(Hobo!A14590<>\"\",Hobo!A14590&configuracion!$C$10,\"\")","v":""},""]
[null,null,null,null,null,null,null,{"$f":"IF(Hobo!A14591<>\"\",Hobo!A14591&configuracion!$C$10,\"\")","v":""},""]
[null,null,null,null,null,null,null,{"$f":"IF(Hobo!A14592<>\"\",Hobo!A14592&configuracion!$C$10,\"\")","v":""},""]
[null,null,null,null,null,null,null,{"$f":"IF(Hobo!A14593<>\"\",Hobo!A14593&configuracion!$C$10,\"\")","v":""},""]
[null,null,null,null,null,null,null,{"$f":"IF(Hobo!A14594<>\"\",Hobo!A14594&configuracion!$C$10,\"\")","v":""},""]
[null,null,null,null,null,null,null,{"$f":"IF(Hobo!A14595<>\"\",Hobo!A14595&configuracion!$C$10,\"\")","v":""},""]
[null,null,null,null,null,null,null,{"$f":"IF(Hobo!A14596<>\"\",Hobo!A14596&configuracion!$C$10,\"\")","v":""},{"$f":"IF(B14596=\"\",\"\",TEXT(B14596, \"DD/MM/YYYY HH:MM:SS\"))","v":""}]
[null,null,null,null,null,null,null,{"$f":"IF(Hobo!A14597<>\"\",Hobo!A14597&configuracion!$C$10,\"\")","v":""},""]
[null,null,null,null,null,null,null,{"$f":"IF(Hobo!A14598<>\"\",Hobo!A14598&configuracion!$C$10,\"\")","v":""},""]
[null,null,null,null,null,null,null,{"$f":"IF(Hobo!A14599<>\"\",Hobo!A14599&configuracion!$C$10,\"\")","v":""},""]
[null,null,null,null,null,null,null,{"$f":"IF(Hobo!A14600<>\"\",Hobo!A14600&configuracion!$C$10,\"\")","v":""},""]
[null,null,null,null,null,null,null,{"$f":"IF(Hobo!A14601<>\"\",Hobo!A14601&configuracion!$C$10,\"\")","v":""},""]
[null,null,null,null,null,null,null,{"$f":"IF(Hobo!A14602<>\"\",Hobo!A14602&configuracion!$C$10,\"\")","v":""},""]
[null,null,null,null,null,null,null,{"$f":"IF(Hobo!A14603<>\"\",Hobo!A14603&configuracion!$C$10,\"\")","v":""},""]
[null,null,null,null,null,null,null,{"$f":"IF(Hobo!A14604<>\"\",Hobo!A14604&configuracion!$C$10,\"\")","v":""},""]
[null,null,null,null,null,null,null,{"$f":"IF(Hobo!A14605<>\"\",Hobo!A14605&configuracion!$C$10,\"\")","v":""},""]
[null,null,null,null,null,null,null,{"$f":"IF(Hobo!A14606<>\"\",Hobo!A14606&configuracion!$C$10,\"\")","v":""},""]
[null,null,null,null,null,null,null,{"$f":"IF(Hobo!A14607<>\"\",Hobo!A14607&configuracion!$C$10,\"\")","v":""},""]
[null,null,null,null,null,null,null,{"$f":"IF(Hobo!A14608<>\"\",Hobo!A14608&configuracion!$C$10,\"\")","v":""},""]
[null,null,null,null,null,null,null,{"$f":"IF(Hobo!A14609<>\"\",Hobo!A14609&configuracion!$C$10,\"\")","v":""},""]
[null,null,null,null,null,null,null,{"$f":"IF(Hobo!A14610<>\"\",Hobo!A14610&configuracion!$C$10,\"\")","v":""},""]
[null,null,null,null,null,null,null,{"$f":"IF(Hobo!A14611<>\"\",Hobo!A14611&configuracion!$C$10,\"\")","v":""},""]
[null,null,null,null,null,null,null,{"$f":"IF(Hobo!A14612<>\"\",Hobo!A14612&configuracion!$C$10,\"\")","v":""},""]
[null,null,null,null,null,null,null,{"$f":"IF(Hobo!A14613<>\"\",Hobo!A14613&configuracion!$C$10,\"\")","v":""},""]
[null,null,null,null,null,null,null,{"$f":"IF(Hobo!A14614<>\"\",Hobo!A14614&configuracion!$C$10,\"\")","v":""},""]
[null,null,null,null,null,null,null,{"$f":"IF(Hobo!A14615<>\"\",Hobo!A14615&configuracion!$C$10,\"\")","v":""},""]
[null,null,null,null,null,null,null,{"$f":"IF(Hobo!A14616<>\"\",Hobo!A14616&configuracion!$C$10,\"\")","v":""},""]
[null,null,null,null,null,null,null,{"$f":"IF(Hobo!A14617<>\"\",Hobo!A14617&configuracion!$C$10,\"\")","v":""},""]
[null,null,null,null,null,null,null,{"$f":"IF(Hobo!A14618<>\"\",Hobo!A14618&configuracion!$C$10,\"\")","v":""},""]
[null,null,null,null,null,null,null,{"$f":"IF(Hobo!A14619<>\"\",Hobo!A14619&configuracion!$C$10,\"\")","v":""},""]
[null,null,null,null,null,null,null,{"$f":"IF(Hobo!A14620<>\"\",Hobo!A14620&configuracion!$C$10,\"\")","v":""},""]
[null,null,null,null,null,null,null,{"$f":"IF(Hobo!A14621<>\"\",Hobo!A14621&configuracion!$C$10,\"\")","v":""},""]
[null,null,null,null,null,null,null,{"$f":"IF(Hobo!A14622<>\"\",Hobo!A14622&configuracion!$C$10,\"\")","v":""},""]
[null,null,null,null,null,null,null,{"$f":"IF(Hobo!A14623<>\"\",Hobo!A14623&configuracion!$C$10,\"\")","v":""},""]
[null,null,null,null,null,null,null,{"$f":"IF(Hobo!A14624<>\"\",Hobo!A14624&configuracion!$C$10,\"\")","v":""},""]
[null,null,null,null,null,null,null,{"$f":"IF(Hobo!A14625<>\"\",Hobo!A14625&configuracion!$C$10,\"\")","v":""},""]
[null,null,null,null,null,null,null,{"$f":"IF(Hobo!A14626<>\"\",Hobo!A14626&configuracion!$C$10,\"\")","v":""},""]
[null,null,null,null,null,null,null,{"$f":"IF(Hobo!A14627<>\"\",Hobo!A14627&configuracion!$C$10,\"\")","v":""},""]
[null,null,null,null,null,null,null,{"$f":"IF(Hobo!A14628<>\"\",Hobo!A14628&configuracion!$C$10,\"\")","v":""},""]
[null,null,null,null,null,null,null,{"$f":"IF(Hobo!A14629<>\"\",Hobo!A14629&configuracion!$C$10,\"\")","v":""},""]
[null,null,null,null,null,null,null,{"$f":"IF(Hobo!A14630<>\"\",Hobo!A14630&configuracion!$C$10,\"\")","v":""},""]
[null,null,null,null,null,null,null,{"$f":"IF(Hobo!A14631<>\"\",Hobo!A14631&configuracion!$C$10,\"\")","v":""},""]
[null,null,null,null,null,null,null,{"$f":"IF(Hobo!A14632<>\"\",Hobo!A14632&configuracion!$C$10,\"\")","v":""},""]
[null,null,null,null,null,null,null,{"$f":"IF(Hobo!A14633<>\"\",Hobo!A14633&configuracion!$C$10,\"\")","v":""},""]
[null,null,null,null,null,null,null,{"$f":"IF(Hobo!A14634<>\"\",Hobo!A14634&configuracion!$C$10,\"\")","v":""},""]
[null,null,null,null,null,null,null,{"$f":"IF(Hobo!A14635<>\"\",Hobo!A14635&configuracion!$C$10,\"\")","v":""},""]
[null,null,null,null,null,null,null,{"$f":"IF(Hobo!A14636<>\"\",Hobo!A14636&configuracion!$C$10,\"\")","v":""},""]
[null,null,null,null,null,null,null,{"$f":"IF(Hobo!A14637<>\"\",Hobo!A14637&configuracion!$C$10,\"\")","v":""},""]
[null,null,null,null,null,null,null,{"$f":"IF(Hobo!A14638<>\"\",Hobo!A14638&configuracion!$C$10,\"\")","v":""},""]
[null,null,null,null,null,null,null,{"$f":"IF(Hobo!A14639<>\"\",Hobo!A14639&configuracion!$C$10,\"\")","v":""},""]
[null,null,null,null,null,null,null,{"$f":"IF(Hobo!A14640<>\"\",Hobo!A14640&configuracion!$C$10,\"\")","v":""},""]
[null,null,null,null,null,null,null,{"$f":"IF(Hobo!A14641<>\"\",Hobo!A14641&configuracion!$C$10,\"\")","v":""},""]
[null,null,null,null,null,null,null,{"$f":"IF(Hobo!A14642<>\"\",Hobo!A14642&configuracion!$C$10,\"\")","v":""},""]
[null,null,null,null,null,null,null,{"$f":"IF(Hobo!A14643<>\"\",Hobo!A14643&configuracion!$C$10,\"\")","v":""},""]
[null,null,null,null,null,null,null,{"$f":"IF(Hobo!A14644<>\"\",Hobo!A14644&configuracion!$C$10,\"\")","v":""},""]
[null,null,null,null,null,null,null,{"$f":"IF(Hobo!A14645<>\"\",Hobo!A14645&configuracion!$C$10,\"\")","v":""},""]
[null,null,null,null,null,null,null,{"$f":"IF(Hobo!A14646<>\"\",Hobo!A14646&configuracion!$C$10,\"\")","v":""},""]
[null,null,null,null,null,null,null,{"$f":"IF(Hobo!A14647<>\"\",Hobo!A14647&configuracion!$C$10,\"\")","v":""},""]
[null,null,null,null,null,null,null,{"$f":"IF(Hobo!A14648<>\"\",Hobo!A14648&configuracion!$C$10,\"\")","v":""},""]
[null,null,null,null,null,null,null,{"$f":"IF(Hobo!A14649<>\"\",Hobo!A14649&configuracion!$C$10,\"\")","v":""},""]
[null,null,null,null,null,null,null,{"$f":"IF(Hobo!A14650<>\"\",Hobo!A14650&configuracion!$C$10,\"\")","v":""},""]
[null,null,null,null,null,null,null,{"$f":"IF(Hobo!A14651<>\"\",Hobo!A14651&configuracion!$C$10,\"\")","v":""},""]
[null,null,null,null,null,null,null,{"$f":"IF(Hobo!A14652<>\"\",Hobo!A14652&configuracion!$C$10,\"\")","v":""},""]
[null,null,null,null,null,null,null,{"$f":"IF(Hobo!A14653<>\"\",Hobo!A14653&configuracion!$C$10,\"\")","v":""},""]
[null,null,null,null,null,null,null,{"$f":"IF(Hobo!A14654<>\"\",Hobo!A14654&configuracion!$C$10,\"\")","v":""},""]
[null,null,null,null,null,null,null,{"$f":"IF(Hobo!A14655<>\"\",Hobo!A14655&configuracion!$C$10,\"\")","v":""},""]
[null,null,null,null,null,null,null,{"$f":"IF(Hobo!A14656<>\"\",Hobo!A14656&configuracion!$C$10,\"\")","v":""},""]
[null,null,null,null,null,null,null,{"$f":"IF(Hobo!A14657<>\"\",Hobo!A14657&configuracion!$C$10,\"\")","v":""},""]
[null,null,null,null,null,null,null,{"$f":"IF(Hobo!A14658<>\"\",Hobo!A14658&configuracion!$C$10,\"\")","v":""},""]
[null,null,null,null,null,null,null,{"$f":"IF(Hobo!A14659<>\"\",Hobo!A14659&configuracion!$C$10,\"\")","v":""},""]
[null,null,null,null,null,null,null,{"$f":"IF(Hobo!A14660<>\"\",Hobo!A14660&configuracion!$C$10,\"\")","v":""},{"$f":"IF(B14660=\"\",\"\",TEXT(B14660, \"DD/MM/YYYY HH:MM:SS\"))","v":""}]
[null,null,null,null,null,null,null,{"$f":"IF(Hobo!A14661<>\"\",Hobo!A14661&configuracion!$C$10,\"\")","v":""},""]
[null,null,null,null,null,null,null,{"$f":"IF(Hobo!A14662<>\"\",Hobo!A14662&configuracion!$C$10,\"\")","v":""},""]
[null,null,null,null,null,null,null,{"$f":"IF(Hobo!A14663<>\"\",Hobo!A14663&configuracion!$C$10,\"\")","v":""},""]
[null,null,null,null,null,null,null,{"$f":"IF(Hobo!A14664<>\"\",Hobo!A14664&configuracion!$C$10,\"\")","v":""},""]
[null,null,null,null,null,null,null,{"$f":"IF(Hobo!A14665<>\"\",Hobo!A14665&configuracion!$C$10,\"\")","v":""},""]
[null,null,null,null,null,null,null,{"$f":"IF(Hobo!A14666<>\"\",Hobo!A14666&configuracion!$C$10,\"\")","v":""},""]
[null,null,null,null,null,null,null,{"$f":"IF(Hobo!A14667<>\"\",Hobo!A14667&configuracion!$C$10,\"\")","v":""},""]
[null,null,null,null,null,null,null,{"$f":"IF(Hobo!A14668<>\"\",Hobo!A14668&configuracion!$C$10,\"\")","v":""},""]
[null,null,null,null,null,null,null,{"$f":"IF(Hobo!A14669<>\"\",Hobo!A14669&configuracion!$C$10,\"\")","v":""},""]
[null,null,null,null,null,null,null,{"$f":"IF(Hobo!A14670<>\"\",Hobo!A14670&configuracion!$C$10,\"\")","v":""},""]
[null,null,null,null,null,null,null,{"$f":"IF(Hobo!A14671<>\"\",Hobo!A14671&configuracion!$C$10,\"\")","v":""},""]
[null,null,null,null,null,null,null,{"$f":"IF(Hobo!A14672<>\"\",Hobo!A14672&configuracion!$C$10,\"\")","v":""},""]
[null,null,null,null,null,null,null,{"$f":"IF(Hobo!A14673<>\"\",Hobo!A14673&configuracion!$C$10,\"\")","v":""},""]
[null,null,null,null,null,null,null,{"$f":"IF(Hobo!A14674<>\"\",Hobo!A14674&configuracion!$C$10,\"\")","v":""},""]
[null,null,null,null,null,null,null,{"$f":"IF(Hobo!A14675<>\"\",Hobo!A14675&configuracion!$C$10,\"\")","v":""},""]
[null,null,null,null,null,null,null,{"$f":"IF(Hobo!A14676<>\"\",Hobo!A14676&configuracion!$C$10,\"\")","v":""},""]
[null,null,null,null,null,null,null,{"$f":"IF(Hobo!A14677<>\"\",Hobo!A14677&configuracion!$C$10,\"\")","v":""},""]
[null,null,null,null,null,null,null,{"$f":"IF(Hobo!A14678<>\"\",Hobo!A14678&configuracion!$C$10,\"\")","v":""},""]
[null,null,null,null,null,null,null,{"$f":"IF(Hobo!A14679<>\"\",Hobo!A14679&configuracion!$C$10,\"\")","v":""},""]
[null,null,null,null,null,null,null,{"$f":"IF(Hobo!A14680<>\"\",Hobo!A14680&configuracion!$C$10,\"\")","v":""},""]
[null,null,null,null,null,null,null,{"$f":"IF(Hobo!A14681<>\"\",Hobo!A14681&configuracion!$C$10,\"\")","v":""},""]
[null,null,null,null,null,null,null,{"$f":"IF(Hobo!A14682<>\"\",Hobo!A14682&configuracion!$C$10,\"\")","v":""},""]
[null,null,null,null,null,null,null,{"$f":"IF(Hobo!A14683<>\"\",Hobo!A14683&configuracion!$C$10,\"\")","v":""},""]
[null,null,null,null,null,null,null,{"$f":"IF(Hobo!A14684<>\"\",Hobo!A14684&configuracion!$C$10,\"\")","v":""},""]
[null,null,null,null,null,null,null,{"$f":"IF(Hobo!A14685<>\"\",Hobo!A14685&configuracion!$C$10,\"\")","v":""},""]
[null,null,null,null,null,null,null,{"$f":"IF(Hobo!A14686<>\"\",Hobo!A14686&configuracion!$C$10,\"\")","v":""},""]
[null,null,null,null,null,null,null,{"$f":"IF(Hobo!A14687<>\"\",Hobo!A14687&configuracion!$C$10,\"\")","v":""},""]
[null,null,null,null,null,null,null,{"$f":"IF(Hobo!A14688<>\"\",Hobo!A14688&configuracion!$C$10,\"\")","v":""},""]
[null,null,null,null,null,null,null,{"$f":"IF(Hobo!A14689<>\"\",Hobo!A14689&configuracion!$C$10,\"\")","v":""},""]
[null,null,null,null,null,null,null,{"$f":"IF(Hobo!A14690<>\"\",Hobo!A14690&configuracion!$C$10,\"\")","v":""},""]
[null,null,null,null,null,null,null,{"$f":"IF(Hobo!A14691<>\"\",Hobo!A14691&configuracion!$C$10,\"\")","v":""},""]
[null,null,null,null,null,null,null,{"$f":"IF(Hobo!A14692<>\"\",Hobo!A14692&configuracion!$C$10,\"\")","v":""},""]
[null,null,null,null,null,null,null,{"$f":"IF(Hobo!A14693<>\"\",Hobo!A14693&configuracion!$C$10,\"\")","v":""},""]
[null,null,null,null,null,null,null,{"$f":"IF(Hobo!A14694<>\"\",Hobo!A14694&configuracion!$C$10,\"\")","v":""},""]
[null,null,null,null,null,null,null,{"$f":"IF(Hobo!A14695<>\"\",Hobo!A14695&configuracion!$C$10,\"\")","v":""},""]
[null,null,null,null,null,null,null,{"$f":"IF(Hobo!A14696<>\"\",Hobo!A14696&configuracion!$C$10,\"\")","v":""},""]
[null,null,null,null,null,null,null,{"$f":"IF(Hobo!A14697<>\"\",Hobo!A14697&configuracion!$C$10,\"\")","v":""},""]
[null,null,null,null,null,null,null,{"$f":"IF(Hobo!A14698<>\"\",Hobo!A14698&configuracion!$C$10,\"\")","v":""},""]
[null,null,null,null,null,null,null,{"$f":"IF(Hobo!A14699<>\"\",Hobo!A14699&configuracion!$C$10,\"\")","v":""},""]
[null,null,null,null,null,null,null,{"$f":"IF(Hobo!A14700<>\"\",Hobo!A14700&configuracion!$C$10,\"\")","v":""},""]
[null,null,null,null,null,null,null,{"$f":"IF(Hobo!A14701<>\"\",Hobo!A14701&configuracion!$C$10,\"\")","v":""},""]
[null,null,null,null,null,null,null,{"$f":"IF(Hobo!A14702<>\"\",Hobo!A14702&configuracion!$C$10,\"\")","v":""},""]
[null,null,null,null,null,null,null,{"$f":"IF(Hobo!A14703<>\"\",Hobo!A14703&configuracion!$C$10,\"\")","v":""},""]
[null,null,null,null,null,null,null,{"$f":"IF(Hobo!A14704<>\"\",Hobo!A14704&configuracion!$C$10,\"\")","v":""},""]
[null,null,null,null,null,null,null,{"$f":"IF(Hobo!A14705<>\"\",Hobo!A14705&configuracion!$C$10,\"\")","v":""},""]
[null,null,null,null,null,null,null,{"$f":"IF(Hobo!A14706<>\"\",Hobo!A14706&configuracion!$C$10,\"\")","v":""},""]
[null,null,null,null,null,null,null,{"$f":"IF(Hobo!A14707<>\"\",Hobo!A14707&configuracion!$C$10,\"\")","v":""},""]
[null,null,null,null,null,null,null,{"$f":"IF(Hobo!A14708<>\"\",Hobo!A14708&configuracion!$C$10,\"\")","v":""},""]
[null,null,null,null,null,null,null,{"$f":"IF(Hobo!A14709<>\"\",Hobo!A14709&configuracion!$C$10,\"\")","v":""},""]
[null,null,null,null,null,null,null,{"$f":"IF(Hobo!A14710<>\"\",Hobo!A14710&configuracion!$C$10,\"\")","v":""},""]
[null,null,null,null,null,null,null,{"$f":"IF(Hobo!A14711<>\"\",Hobo!A14711&configuracion!$C$10,\"\")","v":""},""]
[null,null,null,null,null,null,null,{"$f":"IF(Hobo!A14712<>\"\",Hobo!A14712&configuracion!$C$10,\"\")","v":""},""]
[null,null,null,null,null,null,null,{"$f":"IF(Hobo!A14713<>\"\",Hobo!A14713&configuracion!$C$10,\"\")","v":""},""]
[null,null,null,null,null,null,null,{"$f":"IF(Hobo!A14714<>\"\",Hobo!A14714&configuracion!$C$10,\"\")","v":""},""]
[null,null,null,null,null,null,null,{"$f":"IF(Hobo!A14715<>\"\",Hobo!A14715&configuracion!$C$10,\"\")","v":""},""]
[null,null,null,null,null,null,null,{"$f":"IF(Hobo!A14716<>\"\",Hobo!A14716&configuracion!$C$10,\"\")","v":""},""]
[null,null,null,null,null,null,null,{"$f":"IF(Hobo!A14717<>\"\",Hobo!A14717&configuracion!$C$10,\"\")","v":""},""]
[null,null,null,null,null,null,null,{"$f":"IF(Hobo!A14718<>\"\",Hobo!A14718&configuracion!$C$10,\"\")","v":""},""]
[null,null,null,null,null,null,null,{"$f":"IF(Hobo!A14719<>\"\",Hobo!A14719&configuracion!$C$10,\"\")","v":""},""]
[null,null,null,null,null,null,null,{"$f":"IF(Hobo!A14720<>\"\",Hobo!A14720&configuracion!$C$10,\"\")","v":""},""]
[null,null,null,null,null,null,null,{"$f":"IF(Hobo!A14721<>\"\",Hobo!A14721&configuracion!$C$10,\"\")","v":""},""]
[null,null,null,null,null,null,null,{"$f":"IF(Hobo!A14722<>\"\",Hobo!A14722&configuracion!$C$10,\"\")","v":""},""]
[null,null,null,null,null,null,null,{"$f":"IF(Hobo!A14723<>\"\",Hobo!A14723&configuracion!$C$10,\"\")","v":""},""]
[null,null,null,null,null,null,null,{"$f":"IF(Hobo!A14724<>\"\",Hobo!A14724&configuracion!$C$10,\"\")","v":""},{"$f":"IF(B14724=\"\",\"\",TEXT(B14724, \"DD/MM/YYYY HH:MM:SS\"))","v":""}]
[null,null,null,null,null,null,null,{"$f":"IF(Hobo!A14725<>\"\",Hobo!A14725&configuracion!$C$10,\"\")","v":""},""]
[null,null,null,null,null,null,null,{"$f":"IF(Hobo!A14726<>\"\",Hobo!A14726&configuracion!$C$10,\"\")","v":""},""]
[null,null,null,null,null,null,null,{"$f":"IF(Hobo!A14727<>\"\",Hobo!A14727&configuracion!$C$10,\"\")","v":""},""]
[null,null,null,null,null,null,null,{"$f":"IF(Hobo!A14728<>\"\",Hobo!A14728&configuracion!$C$10,\"\")","v":""},""]
[null,null,null,null,null,null,null,{"$f":"IF(Hobo!A14729<>\"\",Hobo!A14729&configuracion!$C$10,\"\")","v":""},""]
[null,null,null,null,null,null,null,{"$f":"IF(Hobo!A14730<>\"\",Hobo!A14730&configuracion!$C$10,\"\")","v":""},""]
[null,null,null,null,null,null,null,{"$f":"IF(Hobo!A14731<>\"\",Hobo!A14731&configuracion!$C$10,\"\")","v":""},""]
[null,null,null,null,null,null,null,{"$f":"IF(Hobo!A14732<>\"\",Hobo!A14732&configuracion!$C$10,\"\")","v":""},""]
[null,null,null,null,null,null,null,{"$f":"IF(Hobo!A14733<>\"\",Hobo!A14733&configuracion!$C$10,\"\")","v":""},""]
[null,null,null,null,null,null,null,{"$f":"IF(Hobo!A14734<>\"\",Hobo!A14734&configuracion!$C$10,\"\")","v":""},""]
[null,null,null,null,null,null,null,{"$f":"IF(Hobo!A14735<>\"\",Hobo!A14735&configuracion!$C$10,\"\")","v":""},""]
[null,null,null,null,null,null,null,{"$f":"IF(Hobo!A14736<>\"\",Hobo!A14736&configuracion!$C$10,\"\")","v":""},""]
[null,null,null,null,null,null,null,{"$f":"IF(Hobo!A14737<>\"\",Hobo!A14737&configuracion!$C$10,\"\")","v":""},""]
[null,null,null,null,null,null,null,{"$f":"IF(Hobo!A14738<>\"\",Hobo!A14738&configuracion!$C$10,\"\")","v":""},""]
[null,null,null,null,null,null,null,{"$f":"IF(Hobo!A14739<>\"\",Hobo!A14739&configuracion!$C$10,\"\")","v":""},""]
[null,null,null,null,null,null,null,{"$f":"IF(Hobo!A14740<>\"\",Hobo!A14740&configuracion!$C$10,\"\")","v":""},""]
[null,null,null,null,null,null,null,{"$f":"IF(Hobo!A14741<>\"\",Hobo!A14741&configuracion!$C$10,\"\")","v":""},""]
[null,null,null,null,null,null,null,{"$f":"IF(Hobo!A14742<>\"\",Hobo!A14742&configuracion!$C$10,\"\")","v":""},""]
[null,null,null,null,null,null,null,{"$f":"IF(Hobo!A14743<>\"\",Hobo!A14743&configuracion!$C$10,\"\")","v":""},""]
[null,null,null,null,null,null,null,{"$f":"IF(Hobo!A14744<>\"\",Hobo!A14744&configuracion!$C$10,\"\")","v":""},""]
[null,null,null,null,null,null,null,{"$f":"IF(Hobo!A14745<>\"\",Hobo!A14745&configuracion!$C$10,\"\")","v":""},""]
[null,null,null,null,null,null,null,{"$f":"IF(Hobo!A14746<>\"\",Hobo!A14746&configuracion!$C$10,\"\")","v":""},""]
[null,null,null,null,null,null,null,{"$f":"IF(Hobo!A14747<>\"\",Hobo!A14747&configuracion!$C$10,\"\")","v":""},""]
[null,null,null,null,null,null,null,{"$f":"IF(Hobo!A14748<>\"\",Hobo!A14748&configuracion!$C$10,\"\")","v":""},""]
[null,null,null,null,null,null,null,{"$f":"IF(Hobo!A14749<>\"\",Hobo!A14749&configuracion!$C$10,\"\")","v":""},""]
[null,null,null,null,null,null,null,{"$f":"IF(Hobo!A14750<>\"\",Hobo!A14750&configuracion!$C$10,\"\")","v":""},""]
[null,null,null,null,null,null,null,{"$f":"IF(Hobo!A14751<>\"\",Hobo!A14751&configuracion!$C$10,\"\")","v":""},""]
[null,null,null,null,null,null,null,{"$f":"IF(Hobo!A14752<>\"\",Hobo!A14752&configuracion!$C$10,\"\")","v":""},""]
[null,null,null,null,null,null,null,{"$f":"IF(Hobo!A14753<>\"\",Hobo!A14753&configuracion!$C$10,\"\")","v":""},""]
[null,null,null,null,null,null,null,{"$f":"IF(Hobo!A14754<>\"\",Hobo!A14754&configuracion!$C$10,\"\")","v":""},""]
[null,null,null,null,null,null,null,{"$f":"IF(Hobo!A14755<>\"\",Hobo!A14755&configuracion!$C$10,\"\")","v":""},""]
[null,null,null,null,null,null,null,{"$f":"IF(Hobo!A14756<>\"\",Hobo!A14756&configuracion!$C$10,\"\")","v":""},""]
[null,null,null,null,null,null,null,{"$f":"IF(Hobo!A14757<>\"\",Hobo!A14757&configuracion!$C$10,\"\")","v":""},""]
[null,null,null,null,null,null,null,{"$f":"IF(Hobo!A14758<>\"\",Hobo!A14758&configuracion!$C$10,\"\")","v":""},""]
[null,null,null,null,null,null,null,{"$f":"IF(Hobo!A14759<>\"\",Hobo!A14759&configuracion!$C$10,\"\")","v":""},""]
[null,null,null,null,null,null,null,{"$f":"IF(Hobo!A14760<>\"\",Hobo!A14760&configuracion!$C$10,\"\")","v":""},""]
[null,null,null,null,null,null,null,{"$f":"IF(Hobo!A14761<>\"\",Hobo!A14761&configuracion!$C$10,\"\")","v":""},""]
[null,null,null,null,null,null,null,{"$f":"IF(Hobo!A14762<>\"\",Hobo!A14762&configuracion!$C$10,\"\")","v":""},""]
[null,null,null,null,null,null,null,{"$f":"IF(Hobo!A14763<>\"\",Hobo!A14763&configuracion!$C$10,\"\")","v":""},""]
[null,null,null,null,null,null,null,{"$f":"IF(Hobo!A14764<>\"\",Hobo!A14764&configuracion!$C$10,\"\")","v":""},""]
[null,null,null,null,null,null,null,{"$f":"IF(Hobo!A14765<>\"\",Hobo!A14765&configuracion!$C$10,\"\")","v":""},""]
[null,null,null,null,null,null,null,{"$f":"IF(Hobo!A14766<>\"\",Hobo!A14766&configuracion!$C$10,\"\")","v":""},""]
[null,null,null,null,null,null,null,{"$f":"IF(Hobo!A14767<>\"\",Hobo!A14767&configuracion!$C$10,\"\")","v":""},""]
[null,null,null,null,null,null,null,{"$f":"IF(Hobo!A14768<>\"\",Hobo!A14768&configuracion!$C$10,\"\")","v":""},""]
[null,null,null,null,null,null,null,{"$f":"IF(Hobo!A14769<>\"\",Hobo!A14769&configuracion!$C$10,\"\")","v":""},""]
[null,null,null,null,null,null,null,{"$f":"IF(Hobo!A14770<>\"\",Hobo!A14770&configuracion!$C$10,\"\")","v":""},""]
[null,null,null,null,null,null,null,{"$f":"IF(Hobo!A14771<>\"\",Hobo!A14771&configuracion!$C$10,\"\")","v":""},""]
[null,null,null,null,null,null,null,{"$f":"IF(Hobo!A14772<>\"\",Hobo!A14772&configuracion!$C$10,\"\")","v":""},""]
[null,null,null,null,null,null,null,{"$f":"IF(Hobo!A14773<>\"\",Hobo!A14773&configuracion!$C$10,\"\")","v":""},""]
[null,null,null,null,null,null,null,{"$f":"IF(Hobo!A14774<>\"\",Hobo!A14774&configuracion!$C$10,\"\")","v":""},""]
[null,null,null,null,null,null,null,{"$f":"IF(Hobo!A14775<>\"\",Hobo!A14775&configuracion!$C$10,\"\")","v":""},""]
[null,null,null,null,null,null,null,{"$f":"IF(Hobo!A14776<>\"\",Hobo!A14776&configuracion!$C$10,\"\")","v":""},""]
[null,null,null,null,null,null,null,{"$f":"IF(Hobo!A14777<>\"\",Hobo!A14777&configuracion!$C$10,\"\")","v":""},""]
[null,null,null,null,null,null,null,{"$f":"IF(Hobo!A14778<>\"\",Hobo!A14778&configuracion!$C$10,\"\")","v":""},""]
[null,null,null,null,null,null,null,{"$f":"IF(Hobo!A14779<>\"\",Hobo!A14779&configuracion!$C$10,\"\")","v":""},""]
[null,null,null,null,null,null,null,{"$f":"IF(Hobo!A14780<>\"\",Hobo!A14780&configuracion!$C$10,\"\")","v":""},""]
[null,null,null,null,null,null,null,{"$f":"IF(Hobo!A14781<>\"\",Hobo!A14781&configuracion!$C$10,\"\")","v":""},""]
[null,null,null,null,null,null,null,{"$f":"IF(Hobo!A14782<>\"\",Hobo!A14782&configuracion!$C$10,\"\")","v":""},""]
[null,null,null,null,null,null,null,{"$f":"IF(Hobo!A14783<>\"\",Hobo!A14783&configuracion!$C$10,\"\")","v":""},""]
[null,null,null,null,null,null,null,{"$f":"IF(Hobo!A14784<>\"\",Hobo!A14784&configuracion!$C$10,\"\")","v":""},""]
[null,null,null,null,null,null,null,{"$f":"IF(Hobo!A14785<>\"\",Hobo!A14785&configuracion!$C$10,\"\")","v":""},""]
[null,null,null,null,null,null,null,{"$f":"IF(Hobo!A14786<>\"\",Hobo!A14786&configuracion!$C$10,\"\")","v":""},""]
[null,null,null,null,null,null,null,{"$f":"IF(Hobo!A14787<>\"\",Hobo!A14787&configuracion!$C$10,\"\")","v":""},""]
[null,null,null,null,null,null,null,{"$f":"IF(Hobo!A14788<>\"\",Hobo!A14788&configuracion!$C$10,\"\")","v":""},{"$f":"IF(B14788=\"\",\"\",TEXT(B14788, \"DD/MM/YYYY HH:MM:SS\"))","v":""}]
[null,null,null,null,null,null,null,{"$f":"IF(Hobo!A14789<>\"\",Hobo!A14789&configuracion!$C$10,\"\")","v":""},""]
[null,null,null,null,null,null,null,{"$f":"IF(Hobo!A14790<>\"\",Hobo!A14790&configuracion!$C$10,\"\")","v":""},""]
[null,null,null,null,null,null,null,{"$f":"IF(Hobo!A14791<>\"\",Hobo!A14791&configuracion!$C$10,\"\")","v":""},""]
[null,null,null,null,null,null,null,{"$f":"IF(Hobo!A14792<>\"\",Hobo!A14792&configuracion!$C$10,\"\")","v":""},""]
[null,null,null,null,null,null,null,{"$f":"IF(Hobo!A14793<>\"\",Hobo!A14793&configuracion!$C$10,\"\")","v":""},""]
[null,null,null,null,null,null,null,{"$f":"IF(Hobo!A14794<>\"\",Hobo!A14794&configuracion!$C$10,\"\")","v":""},""]
[null,null,null,null,null,null,null,{"$f":"IF(Hobo!A14795<>\"\",Hobo!A14795&configuracion!$C$10,\"\")","v":""},""]
[null,null,null,null,null,null,null,{"$f":"IF(Hobo!A14796<>\"\",Hobo!A14796&configuracion!$C$10,\"\")","v":""},""]
[null,null,null,null,null,null,null,{"$f":"IF(Hobo!A14797<>\"\",Hobo!A14797&configuracion!$C$10,\"\")","v":""},""]
[null,null,null,null,null,null,null,{"$f":"IF(Hobo!A14798<>\"\",Hobo!A14798&configuracion!$C$10,\"\")","v":""},""]
[null,null,null,null,null,null,null,{"$f":"IF(Hobo!A14799<>\"\",Hobo!A14799&configuracion!$C$10,\"\")","v":""},""]
[null,null,null,null,null,null,null,{"$f":"IF(Hobo!A14800<>\"\",Hobo!A14800&configuracion!$C$10,\"\")","v":""},""]
[null,null,null,null,null,null,null,{"$f":"IF(Hobo!A14801<>\"\",Hobo!A14801&configuracion!$C$10,\"\")","v":""},""]
[null,null,null,null,null,null,null,{"$f":"IF(Hobo!A14802<>\"\",Hobo!A14802&configuracion!$C$10,\"\")","v":""},""]
[null,null,null,null,null,null,null,{"$f":"IF(Hobo!A14803<>\"\",Hobo!A14803&configuracion!$C$10,\"\")","v":""},""]
[null,null,null,null,null,null,null,{"$f":"IF(Hobo!A14804<>\"\",Hobo!A14804&configuracion!$C$10,\"\")","v":""},""]
[null,null,null,null,null,null,null,{"$f":"IF(Hobo!A14805<>\"\",Hobo!A14805&configuracion!$C$10,\"\")","v":""},""]
[null,null,null,null,null,null,null,{"$f":"IF(Hobo!A14806<>\"\",Hobo!A14806&configuracion!$C$10,\"\")","v":""},""]
[null,null,null,null,null,null,null,{"$f":"IF(Hobo!A14807<>\"\",Hobo!A14807&configuracion!$C$10,\"\")","v":""},""]
[null,null,null,null,null,null,null,{"$f":"IF(Hobo!A14808<>\"\",Hobo!A14808&configuracion!$C$10,\"\")","v":""},""]
[null,null,null,null,null,null,null,{"$f":"IF(Hobo!A14809<>\"\",Hobo!A14809&configuracion!$C$10,\"\")","v":""},""]
[null,null,null,null,null,null,null,{"$f":"IF(Hobo!A14810<>\"\",Hobo!A14810&configuracion!$C$10,\"\")","v":""},""]
[null,null,null,null,null,null,null,{"$f":"IF(Hobo!A14811<>\"\",Hobo!A14811&configuracion!$C$10,\"\")","v":""},""]
[null,null,null,null,null,null,null,{"$f":"IF(Hobo!A14812<>\"\",Hobo!A14812&configuracion!$C$10,\"\")","v":""},""]
[null,null,null,null,null,null,null,{"$f":"IF(Hobo!A14813<>\"\",Hobo!A14813&configuracion!$C$10,\"\")","v":""},""]
[null,null,null,null,null,null,null,{"$f":"IF(Hobo!A14814<>\"\",Hobo!A14814&configuracion!$C$10,\"\")","v":""},""]
[null,null,null,null,null,null,null,{"$f":"IF(Hobo!A14815<>\"\",Hobo!A14815&configuracion!$C$10,\"\")","v":""},""]
[null,null,null,null,null,null,null,{"$f":"IF(Hobo!A14816<>\"\",Hobo!A14816&configuracion!$C$10,\"\")","v":""},""]
[null,null,null,null,null,null,null,{"$f":"IF(Hobo!A14817<>\"\",Hobo!A14817&configuracion!$C$10,\"\")","v":""},""]
[null,null,null,null,null,null,null,{"$f":"IF(Hobo!A14818<>\"\",Hobo!A14818&configuracion!$C$10,\"\")","v":""},""]
[null,null,null,null,null,null,null,{"$f":"IF(Hobo!A14819<>\"\",Hobo!A14819&configuracion!$C$10,\"\")","v":""},""]
[null,null,null,null,null,null,null,{"$f":"IF(Hobo!A14820<>\"\",Hobo!A14820&configuracion!$C$10,\"\")","v":""},""]
[null,null,null,null,null,null,null,{"$f":"IF(Hobo!A14821<>\"\",Hobo!A14821&configuracion!$C$10,\"\")","v":""},""]
[null,null,null,null,null,null,null,{"$f":"IF(Hobo!A14822<>\"\",Hobo!A14822&configuracion!$C$10,\"\")","v":""},""]
[null,null,null,null,null,null,null,{"$f":"IF(Hobo!A14823<>\"\",Hobo!A14823&configuracion!$C$10,\"\")","v":""},""]
[null,null,null,null,null,null,null,{"$f":"IF(Hobo!A14824<>\"\",Hobo!A14824&configuracion!$C$10,\"\")","v":""},""]
[null,null,null,null,null,null,null,{"$f":"IF(Hobo!A14825<>\"\",Hobo!A14825&configuracion!$C$10,\"\")","v":""},""]
[null,null,null,null,null,null,null,{"$f":"IF(Hobo!A14826<>\"\",Hobo!A14826&configuracion!$C$10,\"\")","v":""},""]
[null,null,null,null,null,null,null,{"$f":"IF(Hobo!A14827<>\"\",Hobo!A14827&configuracion!$C$10,\"\")","v":""},""]
[null,null,null,null,null,null,null,{"$f":"IF(Hobo!A14828<>\"\",Hobo!A14828&configuracion!$C$10,\"\")","v":""},""]
[null,null,null,null,null,null,null,{"$f":"IF(Hobo!A14829<>\"\",Hobo!A14829&configuracion!$C$10,\"\")","v":""},""]
[null,null,null,null,null,null,null,{"$f":"IF(Hobo!A14830<>\"\",Hobo!A14830&configuracion!$C$10,\"\")","v":""},""]
[null,null,null,null,null,null,null,{"$f":"IF(Hobo!A14831<>\"\",Hobo!A14831&configuracion!$C$10,\"\")","v":""},""]
[null,null,null,null,null,null,null,{"$f":"IF(Hobo!A14832<>\"\",Hobo!A14832&configuracion!$C$10,\"\")","v":""},""]
[null,null,null,null,null,null,null,{"$f":"IF(Hobo!A14833<>\"\",Hobo!A14833&configuracion!$C$10,\"\")","v":""},""]
[null,null,null,null,null,null,null,{"$f":"IF(Hobo!A14834<>\"\",Hobo!A14834&configuracion!$C$10,\"\")","v":""},""]
[null,null,null,null,null,null,null,{"$f":"IF(Hobo!A14835<>\"\",Hobo!A14835&configuracion!$C$10,\"\")","v":""},""]
[null,null,null,null,null,null,null,{"$f":"IF(Hobo!A14836<>\"\",Hobo!A14836&configuracion!$C$10,\"\")","v":""},""]
[null,null,null,null,null,null,null,{"$f":"IF(Hobo!A14837<>\"\",Hobo!A14837&configuracion!$C$10,\"\")","v":""},""]
[null,null,null,null,null,null,null,{"$f":"IF(Hobo!A14838<>\"\",Hobo!A14838&configuracion!$C$10,\"\")","v":""},""]
[null,null,null,null,null,null,null,{"$f":"IF(Hobo!A14839<>\"\",Hobo!A14839&configuracion!$C$10,\"\")","v":""},""]
[null,null,null,null,null,null,null,{"$f":"IF(Hobo!A14840<>\"\",Hobo!A14840&configuracion!$C$10,\"\")","v":""},""]
[null,null,null,null,null,null,null,{"$f":"IF(Hobo!A14841<>\"\",Hobo!A14841&configuracion!$C$10,\"\")","v":""},""]
[null,null,null,null,null,null,null,{"$f":"IF(Hobo!A14842<>\"\",Hobo!A14842&configuracion!$C$10,\"\")","v":""},""]
[null,null,null,null,null,null,null,{"$f":"IF(Hobo!A14843<>\"\",Hobo!A14843&configuracion!$C$10,\"\")","v":""},""]
[null,null,null,null,null,null,null,{"$f":"IF(Hobo!A14844<>\"\",Hobo!A14844&configuracion!$C$10,\"\")","v":""},""]
[null,null,null,null,null,null,null,{"$f":"IF(Hobo!A14845<>\"\",Hobo!A14845&configuracion!$C$10,\"\")","v":""},""]
[null,null,null,null,null,null,null,{"$f":"IF(Hobo!A14846<>\"\",Hobo!A14846&configuracion!$C$10,\"\")","v":""},""]
[null,null,null,null,null,null,null,{"$f":"IF(Hobo!A14847<>\"\",Hobo!A14847&configuracion!$C$10,\"\")","v":""},""]
[null,null,null,null,null,null,null,{"$f":"IF(Hobo!A14848<>\"\",Hobo!A14848&configuracion!$C$10,\"\")","v":""},""]
[null,null,null,null,null,null,null,{"$f":"IF(Hobo!A14849<>\"\",Hobo!A14849&configuracion!$C$10,\"\")","v":""},""]
[null,null,null,null,null,null,null,{"$f":"IF(Hobo!A14850<>\"\",Hobo!A14850&configuracion!$C$10,\"\")","v":""},""]
[null,null,null,null,null,null,null,{"$f":"IF(Hobo!A14851<>\"\",Hobo!A14851&configuracion!$C$10,\"\")","v":""},""]
[null,null,null,null,null,null,null,{"$f":"IF(Hobo!A14852<>\"\",Hobo!A14852&configuracion!$C$10,\"\")","v":""},{"$f":"IF(B14852=\"\",\"\",TEXT(B14852, \"DD/MM/YYYY HH:MM:SS\"))","v":""}]
[null,null,null,null,null,null,null,{"$f":"IF(Hobo!A14853<>\"\",Hobo!A14853&configuracion!$C$10,\"\")","v":""},""]
[null,null,null,null,null,null,null,{"$f":"IF(Hobo!A14854<>\"\",Hobo!A14854&configuracion!$C$10,\"\")","v":""},""]
[null,null,null,null,null,null,null,{"$f":"IF(Hobo!A14855<>\"\",Hobo!A14855&configuracion!$C$10,\"\")","v":""},""]
[null,null,null,null,null,null,null,{"$f":"IF(Hobo!A14856<>\"\",Hobo!A14856&configuracion!$C$10,\"\")","v":""},""]
[null,null,null,null,null,null,null,{"$f":"IF(Hobo!A14857<>\"\",Hobo!A14857&configuracion!$C$10,\"\")","v":""},""]
[null,null,null,null,null,null,null,{"$f":"IF(Hobo!A14858<>\"\",Hobo!A14858&configuracion!$C$10,\"\")","v":""},""]
[null,null,null,null,null,null,null,{"$f":"IF(Hobo!A14859<>\"\",Hobo!A14859&configuracion!$C$10,\"\")","v":""},""]
[null,null,null,null,null,null,null,{"$f":"IF(Hobo!A14860<>\"\",Hobo!A14860&configuracion!$C$10,\"\")","v":""},""]
[null,null,null,null,null,null,null,{"$f":"IF(Hobo!A14861<>\"\",Hobo!A14861&configuracion!$C$10,\"\")","v":""},""]
[null,null,null,null,null,null,null,{"$f":"IF(Hobo!A14862<>\"\",Hobo!A14862&configuracion!$C$10,\"\")","v":""},""]
[null,null,null,null,null,null,null,{"$f":"IF(Hobo!A14863<>\"\",Hobo!A14863&configuracion!$C$10,\"\")","v":""},""]
[null,null,null,null,null,null,null,{"$f":"IF(Hobo!A14864<>\"\",Hobo!A14864&configuracion!$C$10,\"\")","v":""},""]
[null,null,null,null,null,null,null,{"$f":"IF(Hobo!A14865<>\"\",Hobo!A14865&configuracion!$C$10,\"\")","v":""},""]
[null,null,null,null,null,null,null,{"$f":"IF(Hobo!A14866<>\"\",Hobo!A14866&configuracion!$C$10,\"\")","v":""},""]
[null,null,null,null,null,null,null,{"$f":"IF(Hobo!A14867<>\"\",Hobo!A14867&configuracion!$C$10,\"\")","v":""},""]
[null,null,null,null,null,null,null,{"$f":"IF(Hobo!A14868<>\"\",Hobo!A14868&configuracion!$C$10,\"\")","v":""},""]
[null,null,null,null,null,null,null,{"$f":"IF(Hobo!A14869<>\"\",Hobo!A14869&configuracion!$C$10,\"\")","v":""},""]
[null,null,null,null,null,null,null,{"$f":"IF(Hobo!A14870<>\"\",Hobo!A14870&configuracion!$C$10,\"\")","v":""},""]
[null,null,null,null,null,null,null,{"$f":"IF(Hobo!A14871<>\"\",Hobo!A14871&configuracion!$C$10,\"\")","v":""},""]
[null,null,null,null,null,null,null,{"$f":"IF(Hobo!A14872<>\"\",Hobo!A14872&configuracion!$C$10,\"\")","v":""},""]
[null,null,null,null,null,null,null,{"$f":"IF(Hobo!A14873<>\"\",Hobo!A14873&configuracion!$C$10,\"\")","v":""},""]
[null,null,null,null,null,null,null,{"$f":"IF(Hobo!A14874<>\"\",Hobo!A14874&configuracion!$C$10,\"\")","v":""},""]
[null,null,null,null,null,null,null,{"$f":"IF(Hobo!A14875<>\"\",Hobo!A14875&configuracion!$C$10,\"\")","v":""},""]
[null,null,null,null,null,null,null,{"$f":"IF(Hobo!A14876<>\"\",Hobo!A14876&configuracion!$C$10,\"\")","v":""},""]
[null,null,null,null,null,null,null,{"$f":"IF(Hobo!A14877<>\"\",Hobo!A14877&configuracion!$C$10,\"\")","v":""},""]
[null,null,null,null,null,null,null,{"$f":"IF(Hobo!A14878<>\"\",Hobo!A14878&configuracion!$C$10,\"\")","v":""},""]
[null,null,null,null,null,null,null,{"$f":"IF(Hobo!A14879<>\"\",Hobo!A14879&configuracion!$C$10,\"\")","v":""},""]
[null,null,null,null,null,null,null,{"$f":"IF(Hobo!A14880<>\"\",Hobo!A14880&configuracion!$C$10,\"\")","v":""},""]
[null,null,null,null,null,null,null,{"$f":"IF(Hobo!A14881<>\"\",Hobo!A14881&configuracion!$C$10,\"\")","v":""},""]
[null,null,null,null,null,null,null,{"$f":"IF(Hobo!A14882<>\"\",Hobo!A14882&configuracion!$C$10,\"\")","v":""},""]
[null,null,null,null,null,null,null,{"$f":"IF(Hobo!A14883<>\"\",Hobo!A14883&configuracion!$C$10,\"\")","v":""},""]
[null,null,null,null,null,null,null,{"$f":"IF(Hobo!A14884<>\"\",Hobo!A14884&configuracion!$C$10,\"\")","v":""},""]
[null,null,null,null,null,null,null,{"$f":"IF(Hobo!A14885<>\"\",Hobo!A14885&configuracion!$C$10,\"\")","v":""},""]
[null,null,null,null,null,null,null,{"$f":"IF(Hobo!A14886<>\"\",Hobo!A14886&configuracion!$C$10,\"\")","v":""},""]
[null,null,null,null,null,null,null,{"$f":"IF(Hobo!A14887<>\"\",Hobo!A14887&configuracion!$C$10,\"\")","v":""},""]
[null,null,null,null,null,null,null,{"$f":"IF(Hobo!A14888<>\"\",Hobo!A14888&configuracion!$C$10,\"\")","v":""},""]
[null,null,null,null,null,null,null,{"$f":"IF(Hobo!A14889<>\"\",Hobo!A14889&configuracion!$C$10,\"\")","v":""},""]
[null,null,null,null,null,null,null,{"$f":"IF(Hobo!A14890<>\"\",Hobo!A14890&configuracion!$C$10,\"\")","v":""},""]
[null,null,null,null,null,null,null,{"$f":"IF(Hobo!A14891<>\"\",Hobo!A14891&configuracion!$C$10,\"\")","v":""},""]
[null,null,null,null,null,null,null,{"$f":"IF(Hobo!A14892<>\"\",Hobo!A14892&configuracion!$C$10,\"\")","v":""},""]
[null,null,null,null,null,null,null,{"$f":"IF(Hobo!A14893<>\"\",Hobo!A14893&configuracion!$C$10,\"\")","v":""},""]
[null,null,null,null,null,null,null,{"$f":"IF(Hobo!A14894<>\"\",Hobo!A14894&configuracion!$C$10,\"\")","v":""},""]
[null,null,null,null,null,null,null,{"$f":"IF(Hobo!A14895<>\"\",Hobo!A14895&configuracion!$C$10,\"\")","v":""},""]
[null,null,null,null,null,null,null,{"$f":"IF(Hobo!A14896<>\"\",Hobo!A14896&configuracion!$C$10,\"\")","v":""},""]
[null,null,null,null,null,null,null,{"$f":"IF(Hobo!A14897<>\"\",Hobo!A14897&configuracion!$C$10,\"\")","v":""},""]
[null,null,null,null,null,null,null,{"$f":"IF(Hobo!A14898<>\"\",Hobo!A14898&configuracion!$C$10,\"\")","v":""},""]
[null,null,null,null,null,null,null,{"$f":"IF(Hobo!A14899<>\"\",Hobo!A14899&configuracion!$C$10,\"\")","v":""},""]
[null,null,null,null,null,null,null,{"$f":"IF(Hobo!A14900<>\"\",Hobo!A14900&configuracion!$C$10,\"\")","v":""},""]
[null,null,null,null,null,null,null,{"$f":"IF(Hobo!A14901<>\"\",Hobo!A14901&configuracion!$C$10,\"\")","v":""},""]
[null,null,null,null,null,null,null,{"$f":"IF(Hobo!A14902<>\"\",Hobo!A14902&configuracion!$C$10,\"\")","v":""},""]
[null,null,null,null,null,null,null,{"$f":"IF(Hobo!A14903<>\"\",Hobo!A14903&configuracion!$C$10,\"\")","v":""},""]
[null,null,null,null,null,null,null,{"$f":"IF(Hobo!A14904<>\"\",Hobo!A14904&configuracion!$C$10,\"\")","v":""},""]
[null,null,null,null,null,null,null,{"$f":"IF(Hobo!A14905<>\"\",Hobo!A14905&configuracion!$C$10,\"\")","v":""},""]
[null,null,null,null,null,null,null,{"$f":"IF(Hobo!A14906<>\"\",Hobo!A14906&configuracion!$C$10,\"\")","v":""},""]
[null,null,null,null,null,null,null,{"$f":"IF(Hobo!A14907<>\"\",Hobo!A14907&configuracion!$C$10,\"\")","v":""},""]
[null,null,null,null,null,null,null,{"$f":"IF(Hobo!A14908<>\"\",Hobo!A14908&configuracion!$C$10,\"\")","v":""},""]
[null,null,null,null,null,null,null,{"$f":"IF(Hobo!A14909<>\"\",Hobo!A14909&configuracion!$C$10,\"\")","v":""},""]
[null,null,null,null,null,null,null,{"$f":"IF(Hobo!A14910<>\"\",Hobo!A14910&configuracion!$C$10,\"\")","v":""},""]
[null,null,null,null,null,null,null,{"$f":"IF(Hobo!A14911<>\"\",Hobo!A14911&configuracion!$C$10,\"\")","v":""},""]
[null,null,null,null,null,null,null,{"$f":"IF(Hobo!A14912<>\"\",Hobo!A14912&configuracion!$C$10,\"\")","v":""},""]
[null,null,null,null,null,null,null,{"$f":"IF(Hobo!A14913<>\"\",Hobo!A14913&configuracion!$C$10,\"\")","v":""},""]
[null,null,null,null,null,null,null,{"$f":"IF(Hobo!A14914<>\"\",Hobo!A14914&configuracion!$C$10,\"\")","v":""},""]
[null,null,null,null,null,null,null,{"$f":"IF(Hobo!A14915<>\"\",Hobo!A14915&configuracion!$C$10,\"\")","v":""},""]
[null,null,null,null,null,null,null,{"$f":"IF(Hobo!A14916<>\"\",Hobo!A14916&configuracion!$C$10,\"\")","v":""},{"$f":"IF(B14916=\"\",\"\",TEXT(B14916, \"DD/MM/YYYY HH:MM:SS\"))","v":""}]
[null,null,null,null,null,null,null,{"$f":"IF(Hobo!A14917<>\"\",Hobo!A14917&configuracion!$C$10,\"\")","v":""},""]
[null,null,null,null,null,null,null,{"$f":"IF(Hobo!A14918<>\"\",Hobo!A14918&configuracion!$C$10,\"\")","v":""},""]
[null,null,null,null,null,null,null,{"$f":"IF(Hobo!A14919<>\"\",Hobo!A14919&configuracion!$C$10,\"\")","v":""},""]
[null,null,null,null,null,null,null,{"$f":"IF(Hobo!A14920<>\"\",Hobo!A14920&configuracion!$C$10,\"\")","v":""},""]
[null,null,null,null,null,null,null,{"$f":"IF(Hobo!A14921<>\"\",Hobo!A14921&configuracion!$C$10,\"\")","v":""},""]
[null,null,null,null,null,null,null,{"$f":"IF(Hobo!A14922<>\"\",Hobo!A14922&configuracion!$C$10,\"\")","v":""},""]
[null,null,null,null,null,null,null,{"$f":"IF(Hobo!A14923<>\"\",Hobo!A14923&configuracion!$C$10,\"\")","v":""},""]
[null,null,null,null,null,null,null,{"$f":"IF(Hobo!A14924<>\"\",Hobo!A14924&configuracion!$C$10,\"\")","v":""},""]
[null,null,null,null,null,null,null,{"$f":"IF(Hobo!A14925<>\"\",Hobo!A14925&configuracion!$C$10,\"\")","v":""},""]
[null,null,null,null,null,null,null,{"$f":"IF(Hobo!A14926<>\"\",Hobo!A14926&configuracion!$C$10,\"\")","v":""},""]
[null,null,null,null,null,null,null,{"$f":"IF(Hobo!A14927<>\"\",Hobo!A14927&configuracion!$C$10,\"\")","v":""},""]
[null,null,null,null,null,null,null,{"$f":"IF(Hobo!A14928<>\"\",Hobo!A14928&configuracion!$C$10,\"\")","v":""},""]
[null,null,null,null,null,null,null,{"$f":"IF(Hobo!A14929<>\"\",Hobo!A14929&configuracion!$C$10,\"\")","v":""},""]
[null,null,null,null,null,null,null,{"$f":"IF(Hobo!A14930<>\"\",Hobo!A14930&configuracion!$C$10,\"\")","v":""},""]
[null,null,null,null,null,null,null,{"$f":"IF(Hobo!A14931<>\"\",Hobo!A14931&configuracion!$C$10,\"\")","v":""},""]
[null,null,null,null,null,null,null,{"$f":"IF(Hobo!A14932<>\"\",Hobo!A14932&configuracion!$C$10,\"\")","v":""},""]
[null,null,null,null,null,null,null,{"$f":"IF(Hobo!A14933<>\"\",Hobo!A14933&configuracion!$C$10,\"\")","v":""},""]
[null,null,null,null,null,null,null,{"$f":"IF(Hobo!A14934<>\"\",Hobo!A14934&configuracion!$C$10,\"\")","v":""},""]
[null,null,null,null,null,null,null,{"$f":"IF(Hobo!A14935<>\"\",Hobo!A14935&configuracion!$C$10,\"\")","v":""},""]
[null,null,null,null,null,null,null,{"$f":"IF(Hobo!A14936<>\"\",Hobo!A14936&configuracion!$C$10,\"\")","v":""},""]
[null,null,null,null,null,null,null,{"$f":"IF(Hobo!A14937<>\"\",Hobo!A14937&configuracion!$C$10,\"\")","v":""},""]
[null,null,null,null,null,null,null,{"$f":"IF(Hobo!A14938<>\"\",Hobo!A14938&configuracion!$C$10,\"\")","v":""},""]
[null,null,null,null,null,null,null,{"$f":"IF(Hobo!A14939<>\"\",Hobo!A14939&configuracion!$C$10,\"\")","v":""},""]
[null,null,null,null,null,null,null,{"$f":"IF(Hobo!A14940<>\"\",Hobo!A14940&configuracion!$C$10,\"\")","v":""},""]
[null,null,null,null,null,null,null,{"$f":"IF(Hobo!A14941<>\"\",Hobo!A14941&configuracion!$C$10,\"\")","v":""},""]
[null,null,null,null,null,null,null,{"$f":"IF(Hobo!A14942<>\"\",Hobo!A14942&configuracion!$C$10,\"\")","v":""},""]
[null,null,null,null,null,null,null,{"$f":"IF(Hobo!A14943<>\"\",Hobo!A14943&configuracion!$C$10,\"\")","v":""},""]
[null,null,null,null,null,null,null,{"$f":"IF(Hobo!A14944<>\"\",Hobo!A14944&configuracion!$C$10,\"\")","v":""},""]
[null,null,null,null,null,null,null,{"$f":"IF(Hobo!A14945<>\"\",Hobo!A14945&configuracion!$C$10,\"\")","v":""},""]
[null,null,null,null,null,null,null,{"$f":"IF(Hobo!A14946<>\"\",Hobo!A14946&configuracion!$C$10,\"\")","v":""},""]
[null,null,null,null,null,null,null,{"$f":"IF(Hobo!A14947<>\"\",Hobo!A14947&configuracion!$C$10,\"\")","v":""},""]
[null,null,null,null,null,null,null,{"$f":"IF(Hobo!A14948<>\"\",Hobo!A14948&configuracion!$C$10,\"\")","v":""},""]
[null,null,null,null,null,null,null,{"$f":"IF(Hobo!A14949<>\"\",Hobo!A14949&configuracion!$C$10,\"\")","v":""},""]
[null,null,null,null,null,null,null,{"$f":"IF(Hobo!A14950<>\"\",Hobo!A14950&configuracion!$C$10,\"\")","v":""},""]
[null,null,null,null,null,null,null,{"$f":"IF(Hobo!A14951<>\"\",Hobo!A14951&configuracion!$C$10,\"\")","v":""},""]
[null,null,null,null,null,null,null,{"$f":"IF(Hobo!A14952<>\"\",Hobo!A14952&configuracion!$C$10,\"\")","v":""},""]
[null,null,null,null,null,null,null,{"$f":"IF(Hobo!A14953<>\"\",Hobo!A14953&configuracion!$C$10,\"\")","v":""},""]
[null,null,null,null,null,null,null,{"$f":"IF(Hobo!A14954<>\"\",Hobo!A14954&configuracion!$C$10,\"\")","v":""},""]
[null,null,null,null,null,null,null,{"$f":"IF(Hobo!A14955<>\"\",Hobo!A14955&configuracion!$C$10,\"\")","v":""},""]
[null,null,null,null,null,null,null,{"$f":"IF(Hobo!A14956<>\"\",Hobo!A14956&configuracion!$C$10,\"\")","v":""},""]
[null,null,null,null,null,null,null,{"$f":"IF(Hobo!A14957<>\"\",Hobo!A14957&configuracion!$C$10,\"\")","v":""},""]
[null,null,null,null,null,null,null,{"$f":"IF(Hobo!A14958<>\"\",Hobo!A14958&configuracion!$C$10,\"\")","v":""},""]
[null,null,null,null,null,null,null,{"$f":"IF(Hobo!A14959<>\"\",Hobo!A14959&configuracion!$C$10,\"\")","v":""},""]
[null,null,null,null,null,null,null,{"$f":"IF(Hobo!A14960<>\"\",Hobo!A14960&configuracion!$C$10,\"\")","v":""},""]
[null,null,null,null,null,null,null,{"$f":"IF(Hobo!A14961<>\"\",Hobo!A14961&configuracion!$C$10,\"\")","v":""},""]
[null,null,null,null,null,null,null,{"$f":"IF(Hobo!A14962<>\"\",Hobo!A14962&configuracion!$C$10,\"\")","v":""},""]
[null,null,null,null,null,null,null,{"$f":"IF(Hobo!A14963<>\"\",Hobo!A14963&configuracion!$C$10,\"\")","v":""},""]
[null,null,null,null,null,null,null,{"$f":"IF(Hobo!A14964<>\"\",Hobo!A14964&configuracion!$C$10,\"\")","v":""},""]
[null,null,null,null,null,null,null,{"$f":"IF(Hobo!A14965<>\"\",Hobo!A14965&configuracion!$C$10,\"\")","v":""},""]
[null,null,null,null,null,null,null,{"$f":"IF(Hobo!A14966<>\"\",Hobo!A14966&configuracion!$C$10,\"\")","v":""},""]
[null,null,null,null,null,null,null,{"$f":"IF(Hobo!A14967<>\"\",Hobo!A14967&configuracion!$C$10,\"\")","v":""},""]
[null,null,null,null,null,null,null,{"$f":"IF(Hobo!A14968<>\"\",Hobo!A14968&configuracion!$C$10,\"\")","v":""},""]
[null,null,null,null,null,null,null,{"$f":"IF(Hobo!A14969<>\"\",Hobo!A14969&configuracion!$C$10,\"\")","v":""},""]
[null,null,null,null,null,null,null,{"$f":"IF(Hobo!A14970<>\"\",Hobo!A14970&configuracion!$C$10,\"\")","v":""},""]
[null,null,null,null,null,null,null,{"$f":"IF(Hobo!A14971<>\"\",Hobo!A14971&configuracion!$C$10,\"\")","v":""},""]
[null,null,null,null,null,null,null,{"$f":"IF(Hobo!A14972<>\"\",Hobo!A14972&configuracion!$C$10,\"\")","v":""},""]
[null,null,null,null,null,null,null,{"$f":"IF(Hobo!A14973<>\"\",Hobo!A14973&configuracion!$C$10,\"\")","v":""},""]
[null,null,null,null,null,null,null,{"$f":"IF(Hobo!A14974<>\"\",Hobo!A14974&configuracion!$C$10,\"\")","v":""},""]
[null,null,null,null,null,null,null,{"$f":"IF(Hobo!A14975<>\"\",Hobo!A14975&configuracion!$C$10,\"\")","v":""},""]
[null,null,null,null,null,null,null,{"$f":"IF(Hobo!A14976<>\"\",Hobo!A14976&configuracion!$C$10,\"\")","v":""},""]
[null,null,null,null,null,null,null,{"$f":"IF(Hobo!A14977<>\"\",Hobo!A14977&configuracion!$C$10,\"\")","v":""},""]
[null,null,null,null,null,null,null,{"$f":"IF(Hobo!A14978<>\"\",Hobo!A14978&configuracion!$C$10,\"\")","v":""},""]
[null,null,null,null,null,null,null,{"$f":"IF(Hobo!A14979<>\"\",Hobo!A14979&configuracion!$C$10,\"\")","v":""},""]
[null,null,null,null,null,null,null,{"$f":"IF(Hobo!A14980<>\"\",Hobo!A14980&configuracion!$C$10,\"\")","v":""},{"$f":"IF(B14980=\"\",\"\",TEXT(B14980, \"DD/MM/YYYY HH:MM:SS\"))","v":""}]
[null,null,null,null,null,null,null,{"$f":"IF(Hobo!A14981<>\"\",Hobo!A14981&configuracion!$C$10,\"\")","v":""},""]
[null,null,null,null,null,null,null,{"$f":"IF(Hobo!A14982<>\"\",Hobo!A14982&configuracion!$C$10,\"\")","v":""},""]
[null,null,null,null,null,null,null,{"$f":"IF(Hobo!A14983<>\"\",Hobo!A14983&configuracion!$C$10,\"\")","v":""},""]
[null,null,null,null,null,null,null,{"$f":"IF(Hobo!A14984<>\"\",Hobo!A14984&configuracion!$C$10,\"\")","v":""},""]
[null,null,null,null,null,null,null,{"$f":"IF(Hobo!A14985<>\"\",Hobo!A14985&configuracion!$C$10,\"\")","v":""},""]
[null,null,null,null,null,null,null,{"$f":"IF(Hobo!A14986<>\"\",Hobo!A14986&configuracion!$C$10,\"\")","v":""},""]
[null,null,null,null,null,null,null,{"$f":"IF(Hobo!A14987<>\"\",Hobo!A14987&configuracion!$C$10,\"\")","v":""},""]
[null,null,null,null,null,null,null,{"$f":"IF(Hobo!A14988<>\"\",Hobo!A14988&configuracion!$C$10,\"\")","v":""},""]
[null,null,null,null,null,null,null,{"$f":"IF(Hobo!A14989<>\"\",Hobo!A14989&configuracion!$C$10,\"\")","v":""},""]
[null,null,null,null,null,null,null,{"$f":"IF(Hobo!A14990<>\"\",Hobo!A14990&configuracion!$C$10,\"\")","v":""},""]
[null,null,null,null,null,null,null,{"$f":"IF(Hobo!A14991<>\"\",Hobo!A14991&configuracion!$C$10,\"\")","v":""},""]
[null,null,null,null,null,null,null,{"$f":"IF(Hobo!A14992<>\"\",Hobo!A14992&configuracion!$C$10,\"\")","v":""},""]
[null,null,null,null,null,null,null,{"$f":"IF(Hobo!A14993<>\"\",Hobo!A14993&configuracion!$C$10,\"\")","v":""},""]
[null,null,null,null,null,null,null,{"$f":"IF(Hobo!A14994<>\"\",Hobo!A14994&configuracion!$C$10,\"\")","v":""},""]
[null,null,null,null,null,null,null,{"$f":"IF(Hobo!A14995<>\"\",Hobo!A14995&configuracion!$C$10,\"\")","v":""},""]
[null,null,null,null,null,null,null,{"$f":"IF(Hobo!A14996<>\"\",Hobo!A14996&configuracion!$C$10,\"\")","v":""},""]
[null,null,null,null,null,null,null,{"$f":"IF(Hobo!A14997<>\"\",Hobo!A14997&configuracion!$C$10,\"\")","v":""},""]
[null,null,null,null,null,null,null,{"$f":"IF(Hobo!A14998<>\"\",Hobo!A14998&configuracion!$C$10,\"\")","v":""},""]
[null,null,null,null,null,null,null,{"$f":"IF(Hobo!A14999<>\"\",Hobo!A14999&configuracion!$C$10,\"\")","v":""},""]
[null,null,null,null,null,null,null,{"$f":"IF(Hobo!A15000<>\"\",Hobo!A15000&configuracion!$C$10,\"\")","v":""},""]
[null,null,null,null,null,null,null,{"$f":"IF(Hobo!A15001<>\"\",Hobo!A15001&configuracion!$C$10,\"\")","v":""},""]
[null,null,null,null,null,null,null,{"$f":"IF(Hobo!A15002<>\"\",Hobo!A15002&configuracion!$C$10,\"\")","v":""},""]
[null,null,null,null,null,null,null,{"$f":"IF(Hobo!A15003<>\"\",Hobo!A15003&configuracion!$C$10,\"\")","v":""},""]

{"sheet":"referentes","index":4,"n_rows":28,"n_cols":2,"rows_kept":28,"cut":false,"hidden":false,"merged":[]}
["Nombre","Código"]
["Administrador SIBM",3177]
["Adriana M. Gracia Clavijo",414]
["Andrea Polanco",593]
["Andrés Merchán",3184]
["Cristina Maria Cedeño Posso",3965]
["Daniel Gonzalez Polo",3191]
["Edgar Fernando Dorado Roncancio",4918]
["Elkin Rafael  Pardo Oñate",4916]
["Erika Montoya-Cadavid",1336]
["Giomar Helena Borrero Pérez",3185]
["Jorge Andres Ramirez",3908]
["Jose Manuel Gutierrez Salcedo",3808]
["Juan Rodriguez",3505]
["Julio naranjo",3039]
["Karen Ayala Galván",4917]
["Luis Hernan Chasqui",3155]
["Manuel Garrido Linares",595]
["Maria Ocampo",3865]
["Martha C. Díaz Ruiz",366]
["Miguel Martelo López",1656]
["Miguel Sánchez",4757]
["Milena Benavides Serrato",345]
["Natalia Rodriguez Salcedo",3083]
["Paola Flórez",1262]
["Rosario Elena Peña Agudelo",4713]
["Sebastian Herrera Fajardo",4521]
["Vanessa Yepes Narvaez",3966]

{"sheet":"Otras referencias","index":5,"n_rows":24,"n_cols":5,"rows_kept":24,"cut":false,"hidden":false,"merged":[[0,0,2,10],[4,0,4,1],[11,0,11,2],[4,3,4,4]]}
["Estas son listas para variables con valores que no se encuentran codificados, pero que deben manejarse de manera estandarizada. \nSi se requiere agregar un valor nuevo hagalo debajo de la lista correspondiente"]
[]
[]
[]
["PROFUNDIDAD",null,null,"METODOS"]
["Descripcion","Codigo",null,"NOMBRE_MT","CODIGO"]
["Somero","S",null,"Manual de métodos de SIMAC: Cadena rotulada cada diez eslabones","Car"]
["Medio","M"]
["Profundo","P"]
[]
[]
["CODIGOS LOV"]
["DESCRIPCIÓN","CÓDIGO","GRUPO"]
["Departamento",10,2]
["Sector",20,2]
["Punto",30,2]
["Parcela",35,2]
["Estaciones",40,2]
["Region",50,2]
["Unidad_de_Manejo",60,2]
["Unidad_Ambiental_Costera",70,2]
["Localidad",80,2]
["Bloque_Exploracion",85,2]
["Area",90,2]

{"sheet":"AGD_MUESTREOS","index":6,"n_rows":0,"n_cols":0,"rows_kept":0,"cut":false,"hidden":true,"merged":[]}

{"sheet":"AGD_PARAMETRO","index":7,"n_rows":0,"n_cols":0,"rows_kept":0,"cut":false,"hidden":true,"merged":[]}

{"sheet":"AGD_MUESTRAS","index":8,"n_rows":0,"n_cols":0,"rows_kept":0,"cut":false,"hidden":true,"merged":[]}

{"sheet":"AGD_MUESTRAS_VARIABLES","index":9,"n_rows":0,"n_cols":0,"rows_kept":0,"cut":false,"hidden":true,"merged":[]}

{"sheet":"AGD_AUTORIAS","index":10,"n_rows":0,"n_cols":0,"rows_kept":0,"cut":false,"hidden":true,"merged":[]}