{"text_format":"1","workbook":"xlsx","n_sheets":13,"sheets":["Registro de cambios","configuracion","DIGITADOR","DATOS","MUESTRAS_VARIABLES","referentes","Otras referencias","ESTACIONES_VARIABLES","AGD_MUESTREOS","AGD_PARAMETRO","AGD_MUESTRAS","AGD_MUESTRAS_VARIABLES","AGD_AUTORIAS"],"not_rendered":{"charts":0,"images":0,"macros":1,"external_links":0,"defined_names":4,"comments":2,"pivot_tables":0},"unopened":[],"bounds":{"document_bytes":16777216,"sheet_cells":100000,"rows_first":2000,"rows_last":500,"rows_between":2000,"halvings":0,"cell_chars":16384,"cell_head_chars":4096},"cells_cut":0,"cells_raw":0,"read":"whole","date_system":"1900"}

{"sheet":"Registro de cambios","index":0,"n_rows":13,"n_cols":7,"rows_kept":13,"cut":false,"hidden":true,"merged":[[1,3,1,6]]}
[]
[null,null,null,"REGISTRO DE CAMBIOS"]
[null,null,null,"VERSIÓN No.","CAMBIO REALIZADO","AUTOR","VIGENTE DESDE"]
[null,null,null,"20250407m","Inclusión del proyecto HECO-CGSM en el menú de opciones de la hoja DIGITADOR, se mantiene el listado de opciones con el que se viene trabajando. Adicionalmente, se agregaron las estaciones de monitoreo y usuarios relacionados a este proyecto.","Kevin Moreno","2025-04-07"]
[null,null,null,"20240913m","Actualización de listado de usuarios, se corrigieron errores en los apellidos al momento de descargar los referentes.","Cristian Charris","2024-09-13"]
[null,null,null,"20240911m","Se agrega el proyecto \"HIDROSEDIMENTOLOGIA CORPAMAG 317 - fase 2018 - 2030\" a la lista de proyectos en la hoja \"Otras referencias\" y se actualizó la lista de usuarios.\n\nSe agrega \"Observaciones generales\" en la la hoja \"DIGITADOR\", se toma como referencia este en las \"NOTAS\" de \"MUESTREO\" en la hoja \"configuraciones\" y se oculta la columna de observaciones en la hoja \"DATOS\".\n\nSe agregan las columnas \"ARCILLA\" y \"LIMO\", en la hoja \"DATOS\" y se realizó el mapeo en la hoja de configuración. ","Cristian Charris","2024-11-09"]
[null,null,null,"20240802m","Actualización de la fórmula para generar el ID_MUESTREO en la hoja DATOS, columna C & BU.","Kevin Moreno","2024-02-08"]
[null,null,null,"20240801i","Actualización del código de la macro.\n\nSe eliminó la URL de la antigua API de portete:\n       http://portete.invemar.org.co:7003/ArgosWebServices-RESTWebService-context-root/rest/1.0\n\nFue reemplazada por la URL de la API de ARGOS:\n       https://argos.invemar.org.co/api/\n\nLa API contiene End Points que permiten tener mayor control, facilitan la descarga de referentes (listas de usuarios, estaciones, especies, etc.) que corresponden a criterios específicos como el proyecto usado en la plantilla para evitar descargar data innecesaria.\n\nDel mismo modo, también permite la carga de información a la BDD del INVEMAR.\n\nLa macro toma los Endpoints desde la hoja configuracion de una tabla llamada \"Configuración referentes\", a la que se le puede modificar las rutas de la API o agregar nuevas. cabe resaltar que se puede \"quemar\" directamente en la macro los Endpoints que lo requieran.\n\nSe añadió el proyecto SANTUARIO CGSM a las opciones de DIGITADOR.","Kevin Moreno","2024-01-08"]
[null,null,null,"20240423m","Proyecto CORPAMAG agregado en 'Otras referencias' junto a los usuarios administradores y recolectores de datos que se obtienen al momento de descargar los referentes. Se configuró la macro para descargar los puntos de monitoreo de CORPAMAG.","Kevin Moreno","23/04/2024"]
[null,null,null,"20240131m","Se había cambiado la formula para obtener los id de estaciones en el cambio anterior, ya se corrigió","Zulay Gonzalez","2023-01-31"]
[null,null,null,"20231019m","Se corrigió el mapeo de la hoja configuracion al cambiar el id de unidad de medidas para los ID_PARAMETROS que existen en la BD.","Luz Parra","2023-10-19"]
[null,null,null,"20230307i","Corrección de errores.","Zulay González","2023-03-07"]
[null,null,null,"20200130m","Programación de la plantilla.\nDefinición de las columnas en la hoja de datos.",null,"2020-01-30"]

{"sheet":"configuracion","index":1,"n_rows":98,"n_cols":20,"rows_kept":98,"cut":false,"hidden":true,"merged":[[61,0,61,2],[28,0,35,0],[37,0,42,0],[45,0,45,1],[0,0,2,0],[3,0,5,0],[7,0,8,0],[9,0,15,0],[17,0,21,0],[23,0,26,0]]}
["general","urlServicio","https://argos.invemar.org.co/api/"]
[null,"fila de inicio",6]
[null,"fila de fin",306]
["metodologias","Metodologias",98]
[null,"Referentes",500]
[null,"Cantidad maxima de referentes ",500]
["estaciones/investigadores","proyectos",{"$f":"DIGITADOR!B9","v":""}]
["Lista especies","metodologias"]
[null,"proyectos"]
["MUESTREOS","ID_MUESTREO","DATOS,BU"]
[null,"ID_ESTACION","DATOS,I"]
[null,"ID_PROYECTO","DIGITADOR,B,9"]
[null,"ID_METODOLOGIA",98]
[null,"ID_TEMATICAS",239]
[null,"FECHA","DATOS,F"]
[null,"NOTAS","DIGITADOR,B,18"]
[null,"cantidad",306]
["parametro muestreo","ID_MUESTREO","DATOS,BU","DATOS,BU","DATOS,BU","DATOS,BU","DATOS,BU","DATOS,BU","DATOS,BU","DATOS,BU","DATOS,BU","DATOS,BU","DATOS,BU","DATOS,BU","DATOS,BU","DATOS,BU","DATOS,BU","DATOS,BU","DATOS,BU","DATOS,BU"]
[null,"ID_PARAMETRO",1077,1072,1074,1055,288,1075,576,1076,1170,1079,1098,1084,1140,397,398,399,1158,1159]
[null,"ID_METODOLOGIA",98,98,98,98,98,98,98,98,98,98,98,98,98,98,98,98,98,98]
[null,"ID_UNIDAD_MEDIDA",100,100,100,100,10,126,11,100,100,100,100,100,100,4,4,4,4,4]
[null,"VALOR","DATOS,BY","DATOS,BV","DATOS,BW","DIGITADOR,B,5","DATOS,Q","DATOS,R","DATOS,P","DATOS,BX","DIGITADOR,B,8","DATOS,X","DATOS,CB","DATOS,CA","DATOS,CG","DATOS,AX","DATOS,AY","DATOS,AZ","DATOS,BR","DATOS,BS"]
[null,"cantidad",306,306,306,306,306,306,306,306,306,306,306,306,306,306,306,306,306,306]
["muestra","ID_MUESTRA","MUESTRAS_VARIABLES,B"]
[null,"ID_MUESTREO","MUESTRAS_VARIABLES,A"]
[null,"NOTAS","MUESTRAS_VARIABLES,H"]
[null,"ES_REPLICA",1]
[null,"cantidad",306]
["muestra variable","ID_PARAMETRO",1732,823,1078,459,460,461,462,465,466,1141,1142,597,598,897,1734,1736,1738]
[null,"ID_METODOLOGIA",98,98,98,98,98,98,98,98,98,98,98,98,98,98,98,98,98]
[null,"ID_UNIDAD_MEDIDA",100,45,100,100,100,100,100,100,100,100,100,100,100,100,4,4,4]
[null,"ID_MUESTRA","MUESTRAS_VARIABLES,B","MUESTRAS_VARIABLES,B","MUESTRAS_VARIABLES,B","MUESTRAS_VARIABLES,B","MUESTRAS_VARIABLES,B","MUESTRAS_VARIABLES,B","MUESTRAS_VARIABLES,B","MUESTRAS_VARIABLES,B","MUESTRAS_VARIABLES,B","MUESTRAS_VARIABLES,B","MUESTRAS_VARIABLES,B","MUESTRAS_VARIABLES,B","MUESTRAS_VARIABLES,B","MUESTRAS_VARIABLES,B","MUESTRAS_VARIABLES,B","MUESTRAS_VARIABLES,B","MUESTRAS_VARIABLES,B"]
[null,"ID_METODO"]
[null,"VALOR","MUESTRAS_VARIABLES,E","MUESTRAS_VARIABLES,F","MUESTRAS_VARIABLES,K","MUESTRAS_VARIABLES,Q","MUESTRAS_VARIABLES,R","MUESTRAS_VARIABLES,S","MUESTRAS_VARIABLES,T","MUESTRAS_VARIABLES,U","MUESTRAS_VARIABLES,V","MUESTRAS_VARIABLES,X","MUESTRAS_VARIABLES,W","MUESTRAS_VARIABLES,N","MUESTRAS_VARIABLES,O","MUESTRAS_VARIABLES,P","MUESTRAS_VARIABLES,Y","MUESTRAS_VARIABLES,Z","MUESTRAS_VARIABLES,AA"]
[null,"QUALITY_FLAG","MUESTRAS_VARIABLES,M","MUESTRAS_VARIABLES,M","MUESTRAS_VARIABLES,M","MUESTRAS_VARIABLES,M","MUESTRAS_VARIABLES,M","MUESTRAS_VARIABLES,M","MUESTRAS_VARIABLES,M","MUESTRAS_VARIABLES,M","MUESTRAS_VARIABLES,M","MUESTRAS_VARIABLES,M","MUESTRAS_VARIABLES,M","MUESTRAS_VARIABLES,M","MUESTRAS_VARIABLES,M","MUESTRAS_VARIABLES,M","MUESTRAS_VARIABLES,M","MUESTRAS_VARIABLES,M","MUESTRAS_VARIABLES,M"]
[null,"PRECISION"]
[null,"cantidad",306,306,306,306,306,306,306,306,306,306,306,306,306,306,306,306,306]
["autoria","ID_FUNCIONARIO","DIGITADOR,B,2","DATOS,G"]
[null,"ID_TAREA",5,10]
[null,"ORDEN",1,2]
[null,"FECHA","DIGITADOR,B,7","DATOS,F"]
[null,"ID_MUESTREO","DATOS,BU","DATOS,C"]
[null,"ENTIDAD","INVEMAR","INVEMAR"]
[null,"cantidad",306,306]
[]
["REGISTROS GENERADOS",null,"CARGADOS",null,null,null,"ID_PARAMETRO","ID_UNIDAD_MEDIDA","NOMBRE_COLUMNA"]
["MUESTREOS",null,null,null,null,null,1170,100,"ARCHIVO_FUENTE"]
["parametro muestreo",null,null,null,null,null,1078,100,"COD_MUESTRA_COLECC"]
["muestra",null,null,null,null,null,1079,100,"COD_MUESTRA_PROYECTO"]
["muestra variable",null,null,null,null,null,465,100,"CURTOSIS"]
["autoria",null,null,null,null,null,466,100,"CURTOSIS_DESC"]
["registros correctos",null,null,null,null,null,1734,4,"D10"]
["Fecha de carga",null,null,null,null,null,1736,4,"D50"]
["json error",null,null,null,null,null,1738,4,"D90"]
["error",null,null,null,null,null,1140,100,"GRUPO_TEXTURAL"]
[null,null,null,null,null,null,1072,100,"LAB_ANALISIS"]
[null,null,null,null,null,null,597,100,"LATITUD_DECIMAL"]
["Atributo","Descripción","Código",null,388,"1 - 2 mm",598,100,"LONGITUD_DECIMAL"]
["Tipo Nodo","Estaciones",{"$f":"VLOOKUP(B59,'Otras referencias'!A27:C37,2,FALSE)","v":40},null,389,"0,5 - 1 mm",288,10,"LONGITUD_NUCLEO"]
[null,null,null,null,390,"0,25 - 0,5 mm",459,100,"MEDIA"]
[null,null,null,null,391,"0,125 - 0,25 mm",460,100,"MEDIA_DESC"]
["CONFIGURACION REFERENTES",null,null,null,392,"0,063 - 0,125 mm",1077,100,"METODO_ALMACENA"]
["Ruta de la API","Endpoint","Descripción",null,393,"< 0,063 mm",1074,100,"METODO_COLECTA"]
["URL - AGM Campo",{"$f":"CONCATENATE(\"parametros/agmcampo/\",$C$4,\"\")","v":"parametros/agmcampo/98"},"Listado de referentes AGM_CAMPO",null,397,"% GRAVA",1098,100,"NOMENCLATURA"]
["URL - Especies",{"$f":"IF($C$8=\"\",\"\",CONCATENATE(\"especies/filt/\",$C$9,\",\",$C$8,\"/\"))","v":""},"Especies por proyecto\n(No todos los proyectos tienen asociados una lista de especies)",null,398,"% ARENA",1071,100,"NUM_MUESTRA"]
["URL - Estaciones",{"$f":"CONCATENATE(\"estaciones/\", $C$59, \"/\",$C$9,\"\")","v":"estaciones/40/"},"Estaciones/parcelas por proyecto, cambia dependiendo del Tipo de Nodo, cuyo estado sea VIGENTE.",null,399,"% LODO",1158,4,"PRC_ARCILLA"]
["URL - Usuarios",{"$f":"CONCATENATE(\"parametros/usersByProject/\",$C$7,\"\")","v":"parametros/usersByProject/"},"Usuarios por proyecto.",null,459,"Media",398,4,"PRC_ARENA"]
["URL - Entidades","estaciones/get-entidades","Listado de entidades.",null,460,"Descripcion media",397,4,"PRC_GRAVA"]
["Atributos de la API","codigo_in","nombre_in",null,461,"Selección",1159,4,"PRC_LIMO"]
["Rango de atributos de la API","B70:C71","nombre_in",null,462,"Descripcion seleccion",399,4,"PRC_LODO"]
["URL - Plantillas","plantillas/","Endpoint para la carga de datos al sistema.",null,465,"Kurtosis",576,11,"PROFUNDIDAD"]
[null,null,null,null,466,"Descripcion kurtosis",897,100,"PUNTO"]
[null,null,null,null,470,">2 mm",1084,100,"SECCION_ESTACION"]
[null,null,null,null,549,"0,032 - 0,063 mm",461,100,"SELECCION"]
[null,null,null,null,550,"0,016 - 0,032 mm",462,100,"SELECCION_DESC"]
[null,null,null,null,551,"0,008 - 0,016 mm",1142,100,"SIMETRIA"]
[null,null,null,null,552,"0,004 - 0,008 mm",1141,100,"SIMETRIA_DESC"]
[null,null,null,null,553,"< 0,004 mm",1732,100,"TAMANO_GRANO"]
[null,null,null,null,1071,"Numero de la muestra",1169,100,"URL_METADATO"]
[null,null,null,null,1072,"Laboratorio de  analisis",823,45,"VALOR"]
[null,null,null,null,1074,"Metodo colecta",1055,100,"VERSION_PLANTILLA"]
[null,null,null,null,1078,"Codigo muestra en la coleccion",1075,126,"VOLUMEN_DRAGA"]
[null,null,null,null,1079,"Codigo muestra en el proyecto",1076,100,"ZONA_FISIOGRAFICA"]
[null,null,null,null,1084,"Seccion estacion"]
[null,null,null,null,1089,"2 - 4 mm"]
[null,null,null,null,1090,"4 - 6 mm"]
[null,null,null,null,1091,"6 - 8 mm"]
[null,null,null,null,1092,"8 - 16 mm"]
[null,null,null,null,1093,"16 - 32 mm"]
[null,null,null,null,1094,"32 - 64 mm"]
[null,null,null,null,1095,"64 - 128 mm"]
[null,null,null,null,1096,"128 - 256 mm"]
[null,null,null,null,1097,"> 256 mm"]
[null,null,null,null,1098,"Nomenclatura aplicada"]
[null,null,null,null,1140,"Grupo textural"]
[null,null,null,null,1141,"Descripcion simetria"]
[null,null,null,null,1142,"Simetria"]
[null,null,null,null,1145,"0,063 - 2 mm"]

{"sheet":"DIGITADOR","index":2,"n_rows":30,"n_cols":5,"rows_kept":30,"cut":false,"hidden":false,"merged":[[20,0,20,1],[14,4,16,10],[0,0,0,1],[0,4,5,10],[5,0,6,0],[12,4,13,10],[11,0,11,1],[6,4,11,10],[16,0,16,1]]}
["Plantilla para la Recolección de Datos de                        Granulometria ",null,null,null,"Recomendaciones generales: \n¡Precaución! No inserte Filas o Columnas.\nEn los casos en que falte un valor a ingresar que provenga de la hoja de referencias, informe para que el administrador del sistema haga las adiciones necesarias.\nEsta es una plantilla programada. Las columnas de color oscuro se llenan automaticamente, principalmente a partir de los contenidos de la hoja de referencias. \nNO UTILICE PUNTO Y COMA (;) en ningun campo, por ser el separador de variables (columnas). Tampoco escriba las unidades de medida, no son necesarias.\nPara el correcto funcionamiento de la hoja debe estar activa la opcion de Excel de ejecutar macros (al abrir la hoja acepte la opcion habilitar macros, mensaje de Excel que aparece en la parte superior de la hoja en un recuadro amarillo). La extensión del archivo debe ser .xlsm\nSe recomienda renombrar el archivo de la siguiente manera: Metodología_NombreEstacion_FechaMonitoreo.xlsm"]
["Código del responsable",{"$f":"IF(B3=\"\",\"\",INDEX(referentes!AQ:AR,MATCH(B3,referentes!$AR:$AR,0),1))","v":""}]
["Nombre responsable"]
["Entidad","INVEMAR"]
["Versión de la plantilla",{"$f":"'Registro de cambios'!$D$4","v":"20250407m"}]
["Fecha en la que ingresa los datos en esta hoja","DD/MM/AAAA"]
[null,"3000-12-12",null,null,"Previamente a iniciar el llenado de la plantilla, debe seleccionar el proyecto al que pertenecen los datos que va a diligenciar y luego presionar el botón \"Descargar referentes\" para que los referentes de ésta plantilla sean actualizados. \nLuego de llenar completamente la plantilla, haga clic sobre el botón \"Generar tablas\" para que los datos sean organizados antes de cargarlos al Sistema de Información.\nAntes de presionar el botón \"Generar tablas\" verifique que:\na. No haya celdas con valores como \"#N/A\" o \"#¡REF!\"\nb. No se esten aplicando filtros en la hoja de datos \nPara finalizar, presione el botón \"Cargar datos\"."]
["Nombre del archivo",{"$f":"MID(CELL(\"FILENAME\",N48),FIND(\"[\",CELL(\"FILENAME\",N48))+1,   FIND(\"]\",CELL(\"FILENAME\",N48))-FIND(\"[\",CELL(\"FILENAME\",N48))-1)","v":"GEO_Granulometría_20250407m.xlsm"}]
["Código Proyecto",{"$f":"IF(B10=\"\",\"\",INDEX('Otras referencias'!M7:N28,MATCH(B10,'Otras referencias'!M7:M26,0),2))","v":""}]
["Nombre Proyecto"]
[]
["UNIDAD DE MEDIDA A REPORTAR LOS TAMAÑOS DE GRANOS"]
["Unidad de medida","PESO TAMAÑO DE GRANO (g)",null,null,"Si requiere ayuda contacte a:\nZulay Gonzalez (zulay.gonzalez@invemar.org.co)  - Apoyo técnico software"]
["Cod.Unidad de medida",{"$f":"IF(B13=\"\",\"\",INDEX('Otras referencias'!J7:K8,MATCH(B13,'Otras referencias'!K7:K8,0),1))","v":69}]
[null,null,null,null,"El custodio de los datos es el único autorizado para distribuir este conjunto de datos. El observador y el digitador se comprometen a tomar las medidas necesarias para salvaguardar este conjunto de datos de modo que copia de los mismos no sean obtenidas y/o usadas por terceros no relacionados con el propósito para la cual se recolectó."]
[]
["ATRIBUTOS ADICIONALES"]
["Observaciones generales"]
[]
[]
["REGISTROS GENERADOS",null,"CARGADOS"]
["MUESTREOS",{"$f":"IF(configuracion!B47=\"\",\"\",configuracion!B47)","v":""},{"$f":"IF(configuracion!C47=\"\",\"\",configuracion!C47)","v":""}]
["parametro muestreo",{"$f":"IF(configuracion!B48=\"\",\"\",configuracion!B48)","v":""},{"$f":"IF(configuracion!C48=\"\",\"\",configuracion!C48)","v":""}]
["muestra",{"$f":"IF(configuracion!B49=\"\",\"\",configuracion!B49)","v":""},{"$f":"IF(configuracion!C49=\"\",\"\",configuracion!C49)","v":""}]
["muestra variable",{"$f":"IF(configuracion!B50=\"\",\"\",configuracion!B50)","v":""},{"$f":"IF(configuracion!C50=\"\",\"\",configuracion!C50)","v":""}]
["autoria",{"$f":"IF(configuracion!B51=\"\",\"\",configuracion!B51)","v":""},{"$f":"IF(configuracion!C51=\"\",\"\",configuracion!C51)","v":""}]
["registros correctos",{"$f":"IF(configuracion!B52=\"\",\"\",configuracion!B52)","v":""},{"$f":"IF(configuracion!C52=\"\",\"\",configuracion!C52)","v":""}]
["Fecha de carga",{"$f":"IF(configuracion!B53=\"\",\"\",configuracion!B53)","v":""},{"$f":"IF(configuracion!C53=\"\",\"\",configuracion!C53)","v":""}]
["json error",{"$f":"IF(configuracion!B54=\"\",\"\",configuracion!B54)","v":""},{"$f":"IF(configuracion!C54=\"\",\"\",configuracion!C54)","v":""}]
["error",{"$f":"IF(configuracion!B55=\"\",\"\",configuracion!B55)","v":""},{"$f":"IF(configuracion!C55=\"\",\"\",configuracion!C55)","v":""}]

{"sheet":"DATOS","index":3,"n_rows":306,"n_cols":88,"rows_kept":306,"cut":false,"hidden":false,"merged":[[3,87,4,87],[3,74,4,74],[3,79,4,79],[3,78,4,78],[3,80,4,80],[3,81,4,81],[3,86,4,86],[3,85,4,85],[3,84,4,84],[3,82,4,82],[3,83,4,83],[3,21,4,21],[3,49,4,49],[3,31,4,31],[3,1,4,1],[3,2,4,2],[3,3,4,3],[3,4,4,4],[3,5,4,5],[3,6,4,6],[3,7,4,7],[3,9,4,9],[3,8,4,8],[3,10,4,10],[3,11,4,11],[3,12,4,12],[3,35,4,35],[3,62,4,62],[3,63,4,63],[3,64,4,64],[1,25,1,46],[1,49,1,51],[3,25,4,25],[3,26,4,26],[3,27,4,27],[3,28,4,28],[3,29,4,29],[3,30,4,30],[3,56,4,56],[3,53,4,53],[3,51,4,51],[3,61,4,61],[3,34,4,34],[3,67,4,67],[3,77,4,77],[3,76,4,76],[3,75,4,75],[3,71,4,71],[3,72,4,72],[3,73,4,73],[3,68,4,68],[3,69,4,69],[3,70,4,70],[3,66,4,66],[3,65,4,65],[3,20,4,20],[3,14,4,14],[3,13,4,13],[3,15,4,15],[3,16,4,16],[3,17,4,17],[3,19,4,19],[3,18,4,18],[3,55,4,55],[3,22,4,22],[3,24,4,24],[3,38,4,38],[3,39,4,39],[3,33,4,33],[3,36,4,36],[3,37,4,37],[3,52,4,52],[3,48,4,48],[3,23,4,23],[1,69,1,70],[3,58,4,58],[3,59,4,59],[3,60,4,60],[3,32,4,32],[3,40,4,40],[3,41,4,41],[3,42,4,42],[3,43,4,43],[3,44,4,44],[3,50,4,50],[3,45,4,45],[3,46,4,46],[3,47,4,47],[3,57,4,57],[3,54,4,54]]}
[1,2,3,4,5,6,7,8,9,10,11,12,13,14,15,16,17,18,19,20,21,22,23,24,25,26,27,28,29,30,31,32,33,34,35,36,37,38,39,40,41,42,43,44,45,46,47,48,49,50,51,52,53,54,55,56,57,58,59,60,61,62,63,64,65,66,67,68,69,70,71,72,73,74,75,76,77,78,79,80,81,82,83,84,85,86,87,88]
[null,null,null,null,null,null,null,null,null,null,null,null,null,null,null,null,null,null,null,null,null,null,null,null,null,"TAMAÑO DE GRANO RETENIDO EN EL TAMIZ",null,null,null,null,null,null,null,null,null,null,null,null,null,null,null,null,null,null,null,null,null,null,null,"PORCENTAJE GRUPO TEXTURAL (%) ",null,null,null,null,null,null,null,null,null,null,null,null,null,null,null,null,null,null,null,"PORCENTAJE GRUPO TEXTURAL (%) "]
[{"$f":"TEXT(DIGITADOR!B7,\"YYYYMMDD\")","v":"30001212"},null,null,null,null,null,null,null,null,null,null,null,null,null,null,null,null,null,null,null,null,null,null,null,null,{"$f":"IF(Z$4=\"\",\"\",INDEX(referentes!$AH:$AI,MATCH(Z$4,referentes!$AI:$AI,0),1))","v":553},{"$f":"IF(AA$4=\"\",\"\",INDEX(referentes!$AH:$AI,MATCH(AA$4,referentes!$AI:$AI,0),1))","v":552},{"$f":"IF(AB$4=\"\",\"\",INDEX(referentes!$AH:$AI,MATCH(AB$4,referentes!$AI:$AI,0),1))","v":551},{"$f":"IF(AC$4=\"\",\"\",INDEX(referentes!$AH:$AI,MATCH(AC$4,referentes!$AI:$AI,0),1))","v":550},{"$f":"IF(AD$4=\"\",\"\",INDEX(referentes!$AH:$AI,MATCH(AD$4,referentes!$AI:$AI,0),1))","v":549},{"$f":"IF(AE$4=\"\",\"\",INDEX(referentes!$AH:$AI,MATCH(AE$4,referentes!$AI:$AI,0),1))","v":393},{"$f":"IF(AF$4=\"\",\"\",INDEX(referentes!$AH:$AI,MATCH(AF$4,referentes!$AI:$AI,0),1))","v":392},{"$f":"IF(AG$4=\"\",\"\",INDEX(referentes!$AH:$AI,MATCH(AG$4,referentes!$AI:$AI,0),1))","v":391},{"$f":"IF(AH$4=\"\",\"\",INDEX(referentes!$AH:$AI,MATCH(AH$4,referentes!$AI:$AI,0),1))","v":390},{"$f":"IF(AI$4=\"\",\"\",INDEX(referentes!$AH:$AI,MATCH(AI$4,referentes!$AI:$AI,0),1))","v":389},{"$f":"IF(AJ$4=\"\",\"\",INDEX(referentes!$AH:$AI,MATCH(AJ$4,referentes!$AI:$AI,0),1))","v":388},{"$f":"IF(AK$4=\"\",\"\",INDEX(referentes!$AH:$AI,MATCH(AK$4,referentes!$AI:$AI,0),1))","v":1145},{"$f":"IF(AL$4=\"\",\"\",INDEX(referentes!$AH:$AI,MATCH(AL$4,referentes!$AI:$AI,0),1))","v":470},{"$f":"IF(AM$4=\"\",\"\",INDEX(referentes!$AH:$AI,MATCH(AM$4,referentes!$AI:$AI,0),1))","v":1089},{"$f":"IF(AN$4=\"\",\"\",INDEX(referentes!$AH:$AI,MATCH(AN$4,referentes!$AI:$AI,0),1))","v":1090},{"$f":"IF(AO$4=\"\",\"\",INDEX(referentes!$AH:$AI,MATCH(AO$4,referentes!$AI:$AI,0),1))","v":1091},{"$f":"IF(AP$4=\"\",\"\",INDEX(referentes!$AH:$AI,MATCH(AP$4,referentes!$AI:$AI,0),1))","v":1092},{"$f":"IF(AQ$4=\"\",\"\",INDEX(referentes!$AH:$AI,MATCH(AQ$4,referentes!$AI:$AI,0),1))","v":1093},{"$f":"IF(AR$4=\"\",\"\",INDEX(referentes!$AH:$AI,MATCH(AR$4,referentes!$AI:$AI,0),1))","v":1094},{"$f":"IF(AS$4=\"\",\"\",INDEX(referentes!$AH:$AI,MATCH(AS$4,referentes!$AI:$AI,0),1))","v":1095},{"$f":"IF(AT$4=\"\",\"\",INDEX(referentes!$AH:$AI,MATCH(AT$4,referentes!$AI:$AI,0),1))","v":1096},{"$f":"IF(AU$4=\"\",\"\",INDEX(referentes!$AH:$AI,MATCH(AU$4,referentes!$AI:$AI,0),1))","v":1097}]
[{"$f":"DIGITADOR!$B$2","v":""},"CODIGO","COD\nMUESTREO","FECHA MUESTREO   (DD/MM/AAAA)","HORA        (HH:MM)","FECHA+HORA","COD INVESTIGADOR","INVESTIGADOR"," COD ESTACION","ESTACION","LATITUD","LONGITUD","PUNTO","LABORATORIO RESPONSABLE","METODO COLECTA","PROFUNDIDAD(m)","LONG MECANISMO NUCLEO(cm)","VOLUMEN    DRAGA(cm3)","ZONA FISIOGRAFICA","METODO ALMACENAMIENTO","OBSERVACIONES MUESTRA","NUM MUESTRA","COD MUESTRA COLECCIÓN","COD MUESTRA PROYECTO ","SECCION","< 0,004 mm","0,004 - 0,008 mm","0,008 - 0,016 mm","0,016 - 0,032 mm","0,032 - 0,063 mm","< 0,063 mm","0,063 - 0,125 mm","0,125 - 0,25 mm","0,25 - 0,5 mm","0,5 - 1 mm","1 - 2 mm","0,063 - 2 mm",">2 mm","2 - 4 mm","4 - 6 mm","6 - 8 mm","8 - 16 mm","16 - 32 mm","32 - 64 mm","64 - 128 mm","128 - 256 mm","> 256 mm","UNIDAD DE MEDIDA","TOTAL","GRAVA","ARENA","LODO","PORCENTAJE TOTAL","GRUPO TEXTURAL","MEDIA","SELECCIÓN","SIMETRIA","CURTOSIS","D10","D50","D90","DESCRIPCION MEDIA ","DESCRIPCION SELECCIÓN","DESCRIPCION SIMETRIA","DESCRIPCION CURTOSIS","METODO APLICADO","NOMENCLATURA APLICADA","OBSERVACIONES MUESTRA","QUALITY_FLAG","ARCILLA","LIMO","ID_MUESTRA","ID_MUESTREO (AGD_MUESTREOS)","COD LAB_ANALISIS","COD METODO_COLECTA","COD ZONA_GEOGRAFICA","COD METODO_ALMACENA","UNIKE_KEY","COD SECCION","COD NOMENCLATURA_A","COD MEDIA_DESC ","COD SELECCIÓN_DESC","COD SIMETRIA_DESC","COD CURTOSIS_DESC","COD GRUP_TEXTURAL","COD QUALITY_FLAG","COD METODO_APLICADO","CONCATENACIÓN FECHA+CODESTAC"]
[]
[1,{"$f":"IF(BZ6=\"\",\"\",IF(BZ6=BZ5,B5,B5+1))","v":""},{"$f":"IF(E6<>\"\",CONCATENATE(DIGITADOR!$M$1,TEXT(D6, \"YYYYMMDD\"),ROW()-5),\"\")","v":""},null,null,{"$f":"IF(D6<>\"\",D6+E6,\"\")","v":""},{"$f":"IF(H6=\"\",\"\",INDEX(referentes!AQ:AR,MATCH(H6,referentes!$AR:$AR,0),1))","v":""},null,{"$f":"IF(J6=\"\",\"\",VLOOKUP(J6,referentes!$AL$2:$AO$29,3,FALSE))","v":""},null,null,null,null,null,null,null,null,null,null,null,null,{"$f":"IF(W6=\"\",\"\",IF(W6=W3,B3,B3+1))","v":""},null,null,null,null,null,null,null,null,null,null,null,null,null,null,null,null,null,null,null,null,null,null,null,null,null,{"$f":"IF(AW6=\"\",\"\",DIGITADOR!$B$14)","v":""},{"$f":"IF(SUM(Z6:AU6)=0,\"\",SUM(Z6:AU6))","v":""},null,null,null,{"$f":"IF(SUM(AX6:AZ6)=0,\"\",SUM(AX6:AZ6))","v":""},null,null,null,null,null,null,null,null,null,null,null,null,null,null,null,null,null,null,{"$f":"IF(D6=\"\",\"\",CONCATENATE(C6,V6,B6))","v":""},{"$f":"IF(C6=\"\",\"\",IF(COUNTIF($C$6:C6, C6)>1, \"\", C6))","v":""},{"$f":"IF(N6=\"\",\"\",INDEX(referentes!P:Q,MATCH(N6,referentes!$Q:$Q,0),1))","v":""},{"$f":"IF(O6=\"\",\"\",INDEX(referentes!$A:$B,MATCH(O6,referentes!$B:$B,0),1))","v":""},{"$f":"IF(S6=\"\",\"\",INDEX(referentes!D:E,MATCH(S6,referentes!$E:$E,0),1))","v":""},{"$f":"IF(T6=\"\",\"\",INDEX(referentes!G:H,MATCH(T6,referentes!$H:$H,0),1))","v":""},{"$f":"CONCATENATE(F6,G6,I6,BV6,BW6,BX6,BY6,P6,Q6,R6)","v":""},{"$f":"IF(Y6=\"\",\"\",INDEX(referentes!S:T,MATCH(Y6,referentes!$T:$T,0),1))","v":""},{"$f":"IF(BO6=\"\",\"\",INDEX(referentes!J:K,MATCH(BO6,referentes!$K:$K,0),1))","v":""},{"$f":"IF(BJ6=\"\",\"\",INDEX(referentes!V:W,MATCH(BJ6,referentes!$W:$W,0),1))","v":""},{"$f":"IF(BK6=\"\",\"\",INDEX(referentes!Y:Z,MATCH(BK6,referentes!$Z:$Z,0),1))","v":""},{"$f":"IF(BL6=\"\",\"\",INDEX(referentes!AB:AC,MATCH(BL6,referentes!$AC:$AC,0),1))","v":""},{"$f":"IF(BM6=\"\",\"\",INDEX(referentes!AE:AF,MATCH(BM6,referentes!$AF:$AF,0),1))","v":""},{"$f":"IF(BB6=\"\",\"\",INDEX(referentes!M:N,MATCH(BB6,referentes!$N:$N,0),1))","v":""},{"$f":"IF(BQ6=\"\",\"\",INDEX('Otras referencias'!S:T,MATCH(BQ6,'Otras referencias'!$T:$T,0),1))","v":""},{"$f":"IF(BN6=\"\",\"\",INDEX('Otras referencias'!A:B,MATCH(BN6,'Otras referencias'!$B:$B,0),1))","v":""},{"$f":"IF(D6=\"\",\"\",CONCATENATE(TEXT(D6,\"YYYYMMDD\"),I6))","v":""}]
[{"$f":"IF(CJ7=CJ6,A6,A6+1)","v":1},{"$f":"IF(BZ7=\"\",\"\",IF(BZ7=BZ6,B6,B6+1))","v":""},{"$f":"IF(E7<>\"\",CONCATENATE(DIGITADOR!$M$1,TEXT(D7, \"YYYYMMDD\"),ROW()-5),\"\")","v":""},null,null,{"$f":"IF(D7<>\"\",D7+E7,\"\")","v":""},{"$f":"IF(H7=\"\",\"\",INDEX(referentes!AQ:AR,MATCH(H7,referentes!$AR:$AR,0),1))","v":""},null,{"$f":"IF(J7=\"\",\"\",VLOOKUP(J7,referentes!$AL$2:$AO$29,3,FALSE))","v":""},null,null,null,null,null,null,null,null,null,null,null,null,{"$f":"IF(W7=\"\",\"\",IF(W7=W6,B6,B6+1))","v":""},null,null,null,null,null,null,null,null,null,null,null,null,null,null,null,null,null,null,null,null,null,null,null,null,null,{"$f":"IF(AW7=\"\",\"\",DIGITADOR!$B$14)","v":""},{"$f":"IF(SUM(Z7:AU7)=0,\"\",SUM(Z7:AU7))","v":""},null,null,null,{"$f":"IF(SUM(AX7:AZ7)=0,\"\",SUM(AX7:AZ7))","v":""},null,null,null,null,null,null,null,null,null,null,null,null,null,null,null,null,null,null,{"$f":"IF(D7=\"\",\"\",CONCATENATE(C7,V7,B7))","v":""},{"$f":"IF(C7=\"\",\"\",IF(COUNTIF($C$6:C7, C7)>1, \"\", C7))","v":""},{"$f":"IF(N7=\"\",\"\",INDEX(referentes!P:Q,MATCH(N7,referentes!$Q:$Q,0),1))","v":""},{"$f":"IF(O7=\"\",\"\",INDEX(referentes!$A:$B,MATCH(O7,referentes!$B:$B,0),1))","v":""},{"$f":"IF(S7=\"\",\"\",INDEX(referentes!D:E,MATCH(S7,referentes!$E:$E,0),1))","v":""},{"$f":"IF(T7=\"\",\"\",INDEX(referentes!G:H,MATCH(T7,referentes!$H:$H,0),1))","v":""},{"$f":"CONCATENATE(F7,G7,I7,BV7,BW7,BX7,BY7,P7,Q7,R7)","v":""},{"$f":"IF(Y7=\"\",\"\",INDEX(referentes!S:T,MATCH(Y7,referentes!$T:$T,0),1))","v":""},{"$f":"IF(BO7=\"\",\"\",INDEX(referentes!J:K,MATCH(BO7,referentes!$K:$K,0),1))","v":""},{"$f":"IF(BJ7=\"\",\"\",INDEX(referentes!V:W,MATCH(BJ7,referentes!$W:$W,0),1))","v":""},{"$f":"IF(BK7=\"\",\"\",INDEX(referentes!Y:Z,MATCH(BK7,referentes!$Z:$Z,0),1))","v":""},{"$f":"IF(BL7=\"\",\"\",INDEX(referentes!AB:AC,MATCH(BL7,referentes!$AC:$AC,0),1))","v":""},{"$f":"IF(BM7=\"\",\"\",INDEX(referentes!AE:AF,MATCH(BM7,referentes!$AF:$AF,0),1))","v":""},{"$f":"IF(BB7=\"\",\"\",INDEX(referentes!M:N,MATCH(BB7,referentes!$N:$N,0),1))","v":""},{"$f":"IF(BQ7=\"\",\"\",INDEX('Otras referencias'!S:T,MATCH(BQ7,'Otras referencias'!$T:$T,0),1))","v":""},{"$f":"IF(BN7=\"\",\"\",INDEX('Otras referencias'!A:B,MATCH(BN7,'Otras referencias'!$B:$B,0),1))","v":""},{"$f":"IF(D7=\"\",\"\",CONCATENATE(TEXT(D7,\"YYYYMMDD\"),I7))","v":""}]
[1,"",{"$f":"IF(E8<>\"\",CONCATENATE(DIGITADOR!$M$1,TEXT(D8, \"YYYYMMDD\"),ROW()-5),\"\")","v":""},null,null,"",{"$f":"IF(H8=\"\",\"\",INDEX(referentes!AQ:AR,MATCH(H8,referentes!$AR:$AR,0),1))","v":""},null,{"$f":"IF(J8=\"\",\"\",VLOOKUP(J8,referentes!$AL$2:$AO$29,3,FALSE))","v":""},null,null,null,null,null,null,null,null,null,null,null,null,"",null,null,null,null,null,null,null,null,null,null,null,null,null,null,null,null,null,null,null,null,null,null,null,null,null,{"$f":"IF(AW8=\"\",\"\",DIGITADOR!$B$14)","v":""},"",null,null,null,"",null,null,null,null,null,null,null,null,null,null,null,null,null,null,null,null,null,null,"",{"$f":"IF(C8=\"\",\"\",IF(COUNTIF($C$6:C8, C8)>1, \"\", C8))","v":""},{"$f":"IF(N8=\"\",\"\",INDEX(referentes!P:Q,MATCH(N8,referentes!$Q:$Q,0),1))","v":""},{"$f":"IF(O8=\"\",\"\",INDEX(referentes!$A:$B,MATCH(O8,referentes!$B:$B,0),1))","v":""},{"$f":"IF(S8=\"\",\"\",INDEX(referentes!D:E,MATCH(S8,referentes!$E:$E,0),1))","v":""},{"$f":"IF(T8=\"\",\"\",INDEX(referentes!G:H,MATCH(T8,referentes!$H:$H,0),1))","v":""},"",{"$f":"IF(Y8=\"\",\"\",INDEX(referentes!S:T,MATCH(Y8,referentes!$T:$T,0),1))","v":""},{"$f":"IF(BO8=\"\",\"\",INDEX(referentes!J:K,MATCH(BO8,referentes!$K:$K,0),1))","v":""},{"$f":"IF(BJ8=\"\",\"\",INDEX(referentes!V:W,MATCH(BJ8,referentes!$W:$W,0),1))","v":""},{"$f":"IF(BK8=\"\",\"\",INDEX(referentes!Y:Z,MATCH(BK8,referentes!$Z:$Z,0),1))","v":""},{"$f":"IF(BL8=\"\",\"\",INDEX(referentes!AB:AC,MATCH(BL8,referentes!$AC:$AC,0),1))","v":""},{"$f":"IF(BM8=\"\",\"\",INDEX(referentes!AE:AF,MATCH(BM8,referentes!$AF:$AF,0),1))","v":""},{"$f":"IF(BB8=\"\",\"\",INDEX(referentes!M:N,MATCH(BB8,referentes!$N:$N,0),1))","v":""},{"$f":"IF(BQ8=\"\",\"\",INDEX('Otras referencias'!S:T,MATCH(BQ8,'Otras referencias'!$T:$T,0),1))","v":""},{"$f":"IF(BN8=\"\",\"\",INDEX('Otras referencias'!A:B,MATCH(BN8,'Otras referencias'!$B:$B,0),1))","v":""},""]
[1,"",{"$f":"IF(E9<>\"\",CONCATENATE(DIGITADOR!$M$1,TEXT(D9, \"YYYYMMDD\"),ROW()-5),\"\")","v":""},null,null,"",{"$f":"IF(H9=\"\",\"\",INDEX(referentes!AQ:AR,MATCH(H9,referentes!$AR:$AR,0),1))","v":""},null,{"$f":"IF(J9=\"\",\"\",VLOOKUP(J9,referentes!$AL$2:$AO$29,3,FALSE))","v":""},null,null,null,null,null,null,null,null,null,null,null,null,"",null,null,null,null,null,null,null,null,null,null,null,null,null,null,null,null,null,null,null,null,null,null,null,null,null,{"$f":"IF(AW9=\"\",\"\",DIGITADOR!$B$14)","v":""},"",null,null,null,"",null,null,null,null,null,null,null,null,null,null,null,null,null,null,null,null,null,null,"",{"$f":"IF(C9=\"\",\"\",IF(COUNTIF($C$6:C9, C9)>1, \"\", C9))","v":""},{"$f":"IF(N9=\"\",\"\",INDEX(referentes!P:Q,MATCH(N9,referentes!$Q:$Q,0),1))","v":""},{"$f":"IF(O9=\"\",\"\",INDEX(referentes!$A:$B,MATCH(O9,referentes!$B:$B,0),1))","v":""},{"$f":"IF(S9=\"\",\"\",INDEX(referentes!D:E,MATCH(S9,referentes!$E:$E,0),1))","v":""},{"$f":"IF(T9=\"\",\"\",INDEX(referentes!G:H,MATCH(T9,referentes!$H:$H,0),1))","v":""},"",{"$f":"IF(Y9=\"\",\"\",INDEX(referentes!S:T,MATCH(Y9,referentes!$T:$T,0),1))","v":""},{"$f":"IF(BO9=\"\",\"\",INDEX(referentes!J:K,MATCH(BO9,referentes!$K:$K,0),1))","v":""},{"$f":"IF(BJ9=\"\",\"\",INDEX(referentes!V:W,MATCH(BJ9,referentes!$W:$W,0),1))","v":""},{"$f":"IF(BK9=\"\",\"\",INDEX(referentes!Y:Z,MATCH(BK9,referentes!$Z:$Z,0),1))","v":""},{"$f":"IF(BL9=\"\",\"\",INDEX(referentes!AB:AC,MATCH(BL9,referentes!$AC:$AC,0),1))","v":""},{"$f":"IF(BM9=\"\",\"\",INDEX(referentes!AE:AF,MATCH(BM9,referentes!$AF:$AF,0),1))","v":""},{"$f":"IF(BB9=\"\",\"\",INDEX(referentes!M:N,MATCH(BB9,referentes!$N:$N,0),1))","v":""},{"$f":"IF(BQ9=\"\",\"\",INDEX('Otras referencias'!S:T,MATCH(BQ9,'Otras referencias'!$T:$T,0),1))","v":""},{"$f":"IF(BN9=\"\",\"\",INDEX('Otras referencias'!A:B,MATCH(BN9,'Otras referencias'!$B:$B,0),1))","v":""},""]
[1,{"$f":"IF(BZ10=\"\",\"\",IF(BZ10=BZ9,B9,B9+1))","v":""},{"$f":"IF(E10<>\"\",CONCATENATE(DIGITADOR!$M$1,TEXT(D10, \"YYYYMMDD\"),ROW()-5),\"\")","v":""},null,null,"",{"$f":"IF(H10=\"\",\"\",INDEX(referentes!AQ:AR,MATCH(H10,referentes!$AR:$AR,0),1))","v":""},null,{"$f":"IF(J10=\"\",\"\",VLOOKUP(J10,referentes!$AL$2:$AO$29,3,FALSE))","v":""},null,null,null,null,null,null,null,null,null,null,null,null,"",null,null,null,null,null,null,null,null,null,null,null,null,null,null,null,null,null,null,null,null,null,null,null,null,null,{"$f":"IF(AW10=\"\",\"\",DIGITADOR!$B$14)","v":""},"",null,null,null,"",null,null,null,null,null,null,null,null,null,null,null,null,null,null,null,null,null,null,"",{"$f":"IF(C10=\"\",\"\",IF(COUNTIF($C$6:C10, C10)>1, \"\", C10))","v":""},{"$f":"IF(N10=\"\",\"\",INDEX(referentes!P:Q,MATCH(N10,referentes!$Q:$Q,0),1))","v":""},{"$f":"IF(O10=\"\",\"\",INDEX(referentes!$A:$B,MATCH(O10,referentes!$B:$B,0),1))","v":""},{"$f":"IF(S10=\"\",\"\",INDEX(referentes!D:E,MATCH(S10,referentes!$E:$E,0),1))","v":""},{"$f":"IF(T10=\"\",\"\",INDEX(referentes!G:H,MATCH(T10,referentes!$H:$H,0),1))","v":""},"",{"$f":"IF(Y10=\"\",\"\",INDEX(referentes!S:T,MATCH(Y10,referentes!$T:$T,0),1))","v":""},{"$f":"IF(BO10=\"\",\"\",INDEX(referentes!J:K,MATCH(BO10,referentes!$K:$K,0),1))","v":""},{"$f":"IF(BJ10=\"\",\"\",INDEX(referentes!V:W,MATCH(BJ10,referentes!$W:$W,0),1))","v":""},{"$f":"IF(BK10=\"\",\"\",INDEX(referentes!Y:Z,MATCH(BK10,referentes!$Z:$Z,0),1))","v":""},{"$f":"IF(BL10=\"\",\"\",INDEX(referentes!AB:AC,MATCH(BL10,referentes!$AC:$AC,0),1))","v":""},{"$f":"IF(BM10=\"\",\"\",INDEX(referentes!AE:AF,MATCH(BM10,referentes!$AF:$AF,0),1))","v":""},{"$f":"IF(BB10=\"\",\"\",INDEX(referentes!M:N,MATCH(BB10,referentes!$N:$N,0),1))","v":""},{"$f":"IF(BQ10=\"\",\"\",INDEX('Otras referencias'!S:T,MATCH(BQ10,'Otras referencias'!$T:$T,0),1))","v":""},{"$f":"IF(BN10=\"\",\"\",INDEX('Otras referencias'!A:B,MATCH(BN10,'Otras referencias'!$B:$B,0),1))","v":""},""]
[1,"",{"$f":"IF(E11<>\"\",CONCATENATE(DIGITADOR!$M$1,TEXT(D11, \"YYYYMMDD\"),ROW()-5),\"\")","v":""},null,null,"",{"$f":"IF(H11=\"\",\"\",INDEX(referentes!AQ:AR,MATCH(H11,referentes!$AR:$AR,0),1))","v":""},null,{"$f":"IF(J11=\"\",\"\",VLOOKUP(J11,referentes!$AL$2:$AO$29,3,FALSE))","v":""},null,null,null,null,null,null,null,null,null,null,null,null,"",null,null,null,null,null,null,null,null,null,null,null,null,null,null,null,null,null,null,null,null,null,null,null,null,null,{"$f":"IF(AW11=\"\",\"\",DIGITADOR!$B$14)","v":""},"",null,null,null,"",null,null,null,null,null,null,null,null,null,null,null,null,null,null,null,null,null,null,"",{"$f":"IF(C11=\"\",\"\",IF(COUNTIF($C$6:C11, C11)>1, \"\", C11))","v":""},{"$f":"IF(N11=\"\",\"\",INDEX(referentes!P:Q,MATCH(N11,referentes!$Q:$Q,0),1))","v":""},{"$f":"IF(O11=\"\",\"\",INDEX(referentes!$A:$B,MATCH(O11,referentes!$B:$B,0),1))","v":""},{"$f":"IF(S11=\"\",\"\",INDEX(referentes!D:E,MATCH(S11,referentes!$E:$E,0),1))","v":""},{"$f":"IF(T11=\"\",\"\",INDEX(referentes!G:H,MATCH(T11,referentes!$H:$H,0),1))","v":""},"",{"$f":"IF(Y11=\"\",\"\",INDEX(referentes!S:T,MATCH(Y11,referentes!$T:$T,0),1))","v":""},{"$f":"IF(BO11=\"\",\"\",INDEX(referentes!J:K,MATCH(BO11,referentes!$K:$K,0),1))","v":""},{"$f":"IF(BJ11=\"\",\"\",INDEX(referentes!V:W,MATCH(BJ11,referentes!$W:$W,0),1))","v":""},{"$f":"IF(BK11=\"\",\"\",INDEX(referentes!Y:Z,MATCH(BK11,referentes!$Z:$Z,0),1))","v":""},{"$f":"IF(BL11=\"\",\"\",INDEX(referentes!AB:AC,MATCH(BL11,referentes!$AC:$AC,0),1))","v":""},{"$f":"IF(BM11=\"\",\"\",INDEX(referentes!AE:AF,MATCH(BM11,referentes!$AF:$AF,0),1))","v":""},{"$f":"IF(BB11=\"\",\"\",INDEX(referentes!M:N,MATCH(BB11,referentes!$N:$N,0),1))","v":""},{"$f":"IF(BQ11=\"\",\"\",INDEX('Otras referencias'!S:T,MATCH(BQ11,'Otras referencias'!$T:$T,0),1))","v":""},{"$f":"IF(BN11=\"\",\"\",INDEX('Otras referencias'!A:B,MATCH(BN11,'Otras referencias'!$B:$B,0),1))","v":""},""]
[1,"",{"$f":"IF(E12<>\"\",CONCATENATE(DIGITADOR!$M$1,TEXT(D12, \"YYYYMMDD\"),ROW()-5),\"\")","v":""},null,null,"",{"$f":"IF(H12=\"\",\"\",INDEX(referentes!AQ:AR,MATCH(H12,referentes!$AR:$AR,0),1))","v":""},null,{"$f":"IF(J12=\"\",\"\",VLOOKUP(J12,referentes!$AL$2:$AO$29,3,FALSE))","v":""},null,null,null,null,null,null,null,null,null,null,null,null,"",null,null,null,null,null,null,null,null,null,null,null,null,null,null,null,null,null,null,null,null,null,null,null,null,null,{"$f":"IF(AW12=\"\",\"\",DIGITADOR!$B$14)","v":""},"",null,null,null,"",null,null,null,null,null,null,null,null,null,null,null,null,null,null,null,null,null,null,"",{"$f":"IF(C12=\"\",\"\",IF(COUNTIF($C$6:C12, C12)>1, \"\", C12))","v":""},{"$f":"IF(N12=\"\",\"\",INDEX(referentes!P:Q,MATCH(N12,referentes!$Q:$Q,0),1))","v":""},{"$f":"IF(O12=\"\",\"\",INDEX(referentes!$A:$B,MATCH(O12,referentes!$B:$B,0),1))","v":""},{"$f":"IF(S12=\"\",\"\",INDEX(referentes!D:E,MATCH(S12,referentes!$E:$E,0),1))","v":""},{"$f":"IF(T12=\"\",\"\",INDEX(referentes!G:H,MATCH(T12,referentes!$H:$H,0),1))","v":""},"",{"$f":"IF(Y12=\"\",\"\",INDEX(referentes!S:T,MATCH(Y12,referentes!$T:$T,0),1))","v":""},{"$f":"IF(BO12=\"\",\"\",INDEX(referentes!J:K,MATCH(BO12,referentes!$K:$K,0),1))","v":""},{"$f":"IF(BJ12=\"\",\"\",INDEX(referentes!V:W,MATCH(BJ12,referentes!$W:$W,0),1))","v":""},{"$f":"IF(BK12=\"\",\"\",INDEX(referentes!Y:Z,MATCH(BK12,referentes!$Z:$Z,0),1))","v":""},{"$f":"IF(BL12=\"\",\"\",INDEX(referentes!AB:AC,MATCH(BL12,referentes!$AC:$AC,0),1))","v":""},{"$f":"IF(BM12=\"\",\"\",INDEX(referentes!AE:AF,MATCH(BM12,referentes!$AF:$AF,0),1))","v":""},{"$f":"IF(BB12=\"\",\"\",INDEX(referentes!M:N,MATCH(BB12,referentes!$N:$N,0),1))","v":""},{"$f":"IF(BQ12=\"\",\"\",INDEX('Otras referencias'!S:T,MATCH(BQ12,'Otras referencias'!$T:$T,0),1))","v":""},{"$f":"IF(BN12=\"\",\"\",INDEX('Otras referencias'!A:B,MATCH(BN12,'Otras referencias'!$B:$B,0),1))","v":""},""]
[1,"",{"$f":"IF(E13<>\"\",CONCATENATE(DIGITADOR!$M$1,TEXT(D13, \"YYYYMMDD\"),ROW()-5),\"\")","v":""},null,null,"",{"$f":"IF(H13=\"\",\"\",INDEX(referentes!AQ:AR,MATCH(H13,referentes!$AR:$AR,0),1))","v":""},null,{"$f":"IF(J13=\"\",\"\",VLOOKUP(J13,referentes!$AL$2:$AO$29,3,FALSE))","v":""},null,null,null,null,null,null,null,null,null,null,null,null,"",null,null,null,null,null,null,null,null,null,null,null,null,null,null,null,null,null,null,null,null,null,null,null,null,null,{"$f":"IF(AW13=\"\",\"\",DIGITADOR!$B$14)","v":""},"",null,null,null,"",null,null,null,null,null,null,null,null,null,null,null,null,null,null,null,null,null,null,"",{"$f":"IF(C13=\"\",\"\",IF(COUNTIF($C$6:C13, C13)>1, \"\", C13))","v":""},{"$f":"IF(N13=\"\",\"\",INDEX(referentes!P:Q,MATCH(N13,referentes!$Q:$Q,0),1))","v":""},{"$f":"IF(O13=\"\",\"\",INDEX(referentes!$A:$B,MATCH(O13,referentes!$B:$B,0),1))","v":""},{"$f":"IF(S13=\"\",\"\",INDEX(referentes!D:E,MATCH(S13,referentes!$E:$E,0),1))","v":""},{"$f":"IF(T13=\"\",\"\",INDEX(referentes!G:H,MATCH(T13,referentes!$H:$H,0),1))","v":""},"",{"$f":"IF(Y13=\"\",\"\",INDEX(referentes!S:T,MATCH(Y13,referentes!$T:$T,0),1))","v":""},{"$f":"IF(BO13=\"\",\"\",INDEX(referentes!J:K,MATCH(BO13,referentes!$K:$K,0),1))","v":""},{"$f":"IF(BJ13=\"\",\"\",INDEX(referentes!V:W,MATCH(BJ13,referentes!$W:$W,0),1))","v":""},{"$f":"IF(BK13=\"\",\"\",INDEX(referentes!Y:Z,MATCH(BK13,referentes!$Z:$Z,0),1))","v":""},{"$f":"IF(BL13=\"\",\"\",INDEX(referentes!AB:AC,MATCH(BL13,referentes!$AC:$AC,0),1))","v":""},{"$f":"IF(BM13=\"\",\"\",INDEX(referentes!AE:AF,MATCH(BM13,referentes!$AF:$AF,0),1))","v":""},{"$f":"IF(BB13=\"\",\"\",INDEX(referentes!M:N,MATCH(BB13,referentes!$N:$N,0),1))","v":""},{"$f":"IF(BQ13=\"\",\"\",INDEX('Otras referencias'!S:T,MATCH(BQ13,'Otras referencias'!$T:$T,0),1))","v":""},{"$f":"IF(BN13=\"\",\"\",INDEX('Otras referencias'!A:B,MATCH(BN13,'Otras referencias'!$B:$B,0),1))","v":""},""]
[1,"",{"$f":"IF(E14<>\"\",CONCATENATE(DIGITADOR!$M$1,TEXT(D14, \"YYYYMMDD\"),ROW()-5),\"\")","v":""},null,null,"",{"$f":"IF(H14=\"\",\"\",INDEX(referentes!AQ:AR,MATCH(H14,referentes!$AR:$AR,0),1))","v":""},null,{"$f":"IF(J14=\"\",\"\",VLOOKUP(J14,referentes!$AL$2:$AO$29,3,FALSE))","v":""},null,null,null,null,null,null,null,null,null,null,null,null,"",null,null,null,null,null,null,null,null,null,null,null,null,null,null,null,null,null,null,null,null,null,null,null,null,null,{"$f":"IF(AW14=\"\",\"\",DIGITADOR!$B$14)","v":""},"",null,null,null,"",null,null,null,null,null,null,null,null,null,null,null,null,null,null,null,null,null,null,"",{"$f":"IF(C14=\"\",\"\",IF(COUNTIF($C$6:C14, C14)>1, \"\", C14))","v":""},{"$f":"IF(N14=\"\",\"\",INDEX(referentes!P:Q,MATCH(N14,referentes!$Q:$Q,0),1))","v":""},{"$f":"IF(O14=\"\",\"\",INDEX(referentes!$A:$B,MATCH(O14,referentes!$B:$B,0),1))","v":""},{"$f":"IF(S14=\"\",\"\",INDEX(referentes!D:E,MATCH(S14,referentes!$E:$E,0),1))","v":""},{"$f":"IF(T14=\"\",\"\",INDEX(referentes!G:H,MATCH(T14,referentes!$H:$H,0),1))","v":""},"",{"$f":"IF(Y14=\"\",\"\",INDEX(referentes!S:T,MATCH(Y14,referentes!$T:$T,0),1))","v":""},{"$f":"IF(BO14=\"\",\"\",INDEX(referentes!J:K,MATCH(BO14,referentes!$K:$K,0),1))","v":""},{"$f":"IF(BJ14=\"\",\"\",INDEX(referentes!V:W,MATCH(BJ14,referentes!$W:$W,0),1))","v":""},{"$f":"IF(BK14=\"\",\"\",INDEX(referentes!Y:Z,MATCH(BK14,referentes!$Z:$Z,0),1))","v":""},{"$f":"IF(BL14=\"\",\"\",INDEX(referentes!AB:AC,MATCH(BL14,referentes!$AC:$AC,0),1))","v":""},{"$f":"IF(BM14=\"\",\"\",INDEX(referentes!AE:AF,MATCH(BM14,referentes!$AF:$AF,0),1))","v":""},{"$f":"IF(BB14=\"\",\"\",INDEX(referentes!M:N,MATCH(BB14,referentes!$N:$N,0),1))","v":""},{"$f":"IF(BQ14=\"\",\"\",INDEX('Otras referencias'!S:T,MATCH(BQ14,'Otras referencias'!$T:$T,0),1))","v":""},{"$f":"IF(BN14=\"\",\"\",INDEX('Otras referencias'!A:B,MATCH(BN14,'Otras referencias'!$B:$B,0),1))","v":""},""]
[1,"",{"$f":"IF(E15<>\"\",CONCATENATE(DIGITADOR!$M$1,TEXT(D15, \"YYYYMMDD\"),ROW()-5),\"\")","v":""},null,null,"",{"$f":"IF(H15=\"\",\"\",INDEX(referentes!AQ:AR,MATCH(H15,referentes!$AR:$AR,0),1))","v":""},null,{"$f":"IF(J15=\"\",\"\",VLOOKUP(J15,referentes!$AL$2:$AO$29,3,FALSE))","v":""},null,null,null,null,null,null,null,null,null,null,null,null,"",null,null,null,null,null,null,null,null,null,null,null,null,null,null,null,null,null,null,null,null,null,null,null,null,null,{"$f":"IF(AW15=\"\",\"\",DIGITADOR!$B$14)","v":""},"",null,null,null,"",null,null,null,null,null,null,null,null,null,null,null,null,null,null,null,null,null,null,"",{"$f":"IF(C15=\"\",\"\",IF(COUNTIF($C$6:C15, C15)>1, \"\", C15))","v":""},{"$f":"IF(N15=\"\",\"\",INDEX(referentes!P:Q,MATCH(N15,referentes!$Q:$Q,0),1))","v":""},{"$f":"IF(O15=\"\",\"\",INDEX(referentes!$A:$B,MATCH(O15,referentes!$B:$B,0),1))","v":""},{"$f":"IF(S15=\"\",\"\",INDEX(referentes!D:E,MATCH(S15,referentes!$E:$E,0),1))","v":""},{"$f":"IF(T15=\"\",\"\",INDEX(referentes!G:H,MATCH(T15,referentes!$H:$H,0),1))","v":""},"",{"$f":"IF(Y15=\"\",\"\",INDEX(referentes!S:T,MATCH(Y15,referentes!$T:$T,0),1))","v":""},{"$f":"IF(BO15=\"\",\"\",INDEX(referentes!J:K,MATCH(BO15,referentes!$K:$K,0),1))","v":""},{"$f":"IF(BJ15=\"\",\"\",INDEX(referentes!V:W,MATCH(BJ15,referentes!$W:$W,0),1))","v":""},{"$f":"IF(BK15=\"\",\"\",INDEX(referentes!Y:Z,MATCH(BK15,referentes!$Z:$Z,0),1))","v":""},{"$f":"IF(BL15=\"\",\"\",INDEX(referentes!AB:AC,MATCH(BL15,referentes!$AC:$AC,0),1))","v":""},{"$f":"IF(BM15=\"\",\"\",INDEX(referentes!AE:AF,MATCH(BM15,referentes!$AF:$AF,0),1))","v":""},{"$f":"IF(BB15=\"\",\"\",INDEX(referentes!M:N,MATCH(BB15,referentes!$N:$N,0),1))","v":""},{"$f":"IF(BQ15=\"\",\"\",INDEX('Otras referencias'!S:T,MATCH(BQ15,'Otras referencias'!$T:$T,0),1))","v":""},{"$f":"IF(BN15=\"\",\"\",INDEX('Otras referencias'!A:B,MATCH(BN15,'Otras referencias'!$B:$B,0),1))","v":""},""]
[1,"",{"$f":"IF(E16<>\"\",CONCATENATE(DIGITADOR!$M$1,TEXT(D16, \"YYYYMMDD\"),ROW()-5),\"\")","v":""},null,null,"",{"$f":"IF(H16=\"\",\"\",INDEX(referentes!AQ:AR,MATCH(H16,referentes!$AR:$AR,0),1))","v":""},null,{"$f":"IF(J16=\"\",\"\",VLOOKUP(J16,referentes!$AL$2:$AO$29,3,FALSE))","v":""},null,null,null,null,null,null,null,null,null,null,null,null,"",null,null,null,null,null,null,null,null,null,null,null,null,null,null,null,null,null,null,null,null,null,null,null,null,null,{"$f":"IF(AW16=\"\",\"\",DIGITADOR!$B$14)","v":""},"",null,null,null,"",null,null,null,null,null,null,null,null,null,null,null,null,null,null,null,null,null,null,"",{"$f":"IF(C16=\"\",\"\",IF(COUNTIF($C$6:C16, C16)>1, \"\", C16))","v":""},{"$f":"IF(N16=\"\",\"\",INDEX(referentes!P:Q,MATCH(N16,referentes!$Q:$Q,0),1))","v":""},{"$f":"IF(O16=\"\",\"\",INDEX(referentes!$A:$B,MATCH(O16,referentes!$B:$B,0),1))","v":""},{"$f":"IF(S16=\"\",\"\",INDEX(referentes!D:E,MATCH(S16,referentes!$E:$E,0),1))","v":""},{"$f":"IF(T16=\"\",\"\",INDEX(referentes!G:H,MATCH(T16,referentes!$H:$H,0),1))","v":""},"",{"$f":"IF(Y16=\"\",\"\",INDEX(referentes!S:T,MATCH(Y16,referentes!$T:$T,0),1))","v":""},{"$f":"IF(BO16=\"\",\"\",INDEX(referentes!J:K,MATCH(BO16,referentes!$K:$K,0),1))","v":""},{"$f":"IF(BJ16=\"\",\"\",INDEX(referentes!V:W,MATCH(BJ16,referentes!$W:$W,0),1))","v":""},{"$f":"IF(BK16=\"\",\"\",INDEX(referentes!Y:Z,MATCH(BK16,referentes!$Z:$Z,0),1))","v":""},{"$f":"IF(BL16=\"\",\"\",INDEX(referentes!AB:AC,MATCH(BL16,referentes!$AC:$AC,0),1))","v":""},{"$f":"IF(BM16=\"\",\"\",INDEX(referentes!AE:AF,MATCH(BM16,referentes!$AF:$AF,0),1))","v":""},{"$f":"IF(BB16=\"\",\"\",INDEX(referentes!M:N,MATCH(BB16,referentes!$N:$N,0),1))","v":""},{"$f":"IF(BQ16=\"\",\"\",INDEX('Otras referencias'!S:T,MATCH(BQ16,'Otras referencias'!$T:$T,0),1))","v":""},{"$f":"IF(BN16=\"\",\"\",INDEX('Otras referencias'!A:B,MATCH(BN16,'Otras referencias'!$B:$B,0),1))","v":""},""]
[1,"",{"$f":"IF(E17<>\"\",CONCATENATE(DIGITADOR!$M$1,TEXT(D17, \"YYYYMMDD\"),ROW()-5),\"\")","v":""},null,null,"",{"$f":"IF(H17=\"\",\"\",INDEX(referentes!AQ:AR,MATCH(H17,referentes!$AR:$AR,0),1))","v":""},null,{"$f":"IF(J17=\"\",\"\",VLOOKUP(J17,referentes!$AL$2:$AO$29,3,FALSE))","v":""},null,null,null,null,null,null,null,null,null,null,null,null,"",null,null,null,null,null,null,null,null,null,null,null,null,null,null,null,null,null,null,null,null,null,null,null,null,null,{"$f":"IF(AW17=\"\",\"\",DIGITADOR!$B$14)","v":""},"",null,null,null,"",null,null,null,null,null,null,null,null,null,null,null,null,null,null,null,null,null,null,"",{"$f":"IF(C17=\"\",\"\",IF(COUNTIF($C$6:C17, C17)>1, \"\", C17))","v":""},{"$f":"IF(N17=\"\",\"\",INDEX(referentes!P:Q,MATCH(N17,referentes!$Q:$Q,0),1))","v":""},{"$f":"IF(O17=\"\",\"\",INDEX(referentes!$A:$B,MATCH(O17,referentes!$B:$B,0),1))","v":""},{"$f":"IF(S17=\"\",\"\",INDEX(referentes!D:E,MATCH(S17,referentes!$E:$E,0),1))","v":""},{"$f":"IF(T17=\"\",\"\",INDEX(referentes!G:H,MATCH(T17,referentes!$H:$H,0),1))","v":""},"",{"$f":"IF(Y17=\"\",\"\",INDEX(referentes!S:T,MATCH(Y17,referentes!$T:$T,0),1))","v":""},{"$f":"IF(BO17=\"\",\"\",INDEX(referentes!J:K,MATCH(BO17,referentes!$K:$K,0),1))","v":""},{"$f":"IF(BJ17=\"\",\"\",INDEX(referentes!V:W,MATCH(BJ17,referentes!$W:$W,0),1))","v":""},{"$f":"IF(BK17=\"\",\"\",INDEX(referentes!Y:Z,MATCH(BK17,referentes!$Z:$Z,0),1))","v":""},{"$f":"IF(BL17=\"\",\"\",INDEX(referentes!AB:AC,MATCH(BL17,referentes!$AC:$AC,0),1))","v":""},{"$f":"IF(BM17=\"\",\"\",INDEX(referentes!AE:AF,MATCH(BM17,referentes!$AF:$AF,0),1))","v":""},{"$f":"IF(BB17=\"\",\"\",INDEX(referentes!M:N,MATCH(BB17,referentes!$N:$N,0),1))","v":""},{"$f":"IF(BQ17=\"\",\"\",INDEX('Otras referencias'!S:T,MATCH(BQ17,'Otras referencias'!$T:$T,0),1))","v":""},{"$f":"IF(BN17=\"\",\"\",INDEX('Otras referencias'!A:B,MATCH(BN17,'Otras referencias'!$B:$B,0),1))","v":""},""]
[1,"",{"$f":"IF(E18<>\"\",CONCATENATE(DIGITADOR!$M$1,TEXT(D18, \"YYYYMMDD\"),ROW()-5),\"\")","v":""},null,null,"",{"$f":"IF(H18=\"\",\"\",INDEX(referentes!AQ:AR,MATCH(H18,referentes!$AR:$AR,0),1))","v":""},null,{"$f":"IF(J18=\"\",\"\",VLOOKUP(J18,referentes!$AL$2:$AO$29,3,FALSE))","v":""},null,null,null,null,null,null,null,null,null,null,null,null,"",null,null,null,null,null,null,null,null,null,null,null,null,null,null,null,null,null,null,null,null,null,null,null,null,null,{"$f":"IF(AW18=\"\",\"\",DIGITADOR!$B$14)","v":""},"",null,null,null,"",null,null,null,null,null,null,null,null,null,null,null,null,null,null,null,null,null,null,"",{"$f":"IF(C18=\"\",\"\",IF(COUNTIF($C$6:C18, C18)>1, \"\", C18))","v":""},{"$f":"IF(N18=\"\",\"\",INDEX(referentes!P:Q,MATCH(N18,referentes!$Q:$Q,0),1))","v":""},{"$f":"IF(O18=\"\",\"\",INDEX(referentes!$A:$B,MATCH(O18,referentes!$B:$B,0),1))","v":""},{"$f":"IF(S18=\"\",\"\",INDEX(referentes!D:E,MATCH(S18,referentes!$E:$E,0),1))","v":""},{"$f":"IF(T18=\"\",\"\",INDEX(referentes!G:H,MATCH(T18,referentes!$H:$H,0),1))","v":""},"",{"$f":"IF(Y18=\"\",\"\",INDEX(referentes!S:T,MATCH(Y18,referentes!$T:$T,0),1))","v":""},{"$f":"IF(BO18=\"\",\"\",INDEX(referentes!J:K,MATCH(BO18,referentes!$K:$K,0),1))","v":""},{"$f":"IF(BJ18=\"\",\"\",INDEX(referentes!V:W,MATCH(BJ18,referentes!$W:$W,0),1))","v":""},{"$f":"IF(BK18=\"\",\"\",INDEX(referentes!Y:Z,MATCH(BK18,referentes!$Z:$Z,0),1))","v":""},{"$f":"IF(BL18=\"\",\"\",INDEX(referentes!AB:AC,MATCH(BL18,referentes!$AC:$AC,0),1))","v":""},{"$f":"IF(BM18=\"\",\"\",INDEX(referentes!AE:AF,MATCH(BM18,referentes!$AF:$AF,0),1))","v":""},{"$f":"IF(BB18=\"\",\"\",INDEX(referentes!M:N,MATCH(BB18,referentes!$N:$N,0),1))","v":""},{"$f":"IF(BQ18=\"\",\"\",INDEX('Otras referencias'!S:T,MATCH(BQ18,'Otras referencias'!$T:$T,0),1))","v":""},{"$f":"IF(BN18=\"\",\"\",INDEX('Otras referencias'!A:B,MATCH(BN18,'Otras referencias'!$B:$B,0),1))","v":""},""]
[1,"",{"$f":"IF(E19<>\"\",CONCATENATE(DIGITADOR!$M$1,TEXT(D19, \"YYYYMMDD\"),ROW()-5),\"\")","v":""},null,null,"",{"$f":"IF(H19=\"\",\"\",INDEX(referentes!AQ:AR,MATCH(H19,referentes!$AR:$AR,0),1))","v":""},null,{"$f":"IF(J19=\"\",\"\",VLOOKUP(J19,referentes!$AL$2:$AO$29,3,FALSE))","v":""},null,null,null,null,null,null,null,null,null,null,null,null,"",null,null,null,null,null,null,null,null,null,null,null,null,null,null,null,null,null,null,null,null,null,null,null,null,null,{"$f":"IF(AW19=\"\",\"\",DIGITADOR!$B$14)","v":""},"",null,null,null,"",null,null,null,null,null,null,null,null,null,null,null,null,null,null,null,null,null,null,"",{"$f":"IF(C19=\"\",\"\",IF(COUNTIF($C$6:C19, C19)>1, \"\", C19))","v":""},{"$f":"IF(N19=\"\",\"\",INDEX(referentes!P:Q,MATCH(N19,referentes!$Q:$Q,0),1))","v":""},{"$f":"IF(O19=\"\",\"\",INDEX(referentes!$A:$B,MATCH(O19,referentes!$B:$B,0),1))","v":""},{"$f":"IF(S19=\"\",\"\",INDEX(referentes!D:E,MATCH(S19,referentes!$E:$E,0),1))","v":""},{"$f":"IF(T19=\"\",\"\",INDEX(referentes!G:H,MATCH(T19,referentes!$H:$H,0),1))","v":""},"",{"$f":"IF(Y19=\"\",\"\",INDEX(referentes!S:T,MATCH(Y19,referentes!$T:$T,0),1))","v":""},{"$f":"IF(BO19=\"\",\"\",INDEX(referentes!J:K,MATCH(BO19,referentes!$K:$K,0),1))","v":""},{"$f":"IF(BJ19=\"\",\"\",INDEX(referentes!V:W,MATCH(BJ19,referentes!$W:$W,0),1))","v":""},{"$f":"IF(BK19=\"\",\"\",INDEX(referentes!Y:Z,MATCH(BK19,referentes!$Z:$Z,0),1))","v":""},{"$f":"IF(BL19=\"\",\"\",INDEX(referentes!AB:AC,MATCH(BL19,referentes!$AC:$AC,0),1))","v":""},{"$f":"IF(BM19=\"\",\"\",INDEX(referentes!AE:AF,MATCH(BM19,referentes!$AF:$AF,0),1))","v":""},{"$f":"IF(BB19=\"\",\"\",INDEX(referentes!M:N,MATCH(BB19,referentes!$N:$N,0),1))","v":""},{"$f":"IF(BQ19=\"\",\"\",INDEX('Otras referencias'!S:T,MATCH(BQ19,'Otras referencias'!$T:$T,0),1))","v":""},{"$f":"IF(BN19=\"\",\"\",INDEX('Otras referencias'!A:B,MATCH(BN19,'Otras referencias'!$B:$B,0),1))","v":""},""]
[1,"",{"$f":"IF(E20<>\"\",CONCATENATE(DIGITADOR!$M$1,TEXT(D20, \"YYYYMMDD\"),ROW()-5),\"\")","v":""},null,null,"",{"$f":"IF(H20=\"\",\"\",INDEX(referentes!AQ:AR,MATCH(H20,referentes!$AR:$AR,0),1))","v":""},null,{"$f":"IF(J20=\"\",\"\",VLOOKUP(J20,referentes!$AL$2:$AO$29,3,FALSE))","v":""},null,null,null,null,null,null,null,null,null,null,null,null,"",null,null,null,null,null,null,null,null,null,null,null,null,null,null,null,null,null,null,null,null,null,null,null,null,null,{"$f":"IF(AW20=\"\",\"\",DIGITADOR!$B$14)","v":""},"",null,null,null,"",null,null,null,null,null,null,null,null,null,null,null,null,null,null,null,null,null,null,"",{"$f":"IF(C20=\"\",\"\",IF(COUNTIF($C$6:C20, C20)>1, \"\", C20))","v":""},{"$f":"IF(N20=\"\",\"\",INDEX(referentes!P:Q,MATCH(N20,referentes!$Q:$Q,0),1))","v":""},{"$f":"IF(O20=\"\",\"\",INDEX(referentes!$A:$B,MATCH(O20,referentes!$B:$B,0),1))","v":""},{"$f":"IF(S20=\"\",\"\",INDEX(referentes!D:E,MATCH(S20,referentes!$E:$E,0),1))","v":""},{"$f":"IF(T20=\"\",\"\",INDEX(referentes!G:H,MATCH(T20,referentes!$H:$H,0),1))","v":""},"",{"$f":"IF(Y20=\"\",\"\",INDEX(referentes!S:T,MATCH(Y20,referentes!$T:$T,0),1))","v":""},{"$f":"IF(BO20=\"\",\"\",INDEX(referentes!J:K,MATCH(BO20,referentes!$K:$K,0),1))","v":""},{"$f":"IF(BJ20=\"\",\"\",INDEX(referentes!V:W,MATCH(BJ20,referentes!$W:$W,0),1))","v":""},{"$f":"IF(BK20=\"\",\"\",INDEX(referentes!Y:Z,MATCH(BK20,referentes!$Z:$Z,0),1))","v":""},{"$f":"IF(BL20=\"\",\"\",INDEX(referentes!AB:AC,MATCH(BL20,referentes!$AC:$AC,0),1))","v":""},{"$f":"IF(BM20=\"\",\"\",INDEX(referentes!AE:AF,MATCH(BM20,referentes!$AF:$AF,0),1))","v":""},{"$f":"IF(BB20=\"\",\"\",INDEX(referentes!M:N,MATCH(BB20,referentes!$N:$N,0),1))","v":""},{"$f":"IF(BQ20=\"\",\"\",INDEX('Otras referencias'!S:T,MATCH(BQ20,'Otras referencias'!$T:$T,0),1))","v":""},{"$f":"IF(BN20=\"\",\"\",INDEX('Otras referencias'!A:B,MATCH(BN20,'Otras referencias'!$B:$B,0),1))","v":""},""]
[1,"",{"$f":"IF(E21<>\"\",CONCATENATE(DIGITADOR!$M$1,TEXT(D21, \"YYYYMMDD\"),ROW()-5),\"\")","v":""},null,null,"",{"$f":"IF(H21=\"\",\"\",INDEX(referentes!AQ:AR,MATCH(H21,referentes!$AR:$AR,0),1))","v":""},null,{"$f":"IF(J21=\"\",\"\",VLOOKUP(J21,referentes!$AL$2:$AO$29,3,FALSE))","v":""},null,null,null,null,null,null,null,null,null,null,null,null,"",null,null,null,null,null,null,null,null,null,null,null,null,null,null,null,null,null,null,null,null,null,null,null,null,null,{"$f":"IF(AW21=\"\",\"\",DIGITADOR!$B$14)","v":""},"",null,null,null,"",null,null,null,null,null,null,null,null,null,null,null,null,null,null,null,null,null,null,"",{"$f":"IF(C21=\"\",\"\",IF(COUNTIF($C$6:C21, C21)>1, \"\", C21))","v":""},{"$f":"IF(N21=\"\",\"\",INDEX(referentes!P:Q,MATCH(N21,referentes!$Q:$Q,0),1))","v":""},{"$f":"IF(O21=\"\",\"\",INDEX(referentes!$A:$B,MATCH(O21,referentes!$B:$B,0),1))","v":""},{"$f":"IF(S21=\"\",\"\",INDEX(referentes!D:E,MATCH(S21,referentes!$E:$E,0),1))","v":""},{"$f":"IF(T21=\"\",\"\",INDEX(referentes!G:H,MATCH(T21,referentes!$H:$H,0),1))","v":""},"",{"$f":"IF(Y21=\"\",\"\",INDEX(referentes!S:T,MATCH(Y21,referentes!$T:$T,0),1))","v":""},{"$f":"IF(BO21=\"\",\"\",INDEX(referentes!J:K,MATCH(BO21,referentes!$K:$K,0),1))","v":""},{"$f":"IF(BJ21=\"\",\"\",INDEX(referentes!V:W,MATCH(BJ21,referentes!$W:$W,0),1))","v":""},{"$f":"IF(BK21=\"\",\"\",INDEX(referentes!Y:Z,MATCH(BK21,referentes!$Z:$Z,0),1))","v":""},{"$f":"IF(BL21=\"\",\"\",INDEX(referentes!AB:AC,MATCH(BL21,referentes!$AC:$AC,0),1))","v":""},{"$f":"IF(BM21=\"\",\"\",INDEX(referentes!AE:AF,MATCH(BM21,referentes!$AF:$AF,0),1))","v":""},{"$f":"IF(BB21=\"\",\"\",INDEX(referentes!M:N,MATCH(BB21,referentes!$N:$N,0),1))","v":""},{"$f":"IF(BQ21=\"\",\"\",INDEX('Otras referencias'!S:T,MATCH(BQ21,'Otras referencias'!$T:$T,0),1))","v":""},{"$f":"IF(BN21=\"\",\"\",INDEX('Otras referencias'!A:B,MATCH(BN21,'Otras referencias'!$B:$B,0),1))","v":""},""]
[1,"",{"$f":"IF(E22<>\"\",CONCATENATE(DIGITADOR!$M$1,TEXT(D22, \"YYYYMMDD\"),ROW()-5),\"\")","v":""},null,null,"",{"$f":"IF(H22=\"\",\"\",INDEX(referentes!AQ:AR,MATCH(H22,referentes!$AR:$AR,0),1))","v":""},null,{"$f":"IF(J22=\"\",\"\",VLOOKUP(J22,referentes!$AL$2:$AO$29,3,FALSE))","v":""},null,null,null,null,null,null,null,null,null,null,null,null,"",null,null,null,null,null,null,null,null,null,null,null,null,null,null,null,null,null,null,null,null,null,null,null,null,null,{"$f":"IF(AW22=\"\",\"\",DIGITADOR!$B$14)","v":""},"",null,null,null,"",null,null,null,null,null,null,null,null,null,null,null,null,null,null,null,null,null,null,"",{"$f":"IF(C22=\"\",\"\",IF(COUNTIF($C$6:C22, C22)>1, \"\", C22))","v":""},{"$f":"IF(N22=\"\",\"\",INDEX(referentes!P:Q,MATCH(N22,referentes!$Q:$Q,0),1))","v":""},{"$f":"IF(O22=\"\",\"\",INDEX(referentes!$A:$B,MATCH(O22,referentes!$B:$B,0),1))","v":""},{"$f":"IF(S22=\"\",\"\",INDEX(referentes!D:E,MATCH(S22,referentes!$E:$E,0),1))","v":""},{"$f":"IF(T22=\"\",\"\",INDEX(referentes!G:H,MATCH(T22,referentes!$H:$H,0),1))","v":""},"",{"$f":"IF(Y22=\"\",\"\",INDEX(referentes!S:T,MATCH(Y22,referentes!$T:$T,0),1))","v":""},{"$f":"IF(BO22=\"\",\"\",INDEX(referentes!J:K,MATCH(BO22,referentes!$K:$K,0),1))","v":""},{"$f":"IF(BJ22=\"\",\"\",INDEX(referentes!V:W,MATCH(BJ22,referentes!$W:$W,0),1))","v":""},{"$f":"IF(BK22=\"\",\"\",INDEX(referentes!Y:Z,MATCH(BK22,referentes!$Z:$Z,0),1))","v":""},{"$f":"IF(BL22=\"\",\"\",INDEX(referentes!AB:AC,MATCH(BL22,referentes!$AC:$AC,0),1))","v":""},{"$f":"IF(BM22=\"\",\"\",INDEX(referentes!AE:AF,MATCH(BM22,referentes!$AF:$AF,0),1))","v":""},{"$f":"IF(BB22=\"\",\"\",INDEX(referentes!M:N,MATCH(BB22,referentes!$N:$N,0),1))","v":""},{"$f":"IF(BQ22=\"\",\"\",INDEX('Otras referencias'!S:T,MATCH(BQ22,'Otras referencias'!$T:$T,0),1))","v":""},{"$f":"IF(BN22=\"\",\"\",INDEX('Otras referencias'!A:B,MATCH(BN22,'Otras referencias'!$B:$B,0),1))","v":""},""]
[1,"",{"$f":"IF(E23<>\"\",CONCATENATE(DIGITADOR!$M$1,TEXT(D23, \"YYYYMMDD\"),ROW()-5),\"\")","v":""},null,null,"",{"$f":"IF(H23=\"\",\"\",INDEX(referentes!AQ:AR,MATCH(H23,referentes!$AR:$AR,0),1))","v":""},null,{"$f":"IF(J23=\"\",\"\",VLOOKUP(J23,referentes!$AL$2:$AO$29,3,FALSE))","v":""},null,null,null,null,null,null,null,null,null,null,null,null,"",null,null,null,null,null,null,null,null,null,null,null,null,null,null,null,null,null,null,null,null,null,null,null,null,null,{"$f":"IF(AW23=\"\",\"\",DIGITADOR!$B$14)","v":""},"",null,null,null,"",null,null,null,null,null,null,null,null,null,null,null,null,null,null,null,null,null,null,"",{"$f":"IF(C23=\"\",\"\",IF(COUNTIF($C$6:C23, C23)>1, \"\", C23))","v":""},{"$f":"IF(N23=\"\",\"\",INDEX(referentes!P:Q,MATCH(N23,referentes!$Q:$Q,0),1))","v":""},{"$f":"IF(O23=\"\",\"\",INDEX(referentes!$A:$B,MATCH(O23,referentes!$B:$B,0),1))","v":""},{"$f":"IF(S23=\"\",\"\",INDEX(referentes!D:E,MATCH(S23,referentes!$E:$E,0),1))","v":""},{"$f":"IF(T23=\"\",\"\",INDEX(referentes!G:H,MATCH(T23,referentes!$H:$H,0),1))","v":""},"",{"$f":"IF(Y23=\"\",\"\",INDEX(referentes!S:T,MATCH(Y23,referentes!$T:$T,0),1))","v":""},{"$f":"IF(BO23=\"\",\"\",INDEX(referentes!J:K,MATCH(BO23,referentes!$K:$K,0),1))","v":""},{"$f":"IF(BJ23=\"\",\"\",INDEX(referentes!V:W,MATCH(BJ23,referentes!$W:$W,0),1))","v":""},{"$f":"IF(BK23=\"\",\"\",INDEX(referentes!Y:Z,MATCH(BK23,referentes!$Z:$Z,0),1))","v":""},{"$f":"IF(BL23=\"\",\"\",INDEX(referentes!AB:AC,MATCH(BL23,referentes!$AC:$AC,0),1))","v":""},{"$f":"IF(BM23=\"\",\"\",INDEX(referentes!AE:AF,MATCH(BM23,referentes!$AF:$AF,0),1))","v":""},{"$f":"IF(BB23=\"\",\"\",INDEX(referentes!M:N,MATCH(BB23,referentes!$N:$N,0),1))","v":""},{"$f":"IF(BQ23=\"\",\"\",INDEX('Otras referencias'!S:T,MATCH(BQ23,'Otras referencias'!$T:$T,0),1))","v":""},{"$f":"IF(BN23=\"\",\"\",INDEX('Otras referencias'!A:B,MATCH(BN23,'Otras referencias'!$B:$B,0),1))","v":""},""]
[1,"",{"$f":"IF(E24<>\"\",CONCATENATE(DIGITADOR!$M$1,TEXT(D24, \"YYYYMMDD\"),ROW()-5),\"\")","v":""},null,null,"",{"$f":"IF(H24=\"\",\"\",INDEX(referentes!AQ:AR,MATCH(H24,referentes!$AR:$AR,0),1))","v":""},null,{"$f":"IF(J24=\"\",\"\",VLOOKUP(J24,referentes!$AL$2:$AO$29,3,FALSE))","v":""},null,null,null,null,null,null,null,null,null,null,null,null,"",null,null,null,null,null,null,null,null,null,null,null,null,null,null,null,null,null,null,null,null,null,null,null,null,null,{"$f":"IF(AW24=\"\",\"\",DIGITADOR!$B$14)","v":""},"",null,null,null,"",null,null,null,null,null,null,null,null,null,null,null,null,null,null,null,null,null,null,"",{"$f":"IF(C24=\"\",\"\",IF(COUNTIF($C$6:C24, C24)>1, \"\", C24))","v":""},{"$f":"IF(N24=\"\",\"\",INDEX(referentes!P:Q,MATCH(N24,referentes!$Q:$Q,0),1))","v":""},{"$f":"IF(O24=\"\",\"\",INDEX(referentes!$A:$B,MATCH(O24,referentes!$B:$B,0),1))","v":""},{"$f":"IF(S24=\"\",\"\",INDEX(referentes!D:E,MATCH(S24,referentes!$E:$E,0),1))","v":""},{"$f":"IF(T24=\"\",\"\",INDEX(referentes!G:H,MATCH(T24,referentes!$H:$H,0),1))","v":""},"",{"$f":"IF(Y24=\"\",\"\",INDEX(referentes!S:T,MATCH(Y24,referentes!$T:$T,0),1))","v":""},{"$f":"IF(BO24=\"\",\"\",INDEX(referentes!J:K,MATCH(BO24,referentes!$K:$K,0),1))","v":""},{"$f":"IF(BJ24=\"\",\"\",INDEX(referentes!V:W,MATCH(BJ24,referentes!$W:$W,0),1))","v":""},{"$f":"IF(BK24=\"\",\"\",INDEX(referentes!Y:Z,MATCH(BK24,referentes!$Z:$Z,0),1))","v":""},{"$f":"IF(BL24=\"\",\"\",INDEX(referentes!AB:AC,MATCH(BL24,referentes!$AC:$AC,0),1))","v":""},{"$f":"IF(BM24=\"\",\"\",INDEX(referentes!AE:AF,MATCH(BM24,referentes!$AF:$AF,0),1))","v":""},{"$f":"IF(BB24=\"\",\"\",INDEX(referentes!M:N,MATCH(BB24,referentes!$N:$N,0),1))","v":""},{"$f":"IF(BQ24=\"\",\"\",INDEX('Otras referencias'!S:T,MATCH(BQ24,'Otras referencias'!$T:$T,0),1))","v":""},{"$f":"IF(BN24=\"\",\"\",INDEX('Otras referencias'!A:B,MATCH(BN24,'Otras referencias'!$B:$B,0),1))","v":""},""]
[1,"",{"$f":"IF(E25<>\"\",CONCATENATE(DIGITADOR!$M$1,TEXT(D25, \"YYYYMMDD\"),ROW()-5),\"\")","v":""},null,null,"",{"$f":"IF(H25=\"\",\"\",INDEX(referentes!AQ:AR,MATCH(H25,referentes!$AR:$AR,0),1))","v":""},null,{"$f":"IF(J25=\"\",\"\",VLOOKUP(J25,referentes!$AL$2:$AO$29,3,FALSE))","v":""},null,null,null,null,null,null,null,null,null,null,null,null,"",null,null,null,null,null,null,null,null,null,null,null,null,null,null,null,null,null,null,null,null,null,null,null,null,null,{"$f":"IF(AW25=\"\",\"\",DIGITADOR!$B$14)","v":""},"",null,null,null,"",null,null,null,null,null,null,null,null,null,null,null,null,null,null,null,null,null,null,"",{"$f":"IF(C25=\"\",\"\",IF(COUNTIF($C$6:C25, C25)>1, \"\", C25))","v":""},{"$f":"IF(N25=\"\",\"\",INDEX(referentes!P:Q,MATCH(N25,referentes!$Q:$Q,0),1))","v":""},{"$f":"IF(O25=\"\",\"\",INDEX(referentes!$A:$B,MATCH(O25,referentes!$B:$B,0),1))","v":""},{"$f":"IF(S25=\"\",\"\",INDEX(referentes!D:E,MATCH(S25,referentes!$E:$E,0),1))","v":""},{"$f":"IF(T25=\"\",\"\",INDEX(referentes!G:H,MATCH(T25,referentes!$H:$H,0),1))","v":""},"",{"$f":"IF(Y25=\"\",\"\",INDEX(referentes!S:T,MATCH(Y25,referentes!$T:$T,0),1))","v":""},{"$f":"IF(BO25=\"\",\"\",INDEX(referentes!J:K,MATCH(BO25,referentes!$K:$K,0),1))","v":""},{"$f":"IF(BJ25=\"\",\"\",INDEX(referentes!V:W,MATCH(BJ25,referentes!$W:$W,0),1))","v":""},{"$f":"IF(BK25=\"\",\"\",INDEX(referentes!Y:Z,MATCH(BK25,referentes!$Z:$Z,0),1))","v":""},{"$f":"IF(BL25=\"\",\"\",INDEX(referentes!AB:AC,MATCH(BL25,referentes!$AC:$AC,0),1))","v":""},{"$f":"IF(BM25=\"\",\"\",INDEX(referentes!AE:AF,MATCH(BM25,referentes!$AF:$AF,0),1))","v":""},{"$f":"IF(BB25=\"\",\"\",INDEX(referentes!M:N,MATCH(BB25,referentes!$N:$N,0),1))","v":""},{"$f":"IF(BQ25=\"\",\"\",INDEX('Otras referencias'!S:T,MATCH(BQ25,'Otras referencias'!$T:$T,0),1))","v":""},{"$f":"IF(BN25=\"\",\"\",INDEX('Otras referencias'!A:B,MATCH(BN25,'Otras referencias'!$B:$B,0),1))","v":""},""]
[1,"",{"$f":"IF(E26<>\"\",CONCATENATE(DIGITADOR!$M$1,TEXT(D26, \"YYYYMMDD\"),ROW()-5),\"\")","v":""},null,null,"",{"$f":"IF(H26=\"\",\"\",INDEX(referentes!AQ:AR,MATCH(H26,referentes!$AR:$AR,0),1))","v":""},null,{"$f":"IF(J26=\"\",\"\",VLOOKUP(J26,referentes!$AL$2:$AO$29,3,FALSE))","v":""},null,null,null,null,null,null,null,null,null,null,null,null,"",null,null,null,null,null,null,null,null,null,null,null,null,null,null,null,null,null,null,null,null,null,null,null,null,null,{"$f":"IF(AW26=\"\",\"\",DIGITADOR!$B$14)","v":""},"",null,null,null,"",null,null,null,null,null,null,null,null,null,null,null,null,null,null,null,null,null,null,"",{"$f":"IF(C26=\"\",\"\",IF(COUNTIF($C$6:C26, C26)>1, \"\", C26))","v":""},{"$f":"IF(N26=\"\",\"\",INDEX(referentes!P:Q,MATCH(N26,referentes!$Q:$Q,0),1))","v":""},{"$f":"IF(O26=\"\",\"\",INDEX(referentes!$A:$B,MATCH(O26,referentes!$B:$B,0),1))","v":""},{"$f":"IF(S26=\"\",\"\",INDEX(referentes!D:E,MATCH(S26,referentes!$E:$E,0),1))","v":""},{"$f":"IF(T26=\"\",\"\",INDEX(referentes!G:H,MATCH(T26,referentes!$H:$H,0),1))","v":""},"",{"$f":"IF(Y26=\"\",\"\",INDEX(referentes!S:T,MATCH(Y26,referentes!$T:$T,0),1))","v":""},{"$f":"IF(BO26=\"\",\"\",INDEX(referentes!J:K,MATCH(BO26,referentes!$K:$K,0),1))","v":""},{"$f":"IF(BJ26=\"\",\"\",INDEX(referentes!V:W,MATCH(BJ26,referentes!$W:$W,0),1))","v":""},{"$f":"IF(BK26=\"\",\"\",INDEX(referentes!Y:Z,MATCH(BK26,referentes!$Z:$Z,0),1))","v":""},{"$f":"IF(BL26=\"\",\"\",INDEX(referentes!AB:AC,MATCH(BL26,referentes!$AC:$AC,0),1))","v":""},{"$f":"IF(BM26=\"\",\"\",INDEX(referentes!AE:AF,MATCH(BM26,referentes!$AF:$AF,0),1))","v":""},{"$f":"IF(BB26=\"\",\"\",INDEX(referentes!M:N,MATCH(BB26,referentes!$N:$N,0),1))","v":""},{"$f":"IF(BQ26=\"\",\"\",INDEX('Otras referencias'!S:T,MATCH(BQ26,'Otras referencias'!$T:$T,0),1))","v":""},{"$f":"IF(BN26=\"\",\"\",INDEX('Otras referencias'!A:B,MATCH(BN26,'Otras referencias'!$B:$B,0),1))","v":""},""]
[1,"",{"$f":"IF(E27<>\"\",CONCATENATE(DIGITADOR!$M$1,TEXT(D27, \"YYYYMMDD\"),ROW()-5),\"\")","v":""},null,null,"",{"$f":"IF(H27=\"\",\"\",INDEX(referentes!AQ:AR,MATCH(H27,referentes!$AR:$AR,0),1))","v":""},null,{"$f":"IF(J27=\"\",\"\",VLOOKUP(J27,referentes!$AL$2:$AO$29,3,FALSE))","v":""},null,null,null,null,null,null,null,null,null,null,null,null,"",null,null,null,null,null,null,null,null,null,null,null,null,null,null,null,null,null,null,null,null,null,null,null,null,null,{"$f":"IF(AW27=\"\",\"\",DIGITADOR!$B$14)","v":""},"",null,null,null,"",null,null,null,null,null,null,null,null,null,null,null,null,null,null,null,null,null,null,"",{"$f":"IF(C27=\"\",\"\",IF(COUNTIF($C$6:C27, C27)>1, \"\", C27))","v":""},{"$f":"IF(N27=\"\",\"\",INDEX(referentes!P:Q,MATCH(N27,referentes!$Q:$Q,0),1))","v":""},{"$f":"IF(O27=\"\",\"\",INDEX(referentes!$A:$B,MATCH(O27,referentes!$B:$B,0),1))","v":""},{"$f":"IF(S27=\"\",\"\",INDEX(referentes!D:E,MATCH(S27,referentes!$E:$E,0),1))","v":""},{"$f":"IF(T27=\"\",\"\",INDEX(referentes!G:H,MATCH(T27,referentes!$H:$H,0),1))","v":""},"",{"$f":"IF(Y27=\"\",\"\",INDEX(referentes!S:T,MATCH(Y27,referentes!$T:$T,0),1))","v":""},{"$f":"IF(BO27=\"\",\"\",INDEX(referentes!J:K,MATCH(BO27,referentes!$K:$K,0),1))","v":""},{"$f":"IF(BJ27=\"\",\"\",INDEX(referentes!V:W,MATCH(BJ27,referentes!$W:$W,0),1))","v":""},{"$f":"IF(BK27=\"\",\"\",INDEX(referentes!Y:Z,MATCH(BK27,referentes!$Z:$Z,0),1))","v":""},{"$f":"IF(BL27=\"\",\"\",INDEX(referentes!AB:AC,MATCH(BL27,referentes!$AC:$AC,0),1))","v":""},{"$f":"IF(BM27=\"\",\"\",INDEX(referentes!AE:AF,MATCH(BM27,referentes!$AF:$AF,0),1))","v":""},{"$f":"IF(BB27=\"\",\"\",INDEX(referentes!M:N,MATCH(BB27,referentes!$N:$N,0),1))","v":""},{"$f":"IF(BQ27=\"\",\"\",INDEX('Otras referencias'!S:T,MATCH(BQ27,'Otras referencias'!$T:$T,0),1))","v":""},{"$f":"IF(BN27=\"\",\"\",INDEX('Otras referencias'!A:B,MATCH(BN27,'Otras referencias'!$B:$B,0),1))","v":""},""]
[1,"",{"$f":"IF(E28<>\"\",CONCATENATE(DIGITADOR!$M$1,TEXT(D28, \"YYYYMMDD\"),ROW()-5),\"\")","v":""},null,null,"",{"$f":"IF(H28=\"\",\"\",INDEX(referentes!AQ:AR,MATCH(H28,referentes!$AR:$AR,0),1))","v":""},null,{"$f":"IF(J28=\"\",\"\",VLOOKUP(J28,referentes!$AL$2:$AO$29,3,FALSE))","v":""},null,null,null,null,null,null,null,null,null,null,null,null,"",null,null,null,null,null,null,null,null,null,null,null,null,null,null,null,null,null,null,null,null,null,null,null,null,null,{"$f":"IF(AW28=\"\",\"\",DIGITADOR!$B$14)","v":""},"",null,null,null,"",null,null,null,null,null,null,null,null,null,null,null,null,null,null,null,null,null,null,"",{"$f":"IF(C28=\"\",\"\",IF(COUNTIF($C$6:C28, C28)>1, \"\", C28))","v":""},{"$f":"IF(N28=\"\",\"\",INDEX(referentes!P:Q,MATCH(N28,referentes!$Q:$Q,0),1))","v":""},{"$f":"IF(O28=\"\",\"\",INDEX(referentes!$A:$B,MATCH(O28,referentes!$B:$B,0),1))","v":""},{"$f":"IF(S28=\"\",\"\",INDEX(referentes!D:E,MATCH(S28,referentes!$E:$E,0),1))","v":""},{"$f":"IF(T28=\"\",\"\",INDEX(referentes!G:H,MATCH(T28,referentes!$H:$H,0),1))","v":""},"",{"$f":"IF(Y28=\"\",\"\",INDEX(referentes!S:T,MATCH(Y28,referentes!$T:$T,0),1))","v":""},{"$f":"IF(BO28=\"\",\"\",INDEX(referentes!J:K,MATCH(BO28,referentes!$K:$K,0),1))","v":""},{"$f":"IF(BJ28=\"\",\"\",INDEX(referentes!V:W,MATCH(BJ28,referentes!$W:$W,0),1))","v":""},{"$f":"IF(BK28=\"\",\"\",INDEX(referentes!Y:Z,MATCH(BK28,referentes!$Z:$Z,0),1))","v":""},{"$f":"IF(BL28=\"\",\"\",INDEX(referentes!AB:AC,MATCH(BL28,referentes!$AC:$AC,0),1))","v":""},{"$f":"IF(BM28=\"\",\"\",INDEX(referentes!AE:AF,MATCH(BM28,referentes!$AF:$AF,0),1))","v":""},{"$f":"IF(BB28=\"\",\"\",INDEX(referentes!M:N,MATCH(BB28,referentes!$N:$N,0),1))","v":""},{"$f":"IF(BQ28=\"\",\"\",INDEX('Otras referencias'!S:T,MATCH(BQ28,'Otras referencias'!$T:$T,0),1))","v":""},{"$f":"IF(BN28=\"\",\"\",INDEX('Otras referencias'!A:B,MATCH(BN28,'Otras referencias'!$B:$B,0),1))","v":""},""]
[1,"",{"$f":"IF(E29<>\"\",CONCATENATE(DIGITADOR!$M$1,TEXT(D29, \"YYYYMMDD\"),ROW()-5),\"\")","v":""},null,null,"",{"$f":"IF(H29=\"\",\"\",INDEX(referentes!AQ:AR,MATCH(H29,referentes!$AR:$AR,0),1))","v":""},null,{"$f":"IF(J29=\"\",\"\",VLOOKUP(J29,referentes!$AL$2:$AO$29,3,FALSE))","v":""},null,null,null,null,null,null,null,null,null,null,null,null,"",null,null,null,null,null,null,null,null,null,null,null,null,null,null,null,null,null,null,null,null,null,null,null,null,null,{"$f":"IF(AW29=\"\",\"\",DIGITADOR!$B$14)","v":""},"",null,null,null,"",null,null,null,null,null,null,null,null,null,null,null,null,null,null,null,null,null,null,"",{"$f":"IF(C29=\"\",\"\",IF(COUNTIF($C$6:C29, C29)>1, \"\", C29))","v":""},{"$f":"IF(N29=\"\",\"\",INDEX(referentes!P:Q,MATCH(N29,referentes!$Q:$Q,0),1))","v":""},{"$f":"IF(O29=\"\",\"\",INDEX(referentes!$A:$B,MATCH(O29,referentes!$B:$B,0),1))","v":""},{"$f":"IF(S29=\"\",\"\",INDEX(referentes!D:E,MATCH(S29,referentes!$E:$E,0),1))","v":""},{"$f":"IF(T29=\"\",\"\",INDEX(referentes!G:H,MATCH(T29,referentes!$H:$H,0),1))","v":""},"",{"$f":"IF(Y29=\"\",\"\",INDEX(referentes!S:T,MATCH(Y29,referentes!$T:$T,0),1))","v":""},{"$f":"IF(BO29=\"\",\"\",INDEX(referentes!J:K,MATCH(BO29,referentes!$K:$K,0),1))","v":""},{"$f":"IF(BJ29=\"\",\"\",INDEX(referentes!V:W,MATCH(BJ29,referentes!$W:$W,0),1))","v":""},{"$f":"IF(BK29=\"\",\"\",INDEX(referentes!Y:Z,MATCH(BK29,referentes!$Z:$Z,0),1))","v":""},{"$f":"IF(BL29=\"\",\"\",INDEX(referentes!AB:AC,MATCH(BL29,referentes!$AC:$AC,0),1))","v":""},{"$f":"IF(BM29=\"\",\"\",INDEX(referentes!AE:AF,MATCH(BM29,referentes!$AF:$AF,0),1))","v":""},{"$f":"IF(BB29=\"\",\"\",INDEX(referentes!M:N,MATCH(BB29,referentes!$N:$N,0),1))","v":""},{"$f":"IF(BQ29=\"\",\"\",INDEX('Otras referencias'!S:T,MATCH(BQ29,'Otras referencias'!$T:$T,0),1))","v":""},{"$f":"IF(BN29=\"\",\"\",INDEX('Otras referencias'!A:B,MATCH(BN29,'Otras referencias'!$B:$B,0),1))","v":""},""]
[1,"",{"$f":"IF(E30<>\"\",CONCATENATE(DIGITADOR!$M$1,TEXT(D30, \"YYYYMMDD\"),ROW()-5),\"\")","v":""},null,null,"",{"$f":"IF(H30=\"\",\"\",INDEX(referentes!AQ:AR,MATCH(H30,referentes!$AR:$AR,0),1))","v":""},null,{"$f":"IF(J30=\"\",\"\",VLOOKUP(J30,referentes!$AL$2:$AO$29,3,FALSE))","v":""},null,null,null,null,null,null,null,null,null,null,null,null,"",null,null,null,null,null,null,null,null,null,null,null,null,null,null,null,null,null,null,null,null,null,null,null,null,null,{"$f":"IF(AW30=\"\",\"\",DIGITADOR!$B$14)","v":""},"",null,null,null,"",null,null,null,null,null,null,null,null,null,null,null,null,null,null,null,null,null,null,"",{"$f":"IF(C30=\"\",\"\",IF(COUNTIF($C$6:C30, C30)>1, \"\", C30))","v":""},{"$f":"IF(N30=\"\",\"\",INDEX(referentes!P:Q,MATCH(N30,referentes!$Q:$Q,0),1))","v":""},{"$f":"IF(O30=\"\",\"\",INDEX(referentes!$A:$B,MATCH(O30,referentes!$B:$B,0),1))","v":""},{"$f":"IF(S30=\"\",\"\",INDEX(referentes!D:E,MATCH(S30,referentes!$E:$E,0),1))","v":""},{"$f":"IF(T30=\"\",\"\",INDEX(referentes!G:H,MATCH(T30,referentes!$H:$H,0),1))","v":""},"",{"$f":"IF(Y30=\"\",\"\",INDEX(referentes!S:T,MATCH(Y30,referentes!$T:$T,0),1))","v":""},{"$f":"IF(BO30=\"\",\"\",INDEX(referentes!J:K,MATCH(BO30,referentes!$K:$K,0),1))","v":""},{"$f":"IF(BJ30=\"\",\"\",INDEX(referentes!V:W,MATCH(BJ30,referentes!$W:$W,0),1))","v":""},{"$f":"IF(BK30=\"\",\"\",INDEX(referentes!Y:Z,MATCH(BK30,referentes!$Z:$Z,0),1))","v":""},{"$f":"IF(BL30=\"\",\"\",INDEX(referentes!AB:AC,MATCH(BL30,referentes!$AC:$AC,0),1))","v":""},{"$f":"IF(BM30=\"\",\"\",INDEX(referentes!AE:AF,MATCH(BM30,referentes!$AF:$AF,0),1))","v":""},{"$f":"IF(BB30=\"\",\"\",INDEX(referentes!M:N,MATCH(BB30,referentes!$N:$N,0),1))","v":""},{"$f":"IF(BQ30=\"\",\"\",INDEX('Otras referencias'!S:T,MATCH(BQ30,'Otras referencias'!$T:$T,0),1))","v":""},{"$f":"IF(BN30=\"\",\"\",INDEX('Otras referencias'!A:B,MATCH(BN30,'Otras referencias'!$B:$B,0),1))","v":""},""]
[1,"",{"$f":"IF(E31<>\"\",CONCATENATE(DIGITADOR!$M$1,TEXT(D31, \"YYYYMMDD\"),ROW()-5),\"\")","v":""},null,null,"",{"$f":"IF(H31=\"\",\"\",INDEX(referentes!AQ:AR,MATCH(H31,referentes!$AR:$AR,0),1))","v":""},null,{"$f":"IF(J31=\"\",\"\",VLOOKUP(J31,referentes!$AL$2:$AO$29,3,FALSE))","v":""},null,null,null,null,null,null,null,null,null,null,null,null,"",null,null,null,null,null,null,null,null,null,null,null,null,null,null,null,null,null,null,null,null,null,null,null,null,null,{"$f":"IF(AW31=\"\",\"\",DIGITADOR!$B$14)","v":""},"",null,null,null,"",null,null,null,null,null,null,null,null,null,null,null,null,null,null,null,null,null,null,"",{"$f":"IF(C31=\"\",\"\",IF(COUNTIF($C$6:C31, C31)>1, \"\", C31))","v":""},{"$f":"IF(N31=\"\",\"\",INDEX(referentes!P:Q,MATCH(N31,referentes!$Q:$Q,0),1))","v":""},{"$f":"IF(O31=\"\",\"\",INDEX(referentes!$A:$B,MATCH(O31,referentes!$B:$B,0),1))","v":""},{"$f":"IF(S31=\"\",\"\",INDEX(referentes!D:E,MATCH(S31,referentes!$E:$E,0),1))","v":""},{"$f":"IF(T31=\"\",\"\",INDEX(referentes!G:H,MATCH(T31,referentes!$H:$H,0),1))","v":""},"",{"$f":"IF(Y31=\"\",\"\",INDEX(referentes!S:T,MATCH(Y31,referentes!$T:$T,0),1))","v":""},{"$f":"IF(BO31=\"\",\"\",INDEX(referentes!J:K,MATCH(BO31,referentes!$K:$K,0),1))","v":""},{"$f":"IF(BJ31=\"\",\"\",INDEX(referentes!V:W,MATCH(BJ31,referentes!$W:$W,0),1))","v":""},{"$f":"IF(BK31=\"\",\"\",INDEX(referentes!Y:Z,MATCH(BK31,referentes!$Z:$Z,0),1))","v":""},{"$f":"IF(BL31=\"\",\"\",INDEX(referentes!AB:AC,MATCH(BL31,referentes!$AC:$AC,0),1))","v":""},{"$f":"IF(BM31=\"\",\"\",INDEX(referentes!AE:AF,MATCH(BM31,referentes!$AF:$AF,0),1))","v":""},{"$f":"IF(BB31=\"\",\"\",INDEX(referentes!M:N,MATCH(BB31,referentes!$N:$N,0),1))","v":""},{"$f":"IF(BQ31=\"\",\"\",INDEX('Otras referencias'!S:T,MATCH(BQ31,'Otras referencias'!$T:$T,0),1))","v":""},{"$f":"IF(BN31=\"\",\"\",INDEX('Otras referencias'!A:B,MATCH(BN31,'Otras referencias'!$B:$B,0),1))","v":""},""]
[1,"",{"$f":"IF(E32<>\"\",CONCATENATE(DIGITADOR!$M$1,TEXT(D32, \"YYYYMMDD\"),ROW()-5),\"\")","v":""},null,null,"",{"$f":"IF(H32=\"\",\"\",INDEX(referentes!AQ:AR,MATCH(H32,referentes!$AR:$AR,0),1))","v":""},null,{"$f":"IF(J32=\"\",\"\",VLOOKUP(J32,referentes!$AL$2:$AO$29,3,FALSE))","v":""},null,null,null,null,null,null,null,null,null,null,null,null,"",null,null,null,null,null,null,null,null,null,null,null,null,null,null,null,null,null,null,null,null,null,null,null,null,null,{"$f":"IF(AW32=\"\",\"\",DIGITADOR!$B$14)","v":""},"",null,null,null,"",null,null,null,null,null,null,null,null,null,null,null,null,null,null,null,null,null,null,"",{"$f":"IF(C32=\"\",\"\",IF(COUNTIF($C$6:C32, C32)>1, \"\", C32))","v":""},{"$f":"IF(N32=\"\",\"\",INDEX(referentes!P:Q,MATCH(N32,referentes!$Q:$Q,0),1))","v":""},{"$f":"IF(O32=\"\",\"\",INDEX(referentes!$A:$B,MATCH(O32,referentes!$B:$B,0),1))","v":""},{"$f":"IF(S32=\"\",\"\",INDEX(referentes!D:E,MATCH(S32,referentes!$E:$E,0),1))","v":""},{"$f":"IF(T32=\"\",\"\",INDEX(referentes!G:H,MATCH(T32,referentes!$H:$H,0),1))","v":""},"",{"$f":"IF(Y32=\"\",\"\",INDEX(referentes!S:T,MATCH(Y32,referentes!$T:$T,0),1))","v":""},{"$f":"IF(BO32=\"\",\"\",INDEX(referentes!J:K,MATCH(BO32,referentes!$K:$K,0),1))","v":""},{"$f":"IF(BJ32=\"\",\"\",INDEX(referentes!V:W,MATCH(BJ32,referentes!$W:$W,0),1))","v":""},{"$f":"IF(BK32=\"\",\"\",INDEX(referentes!Y:Z,MATCH(BK32,referentes!$Z:$Z,0),1))","v":""},{"$f":"IF(BL32=\"\",\"\",INDEX(referentes!AB:AC,MATCH(BL32,referentes!$AC:$AC,0),1))","v":""},{"$f":"IF(BM32=\"\",\"\",INDEX(referentes!AE:AF,MATCH(BM32,referentes!$AF:$AF,0),1))","v":""},{"$f":"IF(BB32=\"\",\"\",INDEX(referentes!M:N,MATCH(BB32,referentes!$N:$N,0),1))","v":""},{"$f":"IF(BQ32=\"\",\"\",INDEX('Otras referencias'!S:T,MATCH(BQ32,'Otras referencias'!$T:$T,0),1))","v":""},{"$f":"IF(BN32=\"\",\"\",INDEX('Otras referencias'!A:B,MATCH(BN32,'Otras referencias'!$B:$B,0),1))","v":""},""]
[1,"",{"$f":"IF(E33<>\"\",CONCATENATE(DIGITADOR!$M$1,TEXT(D33, \"YYYYMMDD\"),ROW()-5),\"\")","v":""},null,null,"",{"$f":"IF(H33=\"\",\"\",INDEX(referentes!AQ:AR,MATCH(H33,referentes!$AR:$AR,0),1))","v":""},null,{"$f":"IF(J33=\"\",\"\",VLOOKUP(J33,referentes!$AL$2:$AO$29,3,FALSE))","v":""},null,null,null,null,null,null,null,null,null,null,null,null,"",null,null,null,null,null,null,null,null,null,null,null,null,null,null,null,null,null,null,null,null,null,null,null,null,null,{"$f":"IF(AW33=\"\",\"\",DIGITADOR!$B$14)","v":""},"",null,null,null,"",null,null,null,null,null,null,null,null,null,null,null,null,null,null,null,null,null,null,"",{"$f":"IF(C33=\"\",\"\",IF(COUNTIF($C$6:C33, C33)>1, \"\", C33))","v":""},{"$f":"IF(N33=\"\",\"\",INDEX(referentes!P:Q,MATCH(N33,referentes!$Q:$Q,0),1))","v":""},{"$f":"IF(O33=\"\",\"\",INDEX(referentes!$A:$B,MATCH(O33,referentes!$B:$B,0),1))","v":""},{"$f":"IF(S33=\"\",\"\",INDEX(referentes!D:E,MATCH(S33,referentes!$E:$E,0),1))","v":""},{"$f":"IF(T33=\"\",\"\",INDEX(referentes!G:H,MATCH(T33,referentes!$H:$H,0),1))","v":""},"",{"$f":"IF(Y33=\"\",\"\",INDEX(referentes!S:T,MATCH(Y33,referentes!$T:$T,0),1))","v":""},{"$f":"IF(BO33=\"\",\"\",INDEX(referentes!J:K,MATCH(BO33,referentes!$K:$K,0),1))","v":""},{"$f":"IF(BJ33=\"\",\"\",INDEX(referentes!V:W,MATCH(BJ33,referentes!$W:$W,0),1))","v":""},{"$f":"IF(BK33=\"\",\"\",INDEX(referentes!Y:Z,MATCH(BK33,referentes!$Z:$Z,0),1))","v":""},{"$f":"IF(BL33=\"\",\"\",INDEX(referentes!AB:AC,MATCH(BL33,referentes!$AC:$AC,0),1))","v":""},{"$f":"IF(BM33=\"\",\"\",INDEX(referentes!AE:AF,MATCH(BM33,referentes!$AF:$AF,0),1))","v":""},{"$f":"IF(BB33=\"\",\"\",INDEX(referentes!M:N,MATCH(BB33,referentes!$N:$N,0),1))","v":""},{"$f":"IF(BQ33=\"\",\"\",INDEX('Otras referencias'!S:T,MATCH(BQ33,'Otras referencias'!$T:$T,0),1))","v":""},{"$f":"IF(BN33=\"\",\"\",INDEX('Otras referencias'!A:B,MATCH(BN33,'Otras referencias'!$B:$B,0),1))","v":""},""]
[1,"",{"$f":"IF(E34<>\"\",CONCATENATE(DIGITADOR!$M$1,TEXT(D34, \"YYYYMMDD\"),ROW()-5),\"\")","v":""},null,null,"",{"$f":"IF(H34=\"\",\"\",INDEX(referentes!AQ:AR,MATCH(H34,referentes!$AR:$AR,0),1))","v":""},null,{"$f":"IF(J34=\"\",\"\",VLOOKUP(J34,referentes!$AL$2:$AO$29,3,FALSE))","v":""},null,null,null,null,null,null,null,null,null,null,null,null,"",null,null,null,null,null,null,null,null,null,null,null,null,null,null,null,null,null,null,null,null,null,null,null,null,null,{"$f":"IF(AW34=\"\",\"\",DIGITADOR!$B$14)","v":""},"",null,null,null,"",null,null,null,null,null,null,null,null,null,null,null,null,null,null,null,null,null,null,"",{"$f":"IF(C34=\"\",\"\",IF(COUNTIF($C$6:C34, C34)>1, \"\", C34))","v":""},{"$f":"IF(N34=\"\",\"\",INDEX(referentes!P:Q,MATCH(N34,referentes!$Q:$Q,0),1))","v":""},{"$f":"IF(O34=\"\",\"\",INDEX(referentes!$A:$B,MATCH(O34,referentes!$B:$B,0),1))","v":""},{"$f":"IF(S34=\"\",\"\",INDEX(referentes!D:E,MATCH(S34,referentes!$E:$E,0),1))","v":""},{"$f":"IF(T34=\"\",\"\",INDEX(referentes!G:H,MATCH(T34,referentes!$H:$H,0),1))","v":""},"",{"$f":"IF(Y34=\"\",\"\",INDEX(referentes!S:T,MATCH(Y34,referentes!$T:$T,0),1))","v":""},{"$f":"IF(BO34=\"\",\"\",INDEX(referentes!J:K,MATCH(BO34,referentes!$K:$K,0),1))","v":""},{"$f":"IF(BJ34=\"\",\"\",INDEX(referentes!V:W,MATCH(BJ34,referentes!$W:$W,0),1))","v":""},{"$f":"IF(BK34=\"\",\"\",INDEX(referentes!Y:Z,MATCH(BK34,referentes!$Z:$Z,0),1))","v":""},{"$f":"IF(BL34=\"\",\"\",INDEX(referentes!AB:AC,MATCH(BL34,referentes!$AC:$AC,0),1))","v":""},{"$f":"IF(BM34=\"\",\"\",INDEX(referentes!AE:AF,MATCH(BM34,referentes!$AF:$AF,0),1))","v":""},{"$f":"IF(BB34=\"\",\"\",INDEX(referentes!M:N,MATCH(BB34,referentes!$N:$N,0),1))","v":""},{"$f":"IF(BQ34=\"\",\"\",INDEX('Otras referencias'!S:T,MATCH(BQ34,'Otras referencias'!$T:$T,0),1))","v":""},{"$f":"IF(BN34=\"\",\"\",INDEX('Otras referencias'!A:B,MATCH(BN34,'Otras referencias'!$B:$B,0),1))","v":""},""]
[1,"",{"$f":"IF(E35<>\"\",CONCATENATE(DIGITADOR!$M$1,TEXT(D35, \"YYYYMMDD\"),ROW()-5),\"\")","v":""},null,null,"",{"$f":"IF(H35=\"\",\"\",INDEX(referentes!AQ:AR,MATCH(H35,referentes!$AR:$AR,0),1))","v":""},null,{"$f":"IF(J35=\"\",\"\",VLOOKUP(J35,referentes!$AL$2:$AO$29,3,FALSE))","v":""},null,null,null,null,null,null,null,null,null,null,null,null,"",null,null,null,null,null,null,null,null,null,null,null,null,null,null,null,null,null,null,null,null,null,null,null,null,null,{"$f":"IF(AW35=\"\",\"\",DIGITADOR!$B$14)","v":""},"",null,null,null,"",null,null,null,null,null,null,null,null,null,null,null,null,null,null,null,null,null,null,"",{"$f":"IF(C35=\"\",\"\",IF(COUNTIF($C$6:C35, C35)>1, \"\", C35))","v":""},{"$f":"IF(N35=\"\",\"\",INDEX(referentes!P:Q,MATCH(N35,referentes!$Q:$Q,0),1))","v":""},{"$f":"IF(O35=\"\",\"\",INDEX(referentes!$A:$B,MATCH(O35,referentes!$B:$B,0),1))","v":""},{"$f":"IF(S35=\"\",\"\",INDEX(referentes!D:E,MATCH(S35,referentes!$E:$E,0),1))","v":""},{"$f":"IF(T35=\"\",\"\",INDEX(referentes!G:H,MATCH(T35,referentes!$H:$H,0),1))","v":""},"",{"$f":"IF(Y35=\"\",\"\",INDEX(referentes!S:T,MATCH(Y35,referentes!$T:$T,0),1))","v":""},{"$f":"IF(BO35=\"\",\"\",INDEX(referentes!J:K,MATCH(BO35,referentes!$K:$K,0),1))","v":""},{"$f":"IF(BJ35=\"\",\"\",INDEX(referentes!V:W,MATCH(BJ35,referentes!$W:$W,0),1))","v":""},{"$f":"IF(BK35=\"\",\"\",INDEX(referentes!Y:Z,MATCH(BK35,referentes!$Z:$Z,0),1))","v":""},{"$f":"IF(BL35=\"\",\"\",INDEX(referentes!AB:AC,MATCH(BL35,referentes!$AC:$AC,0),1))","v":""},{"$f":"IF(BM35=\"\",\"\",INDEX(referentes!AE:AF,MATCH(BM35,referentes!$AF:$AF,0),1))","v":""},{"$f":"IF(BB35=\"\",\"\",INDEX(referentes!M:N,MATCH(BB35,referentes!$N:$N,0),1))","v":""},{"$f":"IF(BQ35=\"\",\"\",INDEX('Otras referencias'!S:T,MATCH(BQ35,'Otras referencias'!$T:$T,0),1))","v":""},{"$f":"IF(BN35=\"\",\"\",INDEX('Otras referencias'!A:B,MATCH(BN35,'Otras referencias'!$B:$B,0),1))","v":""},""]
[1,"",{"$f":"IF(E36<>\"\",CONCATENATE(DIGITADOR!$M$1,TEXT(D36, \"YYYYMMDD\"),ROW()-5),\"\")","v":""},null,null,"",{"$f":"IF(H36=\"\",\"\",INDEX(referentes!AQ:AR,MATCH(H36,referentes!$AR:$AR,0),1))","v":""},null,{"$f":"IF(J36=\"\",\"\",VLOOKUP(J36,referentes!$AL$2:$AO$29,3,FALSE))","v":""},null,null,null,null,null,null,null,null,null,null,null,null,"",null,null,null,null,null,null,null,null,null,null,null,null,null,null,null,null,null,null,null,null,null,null,null,null,null,{"$f":"IF(AW36=\"\",\"\",DIGITADOR!$B$14)","v":""},"",null,null,null,"",null,null,null,null,null,null,null,null,null,null,null,null,null,null,null,null,null,null,"",{"$f":"IF(C36=\"\",\"\",IF(COUNTIF($C$6:C36, C36)>1, \"\", C36))","v":""},{"$f":"IF(N36=\"\",\"\",INDEX(referentes!P:Q,MATCH(N36,referentes!$Q:$Q,0),1))","v":""},{"$f":"IF(O36=\"\",\"\",INDEX(referentes!$A:$B,MATCH(O36,referentes!$B:$B,0),1))","v":""},{"$f":"IF(S36=\"\",\"\",INDEX(referentes!D:E,MATCH(S36,referentes!$E:$E,0),1))","v":""},{"$f":"IF(T36=\"\",\"\",INDEX(referentes!G:H,MATCH(T36,referentes!$H:$H,0),1))","v":""},"",{"$f":"IF(Y36=\"\",\"\",INDEX(referentes!S:T,MATCH(Y36,referentes!$T:$T,0),1))","v":""},{"$f":"IF(BO36=\"\",\"\",INDEX(referentes!J:K,MATCH(BO36,referentes!$K:$K,0),1))","v":""},{"$f":"IF(BJ36=\"\",\"\",INDEX(referentes!V:W,MATCH(BJ36,referentes!$W:$W,0),1))","v":""},{"$f":"IF(BK36=\"\",\"\",INDEX(referentes!Y:Z,MATCH(BK36,referentes!$Z:$Z,0),1))","v":""},{"$f":"IF(BL36=\"\",\"\",INDEX(referentes!AB:AC,MATCH(BL36,referentes!$AC:$AC,0),1))","v":""},{"$f":"IF(BM36=\"\",\"\",INDEX(referentes!AE:AF,MATCH(BM36,referentes!$AF:$AF,0),1))","v":""},{"$f":"IF(BB36=\"\",\"\",INDEX(referentes!M:N,MATCH(BB36,referentes!$N:$N,0),1))","v":""},{"$f":"IF(BQ36=\"\",\"\",INDEX('Otras referencias'!S:T,MATCH(BQ36,'Otras referencias'!$T:$T,0),1))","v":""},{"$f":"IF(BN36=\"\",\"\",INDEX('Otras referencias'!A:B,MATCH(BN36,'Otras referencias'!$B:$B,0),1))","v":""},""]
[1,"",{"$f":"IF(E37<>\"\",CONCATENATE(DIGITADOR!$M$1,TEXT(D37, \"YYYYMMDD\"),ROW()-5),\"\")","v":""},null,null,"",{"$f":"IF(H37=\"\",\"\",INDEX(referentes!AQ:AR,MATCH(H37,referentes!$AR:$AR,0),1))","v":""},null,{"$f":"IF(J37=\"\",\"\",VLOOKUP(J37,referentes!$AL$2:$AO$29,3,FALSE))","v":""},null,null,null,null,null,null,null,null,null,null,null,null,"",null,null,null,null,null,null,null,null,null,null,null,null,null,null,null,null,null,null,null,null,null,null,null,null,null,{"$f":"IF(AW37=\"\",\"\",DIGITADOR!$B$14)","v":""},"",null,null,null,"",null,null,null,null,null,null,null,null,null,null,null,null,null,null,null,null,null,null,"",{"$f":"IF(C37=\"\",\"\",IF(COUNTIF($C$6:C37, C37)>1, \"\", C37))","v":""},{"$f":"IF(N37=\"\",\"\",INDEX(referentes!P:Q,MATCH(N37,referentes!$Q:$Q,0),1))","v":""},{"$f":"IF(O37=\"\",\"\",INDEX(referentes!$A:$B,MATCH(O37,referentes!$B:$B,0),1))","v":""},{"$f":"IF(S37=\"\",\"\",INDEX(referentes!D:E,MATCH(S37,referentes!$E:$E,0),1))","v":""},{"$f":"IF(T37=\"\",\"\",INDEX(referentes!G:H,MATCH(T37,referentes!$H:$H,0),1))","v":""},"",{"$f":"IF(Y37=\"\",\"\",INDEX(referentes!S:T,MATCH(Y37,referentes!$T:$T,0),1))","v":""},{"$f":"IF(BO37=\"\",\"\",INDEX(referentes!J:K,MATCH(BO37,referentes!$K:$K,0),1))","v":""},{"$f":"IF(BJ37=\"\",\"\",INDEX(referentes!V:W,MATCH(BJ37,referentes!$W:$W,0),1))","v":""},{"$f":"IF(BK37=\"\",\"\",INDEX(referentes!Y:Z,MATCH(BK37,referentes!$Z:$Z,0),1))","v":""},{"$f":"IF(BL37=\"\",\"\",INDEX(referentes!AB:AC,MATCH(BL37,referentes!$AC:$AC,0),1))","v":""},{"$f":"IF(BM37=\"\",\"\",INDEX(referentes!AE:AF,MATCH(BM37,referentes!$AF:$AF,0),1))","v":""},{"$f":"IF(BB37=\"\",\"\",INDEX(referentes!M:N,MATCH(BB37,referentes!$N:$N,0),1))","v":""},{"$f":"IF(BQ37=\"\",\"\",INDEX('Otras referencias'!S:T,MATCH(BQ37,'Otras referencias'!$T:$T,0),1))","v":""},{"$f":"IF(BN37=\"\",\"\",INDEX('Otras referencias'!A:B,MATCH(BN37,'Otras referencias'!$B:$B,0),1))","v":""},""]
[1,"",{"$f":"IF(E38<>\"\",CONCATENATE(DIGITADOR!$M$1,TEXT(D38, \"YYYYMMDD\"),ROW()-5),\"\")","v":""},null,null,"",{"$f":"IF(H38=\"\",\"\",INDEX(referentes!AQ:AR,MATCH(H38,referentes!$AR:$AR,0),1))","v":""},null,{"$f":"IF(J38=\"\",\"\",VLOOKUP(J38,referentes!$AL$2:$AO$29,3,FALSE))","v":""},null,null,null,null,null,null,null,null,null,null,null,null,"",null,null,null,null,null,null,null,null,null,null,null,null,null,null,null,null,null,null,null,null,null,null,null,null,null,{"$f":"IF(AW38=\"\",\"\",DIGITADOR!$B$14)","v":""},"",null,null,null,"",null,null,null,null,null,null,null,null,null,null,null,null,null,null,null,null,null,null,"",{"$f":"IF(C38=\"\",\"\",IF(COUNTIF($C$6:C38, C38)>1, \"\", C38))","v":""},{"$f":"IF(N38=\"\",\"\",INDEX(referentes!P:Q,MATCH(N38,referentes!$Q:$Q,0),1))","v":""},{"$f":"IF(O38=\"\",\"\",INDEX(referentes!$A:$B,MATCH(O38,referentes!$B:$B,0),1))","v":""},{"$f":"IF(S38=\"\",\"\",INDEX(referentes!D:E,MATCH(S38,referentes!$E:$E,0),1))","v":""},{"$f":"IF(T38=\"\",\"\",INDEX(referentes!G:H,MATCH(T38,referentes!$H:$H,0),1))","v":""},"",{"$f":"IF(Y38=\"\",\"\",INDEX(referentes!S:T,MATCH(Y38,referentes!$T:$T,0),1))","v":""},{"$f":"IF(BO38=\"\",\"\",INDEX(referentes!J:K,MATCH(BO38,referentes!$K:$K,0),1))","v":""},{"$f":"IF(BJ38=\"\",\"\",INDEX(referentes!V:W,MATCH(BJ38,referentes!$W:$W,0),1))","v":""},{"$f":"IF(BK38=\"\",\"\",INDEX(referentes!Y:Z,MATCH(BK38,referentes!$Z:$Z,0),1))","v":""},{"$f":"IF(BL38=\"\",\"\",INDEX(referentes!AB:AC,MATCH(BL38,referentes!$AC:$AC,0),1))","v":""},{"$f":"IF(BM38=\"\",\"\",INDEX(referentes!AE:AF,MATCH(BM38,referentes!$AF:$AF,0),1))","v":""},{"$f":"IF(BB38=\"\",\"\",INDEX(referentes!M:N,MATCH(BB38,referentes!$N:$N,0),1))","v":""},{"$f":"IF(BQ38=\"\",\"\",INDEX('Otras referencias'!S:T,MATCH(BQ38,'Otras referencias'!$T:$T,0),1))","v":""},{"$f":"IF(BN38=\"\",\"\",INDEX('Otras referencias'!A:B,MATCH(BN38,'Otras referencias'!$B:$B,0),1))","v":""},""]
[{"$f":"IF(CJ39=CJ38,A38,A38+1)","v":1},"",{"$f":"IF(E39<>\"\",CONCATENATE(DIGITADOR!$M$1,TEXT(D39, \"YYYYMMDD\"),ROW()-5),\"\")","v":""},null,null,"",{"$f":"IF(H39=\"\",\"\",INDEX(referentes!AQ:AR,MATCH(H39,referentes!$AR:$AR,0),1))","v":""},null,{"$f":"IF(J39=\"\",\"\",VLOOKUP(J39,referentes!$AL$2:$AO$29,3,FALSE))","v":""},null,null,null,null,null,null,null,null,null,null,null,null,{"$f":"IF(W39=\"\",\"\",IF(W39=W38,B38,B38+1))","v":""},null,null,null,null,null,null,null,null,null,null,null,null,null,null,null,null,null,null,null,null,null,null,null,null,null,{"$f":"IF(AW39=\"\",\"\",DIGITADOR!$B$14)","v":""},"",null,null,null,"",null,null,null,null,null,null,null,null,null,null,null,null,null,null,null,null,null,null,"",{"$f":"IF(C39=\"\",\"\",IF(COUNTIF($C$6:C39, C39)>1, \"\", C39))","v":""},{"$f":"IF(N39=\"\",\"\",INDEX(referentes!P:Q,MATCH(N39,referentes!$Q:$Q,0),1))","v":""},{"$f":"IF(O39=\"\",\"\",INDEX(referentes!$A:$B,MATCH(O39,referentes!$B:$B,0),1))","v":""},{"$f":"IF(S39=\"\",\"\",INDEX(referentes!D:E,MATCH(S39,referentes!$E:$E,0),1))","v":""},{"$f":"IF(T39=\"\",\"\",INDEX(referentes!G:H,MATCH(T39,referentes!$H:$H,0),1))","v":""},"",{"$f":"IF(Y39=\"\",\"\",INDEX(referentes!S:T,MATCH(Y39,referentes!$T:$T,0),1))","v":""},{"$f":"IF(BO39=\"\",\"\",INDEX(referentes!J:K,MATCH(BO39,referentes!$K:$K,0),1))","v":""},{"$f":"IF(BJ39=\"\",\"\",INDEX(referentes!V:W,MATCH(BJ39,referentes!$W:$W,0),1))","v":""},{"$f":"IF(BK39=\"\",\"\",INDEX(referentes!Y:Z,MATCH(BK39,referentes!$Z:$Z,0),1))","v":""},{"$f":"IF(BL39=\"\",\"\",INDEX(referentes!AB:AC,MATCH(BL39,referentes!$AC:$AC,0),1))","v":""},{"$f":"IF(BM39=\"\",\"\",INDEX(referentes!AE:AF,MATCH(BM39,referentes!$AF:$AF,0),1))","v":""},{"$f":"IF(BB39=\"\",\"\",INDEX(referentes!M:N,MATCH(BB39,referentes!$N:$N,0),1))","v":""},{"$f":"IF(BQ39=\"\",\"\",INDEX('Otras referencias'!S:T,MATCH(BQ39,'Otras referencias'!$T:$T,0),1))","v":""},{"$f":"IF(BN39=\"\",\"\",INDEX('Otras referencias'!A:B,MATCH(BN39,'Otras referencias'!$B:$B,0),1))","v":""},""]
[1,"",{"$f":"IF(E40<>\"\",CONCATENATE(DIGITADOR!$M$1,TEXT(D40, \"YYYYMMDD\"),ROW()-5),\"\")","v":""},null,null,"",{"$f":"IF(H40=\"\",\"\",INDEX(referentes!AQ:AR,MATCH(H40,referentes!$AR:$AR,0),1))","v":""},null,{"$f":"IF(J40=\"\",\"\",VLOOKUP(J40,referentes!$AL$2:$AO$29,3,FALSE))","v":""},null,null,null,null,null,null,null,null,null,null,null,null,"",null,null,null,null,null,null,null,null,null,null,null,null,null,null,null,null,null,null,null,null,null,null,null,null,null,{"$f":"IF(AW40=\"\",\"\",DIGITADOR!$B$14)","v":""},"",null,null,null,"",null,null,null,null,null,null,null,null,null,null,null,null,null,null,null,null,null,null,"",{"$f":"IF(C40=\"\",\"\",IF(COUNTIF($C$6:C40, C40)>1, \"\", C40))","v":""},{"$f":"IF(N40=\"\",\"\",INDEX(referentes!P:Q,MATCH(N40,referentes!$Q:$Q,0),1))","v":""},{"$f":"IF(O40=\"\",\"\",INDEX(referentes!$A:$B,MATCH(O40,referentes!$B:$B,0),1))","v":""},{"$f":"IF(S40=\"\",\"\",INDEX(referentes!D:E,MATCH(S40,referentes!$E:$E,0),1))","v":""},{"$f":"IF(T40=\"\",\"\",INDEX(referentes!G:H,MATCH(T40,referentes!$H:$H,0),1))","v":""},"",{"$f":"IF(Y40=\"\",\"\",INDEX(referentes!S:T,MATCH(Y40,referentes!$T:$T,0),1))","v":""},{"$f":"IF(BO40=\"\",\"\",INDEX(referentes!J:K,MATCH(BO40,referentes!$K:$K,0),1))","v":""},{"$f":"IF(BJ40=\"\",\"\",INDEX(referentes!V:W,MATCH(BJ40,referentes!$W:$W,0),1))","v":""},{"$f":"IF(BK40=\"\",\"\",INDEX(referentes!Y:Z,MATCH(BK40,referentes!$Z:$Z,0),1))","v":""},{"$f":"IF(BL40=\"\",\"\",INDEX(referentes!AB:AC,MATCH(BL40,referentes!$AC:$AC,0),1))","v":""},{"$f":"IF(BM40=\"\",\"\",INDEX(referentes!AE:AF,MATCH(BM40,referentes!$AF:$AF,0),1))","v":""},{"$f":"IF(BB40=\"\",\"\",INDEX(referentes!M:N,MATCH(BB40,referentes!$N:$N,0),1))","v":""},{"$f":"IF(BQ40=\"\",\"\",INDEX('Otras referencias'!S:T,MATCH(BQ40,'Otras referencias'!$T:$T,0),1))","v":""},{"$f":"IF(BN40=\"\",\"\",INDEX('Otras referencias'!A:B,MATCH(BN40,'Otras referencias'!$B:$B,0),1))","v":""},""]
[1,"",{"$f":"IF(E41<>\"\",CONCATENATE(DIGITADOR!$M$1,TEXT(D41, \"YYYYMMDD\"),ROW()-5),\"\")","v":""},null,null,"",{"$f":"IF(H41=\"\",\"\",INDEX(referentes!AQ:AR,MATCH(H41,referentes!$AR:$AR,0),1))","v":""},null,{"$f":"IF(J41=\"\",\"\",VLOOKUP(J41,referentes!$AL$2:$AO$29,3,FALSE))","v":""},null,null,null,null,null,null,null,null,null,null,null,null,"",null,null,null,null,null,null,null,null,null,null,null,null,null,null,null,null,null,null,null,null,null,null,null,null,null,{"$f":"IF(AW41=\"\",\"\",DIGITADOR!$B$14)","v":""},"",null,null,null,"",null,null,null,null,null,null,null,null,null,null,null,null,null,null,null,null,null,null,"",{"$f":"IF(C41=\"\",\"\",IF(COUNTIF($C$6:C41, C41)>1, \"\", C41))","v":""},{"$f":"IF(N41=\"\",\"\",INDEX(referentes!P:Q,MATCH(N41,referentes!$Q:$Q,0),1))","v":""},{"$f":"IF(O41=\"\",\"\",INDEX(referentes!$A:$B,MATCH(O41,referentes!$B:$B,0),1))","v":""},{"$f":"IF(S41=\"\",\"\",INDEX(referentes!D:E,MATCH(S41,referentes!$E:$E,0),1))","v":""},{"$f":"IF(T41=\"\",\"\",INDEX(referentes!G:H,MATCH(T41,referentes!$H:$H,0),1))","v":""},"",{"$f":"IF(Y41=\"\",\"\",INDEX(referentes!S:T,MATCH(Y41,referentes!$T:$T,0),1))","v":""},{"$f":"IF(BO41=\"\",\"\",INDEX(referentes!J:K,MATCH(BO41,referentes!$K:$K,0),1))","v":""},{"$f":"IF(BJ41=\"\",\"\",INDEX(referentes!V:W,MATCH(BJ41,referentes!$W:$W,0),1))","v":""},{"$f":"IF(BK41=\"\",\"\",INDEX(referentes!Y:Z,MATCH(BK41,referentes!$Z:$Z,0),1))","v":""},{"$f":"IF(BL41=\"\",\"\",INDEX(referentes!AB:AC,MATCH(BL41,referentes!$AC:$AC,0),1))","v":""},{"$f":"IF(BM41=\"\",\"\",INDEX(referentes!AE:AF,MATCH(BM41,referentes!$AF:$AF,0),1))","v":""},{"$f":"IF(BB41=\"\",\"\",INDEX(referentes!M:N,MATCH(BB41,referentes!$N:$N,0),1))","v":""},{"$f":"IF(BQ41=\"\",\"\",INDEX('Otras referencias'!S:T,MATCH(BQ41,'Otras referencias'!$T:$T,0),1))","v":""},{"$f":"IF(BN41=\"\",\"\",INDEX('Otras referencias'!A:B,MATCH(BN41,'Otras referencias'!$B:$B,0),1))","v":""},""]
[1,"",{"$f":"IF(E42<>\"\",CONCATENATE(DIGITADOR!$M$1,TEXT(D42, \"YYYYMMDD\"),ROW()-5),\"\")","v":""},null,null,"",{"$f":"IF(H42=\"\",\"\",INDEX(referentes!AQ:AR,MATCH(H42,referentes!$AR:$AR,0),1))","v":""},null,{"$f":"IF(J42=\"\",\"\",VLOOKUP(J42,referentes!$AL$2:$AO$29,3,FALSE))","v":""},null,null,null,null,null,null,null,null,null,null,null,null,"",null,null,null,null,null,null,null,null,null,null,null,null,null,null,null,null,null,null,null,null,null,null,null,null,null,{"$f":"IF(AW42=\"\",\"\",DIGITADOR!$B$14)","v":""},"",null,null,null,"",null,null,null,null,null,null,null,null,null,null,null,null,null,null,null,null,null,null,"",{"$f":"IF(C42=\"\",\"\",IF(COUNTIF($C$6:C42, C42)>1, \"\", C42))","v":""},{"$f":"IF(N42=\"\",\"\",INDEX(referentes!P:Q,MATCH(N42,referentes!$Q:$Q,0),1))","v":""},{"$f":"IF(O42=\"\",\"\",INDEX(referentes!$A:$B,MATCH(O42,referentes!$B:$B,0),1))","v":""},{"$f":"IF(S42=\"\",\"\",INDEX(referentes!D:E,MATCH(S42,referentes!$E:$E,0),1))","v":""},{"$f":"IF(T42=\"\",\"\",INDEX(referentes!G:H,MATCH(T42,referentes!$H:$H,0),1))","v":""},"",{"$f":"IF(Y42=\"\",\"\",INDEX(referentes!S:T,MATCH(Y42,referentes!$T:$T,0),1))","v":""},{"$f":"IF(BO42=\"\",\"\",INDEX(referentes!J:K,MATCH(BO42,referentes!$K:$K,0),1))","v":""},{"$f":"IF(BJ42=\"\",\"\",INDEX(referentes!V:W,MATCH(BJ42,referentes!$W:$W,0),1))","v":""},{"$f":"IF(BK42=\"\",\"\",INDEX(referentes!Y:Z,MATCH(BK42,referentes!$Z:$Z,0),1))","v":""},{"$f":"IF(BL42=\"\",\"\",INDEX(referentes!AB:AC,MATCH(BL42,referentes!$AC:$AC,0),1))","v":""},{"$f":"IF(BM42=\"\",\"\",INDEX(referentes!AE:AF,MATCH(BM42,referentes!$AF:$AF,0),1))","v":""},{"$f":"IF(BB42=\"\",\"\",INDEX(referentes!M:N,MATCH(BB42,referentes!$N:$N,0),1))","v":""},{"$f":"IF(BQ42=\"\",\"\",INDEX('Otras referencias'!S:T,MATCH(BQ42,'Otras referencias'!$T:$T,0),1))","v":""},{"$f":"IF(BN42=\"\",\"\",INDEX('Otras referencias'!A:B,MATCH(BN42,'Otras referencias'!$B:$B,0),1))","v":""},""]
[1,"",{"$f":"IF(E43<>\"\",CONCATENATE(DIGITADOR!$M$1,TEXT(D43, \"YYYYMMDD\"),ROW()-5),\"\")","v":""},null,null,"",{"$f":"IF(H43=\"\",\"\",INDEX(referentes!AQ:AR,MATCH(H43,referentes!$AR:$AR,0),1))","v":""},null,{"$f":"IF(J43=\"\",\"\",VLOOKUP(J43,referentes!$AL$2:$AO$29,3,FALSE))","v":""},null,null,null,null,null,null,null,null,null,null,null,null,"",null,null,null,null,null,null,null,null,null,null,null,null,null,null,null,null,null,null,null,null,null,null,null,null,null,{"$f":"IF(AW43=\"\",\"\",DIGITADOR!$B$14)","v":""},"",null,null,null,"",null,null,null,null,null,null,null,null,null,null,null,null,null,null,null,null,null,null,"",{"$f":"IF(C43=\"\",\"\",IF(COUNTIF($C$6:C43, C43)>1, \"\", C43))","v":""},{"$f":"IF(N43=\"\",\"\",INDEX(referentes!P:Q,MATCH(N43,referentes!$Q:$Q,0),1))","v":""},{"$f":"IF(O43=\"\",\"\",INDEX(referentes!$A:$B,MATCH(O43,referentes!$B:$B,0),1))","v":""},{"$f":"IF(S43=\"\",\"\",INDEX(referentes!D:E,MATCH(S43,referentes!$E:$E,0),1))","v":""},{"$f":"IF(T43=\"\",\"\",INDEX(referentes!G:H,MATCH(T43,referentes!$H:$H,0),1))","v":""},"",{"$f":"IF(Y43=\"\",\"\",INDEX(referentes!S:T,MATCH(Y43,referentes!$T:$T,0),1))","v":""},{"$f":"IF(BO43=\"\",\"\",INDEX(referentes!J:K,MATCH(BO43,referentes!$K:$K,0),1))","v":""},{"$f":"IF(BJ43=\"\",\"\",INDEX(referentes!V:W,MATCH(BJ43,referentes!$W:$W,0),1))","v":""},{"$f":"IF(BK43=\"\",\"\",INDEX(referentes!Y:Z,MATCH(BK43,referentes!$Z:$Z,0),1))","v":""},{"$f":"IF(BL43=\"\",\"\",INDEX(referentes!AB:AC,MATCH(BL43,referentes!$AC:$AC,0),1))","v":""},{"$f":"IF(BM43=\"\",\"\",INDEX(referentes!AE:AF,MATCH(BM43,referentes!$AF:$AF,0),1))","v":""},{"$f":"IF(BB43=\"\",\"\",INDEX(referentes!M:N,MATCH(BB43,referentes!$N:$N,0),1))","v":""},{"$f":"IF(BQ43=\"\",\"\",INDEX('Otras referencias'!S:T,MATCH(BQ43,'Otras referencias'!$T:$T,0),1))","v":""},{"$f":"IF(BN43=\"\",\"\",INDEX('Otras referencias'!A:B,MATCH(BN43,'Otras referencias'!$B:$B,0),1))","v":""},""]
[1,"",{"$f":"IF(E44<>\"\",CONCATENATE(DIGITADOR!$M$1,TEXT(D44, \"YYYYMMDD\"),ROW()-5),\"\")","v":""},null,null,"",{"$f":"IF(H44=\"\",\"\",INDEX(referentes!AQ:AR,MATCH(H44,referentes!$AR:$AR,0),1))","v":""},null,{"$f":"IF(J44=\"\",\"\",VLOOKUP(J44,referentes!$AL$2:$AO$29,3,FALSE))","v":""},null,null,null,null,null,null,null,null,null,null,null,null,"",null,null,null,null,null,null,null,null,null,null,null,null,null,null,null,null,null,null,null,null,null,null,null,null,null,{"$f":"IF(AW44=\"\",\"\",DIGITADOR!$B$14)","v":""},"",null,null,null,"",null,null,null,null,null,null,null,null,null,null,null,null,null,null,null,null,null,null,"",{"$f":"IF(C44=\"\",\"\",IF(COUNTIF($C$6:C44, C44)>1, \"\", C44))","v":""},{"$f":"IF(N44=\"\",\"\",INDEX(referentes!P:Q,MATCH(N44,referentes!$Q:$Q,0),1))","v":""},{"$f":"IF(O44=\"\",\"\",INDEX(referentes!$A:$B,MATCH(O44,referentes!$B:$B,0),1))","v":""},{"$f":"IF(S44=\"\",\"\",INDEX(referentes!D:E,MATCH(S44,referentes!$E:$E,0),1))","v":""},{"$f":"IF(T44=\"\",\"\",INDEX(referentes!G:H,MATCH(T44,referentes!$H:$H,0),1))","v":""},"",{"$f":"IF(Y44=\"\",\"\",INDEX(referentes!S:T,MATCH(Y44,referentes!$T:$T,0),1))","v":""},{"$f":"IF(BO44=\"\",\"\",INDEX(referentes!J:K,MATCH(BO44,referentes!$K:$K,0),1))","v":""},{"$f":"IF(BJ44=\"\",\"\",INDEX(referentes!V:W,MATCH(BJ44,referentes!$W:$W,0),1))","v":""},{"$f":"IF(BK44=\"\",\"\",INDEX(referentes!Y:Z,MATCH(BK44,referentes!$Z:$Z,0),1))","v":""},{"$f":"IF(BL44=\"\",\"\",INDEX(referentes!AB:AC,MATCH(BL44,referentes!$AC:$AC,0),1))","v":""},{"$f":"IF(BM44=\"\",\"\",INDEX(referentes!AE:AF,MATCH(BM44,referentes!$AF:$AF,0),1))","v":""},{"$f":"IF(BB44=\"\",\"\",INDEX(referentes!M:N,MATCH(BB44,referentes!$N:$N,0),1))","v":""},{"$f":"IF(BQ44=\"\",\"\",INDEX('Otras referencias'!S:T,MATCH(BQ44,'Otras referencias'!$T:$T,0),1))","v":""},{"$f":"IF(BN44=\"\",\"\",INDEX('Otras referencias'!A:B,MATCH(BN44,'Otras referencias'!$B:$B,0),1))","v":""},""]
[1,"",{"$f":"IF(E45<>\"\",CONCATENATE(DIGITADOR!$M$1,TEXT(D45, \"YYYYMMDD\"),ROW()-5),\"\")","v":""},null,null,"",{"$f":"IF(H45=\"\",\"\",INDEX(referentes!AQ:AR,MATCH(H45,referentes!$AR:$AR,0),1))","v":""},null,{"$f":"IF(J45=\"\",\"\",VLOOKUP(J45,referentes!$AL$2:$AO$29,3,FALSE))","v":""},null,null,null,null,null,null,null,null,null,null,null,null,"",null,null,null,null,null,null,null,null,null,null,null,null,null,null,null,null,null,null,null,null,null,null,null,null,null,{"$f":"IF(AW45=\"\",\"\",DIGITADOR!$B$14)","v":""},"",null,null,null,"",null,null,null,null,null,null,null,null,null,null,null,null,null,null,null,null,null,null,"",{"$f":"IF(C45=\"\",\"\",IF(COUNTIF($C$6:C45, C45)>1, \"\", C45))","v":""},{"$f":"IF(N45=\"\",\"\",INDEX(referentes!P:Q,MATCH(N45,referentes!$Q:$Q,0),1))","v":""},{"$f":"IF(O45=\"\",\"\",INDEX(referentes!$A:$B,MATCH(O45,referentes!$B:$B,0),1))","v":""},{"$f":"IF(S45=\"\",\"\",INDEX(referentes!D:E,MATCH(S45,referentes!$E:$E,0),1))","v":""},{"$f":"IF(T45=\"\",\"\",INDEX(referentes!G:H,MATCH(T45,referentes!$H:$H,0),1))","v":""},"",{"$f":"IF(Y45=\"\",\"\",INDEX(referentes!S:T,MATCH(Y45,referentes!$T:$T,0),1))","v":""},{"$f":"IF(BO45=\"\",\"\",INDEX(referentes!J:K,MATCH(BO45,referentes!$K:$K,0),1))","v":""},{"$f":"IF(BJ45=\"\",\"\",INDEX(referentes!V:W,MATCH(BJ45,referentes!$W:$W,0),1))","v":""},{"$f":"IF(BK45=\"\",\"\",INDEX(referentes!Y:Z,MATCH(BK45,referentes!$Z:$Z,0),1))","v":""},{"$f":"IF(BL45=\"\",\"\",INDEX(referentes!AB:AC,MATCH(BL45,referentes!$AC:$AC,0),1))","v":""},{"$f":"IF(BM45=\"\",\"\",INDEX(referentes!AE:AF,MATCH(BM45,referentes!$AF:$AF,0),1))","v":""},{"$f":"IF(BB45=\"\",\"\",INDEX(referentes!M:N,MATCH(BB45,referentes!$N:$N,0),1))","v":""},{"$f":"IF(BQ45=\"\",\"\",INDEX('Otras referencias'!S:T,MATCH(BQ45,'Otras referencias'!$T:$T,0),1))","v":""},{"$f":"IF(BN45=\"\",\"\",INDEX('Otras referencias'!A:B,MATCH(BN45,'Otras referencias'!$B:$B,0),1))","v":""},""]
[1,"",{"$f":"IF(E46<>\"\",CONCATENATE(DIGITADOR!$M$1,TEXT(D46, \"YYYYMMDD\"),ROW()-5),\"\")","v":""},null,null,"",{"$f":"IF(H46=\"\",\"\",INDEX(referentes!AQ:AR,MATCH(H46,referentes!$AR:$AR,0),1))","v":""},null,{"$f":"IF(J46=\"\",\"\",VLOOKUP(J46,referentes!$AL$2:$AO$29,3,FALSE))","v":""},null,null,null,null,null,null,null,null,null,null,null,null,"",null,null,null,null,null,null,null,null,null,null,null,null,null,null,null,null,null,null,null,null,null,null,null,null,null,{"$f":"IF(AW46=\"\",\"\",DIGITADOR!$B$14)","v":""},"",null,null,null,"",null,null,null,null,null,null,null,null,null,null,null,null,null,null,null,null,null,null,"",{"$f":"IF(C46=\"\",\"\",IF(COUNTIF($C$6:C46, C46)>1, \"\", C46))","v":""},{"$f":"IF(N46=\"\",\"\",INDEX(referentes!P:Q,MATCH(N46,referentes!$Q:$Q,0),1))","v":""},{"$f":"IF(O46=\"\",\"\",INDEX(referentes!$A:$B,MATCH(O46,referentes!$B:$B,0),1))","v":""},{"$f":"IF(S46=\"\",\"\",INDEX(referentes!D:E,MATCH(S46,referentes!$E:$E,0),1))","v":""},{"$f":"IF(T46=\"\",\"\",INDEX(referentes!G:H,MATCH(T46,referentes!$H:$H,0),1))","v":""},"",{"$f":"IF(Y46=\"\",\"\",INDEX(referentes!S:T,MATCH(Y46,referentes!$T:$T,0),1))","v":""},{"$f":"IF(BO46=\"\",\"\",INDEX(referentes!J:K,MATCH(BO46,referentes!$K:$K,0),1))","v":""},{"$f":"IF(BJ46=\"\",\"\",INDEX(referentes!V:W,MATCH(BJ46,referentes!$W:$W,0),1))","v":""},{"$f":"IF(BK46=\"\",\"\",INDEX(referentes!Y:Z,MATCH(BK46,referentes!$Z:$Z,0),1))","v":""},{"$f":"IF(BL46=\"\",\"\",INDEX(referentes!AB:AC,MATCH(BL46,referentes!$AC:$AC,0),1))","v":""},{"$f":"IF(BM46=\"\",\"\",INDEX(referentes!AE:AF,MATCH(BM46,referentes!$AF:$AF,0),1))","v":""},{"$f":"IF(BB46=\"\",\"\",INDEX(referentes!M:N,MATCH(BB46,referentes!$N:$N,0),1))","v":""},{"$f":"IF(BQ46=\"\",\"\",INDEX('Otras referencias'!S:T,MATCH(BQ46,'Otras referencias'!$T:$T,0),1))","v":""},{"$f":"IF(BN46=\"\",\"\",INDEX('Otras referencias'!A:B,MATCH(BN46,'Otras referencias'!$B:$B,0),1))","v":""},""]
[1,"",{"$f":"IF(E47<>\"\",CONCATENATE(DIGITADOR!$M$1,TEXT(D47, \"YYYYMMDD\"),ROW()-5),\"\")","v":""},null,null,"",{"$f":"IF(H47=\"\",\"\",INDEX(referentes!AQ:AR,MATCH(H47,referentes!$AR:$AR,0),1))","v":""},null,{"$f":"IF(J47=\"\",\"\",VLOOKUP(J47,referentes!$AL$2:$AO$29,3,FALSE))","v":""},null,null,null,null,null,null,null,null,null,null,null,null,"",null,null,null,null,null,null,null,null,null,null,null,null,null,null,null,null,null,null,null,null,null,null,null,null,null,{"$f":"IF(AW47=\"\",\"\",DIGITADOR!$B$14)","v":""},"",null,null,null,"",null,null,null,null,null,null,null,null,null,null,null,null,null,null,null,null,null,null,"",{"$f":"IF(C47=\"\",\"\",IF(COUNTIF($C$6:C47, C47)>1, \"\", C47))","v":""},{"$f":"IF(N47=\"\",\"\",INDEX(referentes!P:Q,MATCH(N47,referentes!$Q:$Q,0),1))","v":""},{"$f":"IF(O47=\"\",\"\",INDEX(referentes!$A:$B,MATCH(O47,referentes!$B:$B,0),1))","v":""},{"$f":"IF(S47=\"\",\"\",INDEX(referentes!D:E,MATCH(S47,referentes!$E:$E,0),1))","v":""},{"$f":"IF(T47=\"\",\"\",INDEX(referentes!G:H,MATCH(T47,referentes!$H:$H,0),1))","v":""},"",{"$f":"IF(Y47=\"\",\"\",INDEX(referentes!S:T,MATCH(Y47,referentes!$T:$T,0),1))","v":""},{"$f":"IF(BO47=\"\",\"\",INDEX(referentes!J:K,MATCH(BO47,referentes!$K:$K,0),1))","v":""},{"$f":"IF(BJ47=\"\",\"\",INDEX(referentes!V:W,MATCH(BJ47,referentes!$W:$W,0),1))","v":""},{"$f":"IF(BK47=\"\",\"\",INDEX(referentes!Y:Z,MATCH(BK47,referentes!$Z:$Z,0),1))","v":""},{"$f":"IF(BL47=\"\",\"\",INDEX(referentes!AB:AC,MATCH(BL47,referentes!$AC:$AC,0),1))","v":""},{"$f":"IF(BM47=\"\",\"\",INDEX(referentes!AE:AF,MATCH(BM47,referentes!$AF:$AF,0),1))","v":""},{"$f":"IF(BB47=\"\",\"\",INDEX(referentes!M:N,MATCH(BB47,referentes!$N:$N,0),1))","v":""},{"$f":"IF(BQ47=\"\",\"\",INDEX('Otras referencias'!S:T,MATCH(BQ47,'Otras referencias'!$T:$T,0),1))","v":""},{"$f":"IF(BN47=\"\",\"\",INDEX('Otras referencias'!A:B,MATCH(BN47,'Otras referencias'!$B:$B,0),1))","v":""},""]
[1,"",{"$f":"IF(E48<>\"\",CONCATENATE(DIGITADOR!$M$1,TEXT(D48, \"YYYYMMDD\"),ROW()-5),\"\")","v":""},null,null,"",{"$f":"IF(H48=\"\",\"\",INDEX(referentes!AQ:AR,MATCH(H48,referentes!$AR:$AR,0),1))","v":""},null,{"$f":"IF(J48=\"\",\"\",VLOOKUP(J48,referentes!$AL$2:$AO$29,3,FALSE))","v":""},null,null,null,null,null,null,null,null,null,null,null,null,"",null,null,null,null,null,null,null,null,null,null,null,null,null,null,null,null,null,null,null,null,null,null,null,null,null,{"$f":"IF(AW48=\"\",\"\",DIGITADOR!$B$14)","v":""},"",null,null,null,"",null,null,null,null,null,null,null,null,null,null,null,null,null,null,null,null,null,null,"",{"$f":"IF(C48=\"\",\"\",IF(COUNTIF($C$6:C48, C48)>1, \"\", C48))","v":""},{"$f":"IF(N48=\"\",\"\",INDEX(referentes!P:Q,MATCH(N48,referentes!$Q:$Q,0),1))","v":""},{"$f":"IF(O48=\"\",\"\",INDEX(referentes!$A:$B,MATCH(O48,referentes!$B:$B,0),1))","v":""},{"$f":"IF(S48=\"\",\"\",INDEX(referentes!D:E,MATCH(S48,referentes!$E:$E,0),1))","v":""},{"$f":"IF(T48=\"\",\"\",INDEX(referentes!G:H,MATCH(T48,referentes!$H:$H,0),1))","v":""},"",{"$f":"IF(Y48=\"\",\"\",INDEX(referentes!S:T,MATCH(Y48,referentes!$T:$T,0),1))","v":""},{"$f":"IF(BO48=\"\",\"\",INDEX(referentes!J:K,MATCH(BO48,referentes!$K:$K,0),1))","v":""},{"$f":"IF(BJ48=\"\",\"\",INDEX(referentes!V:W,MATCH(BJ48,referentes!$W:$W,0),1))","v":""},{"$f":"IF(BK48=\"\",\"\",INDEX(referentes!Y:Z,MATCH(BK48,referentes!$Z:$Z,0),1))","v":""},{"$f":"IF(BL48=\"\",\"\",INDEX(referentes!AB:AC,MATCH(BL48,referentes!$AC:$AC,0),1))","v":""},{"$f":"IF(BM48=\"\",\"\",INDEX(referentes!AE:AF,MATCH(BM48,referentes!$AF:$AF,0),1))","v":""},{"$f":"IF(BB48=\"\",\"\",INDEX(referentes!M:N,MATCH(BB48,referentes!$N:$N,0),1))","v":""},{"$f":"IF(BQ48=\"\",\"\",INDEX('Otras referencias'!S:T,MATCH(BQ48,'Otras referencias'!$T:$T,0),1))","v":""},{"$f":"IF(BN48=\"\",\"\",INDEX('Otras referencias'!A:B,MATCH(BN48,'Otras referencias'!$B:$B,0),1))","v":""},""]
[1,"",{"$f":"IF(E49<>\"\",CONCATENATE(DIGITADOR!$M$1,TEXT(D49, \"YYYYMMDD\"),ROW()-5),\"\")","v":""},null,null,"",{"$f":"IF(H49=\"\",\"\",INDEX(referentes!AQ:AR,MATCH(H49,referentes!$AR:$AR,0),1))","v":""},null,{"$f":"IF(J49=\"\",\"\",VLOOKUP(J49,referentes!$AL$2:$AO$29,3,FALSE))","v":""},null,null,null,null,null,null,null,null,null,null,null,null,"",null,null,null,null,null,null,null,null,null,null,null,null,null,null,null,null,null,null,null,null,null,null,null,null,null,{"$f":"IF(AW49=\"\",\"\",DIGITADOR!$B$14)","v":""},"",null,null,null,"",null,null,null,null,null,null,null,null,null,null,null,null,null,null,null,null,null,null,"",{"$f":"IF(C49=\"\",\"\",IF(COUNTIF($C$6:C49, C49)>1, \"\", C49))","v":""},{"$f":"IF(N49=\"\",\"\",INDEX(referentes!P:Q,MATCH(N49,referentes!$Q:$Q,0),1))","v":""},{"$f":"IF(O49=\"\",\"\",INDEX(referentes!$A:$B,MATCH(O49,referentes!$B:$B,0),1))","v":""},{"$f":"IF(S49=\"\",\"\",INDEX(referentes!D:E,MATCH(S49,referentes!$E:$E,0),1))","v":""},{"$f":"IF(T49=\"\",\"\",INDEX(referentes!G:H,MATCH(T49,referentes!$H:$H,0),1))","v":""},"",{"$f":"IF(Y49=\"\",\"\",INDEX(referentes!S:T,MATCH(Y49,referentes!$T:$T,0),1))","v":""},{"$f":"IF(BO49=\"\",\"\",INDEX(referentes!J:K,MATCH(BO49,referentes!$K:$K,0),1))","v":""},{"$f":"IF(BJ49=\"\",\"\",INDEX(referentes!V:W,MATCH(BJ49,referentes!$W:$W,0),1))","v":""},{"$f":"IF(BK49=\"\",\"\",INDEX(referentes!Y:Z,MATCH(BK49,referentes!$Z:$Z,0),1))","v":""},{"$f":"IF(BL49=\"\",\"\",INDEX(referentes!AB:AC,MATCH(BL49,referentes!$AC:$AC,0),1))","v":""},{"$f":"IF(BM49=\"\",\"\",INDEX(referentes!AE:AF,MATCH(BM49,referentes!$AF:$AF,0),1))","v":""},{"$f":"IF(BB49=\"\",\"\",INDEX(referentes!M:N,MATCH(BB49,referentes!$N:$N,0),1))","v":""},{"$f":"IF(BQ49=\"\",\"\",INDEX('Otras referencias'!S:T,MATCH(BQ49,'Otras referencias'!$T:$T,0),1))","v":""},{"$f":"IF(BN49=\"\",\"\",INDEX('Otras referencias'!A:B,MATCH(BN49,'Otras referencias'!$B:$B,0),1))","v":""},""]
[1,"",{"$f":"IF(E50<>\"\",CONCATENATE(DIGITADOR!$M$1,TEXT(D50, \"YYYYMMDD\"),ROW()-5),\"\")","v":""},null,null,"",{"$f":"IF(H50=\"\",\"\",INDEX(referentes!AQ:AR,MATCH(H50,referentes!$AR:$AR,0),1))","v":""},null,{"$f":"IF(J50=\"\",\"\",VLOOKUP(J50,referentes!$AL$2:$AO$29,3,FALSE))","v":""},null,null,null,null,null,null,null,null,null,null,null,null,"",null,null,null,null,null,null,null,null,null,null,null,null,null,null,null,null,null,null,null,null,null,null,null,null,null,{"$f":"IF(AW50=\"\",\"\",DIGITADOR!$B$14)","v":""},"",null,null,null,"",null,null,null,null,null,null,null,null,null,null,null,null,null,null,null,null,null,null,"",{"$f":"IF(C50=\"\",\"\",IF(COUNTIF($C$6:C50, C50)>1, \"\", C50))","v":""},{"$f":"IF(N50=\"\",\"\",INDEX(referentes!P:Q,MATCH(N50,referentes!$Q:$Q,0),1))","v":""},{"$f":"IF(O50=\"\",\"\",INDEX(referentes!$A:$B,MATCH(O50,referentes!$B:$B,0),1))","v":""},{"$f":"IF(S50=\"\",\"\",INDEX(referentes!D:E,MATCH(S50,referentes!$E:$E,0),1))","v":""},{"$f":"IF(T50=\"\",\"\",INDEX(referentes!G:H,MATCH(T50,referentes!$H:$H,0),1))","v":""},"",{"$f":"IF(Y50=\"\",\"\",INDEX(referentes!S:T,MATCH(Y50,referentes!$T:$T,0),1))","v":""},{"$f":"IF(BO50=\"\",\"\",INDEX(referentes!J:K,MATCH(BO50,referentes!$K:$K,0),1))","v":""},{"$f":"IF(BJ50=\"\",\"\",INDEX(referentes!V:W,MATCH(BJ50,referentes!$W:$W,0),1))","v":""},{"$f":"IF(BK50=\"\",\"\",INDEX(referentes!Y:Z,MATCH(BK50,referentes!$Z:$Z,0),1))","v":""},{"$f":"IF(BL50=\"\",\"\",INDEX(referentes!AB:AC,MATCH(BL50,referentes!$AC:$AC,0),1))","v":""},{"$f":"IF(BM50=\"\",\"\",INDEX(referentes!AE:AF,MATCH(BM50,referentes!$AF:$AF,0),1))","v":""},{"$f":"IF(BB50=\"\",\"\",INDEX(referentes!M:N,MATCH(BB50,referentes!$N:$N,0),1))","v":""},{"$f":"IF(BQ50=\"\",\"\",INDEX('Otras referencias'!S:T,MATCH(BQ50,'Otras referencias'!$T:$T,0),1))","v":""},{"$f":"IF(BN50=\"\",\"\",INDEX('Otras referencias'!A:B,MATCH(BN50,'Otras referencias'!$B:$B,0),1))","v":""},""]
[1,"",{"$f":"IF(E51<>\"\",CONCATENATE(DIGITADOR!$M$1,TEXT(D51, \"YYYYMMDD\"),ROW()-5),\"\")","v":""},null,null,"",{"$f":"IF(H51=\"\",\"\",INDEX(referentes!AQ:AR,MATCH(H51,referentes!$AR:$AR,0),1))","v":""},null,{"$f":"IF(J51=\"\",\"\",VLOOKUP(J51,referentes!$AL$2:$AO$29,3,FALSE))","v":""},null,null,null,null,null,null,null,null,null,null,null,null,"",null,null,null,null,null,null,null,null,null,null,null,null,null,null,null,null,null,null,null,null,null,null,null,null,null,{"$f":"IF(AW51=\"\",\"\",DIGITADOR!$B$14)","v":""},"",null,null,null,"",null,null,null,null,null,null,null,null,null,null,null,null,null,null,null,null,null,null,"",{"$f":"IF(C51=\"\",\"\",IF(COUNTIF($C$6:C51, C51)>1, \"\", C51))","v":""},{"$f":"IF(N51=\"\",\"\",INDEX(referentes!P:Q,MATCH(N51,referentes!$Q:$Q,0),1))","v":""},{"$f":"IF(O51=\"\",\"\",INDEX(referentes!$A:$B,MATCH(O51,referentes!$B:$B,0),1))","v":""},{"$f":"IF(S51=\"\",\"\",INDEX(referentes!D:E,MATCH(S51,referentes!$E:$E,0),1))","v":""},{"$f":"IF(T51=\"\",\"\",INDEX(referentes!G:H,MATCH(T51,referentes!$H:$H,0),1))","v":""},"",{"$f":"IF(Y51=\"\",\"\",INDEX(referentes!S:T,MATCH(Y51,referentes!$T:$T,0),1))","v":""},{"$f":"IF(BO51=\"\",\"\",INDEX(referentes!J:K,MATCH(BO51,referentes!$K:$K,0),1))","v":""},{"$f":"IF(BJ51=\"\",\"\",INDEX(referentes!V:W,MATCH(BJ51,referentes!$W:$W,0),1))","v":""},{"$f":"IF(BK51=\"\",\"\",INDEX(referentes!Y:Z,MATCH(BK51,referentes!$Z:$Z,0),1))","v":""},{"$f":"IF(BL51=\"\",\"\",INDEX(referentes!AB:AC,MATCH(BL51,referentes!$AC:$AC,0),1))","v":""},{"$f":"IF(BM51=\"\",\"\",INDEX(referentes!AE:AF,MATCH(BM51,referentes!$AF:$AF,0),1))","v":""},{"$f":"IF(BB51=\"\",\"\",INDEX(referentes!M:N,MATCH(BB51,referentes!$N:$N,0),1))","v":""},{"$f":"IF(BQ51=\"\",\"\",INDEX('Otras referencias'!S:T,MATCH(BQ51,'Otras referencias'!$T:$T,0),1))","v":""},{"$f":"IF(BN51=\"\",\"\",INDEX('Otras referencias'!A:B,MATCH(BN51,'Otras referencias'!$B:$B,0),1))","v":""},""]
[1,"",{"$f":"IF(E52<>\"\",CONCATENATE(DIGITADOR!$M$1,TEXT(D52, \"YYYYMMDD\"),ROW()-5),\"\")","v":""},null,null,"",{"$f":"IF(H52=\"\",\"\",INDEX(referentes!AQ:AR,MATCH(H52,referentes!$AR:$AR,0),1))","v":""},null,{"$f":"IF(J52=\"\",\"\",VLOOKUP(J52,referentes!$AL$2:$AO$29,3,FALSE))","v":""},null,null,null,null,null,null,null,null,null,null,null,null,"",null,null,null,null,null,null,null,null,null,null,null,null,null,null,null,null,null,null,null,null,null,null,null,null,null,{"$f":"IF(AW52=\"\",\"\",DIGITADOR!$B$14)","v":""},"",null,null,null,"",null,null,null,null,null,null,null,null,null,null,null,null,null,null,null,null,null,null,"",{"$f":"IF(C52=\"\",\"\",IF(COUNTIF($C$6:C52, C52)>1, \"\", C52))","v":""},{"$f":"IF(N52=\"\",\"\",INDEX(referentes!P:Q,MATCH(N52,referentes!$Q:$Q,0),1))","v":""},{"$f":"IF(O52=\"\",\"\",INDEX(referentes!$A:$B,MATCH(O52,referentes!$B:$B,0),1))","v":""},{"$f":"IF(S52=\"\",\"\",INDEX(referentes!D:E,MATCH(S52,referentes!$E:$E,0),1))","v":""},{"$f":"IF(T52=\"\",\"\",INDEX(referentes!G:H,MATCH(T52,referentes!$H:$H,0),1))","v":""},"",{"$f":"IF(Y52=\"\",\"\",INDEX(referentes!S:T,MATCH(Y52,referentes!$T:$T,0),1))","v":""},{"$f":"IF(BO52=\"\",\"\",INDEX(referentes!J:K,MATCH(BO52,referentes!$K:$K,0),1))","v":""},{"$f":"IF(BJ52=\"\",\"\",INDEX(referentes!V:W,MATCH(BJ52,referentes!$W:$W,0),1))","v":""},{"$f":"IF(BK52=\"\",\"\",INDEX(referentes!Y:Z,MATCH(BK52,referentes!$Z:$Z,0),1))","v":""},{"$f":"IF(BL52=\"\",\"\",INDEX(referentes!AB:AC,MATCH(BL52,referentes!$AC:$AC,0),1))","v":""},{"$f":"IF(BM52=\"\",\"\",INDEX(referentes!AE:AF,MATCH(BM52,referentes!$AF:$AF,0),1))","v":""},{"$f":"IF(BB52=\"\",\"\",INDEX(referentes!M:N,MATCH(BB52,referentes!$N:$N,0),1))","v":""},{"$f":"IF(BQ52=\"\",\"\",INDEX('Otras referencias'!S:T,MATCH(BQ52,'Otras referencias'!$T:$T,0),1))","v":""},{"$f":"IF(BN52=\"\",\"\",INDEX('Otras referencias'!A:B,MATCH(BN52,'Otras referencias'!$B:$B,0),1))","v":""},""]
[1,"",{"$f":"IF(E53<>\"\",CONCATENATE(DIGITADOR!$M$1,TEXT(D53, \"YYYYMMDD\"),ROW()-5),\"\")","v":""},null,null,"",{"$f":"IF(H53=\"\",\"\",INDEX(referentes!AQ:AR,MATCH(H53,referentes!$AR:$AR,0),1))","v":""},null,{"$f":"IF(J53=\"\",\"\",VLOOKUP(J53,referentes!$AL$2:$AO$29,3,FALSE))","v":""},null,null,null,null,null,null,null,null,null,null,null,null,"",null,null,null,null,null,null,null,null,null,null,null,null,null,null,null,null,null,null,null,null,null,null,null,null,null,{"$f":"IF(AW53=\"\",\"\",DIGITADOR!$B$14)","v":""},"",null,null,null,"",null,null,null,null,null,null,null,null,null,null,null,null,null,null,null,null,null,null,"",{"$f":"IF(C53=\"\",\"\",IF(COUNTIF($C$6:C53, C53)>1, \"\", C53))","v":""},{"$f":"IF(N53=\"\",\"\",INDEX(referentes!P:Q,MATCH(N53,referentes!$Q:$Q,0),1))","v":""},{"$f":"IF(O53=\"\",\"\",INDEX(referentes!$A:$B,MATCH(O53,referentes!$B:$B,0),1))","v":""},{"$f":"IF(S53=\"\",\"\",INDEX(referentes!D:E,MATCH(S53,referentes!$E:$E,0),1))","v":""},{"$f":"IF(T53=\"\",\"\",INDEX(referentes!G:H,MATCH(T53,referentes!$H:$H,0),1))","v":""},"",{"$f":"IF(Y53=\"\",\"\",INDEX(referentes!S:T,MATCH(Y53,referentes!$T:$T,0),1))","v":""},{"$f":"IF(BO53=\"\",\"\",INDEX(referentes!J:K,MATCH(BO53,referentes!$K:$K,0),1))","v":""},{"$f":"IF(BJ53=\"\",\"\",INDEX(referentes!V:W,MATCH(BJ53,referentes!$W:$W,0),1))","v":""},{"$f":"IF(BK53=\"\",\"\",INDEX(referentes!Y:Z,MATCH(BK53,referentes!$Z:$Z,0),1))","v":""},{"$f":"IF(BL53=\"\",\"\",INDEX(referentes!AB:AC,MATCH(BL53,referentes!$AC:$AC,0),1))","v":""},{"$f":"IF(BM53=\"\",\"\",INDEX(referentes!AE:AF,MATCH(BM53,referentes!$AF:$AF,0),1))","v":""},{"$f":"IF(BB53=\"\",\"\",INDEX(referentes!M:N,MATCH(BB53,referentes!$N:$N,0),1))","v":""},{"$f":"IF(BQ53=\"\",\"\",INDEX('Otras referencias'!S:T,MATCH(BQ53,'Otras referencias'!$T:$T,0),1))","v":""},{"$f":"IF(BN53=\"\",\"\",INDEX('Otras referencias'!A:B,MATCH(BN53,'Otras referencias'!$B:$B,0),1))","v":""},""]
[1,"",{"$f":"IF(E54<>\"\",CONCATENATE(DIGITADOR!$M$1,TEXT(D54, \"YYYYMMDD\"),ROW()-5),\"\")","v":""},null,null,"",{"$f":"IF(H54=\"\",\"\",INDEX(referentes!AQ:AR,MATCH(H54,referentes!$AR:$AR,0),1))","v":""},null,{"$f":"IF(J54=\"\",\"\",VLOOKUP(J54,referentes!$AL$2:$AO$29,3,FALSE))","v":""},null,null,null,null,null,null,null,null,null,null,null,null,"",null,null,null,null,null,null,null,null,null,null,null,null,null,null,null,null,null,null,null,null,null,null,null,null,null,{"$f":"IF(AW54=\"\",\"\",DIGITADOR!$B$14)","v":""},"",null,null,null,"",null,null,null,null,null,null,null,null,null,null,null,null,null,null,null,null,null,null,"",{"$f":"IF(C54=\"\",\"\",IF(COUNTIF($C$6:C54, C54)>1, \"\", C54))","v":""},{"$f":"IF(N54=\"\",\"\",INDEX(referentes!P:Q,MATCH(N54,referentes!$Q:$Q,0),1))","v":""},{"$f":"IF(O54=\"\",\"\",INDEX(referentes!$A:$B,MATCH(O54,referentes!$B:$B,0),1))","v":""},{"$f":"IF(S54=\"\",\"\",INDEX(referentes!D:E,MATCH(S54,referentes!$E:$E,0),1))","v":""},{"$f":"IF(T54=\"\",\"\",INDEX(referentes!G:H,MATCH(T54,referentes!$H:$H,0),1))","v":""},"",{"$f":"IF(Y54=\"\",\"\",INDEX(referentes!S:T,MATCH(Y54,referentes!$T:$T,0),1))","v":""},{"$f":"IF(BO54=\"\",\"\",INDEX(referentes!J:K,MATCH(BO54,referentes!$K:$K,0),1))","v":""},{"$f":"IF(BJ54=\"\",\"\",INDEX(referentes!V:W,MATCH(BJ54,referentes!$W:$W,0),1))","v":""},{"$f":"IF(BK54=\"\",\"\",INDEX(referentes!Y:Z,MATCH(BK54,referentes!$Z:$Z,0),1))","v":""},{"$f":"IF(BL54=\"\",\"\",INDEX(referentes!AB:AC,MATCH(BL54,referentes!$AC:$AC,0),1))","v":""},{"$f":"IF(BM54=\"\",\"\",INDEX(referentes!AE:AF,MATCH(BM54,referentes!$AF:$AF,0),1))","v":""},{"$f":"IF(BB54=\"\",\"\",INDEX(referentes!M:N,MATCH(BB54,referentes!$N:$N,0),1))","v":""},{"$f":"IF(BQ54=\"\",\"\",INDEX('Otras referencias'!S:T,MATCH(BQ54,'Otras referencias'!$T:$T,0),1))","v":""},{"$f":"IF(BN54=\"\",\"\",INDEX('Otras referencias'!A:B,MATCH(BN54,'Otras referencias'!$B:$B,0),1))","v":""},""]
[1,"",{"$f":"IF(E55<>\"\",CONCATENATE(DIGITADOR!$M$1,TEXT(D55, \"YYYYMMDD\"),ROW()-5),\"\")","v":""},null,null,"",{"$f":"IF(H55=\"\",\"\",INDEX(referentes!AQ:AR,MATCH(H55,referentes!$AR:$AR,0),1))","v":""},null,{"$f":"IF(J55=\"\",\"\",VLOOKUP(J55,referentes!$AL$2:$AO$29,3,FALSE))","v":""},null,null,null,null,null,null,null,null,null,null,null,null,"",null,null,null,null,null,null,null,null,null,null,null,null,null,null,null,null,null,null,null,null,null,null,null,null,null,{"$f":"IF(AW55=\"\",\"\",DIGITADOR!$B$14)","v":""},"",null,null,null,"",null,null,null,null,null,null,null,null,null,null,null,null,null,null,null,null,null,null,"",{"$f":"IF(C55=\"\",\"\",IF(COUNTIF($C$6:C55, C55)>1, \"\", C55))","v":""},{"$f":"IF(N55=\"\",\"\",INDEX(referentes!P:Q,MATCH(N55,referentes!$Q:$Q,0),1))","v":""},{"$f":"IF(O55=\"\",\"\",INDEX(referentes!$A:$B,MATCH(O55,referentes!$B:$B,0),1))","v":""},{"$f":"IF(S55=\"\",\"\",INDEX(referentes!D:E,MATCH(S55,referentes!$E:$E,0),1))","v":""},{"$f":"IF(T55=\"\",\"\",INDEX(referentes!G:H,MATCH(T55,referentes!$H:$H,0),1))","v":""},"",{"$f":"IF(Y55=\"\",\"\",INDEX(referentes!S:T,MATCH(Y55,referentes!$T:$T,0),1))","v":""},{"$f":"IF(BO55=\"\",\"\",INDEX(referentes!J:K,MATCH(BO55,referentes!$K:$K,0),1))","v":""},{"$f":"IF(BJ55=\"\",\"\",INDEX(referentes!V:W,MATCH(BJ55,referentes!$W:$W,0),1))","v":""},{"$f":"IF(BK55=\"\",\"\",INDEX(referentes!Y:Z,MATCH(BK55,referentes!$Z:$Z,0),1))","v":""},{"$f":"IF(BL55=\"\",\"\",INDEX(referentes!AB:AC,MATCH(BL55,referentes!$AC:$AC,0),1))","v":""},{"$f":"IF(BM55=\"\",\"\",INDEX(referentes!AE:AF,MATCH(BM55,referentes!$AF:$AF,0),1))","v":""},{"$f":"IF(BB55=\"\",\"\",INDEX(referentes!M:N,MATCH(BB55,referentes!$N:$N,0),1))","v":""},{"$f":"IF(BQ55=\"\",\"\",INDEX('Otras referencias'!S:T,MATCH(BQ55,'Otras referencias'!$T:$T,0),1))","v":""},{"$f":"IF(BN55=\"\",\"\",INDEX('Otras referencias'!A:B,MATCH(BN55,'Otras referencias'!$B:$B,0),1))","v":""},""]
[1,"",{"$f":"IF(E56<>\"\",CONCATENATE(DIGITADOR!$M$1,TEXT(D56, \"YYYYMMDD\"),ROW()-5),\"\")","v":""},null,null,"",{"$f":"IF(H56=\"\",\"\",INDEX(referentes!AQ:AR,MATCH(H56,referentes!$AR:$AR,0),1))","v":""},null,{"$f":"IF(J56=\"\",\"\",VLOOKUP(J56,referentes!$AL$2:$AO$29,3,FALSE))","v":""},null,null,null,null,null,null,null,null,null,null,null,null,"",null,null,null,null,null,null,null,null,null,null,null,null,null,null,null,null,null,null,null,null,null,null,null,null,null,{"$f":"IF(AW56=\"\",\"\",DIGITADOR!$B$14)","v":""},"",null,null,null,"",null,null,null,null,null,null,null,null,null,null,null,null,null,null,null,null,null,null,"",{"$f":"IF(C56=\"\",\"\",IF(COUNTIF($C$6:C56, C56)>1, \"\", C56))","v":""},{"$f":"IF(N56=\"\",\"\",INDEX(referentes!P:Q,MATCH(N56,referentes!$Q:$Q,0),1))","v":""},{"$f":"IF(O56=\"\",\"\",INDEX(referentes!$A:$B,MATCH(O56,referentes!$B:$B,0),1))","v":""},{"$f":"IF(S56=\"\",\"\",INDEX(referentes!D:E,MATCH(S56,referentes!$E:$E,0),1))","v":""},{"$f":"IF(T56=\"\",\"\",INDEX(referentes!G:H,MATCH(T56,referentes!$H:$H,0),1))","v":""},"",{"$f":"IF(Y56=\"\",\"\",INDEX(referentes!S:T,MATCH(Y56,referentes!$T:$T,0),1))","v":""},{"$f":"IF(BO56=\"\",\"\",INDEX(referentes!J:K,MATCH(BO56,referentes!$K:$K,0),1))","v":""},{"$f":"IF(BJ56=\"\",\"\",INDEX(referentes!V:W,MATCH(BJ56,referentes!$W:$W,0),1))","v":""},{"$f":"IF(BK56=\"\",\"\",INDEX(referentes!Y:Z,MATCH(BK56,referentes!$Z:$Z,0),1))","v":""},{"$f":"IF(BL56=\"\",\"\",INDEX(referentes!AB:AC,MATCH(BL56,referentes!$AC:$AC,0),1))","v":""},{"$f":"IF(BM56=\"\",\"\",INDEX(referentes!AE:AF,MATCH(BM56,referentes!$AF:$AF,0),1))","v":""},{"$f":"IF(BB56=\"\",\"\",INDEX(referentes!M:N,MATCH(BB56,referentes!$N:$N,0),1))","v":""},{"$f":"IF(BQ56=\"\",\"\",INDEX('Otras referencias'!S:T,MATCH(BQ56,'Otras referencias'!$T:$T,0),1))","v":""},{"$f":"IF(BN56=\"\",\"\",INDEX('Otras referencias'!A:B,MATCH(BN56,'Otras referencias'!$B:$B,0),1))","v":""},""]
[1,"",{"$f":"IF(E57<>\"\",CONCATENATE(DIGITADOR!$M$1,TEXT(D57, \"YYYYMMDD\"),ROW()-5),\"\")","v":""},null,null,"",{"$f":"IF(H57=\"\",\"\",INDEX(referentes!AQ:AR,MATCH(H57,referentes!$AR:$AR,0),1))","v":""},null,{"$f":"IF(J57=\"\",\"\",VLOOKUP(J57,referentes!$AL$2:$AO$29,3,FALSE))","v":""},null,null,null,null,null,null,null,null,null,null,null,null,"",null,null,null,null,null,null,null,null,null,null,null,null,null,null,null,null,null,null,null,null,null,null,null,null,null,{"$f":"IF(AW57=\"\",\"\",DIGITADOR!$B$14)","v":""},"",null,null,null,"",null,null,null,null,null,null,null,null,null,null,null,null,null,null,null,null,null,null,"",{"$f":"IF(C57=\"\",\"\",IF(COUNTIF($C$6:C57, C57)>1, \"\", C57))","v":""},{"$f":"IF(N57=\"\",\"\",INDEX(referentes!P:Q,MATCH(N57,referentes!$Q:$Q,0),1))","v":""},{"$f":"IF(O57=\"\",\"\",INDEX(referentes!$A:$B,MATCH(O57,referentes!$B:$B,0),1))","v":""},{"$f":"IF(S57=\"\",\"\",INDEX(referentes!D:E,MATCH(S57,referentes!$E:$E,0),1))","v":""},{"$f":"IF(T57=\"\",\"\",INDEX(referentes!G:H,MATCH(T57,referentes!$H:$H,0),1))","v":""},"",{"$f":"IF(Y57=\"\",\"\",INDEX(referentes!S:T,MATCH(Y57,referentes!$T:$T,0),1))","v":""},{"$f":"IF(BO57=\"\",\"\",INDEX(referentes!J:K,MATCH(BO57,referentes!$K:$K,0),1))","v":""},{"$f":"IF(BJ57=\"\",\"\",INDEX(referentes!V:W,MATCH(BJ57,referentes!$W:$W,0),1))","v":""},{"$f":"IF(BK57=\"\",\"\",INDEX(referentes!Y:Z,MATCH(BK57,referentes!$Z:$Z,0),1))","v":""},{"$f":"IF(BL57=\"\",\"\",INDEX(referentes!AB:AC,MATCH(BL57,referentes!$AC:$AC,0),1))","v":""},{"$f":"IF(BM57=\"\",\"\",INDEX(referentes!AE:AF,MATCH(BM57,referentes!$AF:$AF,0),1))","v":""},{"$f":"IF(BB57=\"\",\"\",INDEX(referentes!M:N,MATCH(BB57,referentes!$N:$N,0),1))","v":""},{"$f":"IF(BQ57=\"\",\"\",INDEX('Otras referencias'!S:T,MATCH(BQ57,'Otras referencias'!$T:$T,0),1))","v":""},{"$f":"IF(BN57=\"\",\"\",INDEX('Otras referencias'!A:B,MATCH(BN57,'Otras referencias'!$B:$B,0),1))","v":""},""]
[1,"",{"$f":"IF(E58<>\"\",CONCATENATE(DIGITADOR!$M$1,TEXT(D58, \"YYYYMMDD\"),ROW()-5),\"\")","v":""},null,null,"",{"$f":"IF(H58=\"\",\"\",INDEX(referentes!AQ:AR,MATCH(H58,referentes!$AR:$AR,0),1))","v":""},null,{"$f":"IF(J58=\"\",\"\",VLOOKUP(J58,referentes!$AL$2:$AO$29,3,FALSE))","v":""},null,null,null,null,null,null,null,null,null,null,null,null,"",null,null,null,null,null,null,null,null,null,null,null,null,null,null,null,null,null,null,null,null,null,null,null,null,null,{"$f":"IF(AW58=\"\",\"\",DIGITADOR!$B$14)","v":""},"",null,null,null,"",null,null,null,null,null,null,null,null,null,null,null,null,null,null,null,null,null,null,"",{"$f":"IF(C58=\"\",\"\",IF(COUNTIF($C$6:C58, C58)>1, \"\", C58))","v":""},{"$f":"IF(N58=\"\",\"\",INDEX(referentes!P:Q,MATCH(N58,referentes!$Q:$Q,0),1))","v":""},{"$f":"IF(O58=\"\",\"\",INDEX(referentes!$A:$B,MATCH(O58,referentes!$B:$B,0),1))","v":""},{"$f":"IF(S58=\"\",\"\",INDEX(referentes!D:E,MATCH(S58,referentes!$E:$E,0),1))","v":""},{"$f":"IF(T58=\"\",\"\",INDEX(referentes!G:H,MATCH(T58,referentes!$H:$H,0),1))","v":""},"",{"$f":"IF(Y58=\"\",\"\",INDEX(referentes!S:T,MATCH(Y58,referentes!$T:$T,0),1))","v":""},{"$f":"IF(BO58=\"\",\"\",INDEX(referentes!J:K,MATCH(BO58,referentes!$K:$K,0),1))","v":""},{"$f":"IF(BJ58=\"\",\"\",INDEX(referentes!V:W,MATCH(BJ58,referentes!$W:$W,0),1))","v":""},{"$f":"IF(BK58=\"\",\"\",INDEX(referentes!Y:Z,MATCH(BK58,referentes!$Z:$Z,0),1))","v":""},{"$f":"IF(BL58=\"\",\"\",INDEX(referentes!AB:AC,MATCH(BL58,referentes!$AC:$AC,0),1))","v":""},{"$f":"IF(BM58=\"\",\"\",INDEX(referentes!AE:AF,MATCH(BM58,referentes!$AF:$AF,0),1))","v":""},{"$f":"IF(BB58=\"\",\"\",INDEX(referentes!M:N,MATCH(BB58,referentes!$N:$N,0),1))","v":""},{"$f":"IF(BQ58=\"\",\"\",INDEX('Otras referencias'!S:T,MATCH(BQ58,'Otras referencias'!$T:$T,0),1))","v":""},{"$f":"IF(BN58=\"\",\"\",INDEX('Otras referencias'!A:B,MATCH(BN58,'Otras referencias'!$B:$B,0),1))","v":""},""]
[1,"",{"$f":"IF(E59<>\"\",CONCATENATE(DIGITADOR!$M$1,TEXT(D59, \"YYYYMMDD\"),ROW()-5),\"\")","v":""},null,null,"",{"$f":"IF(H59=\"\",\"\",INDEX(referentes!AQ:AR,MATCH(H59,referentes!$AR:$AR,0),1))","v":""},null,{"$f":"IF(J59=\"\",\"\",VLOOKUP(J59,referentes!$AL$2:$AO$29,3,FALSE))","v":""},null,null,null,null,null,null,null,null,null,null,null,null,"",null,null,null,null,null,null,null,null,null,null,null,null,null,null,null,null,null,null,null,null,null,null,null,null,null,{"$f":"IF(AW59=\"\",\"\",DIGITADOR!$B$14)","v":""},"",null,null,null,"",null,null,null,null,null,null,null,null,null,null,null,null,null,null,null,null,null,null,"",{"$f":"IF(C59=\"\",\"\",IF(COUNTIF($C$6:C59, C59)>1, \"\", C59))","v":""},{"$f":"IF(N59=\"\",\"\",INDEX(referentes!P:Q,MATCH(N59,referentes!$Q:$Q,0),1))","v":""},{"$f":"IF(O59=\"\",\"\",INDEX(referentes!$A:$B,MATCH(O59,referentes!$B:$B,0),1))","v":""},{"$f":"IF(S59=\"\",\"\",INDEX(referentes!D:E,MATCH(S59,referentes!$E:$E,0),1))","v":""},{"$f":"IF(T59=\"\",\"\",INDEX(referentes!G:H,MATCH(T59,referentes!$H:$H,0),1))","v":""},"",{"$f":"IF(Y59=\"\",\"\",INDEX(referentes!S:T,MATCH(Y59,referentes!$T:$T,0),1))","v":""},{"$f":"IF(BO59=\"\",\"\",INDEX(referentes!J:K,MATCH(BO59,referentes!$K:$K,0),1))","v":""},{"$f":"IF(BJ59=\"\",\"\",INDEX(referentes!V:W,MATCH(BJ59,referentes!$W:$W,0),1))","v":""},{"$f":"IF(BK59=\"\",\"\",INDEX(referentes!Y:Z,MATCH(BK59,referentes!$Z:$Z,0),1))","v":""},{"$f":"IF(BL59=\"\",\"\",INDEX(referentes!AB:AC,MATCH(BL59,referentes!$AC:$AC,0),1))","v":""},{"$f":"IF(BM59=\"\",\"\",INDEX(referentes!AE:AF,MATCH(BM59,referentes!$AF:$AF,0),1))","v":""},{"$f":"IF(BB59=\"\",\"\",INDEX(referentes!M:N,MATCH(BB59,referentes!$N:$N,0),1))","v":""},{"$f":"IF(BQ59=\"\",\"\",INDEX('Otras referencias'!S:T,MATCH(BQ59,'Otras referencias'!$T:$T,0),1))","v":""},{"$f":"IF(BN59=\"\",\"\",INDEX('Otras referencias'!A:B,MATCH(BN59,'Otras referencias'!$B:$B,0),1))","v":""},""]
[1,"",{"$f":"IF(E60<>\"\",CONCATENATE(DIGITADOR!$M$1,TEXT(D60, \"YYYYMMDD\"),ROW()-5),\"\")","v":""},null,null,"",{"$f":"IF(H60=\"\",\"\",INDEX(referentes!AQ:AR,MATCH(H60,referentes!$AR:$AR,0),1))","v":""},null,{"$f":"IF(J60=\"\",\"\",VLOOKUP(J60,referentes!$AL$2:$AO$29,3,FALSE))","v":""},null,null,null,null,null,null,null,null,null,null,null,null,"",null,null,null,null,null,null,null,null,null,null,null,null,null,null,null,null,null,null,null,null,null,null,null,null,null,{"$f":"IF(AW60=\"\",\"\",DIGITADOR!$B$14)","v":""},"",null,null,null,"",null,null,null,null,null,null,null,null,null,null,null,null,null,null,null,null,null,null,"",{"$f":"IF(C60=\"\",\"\",IF(COUNTIF($C$6:C60, C60)>1, \"\", C60))","v":""},{"$f":"IF(N60=\"\",\"\",INDEX(referentes!P:Q,MATCH(N60,referentes!$Q:$Q,0),1))","v":""},{"$f":"IF(O60=\"\",\"\",INDEX(referentes!$A:$B,MATCH(O60,referentes!$B:$B,0),1))","v":""},{"$f":"IF(S60=\"\",\"\",INDEX(referentes!D:E,MATCH(S60,referentes!$E:$E,0),1))","v":""},{"$f":"IF(T60=\"\",\"\",INDEX(referentes!G:H,MATCH(T60,referentes!$H:$H,0),1))","v":""},"",{"$f":"IF(Y60=\"\",\"\",INDEX(referentes!S:T,MATCH(Y60,referentes!$T:$T,0),1))","v":""},{"$f":"IF(BO60=\"\",\"\",INDEX(referentes!J:K,MATCH(BO60,referentes!$K:$K,0),1))","v":""},{"$f":"IF(BJ60=\"\",\"\",INDEX(referentes!V:W,MATCH(BJ60,referentes!$W:$W,0),1))","v":""},{"$f":"IF(BK60=\"\",\"\",INDEX(referentes!Y:Z,MATCH(BK60,referentes!$Z:$Z,0),1))","v":""},{"$f":"IF(BL60=\"\",\"\",INDEX(referentes!AB:AC,MATCH(BL60,referentes!$AC:$AC,0),1))","v":""},{"$f":"IF(BM60=\"\",\"\",INDEX(referentes!AE:AF,MATCH(BM60,referentes!$AF:$AF,0),1))","v":""},{"$f":"IF(BB60=\"\",\"\",INDEX(referentes!M:N,MATCH(BB60,referentes!$N:$N,0),1))","v":""},{"$f":"IF(BQ60=\"\",\"\",INDEX('Otras referencias'!S:T,MATCH(BQ60,'Otras referencias'!$T:$T,0),1))","v":""},{"$f":"IF(BN60=\"\",\"\",INDEX('Otras referencias'!A:B,MATCH(BN60,'Otras referencias'!$B:$B,0),1))","v":""},""]
[1,"",{"$f":"IF(E61<>\"\",CONCATENATE(DIGITADOR!$M$1,TEXT(D61, \"YYYYMMDD\"),ROW()-5),\"\")","v":""},null,null,"",{"$f":"IF(H61=\"\",\"\",INDEX(referentes!AQ:AR,MATCH(H61,referentes!$AR:$AR,0),1))","v":""},null,{"$f":"IF(J61=\"\",\"\",VLOOKUP(J61,referentes!$AL$2:$AO$29,3,FALSE))","v":""},null,null,null,null,null,null,null,null,null,null,null,null,"",null,null,null,null,null,null,null,null,null,null,null,null,null,null,null,null,null,null,null,null,null,null,null,null,null,{"$f":"IF(AW61=\"\",\"\",DIGITADOR!$B$14)","v":""},"",null,null,null,"",null,null,null,null,null,null,null,null,null,null,null,null,null,null,null,null,null,null,"",{"$f":"IF(C61=\"\",\"\",IF(COUNTIF($C$6:C61, C61)>1, \"\", C61))","v":""},{"$f":"IF(N61=\"\",\"\",INDEX(referentes!P:Q,MATCH(N61,referentes!$Q:$Q,0),1))","v":""},{"$f":"IF(O61=\"\",\"\",INDEX(referentes!$A:$B,MATCH(O61,referentes!$B:$B,0),1))","v":""},{"$f":"IF(S61=\"\",\"\",INDEX(referentes!D:E,MATCH(S61,referentes!$E:$E,0),1))","v":""},{"$f":"IF(T61=\"\",\"\",INDEX(referentes!G:H,MATCH(T61,referentes!$H:$H,0),1))","v":""},"",{"$f":"IF(Y61=\"\",\"\",INDEX(referentes!S:T,MATCH(Y61,referentes!$T:$T,0),1))","v":""},{"$f":"IF(BO61=\"\",\"\",INDEX(referentes!J:K,MATCH(BO61,referentes!$K:$K,0),1))","v":""},{"$f":"IF(BJ61=\"\",\"\",INDEX(referentes!V:W,MATCH(BJ61,referentes!$W:$W,0),1))","v":""},{"$f":"IF(BK61=\"\",\"\",INDEX(referentes!Y:Z,MATCH(BK61,referentes!$Z:$Z,0),1))","v":""},{"$f":"IF(BL61=\"\",\"\",INDEX(referentes!AB:AC,MATCH(BL61,referentes!$AC:$AC,0),1))","v":""},{"$f":"IF(BM61=\"\",\"\",INDEX(referentes!AE:AF,MATCH(BM61,referentes!$AF:$AF,0),1))","v":""},{"$f":"IF(BB61=\"\",\"\",INDEX(referentes!M:N,MATCH(BB61,referentes!$N:$N,0),1))","v":""},{"$f":"IF(BQ61=\"\",\"\",INDEX('Otras referencias'!S:T,MATCH(BQ61,'Otras referencias'!$T:$T,0),1))","v":""},{"$f":"IF(BN61=\"\",\"\",INDEX('Otras referencias'!A:B,MATCH(BN61,'Otras referencias'!$B:$B,0),1))","v":""},""]
[1,"",{"$f":"IF(E62<>\"\",CONCATENATE(DIGITADOR!$M$1,TEXT(D62, \"YYYYMMDD\"),ROW()-5),\"\")","v":""},null,null,"",{"$f":"IF(H62=\"\",\"\",INDEX(referentes!AQ:AR,MATCH(H62,referentes!$AR:$AR,0),1))","v":""},null,{"$f":"IF(J62=\"\",\"\",VLOOKUP(J62,referentes!$AL$2:$AO$29,3,FALSE))","v":""},null,null,null,null,null,null,null,null,null,null,null,null,"",null,null,null,null,null,null,null,null,null,null,null,null,null,null,null,null,null,null,null,null,null,null,null,null,null,{"$f":"IF(AW62=\"\",\"\",DIGITADOR!$B$14)","v":""},"",null,null,null,"",null,null,null,null,null,null,null,null,null,null,null,null,null,null,null,null,null,null,"",{"$f":"IF(C62=\"\",\"\",IF(COUNTIF($C$6:C62, C62)>1, \"\", C62))","v":""},{"$f":"IF(N62=\"\",\"\",INDEX(referentes!P:Q,MATCH(N62,referentes!$Q:$Q,0),1))","v":""},{"$f":"IF(O62=\"\",\"\",INDEX(referentes!$A:$B,MATCH(O62,referentes!$B:$B,0),1))","v":""},{"$f":"IF(S62=\"\",\"\",INDEX(referentes!D:E,MATCH(S62,referentes!$E:$E,0),1))","v":""},{"$f":"IF(T62=\"\",\"\",INDEX(referentes!G:H,MATCH(T62,referentes!$H:$H,0),1))","v":""},"",{"$f":"IF(Y62=\"\",\"\",INDEX(referentes!S:T,MATCH(Y62,referentes!$T:$T,0),1))","v":""},{"$f":"IF(BO62=\"\",\"\",INDEX(referentes!J:K,MATCH(BO62,referentes!$K:$K,0),1))","v":""},{"$f":"IF(BJ62=\"\",\"\",INDEX(referentes!V:W,MATCH(BJ62,referentes!$W:$W,0),1))","v":""},{"$f":"IF(BK62=\"\",\"\",INDEX(referentes!Y:Z,MATCH(BK62,referentes!$Z:$Z,0),1))","v":""},{"$f":"IF(BL62=\"\",\"\",INDEX(referentes!AB:AC,MATCH(BL62,referentes!$AC:$AC,0),1))","v":""},{"$f":"IF(BM62=\"\",\"\",INDEX(referentes!AE:AF,MATCH(BM62,referentes!$AF:$AF,0),1))","v":""},{"$f":"IF(BB62=\"\",\"\",INDEX(referentes!M:N,MATCH(BB62,referentes!$N:$N,0),1))","v":""},{"$f":"IF(BQ62=\"\",\"\",INDEX('Otras referencias'!S:T,MATCH(BQ62,'Otras referencias'!$T:$T,0),1))","v":""},{"$f":"IF(BN62=\"\",\"\",INDEX('Otras referencias'!A:B,MATCH(BN62,'Otras referencias'!$B:$B,0),1))","v":""},""]
[1,"",{"$f":"IF(E63<>\"\",CONCATENATE(DIGITADOR!$M$1,TEXT(D63, \"YYYYMMDD\"),ROW()-5),\"\")","v":""},null,null,"",{"$f":"IF(H63=\"\",\"\",INDEX(referentes!AQ:AR,MATCH(H63,referentes!$AR:$AR,0),1))","v":""},null,{"$f":"IF(J63=\"\",\"\",VLOOKUP(J63,referentes!$AL$2:$AO$29,3,FALSE))","v":""},null,null,null,null,null,null,null,null,null,null,null,null,"",null,null,null,null,null,null,null,null,null,null,null,null,null,null,null,null,null,null,null,null,null,null,null,null,null,{"$f":"IF(AW63=\"\",\"\",DIGITADOR!$B$14)","v":""},"",null,null,null,"",null,null,null,null,null,null,null,null,null,null,null,null,null,null,null,null,null,null,"",{"$f":"IF(C63=\"\",\"\",IF(COUNTIF($C$6:C63, C63)>1, \"\", C63))","v":""},{"$f":"IF(N63=\"\",\"\",INDEX(referentes!P:Q,MATCH(N63,referentes!$Q:$Q,0),1))","v":""},{"$f":"IF(O63=\"\",\"\",INDEX(referentes!$A:$B,MATCH(O63,referentes!$B:$B,0),1))","v":""},{"$f":"IF(S63=\"\",\"\",INDEX(referentes!D:E,MATCH(S63,referentes!$E:$E,0),1))","v":""},{"$f":"IF(T63=\"\",\"\",INDEX(referentes!G:H,MATCH(T63,referentes!$H:$H,0),1))","v":""},"",{"$f":"IF(Y63=\"\",\"\",INDEX(referentes!S:T,MATCH(Y63,referentes!$T:$T,0),1))","v":""},{"$f":"IF(BO63=\"\",\"\",INDEX(referentes!J:K,MATCH(BO63,referentes!$K:$K,0),1))","v":""},{"$f":"IF(BJ63=\"\",\"\",INDEX(referentes!V:W,MATCH(BJ63,referentes!$W:$W,0),1))","v":""},{"$f":"IF(BK63=\"\",\"\",INDEX(referentes!Y:Z,MATCH(BK63,referentes!$Z:$Z,0),1))","v":""},{"$f":"IF(BL63=\"\",\"\",INDEX(referentes!AB:AC,MATCH(BL63,referentes!$AC:$AC,0),1))","v":""},{"$f":"IF(BM63=\"\",\"\",INDEX(referentes!AE:AF,MATCH(BM63,referentes!$AF:$AF,0),1))","v":""},{"$f":"IF(BB63=\"\",\"\",INDEX(referentes!M:N,MATCH(BB63,referentes!$N:$N,0),1))","v":""},{"$f":"IF(BQ63=\"\",\"\",INDEX('Otras referencias'!S:T,MATCH(BQ63,'Otras referencias'!$T:$T,0),1))","v":""},{"$f":"IF(BN63=\"\",\"\",INDEX('Otras referencias'!A:B,MATCH(BN63,'Otras referencias'!$B:$B,0),1))","v":""},""]
[1,"",{"$f":"IF(E64<>\"\",CONCATENATE(DIGITADOR!$M$1,TEXT(D64, \"YYYYMMDD\"),ROW()-5),\"\")","v":""},null,null,"",{"$f":"IF(H64=\"\",\"\",INDEX(referentes!AQ:AR,MATCH(H64,referentes!$AR:$AR,0),1))","v":""},null,{"$f":"IF(J64=\"\",\"\",VLOOKUP(J64,referentes!$AL$2:$AO$29,3,FALSE))","v":""},null,null,null,null,null,null,null,null,null,null,null,null,"",null,null,null,null,null,null,null,null,null,null,null,null,null,null,null,null,null,null,null,null,null,null,null,null,null,{"$f":"IF(AW64=\"\",\"\",DIGITADOR!$B$14)","v":""},"",null,null,null,"",null,null,null,null,null,null,null,null,null,null,null,null,null,null,null,null,null,null,"",{"$f":"IF(C64=\"\",\"\",IF(COUNTIF($C$6:C64, C64)>1, \"\", C64))","v":""},{"$f":"IF(N64=\"\",\"\",INDEX(referentes!P:Q,MATCH(N64,referentes!$Q:$Q,0),1))","v":""},{"$f":"IF(O64=\"\",\"\",INDEX(referentes!$A:$B,MATCH(O64,referentes!$B:$B,0),1))","v":""},{"$f":"IF(S64=\"\",\"\",INDEX(referentes!D:E,MATCH(S64,referentes!$E:$E,0),1))","v":""},{"$f":"IF(T64=\"\",\"\",INDEX(referentes!G:H,MATCH(T64,referentes!$H:$H,0),1))","v":""},"",{"$f":"IF(Y64=\"\",\"\",INDEX(referentes!S:T,MATCH(Y64,referentes!$T:$T,0),1))","v":""},{"$f":"IF(BO64=\"\",\"\",INDEX(referentes!J:K,MATCH(BO64,referentes!$K:$K,0),1))","v":""},{"$f":"IF(BJ64=\"\",\"\",INDEX(referentes!V:W,MATCH(BJ64,referentes!$W:$W,0),1))","v":""},{"$f":"IF(BK64=\"\",\"\",INDEX(referentes!Y:Z,MATCH(BK64,referentes!$Z:$Z,0),1))","v":""},{"$f":"IF(BL64=\"\",\"\",INDEX(referentes!AB:AC,MATCH(BL64,referentes!$AC:$AC,0),1))","v":""},{"$f":"IF(BM64=\"\",\"\",INDEX(referentes!AE:AF,MATCH(BM64,referentes!$AF:$AF,0),1))","v":""},{"$f":"IF(BB64=\"\",\"\",INDEX(referentes!M:N,MATCH(BB64,referentes!$N:$N,0),1))","v":""},{"$f":"IF(BQ64=\"\",\"\",INDEX('Otras referencias'!S:T,MATCH(BQ64,'Otras referencias'!$T:$T,0),1))","v":""},{"$f":"IF(BN64=\"\",\"\",INDEX('Otras referencias'!A:B,MATCH(BN64,'Otras referencias'!$B:$B,0),1))","v":""},""]
[1,"",{"$f":"IF(E65<>\"\",CONCATENATE(DIGITADOR!$M$1,TEXT(D65, \"YYYYMMDD\"),ROW()-5),\"\")","v":""},null,null,"",{"$f":"IF(H65=\"\",\"\",INDEX(referentes!AQ:AR,MATCH(H65,referentes!$AR:$AR,0),1))","v":""},null,{"$f":"IF(J65=\"\",\"\",VLOOKUP(J65,referentes!$AL$2:$AO$29,3,FALSE))","v":""},null,null,null,null,null,null,null,null,null,null,null,null,"",null,null,null,null,null,null,null,null,null,null,null,null,null,null,null,null,null,null,null,null,null,null,null,null,null,{"$f":"IF(AW65=\"\",\"\",DIGITADOR!$B$14)","v":""},"",null,null,null,"",null,null,null,null,null,null,null,null,null,null,null,null,null,null,null,null,null,null,"",{"$f":"IF(C65=\"\",\"\",IF(COUNTIF($C$6:C65, C65)>1, \"\", C65))","v":""},{"$f":"IF(N65=\"\",\"\",INDEX(referentes!P:Q,MATCH(N65,referentes!$Q:$Q,0),1))","v":""},{"$f":"IF(O65=\"\",\"\",INDEX(referentes!$A:$B,MATCH(O65,referentes!$B:$B,0),1))","v":""},{"$f":"IF(S65=\"\",\"\",INDEX(referentes!D:E,MATCH(S65,referentes!$E:$E,0),1))","v":""},{"$f":"IF(T65=\"\",\"\",INDEX(referentes!G:H,MATCH(T65,referentes!$H:$H,0),1))","v":""},"",{"$f":"IF(Y65=\"\",\"\",INDEX(referentes!S:T,MATCH(Y65,referentes!$T:$T,0),1))","v":""},{"$f":"IF(BO65=\"\",\"\",INDEX(referentes!J:K,MATCH(BO65,referentes!$K:$K,0),1))","v":""},{"$f":"IF(BJ65=\"\",\"\",INDEX(referentes!V:W,MATCH(BJ65,referentes!$W:$W,0),1))","v":""},{"$f":"IF(BK65=\"\",\"\",INDEX(referentes!Y:Z,MATCH(BK65,referentes!$Z:$Z,0),1))","v":""},{"$f":"IF(BL65=\"\",\"\",INDEX(referentes!AB:AC,MATCH(BL65,referentes!$AC:$AC,0),1))","v":""},{"$f":"IF(BM65=\"\",\"\",INDEX(referentes!AE:AF,MATCH(BM65,referentes!$AF:$AF,0),1))","v":""},{"$f":"IF(BB65=\"\",\"\",INDEX(referentes!M:N,MATCH(BB65,referentes!$N:$N,0),1))","v":""},{"$f":"IF(BQ65=\"\",\"\",INDEX('Otras referencias'!S:T,MATCH(BQ65,'Otras referencias'!$T:$T,0),1))","v":""},{"$f":"IF(BN65=\"\",\"\",INDEX('Otras referencias'!A:B,MATCH(BN65,'Otras referencias'!$B:$B,0),1))","v":""},""]
[1,"",{"$f":"IF(E66<>\"\",CONCATENATE(DIGITADOR!$M$1,TEXT(D66, \"YYYYMMDD\"),ROW()-5),\"\")","v":""},null,null,"",{"$f":"IF(H66=\"\",\"\",INDEX(referentes!AQ:AR,MATCH(H66,referentes!$AR:$AR,0),1))","v":""},null,{"$f":"IF(J66=\"\",\"\",VLOOKUP(J66,referentes!$AL$2:$AO$29,3,FALSE))","v":""},null,null,null,null,null,null,null,null,null,null,null,null,"",null,null,null,null,null,null,null,null,null,null,null,null,null,null,null,null,null,null,null,null,null,null,null,null,null,{"$f":"IF(AW66=\"\",\"\",DIGITADOR!$B$14)","v":""},"",null,null,null,"",null,null,null,null,null,null,null,null,null,null,null,null,null,null,null,null,null,null,"",{"$f":"IF(C66=\"\",\"\",IF(COUNTIF($C$6:C66, C66)>1, \"\", C66))","v":""},{"$f":"IF(N66=\"\",\"\",INDEX(referentes!P:Q,MATCH(N66,referentes!$Q:$Q,0),1))","v":""},{"$f":"IF(O66=\"\",\"\",INDEX(referentes!$A:$B,MATCH(O66,referentes!$B:$B,0),1))","v":""},{"$f":"IF(S66=\"\",\"\",INDEX(referentes!D:E,MATCH(S66,referentes!$E:$E,0),1))","v":""},{"$f":"IF(T66=\"\",\"\",INDEX(referentes!G:H,MATCH(T66,referentes!$H:$H,0),1))","v":""},"",{"$f":"IF(Y66=\"\",\"\",INDEX(referentes!S:T,MATCH(Y66,referentes!$T:$T,0),1))","v":""},{"$f":"IF(BO66=\"\",\"\",INDEX(referentes!J:K,MATCH(BO66,referentes!$K:$K,0),1))","v":""},{"$f":"IF(BJ66=\"\",\"\",INDEX(referentes!V:W,MATCH(BJ66,referentes!$W:$W,0),1))","v":""},{"$f":"IF(BK66=\"\",\"\",INDEX(referentes!Y:Z,MATCH(BK66,referentes!$Z:$Z,0),1))","v":""},{"$f":"IF(BL66=\"\",\"\",INDEX(referentes!AB:AC,MATCH(BL66,referentes!$AC:$AC,0),1))","v":""},{"$f":"IF(BM66=\"\",\"\",INDEX(referentes!AE:AF,MATCH(BM66,referentes!$AF:$AF,0),1))","v":""},{"$f":"IF(BB66=\"\",\"\",INDEX(referentes!M:N,MATCH(BB66,referentes!$N:$N,0),1))","v":""},{"$f":"IF(BQ66=\"\",\"\",INDEX('Otras referencias'!S:T,MATCH(BQ66,'Otras referencias'!$T:$T,0),1))","v":""},{"$f":"IF(BN66=\"\",\"\",INDEX('Otras referencias'!A:B,MATCH(BN66,'Otras referencias'!$B:$B,0),1))","v":""},""]
[1,"",{"$f":"IF(E67<>\"\",CONCATENATE(DIGITADOR!$M$1,TEXT(D67, \"YYYYMMDD\"),ROW()-5),\"\")","v":""},null,null,"",{"$f":"IF(H67=\"\",\"\",INDEX(referentes!AQ:AR,MATCH(H67,referentes!$AR:$AR,0),1))","v":""},null,{"$f":"IF(J67=\"\",\"\",VLOOKUP(J67,referentes!$AL$2:$AO$29,3,FALSE))","v":""},null,null,null,null,null,null,null,null,null,null,null,null,"",null,null,null,null,null,null,null,null,null,null,null,null,null,null,null,null,null,null,null,null,null,null,null,null,null,{"$f":"IF(AW67=\"\",\"\",DIGITADOR!$B$14)","v":""},"",null,null,null,"",null,null,null,null,null,null,null,null,null,null,null,null,null,null,null,null,null,null,"",{"$f":"IF(C67=\"\",\"\",IF(COUNTIF($C$6:C67, C67)>1, \"\", C67))","v":""},{"$f":"IF(N67=\"\",\"\",INDEX(referentes!P:Q,MATCH(N67,referentes!$Q:$Q,0),1))","v":""},{"$f":"IF(O67=\"\",\"\",INDEX(referentes!$A:$B,MATCH(O67,referentes!$B:$B,0),1))","v":""},{"$f":"IF(S67=\"\",\"\",INDEX(referentes!D:E,MATCH(S67,referentes!$E:$E,0),1))","v":""},{"$f":"IF(T67=\"\",\"\",INDEX(referentes!G:H,MATCH(T67,referentes!$H:$H,0),1))","v":""},"",{"$f":"IF(Y67=\"\",\"\",INDEX(referentes!S:T,MATCH(Y67,referentes!$T:$T,0),1))","v":""},{"$f":"IF(BO67=\"\",\"\",INDEX(referentes!J:K,MATCH(BO67,referentes!$K:$K,0),1))","v":""},{"$f":"IF(BJ67=\"\",\"\",INDEX(referentes!V:W,MATCH(BJ67,referentes!$W:$W,0),1))","v":""},{"$f":"IF(BK67=\"\",\"\",INDEX(referentes!Y:Z,MATCH(BK67,referentes!$Z:$Z,0),1))","v":""},{"$f":"IF(BL67=\"\",\"\",INDEX(referentes!AB:AC,MATCH(BL67,referentes!$AC:$AC,0),1))","v":""},{"$f":"IF(BM67=\"\",\"\",INDEX(referentes!AE:AF,MATCH(BM67,referentes!$AF:$AF,0),1))","v":""},{"$f":"IF(BB67=\"\",\"\",INDEX(referentes!M:N,MATCH(BB67,referentes!$N:$N,0),1))","v":""},{"$f":"IF(BQ67=\"\",\"\",INDEX('Otras referencias'!S:T,MATCH(BQ67,'Otras referencias'!$T:$T,0),1))","v":""},{"$f":"IF(BN67=\"\",\"\",INDEX('Otras referencias'!A:B,MATCH(BN67,'Otras referencias'!$B:$B,0),1))","v":""},""]
[1,"",{"$f":"IF(E68<>\"\",CONCATENATE(DIGITADOR!$M$1,TEXT(D68, \"YYYYMMDD\"),ROW()-5),\"\")","v":""},null,null,"",{"$f":"IF(H68=\"\",\"\",INDEX(referentes!AQ:AR,MATCH(H68,referentes!$AR:$AR,0),1))","v":""},null,{"$f":"IF(J68=\"\",\"\",VLOOKUP(J68,referentes!$AL$2:$AO$29,3,FALSE))","v":""},null,null,null,null,null,null,null,null,null,null,null,null,"",null,null,null,null,null,null,null,null,null,null,null,null,null,null,null,null,null,null,null,null,null,null,null,null,null,{"$f":"IF(AW68=\"\",\"\",DIGITADOR!$B$14)","v":""},"",null,null,null,"",null,null,null,null,null,null,null,null,null,null,null,null,null,null,null,null,null,null,"",{"$f":"IF(C68=\"\",\"\",IF(COUNTIF($C$6:C68, C68)>1, \"\", C68))","v":""},{"$f":"IF(N68=\"\",\"\",INDEX(referentes!P:Q,MATCH(N68,referentes!$Q:$Q,0),1))","v":""},{"$f":"IF(O68=\"\",\"\",INDEX(referentes!$A:$B,MATCH(O68,referentes!$B:$B,0),1))","v":""},{"$f":"IF(S68=\"\",\"\",INDEX(referentes!D:E,MATCH(S68,referentes!$E:$E,0),1))","v":""},{"$f":"IF(T68=\"\",\"\",INDEX(referentes!G:H,MATCH(T68,referentes!$H:$H,0),1))","v":""},"",{"$f":"IF(Y68=\"\",\"\",INDEX(referentes!S:T,MATCH(Y68,referentes!$T:$T,0),1))","v":""},{"$f":"IF(BO68=\"\",\"\",INDEX(referentes!J:K,MATCH(BO68,referentes!$K:$K,0),1))","v":""},{"$f":"IF(BJ68=\"\",\"\",INDEX(referentes!V:W,MATCH(BJ68,referentes!$W:$W,0),1))","v":""},{"$f":"IF(BK68=\"\",\"\",INDEX(referentes!Y:Z,MATCH(BK68,referentes!$Z:$Z,0),1))","v":""},{"$f":"IF(BL68=\"\",\"\",INDEX(referentes!AB:AC,MATCH(BL68,referentes!$AC:$AC,0),1))","v":""},{"$f":"IF(BM68=\"\",\"\",INDEX(referentes!AE:AF,MATCH(BM68,referentes!$AF:$AF,0),1))","v":""},{"$f":"IF(BB68=\"\",\"\",INDEX(referentes!M:N,MATCH(BB68,referentes!$N:$N,0),1))","v":""},{"$f":"IF(BQ68=\"\",\"\",INDEX('Otras referencias'!S:T,MATCH(BQ68,'Otras referencias'!$T:$T,0),1))","v":""},{"$f":"IF(BN68=\"\",\"\",INDEX('Otras referencias'!A:B,MATCH(BN68,'Otras referencias'!$B:$B,0),1))","v":""},""]
[1,"",{"$f":"IF(E69<>\"\",CONCATENATE(DIGITADOR!$M$1,TEXT(D69, \"YYYYMMDD\"),ROW()-5),\"\")","v":""},null,null,"",{"$f":"IF(H69=\"\",\"\",INDEX(referentes!AQ:AR,MATCH(H69,referentes!$AR:$AR,0),1))","v":""},null,{"$f":"IF(J69=\"\",\"\",VLOOKUP(J69,referentes!$AL$2:$AO$29,3,FALSE))","v":""},null,null,null,null,null,null,null,null,null,null,null,null,"",null,null,null,null,null,null,null,null,null,null,null,null,null,null,null,null,null,null,null,null,null,null,null,null,null,{"$f":"IF(AW69=\"\",\"\",DIGITADOR!$B$14)","v":""},"",null,null,null,"",null,null,null,null,null,null,null,null,null,null,null,null,null,null,null,null,null,null,"",{"$f":"IF(C69=\"\",\"\",IF(COUNTIF($C$6:C69, C69)>1, \"\", C69))","v":""},{"$f":"IF(N69=\"\",\"\",INDEX(referentes!P:Q,MATCH(N69,referentes!$Q:$Q,0),1))","v":""},{"$f":"IF(O69=\"\",\"\",INDEX(referentes!$A:$B,MATCH(O69,referentes!$B:$B,0),1))","v":""},{"$f":"IF(S69=\"\",\"\",INDEX(referentes!D:E,MATCH(S69,referentes!$E:$E,0),1))","v":""},{"$f":"IF(T69=\"\",\"\",INDEX(referentes!G:H,MATCH(T69,referentes!$H:$H,0),1))","v":""},"",{"$f":"IF(Y69=\"\",\"\",INDEX(referentes!S:T,MATCH(Y69,referentes!$T:$T,0),1))","v":""},{"$f":"IF(BO69=\"\",\"\",INDEX(referentes!J:K,MATCH(BO69,referentes!$K:$K,0),1))","v":""},{"$f":"IF(BJ69=\"\",\"\",INDEX(referentes!V:W,MATCH(BJ69,referentes!$W:$W,0),1))","v":""},{"$f":"IF(BK69=\"\",\"\",INDEX(referentes!Y:Z,MATCH(BK69,referentes!$Z:$Z,0),1))","v":""},{"$f":"IF(BL69=\"\",\"\",INDEX(referentes!AB:AC,MATCH(BL69,referentes!$AC:$AC,0),1))","v":""},{"$f":"IF(BM69=\"\",\"\",INDEX(referentes!AE:AF,MATCH(BM69,referentes!$AF:$AF,0),1))","v":""},{"$f":"IF(BB69=\"\",\"\",INDEX(referentes!M:N,MATCH(BB69,referentes!$N:$N,0),1))","v":""},{"$f":"IF(BQ69=\"\",\"\",INDEX('Otras referencias'!S:T,MATCH(BQ69,'Otras referencias'!$T:$T,0),1))","v":""},{"$f":"IF(BN69=\"\",\"\",INDEX('Otras referencias'!A:B,MATCH(BN69,'Otras referencias'!$B:$B,0),1))","v":""},""]
[1,{"$f":"IF(BZ70=\"\",\"\",IF(BZ70=BZ69,B69,B69+1))","v":""},{"$f":"IF(E70<>\"\",CONCATENATE(DIGITADOR!$M$1,TEXT(D70, \"YYYYMMDD\"),ROW()-5),\"\")","v":""},null,null,"",{"$f":"IF(H70=\"\",\"\",INDEX(referentes!AQ:AR,MATCH(H70,referentes!$AR:$AR,0),1))","v":""},null,{"$f":"IF(J70=\"\",\"\",VLOOKUP(J70,referentes!$AL$2:$AO$29,3,FALSE))","v":""},null,null,null,null,null,null,null,null,null,null,null,null,"",null,null,null,null,null,null,null,null,null,null,null,null,null,null,null,null,null,null,null,null,null,null,null,null,null,{"$f":"IF(AW70=\"\",\"\",DIGITADOR!$B$14)","v":""},"",null,null,null,"",null,null,null,null,null,null,null,null,null,null,null,null,null,null,null,null,null,null,"",{"$f":"IF(C70=\"\",\"\",IF(COUNTIF($C$6:C70, C70)>1, \"\", C70))","v":""},{"$f":"IF(N70=\"\",\"\",INDEX(referentes!P:Q,MATCH(N70,referentes!$Q:$Q,0),1))","v":""},{"$f":"IF(O70=\"\",\"\",INDEX(referentes!$A:$B,MATCH(O70,referentes!$B:$B,0),1))","v":""},{"$f":"IF(S70=\"\",\"\",INDEX(referentes!D:E,MATCH(S70,referentes!$E:$E,0),1))","v":""},{"$f":"IF(T70=\"\",\"\",INDEX(referentes!G:H,MATCH(T70,referentes!$H:$H,0),1))","v":""},{"$f":"CONCATENATE(F70,G70,I70,BV70,BW70,BX70,BY70,P70,Q70,R70)","v":""},{"$f":"IF(Y70=\"\",\"\",INDEX(referentes!S:T,MATCH(Y70,referentes!$T:$T,0),1))","v":""},{"$f":"IF(BO70=\"\",\"\",INDEX(referentes!J:K,MATCH(BO70,referentes!$K:$K,0),1))","v":""},{"$f":"IF(BJ70=\"\",\"\",INDEX(referentes!V:W,MATCH(BJ70,referentes!$W:$W,0),1))","v":""},{"$f":"IF(BK70=\"\",\"\",INDEX(referentes!Y:Z,MATCH(BK70,referentes!$Z:$Z,0),1))","v":""},{"$f":"IF(BL70=\"\",\"\",INDEX(referentes!AB:AC,MATCH(BL70,referentes!$AC:$AC,0),1))","v":""},{"$f":"IF(BM70=\"\",\"\",INDEX(referentes!AE:AF,MATCH(BM70,referentes!$AF:$AF,0),1))","v":""},{"$f":"IF(BB70=\"\",\"\",INDEX(referentes!M:N,MATCH(BB70,referentes!$N:$N,0),1))","v":""},{"$f":"IF(BQ70=\"\",\"\",INDEX('Otras referencias'!S:T,MATCH(BQ70,'Otras referencias'!$T:$T,0),1))","v":""},{"$f":"IF(BN70=\"\",\"\",INDEX('Otras referencias'!A:B,MATCH(BN70,'Otras referencias'!$B:$B,0),1))","v":""},""]
[{"$f":"IF(CJ71=CJ70,A70,A70+1)","v":1},"",{"$f":"IF(E71<>\"\",CONCATENATE(DIGITADOR!$M$1,TEXT(D71, \"YYYYMMDD\"),ROW()-5),\"\")","v":""},null,null,{"$f":"IF(D71<>\"\",D71+E71,\"\")","v":""},{"$f":"IF(H71=\"\",\"\",INDEX(referentes!AQ:AR,MATCH(H71,referentes!$AR:$AR,0),1))","v":""},null,{"$f":"IF(J71=\"\",\"\",VLOOKUP(J71,referentes!$AL$2:$AO$29,3,FALSE))","v":""},null,null,null,null,null,null,null,null,null,null,null,null,{"$f":"IF(W71=\"\",\"\",IF(W71=W70,B70,B70+1))","v":""},null,null,null,null,null,null,null,null,null,null,null,null,null,null,null,null,null,null,null,null,null,null,null,null,null,{"$f":"IF(AW71=\"\",\"\",DIGITADOR!$B$14)","v":""},{"$f":"IF(SUM(Z71:AU71)=0,\"\",SUM(Z71:AU71))","v":""},null,null,null,{"$f":"IF(SUM(AX71:AZ71)=0,\"\",SUM(AX71:AZ71))","v":""},null,null,null,null,null,null,null,null,null,null,null,null,null,null,null,null,null,null,{"$f":"IF(D71=\"\",\"\",CONCATENATE(C71,V71,B71))","v":""},{"$f":"IF(C71=\"\",\"\",IF(COUNTIF($C$6:C71, C71)>1, \"\", C71))","v":""},{"$f":"IF(N71=\"\",\"\",INDEX(referentes!P:Q,MATCH(N71,referentes!$Q:$Q,0),1))","v":""},{"$f":"IF(O71=\"\",\"\",INDEX(referentes!$A:$B,MATCH(O71,referentes!$B:$B,0),1))","v":""},{"$f":"IF(S71=\"\",\"\",INDEX(referentes!D:E,MATCH(S71,referentes!$E:$E,0),1))","v":""},{"$f":"IF(T71=\"\",\"\",INDEX(referentes!G:H,MATCH(T71,referentes!$H:$H,0),1))","v":""},"",{"$f":"IF(Y71=\"\",\"\",INDEX(referentes!S:T,MATCH(Y71,referentes!$T:$T,0),1))","v":""},{"$f":"IF(BO71=\"\",\"\",INDEX(referentes!J:K,MATCH(BO71,referentes!$K:$K,0),1))","v":""},{"$f":"IF(BJ71=\"\",\"\",INDEX(referentes!V:W,MATCH(BJ71,referentes!$W:$W,0),1))","v":""},{"$f":"IF(BK71=\"\",\"\",INDEX(referentes!Y:Z,MATCH(BK71,referentes!$Z:$Z,0),1))","v":""},{"$f":"IF(BL71=\"\",\"\",INDEX(referentes!AB:AC,MATCH(BL71,referentes!$AC:$AC,0),1))","v":""},{"$f":"IF(BM71=\"\",\"\",INDEX(referentes!AE:AF,MATCH(BM71,referentes!$AF:$AF,0),1))","v":""},{"$f":"IF(BB71=\"\",\"\",INDEX(referentes!M:N,MATCH(BB71,referentes!$N:$N,0),1))","v":""},{"$f":"IF(BQ71=\"\",\"\",INDEX('Otras referencias'!S:T,MATCH(BQ71,'Otras referencias'!$T:$T,0),1))","v":""},{"$f":"IF(BN71=\"\",\"\",INDEX('Otras referencias'!A:B,MATCH(BN71,'Otras referencias'!$B:$B,0),1))","v":""},{"$f":"IF(D71=\"\",\"\",CONCATENATE(TEXT(D71,\"YYYYMMDD\"),I71))","v":""}]
[1,"",{"$f":"IF(E72<>\"\",CONCATENATE(DIGITADOR!$M$1,TEXT(D72, \"YYYYMMDD\"),ROW()-5),\"\")","v":""},null,null,"",{"$f":"IF(H72=\"\",\"\",INDEX(referentes!AQ:AR,MATCH(H72,referentes!$AR:$AR,0),1))","v":""},null,{"$f":"IF(J72=\"\",\"\",VLOOKUP(J72,referentes!$AL$2:$AO$29,3,FALSE))","v":""},null,null,null,null,null,null,null,null,null,null,null,null,"",null,null,null,null,null,null,null,null,null,null,null,null,null,null,null,null,null,null,null,null,null,null,null,null,null,{"$f":"IF(AW72=\"\",\"\",DIGITADOR!$B$14)","v":""},"",null,null,null,"",null,null,null,null,null,null,null,null,null,null,null,null,null,null,null,null,null,null,"",{"$f":"IF(C72=\"\",\"\",IF(COUNTIF($C$6:C72, C72)>1, \"\", C72))","v":""},{"$f":"IF(N72=\"\",\"\",INDEX(referentes!P:Q,MATCH(N72,referentes!$Q:$Q,0),1))","v":""},{"$f":"IF(O72=\"\",\"\",INDEX(referentes!$A:$B,MATCH(O72,referentes!$B:$B,0),1))","v":""},{"$f":"IF(S72=\"\",\"\",INDEX(referentes!D:E,MATCH(S72,referentes!$E:$E,0),1))","v":""},{"$f":"IF(T72=\"\",\"\",INDEX(referentes!G:H,MATCH(T72,referentes!$H:$H,0),1))","v":""},"",{"$f":"IF(Y72=\"\",\"\",INDEX(referentes!S:T,MATCH(Y72,referentes!$T:$T,0),1))","v":""},{"$f":"IF(BO72=\"\",\"\",INDEX(referentes!J:K,MATCH(BO72,referentes!$K:$K,0),1))","v":""},{"$f":"IF(BJ72=\"\",\"\",INDEX(referentes!V:W,MATCH(BJ72,referentes!$W:$W,0),1))","v":""},{"$f":"IF(BK72=\"\",\"\",INDEX(referentes!Y:Z,MATCH(BK72,referentes!$Z:$Z,0),1))","v":""},{"$f":"IF(BL72=\"\",\"\",INDEX(referentes!AB:AC,MATCH(BL72,referentes!$AC:$AC,0),1))","v":""},{"$f":"IF(BM72=\"\",\"\",INDEX(referentes!AE:AF,MATCH(BM72,referentes!$AF:$AF,0),1))","v":""},{"$f":"IF(BB72=\"\",\"\",INDEX(referentes!M:N,MATCH(BB72,referentes!$N:$N,0),1))","v":""},{"$f":"IF(BQ72=\"\",\"\",INDEX('Otras referencias'!S:T,MATCH(BQ72,'Otras referencias'!$T:$T,0),1))","v":""},{"$f":"IF(BN72=\"\",\"\",INDEX('Otras referencias'!A:B,MATCH(BN72,'Otras referencias'!$B:$B,0),1))","v":""},""]
[1,"",{"$f":"IF(E73<>\"\",CONCATENATE(DIGITADOR!$M$1,TEXT(D73, \"YYYYMMDD\"),ROW()-5),\"\")","v":""},null,null,"",{"$f":"IF(H73=\"\",\"\",INDEX(referentes!AQ:AR,MATCH(H73,referentes!$AR:$AR,0),1))","v":""},null,{"$f":"IF(J73=\"\",\"\",VLOOKUP(J73,referentes!$AL$2:$AO$29,3,FALSE))","v":""},null,null,null,null,null,null,null,null,null,null,null,null,"",null,null,null,null,null,null,null,null,null,null,null,null,null,null,null,null,null,null,null,null,null,null,null,null,null,{"$f":"IF(AW73=\"\",\"\",DIGITADOR!$B$14)","v":""},"",null,null,null,"",null,null,null,null,null,null,null,null,null,null,null,null,null,null,null,null,null,null,"",{"$f":"IF(C73=\"\",\"\",IF(COUNTIF($C$6:C73, C73)>1, \"\", C73))","v":""},{"$f":"IF(N73=\"\",\"\",INDEX(referentes!P:Q,MATCH(N73,referentes!$Q:$Q,0),1))","v":""},{"$f":"IF(O73=\"\",\"\",INDEX(referentes!$A:$B,MATCH(O73,referentes!$B:$B,0),1))","v":""},{"$f":"IF(S73=\"\",\"\",INDEX(referentes!D:E,MATCH(S73,referentes!$E:$E,0),1))","v":""},{"$f":"IF(T73=\"\",\"\",INDEX(referentes!G:H,MATCH(T73,referentes!$H:$H,0),1))","v":""},"",{"$f":"IF(Y73=\"\",\"\",INDEX(referentes!S:T,MATCH(Y73,referentes!$T:$T,0),1))","v":""},{"$f":"IF(BO73=\"\",\"\",INDEX(referentes!J:K,MATCH(BO73,referentes!$K:$K,0),1))","v":""},{"$f":"IF(BJ73=\"\",\"\",INDEX(referentes!V:W,MATCH(BJ73,referentes!$W:$W,0),1))","v":""},{"$f":"IF(BK73=\"\",\"\",INDEX(referentes!Y:Z,MATCH(BK73,referentes!$Z:$Z,0),1))","v":""},{"$f":"IF(BL73=\"\",\"\",INDEX(referentes!AB:AC,MATCH(BL73,referentes!$AC:$AC,0),1))","v":""},{"$f":"IF(BM73=\"\",\"\",INDEX(referentes!AE:AF,MATCH(BM73,referentes!$AF:$AF,0),1))","v":""},{"$f":"IF(BB73=\"\",\"\",INDEX(referentes!M:N,MATCH(BB73,referentes!$N:$N,0),1))","v":""},{"$f":"IF(BQ73=\"\",\"\",INDEX('Otras referencias'!S:T,MATCH(BQ73,'Otras referencias'!$T:$T,0),1))","v":""},{"$f":"IF(BN73=\"\",\"\",INDEX('Otras referencias'!A:B,MATCH(BN73,'Otras referencias'!$B:$B,0),1))","v":""},""]
[1,"",{"$f":"IF(E74<>\"\",CONCATENATE(DIGITADOR!$M$1,TEXT(D74, \"YYYYMMDD\"),ROW()-5),\"\")","v":""},null,null,"",{"$f":"IF(H74=\"\",\"\",INDEX(referentes!AQ:AR,MATCH(H74,referentes!$AR:$AR,0),1))","v":""},null,{"$f":"IF(J74=\"\",\"\",VLOOKUP(J74,referentes!$AL$2:$AO$29,3,FALSE))","v":""},null,null,null,null,null,null,null,null,null,null,null,null,"",null,null,null,null,null,null,null,null,null,null,null,null,null,null,null,null,null,null,null,null,null,null,null,null,null,{"$f":"IF(AW74=\"\",\"\",DIGITADOR!$B$14)","v":""},"",null,null,null,"",null,null,null,null,null,null,null,null,null,null,null,null,null,null,null,null,null,null,"",{"$f":"IF(C74=\"\",\"\",IF(COUNTIF($C$6:C74, C74)>1, \"\", C74))","v":""},{"$f":"IF(N74=\"\",\"\",INDEX(referentes!P:Q,MATCH(N74,referentes!$Q:$Q,0),1))","v":""},{"$f":"IF(O74=\"\",\"\",INDEX(referentes!$A:$B,MATCH(O74,referentes!$B:$B,0),1))","v":""},{"$f":"IF(S74=\"\",\"\",INDEX(referentes!D:E,MATCH(S74,referentes!$E:$E,0),1))","v":""},{"$f":"IF(T74=\"\",\"\",INDEX(referentes!G:H,MATCH(T74,referentes!$H:$H,0),1))","v":""},"",{"$f":"IF(Y74=\"\",\"\",INDEX(referentes!S:T,MATCH(Y74,referentes!$T:$T,0),1))","v":""},{"$f":"IF(BO74=\"\",\"\",INDEX(referentes!J:K,MATCH(BO74,referentes!$K:$K,0),1))","v":""},{"$f":"IF(BJ74=\"\",\"\",INDEX(referentes!V:W,MATCH(BJ74,referentes!$W:$W,0),1))","v":""},{"$f":"IF(BK74=\"\",\"\",INDEX(referentes!Y:Z,MATCH(BK74,referentes!$Z:$Z,0),1))","v":""},{"$f":"IF(BL74=\"\",\"\",INDEX(referentes!AB:AC,MATCH(BL74,referentes!$AC:$AC,0),1))","v":""},{"$f":"IF(BM74=\"\",\"\",INDEX(referentes!AE:AF,MATCH(BM74,referentes!$AF:$AF,0),1))","v":""},{"$f":"IF(BB74=\"\",\"\",INDEX(referentes!M:N,MATCH(BB74,referentes!$N:$N,0),1))","v":""},{"$f":"IF(BQ74=\"\",\"\",INDEX('Otras referencias'!S:T,MATCH(BQ74,'Otras referencias'!$T:$T,0),1))","v":""},{"$f":"IF(BN74=\"\",\"\",INDEX('Otras referencias'!A:B,MATCH(BN74,'Otras referencias'!$B:$B,0),1))","v":""},""]
[1,"",{"$f":"IF(E75<>\"\",CONCATENATE(DIGITADOR!$M$1,TEXT(D75, \"YYYYMMDD\"),ROW()-5),\"\")","v":""},null,null,"",{"$f":"IF(H75=\"\",\"\",INDEX(referentes!AQ:AR,MATCH(H75,referentes!$AR:$AR,0),1))","v":""},null,{"$f":"IF(J75=\"\",\"\",VLOOKUP(J75,referentes!$AL$2:$AO$29,3,FALSE))","v":""},null,null,null,null,null,null,null,null,null,null,null,null,"",null,null,null,null,null,null,null,null,null,null,null,null,null,null,null,null,null,null,null,null,null,null,null,null,null,{"$f":"IF(AW75=\"\",\"\",DIGITADOR!$B$14)","v":""},"",null,null,null,"",null,null,null,null,null,null,null,null,null,null,null,null,null,null,null,null,null,null,"",{"$f":"IF(C75=\"\",\"\",IF(COUNTIF($C$6:C75, C75)>1, \"\", C75))","v":""},{"$f":"IF(N75=\"\",\"\",INDEX(referentes!P:Q,MATCH(N75,referentes!$Q:$Q,0),1))","v":""},{"$f":"IF(O75=\"\",\"\",INDEX(referentes!$A:$B,MATCH(O75,referentes!$B:$B,0),1))","v":""},{"$f":"IF(S75=\"\",\"\",INDEX(referentes!D:E,MATCH(S75,referentes!$E:$E,0),1))","v":""},{"$f":"IF(T75=\"\",\"\",INDEX(referentes!G:H,MATCH(T75,referentes!$H:$H,0),1))","v":""},"",{"$f":"IF(Y75=\"\",\"\",INDEX(referentes!S:T,MATCH(Y75,referentes!$T:$T,0),1))","v":""},{"$f":"IF(BO75=\"\",\"\",INDEX(referentes!J:K,MATCH(BO75,referentes!$K:$K,0),1))","v":""},{"$f":"IF(BJ75=\"\",\"\",INDEX(referentes!V:W,MATCH(BJ75,referentes!$W:$W,0),1))","v":""},{"$f":"IF(BK75=\"\",\"\",INDEX(referentes!Y:Z,MATCH(BK75,referentes!$Z:$Z,0),1))","v":""},{"$f":"IF(BL75=\"\",\"\",INDEX(referentes!AB:AC,MATCH(BL75,referentes!$AC:$AC,0),1))","v":""},{"$f":"IF(BM75=\"\",\"\",INDEX(referentes!AE:AF,MATCH(BM75,referentes!$AF:$AF,0),1))","v":""},{"$f":"IF(BB75=\"\",\"\",INDEX(referentes!M:N,MATCH(BB75,referentes!$N:$N,0),1))","v":""},{"$f":"IF(BQ75=\"\",\"\",INDEX('Otras referencias'!S:T,MATCH(BQ75,'Otras referencias'!$T:$T,0),1))","v":""},{"$f":"IF(BN75=\"\",\"\",INDEX('Otras referencias'!A:B,MATCH(BN75,'Otras referencias'!$B:$B,0),1))","v":""},""]
[1,"",{"$f":"IF(E76<>\"\",CONCATENATE(DIGITADOR!$M$1,TEXT(D76, \"YYYYMMDD\"),ROW()-5),\"\")","v":""},null,null,"",{"$f":"IF(H76=\"\",\"\",INDEX(referentes!AQ:AR,MATCH(H76,referentes!$AR:$AR,0),1))","v":""},null,{"$f":"IF(J76=\"\",\"\",VLOOKUP(J76,referentes!$AL$2:$AO$29,3,FALSE))","v":""},null,null,null,null,null,null,null,null,null,null,null,null,"",null,null,null,null,null,null,null,null,null,null,null,null,null,null,null,null,null,null,null,null,null,null,null,null,null,{"$f":"IF(AW76=\"\",\"\",DIGITADOR!$B$14)","v":""},"",null,null,null,"",null,null,null,null,null,null,null,null,null,null,null,null,null,null,null,null,null,null,"",{"$f":"IF(C76=\"\",\"\",IF(COUNTIF($C$6:C76, C76)>1, \"\", C76))","v":""},{"$f":"IF(N76=\"\",\"\",INDEX(referentes!P:Q,MATCH(N76,referentes!$Q:$Q,0),1))","v":""},{"$f":"IF(O76=\"\",\"\",INDEX(referentes!$A:$B,MATCH(O76,referentes!$B:$B,0),1))","v":""},{"$f":"IF(S76=\"\",\"\",INDEX(referentes!D:E,MATCH(S76,referentes!$E:$E,0),1))","v":""},{"$f":"IF(T76=\"\",\"\",INDEX(referentes!G:H,MATCH(T76,referentes!$H:$H,0),1))","v":""},"",{"$f":"IF(Y76=\"\",\"\",INDEX(referentes!S:T,MATCH(Y76,referentes!$T:$T,0),1))","v":""},{"$f":"IF(BO76=\"\",\"\",INDEX(referentes!J:K,MATCH(BO76,referentes!$K:$K,0),1))","v":""},{"$f":"IF(BJ76=\"\",\"\",INDEX(referentes!V:W,MATCH(BJ76,referentes!$W:$W,0),1))","v":""},{"$f":"IF(BK76=\"\",\"\",INDEX(referentes!Y:Z,MATCH(BK76,referentes!$Z:$Z,0),1))","v":""},{"$f":"IF(BL76=\"\",\"\",INDEX(referentes!AB:AC,MATCH(BL76,referentes!$AC:$AC,0),1))","v":""},{"$f":"IF(BM76=\"\",\"\",INDEX(referentes!AE:AF,MATCH(BM76,referentes!$AF:$AF,0),1))","v":""},{"$f":"IF(BB76=\"\",\"\",INDEX(referentes!M:N,MATCH(BB76,referentes!$N:$N,0),1))","v":""},{"$f":"IF(BQ76=\"\",\"\",INDEX('Otras referencias'!S:T,MATCH(BQ76,'Otras referencias'!$T:$T,0),1))","v":""},{"$f":"IF(BN76=\"\",\"\",INDEX('Otras referencias'!A:B,MATCH(BN76,'Otras referencias'!$B:$B,0),1))","v":""},""]
[1,"",{"$f":"IF(E77<>\"\",CONCATENATE(DIGITADOR!$M$1,TEXT(D77, \"YYYYMMDD\"),ROW()-5),\"\")","v":""},null,null,"",{"$f":"IF(H77=\"\",\"\",INDEX(referentes!AQ:AR,MATCH(H77,referentes!$AR:$AR,0),1))","v":""},null,{"$f":"IF(J77=\"\",\"\",VLOOKUP(J77,referentes!$AL$2:$AO$29,3,FALSE))","v":""},null,null,null,null,null,null,null,null,null,null,null,null,"",null,null,null,null,null,null,null,null,null,null,null,null,null,null,null,null,null,null,null,null,null,null,null,null,null,{"$f":"IF(AW77=\"\",\"\",DIGITADOR!$B$14)","v":""},"",null,null,null,"",null,null,null,null,null,null,null,null,null,null,null,null,null,null,null,null,null,null,"",{"$f":"IF(C77=\"\",\"\",IF(COUNTIF($C$6:C77, C77)>1, \"\", C77))","v":""},{"$f":"IF(N77=\"\",\"\",INDEX(referentes!P:Q,MATCH(N77,referentes!$Q:$Q,0),1))","v":""},{"$f":"IF(O77=\"\",\"\",INDEX(referentes!$A:$B,MATCH(O77,referentes!$B:$B,0),1))","v":""},{"$f":"IF(S77=\"\",\"\",INDEX(referentes!D:E,MATCH(S77,referentes!$E:$E,0),1))","v":""},{"$f":"IF(T77=\"\",\"\",INDEX(referentes!G:H,MATCH(T77,referentes!$H:$H,0),1))","v":""},"",{"$f":"IF(Y77=\"\",\"\",INDEX(referentes!S:T,MATCH(Y77,referentes!$T:$T,0),1))","v":""},{"$f":"IF(BO77=\"\",\"\",INDEX(referentes!J:K,MATCH(BO77,referentes!$K:$K,0),1))","v":""},{"$f":"IF(BJ77=\"\",\"\",INDEX(referentes!V:W,MATCH(BJ77,referentes!$W:$W,0),1))","v":""},{"$f":"IF(BK77=\"\",\"\",INDEX(referentes!Y:Z,MATCH(BK77,referentes!$Z:$Z,0),1))","v":""},{"$f":"IF(BL77=\"\",\"\",INDEX(referentes!AB:AC,MATCH(BL77,referentes!$AC:$AC,0),1))","v":""},{"$f":"IF(BM77=\"\",\"\",INDEX(referentes!AE:AF,MATCH(BM77,referentes!$AF:$AF,0),1))","v":""},{"$f":"IF(BB77=\"\",\"\",INDEX(referentes!M:N,MATCH(BB77,referentes!$N:$N,0),1))","v":""},{"$f":"IF(BQ77=\"\",\"\",INDEX('Otras referencias'!S:T,MATCH(BQ77,'Otras referencias'!$T:$T,0),1))","v":""},{"$f":"IF(BN77=\"\",\"\",INDEX('Otras referencias'!A:B,MATCH(BN77,'Otras referencias'!$B:$B,0),1))","v":""},""]
[1,"",{"$f":"IF(E78<>\"\",CONCATENATE(DIGITADOR!$M$1,TEXT(D78, \"YYYYMMDD\"),ROW()-5),\"\")","v":""},null,null,"",{"$f":"IF(H78=\"\",\"\",INDEX(referentes!AQ:AR,MATCH(H78,referentes!$AR:$AR,0),1))","v":""},null,{"$f":"IF(J78=\"\",\"\",VLOOKUP(J78,referentes!$AL$2:$AO$29,3,FALSE))","v":""},null,null,null,null,null,null,null,null,null,null,null,null,"",null,null,null,null,null,null,null,null,null,null,null,null,null,null,null,null,null,null,null,null,null,null,null,null,null,{"$f":"IF(AW78=\"\",\"\",DIGITADOR!$B$14)","v":""},"",null,null,null,"",null,null,null,null,null,null,null,null,null,null,null,null,null,null,null,null,null,null,"",{"$f":"IF(C78=\"\",\"\",IF(COUNTIF($C$6:C78, C78)>1, \"\", C78))","v":""},{"$f":"IF(N78=\"\",\"\",INDEX(referentes!P:Q,MATCH(N78,referentes!$Q:$Q,0),1))","v":""},{"$f":"IF(O78=\"\",\"\",INDEX(referentes!$A:$B,MATCH(O78,referentes!$B:$B,0),1))","v":""},{"$f":"IF(S78=\"\",\"\",INDEX(referentes!D:E,MATCH(S78,referentes!$E:$E,0),1))","v":""},{"$f":"IF(T78=\"\",\"\",INDEX(referentes!G:H,MATCH(T78,referentes!$H:$H,0),1))","v":""},"",{"$f":"IF(Y78=\"\",\"\",INDEX(referentes!S:T,MATCH(Y78,referentes!$T:$T,0),1))","v":""},{"$f":"IF(BO78=\"\",\"\",INDEX(referentes!J:K,MATCH(BO78,referentes!$K:$K,0),1))","v":""},{"$f":"IF(BJ78=\"\",\"\",INDEX(referentes!V:W,MATCH(BJ78,referentes!$W:$W,0),1))","v":""},{"$f":"IF(BK78=\"\",\"\",INDEX(referentes!Y:Z,MATCH(BK78,referentes!$Z:$Z,0),1))","v":""},{"$f":"IF(BL78=\"\",\"\",INDEX(referentes!AB:AC,MATCH(BL78,referentes!$AC:$AC,0),1))","v":""},{"$f":"IF(BM78=\"\",\"\",INDEX(referentes!AE:AF,MATCH(BM78,referentes!$AF:$AF,0),1))","v":""},{"$f":"IF(BB78=\"\",\"\",INDEX(referentes!M:N,MATCH(BB78,referentes!$N:$N,0),1))","v":""},{"$f":"IF(BQ78=\"\",\"\",INDEX('Otras referencias'!S:T,MATCH(BQ78,'Otras referencias'!$T:$T,0),1))","v":""},{"$f":"IF(BN78=\"\",\"\",INDEX('Otras referencias'!A:B,MATCH(BN78,'Otras referencias'!$B:$B,0),1))","v":""},""]
[1,"",{"$f":"IF(E79<>\"\",CONCATENATE(DIGITADOR!$M$1,TEXT(D79, \"YYYYMMDD\"),ROW()-5),\"\")","v":""},null,null,"",{"$f":"IF(H79=\"\",\"\",INDEX(referentes!AQ:AR,MATCH(H79,referentes!$AR:$AR,0),1))","v":""},null,{"$f":"IF(J79=\"\",\"\",VLOOKUP(J79,referentes!$AL$2:$AO$29,3,FALSE))","v":""},null,null,null,null,null,null,null,null,null,null,null,null,"",null,null,null,null,null,null,null,null,null,null,null,null,null,null,null,null,null,null,null,null,null,null,null,null,null,{"$f":"IF(AW79=\"\",\"\",DIGITADOR!$B$14)","v":""},"",null,null,null,"",null,null,null,null,null,null,null,null,null,null,null,null,null,null,null,null,null,null,"",{"$f":"IF(C79=\"\",\"\",IF(COUNTIF($C$6:C79, C79)>1, \"\", C79))","v":""},{"$f":"IF(N79=\"\",\"\",INDEX(referentes!P:Q,MATCH(N79,referentes!$Q:$Q,0),1))","v":""},{"$f":"IF(O79=\"\",\"\",INDEX(referentes!$A:$B,MATCH(O79,referentes!$B:$B,0),1))","v":""},{"$f":"IF(S79=\"\",\"\",INDEX(referentes!D:E,MATCH(S79,referentes!$E:$E,0),1))","v":""},{"$f":"IF(T79=\"\",\"\",INDEX(referentes!G:H,MATCH(T79,referentes!$H:$H,0),1))","v":""},"",{"$f":"IF(Y79=\"\",\"\",INDEX(referentes!S:T,MATCH(Y79,referentes!$T:$T,0),1))","v":""},{"$f":"IF(BO79=\"\",\"\",INDEX(referentes!J:K,MATCH(BO79,referentes!$K:$K,0),1))","v":""},{"$f":"IF(BJ79=\"\",\"\",INDEX(referentes!V:W,MATCH(BJ79,referentes!$W:$W,0),1))","v":""},{"$f":"IF(BK79=\"\",\"\",INDEX(referentes!Y:Z,MATCH(BK79,referentes!$Z:$Z,0),1))","v":""},{"$f":"IF(BL79=\"\",\"\",INDEX(referentes!AB:AC,MATCH(BL79,referentes!$AC:$AC,0),1))","v":""},{"$f":"IF(BM79=\"\",\"\",INDEX(referentes!AE:AF,MATCH(BM79,referentes!$AF:$AF,0),1))","v":""},{"$f":"IF(BB79=\"\",\"\",INDEX(referentes!M:N,MATCH(BB79,referentes!$N:$N,0),1))","v":""},{"$f":"IF(BQ79=\"\",\"\",INDEX('Otras referencias'!S:T,MATCH(BQ79,'Otras referencias'!$T:$T,0),1))","v":""},{"$f":"IF(BN79=\"\",\"\",INDEX('Otras referencias'!A:B,MATCH(BN79,'Otras referencias'!$B:$B,0),1))","v":""},""]
[1,"",{"$f":"IF(E80<>\"\",CONCATENATE(DIGITADOR!$M$1,TEXT(D80, \"YYYYMMDD\"),ROW()-5),\"\")","v":""},null,null,"",{"$f":"IF(H80=\"\",\"\",INDEX(referentes!AQ:AR,MATCH(H80,referentes!$AR:$AR,0),1))","v":""},null,{"$f":"IF(J80=\"\",\"\",VLOOKUP(J80,referentes!$AL$2:$AO$29,3,FALSE))","v":""},null,null,null,null,null,null,null,null,null,null,null,null,"",null,null,null,null,null,null,null,null,null,null,null,null,null,null,null,null,null,null,null,null,null,null,null,null,null,{"$f":"IF(AW80=\"\",\"\",DIGITADOR!$B$14)","v":""},"",null,null,null,"",null,null,null,null,null,null,null,null,null,null,null,null,null,null,null,null,null,null,"",{"$f":"IF(C80=\"\",\"\",IF(COUNTIF($C$6:C80, C80)>1, \"\", C80))","v":""},{"$f":"IF(N80=\"\",\"\",INDEX(referentes!P:Q,MATCH(N80,referentes!$Q:$Q,0),1))","v":""},{"$f":"IF(O80=\"\",\"\",INDEX(referentes!$A:$B,MATCH(O80,referentes!$B:$B,0),1))","v":""},{"$f":"IF(S80=\"\",\"\",INDEX(referentes!D:E,MATCH(S80,referentes!$E:$E,0),1))","v":""},{"$f":"IF(T80=\"\",\"\",INDEX(referentes!G:H,MATCH(T80,referentes!$H:$H,0),1))","v":""},"",{"$f":"IF(Y80=\"\",\"\",INDEX(referentes!S:T,MATCH(Y80,referentes!$T:$T,0),1))","v":""},{"$f":"IF(BO80=\"\",\"\",INDEX(referentes!J:K,MATCH(BO80,referentes!$K:$K,0),1))","v":""},{"$f":"IF(BJ80=\"\",\"\",INDEX(referentes!V:W,MATCH(BJ80,referentes!$W:$W,0),1))","v":""},{"$f":"IF(BK80=\"\",\"\",INDEX(referentes!Y:Z,MATCH(BK80,referentes!$Z:$Z,0),1))","v":""},{"$f":"IF(BL80=\"\",\"\",INDEX(referentes!AB:AC,MATCH(BL80,referentes!$AC:$AC,0),1))","v":""},{"$f":"IF(BM80=\"\",\"\",INDEX(referentes!AE:AF,MATCH(BM80,referentes!$AF:$AF,0),1))","v":""},{"$f":"IF(BB80=\"\",\"\",INDEX(referentes!M:N,MATCH(BB80,referentes!$N:$N,0),1))","v":""},{"$f":"IF(BQ80=\"\",\"\",INDEX('Otras referencias'!S:T,MATCH(BQ80,'Otras referencias'!$T:$T,0),1))","v":""},{"$f":"IF(BN80=\"\",\"\",INDEX('Otras referencias'!A:B,MATCH(BN80,'Otras referencias'!$B:$B,0),1))","v":""},""]
[1,"",{"$f":"IF(E81<>\"\",CONCATENATE(DIGITADOR!$M$1,TEXT(D81, \"YYYYMMDD\"),ROW()-5),\"\")","v":""},null,null,"",{"$f":"IF(H81=\"\",\"\",INDEX(referentes!AQ:AR,MATCH(H81,referentes!$AR:$AR,0),1))","v":""},null,{"$f":"IF(J81=\"\",\"\",VLOOKUP(J81,referentes!$AL$2:$AO$29,3,FALSE))","v":""},null,null,null,null,null,null,null,null,null,null,null,null,"",null,null,null,null,null,null,null,null,null,null,null,null,null,null,null,null,null,null,null,null,null,null,null,null,null,{"$f":"IF(AW81=\"\",\"\",DIGITADOR!$B$14)","v":""},"",null,null,null,"",null,null,null,null,null,null,null,null,null,null,null,null,null,null,null,null,null,null,"",{"$f":"IF(C81=\"\",\"\",IF(COUNTIF($C$6:C81, C81)>1, \"\", C81))","v":""},{"$f":"IF(N81=\"\",\"\",INDEX(referentes!P:Q,MATCH(N81,referentes!$Q:$Q,0),1))","v":""},{"$f":"IF(O81=\"\",\"\",INDEX(referentes!$A:$B,MATCH(O81,referentes!$B:$B,0),1))","v":""},{"$f":"IF(S81=\"\",\"\",INDEX(referentes!D:E,MATCH(S81,referentes!$E:$E,0),1))","v":""},{"$f":"IF(T81=\"\",\"\",INDEX(referentes!G:H,MATCH(T81,referentes!$H:$H,0),1))","v":""},"",{"$f":"IF(Y81=\"\",\"\",INDEX(referentes!S:T,MATCH(Y81,referentes!$T:$T,0),1))","v":""},{"$f":"IF(BO81=\"\",\"\",INDEX(referentes!J:K,MATCH(BO81,referentes!$K:$K,0),1))","v":""},{"$f":"IF(BJ81=\"\",\"\",INDEX(referentes!V:W,MATCH(BJ81,referentes!$W:$W,0),1))","v":""},{"$f":"IF(BK81=\"\",\"\",INDEX(referentes!Y:Z,MATCH(BK81,referentes!$Z:$Z,0),1))","v":""},{"$f":"IF(BL81=\"\",\"\",INDEX(referentes!AB:AC,MATCH(BL81,referentes!$AC:$AC,0),1))","v":""},{"$f":"IF(BM81=\"\",\"\",INDEX(referentes!AE:AF,MATCH(BM81,referentes!$AF:$AF,0),1))","v":""},{"$f":"IF(BB81=\"\",\"\",INDEX(referentes!M:N,MATCH(BB81,referentes!$N:$N,0),1))","v":""},{"$f":"IF(BQ81=\"\",\"\",INDEX('Otras referencias'!S:T,MATCH(BQ81,'Otras referencias'!$T:$T,0),1))","v":""},{"$f":"IF(BN81=\"\",\"\",INDEX('Otras referencias'!A:B,MATCH(BN81,'Otras referencias'!$B:$B,0),1))","v":""},""]
[1,"",{"$f":"IF(E82<>\"\",CONCATENATE(DIGITADOR!$M$1,TEXT(D82, \"YYYYMMDD\"),ROW()-5),\"\")","v":""},null,null,"",{"$f":"IF(H82=\"\",\"\",INDEX(referentes!AQ:AR,MATCH(H82,referentes!$AR:$AR,0),1))","v":""},null,{"$f":"IF(J82=\"\",\"\",VLOOKUP(J82,referentes!$AL$2:$AO$29,3,FALSE))","v":""},null,null,null,null,null,null,null,null,null,null,null,null,"",null,null,null,null,null,null,null,null,null,null,null,null,null,null,null,null,null,null,null,null,null,null,null,null,null,{"$f":"IF(AW82=\"\",\"\",DIGITADOR!$B$14)","v":""},"",null,null,null,"",null,null,null,null,null,null,null,null,null,null,null,null,null,null,null,null,null,null,"",{"$f":"IF(C82=\"\",\"\",IF(COUNTIF($C$6:C82, C82)>1, \"\", C82))","v":""},{"$f":"IF(N82=\"\",\"\",INDEX(referentes!P:Q,MATCH(N82,referentes!$Q:$Q,0),1))","v":""},{"$f":"IF(O82=\"\",\"\",INDEX(referentes!$A:$B,MATCH(O82,referentes!$B:$B,0),1))","v":""},{"$f":"IF(S82=\"\",\"\",INDEX(referentes!D:E,MATCH(S82,referentes!$E:$E,0),1))","v":""},{"$f":"IF(T82=\"\",\"\",INDEX(referentes!G:H,MATCH(T82,referentes!$H:$H,0),1))","v":""},"",{"$f":"IF(Y82=\"\",\"\",INDEX(referentes!S:T,MATCH(Y82,referentes!$T:$T,0),1))","v":""},{"$f":"IF(BO82=\"\",\"\",INDEX(referentes!J:K,MATCH(BO82,referentes!$K:$K,0),1))","v":""},{"$f":"IF(BJ82=\"\",\"\",INDEX(referentes!V:W,MATCH(BJ82,referentes!$W:$W,0),1))","v":""},{"$f":"IF(BK82=\"\",\"\",INDEX(referentes!Y:Z,MATCH(BK82,referentes!$Z:$Z,0),1))","v":""},{"$f":"IF(BL82=\"\",\"\",INDEX(referentes!AB:AC,MATCH(BL82,referentes!$AC:$AC,0),1))","v":""},{"$f":"IF(BM82=\"\",\"\",INDEX(referentes!AE:AF,MATCH(BM82,referentes!$AF:$AF,0),1))","v":""},{"$f":"IF(BB82=\"\",\"\",INDEX(referentes!M:N,MATCH(BB82,referentes!$N:$N,0),1))","v":""},{"$f":"IF(BQ82=\"\",\"\",INDEX('Otras referencias'!S:T,MATCH(BQ82,'Otras referencias'!$T:$T,0),1))","v":""},{"$f":"IF(BN82=\"\",\"\",INDEX('Otras referencias'!A:B,MATCH(BN82,'Otras referencias'!$B:$B,0),1))","v":""},""]
[1,"",{"$f":"IF(E83<>\"\",CONCATENATE(DIGITADOR!$M$1,TEXT(D83, \"YYYYMMDD\"),ROW()-5),\"\")","v":""},null,null,"",{"$f":"IF(H83=\"\",\"\",INDEX(referentes!AQ:AR,MATCH(H83,referentes!$AR:$AR,0),1))","v":""},null,{"$f":"IF(J83=\"\",\"\",VLOOKUP(J83,referentes!$AL$2:$AO$29,3,FALSE))","v":""},null,null,null,null,null,null,null,null,null,null,null,null,"",null,null,null,null,null,null,null,null,null,null,null,null,null,null,null,null,null,null,null,null,null,null,null,null,null,{"$f":"IF(AW83=\"\",\"\",DIGITADOR!$B$14)","v":""},"",null,null,null,"",null,null,null,null,null,null,null,null,null,null,null,null,null,null,null,null,null,null,"",{"$f":"IF(C83=\"\",\"\",IF(COUNTIF($C$6:C83, C83)>1, \"\", C83))","v":""},{"$f":"IF(N83=\"\",\"\",INDEX(referentes!P:Q,MATCH(N83,referentes!$Q:$Q,0),1))","v":""},{"$f":"IF(O83=\"\",\"\",INDEX(referentes!$A:$B,MATCH(O83,referentes!$B:$B,0),1))","v":""},{"$f":"IF(S83=\"\",\"\",INDEX(referentes!D:E,MATCH(S83,referentes!$E:$E,0),1))","v":""},{"$f":"IF(T83=\"\",\"\",INDEX(referentes!G:H,MATCH(T83,referentes!$H:$H,0),1))","v":""},"",{"$f":"IF(Y83=\"\",\"\",INDEX(referentes!S:T,MATCH(Y83,referentes!$T:$T,0),1))","v":""},{"$f":"IF(BO83=\"\",\"\",INDEX(referentes!J:K,MATCH(BO83,referentes!$K:$K,0),1))","v":""},{"$f":"IF(BJ83=\"\",\"\",INDEX(referentes!V:W,MATCH(BJ83,referentes!$W:$W,0),1))","v":""},{"$f":"IF(BK83=\"\",\"\",INDEX(referentes!Y:Z,MATCH(BK83,referentes!$Z:$Z,0),1))","v":""},{"$f":"IF(BL83=\"\",\"\",INDEX(referentes!AB:AC,MATCH(BL83,referentes!$AC:$AC,0),1))","v":""},{"$f":"IF(BM83=\"\",\"\",INDEX(referentes!AE:AF,MATCH(BM83,referentes!$AF:$AF,0),1))","v":""},{"$f":"IF(BB83=\"\",\"\",INDEX(referentes!M:N,MATCH(BB83,referentes!$N:$N,0),1))","v":""},{"$f":"IF(BQ83=\"\",\"\",INDEX('Otras referencias'!S:T,MATCH(BQ83,'Otras referencias'!$T:$T,0),1))","v":""},{"$f":"IF(BN83=\"\",\"\",INDEX('Otras referencias'!A:B,MATCH(BN83,'Otras referencias'!$B:$B,0),1))","v":""},""]
[1,"",{"$f":"IF(E84<>\"\",CONCATENATE(DIGITADOR!$M$1,TEXT(D84, \"YYYYMMDD\"),ROW()-5),\"\")","v":""},null,null,"",{"$f":"IF(H84=\"\",\"\",INDEX(referentes!AQ:AR,MATCH(H84,referentes!$AR:$AR,0),1))","v":""},null,{"$f":"IF(J84=\"\",\"\",VLOOKUP(J84,referentes!$AL$2:$AO$29,3,FALSE))","v":""},null,null,null,null,null,null,null,null,null,null,null,null,"",null,null,null,null,null,null,null,null,null,null,null,null,null,null,null,null,null,null,null,null,null,null,null,null,null,{"$f":"IF(AW84=\"\",\"\",DIGITADOR!$B$14)","v":""},"",null,null,null,"",null,null,null,null,null,null,null,null,null,null,null,null,null,null,null,null,null,null,"",{"$f":"IF(C84=\"\",\"\",IF(COUNTIF($C$6:C84, C84)>1, \"\", C84))","v":""},{"$f":"IF(N84=\"\",\"\",INDEX(referentes!P:Q,MATCH(N84,referentes!$Q:$Q,0),1))","v":""},{"$f":"IF(O84=\"\",\"\",INDEX(referentes!$A:$B,MATCH(O84,referentes!$B:$B,0),1))","v":""},{"$f":"IF(S84=\"\",\"\",INDEX(referentes!D:E,MATCH(S84,referentes!$E:$E,0),1))","v":""},{"$f":"IF(T84=\"\",\"\",INDEX(referentes!G:H,MATCH(T84,referentes!$H:$H,0),1))","v":""},"",{"$f":"IF(Y84=\"\",\"\",INDEX(referentes!S:T,MATCH(Y84,referentes!$T:$T,0),1))","v":""},{"$f":"IF(BO84=\"\",\"\",INDEX(referentes!J:K,MATCH(BO84,referentes!$K:$K,0),1))","v":""},{"$f":"IF(BJ84=\"\",\"\",INDEX(referentes!V:W,MATCH(BJ84,referentes!$W:$W,0),1))","v":""},{"$f":"IF(BK84=\"\",\"\",INDEX(referentes!Y:Z,MATCH(BK84,referentes!$Z:$Z,0),1))","v":""},{"$f":"IF(BL84=\"\",\"\",INDEX(referentes!AB:AC,MATCH(BL84,referentes!$AC:$AC,0),1))","v":""},{"$f":"IF(BM84=\"\",\"\",INDEX(referentes!AE:AF,MATCH(BM84,referentes!$AF:$AF,0),1))","v":""},{"$f":"IF(BB84=\"\",\"\",INDEX(referentes!M:N,MATCH(BB84,referentes!$N:$N,0),1))","v":""},{"$f":"IF(BQ84=\"\",\"\",INDEX('Otras referencias'!S:T,MATCH(BQ84,'Otras referencias'!$T:$T,0),1))","v":""},{"$f":"IF(BN84=\"\",\"\",INDEX('Otras referencias'!A:B,MATCH(BN84,'Otras referencias'!$B:$B,0),1))","v":""},""]
[1,"",{"$f":"IF(E85<>\"\",CONCATENATE(DIGITADOR!$M$1,TEXT(D85, \"YYYYMMDD\"),ROW()-5),\"\")","v":""},null,null,"",{"$f":"IF(H85=\"\",\"\",INDEX(referentes!AQ:AR,MATCH(H85,referentes!$AR:$AR,0),1))","v":""},null,{"$f":"IF(J85=\"\",\"\",VLOOKUP(J85,referentes!$AL$2:$AO$29,3,FALSE))","v":""},null,null,null,null,null,null,null,null,null,null,null,null,"",null,null,null,null,null,null,null,null,null,null,null,null,null,null,null,null,null,null,null,null,null,null,null,null,null,{"$f":"IF(AW85=\"\",\"\",DIGITADOR!$B$14)","v":""},"",null,null,null,"",null,null,null,null,null,null,null,null,null,null,null,null,null,null,null,null,null,null,"",{"$f":"IF(C85=\"\",\"\",IF(COUNTIF($C$6:C85, C85)>1, \"\", C85))","v":""},{"$f":"IF(N85=\"\",\"\",INDEX(referentes!P:Q,MATCH(N85,referentes!$Q:$Q,0),1))","v":""},{"$f":"IF(O85=\"\",\"\",INDEX(referentes!$A:$B,MATCH(O85,referentes!$B:$B,0),1))","v":""},{"$f":"IF(S85=\"\",\"\",INDEX(referentes!D:E,MATCH(S85,referentes!$E:$E,0),1))","v":""},{"$f":"IF(T85=\"\",\"\",INDEX(referentes!G:H,MATCH(T85,referentes!$H:$H,0),1))","v":""},"",{"$f":"IF(Y85=\"\",\"\",INDEX(referentes!S:T,MATCH(Y85,referentes!$T:$T,0),1))","v":""},{"$f":"IF(BO85=\"\",\"\",INDEX(referentes!J:K,MATCH(BO85,referentes!$K:$K,0),1))","v":""},{"$f":"IF(BJ85=\"\",\"\",INDEX(referentes!V:W,MATCH(BJ85,referentes!$W:$W,0),1))","v":""},{"$f":"IF(BK85=\"\",\"\",INDEX(referentes!Y:Z,MATCH(BK85,referentes!$Z:$Z,0),1))","v":""},{"$f":"IF(BL85=\"\",\"\",INDEX(referentes!AB:AC,MATCH(BL85,referentes!$AC:$AC,0),1))","v":""},{"$f":"IF(BM85=\"\",\"\",INDEX(referentes!AE:AF,MATCH(BM85,referentes!$AF:$AF,0),1))","v":""},{"$f":"IF(BB85=\"\",\"\",INDEX(referentes!M:N,MATCH(BB85,referentes!$N:$N,0),1))","v":""},{"$f":"IF(BQ85=\"\",\"\",INDEX('Otras referencias'!S:T,MATCH(BQ85,'Otras referencias'!$T:$T,0),1))","v":""},{"$f":"IF(BN85=\"\",\"\",INDEX('Otras referencias'!A:B,MATCH(BN85,'Otras referencias'!$B:$B,0),1))","v":""},""]
[1,"",{"$f":"IF(E86<>\"\",CONCATENATE(DIGITADOR!$M$1,TEXT(D86, \"YYYYMMDD\"),ROW()-5),\"\")","v":""},null,null,"",{"$f":"IF(H86=\"\",\"\",INDEX(referentes!AQ:AR,MATCH(H86,referentes!$AR:$AR,0),1))","v":""},null,{"$f":"IF(J86=\"\",\"\",VLOOKUP(J86,referentes!$AL$2:$AO$29,3,FALSE))","v":""},null,null,null,null,null,null,null,null,null,null,null,null,"",null,null,null,null,null,null,null,null,null,null,null,null,null,null,null,null,null,null,null,null,null,null,null,null,null,{"$f":"IF(AW86=\"\",\"\",DIGITADOR!$B$14)","v":""},"",null,null,null,"",null,null,null,null,null,null,null,null,null,null,null,null,null,null,null,null,null,null,"",{"$f":"IF(C86=\"\",\"\",IF(COUNTIF($C$6:C86, C86)>1, \"\", C86))","v":""},{"$f":"IF(N86=\"\",\"\",INDEX(referentes!P:Q,MATCH(N86,referentes!$Q:$Q,0),1))","v":""},{"$f":"IF(O86=\"\",\"\",INDEX(referentes!$A:$B,MATCH(O86,referentes!$B:$B,0),1))","v":""},{"$f":"IF(S86=\"\",\"\",INDEX(referentes!D:E,MATCH(S86,referentes!$E:$E,0),1))","v":""},{"$f":"IF(T86=\"\",\"\",INDEX(referentes!G:H,MATCH(T86,referentes!$H:$H,0),1))","v":""},"",{"$f":"IF(Y86=\"\",\"\",INDEX(referentes!S:T,MATCH(Y86,referentes!$T:$T,0),1))","v":""},{"$f":"IF(BO86=\"\",\"\",INDEX(referentes!J:K,MATCH(BO86,referentes!$K:$K,0),1))","v":""},{"$f":"IF(BJ86=\"\",\"\",INDEX(referentes!V:W,MATCH(BJ86,referentes!$W:$W,0),1))","v":""},{"$f":"IF(BK86=\"\",\"\",INDEX(referentes!Y:Z,MATCH(BK86,referentes!$Z:$Z,0),1))","v":""},{"$f":"IF(BL86=\"\",\"\",INDEX(referentes!AB:AC,MATCH(BL86,referentes!$AC:$AC,0),1))","v":""},{"$f":"IF(BM86=\"\",\"\",INDEX(referentes!AE:AF,MATCH(BM86,referentes!$AF:$AF,0),1))","v":""},{"$f":"IF(BB86=\"\",\"\",INDEX(referentes!M:N,MATCH(BB86,referentes!$N:$N,0),1))","v":""},{"$f":"IF(BQ86=\"\",\"\",INDEX('Otras referencias'!S:T,MATCH(BQ86,'Otras referencias'!$T:$T,0),1))","v":""},{"$f":"IF(BN86=\"\",\"\",INDEX('Otras referencias'!A:B,MATCH(BN86,'Otras referencias'!$B:$B,0),1))","v":""},""]
[1,"",{"$f":"IF(E87<>\"\",CONCATENATE(DIGITADOR!$M$1,TEXT(D87, \"YYYYMMDD\"),ROW()-5),\"\")","v":""},null,null,"",{"$f":"IF(H87=\"\",\"\",INDEX(referentes!AQ:AR,MATCH(H87,referentes!$AR:$AR,0),1))","v":""},null,{"$f":"IF(J87=\"\",\"\",VLOOKUP(J87,referentes!$AL$2:$AO$29,3,FALSE))","v":""},null,null,null,null,null,null,null,null,null,null,null,null,"",null,null,null,null,null,null,null,null,null,null,null,null,null,null,null,null,null,null,null,null,null,null,null,null,null,{"$f":"IF(AW87=\"\",\"\",DIGITADOR!$B$14)","v":""},"",null,null,null,"",null,null,null,null,null,null,null,null,null,null,null,null,null,null,null,null,null,null,"",{"$f":"IF(C87=\"\",\"\",IF(COUNTIF($C$6:C87, C87)>1, \"\", C87))","v":""},{"$f":"IF(N87=\"\",\"\",INDEX(referentes!P:Q,MATCH(N87,referentes!$Q:$Q,0),1))","v":""},{"$f":"IF(O87=\"\",\"\",INDEX(referentes!$A:$B,MATCH(O87,referentes!$B:$B,0),1))","v":""},{"$f":"IF(S87=\"\",\"\",INDEX(referentes!D:E,MATCH(S87,referentes!$E:$E,0),1))","v":""},{"$f":"IF(T87=\"\",\"\",INDEX(referentes!G:H,MATCH(T87,referentes!$H:$H,0),1))","v":""},"",{"$f":"IF(Y87=\"\",\"\",INDEX(referentes!S:T,MATCH(Y87,referentes!$T:$T,0),1))","v":""},{"$f":"IF(BO87=\"\",\"\",INDEX(referentes!J:K,MATCH(BO87,referentes!$K:$K,0),1))","v":""},{"$f":"IF(BJ87=\"\",\"\",INDEX(referentes!V:W,MATCH(BJ87,referentes!$W:$W,0),1))","v":""},{"$f":"IF(BK87=\"\",\"\",INDEX(referentes!Y:Z,MATCH(BK87,referentes!$Z:$Z,0),1))","v":""},{"$f":"IF(BL87=\"\",\"\",INDEX(referentes!AB:AC,MATCH(BL87,referentes!$AC:$AC,0),1))","v":""},{"$f":"IF(BM87=\"\",\"\",INDEX(referentes!AE:AF,MATCH(BM87,referentes!$AF:$AF,0),1))","v":""},{"$f":"IF(BB87=\"\",\"\",INDEX(referentes!M:N,MATCH(BB87,referentes!$N:$N,0),1))","v":""},{"$f":"IF(BQ87=\"\",\"\",INDEX('Otras referencias'!S:T,MATCH(BQ87,'Otras referencias'!$T:$T,0),1))","v":""},{"$f":"IF(BN87=\"\",\"\",INDEX('Otras referencias'!A:B,MATCH(BN87,'Otras referencias'!$B:$B,0),1))","v":""},""]
[1,"",{"$f":"IF(E88<>\"\",CONCATENATE(DIGITADOR!$M$1,TEXT(D88, \"YYYYMMDD\"),ROW()-5),\"\")","v":""},null,null,"",{"$f":"IF(H88=\"\",\"\",INDEX(referentes!AQ:AR,MATCH(H88,referentes!$AR:$AR,0),1))","v":""},null,{"$f":"IF(J88=\"\",\"\",VLOOKUP(J88,referentes!$AL$2:$AO$29,3,FALSE))","v":""},null,null,null,null,null,null,null,null,null,null,null,null,"",null,null,null,null,null,null,null,null,null,null,null,null,null,null,null,null,null,null,null,null,null,null,null,null,null,{"$f":"IF(AW88=\"\",\"\",DIGITADOR!$B$14)","v":""},"",null,null,null,"",null,null,null,null,null,null,null,null,null,null,null,null,null,null,null,null,null,null,"",{"$f":"IF(C88=\"\",\"\",IF(COUNTIF($C$6:C88, C88)>1, \"\", C88))","v":""},{"$f":"IF(N88=\"\",\"\",INDEX(referentes!P:Q,MATCH(N88,referentes!$Q:$Q,0),1))","v":""},{"$f":"IF(O88=\"\",\"\",INDEX(referentes!$A:$B,MATCH(O88,referentes!$B:$B,0),1))","v":""},{"$f":"IF(S88=\"\",\"\",INDEX(referentes!D:E,MATCH(S88,referentes!$E:$E,0),1))","v":""},{"$f":"IF(T88=\"\",\"\",INDEX(referentes!G:H,MATCH(T88,referentes!$H:$H,0),1))","v":""},"",{"$f":"IF(Y88=\"\",\"\",INDEX(referentes!S:T,MATCH(Y88,referentes!$T:$T,0),1))","v":""},{"$f":"IF(BO88=\"\",\"\",INDEX(referentes!J:K,MATCH(BO88,referentes!$K:$K,0),1))","v":""},{"$f":"IF(BJ88=\"\",\"\",INDEX(referentes!V:W,MATCH(BJ88,referentes!$W:$W,0),1))","v":""},{"$f":"IF(BK88=\"\",\"\",INDEX(referentes!Y:Z,MATCH(BK88,referentes!$Z:$Z,0),1))","v":""},{"$f":"IF(BL88=\"\",\"\",INDEX(referentes!AB:AC,MATCH(BL88,referentes!$AC:$AC,0),1))","v":""},{"$f":"IF(BM88=\"\",\"\",INDEX(referentes!AE:AF,MATCH(BM88,referentes!$AF:$AF,0),1))","v":""},{"$f":"IF(BB88=\"\",\"\",INDEX(referentes!M:N,MATCH(BB88,referentes!$N:$N,0),1))","v":""},{"$f":"IF(BQ88=\"\",\"\",INDEX('Otras referencias'!S:T,MATCH(BQ88,'Otras referencias'!$T:$T,0),1))","v":""},{"$f":"IF(BN88=\"\",\"\",INDEX('Otras referencias'!A:B,MATCH(BN88,'Otras referencias'!$B:$B,0),1))","v":""},""]
[1,"",{"$f":"IF(E89<>\"\",CONCATENATE(DIGITADOR!$M$1,TEXT(D89, \"YYYYMMDD\"),ROW()-5),\"\")","v":""},null,null,"",{"$f":"IF(H89=\"\",\"\",INDEX(referentes!AQ:AR,MATCH(H89,referentes!$AR:$AR,0),1))","v":""},null,{"$f":"IF(J89=\"\",\"\",VLOOKUP(J89,referentes!$AL$2:$AO$29,3,FALSE))","v":""},null,null,null,null,null,null,null,null,null,null,null,null,"",null,null,null,null,null,null,null,null,null,null,null,null,null,null,null,null,null,null,null,null,null,null,null,null,null,{"$f":"IF(AW89=\"\",\"\",DIGITADOR!$B$14)","v":""},"",null,null,null,"",null,null,null,null,null,null,null,null,null,null,null,null,null,null,null,null,null,null,"",{"$f":"IF(C89=\"\",\"\",IF(COUNTIF($C$6:C89, C89)>1, \"\", C89))","v":""},{"$f":"IF(N89=\"\",\"\",INDEX(referentes!P:Q,MATCH(N89,referentes!$Q:$Q,0),1))","v":""},{"$f":"IF(O89=\"\",\"\",INDEX(referentes!$A:$B,MATCH(O89,referentes!$B:$B,0),1))","v":""},{"$f":"IF(S89=\"\",\"\",INDEX(referentes!D:E,MATCH(S89,referentes!$E:$E,0),1))","v":""},{"$f":"IF(T89=\"\",\"\",INDEX(referentes!G:H,MATCH(T89,referentes!$H:$H,0),1))","v":""},"",{"$f":"IF(Y89=\"\",\"\",INDEX(referentes!S:T,MATCH(Y89,referentes!$T:$T,0),1))","v":""},{"$f":"IF(BO89=\"\",\"\",INDEX(referentes!J:K,MATCH(BO89,referentes!$K:$K,0),1))","v":""},{"$f":"IF(BJ89=\"\",\"\",INDEX(referentes!V:W,MATCH(BJ89,referentes!$W:$W,0),1))","v":""},{"$f":"IF(BK89=\"\",\"\",INDEX(referentes!Y:Z,MATCH(BK89,referentes!$Z:$Z,0),1))","v":""},{"$f":"IF(BL89=\"\",\"\",INDEX(referentes!AB:AC,MATCH(BL89,referentes!$AC:$AC,0),1))","v":""},{"$f":"IF(BM89=\"\",\"\",INDEX(referentes!AE:AF,MATCH(BM89,referentes!$AF:$AF,0),1))","v":""},{"$f":"IF(BB89=\"\",\"\",INDEX(referentes!M:N,MATCH(BB89,referentes!$N:$N,0),1))","v":""},{"$f":"IF(BQ89=\"\",\"\",INDEX('Otras referencias'!S:T,MATCH(BQ89,'Otras referencias'!$T:$T,0),1))","v":""},{"$f":"IF(BN89=\"\",\"\",INDEX('Otras referencias'!A:B,MATCH(BN89,'Otras referencias'!$B:$B,0),1))","v":""},""]
[1,"",{"$f":"IF(E90<>\"\",CONCATENATE(DIGITADOR!$M$1,TEXT(D90, \"YYYYMMDD\"),ROW()-5),\"\")","v":""},null,null,"",{"$f":"IF(H90=\"\",\"\",INDEX(referentes!AQ:AR,MATCH(H90,referentes!$AR:$AR,0),1))","v":""},null,{"$f":"IF(J90=\"\",\"\",VLOOKUP(J90,referentes!$AL$2:$AO$29,3,FALSE))","v":""},null,null,null,null,null,null,null,null,null,null,null,null,"",null,null,null,null,null,null,null,null,null,null,null,null,null,null,null,null,null,null,null,null,null,null,null,null,null,{"$f":"IF(AW90=\"\",\"\",DIGITADOR!$B$14)","v":""},"",null,null,null,"",null,null,null,null,null,null,null,null,null,null,null,null,null,null,null,null,null,null,"",{"$f":"IF(C90=\"\",\"\",IF(COUNTIF($C$6:C90, C90)>1, \"\", C90))","v":""},{"$f":"IF(N90=\"\",\"\",INDEX(referentes!P:Q,MATCH(N90,referentes!$Q:$Q,0),1))","v":""},{"$f":"IF(O90=\"\",\"\",INDEX(referentes!$A:$B,MATCH(O90,referentes!$B:$B,0),1))","v":""},{"$f":"IF(S90=\"\",\"\",INDEX(referentes!D:E,MATCH(S90,referentes!$E:$E,0),1))","v":""},{"$f":"IF(T90=\"\",\"\",INDEX(referentes!G:H,MATCH(T90,referentes!$H:$H,0),1))","v":""},"",{"$f":"IF(Y90=\"\",\"\",INDEX(referentes!S:T,MATCH(Y90,referentes!$T:$T,0),1))","v":""},{"$f":"IF(BO90=\"\",\"\",INDEX(referentes!J:K,MATCH(BO90,referentes!$K:$K,0),1))","v":""},{"$f":"IF(BJ90=\"\",\"\",INDEX(referentes!V:W,MATCH(BJ90,referentes!$W:$W,0),1))","v":""},{"$f":"IF(BK90=\"\",\"\",INDEX(referentes!Y:Z,MATCH(BK90,referentes!$Z:$Z,0),1))","v":""},{"$f":"IF(BL90=\"\",\"\",INDEX(referentes!AB:AC,MATCH(BL90,referentes!$AC:$AC,0),1))","v":""},{"$f":"IF(BM90=\"\",\"\",INDEX(referentes!AE:AF,MATCH(BM90,referentes!$AF:$AF,0),1))","v":""},{"$f":"IF(BB90=\"\",\"\",INDEX(referentes!M:N,MATCH(BB90,referentes!$N:$N,0),1))","v":""},{"$f":"IF(BQ90=\"\",\"\",INDEX('Otras referencias'!S:T,MATCH(BQ90,'Otras referencias'!$T:$T,0),1))","v":""},{"$f":"IF(BN90=\"\",\"\",INDEX('Otras referencias'!A:B,MATCH(BN90,'Otras referencias'!$B:$B,0),1))","v":""},""]
[1,"",{"$f":"IF(E91<>\"\",CONCATENATE(DIGITADOR!$M$1,TEXT(D91, \"YYYYMMDD\"),ROW()-5),\"\")","v":""},null,null,"",{"$f":"IF(H91=\"\",\"\",INDEX(referentes!AQ:AR,MATCH(H91,referentes!$AR:$AR,0),1))","v":""},null,{"$f":"IF(J91=\"\",\"\",VLOOKUP(J91,referentes!$AL$2:$AO$29,3,FALSE))","v":""},null,null,null,null,null,null,null,null,null,null,null,null,"",null,null,null,null,null,null,null,null,null,null,null,null,null,null,null,null,null,null,null,null,null,null,null,null,null,{"$f":"IF(AW91=\"\",\"\",DIGITADOR!$B$14)","v":""},"",null,null,null,"",null,null,null,null,null,null,null,null,null,null,null,null,null,null,null,null,null,null,"",{"$f":"IF(C91=\"\",\"\",IF(COUNTIF($C$6:C91, C91)>1, \"\", C91))","v":""},{"$f":"IF(N91=\"\",\"\",INDEX(referentes!P:Q,MATCH(N91,referentes!$Q:$Q,0),1))","v":""},{"$f":"IF(O91=\"\",\"\",INDEX(referentes!$A:$B,MATCH(O91,referentes!$B:$B,0),1))","v":""},{"$f":"IF(S91=\"\",\"\",INDEX(referentes!D:E,MATCH(S91,referentes!$E:$E,0),1))","v":""},{"$f":"IF(T91=\"\",\"\",INDEX(referentes!G:H,MATCH(T91,referentes!$H:$H,0),1))","v":""},"",{"$f":"IF(Y91=\"\",\"\",INDEX(referentes!S:T,MATCH(Y91,referentes!$T:$T,0),1))","v":""},{"$f":"IF(BO91=\"\",\"\",INDEX(referentes!J:K,MATCH(BO91,referentes!$K:$K,0),1))","v":""},{"$f":"IF(BJ91=\"\",\"\",INDEX(referentes!V:W,MATCH(BJ91,referentes!$W:$W,0),1))","v":""},{"$f":"IF(BK91=\"\",\"\",INDEX(referentes!Y:Z,MATCH(BK91,referentes!$Z:$Z,0),1))","v":""},{"$f":"IF(BL91=\"\",\"\",INDEX(referentes!AB:AC,MATCH(BL91,referentes!$AC:$AC,0),1))","v":""},{"$f":"IF(BM91=\"\",\"\",INDEX(referentes!AE:AF,MATCH(BM91,referentes!$AF:$AF,0),1))","v":""},{"$f":"IF(BB91=\"\",\"\",INDEX(referentes!M:N,MATCH(BB91,referentes!$N:$N,0),1))","v":""},{"$f":"IF(BQ91=\"\",\"\",INDEX('Otras referencias'!S:T,MATCH(BQ91,'Otras referencias'!$T:$T,0),1))","v":""},{"$f":"IF(BN91=\"\",\"\",INDEX('Otras referencias'!A:B,MATCH(BN91,'Otras referencias'!$B:$B,0),1))","v":""},""]
[1,"",{"$f":"IF(E92<>\"\",CONCATENATE(DIGITADOR!$M$1,TEXT(D92, \"YYYYMMDD\"),ROW()-5),\"\")","v":""},null,null,"",{"$f":"IF(H92=\"\",\"\",INDEX(referentes!AQ:AR,MATCH(H92,referentes!$AR:$AR,0),1))","v":""},null,{"$f":"IF(J92=\"\",\"\",VLOOKUP(J92,referentes!$AL$2:$AO$29,3,FALSE))","v":""},null,null,null,null,null,null,null,null,null,null,null,null,"",null,null,null,null,null,null,null,null,null,null,null,null,null,null,null,null,null,null,null,null,null,null,null,null,null,{"$f":"IF(AW92=\"\",\"\",DIGITADOR!$B$14)","v":""},"",null,null,null,"",null,null,null,null,null,null,null,null,null,null,null,null,null,null,null,null,null,null,"",{"$f":"IF(C92=\"\",\"\",IF(COUNTIF($C$6:C92, C92)>1, \"\", C92))","v":""},{"$f":"IF(N92=\"\",\"\",INDEX(referentes!P:Q,MATCH(N92,referentes!$Q:$Q,0),1))","v":""},{"$f":"IF(O92=\"\",\"\",INDEX(referentes!$A:$B,MATCH(O92,referentes!$B:$B,0),1))","v":""},{"$f":"IF(S92=\"\",\"\",INDEX(referentes!D:E,MATCH(S92,referentes!$E:$E,0),1))","v":""},{"$f":"IF(T92=\"\",\"\",INDEX(referentes!G:H,MATCH(T92,referentes!$H:$H,0),1))","v":""},"",{"$f":"IF(Y92=\"\",\"\",INDEX(referentes!S:T,MATCH(Y92,referentes!$T:$T,0),1))","v":""},{"$f":"IF(BO92=\"\",\"\",INDEX(referentes!J:K,MATCH(BO92,referentes!$K:$K,0),1))","v":""},{"$f":"IF(BJ92=\"\",\"\",INDEX(referentes!V:W,MATCH(BJ92,referentes!$W:$W,0),1))","v":""},{"$f":"IF(BK92=\"\",\"\",INDEX(referentes!Y:Z,MATCH(BK92,referentes!$Z:$Z,0),1))","v":""},{"$f":"IF(BL92=\"\",\"\",INDEX(referentes!AB:AC,MATCH(BL92,referentes!$AC:$AC,0),1))","v":""},{"$f":"IF(BM92=\"\",\"\",INDEX(referentes!AE:AF,MATCH(BM92,referentes!$AF:$AF,0),1))","v":""},{"$f":"IF(BB92=\"\",\"\",INDEX(referentes!M:N,MATCH(BB92,referentes!$N:$N,0),1))","v":""},{"$f":"IF(BQ92=\"\",\"\",INDEX('Otras referencias'!S:T,MATCH(BQ92,'Otras referencias'!$T:$T,0),1))","v":""},{"$f":"IF(BN92=\"\",\"\",INDEX('Otras referencias'!A:B,MATCH(BN92,'Otras referencias'!$B:$B,0),1))","v":""},""]
[1,"",{"$f":"IF(E93<>\"\",CONCATENATE(DIGITADOR!$M$1,TEXT(D93, \"YYYYMMDD\"),ROW()-5),\"\")","v":""},null,null,"",{"$f":"IF(H93=\"\",\"\",INDEX(referentes!AQ:AR,MATCH(H93,referentes!$AR:$AR,0),1))","v":""},null,{"$f":"IF(J93=\"\",\"\",VLOOKUP(J93,referentes!$AL$2:$AO$29,3,FALSE))","v":""},null,null,null,null,null,null,null,null,null,null,null,null,"",null,null,null,null,null,null,null,null,null,null,null,null,null,null,null,null,null,null,null,null,null,null,null,null,null,{"$f":"IF(AW93=\"\",\"\",DIGITADOR!$B$14)","v":""},"",null,null,null,"",null,null,null,null,null,null,null,null,null,null,null,null,null,null,null,null,null,null,"",{"$f":"IF(C93=\"\",\"\",IF(COUNTIF($C$6:C93, C93)>1, \"\", C93))","v":""},{"$f":"IF(N93=\"\",\"\",INDEX(referentes!P:Q,MATCH(N93,referentes!$Q:$Q,0),1))","v":""},{"$f":"IF(O93=\"\",\"\",INDEX(referentes!$A:$B,MATCH(O93,referentes!$B:$B,0),1))","v":""},{"$f":"IF(S93=\"\",\"\",INDEX(referentes!D:E,MATCH(S93,referentes!$E:$E,0),1))","v":""},{"$f":"IF(T93=\"\",\"\",INDEX(referentes!G:H,MATCH(T93,referentes!$H:$H,0),1))","v":""},"",{"$f":"IF(Y93=\"\",\"\",INDEX(referentes!S:T,MATCH(Y93,referentes!$T:$T,0),1))","v":""},{"$f":"IF(BO93=\"\",\"\",INDEX(referentes!J:K,MATCH(BO93,referentes!$K:$K,0),1))","v":""},{"$f":"IF(BJ93=\"\",\"\",INDEX(referentes!V:W,MATCH(BJ93,referentes!$W:$W,0),1))","v":""},{"$f":"IF(BK93=\"\",\"\",INDEX(referentes!Y:Z,MATCH(BK93,referentes!$Z:$Z,0),1))","v":""},{"$f":"IF(BL93=\"\",\"\",INDEX(referentes!AB:AC,MATCH(BL93,referentes!$AC:$AC,0),1))","v":""},{"$f":"IF(BM93=\"\",\"\",INDEX(referentes!AE:AF,MATCH(BM93,referentes!$AF:$AF,0),1))","v":""},{"$f":"IF(BB93=\"\",\"\",INDEX(referentes!M:N,MATCH(BB93,referentes!$N:$N,0),1))","v":""},{"$f":"IF(BQ93=\"\",\"\",INDEX('Otras referencias'!S:T,MATCH(BQ93,'Otras referencias'!$T:$T,0),1))","v":""},{"$f":"IF(BN93=\"\",\"\",INDEX('Otras referencias'!A:B,MATCH(BN93,'Otras referencias'!$B:$B,0),1))","v":""},""]
[1,"",{"$f":"IF(E94<>\"\",CONCATENATE(DIGITADOR!$M$1,TEXT(D94, \"YYYYMMDD\"),ROW()-5),\"\")","v":""},null,null,"",{"$f":"IF(H94=\"\",\"\",INDEX(referentes!AQ:AR,MATCH(H94,referentes!$AR:$AR,0),1))","v":""},null,{"$f":"IF(J94=\"\",\"\",VLOOKUP(J94,referentes!$AL$2:$AO$29,3,FALSE))","v":""},null,null,null,null,null,null,null,null,null,null,null,null,"",null,null,null,null,null,null,null,null,null,null,null,null,null,null,null,null,null,null,null,null,null,null,null,null,null,{"$f":"IF(AW94=\"\",\"\",DIGITADOR!$B$14)","v":""},"",null,null,null,"",null,null,null,null,null,null,null,null,null,null,null,null,null,null,null,null,null,null,"",{"$f":"IF(C94=\"\",\"\",IF(COUNTIF($C$6:C94, C94)>1, \"\", C94))","v":""},{"$f":"IF(N94=\"\",\"\",INDEX(referentes!P:Q,MATCH(N94,referentes!$Q:$Q,0),1))","v":""},{"$f":"IF(O94=\"\",\"\",INDEX(referentes!$A:$B,MATCH(O94,referentes!$B:$B,0),1))","v":""},{"$f":"IF(S94=\"\",\"\",INDEX(referentes!D:E,MATCH(S94,referentes!$E:$E,0),1))","v":""},{"$f":"IF(T94=\"\",\"\",INDEX(referentes!G:H,MATCH(T94,referentes!$H:$H,0),1))","v":""},"",{"$f":"IF(Y94=\"\",\"\",INDEX(referentes!S:T,MATCH(Y94,referentes!$T:$T,0),1))","v":""},{"$f":"IF(BO94=\"\",\"\",INDEX(referentes!J:K,MATCH(BO94,referentes!$K:$K,0),1))","v":""},{"$f":"IF(BJ94=\"\",\"\",INDEX(referentes!V:W,MATCH(BJ94,referentes!$W:$W,0),1))","v":""},{"$f":"IF(BK94=\"\",\"\",INDEX(referentes!Y:Z,MATCH(BK94,referentes!$Z:$Z,0),1))","v":""},{"$f":"IF(BL94=\"\",\"\",INDEX(referentes!AB:AC,MATCH(BL94,referentes!$AC:$AC,0),1))","v":""},{"$f":"IF(BM94=\"\",\"\",INDEX(referentes!AE:AF,MATCH(BM94,referentes!$AF:$AF,0),1))","v":""},{"$f":"IF(BB94=\"\",\"\",INDEX(referentes!M:N,MATCH(BB94,referentes!$N:$N,0),1))","v":""},{"$f":"IF(BQ94=\"\",\"\",INDEX('Otras referencias'!S:T,MATCH(BQ94,'Otras referencias'!$T:$T,0),1))","v":""},{"$f":"IF(BN94=\"\",\"\",INDEX('Otras referencias'!A:B,MATCH(BN94,'Otras referencias'!$B:$B,0),1))","v":""},""]
[1,"",{"$f":"IF(E95<>\"\",CONCATENATE(DIGITADOR!$M$1,TEXT(D95, \"YYYYMMDD\"),ROW()-5),\"\")","v":""},null,null,"",{"$f":"IF(H95=\"\",\"\",INDEX(referentes!AQ:AR,MATCH(H95,referentes!$AR:$AR,0),1))","v":""},null,{"$f":"IF(J95=\"\",\"\",VLOOKUP(J95,referentes!$AL$2:$AO$29,3,FALSE))","v":""},null,null,null,null,null,null,null,null,null,null,null,null,"",null,null,null,null,null,null,null,null,null,null,null,null,null,null,null,null,null,null,null,null,null,null,null,null,null,{"$f":"IF(AW95=\"\",\"\",DIGITADOR!$B$14)","v":""},"",null,null,null,"",null,null,null,null,null,null,null,null,null,null,null,null,null,null,null,null,null,null,"",{"$f":"IF(C95=\"\",\"\",IF(COUNTIF($C$6:C95, C95)>1, \"\", C95))","v":""},{"$f":"IF(N95=\"\",\"\",INDEX(referentes!P:Q,MATCH(N95,referentes!$Q:$Q,0),1))","v":""},{"$f":"IF(O95=\"\",\"\",INDEX(referentes!$A:$B,MATCH(O95,referentes!$B:$B,0),1))","v":""},{"$f":"IF(S95=\"\",\"\",INDEX(referentes!D:E,MATCH(S95,referentes!$E:$E,0),1))","v":""},{"$f":"IF(T95=\"\",\"\",INDEX(referentes!G:H,MATCH(T95,referentes!$H:$H,0),1))","v":""},"",{"$f":"IF(Y95=\"\",\"\",INDEX(referentes!S:T,MATCH(Y95,referentes!$T:$T,0),1))","v":""},{"$f":"IF(BO95=\"\",\"\",INDEX(referentes!J:K,MATCH(BO95,referentes!$K:$K,0),1))","v":""},{"$f":"IF(BJ95=\"\",\"\",INDEX(referentes!V:W,MATCH(BJ95,referentes!$W:$W,0),1))","v":""},{"$f":"IF(BK95=\"\",\"\",INDEX(referentes!Y:Z,MATCH(BK95,referentes!$Z:$Z,0),1))","v":""},{"$f":"IF(BL95=\"\",\"\",INDEX(referentes!AB:AC,MATCH(BL95,referentes!$AC:$AC,0),1))","v":""},{"$f":"IF(BM95=\"\",\"\",INDEX(referentes!AE:AF,MATCH(BM95,referentes!$AF:$AF,0),1))","v":""},{"$f":"IF(BB95=\"\",\"\",INDEX(referentes!M:N,MATCH(BB95,referentes!$N:$N,0),1))","v":""},{"$f":"IF(BQ95=\"\",\"\",INDEX('Otras referencias'!S:T,MATCH(BQ95,'Otras referencias'!$T:$T,0),1))","v":""},{"$f":"IF(BN95=\"\",\"\",INDEX('Otras referencias'!A:B,MATCH(BN95,'Otras referencias'!$B:$B,0),1))","v":""},""]
[1,"",{"$f":"IF(E96<>\"\",CONCATENATE(DIGITADOR!$M$1,TEXT(D96, \"YYYYMMDD\"),ROW()-5),\"\")","v":""},null,null,"",{"$f":"IF(H96=\"\",\"\",INDEX(referentes!AQ:AR,MATCH(H96,referentes!$AR:$AR,0),1))","v":""},null,{"$f":"IF(J96=\"\",\"\",VLOOKUP(J96,referentes!$AL$2:$AO$29,3,FALSE))","v":""},null,null,null,null,null,null,null,null,null,null,null,null,"",null,null,null,null,null,null,null,null,null,null,null,null,null,null,null,null,null,null,null,null,null,null,null,null,null,{"$f":"IF(AW96=\"\",\"\",DIGITADOR!$B$14)","v":""},"",null,null,null,"",null,null,null,null,null,null,null,null,null,null,null,null,null,null,null,null,null,null,"",{"$f":"IF(C96=\"\",\"\",IF(COUNTIF($C$6:C96, C96)>1, \"\", C96))","v":""},{"$f":"IF(N96=\"\",\"\",INDEX(referentes!P:Q,MATCH(N96,referentes!$Q:$Q,0),1))","v":""},{"$f":"IF(O96=\"\",\"\",INDEX(referentes!$A:$B,MATCH(O96,referentes!$B:$B,0),1))","v":""},{"$f":"IF(S96=\"\",\"\",INDEX(referentes!D:E,MATCH(S96,referentes!$E:$E,0),1))","v":""},{"$f":"IF(T96=\"\",\"\",INDEX(referentes!G:H,MATCH(T96,referentes!$H:$H,0),1))","v":""},"",{"$f":"IF(Y96=\"\",\"\",INDEX(referentes!S:T,MATCH(Y96,referentes!$T:$T,0),1))","v":""},{"$f":"IF(BO96=\"\",\"\",INDEX(referentes!J:K,MATCH(BO96,referentes!$K:$K,0),1))","v":""},{"$f":"IF(BJ96=\"\",\"\",INDEX(referentes!V:W,MATCH(BJ96,referentes!$W:$W,0),1))","v":""},{"$f":"IF(BK96=\"\",\"\",INDEX(referentes!Y:Z,MATCH(BK96,referentes!$Z:$Z,0),1))","v":""},{"$f":"IF(BL96=\"\",\"\",INDEX(referentes!AB:AC,MATCH(BL96,referentes!$AC:$AC,0),1))","v":""},{"$f":"IF(BM96=\"\",\"\",INDEX(referentes!AE:AF,MATCH(BM96,referentes!$AF:$AF,0),1))","v":""},{"$f":"IF(BB96=\"\",\"\",INDEX(referentes!M:N,MATCH(BB96,referentes!$N:$N,0),1))","v":""},{"$f":"IF(BQ96=\"\",\"\",INDEX('Otras referencias'!S:T,MATCH(BQ96,'Otras referencias'!$T:$T,0),1))","v":""},{"$f":"IF(BN96=\"\",\"\",INDEX('Otras referencias'!A:B,MATCH(BN96,'Otras referencias'!$B:$B,0),1))","v":""},""]
[1,"",{"$f":"IF(E97<>\"\",CONCATENATE(DIGITADOR!$M$1,TEXT(D97, \"YYYYMMDD\"),ROW()-5),\"\")","v":""},null,null,"",{"$f":"IF(H97=\"\",\"\",INDEX(referentes!AQ:AR,MATCH(H97,referentes!$AR:$AR,0),1))","v":""},null,{"$f":"IF(J97=\"\",\"\",VLOOKUP(J97,referentes!$AL$2:$AO$29,3,FALSE))","v":""},null,null,null,null,null,null,null,null,null,null,null,null,"",null,null,null,null,null,null,null,null,null,null,null,null,null,null,null,null,null,null,null,null,null,null,null,null,null,{"$f":"IF(AW97=\"\",\"\",DIGITADOR!$B$14)","v":""},"",null,null,null,"",null,null,null,null,null,null,null,null,null,null,null,null,null,null,null,null,null,null,"",{"$f":"IF(C97=\"\",\"\",IF(COUNTIF($C$6:C97, C97)>1, \"\", C97))","v":""},{"$f":"IF(N97=\"\",\"\",INDEX(referentes!P:Q,MATCH(N97,referentes!$Q:$Q,0),1))","v":""},{"$f":"IF(O97=\"\",\"\",INDEX(referentes!$A:$B,MATCH(O97,referentes!$B:$B,0),1))","v":""},{"$f":"IF(S97=\"\",\"\",INDEX(referentes!D:E,MATCH(S97,referentes!$E:$E,0),1))","v":""},{"$f":"IF(T97=\"\",\"\",INDEX(referentes!G:H,MATCH(T97,referentes!$H:$H,0),1))","v":""},"",{"$f":"IF(Y97=\"\",\"\",INDEX(referentes!S:T,MATCH(Y97,referentes!$T:$T,0),1))","v":""},{"$f":"IF(BO97=\"\",\"\",INDEX(referentes!J:K,MATCH(BO97,referentes!$K:$K,0),1))","v":""},{"$f":"IF(BJ97=\"\",\"\",INDEX(referentes!V:W,MATCH(BJ97,referentes!$W:$W,0),1))","v":""},{"$f":"IF(BK97=\"\",\"\",INDEX(referentes!Y:Z,MATCH(BK97,referentes!$Z:$Z,0),1))","v":""},{"$f":"IF(BL97=\"\",\"\",INDEX(referentes!AB:AC,MATCH(BL97,referentes!$AC:$AC,0),1))","v":""},{"$f":"IF(BM97=\"\",\"\",INDEX(referentes!AE:AF,MATCH(BM97,referentes!$AF:$AF,0),1))","v":""},{"$f":"IF(BB97=\"\",\"\",INDEX(referentes!M:N,MATCH(BB97,referentes!$N:$N,0),1))","v":""},{"$f":"IF(BQ97=\"\",\"\",INDEX('Otras referencias'!S:T,MATCH(BQ97,'Otras referencias'!$T:$T,0),1))","v":""},{"$f":"IF(BN97=\"\",\"\",INDEX('Otras referencias'!A:B,MATCH(BN97,'Otras referencias'!$B:$B,0),1))","v":""},""]
[1,"",{"$f":"IF(E98<>\"\",CONCATENATE(DIGITADOR!$M$1,TEXT(D98, \"YYYYMMDD\"),ROW()-5),\"\")","v":""},null,null,"",{"$f":"IF(H98=\"\",\"\",INDEX(referentes!AQ:AR,MATCH(H98,referentes!$AR:$AR,0),1))","v":""},null,{"$f":"IF(J98=\"\",\"\",VLOOKUP(J98,referentes!$AL$2:$AO$29,3,FALSE))","v":""},null,null,null,null,null,null,null,null,null,null,null,null,"",null,null,null,null,null,null,null,null,null,null,null,null,null,null,null,null,null,null,null,null,null,null,null,null,null,{"$f":"IF(AW98=\"\",\"\",DIGITADOR!$B$14)","v":""},"",null,null,null,"",null,null,null,null,null,null,null,null,null,null,null,null,null,null,null,null,null,null,"",{"$f":"IF(C98=\"\",\"\",IF(COUNTIF($C$6:C98, C98)>1, \"\", C98))","v":""},{"$f":"IF(N98=\"\",\"\",INDEX(referentes!P:Q,MATCH(N98,referentes!$Q:$Q,0),1))","v":""},{"$f":"IF(O98=\"\",\"\",INDEX(referentes!$A:$B,MATCH(O98,referentes!$B:$B,0),1))","v":""},{"$f":"IF(S98=\"\",\"\",INDEX(referentes!D:E,MATCH(S98,referentes!$E:$E,0),1))","v":""},{"$f":"IF(T98=\"\",\"\",INDEX(referentes!G:H,MATCH(T98,referentes!$H:$H,0),1))","v":""},"",{"$f":"IF(Y98=\"\",\"\",INDEX(referentes!S:T,MATCH(Y98,referentes!$T:$T,0),1))","v":""},{"$f":"IF(BO98=\"\",\"\",INDEX(referentes!J:K,MATCH(BO98,referentes!$K:$K,0),1))","v":""},{"$f":"IF(BJ98=\"\",\"\",INDEX(referentes!V:W,MATCH(BJ98,referentes!$W:$W,0),1))","v":""},{"$f":"IF(BK98=\"\",\"\",INDEX(referentes!Y:Z,MATCH(BK98,referentes!$Z:$Z,0),1))","v":""},{"$f":"IF(BL98=\"\",\"\",INDEX(referentes!AB:AC,MATCH(BL98,referentes!$AC:$AC,0),1))","v":""},{"$f":"IF(BM98=\"\",\"\",INDEX(referentes!AE:AF,MATCH(BM98,referentes!$AF:$AF,0),1))","v":""},{"$f":"IF(BB98=\"\",\"\",INDEX(referentes!M:N,MATCH(BB98,referentes!$N:$N,0),1))","v":""},{"$f":"IF(BQ98=\"\",\"\",INDEX('Otras referencias'!S:T,MATCH(BQ98,'Otras referencias'!$T:$T,0),1))","v":""},{"$f":"IF(BN98=\"\",\"\",INDEX('Otras referencias'!A:B,MATCH(BN98,'Otras referencias'!$B:$B,0),1))","v":""},""]
[1,"",{"$f":"IF(E99<>\"\",CONCATENATE(DIGITADOR!$M$1,TEXT(D99, \"YYYYMMDD\"),ROW()-5),\"\")","v":""},null,null,"",{"$f":"IF(H99=\"\",\"\",INDEX(referentes!AQ:AR,MATCH(H99,referentes!$AR:$AR,0),1))","v":""},null,{"$f":"IF(J99=\"\",\"\",VLOOKUP(J99,referentes!$AL$2:$AO$29,3,FALSE))","v":""},null,null,null,null,null,null,null,null,null,null,null,null,"",null,null,null,null,null,null,null,null,null,null,null,null,null,null,null,null,null,null,null,null,null,null,null,null,null,{"$f":"IF(AW99=\"\",\"\",DIGITADOR!$B$14)","v":""},"",null,null,null,"",null,null,null,null,null,null,null,null,null,null,null,null,null,null,null,null,null,null,"",{"$f":"IF(C99=\"\",\"\",IF(COUNTIF($C$6:C99, C99)>1, \"\", C99))","v":""},{"$f":"IF(N99=\"\",\"\",INDEX(referentes!P:Q,MATCH(N99,referentes!$Q:$Q,0),1))","v":""},{"$f":"IF(O99=\"\",\"\",INDEX(referentes!$A:$B,MATCH(O99,referentes!$B:$B,0),1))","v":""},{"$f":"IF(S99=\"\",\"\",INDEX(referentes!D:E,MATCH(S99,referentes!$E:$E,0),1))","v":""},{"$f":"IF(T99=\"\",\"\",INDEX(referentes!G:H,MATCH(T99,referentes!$H:$H,0),1))","v":""},"",{"$f":"IF(Y99=\"\",\"\",INDEX(referentes!S:T,MATCH(Y99,referentes!$T:$T,0),1))","v":""},{"$f":"IF(BO99=\"\",\"\",INDEX(referentes!J:K,MATCH(BO99,referentes!$K:$K,0),1))","v":""},{"$f":"IF(BJ99=\"\",\"\",INDEX(referentes!V:W,MATCH(BJ99,referentes!$W:$W,0),1))","v":""},{"$f":"IF(BK99=\"\",\"\",INDEX(referentes!Y:Z,MATCH(BK99,referentes!$Z:$Z,0),1))","v":""},{"$f":"IF(BL99=\"\",\"\",INDEX(referentes!AB:AC,MATCH(BL99,referentes!$AC:$AC,0),1))","v":""},{"$f":"IF(BM99=\"\",\"\",INDEX(referentes!AE:AF,MATCH(BM99,referentes!$AF:$AF,0),1))","v":""},{"$f":"IF(BB99=\"\",\"\",INDEX(referentes!M:N,MATCH(BB99,referentes!$N:$N,0),1))","v":""},{"$f":"IF(BQ99=\"\",\"\",INDEX('Otras referencias'!S:T,MATCH(BQ99,'Otras referencias'!$T:$T,0),1))","v":""},{"$f":"IF(BN99=\"\",\"\",INDEX('Otras referencias'!A:B,MATCH(BN99,'Otras referencias'!$B:$B,0),1))","v":""},""]
[1,"",{"$f":"IF(E100<>\"\",CONCATENATE(DIGITADOR!$M$1,TEXT(D100, \"YYYYMMDD\"),ROW()-5),\"\")","v":""},null,null,"",{"$f":"IF(H100=\"\",\"\",INDEX(referentes!AQ:AR,MATCH(H100,referentes!$AR:$AR,0),1))","v":""},null,{"$f":"IF(J100=\"\",\"\",VLOOKUP(J100,referentes!$AL$2:$AO$29,3,FALSE))","v":""},null,null,null,null,null,null,null,null,null,null,null,null,"",null,null,null,null,null,null,null,null,null,null,null,null,null,null,null,null,null,null,null,null,null,null,null,null,null,{"$f":"IF(AW100=\"\",\"\",DIGITADOR!$B$14)","v":""},"",null,null,null,"",null,null,null,null,null,null,null,null,null,null,null,null,null,null,null,null,null,null,"",{"$f":"IF(C100=\"\",\"\",IF(COUNTIF($C$6:C100, C100)>1, \"\", C100))","v":""},{"$f":"IF(N100=\"\",\"\",INDEX(referentes!P:Q,MATCH(N100,referentes!$Q:$Q,0),1))","v":""},{"$f":"IF(O100=\"\",\"\",INDEX(referentes!$A:$B,MATCH(O100,referentes!$B:$B,0),1))","v":""},{"$f":"IF(S100=\"\",\"\",INDEX(referentes!D:E,MATCH(S100,referentes!$E:$E,0),1))","v":""},{"$f":"IF(T100=\"\",\"\",INDEX(referentes!G:H,MATCH(T100,referentes!$H:$H,0),1))","v":""},"",{"$f":"IF(Y100=\"\",\"\",INDEX(referentes!S:T,MATCH(Y100,referentes!$T:$T,0),1))","v":""},{"$f":"IF(BO100=\"\",\"\",INDEX(referentes!J:K,MATCH(BO100,referentes!$K:$K,0),1))","v":""},{"$f":"IF(BJ100=\"\",\"\",INDEX(referentes!V:W,MATCH(BJ100,referentes!$W:$W,0),1))","v":""},{"$f":"IF(BK100=\"\",\"\",INDEX(referentes!Y:Z,MATCH(BK100,referentes!$Z:$Z,0),1))","v":""},{"$f":"IF(BL100=\"\",\"\",INDEX(referentes!AB:AC,MATCH(BL100,referentes!$AC:$AC,0),1))","v":""},{"$f":"IF(BM100=\"\",\"\",INDEX(referentes!AE:AF,MATCH(BM100,referentes!$AF:$AF,0),1))","v":""},{"$f":"IF(BB100=\"\",\"\",INDEX(referentes!M:N,MATCH(BB100,referentes!$N:$N,0),1))","v":""},{"$f":"IF(BQ100=\"\",\"\",INDEX('Otras referencias'!S:T,MATCH(BQ100,'Otras referencias'!$T:$T,0),1))","v":""},{"$f":"IF(BN100=\"\",\"\",INDEX('Otras referencias'!A:B,MATCH(BN100,'Otras referencias'!$B:$B,0),1))","v":""},""]
[1,"",{"$f":"IF(E101<>\"\",CONCATENATE(DIGITADOR!$M$1,TEXT(D101, \"YYYYMMDD\"),ROW()-5),\"\")","v":""},null,null,"",{"$f":"IF(H101=\"\",\"\",INDEX(referentes!AQ:AR,MATCH(H101,referentes!$AR:$AR,0),1))","v":""},null,{"$f":"IF(J101=\"\",\"\",VLOOKUP(J101,referentes!$AL$2:$AO$29,3,FALSE))","v":""},null,null,null,null,null,null,null,null,null,null,null,null,"",null,null,null,null,null,null,null,null,null,null,null,null,null,null,null,null,null,null,null,null,null,null,null,null,null,{"$f":"IF(AW101=\"\",\"\",DIGITADOR!$B$14)","v":""},"",null,null,null,"",null,null,null,null,null,null,null,null,null,null,null,null,null,null,null,null,null,null,"",{"$f":"IF(C101=\"\",\"\",IF(COUNTIF($C$6:C101, C101)>1, \"\", C101))","v":""},{"$f":"IF(N101=\"\",\"\",INDEX(referentes!P:Q,MATCH(N101,referentes!$Q:$Q,0),1))","v":""},{"$f":"IF(O101=\"\",\"\",INDEX(referentes!$A:$B,MATCH(O101,referentes!$B:$B,0),1))","v":""},{"$f":"IF(S101=\"\",\"\",INDEX(referentes!D:E,MATCH(S101,referentes!$E:$E,0),1))","v":""},{"$f":"IF(T101=\"\",\"\",INDEX(referentes!G:H,MATCH(T101,referentes!$H:$H,0),1))","v":""},"",{"$f":"IF(Y101=\"\",\"\",INDEX(referentes!S:T,MATCH(Y101,referentes!$T:$T,0),1))","v":""},{"$f":"IF(BO101=\"\",\"\",INDEX(referentes!J:K,MATCH(BO101,referentes!$K:$K,0),1))","v":""},{"$f":"IF(BJ101=\"\",\"\",INDEX(referentes!V:W,MATCH(BJ101,referentes!$W:$W,0),1))","v":""},{"$f":"IF(BK101=\"\",\"\",INDEX(referentes!Y:Z,MATCH(BK101,referentes!$Z:$Z,0),1))","v":""},{"$f":"IF(BL101=\"\",\"\",INDEX(referentes!AB:AC,MATCH(BL101,referentes!$AC:$AC,0),1))","v":""},{"$f":"IF(BM101=\"\",\"\",INDEX(referentes!AE:AF,MATCH(BM101,referentes!$AF:$AF,0),1))","v":""},{"$f":"IF(BB101=\"\",\"\",INDEX(referentes!M:N,MATCH(BB101,referentes!$N:$N,0),1))","v":""},{"$f":"IF(BQ101=\"\",\"\",INDEX('Otras referencias'!S:T,MATCH(BQ101,'Otras referencias'!$T:$T,0),1))","v":""},{"$f":"IF(BN101=\"\",\"\",INDEX('Otras referencias'!A:B,MATCH(BN101,'Otras referencias'!$B:$B,0),1))","v":""},""]
[1,"",{"$f":"IF(E102<>\"\",CONCATENATE(DIGITADOR!$M$1,TEXT(D102, \"YYYYMMDD\"),ROW()-5),\"\")","v":""},null,null,"",{"$f":"IF(H102=\"\",\"\",INDEX(referentes!AQ:AR,MATCH(H102,referentes!$AR:$AR,0),1))","v":""},null,{"$f":"IF(J102=\"\",\"\",VLOOKUP(J102,referentes!$AL$2:$AO$29,3,FALSE))","v":""},null,null,null,null,null,null,null,null,null,null,null,null,"",null,null,null,null,null,null,null,null,null,null,null,null,null,null,null,null,null,null,null,null,null,null,null,null,null,{"$f":"IF(AW102=\"\",\"\",DIGITADOR!$B$14)","v":""},"",null,null,null,"",null,null,null,null,null,null,null,null,null,null,null,null,null,null,null,null,null,null,"",{"$f":"IF(C102=\"\",\"\",IF(COUNTIF($C$6:C102, C102)>1, \"\", C102))","v":""},{"$f":"IF(N102=\"\",\"\",INDEX(referentes!P:Q,MATCH(N102,referentes!$Q:$Q,0),1))","v":""},{"$f":"IF(O102=\"\",\"\",INDEX(referentes!$A:$B,MATCH(O102,referentes!$B:$B,0),1))","v":""},{"$f":"IF(S102=\"\",\"\",INDEX(referentes!D:E,MATCH(S102,referentes!$E:$E,0),1))","v":""},{"$f":"IF(T102=\"\",\"\",INDEX(referentes!G:H,MATCH(T102,referentes!$H:$H,0),1))","v":""},"",{"$f":"IF(Y102=\"\",\"\",INDEX(referentes!S:T,MATCH(Y102,referentes!$T:$T,0),1))","v":""},{"$f":"IF(BO102=\"\",\"\",INDEX(referentes!J:K,MATCH(BO102,referentes!$K:$K,0),1))","v":""},{"$f":"IF(BJ102=\"\",\"\",INDEX(referentes!V:W,MATCH(BJ102,referentes!$W:$W,0),1))","v":""},{"$f":"IF(BK102=\"\",\"\",INDEX(referentes!Y:Z,MATCH(BK102,referentes!$Z:$Z,0),1))","v":""},{"$f":"IF(BL102=\"\",\"\",INDEX(referentes!AB:AC,MATCH(BL102,referentes!$AC:$AC,0),1))","v":""},{"$f":"IF(BM102=\"\",\"\",INDEX(referentes!AE:AF,MATCH(BM102,referentes!$AF:$AF,0),1))","v":""},{"$f":"IF(BB102=\"\",\"\",INDEX(referentes!M:N,MATCH(BB102,referentes!$N:$N,0),1))","v":""},{"$f":"IF(BQ102=\"\",\"\",INDEX('Otras referencias'!S:T,MATCH(BQ102,'Otras referencias'!$T:$T,0),1))","v":""},{"$f":"IF(BN102=\"\",\"\",INDEX('Otras referencias'!A:B,MATCH(BN102,'Otras referencias'!$B:$B,0),1))","v":""},""]
[{"$f":"IF(CJ103=CJ102,A102,A102+1)","v":1},"",{"$f":"IF(E103<>\"\",CONCATENATE(DIGITADOR!$M$1,TEXT(D103, \"YYYYMMDD\"),ROW()-5),\"\")","v":""},null,null,"",{"$f":"IF(H103=\"\",\"\",INDEX(referentes!AQ:AR,MATCH(H103,referentes!$AR:$AR,0),1))","v":""},null,{"$f":"IF(J103=\"\",\"\",VLOOKUP(J103,referentes!$AL$2:$AO$29,3,FALSE))","v":""},null,null,null,null,null,null,null,null,null,null,null,null,{"$f":"IF(W103=\"\",\"\",IF(W103=W102,B102,B102+1))","v":""},null,null,null,null,null,null,null,null,null,null,null,null,null,null,null,null,null,null,null,null,null,null,null,null,null,{"$f":"IF(AW103=\"\",\"\",DIGITADOR!$B$14)","v":""},"",null,null,null,"",null,null,null,null,null,null,null,null,null,null,null,null,null,null,null,null,null,null,"",{"$f":"IF(C103=\"\",\"\",IF(COUNTIF($C$6:C103, C103)>1, \"\", C103))","v":""},{"$f":"IF(N103=\"\",\"\",INDEX(referentes!P:Q,MATCH(N103,referentes!$Q:$Q,0),1))","v":""},{"$f":"IF(O103=\"\",\"\",INDEX(referentes!$A:$B,MATCH(O103,referentes!$B:$B,0),1))","v":""},{"$f":"IF(S103=\"\",\"\",INDEX(referentes!D:E,MATCH(S103,referentes!$E:$E,0),1))","v":""},{"$f":"IF(T103=\"\",\"\",INDEX(referentes!G:H,MATCH(T103,referentes!$H:$H,0),1))","v":""},"",{"$f":"IF(Y103=\"\",\"\",INDEX(referentes!S:T,MATCH(Y103,referentes!$T:$T,0),1))","v":""},{"$f":"IF(BO103=\"\",\"\",INDEX(referentes!J:K,MATCH(BO103,referentes!$K:$K,0),1))","v":""},{"$f":"IF(BJ103=\"\",\"\",INDEX(referentes!V:W,MATCH(BJ103,referentes!$W:$W,0),1))","v":""},{"$f":"IF(BK103=\"\",\"\",INDEX(referentes!Y:Z,MATCH(BK103,referentes!$Z:$Z,0),1))","v":""},{"$f":"IF(BL103=\"\",\"\",INDEX(referentes!AB:AC,MATCH(BL103,referentes!$AC:$AC,0),1))","v":""},{"$f":"IF(BM103=\"\",\"\",INDEX(referentes!AE:AF,MATCH(BM103,referentes!$AF:$AF,0),1))","v":""},{"$f":"IF(BB103=\"\",\"\",INDEX(referentes!M:N,MATCH(BB103,referentes!$N:$N,0),1))","v":""},{"$f":"IF(BQ103=\"\",\"\",INDEX('Otras referencias'!S:T,MATCH(BQ103,'Otras referencias'!$T:$T,0),1))","v":""},{"$f":"IF(BN103=\"\",\"\",INDEX('Otras referencias'!A:B,MATCH(BN103,'Otras referencias'!$B:$B,0),1))","v":""},""]
[1,"",{"$f":"IF(E104<>\"\",CONCATENATE(DIGITADOR!$M$1,TEXT(D104, \"YYYYMMDD\"),ROW()-5),\"\")","v":""},null,null,"",{"$f":"IF(H104=\"\",\"\",INDEX(referentes!AQ:AR,MATCH(H104,referentes!$AR:$AR,0),1))","v":""},null,{"$f":"IF(J104=\"\",\"\",VLOOKUP(J104,referentes!$AL$2:$AO$29,3,FALSE))","v":""},null,null,null,null,null,null,null,null,null,null,null,null,"",null,null,null,null,null,null,null,null,null,null,null,null,null,null,null,null,null,null,null,null,null,null,null,null,null,{"$f":"IF(AW104=\"\",\"\",DIGITADOR!$B$14)","v":""},"",null,null,null,"",null,null,null,null,null,null,null,null,null,null,null,null,null,null,null,null,null,null,"",{"$f":"IF(C104=\"\",\"\",IF(COUNTIF($C$6:C104, C104)>1, \"\", C104))","v":""},{"$f":"IF(N104=\"\",\"\",INDEX(referentes!P:Q,MATCH(N104,referentes!$Q:$Q,0),1))","v":""},{"$f":"IF(O104=\"\",\"\",INDEX(referentes!$A:$B,MATCH(O104,referentes!$B:$B,0),1))","v":""},{"$f":"IF(S104=\"\",\"\",INDEX(referentes!D:E,MATCH(S104,referentes!$E:$E,0),1))","v":""},{"$f":"IF(T104=\"\",\"\",INDEX(referentes!G:H,MATCH(T104,referentes!$H:$H,0),1))","v":""},"",{"$f":"IF(Y104=\"\",\"\",INDEX(referentes!S:T,MATCH(Y104,referentes!$T:$T,0),1))","v":""},{"$f":"IF(BO104=\"\",\"\",INDEX(referentes!J:K,MATCH(BO104,referentes!$K:$K,0),1))","v":""},{"$f":"IF(BJ104=\"\",\"\",INDEX(referentes!V:W,MATCH(BJ104,referentes!$W:$W,0),1))","v":""},{"$f":"IF(BK104=\"\",\"\",INDEX(referentes!Y:Z,MATCH(BK104,referentes!$Z:$Z,0),1))","v":""},{"$f":"IF(BL104=\"\",\"\",INDEX(referentes!AB:AC,MATCH(BL104,referentes!$AC:$AC,0),1))","v":""},{"$f":"IF(BM104=\"\",\"\",INDEX(referentes!AE:AF,MATCH(BM104,referentes!$AF:$AF,0),1))","v":""},{"$f":"IF(BB104=\"\",\"\",INDEX(referentes!M:N,MATCH(BB104,referentes!$N:$N,0),1))","v":""},{"$f":"IF(BQ104=\"\",\"\",INDEX('Otras referencias'!S:T,MATCH(BQ104,'Otras referencias'!$T:$T,0),1))","v":""},{"$f":"IF(BN104=\"\",\"\",INDEX('Otras referencias'!A:B,MATCH(BN104,'Otras referencias'!$B:$B,0),1))","v":""},""]
[1,"",{"$f":"IF(E105<>\"\",CONCATENATE(DIGITADOR!$M$1,TEXT(D105, \"YYYYMMDD\"),ROW()-5),\"\")","v":""},null,null,"",{"$f":"IF(H105=\"\",\"\",INDEX(referentes!AQ:AR,MATCH(H105,referentes!$AR:$AR,0),1))","v":""},null,{"$f":"IF(J105=\"\",\"\",VLOOKUP(J105,referentes!$AL$2:$AO$29,3,FALSE))","v":""},null,null,null,null,null,null,null,null,null,null,null,null,"",null,null,null,null,null,null,null,null,null,null,null,null,null,null,null,null,null,null,null,null,null,null,null,null,null,{"$f":"IF(AW105=\"\",\"\",DIGITADOR!$B$14)","v":""},"",null,null,null,"",null,null,null,null,null,null,null,null,null,null,null,null,null,null,null,null,null,null,"",{"$f":"IF(C105=\"\",\"\",IF(COUNTIF($C$6:C105, C105)>1, \"\", C105))","v":""},{"$f":"IF(N105=\"\",\"\",INDEX(referentes!P:Q,MATCH(N105,referentes!$Q:$Q,0),1))","v":""},{"$f":"IF(O105=\"\",\"\",INDEX(referentes!$A:$B,MATCH(O105,referentes!$B:$B,0),1))","v":""},{"$f":"IF(S105=\"\",\"\",INDEX(referentes!D:E,MATCH(S105,referentes!$E:$E,0),1))","v":""},{"$f":"IF(T105=\"\",\"\",INDEX(referentes!G:H,MATCH(T105,referentes!$H:$H,0),1))","v":""},"",{"$f":"IF(Y105=\"\",\"\",INDEX(referentes!S:T,MATCH(Y105,referentes!$T:$T,0),1))","v":""},{"$f":"IF(BO105=\"\",\"\",INDEX(referentes!J:K,MATCH(BO105,referentes!$K:$K,0),1))","v":""},{"$f":"IF(BJ105=\"\",\"\",INDEX(referentes!V:W,MATCH(BJ105,referentes!$W:$W,0),1))","v":""},{"$f":"IF(BK105=\"\",\"\",INDEX(referentes!Y:Z,MATCH(BK105,referentes!$Z:$Z,0),1))","v":""},{"$f":"IF(BL105=\"\",\"\",INDEX(referentes!AB:AC,MATCH(BL105,referentes!$AC:$AC,0),1))","v":""},{"$f":"IF(BM105=\"\",\"\",INDEX(referentes!AE:AF,MATCH(BM105,referentes!$AF:$AF,0),1))","v":""},{"$f":"IF(BB105=\"\",\"\",INDEX(referentes!M:N,MATCH(BB105,referentes!$N:$N,0),1))","v":""},{"$f":"IF(BQ105=\"\",\"\",INDEX('Otras referencias'!S:T,MATCH(BQ105,'Otras referencias'!$T:$T,0),1))","v":""},{"$f":"IF(BN105=\"\",\"\",INDEX('Otras referencias'!A:B,MATCH(BN105,'Otras referencias'!$B:$B,0),1))","v":""},""]
[1,"",{"$f":"IF(E106<>\"\",CONCATENATE(DIGITADOR!$M$1,TEXT(D106, \"YYYYMMDD\"),ROW()-5),\"\")","v":""},null,null,"",{"$f":"IF(H106=\"\",\"\",INDEX(referentes!AQ:AR,MATCH(H106,referentes!$AR:$AR,0),1))","v":""},null,{"$f":"IF(J106=\"\",\"\",VLOOKUP(J106,referentes!$AL$2:$AO$29,3,FALSE))","v":""},null,null,null,null,null,null,null,null,null,null,null,null,"",null,null,null,null,null,null,null,null,null,null,null,null,null,null,null,null,null,null,null,null,null,null,null,null,null,{"$f":"IF(AW106=\"\",\"\",DIGITADOR!$B$14)","v":""},"",null,null,null,"",null,null,null,null,null,null,null,null,null,null,null,null,null,null,null,null,null,null,"",{"$f":"IF(C106=\"\",\"\",IF(COUNTIF($C$6:C106, C106)>1, \"\", C106))","v":""},{"$f":"IF(N106=\"\",\"\",INDEX(referentes!P:Q,MATCH(N106,referentes!$Q:$Q,0),1))","v":""},{"$f":"IF(O106=\"\",\"\",INDEX(referentes!$A:$B,MATCH(O106,referentes!$B:$B,0),1))","v":""},{"$f":"IF(S106=\"\",\"\",INDEX(referentes!D:E,MATCH(S106,referentes!$E:$E,0),1))","v":""},{"$f":"IF(T106=\"\",\"\",INDEX(referentes!G:H,MATCH(T106,referentes!$H:$H,0),1))","v":""},"",{"$f":"IF(Y106=\"\",\"\",INDEX(referentes!S:T,MATCH(Y106,referentes!$T:$T,0),1))","v":""},{"$f":"IF(BO106=\"\",\"\",INDEX(referentes!J:K,MATCH(BO106,referentes!$K:$K,0),1))","v":""},{"$f":"IF(BJ106=\"\",\"\",INDEX(referentes!V:W,MATCH(BJ106,referentes!$W:$W,0),1))","v":""},{"$f":"IF(BK106=\"\",\"\",INDEX(referentes!Y:Z,MATCH(BK106,referentes!$Z:$Z,0),1))","v":""},{"$f":"IF(BL106=\"\",\"\",INDEX(referentes!AB:AC,MATCH(BL106,referentes!$AC:$AC,0),1))","v":""},{"$f":"IF(BM106=\"\",\"\",INDEX(referentes!AE:AF,MATCH(BM106,referentes!$AF:$AF,0),1))","v":""},{"$f":"IF(BB106=\"\",\"\",INDEX(referentes!M:N,MATCH(BB106,referentes!$N:$N,0),1))","v":""},{"$f":"IF(BQ106=\"\",\"\",INDEX('Otras referencias'!S:T,MATCH(BQ106,'Otras referencias'!$T:$T,0),1))","v":""},{"$f":"IF(BN106=\"\",\"\",INDEX('Otras referencias'!A:B,MATCH(BN106,'Otras referencias'!$B:$B,0),1))","v":""},""]
[1,"",{"$f":"IF(E107<>\"\",CONCATENATE(DIGITADOR!$M$1,TEXT(D107, \"YYYYMMDD\"),ROW()-5),\"\")","v":""},null,null,"",{"$f":"IF(H107=\"\",\"\",INDEX(referentes!AQ:AR,MATCH(H107,referentes!$AR:$AR,0),1))","v":""},null,{"$f":"IF(J107=\"\",\"\",VLOOKUP(J107,referentes!$AL$2:$AO$29,3,FALSE))","v":""},null,null,null,null,null,null,null,null,null,null,null,null,"",null,null,null,null,null,null,null,null,null,null,null,null,null,null,null,null,null,null,null,null,null,null,null,null,null,{"$f":"IF(AW107=\"\",\"\",DIGITADOR!$B$14)","v":""},"",null,null,null,"",null,null,null,null,null,null,null,null,null,null,null,null,null,null,null,null,null,null,"",{"$f":"IF(C107=\"\",\"\",IF(COUNTIF($C$6:C107, C107)>1, \"\", C107))","v":""},{"$f":"IF(N107=\"\",\"\",INDEX(referentes!P:Q,MATCH(N107,referentes!$Q:$Q,0),1))","v":""},{"$f":"IF(O107=\"\",\"\",INDEX(referentes!$A:$B,MATCH(O107,referentes!$B:$B,0),1))","v":""},{"$f":"IF(S107=\"\",\"\",INDEX(referentes!D:E,MATCH(S107,referentes!$E:$E,0),1))","v":""},{"$f":"IF(T107=\"\",\"\",INDEX(referentes!G:H,MATCH(T107,referentes!$H:$H,0),1))","v":""},"",{"$f":"IF(Y107=\"\",\"\",INDEX(referentes!S:T,MATCH(Y107,referentes!$T:$T,0),1))","v":""},{"$f":"IF(BO107=\"\",\"\",INDEX(referentes!J:K,MATCH(BO107,referentes!$K:$K,0),1))","v":""},{"$f":"IF(BJ107=\"\",\"\",INDEX(referentes!V:W,MATCH(BJ107,referentes!$W:$W,0),1))","v":""},{"$f":"IF(BK107=\"\",\"\",INDEX(referentes!Y:Z,MATCH(BK107,referentes!$Z:$Z,0),1))","v":""},{"$f":"IF(BL107=\"\",\"\",INDEX(referentes!AB:AC,MATCH(BL107,referentes!$AC:$AC,0),1))","v":""},{"$f":"IF(BM107=\"\",\"\",INDEX(referentes!AE:AF,MATCH(BM107,referentes!$AF:$AF,0),1))","v":""},{"$f":"IF(BB107=\"\",\"\",INDEX(referentes!M:N,MATCH(BB107,referentes!$N:$N,0),1))","v":""},{"$f":"IF(BQ107=\"\",\"\",INDEX('Otras referencias'!S:T,MATCH(BQ107,'Otras referencias'!$T:$T,0),1))","v":""},{"$f":"IF(BN107=\"\",\"\",INDEX('Otras referencias'!A:B,MATCH(BN107,'Otras referencias'!$B:$B,0),1))","v":""},""]
[1,"",{"$f":"IF(E108<>\"\",CONCATENATE(DIGITADOR!$M$1,TEXT(D108, \"YYYYMMDD\"),ROW()-5),\"\")","v":""},null,null,"",{"$f":"IF(H108=\"\",\"\",INDEX(referentes!AQ:AR,MATCH(H108,referentes!$AR:$AR,0),1))","v":""},null,{"$f":"IF(J108=\"\",\"\",VLOOKUP(J108,referentes!$AL$2:$AO$29,3,FALSE))","v":""},null,null,null,null,null,null,null,null,null,null,null,null,"",null,null,null,null,null,null,null,null,null,null,null,null,null,null,null,null,null,null,null,null,null,null,null,null,null,{"$f":"IF(AW108=\"\",\"\",DIGITADOR!$B$14)","v":""},"",null,null,null,"",null,null,null,null,null,null,null,null,null,null,null,null,null,null,null,null,null,null,"",{"$f":"IF(C108=\"\",\"\",IF(COUNTIF($C$6:C108, C108)>1, \"\", C108))","v":""},{"$f":"IF(N108=\"\",\"\",INDEX(referentes!P:Q,MATCH(N108,referentes!$Q:$Q,0),1))","v":""},{"$f":"IF(O108=\"\",\"\",INDEX(referentes!$A:$B,MATCH(O108,referentes!$B:$B,0),1))","v":""},{"$f":"IF(S108=\"\",\"\",INDEX(referentes!D:E,MATCH(S108,referentes!$E:$E,0),1))","v":""},{"$f":"IF(T108=\"\",\"\",INDEX(referentes!G:H,MATCH(T108,referentes!$H:$H,0),1))","v":""},"",{"$f":"IF(Y108=\"\",\"\",INDEX(referentes!S:T,MATCH(Y108,referentes!$T:$T,0),1))","v":""},{"$f":"IF(BO108=\"\",\"\",INDEX(referentes!J:K,MATCH(BO108,referentes!$K:$K,0),1))","v":""},{"$f":"IF(BJ108=\"\",\"\",INDEX(referentes!V:W,MATCH(BJ108,referentes!$W:$W,0),1))","v":""},{"$f":"IF(BK108=\"\",\"\",INDEX(referentes!Y:Z,MATCH(BK108,referentes!$Z:$Z,0),1))","v":""},{"$f":"IF(BL108=\"\",\"\",INDEX(referentes!AB:AC,MATCH(BL108,referentes!$AC:$AC,0),1))","v":""},{"$f":"IF(BM108=\"\",\"\",INDEX(referentes!AE:AF,MATCH(BM108,referentes!$AF:$AF,0),1))","v":""},{"$f":"IF(BB108=\"\",\"\",INDEX(referentes!M:N,MATCH(BB108,referentes!$N:$N,0),1))","v":""},{"$f":"IF(BQ108=\"\",\"\",INDEX('Otras referencias'!S:T,MATCH(BQ108,'Otras referencias'!$T:$T,0),1))","v":""},{"$f":"IF(BN108=\"\",\"\",INDEX('Otras referencias'!A:B,MATCH(BN108,'Otras referencias'!$B:$B,0),1))","v":""},""]
[1,"",{"$f":"IF(E109<>\"\",CONCATENATE(DIGITADOR!$M$1,TEXT(D109, \"YYYYMMDD\"),ROW()-5),\"\")","v":""},null,null,"",{"$f":"IF(H109=\"\",\"\",INDEX(referentes!AQ:AR,MATCH(H109,referentes!$AR:$AR,0),1))","v":""},null,{"$f":"IF(J109=\"\",\"\",VLOOKUP(J109,referentes!$AL$2:$AO$29,3,FALSE))","v":""},null,null,null,null,null,null,null,null,null,null,null,null,"",null,null,null,null,null,null,null,null,null,null,null,null,null,null,null,null,null,null,null,null,null,null,null,null,null,{"$f":"IF(AW109=\"\",\"\",DIGITADOR!$B$14)","v":""},"",null,null,null,"",null,null,null,null,null,null,null,null,null,null,null,null,null,null,null,null,null,null,"",{"$f":"IF(C109=\"\",\"\",IF(COUNTIF($C$6:C109, C109)>1, \"\", C109))","v":""},{"$f":"IF(N109=\"\",\"\",INDEX(referentes!P:Q,MATCH(N109,referentes!$Q:$Q,0),1))","v":""},{"$f":"IF(O109=\"\",\"\",INDEX(referentes!$A:$B,MATCH(O109,referentes!$B:$B,0),1))","v":""},{"$f":"IF(S109=\"\",\"\",INDEX(referentes!D:E,MATCH(S109,referentes!$E:$E,0),1))","v":""},{"$f":"IF(T109=\"\",\"\",INDEX(referentes!G:H,MATCH(T109,referentes!$H:$H,0),1))","v":""},"",{"$f":"IF(Y109=\"\",\"\",INDEX(referentes!S:T,MATCH(Y109,referentes!$T:$T,0),1))","v":""},{"$f":"IF(BO109=\"\",\"\",INDEX(referentes!J:K,MATCH(BO109,referentes!$K:$K,0),1))","v":""},{"$f":"IF(BJ109=\"\",\"\",INDEX(referentes!V:W,MATCH(BJ109,referentes!$W:$W,0),1))","v":""},{"$f":"IF(BK109=\"\",\"\",INDEX(referentes!Y:Z,MATCH(BK109,referentes!$Z:$Z,0),1))","v":""},{"$f":"IF(BL109=\"\",\"\",INDEX(referentes!AB:AC,MATCH(BL109,referentes!$AC:$AC,0),1))","v":""},{"$f":"IF(BM109=\"\",\"\",INDEX(referentes!AE:AF,MATCH(BM109,referentes!$AF:$AF,0),1))","v":""},{"$f":"IF(BB109=\"\",\"\",INDEX(referentes!M:N,MATCH(BB109,referentes!$N:$N,0),1))","v":""},{"$f":"IF(BQ109=\"\",\"\",INDEX('Otras referencias'!S:T,MATCH(BQ109,'Otras referencias'!$T:$T,0),1))","v":""},{"$f":"IF(BN109=\"\",\"\",INDEX('Otras referencias'!A:B,MATCH(BN109,'Otras referencias'!$B:$B,0),1))","v":""},""]
[1,"",{"$f":"IF(E110<>\"\",CONCATENATE(DIGITADOR!$M$1,TEXT(D110, \"YYYYMMDD\"),ROW()-5),\"\")","v":""},null,null,"",{"$f":"IF(H110=\"\",\"\",INDEX(referentes!AQ:AR,MATCH(H110,referentes!$AR:$AR,0),1))","v":""},null,{"$f":"IF(J110=\"\",\"\",VLOOKUP(J110,referentes!$AL$2:$AO$29,3,FALSE))","v":""},null,null,null,null,null,null,null,null,null,null,null,null,"",null,null,null,null,null,null,null,null,null,null,null,null,null,null,null,null,null,null,null,null,null,null,null,null,null,{"$f":"IF(AW110=\"\",\"\",DIGITADOR!$B$14)","v":""},"",null,null,null,"",null,null,null,null,null,null,null,null,null,null,null,null,null,null,null,null,null,null,"",{"$f":"IF(C110=\"\",\"\",IF(COUNTIF($C$6:C110, C110)>1, \"\", C110))","v":""},{"$f":"IF(N110=\"\",\"\",INDEX(referentes!P:Q,MATCH(N110,referentes!$Q:$Q,0),1))","v":""},{"$f":"IF(O110=\"\",\"\",INDEX(referentes!$A:$B,MATCH(O110,referentes!$B:$B,0),1))","v":""},{"$f":"IF(S110=\"\",\"\",INDEX(referentes!D:E,MATCH(S110,referentes!$E:$E,0),1))","v":""},{"$f":"IF(T110=\"\",\"\",INDEX(referentes!G:H,MATCH(T110,referentes!$H:$H,0),1))","v":""},"",{"$f":"IF(Y110=\"\",\"\",INDEX(referentes!S:T,MATCH(Y110,referentes!$T:$T,0),1))","v":""},{"$f":"IF(BO110=\"\",\"\",INDEX(referentes!J:K,MATCH(BO110,referentes!$K:$K,0),1))","v":""},{"$f":"IF(BJ110=\"\",\"\",INDEX(referentes!V:W,MATCH(BJ110,referentes!$W:$W,0),1))","v":""},{"$f":"IF(BK110=\"\",\"\",INDEX(referentes!Y:Z,MATCH(BK110,referentes!$Z:$Z,0),1))","v":""},{"$f":"IF(BL110=\"\",\"\",INDEX(referentes!AB:AC,MATCH(BL110,referentes!$AC:$AC,0),1))","v":""},{"$f":"IF(BM110=\"\",\"\",INDEX(referentes!AE:AF,MATCH(BM110,referentes!$AF:$AF,0),1))","v":""},{"$f":"IF(BB110=\"\",\"\",INDEX(referentes!M:N,MATCH(BB110,referentes!$N:$N,0),1))","v":""},{"$f":"IF(BQ110=\"\",\"\",INDEX('Otras referencias'!S:T,MATCH(BQ110,'Otras referencias'!$T:$T,0),1))","v":""},{"$f":"IF(BN110=\"\",\"\",INDEX('Otras referencias'!A:B,MATCH(BN110,'Otras referencias'!$B:$B,0),1))","v":""},""]
[1,"",{"$f":"IF(E111<>\"\",CONCATENATE(DIGITADOR!$M$1,TEXT(D111, \"YYYYMMDD\"),ROW()-5),\"\")","v":""},null,null,"",{"$f":"IF(H111=\"\",\"\",INDEX(referentes!AQ:AR,MATCH(H111,referentes!$AR:$AR,0),1))","v":""},null,{"$f":"IF(J111=\"\",\"\",VLOOKUP(J111,referentes!$AL$2:$AO$29,3,FALSE))","v":""},null,null,null,null,null,null,null,null,null,null,null,null,"",null,null,null,null,null,null,null,null,null,null,null,null,null,null,null,null,null,null,null,null,null,null,null,null,null,{"$f":"IF(AW111=\"\",\"\",DIGITADOR!$B$14)","v":""},"",null,null,null,"",null,null,null,null,null,null,null,null,null,null,null,null,null,null,null,null,null,null,"",{"$f":"IF(C111=\"\",\"\",IF(COUNTIF($C$6:C111, C111)>1, \"\", C111))","v":""},{"$f":"IF(N111=\"\",\"\",INDEX(referentes!P:Q,MATCH(N111,referentes!$Q:$Q,0),1))","v":""},{"$f":"IF(O111=\"\",\"\",INDEX(referentes!$A:$B,MATCH(O111,referentes!$B:$B,0),1))","v":""},{"$f":"IF(S111=\"\",\"\",INDEX(referentes!D:E,MATCH(S111,referentes!$E:$E,0),1))","v":""},{"$f":"IF(T111=\"\",\"\",INDEX(referentes!G:H,MATCH(T111,referentes!$H:$H,0),1))","v":""},"",{"$f":"IF(Y111=\"\",\"\",INDEX(referentes!S:T,MATCH(Y111,referentes!$T:$T,0),1))","v":""},{"$f":"IF(BO111=\"\",\"\",INDEX(referentes!J:K,MATCH(BO111,referentes!$K:$K,0),1))","v":""},{"$f":"IF(BJ111=\"\",\"\",INDEX(referentes!V:W,MATCH(BJ111,referentes!$W:$W,0),1))","v":""},{"$f":"IF(BK111=\"\",\"\",INDEX(referentes!Y:Z,MATCH(BK111,referentes!$Z:$Z,0),1))","v":""},{"$f":"IF(BL111=\"\",\"\",INDEX(referentes!AB:AC,MATCH(BL111,referentes!$AC:$AC,0),1))","v":""},{"$f":"IF(BM111=\"\",\"\",INDEX(referentes!AE:AF,MATCH(BM111,referentes!$AF:$AF,0),1))","v":""},{"$f":"IF(BB111=\"\",\"\",INDEX(referentes!M:N,MATCH(BB111,referentes!$N:$N,0),1))","v":""},{"$f":"IF(BQ111=\"\",\"\",INDEX('Otras referencias'!S:T,MATCH(BQ111,'Otras referencias'!$T:$T,0),1))","v":""},{"$f":"IF(BN111=\"\",\"\",INDEX('Otras referencias'!A:B,MATCH(BN111,'Otras referencias'!$B:$B,0),1))","v":""},""]
[1,"",{"$f":"IF(E112<>\"\",CONCATENATE(DIGITADOR!$M$1,TEXT(D112, \"YYYYMMDD\"),ROW()-5),\"\")","v":""},null,null,"",{"$f":"IF(H112=\"\",\"\",INDEX(referentes!AQ:AR,MATCH(H112,referentes!$AR:$AR,0),1))","v":""},null,{"$f":"IF(J112=\"\",\"\",VLOOKUP(J112,referentes!$AL$2:$AO$29,3,FALSE))","v":""},null,null,null,null,null,null,null,null,null,null,null,null,"",null,null,null,null,null,null,null,null,null,null,null,null,null,null,null,null,null,null,null,null,null,null,null,null,null,{"$f":"IF(AW112=\"\",\"\",DIGITADOR!$B$14)","v":""},"",null,null,null,"",null,null,null,null,null,null,null,null,null,null,null,null,null,null,null,null,null,null,"",{"$f":"IF(C112=\"\",\"\",IF(COUNTIF($C$6:C112, C112)>1, \"\", C112))","v":""},{"$f":"IF(N112=\"\",\"\",INDEX(referentes!P:Q,MATCH(N112,referentes!$Q:$Q,0),1))","v":""},{"$f":"IF(O112=\"\",\"\",INDEX(referentes!$A:$B,MATCH(O112,referentes!$B:$B,0),1))","v":""},{"$f":"IF(S112=\"\",\"\",INDEX(referentes!D:E,MATCH(S112,referentes!$E:$E,0),1))","v":""},{"$f":"IF(T112=\"\",\"\",INDEX(referentes!G:H,MATCH(T112,referentes!$H:$H,0),1))","v":""},"",{"$f":"IF(Y112=\"\",\"\",INDEX(referentes!S:T,MATCH(Y112,referentes!$T:$T,0),1))","v":""},{"$f":"IF(BO112=\"\",\"\",INDEX(referentes!J:K,MATCH(BO112,referentes!$K:$K,0),1))","v":""},{"$f":"IF(BJ112=\"\",\"\",INDEX(referentes!V:W,MATCH(BJ112,referentes!$W:$W,0),1))","v":""},{"$f":"IF(BK112=\"\",\"\",INDEX(referentes!Y:Z,MATCH(BK112,referentes!$Z:$Z,0),1))","v":""},{"$f":"IF(BL112=\"\",\"\",INDEX(referentes!AB:AC,MATCH(BL112,referentes!$AC:$AC,0),1))","v":""},{"$f":"IF(BM112=\"\",\"\",INDEX(referentes!AE:AF,MATCH(BM112,referentes!$AF:$AF,0),1))","v":""},{"$f":"IF(BB112=\"\",\"\",INDEX(referentes!M:N,MATCH(BB112,referentes!$N:$N,0),1))","v":""},{"$f":"IF(BQ112=\"\",\"\",INDEX('Otras referencias'!S:T,MATCH(BQ112,'Otras referencias'!$T:$T,0),1))","v":""},{"$f":"IF(BN112=\"\",\"\",INDEX('Otras referencias'!A:B,MATCH(BN112,'Otras referencias'!$B:$B,0),1))","v":""},""]
[1,"",{"$f":"IF(E113<>\"\",CONCATENATE(DIGITADOR!$M$1,TEXT(D113, \"YYYYMMDD\"),ROW()-5),\"\")","v":""},null,null,"",{"$f":"IF(H113=\"\",\"\",INDEX(referentes!AQ:AR,MATCH(H113,referentes!$AR:$AR,0),1))","v":""},null,{"$f":"IF(J113=\"\",\"\",VLOOKUP(J113,referentes!$AL$2:$AO$29,3,FALSE))","v":""},null,null,null,null,null,null,null,null,null,null,null,null,"",null,null,null,null,null,null,null,null,null,null,null,null,null,null,null,null,null,null,null,null,null,null,null,null,null,{"$f":"IF(AW113=\"\",\"\",DIGITADOR!$B$14)","v":""},"",null,null,null,"",null,null,null,null,null,null,null,null,null,null,null,null,null,null,null,null,null,null,"",{"$f":"IF(C113=\"\",\"\",IF(COUNTIF($C$6:C113, C113)>1, \"\", C113))","v":""},{"$f":"IF(N113=\"\",\"\",INDEX(referentes!P:Q,MATCH(N113,referentes!$Q:$Q,0),1))","v":""},{"$f":"IF(O113=\"\",\"\",INDEX(referentes!$A:$B,MATCH(O113,referentes!$B:$B,0),1))","v":""},{"$f":"IF(S113=\"\",\"\",INDEX(referentes!D:E,MATCH(S113,referentes!$E:$E,0),1))","v":""},{"$f":"IF(T113=\"\",\"\",INDEX(referentes!G:H,MATCH(T113,referentes!$H:$H,0),1))","v":""},"",{"$f":"IF(Y113=\"\",\"\",INDEX(referentes!S:T,MATCH(Y113,referentes!$T:$T,0),1))","v":""},{"$f":"IF(BO113=\"\",\"\",INDEX(referentes!J:K,MATCH(BO113,referentes!$K:$K,0),1))","v":""},{"$f":"IF(BJ113=\"\",\"\",INDEX(referentes!V:W,MATCH(BJ113,referentes!$W:$W,0),1))","v":""},{"$f":"IF(BK113=\"\",\"\",INDEX(referentes!Y:Z,MATCH(BK113,referentes!$Z:$Z,0),1))","v":""},{"$f":"IF(BL113=\"\",\"\",INDEX(referentes!AB:AC,MATCH(BL113,referentes!$AC:$AC,0),1))","v":""},{"$f":"IF(BM113=\"\",\"\",INDEX(referentes!AE:AF,MATCH(BM113,referentes!$AF:$AF,0),1))","v":""},{"$f":"IF(BB113=\"\",\"\",INDEX(referentes!M:N,MATCH(BB113,referentes!$N:$N,0),1))","v":""},{"$f":"IF(BQ113=\"\",\"\",INDEX('Otras referencias'!S:T,MATCH(BQ113,'Otras referencias'!$T:$T,0),1))","v":""},{"$f":"IF(BN113=\"\",\"\",INDEX('Otras referencias'!A:B,MATCH(BN113,'Otras referencias'!$B:$B,0),1))","v":""},""]
[1,"",{"$f":"IF(E114<>\"\",CONCATENATE(DIGITADOR!$M$1,TEXT(D114, \"YYYYMMDD\"),ROW()-5),\"\")","v":""},null,null,"",{"$f":"IF(H114=\"\",\"\",INDEX(referentes!AQ:AR,MATCH(H114,referentes!$AR:$AR,0),1))","v":""},null,{"$f":"IF(J114=\"\",\"\",VLOOKUP(J114,referentes!$AL$2:$AO$29,3,FALSE))","v":""},null,null,null,null,null,null,null,null,null,null,null,null,"",null,null,null,null,null,null,null,null,null,null,null,null,null,null,null,null,null,null,null,null,null,null,null,null,null,{"$f":"IF(AW114=\"\",\"\",DIGITADOR!$B$14)","v":""},"",null,null,null,"",null,null,null,null,null,null,null,null,null,null,null,null,null,null,null,null,null,null,"",{"$f":"IF(C114=\"\",\"\",IF(COUNTIF($C$6:C114, C114)>1, \"\", C114))","v":""},{"$f":"IF(N114=\"\",\"\",INDEX(referentes!P:Q,MATCH(N114,referentes!$Q:$Q,0),1))","v":""},{"$f":"IF(O114=\"\",\"\",INDEX(referentes!$A:$B,MATCH(O114,referentes!$B:$B,0),1))","v":""},{"$f":"IF(S114=\"\",\"\",INDEX(referentes!D:E,MATCH(S114,referentes!$E:$E,0),1))","v":""},{"$f":"IF(T114=\"\",\"\",INDEX(referentes!G:H,MATCH(T114,referentes!$H:$H,0),1))","v":""},"",{"$f":"IF(Y114=\"\",\"\",INDEX(referentes!S:T,MATCH(Y114,referentes!$T:$T,0),1))","v":""},{"$f":"IF(BO114=\"\",\"\",INDEX(referentes!J:K,MATCH(BO114,referentes!$K:$K,0),1))","v":""},{"$f":"IF(BJ114=\"\",\"\",INDEX(referentes!V:W,MATCH(BJ114,referentes!$W:$W,0),1))","v":""},{"$f":"IF(BK114=\"\",\"\",INDEX(referentes!Y:Z,MATCH(BK114,referentes!$Z:$Z,0),1))","v":""},{"$f":"IF(BL114=\"\",\"\",INDEX(referentes!AB:AC,MATCH(BL114,referentes!$AC:$AC,0),1))","v":""},{"$f":"IF(BM114=\"\",\"\",INDEX(referentes!AE:AF,MATCH(BM114,referentes!$AF:$AF,0),1))","v":""},{"$f":"IF(BB114=\"\",\"\",INDEX(referentes!M:N,MATCH(BB114,referentes!$N:$N,0),1))","v":""},{"$f":"IF(BQ114=\"\",\"\",INDEX('Otras referencias'!S:T,MATCH(BQ114,'Otras referencias'!$T:$T,0),1))","v":""},{"$f":"IF(BN114=\"\",\"\",INDEX('Otras referencias'!A:B,MATCH(BN114,'Otras referencias'!$B:$B,0),1))","v":""},""]
[1,"",{"$f":"IF(E115<>\"\",CONCATENATE(DIGITADOR!$M$1,TEXT(D115, \"YYYYMMDD\"),ROW()-5),\"\")","v":""},null,null,"",{"$f":"IF(H115=\"\",\"\",INDEX(referentes!AQ:AR,MATCH(H115,referentes!$AR:$AR,0),1))","v":""},null,{"$f":"IF(J115=\"\",\"\",VLOOKUP(J115,referentes!$AL$2:$AO$29,3,FALSE))","v":""},null,null,null,null,null,null,null,null,null,null,null,null,"",null,null,null,null,null,null,null,null,null,null,null,null,null,null,null,null,null,null,null,null,null,null,null,null,null,{"$f":"IF(AW115=\"\",\"\",DIGITADOR!$B$14)","v":""},"",null,null,null,"",null,null,null,null,null,null,null,null,null,null,null,null,null,null,null,null,null,null,"",{"$f":"IF(C115=\"\",\"\",IF(COUNTIF($C$6:C115, C115)>1, \"\", C115))","v":""},{"$f":"IF(N115=\"\",\"\",INDEX(referentes!P:Q,MATCH(N115,referentes!$Q:$Q,0),1))","v":""},{"$f":"IF(O115=\"\",\"\",INDEX(referentes!$A:$B,MATCH(O115,referentes!$B:$B,0),1))","v":""},{"$f":"IF(S115=\"\",\"\",INDEX(referentes!D:E,MATCH(S115,referentes!$E:$E,0),1))","v":""},{"$f":"IF(T115=\"\",\"\",INDEX(referentes!G:H,MATCH(T115,referentes!$H:$H,0),1))","v":""},"",{"$f":"IF(Y115=\"\",\"\",INDEX(referentes!S:T,MATCH(Y115,referentes!$T:$T,0),1))","v":""},{"$f":"IF(BO115=\"\",\"\",INDEX(referentes!J:K,MATCH(BO115,referentes!$K:$K,0),1))","v":""},{"$f":"IF(BJ115=\"\",\"\",INDEX(referentes!V:W,MATCH(BJ115,referentes!$W:$W,0),1))","v":""},{"$f":"IF(BK115=\"\",\"\",INDEX(referentes!Y:Z,MATCH(BK115,referentes!$Z:$Z,0),1))","v":""},{"$f":"IF(BL115=\"\",\"\",INDEX(referentes!AB:AC,MATCH(BL115,referentes!$AC:$AC,0),1))","v":""},{"$f":"IF(BM115=\"\",\"\",INDEX(referentes!AE:AF,MATCH(BM115,referentes!$AF:$AF,0),1))","v":""},{"$f":"IF(BB115=\"\",\"\",INDEX(referentes!M:N,MATCH(BB115,referentes!$N:$N,0),1))","v":""},{"$f":"IF(BQ115=\"\",\"\",INDEX('Otras referencias'!S:T,MATCH(BQ115,'Otras referencias'!$T:$T,0),1))","v":""},{"$f":"IF(BN115=\"\",\"\",INDEX('Otras referencias'!A:B,MATCH(BN115,'Otras referencias'!$B:$B,0),1))","v":""},""]
[1,"",{"$f":"IF(E116<>\"\",CONCATENATE(DIGITADOR!$M$1,TEXT(D116, \"YYYYMMDD\"),ROW()-5),\"\")","v":""},null,null,"",{"$f":"IF(H116=\"\",\"\",INDEX(referentes!AQ:AR,MATCH(H116,referentes!$AR:$AR,0),1))","v":""},null,{"$f":"IF(J116=\"\",\"\",VLOOKUP(J116,referentes!$AL$2:$AO$29,3,FALSE))","v":""},null,null,null,null,null,null,null,null,null,null,null,null,"",null,null,null,null,null,null,null,null,null,null,null,null,null,null,null,null,null,null,null,null,null,null,null,null,null,{"$f":"IF(AW116=\"\",\"\",DIGITADOR!$B$14)","v":""},"",null,null,null,"",null,null,null,null,null,null,null,null,null,null,null,null,null,null,null,null,null,null,"",{"$f":"IF(C116=\"\",\"\",IF(COUNTIF($C$6:C116, C116)>1, \"\", C116))","v":""},{"$f":"IF(N116=\"\",\"\",INDEX(referentes!P:Q,MATCH(N116,referentes!$Q:$Q,0),1))","v":""},{"$f":"IF(O116=\"\",\"\",INDEX(referentes!$A:$B,MATCH(O116,referentes!$B:$B,0),1))","v":""},{"$f":"IF(S116=\"\",\"\",INDEX(referentes!D:E,MATCH(S116,referentes!$E:$E,0),1))","v":""},{"$f":"IF(T116=\"\",\"\",INDEX(referentes!G:H,MATCH(T116,referentes!$H:$H,0),1))","v":""},"",{"$f":"IF(Y116=\"\",\"\",INDEX(referentes!S:T,MATCH(Y116,referentes!$T:$T,0),1))","v":""},{"$f":"IF(BO116=\"\",\"\",INDEX(referentes!J:K,MATCH(BO116,referentes!$K:$K,0),1))","v":""},{"$f":"IF(BJ116=\"\",\"\",INDEX(referentes!V:W,MATCH(BJ116,referentes!$W:$W,0),1))","v":""},{"$f":"IF(BK116=\"\",\"\",INDEX(referentes!Y:Z,MATCH(BK116,referentes!$Z:$Z,0),1))","v":""},{"$f":"IF(BL116=\"\",\"\",INDEX(referentes!AB:AC,MATCH(BL116,referentes!$AC:$AC,0),1))","v":""},{"$f":"IF(BM116=\"\",\"\",INDEX(referentes!AE:AF,MATCH(BM116,referentes!$AF:$AF,0),1))","v":""},{"$f":"IF(BB116=\"\",\"\",INDEX(referentes!M:N,MATCH(BB116,referentes!$N:$N,0),1))","v":""},{"$f":"IF(BQ116=\"\",\"\",INDEX('Otras referencias'!S:T,MATCH(BQ116,'Otras referencias'!$T:$T,0),1))","v":""},{"$f":"IF(BN116=\"\",\"\",INDEX('Otras referencias'!A:B,MATCH(BN116,'Otras referencias'!$B:$B,0),1))","v":""},""]
[1,"",{"$f":"IF(E117<>\"\",CONCATENATE(DIGITADOR!$M$1,TEXT(D117, \"YYYYMMDD\"),ROW()-5),\"\")","v":""},null,null,"",{"$f":"IF(H117=\"\",\"\",INDEX(referentes!AQ:AR,MATCH(H117,referentes!$AR:$AR,0),1))","v":""},null,{"$f":"IF(J117=\"\",\"\",VLOOKUP(J117,referentes!$AL$2:$AO$29,3,FALSE))","v":""},null,null,null,null,null,null,null,null,null,null,null,null,"",null,null,null,null,null,null,null,null,null,null,null,null,null,null,null,null,null,null,null,null,null,null,null,null,null,{"$f":"IF(AW117=\"\",\"\",DIGITADOR!$B$14)","v":""},"",null,null,null,"",null,null,null,null,null,null,null,null,null,null,null,null,null,null,null,null,null,null,"",{"$f":"IF(C117=\"\",\"\",IF(COUNTIF($C$6:C117, C117)>1, \"\", C117))","v":""},{"$f":"IF(N117=\"\",\"\",INDEX(referentes!P:Q,MATCH(N117,referentes!$Q:$Q,0),1))","v":""},{"$f":"IF(O117=\"\",\"\",INDEX(referentes!$A:$B,MATCH(O117,referentes!$B:$B,0),1))","v":""},{"$f":"IF(S117=\"\",\"\",INDEX(referentes!D:E,MATCH(S117,referentes!$E:$E,0),1))","v":""},{"$f":"IF(T117=\"\",\"\",INDEX(referentes!G:H,MATCH(T117,referentes!$H:$H,0),1))","v":""},"",{"$f":"IF(Y117=\"\",\"\",INDEX(referentes!S:T,MATCH(Y117,referentes!$T:$T,0),1))","v":""},{"$f":"IF(BO117=\"\",\"\",INDEX(referentes!J:K,MATCH(BO117,referentes!$K:$K,0),1))","v":""},{"$f":"IF(BJ117=\"\",\"\",INDEX(referentes!V:W,MATCH(BJ117,referentes!$W:$W,0),1))","v":""},{"$f":"IF(BK117=\"\",\"\",INDEX(referentes!Y:Z,MATCH(BK117,referentes!$Z:$Z,0),1))","v":""},{"$f":"IF(BL117=\"\",\"\",INDEX(referentes!AB:AC,MATCH(BL117,referentes!$AC:$AC,0),1))","v":""},{"$f":"IF(BM117=\"\",\"\",INDEX(referentes!AE:AF,MATCH(BM117,referentes!$AF:$AF,0),1))","v":""},{"$f":"IF(BB117=\"\",\"\",INDEX(referentes!M:N,MATCH(BB117,referentes!$N:$N,0),1))","v":""},{"$f":"IF(BQ117=\"\",\"\",INDEX('Otras referencias'!S:T,MATCH(BQ117,'Otras referencias'!$T:$T,0),1))","v":""},{"$f":"IF(BN117=\"\",\"\",INDEX('Otras referencias'!A:B,MATCH(BN117,'Otras referencias'!$B:$B,0),1))","v":""},""]
[1,"",{"$f":"IF(E118<>\"\",CONCATENATE(DIGITADOR!$M$1,TEXT(D118, \"YYYYMMDD\"),ROW()-5),\"\")","v":""},null,null,"",{"$f":"IF(H118=\"\",\"\",INDEX(referentes!AQ:AR,MATCH(H118,referentes!$AR:$AR,0),1))","v":""},null,{"$f":"IF(J118=\"\",\"\",VLOOKUP(J118,referentes!$AL$2:$AO$29,3,FALSE))","v":""},null,null,null,null,null,null,null,null,null,null,null,null,"",null,null,null,null,null,null,null,null,null,null,null,null,null,null,null,null,null,null,null,null,null,null,null,null,null,{"$f":"IF(AW118=\"\",\"\",DIGITADOR!$B$14)","v":""},"",null,null,null,"",null,null,null,null,null,null,null,null,null,null,null,null,null,null,null,null,null,null,"",{"$f":"IF(C118=\"\",\"\",IF(COUNTIF($C$6:C118, C118)>1, \"\", C118))","v":""},{"$f":"IF(N118=\"\",\"\",INDEX(referentes!P:Q,MATCH(N118,referentes!$Q:$Q,0),1))","v":""},{"$f":"IF(O118=\"\",\"\",INDEX(referentes!$A:$B,MATCH(O118,referentes!$B:$B,0),1))","v":""},{"$f":"IF(S118=\"\",\"\",INDEX(referentes!D:E,MATCH(S118,referentes!$E:$E,0),1))","v":""},{"$f":"IF(T118=\"\",\"\",INDEX(referentes!G:H,MATCH(T118,referentes!$H:$H,0),1))","v":""},"",{"$f":"IF(Y118=\"\",\"\",INDEX(referentes!S:T,MATCH(Y118,referentes!$T:$T,0),1))","v":""},{"$f":"IF(BO118=\"\",\"\",INDEX(referentes!J:K,MATCH(BO118,referentes!$K:$K,0),1))","v":""},{"$f":"IF(BJ118=\"\",\"\",INDEX(referentes!V:W,MATCH(BJ118,referentes!$W:$W,0),1))","v":""},{"$f":"IF(BK118=\"\",\"\",INDEX(referentes!Y:Z,MATCH(BK118,referentes!$Z:$Z,0),1))","v":""},{"$f":"IF(BL118=\"\",\"\",INDEX(referentes!AB:AC,MATCH(BL118,referentes!$AC:$AC,0),1))","v":""},{"$f":"IF(BM118=\"\",\"\",INDEX(referentes!AE:AF,MATCH(BM118,referentes!$AF:$AF,0),1))","v":""},{"$f":"IF(BB118=\"\",\"\",INDEX(referentes!M:N,MATCH(BB118,referentes!$N:$N,0),1))","v":""},{"$f":"IF(BQ118=\"\",\"\",INDEX('Otras referencias'!S:T,MATCH(BQ118,'Otras referencias'!$T:$T,0),1))","v":""},{"$f":"IF(BN118=\"\",\"\",INDEX('Otras referencias'!A:B,MATCH(BN118,'Otras referencias'!$B:$B,0),1))","v":""},""]
[1,"",{"$f":"IF(E119<>\"\",CONCATENATE(DIGITADOR!$M$1,TEXT(D119, \"YYYYMMDD\"),ROW()-5),\"\")","v":""},null,null,"",{"$f":"IF(H119=\"\",\"\",INDEX(referentes!AQ:AR,MATCH(H119,referentes!$AR:$AR,0),1))","v":""},null,{"$f":"IF(J119=\"\",\"\",VLOOKUP(J119,referentes!$AL$2:$AO$29,3,FALSE))","v":""},null,null,null,null,null,null,null,null,null,null,null,null,"",null,null,null,null,null,null,null,null,null,null,null,null,null,null,null,null,null,null,null,null,null,null,null,null,null,{"$f":"IF(AW119=\"\",\"\",DIGITADOR!$B$14)","v":""},"",null,null,null,"",null,null,null,null,null,null,null,null,null,null,null,null,null,null,null,null,null,null,"",{"$f":"IF(C119=\"\",\"\",IF(COUNTIF($C$6:C119, C119)>1, \"\", C119))","v":""},{"$f":"IF(N119=\"\",\"\",INDEX(referentes!P:Q,MATCH(N119,referentes!$Q:$Q,0),1))","v":""},{"$f":"IF(O119=\"\",\"\",INDEX(referentes!$A:$B,MATCH(O119,referentes!$B:$B,0),1))","v":""},{"$f":"IF(S119=\"\",\"\",INDEX(referentes!D:E,MATCH(S119,referentes!$E:$E,0),1))","v":""},{"$f":"IF(T119=\"\",\"\",INDEX(referentes!G:H,MATCH(T119,referentes!$H:$H,0),1))","v":""},"",{"$f":"IF(Y119=\"\",\"\",INDEX(referentes!S:T,MATCH(Y119,referentes!$T:$T,0),1))","v":""},{"$f":"IF(BO119=\"\",\"\",INDEX(referentes!J:K,MATCH(BO119,referentes!$K:$K,0),1))","v":""},{"$f":"IF(BJ119=\"\",\"\",INDEX(referentes!V:W,MATCH(BJ119,referentes!$W:$W,0),1))","v":""},{"$f":"IF(BK119=\"\",\"\",INDEX(referentes!Y:Z,MATCH(BK119,referentes!$Z:$Z,0),1))","v":""},{"$f":"IF(BL119=\"\",\"\",INDEX(referentes!AB:AC,MATCH(BL119,referentes!$AC:$AC,0),1))","v":""},{"$f":"IF(BM119=\"\",\"\",INDEX(referentes!AE:AF,MATCH(BM119,referentes!$AF:$AF,0),1))","v":""},{"$f":"IF(BB119=\"\",\"\",INDEX(referentes!M:N,MATCH(BB119,referentes!$N:$N,0),1))","v":""},{"$f":"IF(BQ119=\"\",\"\",INDEX('Otras referencias'!S:T,MATCH(BQ119,'Otras referencias'!$T:$T,0),1))","v":""},{"$f":"IF(BN119=\"\",\"\",INDEX('Otras referencias'!A:B,MATCH(BN119,'Otras referencias'!$B:$B,0),1))","v":""},""]
[1,"",{"$f":"IF(E120<>\"\",CONCATENATE(DIGITADOR!$M$1,TEXT(D120, \"YYYYMMDD\"),ROW()-5),\"\")","v":""},null,null,"",{"$f":"IF(H120=\"\",\"\",INDEX(referentes!AQ:AR,MATCH(H120,referentes!$AR:$AR,0),1))","v":""},null,{"$f":"IF(J120=\"\",\"\",VLOOKUP(J120,referentes!$AL$2:$AO$29,3,FALSE))","v":""},null,null,null,null,null,null,null,null,null,null,null,null,"",null,null,null,null,null,null,null,null,null,null,null,null,null,null,null,null,null,null,null,null,null,null,null,null,null,{"$f":"IF(AW120=\"\",\"\",DIGITADOR!$B$14)","v":""},"",null,null,null,"",null,null,null,null,null,null,null,null,null,null,null,null,null,null,null,null,null,null,"",{"$f":"IF(C120=\"\",\"\",IF(COUNTIF($C$6:C120, C120)>1, \"\", C120))","v":""},{"$f":"IF(N120=\"\",\"\",INDEX(referentes!P:Q,MATCH(N120,referentes!$Q:$Q,0),1))","v":""},{"$f":"IF(O120=\"\",\"\",INDEX(referentes!$A:$B,MATCH(O120,referentes!$B:$B,0),1))","v":""},{"$f":"IF(S120=\"\",\"\",INDEX(referentes!D:E,MATCH(S120,referentes!$E:$E,0),1))","v":""},{"$f":"IF(T120=\"\",\"\",INDEX(referentes!G:H,MATCH(T120,referentes!$H:$H,0),1))","v":""},"",{"$f":"IF(Y120=\"\",\"\",INDEX(referentes!S:T,MATCH(Y120,referentes!$T:$T,0),1))","v":""},{"$f":"IF(BO120=\"\",\"\",INDEX(referentes!J:K,MATCH(BO120,referentes!$K:$K,0),1))","v":""},{"$f":"IF(BJ120=\"\",\"\",INDEX(referentes!V:W,MATCH(BJ120,referentes!$W:$W,0),1))","v":""},{"$f":"IF(BK120=\"\",\"\",INDEX(referentes!Y:Z,MATCH(BK120,referentes!$Z:$Z,0),1))","v":""},{"$f":"IF(BL120=\"\",\"\",INDEX(referentes!AB:AC,MATCH(BL120,referentes!$AC:$AC,0),1))","v":""},{"$f":"IF(BM120=\"\",\"\",INDEX(referentes!AE:AF,MATCH(BM120,referentes!$AF:$AF,0),1))","v":""},{"$f":"IF(BB120=\"\",\"\",INDEX(referentes!M:N,MATCH(BB120,referentes!$N:$N,0),1))","v":""},{"$f":"IF(BQ120=\"\",\"\",INDEX('Otras referencias'!S:T,MATCH(BQ120,'Otras referencias'!$T:$T,0),1))","v":""},{"$f":"IF(BN120=\"\",\"\",INDEX('Otras referencias'!A:B,MATCH(BN120,'Otras referencias'!$B:$B,0),1))","v":""},""]
[1,"",{"$f":"IF(E121<>\"\",CONCATENATE(DIGITADOR!$M$1,TEXT(D121, \"YYYYMMDD\"),ROW()-5),\"\")","v":""},null,null,"",{"$f":"IF(H121=\"\",\"\",INDEX(referentes!AQ:AR,MATCH(H121,referentes!$AR:$AR,0),1))","v":""},null,{"$f":"IF(J121=\"\",\"\",VLOOKUP(J121,referentes!$AL$2:$AO$29,3,FALSE))","v":""},null,null,null,null,null,null,null,null,null,null,null,null,"",null,null,null,null,null,null,null,null,null,null,null,null,null,null,null,null,null,null,null,null,null,null,null,null,null,{"$f":"IF(AW121=\"\",\"\",DIGITADOR!$B$14)","v":""},"",null,null,null,"",null,null,null,null,null,null,null,null,null,null,null,null,null,null,null,null,null,null,"",{"$f":"IF(C121=\"\",\"\",IF(COUNTIF($C$6:C121, C121)>1, \"\", C121))","v":""},{"$f":"IF(N121=\"\",\"\",INDEX(referentes!P:Q,MATCH(N121,referentes!$Q:$Q,0),1))","v":""},{"$f":"IF(O121=\"\",\"\",INDEX(referentes!$A:$B,MATCH(O121,referentes!$B:$B,0),1))","v":""},{"$f":"IF(S121=\"\",\"\",INDEX(referentes!D:E,MATCH(S121,referentes!$E:$E,0),1))","v":""},{"$f":"IF(T121=\"\",\"\",INDEX(referentes!G:H,MATCH(T121,referentes!$H:$H,0),1))","v":""},"",{"$f":"IF(Y121=\"\",\"\",INDEX(referentes!S:T,MATCH(Y121,referentes!$T:$T,0),1))","v":""},{"$f":"IF(BO121=\"\",\"\",INDEX(referentes!J:K,MATCH(BO121,referentes!$K:$K,0),1))","v":""},{"$f":"IF(BJ121=\"\",\"\",INDEX(referentes!V:W,MATCH(BJ121,referentes!$W:$W,0),1))","v":""},{"$f":"IF(BK121=\"\",\"\",INDEX(referentes!Y:Z,MATCH(BK121,referentes!$Z:$Z,0),1))","v":""},{"$f":"IF(BL121=\"\",\"\",INDEX(referentes!AB:AC,MATCH(BL121,referentes!$AC:$AC,0),1))","v":""},{"$f":"IF(BM121=\"\",\"\",INDEX(referentes!AE:AF,MATCH(BM121,referentes!$AF:$AF,0),1))","v":""},{"$f":"IF(BB121=\"\",\"\",INDEX(referentes!M:N,MATCH(BB121,referentes!$N:$N,0),1))","v":""},{"$f":"IF(BQ121=\"\",\"\",INDEX('Otras referencias'!S:T,MATCH(BQ121,'Otras referencias'!$T:$T,0),1))","v":""},{"$f":"IF(BN121=\"\",\"\",INDEX('Otras referencias'!A:B,MATCH(BN121,'Otras referencias'!$B:$B,0),1))","v":""},""]
[1,"",{"$f":"IF(E122<>\"\",CONCATENATE(DIGITADOR!$M$1,TEXT(D122, \"YYYYMMDD\"),ROW()-5),\"\")","v":""},null,null,"",{"$f":"IF(H122=\"\",\"\",INDEX(referentes!AQ:AR,MATCH(H122,referentes!$AR:$AR,0),1))","v":""},null,{"$f":"IF(J122=\"\",\"\",VLOOKUP(J122,referentes!$AL$2:$AO$29,3,FALSE))","v":""},null,null,null,null,null,null,null,null,null,null,null,null,"",null,null,null,null,null,null,null,null,null,null,null,null,null,null,null,null,null,null,null,null,null,null,null,null,null,{"$f":"IF(AW122=\"\",\"\",DIGITADOR!$B$14)","v":""},"",null,null,null,"",null,null,null,null,null,null,null,null,null,null,null,null,null,null,null,null,null,null,"",{"$f":"IF(C122=\"\",\"\",IF(COUNTIF($C$6:C122, C122)>1, \"\", C122))","v":""},{"$f":"IF(N122=\"\",\"\",INDEX(referentes!P:Q,MATCH(N122,referentes!$Q:$Q,0),1))","v":""},{"$f":"IF(O122=\"\",\"\",INDEX(referentes!$A:$B,MATCH(O122,referentes!$B:$B,0),1))","v":""},{"$f":"IF(S122=\"\",\"\",INDEX(referentes!D:E,MATCH(S122,referentes!$E:$E,0),1))","v":""},{"$f":"IF(T122=\"\",\"\",INDEX(referentes!G:H,MATCH(T122,referentes!$H:$H,0),1))","v":""},"",{"$f":"IF(Y122=\"\",\"\",INDEX(referentes!S:T,MATCH(Y122,referentes!$T:$T,0),1))","v":""},{"$f":"IF(BO122=\"\",\"\",INDEX(referentes!J:K,MATCH(BO122,referentes!$K:$K,0),1))","v":""},{"$f":"IF(BJ122=\"\",\"\",INDEX(referentes!V:W,MATCH(BJ122,referentes!$W:$W,0),1))","v":""},{"$f":"IF(BK122=\"\",\"\",INDEX(referentes!Y:Z,MATCH(BK122,referentes!$Z:$Z,0),1))","v":""},{"$f":"IF(BL122=\"\",\"\",INDEX(referentes!AB:AC,MATCH(BL122,referentes!$AC:$AC,0),1))","v":""},{"$f":"IF(BM122=\"\",\"\",INDEX(referentes!AE:AF,MATCH(BM122,referentes!$AF:$AF,0),1))","v":""},{"$f":"IF(BB122=\"\",\"\",INDEX(referentes!M:N,MATCH(BB122,referentes!$N:$N,0),1))","v":""},{"$f":"IF(BQ122=\"\",\"\",INDEX('Otras referencias'!S:T,MATCH(BQ122,'Otras referencias'!$T:$T,0),1))","v":""},{"$f":"IF(BN122=\"\",\"\",INDEX('Otras referencias'!A:B,MATCH(BN122,'Otras referencias'!$B:$B,0),1))","v":""},""]
[1,"",{"$f":"IF(E123<>\"\",CONCATENATE(DIGITADOR!$M$1,TEXT(D123, \"YYYYMMDD\"),ROW()-5),\"\")","v":""},null,null,"",{"$f":"IF(H123=\"\",\"\",INDEX(referentes!AQ:AR,MATCH(H123,referentes!$AR:$AR,0),1))","v":""},null,{"$f":"IF(J123=\"\",\"\",VLOOKUP(J123,referentes!$AL$2:$AO$29,3,FALSE))","v":""},null,null,null,null,null,null,null,null,null,null,null,null,"",null,null,null,null,null,null,null,null,null,null,null,null,null,null,null,null,null,null,null,null,null,null,null,null,null,{"$f":"IF(AW123=\"\",\"\",DIGITADOR!$B$14)","v":""},"",null,null,null,"",null,null,null,null,null,null,null,null,null,null,null,null,null,null,null,null,null,null,"",{"$f":"IF(C123=\"\",\"\",IF(COUNTIF($C$6:C123, C123)>1, \"\", C123))","v":""},{"$f":"IF(N123=\"\",\"\",INDEX(referentes!P:Q,MATCH(N123,referentes!$Q:$Q,0),1))","v":""},{"$f":"IF(O123=\"\",\"\",INDEX(referentes!$A:$B,MATCH(O123,referentes!$B:$B,0),1))","v":""},{"$f":"IF(S123=\"\",\"\",INDEX(referentes!D:E,MATCH(S123,referentes!$E:$E,0),1))","v":""},{"$f":"IF(T123=\"\",\"\",INDEX(referentes!G:H,MATCH(T123,referentes!$H:$H,0),1))","v":""},"",{"$f":"IF(Y123=\"\",\"\",INDEX(referentes!S:T,MATCH(Y123,referentes!$T:$T,0),1))","v":""},{"$f":"IF(BO123=\"\",\"\",INDEX(referentes!J:K,MATCH(BO123,referentes!$K:$K,0),1))","v":""},{"$f":"IF(BJ123=\"\",\"\",INDEX(referentes!V:W,MATCH(BJ123,referentes!$W:$W,0),1))","v":""},{"$f":"IF(BK123=\"\",\"\",INDEX(referentes!Y:Z,MATCH(BK123,referentes!$Z:$Z,0),1))","v":""},{"$f":"IF(BL123=\"\",\"\",INDEX(referentes!AB:AC,MATCH(BL123,referentes!$AC:$AC,0),1))","v":""},{"$f":"IF(BM123=\"\",\"\",INDEX(referentes!AE:AF,MATCH(BM123,referentes!$AF:$AF,0),1))","v":""},{"$f":"IF(BB123=\"\",\"\",INDEX(referentes!M:N,MATCH(BB123,referentes!$N:$N,0),1))","v":""},{"$f":"IF(BQ123=\"\",\"\",INDEX('Otras referencias'!S:T,MATCH(BQ123,'Otras referencias'!$T:$T,0),1))","v":""},{"$f":"IF(BN123=\"\",\"\",INDEX('Otras referencias'!A:B,MATCH(BN123,'Otras referencias'!$B:$B,0),1))","v":""},""]
[1,"",{"$f":"IF(E124<>\"\",CONCATENATE(DIGITADOR!$M$1,TEXT(D124, \"YYYYMMDD\"),ROW()-5),\"\")","v":""},null,null,"",{"$f":"IF(H124=\"\",\"\",INDEX(referentes!AQ:AR,MATCH(H124,referentes!$AR:$AR,0),1))","v":""},null,{"$f":"IF(J124=\"\",\"\",VLOOKUP(J124,referentes!$AL$2:$AO$29,3,FALSE))","v":""},null,null,null,null,null,null,null,null,null,null,null,null,"",null,null,null,null,null,null,null,null,null,null,null,null,null,null,null,null,null,null,null,null,null,null,null,null,null,{"$f":"IF(AW124=\"\",\"\",DIGITADOR!$B$14)","v":""},"",null,null,null,"",null,null,null,null,null,null,null,null,null,null,null,null,null,null,null,null,null,null,"",{"$f":"IF(C124=\"\",\"\",IF(COUNTIF($C$6:C124, C124)>1, \"\", C124))","v":""},{"$f":"IF(N124=\"\",\"\",INDEX(referentes!P:Q,MATCH(N124,referentes!$Q:$Q,0),1))","v":""},{"$f":"IF(O124=\"\",\"\",INDEX(referentes!$A:$B,MATCH(O124,referentes!$B:$B,0),1))","v":""},{"$f":"IF(S124=\"\",\"\",INDEX(referentes!D:E,MATCH(S124,referentes!$E:$E,0),1))","v":""},{"$f":"IF(T124=\"\",\"\",INDEX(referentes!G:H,MATCH(T124,referentes!$H:$H,0),1))","v":""},"",{"$f":"IF(Y124=\"\",\"\",INDEX(referentes!S:T,MATCH(Y124,referentes!$T:$T,0),1))","v":""},{"$f":"IF(BO124=\"\",\"\",INDEX(referentes!J:K,MATCH(BO124,referentes!$K:$K,0),1))","v":""},{"$f":"IF(BJ124=\"\",\"\",INDEX(referentes!V:W,MATCH(BJ124,referentes!$W:$W,0),1))","v":""},{"$f":"IF(BK124=\"\",\"\",INDEX(referentes!Y:Z,MATCH(BK124,referentes!$Z:$Z,0),1))","v":""},{"$f":"IF(BL124=\"\",\"\",INDEX(referentes!AB:AC,MATCH(BL124,referentes!$AC:$AC,0),1))","v":""},{"$f":"IF(BM124=\"\",\"\",INDEX(referentes!AE:AF,MATCH(BM124,referentes!$AF:$AF,0),1))","v":""},{"$f":"IF(BB124=\"\",\"\",INDEX(referentes!M:N,MATCH(BB124,referentes!$N:$N,0),1))","v":""},{"$f":"IF(BQ124=\"\",\"\",INDEX('Otras referencias'!S:T,MATCH(BQ124,'Otras referencias'!$T:$T,0),1))","v":""},{"$f":"IF(BN124=\"\",\"\",INDEX('Otras referencias'!A:B,MATCH(BN124,'Otras referencias'!$B:$B,0),1))","v":""},""]
[1,"",{"$f":"IF(E125<>\"\",CONCATENATE(DIGITADOR!$M$1,TEXT(D125, \"YYYYMMDD\"),ROW()-5),\"\")","v":""},null,null,"",{"$f":"IF(H125=\"\",\"\",INDEX(referentes!AQ:AR,MATCH(H125,referentes!$AR:$AR,0),1))","v":""},null,{"$f":"IF(J125=\"\",\"\",VLOOKUP(J125,referentes!$AL$2:$AO$29,3,FALSE))","v":""},null,null,null,null,null,null,null,null,null,null,null,null,"",null,null,null,null,null,null,null,null,null,null,null,null,null,null,null,null,null,null,null,null,null,null,null,null,null,{"$f":"IF(AW125=\"\",\"\",DIGITADOR!$B$14)","v":""},"",null,null,null,"",null,null,null,null,null,null,null,null,null,null,null,null,null,null,null,null,null,null,"",{"$f":"IF(C125=\"\",\"\",IF(COUNTIF($C$6:C125, C125)>1, \"\", C125))","v":""},{"$f":"IF(N125=\"\",\"\",INDEX(referentes!P:Q,MATCH(N125,referentes!$Q:$Q,0),1))","v":""},{"$f":"IF(O125=\"\",\"\",INDEX(referentes!$A:$B,MATCH(O125,referentes!$B:$B,0),1))","v":""},{"$f":"IF(S125=\"\",\"\",INDEX(referentes!D:E,MATCH(S125,referentes!$E:$E,0),1))","v":""},{"$f":"IF(T125=\"\",\"\",INDEX(referentes!G:H,MATCH(T125,referentes!$H:$H,0),1))","v":""},"",{"$f":"IF(Y125=\"\",\"\",INDEX(referentes!S:T,MATCH(Y125,referentes!$T:$T,0),1))","v":""},{"$f":"IF(BO125=\"\",\"\",INDEX(referentes!J:K,MATCH(BO125,referentes!$K:$K,0),1))","v":""},{"$f":"IF(BJ125=\"\",\"\",INDEX(referentes!V:W,MATCH(BJ125,referentes!$W:$W,0),1))","v":""},{"$f":"IF(BK125=\"\",\"\",INDEX(referentes!Y:Z,MATCH(BK125,referentes!$Z:$Z,0),1))","v":""},{"$f":"IF(BL125=\"\",\"\",INDEX(referentes!AB:AC,MATCH(BL125,referentes!$AC:$AC,0),1))","v":""},{"$f":"IF(BM125=\"\",\"\",INDEX(referentes!AE:AF,MATCH(BM125,referentes!$AF:$AF,0),1))","v":""},{"$f":"IF(BB125=\"\",\"\",INDEX(referentes!M:N,MATCH(BB125,referentes!$N:$N,0),1))","v":""},{"$f":"IF(BQ125=\"\",\"\",INDEX('Otras referencias'!S:T,MATCH(BQ125,'Otras referencias'!$T:$T,0),1))","v":""},{"$f":"IF(BN125=\"\",\"\",INDEX('Otras referencias'!A:B,MATCH(BN125,'Otras referencias'!$B:$B,0),1))","v":""},""]
[1,"",{"$f":"IF(E126<>\"\",CONCATENATE(DIGITADOR!$M$1,TEXT(D126, \"YYYYMMDD\"),ROW()-5),\"\")","v":""},null,null,"",{"$f":"IF(H126=\"\",\"\",INDEX(referentes!AQ:AR,MATCH(H126,referentes!$AR:$AR,0),1))","v":""},null,{"$f":"IF(J126=\"\",\"\",VLOOKUP(J126,referentes!$AL$2:$AO$29,3,FALSE))","v":""},null,null,null,null,null,null,null,null,null,null,null,null,"",null,null,null,null,null,null,null,null,null,null,null,null,null,null,null,null,null,null,null,null,null,null,null,null,null,{"$f":"IF(AW126=\"\",\"\",DIGITADOR!$B$14)","v":""},"",null,null,null,"",null,null,null,null,null,null,null,null,null,null,null,null,null,null,null,null,null,null,"",{"$f":"IF(C126=\"\",\"\",IF(COUNTIF($C$6:C126, C126)>1, \"\", C126))","v":""},{"$f":"IF(N126=\"\",\"\",INDEX(referentes!P:Q,MATCH(N126,referentes!$Q:$Q,0),1))","v":""},{"$f":"IF(O126=\"\",\"\",INDEX(referentes!$A:$B,MATCH(O126,referentes!$B:$B,0),1))","v":""},{"$f":"IF(S126=\"\",\"\",INDEX(referentes!D:E,MATCH(S126,referentes!$E:$E,0),1))","v":""},{"$f":"IF(T126=\"\",\"\",INDEX(referentes!G:H,MATCH(T126,referentes!$H:$H,0),1))","v":""},"",{"$f":"IF(Y126=\"\",\"\",INDEX(referentes!S:T,MATCH(Y126,referentes!$T:$T,0),1))","v":""},{"$f":"IF(BO126=\"\",\"\",INDEX(referentes!J:K,MATCH(BO126,referentes!$K:$K,0),1))","v":""},{"$f":"IF(BJ126=\"\",\"\",INDEX(referentes!V:W,MATCH(BJ126,referentes!$W:$W,0),1))","v":""},{"$f":"IF(BK126=\"\",\"\",INDEX(referentes!Y:Z,MATCH(BK126,referentes!$Z:$Z,0),1))","v":""},{"$f":"IF(BL126=\"\",\"\",INDEX(referentes!AB:AC,MATCH(BL126,referentes!$AC:$AC,0),1))","v":""},{"$f":"IF(BM126=\"\",\"\",INDEX(referentes!AE:AF,MATCH(BM126,referentes!$AF:$AF,0),1))","v":""},{"$f":"IF(BB126=\"\",\"\",INDEX(referentes!M:N,MATCH(BB126,referentes!$N:$N,0),1))","v":""},{"$f":"IF(BQ126=\"\",\"\",INDEX('Otras referencias'!S:T,MATCH(BQ126,'Otras referencias'!$T:$T,0),1))","v":""},{"$f":"IF(BN126=\"\",\"\",INDEX('Otras referencias'!A:B,MATCH(BN126,'Otras referencias'!$B:$B,0),1))","v":""},""]
[1,"",{"$f":"IF(E127<>\"\",CONCATENATE(DIGITADOR!$M$1,TEXT(D127, \"YYYYMMDD\"),ROW()-5),\"\")","v":""},null,null,"",{"$f":"IF(H127=\"\",\"\",INDEX(referentes!AQ:AR,MATCH(H127,referentes!$AR:$AR,0),1))","v":""},null,{"$f":"IF(J127=\"\",\"\",VLOOKUP(J127,referentes!$AL$2:$AO$29,3,FALSE))","v":""},null,null,null,null,null,null,null,null,null,null,null,null,"",null,null,null,null,null,null,null,null,null,null,null,null,null,null,null,null,null,null,null,null,null,null,null,null,null,{"$f":"IF(AW127=\"\",\"\",DIGITADOR!$B$14)","v":""},"",null,null,null,"",null,null,null,null,null,null,null,null,null,null,null,null,null,null,null,null,null,null,"",{"$f":"IF(C127=\"\",\"\",IF(COUNTIF($C$6:C127, C127)>1, \"\", C127))","v":""},{"$f":"IF(N127=\"\",\"\",INDEX(referentes!P:Q,MATCH(N127,referentes!$Q:$Q,0),1))","v":""},{"$f":"IF(O127=\"\",\"\",INDEX(referentes!$A:$B,MATCH(O127,referentes!$B:$B,0),1))","v":""},{"$f":"IF(S127=\"\",\"\",INDEX(referentes!D:E,MATCH(S127,referentes!$E:$E,0),1))","v":""},{"$f":"IF(T127=\"\",\"\",INDEX(referentes!G:H,MATCH(T127,referentes!$H:$H,0),1))","v":""},"",{"$f":"IF(Y127=\"\",\"\",INDEX(referentes!S:T,MATCH(Y127,referentes!$T:$T,0),1))","v":""},{"$f":"IF(BO127=\"\",\"\",INDEX(referentes!J:K,MATCH(BO127,referentes!$K:$K,0),1))","v":""},{"$f":"IF(BJ127=\"\",\"\",INDEX(referentes!V:W,MATCH(BJ127,referentes!$W:$W,0),1))","v":""},{"$f":"IF(BK127=\"\",\"\",INDEX(referentes!Y:Z,MATCH(BK127,referentes!$Z:$Z,0),1))","v":""},{"$f":"IF(BL127=\"\",\"\",INDEX(referentes!AB:AC,MATCH(BL127,referentes!$AC:$AC,0),1))","v":""},{"$f":"IF(BM127=\"\",\"\",INDEX(referentes!AE:AF,MATCH(BM127,referentes!$AF:$AF,0),1))","v":""},{"$f":"IF(BB127=\"\",\"\",INDEX(referentes!M:N,MATCH(BB127,referentes!$N:$N,0),1))","v":""},{"$f":"IF(BQ127=\"\",\"\",INDEX('Otras referencias'!S:T,MATCH(BQ127,'Otras referencias'!$T:$T,0),1))","v":""},{"$f":"IF(BN127=\"\",\"\",INDEX('Otras referencias'!A:B,MATCH(BN127,'Otras referencias'!$B:$B,0),1))","v":""},""]
[1,"",{"$f":"IF(E128<>\"\",CONCATENATE(DIGITADOR!$M$1,TEXT(D128, \"YYYYMMDD\"),ROW()-5),\"\")","v":""},null,null,"",{"$f":"IF(H128=\"\",\"\",INDEX(referentes!AQ:AR,MATCH(H128,referentes!$AR:$AR,0),1))","v":""},null,{"$f":"IF(J128=\"\",\"\",VLOOKUP(J128,referentes!$AL$2:$AO$29,3,FALSE))","v":""},null,null,null,null,null,null,null,null,null,null,null,null,"",null,null,null,null,null,null,null,null,null,null,null,null,null,null,null,null,null,null,null,null,null,null,null,null,null,{"$f":"IF(AW128=\"\",\"\",DIGITADOR!$B$14)","v":""},"",null,null,null,"",null,null,null,null,null,null,null,null,null,null,null,null,null,null,null,null,null,null,"",{"$f":"IF(C128=\"\",\"\",IF(COUNTIF($C$6:C128, C128)>1, \"\", C128))","v":""},{"$f":"IF(N128=\"\",\"\",INDEX(referentes!P:Q,MATCH(N128,referentes!$Q:$Q,0),1))","v":""},{"$f":"IF(O128=\"\",\"\",INDEX(referentes!$A:$B,MATCH(O128,referentes!$B:$B,0),1))","v":""},{"$f":"IF(S128=\"\",\"\",INDEX(referentes!D:E,MATCH(S128,referentes!$E:$E,0),1))","v":""},{"$f":"IF(T128=\"\",\"\",INDEX(referentes!G:H,MATCH(T128,referentes!$H:$H,0),1))","v":""},"",{"$f":"IF(Y128=\"\",\"\",INDEX(referentes!S:T,MATCH(Y128,referentes!$T:$T,0),1))","v":""},{"$f":"IF(BO128=\"\",\"\",INDEX(referentes!J:K,MATCH(BO128,referentes!$K:$K,0),1))","v":""},{"$f":"IF(BJ128=\"\",\"\",INDEX(referentes!V:W,MATCH(BJ128,referentes!$W:$W,0),1))","v":""},{"$f":"IF(BK128=\"\",\"\",INDEX(referentes!Y:Z,MATCH(BK128,referentes!$Z:$Z,0),1))","v":""},{"$f":"IF(BL128=\"\",\"\",INDEX(referentes!AB:AC,MATCH(BL128,referentes!$AC:$AC,0),1))","v":""},{"$f":"IF(BM128=\"\",\"\",INDEX(referentes!AE:AF,MATCH(BM128,referentes!$AF:$AF,0),1))","v":""},{"$f":"IF(BB128=\"\",\"\",INDEX(referentes!M:N,MATCH(BB128,referentes!$N:$N,0),1))","v":""},{"$f":"IF(BQ128=\"\",\"\",INDEX('Otras referencias'!S:T,MATCH(BQ128,'Otras referencias'!$T:$T,0),1))","v":""},{"$f":"IF(BN128=\"\",\"\",INDEX('Otras referencias'!A:B,MATCH(BN128,'Otras referencias'!$B:$B,0),1))","v":""},""]
[1,"",{"$f":"IF(E129<>\"\",CONCATENATE(DIGITADOR!$M$1,TEXT(D129, \"YYYYMMDD\"),ROW()-5),\"\")","v":""},null,null,"",{"$f":"IF(H129=\"\",\"\",INDEX(referentes!AQ:AR,MATCH(H129,referentes!$AR:$AR,0),1))","v":""},null,{"$f":"IF(J129=\"\",\"\",VLOOKUP(J129,referentes!$AL$2:$AO$29,3,FALSE))","v":""},null,null,null,null,null,null,null,null,null,null,null,null,"",null,null,null,null,null,null,null,null,null,null,null,null,null,null,null,null,null,null,null,null,null,null,null,null,null,{"$f":"IF(AW129=\"\",\"\",DIGITADOR!$B$14)","v":""},"",null,null,null,"",null,null,null,null,null,null,null,null,null,null,null,null,null,null,null,null,null,null,"",{"$f":"IF(C129=\"\",\"\",IF(COUNTIF($C$6:C129, C129)>1, \"\", C129))","v":""},{"$f":"IF(N129=\"\",\"\",INDEX(referentes!P:Q,MATCH(N129,referentes!$Q:$Q,0),1))","v":""},{"$f":"IF(O129=\"\",\"\",INDEX(referentes!$A:$B,MATCH(O129,referentes!$B:$B,0),1))","v":""},{"$f":"IF(S129=\"\",\"\",INDEX(referentes!D:E,MATCH(S129,referentes!$E:$E,0),1))","v":""},{"$f":"IF(T129=\"\",\"\",INDEX(referentes!G:H,MATCH(T129,referentes!$H:$H,0),1))","v":""},"",{"$f":"IF(Y129=\"\",\"\",INDEX(referentes!S:T,MATCH(Y129,referentes!$T:$T,0),1))","v":""},{"$f":"IF(BO129=\"\",\"\",INDEX(referentes!J:K,MATCH(BO129,referentes!$K:$K,0),1))","v":""},{"$f":"IF(BJ129=\"\",\"\",INDEX(referentes!V:W,MATCH(BJ129,referentes!$W:$W,0),1))","v":""},{"$f":"IF(BK129=\"\",\"\",INDEX(referentes!Y:Z,MATCH(BK129,referentes!$Z:$Z,0),1))","v":""},{"$f":"IF(BL129=\"\",\"\",INDEX(referentes!AB:AC,MATCH(BL129,referentes!$AC:$AC,0),1))","v":""},{"$f":"IF(BM129=\"\",\"\",INDEX(referentes!AE:AF,MATCH(BM129,referentes!$AF:$AF,0),1))","v":""},{"$f":"IF(BB129=\"\",\"\",INDEX(referentes!M:N,MATCH(BB129,referentes!$N:$N,0),1))","v":""},{"$f":"IF(BQ129=\"\",\"\",INDEX('Otras referencias'!S:T,MATCH(BQ129,'Otras referencias'!$T:$T,0),1))","v":""},{"$f":"IF(BN129=\"\",\"\",INDEX('Otras referencias'!A:B,MATCH(BN129,'Otras referencias'!$B:$B,0),1))","v":""},""]
[1,"",{"$f":"IF(E130<>\"\",CONCATENATE(DIGITADOR!$M$1,TEXT(D130, \"YYYYMMDD\"),ROW()-5),\"\")","v":""},null,null,"",{"$f":"IF(H130=\"\",\"\",INDEX(referentes!AQ:AR,MATCH(H130,referentes!$AR:$AR,0),1))","v":""},null,{"$f":"IF(J130=\"\",\"\",VLOOKUP(J130,referentes!$AL$2:$AO$29,3,FALSE))","v":""},null,null,null,null,null,null,null,null,null,null,null,null,"",null,null,null,null,null,null,null,null,null,null,null,null,null,null,null,null,null,null,null,null,null,null,null,null,null,{"$f":"IF(AW130=\"\",\"\",DIGITADOR!$B$14)","v":""},"",null,null,null,"",null,null,null,null,null,null,null,null,null,null,null,null,null,null,null,null,null,null,"",{"$f":"IF(C130=\"\",\"\",IF(COUNTIF($C$6:C130, C130)>1, \"\", C130))","v":""},{"$f":"IF(N130=\"\",\"\",INDEX(referentes!P:Q,MATCH(N130,referentes!$Q:$Q,0),1))","v":""},{"$f":"IF(O130=\"\",\"\",INDEX(referentes!$A:$B,MATCH(O130,referentes!$B:$B,0),1))","v":""},{"$f":"IF(S130=\"\",\"\",INDEX(referentes!D:E,MATCH(S130,referentes!$E:$E,0),1))","v":""},{"$f":"IF(T130=\"\",\"\",INDEX(referentes!G:H,MATCH(T130,referentes!$H:$H,0),1))","v":""},"",{"$f":"IF(Y130=\"\",\"\",INDEX(referentes!S:T,MATCH(Y130,referentes!$T:$T,0),1))","v":""},{"$f":"IF(BO130=\"\",\"\",INDEX(referentes!J:K,MATCH(BO130,referentes!$K:$K,0),1))","v":""},{"$f":"IF(BJ130=\"\",\"\",INDEX(referentes!V:W,MATCH(BJ130,referentes!$W:$W,0),1))","v":""},{"$f":"IF(BK130=\"\",\"\",INDEX(referentes!Y:Z,MATCH(BK130,referentes!$Z:$Z,0),1))","v":""},{"$f":"IF(BL130=\"\",\"\",INDEX(referentes!AB:AC,MATCH(BL130,referentes!$AC:$AC,0),1))","v":""},{"$f":"IF(BM130=\"\",\"\",INDEX(referentes!AE:AF,MATCH(BM130,referentes!$AF:$AF,0),1))","v":""},{"$f":"IF(BB130=\"\",\"\",INDEX(referentes!M:N,MATCH(BB130,referentes!$N:$N,0),1))","v":""},{"$f":"IF(BQ130=\"\",\"\",INDEX('Otras referencias'!S:T,MATCH(BQ130,'Otras referencias'!$T:$T,0),1))","v":""},{"$f":"IF(BN130=\"\",\"\",INDEX('Otras referencias'!A:B,MATCH(BN130,'Otras referencias'!$B:$B,0),1))","v":""},""]
[1,"",{"$f":"IF(E131<>\"\",CONCATENATE(DIGITADOR!$M$1,TEXT(D131, \"YYYYMMDD\"),ROW()-5),\"\")","v":""},null,null,"",{"$f":"IF(H131=\"\",\"\",INDEX(referentes!AQ:AR,MATCH(H131,referentes!$AR:$AR,0),1))","v":""},null,{"$f":"IF(J131=\"\",\"\",VLOOKUP(J131,referentes!$AL$2:$AO$29,3,FALSE))","v":""},null,null,null,null,null,null,null,null,null,null,null,null,"",null,null,null,null,null,null,null,null,null,null,null,null,null,null,null,null,null,null,null,null,null,null,null,null,null,{"$f":"IF(AW131=\"\",\"\",DIGITADOR!$B$14)","v":""},"",null,null,null,"",null,null,null,null,null,null,null,null,null,null,null,null,null,null,null,null,null,null,"",{"$f":"IF(C131=\"\",\"\",IF(COUNTIF($C$6:C131, C131)>1, \"\", C131))","v":""},{"$f":"IF(N131=\"\",\"\",INDEX(referentes!P:Q,MATCH(N131,referentes!$Q:$Q,0),1))","v":""},{"$f":"IF(O131=\"\",\"\",INDEX(referentes!$A:$B,MATCH(O131,referentes!$B:$B,0),1))","v":""},{"$f":"IF(S131=\"\",\"\",INDEX(referentes!D:E,MATCH(S131,referentes!$E:$E,0),1))","v":""},{"$f":"IF(T131=\"\",\"\",INDEX(referentes!G:H,MATCH(T131,referentes!$H:$H,0),1))","v":""},"",{"$f":"IF(Y131=\"\",\"\",INDEX(referentes!S:T,MATCH(Y131,referentes!$T:$T,0),1))","v":""},{"$f":"IF(BO131=\"\",\"\",INDEX(referentes!J:K,MATCH(BO131,referentes!$K:$K,0),1))","v":""},{"$f":"IF(BJ131=\"\",\"\",INDEX(referentes!V:W,MATCH(BJ131,referentes!$W:$W,0),1))","v":""},{"$f":"IF(BK131=\"\",\"\",INDEX(referentes!Y:Z,MATCH(BK131,referentes!$Z:$Z,0),1))","v":""},{"$f":"IF(BL131=\"\",\"\",INDEX(referentes!AB:AC,MATCH(BL131,referentes!$AC:$AC,0),1))","v":""},{"$f":"IF(BM131=\"\",\"\",INDEX(referentes!AE:AF,MATCH(BM131,referentes!$AF:$AF,0),1))","v":""},{"$f":"IF(BB131=\"\",\"\",INDEX(referentes!M:N,MATCH(BB131,referentes!$N:$N,0),1))","v":""},{"$f":"IF(BQ131=\"\",\"\",INDEX('Otras referencias'!S:T,MATCH(BQ131,'Otras referencias'!$T:$T,0),1))","v":""},{"$f":"IF(BN131=\"\",\"\",INDEX('Otras referencias'!A:B,MATCH(BN131,'Otras referencias'!$B:$B,0),1))","v":""},""]
[1,"",{"$f":"IF(E132<>\"\",CONCATENATE(DIGITADOR!$M$1,TEXT(D132, \"YYYYMMDD\"),ROW()-5),\"\")","v":""},null,null,"",{"$f":"IF(H132=\"\",\"\",INDEX(referentes!AQ:AR,MATCH(H132,referentes!$AR:$AR,0),1))","v":""},null,{"$f":"IF(J132=\"\",\"\",VLOOKUP(J132,referentes!$AL$2:$AO$29,3,FALSE))","v":""},null,null,null,null,null,null,null,null,null,null,null,null,"",null,null,null,null,null,null,null,null,null,null,null,null,null,null,null,null,null,null,null,null,null,null,null,null,null,{"$f":"IF(AW132=\"\",\"\",DIGITADOR!$B$14)","v":""},"",null,null,null,"",null,null,null,null,null,null,null,null,null,null,null,null,null,null,null,null,null,null,"",{"$f":"IF(C132=\"\",\"\",IF(COUNTIF($C$6:C132, C132)>1, \"\", C132))","v":""},{"$f":"IF(N132=\"\",\"\",INDEX(referentes!P:Q,MATCH(N132,referentes!$Q:$Q,0),1))","v":""},{"$f":"IF(O132=\"\",\"\",INDEX(referentes!$A:$B,MATCH(O132,referentes!$B:$B,0),1))","v":""},{"$f":"IF(S132=\"\",\"\",INDEX(referentes!D:E,MATCH(S132,referentes!$E:$E,0),1))","v":""},{"$f":"IF(T132=\"\",\"\",INDEX(referentes!G:H,MATCH(T132,referentes!$H:$H,0),1))","v":""},"",{"$f":"IF(Y132=\"\",\"\",INDEX(referentes!S:T,MATCH(Y132,referentes!$T:$T,0),1))","v":""},{"$f":"IF(BO132=\"\",\"\",INDEX(referentes!J:K,MATCH(BO132,referentes!$K:$K,0),1))","v":""},{"$f":"IF(BJ132=\"\",\"\",INDEX(referentes!V:W,MATCH(BJ132,referentes!$W:$W,0),1))","v":""},{"$f":"IF(BK132=\"\",\"\",INDEX(referentes!Y:Z,MATCH(BK132,referentes!$Z:$Z,0),1))","v":""},{"$f":"IF(BL132=\"\",\"\",INDEX(referentes!AB:AC,MATCH(BL132,referentes!$AC:$AC,0),1))","v":""},{"$f":"IF(BM132=\"\",\"\",INDEX(referentes!AE:AF,MATCH(BM132,referentes!$AF:$AF,0),1))","v":""},{"$f":"IF(BB132=\"\",\"\",INDEX(referentes!M:N,MATCH(BB132,referentes!$N:$N,0),1))","v":""},{"$f":"IF(BQ132=\"\",\"\",INDEX('Otras referencias'!S:T,MATCH(BQ132,'Otras referencias'!$T:$T,0),1))","v":""},{"$f":"IF(BN132=\"\",\"\",INDEX('Otras referencias'!A:B,MATCH(BN132,'Otras referencias'!$B:$B,0),1))","v":""},""]
[1,"",{"$f":"IF(E133<>\"\",CONCATENATE(DIGITADOR!$M$1,TEXT(D133, \"YYYYMMDD\"),ROW()-5),\"\")","v":""},null,null,"",{"$f":"IF(H133=\"\",\"\",INDEX(referentes!AQ:AR,MATCH(H133,referentes!$AR:$AR,0),1))","v":""},null,{"$f":"IF(J133=\"\",\"\",VLOOKUP(J133,referentes!$AL$2:$AO$29,3,FALSE))","v":""},null,null,null,null,null,null,null,null,null,null,null,null,"",null,null,null,null,null,null,null,null,null,null,null,null,null,null,null,null,null,null,null,null,null,null,null,null,null,{"$f":"IF(AW133=\"\",\"\",DIGITADOR!$B$14)","v":""},"",null,null,null,"",null,null,null,null,null,null,null,null,null,null,null,null,null,null,null,null,null,null,"",{"$f":"IF(C133=\"\",\"\",IF(COUNTIF($C$6:C133, C133)>1, \"\", C133))","v":""},{"$f":"IF(N133=\"\",\"\",INDEX(referentes!P:Q,MATCH(N133,referentes!$Q:$Q,0),1))","v":""},{"$f":"IF(O133=\"\",\"\",INDEX(referentes!$A:$B,MATCH(O133,referentes!$B:$B,0),1))","v":""},{"$f":"IF(S133=\"\",\"\",INDEX(referentes!D:E,MATCH(S133,referentes!$E:$E,0),1))","v":""},{"$f":"IF(T133=\"\",\"\",INDEX(referentes!G:H,MATCH(T133,referentes!$H:$H,0),1))","v":""},"",{"$f":"IF(Y133=\"\",\"\",INDEX(referentes!S:T,MATCH(Y133,referentes!$T:$T,0),1))","v":""},{"$f":"IF(BO133=\"\",\"\",INDEX(referentes!J:K,MATCH(BO133,referentes!$K:$K,0),1))","v":""},{"$f":"IF(BJ133=\"\",\"\",INDEX(referentes!V:W,MATCH(BJ133,referentes!$W:$W,0),1))","v":""},{"$f":"IF(BK133=\"\",\"\",INDEX(referentes!Y:Z,MATCH(BK133,referentes!$Z:$Z,0),1))","v":""},{"$f":"IF(BL133=\"\",\"\",INDEX(referentes!AB:AC,MATCH(BL133,referentes!$AC:$AC,0),1))","v":""},{"$f":"IF(BM133=\"\",\"\",INDEX(referentes!AE:AF,MATCH(BM133,referentes!$AF:$AF,0),1))","v":""},{"$f":"IF(BB133=\"\",\"\",INDEX(referentes!M:N,MATCH(BB133,referentes!$N:$N,0),1))","v":""},{"$f":"IF(BQ133=\"\",\"\",INDEX('Otras referencias'!S:T,MATCH(BQ133,'Otras referencias'!$T:$T,0),1))","v":""},{"$f":"IF(BN133=\"\",\"\",INDEX('Otras referencias'!A:B,MATCH(BN133,'Otras referencias'!$B:$B,0),1))","v":""},""]
[1,{"$f":"IF(BZ134=\"\",\"\",IF(BZ134=BZ133,B133,B133+1))","v":""},{"$f":"IF(E134<>\"\",CONCATENATE(DIGITADOR!$M$1,TEXT(D134, \"YYYYMMDD\"),ROW()-5),\"\")","v":""},null,null,"",{"$f":"IF(H134=\"\",\"\",INDEX(referentes!AQ:AR,MATCH(H134,referentes!$AR:$AR,0),1))","v":""},null,{"$f":"IF(J134=\"\",\"\",VLOOKUP(J134,referentes!$AL$2:$AO$29,3,FALSE))","v":""},null,null,null,null,null,null,null,null,null,null,null,null,"",null,null,null,null,null,null,null,null,null,null,null,null,null,null,null,null,null,null,null,null,null,null,null,null,null,{"$f":"IF(AW134=\"\",\"\",DIGITADOR!$B$14)","v":""},"",null,null,null,"",null,null,null,null,null,null,null,null,null,null,null,null,null,null,null,null,null,null,"",{"$f":"IF(C134=\"\",\"\",IF(COUNTIF($C$6:C134, C134)>1, \"\", C134))","v":""},{"$f":"IF(N134=\"\",\"\",INDEX(referentes!P:Q,MATCH(N134,referentes!$Q:$Q,0),1))","v":""},{"$f":"IF(O134=\"\",\"\",INDEX(referentes!$A:$B,MATCH(O134,referentes!$B:$B,0),1))","v":""},{"$f":"IF(S134=\"\",\"\",INDEX(referentes!D:E,MATCH(S134,referentes!$E:$E,0),1))","v":""},{"$f":"IF(T134=\"\",\"\",INDEX(referentes!G:H,MATCH(T134,referentes!$H:$H,0),1))","v":""},{"$f":"CONCATENATE(F134,G134,I134,BV134,BW134,BX134,BY134,P134,Q134,R134)","v":""},{"$f":"IF(Y134=\"\",\"\",INDEX(referentes!S:T,MATCH(Y134,referentes!$T:$T,0),1))","v":""},{"$f":"IF(BO134=\"\",\"\",INDEX(referentes!J:K,MATCH(BO134,referentes!$K:$K,0),1))","v":""},{"$f":"IF(BJ134=\"\",\"\",INDEX(referentes!V:W,MATCH(BJ134,referentes!$W:$W,0),1))","v":""},{"$f":"IF(BK134=\"\",\"\",INDEX(referentes!Y:Z,MATCH(BK134,referentes!$Z:$Z,0),1))","v":""},{"$f":"IF(BL134=\"\",\"\",INDEX(referentes!AB:AC,MATCH(BL134,referentes!$AC:$AC,0),1))","v":""},{"$f":"IF(BM134=\"\",\"\",INDEX(referentes!AE:AF,MATCH(BM134,referentes!$AF:$AF,0),1))","v":""},{"$f":"IF(BB134=\"\",\"\",INDEX(referentes!M:N,MATCH(BB134,referentes!$N:$N,0),1))","v":""},{"$f":"IF(BQ134=\"\",\"\",INDEX('Otras referencias'!S:T,MATCH(BQ134,'Otras referencias'!$T:$T,0),1))","v":""},{"$f":"IF(BN134=\"\",\"\",INDEX('Otras referencias'!A:B,MATCH(BN134,'Otras referencias'!$B:$B,0),1))","v":""},""]
[{"$f":"IF(CJ135=CJ134,A134,A134+1)","v":1},"",{"$f":"IF(E135<>\"\",CONCATENATE(DIGITADOR!$M$1,TEXT(D135, \"YYYYMMDD\"),ROW()-5),\"\")","v":""},null,null,{"$f":"IF(D135<>\"\",D135+E135,\"\")","v":""},{"$f":"IF(H135=\"\",\"\",INDEX(referentes!AQ:AR,MATCH(H135,referentes!$AR:$AR,0),1))","v":""},null,{"$f":"IF(J135=\"\",\"\",VLOOKUP(J135,referentes!$AL$2:$AO$29,3,FALSE))","v":""},null,null,null,null,null,null,null,null,null,null,null,null,{"$f":"IF(W135=\"\",\"\",IF(W135=W134,B134,B134+1))","v":""},null,null,null,null,null,null,null,null,null,null,null,null,null,null,null,null,null,null,null,null,null,null,null,null,null,{"$f":"IF(AW135=\"\",\"\",DIGITADOR!$B$14)","v":""},{"$f":"IF(SUM(Z135:AU135)=0,\"\",SUM(Z135:AU135))","v":""},null,null,null,{"$f":"IF(SUM(AX135:AZ135)=0,\"\",SUM(AX135:AZ135))","v":""},null,null,null,null,null,null,null,null,null,null,null,null,null,null,null,null,null,null,{"$f":"IF(D135=\"\",\"\",CONCATENATE(C135,V135,B135))","v":""},{"$f":"IF(C135=\"\",\"\",IF(COUNTIF($C$6:C135, C135)>1, \"\", C135))","v":""},{"$f":"IF(N135=\"\",\"\",INDEX(referentes!P:Q,MATCH(N135,referentes!$Q:$Q,0),1))","v":""},{"$f":"IF(O135=\"\",\"\",INDEX(referentes!$A:$B,MATCH(O135,referentes!$B:$B,0),1))","v":""},{"$f":"IF(S135=\"\",\"\",INDEX(referentes!D:E,MATCH(S135,referentes!$E:$E,0),1))","v":""},{"$f":"IF(T135=\"\",\"\",INDEX(referentes!G:H,MATCH(T135,referentes!$H:$H,0),1))","v":""},"",{"$f":"IF(Y135=\"\",\"\",INDEX(referentes!S:T,MATCH(Y135,referentes!$T:$T,0),1))","v":""},{"$f":"IF(BO135=\"\",\"\",INDEX(referentes!J:K,MATCH(BO135,referentes!$K:$K,0),1))","v":""},{"$f":"IF(BJ135=\"\",\"\",INDEX(referentes!V:W,MATCH(BJ135,referentes!$W:$W,0),1))","v":""},{"$f":"IF(BK135=\"\",\"\",INDEX(referentes!Y:Z,MATCH(BK135,referentes!$Z:$Z,0),1))","v":""},{"$f":"IF(BL135=\"\",\"\",INDEX(referentes!AB:AC,MATCH(BL135,referentes!$AC:$AC,0),1))","v":""},{"$f":"IF(BM135=\"\",\"\",INDEX(referentes!AE:AF,MATCH(BM135,referentes!$AF:$AF,0),1))","v":""},{"$f":"IF(BB135=\"\",\"\",INDEX(referentes!M:N,MATCH(BB135,referentes!$N:$N,0),1))","v":""},{"$f":"IF(BQ135=\"\",\"\",INDEX('Otras referencias'!S:T,MATCH(BQ135,'Otras referencias'!$T:$T,0),1))","v":""},{"$f":"IF(BN135=\"\",\"\",INDEX('Otras referencias'!A:B,MATCH(BN135,'Otras referencias'!$B:$B,0),1))","v":""},{"$f":"IF(D135=\"\",\"\",CONCATENATE(TEXT(D135,\"YYYYMMDD\"),I135))","v":""}]
[1,"",{"$f":"IF(E136<>\"\",CONCATENATE(DIGITADOR!$M$1,TEXT(D136, \"YYYYMMDD\"),ROW()-5),\"\")","v":""},null,null,"",{"$f":"IF(H136=\"\",\"\",INDEX(referentes!AQ:AR,MATCH(H136,referentes!$AR:$AR,0),1))","v":""},null,{"$f":"IF(J136=\"\",\"\",VLOOKUP(J136,referentes!$AL$2:$AO$29,3,FALSE))","v":""},null,null,null,null,null,null,null,null,null,null,null,null,"",null,null,null,null,null,null,null,null,null,null,null,null,null,null,null,null,null,null,null,null,null,null,null,null,null,{"$f":"IF(AW136=\"\",\"\",DIGITADOR!$B$14)","v":""},"",null,null,null,"",null,null,null,null,null,null,null,null,null,null,null,null,null,null,null,null,null,null,"",{"$f":"IF(C136=\"\",\"\",IF(COUNTIF($C$6:C136, C136)>1, \"\", C136))","v":""},{"$f":"IF(N136=\"\",\"\",INDEX(referentes!P:Q,MATCH(N136,referentes!$Q:$Q,0),1))","v":""},{"$f":"IF(O136=\"\",\"\",INDEX(referentes!$A:$B,MATCH(O136,referentes!$B:$B,0),1))","v":""},{"$f":"IF(S136=\"\",\"\",INDEX(referentes!D:E,MATCH(S136,referentes!$E:$E,0),1))","v":""},{"$f":"IF(T136=\"\",\"\",INDEX(referentes!G:H,MATCH(T136,referentes!$H:$H,0),1))","v":""},"",{"$f":"IF(Y136=\"\",\"\",INDEX(referentes!S:T,MATCH(Y136,referentes!$T:$T,0),1))","v":""},{"$f":"IF(BO136=\"\",\"\",INDEX(referentes!J:K,MATCH(BO136,referentes!$K:$K,0),1))","v":""},{"$f":"IF(BJ136=\"\",\"\",INDEX(referentes!V:W,MATCH(BJ136,referentes!$W:$W,0),1))","v":""},{"$f":"IF(BK136=\"\",\"\",INDEX(referentes!Y:Z,MATCH(BK136,referentes!$Z:$Z,0),1))","v":""},{"$f":"IF(BL136=\"\",\"\",INDEX(referentes!AB:AC,MATCH(BL136,referentes!$AC:$AC,0),1))","v":""},{"$f":"IF(BM136=\"\",\"\",INDEX(referentes!AE:AF,MATCH(BM136,referentes!$AF:$AF,0),1))","v":""},{"$f":"IF(BB136=\"\",\"\",INDEX(referentes!M:N,MATCH(BB136,referentes!$N:$N,0),1))","v":""},{"$f":"IF(BQ136=\"\",\"\",INDEX('Otras referencias'!S:T,MATCH(BQ136,'Otras referencias'!$T:$T,0),1))","v":""},{"$f":"IF(BN136=\"\",\"\",INDEX('Otras referencias'!A:B,MATCH(BN136,'Otras referencias'!$B:$B,0),1))","v":""},""]
[1,"",{"$f":"IF(E137<>\"\",CONCATENATE(DIGITADOR!$M$1,TEXT(D137, \"YYYYMMDD\"),ROW()-5),\"\")","v":""},null,null,"",{"$f":"IF(H137=\"\",\"\",INDEX(referentes!AQ:AR,MATCH(H137,referentes!$AR:$AR,0),1))","v":""},null,{"$f":"IF(J137=\"\",\"\",VLOOKUP(J137,referentes!$AL$2:$AO$29,3,FALSE))","v":""},null,null,null,null,null,null,null,null,null,null,null,null,"",null,null,null,null,null,null,null,null,null,null,null,null,null,null,null,null,null,null,null,null,null,null,null,null,null,{"$f":"IF(AW137=\"\",\"\",DIGITADOR!$B$14)","v":""},"",null,null,null,"",null,null,null,null,null,null,null,null,null,null,null,null,null,null,null,null,null,null,"",{"$f":"IF(C137=\"\",\"\",IF(COUNTIF($C$6:C137, C137)>1, \"\", C137))","v":""},{"$f":"IF(N137=\"\",\"\",INDEX(referentes!P:Q,MATCH(N137,referentes!$Q:$Q,0),1))","v":""},{"$f":"IF(O137=\"\",\"\",INDEX(referentes!$A:$B,MATCH(O137,referentes!$B:$B,0),1))","v":""},{"$f":"IF(S137=\"\",\"\",INDEX(referentes!D:E,MATCH(S137,referentes!$E:$E,0),1))","v":""},{"$f":"IF(T137=\"\",\"\",INDEX(referentes!G:H,MATCH(T137,referentes!$H:$H,0),1))","v":""},"",{"$f":"IF(Y137=\"\",\"\",INDEX(referentes!S:T,MATCH(Y137,referentes!$T:$T,0),1))","v":""},{"$f":"IF(BO137=\"\",\"\",INDEX(referentes!J:K,MATCH(BO137,referentes!$K:$K,0),1))","v":""},{"$f":"IF(BJ137=\"\",\"\",INDEX(referentes!V:W,MATCH(BJ137,referentes!$W:$W,0),1))","v":""},{"$f":"IF(BK137=\"\",\"\",INDEX(referentes!Y:Z,MATCH(BK137,referentes!$Z:$Z,0),1))","v":""},{"$f":"IF(BL137=\"\",\"\",INDEX(referentes!AB:AC,MATCH(BL137,referentes!$AC:$AC,0),1))","v":""},{"$f":"IF(BM137=\"\",\"\",INDEX(referentes!AE:AF,MATCH(BM137,referentes!$AF:$AF,0),1))","v":""},{"$f":"IF(BB137=\"\",\"\",INDEX(referentes!M:N,MATCH(BB137,referentes!$N:$N,0),1))","v":""},{"$f":"IF(BQ137=\"\",\"\",INDEX('Otras referencias'!S:T,MATCH(BQ137,'Otras referencias'!$T:$T,0),1))","v":""},{"$f":"IF(BN137=\"\",\"\",INDEX('Otras referencias'!A:B,MATCH(BN137,'Otras referencias'!$B:$B,0),1))","v":""},""]
[1,"",{"$f":"IF(E138<>\"\",CONCATENATE(DIGITADOR!$M$1,TEXT(D138, \"YYYYMMDD\"),ROW()-5),\"\")","v":""},null,null,"",{"$f":"IF(H138=\"\",\"\",INDEX(referentes!AQ:AR,MATCH(H138,referentes!$AR:$AR,0),1))","v":""},null,{"$f":"IF(J138=\"\",\"\",VLOOKUP(J138,referentes!$AL$2:$AO$29,3,FALSE))","v":""},null,null,null,null,null,null,null,null,null,null,null,null,"",null,null,null,null,null,null,null,null,null,null,null,null,null,null,null,null,null,null,null,null,null,null,null,null,null,{"$f":"IF(AW138=\"\",\"\",DIGITADOR!$B$14)","v":""},"",null,null,null,"",null,null,null,null,null,null,null,null,null,null,null,null,null,null,null,null,null,null,"",{"$f":"IF(C138=\"\",\"\",IF(COUNTIF($C$6:C138, C138)>1, \"\", C138))","v":""},{"$f":"IF(N138=\"\",\"\",INDEX(referentes!P:Q,MATCH(N138,referentes!$Q:$Q,0),1))","v":""},{"$f":"IF(O138=\"\",\"\",INDEX(referentes!$A:$B,MATCH(O138,referentes!$B:$B,0),1))","v":""},{"$f":"IF(S138=\"\",\"\",INDEX(referentes!D:E,MATCH(S138,referentes!$E:$E,0),1))","v":""},{"$f":"IF(T138=\"\",\"\",INDEX(referentes!G:H,MATCH(T138,referentes!$H:$H,0),1))","v":""},"",{"$f":"IF(Y138=\"\",\"\",INDEX(referentes!S:T,MATCH(Y138,referentes!$T:$T,0),1))","v":""},{"$f":"IF(BO138=\"\",\"\",INDEX(referentes!J:K,MATCH(BO138,referentes!$K:$K,0),1))","v":""},{"$f":"IF(BJ138=\"\",\"\",INDEX(referentes!V:W,MATCH(BJ138,referentes!$W:$W,0),1))","v":""},{"$f":"IF(BK138=\"\",\"\",INDEX(referentes!Y:Z,MATCH(BK138,referentes!$Z:$Z,0),1))","v":""},{"$f":"IF(BL138=\"\",\"\",INDEX(referentes!AB:AC,MATCH(BL138,referentes!$AC:$AC,0),1))","v":""},{"$f":"IF(BM138=\"\",\"\",INDEX(referentes!AE:AF,MATCH(BM138,referentes!$AF:$AF,0),1))","v":""},{"$f":"IF(BB138=\"\",\"\",INDEX(referentes!M:N,MATCH(BB138,referentes!$N:$N,0),1))","v":""},{"$f":"IF(BQ138=\"\",\"\",INDEX('Otras referencias'!S:T,MATCH(BQ138,'Otras referencias'!$T:$T,0),1))","v":""},{"$f":"IF(BN138=\"\",\"\",INDEX('Otras referencias'!A:B,MATCH(BN138,'Otras referencias'!$B:$B,0),1))","v":""},""]
[1,"",{"$f":"IF(E139<>\"\",CONCATENATE(DIGITADOR!$M$1,TEXT(D139, \"YYYYMMDD\"),ROW()-5),\"\")","v":""},null,null,"",{"$f":"IF(H139=\"\",\"\",INDEX(referentes!AQ:AR,MATCH(H139,referentes!$AR:$AR,0),1))","v":""},null,{"$f":"IF(J139=\"\",\"\",VLOOKUP(J139,referentes!$AL$2:$AO$29,3,FALSE))","v":""},null,null,null,null,null,null,null,null,null,null,null,null,"",null,null,null,null,null,null,null,null,null,null,null,null,null,null,null,null,null,null,null,null,null,null,null,null,null,{"$f":"IF(AW139=\"\",\"\",DIGITADOR!$B$14)","v":""},"",null,null,null,"",null,null,null,null,null,null,null,null,null,null,null,null,null,null,null,null,null,null,"",{"$f":"IF(C139=\"\",\"\",IF(COUNTIF($C$6:C139, C139)>1, \"\", C139))","v":""},{"$f":"IF(N139=\"\",\"\",INDEX(referentes!P:Q,MATCH(N139,referentes!$Q:$Q,0),1))","v":""},{"$f":"IF(O139=\"\",\"\",INDEX(referentes!$A:$B,MATCH(O139,referentes!$B:$B,0),1))","v":""},{"$f":"IF(S139=\"\",\"\",INDEX(referentes!D:E,MATCH(S139,referentes!$E:$E,0),1))","v":""},{"$f":"IF(T139=\"\",\"\",INDEX(referentes!G:H,MATCH(T139,referentes!$H:$H,0),1))","v":""},"",{"$f":"IF(Y139=\"\",\"\",INDEX(referentes!S:T,MATCH(Y139,referentes!$T:$T,0),1))","v":""},{"$f":"IF(BO139=\"\",\"\",INDEX(referentes!J:K,MATCH(BO139,referentes!$K:$K,0),1))","v":""},{"$f":"IF(BJ139=\"\",\"\",INDEX(referentes!V:W,MATCH(BJ139,referentes!$W:$W,0),1))","v":""},{"$f":"IF(BK139=\"\",\"\",INDEX(referentes!Y:Z,MATCH(BK139,referentes!$Z:$Z,0),1))","v":""},{"$f":"IF(BL139=\"\",\"\",INDEX(referentes!AB:AC,MATCH(BL139,referentes!$AC:$AC,0),1))","v":""},{"$f":"IF(BM139=\"\",\"\",INDEX(referentes!AE:AF,MATCH(BM139,referentes!$AF:$AF,0),1))","v":""},{"$f":"IF(BB139=\"\",\"\",INDEX(referentes!M:N,MATCH(BB139,referentes!$N:$N,0),1))","v":""},{"$f":"IF(BQ139=\"\",\"\",INDEX('Otras referencias'!S:T,MATCH(BQ139,'Otras referencias'!$T:$T,0),1))","v":""},{"$f":"IF(BN139=\"\",\"\",INDEX('Otras referencias'!A:B,MATCH(BN139,'Otras referencias'!$B:$B,0),1))","v":""},""]
[1,"",{"$f":"IF(E140<>\"\",CONCATENATE(DIGITADOR!$M$1,TEXT(D140, \"YYYYMMDD\"),ROW()-5),\"\")","v":""},null,null,"",{"$f":"IF(H140=\"\",\"\",INDEX(referentes!AQ:AR,MATCH(H140,referentes!$AR:$AR,0),1))","v":""},null,{"$f":"IF(J140=\"\",\"\",VLOOKUP(J140,referentes!$AL$2:$AO$29,3,FALSE))","v":""},null,null,null,null,null,null,null,null,null,null,null,null,"",null,null,null,null,null,null,null,null,null,null,null,null,null,null,null,null,null,null,null,null,null,null,null,null,null,{"$f":"IF(AW140=\"\",\"\",DIGITADOR!$B$14)","v":""},"",null,null,null,"",null,null,null,null,null,null,null,null,null,null,null,null,null,null,null,null,null,null,"",{"$f":"IF(C140=\"\",\"\",IF(COUNTIF($C$6:C140, C140)>1, \"\", C140))","v":""},{"$f":"IF(N140=\"\",\"\",INDEX(referentes!P:Q,MATCH(N140,referentes!$Q:$Q,0),1))","v":""},{"$f":"IF(O140=\"\",\"\",INDEX(referentes!$A:$B,MATCH(O140,referentes!$B:$B,0),1))","v":""},{"$f":"IF(S140=\"\",\"\",INDEX(referentes!D:E,MATCH(S140,referentes!$E:$E,0),1))","v":""},{"$f":"IF(T140=\"\",\"\",INDEX(referentes!G:H,MATCH(T140,referentes!$H:$H,0),1))","v":""},"",{"$f":"IF(Y140=\"\",\"\",INDEX(referentes!S:T,MATCH(Y140,referentes!$T:$T,0),1))","v":""},{"$f":"IF(BO140=\"\",\"\",INDEX(referentes!J:K,MATCH(BO140,referentes!$K:$K,0),1))","v":""},{"$f":"IF(BJ140=\"\",\"\",INDEX(referentes!V:W,MATCH(BJ140,referentes!$W:$W,0),1))","v":""},{"$f":"IF(BK140=\"\",\"\",INDEX(referentes!Y:Z,MATCH(BK140,referentes!$Z:$Z,0),1))","v":""},{"$f":"IF(BL140=\"\",\"\",INDEX(referentes!AB:AC,MATCH(BL140,referentes!$AC:$AC,0),1))","v":""},{"$f":"IF(BM140=\"\",\"\",INDEX(referentes!AE:AF,MATCH(BM140,referentes!$AF:$AF,0),1))","v":""},{"$f":"IF(BB140=\"\",\"\",INDEX(referentes!M:N,MATCH(BB140,referentes!$N:$N,0),1))","v":""},{"$f":"IF(BQ140=\"\",\"\",INDEX('Otras referencias'!S:T,MATCH(BQ140,'Otras referencias'!$T:$T,0),1))","v":""},{"$f":"IF(BN140=\"\",\"\",INDEX('Otras referencias'!A:B,MATCH(BN140,'Otras referencias'!$B:$B,0),1))","v":""},""]
[1,"",{"$f":"IF(E141<>\"\",CONCATENATE(DIGITADOR!$M$1,TEXT(D141, \"YYYYMMDD\"),ROW()-5),\"\")","v":""},null,null,"",{"$f":"IF(H141=\"\",\"\",INDEX(referentes!AQ:AR,MATCH(H141,referentes!$AR:$AR,0),1))","v":""},null,{"$f":"IF(J141=\"\",\"\",VLOOKUP(J141,referentes!$AL$2:$AO$29,3,FALSE))","v":""},null,null,null,null,null,null,null,null,null,null,null,null,"",null,null,null,null,null,null,null,null,null,null,null,null,null,null,null,null,null,null,null,null,null,null,null,null,null,{"$f":"IF(AW141=\"\",\"\",DIGITADOR!$B$14)","v":""},"",null,null,null,"",null,null,null,null,null,null,null,null,null,null,null,null,null,null,null,null,null,null,"",{"$f":"IF(C141=\"\",\"\",IF(COUNTIF($C$6:C141, C141)>1, \"\", C141))","v":""},{"$f":"IF(N141=\"\",\"\",INDEX(referentes!P:Q,MATCH(N141,referentes!$Q:$Q,0),1))","v":""},{"$f":"IF(O141=\"\",\"\",INDEX(referentes!$A:$B,MATCH(O141,referentes!$B:$B,0),1))","v":""},{"$f":"IF(S141=\"\",\"\",INDEX(referentes!D:E,MATCH(S141,referentes!$E:$E,0),1))","v":""},{"$f":"IF(T141=\"\",\"\",INDEX(referentes!G:H,MATCH(T141,referentes!$H:$H,0),1))","v":""},"",{"$f":"IF(Y141=\"\",\"\",INDEX(referentes!S:T,MATCH(Y141,referentes!$T:$T,0),1))","v":""},{"$f":"IF(BO141=\"\",\"\",INDEX(referentes!J:K,MATCH(BO141,referentes!$K:$K,0),1))","v":""},{"$f":"IF(BJ141=\"\",\"\",INDEX(referentes!V:W,MATCH(BJ141,referentes!$W:$W,0),1))","v":""},{"$f":"IF(BK141=\"\",\"\",INDEX(referentes!Y:Z,MATCH(BK141,referentes!$Z:$Z,0),1))","v":""},{"$f":"IF(BL141=\"\",\"\",INDEX(referentes!AB:AC,MATCH(BL141,referentes!$AC:$AC,0),1))","v":""},{"$f":"IF(BM141=\"\",\"\",INDEX(referentes!AE:AF,MATCH(BM141,referentes!$AF:$AF,0),1))","v":""},{"$f":"IF(BB141=\"\",\"\",INDEX(referentes!M:N,MATCH(BB141,referentes!$N:$N,0),1))","v":""},{"$f":"IF(BQ141=\"\",\"\",INDEX('Otras referencias'!S:T,MATCH(BQ141,'Otras referencias'!$T:$T,0),1))","v":""},{"$f":"IF(BN141=\"\",\"\",INDEX('Otras referencias'!A:B,MATCH(BN141,'Otras referencias'!$B:$B,0),1))","v":""},""]
[1,"",{"$f":"IF(E142<>\"\",CONCATENATE(DIGITADOR!$M$1,TEXT(D142, \"YYYYMMDD\"),ROW()-5),\"\")","v":""},null,null,"",{"$f":"IF(H142=\"\",\"\",INDEX(referentes!AQ:AR,MATCH(H142,referentes!$AR:$AR,0),1))","v":""},null,{"$f":"IF(J142=\"\",\"\",VLOOKUP(J142,referentes!$AL$2:$AO$29,3,FALSE))","v":""},null,null,null,null,null,null,null,null,null,null,null,null,"",null,null,null,null,null,null,null,null,null,null,null,null,null,null,null,null,null,null,null,null,null,null,null,null,null,{"$f":"IF(AW142=\"\",\"\",DIGITADOR!$B$14)","v":""},"",null,null,null,"",null,null,null,null,null,null,null,null,null,null,null,null,null,null,null,null,null,null,"",{"$f":"IF(C142=\"\",\"\",IF(COUNTIF($C$6:C142, C142)>1, \"\", C142))","v":""},{"$f":"IF(N142=\"\",\"\",INDEX(referentes!P:Q,MATCH(N142,referentes!$Q:$Q,0),1))","v":""},{"$f":"IF(O142=\"\",\"\",INDEX(referentes!$A:$B,MATCH(O142,referentes!$B:$B,0),1))","v":""},{"$f":"IF(S142=\"\",\"\",INDEX(referentes!D:E,MATCH(S142,referentes!$E:$E,0),1))","v":""},{"$f":"IF(T142=\"\",\"\",INDEX(referentes!G:H,MATCH(T142,referentes!$H:$H,0),1))","v":""},"",{"$f":"IF(Y142=\"\",\"\",INDEX(referentes!S:T,MATCH(Y142,referentes!$T:$T,0),1))","v":""},{"$f":"IF(BO142=\"\",\"\",INDEX(referentes!J:K,MATCH(BO142,referentes!$K:$K,0),1))","v":""},{"$f":"IF(BJ142=\"\",\"\",INDEX(referentes!V:W,MATCH(BJ142,referentes!$W:$W,0),1))","v":""},{"$f":"IF(BK142=\"\",\"\",INDEX(referentes!Y:Z,MATCH(BK142,referentes!$Z:$Z,0),1))","v":""},{"$f":"IF(BL142=\"\",\"\",INDEX(referentes!AB:AC,MATCH(BL142,referentes!$AC:$AC,0),1))","v":""},{"$f":"IF(BM142=\"\",\"\",INDEX(referentes!AE:AF,MATCH(BM142,referentes!$AF:$AF,0),1))","v":""},{"$f":"IF(BB142=\"\",\"\",INDEX(referentes!M:N,MATCH(BB142,referentes!$N:$N,0),1))","v":""},{"$f":"IF(BQ142=\"\",\"\",INDEX('Otras referencias'!S:T,MATCH(BQ142,'Otras referencias'!$T:$T,0),1))","v":""},{"$f":"IF(BN142=\"\",\"\",INDEX('Otras referencias'!A:B,MATCH(BN142,'Otras referencias'!$B:$B,0),1))","v":""},""]
[1,"",{"$f":"IF(E143<>\"\",CONCATENATE(DIGITADOR!$M$1,TEXT(D143, \"YYYYMMDD\"),ROW()-5),\"\")","v":""},null,null,"",{"$f":"IF(H143=\"\",\"\",INDEX(referentes!AQ:AR,MATCH(H143,referentes!$AR:$AR,0),1))","v":""},null,{"$f":"IF(J143=\"\",\"\",VLOOKUP(J143,referentes!$AL$2:$AO$29,3,FALSE))","v":""},null,null,null,null,null,null,null,null,null,null,null,null,"",null,null,null,null,null,null,null,null,null,null,null,null,null,null,null,null,null,null,null,null,null,null,null,null,null,{"$f":"IF(AW143=\"\",\"\",DIGITADOR!$B$14)","v":""},"",null,null,null,"",null,null,null,null,null,null,null,null,null,null,null,null,null,null,null,null,null,null,"",{"$f":"IF(C143=\"\",\"\",IF(COUNTIF($C$6:C143, C143)>1, \"\", C143))","v":""},{"$f":"IF(N143=\"\",\"\",INDEX(referentes!P:Q,MATCH(N143,referentes!$Q:$Q,0),1))","v":""},{"$f":"IF(O143=\"\",\"\",INDEX(referentes!$A:$B,MATCH(O143,referentes!$B:$B,0),1))","v":""},{"$f":"IF(S143=\"\",\"\",INDEX(referentes!D:E,MATCH(S143,referentes!$E:$E,0),1))","v":""},{"$f":"IF(T143=\"\",\"\",INDEX(referentes!G:H,MATCH(T143,referentes!$H:$H,0),1))","v":""},"",{"$f":"IF(Y143=\"\",\"\",INDEX(referentes!S:T,MATCH(Y143,referentes!$T:$T,0),1))","v":""},{"$f":"IF(BO143=\"\",\"\",INDEX(referentes!J:K,MATCH(BO143,referentes!$K:$K,0),1))","v":""},{"$f":"IF(BJ143=\"\",\"\",INDEX(referentes!V:W,MATCH(BJ143,referentes!$W:$W,0),1))","v":""},{"$f":"IF(BK143=\"\",\"\",INDEX(referentes!Y:Z,MATCH(BK143,referentes!$Z:$Z,0),1))","v":""},{"$f":"IF(BL143=\"\",\"\",INDEX(referentes!AB:AC,MATCH(BL143,referentes!$AC:$AC,0),1))","v":""},{"$f":"IF(BM143=\"\",\"\",INDEX(referentes!AE:AF,MATCH(BM143,referentes!$AF:$AF,0),1))","v":""},{"$f":"IF(BB143=\"\",\"\",INDEX(referentes!M:N,MATCH(BB143,referentes!$N:$N,0),1))","v":""},{"$f":"IF(BQ143=\"\",\"\",INDEX('Otras referencias'!S:T,MATCH(BQ143,'Otras referencias'!$T:$T,0),1))","v":""},{"$f":"IF(BN143=\"\",\"\",INDEX('Otras referencias'!A:B,MATCH(BN143,'Otras referencias'!$B:$B,0),1))","v":""},""]
[1,"",{"$f":"IF(E144<>\"\",CONCATENATE(DIGITADOR!$M$1,TEXT(D144, \"YYYYMMDD\"),ROW()-5),\"\")","v":""},null,null,"",{"$f":"IF(H144=\"\",\"\",INDEX(referentes!AQ:AR,MATCH(H144,referentes!$AR:$AR,0),1))","v":""},null,{"$f":"IF(J144=\"\",\"\",VLOOKUP(J144,referentes!$AL$2:$AO$29,3,FALSE))","v":""},null,null,null,null,null,null,null,null,null,null,null,null,"",null,null,null,null,null,null,null,null,null,null,null,null,null,null,null,null,null,null,null,null,null,null,null,null,null,{"$f":"IF(AW144=\"\",\"\",DIGITADOR!$B$14)","v":""},"",null,null,null,"",null,null,null,null,null,null,null,null,null,null,null,null,null,null,null,null,null,null,"",{"$f":"IF(C144=\"\",\"\",IF(COUNTIF($C$6:C144, C144)>1, \"\", C144))","v":""},{"$f":"IF(N144=\"\",\"\",INDEX(referentes!P:Q,MATCH(N144,referentes!$Q:$Q,0),1))","v":""},{"$f":"IF(O144=\"\",\"\",INDEX(referentes!$A:$B,MATCH(O144,referentes!$B:$B,0),1))","v":""},{"$f":"IF(S144=\"\",\"\",INDEX(referentes!D:E,MATCH(S144,referentes!$E:$E,0),1))","v":""},{"$f":"IF(T144=\"\",\"\",INDEX(referentes!G:H,MATCH(T144,referentes!$H:$H,0),1))","v":""},"",{"$f":"IF(Y144=\"\",\"\",INDEX(referentes!S:T,MATCH(Y144,referentes!$T:$T,0),1))","v":""},{"$f":"IF(BO144=\"\",\"\",INDEX(referentes!J:K,MATCH(BO144,referentes!$K:$K,0),1))","v":""},{"$f":"IF(BJ144=\"\",\"\",INDEX(referentes!V:W,MATCH(BJ144,referentes!$W:$W,0),1))","v":""},{"$f":"IF(BK144=\"\",\"\",INDEX(referentes!Y:Z,MATCH(BK144,referentes!$Z:$Z,0),1))","v":""},{"$f":"IF(BL144=\"\",\"\",INDEX(referentes!AB:AC,MATCH(BL144,referentes!$AC:$AC,0),1))","v":""},{"$f":"IF(BM144=\"\",\"\",INDEX(referentes!AE:AF,MATCH(BM144,referentes!$AF:$AF,0),1))","v":""},{"$f":"IF(BB144=\"\",\"\",INDEX(referentes!M:N,MATCH(BB144,referentes!$N:$N,0),1))","v":""},{"$f":"IF(BQ144=\"\",\"\",INDEX('Otras referencias'!S:T,MATCH(BQ144,'Otras referencias'!$T:$T,0),1))","v":""},{"$f":"IF(BN144=\"\",\"\",INDEX('Otras referencias'!A:B,MATCH(BN144,'Otras referencias'!$B:$B,0),1))","v":""},""]
[1,"",{"$f":"IF(E145<>\"\",CONCATENATE(DIGITADOR!$M$1,TEXT(D145, \"YYYYMMDD\"),ROW()-5),\"\")","v":""},null,null,"",{"$f":"IF(H145=\"\",\"\",INDEX(referentes!AQ:AR,MATCH(H145,referentes!$AR:$AR,0),1))","v":""},null,{"$f":"IF(J145=\"\",\"\",VLOOKUP(J145,referentes!$AL$2:$AO$29,3,FALSE))","v":""},null,null,null,null,null,null,null,null,null,null,null,null,"",null,null,null,null,null,null,null,null,null,null,null,null,null,null,null,null,null,null,null,null,null,null,null,null,null,{"$f":"IF(AW145=\"\",\"\",DIGITADOR!$B$14)","v":""},"",null,null,null,"",null,null,null,null,null,null,null,null,null,null,null,null,null,null,null,null,null,null,"",{"$f":"IF(C145=\"\",\"\",IF(COUNTIF($C$6:C145, C145)>1, \"\", C145))","v":""},{"$f":"IF(N145=\"\",\"\",INDEX(referentes!P:Q,MATCH(N145,referentes!$Q:$Q,0),1))","v":""},{"$f":"IF(O145=\"\",\"\",INDEX(referentes!$A:$B,MATCH(O145,referentes!$B:$B,0),1))","v":""},{"$f":"IF(S145=\"\",\"\",INDEX(referentes!D:E,MATCH(S145,referentes!$E:$E,0),1))","v":""},{"$f":"IF(T145=\"\",\"\",INDEX(referentes!G:H,MATCH(T145,referentes!$H:$H,0),1))","v":""},"",{"$f":"IF(Y145=\"\",\"\",INDEX(referentes!S:T,MATCH(Y145,referentes!$T:$T,0),1))","v":""},{"$f":"IF(BO145=\"\",\"\",INDEX(referentes!J:K,MATCH(BO145,referentes!$K:$K,0),1))","v":""},{"$f":"IF(BJ145=\"\",\"\",INDEX(referentes!V:W,MATCH(BJ145,referentes!$W:$W,0),1))","v":""},{"$f":"IF(BK145=\"\",\"\",INDEX(referentes!Y:Z,MATCH(BK145,referentes!$Z:$Z,0),1))","v":""},{"$f":"IF(BL145=\"\",\"\",INDEX(referentes!AB:AC,MATCH(BL145,referentes!$AC:$AC,0),1))","v":""},{"$f":"IF(BM145=\"\",\"\",INDEX(referentes!AE:AF,MATCH(BM145,referentes!$AF:$AF,0),1))","v":""},{"$f":"IF(BB145=\"\",\"\",INDEX(referentes!M:N,MATCH(BB145,referentes!$N:$N,0),1))","v":""},{"$f":"IF(BQ145=\"\",\"\",INDEX('Otras referencias'!S:T,MATCH(BQ145,'Otras referencias'!$T:$T,0),1))","v":""},{"$f":"IF(BN145=\"\",\"\",INDEX('Otras referencias'!A:B,MATCH(BN145,'Otras referencias'!$B:$B,0),1))","v":""},""]
[1,"",{"$f":"IF(E146<>\"\",CONCATENATE(DIGITADOR!$M$1,TEXT(D146, \"YYYYMMDD\"),ROW()-5),\"\")","v":""},null,null,"",{"$f":"IF(H146=\"\",\"\",INDEX(referentes!AQ:AR,MATCH(H146,referentes!$AR:$AR,0),1))","v":""},null,{"$f":"IF(J146=\"\",\"\",VLOOKUP(J146,referentes!$AL$2:$AO$29,3,FALSE))","v":""},null,null,null,null,null,null,null,null,null,null,null,null,"",null,null,null,null,null,null,null,null,null,null,null,null,null,null,null,null,null,null,null,null,null,null,null,null,null,{"$f":"IF(AW146=\"\",\"\",DIGITADOR!$B$14)","v":""},"",null,null,null,"",null,null,null,null,null,null,null,null,null,null,null,null,null,null,null,null,null,null,"",{"$f":"IF(C146=\"\",\"\",IF(COUNTIF($C$6:C146, C146)>1, \"\", C146))","v":""},{"$f":"IF(N146=\"\",\"\",INDEX(referentes!P:Q,MATCH(N146,referentes!$Q:$Q,0),1))","v":""},{"$f":"IF(O146=\"\",\"\",INDEX(referentes!$A:$B,MATCH(O146,referentes!$B:$B,0),1))","v":""},{"$f":"IF(S146=\"\",\"\",INDEX(referentes!D:E,MATCH(S146,referentes!$E:$E,0),1))","v":""},{"$f":"IF(T146=\"\",\"\",INDEX(referentes!G:H,MATCH(T146,referentes!$H:$H,0),1))","v":""},"",{"$f":"IF(Y146=\"\",\"\",INDEX(referentes!S:T,MATCH(Y146,referentes!$T:$T,0),1))","v":""},{"$f":"IF(BO146=\"\",\"\",INDEX(referentes!J:K,MATCH(BO146,referentes!$K:$K,0),1))","v":""},{"$f":"IF(BJ146=\"\",\"\",INDEX(referentes!V:W,MATCH(BJ146,referentes!$W:$W,0),1))","v":""},{"$f":"IF(BK146=\"\",\"\",INDEX(referentes!Y:Z,MATCH(BK146,referentes!$Z:$Z,0),1))","v":""},{"$f":"IF(BL146=\"\",\"\",INDEX(referentes!AB:AC,MATCH(BL146,referentes!$AC:$AC,0),1))","v":""},{"$f":"IF(BM146=\"\",\"\",INDEX(referentes!AE:AF,MATCH(BM146,referentes!$AF:$AF,0),1))","v":""},{"$f":"IF(BB146=\"\",\"\",INDEX(referentes!M:N,MATCH(BB146,referentes!$N:$N,0),1))","v":""},{"$f":"IF(BQ146=\"\",\"\",INDEX('Otras referencias'!S:T,MATCH(BQ146,'Otras referencias'!$T:$T,0),1))","v":""},{"$f":"IF(BN146=\"\",\"\",INDEX('Otras referencias'!A:B,MATCH(BN146,'Otras referencias'!$B:$B,0),1))","v":""},""]
[1,"",{"$f":"IF(E147<>\"\",CONCATENATE(DIGITADOR!$M$1,TEXT(D147, \"YYYYMMDD\"),ROW()-5),\"\")","v":""},null,null,"",{"$f":"IF(H147=\"\",\"\",INDEX(referentes!AQ:AR,MATCH(H147,referentes!$AR:$AR,0),1))","v":""},null,{"$f":"IF(J147=\"\",\"\",VLOOKUP(J147,referentes!$AL$2:$AO$29,3,FALSE))","v":""},null,null,null,null,null,null,null,null,null,null,null,null,"",null,null,null,null,null,null,null,null,null,null,null,null,null,null,null,null,null,null,null,null,null,null,null,null,null,{"$f":"IF(AW147=\"\",\"\",DIGITADOR!$B$14)","v":""},"",null,null,null,"",null,null,null,null,null,null,null,null,null,null,null,null,null,null,null,null,null,null,"",{"$f":"IF(C147=\"\",\"\",IF(COUNTIF($C$6:C147, C147)>1, \"\", C147))","v":""},{"$f":"IF(N147=\"\",\"\",INDEX(referentes!P:Q,MATCH(N147,referentes!$Q:$Q,0),1))","v":""},{"$f":"IF(O147=\"\",\"\",INDEX(referentes!$A:$B,MATCH(O147,referentes!$B:$B,0),1))","v":""},{"$f":"IF(S147=\"\",\"\",INDEX(referentes!D:E,MATCH(S147,referentes!$E:$E,0),1))","v":""},{"$f":"IF(T147=\"\",\"\",INDEX(referentes!G:H,MATCH(T147,referentes!$H:$H,0),1))","v":""},"",{"$f":"IF(Y147=\"\",\"\",INDEX(referentes!S:T,MATCH(Y147,referentes!$T:$T,0),1))","v":""},{"$f":"IF(BO147=\"\",\"\",INDEX(referentes!J:K,MATCH(BO147,referentes!$K:$K,0),1))","v":""},{"$f":"IF(BJ147=\"\",\"\",INDEX(referentes!V:W,MATCH(BJ147,referentes!$W:$W,0),1))","v":""},{"$f":"IF(BK147=\"\",\"\",INDEX(referentes!Y:Z,MATCH(BK147,referentes!$Z:$Z,0),1))","v":""},{"$f":"IF(BL147=\"\",\"\",INDEX(referentes!AB:AC,MATCH(BL147,referentes!$AC:$AC,0),1))","v":""},{"$f":"IF(BM147=\"\",\"\",INDEX(referentes!AE:AF,MATCH(BM147,referentes!$AF:$AF,0),1))","v":""},{"$f":"IF(BB147=\"\",\"\",INDEX(referentes!M:N,MATCH(BB147,referentes!$N:$N,0),1))","v":""},{"$f":"IF(BQ147=\"\",\"\",INDEX('Otras referencias'!S:T,MATCH(BQ147,'Otras referencias'!$T:$T,0),1))","v":""},{"$f":"IF(BN147=\"\",\"\",INDEX('Otras referencias'!A:B,MATCH(BN147,'Otras referencias'!$B:$B,0),1))","v":""},""]
[1,"",{"$f":"IF(E148<>\"\",CONCATENATE(DIGITADOR!$M$1,TEXT(D148, \"YYYYMMDD\"),ROW()-5),\"\")","v":""},null,null,"",{"$f":"IF(H148=\"\",\"\",INDEX(referentes!AQ:AR,MATCH(H148,referentes!$AR:$AR,0),1))","v":""},null,{"$f":"IF(J148=\"\",\"\",VLOOKUP(J148,referentes!$AL$2:$AO$29,3,FALSE))","v":""},null,null,null,null,null,null,null,null,null,null,null,null,"",null,null,null,null,null,null,null,null,null,null,null,null,null,null,null,null,null,null,null,null,null,null,null,null,null,{"$f":"IF(AW148=\"\",\"\",DIGITADOR!$B$14)","v":""},"",null,null,null,"",null,null,null,null,null,null,null,null,null,null,null,null,null,null,null,null,null,null,"",{"$f":"IF(C148=\"\",\"\",IF(COUNTIF($C$6:C148, C148)>1, \"\", C148))","v":""},{"$f":"IF(N148=\"\",\"\",INDEX(referentes!P:Q,MATCH(N148,referentes!$Q:$Q,0),1))","v":""},{"$f":"IF(O148=\"\",\"\",INDEX(referentes!$A:$B,MATCH(O148,referentes!$B:$B,0),1))","v":""},{"$f":"IF(S148=\"\",\"\",INDEX(referentes!D:E,MATCH(S148,referentes!$E:$E,0),1))","v":""},{"$f":"IF(T148=\"\",\"\",INDEX(referentes!G:H,MATCH(T148,referentes!$H:$H,0),1))","v":""},"",{"$f":"IF(Y148=\"\",\"\",INDEX(referentes!S:T,MATCH(Y148,referentes!$T:$T,0),1))","v":""},{"$f":"IF(BO148=\"\",\"\",INDEX(referentes!J:K,MATCH(BO148,referentes!$K:$K,0),1))","v":""},{"$f":"IF(BJ148=\"\",\"\",INDEX(referentes!V:W,MATCH(BJ148,referentes!$W:$W,0),1))","v":""},{"$f":"IF(BK148=\"\",\"\",INDEX(referentes!Y:Z,MATCH(BK148,referentes!$Z:$Z,0),1))","v":""},{"$f":"IF(BL148=\"\",\"\",INDEX(referentes!AB:AC,MATCH(BL148,referentes!$AC:$AC,0),1))","v":""},{"$f":"IF(BM148=\"\",\"\",INDEX(referentes!AE:AF,MATCH(BM148,referentes!$AF:$AF,0),1))","v":""},{"$f":"IF(BB148=\"\",\"\",INDEX(referentes!M:N,MATCH(BB148,referentes!$N:$N,0),1))","v":""},{"$f":"IF(BQ148=\"\",\"\",INDEX('Otras referencias'!S:T,MATCH(BQ148,'Otras referencias'!$T:$T,0),1))","v":""},{"$f":"IF(BN148=\"\",\"\",INDEX('Otras referencias'!A:B,MATCH(BN148,'Otras referencias'!$B:$B,0),1))","v":""},""]
[1,"",{"$f":"IF(E149<>\"\",CONCATENATE(DIGITADOR!$M$1,TEXT(D149, \"YYYYMMDD\"),ROW()-5),\"\")","v":""},null,null,"",{"$f":"IF(H149=\"\",\"\",INDEX(referentes!AQ:AR,MATCH(H149,referentes!$AR:$AR,0),1))","v":""},null,{"$f":"IF(J149=\"\",\"\",VLOOKUP(J149,referentes!$AL$2:$AO$29,3,FALSE))","v":""},null,null,null,null,null,null,null,null,null,null,null,null,"",null,null,null,null,null,null,null,null,null,null,null,null,null,null,null,null,null,null,null,null,null,null,null,null,null,{"$f":"IF(AW149=\"\",\"\",DIGITADOR!$B$14)","v":""},"",null,null,null,"",null,null,null,null,null,null,null,null,null,null,null,null,null,null,null,null,null,null,"",{"$f":"IF(C149=\"\",\"\",IF(COUNTIF($C$6:C149, C149)>1, \"\", C149))","v":""},{"$f":"IF(N149=\"\",\"\",INDEX(referentes!P:Q,MATCH(N149,referentes!$Q:$Q,0),1))","v":""},{"$f":"IF(O149=\"\",\"\",INDEX(referentes!$A:$B,MATCH(O149,referentes!$B:$B,0),1))","v":""},{"$f":"IF(S149=\"\",\"\",INDEX(referentes!D:E,MATCH(S149,referentes!$E:$E,0),1))","v":""},{"$f":"IF(T149=\"\",\"\",INDEX(referentes!G:H,MATCH(T149,referentes!$H:$H,0),1))","v":""},"",{"$f":"IF(Y149=\"\",\"\",INDEX(referentes!S:T,MATCH(Y149,referentes!$T:$T,0),1))","v":""},{"$f":"IF(BO149=\"\",\"\",INDEX(referentes!J:K,MATCH(BO149,referentes!$K:$K,0),1))","v":""},{"$f":"IF(BJ149=\"\",\"\",INDEX(referentes!V:W,MATCH(BJ149,referentes!$W:$W,0),1))","v":""},{"$f":"IF(BK149=\"\",\"\",INDEX(referentes!Y:Z,MATCH(BK149,referentes!$Z:$Z,0),1))","v":""},{"$f":"IF(BL149=\"\",\"\",INDEX(referentes!AB:AC,MATCH(BL149,referentes!$AC:$AC,0),1))","v":""},{"$f":"IF(BM149=\"\",\"\",INDEX(referentes!AE:AF,MATCH(BM149,referentes!$AF:$AF,0),1))","v":""},{"$f":"IF(BB149=\"\",\"\",INDEX(referentes!M:N,MATCH(BB149,referentes!$N:$N,0),1))","v":""},{"$f":"IF(BQ149=\"\",\"\",INDEX('Otras referencias'!S:T,MATCH(BQ149,'Otras referencias'!$T:$T,0),1))","v":""},{"$f":"IF(BN149=\"\",\"\",INDEX('Otras referencias'!A:B,MATCH(BN149,'Otras referencias'!$B:$B,0),1))","v":""},""]
[1,"",{"$f":"IF(E150<>\"\",CONCATENATE(DIGITADOR!$M$1,TEXT(D150, \"YYYYMMDD\"),ROW()-5),\"\")","v":""},null,null,"",{"$f":"IF(H150=\"\",\"\",INDEX(referentes!AQ:AR,MATCH(H150,referentes!$AR:$AR,0),1))","v":""},null,{"$f":"IF(J150=\"\",\"\",VLOOKUP(J150,referentes!$AL$2:$AO$29,3,FALSE))","v":""},null,null,null,null,null,null,null,null,null,null,null,null,"",null,null,null,null,null,null,null,null,null,null,null,null,null,null,null,null,null,null,null,null,null,null,null,null,null,{"$f":"IF(AW150=\"\",\"\",DIGITADOR!$B$14)","v":""},"",null,null,null,"",null,null,null,null,null,null,null,null,null,null,null,null,null,null,null,null,null,null,"",{"$f":"IF(C150=\"\",\"\",IF(COUNTIF($C$6:C150, C150)>1, \"\", C150))","v":""},{"$f":"IF(N150=\"\",\"\",INDEX(referentes!P:Q,MATCH(N150,referentes!$Q:$Q,0),1))","v":""},{"$f":"IF(O150=\"\",\"\",INDEX(referentes!$A:$B,MATCH(O150,referentes!$B:$B,0),1))","v":""},{"$f":"IF(S150=\"\",\"\",INDEX(referentes!D:E,MATCH(S150,referentes!$E:$E,0),1))","v":""},{"$f":"IF(T150=\"\",\"\",INDEX(referentes!G:H,MATCH(T150,referentes!$H:$H,0),1))","v":""},"",{"$f":"IF(Y150=\"\",\"\",INDEX(referentes!S:T,MATCH(Y150,referentes!$T:$T,0),1))","v":""},{"$f":"IF(BO150=\"\",\"\",INDEX(referentes!J:K,MATCH(BO150,referentes!$K:$K,0),1))","v":""},{"$f":"IF(BJ150=\"\",\"\",INDEX(referentes!V:W,MATCH(BJ150,referentes!$W:$W,0),1))","v":""},{"$f":"IF(BK150=\"\",\"\",INDEX(referentes!Y:Z,MATCH(BK150,referentes!$Z:$Z,0),1))","v":""},{"$f":"IF(BL150=\"\",\"\",INDEX(referentes!AB:AC,MATCH(BL150,referentes!$AC:$AC,0),1))","v":""},{"$f":"IF(BM150=\"\",\"\",INDEX(referentes!AE:AF,MATCH(BM150,referentes!$AF:$AF,0),1))","v":""},{"$f":"IF(BB150=\"\",\"\",INDEX(referentes!M:N,MATCH(BB150,referentes!$N:$N,0),1))","v":""},{"$f":"IF(BQ150=\"\",\"\",INDEX('Otras referencias'!S:T,MATCH(BQ150,'Otras referencias'!$T:$T,0),1))","v":""},{"$f":"IF(BN150=\"\",\"\",INDEX('Otras referencias'!A:B,MATCH(BN150,'Otras referencias'!$B:$B,0),1))","v":""},""]
[1,"",{"$f":"IF(E151<>\"\",CONCATENATE(DIGITADOR!$M$1,TEXT(D151, \"YYYYMMDD\"),ROW()-5),\"\")","v":""},null,null,"",{"$f":"IF(H151=\"\",\"\",INDEX(referentes!AQ:AR,MATCH(H151,referentes!$AR:$AR,0),1))","v":""},null,{"$f":"IF(J151=\"\",\"\",VLOOKUP(J151,referentes!$AL$2:$AO$29,3,FALSE))","v":""},null,null,null,null,null,null,null,null,null,null,null,null,"",null,null,null,null,null,null,null,null,null,null,null,null,null,null,null,null,null,null,null,null,null,null,null,null,null,{"$f":"IF(AW151=\"\",\"\",DIGITADOR!$B$14)","v":""},"",null,null,null,"",null,null,null,null,null,null,null,null,null,null,null,null,null,null,null,null,null,null,"",{"$f":"IF(C151=\"\",\"\",IF(COUNTIF($C$6:C151, C151)>1, \"\", C151))","v":""},{"$f":"IF(N151=\"\",\"\",INDEX(referentes!P:Q,MATCH(N151,referentes!$Q:$Q,0),1))","v":""},{"$f":"IF(O151=\"\",\"\",INDEX(referentes!$A:$B,MATCH(O151,referentes!$B:$B,0),1))","v":""},{"$f":"IF(S151=\"\",\"\",INDEX(referentes!D:E,MATCH(S151,referentes!$E:$E,0),1))","v":""},{"$f":"IF(T151=\"\",\"\",INDEX(referentes!G:H,MATCH(T151,referentes!$H:$H,0),1))","v":""},"",{"$f":"IF(Y151=\"\",\"\",INDEX(referentes!S:T,MATCH(Y151,referentes!$T:$T,0),1))","v":""},{"$f":"IF(BO151=\"\",\"\",INDEX(referentes!J:K,MATCH(BO151,referentes!$K:$K,0),1))","v":""},{"$f":"IF(BJ151=\"\",\"\",INDEX(referentes!V:W,MATCH(BJ151,referentes!$W:$W,0),1))","v":""},{"$f":"IF(BK151=\"\",\"\",INDEX(referentes!Y:Z,MATCH(BK151,referentes!$Z:$Z,0),1))","v":""},{"$f":"IF(BL151=\"\",\"\",INDEX(referentes!AB:AC,MATCH(BL151,referentes!$AC:$AC,0),1))","v":""},{"$f":"IF(BM151=\"\",\"\",INDEX(referentes!AE:AF,MATCH(BM151,referentes!$AF:$AF,0),1))","v":""},{"$f":"IF(BB151=\"\",\"\",INDEX(referentes!M:N,MATCH(BB151,referentes!$N:$N,0),1))","v":""},{"$f":"IF(BQ151=\"\",\"\",INDEX('Otras referencias'!S:T,MATCH(BQ151,'Otras referencias'!$T:$T,0),1))","v":""},{"$f":"IF(BN151=\"\",\"\",INDEX('Otras referencias'!A:B,MATCH(BN151,'Otras referencias'!$B:$B,0),1))","v":""},""]
[1,"",{"$f":"IF(E152<>\"\",CONCATENATE(DIGITADOR!$M$1,TEXT(D152, \"YYYYMMDD\"),ROW()-5),\"\")","v":""},null,null,"",{"$f":"IF(H152=\"\",\"\",INDEX(referentes!AQ:AR,MATCH(H152,referentes!$AR:$AR,0),1))","v":""},null,{"$f":"IF(J152=\"\",\"\",VLOOKUP(J152,referentes!$AL$2:$AO$29,3,FALSE))","v":""},null,null,null,null,null,null,null,null,null,null,null,null,"",null,null,null,null,null,null,null,null,null,null,null,null,null,null,null,null,null,null,null,null,null,null,null,null,null,{"$f":"IF(AW152=\"\",\"\",DIGITADOR!$B$14)","v":""},"",null,null,null,"",null,null,null,null,null,null,null,null,null,null,null,null,null,null,null,null,null,null,"",{"$f":"IF(C152=\"\",\"\",IF(COUNTIF($C$6:C152, C152)>1, \"\", C152))","v":""},{"$f":"IF(N152=\"\",\"\",INDEX(referentes!P:Q,MATCH(N152,referentes!$Q:$Q,0),1))","v":""},{"$f":"IF(O152=\"\",\"\",INDEX(referentes!$A:$B,MATCH(O152,referentes!$B:$B,0),1))","v":""},{"$f":"IF(S152=\"\",\"\",INDEX(referentes!D:E,MATCH(S152,referentes!$E:$E,0),1))","v":""},{"$f":"IF(T152=\"\",\"\",INDEX(referentes!G:H,MATCH(T152,referentes!$H:$H,0),1))","v":""},"",{"$f":"IF(Y152=\"\",\"\",INDEX(referentes!S:T,MATCH(Y152,referentes!$T:$T,0),1))","v":""},{"$f":"IF(BO152=\"\",\"\",INDEX(referentes!J:K,MATCH(BO152,referentes!$K:$K,0),1))","v":""},{"$f":"IF(BJ152=\"\",\"\",INDEX(referentes!V:W,MATCH(BJ152,referentes!$W:$W,0),1))","v":""},{"$f":"IF(BK152=\"\",\"\",INDEX(referentes!Y:Z,MATCH(BK152,referentes!$Z:$Z,0),1))","v":""},{"$f":"IF(BL152=\"\",\"\",INDEX(referentes!AB:AC,MATCH(BL152,referentes!$AC:$AC,0),1))","v":""},{"$f":"IF(BM152=\"\",\"\",INDEX(referentes!AE:AF,MATCH(BM152,referentes!$AF:$AF,0),1))","v":""},{"$f":"IF(BB152=\"\",\"\",INDEX(referentes!M:N,MATCH(BB152,referentes!$N:$N,0),1))","v":""},{"$f":"IF(BQ152=\"\",\"\",INDEX('Otras referencias'!S:T,MATCH(BQ152,'Otras referencias'!$T:$T,0),1))","v":""},{"$f":"IF(BN152=\"\",\"\",INDEX('Otras referencias'!A:B,MATCH(BN152,'Otras referencias'!$B:$B,0),1))","v":""},""]
[1,"",{"$f":"IF(E153<>\"\",CONCATENATE(DIGITADOR!$M$1,TEXT(D153, \"YYYYMMDD\"),ROW()-5),\"\")","v":""},null,null,"",{"$f":"IF(H153=\"\",\"\",INDEX(referentes!AQ:AR,MATCH(H153,referentes!$AR:$AR,0),1))","v":""},null,{"$f":"IF(J153=\"\",\"\",VLOOKUP(J153,referentes!$AL$2:$AO$29,3,FALSE))","v":""},null,null,null,null,null,null,null,null,null,null,null,null,"",null,null,null,null,null,null,null,null,null,null,null,null,null,null,null,null,null,null,null,null,null,null,null,null,null,{"$f":"IF(AW153=\"\",\"\",DIGITADOR!$B$14)","v":""},"",null,null,null,"",null,null,null,null,null,null,null,null,null,null,null,null,null,null,null,null,null,null,"",{"$f":"IF(C153=\"\",\"\",IF(COUNTIF($C$6:C153, C153)>1, \"\", C153))","v":""},{"$f":"IF(N153=\"\",\"\",INDEX(referentes!P:Q,MATCH(N153,referentes!$Q:$Q,0),1))","v":""},{"$f":"IF(O153=\"\",\"\",INDEX(referentes!$A:$B,MATCH(O153,referentes!$B:$B,0),1))","v":""},{"$f":"IF(S153=\"\",\"\",INDEX(referentes!D:E,MATCH(S153,referentes!$E:$E,0),1))","v":""},{"$f":"IF(T153=\"\",\"\",INDEX(referentes!G:H,MATCH(T153,referentes!$H:$H,0),1))","v":""},"",{"$f":"IF(Y153=\"\",\"\",INDEX(referentes!S:T,MATCH(Y153,referentes!$T:$T,0),1))","v":""},{"$f":"IF(BO153=\"\",\"\",INDEX(referentes!J:K,MATCH(BO153,referentes!$K:$K,0),1))","v":""},{"$f":"IF(BJ153=\"\",\"\",INDEX(referentes!V:W,MATCH(BJ153,referentes!$W:$W,0),1))","v":""},{"$f":"IF(BK153=\"\",\"\",INDEX(referentes!Y:Z,MATCH(BK153,referentes!$Z:$Z,0),1))","v":""},{"$f":"IF(BL153=\"\",\"\",INDEX(referentes!AB:AC,MATCH(BL153,referentes!$AC:$AC,0),1))","v":""},{"$f":"IF(BM153=\"\",\"\",INDEX(referentes!AE:AF,MATCH(BM153,referentes!$AF:$AF,0),1))","v":""},{"$f":"IF(BB153=\"\",\"\",INDEX(referentes!M:N,MATCH(BB153,referentes!$N:$N,0),1))","v":""},{"$f":"IF(BQ153=\"\",\"\",INDEX('Otras referencias'!S:T,MATCH(BQ153,'Otras referencias'!$T:$T,0),1))","v":""},{"$f":"IF(BN153=\"\",\"\",INDEX('Otras referencias'!A:B,MATCH(BN153,'Otras referencias'!$B:$B,0),1))","v":""},""]
[1,"",{"$f":"IF(E154<>\"\",CONCATENATE(DIGITADOR!$M$1,TEXT(D154, \"YYYYMMDD\"),ROW()-5),\"\")","v":""},null,null,"",{"$f":"IF(H154=\"\",\"\",INDEX(referentes!AQ:AR,MATCH(H154,referentes!$AR:$AR,0),1))","v":""},null,{"$f":"IF(J154=\"\",\"\",VLOOKUP(J154,referentes!$AL$2:$AO$29,3,FALSE))","v":""},null,null,null,null,null,null,null,null,null,null,null,null,"",null,null,null,null,null,null,null,null,null,null,null,null,null,null,null,null,null,null,null,null,null,null,null,null,null,{"$f":"IF(AW154=\"\",\"\",DIGITADOR!$B$14)","v":""},"",null,null,null,"",null,null,null,null,null,null,null,null,null,null,null,null,null,null,null,null,null,null,"",{"$f":"IF(C154=\"\",\"\",IF(COUNTIF($C$6:C154, C154)>1, \"\", C154))","v":""},{"$f":"IF(N154=\"\",\"\",INDEX(referentes!P:Q,MATCH(N154,referentes!$Q:$Q,0),1))","v":""},{"$f":"IF(O154=\"\",\"\",INDEX(referentes!$A:$B,MATCH(O154,referentes!$B:$B,0),1))","v":""},{"$f":"IF(S154=\"\",\"\",INDEX(referentes!D:E,MATCH(S154,referentes!$E:$E,0),1))","v":""},{"$f":"IF(T154=\"\",\"\",INDEX(referentes!G:H,MATCH(T154,referentes!$H:$H,0),1))","v":""},"",{"$f":"IF(Y154=\"\",\"\",INDEX(referentes!S:T,MATCH(Y154,referentes!$T:$T,0),1))","v":""},{"$f":"IF(BO154=\"\",\"\",INDEX(referentes!J:K,MATCH(BO154,referentes!$K:$K,0),1))","v":""},{"$f":"IF(BJ154=\"\",\"\",INDEX(referentes!V:W,MATCH(BJ154,referentes!$W:$W,0),1))","v":""},{"$f":"IF(BK154=\"\",\"\",INDEX(referentes!Y:Z,MATCH(BK154,referentes!$Z:$Z,0),1))","v":""},{"$f":"IF(BL154=\"\",\"\",INDEX(referentes!AB:AC,MATCH(BL154,referentes!$AC:$AC,0),1))","v":""},{"$f":"IF(BM154=\"\",\"\",INDEX(referentes!AE:AF,MATCH(BM154,referentes!$AF:$AF,0),1))","v":""},{"$f":"IF(BB154=\"\",\"\",INDEX(referentes!M:N,MATCH(BB154,referentes!$N:$N,0),1))","v":""},{"$f":"IF(BQ154=\"\",\"\",INDEX('Otras referencias'!S:T,MATCH(BQ154,'Otras referencias'!$T:$T,0),1))","v":""},{"$f":"IF(BN154=\"\",\"\",INDEX('Otras referencias'!A:B,MATCH(BN154,'Otras referencias'!$B:$B,0),1))","v":""},""]
[1,"",{"$f":"IF(E155<>\"\",CONCATENATE(DIGITADOR!$M$1,TEXT(D155, \"YYYYMMDD\"),ROW()-5),\"\")","v":""},null,null,"",{"$f":"IF(H155=\"\",\"\",INDEX(referentes!AQ:AR,MATCH(H155,referentes!$AR:$AR,0),1))","v":""},null,{"$f":"IF(J155=\"\",\"\",VLOOKUP(J155,referentes!$AL$2:$AO$29,3,FALSE))","v":""},null,null,null,null,null,null,null,null,null,null,null,null,"",null,null,null,null,null,null,null,null,null,null,null,null,null,null,null,null,null,null,null,null,null,null,null,null,null,{"$f":"IF(AW155=\"\",\"\",DIGITADOR!$B$14)","v":""},"",null,null,null,"",null,null,null,null,null,null,null,null,null,null,null,null,null,null,null,null,null,null,"",{"$f":"IF(C155=\"\",\"\",IF(COUNTIF($C$6:C155, C155)>1, \"\", C155))","v":""},{"$f":"IF(N155=\"\",\"\",INDEX(referentes!P:Q,MATCH(N155,referentes!$Q:$Q,0),1))","v":""},{"$f":"IF(O155=\"\",\"\",INDEX(referentes!$A:$B,MATCH(O155,referentes!$B:$B,0),1))","v":""},{"$f":"IF(S155=\"\",\"\",INDEX(referentes!D:E,MATCH(S155,referentes!$E:$E,0),1))","v":""},{"$f":"IF(T155=\"\",\"\",INDEX(referentes!G:H,MATCH(T155,referentes!$H:$H,0),1))","v":""},"",{"$f":"IF(Y155=\"\",\"\",INDEX(referentes!S:T,MATCH(Y155,referentes!$T:$T,0),1))","v":""},{"$f":"IF(BO155=\"\",\"\",INDEX(referentes!J:K,MATCH(BO155,referentes!$K:$K,0),1))","v":""},{"$f":"IF(BJ155=\"\",\"\",INDEX(referentes!V:W,MATCH(BJ155,referentes!$W:$W,0),1))","v":""},{"$f":"IF(BK155=\"\",\"\",INDEX(referentes!Y:Z,MATCH(BK155,referentes!$Z:$Z,0),1))","v":""},{"$f":"IF(BL155=\"\",\"\",INDEX(referentes!AB:AC,MATCH(BL155,referentes!$AC:$AC,0),1))","v":""},{"$f":"IF(BM155=\"\",\"\",INDEX(referentes!AE:AF,MATCH(BM155,referentes!$AF:$AF,0),1))","v":""},{"$f":"IF(BB155=\"\",\"\",INDEX(referentes!M:N,MATCH(BB155,referentes!$N:$N,0),1))","v":""},{"$f":"IF(BQ155=\"\",\"\",INDEX('Otras referencias'!S:T,MATCH(BQ155,'Otras referencias'!$T:$T,0),1))","v":""},{"$f":"IF(BN155=\"\",\"\",INDEX('Otras referencias'!A:B,MATCH(BN155,'Otras referencias'!$B:$B,0),1))","v":""},""]
[1,"",{"$f":"IF(E156<>\"\",CONCATENATE(DIGITADOR!$M$1,TEXT(D156, \"YYYYMMDD\"),ROW()-5),\"\")","v":""},null,null,"",{"$f":"IF(H156=\"\",\"\",INDEX(referentes!AQ:AR,MATCH(H156,referentes!$AR:$AR,0),1))","v":""},null,{"$f":"IF(J156=\"\",\"\",VLOOKUP(J156,referentes!$AL$2:$AO$29,3,FALSE))","v":""},null,null,null,null,null,null,null,null,null,null,null,null,"",null,null,null,null,null,null,null,null,null,null,null,null,null,null,null,null,null,null,null,null,null,null,null,null,null,{"$f":"IF(AW156=\"\",\"\",DIGITADOR!$B$14)","v":""},"",null,null,null,"",null,null,null,null,null,null,null,null,null,null,null,null,null,null,null,null,null,null,"",{"$f":"IF(C156=\"\",\"\",IF(COUNTIF($C$6:C156, C156)>1, \"\", C156))","v":""},{"$f":"IF(N156=\"\",\"\",INDEX(referentes!P:Q,MATCH(N156,referentes!$Q:$Q,0),1))","v":""},{"$f":"IF(O156=\"\",\"\",INDEX(referentes!$A:$B,MATCH(O156,referentes!$B:$B,0),1))","v":""},{"$f":"IF(S156=\"\",\"\",INDEX(referentes!D:E,MATCH(S156,referentes!$E:$E,0),1))","v":""},{"$f":"IF(T156=\"\",\"\",INDEX(referentes!G:H,MATCH(T156,referentes!$H:$H,0),1))","v":""},"",{"$f":"IF(Y156=\"\",\"\",INDEX(referentes!S:T,MATCH(Y156,referentes!$T:$T,0),1))","v":""},{"$f":"IF(BO156=\"\",\"\",INDEX(referentes!J:K,MATCH(BO156,referentes!$K:$K,0),1))","v":""},{"$f":"IF(BJ156=\"\",\"\",INDEX(referentes!V:W,MATCH(BJ156,referentes!$W:$W,0),1))","v":""},{"$f":"IF(BK156=\"\",\"\",INDEX(referentes!Y:Z,MATCH(BK156,referentes!$Z:$Z,0),1))","v":""},{"$f":"IF(BL156=\"\",\"\",INDEX(referentes!AB:AC,MATCH(BL156,referentes!$AC:$AC,0),1))","v":""},{"$f":"IF(BM156=\"\",\"\",INDEX(referentes!AE:AF,MATCH(BM156,referentes!$AF:$AF,0),1))","v":""},{"$f":"IF(BB156=\"\",\"\",INDEX(referentes!M:N,MATCH(BB156,referentes!$N:$N,0),1))","v":""},{"$f":"IF(BQ156=\"\",\"\",INDEX('Otras referencias'!S:T,MATCH(BQ156,'Otras referencias'!$T:$T,0),1))","v":""},{"$f":"IF(BN156=\"\",\"\",INDEX('Otras referencias'!A:B,MATCH(BN156,'Otras referencias'!$B:$B,0),1))","v":""},""]
[1,"",{"$f":"IF(E157<>\"\",CONCATENATE(DIGITADOR!$M$1,TEXT(D157, \"YYYYMMDD\"),ROW()-5),\"\")","v":""},null,null,"",{"$f":"IF(H157=\"\",\"\",INDEX(referentes!AQ:AR,MATCH(H157,referentes!$AR:$AR,0),1))","v":""},null,{"$f":"IF(J157=\"\",\"\",VLOOKUP(J157,referentes!$AL$2:$AO$29,3,FALSE))","v":""},null,null,null,null,null,null,null,null,null,null,null,null,"",null,null,null,null,null,null,null,null,null,null,null,null,null,null,null,null,null,null,null,null,null,null,null,null,null,{"$f":"IF(AW157=\"\",\"\",DIGITADOR!$B$14)","v":""},"",null,null,null,"",null,null,null,null,null,null,null,null,null,null,null,null,null,null,null,null,null,null,"",{"$f":"IF(C157=\"\",\"\",IF(COUNTIF($C$6:C157, C157)>1, \"\", C157))","v":""},{"$f":"IF(N157=\"\",\"\",INDEX(referentes!P:Q,MATCH(N157,referentes!$Q:$Q,0),1))","v":""},{"$f":"IF(O157=\"\",\"\",INDEX(referentes!$A:$B,MATCH(O157,referentes!$B:$B,0),1))","v":""},{"$f":"IF(S157=\"\",\"\",INDEX(referentes!D:E,MATCH(S157,referentes!$E:$E,0),1))","v":""},{"$f":"IF(T157=\"\",\"\",INDEX(referentes!G:H,MATCH(T157,referentes!$H:$H,0),1))","v":""},"",{"$f":"IF(Y157=\"\",\"\",INDEX(referentes!S:T,MATCH(Y157,referentes!$T:$T,0),1))","v":""},{"$f":"IF(BO157=\"\",\"\",INDEX(referentes!J:K,MATCH(BO157,referentes!$K:$K,0),1))","v":""},{"$f":"IF(BJ157=\"\",\"\",INDEX(referentes!V:W,MATCH(BJ157,referentes!$W:$W,0),1))","v":""},{"$f":"IF(BK157=\"\",\"\",INDEX(referentes!Y:Z,MATCH(BK157,referentes!$Z:$Z,0),1))","v":""},{"$f":"IF(BL157=\"\",\"\",INDEX(referentes!AB:AC,MATCH(BL157,referentes!$AC:$AC,0),1))","v":""},{"$f":"IF(BM157=\"\",\"\",INDEX(referentes!AE:AF,MATCH(BM157,referentes!$AF:$AF,0),1))","v":""},{"$f":"IF(BB157=\"\",\"\",INDEX(referentes!M:N,MATCH(BB157,referentes!$N:$N,0),1))","v":""},{"$f":"IF(BQ157=\"\",\"\",INDEX('Otras referencias'!S:T,MATCH(BQ157,'Otras referencias'!$T:$T,0),1))","v":""},{"$f":"IF(BN157=\"\",\"\",INDEX('Otras referencias'!A:B,MATCH(BN157,'Otras referencias'!$B:$B,0),1))","v":""},""]
[1,"",{"$f":"IF(E158<>\"\",CONCATENATE(DIGITADOR!$M$1,TEXT(D158, \"YYYYMMDD\"),ROW()-5),\"\")","v":""},null,null,"",{"$f":"IF(H158=\"\",\"\",INDEX(referentes!AQ:AR,MATCH(H158,referentes!$AR:$AR,0),1))","v":""},null,{"$f":"IF(J158=\"\",\"\",VLOOKUP(J158,referentes!$AL$2:$AO$29,3,FALSE))","v":""},null,null,null,null,null,null,null,null,null,null,null,null,"",null,null,null,null,null,null,null,null,null,null,null,null,null,null,null,null,null,null,null,null,null,null,null,null,null,{"$f":"IF(AW158=\"\",\"\",DIGITADOR!$B$14)","v":""},"",null,null,null,"",null,null,null,null,null,null,null,null,null,null,null,null,null,null,null,null,null,null,"",{"$f":"IF(C158=\"\",\"\",IF(COUNTIF($C$6:C158, C158)>1, \"\", C158))","v":""},{"$f":"IF(N158=\"\",\"\",INDEX(referentes!P:Q,MATCH(N158,referentes!$Q:$Q,0),1))","v":""},{"$f":"IF(O158=\"\",\"\",INDEX(referentes!$A:$B,MATCH(O158,referentes!$B:$B,0),1))","v":""},{"$f":"IF(S158=\"\",\"\",INDEX(referentes!D:E,MATCH(S158,referentes!$E:$E,0),1))","v":""},{"$f":"IF(T158=\"\",\"\",INDEX(referentes!G:H,MATCH(T158,referentes!$H:$H,0),1))","v":""},"",{"$f":"IF(Y158=\"\",\"\",INDEX(referentes!S:T,MATCH(Y158,referentes!$T:$T,0),1))","v":""},{"$f":"IF(BO158=\"\",\"\",INDEX(referentes!J:K,MATCH(BO158,referentes!$K:$K,0),1))","v":""},{"$f":"IF(BJ158=\"\",\"\",INDEX(referentes!V:W,MATCH(BJ158,referentes!$W:$W,0),1))","v":""},{"$f":"IF(BK158=\"\",\"\",INDEX(referentes!Y:Z,MATCH(BK158,referentes!$Z:$Z,0),1))","v":""},{"$f":"IF(BL158=\"\",\"\",INDEX(referentes!AB:AC,MATCH(BL158,referentes!$AC:$AC,0),1))","v":""},{"$f":"IF(BM158=\"\",\"\",INDEX(referentes!AE:AF,MATCH(BM158,referentes!$AF:$AF,0),1))","v":""},{"$f":"IF(BB158=\"\",\"\",INDEX(referentes!M:N,MATCH(BB158,referentes!$N:$N,0),1))","v":""},{"$f":"IF(BQ158=\"\",\"\",INDEX('Otras referencias'!S:T,MATCH(BQ158,'Otras referencias'!$T:$T,0),1))","v":""},{"$f":"IF(BN158=\"\",\"\",INDEX('Otras referencias'!A:B,MATCH(BN158,'Otras referencias'!$B:$B,0),1))","v":""},""]
[1,"",{"$f":"IF(E159<>\"\",CONCATENATE(DIGITADOR!$M$1,TEXT(D159, \"YYYYMMDD\"),ROW()-5),\"\")","v":""},null,null,"",{"$f":"IF(H159=\"\",\"\",INDEX(referentes!AQ:AR,MATCH(H159,referentes!$AR:$AR,0),1))","v":""},null,{"$f":"IF(J159=\"\",\"\",VLOOKUP(J159,referentes!$AL$2:$AO$29,3,FALSE))","v":""},null,null,null,null,null,null,null,null,null,null,null,null,"",null,null,null,null,null,null,null,null,null,null,null,null,null,null,null,null,null,null,null,null,null,null,null,null,null,{"$f":"IF(AW159=\"\",\"\",DIGITADOR!$B$14)","v":""},"",null,null,null,"",null,null,null,null,null,null,null,null,null,null,null,null,null,null,null,null,null,null,"",{"$f":"IF(C159=\"\",\"\",IF(COUNTIF($C$6:C159, C159)>1, \"\", C159))","v":""},{"$f":"IF(N159=\"\",\"\",INDEX(referentes!P:Q,MATCH(N159,referentes!$Q:$Q,0),1))","v":""},{"$f":"IF(O159=\"\",\"\",INDEX(referentes!$A:$B,MATCH(O159,referentes!$B:$B,0),1))","v":""},{"$f":"IF(S159=\"\",\"\",INDEX(referentes!D:E,MATCH(S159,referentes!$E:$E,0),1))","v":""},{"$f":"IF(T159=\"\",\"\",INDEX(referentes!G:H,MATCH(T159,referentes!$H:$H,0),1))","v":""},"",{"$f":"IF(Y159=\"\",\"\",INDEX(referentes!S:T,MATCH(Y159,referentes!$T:$T,0),1))","v":""},{"$f":"IF(BO159=\"\",\"\",INDEX(referentes!J:K,MATCH(BO159,referentes!$K:$K,0),1))","v":""},{"$f":"IF(BJ159=\"\",\"\",INDEX(referentes!V:W,MATCH(BJ159,referentes!$W:$W,0),1))","v":""},{"$f":"IF(BK159=\"\",\"\",INDEX(referentes!Y:Z,MATCH(BK159,referentes!$Z:$Z,0),1))","v":""},{"$f":"IF(BL159=\"\",\"\",INDEX(referentes!AB:AC,MATCH(BL159,referentes!$AC:$AC,0),1))","v":""},{"$f":"IF(BM159=\"\",\"\",INDEX(referentes!AE:AF,MATCH(BM159,referentes!$AF:$AF,0),1))","v":""},{"$f":"IF(BB159=\"\",\"\",INDEX(referentes!M:N,MATCH(BB159,referentes!$N:$N,0),1))","v":""},{"$f":"IF(BQ159=\"\",\"\",INDEX('Otras referencias'!S:T,MATCH(BQ159,'Otras referencias'!$T:$T,0),1))","v":""},{"$f":"IF(BN159=\"\",\"\",INDEX('Otras referencias'!A:B,MATCH(BN159,'Otras referencias'!$B:$B,0),1))","v":""},""]
[1,"",{"$f":"IF(E160<>\"\",CONCATENATE(DIGITADOR!$M$1,TEXT(D160, \"YYYYMMDD\"),ROW()-5),\"\")","v":""},null,null,"",{"$f":"IF(H160=\"\",\"\",INDEX(referentes!AQ:AR,MATCH(H160,referentes!$AR:$AR,0),1))","v":""},null,{"$f":"IF(J160=\"\",\"\",VLOOKUP(J160,referentes!$AL$2:$AO$29,3,FALSE))","v":""},null,null,null,null,null,null,null,null,null,null,null,null,"",null,null,null,null,null,null,null,null,null,null,null,null,null,null,null,null,null,null,null,null,null,null,null,null,null,{"$f":"IF(AW160=\"\",\"\",DIGITADOR!$B$14)","v":""},"",null,null,null,"",null,null,null,null,null,null,null,null,null,null,null,null,null,null,null,null,null,null,"",{"$f":"IF(C160=\"\",\"\",IF(COUNTIF($C$6:C160, C160)>1, \"\", C160))","v":""},{"$f":"IF(N160=\"\",\"\",INDEX(referentes!P:Q,MATCH(N160,referentes!$Q:$Q,0),1))","v":""},{"$f":"IF(O160=\"\",\"\",INDEX(referentes!$A:$B,MATCH(O160,referentes!$B:$B,0),1))","v":""},{"$f":"IF(S160=\"\",\"\",INDEX(referentes!D:E,MATCH(S160,referentes!$E:$E,0),1))","v":""},{"$f":"IF(T160=\"\",\"\",INDEX(referentes!G:H,MATCH(T160,referentes!$H:$H,0),1))","v":""},"",{"$f":"IF(Y160=\"\",\"\",INDEX(referentes!S:T,MATCH(Y160,referentes!$T:$T,0),1))","v":""},{"$f":"IF(BO160=\"\",\"\",INDEX(referentes!J:K,MATCH(BO160,referentes!$K:$K,0),1))","v":""},{"$f":"IF(BJ160=\"\",\"\",INDEX(referentes!V:W,MATCH(BJ160,referentes!$W:$W,0),1))","v":""},{"$f":"IF(BK160=\"\",\"\",INDEX(referentes!Y:Z,MATCH(BK160,referentes!$Z:$Z,0),1))","v":""},{"$f":"IF(BL160=\"\",\"\",INDEX(referentes!AB:AC,MATCH(BL160,referentes!$AC:$AC,0),1))","v":""},{"$f":"IF(BM160=\"\",\"\",INDEX(referentes!AE:AF,MATCH(BM160,referentes!$AF:$AF,0),1))","v":""},{"$f":"IF(BB160=\"\",\"\",INDEX(referentes!M:N,MATCH(BB160,referentes!$N:$N,0),1))","v":""},{"$f":"IF(BQ160=\"\",\"\",INDEX('Otras referencias'!S:T,MATCH(BQ160,'Otras referencias'!$T:$T,0),1))","v":""},{"$f":"IF(BN160=\"\",\"\",INDEX('Otras referencias'!A:B,MATCH(BN160,'Otras referencias'!$B:$B,0),1))","v":""},""]
[1,"",{"$f":"IF(E161<>\"\",CONCATENATE(DIGITADOR!$M$1,TEXT(D161, \"YYYYMMDD\"),ROW()-5),\"\")","v":""},null,null,"",{"$f":"IF(H161=\"\",\"\",INDEX(referentes!AQ:AR,MATCH(H161,referentes!$AR:$AR,0),1))","v":""},null,{"$f":"IF(J161=\"\",\"\",VLOOKUP(J161,referentes!$AL$2:$AO$29,3,FALSE))","v":""},null,null,null,null,null,null,null,null,null,null,null,null,"",null,null,null,null,null,null,null,null,null,null,null,null,null,null,null,null,null,null,null,null,null,null,null,null,null,{"$f":"IF(AW161=\"\",\"\",DIGITADOR!$B$14)","v":""},"",null,null,null,"",null,null,null,null,null,null,null,null,null,null,null,null,null,null,null,null,null,null,"",{"$f":"IF(C161=\"\",\"\",IF(COUNTIF($C$6:C161, C161)>1, \"\", C161))","v":""},{"$f":"IF(N161=\"\",\"\",INDEX(referentes!P:Q,MATCH(N161,referentes!$Q:$Q,0),1))","v":""},{"$f":"IF(O161=\"\",\"\",INDEX(referentes!$A:$B,MATCH(O161,referentes!$B:$B,0),1))","v":""},{"$f":"IF(S161=\"\",\"\",INDEX(referentes!D:E,MATCH(S161,referentes!$E:$E,0),1))","v":""},{"$f":"IF(T161=\"\",\"\",INDEX(referentes!G:H,MATCH(T161,referentes!$H:$H,0),1))","v":""},"",{"$f":"IF(Y161=\"\",\"\",INDEX(referentes!S:T,MATCH(Y161,referentes!$T:$T,0),1))","v":""},{"$f":"IF(BO161=\"\",\"\",INDEX(referentes!J:K,MATCH(BO161,referentes!$K:$K,0),1))","v":""},{"$f":"IF(BJ161=\"\",\"\",INDEX(referentes!V:W,MATCH(BJ161,referentes!$W:$W,0),1))","v":""},{"$f":"IF(BK161=\"\",\"\",INDEX(referentes!Y:Z,MATCH(BK161,referentes!$Z:$Z,0),1))","v":""},{"$f":"IF(BL161=\"\",\"\",INDEX(referentes!AB:AC,MATCH(BL161,referentes!$AC:$AC,0),1))","v":""},{"$f":"IF(BM161=\"\",\"\",INDEX(referentes!AE:AF,MATCH(BM161,referentes!$AF:$AF,0),1))","v":""},{"$f":"IF(BB161=\"\",\"\",INDEX(referentes!M:N,MATCH(BB161,referentes!$N:$N,0),1))","v":""},{"$f":"IF(BQ161=\"\",\"\",INDEX('Otras referencias'!S:T,MATCH(BQ161,'Otras referencias'!$T:$T,0),1))","v":""},{"$f":"IF(BN161=\"\",\"\",INDEX('Otras referencias'!A:B,MATCH(BN161,'Otras referencias'!$B:$B,0),1))","v":""},""]
[1,"",{"$f":"IF(E162<>\"\",CONCATENATE(DIGITADOR!$M$1,TEXT(D162, \"YYYYMMDD\"),ROW()-5),\"\")","v":""},null,null,"",{"$f":"IF(H162=\"\",\"\",INDEX(referentes!AQ:AR,MATCH(H162,referentes!$AR:$AR,0),1))","v":""},null,{"$f":"IF(J162=\"\",\"\",VLOOKUP(J162,referentes!$AL$2:$AO$29,3,FALSE))","v":""},null,null,null,null,null,null,null,null,null,null,null,null,"",null,null,null,null,null,null,null,null,null,null,null,null,null,null,null,null,null,null,null,null,null,null,null,null,null,{"$f":"IF(AW162=\"\",\"\",DIGITADOR!$B$14)","v":""},"",null,null,null,"",null,null,null,null,null,null,null,null,null,null,null,null,null,null,null,null,null,null,"",{"$f":"IF(C162=\"\",\"\",IF(COUNTIF($C$6:C162, C162)>1, \"\", C162))","v":""},{"$f":"IF(N162=\"\",\"\",INDEX(referentes!P:Q,MATCH(N162,referentes!$Q:$Q,0),1))","v":""},{"$f":"IF(O162=\"\",\"\",INDEX(referentes!$A:$B,MATCH(O162,referentes!$B:$B,0),1))","v":""},{"$f":"IF(S162=\"\",\"\",INDEX(referentes!D:E,MATCH(S162,referentes!$E:$E,0),1))","v":""},{"$f":"IF(T162=\"\",\"\",INDEX(referentes!G:H,MATCH(T162,referentes!$H:$H,0),1))","v":""},"",{"$f":"IF(Y162=\"\",\"\",INDEX(referentes!S:T,MATCH(Y162,referentes!$T:$T,0),1))","v":""},{"$f":"IF(BO162=\"\",\"\",INDEX(referentes!J:K,MATCH(BO162,referentes!$K:$K,0),1))","v":""},{"$f":"IF(BJ162=\"\",\"\",INDEX(referentes!V:W,MATCH(BJ162,referentes!$W:$W,0),1))","v":""},{"$f":"IF(BK162=\"\",\"\",INDEX(referentes!Y:Z,MATCH(BK162,referentes!$Z:$Z,0),1))","v":""},{"$f":"IF(BL162=\"\",\"\",INDEX(referentes!AB:AC,MATCH(BL162,referentes!$AC:$AC,0),1))","v":""},{"$f":"IF(BM162=\"\",\"\",INDEX(referentes!AE:AF,MATCH(BM162,referentes!$AF:$AF,0),1))","v":""},{"$f":"IF(BB162=\"\",\"\",INDEX(referentes!M:N,MATCH(BB162,referentes!$N:$N,0),1))","v":""},{"$f":"IF(BQ162=\"\",\"\",INDEX('Otras referencias'!S:T,MATCH(BQ162,'Otras referencias'!$T:$T,0),1))","v":""},{"$f":"IF(BN162=\"\",\"\",INDEX('Otras referencias'!A:B,MATCH(BN162,'Otras referencias'!$B:$B,0),1))","v":""},""]
[1,"",{"$f":"IF(E163<>\"\",CONCATENATE(DIGITADOR!$M$1,TEXT(D163, \"YYYYMMDD\"),ROW()-5),\"\")","v":""},null,null,"",{"$f":"IF(H163=\"\",\"\",INDEX(referentes!AQ:AR,MATCH(H163,referentes!$AR:$AR,0),1))","v":""},null,{"$f":"IF(J163=\"\",\"\",VLOOKUP(J163,referentes!$AL$2:$AO$29,3,FALSE))","v":""},null,null,null,null,null,null,null,null,null,null,null,null,"",null,null,null,null,null,null,null,null,null,null,null,null,null,null,null,null,null,null,null,null,null,null,null,null,null,{"$f":"IF(AW163=\"\",\"\",DIGITADOR!$B$14)","v":""},"",null,null,null,"",null,null,null,null,null,null,null,null,null,null,null,null,null,null,null,null,null,null,"",{"$f":"IF(C163=\"\",\"\",IF(COUNTIF($C$6:C163, C163)>1, \"\", C163))","v":""},{"$f":"IF(N163=\"\",\"\",INDEX(referentes!P:Q,MATCH(N163,referentes!$Q:$Q,0),1))","v":""},{"$f":"IF(O163=\"\",\"\",INDEX(referentes!$A:$B,MATCH(O163,referentes!$B:$B,0),1))","v":""},{"$f":"IF(S163=\"\",\"\",INDEX(referentes!D:E,MATCH(S163,referentes!$E:$E,0),1))","v":""},{"$f":"IF(T163=\"\",\"\",INDEX(referentes!G:H,MATCH(T163,referentes!$H:$H,0),1))","v":""},"",{"$f":"IF(Y163=\"\",\"\",INDEX(referentes!S:T,MATCH(Y163,referentes!$T:$T,0),1))","v":""},{"$f":"IF(BO163=\"\",\"\",INDEX(referentes!J:K,MATCH(BO163,referentes!$K:$K,0),1))","v":""},{"$f":"IF(BJ163=\"\",\"\",INDEX(referentes!V:W,MATCH(BJ163,referentes!$W:$W,0),1))","v":""},{"$f":"IF(BK163=\"\",\"\",INDEX(referentes!Y:Z,MATCH(BK163,referentes!$Z:$Z,0),1))","v":""},{"$f":"IF(BL163=\"\",\"\",INDEX(referentes!AB:AC,MATCH(BL163,referentes!$AC:$AC,0),1))","v":""},{"$f":"IF(BM163=\"\",\"\",INDEX(referentes!AE:AF,MATCH(BM163,referentes!$AF:$AF,0),1))","v":""},{"$f":"IF(BB163=\"\",\"\",INDEX(referentes!M:N,MATCH(BB163,referentes!$N:$N,0),1))","v":""},{"$f":"IF(BQ163=\"\",\"\",INDEX('Otras referencias'!S:T,MATCH(BQ163,'Otras referencias'!$T:$T,0),1))","v":""},{"$f":"IF(BN163=\"\",\"\",INDEX('Otras referencias'!A:B,MATCH(BN163,'Otras referencias'!$B:$B,0),1))","v":""},""]
[1,"",{"$f":"IF(E164<>\"\",CONCATENATE(DIGITADOR!$M$1,TEXT(D164, \"YYYYMMDD\"),ROW()-5),\"\")","v":""},null,null,"",{"$f":"IF(H164=\"\",\"\",INDEX(referentes!AQ:AR,MATCH(H164,referentes!$AR:$AR,0),1))","v":""},null,{"$f":"IF(J164=\"\",\"\",VLOOKUP(J164,referentes!$AL$2:$AO$29,3,FALSE))","v":""},null,null,null,null,null,null,null,null,null,null,null,null,"",null,null,null,null,null,null,null,null,null,null,null,null,null,null,null,null,null,null,null,null,null,null,null,null,null,{"$f":"IF(AW164=\"\",\"\",DIGITADOR!$B$14)","v":""},"",null,null,null,"",null,null,null,null,null,null,null,null,null,null,null,null,null,null,null,null,null,null,"",{"$f":"IF(C164=\"\",\"\",IF(COUNTIF($C$6:C164, C164)>1, \"\", C164))","v":""},{"$f":"IF(N164=\"\",\"\",INDEX(referentes!P:Q,MATCH(N164,referentes!$Q:$Q,0),1))","v":""},{"$f":"IF(O164=\"\",\"\",INDEX(referentes!$A:$B,MATCH(O164,referentes!$B:$B,0),1))","v":""},{"$f":"IF(S164=\"\",\"\",INDEX(referentes!D:E,MATCH(S164,referentes!$E:$E,0),1))","v":""},{"$f":"IF(T164=\"\",\"\",INDEX(referentes!G:H,MATCH(T164,referentes!$H:$H,0),1))","v":""},"",{"$f":"IF(Y164=\"\",\"\",INDEX(referentes!S:T,MATCH(Y164,referentes!$T:$T,0),1))","v":""},{"$f":"IF(BO164=\"\",\"\",INDEX(referentes!J:K,MATCH(BO164,referentes!$K:$K,0),1))","v":""},{"$f":"IF(BJ164=\"\",\"\",INDEX(referentes!V:W,MATCH(BJ164,referentes!$W:$W,0),1))","v":""},{"$f":"IF(BK164=\"\",\"\",INDEX(referentes!Y:Z,MATCH(BK164,referentes!$Z:$Z,0),1))","v":""},{"$f":"IF(BL164=\"\",\"\",INDEX(referentes!AB:AC,MATCH(BL164,referentes!$AC:$AC,0),1))","v":""},{"$f":"IF(BM164=\"\",\"\",INDEX(referentes!AE:AF,MATCH(BM164,referentes!$AF:$AF,0),1))","v":""},{"$f":"IF(BB164=\"\",\"\",INDEX(referentes!M:N,MATCH(BB164,referentes!$N:$N,0),1))","v":""},{"$f":"IF(BQ164=\"\",\"\",INDEX('Otras referencias'!S:T,MATCH(BQ164,'Otras referencias'!$T:$T,0),1))","v":""},{"$f":"IF(BN164=\"\",\"\",INDEX('Otras referencias'!A:B,MATCH(BN164,'Otras referencias'!$B:$B,0),1))","v":""},""]
[1,"",{"$f":"IF(E165<>\"\",CONCATENATE(DIGITADOR!$M$1,TEXT(D165, \"YYYYMMDD\"),ROW()-5),\"\")","v":""},null,null,"",{"$f":"IF(H165=\"\",\"\",INDEX(referentes!AQ:AR,MATCH(H165,referentes!$AR:$AR,0),1))","v":""},null,{"$f":"IF(J165=\"\",\"\",VLOOKUP(J165,referentes!$AL$2:$AO$29,3,FALSE))","v":""},null,null,null,null,null,null,null,null,null,null,null,null,"",null,null,null,null,null,null,null,null,null,null,null,null,null,null,null,null,null,null,null,null,null,null,null,null,null,{"$f":"IF(AW165=\"\",\"\",DIGITADOR!$B$14)","v":""},"",null,null,null,"",null,null,null,null,null,null,null,null,null,null,null,null,null,null,null,null,null,null,"",{"$f":"IF(C165=\"\",\"\",IF(COUNTIF($C$6:C165, C165)>1, \"\", C165))","v":""},{"$f":"IF(N165=\"\",\"\",INDEX(referentes!P:Q,MATCH(N165,referentes!$Q:$Q,0),1))","v":""},{"$f":"IF(O165=\"\",\"\",INDEX(referentes!$A:$B,MATCH(O165,referentes!$B:$B,0),1))","v":""},{"$f":"IF(S165=\"\",\"\",INDEX(referentes!D:E,MATCH(S165,referentes!$E:$E,0),1))","v":""},{"$f":"IF(T165=\"\",\"\",INDEX(referentes!G:H,MATCH(T165,referentes!$H:$H,0),1))","v":""},"",{"$f":"IF(Y165=\"\",\"\",INDEX(referentes!S:T,MATCH(Y165,referentes!$T:$T,0),1))","v":""},{"$f":"IF(BO165=\"\",\"\",INDEX(referentes!J:K,MATCH(BO165,referentes!$K:$K,0),1))","v":""},{"$f":"IF(BJ165=\"\",\"\",INDEX(referentes!V:W,MATCH(BJ165,referentes!$W:$W,0),1))","v":""},{"$f":"IF(BK165=\"\",\"\",INDEX(referentes!Y:Z,MATCH(BK165,referentes!$Z:$Z,0),1))","v":""},{"$f":"IF(BL165=\"\",\"\",INDEX(referentes!AB:AC,MATCH(BL165,referentes!$AC:$AC,0),1))","v":""},{"$f":"IF(BM165=\"\",\"\",INDEX(referentes!AE:AF,MATCH(BM165,referentes!$AF:$AF,0),1))","v":""},{"$f":"IF(BB165=\"\",\"\",INDEX(referentes!M:N,MATCH(BB165,referentes!$N:$N,0),1))","v":""},{"$f":"IF(BQ165=\"\",\"\",INDEX('Otras referencias'!S:T,MATCH(BQ165,'Otras referencias'!$T:$T,0),1))","v":""},{"$f":"IF(BN165=\"\",\"\",INDEX('Otras referencias'!A:B,MATCH(BN165,'Otras referencias'!$B:$B,0),1))","v":""},""]
[1,"",{"$f":"IF(E166<>\"\",CONCATENATE(DIGITADOR!$M$1,TEXT(D166, \"YYYYMMDD\"),ROW()-5),\"\")","v":""},null,null,"",{"$f":"IF(H166=\"\",\"\",INDEX(referentes!AQ:AR,MATCH(H166,referentes!$AR:$AR,0),1))","v":""},null,{"$f":"IF(J166=\"\",\"\",VLOOKUP(J166,referentes!$AL$2:$AO$29,3,FALSE))","v":""},null,null,null,null,null,null,null,null,null,null,null,null,"",null,null,null,null,null,null,null,null,null,null,null,null,null,null,null,null,null,null,null,null,null,null,null,null,null,{"$f":"IF(AW166=\"\",\"\",DIGITADOR!$B$14)","v":""},"",null,null,null,"",null,null,null,null,null,null,null,null,null,null,null,null,null,null,null,null,null,null,"",{"$f":"IF(C166=\"\",\"\",IF(COUNTIF($C$6:C166, C166)>1, \"\", C166))","v":""},{"$f":"IF(N166=\"\",\"\",INDEX(referentes!P:Q,MATCH(N166,referentes!$Q:$Q,0),1))","v":""},{"$f":"IF(O166=\"\",\"\",INDEX(referentes!$A:$B,MATCH(O166,referentes!$B:$B,0),1))","v":""},{"$f":"IF(S166=\"\",\"\",INDEX(referentes!D:E,MATCH(S166,referentes!$E:$E,0),1))","v":""},{"$f":"IF(T166=\"\",\"\",INDEX(referentes!G:H,MATCH(T166,referentes!$H:$H,0),1))","v":""},"",{"$f":"IF(Y166=\"\",\"\",INDEX(referentes!S:T,MATCH(Y166,referentes!$T:$T,0),1))","v":""},{"$f":"IF(BO166=\"\",\"\",INDEX(referentes!J:K,MATCH(BO166,referentes!$K:$K,0),1))","v":""},{"$f":"IF(BJ166=\"\",\"\",INDEX(referentes!V:W,MATCH(BJ166,referentes!$W:$W,0),1))","v":""},{"$f":"IF(BK166=\"\",\"\",INDEX(referentes!Y:Z,MATCH(BK166,referentes!$Z:$Z,0),1))","v":""},{"$f":"IF(BL166=\"\",\"\",INDEX(referentes!AB:AC,MATCH(BL166,referentes!$AC:$AC,0),1))","v":""},{"$f":"IF(BM166=\"\",\"\",INDEX(referentes!AE:AF,MATCH(BM166,referentes!$AF:$AF,0),1))","v":""},{"$f":"IF(BB166=\"\",\"\",INDEX(referentes!M:N,MATCH(BB166,referentes!$N:$N,0),1))","v":""},{"$f":"IF(BQ166=\"\",\"\",INDEX('Otras referencias'!S:T,MATCH(BQ166,'Otras referencias'!$T:$T,0),1))","v":""},{"$f":"IF(BN166=\"\",\"\",INDEX('Otras referencias'!A:B,MATCH(BN166,'Otras referencias'!$B:$B,0),1))","v":""},""]
[{"$f":"IF(CJ167=CJ166,A166,A166+1)","v":1},"",{"$f":"IF(E167<>\"\",CONCATENATE(DIGITADOR!$M$1,TEXT(D167, \"YYYYMMDD\"),ROW()-5),\"\")","v":""},null,null,"",{"$f":"IF(H167=\"\",\"\",INDEX(referentes!AQ:AR,MATCH(H167,referentes!$AR:$AR,0),1))","v":""},null,{"$f":"IF(J167=\"\",\"\",VLOOKUP(J167,referentes!$AL$2:$AO$29,3,FALSE))","v":""},null,null,null,null,null,null,null,null,null,null,null,null,{"$f":"IF(W167=\"\",\"\",IF(W167=W166,B166,B166+1))","v":""},null,null,null,null,null,null,null,null,null,null,null,null,null,null,null,null,null,null,null,null,null,null,null,null,null,{"$f":"IF(AW167=\"\",\"\",DIGITADOR!$B$14)","v":""},"",null,null,null,"",null,null,null,null,null,null,null,null,null,null,null,null,null,null,null,null,null,null,"",{"$f":"IF(C167=\"\",\"\",IF(COUNTIF($C$6:C167, C167)>1, \"\", C167))","v":""},{"$f":"IF(N167=\"\",\"\",INDEX(referentes!P:Q,MATCH(N167,referentes!$Q:$Q,0),1))","v":""},{"$f":"IF(O167=\"\",\"\",INDEX(referentes!$A:$B,MATCH(O167,referentes!$B:$B,0),1))","v":""},{"$f":"IF(S167=\"\",\"\",INDEX(referentes!D:E,MATCH(S167,referentes!$E:$E,0),1))","v":""},{"$f":"IF(T167=\"\",\"\",INDEX(referentes!G:H,MATCH(T167,referentes!$H:$H,0),1))","v":""},"",{"$f":"IF(Y167=\"\",\"\",INDEX(referentes!S:T,MATCH(Y167,referentes!$T:$T,0),1))","v":""},{"$f":"IF(BO167=\"\",\"\",INDEX(referentes!J:K,MATCH(BO167,referentes!$K:$K,0),1))","v":""},{"$f":"IF(BJ167=\"\",\"\",INDEX(referentes!V:W,MATCH(BJ167,referentes!$W:$W,0),1))","v":""},{"$f":"IF(BK167=\"\",\"\",INDEX(referentes!Y:Z,MATCH(BK167,referentes!$Z:$Z,0),1))","v":""},{"$f":"IF(BL167=\"\",\"\",INDEX(referentes!AB:AC,MATCH(BL167,referentes!$AC:$AC,0),1))","v":""},{"$f":"IF(BM167=\"\",\"\",INDEX(referentes!AE:AF,MATCH(BM167,referentes!$AF:$AF,0),1))","v":""},{"$f":"IF(BB167=\"\",\"\",INDEX(referentes!M:N,MATCH(BB167,referentes!$N:$N,0),1))","v":""},{"$f":"IF(BQ167=\"\",\"\",INDEX('Otras referencias'!S:T,MATCH(BQ167,'Otras referencias'!$T:$T,0),1))","v":""},{"$f":"IF(BN167=\"\",\"\",INDEX('Otras referencias'!A:B,MATCH(BN167,'Otras referencias'!$B:$B,0),1))","v":""},""]
[1,"",{"$f":"IF(E168<>\"\",CONCATENATE(DIGITADOR!$M$1,TEXT(D168, \"YYYYMMDD\"),ROW()-5),\"\")","v":""},null,null,"",{"$f":"IF(H168=\"\",\"\",INDEX(referentes!AQ:AR,MATCH(H168,referentes!$AR:$AR,0),1))","v":""},null,{"$f":"IF(J168=\"\",\"\",VLOOKUP(J168,referentes!$AL$2:$AO$29,3,FALSE))","v":""},null,null,null,null,null,null,null,null,null,null,null,null,"",null,null,null,null,null,null,null,null,null,null,null,null,null,null,null,null,null,null,null,null,null,null,null,null,null,{"$f":"IF(AW168=\"\",\"\",DIGITADOR!$B$14)","v":""},"",null,null,null,"",null,null,null,null,null,null,null,null,null,null,null,null,null,null,null,null,null,null,"",{"$f":"IF(C168=\"\",\"\",IF(COUNTIF($C$6:C168, C168)>1, \"\", C168))","v":""},{"$f":"IF(N168=\"\",\"\",INDEX(referentes!P:Q,MATCH(N168,referentes!$Q:$Q,0),1))","v":""},{"$f":"IF(O168=\"\",\"\",INDEX(referentes!$A:$B,MATCH(O168,referentes!$B:$B,0),1))","v":""},{"$f":"IF(S168=\"\",\"\",INDEX(referentes!D:E,MATCH(S168,referentes!$E:$E,0),1))","v":""},{"$f":"IF(T168=\"\",\"\",INDEX(referentes!G:H,MATCH(T168,referentes!$H:$H,0),1))","v":""},"",{"$f":"IF(Y168=\"\",\"\",INDEX(referentes!S:T,MATCH(Y168,referentes!$T:$T,0),1))","v":""},{"$f":"IF(BO168=\"\",\"\",INDEX(referentes!J:K,MATCH(BO168,referentes!$K:$K,0),1))","v":""},{"$f":"IF(BJ168=\"\",\"\",INDEX(referentes!V:W,MATCH(BJ168,referentes!$W:$W,0),1))","v":""},{"$f":"IF(BK168=\"\",\"\",INDEX(referentes!Y:Z,MATCH(BK168,referentes!$Z:$Z,0),1))","v":""},{"$f":"IF(BL168=\"\",\"\",INDEX(referentes!AB:AC,MATCH(BL168,referentes!$AC:$AC,0),1))","v":""},{"$f":"IF(BM168=\"\",\"\",INDEX(referentes!AE:AF,MATCH(BM168,referentes!$AF:$AF,0),1))","v":""},{"$f":"IF(BB168=\"\",\"\",INDEX(referentes!M:N,MATCH(BB168,referentes!$N:$N,0),1))","v":""},{"$f":"IF(BQ168=\"\",\"\",INDEX('Otras referencias'!S:T,MATCH(BQ168,'Otras referencias'!$T:$T,0),1))","v":""},{"$f":"IF(BN168=\"\",\"\",INDEX('Otras referencias'!A:B,MATCH(BN168,'Otras referencias'!$B:$B,0),1))","v":""},""]
[1,"",{"$f":"IF(E169<>\"\",CONCATENATE(DIGITADOR!$M$1,TEXT(D169, \"YYYYMMDD\"),ROW()-5),\"\")","v":""},null,null,"",{"$f":"IF(H169=\"\",\"\",INDEX(referentes!AQ:AR,MATCH(H169,referentes!$AR:$AR,0),1))","v":""},null,{"$f":"IF(J169=\"\",\"\",VLOOKUP(J169,referentes!$AL$2:$AO$29,3,FALSE))","v":""},null,null,null,null,null,null,null,null,null,null,null,null,"",null,null,null,null,null,null,null,null,null,null,null,null,null,null,null,null,null,null,null,null,null,null,null,null,null,{"$f":"IF(AW169=\"\",\"\",DIGITADOR!$B$14)","v":""},"",null,null,null,"",null,null,null,null,null,null,null,null,null,null,null,null,null,null,null,null,null,null,"",{"$f":"IF(C169=\"\",\"\",IF(COUNTIF($C$6:C169, C169)>1, \"\", C169))","v":""},{"$f":"IF(N169=\"\",\"\",INDEX(referentes!P:Q,MATCH(N169,referentes!$Q:$Q,0),1))","v":""},{"$f":"IF(O169=\"\",\"\",INDEX(referentes!$A:$B,MATCH(O169,referentes!$B:$B,0),1))","v":""},{"$f":"IF(S169=\"\",\"\",INDEX(referentes!D:E,MATCH(S169,referentes!$E:$E,0),1))","v":""},{"$f":"IF(T169=\"\",\"\",INDEX(referentes!G:H,MATCH(T169,referentes!$H:$H,0),1))","v":""},"",{"$f":"IF(Y169=\"\",\"\",INDEX(referentes!S:T,MATCH(Y169,referentes!$T:$T,0),1))","v":""},{"$f":"IF(BO169=\"\",\"\",INDEX(referentes!J:K,MATCH(BO169,referentes!$K:$K,0),1))","v":""},{"$f":"IF(BJ169=\"\",\"\",INDEX(referentes!V:W,MATCH(BJ169,referentes!$W:$W,0),1))","v":""},{"$f":"IF(BK169=\"\",\"\",INDEX(referentes!Y:Z,MATCH(BK169,referentes!$Z:$Z,0),1))","v":""},{"$f":"IF(BL169=\"\",\"\",INDEX(referentes!AB:AC,MATCH(BL169,referentes!$AC:$AC,0),1))","v":""},{"$f":"IF(BM169=\"\",\"\",INDEX(referentes!AE:AF,MATCH(BM169,referentes!$AF:$AF,0),1))","v":""},{"$f":"IF(BB169=\"\",\"\",INDEX(referentes!M:N,MATCH(BB169,referentes!$N:$N,0),1))","v":""},{"$f":"IF(BQ169=\"\",\"\",INDEX('Otras referencias'!S:T,MATCH(BQ169,'Otras referencias'!$T:$T,0),1))","v":""},{"$f":"IF(BN169=\"\",\"\",INDEX('Otras referencias'!A:B,MATCH(BN169,'Otras referencias'!$B:$B,0),1))","v":""},""]
[1,"",{"$f":"IF(E170<>\"\",CONCATENATE(DIGITADOR!$M$1,TEXT(D170, \"YYYYMMDD\"),ROW()-5),\"\")","v":""},null,null,"",{"$f":"IF(H170=\"\",\"\",INDEX(referentes!AQ:AR,MATCH(H170,referentes!$AR:$AR,0),1))","v":""},null,{"$f":"IF(J170=\"\",\"\",VLOOKUP(J170,referentes!$AL$2:$AO$29,3,FALSE))","v":""},null,null,null,null,null,null,null,null,null,null,null,null,"",null,null,null,null,null,null,null,null,null,null,null,null,null,null,null,null,null,null,null,null,null,null,null,null,null,{"$f":"IF(AW170=\"\",\"\",DIGITADOR!$B$14)","v":""},"",null,null,null,"",null,null,null,null,null,null,null,null,null,null,null,null,null,null,null,null,null,null,"",{"$f":"IF(C170=\"\",\"\",IF(COUNTIF($C$6:C170, C170)>1, \"\", C170))","v":""},{"$f":"IF(N170=\"\",\"\",INDEX(referentes!P:Q,MATCH(N170,referentes!$Q:$Q,0),1))","v":""},{"$f":"IF(O170=\"\",\"\",INDEX(referentes!$A:$B,MATCH(O170,referentes!$B:$B,0),1))","v":""},{"$f":"IF(S170=\"\",\"\",INDEX(referentes!D:E,MATCH(S170,referentes!$E:$E,0),1))","v":""},{"$f":"IF(T170=\"\",\"\",INDEX(referentes!G:H,MATCH(T170,referentes!$H:$H,0),1))","v":""},"",{"$f":"IF(Y170=\"\",\"\",INDEX(referentes!S:T,MATCH(Y170,referentes!$T:$T,0),1))","v":""},{"$f":"IF(BO170=\"\",\"\",INDEX(referentes!J:K,MATCH(BO170,referentes!$K:$K,0),1))","v":""},{"$f":"IF(BJ170=\"\",\"\",INDEX(referentes!V:W,MATCH(BJ170,referentes!$W:$W,0),1))","v":""},{"$f":"IF(BK170=\"\",\"\",INDEX(referentes!Y:Z,MATCH(BK170,referentes!$Z:$Z,0),1))","v":""},{"$f":"IF(BL170=\"\",\"\",INDEX(referentes!AB:AC,MATCH(BL170,referentes!$AC:$AC,0),1))","v":""},{"$f":"IF(BM170=\"\",\"\",INDEX(referentes!AE:AF,MATCH(BM170,referentes!$AF:$AF,0),1))","v":""},{"$f":"IF(BB170=\"\",\"\",INDEX(referentes!M:N,MATCH(BB170,referentes!$N:$N,0),1))","v":""},{"$f":"IF(BQ170=\"\",\"\",INDEX('Otras referencias'!S:T,MATCH(BQ170,'Otras referencias'!$T:$T,0),1))","v":""},{"$f":"IF(BN170=\"\",\"\",INDEX('Otras referencias'!A:B,MATCH(BN170,'Otras referencias'!$B:$B,0),1))","v":""},""]
[1,"",{"$f":"IF(E171<>\"\",CONCATENATE(DIGITADOR!$M$1,TEXT(D171, \"YYYYMMDD\"),ROW()-5),\"\")","v":""},null,null,"",{"$f":"IF(H171=\"\",\"\",INDEX(referentes!AQ:AR,MATCH(H171,referentes!$AR:$AR,0),1))","v":""},null,{"$f":"IF(J171=\"\",\"\",VLOOKUP(J171,referentes!$AL$2:$AO$29,3,FALSE))","v":""},null,null,null,null,null,null,null,null,null,null,null,null,"",null,null,null,null,null,null,null,null,null,null,null,null,null,null,null,null,null,null,null,null,null,null,null,null,null,{"$f":"IF(AW171=\"\",\"\",DIGITADOR!$B$14)","v":""},"",null,null,null,"",null,null,null,null,null,null,null,null,null,null,null,null,null,null,null,null,null,null,"",{"$f":"IF(C171=\"\",\"\",IF(COUNTIF($C$6:C171, C171)>1, \"\", C171))","v":""},{"$f":"IF(N171=\"\",\"\",INDEX(referentes!P:Q,MATCH(N171,referentes!$Q:$Q,0),1))","v":""},{"$f":"IF(O171=\"\",\"\",INDEX(referentes!$A:$B,MATCH(O171,referentes!$B:$B,0),1))","v":""},{"$f":"IF(S171=\"\",\"\",INDEX(referentes!D:E,MATCH(S171,referentes!$E:$E,0),1))","v":""},{"$f":"IF(T171=\"\",\"\",INDEX(referentes!G:H,MATCH(T171,referentes!$H:$H,0),1))","v":""},"",{"$f":"IF(Y171=\"\",\"\",INDEX(referentes!S:T,MATCH(Y171,referentes!$T:$T,0),1))","v":""},{"$f":"IF(BO171=\"\",\"\",INDEX(referentes!J:K,MATCH(BO171,referentes!$K:$K,0),1))","v":""},{"$f":"IF(BJ171=\"\",\"\",INDEX(referentes!V:W,MATCH(BJ171,referentes!$W:$W,0),1))","v":""},{"$f":"IF(BK171=\"\",\"\",INDEX(referentes!Y:Z,MATCH(BK171,referentes!$Z:$Z,0),1))","v":""},{"$f":"IF(BL171=\"\",\"\",INDEX(referentes!AB:AC,MATCH(BL171,referentes!$AC:$AC,0),1))","v":""},{"$f":"IF(BM171=\"\",\"\",INDEX(referentes!AE:AF,MATCH(BM171,referentes!$AF:$AF,0),1))","v":""},{"$f":"IF(BB171=\"\",\"\",INDEX(referentes!M:N,MATCH(BB171,referentes!$N:$N,0),1))","v":""},{"$f":"IF(BQ171=\"\",\"\",INDEX('Otras referencias'!S:T,MATCH(BQ171,'Otras referencias'!$T:$T,0),1))","v":""},{"$f":"IF(BN171=\"\",\"\",INDEX('Otras referencias'!A:B,MATCH(BN171,'Otras referencias'!$B:$B,0),1))","v":""},""]
[1,"",{"$f":"IF(E172<>\"\",CONCATENATE(DIGITADOR!$M$1,TEXT(D172, \"YYYYMMDD\"),ROW()-5),\"\")","v":""},null,null,"",{"$f":"IF(H172=\"\",\"\",INDEX(referentes!AQ:AR,MATCH(H172,referentes!$AR:$AR,0),1))","v":""},null,{"$f":"IF(J172=\"\",\"\",VLOOKUP(J172,referentes!$AL$2:$AO$29,3,FALSE))","v":""},null,null,null,null,null,null,null,null,null,null,null,null,"",null,null,null,null,null,null,null,null,null,null,null,null,null,null,null,null,null,null,null,null,null,null,null,null,null,{"$f":"IF(AW172=\"\",\"\",DIGITADOR!$B$14)","v":""},"",null,null,null,"",null,null,null,null,null,null,null,null,null,null,null,null,null,null,null,null,null,null,"",{"$f":"IF(C172=\"\",\"\",IF(COUNTIF($C$6:C172, C172)>1, \"\", C172))","v":""},{"$f":"IF(N172=\"\",\"\",INDEX(referentes!P:Q,MATCH(N172,referentes!$Q:$Q,0),1))","v":""},{"$f":"IF(O172=\"\",\"\",INDEX(referentes!$A:$B,MATCH(O172,referentes!$B:$B,0),1))","v":""},{"$f":"IF(S172=\"\",\"\",INDEX(referentes!D:E,MATCH(S172,referentes!$E:$E,0),1))","v":""},{"$f":"IF(T172=\"\",\"\",INDEX(referentes!G:H,MATCH(T172,referentes!$H:$H,0),1))","v":""},"",{"$f":"IF(Y172=\"\",\"\",INDEX(referentes!S:T,MATCH(Y172,referentes!$T:$T,0),1))","v":""},{"$f":"IF(BO172=\"\",\"\",INDEX(referentes!J:K,MATCH(BO172,referentes!$K:$K,0),1))","v":""},{"$f":"IF(BJ172=\"\",\"\",INDEX(referentes!V:W,MATCH(BJ172,referentes!$W:$W,0),1))","v":""},{"$f":"IF(BK172=\"\",\"\",INDEX(referentes!Y:Z,MATCH(BK172,referentes!$Z:$Z,0),1))","v":""},{"$f":"IF(BL172=\"\",\"\",INDEX(referentes!AB:AC,MATCH(BL172,referentes!$AC:$AC,0),1))","v":""},{"$f":"IF(BM172=\"\",\"\",INDEX(referentes!AE:AF,MATCH(BM172,referentes!$AF:$AF,0),1))","v":""},{"$f":"IF(BB172=\"\",\"\",INDEX(referentes!M:N,MATCH(BB172,referentes!$N:$N,0),1))","v":""},{"$f":"IF(BQ172=\"\",\"\",INDEX('Otras referencias'!S:T,MATCH(BQ172,'Otras referencias'!$T:$T,0),1))","v":""},{"$f":"IF(BN172=\"\",\"\",INDEX('Otras referencias'!A:B,MATCH(BN172,'Otras referencias'!$B:$B,0),1))","v":""},""]
[1,"",{"$f":"IF(E173<>\"\",CONCATENATE(DIGITADOR!$M$1,TEXT(D173, \"YYYYMMDD\"),ROW()-5),\"\")","v":""},null,null,"",{"$f":"IF(H173=\"\",\"\",INDEX(referentes!AQ:AR,MATCH(H173,referentes!$AR:$AR,0),1))","v":""},null,{"$f":"IF(J173=\"\",\"\",VLOOKUP(J173,referentes!$AL$2:$AO$29,3,FALSE))","v":""},null,null,null,null,null,null,null,null,null,null,null,null,"",null,null,null,null,null,null,null,null,null,null,null,null,null,null,null,null,null,null,null,null,null,null,null,null,null,{"$f":"IF(AW173=\"\",\"\",DIGITADOR!$B$14)","v":""},"",null,null,null,"",null,null,null,null,null,null,null,null,null,null,null,null,null,null,null,null,null,null,"",{"$f":"IF(C173=\"\",\"\",IF(COUNTIF($C$6:C173, C173)>1, \"\", C173))","v":""},{"$f":"IF(N173=\"\",\"\",INDEX(referentes!P:Q,MATCH(N173,referentes!$Q:$Q,0),1))","v":""},{"$f":"IF(O173=\"\",\"\",INDEX(referentes!$A:$B,MATCH(O173,referentes!$B:$B,0),1))","v":""},{"$f":"IF(S173=\"\",\"\",INDEX(referentes!D:E,MATCH(S173,referentes!$E:$E,0),1))","v":""},{"$f":"IF(T173=\"\",\"\",INDEX(referentes!G:H,MATCH(T173,referentes!$H:$H,0),1))","v":""},"",{"$f":"IF(Y173=\"\",\"\",INDEX(referentes!S:T,MATCH(Y173,referentes!$T:$T,0),1))","v":""},{"$f":"IF(BO173=\"\",\"\",INDEX(referentes!J:K,MATCH(BO173,referentes!$K:$K,0),1))","v":""},{"$f":"IF(BJ173=\"\",\"\",INDEX(referentes!V:W,MATCH(BJ173,referentes!$W:$W,0),1))","v":""},{"$f":"IF(BK173=\"\",\"\",INDEX(referentes!Y:Z,MATCH(BK173,referentes!$Z:$Z,0),1))","v":""},{"$f":"IF(BL173=\"\",\"\",INDEX(referentes!AB:AC,MATCH(BL173,referentes!$AC:$AC,0),1))","v":""},{"$f":"IF(BM173=\"\",\"\",INDEX(referentes!AE:AF,MATCH(BM173,referentes!$AF:$AF,0),1))","v":""},{"$f":"IF(BB173=\"\",\"\",INDEX(referentes!M:N,MATCH(BB173,referentes!$N:$N,0),1))","v":""},{"$f":"IF(BQ173=\"\",\"\",INDEX('Otras referencias'!S:T,MATCH(BQ173,'Otras referencias'!$T:$T,0),1))","v":""},{"$f":"IF(BN173=\"\",\"\",INDEX('Otras referencias'!A:B,MATCH(BN173,'Otras referencias'!$B:$B,0),1))","v":""},""]
[1,"",{"$f":"IF(E174<>\"\",CONCATENATE(DIGITADOR!$M$1,TEXT(D174, \"YYYYMMDD\"),ROW()-5),\"\")","v":""},null,null,"",{"$f":"IF(H174=\"\",\"\",INDEX(referentes!AQ:AR,MATCH(H174,referentes!$AR:$AR,0),1))","v":""},null,{"$f":"IF(J174=\"\",\"\",VLOOKUP(J174,referentes!$AL$2:$AO$29,3,FALSE))","v":""},null,null,null,null,null,null,null,null,null,null,null,null,"",null,null,null,null,null,null,null,null,null,null,null,null,null,null,null,null,null,null,null,null,null,null,null,null,null,{"$f":"IF(AW174=\"\",\"\",DIGITADOR!$B$14)","v":""},"",null,null,null,"",null,null,null,null,null,null,null,null,null,null,null,null,null,null,null,null,null,null,"",{"$f":"IF(C174=\"\",\"\",IF(COUNTIF($C$6:C174, C174)>1, \"\", C174))","v":""},{"$f":"IF(N174=\"\",\"\",INDEX(referentes!P:Q,MATCH(N174,referentes!$Q:$Q,0),1))","v":""},{"$f":"IF(O174=\"\",\"\",INDEX(referentes!$A:$B,MATCH(O174,referentes!$B:$B,0),1))","v":""},{"$f":"IF(S174=\"\",\"\",INDEX(referentes!D:E,MATCH(S174,referentes!$E:$E,0),1))","v":""},{"$f":"IF(T174=\"\",\"\",INDEX(referentes!G:H,MATCH(T174,referentes!$H:$H,0),1))","v":""},"",{"$f":"IF(Y174=\"\",\"\",INDEX(referentes!S:T,MATCH(Y174,referentes!$T:$T,0),1))","v":""},{"$f":"IF(BO174=\"\",\"\",INDEX(referentes!J:K,MATCH(BO174,referentes!$K:$K,0),1))","v":""},{"$f":"IF(BJ174=\"\",\"\",INDEX(referentes!V:W,MATCH(BJ174,referentes!$W:$W,0),1))","v":""},{"$f":"IF(BK174=\"\",\"\",INDEX(referentes!Y:Z,MATCH(BK174,referentes!$Z:$Z,0),1))","v":""},{"$f":"IF(BL174=\"\",\"\",INDEX(referentes!AB:AC,MATCH(BL174,referentes!$AC:$AC,0),1))","v":""},{"$f":"IF(BM174=\"\",\"\",INDEX(referentes!AE:AF,MATCH(BM174,referentes!$AF:$AF,0),1))","v":""},{"$f":"IF(BB174=\"\",\"\",INDEX(referentes!M:N,MATCH(BB174,referentes!$N:$N,0),1))","v":""},{"$f":"IF(BQ174=\"\",\"\",INDEX('Otras referencias'!S:T,MATCH(BQ174,'Otras referencias'!$T:$T,0),1))","v":""},{"$f":"IF(BN174=\"\",\"\",INDEX('Otras referencias'!A:B,MATCH(BN174,'Otras referencias'!$B:$B,0),1))","v":""},""]
[1,"",{"$f":"IF(E175<>\"\",CONCATENATE(DIGITADOR!$M$1,TEXT(D175, \"YYYYMMDD\"),ROW()-5),\"\")","v":""},null,null,"",{"$f":"IF(H175=\"\",\"\",INDEX(referentes!AQ:AR,MATCH(H175,referentes!$AR:$AR,0),1))","v":""},null,{"$f":"IF(J175=\"\",\"\",VLOOKUP(J175,referentes!$AL$2:$AO$29,3,FALSE))","v":""},null,null,null,null,null,null,null,null,null,null,null,null,"",null,null,null,null,null,null,null,null,null,null,null,null,null,null,null,null,null,null,null,null,null,null,null,null,null,{"$f":"IF(AW175=\"\",\"\",DIGITADOR!$B$14)","v":""},"",null,null,null,"",null,null,null,null,null,null,null,null,null,null,null,null,null,null,null,null,null,null,"",{"$f":"IF(C175=\"\",\"\",IF(COUNTIF($C$6:C175, C175)>1, \"\", C175))","v":""},{"$f":"IF(N175=\"\",\"\",INDEX(referentes!P:Q,MATCH(N175,referentes!$Q:$Q,0),1))","v":""},{"$f":"IF(O175=\"\",\"\",INDEX(referentes!$A:$B,MATCH(O175,referentes!$B:$B,0),1))","v":""},{"$f":"IF(S175=\"\",\"\",INDEX(referentes!D:E,MATCH(S175,referentes!$E:$E,0),1))","v":""},{"$f":"IF(T175=\"\",\"\",INDEX(referentes!G:H,MATCH(T175,referentes!$H:$H,0),1))","v":""},"",{"$f":"IF(Y175=\"\",\"\",INDEX(referentes!S:T,MATCH(Y175,referentes!$T:$T,0),1))","v":""},{"$f":"IF(BO175=\"\",\"\",INDEX(referentes!J:K,MATCH(BO175,referentes!$K:$K,0),1))","v":""},{"$f":"IF(BJ175=\"\",\"\",INDEX(referentes!V:W,MATCH(BJ175,referentes!$W:$W,0),1))","v":""},{"$f":"IF(BK175=\"\",\"\",INDEX(referentes!Y:Z,MATCH(BK175,referentes!$Z:$Z,0),1))","v":""},{"$f":"IF(BL175=\"\",\"\",INDEX(referentes!AB:AC,MATCH(BL175,referentes!$AC:$AC,0),1))","v":""},{"$f":"IF(BM175=\"\",\"\",INDEX(referentes!AE:AF,MATCH(BM175,referentes!$AF:$AF,0),1))","v":""},{"$f":"IF(BB175=\"\",\"\",INDEX(referentes!M:N,MATCH(BB175,referentes!$N:$N,0),1))","v":""},{"$f":"IF(BQ175=\"\",\"\",INDEX('Otras referencias'!S:T,MATCH(BQ175,'Otras referencias'!$T:$T,0),1))","v":""},{"$f":"IF(BN175=\"\",\"\",INDEX('Otras referencias'!A:B,MATCH(BN175,'Otras referencias'!$B:$B,0),1))","v":""},""]
[1,"",{"$f":"IF(E176<>\"\",CONCATENATE(DIGITADOR!$M$1,TEXT(D176, \"YYYYMMDD\"),ROW()-5),\"\")","v":""},null,null,"",{"$f":"IF(H176=\"\",\"\",INDEX(referentes!AQ:AR,MATCH(H176,referentes!$AR:$AR,0),1))","v":""},null,{"$f":"IF(J176=\"\",\"\",VLOOKUP(J176,referentes!$AL$2:$AO$29,3,FALSE))","v":""},null,null,null,null,null,null,null,null,null,null,null,null,"",null,null,null,null,null,null,null,null,null,null,null,null,null,null,null,null,null,null,null,null,null,null,null,null,null,{"$f":"IF(AW176=\"\",\"\",DIGITADOR!$B$14)","v":""},"",null,null,null,"",null,null,null,null,null,null,null,null,null,null,null,null,null,null,null,null,null,null,"",{"$f":"IF(C176=\"\",\"\",IF(COUNTIF($C$6:C176, C176)>1, \"\", C176))","v":""},{"$f":"IF(N176=\"\",\"\",INDEX(referentes!P:Q,MATCH(N176,referentes!$Q:$Q,0),1))","v":""},{"$f":"IF(O176=\"\",\"\",INDEX(referentes!$A:$B,MATCH(O176,referentes!$B:$B,0),1))","v":""},{"$f":"IF(S176=\"\",\"\",INDEX(referentes!D:E,MATCH(S176,referentes!$E:$E,0),1))","v":""},{"$f":"IF(T176=\"\",\"\",INDEX(referentes!G:H,MATCH(T176,referentes!$H:$H,0),1))","v":""},"",{"$f":"IF(Y176=\"\",\"\",INDEX(referentes!S:T,MATCH(Y176,referentes!$T:$T,0),1))","v":""},{"$f":"IF(BO176=\"\",\"\",INDEX(referentes!J:K,MATCH(BO176,referentes!$K:$K,0),1))","v":""},{"$f":"IF(BJ176=\"\",\"\",INDEX(referentes!V:W,MATCH(BJ176,referentes!$W:$W,0),1))","v":""},{"$f":"IF(BK176=\"\",\"\",INDEX(referentes!Y:Z,MATCH(BK176,referentes!$Z:$Z,0),1))","v":""},{"$f":"IF(BL176=\"\",\"\",INDEX(referentes!AB:AC,MATCH(BL176,referentes!$AC:$AC,0),1))","v":""},{"$f":"IF(BM176=\"\",\"\",INDEX(referentes!AE:AF,MATCH(BM176,referentes!$AF:$AF,0),1))","v":""},{"$f":"IF(BB176=\"\",\"\",INDEX(referentes!M:N,MATCH(BB176,referentes!$N:$N,0),1))","v":""},{"$f":"IF(BQ176=\"\",\"\",INDEX('Otras referencias'!S:T,MATCH(BQ176,'Otras referencias'!$T:$T,0),1))","v":""},{"$f":"IF(BN176=\"\",\"\",INDEX('Otras referencias'!A:B,MATCH(BN176,'Otras referencias'!$B:$B,0),1))","v":""},""]
[1,"",{"$f":"IF(E177<>\"\",CONCATENATE(DIGITADOR!$M$1,TEXT(D177, \"YYYYMMDD\"),ROW()-5),\"\")","v":""},null,null,"",{"$f":"IF(H177=\"\",\"\",INDEX(referentes!AQ:AR,MATCH(H177,referentes!$AR:$AR,0),1))","v":""},null,{"$f":"IF(J177=\"\",\"\",VLOOKUP(J177,referentes!$AL$2:$AO$29,3,FALSE))","v":""},null,null,null,null,null,null,null,null,null,null,null,null,"",null,null,null,null,null,null,null,null,null,null,null,null,null,null,null,null,null,null,null,null,null,null,null,null,null,{"$f":"IF(AW177=\"\",\"\",DIGITADOR!$B$14)","v":""},"",null,null,null,"",null,null,null,null,null,null,null,null,null,null,null,null,null,null,null,null,null,null,"",{"$f":"IF(C177=\"\",\"\",IF(COUNTIF($C$6:C177, C177)>1, \"\", C177))","v":""},{"$f":"IF(N177=\"\",\"\",INDEX(referentes!P:Q,MATCH(N177,referentes!$Q:$Q,0),1))","v":""},{"$f":"IF(O177=\"\",\"\",INDEX(referentes!$A:$B,MATCH(O177,referentes!$B:$B,0),1))","v":""},{"$f":"IF(S177=\"\",\"\",INDEX(referentes!D:E,MATCH(S177,referentes!$E:$E,0),1))","v":""},{"$f":"IF(T177=\"\",\"\",INDEX(referentes!G:H,MATCH(T177,referentes!$H:$H,0),1))","v":""},"",{"$f":"IF(Y177=\"\",\"\",INDEX(referentes!S:T,MATCH(Y177,referentes!$T:$T,0),1))","v":""},{"$f":"IF(BO177=\"\",\"\",INDEX(referentes!J:K,MATCH(BO177,referentes!$K:$K,0),1))","v":""},{"$f":"IF(BJ177=\"\",\"\",INDEX(referentes!V:W,MATCH(BJ177,referentes!$W:$W,0),1))","v":""},{"$f":"IF(BK177=\"\",\"\",INDEX(referentes!Y:Z,MATCH(BK177,referentes!$Z:$Z,0),1))","v":""},{"$f":"IF(BL177=\"\",\"\",INDEX(referentes!AB:AC,MATCH(BL177,referentes!$AC:$AC,0),1))","v":""},{"$f":"IF(BM177=\"\",\"\",INDEX(referentes!AE:AF,MATCH(BM177,referentes!$AF:$AF,0),1))","v":""},{"$f":"IF(BB177=\"\",\"\",INDEX(referentes!M:N,MATCH(BB177,referentes!$N:$N,0),1))","v":""},{"$f":"IF(BQ177=\"\",\"\",INDEX('Otras referencias'!S:T,MATCH(BQ177,'Otras referencias'!$T:$T,0),1))","v":""},{"$f":"IF(BN177=\"\",\"\",INDEX('Otras referencias'!A:B,MATCH(BN177,'Otras referencias'!$B:$B,0),1))","v":""},""]
[1,"",{"$f":"IF(E178<>\"\",CONCATENATE(DIGITADOR!$M$1,TEXT(D178, \"YYYYMMDD\"),ROW()-5),\"\")","v":""},null,null,"",{"$f":"IF(H178=\"\",\"\",INDEX(referentes!AQ:AR,MATCH(H178,referentes!$AR:$AR,0),1))","v":""},null,{"$f":"IF(J178=\"\",\"\",VLOOKUP(J178,referentes!$AL$2:$AO$29,3,FALSE))","v":""},null,null,null,null,null,null,null,null,null,null,null,null,"",null,null,null,null,null,null,null,null,null,null,null,null,null,null,null,null,null,null,null,null,null,null,null,null,null,{"$f":"IF(AW178=\"\",\"\",DIGITADOR!$B$14)","v":""},"",null,null,null,"",null,null,null,null,null,null,null,null,null,null,null,null,null,null,null,null,null,null,"",{"$f":"IF(C178=\"\",\"\",IF(COUNTIF($C$6:C178, C178)>1, \"\", C178))","v":""},{"$f":"IF(N178=\"\",\"\",INDEX(referentes!P:Q,MATCH(N178,referentes!$Q:$Q,0),1))","v":""},{"$f":"IF(O178=\"\",\"\",INDEX(referentes!$A:$B,MATCH(O178,referentes!$B:$B,0),1))","v":""},{"$f":"IF(S178=\"\",\"\",INDEX(referentes!D:E,MATCH(S178,referentes!$E:$E,0),1))","v":""},{"$f":"IF(T178=\"\",\"\",INDEX(referentes!G:H,MATCH(T178,referentes!$H:$H,0),1))","v":""},"",{"$f":"IF(Y178=\"\",\"\",INDEX(referentes!S:T,MATCH(Y178,referentes!$T:$T,0),1))","v":""},{"$f":"IF(BO178=\"\",\"\",INDEX(referentes!J:K,MATCH(BO178,referentes!$K:$K,0),1))","v":""},{"$f":"IF(BJ178=\"\",\"\",INDEX(referentes!V:W,MATCH(BJ178,referentes!$W:$W,0),1))","v":""},{"$f":"IF(BK178=\"\",\"\",INDEX(referentes!Y:Z,MATCH(BK178,referentes!$Z:$Z,0),1))","v":""},{"$f":"IF(BL178=\"\",\"\",INDEX(referentes!AB:AC,MATCH(BL178,referentes!$AC:$AC,0),1))","v":""},{"$f":"IF(BM178=\"\",\"\",INDEX(referentes!AE:AF,MATCH(BM178,referentes!$AF:$AF,0),1))","v":""},{"$f":"IF(BB178=\"\",\"\",INDEX(referentes!M:N,MATCH(BB178,referentes!$N:$N,0),1))","v":""},{"$f":"IF(BQ178=\"\",\"\",INDEX('Otras referencias'!S:T,MATCH(BQ178,'Otras referencias'!$T:$T,0),1))","v":""},{"$f":"IF(BN178=\"\",\"\",INDEX('Otras referencias'!A:B,MATCH(BN178,'Otras referencias'!$B:$B,0),1))","v":""},""]
[1,"",{"$f":"IF(E179<>\"\",CONCATENATE(DIGITADOR!$M$1,TEXT(D179, \"YYYYMMDD\"),ROW()-5),\"\")","v":""},null,null,"",{"$f":"IF(H179=\"\",\"\",INDEX(referentes!AQ:AR,MATCH(H179,referentes!$AR:$AR,0),1))","v":""},null,{"$f":"IF(J179=\"\",\"\",VLOOKUP(J179,referentes!$AL$2:$AO$29,3,FALSE))","v":""},null,null,null,null,null,null,null,null,null,null,null,null,"",null,null,null,null,null,null,null,null,null,null,null,null,null,null,null,null,null,null,null,null,null,null,null,null,null,{"$f":"IF(AW179=\"\",\"\",DIGITADOR!$B$14)","v":""},"",null,null,null,"",null,null,null,null,null,null,null,null,null,null,null,null,null,null,null,null,null,null,"",{"$f":"IF(C179=\"\",\"\",IF(COUNTIF($C$6:C179, C179)>1, \"\", C179))","v":""},{"$f":"IF(N179=\"\",\"\",INDEX(referentes!P:Q,MATCH(N179,referentes!$Q:$Q,0),1))","v":""},{"$f":"IF(O179=\"\",\"\",INDEX(referentes!$A:$B,MATCH(O179,referentes!$B:$B,0),1))","v":""},{"$f":"IF(S179=\"\",\"\",INDEX(referentes!D:E,MATCH(S179,referentes!$E:$E,0),1))","v":""},{"$f":"IF(T179=\"\",\"\",INDEX(referentes!G:H,MATCH(T179,referentes!$H:$H,0),1))","v":""},"",{"$f":"IF(Y179=\"\",\"\",INDEX(referentes!S:T,MATCH(Y179,referentes!$T:$T,0),1))","v":""},{"$f":"IF(BO179=\"\",\"\",INDEX(referentes!J:K,MATCH(BO179,referentes!$K:$K,0),1))","v":""},{"$f":"IF(BJ179=\"\",\"\",INDEX(referentes!V:W,MATCH(BJ179,referentes!$W:$W,0),1))","v":""},{"$f":"IF(BK179=\"\",\"\",INDEX(referentes!Y:Z,MATCH(BK179,referentes!$Z:$Z,0),1))","v":""},{"$f":"IF(BL179=\"\",\"\",INDEX(referentes!AB:AC,MATCH(BL179,referentes!$AC:$AC,0),1))","v":""},{"$f":"IF(BM179=\"\",\"\",INDEX(referentes!AE:AF,MATCH(BM179,referentes!$AF:$AF,0),1))","v":""},{"$f":"IF(BB179=\"\",\"\",INDEX(referentes!M:N,MATCH(BB179,referentes!$N:$N,0),1))","v":""},{"$f":"IF(BQ179=\"\",\"\",INDEX('Otras referencias'!S:T,MATCH(BQ179,'Otras referencias'!$T:$T,0),1))","v":""},{"$f":"IF(BN179=\"\",\"\",INDEX('Otras referencias'!A:B,MATCH(BN179,'Otras referencias'!$B:$B,0),1))","v":""},""]
[1,"",{"$f":"IF(E180<>\"\",CONCATENATE(DIGITADOR!$M$1,TEXT(D180, \"YYYYMMDD\"),ROW()-5),\"\")","v":""},null,null,"",{"$f":"IF(H180=\"\",\"\",INDEX(referentes!AQ:AR,MATCH(H180,referentes!$AR:$AR,0),1))","v":""},null,{"$f":"IF(J180=\"\",\"\",VLOOKUP(J180,referentes!$AL$2:$AO$29,3,FALSE))","v":""},null,null,null,null,null,null,null,null,null,null,null,null,"",null,null,null,null,null,null,null,null,null,null,null,null,null,null,null,null,null,null,null,null,null,null,null,null,null,{"$f":"IF(AW180=\"\",\"\",DIGITADOR!$B$14)","v":""},"",null,null,null,"",null,null,null,null,null,null,null,null,null,null,null,null,null,null,null,null,null,null,"",{"$f":"IF(C180=\"\",\"\",IF(COUNTIF($C$6:C180, C180)>1, \"\", C180))","v":""},{"$f":"IF(N180=\"\",\"\",INDEX(referentes!P:Q,MATCH(N180,referentes!$Q:$Q,0),1))","v":""},{"$f":"IF(O180=\"\",\"\",INDEX(referentes!$A:$B,MATCH(O180,referentes!$B:$B,0),1))","v":""},{"$f":"IF(S180=\"\",\"\",INDEX(referentes!D:E,MATCH(S180,referentes!$E:$E,0),1))","v":""},{"$f":"IF(T180=\"\",\"\",INDEX(referentes!G:H,MATCH(T180,referentes!$H:$H,0),1))","v":""},"",{"$f":"IF(Y180=\"\",\"\",INDEX(referentes!S:T,MATCH(Y180,referentes!$T:$T,0),1))","v":""},{"$f":"IF(BO180=\"\",\"\",INDEX(referentes!J:K,MATCH(BO180,referentes!$K:$K,0),1))","v":""},{"$f":"IF(BJ180=\"\",\"\",INDEX(referentes!V:W,MATCH(BJ180,referentes!$W:$W,0),1))","v":""},{"$f":"IF(BK180=\"\",\"\",INDEX(referentes!Y:Z,MATCH(BK180,referentes!$Z:$Z,0),1))","v":""},{"$f":"IF(BL180=\"\",\"\",INDEX(referentes!AB:AC,MATCH(BL180,referentes!$AC:$AC,0),1))","v":""},{"$f":"IF(BM180=\"\",\"\",INDEX(referentes!AE:AF,MATCH(BM180,referentes!$AF:$AF,0),1))","v":""},{"$f":"IF(BB180=\"\",\"\",INDEX(referentes!M:N,MATCH(BB180,referentes!$N:$N,0),1))","v":""},{"$f":"IF(BQ180=\"\",\"\",INDEX('Otras referencias'!S:T,MATCH(BQ180,'Otras referencias'!$T:$T,0),1))","v":""},{"$f":"IF(BN180=\"\",\"\",INDEX('Otras referencias'!A:B,MATCH(BN180,'Otras referencias'!$B:$B,0),1))","v":""},""]
[1,"",{"$f":"IF(E181<>\"\",CONCATENATE(DIGITADOR!$M$1,TEXT(D181, \"YYYYMMDD\"),ROW()-5),\"\")","v":""},null,null,"",{"$f":"IF(H181=\"\",\"\",INDEX(referentes!AQ:AR,MATCH(H181,referentes!$AR:$AR,0),1))","v":""},null,{"$f":"IF(J181=\"\",\"\",VLOOKUP(J181,referentes!$AL$2:$AO$29,3,FALSE))","v":""},null,null,null,null,null,null,null,null,null,null,null,null,"",null,null,null,null,null,null,null,null,null,null,null,null,null,null,null,null,null,null,null,null,null,null,null,null,null,{"$f":"IF(AW181=\"\",\"\",DIGITADOR!$B$14)","v":""},"",null,null,null,"",null,null,null,null,null,null,null,null,null,null,null,null,null,null,null,null,null,null,"",{"$f":"IF(C181=\"\",\"\",IF(COUNTIF($C$6:C181, C181)>1, \"\", C181))","v":""},{"$f":"IF(N181=\"\",\"\",INDEX(referentes!P:Q,MATCH(N181,referentes!$Q:$Q,0),1))","v":""},{"$f":"IF(O181=\"\",\"\",INDEX(referentes!$A:$B,MATCH(O181,referentes!$B:$B,0),1))","v":""},{"$f":"IF(S181=\"\",\"\",INDEX(referentes!D:E,MATCH(S181,referentes!$E:$E,0),1))","v":""},{"$f":"IF(T181=\"\",\"\",INDEX(referentes!G:H,MATCH(T181,referentes!$H:$H,0),1))","v":""},"",{"$f":"IF(Y181=\"\",\"\",INDEX(referentes!S:T,MATCH(Y181,referentes!$T:$T,0),1))","v":""},{"$f":"IF(BO181=\"\",\"\",INDEX(referentes!J:K,MATCH(BO181,referentes!$K:$K,0),1))","v":""},{"$f":"IF(BJ181=\"\",\"\",INDEX(referentes!V:W,MATCH(BJ181,referentes!$W:$W,0),1))","v":""},{"$f":"IF(BK181=\"\",\"\",INDEX(referentes!Y:Z,MATCH(BK181,referentes!$Z:$Z,0),1))","v":""},{"$f":"IF(BL181=\"\",\"\",INDEX(referentes!AB:AC,MATCH(BL181,referentes!$AC:$AC,0),1))","v":""},{"$f":"IF(BM181=\"\",\"\",INDEX(referentes!AE:AF,MATCH(BM181,referentes!$AF:$AF,0),1))","v":""},{"$f":"IF(BB181=\"\",\"\",INDEX(referentes!M:N,MATCH(BB181,referentes!$N:$N,0),1))","v":""},{"$f":"IF(BQ181=\"\",\"\",INDEX('Otras referencias'!S:T,MATCH(BQ181,'Otras referencias'!$T:$T,0),1))","v":""},{"$f":"IF(BN181=\"\",\"\",INDEX('Otras referencias'!A:B,MATCH(BN181,'Otras referencias'!$B:$B,0),1))","v":""},""]
[1,"",{"$f":"IF(E182<>\"\",CONCATENATE(DIGITADOR!$M$1,TEXT(D182, \"YYYYMMDD\"),ROW()-5),\"\")","v":""},null,null,"",{"$f":"IF(H182=\"\",\"\",INDEX(referentes!AQ:AR,MATCH(H182,referentes!$AR:$AR,0),1))","v":""},null,{"$f":"IF(J182=\"\",\"\",VLOOKUP(J182,referentes!$AL$2:$AO$29,3,FALSE))","v":""},null,null,null,null,null,null,null,null,null,null,null,null,"",null,null,null,null,null,null,null,null,null,null,null,null,null,null,null,null,null,null,null,null,null,null,null,null,null,{"$f":"IF(AW182=\"\",\"\",DIGITADOR!$B$14)","v":""},"",null,null,null,"",null,null,null,null,null,null,null,null,null,null,null,null,null,null,null,null,null,null,"",{"$f":"IF(C182=\"\",\"\",IF(COUNTIF($C$6:C182, C182)>1, \"\", C182))","v":""},{"$f":"IF(N182=\"\",\"\",INDEX(referentes!P:Q,MATCH(N182,referentes!$Q:$Q,0),1))","v":""},{"$f":"IF(O182=\"\",\"\",INDEX(referentes!$A:$B,MATCH(O182,referentes!$B:$B,0),1))","v":""},{"$f":"IF(S182=\"\",\"\",INDEX(referentes!D:E,MATCH(S182,referentes!$E:$E,0),1))","v":""},{"$f":"IF(T182=\"\",\"\",INDEX(referentes!G:H,MATCH(T182,referentes!$H:$H,0),1))","v":""},"",{"$f":"IF(Y182=\"\",\"\",INDEX(referentes!S:T,MATCH(Y182,referentes!$T:$T,0),1))","v":""},{"$f":"IF(BO182=\"\",\"\",INDEX(referentes!J:K,MATCH(BO182,referentes!$K:$K,0),1))","v":""},{"$f":"IF(BJ182=\"\",\"\",INDEX(referentes!V:W,MATCH(BJ182,referentes!$W:$W,0),1))","v":""},{"$f":"IF(BK182=\"\",\"\",INDEX(referentes!Y:Z,MATCH(BK182,referentes!$Z:$Z,0),1))","v":""},{"$f":"IF(BL182=\"\",\"\",INDEX(referentes!AB:AC,MATCH(BL182,referentes!$AC:$AC,0),1))","v":""},{"$f":"IF(BM182=\"\",\"\",INDEX(referentes!AE:AF,MATCH(BM182,referentes!$AF:$AF,0),1))","v":""},{"$f":"IF(BB182=\"\",\"\",INDEX(referentes!M:N,MATCH(BB182,referentes!$N:$N,0),1))","v":""},{"$f":"IF(BQ182=\"\",\"\",INDEX('Otras referencias'!S:T,MATCH(BQ182,'Otras referencias'!$T:$T,0),1))","v":""},{"$f":"IF(BN182=\"\",\"\",INDEX('Otras referencias'!A:B,MATCH(BN182,'Otras referencias'!$B:$B,0),1))","v":""},""]
[1,"",{"$f":"IF(E183<>\"\",CONCATENATE(DIGITADOR!$M$1,TEXT(D183, \"YYYYMMDD\"),ROW()-5),\"\")","v":""},null,null,"",{"$f":"IF(H183=\"\",\"\",INDEX(referentes!AQ:AR,MATCH(H183,referentes!$AR:$AR,0),1))","v":""},null,{"$f":"IF(J183=\"\",\"\",VLOOKUP(J183,referentes!$AL$2:$AO$29,3,FALSE))","v":""},null,null,null,null,null,null,null,null,null,null,null,null,"",null,null,null,null,null,null,null,null,null,null,null,null,null,null,null,null,null,null,null,null,null,null,null,null,null,{"$f":"IF(AW183=\"\",\"\",DIGITADOR!$B$14)","v":""},"",null,null,null,"",null,null,null,null,null,null,null,null,null,null,null,null,null,null,null,null,null,null,"",{"$f":"IF(C183=\"\",\"\",IF(COUNTIF($C$6:C183, C183)>1, \"\", C183))","v":""},{"$f":"IF(N183=\"\",\"\",INDEX(referentes!P:Q,MATCH(N183,referentes!$Q:$Q,0),1))","v":""},{"$f":"IF(O183=\"\",\"\",INDEX(referentes!$A:$B,MATCH(O183,referentes!$B:$B,0),1))","v":""},{"$f":"IF(S183=\"\",\"\",INDEX(referentes!D:E,MATCH(S183,referentes!$E:$E,0),1))","v":""},{"$f":"IF(T183=\"\",\"\",INDEX(referentes!G:H,MATCH(T183,referentes!$H:$H,0),1))","v":""},"",{"$f":"IF(Y183=\"\",\"\",INDEX(referentes!S:T,MATCH(Y183,referentes!$T:$T,0),1))","v":""},{"$f":"IF(BO183=\"\",\"\",INDEX(referentes!J:K,MATCH(BO183,referentes!$K:$K,0),1))","v":""},{"$f":"IF(BJ183=\"\",\"\",INDEX(referentes!V:W,MATCH(BJ183,referentes!$W:$W,0),1))","v":""},{"$f":"IF(BK183=\"\",\"\",INDEX(referentes!Y:Z,MATCH(BK183,referentes!$Z:$Z,0),1))","v":""},{"$f":"IF(BL183=\"\",\"\",INDEX(referentes!AB:AC,MATCH(BL183,referentes!$AC:$AC,0),1))","v":""},{"$f":"IF(BM183=\"\",\"\",INDEX(referentes!AE:AF,MATCH(BM183,referentes!$AF:$AF,0),1))","v":""},{"$f":"IF(BB183=\"\",\"\",INDEX(referentes!M:N,MATCH(BB183,referentes!$N:$N,0),1))","v":""},{"$f":"IF(BQ183=\"\",\"\",INDEX('Otras referencias'!S:T,MATCH(BQ183,'Otras referencias'!$T:$T,0),1))","v":""},{"$f":"IF(BN183=\"\",\"\",INDEX('Otras referencias'!A:B,MATCH(BN183,'Otras referencias'!$B:$B,0),1))","v":""},""]
[1,"",{"$f":"IF(E184<>\"\",CONCATENATE(DIGITADOR!$M$1,TEXT(D184, \"YYYYMMDD\"),ROW()-5),\"\")","v":""},null,null,"",{"$f":"IF(H184=\"\",\"\",INDEX(referentes!AQ:AR,MATCH(H184,referentes!$AR:$AR,0),1))","v":""},null,{"$f":"IF(J184=\"\",\"\",VLOOKUP(J184,referentes!$AL$2:$AO$29,3,FALSE))","v":""},null,null,null,null,null,null,null,null,null,null,null,null,"",null,null,null,null,null,null,null,null,null,null,null,null,null,null,null,null,null,null,null,null,null,null,null,null,null,{"$f":"IF(AW184=\"\",\"\",DIGITADOR!$B$14)","v":""},"",null,null,null,"",null,null,null,null,null,null,null,null,null,null,null,null,null,null,null,null,null,null,"",{"$f":"IF(C184=\"\",\"\",IF(COUNTIF($C$6:C184, C184)>1, \"\", C184))","v":""},{"$f":"IF(N184=\"\",\"\",INDEX(referentes!P:Q,MATCH(N184,referentes!$Q:$Q,0),1))","v":""},{"$f":"IF(O184=\"\",\"\",INDEX(referentes!$A:$B,MATCH(O184,referentes!$B:$B,0),1))","v":""},{"$f":"IF(S184=\"\",\"\",INDEX(referentes!D:E,MATCH(S184,referentes!$E:$E,0),1))","v":""},{"$f":"IF(T184=\"\",\"\",INDEX(referentes!G:H,MATCH(T184,referentes!$H:$H,0),1))","v":""},"",{"$f":"IF(Y184=\"\",\"\",INDEX(referentes!S:T,MATCH(Y184,referentes!$T:$T,0),1))","v":""},{"$f":"IF(BO184=\"\",\"\",INDEX(referentes!J:K,MATCH(BO184,referentes!$K:$K,0),1))","v":""},{"$f":"IF(BJ184=\"\",\"\",INDEX(referentes!V:W,MATCH(BJ184,referentes!$W:$W,0),1))","v":""},{"$f":"IF(BK184=\"\",\"\",INDEX(referentes!Y:Z,MATCH(BK184,referentes!$Z:$Z,0),1))","v":""},{"$f":"IF(BL184=\"\",\"\",INDEX(referentes!AB:AC,MATCH(BL184,referentes!$AC:$AC,0),1))","v":""},{"$f":"IF(BM184=\"\",\"\",INDEX(referentes!AE:AF,MATCH(BM184,referentes!$AF:$AF,0),1))","v":""},{"$f":"IF(BB184=\"\",\"\",INDEX(referentes!M:N,MATCH(BB184,referentes!$N:$N,0),1))","v":""},{"$f":"IF(BQ184=\"\",\"\",INDEX('Otras referencias'!S:T,MATCH(BQ184,'Otras referencias'!$T:$T,0),1))","v":""},{"$f":"IF(BN184=\"\",\"\",INDEX('Otras referencias'!A:B,MATCH(BN184,'Otras referencias'!$B:$B,0),1))","v":""},""]
[1,"",{"$f":"IF(E185<>\"\",CONCATENATE(DIGITADOR!$M$1,TEXT(D185, \"YYYYMMDD\"),ROW()-5),\"\")","v":""},null,null,"",{"$f":"IF(H185=\"\",\"\",INDEX(referentes!AQ:AR,MATCH(H185,referentes!$AR:$AR,0),1))","v":""},null,{"$f":"IF(J185=\"\",\"\",VLOOKUP(J185,referentes!$AL$2:$AO$29,3,FALSE))","v":""},null,null,null,null,null,null,null,null,null,null,null,null,"",null,null,null,null,null,null,null,null,null,null,null,null,null,null,null,null,null,null,null,null,null,null,null,null,null,{"$f":"IF(AW185=\"\",\"\",DIGITADOR!$B$14)","v":""},"",null,null,null,"",null,null,null,null,null,null,null,null,null,null,null,null,null,null,null,null,null,null,"",{"$f":"IF(C185=\"\",\"\",IF(COUNTIF($C$6:C185, C185)>1, \"\", C185))","v":""},{"$f":"IF(N185=\"\",\"\",INDEX(referentes!P:Q,MATCH(N185,referentes!$Q:$Q,0),1))","v":""},{"$f":"IF(O185=\"\",\"\",INDEX(referentes!$A:$B,MATCH(O185,referentes!$B:$B,0),1))","v":""},{"$f":"IF(S185=\"\",\"\",INDEX(referentes!D:E,MATCH(S185,referentes!$E:$E,0),1))","v":""},{"$f":"IF(T185=\"\",\"\",INDEX(referentes!G:H,MATCH(T185,referentes!$H:$H,0),1))","v":""},"",{"$f":"IF(Y185=\"\",\"\",INDEX(referentes!S:T,MATCH(Y185,referentes!$T:$T,0),1))","v":""},{"$f":"IF(BO185=\"\",\"\",INDEX(referentes!J:K,MATCH(BO185,referentes!$K:$K,0),1))","v":""},{"$f":"IF(BJ185=\"\",\"\",INDEX(referentes!V:W,MATCH(BJ185,referentes!$W:$W,0),1))","v":""},{"$f":"IF(BK185=\"\",\"\",INDEX(referentes!Y:Z,MATCH(BK185,referentes!$Z:$Z,0),1))","v":""},{"$f":"IF(BL185=\"\",\"\",INDEX(referentes!AB:AC,MATCH(BL185,referentes!$AC:$AC,0),1))","v":""},{"$f":"IF(BM185=\"\",\"\",INDEX(referentes!AE:AF,MATCH(BM185,referentes!$AF:$AF,0),1))","v":""},{"$f":"IF(BB185=\"\",\"\",INDEX(referentes!M:N,MATCH(BB185,referentes!$N:$N,0),1))","v":""},{"$f":"IF(BQ185=\"\",\"\",INDEX('Otras referencias'!S:T,MATCH(BQ185,'Otras referencias'!$T:$T,0),1))","v":""},{"$f":"IF(BN185=\"\",\"\",INDEX('Otras referencias'!A:B,MATCH(BN185,'Otras referencias'!$B:$B,0),1))","v":""},""]
[1,"",{"$f":"IF(E186<>\"\",CONCATENATE(DIGITADOR!$M$1,TEXT(D186, \"YYYYMMDD\"),ROW()-5),\"\")","v":""},null,null,"",{"$f":"IF(H186=\"\",\"\",INDEX(referentes!AQ:AR,MATCH(H186,referentes!$AR:$AR,0),1))","v":""},null,{"$f":"IF(J186=\"\",\"\",VLOOKUP(J186,referentes!$AL$2:$AO$29,3,FALSE))","v":""},null,null,null,null,null,null,null,null,null,null,null,null,"",null,null,null,null,null,null,null,null,null,null,null,null,null,null,null,null,null,null,null,null,null,null,null,null,null,{"$f":"IF(AW186=\"\",\"\",DIGITADOR!$B$14)","v":""},"",null,null,null,"",null,null,null,null,null,null,null,null,null,null,null,null,null,null,null,null,null,null,"",{"$f":"IF(C186=\"\",\"\",IF(COUNTIF($C$6:C186, C186)>1, \"\", C186))","v":""},{"$f":"IF(N186=\"\",\"\",INDEX(referentes!P:Q,MATCH(N186,referentes!$Q:$Q,0),1))","v":""},{"$f":"IF(O186=\"\",\"\",INDEX(referentes!$A:$B,MATCH(O186,referentes!$B:$B,0),1))","v":""},{"$f":"IF(S186=\"\",\"\",INDEX(referentes!D:E,MATCH(S186,referentes!$E:$E,0),1))","v":""},{"$f":"IF(T186=\"\",\"\",INDEX(referentes!G:H,MATCH(T186,referentes!$H:$H,0),1))","v":""},"",{"$f":"IF(Y186=\"\",\"\",INDEX(referentes!S:T,MATCH(Y186,referentes!$T:$T,0),1))","v":""},{"$f":"IF(BO186=\"\",\"\",INDEX(referentes!J:K,MATCH(BO186,referentes!$K:$K,0),1))","v":""},{"$f":"IF(BJ186=\"\",\"\",INDEX(referentes!V:W,MATCH(BJ186,referentes!$W:$W,0),1))","v":""},{"$f":"IF(BK186=\"\",\"\",INDEX(referentes!Y:Z,MATCH(BK186,referentes!$Z:$Z,0),1))","v":""},{"$f":"IF(BL186=\"\",\"\",INDEX(referentes!AB:AC,MATCH(BL186,referentes!$AC:$AC,0),1))","v":""},{"$f":"IF(BM186=\"\",\"\",INDEX(referentes!AE:AF,MATCH(BM186,referentes!$AF:$AF,0),1))","v":""},{"$f":"IF(BB186=\"\",\"\",INDEX(referentes!M:N,MATCH(BB186,referentes!$N:$N,0),1))","v":""},{"$f":"IF(BQ186=\"\",\"\",INDEX('Otras referencias'!S:T,MATCH(BQ186,'Otras referencias'!$T:$T,0),1))","v":""},{"$f":"IF(BN186=\"\",\"\",INDEX('Otras referencias'!A:B,MATCH(BN186,'Otras referencias'!$B:$B,0),1))","v":""},""]
[1,"",{"$f":"IF(E187<>\"\",CONCATENATE(DIGITADOR!$M$1,TEXT(D187, \"YYYYMMDD\"),ROW()-5),\"\")","v":""},null,null,"",{"$f":"IF(H187=\"\",\"\",INDEX(referentes!AQ:AR,MATCH(H187,referentes!$AR:$AR,0),1))","v":""},null,{"$f":"IF(J187=\"\",\"\",VLOOKUP(J187,referentes!$AL$2:$AO$29,3,FALSE))","v":""},null,null,null,null,null,null,null,null,null,null,null,null,"",null,null,null,null,null,null,null,null,null,null,null,null,null,null,null,null,null,null,null,null,null,null,null,null,null,{"$f":"IF(AW187=\"\",\"\",DIGITADOR!$B$14)","v":""},"",null,null,null,"",null,null,null,null,null,null,null,null,null,null,null,null,null,null,null,null,null,null,"",{"$f":"IF(C187=\"\",\"\",IF(COUNTIF($C$6:C187, C187)>1, \"\", C187))","v":""},{"$f":"IF(N187=\"\",\"\",INDEX(referentes!P:Q,MATCH(N187,referentes!$Q:$Q,0),1))","v":""},{"$f":"IF(O187=\"\",\"\",INDEX(referentes!$A:$B,MATCH(O187,referentes!$B:$B,0),1))","v":""},{"$f":"IF(S187=\"\",\"\",INDEX(referentes!D:E,MATCH(S187,referentes!$E:$E,0),1))","v":""},{"$f":"IF(T187=\"\",\"\",INDEX(referentes!G:H,MATCH(T187,referentes!$H:$H,0),1))","v":""},"",{"$f":"IF(Y187=\"\",\"\",INDEX(referentes!S:T,MATCH(Y187,referentes!$T:$T,0),1))","v":""},{"$f":"IF(BO187=\"\",\"\",INDEX(referentes!J:K,MATCH(BO187,referentes!$K:$K,0),1))","v":""},{"$f":"IF(BJ187=\"\",\"\",INDEX(referentes!V:W,MATCH(BJ187,referentes!$W:$W,0),1))","v":""},{"$f":"IF(BK187=\"\",\"\",INDEX(referentes!Y:Z,MATCH(BK187,referentes!$Z:$Z,0),1))","v":""},{"$f":"IF(BL187=\"\",\"\",INDEX(referentes!AB:AC,MATCH(BL187,referentes!$AC:$AC,0),1))","v":""},{"$f":"IF(BM187=\"\",\"\",INDEX(referentes!AE:AF,MATCH(BM187,referentes!$AF:$AF,0),1))","v":""},{"$f":"IF(BB187=\"\",\"\",INDEX(referentes!M:N,MATCH(BB187,referentes!$N:$N,0),1))","v":""},{"$f":"IF(BQ187=\"\",\"\",INDEX('Otras referencias'!S:T,MATCH(BQ187,'Otras referencias'!$T:$T,0),1))","v":""},{"$f":"IF(BN187=\"\",\"\",INDEX('Otras referencias'!A:B,MATCH(BN187,'Otras referencias'!$B:$B,0),1))","v":""},""]
[1,"",{"$f":"IF(E188<>\"\",CONCATENATE(DIGITADOR!$M$1,TEXT(D188, \"YYYYMMDD\"),ROW()-5),\"\")","v":""},null,null,"",{"$f":"IF(H188=\"\",\"\",INDEX(referentes!AQ:AR,MATCH(H188,referentes!$AR:$AR,0),1))","v":""},null,{"$f":"IF(J188=\"\",\"\",VLOOKUP(J188,referentes!$AL$2:$AO$29,3,FALSE))","v":""},null,null,null,null,null,null,null,null,null,null,null,null,"",null,null,null,null,null,null,null,null,null,null,null,null,null,null,null,null,null,null,null,null,null,null,null,null,null,{"$f":"IF(AW188=\"\",\"\",DIGITADOR!$B$14)","v":""},"",null,null,null,"",null,null,null,null,null,null,null,null,null,null,null,null,null,null,null,null,null,null,"",{"$f":"IF(C188=\"\",\"\",IF(COUNTIF($C$6:C188, C188)>1, \"\", C188))","v":""},{"$f":"IF(N188=\"\",\"\",INDEX(referentes!P:Q,MATCH(N188,referentes!$Q:$Q,0),1))","v":""},{"$f":"IF(O188=\"\",\"\",INDEX(referentes!$A:$B,MATCH(O188,referentes!$B:$B,0),1))","v":""},{"$f":"IF(S188=\"\",\"\",INDEX(referentes!D:E,MATCH(S188,referentes!$E:$E,0),1))","v":""},{"$f":"IF(T188=\"\",\"\",INDEX(referentes!G:H,MATCH(T188,referentes!$H:$H,0),1))","v":""},"",{"$f":"IF(Y188=\"\",\"\",INDEX(referentes!S:T,MATCH(Y188,referentes!$T:$T,0),1))","v":""},{"$f":"IF(BO188=\"\",\"\",INDEX(referentes!J:K,MATCH(BO188,referentes!$K:$K,0),1))","v":""},{"$f":"IF(BJ188=\"\",\"\",INDEX(referentes!V:W,MATCH(BJ188,referentes!$W:$W,0),1))","v":""},{"$f":"IF(BK188=\"\",\"\",INDEX(referentes!Y:Z,MATCH(BK188,referentes!$Z:$Z,0),1))","v":""},{"$f":"IF(BL188=\"\",\"\",INDEX(referentes!AB:AC,MATCH(BL188,referentes!$AC:$AC,0),1))","v":""},{"$f":"IF(BM188=\"\",\"\",INDEX(referentes!AE:AF,MATCH(BM188,referentes!$AF:$AF,0),1))","v":""},{"$f":"IF(BB188=\"\",\"\",INDEX(referentes!M:N,MATCH(BB188,referentes!$N:$N,0),1))","v":""},{"$f":"IF(BQ188=\"\",\"\",INDEX('Otras referencias'!S:T,MATCH(BQ188,'Otras referencias'!$T:$T,0),1))","v":""},{"$f":"IF(BN188=\"\",\"\",INDEX('Otras referencias'!A:B,MATCH(BN188,'Otras referencias'!$B:$B,0),1))","v":""},""]
[1,"",{"$f":"IF(E189<>\"\",CONCATENATE(DIGITADOR!$M$1,TEXT(D189, \"YYYYMMDD\"),ROW()-5),\"\")","v":""},null,null,"",{"$f":"IF(H189=\"\",\"\",INDEX(referentes!AQ:AR,MATCH(H189,referentes!$AR:$AR,0),1))","v":""},null,{"$f":"IF(J189=\"\",\"\",VLOOKUP(J189,referentes!$AL$2:$AO$29,3,FALSE))","v":""},null,null,null,null,null,null,null,null,null,null,null,null,"",null,null,null,null,null,null,null,null,null,null,null,null,null,null,null,null,null,null,null,null,null,null,null,null,null,{"$f":"IF(AW189=\"\",\"\",DIGITADOR!$B$14)","v":""},"",null,null,null,"",null,null,null,null,null,null,null,null,null,null,null,null,null,null,null,null,null,null,"",{"$f":"IF(C189=\"\",\"\",IF(COUNTIF($C$6:C189, C189)>1, \"\", C189))","v":""},{"$f":"IF(N189=\"\",\"\",INDEX(referentes!P:Q,MATCH(N189,referentes!$Q:$Q,0),1))","v":""},{"$f":"IF(O189=\"\",\"\",INDEX(referentes!$A:$B,MATCH(O189,referentes!$B:$B,0),1))","v":""},{"$f":"IF(S189=\"\",\"\",INDEX(referentes!D:E,MATCH(S189,referentes!$E:$E,0),1))","v":""},{"$f":"IF(T189=\"\",\"\",INDEX(referentes!G:H,MATCH(T189,referentes!$H:$H,0),1))","v":""},"",{"$f":"IF(Y189=\"\",\"\",INDEX(referentes!S:T,MATCH(Y189,referentes!$T:$T,0),1))","v":""},{"$f":"IF(BO189=\"\",\"\",INDEX(referentes!J:K,MATCH(BO189,referentes!$K:$K,0),1))","v":""},{"$f":"IF(BJ189=\"\",\"\",INDEX(referentes!V:W,MATCH(BJ189,referentes!$W:$W,0),1))","v":""},{"$f":"IF(BK189=\"\",\"\",INDEX(referentes!Y:Z,MATCH(BK189,referentes!$Z:$Z,0),1))","v":""},{"$f":"IF(BL189=\"\",\"\",INDEX(referentes!AB:AC,MATCH(BL189,referentes!$AC:$AC,0),1))","v":""},{"$f":"IF(BM189=\"\",\"\",INDEX(referentes!AE:AF,MATCH(BM189,referentes!$AF:$AF,0),1))","v":""},{"$f":"IF(BB189=\"\",\"\",INDEX(referentes!M:N,MATCH(BB189,referentes!$N:$N,0),1))","v":""},{"$f":"IF(BQ189=\"\",\"\",INDEX('Otras referencias'!S:T,MATCH(BQ189,'Otras referencias'!$T:$T,0),1))","v":""},{"$f":"IF(BN189=\"\",\"\",INDEX('Otras referencias'!A:B,MATCH(BN189,'Otras referencias'!$B:$B,0),1))","v":""},""]
[1,"",{"$f":"IF(E190<>\"\",CONCATENATE(DIGITADOR!$M$1,TEXT(D190, \"YYYYMMDD\"),ROW()-5),\"\")","v":""},null,null,"",{"$f":"IF(H190=\"\",\"\",INDEX(referentes!AQ:AR,MATCH(H190,referentes!$AR:$AR,0),1))","v":""},null,{"$f":"IF(J190=\"\",\"\",VLOOKUP(J190,referentes!$AL$2:$AO$29,3,FALSE))","v":""},null,null,null,null,null,null,null,null,null,null,null,null,"",null,null,null,null,null,null,null,null,null,null,null,null,null,null,null,null,null,null,null,null,null,null,null,null,null,{"$f":"IF(AW190=\"\",\"\",DIGITADOR!$B$14)","v":""},"",null,null,null,"",null,null,null,null,null,null,null,null,null,null,null,null,null,null,null,null,null,null,"",{"$f":"IF(C190=\"\",\"\",IF(COUNTIF($C$6:C190, C190)>1, \"\", C190))","v":""},{"$f":"IF(N190=\"\",\"\",INDEX(referentes!P:Q,MATCH(N190,referentes!$Q:$Q,0),1))","v":""},{"$f":"IF(O190=\"\",\"\",INDEX(referentes!$A:$B,MATCH(O190,referentes!$B:$B,0),1))","v":""},{"$f":"IF(S190=\"\",\"\",INDEX(referentes!D:E,MATCH(S190,referentes!$E:$E,0),1))","v":""},{"$f":"IF(T190=\"\",\"\",INDEX(referentes!G:H,MATCH(T190,referentes!$H:$H,0),1))","v":""},"",{"$f":"IF(Y190=\"\",\"\",INDEX(referentes!S:T,MATCH(Y190,referentes!$T:$T,0),1))","v":""},{"$f":"IF(BO190=\"\",\"\",INDEX(referentes!J:K,MATCH(BO190,referentes!$K:$K,0),1))","v":""},{"$f":"IF(BJ190=\"\",\"\",INDEX(referentes!V:W,MATCH(BJ190,referentes!$W:$W,0),1))","v":""},{"$f":"IF(BK190=\"\",\"\",INDEX(referentes!Y:Z,MATCH(BK190,referentes!$Z:$Z,0),1))","v":""},{"$f":"IF(BL190=\"\",\"\",INDEX(referentes!AB:AC,MATCH(BL190,referentes!$AC:$AC,0),1))","v":""},{"$f":"IF(BM190=\"\",\"\",INDEX(referentes!AE:AF,MATCH(BM190,referentes!$AF:$AF,0),1))","v":""},{"$f":"IF(BB190=\"\",\"\",INDEX(referentes!M:N,MATCH(BB190,referentes!$N:$N,0),1))","v":""},{"$f":"IF(BQ190=\"\",\"\",INDEX('Otras referencias'!S:T,MATCH(BQ190,'Otras referencias'!$T:$T,0),1))","v":""},{"$f":"IF(BN190=\"\",\"\",INDEX('Otras referencias'!A:B,MATCH(BN190,'Otras referencias'!$B:$B,0),1))","v":""},""]
[1,"",{"$f":"IF(E191<>\"\",CONCATENATE(DIGITADOR!$M$1,TEXT(D191, \"YYYYMMDD\"),ROW()-5),\"\")","v":""},null,null,"",{"$f":"IF(H191=\"\",\"\",INDEX(referentes!AQ:AR,MATCH(H191,referentes!$AR:$AR,0),1))","v":""},null,{"$f":"IF(J191=\"\",\"\",VLOOKUP(J191,referentes!$AL$2:$AO$29,3,FALSE))","v":""},null,null,null,null,null,null,null,null,null,null,null,null,"",null,null,null,null,null,null,null,null,null,null,null,null,null,null,null,null,null,null,null,null,null,null,null,null,null,{"$f":"IF(AW191=\"\",\"\",DIGITADOR!$B$14)","v":""},"",null,null,null,"",null,null,null,null,null,null,null,null,null,null,null,null,null,null,null,null,null,null,"",{"$f":"IF(C191=\"\",\"\",IF(COUNTIF($C$6:C191, C191)>1, \"\", C191))","v":""},{"$f":"IF(N191=\"\",\"\",INDEX(referentes!P:Q,MATCH(N191,referentes!$Q:$Q,0),1))","v":""},{"$f":"IF(O191=\"\",\"\",INDEX(referentes!$A:$B,MATCH(O191,referentes!$B:$B,0),1))","v":""},{"$f":"IF(S191=\"\",\"\",INDEX(referentes!D:E,MATCH(S191,referentes!$E:$E,0),1))","v":""},{"$f":"IF(T191=\"\",\"\",INDEX(referentes!G:H,MATCH(T191,referentes!$H:$H,0),1))","v":""},"",{"$f":"IF(Y191=\"\",\"\",INDEX(referentes!S:T,MATCH(Y191,referentes!$T:$T,0),1))","v":""},{"$f":"IF(BO191=\"\",\"\",INDEX(referentes!J:K,MATCH(BO191,referentes!$K:$K,0),1))","v":""},{"$f":"IF(BJ191=\"\",\"\",INDEX(referentes!V:W,MATCH(BJ191,referentes!$W:$W,0),1))","v":""},{"$f":"IF(BK191=\"\",\"\",INDEX(referentes!Y:Z,MATCH(BK191,referentes!$Z:$Z,0),1))","v":""},{"$f":"IF(BL191=\"\",\"\",INDEX(referentes!AB:AC,MATCH(BL191,referentes!$AC:$AC,0),1))","v":""},{"$f":"IF(BM191=\"\",\"\",INDEX(referentes!AE:AF,MATCH(BM191,referentes!$AF:$AF,0),1))","v":""},{"$f":"IF(BB191=\"\",\"\",INDEX(referentes!M:N,MATCH(BB191,referentes!$N:$N,0),1))","v":""},{"$f":"IF(BQ191=\"\",\"\",INDEX('Otras referencias'!S:T,MATCH(BQ191,'Otras referencias'!$T:$T,0),1))","v":""},{"$f":"IF(BN191=\"\",\"\",INDEX('Otras referencias'!A:B,MATCH(BN191,'Otras referencias'!$B:$B,0),1))","v":""},""]
[1,"",{"$f":"IF(E192<>\"\",CONCATENATE(DIGITADOR!$M$1,TEXT(D192, \"YYYYMMDD\"),ROW()-5),\"\")","v":""},null,null,"",{"$f":"IF(H192=\"\",\"\",INDEX(referentes!AQ:AR,MATCH(H192,referentes!$AR:$AR,0),1))","v":""},null,{"$f":"IF(J192=\"\",\"\",VLOOKUP(J192,referentes!$AL$2:$AO$29,3,FALSE))","v":""},null,null,null,null,null,null,null,null,null,null,null,null,"",null,null,null,null,null,null,null,null,null,null,null,null,null,null,null,null,null,null,null,null,null,null,null,null,null,{"$f":"IF(AW192=\"\",\"\",DIGITADOR!$B$14)","v":""},"",null,null,null,"",null,null,null,null,null,null,null,null,null,null,null,null,null,null,null,null,null,null,"",{"$f":"IF(C192=\"\",\"\",IF(COUNTIF($C$6:C192, C192)>1, \"\", C192))","v":""},{"$f":"IF(N192=\"\",\"\",INDEX(referentes!P:Q,MATCH(N192,referentes!$Q:$Q,0),1))","v":""},{"$f":"IF(O192=\"\",\"\",INDEX(referentes!$A:$B,MATCH(O192,referentes!$B:$B,0),1))","v":""},{"$f":"IF(S192=\"\",\"\",INDEX(referentes!D:E,MATCH(S192,referentes!$E:$E,0),1))","v":""},{"$f":"IF(T192=\"\",\"\",INDEX(referentes!G:H,MATCH(T192,referentes!$H:$H,0),1))","v":""},"",{"$f":"IF(Y192=\"\",\"\",INDEX(referentes!S:T,MATCH(Y192,referentes!$T:$T,0),1))","v":""},{"$f":"IF(BO192=\"\",\"\",INDEX(referentes!J:K,MATCH(BO192,referentes!$K:$K,0),1))","v":""},{"$f":"IF(BJ192=\"\",\"\",INDEX(referentes!V:W,MATCH(BJ192,referentes!$W:$W,0),1))","v":""},{"$f":"IF(BK192=\"\",\"\",INDEX(referentes!Y:Z,MATCH(BK192,referentes!$Z:$Z,0),1))","v":""},{"$f":"IF(BL192=\"\",\"\",INDEX(referentes!AB:AC,MATCH(BL192,referentes!$AC:$AC,0),1))","v":""},{"$f":"IF(BM192=\"\",\"\",INDEX(referentes!AE:AF,MATCH(BM192,referentes!$AF:$AF,0),1))","v":""},{"$f":"IF(BB192=\"\",\"\",INDEX(referentes!M:N,MATCH(BB192,referentes!$N:$N,0),1))","v":""},{"$f":"IF(BQ192=\"\",\"\",INDEX('Otras referencias'!S:T,MATCH(BQ192,'Otras referencias'!$T:$T,0),1))","v":""},{"$f":"IF(BN192=\"\",\"\",INDEX('Otras referencias'!A:B,MATCH(BN192,'Otras referencias'!$B:$B,0),1))","v":""},""]
[1,"",{"$f":"IF(E193<>\"\",CONCATENATE(DIGITADOR!$M$1,TEXT(D193, \"YYYYMMDD\"),ROW()-5),\"\")","v":""},null,null,"",{"$f":"IF(H193=\"\",\"\",INDEX(referentes!AQ:AR,MATCH(H193,referentes!$AR:$AR,0),1))","v":""},null,{"$f":"IF(J193=\"\",\"\",VLOOKUP(J193,referentes!$AL$2:$AO$29,3,FALSE))","v":""},null,null,null,null,null,null,null,null,null,null,null,null,"",null,null,null,null,null,null,null,null,null,null,null,null,null,null,null,null,null,null,null,null,null,null,null,null,null,{"$f":"IF(AW193=\"\",\"\",DIGITADOR!$B$14)","v":""},"",null,null,null,"",null,null,null,null,null,null,null,null,null,null,null,null,null,null,null,null,null,null,"",{"$f":"IF(C193=\"\",\"\",IF(COUNTIF($C$6:C193, C193)>1, \"\", C193))","v":""},{"$f":"IF(N193=\"\",\"\",INDEX(referentes!P:Q,MATCH(N193,referentes!$Q:$Q,0),1))","v":""},{"$f":"IF(O193=\"\",\"\",INDEX(referentes!$A:$B,MATCH(O193,referentes!$B:$B,0),1))","v":""},{"$f":"IF(S193=\"\",\"\",INDEX(referentes!D:E,MATCH(S193,referentes!$E:$E,0),1))","v":""},{"$f":"IF(T193=\"\",\"\",INDEX(referentes!G:H,MATCH(T193,referentes!$H:$H,0),1))","v":""},"",{"$f":"IF(Y193=\"\",\"\",INDEX(referentes!S:T,MATCH(Y193,referentes!$T:$T,0),1))","v":""},{"$f":"IF(BO193=\"\",\"\",INDEX(referentes!J:K,MATCH(BO193,referentes!$K:$K,0),1))","v":""},{"$f":"IF(BJ193=\"\",\"\",INDEX(referentes!V:W,MATCH(BJ193,referentes!$W:$W,0),1))","v":""},{"$f":"IF(BK193=\"\",\"\",INDEX(referentes!Y:Z,MATCH(BK193,referentes!$Z:$Z,0),1))","v":""},{"$f":"IF(BL193=\"\",\"\",INDEX(referentes!AB:AC,MATCH(BL193,referentes!$AC:$AC,0),1))","v":""},{"$f":"IF(BM193=\"\",\"\",INDEX(referentes!AE:AF,MATCH(BM193,referentes!$AF:$AF,0),1))","v":""},{"$f":"IF(BB193=\"\",\"\",INDEX(referentes!M:N,MATCH(BB193,referentes!$N:$N,0),1))","v":""},{"$f":"IF(BQ193=\"\",\"\",INDEX('Otras referencias'!S:T,MATCH(BQ193,'Otras referencias'!$T:$T,0),1))","v":""},{"$f":"IF(BN193=\"\",\"\",INDEX('Otras referencias'!A:B,MATCH(BN193,'Otras referencias'!$B:$B,0),1))","v":""},""]
[1,"",{"$f":"IF(E194<>\"\",CONCATENATE(DIGITADOR!$M$1,TEXT(D194, \"YYYYMMDD\"),ROW()-5),\"\")","v":""},null,null,"",{"$f":"IF(H194=\"\",\"\",INDEX(referentes!AQ:AR,MATCH(H194,referentes!$AR:$AR,0),1))","v":""},null,{"$f":"IF(J194=\"\",\"\",VLOOKUP(J194,referentes!$AL$2:$AO$29,3,FALSE))","v":""},null,null,null,null,null,null,null,null,null,null,null,null,"",null,null,null,null,null,null,null,null,null,null,null,null,null,null,null,null,null,null,null,null,null,null,null,null,null,{"$f":"IF(AW194=\"\",\"\",DIGITADOR!$B$14)","v":""},"",null,null,null,"",null,null,null,null,null,null,null,null,null,null,null,null,null,null,null,null,null,null,"",{"$f":"IF(C194=\"\",\"\",IF(COUNTIF($C$6:C194, C194)>1, \"\", C194))","v":""},{"$f":"IF(N194=\"\",\"\",INDEX(referentes!P:Q,MATCH(N194,referentes!$Q:$Q,0),1))","v":""},{"$f":"IF(O194=\"\",\"\",INDEX(referentes!$A:$B,MATCH(O194,referentes!$B:$B,0),1))","v":""},{"$f":"IF(S194=\"\",\"\",INDEX(referentes!D:E,MATCH(S194,referentes!$E:$E,0),1))","v":""},{"$f":"IF(T194=\"\",\"\",INDEX(referentes!G:H,MATCH(T194,referentes!$H:$H,0),1))","v":""},"",{"$f":"IF(Y194=\"\",\"\",INDEX(referentes!S:T,MATCH(Y194,referentes!$T:$T,0),1))","v":""},{"$f":"IF(BO194=\"\",\"\",INDEX(referentes!J:K,MATCH(BO194,referentes!$K:$K,0),1))","v":""},{"$f":"IF(BJ194=\"\",\"\",INDEX(referentes!V:W,MATCH(BJ194,referentes!$W:$W,0),1))","v":""},{"$f":"IF(BK194=\"\",\"\",INDEX(referentes!Y:Z,MATCH(BK194,referentes!$Z:$Z,0),1))","v":""},{"$f":"IF(BL194=\"\",\"\",INDEX(referentes!AB:AC,MATCH(BL194,referentes!$AC:$AC,0),1))","v":""},{"$f":"IF(BM194=\"\",\"\",INDEX(referentes!AE:AF,MATCH(BM194,referentes!$AF:$AF,0),1))","v":""},{"$f":"IF(BB194=\"\",\"\",INDEX(referentes!M:N,MATCH(BB194,referentes!$N:$N,0),1))","v":""},{"$f":"IF(BQ194=\"\",\"\",INDEX('Otras referencias'!S:T,MATCH(BQ194,'Otras referencias'!$T:$T,0),1))","v":""},{"$f":"IF(BN194=\"\",\"\",INDEX('Otras referencias'!A:B,MATCH(BN194,'Otras referencias'!$B:$B,0),1))","v":""},""]
[1,"",{"$f":"IF(E195<>\"\",CONCATENATE(DIGITADOR!$M$1,TEXT(D195, \"YYYYMMDD\"),ROW()-5),\"\")","v":""},null,null,"",{"$f":"IF(H195=\"\",\"\",INDEX(referentes!AQ:AR,MATCH(H195,referentes!$AR:$AR,0),1))","v":""},null,{"$f":"IF(J195=\"\",\"\",VLOOKUP(J195,referentes!$AL$2:$AO$29,3,FALSE))","v":""},null,null,null,null,null,null,null,null,null,null,null,null,"",null,null,null,null,null,null,null,null,null,null,null,null,null,null,null,null,null,null,null,null,null,null,null,null,null,{"$f":"IF(AW195=\"\",\"\",DIGITADOR!$B$14)","v":""},"",null,null,null,"",null,null,null,null,null,null,null,null,null,null,null,null,null,null,null,null,null,null,"",{"$f":"IF(C195=\"\",\"\",IF(COUNTIF($C$6:C195, C195)>1, \"\", C195))","v":""},{"$f":"IF(N195=\"\",\"\",INDEX(referentes!P:Q,MATCH(N195,referentes!$Q:$Q,0),1))","v":""},{"$f":"IF(O195=\"\",\"\",INDEX(referentes!$A:$B,MATCH(O195,referentes!$B:$B,0),1))","v":""},{"$f":"IF(S195=\"\",\"\",INDEX(referentes!D:E,MATCH(S195,referentes!$E:$E,0),1))","v":""},{"$f":"IF(T195=\"\",\"\",INDEX(referentes!G:H,MATCH(T195,referentes!$H:$H,0),1))","v":""},"",{"$f":"IF(Y195=\"\",\"\",INDEX(referentes!S:T,MATCH(Y195,referentes!$T:$T,0),1))","v":""},{"$f":"IF(BO195=\"\",\"\",INDEX(referentes!J:K,MATCH(BO195,referentes!$K:$K,0),1))","v":""},{"$f":"IF(BJ195=\"\",\"\",INDEX(referentes!V:W,MATCH(BJ195,referentes!$W:$W,0),1))","v":""},{"$f":"IF(BK195=\"\",\"\",INDEX(referentes!Y:Z,MATCH(BK195,referentes!$Z:$Z,0),1))","v":""},{"$f":"IF(BL195=\"\",\"\",INDEX(referentes!AB:AC,MATCH(BL195,referentes!$AC:$AC,0),1))","v":""},{"$f":"IF(BM195=\"\",\"\",INDEX(referentes!AE:AF,MATCH(BM195,referentes!$AF:$AF,0),1))","v":""},{"$f":"IF(BB195=\"\",\"\",INDEX(referentes!M:N,MATCH(BB195,referentes!$N:$N,0),1))","v":""},{"$f":"IF(BQ195=\"\",\"\",INDEX('Otras referencias'!S:T,MATCH(BQ195,'Otras referencias'!$T:$T,0),1))","v":""},{"$f":"IF(BN195=\"\",\"\",INDEX('Otras referencias'!A:B,MATCH(BN195,'Otras referencias'!$B:$B,0),1))","v":""},""]
[1,"",{"$f":"IF(E196<>\"\",CONCATENATE(DIGITADOR!$M$1,TEXT(D196, \"YYYYMMDD\"),ROW()-5),\"\")","v":""},null,null,"",{"$f":"IF(H196=\"\",\"\",INDEX(referentes!AQ:AR,MATCH(H196,referentes!$AR:$AR,0),1))","v":""},null,{"$f":"IF(J196=\"\",\"\",VLOOKUP(J196,referentes!$AL$2:$AO$29,3,FALSE))","v":""},null,null,null,null,null,null,null,null,null,null,null,null,"",null,null,null,null,null,null,null,null,null,null,null,null,null,null,null,null,null,null,null,null,null,null,null,null,null,{"$f":"IF(AW196=\"\",\"\",DIGITADOR!$B$14)","v":""},"",null,null,null,"",null,null,null,null,null,null,null,null,null,null,null,null,null,null,null,null,null,null,"",{"$f":"IF(C196=\"\",\"\",IF(COUNTIF($C$6:C196, C196)>1, \"\", C196))","v":""},{"$f":"IF(N196=\"\",\"\",INDEX(referentes!P:Q,MATCH(N196,referentes!$Q:$Q,0),1))","v":""},{"$f":"IF(O196=\"\",\"\",INDEX(referentes!$A:$B,MATCH(O196,referentes!$B:$B,0),1))","v":""},{"$f":"IF(S196=\"\",\"\",INDEX(referentes!D:E,MATCH(S196,referentes!$E:$E,0),1))","v":""},{"$f":"IF(T196=\"\",\"\",INDEX(referentes!G:H,MATCH(T196,referentes!$H:$H,0),1))","v":""},"",{"$f":"IF(Y196=\"\",\"\",INDEX(referentes!S:T,MATCH(Y196,referentes!$T:$T,0),1))","v":""},{"$f":"IF(BO196=\"\",\"\",INDEX(referentes!J:K,MATCH(BO196,referentes!$K:$K,0),1))","v":""},{"$f":"IF(BJ196=\"\",\"\",INDEX(referentes!V:W,MATCH(BJ196,referentes!$W:$W,0),1))","v":""},{"$f":"IF(BK196=\"\",\"\",INDEX(referentes!Y:Z,MATCH(BK196,referentes!$Z:$Z,0),1))","v":""},{"$f":"IF(BL196=\"\",\"\",INDEX(referentes!AB:AC,MATCH(BL196,referentes!$AC:$AC,0),1))","v":""},{"$f":"IF(BM196=\"\",\"\",INDEX(referentes!AE:AF,MATCH(BM196,referentes!$AF:$AF,0),1))","v":""},{"$f":"IF(BB196=\"\",\"\",INDEX(referentes!M:N,MATCH(BB196,referentes!$N:$N,0),1))","v":""},{"$f":"IF(BQ196=\"\",\"\",INDEX('Otras referencias'!S:T,MATCH(BQ196,'Otras referencias'!$T:$T,0),1))","v":""},{"$f":"IF(BN196=\"\",\"\",INDEX('Otras referencias'!A:B,MATCH(BN196,'Otras referencias'!$B:$B,0),1))","v":""},""]
[1,"",{"$f":"IF(E197<>\"\",CONCATENATE(DIGITADOR!$M$1,TEXT(D197, \"YYYYMMDD\"),ROW()-5),\"\")","v":""},null,null,"",{"$f":"IF(H197=\"\",\"\",INDEX(referentes!AQ:AR,MATCH(H197,referentes!$AR:$AR,0),1))","v":""},null,{"$f":"IF(J197=\"\",\"\",VLOOKUP(J197,referentes!$AL$2:$AO$29,3,FALSE))","v":""},null,null,null,null,null,null,null,null,null,null,null,null,"",null,null,null,null,null,null,null,null,null,null,null,null,null,null,null,null,null,null,null,null,null,null,null,null,null,{"$f":"IF(AW197=\"\",\"\",DIGITADOR!$B$14)","v":""},"",null,null,null,"",null,null,null,null,null,null,null,null,null,null,null,null,null,null,null,null,null,null,"",{"$f":"IF(C197=\"\",\"\",IF(COUNTIF($C$6:C197, C197)>1, \"\", C197))","v":""},{"$f":"IF(N197=\"\",\"\",INDEX(referentes!P:Q,MATCH(N197,referentes!$Q:$Q,0),1))","v":""},{"$f":"IF(O197=\"\",\"\",INDEX(referentes!$A:$B,MATCH(O197,referentes!$B:$B,0),1))","v":""},{"$f":"IF(S197=\"\",\"\",INDEX(referentes!D:E,MATCH(S197,referentes!$E:$E,0),1))","v":""},{"$f":"IF(T197=\"\",\"\",INDEX(referentes!G:H,MATCH(T197,referentes!$H:$H,0),1))","v":""},"",{"$f":"IF(Y197=\"\",\"\",INDEX(referentes!S:T,MATCH(Y197,referentes!$T:$T,0),1))","v":""},{"$f":"IF(BO197=\"\",\"\",INDEX(referentes!J:K,MATCH(BO197,referentes!$K:$K,0),1))","v":""},{"$f":"IF(BJ197=\"\",\"\",INDEX(referentes!V:W,MATCH(BJ197,referentes!$W:$W,0),1))","v":""},{"$f":"IF(BK197=\"\",\"\",INDEX(referentes!Y:Z,MATCH(BK197,referentes!$Z:$Z,0),1))","v":""},{"$f":"IF(BL197=\"\",\"\",INDEX(referentes!AB:AC,MATCH(BL197,referentes!$AC:$AC,0),1))","v":""},{"$f":"IF(BM197=\"\",\"\",INDEX(referentes!AE:AF,MATCH(BM197,referentes!$AF:$AF,0),1))","v":""},{"$f":"IF(BB197=\"\",\"\",INDEX(referentes!M:N,MATCH(BB197,referentes!$N:$N,0),1))","v":""},{"$f":"IF(BQ197=\"\",\"\",INDEX('Otras referencias'!S:T,MATCH(BQ197,'Otras referencias'!$T:$T,0),1))","v":""},{"$f":"IF(BN197=\"\",\"\",INDEX('Otras referencias'!A:B,MATCH(BN197,'Otras referencias'!$B:$B,0),1))","v":""},""]
[1,{"$f":"IF(BZ198=\"\",\"\",IF(BZ198=BZ197,B197,B197+1))","v":""},{"$f":"IF(E198<>\"\",CONCATENATE(DIGITADOR!$M$1,TEXT(D198, \"YYYYMMDD\"),ROW()-5),\"\")","v":""},null,null,"",{"$f":"IF(H198=\"\",\"\",INDEX(referentes!AQ:AR,MATCH(H198,referentes!$AR:$AR,0),1))","v":""},null,{"$f":"IF(J198=\"\",\"\",VLOOKUP(J198,referentes!$AL$2:$AO$29,3,FALSE))","v":""},null,null,null,null,null,null,null,null,null,null,null,null,"",null,null,null,null,null,null,null,null,null,null,null,null,null,null,null,null,null,null,null,null,null,null,null,null,null,{"$f":"IF(AW198=\"\",\"\",DIGITADOR!$B$14)","v":""},"",null,null,null,"",null,null,null,null,null,null,null,null,null,null,null,null,null,null,null,null,null,null,"",{"$f":"IF(C198=\"\",\"\",IF(COUNTIF($C$6:C198, C198)>1, \"\", C198))","v":""},{"$f":"IF(N198=\"\",\"\",INDEX(referentes!P:Q,MATCH(N198,referentes!$Q:$Q,0),1))","v":""},{"$f":"IF(O198=\"\",\"\",INDEX(referentes!$A:$B,MATCH(O198,referentes!$B:$B,0),1))","v":""},{"$f":"IF(S198=\"\",\"\",INDEX(referentes!D:E,MATCH(S198,referentes!$E:$E,0),1))","v":""},{"$f":"IF(T198=\"\",\"\",INDEX(referentes!G:H,MATCH(T198,referentes!$H:$H,0),1))","v":""},{"$f":"CONCATENATE(F198,G198,I198,BV198,BW198,BX198,BY198,P198,Q198,R198)","v":""},{"$f":"IF(Y198=\"\",\"\",INDEX(referentes!S:T,MATCH(Y198,referentes!$T:$T,0),1))","v":""},{"$f":"IF(BO198=\"\",\"\",INDEX(referentes!J:K,MATCH(BO198,referentes!$K:$K,0),1))","v":""},{"$f":"IF(BJ198=\"\",\"\",INDEX(referentes!V:W,MATCH(BJ198,referentes!$W:$W,0),1))","v":""},{"$f":"IF(BK198=\"\",\"\",INDEX(referentes!Y:Z,MATCH(BK198,referentes!$Z:$Z,0),1))","v":""},{"$f":"IF(BL198=\"\",\"\",INDEX(referentes!AB:AC,MATCH(BL198,referentes!$AC:$AC,0),1))","v":""},{"$f":"IF(BM198=\"\",\"\",INDEX(referentes!AE:AF,MATCH(BM198,referentes!$AF:$AF,0),1))","v":""},{"$f":"IF(BB198=\"\",\"\",INDEX(referentes!M:N,MATCH(BB198,referentes!$N:$N,0),1))","v":""},{"$f":"IF(BQ198=\"\",\"\",INDEX('Otras referencias'!S:T,MATCH(BQ198,'Otras referencias'!$T:$T,0),1))","v":""},{"$f":"IF(BN198=\"\",\"\",INDEX('Otras referencias'!A:B,MATCH(BN198,'Otras referencias'!$B:$B,0),1))","v":""},""]
[{"$f":"IF(CJ199=CJ198,A198,A198+1)","v":1},"",{"$f":"IF(E199<>\"\",CONCATENATE(DIGITADOR!$M$1,TEXT(D199, \"YYYYMMDD\"),ROW()-5),\"\")","v":""},null,null,{"$f":"IF(D199<>\"\",D199+E199,\"\")","v":""},{"$f":"IF(H199=\"\",\"\",INDEX(referentes!AQ:AR,MATCH(H199,referentes!$AR:$AR,0),1))","v":""},null,{"$f":"IF(J199=\"\",\"\",VLOOKUP(J199,referentes!$AL$2:$AO$29,3,FALSE))","v":""},null,null,null,null,null,null,null,null,null,null,null,null,{"$f":"IF(W199=\"\",\"\",IF(W199=W198,B198,B198+1))","v":""},null,null,null,null,null,null,null,null,null,null,null,null,null,null,null,null,null,null,null,null,null,null,null,null,null,{"$f":"IF(AW199=\"\",\"\",DIGITADOR!$B$14)","v":""},{"$f":"IF(SUM(Z199:AU199)=0,\"\",SUM(Z199:AU199))","v":""},null,null,null,{"$f":"IF(SUM(AX199:AZ199)=0,\"\",SUM(AX199:AZ199))","v":""},null,null,null,null,null,null,null,null,null,null,null,null,null,null,null,null,null,null,{"$f":"IF(D199=\"\",\"\",CONCATENATE(C199,V199,B199))","v":""},{"$f":"IF(C199=\"\",\"\",IF(COUNTIF($C$6:C199, C199)>1, \"\", C199))","v":""},{"$f":"IF(N199=\"\",\"\",INDEX(referentes!P:Q,MATCH(N199,referentes!$Q:$Q,0),1))","v":""},{"$f":"IF(O199=\"\",\"\",INDEX(referentes!$A:$B,MATCH(O199,referentes!$B:$B,0),1))","v":""},{"$f":"IF(S199=\"\",\"\",INDEX(referentes!D:E,MATCH(S199,referentes!$E:$E,0),1))","v":""},{"$f":"IF(T199=\"\",\"\",INDEX(referentes!G:H,MATCH(T199,referentes!$H:$H,0),1))","v":""},"",{"$f":"IF(Y199=\"\",\"\",INDEX(referentes!S:T,MATCH(Y199,referentes!$T:$T,0),1))","v":""},{"$f":"IF(BO199=\"\",\"\",INDEX(referentes!J:K,MATCH(BO199,referentes!$K:$K,0),1))","v":""},{"$f":"IF(BJ199=\"\",\"\",INDEX(referentes!V:W,MATCH(BJ199,referentes!$W:$W,0),1))","v":""},{"$f":"IF(BK199=\"\",\"\",INDEX(referentes!Y:Z,MATCH(BK199,referentes!$Z:$Z,0),1))","v":""},{"$f":"IF(BL199=\"\",\"\",INDEX(referentes!AB:AC,MATCH(BL199,referentes!$AC:$AC,0),1))","v":""},{"$f":"IF(BM199=\"\",\"\",INDEX(referentes!AE:AF,MATCH(BM199,referentes!$AF:$AF,0),1))","v":""},{"$f":"IF(BB199=\"\",\"\",INDEX(referentes!M:N,MATCH(BB199,referentes!$N:$N,0),1))","v":""},{"$f":"IF(BQ199=\"\",\"\",INDEX('Otras referencias'!S:T,MATCH(BQ199,'Otras referencias'!$T:$T,0),1))","v":""},{"$f":"IF(BN199=\"\",\"\",INDEX('Otras referencias'!A:B,MATCH(BN199,'Otras referencias'!$B:$B,0),1))","v":""},{"$f":"IF(D199=\"\",\"\",CONCATENATE(TEXT(D199,\"YYYYMMDD\"),I199))","v":""}]
[1,"",{"$f":"IF(E200<>\"\",CONCATENATE(DIGITADOR!$M$1,TEXT(D200, \"YYYYMMDD\"),ROW()-5),\"\")","v":""},null,null,"",{"$f":"IF(H200=\"\",\"\",INDEX(referentes!AQ:AR,MATCH(H200,referentes!$AR:$AR,0),1))","v":""},null,{"$f":"IF(J200=\"\",\"\",VLOOKUP(J200,referentes!$AL$2:$AO$29,3,FALSE))","v":""},null,null,null,null,null,null,null,null,null,null,null,null,"",null,null,null,null,null,null,null,null,null,null,null,null,null,null,null,null,null,null,null,null,null,null,null,null,null,{"$f":"IF(AW200=\"\",\"\",DIGITADOR!$B$14)","v":""},"",null,null,null,"",null,null,null,null,null,null,null,null,null,null,null,null,null,null,null,null,null,null,"",{"$f":"IF(C200=\"\",\"\",IF(COUNTIF($C$6:C200, C200)>1, \"\", C200))","v":""},{"$f":"IF(N200=\"\",\"\",INDEX(referentes!P:Q,MATCH(N200,referentes!$Q:$Q,0),1))","v":""},{"$f":"IF(O200=\"\",\"\",INDEX(referentes!$A:$B,MATCH(O200,referentes!$B:$B,0),1))","v":""},{"$f":"IF(S200=\"\",\"\",INDEX(referentes!D:E,MATCH(S200,referentes!$E:$E,0),1))","v":""},{"$f":"IF(T200=\"\",\"\",INDEX(referentes!G:H,MATCH(T200,referentes!$H:$H,0),1))","v":""},"",{"$f":"IF(Y200=\"\",\"\",INDEX(referentes!S:T,MATCH(Y200,referentes!$T:$T,0),1))","v":""},{"$f":"IF(BO200=\"\",\"\",INDEX(referentes!J:K,MATCH(BO200,referentes!$K:$K,0),1))","v":""},{"$f":"IF(BJ200=\"\",\"\",INDEX(referentes!V:W,MATCH(BJ200,referentes!$W:$W,0),1))","v":""},{"$f":"IF(BK200=\"\",\"\",INDEX(referentes!Y:Z,MATCH(BK200,referentes!$Z:$Z,0),1))","v":""},{"$f":"IF(BL200=\"\",\"\",INDEX(referentes!AB:AC,MATCH(BL200,referentes!$AC:$AC,0),1))","v":""},{"$f":"IF(BM200=\"\",\"\",INDEX(referentes!AE:AF,MATCH(BM200,referentes!$AF:$AF,0),1))","v":""},{"$f":"IF(BB200=\"\",\"\",INDEX(referentes!M:N,MATCH(BB200,referentes!$N:$N,0),1))","v":""},{"$f":"IF(BQ200=\"\",\"\",INDEX('Otras referencias'!S:T,MATCH(BQ200,'Otras referencias'!$T:$T,0),1))","v":""},{"$f":"IF(BN200=\"\",\"\",INDEX('Otras referencias'!A:B,MATCH(BN200,'Otras referencias'!$B:$B,0),1))","v":""},""]
[1,"",{"$f":"IF(E201<>\"\",CONCATENATE(DIGITADOR!$M$1,TEXT(D201, \"YYYYMMDD\"),ROW()-5),\"\")","v":""},null,null,"",{"$f":"IF(H201=\"\",\"\",INDEX(referentes!AQ:AR,MATCH(H201,referentes!$AR:$AR,0),1))","v":""},null,{"$f":"IF(J201=\"\",\"\",VLOOKUP(J201,referentes!$AL$2:$AO$29,3,FALSE))","v":""},null,null,null,null,null,null,null,null,null,null,null,null,"",null,null,null,null,null,null,null,null,null,null,null,null,null,null,null,null,null,null,null,null,null,null,null,null,null,{"$f":"IF(AW201=\"\",\"\",DIGITADOR!$B$14)","v":""},"",null,null,null,"",null,null,null,null,null,null,null,null,null,null,null,null,null,null,null,null,null,null,"",{"$f":"IF(C201=\"\",\"\",IF(COUNTIF($C$6:C201, C201)>1, \"\", C201))","v":""},{"$f":"IF(N201=\"\",\"\",INDEX(referentes!P:Q,MATCH(N201,referentes!$Q:$Q,0),1))","v":""},{"$f":"IF(O201=\"\",\"\",INDEX(referentes!$A:$B,MATCH(O201,referentes!$B:$B,0),1))","v":""},{"$f":"IF(S201=\"\",\"\",INDEX(referentes!D:E,MATCH(S201,referentes!$E:$E,0),1))","v":""},{"$f":"IF(T201=\"\",\"\",INDEX(referentes!G:H,MATCH(T201,referentes!$H:$H,0),1))","v":""},"",{"$f":"IF(Y201=\"\",\"\",INDEX(referentes!S:T,MATCH(Y201,referentes!$T:$T,0),1))","v":""},{"$f":"IF(BO201=\"\",\"\",INDEX(referentes!J:K,MATCH(BO201,referentes!$K:$K,0),1))","v":""},{"$f":"IF(BJ201=\"\",\"\",INDEX(referentes!V:W,MATCH(BJ201,referentes!$W:$W,0),1))","v":""},{"$f":"IF(BK201=\"\",\"\",INDEX(referentes!Y:Z,MATCH(BK201,referentes!$Z:$Z,0),1))","v":""},{"$f":"IF(BL201=\"\",\"\",INDEX(referentes!AB:AC,MATCH(BL201,referentes!$AC:$AC,0),1))","v":""},{"$f":"IF(BM201=\"\",\"\",INDEX(referentes!AE:AF,MATCH(BM201,referentes!$AF:$AF,0),1))","v":""},{"$f":"IF(BB201=\"\",\"\",INDEX(referentes!M:N,MATCH(BB201,referentes!$N:$N,0),1))","v":""},{"$f":"IF(BQ201=\"\",\"\",INDEX('Otras referencias'!S:T,MATCH(BQ201,'Otras referencias'!$T:$T,0),1))","v":""},{"$f":"IF(BN201=\"\",\"\",INDEX('Otras referencias'!A:B,MATCH(BN201,'Otras referencias'!$B:$B,0),1))","v":""},""]
[1,"",{"$f":"IF(E202<>\"\",CONCATENATE(DIGITADOR!$M$1,TEXT(D202, \"YYYYMMDD\"),ROW()-5),\"\")","v":""},null,null,"",{"$f":"IF(H202=\"\",\"\",INDEX(referentes!AQ:AR,MATCH(H202,referentes!$AR:$AR,0),1))","v":""},null,{"$f":"IF(J202=\"\",\"\",VLOOKUP(J202,referentes!$AL$2:$AO$29,3,FALSE))","v":""},null,null,null,null,null,null,null,null,null,null,null,null,"",null,null,null,null,null,null,null,null,null,null,null,null,null,null,null,null,null,null,null,null,null,null,null,null,null,{"$f":"IF(AW202=\"\",\"\",DIGITADOR!$B$14)","v":""},"",null,null,null,"",null,null,null,null,null,null,null,null,null,null,null,null,null,null,null,null,null,null,"",{"$f":"IF(C202=\"\",\"\",IF(COUNTIF($C$6:C202, C202)>1, \"\", C202))","v":""},{"$f":"IF(N202=\"\",\"\",INDEX(referentes!P:Q,MATCH(N202,referentes!$Q:$Q,0),1))","v":""},{"$f":"IF(O202=\"\",\"\",INDEX(referentes!$A:$B,MATCH(O202,referentes!$B:$B,0),1))","v":""},{"$f":"IF(S202=\"\",\"\",INDEX(referentes!D:E,MATCH(S202,referentes!$E:$E,0),1))","v":""},{"$f":"IF(T202=\"\",\"\",INDEX(referentes!G:H,MATCH(T202,referentes!$H:$H,0),1))","v":""},"",{"$f":"IF(Y202=\"\",\"\",INDEX(referentes!S:T,MATCH(Y202,referentes!$T:$T,0),1))","v":""},{"$f":"IF(BO202=\"\",\"\",INDEX(referentes!J:K,MATCH(BO202,referentes!$K:$K,0),1))","v":""},{"$f":"IF(BJ202=\"\",\"\",INDEX(referentes!V:W,MATCH(BJ202,referentes!$W:$W,0),1))","v":""},{"$f":"IF(BK202=\"\",\"\",INDEX(referentes!Y:Z,MATCH(BK202,referentes!$Z:$Z,0),1))","v":""},{"$f":"IF(BL202=\"\",\"\",INDEX(referentes!AB:AC,MATCH(BL202,referentes!$AC:$AC,0),1))","v":""},{"$f":"IF(BM202=\"\",\"\",INDEX(referentes!AE:AF,MATCH(BM202,referentes!$AF:$AF,0),1))","v":""},{"$f":"IF(BB202=\"\",\"\",INDEX(referentes!M:N,MATCH(BB202,referentes!$N:$N,0),1))","v":""},{"$f":"IF(BQ202=\"\",\"\",INDEX('Otras referencias'!S:T,MATCH(BQ202,'Otras referencias'!$T:$T,0),1))","v":""},{"$f":"IF(BN202=\"\",\"\",INDEX('Otras referencias'!A:B,MATCH(BN202,'Otras referencias'!$B:$B,0),1))","v":""},""]
[1,"",{"$f":"IF(E203<>\"\",CONCATENATE(DIGITADOR!$M$1,TEXT(D203, \"YYYYMMDD\"),ROW()-5),\"\")","v":""},null,null,"",{"$f":"IF(H203=\"\",\"\",INDEX(referentes!AQ:AR,MATCH(H203,referentes!$AR:$AR,0),1))","v":""},null,{"$f":"IF(J203=\"\",\"\",VLOOKUP(J203,referentes!$AL$2:$AO$29,3,FALSE))","v":""},null,null,null,null,null,null,null,null,null,null,null,null,"",null,null,null,null,null,null,null,null,null,null,null,null,null,null,null,null,null,null,null,null,null,null,null,null,null,{"$f":"IF(AW203=\"\",\"\",DIGITADOR!$B$14)","v":""},"",null,null,null,"",null,null,null,null,null,null,null,null,null,null,null,null,null,null,null,null,null,null,"",{"$f":"IF(C203=\"\",\"\",IF(COUNTIF($C$6:C203, C203)>1, \"\", C203))","v":""},{"$f":"IF(N203=\"\",\"\",INDEX(referentes!P:Q,MATCH(N203,referentes!$Q:$Q,0),1))","v":""},{"$f":"IF(O203=\"\",\"\",INDEX(referentes!$A:$B,MATCH(O203,referentes!$B:$B,0),1))","v":""},{"$f":"IF(S203=\"\",\"\",INDEX(referentes!D:E,MATCH(S203,referentes!$E:$E,0),1))","v":""},{"$f":"IF(T203=\"\",\"\",INDEX(referentes!G:H,MATCH(T203,referentes!$H:$H,0),1))","v":""},"",{"$f":"IF(Y203=\"\",\"\",INDEX(referentes!S:T,MATCH(Y203,referentes!$T:$T,0),1))","v":""},{"$f":"IF(BO203=\"\",\"\",INDEX(referentes!J:K,MATCH(BO203,referentes!$K:$K,0),1))","v":""},{"$f":"IF(BJ203=\"\",\"\",INDEX(referentes!V:W,MATCH(BJ203,referentes!$W:$W,0),1))","v":""},{"$f":"IF(BK203=\"\",\"\",INDEX(referentes!Y:Z,MATCH(BK203,referentes!$Z:$Z,0),1))","v":""},{"$f":"IF(BL203=\"\",\"\",INDEX(referentes!AB:AC,MATCH(BL203,referentes!$AC:$AC,0),1))","v":""},{"$f":"IF(BM203=\"\",\"\",INDEX(referentes!AE:AF,MATCH(BM203,referentes!$AF:$AF,0),1))","v":""},{"$f":"IF(BB203=\"\",\"\",INDEX(referentes!M:N,MATCH(BB203,referentes!$N:$N,0),1))","v":""},{"$f":"IF(BQ203=\"\",\"\",INDEX('Otras referencias'!S:T,MATCH(BQ203,'Otras referencias'!$T:$T,0),1))","v":""},{"$f":"IF(BN203=\"\",\"\",INDEX('Otras referencias'!A:B,MATCH(BN203,'Otras referencias'!$B:$B,0),1))","v":""},""]
[1,"",{"$f":"IF(E204<>\"\",CONCATENATE(DIGITADOR!$M$1,TEXT(D204, \"YYYYMMDD\"),ROW()-5),\"\")","v":""},null,null,"",{"$f":"IF(H204=\"\",\"\",INDEX(referentes!AQ:AR,MATCH(H204,referentes!$AR:$AR,0),1))","v":""},null,{"$f":"IF(J204=\"\",\"\",VLOOKUP(J204,referentes!$AL$2:$AO$29,3,FALSE))","v":""},null,null,null,null,null,null,null,null,null,null,null,null,"",null,null,null,null,null,null,null,null,null,null,null,null,null,null,null,null,null,null,null,null,null,null,null,null,null,{"$f":"IF(AW204=\"\",\"\",DIGITADOR!$B$14)","v":""},"",null,null,null,"",null,null,null,null,null,null,null,null,null,null,null,null,null,null,null,null,null,null,"",{"$f":"IF(C204=\"\",\"\",IF(COUNTIF($C$6:C204, C204)>1, \"\", C204))","v":""},{"$f":"IF(N204=\"\",\"\",INDEX(referentes!P:Q,MATCH(N204,referentes!$Q:$Q,0),1))","v":""},{"$f":"IF(O204=\"\",\"\",INDEX(referentes!$A:$B,MATCH(O204,referentes!$B:$B,0),1))","v":""},{"$f":"IF(S204=\"\",\"\",INDEX(referentes!D:E,MATCH(S204,referentes!$E:$E,0),1))","v":""},{"$f":"IF(T204=\"\",\"\",INDEX(referentes!G:H,MATCH(T204,referentes!$H:$H,0),1))","v":""},"",{"$f":"IF(Y204=\"\",\"\",INDEX(referentes!S:T,MATCH(Y204,referentes!$T:$T,0),1))","v":""},{"$f":"IF(BO204=\"\",\"\",INDEX(referentes!J:K,MATCH(BO204,referentes!$K:$K,0),1))","v":""},{"$f":"IF(BJ204=\"\",\"\",INDEX(referentes!V:W,MATCH(BJ204,referentes!$W:$W,0),1))","v":""},{"$f":"IF(BK204=\"\",\"\",INDEX(referentes!Y:Z,MATCH(BK204,referentes!$Z:$Z,0),1))","v":""},{"$f":"IF(BL204=\"\",\"\",INDEX(referentes!AB:AC,MATCH(BL204,referentes!$AC:$AC,0),1))","v":""},{"$f":"IF(BM204=\"\",\"\",INDEX(referentes!AE:AF,MATCH(BM204,referentes!$AF:$AF,0),1))","v":""},{"$f":"IF(BB204=\"\",\"\",INDEX(referentes!M:N,MATCH(BB204,referentes!$N:$N,0),1))","v":""},{"$f":"IF(BQ204=\"\",\"\",INDEX('Otras referencias'!S:T,MATCH(BQ204,'Otras referencias'!$T:$T,0),1))","v":""},{"$f":"IF(BN204=\"\",\"\",INDEX('Otras referencias'!A:B,MATCH(BN204,'Otras referencias'!$B:$B,0),1))","v":""},""]
[1,"",{"$f":"IF(E205<>\"\",CONCATENATE(DIGITADOR!$M$1,TEXT(D205, \"YYYYMMDD\"),ROW()-5),\"\")","v":""},null,null,"",{"$f":"IF(H205=\"\",\"\",INDEX(referentes!AQ:AR,MATCH(H205,referentes!$AR:$AR,0),1))","v":""},null,{"$f":"IF(J205=\"\",\"\",VLOOKUP(J205,referentes!$AL$2:$AO$29,3,FALSE))","v":""},null,null,null,null,null,null,null,null,null,null,null,null,"",null,null,null,null,null,null,null,null,null,null,null,null,null,null,null,null,null,null,null,null,null,null,null,null,null,{"$f":"IF(AW205=\"\",\"\",DIGITADOR!$B$14)","v":""},"",null,null,null,"",null,null,null,null,null,null,null,null,null,null,null,null,null,null,null,null,null,null,"",{"$f":"IF(C205=\"\",\"\",IF(COUNTIF($C$6:C205, C205)>1, \"\", C205))","v":""},{"$f":"IF(N205=\"\",\"\",INDEX(referentes!P:Q,MATCH(N205,referentes!$Q:$Q,0),1))","v":""},{"$f":"IF(O205=\"\",\"\",INDEX(referentes!$A:$B,MATCH(O205,referentes!$B:$B,0),1))","v":""},{"$f":"IF(S205=\"\",\"\",INDEX(referentes!D:E,MATCH(S205,referentes!$E:$E,0),1))","v":""},{"$f":"IF(T205=\"\",\"\",INDEX(referentes!G:H,MATCH(T205,referentes!$H:$H,0),1))","v":""},"",{"$f":"IF(Y205=\"\",\"\",INDEX(referentes!S:T,MATCH(Y205,referentes!$T:$T,0),1))","v":""},{"$f":"IF(BO205=\"\",\"\",INDEX(referentes!J:K,MATCH(BO205,referentes!$K:$K,0),1))","v":""},{"$f":"IF(BJ205=\"\",\"\",INDEX(referentes!V:W,MATCH(BJ205,referentes!$W:$W,0),1))","v":""},{"$f":"IF(BK205=\"\",\"\",INDEX(referentes!Y:Z,MATCH(BK205,referentes!$Z:$Z,0),1))","v":""},{"$f":"IF(BL205=\"\",\"\",INDEX(referentes!AB:AC,MATCH(BL205,referentes!$AC:$AC,0),1))","v":""},{"$f":"IF(BM205=\"\",\"\",INDEX(referentes!AE:AF,MATCH(BM205,referentes!$AF:$AF,0),1))","v":""},{"$f":"IF(BB205=\"\",\"\",INDEX(referentes!M:N,MATCH(BB205,referentes!$N:$N,0),1))","v":""},{"$f":"IF(BQ205=\"\",\"\",INDEX('Otras referencias'!S:T,MATCH(BQ205,'Otras referencias'!$T:$T,0),1))","v":""},{"$f":"IF(BN205=\"\",\"\",INDEX('Otras referencias'!A:B,MATCH(BN205,'Otras referencias'!$B:$B,0),1))","v":""},""]
[1,"",{"$f":"IF(E206<>\"\",CONCATENATE(DIGITADOR!$M$1,TEXT(D206, \"YYYYMMDD\"),ROW()-5),\"\")","v":""},null,null,"",{"$f":"IF(H206=\"\",\"\",INDEX(referentes!AQ:AR,MATCH(H206,referentes!$AR:$AR,0),1))","v":""},null,{"$f":"IF(J206=\"\",\"\",VLOOKUP(J206,referentes!$AL$2:$AO$29,3,FALSE))","v":""},null,null,null,null,null,null,null,null,null,null,null,null,"",null,null,null,null,null,null,null,null,null,null,null,null,null,null,null,null,null,null,null,null,null,null,null,null,null,{"$f":"IF(AW206=\"\",\"\",DIGITADOR!$B$14)","v":""},{"$f":"IF(SUM(Z206:AU206)=0,\"\",SUM(Z206:AU206))","v":""},null,null,null,"",null,null,null,null,null,null,null,null,null,null,null,null,null,null,null,null,null,null,"",{"$f":"IF(C206=\"\",\"\",IF(COUNTIF($C$6:C206, C206)>1, \"\", C206))","v":""},{"$f":"IF(N206=\"\",\"\",INDEX(referentes!P:Q,MATCH(N206,referentes!$Q:$Q,0),1))","v":""},{"$f":"IF(O206=\"\",\"\",INDEX(referentes!$A:$B,MATCH(O206,referentes!$B:$B,0),1))","v":""},{"$f":"IF(S206=\"\",\"\",INDEX(referentes!D:E,MATCH(S206,referentes!$E:$E,0),1))","v":""},{"$f":"IF(T206=\"\",\"\",INDEX(referentes!G:H,MATCH(T206,referentes!$H:$H,0),1))","v":""},"",{"$f":"IF(Y206=\"\",\"\",INDEX(referentes!S:T,MATCH(Y206,referentes!$T:$T,0),1))","v":""},{"$f":"IF(BO206=\"\",\"\",INDEX(referentes!J:K,MATCH(BO206,referentes!$K:$K,0),1))","v":""},{"$f":"IF(BJ206=\"\",\"\",INDEX(referentes!V:W,MATCH(BJ206,referentes!$W:$W,0),1))","v":""},{"$f":"IF(BK206=\"\",\"\",INDEX(referentes!Y:Z,MATCH(BK206,referentes!$Z:$Z,0),1))","v":""},{"$f":"IF(BL206=\"\",\"\",INDEX(referentes!AB:AC,MATCH(BL206,referentes!$AC:$AC,0),1))","v":""},{"$f":"IF(BM206=\"\",\"\",INDEX(referentes!AE:AF,MATCH(BM206,referentes!$AF:$AF,0),1))","v":""},{"$f":"IF(BB206=\"\",\"\",INDEX(referentes!M:N,MATCH(BB206,referentes!$N:$N,0),1))","v":""},{"$f":"IF(BQ206=\"\",\"\",INDEX('Otras referencias'!S:T,MATCH(BQ206,'Otras referencias'!$T:$T,0),1))","v":""},{"$f":"IF(BN206=\"\",\"\",INDEX('Otras referencias'!A:B,MATCH(BN206,'Otras referencias'!$B:$B,0),1))","v":""},""]
[{"$f":"IF(CJ207=CJ206,A206,A206+1)","v":1},{"$f":"IF(BZ207=\"\",\"\",IF(BZ207=BZ206,B206,B206+1))","v":""},{"$f":"IF(E207<>\"\",CONCATENATE(DIGITADOR!$M$1,TEXT(D207, \"YYYYMMDD\"),ROW()-5),\"\")","v":""},null,null,"",{"$f":"IF(H207=\"\",\"\",INDEX(referentes!AQ:AR,MATCH(H207,referentes!$AR:$AR,0),1))","v":""},null,{"$f":"IF(J207=\"\",\"\",VLOOKUP(J207,referentes!$AL$2:$AO$29,3,FALSE))","v":""},null,null,null,null,null,null,null,null,null,null,null,null,{"$f":"IF(W207=\"\",\"\",IF(W207=W206,B206,B206+1))","v":""},null,null,null,null,null,null,null,null,null,null,null,null,null,null,null,null,null,null,null,null,null,null,null,null,null,{"$f":"IF(AW207=\"\",\"\",DIGITADOR!$B$14)","v":""},{"$f":"IF(SUM(Z207:AU207)=0,\"\",SUM(Z207:AU207))","v":""},null,null,null,{"$f":"IF(SUM(AX207:AZ207)=0,\"\",SUM(AX207:AZ207))","v":""},null,null,null,null,null,null,null,null,null,null,null,null,null,null,null,null,null,null,"",{"$f":"IF(C207=\"\",\"\",IF(COUNTIF($C$6:C207, C207)>1, \"\", C207))","v":""},{"$f":"IF(N207=\"\",\"\",INDEX(referentes!P:Q,MATCH(N207,referentes!$Q:$Q,0),1))","v":""},{"$f":"IF(O207=\"\",\"\",INDEX(referentes!$A:$B,MATCH(O207,referentes!$B:$B,0),1))","v":""},{"$f":"IF(S207=\"\",\"\",INDEX(referentes!D:E,MATCH(S207,referentes!$E:$E,0),1))","v":""},{"$f":"IF(T207=\"\",\"\",INDEX(referentes!G:H,MATCH(T207,referentes!$H:$H,0),1))","v":""},{"$f":"CONCATENATE(F207,G207,I207,BV207,BW207,BX207,BY207,P207,Q207,R207)","v":""},{"$f":"IF(Y207=\"\",\"\",INDEX(referentes!S:T,MATCH(Y207,referentes!$T:$T,0),1))","v":""},{"$f":"IF(BO207=\"\",\"\",INDEX(referentes!J:K,MATCH(BO207,referentes!$K:$K,0),1))","v":""},{"$f":"IF(BJ207=\"\",\"\",INDEX(referentes!V:W,MATCH(BJ207,referentes!$W:$W,0),1))","v":""},{"$f":"IF(BK207=\"\",\"\",INDEX(referentes!Y:Z,MATCH(BK207,referentes!$Z:$Z,0),1))","v":""},{"$f":"IF(BL207=\"\",\"\",INDEX(referentes!AB:AC,MATCH(BL207,referentes!$AC:$AC,0),1))","v":""},{"$f":"IF(BM207=\"\",\"\",INDEX(referentes!AE:AF,MATCH(BM207,referentes!$AF:$AF,0),1))","v":""},{"$f":"IF(BB207=\"\",\"\",INDEX(referentes!M:N,MATCH(BB207,referentes!$N:$N,0),1))","v":""},{"$f":"IF(BQ207=\"\",\"\",INDEX('Otras referencias'!S:T,MATCH(BQ207,'Otras referencias'!$T:$T,0),1))","v":""},{"$f":"IF(BN207=\"\",\"\",INDEX('Otras referencias'!A:B,MATCH(BN207,'Otras referencias'!$B:$B,0),1))","v":""},{"$f":"IF(D207=\"\",\"\",CONCATENATE(TEXT(D207,\"YYYYMMDD\"),I207))","v":""}]
[1,"",{"$f":"IF(E208<>\"\",CONCATENATE(DIGITADOR!$M$1,TEXT(D208, \"YYYYMMDD\"),ROW()-5),\"\")","v":""},null,null,"",{"$f":"IF(H208=\"\",\"\",INDEX(referentes!AQ:AR,MATCH(H208,referentes!$AR:$AR,0),1))","v":""},null,{"$f":"IF(J208=\"\",\"\",VLOOKUP(J208,referentes!$AL$2:$AO$29,3,FALSE))","v":""},null,null,null,null,null,null,null,null,null,null,null,null,"",null,null,null,null,null,null,null,null,null,null,null,null,null,null,null,null,null,null,null,null,null,null,null,null,null,{"$f":"IF(AW208=\"\",\"\",DIGITADOR!$B$14)","v":""},"",null,null,null,"",null,null,null,null,null,null,null,null,null,null,null,null,null,null,null,null,null,null,"",{"$f":"IF(C208=\"\",\"\",IF(COUNTIF($C$6:C208, C208)>1, \"\", C208))","v":""},{"$f":"IF(N208=\"\",\"\",INDEX(referentes!P:Q,MATCH(N208,referentes!$Q:$Q,0),1))","v":""},{"$f":"IF(O208=\"\",\"\",INDEX(referentes!$A:$B,MATCH(O208,referentes!$B:$B,0),1))","v":""},{"$f":"IF(S208=\"\",\"\",INDEX(referentes!D:E,MATCH(S208,referentes!$E:$E,0),1))","v":""},{"$f":"IF(T208=\"\",\"\",INDEX(referentes!G:H,MATCH(T208,referentes!$H:$H,0),1))","v":""},"",{"$f":"IF(Y208=\"\",\"\",INDEX(referentes!S:T,MATCH(Y208,referentes!$T:$T,0),1))","v":""},{"$f":"IF(BO208=\"\",\"\",INDEX(referentes!J:K,MATCH(BO208,referentes!$K:$K,0),1))","v":""},{"$f":"IF(BJ208=\"\",\"\",INDEX(referentes!V:W,MATCH(BJ208,referentes!$W:$W,0),1))","v":""},{"$f":"IF(BK208=\"\",\"\",INDEX(referentes!Y:Z,MATCH(BK208,referentes!$Z:$Z,0),1))","v":""},{"$f":"IF(BL208=\"\",\"\",INDEX(referentes!AB:AC,MATCH(BL208,referentes!$AC:$AC,0),1))","v":""},{"$f":"IF(BM208=\"\",\"\",INDEX(referentes!AE:AF,MATCH(BM208,referentes!$AF:$AF,0),1))","v":""},{"$f":"IF(BB208=\"\",\"\",INDEX(referentes!M:N,MATCH(BB208,referentes!$N:$N,0),1))","v":""},{"$f":"IF(BQ208=\"\",\"\",INDEX('Otras referencias'!S:T,MATCH(BQ208,'Otras referencias'!$T:$T,0),1))","v":""},{"$f":"IF(BN208=\"\",\"\",INDEX('Otras referencias'!A:B,MATCH(BN208,'Otras referencias'!$B:$B,0),1))","v":""},""]
[1,"",{"$f":"IF(E209<>\"\",CONCATENATE(DIGITADOR!$M$1,TEXT(D209, \"YYYYMMDD\"),ROW()-5),\"\")","v":""},null,null,"",{"$f":"IF(H209=\"\",\"\",INDEX(referentes!AQ:AR,MATCH(H209,referentes!$AR:$AR,0),1))","v":""},null,{"$f":"IF(J209=\"\",\"\",VLOOKUP(J209,referentes!$AL$2:$AO$29,3,FALSE))","v":""},null,null,null,null,null,null,null,null,null,null,null,null,"",null,null,null,null,null,null,null,null,null,null,null,null,null,null,null,null,null,null,null,null,null,null,null,null,null,{"$f":"IF(AW209=\"\",\"\",DIGITADOR!$B$14)","v":""},"",null,null,null,"",null,null,null,null,null,null,null,null,null,null,null,null,null,null,null,null,null,null,"",{"$f":"IF(C209=\"\",\"\",IF(COUNTIF($C$6:C209, C209)>1, \"\", C209))","v":""},{"$f":"IF(N209=\"\",\"\",INDEX(referentes!P:Q,MATCH(N209,referentes!$Q:$Q,0),1))","v":""},{"$f":"IF(O209=\"\",\"\",INDEX(referentes!$A:$B,MATCH(O209,referentes!$B:$B,0),1))","v":""},{"$f":"IF(S209=\"\",\"\",INDEX(referentes!D:E,MATCH(S209,referentes!$E:$E,0),1))","v":""},{"$f":"IF(T209=\"\",\"\",INDEX(referentes!G:H,MATCH(T209,referentes!$H:$H,0),1))","v":""},"",{"$f":"IF(Y209=\"\",\"\",INDEX(referentes!S:T,MATCH(Y209,referentes!$T:$T,0),1))","v":""},{"$f":"IF(BO209=\"\",\"\",INDEX(referentes!J:K,MATCH(BO209,referentes!$K:$K,0),1))","v":""},{"$f":"IF(BJ209=\"\",\"\",INDEX(referentes!V:W,MATCH(BJ209,referentes!$W:$W,0),1))","v":""},{"$f":"IF(BK209=\"\",\"\",INDEX(referentes!Y:Z,MATCH(BK209,referentes!$Z:$Z,0),1))","v":""},{"$f":"IF(BL209=\"\",\"\",INDEX(referentes!AB:AC,MATCH(BL209,referentes!$AC:$AC,0),1))","v":""},{"$f":"IF(BM209=\"\",\"\",INDEX(referentes!AE:AF,MATCH(BM209,referentes!$AF:$AF,0),1))","v":""},{"$f":"IF(BB209=\"\",\"\",INDEX(referentes!M:N,MATCH(BB209,referentes!$N:$N,0),1))","v":""},{"$f":"IF(BQ209=\"\",\"\",INDEX('Otras referencias'!S:T,MATCH(BQ209,'Otras referencias'!$T:$T,0),1))","v":""},{"$f":"IF(BN209=\"\",\"\",INDEX('Otras referencias'!A:B,MATCH(BN209,'Otras referencias'!$B:$B,0),1))","v":""},""]
[1,"",{"$f":"IF(E210<>\"\",CONCATENATE(DIGITADOR!$M$1,TEXT(D210, \"YYYYMMDD\"),ROW()-5),\"\")","v":""},null,null,"",{"$f":"IF(H210=\"\",\"\",INDEX(referentes!AQ:AR,MATCH(H210,referentes!$AR:$AR,0),1))","v":""},null,{"$f":"IF(J210=\"\",\"\",VLOOKUP(J210,referentes!$AL$2:$AO$29,3,FALSE))","v":""},null,null,null,null,null,null,null,null,null,null,null,null,"",null,null,null,null,null,null,null,null,null,null,null,null,null,null,null,null,null,null,null,null,null,null,null,null,null,{"$f":"IF(AW210=\"\",\"\",DIGITADOR!$B$14)","v":""},"",null,null,null,"",null,null,null,null,null,null,null,null,null,null,null,null,null,null,null,null,null,null,"",{"$f":"IF(C210=\"\",\"\",IF(COUNTIF($C$6:C210, C210)>1, \"\", C210))","v":""},{"$f":"IF(N210=\"\",\"\",INDEX(referentes!P:Q,MATCH(N210,referentes!$Q:$Q,0),1))","v":""},{"$f":"IF(O210=\"\",\"\",INDEX(referentes!$A:$B,MATCH(O210,referentes!$B:$B,0),1))","v":""},{"$f":"IF(S210=\"\",\"\",INDEX(referentes!D:E,MATCH(S210,referentes!$E:$E,0),1))","v":""},{"$f":"IF(T210=\"\",\"\",INDEX(referentes!G:H,MATCH(T210,referentes!$H:$H,0),1))","v":""},"",{"$f":"IF(Y210=\"\",\"\",INDEX(referentes!S:T,MATCH(Y210,referentes!$T:$T,0),1))","v":""},{"$f":"IF(BO210=\"\",\"\",INDEX(referentes!J:K,MATCH(BO210,referentes!$K:$K,0),1))","v":""},{"$f":"IF(BJ210=\"\",\"\",INDEX(referentes!V:W,MATCH(BJ210,referentes!$W:$W,0),1))","v":""},{"$f":"IF(BK210=\"\",\"\",INDEX(referentes!Y:Z,MATCH(BK210,referentes!$Z:$Z,0),1))","v":""},{"$f":"IF(BL210=\"\",\"\",INDEX(referentes!AB:AC,MATCH(BL210,referentes!$AC:$AC,0),1))","v":""},{"$f":"IF(BM210=\"\",\"\",INDEX(referentes!AE:AF,MATCH(BM210,referentes!$AF:$AF,0),1))","v":""},{"$f":"IF(BB210=\"\",\"\",INDEX(referentes!M:N,MATCH(BB210,referentes!$N:$N,0),1))","v":""},{"$f":"IF(BQ210=\"\",\"\",INDEX('Otras referencias'!S:T,MATCH(BQ210,'Otras referencias'!$T:$T,0),1))","v":""},{"$f":"IF(BN210=\"\",\"\",INDEX('Otras referencias'!A:B,MATCH(BN210,'Otras referencias'!$B:$B,0),1))","v":""},""]
[1,"",{"$f":"IF(E211<>\"\",CONCATENATE(DIGITADOR!$M$1,TEXT(D211, \"YYYYMMDD\"),ROW()-5),\"\")","v":""},null,null,"",{"$f":"IF(H211=\"\",\"\",INDEX(referentes!AQ:AR,MATCH(H211,referentes!$AR:$AR,0),1))","v":""},null,{"$f":"IF(J211=\"\",\"\",VLOOKUP(J211,referentes!$AL$2:$AO$29,3,FALSE))","v":""},null,null,null,null,null,null,null,null,null,null,null,null,"",null,null,null,null,null,null,null,null,null,null,null,null,null,null,null,null,null,null,null,null,null,null,null,null,null,{"$f":"IF(AW211=\"\",\"\",DIGITADOR!$B$14)","v":""},"",null,null,null,"",null,null,null,null,null,null,null,null,null,null,null,null,null,null,null,null,null,null,"",{"$f":"IF(C211=\"\",\"\",IF(COUNTIF($C$6:C211, C211)>1, \"\", C211))","v":""},{"$f":"IF(N211=\"\",\"\",INDEX(referentes!P:Q,MATCH(N211,referentes!$Q:$Q,0),1))","v":""},{"$f":"IF(O211=\"\",\"\",INDEX(referentes!$A:$B,MATCH(O211,referentes!$B:$B,0),1))","v":""},{"$f":"IF(S211=\"\",\"\",INDEX(referentes!D:E,MATCH(S211,referentes!$E:$E,0),1))","v":""},{"$f":"IF(T211=\"\",\"\",INDEX(referentes!G:H,MATCH(T211,referentes!$H:$H,0),1))","v":""},"",{"$f":"IF(Y211=\"\",\"\",INDEX(referentes!S:T,MATCH(Y211,referentes!$T:$T,0),1))","v":""},{"$f":"IF(BO211=\"\",\"\",INDEX(referentes!J:K,MATCH(BO211,referentes!$K:$K,0),1))","v":""},{"$f":"IF(BJ211=\"\",\"\",INDEX(referentes!V:W,MATCH(BJ211,referentes!$W:$W,0),1))","v":""},{"$f":"IF(BK211=\"\",\"\",INDEX(referentes!Y:Z,MATCH(BK211,referentes!$Z:$Z,0),1))","v":""},{"$f":"IF(BL211=\"\",\"\",INDEX(referentes!AB:AC,MATCH(BL211,referentes!$AC:$AC,0),1))","v":""},{"$f":"IF(BM211=\"\",\"\",INDEX(referentes!AE:AF,MATCH(BM211,referentes!$AF:$AF,0),1))","v":""},{"$f":"IF(BB211=\"\",\"\",INDEX(referentes!M:N,MATCH(BB211,referentes!$N:$N,0),1))","v":""},{"$f":"IF(BQ211=\"\",\"\",INDEX('Otras referencias'!S:T,MATCH(BQ211,'Otras referencias'!$T:$T,0),1))","v":""},{"$f":"IF(BN211=\"\",\"\",INDEX('Otras referencias'!A:B,MATCH(BN211,'Otras referencias'!$B:$B,0),1))","v":""},""]
[1,"",{"$f":"IF(E212<>\"\",CONCATENATE(DIGITADOR!$M$1,TEXT(D212, \"YYYYMMDD\"),ROW()-5),\"\")","v":""},null,null,"",{"$f":"IF(H212=\"\",\"\",INDEX(referentes!AQ:AR,MATCH(H212,referentes!$AR:$AR,0),1))","v":""},null,{"$f":"IF(J212=\"\",\"\",VLOOKUP(J212,referentes!$AL$2:$AO$29,3,FALSE))","v":""},null,null,null,null,null,null,null,null,null,null,null,null,"",null,null,null,null,null,null,null,null,null,null,null,null,null,null,null,null,null,null,null,null,null,null,null,null,null,{"$f":"IF(AW212=\"\",\"\",DIGITADOR!$B$14)","v":""},"",null,null,null,"",null,null,null,null,null,null,null,null,null,null,null,null,null,null,null,null,null,null,"",{"$f":"IF(C212=\"\",\"\",IF(COUNTIF($C$6:C212, C212)>1, \"\", C212))","v":""},{"$f":"IF(N212=\"\",\"\",INDEX(referentes!P:Q,MATCH(N212,referentes!$Q:$Q,0),1))","v":""},{"$f":"IF(O212=\"\",\"\",INDEX(referentes!$A:$B,MATCH(O212,referentes!$B:$B,0),1))","v":""},{"$f":"IF(S212=\"\",\"\",INDEX(referentes!D:E,MATCH(S212,referentes!$E:$E,0),1))","v":""},{"$f":"IF(T212=\"\",\"\",INDEX(referentes!G:H,MATCH(T212,referentes!$H:$H,0),1))","v":""},"",{"$f":"IF(Y212=\"\",\"\",INDEX(referentes!S:T,MATCH(Y212,referentes!$T:$T,0),1))","v":""},{"$f":"IF(BO212=\"\",\"\",INDEX(referentes!J:K,MATCH(BO212,referentes!$K:$K,0),1))","v":""},{"$f":"IF(BJ212=\"\",\"\",INDEX(referentes!V:W,MATCH(BJ212,referentes!$W:$W,0),1))","v":""},{"$f":"IF(BK212=\"\",\"\",INDEX(referentes!Y:Z,MATCH(BK212,referentes!$Z:$Z,0),1))","v":""},{"$f":"IF(BL212=\"\",\"\",INDEX(referentes!AB:AC,MATCH(BL212,referentes!$AC:$AC,0),1))","v":""},{"$f":"IF(BM212=\"\",\"\",INDEX(referentes!AE:AF,MATCH(BM212,referentes!$AF:$AF,0),1))","v":""},{"$f":"IF(BB212=\"\",\"\",INDEX(referentes!M:N,MATCH(BB212,referentes!$N:$N,0),1))","v":""},{"$f":"IF(BQ212=\"\",\"\",INDEX('Otras referencias'!S:T,MATCH(BQ212,'Otras referencias'!$T:$T,0),1))","v":""},{"$f":"IF(BN212=\"\",\"\",INDEX('Otras referencias'!A:B,MATCH(BN212,'Otras referencias'!$B:$B,0),1))","v":""},""]
[1,"",{"$f":"IF(E213<>\"\",CONCATENATE(DIGITADOR!$M$1,TEXT(D213, \"YYYYMMDD\"),ROW()-5),\"\")","v":""},null,null,"",{"$f":"IF(H213=\"\",\"\",INDEX(referentes!AQ:AR,MATCH(H213,referentes!$AR:$AR,0),1))","v":""},null,{"$f":"IF(J213=\"\",\"\",VLOOKUP(J213,referentes!$AL$2:$AO$29,3,FALSE))","v":""},null,null,null,null,null,null,null,null,null,null,null,null,"",null,null,null,null,null,null,null,null,null,null,null,null,null,null,null,null,null,null,null,null,null,null,null,null,null,{"$f":"IF(AW213=\"\",\"\",DIGITADOR!$B$14)","v":""},"",null,null,null,"",null,null,null,null,null,null,null,null,null,null,null,null,null,null,null,null,null,null,"",{"$f":"IF(C213=\"\",\"\",IF(COUNTIF($C$6:C213, C213)>1, \"\", C213))","v":""},{"$f":"IF(N213=\"\",\"\",INDEX(referentes!P:Q,MATCH(N213,referentes!$Q:$Q,0),1))","v":""},{"$f":"IF(O213=\"\",\"\",INDEX(referentes!$A:$B,MATCH(O213,referentes!$B:$B,0),1))","v":""},{"$f":"IF(S213=\"\",\"\",INDEX(referentes!D:E,MATCH(S213,referentes!$E:$E,0),1))","v":""},{"$f":"IF(T213=\"\",\"\",INDEX(referentes!G:H,MATCH(T213,referentes!$H:$H,0),1))","v":""},"",{"$f":"IF(Y213=\"\",\"\",INDEX(referentes!S:T,MATCH(Y213,referentes!$T:$T,0),1))","v":""},{"$f":"IF(BO213=\"\",\"\",INDEX(referentes!J:K,MATCH(BO213,referentes!$K:$K,0),1))","v":""},{"$f":"IF(BJ213=\"\",\"\",INDEX(referentes!V:W,MATCH(BJ213,referentes!$W:$W,0),1))","v":""},{"$f":"IF(BK213=\"\",\"\",INDEX(referentes!Y:Z,MATCH(BK213,referentes!$Z:$Z,0),1))","v":""},{"$f":"IF(BL213=\"\",\"\",INDEX(referentes!AB:AC,MATCH(BL213,referentes!$AC:$AC,0),1))","v":""},{"$f":"IF(BM213=\"\",\"\",INDEX(referentes!AE:AF,MATCH(BM213,referentes!$AF:$AF,0),1))","v":""},{"$f":"IF(BB213=\"\",\"\",INDEX(referentes!M:N,MATCH(BB213,referentes!$N:$N,0),1))","v":""},{"$f":"IF(BQ213=\"\",\"\",INDEX('Otras referencias'!S:T,MATCH(BQ213,'Otras referencias'!$T:$T,0),1))","v":""},{"$f":"IF(BN213=\"\",\"\",INDEX('Otras referencias'!A:B,MATCH(BN213,'Otras referencias'!$B:$B,0),1))","v":""},""]
[1,"",{"$f":"IF(E214<>\"\",CONCATENATE(DIGITADOR!$M$1,TEXT(D214, \"YYYYMMDD\"),ROW()-5),\"\")","v":""},null,null,"",{"$f":"IF(H214=\"\",\"\",INDEX(referentes!AQ:AR,MATCH(H214,referentes!$AR:$AR,0),1))","v":""},null,{"$f":"IF(J214=\"\",\"\",VLOOKUP(J214,referentes!$AL$2:$AO$29,3,FALSE))","v":""},null,null,null,null,null,null,null,null,null,null,null,null,"",null,null,null,null,null,null,null,null,null,null,null,null,null,null,null,null,null,null,null,null,null,null,null,null,null,{"$f":"IF(AW214=\"\",\"\",DIGITADOR!$B$14)","v":""},"",null,null,null,"",null,null,null,null,null,null,null,null,null,null,null,null,null,null,null,null,null,null,"",{"$f":"IF(C214=\"\",\"\",IF(COUNTIF($C$6:C214, C214)>1, \"\", C214))","v":""},{"$f":"IF(N214=\"\",\"\",INDEX(referentes!P:Q,MATCH(N214,referentes!$Q:$Q,0),1))","v":""},{"$f":"IF(O214=\"\",\"\",INDEX(referentes!$A:$B,MATCH(O214,referentes!$B:$B,0),1))","v":""},{"$f":"IF(S214=\"\",\"\",INDEX(referentes!D:E,MATCH(S214,referentes!$E:$E,0),1))","v":""},{"$f":"IF(T214=\"\",\"\",INDEX(referentes!G:H,MATCH(T214,referentes!$H:$H,0),1))","v":""},"",{"$f":"IF(Y214=\"\",\"\",INDEX(referentes!S:T,MATCH(Y214,referentes!$T:$T,0),1))","v":""},{"$f":"IF(BO214=\"\",\"\",INDEX(referentes!J:K,MATCH(BO214,referentes!$K:$K,0),1))","v":""},{"$f":"IF(BJ214=\"\",\"\",INDEX(referentes!V:W,MATCH(BJ214,referentes!$W:$W,0),1))","v":""},{"$f":"IF(BK214=\"\",\"\",INDEX(referentes!Y:Z,MATCH(BK214,referentes!$Z:$Z,0),1))","v":""},{"$f":"IF(BL214=\"\",\"\",INDEX(referentes!AB:AC,MATCH(BL214,referentes!$AC:$AC,0),1))","v":""},{"$f":"IF(BM214=\"\",\"\",INDEX(referentes!AE:AF,MATCH(BM214,referentes!$AF:$AF,0),1))","v":""},{"$f":"IF(BB214=\"\",\"\",INDEX(referentes!M:N,MATCH(BB214,referentes!$N:$N,0),1))","v":""},{"$f":"IF(BQ214=\"\",\"\",INDEX('Otras referencias'!S:T,MATCH(BQ214,'Otras referencias'!$T:$T,0),1))","v":""},{"$f":"IF(BN214=\"\",\"\",INDEX('Otras referencias'!A:B,MATCH(BN214,'Otras referencias'!$B:$B,0),1))","v":""},""]
[1,"",{"$f":"IF(E215<>\"\",CONCATENATE(DIGITADOR!$M$1,TEXT(D215, \"YYYYMMDD\"),ROW()-5),\"\")","v":""},null,null,"",{"$f":"IF(H215=\"\",\"\",INDEX(referentes!AQ:AR,MATCH(H215,referentes!$AR:$AR,0),1))","v":""},null,{"$f":"IF(J215=\"\",\"\",VLOOKUP(J215,referentes!$AL$2:$AO$29,3,FALSE))","v":""},null,null,null,null,null,null,null,null,null,null,null,null,"",null,null,null,null,null,null,null,null,null,null,null,null,null,null,null,null,null,null,null,null,null,null,null,null,null,{"$f":"IF(AW215=\"\",\"\",DIGITADOR!$B$14)","v":""},"",null,null,null,"",null,null,null,null,null,null,null,null,null,null,null,null,null,null,null,null,null,null,"",{"$f":"IF(C215=\"\",\"\",IF(COUNTIF($C$6:C215, C215)>1, \"\", C215))","v":""},{"$f":"IF(N215=\"\",\"\",INDEX(referentes!P:Q,MATCH(N215,referentes!$Q:$Q,0),1))","v":""},{"$f":"IF(O215=\"\",\"\",INDEX(referentes!$A:$B,MATCH(O215,referentes!$B:$B,0),1))","v":""},{"$f":"IF(S215=\"\",\"\",INDEX(referentes!D:E,MATCH(S215,referentes!$E:$E,0),1))","v":""},{"$f":"IF(T215=\"\",\"\",INDEX(referentes!G:H,MATCH(T215,referentes!$H:$H,0),1))","v":""},"",{"$f":"IF(Y215=\"\",\"\",INDEX(referentes!S:T,MATCH(Y215,referentes!$T:$T,0),1))","v":""},{"$f":"IF(BO215=\"\",\"\",INDEX(referentes!J:K,MATCH(BO215,referentes!$K:$K,0),1))","v":""},{"$f":"IF(BJ215=\"\",\"\",INDEX(referentes!V:W,MATCH(BJ215,referentes!$W:$W,0),1))","v":""},{"$f":"IF(BK215=\"\",\"\",INDEX(referentes!Y:Z,MATCH(BK215,referentes!$Z:$Z,0),1))","v":""},{"$f":"IF(BL215=\"\",\"\",INDEX(referentes!AB:AC,MATCH(BL215,referentes!$AC:$AC,0),1))","v":""},{"$f":"IF(BM215=\"\",\"\",INDEX(referentes!AE:AF,MATCH(BM215,referentes!$AF:$AF,0),1))","v":""},{"$f":"IF(BB215=\"\",\"\",INDEX(referentes!M:N,MATCH(BB215,referentes!$N:$N,0),1))","v":""},{"$f":"IF(BQ215=\"\",\"\",INDEX('Otras referencias'!S:T,MATCH(BQ215,'Otras referencias'!$T:$T,0),1))","v":""},{"$f":"IF(BN215=\"\",\"\",INDEX('Otras referencias'!A:B,MATCH(BN215,'Otras referencias'!$B:$B,0),1))","v":""},""]
[1,"",{"$f":"IF(E216<>\"\",CONCATENATE(DIGITADOR!$M$1,TEXT(D216, \"YYYYMMDD\"),ROW()-5),\"\")","v":""},null,null,"",{"$f":"IF(H216=\"\",\"\",INDEX(referentes!AQ:AR,MATCH(H216,referentes!$AR:$AR,0),1))","v":""},null,{"$f":"IF(J216=\"\",\"\",VLOOKUP(J216,referentes!$AL$2:$AO$29,3,FALSE))","v":""},null,null,null,null,null,null,null,null,null,null,null,null,"",null,null,null,null,null,null,null,null,null,null,null,null,null,null,null,null,null,null,null,null,null,null,null,null,null,{"$f":"IF(AW216=\"\",\"\",DIGITADOR!$B$14)","v":""},"",null,null,null,"",null,null,null,null,null,null,null,null,null,null,null,null,null,null,null,null,null,null,"",{"$f":"IF(C216=\"\",\"\",IF(COUNTIF($C$6:C216, C216)>1, \"\", C216))","v":""},{"$f":"IF(N216=\"\",\"\",INDEX(referentes!P:Q,MATCH(N216,referentes!$Q:$Q,0),1))","v":""},{"$f":"IF(O216=\"\",\"\",INDEX(referentes!$A:$B,MATCH(O216,referentes!$B:$B,0),1))","v":""},{"$f":"IF(S216=\"\",\"\",INDEX(referentes!D:E,MATCH(S216,referentes!$E:$E,0),1))","v":""},{"$f":"IF(T216=\"\",\"\",INDEX(referentes!G:H,MATCH(T216,referentes!$H:$H,0),1))","v":""},"",{"$f":"IF(Y216=\"\",\"\",INDEX(referentes!S:T,MATCH(Y216,referentes!$T:$T,0),1))","v":""},{"$f":"IF(BO216=\"\",\"\",INDEX(referentes!J:K,MATCH(BO216,referentes!$K:$K,0),1))","v":""},{"$f":"IF(BJ216=\"\",\"\",INDEX(referentes!V:W,MATCH(BJ216,referentes!$W:$W,0),1))","v":""},{"$f":"IF(BK216=\"\",\"\",INDEX(referentes!Y:Z,MATCH(BK216,referentes!$Z:$Z,0),1))","v":""},{"$f":"IF(BL216=\"\",\"\",INDEX(referentes!AB:AC,MATCH(BL216,referentes!$AC:$AC,0),1))","v":""},{"$f":"IF(BM216=\"\",\"\",INDEX(referentes!AE:AF,MATCH(BM216,referentes!$AF:$AF,0),1))","v":""},{"$f":"IF(BB216=\"\",\"\",INDEX(referentes!M:N,MATCH(BB216,referentes!$N:$N,0),1))","v":""},{"$f":"IF(BQ216=\"\",\"\",INDEX('Otras referencias'!S:T,MATCH(BQ216,'Otras referencias'!$T:$T,0),1))","v":""},{"$f":"IF(BN216=\"\",\"\",INDEX('Otras referencias'!A:B,MATCH(BN216,'Otras referencias'!$B:$B,0),1))","v":""},""]
[1,"",{"$f":"IF(E217<>\"\",CONCATENATE(DIGITADOR!$M$1,TEXT(D217, \"YYYYMMDD\"),ROW()-5),\"\")","v":""},null,null,"",{"$f":"IF(H217=\"\",\"\",INDEX(referentes!AQ:AR,MATCH(H217,referentes!$AR:$AR,0),1))","v":""},null,{"$f":"IF(J217=\"\",\"\",VLOOKUP(J217,referentes!$AL$2:$AO$29,3,FALSE))","v":""},null,null,null,null,null,null,null,null,null,null,null,null,"",null,null,null,null,null,null,null,null,null,null,null,null,null,null,null,null,null,null,null,null,null,null,null,null,null,{"$f":"IF(AW217=\"\",\"\",DIGITADOR!$B$14)","v":""},"",null,null,null,"",null,null,null,null,null,null,null,null,null,null,null,null,null,null,null,null,null,null,"",{"$f":"IF(C217=\"\",\"\",IF(COUNTIF($C$6:C217, C217)>1, \"\", C217))","v":""},{"$f":"IF(N217=\"\",\"\",INDEX(referentes!P:Q,MATCH(N217,referentes!$Q:$Q,0),1))","v":""},{"$f":"IF(O217=\"\",\"\",INDEX(referentes!$A:$B,MATCH(O217,referentes!$B:$B,0),1))","v":""},{"$f":"IF(S217=\"\",\"\",INDEX(referentes!D:E,MATCH(S217,referentes!$E:$E,0),1))","v":""},{"$f":"IF(T217=\"\",\"\",INDEX(referentes!G:H,MATCH(T217,referentes!$H:$H,0),1))","v":""},"",{"$f":"IF(Y217=\"\",\"\",INDEX(referentes!S:T,MATCH(Y217,referentes!$T:$T,0),1))","v":""},{"$f":"IF(BO217=\"\",\"\",INDEX(referentes!J:K,MATCH(BO217,referentes!$K:$K,0),1))","v":""},{"$f":"IF(BJ217=\"\",\"\",INDEX(referentes!V:W,MATCH(BJ217,referentes!$W:$W,0),1))","v":""},{"$f":"IF(BK217=\"\",\"\",INDEX(referentes!Y:Z,MATCH(BK217,referentes!$Z:$Z,0),1))","v":""},{"$f":"IF(BL217=\"\",\"\",INDEX(referentes!AB:AC,MATCH(BL217,referentes!$AC:$AC,0),1))","v":""},{"$f":"IF(BM217=\"\",\"\",INDEX(referentes!AE:AF,MATCH(BM217,referentes!$AF:$AF,0),1))","v":""},{"$f":"IF(BB217=\"\",\"\",INDEX(referentes!M:N,MATCH(BB217,referentes!$N:$N,0),1))","v":""},{"$f":"IF(BQ217=\"\",\"\",INDEX('Otras referencias'!S:T,MATCH(BQ217,'Otras referencias'!$T:$T,0),1))","v":""},{"$f":"IF(BN217=\"\",\"\",INDEX('Otras referencias'!A:B,MATCH(BN217,'Otras referencias'!$B:$B,0),1))","v":""},""]
[1,"",{"$f":"IF(E218<>\"\",CONCATENATE(DIGITADOR!$M$1,TEXT(D218, \"YYYYMMDD\"),ROW()-5),\"\")","v":""},null,null,"",{"$f":"IF(H218=\"\",\"\",INDEX(referentes!AQ:AR,MATCH(H218,referentes!$AR:$AR,0),1))","v":""},null,{"$f":"IF(J218=\"\",\"\",VLOOKUP(J218,referentes!$AL$2:$AO$29,3,FALSE))","v":""},null,null,null,null,null,null,null,null,null,null,null,null,"",null,null,null,null,null,null,null,null,null,null,null,null,null,null,null,null,null,null,null,null,null,null,null,null,null,{"$f":"IF(AW218=\"\",\"\",DIGITADOR!$B$14)","v":""},"",null,null,null,"",null,null,null,null,null,null,null,null,null,null,null,null,null,null,null,null,null,null,"",{"$f":"IF(C218=\"\",\"\",IF(COUNTIF($C$6:C218, C218)>1, \"\", C218))","v":""},{"$f":"IF(N218=\"\",\"\",INDEX(referentes!P:Q,MATCH(N218,referentes!$Q:$Q,0),1))","v":""},{"$f":"IF(O218=\"\",\"\",INDEX(referentes!$A:$B,MATCH(O218,referentes!$B:$B,0),1))","v":""},{"$f":"IF(S218=\"\",\"\",INDEX(referentes!D:E,MATCH(S218,referentes!$E:$E,0),1))","v":""},{"$f":"IF(T218=\"\",\"\",INDEX(referentes!G:H,MATCH(T218,referentes!$H:$H,0),1))","v":""},"",{"$f":"IF(Y218=\"\",\"\",INDEX(referentes!S:T,MATCH(Y218,referentes!$T:$T,0),1))","v":""},{"$f":"IF(BO218=\"\",\"\",INDEX(referentes!J:K,MATCH(BO218,referentes!$K:$K,0),1))","v":""},{"$f":"IF(BJ218=\"\",\"\",INDEX(referentes!V:W,MATCH(BJ218,referentes!$W:$W,0),1))","v":""},{"$f":"IF(BK218=\"\",\"\",INDEX(referentes!Y:Z,MATCH(BK218,referentes!$Z:$Z,0),1))","v":""},{"$f":"IF(BL218=\"\",\"\",INDEX(referentes!AB:AC,MATCH(BL218,referentes!$AC:$AC,0),1))","v":""},{"$f":"IF(BM218=\"\",\"\",INDEX(referentes!AE:AF,MATCH(BM218,referentes!$AF:$AF,0),1))","v":""},{"$f":"IF(BB218=\"\",\"\",INDEX(referentes!M:N,MATCH(BB218,referentes!$N:$N,0),1))","v":""},{"$f":"IF(BQ218=\"\",\"\",INDEX('Otras referencias'!S:T,MATCH(BQ218,'Otras referencias'!$T:$T,0),1))","v":""},{"$f":"IF(BN218=\"\",\"\",INDEX('Otras referencias'!A:B,MATCH(BN218,'Otras referencias'!$B:$B,0),1))","v":""},""]
[1,"",{"$f":"IF(E219<>\"\",CONCATENATE(DIGITADOR!$M$1,TEXT(D219, \"YYYYMMDD\"),ROW()-5),\"\")","v":""},null,null,"",{"$f":"IF(H219=\"\",\"\",INDEX(referentes!AQ:AR,MATCH(H219,referentes!$AR:$AR,0),1))","v":""},null,{"$f":"IF(J219=\"\",\"\",VLOOKUP(J219,referentes!$AL$2:$AO$29,3,FALSE))","v":""},null,null,null,null,null,null,null,null,null,null,null,null,"",null,null,null,null,null,null,null,null,null,null,null,null,null,null,null,null,null,null,null,null,null,null,null,null,null,{"$f":"IF(AW219=\"\",\"\",DIGITADOR!$B$14)","v":""},"",null,null,null,"",null,null,null,null,null,null,null,null,null,null,null,null,null,null,null,null,null,null,"",{"$f":"IF(C219=\"\",\"\",IF(COUNTIF($C$6:C219, C219)>1, \"\", C219))","v":""},{"$f":"IF(N219=\"\",\"\",INDEX(referentes!P:Q,MATCH(N219,referentes!$Q:$Q,0),1))","v":""},{"$f":"IF(O219=\"\",\"\",INDEX(referentes!$A:$B,MATCH(O219,referentes!$B:$B,0),1))","v":""},{"$f":"IF(S219=\"\",\"\",INDEX(referentes!D:E,MATCH(S219,referentes!$E:$E,0),1))","v":""},{"$f":"IF(T219=\"\",\"\",INDEX(referentes!G:H,MATCH(T219,referentes!$H:$H,0),1))","v":""},"",{"$f":"IF(Y219=\"\",\"\",INDEX(referentes!S:T,MATCH(Y219,referentes!$T:$T,0),1))","v":""},{"$f":"IF(BO219=\"\",\"\",INDEX(referentes!J:K,MATCH(BO219,referentes!$K:$K,0),1))","v":""},{"$f":"IF(BJ219=\"\",\"\",INDEX(referentes!V:W,MATCH(BJ219,referentes!$W:$W,0),1))","v":""},{"$f":"IF(BK219=\"\",\"\",INDEX(referentes!Y:Z,MATCH(BK219,referentes!$Z:$Z,0),1))","v":""},{"$f":"IF(BL219=\"\",\"\",INDEX(referentes!AB:AC,MATCH(BL219,referentes!$AC:$AC,0),1))","v":""},{"$f":"IF(BM219=\"\",\"\",INDEX(referentes!AE:AF,MATCH(BM219,referentes!$AF:$AF,0),1))","v":""},{"$f":"IF(BB219=\"\",\"\",INDEX(referentes!M:N,MATCH(BB219,referentes!$N:$N,0),1))","v":""},{"$f":"IF(BQ219=\"\",\"\",INDEX('Otras referencias'!S:T,MATCH(BQ219,'Otras referencias'!$T:$T,0),1))","v":""},{"$f":"IF(BN219=\"\",\"\",INDEX('Otras referencias'!A:B,MATCH(BN219,'Otras referencias'!$B:$B,0),1))","v":""},""]
[1,"",{"$f":"IF(E220<>\"\",CONCATENATE(DIGITADOR!$M$1,TEXT(D220, \"YYYYMMDD\"),ROW()-5),\"\")","v":""},null,null,"",{"$f":"IF(H220=\"\",\"\",INDEX(referentes!AQ:AR,MATCH(H220,referentes!$AR:$AR,0),1))","v":""},null,{"$f":"IF(J220=\"\",\"\",VLOOKUP(J220,referentes!$AL$2:$AO$29,3,FALSE))","v":""},null,null,null,null,null,null,null,null,null,null,null,null,"",null,null,null,null,null,null,null,null,null,null,null,null,null,null,null,null,null,null,null,null,null,null,null,null,null,{"$f":"IF(AW220=\"\",\"\",DIGITADOR!$B$14)","v":""},"",null,null,null,"",null,null,null,null,null,null,null,null,null,null,null,null,null,null,null,null,null,null,"",{"$f":"IF(C220=\"\",\"\",IF(COUNTIF($C$6:C220, C220)>1, \"\", C220))","v":""},{"$f":"IF(N220=\"\",\"\",INDEX(referentes!P:Q,MATCH(N220,referentes!$Q:$Q,0),1))","v":""},{"$f":"IF(O220=\"\",\"\",INDEX(referentes!$A:$B,MATCH(O220,referentes!$B:$B,0),1))","v":""},{"$f":"IF(S220=\"\",\"\",INDEX(referentes!D:E,MATCH(S220,referentes!$E:$E,0),1))","v":""},{"$f":"IF(T220=\"\",\"\",INDEX(referentes!G:H,MATCH(T220,referentes!$H:$H,0),1))","v":""},"",{"$f":"IF(Y220=\"\",\"\",INDEX(referentes!S:T,MATCH(Y220,referentes!$T:$T,0),1))","v":""},{"$f":"IF(BO220=\"\",\"\",INDEX(referentes!J:K,MATCH(BO220,referentes!$K:$K,0),1))","v":""},{"$f":"IF(BJ220=\"\",\"\",INDEX(referentes!V:W,MATCH(BJ220,referentes!$W:$W,0),1))","v":""},{"$f":"IF(BK220=\"\",\"\",INDEX(referentes!Y:Z,MATCH(BK220,referentes!$Z:$Z,0),1))","v":""},{"$f":"IF(BL220=\"\",\"\",INDEX(referentes!AB:AC,MATCH(BL220,referentes!$AC:$AC,0),1))","v":""},{"$f":"IF(BM220=\"\",\"\",INDEX(referentes!AE:AF,MATCH(BM220,referentes!$AF:$AF,0),1))","v":""},{"$f":"IF(BB220=\"\",\"\",INDEX(referentes!M:N,MATCH(BB220,referentes!$N:$N,0),1))","v":""},{"$f":"IF(BQ220=\"\",\"\",INDEX('Otras referencias'!S:T,MATCH(BQ220,'Otras referencias'!$T:$T,0),1))","v":""},{"$f":"IF(BN220=\"\",\"\",INDEX('Otras referencias'!A:B,MATCH(BN220,'Otras referencias'!$B:$B,0),1))","v":""},""]
[1,"",{"$f":"IF(E221<>\"\",CONCATENATE(DIGITADOR!$M$1,TEXT(D221, \"YYYYMMDD\"),ROW()-5),\"\")","v":""},null,null,"",{"$f":"IF(H221=\"\",\"\",INDEX(referentes!AQ:AR,MATCH(H221,referentes!$AR:$AR,0),1))","v":""},null,{"$f":"IF(J221=\"\",\"\",VLOOKUP(J221,referentes!$AL$2:$AO$29,3,FALSE))","v":""},null,null,null,null,null,null,null,null,null,null,null,null,"",null,null,null,null,null,null,null,null,null,null,null,null,null,null,null,null,null,null,null,null,null,null,null,null,null,{"$f":"IF(AW221=\"\",\"\",DIGITADOR!$B$14)","v":""},"",null,null,null,"",null,null,null,null,null,null,null,null,null,null,null,null,null,null,null,null,null,null,"",{"$f":"IF(C221=\"\",\"\",IF(COUNTIF($C$6:C221, C221)>1, \"\", C221))","v":""},{"$f":"IF(N221=\"\",\"\",INDEX(referentes!P:Q,MATCH(N221,referentes!$Q:$Q,0),1))","v":""},{"$f":"IF(O221=\"\",\"\",INDEX(referentes!$A:$B,MATCH(O221,referentes!$B:$B,0),1))","v":""},{"$f":"IF(S221=\"\",\"\",INDEX(referentes!D:E,MATCH(S221,referentes!$E:$E,0),1))","v":""},{"$f":"IF(T221=\"\",\"\",INDEX(referentes!G:H,MATCH(T221,referentes!$H:$H,0),1))","v":""},"",{"$f":"IF(Y221=\"\",\"\",INDEX(referentes!S:T,MATCH(Y221,referentes!$T:$T,0),1))","v":""},{"$f":"IF(BO221=\"\",\"\",INDEX(referentes!J:K,MATCH(BO221,referentes!$K:$K,0),1))","v":""},{"$f":"IF(BJ221=\"\",\"\",INDEX(referentes!V:W,MATCH(BJ221,referentes!$W:$W,0),1))","v":""},{"$f":"IF(BK221=\"\",\"\",INDEX(referentes!Y:Z,MATCH(BK221,referentes!$Z:$Z,0),1))","v":""},{"$f":"IF(BL221=\"\",\"\",INDEX(referentes!AB:AC,MATCH(BL221,referentes!$AC:$AC,0),1))","v":""},{"$f":"IF(BM221=\"\",\"\",INDEX(referentes!AE:AF,MATCH(BM221,referentes!$AF:$AF,0),1))","v":""},{"$f":"IF(BB221=\"\",\"\",INDEX(referentes!M:N,MATCH(BB221,referentes!$N:$N,0),1))","v":""},{"$f":"IF(BQ221=\"\",\"\",INDEX('Otras referencias'!S:T,MATCH(BQ221,'Otras referencias'!$T:$T,0),1))","v":""},{"$f":"IF(BN221=\"\",\"\",INDEX('Otras referencias'!A:B,MATCH(BN221,'Otras referencias'!$B:$B,0),1))","v":""},""]
[1,"",{"$f":"IF(E222<>\"\",CONCATENATE(DIGITADOR!$M$1,TEXT(D222, \"YYYYMMDD\"),ROW()-5),\"\")","v":""},null,null,"",{"$f":"IF(H222=\"\",\"\",INDEX(referentes!AQ:AR,MATCH(H222,referentes!$AR:$AR,0),1))","v":""},null,{"$f":"IF(J222=\"\",\"\",VLOOKUP(J222,referentes!$AL$2:$AO$29,3,FALSE))","v":""},null,null,null,null,null,null,null,null,null,null,null,null,"",null,null,null,null,null,null,null,null,null,null,null,null,null,null,null,null,null,null,null,null,null,null,null,null,null,{"$f":"IF(AW222=\"\",\"\",DIGITADOR!$B$14)","v":""},"",null,null,null,"",null,null,null,null,null,null,null,null,null,null,null,null,null,null,null,null,null,null,"",{"$f":"IF(C222=\"\",\"\",IF(COUNTIF($C$6:C222, C222)>1, \"\", C222))","v":""},{"$f":"IF(N222=\"\",\"\",INDEX(referentes!P:Q,MATCH(N222,referentes!$Q:$Q,0),1))","v":""},{"$f":"IF(O222=\"\",\"\",INDEX(referentes!$A:$B,MATCH(O222,referentes!$B:$B,0),1))","v":""},{"$f":"IF(S222=\"\",\"\",INDEX(referentes!D:E,MATCH(S222,referentes!$E:$E,0),1))","v":""},{"$f":"IF(T222=\"\",\"\",INDEX(referentes!G:H,MATCH(T222,referentes!$H:$H,0),1))","v":""},"",{"$f":"IF(Y222=\"\",\"\",INDEX(referentes!S:T,MATCH(Y222,referentes!$T:$T,0),1))","v":""},{"$f":"IF(BO222=\"\",\"\",INDEX(referentes!J:K,MATCH(BO222,referentes!$K:$K,0),1))","v":""},{"$f":"IF(BJ222=\"\",\"\",INDEX(referentes!V:W,MATCH(BJ222,referentes!$W:$W,0),1))","v":""},{"$f":"IF(BK222=\"\",\"\",INDEX(referentes!Y:Z,MATCH(BK222,referentes!$Z:$Z,0),1))","v":""},{"$f":"IF(BL222=\"\",\"\",INDEX(referentes!AB:AC,MATCH(BL222,referentes!$AC:$AC,0),1))","v":""},{"$f":"IF(BM222=\"\",\"\",INDEX(referentes!AE:AF,MATCH(BM222,referentes!$AF:$AF,0),1))","v":""},{"$f":"IF(BB222=\"\",\"\",INDEX(referentes!M:N,MATCH(BB222,referentes!$N:$N,0),1))","v":""},{"$f":"IF(BQ222=\"\",\"\",INDEX('Otras referencias'!S:T,MATCH(BQ222,'Otras referencias'!$T:$T,0),1))","v":""},{"$f":"IF(BN222=\"\",\"\",INDEX('Otras referencias'!A:B,MATCH(BN222,'Otras referencias'!$B:$B,0),1))","v":""},""]
[1,"",{"$f":"IF(E223<>\"\",CONCATENATE(DIGITADOR!$M$1,TEXT(D223, \"YYYYMMDD\"),ROW()-5),\"\")","v":""},null,null,"",{"$f":"IF(H223=\"\",\"\",INDEX(referentes!AQ:AR,MATCH(H223,referentes!$AR:$AR,0),1))","v":""},null,{"$f":"IF(J223=\"\",\"\",VLOOKUP(J223,referentes!$AL$2:$AO$29,3,FALSE))","v":""},null,null,null,null,null,null,null,null,null,null,null,null,"",null,null,null,null,null,null,null,null,null,null,null,null,null,null,null,null,null,null,null,null,null,null,null,null,null,{"$f":"IF(AW223=\"\",\"\",DIGITADOR!$B$14)","v":""},"",null,null,null,"",null,null,null,null,null,null,null,null,null,null,null,null,null,null,null,null,null,null,"",{"$f":"IF(C223=\"\",\"\",IF(COUNTIF($C$6:C223, C223)>1, \"\", C223))","v":""},{"$f":"IF(N223=\"\",\"\",INDEX(referentes!P:Q,MATCH(N223,referentes!$Q:$Q,0),1))","v":""},{"$f":"IF(O223=\"\",\"\",INDEX(referentes!$A:$B,MATCH(O223,referentes!$B:$B,0),1))","v":""},{"$f":"IF(S223=\"\",\"\",INDEX(referentes!D:E,MATCH(S223,referentes!$E:$E,0),1))","v":""},{"$f":"IF(T223=\"\",\"\",INDEX(referentes!G:H,MATCH(T223,referentes!$H:$H,0),1))","v":""},"",{"$f":"IF(Y223=\"\",\"\",INDEX(referentes!S:T,MATCH(Y223,referentes!$T:$T,0),1))","v":""},{"$f":"IF(BO223=\"\",\"\",INDEX(referentes!J:K,MATCH(BO223,referentes!$K:$K,0),1))","v":""},{"$f":"IF(BJ223=\"\",\"\",INDEX(referentes!V:W,MATCH(BJ223,referentes!$W:$W,0),1))","v":""},{"$f":"IF(BK223=\"\",\"\",INDEX(referentes!Y:Z,MATCH(BK223,referentes!$Z:$Z,0),1))","v":""},{"$f":"IF(BL223=\"\",\"\",INDEX(referentes!AB:AC,MATCH(BL223,referentes!$AC:$AC,0),1))","v":""},{"$f":"IF(BM223=\"\",\"\",INDEX(referentes!AE:AF,MATCH(BM223,referentes!$AF:$AF,0),1))","v":""},{"$f":"IF(BB223=\"\",\"\",INDEX(referentes!M:N,MATCH(BB223,referentes!$N:$N,0),1))","v":""},{"$f":"IF(BQ223=\"\",\"\",INDEX('Otras referencias'!S:T,MATCH(BQ223,'Otras referencias'!$T:$T,0),1))","v":""},{"$f":"IF(BN223=\"\",\"\",INDEX('Otras referencias'!A:B,MATCH(BN223,'Otras referencias'!$B:$B,0),1))","v":""},""]
[1,"",{"$f":"IF(E224<>\"\",CONCATENATE(DIGITADOR!$M$1,TEXT(D224, \"YYYYMMDD\"),ROW()-5),\"\")","v":""},null,null,"",{"$f":"IF(H224=\"\",\"\",INDEX(referentes!AQ:AR,MATCH(H224,referentes!$AR:$AR,0),1))","v":""},null,{"$f":"IF(J224=\"\",\"\",VLOOKUP(J224,referentes!$AL$2:$AO$29,3,FALSE))","v":""},null,null,null,null,null,null,null,null,null,null,null,null,"",null,null,null,null,null,null,null,null,null,null,null,null,null,null,null,null,null,null,null,null,null,null,null,null,null,{"$f":"IF(AW224=\"\",\"\",DIGITADOR!$B$14)","v":""},"",null,null,null,"",null,null,null,null,null,null,null,null,null,null,null,null,null,null,null,null,null,null,"",{"$f":"IF(C224=\"\",\"\",IF(COUNTIF($C$6:C224, C224)>1, \"\", C224))","v":""},{"$f":"IF(N224=\"\",\"\",INDEX(referentes!P:Q,MATCH(N224,referentes!$Q:$Q,0),1))","v":""},{"$f":"IF(O224=\"\",\"\",INDEX(referentes!$A:$B,MATCH(O224,referentes!$B:$B,0),1))","v":""},{"$f":"IF(S224=\"\",\"\",INDEX(referentes!D:E,MATCH(S224,referentes!$E:$E,0),1))","v":""},{"$f":"IF(T224=\"\",\"\",INDEX(referentes!G:H,MATCH(T224,referentes!$H:$H,0),1))","v":""},"",{"$f":"IF(Y224=\"\",\"\",INDEX(referentes!S:T,MATCH(Y224,referentes!$T:$T,0),1))","v":""},{"$f":"IF(BO224=\"\",\"\",INDEX(referentes!J:K,MATCH(BO224,referentes!$K:$K,0),1))","v":""},{"$f":"IF(BJ224=\"\",\"\",INDEX(referentes!V:W,MATCH(BJ224,referentes!$W:$W,0),1))","v":""},{"$f":"IF(BK224=\"\",\"\",INDEX(referentes!Y:Z,MATCH(BK224,referentes!$Z:$Z,0),1))","v":""},{"$f":"IF(BL224=\"\",\"\",INDEX(referentes!AB:AC,MATCH(BL224,referentes!$AC:$AC,0),1))","v":""},{"$f":"IF(BM224=\"\",\"\",INDEX(referentes!AE:AF,MATCH(BM224,referentes!$AF:$AF,0),1))","v":""},{"$f":"IF(BB224=\"\",\"\",INDEX(referentes!M:N,MATCH(BB224,referentes!$N:$N,0),1))","v":""},{"$f":"IF(BQ224=\"\",\"\",INDEX('Otras referencias'!S:T,MATCH(BQ224,'Otras referencias'!$T:$T,0),1))","v":""},{"$f":"IF(BN224=\"\",\"\",INDEX('Otras referencias'!A:B,MATCH(BN224,'Otras referencias'!$B:$B,0),1))","v":""},""]
[1,"",{"$f":"IF(E225<>\"\",CONCATENATE(DIGITADOR!$M$1,TEXT(D225, \"YYYYMMDD\"),ROW()-5),\"\")","v":""},null,null,"",{"$f":"IF(H225=\"\",\"\",INDEX(referentes!AQ:AR,MATCH(H225,referentes!$AR:$AR,0),1))","v":""},null,{"$f":"IF(J225=\"\",\"\",VLOOKUP(J225,referentes!$AL$2:$AO$29,3,FALSE))","v":""},null,null,null,null,null,null,null,null,null,null,null,null,"",null,null,null,null,null,null,null,null,null,null,null,null,null,null,null,null,null,null,null,null,null,null,null,null,null,{"$f":"IF(AW225=\"\",\"\",DIGITADOR!$B$14)","v":""},"",null,null,null,"",null,null,null,null,null,null,null,null,null,null,null,null,null,null,null,null,null,null,"",{"$f":"IF(C225=\"\",\"\",IF(COUNTIF($C$6:C225, C225)>1, \"\", C225))","v":""},{"$f":"IF(N225=\"\",\"\",INDEX(referentes!P:Q,MATCH(N225,referentes!$Q:$Q,0),1))","v":""},{"$f":"IF(O225=\"\",\"\",INDEX(referentes!$A:$B,MATCH(O225,referentes!$B:$B,0),1))","v":""},{"$f":"IF(S225=\"\",\"\",INDEX(referentes!D:E,MATCH(S225,referentes!$E:$E,0),1))","v":""},{"$f":"IF(T225=\"\",\"\",INDEX(referentes!G:H,MATCH(T225,referentes!$H:$H,0),1))","v":""},"",{"$f":"IF(Y225=\"\",\"\",INDEX(referentes!S:T,MATCH(Y225,referentes!$T:$T,0),1))","v":""},{"$f":"IF(BO225=\"\",\"\",INDEX(referentes!J:K,MATCH(BO225,referentes!$K:$K,0),1))","v":""},{"$f":"IF(BJ225=\"\",\"\",INDEX(referentes!V:W,MATCH(BJ225,referentes!$W:$W,0),1))","v":""},{"$f":"IF(BK225=\"\",\"\",INDEX(referentes!Y:Z,MATCH(BK225,referentes!$Z:$Z,0),1))","v":""},{"$f":"IF(BL225=\"\",\"\",INDEX(referentes!AB:AC,MATCH(BL225,referentes!$AC:$AC,0),1))","v":""},{"$f":"IF(BM225=\"\",\"\",INDEX(referentes!AE:AF,MATCH(BM225,referentes!$AF:$AF,0),1))","v":""},{"$f":"IF(BB225=\"\",\"\",INDEX(referentes!M:N,MATCH(BB225,referentes!$N:$N,0),1))","v":""},{"$f":"IF(BQ225=\"\",\"\",INDEX('Otras referencias'!S:T,MATCH(BQ225,'Otras referencias'!$T:$T,0),1))","v":""},{"$f":"IF(BN225=\"\",\"\",INDEX('Otras referencias'!A:B,MATCH(BN225,'Otras referencias'!$B:$B,0),1))","v":""},""]
[1,"",{"$f":"IF(E226<>\"\",CONCATENATE(DIGITADOR!$M$1,TEXT(D226, \"YYYYMMDD\"),ROW()-5),\"\")","v":""},null,null,"",{"$f":"IF(H226=\"\",\"\",INDEX(referentes!AQ:AR,MATCH(H226,referentes!$AR:$AR,0),1))","v":""},null,{"$f":"IF(J226=\"\",\"\",VLOOKUP(J226,referentes!$AL$2:$AO$29,3,FALSE))","v":""},null,null,null,null,null,null,null,null,null,null,null,null,"",null,null,null,null,null,null,null,null,null,null,null,null,null,null,null,null,null,null,null,null,null,null,null,null,null,{"$f":"IF(AW226=\"\",\"\",DIGITADOR!$B$14)","v":""},"",null,null,null,"",null,null,null,null,null,null,null,null,null,null,null,null,null,null,null,null,null,null,"",{"$f":"IF(C226=\"\",\"\",IF(COUNTIF($C$6:C226, C226)>1, \"\", C226))","v":""},{"$f":"IF(N226=\"\",\"\",INDEX(referentes!P:Q,MATCH(N226,referentes!$Q:$Q,0),1))","v":""},{"$f":"IF(O226=\"\",\"\",INDEX(referentes!$A:$B,MATCH(O226,referentes!$B:$B,0),1))","v":""},{"$f":"IF(S226=\"\",\"\",INDEX(referentes!D:E,MATCH(S226,referentes!$E:$E,0),1))","v":""},{"$f":"IF(T226=\"\",\"\",INDEX(referentes!G:H,MATCH(T226,referentes!$H:$H,0),1))","v":""},"",{"$f":"IF(Y226=\"\",\"\",INDEX(referentes!S:T,MATCH(Y226,referentes!$T:$T,0),1))","v":""},{"$f":"IF(BO226=\"\",\"\",INDEX(referentes!J:K,MATCH(BO226,referentes!$K:$K,0),1))","v":""},{"$f":"IF(BJ226=\"\",\"\",INDEX(referentes!V:W,MATCH(BJ226,referentes!$W:$W,0),1))","v":""},{"$f":"IF(BK226=\"\",\"\",INDEX(referentes!Y:Z,MATCH(BK226,referentes!$Z:$Z,0),1))","v":""},{"$f":"IF(BL226=\"\",\"\",INDEX(referentes!AB:AC,MATCH(BL226,referentes!$AC:$AC,0),1))","v":""},{"$f":"IF(BM226=\"\",\"\",INDEX(referentes!AE:AF,MATCH(BM226,referentes!$AF:$AF,0),1))","v":""},{"$f":"IF(BB226=\"\",\"\",INDEX(referentes!M:N,MATCH(BB226,referentes!$N:$N,0),1))","v":""},{"$f":"IF(BQ226=\"\",\"\",INDEX('Otras referencias'!S:T,MATCH(BQ226,'Otras referencias'!$T:$T,0),1))","v":""},{"$f":"IF(BN226=\"\",\"\",INDEX('Otras referencias'!A:B,MATCH(BN226,'Otras referencias'!$B:$B,0),1))","v":""},""]
[1,"",{"$f":"IF(E227<>\"\",CONCATENATE(DIGITADOR!$M$1,TEXT(D227, \"YYYYMMDD\"),ROW()-5),\"\")","v":""},null,null,"",{"$f":"IF(H227=\"\",\"\",INDEX(referentes!AQ:AR,MATCH(H227,referentes!$AR:$AR,0),1))","v":""},null,{"$f":"IF(J227=\"\",\"\",VLOOKUP(J227,referentes!$AL$2:$AO$29,3,FALSE))","v":""},null,null,null,null,null,null,null,null,null,null,null,null,"",null,null,null,null,null,null,null,null,null,null,null,null,null,null,null,null,null,null,null,null,null,null,null,null,null,{"$f":"IF(AW227=\"\",\"\",DIGITADOR!$B$14)","v":""},"",null,null,null,"",null,null,null,null,null,null,null,null,null,null,null,null,null,null,null,null,null,null,"",{"$f":"IF(C227=\"\",\"\",IF(COUNTIF($C$6:C227, C227)>1, \"\", C227))","v":""},{"$f":"IF(N227=\"\",\"\",INDEX(referentes!P:Q,MATCH(N227,referentes!$Q:$Q,0),1))","v":""},{"$f":"IF(O227=\"\",\"\",INDEX(referentes!$A:$B,MATCH(O227,referentes!$B:$B,0),1))","v":""},{"$f":"IF(S227=\"\",\"\",INDEX(referentes!D:E,MATCH(S227,referentes!$E:$E,0),1))","v":""},{"$f":"IF(T227=\"\",\"\",INDEX(referentes!G:H,MATCH(T227,referentes!$H:$H,0),1))","v":""},"",{"$f":"IF(Y227=\"\",\"\",INDEX(referentes!S:T,MATCH(Y227,referentes!$T:$T,0),1))","v":""},{"$f":"IF(BO227=\"\",\"\",INDEX(referentes!J:K,MATCH(BO227,referentes!$K:$K,0),1))","v":""},{"$f":"IF(BJ227=\"\",\"\",INDEX(referentes!V:W,MATCH(BJ227,referentes!$W:$W,0),1))","v":""},{"$f":"IF(BK227=\"\",\"\",INDEX(referentes!Y:Z,MATCH(BK227,referentes!$Z:$Z,0),1))","v":""},{"$f":"IF(BL227=\"\",\"\",INDEX(referentes!AB:AC,MATCH(BL227,referentes!$AC:$AC,0),1))","v":""},{"$f":"IF(BM227=\"\",\"\",INDEX(referentes!AE:AF,MATCH(BM227,referentes!$AF:$AF,0),1))","v":""},{"$f":"IF(BB227=\"\",\"\",INDEX(referentes!M:N,MATCH(BB227,referentes!$N:$N,0),1))","v":""},{"$f":"IF(BQ227=\"\",\"\",INDEX('Otras referencias'!S:T,MATCH(BQ227,'Otras referencias'!$T:$T,0),1))","v":""},{"$f":"IF(BN227=\"\",\"\",INDEX('Otras referencias'!A:B,MATCH(BN227,'Otras referencias'!$B:$B,0),1))","v":""},""]
[1,"",{"$f":"IF(E228<>\"\",CONCATENATE(DIGITADOR!$M$1,TEXT(D228, \"YYYYMMDD\"),ROW()-5),\"\")","v":""},null,null,"",{"$f":"IF(H228=\"\",\"\",INDEX(referentes!AQ:AR,MATCH(H228,referentes!$AR:$AR,0),1))","v":""},null,{"$f":"IF(J228=\"\",\"\",VLOOKUP(J228,referentes!$AL$2:$AO$29,3,FALSE))","v":""},null,null,null,null,null,null,null,null,null,null,null,null,"",null,null,null,null,null,null,null,null,null,null,null,null,null,null,null,null,null,null,null,null,null,null,null,null,null,{"$f":"IF(AW228=\"\",\"\",DIGITADOR!$B$14)","v":""},"",null,null,null,"",null,null,null,null,null,null,null,null,null,null,null,null,null,null,null,null,null,null,"",{"$f":"IF(C228=\"\",\"\",IF(COUNTIF($C$6:C228, C228)>1, \"\", C228))","v":""},{"$f":"IF(N228=\"\",\"\",INDEX(referentes!P:Q,MATCH(N228,referentes!$Q:$Q,0),1))","v":""},{"$f":"IF(O228=\"\",\"\",INDEX(referentes!$A:$B,MATCH(O228,referentes!$B:$B,0),1))","v":""},{"$f":"IF(S228=\"\",\"\",INDEX(referentes!D:E,MATCH(S228,referentes!$E:$E,0),1))","v":""},{"$f":"IF(T228=\"\",\"\",INDEX(referentes!G:H,MATCH(T228,referentes!$H:$H,0),1))","v":""},"",{"$f":"IF(Y228=\"\",\"\",INDEX(referentes!S:T,MATCH(Y228,referentes!$T:$T,0),1))","v":""},{"$f":"IF(BO228=\"\",\"\",INDEX(referentes!J:K,MATCH(BO228,referentes!$K:$K,0),1))","v":""},{"$f":"IF(BJ228=\"\",\"\",INDEX(referentes!V:W,MATCH(BJ228,referentes!$W:$W,0),1))","v":""},{"$f":"IF(BK228=\"\",\"\",INDEX(referentes!Y:Z,MATCH(BK228,referentes!$Z:$Z,0),1))","v":""},{"$f":"IF(BL228=\"\",\"\",INDEX(referentes!AB:AC,MATCH(BL228,referentes!$AC:$AC,0),1))","v":""},{"$f":"IF(BM228=\"\",\"\",INDEX(referentes!AE:AF,MATCH(BM228,referentes!$AF:$AF,0),1))","v":""},{"$f":"IF(BB228=\"\",\"\",INDEX(referentes!M:N,MATCH(BB228,referentes!$N:$N,0),1))","v":""},{"$f":"IF(BQ228=\"\",\"\",INDEX('Otras referencias'!S:T,MATCH(BQ228,'Otras referencias'!$T:$T,0),1))","v":""},{"$f":"IF(BN228=\"\",\"\",INDEX('Otras referencias'!A:B,MATCH(BN228,'Otras referencias'!$B:$B,0),1))","v":""},""]
[1,"",{"$f":"IF(E229<>\"\",CONCATENATE(DIGITADOR!$M$1,TEXT(D229, \"YYYYMMDD\"),ROW()-5),\"\")","v":""},null,null,"",{"$f":"IF(H229=\"\",\"\",INDEX(referentes!AQ:AR,MATCH(H229,referentes!$AR:$AR,0),1))","v":""},null,{"$f":"IF(J229=\"\",\"\",VLOOKUP(J229,referentes!$AL$2:$AO$29,3,FALSE))","v":""},null,null,null,null,null,null,null,null,null,null,null,null,"",null,null,null,null,null,null,null,null,null,null,null,null,null,null,null,null,null,null,null,null,null,null,null,null,null,{"$f":"IF(AW229=\"\",\"\",DIGITADOR!$B$14)","v":""},"",null,null,null,"",null,null,null,null,null,null,null,null,null,null,null,null,null,null,null,null,null,null,"",{"$f":"IF(C229=\"\",\"\",IF(COUNTIF($C$6:C229, C229)>1, \"\", C229))","v":""},{"$f":"IF(N229=\"\",\"\",INDEX(referentes!P:Q,MATCH(N229,referentes!$Q:$Q,0),1))","v":""},{"$f":"IF(O229=\"\",\"\",INDEX(referentes!$A:$B,MATCH(O229,referentes!$B:$B,0),1))","v":""},{"$f":"IF(S229=\"\",\"\",INDEX(referentes!D:E,MATCH(S229,referentes!$E:$E,0),1))","v":""},{"$f":"IF(T229=\"\",\"\",INDEX(referentes!G:H,MATCH(T229,referentes!$H:$H,0),1))","v":""},"",{"$f":"IF(Y229=\"\",\"\",INDEX(referentes!S:T,MATCH(Y229,referentes!$T:$T,0),1))","v":""},{"$f":"IF(BO229=\"\",\"\",INDEX(referentes!J:K,MATCH(BO229,referentes!$K:$K,0),1))","v":""},{"$f":"IF(BJ229=\"\",\"\",INDEX(referentes!V:W,MATCH(BJ229,referentes!$W:$W,0),1))","v":""},{"$f":"IF(BK229=\"\",\"\",INDEX(referentes!Y:Z,MATCH(BK229,referentes!$Z:$Z,0),1))","v":""},{"$f":"IF(BL229=\"\",\"\",INDEX(referentes!AB:AC,MATCH(BL229,referentes!$AC:$AC,0),1))","v":""},{"$f":"IF(BM229=\"\",\"\",INDEX(referentes!AE:AF,MATCH(BM229,referentes!$AF:$AF,0),1))","v":""},{"$f":"IF(BB229=\"\",\"\",INDEX(referentes!M:N,MATCH(BB229,referentes!$N:$N,0),1))","v":""},{"$f":"IF(BQ229=\"\",\"\",INDEX('Otras referencias'!S:T,MATCH(BQ229,'Otras referencias'!$T:$T,0),1))","v":""},{"$f":"IF(BN229=\"\",\"\",INDEX('Otras referencias'!A:B,MATCH(BN229,'Otras referencias'!$B:$B,0),1))","v":""},""]
[1,"",{"$f":"IF(E230<>\"\",CONCATENATE(DIGITADOR!$M$1,TEXT(D230, \"YYYYMMDD\"),ROW()-5),\"\")","v":""},null,null,"",{"$f":"IF(H230=\"\",\"\",INDEX(referentes!AQ:AR,MATCH(H230,referentes!$AR:$AR,0),1))","v":""},null,{"$f":"IF(J230=\"\",\"\",VLOOKUP(J230,referentes!$AL$2:$AO$29,3,FALSE))","v":""},null,null,null,null,null,null,null,null,null,null,null,null,"",null,null,null,null,null,null,null,null,null,null,null,null,null,null,null,null,null,null,null,null,null,null,null,null,null,{"$f":"IF(AW230=\"\",\"\",DIGITADOR!$B$14)","v":""},"",null,null,null,"",null,null,null,null,null,null,null,null,null,null,null,null,null,null,null,null,null,null,"",{"$f":"IF(C230=\"\",\"\",IF(COUNTIF($C$6:C230, C230)>1, \"\", C230))","v":""},{"$f":"IF(N230=\"\",\"\",INDEX(referentes!P:Q,MATCH(N230,referentes!$Q:$Q,0),1))","v":""},{"$f":"IF(O230=\"\",\"\",INDEX(referentes!$A:$B,MATCH(O230,referentes!$B:$B,0),1))","v":""},{"$f":"IF(S230=\"\",\"\",INDEX(referentes!D:E,MATCH(S230,referentes!$E:$E,0),1))","v":""},{"$f":"IF(T230=\"\",\"\",INDEX(referentes!G:H,MATCH(T230,referentes!$H:$H,0),1))","v":""},"",{"$f":"IF(Y230=\"\",\"\",INDEX(referentes!S:T,MATCH(Y230,referentes!$T:$T,0),1))","v":""},{"$f":"IF(BO230=\"\",\"\",INDEX(referentes!J:K,MATCH(BO230,referentes!$K:$K,0),1))","v":""},{"$f":"IF(BJ230=\"\",\"\",INDEX(referentes!V:W,MATCH(BJ230,referentes!$W:$W,0),1))","v":""},{"$f":"IF(BK230=\"\",\"\",INDEX(referentes!Y:Z,MATCH(BK230,referentes!$Z:$Z,0),1))","v":""},{"$f":"IF(BL230=\"\",\"\",INDEX(referentes!AB:AC,MATCH(BL230,referentes!$AC:$AC,0),1))","v":""},{"$f":"IF(BM230=\"\",\"\",INDEX(referentes!AE:AF,MATCH(BM230,referentes!$AF:$AF,0),1))","v":""},{"$f":"IF(BB230=\"\",\"\",INDEX(referentes!M:N,MATCH(BB230,referentes!$N:$N,0),1))","v":""},{"$f":"IF(BQ230=\"\",\"\",INDEX('Otras referencias'!S:T,MATCH(BQ230,'Otras referencias'!$T:$T,0),1))","v":""},{"$f":"IF(BN230=\"\",\"\",INDEX('Otras referencias'!A:B,MATCH(BN230,'Otras referencias'!$B:$B,0),1))","v":""},""]
[1,"",{"$f":"IF(E231<>\"\",CONCATENATE(DIGITADOR!$M$1,TEXT(D231, \"YYYYMMDD\"),ROW()-5),\"\")","v":""},null,null,"",{"$f":"IF(H231=\"\",\"\",INDEX(referentes!AQ:AR,MATCH(H231,referentes!$AR:$AR,0),1))","v":""},null,{"$f":"IF(J231=\"\",\"\",VLOOKUP(J231,referentes!$AL$2:$AO$29,3,FALSE))","v":""},null,null,null,null,null,null,null,null,null,null,null,null,"",null,null,null,null,null,null,null,null,null,null,null,null,null,null,null,null,null,null,null,null,null,null,null,null,null,{"$f":"IF(AW231=\"\",\"\",DIGITADOR!$B$14)","v":""},"",null,null,null,"",null,null,null,null,null,null,null,null,null,null,null,null,null,null,null,null,null,null,"",{"$f":"IF(C231=\"\",\"\",IF(COUNTIF($C$6:C231, C231)>1, \"\", C231))","v":""},{"$f":"IF(N231=\"\",\"\",INDEX(referentes!P:Q,MATCH(N231,referentes!$Q:$Q,0),1))","v":""},{"$f":"IF(O231=\"\",\"\",INDEX(referentes!$A:$B,MATCH(O231,referentes!$B:$B,0),1))","v":""},{"$f":"IF(S231=\"\",\"\",INDEX(referentes!D:E,MATCH(S231,referentes!$E:$E,0),1))","v":""},{"$f":"IF(T231=\"\",\"\",INDEX(referentes!G:H,MATCH(T231,referentes!$H:$H,0),1))","v":""},"",{"$f":"IF(Y231=\"\",\"\",INDEX(referentes!S:T,MATCH(Y231,referentes!$T:$T,0),1))","v":""},{"$f":"IF(BO231=\"\",\"\",INDEX(referentes!J:K,MATCH(BO231,referentes!$K:$K,0),1))","v":""},{"$f":"IF(BJ231=\"\",\"\",INDEX(referentes!V:W,MATCH(BJ231,referentes!$W:$W,0),1))","v":""},{"$f":"IF(BK231=\"\",\"\",INDEX(referentes!Y:Z,MATCH(BK231,referentes!$Z:$Z,0),1))","v":""},{"$f":"IF(BL231=\"\",\"\",INDEX(referentes!AB:AC,MATCH(BL231,referentes!$AC:$AC,0),1))","v":""},{"$f":"IF(BM231=\"\",\"\",INDEX(referentes!AE:AF,MATCH(BM231,referentes!$AF:$AF,0),1))","v":""},{"$f":"IF(BB231=\"\",\"\",INDEX(referentes!M:N,MATCH(BB231,referentes!$N:$N,0),1))","v":""},{"$f":"IF(BQ231=\"\",\"\",INDEX('Otras referencias'!S:T,MATCH(BQ231,'Otras referencias'!$T:$T,0),1))","v":""},{"$f":"IF(BN231=\"\",\"\",INDEX('Otras referencias'!A:B,MATCH(BN231,'Otras referencias'!$B:$B,0),1))","v":""},""]
[1,"",{"$f":"IF(E232<>\"\",CONCATENATE(DIGITADOR!$M$1,TEXT(D232, \"YYYYMMDD\"),ROW()-5),\"\")","v":""},null,null,"",{"$f":"IF(H232=\"\",\"\",INDEX(referentes!AQ:AR,MATCH(H232,referentes!$AR:$AR,0),1))","v":""},null,{"$f":"IF(J232=\"\",\"\",VLOOKUP(J232,referentes!$AL$2:$AO$29,3,FALSE))","v":""},null,null,null,null,null,null,null,null,null,null,null,null,"",null,null,null,null,null,null,null,null,null,null,null,null,null,null,null,null,null,null,null,null,null,null,null,null,null,{"$f":"IF(AW232=\"\",\"\",DIGITADOR!$B$14)","v":""},"",null,null,null,"",null,null,null,null,null,null,null,null,null,null,null,null,null,null,null,null,null,null,"",{"$f":"IF(C232=\"\",\"\",IF(COUNTIF($C$6:C232, C232)>1, \"\", C232))","v":""},{"$f":"IF(N232=\"\",\"\",INDEX(referentes!P:Q,MATCH(N232,referentes!$Q:$Q,0),1))","v":""},{"$f":"IF(O232=\"\",\"\",INDEX(referentes!$A:$B,MATCH(O232,referentes!$B:$B,0),1))","v":""},{"$f":"IF(S232=\"\",\"\",INDEX(referentes!D:E,MATCH(S232,referentes!$E:$E,0),1))","v":""},{"$f":"IF(T232=\"\",\"\",INDEX(referentes!G:H,MATCH(T232,referentes!$H:$H,0),1))","v":""},"",{"$f":"IF(Y232=\"\",\"\",INDEX(referentes!S:T,MATCH(Y232,referentes!$T:$T,0),1))","v":""},{"$f":"IF(BO232=\"\",\"\",INDEX(referentes!J:K,MATCH(BO232,referentes!$K:$K,0),1))","v":""},{"$f":"IF(BJ232=\"\",\"\",INDEX(referentes!V:W,MATCH(BJ232,referentes!$W:$W,0),1))","v":""},{"$f":"IF(BK232=\"\",\"\",INDEX(referentes!Y:Z,MATCH(BK232,referentes!$Z:$Z,0),1))","v":""},{"$f":"IF(BL232=\"\",\"\",INDEX(referentes!AB:AC,MATCH(BL232,referentes!$AC:$AC,0),1))","v":""},{"$f":"IF(BM232=\"\",\"\",INDEX(referentes!AE:AF,MATCH(BM232,referentes!$AF:$AF,0),1))","v":""},{"$f":"IF(BB232=\"\",\"\",INDEX(referentes!M:N,MATCH(BB232,referentes!$N:$N,0),1))","v":""},{"$f":"IF(BQ232=\"\",\"\",INDEX('Otras referencias'!S:T,MATCH(BQ232,'Otras referencias'!$T:$T,0),1))","v":""},{"$f":"IF(BN232=\"\",\"\",INDEX('Otras referencias'!A:B,MATCH(BN232,'Otras referencias'!$B:$B,0),1))","v":""},""]
[1,"",{"$f":"IF(E233<>\"\",CONCATENATE(DIGITADOR!$M$1,TEXT(D233, \"YYYYMMDD\"),ROW()-5),\"\")","v":""},null,null,"",{"$f":"IF(H233=\"\",\"\",INDEX(referentes!AQ:AR,MATCH(H233,referentes!$AR:$AR,0),1))","v":""},null,{"$f":"IF(J233=\"\",\"\",VLOOKUP(J233,referentes!$AL$2:$AO$29,3,FALSE))","v":""},null,null,null,null,null,null,null,null,null,null,null,null,"",null,null,null,null,null,null,null,null,null,null,null,null,null,null,null,null,null,null,null,null,null,null,null,null,null,{"$f":"IF(AW233=\"\",\"\",DIGITADOR!$B$14)","v":""},"",null,null,null,"",null,null,null,null,null,null,null,null,null,null,null,null,null,null,null,null,null,null,"",{"$f":"IF(C233=\"\",\"\",IF(COUNTIF($C$6:C233, C233)>1, \"\", C233))","v":""},{"$f":"IF(N233=\"\",\"\",INDEX(referentes!P:Q,MATCH(N233,referentes!$Q:$Q,0),1))","v":""},{"$f":"IF(O233=\"\",\"\",INDEX(referentes!$A:$B,MATCH(O233,referentes!$B:$B,0),1))","v":""},{"$f":"IF(S233=\"\",\"\",INDEX(referentes!D:E,MATCH(S233,referentes!$E:$E,0),1))","v":""},{"$f":"IF(T233=\"\",\"\",INDEX(referentes!G:H,MATCH(T233,referentes!$H:$H,0),1))","v":""},"",{"$f":"IF(Y233=\"\",\"\",INDEX(referentes!S:T,MATCH(Y233,referentes!$T:$T,0),1))","v":""},{"$f":"IF(BO233=\"\",\"\",INDEX(referentes!J:K,MATCH(BO233,referentes!$K:$K,0),1))","v":""},{"$f":"IF(BJ233=\"\",\"\",INDEX(referentes!V:W,MATCH(BJ233,referentes!$W:$W,0),1))","v":""},{"$f":"IF(BK233=\"\",\"\",INDEX(referentes!Y:Z,MATCH(BK233,referentes!$Z:$Z,0),1))","v":""},{"$f":"IF(BL233=\"\",\"\",INDEX(referentes!AB:AC,MATCH(BL233,referentes!$AC:$AC,0),1))","v":""},{"$f":"IF(BM233=\"\",\"\",INDEX(referentes!AE:AF,MATCH(BM233,referentes!$AF:$AF,0),1))","v":""},{"$f":"IF(BB233=\"\",\"\",INDEX(referentes!M:N,MATCH(BB233,referentes!$N:$N,0),1))","v":""},{"$f":"IF(BQ233=\"\",\"\",INDEX('Otras referencias'!S:T,MATCH(BQ233,'Otras referencias'!$T:$T,0),1))","v":""},{"$f":"IF(BN233=\"\",\"\",INDEX('Otras referencias'!A:B,MATCH(BN233,'Otras referencias'!$B:$B,0),1))","v":""},""]
[1,"",{"$f":"IF(E234<>\"\",CONCATENATE(DIGITADOR!$M$1,TEXT(D234, \"YYYYMMDD\"),ROW()-5),\"\")","v":""},null,null,"",{"$f":"IF(H234=\"\",\"\",INDEX(referentes!AQ:AR,MATCH(H234,referentes!$AR:$AR,0),1))","v":""},null,{"$f":"IF(J234=\"\",\"\",VLOOKUP(J234,referentes!$AL$2:$AO$29,3,FALSE))","v":""},null,null,null,null,null,null,null,null,null,null,null,null,"",null,null,null,null,null,null,null,null,null,null,null,null,null,null,null,null,null,null,null,null,null,null,null,null,null,{"$f":"IF(AW234=\"\",\"\",DIGITADOR!$B$14)","v":""},"",null,null,null,"",null,null,null,null,null,null,null,null,null,null,null,null,null,null,null,null,null,null,"",{"$f":"IF(C234=\"\",\"\",IF(COUNTIF($C$6:C234, C234)>1, \"\", C234))","v":""},{"$f":"IF(N234=\"\",\"\",INDEX(referentes!P:Q,MATCH(N234,referentes!$Q:$Q,0),1))","v":""},{"$f":"IF(O234=\"\",\"\",INDEX(referentes!$A:$B,MATCH(O234,referentes!$B:$B,0),1))","v":""},{"$f":"IF(S234=\"\",\"\",INDEX(referentes!D:E,MATCH(S234,referentes!$E:$E,0),1))","v":""},{"$f":"IF(T234=\"\",\"\",INDEX(referentes!G:H,MATCH(T234,referentes!$H:$H,0),1))","v":""},"",{"$f":"IF(Y234=\"\",\"\",INDEX(referentes!S:T,MATCH(Y234,referentes!$T:$T,0),1))","v":""},{"$f":"IF(BO234=\"\",\"\",INDEX(referentes!J:K,MATCH(BO234,referentes!$K:$K,0),1))","v":""},{"$f":"IF(BJ234=\"\",\"\",INDEX(referentes!V:W,MATCH(BJ234,referentes!$W:$W,0),1))","v":""},{"$f":"IF(BK234=\"\",\"\",INDEX(referentes!Y:Z,MATCH(BK234,referentes!$Z:$Z,0),1))","v":""},{"$f":"IF(BL234=\"\",\"\",INDEX(referentes!AB:AC,MATCH(BL234,referentes!$AC:$AC,0),1))","v":""},{"$f":"IF(BM234=\"\",\"\",INDEX(referentes!AE:AF,MATCH(BM234,referentes!$AF:$AF,0),1))","v":""},{"$f":"IF(BB234=\"\",\"\",INDEX(referentes!M:N,MATCH(BB234,referentes!$N:$N,0),1))","v":""},{"$f":"IF(BQ234=\"\",\"\",INDEX('Otras referencias'!S:T,MATCH(BQ234,'Otras referencias'!$T:$T,0),1))","v":""},{"$f":"IF(BN234=\"\",\"\",INDEX('Otras referencias'!A:B,MATCH(BN234,'Otras referencias'!$B:$B,0),1))","v":""},""]
[1,"",{"$f":"IF(E235<>\"\",CONCATENATE(DIGITADOR!$M$1,TEXT(D235, \"YYYYMMDD\"),ROW()-5),\"\")","v":""},null,null,"",{"$f":"IF(H235=\"\",\"\",INDEX(referentes!AQ:AR,MATCH(H235,referentes!$AR:$AR,0),1))","v":""},null,{"$f":"IF(J235=\"\",\"\",VLOOKUP(J235,referentes!$AL$2:$AO$29,3,FALSE))","v":""},null,null,null,null,null,null,null,null,null,null,null,null,"",null,null,null,null,null,null,null,null,null,null,null,null,null,null,null,null,null,null,null,null,null,null,null,null,null,{"$f":"IF(AW235=\"\",\"\",DIGITADOR!$B$14)","v":""},"",null,null,null,"",null,null,null,null,null,null,null,null,null,null,null,null,null,null,null,null,null,null,"",{"$f":"IF(C235=\"\",\"\",IF(COUNTIF($C$6:C235, C235)>1, \"\", C235))","v":""},{"$f":"IF(N235=\"\",\"\",INDEX(referentes!P:Q,MATCH(N235,referentes!$Q:$Q,0),1))","v":""},{"$f":"IF(O235=\"\",\"\",INDEX(referentes!$A:$B,MATCH(O235,referentes!$B:$B,0),1))","v":""},{"$f":"IF(S235=\"\",\"\",INDEX(referentes!D:E,MATCH(S235,referentes!$E:$E,0),1))","v":""},{"$f":"IF(T235=\"\",\"\",INDEX(referentes!G:H,MATCH(T235,referentes!$H:$H,0),1))","v":""},"",{"$f":"IF(Y235=\"\",\"\",INDEX(referentes!S:T,MATCH(Y235,referentes!$T:$T,0),1))","v":""},{"$f":"IF(BO235=\"\",\"\",INDEX(referentes!J:K,MATCH(BO235,referentes!$K:$K,0),1))","v":""},{"$f":"IF(BJ235=\"\",\"\",INDEX(referentes!V:W,MATCH(BJ235,referentes!$W:$W,0),1))","v":""},{"$f":"IF(BK235=\"\",\"\",INDEX(referentes!Y:Z,MATCH(BK235,referentes!$Z:$Z,0),1))","v":""},{"$f":"IF(BL235=\"\",\"\",INDEX(referentes!AB:AC,MATCH(BL235,referentes!$AC:$AC,0),1))","v":""},{"$f":"IF(BM235=\"\",\"\",INDEX(referentes!AE:AF,MATCH(BM235,referentes!$AF:$AF,0),1))","v":""},{"$f":"IF(BB235=\"\",\"\",INDEX(referentes!M:N,MATCH(BB235,referentes!$N:$N,0),1))","v":""},{"$f":"IF(BQ235=\"\",\"\",INDEX('Otras referencias'!S:T,MATCH(BQ235,'Otras referencias'!$T:$T,0),1))","v":""},{"$f":"IF(BN235=\"\",\"\",INDEX('Otras referencias'!A:B,MATCH(BN235,'Otras referencias'!$B:$B,0),1))","v":""},""]
[1,"",{"$f":"IF(E236<>\"\",CONCATENATE(DIGITADOR!$M$1,TEXT(D236, \"YYYYMMDD\"),ROW()-5),\"\")","v":""},null,null,"",{"$f":"IF(H236=\"\",\"\",INDEX(referentes!AQ:AR,MATCH(H236,referentes!$AR:$AR,0),1))","v":""},null,{"$f":"IF(J236=\"\",\"\",VLOOKUP(J236,referentes!$AL$2:$AO$29,3,FALSE))","v":""},null,null,null,null,null,null,null,null,null,null,null,null,"",null,null,null,null,null,null,null,null,null,null,null,null,null,null,null,null,null,null,null,null,null,null,null,null,null,{"$f":"IF(AW236=\"\",\"\",DIGITADOR!$B$14)","v":""},"",null,null,null,"",null,null,null,null,null,null,null,null,null,null,null,null,null,null,null,null,null,null,"",{"$f":"IF(C236=\"\",\"\",IF(COUNTIF($C$6:C236, C236)>1, \"\", C236))","v":""},{"$f":"IF(N236=\"\",\"\",INDEX(referentes!P:Q,MATCH(N236,referentes!$Q:$Q,0),1))","v":""},{"$f":"IF(O236=\"\",\"\",INDEX(referentes!$A:$B,MATCH(O236,referentes!$B:$B,0),1))","v":""},{"$f":"IF(S236=\"\",\"\",INDEX(referentes!D:E,MATCH(S236,referentes!$E:$E,0),1))","v":""},{"$f":"IF(T236=\"\",\"\",INDEX(referentes!G:H,MATCH(T236,referentes!$H:$H,0),1))","v":""},"",{"$f":"IF(Y236=\"\",\"\",INDEX(referentes!S:T,MATCH(Y236,referentes!$T:$T,0),1))","v":""},{"$f":"IF(BO236=\"\",\"\",INDEX(referentes!J:K,MATCH(BO236,referentes!$K:$K,0),1))","v":""},{"$f":"IF(BJ236=\"\",\"\",INDEX(referentes!V:W,MATCH(BJ236,referentes!$W:$W,0),1))","v":""},{"$f":"IF(BK236=\"\",\"\",INDEX(referentes!Y:Z,MATCH(BK236,referentes!$Z:$Z,0),1))","v":""},{"$f":"IF(BL236=\"\",\"\",INDEX(referentes!AB:AC,MATCH(BL236,referentes!$AC:$AC,0),1))","v":""},{"$f":"IF(BM236=\"\",\"\",INDEX(referentes!AE:AF,MATCH(BM236,referentes!$AF:$AF,0),1))","v":""},{"$f":"IF(BB236=\"\",\"\",INDEX(referentes!M:N,MATCH(BB236,referentes!$N:$N,0),1))","v":""},{"$f":"IF(BQ236=\"\",\"\",INDEX('Otras referencias'!S:T,MATCH(BQ236,'Otras referencias'!$T:$T,0),1))","v":""},{"$f":"IF(BN236=\"\",\"\",INDEX('Otras referencias'!A:B,MATCH(BN236,'Otras referencias'!$B:$B,0),1))","v":""},""]
[1,"",{"$f":"IF(E237<>\"\",CONCATENATE(DIGITADOR!$M$1,TEXT(D237, \"YYYYMMDD\"),ROW()-5),\"\")","v":""},null,null,"",{"$f":"IF(H237=\"\",\"\",INDEX(referentes!AQ:AR,MATCH(H237,referentes!$AR:$AR,0),1))","v":""},null,{"$f":"IF(J237=\"\",\"\",VLOOKUP(J237,referentes!$AL$2:$AO$29,3,FALSE))","v":""},null,null,null,null,null,null,null,null,null,null,null,null,"",null,null,null,null,null,null,null,null,null,null,null,null,null,null,null,null,null,null,null,null,null,null,null,null,null,{"$f":"IF(AW237=\"\",\"\",DIGITADOR!$B$14)","v":""},"",null,null,null,"",null,null,null,null,null,null,null,null,null,null,null,null,null,null,null,null,null,null,"",{"$f":"IF(C237=\"\",\"\",IF(COUNTIF($C$6:C237, C237)>1, \"\", C237))","v":""},{"$f":"IF(N237=\"\",\"\",INDEX(referentes!P:Q,MATCH(N237,referentes!$Q:$Q,0),1))","v":""},{"$f":"IF(O237=\"\",\"\",INDEX(referentes!$A:$B,MATCH(O237,referentes!$B:$B,0),1))","v":""},{"$f":"IF(S237=\"\",\"\",INDEX(referentes!D:E,MATCH(S237,referentes!$E:$E,0),1))","v":""},{"$f":"IF(T237=\"\",\"\",INDEX(referentes!G:H,MATCH(T237,referentes!$H:$H,0),1))","v":""},"",{"$f":"IF(Y237=\"\",\"\",INDEX(referentes!S:T,MATCH(Y237,referentes!$T:$T,0),1))","v":""},{"$f":"IF(BO237=\"\",\"\",INDEX(referentes!J:K,MATCH(BO237,referentes!$K:$K,0),1))","v":""},{"$f":"IF(BJ237=\"\",\"\",INDEX(referentes!V:W,MATCH(BJ237,referentes!$W:$W,0),1))","v":""},{"$f":"IF(BK237=\"\",\"\",INDEX(referentes!Y:Z,MATCH(BK237,referentes!$Z:$Z,0),1))","v":""},{"$f":"IF(BL237=\"\",\"\",INDEX(referentes!AB:AC,MATCH(BL237,referentes!$AC:$AC,0),1))","v":""},{"$f":"IF(BM237=\"\",\"\",INDEX(referentes!AE:AF,MATCH(BM237,referentes!$AF:$AF,0),1))","v":""},{"$f":"IF(BB237=\"\",\"\",INDEX(referentes!M:N,MATCH(BB237,referentes!$N:$N,0),1))","v":""},{"$f":"IF(BQ237=\"\",\"\",INDEX('Otras referencias'!S:T,MATCH(BQ237,'Otras referencias'!$T:$T,0),1))","v":""},{"$f":"IF(BN237=\"\",\"\",INDEX('Otras referencias'!A:B,MATCH(BN237,'Otras referencias'!$B:$B,0),1))","v":""},""]
[1,"",{"$f":"IF(E238<>\"\",CONCATENATE(DIGITADOR!$M$1,TEXT(D238, \"YYYYMMDD\"),ROW()-5),\"\")","v":""},null,null,"",{"$f":"IF(H238=\"\",\"\",INDEX(referentes!AQ:AR,MATCH(H238,referentes!$AR:$AR,0),1))","v":""},null,{"$f":"IF(J238=\"\",\"\",VLOOKUP(J238,referentes!$AL$2:$AO$29,3,FALSE))","v":""},null,null,null,null,null,null,null,null,null,null,null,null,"",null,null,null,null,null,null,null,null,null,null,null,null,null,null,null,null,null,null,null,null,null,null,null,null,null,{"$f":"IF(AW238=\"\",\"\",DIGITADOR!$B$14)","v":""},"",null,null,null,"",null,null,null,null,null,null,null,null,null,null,null,null,null,null,null,null,null,null,"",{"$f":"IF(C238=\"\",\"\",IF(COUNTIF($C$6:C238, C238)>1, \"\", C238))","v":""},{"$f":"IF(N238=\"\",\"\",INDEX(referentes!P:Q,MATCH(N238,referentes!$Q:$Q,0),1))","v":""},{"$f":"IF(O238=\"\",\"\",INDEX(referentes!$A:$B,MATCH(O238,referentes!$B:$B,0),1))","v":""},{"$f":"IF(S238=\"\",\"\",INDEX(referentes!D:E,MATCH(S238,referentes!$E:$E,0),1))","v":""},{"$f":"IF(T238=\"\",\"\",INDEX(referentes!G:H,MATCH(T238,referentes!$H:$H,0),1))","v":""},"",{"$f":"IF(Y238=\"\",\"\",INDEX(referentes!S:T,MATCH(Y238,referentes!$T:$T,0),1))","v":""},{"$f":"IF(BO238=\"\",\"\",INDEX(referentes!J:K,MATCH(BO238,referentes!$K:$K,0),1))","v":""},{"$f":"IF(BJ238=\"\",\"\",INDEX(referentes!V:W,MATCH(BJ238,referentes!$W:$W,0),1))","v":""},{"$f":"IF(BK238=\"\",\"\",INDEX(referentes!Y:Z,MATCH(BK238,referentes!$Z:$Z,0),1))","v":""},{"$f":"IF(BL238=\"\",\"\",INDEX(referentes!AB:AC,MATCH(BL238,referentes!$AC:$AC,0),1))","v":""},{"$f":"IF(BM238=\"\",\"\",INDEX(referentes!AE:AF,MATCH(BM238,referentes!$AF:$AF,0),1))","v":""},{"$f":"IF(BB238=\"\",\"\",INDEX(referentes!M:N,MATCH(BB238,referentes!$N:$N,0),1))","v":""},{"$f":"IF(BQ238=\"\",\"\",INDEX('Otras referencias'!S:T,MATCH(BQ238,'Otras referencias'!$T:$T,0),1))","v":""},{"$f":"IF(BN238=\"\",\"\",INDEX('Otras referencias'!A:B,MATCH(BN238,'Otras referencias'!$B:$B,0),1))","v":""},""]
[1,"",{"$f":"IF(E239<>\"\",CONCATENATE(DIGITADOR!$M$1,TEXT(D239, \"YYYYMMDD\"),ROW()-5),\"\")","v":""},null,null,"",{"$f":"IF(H239=\"\",\"\",INDEX(referentes!AQ:AR,MATCH(H239,referentes!$AR:$AR,0),1))","v":""},null,{"$f":"IF(J239=\"\",\"\",VLOOKUP(J239,referentes!$AL$2:$AO$29,3,FALSE))","v":""},null,null,null,null,null,null,null,null,null,null,null,null,"",null,null,null,null,null,null,null,null,null,null,null,null,null,null,null,null,null,null,null,null,null,null,null,null,null,{"$f":"IF(AW239=\"\",\"\",DIGITADOR!$B$14)","v":""},"",null,null,null,"",null,null,null,null,null,null,null,null,null,null,null,null,null,null,null,null,null,null,"",{"$f":"IF(C239=\"\",\"\",IF(COUNTIF($C$6:C239, C239)>1, \"\", C239))","v":""},{"$f":"IF(N239=\"\",\"\",INDEX(referentes!P:Q,MATCH(N239,referentes!$Q:$Q,0),1))","v":""},{"$f":"IF(O239=\"\",\"\",INDEX(referentes!$A:$B,MATCH(O239,referentes!$B:$B,0),1))","v":""},{"$f":"IF(S239=\"\",\"\",INDEX(referentes!D:E,MATCH(S239,referentes!$E:$E,0),1))","v":""},{"$f":"IF(T239=\"\",\"\",INDEX(referentes!G:H,MATCH(T239,referentes!$H:$H,0),1))","v":""},"",{"$f":"IF(Y239=\"\",\"\",INDEX(referentes!S:T,MATCH(Y239,referentes!$T:$T,0),1))","v":""},{"$f":"IF(BO239=\"\",\"\",INDEX(referentes!J:K,MATCH(BO239,referentes!$K:$K,0),1))","v":""},{"$f":"IF(BJ239=\"\",\"\",INDEX(referentes!V:W,MATCH(BJ239,referentes!$W:$W,0),1))","v":""},{"$f":"IF(BK239=\"\",\"\",INDEX(referentes!Y:Z,MATCH(BK239,referentes!$Z:$Z,0),1))","v":""},{"$f":"IF(BL239=\"\",\"\",INDEX(referentes!AB:AC,MATCH(BL239,referentes!$AC:$AC,0),1))","v":""},{"$f":"IF(BM239=\"\",\"\",INDEX(referentes!AE:AF,MATCH(BM239,referentes!$AF:$AF,0),1))","v":""},{"$f":"IF(BB239=\"\",\"\",INDEX(referentes!M:N,MATCH(BB239,referentes!$N:$N,0),1))","v":""},{"$f":"IF(BQ239=\"\",\"\",INDEX('Otras referencias'!S:T,MATCH(BQ239,'Otras referencias'!$T:$T,0),1))","v":""},{"$f":"IF(BN239=\"\",\"\",INDEX('Otras referencias'!A:B,MATCH(BN239,'Otras referencias'!$B:$B,0),1))","v":""},""]
[1,"",{"$f":"IF(E240<>\"\",CONCATENATE(DIGITADOR!$M$1,TEXT(D240, \"YYYYMMDD\"),ROW()-5),\"\")","v":""},null,null,"",{"$f":"IF(H240=\"\",\"\",INDEX(referentes!AQ:AR,MATCH(H240,referentes!$AR:$AR,0),1))","v":""},null,{"$f":"IF(J240=\"\",\"\",VLOOKUP(J240,referentes!$AL$2:$AO$29,3,FALSE))","v":""},null,null,null,null,null,null,null,null,null,null,null,null,"",null,null,null,null,null,null,null,null,null,null,null,null,null,null,null,null,null,null,null,null,null,null,null,null,null,{"$f":"IF(AW240=\"\",\"\",DIGITADOR!$B$14)","v":""},"",null,null,null,"",null,null,null,null,null,null,null,null,null,null,null,null,null,null,null,null,null,null,"",{"$f":"IF(C240=\"\",\"\",IF(COUNTIF($C$6:C240, C240)>1, \"\", C240))","v":""},{"$f":"IF(N240=\"\",\"\",INDEX(referentes!P:Q,MATCH(N240,referentes!$Q:$Q,0),1))","v":""},{"$f":"IF(O240=\"\",\"\",INDEX(referentes!$A:$B,MATCH(O240,referentes!$B:$B,0),1))","v":""},{"$f":"IF(S240=\"\",\"\",INDEX(referentes!D:E,MATCH(S240,referentes!$E:$E,0),1))","v":""},{"$f":"IF(T240=\"\",\"\",INDEX(referentes!G:H,MATCH(T240,referentes!$H:$H,0),1))","v":""},"",{"$f":"IF(Y240=\"\",\"\",INDEX(referentes!S:T,MATCH(Y240,referentes!$T:$T,0),1))","v":""},{"$f":"IF(BO240=\"\",\"\",INDEX(referentes!J:K,MATCH(BO240,referentes!$K:$K,0),1))","v":""},{"$f":"IF(BJ240=\"\",\"\",INDEX(referentes!V:W,MATCH(BJ240,referentes!$W:$W,0),1))","v":""},{"$f":"IF(BK240=\"\",\"\",INDEX(referentes!Y:Z,MATCH(BK240,referentes!$Z:$Z,0),1))","v":""},{"$f":"IF(BL240=\"\",\"\",INDEX(referentes!AB:AC,MATCH(BL240,referentes!$AC:$AC,0),1))","v":""},{"$f":"IF(BM240=\"\",\"\",INDEX(referentes!AE:AF,MATCH(BM240,referentes!$AF:$AF,0),1))","v":""},{"$f":"IF(BB240=\"\",\"\",INDEX(referentes!M:N,MATCH(BB240,referentes!$N:$N,0),1))","v":""},{"$f":"IF(BQ240=\"\",\"\",INDEX('Otras referencias'!S:T,MATCH(BQ240,'Otras referencias'!$T:$T,0),1))","v":""},{"$f":"IF(BN240=\"\",\"\",INDEX('Otras referencias'!A:B,MATCH(BN240,'Otras referencias'!$B:$B,0),1))","v":""},""]
[1,"",{"$f":"IF(E241<>\"\",CONCATENATE(DIGITADOR!$M$1,TEXT(D241, \"YYYYMMDD\"),ROW()-5),\"\")","v":""},null,null,"",{"$f":"IF(H241=\"\",\"\",INDEX(referentes!AQ:AR,MATCH(H241,referentes!$AR:$AR,0),1))","v":""},null,{"$f":"IF(J241=\"\",\"\",VLOOKUP(J241,referentes!$AL$2:$AO$29,3,FALSE))","v":""},null,null,null,null,null,null,null,null,null,null,null,null,"",null,null,null,null,null,null,null,null,null,null,null,null,null,null,null,null,null,null,null,null,null,null,null,null,null,{"$f":"IF(AW241=\"\",\"\",DIGITADOR!$B$14)","v":""},"",null,null,null,"",null,null,null,null,null,null,null,null,null,null,null,null,null,null,null,null,null,null,"",{"$f":"IF(C241=\"\",\"\",IF(COUNTIF($C$6:C241, C241)>1, \"\", C241))","v":""},{"$f":"IF(N241=\"\",\"\",INDEX(referentes!P:Q,MATCH(N241,referentes!$Q:$Q,0),1))","v":""},{"$f":"IF(O241=\"\",\"\",INDEX(referentes!$A:$B,MATCH(O241,referentes!$B:$B,0),1))","v":""},{"$f":"IF(S241=\"\",\"\",INDEX(referentes!D:E,MATCH(S241,referentes!$E:$E,0),1))","v":""},{"$f":"IF(T241=\"\",\"\",INDEX(referentes!G:H,MATCH(T241,referentes!$H:$H,0),1))","v":""},"",{"$f":"IF(Y241=\"\",\"\",INDEX(referentes!S:T,MATCH(Y241,referentes!$T:$T,0),1))","v":""},{"$f":"IF(BO241=\"\",\"\",INDEX(referentes!J:K,MATCH(BO241,referentes!$K:$K,0),1))","v":""},{"$f":"IF(BJ241=\"\",\"\",INDEX(referentes!V:W,MATCH(BJ241,referentes!$W:$W,0),1))","v":""},{"$f":"IF(BK241=\"\",\"\",INDEX(referentes!Y:Z,MATCH(BK241,referentes!$Z:$Z,0),1))","v":""},{"$f":"IF(BL241=\"\",\"\",INDEX(referentes!AB:AC,MATCH(BL241,referentes!$AC:$AC,0),1))","v":""},{"$f":"IF(BM241=\"\",\"\",INDEX(referentes!AE:AF,MATCH(BM241,referentes!$AF:$AF,0),1))","v":""},{"$f":"IF(BB241=\"\",\"\",INDEX(referentes!M:N,MATCH(BB241,referentes!$N:$N,0),1))","v":""},{"$f":"IF(BQ241=\"\",\"\",INDEX('Otras referencias'!S:T,MATCH(BQ241,'Otras referencias'!$T:$T,0),1))","v":""},{"$f":"IF(BN241=\"\",\"\",INDEX('Otras referencias'!A:B,MATCH(BN241,'Otras referencias'!$B:$B,0),1))","v":""},""]
[1,"",{"$f":"IF(E242<>\"\",CONCATENATE(DIGITADOR!$M$1,TEXT(D242, \"YYYYMMDD\"),ROW()-5),\"\")","v":""},null,null,"",{"$f":"IF(H242=\"\",\"\",INDEX(referentes!AQ:AR,MATCH(H242,referentes!$AR:$AR,0),1))","v":""},null,{"$f":"IF(J242=\"\",\"\",VLOOKUP(J242,referentes!$AL$2:$AO$29,3,FALSE))","v":""},null,null,null,null,null,null,null,null,null,null,null,null,"",null,null,null,null,null,null,null,null,null,null,null,null,null,null,null,null,null,null,null,null,null,null,null,null,null,{"$f":"IF(AW242=\"\",\"\",DIGITADOR!$B$14)","v":""},"",null,null,null,"",null,null,null,null,null,null,null,null,null,null,null,null,null,null,null,null,null,null,"",{"$f":"IF(C242=\"\",\"\",IF(COUNTIF($C$6:C242, C242)>1, \"\", C242))","v":""},{"$f":"IF(N242=\"\",\"\",INDEX(referentes!P:Q,MATCH(N242,referentes!$Q:$Q,0),1))","v":""},{"$f":"IF(O242=\"\",\"\",INDEX(referentes!$A:$B,MATCH(O242,referentes!$B:$B,0),1))","v":""},{"$f":"IF(S242=\"\",\"\",INDEX(referentes!D:E,MATCH(S242,referentes!$E:$E,0),1))","v":""},{"$f":"IF(T242=\"\",\"\",INDEX(referentes!G:H,MATCH(T242,referentes!$H:$H,0),1))","v":""},"",{"$f":"IF(Y242=\"\",\"\",INDEX(referentes!S:T,MATCH(Y242,referentes!$T:$T,0),1))","v":""},{"$f":"IF(BO242=\"\",\"\",INDEX(referentes!J:K,MATCH(BO242,referentes!$K:$K,0),1))","v":""},{"$f":"IF(BJ242=\"\",\"\",INDEX(referentes!V:W,MATCH(BJ242,referentes!$W:$W,0),1))","v":""},{"$f":"IF(BK242=\"\",\"\",INDEX(referentes!Y:Z,MATCH(BK242,referentes!$Z:$Z,0),1))","v":""},{"$f":"IF(BL242=\"\",\"\",INDEX(referentes!AB:AC,MATCH(BL242,referentes!$AC:$AC,0),1))","v":""},{"$f":"IF(BM242=\"\",\"\",INDEX(referentes!AE:AF,MATCH(BM242,referentes!$AF:$AF,0),1))","v":""},{"$f":"IF(BB242=\"\",\"\",INDEX(referentes!M:N,MATCH(BB242,referentes!$N:$N,0),1))","v":""},{"$f":"IF(BQ242=\"\",\"\",INDEX('Otras referencias'!S:T,MATCH(BQ242,'Otras referencias'!$T:$T,0),1))","v":""},{"$f":"IF(BN242=\"\",\"\",INDEX('Otras referencias'!A:B,MATCH(BN242,'Otras referencias'!$B:$B,0),1))","v":""},""]
[1,"",{"$f":"IF(E243<>\"\",CONCATENATE(DIGITADOR!$M$1,TEXT(D243, \"YYYYMMDD\"),ROW()-5),\"\")","v":""},null,null,"",{"$f":"IF(H243=\"\",\"\",INDEX(referentes!AQ:AR,MATCH(H243,referentes!$AR:$AR,0),1))","v":""},null,{"$f":"IF(J243=\"\",\"\",VLOOKUP(J243,referentes!$AL$2:$AO$29,3,FALSE))","v":""},null,null,null,null,null,null,null,null,null,null,null,null,"",null,null,null,null,null,null,null,null,null,null,null,null,null,null,null,null,null,null,null,null,null,null,null,null,null,{"$f":"IF(AW243=\"\",\"\",DIGITADOR!$B$14)","v":""},"",null,null,null,"",null,null,null,null,null,null,null,null,null,null,null,null,null,null,null,null,null,null,"",{"$f":"IF(C243=\"\",\"\",IF(COUNTIF($C$6:C243, C243)>1, \"\", C243))","v":""},{"$f":"IF(N243=\"\",\"\",INDEX(referentes!P:Q,MATCH(N243,referentes!$Q:$Q,0),1))","v":""},{"$f":"IF(O243=\"\",\"\",INDEX(referentes!$A:$B,MATCH(O243,referentes!$B:$B,0),1))","v":""},{"$f":"IF(S243=\"\",\"\",INDEX(referentes!D:E,MATCH(S243,referentes!$E:$E,0),1))","v":""},{"$f":"IF(T243=\"\",\"\",INDEX(referentes!G:H,MATCH(T243,referentes!$H:$H,0),1))","v":""},"",{"$f":"IF(Y243=\"\",\"\",INDEX(referentes!S:T,MATCH(Y243,referentes!$T:$T,0),1))","v":""},{"$f":"IF(BO243=\"\",\"\",INDEX(referentes!J:K,MATCH(BO243,referentes!$K:$K,0),1))","v":""},{"$f":"IF(BJ243=\"\",\"\",INDEX(referentes!V:W,MATCH(BJ243,referentes!$W:$W,0),1))","v":""},{"$f":"IF(BK243=\"\",\"\",INDEX(referentes!Y:Z,MATCH(BK243,referentes!$Z:$Z,0),1))","v":""},{"$f":"IF(BL243=\"\",\"\",INDEX(referentes!AB:AC,MATCH(BL243,referentes!$AC:$AC,0),1))","v":""},{"$f":"IF(BM243=\"\",\"\",INDEX(referentes!AE:AF,MATCH(BM243,referentes!$AF:$AF,0),1))","v":""},{"$f":"IF(BB243=\"\",\"\",INDEX(referentes!M:N,MATCH(BB243,referentes!$N:$N,0),1))","v":""},{"$f":"IF(BQ243=\"\",\"\",INDEX('Otras referencias'!S:T,MATCH(BQ243,'Otras referencias'!$T:$T,0),1))","v":""},{"$f":"IF(BN243=\"\",\"\",INDEX('Otras referencias'!A:B,MATCH(BN243,'Otras referencias'!$B:$B,0),1))","v":""},""]
[1,"",{"$f":"IF(E244<>\"\",CONCATENATE(DIGITADOR!$M$1,TEXT(D244, \"YYYYMMDD\"),ROW()-5),\"\")","v":""},null,null,"",{"$f":"IF(H244=\"\",\"\",INDEX(referentes!AQ:AR,MATCH(H244,referentes!$AR:$AR,0),1))","v":""},null,{"$f":"IF(J244=\"\",\"\",VLOOKUP(J244,referentes!$AL$2:$AO$29,3,FALSE))","v":""},null,null,null,null,null,null,null,null,null,null,null,null,"",null,null,null,null,null,null,null,null,null,null,null,null,null,null,null,null,null,null,null,null,null,null,null,null,null,{"$f":"IF(AW244=\"\",\"\",DIGITADOR!$B$14)","v":""},"",null,null,null,"",null,null,null,null,null,null,null,null,null,null,null,null,null,null,null,null,null,null,"",{"$f":"IF(C244=\"\",\"\",IF(COUNTIF($C$6:C244, C244)>1, \"\", C244))","v":""},{"$f":"IF(N244=\"\",\"\",INDEX(referentes!P:Q,MATCH(N244,referentes!$Q:$Q,0),1))","v":""},{"$f":"IF(O244=\"\",\"\",INDEX(referentes!$A:$B,MATCH(O244,referentes!$B:$B,0),1))","v":""},{"$f":"IF(S244=\"\",\"\",INDEX(referentes!D:E,MATCH(S244,referentes!$E:$E,0),1))","v":""},{"$f":"IF(T244=\"\",\"\",INDEX(referentes!G:H,MATCH(T244,referentes!$H:$H,0),1))","v":""},"",{"$f":"IF(Y244=\"\",\"\",INDEX(referentes!S:T,MATCH(Y244,referentes!$T:$T,0),1))","v":""},{"$f":"IF(BO244=\"\",\"\",INDEX(referentes!J:K,MATCH(BO244,referentes!$K:$K,0),1))","v":""},{"$f":"IF(BJ244=\"\",\"\",INDEX(referentes!V:W,MATCH(BJ244,referentes!$W:$W,0),1))","v":""},{"$f":"IF(BK244=\"\",\"\",INDEX(referentes!Y:Z,MATCH(BK244,referentes!$Z:$Z,0),1))","v":""},{"$f":"IF(BL244=\"\",\"\",INDEX(referentes!AB:AC,MATCH(BL244,referentes!$AC:$AC,0),1))","v":""},{"$f":"IF(BM244=\"\",\"\",INDEX(referentes!AE:AF,MATCH(BM244,referentes!$AF:$AF,0),1))","v":""},{"$f":"IF(BB244=\"\",\"\",INDEX(referentes!M:N,MATCH(BB244,referentes!$N:$N,0),1))","v":""},{"$f":"IF(BQ244=\"\",\"\",INDEX('Otras referencias'!S:T,MATCH(BQ244,'Otras referencias'!$T:$T,0),1))","v":""},{"$f":"IF(BN244=\"\",\"\",INDEX('Otras referencias'!A:B,MATCH(BN244,'Otras referencias'!$B:$B,0),1))","v":""},""]
[1,"",{"$f":"IF(E245<>\"\",CONCATENATE(DIGITADOR!$M$1,TEXT(D245, \"YYYYMMDD\"),ROW()-5),\"\")","v":""},null,null,"",{"$f":"IF(H245=\"\",\"\",INDEX(referentes!AQ:AR,MATCH(H245,referentes!$AR:$AR,0),1))","v":""},null,{"$f":"IF(J245=\"\",\"\",VLOOKUP(J245,referentes!$AL$2:$AO$29,3,FALSE))","v":""},null,null,null,null,null,null,null,null,null,null,null,null,"",null,null,null,null,null,null,null,null,null,null,null,null,null,null,null,null,null,null,null,null,null,null,null,null,null,{"$f":"IF(AW245=\"\",\"\",DIGITADOR!$B$14)","v":""},"",null,null,null,"",null,null,null,null,null,null,null,null,null,null,null,null,null,null,null,null,null,null,"",{"$f":"IF(C245=\"\",\"\",IF(COUNTIF($C$6:C245, C245)>1, \"\", C245))","v":""},{"$f":"IF(N245=\"\",\"\",INDEX(referentes!P:Q,MATCH(N245,referentes!$Q:$Q,0),1))","v":""},{"$f":"IF(O245=\"\",\"\",INDEX(referentes!$A:$B,MATCH(O245,referentes!$B:$B,0),1))","v":""},{"$f":"IF(S245=\"\",\"\",INDEX(referentes!D:E,MATCH(S245,referentes!$E:$E,0),1))","v":""},{"$f":"IF(T245=\"\",\"\",INDEX(referentes!G:H,MATCH(T245,referentes!$H:$H,0),1))","v":""},"",{"$f":"IF(Y245=\"\",\"\",INDEX(referentes!S:T,MATCH(Y245,referentes!$T:$T,0),1))","v":""},{"$f":"IF(BO245=\"\",\"\",INDEX(referentes!J:K,MATCH(BO245,referentes!$K:$K,0),1))","v":""},{"$f":"IF(BJ245=\"\",\"\",INDEX(referentes!V:W,MATCH(BJ245,referentes!$W:$W,0),1))","v":""},{"$f":"IF(BK245=\"\",\"\",INDEX(referentes!Y:Z,MATCH(BK245,referentes!$Z:$Z,0),1))","v":""},{"$f":"IF(BL245=\"\",\"\",INDEX(referentes!AB:AC,MATCH(BL245,referentes!$AC:$AC,0),1))","v":""},{"$f":"IF(BM245=\"\",\"\",INDEX(referentes!AE:AF,MATCH(BM245,referentes!$AF:$AF,0),1))","v":""},{"$f":"IF(BB245=\"\",\"\",INDEX(referentes!M:N,MATCH(BB245,referentes!$N:$N,0),1))","v":""},{"$f":"IF(BQ245=\"\",\"\",INDEX('Otras referencias'!S:T,MATCH(BQ245,'Otras referencias'!$T:$T,0),1))","v":""},{"$f":"IF(BN245=\"\",\"\",INDEX('Otras referencias'!A:B,MATCH(BN245,'Otras referencias'!$B:$B,0),1))","v":""},""]
[1,"",{"$f":"IF(E246<>\"\",CONCATENATE(DIGITADOR!$M$1,TEXT(D246, \"YYYYMMDD\"),ROW()-5),\"\")","v":""},null,null,"",{"$f":"IF(H246=\"\",\"\",INDEX(referentes!AQ:AR,MATCH(H246,referentes!$AR:$AR,0),1))","v":""},null,{"$f":"IF(J246=\"\",\"\",VLOOKUP(J246,referentes!$AL$2:$AO$29,3,FALSE))","v":""},null,null,null,null,null,null,null,null,null,null,null,null,"",null,null,null,null,null,null,null,null,null,null,null,null,null,null,null,null,null,null,null,null,null,null,null,null,null,{"$f":"IF(AW246=\"\",\"\",DIGITADOR!$B$14)","v":""},"",null,null,null,"",null,null,null,null,null,null,null,null,null,null,null,null,null,null,null,null,null,null,"",{"$f":"IF(C246=\"\",\"\",IF(COUNTIF($C$6:C246, C246)>1, \"\", C246))","v":""},{"$f":"IF(N246=\"\",\"\",INDEX(referentes!P:Q,MATCH(N246,referentes!$Q:$Q,0),1))","v":""},{"$f":"IF(O246=\"\",\"\",INDEX(referentes!$A:$B,MATCH(O246,referentes!$B:$B,0),1))","v":""},{"$f":"IF(S246=\"\",\"\",INDEX(referentes!D:E,MATCH(S246,referentes!$E:$E,0),1))","v":""},{"$f":"IF(T246=\"\",\"\",INDEX(referentes!G:H,MATCH(T246,referentes!$H:$H,0),1))","v":""},"",{"$f":"IF(Y246=\"\",\"\",INDEX(referentes!S:T,MATCH(Y246,referentes!$T:$T,0),1))","v":""},{"$f":"IF(BO246=\"\",\"\",INDEX(referentes!J:K,MATCH(BO246,referentes!$K:$K,0),1))","v":""},{"$f":"IF(BJ246=\"\",\"\",INDEX(referentes!V:W,MATCH(BJ246,referentes!$W:$W,0),1))","v":""},{"$f":"IF(BK246=\"\",\"\",INDEX(referentes!Y:Z,MATCH(BK246,referentes!$Z:$Z,0),1))","v":""},{"$f":"IF(BL246=\"\",\"\",INDEX(referentes!AB:AC,MATCH(BL246,referentes!$AC:$AC,0),1))","v":""},{"$f":"IF(BM246=\"\",\"\",INDEX(referentes!AE:AF,MATCH(BM246,referentes!$AF:$AF,0),1))","v":""},{"$f":"IF(BB246=\"\",\"\",INDEX(referentes!M:N,MATCH(BB246,referentes!$N:$N,0),1))","v":""},{"$f":"IF(BQ246=\"\",\"\",INDEX('Otras referencias'!S:T,MATCH(BQ246,'Otras referencias'!$T:$T,0),1))","v":""},{"$f":"IF(BN246=\"\",\"\",INDEX('Otras referencias'!A:B,MATCH(BN246,'Otras referencias'!$B:$B,0),1))","v":""},""]
[1,"",{"$f":"IF(E247<>\"\",CONCATENATE(DIGITADOR!$M$1,TEXT(D247, \"YYYYMMDD\"),ROW()-5),\"\")","v":""},null,null,"",{"$f":"IF(H247=\"\",\"\",INDEX(referentes!AQ:AR,MATCH(H247,referentes!$AR:$AR,0),1))","v":""},null,{"$f":"IF(J247=\"\",\"\",VLOOKUP(J247,referentes!$AL$2:$AO$29,3,FALSE))","v":""},null,null,null,null,null,null,null,null,null,null,null,null,"",null,null,null,null,null,null,null,null,null,null,null,null,null,null,null,null,null,null,null,null,null,null,null,null,null,{"$f":"IF(AW247=\"\",\"\",DIGITADOR!$B$14)","v":""},"",null,null,null,"",null,null,null,null,null,null,null,null,null,null,null,null,null,null,null,null,null,null,"",{"$f":"IF(C247=\"\",\"\",IF(COUNTIF($C$6:C247, C247)>1, \"\", C247))","v":""},{"$f":"IF(N247=\"\",\"\",INDEX(referentes!P:Q,MATCH(N247,referentes!$Q:$Q,0),1))","v":""},{"$f":"IF(O247=\"\",\"\",INDEX(referentes!$A:$B,MATCH(O247,referentes!$B:$B,0),1))","v":""},{"$f":"IF(S247=\"\",\"\",INDEX(referentes!D:E,MATCH(S247,referentes!$E:$E,0),1))","v":""},{"$f":"IF(T247=\"\",\"\",INDEX(referentes!G:H,MATCH(T247,referentes!$H:$H,0),1))","v":""},"",{"$f":"IF(Y247=\"\",\"\",INDEX(referentes!S:T,MATCH(Y247,referentes!$T:$T,0),1))","v":""},{"$f":"IF(BO247=\"\",\"\",INDEX(referentes!J:K,MATCH(BO247,referentes!$K:$K,0),1))","v":""},{"$f":"IF(BJ247=\"\",\"\",INDEX(referentes!V:W,MATCH(BJ247,referentes!$W:$W,0),1))","v":""},{"$f":"IF(BK247=\"\",\"\",INDEX(referentes!Y:Z,MATCH(BK247,referentes!$Z:$Z,0),1))","v":""},{"$f":"IF(BL247=\"\",\"\",INDEX(referentes!AB:AC,MATCH(BL247,referentes!$AC:$AC,0),1))","v":""},{"$f":"IF(BM247=\"\",\"\",INDEX(referentes!AE:AF,MATCH(BM247,referentes!$AF:$AF,0),1))","v":""},{"$f":"IF(BB247=\"\",\"\",INDEX(referentes!M:N,MATCH(BB247,referentes!$N:$N,0),1))","v":""},{"$f":"IF(BQ247=\"\",\"\",INDEX('Otras referencias'!S:T,MATCH(BQ247,'Otras referencias'!$T:$T,0),1))","v":""},{"$f":"IF(BN247=\"\",\"\",INDEX('Otras referencias'!A:B,MATCH(BN247,'Otras referencias'!$B:$B,0),1))","v":""},""]
[1,"",{"$f":"IF(E248<>\"\",CONCATENATE(DIGITADOR!$M$1,TEXT(D248, \"YYYYMMDD\"),ROW()-5),\"\")","v":""},null,null,"",{"$f":"IF(H248=\"\",\"\",INDEX(referentes!AQ:AR,MATCH(H248,referentes!$AR:$AR,0),1))","v":""},null,{"$f":"IF(J248=\"\",\"\",VLOOKUP(J248,referentes!$AL$2:$AO$29,3,FALSE))","v":""},null,null,null,null,null,null,null,null,null,null,null,null,"",null,null,null,null,null,null,null,null,null,null,null,null,null,null,null,null,null,null,null,null,null,null,null,null,null,{"$f":"IF(AW248=\"\",\"\",DIGITADOR!$B$14)","v":""},"",null,null,null,"",null,null,null,null,null,null,null,null,null,null,null,null,null,null,null,null,null,null,"",{"$f":"IF(C248=\"\",\"\",IF(COUNTIF($C$6:C248, C248)>1, \"\", C248))","v":""},{"$f":"IF(N248=\"\",\"\",INDEX(referentes!P:Q,MATCH(N248,referentes!$Q:$Q,0),1))","v":""},{"$f":"IF(O248=\"\",\"\",INDEX(referentes!$A:$B,MATCH(O248,referentes!$B:$B,0),1))","v":""},{"$f":"IF(S248=\"\",\"\",INDEX(referentes!D:E,MATCH(S248,referentes!$E:$E,0),1))","v":""},{"$f":"IF(T248=\"\",\"\",INDEX(referentes!G:H,MATCH(T248,referentes!$H:$H,0),1))","v":""},"",{"$f":"IF(Y248=\"\",\"\",INDEX(referentes!S:T,MATCH(Y248,referentes!$T:$T,0),1))","v":""},{"$f":"IF(BO248=\"\",\"\",INDEX(referentes!J:K,MATCH(BO248,referentes!$K:$K,0),1))","v":""},{"$f":"IF(BJ248=\"\",\"\",INDEX(referentes!V:W,MATCH(BJ248,referentes!$W:$W,0),1))","v":""},{"$f":"IF(BK248=\"\",\"\",INDEX(referentes!Y:Z,MATCH(BK248,referentes!$Z:$Z,0),1))","v":""},{"$f":"IF(BL248=\"\",\"\",INDEX(referentes!AB:AC,MATCH(BL248,referentes!$AC:$AC,0),1))","v":""},{"$f":"IF(BM248=\"\",\"\",INDEX(referentes!AE:AF,MATCH(BM248,referentes!$AF:$AF,0),1))","v":""},{"$f":"IF(BB248=\"\",\"\",INDEX(referentes!M:N,MATCH(BB248,referentes!$N:$N,0),1))","v":""},{"$f":"IF(BQ248=\"\",\"\",INDEX('Otras referencias'!S:T,MATCH(BQ248,'Otras referencias'!$T:$T,0),1))","v":""},{"$f":"IF(BN248=\"\",\"\",INDEX('Otras referencias'!A:B,MATCH(BN248,'Otras referencias'!$B:$B,0),1))","v":""},""]
[1,"",{"$f":"IF(E249<>\"\",CONCATENATE(DIGITADOR!$M$1,TEXT(D249, \"YYYYMMDD\"),ROW()-5),\"\")","v":""},null,null,"",{"$f":"IF(H249=\"\",\"\",INDEX(referentes!AQ:AR,MATCH(H249,referentes!$AR:$AR,0),1))","v":""},null,{"$f":"IF(J249=\"\",\"\",VLOOKUP(J249,referentes!$AL$2:$AO$29,3,FALSE))","v":""},null,null,null,null,null,null,null,null,null,null,null,null,"",null,null,null,null,null,null,null,null,null,null,null,null,null,null,null,null,null,null,null,null,null,null,null,null,null,{"$f":"IF(AW249=\"\",\"\",DIGITADOR!$B$14)","v":""},"",null,null,null,"",null,null,null,null,null,null,null,null,null,null,null,null,null,null,null,null,null,null,"",{"$f":"IF(C249=\"\",\"\",IF(COUNTIF($C$6:C249, C249)>1, \"\", C249))","v":""},{"$f":"IF(N249=\"\",\"\",INDEX(referentes!P:Q,MATCH(N249,referentes!$Q:$Q,0),1))","v":""},{"$f":"IF(O249=\"\",\"\",INDEX(referentes!$A:$B,MATCH(O249,referentes!$B:$B,0),1))","v":""},{"$f":"IF(S249=\"\",\"\",INDEX(referentes!D:E,MATCH(S249,referentes!$E:$E,0),1))","v":""},{"$f":"IF(T249=\"\",\"\",INDEX(referentes!G:H,MATCH(T249,referentes!$H:$H,0),1))","v":""},"",{"$f":"IF(Y249=\"\",\"\",INDEX(referentes!S:T,MATCH(Y249,referentes!$T:$T,0),1))","v":""},{"$f":"IF(BO249=\"\",\"\",INDEX(referentes!J:K,MATCH(BO249,referentes!$K:$K,0),1))","v":""},{"$f":"IF(BJ249=\"\",\"\",INDEX(referentes!V:W,MATCH(BJ249,referentes!$W:$W,0),1))","v":""},{"$f":"IF(BK249=\"\",\"\",INDEX(referentes!Y:Z,MATCH(BK249,referentes!$Z:$Z,0),1))","v":""},{"$f":"IF(BL249=\"\",\"\",INDEX(referentes!AB:AC,MATCH(BL249,referentes!$AC:$AC,0),1))","v":""},{"$f":"IF(BM249=\"\",\"\",INDEX(referentes!AE:AF,MATCH(BM249,referentes!$AF:$AF,0),1))","v":""},{"$f":"IF(BB249=\"\",\"\",INDEX(referentes!M:N,MATCH(BB249,referentes!$N:$N,0),1))","v":""},{"$f":"IF(BQ249=\"\",\"\",INDEX('Otras referencias'!S:T,MATCH(BQ249,'Otras referencias'!$T:$T,0),1))","v":""},{"$f":"IF(BN249=\"\",\"\",INDEX('Otras referencias'!A:B,MATCH(BN249,'Otras referencias'!$B:$B,0),1))","v":""},""]
[1,"",{"$f":"IF(E250<>\"\",CONCATENATE(DIGITADOR!$M$1,TEXT(D250, \"YYYYMMDD\"),ROW()-5),\"\")","v":""},null,null,"",{"$f":"IF(H250=\"\",\"\",INDEX(referentes!AQ:AR,MATCH(H250,referentes!$AR:$AR,0),1))","v":""},null,{"$f":"IF(J250=\"\",\"\",VLOOKUP(J250,referentes!$AL$2:$AO$29,3,FALSE))","v":""},null,null,null,null,null,null,null,null,null,null,null,null,"",null,null,null,null,null,null,null,null,null,null,null,null,null,null,null,null,null,null,null,null,null,null,null,null,null,{"$f":"IF(AW250=\"\",\"\",DIGITADOR!$B$14)","v":""},"",null,null,null,"",null,null,null,null,null,null,null,null,null,null,null,null,null,null,null,null,null,null,"",{"$f":"IF(C250=\"\",\"\",IF(COUNTIF($C$6:C250, C250)>1, \"\", C250))","v":""},{"$f":"IF(N250=\"\",\"\",INDEX(referentes!P:Q,MATCH(N250,referentes!$Q:$Q,0),1))","v":""},{"$f":"IF(O250=\"\",\"\",INDEX(referentes!$A:$B,MATCH(O250,referentes!$B:$B,0),1))","v":""},{"$f":"IF(S250=\"\",\"\",INDEX(referentes!D:E,MATCH(S250,referentes!$E:$E,0),1))","v":""},{"$f":"IF(T250=\"\",\"\",INDEX(referentes!G:H,MATCH(T250,referentes!$H:$H,0),1))","v":""},"",{"$f":"IF(Y250=\"\",\"\",INDEX(referentes!S:T,MATCH(Y250,referentes!$T:$T,0),1))","v":""},{"$f":"IF(BO250=\"\",\"\",INDEX(referentes!J:K,MATCH(BO250,referentes!$K:$K,0),1))","v":""},{"$f":"IF(BJ250=\"\",\"\",INDEX(referentes!V:W,MATCH(BJ250,referentes!$W:$W,0),1))","v":""},{"$f":"IF(BK250=\"\",\"\",INDEX(referentes!Y:Z,MATCH(BK250,referentes!$Z:$Z,0),1))","v":""},{"$f":"IF(BL250=\"\",\"\",INDEX(referentes!AB:AC,MATCH(BL250,referentes!$AC:$AC,0),1))","v":""},{"$f":"IF(BM250=\"\",\"\",INDEX(referentes!AE:AF,MATCH(BM250,referentes!$AF:$AF,0),1))","v":""},{"$f":"IF(BB250=\"\",\"\",INDEX(referentes!M:N,MATCH(BB250,referentes!$N:$N,0),1))","v":""},{"$f":"IF(BQ250=\"\",\"\",INDEX('Otras referencias'!S:T,MATCH(BQ250,'Otras referencias'!$T:$T,0),1))","v":""},{"$f":"IF(BN250=\"\",\"\",INDEX('Otras referencias'!A:B,MATCH(BN250,'Otras referencias'!$B:$B,0),1))","v":""},""]
[1,"",{"$f":"IF(E251<>\"\",CONCATENATE(DIGITADOR!$M$1,TEXT(D251, \"YYYYMMDD\"),ROW()-5),\"\")","v":""},null,null,"",{"$f":"IF(H251=\"\",\"\",INDEX(referentes!AQ:AR,MATCH(H251,referentes!$AR:$AR,0),1))","v":""},null,{"$f":"IF(J251=\"\",\"\",VLOOKUP(J251,referentes!$AL$2:$AO$29,3,FALSE))","v":""},null,null,null,null,null,null,null,null,null,null,null,null,"",null,null,null,null,null,null,null,null,null,null,null,null,null,null,null,null,null,null,null,null,null,null,null,null,null,{"$f":"IF(AW251=\"\",\"\",DIGITADOR!$B$14)","v":""},"",null,null,null,"",null,null,null,null,null,null,null,null,null,null,null,null,null,null,null,null,null,null,"",{"$f":"IF(C251=\"\",\"\",IF(COUNTIF($C$6:C251, C251)>1, \"\", C251))","v":""},{"$f":"IF(N251=\"\",\"\",INDEX(referentes!P:Q,MATCH(N251,referentes!$Q:$Q,0),1))","v":""},{"$f":"IF(O251=\"\",\"\",INDEX(referentes!$A:$B,MATCH(O251,referentes!$B:$B,0),1))","v":""},{"$f":"IF(S251=\"\",\"\",INDEX(referentes!D:E,MATCH(S251,referentes!$E:$E,0),1))","v":""},{"$f":"IF(T251=\"\",\"\",INDEX(referentes!G:H,MATCH(T251,referentes!$H:$H,0),1))","v":""},"",{"$f":"IF(Y251=\"\",\"\",INDEX(referentes!S:T,MATCH(Y251,referentes!$T:$T,0),1))","v":""},{"$f":"IF(BO251=\"\",\"\",INDEX(referentes!J:K,MATCH(BO251,referentes!$K:$K,0),1))","v":""},{"$f":"IF(BJ251=\"\",\"\",INDEX(referentes!V:W,MATCH(BJ251,referentes!$W:$W,0),1))","v":""},{"$f":"IF(BK251=\"\",\"\",INDEX(referentes!Y:Z,MATCH(BK251,referentes!$Z:$Z,0),1))","v":""},{"$f":"IF(BL251=\"\",\"\",INDEX(referentes!AB:AC,MATCH(BL251,referentes!$AC:$AC,0),1))","v":""},{"$f":"IF(BM251=\"\",\"\",INDEX(referentes!AE:AF,MATCH(BM251,referentes!$AF:$AF,0),1))","v":""},{"$f":"IF(BB251=\"\",\"\",INDEX(referentes!M:N,MATCH(BB251,referentes!$N:$N,0),1))","v":""},{"$f":"IF(BQ251=\"\",\"\",INDEX('Otras referencias'!S:T,MATCH(BQ251,'Otras referencias'!$T:$T,0),1))","v":""},{"$f":"IF(BN251=\"\",\"\",INDEX('Otras referencias'!A:B,MATCH(BN251,'Otras referencias'!$B:$B,0),1))","v":""},""]
[1,"",{"$f":"IF(E252<>\"\",CONCATENATE(DIGITADOR!$M$1,TEXT(D252, \"YYYYMMDD\"),ROW()-5),\"\")","v":""},null,null,"",{"$f":"IF(H252=\"\",\"\",INDEX(referentes!AQ:AR,MATCH(H252,referentes!$AR:$AR,0),1))","v":""},null,{"$f":"IF(J252=\"\",\"\",VLOOKUP(J252,referentes!$AL$2:$AO$29,3,FALSE))","v":""},null,null,null,null,null,null,null,null,null,null,null,null,"",null,null,null,null,null,null,null,null,null,null,null,null,null,null,null,null,null,null,null,null,null,null,null,null,null,{"$f":"IF(AW252=\"\",\"\",DIGITADOR!$B$14)","v":""},"",null,null,null,"",null,null,null,null,null,null,null,null,null,null,null,null,null,null,null,null,null,null,"",{"$f":"IF(C252=\"\",\"\",IF(COUNTIF($C$6:C252, C252)>1, \"\", C252))","v":""},{"$f":"IF(N252=\"\",\"\",INDEX(referentes!P:Q,MATCH(N252,referentes!$Q:$Q,0),1))","v":""},{"$f":"IF(O252=\"\",\"\",INDEX(referentes!$A:$B,MATCH(O252,referentes!$B:$B,0),1))","v":""},{"$f":"IF(S252=\"\",\"\",INDEX(referentes!D:E,MATCH(S252,referentes!$E:$E,0),1))","v":""},{"$f":"IF(T252=\"\",\"\",INDEX(referentes!G:H,MATCH(T252,referentes!$H:$H,0),1))","v":""},"",{"$f":"IF(Y252=\"\",\"\",INDEX(referentes!S:T,MATCH(Y252,referentes!$T:$T,0),1))","v":""},{"$f":"IF(BO252=\"\",\"\",INDEX(referentes!J:K,MATCH(BO252,referentes!$K:$K,0),1))","v":""},{"$f":"IF(BJ252=\"\",\"\",INDEX(referentes!V:W,MATCH(BJ252,referentes!$W:$W,0),1))","v":""},{"$f":"IF(BK252=\"\",\"\",INDEX(referentes!Y:Z,MATCH(BK252,referentes!$Z:$Z,0),1))","v":""},{"$f":"IF(BL252=\"\",\"\",INDEX(referentes!AB:AC,MATCH(BL252,referentes!$AC:$AC,0),1))","v":""},{"$f":"IF(BM252=\"\",\"\",INDEX(referentes!AE:AF,MATCH(BM252,referentes!$AF:$AF,0),1))","v":""},{"$f":"IF(BB252=\"\",\"\",INDEX(referentes!M:N,MATCH(BB252,referentes!$N:$N,0),1))","v":""},{"$f":"IF(BQ252=\"\",\"\",INDEX('Otras referencias'!S:T,MATCH(BQ252,'Otras referencias'!$T:$T,0),1))","v":""},{"$f":"IF(BN252=\"\",\"\",INDEX('Otras referencias'!A:B,MATCH(BN252,'Otras referencias'!$B:$B,0),1))","v":""},""]
[1,"",{"$f":"IF(E253<>\"\",CONCATENATE(DIGITADOR!$M$1,TEXT(D253, \"YYYYMMDD\"),ROW()-5),\"\")","v":""},null,null,"",{"$f":"IF(H253=\"\",\"\",INDEX(referentes!AQ:AR,MATCH(H253,referentes!$AR:$AR,0),1))","v":""},null,{"$f":"IF(J253=\"\",\"\",VLOOKUP(J253,referentes!$AL$2:$AO$29,3,FALSE))","v":""},null,null,null,null,null,null,null,null,null,null,null,null,"",null,null,null,null,null,null,null,null,null,null,null,null,null,null,null,null,null,null,null,null,null,null,null,null,null,{"$f":"IF(AW253=\"\",\"\",DIGITADOR!$B$14)","v":""},"",null,null,null,"",null,null,null,null,null,null,null,null,null,null,null,null,null,null,null,null,null,null,"",{"$f":"IF(C253=\"\",\"\",IF(COUNTIF($C$6:C253, C253)>1, \"\", C253))","v":""},{"$f":"IF(N253=\"\",\"\",INDEX(referentes!P:Q,MATCH(N253,referentes!$Q:$Q,0),1))","v":""},{"$f":"IF(O253=\"\",\"\",INDEX(referentes!$A:$B,MATCH(O253,referentes!$B:$B,0),1))","v":""},{"$f":"IF(S253=\"\",\"\",INDEX(referentes!D:E,MATCH(S253,referentes!$E:$E,0),1))","v":""},{"$f":"IF(T253=\"\",\"\",INDEX(referentes!G:H,MATCH(T253,referentes!$H:$H,0),1))","v":""},"",{"$f":"IF(Y253=\"\",\"\",INDEX(referentes!S:T,MATCH(Y253,referentes!$T:$T,0),1))","v":""},{"$f":"IF(BO253=\"\",\"\",INDEX(referentes!J:K,MATCH(BO253,referentes!$K:$K,0),1))","v":""},{"$f":"IF(BJ253=\"\",\"\",INDEX(referentes!V:W,MATCH(BJ253,referentes!$W:$W,0),1))","v":""},{"$f":"IF(BK253=\"\",\"\",INDEX(referentes!Y:Z,MATCH(BK253,referentes!$Z:$Z,0),1))","v":""},{"$f":"IF(BL253=\"\",\"\",INDEX(referentes!AB:AC,MATCH(BL253,referentes!$AC:$AC,0),1))","v":""},{"$f":"IF(BM253=\"\",\"\",INDEX(referentes!AE:AF,MATCH(BM253,referentes!$AF:$AF,0),1))","v":""},{"$f":"IF(BB253=\"\",\"\",INDEX(referentes!M:N,MATCH(BB253,referentes!$N:$N,0),1))","v":""},{"$f":"IF(BQ253=\"\",\"\",INDEX('Otras referencias'!S:T,MATCH(BQ253,'Otras referencias'!$T:$T,0),1))","v":""},{"$f":"IF(BN253=\"\",\"\",INDEX('Otras referencias'!A:B,MATCH(BN253,'Otras referencias'!$B:$B,0),1))","v":""},""]
[1,"",{"$f":"IF(E254<>\"\",CONCATENATE(DIGITADOR!$M$1,TEXT(D254, \"YYYYMMDD\"),ROW()-5),\"\")","v":""},null,null,"",{"$f":"IF(H254=\"\",\"\",INDEX(referentes!AQ:AR,MATCH(H254,referentes!$AR:$AR,0),1))","v":""},null,{"$f":"IF(J254=\"\",\"\",VLOOKUP(J254,referentes!$AL$2:$AO$29,3,FALSE))","v":""},null,null,null,null,null,null,null,null,null,null,null,null,"",null,null,null,null,null,null,null,null,null,null,null,null,null,null,null,null,null,null,null,null,null,null,null,null,null,{"$f":"IF(AW254=\"\",\"\",DIGITADOR!$B$14)","v":""},"",null,null,null,"",null,null,null,null,null,null,null,null,null,null,null,null,null,null,null,null,null,null,"",{"$f":"IF(C254=\"\",\"\",IF(COUNTIF($C$6:C254, C254)>1, \"\", C254))","v":""},{"$f":"IF(N254=\"\",\"\",INDEX(referentes!P:Q,MATCH(N254,referentes!$Q:$Q,0),1))","v":""},{"$f":"IF(O254=\"\",\"\",INDEX(referentes!$A:$B,MATCH(O254,referentes!$B:$B,0),1))","v":""},{"$f":"IF(S254=\"\",\"\",INDEX(referentes!D:E,MATCH(S254,referentes!$E:$E,0),1))","v":""},{"$f":"IF(T254=\"\",\"\",INDEX(referentes!G:H,MATCH(T254,referentes!$H:$H,0),1))","v":""},"",{"$f":"IF(Y254=\"\",\"\",INDEX(referentes!S:T,MATCH(Y254,referentes!$T:$T,0),1))","v":""},{"$f":"IF(BO254=\"\",\"\",INDEX(referentes!J:K,MATCH(BO254,referentes!$K:$K,0),1))","v":""},{"$f":"IF(BJ254=\"\",\"\",INDEX(referentes!V:W,MATCH(BJ254,referentes!$W:$W,0),1))","v":""},{"$f":"IF(BK254=\"\",\"\",INDEX(referentes!Y:Z,MATCH(BK254,referentes!$Z:$Z,0),1))","v":""},{"$f":"IF(BL254=\"\",\"\",INDEX(referentes!AB:AC,MATCH(BL254,referentes!$AC:$AC,0),1))","v":""},{"$f":"IF(BM254=\"\",\"\",INDEX(referentes!AE:AF,MATCH(BM254,referentes!$AF:$AF,0),1))","v":""},{"$f":"IF(BB254=\"\",\"\",INDEX(referentes!M:N,MATCH(BB254,referentes!$N:$N,0),1))","v":""},{"$f":"IF(BQ254=\"\",\"\",INDEX('Otras referencias'!S:T,MATCH(BQ254,'Otras referencias'!$T:$T,0),1))","v":""},{"$f":"IF(BN254=\"\",\"\",INDEX('Otras referencias'!A:B,MATCH(BN254,'Otras referencias'!$B:$B,0),1))","v":""},""]
[1,"",{"$f":"IF(E255<>\"\",CONCATENATE(DIGITADOR!$M$1,TEXT(D255, \"YYYYMMDD\"),ROW()-5),\"\")","v":""},null,null,"",{"$f":"IF(H255=\"\",\"\",INDEX(referentes!AQ:AR,MATCH(H255,referentes!$AR:$AR,0),1))","v":""},null,{"$f":"IF(J255=\"\",\"\",VLOOKUP(J255,referentes!$AL$2:$AO$29,3,FALSE))","v":""},null,null,null,null,null,null,null,null,null,null,null,null,"",null,null,null,null,null,null,null,null,null,null,null,null,null,null,null,null,null,null,null,null,null,null,null,null,null,{"$f":"IF(AW255=\"\",\"\",DIGITADOR!$B$14)","v":""},"",null,null,null,"",null,null,null,null,null,null,null,null,null,null,null,null,null,null,null,null,null,null,"",{"$f":"IF(C255=\"\",\"\",IF(COUNTIF($C$6:C255, C255)>1, \"\", C255))","v":""},{"$f":"IF(N255=\"\",\"\",INDEX(referentes!P:Q,MATCH(N255,referentes!$Q:$Q,0),1))","v":""},{"$f":"IF(O255=\"\",\"\",INDEX(referentes!$A:$B,MATCH(O255,referentes!$B:$B,0),1))","v":""},{"$f":"IF(S255=\"\",\"\",INDEX(referentes!D:E,MATCH(S255,referentes!$E:$E,0),1))","v":""},{"$f":"IF(T255=\"\",\"\",INDEX(referentes!G:H,MATCH(T255,referentes!$H:$H,0),1))","v":""},"",{"$f":"IF(Y255=\"\",\"\",INDEX(referentes!S:T,MATCH(Y255,referentes!$T:$T,0),1))","v":""},{"$f":"IF(BO255=\"\",\"\",INDEX(referentes!J:K,MATCH(BO255,referentes!$K:$K,0),1))","v":""},{"$f":"IF(BJ255=\"\",\"\",INDEX(referentes!V:W,MATCH(BJ255,referentes!$W:$W,0),1))","v":""},{"$f":"IF(BK255=\"\",\"\",INDEX(referentes!Y:Z,MATCH(BK255,referentes!$Z:$Z,0),1))","v":""},{"$f":"IF(BL255=\"\",\"\",INDEX(referentes!AB:AC,MATCH(BL255,referentes!$AC:$AC,0),1))","v":""},{"$f":"IF(BM255=\"\",\"\",INDEX(referentes!AE:AF,MATCH(BM255,referentes!$AF:$AF,0),1))","v":""},{"$f":"IF(BB255=\"\",\"\",INDEX(referentes!M:N,MATCH(BB255,referentes!$N:$N,0),1))","v":""},{"$f":"IF(BQ255=\"\",\"\",INDEX('Otras referencias'!S:T,MATCH(BQ255,'Otras referencias'!$T:$T,0),1))","v":""},{"$f":"IF(BN255=\"\",\"\",INDEX('Otras referencias'!A:B,MATCH(BN255,'Otras referencias'!$B:$B,0),1))","v":""},""]
[1,"",{"$f":"IF(E256<>\"\",CONCATENATE(DIGITADOR!$M$1,TEXT(D256, \"YYYYMMDD\"),ROW()-5),\"\")","v":""},null,null,"",{"$f":"IF(H256=\"\",\"\",INDEX(referentes!AQ:AR,MATCH(H256,referentes!$AR:$AR,0),1))","v":""},null,{"$f":"IF(J256=\"\",\"\",VLOOKUP(J256,referentes!$AL$2:$AO$29,3,FALSE))","v":""},null,null,null,null,null,null,null,null,null,null,null,null,"",null,null,null,null,null,null,null,null,null,null,null,null,null,null,null,null,null,null,null,null,null,null,null,null,null,{"$f":"IF(AW256=\"\",\"\",DIGITADOR!$B$14)","v":""},"",null,null,null,"",null,null,null,null,null,null,null,null,null,null,null,null,null,null,null,null,null,null,"",{"$f":"IF(C256=\"\",\"\",IF(COUNTIF($C$6:C256, C256)>1, \"\", C256))","v":""},{"$f":"IF(N256=\"\",\"\",INDEX(referentes!P:Q,MATCH(N256,referentes!$Q:$Q,0),1))","v":""},{"$f":"IF(O256=\"\",\"\",INDEX(referentes!$A:$B,MATCH(O256,referentes!$B:$B,0),1))","v":""},{"$f":"IF(S256=\"\",\"\",INDEX(referentes!D:E,MATCH(S256,referentes!$E:$E,0),1))","v":""},{"$f":"IF(T256=\"\",\"\",INDEX(referentes!G:H,MATCH(T256,referentes!$H:$H,0),1))","v":""},"",{"$f":"IF(Y256=\"\",\"\",INDEX(referentes!S:T,MATCH(Y256,referentes!$T:$T,0),1))","v":""},{"$f":"IF(BO256=\"\",\"\",INDEX(referentes!J:K,MATCH(BO256,referentes!$K:$K,0),1))","v":""},{"$f":"IF(BJ256=\"\",\"\",INDEX(referentes!V:W,MATCH(BJ256,referentes!$W:$W,0),1))","v":""},{"$f":"IF(BK256=\"\",\"\",INDEX(referentes!Y:Z,MATCH(BK256,referentes!$Z:$Z,0),1))","v":""},{"$f":"IF(BL256=\"\",\"\",INDEX(referentes!AB:AC,MATCH(BL256,referentes!$AC:$AC,0),1))","v":""},{"$f":"IF(BM256=\"\",\"\",INDEX(referentes!AE:AF,MATCH(BM256,referentes!$AF:$AF,0),1))","v":""},{"$f":"IF(BB256=\"\",\"\",INDEX(referentes!M:N,MATCH(BB256,referentes!$N:$N,0),1))","v":""},{"$f":"IF(BQ256=\"\",\"\",INDEX('Otras referencias'!S:T,MATCH(BQ256,'Otras referencias'!$T:$T,0),1))","v":""},{"$f":"IF(BN256=\"\",\"\",INDEX('Otras referencias'!A:B,MATCH(BN256,'Otras referencias'!$B:$B,0),1))","v":""},""]
[1,"",{"$f":"IF(E257<>\"\",CONCATENATE(DIGITADOR!$M$1,TEXT(D257, \"YYYYMMDD\"),ROW()-5),\"\")","v":""},null,null,"",{"$f":"IF(H257=\"\",\"\",INDEX(referentes!AQ:AR,MATCH(H257,referentes!$AR:$AR,0),1))","v":""},null,{"$f":"IF(J257=\"\",\"\",VLOOKUP(J257,referentes!$AL$2:$AO$29,3,FALSE))","v":""},null,null,null,null,null,null,null,null,null,null,null,null,"",null,null,null,null,null,null,null,null,null,null,null,null,null,null,null,null,null,null,null,null,null,null,null,null,null,{"$f":"IF(AW257=\"\",\"\",DIGITADOR!$B$14)","v":""},"",null,null,null,"",null,null,null,null,null,null,null,null,null,null,null,null,null,null,null,null,null,null,"",{"$f":"IF(C257=\"\",\"\",IF(COUNTIF($C$6:C257, C257)>1, \"\", C257))","v":""},{"$f":"IF(N257=\"\",\"\",INDEX(referentes!P:Q,MATCH(N257,referentes!$Q:$Q,0),1))","v":""},{"$f":"IF(O257=\"\",\"\",INDEX(referentes!$A:$B,MATCH(O257,referentes!$B:$B,0),1))","v":""},{"$f":"IF(S257=\"\",\"\",INDEX(referentes!D:E,MATCH(S257,referentes!$E:$E,0),1))","v":""},{"$f":"IF(T257=\"\",\"\",INDEX(referentes!G:H,MATCH(T257,referentes!$H:$H,0),1))","v":""},"",{"$f":"IF(Y257=\"\",\"\",INDEX(referentes!S:T,MATCH(Y257,referentes!$T:$T,0),1))","v":""},{"$f":"IF(BO257=\"\",\"\",INDEX(referentes!J:K,MATCH(BO257,referentes!$K:$K,0),1))","v":""},{"$f":"IF(BJ257=\"\",\"\",INDEX(referentes!V:W,MATCH(BJ257,referentes!$W:$W,0),1))","v":""},{"$f":"IF(BK257=\"\",\"\",INDEX(referentes!Y:Z,MATCH(BK257,referentes!$Z:$Z,0),1))","v":""},{"$f":"IF(BL257=\"\",\"\",INDEX(referentes!AB:AC,MATCH(BL257,referentes!$AC:$AC,0),1))","v":""},{"$f":"IF(BM257=\"\",\"\",INDEX(referentes!AE:AF,MATCH(BM257,referentes!$AF:$AF,0),1))","v":""},{"$f":"IF(BB257=\"\",\"\",INDEX(referentes!M:N,MATCH(BB257,referentes!$N:$N,0),1))","v":""},{"$f":"IF(BQ257=\"\",\"\",INDEX('Otras referencias'!S:T,MATCH(BQ257,'Otras referencias'!$T:$T,0),1))","v":""},{"$f":"IF(BN257=\"\",\"\",INDEX('Otras referencias'!A:B,MATCH(BN257,'Otras referencias'!$B:$B,0),1))","v":""},""]
[1,"",{"$f":"IF(E258<>\"\",CONCATENATE(DIGITADOR!$M$1,TEXT(D258, \"YYYYMMDD\"),ROW()-5),\"\")","v":""},null,null,"",{"$f":"IF(H258=\"\",\"\",INDEX(referentes!AQ:AR,MATCH(H258,referentes!$AR:$AR,0),1))","v":""},null,{"$f":"IF(J258=\"\",\"\",VLOOKUP(J258,referentes!$AL$2:$AO$29,3,FALSE))","v":""},null,null,null,null,null,null,null,null,null,null,null,null,"",null,null,null,null,null,null,null,null,null,null,null,null,null,null,null,null,null,null,null,null,null,null,null,null,null,{"$f":"IF(AW258=\"\",\"\",DIGITADOR!$B$14)","v":""},"",null,null,null,"",null,null,null,null,null,null,null,null,null,null,null,null,null,null,null,null,null,null,"",{"$f":"IF(C258=\"\",\"\",IF(COUNTIF($C$6:C258, C258)>1, \"\", C258))","v":""},{"$f":"IF(N258=\"\",\"\",INDEX(referentes!P:Q,MATCH(N258,referentes!$Q:$Q,0),1))","v":""},{"$f":"IF(O258=\"\",\"\",INDEX(referentes!$A:$B,MATCH(O258,referentes!$B:$B,0),1))","v":""},{"$f":"IF(S258=\"\",\"\",INDEX(referentes!D:E,MATCH(S258,referentes!$E:$E,0),1))","v":""},{"$f":"IF(T258=\"\",\"\",INDEX(referentes!G:H,MATCH(T258,referentes!$H:$H,0),1))","v":""},"",{"$f":"IF(Y258=\"\",\"\",INDEX(referentes!S:T,MATCH(Y258,referentes!$T:$T,0),1))","v":""},{"$f":"IF(BO258=\"\",\"\",INDEX(referentes!J:K,MATCH(BO258,referentes!$K:$K,0),1))","v":""},{"$f":"IF(BJ258=\"\",\"\",INDEX(referentes!V:W,MATCH(BJ258,referentes!$W:$W,0),1))","v":""},{"$f":"IF(BK258=\"\",\"\",INDEX(referentes!Y:Z,MATCH(BK258,referentes!$Z:$Z,0),1))","v":""},{"$f":"IF(BL258=\"\",\"\",INDEX(referentes!AB:AC,MATCH(BL258,referentes!$AC:$AC,0),1))","v":""},{"$f":"IF(BM258=\"\",\"\",INDEX(referentes!AE:AF,MATCH(BM258,referentes!$AF:$AF,0),1))","v":""},{"$f":"IF(BB258=\"\",\"\",INDEX(referentes!M:N,MATCH(BB258,referentes!$N:$N,0),1))","v":""},{"$f":"IF(BQ258=\"\",\"\",INDEX('Otras referencias'!S:T,MATCH(BQ258,'Otras referencias'!$T:$T,0),1))","v":""},{"$f":"IF(BN258=\"\",\"\",INDEX('Otras referencias'!A:B,MATCH(BN258,'Otras referencias'!$B:$B,0),1))","v":""},""]
[1,"",{"$f":"IF(E259<>\"\",CONCATENATE(DIGITADOR!$M$1,TEXT(D259, \"YYYYMMDD\"),ROW()-5),\"\")","v":""},null,null,"",{"$f":"IF(H259=\"\",\"\",INDEX(referentes!AQ:AR,MATCH(H259,referentes!$AR:$AR,0),1))","v":""},null,{"$f":"IF(J259=\"\",\"\",VLOOKUP(J259,referentes!$AL$2:$AO$29,3,FALSE))","v":""},null,null,null,null,null,null,null,null,null,null,null,null,"",null,null,null,null,null,null,null,null,null,null,null,null,null,null,null,null,null,null,null,null,null,null,null,null,null,{"$f":"IF(AW259=\"\",\"\",DIGITADOR!$B$14)","v":""},"",null,null,null,"",null,null,null,null,null,null,null,null,null,null,null,null,null,null,null,null,null,null,"",{"$f":"IF(C259=\"\",\"\",IF(COUNTIF($C$6:C259, C259)>1, \"\", C259))","v":""},{"$f":"IF(N259=\"\",\"\",INDEX(referentes!P:Q,MATCH(N259,referentes!$Q:$Q,0),1))","v":""},{"$f":"IF(O259=\"\",\"\",INDEX(referentes!$A:$B,MATCH(O259,referentes!$B:$B,0),1))","v":""},{"$f":"IF(S259=\"\",\"\",INDEX(referentes!D:E,MATCH(S259,referentes!$E:$E,0),1))","v":""},{"$f":"IF(T259=\"\",\"\",INDEX(referentes!G:H,MATCH(T259,referentes!$H:$H,0),1))","v":""},"",{"$f":"IF(Y259=\"\",\"\",INDEX(referentes!S:T,MATCH(Y259,referentes!$T:$T,0),1))","v":""},{"$f":"IF(BO259=\"\",\"\",INDEX(referentes!J:K,MATCH(BO259,referentes!$K:$K,0),1))","v":""},{"$f":"IF(BJ259=\"\",\"\",INDEX(referentes!V:W,MATCH(BJ259,referentes!$W:$W,0),1))","v":""},{"$f":"IF(BK259=\"\",\"\",INDEX(referentes!Y:Z,MATCH(BK259,referentes!$Z:$Z,0),1))","v":""},{"$f":"IF(BL259=\"\",\"\",INDEX(referentes!AB:AC,MATCH(BL259,referentes!$AC:$AC,0),1))","v":""},{"$f":"IF(BM259=\"\",\"\",INDEX(referentes!AE:AF,MATCH(BM259,referentes!$AF:$AF,0),1))","v":""},{"$f":"IF(BB259=\"\",\"\",INDEX(referentes!M:N,MATCH(BB259,referentes!$N:$N,0),1))","v":""},{"$f":"IF(BQ259=\"\",\"\",INDEX('Otras referencias'!S:T,MATCH(BQ259,'Otras referencias'!$T:$T,0),1))","v":""},{"$f":"IF(BN259=\"\",\"\",INDEX('Otras referencias'!A:B,MATCH(BN259,'Otras referencias'!$B:$B,0),1))","v":""},""]
[1,"",{"$f":"IF(E260<>\"\",CONCATENATE(DIGITADOR!$M$1,TEXT(D260, \"YYYYMMDD\"),ROW()-5),\"\")","v":""},null,null,"",{"$f":"IF(H260=\"\",\"\",INDEX(referentes!AQ:AR,MATCH(H260,referentes!$AR:$AR,0),1))","v":""},null,{"$f":"IF(J260=\"\",\"\",VLOOKUP(J260,referentes!$AL$2:$AO$29,3,FALSE))","v":""},null,null,null,null,null,null,null,null,null,null,null,null,"",null,null,null,null,null,null,null,null,null,null,null,null,null,null,null,null,null,null,null,null,null,null,null,null,null,{"$f":"IF(AW260=\"\",\"\",DIGITADOR!$B$14)","v":""},"",null,null,null,"",null,null,null,null,null,null,null,null,null,null,null,null,null,null,null,null,null,null,"",{"$f":"IF(C260=\"\",\"\",IF(COUNTIF($C$6:C260, C260)>1, \"\", C260))","v":""},{"$f":"IF(N260=\"\",\"\",INDEX(referentes!P:Q,MATCH(N260,referentes!$Q:$Q,0),1))","v":""},{"$f":"IF(O260=\"\",\"\",INDEX(referentes!$A:$B,MATCH(O260,referentes!$B:$B,0),1))","v":""},{"$f":"IF(S260=\"\",\"\",INDEX(referentes!D:E,MATCH(S260,referentes!$E:$E,0),1))","v":""},{"$f":"IF(T260=\"\",\"\",INDEX(referentes!G:H,MATCH(T260,referentes!$H:$H,0),1))","v":""},"",{"$f":"IF(Y260=\"\",\"\",INDEX(referentes!S:T,MATCH(Y260,referentes!$T:$T,0),1))","v":""},{"$f":"IF(BO260=\"\",\"\",INDEX(referentes!J:K,MATCH(BO260,referentes!$K:$K,0),1))","v":""},{"$f":"IF(BJ260=\"\",\"\",INDEX(referentes!V:W,MATCH(BJ260,referentes!$W:$W,0),1))","v":""},{"$f":"IF(BK260=\"\",\"\",INDEX(referentes!Y:Z,MATCH(BK260,referentes!$Z:$Z,0),1))","v":""},{"$f":"IF(BL260=\"\",\"\",INDEX(referentes!AB:AC,MATCH(BL260,referentes!$AC:$AC,0),1))","v":""},{"$f":"IF(BM260=\"\",\"\",INDEX(referentes!AE:AF,MATCH(BM260,referentes!$AF:$AF,0),1))","v":""},{"$f":"IF(BB260=\"\",\"\",INDEX(referentes!M:N,MATCH(BB260,referentes!$N:$N,0),1))","v":""},{"$f":"IF(BQ260=\"\",\"\",INDEX('Otras referencias'!S:T,MATCH(BQ260,'Otras referencias'!$T:$T,0),1))","v":""},{"$f":"IF(BN260=\"\",\"\",INDEX('Otras referencias'!A:B,MATCH(BN260,'Otras referencias'!$B:$B,0),1))","v":""},""]
[1,"",{"$f":"IF(E261<>\"\",CONCATENATE(DIGITADOR!$M$1,TEXT(D261, \"YYYYMMDD\"),ROW()-5),\"\")","v":""},null,null,"",{"$f":"IF(H261=\"\",\"\",INDEX(referentes!AQ:AR,MATCH(H261,referentes!$AR:$AR,0),1))","v":""},null,{"$f":"IF(J261=\"\",\"\",VLOOKUP(J261,referentes!$AL$2:$AO$29,3,FALSE))","v":""},null,null,null,null,null,null,null,null,null,null,null,null,"",null,null,null,null,null,null,null,null,null,null,null,null,null,null,null,null,null,null,null,null,null,null,null,null,null,{"$f":"IF(AW261=\"\",\"\",DIGITADOR!$B$14)","v":""},"",null,null,null,"",null,null,null,null,null,null,null,null,null,null,null,null,null,null,null,null,null,null,"",{"$f":"IF(C261=\"\",\"\",IF(COUNTIF($C$6:C261, C261)>1, \"\", C261))","v":""},{"$f":"IF(N261=\"\",\"\",INDEX(referentes!P:Q,MATCH(N261,referentes!$Q:$Q,0),1))","v":""},{"$f":"IF(O261=\"\",\"\",INDEX(referentes!$A:$B,MATCH(O261,referentes!$B:$B,0),1))","v":""},{"$f":"IF(S261=\"\",\"\",INDEX(referentes!D:E,MATCH(S261,referentes!$E:$E,0),1))","v":""},{"$f":"IF(T261=\"\",\"\",INDEX(referentes!G:H,MATCH(T261,referentes!$H:$H,0),1))","v":""},"",{"$f":"IF(Y261=\"\",\"\",INDEX(referentes!S:T,MATCH(Y261,referentes!$T:$T,0),1))","v":""},{"$f":"IF(BO261=\"\",\"\",INDEX(referentes!J:K,MATCH(BO261,referentes!$K:$K,0),1))","v":""},{"$f":"IF(BJ261=\"\",\"\",INDEX(referentes!V:W,MATCH(BJ261,referentes!$W:$W,0),1))","v":""},{"$f":"IF(BK261=\"\",\"\",INDEX(referentes!Y:Z,MATCH(BK261,referentes!$Z:$Z,0),1))","v":""},{"$f":"IF(BL261=\"\",\"\",INDEX(referentes!AB:AC,MATCH(BL261,referentes!$AC:$AC,0),1))","v":""},{"$f":"IF(BM261=\"\",\"\",INDEX(referentes!AE:AF,MATCH(BM261,referentes!$AF:$AF,0),1))","v":""},{"$f":"IF(BB261=\"\",\"\",INDEX(referentes!M:N,MATCH(BB261,referentes!$N:$N,0),1))","v":""},{"$f":"IF(BQ261=\"\",\"\",INDEX('Otras referencias'!S:T,MATCH(BQ261,'Otras referencias'!$T:$T,0),1))","v":""},{"$f":"IF(BN261=\"\",\"\",INDEX('Otras referencias'!A:B,MATCH(BN261,'Otras referencias'!$B:$B,0),1))","v":""},""]
[1,"",{"$f":"IF(E262<>\"\",CONCATENATE(DIGITADOR!$M$1,TEXT(D262, \"YYYYMMDD\"),ROW()-5),\"\")","v":""},null,null,"",{"$f":"IF(H262=\"\",\"\",INDEX(referentes!AQ:AR,MATCH(H262,referentes!$AR:$AR,0),1))","v":""},null,{"$f":"IF(J262=\"\",\"\",VLOOKUP(J262,referentes!$AL$2:$AO$29,3,FALSE))","v":""},null,null,null,null,null,null,null,null,null,null,null,null,"",null,null,null,null,null,null,null,null,null,null,null,null,null,null,null,null,null,null,null,null,null,null,null,null,null,{"$f":"IF(AW262=\"\",\"\",DIGITADOR!$B$14)","v":""},"",null,null,null,"",null,null,null,null,null,null,null,null,null,null,null,null,null,null,null,null,null,null,"",{"$f":"IF(C262=\"\",\"\",IF(COUNTIF($C$6:C262, C262)>1, \"\", C262))","v":""},{"$f":"IF(N262=\"\",\"\",INDEX(referentes!P:Q,MATCH(N262,referentes!$Q:$Q,0),1))","v":""},{"$f":"IF(O262=\"\",\"\",INDEX(referentes!$A:$B,MATCH(O262,referentes!$B:$B,0),1))","v":""},{"$f":"IF(S262=\"\",\"\",INDEX(referentes!D:E,MATCH(S262,referentes!$E:$E,0),1))","v":""},{"$f":"IF(T262=\"\",\"\",INDEX(referentes!G:H,MATCH(T262,referentes!$H:$H,0),1))","v":""},"",{"$f":"IF(Y262=\"\",\"\",INDEX(referentes!S:T,MATCH(Y262,referentes!$T:$T,0),1))","v":""},{"$f":"IF(BO262=\"\",\"\",INDEX(referentes!J:K,MATCH(BO262,referentes!$K:$K,0),1))","v":""},{"$f":"IF(BJ262=\"\",\"\",INDEX(referentes!V:W,MATCH(BJ262,referentes!$W:$W,0),1))","v":""},{"$f":"IF(BK262=\"\",\"\",INDEX(referentes!Y:Z,MATCH(BK262,referentes!$Z:$Z,0),1))","v":""},{"$f":"IF(BL262=\"\",\"\",INDEX(referentes!AB:AC,MATCH(BL262,referentes!$AC:$AC,0),1))","v":""},{"$f":"IF(BM262=\"\",\"\",INDEX(referentes!AE:AF,MATCH(BM262,referentes!$AF:$AF,0),1))","v":""},{"$f":"IF(BB262=\"\",\"\",INDEX(referentes!M:N,MATCH(BB262,referentes!$N:$N,0),1))","v":""},{"$f":"IF(BQ262=\"\",\"\",INDEX('Otras referencias'!S:T,MATCH(BQ262,'Otras referencias'!$T:$T,0),1))","v":""},{"$f":"IF(BN262=\"\",\"\",INDEX('Otras referencias'!A:B,MATCH(BN262,'Otras referencias'!$B:$B,0),1))","v":""},""]
[1,"",{"$f":"IF(E263<>\"\",CONCATENATE(DIGITADOR!$M$1,TEXT(D263, \"YYYYMMDD\"),ROW()-5),\"\")","v":""},null,null,{"$f":"IF(D263<>\"\",D263+E263,\"\")","v":""},{"$f":"IF(H263=\"\",\"\",INDEX(referentes!AQ:AR,MATCH(H263,referentes!$AR:$AR,0),1))","v":""},null,{"$f":"IF(J263=\"\",\"\",VLOOKUP(J263,referentes!$AL$2:$AO$29,3,FALSE))","v":""},null,null,null,null,null,null,null,null,null,null,null,null,"",null,null,null,null,null,null,null,null,null,null,null,null,null,null,null,null,null,null,null,null,null,null,null,null,null,{"$f":"IF(AW263=\"\",\"\",DIGITADOR!$B$14)","v":""},"",null,null,null,"",null,null,null,null,null,null,null,null,null,null,null,null,null,null,null,null,null,null,{"$f":"IF(D263=\"\",\"\",CONCATENATE(C263,V263,B263))","v":""},{"$f":"IF(C263=\"\",\"\",IF(COUNTIF($C$6:C263, C263)>1, \"\", C263))","v":""},{"$f":"IF(N263=\"\",\"\",INDEX(referentes!P:Q,MATCH(N263,referentes!$Q:$Q,0),1))","v":""},{"$f":"IF(O263=\"\",\"\",INDEX(referentes!$A:$B,MATCH(O263,referentes!$B:$B,0),1))","v":""},{"$f":"IF(S263=\"\",\"\",INDEX(referentes!D:E,MATCH(S263,referentes!$E:$E,0),1))","v":""},{"$f":"IF(T263=\"\",\"\",INDEX(referentes!G:H,MATCH(T263,referentes!$H:$H,0),1))","v":""},"",{"$f":"IF(Y263=\"\",\"\",INDEX(referentes!S:T,MATCH(Y263,referentes!$T:$T,0),1))","v":""},{"$f":"IF(BO263=\"\",\"\",INDEX(referentes!J:K,MATCH(BO263,referentes!$K:$K,0),1))","v":""},{"$f":"IF(BJ263=\"\",\"\",INDEX(referentes!V:W,MATCH(BJ263,referentes!$W:$W,0),1))","v":""},{"$f":"IF(BK263=\"\",\"\",INDEX(referentes!Y:Z,MATCH(BK263,referentes!$Z:$Z,0),1))","v":""},{"$f":"IF(BL263=\"\",\"\",INDEX(referentes!AB:AC,MATCH(BL263,referentes!$AC:$AC,0),1))","v":""},{"$f":"IF(BM263=\"\",\"\",INDEX(referentes!AE:AF,MATCH(BM263,referentes!$AF:$AF,0),1))","v":""},{"$f":"IF(BB263=\"\",\"\",INDEX(referentes!M:N,MATCH(BB263,referentes!$N:$N,0),1))","v":""},{"$f":"IF(BQ263=\"\",\"\",INDEX('Otras referencias'!S:T,MATCH(BQ263,'Otras referencias'!$T:$T,0),1))","v":""},{"$f":"IF(BN263=\"\",\"\",INDEX('Otras referencias'!A:B,MATCH(BN263,'Otras referencias'!$B:$B,0),1))","v":""},""]
[1,"",{"$f":"IF(E264<>\"\",CONCATENATE(DIGITADOR!$M$1,TEXT(D264, \"YYYYMMDD\"),ROW()-5),\"\")","v":""},null,null,"",{"$f":"IF(H264=\"\",\"\",INDEX(referentes!AQ:AR,MATCH(H264,referentes!$AR:$AR,0),1))","v":""},null,{"$f":"IF(J264=\"\",\"\",VLOOKUP(J264,referentes!$AL$2:$AO$29,3,FALSE))","v":""},null,null,null,null,null,null,null,null,null,null,null,null,"",null,null,null,null,null,null,null,null,null,null,null,null,null,null,null,null,null,null,null,null,null,null,null,null,null,{"$f":"IF(AW264=\"\",\"\",DIGITADOR!$B$14)","v":""},"",null,null,null,"",null,null,null,null,null,null,null,null,null,null,null,null,null,null,null,null,null,null,"",{"$f":"IF(C264=\"\",\"\",IF(COUNTIF($C$6:C264, C264)>1, \"\", C264))","v":""},{"$f":"IF(N264=\"\",\"\",INDEX(referentes!P:Q,MATCH(N264,referentes!$Q:$Q,0),1))","v":""},{"$f":"IF(O264=\"\",\"\",INDEX(referentes!$A:$B,MATCH(O264,referentes!$B:$B,0),1))","v":""},{"$f":"IF(S264=\"\",\"\",INDEX(referentes!D:E,MATCH(S264,referentes!$E:$E,0),1))","v":""},{"$f":"IF(T264=\"\",\"\",INDEX(referentes!G:H,MATCH(T264,referentes!$H:$H,0),1))","v":""},"",{"$f":"IF(Y264=\"\",\"\",INDEX(referentes!S:T,MATCH(Y264,referentes!$T:$T,0),1))","v":""},{"$f":"IF(BO264=\"\",\"\",INDEX(referentes!J:K,MATCH(BO264,referentes!$K:$K,0),1))","v":""},{"$f":"IF(BJ264=\"\",\"\",INDEX(referentes!V:W,MATCH(BJ264,referentes!$W:$W,0),1))","v":""},{"$f":"IF(BK264=\"\",\"\",INDEX(referentes!Y:Z,MATCH(BK264,referentes!$Z:$Z,0),1))","v":""},{"$f":"IF(BL264=\"\",\"\",INDEX(referentes!AB:AC,MATCH(BL264,referentes!$AC:$AC,0),1))","v":""},{"$f":"IF(BM264=\"\",\"\",INDEX(referentes!AE:AF,MATCH(BM264,referentes!$AF:$AF,0),1))","v":""},{"$f":"IF(BB264=\"\",\"\",INDEX(referentes!M:N,MATCH(BB264,referentes!$N:$N,0),1))","v":""},{"$f":"IF(BQ264=\"\",\"\",INDEX('Otras referencias'!S:T,MATCH(BQ264,'Otras referencias'!$T:$T,0),1))","v":""},{"$f":"IF(BN264=\"\",\"\",INDEX('Otras referencias'!A:B,MATCH(BN264,'Otras referencias'!$B:$B,0),1))","v":""},""]
[1,"",{"$f":"IF(E265<>\"\",CONCATENATE(DIGITADOR!$M$1,TEXT(D265, \"YYYYMMDD\"),ROW()-5),\"\")","v":""},null,null,"",{"$f":"IF(H265=\"\",\"\",INDEX(referentes!AQ:AR,MATCH(H265,referentes!$AR:$AR,0),1))","v":""},null,{"$f":"IF(J265=\"\",\"\",VLOOKUP(J265,referentes!$AL$2:$AO$29,3,FALSE))","v":""},null,null,null,null,null,null,null,null,null,null,null,null,"",null,null,null,null,null,null,null,null,null,null,null,null,null,null,null,null,null,null,null,null,null,null,null,null,null,{"$f":"IF(AW265=\"\",\"\",DIGITADOR!$B$14)","v":""},"",null,null,null,"",null,null,null,null,null,null,null,null,null,null,null,null,null,null,null,null,null,null,"",{"$f":"IF(C265=\"\",\"\",IF(COUNTIF($C$6:C265, C265)>1, \"\", C265))","v":""},{"$f":"IF(N265=\"\",\"\",INDEX(referentes!P:Q,MATCH(N265,referentes!$Q:$Q,0),1))","v":""},{"$f":"IF(O265=\"\",\"\",INDEX(referentes!$A:$B,MATCH(O265,referentes!$B:$B,0),1))","v":""},{"$f":"IF(S265=\"\",\"\",INDEX(referentes!D:E,MATCH(S265,referentes!$E:$E,0),1))","v":""},{"$f":"IF(T265=\"\",\"\",INDEX(referentes!G:H,MATCH(T265,referentes!$H:$H,0),1))","v":""},"",{"$f":"IF(Y265=\"\",\"\",INDEX(referentes!S:T,MATCH(Y265,referentes!$T:$T,0),1))","v":""},{"$f":"IF(BO265=\"\",\"\",INDEX(referentes!J:K,MATCH(BO265,referentes!$K:$K,0),1))","v":""},{"$f":"IF(BJ265=\"\",\"\",INDEX(referentes!V:W,MATCH(BJ265,referentes!$W:$W,0),1))","v":""},{"$f":"IF(BK265=\"\",\"\",INDEX(referentes!Y:Z,MATCH(BK265,referentes!$Z:$Z,0),1))","v":""},{"$f":"IF(BL265=\"\",\"\",INDEX(referentes!AB:AC,MATCH(BL265,referentes!$AC:$AC,0),1))","v":""},{"$f":"IF(BM265=\"\",\"\",INDEX(referentes!AE:AF,MATCH(BM265,referentes!$AF:$AF,0),1))","v":""},{"$f":"IF(BB265=\"\",\"\",INDEX(referentes!M:N,MATCH(BB265,referentes!$N:$N,0),1))","v":""},{"$f":"IF(BQ265=\"\",\"\",INDEX('Otras referencias'!S:T,MATCH(BQ265,'Otras referencias'!$T:$T,0),1))","v":""},{"$f":"IF(BN265=\"\",\"\",INDEX('Otras referencias'!A:B,MATCH(BN265,'Otras referencias'!$B:$B,0),1))","v":""},""]
[1,"",{"$f":"IF(E266<>\"\",CONCATENATE(DIGITADOR!$M$1,TEXT(D266, \"YYYYMMDD\"),ROW()-5),\"\")","v":""},null,null,"",{"$f":"IF(H266=\"\",\"\",INDEX(referentes!AQ:AR,MATCH(H266,referentes!$AR:$AR,0),1))","v":""},null,{"$f":"IF(J266=\"\",\"\",VLOOKUP(J266,referentes!$AL$2:$AO$29,3,FALSE))","v":""},null,null,null,null,null,null,null,null,null,null,null,null,"",null,null,null,null,null,null,null,null,null,null,null,null,null,null,null,null,null,null,null,null,null,null,null,null,null,{"$f":"IF(AW266=\"\",\"\",DIGITADOR!$B$14)","v":""},"",null,null,null,"",null,null,null,null,null,null,null,null,null,null,null,null,null,null,null,null,null,null,"",{"$f":"IF(C266=\"\",\"\",IF(COUNTIF($C$6:C266, C266)>1, \"\", C266))","v":""},{"$f":"IF(N266=\"\",\"\",INDEX(referentes!P:Q,MATCH(N266,referentes!$Q:$Q,0),1))","v":""},{"$f":"IF(O266=\"\",\"\",INDEX(referentes!$A:$B,MATCH(O266,referentes!$B:$B,0),1))","v":""},{"$f":"IF(S266=\"\",\"\",INDEX(referentes!D:E,MATCH(S266,referentes!$E:$E,0),1))","v":""},{"$f":"IF(T266=\"\",\"\",INDEX(referentes!G:H,MATCH(T266,referentes!$H:$H,0),1))","v":""},"",{"$f":"IF(Y266=\"\",\"\",INDEX(referentes!S:T,MATCH(Y266,referentes!$T:$T,0),1))","v":""},{"$f":"IF(BO266=\"\",\"\",INDEX(referentes!J:K,MATCH(BO266,referentes!$K:$K,0),1))","v":""},{"$f":"IF(BJ266=\"\",\"\",INDEX(referentes!V:W,MATCH(BJ266,referentes!$W:$W,0),1))","v":""},{"$f":"IF(BK266=\"\",\"\",INDEX(referentes!Y:Z,MATCH(BK266,referentes!$Z:$Z,0),1))","v":""},{"$f":"IF(BL266=\"\",\"\",INDEX(referentes!AB:AC,MATCH(BL266,referentes!$AC:$AC,0),1))","v":""},{"$f":"IF(BM266=\"\",\"\",INDEX(referentes!AE:AF,MATCH(BM266,referentes!$AF:$AF,0),1))","v":""},{"$f":"IF(BB266=\"\",\"\",INDEX(referentes!M:N,MATCH(BB266,referentes!$N:$N,0),1))","v":""},{"$f":"IF(BQ266=\"\",\"\",INDEX('Otras referencias'!S:T,MATCH(BQ266,'Otras referencias'!$T:$T,0),1))","v":""},{"$f":"IF(BN266=\"\",\"\",INDEX('Otras referencias'!A:B,MATCH(BN266,'Otras referencias'!$B:$B,0),1))","v":""},""]
[1,"",{"$f":"IF(E267<>\"\",CONCATENATE(DIGITADOR!$M$1,TEXT(D267, \"YYYYMMDD\"),ROW()-5),\"\")","v":""},null,null,"",{"$f":"IF(H267=\"\",\"\",INDEX(referentes!AQ:AR,MATCH(H267,referentes!$AR:$AR,0),1))","v":""},null,{"$f":"IF(J267=\"\",\"\",VLOOKUP(J267,referentes!$AL$2:$AO$29,3,FALSE))","v":""},null,null,null,null,null,null,null,null,null,null,null,null,"",null,null,null,null,null,null,null,null,null,null,null,null,null,null,null,null,null,null,null,null,null,null,null,null,null,{"$f":"IF(AW267=\"\",\"\",DIGITADOR!$B$14)","v":""},"",null,null,null,"",null,null,null,null,null,null,null,null,null,null,null,null,null,null,null,null,null,null,"",{"$f":"IF(C267=\"\",\"\",IF(COUNTIF($C$6:C267, C267)>1, \"\", C267))","v":""},{"$f":"IF(N267=\"\",\"\",INDEX(referentes!P:Q,MATCH(N267,referentes!$Q:$Q,0),1))","v":""},{"$f":"IF(O267=\"\",\"\",INDEX(referentes!$A:$B,MATCH(O267,referentes!$B:$B,0),1))","v":""},{"$f":"IF(S267=\"\",\"\",INDEX(referentes!D:E,MATCH(S267,referentes!$E:$E,0),1))","v":""},{"$f":"IF(T267=\"\",\"\",INDEX(referentes!G:H,MATCH(T267,referentes!$H:$H,0),1))","v":""},"",{"$f":"IF(Y267=\"\",\"\",INDEX(referentes!S:T,MATCH(Y267,referentes!$T:$T,0),1))","v":""},{"$f":"IF(BO267=\"\",\"\",INDEX(referentes!J:K,MATCH(BO267,referentes!$K:$K,0),1))","v":""},{"$f":"IF(BJ267=\"\",\"\",INDEX(referentes!V:W,MATCH(BJ267,referentes!$W:$W,0),1))","v":""},{"$f":"IF(BK267=\"\",\"\",INDEX(referentes!Y:Z,MATCH(BK267,referentes!$Z:$Z,0),1))","v":""},{"$f":"IF(BL267=\"\",\"\",INDEX(referentes!AB:AC,MATCH(BL267,referentes!$AC:$AC,0),1))","v":""},{"$f":"IF(BM267=\"\",\"\",INDEX(referentes!AE:AF,MATCH(BM267,referentes!$AF:$AF,0),1))","v":""},{"$f":"IF(BB267=\"\",\"\",INDEX(referentes!M:N,MATCH(BB267,referentes!$N:$N,0),1))","v":""},{"$f":"IF(BQ267=\"\",\"\",INDEX('Otras referencias'!S:T,MATCH(BQ267,'Otras referencias'!$T:$T,0),1))","v":""},{"$f":"IF(BN267=\"\",\"\",INDEX('Otras referencias'!A:B,MATCH(BN267,'Otras referencias'!$B:$B,0),1))","v":""},""]
[1,"",{"$f":"IF(E268<>\"\",CONCATENATE(DIGITADOR!$M$1,TEXT(D268, \"YYYYMMDD\"),ROW()-5),\"\")","v":""},null,null,"",{"$f":"IF(H268=\"\",\"\",INDEX(referentes!AQ:AR,MATCH(H268,referentes!$AR:$AR,0),1))","v":""},null,{"$f":"IF(J268=\"\",\"\",VLOOKUP(J268,referentes!$AL$2:$AO$29,3,FALSE))","v":""},null,null,null,null,null,null,null,null,null,null,null,null,"",null,null,null,null,null,null,null,null,null,null,null,null,null,null,null,null,null,null,null,null,null,null,null,null,null,{"$f":"IF(AW268=\"\",\"\",DIGITADOR!$B$14)","v":""},"",null,null,null,"",null,null,null,null,null,null,null,null,null,null,null,null,null,null,null,null,null,null,"",{"$f":"IF(C268=\"\",\"\",IF(COUNTIF($C$6:C268, C268)>1, \"\", C268))","v":""},{"$f":"IF(N268=\"\",\"\",INDEX(referentes!P:Q,MATCH(N268,referentes!$Q:$Q,0),1))","v":""},{"$f":"IF(O268=\"\",\"\",INDEX(referentes!$A:$B,MATCH(O268,referentes!$B:$B,0),1))","v":""},{"$f":"IF(S268=\"\",\"\",INDEX(referentes!D:E,MATCH(S268,referentes!$E:$E,0),1))","v":""},{"$f":"IF(T268=\"\",\"\",INDEX(referentes!G:H,MATCH(T268,referentes!$H:$H,0),1))","v":""},"",{"$f":"IF(Y268=\"\",\"\",INDEX(referentes!S:T,MATCH(Y268,referentes!$T:$T,0),1))","v":""},{"$f":"IF(BO268=\"\",\"\",INDEX(referentes!J:K,MATCH(BO268,referentes!$K:$K,0),1))","v":""},{"$f":"IF(BJ268=\"\",\"\",INDEX(referentes!V:W,MATCH(BJ268,referentes!$W:$W,0),1))","v":""},{"$f":"IF(BK268=\"\",\"\",INDEX(referentes!Y:Z,MATCH(BK268,referentes!$Z:$Z,0),1))","v":""},{"$f":"IF(BL268=\"\",\"\",INDEX(referentes!AB:AC,MATCH(BL268,referentes!$AC:$AC,0),1))","v":""},{"$f":"IF(BM268=\"\",\"\",INDEX(referentes!AE:AF,MATCH(BM268,referentes!$AF:$AF,0),1))","v":""},{"$f":"IF(BB268=\"\",\"\",INDEX(referentes!M:N,MATCH(BB268,referentes!$N:$N,0),1))","v":""},{"$f":"IF(BQ268=\"\",\"\",INDEX('Otras referencias'!S:T,MATCH(BQ268,'Otras referencias'!$T:$T,0),1))","v":""},{"$f":"IF(BN268=\"\",\"\",INDEX('Otras referencias'!A:B,MATCH(BN268,'Otras referencias'!$B:$B,0),1))","v":""},""]
[1,"",{"$f":"IF(E269<>\"\",CONCATENATE(DIGITADOR!$M$1,TEXT(D269, \"YYYYMMDD\"),ROW()-5),\"\")","v":""},null,null,"",{"$f":"IF(H269=\"\",\"\",INDEX(referentes!AQ:AR,MATCH(H269,referentes!$AR:$AR,0),1))","v":""},null,{"$f":"IF(J269=\"\",\"\",VLOOKUP(J269,referentes!$AL$2:$AO$29,3,FALSE))","v":""},null,null,null,null,null,null,null,null,null,null,null,null,"",null,null,null,null,null,null,null,null,null,null,null,null,null,null,null,null,null,null,null,null,null,null,null,null,null,{"$f":"IF(AW269=\"\",\"\",DIGITADOR!$B$14)","v":""},"",null,null,null,"",null,null,null,null,null,null,null,null,null,null,null,null,null,null,null,null,null,null,"",{"$f":"IF(C269=\"\",\"\",IF(COUNTIF($C$6:C269, C269)>1, \"\", C269))","v":""},{"$f":"IF(N269=\"\",\"\",INDEX(referentes!P:Q,MATCH(N269,referentes!$Q:$Q,0),1))","v":""},{"$f":"IF(O269=\"\",\"\",INDEX(referentes!$A:$B,MATCH(O269,referentes!$B:$B,0),1))","v":""},{"$f":"IF(S269=\"\",\"\",INDEX(referentes!D:E,MATCH(S269,referentes!$E:$E,0),1))","v":""},{"$f":"IF(T269=\"\",\"\",INDEX(referentes!G:H,MATCH(T269,referentes!$H:$H,0),1))","v":""},"",{"$f":"IF(Y269=\"\",\"\",INDEX(referentes!S:T,MATCH(Y269,referentes!$T:$T,0),1))","v":""},{"$f":"IF(BO269=\"\",\"\",INDEX(referentes!J:K,MATCH(BO269,referentes!$K:$K,0),1))","v":""},{"$f":"IF(BJ269=\"\",\"\",INDEX(referentes!V:W,MATCH(BJ269,referentes!$W:$W,0),1))","v":""},{"$f":"IF(BK269=\"\",\"\",INDEX(referentes!Y:Z,MATCH(BK269,referentes!$Z:$Z,0),1))","v":""},{"$f":"IF(BL269=\"\",\"\",INDEX(referentes!AB:AC,MATCH(BL269,referentes!$AC:$AC,0),1))","v":""},{"$f":"IF(BM269=\"\",\"\",INDEX(referentes!AE:AF,MATCH(BM269,referentes!$AF:$AF,0),1))","v":""},{"$f":"IF(BB269=\"\",\"\",INDEX(referentes!M:N,MATCH(BB269,referentes!$N:$N,0),1))","v":""},{"$f":"IF(BQ269=\"\",\"\",INDEX('Otras referencias'!S:T,MATCH(BQ269,'Otras referencias'!$T:$T,0),1))","v":""},{"$f":"IF(BN269=\"\",\"\",INDEX('Otras referencias'!A:B,MATCH(BN269,'Otras referencias'!$B:$B,0),1))","v":""},""]
[1,"",{"$f":"IF(E270<>\"\",CONCATENATE(DIGITADOR!$M$1,TEXT(D270, \"YYYYMMDD\"),ROW()-5),\"\")","v":""},null,null,"",{"$f":"IF(H270=\"\",\"\",INDEX(referentes!AQ:AR,MATCH(H270,referentes!$AR:$AR,0),1))","v":""},null,{"$f":"IF(J270=\"\",\"\",VLOOKUP(J270,referentes!$AL$2:$AO$29,3,FALSE))","v":""},null,null,null,null,null,null,null,null,null,null,null,null,"",null,null,null,null,null,null,null,null,null,null,null,null,null,null,null,null,null,null,null,null,null,null,null,null,null,{"$f":"IF(AW270=\"\",\"\",DIGITADOR!$B$14)","v":""},"",null,null,null,"",null,null,null,null,null,null,null,null,null,null,null,null,null,null,null,null,null,null,"",{"$f":"IF(C270=\"\",\"\",IF(COUNTIF($C$6:C270, C270)>1, \"\", C270))","v":""},{"$f":"IF(N270=\"\",\"\",INDEX(referentes!P:Q,MATCH(N270,referentes!$Q:$Q,0),1))","v":""},{"$f":"IF(O270=\"\",\"\",INDEX(referentes!$A:$B,MATCH(O270,referentes!$B:$B,0),1))","v":""},{"$f":"IF(S270=\"\",\"\",INDEX(referentes!D:E,MATCH(S270,referentes!$E:$E,0),1))","v":""},{"$f":"IF(T270=\"\",\"\",INDEX(referentes!G:H,MATCH(T270,referentes!$H:$H,0),1))","v":""},"",{"$f":"IF(Y270=\"\",\"\",INDEX(referentes!S:T,MATCH(Y270,referentes!$T:$T,0),1))","v":""},{"$f":"IF(BO270=\"\",\"\",INDEX(referentes!J:K,MATCH(BO270,referentes!$K:$K,0),1))","v":""},{"$f":"IF(BJ270=\"\",\"\",INDEX(referentes!V:W,MATCH(BJ270,referentes!$W:$W,0),1))","v":""},{"$f":"IF(BK270=\"\",\"\",INDEX(referentes!Y:Z,MATCH(BK270,referentes!$Z:$Z,0),1))","v":""},{"$f":"IF(BL270=\"\",\"\",INDEX(referentes!AB:AC,MATCH(BL270,referentes!$AC:$AC,0),1))","v":""},{"$f":"IF(BM270=\"\",\"\",INDEX(referentes!AE:AF,MATCH(BM270,referentes!$AF:$AF,0),1))","v":""},{"$f":"IF(BB270=\"\",\"\",INDEX(referentes!M:N,MATCH(BB270,referentes!$N:$N,0),1))","v":""},{"$f":"IF(BQ270=\"\",\"\",INDEX('Otras referencias'!S:T,MATCH(BQ270,'Otras referencias'!$T:$T,0),1))","v":""},{"$f":"IF(BN270=\"\",\"\",INDEX('Otras referencias'!A:B,MATCH(BN270,'Otras referencias'!$B:$B,0),1))","v":""},""]
[{"$f":"IF(CJ271=CJ270,A270,A270+1)","v":1},{"$f":"IF(BZ271=\"\",\"\",IF(BZ271=BZ270,B270,B270+1))","v":""},{"$f":"IF(E271<>\"\",CONCATENATE(DIGITADOR!$M$1,TEXT(D271, \"YYYYMMDD\"),ROW()-5),\"\")","v":""},null,null,"",{"$f":"IF(H271=\"\",\"\",INDEX(referentes!AQ:AR,MATCH(H271,referentes!$AR:$AR,0),1))","v":""},null,{"$f":"IF(J271=\"\",\"\",VLOOKUP(J271,referentes!$AL$2:$AO$29,3,FALSE))","v":""},null,null,null,null,null,null,null,null,null,null,null,null,{"$f":"IF(W271=\"\",\"\",IF(W271=W270,B270,B270+1))","v":""},null,null,null,null,null,null,null,null,null,null,null,null,null,null,null,null,null,null,null,null,null,null,null,null,null,{"$f":"IF(AW271=\"\",\"\",DIGITADOR!$B$14)","v":""},{"$f":"IF(SUM(Z271:AU271)=0,\"\",SUM(Z271:AU271))","v":""},null,null,null,{"$f":"IF(SUM(AX271:AZ271)=0,\"\",SUM(AX271:AZ271))","v":""},null,null,null,null,null,null,null,null,null,null,null,null,null,null,null,null,null,null,"",{"$f":"IF(C271=\"\",\"\",IF(COUNTIF($C$6:C271, C271)>1, \"\", C271))","v":""},{"$f":"IF(N271=\"\",\"\",INDEX(referentes!P:Q,MATCH(N271,referentes!$Q:$Q,0),1))","v":""},{"$f":"IF(O271=\"\",\"\",INDEX(referentes!$A:$B,MATCH(O271,referentes!$B:$B,0),1))","v":""},{"$f":"IF(S271=\"\",\"\",INDEX(referentes!D:E,MATCH(S271,referentes!$E:$E,0),1))","v":""},{"$f":"IF(T271=\"\",\"\",INDEX(referentes!G:H,MATCH(T271,referentes!$H:$H,0),1))","v":""},{"$f":"CONCATENATE(F271,G271,I271,BV271,BW271,BX271,BY271,P271,Q271,R271)","v":""},{"$f":"IF(Y271=\"\",\"\",INDEX(referentes!S:T,MATCH(Y271,referentes!$T:$T,0),1))","v":""},{"$f":"IF(BO271=\"\",\"\",INDEX(referentes!J:K,MATCH(BO271,referentes!$K:$K,0),1))","v":""},{"$f":"IF(BJ271=\"\",\"\",INDEX(referentes!V:W,MATCH(BJ271,referentes!$W:$W,0),1))","v":""},{"$f":"IF(BK271=\"\",\"\",INDEX(referentes!Y:Z,MATCH(BK271,referentes!$Z:$Z,0),1))","v":""},{"$f":"IF(BL271=\"\",\"\",INDEX(referentes!AB:AC,MATCH(BL271,referentes!$AC:$AC,0),1))","v":""},{"$f":"IF(BM271=\"\",\"\",INDEX(referentes!AE:AF,MATCH(BM271,referentes!$AF:$AF,0),1))","v":""},{"$f":"IF(BB271=\"\",\"\",INDEX(referentes!M:N,MATCH(BB271,referentes!$N:$N,0),1))","v":""},{"$f":"IF(BQ271=\"\",\"\",INDEX('Otras referencias'!S:T,MATCH(BQ271,'Otras referencias'!$T:$T,0),1))","v":""},{"$f":"IF(BN271=\"\",\"\",INDEX('Otras referencias'!A:B,MATCH(BN271,'Otras referencias'!$B:$B,0),1))","v":""},{"$f":"IF(D271=\"\",\"\",CONCATENATE(TEXT(D271,\"YYYYMMDD\"),I271))","v":""}]
[1,"",{"$f":"IF(E272<>\"\",CONCATENATE(DIGITADOR!$M$1,TEXT(D272, \"YYYYMMDD\"),ROW()-5),\"\")","v":""},null,null,"",{"$f":"IF(H272=\"\",\"\",INDEX(referentes!AQ:AR,MATCH(H272,referentes!$AR:$AR,0),1))","v":""},null,{"$f":"IF(J272=\"\",\"\",VLOOKUP(J272,referentes!$AL$2:$AO$29,3,FALSE))","v":""},null,null,null,null,null,null,null,null,null,null,null,null,"",null,null,null,null,null,null,null,null,null,null,null,null,null,null,null,null,null,null,null,null,null,null,null,null,null,{"$f":"IF(AW272=\"\",\"\",DIGITADOR!$B$14)","v":""},"",null,null,null,"",null,null,null,null,null,null,null,null,null,null,null,null,null,null,null,null,null,null,"",{"$f":"IF(C272=\"\",\"\",IF(COUNTIF($C$6:C272, C272)>1, \"\", C272))","v":""},{"$f":"IF(N272=\"\",\"\",INDEX(referentes!P:Q,MATCH(N272,referentes!$Q:$Q,0),1))","v":""},{"$f":"IF(O272=\"\",\"\",INDEX(referentes!$A:$B,MATCH(O272,referentes!$B:$B,0),1))","v":""},{"$f":"IF(S272=\"\",\"\",INDEX(referentes!D:E,MATCH(S272,referentes!$E:$E,0),1))","v":""},{"$f":"IF(T272=\"\",\"\",INDEX(referentes!G:H,MATCH(T272,referentes!$H:$H,0),1))","v":""},"",{"$f":"IF(Y272=\"\",\"\",INDEX(referentes!S:T,MATCH(Y272,referentes!$T:$T,0),1))","v":""},{"$f":"IF(BO272=\"\",\"\",INDEX(referentes!J:K,MATCH(BO272,referentes!$K:$K,0),1))","v":""},{"$f":"IF(BJ272=\"\",\"\",INDEX(referentes!V:W,MATCH(BJ272,referentes!$W:$W,0),1))","v":""},{"$f":"IF(BK272=\"\",\"\",INDEX(referentes!Y:Z,MATCH(BK272,referentes!$Z:$Z,0),1))","v":""},{"$f":"IF(BL272=\"\",\"\",INDEX(referentes!AB:AC,MATCH(BL272,referentes!$AC:$AC,0),1))","v":""},{"$f":"IF(BM272=\"\",\"\",INDEX(referentes!AE:AF,MATCH(BM272,referentes!$AF:$AF,0),1))","v":""},{"$f":"IF(BB272=\"\",\"\",INDEX(referentes!M:N,MATCH(BB272,referentes!$N:$N,0),1))","v":""},{"$f":"IF(BQ272=\"\",\"\",INDEX('Otras referencias'!S:T,MATCH(BQ272,'Otras referencias'!$T:$T,0),1))","v":""},{"$f":"IF(BN272=\"\",\"\",INDEX('Otras referencias'!A:B,MATCH(BN272,'Otras referencias'!$B:$B,0),1))","v":""},""]
[1,"",{"$f":"IF(E273<>\"\",CONCATENATE(DIGITADOR!$M$1,TEXT(D273, \"YYYYMMDD\"),ROW()-5),\"\")","v":""},null,null,"",{"$f":"IF(H273=\"\",\"\",INDEX(referentes!AQ:AR,MATCH(H273,referentes!$AR:$AR,0),1))","v":""},null,{"$f":"IF(J273=\"\",\"\",VLOOKUP(J273,referentes!$AL$2:$AO$29,3,FALSE))","v":""},null,null,null,null,null,null,null,null,null,null,null,null,"",null,null,null,null,null,null,null,null,null,null,null,null,null,null,null,null,null,null,null,null,null,null,null,null,null,{"$f":"IF(AW273=\"\",\"\",DIGITADOR!$B$14)","v":""},"",null,null,null,"",null,null,null,null,null,null,null,null,null,null,null,null,null,null,null,null,null,null,"",{"$f":"IF(C273=\"\",\"\",IF(COUNTIF($C$6:C273, C273)>1, \"\", C273))","v":""},{"$f":"IF(N273=\"\",\"\",INDEX(referentes!P:Q,MATCH(N273,referentes!$Q:$Q,0),1))","v":""},{"$f":"IF(O273=\"\",\"\",INDEX(referentes!$A:$B,MATCH(O273,referentes!$B:$B,0),1))","v":""},{"$f":"IF(S273=\"\",\"\",INDEX(referentes!D:E,MATCH(S273,referentes!$E:$E,0),1))","v":""},{"$f":"IF(T273=\"\",\"\",INDEX(referentes!G:H,MATCH(T273,referentes!$H:$H,0),1))","v":""},"",{"$f":"IF(Y273=\"\",\"\",INDEX(referentes!S:T,MATCH(Y273,referentes!$T:$T,0),1))","v":""},{"$f":"IF(BO273=\"\",\"\",INDEX(referentes!J:K,MATCH(BO273,referentes!$K:$K,0),1))","v":""},{"$f":"IF(BJ273=\"\",\"\",INDEX(referentes!V:W,MATCH(BJ273,referentes!$W:$W,0),1))","v":""},{"$f":"IF(BK273=\"\",\"\",INDEX(referentes!Y:Z,MATCH(BK273,referentes!$Z:$Z,0),1))","v":""},{"$f":"IF(BL273=\"\",\"\",INDEX(referentes!AB:AC,MATCH(BL273,referentes!$AC:$AC,0),1))","v":""},{"$f":"IF(BM273=\"\",\"\",INDEX(referentes!AE:AF,MATCH(BM273,referentes!$AF:$AF,0),1))","v":""},{"$f":"IF(BB273=\"\",\"\",INDEX(referentes!M:N,MATCH(BB273,referentes!$N:$N,0),1))","v":""},{"$f":"IF(BQ273=\"\",\"\",INDEX('Otras referencias'!S:T,MATCH(BQ273,'Otras referencias'!$T:$T,0),1))","v":""},{"$f":"IF(BN273=\"\",\"\",INDEX('Otras referencias'!A:B,MATCH(BN273,'Otras referencias'!$B:$B,0),1))","v":""},""]
[1,"",{"$f":"IF(E274<>\"\",CONCATENATE(DIGITADOR!$M$1,TEXT(D274, \"YYYYMMDD\"),ROW()-5),\"\")","v":""},null,null,"",{"$f":"IF(H274=\"\",\"\",INDEX(referentes!AQ:AR,MATCH(H274,referentes!$AR:$AR,0),1))","v":""},null,{"$f":"IF(J274=\"\",\"\",VLOOKUP(J274,referentes!$AL$2:$AO$29,3,FALSE))","v":""},null,null,null,null,null,null,null,null,null,null,null,null,"",null,null,null,null,null,null,null,null,null,null,null,null,null,null,null,null,null,null,null,null,null,null,null,null,null,{"$f":"IF(AW274=\"\",\"\",DIGITADOR!$B$14)","v":""},"",null,null,null,"",null,null,null,null,null,null,null,null,null,null,null,null,null,null,null,null,null,null,"",{"$f":"IF(C274=\"\",\"\",IF(COUNTIF($C$6:C274, C274)>1, \"\", C274))","v":""},{"$f":"IF(N274=\"\",\"\",INDEX(referentes!P:Q,MATCH(N274,referentes!$Q:$Q,0),1))","v":""},{"$f":"IF(O274=\"\",\"\",INDEX(referentes!$A:$B,MATCH(O274,referentes!$B:$B,0),1))","v":""},{"$f":"IF(S274=\"\",\"\",INDEX(referentes!D:E,MATCH(S274,referentes!$E:$E,0),1))","v":""},{"$f":"IF(T274=\"\",\"\",INDEX(referentes!G:H,MATCH(T274,referentes!$H:$H,0),1))","v":""},"",{"$f":"IF(Y274=\"\",\"\",INDEX(referentes!S:T,MATCH(Y274,referentes!$T:$T,0),1))","v":""},{"$f":"IF(BO274=\"\",\"\",INDEX(referentes!J:K,MATCH(BO274,referentes!$K:$K,0),1))","v":""},{"$f":"IF(BJ274=\"\",\"\",INDEX(referentes!V:W,MATCH(BJ274,referentes!$W:$W,0),1))","v":""},{"$f":"IF(BK274=\"\",\"\",INDEX(referentes!Y:Z,MATCH(BK274,referentes!$Z:$Z,0),1))","v":""},{"$f":"IF(BL274=\"\",\"\",INDEX(referentes!AB:AC,MATCH(BL274,referentes!$AC:$AC,0),1))","v":""},{"$f":"IF(BM274=\"\",\"\",INDEX(referentes!AE:AF,MATCH(BM274,referentes!$AF:$AF,0),1))","v":""},{"$f":"IF(BB274=\"\",\"\",INDEX(referentes!M:N,MATCH(BB274,referentes!$N:$N,0),1))","v":""},{"$f":"IF(BQ274=\"\",\"\",INDEX('Otras referencias'!S:T,MATCH(BQ274,'Otras referencias'!$T:$T,0),1))","v":""},{"$f":"IF(BN274=\"\",\"\",INDEX('Otras referencias'!A:B,MATCH(BN274,'Otras referencias'!$B:$B,0),1))","v":""},""]
[1,"",{"$f":"IF(E275<>\"\",CONCATENATE(DIGITADOR!$M$1,TEXT(D275, \"YYYYMMDD\"),ROW()-5),\"\")","v":""},null,null,"",{"$f":"IF(H275=\"\",\"\",INDEX(referentes!AQ:AR,MATCH(H275,referentes!$AR:$AR,0),1))","v":""},null,{"$f":"IF(J275=\"\",\"\",VLOOKUP(J275,referentes!$AL$2:$AO$29,3,FALSE))","v":""},null,null,null,null,null,null,null,null,null,null,null,null,"",null,null,null,null,null,null,null,null,null,null,null,null,null,null,null,null,null,null,null,null,null,null,null,null,null,{"$f":"IF(AW275=\"\",\"\",DIGITADOR!$B$14)","v":""},"",null,null,null,"",null,null,null,null,null,null,null,null,null,null,null,null,null,null,null,null,null,null,"",{"$f":"IF(C275=\"\",\"\",IF(COUNTIF($C$6:C275, C275)>1, \"\", C275))","v":""},{"$f":"IF(N275=\"\",\"\",INDEX(referentes!P:Q,MATCH(N275,referentes!$Q:$Q,0),1))","v":""},{"$f":"IF(O275=\"\",\"\",INDEX(referentes!$A:$B,MATCH(O275,referentes!$B:$B,0),1))","v":""},{"$f":"IF(S275=\"\",\"\",INDEX(referentes!D:E,MATCH(S275,referentes!$E:$E,0),1))","v":""},{"$f":"IF(T275=\"\",\"\",INDEX(referentes!G:H,MATCH(T275,referentes!$H:$H,0),1))","v":""},"",{"$f":"IF(Y275=\"\",\"\",INDEX(referentes!S:T,MATCH(Y275,referentes!$T:$T,0),1))","v":""},{"$f":"IF(BO275=\"\",\"\",INDEX(referentes!J:K,MATCH(BO275,referentes!$K:$K,0),1))","v":""},{"$f":"IF(BJ275=\"\",\"\",INDEX(referentes!V:W,MATCH(BJ275,referentes!$W:$W,0),1))","v":""},{"$f":"IF(BK275=\"\",\"\",INDEX(referentes!Y:Z,MATCH(BK275,referentes!$Z:$Z,0),1))","v":""},{"$f":"IF(BL275=\"\",\"\",INDEX(referentes!AB:AC,MATCH(BL275,referentes!$AC:$AC,0),1))","v":""},{"$f":"IF(BM275=\"\",\"\",INDEX(referentes!AE:AF,MATCH(BM275,referentes!$AF:$AF,0),1))","v":""},{"$f":"IF(BB275=\"\",\"\",INDEX(referentes!M:N,MATCH(BB275,referentes!$N:$N,0),1))","v":""},{"$f":"IF(BQ275=\"\",\"\",INDEX('Otras referencias'!S:T,MATCH(BQ275,'Otras referencias'!$T:$T,0),1))","v":""},{"$f":"IF(BN275=\"\",\"\",INDEX('Otras referencias'!A:B,MATCH(BN275,'Otras referencias'!$B:$B,0),1))","v":""},""]
[1,"",{"$f":"IF(E276<>\"\",CONCATENATE(DIGITADOR!$M$1,TEXT(D276, \"YYYYMMDD\"),ROW()-5),\"\")","v":""},null,null,"",{"$f":"IF(H276=\"\",\"\",INDEX(referentes!AQ:AR,MATCH(H276,referentes!$AR:$AR,0),1))","v":""},null,{"$f":"IF(J276=\"\",\"\",VLOOKUP(J276,referentes!$AL$2:$AO$29,3,FALSE))","v":""},null,null,null,null,null,null,null,null,null,null,null,null,"",null,null,null,null,null,null,null,null,null,null,null,null,null,null,null,null,null,null,null,null,null,null,null,null,null,{"$f":"IF(AW276=\"\",\"\",DIGITADOR!$B$14)","v":""},"",null,null,null,"",null,null,null,null,null,null,null,null,null,null,null,null,null,null,null,null,null,null,"",{"$f":"IF(C276=\"\",\"\",IF(COUNTIF($C$6:C276, C276)>1, \"\", C276))","v":""},{"$f":"IF(N276=\"\",\"\",INDEX(referentes!P:Q,MATCH(N276,referentes!$Q:$Q,0),1))","v":""},{"$f":"IF(O276=\"\",\"\",INDEX(referentes!$A:$B,MATCH(O276,referentes!$B:$B,0),1))","v":""},{"$f":"IF(S276=\"\",\"\",INDEX(referentes!D:E,MATCH(S276,referentes!$E:$E,0),1))","v":""},{"$f":"IF(T276=\"\",\"\",INDEX(referentes!G:H,MATCH(T276,referentes!$H:$H,0),1))","v":""},"",{"$f":"IF(Y276=\"\",\"\",INDEX(referentes!S:T,MATCH(Y276,referentes!$T:$T,0),1))","v":""},{"$f":"IF(BO276=\"\",\"\",INDEX(referentes!J:K,MATCH(BO276,referentes!$K:$K,0),1))","v":""},{"$f":"IF(BJ276=\"\",\"\",INDEX(referentes!V:W,MATCH(BJ276,referentes!$W:$W,0),1))","v":""},{"$f":"IF(BK276=\"\",\"\",INDEX(referentes!Y:Z,MATCH(BK276,referentes!$Z:$Z,0),1))","v":""},{"$f":"IF(BL276=\"\",\"\",INDEX(referentes!AB:AC,MATCH(BL276,referentes!$AC:$AC,0),1))","v":""},{"$f":"IF(BM276=\"\",\"\",INDEX(referentes!AE:AF,MATCH(BM276,referentes!$AF:$AF,0),1))","v":""},{"$f":"IF(BB276=\"\",\"\",INDEX(referentes!M:N,MATCH(BB276,referentes!$N:$N,0),1))","v":""},{"$f":"IF(BQ276=\"\",\"\",INDEX('Otras referencias'!S:T,MATCH(BQ276,'Otras referencias'!$T:$T,0),1))","v":""},{"$f":"IF(BN276=\"\",\"\",INDEX('Otras referencias'!A:B,MATCH(BN276,'Otras referencias'!$B:$B,0),1))","v":""},""]
[1,"",{"$f":"IF(E277<>\"\",CONCATENATE(DIGITADOR!$M$1,TEXT(D277, \"YYYYMMDD\"),ROW()-5),\"\")","v":""},null,null,"",{"$f":"IF(H277=\"\",\"\",INDEX(referentes!AQ:AR,MATCH(H277,referentes!$AR:$AR,0),1))","v":""},null,{"$f":"IF(J277=\"\",\"\",VLOOKUP(J277,referentes!$AL$2:$AO$29,3,FALSE))","v":""},null,null,null,null,null,null,null,null,null,null,null,null,"",null,null,null,null,null,null,null,null,null,null,null,null,null,null,null,null,null,null,null,null,null,null,null,null,null,{"$f":"IF(AW277=\"\",\"\",DIGITADOR!$B$14)","v":""},"",null,null,null,"",null,null,null,null,null,null,null,null,null,null,null,null,null,null,null,null,null,null,"",{"$f":"IF(C277=\"\",\"\",IF(COUNTIF($C$6:C277, C277)>1, \"\", C277))","v":""},{"$f":"IF(N277=\"\",\"\",INDEX(referentes!P:Q,MATCH(N277,referentes!$Q:$Q,0),1))","v":""},{"$f":"IF(O277=\"\",\"\",INDEX(referentes!$A:$B,MATCH(O277,referentes!$B:$B,0),1))","v":""},{"$f":"IF(S277=\"\",\"\",INDEX(referentes!D:E,MATCH(S277,referentes!$E:$E,0),1))","v":""},{"$f":"IF(T277=\"\",\"\",INDEX(referentes!G:H,MATCH(T277,referentes!$H:$H,0),1))","v":""},"",{"$f":"IF(Y277=\"\",\"\",INDEX(referentes!S:T,MATCH(Y277,referentes!$T:$T,0),1))","v":""},{"$f":"IF(BO277=\"\",\"\",INDEX(referentes!J:K,MATCH(BO277,referentes!$K:$K,0),1))","v":""},{"$f":"IF(BJ277=\"\",\"\",INDEX(referentes!V:W,MATCH(BJ277,referentes!$W:$W,0),1))","v":""},{"$f":"IF(BK277=\"\",\"\",INDEX(referentes!Y:Z,MATCH(BK277,referentes!$Z:$Z,0),1))","v":""},{"$f":"IF(BL277=\"\",\"\",INDEX(referentes!AB:AC,MATCH(BL277,referentes!$AC:$AC,0),1))","v":""},{"$f":"IF(BM277=\"\",\"\",INDEX(referentes!AE:AF,MATCH(BM277,referentes!$AF:$AF,0),1))","v":""},{"$f":"IF(BB277=\"\",\"\",INDEX(referentes!M:N,MATCH(BB277,referentes!$N:$N,0),1))","v":""},{"$f":"IF(BQ277=\"\",\"\",INDEX('Otras referencias'!S:T,MATCH(BQ277,'Otras referencias'!$T:$T,0),1))","v":""},{"$f":"IF(BN277=\"\",\"\",INDEX('Otras referencias'!A:B,MATCH(BN277,'Otras referencias'!$B:$B,0),1))","v":""},""]
[1,"",{"$f":"IF(E278<>\"\",CONCATENATE(DIGITADOR!$M$1,TEXT(D278, \"YYYYMMDD\"),ROW()-5),\"\")","v":""},null,null,"",{"$f":"IF(H278=\"\",\"\",INDEX(referentes!AQ:AR,MATCH(H278,referentes!$AR:$AR,0),1))","v":""},null,{"$f":"IF(J278=\"\",\"\",VLOOKUP(J278,referentes!$AL$2:$AO$29,3,FALSE))","v":""},null,null,null,null,null,null,null,null,null,null,null,null,"",null,null,null,null,null,null,null,null,null,null,null,null,null,null,null,null,null,null,null,null,null,null,null,null,null,{"$f":"IF(AW278=\"\",\"\",DIGITADOR!$B$14)","v":""},"",null,null,null,"",null,null,null,null,null,null,null,null,null,null,null,null,null,null,null,null,null,null,"",{"$f":"IF(C278=\"\",\"\",IF(COUNTIF($C$6:C278, C278)>1, \"\", C278))","v":""},{"$f":"IF(N278=\"\",\"\",INDEX(referentes!P:Q,MATCH(N278,referentes!$Q:$Q,0),1))","v":""},{"$f":"IF(O278=\"\",\"\",INDEX(referentes!$A:$B,MATCH(O278,referentes!$B:$B,0),1))","v":""},{"$f":"IF(S278=\"\",\"\",INDEX(referentes!D:E,MATCH(S278,referentes!$E:$E,0),1))","v":""},{"$f":"IF(T278=\"\",\"\",INDEX(referentes!G:H,MATCH(T278,referentes!$H:$H,0),1))","v":""},"",{"$f":"IF(Y278=\"\",\"\",INDEX(referentes!S:T,MATCH(Y278,referentes!$T:$T,0),1))","v":""},{"$f":"IF(BO278=\"\",\"\",INDEX(referentes!J:K,MATCH(BO278,referentes!$K:$K,0),1))","v":""},{"$f":"IF(BJ278=\"\",\"\",INDEX(referentes!V:W,MATCH(BJ278,referentes!$W:$W,0),1))","v":""},{"$f":"IF(BK278=\"\",\"\",INDEX(referentes!Y:Z,MATCH(BK278,referentes!$Z:$Z,0),1))","v":""},{"$f":"IF(BL278=\"\",\"\",INDEX(referentes!AB:AC,MATCH(BL278,referentes!$AC:$AC,0),1))","v":""},{"$f":"IF(BM278=\"\",\"\",INDEX(referentes!AE:AF,MATCH(BM278,referentes!$AF:$AF,0),1))","v":""},{"$f":"IF(BB278=\"\",\"\",INDEX(referentes!M:N,MATCH(BB278,referentes!$N:$N,0),1))","v":""},{"$f":"IF(BQ278=\"\",\"\",INDEX('Otras referencias'!S:T,MATCH(BQ278,'Otras referencias'!$T:$T,0),1))","v":""},{"$f":"IF(BN278=\"\",\"\",INDEX('Otras referencias'!A:B,MATCH(BN278,'Otras referencias'!$B:$B,0),1))","v":""},""]
[1,"",{"$f":"IF(E279<>\"\",CONCATENATE(DIGITADOR!$M$1,TEXT(D279, \"YYYYMMDD\"),ROW()-5),\"\")","v":""},null,null,"",{"$f":"IF(H279=\"\",\"\",INDEX(referentes!AQ:AR,MATCH(H279,referentes!$AR:$AR,0),1))","v":""},null,{"$f":"IF(J279=\"\",\"\",VLOOKUP(J279,referentes!$AL$2:$AO$29,3,FALSE))","v":""},null,null,null,null,null,null,null,null,null,null,null,null,"",null,null,null,null,null,null,null,null,null,null,null,null,null,null,null,null,null,null,null,null,null,null,null,null,null,{"$f":"IF(AW279=\"\",\"\",DIGITADOR!$B$14)","v":""},"",null,null,null,"",null,null,null,null,null,null,null,null,null,null,null,null,null,null,null,null,null,null,"",{"$f":"IF(C279=\"\",\"\",IF(COUNTIF($C$6:C279, C279)>1, \"\", C279))","v":""},{"$f":"IF(N279=\"\",\"\",INDEX(referentes!P:Q,MATCH(N279,referentes!$Q:$Q,0),1))","v":""},{"$f":"IF(O279=\"\",\"\",INDEX(referentes!$A:$B,MATCH(O279,referentes!$B:$B,0),1))","v":""},{"$f":"IF(S279=\"\",\"\",INDEX(referentes!D:E,MATCH(S279,referentes!$E:$E,0),1))","v":""},{"$f":"IF(T279=\"\",\"\",INDEX(referentes!G:H,MATCH(T279,referentes!$H:$H,0),1))","v":""},"",{"$f":"IF(Y279=\"\",\"\",INDEX(referentes!S:T,MATCH(Y279,referentes!$T:$T,0),1))","v":""},{"$f":"IF(BO279=\"\",\"\",INDEX(referentes!J:K,MATCH(BO279,referentes!$K:$K,0),1))","v":""},{"$f":"IF(BJ279=\"\",\"\",INDEX(referentes!V:W,MATCH(BJ279,referentes!$W:$W,0),1))","v":""},{"$f":"IF(BK279=\"\",\"\",INDEX(referentes!Y:Z,MATCH(BK279,referentes!$Z:$Z,0),1))","v":""},{"$f":"IF(BL279=\"\",\"\",INDEX(referentes!AB:AC,MATCH(BL279,referentes!$AC:$AC,0),1))","v":""},{"$f":"IF(BM279=\"\",\"\",INDEX(referentes!AE:AF,MATCH(BM279,referentes!$AF:$AF,0),1))","v":""},{"$f":"IF(BB279=\"\",\"\",INDEX(referentes!M:N,MATCH(BB279,referentes!$N:$N,0),1))","v":""},{"$f":"IF(BQ279=\"\",\"\",INDEX('Otras referencias'!S:T,MATCH(BQ279,'Otras referencias'!$T:$T,0),1))","v":""},{"$f":"IF(BN279=\"\",\"\",INDEX('Otras referencias'!A:B,MATCH(BN279,'Otras referencias'!$B:$B,0),1))","v":""},""]
[1,"",{"$f":"IF(E280<>\"\",CONCATENATE(DIGITADOR!$M$1,TEXT(D280, \"YYYYMMDD\"),ROW()-5),\"\")","v":""},null,null,"",{"$f":"IF(H280=\"\",\"\",INDEX(referentes!AQ:AR,MATCH(H280,referentes!$AR:$AR,0),1))","v":""},null,{"$f":"IF(J280=\"\",\"\",VLOOKUP(J280,referentes!$AL$2:$AO$29,3,FALSE))","v":""},null,null,null,null,null,null,null,null,null,null,null,null,"",null,null,null,null,null,null,null,null,null,null,null,null,null,null,null,null,null,null,null,null,null,null,null,null,null,{"$f":"IF(AW280=\"\",\"\",DIGITADOR!$B$14)","v":""},"",null,null,null,"",null,null,null,null,null,null,null,null,null,null,null,null,null,null,null,null,null,null,"",{"$f":"IF(C280=\"\",\"\",IF(COUNTIF($C$6:C280, C280)>1, \"\", C280))","v":""},{"$f":"IF(N280=\"\",\"\",INDEX(referentes!P:Q,MATCH(N280,referentes!$Q:$Q,0),1))","v":""},{"$f":"IF(O280=\"\",\"\",INDEX(referentes!$A:$B,MATCH(O280,referentes!$B:$B,0),1))","v":""},{"$f":"IF(S280=\"\",\"\",INDEX(referentes!D:E,MATCH(S280,referentes!$E:$E,0),1))","v":""},{"$f":"IF(T280=\"\",\"\",INDEX(referentes!G:H,MATCH(T280,referentes!$H:$H,0),1))","v":""},"",{"$f":"IF(Y280=\"\",\"\",INDEX(referentes!S:T,MATCH(Y280,referentes!$T:$T,0),1))","v":""},{"$f":"IF(BO280=\"\",\"\",INDEX(referentes!J:K,MATCH(BO280,referentes!$K:$K,0),1))","v":""},{"$f":"IF(BJ280=\"\",\"\",INDEX(referentes!V:W,MATCH(BJ280,referentes!$W:$W,0),1))","v":""},{"$f":"IF(BK280=\"\",\"\",INDEX(referentes!Y:Z,MATCH(BK280,referentes!$Z:$Z,0),1))","v":""},{"$f":"IF(BL280=\"\",\"\",INDEX(referentes!AB:AC,MATCH(BL280,referentes!$AC:$AC,0),1))","v":""},{"$f":"IF(BM280=\"\",\"\",INDEX(referentes!AE:AF,MATCH(BM280,referentes!$AF:$AF,0),1))","v":""},{"$f":"IF(BB280=\"\",\"\",INDEX(referentes!M:N,MATCH(BB280,referentes!$N:$N,0),1))","v":""},{"$f":"IF(BQ280=\"\",\"\",INDEX('Otras referencias'!S:T,MATCH(BQ280,'Otras referencias'!$T:$T,0),1))","v":""},{"$f":"IF(BN280=\"\",\"\",INDEX('Otras referencias'!A:B,MATCH(BN280,'Otras referencias'!$B:$B,0),1))","v":""},""]
[1,"",{"$f":"IF(E281<>\"\",CONCATENATE(DIGITADOR!$M$1,TEXT(D281, \"YYYYMMDD\"),ROW()-5),\"\")","v":""},null,null,"",{"$f":"IF(H281=\"\",\"\",INDEX(referentes!AQ:AR,MATCH(H281,referentes!$AR:$AR,0),1))","v":""},null,{"$f":"IF(J281=\"\",\"\",VLOOKUP(J281,referentes!$AL$2:$AO$29,3,FALSE))","v":""},null,null,null,null,null,null,null,null,null,null,null,null,"",null,null,null,null,null,null,null,null,null,null,null,null,null,null,null,null,null,null,null,null,null,null,null,null,null,{"$f":"IF(AW281=\"\",\"\",DIGITADOR!$B$14)","v":""},"",null,null,null,"",null,null,null,null,null,null,null,null,null,null,null,null,null,null,null,null,null,null,"",{"$f":"IF(C281=\"\",\"\",IF(COUNTIF($C$6:C281, C281)>1, \"\", C281))","v":""},{"$f":"IF(N281=\"\",\"\",INDEX(referentes!P:Q,MATCH(N281,referentes!$Q:$Q,0),1))","v":""},{"$f":"IF(O281=\"\",\"\",INDEX(referentes!$A:$B,MATCH(O281,referentes!$B:$B,0),1))","v":""},{"$f":"IF(S281=\"\",\"\",INDEX(referentes!D:E,MATCH(S281,referentes!$E:$E,0),1))","v":""},{"$f":"IF(T281=\"\",\"\",INDEX(referentes!G:H,MATCH(T281,referentes!$H:$H,0),1))","v":""},"",{"$f":"IF(Y281=\"\",\"\",INDEX(referentes!S:T,MATCH(Y281,referentes!$T:$T,0),1))","v":""},{"$f":"IF(BO281=\"\",\"\",INDEX(referentes!J:K,MATCH(BO281,referentes!$K:$K,0),1))","v":""},{"$f":"IF(BJ281=\"\",\"\",INDEX(referentes!V:W,MATCH(BJ281,referentes!$W:$W,0),1))","v":""},{"$f":"IF(BK281=\"\",\"\",INDEX(referentes!Y:Z,MATCH(BK281,referentes!$Z:$Z,0),1))","v":""},{"$f":"IF(BL281=\"\",\"\",INDEX(referentes!AB:AC,MATCH(BL281,referentes!$AC:$AC,0),1))","v":""},{"$f":"IF(BM281=\"\",\"\",INDEX(referentes!AE:AF,MATCH(BM281,referentes!$AF:$AF,0),1))","v":""},{"$f":"IF(BB281=\"\",\"\",INDEX(referentes!M:N,MATCH(BB281,referentes!$N:$N,0),1))","v":""},{"$f":"IF(BQ281=\"\",\"\",INDEX('Otras referencias'!S:T,MATCH(BQ281,'Otras referencias'!$T:$T,0),1))","v":""},{"$f":"IF(BN281=\"\",\"\",INDEX('Otras referencias'!A:B,MATCH(BN281,'Otras referencias'!$B:$B,0),1))","v":""},""]
[1,"",{"$f":"IF(E282<>\"\",CONCATENATE(DIGITADOR!$M$1,TEXT(D282, \"YYYYMMDD\"),ROW()-5),\"\")","v":""},null,null,"",{"$f":"IF(H282=\"\",\"\",INDEX(referentes!AQ:AR,MATCH(H282,referentes!$AR:$AR,0),1))","v":""},null,{"$f":"IF(J282=\"\",\"\",VLOOKUP(J282,referentes!$AL$2:$AO$29,3,FALSE))","v":""},null,null,null,null,null,null,null,null,null,null,null,null,"",null,null,null,null,null,null,null,null,null,null,null,null,null,null,null,null,null,null,null,null,null,null,null,null,null,{"$f":"IF(AW282=\"\",\"\",DIGITADOR!$B$14)","v":""},"",null,null,null,"",null,null,null,null,null,null,null,null,null,null,null,null,null,null,null,null,null,null,"",{"$f":"IF(C282=\"\",\"\",IF(COUNTIF($C$6:C282, C282)>1, \"\", C282))","v":""},{"$f":"IF(N282=\"\",\"\",INDEX(referentes!P:Q,MATCH(N282,referentes!$Q:$Q,0),1))","v":""},{"$f":"IF(O282=\"\",\"\",INDEX(referentes!$A:$B,MATCH(O282,referentes!$B:$B,0),1))","v":""},{"$f":"IF(S282=\"\",\"\",INDEX(referentes!D:E,MATCH(S282,referentes!$E:$E,0),1))","v":""},{"$f":"IF(T282=\"\",\"\",INDEX(referentes!G:H,MATCH(T282,referentes!$H:$H,0),1))","v":""},"",{"$f":"IF(Y282=\"\",\"\",INDEX(referentes!S:T,MATCH(Y282,referentes!$T:$T,0),1))","v":""},{"$f":"IF(BO282=\"\",\"\",INDEX(referentes!J:K,MATCH(BO282,referentes!$K:$K,0),1))","v":""},{"$f":"IF(BJ282=\"\",\"\",INDEX(referentes!V:W,MATCH(BJ282,referentes!$W:$W,0),1))","v":""},{"$f":"IF(BK282=\"\",\"\",INDEX(referentes!Y:Z,MATCH(BK282,referentes!$Z:$Z,0),1))","v":""},{"$f":"IF(BL282=\"\",\"\",INDEX(referentes!AB:AC,MATCH(BL282,referentes!$AC:$AC,0),1))","v":""},{"$f":"IF(BM282=\"\",\"\",INDEX(referentes!AE:AF,MATCH(BM282,referentes!$AF:$AF,0),1))","v":""},{"$f":"IF(BB282=\"\",\"\",INDEX(referentes!M:N,MATCH(BB282,referentes!$N:$N,0),1))","v":""},{"$f":"IF(BQ282=\"\",\"\",INDEX('Otras referencias'!S:T,MATCH(BQ282,'Otras referencias'!$T:$T,0),1))","v":""},{"$f":"IF(BN282=\"\",\"\",INDEX('Otras referencias'!A:B,MATCH(BN282,'Otras referencias'!$B:$B,0),1))","v":""},""]
[1,"",{"$f":"IF(E283<>\"\",CONCATENATE(DIGITADOR!$M$1,TEXT(D283, \"YYYYMMDD\"),ROW()-5),\"\")","v":""},null,null,"",{"$f":"IF(H283=\"\",\"\",INDEX(referentes!AQ:AR,MATCH(H283,referentes!$AR:$AR,0),1))","v":""},null,{"$f":"IF(J283=\"\",\"\",VLOOKUP(J283,referentes!$AL$2:$AO$29,3,FALSE))","v":""},null,null,null,null,null,null,null,null,null,null,null,null,"",null,null,null,null,null,null,null,null,null,null,null,null,null,null,null,null,null,null,null,null,null,null,null,null,null,{"$f":"IF(AW283=\"\",\"\",DIGITADOR!$B$14)","v":""},"",null,null,null,"",null,null,null,null,null,null,null,null,null,null,null,null,null,null,null,null,null,null,"",{"$f":"IF(C283=\"\",\"\",IF(COUNTIF($C$6:C283, C283)>1, \"\", C283))","v":""},{"$f":"IF(N283=\"\",\"\",INDEX(referentes!P:Q,MATCH(N283,referentes!$Q:$Q,0),1))","v":""},{"$f":"IF(O283=\"\",\"\",INDEX(referentes!$A:$B,MATCH(O283,referentes!$B:$B,0),1))","v":""},{"$f":"IF(S283=\"\",\"\",INDEX(referentes!D:E,MATCH(S283,referentes!$E:$E,0),1))","v":""},{"$f":"IF(T283=\"\",\"\",INDEX(referentes!G:H,MATCH(T283,referentes!$H:$H,0),1))","v":""},"",{"$f":"IF(Y283=\"\",\"\",INDEX(referentes!S:T,MATCH(Y283,referentes!$T:$T,0),1))","v":""},{"$f":"IF(BO283=\"\",\"\",INDEX(referentes!J:K,MATCH(BO283,referentes!$K:$K,0),1))","v":""},{"$f":"IF(BJ283=\"\",\"\",INDEX(referentes!V:W,MATCH(BJ283,referentes!$W:$W,0),1))","v":""},{"$f":"IF(BK283=\"\",\"\",INDEX(referentes!Y:Z,MATCH(BK283,referentes!$Z:$Z,0),1))","v":""},{"$f":"IF(BL283=\"\",\"\",INDEX(referentes!AB:AC,MATCH(BL283,referentes!$AC:$AC,0),1))","v":""},{"$f":"IF(BM283=\"\",\"\",INDEX(referentes!AE:AF,MATCH(BM283,referentes!$AF:$AF,0),1))","v":""},{"$f":"IF(BB283=\"\",\"\",INDEX(referentes!M:N,MATCH(BB283,referentes!$N:$N,0),1))","v":""},{"$f":"IF(BQ283=\"\",\"\",INDEX('Otras referencias'!S:T,MATCH(BQ283,'Otras referencias'!$T:$T,0),1))","v":""},{"$f":"IF(BN283=\"\",\"\",INDEX('Otras referencias'!A:B,MATCH(BN283,'Otras referencias'!$B:$B,0),1))","v":""},""]
[1,"",{"$f":"IF(E284<>\"\",CONCATENATE(DIGITADOR!$M$1,TEXT(D284, \"YYYYMMDD\"),ROW()-5),\"\")","v":""},null,null,"",{"$f":"IF(H284=\"\",\"\",INDEX(referentes!AQ:AR,MATCH(H284,referentes!$AR:$AR,0),1))","v":""},null,{"$f":"IF(J284=\"\",\"\",VLOOKUP(J284,referentes!$AL$2:$AO$29,3,FALSE))","v":""},null,null,null,null,null,null,null,null,null,null,null,null,"",null,null,null,null,null,null,null,null,null,null,null,null,null,null,null,null,null,null,null,null,null,null,null,null,null,{"$f":"IF(AW284=\"\",\"\",DIGITADOR!$B$14)","v":""},"",null,null,null,"",null,null,null,null,null,null,null,null,null,null,null,null,null,null,null,null,null,null,"",{"$f":"IF(C284=\"\",\"\",IF(COUNTIF($C$6:C284, C284)>1, \"\", C284))","v":""},{"$f":"IF(N284=\"\",\"\",INDEX(referentes!P:Q,MATCH(N284,referentes!$Q:$Q,0),1))","v":""},{"$f":"IF(O284=\"\",\"\",INDEX(referentes!$A:$B,MATCH(O284,referentes!$B:$B,0),1))","v":""},{"$f":"IF(S284=\"\",\"\",INDEX(referentes!D:E,MATCH(S284,referentes!$E:$E,0),1))","v":""},{"$f":"IF(T284=\"\",\"\",INDEX(referentes!G:H,MATCH(T284,referentes!$H:$H,0),1))","v":""},"",{"$f":"IF(Y284=\"\",\"\",INDEX(referentes!S:T,MATCH(Y284,referentes!$T:$T,0),1))","v":""},{"$f":"IF(BO284=\"\",\"\",INDEX(referentes!J:K,MATCH(BO284,referentes!$K:$K,0),1))","v":""},{"$f":"IF(BJ284=\"\",\"\",INDEX(referentes!V:W,MATCH(BJ284,referentes!$W:$W,0),1))","v":""},{"$f":"IF(BK284=\"\",\"\",INDEX(referentes!Y:Z,MATCH(BK284,referentes!$Z:$Z,0),1))","v":""},{"$f":"IF(BL284=\"\",\"\",INDEX(referentes!AB:AC,MATCH(BL284,referentes!$AC:$AC,0),1))","v":""},{"$f":"IF(BM284=\"\",\"\",INDEX(referentes!AE:AF,MATCH(BM284,referentes!$AF:$AF,0),1))","v":""},{"$f":"IF(BB284=\"\",\"\",INDEX(referentes!M:N,MATCH(BB284,referentes!$N:$N,0),1))","v":""},{"$f":"IF(BQ284=\"\",\"\",INDEX('Otras referencias'!S:T,MATCH(BQ284,'Otras referencias'!$T:$T,0),1))","v":""},{"$f":"IF(BN284=\"\",\"\",INDEX('Otras referencias'!A:B,MATCH(BN284,'Otras referencias'!$B:$B,0),1))","v":""},""]
[1,"",{"$f":"IF(E285<>\"\",CONCATENATE(DIGITADOR!$M$1,TEXT(D285, \"YYYYMMDD\"),ROW()-5),\"\")","v":""},null,null,"",{"$f":"IF(H285=\"\",\"\",INDEX(referentes!AQ:AR,MATCH(H285,referentes!$AR:$AR,0),1))","v":""},null,{"$f":"IF(J285=\"\",\"\",VLOOKUP(J285,referentes!$AL$2:$AO$29,3,FALSE))","v":""},null,null,null,null,null,null,null,null,null,null,null,null,"",null,null,null,null,null,null,null,null,null,null,null,null,null,null,null,null,null,null,null,null,null,null,null,null,null,{"$f":"IF(AW285=\"\",\"\",DIGITADOR!$B$14)","v":""},"",null,null,null,"",null,null,null,null,null,null,null,null,null,null,null,null,null,null,null,null,null,null,"",{"$f":"IF(C285=\"\",\"\",IF(COUNTIF($C$6:C285, C285)>1, \"\", C285))","v":""},{"$f":"IF(N285=\"\",\"\",INDEX(referentes!P:Q,MATCH(N285,referentes!$Q:$Q,0),1))","v":""},{"$f":"IF(O285=\"\",\"\",INDEX(referentes!$A:$B,MATCH(O285,referentes!$B:$B,0),1))","v":""},{"$f":"IF(S285=\"\",\"\",INDEX(referentes!D:E,MATCH(S285,referentes!$E:$E,0),1))","v":""},{"$f":"IF(T285=\"\",\"\",INDEX(referentes!G:H,MATCH(T285,referentes!$H:$H,0),1))","v":""},"",{"$f":"IF(Y285=\"\",\"\",INDEX(referentes!S:T,MATCH(Y285,referentes!$T:$T,0),1))","v":""},{"$f":"IF(BO285=\"\",\"\",INDEX(referentes!J:K,MATCH(BO285,referentes!$K:$K,0),1))","v":""},{"$f":"IF(BJ285=\"\",\"\",INDEX(referentes!V:W,MATCH(BJ285,referentes!$W:$W,0),1))","v":""},{"$f":"IF(BK285=\"\",\"\",INDEX(referentes!Y:Z,MATCH(BK285,referentes!$Z:$Z,0),1))","v":""},{"$f":"IF(BL285=\"\",\"\",INDEX(referentes!AB:AC,MATCH(BL285,referentes!$AC:$AC,0),1))","v":""},{"$f":"IF(BM285=\"\",\"\",INDEX(referentes!AE:AF,MATCH(BM285,referentes!$AF:$AF,0),1))","v":""},{"$f":"IF(BB285=\"\",\"\",INDEX(referentes!M:N,MATCH(BB285,referentes!$N:$N,0),1))","v":""},{"$f":"IF(BQ285=\"\",\"\",INDEX('Otras referencias'!S:T,MATCH(BQ285,'Otras referencias'!$T:$T,0),1))","v":""},{"$f":"IF(BN285=\"\",\"\",INDEX('Otras referencias'!A:B,MATCH(BN285,'Otras referencias'!$B:$B,0),1))","v":""},""]
[1,"",{"$f":"IF(E286<>\"\",CONCATENATE(DIGITADOR!$M$1,TEXT(D286, \"YYYYMMDD\"),ROW()-5),\"\")","v":""},null,null,"",{"$f":"IF(H286=\"\",\"\",INDEX(referentes!AQ:AR,MATCH(H286,referentes!$AR:$AR,0),1))","v":""},null,{"$f":"IF(J286=\"\",\"\",VLOOKUP(J286,referentes!$AL$2:$AO$29,3,FALSE))","v":""},null,null,null,null,null,null,null,null,null,null,null,null,"",null,null,null,null,null,null,null,null,null,null,null,null,null,null,null,null,null,null,null,null,null,null,null,null,null,{"$f":"IF(AW286=\"\",\"\",DIGITADOR!$B$14)","v":""},"",null,null,null,"",null,null,null,null,null,null,null,null,null,null,null,null,null,null,null,null,null,null,"",{"$f":"IF(C286=\"\",\"\",IF(COUNTIF($C$6:C286, C286)>1, \"\", C286))","v":""},{"$f":"IF(N286=\"\",\"\",INDEX(referentes!P:Q,MATCH(N286,referentes!$Q:$Q,0),1))","v":""},{"$f":"IF(O286=\"\",\"\",INDEX(referentes!$A:$B,MATCH(O286,referentes!$B:$B,0),1))","v":""},{"$f":"IF(S286=\"\",\"\",INDEX(referentes!D:E,MATCH(S286,referentes!$E:$E,0),1))","v":""},{"$f":"IF(T286=\"\",\"\",INDEX(referentes!G:H,MATCH(T286,referentes!$H:$H,0),1))","v":""},"",{"$f":"IF(Y286=\"\",\"\",INDEX(referentes!S:T,MATCH(Y286,referentes!$T:$T,0),1))","v":""},{"$f":"IF(BO286=\"\",\"\",INDEX(referentes!J:K,MATCH(BO286,referentes!$K:$K,0),1))","v":""},{"$f":"IF(BJ286=\"\",\"\",INDEX(referentes!V:W,MATCH(BJ286,referentes!$W:$W,0),1))","v":""},{"$f":"IF(BK286=\"\",\"\",INDEX(referentes!Y:Z,MATCH(BK286,referentes!$Z:$Z,0),1))","v":""},{"$f":"IF(BL286=\"\",\"\",INDEX(referentes!AB:AC,MATCH(BL286,referentes!$AC:$AC,0),1))","v":""},{"$f":"IF(BM286=\"\",\"\",INDEX(referentes!AE:AF,MATCH(BM286,referentes!$AF:$AF,0),1))","v":""},{"$f":"IF(BB286=\"\",\"\",INDEX(referentes!M:N,MATCH(BB286,referentes!$N:$N,0),1))","v":""},{"$f":"IF(BQ286=\"\",\"\",INDEX('Otras referencias'!S:T,MATCH(BQ286,'Otras referencias'!$T:$T,0),1))","v":""},{"$f":"IF(BN286=\"\",\"\",INDEX('Otras referencias'!A:B,MATCH(BN286,'Otras referencias'!$B:$B,0),1))","v":""},""]
[1,"",{"$f":"IF(E287<>\"\",CONCATENATE(DIGITADOR!$M$1,TEXT(D287, \"YYYYMMDD\"),ROW()-5),\"\")","v":""},null,null,"",{"$f":"IF(H287=\"\",\"\",INDEX(referentes!AQ:AR,MATCH(H287,referentes!$AR:$AR,0),1))","v":""},null,{"$f":"IF(J287=\"\",\"\",VLOOKUP(J287,referentes!$AL$2:$AO$29,3,FALSE))","v":""},null,null,null,null,null,null,null,null,null,null,null,null,"",null,null,null,null,null,null,null,null,null,null,null,null,null,null,null,null,null,null,null,null,null,null,null,null,null,{"$f":"IF(AW287=\"\",\"\",DIGITADOR!$B$14)","v":""},"",null,null,null,"",null,null,null,null,null,null,null,null,null,null,null,null,null,null,null,null,null,null,"",{"$f":"IF(C287=\"\",\"\",IF(COUNTIF($C$6:C287, C287)>1, \"\", C287))","v":""},{"$f":"IF(N287=\"\",\"\",INDEX(referentes!P:Q,MATCH(N287,referentes!$Q:$Q,0),1))","v":""},{"$f":"IF(O287=\"\",\"\",INDEX(referentes!$A:$B,MATCH(O287,referentes!$B:$B,0),1))","v":""},{"$f":"IF(S287=\"\",\"\",INDEX(referentes!D:E,MATCH(S287,referentes!$E:$E,0),1))","v":""},{"$f":"IF(T287=\"\",\"\",INDEX(referentes!G:H,MATCH(T287,referentes!$H:$H,0),1))","v":""},"",{"$f":"IF(Y287=\"\",\"\",INDEX(referentes!S:T,MATCH(Y287,referentes!$T:$T,0),1))","v":""},{"$f":"IF(BO287=\"\",\"\",INDEX(referentes!J:K,MATCH(BO287,referentes!$K:$K,0),1))","v":""},{"$f":"IF(BJ287=\"\",\"\",INDEX(referentes!V:W,MATCH(BJ287,referentes!$W:$W,0),1))","v":""},{"$f":"IF(BK287=\"\",\"\",INDEX(referentes!Y:Z,MATCH(BK287,referentes!$Z:$Z,0),1))","v":""},{"$f":"IF(BL287=\"\",\"\",INDEX(referentes!AB:AC,MATCH(BL287,referentes!$AC:$AC,0),1))","v":""},{"$f":"IF(BM287=\"\",\"\",INDEX(referentes!AE:AF,MATCH(BM287,referentes!$AF:$AF,0),1))","v":""},{"$f":"IF(BB287=\"\",\"\",INDEX(referentes!M:N,MATCH(BB287,referentes!$N:$N,0),1))","v":""},{"$f":"IF(BQ287=\"\",\"\",INDEX('Otras referencias'!S:T,MATCH(BQ287,'Otras referencias'!$T:$T,0),1))","v":""},{"$f":"IF(BN287=\"\",\"\",INDEX('Otras referencias'!A:B,MATCH(BN287,'Otras referencias'!$B:$B,0),1))","v":""},""]
[1,"",{"$f":"IF(E288<>\"\",CONCATENATE(DIGITADOR!$M$1,TEXT(D288, \"YYYYMMDD\"),ROW()-5),\"\")","v":""},null,null,"",{"$f":"IF(H288=\"\",\"\",INDEX(referentes!AQ:AR,MATCH(H288,referentes!$AR:$AR,0),1))","v":""},null,{"$f":"IF(J288=\"\",\"\",VLOOKUP(J288,referentes!$AL$2:$AO$29,3,FALSE))","v":""},null,null,null,null,null,null,null,null,null,null,null,null,"",null,null,null,null,null,null,null,null,null,null,null,null,null,null,null,null,null,null,null,null,null,null,null,null,null,{"$f":"IF(AW288=\"\",\"\",DIGITADOR!$B$14)","v":""},"",null,null,null,"",null,null,null,null,null,null,null,null,null,null,null,null,null,null,null,null,null,null,"",{"$f":"IF(C288=\"\",\"\",IF(COUNTIF($C$6:C288, C288)>1, \"\", C288))","v":""},{"$f":"IF(N288=\"\",\"\",INDEX(referentes!P:Q,MATCH(N288,referentes!$Q:$Q,0),1))","v":""},{"$f":"IF(O288=\"\",\"\",INDEX(referentes!$A:$B,MATCH(O288,referentes!$B:$B,0),1))","v":""},{"$f":"IF(S288=\"\",\"\",INDEX(referentes!D:E,MATCH(S288,referentes!$E:$E,0),1))","v":""},{"$f":"IF(T288=\"\",\"\",INDEX(referentes!G:H,MATCH(T288,referentes!$H:$H,0),1))","v":""},"",{"$f":"IF(Y288=\"\",\"\",INDEX(referentes!S:T,MATCH(Y288,referentes!$T:$T,0),1))","v":""},{"$f":"IF(BO288=\"\",\"\",INDEX(referentes!J:K,MATCH(BO288,referentes!$K:$K,0),1))","v":""},{"$f":"IF(BJ288=\"\",\"\",INDEX(referentes!V:W,MATCH(BJ288,referentes!$W:$W,0),1))","v":""},{"$f":"IF(BK288=\"\",\"\",INDEX(referentes!Y:Z,MATCH(BK288,referentes!$Z:$Z,0),1))","v":""},{"$f":"IF(BL288=\"\",\"\",INDEX(referentes!AB:AC,MATCH(BL288,referentes!$AC:$AC,0),1))","v":""},{"$f":"IF(BM288=\"\",\"\",INDEX(referentes!AE:AF,MATCH(BM288,referentes!$AF:$AF,0),1))","v":""},{"$f":"IF(BB288=\"\",\"\",INDEX(referentes!M:N,MATCH(BB288,referentes!$N:$N,0),1))","v":""},{"$f":"IF(BQ288=\"\",\"\",INDEX('Otras referencias'!S:T,MATCH(BQ288,'Otras referencias'!$T:$T,0),1))","v":""},{"$f":"IF(BN288=\"\",\"\",INDEX('Otras referencias'!A:B,MATCH(BN288,'Otras referencias'!$B:$B,0),1))","v":""},""]
[1,"",{"$f":"IF(E289<>\"\",CONCATENATE(DIGITADOR!$M$1,TEXT(D289, \"YYYYMMDD\"),ROW()-5),\"\")","v":""},null,null,"",{"$f":"IF(H289=\"\",\"\",INDEX(referentes!AQ:AR,MATCH(H289,referentes!$AR:$AR,0),1))","v":""},null,{"$f":"IF(J289=\"\",\"\",VLOOKUP(J289,referentes!$AL$2:$AO$29,3,FALSE))","v":""},null,null,null,null,null,null,null,null,null,null,null,null,"",null,null,null,null,null,null,null,null,null,null,null,null,null,null,null,null,null,null,null,null,null,null,null,null,null,{"$f":"IF(AW289=\"\",\"\",DIGITADOR!$B$14)","v":""},"",null,null,null,"",null,null,null,null,null,null,null,null,null,null,null,null,null,null,null,null,null,null,"",{"$f":"IF(C289=\"\",\"\",IF(COUNTIF($C$6:C289, C289)>1, \"\", C289))","v":""},{"$f":"IF(N289=\"\",\"\",INDEX(referentes!P:Q,MATCH(N289,referentes!$Q:$Q,0),1))","v":""},{"$f":"IF(O289=\"\",\"\",INDEX(referentes!$A:$B,MATCH(O289,referentes!$B:$B,0),1))","v":""},{"$f":"IF(S289=\"\",\"\",INDEX(referentes!D:E,MATCH(S289,referentes!$E:$E,0),1))","v":""},{"$f":"IF(T289=\"\",\"\",INDEX(referentes!G:H,MATCH(T289,referentes!$H:$H,0),1))","v":""},"",{"$f":"IF(Y289=\"\",\"\",INDEX(referentes!S:T,MATCH(Y289,referentes!$T:$T,0),1))","v":""},{"$f":"IF(BO289=\"\",\"\",INDEX(referentes!J:K,MATCH(BO289,referentes!$K:$K,0),1))","v":""},{"$f":"IF(BJ289=\"\",\"\",INDEX(referentes!V:W,MATCH(BJ289,referentes!$W:$W,0),1))","v":""},{"$f":"IF(BK289=\"\",\"\",INDEX(referentes!Y:Z,MATCH(BK289,referentes!$Z:$Z,0),1))","v":""},{"$f":"IF(BL289=\"\",\"\",INDEX(referentes!AB:AC,MATCH(BL289,referentes!$AC:$AC,0),1))","v":""},{"$f":"IF(BM289=\"\",\"\",INDEX(referentes!AE:AF,MATCH(BM289,referentes!$AF:$AF,0),1))","v":""},{"$f":"IF(BB289=\"\",\"\",INDEX(referentes!M:N,MATCH(BB289,referentes!$N:$N,0),1))","v":""},{"$f":"IF(BQ289=\"\",\"\",INDEX('Otras referencias'!S:T,MATCH(BQ289,'Otras referencias'!$T:$T,0),1))","v":""},{"$f":"IF(BN289=\"\",\"\",INDEX('Otras referencias'!A:B,MATCH(BN289,'Otras referencias'!$B:$B,0),1))","v":""},""]
[1,"",{"$f":"IF(E290<>\"\",CONCATENATE(DIGITADOR!$M$1,TEXT(D290, \"YYYYMMDD\"),ROW()-5),\"\")","v":""},null,null,"",{"$f":"IF(H290=\"\",\"\",INDEX(referentes!AQ:AR,MATCH(H290,referentes!$AR:$AR,0),1))","v":""},null,{"$f":"IF(J290=\"\",\"\",VLOOKUP(J290,referentes!$AL$2:$AO$29,3,FALSE))","v":""},null,null,null,null,null,null,null,null,null,null,null,null,"",null,null,null,null,null,null,null,null,null,null,null,null,null,null,null,null,null,null,null,null,null,null,null,null,null,{"$f":"IF(AW290=\"\",\"\",DIGITADOR!$B$14)","v":""},"",null,null,null,"",null,null,null,null,null,null,null,null,null,null,null,null,null,null,null,null,null,null,"",{"$f":"IF(C290=\"\",\"\",IF(COUNTIF($C$6:C290, C290)>1, \"\", C290))","v":""},{"$f":"IF(N290=\"\",\"\",INDEX(referentes!P:Q,MATCH(N290,referentes!$Q:$Q,0),1))","v":""},{"$f":"IF(O290=\"\",\"\",INDEX(referentes!$A:$B,MATCH(O290,referentes!$B:$B,0),1))","v":""},{"$f":"IF(S290=\"\",\"\",INDEX(referentes!D:E,MATCH(S290,referentes!$E:$E,0),1))","v":""},{"$f":"IF(T290=\"\",\"\",INDEX(referentes!G:H,MATCH(T290,referentes!$H:$H,0),1))","v":""},"",{"$f":"IF(Y290=\"\",\"\",INDEX(referentes!S:T,MATCH(Y290,referentes!$T:$T,0),1))","v":""},{"$f":"IF(BO290=\"\",\"\",INDEX(referentes!J:K,MATCH(BO290,referentes!$K:$K,0),1))","v":""},{"$f":"IF(BJ290=\"\",\"\",INDEX(referentes!V:W,MATCH(BJ290,referentes!$W:$W,0),1))","v":""},{"$f":"IF(BK290=\"\",\"\",INDEX(referentes!Y:Z,MATCH(BK290,referentes!$Z:$Z,0),1))","v":""},{"$f":"IF(BL290=\"\",\"\",INDEX(referentes!AB:AC,MATCH(BL290,referentes!$AC:$AC,0),1))","v":""},{"$f":"IF(BM290=\"\",\"\",INDEX(referentes!AE:AF,MATCH(BM290,referentes!$AF:$AF,0),1))","v":""},{"$f":"IF(BB290=\"\",\"\",INDEX(referentes!M:N,MATCH(BB290,referentes!$N:$N,0),1))","v":""},{"$f":"IF(BQ290=\"\",\"\",INDEX('Otras referencias'!S:T,MATCH(BQ290,'Otras referencias'!$T:$T,0),1))","v":""},{"$f":"IF(BN290=\"\",\"\",INDEX('Otras referencias'!A:B,MATCH(BN290,'Otras referencias'!$B:$B,0),1))","v":""},""]
[1,"",{"$f":"IF(E291<>\"\",CONCATENATE(DIGITADOR!$M$1,TEXT(D291, \"YYYYMMDD\"),ROW()-5),\"\")","v":""},null,null,"",{"$f":"IF(H291=\"\",\"\",INDEX(referentes!AQ:AR,MATCH(H291,referentes!$AR:$AR,0),1))","v":""},null,{"$f":"IF(J291=\"\",\"\",VLOOKUP(J291,referentes!$AL$2:$AO$29,3,FALSE))","v":""},null,null,null,null,null,null,null,null,null,null,null,null,"",null,null,null,null,null,null,null,null,null,null,null,null,null,null,null,null,null,null,null,null,null,null,null,null,null,{"$f":"IF(AW291=\"\",\"\",DIGITADOR!$B$14)","v":""},"",null,null,null,"",null,null,null,null,null,null,null,null,null,null,null,null,null,null,null,null,null,null,"",{"$f":"IF(C291=\"\",\"\",IF(COUNTIF($C$6:C291, C291)>1, \"\", C291))","v":""},{"$f":"IF(N291=\"\",\"\",INDEX(referentes!P:Q,MATCH(N291,referentes!$Q:$Q,0),1))","v":""},{"$f":"IF(O291=\"\",\"\",INDEX(referentes!$A:$B,MATCH(O291,referentes!$B:$B,0),1))","v":""},{"$f":"IF(S291=\"\",\"\",INDEX(referentes!D:E,MATCH(S291,referentes!$E:$E,0),1))","v":""},{"$f":"IF(T291=\"\",\"\",INDEX(referentes!G:H,MATCH(T291,referentes!$H:$H,0),1))","v":""},"",{"$f":"IF(Y291=\"\",\"\",INDEX(referentes!S:T,MATCH(Y291,referentes!$T:$T,0),1))","v":""},{"$f":"IF(BO291=\"\",\"\",INDEX(referentes!J:K,MATCH(BO291,referentes!$K:$K,0),1))","v":""},{"$f":"IF(BJ291=\"\",\"\",INDEX(referentes!V:W,MATCH(BJ291,referentes!$W:$W,0),1))","v":""},{"$f":"IF(BK291=\"\",\"\",INDEX(referentes!Y:Z,MATCH(BK291,referentes!$Z:$Z,0),1))","v":""},{"$f":"IF(BL291=\"\",\"\",INDEX(referentes!AB:AC,MATCH(BL291,referentes!$AC:$AC,0),1))","v":""},{"$f":"IF(BM291=\"\",\"\",INDEX(referentes!AE:AF,MATCH(BM291,referentes!$AF:$AF,0),1))","v":""},{"$f":"IF(BB291=\"\",\"\",INDEX(referentes!M:N,MATCH(BB291,referentes!$N:$N,0),1))","v":""},{"$f":"IF(BQ291=\"\",\"\",INDEX('Otras referencias'!S:T,MATCH(BQ291,'Otras referencias'!$T:$T,0),1))","v":""},{"$f":"IF(BN291=\"\",\"\",INDEX('Otras referencias'!A:B,MATCH(BN291,'Otras referencias'!$B:$B,0),1))","v":""},""]
[1,"",{"$f":"IF(E292<>\"\",CONCATENATE(DIGITADOR!$M$1,TEXT(D292, \"YYYYMMDD\"),ROW()-5),\"\")","v":""},null,null,"",{"$f":"IF(H292=\"\",\"\",INDEX(referentes!AQ:AR,MATCH(H292,referentes!$AR:$AR,0),1))","v":""},null,{"$f":"IF(J292=\"\",\"\",VLOOKUP(J292,referentes!$AL$2:$AO$29,3,FALSE))","v":""},null,null,null,null,null,null,null,null,null,null,null,null,"",null,null,null,null,null,null,null,null,null,null,null,null,null,null,null,null,null,null,null,null,null,null,null,null,null,{"$f":"IF(AW292=\"\",\"\",DIGITADOR!$B$14)","v":""},"",null,null,null,"",null,null,null,null,null,null,null,null,null,null,null,null,null,null,null,null,null,null,"",{"$f":"IF(C292=\"\",\"\",IF(COUNTIF($C$6:C292, C292)>1, \"\", C292))","v":""},{"$f":"IF(N292=\"\",\"\",INDEX(referentes!P:Q,MATCH(N292,referentes!$Q:$Q,0),1))","v":""},{"$f":"IF(O292=\"\",\"\",INDEX(referentes!$A:$B,MATCH(O292,referentes!$B:$B,0),1))","v":""},{"$f":"IF(S292=\"\",\"\",INDEX(referentes!D:E,MATCH(S292,referentes!$E:$E,0),1))","v":""},{"$f":"IF(T292=\"\",\"\",INDEX(referentes!G:H,MATCH(T292,referentes!$H:$H,0),1))","v":""},"",{"$f":"IF(Y292=\"\",\"\",INDEX(referentes!S:T,MATCH(Y292,referentes!$T:$T,0),1))","v":""},{"$f":"IF(BO292=\"\",\"\",INDEX(referentes!J:K,MATCH(BO292,referentes!$K:$K,0),1))","v":""},{"$f":"IF(BJ292=\"\",\"\",INDEX(referentes!V:W,MATCH(BJ292,referentes!$W:$W,0),1))","v":""},{"$f":"IF(BK292=\"\",\"\",INDEX(referentes!Y:Z,MATCH(BK292,referentes!$Z:$Z,0),1))","v":""},{"$f":"IF(BL292=\"\",\"\",INDEX(referentes!AB:AC,MATCH(BL292,referentes!$AC:$AC,0),1))","v":""},{"$f":"IF(BM292=\"\",\"\",INDEX(referentes!AE:AF,MATCH(BM292,referentes!$AF:$AF,0),1))","v":""},{"$f":"IF(BB292=\"\",\"\",INDEX(referentes!M:N,MATCH(BB292,referentes!$N:$N,0),1))","v":""},{"$f":"IF(BQ292=\"\",\"\",INDEX('Otras referencias'!S:T,MATCH(BQ292,'Otras referencias'!$T:$T,0),1))","v":""},{"$f":"IF(BN292=\"\",\"\",INDEX('Otras referencias'!A:B,MATCH(BN292,'Otras referencias'!$B:$B,0),1))","v":""},""]
[1,"",{"$f":"IF(E293<>\"\",CONCATENATE(DIGITADOR!$M$1,TEXT(D293, \"YYYYMMDD\"),ROW()-5),\"\")","v":""},null,null,"",{"$f":"IF(H293=\"\",\"\",INDEX(referentes!AQ:AR,MATCH(H293,referentes!$AR:$AR,0),1))","v":""},null,{"$f":"IF(J293=\"\",\"\",VLOOKUP(J293,referentes!$AL$2:$AO$29,3,FALSE))","v":""},null,null,null,null,null,null,null,null,null,null,null,null,"",null,null,null,null,null,null,null,null,null,null,null,null,null,null,null,null,null,null,null,null,null,null,null,null,null,{"$f":"IF(AW293=\"\",\"\",DIGITADOR!$B$14)","v":""},"",null,null,null,"",null,null,null,null,null,null,null,null,null,null,null,null,null,null,null,null,null,null,"",{"$f":"IF(C293=\"\",\"\",IF(COUNTIF($C$6:C293, C293)>1, \"\", C293))","v":""},{"$f":"IF(N293=\"\",\"\",INDEX(referentes!P:Q,MATCH(N293,referentes!$Q:$Q,0),1))","v":""},{"$f":"IF(O293=\"\",\"\",INDEX(referentes!$A:$B,MATCH(O293,referentes!$B:$B,0),1))","v":""},{"$f":"IF(S293=\"\",\"\",INDEX(referentes!D:E,MATCH(S293,referentes!$E:$E,0),1))","v":""},{"$f":"IF(T293=\"\",\"\",INDEX(referentes!G:H,MATCH(T293,referentes!$H:$H,0),1))","v":""},"",{"$f":"IF(Y293=\"\",\"\",INDEX(referentes!S:T,MATCH(Y293,referentes!$T:$T,0),1))","v":""},{"$f":"IF(BO293=\"\",\"\",INDEX(referentes!J:K,MATCH(BO293,referentes!$K:$K,0),1))","v":""},{"$f":"IF(BJ293=\"\",\"\",INDEX(referentes!V:W,MATCH(BJ293,referentes!$W:$W,0),1))","v":""},{"$f":"IF(BK293=\"\",\"\",INDEX(referentes!Y:Z,MATCH(BK293,referentes!$Z:$Z,0),1))","v":""},{"$f":"IF(BL293=\"\",\"\",INDEX(referentes!AB:AC,MATCH(BL293,referentes!$AC:$AC,0),1))","v":""},{"$f":"IF(BM293=\"\",\"\",INDEX(referentes!AE:AF,MATCH(BM293,referentes!$AF:$AF,0),1))","v":""},{"$f":"IF(BB293=\"\",\"\",INDEX(referentes!M:N,MATCH(BB293,referentes!$N:$N,0),1))","v":""},{"$f":"IF(BQ293=\"\",\"\",INDEX('Otras referencias'!S:T,MATCH(BQ293,'Otras referencias'!$T:$T,0),1))","v":""},{"$f":"IF(BN293=\"\",\"\",INDEX('Otras referencias'!A:B,MATCH(BN293,'Otras referencias'!$B:$B,0),1))","v":""},""]
[1,"",{"$f":"IF(E294<>\"\",CONCATENATE(DIGITADOR!$M$1,TEXT(D294, \"YYYYMMDD\"),ROW()-5),\"\")","v":""},null,null,"",{"$f":"IF(H294=\"\",\"\",INDEX(referentes!AQ:AR,MATCH(H294,referentes!$AR:$AR,0),1))","v":""},null,{"$f":"IF(J294=\"\",\"\",VLOOKUP(J294,referentes!$AL$2:$AO$29,3,FALSE))","v":""},null,null,null,null,null,null,null,null,null,null,null,null,"",null,null,null,null,null,null,null,null,null,null,null,null,null,null,null,null,null,null,null,null,null,null,null,null,null,{"$f":"IF(AW294=\"\",\"\",DIGITADOR!$B$14)","v":""},"",null,null,null,"",null,null,null,null,null,null,null,null,null,null,null,null,null,null,null,null,null,null,"",{"$f":"IF(C294=\"\",\"\",IF(COUNTIF($C$6:C294, C294)>1, \"\", C294))","v":""},{"$f":"IF(N294=\"\",\"\",INDEX(referentes!P:Q,MATCH(N294,referentes!$Q:$Q,0),1))","v":""},{"$f":"IF(O294=\"\",\"\",INDEX(referentes!$A:$B,MATCH(O294,referentes!$B:$B,0),1))","v":""},{"$f":"IF(S294=\"\",\"\",INDEX(referentes!D:E,MATCH(S294,referentes!$E:$E,0),1))","v":""},{"$f":"IF(T294=\"\",\"\",INDEX(referentes!G:H,MATCH(T294,referentes!$H:$H,0),1))","v":""},"",{"$f":"IF(Y294=\"\",\"\",INDEX(referentes!S:T,MATCH(Y294,referentes!$T:$T,0),1))","v":""},{"$f":"IF(BO294=\"\",\"\",INDEX(referentes!J:K,MATCH(BO294,referentes!$K:$K,0),1))","v":""},{"$f":"IF(BJ294=\"\",\"\",INDEX(referentes!V:W,MATCH(BJ294,referentes!$W:$W,0),1))","v":""},{"$f":"IF(BK294=\"\",\"\",INDEX(referentes!Y:Z,MATCH(BK294,referentes!$Z:$Z,0),1))","v":""},{"$f":"IF(BL294=\"\",\"\",INDEX(referentes!AB:AC,MATCH(BL294,referentes!$AC:$AC,0),1))","v":""},{"$f":"IF(BM294=\"\",\"\",INDEX(referentes!AE:AF,MATCH(BM294,referentes!$AF:$AF,0),1))","v":""},{"$f":"IF(BB294=\"\",\"\",INDEX(referentes!M:N,MATCH(BB294,referentes!$N:$N,0),1))","v":""},{"$f":"IF(BQ294=\"\",\"\",INDEX('Otras referencias'!S:T,MATCH(BQ294,'Otras referencias'!$T:$T,0),1))","v":""},{"$f":"IF(BN294=\"\",\"\",INDEX('Otras referencias'!A:B,MATCH(BN294,'Otras referencias'!$B:$B,0),1))","v":""},""]
[1,"",{"$f":"IF(E295<>\"\",CONCATENATE(DIGITADOR!$M$1,TEXT(D295, \"YYYYMMDD\"),ROW()-5),\"\")","v":""},null,null,"",{"$f":"IF(H295=\"\",\"\",INDEX(referentes!AQ:AR,MATCH(H295,referentes!$AR:$AR,0),1))","v":""},null,{"$f":"IF(J295=\"\",\"\",VLOOKUP(J295,referentes!$AL$2:$AO$29,3,FALSE))","v":""},null,null,null,null,null,null,null,null,null,null,null,null,"",null,null,null,null,null,null,null,null,null,null,null,null,null,null,null,null,null,null,null,null,null,null,null,null,null,{"$f":"IF(AW295=\"\",\"\",DIGITADOR!$B$14)","v":""},"",null,null,null,"",null,null,null,null,null,null,null,null,null,null,null,null,null,null,null,null,null,null,"",{"$f":"IF(C295=\"\",\"\",IF(COUNTIF($C$6:C295, C295)>1, \"\", C295))","v":""},{"$f":"IF(N295=\"\",\"\",INDEX(referentes!P:Q,MATCH(N295,referentes!$Q:$Q,0),1))","v":""},{"$f":"IF(O295=\"\",\"\",INDEX(referentes!$A:$B,MATCH(O295,referentes!$B:$B,0),1))","v":""},{"$f":"IF(S295=\"\",\"\",INDEX(referentes!D:E,MATCH(S295,referentes!$E:$E,0),1))","v":""},{"$f":"IF(T295=\"\",\"\",INDEX(referentes!G:H,MATCH(T295,referentes!$H:$H,0),1))","v":""},"",{"$f":"IF(Y295=\"\",\"\",INDEX(referentes!S:T,MATCH(Y295,referentes!$T:$T,0),1))","v":""},{"$f":"IF(BO295=\"\",\"\",INDEX(referentes!J:K,MATCH(BO295,referentes!$K:$K,0),1))","v":""},{"$f":"IF(BJ295=\"\",\"\",INDEX(referentes!V:W,MATCH(BJ295,referentes!$W:$W,0),1))","v":""},{"$f":"IF(BK295=\"\",\"\",INDEX(referentes!Y:Z,MATCH(BK295,referentes!$Z:$Z,0),1))","v":""},{"$f":"IF(BL295=\"\",\"\",INDEX(referentes!AB:AC,MATCH(BL295,referentes!$AC:$AC,0),1))","v":""},{"$f":"IF(BM295=\"\",\"\",INDEX(referentes!AE:AF,MATCH(BM295,referentes!$AF:$AF,0),1))","v":""},{"$f":"IF(BB295=\"\",\"\",INDEX(referentes!M:N,MATCH(BB295,referentes!$N:$N,0),1))","v":""},{"$f":"IF(BQ295=\"\",\"\",INDEX('Otras referencias'!S:T,MATCH(BQ295,'Otras referencias'!$T:$T,0),1))","v":""},{"$f":"IF(BN295=\"\",\"\",INDEX('Otras referencias'!A:B,MATCH(BN295,'Otras referencias'!$B:$B,0),1))","v":""},""]
[1,"",{"$f":"IF(E296<>\"\",CONCATENATE(DIGITADOR!$M$1,TEXT(D296, \"YYYYMMDD\"),ROW()-5),\"\")","v":""},null,null,"",{"$f":"IF(H296=\"\",\"\",INDEX(referentes!AQ:AR,MATCH(H296,referentes!$AR:$AR,0),1))","v":""},null,{"$f":"IF(J296=\"\",\"\",VLOOKUP(J296,referentes!$AL$2:$AO$29,3,FALSE))","v":""},null,null,null,null,null,null,null,null,null,null,null,null,"",null,null,null,null,null,null,null,null,null,null,null,null,null,null,null,null,null,null,null,null,null,null,null,null,null,{"$f":"IF(AW296=\"\",\"\",DIGITADOR!$B$14)","v":""},"",null,null,null,"",null,null,null,null,null,null,null,null,null,null,null,null,null,null,null,null,null,null,"",{"$f":"IF(C296=\"\",\"\",IF(COUNTIF($C$6:C296, C296)>1, \"\", C296))","v":""},{"$f":"IF(N296=\"\",\"\",INDEX(referentes!P:Q,MATCH(N296,referentes!$Q:$Q,0),1))","v":""},{"$f":"IF(O296=\"\",\"\",INDEX(referentes!$A:$B,MATCH(O296,referentes!$B:$B,0),1))","v":""},{"$f":"IF(S296=\"\",\"\",INDEX(referentes!D:E,MATCH(S296,referentes!$E:$E,0),1))","v":""},{"$f":"IF(T296=\"\",\"\",INDEX(referentes!G:H,MATCH(T296,referentes!$H:$H,0),1))","v":""},"",{"$f":"IF(Y296=\"\",\"\",INDEX(referentes!S:T,MATCH(Y296,referentes!$T:$T,0),1))","v":""},{"$f":"IF(BO296=\"\",\"\",INDEX(referentes!J:K,MATCH(BO296,referentes!$K:$K,0),1))","v":""},{"$f":"IF(BJ296=\"\",\"\",INDEX(referentes!V:W,MATCH(BJ296,referentes!$W:$W,0),1))","v":""},{"$f":"IF(BK296=\"\",\"\",INDEX(referentes!Y:Z,MATCH(BK296,referentes!$Z:$Z,0),1))","v":""},{"$f":"IF(BL296=\"\",\"\",INDEX(referentes!AB:AC,MATCH(BL296,referentes!$AC:$AC,0),1))","v":""},{"$f":"IF(BM296=\"\",\"\",INDEX(referentes!AE:AF,MATCH(BM296,referentes!$AF:$AF,0),1))","v":""},{"$f":"IF(BB296=\"\",\"\",INDEX(referentes!M:N,MATCH(BB296,referentes!$N:$N,0),1))","v":""},{"$f":"IF(BQ296=\"\",\"\",INDEX('Otras referencias'!S:T,MATCH(BQ296,'Otras referencias'!$T:$T,0),1))","v":""},{"$f":"IF(BN296=\"\",\"\",INDEX('Otras referencias'!A:B,MATCH(BN296,'Otras referencias'!$B:$B,0),1))","v":""},""]
[1,"",{"$f":"IF(E297<>\"\",CONCATENATE(DIGITADOR!$M$1,TEXT(D297, \"YYYYMMDD\"),ROW()-5),\"\")","v":""},null,null,"",{"$f":"IF(H297=\"\",\"\",INDEX(referentes!AQ:AR,MATCH(H297,referentes!$AR:$AR,0),1))","v":""},null,{"$f":"IF(J297=\"\",\"\",VLOOKUP(J297,referentes!$AL$2:$AO$29,3,FALSE))","v":""},null,null,null,null,null,null,null,null,null,null,null,null,"",null,null,null,null,null,null,null,null,null,null,null,null,null,null,null,null,null,null,null,null,null,null,null,null,null,{"$f":"IF(AW297=\"\",\"\",DIGITADOR!$B$14)","v":""},"",null,null,null,"",null,null,null,null,null,null,null,null,null,null,null,null,null,null,null,null,null,null,"",{"$f":"IF(C297=\"\",\"\",IF(COUNTIF($C$6:C297, C297)>1, \"\", C297))","v":""},{"$f":"IF(N297=\"\",\"\",INDEX(referentes!P:Q,MATCH(N297,referentes!$Q:$Q,0),1))","v":""},{"$f":"IF(O297=\"\",\"\",INDEX(referentes!$A:$B,MATCH(O297,referentes!$B:$B,0),1))","v":""},{"$f":"IF(S297=\"\",\"\",INDEX(referentes!D:E,MATCH(S297,referentes!$E:$E,0),1))","v":""},{"$f":"IF(T297=\"\",\"\",INDEX(referentes!G:H,MATCH(T297,referentes!$H:$H,0),1))","v":""},"",{"$f":"IF(Y297=\"\",\"\",INDEX(referentes!S:T,MATCH(Y297,referentes!$T:$T,0),1))","v":""},{"$f":"IF(BO297=\"\",\"\",INDEX(referentes!J:K,MATCH(BO297,referentes!$K:$K,0),1))","v":""},{"$f":"IF(BJ297=\"\",\"\",INDEX(referentes!V:W,MATCH(BJ297,referentes!$W:$W,0),1))","v":""},{"$f":"IF(BK297=\"\",\"\",INDEX(referentes!Y:Z,MATCH(BK297,referentes!$Z:$Z,0),1))","v":""},{"$f":"IF(BL297=\"\",\"\",INDEX(referentes!AB:AC,MATCH(BL297,referentes!$AC:$AC,0),1))","v":""},{"$f":"IF(BM297=\"\",\"\",INDEX(referentes!AE:AF,MATCH(BM297,referentes!$AF:$AF,0),1))","v":""},{"$f":"IF(BB297=\"\",\"\",INDEX(referentes!M:N,MATCH(BB297,referentes!$N:$N,0),1))","v":""},{"$f":"IF(BQ297=\"\",\"\",INDEX('Otras referencias'!S:T,MATCH(BQ297,'Otras referencias'!$T:$T,0),1))","v":""},{"$f":"IF(BN297=\"\",\"\",INDEX('Otras referencias'!A:B,MATCH(BN297,'Otras referencias'!$B:$B,0),1))","v":""},""]
[1,"",{"$f":"IF(E298<>\"\",CONCATENATE(DIGITADOR!$M$1,TEXT(D298, \"YYYYMMDD\"),ROW()-5),\"\")","v":""},null,null,"",{"$f":"IF(H298=\"\",\"\",INDEX(referentes!AQ:AR,MATCH(H298,referentes!$AR:$AR,0),1))","v":""},null,{"$f":"IF(J298=\"\",\"\",VLOOKUP(J298,referentes!$AL$2:$AO$29,3,FALSE))","v":""},null,null,null,null,null,null,null,null,null,null,null,null,"",null,null,null,null,null,null,null,null,null,null,null,null,null,null,null,null,null,null,null,null,null,null,null,null,null,{"$f":"IF(AW298=\"\",\"\",DIGITADOR!$B$14)","v":""},"",null,null,null,"",null,null,null,null,null,null,null,null,null,null,null,null,null,null,null,null,null,null,"",{"$f":"IF(C298=\"\",\"\",IF(COUNTIF($C$6:C298, C298)>1, \"\", C298))","v":""},{"$f":"IF(N298=\"\",\"\",INDEX(referentes!P:Q,MATCH(N298,referentes!$Q:$Q,0),1))","v":""},{"$f":"IF(O298=\"\",\"\",INDEX(referentes!$A:$B,MATCH(O298,referentes!$B:$B,0),1))","v":""},{"$f":"IF(S298=\"\",\"\",INDEX(referentes!D:E,MATCH(S298,referentes!$E:$E,0),1))","v":""},{"$f":"IF(T298=\"\",\"\",INDEX(referentes!G:H,MATCH(T298,referentes!$H:$H,0),1))","v":""},"",{"$f":"IF(Y298=\"\",\"\",INDEX(referentes!S:T,MATCH(Y298,referentes!$T:$T,0),1))","v":""},{"$f":"IF(BO298=\"\",\"\",INDEX(referentes!J:K,MATCH(BO298,referentes!$K:$K,0),1))","v":""},{"$f":"IF(BJ298=\"\",\"\",INDEX(referentes!V:W,MATCH(BJ298,referentes!$W:$W,0),1))","v":""},{"$f":"IF(BK298=\"\",\"\",INDEX(referentes!Y:Z,MATCH(BK298,referentes!$Z:$Z,0),1))","v":""},{"$f":"IF(BL298=\"\",\"\",INDEX(referentes!AB:AC,MATCH(BL298,referentes!$AC:$AC,0),1))","v":""},{"$f":"IF(BM298=\"\",\"\",INDEX(referentes!AE:AF,MATCH(BM298,referentes!$AF:$AF,0),1))","v":""},{"$f":"IF(BB298=\"\",\"\",INDEX(referentes!M:N,MATCH(BB298,referentes!$N:$N,0),1))","v":""},{"$f":"IF(BQ298=\"\",\"\",INDEX('Otras referencias'!S:T,MATCH(BQ298,'Otras referencias'!$T:$T,0),1))","v":""},{"$f":"IF(BN298=\"\",\"\",INDEX('Otras referencias'!A:B,MATCH(BN298,'Otras referencias'!$B:$B,0),1))","v":""},""]
[1,"",{"$f":"IF(E299<>\"\",CONCATENATE(DIGITADOR!$M$1,TEXT(D299, \"YYYYMMDD\"),ROW()-5),\"\")","v":""},null,null,"",{"$f":"IF(H299=\"\",\"\",INDEX(referentes!AQ:AR,MATCH(H299,referentes!$AR:$AR,0),1))","v":""},null,{"$f":"IF(J299=\"\",\"\",VLOOKUP(J299,referentes!$AL$2:$AO$29,3,FALSE))","v":""},null,null,null,null,null,null,null,null,null,null,null,null,"",null,null,null,null,null,null,null,null,null,null,null,null,null,null,null,null,null,null,null,null,null,null,null,null,null,{"$f":"IF(AW299=\"\",\"\",DIGITADOR!$B$14)","v":""},"",null,null,null,"",null,null,null,null,null,null,null,null,null,null,null,null,null,null,null,null,null,null,"",{"$f":"IF(C299=\"\",\"\",IF(COUNTIF($C$6:C299, C299)>1, \"\", C299))","v":""},{"$f":"IF(N299=\"\",\"\",INDEX(referentes!P:Q,MATCH(N299,referentes!$Q:$Q,0),1))","v":""},{"$f":"IF(O299=\"\",\"\",INDEX(referentes!$A:$B,MATCH(O299,referentes!$B:$B,0),1))","v":""},{"$f":"IF(S299=\"\",\"\",INDEX(referentes!D:E,MATCH(S299,referentes!$E:$E,0),1))","v":""},{"$f":"IF(T299=\"\",\"\",INDEX(referentes!G:H,MATCH(T299,referentes!$H:$H,0),1))","v":""},"",{"$f":"IF(Y299=\"\",\"\",INDEX(referentes!S:T,MATCH(Y299,referentes!$T:$T,0),1))","v":""},{"$f":"IF(BO299=\"\",\"\",INDEX(referentes!J:K,MATCH(BO299,referentes!$K:$K,0),1))","v":""},{"$f":"IF(BJ299=\"\",\"\",INDEX(referentes!V:W,MATCH(BJ299,referentes!$W:$W,0),1))","v":""},{"$f":"IF(BK299=\"\",\"\",INDEX(referentes!Y:Z,MATCH(BK299,referentes!$Z:$Z,0),1))","v":""},{"$f":"IF(BL299=\"\",\"\",INDEX(referentes!AB:AC,MATCH(BL299,referentes!$AC:$AC,0),1))","v":""},{"$f":"IF(BM299=\"\",\"\",INDEX(referentes!AE:AF,MATCH(BM299,referentes!$AF:$AF,0),1))","v":""},{"$f":"IF(BB299=\"\",\"\",INDEX(referentes!M:N,MATCH(BB299,referentes!$N:$N,0),1))","v":""},{"$f":"IF(BQ299=\"\",\"\",INDEX('Otras referencias'!S:T,MATCH(BQ299,'Otras referencias'!$T:$T,0),1))","v":""},{"$f":"IF(BN299=\"\",\"\",INDEX('Otras referencias'!A:B,MATCH(BN299,'Otras referencias'!$B:$B,0),1))","v":""},""]
[{"$f":"IF(CJ300=CJ299,A299,A299+1)","v":1},{"$f":"IF(BZ300=\"\",\"\",IF(BZ300=BZ299,B299,B299+1))","v":""},{"$f":"IF(E300<>\"\",CONCATENATE(DIGITADOR!$M$1,TEXT(D300, \"YYYYMMDD\"),ROW()-5),\"\")","v":""},null,null,"",{"$f":"IF(H300=\"\",\"\",INDEX(referentes!AQ:AR,MATCH(H300,referentes!$AR:$AR,0),1))","v":""},null,{"$f":"IF(J300=\"\",\"\",VLOOKUP(J300,referentes!$AL$2:$AO$29,3,FALSE))","v":""},null,null,null,null,null,null,null,null,null,null,null,null,{"$f":"IF(W300=\"\",\"\",IF(W300=W299,B299,B299+1))","v":""},null,null,null,null,null,null,null,null,null,null,null,null,null,null,null,null,null,null,null,null,null,null,null,null,null,{"$f":"IF(AW300=\"\",\"\",DIGITADOR!$B$14)","v":""},{"$f":"IF(SUM(Z300:AU300)=0,\"\",SUM(Z300:AU300))","v":""},null,null,null,{"$f":"IF(SUM(AX300:AZ300)=0,\"\",SUM(AX300:AZ300))","v":""},null,null,null,null,null,null,null,null,null,null,null,null,null,null,null,null,null,null,"",{"$f":"IF(C300=\"\",\"\",IF(COUNTIF($C$6:C300, C300)>1, \"\", C300))","v":""},{"$f":"IF(N300=\"\",\"\",INDEX(referentes!P:Q,MATCH(N300,referentes!$Q:$Q,0),1))","v":""},{"$f":"IF(O300=\"\",\"\",INDEX(referentes!$A:$B,MATCH(O300,referentes!$B:$B,0),1))","v":""},{"$f":"IF(S300=\"\",\"\",INDEX(referentes!D:E,MATCH(S300,referentes!$E:$E,0),1))","v":""},{"$f":"IF(T300=\"\",\"\",INDEX(referentes!G:H,MATCH(T300,referentes!$H:$H,0),1))","v":""},{"$f":"CONCATENATE(F300,G300,I300,BV300,BW300,BX300,BY300,P300,Q300,R300)","v":""},{"$f":"IF(Y300=\"\",\"\",INDEX(referentes!S:T,MATCH(Y300,referentes!$T:$T,0),1))","v":""},{"$f":"IF(BO300=\"\",\"\",INDEX(referentes!J:K,MATCH(BO300,referentes!$K:$K,0),1))","v":""},{"$f":"IF(BJ300=\"\",\"\",INDEX(referentes!V:W,MATCH(BJ300,referentes!$W:$W,0),1))","v":""},{"$f":"IF(BK300=\"\",\"\",INDEX(referentes!Y:Z,MATCH(BK300,referentes!$Z:$Z,0),1))","v":""},{"$f":"IF(BL300=\"\",\"\",INDEX(referentes!AB:AC,MATCH(BL300,referentes!$AC:$AC,0),1))","v":""},{"$f":"IF(BM300=\"\",\"\",INDEX(referentes!AE:AF,MATCH(BM300,referentes!$AF:$AF,0),1))","v":""},{"$f":"IF(BB300=\"\",\"\",INDEX(referentes!M:N,MATCH(BB300,referentes!$N:$N,0),1))","v":""},{"$f":"IF(BQ300=\"\",\"\",INDEX('Otras referencias'!S:T,MATCH(BQ300,'Otras referencias'!$T:$T,0),1))","v":""},{"$f":"IF(BN300=\"\",\"\",INDEX('Otras referencias'!A:B,MATCH(BN300,'Otras referencias'!$B:$B,0),1))","v":""},{"$f":"IF(D300=\"\",\"\",CONCATENATE(TEXT(D300,\"YYYYMMDD\"),I300))","v":""}]
[1,"",{"$f":"IF(E301<>\"\",CONCATENATE(DIGITADOR!$M$1,TEXT(D301, \"YYYYMMDD\"),ROW()-5),\"\")","v":""},null,null,"",{"$f":"IF(H301=\"\",\"\",INDEX(referentes!AQ:AR,MATCH(H301,referentes!$AR:$AR,0),1))","v":""},null,{"$f":"IF(J301=\"\",\"\",VLOOKUP(J301,referentes!$AL$2:$AO$29,3,FALSE))","v":""},null,null,null,null,null,null,null,null,null,null,null,null,"",null,null,null,null,null,null,null,null,null,null,null,null,null,null,null,null,null,null,null,null,null,null,null,null,null,{"$f":"IF(AW301=\"\",\"\",DIGITADOR!$B$14)","v":""},"",null,null,null,"",null,null,null,null,null,null,null,null,null,null,null,null,null,null,null,null,null,null,"",{"$f":"IF(C301=\"\",\"\",IF(COUNTIF($C$6:C301, C301)>1, \"\", C301))","v":""},{"$f":"IF(N301=\"\",\"\",INDEX(referentes!P:Q,MATCH(N301,referentes!$Q:$Q,0),1))","v":""},{"$f":"IF(O301=\"\",\"\",INDEX(referentes!$A:$B,MATCH(O301,referentes!$B:$B,0),1))","v":""},{"$f":"IF(S301=\"\",\"\",INDEX(referentes!D:E,MATCH(S301,referentes!$E:$E,0),1))","v":""},{"$f":"IF(T301=\"\",\"\",INDEX(referentes!G:H,MATCH(T301,referentes!$H:$H,0),1))","v":""},"",{"$f":"IF(Y301=\"\",\"\",INDEX(referentes!S:T,MATCH(Y301,referentes!$T:$T,0),1))","v":""},{"$f":"IF(BO301=\"\",\"\",INDEX(referentes!J:K,MATCH(BO301,referentes!$K:$K,0),1))","v":""},{"$f":"IF(BJ301=\"\",\"\",INDEX(referentes!V:W,MATCH(BJ301,referentes!$W:$W,0),1))","v":""},{"$f":"IF(BK301=\"\",\"\",INDEX(referentes!Y:Z,MATCH(BK301,referentes!$Z:$Z,0),1))","v":""},{"$f":"IF(BL301=\"\",\"\",INDEX(referentes!AB:AC,MATCH(BL301,referentes!$AC:$AC,0),1))","v":""},{"$f":"IF(BM301=\"\",\"\",INDEX(referentes!AE:AF,MATCH(BM301,referentes!$AF:$AF,0),1))","v":""},{"$f":"IF(BB301=\"\",\"\",INDEX(referentes!M:N,MATCH(BB301,referentes!$N:$N,0),1))","v":""},{"$f":"IF(BQ301=\"\",\"\",INDEX('Otras referencias'!S:T,MATCH(BQ301,'Otras referencias'!$T:$T,0),1))","v":""},{"$f":"IF(BN301=\"\",\"\",INDEX('Otras referencias'!A:B,MATCH(BN301,'Otras referencias'!$B:$B,0),1))","v":""},""]
[1,"",{"$f":"IF(E302<>\"\",CONCATENATE(DIGITADOR!$M$1,TEXT(D302, \"YYYYMMDD\"),ROW()-5),\"\")","v":""},null,null,"",{"$f":"IF(H302=\"\",\"\",INDEX(referentes!AQ:AR,MATCH(H302,referentes!$AR:$AR,0),1))","v":""},null,{"$f":"IF(J302=\"\",\"\",VLOOKUP(J302,referentes!$AL$2:$AO$29,3,FALSE))","v":""},null,null,null,null,null,null,null,null,null,null,null,null,"",null,null,null,null,null,null,null,null,null,null,null,null,null,null,null,null,null,null,null,null,null,null,null,null,null,{"$f":"IF(AW302=\"\",\"\",DIGITADOR!$B$14)","v":""},"",null,null,null,"",null,null,null,null,null,null,null,null,null,null,null,null,null,null,null,null,null,null,"",{"$f":"IF(C302=\"\",\"\",IF(COUNTIF($C$6:C302, C302)>1, \"\", C302))","v":""},{"$f":"IF(N302=\"\",\"\",INDEX(referentes!P:Q,MATCH(N302,referentes!$Q:$Q,0),1))","v":""},{"$f":"IF(O302=\"\",\"\",INDEX(referentes!$A:$B,MATCH(O302,referentes!$B:$B,0),1))","v":""},{"$f":"IF(S302=\"\",\"\",INDEX(referentes!D:E,MATCH(S302,referentes!$E:$E,0),1))","v":""},{"$f":"IF(T302=\"\",\"\",INDEX(referentes!G:H,MATCH(T302,referentes!$H:$H,0),1))","v":""},"",{"$f":"IF(Y302=\"\",\"\",INDEX(referentes!S:T,MATCH(Y302,referentes!$T:$T,0),1))","v":""},{"$f":"IF(BO302=\"\",\"\",INDEX(referentes!J:K,MATCH(BO302,referentes!$K:$K,0),1))","v":""},{"$f":"IF(BJ302=\"\",\"\",INDEX(referentes!V:W,MATCH(BJ302,referentes!$W:$W,0),1))","v":""},{"$f":"IF(BK302=\"\",\"\",INDEX(referentes!Y:Z,MATCH(BK302,referentes!$Z:$Z,0),1))","v":""},{"$f":"IF(BL302=\"\",\"\",INDEX(referentes!AB:AC,MATCH(BL302,referentes!$AC:$AC,0),1))","v":""},{"$f":"IF(BM302=\"\",\"\",INDEX(referentes!AE:AF,MATCH(BM302,referentes!$AF:$AF,0),1))","v":""},{"$f":"IF(BB302=\"\",\"\",INDEX(referentes!M:N,MATCH(BB302,referentes!$N:$N,0),1))","v":""},{"$f":"IF(BQ302=\"\",\"\",INDEX('Otras referencias'!S:T,MATCH(BQ302,'Otras referencias'!$T:$T,0),1))","v":""},{"$f":"IF(BN302=\"\",\"\",INDEX('Otras referencias'!A:B,MATCH(BN302,'Otras referencias'!$B:$B,0),1))","v":""},""]
[1,"",{"$f":"IF(E303<>\"\",CONCATENATE(DIGITADOR!$M$1,TEXT(D303, \"YYYYMMDD\"),ROW()-5),\"\")","v":""},null,null,"",{"$f":"IF(H303=\"\",\"\",INDEX(referentes!AQ:AR,MATCH(H303,referentes!$AR:$AR,0),1))","v":""},null,{"$f":"IF(J303=\"\",\"\",VLOOKUP(J303,referentes!$AL$2:$AO$29,3,FALSE))","v":""},null,null,null,null,null,null,null,null,null,null,null,null,"",null,null,null,null,null,null,null,null,null,null,null,null,null,null,null,null,null,null,null,null,null,null,null,null,null,{"$f":"IF(AW303=\"\",\"\",DIGITADOR!$B$14)","v":""},"",null,null,null,"",null,null,null,null,null,null,null,null,null,null,null,null,null,null,null,null,null,null,"",{"$f":"IF(C303=\"\",\"\",IF(COUNTIF($C$6:C303, C303)>1, \"\", C303))","v":""},{"$f":"IF(N303=\"\",\"\",INDEX(referentes!P:Q,MATCH(N303,referentes!$Q:$Q,0),1))","v":""},{"$f":"IF(O303=\"\",\"\",INDEX(referentes!$A:$B,MATCH(O303,referentes!$B:$B,0),1))","v":""},{"$f":"IF(S303=\"\",\"\",INDEX(referentes!D:E,MATCH(S303,referentes!$E:$E,0),1))","v":""},{"$f":"IF(T303=\"\",\"\",INDEX(referentes!G:H,MATCH(T303,referentes!$H:$H,0),1))","v":""},"",{"$f":"IF(Y303=\"\",\"\",INDEX(referentes!S:T,MATCH(Y303,referentes!$T:$T,0),1))","v":""},{"$f":"IF(BO303=\"\",\"\",INDEX(referentes!J:K,MATCH(BO303,referentes!$K:$K,0),1))","v":""},{"$f":"IF(BJ303=\"\",\"\",INDEX(referentes!V:W,MATCH(BJ303,referentes!$W:$W,0),1))","v":""},{"$f":"IF(BK303=\"\",\"\",INDEX(referentes!Y:Z,MATCH(BK303,referentes!$Z:$Z,0),1))","v":""},{"$f":"IF(BL303=\"\",\"\",INDEX(referentes!AB:AC,MATCH(BL303,referentes!$AC:$AC,0),1))","v":""},{"$f":"IF(BM303=\"\",\"\",INDEX(referentes!AE:AF,MATCH(BM303,referentes!$AF:$AF,0),1))","v":""},{"$f":"IF(BB303=\"\",\"\",INDEX(referentes!M:N,MATCH(BB303,referentes!$N:$N,0),1))","v":""},{"$f":"IF(BQ303=\"\",\"\",INDEX('Otras referencias'!S:T,MATCH(BQ303,'Otras referencias'!$T:$T,0),1))","v":""},{"$f":"IF(BN303=\"\",\"\",INDEX('Otras referencias'!A:B,MATCH(BN303,'Otras referencias'!$B:$B,0),1))","v":""},""]
[1,"",{"$f":"IF(E304<>\"\",CONCATENATE(DIGITADOR!$M$1,TEXT(D304, \"YYYYMMDD\"),ROW()-5),\"\")","v":""},null,null,"",{"$f":"IF(H304=\"\",\"\",INDEX(referentes!AQ:AR,MATCH(H304,referentes!$AR:$AR,0),1))","v":""},null,{"$f":"IF(J304=\"\",\"\",VLOOKUP(J304,referentes!$AL$2:$AO$29,3,FALSE))","v":""},null,null,null,null,null,null,null,null,null,null,null,null,"",null,null,null,null,null,null,null,null,null,null,null,null,null,null,null,null,null,null,null,null,null,null,null,null,null,{"$f":"IF(AW304=\"\",\"\",DIGITADOR!$B$14)","v":""},"",null,null,null,"",null,null,null,null,null,null,null,null,null,null,null,null,null,null,null,null,null,null,"",{"$f":"IF(C304=\"\",\"\",IF(COUNTIF($C$6:C304, C304)>1, \"\", C304))","v":""},{"$f":"IF(N304=\"\",\"\",INDEX(referentes!P:Q,MATCH(N304,referentes!$Q:$Q,0),1))","v":""},{"$f":"IF(O304=\"\",\"\",INDEX(referentes!$A:$B,MATCH(O304,referentes!$B:$B,0),1))","v":""},{"$f":"IF(S304=\"\",\"\",INDEX(referentes!D:E,MATCH(S304,referentes!$E:$E,0),1))","v":""},{"$f":"IF(T304=\"\",\"\",INDEX(referentes!G:H,MATCH(T304,referentes!$H:$H,0),1))","v":""},"",{"$f":"IF(Y304=\"\",\"\",INDEX(referentes!S:T,MATCH(Y304,referentes!$T:$T,0),1))","v":""},{"$f":"IF(BO304=\"\",\"\",INDEX(referentes!J:K,MATCH(BO304,referentes!$K:$K,0),1))","v":""},{"$f":"IF(BJ304=\"\",\"\",INDEX(referentes!V:W,MATCH(BJ304,referentes!$W:$W,0),1))","v":""},{"$f":"IF(BK304=\"\",\"\",INDEX(referentes!Y:Z,MATCH(BK304,referentes!$Z:$Z,0),1))","v":""},{"$f":"IF(BL304=\"\",\"\",INDEX(referentes!AB:AC,MATCH(BL304,referentes!$AC:$AC,0),1))","v":""},{"$f":"IF(BM304=\"\",\"\",INDEX(referentes!AE:AF,MATCH(BM304,referentes!$AF:$AF,0),1))","v":""},{"$f":"IF(BB304=\"\",\"\",INDEX(referentes!M:N,MATCH(BB304,referentes!$N:$N,0),1))","v":""},{"$f":"IF(BQ304=\"\",\"\",INDEX('Otras referencias'!S:T,MATCH(BQ304,'Otras referencias'!$T:$T,0),1))","v":""},{"$f":"IF(BN304=\"\",\"\",INDEX('Otras referencias'!A:B,MATCH(BN304,'Otras referencias'!$B:$B,0),1))","v":""},""]
[1,"",{"$f":"IF(E305<>\"\",CONCATENATE(DIGITADOR!$M$1,TEXT(D305, \"YYYYMMDD\"),ROW()-5),\"\")","v":""},null,null,"",{"$f":"IF(H305=\"\",\"\",INDEX(referentes!AQ:AR,MATCH(H305,referentes!$AR:$AR,0),1))","v":""},null,{"$f":"IF(J305=\"\",\"\",VLOOKUP(J305,referentes!$AL$2:$AO$29,3,FALSE))","v":""},null,null,null,null,null,null,null,null,null,null,null,null,"",null,null,null,null,null,null,null,null,null,null,null,null,null,null,null,null,null,null,null,null,null,null,null,null,null,{"$f":"IF(AW305=\"\",\"\",DIGITADOR!$B$14)","v":""},"",null,null,null,"",null,null,null,null,null,null,null,null,null,null,null,null,null,null,null,null,null,null,"",{"$f":"IF(C305=\"\",\"\",IF(COUNTIF($C$6:C305, C305)>1, \"\", C305))","v":""},{"$f":"IF(N305=\"\",\"\",INDEX(referentes!P:Q,MATCH(N305,referentes!$Q:$Q,0),1))","v":""},{"$f":"IF(O305=\"\",\"\",INDEX(referentes!$A:$B,MATCH(O305,referentes!$B:$B,0),1))","v":""},{"$f":"IF(S305=\"\",\"\",INDEX(referentes!D:E,MATCH(S305,referentes!$E:$E,0),1))","v":""},{"$f":"IF(T305=\"\",\"\",INDEX(referentes!G:H,MATCH(T305,referentes!$H:$H,0),1))","v":""},"",{"$f":"IF(Y305=\"\",\"\",INDEX(referentes!S:T,MATCH(Y305,referentes!$T:$T,0),1))","v":""},{"$f":"IF(BO305=\"\",\"\",INDEX(referentes!J:K,MATCH(BO305,referentes!$K:$K,0),1))","v":""},{"$f":"IF(BJ305=\"\",\"\",INDEX(referentes!V:W,MATCH(BJ305,referentes!$W:$W,0),1))","v":""},{"$f":"IF(BK305=\"\",\"\",INDEX(referentes!Y:Z,MATCH(BK305,referentes!$Z:$Z,0),1))","v":""},{"$f":"IF(BL305=\"\",\"\",INDEX(referentes!AB:AC,MATCH(BL305,referentes!$AC:$AC,0),1))","v":""},{"$f":"IF(BM305=\"\",\"\",INDEX(referentes!AE:AF,MATCH(BM305,referentes!$AF:$AF,0),1))","v":""},{"$f":"IF(BB305=\"\",\"\",INDEX(referentes!M:N,MATCH(BB305,referentes!$N:$N,0),1))","v":""},{"$f":"IF(BQ305=\"\",\"\",INDEX('Otras referencias'!S:T,MATCH(BQ305,'Otras referencias'!$T:$T,0),1))","v":""},{"$f":"IF(BN305=\"\",\"\",INDEX('Otras referencias'!A:B,MATCH(BN305,'Otras referencias'!$B:$B,0),1))","v":""},""]
[1,"",{"$f":"IF(E306<>\"\",CONCATENATE(DIGITADOR!$M$1,TEXT(D306, \"YYYYMMDD\"),ROW()-5),\"\")","v":""},null,null,"",{"$f":"IF(H306=\"\",\"\",INDEX(referentes!AQ:AR,MATCH(H306,referentes!$AR:$AR,0),1))","v":""},null,{"$f":"IF(J306=\"\",\"\",VLOOKUP(J306,referentes!$AL$2:$AO$29,3,FALSE))","v":""},null,null,null,null,null,null,null,null,null,null,null,null,"",null,null,null,null,null,null,null,null,null,null,null,null,null,null,null,null,null,null,null,null,null,null,null,null,null,{"$f":"IF(AW306=\"\",\"\",DIGITADOR!$B$14)","v":""},"",null,null,null,"",null,null,null,null,null,null,null,null,null,null,null,null,null,null,null,null,null,null,"",{"$f":"IF(C306=\"\",\"\",IF(COUNTIF($C$6:C306, C306)>1, \"\", C306))","v":""},{"$f":"IF(N306=\"\",\"\",INDEX(referentes!P:Q,MATCH(N306,referentes!$Q:$Q,0),1))","v":""},{"$f":"IF(O306=\"\",\"\",INDEX(referentes!$A:$B,MATCH(O306,referentes!$B:$B,0),1))","v":""},{"$f":"IF(S306=\"\",\"\",INDEX(referentes!D:E,MATCH(S306,referentes!$E:$E,0),1))","v":""},{"$f":"IF(T306=\"\",\"\",INDEX(referentes!G:H,MATCH(T306,referentes!$H:$H,0),1))","v":""},"",{"$f":"IF(Y306=\"\",\"\",INDEX(referentes!S:T,MATCH(Y306,referentes!$T:$T,0),1))","v":""},{"$f":"IF(BO306=\"\",\"\",INDEX(referentes!J:K,MATCH(BO306,referentes!$K:$K,0),1))","v":""},{"$f":"IF(BJ306=\"\",\"\",INDEX(referentes!V:W,MATCH(BJ306,referentes!$W:$W,0),1))","v":""},{"$f":"IF(BK306=\"\",\"\",INDEX(referentes!Y:Z,MATCH(BK306,referentes!$Z:$Z,0),1))","v":""},{"$f":"IF(BL306=\"\",\"\",INDEX(referentes!AB:AC,MATCH(BL306,referentes!$AC:$AC,0),1))","v":""},{"$f":"IF(BM306=\"\",\"\",INDEX(referentes!AE:AF,MATCH(BM306,referentes!$AF:$AF,0),1))","v":""},{"$f":"IF(BB306=\"\",\"\",INDEX(referentes!M:N,MATCH(BB306,referentes!$N:$N,0),1))","v":""},{"$f":"IF(BQ306=\"\",\"\",INDEX('Otras referencias'!S:T,MATCH(BQ306,'Otras referencias'!$T:$T,0),1))","v":""},{"$f":"IF(BN306=\"\",\"\",INDEX('Otras referencias'!A:B,MATCH(BN306,'Otras referencias'!$B:$B,0),1))","v":""},""]

{"sheet":"MUESTRAS_VARIABLES","index":4,"n_rows":0,"n_cols":0,"rows_kept":0,"cut":false,"hidden":true,"merged":[]}

{"sheet":"referentes","index":5,"n_rows":53,"n_cols":44,"rows_kept":53,"cut":false,"hidden":false,"merged":[]}
[]
[1,"Dragado",null,1,"Duna",null,1,"Refrigerado",null,3448,"Folk R. 1954. Jour. Geology 62, 344–359",null,1,"Grava",null,1,"LABCAM",null,1,"Inferior",null,1,"Grava",null,1,"Seleccion muy buena",null,1,"Asimetrica muy fina",null,1,"Muy platicurtico",null,388,"1 - 2 mm",null,null,"Box-culvert Km 15","BC_KM",58910,15,null,8981,"David Gallo Vélez"]
[2,"Toma manual",null,2,"Río",null,2,"Ambiente seco",null,3449,"Wentworth (1922)",null,2,"Grava arenosa",null,2,"LABIMA",null,2,"Intermedio",null,2,"Arena muy gruesa",null,2,"selección buena",null,2,"Asimetrica fina",null,2,"Platicurtico",null,389,"0,5 - 1 mm",null,null,"Box-culvert Km 15+500","BC_KM",58909,15500,null,8265,"Kevin Samuel Moreno"]
[3,"Box corer",null,3,"Laguna costera",null,3,"Ambiente humedo",null,3450,"Shepard (1954)",null,3,"Grava lodosa",null,3,"GEO",null,3,"Superior",null,3,"Arena gruesa",null,3,"Selección moderadamente buena",null,3,"Simetrica",null,3,"Mesocurtico",null,390,"0,25 - 0,5 mm",null,null,"Box-culvert Km 16","BC_KM",58908,16,null,9100,"Laura Natalia Botero Vinasco"]
[null,null,null,4,"Playa",null,4,"Congelado",null,null,null,null,4,"Arena gravosa",null,null,null,null,4,"Unica Seccion",null,4,"Arena media",null,4,"Selección moderada ",null,4,"Asimetrica Gruesa",null,4,"Leptocurtico",null,391,"0,125 - 0,25 mm",null,null,"Box-culvert Km 16+500","BC_KM",58907,16500]
[null,null,null,5,"Supramareal",null,null,null,null,null,null,null,5,"Arena lodosa gravosa",null,null,null,null,null,null,null,5,"arena fina",null,5,"Selección pobre",null,5,"Asimetrica muy gruesa",null,5,"Muy leptocurtico",null,392,"0,063 - 0,125 mm",null,null,"Box-culvert Km 17","BC_KM",58906,17]
[null,null,null,6,"Mesomareal",null,null,null,null,null,null,null,6,"Grava arenosa lodosa",null,null,null,null,null,null,null,6,"arena muy fina",null,6,"Selección muy pobre",null,null,null,null,6,"Extremadamente leptocurtico",null,393,"< 0,063 mm",null,null,"Caño Clarin Viejo Estación 1 ","CA_CV",58912,1]
[null,null,null,7,"Inframareal",null,null,null,null,null,null,null,7,"Lodo gravoso",null,null,null,null,null,null,null,7,"limo grueso ",null,7,"Selección extremadamnete pobre",null,null,null,null,null,null,null,470,">2 mm",null,null,"Caño Clarin Viejo Estación 2","CA_CV",58921,2]
[null,null,null,8,"Rompiente",null,null,null,null,null,null,null,8,"Arena",null,null,null,null,null,null,null,8,"limo medio",null,null,null,null,null,null,null,null,null,null,549,"0,032 - 0,063 mm",null,null,"Caño Clarin Viejo Estación 3","CA_CV",58911,3]
[null,null,null,9,"Fondo",null,null,null,null,null,null,null,9,"Arena lodosa",null,null,null,null,null,null,null,9,"limo fino",null,null,null,null,null,null,null,null,null,null,550,"0,016 - 0,032 mm",null,null,"Caño Los Almendros Estación 1","CA_LA",58913,1]
[null,null,null,10,"Plataforma continental",null,null,null,null,null,null,null,10,"Lodo arenoso",null,null,null,null,null,null,null,10,"arcilla",null,null,null,null,null,null,null,null,null,null,551,"0,008 - 0,016 mm",null,null,"Caño Los Almendros Estación 2","CA_LA",58914,2]
[null,null,null,11,"Plataforma insular",null,null,null,null,null,null,null,11,"Lodo",null,null,null,null,null,null,null,11,"limo muy grueso ",null,null,null,null,null,null,null,null,null,null,552,"0,004 - 0,008 mm",null,null,"Caño Los Almendros Estación 3","CA_LA",58915,3]
[null,null,null,12,"Indefinido",null,null,null,null,null,null,null,12,"Arena lodosa levemente gravosa",null,null,null,null,null,null,null,null,null,null,null,null,null,null,null,null,null,null,null,553,"< 0,004 mm",null,null,"Caño Los Almendros Estación 4","CA_LA",58916,4]
[null,null,null,13,"Otro",null,null,null,null,null,null,null,13,"Arena levemente gravosa",null,null,null,null,null,null,null,null,null,null,null,null,null,null,null,null,null,null,null,1145,"0,063 - 2 mm",null,null,"Ciénaga Cuatro Bocas","SED_CB",58922,1]
[null,null,null,null,null,null,null,null,null,null,null,null,14,"Lodo levemente gravoso",null,null,null,null,null,null,null,null,null,null,null,null,null,null,null,null,null,null,null,1085,"0,125 - 0,063 mm",null,null,"Ciénaga El Torno","SED_ET",58925,4]
[null,null,null,null,null,null,null,null,null,null,null,null,15,"Lodo arenoso levemente gravoso",null,null,null,null,null,null,null,null,null,null,null,null,null,null,null,null,null,null,null,1086,"0,25 - 0,125 mm",null,null,"Ciénaga La Marchena","SED_MAC",58923,2]
[null,null,null,null,null,null,null,null,null,null,null,null,16,"Limo arenoso",null,null,null,null,null,null,null,null,null,null,null,null,null,null,null,null,null,null,null,1087,"0,5 - 0,25 mm",null,null,"Ciénaga Los Colorados","SED_COL",58924,3]
[null,null,null,null,null,null,null,null,null,null,null,null,17,"Arena limosa",null,null,null,null,null,null,null,null,null,null,null,null,null,null,null,null,null,null,null,1088,"1 - 0,5 mm",null,null,"Ciénaga Paza Verde","SED_PV",58926,5]
[null,null,null,null,null,null,null,null,null,null,null,null,18,"Arena arcillosa",null,null,null,null,null,null,null,null,null,null,null,null,null,null,null,null,null,null,null,1089,"2 - 4 mm",null,null,"Conexión Ciénagas El Torno - Las Piedras","CX_ET-LP",58918,1]
[null,null,null,null,null,null,null,null,null,null,null,null,19,"Arcilla arenosa",null,null,null,null,null,null,null,null,null,null,null,null,null,null,null,null,null,null,null,1090,"4 - 6 mm",null,null,"Conexión Ciénagas Las Piedras - El Loro","CX_LP-EL",58920,2]
[null,null,null,null,null,null,null,null,null,null,null,null,20,"Arcilla",null,null,null,null,null,null,null,null,null,null,null,null,null,null,null,null,null,null,null,1091,"6 - 8 mm",null,null,"Conexión Ciénagas Las Piedras - Playon del Perro","CX_LP-PP",58919,1]
[null,null,null,null,null,null,null,null,null,null,null,null,21,"Limo",null,null,null,null,null,null,null,null,null,null,null,null,null,null,null,null,null,null,null,1092,"8 - 16 mm",null,null,"Conexión Ciénagas Poza Verde - El Torno","CX_PV-ET",58917,1]
[null,null,null,null,null,null,null,null,null,null,null,null,null,null,null,null,null,null,null,null,null,null,null,null,null,null,null,null,null,null,null,null,null,1093,"16 - 32 mm"]
[null,null,null,null,null,null,null,null,null,null,null,null,null,null,null,null,null,null,null,null,null,null,null,null,null,null,null,null,null,null,null,null,null,1094,"32 - 64 mm"]
[null,null,null,null,null,null,null,null,null,null,null,null,null,null,null,null,null,null,null,null,null,null,null,null,null,null,null,null,null,null,null,null,null,1095,"64 - 128 mm"]
[null,null,null,null,null,null,null,null,null,null,null,null,null,null,null,null,null,null,null,null,null,null,null,null,null,null,null,null,null,null,null,null,null,1096,"128 - 256 mm"]
[null,null,null,null,null,null,null,null,null,null,null,null,null,null,null,null,null,null,null,null,null,null,null,null,null,null,null,null,null,null,null,null,null,1097,"> 256 mm"]
[null,null,null,null,null,null,null,null,null,null,null,null,null,null,null,null,null,null,null,null,null,null,null,null,null,null,null,null,null,null,null,null,null,"SD1","1 - 2 mm"]
[null,null,null,null,null,null,null,null,null,null,null,null,null,null,null,null,null,null,null,null,null,null,null,null,null,null,null,null,null,null,null,null,null,"SD2","0,5 - 1 mm"]
[null,null,null,null,null,null,null,null,null,null,null,null,null,null,null,null,null,null,null,null,null,null,null,null,null,null,null,null,null,null,null,null,null,"SD3","0,25 - 0,5 mm"]
[null,null,null,null,null,null,null,null,null,null,null,null,null,null,null,null,null,null,null,null,null,null,null,null,null,null,null,null,null,null,null,null,null,"SD4","0,125 - 0,25 mm"]
[null,null,null,null,null,null,null,null,null,null,null,null,null,null,null,null,null,null,null,null,null,null,null,null,null,null,null,null,null,null,null,null,null,"SD5","0,063 - 0,125 mm"]
[null,null,null,null,null,null,null,null,null,null,null,null,null,null,null,null,null,null,null,null,null,null,null,null,null,null,null,null,null,null,null,null,null,"SD6","< 0,063 mm"]
[null,null,null,null,null,null,null,null,null,null,null,null,null,null,null,null,null,null,null,null,null,null,null,null,null,null,null,null,null,null,null,null,null,"SD0",">2 mm"]
[null,null,null,null,null,null,null,null,null,null,null,null,null,null,null,null,null,null,null,null,null,null,null,null,null,null,null,null,null,null,null,null,null,"SD7","0,032 - 0,063 mm"]
[null,null,null,null,null,null,null,null,null,null,null,null,null,null,null,null,null,null,null,null,null,null,null,null,null,null,null,null,null,null,null,null,null,"SD8","0,016 - 0,032 mm"]
[null,null,null,null,null,null,null,null,null,null,null,null,null,null,null,null,null,null,null,null,null,null,null,null,null,null,null,null,null,null,null,null,null,"SD9","0,008 - 0,016 mm"]
[null,null,null,null,null,null,null,null,null,null,null,null,null,null,null,null,null,null,null,null,null,null,null,null,null,null,null,null,null,null,null,null,null,"SD10","0,004 - 0,008 mm"]
[null,null,null,null,null,null,null,null,null,null,null,null,null,null,null,null,null,null,null,null,null,null,null,null,null,null,null,null,null,null,null,null,null,"SD11","< 0,004 mm"]
[null,null,null,null,null,null,null,null,null,null,null,null,null,null,null,null,null,null,null,null,null,null,null,null,null,null,null,null,null,null,null,null,null,"SD1145","0,063 - 2 mm"]
[null,null,null,null,null,null,null,null,null,null,null,null,null,null,null,null,null,null,null,null,null,null,null,null,null,null,null,null,null,null,null,null,null,"SD1085","0,125 - 0,063 mm"]
[null,null,null,null,null,null,null,null,null,null,null,null,null,null,null,null,null,null,null,null,null,null,null,null,null,null,null,null,null,null,null,null,null,"SD1086","0,25 - 0,125 mm"]
[null,null,null,null,null,null,null,null,null,null,null,null,null,null,null,null,null,null,null,null,null,null,null,null,null,null,null,null,null,null,null,null,null,"SD1087","0,5 - 0,25 mm"]
[null,null,null,null,null,null,null,null,null,null,null,null,null,null,null,null,null,null,null,null,null,null,null,null,null,null,null,null,null,null,null,null,null,"SD1088","1 - 0,5 mm"]
[null,null,null,null,null,null,null,null,null,null,null,null,null,null,null,null,null,null,null,null,null,null,null,null,null,null,null,null,null,null,null,null,null,"SD1089","2 - 4 mm"]
[null,null,null,null,null,null,null,null,null,null,null,null,null,null,null,null,null,null,null,null,null,null,null,null,null,null,null,null,null,null,null,null,null,"SD1090","4 - 6 mm"]
[null,null,null,null,null,null,null,null,null,null,null,null,null,null,null,null,null,null,null,null,null,null,null,null,null,null,null,null,null,null,null,null,null,"SD1091","6 - 8 mm"]
[null,null,null,null,null,null,null,null,null,null,null,null,null,null,null,null,null,null,null,null,null,null,null,null,null,null,null,null,null,null,null,null,null,"SD1092","8 - 16 mm"]
[null,null,null,null,null,null,null,null,null,null,null,null,null,null,null,null,null,null,null,null,null,null,null,null,null,null,null,null,null,null,null,null,null,"SD1093","16 - 32 mm"]
[null,null,null,null,null,null,null,null,null,null,null,null,null,null,null,null,null,null,null,null,null,null,null,null,null,null,null,null,null,null,null,null,null,"SD1094","32 - 64 mm"]
[null,null,null,null,null,null,null,null,null,null,null,null,null,null,null,null,null,null,null,null,null,null,null,null,null,null,null,null,null,null,null,null,null,"SD1095","64 - 128 mm"]
[null,null,null,null,null,null,null,null,null,null,null,null,null,null,null,null,null,null,null,null,null,null,null,null,null,null,null,null,null,null,null,null,null,"SD1096","128 - 256 mm"]
[null,null,null,null,null,null,null,null,null,null,null,null,null,null,null,null,null,null,null,null,null,null,null,null,null,null,null,null,null,null,null,null,null,"SD1097","> 256 mm"]

{"sheet":"Otras referencias","index":6,"n_rows":7963,"n_cols":23,"rows_kept":4500,"cut":true,"hidden":false,"merged":[[4,12,4,13],[24,0,24,2]],"bounds":{"rows_first":2000,"rows_last":500,"rows_between":2000,"halvings":0}}
[]
[null,null,null,null,null,null,null,null,null,null,null,null,null,null,null,"3103 Alex Baez Polo F",47737]
[null,null,null,null,null,null,null,null,null,null,null,null,null,null,null,"4068 Andres Malagon F",47738]
[null,null,null,null,null,null,null,null,null,null,null,null,null,null,null,"4996 Darío Vega F",47739]
[null,null,null,null,null,null,null,null,null,null,null,null,"PROYECTOS",null,null,"3766 Edgar Arteaga Sogamoso F",47740]
[null,null,null,null,null,null,null,null,null,null,null,null,"NOMBRE","COD",null,"4066 Erika Acosta F",47741]
[827,"Granulometria por pipeta",null,null,null,null,null,null,null,4,"PORCENTAJE TAMAÑO DE GRANO (%)",null,"INVEMAR ANH Exploracion I",2002,null,"4914 Julian Franco F-E",50025,null,1,"Dato validado y aceptado",null,{"$f":"IF(referentes!AK2=\"\",\"\",referentes!AK2)","v":""},{"$f":"CONCATENATE(IF(referentes!AL2=\"\",\"\",referentes!AL2),IF(referentes!AM2=\"\",\"\",CONCATENATE(\" \",referentes!AM2)))","v":"Box-culvert Km 15 BC_KM"}]
[688,"Separacion por tamices",null,null,null,null,null,null,null,69,"PESO TAMAÑO DE GRANO (g)",null,"INVEMAR ANH Exploracion II",2068,null,"4067 Luis Castro F",48845,null,2,"No evaluado",null,{"$f":"IF(referentes!AK3=\"\",\"\",referentes!AK3)","v":""},{"$f":"CONCATENATE(IF(referentes!AL3=\"\",\"\",referentes!AL3),IF(referentes!AM3=\"\",\"\",CONCATENATE(\" \",referentes!AM3)))","v":"Box-culvert Km 15+500 BC_KM"}]
[828,"Granulometria combinada",null,"Profundo","P",null,null,null,null,null,null,null,"INVEMAR ANH ARC Jamaica",2148,null,"3767 Natalia Maria Arbelaez Merizalde F",48642,null,99,"Dato omitido",null,{"$f":"IF(referentes!AK4=\"\",\"\",referentes!AK4)","v":""},{"$f":"CONCATENATE(IF(referentes!AL4=\"\",\"\",referentes!AL4),IF(referentes!AM4=\"\",\"\",CONCATENATE(\" \",referentes!AM4)))","v":"Box-culvert Km 16 BC_KM"}]
[null,null,null,null,null,null,null,null,null,null,null,null,"INVEMAR ANH Tumaco offshore",2207,null,"5777 Aquabiosfera - Invemar F",48644,null,4,"Malo",null,{"$f":"IF(referentes!AK5=\"\",\"\",referentes!AK5)","v":""},{"$f":"CONCATENATE(IF(referentes!AL5=\"\",\"\",referentes!AL5),IF(referentes!AM5=\"\",\"\",CONCATENATE(\" \",referentes!AM5)))","v":"Box-culvert Km 16+500 BC_KM"}]
[null,null,null,null,null,null,null,null,null,null,null,null,"INVEMAR ANH GUA OFF 3",3000,null,"5665 Ariadna Carolina Cárdenas García F",48646,null,3,"Cuestionable",null,{"$f":"IF(referentes!AK6=\"\",\"\",referentes!AK6)","v":""},{"$f":"CONCATENATE(IF(referentes!AL6=\"\",\"\",referentes!AL6),IF(referentes!AM6=\"\",\"\",CONCATENATE(\" \",referentes!AM6)))","v":"Box-culvert Km 17 BC_KM"}]
[null,null,null,null,null,null,null,null,null,null,null,null,"INVEMAR ANH COL 4 y COL 5",3023,null,"1911 Eugenia Escarria Gómez F-ECen",48647,null,null,null,null,{"$f":"IF(referentes!AK7=\"\",\"\",referentes!AK7)","v":""},{"$f":"CONCATENATE(IF(referentes!AL7=\"\",\"\",referentes!AL7),IF(referentes!AM7=\"\",\"\",CONCATENATE(\" \",referentes!AM7)))","v":"Caño Clarin Viejo Estación 1  CA_CV"}]
[null,null,null,null,null,null,null,null,null,null,null,null,"ANH RC4 RC5",3031,null,"5695 John Mauricio Beltrán Pérez F-ERin",48648,null,null,null,null,{"$f":"IF(referentes!AK8=\"\",\"\",referentes!AK8)","v":""},{"$f":"CONCATENATE(IF(referentes!AL8=\"\",\"\",referentes!AL8),IF(referentes!AM8=\"\",\"\",CONCATENATE(\" \",referentes!AM8)))","v":"Caño Clarin Viejo Estación 2 CA_CV"}]
[null,null,null,null,null,null,null,null,null,null,null,null,"INVEMAR ANH COL 1 y COL 2 T1",3303,null,"5725 María del Pilar Martínez Barragán F-ENVe",48649,null,null,null,null,{"$f":"IF(referentes!AK9=\"\",\"\",referentes!AK9)","v":""},{"$f":"CONCATENATE(IF(referentes!AL9=\"\",\"\",referentes!AL9),IF(referentes!AM9=\"\",\"\",CONCATENATE(\" \",referentes!AM9)))","v":"Caño Clarin Viejo Estación 3 CA_CV"}]
[null,null,null,null,null,null,null,null,null,null,null,null,"INVEMAR ANH COL 1 y COL 2 T2",3304,null,"5750 Shilenne Yalime Ortíz Rolón F-EFRF",48650,null,null,null,null,{"$f":"IF(referentes!AK10=\"\",\"\",referentes!AK10)","v":""},{"$f":"CONCATENATE(IF(referentes!AL10=\"\",\"\",referentes!AL10),IF(referentes!AM10=\"\",\"\",CONCATENATE(\" \",referentes!AM10)))","v":"Caño Los Almendros Estación 1 CA_LA"}]
[null,null,null,null,null,null,null,null,null,null,null,null,"INVEMAR ANH Pastos Marinos Fase 2 Guajira y Chocó",3343,null,"  F-ECN",48651,null,null,null,null,{"$f":"IF(referentes!AK11=\"\",\"\",referentes!AK11)","v":""},{"$f":"CONCATENATE(IF(referentes!AL11=\"\",\"\",referentes!AL11),IF(referentes!AM11=\"\",\"\",CONCATENATE(\" \",referentes!AM11)))","v":"Caño Los Almendros Estación 2 CA_LA"}]
[null,null,null,null,null,null,null,null,null,null,null,null,"INVEMAR ANH COL 3",3389,null,"  F-ELBa",48652,null,null,null,null,{"$f":"IF(referentes!AK12=\"\",\"\",referentes!AK12)","v":""},{"$f":"CONCATENATE(IF(referentes!AL12=\"\",\"\",referentes!AL12),IF(referentes!AM12=\"\",\"\",CONCATENATE(\" \",referentes!AM12)))","v":"Caño Los Almendros Estación 3 CA_LA"}]
[null,null,null,null,null,null,null,null,null,null,null,null,"INVEMAR ANH COL 10",3428,null,"  F-ECLu",48653,null,null,null,null,{"$f":"IF(referentes!AK13=\"\",\"\",referentes!AK13)","v":""},{"$f":"CONCATENATE(IF(referentes!AL13=\"\",\"\",referentes!AL13),IF(referentes!AM13=\"\",\"\",CONCATENATE(\" \",referentes!AM13)))","v":"Caño Los Almendros Estación 4 CA_LA"}]
[null,null,null,null,null,null,null,null,null,null,null,null,"BPIN Playa Salguero ",3528,null,"  F-BCH",48654,null,null,null,null,{"$f":"IF(referentes!AK14=\"\",\"\",referentes!AK14)","v":""},{"$f":"CONCATENATE(IF(referentes!AL14=\"\",\"\",referentes!AL14),IF(referentes!AM14=\"\",\"\",CONCATENATE(\" \",referentes!AM14)))","v":"Ciénaga Cuatro Bocas SED_CB"}]
[null,null,null,null,null,null,null,null,null,null,null,null,"ANH Baja Guajira",3592,null,"  F-BCH-T",48655,null,null,null,null,{"$f":"IF(referentes!AK15=\"\",\"\",referentes!AK15)","v":""},{"$f":"CONCATENATE(IF(referentes!AL15=\"\",\"\",referentes!AL15),IF(referentes!AM15=\"\",\"\",CONCATENATE(\" \",referentes!AM15)))","v":"Ciénaga El Torno SED_ET"}]
[null,null,null,null,null,null,null,null,null,null,null,null,"CORPAMAG 271-2023",3613,null,"  F-LCH-T",48656,null,null,null,null,{"$f":"IF(referentes!AK16=\"\",\"\",referentes!AK16)","v":""},{"$f":"CONCATENATE(IF(referentes!AL16=\"\",\"\",referentes!AL16),IF(referentes!AM16=\"\",\"\",CONCATENATE(\" \",referentes!AM16)))","v":"Ciénaga La Marchena SED_MAC"}]
[null,null,null,null,null,null,null,null,null,null,null,null,"SANTUARIO CGSM",3626,null,"  F-BST",48657,null,null,null,null,{"$f":"IF(referentes!AK17=\"\",\"\",referentes!AK17)","v":""},{"$f":"CONCATENATE(IF(referentes!AL17=\"\",\"\",referentes!AL17),IF(referentes!AM17=\"\",\"\",CONCATENATE(\" \",referentes!AM17)))","v":"Ciénaga Los Colorados SED_COL"}]
[null,null,null,null,null,null,null,null,null,null,null,null,"HIDROSEDIMENTOLOGIA CORPAMAG 317 - fase 2018 - 2030",2686,null,"  F-ELBa",48658,null,null,null,null,{"$f":"IF(referentes!AK18=\"\",\"\",referentes!AK18)","v":""},{"$f":"CONCATENATE(IF(referentes!AL18=\"\",\"\",referentes!AL18),IF(referentes!AM18=\"\",\"\",CONCATENATE(\" \",referentes!AM18)))","v":"Ciénaga Paza Verde SED_PV"}]
[null,null,null,null,null,null,null,null,null,null,null,null,"CRA 004 2024",3640,null,"  F-ECLu",48659,null,null,null,null,{"$f":"IF(referentes!AK19=\"\",\"\",referentes!AK19)","v":""},{"$f":"CONCATENATE(IF(referentes!AL19=\"\",\"\",referentes!AL19),IF(referentes!AM19=\"\",\"\",CONCATENATE(\" \",referentes!AM19)))","v":"Conexión Ciénagas El Torno - Las Piedras CX_ET-LP"}]
["CODIGOS LOV",null,null,null,null,null,null,null,null,null,null,null,"HECO-CGSM",3634,null,"  F-BCH",48660,null,null,null,null,{"$f":"IF(referentes!AK20=\"\",\"\",referentes!AK20)","v":""}]
["DESCRIPCIÓN","CÓDIGO","GRUPO",null,null,null,null,null,null,null,null,null,null,null,null,"  F-BCH-T",48661]
["Departamento",10,2,null,null,null,null,null,null,null,null,null,null,null,null,"  F-LCH-T",48662]
["Sector",20,2,null,null,null,null,null,null,null,null,null,null,null,null,"  F-LCH-T",48663]
["Punto",30,2,null,null,null,null,null,null,null,null,null,null,null,null,"  F-BST",48664]
["Parcela",35,2,null,null,null,null,null,null,null,null,null,null,null,null,"  F-ELBa",48665]
["Estaciones",40,2,null,null,null,null,null,null,null,null,null,null,null,null,"  F-ECLu",48666]
["Region",50,2,null,null,null,null,null,null,null,null,null,null,null,null,"  F",48667]
["Unidad_de_Manejo",60,2,null,null,null,null,null,null,null,null,null,null,null,null,"  F",48668]
["Unidad_Ambiental_Costera",70,2,null,null,null,null,null,null,null,null,null,null,null,null,"  F",48669]
["Localidad",80,2,null,null,null,null,null,null,null,null,null,null,null,null,"  F",48670]
["Bloque_Exploracion",85,2,null,null,null,null,null,null,null,null,null,null,null,null,"  F",48671]
["Area",90,2,null,null,null,null,null,null,null,null,null,null,null,null,"  F",48672]
[null,null,null,null,null,null,null,null,null,null,null,null,null,null,null,"  F-ELBa",48673]
[null,null,null,null,null,null,null,null,null,null,null,null,null,null,null,"  F-ECLu",48674]
[null,null,null,null,null,null,null,null,null,null,null,null,null,null,null,"  F",48675]
[null,null,null,null,null,null,null,null,null,null,null,null,null,null,null,"  F",48676]
[null,null,null,null,null,null,null,null,null,null,null,null,null,null,null,"  F",48677]
[null,null,null,null,null,null,null,null,null,null,null,null,null,null,null,"  F",48678]
[null,null,null,null,null,null,null,null,null,null,null,null,null,null,null,"  E01",51021]
[null,null,null,null,null,null,null,null,null,null,null,null,null,null,null,"  E02",51022]
[null,null,null,null,null,null,null,null,null,null,null,null,null,null,null,"  E03",51023]
[null,null,null,null,null,null,null,null,null,null,null,null,null,null,null,"  E04",51024]
[null,null,null,null,null,null,null,null,null,null,null,null,null,null,null,"  E05",51025]
[null,null,null,null,null,null,null,null,null,null,null,null,null,null,null,"  E06",51026]
[null,null,null,null,null,null,null,null,null,null,null,null,null,null,null,"  E08",51027]
[null,null,null,null,null,null,null,null,null,null,null,null,null,null,null,"  E09",51028]
[null,null,null,null,null,null,null,null,null,null,null,null,null,null,null,"  E10",51029]
[null,null,null,null,null,null,null,null,null,null,null,null,null,null,null,"  E11",51030]
[null,null,null,null,null,null,null,null,null,null,null,null,null,null,null,"  E01",51031]
[null,null,null,null,null,null,null,null,null,null,null,null,null,null,null,"  E02",51032]
[null,null,null,null,null,null,null,null,null,null,null,null,null,null,null,"  E03",51033]
[null,null,null,null,null,null,null,null,null,null,null,null,null,null,null,"  E04",51034]
[null,null,null,null,null,null,null,null,null,null,null,null,null,null,null,"  E05",51035]
[null,null,null,null,null,null,null,null,null,null,null,null,null,null,null,"  E06",51036]
[null,null,null,null,null,null,null,null,null,null,null,null,null,null,null,"  E01",51005]
[null,null,null,null,null,null,null,null,null,null,null,null,null,null,null,"  E02",51006]
[null,null,null,null,null,null,null,null,null,null,null,null,null,null,null,"  E03",51007]
[null,null,null,null,null,null,null,null,null,null,null,null,null,null,null,"  E04",51008]
[null,null,null,null,null,null,null,null,null,null,null,null,null,null,null,"  E05",51009]
[null,null,null,null,null,null,null,null,null,null,null,null,null,null,null,"  E06",51010]
[null,null,null,null,null,null,null,null,null,null,null,null,null,null,null,"  E07",51011]
[null,null,null,null,null,null,null,null,null,null,null,null,null,null,null,"  E08",51012]
[null,null,null,null,null,null,null,null,null,null,null,null,null,null,null,"  E09",51013]
[null,null,null,null,null,null,null,null,null,null,null,null,null,null,null,"  E10",51014]
[null,null,null,null,null,null,null,null,null,null,null,null,null,null,null,"  E11",51015]
[null,null,null,null,null,null,null,null,null,null,null,null,null,null,null,"  E12",51016]
[null,null,null,null,null,null,null,null,null,null,null,null,null,null,null,"  E13",51017]
[null,null,null,null,null,null,null,null,null,null,null,null,null,null,null,"  E14",51018]
[null,null,null,null,null,null,null,null,null,null,null,null,null,null,null,"  E15",51019]
[null,null,null,null,null,null,null,null,null,null,null,null,null,null,null,"  E16",51020]
[null,null,null,null,null,null,null,null,null,null,null,null,null,null,null,"  E02",51037]
[null,null,null,null,null,null,null,null,null,null,null,null,null,null,null,"  E03",51038]
[null,null,null,null,null,null,null,null,null,null,null,null,null,null,null,"  E04",51039]
[null,null,null,null,null,null,null,null,null,null,null,null,null,null,null,"  E05",51040]
[null,null,null,null,null,null,null,null,null,null,null,null,null,null,null,"  E06",51041]
[null,null,null,null,null,null,null,null,null,null,null,null,null,null,null,"  E07",51042]
[null,null,null,null,null,null,null,null,null,null,null,null,null,null,null,"  E08",51043]
[null,null,null,null,null,null,null,null,null,null,null,null,null,null,null,"  E09",51044]
[null,null,null,null,null,null,null,null,null,null,null,null,null,null,null,"  E10",51045]
[null,null,null,null,null,null,null,null,null,null,null,null,null,null,null,"",""]
[null,null,null,null,null,null,null,null,null,null,null,null,null,null,null,"",""]
[null,null,null,null,null,null,null,null,null,null,null,null,null,null,null,"",""]
[null,null,null,null,null,null,null,null,null,null,null,null,null,null,null,"",""]
[null,null,null,null,null,null,null,null,null,null,null,null,null,null,null,"",""]
[null,null,null,null,null,null,null,null,null,null,null,null,null,null,null,"",""]
[null,null,null,null,null,null,null,null,null,null,null,null,null,null,null,"",""]
[null,null,null,null,null,null,null,null,null,null,null,null,null,null,null,"",""]
[null,null,null,null,null,null,null,null,null,null,null,null,null,null,null,"",""]
[null,null,null,null,null,null,null,null,null,null,null,null,null,null,null,"",""]
[null,null,null,null,null,null,null,null,null,null,null,null,null,null,null,"",""]
[null,null,null,null,null,null,null,null,null,null,null,null,null,null,null,"",""]
[null,null,null,null,null,null,null,null,null,null,null,null,null,null,null,"",""]
[null,null,null,null,null,null,null,null,null,null,null,null,null,null,null,"",""]
[null,null,null,null,null,null,null,null,null,null,null,null,null,null,null,"",""]
[null,null,null,null,null,null,null,null,null,null,null,null,null,null,null,"",""]
[null,null,null,null,null,null,null,null,null,null,null,null,null,null,null,"",""]
[null,null,null,null,null,null,null,null,null,null,null,null,null,null,null,"",""]
[null,null,null,null,null,null,null,null,null,null,null,null,null,null,null,"",""]
[null,null,null,null,null,null,null,null,null,null,null,null,null,null,null,"",""]
[null,null,null,null,null,null,null,null,null,null,null,null,null,null,null,"",""]
[null,null,null,null,null,null,null,null,null,null,null,null,null,null,null,"",""]
[null,null,null,null,null,null,null,null,null,null,null,null,null,null,null,"",""]
[null,null,null,null,null,null,null,null,null,null,null,null,null,null,null,"",""]
[null,null,null,null,null,null,null,null,null,null,null,null,null,null,null,"",""]
[null,null,null,null,null,null,null,null,null,null,null,null,null,null,null,"",""]
[null,null,null,null,null,null,null,null,null,null,null,null,null,null,null,"",""]
[null,null,null,null,null,null,null,null,null,null,null,null,null,null,null,"",""]
[null,null,null,null,null,null,null,null,null,null,null,null,null,null,null,"",""]
[null,null,null,null,null,null,null,null,null,null,null,null,null,null,null,"",""]
[null,null,null,null,null,null,null,null,null,null,null,null,null,null,null,"",""]
[null,null,null,null,null,null,null,null,null,null,null,null,null,null,null,"",""]
[null,null,null,null,null,null,null,null,null,null,null,null,null,null,null,"",""]
[null,null,null,null,null,null,null,null,null,null,null,null,null,null,null,"",""]
[null,null,null,null,null,null,null,null,null,null,null,null,null,null,null,"",""]
[null,null,null,null,null,null,null,null,null,null,null,null,null,null,null,"",""]
[null,null,null,null,null,null,null,null,null,null,null,null,null,null,null,"",""]
[null,null,null,null,null,null,null,null,null,null,null,null,null,null,null,"",""]
[null,null,null,null,null,null,null,null,null,null,null,null,null,null,null,"",""]
[null,null,null,null,null,null,null,null,null,null,null,null,null,null,null,"",""]
[null,null,null,null,null,null,null,null,null,null,null,null,null,null,null,"",""]
[null,null,null,null,null,null,null,null,null,null,null,null,null,null,null,"",""]
[null,null,null,null,null,null,null,null,null,null,null,null,null,null,null,"",""]
[null,null,null,null,null,null,null,null,null,null,null,null,null,null,null,"",""]
[null,null,null,null,null,null,null,null,null,null,null,null,null,null,null,"",""]
[null,null,null,null,null,null,null,null,null,null,null,null,null,null,null,"",""]
[null,null,null,null,null,null,null,null,null,null,null,null,null,null,null,"",""]
[null,null,null,null,null,null,null,null,null,null,null,null,null,null,null,"",""]
[null,null,null,null,null,null,null,null,null,null,null,null,null,null,null,"",""]
[null,null,null,null,null,null,null,null,null,null,null,null,null,null,null,"",""]
[null,null,null,null,null,null,null,null,null,null,null,null,null,null,null,"",""]
[null,null,null,null,null,null,null,null,null,null,null,null,null,null,null,"",""]
[null,null,null,null,null,null,null,null,null,null,null,null,null,null,null,"",""]
[null,null,null,null,null,null,null,null,null,null,null,null,null,null,null,"",""]
[null,null,null,null,null,null,null,null,null,null,null,null,null,null,null,"",""]
[null,null,null,null,null,null,null,null,null,null,null,null,null,null,null,"",""]
[null,null,null,null,null,null,null,null,null,null,null,null,null,null,null,"",""]
[null,null,null,null,null,null,null,null,null,null,null,null,null,null,null,"",""]
[null,null,null,null,null,null,null,null,null,null,null,null,null,null,null,"",""]
[null,null,null,null,null,null,null,null,null,null,null,null,null,null,null,"",""]
[null,null,null,null,null,null,null,null,null,null,null,null,null,null,null,"",""]
[null,null,null,null,null,null,null,null,null,null,null,null,null,null,null,"",""]
[null,null,null,null,null,null,null,null,null,null,null,null,null,null,null,"",""]
[null,null,null,null,null,null,null,null,null,null,null,null,null,null,null,"",""]
[null,null,null,null,null,null,null,null,null,null,null,null,null,null,null,"",""]
[null,null,null,null,null,null,null,null,null,null,null,null,null,null,null,"",""]
[null,null,null,null,null,null,null,null,null,null,null,null,null,null,null,"",""]
[null,null,null,null,null,null,null,null,null,null,null,null,null,null,null,"",""]
[null,null,null,null,null,null,null,null,null,null,null,null,null,null,null,"",""]
[null,null,null,null,null,null,null,null,null,null,null,null,null,null,null,"",""]
[null,null,null,null,null,null,null,null,null,null,null,null,null,null,null,"",""]
[null,null,null,null,null,null,null,null,null,null,null,null,null,null,null,"",""]
[null,null,null,null,null,null,null,null,null,null,null,null,null,null,null,"",""]
[null,null,null,null,null,null,null,null,null,null,null,null,null,null,null,"",""]
[null,null,null,null,null,null,null,null,null,null,null,null,null,null,null,"",""]
[null,null,null,null,null,null,null,null,null,null,null,null,null,null,null,"",""]
[null,null,null,null,null,null,null,null,null,null,null,null,null,null,null,"",""]
[null,null,null,null,null,null,null,null,null,null,null,null,null,null,null,"",""]
[null,null,null,null,null,null,null,null,null,null,null,null,null,null,null,"",""]
[null,null,null,null,null,null,null,null,null,null,null,null,null,null,null,"",""]
[null,null,null,null,null,null,null,null,null,null,null,null,null,null,null,"",""]
[null,null,null,null,null,null,null,null,null,null,null,null,null,null,null,"",""]
[null,null,null,null,null,null,null,null,null,null,null,null,null,null,null,"",""]
[null,null,null,null,null,null,null,null,null,null,null,null,null,null,null,"",""]
[null,null,null,null,null,null,null,null,null,null,null,null,null,null,null,"",""]
[null,null,null,null,null,null,null,null,null,null,null,null,null,null,null,"",""]
[null,null,null,null,null,null,null,null,null,null,null,null,null,null,null,"",""]
[null,null,null,null,null,null,null,null,null,null,null,null,null,null,null,"",""]
[null,null,null,null,null,null,null,null,null,null,null,null,null,null,null,"",""]
[null,null,null,null,null,null,null,null,null,null,null,null,null,null,null,"",""]
[null,null,null,null,null,null,null,null,null,null,null,null,null,null,null,"",""]
[null,null,null,null,null,null,null,null,null,null,null,null,null,null,null,"",""]
[null,null,null,null,null,null,null,null,null,null,null,null,null,null,null,"",""]
[null,null,null,null,null,null,null,null,null,null,null,null,null,null,null,"",""]
[null,null,null,null,null,null,null,null,null,null,null,null,null,null,null,"",""]
[null,null,null,null,null,null,null,null,null,null,null,null,null,null,null,"",""]
[null,null,null,null,null,null,null,null,null,null,null,null,null,null,null,"",""]
[null,null,null,null,null,null,null,null,null,null,null,null,null,null,null,"",""]
[null,null,null,null,null,null,null,null,null,null,null,null,null,null,null,"",""]
[null,null,null,null,null,null,null,null,null,null,null,null,null,null,null,"",""]
[null,null,null,null,null,null,null,null,null,null,null,null,null,null,null,"",""]
[null,null,null,null,null,null,null,null,null,null,null,null,null,null,null,"",""]
[null,null,null,null,null,null,null,null,null,null,null,null,null,null,null,"",""]
[null,null,null,null,null,null,null,null,null,null,null,null,null,null,null,"",""]
[null,null,null,null,null,null,null,null,null,null,null,null,null,null,null,"",""]
[null,null,null,null,null,null,null,null,null,null,null,null,null,null,null,"",""]
[null,null,null,null,null,null,null,null,null,null,null,null,null,null,null,"",""]
[null,null,null,null,null,null,null,null,null,null,null,null,null,null,null,"",""]
[null,null,null,null,null,null,null,null,null,null,null,null,null,null,null,"",""]
[null,null,null,null,null,null,null,null,null,null,null,null,null,null,null,"",""]
[null,null,null,null,null,null,null,null,null,null,null,null,null,null,null,"",""]
[null,null,null,null,null,null,null,null,null,null,null,null,null,null,null,"",""]
[null,null,null,null,null,null,null,null,null,null,null,null,null,null,null,"",""]
[null,null,null,null,null,null,null,null,null,null,null,null,null,null,null,"",""]
[null,null,null,null,null,null,null,null,null,null,null,null,null,null,null,"",""]
[null,null,null,null,null,null,null,null,null,null,null,null,null,null,null,"",""]
[null,null,null,null,null,null,null,null,null,null,null,null,null,null,null,"",""]
[null,null,null,null,null,null,null,null,null,null,null,null,null,null,null,"",""]
[null,null,null,null,null,null,null,null,null,null,null,null,null,null,null,"",""]
[null,null,null,null,null,null,null,null,null,null,null,null,null,null,null,"",""]
[null,null,null,null,null,null,null,null,null,null,null,null,null,null,null,"",""]
[null,null,null,null,null,null,null,null,null,null,null,null,null,null,null,"",""]
[null,null,null,null,null,null,null,null,null,null,null,null,null,null,null,"",""]
[null,null,null,null,null,null,null,null,null,null,null,null,null,null,null,"",""]
[null,null,null,null,null,null,null,null,null,null,null,null,null,null,null,"",""]
[null,null,null,null,null,null,null,null,null,null,null,null,null,null,null,"",""]
[null,null,null,null,null,null,null,null,null,null,null,null,null,null,null,"",""]
[null,null,null,null,null,null,null,null,null,null,null,null,null,null,null,"",""]
[null,null,null,null,null,null,null,null,null,null,null,null,null,null,null,"",""]
[null,null,null,null,null,null,null,null,null,null,null,null,null,null,null,"",""]
[null,null,null,null,null,null,null,null,null,null,null,null,null,null,null,"",""]
[null,null,null,null,null,null,null,null,null,null,null,null,null,null,null,"",""]
[null,null,null,null,null,null,null,null,null,null,null,null,null,null,null,"",""]
[null,null,null,null,null,null,null,null,null,null,null,null,null,null,null,"",""]
[null,null,null,null,null,null,null,null,null,null,null,null,null,null,null,"",""]
[null,null,null,null,null,null,null,null,null,null,null,null,null,null,null,"",""]
[null,null,null,null,null,null,null,null,null,null,null,null,null,null,null,"",""]
[null,null,null,null,null,null,null,null,null,null,null,null,null,null,null,"",""]
[null,null,null,null,null,null,null,null,null,null,null,null,null,null,null,"",""]
[null,null,null,null,null,null,null,null,null,null,null,null,null,null,null,"",""]
[null,null,null,null,null,null,null,null,null,null,null,null,null,null,null,"",""]
[null,null,null,null,null,null,null,null,null,null,null,null,null,null,null,"",""]
[null,null,null,null,null,null,null,null,null,null,null,null,null,null,null,"",""]
[null,null,null,null,null,null,null,null,null,null,null,null,null,null,null,"",""]
[null,null,null,null,null,null,null,null,null,null,null,null,null,null,null,"",""]
[null,null,null,null,null,null,null,null,null,null,null,null,null,null,null,"",""]
[null,null,null,null,null,null,null,null,null,null,null,null,null,null,null,"",""]
[null,null,null,null,null,null,null,null,null,null,null,null,null,null,null,"",""]
[null,null,null,null,null,null,null,null,null,null,null,null,null,null,null,"",""]
[null,null,null,null,null,null,null,null,null,null,null,null,null,null,null,"",""]
[null,null,null,null,null,null,null,null,null,null,null,null,null,null,null,"",""]
[null,null,null,null,null,null,null,null,null,null,null,null,null,null,null,"",""]
[null,null,null,null,null,null,null,null,null,null,null,null,null,null,null,"",""]
[null,null,null,null,null,null,null,null,null,null,null,null,null,null,null,"",""]
[null,null,null,null,null,null,null,null,null,null,null,null,null,null,null,"",""]
[null,null,null,null,null,null,null,null,null,null,null,null,null,null,null,"",""]
[null,null,null,null,null,null,null,null,null,null,null,null,null,null,null,"",""]
[null,null,null,null,null,null,null,null,null,null,null,null,null,null,null,"",""]
[null,null,null,null,null,null,null,null,null,null,null,null,null,null,null,"",""]
[null,null,null,null,null,null,null,null,null,null,null,null,null,null,null,"",""]
[null,null,null,null,null,null,null,null,null,null,null,null,null,null,null,"",""]
[null,null,null,null,null,null,null,null,null,null,null,null,null,null,null,"",""]
[null,null,null,null,null,null,null,null,null,null,null,null,null,null,null,"",""]
[null,null,null,null,null,null,null,null,null,null,null,null,null,null,null,"",""]
[null,null,null,null,null,null,null,null,null,null,null,null,null,null,null,"",""]
[null,null,null,null,null,null,null,null,null,null,null,null,null,null,null,"",""]
[null,null,null,null,null,null,null,null,null,null,null,null,null,null,null,"",""]
[null,null,null,null,null,null,null,null,null,null,null,null,null,null,null,"",""]
[null,null,null,null,null,null,null,null,null,null,null,null,null,null,null,"",""]
[null,null,null,null,null,null,null,null,null,null,null,null,null,null,null,"",""]
[null,null,null,null,null,null,null,null,null,null,null,null,null,null,null,"",""]
[null,null,null,null,null,null,null,null,null,null,null,null,null,null,null,"",""]
[null,null,null,null,null,null,null,null,null,null,null,null,null,null,null,"",""]
[null,null,null,null,null,null,null,null,null,null,null,null,null,null,null,"",""]
[null,null,null,null,null,null,null,null,null,null,null,null,null,null,null,"",""]
[null,null,null,null,null,null,null,null,null,null,null,null,null,null,null,"",""]
[null,null,null,null,null,null,null,null,null,null,null,null,null,null,null,"",""]
[null,null,null,null,null,null,null,null,null,null,null,null,null,null,null,"",""]
[null,null,null,null,null,null,null,null,null,null,null,null,null,null,null,"",""]
[null,null,null,null,null,null,null,null,null,null,null,null,null,null,null,"",""]
[null,null,null,null,null,null,null,null,null,null,null,null,null,null,null,"",""]
[null,null,null,null,null,null,null,null,null,null,null,null,null,null,null,"",""]
[null,null,null,null,null,null,null,null,null,null,null,null,null,null,null,"",""]
[null,null,null,null,null,null,null,null,null,null,null,null,null,null,null,"",""]
[null,null,null,null,null,null,null,null,null,null,null,null,null,null,null,"",""]
[null,null,null,null,null,null,null,null,null,null,null,null,null,null,null,"",""]
[null,null,null,null,null,null,null,null,null,null,null,null,null,null,null,"",""]
[null,null,null,null,null,null,null,null,null,null,null,null,null,null,null,"",""]
[null,null,null,null,null,null,null,null,null,null,null,null,null,null,null,"",""]
[null,null,null,null,null,null,null,null,null,null,null,null,null,null,null,"",""]
[null,null,null,null,null,null,null,null,null,null,null,null,null,null,null,"",""]
[null,null,null,null,null,null,null,null,null,null,null,null,null,null,null,"",""]
[null,null,null,null,null,null,null,null,null,null,null,null,null,null,null,"",""]
[null,null,null,null,null,null,null,null,null,null,null,null,null,null,null,"",""]
[null,null,null,null,null,null,null,null,null,null,null,null,null,null,null,"",""]
[null,null,null,null,null,null,null,null,null,null,null,null,null,null,null,"",""]
[null,null,null,null,null,null,null,null,null,null,null,null,null,null,null,"",""]
[null,null,null,null,null,null,null,null,null,null,null,null,null,null,null,"",""]
[null,null,null,null,null,null,null,null,null,null,null,null,null,null,null,"",""]
[null,null,null,null,null,null,null,null,null,null,null,null,null,null,null,"",""]
[null,null,null,null,null,null,null,null,null,null,null,null,null,null,null,"",""]
[null,null,null,null,null,null,null,null,null,null,null,null,null,null,null,"",""]
[null,null,null,null,null,null,null,null,null,null,null,null,null,null,null,"",""]
[null,null,null,null,null,null,null,null,null,null,null,null,null,null,null,"",""]
[null,null,null,null,null,null,null,null,null,null,null,null,null,null,null,"",""]
[null,null,null,null,null,null,null,null,null,null,null,null,null,null,null,"",""]
[null,null,null,null,null,null,null,null,null,null,null,null,null,null,null,"",""]
[null,null,null,null,null,null,null,null,null,null,null,null,null,null,null,"",""]
[null,null,null,null,null,null,null,null,null,null,null,null,null,null,null,"",""]
[null,null,null,null,null,null,null,null,null,null,null,null,null,null,null,"",""]
[null,null,null,null,null,null,null,null,null,null,null,null,null,null,null,"",""]
[null,null,null,null,null,null,null,null,null,null,null,null,null,null,null,"",""]
[null,null,null,null,null,null,null,null,null,null,null,null,null,null,null,"",""]
[null,null,null,null,null,null,null,null,null,null,null,null,null,null,null,"",""]
[null,null,null,null,null,null,null,null,null,null,null,null,null,null,null,"",""]
[null,null,null,null,null,null,null,null,null,null,null,null,null,null,null,"",""]
[null,null,null,null,null,null,null,null,null,null,null,null,null,null,null,"",""]
[null,null,null,null,null,null,null,null,null,null,null,null,null,null,null,"",""]
[null,null,null,null,null,null,null,null,null,null,null,null,null,null,null,"",""]
[null,null,null,null,null,null,null,null,null,null,null,null,null,null,null,"",""]
[null,null,null,null,null,null,null,null,null,null,null,null,null,null,null,"",""]
[null,null,null,null,null,null,null,null,null,null,null,null,null,null,null,"",""]
[null,null,null,null,null,null,null,null,null,null,null,null,null,null,null,"",""]
[null,null,null,null,null,null,null,null,null,null,null,null,null,null,null,"",""]
[null,null,null,null,null,null,null,null,null,null,null,null,null,null,null,"",""]
[null,null,null,null,null,null,null,null,null,null,null,null,null,null,null,"",""]
[null,null,null,null,null,null,null,null,null,null,null,null,null,null,null,"",""]
[null,null,null,null,null,null,null,null,null,null,null,null,null,null,null,"",""]
[null,null,null,null,null,null,null,null,null,null,null,null,null,null,null,"",""]
[null,null,null,null,null,null,null,null,null,null,null,null,null,null,null,"",""]
[null,null,null,null,null,null,null,null,null,null,null,null,null,null,null,"",""]
[null,null,null,null,null,null,null,null,null,null,null,null,null,null,null,"",""]
[null,null,null,null,null,null,null,null,null,null,null,null,null,null,null,"",""]
[null,null,null,null,null,null,null,null,null,null,null,null,null,null,null,"",""]
[null,null,null,null,null,null,null,null,null,null,null,null,null,null,null,"",""]
[null,null,null,null,null,null,null,null,null,null,null,null,null,null,null,"",""]
[null,null,null,null,null,null,null,null,null,null,null,null,null,null,null,"",""]
[null,null,null,null,null,null,null,null,null,null,null,null,null,null,null,"",""]
[null,null,null,null,null,null,null,null,null,null,null,null,null,null,null,"",""]
[null,null,null,null,null,null,null,null,null,null,null,null,null,null,null,"",""]
[null,null,null,null,null,null,null,null,null,null,null,null,null,null,null,"",""]
[null,null,null,null,null,null,null,null,null,null,null,null,null,null,null,"",""]
[null,null,null,null,null,null,null,null,null,null,null,null,null,null,null,"",""]
[null,null,null,null,null,null,null,null,null,null,null,null,null,null,null,"",""]
[null,null,null,null,null,null,null,null,null,null,null,null,null,null,null,"",""]
[null,null,null,null,null,null,null,null,null,null,null,null,null,null,null,"",""]
[null,null,null,null,null,null,null,null,null,null,null,null,null,null,null,"",""]
[null,null,null,null,null,null,null,null,null,null,null,null,null,null,null,"",""]
[null,null,null,null,null,null,null,null,null,null,null,null,null,null,null,"",""]
[null,null,null,null,null,null,null,null,null,null,null,null,null,null,null,"",""]
[null,null,null,null,null,null,null,null,null,null,null,null,null,null,null,"",""]
[null,null,null,null,null,null,null,null,null,null,null,null,null,null,null,"",""]
[null,null,null,null,null,null,null,null,null,null,null,null,null,null,null,"",""]
[null,null,null,null,null,null,null,null,null,null,null,null,null,null,null,"",""]
[null,null,null,null,null,null,null,null,null,null,null,null,null,null,null,"",""]
[null,null,null,null,null,null,null,null,null,null,null,null,null,null,null,"",""]
[null,null,null,null,null,null,null,null,null,null,null,null,null,null,null,"",""]
[null,null,null,null,null,null,null,null,null,null,null,null,null,null,null,"",""]
[null,null,null,null,null,null,null,null,null,null,null,null,null,null,null,"",""]
[null,null,null,null,null,null,null,null,null,null,null,null,null,null,null,"",""]
[null,null,null,null,null,null,null,null,null,null,null,null,null,null,null,"",""]
[null,null,null,null,null,null,null,null,null,null,null,null,null,null,null,"",""]
[null,null,null,null,null,null,null,null,null,null,null,null,null,null,null,"",""]
[null,null,null,null,null,null,null,null,null,null,null,null,null,null,null,"",""]
[null,null,null,null,null,null,null,null,null,null,null,null,null,null,null,"",""]
[null,null,null,null,null,null,null,null,null,null,null,null,null,null,null,"",""]
[null,null,null,null,null,null,null,null,null,null,null,null,null,null,null,"",""]
[null,null,null,null,null,null,null,null,null,null,null,null,null,null,null,"",""]
[null,null,null,null,null,null,null,null,null,null,null,null,null,null,null,"",""]
[null,null,null,null,null,null,null,null,null,null,null,null,null,null,null,"",""]
[null,null,null,null,null,null,null,null,null,null,null,null,null,null,null,"",""]
[null,null,null,null,null,null,null,null,null,null,null,null,null,null,null,"",""]
[null,null,null,null,null,null,null,null,null,null,null,null,null,null,null,"",""]
[null,null,null,null,null,null,null,null,null,null,null,null,null,null,null,"",""]
[null,null,null,null,null,null,null,null,null,null,null,null,null,null,null,"",""]
[null,null,null,null,null,null,null,null,null,null,null,null,null,null,null,"",""]
[null,null,null,null,null,null,null,null,null,null,null,null,null,null,null,"",""]
[null,null,null,null,null,null,null,null,null,null,null,null,null,null,null,"",""]
[null,null,null,null,null,null,null,null,null,null,null,null,null,null,null,"",""]
[null,null,null,null,null,null,null,null,null,null,null,null,null,null,null,"",""]
[null,null,null,null,null,null,null,null,null,null,null,null,null,null,null,"",""]
[null,null,null,null,null,null,null,null,null,null,null,null,null,null,null,"",""]
[null,null,null,null,null,null,null,null,null,null,null,null,null,null,null,"",""]
[null,null,null,null,null,null,null,null,null,null,null,null,null,null,null,"",""]
[null,null,null,null,null,null,null,null,null,null,null,null,null,null,null,"",""]
[null,null,null,null,null,null,null,null,null,null,null,null,null,null,null,"",""]
[null,null,null,null,null,null,null,null,null,null,null,null,null,null,null,"",""]
[null,null,null,null,null,null,null,null,null,null,null,null,null,null,null,"",""]
[null,null,null,null,null,null,null,null,null,null,null,null,null,null,null,"",""]
[null,null,null,null,null,null,null,null,null,null,null,null,null,null,null,"",""]
[null,null,null,null,null,null,null,null,null,null,null,null,null,null,null,"",""]
[null,null,null,null,null,null,null,null,null,null,null,null,null,null,null,"",""]
[null,null,null,null,null,null,null,null,null,null,null,null,null,null,null,"",""]
[null,null,null,null,null,null,null,null,null,null,null,null,null,null,null,"",""]
[null,null,null,null,null,null,null,null,null,null,null,null,null,null,null,"",""]
[null,null,null,null,null,null,null,null,null,null,null,null,null,null,null,"",""]
[null,null,null,null,null,null,null,null,null,null,null,null,null,null,null,"",""]
[null,null,null,null,null,null,null,null,null,null,null,null,null,null,null,"",""]
[null,null,null,null,null,null,null,null,null,null,null,null,null,null,null,"",""]
[null,null,null,null,null,null,null,null,null,null,null,null,null,null,null,"",""]
[null,null,null,null,null,null,null,null,null,null,null,null,null,null,null,"",""]
[null,null,null,null,null,null,null,null,null,null,null,null,null,null,null,"",""]
[null,null,null,null,null,null,null,null,null,null,null,null,null,null,null,"",""]
[null,null,null,null,null,null,null,null,null,null,null,null,null,null,null,"",""]
[null,null,null,null,null,null,null,null,null,null,null,null,null,null,null,"",""]
[null,null,null,null,null,null,null,null,null,null,null,null,null,null,null,"",""]
[null,null,null,null,null,null,null,null,null,null,null,null,null,null,null,"",""]
[null,null,null,null,null,null,null,null,null,null,null,null,null,null,null,"",""]
[null,null,null,null,null,null,null,null,null,null,null,null,null,null,null,"",""]
[null,null,null,null,null,null,null,null,null,null,null,null,null,null,null,"",""]
[null,null,null,null,null,null,null,null,null,null,null,null,null,null,null,"",""]
[null,null,null,null,null,null,null,null,null,null,null,null,null,null,null,"",""]
[null,null,null,null,null,null,null,null,null,null,null,null,null,null,null,"",""]
[null,null,null,null,null,null,null,null,null,null,null,null,null,null,null,"",""]
[null,null,null,null,null,null,null,null,null,null,null,null,null,null,null,"",""]
[null,null,null,null,null,null,null,null,null,null,null,null,null,null,null,"",""]
[null,null,null,null,null,null,null,null,null,null,null,null,null,null,null,"",""]
[null,null,null,null,null,null,null,null,null,null,null,null,null,null,null,"",""]
[null,null,null,null,null,null,null,null,null,null,null,null,null,null,null,"",""]
[null,null,null,null,null,null,null,null,null,null,null,null,null,null,null,"",""]
[null,null,null,null,null,null,null,null,null,null,null,null,null,null,null,"",""]
[null,null,null,null,null,null,null,null,null,null,null,null,null,null,null,"",""]
[null,null,null,null,null,null,null,null,null,null,null,null,null,null,null,"",""]
[null,null,null,null,null,null,null,null,null,null,null,null,null,null,null,"",""]
[null,null,null,null,null,null,null,null,null,null,null,null,null,null,null,"",""]
[null,null,null,null,null,null,null,null,null,null,null,null,null,null,null,"",""]
[null,null,null,null,null,null,null,null,null,null,null,null,null,null,null,"",""]
[null,null,null,null,null,null,null,null,null,null,null,null,null,null,null,"",""]
[null,null,null,null,null,null,null,null,null,null,null,null,null,null,null,"",""]
[null,null,null,null,null,null,null,null,null,null,null,null,null,null,null,"",""]
[null,null,null,null,null,null,null,null,null,null,null,null,null,null,null,"",""]
[null,null,null,null,null,null,null,null,null,null,null,null,null,null,null,"",""]
[null,null,null,null,null,null,null,null,null,null,null,null,null,null,null,"",""]
[null,null,null,null,null,null,null,null,null,null,null,null,null,null,null,"",""]
[null,null,null,null,null,null,null,null,null,null,null,null,null,null,null,"",""]
[null,null,null,null,null,null,null,null,null,null,null,null,null,null,null,"",""]
[null,null,null,null,null,null,null,null,null,null,null,null,null,null,null,"",""]
[null,null,null,null,null,null,null,null,null,null,null,null,null,null,null,"",""]
[null,null,null,null,null,null,null,null,null,null,null,null,null,null,null,"",""]
[null,null,null,null,null,null,null,null,null,null,null,null,null,null,null,"",""]
[null,null,null,null,null,null,null,null,null,null,null,null,null,null,null,"",""]
[null,null,null,null,null,null,null,null,null,null,null,null,null,null,null,"",""]
[null,null,null,null,null,null,null,null,null,null,null,null,null,null,null,"",""]
[null,null,null,null,null,null,null,null,null,null,null,null,null,null,null,"",""]
[null,null,null,null,null,null,null,null,null,null,null,null,null,null,null,"",""]
[null,null,null,null,null,null,null,null,null,null,null,null,null,null,null,"",""]
[null,null,null,null,null,null,null,null,null,null,null,null,null,null,null,"",""]
[null,null,null,null,null,null,null,null,null,null,null,null,null,null,null,"",""]
[null,null,null,null,null,null,null,null,null,null,null,null,null,null,null,"",""]
[null,null,null,null,null,null,null,null,null,null,null,null,null,null,null,"",""]
[null,null,null,null,null,null,null,null,null,null,null,null,null,null,null,"",""]
[null,null,null,null,null,null,null,null,null,null,null,null,null,null,null,"",""]
[null,null,null,null,null,null,null,null,null,null,null,null,null,null,null,"",""]
[null,null,null,null,null,null,null,null,null,null,null,null,null,null,null,"",""]
[null,null,null,null,null,null,null,null,null,null,null,null,null,null,null,"",""]
[null,null,null,null,null,null,null,null,null,null,null,null,null,null,null,"",""]
[null,null,null,null,null,null,null,null,null,null,null,null,null,null,null,"",""]
[null,null,null,null,null,null,null,null,null,null,null,null,null,null,null,"",""]
[null,null,null,null,null,null,null,null,null,null,null,null,null,null,null,"",""]
[null,null,null,null,null,null,null,null,null,null,null,null,null,null,null,"",""]
[null,null,null,null,null,null,null,null,null,null,null,null,null,null,null,"",""]
[null,null,null,null,null,null,null,null,null,null,null,null,null,null,null,"",""]
[null,null,null,null,null,null,null,null,null,null,null,null,null,null,null,"",""]
[null,null,null,null,null,null,null,null,null,null,null,null,null,null,null,"",""]
[null,null,null,null,null,null,null,null,null,null,null,null,null,null,null,"",""]
[null,null,null,null,null,null,null,null,null,null,null,null,null,null,null,"",""]
[null,null,null,null,null,null,null,null,null,null,null,null,null,null,null,"",""]
[null,null,null,null,null,null,null,null,null,null,null,null,null,null,null,"",""]
[null,null,null,null,null,null,null,null,null,null,null,null,null,null,null,"",""]
[null,null,null,null,null,null,null,null,null,null,null,null,null,null,null,"",""]
[null,null,null,null,null,null,null,null,null,null,null,null,null,null,null,"",""]
[null,null,null,null,null,null,null,null,null,null,null,null,null,null,null,"",""]
[null,null,null,null,null,null,null,null,null,null,null,null,null,null,null,"",""]
[null,null,null,null,null,null,null,null,null,null,null,null,null,null,null,"",""]
[null,null,null,null,null,null,null,null,null,null,null,null,null,null,null,"",""]
[null,null,null,null,null,null,null,null,null,null,null,null,null,null,null,"",""]
[null,null,null,null,null,null,null,null,null,null,null,null,null,null,null,"",""]
[null,null,null,null,null,null,null,null,null,null,null,null,null,null,null,"",""]
[null,null,null,null,null,null,null,null,null,null,null,null,null,null,null,"",""]
[null,null,null,null,null,null,null,null,null,null,null,null,null,null,null,"",""]
[null,null,null,null,null,null,null,null,null,null,null,null,null,null,null,"",""]
[null,null,null,null,null,null,null,null,null,null,null,null,null,null,null,"",""]
[null,null,null,null,null,null,null,null,null,null,null,null,null,null,null,"",""]
[null,null,null,null,null,null,null,null,null,null,null,null,null,null,null,"",""]
[null,null,null,null,null,null,null,null,null,null,null,null,null,null,null,"",""]
[null,null,null,null,null,null,null,null,null,null,null,null,null,null,null,"",""]
[null,null,null,null,null,null,null,null,null,null,null,null,null,null,null,"",""]
[null,null,null,null,null,null,null,null,null,null,null,null,null,null,null,"",""]
[null,null,null,null,null,null,null,null,null,null,null,null,null,null,null,"",""]
[null,null,null,null,null,null,null,null,null,null,null,null,null,null,null,"",""]
[null,null,null,null,null,null,null,null,null,null,null,null,null,null,null,"",""]
[null,null,null,null,null,null,null,null,null,null,null,null,null,null,null,"",""]
[null,null,null,null,null,null,null,null,null,null,null,null,null,null,null,"",""]
[null,null,null,null,null,null,null,null,null,null,null,null,null,null,null,"",""]
[null,null,null,null,null,null,null,null,null,null,null,null,null,null,null,"",""]
[null,null,null,null,null,null,null,null,null,null,null,null,null,null,null,"",""]
[null,null,null,null,null,null,null,null,null,null,null,null,null,null,null,"",""]
[null,null,null,null,null,null,null,null,null,null,null,null,null,null,null,"",""]
[null,null,null,null,null,null,null,null,null,null,null,null,null,null,null,"",""]
[null,null,null,null,null,null,null,null,null,null,null,null,null,null,null,"",""]
[null,null,null,null,null,null,null,null,null,null,null,null,null,null,null,"",""]
[null,null,null,null,null,null,null,null,null,null,null,null,null,null,null,"",""]
[null,null,null,null,null,null,null,null,null,null,null,null,null,null,null,"",""]
[null,null,null,null,null,null,null,null,null,null,null,null,null,null,null,"",""]
[null,null,null,null,null,null,null,null,null,null,null,null,null,null,null,"",""]
[null,null,null,null,null,null,null,null,null,null,null,null,null,null,null,"",""]
[null,null,null,null,null,null,null,null,null,null,null,null,null,null,null,"",""]
[null,null,null,null,null,null,null,null,null,null,null,null,null,null,null,"",""]
[null,null,null,null,null,null,null,null,null,null,null,null,null,null,null,"",""]
[null,null,null,null,null,null,null,null,null,null,null,null,null,null,null,"",""]
[null,null,null,null,null,null,null,null,null,null,null,null,null,null,null,"",""]
[null,null,null,null,null,null,null,null,null,null,null,null,null,null,null,"",""]
[null,null,null,null,null,null,null,null,null,null,null,null,null,null,null,"",""]
[null,null,null,null,null,null,null,null,null,null,null,null,null,null,null,"",""]
[null,null,null,null,null,null,null,null,null,null,null,null,null,null,null,"",""]
[null,null,null,null,null,null,null,null,null,null,null,null,null,null,null,"",""]
[null,null,null,null,null,null,null,null,null,null,null,null,null,null,null,"",""]
[null,null,null,null,null,null,null,null,null,null,null,null,null,null,null,"",""]
[null,null,null,null,null,null,null,null,null,null,null,null,null,null,null,"",""]
[null,null,null,null,null,null,null,null,null,null,null,null,null,null,null,"",""]
[null,null,null,null,null,null,null,null,null,null,null,null,null,null,null,"",""]
[null,null,null,null,null,null,null,null,null,null,null,null,null,null,null,"",""]
[null,null,null,null,null,null,null,null,null,null,null,null,null,null,null,"",""]
[null,null,null,null,null,null,null,null,null,null,null,null,null,null,null,"",""]
[null,null,null,null,null,null,null,null,null,null,null,null,null,null,null,"",""]
[null,null,null,null,null,null,null,null,null,null,null,null,null,null,null,"",""]
[null,null,null,null,null,null,null,null,null,null,null,null,null,null,null,"",""]
[null,null,null,null,null,null,null,null,null,null,null,null,null,null,null,"",""]
[null,null,null,null,null,null,null,null,null,null,null,null,null,null,null,"",""]
[null,null,null,null,null,null,null,null,null,null,null,null,null,null,null,"",""]
[null,null,null,null,null,null,null,null,null,null,null,null,null,null,null,"",""]
[null,null,null,null,null,null,null,null,null,null,null,null,null,null,null,"",""]
[null,null,null,null,null,null,null,null,null,null,null,null,null,null,null,"",""]
[null,null,null,null,null,null,null,null,null,null,null,null,null,null,null,"",""]
[null,null,null,null,null,null,null,null,null,null,null,null,null,null,null,"",""]
[null,null,null,null,null,null,null,null,null,null,null,null,null,null,null,"",""]
[null,null,null,null,null,null,null,null,null,null,null,null,null,null,null,"",""]
[null,null,null,null,null,null,null,null,null,null,null,null,null,null,null,"",""]
[null,null,null,null,null,null,null,null,null,null,null,null,null,null,null,"",""]
[null,null,null,null,null,null,null,null,null,null,null,null,null,null,null,"",""]
[null,null,null,null,null,null,null,null,null,null,null,null,null,null,null,"",""]
[null,null,null,null,null,null,null,null,null,null,null,null,null,null,null,"",""]
[null,null,null,null,null,null,null,null,null,null,null,null,null,null,null,"",""]
[null,null,null,null,null,null,null,null,null,null,null,null,null,null,null,"",""]
[null,null,null,null,null,null,null,null,null,null,null,null,null,null,null,"",""]
[null,null,null,null,null,null,null,null,null,null,null,null,null,null,null,"",""]
[null,null,null,null,null,null,null,null,null,null,null,null,null,null,null,"",""]
[null,null,null,null,null,null,null,null,null,null,null,null,null,null,null,"",""]
[null,null,null,null,null,null,null,null,null,null,null,null,null,null,null,"",""]
[null,null,null,null,null,null,null,null,null,null,null,null,null,null,null,"",""]
[null,null,null,null,null,null,null,null,null,null,null,null,null,null,null,"",""]
[null,null,null,null,null,null,null,null,null,null,null,null,null,null,null,"",""]
[null,null,null,null,null,null,null,null,null,null,null,null,null,null,null,"",""]
[null,null,null,null,null,null,null,null,null,null,null,null,null,null,null,"",""]
[null,null,null,null,null,null,null,null,null,null,null,null,null,null,null,"",""]
[null,null,null,null,null,null,null,null,null,null,null,null,null,null,null,"",""]
[null,null,null,null,null,null,null,null,null,null,null,null,null,null,null,"",""]
[null,null,null,null,null,null,null,null,null,null,null,null,null,null,null,"",""]
[null,null,null,null,null,null,null,null,null,null,null,null,null,null,null,"",""]
[null,null,null,null,null,null,null,null,null,null,null,null,null,null,null,"",""]
[null,null,null,null,null,null,null,null,null,null,null,null,null,null,null,"",""]
[null,null,null,null,null,null,null,null,null,null,null,null,null,null,null,"",""]
[null,null,null,null,null,null,null,null,null,null,null,null,null,null,null,"",""]
[null,null,null,null,null,null,null,null,null,null,null,null,null,null,null,"",""]
[null,null,null,null,null,null,null,null,null,null,null,null,null,null,null,"",""]
[null,null,null,null,null,null,null,null,null,null,null,null,null,null,null,"",""]
[null,null,null,null,null,null,null,null,null,null,null,null,null,null,null,"",""]
[null,null,null,null,null,null,null,null,null,null,null,null,null,null,null,"",""]
[null,null,null,null,null,null,null,null,null,null,null,null,null,null,null,"",""]
[null,null,null,null,null,null,null,null,null,null,null,null,null,null,null,"",""]
[null,null,null,null,null,null,null,null,null,null,null,null,null,null,null,"",""]
[null,null,null,null,null,null,null,null,null,null,null,null,null,null,null,"",""]
[null,null,null,null,null,null,null,null,null,null,null,null,null,null,null,"",""]
[null,null,null,null,null,null,null,null,null,null,null,null,null,null,null,"",""]
[null,null,null,null,null,null,null,null,null,null,null,null,null,null,null,"",""]
[null,null,null,null,null,null,null,null,null,null,null,null,null,null,null,"",""]
[null,null,null,null,null,null,null,null,null,null,null,null,null,null,null,"",""]
[null,null,null,null,null,null,null,null,null,null,null,null,null,null,null,"",""]
[null,null,null,null,null,null,null,null,null,null,null,null,null,null,null,"",""]
[null,null,null,null,null,null,null,null,null,null,null,null,null,null,null,"",""]
[null,null,null,null,null,null,null,null,null,null,null,null,null,null,null,"",""]
[null,null,null,null,null,null,null,null,null,null,null,null,null,null,null,"",""]
[null,null,null,null,null,null,null,null,null,null,null,null,null,null,null,"",""]
[null,null,null,null,null,null,null,null,null,null,null,null,null,null,null,"",""]
[null,null,null,null,null,null,null,null,null,null,null,null,null,null,null,"",""]
[null,null,null,null,null,null,null,null,null,null,null,null,null,null,null,"",""]
[null,null,null,null,null,null,null,null,null,null,null,null,null,null,null,"",""]
[null,null,null,null,null,null,null,null,null,null,null,null,null,null,null,"",""]
[null,null,null,null,null,null,null,null,null,null,null,null,null,null,null,"",""]
[null,null,null,null,null,null,null,null,null,null,null,null,null,null,null,"",""]
[null,null,null,null,null,null,null,null,null,null,null,null,null,null,null,"",""]
[null,null,null,null,null,null,null,null,null,null,null,null,null,null,null,"",""]
[null,null,null,null,null,null,null,null,null,null,null,null,null,null,null,"",""]
[null,null,null,null,null,null,null,null,null,null,null,null,null,null,null,"",""]
[null,null,null,null,null,null,null,null,null,null,null,null,null,null,null,"",""]
[null,null,null,null,null,null,null,null,null,null,null,null,null,null,null,"",""]
[null,null,null,null,null,null,null,null,null,null,null,null,null,null,null,"",""]
[null,null,null,null,null,null,null,null,null,null,null,null,null,null,null,"",""]
[null,null,null,null,null,null,null,null,null,null,null,null,null,null,null,"",""]
[null,null,null,null,null,null,null,null,null,null,null,null,null,null,null,"",""]
[null,null,null,null,null,null,null,null,null,null,null,null,null,null,null,"",""]
[null,null,null,null,null,null,null,null,null,null,null,null,null,null,null,"",""]
[null,null,null,null,null,null,null,null,null,null,null,null,null,null,null,"",""]
[null,null,null,null,null,null,null,null,null,null,null,null,null,null,null,"",""]
[null,null,null,null,null,null,null,null,null,null,null,null,null,null,null,"",""]
[null,null,null,null,null,null,null,null,null,null,null,null,null,null,null,"",""]
[null,null,null,null,null,null,null,null,null,null,null,null,null,null,null,"",""]
[null,null,null,null,null,null,null,null,null,null,null,null,null,null,null,"",""]
[null,null,null,null,null,null,null,null,null,null,null,null,null,null,null,"",""]
[null,null,null,null,null,null,null,null,null,null,null,null,null,null,null,"",""]
[null,null,null,null,null,null,null,null,null,null,null,null,null,null,null,"",""]
[null,null,null,null,null,null,null,null,null,null,null,null,null,null,null,"",""]
[null,null,null,null,null,null,null,null,null,null,null,null,null,null,null,"",""]
[null,null,null,null,null,null,null,null,null,null,null,null,null,null,null,"",""]
[null,null,null,null,null,null,null,null,null,null,null,null,null,null,null,"",""]
[null,null,null,null,null,null,null,null,null,null,null,null,null,null,null,"",""]
[null,null,null,null,null,null,null,null,null,null,null,null,null,null,null,"",""]
[null,null,null,null,null,null,null,null,null,null,null,null,null,null,null,"",""]
[null,null,null,null,null,null,null,null,null,null,null,null,null,null,null,"",""]
[null,null,null,null,null,null,null,null,null,null,null,null,null,null,null,"",""]
[null,null,null,null,null,null,null,null,null,null,null,null,null,null,null,"",""]
[null,null,null,null,null,null,null,null,null,null,null,null,null,null,null,"",""]
[null,null,null,null,null,null,null,null,null,null,null,null,null,null,null,"",""]
[null,null,null,null,null,null,null,null,null,null,null,null,null,null,null,"",""]
[null,null,null,null,null,null,null,null,null,null,null,null,null,null,null,"",""]
[null,null,null,null,null,null,null,null,null,null,null,null,null,null,null,"",""]
[null,null,null,null,null,null,null,null,null,null,null,null,null,null,null,"",""]
[null,null,null,null,null,null,null,null,null,null,null,null,null,null,null,"",""]
[null,null,null,null,null,null,null,null,null,null,null,null,null,null,null,"",""]
[null,null,null,null,null,null,null,null,null,null,null,null,null,null,null,"",""]
[null,null,null,null,null,null,null,null,null,null,null,null,null,null,null,"",""]
[null,null,null,null,null,null,null,null,null,null,null,null,null,null,null,"",""]
[null,null,null,null,null,null,null,null,null,null,null,null,null,null,null,"",""]
[null,null,null,null,null,null,null,null,null,null,null,null,null,null,null,"",""]
[null,null,null,null,null,null,null,null,null,null,null,null,null,null,null,"",""]
[null,null,null,null,null,null,null,null,null,null,null,null,null,null,null,"",""]
[null,null,null,null,null,null,null,null,null,null,null,null,null,null,null,"",""]
[null,null,null,null,null,null,null,null,null,null,null,null,null,null,null,"",""]
[null,null,null,null,null,null,null,null,null,null,null,null,null,null,null,"",""]
[null,null,null,null,null,null,null,null,null,null,null,null,null,null,null,"",""]
[null,null,null,null,null,null,null,null,null,null,null,null,null,null,null,"",""]
[null,null,null,null,null,null,null,null,null,null,null,null,null,null,null,"",""]
[null,null,null,null,null,null,null,null,null,null,null,null,null,null,null,"",""]
[null,null,null,null,null,null,null,null,null,null,null,null,null,null,null,"",""]
[null,null,null,null,null,null,null,null,null,null,null,null,null,null,null,"",""]
[null,null,null,null,null,null,null,null,null,null,null,null,null,null,null,"",""]
[null,null,null,null,null,null,null,null,null,null,null,null,null,null,null,"",""]
[null,null,null,null,null,null,null,null,null,null,null,null,null,null,null,"",""]
[null,null,null,null,null,null,null,null,null,null,null,null,null,null,null,"",""]
[null,null,null,null,null,null,null,null,null,null,null,null,null,null,null,"",""]
[null,null,null,null,null,null,null,null,null,null,null,null,null,null,null,"",""]
[null,null,null,null,null,null,null,null,null,null,null,null,null,null,null,"",""]
[null,null,null,null,null,null,null,null,null,null,null,null,null,null,null,"",""]
[null,null,null,null,null,null,null,null,null,null,null,null,null,null,null,"",""]
[null,null,null,null,null,null,null,null,null,null,null,null,null,null,null,"",""]
[null,null,null,null,null,null,null,null,null,null,null,null,null,null,null,"",""]
[null,null,null,null,null,null,null,null,null,null,null,null,null,null,null,"",""]
[null,null,null,null,null,null,null,null,null,null,null,null,null,null,null,"",""]
[null,null,null,null,null,null,null,null,null,null,null,null,null,null,null,"",""]
[null,null,null,null,null,null,null,null,null,null,null,null,null,null,null,"",""]
[null,null,null,null,null,null,null,null,null,null,null,null,null,null,null,"",""]
[null,null,null,null,null,null,null,null,null,null,null,null,null,null,null,"",""]
[null,null,null,null,null,null,null,null,null,null,null,null,null,null,null,"",""]
[null,null,null,null,null,null,null,null,null,null,null,null,null,null,null,"",""]
[null,null,null,null,null,null,null,null,null,null,null,null,null,null,null,"",""]
[null,null,null,null,null,null,null,null,null,null,null,null,null,null,null,"",""]
[null,null,null,null,null,null,null,null,null,null,null,null,null,null,null,"",""]
[null,null,null,null,null,null,null,null,null,null,null,null,null,null,null,"",""]
[null,null,null,null,null,null,null,null,null,null,null,null,null,null,null,"",""]
[null,null,null,null,null,null,null,null,null,null,null,null,null,null,null,"",""]
[null,null,null,null,null,null,null,null,null,null,null,null,null,null,null,"",""]
[null,null,null,null,null,null,null,null,null,null,null,null,null,null,null,"",""]
[null,null,null,null,null,null,null,null,null,null,null,null,null,null,null,"",""]
[null,null,null,null,null,null,null,null,null,null,null,null,null,null,null,"",""]
[null,null,null,null,null,null,null,null,null,null,null,null,null,null,null,"",""]
[null,null,null,null,null,null,null,null,null,null,null,null,null,null,null,"",""]
[null,null,null,null,null,null,null,null,null,null,null,null,null,null,null,"",""]
[null,null,null,null,null,null,null,null,null,null,null,null,null,null,null,"",""]
[null,null,null,null,null,null,null,null,null,null,null,null,null,null,null,"",""]
[null,null,null,null,null,null,null,null,null,null,null,null,null,null,null,"",""]
[null,null,null,null,null,null,null,null,null,null,null,null,null,null,null,"",""]
[null,null,null,null,null,null,null,null,null,null,null,null,null,null,null,"",""]
[null,null,null,null,null,null,null,null,null,null,null,null,null,null,null,"",""]
[null,null,null,null,null,null,null,null,null,null,null,null,null,null,null,"",""]
[null,null,null,null,null,null,null,null,null,null,null,null,null,null,null,"",""]
[null,null,null,null,null,null,null,null,null,null,null,null,null,null,null,"",""]
[null,null,null,null,null,null,null,null,null,null,null,null,null,null,null,"",""]
[null,null,null,null,null,null,null,null,null,null,null,null,null,null,null,"",""]
[null,null,null,null,null,null,null,null,null,null,null,null,null,null,null,"",""]
[null,null,null,null,null,null,null,null,null,null,null,null,null,null,null,"",""]
[null,null,null,null,null,null,null,null,null,null,null,null,null,null,null,"",""]
[null,null,null,null,null,null,null,null,null,null,null,null,null,null,null,"",""]
[null,null,null,null,null,null,null,null,null,null,null,null,null,null,null,"",""]
[null,null,null,null,null,null,null,null,null,null,null,null,null,null,null,"",""]
[null,null,null,null,null,null,null,null,null,null,null,null,null,null,null,"",""]
[null,null,null,null,null,null,null,null,null,null,null,null,null,null,null,"",""]
[null,null,null,null,null,null,null,null,null,null,null,null,null,null,null,"",""]
[null,null,null,null,null,null,null,null,null,null,null,null,null,null,null,"",""]
[null,null,null,null,null,null,null,null,null,null,null,null,null,null,null,"",""]
[null,null,null,null,null,null,null,null,null,null,null,null,null,null,null,"",""]
[null,null,null,null,null,null,null,null,null,null,null,null,null,null,null,"",""]
[null,null,null,null,null,null,null,null,null,null,null,null,null,null,null,"",""]
[null,null,null,null,null,null,null,null,null,null,null,null,null,null,null,"",""]
[null,null,null,null,null,null,null,null,null,null,null,null,null,null,null,"",""]
[null,null,null,null,null,null,null,null,null,null,null,null,null,null,null,"",""]
[null,null,null,null,null,null,null,null,null,null,null,null,null,null,null,"",""]
[null,null,null,null,null,null,null,null,null,null,null,null,null,null,null,"",""]
[null,null,null,null,null,null,null,null,null,null,null,null,null,null,null,"",""]
[null,null,null,null,null,null,null,null,null,null,null,null,null,null,null,"",""]
[null,null,null,null,null,null,null,null,null,null,null,null,null,null,null,"",""]
[null,null,null,null,null,null,null,null,null,null,null,null,null,null,null,"",""]
[null,null,null,null,null,null,null,null,null,null,null,null,null,null,null,"",""]
[null,null,null,null,null,null,null,null,null,null,null,null,null,null,null,"",""]
[null,null,null,null,null,null,null,null,null,null,null,null,null,null,null,"",""]
[null,null,null,null,null,null,null,null,null,null,null,null,null,null,null,"",""]
[null,null,null,null,null,null,null,null,null,null,null,null,null,null,null,"",""]
[null,null,null,null,null,null,null,null,null,null,null,null,null,null,null,"",""]
[null,null,null,null,null,null,null,null,null,null,null,null,null,null,null,"",""]
[null,null,null,null,null,null,null,null,null,null,null,null,null,null,null,"",""]
[null,null,null,null,null,null,null,null,null,null,null,null,null,null,null,"",""]
[null,null,null,null,null,null,null,null,null,null,null,null,null,null,null,"",""]
[null,null,null,null,null,null,null,null,null,null,null,null,null,null,null,"",""]
[null,null,null,null,null,null,null,null,null,null,null,null,null,null,null,"",""]
[null,null,null,null,null,null,null,null,null,null,null,null,null,null,null,"",""]
[null,null,null,null,null,null,null,null,null,null,null,null,null,null,null,"",""]
[null,null,null,null,null,null,null,null,null,null,null,null,null,null,null,"",""]
[null,null,null,null,null,null,null,null,null,null,null,null,null,null,null,"",""]
[null,null,null,null,null,null,null,null,null,null,null,null,null,null,null,"",""]
[null,null,null,null,null,null,null,null,null,null,null,null,null,null,null,"",""]
[null,null,null,null,null,null,null,null,null,null,null,null,null,null,null,"",""]
[null,null,null,null,null,null,null,null,null,null,null,null,null,null,null,"",""]
[null,null,null,null,null,null,null,null,null,null,null,null,null,null,null,"",""]
[null,null,null,null,null,null,null,null,null,null,null,null,null,null,null,"",""]
[null,null,null,null,null,null,null,null,null,null,null,null,null,null,null,"",""]
[null,null,null,null,null,null,null,null,null,null,null,null,null,null,null,"",""]
[null,null,null,null,null,null,null,null,null,null,null,null,null,null,null,"",""]
[null,null,null,null,null,null,null,null,null,null,null,null,null,null,null,"",""]
[null,null,null,null,null,null,null,null,null,null,null,null,null,null,null,"",""]
[null,null,null,null,null,null,null,null,null,null,null,null,null,null,null,"",""]
[null,null,null,null,null,null,null,null,null,null,null,null,null,null,null,"",""]
[null,null,null,null,null,null,null,null,null,null,null,null,null,null,null,"",""]
[null,null,null,null,null,null,null,null,null,null,null,null,null,null,null,"",""]
[null,null,null,null,null,null,null,null,null,null,null,null,null,null,null,"",""]
[null,null,null,null,null,null,null,null,null,null,null,null,null,null,null,"",""]
[null,null,null,null,null,null,null,null,null,null,null,null,null,null,null,"",""]
[null,null,null,null,null,null,null,null,null,null,null,null,null,null,null,"",""]
[null,null,null,null,null,null,null,null,null,null,null,null,null,null,null,"",""]
[null,null,null,null,null,null,null,null,null,null,null,null,null,null,null,"",""]
[null,null,null,null,null,null,null,null,null,null,null,null,null,null,null,"",""]
[null,null,null,null,null,null,null,null,null,null,null,null,null,null,null,"",""]
[null,null,null,null,null,null,null,null,null,null,null,null,null,null,null,"",""]
[null,null,null,null,null,null,null,null,null,null,null,null,null,null,null,"",""]
[null,null,null,null,null,null,null,null,null,null,null,null,null,null,null,"",""]
[null,null,null,null,null,null,null,null,null,null,null,null,null,null,null,"",""]
[null,null,null,null,null,null,null,null,null,null,null,null,null,null,null,"",""]
[null,null,null,null,null,null,null,null,null,null,null,null,null,null,null,"",""]
[null,null,null,null,null,null,null,null,null,null,null,null,null,null,null,"",""]
[null,null,null,null,null,null,null,null,null,null,null,null,null,null,null,"",""]
[null,null,null,null,null,null,null,null,null,null,null,null,null,null,null,"",""]
[null,null,null,null,null,null,null,null,null,null,null,null,null,null,null,"",""]
[null,null,null,null,null,null,null,null,null,null,null,null,null,null,null,"",""]
[null,null,null,null,null,null,null,null,null,null,null,null,null,null,null,"",""]
[null,null,null,null,null,null,null,null,null,null,null,null,null,null,null,"",""]
[null,null,null,null,null,null,null,null,null,null,null,null,null,null,null,"",""]
[null,null,null,null,null,null,null,null,null,null,null,null,null,null,null,"",""]
[null,null,null,null,null,null,null,null,null,null,null,null,null,null,null,"",""]
[null,null,null,null,null,null,null,null,null,null,null,null,null,null,null,"",""]
[null,null,null,null,null,null,null,null,null,null,null,null,null,null,null,"",""]
[null,null,null,null,null,null,null,null,null,null,null,null,null,null,null,"",""]
[null,null,null,null,null,null,null,null,null,null,null,null,null,null,null,"",""]
[null,null,null,null,null,null,null,null,null,null,null,null,null,null,null,"",""]
[null,null,null,null,null,null,null,null,null,null,null,null,null,null,null,"",""]
[null,null,null,null,null,null,null,null,null,null,null,null,null,null,null,"",""]
[null,null,null,null,null,null,null,null,null,null,null,null,null,null,null,"",""]
[null,null,null,null,null,null,null,null,null,null,null,null,null,null,null,"",""]
[null,null,null,null,null,null,null,null,null,null,null,null,null,null,null,"",""]
[null,null,null,null,null,null,null,null,null,null,null,null,null,null,null,"",""]
[null,null,null,null,null,null,null,null,null,null,null,null,null,null,null,"",""]
[null,null,null,null,null,null,null,null,null,null,null,null,null,null,null,"",""]
[null,null,null,null,null,null,null,null,null,null,null,null,null,null,null,"",""]
[null,null,null,null,null,null,null,null,null,null,null,null,null,null,null,"",""]
[null,null,null,null,null,null,null,null,null,null,null,null,null,null,null,"",""]
[null,null,null,null,null,null,null,null,null,null,null,null,null,null,null,"",""]
[null,null,null,null,null,null,null,null,null,null,null,null,null,null,null,"",""]
[null,null,null,null,null,null,null,null,null,null,null,null,null,null,null,"",""]
[null,null,null,null,null,null,null,null,null,null,null,null,null,null,null,"",""]
[null,null,null,null,null,null,null,null,null,null,null,null,null,null,null,"",""]
[null,null,null,null,null,null,null,null,null,null,null,null,null,null,null,"",""]
[null,null,null,null,null,null,null,null,null,null,null,null,null,null,null,"",""]
[null,null,null,null,null,null,null,null,null,null,null,null,null,null,null,"",""]
[null,null,null,null,null,null,null,null,null,null,null,null,null,null,null,"",""]
[null,null,null,null,null,null,null,null,null,null,null,null,null,null,null,"",""]
[null,null,null,null,null,null,null,null,null,null,null,null,null,null,null,"",""]
[null,null,null,null,null,null,null,null,null,null,null,null,null,null,null,"",""]
[null,null,null,null,null,null,null,null,null,null,null,null,null,null,null,"",""]
[null,null,null,null,null,null,null,null,null,null,null,null,null,null,null,"",""]
[null,null,null,null,null,null,null,null,null,null,null,null,null,null,null,"",""]
[null,null,null,null,null,null,null,null,null,null,null,null,null,null,null,"",""]
[null,null,null,null,null,null,null,null,null,null,null,null,null,null,null,"",""]
[null,null,null,null,null,null,null,null,null,null,null,null,null,null,null,"",""]
[null,null,null,null,null,null,null,null,null,null,null,null,null,null,null,"",""]
[null,null,null,null,null,null,null,null,null,null,null,null,null,null,null,"",""]
[null,null,null,null,null,null,null,null,null,null,null,null,null,null,null,"",""]
[null,null,null,null,null,null,null,null,null,null,null,null,null,null,null,"",""]
[null,null,null,null,null,null,null,null,null,null,null,null,null,null,null,"",""]
[null,null,null,null,null,null,null,null,null,null,null,null,null,null,null,"",""]
[null,null,null,null,null,null,null,null,null,null,null,null,null,null,null,"",""]
[null,null,null,null,null,null,null,null,null,null,null,null,null,null,null,"",""]
[null,null,null,null,null,null,null,null,null,null,null,null,null,null,null,"",""]
[null,null,null,null,null,null,null,null,null,null,null,null,null,null,null,"",""]
[null,null,null,null,null,null,null,null,null,null,null,null,null,null,null,"",""]
[null,null,null,null,null,null,null,null,null,null,null,null,null,null,null,"",""]
[null,null,null,null,null,null,null,null,null,null,null,null,null,null,null,"",""]
[null,null,null,null,null,null,null,null,null,null,null,null,null,null,null,"",""]
[null,null,null,null,null,null,null,null,null,null,null,null,null,null,null,"",""]
[null,null,null,null,null,null,null,null,null,null,null,null,null,null,null,"",""]
[null,null,null,null,null,null,null,null,null,null,null,null,null,null,null,"",""]
[null,null,null,null,null,null,null,null,null,null,null,null,null,null,null,"",""]
[null,null,null,null,null,null,null,null,null,null,null,null,null,null,null,"",""]
[null,null,null,null,null,null,null,null,null,null,null,null,null,null,null,"",""]
[null,null,null,null,null,null,null,null,null,null,null,null,null,null,null,"",""]
[null,null,null,null,null,null,null,null,null,null,null,null,null,null,null,"",""]
[null,null,null,null,null,null,null,null,null,null,null,null,null,null,null,"",""]
[null,null,null,null,null,null,null,null,null,null,null,null,null,null,null,"",""]
[null,null,null,null,null,null,null,null,null,null,null,null,null,null,null,"",""]
[null,null,null,null,null,null,null,null,null,null,null,null,null,null,null,"",""]
[null,null,null,null,null,null,null,null,null,null,null,null,null,null,null,"",""]
[null,null,null,null,null,null,null,null,null,null,null,null,null,null,null,"",""]
[null,null,null,null,null,null,null,null,null,null,null,null,null,null,null,"",""]
[null,null,null,null,null,null,null,null,null,null,null,null,null,null,null,"",""]
[null,null,null,null,null,null,null,null,null,null,null,null,null,null,null,"",""]
[null,null,null,null,null,null,null,null,null,null,null,null,null,null,null,"",""]
[null,null,null,null,null,null,null,null,null,null,null,null,null,null,null,"",""]
[null,null,null,null,null,null,null,null,null,null,null,null,null,null,null,"",""]
[null,null,null,null,null,null,null,null,null,null,null,null,null,null,null,"",""]
[null,null,null,null,null,null,null,null,null,null,null,null,null,null,null,"",""]
[null,null,null,null,null,null,null,null,null,null,null,null,null,null,null,"",""]
[null,null,null,null,null,null,null,null,null,null,null,null,null,null,null,"",""]
[null,null,null,null,null,null,null,null,null,null,null,null,null,null,null,"",""]
[null,null,null,null,null,null,null,null,null,null,null,null,null,null,null,"",""]
[null,null,null,null,null,null,null,null,null,null,null,null,null,null,null,"",""]
[null,null,null,null,null,null,null,null,null,null,null,null,null,null,null,"",""]
[null,null,null,null,null,null,null,null,null,null,null,null,null,null,null,"",""]
[null,null,null,null,null,null,null,null,null,null,null,null,null,null,null,"",""]
[null,null,null,null,null,null,null,null,null,null,null,null,null,null,null,"",""]
[null,null,null,null,null,null,null,null,null,null,null,null,null,null,null,"",""]
[null,null,null,null,null,null,null,null,null,null,null,null,null,null,null,"",""]
[null,null,null,null,null,null,null,null,null,null,null,null,null,null,null,"",""]
[null,null,null,null,null,null,null,null,null,null,null,null,null,null,null,"",""]
[null,null,null,null,null,null,null,null,null,null,null,null,null,null,null,"",""]
[null,null,null,null,null,null,null,null,null,null,null,null,null,null,null,"",""]
[null,null,null,null,null,null,null,null,null,null,null,null,null,null,null,"",""]
[null,null,null,null,null,null,null,null,null,null,null,null,null,null,null,"",""]
[null,null,null,null,null,null,null,null,null,null,null,null,null,null,null,"",""]
[null,null,null,null,null,null,null,null,null,null,null,null,null,null,null,"",""]
[null,null,null,null,null,null,null,null,null,null,null,null,null,null,null,"",""]
[null,null,null,null,null,null,null,null,null,null,null,null,null,null,null,"",""]
[null,null,null,null,null,null,null,null,null,null,null,null,null,null,null,"",""]
[null,null,null,null,null,null,null,null,null,null,null,null,null,null,null,"",""]
[null,null,null,null,null,null,null,null,null,null,null,null,null,null,null,"",""]
[null,null,null,null,null,null,null,null,null,null,null,null,null,null,null,"",""]
[null,null,null,null,null,null,null,null,null,null,null,null,null,null,null,"",""]
[null,null,null,null,null,null,null,null,null,null,null,null,null,null,null,"",""]
[null,null,null,null,null,null,null,null,null,null,null,null,null,null,null,"",""]
[null,null,null,null,null,null,null,null,null,null,null,null,null,null,null,"",""]
[null,null,null,null,null,null,null,null,null,null,null,null,null,null,null,"",""]
[null,null,null,null,null,null,null,null,null,null,null,null,null,null,null,"",""]
[null,null,null,null,null,null,null,null,null,null,null,null,null,null,null,"",""]
[null,null,null,null,null,null,null,null,null,null,null,null,null,null,null,"",""]
[null,null,null,null,null,null,null,null,null,null,null,null,null,null,null,"",""]
[null,null,null,null,null,null,null,null,null,null,null,null,null,null,null,"",""]
[null,null,null,null,null,null,null,null,null,null,null,null,null,null,null,"",""]
[null,null,null,null,null,null,null,null,null,null,null,null,null,null,null,"",""]
[null,null,null,null,null,null,null,null,null,null,null,null,null,null,null,"",""]
[null,null,null,null,null,null,null,null,null,null,null,null,null,null,null,"",""]
[null,null,null,null,null,null,null,null,null,null,null,null,null,null,null,"",""]
[null,null,null,null,null,null,null,null,null,null,null,null,null,null,null,"",""]
[null,null,null,null,null,null,null,null,null,null,null,null,null,null,null,"",""]
[null,null,null,null,null,null,null,null,null,null,null,null,null,null,null,"",""]
[null,null,null,null,null,null,null,null,null,null,null,null,null,null,null,"",""]
[null,null,null,null,null,null,null,null,null,null,null,null,null,null,null,"",""]
[null,null,null,null,null,null,null,null,null,null,null,null,null,null,null,"",""]
[null,null,null,null,null,null,null,null,null,null,null,null,null,null,null,"",""]
[null,null,null,null,null,null,null,null,null,null,null,null,null,null,null,"",""]
[null,null,null,null,null,null,null,null,null,null,null,null,null,null,null,"",""]
[null,null,null,null,null,null,null,null,null,null,null,null,null,null,null,"",""]
[null,null,null,null,null,null,null,null,null,null,null,null,null,null,null,"",""]
[null,null,null,null,null,null,null,null,null,null,null,null,null,null,null,"",""]
[null,null,null,null,null,null,null,null,null,null,null,null,null,null,null,"",""]
[null,null,null,null,null,null,null,null,null,null,null,null,null,null,null,"",""]
[null,null,null,null,null,null,null,null,null,null,null,null,null,null,null,"",""]
[null,null,null,null,null,null,null,null,null,null,null,null,null,null,null,"",""]
[null,null,null,null,null,null,null,null,null,null,null,null,null,null,null,"",""]
[null,null,null,null,null,null,null,null,null,null,null,null,null,null,null,"",""]
[null,null,null,null,null,null,null,null,null,null,null,null,null,null,null,"",""]
[null,null,null,null,null,null,null,null,null,null,null,null,null,null,null,"",""]
[null,null,null,null,null,null,null,null,null,null,null,null,null,null,null,"",""]
[null,null,null,null,null,null,null,null,null,null,null,null,null,null,null,"",""]
[null,null,null,null,null,null,null,null,null,null,null,null,null,null,null,"",""]
[null,null,null,null,null,null,null,null,null,null,null,null,null,null,null,"",""]
[null,null,null,null,null,null,null,null,null,null,null,null,null,null,null,"",""]
[null,null,null,null,null,null,null,null,null,null,null,null,null,null,null,"",""]
[null,null,null,null,null,null,null,null,null,null,null,null,null,null,null,"",""]
[null,null,null,null,null,null,null,null,null,null,null,null,null,null,null,"",""]
[null,null,null,null,null,null,null,null,null,null,null,null,null,null,null,"",""]
[null,null,null,null,null,null,null,null,null,null,null,null,null,null,null,"",""]
[null,null,null,null,null,null,null,null,null,null,null,null,null,null,null,"",""]
[null,null,null,null,null,null,null,null,null,null,null,null,null,null,null,"",""]
[null,null,null,null,null,null,null,null,null,null,null,null,null,null,null,"",""]
[null,null,null,null,null,null,null,null,null,null,null,null,null,null,null,"",""]
[null,null,null,null,null,null,null,null,null,null,null,null,null,null,null,"",""]
[null,null,null,null,null,null,null,null,null,null,null,null,null,null,null,"",""]
[null,null,null,null,null,null,null,null,null,null,null,null,null,null,null,"",""]
[null,null,null,null,null,null,null,null,null,null,null,null,null,null,null,"",""]
[null,null,null,null,null,null,null,null,null,null,null,null,null,null,null,"",""]
[null,null,null,null,null,null,null,null,null,null,null,null,null,null,null,"",""]
[null,null,null,null,null,null,null,null,null,null,null,null,null,null,null,"",""]
[null,null,null,null,null,null,null,null,null,null,null,null,null,null,null,"",""]
[null,null,null,null,null,null,null,null,null,null,null,null,null,null,null,"",""]
[null,null,null,null,null,null,null,null,null,null,null,null,null,null,null,"",""]
[null,null,null,null,null,null,null,null,null,null,null,null,null,null,null,"",""]
[null,null,null,null,null,null,null,null,null,null,null,null,null,null,null,"",""]
[null,null,null,null,null,null,null,null,null,null,null,null,null,null,null,"",""]
[null,null,null,null,null,null,null,null,null,null,null,null,null,null,null,"",""]
[null,null,null,null,null,null,null,null,null,null,null,null,null,null,null,"",""]
[null,null,null,null,null,null,null,null,null,null,null,null,null,null,null,"",""]
[null,null,null,null,null,null,null,null,null,null,null,null,null,null,null,"",""]
[null,null,null,null,null,null,null,null,null,null,null,null,null,null,null,"",""]
[null,null,null,null,null,null,null,null,null,null,null,null,null,null,null,"",""]
[null,null,null,null,null,null,null,null,null,null,null,null,null,null,null,"",""]
[null,null,null,null,null,null,null,null,null,null,null,null,null,null,null,"",""]
[null,null,null,null,null,null,null,null,null,null,null,null,null,null,null,"",""]
[null,null,null,null,null,null,null,null,null,null,null,null,null,null,null,"",""]
[null,null,null,null,null,null,null,null,null,null,null,null,null,null,null,"",""]
[null,null,null,null,null,null,null,null,null,null,null,null,null,null,null,"",""]
[null,null,null,null,null,null,null,null,null,null,null,null,null,null,null,"",""]
[null,null,null,null,null,null,null,null,null,null,null,null,null,null,null,"",""]
[null,null,null,null,null,null,null,null,null,null,null,null,null,null,null,"",""]
[null,null,null,null,null,null,null,null,null,null,null,null,null,null,null,"",""]
[null,null,null,null,null,null,null,null,null,null,null,null,null,null,null,"",""]
[null,null,null,null,null,null,null,null,null,null,null,null,null,null,null,"",""]
[null,null,null,null,null,null,null,null,null,null,null,null,null,null,null,"",""]
[null,null,null,null,null,null,null,null,null,null,null,null,null,null,null,"",""]
[null,null,null,null,null,null,null,null,null,null,null,null,null,null,null,"",""]
[null,null,null,null,null,null,null,null,null,null,null,null,null,null,null,"",""]
[null,null,null,null,null,null,null,null,null,null,null,null,null,null,null,"",""]
[null,null,null,null,null,null,null,null,null,null,null,null,null,null,null,"",""]
[null,null,null,null,null,null,null,null,null,null,null,null,null,null,null,"",""]
[null,null,null,null,null,null,null,null,null,null,null,null,null,null,null,"",""]
[null,null,null,null,null,null,null,null,null,null,null,null,null,null,null,"",""]
[null,null,null,null,null,null,null,null,null,null,null,null,null,null,null,"",""]
[null,null,null,null,null,null,null,null,null,null,null,null,null,null,null,"",""]
[null,null,null,null,null,null,null,null,null,null,null,null,null,null,null,"",""]
[null,null,null,null,null,null,null,null,null,null,null,null,null,null,null,"",""]
[null,null,null,null,null,null,null,null,null,null,null,null,null,null,null,"",""]
[null,null,null,null,null,null,null,null,null,null,null,null,null,null,null,"",""]
[null,null,null,null,null,null,null,null,null,null,null,null,null,null,null,"",""]
[null,null,null,null,null,null,null,null,null,null,null,null,null,null,null,"",""]
[null,null,null,null,null,null,null,null,null,null,null,null,null,null,null,"",""]
[null,null,null,null,null,null,null,null,null,null,null,null,null,null,null,"",""]
[null,null,null,null,null,null,null,null,null,null,null,null,null,null,null,"",""]
[null,null,null,null,null,null,null,null,null,null,null,null,null,null,null,"",""]
[null,null,null,null,null,null,null,null,null,null,null,null,null,null,null,"",""]
[null,null,null,null,null,null,null,null,null,null,null,null,null,null,null,"",""]
[null,null,null,null,null,null,null,null,null,null,null,null,null,null,null,"",""]
[null,null,null,null,null,null,null,null,null,null,null,null,null,null,null,"",""]
[null,null,null,null,null,null,null,null,null,null,null,null,null,null,null,"",""]
[null,null,null,null,null,null,null,null,null,null,null,null,null,null,null,"",""]
[null,null,null,null,null,null,null,null,null,null,null,null,null,null,null,"",""]
[null,null,null,null,null,null,null,null,null,null,null,null,null,null,null,"",""]
[null,null,null,null,null,null,null,null,null,null,null,null,null,null,null,"",""]
[null,null,null,null,null,null,null,null,null,null,null,null,null,null,null,"",""]
[null,null,null,null,null,null,null,null,null,null,null,null,null,null,null,"",""]
[null,null,null,null,null,null,null,null,null,null,null,null,null,null,null,"",""]
[null,null,null,null,null,null,null,null,null,null,null,null,null,null,null,"",""]
[null,null,null,null,null,null,null,null,null,null,null,null,null,null,null,"",""]
[null,null,null,null,null,null,null,null,null,null,null,null,null,null,null,"",""]
[null,null,null,null,null,null,null,null,null,null,null,null,null,null,null,"",""]
[null,null,null,null,null,null,null,null,null,null,null,null,null,null,null,"",""]
[null,null,null,null,null,null,null,null,null,null,null,null,null,null,null,"",""]
[null,null,null,null,null,null,null,null,null,null,null,null,null,null,null,"",""]
[null,null,null,null,null,null,null,null,null,null,null,null,null,null,null,"",""]
[null,null,null,null,null,null,null,null,null,null,null,null,null,null,null,"",""]
[null,null,null,null,null,null,null,null,null,null,null,null,null,null,null,"",""]
[null,null,null,null,null,null,null,null,null,null,null,null,null,null,null,"",""]
[null,null,null,null,null,null,null,null,null,null,null,null,null,null,null,"",""]
[null,null,null,null,null,null,null,null,null,null,null,null,null,null,null,"",""]
[null,null,null,null,null,null,null,null,null,null,null,null,null,null,null,"",""]
[null,null,null,null,null,null,null,null,null,null,null,null,null,null,null,"",""]
[null,null,null,null,null,null,null,null,null,null,null,null,null,null,null,"",""]
[null,null,null,null,null,null,null,null,null,null,null,null,null,null,null,"",""]
[null,null,null,null,null,null,null,null,null,null,null,null,null,null,null,"",""]
[null,null,null,null,null,null,null,null,null,null,null,null,null,null,null,"",""]
[null,null,null,null,null,null,null,null,null,null,null,null,null,null,null,"",""]
[null,null,null,null,null,null,null,null,null,null,null,null,null,null,null,"",""]
[null,null,null,null,null,null,null,null,null,null,null,null,null,null,null,"",""]
[null,null,null,null,null,null,null,null,null,null,null,null,null,null,null,"",""]
[null,null,null,null,null,null,null,null,null,null,null,null,null,null,null,"",""]
[null,null,null,null,null,null,null,null,null,null,null,null,null,null,null,"",""]
[null,null,null,null,null,null,null,null,null,null,null,null,null,null,null,"",""]
[null,null,null,null,null,null,null,null,null,null,null,null,null,null,null,"",""]
[null,null,null,null,null,null,null,null,null,null,null,null,null,null,null,"",""]
[null,null,null,null,null,null,null,null,null,null,null,null,null,null,null,"",""]
[null,null,null,null,null,null,null,null,null,null,null,null,null,null,null,"",""]
[null,null,null,null,null,null,null,null,null,null,null,null,null,null,null,"",""]
[null,null,null,null,null,null,null,null,null,null,null,null,null,null,null,"",""]
[null,null,null,null,null,null,null,null,null,null,null,null,null,null,null,"",""]
[null,null,null,null,null,null,null,null,null,null,null,null,null,null,null,"",""]
[null,null,null,null,null,null,null,null,null,null,null,null,null,null,null,"",""]
[null,null,null,null,null,null,null,null,null,null,null,null,null,null,null,"",""]
[null,null,null,null,null,null,null,null,null,null,null,null,null,null,null,"",""]
[null,null,null,null,null,null,null,null,null,null,null,null,null,null,null,"",""]
[null,null,null,null,null,null,null,null,null,null,null,null,null,null,null,"",""]
[null,null,null,null,null,null,null,null,null,null,null,null,null,null,null,"",""]
[null,null,null,null,null,null,null,null,null,null,null,null,null,null,null,"",""]
[null,null,null,null,null,null,null,null,null,null,null,null,null,null,null,"",""]
[null,null,null,null,null,null,null,null,null,null,null,null,null,null,null,"",""]
[null,null,null,null,null,null,null,null,null,null,null,null,null,null,null,"",""]
[null,null,null,null,null,null,null,null,null,null,null,null,null,null,null,"",""]
[null,null,null,null,null,null,null,null,null,null,null,null,null,null,null,"",""]
[null,null,null,null,null,null,null,null,null,null,null,null,null,null,null,"",""]
[null,null,null,null,null,null,null,null,null,null,null,null,null,null,null,"",""]
[null,null,null,null,null,null,null,null,null,null,null,null,null,null,null,"",""]
[null,null,null,null,null,null,null,null,null,null,null,null,null,null,null,"",""]
[null,null,null,null,null,null,null,null,null,null,null,null,null,null,null,"",""]
[null,null,null,null,null,null,null,null,null,null,null,null,null,null,null,"",""]
[null,null,null,null,null,null,null,null,null,null,null,null,null,null,null,"",""]
[null,null,null,null,null,null,null,null,null,null,null,null,null,null,null,"",""]
[null,null,null,null,null,null,null,null,null,null,null,null,null,null,null,"",""]
[null,null,null,null,null,null,null,null,null,null,null,null,null,null,null,"",""]
[null,null,null,null,null,null,null,null,null,null,null,null,null,null,null,"",""]
[null,null,null,null,null,null,null,null,null,null,null,null,null,null,null,"",""]
[null,null,null,null,null,null,null,null,null,null,null,null,null,null,null,"",""]
[null,null,null,null,null,null,null,null,null,null,null,null,null,null,null,"",""]
[null,null,null,null,null,null,null,null,null,null,null,null,null,null,null,"",""]
[null,null,null,null,null,null,null,null,null,null,null,null,null,null,null,"",""]
[null,null,null,null,null,null,null,null,null,null,null,null,null,null,null,"",""]
[null,null,null,null,null,null,null,null,null,null,null,null,null,null,null,"",""]
[null,null,null,null,null,null,null,null,null,null,null,null,null,null,null,"",""]
[null,null,null,null,null,null,null,null,null,null,null,null,null,null,null,"",""]
[null,null,null,null,null,null,null,null,null,null,null,null,null,null,null,"",""]
[null,null,null,null,null,null,null,null,null,null,null,null,null,null,null,"",""]
[null,null,null,null,null,null,null,null,null,null,null,null,null,null,null,"",""]
[null,null,null,null,null,null,null,null,null,null,null,null,null,null,null,"",""]
[null,null,null,null,null,null,null,null,null,null,null,null,null,null,null,"",""]
[null,null,null,null,null,null,null,null,null,null,null,null,null,null,null,"",""]
[null,null,null,null,null,null,null,null,null,null,null,null,null,null,null,"",""]
[null,null,null,null,null,null,null,null,null,null,null,null,null,null,null,"",""]
[null,null,null,null,null,null,null,null,null,null,null,null,null,null,null,"",""]
[null,null,null,null,null,null,null,null,null,null,null,null,null,null,null,"",""]
[null,null,null,null,null,null,null,null,null,null,null,null,null,null,null,"",""]
[null,null,null,null,null,null,null,null,null,null,null,null,null,null,null,"",""]
[null,null,null,null,null,null,null,null,null,null,null,null,null,null,null,"",""]
[null,null,null,null,null,null,null,null,null,null,null,null,null,null,null,"",""]
[null,null,null,null,null,null,null,null,null,null,null,null,null,null,null,"",""]
[null,null,null,null,null,null,null,null,null,null,null,null,null,null,null,"",""]
[null,null,null,null,null,null,null,null,null,null,null,null,null,null,null,"",""]
[null,null,null,null,null,null,null,null,null,null,null,null,null,null,null,"",""]
[null,null,null,null,null,null,null,null,null,null,null,null,null,null,null,"",""]
[null,null,null,null,null,null,null,null,null,null,null,null,null,null,null,"",""]
[null,null,null,null,null,null,null,null,null,null,null,null,null,null,null,"",""]
[null,null,null,null,null,null,null,null,null,null,null,null,null,null,null,"",""]
[null,null,null,null,null,null,null,null,null,null,null,null,null,null,null,"",""]
[null,null,null,null,null,null,null,null,null,null,null,null,null,null,null,"",""]
[null,null,null,null,null,null,null,null,null,null,null,null,null,null,null,"",""]
[null,null,null,null,null,null,null,null,null,null,null,null,null,null,null,"",""]
[null,null,null,null,null,null,null,null,null,null,null,null,null,null,null,"",""]
[null,null,null,null,null,null,null,null,null,null,null,null,null,null,null,"",""]
[null,null,null,null,null,null,null,null,null,null,null,null,null,null,null,"",""]
[null,null,null,null,null,null,null,null,null,null,null,null,null,null,null,"",""]
[null,null,null,null,null,null,null,null,null,null,null,null,null,null,null,"",""]
[null,null,null,null,null,null,null,null,null,null,null,null,null,null,null,"",""]
[null,null,null,null,null,null,null,null,null,null,null,null,null,null,null,"",""]
[null,null,null,null,null,null,null,null,null,null,null,null,null,null,null,"",""]
[null,null,null,null,null,null,null,null,null,null,null,null,null,null,null,"",""]
[null,null,null,null,null,null,null,null,null,null,null,null,null,null,null,"",""]
[null,null,null,null,null,null,null,null,null,null,null,null,null,null,null,"",""]
[null,null,null,null,null,null,null,null,null,null,null,null,null,null,null,"",""]
[null,null,null,null,null,null,null,null,null,null,null,null,null,null,null,"",""]
[null,null,null,null,null,null,null,null,null,null,null,null,null,null,null,"",""]
[null,null,null,null,null,null,null,null,null,null,null,null,null,null,null,"",""]
[null,null,null,null,null,null,null,null,null,null,null,null,null,null,null,"",""]
[null,null,null,null,null,null,null,null,null,null,null,null,null,null,null,"",""]
[null,null,null,null,null,null,null,null,null,null,null,null,null,null,null,"",""]
[null,null,null,null,null,null,null,null,null,null,null,null,null,null,null,"",""]
[null,null,null,null,null,null,null,null,null,null,null,null,null,null,null,"",""]
[null,null,null,null,null,null,null,null,null,null,null,null,null,null,null,"",""]
[null,null,null,null,null,null,null,null,null,null,null,null,null,null,null,"",""]
[null,null,null,null,null,null,null,null,null,null,null,null,null,null,null,"",""]
[null,null,null,null,null,null,null,null,null,null,null,null,null,null,null,"",""]
[null,null,null,null,null,null,null,null,null,null,null,null,null,null,null,"",""]
[null,null,null,null,null,null,null,null,null,null,null,null,null,null,null,"",""]
[null,null,null,null,null,null,null,null,null,null,null,null,null,null,null,"",""]
[null,null,null,null,null,null,null,null,null,null,null,null,null,null,null,"",""]
[null,null,null,null,null,null,null,null,null,null,null,null,null,null,null,"",""]
[null,null,null,null,null,null,null,null,null,null,null,null,null,null,null,"",""]
[null,null,null,null,null,null,null,null,null,null,null,null,null,null,null,"",""]
[null,null,null,null,null,null,null,null,null,null,null,null,null,null,null,"",""]
[null,null,null,null,null,null,null,null,null,null,null,null,null,null,null,"",""]
[null,null,null,null,null,null,null,null,null,null,null,null,null,null,null,"",""]
[null,null,null,null,null,null,null,null,null,null,null,null,null,null,null,"",""]
[null,null,null,null,null,null,null,null,null,null,null,null,null,null,null,"",""]
[null,null,null,null,null,null,null,null,null,null,null,null,null,null,null,"",""]
[null,null,null,null,null,null,null,null,null,null,null,null,null,null,null,"",""]
[null,null,null,null,null,null,null,null,null,null,null,null,null,null,null,"",""]
[null,null,null,null,null,null,null,null,null,null,null,null,null,null,null,"",""]
[null,null,null,null,null,null,null,null,null,null,null,null,null,null,null,"",""]
[null,null,null,null,null,null,null,null,null,null,null,null,null,null,null,"",""]
[null,null,null,null,null,null,null,null,null,null,null,null,null,null,null,"",""]
[null,null,null,null,null,null,null,null,null,null,null,null,null,null,null,"",""]
[null,null,null,null,null,null,null,null,null,null,null,null,null,null,null,"",""]
[null,null,null,null,null,null,null,null,null,null,null,null,null,null,null,"",""]
[null,null,null,null,null,null,null,null,null,null,null,null,null,null,null,"",""]
[null,null,null,null,null,null,null,null,null,null,null,null,null,null,null,"",""]
[null,null,null,null,null,null,null,null,null,null,null,null,null,null,null,"",""]
[null,null,null,null,null,null,null,null,null,null,null,null,null,null,null,"",""]
[null,null,null,null,null,null,null,null,null,null,null,null,null,null,null,"",""]
[null,null,null,null,null,null,null,null,null,null,null,null,null,null,null,"",""]
[null,null,null,null,null,null,null,null,null,null,null,null,null,null,null,"",""]
[null,null,null,null,null,null,null,null,null,null,null,null,null,null,null,"",""]
[null,null,null,null,null,null,null,null,null,null,null,null,null,null,null,"",""]
[null,null,null,null,null,null,null,null,null,null,null,null,null,null,null,"",""]
[null,null,null,null,null,null,null,null,null,null,null,null,null,null,null,"",""]
[null,null,null,null,null,null,null,null,null,null,null,null,null,null,null,"",""]
[null,null,null,null,null,null,null,null,null,null,null,null,null,null,null,"",""]
[null,null,null,null,null,null,null,null,null,null,null,null,null,null,null,"",""]
[null,null,null,null,null,null,null,null,null,null,null,null,null,null,null,"",""]
[null,null,null,null,null,null,null,null,null,null,null,null,null,null,null,"",""]
[null,null,null,null,null,null,null,null,null,null,null,null,null,null,null,"",""]
[null,null,null,null,null,null,null,null,null,null,null,null,null,null,null,"",""]
[null,null,null,null,null,null,null,null,null,null,null,null,null,null,null,"",""]
[null,null,null,null,null,null,null,null,null,null,null,null,null,null,null,"",""]
[null,null,null,null,null,null,null,null,null,null,null,null,null,null,null,"",""]
[null,null,null,null,null,null,null,null,null,null,null,null,null,null,null,"",""]
[null,null,null,null,null,null,null,null,null,null,null,null,null,null,null,"",""]
[null,null,null,null,null,null,null,null,null,null,null,null,null,null,null,"",""]
[null,null,null,null,null,null,null,null,null,null,null,null,null,null,null,"",""]
[null,null,null,null,null,null,null,null,null,null,null,null,null,null,null,"",""]
[null,null,null,null,null,null,null,null,null,null,null,null,null,null,null,"",""]
[null,null,null,null,null,null,null,null,null,null,null,null,null,null,null,"",""]
[null,null,null,null,null,null,null,null,null,null,null,null,null,null,null,"",""]
[null,null,null,null,null,null,null,null,null,null,null,null,null,null,null,"",""]
[null,null,null,null,null,null,null,null,null,null,null,null,null,null,null,"",""]
[null,null,null,null,null,null,null,null,null,null,null,null,null,null,null,"",""]
[null,null,null,null,null,null,null,null,null,null,null,null,null,null,null,"",""]
[null,null,null,null,null,null,null,null,null,null,null,null,null,null,null,"",""]
[null,null,null,null,null,null,null,null,null,null,null,null,null,null,null,"",""]
[null,null,null,null,null,null,null,null,null,null,null,null,null,null,null,"",""]
[null,null,null,null,null,null,null,null,null,null,null,null,null,null,null,"",""]
[null,null,null,null,null,null,null,null,null,null,null,null,null,null,null,"",""]
[null,null,null,null,null,null,null,null,null,null,null,null,null,null,null,"",""]
[null,null,null,null,null,null,null,null,null,null,null,null,null,null,null,"",""]
[null,null,null,null,null,null,null,null,null,null,null,null,null,null,null,"",""]
[null,null,null,null,null,null,null,null,null,null,null,null,null,null,null,"",""]
[null,null,null,null,null,null,null,null,null,null,null,null,null,null,null,"",""]
[null,null,null,null,null,null,null,null,null,null,null,null,null,null,null,"",""]
[null,null,null,null,null,null,null,null,null,null,null,null,null,null,null,"",""]
[null,null,null,null,null,null,null,null,null,null,null,null,null,null,null,"",""]
[null,null,null,null,null,null,null,null,null,null,null,null,null,null,null,"",""]
[null,null,null,null,null,null,null,null,null,null,null,null,null,null,null,"",""]
[null,null,null,null,null,null,null,null,null,null,null,null,null,null,null,"",""]
[null,null,null,null,null,null,null,null,null,null,null,null,null,null,null,"",""]
[null,null,null,null,null,null,null,null,null,null,null,null,null,null,null,"",""]
[null,null,null,null,null,null,null,null,null,null,null,null,null,null,null,"",""]
[null,null,null,null,null,null,null,null,null,null,null,null,null,null,null,"",""]
[null,null,null,null,null,null,null,null,null,null,null,null,null,null,null,"",""]
[null,null,null,null,null,null,null,null,null,null,null,null,null,null,null,"",""]
[null,null,null,null,null,null,null,null,null,null,null,null,null,null,null,"",""]
[null,null,null,null,null,null,null,null,null,null,null,null,null,null,null,"",""]
[null,null,null,null,null,null,null,null,null,null,null,null,null,null,null,"",""]
[null,null,null,null,null,null,null,null,null,null,null,null,null,null,null,"",""]
[null,null,null,null,null,null,null,null,null,null,null,null,null,null,null,"",""]
[null,null,null,null,null,null,null,null,null,null,null,null,null,null,null,"",""]
[null,null,null,null,null,null,null,null,null,null,null,null,null,null,null,"",""]
[null,null,null,null,null,null,null,null,null,null,null,null,null,null,null,"",""]
[null,null,null,null,null,null,null,null,null,null,null,null,null,null,null,"",""]
[null,null,null,null,null,null,null,null,null,null,null,null,null,null,null,"",""]
[null,null,null,null,null,null,null,null,null,null,null,null,null,null,null,"",""]
[null,null,null,null,null,null,null,null,null,null,null,null,null,null,null,"",""]
[null,null,null,null,null,null,null,null,null,null,null,null,null,null,null,"",""]
[null,null,null,null,null,null,null,null,null,null,null,null,null,null,null,"",""]
[null,null,null,null,null,null,null,null,null,null,null,null,null,null,null,"",""]
[null,null,null,null,null,null,null,null,null,null,null,null,null,null,null,"",""]
[null,null,null,null,null,null,null,null,null,null,null,null,null,null,null,"",""]
[null,null,null,null,null,null,null,null,null,null,null,null,null,null,null,"",""]
[null,null,null,null,null,null,null,null,null,null,null,null,null,null,null,"",""]
[null,null,null,null,null,null,null,null,null,null,null,null,null,null,null,"",""]
[null,null,null,null,null,null,null,null,null,null,null,null,null,null,null,"",""]
[null,null,null,null,null,null,null,null,null,null,null,null,null,null,null,"",""]
[null,null,null,null,null,null,null,null,null,null,null,null,null,null,null,"",""]
[null,null,null,null,null,null,null,null,null,null,null,null,null,null,null,"",""]
[null,null,null,null,null,null,null,null,null,null,null,null,null,null,null,"",""]
[null,null,null,null,null,null,null,null,null,null,null,null,null,null,null,"",""]
[null,null,null,null,null,null,null,null,null,null,null,null,null,null,null,"",""]
[null,null,null,null,null,null,null,null,null,null,null,null,null,null,null,"",""]
[null,null,null,null,null,null,null,null,null,null,null,null,null,null,null,"",""]
[null,null,null,null,null,null,null,null,null,null,null,null,null,null,null,"",""]
[null,null,null,null,null,null,null,null,null,null,null,null,null,null,null,"",""]
[null,null,null,null,null,null,null,null,null,null,null,null,null,null,null,"",""]
[null,null,null,null,null,null,null,null,null,null,null,null,null,null,null,"",""]
[null,null,null,null,null,null,null,null,null,null,null,null,null,null,null,"",""]
[null,null,null,null,null,null,null,null,null,null,null,null,null,null,null,"",""]
[null,null,null,null,null,null,null,null,null,null,null,null,null,null,null,"",""]
[null,null,null,null,null,null,null,null,null,null,null,null,null,null,null,"",""]
[null,null,null,null,null,null,null,null,null,null,null,null,null,null,null,"",""]
[null,null,null,null,null,null,null,null,null,null,null,null,null,null,null,"",""]
[null,null,null,null,null,null,null,null,null,null,null,null,null,null,null,"",""]
[null,null,null,null,null,null,null,null,null,null,null,null,null,null,null,"",""]
[null,null,null,null,null,null,null,null,null,null,null,null,null,null,null,"",""]
[null,null,null,null,null,null,null,null,null,null,null,null,null,null,null,"",""]
[null,null,null,null,null,null,null,null,null,null,null,null,null,null,null,"",""]
[null,null,null,null,null,null,null,null,null,null,null,null,null,null,null,"",""]
[null,null,null,null,null,null,null,null,null,null,null,null,null,null,null,"",""]
[null,null,null,null,null,null,null,null,null,null,null,null,null,null,null,"",""]
[null,null,null,null,null,null,null,null,null,null,null,null,null,null,null,"",""]
[null,null,null,null,null,null,null,null,null,null,null,null,null,null,null,"",""]
[null,null,null,null,null,null,null,null,null,null,null,null,null,null,null,"",""]
[null,null,null,null,null,null,null,null,null,null,null,null,null,null,null,"",""]
[null,null,null,null,null,null,null,null,null,null,null,null,null,null,null,"",""]
[null,null,null,null,null,null,null,null,null,null,null,null,null,null,null,"",""]
[null,null,null,null,null,null,null,null,null,null,null,null,null,null,null,"",""]
[null,null,null,null,null,null,null,null,null,null,null,null,null,null,null,"",""]
[null,null,null,null,null,null,null,null,null,null,null,null,null,null,null,"",""]
[null,null,null,null,null,null,null,null,null,null,null,null,null,null,null,"",""]
[null,null,null,null,null,null,null,null,null,null,null,null,null,null,null,"",""]
[null,null,null,null,null,null,null,null,null,null,null,null,null,null,null,"",""]
[null,null,null,null,null,null,null,null,null,null,null,null,null,null,null,"",""]
[null,null,null,null,null,null,null,null,null,null,null,null,null,null,null,"",""]
[null,null,null,null,null,null,null,null,null,null,null,null,null,null,null,"",""]
[null,null,null,null,null,null,null,null,null,null,null,null,null,null,null,"",""]
[null,null,null,null,null,null,null,null,null,null,null,null,null,null,null,"",""]
[null,null,null,null,null,null,null,null,null,null,null,null,null,null,null,"",""]
[null,null,null,null,null,null,null,null,null,null,null,null,null,null,null,"",""]
[null,null,null,null,null,null,null,null,null,null,null,null,null,null,null,"",""]
[null,null,null,null,null,null,null,null,null,null,null,null,null,null,null,"",""]
[null,null,null,null,null,null,null,null,null,null,null,null,null,null,null,"",""]
[null,null,null,null,null,null,null,null,null,null,null,null,null,null,null,"",""]
[null,null,null,null,null,null,null,null,null,null,null,null,null,null,null,"",""]
[null,null,null,null,null,null,null,null,null,null,null,null,null,null,null,"",""]
[null,null,null,null,null,null,null,null,null,null,null,null,null,null,null,"",""]
[null,null,null,null,null,null,null,null,null,null,null,null,null,null,null,"",""]
[null,null,null,null,null,null,null,null,null,null,null,null,null,null,null,"",""]
[null,null,null,null,null,null,null,null,null,null,null,null,null,null,null,"",""]
[null,null,null,null,null,null,null,null,null,null,null,null,null,null,null,"",""]
[null,null,null,null,null,null,null,null,null,null,null,null,null,null,null,"",""]
[null,null,null,null,null,null,null,null,null,null,null,null,null,null,null,"",""]
[null,null,null,null,null,null,null,null,null,null,null,null,null,null,null,"",""]
[null,null,null,null,null,null,null,null,null,null,null,null,null,null,null,"",""]
[null,null,null,null,null,null,null,null,null,null,null,null,null,null,null,"",""]
[null,null,null,null,null,null,null,null,null,null,null,null,null,null,null,"",""]
[null,null,null,null,null,null,null,null,null,null,null,null,null,null,null,"",""]
[null,null,null,null,null,null,null,null,null,null,null,null,null,null,null,"",""]
[null,null,null,null,null,null,null,null,null,null,null,null,null,null,null,"",""]
[null,null,null,null,null,null,null,null,null,null,null,null,null,null,null,"",""]
[null,null,null,null,null,null,null,null,null,null,null,null,null,null,null,"",""]
[null,null,null,null,null,null,null,null,null,null,null,null,null,null,null,"",""]
[null,null,null,null,null,null,null,null,null,null,null,null,null,null,null,"",""]
[null,null,null,null,null,null,null,null,null,null,null,null,null,null,null,"",""]
[null,null,null,null,null,null,null,null,null,null,null,null,null,null,null,"",""]
[null,null,null,null,null,null,null,null,null,null,null,null,null,null,null,"",""]
[null,null,null,null,null,null,null,null,null,null,null,null,null,null,null,"",""]
[null,null,null,null,null,null,null,null,null,null,null,null,null,null,null,"",""]
[null,null,null,null,null,null,null,null,null,null,null,null,null,null,null,"",""]
[null,null,null,null,null,null,null,null,null,null,null,null,null,null,null,"",""]
[null,null,null,null,null,null,null,null,null,null,null,null,null,null,null,"",""]
[null,null,null,null,null,null,null,null,null,null,null,null,null,null,null,"",""]
[null,null,null,null,null,null,null,null,null,null,null,null,null,null,null,"",""]
[null,null,null,null,null,null,null,null,null,null,null,null,null,null,null,"",""]
[null,null,null,null,null,null,null,null,null,null,null,null,null,null,null,"",""]
[null,null,null,null,null,null,null,null,null,null,null,null,null,null,null,"",""]
[null,null,null,null,null,null,null,null,null,null,null,null,null,null,null,"",""]
[null,null,null,null,null,null,null,null,null,null,null,null,null,null,null,"",""]
[null,null,null,null,null,null,null,null,null,null,null,null,null,null,null,"",""]
[null,null,null,null,null,null,null,null,null,null,null,null,null,null,null,"",""]
[null,null,null,null,null,null,null,null,null,null,null,null,null,null,null,"",""]
[null,null,null,null,null,null,null,null,null,null,null,null,null,null,null,"",""]
[null,null,null,null,null,null,null,null,null,null,null,null,null,null,null,"",""]
[null,null,null,null,null,null,null,null,null,null,null,null,null,null,null,"",""]
[null,null,null,null,null,null,null,null,null,null,null,null,null,null,null,"",""]
[null,null,null,null,null,null,null,null,null,null,null,null,null,null,null,"",""]
[null,null,null,null,null,null,null,null,null,null,null,null,null,null,null,"",""]
[null,null,null,null,null,null,null,null,null,null,null,null,null,null,null,"",""]
[null,null,null,null,null,null,null,null,null,null,null,null,null,null,null,"",""]
[null,null,null,null,null,null,null,null,null,null,null,null,null,null,null,"",""]
[null,null,null,null,null,null,null,null,null,null,null,null,null,null,null,"",""]
[null,null,null,null,null,null,null,null,null,null,null,null,null,null,null,"",""]
[null,null,null,null,null,null,null,null,null,null,null,null,null,null,null,"",""]
[null,null,null,null,null,null,null,null,null,null,null,null,null,null,null,"",""]
[null,null,null,null,null,null,null,null,null,null,null,null,null,null,null,"",""]
[null,null,null,null,null,null,null,null,null,null,null,null,null,null,null,"",""]
[null,null,null,null,null,null,null,null,null,null,null,null,null,null,null,"",""]
[null,null,null,null,null,null,null,null,null,null,null,null,null,null,null,"",""]
[null,null,null,null,null,null,null,null,null,null,null,null,null,null,null,"",""]
[null,null,null,null,null,null,null,null,null,null,null,null,null,null,null,"",""]
[null,null,null,null,null,null,null,null,null,null,null,null,null,null,null,"",""]
[null,null,null,null,null,null,null,null,null,null,null,null,null,null,null,"",""]
[null,null,null,null,null,null,null,null,null,null,null,null,null,null,null,"",""]
[null,null,null,null,null,null,null,null,null,null,null,null,null,null,null,"",""]
[null,null,null,null,null,null,null,null,null,null,null,null,null,null,null,"",""]
[null,null,null,null,null,null,null,null,null,null,null,null,null,null,null,"",""]
[null,null,null,null,null,null,null,null,null,null,null,null,null,null,null,"",""]
[null,null,null,null,null,null,null,null,null,null,null,null,null,null,null,"",""]
[null,null,null,null,null,null,null,null,null,null,null,null,null,null,null,"",""]
[null,null,null,null,null,null,null,null,null,null,null,null,null,null,null,"",""]
[null,null,null,null,null,null,null,null,null,null,null,null,null,null,null,"",""]
[null,null,null,null,null,null,null,null,null,null,null,null,null,null,null,"",""]
[null,null,null,null,null,null,null,null,null,null,null,null,null,null,null,"",""]
[null,null,null,null,null,null,null,null,null,null,null,null,null,null,null,"",""]
[null,null,null,null,null,null,null,null,null,null,null,null,null,null,null,"",""]
[null,null,null,null,null,null,null,null,null,null,null,null,null,null,null,"",""]
[null,null,null,null,null,null,null,null,null,null,null,null,null,null,null,"",""]
[null,null,null,null,null,null,null,null,null,null,null,null,null,null,null,"",""]
[null,null,null,null,null,null,null,null,null,null,null,null,null,null,null,"",""]
[null,null,null,null,null,null,null,null,null,null,null,null,null,null,null,"",""]
[null,null,null,null,null,null,null,null,null,null,null,null,null,null,null,"",""]
[null,null,null,null,null,null,null,null,null,null,null,null,null,null,null,"",""]
[null,null,null,null,null,null,null,null,null,null,null,null,null,null,null,"",""]
[null,null,null,null,null,null,null,null,null,null,null,null,null,null,null,"",""]
[null,null,null,null,null,null,null,null,null,null,null,null,null,null,null,"",""]
[null,null,null,null,null,null,null,null,null,null,null,null,null,null,null,"",""]
[null,null,null,null,null,null,null,null,null,null,null,null,null,null,null,"",""]
[null,null,null,null,null,null,null,null,null,null,null,null,null,null,null,"",""]
[null,null,null,null,null,null,null,null,null,null,null,null,null,null,null,"",""]
[null,null,null,null,null,null,null,null,null,null,null,null,null,null,null,"",""]
[null,null,null,null,null,null,null,null,null,null,null,null,null,null,null,"",""]
[null,null,null,null,null,null,null,null,null,null,null,null,null,null,null,"",""]
[null,null,null,null,null,null,null,null,null,null,null,null,null,null,null,"",""]
[null,null,null,null,null,null,null,null,null,null,null,null,null,null,null,"",""]
[null,null,null,null,null,null,null,null,null,null,null,null,null,null,null,"",""]
[null,null,null,null,null,null,null,null,null,null,null,null,null,null,null,"",""]
[null,null,null,null,null,null,null,null,null,null,null,null,null,null,null,"",""]
[null,null,null,null,null,null,null,null,null,null,null,null,null,null,null,"",""]
[null,null,null,null,null,null,null,null,null,null,null,null,null,null,null,"",""]
[null,null,null,null,null,null,null,null,null,null,null,null,null,null,null,"",""]
[null,null,null,null,null,null,null,null,null,null,null,null,null,null,null,"",""]
[null,null,null,null,null,null,null,null,null,null,null,null,null,null,null,"",""]
[null,null,null,null,null,null,null,null,null,null,null,null,null,null,null,"",""]
[null,null,null,null,null,null,null,null,null,null,null,null,null,null,null,"",""]
[null,null,null,null,null,null,null,null,null,null,null,null,null,null,null,"",""]
[null,null,null,null,null,null,null,null,null,null,null,null,null,null,null,"",""]
[null,null,null,null,null,null,null,null,null,null,null,null,null,null,null,"",""]
[null,null,null,null,null,null,null,null,null,null,null,null,null,null,null,"",""]
[null,null,null,null,null,null,null,null,null,null,null,null,null,null,null,"",""]
[null,null,null,null,null,null,null,null,null,null,null,null,null,null,null,"",""]
[null,null,null,null,null,null,null,null,null,null,null,null,null,null,null,"",""]
[null,null,null,null,null,null,null,null,null,null,null,null,null,null,null,"",""]
[null,null,null,null,null,null,null,null,null,null,null,null,null,null,null,"",""]
[null,null,null,null,null,null,null,null,null,null,null,null,null,null,null,"",""]
[null,null,null,null,null,null,null,null,null,null,null,null,null,null,null,"",""]
[null,null,null,null,null,null,null,null,null,null,null,null,null,null,null,"",""]
[null,null,null,null,null,null,null,null,null,null,null,null,null,null,null,"",""]
[null,null,null,null,null,null,null,null,null,null,null,null,null,null,null,"",""]
[null,null,null,null,null,null,null,null,null,null,null,null,null,null,null,"",""]
[null,null,null,null,null,null,null,null,null,null,null,null,null,null,null,"",""]
[null,null,null,null,null,null,null,null,null,null,null,null,null,null,null,"",""]
[null,null,null,null,null,null,null,null,null,null,null,null,null,null,null,"",""]
[null,null,null,null,null,null,null,null,null,null,null,null,null,null,null,"",""]
[null,null,null,null,null,null,null,null,null,null,null,null,null,null,null,"",""]
[null,null,null,null,null,null,null,null,null,null,null,null,null,null,null,"",""]
[null,null,null,null,null,null,null,null,null,null,null,null,null,null,null,"",""]
[null,null,null,null,null,null,null,null,null,null,null,null,null,null,null,"",""]
[null,null,null,null,null,null,null,null,null,null,null,null,null,null,null,"",""]
[null,null,null,null,null,null,null,null,null,null,null,null,null,null,null,"",""]
[null,null,null,null,null,null,null,null,null,null,null,null,null,null,null,"",""]
[null,null,null,null,null,null,null,null,null,null,null,null,null,null,null,"",""]
[null,null,null,null,null,null,null,null,null,null,null,null,null,null,null,"",""]
[null,null,null,null,null,null,null,null,null,null,null,null,null,null,null,"",""]
[null,null,null,null,null,null,null,null,null,null,null,null,null,null,null,"",""]
[null,null,null,null,null,null,null,null,null,null,null,null,null,null,null,"",""]
[null,null,null,null,null,null,null,null,null,null,null,null,null,null,null,"",""]
[null,null,null,null,null,null,null,null,null,null,null,null,null,null,null,"",""]
[null,null,null,null,null,null,null,null,null,null,null,null,null,null,null,"",""]
[null,null,null,null,null,null,null,null,null,null,null,null,null,null,null,"",""]
[null,null,null,null,null,null,null,null,null,null,null,null,null,null,null,"",""]
[null,null,null,null,null,null,null,null,null,null,null,null,null,null,null,"",""]
[null,null,null,null,null,null,null,null,null,null,null,null,null,null,null,"",""]
[null,null,null,null,null,null,null,null,null,null,null,null,null,null,null,"",""]
[null,null,null,null,null,null,null,null,null,null,null,null,null,null,null,"",""]
[null,null,null,null,null,null,null,null,null,null,null,null,null,null,null,"",""]
[null,null,null,null,null,null,null,null,null,null,null,null,null,null,null,"",""]
[null,null,null,null,null,null,null,null,null,null,null,null,null,null,null,"",""]
[null,null,null,null,null,null,null,null,null,null,null,null,null,null,null,"",""]
[null,null,null,null,null,null,null,null,null,null,null,null,null,null,null,"",""]
[null,null,null,null,null,null,null,null,null,null,null,null,null,null,null,"",""]
[null,null,null,null,null,null,null,null,null,null,null,null,null,null,null,"",""]
[null,null,null,null,null,null,null,null,null,null,null,null,null,null,null,"",""]
[null,null,null,null,null,null,null,null,null,null,null,null,null,null,null,"",""]
[null,null,null,null,null,null,null,null,null,null,null,null,null,null,null,"",""]
[null,null,null,null,null,null,null,null,null,null,null,null,null,null,null,"",""]
[null,null,null,null,null,null,null,null,null,null,null,null,null,null,null,"",""]
[null,null,null,null,null,null,null,null,null,null,null,null,null,null,null,"",""]
[null,null,null,null,null,null,null,null,null,null,null,null,null,null,null,"",""]
[null,null,null,null,null,null,null,null,null,null,null,null,null,null,null,"",""]
[null,null,null,null,null,null,null,null,null,null,null,null,null,null,null,"",""]
[null,null,null,null,null,null,null,null,null,null,null,null,null,null,null,"",""]
[null,null,null,null,null,null,null,null,null,null,null,null,null,null,null,"",""]
[null,null,null,null,null,null,null,null,null,null,null,null,null,null,null,"",""]
[null,null,null,null,null,null,null,null,null,null,null,null,null,null,null,"",""]
[null,null,null,null,null,null,null,null,null,null,null,null,null,null,null,"",""]
[null,null,null,null,null,null,null,null,null,null,null,null,null,null,null,"",""]
[null,null,null,null,null,null,null,null,null,null,null,null,null,null,null,"",""]
[null,null,null,null,null,null,null,null,null,null,null,null,null,null,null,"",""]
[null,null,null,null,null,null,null,null,null,null,null,null,null,null,null,"",""]
[null,null,null,null,null,null,null,null,null,null,null,null,null,null,null,"",""]
[null,null,null,null,null,null,null,null,null,null,null,null,null,null,null,"",""]
[null,null,null,null,null,null,null,null,null,null,null,null,null,null,null,"",""]
[null,null,null,null,null,null,null,null,null,null,null,null,null,null,null,"",""]
[null,null,null,null,null,null,null,null,null,null,null,null,null,null,null,"",""]
[null,null,null,null,null,null,null,null,null,null,null,null,null,null,null,"",""]
[null,null,null,null,null,null,null,null,null,null,null,null,null,null,null,"",""]
[null,null,null,null,null,null,null,null,null,null,null,null,null,null,null,"",""]
[null,null,null,null,null,null,null,null,null,null,null,null,null,null,null,"",""]
[null,null,null,null,null,null,null,null,null,null,null,null,null,null,null,"",""]
[null,null,null,null,null,null,null,null,null,null,null,null,null,null,null,"",""]
[null,null,null,null,null,null,null,null,null,null,null,null,null,null,null,"",""]
[null,null,null,null,null,null,null,null,null,null,null,null,null,null,null,"",""]
[null,null,null,null,null,null,null,null,null,null,null,null,null,null,null,"",""]
[null,null,null,null,null,null,null,null,null,null,null,null,null,null,null,"",""]
[null,null,null,null,null,null,null,null,null,null,null,null,null,null,null,"",""]
[null,null,null,null,null,null,null,null,null,null,null,null,null,null,null,"",""]
[null,null,null,null,null,null,null,null,null,null,null,null,null,null,null,"",""]
[null,null,null,null,null,null,null,null,null,null,null,null,null,null,null,"",""]
[null,null,null,null,null,null,null,null,null,null,null,null,null,null,null,"",""]
[null,null,null,null,null,null,null,null,null,null,null,null,null,null,null,"",""]
[null,null,null,null,null,null,null,null,null,null,null,null,null,null,null,"",""]
[null,null,null,null,null,null,null,null,null,null,null,null,null,null,null,"",""]
[null,null,null,null,null,null,null,null,null,null,null,null,null,null,null,"",""]
[null,null,null,null,null,null,null,null,null,null,null,null,null,null,null,"",""]
[null,null,null,null,null,null,null,null,null,null,null,null,null,null,null,"",""]
[null,null,null,null,null,null,null,null,null,null,null,null,null,null,null,"",""]
[null,null,null,null,null,null,null,null,null,null,null,null,null,null,null,"",""]
[null,null,null,null,null,null,null,null,null,null,null,null,null,null,null,"",""]
[null,null,null,null,null,null,null,null,null,null,null,null,null,null,null,"",""]
[null,null,null,null,null,null,null,null,null,null,null,null,null,null,null,"",""]
[null,null,null,null,null,null,null,null,null,null,null,null,null,null,null,"",""]
[null,null,null,null,null,null,null,null,null,null,null,null,null,null,null,"",""]
[null,null,null,null,null,null,null,null,null,null,null,null,null,null,null,"",""]
[null,null,null,null,null,null,null,null,null,null,null,null,null,null,null,"",""]
[null,null,null,null,null,null,null,null,null,null,null,null,null,null,null,"",""]
[null,null,null,null,null,null,null,null,null,null,null,null,null,null,null,"",""]
[null,null,null,null,null,null,null,null,null,null,null,null,null,null,null,"",""]
[null,null,null,null,null,null,null,null,null,null,null,null,null,null,null,"",""]
[null,null,null,null,null,null,null,null,null,null,null,null,null,null,null,"",""]
[null,null,null,null,null,null,null,null,null,null,null,null,null,null,null,"",""]
[null,null,null,null,null,null,null,null,null,null,null,null,null,null,null,"",""]
[null,null,null,null,null,null,null,null,null,null,null,null,null,null,null,"",""]
[null,null,null,null,null,null,null,null,null,null,null,null,null,null,null,"",""]
[null,null,null,null,null,null,null,null,null,null,null,null,null,null,null,"",""]
[null,null,null,null,null,null,null,null,null,null,null,null,null,null,null,"",""]
[null,null,null,null,null,null,null,null,null,null,null,null,null,null,null,"",""]
[null,null,null,null,null,null,null,null,null,null,null,null,null,null,null,"",""]
[null,null,null,null,null,null,null,null,null,null,null,null,null,null,null,"",""]
[null,null,null,null,null,null,null,null,null,null,null,null,null,null,null,"",""]
[null,null,null,null,null,null,null,null,null,null,null,null,null,null,null,"",""]
[null,null,null,null,null,null,null,null,null,null,null,null,null,null,null,"",""]
[null,null,null,null,null,null,null,null,null,null,null,null,null,null,null,"",""]
[null,null,null,null,null,null,null,null,null,null,null,null,null,null,null,"",""]
[null,null,null,null,null,null,null,null,null,null,null,null,null,null,null,"",""]
[null,null,null,null,null,null,null,null,null,null,null,null,null,null,null,"",""]
[null,null,null,null,null,null,null,null,null,null,null,null,null,null,null,"",""]
[null,null,null,null,null,null,null,null,null,null,null,null,null,null,null,"",""]
[null,null,null,null,null,null,null,null,null,null,null,null,null,null,null,"",""]
[null,null,null,null,null,null,null,null,null,null,null,null,null,null,null,"",""]
[null,null,null,null,null,null,null,null,null,null,null,null,null,null,null,"",""]
[null,null,null,null,null,null,null,null,null,null,null,null,null,null,null,"",""]
[null,null,null,null,null,null,null,null,null,null,null,null,null,null,null,"",""]
[null,null,null,null,null,null,null,null,null,null,null,null,null,null,null,"",""]
[null,null,null,null,null,null,null,null,null,null,null,null,null,null,null,"",""]
[null,null,null,null,null,null,null,null,null,null,null,null,null,null,null,"",""]
[null,null,null,null,null,null,null,null,null,null,null,null,null,null,null,"",""]
[null,null,null,null,null,null,null,null,null,null,null,null,null,null,null,"",""]
[null,null,null,null,null,null,null,null,null,null,null,null,null,null,null,"",""]
[null,null,null,null,null,null,null,null,null,null,null,null,null,null,null,"",""]
[null,null,null,null,null,null,null,null,null,null,null,null,null,null,null,"",""]
[null,null,null,null,null,null,null,null,null,null,null,null,null,null,null,"",""]
[null,null,null,null,null,null,null,null,null,null,null,null,null,null,null,"",""]
[null,null,null,null,null,null,null,null,null,null,null,null,null,null,null,"",""]
[null,null,null,null,null,null,null,null,null,null,null,null,null,null,null,"",""]
[null,null,null,null,null,null,null,null,null,null,null,null,null,null,null,"",""]
[null,null,null,null,null,null,null,null,null,null,null,null,null,null,null,"",""]
[null,null,null,null,null,null,null,null,null,null,null,null,null,null,null,"",""]
[null,null,null,null,null,null,null,null,null,null,null,null,null,null,null,"",""]
[null,null,null,null,null,null,null,null,null,null,null,null,null,null,null,"",""]
[null,null,null,null,null,null,null,null,null,null,null,null,null,null,null,"",""]
[null,null,null,null,null,null,null,null,null,null,null,null,null,null,null,"",""]
[null,null,null,null,null,null,null,null,null,null,null,null,null,null,null,"",""]
[null,null,null,null,null,null,null,null,null,null,null,null,null,null,null,"",""]
[null,null,null,null,null,null,null,null,null,null,null,null,null,null,null,"",""]
[null,null,null,null,null,null,null,null,null,null,null,null,null,null,null,"",""]
[null,null,null,null,null,null,null,null,null,null,null,null,null,null,null,"",""]
[null,null,null,null,null,null,null,null,null,null,null,null,null,null,null,"",""]
[null,null,null,null,null,null,null,null,null,null,null,null,null,null,null,"",""]
[null,null,null,null,null,null,null,null,null,null,null,null,null,null,null,"",""]
[null,null,null,null,null,null,null,null,null,null,null,null,null,null,null,"",""]
[null,null,null,null,null,null,null,null,null,null,null,null,null,null,null,"",""]
[null,null,null,null,null,null,null,null,null,null,null,null,null,null,null,"",""]
[null,null,null,null,null,null,null,null,null,null,null,null,null,null,null,"",""]
[null,null,null,null,null,null,null,null,null,null,null,null,null,null,null,"",""]
[null,null,null,null,null,null,null,null,null,null,null,null,null,null,null,"",""]
[null,null,null,null,null,null,null,null,null,null,null,null,null,null,null,"",""]
[null,null,null,null,null,null,null,null,null,null,null,null,null,null,null,"",""]
[null,null,null,null,null,null,null,null,null,null,null,null,null,null,null,"",""]
[null,null,null,null,null,null,null,null,null,null,null,null,null,null,null,"",""]
[null,null,null,null,null,null,null,null,null,null,null,null,null,null,null,"",""]
[null,null,null,null,null,null,null,null,null,null,null,null,null,null,null,"",""]
[null,null,null,null,null,null,null,null,null,null,null,null,null,null,null,"",""]
[null,null,null,null,null,null,null,null,null,null,null,null,null,null,null,"",""]
[null,null,null,null,null,null,null,null,null,null,null,null,null,null,null,"",""]
[null,null,null,null,null,null,null,null,null,null,null,null,null,null,null,"",""]
[null,null,null,null,null,null,null,null,null,null,null,null,null,null,null,"",""]
[null,null,null,null,null,null,null,null,null,null,null,null,null,null,null,"",""]
[null,null,null,null,null,null,null,null,null,null,null,null,null,null,null,"",""]
[null,null,null,null,null,null,null,null,null,null,null,null,null,null,null,"",""]
[null,null,null,null,null,null,null,null,null,null,null,null,null,null,null,"",""]
[null,null,null,null,null,null,null,null,null,null,null,null,null,null,null,"",""]
[null,null,null,null,null,null,null,null,null,null,null,null,null,null,null,"",""]
[null,null,null,null,null,null,null,null,null,null,null,null,null,null,null,"",""]
[null,null,null,null,null,null,null,null,null,null,null,null,null,null,null,"",""]
[null,null,null,null,null,null,null,null,null,null,null,null,null,null,null,"",""]
[null,null,null,null,null,null,null,null,null,null,null,null,null,null,null,"",""]
[null,null,null,null,null,null,null,null,null,null,null,null,null,null,null,"",""]
[null,null,null,null,null,null,null,null,null,null,null,null,null,null,null,"",""]
[null,null,null,null,null,null,null,null,null,null,null,null,null,null,null,"",""]
[null,null,null,null,null,null,null,null,null,null,null,null,null,null,null,"",""]
[null,null,null,null,null,null,null,null,null,null,null,null,null,null,null,"",""]
[null,null,null,null,null,null,null,null,null,null,null,null,null,null,null,"",""]
[null,null,null,null,null,null,null,null,null,null,null,null,null,null,null,"",""]
[null,null,null,null,null,null,null,null,null,null,null,null,null,null,null,"",""]
[null,null,null,null,null,null,null,null,null,null,null,null,null,null,null,"",""]
[null,null,null,null,null,null,null,null,null,null,null,null,null,null,null,"",""]
[null,null,null,null,null,null,null,null,null,null,null,null,null,null,null,"",""]
[null,null,null,null,null,null,null,null,null,null,null,null,null,null,null,"",""]
[null,null,null,null,null,null,null,null,null,null,null,null,null,null,null,"",""]
[null,null,null,null,null,null,null,null,null,null,null,null,null,null,null,"",""]
[null,null,null,null,null,null,null,null,null,null,null,null,null,null,null,"",""]
[null,null,null,null,null,null,null,null,null,null,null,null,null,null,null,"",""]
[null,null,null,null,null,null,null,null,null,null,null,null,null,null,null,"",""]
[null,null,null,null,null,null,null,null,null,null,null,null,null,null,null,"",""]
[null,null,null,null,null,null,null,null,null,null,null,null,null,null,null,"",""]
[null,null,null,null,null,null,null,null,null,null,null,null,null,null,null,"",""]
[null,null,null,null,null,null,null,null,null,null,null,null,null,null,null,"",""]
[null,null,null,null,null,null,null,null,null,null,null,null,null,null,null,"",""]
[null,null,null,null,null,null,null,null,null,null,null,null,null,null,null,"",""]
[null,null,null,null,null,null,null,null,null,null,null,null,null,null,null,"",""]
[null,null,null,null,null,null,null,null,null,null,null,null,null,null,null,"",""]
[null,null,null,null,null,null,null,null,null,null,null,null,null,null,null,"",""]
[null,null,null,null,null,null,null,null,null,null,null,null,null,null,null,"",""]
[null,null,null,null,null,null,null,null,null,null,null,null,null,null,null,"",""]
[null,null,null,null,null,null,null,null,null,null,null,null,null,null,null,"",""]
[null,null,null,null,null,null,null,null,null,null,null,null,null,null,null,"",""]
[null,null,null,null,null,null,null,null,null,null,null,null,null,null,null,"",""]
[null,null,null,null,null,null,null,null,null,null,null,null,null,null,null,"",""]
[null,null,null,null,null,null,null,null,null,null,null,null,null,null,null,"",""]
[null,null,null,null,null,null,null,null,null,null,null,null,null,null,null,"",""]
[null,null,null,null,null,null,null,null,null,null,null,null,null,null,null,"",""]
[null,null,null,null,null,null,null,null,null,null,null,null,null,null,null,"",""]
[null,null,null,null,null,null,null,null,null,null,null,null,null,null,null,"",""]
[null,null,null,null,null,null,null,null,null,null,null,null,null,null,null,"",""]
[null,null,null,null,null,null,null,null,null,null,null,null,null,null,null,"",""]
[null,null,null,null,null,null,null,null,null,null,null,null,null,null,null,"",""]
[null,null,null,null,null,null,null,null,null,null,null,null,null,null,null,"",""]
[null,null,null,null,null,null,null,null,null,null,null,null,null,null,null,"",""]
[null,null,null,null,null,null,null,null,null,null,null,null,null,null,null,"",""]
[null,null,null,null,null,null,null,null,null,null,null,null,null,null,null,"",""]
[null,null,null,null,null,null,null,null,null,null,null,null,null,null,null,"",""]
[null,null,null,null,null,null,null,null,null,null,null,null,null,null,null,"",""]
[null,null,null,null,null,null,null,null,null,null,null,null,null,null,null,"",""]
[null,null,null,null,null,null,null,null,null,null,null,null,null,null,null,"",""]
[null,null,null,null,null,null,null,null,null,null,null,null,null,null,null,"",""]
[null,null,null,null,null,null,null,null,null,null,null,null,null,null,null,"",""]
[null,null,null,null,null,null,null,null,null,null,null,null,null,null,null,"",""]
[null,null,null,null,null,null,null,null,null,null,null,null,null,null,null,"",""]
[null,null,null,null,null,null,null,null,null,null,null,null,null,null,null,"",""]
[null,null,null,null,null,null,null,null,null,null,null,null,null,null,null,"",""]
[null,null,null,null,null,null,null,null,null,null,null,null,null,null,null,"",""]
[null,null,null,null,null,null,null,null,null,null,null,null,null,null,null,"",""]
[null,null,null,null,null,null,null,null,null,null,null,null,null,null,null,"",""]
[null,null,null,null,null,null,null,null,null,null,null,null,null,null,null,"",""]
[null,null,null,null,null,null,null,null,null,null,null,null,null,null,null,"",""]
[null,null,null,null,null,null,null,null,null,null,null,null,null,null,null,"",""]
[null,null,null,null,null,null,null,null,null,null,null,null,null,null,null,"",""]
[null,null,null,null,null,null,null,null,null,null,null,null,null,null,null,"",""]
[null,null,null,null,null,null,null,null,null,null,null,null,null,null,null,"",""]
[null,null,null,null,null,null,null,null,null,null,null,null,null,null,null,"",""]
[null,null,null,null,null,null,null,null,null,null,null,null,null,null,null,"",""]
[null,null,null,null,null,null,null,null,null,null,null,null,null,null,null,"",""]
[null,null,null,null,null,null,null,null,null,null,null,null,null,null,null,"",""]
[null,null,null,null,null,null,null,null,null,null,null,null,null,null,null,"",""]
[null,null,null,null,null,null,null,null,null,null,null,null,null,null,null,"",""]
[null,null,null,null,null,null,null,null,null,null,null,null,null,null,null,"",""]
[null,null,null,null,null,null,null,null,null,null,null,null,null,null,null,"",""]
[null,null,null,null,null,null,null,null,null,null,null,null,null,null,null,"",""]
[null,null,null,null,null,null,null,null,null,null,null,null,null,null,null,"",""]
[null,null,null,null,null,null,null,null,null,null,null,null,null,null,null,"",""]
[null,null,null,null,null,null,null,null,null,null,null,null,null,null,null,"",""]
[null,null,null,null,null,null,null,null,null,null,null,null,null,null,null,"",""]
[null,null,null,null,null,null,null,null,null,null,null,null,null,null,null,"",""]
[null,null,null,null,null,null,null,null,null,null,null,null,null,null,null,"",""]
[null,null,null,null,null,null,null,null,null,null,null,null,null,null,null,"",""]
[null,null,null,null,null,null,null,null,null,null,null,null,null,null,null,"",""]
[null,null,null,null,null,null,null,null,null,null,null,null,null,null,null,"",""]
[null,null,null,null,null,null,null,null,null,null,null,null,null,null,null,"",""]
[null,null,null,null,null,null,null,null,null,null,null,null,null,null,null,"",""]
[null,null,null,null,null,null,null,null,null,null,null,null,null,null,null,"",""]
[null,null,null,null,null,null,null,null,null,null,null,null,null,null,null,"",""]
[null,null,null,null,null,null,null,null,null,null,null,null,null,null,null,"",""]
[null,null,null,null,null,null,null,null,null,null,null,null,null,null,null,"",""]
[null,null,null,null,null,null,null,null,null,null,null,null,null,null,null,"",""]
[null,null,null,null,null,null,null,null,null,null,null,null,null,null,null,"",""]
[null,null,null,null,null,null,null,null,null,null,null,null,null,null,null,"",""]
[null,null,null,null,null,null,null,null,null,null,null,null,null,null,null,"",""]
[null,null,null,null,null,null,null,null,null,null,null,null,null,null,null,"",""]
[null,null,null,null,null,null,null,null,null,null,null,null,null,null,null,"",""]
[null,null,null,null,null,null,null,null,null,null,null,null,null,null,null,"",""]
[null,null,null,null,null,null,null,null,null,null,null,null,null,null,null,"",""]
[null,null,null,null,null,null,null,null,null,null,null,null,null,null,null,"",""]
[null,null,null,null,null,null,null,null,null,null,null,null,null,null,null,"",""]
[null,null,null,null,null,null,null,null,null,null,null,null,null,null,null,"",""]
[null,null,null,null,null,null,null,null,null,null,null,null,null,null,null,"",""]
[null,null,null,null,null,null,null,null,null,null,null,null,null,null,null,"",""]
[null,null,null,null,null,null,null,null,null,null,null,null,null,null,null,"",""]
[null,null,null,null,null,null,null,null,null,null,null,null,null,null,null,"",""]
[null,null,null,null,null,null,null,null,null,null,null,null,null,null,null,"",""]
[null,null,null,null,null,null,null,null,null,null,null,null,null,null,null,"",""]
[null,null,null,null,null,null,null,null,null,null,null,null,null,null,null,"",""]
[null,null,null,null,null,null,null,null,null,null,null,null,null,null,null,"",""]
[null,null,null,null,null,null,null,null,null,null,null,null,null,null,null,"",""]
[null,null,null,null,null,null,null,null,null,null,null,null,null,null,null,"",""]
[null,null,null,null,null,null,null,null,null,null,null,null,null,null,null,"",""]
[null,null,null,null,null,null,null,null,null,null,null,null,null,null,null,"",""]
[null,null,null,null,null,null,null,null,null,null,null,null,null,null,null,"",""]
[null,null,null,null,null,null,null,null,null,null,null,null,null,null,null,"",""]
[null,null,null,null,null,null,null,null,null,null,null,null,null,null,null,"",""]
[null,null,null,null,null,null,null,null,null,null,null,null,null,null,null,"",""]
[null,null,null,null,null,null,null,null,null,null,null,null,null,null,null,"",""]
[null,null,null,null,null,null,null,null,null,null,null,null,null,null,null,"",""]
[null,null,null,null,null,null,null,null,null,null,null,null,null,null,null,"",""]
[null,null,null,null,null,null,null,null,null,null,null,null,null,null,null,"",""]
[null,null,null,null,null,null,null,null,null,null,null,null,null,null,null,"",""]
[null,null,null,null,null,null,null,null,null,null,null,null,null,null,null,"",""]
[null,null,null,null,null,null,null,null,null,null,null,null,null,null,null,"",""]
[null,null,null,null,null,null,null,null,null,null,null,null,null,null,null,"",""]
[null,null,null,null,null,null,null,null,null,null,null,null,null,null,null,"",""]
[null,null,null,null,null,null,null,null,null,null,null,null,null,null,null,"",""]
[null,null,null,null,null,null,null,null,null,null,null,null,null,null,null,"",""]
[null,null,null,null,null,null,null,null,null,null,null,null,null,null,null,"",""]
[null,null,null,null,null,null,null,null,null,null,null,null,null,null,null,"",""]
[null,null,null,null,null,null,null,null,null,null,null,null,null,null,null,"",""]
[null,null,null,null,null,null,null,null,null,null,null,null,null,null,null,"",""]
[null,null,null,null,null,null,null,null,null,null,null,null,null,null,null,"",""]
[null,null,null,null,null,null,null,null,null,null,null,null,null,null,null,"",""]
[null,null,null,null,null,null,null,null,null,null,null,null,null,null,null,"",""]
[null,null,null,null,null,null,null,null,null,null,null,null,null,null,null,"",""]
[null,null,null,null,null,null,null,null,null,null,null,null,null,null,null,"",""]
[null,null,null,null,null,null,null,null,null,null,null,null,null,null,null,"",""]
[null,null,null,null,null,null,null,null,null,null,null,null,null,null,null,"",""]
[null,null,null,null,null,null,null,null,null,null,null,null,null,null,null,"",""]
[null,null,null,null,null,null,null,null,null,null,null,null,null,null,null,"",""]
[null,null,null,null,null,null,null,null,null,null,null,null,null,null,null,"",""]
[null,null,null,null,null,null,null,null,null,null,null,null,null,null,null,"",""]
[null,null,null,null,null,null,null,null,null,null,null,null,null,null,null,"",""]
[null,null,null,null,null,null,null,null,null,null,null,null,null,null,null,"",""]
[null,null,null,null,null,null,null,null,null,null,null,null,null,null,null,"",""]
[null,null,null,null,null,null,null,null,null,null,null,null,null,null,null,"",""]
[null,null,null,null,null,null,null,null,null,null,null,null,null,null,null,"",""]
[null,null,null,null,null,null,null,null,null,null,null,null,null,null,null,"",""]
[null,null,null,null,null,null,null,null,null,null,null,null,null,null,null,"",""]
[null,null,null,null,null,null,null,null,null,null,null,null,null,null,null,"",""]
[null,null,null,null,null,null,null,null,null,null,null,null,null,null,null,"",""]
[null,null,null,null,null,null,null,null,null,null,null,null,null,null,null,"",""]
[null,null,null,null,null,null,null,null,null,null,null,null,null,null,null,"",""]
[null,null,null,null,null,null,null,null,null,null,null,null,null,null,null,"",""]
[null,null,null,null,null,null,null,null,null,null,null,null,null,null,null,"",""]
[null,null,null,null,null,null,null,null,null,null,null,null,null,null,null,"",""]
[null,null,null,null,null,null,null,null,null,null,null,null,null,null,null,"",""]
[null,null,null,null,null,null,null,null,null,null,null,null,null,null,null,"",""]
[null,null,null,null,null,null,null,null,null,null,null,null,null,null,null,"",""]
[null,null,null,null,null,null,null,null,null,null,null,null,null,null,null,"",""]
[null,null,null,null,null,null,null,null,null,null,null,null,null,null,null,"",""]
[null,null,null,null,null,null,null,null,null,null,null,null,null,null,null,"",""]
[null,null,null,null,null,null,null,null,null,null,null,null,null,null,null,"",""]
[null,null,null,null,null,null,null,null,null,null,null,null,null,null,null,"",""]
[null,null,null,null,null,null,null,null,null,null,null,null,null,null,null,"",""]
[null,null,null,null,null,null,null,null,null,null,null,null,null,null,null,"",""]
[null,null,null,null,null,null,null,null,null,null,null,null,null,null,null,"",""]
[null,null,null,null,null,null,null,null,null,null,null,null,null,null,null,"",""]
[null,null,null,null,null,null,null,null,null,null,null,null,null,null,null,"",""]
[null,null,null,null,null,null,null,null,null,null,null,null,null,null,null,"",""]
[null,null,null,null,null,null,null,null,null,null,null,null,null,null,null,"",""]
[null,null,null,null,null,null,null,null,null,null,null,null,null,null,null,"",""]
[null,null,null,null,null,null,null,null,null,null,null,null,null,null,null,"",""]
[null,null,null,null,null,null,null,null,null,null,null,null,null,null,null,"",""]
[null,null,null,null,null,null,null,null,null,null,null,null,null,null,null,"",""]
[null,null,null,null,null,null,null,null,null,null,null,null,null,null,null,"",""]
[null,null,null,null,null,null,null,null,null,null,null,null,null,null,null,"",""]
[null,null,null,null,null,null,null,null,null,null,null,null,null,null,null,"",""]
[null,null,null,null,null,null,null,null,null,null,null,null,null,null,null,"",""]
[null,null,null,null,null,null,null,null,null,null,null,null,null,null,null,"",""]
[null,null,null,null,null,null,null,null,null,null,null,null,null,null,null,"",""]
[null,null,null,null,null,null,null,null,null,null,null,null,null,null,null,"",""]
[null,null,null,null,null,null,null,null,null,null,null,null,null,null,null,"",""]
[null,null,null,null,null,null,null,null,null,null,null,null,null,null,null,"",""]
[null,null,null,null,null,null,null,null,null,null,null,null,null,null,null,"",""]
[null,null,null,null,null,null,null,null,null,null,null,null,null,null,null,"",""]
[null,null,null,null,null,null,null,null,null,null,null,null,null,null,null,"",""]
[null,null,null,null,null,null,null,null,null,null,null,null,null,null,null,"",""]
[null,null,null,null,null,null,null,null,null,null,null,null,null,null,null,"",""]
[null,null,null,null,null,null,null,null,null,null,null,null,null,null,null,"",""]
[null,null,null,null,null,null,null,null,null,null,null,null,null,null,null,"",""]
[null,null,null,null,null,null,null,null,null,null,null,null,null,null,null,"",""]
[null,null,null,null,null,null,null,null,null,null,null,null,null,null,null,"",""]
[null,null,null,null,null,null,null,null,null,null,null,null,null,null,null,"",""]
[null,null,null,null,null,null,null,null,null,null,null,null,null,null,null,"",""]
[null,null,null,null,null,null,null,null,null,null,null,null,null,null,null,"",""]
[null,null,null,null,null,null,null,null,null,null,null,null,null,null,null,"",""]
[null,null,null,null,null,null,null,null,null,null,null,null,null,null,null,"",""]
[null,null,null,null,null,null,null,null,null,null,null,null,null,null,null,"",""]
[null,null,null,null,null,null,null,null,null,null,null,null,null,null,null,"",""]
[null,null,null,null,null,null,null,null,null,null,null,null,null,null,null,"",""]
[null,null,null,null,null,null,null,null,null,null,null,null,null,null,null,"",""]
[null,null,null,null,null,null,null,null,null,null,null,null,null,null,null,"",""]
[null,null,null,null,null,null,null,null,null,null,null,null,null,null,null,"",""]
[null,null,null,null,null,null,null,null,null,null,null,null,null,null,null,"",""]
[null,null,null,null,null,null,null,null,null,null,null,null,null,null,null,"",""]
[null,null,null,null,null,null,null,null,null,null,null,null,null,null,null,"",""]
[null,null,null,null,null,null,null,null,null,null,null,null,null,null,null,"",""]
[null,null,null,null,null,null,null,null,null,null,null,null,null,null,null,"",""]
[null,null,null,null,null,null,null,null,null,null,null,null,null,null,null,"",""]
[null,null,null,null,null,null,null,null,null,null,null,null,null,null,null,"",""]
[null,null,null,null,null,null,null,null,null,null,null,null,null,null,null,"",""]
[null,null,null,null,null,null,null,null,null,null,null,null,null,null,null,"",""]
[null,null,null,null,null,null,null,null,null,null,null,null,null,null,null,"",""]
[null,null,null,null,null,null,null,null,null,null,null,null,null,null,null,"",""]
[null,null,null,null,null,null,null,null,null,null,null,null,null,null,null,"",""]
[null,null,null,null,null,null,null,null,null,null,null,null,null,null,null,"",""]
[null,null,null,null,null,null,null,null,null,null,null,null,null,null,null,"",""]
[null,null,null,null,null,null,null,null,null,null,null,null,null,null,null,"",""]
[null,null,null,null,null,null,null,null,null,null,null,null,null,null,null,"",""]
[null,null,null,null,null,null,null,null,null,null,null,null,null,null,null,"",""]
[null,null,null,null,null,null,null,null,null,null,null,null,null,null,null,"",""]
[null,null,null,null,null,null,null,null,null,null,null,null,null,null,null,"",""]
[null,null,null,null,null,null,null,null,null,null,null,null,null,null,null,"",""]
[null,null,null,null,null,null,null,null,null,null,null,null,null,null,null,"",""]
[null,null,null,null,null,null,null,null,null,null,null,null,null,null,null,"",""]
[null,null,null,null,null,null,null,null,null,null,null,null,null,null,null,"",""]
[null,null,null,null,null,null,null,null,null,null,null,null,null,null,null,"",""]
[null,null,null,null,null,null,null,null,null,null,null,null,null,null,null,"",""]
[null,null,null,null,null,null,null,null,null,null,null,null,null,null,null,"",""]
[null,null,null,null,null,null,null,null,null,null,null,null,null,null,null,"",""]
[null,null,null,null,null,null,null,null,null,null,null,null,null,null,null,"",""]
[null,null,null,null,null,null,null,null,null,null,null,null,null,null,null,"",""]
[null,null,null,null,null,null,null,null,null,null,null,null,null,null,null,"",""]
[null,null,null,null,null,null,null,null,null,null,null,null,null,null,null,"",""]
[null,null,null,null,null,null,null,null,null,null,null,null,null,null,null,"",""]
[null,null,null,null,null,null,null,null,null,null,null,null,null,null,null,"",""]
[null,null,null,null,null,null,null,null,null,null,null,null,null,null,null,"",""]
[null,null,null,null,null,null,null,null,null,null,null,null,null,null,null,"",""]
[null,null,null,null,null,null,null,null,null,null,null,null,null,null,null,"",""]
[null,null,null,null,null,null,null,null,null,null,null,null,null,null,null,"",""]
[null,null,null,null,null,null,null,null,null,null,null,null,null,null,null,"",""]
[null,null,null,null,null,null,null,null,null,null,null,null,null,null,null,"",""]
[null,null,null,null,null,null,null,null,null,null,null,null,null,null,null,"",""]
[null,null,null,null,null,null,null,null,null,null,null,null,null,null,null,"",""]
[null,null,null,null,null,null,null,null,null,null,null,null,null,null,null,"",""]
[null,null,null,null,null,null,null,null,null,null,null,null,null,null,null,"",""]
[null,null,null,null,null,null,null,null,null,null,null,null,null,null,null,"",""]
[null,null,null,null,null,null,null,null,null,null,null,null,null,null,null,"",""]
[null,null,null,null,null,null,null,null,null,null,null,null,null,null,null,"",""]
[null,null,null,null,null,null,null,null,null,null,null,null,null,null,null,"",""]
[null,null,null,null,null,null,null,null,null,null,null,null,null,null,null,"",""]
[null,null,null,null,null,null,null,null,null,null,null,null,null,null,null,"",""]
[null,null,null,null,null,null,null,null,null,null,null,null,null,null,null,"",""]
[null,null,null,null,null,null,null,null,null,null,null,null,null,null,null,"",""]
[null,null,null,null,null,null,null,null,null,null,null,null,null,null,null,"",""]
[null,null,null,null,null,null,null,null,null,null,null,null,null,null,null,"",""]
[null,null,null,null,null,null,null,null,null,null,null,null,null,null,null,"",""]
[null,null,null,null,null,null,null,null,null,null,null,null,null,null,null,"",""]
[null,null,null,null,null,null,null,null,null,null,null,null,null,null,null,"",""]
[null,null,null,null,null,null,null,null,null,null,null,null,null,null,null,"",""]
[null,null,null,null,null,null,null,null,null,null,null,null,null,null,null,"",""]
[null,null,null,null,null,null,null,null,null,null,null,null,null,null,null,"",""]
[null,null,null,null,null,null,null,null,null,null,null,null,null,null,null,"",""]
[null,null,null,null,null,null,null,null,null,null,null,null,null,null,null,"",""]
[null,null,null,null,null,null,null,null,null,null,null,null,null,null,null,"",""]
[null,null,null,null,null,null,null,null,null,null,null,null,null,null,null,"",""]
[null,null,null,null,null,null,null,null,null,null,null,null,null,null,null,"",""]
[null,null,null,null,null,null,null,null,null,null,null,null,null,null,null,"",""]
[null,null,null,null,null,null,null,null,null,null,null,null,null,null,null,"",""]
[null,null,null,null,null,null,null,null,null,null,null,null,null,null,null,"",""]
[null,null,null,null,null,null,null,null,null,null,null,null,null,null,null,"",""]
[null,null,null,null,null,null,null,null,null,null,null,null,null,null,null,"",""]
[null,null,null,null,null,null,null,null,null,null,null,null,null,null,null,"",""]
[null,null,null,null,null,null,null,null,null,null,null,null,null,null,null,"",""]
[null,null,null,null,null,null,null,null,null,null,null,null,null,null,null,"",""]
[null,null,null,null,null,null,null,null,null,null,null,null,null,null,null,"",""]
[null,null,null,null,null,null,null,null,null,null,null,null,null,null,null,"",""]
[null,null,null,null,null,null,null,null,null,null,null,null,null,null,null,"",""]
[null,null,null,null,null,null,null,null,null,null,null,null,null,null,null,"",""]
[null,null,null,null,null,null,null,null,null,null,null,null,null,null,null,"",""]
[null,null,null,null,null,null,null,null,null,null,null,null,null,null,null,"",""]
[null,null,null,null,null,null,null,null,null,null,null,null,null,null,null,"",""]
[null,null,null,null,null,null,null,null,null,null,null,null,null,null,null,"",""]
[null,null,null,null,null,null,null,null,null,null,null,null,null,null,null,"",""]
[null,null,null,null,null,null,null,null,null,null,null,null,null,null,null,"",""]
[null,null,null,null,null,null,null,null,null,null,null,null,null,null,null,"",""]
[null,null,null,null,null,null,null,null,null,null,null,null,null,null,null,"",""]
[null,null,null,null,null,null,null,null,null,null,null,null,null,null,null,"",""]
[null,null,null,null,null,null,null,null,null,null,null,null,null,null,null,"",""]
[null,null,null,null,null,null,null,null,null,null,null,null,null,null,null,"",""]
[null,null,null,null,null,null,null,null,null,null,null,null,null,null,null,"",""]
[null,null,null,null,null,null,null,null,null,null,null,null,null,null,null,"",""]
[null,null,null,null,null,null,null,null,null,null,null,null,null,null,null,"",""]
[null,null,null,null,null,null,null,null,null,null,null,null,null,null,null,"",""]
[null,null,null,null,null,null,null,null,null,null,null,null,null,null,null,"",""]
[null,null,null,null,null,null,null,null,null,null,null,null,null,null,null,"",""]
[null,null,null,null,null,null,null,null,null,null,null,null,null,null,null,"",""]
[null,null,null,null,null,null,null,null,null,null,null,null,null,null,null,"",""]
[null,null,null,null,null,null,null,null,null,null,null,null,null,null,null,"",""]
[null,null,null,null,null,null,null,null,null,null,null,null,null,null,null,"",""]
[null,null,null,null,null,null,null,null,null,null,null,null,null,null,null,"",""]
[null,null,null,null,null,null,null,null,null,null,null,null,null,null,null,"",""]
[null,null,null,null,null,null,null,null,null,null,null,null,null,null,null,"",""]
[null,null,null,null,null,null,null,null,null,null,null,null,null,null,null,"",""]
[null,null,null,null,null,null,null,null,null,null,null,null,null,null,null,"",""]
[null,null,null,null,null,null,null,null,null,null,null,null,null,null,null,"",""]
[null,null,null,null,null,null,null,null,null,null,null,null,null,null,null,"",""]
[null,null,null,null,null,null,null,null,null,null,null,null,null,null,null,"",""]
[null,null,null,null,null,null,null,null,null,null,null,null,null,null,null,"",""]
[null,null,null,null,null,null,null,null,null,null,null,null,null,null,null,"",""]
[null,null,null,null,null,null,null,null,null,null,null,null,null,null,null,"",""]
[null,null,null,null,null,null,null,null,null,null,null,null,null,null,null,"",""]
[null,null,null,null,null,null,null,null,null,null,null,null,null,null,null,"",""]
[null,null,null,null,null,null,null,null,null,null,null,null,null,null,null,"",""]
[null,null,null,null,null,null,null,null,null,null,null,null,null,null,null,"",""]
[null,null,null,null,null,null,null,null,null,null,null,null,null,null,null,"",""]
[null,null,null,null,null,null,null,null,null,null,null,null,null,null,null,"",""]
[null,null,null,null,null,null,null,null,null,null,null,null,null,null,null,"",""]
[null,null,null,null,null,null,null,null,null,null,null,null,null,null,null,"",""]
[null,null,null,null,null,null,null,null,null,null,null,null,null,null,null,"",""]
[null,null,null,null,null,null,null,null,null,null,null,null,null,null,null,"",""]
[null,null,null,null,null,null,null,null,null,null,null,null,null,null,null,"",""]
[null,null,null,null,null,null,null,null,null,null,null,null,null,null,null,"",""]
[null,null,null,null,null,null,null,null,null,null,null,null,null,null,null,"",""]
[null,null,null,null,null,null,null,null,null,null,null,null,null,null,null,"",""]
[null,null,null,null,null,null,null,null,null,null,null,null,null,null,null,"",""]
[null,null,null,null,null,null,null,null,null,null,null,null,null,null,null,"",""]
[null,null,null,null,null,null,null,null,null,null,null,null,null,null,null,"",""]
[null,null,null,null,null,null,null,null,null,null,null,null,null,null,null,"",""]
[null,null,null,null,null,null,null,null,null,null,null,null,null,null,null,"",""]
[null,null,null,null,null,null,null,null,null,null,null,null,null,null,null,"",""]
[null,null,null,null,null,null,null,null,null,null,null,null,null,null,null,"",""]
[null,null,null,null,null,null,null,null,null,null,null,null,null,null,null,"",""]
[null,null,null,null,null,null,null,null,null,null,null,null,null,null,null,"",""]
[null,null,null,null,null,null,null,null,null,null,null,null,null,null,null,"",""]
[null,null,null,null,null,null,null,null,null,null,null,null,null,null,null,"",""]
[null,null,null,null,null,null,null,null,null,null,null,null,null,null,null,"",""]
[null,null,null,null,null,null,null,null,null,null,null,null,null,null,null,"",""]
[null,null,null,null,null,null,null,null,null,null,null,null,null,null,null,"",""]
[null,null,null,null,null,null,null,null,null,null,null,null,null,null,null,"",""]
[null,null,null,null,null,null,null,null,null,null,null,null,null,null,null,"",""]
[null,null,null,null,null,null,null,null,null,null,null,null,null,null,null,"",""]
[null,null,null,null,null,null,null,null,null,null,null,null,null,null,null,"",""]
[null,null,null,null,null,null,null,null,null,null,null,null,null,null,null,"",""]
[null,null,null,null,null,null,null,null,null,null,null,null,null,null,null,"",""]
[null,null,null,null,null,null,null,null,null,null,null,null,null,null,null,"",""]
[null,null,null,null,null,null,null,null,null,null,null,null,null,null,null,"",""]
[null,null,null,null,null,null,null,null,null,null,null,null,null,null,null,"",""]
[null,null,null,null,null,null,null,null,null,null,null,null,null,null,null,"",""]
[null,null,null,null,null,null,null,null,null,null,null,null,null,null,null,"",""]
[null,null,null,null,null,null,null,null,null,null,null,null,null,null,null,"",""]
[null,null,null,null,null,null,null,null,null,null,null,null,null,null,null,"",""]
[null,null,null,null,null,null,null,null,null,null,null,null,null,null,null,"",""]
[null,null,null,null,null,null,null,null,null,null,null,null,null,null,null,"",""]
[null,null,null,null,null,null,null,null,null,null,null,null,null,null,null,"",""]
[null,null,null,null,null,null,null,null,null,null,null,null,null,null,null,"",""]
[null,null,null,null,null,null,null,null,null,null,null,null,null,null,null,"",""]
[null,null,null,null,null,null,null,null,null,null,null,null,null,null,null,"",""]
[null,null,null,null,null,null,null,null,null,null,null,null,null,null,null,"",""]
[null,null,null,null,null,null,null,null,null,null,null,null,null,null,null,"",""]
[null,null,null,null,null,null,null,null,null,null,null,null,null,null,null,"",""]
[null,null,null,null,null,null,null,null,null,null,null,null,null,null,null,"",""]
[null,null,null,null,null,null,null,null,null,null,null,null,null,null,null,"",""]
[null,null,null,null,null,null,null,null,null,null,null,null,null,null,null,"",""]
[null,null,null,null,null,null,null,null,null,null,null,null,null,null,null,"",""]
[null,null,null,null,null,null,null,null,null,null,null,null,null,null,null,"",""]
[null,null,null,null,null,null,null,null,null,null,null,null,null,null,null,"",""]
[null,null,null,null,null,null,null,null,null,null,null,null,null,null,null,"",""]
[null,null,null,null,null,null,null,null,null,null,null,null,null,null,null,"",""]
[null,null,null,null,null,null,null,null,null,null,null,null,null,null,null,"",""]
[null,null,null,null,null,null,null,null,null,null,null,null,null,null,null,"",""]
[null,null,null,null,null,null,null,null,null,null,null,null,null,null,null,"",""]
[null,null,null,null,null,null,null,null,null,null,null,null,null,null,null,"",""]
[null,null,null,null,null,null,null,null,null,null,null,null,null,null,null,"",""]
[null,null,null,null,null,null,null,null,null,null,null,null,null,null,null,"",""]
[null,null,null,null,null,null,null,null,null,null,null,null,null,null,null,"",""]
[null,null,null,null,null,null,null,null,null,null,null,null,null,null,null,"",""]
[null,null,null,null,null,null,null,null,null,null,null,null,null,null,null,"",""]
[null,null,null,null,null,null,null,null,null,null,null,null,null,null,null,"",""]
[null,null,null,null,null,null,null,null,null,null,null,null,null,null,null,"",""]
[null,null,null,null,null,null,null,null,null,null,null,null,null,null,null,"",""]
[null,null,null,null,null,null,null,null,null,null,null,null,null,null,null,"",""]
[null,null,null,null,null,null,null,null,null,null,null,null,null,null,null,"",""]
[null,null,null,null,null,null,null,null,null,null,null,null,null,null,null,"",""]
[null,null,null,null,null,null,null,null,null,null,null,null,null,null,null,"",""]
[null,null,null,null,null,null,null,null,null,null,null,null,null,null,null,"",""]
[null,null,null,null,null,null,null,null,null,null,null,null,null,null,null,"",""]
[null,null,null,null,null,null,null,null,null,null,null,null,null,null,null,"",""]
[null,null,null,null,null,null,null,null,null,null,null,null,null,null,null,"",""]
[null,null,null,null,null,null,null,null,null,null,null,null,null,null,null,"",""]
[null,null,null,null,null,null,null,null,null,null,null,null,null,null,null,"",""]
[null,null,null,null,null,null,null,null,null,null,null,null,null,null,null,"",""]
[null,null,null,null,null,null,null,null,null,null,null,null,null,null,null,"",""]
[null,null,null,null,null,null,null,null,null,null,null,null,null,null,null,"",""]
[null,null,null,null,null,null,null,null,null,null,null,null,null,null,null,"",""]
[null,null,null,null,null,null,null,null,null,null,null,null,null,null,null,"",""]
[null,null,null,null,null,null,null,null,null,null,null,null,null,null,null,"",""]
[null,null,null,null,null,null,null,null,null,null,null,null,null,null,null,"",""]
[null,null,null,null,null,null,null,null,null,null,null,null,null,null,null,"",""]
[null,null,null,null,null,null,null,null,null,null,null,null,null,null,null,"",""]
[null,null,null,null,null,null,null,null,null,null,null,null,null,null,null,"",""]
[null,null,null,null,null,null,null,null,null,null,null,null,null,null,null,"",""]
[null,null,null,null,null,null,null,null,null,null,null,null,null,null,null,"",""]
[null,null,null,null,null,null,null,null,null,null,null,null,null,null,null,"",""]
[null,null,null,null,null,null,null,null,null,null,null,null,null,null,null,"",""]
[null,null,null,null,null,null,null,null,null,null,null,null,null,null,null,"",""]
[null,null,null,null,null,null,null,null,null,null,null,null,null,null,null,"",""]
[null,null,null,null,null,null,null,null,null,null,null,null,null,null,null,"",""]
[null,null,null,null,null,null,null,null,null,null,null,null,null,null,null,"",""]
[null,null,null,null,null,null,null,null,null,null,null,null,null,null,null,"",""]
[null,null,null,null,null,null,null,null,null,null,null,null,null,null,null,"",""]
[null,null,null,null,null,null,null,null,null,null,null,null,null,null,null,"",""]
[null,null,null,null,null,null,null,null,null,null,null,null,null,null,null,"",""]
[null,null,null,null,null,null,null,null,null,null,null,null,null,null,null,"",""]
[null,null,null,null,null,null,null,null,null,null,null,null,null,null,null,"",""]
[null,null,null,null,null,null,null,null,null,null,null,null,null,null,null,"",""]
[null,null,null,null,null,null,null,null,null,null,null,null,null,null,null,"",""]
[null,null,null,null,null,null,null,null,null,null,null,null,null,null,null,"",""]
[null,null,null,null,null,null,null,null,null,null,null,null,null,null,null,"",""]
[null,null,null,null,null,null,null,null,null,null,null,null,null,null,null,"",""]
[null,null,null,null,null,null,null,null,null,null,null,null,null,null,null,"",""]
[null,null,null,null,null,null,null,null,null,null,null,null,null,null,null,"",""]
[null,null,null,null,null,null,null,null,null,null,null,null,null,null,null,"",""]
[null,null,null,null,null,null,null,null,null,null,null,null,null,null,null,"",""]
[null,null,null,null,null,null,null,null,null,null,null,null,null,null,null,"",""]
[null,null,null,null,null,null,null,null,null,null,null,null,null,null,null,"",""]
[null,null,null,null,null,null,null,null,null,null,null,null,null,null,null,"",""]
[null,null,null,null,null,null,null,null,null,null,null,null,null,null,null,"",""]
[null,null,null,null,null,null,null,null,null,null,null,null,null,null,null,"",""]
[null,null,null,null,null,null,null,null,null,null,null,null,null,null,null,"",""]
[null,null,null,null,null,null,null,null,null,null,null,null,null,null,null,"",""]
[null,null,null,null,null,null,null,null,null,null,null,null,null,null,null,"",""]
[null,null,null,null,null,null,null,null,null,null,null,null,null,null,null,"",""]
[null,null,null,null,null,null,null,null,null,null,null,null,null,null,null,"",""]
[null,null,null,null,null,null,null,null,null,null,null,null,null,null,null,"",""]
[null,null,null,null,null,null,null,null,null,null,null,null,null,null,null,"",""]
[null,null,null,null,null,null,null,null,null,null,null,null,null,null,null,"",""]
[null,null,null,null,null,null,null,null,null,null,null,null,null,null,null,"",""]
[null,null,null,null,null,null,null,null,null,null,null,null,null,null,null,"",""]
[null,null,null,null,null,null,null,null,null,null,null,null,null,null,null,"",""]
[null,null,null,null,null,null,null,null,null,null,null,null,null,null,null,"",""]
[null,null,null,null,null,null,null,null,null,null,null,null,null,null,null,"",""]
[null,null,null,null,null,null,null,null,null,null,null,null,null,null,null,"",""]
[null,null,null,null,null,null,null,null,null,null,null,null,null,null,null,"",""]
[null,null,null,null,null,null,null,null,null,null,null,null,null,null,null,"",""]
[null,null,null,null,null,null,null,null,null,null,null,null,null,null,null,"",""]
[null,null,null,null,null,null,null,null,null,null,null,null,null,null,null,"",""]
[null,null,null,null,null,null,null,null,null,null,null,null,null,null,null,"",""]
[null,null,null,null,null,null,null,null,null,null,null,null,null,null,null,"",""]
[null,null,null,null,null,null,null,null,null,null,null,null,null,null,null,"",""]
[null,null,null,null,null,null,null,null,null,null,null,null,null,null,null,"",""]
[null,null,null,null,null,null,null,null,null,null,null,null,null,null,null,"",""]
[null,null,null,null,null,null,null,null,null,null,null,null,null,null,null,"",""]
[null,null,null,null,null,null,null,null,null,null,null,null,null,null,null,"",""]
[null,null,null,null,null,null,null,null,null,null,null,null,null,null,null,"",""]
[null,null,null,null,null,null,null,null,null,null,null,null,null,null,null,"",""]
[null,null,null,null,null,null,null,null,null,null,null,null,null,null,null,"",""]
[null,null,null,null,null,null,null,null,null,null,null,null,null,null,null,"",""]
[null,null,null,null,null,null,null,null,null,null,null,null,null,null,null,"",""]
[null,null,null,null,null,null,null,null,null,null,null,null,null,null,null,"",""]
[null,null,null,null,null,null,null,null,null,null,null,null,null,null,null,"",""]
[null,null,null,null,null,null,null,null,null,null,null,null,null,null,null,"",""]
[null,null,null,null,null,null,null,null,null,null,null,null,null,null,null,"",""]
[null,null,null,null,null,null,null,null,null,null,null,null,null,null,null,"",""]
[null,null,null,null,null,null,null,null,null,null,null,null,null,null,null,"",""]
[null,null,null,null,null,null,null,null,null,null,null,null,null,null,null,"",""]
[null,null,null,null,null,null,null,null,null,null,null,null,null,null,null,"",""]
[null,null,null,null,null,null,null,null,null,null,null,null,null,null,null,"",""]
[null,null,null,null,null,null,null,null,null,null,null,null,null,null,null,"",""]
[null,null,null,null,null,null,null,null,null,null,null,null,null,null,null,"",""]
[null,null,null,null,null,null,null,null,null,null,null,null,null,null,null,"",""]
[null,null,null,null,null,null,null,null,null,null,null,null,null,null,null,"",""]
[null,null,null,null,null,null,null,null,null,null,null,null,null,null,null,"",""]
[null,null,null,null,null,null,null,null,null,null,null,null,null,null,null,"",""]
[null,null,null,null,null,null,null,null,null,null,null,null,null,null,null,"",""]
[null,null,null,null,null,null,null,null,null,null,null,null,null,null,null,"",""]
[null,null,null,null,null,null,null,null,null,null,null,null,null,null,null,"",""]
[null,null,null,null,null,null,null,null,null,null,null,null,null,null,null,"",""]
[null,null,null,null,null,null,null,null,null,null,null,null,null,null,null,"",""]
[null,null,null,null,null,null,null,null,null,null,null,null,null,null,null,"",""]
[null,null,null,null,null,null,null,null,null,null,null,null,null,null,null,"",""]
[null,null,null,null,null,null,null,null,null,null,null,null,null,null,null,"",""]
[null,null,null,null,null,null,null,null,null,null,null,null,null,null,null,"",""]
[null,null,null,null,null,null,null,null,null,null,null,null,null,null,null,"",""]
[null,null,null,null,null,null,null,null,null,null,null,null,null,null,null,"",""]
[null,null,null,null,null,null,null,null,null,null,null,null,null,null,null,"",""]
[null,null,null,null,null,null,null,null,null,null,null,null,null,null,null,"",""]
[null,null,null,null,null,null,null,null,null,null,null,null,null,null,null,"",""]
[null,null,null,null,null,null,null,null,null,null,null,null,null,null,null,"",""]
[null,null,null,null,null,null,null,null,null,null,null,null,null,null,null,"",""]
[null,null,null,null,null,null,null,null,null,null,null,null,null,null,null,"",""]
[null,null,null,null,null,null,null,null,null,null,null,null,null,null,null,"",""]
[null,null,null,null,null,null,null,null,null,null,null,null,null,null,null,"",""]
[null,null,null,null,null,null,null,null,null,null,null,null,null,null,null,"",""]
[null,null,null,null,null,null,null,null,null,null,null,null,null,null,null,"",""]
[null,null,null,null,null,null,null,null,null,null,null,null,null,null,null,"",""]
[null,null,null,null,null,null,null,null,null,null,null,null,null,null,null,"",""]
[null,null,null,null,null,null,null,null,null,null,null,null,null,null,null,"",""]
[null,null,null,null,null,null,null,null,null,null,null,null,null,null,null,"",""]
[null,null,null,null,null,null,null,null,null,null,null,null,null,null,null,"",""]
[null,null,null,null,null,null,null,null,null,null,null,null,null,null,null,"",""]
[null,null,null,null,null,null,null,null,null,null,null,null,null,null,null,"",""]
[null,null,null,null,null,null,null,null,null,null,null,null,null,null,null,"",""]
[null,null,null,null,null,null,null,null,null,null,null,null,null,null,null,"",""]
[null,null,null,null,null,null,null,null,null,null,null,null,null,null,null,"",""]
[null,null,null,null,null,null,null,null,null,null,null,null,null,null,null,"",""]
[null,null,null,null,null,null,null,null,null,null,null,null,null,null,null,"",""]
[null,null,null,null,null,null,null,null,null,null,null,null,null,null,null,"",""]
[null,null,null,null,null,null,null,null,null,null,null,null,null,null,null,"",""]
[null,null,null,null,null,null,null,null,null,null,null,null,null,null,null,"",""]
[null,null,null,null,null,null,null,null,null,null,null,null,null,null,null,"",""]
[null,null,null,null,null,null,null,null,null,null,null,null,null,null,null,"",""]
[null,null,null,null,null,null,null,null,null,null,null,null,null,null,null,"",""]
[null,null,null,null,null,null,null,null,null,null,null,null,null,null,null,"",""]
[null,null,null,null,null,null,null,null,null,null,null,null,null,null,null,"",""]
[null,null,null,null,null,null,null,null,null,null,null,null,null,null,null,"",""]
[null,null,null,null,null,null,null,null,null,null,null,null,null,null,null,"",""]
[null,null,null,null,null,null,null,null,null,null,null,null,null,null,null,"",""]
[null,null,null,null,null,null,null,null,null,null,null,null,null,null,null,"",""]
[null,null,null,null,null,null,null,null,null,null,null,null,null,null,null,"",""]
[null,null,null,null,null,null,null,null,null,null,null,null,null,null,null,"",""]
[null,null,null,null,null,null,null,null,null,null,null,null,null,null,null,"",""]
[null,null,null,null,null,null,null,null,null,null,null,null,null,null,null,"",""]
[null,null,null,null,null,null,null,null,null,null,null,null,null,null,null,"",""]
[null,null,null,null,null,null,null,null,null,null,null,null,null,null,null,"",""]
[null,null,null,null,null,null,null,null,null,null,null,null,null,null,null,"",""]
[null,null,null,null,null,null,null,null,null,null,null,null,null,null,null,"",""]
[null,null,null,null,null,null,null,null,null,null,null,null,null,null,null,"",""]
[null,null,null,null,null,null,null,null,null,null,null,null,null,null,null,"",""]
[null,null,null,null,null,null,null,null,null,null,null,null,null,null,null,"",""]
[null,null,null,null,null,null,null,null,null,null,null,null,null,null,null,"",""]
[null,null,null,null,null,null,null,null,null,null,null,null,null,null,null,"",""]
[null,null,null,null,null,null,null,null,null,null,null,null,null,null,null,"",""]
[null,null,null,null,null,null,null,null,null,null,null,null,null,null,null,"",""]
[null,null,null,null,null,null,null,null,null,null,null,null,null,null,null,"",""]
[null,null,null,null,null,null,null,null,null,null,null,null,null,null,null,"",""]
[null,null,null,null,null,null,null,null,null,null,null,null,null,null,null,"",""]
[null,null,null,null,null,null,null,null,null,null,null,null,null,null,null,"",""]
[null,null,null,null,null,null,null,null,null,null,null,null,null,null,null,"",""]
[null,null,null,null,null,null,null,null,null,null,null,null,null,null,null,"",""]
[null,null,null,null,null,null,null,null,null,null,null,null,null,null,null,"",""]
[null,null,null,null,null,null,null,null,null,null,null,null,null,null,null,"",""]
[null,null,null,null,null,null,null,null,null,null,null,null,null,null,null,"",""]
[null,null,null,null,null,null,null,null,null,null,null,null,null,null,null,"",""]
[null,null,null,null,null,null,null,null,null,null,null,null,null,null,null,"",""]
[null,null,null,null,null,null,null,null,null,null,null,null,null,null,null,"",""]
[null,null,null,null,null,null,null,null,null,null,null,null,null,null,null,"",""]
[null,null,null,null,null,null,null,null,null,null,null,null,null,null,null,"",""]
[null,null,null,null,null,null,null,null,null,null,null,null,null,null,null,"",""]
[null,null,null,null,null,null,null,null,null,null,null,null,null,null,null,"",""]
[null,null,null,null,null,null,null,null,null,null,null,null,null,null,null,"",""]
[null,null,null,null,null,null,null,null,null,null,null,null,null,null,null,"",""]
[null,null,null,null,null,null,null,null,null,null,null,null,null,null,null,"",""]
[null,null,null,null,null,null,null,null,null,null,null,null,null,null,null,"",""]
[null,null,null,null,null,null,null,null,null,null,null,null,null,null,null,"",""]
[null,null,null,null,null,null,null,null,null,null,null,null,null,null,null,"",""]
[null,null,null,null,null,null,null,null,null,null,null,null,null,null,null,"",""]
[null,null,null,null,null,null,null,null,null,null,null,null,null,null,null,"",""]
[null,null,null,null,null,null,null,null,null,null,null,null,null,null,null,"",""]
[null,null,null,null,null,null,null,null,null,null,null,null,null,null,null,"",""]
[null,null,null,null,null,null,null,null,null,null,null,null,null,null,null,"",""]
[null,null,null,null,null,null,null,null,null,null,null,null,null,null,null,"",""]
[null,null,null,null,null,null,null,null,null,null,null,null,null,null,null,"",""]
[null,null,null,null,null,null,null,null,null,null,null,null,null,null,null,"",""]
[null,null,null,null,null,null,null,null,null,null,null,null,null,null,null,"",""]
[null,null,null,null,null,null,null,null,null,null,null,null,null,null,null,"",""]
[null,null,null,null,null,null,null,null,null,null,null,null,null,null,null,"",""]
[null,null,null,null,null,null,null,null,null,null,null,null,null,null,null,"",""]
[null,null,null,null,null,null,null,null,null,null,null,null,null,null,null,"",""]
[null,null,null,null,null,null,null,null,null,null,null,null,null,null,null,"",""]
[null,null,null,null,null,null,null,null,null,null,null,null,null,null,null,"",""]
[null,null,null,null,null,null,null,null,null,null,null,null,null,null,null,"",""]
[null,null,null,null,null,null,null,null,null,null,null,null,null,null,null,"",""]
[null,null,null,null,null,null,null,null,null,null,null,null,null,null,null,"",""]
[null,null,null,null,null,null,null,null,null,null,null,null,null,null,null,"",""]
[null,null,null,null,null,null,null,null,null,null,null,null,null,null,null,"",""]
[null,null,null,null,null,null,null,null,null,null,null,null,null,null,null,"",""]
[null,null,null,null,null,null,null,null,null,null,null,null,null,null,null,"",""]
[null,null,null,null,null,null,null,null,null,null,null,null,null,null,null,"",""]
[null,null,null,null,null,null,null,null,null,null,null,null,null,null,null,"",""]
[null,null,null,null,null,null,null,null,null,null,null,null,null,null,null,"",""]
[null,null,null,null,null,null,null,null,null,null,null,null,null,null,null,"",""]
[null,null,null,null,null,null,null,null,null,null,null,null,null,null,null,"",""]
[null,null,null,null,null,null,null,null,null,null,null,null,null,null,null,"",""]
[null,null,null,null,null,null,null,null,null,null,null,null,null,null,null,"",""]
[null,null,null,null,null,null,null,null,null,null,null,null,null,null,null,"",""]
[null,null,null,null,null,null,null,null,null,null,null,null,null,null,null,"",""]
[null,null,null,null,null,null,null,null,null,null,null,null,null,null,null,"",""]
[null,null,null,null,null,null,null,null,null,null,null,null,null,null,null,"",""]
[null,null,null,null,null,null,null,null,null,null,null,null,null,null,null,"",""]
[null,null,null,null,null,null,null,null,null,null,null,null,null,null,null,"",""]
[null,null,null,null,null,null,null,null,null,null,null,null,null,null,null,"",""]
[null,null,null,null,null,null,null,null,null,null,null,null,null,null,null,"",""]
[null,null,null,null,null,null,null,null,null,null,null,null,null,null,null,"",""]
[null,null,null,null,null,null,null,null,null,null,null,null,null,null,null,"",""]
[null,null,null,null,null,null,null,null,null,null,null,null,null,null,null,"",""]
[null,null,null,null,null,null,null,null,null,null,null,null,null,null,null,"",""]
[null,null,null,null,null,null,null,null,null,null,null,null,null,null,null,"",""]
[null,null,null,null,null,null,null,null,null,null,null,null,null,null,null,"",""]
[null,null,null,null,null,null,null,null,null,null,null,null,null,null,null,"",""]
[null,null,null,null,null,null,null,null,null,null,null,null,null,null,null,"",""]
[null,null,null,null,null,null,null,null,null,null,null,null,null,null,null,"",""]
[null,null,null,null,null,null,null,null,null,null,null,null,null,null,null,"",""]
[null,null,null,null,null,null,null,null,null,null,null,null,null,null,null,"",""]
[null,null,null,null,null,null,null,null,null,null,null,null,null,null,null,"",""]
[null,null,null,null,null,null,null,null,null,null,null,null,null,null,null,"",""]
[null,null,null,null,null,null,null,null,null,null,null,null,null,null,null,"",""]
[null,null,null,null,null,null,null,null,null,null,null,null,null,null,null,"",""]
[null,null,null,null,null,null,null,null,null,null,null,null,null,null,null,"",""]
[null,null,null,null,null,null,null,null,null,null,null,null,null,null,null,"",""]
[null,null,null,null,null,null,null,null,null,null,null,null,null,null,null,"",""]
[null,null,null,null,null,null,null,null,null,null,null,null,null,null,null,"",""]
[null,null,null,null,null,null,null,null,null,null,null,null,null,null,null,"",""]
[null,null,null,null,null,null,null,null,null,null,null,null,null,null,null,"",""]
[null,null,null,null,null,null,null,null,null,null,null,null,null,null,null,"",""]
[null,null,null,null,null,null,null,null,null,null,null,null,null,null,null,"",""]
[null,null,null,null,null,null,null,null,null,null,null,null,null,null,null,"",""]
[null,null,null,null,null,null,null,null,null,null,null,null,null,null,null,"",""]
[null,null,null,null,null,null,null,null,null,null,null,null,null,null,null,"",""]
[null,null,null,null,null,null,null,null,null,null,null,null,null,null,null,"",""]
[null,null,null,null,null,null,null,null,null,null,null,null,null,null,null,"",""]
[null,null,null,null,null,null,null,null,null,null,null,null,null,null,null,"",""]
[null,null,null,null,null,null,null,null,null,null,null,null,null,null,null,"",""]
[null,null,null,null,null,null,null,null,null,null,null,null,null,null,null,"",""]
[null,null,null,null,null,null,null,null,null,null,null,null,null,null,null,"",""]
[null,null,null,null,null,null,null,null,null,null,null,null,null,null,null,"",""]
[null,null,null,null,null,null,null,null,null,null,null,null,null,null,null,"",""]
[null,null,null,null,null,null,null,null,null,null,null,null,null,null,null,"",""]
[null,null,null,null,null,null,null,null,null,null,null,null,null,null,null,"",""]
[null,null,null,null,null,null,null,null,null,null,null,null,null,null,null,"",""]
[null,null,null,null,null,null,null,null,null,null,null,null,null,null,null,"",""]
[null,null,null,null,null,null,null,null,null,null,null,null,null,null,null,"",""]
[null,null,null,null,null,null,null,null,null,null,null,null,null,null,null,"",""]
[null,null,null,null,null,null,null,null,null,null,null,null,null,null,null,"",""]
[null,null,null,null,null,null,null,null,null,null,null,null,null,null,null,"",""]
[null,null,null,null,null,null,null,null,null,null,null,null,null,null,null,"",""]
[null,null,null,null,null,null,null,null,null,null,null,null,null,null,null,"",""]
[null,null,null,null,null,null,null,null,null,null,null,null,null,null,null,"",""]
[null,null,null,null,null,null,null,null,null,null,null,null,null,null,null,"",""]
[null,null,null,null,null,null,null,null,null,null,null,null,null,null,null,"",""]
[null,null,null,null,null,null,null,null,null,null,null,null,null,null,null,"",""]
[null,null,null,null,null,null,null,null,null,null,null,null,null,null,null,"",""]
[null,null,null,null,null,null,null,null,null,null,null,null,null,null,null,"",""]
[null,null,null,null,null,null,null,null,null,null,null,null,null,null,null,"",""]
[null,null,null,null,null,null,null,null,null,null,null,null,null,null,null,"",""]
[null,null,null,null,null,null,null,null,null,null,null,null,null,null,null,"",""]
[null,null,null,null,null,null,null,null,null,null,null,null,null,null,null,"",""]
[null,null,null,null,null,null,null,null,null,null,null,null,null,null,null,"",""]
[null,null,null,null,null,null,null,null,null,null,null,null,null,null,null,"",""]
[null,null,null,null,null,null,null,null,null,null,null,null,null,null,null,"",""]
[null,null,null,null,null,null,null,null,null,null,null,null,null,null,null,"",""]
[null,null,null,null,null,null,null,null,null,null,null,null,null,null,null,"",""]
[null,null,null,null,null,null,null,null,null,null,null,null,null,null,null,"",""]
[null,null,null,null,null,null,null,null,null,null,null,null,null,null,null,"",""]
[null,null,null,null,null,null,null,null,null,null,null,null,null,null,null,"",""]
[null,null,null,null,null,null,null,null,null,null,null,null,null,null,null,"",""]
[null,null,null,null,null,null,null,null,null,null,null,null,null,null,null,"",""]
[null,null,null,null,null,null,null,null,null,null,null,null,null,null,null,"",""]
[null,null,null,null,null,null,null,null,null,null,null,null,null,null,null,"",""]
[null,null,null,null,null,null,null,null,null,null,null,null,null,null,null,"",""]
[null,null,null,null,null,null,null,null,null,null,null,null,null,null,null,"",""]
[null,null,null,null,null,null,null,null,null,null,null,null,null,null,null,"",""]
[null,null,null,null,null,null,null,null,null,null,null,null,null,null,null,"",""]
[null,null,null,null,null,null,null,null,null,null,null,null,null,null,null,"",""]
[null,null,null,null,null,null,null,null,null,null,null,null,null,null,null,"",""]
[null,null,null,null,null,null,null,null,null,null,null,null,null,null,null,"",""]
[null,null,null,null,null,null,null,null,null,null,null,null,null,null,null,"",""]
[null,null,null,null,null,null,null,null,null,null,null,null,null,null,null,"",""]
[null,null,null,null,null,null,null,null,null,null,null,null,null,null,null,"",""]
[null,null,null,null,null,null,null,null,null,null,null,null,null,null,null,"",""]
[null,null,null,null,null,null,null,null,null,null,null,null,null,null,null,"",""]
[null,null,null,null,null,null,null,null,null,null,null,null,null,null,null,"",""]
[null,null,null,null,null,null,null,null,null,null,null,null,null,null,null,"",""]
[null,null,null,null,null,null,null,null,null,null,null,null,null,null,null,"",""]
[null,null,null,null,null,null,null,null,null,null,null,null,null,null,null,"",""]
[null,null,null,null,null,null,null,null,null,null,null,null,null,null,null,"",""]
[null,null,null,null,null,null,null,null,null,null,null,null,null,null,null,"",""]
[null,null,null,null,null,null,null,null,null,null,null,null,null,null,null,"",""]
[null,null,null,null,null,null,null,null,null,null,null,null,null,null,null,"",""]
[null,null,null,null,null,null,null,null,null,null,null,null,null,null,null,"",""]
[null,null,null,null,null,null,null,null,null,null,null,null,null,null,null,"",""]
[null,null,null,null,null,null,null,null,null,null,null,null,null,null,null,"",""]
[null,null,null,null,null,null,null,null,null,null,null,null,null,null,null,"",""]
[null,null,null,null,null,null,null,null,null,null,null,null,null,null,null,"",""]
[null,null,null,null,null,null,null,null,null,null,null,null,null,null,null,"",""]
[null,null,null,null,null,null,null,null,null,null,null,null,null,null,null,"",""]
[null,null,null,null,null,null,null,null,null,null,null,null,null,null,null,"",""]
[null,null,null,null,null,null,null,null,null,null,null,null,null,null,null,"",""]
[null,null,null,null,null,null,null,null,null,null,null,null,null,null,null,"",""]
[null,null,null,null,null,null,null,null,null,null,null,null,null,null,null,"",""]
[null,null,null,null,null,null,null,null,null,null,null,null,null,null,null,"",""]
[null,null,null,null,null,null,null,null,null,null,null,null,null,null,null,"",""]
[null,null,null,null,null,null,null,null,null,null,null,null,null,null,null,"",""]
[null,null,null,null,null,null,null,null,null,null,null,null,null,null,null,"",""]
[null,null,null,null,null,null,null,null,null,null,null,null,null,null,null,"",""]
[null,null,null,null,null,null,null,null,null,null,null,null,null,null,null,"",""]
[null,null,null,null,null,null,null,null,null,null,null,null,null,null,null,"",""]
[null,null,null,null,null,null,null,null,null,null,null,null,null,null,null,"",""]
[null,null,null,null,null,null,null,null,null,null,null,null,null,null,null,"",""]
[null,null,null,null,null,null,null,null,null,null,null,null,null,null,null,"",""]
[null,null,null,null,null,null,null,null,null,null,null,null,null,null,null,"",""]
[null,null,null,null,null,null,null,null,null,null,null,null,null,null,null,"",""]
[null,null,null,null,null,null,null,null,null,null,null,null,null,null,null,"",""]
[null,null,null,null,null,null,null,null,null,null,null,null,null,null,null,"",""]
[null,null,null,null,null,null,null,null,null,null,null,null,null,null,null,"",""]
[null,null,null,null,null,null,null,null,null,null,null,null,null,null,null,"",""]
[null,null,null,null,null,null,null,null,null,null,null,null,null,null,null,"",""]
[null,null,null,null,null,null,null,null,null,null,null,null,null,null,null,"",""]
[null,null,null,null,null,null,null,null,null,null,null,null,null,null,null,"",""]
[null,null,null,null,null,null,null,null,null,null,null,null,null,null,null,"",""]
[null,null,null,null,null,null,null,null,null,null,null,null,null,null,null,"",""]
[null,null,null,null,null,null,null,null,null,null,null,null,null,null,null,"",""]
[null,null,null,null,null,null,null,null,null,null,null,null,null,null,null,"",""]
[null,null,null,null,null,null,null,null,null,null,null,null,null,null,null,"",""]
[null,null,null,null,null,null,null,null,null,null,null,null,null,null,null,"",""]
[null,null,null,null,null,null,null,null,null,null,null,null,null,null,null,"",""]
[null,null,null,null,null,null,null,null,null,null,null,null,null,null,null,"",""]
[null,null,null,null,null,null,null,null,null,null,null,null,null,null,null,"",""]
[null,null,null,null,null,null,null,null,null,null,null,null,null,null,null,"",""]
[null,null,null,null,null,null,null,null,null,null,null,null,null,null,null,"",""]
[null,null,null,null,null,null,null,null,null,null,null,null,null,null,null,"",""]
[null,null,null,null,null,null,null,null,null,null,null,null,null,null,null,"",""]
[null,null,null,null,null,null,null,null,null,null,null,null,null,null,null,"",""]
[null,null,null,null,null,null,null,null,null,null,null,null,null,null,null,"",""]
[null,null,null,null,null,null,null,null,null,null,null,null,null,null,null,"",""]
[null,null,null,null,null,null,null,null,null,null,null,null,null,null,null,"",""]
[null,null,null,null,null,null,null,null,null,null,null,null,null,null,null,"",""]
[null,null,null,null,null,null,null,null,null,null,null,null,null,null,null,"",""]
[null,null,null,null,null,null,null,null,null,null,null,null,null,null,null,"",""]
[null,null,null,null,null,null,null,null,null,null,null,null,null,null,null,"",""]
[null,null,null,null,null,null,null,null,null,null,null,null,null,null,null,"",""]
[null,null,null,null,null,null,null,null,null,null,null,null,null,null,null,"",""]
[null,null,null,null,null,null,null,null,null,null,null,null,null,null,null,"",""]
[null,null,null,null,null,null,null,null,null,null,null,null,null,null,null,"",""]
[null,null,null,null,null,null,null,null,null,null,null,null,null,null,null,"",""]
[null,null,null,null,null,null,null,null,null,null,null,null,null,null,null,"",""]
[null,null,null,null,null,null,null,null,null,null,null,null,null,null,null,"",""]
[null,null,null,null,null,null,null,null,null,null,null,null,null,null,null,"",""]
[null,null,null,null,null,null,null,null,null,null,null,null,null,null,null,"",""]
[null,null,null,null,null,null,null,null,null,null,null,null,null,null,null,"",""]
[null,null,null,null,null,null,null,null,null,null,null,null,null,null,null,"",""]
[null,null,null,null,null,null,null,null,null,null,null,null,null,null,null,"",""]
[null,null,null,null,null,null,null,null,null,null,null,null,null,null,null,"",""]
[null,null,null,null,null,null,null,null,null,null,null,null,null,null,null,"",""]
[null,null,null,null,null,null,null,null,null,null,null,null,null,null,null,"",""]
[null,null,null,null,null,null,null,null,null,null,null,null,null,null,null,"",""]
[null,null,null,null,null,null,null,null,null,null,null,null,null,null,null,"",""]
[null,null,null,null,null,null,null,null,null,null,null,null,null,null,null,"",""]
[null,null,null,null,null,null,null,null,null,null,null,null,null,null,null,"",""]
[null,null,null,null,null,null,null,null,null,null,null,null,null,null,null,"",""]
[null,null,null,null,null,null,null,null,null,null,null,null,null,null,null,"",""]
[null,null,null,null,null,null,null,null,null,null,null,null,null,null,null,"",""]
[null,null,null,null,null,null,null,null,null,null,null,null,null,null,null,"",""]
[null,null,null,null,null,null,null,null,null,null,null,null,null,null,null,"",""]
[null,null,null,null,null,null,null,null,null,null,null,null,null,null,null,"",""]
[null,null,null,null,null,null,null,null,null,null,null,null,null,null,null,"",""]
[null,null,null,null,null,null,null,null,null,null,null,null,null,null,null,"",""]
[null,null,null,null,null,null,null,null,null,null,null,null,null,null,null,"",""]
[null,null,null,null,null,null,null,null,null,null,null,null,null,null,null,"",""]
[null,null,null,null,null,null,null,null,null,null,null,null,null,null,null,"",""]
[null,null,null,null,null,null,null,null,null,null,null,null,null,null,null,"",""]
[null,null,null,null,null,null,null,null,null,null,null,null,null,null,null,"",""]
[null,null,null,null,null,null,null,null,null,null,null,null,null,null,null,"",""]
[null,null,null,null,null,null,null,null,null,null,null,null,null,null,null,"",""]
[null,null,null,null,null,null,null,null,null,null,null,null,null,null,null,"",""]
[null,null,null,null,null,null,null,null,null,null,null,null,null,null,null,"",""]
[null,null,null,null,null,null,null,null,null,null,null,null,null,null,null,"",""]
[null,null,null,null,null,null,null,null,null,null,null,null,null,null,null,"",""]
[null,null,null,null,null,null,null,null,null,null,null,null,null,null,null,"",""]
[null,null,null,null,null,null,null,null,null,null,null,null,null,null,null,"",""]
[null,null,null,null,null,null,null,null,null,null,null,null,null,null,null,"",""]
[null,null,null,null,null,null,null,null,null,null,null,null,null,null,null,"",""]
[null,null,null,null,null,null,null,null,null,null,null,null,null,null,null,"",""]
[null,null,null,null,null,null,null,null,null,null,null,null,null,null,null,"",""]
[null,null,null,null,null,null,null,null,null,null,null,null,null,null,null,"",""]
[null,null,null,null,null,null,null,null,null,null,null,null,null,null,null,"",""]
[null,null,null,null,null,null,null,null,null,null,null,null,null,null,null,"",""]
[null,null,null,null,null,null,null,null,null,null,null,null,null,null,null,"",""]
[null,null,null,null,null,null,null,null,null,null,null,null,null,null,null,"",""]
[null,null,null,null,null,null,null,null,null,null,null,null,null,null,null,"",""]
[null,null,null,null,null,null,null,null,null,null,null,null,null,null,null,"",""]
[null,null,null,null,null,null,null,null,null,null,null,null,null,null,null,"",""]
[null,null,null,null,null,null,null,null,null,null,null,null,null,null,null,"",""]
[null,null,null,null,null,null,null,null,null,null,null,null,null,null,null,"",""]
[null,null,null,null,null,null,null,null,null,null,null,null,null,null,null,"",""]
[null,null,null,null,null,null,null,null,null,null,null,null,null,null,null,"",""]
[null,null,null,null,null,null,null,null,null,null,null,null,null,null,null,"",""]
[null,null,null,null,null,null,null,null,null,null,null,null,null,null,null,"",""]
[null,null,null,null,null,null,null,null,null,null,null,null,null,null,null,"",""]
[null,null,null,null,null,null,null,null,null,null,null,null,null,null,null,"",""]
[null,null,null,null,null,null,null,null,null,null,null,null,null,null,null,"",""]
[null,null,null,null,null,null,null,null,null,null,null,null,null,null,null,"",""]
[null,null,null,null,null,null,null,null,null,null,null,null,null,null,null,"",""]
[null,null,null,null,null,null,null,null,null,null,null,null,null,null,null,"",""]
[null,null,null,null,null,null,null,null,null,null,null,null,null,null,null,"",""]
[null,null,null,null,null,null,null,null,null,null,null,null,null,null,null,"",""]
[null,null,null,null,null,null,null,null,null,null,null,null,null,null,null,"",""]
[null,null,null,null,null,null,null,null,null,null,null,null,null,null,null,"",""]
[null,null,null,null,null,null,null,null,null,null,null,null,null,null,null,"",""]
[null,null,null,null,null,null,null,null,null,null,null,null,null,null,null,"",""]
[null,null,null,null,null,null,null,null,null,null,null,null,null,null,null,"",""]
[null,null,null,null,null,null,null,null,null,null,null,null,null,null,null,"",""]
[null,null,null,null,null,null,null,null,null,null,null,null,null,null,null,"",""]
[null,null,null,null,null,null,null,null,null,null,null,null,null,null,null,"",""]
[null,null,null,null,null,null,null,null,null,null,null,null,null,null,null,"",""]
[null,null,null,null,null,null,null,null,null,null,null,null,null,null,null,"",""]
[null,null,null,null,null,null,null,null,null,null,null,null,null,null,null,"",""]
[null,null,null,null,null,null,null,null,null,null,null,null,null,null,null,"",""]
[null,null,null,null,null,null,null,null,null,null,null,null,null,null,null,"",""]
[null,null,null,null,null,null,null,null,null,null,null,null,null,null,null,"",""]
[null,null,null,null,null,null,null,null,null,null,null,null,null,null,null,"",""]
[null,null,null,null,null,null,null,null,null,null,null,null,null,null,null,"",""]
[null,null,null,null,null,null,null,null,null,null,null,null,null,null,null,"",""]
[null,null,null,null,null,null,null,null,null,null,null,null,null,null,null,"",""]
[null,null,null,null,null,null,null,null,null,null,null,null,null,null,null,"",""]
[null,null,null,null,null,null,null,null,null,null,null,null,null,null,null,"",""]
[null,null,null,null,null,null,null,null,null,null,null,null,null,null,null,"",""]
[null,null,null,null,null,null,null,null,null,null,null,null,null,null,null,"",""]
[null,null,null,null,null,null,null,null,null,null,null,null,null,null,null,"",""]
[null,null,null,null,null,null,null,null,null,null,null,null,null,null,null,"",""]
[null,null,null,null,null,null,null,null,null,null,null,null,null,null,null,"",""]
[null,null,null,null,null,null,null,null,null,null,null,null,null,null,null,"",""]
[null,null,null,null,null,null,null,null,null,null,null,null,null,null,null,"",""]
[null,null,null,null,null,null,null,null,null,null,null,null,null,null,null,"",""]
[null,null,null,null,null,null,null,null,null,null,null,null,null,null,null,"",""]
[null,null,null,null,null,null,null,null,null,null,null,null,null,null,null,"",""]
[null,null,null,null,null,null,null,null,null,null,null,null,null,null,null,"",""]
[null,null,null,null,null,null,null,null,null,null,null,null,null,null,null,"",""]
[null,null,null,null,null,null,null,null,null,null,null,null,null,null,null,"",""]
[null,null,null,null,null,null,null,null,null,null,null,null,null,null,null,"",""]
[null,null,null,null,null,null,null,null,null,null,null,null,null,null,null,"",""]
[null,null,null,null,null,null,null,null,null,null,null,null,null,null,null,"",""]
[null,null,null,null,null,null,null,null,null,null,null,null,null,null,null,"",""]
[null,null,null,null,null,null,null,null,null,null,null,null,null,null,null,"",""]
[null,null,null,null,null,null,null,null,null,null,null,null,null,null,null,"",""]
[null,null,null,null,null,null,null,null,null,null,null,null,null,null,null,"",""]
[null,null,null,null,null,null,null,null,null,null,null,null,null,null,null,"",""]
[null,null,null,null,null,null,null,null,null,null,null,null,null,null,null,"",""]
[null,null,null,null,null,null,null,null,null,null,null,null,null,null,null,"",""]
[null,null,null,null,null,null,null,null,null,null,null,null,null,null,null,"",""]
[null,null,null,null,null,null,null,null,null,null,null,null,null,null,null,"",""]
[null,null,null,null,null,null,null,null,null,null,null,null,null,null,null,"",""]
[null,null,null,null,null,null,null,null,null,null,null,null,null,null,null,"",""]
[null,null,null,null,null,null,null,null,null,null,null,null,null,null,null,"",""]
[null,null,null,null,null,null,null,null,null,null,null,null,null,null,null,"",""]
[null,null,null,null,null,null,null,null,null,null,null,null,null,null,null,"",""]
[null,null,null,null,null,null,null,null,null,null,null,null,null,null,null,"",""]
[null,null,null,null,null,null,null,null,null,null,null,null,null,null,null,"",""]
[null,null,null,null,null,null,null,null,null,null,null,null,null,null,null,"",""]
[null,null,null,null,null,null,null,null,null,null,null,null,null,null,null,"",""]
[null,null,null,null,null,null,null,null,null,null,null,null,null,null,null,"",""]
[null,null,null,null,null,null,null,null,null,null,null,null,null,null,null,"",""]
[null,null,null,null,null,null,null,null,null,null,null,null,null,null,null,"",""]
[null,null,null,null,null,null,null,null,null,null,null,null,null,null,null,"",""]
[null,null,null,null,null,null,null,null,null,null,null,null,null,null,null,"",""]
[null,null,null,null,null,null,null,null,null,null,null,null,null,null,null,"",""]
[null,null,null,null,null,null,null,null,null,null,null,null,null,null,null,"",""]
[null,null,null,null,null,null,null,null,null,null,null,null,null,null,null,"",""]
[null,null,null,null,null,null,null,null,null,null,null,null,null,null,null,"",""]
[null,null,null,null,null,null,null,null,null,null,null,null,null,null,null,"",""]
[null,null,null,null,null,null,null,null,null,null,null,null,null,null,null,"",""]
[null,null,null,null,null,null,null,null,null,null,null,null,null,null,null,"",""]
[null,null,null,null,null,null,null,null,null,null,null,null,null,null,null,"",""]
[null,null,null,null,null,null,null,null,null,null,null,null,null,null,null,"",""]
[null,null,null,null,null,null,null,null,null,null,null,null,null,null,null,"",""]
[null,null,null,null,null,null,null,null,null,null,null,null,null,null,null,"",""]
[null,null,null,null,null,null,null,null,null,null,null,null,null,null,null,"",""]
[null,null,null,null,null,null,null,null,null,null,null,null,null,null,null,"",""]
[null,null,null,null,null,null,null,null,null,null,null,null,null,null,null,"",""]
[null,null,null,null,null,null,null,null,null,null,null,null,null,null,null,"",""]
[null,null,null,null,null,null,null,null,null,null,null,null,null,null,null,"",""]
[null,null,null,null,null,null,null,null,null,null,null,null,null,null,null,"",""]
[null,null,null,null,null,null,null,null,null,null,null,null,null,null,null,"",""]
[null,null,null,null,null,null,null,null,null,null,null,null,null,null,null,"",""]
[null,null,null,null,null,null,null,null,null,null,null,null,null,null,null,"",""]
[null,null,null,null,null,null,null,null,null,null,null,null,null,null,null,"",""]
[null,null,null,null,null,null,null,null,null,null,null,null,null,null,null,"",""]
[null,null,null,null,null,null,null,null,null,null,null,null,null,null,null,"",""]
[null,null,null,null,null,null,null,null,null,null,null,null,null,null,null,"",""]
[null,null,null,null,null,null,null,null,null,null,null,null,null,null,null,"",""]
[null,null,null,null,null,null,null,null,null,null,null,null,null,null,null,"",""]
[null,null,null,null,null,null,null,null,null,null,null,null,null,null,null,"",""]
[null,null,null,null,null,null,null,null,null,null,null,null,null,null,null,"",""]
[null,null,null,null,null,null,null,null,null,null,null,null,null,null,null,"",""]
[null,null,null,null,null,null,null,null,null,null,null,null,null,null,null,"",""]
[null,null,null,null,null,null,null,null,null,null,null,null,null,null,null,"",""]
[null,null,null,null,null,null,null,null,null,null,null,null,null,null,null,"",""]
[null,null,null,null,null,null,null,null,null,null,null,null,null,null,null,"",""]
[null,null,null,null,null,null,null,null,null,null,null,null,null,null,null,"",""]
[null,null,null,null,null,null,null,null,null,null,null,null,null,null,null,"",""]
[null,null,null,null,null,null,null,null,null,null,null,null,null,null,null,"",""]
[null,null,null,null,null,null,null,null,null,null,null,null,null,null,null,"",""]
[null,null,null,null,null,null,null,null,null,null,null,null,null,null,null,"",""]
[null,null,null,null,null,null,null,null,null,null,null,null,null,null,null,"",""]
[null,null,null,null,null,null,null,null,null,null,null,null,null,null,null,"",""]
[null,null,null,null,null,null,null,null,null,null,null,null,null,null,null,"",""]
[null,null,null,null,null,null,null,null,null,null,null,null,null,null,null,"",""]
[null,null,null,null,null,null,null,null,null,null,null,null,null,null,null,"",""]
[null,null,null,null,null,null,null,null,null,null,null,null,null,null,null,"",""]
[null,null,null,null,null,null,null,null,null,null,null,null,null,null,null,"",""]
[null,null,null,null,null,null,null,null,null,null,null,null,null,null,null,"",""]
[null,null,null,null,null,null,null,null,null,null,null,null,null,null,null,"",""]
[null,null,null,null,null,null,null,null,null,null,null,null,null,null,null,"",""]
[null,null,null,null,null,null,null,null,null,null,null,null,null,null,null,"",""]
[null,null,null,null,null,null,null,null,null,null,null,null,null,null,null,"",""]
[null,null,null,null,null,null,null,null,null,null,null,null,null,null,null,"",""]
[null,null,null,null,null,null,null,null,null,null,null,null,null,null,null,"",""]
[null,null,null,null,null,null,null,null,null,null,null,null,null,null,null,"",""]
[null,null,null,null,null,null,null,null,null,null,null,null,null,null,null,"",""]
[null,null,null,null,null,null,null,null,null,null,null,null,null,null,null,"",""]
[null,null,null,null,null,null,null,null,null,null,null,null,null,null,null,"",""]
[null,null,null,null,null,null,null,null,null,null,null,null,null,null,null,"",""]
[null,null,null,null,null,null,null,null,null,null,null,null,null,null,null,"",""]
[null,null,null,null,null,null,null,null,null,null,null,null,null,null,null,"",""]
[null,null,null,null,null,null,null,null,null,null,null,null,null,null,null,"",""]
[null,null,null,null,null,null,null,null,null,null,null,null,null,null,null,"",""]
[null,null,null,null,null,null,null,null,null,null,null,null,null,null,null,"",""]
[null,null,null,null,null,null,null,null,null,null,null,null,null,null,null,"",""]
[null,null,null,null,null,null,null,null,null,null,null,null,null,null,null,"",""]
[null,null,null,null,null,null,null,null,null,null,null,null,null,null,null,"",""]
[null,null,null,null,null,null,null,null,null,null,null,null,null,null,null,"",""]
[null,null,null,null,null,null,null,null,null,null,null,null,null,null,null,"",""]
[null,null,null,null,null,null,null,null,null,null,null,null,null,null,null,"",""]
[null,null,null,null,null,null,null,null,null,null,null,null,null,null,null,"",""]
[null,null,null,null,null,null,null,null,null,null,null,null,null,null,null,"",""]
[null,null,null,null,null,null,null,null,null,null,null,null,null,null,null,"",""]
[null,null,null,null,null,null,null,null,null,null,null,null,null,null,null,"",""]
[null,null,null,null,null,null,null,null,null,null,null,null,null,null,null,"",""]
[null,null,null,null,null,null,null,null,null,null,null,null,null,null,null,"",""]
[null,null,null,null,null,null,null,null,null,null,null,null,null,null,null,"",""]
[null,null,null,null,null,null,null,null,null,null,null,null,null,null,null,"",""]
[null,null,null,null,null,null,null,null,null,null,null,null,null,null,null,"",""]
[null,null,null,null,null,null,null,null,null,null,null,null,null,null,null,"",""]
[null,null,null,null,null,null,null,null,null,null,null,null,null,null,null,"",""]
[null,null,null,null,null,null,null,null,null,null,null,null,null,null,null,"",""]
[null,null,null,null,null,null,null,null,null,null,null,null,null,null,null,"",""]
[null,null,null,null,null,null,null,null,null,null,null,null,null,null,null,"",""]
[null,null,null,null,null,null,null,null,null,null,null,null,null,null,null,"",""]
[null,null,null,null,null,null,null,null,null,null,null,null,null,null,null,"",""]
[null,null,null,null,null,null,null,null,null,null,null,null,null,null,null,"",""]
[null,null,null,null,null,null,null,null,null,null,null,null,null,null,null,"",""]
[null,null,null,null,null,null,null,null,null,null,null,null,null,null,null,"",""]
[null,null,null,null,null,null,null,null,null,null,null,null,null,null,null,"",""]
[null,null,null,null,null,null,null,null,null,null,null,null,null,null,null,"",""]
[null,null,null,null,null,null,null,null,null,null,null,null,null,null,null,"",""]
[null,null,null,null,null,null,null,null,null,null,null,null,null,null,null,"",""]
[null,null,null,null,null,null,null,null,null,null,null,null,null,null,null,"",""]
[null,null,null,null,null,null,null,null,null,null,null,null,null,null,null,"",""]
[null,null,null,null,null,null,null,null,null,null,null,null,null,null,null,"",""]
[null,null,null,null,null,null,null,null,null,null,null,null,null,null,null,"",""]
[null,null,null,null,null,null,null,null,null,null,null,null,null,null,null,"",""]
[null,null,null,null,null,null,null,null,null,null,null,null,null,null,null,"",""]
[null,null,null,null,null,null,null,null,null,null,null,null,null,null,null,"",""]
[null,null,null,null,null,null,null,null,null,null,null,null,null,null,null,"",""]
[null,null,null,null,null,null,null,null,null,null,null,null,null,null,null,"",""]
[null,null,null,null,null,null,null,null,null,null,null,null,null,null,null,"",""]
[null,null,null,null,null,null,null,null,null,null,null,null,null,null,null,"",""]
[null,null,null,null,null,null,null,null,null,null,null,null,null,null,null,"",""]
[null,null,null,null,null,null,null,null,null,null,null,null,null,null,null,"",""]
[null,null,null,null,null,null,null,null,null,null,null,null,null,null,null,"",""]
[null,null,null,null,null,null,null,null,null,null,null,null,null,null,null,"",""]
[null,null,null,null,null,null,null,null,null,null,null,null,null,null,null,"",""]
[null,null,null,null,null,null,null,null,null,null,null,null,null,null,null,"",""]
[null,null,null,null,null,null,null,null,null,null,null,null,null,null,null,"",""]
[null,null,null,null,null,null,null,null,null,null,null,null,null,null,null,"",""]
[null,null,null,null,null,null,null,null,null,null,null,null,null,null,null,"",""]
[null,null,null,null,null,null,null,null,null,null,null,null,null,null,null,"",""]
[null,null,null,null,null,null,null,null,null,null,null,null,null,null,null,"",""]
[null,null,null,null,null,null,null,null,null,null,null,null,null,null,null,"",""]
[null,null,null,null,null,null,null,null,null,null,null,null,null,null,null,"",""]
[null,null,null,null,null,null,null,null,null,null,null,null,null,null,null,"",""]
[null,null,null,null,null,null,null,null,null,null,null,null,null,null,null,"",""]
[null,null,null,null,null,null,null,null,null,null,null,null,null,null,null,"",""]
[null,null,null,null,null,null,null,null,null,null,null,null,null,null,null,"",""]
[null,null,null,null,null,null,null,null,null,null,null,null,null,null,null,"",""]
[null,null,null,null,null,null,null,null,null,null,null,null,null,null,null,"",""]
[null,null,null,null,null,null,null,null,null,null,null,null,null,null,null,"",""]
[null,null,null,null,null,null,null,null,null,null,null,null,null,null,null,"",""]
[null,null,null,null,null,null,null,null,null,null,null,null,null,null,null,"",""]
[null,null,null,null,null,null,null,null,null,null,null,null,null,null,null,"",""]
[null,null,null,null,null,null,null,null,null,null,null,null,null,null,null,"",""]
[null,null,null,null,null,null,null,null,null,null,null,null,null,null,null,"",""]
[null,null,null,null,null,null,null,null,null,null,null,null,null,null,null,"",""]
[null,null,null,null,null,null,null,null,null,null,null,null,null,null,null,"",""]
[null,null,null,null,null,null,null,null,null,null,null,null,null,null,null,"",""]
[null,null,null,null,null,null,null,null,null,null,null,null,null,null,null,"",""]
[null,null,null,null,null,null,null,null,null,null,null,null,null,null,null,"",""]
[null,null,null,null,null,null,null,null,null,null,null,null,null,null,null,"",""]
[null,null,null,null,null,null,null,null,null,null,null,null,null,null,null,"",""]
[null,null,null,null,null,null,null,null,null,null,null,null,null,null,null,"",""]
[null,null,null,null,null,null,null,null,null,null,null,null,null,null,null,"",""]
[null,null,null,null,null,null,null,null,null,null,null,null,null,null,null,"",""]
[null,null,null,null,null,null,null,null,null,null,null,null,null,null,null,"",""]
[null,null,null,null,null,null,null,null,null,null,null,null,null,null,null,"",""]
[null,null,null,null,null,null,null,null,null,null,null,null,null,null,null,"",""]
[null,null,null,null,null,null,null,null,null,null,null,null,null,null,null,"",""]
[null,null,null,null,null,null,null,null,null,null,null,null,null,null,null,"",""]
[null,null,null,null,null,null,null,null,null,null,null,null,null,null,null,"",""]
[null,null,null,null,null,null,null,null,null,null,null,null,null,null,null,"",""]
[null,null,null,null,null,null,null,null,null,null,null,null,null,null,null,"",""]
[null,null,null,null,null,null,null,null,null,null,null,null,null,null,null,"",""]
[null,null,null,null,null,null,null,null,null,null,null,null,null,null,null,"",""]
[null,null,null,null,null,null,null,null,null,null,null,null,null,null,null,"",""]
[null,null,null,null,null,null,null,null,null,null,null,null,null,null,null,"",""]
[null,null,null,null,null,null,null,null,null,null,null,null,null,null,null,"",""]
[null,null,null,null,null,null,null,null,null,null,null,null,null,null,null,"",""]
[null,null,null,null,null,null,null,null,null,null,null,null,null,null,null,"",""]
[null,null,null,null,null,null,null,null,null,null,null,null,null,null,null,"",""]
[null,null,null,null,null,null,null,null,null,null,null,null,null,null,null,"",""]
[null,null,null,null,null,null,null,null,null,null,null,null,null,null,null,"",""]
[null,null,null,null,null,null,null,null,null,null,null,null,null,null,null,"",""]
[null,null,null,null,null,null,null,null,null,null,null,null,null,null,null,"",""]
[null,null,null,null,null,null,null,null,null,null,null,null,null,null,null,"",""]
[null,null,null,null,null,null,null,null,null,null,null,null,null,null,null,"",""]
[null,null,null,null,null,null,null,null,null,null,null,null,null,null,null,"",""]
[null,null,null,null,null,null,null,null,null,null,null,null,null,null,null,"",""]
[null,null,null,null,null,null,null,null,null,null,null,null,null,null,null,"",""]
[null,null,null,null,null,null,null,null,null,null,null,null,null,null,null,"",""]
[null,null,null,null,null,null,null,null,null,null,null,null,null,null,null,"",""]
[null,null,null,null,null,null,null,null,null,null,null,null,null,null,null,"",""]
[null,null,null,null,null,null,null,null,null,null,null,null,null,null,null,"",""]
[null,null,null,null,null,null,null,null,null,null,null,null,null,null,null,"",""]
[null,null,null,null,null,null,null,null,null,null,null,null,null,null,null,"",""]
[null,null,null,null,null,null,null,null,null,null,null,null,null,null,null,"",""]
[null,null,null,null,null,null,null,null,null,null,null,null,null,null,null,"",""]
[null,null,null,null,null,null,null,null,null,null,null,null,null,null,null,"",""]
[null,null,null,null,null,null,null,null,null,null,null,null,null,null,null,"",""]
[null,null,null,null,null,null,null,null,null,null,null,null,null,null,null,"",""]
[null,null,null,null,null,null,null,null,null,null,null,null,null,null,null,"",""]
[null,null,null,null,null,null,null,null,null,null,null,null,null,null,null,"",""]
[null,null,null,null,null,null,null,null,null,null,null,null,null,null,null,"",""]
[null,null,null,null,null,null,null,null,null,null,null,null,null,null,null,"",""]
[null,null,null,null,null,null,null,null,null,null,null,null,null,null,null,"",""]
[null,null,null,null,null,null,null,null,null,null,null,null,null,null,null,"",""]
[null,null,null,null,null,null,null,null,null,null,null,null,null,null,null,"",""]
[null,null,null,null,null,null,null,null,null,null,null,null,null,null,null,"",""]
[null,null,null,null,null,null,null,null,null,null,null,null,null,null,null,"",""]
[null,null,null,null,null,null,null,null,null,null,null,null,null,null,null,"",""]
[null,null,null,null,null,null,null,null,null,null,null,null,null,null,null,"",""]
[null,null,null,null,null,null,null,null,null,null,null,null,null,null,null,"",""]
[null,null,null,null,null,null,null,null,null,null,null,null,null,null,null,"",""]
[null,null,null,null,null,null,null,null,null,null,null,null,null,null,null,"",""]
[null,null,null,null,null,null,null,null,null,null,null,null,null,null,null,"",""]
[null,null,null,null,null,null,null,null,null,null,null,null,null,null,null,"",""]
[null,null,null,null,null,null,null,null,null,null,null,null,null,null,null,"",""]
[null,null,null,null,null,null,null,null,null,null,null,null,null,null,null,"",""]
[null,null,null,null,null,null,null,null,null,null,null,null,null,null,null,"",""]
[null,null,null,null,null,null,null,null,null,null,null,null,null,null,null,"",""]
[null,null,null,null,null,null,null,null,null,null,null,null,null,null,null,"",""]
[null,null,null,null,null,null,null,null,null,null,null,null,null,null,null,"",""]
[null,null,null,null,null,null,null,null,null,null,null,null,null,null,null,"",""]
[null,null,null,null,null,null,null,null,null,null,null,null,null,null,null,"",""]
[null,null,null,null,null,null,null,null,null,null,null,null,null,null,null,"",""]
[null,null,null,null,null,null,null,null,null,null,null,null,null,null,null,"",""]
[null,null,null,null,null,null,null,null,null,null,null,null,null,null,null,"",""]
[null,null,null,null,null,null,null,null,null,null,null,null,null,null,null,"",""]
[null,null,null,null,null,null,null,null,null,null,null,null,null,null,null,"",""]
[null,null,null,null,null,null,null,null,null,null,null,null,null,null,null,"",""]
[null,null,null,null,null,null,null,null,null,null,null,null,null,null,null,"",""]
[null,null,null,null,null,null,null,null,null,null,null,null,null,null,null,"",""]
[null,null,null,null,null,null,null,null,null,null,null,null,null,null,null,"",""]
[null,null,null,null,null,null,null,null,null,null,null,null,null,null,null,"",""]
[null,null,null,null,null,null,null,null,null,null,null,null,null,null,null,"",""]
[null,null,null,null,null,null,null,null,null,null,null,null,null,null,null,"",""]
[null,null,null,null,null,null,null,null,null,null,null,null,null,null,null,"",""]
[null,null,null,null,null,null,null,null,null,null,null,null,null,null,null,"",""]
[null,null,null,null,null,null,null,null,null,null,null,null,null,null,null,"",""]
[null,null,null,null,null,null,null,null,null,null,null,null,null,null,null,"",""]
[null,null,null,null,null,null,null,null,null,null,null,null,null,null,null,"",""]
[null,null,null,null,null,null,null,null,null,null,null,null,null,null,null,"",""]
[null,null,null,null,null,null,null,null,null,null,null,null,null,null,null,"",""]
[null,null,null,null,null,null,null,null,null,null,null,null,null,null,null,"",""]
[null,null,null,null,null,null,null,null,null,null,null,null,null,null,null,"",""]
[null,null,null,null,null,null,null,null,null,null,null,null,null,null,null,"",""]
[null,null,null,null,null,null,null,null,null,null,null,null,null,null,null,"",""]
[null,null,null,null,null,null,null,null,null,null,null,null,null,null,null,"",""]
[null,null,null,null,null,null,null,null,null,null,null,null,null,null,null,"",""]
[null,null,null,null,null,null,null,null,null,null,null,null,null,null,null,"",""]
[null,null,null,null,null,null,null,null,null,null,null,null,null,null,null,"",""]
[null,null,null,null,null,null,null,null,null,null,null,null,null,null,null,"",""]
[null,null,null,null,null,null,null,null,null,null,null,null,null,null,null,"",""]
[null,null,null,null,null,null,null,null,null,null,null,null,null,null,null,"",""]
[null,null,null,null,null,null,null,null,null,null,null,null,null,null,null,"",""]
[null,null,null,null,null,null,null,null,null,null,null,null,null,null,null,"",""]
[null,null,null,null,null,null,null,null,null,null,null,null,null,null,null,"",""]
[null,null,null,null,null,null,null,null,null,null,null,null,null,null,null,"",""]
[null,null,null,null,null,null,null,null,null,null,null,null,null,null,null,"",""]
[null,null,null,null,null,null,null,null,null,null,null,null,null,null,null,"",""]
[null,null,null,null,null,null,null,null,null,null,null,null,null,null,null,"",""]
[null,null,null,null,null,null,null,null,null,null,null,null,null,null,null,"",""]
[null,null,null,null,null,null,null,null,null,null,null,null,null,null,null,"",""]
[null,null,null,null,null,null,null,null,null,null,null,null,null,null,null,"",""]
[null,null,null,null,null,null,null,null,null,null,null,null,null,null,null,"",""]
[null,null,null,null,null,null,null,null,null,null,null,null,null,null,null,"",""]
[null,null,null,null,null,null,null,null,null,null,null,null,null,null,null,"",""]
[null,null,null,null,null,null,null,null,null,null,null,null,null,null,null,"",""]
[null,null,null,null,null,null,null,null,null,null,null,null,null,null,null,"",""]
[null,null,null,null,null,null,null,null,null,null,null,null,null,null,null,"",""]
[null,null,null,null,null,null,null,null,null,null,null,null,null,null,null,"",""]
[null,null,null,null,null,null,null,null,null,null,null,null,null,null,null,"",""]
[null,null,null,null,null,null,null,null,null,null,null,null,null,null,null,"",""]
[null,null,null,null,null,null,null,null,null,null,null,null,null,null,null,"",""]
[null,null,null,null,null,null,null,null,null,null,null,null,null,null,null,"",""]
[null,null,null,null,null,null,null,null,null,null,null,null,null,null,null,"",""]
[null,null,null,null,null,null,null,null,null,null,null,null,null,null,null,"",""]
[null,null,null,null,null,null,null,null,null,null,null,null,null,null,null,"",""]
[null,null,null,null,null,null,null,null,null,null,null,null,null,null,null,"",""]
[null,null,null,null,null,null,null,null,null,null,null,null,null,null,null,"",""]
[null,null,null,null,null,null,null,null,null,null,null,null,null,null,null,"",""]
[null,null,null,null,null,null,null,null,null,null,null,null,null,null,null,"",""]
[null,null,null,null,null,null,null,null,null,null,null,null,null,null,null,"",""]
[null,null,null,null,null,null,null,null,null,null,null,null,null,null,null,"",""]
[null,null,null,null,null,null,null,null,null,null,null,null,null,null,null,"",""]
[null,null,null,null,null,null,null,null,null,null,null,null,null,null,null,"",""]
[null,null,null,null,null,null,null,null,null,null,null,null,null,null,null,"",""]
[null,null,null,null,null,null,null,null,null,null,null,null,null,null,null,"",""]
[null,null,null,null,null,null,null,null,null,null,null,null,null,null,null,"",""]
[null,null,null,null,null,null,null,null,null,null,null,null,null,null,null,"",""]
[null,null,null,null,null,null,null,null,null,null,null,null,null,null,null,"",""]
[null,null,null,null,null,null,null,null,null,null,null,null,null,null,null,"",""]
[null,null,null,null,null,null,null,null,null,null,null,null,null,null,null,"",""]
[null,null,null,null,null,null,null,null,null,null,null,null,null,null,null,"",""]
[null,null,null,null,null,null,null,null,null,null,null,null,null,null,null,"",""]
[null,null,null,null,null,null,null,null,null,null,null,null,null,null,null,"",""]
[null,null,null,null,null,null,null,null,null,null,null,null,null,null,null,"",""]
[null,null,null,null,null,null,null,null,null,null,null,null,null,null,null,"",""]
[null,null,null,null,null,null,null,null,null,null,null,null,null,null,null,"",""]
[null,null,null,null,null,null,null,null,null,null,null,null,null,null,null,"",""]
[null,null,null,null,null,null,null,null,null,null,null,null,null,null,null,"",""]
[null,null,null,null,null,null,null,null,null,null,null,null,null,null,null,"",""]
[null,null,null,null,null,null,null,null,null,null,null,null,null,null,null,"",""]
[null,null,null,null,null,null,null,null,null,null,null,null,null,null,null,"",""]
[null,null,null,null,null,null,null,null,null,null,null,null,null,null,null,"",""]
[null,null,null,null,null,null,null,null,null,null,null,null,null,null,null,"",""]
[null,null,null,null,null,null,null,null,null,null,null,null,null,null,null,"",""]
[null,null,null,null,null,null,null,null,null,null,null,null,null,null,null,"",""]
[null,null,null,null,null,null,null,null,null,null,null,null,null,null,null,"",""]
[null,null,null,null,null,null,null,null,null,null,null,null,null,null,null,"",""]
[null,null,null,null,null,null,null,null,null,null,null,null,null,null,null,"",""]
[null,null,null,null,null,null,null,null,null,null,null,null,null,null,null,"",""]
[null,null,null,null,null,null,null,null,null,null,null,null,null,null,null,"",""]
[null,null,null,null,null,null,null,null,null,null,null,null,null,null,null,"",""]
[null,null,null,null,null,null,null,null,null,null,null,null,null,null,null,"",""]
[null,null,null,null,null,null,null,null,null,null,null,null,null,null,null,"",""]
[null,null,null,null,null,null,null,null,null,null,null,null,null,null,null,"",""]
[null,null,null,null,null,null,null,null,null,null,null,null,null,null,null,"",""]
[null,null,null,null,null,null,null,null,null,null,null,null,null,null,null,"",""]
[null,null,null,null,null,null,null,null,null,null,null,null,null,null,null,"",""]
[null,null,null,null,null,null,null,null,null,null,null,null,null,null,null,"",""]
[null,null,null,null,null,null,null,null,null,null,null,null,null,null,null,"",""]
[null,null,null,null,null,null,null,null,null,null,null,null,null,null,null,"",""]
[null,null,null,null,null,null,null,null,null,null,null,null,null,null,null,"",""]
[null,null,null,null,null,null,null,null,null,null,null,null,null,null,null,"",""]
[null,null,null,null,null,null,null,null,null,null,null,null,null,null,null,"",""]
[null,null,null,null,null,null,null,null,null,null,null,null,null,null,null,"",""]
[null,null,null,null,null,null,null,null,null,null,null,null,null,null,null,"",""]
[null,null,null,null,null,null,null,null,null,null,null,null,null,null,null,"",""]
[null,null,null,null,null,null,null,null,null,null,null,null,null,null,null,"",""]
[null,null,null,null,null,null,null,null,null,null,null,null,null,null,null,"",""]
[null,null,null,null,null,null,null,null,null,null,null,null,null,null,null,"",""]
[null,null,null,null,null,null,null,null,null,null,null,null,null,null,null,"",""]
[null,null,null,null,null,null,null,null,null,null,null,null,null,null,null,"",""]
[null,null,null,null,null,null,null,null,null,null,null,null,null,null,null,"",""]
[null,null,null,null,null,null,null,null,null,null,null,null,null,null,null,"",""]
[null,null,null,null,null,null,null,null,null,null,null,null,null,null,null,"",""]
[null,null,null,null,null,null,null,null,null,null,null,null,null,null,null,"",""]
[null,null,null,null,null,null,null,null,null,null,null,null,null,null,null,"",""]
[null,null,null,null,null,null,null,null,null,null,null,null,null,null,null,"",""]
[null,null,null,null,null,null,null,null,null,null,null,null,null,null,null,"",""]
[null,null,null,null,null,null,null,null,null,null,null,null,null,null,null,"",""]
[null,null,null,null,null,null,null,null,null,null,null,null,null,null,null,"",""]
[null,null,null,null,null,null,null,null,null,null,null,null,null,null,null,"",""]
[null,null,null,null,null,null,null,null,null,null,null,null,null,null,null,"",""]
[null,null,null,null,null,null,null,null,null,null,null,null,null,null,null,"",""]
[null,null,null,null,null,null,null,null,null,null,null,null,null,null,null,"",""]
[null,null,null,null,null,null,null,null,null,null,null,null,null,null,null,"",""]
[null,null,null,null,null,null,null,null,null,null,null,null,null,null,null,"",""]
[null,null,null,null,null,null,null,null,null,null,null,null,null,null,null,"",""]
[null,null,null,null,null,null,null,null,null,null,null,null,null,null,null,"",""]
[null,null,null,null,null,null,null,null,null,null,null,null,null,null,null,"",""]
[null,null,null,null,null,null,null,null,null,null,null,null,null,null,null,"",""]
[null,null,null,null,null,null,null,null,null,null,null,null,null,null,null,"",""]
[null,null,null,null,null,null,null,null,null,null,null,null,null,null,null,"",""]
[null,null,null,null,null,null,null,null,null,null,null,null,null,null,null,"",""]
[null,null,null,null,null,null,null,null,null,null,null,null,null,null,null,"",""]
[null,null,null,null,null,null,null,null,null,null,null,null,null,null,null,"",""]
[null,null,null,null,null,null,null,null,null,null,null,null,null,null,null,"",""]
[null,null,null,null,null,null,null,null,null,null,null,null,null,null,null,"",""]
[null,null,null,null,null,null,null,null,null,null,null,null,null,null,null,"",""]
[null,null,null,null,null,null,null,null,null,null,null,null,null,null,null,"",""]
[null,null,null,null,null,null,null,null,null,null,null,null,null,null,null,"",""]
[null,null,null,null,null,null,null,null,null,null,null,null,null,null,null,"",""]
[null,null,null,null,null,null,null,null,null,null,null,null,null,null,null,"",""]
[null,null,null,null,null,null,null,null,null,null,null,null,null,null,null,"",""]
[null,null,null,null,null,null,null,null,null,null,null,null,null,null,null,"",""]
[null,null,null,null,null,null,null,null,null,null,null,null,null,null,null,"",""]
[null,null,null,null,null,null,null,null,null,null,null,null,null,null,null,"",""]
[null,null,null,null,null,null,null,null,null,null,null,null,null,null,null,"",""]
[null,null,null,null,null,null,null,null,null,null,null,null,null,null,null,"",""]
[null,null,null,null,null,null,null,null,null,null,null,null,null,null,null,"",""]
[null,null,null,null,null,null,null,null,null,null,null,null,null,null,null,"",""]
[null,null,null,null,null,null,null,null,null,null,null,null,null,null,null,"",""]
[null,null,null,null,null,null,null,null,null,null,null,null,null,null,null,"",""]
[null,null,null,null,null,null,null,null,null,null,null,null,null,null,null,"",""]
[null,null,null,null,null,null,null,null,null,null,null,null,null,null,null,"",""]
[null,null,null,null,null,null,null,null,null,null,null,null,null,null,null,"",""]
[null,null,null,null,null,null,null,null,null,null,null,null,null,null,null,"",""]
[null,null,null,null,null,null,null,null,null,null,null,null,null,null,null,"",""]
[null,null,null,null,null,null,null,null,null,null,null,null,null,null,null,"",""]
[null,null,null,null,null,null,null,null,null,null,null,null,null,null,null,"",""]
[null,null,null,null,null,null,null,null,null,null,null,null,null,null,null,"",""]
[null,null,null,null,null,null,null,null,null,null,null,null,null,null,null,"",""]
[null,null,null,null,null,null,null,null,null,null,null,null,null,null,null,"",""]
[null,null,null,null,null,null,null,null,null,null,null,null,null,null,null,"",""]
[null,null,null,null,null,null,null,null,null,null,null,null,null,null,null,"",""]
[null,null,null,null,null,null,null,null,null,null,null,null,null,null,null,"",""]
[null,null,null,null,null,null,null,null,null,null,null,null,null,null,null,"",""]
[null,null,null,null,null,null,null,null,null,null,null,null,null,null,null,"",""]
[null,null,null,null,null,null,null,null,null,null,null,null,null,null,null,"",""]
[null,null,null,null,null,null,null,null,null,null,null,null,null,null,null,"",""]
[null,null,null,null,null,null,null,null,null,null,null,null,null,null,null,"",""]
[null,null,null,null,null,null,null,null,null,null,null,null,null,null,null,"",""]
[null,null,null,null,null,null,null,null,null,null,null,null,null,null,null,"",""]
[null,null,null,null,null,null,null,null,null,null,null,null,null,null,null,"",""]
[null,null,null,null,null,null,null,null,null,null,null,null,null,null,null,"",""]
[null,null,null,null,null,null,null,null,null,null,null,null,null,null,null,"",""]
[null,null,null,null,null,null,null,null,null,null,null,null,null,null,null,"",""]
[null,null,null,null,null,null,null,null,null,null,null,null,null,null,null,"",""]
[null,null,null,null,null,null,null,null,null,null,null,null,null,null,null,"",""]
[null,null,null,null,null,null,null,null,null,null,null,null,null,null,null,"",""]
[null,null,null,null,null,null,null,null,null,null,null,null,null,null,null,"",""]
[null,null,null,null,null,null,null,null,null,null,null,null,null,null,null,"",""]
[null,null,null,null,null,null,null,null,null,null,null,null,null,null,null,"",""]
[null,null,null,null,null,null,null,null,null,null,null,null,null,null,null,"",""]
[null,null,null,null,null,null,null,null,null,null,null,null,null,null,null,"",""]
[null,null,null,null,null,null,null,null,null,null,null,null,null,null,null,"",""]
[null,null,null,null,null,null,null,null,null,null,null,null,null,null,null,"",""]
[null,null,null,null,null,null,null,null,null,null,null,null,null,null,null,"",""]
[null,null,null,null,null,null,null,null,null,null,null,null,null,null,null,"",""]
[null,null,null,null,null,null,null,null,null,null,null,null,null,null,null,"",""]
[null,null,null,null,null,null,null,null,null,null,null,null,null,null,null,"",""]
[null,null,null,null,null,null,null,null,null,null,null,null,null,null,null,"",""]
[null,null,null,null,null,null,null,null,null,null,null,null,null,null,null,"",""]
[null,null,null,null,null,null,null,null,null,null,null,null,null,null,null,"",""]
[null,null,null,null,null,null,null,null,null,null,null,null,null,null,null,"",""]
[null,null,null,null,null,null,null,null,null,null,null,null,null,null,null,"",""]
[null,null,null,null,null,null,null,null,null,null,null,null,null,null,null,"",""]
[null,null,null,null,null,null,null,null,null,null,null,null,null,null,null,"",""]
[null,null,null,null,null,null,null,null,null,null,null,null,null,null,null,"",""]
[null,null,null,null,null,null,null,null,null,null,null,null,null,null,null,"",""]
[null,null,null,null,null,null,null,null,null,null,null,null,null,null,null,"",""]
[null,null,null,null,null,null,null,null,null,null,null,null,null,null,null,"",""]
[null,null,null,null,null,null,null,null,null,null,null,null,null,null,null,"",""]
[null,null,null,null,null,null,null,null,null,null,null,null,null,null,null,"",""]
[null,null,null,null,null,null,null,null,null,null,null,null,null,null,null,"",""]
[null,null,null,null,null,null,null,null,null,null,null,null,null,null,null,"",""]
[null,null,null,null,null,null,null,null,null,null,null,null,null,null,null,"",""]
[null,null,null,null,null,null,null,null,null,null,null,null,null,null,null,"",""]
[null,null,null,null,null,null,null,null,null,null,null,null,null,null,null,"",""]
[null,null,null,null,null,null,null,null,null,null,null,null,null,null,null,"",""]
[null,null,null,null,null,null,null,null,null,null,null,null,null,null,null,"",""]
[null,null,null,null,null,null,null,null,null,null,null,null,null,null,null,"",""]
[null,null,null,null,null,null,null,null,null,null,null,null,null,null,null,"",""]
[null,null,null,null,null,null,null,null,null,null,null,null,null,null,null,"",""]
[null,null,null,null,null,null,null,null,null,null,null,null,null,null,null,"",""]
[null,null,null,null,null,null,null,null,null,null,null,null,null,null,null,"",""]
[null,null,null,null,null,null,null,null,null,null,null,null,null,null,null,"",""]
[null,null,null,null,null,null,null,null,null,null,null,null,null,null,null,"",""]
[null,null,null,null,null,null,null,null,null,null,null,null,null,null,null,"",""]
[null,null,null,null,null,null,null,null,null,null,null,null,null,null,null,"",""]
[null,null,null,null,null,null,null,null,null,null,null,null,null,null,null,"",""]
[null,null,null,null,null,null,null,null,null,null,null,null,null,null,null,"",""]
[null,null,null,null,null,null,null,null,null,null,null,null,null,null,null,"",""]
[null,null,null,null,null,null,null,null,null,null,null,null,null,null,null,"",""]
[null,null,null,null,null,null,null,null,null,null,null,null,null,null,null,"",""]
[null,null,null,null,null,null,null,null,null,null,null,null,null,null,null,"",""]
[null,null,null,null,null,null,null,null,null,null,null,null,null,null,null,"",""]
[null,null,null,null,null,null,null,null,null,null,null,null,null,null,null,"",""]
[null,null,null,null,null,null,null,null,null,null,null,null,null,null,null,"",""]
[null,null,null,null,null,null,null,null,null,null,null,null,null,null,null,"",""]
[null,null,null,null,null,null,null,null,null,null,null,null,null,null,null,"",""]
[null,null,null,null,null,null,null,null,null,null,null,null,null,null,null,"",""]
[null,null,null,null,null,null,null,null,null,null,null,null,null,null,null,"",""]
[null,null,null,null,null,null,null,null,null,null,null,null,null,null,null,"",""]
[null,null,null,null,null,null,null,null,null,null,null,null,null,null,null,"",""]
[null,null,null,null,null,null,null,null,null,null,null,null,null,null,null,"",""]
[null,null,null,null,null,null,null,null,null,null,null,null,null,null,null,"",""]
[null,null,null,null,null,null,null,null,null,null,null,null,null,null,null,"",""]
[null,null,null,null,null,null,null,null,null,null,null,null,null,null,null,"",""]
[null,null,null,null,null,null,null,null,null,null,null,null,null,null,null,"",""]
[null,null,null,null,null,null,null,null,null,null,null,null,null,null,null,"",""]
[null,null,null,null,null,null,null,null,null,null,null,null,null,null,null,"",""]
[null,null,null,null,null,null,null,null,null,null,null,null,null,null,null,"",""]
[null,null,null,null,null,null,null,null,null,null,null,null,null,null,null,"",""]
[null,null,null,null,null,null,null,null,null,null,null,null,null,null,null,"",""]
[null,null,null,null,null,null,null,null,null,null,null,null,null,null,null,"",""]
[null,null,null,null,null,null,null,null,null,null,null,null,null,null,null,"",""]
[null,null,null,null,null,null,null,null,null,null,null,null,null,null,null,"",""]
[null,null,null,null,null,null,null,null,null,null,null,null,null,null,null,"",""]
[null,null,null,null,null,null,null,null,null,null,null,null,null,null,null,"",""]
[null,null,null,null,null,null,null,null,null,null,null,null,null,null,null,"",""]
[null,null,null,null,null,null,null,null,null,null,null,null,null,null,null,"",""]
[null,null,null,null,null,null,null,null,null,null,null,null,null,null,null,"",""]
[null,null,null,null,null,null,null,null,null,null,null,null,null,null,null,"",""]
[null,null,null,null,null,null,null,null,null,null,null,null,null,null,null,"",""]
[null,null,null,null,null,null,null,null,null,null,null,null,null,null,null,"",""]
[null,null,null,null,null,null,null,null,null,null,null,null,null,null,null,"",""]
[null,null,null,null,null,null,null,null,null,null,null,null,null,null,null,"",""]
[null,null,null,null,null,null,null,null,null,null,null,null,null,null,null,"",""]
[null,null,null,null,null,null,null,null,null,null,null,null,null,null,null,"",""]
[null,null,null,null,null,null,null,null,null,null,null,null,null,null,null,"",""]
[null,null,null,null,null,null,null,null,null,null,null,null,null,null,null,"",""]
[null,null,null,null,null,null,null,null,null,null,null,null,null,null,null,"",""]
[null,null,null,null,null,null,null,null,null,null,null,null,null,null,null,"",""]
[null,null,null,null,null,null,null,null,null,null,null,null,null,null,null,"",""]
[null,null,null,null,null,null,null,null,null,null,null,null,null,null,null,"",""]
[null,null,null,null,null,null,null,null,null,null,null,null,null,null,null,"",""]
[null,null,null,null,null,null,null,null,null,null,null,null,null,null,null,"",""]
[null,null,null,null,null,null,null,null,null,null,null,null,null,null,null,"",""]
[null,null,null,null,null,null,null,null,null,null,null,null,null,null,null,"",""]
[null,null,null,null,null,null,null,null,null,null,null,null,null,null,null,"",""]
[null,null,null,null,null,null,null,null,null,null,null,null,null,null,null,"",""]
[null,null,null,null,null,null,null,null,null,null,null,null,null,null,null,"",""]
[null,null,null,null,null,null,null,null,null,null,null,null,null,null,null,"",""]
[null,null,null,null,null,null,null,null,null,null,null,null,null,null,null,"",""]
[null,null,null,null,null,null,null,null,null,null,null,null,null,null,null,"",""]
[null,null,null,null,null,null,null,null,null,null,null,null,null,null,null,"",""]
[null,null,null,null,null,null,null,null,null,null,null,null,null,null,null,"",""]
[null,null,null,null,null,null,null,null,null,null,null,null,null,null,null,"",""]
[null,null,null,null,null,null,null,null,null,null,null,null,null,null,null,"",""]
[null,null,null,null,null,null,null,null,null,null,null,null,null,null,null,"",""]
[null,null,null,null,null,null,null,null,null,null,null,null,null,null,null,"",""]
[null,null,null,null,null,null,null,null,null,null,null,null,null,null,null,"",""]
[null,null,null,null,null,null,null,null,null,null,null,null,null,null,null,"",""]
[null,null,null,null,null,null,null,null,null,null,null,null,null,null,null,"",""]
[null,null,null,null,null,null,null,null,null,null,null,null,null,null,null,"",""]
[null,null,null,null,null,null,null,null,null,null,null,null,null,null,null,"",""]
[null,null,null,null,null,null,null,null,null,null,null,null,null,null,null,"",""]
[null,null,null,null,null,null,null,null,null,null,null,null,null,null,null,"",""]
[null,null,null,null,null,null,null,null,null,null,null,null,null,null,null,"",""]
[null,null,null,null,null,null,null,null,null,null,null,null,null,null,null,"",""]
[null,null,null,null,null,null,null,null,null,null,null,null,null,null,null,"",""]
[null,null,null,null,null,null,null,null,null,null,null,null,null,null,null,"",""]
[null,null,null,null,null,null,null,null,null,null,null,null,null,null,null,"",""]
[null,null,null,null,null,null,null,null,null,null,null,null,null,null,null,"",""]
[null,null,null,null,null,null,null,null,null,null,null,null,null,null,null,"",""]
[null,null,null,null,null,null,null,null,null,null,null,null,null,null,null,"",""]
[null,null,null,null,null,null,null,null,null,null,null,null,null,null,null,"",""]
[null,null,null,null,null,null,null,null,null,null,null,null,null,null,null,"",""]
[null,null,null,null,null,null,null,null,null,null,null,null,null,null,null,"",""]
[null,null,null,null,null,null,null,null,null,null,null,null,null,null,null,"",""]
[null,null,null,null,null,null,null,null,null,null,null,null,null,null,null,"",""]
[null,null,null,null,null,null,null,null,null,null,null,null,null,null,null,"",""]
[null,null,null,null,null,null,null,null,null,null,null,null,null,null,null,"",""]
[null,null,null,null,null,null,null,null,null,null,null,null,null,null,null,"",""]
[null,null,null,null,null,null,null,null,null,null,null,null,null,null,null,"",""]
[null,null,null,null,null,null,null,null,null,null,null,null,null,null,null,"",""]
[null,null,null,null,null,null,null,null,null,null,null,null,null,null,null,"",""]
[null,null,null,null,null,null,null,null,null,null,null,null,null,null,null,"",""]
[null,null,null,null,null,null,null,null,null,null,null,null,null,null,null,"",""]
[null,null,null,null,null,null,null,null,null,null,null,null,null,null,null,"",""]
[null,null,null,null,null,null,null,null,null,null,null,null,null,null,null,"",""]
[null,null,null,null,null,null,null,null,null,null,null,null,null,null,null,"",""]
[null,null,null,null,null,null,null,null,null,null,null,null,null,null,null,"",""]
[null,null,null,null,null,null,null,null,null,null,null,null,null,null,null,"",""]
[null,null,null,null,null,null,null,null,null,null,null,null,null,null,null,"",""]
[null,null,null,null,null,null,null,null,null,null,null,null,null,null,null,"",""]
[null,null,null,null,null,null,null,null,null,null,null,null,null,null,null,"",""]
[null,null,null,null,null,null,null,null,null,null,null,null,null,null,null,"",""]
[null,null,null,null,null,null,null,null,null,null,null,null,null,null,null,"",""]
[null,null,null,null,null,null,null,null,null,null,null,null,null,null,null,"",""]
[null,null,null,null,null,null,null,null,null,null,null,null,null,null,null,"",""]
[null,null,null,null,null,null,null,null,null,null,null,null,null,null,null,"",""]
[null,null,null,null,null,null,null,null,null,null,null,null,null,null,null,"",""]
[null,null,null,null,null,null,null,null,null,null,null,null,null,null,null,"",""]
[null,null,null,null,null,null,null,null,null,null,null,null,null,null,null,"",""]
[null,null,null,null,null,null,null,null,null,null,null,null,null,null,null,"",""]
[null,null,null,null,null,null,null,null,null,null,null,null,null,null,null,"",""]
[null,null,null,null,null,null,null,null,null,null,null,null,null,null,null,"",""]
[null,null,null,null,null,null,null,null,null,null,null,null,null,null,null,"",""]
[null,null,null,null,null,null,null,null,null,null,null,null,null,null,null,"",""]
[null,null,null,null,null,null,null,null,null,null,null,null,null,null,null,"",""]
[null,null,null,null,null,null,null,null,null,null,null,null,null,null,null,"",""]
[null,null,null,null,null,null,null,null,null,null,null,null,null,null,null,"",""]
[null,null,null,null,null,null,null,null,null,null,null,null,null,null,null,"",""]
[null,null,null,null,null,null,null,null,null,null,null,null,null,null,null,"",""]
[null,null,null,null,null,null,null,null,null,null,null,null,null,null,null,"",""]
[null,null,null,null,null,null,null,null,null,null,null,null,null,null,null,"",""]
[null,null,null,null,null,null,null,null,null,null,null,null,null,null,null,"",""]
[null,null,null,null,null,null,null,null,null,null,null,null,null,null,null,"",""]
[null,null,null,null,null,null,null,null,null,null,null,null,null,null,null,"",""]
[null,null,null,null,null,null,null,null,null,null,null,null,null,null,null,"",""]
[null,null,null,null,null,null,null,null,null,null,null,null,null,null,null,"",""]
[null,null,null,null,null,null,null,null,null,null,null,null,null,null,null,"",""]
[null,null,null,null,null,null,null,null,null,null,null,null,null,null,null,"",""]
[null,null,null,null,null,null,null,null,null,null,null,null,null,null,null,"",""]
[null,null,null,null,null,null,null,null,null,null,null,null,null,null,null,"",""]
[null,null,null,null,null,null,null,null,null,null,null,null,null,null,null,"",""]
[null,null,null,null,null,null,null,null,null,null,null,null,null,null,null,"",""]
[null,null,null,null,null,null,null,null,null,null,null,null,null,null,null,"",""]
[null,null,null,null,null,null,null,null,null,null,null,null,null,null,null,"",""]
[null,null,null,null,null,null,null,null,null,null,null,null,null,null,null,"",""]
[null,null,null,null,null,null,null,null,null,null,null,null,null,null,null,"",""]
[null,null,null,null,null,null,null,null,null,null,null,null,null,null,null,"",""]
[null,null,null,null,null,null,null,null,null,null,null,null,null,null,null,"",""]
[null,null,null,null,null,null,null,null,null,null,null,null,null,null,null,"",""]
[null,null,null,null,null,null,null,null,null,null,null,null,null,null,null,"",""]
[null,null,null,null,null,null,null,null,null,null,null,null,null,null,null,"",""]
[null,null,null,null,null,null,null,null,null,null,null,null,null,null,null,"",""]
[null,null,null,null,null,null,null,null,null,null,null,null,null,null,null,"",""]
[null,null,null,null,null,null,null,null,null,null,null,null,null,null,null,"",""]
[null,null,null,null,null,null,null,null,null,null,null,null,null,null,null,"",""]
[null,null,null,null,null,null,null,null,null,null,null,null,null,null,null,"",""]
[null,null,null,null,null,null,null,null,null,null,null,null,null,null,null,"",""]
[null,null,null,null,null,null,null,null,null,null,null,null,null,null,null,"",""]
[null,null,null,null,null,null,null,null,null,null,null,null,null,null,null,"",""]
[null,null,null,null,null,null,null,null,null,null,null,null,null,null,null,"",""]
[null,null,null,null,null,null,null,null,null,null,null,null,null,null,null,"",""]
[null,null,null,null,null,null,null,null,null,null,null,null,null,null,null,"",""]
[null,null,null,null,null,null,null,null,null,null,null,null,null,null,null,"",""]
[null,null,null,null,null,null,null,null,null,null,null,null,null,null,null,"",""]
[null,null,null,null,null,null,null,null,null,null,null,null,null,null,null,"",""]
[null,null,null,null,null,null,null,null,null,null,null,null,null,null,null,"",""]
[null,null,null,null,null,null,null,null,null,null,null,null,null,null,null,"",""]
[null,null,null,null,null,null,null,null,null,null,null,null,null,null,null,"",""]
[null,null,null,null,null,null,null,null,null,null,null,null,null,null,null,"",""]
[null,null,null,null,null,null,null,null,null,null,null,null,null,null,null,"",""]
[null,null,null,null,null,null,null,null,null,null,null,null,null,null,null,"",""]
[null,null,null,null,null,null,null,null,null,null,null,null,null,null,null,"",""]
[null,null,null,null,null,null,null,null,null,null,null,null,null,null,null,"",""]
[null,null,null,null,null,null,null,null,null,null,null,null,null,null,null,"",""]
[null,null,null,null,null,null,null,null,null,null,null,null,null,null,null,"",""]
[null,null,null,null,null,null,null,null,null,null,null,null,null,null,null,"",""]
[null,null,null,null,null,null,null,null,null,null,null,null,null,null,null,"",""]
[null,null,null,null,null,null,null,null,null,null,null,null,null,null,null,"",""]
[null,null,null,null,null,null,null,null,null,null,null,null,null,null,null,"",""]
[null,null,null,null,null,null,null,null,null,null,null,null,null,null,null,"",""]
[null,null,null,null,null,null,null,null,null,null,null,null,null,null,null,"",""]
[null,null,null,null,null,null,null,null,null,null,null,null,null,null,null,"",""]
[null,null,null,null,null,null,null,null,null,null,null,null,null,null,null,"",""]
[null,null,null,null,null,null,null,null,null,null,null,null,null,null,null,"",""]
[null,null,null,null,null,null,null,null,null,null,null,null,null,null,null,"",""]
[null,null,null,null,null,null,null,null,null,null,null,null,null,null,null,"",""]
[null,null,null,null,null,null,null,null,null,null,null,null,null,null,null,"",""]
[null,null,null,null,null,null,null,null,null,null,null,null,null,null,null,"",""]
[null,null,null,null,null,null,null,null,null,null,null,null,null,null,null,"",""]
[null,null,null,null,null,null,null,null,null,null,null,null,null,null,null,"",""]
[null,null,null,null,null,null,null,null,null,null,null,null,null,null,null,"",""]
[null,null,null,null,null,null,null,null,null,null,null,null,null,null,null,"",""]
[null,null,null,null,null,null,null,null,null,null,null,null,null,null,null,"",""]
[null,null,null,null,null,null,null,null,null,null,null,null,null,null,null,"",""]
[null,null,null,null,null,null,null,null,null,null,null,null,null,null,null,"",""]
[null,null,null,null,null,null,null,null,null,null,null,null,null,null,null,"",""]
[null,null,null,null,null,null,null,null,null,null,null,null,null,null,null,"",""]
[null,null,null,null,null,null,null,null,null,null,null,null,null,null,null,"",""]
[null,null,null,null,null,null,null,null,null,null,null,null,null,null,null,"",""]
[null,null,null,null,null,null,null,null,null,null,null,null,null,null,null,"",""]
[null,null,null,null,null,null,null,null,null,null,null,null,null,null,null,"",""]
[null,null,null,null,null,null,null,null,null,null,null,null,null,null,null,"",""]
[null,null,null,null,null,null,null,null,null,null,null,null,null,null,null,"",""]
[null,null,null,null,null,null,null,null,null,null,null,null,null,null,null,"",""]
[null,null,null,null,null,null,null,null,null,null,null,null,null,null,null,"",""]
[null,null,null,null,null,null,null,null,null,null,null,null,null,null,null,"",""]
[null,null,null,null,null,null,null,null,null,null,null,null,null,null,null,"",""]
[null,null,null,null,null,null,null,null,null,null,null,null,null,null,null,"",""]
[null,null,null,null,null,null,null,null,null,null,null,null,null,null,null,"",""]
[null,null,null,null,null,null,null,null,null,null,null,null,null,null,null,"",""]
[null,null,null,null,null,null,null,null,null,null,null,null,null,null,null,"",""]
[null,null,null,null,null,null,null,null,null,null,null,null,null,null,null,"",""]
[null,null,null,null,null,null,null,null,null,null,null,null,null,null,null,"",""]
[null,null,null,null,null,null,null,null,null,null,null,null,null,null,null,"",""]
[null,null,null,null,null,null,null,null,null,null,null,null,null,null,null,"",""]
[null,null,null,null,null,null,null,null,null,null,null,null,null,null,null,"",""]
[null,null,null,null,null,null,null,null,null,null,null,null,null,null,null,"",""]
[null,null,null,null,null,null,null,null,null,null,null,null,null,null,null,"",""]
[null,null,null,null,null,null,null,null,null,null,null,null,null,null,null,"",""]
[null,null,null,null,null,null,null,null,null,null,null,null,null,null,null,"",""]
[null,null,null,null,null,null,null,null,null,null,null,null,null,null,null,"",""]
[null,null,null,null,null,null,null,null,null,null,null,null,null,null,null,"",""]
[null,null,null,null,null,null,null,null,null,null,null,null,null,null,null,"",""]
[null,null,null,null,null,null,null,null,null,null,null,null,null,null,null,"",""]
[null,null,null,null,null,null,null,null,null,null,null,null,null,null,null,"",""]
[null,null,null,null,null,null,null,null,null,null,null,null,null,null,null,"",""]
[null,null,null,null,null,null,null,null,null,null,null,null,null,null,null,"",""]
[null,null,null,null,null,null,null,null,null,null,null,null,null,null,null,"",""]
[null,null,null,null,null,null,null,null,null,null,null,null,null,null,null,"",""]
[null,null,null,null,null,null,null,null,null,null,null,null,null,null,null,"",""]
[null,null,null,null,null,null,null,null,null,null,null,null,null,null,null,"",""]
[null,null,null,null,null,null,null,null,null,null,null,null,null,null,null,"",""]
[null,null,null,null,null,null,null,null,null,null,null,null,null,null,null,"",""]
[null,null,null,null,null,null,null,null,null,null,null,null,null,null,null,"",""]
[null,null,null,null,null,null,null,null,null,null,null,null,null,null,null,"",""]
[null,null,null,null,null,null,null,null,null,null,null,null,null,null,null,"",""]
[null,null,null,null,null,null,null,null,null,null,null,null,null,null,null,"",""]
[null,null,null,null,null,null,null,null,null,null,null,null,null,null,null,"",""]
[null,null,null,null,null,null,null,null,null,null,null,null,null,null,null,"",""]
[null,null,null,null,null,null,null,null,null,null,null,null,null,null,null,"",""]
[null,null,null,null,null,null,null,null,null,null,null,null,null,null,null,"",""]
[null,null,null,null,null,null,null,null,null,null,null,null,null,null,null,"",""]
[null,null,null,null,null,null,null,null,null,null,null,null,null,null,null,"",""]
[null,null,null,null,null,null,null,null,null,null,null,null,null,null,null,"",""]
[null,null,null,null,null,null,null,null,null,null,null,null,null,null,null,"",""]
[null,null,null,null,null,null,null,null,null,null,null,null,null,null,null,"",""]
[null,null,null,null,null,null,null,null,null,null,null,null,null,null,null,"",""]
[null,null,null,null,null,null,null,null,null,null,null,null,null,null,null,"",""]
[null,null,null,null,null,null,null,null,null,null,null,null,null,null,null,"",""]
[null,null,null,null,null,null,null,null,null,null,null,null,null,null,null,"",""]
[null,null,null,null,null,null,null,null,null,null,null,null,null,null,null,"",""]
[null,null,null,null,null,null,null,null,null,null,null,null,null,null,null,"",""]
[null,null,null,null,null,null,null,null,null,null,null,null,null,null,null,"",""]
[null,null,null,null,null,null,null,null,null,null,null,null,null,null,null,"",""]
[null,null,null,null,null,null,null,null,null,null,null,null,null,null,null,"",""]
[null,null,null,null,null,null,null,null,null,null,null,null,null,null,null,"",""]
[null,null,null,null,null,null,null,null,null,null,null,null,null,null,null,"",""]
[null,null,null,null,null,null,null,null,null,null,null,null,null,null,null,"",""]
[null,null,null,null,null,null,null,null,null,null,null,null,null,null,null,"",""]
[null,null,null,null,null,null,null,null,null,null,null,null,null,null,null,"",""]
[null,null,null,null,null,null,null,null,null,null,null,null,null,null,null,"",""]
[null,null,null,null,null,null,null,null,null,null,null,null,null,null,null,"",""]
[null,null,null,null,null,null,null,null,null,null,null,null,null,null,null,"",""]
[null,null,null,null,null,null,null,null,null,null,null,null,null,null,null,"",""]
[null,null,null,null,null,null,null,null,null,null,null,null,null,null,null,"",""]
[null,null,null,null,null,null,null,null,null,null,null,null,null,null,null,"",""]
[null,null,null,null,null,null,null,null,null,null,null,null,null,null,null,"",""]
[null,null,null,null,null,null,null,null,null,null,null,null,null,null,null,"",""]
[null,null,null,null,null,null,null,null,null,null,null,null,null,null,null,"",""]
[null,null,null,null,null,null,null,null,null,null,null,null,null,null,null,"",""]
[null,null,null,null,null,null,null,null,null,null,null,null,null,null,null,"",""]
[null,null,null,null,null,null,null,null,null,null,null,null,null,null,null,"",""]
[null,null,null,null,null,null,null,null,null,null,null,null,null,null,null,"",""]
[null,null,null,null,null,null,null,null,null,null,null,null,null,null,null,"",""]
[null,null,null,null,null,null,null,null,null,null,null,null,null,null,null,"",""]
[null,null,null,null,null,null,null,null,null,null,null,null,null,null,null,"",""]
[null,null,null,null,null,null,null,null,null,null,null,null,null,null,null,"",""]
[null,null,null,null,null,null,null,null,null,null,null,null,null,null,null,"",""]
[null,null,null,null,null,null,null,null,null,null,null,null,null,null,null,"",""]
[null,null,null,null,null,null,null,null,null,null,null,null,null,null,null,"",""]
[null,null,null,null,null,null,null,null,null,null,null,null,null,null,null,"",""]
[null,null,null,null,null,null,null,null,null,null,null,null,null,null,null,"",""]
[null,null,null,null,null,null,null,null,null,null,null,null,null,null,null,"",""]
[null,null,null,null,null,null,null,null,null,null,null,null,null,null,null,"",""]
[null,null,null,null,null,null,null,null,null,null,null,null,null,null,null,"",""]
[null,null,null,null,null,null,null,null,null,null,null,null,null,null,null,"",""]
[null,null,null,null,null,null,null,null,null,null,null,null,null,null,null,"",""]
[null,null,null,null,null,null,null,null,null,null,null,null,null,null,null,"",""]
[null,null,null,null,null,null,null,null,null,null,null,null,null,null,null,"",""]
[null,null,null,null,null,null,null,null,null,null,null,null,null,null,null,"",""]
[null,null,null,null,null,null,null,null,null,null,null,null,null,null,null,"",""]
[null,null,null,null,null,null,null,null,null,null,null,null,null,null,null,"",""]
[null,null,null,null,null,null,null,null,null,null,null,null,null,null,null,"",""]
[null,null,null,null,null,null,null,null,null,null,null,null,null,null,null,"",""]
[null,null,null,null,null,null,null,null,null,null,null,null,null,null,null,"",""]
[null,null,null,null,null,null,null,null,null,null,null,null,null,null,null,"",""]
[null,null,null,null,null,null,null,null,null,null,null,null,null,null,null,"",""]
[null,null,null,null,null,null,null,null,null,null,null,null,null,null,null,"",""]
[null,null,null,null,null,null,null,null,null,null,null,null,null,null,null,"",""]
[null,null,null,null,null,null,null,null,null,null,null,null,null,null,null,"",""]
[null,null,null,null,null,null,null,null,null,null,null,null,null,null,null,"",""]
[null,null,null,null,null,null,null,null,null,null,null,null,null,null,null,"",""]
[null,null,null,null,null,null,null,null,null,null,null,null,null,null,null,"",""]
[null,null,null,null,null,null,null,null,null,null,null,null,null,null,null,"",""]
[null,null,null,null,null,null,null,null,null,null,null,null,null,null,null,"",""]
[null,null,null,null,null,null,null,null,null,null,null,null,null,null,null,"",""]
[null,null,null,null,null,null,null,null,null,null,null,null,null,null,null,"",""]
[null,null,null,null,null,null,null,null,null,null,null,null,null,null,null,"",""]
[null,null,null,null,null,null,null,null,null,null,null,null,null,null,null,"",""]
[null,null,null,null,null,null,null,null,null,null,null,null,null,null,null,"",""]
[null,null,null,null,null,null,null,null,null,null,null,null,null,null,null,"",""]
[null,null,null,null,null,null,null,null,null,null,null,null,null,null,null,"",""]
[null,null,null,null,null,null,null,null,null,null,null,null,null,null,null,"",""]
[null,null,null,null,null,null,null,null,null,null,null,null,null,null,null,"",""]
[null,null,null,null,null,null,null,null,null,null,null,null,null,null,null,"",""]
[null,null,null,null,null,null,null,null,null,null,null,null,null,null,null,"",""]
[null,null,null,null,null,null,null,null,null,null,null,null,null,null,null,"",""]
[null,null,null,null,null,null,null,null,null,null,null,null,null,null,null,"",""]
[null,null,null,null,null,null,null,null,null,null,null,null,null,null,null,"",""]
[null,null,null,null,null,null,null,null,null,null,null,null,null,null,null,"",""]
[null,null,null,null,null,null,null,null,null,null,null,null,null,null,null,"",""]
[null,null,null,null,null,null,null,null,null,null,null,null,null,null,null,"",""]
[null,null,null,null,null,null,null,null,null,null,null,null,null,null,null,"",""]
[null,null,null,null,null,null,null,null,null,null,null,null,null,null,null,"",""]
[null,null,null,null,null,null,null,null,null,null,null,null,null,null,null,"",""]
[null,null,null,null,null,null,null,null,null,null,null,null,null,null,null,"",""]
[null,null,null,null,null,null,null,null,null,null,null,null,null,null,null,"",""]
[null,null,null,null,null,null,null,null,null,null,null,null,null,null,null,"",""]
[null,null,null,null,null,null,null,null,null,null,null,null,null,null,null,"",""]
[null,null,null,null,null,null,null,null,null,null,null,null,null,null,null,"",""]
[null,null,null,null,null,null,null,null,null,null,null,null,null,null,null,"",""]
[null,null,null,null,null,null,null,null,null,null,null,null,null,null,null,"",""]
[null,null,null,null,null,null,null,null,null,null,null,null,null,null,null,"",""]
[null,null,null,null,null,null,null,null,null,null,null,null,null,null,null,"",""]
[null,null,null,null,null,null,null,null,null,null,null,null,null,null,null,"",""]
[null,null,null,null,null,null,null,null,null,null,null,null,null,null,null,"",""]
[null,null,null,null,null,null,null,null,null,null,null,null,null,null,null,"",""]
[null,null,null,null,null,null,null,null,null,null,null,null,null,null,null,"",""]
[null,null,null,null,null,null,null,null,null,null,null,null,null,null,null,"",""]
[null,null,null,null,null,null,null,null,null,null,null,null,null,null,null,"",""]
[null,null,null,null,null,null,null,null,null,null,null,null,null,null,null,"",""]
[null,null,null,null,null,null,null,null,null,null,null,null,null,null,null,"",""]
[null,null,null,null,null,null,null,null,null,null,null,null,null,null,null,"",""]
[null,null,null,null,null,null,null,null,null,null,null,null,null,null,null,"",""]
[null,null,null,null,null,null,null,null,null,null,null,null,null,null,null,"",""]
[null,null,null,null,null,null,null,null,null,null,null,null,null,null,null,"",""]
[null,null,null,null,null,null,null,null,null,null,null,null,null,null,null,"",""]
[null,null,null,null,null,null,null,null,null,null,null,null,null,null,null,"",""]
[null,null,null,null,null,null,null,null,null,null,null,null,null,null,null,"",""]
[null,null,null,null,null,null,null,null,null,null,null,null,null,null,null,"",""]
[null,null,null,null,null,null,null,null,null,null,null,null,null,null,null,"",""]
[null,null,null,null,null,null,null,null,null,null,null,null,null,null,null,"",""]
[null,null,null,null,null,null,null,null,null,null,null,null,null,null,null,"",""]
[null,null,null,null,null,null,null,null,null,null,null,null,null,null,null,"",""]
[null,null,null,null,null,null,null,null,null,null,null,null,null,null,null,"",""]
[null,null,null,null,null,null,null,null,null,null,null,null,null,null,null,"",""]
[null,null,null,null,null,null,null,null,null,null,null,null,null,null,null,"",""]
[null,null,null,null,null,null,null,null,null,null,null,null,null,null,null,"",""]
[null,null,null,null,null,null,null,null,null,null,null,null,null,null,null,"",""]
[null,null,null,null,null,null,null,null,null,null,null,null,null,null,null,"",""]
[null,null,null,null,null,null,null,null,null,null,null,null,null,null,null,"",""]
[null,null,null,null,null,null,null,null,null,null,null,null,null,null,null,"",""]
[null,null,null,null,null,null,null,null,null,null,null,null,null,null,null,"",""]
[null,null,null,null,null,null,null,null,null,null,null,null,null,null,null,"",""]
[null,null,null,null,null,null,null,null,null,null,null,null,null,null,null,"",""]
[null,null,null,null,null,null,null,null,null,null,null,null,null,null,null,"",""]
[null,null,null,null,null,null,null,null,null,null,null,null,null,null,null,"",""]
[null,null,null,null,null,null,null,null,null,null,null,null,null,null,null,"",""]
[null,null,null,null,null,null,null,null,null,null,null,null,null,null,null,"",""]
[null,null,null,null,null,null,null,null,null,null,null,null,null,null,null,"",""]
[null,null,null,null,null,null,null,null,null,null,null,null,null,null,null,"",""]
[null,null,null,null,null,null,null,null,null,null,null,null,null,null,null,"",""]
[null,null,null,null,null,null,null,null,null,null,null,null,null,null,null,"",""]
[null,null,null,null,null,null,null,null,null,null,null,null,null,null,null,"",""]
[null,null,null,null,null,null,null,null,null,null,null,null,null,null,null,"",""]
[null,null,null,null,null,null,null,null,null,null,null,null,null,null,null,"",""]
[null,null,null,null,null,null,null,null,null,null,null,null,null,null,null,"",""]
[null,null,null,null,null,null,null,null,null,null,null,null,null,null,null,"",""]
[null,null,null,null,null,null,null,null,null,null,null,null,null,null,null,"",""]
[null,null,null,null,null,null,null,null,null,null,null,null,null,null,null,"",""]
[null,null,null,null,null,null,null,null,null,null,null,null,null,null,null,"",""]
[null,null,null,null,null,null,null,null,null,null,null,null,null,null,null,"",""]
[null,null,null,null,null,null,null,null,null,null,null,null,null,null,null,"",""]
[null,null,null,null,null,null,null,null,null,null,null,null,null,null,null,"",""]
[null,null,null,null,null,null,null,null,null,null,null,null,null,null,null,"",""]
[null,null,null,null,null,null,null,null,null,null,null,null,null,null,null,"",""]
[null,null,null,null,null,null,null,null,null,null,null,null,null,null,null,"",""]
[null,null,null,null,null,null,null,null,null,null,null,null,null,null,null,"",""]
[null,null,null,null,null,null,null,null,null,null,null,null,null,null,null,"",""]
[null,null,null,null,null,null,null,null,null,null,null,null,null,null,null,"",""]
[null,null,null,null,null,null,null,null,null,null,null,null,null,null,null,"",""]
[null,null,null,null,null,null,null,null,null,null,null,null,null,null,null,"",""]
[null,null,null,null,null,null,null,null,null,null,null,null,null,null,null,"",""]
[null,null,null,null,null,null,null,null,null,null,null,null,null,null,null,"",""]
[null,null,null,null,null,null,null,null,null,null,null,null,null,null,null,"",""]
[null,null,null,null,null,null,null,null,null,null,null,null,null,null,null,"",""]
[null,null,null,null,null,null,null,null,null,null,null,null,null,null,null,"",""]
[null,null,null,null,null,null,null,null,null,null,null,null,null,null,null,"",""]
[null,null,null,null,null,null,null,null,null,null,null,null,null,null,null,"",""]
[null,null,null,null,null,null,null,null,null,null,null,null,null,null,null,"",""]
[null,null,null,null,null,null,null,null,null,null,null,null,null,null,null,"",""]
[null,null,null,null,null,null,null,null,null,null,null,null,null,null,null,"",""]
[null,null,null,null,null,null,null,null,null,null,null,null,null,null,null,"",""]
[null,null,null,null,null,null,null,null,null,null,null,null,null,null,null,"",""]
[null,null,null,null,null,null,null,null,null,null,null,null,null,null,null,"",""]
[null,null,null,null,null,null,null,null,null,null,null,null,null,null,null,"",""]
[null,null,null,null,null,null,null,null,null,null,null,null,null,null,null,"",""]
[null,null,null,null,null,null,null,null,null,null,null,null,null,null,null,"",""]
[null,null,null,null,null,null,null,null,null,null,null,null,null,null,null,"",""]
[null,null,null,null,null,null,null,null,null,null,null,null,null,null,null,"",""]
[null,null,null,null,null,null,null,null,null,null,null,null,null,null,null,"",""]
[null,null,null,null,null,null,null,null,null,null,null,null,null,null,null,"",""]
[null,null,null,null,null,null,null,null,null,null,null,null,null,null,null,"",""]
[null,null,null,null,null,null,null,null,null,null,null,null,null,null,null,"",""]
[null,null,null,null,null,null,null,null,null,null,null,null,null,null,null,"",""]
[null,null,null,null,null,null,null,null,null,null,null,null,null,null,null,"",""]
[null,null,null,null,null,null,null,null,null,null,null,null,null,null,null,"",""]
[null,null,null,null,null,null,null,null,null,null,null,null,null,null,null,"",""]
[null,null,null,null,null,null,null,null,null,null,null,null,null,null,null,"",""]
[null,null,null,null,null,null,null,null,null,null,null,null,null,null,null,"",""]
[null,null,null,null,null,null,null,null,null,null,null,null,null,null,null,"",""]
[null,null,null,null,null,null,null,null,null,null,null,null,null,null,null,"",""]
[null,null,null,null,null,null,null,null,null,null,null,null,null,null,null,"",""]
[null,null,null,null,null,null,null,null,null,null,null,null,null,null,null,"",""]
[null,null,null,null,null,null,null,null,null,null,null,null,null,null,null,"",""]
[null,null,null,null,null,null,null,null,null,null,null,null,null,null,null,"",""]
[null,null,null,null,null,null,null,null,null,null,null,null,null,null,null,"",""]
[null,null,null,null,null,null,null,null,null,null,null,null,null,null,null,"",""]
[null,null,null,null,null,null,null,null,null,null,null,null,null,null,null,"",""]
[null,null,null,null,null,null,null,null,null,null,null,null,null,null,null,"",""]
[null,null,null,null,null,null,null,null,null,null,null,null,null,null,null,"",""]
[null,null,null,null,null,null,null,null,null,null,null,null,null,null,null,"",""]
[null,null,null,null,null,null,null,null,null,null,null,null,null,null,null,"",""]
[null,null,null,null,null,null,null,null,null,null,null,null,null,null,null,"",""]
[null,null,null,null,null,null,null,null,null,null,null,null,null,null,null,"",""]
[null,null,null,null,null,null,null,null,null,null,null,null,null,null,null,"",""]
[null,null,null,null,null,null,null,null,null,null,null,null,null,null,null,"",""]
[null,null,null,null,null,null,null,null,null,null,null,null,null,null,null,"",""]
[null,null,null,null,null,null,null,null,null,null,null,null,null,null,null,"",""]
[null,null,null,null,null,null,null,null,null,null,null,null,null,null,null,"",""]
[null,null,null,null,null,null,null,null,null,null,null,null,null,null,null,"",""]
[null,null,null,null,null,null,null,null,null,null,null,null,null,null,null,"",""]
[null,null,null,null,null,null,null,null,null,null,null,null,null,null,null,"",""]
[null,null,null,null,null,null,null,null,null,null,null,null,null,null,null,"",""]
[null,null,null,null,null,null,null,null,null,null,null,null,null,null,null,"",""]
[null,null,null,null,null,null,null,null,null,null,null,null,null,null,null,"",""]
[null,null,null,null,null,null,null,null,null,null,null,null,null,null,null,"",""]
[null,null,null,null,null,null,null,null,null,null,null,null,null,null,null,"",""]
[null,null,null,null,null,null,null,null,null,null,null,null,null,null,null,"",""]
[null,null,null,null,null,null,null,null,null,null,null,null,null,null,null,"",""]
[null,null,null,null,null,null,null,null,null,null,null,null,null,null,null,"",""]
[null,null,null,null,null,null,null,null,null,null,null,null,null,null,null,"",""]
[null,null,null,null,null,null,null,null,null,null,null,null,null,null,null,"",""]
[null,null,null,null,null,null,null,null,null,null,null,null,null,null,null,"",""]
[null,null,null,null,null,null,null,null,null,null,null,null,null,null,null,"",""]
[null,null,null,null,null,null,null,null,null,null,null,null,null,null,null,"",""]
[null,null,null,null,null,null,null,null,null,null,null,null,null,null,null,"",""]
[null,null,null,null,null,null,null,null,null,null,null,null,null,null,null,"",""]
[null,null,null,null,null,null,null,null,null,null,null,null,null,null,null,"",""]
[null,null,null,null,null,null,null,null,null,null,null,null,null,null,null,"",""]
[null,null,null,null,null,null,null,null,null,null,null,null,null,null,null,"",""]
[null,null,null,null,null,null,null,null,null,null,null,null,null,null,null,"",""]
[null,null,null,null,null,null,null,null,null,null,null,null,null,null,null,"",""]
[null,null,null,null,null,null,null,null,null,null,null,null,null,null,null,"",""]
[null,null,null,null,null,null,null,null,null,null,null,null,null,null,null,"",""]
[null,null,null,null,null,null,null,null,null,null,null,null,null,null,null,"",""]
[null,null,null,null,null,null,null,null,null,null,null,null,null,null,null,"",""]
[null,null,null,null,null,null,null,null,null,null,null,null,null,null,null,"",""]
[null,null,null,null,null,null,null,null,null,null,null,null,null,null,null,"",""]
[null,null,null,null,null,null,null,null,null,null,null,null,null,null,null,"",""]
[null,null,null,null,null,null,null,null,null,null,null,null,null,null,null,"",""]
[null,null,null,null,null,null,null,null,null,null,null,null,null,null,null,"",""]
[null,null,null,null,null,null,null,null,null,null,null,null,null,null,null,"",""]
[null,null,null,null,null,null,null,null,null,null,null,null,null,null,null,"",""]
[null,null,null,null,null,null,null,null,null,null,null,null,null,null,null,"",""]
[null,null,null,null,null,null,null,null,null,null,null,null,null,null,null,"",""]
[null,null,null,null,null,null,null,null,null,null,null,null,null,null,null,"",""]
[null,null,null,null,null,null,null,null,null,null,null,null,null,null,null,"",""]
[null,null,null,null,null,null,null,null,null,null,null,null,null,null,null,"",""]
[null,null,null,null,null,null,null,null,null,null,null,null,null,null,null,"",""]
[null,null,null,null,null,null,null,null,null,null,null,null,null,null,null,"",""]
[null,null,null,null,null,null,null,null,null,null,null,null,null,null,null,"",""]
[null,null,null,null,null,null,null,null,null,null,null,null,null,null,null,"",""]
[null,null,null,null,null,null,null,null,null,null,null,null,null,null,null,"",""]
[null,null,null,null,null,null,null,null,null,null,null,null,null,null,null,"",""]
[null,null,null,null,null,null,null,null,null,null,null,null,null,null,null,"",""]
[null,null,null,null,null,null,null,null,null,null,null,null,null,null,null,"",""]
[null,null,null,null,null,null,null,null,null,null,null,null,null,null,null,"",""]
[null,null,null,null,null,null,null,null,null,null,null,null,null,null,null,"",""]
[null,null,null,null,null,null,null,null,null,null,null,null,null,null,null,"",""]
[null,null,null,null,null,null,null,null,null,null,null,null,null,null,null,"",""]
[null,null,null,null,null,null,null,null,null,null,null,null,null,null,null,"",""]
[null,null,null,null,null,null,null,null,null,null,null,null,null,null,null,"",""]
[null,null,null,null,null,null,null,null,null,null,null,null,null,null,null,"",""]
[null,null,null,null,null,null,null,null,null,null,null,null,null,null,null,"",""]
[null,null,null,null,null,null,null,null,null,null,null,null,null,null,null,"",""]
[null,null,null,null,null,null,null,null,null,null,null,null,null,null,null,"",""]
[null,null,null,null,null,null,null,null,null,null,null,null,null,null,null,"",""]
[null,null,null,null,null,null,null,null,null,null,null,null,null,null,null,"",""]
[null,null,null,null,null,null,null,null,null,null,null,null,null,null,null,"",""]
[null,null,null,null,null,null,null,null,null,null,null,null,null,null,null,"",""]
[null,null,null,null,null,null,null,null,null,null,null,null,null,null,null,"",""]
[null,null,null,null,null,null,null,null,null,null,null,null,null,null,null,"",""]
[null,null,null,null,null,null,null,null,null,null,null,null,null,null,null,"",""]
[null,null,null,null,null,null,null,null,null,null,null,null,null,null,null,"",""]
[null,null,null,null,null,null,null,null,null,null,null,null,null,null,null,"",""]
[null,null,null,null,null,null,null,null,null,null,null,null,null,null,null,"",""]
[null,null,null,null,null,null,null,null,null,null,null,null,null,null,null,"",""]
[null,null,null,null,null,null,null,null,null,null,null,null,null,null,null,"",""]
[null,null,null,null,null,null,null,null,null,null,null,null,null,null,null,"",""]
[null,null,null,null,null,null,null,null,null,null,null,null,null,null,null,"",""]
[null,null,null,null,null,null,null,null,null,null,null,null,null,null,null,"",""]
[null,null,null,null,null,null,null,null,null,null,null,null,null,null,null,"",""]
[null,null,null,null,null,null,null,null,null,null,null,null,null,null,null,"",""]
[null,null,null,null,null,null,null,null,null,null,null,null,null,null,null,"",""]
[null,null,null,null,null,null,null,null,null,null,null,null,null,null,null,"",""]
[null,null,null,null,null,null,null,null,null,null,null,null,null,null,null,"",""]
[null,null,null,null,null,null,null,null,null,null,null,null,null,null,null,"",""]
[null,null,null,null,null,null,null,null,null,null,null,null,null,null,null,"",""]
[null,null,null,null,null,null,null,null,null,null,null,null,null,null,null,"",""]
[null,null,null,null,null,null,null,null,null,null,null,null,null,null,null,"",""]
[null,null,null,null,null,null,null,null,null,null,null,null,null,null,null,"",""]
[null,null,null,null,null,null,null,null,null,null,null,null,null,null,null,"",""]
[null,null,null,null,null,null,null,null,null,null,null,null,null,null,null,"",""]
[null,null,null,null,null,null,null,null,null,null,null,null,null,null,null,"",""]
[null,null,null,null,null,null,null,null,null,null,null,null,null,null,null,"",""]
[null,null,null,null,null,null,null,null,null,null,null,null,null,null,null,"",""]
[null,null,null,null,null,null,null,null,null,null,null,null,null,null,null,"",""]
[null,null,null,null,null,null,null,null,null,null,null,null,null,null,null,"",""]
[null,null,null,null,null,null,null,null,null,null,null,null,null,null,null,"",""]
[null,null,null,null,null,null,null,null,null,null,null,null,null,null,null,"",""]
[null,null,null,null,null,null,null,null,null,null,null,null,null,null,null,"",""]
[null,null,null,null,null,null,null,null,null,null,null,null,null,null,null,"",""]
[null,null,null,null,null,null,null,null,null,null,null,null,null,null,null,"",""]
[null,null,null,null,null,null,null,null,null,null,null,null,null,null,null,"",""]
[null,null,null,null,null,null,null,null,null,null,null,null,null,null,null,"",""]
[null,null,null,null,null,null,null,null,null,null,null,null,null,null,null,"",""]
[null,null,null,null,null,null,null,null,null,null,null,null,null,null,null,"",""]
[null,null,null,null,null,null,null,null,null,null,null,null,null,null,null,"",""]
[null,null,null,null,null,null,null,null,null,null,null,null,null,null,null,"",""]
[null,null,null,null,null,null,null,null,null,null,null,null,null,null,null,"",""]
[null,null,null,null,null,null,null,null,null,null,null,null,null,null,null,"",""]
[null,null,null,null,null,null,null,null,null,null,null,null,null,null,null,"",""]
[null,null,null,null,null,null,null,null,null,null,null,null,null,null,null,"",""]
[null,null,null,null,null,null,null,null,null,null,null,null,null,null,null,"",""]
[null,null,null,null,null,null,null,null,null,null,null,null,null,null,null,"",""]
[null,null,null,null,null,null,null,null,null,null,null,null,null,null,null,"",""]
[null,null,null,null,null,null,null,null,null,null,null,null,null,null,null,"",""]
[null,null,null,null,null,null,null,null,null,null,null,null,null,null,null,"",""]
[null,null,null,null,null,null,null,null,null,null,null,null,null,null,null,"",""]
[null,null,null,null,null,null,null,null,null,null,null,null,null,null,null,"",""]
[null,null,null,null,null,null,null,null,null,null,null,null,null,null,null,"",""]
[null,null,null,null,null,null,null,null,null,null,null,null,null,null,null,"",""]
[null,null,null,null,null,null,null,null,null,null,null,null,null,null,null,"",""]
[null,null,null,null,null,null,null,null,null,null,null,null,null,null,null,"",""]
[null,null,null,null,null,null,null,null,null,null,null,null,null,null,null,"",""]
[null,null,null,null,null,null,null,null,null,null,null,null,null,null,null,"",""]
[null,null,null,null,null,null,null,null,null,null,null,null,null,null,null,"",""]
[null,null,null,null,null,null,null,null,null,null,null,null,null,null,null,"",""]
[null,null,null,null,null,null,null,null,null,null,null,null,null,null,null,"",""]
[null,null,null,null,null,null,null,null,null,null,null,null,null,null,null,"",""]
[null,null,null,null,null,null,null,null,null,null,null,null,null,null,null,"",""]
[null,null,null,null,null,null,null,null,null,null,null,null,null,null,null,"",""]
[null,null,null,null,null,null,null,null,null,null,null,null,null,null,null,"",""]
[null,null,null,null,null,null,null,null,null,null,null,null,null,null,null,"",""]
[null,null,null,null,null,null,null,null,null,null,null,null,null,null,null,"",""]
[null,null,null,null,null,null,null,null,null,null,null,null,null,null,null,"",""]
[null,null,null,null,null,null,null,null,null,null,null,null,null,null,null,"",""]
[null,null,null,null,null,null,null,null,null,null,null,null,null,null,null,"",""]
[null,null,null,null,null,null,null,null,null,null,null,null,null,null,null,"",""]
[null,null,null,null,null,null,null,null,null,null,null,null,null,null,null,"",""]
[null,null,null,null,null,null,null,null,null,null,null,null,null,null,null,"",""]
[null,null,null,null,null,null,null,null,null,null,null,null,null,null,null,"",""]
[null,null,null,null,null,null,null,null,null,null,null,null,null,null,null,"",""]
[null,null,null,null,null,null,null,null,null,null,null,null,null,null,null,"",""]
[null,null,null,null,null,null,null,null,null,null,null,null,null,null,null,"",""]
[null,null,null,null,null,null,null,null,null,null,null,null,null,null,null,"",""]
[null,null,null,null,null,null,null,null,null,null,null,null,null,null,null,"",""]
[null,null,null,null,null,null,null,null,null,null,null,null,null,null,null,"",""]
[null,null,null,null,null,null,null,null,null,null,null,null,null,null,null,"",""]
[null,null,null,null,null,null,null,null,null,null,null,null,null,null,null,"",""]
[null,null,null,null,null,null,null,null,null,null,null,null,null,null,null,"",""]
[null,null,null,null,null,null,null,null,null,null,null,null,null,null,null,"",""]
[null,null,null,null,null,null,null,null,null,null,null,null,null,null,null,"",""]
[null,null,null,null,null,null,null,null,null,null,null,null,null,null,null,"",""]
[null,null,null,null,null,null,null,null,null,null,null,null,null,null,null,"",""]
[null,null,null,null,null,null,null,null,null,null,null,null,null,null,null,"",""]
[null,null,null,null,null,null,null,null,null,null,null,null,null,null,null,"",""]
[null,null,null,null,null,null,null,null,null,null,null,null,null,null,null,"",""]
[null,null,null,null,null,null,null,null,null,null,null,null,null,null,null,"",""]
[null,null,null,null,null,null,null,null,null,null,null,null,null,null,null,"",""]
[null,null,null,null,null,null,null,null,null,null,null,null,null,null,null,"",""]
[null,null,null,null,null,null,null,null,null,null,null,null,null,null,null,"",""]
[null,null,null,null,null,null,null,null,null,null,null,null,null,null,null,"",""]
[null,null,null,null,null,null,null,null,null,null,null,null,null,null,null,"",""]
[null,null,null,null,null,null,null,null,null,null,null,null,null,null,null,"",""]
[null,null,null,null,null,null,null,null,null,null,null,null,null,null,null,"",""]
[null,null,null,null,null,null,null,null,null,null,null,null,null,null,null,"",""]
[null,null,null,null,null,null,null,null,null,null,null,null,null,null,null,"",""]
[null,null,null,null,null,null,null,null,null,null,null,null,null,null,null,"",""]
[null,null,null,null,null,null,null,null,null,null,null,null,null,null,null,"",""]
[null,null,null,null,null,null,null,null,null,null,null,null,null,null,null,"",""]
[null,null,null,null,null,null,null,null,null,null,null,null,null,null,null,"",""]
[null,null,null,null,null,null,null,null,null,null,null,null,null,null,null,"",""]
[null,null,null,null,null,null,null,null,null,null,null,null,null,null,null,"",""]
[null,null,null,null,null,null,null,null,null,null,null,null,null,null,null,"",""]
[null,null,null,null,null,null,null,null,null,null,null,null,null,null,null,"",""]
[null,null,null,null,null,null,null,null,null,null,null,null,null,null,null,"",""]
[null,null,null,null,null,null,null,null,null,null,null,null,null,null,null,"",""]
[null,null,null,null,null,null,null,null,null,null,null,null,null,null,null,"",""]
[null,null,null,null,null,null,null,null,null,null,null,null,null,null,null,"",""]
[null,null,null,null,null,null,null,null,null,null,null,null,null,null,null,"",""]
[null,null,null,null,null,null,null,null,null,null,null,null,null,null,null,"",""]
[null,null,null,null,null,null,null,null,null,null,null,null,null,null,null,"",""]
[null,null,null,null,null,null,null,null,null,null,null,null,null,null,null,"",""]
[null,null,null,null,null,null,null,null,null,null,null,null,null,null,null,"",""]
[null,null,null,null,null,null,null,null,null,null,null,null,null,null,null,"",""]
[null,null,null,null,null,null,null,null,null,null,null,null,null,null,null,"",""]
[null,null,null,null,null,null,null,null,null,null,null,null,null,null,null,"",""]
[null,null,null,null,null,null,null,null,null,null,null,null,null,null,null,"",""]
[null,null,null,null,null,null,null,null,null,null,null,null,null,null,null,"",""]
[null,null,null,null,null,null,null,null,null,null,null,null,null,null,null,"",""]
[null,null,null,null,null,null,null,null,null,null,null,null,null,null,null,"",""]
[null,null,null,null,null,null,null,null,null,null,null,null,null,null,null,"",""]
[null,null,null,null,null,null,null,null,null,null,null,null,null,null,null,"",""]
[null,null,null,null,null,null,null,null,null,null,null,null,null,null,null,"",""]
[null,null,null,null,null,null,null,null,null,null,null,null,null,null,null,"",""]
[null,null,null,null,null,null,null,null,null,null,null,null,null,null,null,"",""]
[null,null,null,null,null,null,null,null,null,null,null,null,null,null,null,"",""]
[null,null,null,null,null,null,null,null,null,null,null,null,null,null,null,"",""]
[null,null,null,null,null,null,null,null,null,null,null,null,null,null,null,"",""]
[null,null,null,null,null,null,null,null,null,null,null,null,null,null,null,"",""]
[null,null,null,null,null,null,null,null,null,null,null,null,null,null,null,"",""]
[null,null,null,null,null,null,null,null,null,null,null,null,null,null,null,"",""]
[null,null,null,null,null,null,null,null,null,null,null,null,null,null,null,"",""]
[null,null,null,null,null,null,null,null,null,null,null,null,null,null,null,"",""]
[null,null,null,null,null,null,null,null,null,null,null,null,null,null,null,"",""]
[null,null,null,null,null,null,null,null,null,null,null,null,null,null,null,"",""]
[null,null,null,null,null,null,null,null,null,null,null,null,null,null,null,"",""]
[null,null,null,null,null,null,null,null,null,null,null,null,null,null,null,"",""]
[null,null,null,null,null,null,null,null,null,null,null,null,null,null,null,"",""]
[null,null,null,null,null,null,null,null,null,null,null,null,null,null,null,"",""]
[null,null,null,null,null,null,null,null,null,null,null,null,null,null,null,"",""]
[null,null,null,null,null,null,null,null,null,null,null,null,null,null,null,"",""]
[null,null,null,null,null,null,null,null,null,null,null,null,null,null,null,"",""]
[null,null,null,null,null,null,null,null,null,null,null,null,null,null,null,"",""]
[null,null,null,null,null,null,null,null,null,null,null,null,null,null,null,"",""]
[null,null,null,null,null,null,null,null,null,null,null,null,null,null,null,"",""]
[null,null,null,null,null,null,null,null,null,null,null,null,null,null,null,"",""]
[null,null,null,null,null,null,null,null,null,null,null,null,null,null,null,"",""]
[null,null,null,null,null,null,null,null,null,null,null,null,null,null,null,"",""]
[null,null,null,null,null,null,null,null,null,null,null,null,null,null,null,"",""]
[null,null,null,null,null,null,null,null,null,null,null,null,null,null,null,"",""]
[null,null,null,null,null,null,null,null,null,null,null,null,null,null,null,"",""]
[null,null,null,null,null,null,null,null,null,null,null,null,null,null,null,"",""]
[null,null,null,null,null,null,null,null,null,null,null,null,null,null,null,"",""]
[null,null,null,null,null,null,null,null,null,null,null,null,null,null,null,"",""]
[null,null,null,null,null,null,null,null,null,null,null,null,null,null,null,"",""]
[null,null,null,null,null,null,null,null,null,null,null,null,null,null,null,"",""]
[null,null,null,null,null,null,null,null,null,null,null,null,null,null,null,"",""]
[null,null,null,null,null,null,null,null,null,null,null,null,null,null,null,"",""]
[null,null,null,null,null,null,null,null,null,null,null,null,null,null,null,"",""]
[null,null,null,null,null,null,null,null,null,null,null,null,null,null,null,"",""]
[null,null,null,null,null,null,null,null,null,null,null,null,null,null,null,"",""]
[null,null,null,null,null,null,null,null,null,null,null,null,null,null,null,"",""]
[null,null,null,null,null,null,null,null,null,null,null,null,null,null,null,"",""]
[null,null,null,null,null,null,null,null,null,null,null,null,null,null,null,"",""]
[null,null,null,null,null,null,null,null,null,null,null,null,null,null,null,"",""]
[null,null,null,null,null,null,null,null,null,null,null,null,null,null,null,"",""]
[null,null,null,null,null,null,null,null,null,null,null,null,null,null,null,"",""]
[null,null,null,null,null,null,null,null,null,null,null,null,null,null,null,"",""]
[null,null,null,null,null,null,null,null,null,null,null,null,null,null,null,"",""]
[null,null,null,null,null,null,null,null,null,null,null,null,null,null,null,"",""]
[null,null,null,null,null,null,null,null,null,null,null,null,null,null,null,"",""]
[null,null,null,null,null,null,null,null,null,null,null,null,null,null,null,"",""]
[null,null,null,null,null,null,null,null,null,null,null,null,null,null,null,"",""]
[null,null,null,null,null,null,null,null,null,null,null,null,null,null,null,"",""]
[null,null,null,null,null,null,null,null,null,null,null,null,null,null,null,"",""]
[null,null,null,null,null,null,null,null,null,null,null,null,null,null,null,"",""]
[null,null,null,null,null,null,null,null,null,null,null,null,null,null,null,"",""]
[null,null,null,null,null,null,null,null,null,null,null,null,null,null,null,"",""]
[null,null,null,null,null,null,null,null,null,null,null,null,null,null,null,"",""]
[null,null,null,null,null,null,null,null,null,null,null,null,null,null,null,"",""]
[null,null,null,null,null,null,null,null,null,null,null,null,null,null,null,"",""]
[null,null,null,null,null,null,null,null,null,null,null,null,null,null,null,"",""]
[null,null,null,null,null,null,null,null,null,null,null,null,null,null,null,"",""]
[null,null,null,null,null,null,null,null,null,null,null,null,null,null,null,"",""]
[null,null,null,null,null,null,null,null,null,null,null,null,null,null,null,"",""]
[null,null,null,null,null,null,null,null,null,null,null,null,null,null,null,"",""]
[null,null,null,null,null,null,null,null,null,null,null,null,null,null,null,"",""]
[null,null,null,null,null,null,null,null,null,null,null,null,null,null,null,"",""]
[null,null,null,null,null,null,null,null,null,null,null,null,null,null,null,"",""]
[null,null,null,null,null,null,null,null,null,null,null,null,null,null,null,"",""]
[null,null,null,null,null,null,null,null,null,null,null,null,null,null,null,"",""]
[null,null,null,null,null,null,null,null,null,null,null,null,null,null,null,"",""]
[null,null,null,null,null,null,null,null,null,null,null,null,null,null,null,"",""]
[null,null,null,null,null,null,null,null,null,null,null,null,null,null,null,"",""]
[null,null,null,null,null,null,null,null,null,null,null,null,null,null,null,"",""]
[null,null,null,null,null,null,null,null,null,null,null,null,null,null,null,"",""]
[null,null,null,null,null,null,null,null,null,null,null,null,null,null,null,"",""]
[null,null,null,null,null,null,null,null,null,null,null,null,null,null,null,"",""]
[null,null,null,null,null,null,null,null,null,null,null,null,null,null,null,"",""]
[null,null,null,null,null,null,null,null,null,null,null,null,null,null,null,"",""]
[null,null,null,null,null,null,null,null,null,null,null,null,null,null,null,"",""]
[null,null,null,null,null,null,null,null,null,null,null,null,null,null,null,"",""]
[null,null,null,null,null,null,null,null,null,null,null,null,null,null,null,"",""]
[null,null,null,null,null,null,null,null,null,null,null,null,null,null,null,"",""]
[null,null,null,null,null,null,null,null,null,null,null,null,null,null,null,"",""]
[null,null,null,null,null,null,null,null,null,null,null,null,null,null,null,"",""]
[null,null,null,null,null,null,null,null,null,null,null,null,null,null,null,"",""]
[null,null,null,null,null,null,null,null,null,null,null,null,null,null,null,"",""]
[null,null,null,null,null,null,null,null,null,null,null,null,null,null,null,"",""]
[null,null,null,null,null,null,null,null,null,null,null,null,null,null,null,"",""]
[null,null,null,null,null,null,null,null,null,null,null,null,null,null,null,"",""]
[null,null,null,null,null,null,null,null,null,null,null,null,null,null,null,"",""]
[null,null,null,null,null,null,null,null,null,null,null,null,null,null,null,"",""]
[null,null,null,null,null,null,null,null,null,null,null,null,null,null,null,"",""]
[null,null,null,null,null,null,null,null,null,null,null,null,null,null,null,"",""]
[null,null,null,null,null,null,null,null,null,null,null,null,null,null,null,"",""]
[null,null,null,null,null,null,null,null,null,null,null,null,null,null,null,"",""]
[null,null,null,null,null,null,null,null,null,null,null,null,null,null,null,"",""]
[null,null,null,null,null,null,null,null,null,null,null,null,null,null,null,"",""]
[null,null,null,null,null,null,null,null,null,null,null,null,null,null,null,"",""]
[null,null,null,null,null,null,null,null,null,null,null,null,null,null,null,"",""]
[null,null,null,null,null,null,null,null,null,null,null,null,null,null,null,"",""]
[null,null,null,null,null,null,null,null,null,null,null,null,null,null,null,"",""]
[null,null,null,null,null,null,null,null,null,null,null,null,null,null,null,"",""]
[null,null,null,null,null,null,null,null,null,null,null,null,null,null,null,"",""]
[null,null,null,null,null,null,null,null,null,null,null,null,null,null,null,"",""]
[null,null,null,null,null,null,null,null,null,null,null,null,null,null,null,"",""]
[null,null,null,null,null,null,null,null,null,null,null,null,null,null,null,"",""]
[null,null,null,null,null,null,null,null,null,null,null,null,null,null,null,"",""]
[null,null,null,null,null,null,null,null,null,null,null,null,null,null,null,"",""]
[null,null,null,null,null,null,null,null,null,null,null,null,null,null,null,"",""]
[null,null,null,null,null,null,null,null,null,null,null,null,null,null,null,"",""]
[null,null,null,null,null,null,null,null,null,null,null,null,null,null,null,"",""]
[null,null,null,null,null,null,null,null,null,null,null,null,null,null,null,"",""]
[null,null,null,null,null,null,null,null,null,null,null,null,null,null,null,"",""]
[null,null,null,null,null,null,null,null,null,null,null,null,null,null,null,"",""]
[null,null,null,null,null,null,null,null,null,null,null,null,null,null,null,"",""]
[null,null,null,null,null,null,null,null,null,null,null,null,null,null,null,"",""]
[null,null,null,null,null,null,null,null,null,null,null,null,null,null,null,"",""]
[null,null,null,null,null,null,null,null,null,null,null,null,null,null,null,"",""]
[null,null,null,null,null,null,null,null,null,null,null,null,null,null,null,"",""]
[null,null,null,null,null,null,null,null,null,null,null,null,null,null,null,"",""]
[null,null,null,null,null,null,null,null,null,null,null,null,null,null,null,"",""]
[null,null,null,null,null,null,null,null,null,null,null,null,null,null,null,"",""]
[null,null,null,null,null,null,null,null,null,null,null,null,null,null,null,"",""]
[null,null,null,null,null,null,null,null,null,null,null,null,null,null,null,"",""]
[null,null,null,null,null,null,null,null,null,null,null,null,null,null,null,"",""]
[null,null,null,null,null,null,null,null,null,null,null,null,null,null,null,"",""]
[null,null,null,null,null,null,null,null,null,null,null,null,null,null,null,"",""]
[null,null,null,null,null,null,null,null,null,null,null,null,null,null,null,"",""]
[null,null,null,null,null,null,null,null,null,null,null,null,null,null,null,"",""]
[null,null,null,null,null,null,null,null,null,null,null,null,null,null,null,"",""]
[null,null,null,null,null,null,null,null,null,null,null,null,null,null,null,"",""]
[null,null,null,null,null,null,null,null,null,null,null,null,null,null,null,"",""]
[null,null,null,null,null,null,null,null,null,null,null,null,null,null,null,"",""]
[null,null,null,null,null,null,null,null,null,null,null,null,null,null,null,"",""]
[null,null,null,null,null,null,null,null,null,null,null,null,null,null,null,"",""]
[null,null,null,null,null,null,null,null,null,null,null,null,null,null,null,"",""]
[null,null,null,null,null,null,null,null,null,null,null,null,null,null,null,"",""]
[null,null,null,null,null,null,null,null,null,null,null,null,null,null,null,"",""]
[null,null,null,null,null,null,null,null,null,null,null,null,null,null,null,"",""]
[null,null,null,null,null,null,null,null,null,null,null,null,null,null,null,"",""]
[null,null,null,null,null,null,null,null,null,null,null,null,null,null,null,"",""]
[null,null,null,null,null,null,null,null,null,null,null,null,null,null,null,"",""]
[null,null,null,null,null,null,null,null,null,null,null,null,null,null,null,"",""]
[null,null,null,null,null,null,null,null,null,null,null,null,null,null,null,"",""]
[null,null,null,null,null,null,null,null,null,null,null,null,null,null,null,"",""]
[null,null,null,null,null,null,null,null,null,null,null,null,null,null,null,"",""]
[null,null,null,null,null,null,null,null,null,null,null,null,null,null,null,"",""]
[null,null,null,null,null,null,null,null,null,null,null,null,null,null,null,"",""]
[null,null,null,null,null,null,null,null,null,null,null,null,null,null,null,"",""]
[null,null,null,null,null,null,null,null,null,null,null,null,null,null,null,"",""]
[null,null,null,null,null,null,null,null,null,null,null,null,null,null,null,"",""]
[null,null,null,null,null,null,null,null,null,null,null,null,null,null,null,"",""]
[null,null,null,null,null,null,null,null,null,null,null,null,null,null,null,"",""]
[null,null,null,null,null,null,null,null,null,null,null,null,null,null,null,"",""]
[null,null,null,null,null,null,null,null,null,null,null,null,null,null,null,"",""]
[null,null,null,null,null,null,null,null,null,null,null,null,null,null,null,"",""]
[null,null,null,null,null,null,null,null,null,null,null,null,null,null,null,"",""]
[null,null,null,null,null,null,null,null,null,null,null,null,null,null,null,"",""]
[null,null,null,null,null,null,null,null,null,null,null,null,null,null,null,"",""]
[null,null,null,null,null,null,null,null,null,null,null,null,null,null,null,"",""]
[null,null,null,null,null,null,null,null,null,null,null,null,null,null,null,"",""]
[null,null,null,null,null,null,null,null,null,null,null,null,null,null,null,"",""]
[null,null,null,null,null,null,null,null,null,null,null,null,null,null,null,"",""]
[null,null,null,null,null,null,null,null,null,null,null,null,null,null,null,"",""]
[null,null,null,null,null,null,null,null,null,null,null,null,null,null,null,"",""]
[null,null,null,null,null,null,null,null,null,null,null,null,null,null,null,"",""]
[null,null,null,null,null,null,null,null,null,null,null,null,null,null,null,"",""]
[null,null,null,null,null,null,null,null,null,null,null,null,null,null,null,"",""]
[null,null,null,null,null,null,null,null,null,null,null,null,null,null,null,"",""]
[null,null,null,null,null,null,null,null,null,null,null,null,null,null,null,"",""]
[null,null,null,null,null,null,null,null,null,null,null,null,null,null,null,"",""]
[null,null,null,null,null,null,null,null,null,null,null,null,null,null,null,"",""]
[null,null,null,null,null,null,null,null,null,null,null,null,null,null,null,"",""]
[null,null,null,null,null,null,null,null,null,null,null,null,null,null,null,"",""]
[null,null,null,null,null,null,null,null,null,null,null,null,null,null,null,"",""]
[null,null,null,null,null,null,null,null,null,null,null,null,null,null,null,"",""]
[null,null,null,null,null,null,null,null,null,null,null,null,null,null,null,"",""]
[null,null,null,null,null,null,null,null,null,null,null,null,null,null,null,"",""]
[null,null,null,null,null,null,null,null,null,null,null,null,null,null,null,"",""]
[null,null,null,null,null,null,null,null,null,null,null,null,null,null,null,"",""]
[null,null,null,null,null,null,null,null,null,null,null,null,null,null,null,"",""]
[null,null,null,null,null,null,null,null,null,null,null,null,null,null,null,"",""]
[null,null,null,null,null,null,null,null,null,null,null,null,null,null,null,"",""]
[null,null,null,null,null,null,null,null,null,null,null,null,null,null,null,"",""]
[null,null,null,null,null,null,null,null,null,null,null,null,null,null,null,"",""]
[null,null,null,null,null,null,null,null,null,null,null,null,null,null,null,"",""]
[null,null,null,null,null,null,null,null,null,null,null,null,null,null,null,"",""]
[null,null,null,null,null,null,null,null,null,null,null,null,null,null,null,"",""]
[null,null,null,null,null,null,null,null,null,null,null,null,null,null,null,"",""]
[null,null,null,null,null,null,null,null,null,null,null,null,null,null,null,"",""]
[null,null,null,null,null,null,null,null,null,null,null,null,null,null,null,"",""]
[null,null,null,null,null,null,null,null,null,null,null,null,null,null,null,"",""]
[null,null,null,null,null,null,null,null,null,null,null,null,null,null,null,"",""]
[null,null,null,null,null,null,null,null,null,null,null,null,null,null,null,"",""]
[null,null,null,null,null,null,null,null,null,null,null,null,null,null,null,"",""]
[null,null,null,null,null,null,null,null,null,null,null,null,null,null,null,"",""]
[null,null,null,null,null,null,null,null,null,null,null,null,null,null,null,"",""]
[null,null,null,null,null,null,null,null,null,null,null,null,null,null,null,"",""]
[null,null,null,null,null,null,null,null,null,null,null,null,null,null,null,"",""]
[null,null,null,null,null,null,null,null,null,null,null,null,null,null,null,"",""]
[null,null,null,null,null,null,null,null,null,null,null,null,null,null,null,"",""]
[null,null,null,null,null,null,null,null,null,null,null,null,null,null,null,"",""]
[null,null,null,null,null,null,null,null,null,null,null,null,null,null,null,"",""]
[null,null,null,null,null,null,null,null,null,null,null,null,null,null,null,"",""]
[null,null,null,null,null,null,null,null,null,null,null,null,null,null,null,"",""]
[null,null,null,null,null,null,null,null,null,null,null,null,null,null,null,"",""]
[null,null,null,null,null,null,null,null,null,null,null,null,null,null,null,"",""]
[null,null,null,null,null,null,null,null,null,null,null,null,null,null,null,"",""]
[null,null,null,null,null,null,null,null,null,null,null,null,null,null,null,"",""]
[null,null,null,null,null,null,null,null,null,null,null,null,null,null,null,"",""]
[null,null,null,null,null,null,null,null,null,null,null,null,null,null,null,"",""]
[null,null,null,null,null,null,null,null,null,null,null,null,null,null,null,"",""]
[null,null,null,null,null,null,null,null,null,null,null,null,null,null,null,"",""]
[null,null,null,null,null,null,null,null,null,null,null,null,null,null,null,"",""]
[null,null,null,null,null,null,null,null,null,null,null,null,null,null,null,"",""]
[null,null,null,null,null,null,null,null,null,null,null,null,null,null,null,"",""]
[null,null,null,null,null,null,null,null,null,null,null,null,null,null,null,"",""]
[null,null,null,null,null,null,null,null,null,null,null,null,null,null,null,"",""]
[null,null,null,null,null,null,null,null,null,null,null,null,null,null,null,"",""]
[null,null,null,null,null,null,null,null,null,null,null,null,null,null,null,"",""]
[null,null,null,null,null,null,null,null,null,null,null,null,null,null,null,"",""]
[null,null,null,null,null,null,null,null,null,null,null,null,null,null,null,"",""]
[null,null,null,null,null,null,null,null,null,null,null,null,null,null,null,"",""]
[null,null,null,null,null,null,null,null,null,null,null,null,null,null,null,"",""]
[null,null,null,null,null,null,null,null,null,null,null,null,null,null,null,"",""]
[null,null,null,null,null,null,null,null,null,null,null,null,null,null,null,"",""]
[null,null,null,null,null,null,null,null,null,null,null,null,null,null,null,"",""]
[null,null,null,null,null,null,null,null,null,null,null,null,null,null,null,"",""]
[null,null,null,null,null,null,null,null,null,null,null,null,null,null,null,"",""]
[null,null,null,null,null,null,null,null,null,null,null,null,null,null,null,"",""]
[null,null,null,null,null,null,null,null,null,null,null,null,null,null,null,"",""]
[null,null,null,null,null,null,null,null,null,null,null,null,null,null,null,"",""]
[null,null,null,null,null,null,null,null,null,null,null,null,null,null,null,"",""]
[null,null,null,null,null,null,null,null,null,null,null,null,null,null,null,"",""]
[null,null,null,null,null,null,null,null,null,null,null,null,null,null,null,"",""]
[null,null,null,null,null,null,null,null,null,null,null,null,null,null,null,"",""]
[null,null,null,null,null,null,null,null,null,null,null,null,null,null,null,"",""]
[null,null,null,null,null,null,null,null,null,null,null,null,null,null,null,"",""]
[null,null,null,null,null,null,null,null,null,null,null,null,null,null,null,"",""]
[null,null,null,null,null,null,null,null,null,null,null,null,null,null,null,"",""]
[null,null,null,null,null,null,null,null,null,null,null,null,null,null,null,"",""]
[null,null,null,null,null,null,null,null,null,null,null,null,null,null,null,"",""]
[null,null,null,null,null,null,null,null,null,null,null,null,null,null,null,"",""]
[null,null,null,null,null,null,null,null,null,null,null,null,null,null,null,"",""]
[null,null,null,null,null,null,null,null,null,null,null,null,null,null,null,"",""]
[null,null,null,null,null,null,null,null,null,null,null,null,null,null,null,"",""]
[null,null,null,null,null,null,null,null,null,null,null,null,null,null,null,"",""]
[null,null,null,null,null,null,null,null,null,null,null,null,null,null,null,"",""]
[null,null,null,null,null,null,null,null,null,null,null,null,null,null,null,"",""]
[null,null,null,null,null,null,null,null,null,null,null,null,null,null,null,"",""]
[null,null,null,null,null,null,null,null,null,null,null,null,null,null,null,"",""]
[null,null,null,null,null,null,null,null,null,null,null,null,null,null,null,"",""]
[null,null,null,null,null,null,null,null,null,null,null,null,null,null,null,"",""]
[null,null,null,null,null,null,null,null,null,null,null,null,null,null,null,"",""]
[null,null,null,null,null,null,null,null,null,null,null,null,null,null,null,"",""]
[null,null,null,null,null,null,null,null,null,null,null,null,null,null,null,"",""]
[null,null,null,null,null,null,null,null,null,null,null,null,null,null,null,"",""]
[null,null,null,null,null,null,null,null,null,null,null,null,null,null,null,"",""]
[null,null,null,null,null,null,null,null,null,null,null,null,null,null,null,"",""]
[null,null,null,null,null,null,null,null,null,null,null,null,null,null,null,"",""]
[null,null,null,null,null,null,null,null,null,null,null,null,null,null,null,"",""]
[null,null,null,null,null,null,null,null,null,null,null,null,null,null,null,"",""]
[null,null,null,null,null,null,null,null,null,null,null,null,null,null,null,"",""]
[null,null,null,null,null,null,null,null,null,null,null,null,null,null,null,"",""]
[null,null,null,null,null,null,null,null,null,null,null,null,null,null,null,"",""]
[null,null,null,null,null,null,null,null,null,null,null,null,null,null,null,"",""]
[null,null,null,null,null,null,null,null,null,null,null,null,null,null,null,"",""]
[null,null,null,null,null,null,null,null,null,null,null,null,null,null,null,"",""]
[null,null,null,null,null,null,null,null,null,null,null,null,null,null,null,"",""]
[null,null,null,null,null,null,null,null,null,null,null,null,null,null,null,"",""]
[null,null,null,null,null,null,null,null,null,null,null,null,null,null,null,"",""]
[null,null,null,null,null,null,null,null,null,null,null,null,null,null,null,"",""]
[null,null,null,null,null,null,null,null,null,null,null,null,null,null,null,"",""]
[null,null,null,null,null,null,null,null,null,null,null,null,null,null,null,"",""]
[null,null,null,null,null,null,null,null,null,null,null,null,null,null,null,"",""]
[null,null,null,null,null,null,null,null,null,null,null,null,null,null,null,"",""]
[null,null,null,null,null,null,null,null,null,null,null,null,null,null,null,"",""]
[null,null,null,null,null,null,null,null,null,null,null,null,null,null,null,"",""]
[null,null,null,null,null,null,null,null,null,null,null,null,null,null,null,"",""]
[null,null,null,null,null,null,null,null,null,null,null,null,null,null,null,"",""]
[null,null,null,null,null,null,null,null,null,null,null,null,null,null,null,"",""]
[null,null,null,null,null,null,null,null,null,null,null,null,null,null,null,"",""]
[null,null,null,null,null,null,null,null,null,null,null,null,null,null,null,"",""]
[null,null,null,null,null,null,null,null,null,null,null,null,null,null,null,"",""]
[null,null,null,null,null,null,null,null,null,null,null,null,null,null,null,"",""]
[null,null,null,null,null,null,null,null,null,null,null,null,null,null,null,"",""]
[null,null,null,null,null,null,null,null,null,null,null,null,null,null,null,"",""]
[null,null,null,null,null,null,null,null,null,null,null,null,null,null,null,"",""]
[null,null,null,null,null,null,null,null,null,null,null,null,null,null,null,"",""]
[null,null,null,null,null,null,null,null,null,null,null,null,null,null,null,"",""]
[null,null,null,null,null,null,null,null,null,null,null,null,null,null,null,"",""]
[null,null,null,null,null,null,null,null,null,null,null,null,null,null,null,"",""]
[null,null,null,null,null,null,null,null,null,null,null,null,null,null,null,"",""]
[null,null,null,null,null,null,null,null,null,null,null,null,null,null,null,"",""]
[null,null,null,null,null,null,null,null,null,null,null,null,null,null,null,"",""]
[null,null,null,null,null,null,null,null,null,null,null,null,null,null,null,"",""]
[null,null,null,null,null,null,null,null,null,null,null,null,null,null,null,"",""]
[null,null,null,null,null,null,null,null,null,null,null,null,null,null,null,"",""]
[null,null,null,null,null,null,null,null,null,null,null,null,null,null,null,"",""]
[null,null,null,null,null,null,null,null,null,null,null,null,null,null,null,"",""]
[null,null,null,null,null,null,null,null,null,null,null,null,null,null,null,"",""]
[null,null,null,null,null,null,null,null,null,null,null,null,null,null,null,"",""]
[null,null,null,null,null,null,null,null,null,null,null,null,null,null,null,"",""]
[null,null,null,null,null,null,null,null,null,null,null,null,null,null,null,"",""]
[null,null,null,null,null,null,null,null,null,null,null,null,null,null,null,"",""]
[null,null,null,null,null,null,null,null,null,null,null,null,null,null,null,"",""]
[null,null,null,null,null,null,null,null,null,null,null,null,null,null,null,"",""]
[null,null,null,null,null,null,null,null,null,null,null,null,null,null,null,"",""]
[null,null,null,null,null,null,null,null,null,null,null,null,null,null,null,"",""]
[null,null,null,null,null,null,null,null,null,null,null,null,null,null,null,"",""]
[null,null,null,null,null,null,null,null,null,null,null,null,null,null,null,"",""]
[null,null,null,null,null,null,null,null,null,null,null,null,null,null,null,"",""]
[null,null,null,null,null,null,null,null,null,null,null,null,null,null,null,"",""]
[null,null,null,null,null,null,null,null,null,null,null,null,null,null,null,"",""]
[null,null,null,null,null,null,null,null,null,null,null,null,null,null,null,"",""]
[null,null,null,null,null,null,null,null,null,null,null,null,null,null,null,"",""]
[null,null,null,null,null,null,null,null,null,null,null,null,null,null,null,"",""]
[null,null,null,null,null,null,null,null,null,null,null,null,null,null,null,"",""]
[null,null,null,null,null,null,null,null,null,null,null,null,null,null,null,"",""]
[null,null,null,null,null,null,null,null,null,null,null,null,null,null,null,"",""]
[null,null,null,null,null,null,null,null,null,null,null,null,null,null,null,"",""]
[null,null,null,null,null,null,null,null,null,null,null,null,null,null,null,"",""]
[null,null,null,null,null,null,null,null,null,null,null,null,null,null,null,"",""]
[null,null,null,null,null,null,null,null,null,null,null,null,null,null,null,"",""]
[null,null,null,null,null,null,null,null,null,null,null,null,null,null,null,"",""]
[null,null,null,null,null,null,null,null,null,null,null,null,null,null,null,"",""]
[null,null,null,null,null,null,null,null,null,null,null,null,null,null,null,"",""]
[null,null,null,null,null,null,null,null,null,null,null,null,null,null,null,"",""]
[null,null,null,null,null,null,null,null,null,null,null,null,null,null,null,"",""]
[null,null,null,null,null,null,null,null,null,null,null,null,null,null,null,"",""]
[null,null,null,null,null,null,null,null,null,null,null,null,null,null,null,"",""]
[null,null,null,null,null,null,null,null,null,null,null,null,null,null,null,"",""]
[null,null,null,null,null,null,null,null,null,null,null,null,null,null,null,"",""]
[null,null,null,null,null,null,null,null,null,null,null,null,null,null,null,"",""]
[null,null,null,null,null,null,null,null,null,null,null,null,null,null,null,"",""]
[null,null,null,null,null,null,null,null,null,null,null,null,null,null,null,"",""]
[null,null,null,null,null,null,null,null,null,null,null,null,null,null,null,"",""]
[null,null,null,null,null,null,null,null,null,null,null,null,null,null,null,"",""]
[null,null,null,null,null,null,null,null,null,null,null,null,null,null,null,"",""]
[null,null,null,null,null,null,null,null,null,null,null,null,null,null,null,"",""]
[null,null,null,null,null,null,null,null,null,null,null,null,null,null,null,"",""]
[null,null,null,null,null,null,null,null,null,null,null,null,null,null,null,"",""]
[null,null,null,null,null,null,null,null,null,null,null,null,null,null,null,"",""]
[null,null,null,null,null,null,null,null,null,null,null,null,null,null,null,"",""]
[null,null,null,null,null,null,null,null,null,null,null,null,null,null,null,"",""]
[null,null,null,null,null,null,null,null,null,null,null,null,null,null,null,"",""]
[null,null,null,null,null,null,null,null,null,null,null,null,null,null,null,"",""]
[null,null,null,null,null,null,null,null,null,null,null,null,null,null,null,"",""]
[null,null,null,null,null,null,null,null,null,null,null,null,null,null,null,"",""]
[null,null,null,null,null,null,null,null,null,null,null,null,null,null,null,"",""]
[null,null,null,null,null,null,null,null,null,null,null,null,null,null,null,"",""]
[null,null,null,null,null,null,null,null,null,null,null,null,null,null,null,"",""]
[null,null,null,null,null,null,null,null,null,null,null,null,null,null,null,"",""]
[null,null,null,null,null,null,null,null,null,null,null,null,null,null,null,"",""]
[null,null,null,null,null,null,null,null,null,null,null,null,null,null,null,"",""]
[null,null,null,null,null,null,null,null,null,null,null,null,null,null,null,"",""]
[null,null,null,null,null,null,null,null,null,null,null,null,null,null,null,"",""]
[null,null,null,null,null,null,null,null,null,null,null,null,null,null,null,"",""]
[null,null,null,null,null,null,null,null,null,null,null,null,null,null,null,"",""]
[null,null,null,null,null,null,null,null,null,null,null,null,null,null,null,"",""]
[null,null,null,null,null,null,null,null,null,null,null,null,null,null,null,"",""]
[null,null,null,null,null,null,null,null,null,null,null,null,null,null,null,"",""]
[null,null,null,null,null,null,null,null,null,null,null,null,null,null,null,"",""]
[null,null,null,null,null,null,null,null,null,null,null,null,null,null,null,"",""]
[null,null,null,null,null,null,null,null,null,null,null,null,null,null,null,"",""]
[null,null,null,null,null,null,null,null,null,null,null,null,null,null,null,"",""]
[null,null,null,null,null,null,null,null,null,null,null,null,null,null,null,"",""]
[null,null,null,null,null,null,null,null,null,null,null,null,null,null,null,"",""]
[null,null,null,null,null,null,null,null,null,null,null,null,null,null,null,"",""]
[null,null,null,null,null,null,null,null,null,null,null,null,null,null,null,"",""]
[null,null,null,null,null,null,null,null,null,null,null,null,null,null,null,"",""]
[null,null,null,null,null,null,null,null,null,null,null,null,null,null,null,"",""]
[null,null,null,null,null,null,null,null,null,null,null,null,null,null,null,"",""]
[null,null,null,null,null,null,null,null,null,null,null,null,null,null,null,"",""]
[null,null,null,null,null,null,null,null,null,null,null,null,null,null,null,"",""]
[null,null,null,null,null,null,null,null,null,null,null,null,null,null,null,"",""]
[null,null,null,null,null,null,null,null,null,null,null,null,null,null,null,"",""]
[null,null,null,null,null,null,null,null,null,null,null,null,null,null,null,"",""]
[null,null,null,null,null,null,null,null,null,null,null,null,null,null,null,"",""]
[null,null,null,null,null,null,null,null,null,null,null,null,null,null,null,"",""]
[null,null,null,null,null,null,null,null,null,null,null,null,null,null,null,"",""]
[null,null,null,null,null,null,null,null,null,null,null,null,null,null,null,"",""]
[null,null,null,null,null,null,null,null,null,null,null,null,null,null,null,"",""]
[null,null,null,null,null,null,null,null,null,null,null,null,null,null,null,"",""]
[null,null,null,null,null,null,null,null,null,null,null,null,null,null,null,"",""]
[null,null,null,null,null,null,null,null,null,null,null,null,null,null,null,"",""]
[null,null,null,null,null,null,null,null,null,null,null,null,null,null,null,"",""]
[null,null,null,null,null,null,null,null,null,null,null,null,null,null,null,"",""]
[null,null,null,null,null,null,null,null,null,null,null,null,null,null,null,"",""]
[null,null,null,null,null,null,null,null,null,null,null,null,null,null,null,"",""]
[null,null,null,null,null,null,null,null,null,null,null,null,null,null,null,"",""]
[null,null,null,null,null,null,null,null,null,null,null,null,null,null,null,"",""]
[null,null,null,null,null,null,null,null,null,null,null,null,null,null,null,"",""]
[null,null,null,null,null,null,null,null,null,null,null,null,null,null,null,"",""]
[null,null,null,null,null,null,null,null,null,null,null,null,null,null,null,"",""]
[null,null,null,null,null,null,null,null,null,null,null,null,null,null,null,"",""]
[null,null,null,null,null,null,null,null,null,null,null,null,null,null,null,"",""]
[null,null,null,null,null,null,null,null,null,null,null,null,null,null,null,"",""]
[null,null,null,null,null,null,null,null,null,null,null,null,null,null,null,"",""]
[null,null,null,null,null,null,null,null,null,null,null,null,null,null,null,"",""]
[null,null,null,null,null,null,null,null,null,null,null,null,null,null,null,"",""]
[null,null,null,null,null,null,null,null,null,null,null,null,null,null,null,"",""]
[null,null,null,null,null,null,null,null,null,null,null,null,null,null,null,"",""]
[null,null,null,null,null,null,null,null,null,null,null,null,null,null,null,"",""]
[null,null,null,null,null,null,null,null,null,null,null,null,null,null,null,"",""]
[null,null,null,null,null,null,null,null,null,null,null,null,null,null,null,"",""]
[null,null,null,null,null,null,null,null,null,null,null,null,null,null,null,"",""]
[null,null,null,null,null,null,null,null,null,null,null,null,null,null,null,"",""]
[null,null,null,null,null,null,null,null,null,null,null,null,null,null,null,"",""]
[null,null,null,null,null,null,null,null,null,null,null,null,null,null,null,"",""]
[null,null,null,null,null,null,null,null,null,null,null,null,null,null,null,"",""]
[null,null,null,null,null,null,null,null,null,null,null,null,null,null,null,"",""]
[null,null,null,null,null,null,null,null,null,null,null,null,null,null,null,"",""]
[null,null,null,null,null,null,null,null,null,null,null,null,null,null,null,"",""]
[null,null,null,null,null,null,null,null,null,null,null,null,null,null,null,"",""]
[null,null,null,null,null,null,null,null,null,null,null,null,null,null,null,"",""]
[null,null,null,null,null,null,null,null,null,null,null,null,null,null,null,"",""]
[null,null,null,null,null,null,null,null,null,null,null,null,null,null,null,"",""]
[null,null,null,null,null,null,null,null,null,null,null,null,null,null,null,"",""]
[null,null,null,null,null,null,null,null,null,null,null,null,null,null,null,"",""]
[null,null,null,null,null,null,null,null,null,null,null,null,null,null,null,"",""]
[null,null,null,null,null,null,null,null,null,null,null,null,null,null,null,"",""]
[null,null,null,null,null,null,null,null,null,null,null,null,null,null,null,"",""]
[null,null,null,null,null,null,null,null,null,null,null,null,null,null,null,"",""]
[null,null,null,null,null,null,null,null,null,null,null,null,null,null,null,"",""]
[null,null,null,null,null,null,null,null,null,null,null,null,null,null,null,"",""]
[null,null,null,null,null,null,null,null,null,null,null,null,null,null,null,"",""]
[null,null,null,null,null,null,null,null,null,null,null,null,null,null,null,"",""]
[null,null,null,null,null,null,null,null,null,null,null,null,null,null,null,"",""]
[null,null,null,null,null,null,null,null,null,null,null,null,null,null,null,"",""]
[null,null,null,null,null,null,null,null,null,null,null,null,null,null,null,"",""]
[null,null,null,null,null,null,null,null,null,null,null,null,null,null,null,"",""]
[null,null,null,null,null,null,null,null,null,null,null,null,null,null,null,"",""]
[null,null,null,null,null,null,null,null,null,null,null,null,null,null,null,"",""]
[null,null,null,null,null,null,null,null,null,null,null,null,null,null,null,"",""]
[null,null,null,null,null,null,null,null,null,null,null,null,null,null,null,"",""]
[null,null,null,null,null,null,null,null,null,null,null,null,null,null,null,"",""]
[null,null,null,null,null,null,null,null,null,null,null,null,null,null,null,"",""]
[null,null,null,null,null,null,null,null,null,null,null,null,null,null,null,"",""]
[null,null,null,null,null,null,null,null,null,null,null,null,null,null,null,"",""]
[null,null,null,null,null,null,null,null,null,null,null,null,null,null,null,"",""]
[null,null,null,null,null,null,null,null,null,null,null,null,null,null,null,"",""]
[null,null,null,null,null,null,null,null,null,null,null,null,null,null,null,"",""]
[null,null,null,null,null,null,null,null,null,null,null,null,null,null,null,"",""]
[null,null,null,null,null,null,null,null,null,null,null,null,null,null,null,"",""]
[null,null,null,null,null,null,null,null,null,null,null,null,null,null,null,"",""]
[null,null,null,null,null,null,null,null,null,null,null,null,null,null,null,"",""]
[null,null,null,null,null,null,null,null,null,null,null,null,null,null,null,"",""]
[null,null,null,null,null,null,null,null,null,null,null,null,null,null,null,"",""]
[null,null,null,null,null,null,null,null,null,null,null,null,null,null,null,"",""]
[null,null,null,null,null,null,null,null,null,null,null,null,null,null,null,"",""]
[null,null,null,null,null,null,null,null,null,null,null,null,null,null,null,"",""]
[null,null,null,null,null,null,null,null,null,null,null,null,null,null,null,"",""]
[null,null,null,null,null,null,null,null,null,null,null,null,null,null,null,"",""]
[null,null,null,null,null,null,null,null,null,null,null,null,null,null,null,"",""]
[null,null,null,null,null,null,null,null,null,null,null,null,null,null,null,"",""]
[null,null,null,null,null,null,null,null,null,null,null,null,null,null,null,"",""]
[null,null,null,null,null,null,null,null,null,null,null,null,null,null,null,"",""]
[null,null,null,null,null,null,null,null,null,null,null,null,null,null,null,"",""]
[null,null,null,null,null,null,null,null,null,null,null,null,null,null,null,"",""]
[null,null,null,null,null,null,null,null,null,null,null,null,null,null,null,"",""]
[null,null,null,null,null,null,null,null,null,null,null,null,null,null,null,"",""]
[null,null,null,null,null,null,null,null,null,null,null,null,null,null,null,"",""]
[null,null,null,null,null,null,null,null,null,null,null,null,null,null,null,"",""]
[null,null,null,null,null,null,null,null,null,null,null,null,null,null,null,"",""]
[null,null,null,null,null,null,null,null,null,null,null,null,null,null,null,"",""]
[null,null,null,null,null,null,null,null,null,null,null,null,null,null,null,"",""]
[null,null,null,null,null,null,null,null,null,null,null,null,null,null,null,"",""]
[null,null,null,null,null,null,null,null,null,null,null,null,null,null,null,"",""]
[null,null,null,null,null,null,null,null,null,null,null,null,null,null,null,"",""]
[null,null,null,null,null,null,null,null,null,null,null,null,null,null,null,"",""]
[null,null,null,null,null,null,null,null,null,null,null,null,null,null,null,"",""]
[null,null,null,null,null,null,null,null,null,null,null,null,null,null,null,"",""]
[null,null,null,null,null,null,null,null,null,null,null,null,null,null,null,"",""]
[null,null,null,null,null,null,null,null,null,null,null,null,null,null,null,"",""]
[null,null,null,null,null,null,null,null,null,null,null,null,null,null,null,"",""]
[null,null,null,null,null,null,null,null,null,null,null,null,null,null,null,"",""]
[null,null,null,null,null,null,null,null,null,null,null,null,null,null,null,"",""]
[null,null,null,null,null,null,null,null,null,null,null,null,null,null,null,"",""]
[null,null,null,null,null,null,null,null,null,null,null,null,null,null,null,"",""]
[null,null,null,null,null,null,null,null,null,null,null,null,null,null,null,"",""]
[null,null,null,null,null,null,null,null,null,null,null,null,null,null,null,"",""]
[null,null,null,null,null,null,null,null,null,null,null,null,null,null,null,"",""]
[null,null,null,null,null,null,null,null,null,null,null,null,null,null,null,"",""]
[null,null,null,null,null,null,null,null,null,null,null,null,null,null,null,"",""]
[null,null,null,null,null,null,null,null,null,null,null,null,null,null,null,"",""]
[null,null,null,null,null,null,null,null,null,null,null,null,null,null,null,"",""]
[null,null,null,null,null,null,null,null,null,null,null,null,null,null,null,"",""]
[null,null,null,null,null,null,null,null,null,null,null,null,null,null,null,"",""]
[null,null,null,null,null,null,null,null,null,null,null,null,null,null,null,"",""]
[null,null,null,null,null,null,null,null,null,null,null,null,null,null,null,"",""]
[null,null,null,null,null,null,null,null,null,null,null,null,null,null,null,"",""]
[null,null,null,null,null,null,null,null,null,null,null,null,null,null,null,"",""]
[null,null,null,null,null,null,null,null,null,null,null,null,null,null,null,"",""]
[null,null,null,null,null,null,null,null,null,null,null,null,null,null,null,"",""]
[null,null,null,null,null,null,null,null,null,null,null,null,null,null,null,"",""]
[null,null,null,null,null,null,null,null,null,null,null,null,null,null,null,"",""]
[null,null,null,null,null,null,null,null,null,null,null,null,null,null,null,"",""]
[null,null,null,null,null,null,null,null,null,null,null,null,null,null,null,"",""]
[null,null,null,null,null,null,null,null,null,null,null,null,null,null,null,"",""]
[null,null,null,null,null,null,null,null,null,null,null,null,null,null,null,"",""]
[null,null,null,null,null,null,null,null,null,null,null,null,null,null,null,"",""]
[null,null,null,null,null,null,null,null,null,null,null,null,null,null,null,"",""]
[null,null,null,null,null,null,null,null,null,null,null,null,null,null,null,"",""]
[null,null,null,null,null,null,null,null,null,null,null,null,null,null,null,"",""]
[null,null,null,null,null,null,null,null,null,null,null,null,null,null,null,"",""]
[null,null,null,null,null,null,null,null,null,null,null,null,null,null,null,"",""]
[null,null,null,null,null,null,null,null,null,null,null,null,null,null,null,"",""]
[null,null,null,null,null,null,null,null,null,null,null,null,null,null,null,"",""]
[null,null,null,null,null,null,null,null,null,null,null,null,null,null,null,"",""]
[null,null,null,null,null,null,null,null,null,null,null,null,null,null,null,"",""]
[null,null,null,null,null,null,null,null,null,null,null,null,null,null,null,"",""]
[null,null,null,null,null,null,null,null,null,null,null,null,null,null,null,"",""]
[null,null,null,null,null,null,null,null,null,null,null,null,null,null,null,"",""]
[null,null,null,null,null,null,null,null,null,null,null,null,null,null,null,"",""]
[null,null,null,null,null,null,null,null,null,null,null,null,null,null,null,"",""]
[null,null,null,null,null,null,null,null,null,null,null,null,null,null,null,"",""]
[null,null,null,null,null,null,null,null,null,null,null,null,null,null,null,"",""]
[null,null,null,null,null,null,null,null,null,null,null,null,null,null,null,"",""]
[null,null,null,null,null,null,null,null,null,null,null,null,null,null,null,"",""]
[null,null,null,null,null,null,null,null,null,null,null,null,null,null,null,"",""]
[null,null,null,null,null,null,null,null,null,null,null,null,null,null,null,"",""]
[null,null,null,null,null,null,null,null,null,null,null,null,null,null,null,"",""]
[null,null,null,null,null,null,null,null,null,null,null,null,null,null,null,"",""]
[null,null,null,null,null,null,null,null,null,null,null,null,null,null,null,"",""]
[null,null,null,null,null,null,null,null,null,null,null,null,null,null,null,"",""]
[null,null,null,null,null,null,null,null,null,null,null,null,null,null,null,"",""]
[null,null,null,null,null,null,null,null,null,null,null,null,null,null,null,"",""]
[null,null,null,null,null,null,null,null,null,null,null,null,null,null,null,"",""]
[null,null,null,null,null,null,null,null,null,null,null,null,null,null,null,"",""]
[null,null,null,null,null,null,null,null,null,null,null,null,null,null,null,"",""]
[null,null,null,null,null,null,null,null,null,null,null,null,null,null,null,"",""]
[null,null,null,null,null,null,null,null,null,null,null,null,null,null,null,"",""]
[null,null,null,null,null,null,null,null,null,null,null,null,null,null,null,"",""]
[null,null,null,null,null,null,null,null,null,null,null,null,null,null,null,"",""]
[null,null,null,null,null,null,null,null,null,null,null,null,null,null,null,"",""]
[null,null,null,null,null,null,null,null,null,null,null,null,null,null,null,"",""]
[null,null,null,null,null,null,null,null,null,null,null,null,null,null,null,"",""]
[null,null,null,null,null,null,null,null,null,null,null,null,null,null,null,"",""]
[null,null,null,null,null,null,null,null,null,null,null,null,null,null,null,"",""]
[null,null,null,null,null,null,null,null,null,null,null,null,null,null,null,"",""]
[null,null,null,null,null,null,null,null,null,null,null,null,null,null,null,"",""]
[null,null,null,null,null,null,null,null,null,null,null,null,null,null,null,"",""]
[null,null,null,null,null,null,null,null,null,null,null,null,null,null,null,"",""]
[null,null,null,null,null,null,null,null,null,null,null,null,null,null,null,"",""]
[null,null,null,null,null,null,null,null,null,null,null,null,null,null,null,"",""]
[null,null,null,null,null,null,null,null,null,null,null,null,null,null,null,"",""]
[null,null,null,null,null,null,null,null,null,null,null,null,null,null,null,"",""]
[null,null,null,null,null,null,null,null,null,null,null,null,null,null,null,"",""]
[null,null,null,null,null,null,null,null,null,null,null,null,null,null,null,"",""]
[null,null,null,null,null,null,null,null,null,null,null,null,null,null,null,"",""]
[null,null,null,null,null,null,null,null,null,null,null,null,null,null,null,"",""]
[null,null,null,null,null,null,null,null,null,null,null,null,null,null,null,"",""]
[null,null,null,null,null,null,null,null,null,null,null,null,null,null,null,"",""]
[null,null,null,null,null,null,null,null,null,null,null,null,null,null,null,"",""]
[null,null,null,null,null,null,null,null,null,null,null,null,null,null,null,"",""]
[null,null,null,null,null,null,null,null,null,null,null,null,null,null,null,"",""]
[null,null,null,null,null,null,null,null,null,null,null,null,null,null,null,"",""]
[null,null,null,null,null,null,null,null,null,null,null,null,null,null,null,"",""]
[null,null,null,null,null,null,null,null,null,null,null,null,null,null,null,"",""]
[null,null,null,null,null,null,null,null,null,null,null,null,null,null,null,"",""]
[null,null,null,null,null,null,null,null,null,null,null,null,null,null,null,"",""]
[null,null,null,null,null,null,null,null,null,null,null,null,null,null,null,"",""]
[null,null,null,null,null,null,null,null,null,null,null,null,null,null,null,"",""]
[null,null,null,null,null,null,null,null,null,null,null,null,null,null,null,"",""]
[null,null,null,null,null,null,null,null,null,null,null,null,null,null,null,"",""]
[null,null,null,null,null,null,null,null,null,null,null,null,null,null,null,"",""]
[null,null,null,null,null,null,null,null,null,null,null,null,null,null,null,"",""]
[null,null,null,null,null,null,null,null,null,null,null,null,null,null,null,"",""]
[null,null,null,null,null,null,null,null,null,null,null,null,null,null,null,"",""]
[null,null,null,null,null,null,null,null,null,null,null,null,null,null,null,"",""]
[null,null,null,null,null,null,null,null,null,null,null,null,null,null,null,"",""]
[null,null,null,null,null,null,null,null,null,null,null,null,null,null,null,"",""]
[null,null,null,null,null,null,null,null,null,null,null,null,null,null,null,"",""]
[null,null,null,null,null,null,null,null,null,null,null,null,null,null,null,"",""]
[null,null,null,null,null,null,null,null,null,null,null,null,null,null,null,"",""]
[null,null,null,null,null,null,null,null,null,null,null,null,null,null,null,"",""]
[null,null,null,null,null,null,null,null,null,null,null,null,null,null,null,"",""]
[null,null,null,null,null,null,null,null,null,null,null,null,null,null,null,"",""]
[null,null,null,null,null,null,null,null,null,null,null,null,null,null,null,"",""]
[null,null,null,null,null,null,null,null,null,null,null,null,null,null,null,"",""]
[null,null,null,null,null,null,null,null,null,null,null,null,null,null,null,"",""]
[null,null,null,null,null,null,null,null,null,null,null,null,null,null,null,"",""]
[null,null,null,null,null,null,null,null,null,null,null,null,null,null,null,"",""]
[null,null,null,null,null,null,null,null,null,null,null,null,null,null,null,"",""]
[null,null,null,null,null,null,null,null,null,null,null,null,null,null,null,"",""]
[null,null,null,null,null,null,null,null,null,null,null,null,null,null,null,"",""]
[null,null,null,null,null,null,null,null,null,null,null,null,null,null,null,"",""]
[null,null,null,null,null,null,null,null,null,null,null,null,null,null,null,"",""]
[null,null,null,null,null,null,null,null,null,null,null,null,null,null,null,"",""]
[null,null,null,null,null,null,null,null,null,null,null,null,null,null,null,"",""]
[null,null,null,null,null,null,null,null,null,null,null,null,null,null,null,"",""]
[null,null,null,null,null,null,null,null,null,null,null,null,null,null,null,"",""]
[null,null,null,null,null,null,null,null,null,null,null,null,null,null,null,"",""]
[null,null,null,null,null,null,null,null,null,null,null,null,null,null,null,"",""]
[null,null,null,null,null,null,null,null,null,null,null,null,null,null,null,"",""]
[null,null,null,null,null,null,null,null,null,null,null,null,null,null,null,"",""]
[null,null,null,null,null,null,null,null,null,null,null,null,null,null,null,"",""]
[null,null,null,null,null,null,null,null,null,null,null,null,null,null,null,"",""]
[null,null,null,null,null,null,null,null,null,null,null,null,null,null,null,"",""]
[null,null,null,null,null,null,null,null,null,null,null,null,null,null,null,"",""]
[null,null,null,null,null,null,null,null,null,null,null,null,null,null,null,"",""]
[null,null,null,null,null,null,null,null,null,null,null,null,null,null,null,"",""]
[null,null,null,null,null,null,null,null,null,null,null,null,null,null,null,"",""]
[null,null,null,null,null,null,null,null,null,null,null,null,null,null,null,"",""]
[null,null,null,null,null,null,null,null,null,null,null,null,null,null,null,"",""]
[null,null,null,null,null,null,null,null,null,null,null,null,null,null,null,"",""]
[null,null,null,null,null,null,null,null,null,null,null,null,null,null,null,"",""]
[null,null,null,null,null,null,null,null,null,null,null,null,null,null,null,"",""]
[null,null,null,null,null,null,null,null,null,null,null,null,null,null,null,"",""]
[null,null,null,null,null,null,null,null,null,null,null,null,null,null,null,"",""]
[null,null,null,null,null,null,null,null,null,null,null,null,null,null,null,"",""]
[null,null,null,null,null,null,null,null,null,null,null,null,null,null,null,"",""]
[null,null,null,null,null,null,null,null,null,null,null,null,null,null,null,"",""]
[null,null,null,null,null,null,null,null,null,null,null,null,null,null,null,"",""]
[null,null,null,null,null,null,null,null,null,null,null,null,null,null,null,"",""]
[null,null,null,null,null,null,null,null,null,null,null,null,null,null,null,"",""]
[null,null,null,null,null,null,null,null,null,null,null,null,null,null,null,"",""]
[null,null,null,null,null,null,null,null,null,null,null,null,null,null,null,"",""]
[null,null,null,null,null,null,null,null,null,null,null,null,null,null,null,"",""]
[null,null,null,null,null,null,null,null,null,null,null,null,null,null,null,"",""]
[null,null,null,null,null,null,null,null,null,null,null,null,null,null,null,"",""]
[null,null,null,null,null,null,null,null,null,null,null,null,null,null,null,"",""]
[null,null,null,null,null,null,null,null,null,null,null,null,null,null,null,"",""]
[null,null,null,null,null,null,null,null,null,null,null,null,null,null,null,"",""]
[null,null,null,null,null,null,null,null,null,null,null,null,null,null,null,"",""]
[null,null,null,null,null,null,null,null,null,null,null,null,null,null,null,"",""]
[null,null,null,null,null,null,null,null,null,null,null,null,null,null,null,"",""]
[null,null,null,null,null,null,null,null,null,null,null,null,null,null,null,"",""]
[null,null,null,null,null,null,null,null,null,null,null,null,null,null,null,"",""]
[null,null,null,null,null,null,null,null,null,null,null,null,null,null,null,"",""]
[null,null,null,null,null,null,null,null,null,null,null,null,null,null,null,"",""]
[null,null,null,null,null,null,null,null,null,null,null,null,null,null,null,"",""]
[null,null,null,null,null,null,null,null,null,null,null,null,null,null,null,"",""]
[null,null,null,null,null,null,null,null,null,null,null,null,null,null,null,"",""]
[null,null,null,null,null,null,null,null,null,null,null,null,null,null,null,"",""]
[null,null,null,null,null,null,null,null,null,null,null,null,null,null,null,"",""]
[null,null,null,null,null,null,null,null,null,null,null,null,null,null,null,"",""]
[null,null,null,null,null,null,null,null,null,null,null,null,null,null,null,"",""]
[null,null,null,null,null,null,null,null,null,null,null,null,null,null,null,"",""]
[null,null,null,null,null,null,null,null,null,null,null,null,null,null,null,"",""]
[null,null,null,null,null,null,null,null,null,null,null,null,null,null,null,"",""]
[null,null,null,null,null,null,null,null,null,null,null,null,null,null,null,"",""]
[null,null,null,null,null,null,null,null,null,null,null,null,null,null,null,"",""]
[null,null,null,null,null,null,null,null,null,null,null,null,null,null,null,"",""]
[null,null,null,null,null,null,null,null,null,null,null,null,null,null,null,"",""]
[null,null,null,null,null,null,null,null,null,null,null,null,null,null,null,"",""]
[null,null,null,null,null,null,null,null,null,null,null,null,null,null,null,"",""]
[null,null,null,null,null,null,null,null,null,null,null,null,null,null,null,"",""]
[null,null,null,null,null,null,null,null,null,null,null,null,null,null,null,"",""]
[null,null,null,null,null,null,null,null,null,null,null,null,null,null,null,"",""]
[null,null,null,null,null,null,null,null,null,null,null,null,null,null,null,"",""]
[null,null,null,null,null,null,null,null,null,null,null,null,null,null,null,"",""]
[null,null,null,null,null,null,null,null,null,null,null,null,null,null,null,"",""]
[null,null,null,null,null,null,null,null,null,null,null,null,null,null,null,"",""]
[null,null,null,null,null,null,null,null,null,null,null,null,null,null,null,"",""]
[null,null,null,null,null,null,null,null,null,null,null,null,null,null,null,"",""]
[null,null,null,null,null,null,null,null,null,null,null,null,null,null,null,"",""]
[null,null,null,null,null,null,null,null,null,null,null,null,null,null,null,"",""]
[null,null,null,null,null,null,null,null,null,null,null,null,null,null,null,"",""]
[null,null,null,null,null,null,null,null,null,null,null,null,null,null,null,"",""]
[null,null,null,null,null,null,null,null,null,null,null,null,null,null,null,"",""]
[null,null,null,null,null,null,null,null,null,null,null,null,null,null,null,"",""]
[null,null,null,null,null,null,null,null,null,null,null,null,null,null,null,"",""]
[null,null,null,null,null,null,null,null,null,null,null,null,null,null,null,"",""]
[null,null,null,null,null,null,null,null,null,null,null,null,null,null,null,"",""]
[null,null,null,null,null,null,null,null,null,null,null,null,null,null,null,"",""]
[null,null,null,null,null,null,null,null,null,null,null,null,null,null,null,"",""]
[null,null,null,null,null,null,null,null,null,null,null,null,null,null,null,"",""]
[null,null,null,null,null,null,null,null,null,null,null,null,null,null,null,"",""]
[null,null,null,null,null,null,null,null,null,null,null,null,null,null,null,"",""]
[null,null,null,null,null,null,null,null,null,null,null,null,null,null,null,"",""]
[null,null,null,null,null,null,null,null,null,null,null,null,null,null,null,"",""]
[null,null,null,null,null,null,null,null,null,null,null,null,null,null,null,"",""]
[null,null,null,null,null,null,null,null,null,null,null,null,null,null,null,"",""]
[null,null,null,null,null,null,null,null,null,null,null,null,null,null,null,"",""]
[null,null,null,null,null,null,null,null,null,null,null,null,null,null,null,"",""]
[null,null,null,null,null,null,null,null,null,null,null,null,null,null,null,"",""]
[null,null,null,null,null,null,null,null,null,null,null,null,null,null,null,"",""]
[null,null,null,null,null,null,null,null,null,null,null,null,null,null,null,"",""]
[null,null,null,null,null,null,null,null,null,null,null,null,null,null,null,"",""]
[null,null,null,null,null,null,null,null,null,null,null,null,null,null,null,"",""]
[null,null,null,null,null,null,null,null,null,null,null,null,null,null,null,"",""]
[null,null,null,null,null,null,null,null,null,null,null,null,null,null,null,"",""]
[null,null,null,null,null,null,null,null,null,null,null,null,null,null,null,"",""]
[null,null,null,null,null,null,null,null,null,null,null,null,null,null,null,"",""]
[null,null,null,null,null,null,null,null,null,null,null,null,null,null,null,"",""]
[null,null,null,null,null,null,null,null,null,null,null,null,null,null,null,"",""]
[null,null,null,null,null,null,null,null,null,null,null,null,null,null,null,"",""]
[null,null,null,null,null,null,null,null,null,null,null,null,null,null,null,"",""]
[null,null,null,null,null,null,null,null,null,null,null,null,null,null,null,"",""]
[null,null,null,null,null,null,null,null,null,null,null,null,null,null,null,"",""]
[null,null,null,null,null,null,null,null,null,null,null,null,null,null,null,"",""]
[null,null,null,null,null,null,null,null,null,null,null,null,null,null,null,"",""]
[null,null,null,null,null,null,null,null,null,null,null,null,null,null,null,"",""]
[null,null,null,null,null,null,null,null,null,null,null,null,null,null,null,"",""]
[null,null,null,null,null,null,null,null,null,null,null,null,null,null,null,"",""]
[null,null,null,null,null,null,null,null,null,null,null,null,null,null,null,"",""]
[null,null,null,null,null,null,null,null,null,null,null,null,null,null,null,"",""]
[null,null,null,null,null,null,null,null,null,null,null,null,null,null,null,"",""]
[null,null,null,null,null,null,null,null,null,null,null,null,null,null,null,"",""]
[null,null,null,null,null,null,null,null,null,null,null,null,null,null,null,"",""]
[null,null,null,null,null,null,null,null,null,null,null,null,null,null,null,"",""]
[null,null,null,null,null,null,null,null,null,null,null,null,null,null,null,"",""]
[null,null,null,null,null,null,null,null,null,null,null,null,null,null,null,"",""]
[null,null,null,null,null,null,null,null,null,null,null,null,null,null,null,"",""]
[null,null,null,null,null,null,null,null,null,null,null,null,null,null,null,"",""]
[null,null,null,null,null,null,null,null,null,null,null,null,null,null,null,"",""]
[null,null,null,null,null,null,null,null,null,null,null,null,null,null,null,"",""]
[null,null,null,null,null,null,null,null,null,null,null,null,null,null,null,"",""]
[null,null,null,null,null,null,null,null,null,null,null,null,null,null,null,"",""]
[null,null,null,null,null,null,null,null,null,null,null,null,null,null,null,"",""]
[null,null,null,null,null,null,null,null,null,null,null,null,null,null,null,"",""]
[null,null,null,null,null,null,null,null,null,null,null,null,null,null,null,"",""]
[null,null,null,null,null,null,null,null,null,null,null,null,null,null,null,"",""]
[null,null,null,null,null,null,null,null,null,null,null,null,null,null,null,"",""]
[null,null,null,null,null,null,null,null,null,null,null,null,null,null,null,"",""]
[null,null,null,null,null,null,null,null,null,null,null,null,null,null,null,"",""]
[null,null,null,null,null,null,null,null,null,null,null,null,null,null,null,"",""]
[null,null,null,null,null,null,null,null,null,null,null,null,null,null,null,"",""]
[null,null,null,null,null,null,null,null,null,null,null,null,null,null,null,"",""]
[null,null,null,null,null,null,null,null,null,null,null,null,null,null,null,"",""]
[null,null,null,null,null,null,null,null,null,null,null,null,null,null,null,"",""]
[null,null,null,null,null,null,null,null,null,null,null,null,null,null,null,"",""]
[null,null,null,null,null,null,null,null,null,null,null,null,null,null,null,"",""]
[null,null,null,null,null,null,null,null,null,null,null,null,null,null,null,"",""]
[null,null,null,null,null,null,null,null,null,null,null,null,null,null,null,"",""]
[null,null,null,null,null,null,null,null,null,null,null,null,null,null,null,"",""]
[null,null,null,null,null,null,null,null,null,null,null,null,null,null,null,"",""]
[null,null,null,null,null,null,null,null,null,null,null,null,null,null,null,"",""]
[null,null,null,null,null,null,null,null,null,null,null,null,null,null,null,"",""]
[null,null,null,null,null,null,null,null,null,null,null,null,null,null,null,"",""]
[null,null,null,null,null,null,null,null,null,null,null,null,null,null,null,"",""]
[null,null,null,null,null,null,null,null,null,null,null,null,null,null,null,"",""]
[null,null,null,null,null,null,null,null,null,null,null,null,null,null,null,"",""]
[null,null,null,null,null,null,null,null,null,null,null,null,null,null,null,"",""]
[null,null,null,null,null,null,null,null,null,null,null,null,null,null,null,"",""]
[null,null,null,null,null,null,null,null,null,null,null,null,null,null,null,"",""]
[null,null,null,null,null,null,null,null,null,null,null,null,null,null,null,"",""]
[null,null,null,null,null,null,null,null,null,null,null,null,null,null,null,"",""]
[null,null,null,null,null,null,null,null,null,null,null,null,null,null,null,"",""]
[null,null,null,null,null,null,null,null,null,null,null,null,null,null,null,"",""]
[null,null,null,null,null,null,null,null,null,null,null,null,null,null,null,"",""]
[null,null,null,null,null,null,null,null,null,null,null,null,null,null,null,"",""]
[null,null,null,null,null,null,null,null,null,null,null,null,null,null,null,"",""]
[null,null,null,null,null,null,null,null,null,null,null,null,null,null,null,"",""]
[null,null,null,null,null,null,null,null,null,null,null,null,null,null,null,"",""]
[null,null,null,null,null,null,null,null,null,null,null,null,null,null,null,"",""]
[null,null,null,null,null,null,null,null,null,null,null,null,null,null,null,"",""]
[null,null,null,null,null,null,null,null,null,null,null,null,null,null,null,"",""]
[null,null,null,null,null,null,null,null,null,null,null,null,null,null,null,"",""]
[null,null,null,null,null,null,null,null,null,null,null,null,null,null,null,"",""]
[null,null,null,null,null,null,null,null,null,null,null,null,null,null,null,"",""]
[null,null,null,null,null,null,null,null,null,null,null,null,null,null,null,"",""]
[null,null,null,null,null,null,null,null,null,null,null,null,null,null,null,"",""]
[null,null,null,null,null,null,null,null,null,null,null,null,null,null,null,"",""]
[null,null,null,null,null,null,null,null,null,null,null,null,null,null,null,"",""]
[null,null,null,null,null,null,null,null,null,null,null,null,null,null,null,"",""]
[null,null,null,null,null,null,null,null,null,null,null,null,null,null,null,"",""]
[null,null,null,null,null,null,null,null,null,null,null,null,null,null,null,"",""]
[null,null,null,null,null,null,null,null,null,null,null,null,null,null,null,"",""]
[null,null,null,null,null,null,null,null,null,null,null,null,null,null,null,"",""]
[null,null,null,null,null,null,null,null,null,null,null,null,null,null,null,"",""]
[null,null,null,null,null,null,null,null,null,null,null,null,null,null,null,"",""]
[null,null,null,null,null,null,null,null,null,null,null,null,null,null,null,"",""]
[null,null,null,null,null,null,null,null,null,null,null,null,null,null,null,"",""]
[null,null,null,null,null,null,null,null,null,null,null,null,null,null,null,"",""]
[null,null,null,null,null,null,null,null,null,null,null,null,null,null,null,"",""]
[null,null,null,null,null,null,null,null,null,null,null,null,null,null,null,"",""]
[null,null,null,null,null,null,null,null,null,null,null,null,null,null,null,"",""]
[null,null,null,null,null,null,null,null,null,null,null,null,null,null,null,"",""]
[null,null,null,null,null,null,null,null,null,null,null,null,null,null,null,"",""]
[null,null,null,null,null,null,null,null,null,null,null,null,null,null,null,"",""]
[null,null,null,null,null,null,null,null,null,null,null,null,null,null,null,"",""]
[null,null,null,null,null,null,null,null,null,null,null,null,null,null,null,"",""]
[null,null,null,null,null,null,null,null,null,null,null,null,null,null,null,"",""]
[null,null,null,null,null,null,null,null,null,null,null,null,null,null,null,"",""]
[null,null,null,null,null,null,null,null,null,null,null,null,null,null,null,"",""]
[null,null,null,null,null,null,null,null,null,null,null,null,null,null,null,"",""]
[null,null,null,null,null,null,null,null,null,null,null,null,null,null,null,"",""]
[null,null,null,null,null,null,null,null,null,null,null,null,null,null,null,"",""]
[null,null,null,null,null,null,null,null,null,null,null,null,null,null,null,"",""]
[null,null,null,null,null,null,null,null,null,null,null,null,null,null,null,"",""]
[null,null,null,null,null,null,null,null,null,null,null,null,null,null,null,"",""]
[null,null,null,null,null,null,null,null,null,null,null,null,null,null,null,"",""]
[null,null,null,null,null,null,null,null,null,null,null,null,null,null,null,"",""]
[null,null,null,null,null,null,null,null,null,null,null,null,null,null,null,"",""]
[null,null,null,null,null,null,null,null,null,null,null,null,null,null,null,"",""]
[null,null,null,null,null,null,null,null,null,null,null,null,null,null,null,"",""]
[null,null,null,null,null,null,null,null,null,null,null,null,null,null,null,"",""]
[null,null,null,null,null,null,null,null,null,null,null,null,null,null,null,"",""]
[null,null,null,null,null,null,null,null,null,null,null,null,null,null,null,"",""]
[null,null,null,null,null,null,null,null,null,null,null,null,null,null,null,"",""]
[null,null,null,null,null,null,null,null,null,null,null,null,null,null,null,"",""]
[null,null,null,null,null,null,null,null,null,null,null,null,null,null,null,"",""]
[null,null,null,null,null,null,null,null,null,null,null,null,null,null,null,"",""]
[null,null,null,null,null,null,null,null,null,null,null,null,null,null,null,"",""]
[null,null,null,null,null,null,null,null,null,null,null,null,null,null,null,"",""]
[null,null,null,null,null,null,null,null,null,null,null,null,null,null,null,"",""]
[null,null,null,null,null,null,null,null,null,null,null,null,null,null,null,"",""]
[null,null,null,null,null,null,null,null,null,null,null,null,null,null,null,"",""]
[null,null,null,null,null,null,null,null,null,null,null,null,null,null,null,"",""]
[null,null,null,null,null,null,null,null,null,null,null,null,null,null,null,"",""]
[null,null,null,null,null,null,null,null,null,null,null,null,null,null,null,"",""]
[null,null,null,null,null,null,null,null,null,null,null,null,null,null,null,"",""]
[null,null,null,null,null,null,null,null,null,null,null,null,null,null,null,"",""]
[null,null,null,null,null,null,null,null,null,null,null,null,null,null,null,"",""]
[null,null,null,null,null,null,null,null,null,null,null,null,null,null,null,"",""]
[null,null,null,null,null,null,null,null,null,null,null,null,null,null,null,"",""]
[null,null,null,null,null,null,null,null,null,null,null,null,null,null,null,"",""]
[null,null,null,null,null,null,null,null,null,null,null,null,null,null,null,"",""]
[null,null,null,null,null,null,null,null,null,null,null,null,null,null,null,"",""]
[null,null,null,null,null,null,null,null,null,null,null,null,null,null,null,"",""]
[null,null,null,null,null,null,null,null,null,null,null,null,null,null,null,"",""]
[null,null,null,null,null,null,null,null,null,null,null,null,null,null,null,"",""]
[null,null,null,null,null,null,null,null,null,null,null,null,null,null,null,"",""]
[null,null,null,null,null,null,null,null,null,null,null,null,null,null,null,"",""]
[null,null,null,null,null,null,null,null,null,null,null,null,null,null,null,"",""]
[null,null,null,null,null,null,null,null,null,null,null,null,null,null,null,"",""]
[null,null,null,null,null,null,null,null,null,null,null,null,null,null,null,"",""]
[null,null,null,null,null,null,null,null,null,null,null,null,null,null,null,"",""]
[null,null,null,null,null,null,null,null,null,null,null,null,null,null,null,"",""]
[null,null,null,null,null,null,null,null,null,null,null,null,null,null,null,"",""]
[null,null,null,null,null,null,null,null,null,null,null,null,null,null,null,"",""]
[null,null,null,null,null,null,null,null,null,null,null,null,null,null,null,"",""]
[null,null,null,null,null,null,null,null,null,null,null,null,null,null,null,"",""]
[null,null,null,null,null,null,null,null,null,null,null,null,null,null,null,"",""]
[null,null,null,null,null,null,null,null,null,null,null,null,null,null,null,"",""]
[null,null,null,null,null,null,null,null,null,null,null,null,null,null,null,"",""]
[null,null,null,null,null,null,null,null,null,null,null,null,null,null,null,"",""]
[null,null,null,null,null,null,null,null,null,null,null,null,null,null,null,"",""]
[null,null,null,null,null,null,null,null,null,null,null,null,null,null,null,"",""]
[null,null,null,null,null,null,null,null,null,null,null,null,null,null,null,"",""]
[null,null,null,null,null,null,null,null,null,null,null,null,null,null,null,"",""]
[null,null,null,null,null,null,null,null,null,null,null,null,null,null,null,"",""]
[null,null,null,null,null,null,null,null,null,null,null,null,null,null,null,"",""]
[null,null,null,null,null,null,null,null,null,null,null,null,null,null,null,"",""]
[null,null,null,null,null,null,null,null,null,null,null,null,null,null,null,"",""]
[null,null,null,null,null,null,null,null,null,null,null,null,null,null,null,"",""]
[null,null,null,null,null,null,null,null,null,null,null,null,null,null,null,"",""]
[null,null,null,null,null,null,null,null,null,null,null,null,null,null,null,"",""]
[null,null,null,null,null,null,null,null,null,null,null,null,null,null,null,"",""]
[null,null,null,null,null,null,null,null,null,null,null,null,null,null,null,"",""]
[null,null,null,null,null,null,null,null,null,null,null,null,null,null,null,"",""]
[null,null,null,null,null,null,null,null,null,null,null,null,null,null,null,"",""]
[null,null,null,null,null,null,null,null,null,null,null,null,null,null,null,"",""]
[null,null,null,null,null,null,null,null,null,null,null,null,null,null,null,"",""]
[null,null,null,null,null,null,null,null,null,null,null,null,null,null,null,"",""]
[null,null,null,null,null,null,null,null,null,null,null,null,null,null,null,"",""]
[null,null,null,null,null,null,null,null,null,null,null,null,null,null,null,"",""]
[null,null,null,null,null,null,null,null,null,null,null,null,null,null,null,"",""]
[null,null,null,null,null,null,null,null,null,null,null,null,null,null,null,"",""]
[null,null,null,null,null,null,null,null,null,null,null,null,null,null,null,"",""]
[null,null,null,null,null,null,null,null,null,null,null,null,null,null,null,"",""]
[null,null,null,null,null,null,null,null,null,null,null,null,null,null,null,"",""]
[null,null,null,null,null,null,null,null,null,null,null,null,null,null,null,"",""]
[null,null,null,null,null,null,null,null,null,null,null,null,null,null,null,"",""]
[null,null,null,null,null,null,null,null,null,null,null,null,null,null,null,"",""]
[null,null,null,null,null,null,null,null,null,null,null,null,null,null,null,"",""]
[null,null,null,null,null,null,null,null,null,null,null,null,null,null,null,"",""]
[null,null,null,null,null,null,null,null,null,null,null,null,null,null,null,"",""]
[null,null,null,null,null,null,null,null,null,null,null,null,null,null,null,"",""]
[null,null,null,null,null,null,null,null,null,null,null,null,null,null,null,"",""]
[null,null,null,null,null,null,null,null,null,null,null,null,null,null,null,"",""]
[null,null,null,null,null,null,null,null,null,null,null,null,null,null,null,"",""]
[null,null,null,null,null,null,null,null,null,null,null,null,null,null,null,"",""]
[null,null,null,null,null,null,null,null,null,null,null,null,null,null,null,"",""]
[null,null,null,null,null,null,null,null,null,null,null,null,null,null,null,"",""]
[null,null,null,null,null,null,null,null,null,null,null,null,null,null,null,"",""]
[null,null,null,null,null,null,null,null,null,null,null,null,null,null,null,"",""]
[null,null,null,null,null,null,null,null,null,null,null,null,null,null,null,"",""]
[null,null,null,null,null,null,null,null,null,null,null,null,null,null,null,"",""]
[null,null,null,null,null,null,null,null,null,null,null,null,null,null,null,"",""]
[null,null,null,null,null,null,null,null,null,null,null,null,null,null,null,"",""]
[null,null,null,null,null,null,null,null,null,null,null,null,null,null,null,"",""]
[null,null,null,null,null,null,null,null,null,null,null,null,null,null,null,"",""]
[null,null,null,null,null,null,null,null,null,null,null,null,null,null,null,"",""]
[null,null,null,null,null,null,null,null,null,null,null,null,null,null,null,"",""]
[null,null,null,null,null,null,null,null,null,null,null,null,null,null,null,"",""]
[null,null,null,null,null,null,null,null,null,null,null,null,null,null,null,"",""]
[null,null,null,null,null,null,null,null,null,null,null,null,null,null,null,"",""]
[null,null,null,null,null,null,null,null,null,null,null,null,null,null,null,"",""]
[null,null,null,null,null,null,null,null,null,null,null,null,null,null,null,"",""]
[null,null,null,null,null,null,null,null,null,null,null,null,null,null,null,"",""]
[null,null,null,null,null,null,null,null,null,null,null,null,null,null,null,"",""]
[null,null,null,null,null,null,null,null,null,null,null,null,null,null,null,"",""]
[null,null,null,null,null,null,null,null,null,null,null,null,null,null,null,"",""]
[null,null,null,null,null,null,null,null,null,null,null,null,null,null,null,"",""]
[null,null,null,null,null,null,null,null,null,null,null,null,null,null,null,"",""]
[null,null,null,null,null,null,null,null,null,null,null,null,null,null,null,"",""]
[null,null,null,null,null,null,null,null,null,null,null,null,null,null,null,"",""]
[null,null,null,null,null,null,null,null,null,null,null,null,null,null,null,"",""]
[null,null,null,null,null,null,null,null,null,null,null,null,null,null,null,"",""]
[null,null,null,null,null,null,null,null,null,null,null,null,null,null,null,"",""]
[null,null,null,null,null,null,null,null,null,null,null,null,null,null,null,"",""]
[null,null,null,null,null,null,null,null,null,null,null,null,null,null,null,"",""]
[null,null,null,null,null,null,null,null,null,null,null,null,null,null,null,"",""]
[null,null,null,null,null,null,null,null,null,null,null,null,null,null,null,"",""]
[null,null,null,null,null,null,null,null,null,null,null,null,null,null,null,"",""]
[null,null,null,null,null,null,null,null,null,null,null,null,null,null,null,"",""]
[null,null,null,null,null,null,null,null,null,null,null,null,null,null,null,"",""]
[null,null,null,null,null,null,null,null,null,null,null,null,null,null,null,"",""]
[null,null,null,null,null,null,null,null,null,null,null,null,null,null,null,"",""]
[null,null,null,null,null,null,null,null,null,null,null,null,null,null,null,"",""]
[null,null,null,null,null,null,null,null,null,null,null,null,null,null,null,"",""]
[null,null,null,null,null,null,null,null,null,null,null,null,null,null,null,"",""]
[null,null,null,null,null,null,null,null,null,null,null,null,null,null,null,"",""]
[null,null,null,null,null,null,null,null,null,null,null,null,null,null,null,"",""]
[null,null,null,null,null,null,null,null,null,null,null,null,null,null,null,"",""]
[null,null,null,null,null,null,null,null,null,null,null,null,null,null,null,"",""]
[null,null,null,null,null,null,null,null,null,null,null,null,null,null,null,"",""]
[null,null,null,null,null,null,null,null,null,null,null,null,null,null,null,"",""]
[null,null,null,null,null,null,null,null,null,null,null,null,null,null,null,"",""]
[null,null,null,null,null,null,null,null,null,null,null,null,null,null,null,"",""]
[null,null,null,null,null,null,null,null,null,null,null,null,null,null,null,"",""]
[null,null,null,null,null,null,null,null,null,null,null,null,null,null,null,"",""]
[null,null,null,null,null,null,null,null,null,null,null,null,null,null,null,"",""]
[null,null,null,null,null,null,null,null,null,null,null,null,null,null,null,"",""]
[null,null,null,null,null,null,null,null,null,null,null,null,null,null,null,"",""]
[null,null,null,null,null,null,null,null,null,null,null,null,null,null,null,"",""]
[null,null,null,null,null,null,null,null,null,null,null,null,null,null,null,"",""]
[null,null,null,null,null,null,null,null,null,null,null,null,null,null,null,"",""]
[null,null,null,null,null,null,null,null,null,null,null,null,null,null,null,"",""]
[null,null,null,null,null,null,null,null,null,null,null,null,null,null,null,"",""]
[null,null,null,null,null,null,null,null,null,null,null,null,null,null,null,"",""]
[null,null,null,null,null,null,null,null,null,null,null,null,null,null,null,"",""]
[null,null,null,null,null,null,null,null,null,null,null,null,null,null,null,"",""]
[null,null,null,null,null,null,null,null,null,null,null,null,null,null,null,"",""]
[null,null,null,null,null,null,null,null,null,null,null,null,null,null,null,"",""]
[null,null,null,null,null,null,null,null,null,null,null,null,null,null,null,"",""]
[null,null,null,null,null,null,null,null,null,null,null,null,null,null,null,"",""]
[null,null,null,null,null,null,null,null,null,null,null,null,null,null,null,"",""]
[null,null,null,null,null,null,null,null,null,null,null,null,null,null,null,"",""]
[null,null,null,null,null,null,null,null,null,null,null,null,null,null,null,"",""]
[null,null,null,null,null,null,null,null,null,null,null,null,null,null,null,"",""]
[null,null,null,null,null,null,null,null,null,null,null,null,null,null,null,"",""]
[null,null,null,null,null,null,null,null,null,null,null,null,null,null,null,"",""]
[null,null,null,null,null,null,null,null,null,null,null,null,null,null,null,"",""]
[null,null,null,null,null,null,null,null,null,null,null,null,null,null,null,"",""]
[null,null,null,null,null,null,null,null,null,null,null,null,null,null,null,"",""]
[null,null,null,null,null,null,null,null,null,null,null,null,null,null,null,"",""]
[null,null,null,null,null,null,null,null,null,null,null,null,null,null,null,"",""]
[null,null,null,null,null,null,null,null,null,null,null,null,null,null,null,"",""]
[null,null,null,null,null,null,null,null,null,null,null,null,null,null,null,"",""]
[null,null,null,null,null,null,null,null,null,null,null,null,null,null,null,"",""]
[null,null,null,null,null,null,null,null,null,null,null,null,null,null,null,"",""]
[null,null,null,null,null,null,null,null,null,null,null,null,null,null,null,"",""]
[null,null,null,null,null,null,null,null,null,null,null,null,null,null,null,"",""]
[null,null,null,null,null,null,null,null,null,null,null,null,null,null,null,"",""]
[null,null,null,null,null,null,null,null,null,null,null,null,null,null,null,"",""]
[null,null,null,null,null,null,null,null,null,null,null,null,null,null,null,"",""]
[null,null,null,null,null,null,null,null,null,null,null,null,null,null,null,"",""]
[null,null,null,null,null,null,null,null,null,null,null,null,null,null,null,"",""]
[null,null,null,null,null,null,null,null,null,null,null,null,null,null,null,"",""]
[null,null,null,null,null,null,null,null,null,null,null,null,null,null,null,"",""]
[null,null,null,null,null,null,null,null,null,null,null,null,null,null,null,"",""]
[null,null,null,null,null,null,null,null,null,null,null,null,null,null,null,"",""]
[null,null,null,null,null,null,null,null,null,null,null,null,null,null,null,"",""]
[null,null,null,null,null,null,null,null,null,null,null,null,null,null,null,"",""]
[null,null,null,null,null,null,null,null,null,null,null,null,null,null,null,"",""]
[null,null,null,null,null,null,null,null,null,null,null,null,null,null,null,"",""]
[null,null,null,null,null,null,null,null,null,null,null,null,null,null,null,"",""]
[null,null,null,null,null,null,null,null,null,null,null,null,null,null,null,"",""]
[null,null,null,null,null,null,null,null,null,null,null,null,null,null,null,"",""]
[null,null,null,null,null,null,null,null,null,null,null,null,null,null,null,"",""]
[null,null,null,null,null,null,null,null,null,null,null,null,null,null,null,"",""]
[null,null,null,null,null,null,null,null,null,null,null,null,null,null,null,"",""]
[null,null,null,null,null,null,null,null,null,null,null,null,null,null,null,"",""]
[null,null,null,null,null,null,null,null,null,null,null,null,null,null,null,"",""]
[null,null,null,null,null,null,null,null,null,null,null,null,null,null,null,"",""]
[null,null,null,null,null,null,null,null,null,null,null,null,null,null,null,"",""]
[null,null,null,null,null,null,null,null,null,null,null,null,null,null,null,"",""]
[null,null,null,null,null,null,null,null,null,null,null,null,null,null,null,"",""]
[null,null,null,null,null,null,null,null,null,null,null,null,null,null,null,"",""]
[null,null,null,null,null,null,null,null,null,null,null,null,null,null,null,"",""]
[null,null,null,null,null,null,null,null,null,null,null,null,null,null,null,"",""]
[null,null,null,null,null,null,null,null,null,null,null,null,null,null,null,"",""]
[null,null,null,null,null,null,null,null,null,null,null,null,null,null,null,"",""]
[null,null,null,null,null,null,null,null,null,null,null,null,null,null,null,"",""]
[null,null,null,null,null,null,null,null,null,null,null,null,null,null,null,"",""]
[null,null,null,null,null,null,null,null,null,null,null,null,null,null,null,"",""]
[null,null,null,null,null,null,null,null,null,null,null,null,null,null,null,"",""]
[null,null,null,null,null,null,null,null,null,null,null,null,null,null,null,"",""]
[null,null,null,null,null,null,null,null,null,null,null,null,null,null,null,"",""]
[null,null,null,null,null,null,null,null,null,null,null,null,null,null,null,"",""]
[null,null,null,null,null,null,null,null,null,null,null,null,null,null,null,"",""]
[null,null,null,null,null,null,null,null,null,null,null,null,null,null,null,"",""]
[null,null,null,null,null,null,null,null,null,null,null,null,null,null,null,"",""]
[null,null,null,null,null,null,null,null,null,null,null,null,null,null,null,"",""]
[null,null,null,null,null,null,null,null,null,null,null,null,null,null,null,"",""]
[null,null,null,null,null,null,null,null,null,null,null,null,null,null,null,"",""]
[null,null,null,null,null,null,null,null,null,null,null,null,null,null,null,"",""]
[null,null,null,null,null,null,null,null,null,null,null,null,null,null,null,"",""]
[null,null,null,null,null,null,null,null,null,null,null,null,null,null,null,"",""]
[null,null,null,null,null,null,null,null,null,null,null,null,null,null,null,"",""]
[null,null,null,null,null,null,null,null,null,null,null,null,null,null,null,"",""]
[null,null,null,null,null,null,null,null,null,null,null,null,null,null,null,"",""]
[null,null,null,null,null,null,null,null,null,null,null,null,null,null,null,"",""]
[null,null,null,null,null,null,null,null,null,null,null,null,null,null,null,"",""]
[null,null,null,null,null,null,null,null,null,null,null,null,null,null,null,"",""]
[null,null,null,null,null,null,null,null,null,null,null,null,null,null,null,"",""]
[null,null,null,null,null,null,null,null,null,null,null,null,null,null,null,"",""]
[null,null,null,null,null,null,null,null,null,null,null,null,null,null,null,"",""]
[null,null,null,null,null,null,null,null,null,null,null,null,null,null,null,"",""]
[null,null,null,null,null,null,null,null,null,null,null,null,null,null,null,"",""]
[null,null,null,null,null,null,null,null,null,null,null,null,null,null,null,"",""]
[null,null,null,null,null,null,null,null,null,null,null,null,null,null,null,"",""]
[null,null,null,null,null,null,null,null,null,null,null,null,null,null,null,"",""]
[null,null,null,null,null,null,null,null,null,null,null,null,null,null,null,"",""]
[null,null,null,null,null,null,null,null,null,null,null,null,null,null,null,"",""]
[null,null,null,null,null,null,null,null,null,null,null,null,null,null,null,"",""]
[null,null,null,null,null,null,null,null,null,null,null,null,null,null,null,"",""]
[null,null,null,null,null,null,null,null,null,null,null,null,null,null,null,"",""]
[null,null,null,null,null,null,null,null,null,null,null,null,null,null,null,"",""]
[null,null,null,null,null,null,null,null,null,null,null,null,null,null,null,"",""]
[null,null,null,null,null,null,null,null,null,null,null,null,null,null,null,"",""]
[null,null,null,null,null,null,null,null,null,null,null,null,null,null,null,"",""]
[null,null,null,null,null,null,null,null,null,null,null,null,null,null,null,"",""]
[null,null,null,null,null,null,null,null,null,null,null,null,null,null,null,"",""]
[null,null,null,null,null,null,null,null,null,null,null,null,null,null,null,"",""]
[null,null,null,null,null,null,null,null,null,null,null,null,null,null,null,"",""]
[null,null,null,null,null,null,null,null,null,null,null,null,null,null,null,"",""]
[null,null,null,null,null,null,null,null,null,null,null,null,null,null,null,"",""]
[null,null,null,null,null,null,null,null,null,null,null,null,null,null,null,"",""]
[null,null,null,null,null,null,null,null,null,null,null,null,null,null,null,"",""]
[null,null,null,null,null,null,null,null,null,null,null,null,null,null,null,"",""]
[null,null,null,null,null,null,null,null,null,null,null,null,null,null,null,"",""]
[null,null,null,null,null,null,null,null,null,null,null,null,null,null,null,"",""]
[null,null,null,null,null,null,null,null,null,null,null,null,null,null,null,"",""]
[null,null,null,null,null,null,null,null,null,null,null,null,null,null,null,"",""]
[null,null,null,null,null,null,null,null,null,null,null,null,null,null,null,"",""]
[null,null,null,null,null,null,null,null,null,null,null,null,null,null,null,"",""]
[null,null,null,null,null,null,null,null,null,null,null,null,null,null,null,"",""]
[null,null,null,null,null,null,null,null,null,null,null,null,null,null,null,"",""]
[null,null,null,null,null,null,null,null,null,null,null,null,null,null,null,"",""]
[null,null,null,null,null,null,null,null,null,null,null,null,null,null,null,"",""]
[null,null,null,null,null,null,null,null,null,null,null,null,null,null,null,"",""]
[null,null,null,null,null,null,null,null,null,null,null,null,null,null,null,"",""]
[null,null,null,null,null,null,null,null,null,null,null,null,null,null,null,"",""]
[null,null,null,null,null,null,null,null,null,null,null,null,null,null,null,"",""]
[null,null,null,null,null,null,null,null,null,null,null,null,null,null,null,"",""]
[null,null,null,null,null,null,null,null,null,null,null,null,null,null,null,"",""]
[null,null,null,null,null,null,null,null,null,null,null,null,null,null,null,"",""]
[null,null,null,null,null,null,null,null,null,null,null,null,null,null,null,"",""]
[null,null,null,null,null,null,null,null,null,null,null,null,null,null,null,"",""]
[null,null,null,null,null,null,null,null,null,null,null,null,null,null,null,"",""]
[null,null,null,null,null,null,null,null,null,null,null,null,null,null,null,"",""]
[null,null,null,null,null,null,null,null,null,null,null,null,null,null,null,"",""]
[null,null,null,null,null,null,null,null,null,null,null,null,null,null,null,"",""]
[null,null,null,null,null,null,null,null,null,null,null,null,null,null,null,"",""]
[null,null,null,null,null,null,null,null,null,null,null,null,null,null,null,"",""]
[null,null,null,null,null,null,null,null,null,null,null,null,null,null,null,"",""]
[null,null,null,null,null,null,null,null,null,null,null,null,null,null,null,"",""]
[null,null,null,null,null,null,null,null,null,null,null,null,null,null,null,"",""]
[null,null,null,null,null,null,null,null,null,null,null,null,null,null,null,"",""]
[null,null,null,null,null,null,null,null,null,null,null,null,null,null,null,"",""]
[null,null,null,null,null,null,null,null,null,null,null,null,null,null,null,"",""]
[null,null,null,null,null,null,null,null,null,null,null,null,null,null,null,"",""]
[null,null,null,null,null,null,null,null,null,null,null,null,null,null,null,"",""]
[null,null,null,null,null,null,null,null,null,null,null,null,null,null,null,"",""]
[null,null,null,null,null,null,null,null,null,null,null,null,null,null,null,"",""]
[null,null,null,null,null,null,null,null,null,null,null,null,null,null,null,"",""]
[null,null,null,null,null,null,null,null,null,null,null,null,null,null,null,"",""]
[null,null,null,null,null,null,null,null,null,null,null,null,null,null,null,"",""]
[null,null,null,null,null,null,null,null,null,null,null,null,null,null,null,"",""]
[null,null,null,null,null,null,null,null,null,null,null,null,null,null,null,"",""]
[null,null,null,null,null,null,null,null,null,null,null,null,null,null,null,"",""]
[null,null,null,null,null,null,null,null,null,null,null,null,null,null,null,"",""]
[null,null,null,null,null,null,null,null,null,null,null,null,null,null,null,"",""]
[null,null,null,null,null,null,null,null,null,null,null,null,null,null,null,"",""]
[null,null,null,null,null,null,null,null,null,null,null,null,null,null,null,"",""]
[null,null,null,null,null,null,null,null,null,null,null,null,null,null,null,"",""]
[null,null,null,null,null,null,null,null,null,null,null,null,null,null,null,"",""]
[null,null,null,null,null,null,null,null,null,null,null,null,null,null,null,"",""]
[null,null,null,null,null,null,null,null,null,null,null,null,null,null,null,"",""]
[null,null,null,null,null,null,null,null,null,null,null,null,null,null,null,"",""]
[null,null,null,null,null,null,null,null,null,null,null,null,null,null,null,"",""]
[null,null,null,null,null,null,null,null,null,null,null,null,null,null,null,"",""]
[null,null,null,null,null,null,null,null,null,null,null,null,null,null,null,"",""]
[null,null,null,null,null,null,null,null,null,null,null,null,null,null,null,"",""]
[null,null,null,null,null,null,null,null,null,null,null,null,null,null,null,"",""]
[null,null,null,null,null,null,null,null,null,null,null,null,null,null,null,"",""]
[null,null,null,null,null,null,null,null,null,null,null,null,null,null,null,"",""]
[null,null,null,null,null,null,null,null,null,null,null,null,null,null,null,"",""]
[null,null,null,null,null,null,null,null,null,null,null,null,null,null,null,"",""]
[null,null,null,null,null,null,null,null,null,null,null,null,null,null,null,"",""]
[null,null,null,null,null,null,null,null,null,null,null,null,null,null,null,"",""]
[null,null,null,null,null,null,null,null,null,null,null,null,null,null,null,"",""]
[null,null,null,null,null,null,null,null,null,null,null,null,null,null,null,"",""]
[null,null,null,null,null,null,null,null,null,null,null,null,null,null,null,"",""]
[null,null,null,null,null,null,null,null,null,null,null,null,null,null,null,"",""]
[null,null,null,null,null,null,null,null,null,null,null,null,null,null,null,"",""]
[null,null,null,null,null,null,null,null,null,null,null,null,null,null,null,"",""]
[null,null,null,null,null,null,null,null,null,null,null,null,null,null,null,"",""]
[null,null,null,null,null,null,null,null,null,null,null,null,null,null,null,"",""]
[null,null,null,null,null,null,null,null,null,null,null,null,null,null,null,"",""]
[null,null,null,null,null,null,null,null,null,null,null,null,null,null,null,"",""]
[null,null,null,null,null,null,null,null,null,null,null,null,null,null,null,"",""]
[null,null,null,null,null,null,null,null,null,null,null,null,null,null,null,"",""]
[null,null,null,null,null,null,null,null,null,null,null,null,null,null,null,"",""]
[null,null,null,null,null,null,null,null,null,null,null,null,null,null,null,"",""]
[null,null,null,null,null,null,null,null,null,null,null,null,null,null,null,"",""]
[null,null,null,null,null,null,null,null,null,null,null,null,null,null,null,"",""]
[null,null,null,null,null,null,null,null,null,null,null,null,null,null,null,"",""]
[null,null,null,null,null,null,null,null,null,null,null,null,null,null,null,"",""]
[null,null,null,null,null,null,null,null,null,null,null,null,null,null,null,"",""]
[null,null,null,null,null,null,null,null,null,null,null,null,null,null,null,"",""]
[null,null,null,null,null,null,null,null,null,null,null,null,null,null,null,"",""]
[null,null,null,null,null,null,null,null,null,null,null,null,null,null,null,"",""]
[null,null,null,null,null,null,null,null,null,null,null,null,null,null,null,"",""]
[null,null,null,null,null,null,null,null,null,null,null,null,null,null,null,"",""]
[null,null,null,null,null,null,null,null,null,null,null,null,null,null,null,"",""]
[null,null,null,null,null,null,null,null,null,null,null,null,null,null,null,"",""]
[null,null,null,null,null,null,null,null,null,null,null,null,null,null,null,"",""]
[null,null,null,null,null,null,null,null,null,null,null,null,null,null,null,"",""]

{"sheet":"ESTACIONES_VARIABLES","index":7,"n_rows":8,"n_cols":2,"rows_kept":8,"cut":false,"hidden":true,"merged":[]}
[]
[]
[]
[0]
[1,"Inferior(Inferior  Grava )"]
[4,"Unica Seccion(Unica Seccion  Arena muy gruesa )"]
[3,"Superior(Superior  Arena gruesa )"]
[2,"Intermedio(Intermedio  Arena media )"]

{"sheet":"AGD_MUESTREOS","index":8,"n_rows":0,"n_cols":0,"rows_kept":0,"cut":false,"hidden":true,"merged":[]}

{"sheet":"AGD_PARAMETRO","index":9,"n_rows":0,"n_cols":0,"rows_kept":0,"cut":false,"hidden":true,"merged":[]}

{"sheet":"AGD_MUESTRAS","index":10,"n_rows":0,"n_cols":0,"rows_kept":0,"cut":false,"hidden":true,"merged":[]}

{"sheet":"AGD_MUESTRAS_VARIABLES","index":11,"n_rows":0,"n_cols":0,"rows_kept":0,"cut":false,"hidden":true,"merged":[]}

{"sheet":"AGD_AUTORIAS","index":12,"n_rows":0,"n_cols":0,"rows_kept":0,"cut":false,"hidden":true,"merged":[]}