{"text_format":"1","workbook":"xlsx","n_sheets":16,"sheets":["Registro de cambios","configuracion_finos","configuracion_gruesos","configuracion_amp","DIGITADOR","DATOS_AMP","DATOS_FINOS","DATOS_GRUESOS","referentes","otras referencias","AGD_MUESTREOS","AGD_PARAMETRO","AGD_MUESTRAS","AGD_MUESTRAS_VARIABLES","AGD_AUTORIAS","MUESTRAS"],"not_rendered":{"charts":0,"images":0,"macros":1,"external_links":1,"defined_names":145,"comments":6,"pivot_tables":0},"unopened":[],"bounds":{"document_bytes":16777216,"sheet_cells":100000,"rows_first":2000,"rows_last":500,"rows_between":2000,"halvings":0,"cell_chars":16384,"cell_head_chars":4096},"cells_cut":0,"cells_raw":0,"read":"whole","date_system":"1900"}

{"sheet":"Registro de cambios","index":0,"n_rows":7,"n_cols":7,"rows_kept":7,"cut":false,"hidden":true,"merged":[[1,3,1,6]]}
[]
[null,null,null,"REGISTRO DE CAMBIOS"]
[null,null,null,"VERSIÓN No.","CAMBIO REALIZADO","AUTOR","VIGENTE DESDE"]
[null,null,null,"20250421m","Creación de nuevas parcelas de monitoreo para el proyecto \"Línea Base ambiental ECOPETROL\".","Kevin Moreno","2025-04-21"]
[null,null,null,"20240515i","Actualización del código de la macro.\n\nSe eliminó la URL de la antigua API de portete:\n       http://portete.invemar.org.co:7003/ArgosWebServices-RESTWebService-context-root/rest/1.0\n\nFue reemplazada por la URL de la API de ARGOS:\n       https://argos.invemar.org.co/api/\n\nLa API contiene Endpoints que permiten tener mayor control, facilitan la descarga de referentes (listas de usuarios, estaciones, especies, etc.) que corresponden a criterios específicos como el proyecto usado en la plantilla para evitar descargar data innecesaria.\n\nDel mismo modo, también permite la carga de información a la BDD del INVEMAR.\nLos Endpoints fueron aplicados en las 3 hojas de configuración para AMP, Detritos Finos y Detritos Gruesos.","Kevin Moreno","15/5/2024"]
[null,null,null,"20240214i","1. Actualización de parcelas, se agregaron nuevas parcelas de:\nBahía de Cispatá, Bahía Hondita, Golfo de Urabá, Bahía Málaga.\n\n2. Se agregó una nueva url para los datos de parcelas, la cual, se encuentra en la pestaña; configuracion_finos, celda: B67, está solo es del proyecto 3700, por lo tanto, en el código se no se relacionó con las celdas: C7 de configuracion, es decir, el código se modificó. \n\n3. Se modificó el contenido de la celda B8 en la pestaña DIGITADOR, el cual, se descarga en referentes, se colocó el nombre del proyecto – nombre con el ente que se hace el convenio.\n\n4. Se actualizaron algunos campos debido a los cambios generados.\n\n5. Se agregaron 3 especies nuevas a AMP en referentes.","Luz Parra","14/2/2024"]
[null,null,null,"20231123i","Creación de 3 hojas de datos que abarcan las tres temáticas de Necromasa, las cuales son AMP, Detritos Finos y Detritos Gruesos.\n\nCada hoja tiene su respectiva hoja de consiguración, ajustadas según la estructura de cada temática.\n\nSe validan los datos obligatorios.\n\nSe modifica el código de las macros para la descarga de referentes, generación de tablas y carga de datos al sistema.","Kevin Moreno","23/11/2023"]

{"sheet":"configuracion_finos","index":1,"n_rows":84,"n_cols":11,"rows_kept":84,"cut":false,"hidden":true,"merged":[[74,0,74,2],[28,0,35,0],[37,0,42,0],[45,0,45,1],[0,0,2,0],[3,0,5,0],[7,0,8,0],[9,0,15,0],[17,0,21,0],[23,0,26,0]]}
["general","urlServicio","https://argos.invemar.org.co/api/"]
[null,"fila de inicio",3]
[null,"fila de fin",303]
["metodologias","Metodologias",880]
[null,"Referentes",500]
[null,"Cantidad maxima de referentes ",500]
["estaciones/investigadores","proyectos",3700]
["Lista especies","metodologias"]
[null,"proyectos",3700]
["MUESTREOS","ID_MUESTREO","DATOS_FINOS,B"]
[null,"ID_ESTACION","DATOS_FINOS,E"]
[null,"ID_PROYECTO",{"$f":"$C$7","v":3700}]
[null,"ID_METODOLOGIA",{"$f":"$C$4","v":880}]
[null,"ID_TEMATICAS",274]
[null,"FECHA","DATOS_FINOS,G"]
[null,"NOTAS","DIGITADOR,B,24"]
[null,"cantidad",303]
["parametro muestreo (CABECERAS)","ID_MUESTREO","DATOS_FINOS,B","DATOS_FINOS,B","DATOS_FINOS,B","DATOS_FINOS,B"]
[null,"ID_PARAMETRO",1169,1055,1170,127]
[null,"ID_METODOLOGIA",{"$f":"$C$4","v":880},{"$f":"$C$4","v":880},{"$f":"$C$4","v":880},{"$f":"$C$4","v":880}]
[null,"ID_UNIDAD_MEDIDA",100,100,100,100]
[null,"VALOR","DIGITADOR,B,10","DIGITADOR,B,6","DIGITADOR,B,9","DIGITADOR,B,7"]
[null,"cantidad",303,303,303,303]
["muestra","ID_MUESTRA","DATOS_FINOS,D"]
[null,"ID_MUESTREO","DATOS_FINOS,C"]
[null,"NOTAS","DATOS_FINOS,X"]
[null,"ES_REPLICA",1]
[null,"cantidad",303]
["muestra variable","ID_PARAMETRO",881,1182,1071,566,566,598,1782,1793,1793]
[null,"ID_METODOLOGIA",{"$f":"$C$4","v":880},{"$f":"$C$4","v":880},880,880,880,880,880,880,880]
[null,"ID_UNIDAD_MEDIDA",100,100,100,10,11,10,129,69,116]
[null,"ID_MUESTRA","DATOS_FINOS,D","DATOS_FINOS,D","DATOS_FINOS,D","DATOS_FINOS,D","DATOS_FINOS,D","DATOS_FINOS,D","DATOS_FINOS,D","DATOS_FINOS,D","DATOS_FINOS,D"]
[null,"ID_METODO"]
[null,"VALOR","DATOS_FINOS,I","DATOS_FINOS,K","DATOS_FINOS,L","DATOS_FINOS,N","DATOS_FINOS,O","DATOS_FINOS,Q","DATOS_FINOS,R","DATOS_FINOS,T","DATOS_FINOS,U"]
[null,"QUALITY_FLAG"]
[null,"PRECISION"]
[null,"cantidad",303,303,303,303,303,303,303,303,303]
["autoria","ID_FUNCIONARIO","DIGITADOR,B,2","DIGITADOR,B,14","DIGITADOR,B,16","DIGITADOR,B,18","DIGITADOR,B,20"]
[null,"ID_TAREA",5,"DIGITADOR,A,14","DIGITADOR,A,16","DIGITADOR,A,18","DIGITADOR,A,20"]
[null,"ORDEN",1,2,3,4,5]
[null,"FECHA","DIGITADOR,B,5","DATOS_FINOS,G","DATOS_FINOS,G","DATOS_FINOS,G","DATOS_FINOS,G"]
[null,"ID_MUESTREO","DATOS_FINOS,B","DATOS_FINOS,B","DATOS_FINOS,B","DATOS_FINOS,B","DATOS_FINOS,B"]
[null,"ENTIDAD",{"$f":"'otras referencias'!$D$11","v":"Instituto de Investigaciones Marinas y Costeras"},{"$f":"'otras referencias'!$D$11","v":"Instituto de Investigaciones Marinas y Costeras"},{"$f":"'otras referencias'!$D$11","v":"Instituto de Investigaciones Marinas y Costeras"},{"$f":"'otras referencias'!$D$11","v":"Instituto de Investigaciones Marinas y Costeras"},{"$f":"'otras referencias'!$D$11","v":"Instituto de Investigaciones Marinas y Costeras"}]
[null,"cantidad",303,303,303,303,303]
[]
["REGISTROS GENERADOS",null,"REGISTROS CARGADOS",null,881,100,"TIPO_FISIOGRAFICO"]
["MUESTREOS",null,null,null,1182,100,"TRANSECTO"]
["parametro muestreo",null,null,null,1071,100,"MUESTRA"]
["muestra",null,null,null,566,10,"DIAMETRO_CM"]
["muestra variable",null,null,null,566,11,"DIAMETRO_M"]
["autoria",null,null,null,598,10,"LONGITUD_FRAGMENTO"]
["registros correctos",null,null,null,1782,129,"VOLUMEN_TOTAL_M3"]
["Fecha de carga",null,null,null,1793,69,"MASA_SECA_G"]
["json error",null,null,null,1793,116,"MASA_SECA_KG"]
["error",null,null,null,1169,100,"URL_METADATO"]
[null,null,null,null,1055,100,"VERSION_PLANTILLA"]
[null,null,null,null,1170,100,"ARCHIVO_FUENTE"]
["OBLIGATORIOS",null,null,null,127,100,"PROYECTO_CONVENIO"]
["DIGITADOR,B,3"]
["DIGITADOR,B,5"]
["DIGITADOR,B,7"]
[]
[]
[]
[]
[]
[]
[]
[]
[]
["Atributo","Descripción","Código"]
["Tipo Nodo","Parcela",{"$f":"VLOOKUP(B72, 'otras referencias'!$A$35:$C$45, 2, FALSE)","v":35}]
[]
[]
["CONFIGURACION REFERENTES"]
["Ruta de la API","Endpoint","Descripción"]
["URL - AGM Campo",{"$f":"CONCATENATE(\"parametros/agmcampo/\",$C$4,\"\")","v":"parametros/agmcampo/880"},"Listado de referentes AGM_CAMPO"]
["URL - Especies",{"$f":"IF($C$8=\"\",\"\",CONCATENATE(\"especies/filt/\",$C$9,\",\",$C$8,\"/\"))","v":""},"Especies por proyecto\n(No todos los proyectos tienen asociados una lista de especies)"]
["URL - Estaciones",{"$f":"CONCATENATE(\"estaciones/\", $C$72, \"/\",$C$9,\"\")","v":"estaciones/35/3700"},"Estaciones/parcelas por proyecto, cambia dependiendo del Tipo de Nodo, cuyo estado sea VIGENTE."]
["URL - Usuarios",{"$f":"CONCATENATE(\"parametros/usersByProject/\",$C$7,\"\")","v":"parametros/usersByProject/3700"},"Usuarios por proyecto."]
["URL - Entidades","estaciones/get-entidades","Listado de entidades."]
["Atributos de la API","codigo_in","nombre_in"]
["Rango de atributos de la API","B70:C71","nombre_in"]
["URL - Plantillas","plantillas/","Endpoint para la carga de datos al sistema."]

{"sheet":"configuracion_gruesos","index":2,"n_rows":84,"n_cols":17,"rows_kept":84,"cut":false,"hidden":true,"merged":[[74,0,74,2],[28,0,35,0],[37,0,42,0],[45,0,45,1],[0,0,2,0],[3,0,5,0],[7,0,8,0],[9,0,15,0],[17,0,21,0],[23,0,26,0]]}
["general","urlServicio","https://argos.invemar.org.co/api/"]
[null,"fila de inicio",3]
[null,"fila de fin",303]
["metodologias","Metodologias",881]
[null,"Referentes",500]
[null,"Cantidad maxima de referentes ",500]
["estaciones/investigadores","proyectos",3700]
["Lista especies","metodologias"]
[null,"proyectos",3700]
["MUESTREOS","ID_MUESTREO","DATOS_GRUESOS,B"]
[null,"ID_ESTACION","DATOS_GRUESOS,E"]
[null,"ID_PROYECTO",{"$f":"C7","v":3700}]
[null,"ID_METODOLOGIA",{"$f":"C4","v":881}]
[null,"ID_TEMATICAS",274]
[null,"FECHA","DATOS_GRUESOS,G"]
[null,"NOTAS","DIGITADOR,B,24"]
[null,"cantidad",303]
["PARAMETROS MUESTREO (CABECERAS)","ID_MUESTREO","DATOS_GRUESOS,B","DATOS_GRUESOS,B","DATOS_GRUESOS,B","DATOS_GRUESOS,B"]
[null,"ID_PARAMETRO",1169,1055,1170,127]
[null,"ID_METODOLOGIA",{"$f":"$C$4","v":881},{"$f":"$C$4","v":881},{"$f":"$C$4","v":881},{"$f":"$C$4","v":881}]
[null,"ID_UNIDAD_MEDIDA",100,100,100,100]
[null,"VALOR","DIGITADOR,B,10","DIGITADOR,B,6","DIGITADOR,B,9","DIGITADOR,B,7"]
[null,"cantidad",303,303,303,303]
["muestra","ID_MUESTRA","DATOS_GRUESOS,D"]
[null,"ID_MUESTREO","DATOS_GRUESOS,C"]
[null,"NOTAS","DATOS_GRUESOS,Y"]
[null,"ES_REPLICA",1]
[null,"cantidad",303]
["muestra variable","ID_PARAMETRO",881,1182,1071,566,566,566,1780,598,1781,823,1782,269,269,1783,598]
[null,"ID_METODOLOGIA",{"$f":"$C$4","v":881},{"$f":"$C$4","v":881},881,881,881,881,881,881,881,881,881,881,881,881,881]
[null,"ID_UNIDAD_MEDIDA",100,100,100,10,11,109,100,10,100,100,129,158,6,116,11]
[null,"ID_MUESTRA","DATOS_GRUESOS,D","DATOS_GRUESOS,D","DATOS_GRUESOS,D","DATOS_GRUESOS,D","DATOS_GRUESOS,D","DATOS_GRUESOS,D","DATOS_GRUESOS,D","DATOS_GRUESOS,D","DATOS_GRUESOS,D","DATOS_GRUESOS,D","DATOS_GRUESOS,D","DATOS_GRUESOS,D","DATOS_GRUESOS,D","DATOS_GRUESOS,D","DATOS_GRUESOS,D"]
[null,"ID_METODO"]
[null,"VALOR","DATOS_GRUESOS,H","DATOS_GRUESOS,J","DATOS_GRUESOS,K","DATOS_GRUESOS,N","DATOS_GRUESOS,O","DATOS_GRUESOS,P","DATOS_GRUESOS,Q","DATOS_GRUESOS,R","DATOS_GRUESOS,S","DATOS_GRUESOS,T","DATOS_GRUESOS,U","DATOS_GRUESOS,V","DATOS_GRUESOS,W","DATOS_GRUESOS,X","DATOS_GRUESOS,L"]
[null,"QUALITY_FLAG"]
[null,"PRECISION"]
[null,"cantidad",303,303,303,303,303,303,303,303,303,303,303,303,303,303,303]
["autoria","ID_FUNCIONARIO","DIGITADOR,B,2","DIGITADOR,A,14","DIGITADOR,A,16","DIGITADOR,A,18","DIGITADOR,A,20"]
[null,"ID_TAREA",5,"DIGITADOR,B,14","DIGITADOR,B,16","DIGITADOR,B,18","DIGITADOR,B,20"]
[null,"ORDEN",1,2,3,4,5]
[null,"FECHA","DIGITADOR,B,5","DATOS_GRUESOS,G","DATOS_GRUESOS,G","DATOS_GRUESOS,G","DATOS_GRUESOS,G"]
[null,"ID_MUESTREO","DATOS_GRUESOS,B","DATOS_GRUESOS,B","DATOS_GRUESOS,B","DATOS_GRUESOS,B","DATOS_GRUESOS,B"]
[null,"ENTIDAD",{"$f":"'otras referencias'!$D$11","v":"Instituto de Investigaciones Marinas y Costeras"},{"$f":"'otras referencias'!$D$11","v":"Instituto de Investigaciones Marinas y Costeras"},{"$f":"'otras referencias'!$D$11","v":"Instituto de Investigaciones Marinas y Costeras"},{"$f":"'otras referencias'!$D$11","v":"Instituto de Investigaciones Marinas y Costeras"},{"$f":"'otras referencias'!$D$11","v":"Instituto de Investigaciones Marinas y Costeras"}]
[null,"cantidad",303,303,303,303,303]
[]
["REGISTROS GENERADOS",null,"REGISTROS CARGADOS",null,881,100,"TIPO_FISIOGRAFICO"]
["MUESTREOS",null,null,null,1182,100,"TRANSECTO"]
["parametro muestreo",null,null,null,1071,100,"NUMERO_MUESTRA"]
["muestra",null,null,null,566,10,"DIAMETRO_CM"]
["muestra variable",null,null,null,566,11,"DIAMETRO_M"]
["autoria",null,null,null,566,109,"DIAMETRO_M2"]
["registros correctos",null,null,null,1780,100,"NUMERO_GOLPES"]
["Fecha de carga",null,null,null,598,10,"LONGITUD_PENETRACION"]
["json error",null,null,null,1781,100,"PENETRACION_GOLPE"]
["error",null,null,null,823,100,"VALOR_PENETRACION"]
[null,null,null,null,1782,129,"VOLUMEN_M3"]
[null,null,null,null,269,158,"DENSIDAD_GR_CM3"]
["OBLIGATORIOS",null,null,null,269,6,"DENSIDAD_KG_M3"]
["DIGITADOR,B,3",null,null,null,1783,116,"NECROMASA_KG"]
["DIGITADOR,B,5",null,null,null,1169,100,"URL_METADATO"]
["DIGITADOR,B,7",null,null,null,1055,100,"VERSION_PLANTILLA"]
[null,null,null,null,1170,100,"ARCHIVO_FUENTE"]
[null,null,null,null,127,100,"PROYECTO_CONVENIO"]
[]
[]
[]
[]
[]
[]
[]
["Atributo","Descripción","Código"]
["Tipo Nodo","Parcela",{"$f":"VLOOKUP(B72, 'otras referencias'!$A$35:$C$45, 2, FALSE)","v":35}]
[]
[]
["CONFIGURACION REFERENTES"]
["Ruta de la API","Endpoint","Descripción"]
["URL - AGM Campo",{"$f":"CONCATENATE(\"parametros/agmcampo/\",$C$4,\"\")","v":"parametros/agmcampo/881"},"Listado de referentes AGM_CAMPO"]
["URL - Especies",{"$f":"IF($C$8=\"\",\"\",CONCATENATE(\"especies/filt/\",$C$9,\",\",$C$8,\"/\"))","v":""},"Especies por proyecto\n(No todos los proyectos tienen asociados una lista de especies)"]
["URL - Estaciones",{"$f":"CONCATENATE(\"estaciones/\", $C$72, \"/\",$C$9,\"\")","v":"estaciones/35/3700"},"Estaciones/parcelas por proyecto, cambia dependiendo del Tipo de Nodo, cuyo estado sea VIGENTE."]
["URL - Usuarios",{"$f":"CONCATENATE(\"parametros/usersByProject/\",$C$7,\"\")","v":"parametros/usersByProject/3700"},"Usuarios por proyecto."]
["URL - Entidades","estaciones/get-entidades","Listado de entidades."]
["Atributos de la API","codigo_in","nombre_in"]
["Rango de atributos de la API","B70:C71","nombre_in"]
["URL - Plantillas","plantillas/","Endpoint para la carga de datos al sistema."]

{"sheet":"configuracion_amp","index":3,"n_rows":84,"n_cols":16,"rows_kept":84,"cut":false,"hidden":true,"merged":[[74,0,74,2],[28,0,35,0],[37,0,42,0],[45,0,45,1],[0,0,2,0],[3,0,5,0],[7,0,8,0],[9,0,15,0],[17,0,21,0],[23,0,26,0]]}
["general","urlServicio","https://argos.invemar.org.co/api/"]
[null,"fila de inicio",3]
[null,"fila de fin",303]
["metodologias","Metodologias",882]
[null,"Referentes",500]
[null,"Cantidad maxima de referentes ",500]
["estaciones/investigadores","proyectos",3700]
["Lista especies","metodologias",882]
[null,"proyectos",3700]
["MUESTREOS","ID_MUESTREO","DATOS_AMP,B"]
[null,"ID_ESTACION","DATOS_AMP,E"]
[null,"ID_PROYECTO",{"$f":"$C$7","v":3700}]
[null,"ID_METODOLOGIA",{"$f":"$C$4","v":882}]
[null,"ID_TEMATICAS",274]
[null,"FECHA","DATOS_AMP,G"]
[null,"NOTAS","DIGITADOR,B,24"]
[null,"cantidad",303]
["parametro muestreo (CABECERAS)","ID_MUESTREO","DATOS_AMP,B","DATOS_AMP,B","DATOS_AMP,B","DATOS_AMP,B"]
[null,"ID_PARAMETRO",1169,1055,1170,127]
[null,"ID_METODOLOGIA",{"$f":"$C$4","v":882},{"$f":"$C$4","v":882},{"$f":"$C$4","v":882},{"$f":"$C$4","v":882}]
[null,"ID_UNIDAD_MEDIDA",100,100,100,100]
[null,"VALOR","DIGITADOR,B,10","DIGITADOR,B,6","DIGITADOR,B,9","DIGITADOR,B,7"]
[null,"cantidad",303,303,303,303]
["muestra","ID_MUESTRA","DATOS_AMP,D"]
[null,"ID_MUESTREO","DATOS_AMP,C"]
[null,"NOTAS","DATOS_AMP,AA"]
[null,"ES_REPLICA",1]
[null,"cantidad",303]
["muestra variable","ID_PARAMETRO",1181,881,598,566,566,566,1780,598,1781,823,1782,269,269,1783]
[null,"ID_METODOLOGIA",{"$f":"$C$4","v":882},{"$f":"$C$4","v":882},882,882,882,882,882,882,882,882,882,882,882,882]
[null,"ID_UNIDAD_MEDIDA",100,100,11,10,11,109,100,10,100,100,129,158,6,116]
[null,"ID_MUESTRA","DATOS_AMP,D","DATOS_AMP,D","DATOS_AMP,D","DATOS_AMP,D","DATOS_AMP,D","DATOS_AMP,D","DATOS_AMP,D","DATOS_AMP,D","DATOS_AMP,D","DATOS_AMP,D","DATOS_AMP,D","DATOS_AMP,D","DATOS_AMP,D","DATOS_AMP,D"]
[null,"ID_METODO"]
[null,"VALOR","DATOS_AMP,H","DATOS_AMP,K","DATOS_AMP,M","DATOS_AMP,O","DATOS_AMP,P","DATOS_AMP,Q","DATOS_AMP,R","DATOS_AMP,S","DATOS_AMP,U","DATOS_AMP,V","DATOS_AMP,W","DATOS_AMP,X","DATOS_AMP,Y","DATOS_AMP,Z"]
[null,"QUALITY_FLAG"]
[null,"PRECISION"]
[null,"cantidad",303,303,303,303,303,303,303,303,303,303,303,303,303,303]
["autoria","ID_FUNCIONARIO","DIGITADOR,B,2","DIGITADOR,B,14","DIGITADOR,B,16","DIGITADOR,B,18","DIGITADOR,B,20"]
[null,"ID_TAREA",5,"DIGITADOR,A,14","DIGITADOR,A,16","DIGITADOR,A,18","DIGITADOR,A,20"]
[null,"ORDEN",1,2,3,4,5]
[null,"FECHA","DIGITADOR,B,5","DATOS_AMP,G","DATOS_AMP,G","DATOS_AMP,G","DATOS_AMP,G"]
[null,"ID_MUESTREO","DATOS_AMP,B","DATOS_AMP,B","DATOS_AMP,B","DATOS_AMP,B","DATOS_AMP,B"]
[null,"ENTIDAD",{"$f":"'otras referencias'!$D$11","v":"Instituto de Investigaciones Marinas y Costeras"},{"$f":"'otras referencias'!$D$11","v":"Instituto de Investigaciones Marinas y Costeras"},{"$f":"'otras referencias'!$D$11","v":"Instituto de Investigaciones Marinas y Costeras"},{"$f":"'otras referencias'!$D$11","v":"Instituto de Investigaciones Marinas y Costeras"},{"$f":"'otras referencias'!$D$11","v":"Instituto de Investigaciones Marinas y Costeras"}]
[null,"cantidad",2,2,2,2,2]
[]
["REGISTROS GENERADOS",null,"REGISTROS CARGADOS",null,1181,100,"ESPECIE"]
["MUESTREOS",null,null,null,881,100,"TIPO_FISIOGRAFICO"]
["parametro muestreo",null,null,null,598,11,"ALTURA"]
["muestra",null,null,null,566,10,"DAP_CM"]
["muestra variable",null,null,null,566,11,"DAP_M"]
["autoria",null,null,null,566,109,"DAP_M2"]
["registros correctos",null,null,null,1780,100,"NUMERO_GOLPES"]
["Fecha de carga",null,null,null,598,10,"LONGITUD_PENETRACION"]
["json error",null,null,null,1781,100,"PENETRACION_GOLPE"]
["error",null,null,null,823,100,"VALOR_PENETRACION"]
[null,null,null,null,1782,129,"VOLUMEN_M3"]
[null,null,null,null,269,158,"DENSIDAD_GR_CM3"]
["OBLIGATORIOS",null,null,null,269,6,"DENSIDAD_KG_M3"]
["DIGITADOR,B,3",null,null,null,1783,116,"NECROMASA_KG"]
["DIGITADOR,B,5",null,null,null,1169,100,"URL_METADATO"]
["DIGITADOR,B,7",null,null,null,1055,100,"VERSION_PLANTILLA"]
[null,null,null,null,1170,100,"ARCHIVO_FUENTE"]
[null,null,null,null,127,100,"PROYECTO_CONVENIO"]
[]
[]
[]
[]
[]
[]
[]
["Atributo","Descripción","Código"]
["Tipo Nodo","Parcela",{"$f":"VLOOKUP(B72, 'otras referencias'!$A$35:$C$45, 2, FALSE)","v":35}]
[]
[]
["CONFIGURACION REFERENTES"]
["Ruta de la API","Endpoint","Descripción"]
["URL - AGM Campo",{"$f":"CONCATENATE(\"parametros/agmcampo/\",$C$4,\"\")","v":"parametros/agmcampo/882"},"Listado de referentes AGM_CAMPO"]
["URL - Especies",{"$f":"IF($C$8=\"\",\"\",CONCATENATE(\"especies/filt/\",$C$9,\",\",$C$8,\"/\"))","v":"especies/filt/3700,882/"},"Especies por proyecto\n(No todos los proyectos tienen asociados una lista de especies)"]
["URL - Estaciones",{"$f":"CONCATENATE(\"estaciones/\", $C$72, \"/\",$C$9,\"\")","v":"estaciones/35/3700"},"Estaciones/parcelas por proyecto, cambia dependiendo del Tipo de Nodo, cuyo estado sea VIGENTE."]
["URL - Usuarios",{"$f":"CONCATENATE(\"parametros/usersByProject/\",$C$7,\"\")","v":"parametros/usersByProject/3700"},"Usuarios por proyecto."]
["URL - Entidades","estaciones/get-entidades","Listado de entidades."]
["Atributos de la API","codigo_in","nombre_in"]
["Rango de atributos de la API","B70:C71","nombre_in"]
["URL - Plantillas","plantillas/","Endpoint para la carga de datos al sistema."]

{"sheet":"DIGITADOR","index":4,"n_rows":35,"n_cols":22,"rows_kept":35,"cut":false,"hidden":false,"merged":[[25,0,25,1],[3,0,4,0],[0,0,0,1],[0,3,4,10],[22,0,22,1],[5,3,15,10],[16,3,21,10]]}
["Necromasa - Detritos Finos De Madera (DFM)",null,null,"Recomendaciones generales: \n- ¡Precaución! No inserte Filas o Columnas.\n- En los casos en que falte un valor a ingresar que provenga de la hoja de referencias, informe para que el administrador del sistema haga las adiciones necesarias.\nEsta es una plantilla programada. Las columnas de color oscuro se llenan automaticamente, principalmente a partir de los contenidos de la hoja de referencias. \nNO UTILICE PUNTO Y COMA (;) en ningun campo, por ser el separador de variables (columnas). Tampoco escriba las unidades de medida, no son necesarias.\n- Para el correcto funcionamiento de la hoja debe estar activa la opcion de Excel de ejecutar macros (al abrir la hoja acepte la opcion habilitar macros, mensaje de Excel que aparece en la parte superior de la hoja en un recuadro amarillo). La extensión del archivo debe ser .xlsm\n- Se recomienda renombrar el archivo de la siguiente manera: Departamento_proyecto_sustrato-muestreo-año.xlsm",null,null,null,null,null,null,null,null,null,null,null,{"$f":"IF(A1<>\"\",INDEX('otras referencias'!$X$6:$Y$8,MATCH(DIGITADOR!A1,'otras referencias'!$Y$6:$Y$8,0),1),\"\")","v":"DATOS_FINOS"},{"$f":"IF(A1<>\"\",INDEX('otras referencias'!$X$6:$Z$8,MATCH(DIGITADOR!A1,'otras referencias'!$Y$6:$Y$8,0),3),\"\")","v":"configuracion_finos"},null,null,null,null,"http://portete.invemar.org.co:7003/ArgosWebServices-RESTWebService-context-root/rest/1.0/referente?finder=Metodologia;VAR_METODOLOGIA=880&limit=500"]
["Código Digitador",{"$f":"IF(B3<>\"\",IF(P1=\"DATOS_FINOS\",INDEX(referentes!$Z$2:$AA$17,MATCH(B3,referentes!AA$2:AA$17,0),1),IF(P1=\"DATOS_GRUESOS\",INDEX(referentes!$Z$2:$AA$17,MATCH(B3,referentes!$AA$2:$AA$17,0),1),IF(P1=\"DATOS_AMP\",INDEX(referentes!$Z$2:$AA$17,MATCH(B3,referentes!$AA$2:$AA$17,0),1)))),\"\")","v":""}]
["Nombre del Digitador"]
["Fecha en la que ingresa los datos en esta hoja","DD/MM/AAAA"]
[null,"3000-12-12"]
["Versión Plantilla",{"$f":"'Registro de cambios'!$D$4","v":"20250421m"},null,"* Seguir las siguientes instrucciones para el adecuado diligenciamiento y uso de la plantilla:\n\n- En la celda \"A1\", seleccionar la temática que desee.\n- Presionar el botón \"Descargar referentes\" para que el referente de ésta plantilla sean actualizados. \n- Diligenciar los datos en la hoja que se activó.\n- Una vez diligenciados los datos, debe presionar el botón \"Validación de datos\" para corroborar que todo esté en orden.\n- En caso de errores, corregir el error y volver a presionar el botón hasta la aprobación de la validación de datos.\n- Luego presionar el botón \"Generar tablas\" para que los datos sean organizados antes de cargarlos al Sistema de Información.\n- Antes de presionar el botón \"Generar tablas\" verifique que:\na. No haya celdas con valores como \"#N/A\" o \"#¡REF!\".\nb. No se estén aplicando filtros en la hoja de datos.\n- Para finalizar, presione el botón \"Cargar datos\"."]
["Código Proyecto Convenio",{"$f":"IF(B8<>\"\",IF(P1=\"DATOS_FINOS\",INDEX(referentes!D2:E12,MATCH(B8,referentes!E2:E12,0),1),IF(P1=\"DATOS_GRUESOS\",INDEX(referentes!$D$2:$E$45,MATCH(B8,referentes!$E$2:$E$45,0),1),IF(P1=\"DATOS_AMP\",INDEX(referentes!$G$2:$H$45,MATCH(B8,referentes!$H$2:$H$45,0),1)))),\"\")","v":""}]
["Proyecto Convenio"]
["Nombre del archivo",{"$f":"MID(CELL(\"FILENAME\",N60),FIND(\"[\",CELL(\"FILENAME\",N60))+1,   FIND(\"]\",CELL(\"FILENAME\",N60))-FIND(\"[\",CELL(\"FILENAME\",N60))-1)","v":"CA_NECROMASA_20250421m.xlsm"}]
["URL - DOI Metadato"]
["Fuente Plantilla","http://cinto.invemar.org.co/download/Plantillas_ARGOS_Plus/"]
[]
["ROLES INVOLUCRADOS","NOMBRE DE LA PERSONA"]
[{"$f":"IF(A15=\"\",\"\",VLOOKUP(A15,'otras referencias'!$A$27:$B$30,2,FALSE))","v":""},{"$f":"IF(B15<>\"\",IF($P$1=\"DATOS_FINOS\",INDEX(referentes!$Z$2:$AA$17,MATCH(B15,referentes!AA$2:AA$17,0),1),IF($P$1=\"DATOS_GRUESOS\",INDEX(referentes!$Z$2:$AA$17,MATCH(B15,referentes!$AA$2:$AA$17,0),1),IF($P$1=\"DATOS_AMP\",IF(B15=\"\",\"\",INDEX(referentes!$Z$2:$AA$17,MATCH(B15,referentes!$AA$2:$AA$17,0),1))))),\"\")","v":""}]
[]
[{"$f":"IF(A17=\"\",\"\",VLOOKUP(A17,'otras referencias'!$A$27:$B$30,2,FALSE))","v":""},{"$f":"IF(B17<>\"\",IF($P$1=\"DATOS_FINOS\",INDEX(referentes!$Z$2:$AA$17,MATCH(B17,referentes!AA$2:AA$17,0),1),IF($P$1=\"DATOS_GRUESOS\",INDEX(referentes!$Z$2:$AA$17,MATCH(B17,referentes!$AA$2:$AA$17,0),1),IF($P$1=\"DATOS_AMP\",IF(B17=\"\",\"\",INDEX(referentes!$Z$2:$AA$17,MATCH(B17,referentes!$AA$2:$AA$17,0),1))))),\"\")","v":""}]
[null,null,null,"Si requiere ayuda contacte a:\nKevin S. Moreno (kevin.moreno@invemar.org.co)  - Apoyo técnico software.\n\nEl custodio de los datos es el único autorizado para distribuir este conjunto de datos. El observador y el digitador se comprometen a tomar las medidas necesarias para salvaguardar este conjunto de datos de modo que copia de los mismos no sean obtenidas y/o usadas por terceros no relacionados con el propósito para la cual se recolectó."]
[{"$f":"IF(A19=\"\",\"\",VLOOKUP(A19,'otras referencias'!$A$27:$B$30,2,FALSE))","v":""},{"$f":"IF(B19<>\"\",IF($P$1=\"DATOS_FINOS\",INDEX(referentes!$Z$2:$AA$17,MATCH(B19,referentes!AA$2:AA$17,0),1),IF($P$1=\"DATOS_GRUESOS\",INDEX(referentes!$Z$2:$AA$17,MATCH(B19,referentes!$AA$2:$AA$17,0),1),IF($P$1=\"DATOS_AMP\",IF(B19=\"\",\"\",INDEX(referentes!$Z$2:$AA$17,MATCH(B19,referentes!$AA$2:$AA$17,0),1))))),\"\")","v":""}]
[]
[{"$f":"IF(A21=\"\",\"\",VLOOKUP(A21,'otras referencias'!$A$27:$B$30,2,FALSE))","v":""},{"$f":"IF(B21<>\"\",IF($P$1=\"DATOS_FINOS\",INDEX(referentes!$Z$2:$AA$17,MATCH(B21,referentes!AA$2:AA$17,0),1),IF($P$1=\"DATOS_GRUESOS\",INDEX(referentes!$Z$2:$AA$17,MATCH(B21,referentes!$AA$2:$AA$17,0),1),IF($P$1=\"DATOS_AMP\",IF(B21=\"\",\"\",INDEX(referentes!$Z$2:$AA$17,MATCH(B21,referentes!$AA$2:$AA$17,0),1))))),\"\")","v":""}]
[]
[]
["Atributos Adicionales"]
["Observaciones generales"]
[]
["REGISTROS GENERADOS",null,"REGISTROS CARGADOS"]
["Muestreos",{"$f":"IF($P$1=\"\",\"\",IF($P$1=\"DATOS_GRUESOS\",IF(configuracion_gruesos!B47=\"\",\"\",configuracion_gruesos!B47),IF($P$1=\"DATOS_FINOS\",IF(configuracion_finos!B47=\"\",\"\",configuracion_finos!B47),IF($P$1=\"DATOS_AMP\",IF(configuracion_amp!B47=\"\",\"\",configuracion_amp!B47)))))","v":""},{"$f":"IF($P$1=\"\",\"\",IF($P$1=\"DATOS_GRUESOS\",IF(configuracion_gruesos!C47=\"\",\"\",configuracion_gruesos!C47),IF($P$1=\"DATOS_FINOS\",IF(configuracion_finos!C47=\"\",\"\",configuracion_finos!C47),IF($P$1=\"DATOS_AMP\",IF(configuracion_amp!C47=\"\",\"\",configuracion_amp!C47)))))","v":""}]
["Parametros muestreos",{"$f":"IF($P$1=\"\",\"\",IF($P$1=\"DATOS_GRUESOS\",IF(configuracion_gruesos!B48=\"\",\"\",configuracion_gruesos!B48),IF($P$1=\"DATOS_FINOS\",IF(configuracion_finos!B48=\"\",\"\",configuracion_finos!B48),IF($P$1=\"DATOS_AMP\",IF(configuracion_amp!B48=\"\",\"\",configuracion_amp!B48)))))","v":""},{"$f":"IF($P$1=\"\",\"\",IF($P$1=\"DATOS_GRUESOS\",IF(configuracion_gruesos!C48=\"\",\"\",configuracion_gruesos!C48),IF($P$1=\"DATOS_FINOS\",IF(configuracion_finos!C48=\"\",\"\",configuracion_finos!C48),IF($P$1=\"DATOS_AMP\",IF(configuracion_amp!C48=\"\",\"\",configuracion_amp!C48)))))","v":""}]
["Muestras",{"$f":"IF($P$1=\"\",\"\",IF($P$1=\"DATOS_GRUESOS\",IF(configuracion_gruesos!B49=\"\",\"\",configuracion_gruesos!B49),IF($P$1=\"DATOS_FINOS\",IF(configuracion_finos!B49=\"\",\"\",configuracion_finos!B49),IF($P$1=\"DATOS_AMP\",IF(configuracion_amp!B49=\"\",\"\",configuracion_amp!B49)))))","v":""},{"$f":"IF($P$1=\"\",\"\",IF($P$1=\"DATOS_GRUESOS\",IF(configuracion_gruesos!C49=\"\",\"\",configuracion_gruesos!C49),IF($P$1=\"DATOS_FINOS\",IF(configuracion_finos!C49=\"\",\"\",configuracion_finos!C49),IF($P$1=\"DATOS_AMP\",IF(configuracion_amp!C49=\"\",\"\",configuracion_amp!C49)))))","v":""}]
["muestras variables",{"$f":"IF($P$1=\"\",\"\",IF($P$1=\"DATOS_GRUESOS\",IF(configuracion_gruesos!B50=\"\",\"\",configuracion_gruesos!B50),IF($P$1=\"DATOS_FINOS\",IF(configuracion_finos!B50=\"\",\"\",configuracion_finos!B50),IF($P$1=\"DATOS_AMP\",IF(configuracion_amp!B50=\"\",\"\",configuracion_amp!B50)))))","v":""},{"$f":"IF($P$1=\"\",\"\",IF($P$1=\"DATOS_GRUESOS\",IF(configuracion_gruesos!C50=\"\",\"\",configuracion_gruesos!C50),IF($P$1=\"DATOS_FINOS\",IF(configuracion_finos!C50=\"\",\"\",configuracion_finos!C50),IF($P$1=\"DATOS_AMP\",IF(configuracion_amp!C50=\"\",\"\",configuracion_amp!C50)))))","v":""}]
["autorias",{"$f":"IF($P$1=\"\",\"\",IF($P$1=\"DATOS_GRUESOS\",IF(configuracion_gruesos!B51=\"\",\"\",configuracion_gruesos!B51),IF($P$1=\"DATOS_FINOS\",IF(configuracion_finos!B51=\"\",\"\",configuracion_finos!B51),IF($P$1=\"DATOS_AMP\",IF(configuracion_amp!B51=\"\",\"\",configuracion_amp!B51)))))","v":""},{"$f":"IF($P$1=\"\",\"\",IF($P$1=\"DATOS_GRUESOS\",IF(configuracion_gruesos!C51=\"\",\"\",configuracion_gruesos!C51),IF($P$1=\"DATOS_FINOS\",IF(configuracion_finos!C51=\"\",\"\",configuracion_finos!C51),IF($P$1=\"DATOS_AMP\",IF(configuracion_amp!C51=\"\",\"\",configuracion_amp!C51)))))","v":""}]
["registros correctos",{"$f":"IF($P$1=\"\",\"\",IF($P$1=\"DATOS_GRUESOS\",IF(configuracion_gruesos!B52=\"\",\"\",configuracion_gruesos!B52),IF($P$1=\"DATOS_FINOS\",IF(configuracion_finos!B52=\"\",\"\",configuracion_finos!B52),IF($P$1=\"DATOS_AMP\",IF(configuracion_amp!B52=\"\",\"\",configuracion_amp!B52)))))","v":""},{"$f":"IF($P$1=\"\",\"\",IF($P$1=\"DATOS_GRUESOS\",IF(configuracion_gruesos!C52=\"\",\"\",configuracion_gruesos!C52),IF($P$1=\"DATOS_FINOS\",IF(configuracion_finos!C52=\"\",\"\",configuracion_finos!C52),IF($P$1=\"DATOS_AMP\",IF(configuracion_amp!C52=\"\",\"\",configuracion_amp!C52)))))","v":""}]
["Fecha de carga",{"$f":"IF($P$1=\"\",\"\",IF($P$1=\"DATOS_GRUESOS\",IF(configuracion_gruesos!B53=\"\",\"\",configuracion_gruesos!B53),IF($P$1=\"DATOS_FINOS\",IF(configuracion_finos!B53=\"\",\"\",configuracion_finos!B53),IF($P$1=\"DATOS_AMP\",IF(configuracion_amp!B53=\"\",\"\",configuracion_amp!B53)))))","v":""},{"$f":"IF($P$1=\"\",\"\",IF($P$1=\"DATOS_GRUESOS\",IF(configuracion_gruesos!C53=\"\",\"\",configuracion_gruesos!C53),IF($P$1=\"DATOS_FINOS\",IF(configuracion_finos!C53=\"\",\"\",configuracion_finos!C53),IF($P$1=\"DATOS_AMP\",IF(configuracion_amp!C53=\"\",\"\",configuracion_amp!C53)))))","v":""}]
["json error",{"$f":"IF($P$1=\"\",\"\",IF($P$1=\"DATOS_GRUESOS\",IF(configuracion_gruesos!B54=\"\",\"\",configuracion_gruesos!B54),IF($P$1=\"DATOS_FINOS\",IF(configuracion_finos!B54=\"\",\"\",configuracion_finos!B54),IF($P$1=\"DATOS_AMP\",IF(configuracion_amp!B54=\"\",\"\",configuracion_amp!B54)))))","v":""},{"$f":"IF($P$1=\"\",\"\",IF($P$1=\"DATOS_GRUESOS\",IF(configuracion_gruesos!C54=\"\",\"\",configuracion_gruesos!C54),IF($P$1=\"DATOS_FINOS\",IF(configuracion_finos!C54=\"\",\"\",configuracion_finos!C54),IF($P$1=\"DATOS_AMP\",IF(configuracion_amp!C54=\"\",\"\",configuracion_amp!C54)))))","v":""}]
["error",{"$f":"IF($P$1=\"\",\"\",IF($P$1=\"DATOS_GRUESOS\",IF(configuracion_gruesos!B55=\"\",\"\",configuracion_gruesos!B55),IF($P$1=\"DATOS_FINOS\",IF(configuracion_finos!B55=\"\",\"\",configuracion_finos!B55),IF($P$1=\"DATOS_AMP\",IF(configuracion_amp!B55=\"\",\"\",configuracion_amp!B55)))))","v":""},{"$f":"IF($P$1=\"\",\"\",IF($P$1=\"DATOS_GRUESOS\",IF(configuracion_gruesos!C55=\"\",\"\",configuracion_gruesos!C55),IF($P$1=\"DATOS_FINOS\",IF(configuracion_finos!C55=\"\",\"\",configuracion_finos!C55),IF($P$1=\"DATOS_AMP\",IF(configuracion_amp!C55=\"\",\"\",configuracion_amp!C55)))))","v":""}]

{"sheet":"DATOS_AMP","index":5,"n_rows":303,"n_cols":27,"rows_kept":303,"cut":false,"hidden":true,"merged":[[0,5,0,6],[0,8,0,26]]}
[null,null,null,null,null,"MUESTREO",null,null,"MUESTRA"]
[{"$f":"TEXT(DIGITADOR!$B$5,\"yyyymmdd\")","v":"30001212"},"AGM MUESTREO","ID MUESTREO","ID MUESTRA","ID ESTACION","Parcela","Fecha",null,"Especie",null,"COD Tipo Fisiográfico","Tipo\nfisiográfico","Altura\n(m)",null,"DAP\n(cm)","DAP\n(m)","DAP\n(m2)","Número de golpes","Longitud de penetración (cm)",null,"P (Penetración por golpe)","I\n(Valor de acuerdo a la penetración <1 o >1)","Volumen\n(m^3)","Densidad\n(gr/cm3)","Densidad\n(kg/m3)","Necromasa (kg)","Observaciones"]
[null,{"$f":"IF(C3=\"\",\"\",IF(COUNTIF($C$3:C3, C3)>1, \"\", C3))","v":""},{"$f":"IF(G3=\"\",\"\",IF(F3=\"\",\"\",CONCATENATE(3,DIGITADOR!$M$1,G3,E3)))","v":""},{"$f":"IF(C3=\"\",\"\",CONCATENATE(C3,ROW()-2))","v":""},{"$f":"IF(F3=\"\",\"\",VLOOKUP(F3,referentes!$T$2:$W$200,2,FALSE))","v":""},null,null,{"$f":"IF(I3=\"\", \"\", VLOOKUP(I3,referentes!$J$2:$Q$14,2,FALSE))","v":""},null,null,{"$f":"IF(L3=\"\", \"\", INDEX(referentes!$D$2:$E$17,MATCH(L3,referentes!E$2:E$17,0),1))","v":""},null,null,null,null,{"$f":"IF(O3=\"\",\"\", ROUND(O3/100, 4))","v":""},{"$f":"IF(P3=\"\",\"\", ROUND(P3^2, 4))","v":""},null,null,null,{"$f":"IF(R3=\"\", \"\", IF(R3=20, IF(S3<>\"\", ROUND(S3/R3, 6), \"\"), ROUND(20/(R3-0.5), 6)))","v":""},{"$f":"IF(U3=\"\", \"\", IF(U3 < 1, 0, 1))","v":""},{"$f":"IF(OR(M3=\"\",Q3=\"\"), \"\", ROUND((PI()/4)*Q3*M3, 6))","v":""},{"$f":"IF(AND(U3=\"\",V3=\"\"),\"\",ROUND(IF(V3=0,0.6451-0.388*(LOG10(U3))-0.377*V3+0.3*(LOG10(U3))*V3, 0.6451-0.388*(LOG10(U3))-0.377*V3+0.3*(LOG10(U3))), 6))","v":""},{"$f":"IF(X3=\"\",\"\", ROUND((X3*1000000/1000), 6))","v":""},{"$f":"IF(OR(W3=\"\",Y3=\"\"), \"\", ROUND(W3*Y3, 6))","v":""}]
[null,{"$f":"IF(C4=\"\",\"\",IF(COUNTIF($C$3:C4, C4)>1, \"\", C4))","v":""},{"$f":"IF(G4=\"\",\"\",IF(F4=\"\",\"\",CONCATENATE(3,DIGITADOR!$M$1,G4,E4)))","v":""},{"$f":"IF(C4=\"\",\"\",CONCATENATE(C4,ROW()-2))","v":""},{"$f":"IF(F4=\"\",\"\",VLOOKUP(F4,referentes!$T$2:$W$200,2,FALSE))","v":""},null,null,{"$f":"IF(I4=\"\", \"\", VLOOKUP(I4,referentes!$J$2:$Q$14,2,FALSE))","v":""},null,null,{"$f":"IF(L4=\"\", \"\", INDEX(referentes!$D$2:$E$17,MATCH(L4,referentes!E$2:E$17,0),1))","v":""},null,null,null,null,{"$f":"IF(O4=\"\",\"\", ROUND(O4/100, 4))","v":""},{"$f":"IF(P4=\"\",\"\", ROUND(P4^2, 4))","v":""},null,null,null,{"$f":"IF(R4=\"\", \"\", IF(R4=20, IF(S4<>\"\", ROUND(S4/R4, 6), \"\"), ROUND(20/(R4-0.5), 6)))","v":""},{"$f":"IF(U4=\"\", \"\", IF(U4 < 1, 0, 1))","v":""},{"$f":"IF(OR(M4=\"\",Q4=\"\"), \"\", ROUND((PI()/4)*Q4*M4, 6))","v":""},{"$f":"IF(AND(U4=\"\",V4=\"\"),\"\",ROUND(IF(V4=0,0.6451-0.388*(LOG10(U4))-0.377*V4+0.3*(LOG10(U4))*V4, 0.6451-0.388*(LOG10(U4))-0.377*V4+0.3*(LOG10(U4))), 6))","v":""},{"$f":"IF(X4=\"\",\"\", ROUND((X4*1000000/1000), 6))","v":""},{"$f":"IF(OR(W4=\"\",Y4=\"\"), \"\", ROUND(W4*Y4, 6))","v":""}]
[null,{"$f":"IF(C5=\"\",\"\",IF(COUNTIF($C$3:C5, C5)>1, \"\", C5))","v":""},{"$f":"IF(G5=\"\",\"\",IF(F5=\"\",\"\",CONCATENATE(3,DIGITADOR!$M$1,G5,E5)))","v":""},"",{"$f":"IF(F5=\"\",\"\",VLOOKUP(F5,referentes!$T$2:$W$200,2,FALSE))","v":""},null,null,{"$f":"IF(I5=\"\", \"\", VLOOKUP(I5,referentes!$J$2:$Q$14,2,FALSE))","v":""},null,null,{"$f":"IF(L5=\"\", \"\", INDEX(referentes!$D$2:$E$17,MATCH(L5,referentes!E$2:E$17,0),1))","v":""},null,null,null,null,"","",null,null,null,"","","","","",""]
[null,{"$f":"IF(C6=\"\",\"\",IF(COUNTIF($C$3:C6, C6)>1, \"\", C6))","v":""},{"$f":"IF(G6=\"\",\"\",IF(F6=\"\",\"\",CONCATENATE(3,DIGITADOR!$M$1,G6,E6)))","v":""},"",{"$f":"IF(F6=\"\",\"\",VLOOKUP(F6,referentes!$T$2:$W$200,2,FALSE))","v":""},null,null,{"$f":"IF(I6=\"\", \"\", VLOOKUP(I6,referentes!$J$2:$Q$14,2,FALSE))","v":""},null,null,{"$f":"IF(L6=\"\", \"\", INDEX(referentes!$D$2:$E$17,MATCH(L6,referentes!E$2:E$17,0),1))","v":""},null,null,null,null,"","",null,null,null,"","","","","",""]
[null,{"$f":"IF(C7=\"\",\"\",IF(COUNTIF($C$3:C7, C7)>1, \"\", C7))","v":""},{"$f":"IF(G7=\"\",\"\",IF(F7=\"\",\"\",CONCATENATE(3,DIGITADOR!$M$1,G7,E7)))","v":""},{"$f":"IF(C7=\"\",\"\",CONCATENATE(C7,ROW()-2))","v":""},{"$f":"IF(F7=\"\",\"\",VLOOKUP(F7,referentes!$T$2:$W$200,2,FALSE))","v":""},null,null,{"$f":"IF(I7=\"\", \"\", VLOOKUP(I7,referentes!$J$2:$Q$14,2,FALSE))","v":""},null,null,{"$f":"IF(L7=\"\", \"\", INDEX(referentes!$D$2:$E$17,MATCH(L7,referentes!E$2:E$17,0),1))","v":""},null,null,null,null,"","",null,null,null,"","","","","",""]
[null,{"$f":"IF(C8=\"\",\"\",IF(COUNTIF($C$3:C8, C8)>1, \"\", C8))","v":""},{"$f":"IF(G8=\"\",\"\",IF(F8=\"\",\"\",CONCATENATE(3,DIGITADOR!$M$1,G8,E8)))","v":""},{"$f":"IF(C8=\"\",\"\",CONCATENATE(C8,ROW()-2))","v":""},{"$f":"IF(F8=\"\",\"\",VLOOKUP(F8,referentes!$T$2:$W$200,2,FALSE))","v":""},null,null,{"$f":"IF(I8=\"\", \"\", VLOOKUP(I8,referentes!$J$2:$Q$14,2,FALSE))","v":""},null,null,{"$f":"IF(L8=\"\", \"\", INDEX(referentes!$D$2:$E$17,MATCH(L8,referentes!E$2:E$17,0),1))","v":""},null,null,null,null,{"$f":"IF(O8=\"\",\"\", ROUND(O8/100, 4))","v":""},"",null,null,null,"","","","","",""]
[null,{"$f":"IF(C9=\"\",\"\",IF(COUNTIF($C$3:C9, C9)>1, \"\", C9))","v":""},{"$f":"IF(G9=\"\",\"\",IF(F9=\"\",\"\",CONCATENATE(3,DIGITADOR!$M$1,G9,E9)))","v":""},"",{"$f":"IF(F9=\"\",\"\",VLOOKUP(F9,referentes!$T$2:$W$200,2,FALSE))","v":""},null,null,{"$f":"IF(I9=\"\", \"\", VLOOKUP(I9,referentes!$J$2:$Q$14,2,FALSE))","v":""},null,null,{"$f":"IF(L9=\"\", \"\", INDEX(referentes!$D$2:$E$17,MATCH(L9,referentes!E$2:E$17,0),1))","v":""},null,null,null,null,"","",null,null,null,"","","","","",""]
[null,{"$f":"IF(C10=\"\",\"\",IF(COUNTIF($C$3:C10, C10)>1, \"\", C10))","v":""},{"$f":"IF(G10=\"\",\"\",IF(F10=\"\",\"\",CONCATENATE(3,DIGITADOR!$M$1,G10,E10)))","v":""},"",{"$f":"IF(F10=\"\",\"\",VLOOKUP(F10,referentes!$T$2:$W$200,2,FALSE))","v":""},null,null,{"$f":"IF(I10=\"\", \"\", VLOOKUP(I10,referentes!$J$2:$Q$14,2,FALSE))","v":""},null,null,{"$f":"IF(L10=\"\", \"\", INDEX(referentes!$D$2:$E$17,MATCH(L10,referentes!E$2:E$17,0),1))","v":""},null,null,null,null,"","",null,null,null,"","","","","",""]
[null,{"$f":"IF(C11=\"\",\"\",IF(COUNTIF($C$3:C11, C11)>1, \"\", C11))","v":""},{"$f":"IF(G11=\"\",\"\",IF(F11=\"\",\"\",CONCATENATE(3,DIGITADOR!$M$1,G11,E11)))","v":""},"",{"$f":"IF(F11=\"\",\"\",VLOOKUP(F11,referentes!$T$2:$W$200,2,FALSE))","v":""},null,null,{"$f":"IF(I11=\"\", \"\", VLOOKUP(I11,referentes!$J$2:$Q$14,2,FALSE))","v":""},null,null,{"$f":"IF(L11=\"\", \"\", INDEX(referentes!$D$2:$E$17,MATCH(L11,referentes!E$2:E$17,0),1))","v":""},null,null,null,null,"","",null,null,null,"","","","","",""]
[null,{"$f":"IF(C12=\"\",\"\",IF(COUNTIF($C$3:C12, C12)>1, \"\", C12))","v":""},{"$f":"IF(G12=\"\",\"\",IF(F12=\"\",\"\",CONCATENATE(3,DIGITADOR!$M$1,G12,E12)))","v":""},"",{"$f":"IF(F12=\"\",\"\",VLOOKUP(F12,referentes!$T$2:$W$200,2,FALSE))","v":""},null,null,{"$f":"IF(I12=\"\", \"\", VLOOKUP(I12,referentes!$J$2:$Q$14,2,FALSE))","v":""},null,null,{"$f":"IF(L12=\"\", \"\", INDEX(referentes!$D$2:$E$17,MATCH(L12,referentes!E$2:E$17,0),1))","v":""},null,null,null,null,"","",null,null,null,"","","","","",""]
[null,{"$f":"IF(C13=\"\",\"\",IF(COUNTIF($C$3:C13, C13)>1, \"\", C13))","v":""},{"$f":"IF(G13=\"\",\"\",IF(F13=\"\",\"\",CONCATENATE(3,DIGITADOR!$M$1,G13,E13)))","v":""},"",{"$f":"IF(F13=\"\",\"\",VLOOKUP(F13,referentes!$T$2:$W$200,2,FALSE))","v":""},null,null,{"$f":"IF(I13=\"\", \"\", VLOOKUP(I13,referentes!$J$2:$Q$14,2,FALSE))","v":""},null,null,{"$f":"IF(L13=\"\", \"\", INDEX(referentes!$D$2:$E$17,MATCH(L13,referentes!E$2:E$17,0),1))","v":""},null,null,null,null,"","",null,null,null,"","","","","",""]
[null,{"$f":"IF(C14=\"\",\"\",IF(COUNTIF($C$3:C14, C14)>1, \"\", C14))","v":""},{"$f":"IF(G14=\"\",\"\",IF(F14=\"\",\"\",CONCATENATE(3,DIGITADOR!$M$1,G14,E14)))","v":""},"",{"$f":"IF(F14=\"\",\"\",VLOOKUP(F14,referentes!$T$2:$W$200,2,FALSE))","v":""},null,null,{"$f":"IF(I14=\"\", \"\", VLOOKUP(I14,referentes!$J$2:$Q$14,2,FALSE))","v":""},null,null,{"$f":"IF(L14=\"\", \"\", INDEX(referentes!$D$2:$E$17,MATCH(L14,referentes!E$2:E$17,0),1))","v":""},null,null,null,null,"","",null,null,null,"","","","","",""]
[null,{"$f":"IF(C15=\"\",\"\",IF(COUNTIF($C$3:C15, C15)>1, \"\", C15))","v":""},{"$f":"IF(G15=\"\",\"\",IF(F15=\"\",\"\",CONCATENATE(3,DIGITADOR!$M$1,G15,E15)))","v":""},"",{"$f":"IF(F15=\"\",\"\",VLOOKUP(F15,referentes!$T$2:$W$200,2,FALSE))","v":""},null,null,{"$f":"IF(I15=\"\", \"\", VLOOKUP(I15,referentes!$J$2:$Q$14,2,FALSE))","v":""},null,null,{"$f":"IF(L15=\"\", \"\", INDEX(referentes!$D$2:$E$17,MATCH(L15,referentes!E$2:E$17,0),1))","v":""},null,null,null,null,"","",null,null,null,"","","","","",""]
[null,{"$f":"IF(C16=\"\",\"\",IF(COUNTIF($C$3:C16, C16)>1, \"\", C16))","v":""},{"$f":"IF(G16=\"\",\"\",IF(F16=\"\",\"\",CONCATENATE(3,DIGITADOR!$M$1,G16,E16)))","v":""},"",{"$f":"IF(F16=\"\",\"\",VLOOKUP(F16,referentes!$T$2:$W$200,2,FALSE))","v":""},null,null,{"$f":"IF(I16=\"\", \"\", VLOOKUP(I16,referentes!$J$2:$Q$14,2,FALSE))","v":""},null,null,{"$f":"IF(L16=\"\", \"\", INDEX(referentes!$D$2:$E$17,MATCH(L16,referentes!E$2:E$17,0),1))","v":""},null,null,null,null,"","",null,null,null,"","","","","",""]
[null,{"$f":"IF(C17=\"\",\"\",IF(COUNTIF($C$3:C17, C17)>1, \"\", C17))","v":""},{"$f":"IF(G17=\"\",\"\",IF(F17=\"\",\"\",CONCATENATE(3,DIGITADOR!$M$1,G17,E17)))","v":""},"",{"$f":"IF(F17=\"\",\"\",VLOOKUP(F17,referentes!$T$2:$W$200,2,FALSE))","v":""},null,null,{"$f":"IF(I17=\"\", \"\", VLOOKUP(I17,referentes!$J$2:$Q$14,2,FALSE))","v":""},null,null,{"$f":"IF(L17=\"\", \"\", INDEX(referentes!$D$2:$E$17,MATCH(L17,referentes!E$2:E$17,0),1))","v":""},null,null,null,null,"","",null,null,null,"","","","","",""]
[null,{"$f":"IF(C18=\"\",\"\",IF(COUNTIF($C$3:C18, C18)>1, \"\", C18))","v":""},{"$f":"IF(G18=\"\",\"\",IF(F18=\"\",\"\",CONCATENATE(3,DIGITADOR!$M$1,G18,E18)))","v":""},"",{"$f":"IF(F18=\"\",\"\",VLOOKUP(F18,referentes!$T$2:$W$200,2,FALSE))","v":""},null,null,{"$f":"IF(I18=\"\", \"\", VLOOKUP(I18,referentes!$J$2:$Q$14,2,FALSE))","v":""},null,null,{"$f":"IF(L18=\"\", \"\", INDEX(referentes!$D$2:$E$17,MATCH(L18,referentes!E$2:E$17,0),1))","v":""},null,null,null,null,"","",null,null,null,"","","","","",""]
[null,{"$f":"IF(C19=\"\",\"\",IF(COUNTIF($C$3:C19, C19)>1, \"\", C19))","v":""},{"$f":"IF(G19=\"\",\"\",IF(F19=\"\",\"\",CONCATENATE(3,DIGITADOR!$M$1,G19,E19)))","v":""},"",{"$f":"IF(F19=\"\",\"\",VLOOKUP(F19,referentes!$T$2:$W$200,2,FALSE))","v":""},null,null,{"$f":"IF(I19=\"\", \"\", VLOOKUP(I19,referentes!$J$2:$Q$14,2,FALSE))","v":""},null,null,{"$f":"IF(L19=\"\", \"\", INDEX(referentes!$D$2:$E$17,MATCH(L19,referentes!E$2:E$17,0),1))","v":""},null,null,null,null,"","",null,null,null,"","","","","",""]
[null,{"$f":"IF(C20=\"\",\"\",IF(COUNTIF($C$3:C20, C20)>1, \"\", C20))","v":""},{"$f":"IF(G20=\"\",\"\",IF(F20=\"\",\"\",CONCATENATE(3,DIGITADOR!$M$1,G20,E20)))","v":""},"",{"$f":"IF(F20=\"\",\"\",VLOOKUP(F20,referentes!$T$2:$W$200,2,FALSE))","v":""},null,null,{"$f":"IF(I20=\"\", \"\", VLOOKUP(I20,referentes!$J$2:$Q$14,2,FALSE))","v":""},null,null,{"$f":"IF(L20=\"\", \"\", INDEX(referentes!$D$2:$E$17,MATCH(L20,referentes!E$2:E$17,0),1))","v":""},null,null,null,null,"","",null,null,null,"","","","","",""]
[null,{"$f":"IF(C21=\"\",\"\",IF(COUNTIF($C$3:C21, C21)>1, \"\", C21))","v":""},{"$f":"IF(G21=\"\",\"\",IF(F21=\"\",\"\",CONCATENATE(3,DIGITADOR!$M$1,G21,E21)))","v":""},"",{"$f":"IF(F21=\"\",\"\",VLOOKUP(F21,referentes!$T$2:$W$200,2,FALSE))","v":""},null,null,{"$f":"IF(I21=\"\", \"\", VLOOKUP(I21,referentes!$J$2:$Q$14,2,FALSE))","v":""},null,null,{"$f":"IF(L21=\"\", \"\", INDEX(referentes!$D$2:$E$17,MATCH(L21,referentes!E$2:E$17,0),1))","v":""},null,null,null,null,"","",null,null,null,"","","","","",""]
[null,{"$f":"IF(C22=\"\",\"\",IF(COUNTIF($C$3:C22, C22)>1, \"\", C22))","v":""},{"$f":"IF(G22=\"\",\"\",IF(F22=\"\",\"\",CONCATENATE(3,DIGITADOR!$M$1,G22,E22)))","v":""},"",{"$f":"IF(F22=\"\",\"\",VLOOKUP(F22,referentes!$T$2:$W$200,2,FALSE))","v":""},null,null,{"$f":"IF(I22=\"\", \"\", VLOOKUP(I22,referentes!$J$2:$Q$14,2,FALSE))","v":""},null,null,{"$f":"IF(L22=\"\", \"\", INDEX(referentes!$D$2:$E$17,MATCH(L22,referentes!E$2:E$17,0),1))","v":""},null,null,null,null,"","",null,null,null,"","","","","",""]
[null,{"$f":"IF(C23=\"\",\"\",IF(COUNTIF($C$3:C23, C23)>1, \"\", C23))","v":""},{"$f":"IF(G23=\"\",\"\",IF(F23=\"\",\"\",CONCATENATE(3,DIGITADOR!$M$1,G23,E23)))","v":""},"",{"$f":"IF(F23=\"\",\"\",VLOOKUP(F23,referentes!$T$2:$W$200,2,FALSE))","v":""},null,null,{"$f":"IF(I23=\"\", \"\", VLOOKUP(I23,referentes!$J$2:$Q$14,2,FALSE))","v":""},null,null,{"$f":"IF(L23=\"\", \"\", INDEX(referentes!$D$2:$E$17,MATCH(L23,referentes!E$2:E$17,0),1))","v":""},null,null,null,null,"","",null,null,null,"","","","","",""]
[null,{"$f":"IF(C24=\"\",\"\",IF(COUNTIF($C$3:C24, C24)>1, \"\", C24))","v":""},{"$f":"IF(G24=\"\",\"\",IF(F24=\"\",\"\",CONCATENATE(3,DIGITADOR!$M$1,G24,E24)))","v":""},"",{"$f":"IF(F24=\"\",\"\",VLOOKUP(F24,referentes!$T$2:$W$200,2,FALSE))","v":""},null,null,{"$f":"IF(I24=\"\", \"\", VLOOKUP(I24,referentes!$J$2:$Q$14,2,FALSE))","v":""},null,null,{"$f":"IF(L24=\"\", \"\", INDEX(referentes!$D$2:$E$17,MATCH(L24,referentes!E$2:E$17,0),1))","v":""},null,null,null,null,"","",null,null,null,"","","","","",""]
[null,{"$f":"IF(C25=\"\",\"\",IF(COUNTIF($C$3:C25, C25)>1, \"\", C25))","v":""},{"$f":"IF(G25=\"\",\"\",IF(F25=\"\",\"\",CONCATENATE(3,DIGITADOR!$M$1,G25,E25)))","v":""},"",{"$f":"IF(F25=\"\",\"\",VLOOKUP(F25,referentes!$T$2:$W$200,2,FALSE))","v":""},null,null,{"$f":"IF(I25=\"\", \"\", VLOOKUP(I25,referentes!$J$2:$Q$14,2,FALSE))","v":""},null,null,{"$f":"IF(L25=\"\", \"\", INDEX(referentes!$D$2:$E$17,MATCH(L25,referentes!E$2:E$17,0),1))","v":""},null,null,null,null,"","",null,null,null,"","","","","",""]
[null,{"$f":"IF(C26=\"\",\"\",IF(COUNTIF($C$3:C26, C26)>1, \"\", C26))","v":""},{"$f":"IF(G26=\"\",\"\",IF(F26=\"\",\"\",CONCATENATE(3,DIGITADOR!$M$1,G26,E26)))","v":""},"",{"$f":"IF(F26=\"\",\"\",VLOOKUP(F26,referentes!$T$2:$W$200,2,FALSE))","v":""},null,null,{"$f":"IF(I26=\"\", \"\", VLOOKUP(I26,referentes!$J$2:$Q$14,2,FALSE))","v":""},null,null,{"$f":"IF(L26=\"\", \"\", INDEX(referentes!$D$2:$E$17,MATCH(L26,referentes!E$2:E$17,0),1))","v":""},null,null,null,null,"","",null,null,null,"","","","","",""]
[null,{"$f":"IF(C27=\"\",\"\",IF(COUNTIF($C$3:C27, C27)>1, \"\", C27))","v":""},{"$f":"IF(G27=\"\",\"\",IF(F27=\"\",\"\",CONCATENATE(3,DIGITADOR!$M$1,G27,E27)))","v":""},"",{"$f":"IF(F27=\"\",\"\",VLOOKUP(F27,referentes!$T$2:$W$200,2,FALSE))","v":""},null,null,{"$f":"IF(I27=\"\", \"\", VLOOKUP(I27,referentes!$J$2:$Q$14,2,FALSE))","v":""},null,null,{"$f":"IF(L27=\"\", \"\", INDEX(referentes!$D$2:$E$17,MATCH(L27,referentes!E$2:E$17,0),1))","v":""},null,null,null,null,"","",null,null,null,"","","","","",""]
[null,{"$f":"IF(C28=\"\",\"\",IF(COUNTIF($C$3:C28, C28)>1, \"\", C28))","v":""},{"$f":"IF(G28=\"\",\"\",IF(F28=\"\",\"\",CONCATENATE(3,DIGITADOR!$M$1,G28,E28)))","v":""},"",{"$f":"IF(F28=\"\",\"\",VLOOKUP(F28,referentes!$T$2:$W$200,2,FALSE))","v":""},null,null,{"$f":"IF(I28=\"\", \"\", VLOOKUP(I28,referentes!$J$2:$Q$14,2,FALSE))","v":""},null,null,{"$f":"IF(L28=\"\", \"\", INDEX(referentes!$D$2:$E$17,MATCH(L28,referentes!E$2:E$17,0),1))","v":""},null,null,null,null,"","",null,null,null,"","","","","",""]
[null,{"$f":"IF(C29=\"\",\"\",IF(COUNTIF($C$3:C29, C29)>1, \"\", C29))","v":""},{"$f":"IF(G29=\"\",\"\",IF(F29=\"\",\"\",CONCATENATE(3,DIGITADOR!$M$1,G29,E29)))","v":""},"",{"$f":"IF(F29=\"\",\"\",VLOOKUP(F29,referentes!$T$2:$W$200,2,FALSE))","v":""},null,null,{"$f":"IF(I29=\"\", \"\", VLOOKUP(I29,referentes!$J$2:$Q$14,2,FALSE))","v":""},null,null,{"$f":"IF(L29=\"\", \"\", INDEX(referentes!$D$2:$E$17,MATCH(L29,referentes!E$2:E$17,0),1))","v":""},null,null,null,null,"","",null,null,null,"","","","","",""]
[null,{"$f":"IF(C30=\"\",\"\",IF(COUNTIF($C$3:C30, C30)>1, \"\", C30))","v":""},{"$f":"IF(G30=\"\",\"\",IF(F30=\"\",\"\",CONCATENATE(3,DIGITADOR!$M$1,G30,E30)))","v":""},"",{"$f":"IF(F30=\"\",\"\",VLOOKUP(F30,referentes!$T$2:$W$200,2,FALSE))","v":""},null,null,{"$f":"IF(I30=\"\", \"\", VLOOKUP(I30,referentes!$J$2:$Q$14,2,FALSE))","v":""},null,null,{"$f":"IF(L30=\"\", \"\", INDEX(referentes!$D$2:$E$17,MATCH(L30,referentes!E$2:E$17,0),1))","v":""},null,null,null,null,"","",null,null,null,"","","","","",""]
[null,{"$f":"IF(C31=\"\",\"\",IF(COUNTIF($C$3:C31, C31)>1, \"\", C31))","v":""},{"$f":"IF(G31=\"\",\"\",IF(F31=\"\",\"\",CONCATENATE(3,DIGITADOR!$M$1,G31,E31)))","v":""},"",{"$f":"IF(F31=\"\",\"\",VLOOKUP(F31,referentes!$T$2:$W$200,2,FALSE))","v":""},null,null,{"$f":"IF(I31=\"\", \"\", VLOOKUP(I31,referentes!$J$2:$Q$14,2,FALSE))","v":""},null,null,{"$f":"IF(L31=\"\", \"\", INDEX(referentes!$D$2:$E$17,MATCH(L31,referentes!E$2:E$17,0),1))","v":""},null,null,null,null,"","",null,null,null,"","","","","",""]
[null,{"$f":"IF(C32=\"\",\"\",IF(COUNTIF($C$3:C32, C32)>1, \"\", C32))","v":""},{"$f":"IF(G32=\"\",\"\",IF(F32=\"\",\"\",CONCATENATE(3,DIGITADOR!$M$1,G32,E32)))","v":""},"",{"$f":"IF(F32=\"\",\"\",VLOOKUP(F32,referentes!$T$2:$W$200,2,FALSE))","v":""},null,null,{"$f":"IF(I32=\"\", \"\", VLOOKUP(I32,referentes!$J$2:$Q$14,2,FALSE))","v":""},null,null,{"$f":"IF(L32=\"\", \"\", INDEX(referentes!$D$2:$E$17,MATCH(L32,referentes!E$2:E$17,0),1))","v":""},null,null,null,null,"","",null,null,null,"","","","","",""]
[null,{"$f":"IF(C33=\"\",\"\",IF(COUNTIF($C$3:C33, C33)>1, \"\", C33))","v":""},{"$f":"IF(G33=\"\",\"\",IF(F33=\"\",\"\",CONCATENATE(3,DIGITADOR!$M$1,G33,E33)))","v":""},"",{"$f":"IF(F33=\"\",\"\",VLOOKUP(F33,referentes!$T$2:$W$200,2,FALSE))","v":""},null,null,{"$f":"IF(I33=\"\", \"\", VLOOKUP(I33,referentes!$J$2:$Q$14,2,FALSE))","v":""},null,null,{"$f":"IF(L33=\"\", \"\", INDEX(referentes!$D$2:$E$17,MATCH(L33,referentes!E$2:E$17,0),1))","v":""},null,null,null,null,"","",null,null,null,"","","","","",""]
[null,{"$f":"IF(C34=\"\",\"\",IF(COUNTIF($C$3:C34, C34)>1, \"\", C34))","v":""},{"$f":"IF(G34=\"\",\"\",IF(F34=\"\",\"\",CONCATENATE(3,DIGITADOR!$M$1,G34,E34)))","v":""},"",{"$f":"IF(F34=\"\",\"\",VLOOKUP(F34,referentes!$T$2:$W$200,2,FALSE))","v":""},null,null,{"$f":"IF(I34=\"\", \"\", VLOOKUP(I34,referentes!$J$2:$Q$14,2,FALSE))","v":""},null,null,{"$f":"IF(L34=\"\", \"\", INDEX(referentes!$D$2:$E$17,MATCH(L34,referentes!E$2:E$17,0),1))","v":""},null,null,null,null,"","",null,null,null,"","","","","",""]
[null,{"$f":"IF(C35=\"\",\"\",IF(COUNTIF($C$3:C35, C35)>1, \"\", C35))","v":""},{"$f":"IF(G35=\"\",\"\",IF(F35=\"\",\"\",CONCATENATE(3,DIGITADOR!$M$1,G35,E35)))","v":""},"",{"$f":"IF(F35=\"\",\"\",VLOOKUP(F35,referentes!$T$2:$W$200,2,FALSE))","v":""},null,null,{"$f":"IF(I35=\"\", \"\", VLOOKUP(I35,referentes!$J$2:$Q$14,2,FALSE))","v":""},null,null,{"$f":"IF(L35=\"\", \"\", INDEX(referentes!$D$2:$E$17,MATCH(L35,referentes!E$2:E$17,0),1))","v":""},null,null,null,null,"","",null,null,null,"","","","","",""]
[null,{"$f":"IF(C36=\"\",\"\",IF(COUNTIF($C$3:C36, C36)>1, \"\", C36))","v":""},{"$f":"IF(G36=\"\",\"\",IF(F36=\"\",\"\",CONCATENATE(3,DIGITADOR!$M$1,G36,E36)))","v":""},"",{"$f":"IF(F36=\"\",\"\",VLOOKUP(F36,referentes!$T$2:$W$200,2,FALSE))","v":""},null,null,{"$f":"IF(I36=\"\", \"\", VLOOKUP(I36,referentes!$J$2:$Q$14,2,FALSE))","v":""},null,null,{"$f":"IF(L36=\"\", \"\", INDEX(referentes!$D$2:$E$17,MATCH(L36,referentes!E$2:E$17,0),1))","v":""},null,null,null,null,"","",null,null,null,"","","","","",""]
[null,{"$f":"IF(C37=\"\",\"\",IF(COUNTIF($C$3:C37, C37)>1, \"\", C37))","v":""},{"$f":"IF(G37=\"\",\"\",IF(F37=\"\",\"\",CONCATENATE(3,DIGITADOR!$M$1,G37,E37)))","v":""},"",{"$f":"IF(F37=\"\",\"\",VLOOKUP(F37,referentes!$T$2:$W$200,2,FALSE))","v":""},null,null,{"$f":"IF(I37=\"\", \"\", VLOOKUP(I37,referentes!$J$2:$Q$14,2,FALSE))","v":""},null,null,{"$f":"IF(L37=\"\", \"\", INDEX(referentes!$D$2:$E$17,MATCH(L37,referentes!E$2:E$17,0),1))","v":""},null,null,null,null,"","",null,null,null,"","","","","",""]
[null,{"$f":"IF(C38=\"\",\"\",IF(COUNTIF($C$3:C38, C38)>1, \"\", C38))","v":""},{"$f":"IF(G38=\"\",\"\",IF(F38=\"\",\"\",CONCATENATE(3,DIGITADOR!$M$1,G38,E38)))","v":""},"",{"$f":"IF(F38=\"\",\"\",VLOOKUP(F38,referentes!$T$2:$W$200,2,FALSE))","v":""},null,null,{"$f":"IF(I38=\"\", \"\", VLOOKUP(I38,referentes!$J$2:$Q$14,2,FALSE))","v":""},null,null,{"$f":"IF(L38=\"\", \"\", INDEX(referentes!$D$2:$E$17,MATCH(L38,referentes!E$2:E$17,0),1))","v":""},null,null,null,null,"","",null,null,null,"","","","","",""]
[null,{"$f":"IF(C39=\"\",\"\",IF(COUNTIF($C$3:C39, C39)>1, \"\", C39))","v":""},{"$f":"IF(G39=\"\",\"\",IF(F39=\"\",\"\",CONCATENATE(3,DIGITADOR!$M$1,G39,E39)))","v":""},"",{"$f":"IF(F39=\"\",\"\",VLOOKUP(F39,referentes!$T$2:$W$200,2,FALSE))","v":""},null,null,{"$f":"IF(I39=\"\", \"\", VLOOKUP(I39,referentes!$J$2:$Q$14,2,FALSE))","v":""},null,null,{"$f":"IF(L39=\"\", \"\", INDEX(referentes!$D$2:$E$17,MATCH(L39,referentes!E$2:E$17,0),1))","v":""},null,null,null,null,"","",null,null,null,"","","","","",""]
[null,{"$f":"IF(C40=\"\",\"\",IF(COUNTIF($C$3:C40, C40)>1, \"\", C40))","v":""},{"$f":"IF(G40=\"\",\"\",IF(F40=\"\",\"\",CONCATENATE(3,DIGITADOR!$M$1,G40,E40)))","v":""},"",{"$f":"IF(F40=\"\",\"\",VLOOKUP(F40,referentes!$T$2:$W$200,2,FALSE))","v":""},null,null,{"$f":"IF(I40=\"\", \"\", VLOOKUP(I40,referentes!$J$2:$Q$14,2,FALSE))","v":""},null,null,{"$f":"IF(L40=\"\", \"\", INDEX(referentes!$D$2:$E$17,MATCH(L40,referentes!E$2:E$17,0),1))","v":""},null,null,null,null,"","",null,null,null,"","","","","",""]
[null,{"$f":"IF(C41=\"\",\"\",IF(COUNTIF($C$3:C41, C41)>1, \"\", C41))","v":""},{"$f":"IF(G41=\"\",\"\",IF(F41=\"\",\"\",CONCATENATE(3,DIGITADOR!$M$1,G41,E41)))","v":""},"",{"$f":"IF(F41=\"\",\"\",VLOOKUP(F41,referentes!$T$2:$W$200,2,FALSE))","v":""},null,null,{"$f":"IF(I41=\"\", \"\", VLOOKUP(I41,referentes!$J$2:$Q$14,2,FALSE))","v":""},null,null,{"$f":"IF(L41=\"\", \"\", INDEX(referentes!$D$2:$E$17,MATCH(L41,referentes!E$2:E$17,0),1))","v":""},null,null,null,null,"","",null,null,null,"","","","","",""]
[null,{"$f":"IF(C42=\"\",\"\",IF(COUNTIF($C$3:C42, C42)>1, \"\", C42))","v":""},{"$f":"IF(G42=\"\",\"\",IF(F42=\"\",\"\",CONCATENATE(3,DIGITADOR!$M$1,G42,E42)))","v":""},"",{"$f":"IF(F42=\"\",\"\",VLOOKUP(F42,referentes!$T$2:$W$200,2,FALSE))","v":""},null,null,{"$f":"IF(I42=\"\", \"\", VLOOKUP(I42,referentes!$J$2:$Q$14,2,FALSE))","v":""},null,null,{"$f":"IF(L42=\"\", \"\", INDEX(referentes!$D$2:$E$17,MATCH(L42,referentes!E$2:E$17,0),1))","v":""},null,null,null,null,"","",null,null,null,"","","","","",""]
[null,{"$f":"IF(C43=\"\",\"\",IF(COUNTIF($C$3:C43, C43)>1, \"\", C43))","v":""},{"$f":"IF(G43=\"\",\"\",IF(F43=\"\",\"\",CONCATENATE(3,DIGITADOR!$M$1,G43,E43)))","v":""},"",{"$f":"IF(F43=\"\",\"\",VLOOKUP(F43,referentes!$T$2:$W$200,2,FALSE))","v":""},null,null,{"$f":"IF(I43=\"\", \"\", VLOOKUP(I43,referentes!$J$2:$Q$14,2,FALSE))","v":""},null,null,{"$f":"IF(L43=\"\", \"\", INDEX(referentes!$D$2:$E$17,MATCH(L43,referentes!E$2:E$17,0),1))","v":""},null,null,null,null,"","",null,null,null,"","","","","",""]
[null,{"$f":"IF(C44=\"\",\"\",IF(COUNTIF($C$3:C44, C44)>1, \"\", C44))","v":""},{"$f":"IF(G44=\"\",\"\",IF(F44=\"\",\"\",CONCATENATE(3,DIGITADOR!$M$1,G44,E44)))","v":""},"",{"$f":"IF(F44=\"\",\"\",VLOOKUP(F44,referentes!$T$2:$W$200,2,FALSE))","v":""},null,null,{"$f":"IF(I44=\"\", \"\", VLOOKUP(I44,referentes!$J$2:$Q$14,2,FALSE))","v":""},null,null,{"$f":"IF(L44=\"\", \"\", INDEX(referentes!$D$2:$E$17,MATCH(L44,referentes!E$2:E$17,0),1))","v":""},null,null,null,null,"","",null,null,null,"","","","","",""]
[null,{"$f":"IF(C45=\"\",\"\",IF(COUNTIF($C$3:C45, C45)>1, \"\", C45))","v":""},{"$f":"IF(G45=\"\",\"\",IF(F45=\"\",\"\",CONCATENATE(3,DIGITADOR!$M$1,G45,E45)))","v":""},"",{"$f":"IF(F45=\"\",\"\",VLOOKUP(F45,referentes!$T$2:$W$200,2,FALSE))","v":""},null,null,{"$f":"IF(I45=\"\", \"\", VLOOKUP(I45,referentes!$J$2:$Q$14,2,FALSE))","v":""},null,null,{"$f":"IF(L45=\"\", \"\", INDEX(referentes!$D$2:$E$17,MATCH(L45,referentes!E$2:E$17,0),1))","v":""},null,null,null,null,"","",null,null,null,"","","","","",""]
[null,{"$f":"IF(C46=\"\",\"\",IF(COUNTIF($C$3:C46, C46)>1, \"\", C46))","v":""},{"$f":"IF(G46=\"\",\"\",IF(F46=\"\",\"\",CONCATENATE(3,DIGITADOR!$M$1,G46,E46)))","v":""},"",{"$f":"IF(F46=\"\",\"\",VLOOKUP(F46,referentes!$T$2:$W$200,2,FALSE))","v":""},null,null,{"$f":"IF(I46=\"\", \"\", VLOOKUP(I46,referentes!$J$2:$Q$14,2,FALSE))","v":""},null,null,{"$f":"IF(L46=\"\", \"\", INDEX(referentes!$D$2:$E$17,MATCH(L46,referentes!E$2:E$17,0),1))","v":""},null,null,null,null,"","",null,null,null,"","","","","",""]
[null,{"$f":"IF(C47=\"\",\"\",IF(COUNTIF($C$3:C47, C47)>1, \"\", C47))","v":""},{"$f":"IF(G47=\"\",\"\",IF(F47=\"\",\"\",CONCATENATE(3,DIGITADOR!$M$1,G47,E47)))","v":""},"",{"$f":"IF(F47=\"\",\"\",VLOOKUP(F47,referentes!$T$2:$W$200,2,FALSE))","v":""},null,null,{"$f":"IF(I47=\"\", \"\", VLOOKUP(I47,referentes!$J$2:$Q$14,2,FALSE))","v":""},null,null,{"$f":"IF(L47=\"\", \"\", INDEX(referentes!$D$2:$E$17,MATCH(L47,referentes!E$2:E$17,0),1))","v":""},null,null,null,null,"","",null,null,null,"","","","","",""]
[null,{"$f":"IF(C48=\"\",\"\",IF(COUNTIF($C$3:C48, C48)>1, \"\", C48))","v":""},{"$f":"IF(G48=\"\",\"\",IF(F48=\"\",\"\",CONCATENATE(3,DIGITADOR!$M$1,G48,E48)))","v":""},"",{"$f":"IF(F48=\"\",\"\",VLOOKUP(F48,referentes!$T$2:$W$200,2,FALSE))","v":""},null,null,{"$f":"IF(I48=\"\", \"\", VLOOKUP(I48,referentes!$J$2:$Q$14,2,FALSE))","v":""},null,null,{"$f":"IF(L48=\"\", \"\", INDEX(referentes!$D$2:$E$17,MATCH(L48,referentes!E$2:E$17,0),1))","v":""},null,null,null,null,"","",null,null,null,"","","","","",""]
[null,{"$f":"IF(C49=\"\",\"\",IF(COUNTIF($C$3:C49, C49)>1, \"\", C49))","v":""},{"$f":"IF(G49=\"\",\"\",IF(F49=\"\",\"\",CONCATENATE(3,DIGITADOR!$M$1,G49,E49)))","v":""},"",{"$f":"IF(F49=\"\",\"\",VLOOKUP(F49,referentes!$T$2:$W$200,2,FALSE))","v":""},null,null,{"$f":"IF(I49=\"\", \"\", VLOOKUP(I49,referentes!$J$2:$Q$14,2,FALSE))","v":""},null,null,{"$f":"IF(L49=\"\", \"\", INDEX(referentes!$D$2:$E$17,MATCH(L49,referentes!E$2:E$17,0),1))","v":""},null,null,null,null,"","",null,null,null,"","","","","",""]
[null,{"$f":"IF(C50=\"\",\"\",IF(COUNTIF($C$3:C50, C50)>1, \"\", C50))","v":""},{"$f":"IF(G50=\"\",\"\",IF(F50=\"\",\"\",CONCATENATE(3,DIGITADOR!$M$1,G50,E50)))","v":""},"",{"$f":"IF(F50=\"\",\"\",VLOOKUP(F50,referentes!$T$2:$W$200,2,FALSE))","v":""},null,null,{"$f":"IF(I50=\"\", \"\", VLOOKUP(I50,referentes!$J$2:$Q$14,2,FALSE))","v":""},null,null,{"$f":"IF(L50=\"\", \"\", INDEX(referentes!$D$2:$E$17,MATCH(L50,referentes!E$2:E$17,0),1))","v":""},null,null,null,null,"","",null,null,null,"","","","","",""]
[null,{"$f":"IF(C51=\"\",\"\",IF(COUNTIF($C$3:C51, C51)>1, \"\", C51))","v":""},{"$f":"IF(G51=\"\",\"\",IF(F51=\"\",\"\",CONCATENATE(3,DIGITADOR!$M$1,G51,E51)))","v":""},"",{"$f":"IF(F51=\"\",\"\",VLOOKUP(F51,referentes!$T$2:$W$200,2,FALSE))","v":""},null,null,{"$f":"IF(I51=\"\", \"\", VLOOKUP(I51,referentes!$J$2:$Q$14,2,FALSE))","v":""},null,null,{"$f":"IF(L51=\"\", \"\", INDEX(referentes!$D$2:$E$17,MATCH(L51,referentes!E$2:E$17,0),1))","v":""},null,null,null,null,"","",null,null,null,"","","","","",""]
[null,{"$f":"IF(C52=\"\",\"\",IF(COUNTIF($C$3:C52, C52)>1, \"\", C52))","v":""},{"$f":"IF(G52=\"\",\"\",IF(F52=\"\",\"\",CONCATENATE(3,DIGITADOR!$M$1,G52,E52)))","v":""},"",{"$f":"IF(F52=\"\",\"\",VLOOKUP(F52,referentes!$T$2:$W$200,2,FALSE))","v":""},null,null,{"$f":"IF(I52=\"\", \"\", VLOOKUP(I52,referentes!$J$2:$Q$14,2,FALSE))","v":""},null,null,{"$f":"IF(L52=\"\", \"\", INDEX(referentes!$D$2:$E$17,MATCH(L52,referentes!E$2:E$17,0),1))","v":""},null,null,null,null,"","",null,null,null,"","","","","",""]
[null,{"$f":"IF(C53=\"\",\"\",IF(COUNTIF($C$3:C53, C53)>1, \"\", C53))","v":""},{"$f":"IF(G53=\"\",\"\",IF(F53=\"\",\"\",CONCATENATE(3,DIGITADOR!$M$1,G53,E53)))","v":""},"",{"$f":"IF(F53=\"\",\"\",VLOOKUP(F53,referentes!$T$2:$W$200,2,FALSE))","v":""},null,null,{"$f":"IF(I53=\"\", \"\", VLOOKUP(I53,referentes!$J$2:$Q$14,2,FALSE))","v":""},null,null,{"$f":"IF(L53=\"\", \"\", INDEX(referentes!$D$2:$E$17,MATCH(L53,referentes!E$2:E$17,0),1))","v":""},null,null,null,null,"","",null,null,null,"","","","","",""]
[null,{"$f":"IF(C54=\"\",\"\",IF(COUNTIF($C$3:C54, C54)>1, \"\", C54))","v":""},{"$f":"IF(G54=\"\",\"\",IF(F54=\"\",\"\",CONCATENATE(3,DIGITADOR!$M$1,G54,E54)))","v":""},"",{"$f":"IF(F54=\"\",\"\",VLOOKUP(F54,referentes!$T$2:$W$200,2,FALSE))","v":""},null,null,{"$f":"IF(I54=\"\", \"\", VLOOKUP(I54,referentes!$J$2:$Q$14,2,FALSE))","v":""},null,null,{"$f":"IF(L54=\"\", \"\", INDEX(referentes!$D$2:$E$17,MATCH(L54,referentes!E$2:E$17,0),1))","v":""},null,null,null,null,"","",null,null,null,"","","","","",""]
[null,{"$f":"IF(C55=\"\",\"\",IF(COUNTIF($C$3:C55, C55)>1, \"\", C55))","v":""},{"$f":"IF(G55=\"\",\"\",IF(F55=\"\",\"\",CONCATENATE(3,DIGITADOR!$M$1,G55,E55)))","v":""},"",{"$f":"IF(F55=\"\",\"\",VLOOKUP(F55,referentes!$T$2:$W$200,2,FALSE))","v":""},null,null,{"$f":"IF(I55=\"\", \"\", VLOOKUP(I55,referentes!$J$2:$Q$14,2,FALSE))","v":""},null,null,{"$f":"IF(L55=\"\", \"\", INDEX(referentes!$D$2:$E$17,MATCH(L55,referentes!E$2:E$17,0),1))","v":""},null,null,null,null,"","",null,null,null,"","","","","",""]
[null,{"$f":"IF(C56=\"\",\"\",IF(COUNTIF($C$3:C56, C56)>1, \"\", C56))","v":""},{"$f":"IF(G56=\"\",\"\",IF(F56=\"\",\"\",CONCATENATE(3,DIGITADOR!$M$1,G56,E56)))","v":""},"",{"$f":"IF(F56=\"\",\"\",VLOOKUP(F56,referentes!$T$2:$W$200,2,FALSE))","v":""},null,null,{"$f":"IF(I56=\"\", \"\", VLOOKUP(I56,referentes!$J$2:$Q$14,2,FALSE))","v":""},null,null,{"$f":"IF(L56=\"\", \"\", INDEX(referentes!$D$2:$E$17,MATCH(L56,referentes!E$2:E$17,0),1))","v":""},null,null,null,null,"","",null,null,null,"","","","","",""]
[null,{"$f":"IF(C57=\"\",\"\",IF(COUNTIF($C$3:C57, C57)>1, \"\", C57))","v":""},{"$f":"IF(G57=\"\",\"\",IF(F57=\"\",\"\",CONCATENATE(3,DIGITADOR!$M$1,G57,E57)))","v":""},"",{"$f":"IF(F57=\"\",\"\",VLOOKUP(F57,referentes!$T$2:$W$200,2,FALSE))","v":""},null,null,{"$f":"IF(I57=\"\", \"\", VLOOKUP(I57,referentes!$J$2:$Q$14,2,FALSE))","v":""},null,null,{"$f":"IF(L57=\"\", \"\", INDEX(referentes!$D$2:$E$17,MATCH(L57,referentes!E$2:E$17,0),1))","v":""},null,null,null,null,"","",null,null,null,"","","","","",""]
[null,{"$f":"IF(C58=\"\",\"\",IF(COUNTIF($C$3:C58, C58)>1, \"\", C58))","v":""},{"$f":"IF(G58=\"\",\"\",IF(F58=\"\",\"\",CONCATENATE(3,DIGITADOR!$M$1,G58,E58)))","v":""},"",{"$f":"IF(F58=\"\",\"\",VLOOKUP(F58,referentes!$T$2:$W$200,2,FALSE))","v":""},null,null,{"$f":"IF(I58=\"\", \"\", VLOOKUP(I58,referentes!$J$2:$Q$14,2,FALSE))","v":""},null,null,{"$f":"IF(L58=\"\", \"\", INDEX(referentes!$D$2:$E$17,MATCH(L58,referentes!E$2:E$17,0),1))","v":""},null,null,null,null,"","",null,null,null,"","","","","",""]
[null,{"$f":"IF(C59=\"\",\"\",IF(COUNTIF($C$3:C59, C59)>1, \"\", C59))","v":""},{"$f":"IF(G59=\"\",\"\",IF(F59=\"\",\"\",CONCATENATE(3,DIGITADOR!$M$1,G59,E59)))","v":""},"",{"$f":"IF(F59=\"\",\"\",VLOOKUP(F59,referentes!$T$2:$W$200,2,FALSE))","v":""},null,null,{"$f":"IF(I59=\"\", \"\", VLOOKUP(I59,referentes!$J$2:$Q$14,2,FALSE))","v":""},null,null,{"$f":"IF(L59=\"\", \"\", INDEX(referentes!$D$2:$E$17,MATCH(L59,referentes!E$2:E$17,0),1))","v":""},null,null,null,null,"","",null,null,null,"","","","","",""]
[null,{"$f":"IF(C60=\"\",\"\",IF(COUNTIF($C$3:C60, C60)>1, \"\", C60))","v":""},{"$f":"IF(G60=\"\",\"\",IF(F60=\"\",\"\",CONCATENATE(3,DIGITADOR!$M$1,G60,E60)))","v":""},"",{"$f":"IF(F60=\"\",\"\",VLOOKUP(F60,referentes!$T$2:$W$200,2,FALSE))","v":""},null,null,{"$f":"IF(I60=\"\", \"\", VLOOKUP(I60,referentes!$J$2:$Q$14,2,FALSE))","v":""},null,null,{"$f":"IF(L60=\"\", \"\", INDEX(referentes!$D$2:$E$17,MATCH(L60,referentes!E$2:E$17,0),1))","v":""},null,null,null,null,"","",null,null,null,"","","","","",""]
[null,{"$f":"IF(C61=\"\",\"\",IF(COUNTIF($C$3:C61, C61)>1, \"\", C61))","v":""},{"$f":"IF(G61=\"\",\"\",IF(F61=\"\",\"\",CONCATENATE(3,DIGITADOR!$M$1,G61,E61)))","v":""},"",{"$f":"IF(F61=\"\",\"\",VLOOKUP(F61,referentes!$T$2:$W$200,2,FALSE))","v":""},null,null,{"$f":"IF(I61=\"\", \"\", VLOOKUP(I61,referentes!$J$2:$Q$14,2,FALSE))","v":""},null,null,{"$f":"IF(L61=\"\", \"\", INDEX(referentes!$D$2:$E$17,MATCH(L61,referentes!E$2:E$17,0),1))","v":""},null,null,null,null,"","",null,null,null,"","","","","",""]
[null,{"$f":"IF(C62=\"\",\"\",IF(COUNTIF($C$3:C62, C62)>1, \"\", C62))","v":""},{"$f":"IF(G62=\"\",\"\",IF(F62=\"\",\"\",CONCATENATE(3,DIGITADOR!$M$1,G62,E62)))","v":""},"",{"$f":"IF(F62=\"\",\"\",VLOOKUP(F62,referentes!$T$2:$W$200,2,FALSE))","v":""},null,null,{"$f":"IF(I62=\"\", \"\", VLOOKUP(I62,referentes!$J$2:$Q$14,2,FALSE))","v":""},null,null,{"$f":"IF(L62=\"\", \"\", INDEX(referentes!$D$2:$E$17,MATCH(L62,referentes!E$2:E$17,0),1))","v":""},null,null,null,null,"","",null,null,null,"","","","","",""]
[null,{"$f":"IF(C63=\"\",\"\",IF(COUNTIF($C$3:C63, C63)>1, \"\", C63))","v":""},{"$f":"IF(G63=\"\",\"\",IF(F63=\"\",\"\",CONCATENATE(3,DIGITADOR!$M$1,G63,E63)))","v":""},"",{"$f":"IF(F63=\"\",\"\",VLOOKUP(F63,referentes!$T$2:$W$200,2,FALSE))","v":""},null,null,{"$f":"IF(I63=\"\", \"\", VLOOKUP(I63,referentes!$J$2:$Q$14,2,FALSE))","v":""},null,null,{"$f":"IF(L63=\"\", \"\", INDEX(referentes!$D$2:$E$17,MATCH(L63,referentes!E$2:E$17,0),1))","v":""},null,null,null,null,"","",null,null,null,"","","","","",""]
[null,{"$f":"IF(C64=\"\",\"\",IF(COUNTIF($C$3:C64, C64)>1, \"\", C64))","v":""},{"$f":"IF(G64=\"\",\"\",IF(F64=\"\",\"\",CONCATENATE(3,DIGITADOR!$M$1,G64,E64)))","v":""},"",{"$f":"IF(F64=\"\",\"\",VLOOKUP(F64,referentes!$T$2:$W$200,2,FALSE))","v":""},null,null,{"$f":"IF(I64=\"\", \"\", VLOOKUP(I64,referentes!$J$2:$Q$14,2,FALSE))","v":""},null,null,{"$f":"IF(L64=\"\", \"\", INDEX(referentes!$D$2:$E$17,MATCH(L64,referentes!E$2:E$17,0),1))","v":""},null,null,null,null,"","",null,null,null,"","","","","",""]
[null,{"$f":"IF(C65=\"\",\"\",IF(COUNTIF($C$3:C65, C65)>1, \"\", C65))","v":""},{"$f":"IF(G65=\"\",\"\",IF(F65=\"\",\"\",CONCATENATE(3,DIGITADOR!$M$1,G65,E65)))","v":""},"",{"$f":"IF(F65=\"\",\"\",VLOOKUP(F65,referentes!$T$2:$W$200,2,FALSE))","v":""},null,null,{"$f":"IF(I65=\"\", \"\", VLOOKUP(I65,referentes!$J$2:$Q$14,2,FALSE))","v":""},null,null,{"$f":"IF(L65=\"\", \"\", INDEX(referentes!$D$2:$E$17,MATCH(L65,referentes!E$2:E$17,0),1))","v":""},null,null,null,null,"","",null,null,null,"","","","","",""]
[null,{"$f":"IF(C66=\"\",\"\",IF(COUNTIF($C$3:C66, C66)>1, \"\", C66))","v":""},{"$f":"IF(G66=\"\",\"\",IF(F66=\"\",\"\",CONCATENATE(3,DIGITADOR!$M$1,G66,E66)))","v":""},"",{"$f":"IF(F66=\"\",\"\",VLOOKUP(F66,referentes!$T$2:$W$200,2,FALSE))","v":""},null,null,{"$f":"IF(I66=\"\", \"\", VLOOKUP(I66,referentes!$J$2:$Q$14,2,FALSE))","v":""},null,null,{"$f":"IF(L66=\"\", \"\", INDEX(referentes!$D$2:$E$17,MATCH(L66,referentes!E$2:E$17,0),1))","v":""},null,null,null,null,"","",null,null,null,"","","","","",""]
[null,{"$f":"IF(C67=\"\",\"\",IF(COUNTIF($C$3:C67, C67)>1, \"\", C67))","v":""},{"$f":"IF(G67=\"\",\"\",IF(F67=\"\",\"\",CONCATENATE(3,DIGITADOR!$M$1,G67,E67)))","v":""},"",{"$f":"IF(F67=\"\",\"\",VLOOKUP(F67,referentes!$T$2:$W$200,2,FALSE))","v":""},null,null,{"$f":"IF(I67=\"\", \"\", VLOOKUP(I67,referentes!$J$2:$Q$14,2,FALSE))","v":""},null,null,{"$f":"IF(L67=\"\", \"\", INDEX(referentes!$D$2:$E$17,MATCH(L67,referentes!E$2:E$17,0),1))","v":""},null,null,null,null,"","",null,null,null,"","","","","",""]
[null,{"$f":"IF(C68=\"\",\"\",IF(COUNTIF($C$3:C68, C68)>1, \"\", C68))","v":""},{"$f":"IF(G68=\"\",\"\",IF(F68=\"\",\"\",CONCATENATE(3,DIGITADOR!$M$1,G68,E68)))","v":""},{"$f":"IF(C68=\"\",\"\",CONCATENATE(C68,ROW()-2))","v":""},{"$f":"IF(F68=\"\",\"\",VLOOKUP(F68,referentes!$T$2:$W$200,2,FALSE))","v":""},null,null,{"$f":"IF(I68=\"\", \"\", VLOOKUP(I68,referentes!$J$2:$Q$14,2,FALSE))","v":""},null,null,{"$f":"IF(L68=\"\", \"\", INDEX(referentes!$D$2:$E$17,MATCH(L68,referentes!E$2:E$17,0),1))","v":""},null,null,null,null,{"$f":"IF(O68=\"\",\"\", ROUND(O68/100, 4))","v":""},{"$f":"IF(P68=\"\",\"\", ROUND(P68^2, 4))","v":""},null,null,null,{"$f":"IF(R68=\"\", \"\", IF(R68=20, IF(S68<>\"\", ROUND(S68/R68, 6), \"\"), ROUND(20/(R68-0.5), 6)))","v":""},{"$f":"IF(U68=\"\", \"\", IF(U68 < 1, 0, 1))","v":""},{"$f":"IF(OR(M68=\"\",Q68=\"\"), \"\", ROUND((PI()/4)*Q68*M68, 6))","v":""},{"$f":"IF(AND(U68=\"\",V68=\"\"),\"\",ROUND(IF(V68=0,0.6451-0.388*(LOG10(U68))-0.377*V68+0.3*(LOG10(U68))*V68, 0.6451-0.388*(LOG10(U68))-0.377*V68+0.3*(LOG10(U68))), 6))","v":""},{"$f":"IF(X68=\"\",\"\", ROUND((X68*1000000/1000), 6))","v":""},{"$f":"IF(OR(W68=\"\",Y68=\"\"), \"\", ROUND(W68*Y68, 6))","v":""}]
[null,{"$f":"IF(C69=\"\",\"\",IF(COUNTIF($C$3:C69, C69)>1, \"\", C69))","v":""},{"$f":"IF(G69=\"\",\"\",IF(F69=\"\",\"\",CONCATENATE(3,DIGITADOR!$M$1,G69,E69)))","v":""},"",{"$f":"IF(F69=\"\",\"\",VLOOKUP(F69,referentes!$T$2:$W$200,2,FALSE))","v":""},null,null,{"$f":"IF(I69=\"\", \"\", VLOOKUP(I69,referentes!$J$2:$Q$14,2,FALSE))","v":""},null,null,{"$f":"IF(L69=\"\", \"\", INDEX(referentes!$D$2:$E$17,MATCH(L69,referentes!E$2:E$17,0),1))","v":""},null,null,null,null,"","",null,null,null,"","","","","",""]
[null,{"$f":"IF(C70=\"\",\"\",IF(COUNTIF($C$3:C70, C70)>1, \"\", C70))","v":""},{"$f":"IF(G70=\"\",\"\",IF(F70=\"\",\"\",CONCATENATE(3,DIGITADOR!$M$1,G70,E70)))","v":""},"",{"$f":"IF(F70=\"\",\"\",VLOOKUP(F70,referentes!$T$2:$W$200,2,FALSE))","v":""},null,null,{"$f":"IF(I70=\"\", \"\", VLOOKUP(I70,referentes!$J$2:$Q$14,2,FALSE))","v":""},null,null,{"$f":"IF(L70=\"\", \"\", INDEX(referentes!$D$2:$E$17,MATCH(L70,referentes!E$2:E$17,0),1))","v":""},null,null,null,null,"","",null,null,null,"","","","","",""]
[null,{"$f":"IF(C71=\"\",\"\",IF(COUNTIF($C$3:C71, C71)>1, \"\", C71))","v":""},{"$f":"IF(G71=\"\",\"\",IF(F71=\"\",\"\",CONCATENATE(3,DIGITADOR!$M$1,G71,E71)))","v":""},"",{"$f":"IF(F71=\"\",\"\",VLOOKUP(F71,referentes!$T$2:$W$200,2,FALSE))","v":""},null,null,{"$f":"IF(I71=\"\", \"\", VLOOKUP(I71,referentes!$J$2:$Q$14,2,FALSE))","v":""},null,null,{"$f":"IF(L71=\"\", \"\", INDEX(referentes!$D$2:$E$17,MATCH(L71,referentes!E$2:E$17,0),1))","v":""},null,null,null,null,"","",null,null,null,"","","","","",""]
[null,{"$f":"IF(C72=\"\",\"\",IF(COUNTIF($C$3:C72, C72)>1, \"\", C72))","v":""},{"$f":"IF(G72=\"\",\"\",IF(F72=\"\",\"\",CONCATENATE(3,DIGITADOR!$M$1,G72,E72)))","v":""},"",{"$f":"IF(F72=\"\",\"\",VLOOKUP(F72,referentes!$T$2:$W$200,2,FALSE))","v":""},null,null,{"$f":"IF(I72=\"\", \"\", VLOOKUP(I72,referentes!$J$2:$Q$14,2,FALSE))","v":""},null,null,{"$f":"IF(L72=\"\", \"\", INDEX(referentes!$D$2:$E$17,MATCH(L72,referentes!E$2:E$17,0),1))","v":""},null,null,null,null,"","",null,null,null,"","","","","",""]
[null,{"$f":"IF(C73=\"\",\"\",IF(COUNTIF($C$3:C73, C73)>1, \"\", C73))","v":""},{"$f":"IF(G73=\"\",\"\",IF(F73=\"\",\"\",CONCATENATE(3,DIGITADOR!$M$1,G73,E73)))","v":""},"",{"$f":"IF(F73=\"\",\"\",VLOOKUP(F73,referentes!$T$2:$W$200,2,FALSE))","v":""},null,null,{"$f":"IF(I73=\"\", \"\", VLOOKUP(I73,referentes!$J$2:$Q$14,2,FALSE))","v":""},null,null,{"$f":"IF(L73=\"\", \"\", INDEX(referentes!$D$2:$E$17,MATCH(L73,referentes!E$2:E$17,0),1))","v":""},null,null,null,null,"","",null,null,null,"","","","","",""]
[null,{"$f":"IF(C74=\"\",\"\",IF(COUNTIF($C$3:C74, C74)>1, \"\", C74))","v":""},{"$f":"IF(G74=\"\",\"\",IF(F74=\"\",\"\",CONCATENATE(3,DIGITADOR!$M$1,G74,E74)))","v":""},"",{"$f":"IF(F74=\"\",\"\",VLOOKUP(F74,referentes!$T$2:$W$200,2,FALSE))","v":""},null,null,{"$f":"IF(I74=\"\", \"\", VLOOKUP(I74,referentes!$J$2:$Q$14,2,FALSE))","v":""},null,null,{"$f":"IF(L74=\"\", \"\", INDEX(referentes!$D$2:$E$17,MATCH(L74,referentes!E$2:E$17,0),1))","v":""},null,null,null,null,"","",null,null,null,"","","","","",""]
[null,{"$f":"IF(C75=\"\",\"\",IF(COUNTIF($C$3:C75, C75)>1, \"\", C75))","v":""},{"$f":"IF(G75=\"\",\"\",IF(F75=\"\",\"\",CONCATENATE(3,DIGITADOR!$M$1,G75,E75)))","v":""},"",{"$f":"IF(F75=\"\",\"\",VLOOKUP(F75,referentes!$T$2:$W$200,2,FALSE))","v":""},null,null,{"$f":"IF(I75=\"\", \"\", VLOOKUP(I75,referentes!$J$2:$Q$14,2,FALSE))","v":""},null,null,{"$f":"IF(L75=\"\", \"\", INDEX(referentes!$D$2:$E$17,MATCH(L75,referentes!E$2:E$17,0),1))","v":""},null,null,null,null,"","",null,null,null,"","","","","",""]
[null,{"$f":"IF(C76=\"\",\"\",IF(COUNTIF($C$3:C76, C76)>1, \"\", C76))","v":""},{"$f":"IF(G76=\"\",\"\",IF(F76=\"\",\"\",CONCATENATE(3,DIGITADOR!$M$1,G76,E76)))","v":""},"",{"$f":"IF(F76=\"\",\"\",VLOOKUP(F76,referentes!$T$2:$W$200,2,FALSE))","v":""},null,null,{"$f":"IF(I76=\"\", \"\", VLOOKUP(I76,referentes!$J$2:$Q$14,2,FALSE))","v":""},null,null,{"$f":"IF(L76=\"\", \"\", INDEX(referentes!$D$2:$E$17,MATCH(L76,referentes!E$2:E$17,0),1))","v":""},null,null,null,null,"","",null,null,null,"","","","","",""]
[null,{"$f":"IF(C77=\"\",\"\",IF(COUNTIF($C$3:C77, C77)>1, \"\", C77))","v":""},{"$f":"IF(G77=\"\",\"\",IF(F77=\"\",\"\",CONCATENATE(3,DIGITADOR!$M$1,G77,E77)))","v":""},"",{"$f":"IF(F77=\"\",\"\",VLOOKUP(F77,referentes!$T$2:$W$200,2,FALSE))","v":""},null,null,{"$f":"IF(I77=\"\", \"\", VLOOKUP(I77,referentes!$J$2:$Q$14,2,FALSE))","v":""},null,null,{"$f":"IF(L77=\"\", \"\", INDEX(referentes!$D$2:$E$17,MATCH(L77,referentes!E$2:E$17,0),1))","v":""},null,null,null,null,"","",null,null,null,"","","","","",""]
[null,{"$f":"IF(C78=\"\",\"\",IF(COUNTIF($C$3:C78, C78)>1, \"\", C78))","v":""},{"$f":"IF(G78=\"\",\"\",IF(F78=\"\",\"\",CONCATENATE(3,DIGITADOR!$M$1,G78,E78)))","v":""},"",{"$f":"IF(F78=\"\",\"\",VLOOKUP(F78,referentes!$T$2:$W$200,2,FALSE))","v":""},null,null,{"$f":"IF(I78=\"\", \"\", VLOOKUP(I78,referentes!$J$2:$Q$14,2,FALSE))","v":""},null,null,{"$f":"IF(L78=\"\", \"\", INDEX(referentes!$D$2:$E$17,MATCH(L78,referentes!E$2:E$17,0),1))","v":""},null,null,null,null,"","",null,null,null,"","","","","",""]
[null,{"$f":"IF(C79=\"\",\"\",IF(COUNTIF($C$3:C79, C79)>1, \"\", C79))","v":""},{"$f":"IF(G79=\"\",\"\",IF(F79=\"\",\"\",CONCATENATE(3,DIGITADOR!$M$1,G79,E79)))","v":""},"",{"$f":"IF(F79=\"\",\"\",VLOOKUP(F79,referentes!$T$2:$W$200,2,FALSE))","v":""},null,null,{"$f":"IF(I79=\"\", \"\", VLOOKUP(I79,referentes!$J$2:$Q$14,2,FALSE))","v":""},null,null,{"$f":"IF(L79=\"\", \"\", INDEX(referentes!$D$2:$E$17,MATCH(L79,referentes!E$2:E$17,0),1))","v":""},null,null,null,null,"","",null,null,null,"","","","","",""]
[null,{"$f":"IF(C80=\"\",\"\",IF(COUNTIF($C$3:C80, C80)>1, \"\", C80))","v":""},{"$f":"IF(G80=\"\",\"\",IF(F80=\"\",\"\",CONCATENATE(3,DIGITADOR!$M$1,G80,E80)))","v":""},"",{"$f":"IF(F80=\"\",\"\",VLOOKUP(F80,referentes!$T$2:$W$200,2,FALSE))","v":""},null,null,{"$f":"IF(I80=\"\", \"\", VLOOKUP(I80,referentes!$J$2:$Q$14,2,FALSE))","v":""},null,null,{"$f":"IF(L80=\"\", \"\", INDEX(referentes!$D$2:$E$17,MATCH(L80,referentes!E$2:E$17,0),1))","v":""},null,null,null,null,"","",null,null,null,"","","","","",""]
[null,{"$f":"IF(C81=\"\",\"\",IF(COUNTIF($C$3:C81, C81)>1, \"\", C81))","v":""},{"$f":"IF(G81=\"\",\"\",IF(F81=\"\",\"\",CONCATENATE(3,DIGITADOR!$M$1,G81,E81)))","v":""},"",{"$f":"IF(F81=\"\",\"\",VLOOKUP(F81,referentes!$T$2:$W$200,2,FALSE))","v":""},null,null,{"$f":"IF(I81=\"\", \"\", VLOOKUP(I81,referentes!$J$2:$Q$14,2,FALSE))","v":""},null,null,{"$f":"IF(L81=\"\", \"\", INDEX(referentes!$D$2:$E$17,MATCH(L81,referentes!E$2:E$17,0),1))","v":""},null,null,null,null,"","",null,null,null,"","","","","",""]
[null,{"$f":"IF(C82=\"\",\"\",IF(COUNTIF($C$3:C82, C82)>1, \"\", C82))","v":""},{"$f":"IF(G82=\"\",\"\",IF(F82=\"\",\"\",CONCATENATE(3,DIGITADOR!$M$1,G82,E82)))","v":""},"",{"$f":"IF(F82=\"\",\"\",VLOOKUP(F82,referentes!$T$2:$W$200,2,FALSE))","v":""},null,null,{"$f":"IF(I82=\"\", \"\", VLOOKUP(I82,referentes!$J$2:$Q$14,2,FALSE))","v":""},null,null,{"$f":"IF(L82=\"\", \"\", INDEX(referentes!$D$2:$E$17,MATCH(L82,referentes!E$2:E$17,0),1))","v":""},null,null,null,null,"","",null,null,null,"","","","","",""]
[null,{"$f":"IF(C83=\"\",\"\",IF(COUNTIF($C$3:C83, C83)>1, \"\", C83))","v":""},{"$f":"IF(G83=\"\",\"\",IF(F83=\"\",\"\",CONCATENATE(3,DIGITADOR!$M$1,G83,E83)))","v":""},"",{"$f":"IF(F83=\"\",\"\",VLOOKUP(F83,referentes!$T$2:$W$200,2,FALSE))","v":""},null,null,{"$f":"IF(I83=\"\", \"\", VLOOKUP(I83,referentes!$J$2:$Q$14,2,FALSE))","v":""},null,null,{"$f":"IF(L83=\"\", \"\", INDEX(referentes!$D$2:$E$17,MATCH(L83,referentes!E$2:E$17,0),1))","v":""},null,null,null,null,"","",null,null,null,"","","","","",""]
[null,{"$f":"IF(C84=\"\",\"\",IF(COUNTIF($C$3:C84, C84)>1, \"\", C84))","v":""},{"$f":"IF(G84=\"\",\"\",IF(F84=\"\",\"\",CONCATENATE(3,DIGITADOR!$M$1,G84,E84)))","v":""},"",{"$f":"IF(F84=\"\",\"\",VLOOKUP(F84,referentes!$T$2:$W$200,2,FALSE))","v":""},null,null,{"$f":"IF(I84=\"\", \"\", VLOOKUP(I84,referentes!$J$2:$Q$14,2,FALSE))","v":""},null,null,{"$f":"IF(L84=\"\", \"\", INDEX(referentes!$D$2:$E$17,MATCH(L84,referentes!E$2:E$17,0),1))","v":""},null,null,null,null,"","",null,null,null,"","","","","",""]
[null,{"$f":"IF(C85=\"\",\"\",IF(COUNTIF($C$3:C85, C85)>1, \"\", C85))","v":""},{"$f":"IF(G85=\"\",\"\",IF(F85=\"\",\"\",CONCATENATE(3,DIGITADOR!$M$1,G85,E85)))","v":""},"",{"$f":"IF(F85=\"\",\"\",VLOOKUP(F85,referentes!$T$2:$W$200,2,FALSE))","v":""},null,null,{"$f":"IF(I85=\"\", \"\", VLOOKUP(I85,referentes!$J$2:$Q$14,2,FALSE))","v":""},null,null,{"$f":"IF(L85=\"\", \"\", INDEX(referentes!$D$2:$E$17,MATCH(L85,referentes!E$2:E$17,0),1))","v":""},null,null,null,null,"","",null,null,null,"","","","","",""]
[null,{"$f":"IF(C86=\"\",\"\",IF(COUNTIF($C$3:C86, C86)>1, \"\", C86))","v":""},{"$f":"IF(G86=\"\",\"\",IF(F86=\"\",\"\",CONCATENATE(3,DIGITADOR!$M$1,G86,E86)))","v":""},"",{"$f":"IF(F86=\"\",\"\",VLOOKUP(F86,referentes!$T$2:$W$200,2,FALSE))","v":""},null,null,{"$f":"IF(I86=\"\", \"\", VLOOKUP(I86,referentes!$J$2:$Q$14,2,FALSE))","v":""},null,null,{"$f":"IF(L86=\"\", \"\", INDEX(referentes!$D$2:$E$17,MATCH(L86,referentes!E$2:E$17,0),1))","v":""},null,null,null,null,"","",null,null,null,"","","","","",""]
[null,{"$f":"IF(C87=\"\",\"\",IF(COUNTIF($C$3:C87, C87)>1, \"\", C87))","v":""},{"$f":"IF(G87=\"\",\"\",IF(F87=\"\",\"\",CONCATENATE(3,DIGITADOR!$M$1,G87,E87)))","v":""},"",{"$f":"IF(F87=\"\",\"\",VLOOKUP(F87,referentes!$T$2:$W$200,2,FALSE))","v":""},null,null,{"$f":"IF(I87=\"\", \"\", VLOOKUP(I87,referentes!$J$2:$Q$14,2,FALSE))","v":""},null,null,{"$f":"IF(L87=\"\", \"\", INDEX(referentes!$D$2:$E$17,MATCH(L87,referentes!E$2:E$17,0),1))","v":""},null,null,null,null,"","",null,null,null,"","","","","",""]
[null,{"$f":"IF(C88=\"\",\"\",IF(COUNTIF($C$3:C88, C88)>1, \"\", C88))","v":""},{"$f":"IF(G88=\"\",\"\",IF(F88=\"\",\"\",CONCATENATE(3,DIGITADOR!$M$1,G88,E88)))","v":""},"",{"$f":"IF(F88=\"\",\"\",VLOOKUP(F88,referentes!$T$2:$W$200,2,FALSE))","v":""},null,null,{"$f":"IF(I88=\"\", \"\", VLOOKUP(I88,referentes!$J$2:$Q$14,2,FALSE))","v":""},null,null,{"$f":"IF(L88=\"\", \"\", INDEX(referentes!$D$2:$E$17,MATCH(L88,referentes!E$2:E$17,0),1))","v":""},null,null,null,null,"","",null,null,null,"","","","","",""]
[null,{"$f":"IF(C89=\"\",\"\",IF(COUNTIF($C$3:C89, C89)>1, \"\", C89))","v":""},{"$f":"IF(G89=\"\",\"\",IF(F89=\"\",\"\",CONCATENATE(3,DIGITADOR!$M$1,G89,E89)))","v":""},"",{"$f":"IF(F89=\"\",\"\",VLOOKUP(F89,referentes!$T$2:$W$200,2,FALSE))","v":""},null,null,{"$f":"IF(I89=\"\", \"\", VLOOKUP(I89,referentes!$J$2:$Q$14,2,FALSE))","v":""},null,null,{"$f":"IF(L89=\"\", \"\", INDEX(referentes!$D$2:$E$17,MATCH(L89,referentes!E$2:E$17,0),1))","v":""},null,null,null,null,"","",null,null,null,"","","","","",""]
[null,{"$f":"IF(C90=\"\",\"\",IF(COUNTIF($C$3:C90, C90)>1, \"\", C90))","v":""},{"$f":"IF(G90=\"\",\"\",IF(F90=\"\",\"\",CONCATENATE(3,DIGITADOR!$M$1,G90,E90)))","v":""},"",{"$f":"IF(F90=\"\",\"\",VLOOKUP(F90,referentes!$T$2:$W$200,2,FALSE))","v":""},null,null,{"$f":"IF(I90=\"\", \"\", VLOOKUP(I90,referentes!$J$2:$Q$14,2,FALSE))","v":""},null,null,{"$f":"IF(L90=\"\", \"\", INDEX(referentes!$D$2:$E$17,MATCH(L90,referentes!E$2:E$17,0),1))","v":""},null,null,null,null,"","",null,null,null,"","","","","",""]
[null,{"$f":"IF(C91=\"\",\"\",IF(COUNTIF($C$3:C91, C91)>1, \"\", C91))","v":""},{"$f":"IF(G91=\"\",\"\",IF(F91=\"\",\"\",CONCATENATE(3,DIGITADOR!$M$1,G91,E91)))","v":""},"",{"$f":"IF(F91=\"\",\"\",VLOOKUP(F91,referentes!$T$2:$W$200,2,FALSE))","v":""},null,null,{"$f":"IF(I91=\"\", \"\", VLOOKUP(I91,referentes!$J$2:$Q$14,2,FALSE))","v":""},null,null,{"$f":"IF(L91=\"\", \"\", INDEX(referentes!$D$2:$E$17,MATCH(L91,referentes!E$2:E$17,0),1))","v":""},null,null,null,null,"","",null,null,null,"","","","","",""]
[null,{"$f":"IF(C92=\"\",\"\",IF(COUNTIF($C$3:C92, C92)>1, \"\", C92))","v":""},{"$f":"IF(G92=\"\",\"\",IF(F92=\"\",\"\",CONCATENATE(3,DIGITADOR!$M$1,G92,E92)))","v":""},"",{"$f":"IF(F92=\"\",\"\",VLOOKUP(F92,referentes!$T$2:$W$200,2,FALSE))","v":""},null,null,{"$f":"IF(I92=\"\", \"\", VLOOKUP(I92,referentes!$J$2:$Q$14,2,FALSE))","v":""},null,null,{"$f":"IF(L92=\"\", \"\", INDEX(referentes!$D$2:$E$17,MATCH(L92,referentes!E$2:E$17,0),1))","v":""},null,null,null,null,"","",null,null,null,"","","","","",""]
[null,{"$f":"IF(C93=\"\",\"\",IF(COUNTIF($C$3:C93, C93)>1, \"\", C93))","v":""},{"$f":"IF(G93=\"\",\"\",IF(F93=\"\",\"\",CONCATENATE(3,DIGITADOR!$M$1,G93,E93)))","v":""},"",{"$f":"IF(F93=\"\",\"\",VLOOKUP(F93,referentes!$T$2:$W$200,2,FALSE))","v":""},null,null,{"$f":"IF(I93=\"\", \"\", VLOOKUP(I93,referentes!$J$2:$Q$14,2,FALSE))","v":""},null,null,{"$f":"IF(L93=\"\", \"\", INDEX(referentes!$D$2:$E$17,MATCH(L93,referentes!E$2:E$17,0),1))","v":""},null,null,null,null,"","",null,null,null,"","","","","",""]
[null,{"$f":"IF(C94=\"\",\"\",IF(COUNTIF($C$3:C94, C94)>1, \"\", C94))","v":""},{"$f":"IF(G94=\"\",\"\",IF(F94=\"\",\"\",CONCATENATE(3,DIGITADOR!$M$1,G94,E94)))","v":""},"",{"$f":"IF(F94=\"\",\"\",VLOOKUP(F94,referentes!$T$2:$W$200,2,FALSE))","v":""},null,null,{"$f":"IF(I94=\"\", \"\", VLOOKUP(I94,referentes!$J$2:$Q$14,2,FALSE))","v":""},null,null,{"$f":"IF(L94=\"\", \"\", INDEX(referentes!$D$2:$E$17,MATCH(L94,referentes!E$2:E$17,0),1))","v":""},null,null,null,null,"","",null,null,null,"","","","","",""]
[null,{"$f":"IF(C95=\"\",\"\",IF(COUNTIF($C$3:C95, C95)>1, \"\", C95))","v":""},{"$f":"IF(G95=\"\",\"\",IF(F95=\"\",\"\",CONCATENATE(3,DIGITADOR!$M$1,G95,E95)))","v":""},"",{"$f":"IF(F95=\"\",\"\",VLOOKUP(F95,referentes!$T$2:$W$200,2,FALSE))","v":""},null,null,{"$f":"IF(I95=\"\", \"\", VLOOKUP(I95,referentes!$J$2:$Q$14,2,FALSE))","v":""},null,null,{"$f":"IF(L95=\"\", \"\", INDEX(referentes!$D$2:$E$17,MATCH(L95,referentes!E$2:E$17,0),1))","v":""},null,null,null,null,"","",null,null,null,"","","","","","","Sin especie"]
[null,{"$f":"IF(C96=\"\",\"\",IF(COUNTIF($C$3:C96, C96)>1, \"\", C96))","v":""},{"$f":"IF(G96=\"\",\"\",IF(F96=\"\",\"\",CONCATENATE(3,DIGITADOR!$M$1,G96,E96)))","v":""},"",{"$f":"IF(F96=\"\",\"\",VLOOKUP(F96,referentes!$T$2:$W$200,2,FALSE))","v":""},null,null,{"$f":"IF(I96=\"\", \"\", VLOOKUP(I96,referentes!$J$2:$Q$14,2,FALSE))","v":""},null,null,{"$f":"IF(L96=\"\", \"\", INDEX(referentes!$D$2:$E$17,MATCH(L96,referentes!E$2:E$17,0),1))","v":""},null,null,null,null,"","",null,null,null,"","","","","","","Sin especie"]
[null,{"$f":"IF(C97=\"\",\"\",IF(COUNTIF($C$3:C97, C97)>1, \"\", C97))","v":""},{"$f":"IF(G97=\"\",\"\",IF(F97=\"\",\"\",CONCATENATE(3,DIGITADOR!$M$1,G97,E97)))","v":""},"",{"$f":"IF(F97=\"\",\"\",VLOOKUP(F97,referentes!$T$2:$W$200,2,FALSE))","v":""},null,null,{"$f":"IF(I97=\"\", \"\", VLOOKUP(I97,referentes!$J$2:$Q$14,2,FALSE))","v":""},null,null,{"$f":"IF(L97=\"\", \"\", INDEX(referentes!$D$2:$E$17,MATCH(L97,referentes!E$2:E$17,0),1))","v":""},null,null,null,null,"","",null,null,null,"","","","","","","Sin especie"]
[null,{"$f":"IF(C98=\"\",\"\",IF(COUNTIF($C$3:C98, C98)>1, \"\", C98))","v":""},{"$f":"IF(G98=\"\",\"\",IF(F98=\"\",\"\",CONCATENATE(3,DIGITADOR!$M$1,G98,E98)))","v":""},"",{"$f":"IF(F98=\"\",\"\",VLOOKUP(F98,referentes!$T$2:$W$200,2,FALSE))","v":""},null,null,{"$f":"IF(I98=\"\", \"\", VLOOKUP(I98,referentes!$J$2:$Q$14,2,FALSE))","v":""},null,null,{"$f":"IF(L98=\"\", \"\", INDEX(referentes!$D$2:$E$17,MATCH(L98,referentes!E$2:E$17,0),1))","v":""},null,null,null,null,"","",null,null,null,"","","","","","","Sin especie"]
[null,{"$f":"IF(C99=\"\",\"\",IF(COUNTIF($C$3:C99, C99)>1, \"\", C99))","v":""},{"$f":"IF(G99=\"\",\"\",IF(F99=\"\",\"\",CONCATENATE(3,DIGITADOR!$M$1,G99,E99)))","v":""},"",{"$f":"IF(F99=\"\",\"\",VLOOKUP(F99,referentes!$T$2:$W$200,2,FALSE))","v":""},null,null,{"$f":"IF(I99=\"\", \"\", VLOOKUP(I99,referentes!$J$2:$Q$14,2,FALSE))","v":""},null,null,{"$f":"IF(L99=\"\", \"\", INDEX(referentes!$D$2:$E$17,MATCH(L99,referentes!E$2:E$17,0),1))","v":""},null,null,null,null,"","",null,null,null,"","","","","","","Sin especie"]
[null,{"$f":"IF(C100=\"\",\"\",IF(COUNTIF($C$3:C100, C100)>1, \"\", C100))","v":""},{"$f":"IF(G100=\"\",\"\",IF(F100=\"\",\"\",CONCATENATE(3,DIGITADOR!$M$1,G100,E100)))","v":""},"",{"$f":"IF(F100=\"\",\"\",VLOOKUP(F100,referentes!$T$2:$W$200,2,FALSE))","v":""},null,null,{"$f":"IF(I100=\"\", \"\", VLOOKUP(I100,referentes!$J$2:$Q$14,2,FALSE))","v":""},null,null,{"$f":"IF(L100=\"\", \"\", INDEX(referentes!$D$2:$E$17,MATCH(L100,referentes!E$2:E$17,0),1))","v":""},null,null,null,null,"","",null,null,null,"","","","","","","Sin especie"]
[null,{"$f":"IF(C101=\"\",\"\",IF(COUNTIF($C$3:C101, C101)>1, \"\", C101))","v":""},{"$f":"IF(G101=\"\",\"\",IF(F101=\"\",\"\",CONCATENATE(3,DIGITADOR!$M$1,G101,E101)))","v":""},"",{"$f":"IF(F101=\"\",\"\",VLOOKUP(F101,referentes!$T$2:$W$200,2,FALSE))","v":""},null,null,{"$f":"IF(I101=\"\", \"\", VLOOKUP(I101,referentes!$J$2:$Q$14,2,FALSE))","v":""},null,null,{"$f":"IF(L101=\"\", \"\", INDEX(referentes!$D$2:$E$17,MATCH(L101,referentes!E$2:E$17,0),1))","v":""},null,null,null,null,"","",null,null,null,"","","","","","","Sin especie"]
[null,{"$f":"IF(C102=\"\",\"\",IF(COUNTIF($C$3:C102, C102)>1, \"\", C102))","v":""},{"$f":"IF(G102=\"\",\"\",IF(F102=\"\",\"\",CONCATENATE(3,DIGITADOR!$M$1,G102,E102)))","v":""},"",{"$f":"IF(F102=\"\",\"\",VLOOKUP(F102,referentes!$T$2:$W$200,2,FALSE))","v":""},null,null,{"$f":"IF(I102=\"\", \"\", VLOOKUP(I102,referentes!$J$2:$Q$14,2,FALSE))","v":""},null,null,{"$f":"IF(L102=\"\", \"\", INDEX(referentes!$D$2:$E$17,MATCH(L102,referentes!E$2:E$17,0),1))","v":""},null,null,null,null,"","",null,null,null,"","","","","","","Sin especie"]
[null,{"$f":"IF(C103=\"\",\"\",IF(COUNTIF($C$3:C103, C103)>1, \"\", C103))","v":""},{"$f":"IF(G103=\"\",\"\",IF(F103=\"\",\"\",CONCATENATE(3,DIGITADOR!$M$1,G103,E103)))","v":""},"",{"$f":"IF(F103=\"\",\"\",VLOOKUP(F103,referentes!$T$2:$W$200,2,FALSE))","v":""},null,null,{"$f":"IF(I103=\"\", \"\", VLOOKUP(I103,referentes!$J$2:$Q$14,2,FALSE))","v":""},null,null,{"$f":"IF(L103=\"\", \"\", INDEX(referentes!$D$2:$E$17,MATCH(L103,referentes!E$2:E$17,0),1))","v":""},null,null,null,null,"","",null,null,null,"","","","","","","Sin especie"]
[null,{"$f":"IF(C104=\"\",\"\",IF(COUNTIF($C$3:C104, C104)>1, \"\", C104))","v":""},{"$f":"IF(G104=\"\",\"\",IF(F104=\"\",\"\",CONCATENATE(3,DIGITADOR!$M$1,G104,E104)))","v":""},"",{"$f":"IF(F104=\"\",\"\",VLOOKUP(F104,referentes!$T$2:$W$200,2,FALSE))","v":""},null,null,{"$f":"IF(I104=\"\", \"\", VLOOKUP(I104,referentes!$J$2:$Q$14,2,FALSE))","v":""},null,null,{"$f":"IF(L104=\"\", \"\", INDEX(referentes!$D$2:$E$17,MATCH(L104,referentes!E$2:E$17,0),1))","v":""},null,null,null,null,"","",null,null,null,"","","","","","","Sin especie"]
[null,{"$f":"IF(C105=\"\",\"\",IF(COUNTIF($C$3:C105, C105)>1, \"\", C105))","v":""},{"$f":"IF(G105=\"\",\"\",IF(F105=\"\",\"\",CONCATENATE(3,DIGITADOR!$M$1,G105,E105)))","v":""},"",{"$f":"IF(F105=\"\",\"\",VLOOKUP(F105,referentes!$T$2:$W$200,2,FALSE))","v":""},null,null,{"$f":"IF(I105=\"\", \"\", VLOOKUP(I105,referentes!$J$2:$Q$14,2,FALSE))","v":""},null,null,{"$f":"IF(L105=\"\", \"\", INDEX(referentes!$D$2:$E$17,MATCH(L105,referentes!E$2:E$17,0),1))","v":""},null,null,null,null,"","",null,null,null,"","","","","","","Sin especie"]
[null,{"$f":"IF(C106=\"\",\"\",IF(COUNTIF($C$3:C106, C106)>1, \"\", C106))","v":""},{"$f":"IF(G106=\"\",\"\",IF(F106=\"\",\"\",CONCATENATE(3,DIGITADOR!$M$1,G106,E106)))","v":""},"",{"$f":"IF(F106=\"\",\"\",VLOOKUP(F106,referentes!$T$2:$W$200,2,FALSE))","v":""},null,null,{"$f":"IF(I106=\"\", \"\", VLOOKUP(I106,referentes!$J$2:$Q$14,2,FALSE))","v":""},null,null,{"$f":"IF(L106=\"\", \"\", INDEX(referentes!$D$2:$E$17,MATCH(L106,referentes!E$2:E$17,0),1))","v":""},null,null,null,null,"","",null,null,null,"","","","","","","Sin especie"]
[null,{"$f":"IF(C107=\"\",\"\",IF(COUNTIF($C$3:C107, C107)>1, \"\", C107))","v":""},{"$f":"IF(G107=\"\",\"\",IF(F107=\"\",\"\",CONCATENATE(3,DIGITADOR!$M$1,G107,E107)))","v":""},"",{"$f":"IF(F107=\"\",\"\",VLOOKUP(F107,referentes!$T$2:$W$200,2,FALSE))","v":""},null,null,{"$f":"IF(I107=\"\", \"\", VLOOKUP(I107,referentes!$J$2:$Q$14,2,FALSE))","v":""},null,null,{"$f":"IF(L107=\"\", \"\", INDEX(referentes!$D$2:$E$17,MATCH(L107,referentes!E$2:E$17,0),1))","v":""},null,null,null,null,"","",null,null,null,"","","","","","","Sin especie"]
[null,{"$f":"IF(C108=\"\",\"\",IF(COUNTIF($C$3:C108, C108)>1, \"\", C108))","v":""},{"$f":"IF(G108=\"\",\"\",IF(F108=\"\",\"\",CONCATENATE(3,DIGITADOR!$M$1,G108,E108)))","v":""},"",{"$f":"IF(F108=\"\",\"\",VLOOKUP(F108,referentes!$T$2:$W$200,2,FALSE))","v":""},null,null,{"$f":"IF(I108=\"\", \"\", VLOOKUP(I108,referentes!$J$2:$Q$14,2,FALSE))","v":""},null,null,{"$f":"IF(L108=\"\", \"\", INDEX(referentes!$D$2:$E$17,MATCH(L108,referentes!E$2:E$17,0),1))","v":""},null,null,null,null,"","",null,null,null,"","","","","","","Sin especie"]
[null,{"$f":"IF(C109=\"\",\"\",IF(COUNTIF($C$3:C109, C109)>1, \"\", C109))","v":""},{"$f":"IF(G109=\"\",\"\",IF(F109=\"\",\"\",CONCATENATE(3,DIGITADOR!$M$1,G109,E109)))","v":""},"",{"$f":"IF(F109=\"\",\"\",VLOOKUP(F109,referentes!$T$2:$W$200,2,FALSE))","v":""},null,null,{"$f":"IF(I109=\"\", \"\", VLOOKUP(I109,referentes!$J$2:$Q$14,2,FALSE))","v":""},null,null,{"$f":"IF(L109=\"\", \"\", INDEX(referentes!$D$2:$E$17,MATCH(L109,referentes!E$2:E$17,0),1))","v":""},null,null,null,null,"","",null,null,null,"","","","","","","Sin especie"]
[null,{"$f":"IF(C110=\"\",\"\",IF(COUNTIF($C$3:C110, C110)>1, \"\", C110))","v":""},{"$f":"IF(G110=\"\",\"\",IF(F110=\"\",\"\",CONCATENATE(3,DIGITADOR!$M$1,G110,E110)))","v":""},"",{"$f":"IF(F110=\"\",\"\",VLOOKUP(F110,referentes!$T$2:$W$200,2,FALSE))","v":""},null,null,{"$f":"IF(I110=\"\", \"\", VLOOKUP(I110,referentes!$J$2:$Q$14,2,FALSE))","v":""},null,null,{"$f":"IF(L110=\"\", \"\", INDEX(referentes!$D$2:$E$17,MATCH(L110,referentes!E$2:E$17,0),1))","v":""},null,null,null,null,"","",null,null,null,"","","","","","","Sin especie"]
[null,{"$f":"IF(C111=\"\",\"\",IF(COUNTIF($C$3:C111, C111)>1, \"\", C111))","v":""},{"$f":"IF(G111=\"\",\"\",IF(F111=\"\",\"\",CONCATENATE(3,DIGITADOR!$M$1,G111,E111)))","v":""},"",{"$f":"IF(F111=\"\",\"\",VLOOKUP(F111,referentes!$T$2:$W$200,2,FALSE))","v":""},null,null,{"$f":"IF(I111=\"\", \"\", VLOOKUP(I111,referentes!$J$2:$Q$14,2,FALSE))","v":""},null,null,{"$f":"IF(L111=\"\", \"\", INDEX(referentes!$D$2:$E$17,MATCH(L111,referentes!E$2:E$17,0),1))","v":""},null,null,null,null,"","",null,null,null,"","","","","","","Sin especie"]
[null,{"$f":"IF(C112=\"\",\"\",IF(COUNTIF($C$3:C112, C112)>1, \"\", C112))","v":""},{"$f":"IF(G112=\"\",\"\",IF(F112=\"\",\"\",CONCATENATE(3,DIGITADOR!$M$1,G112,E112)))","v":""},"",{"$f":"IF(F112=\"\",\"\",VLOOKUP(F112,referentes!$T$2:$W$200,2,FALSE))","v":""},null,null,{"$f":"IF(I112=\"\", \"\", VLOOKUP(I112,referentes!$J$2:$Q$14,2,FALSE))","v":""},null,null,{"$f":"IF(L112=\"\", \"\", INDEX(referentes!$D$2:$E$17,MATCH(L112,referentes!E$2:E$17,0),1))","v":""},null,null,null,null,"","",null,null,null,"","","","","","","Sin especie"]
[null,{"$f":"IF(C113=\"\",\"\",IF(COUNTIF($C$3:C113, C113)>1, \"\", C113))","v":""},{"$f":"IF(G113=\"\",\"\",IF(F113=\"\",\"\",CONCATENATE(3,DIGITADOR!$M$1,G113,E113)))","v":""},"",{"$f":"IF(F113=\"\",\"\",VLOOKUP(F113,referentes!$T$2:$W$200,2,FALSE))","v":""},null,null,{"$f":"IF(I113=\"\", \"\", VLOOKUP(I113,referentes!$J$2:$Q$14,2,FALSE))","v":""},null,null,{"$f":"IF(L113=\"\", \"\", INDEX(referentes!$D$2:$E$17,MATCH(L113,referentes!E$2:E$17,0),1))","v":""},null,null,null,null,"","",null,null,null,"","","","","","","Sin especie"]
[null,{"$f":"IF(C114=\"\",\"\",IF(COUNTIF($C$3:C114, C114)>1, \"\", C114))","v":""},{"$f":"IF(G114=\"\",\"\",IF(F114=\"\",\"\",CONCATENATE(3,DIGITADOR!$M$1,G114,E114)))","v":""},"",{"$f":"IF(F114=\"\",\"\",VLOOKUP(F114,referentes!$T$2:$W$200,2,FALSE))","v":""},null,null,{"$f":"IF(I114=\"\", \"\", VLOOKUP(I114,referentes!$J$2:$Q$14,2,FALSE))","v":""},null,null,{"$f":"IF(L114=\"\", \"\", INDEX(referentes!$D$2:$E$17,MATCH(L114,referentes!E$2:E$17,0),1))","v":""},null,null,null,null,"","",null,null,null,"","","","","","","Sin especie"]
[null,{"$f":"IF(C115=\"\",\"\",IF(COUNTIF($C$3:C115, C115)>1, \"\", C115))","v":""},{"$f":"IF(G115=\"\",\"\",IF(F115=\"\",\"\",CONCATENATE(3,DIGITADOR!$M$1,G115,E115)))","v":""},"",{"$f":"IF(F115=\"\",\"\",VLOOKUP(F115,referentes!$T$2:$W$200,2,FALSE))","v":""},null,null,{"$f":"IF(I115=\"\", \"\", VLOOKUP(I115,referentes!$J$2:$Q$14,2,FALSE))","v":""},null,null,{"$f":"IF(L115=\"\", \"\", INDEX(referentes!$D$2:$E$17,MATCH(L115,referentes!E$2:E$17,0),1))","v":""},null,null,null,null,"","",null,null,null,"","","","","","","Sin especie"]
[null,{"$f":"IF(C116=\"\",\"\",IF(COUNTIF($C$3:C116, C116)>1, \"\", C116))","v":""},{"$f":"IF(G116=\"\",\"\",IF(F116=\"\",\"\",CONCATENATE(3,DIGITADOR!$M$1,G116,E116)))","v":""},"",{"$f":"IF(F116=\"\",\"\",VLOOKUP(F116,referentes!$T$2:$W$200,2,FALSE))","v":""},null,null,{"$f":"IF(I116=\"\", \"\", VLOOKUP(I116,referentes!$J$2:$Q$14,2,FALSE))","v":""},null,null,{"$f":"IF(L116=\"\", \"\", INDEX(referentes!$D$2:$E$17,MATCH(L116,referentes!E$2:E$17,0),1))","v":""},null,null,null,null,"","",null,null,null,"","","","","","","Sin especie"]
[null,{"$f":"IF(C117=\"\",\"\",IF(COUNTIF($C$3:C117, C117)>1, \"\", C117))","v":""},{"$f":"IF(G117=\"\",\"\",IF(F117=\"\",\"\",CONCATENATE(3,DIGITADOR!$M$1,G117,E117)))","v":""},"",{"$f":"IF(F117=\"\",\"\",VLOOKUP(F117,referentes!$T$2:$W$200,2,FALSE))","v":""},null,null,{"$f":"IF(I117=\"\", \"\", VLOOKUP(I117,referentes!$J$2:$Q$14,2,FALSE))","v":""},null,null,{"$f":"IF(L117=\"\", \"\", INDEX(referentes!$D$2:$E$17,MATCH(L117,referentes!E$2:E$17,0),1))","v":""},null,null,null,null,"","",null,null,null,"","","","","","","Sin especie"]
[null,{"$f":"IF(C118=\"\",\"\",IF(COUNTIF($C$3:C118, C118)>1, \"\", C118))","v":""},{"$f":"IF(G118=\"\",\"\",IF(F118=\"\",\"\",CONCATENATE(3,DIGITADOR!$M$1,G118,E118)))","v":""},"",{"$f":"IF(F118=\"\",\"\",VLOOKUP(F118,referentes!$T$2:$W$200,2,FALSE))","v":""},null,null,{"$f":"IF(I118=\"\", \"\", VLOOKUP(I118,referentes!$J$2:$Q$14,2,FALSE))","v":""},null,null,{"$f":"IF(L118=\"\", \"\", INDEX(referentes!$D$2:$E$17,MATCH(L118,referentes!E$2:E$17,0),1))","v":""},null,null,null,null,"","",null,null,null,"","","","","","","Sin especie"]
[null,{"$f":"IF(C119=\"\",\"\",IF(COUNTIF($C$3:C119, C119)>1, \"\", C119))","v":""},{"$f":"IF(G119=\"\",\"\",IF(F119=\"\",\"\",CONCATENATE(3,DIGITADOR!$M$1,G119,E119)))","v":""},"",{"$f":"IF(F119=\"\",\"\",VLOOKUP(F119,referentes!$T$2:$W$200,2,FALSE))","v":""},null,null,{"$f":"IF(I119=\"\", \"\", VLOOKUP(I119,referentes!$J$2:$Q$14,2,FALSE))","v":""},null,null,{"$f":"IF(L119=\"\", \"\", INDEX(referentes!$D$2:$E$17,MATCH(L119,referentes!E$2:E$17,0),1))","v":""},null,null,null,null,"","",null,null,null,"","","","","","","Sin especie"]
[null,{"$f":"IF(C120=\"\",\"\",IF(COUNTIF($C$3:C120, C120)>1, \"\", C120))","v":""},{"$f":"IF(G120=\"\",\"\",IF(F120=\"\",\"\",CONCATENATE(3,DIGITADOR!$M$1,G120,E120)))","v":""},"",{"$f":"IF(F120=\"\",\"\",VLOOKUP(F120,referentes!$T$2:$W$200,2,FALSE))","v":""},null,null,{"$f":"IF(I120=\"\", \"\", VLOOKUP(I120,referentes!$J$2:$Q$14,2,FALSE))","v":""},null,null,{"$f":"IF(L120=\"\", \"\", INDEX(referentes!$D$2:$E$17,MATCH(L120,referentes!E$2:E$17,0),1))","v":""},null,null,null,null,"","",null,null,null,"","","","","","","Sin especie"]
[null,{"$f":"IF(C121=\"\",\"\",IF(COUNTIF($C$3:C121, C121)>1, \"\", C121))","v":""},{"$f":"IF(G121=\"\",\"\",IF(F121=\"\",\"\",CONCATENATE(3,DIGITADOR!$M$1,G121,E121)))","v":""},"",{"$f":"IF(F121=\"\",\"\",VLOOKUP(F121,referentes!$T$2:$W$200,2,FALSE))","v":""},null,null,{"$f":"IF(I121=\"\", \"\", VLOOKUP(I121,referentes!$J$2:$Q$14,2,FALSE))","v":""},null,null,{"$f":"IF(L121=\"\", \"\", INDEX(referentes!$D$2:$E$17,MATCH(L121,referentes!E$2:E$17,0),1))","v":""},null,null,null,null,"","",null,null,null,"","","","","","","Sin especie"]
[null,{"$f":"IF(C122=\"\",\"\",IF(COUNTIF($C$3:C122, C122)>1, \"\", C122))","v":""},{"$f":"IF(G122=\"\",\"\",IF(F122=\"\",\"\",CONCATENATE(3,DIGITADOR!$M$1,G122,E122)))","v":""},"",{"$f":"IF(F122=\"\",\"\",VLOOKUP(F122,referentes!$T$2:$W$200,2,FALSE))","v":""},null,null,{"$f":"IF(I122=\"\", \"\", VLOOKUP(I122,referentes!$J$2:$Q$14,2,FALSE))","v":""},null,null,{"$f":"IF(L122=\"\", \"\", INDEX(referentes!$D$2:$E$17,MATCH(L122,referentes!E$2:E$17,0),1))","v":""},null,null,null,null,"","",null,null,null,"","","","","","","Sin especie"]
[null,{"$f":"IF(C123=\"\",\"\",IF(COUNTIF($C$3:C123, C123)>1, \"\", C123))","v":""},{"$f":"IF(G123=\"\",\"\",IF(F123=\"\",\"\",CONCATENATE(3,DIGITADOR!$M$1,G123,E123)))","v":""},"",{"$f":"IF(F123=\"\",\"\",VLOOKUP(F123,referentes!$T$2:$W$200,2,FALSE))","v":""},null,null,{"$f":"IF(I123=\"\", \"\", VLOOKUP(I123,referentes!$J$2:$Q$14,2,FALSE))","v":""},null,null,{"$f":"IF(L123=\"\", \"\", INDEX(referentes!$D$2:$E$17,MATCH(L123,referentes!E$2:E$17,0),1))","v":""},null,null,null,null,"","",null,null,null,"","","","","","","Sin especie"]
[null,{"$f":"IF(C124=\"\",\"\",IF(COUNTIF($C$3:C124, C124)>1, \"\", C124))","v":""},{"$f":"IF(G124=\"\",\"\",IF(F124=\"\",\"\",CONCATENATE(3,DIGITADOR!$M$1,G124,E124)))","v":""},"",{"$f":"IF(F124=\"\",\"\",VLOOKUP(F124,referentes!$T$2:$W$200,2,FALSE))","v":""},null,null,{"$f":"IF(I124=\"\", \"\", VLOOKUP(I124,referentes!$J$2:$Q$14,2,FALSE))","v":""},null,null,{"$f":"IF(L124=\"\", \"\", INDEX(referentes!$D$2:$E$17,MATCH(L124,referentes!E$2:E$17,0),1))","v":""},null,null,null,null,"","",null,null,null,"","","","","","","Sin especie"]
[null,{"$f":"IF(C125=\"\",\"\",IF(COUNTIF($C$3:C125, C125)>1, \"\", C125))","v":""},{"$f":"IF(G125=\"\",\"\",IF(F125=\"\",\"\",CONCATENATE(3,DIGITADOR!$M$1,G125,E125)))","v":""},"",{"$f":"IF(F125=\"\",\"\",VLOOKUP(F125,referentes!$T$2:$W$200,2,FALSE))","v":""},null,null,{"$f":"IF(I125=\"\", \"\", VLOOKUP(I125,referentes!$J$2:$Q$14,2,FALSE))","v":""},null,null,{"$f":"IF(L125=\"\", \"\", INDEX(referentes!$D$2:$E$17,MATCH(L125,referentes!E$2:E$17,0),1))","v":""},null,null,null,null,"","",null,null,null,"","","","","","","Sin especie"]
[null,{"$f":"IF(C126=\"\",\"\",IF(COUNTIF($C$3:C126, C126)>1, \"\", C126))","v":""},{"$f":"IF(G126=\"\",\"\",IF(F126=\"\",\"\",CONCATENATE(3,DIGITADOR!$M$1,G126,E126)))","v":""},"",{"$f":"IF(F126=\"\",\"\",VLOOKUP(F126,referentes!$T$2:$W$200,2,FALSE))","v":""},null,null,{"$f":"IF(I126=\"\", \"\", VLOOKUP(I126,referentes!$J$2:$Q$14,2,FALSE))","v":""},null,null,{"$f":"IF(L126=\"\", \"\", INDEX(referentes!$D$2:$E$17,MATCH(L126,referentes!E$2:E$17,0),1))","v":""},null,null,null,null,"","",null,null,null,"","","","","","","Sin especie"]
[null,{"$f":"IF(C127=\"\",\"\",IF(COUNTIF($C$3:C127, C127)>1, \"\", C127))","v":""},{"$f":"IF(G127=\"\",\"\",IF(F127=\"\",\"\",CONCATENATE(3,DIGITADOR!$M$1,G127,E127)))","v":""},"",{"$f":"IF(F127=\"\",\"\",VLOOKUP(F127,referentes!$T$2:$W$200,2,FALSE))","v":""},null,null,{"$f":"IF(I127=\"\", \"\", VLOOKUP(I127,referentes!$J$2:$Q$14,2,FALSE))","v":""},null,null,{"$f":"IF(L127=\"\", \"\", INDEX(referentes!$D$2:$E$17,MATCH(L127,referentes!E$2:E$17,0),1))","v":""},null,null,null,null,"","",null,null,null,"","","","","","","Sin especie"]
[null,{"$f":"IF(C128=\"\",\"\",IF(COUNTIF($C$3:C128, C128)>1, \"\", C128))","v":""},{"$f":"IF(G128=\"\",\"\",IF(F128=\"\",\"\",CONCATENATE(3,DIGITADOR!$M$1,G128,E128)))","v":""},"",{"$f":"IF(F128=\"\",\"\",VLOOKUP(F128,referentes!$T$2:$W$200,2,FALSE))","v":""},null,null,{"$f":"IF(I128=\"\", \"\", VLOOKUP(I128,referentes!$J$2:$Q$14,2,FALSE))","v":""},null,null,{"$f":"IF(L128=\"\", \"\", INDEX(referentes!$D$2:$E$17,MATCH(L128,referentes!E$2:E$17,0),1))","v":""},null,null,null,null,"","",null,null,null,"","","","","","","Sin especie"]
[null,{"$f":"IF(C129=\"\",\"\",IF(COUNTIF($C$3:C129, C129)>1, \"\", C129))","v":""},{"$f":"IF(G129=\"\",\"\",IF(F129=\"\",\"\",CONCATENATE(3,DIGITADOR!$M$1,G129,E129)))","v":""},"",{"$f":"IF(F129=\"\",\"\",VLOOKUP(F129,referentes!$T$2:$W$200,2,FALSE))","v":""},null,null,{"$f":"IF(I129=\"\", \"\", VLOOKUP(I129,referentes!$J$2:$Q$14,2,FALSE))","v":""},null,null,{"$f":"IF(L129=\"\", \"\", INDEX(referentes!$D$2:$E$17,MATCH(L129,referentes!E$2:E$17,0),1))","v":""},null,null,null,null,"","",null,null,null,"","","","","","","Sin especie"]
[null,{"$f":"IF(C130=\"\",\"\",IF(COUNTIF($C$3:C130, C130)>1, \"\", C130))","v":""},{"$f":"IF(G130=\"\",\"\",IF(F130=\"\",\"\",CONCATENATE(3,DIGITADOR!$M$1,G130,E130)))","v":""},"",{"$f":"IF(F130=\"\",\"\",VLOOKUP(F130,referentes!$T$2:$W$200,2,FALSE))","v":""},null,null,{"$f":"IF(I130=\"\", \"\", VLOOKUP(I130,referentes!$J$2:$Q$14,2,FALSE))","v":""},null,null,{"$f":"IF(L130=\"\", \"\", INDEX(referentes!$D$2:$E$17,MATCH(L130,referentes!E$2:E$17,0),1))","v":""},null,null,null,null,"","",null,null,null,"","","","","","","Sin especie"]
[null,{"$f":"IF(C131=\"\",\"\",IF(COUNTIF($C$3:C131, C131)>1, \"\", C131))","v":""},{"$f":"IF(G131=\"\",\"\",IF(F131=\"\",\"\",CONCATENATE(3,DIGITADOR!$M$1,G131,E131)))","v":""},"",{"$f":"IF(F131=\"\",\"\",VLOOKUP(F131,referentes!$T$2:$W$200,2,FALSE))","v":""},null,null,{"$f":"IF(I131=\"\", \"\", VLOOKUP(I131,referentes!$J$2:$Q$14,2,FALSE))","v":""},null,null,{"$f":"IF(L131=\"\", \"\", INDEX(referentes!$D$2:$E$17,MATCH(L131,referentes!E$2:E$17,0),1))","v":""},null,null,null,null,"","",null,null,null,"","","","","","","Sin especie"]
[null,{"$f":"IF(C132=\"\",\"\",IF(COUNTIF($C$3:C132, C132)>1, \"\", C132))","v":""},{"$f":"IF(G132=\"\",\"\",IF(F132=\"\",\"\",CONCATENATE(3,DIGITADOR!$M$1,G132,E132)))","v":""},{"$f":"IF(C132=\"\",\"\",CONCATENATE(C132,ROW()-2))","v":""},{"$f":"IF(F132=\"\",\"\",VLOOKUP(F132,referentes!$T$2:$W$200,2,FALSE))","v":""},null,null,{"$f":"IF(I132=\"\", \"\", VLOOKUP(I132,referentes!$J$2:$Q$14,2,FALSE))","v":""},null,null,{"$f":"IF(L132=\"\", \"\", INDEX(referentes!$D$2:$E$17,MATCH(L132,referentes!E$2:E$17,0),1))","v":""},null,null,null,null,{"$f":"IF(O132=\"\",\"\", ROUND(O132/100, 4))","v":""},{"$f":"IF(P132=\"\",\"\", ROUND(P132^2, 4))","v":""},null,null,null,{"$f":"IF(R132=\"\", \"\", IF(R132=20, IF(S132<>\"\", ROUND(S132/R132, 6), \"\"), ROUND(20/(R132-0.5), 6)))","v":""},{"$f":"IF(U132=\"\", \"\", IF(U132 < 1, 0, 1))","v":""},{"$f":"IF(OR(M132=\"\",Q132=\"\"), \"\", ROUND((PI()/4)*Q132*M132, 6))","v":""},{"$f":"IF(AND(U132=\"\",V132=\"\"),\"\",ROUND(IF(V132=0,0.6451-0.388*(LOG10(U132))-0.377*V132+0.3*(LOG10(U132))*V132, 0.6451-0.388*(LOG10(U132))-0.377*V132+0.3*(LOG10(U132))), 6))","v":""},{"$f":"IF(X132=\"\",\"\", ROUND((X132*1000000/1000), 6))","v":""},{"$f":"IF(OR(W132=\"\",Y132=\"\"), \"\", ROUND(W132*Y132, 6))","v":""},"Sin especie"]
[null,{"$f":"IF(C133=\"\",\"\",IF(COUNTIF($C$3:C133, C133)>1, \"\", C133))","v":""},{"$f":"IF(G133=\"\",\"\",IF(F133=\"\",\"\",CONCATENATE(3,DIGITADOR!$M$1,G133,E133)))","v":""},"",{"$f":"IF(F133=\"\",\"\",VLOOKUP(F133,referentes!$T$2:$W$200,2,FALSE))","v":""},null,null,{"$f":"IF(I133=\"\", \"\", VLOOKUP(I133,referentes!$J$2:$Q$14,2,FALSE))","v":""},null,null,{"$f":"IF(L133=\"\", \"\", INDEX(referentes!$D$2:$E$17,MATCH(L133,referentes!E$2:E$17,0),1))","v":""},null,null,null,null,"","",null,null,null,"","","","","","","Sin especie"]
[null,{"$f":"IF(C134=\"\",\"\",IF(COUNTIF($C$3:C134, C134)>1, \"\", C134))","v":""},{"$f":"IF(G134=\"\",\"\",IF(F134=\"\",\"\",CONCATENATE(3,DIGITADOR!$M$1,G134,E134)))","v":""},"",{"$f":"IF(F134=\"\",\"\",VLOOKUP(F134,referentes!$T$2:$W$200,2,FALSE))","v":""},null,null,{"$f":"IF(I134=\"\", \"\", VLOOKUP(I134,referentes!$J$2:$Q$14,2,FALSE))","v":""},null,null,{"$f":"IF(L134=\"\", \"\", INDEX(referentes!$D$2:$E$17,MATCH(L134,referentes!E$2:E$17,0),1))","v":""},null,null,null,null,"","",null,null,null,"","","","","",""]
[null,{"$f":"IF(C135=\"\",\"\",IF(COUNTIF($C$3:C135, C135)>1, \"\", C135))","v":""},{"$f":"IF(G135=\"\",\"\",IF(F135=\"\",\"\",CONCATENATE(3,DIGITADOR!$M$1,G135,E135)))","v":""},"",{"$f":"IF(F135=\"\",\"\",VLOOKUP(F135,referentes!$T$2:$W$200,2,FALSE))","v":""},null,null,{"$f":"IF(I135=\"\", \"\", VLOOKUP(I135,referentes!$J$2:$Q$14,2,FALSE))","v":""},null,null,{"$f":"IF(L135=\"\", \"\", INDEX(referentes!$D$2:$E$17,MATCH(L135,referentes!E$2:E$17,0),1))","v":""},null,null,null,null,"","",null,null,null,"","","","","",""]
[null,{"$f":"IF(C136=\"\",\"\",IF(COUNTIF($C$3:C136, C136)>1, \"\", C136))","v":""},{"$f":"IF(G136=\"\",\"\",IF(F136=\"\",\"\",CONCATENATE(3,DIGITADOR!$M$1,G136,E136)))","v":""},"",{"$f":"IF(F136=\"\",\"\",VLOOKUP(F136,referentes!$T$2:$W$200,2,FALSE))","v":""},null,null,{"$f":"IF(I136=\"\", \"\", VLOOKUP(I136,referentes!$J$2:$Q$14,2,FALSE))","v":""},null,null,{"$f":"IF(L136=\"\", \"\", INDEX(referentes!$D$2:$E$17,MATCH(L136,referentes!E$2:E$17,0),1))","v":""},null,null,null,null,"","",null,null,null,"","","","","",""]
[null,{"$f":"IF(C137=\"\",\"\",IF(COUNTIF($C$3:C137, C137)>1, \"\", C137))","v":""},{"$f":"IF(G137=\"\",\"\",IF(F137=\"\",\"\",CONCATENATE(3,DIGITADOR!$M$1,G137,E137)))","v":""},"",{"$f":"IF(F137=\"\",\"\",VLOOKUP(F137,referentes!$T$2:$W$200,2,FALSE))","v":""},null,null,{"$f":"IF(I137=\"\", \"\", VLOOKUP(I137,referentes!$J$2:$Q$14,2,FALSE))","v":""},null,null,{"$f":"IF(L137=\"\", \"\", INDEX(referentes!$D$2:$E$17,MATCH(L137,referentes!E$2:E$17,0),1))","v":""},null,null,null,null,"","",null,null,null,"","","","","",""]
[null,{"$f":"IF(C138=\"\",\"\",IF(COUNTIF($C$3:C138, C138)>1, \"\", C138))","v":""},{"$f":"IF(G138=\"\",\"\",IF(F138=\"\",\"\",CONCATENATE(3,DIGITADOR!$M$1,G138,E138)))","v":""},"",{"$f":"IF(F138=\"\",\"\",VLOOKUP(F138,referentes!$T$2:$W$200,2,FALSE))","v":""},null,null,{"$f":"IF(I138=\"\", \"\", VLOOKUP(I138,referentes!$J$2:$Q$14,2,FALSE))","v":""},null,null,{"$f":"IF(L138=\"\", \"\", INDEX(referentes!$D$2:$E$17,MATCH(L138,referentes!E$2:E$17,0),1))","v":""},null,null,null,null,"","",null,null,null,"","","","","",""]
[null,{"$f":"IF(C139=\"\",\"\",IF(COUNTIF($C$3:C139, C139)>1, \"\", C139))","v":""},{"$f":"IF(G139=\"\",\"\",IF(F139=\"\",\"\",CONCATENATE(3,DIGITADOR!$M$1,G139,E139)))","v":""},"",{"$f":"IF(F139=\"\",\"\",VLOOKUP(F139,referentes!$T$2:$W$200,2,FALSE))","v":""},null,null,{"$f":"IF(I139=\"\", \"\", VLOOKUP(I139,referentes!$J$2:$Q$14,2,FALSE))","v":""},null,null,{"$f":"IF(L139=\"\", \"\", INDEX(referentes!$D$2:$E$17,MATCH(L139,referentes!E$2:E$17,0),1))","v":""},null,null,null,null,"","",null,null,null,"","","","","",""]
[null,{"$f":"IF(C140=\"\",\"\",IF(COUNTIF($C$3:C140, C140)>1, \"\", C140))","v":""},{"$f":"IF(G140=\"\",\"\",IF(F140=\"\",\"\",CONCATENATE(3,DIGITADOR!$M$1,G140,E140)))","v":""},"",{"$f":"IF(F140=\"\",\"\",VLOOKUP(F140,referentes!$T$2:$W$200,2,FALSE))","v":""},null,null,{"$f":"IF(I140=\"\", \"\", VLOOKUP(I140,referentes!$J$2:$Q$14,2,FALSE))","v":""},null,null,{"$f":"IF(L140=\"\", \"\", INDEX(referentes!$D$2:$E$17,MATCH(L140,referentes!E$2:E$17,0),1))","v":""},null,null,null,null,"","",null,null,null,"","","","","",""]
[null,{"$f":"IF(C141=\"\",\"\",IF(COUNTIF($C$3:C141, C141)>1, \"\", C141))","v":""},{"$f":"IF(G141=\"\",\"\",IF(F141=\"\",\"\",CONCATENATE(3,DIGITADOR!$M$1,G141,E141)))","v":""},"",{"$f":"IF(F141=\"\",\"\",VLOOKUP(F141,referentes!$T$2:$W$200,2,FALSE))","v":""},null,null,{"$f":"IF(I141=\"\", \"\", VLOOKUP(I141,referentes!$J$2:$Q$14,2,FALSE))","v":""},null,null,{"$f":"IF(L141=\"\", \"\", INDEX(referentes!$D$2:$E$17,MATCH(L141,referentes!E$2:E$17,0),1))","v":""},null,null,null,null,"","",null,null,null,"","","","","",""]
[null,{"$f":"IF(C142=\"\",\"\",IF(COUNTIF($C$3:C142, C142)>1, \"\", C142))","v":""},{"$f":"IF(G142=\"\",\"\",IF(F142=\"\",\"\",CONCATENATE(3,DIGITADOR!$M$1,G142,E142)))","v":""},"",{"$f":"IF(F142=\"\",\"\",VLOOKUP(F142,referentes!$T$2:$W$200,2,FALSE))","v":""},null,null,{"$f":"IF(I142=\"\", \"\", VLOOKUP(I142,referentes!$J$2:$Q$14,2,FALSE))","v":""},null,null,{"$f":"IF(L142=\"\", \"\", INDEX(referentes!$D$2:$E$17,MATCH(L142,referentes!E$2:E$17,0),1))","v":""},null,null,null,null,"","",null,null,null,"","","","","",""]
[null,{"$f":"IF(C143=\"\",\"\",IF(COUNTIF($C$3:C143, C143)>1, \"\", C143))","v":""},{"$f":"IF(G143=\"\",\"\",IF(F143=\"\",\"\",CONCATENATE(3,DIGITADOR!$M$1,G143,E143)))","v":""},"",{"$f":"IF(F143=\"\",\"\",VLOOKUP(F143,referentes!$T$2:$W$200,2,FALSE))","v":""},null,null,{"$f":"IF(I143=\"\", \"\", VLOOKUP(I143,referentes!$J$2:$Q$14,2,FALSE))","v":""},null,null,{"$f":"IF(L143=\"\", \"\", INDEX(referentes!$D$2:$E$17,MATCH(L143,referentes!E$2:E$17,0),1))","v":""},null,null,null,null,"","",null,null,null,"","","","","",""]
[null,{"$f":"IF(C144=\"\",\"\",IF(COUNTIF($C$3:C144, C144)>1, \"\", C144))","v":""},{"$f":"IF(G144=\"\",\"\",IF(F144=\"\",\"\",CONCATENATE(3,DIGITADOR!$M$1,G144,E144)))","v":""},"",{"$f":"IF(F144=\"\",\"\",VLOOKUP(F144,referentes!$T$2:$W$200,2,FALSE))","v":""},null,null,{"$f":"IF(I144=\"\", \"\", VLOOKUP(I144,referentes!$J$2:$Q$14,2,FALSE))","v":""},null,null,{"$f":"IF(L144=\"\", \"\", INDEX(referentes!$D$2:$E$17,MATCH(L144,referentes!E$2:E$17,0),1))","v":""},null,null,null,null,"","",null,null,null,"","","","","",""]
[null,{"$f":"IF(C145=\"\",\"\",IF(COUNTIF($C$3:C145, C145)>1, \"\", C145))","v":""},{"$f":"IF(G145=\"\",\"\",IF(F145=\"\",\"\",CONCATENATE(3,DIGITADOR!$M$1,G145,E145)))","v":""},"",{"$f":"IF(F145=\"\",\"\",VLOOKUP(F145,referentes!$T$2:$W$200,2,FALSE))","v":""},null,null,{"$f":"IF(I145=\"\", \"\", VLOOKUP(I145,referentes!$J$2:$Q$14,2,FALSE))","v":""},null,null,{"$f":"IF(L145=\"\", \"\", INDEX(referentes!$D$2:$E$17,MATCH(L145,referentes!E$2:E$17,0),1))","v":""},null,null,null,null,"","",null,null,null,"","","","","",""]
[null,{"$f":"IF(C146=\"\",\"\",IF(COUNTIF($C$3:C146, C146)>1, \"\", C146))","v":""},{"$f":"IF(G146=\"\",\"\",IF(F146=\"\",\"\",CONCATENATE(3,DIGITADOR!$M$1,G146,E146)))","v":""},"",{"$f":"IF(F146=\"\",\"\",VLOOKUP(F146,referentes!$T$2:$W$200,2,FALSE))","v":""},null,null,{"$f":"IF(I146=\"\", \"\", VLOOKUP(I146,referentes!$J$2:$Q$14,2,FALSE))","v":""},null,null,{"$f":"IF(L146=\"\", \"\", INDEX(referentes!$D$2:$E$17,MATCH(L146,referentes!E$2:E$17,0),1))","v":""},null,null,null,null,"","",null,null,null,"","","","","",""]
[null,{"$f":"IF(C147=\"\",\"\",IF(COUNTIF($C$3:C147, C147)>1, \"\", C147))","v":""},{"$f":"IF(G147=\"\",\"\",IF(F147=\"\",\"\",CONCATENATE(3,DIGITADOR!$M$1,G147,E147)))","v":""},"",{"$f":"IF(F147=\"\",\"\",VLOOKUP(F147,referentes!$T$2:$W$200,2,FALSE))","v":""},null,null,{"$f":"IF(I147=\"\", \"\", VLOOKUP(I147,referentes!$J$2:$Q$14,2,FALSE))","v":""},null,null,{"$f":"IF(L147=\"\", \"\", INDEX(referentes!$D$2:$E$17,MATCH(L147,referentes!E$2:E$17,0),1))","v":""},null,null,null,null,"","",null,null,null,"","","","","",""]
[null,{"$f":"IF(C148=\"\",\"\",IF(COUNTIF($C$3:C148, C148)>1, \"\", C148))","v":""},{"$f":"IF(G148=\"\",\"\",IF(F148=\"\",\"\",CONCATENATE(3,DIGITADOR!$M$1,G148,E148)))","v":""},"",{"$f":"IF(F148=\"\",\"\",VLOOKUP(F148,referentes!$T$2:$W$200,2,FALSE))","v":""},null,null,{"$f":"IF(I148=\"\", \"\", VLOOKUP(I148,referentes!$J$2:$Q$14,2,FALSE))","v":""},null,null,{"$f":"IF(L148=\"\", \"\", INDEX(referentes!$D$2:$E$17,MATCH(L148,referentes!E$2:E$17,0),1))","v":""},null,null,null,null,"","",null,null,null,"","","","","",""]
[null,{"$f":"IF(C149=\"\",\"\",IF(COUNTIF($C$3:C149, C149)>1, \"\", C149))","v":""},{"$f":"IF(G149=\"\",\"\",IF(F149=\"\",\"\",CONCATENATE(3,DIGITADOR!$M$1,G149,E149)))","v":""},"",{"$f":"IF(F149=\"\",\"\",VLOOKUP(F149,referentes!$T$2:$W$200,2,FALSE))","v":""},null,null,{"$f":"IF(I149=\"\", \"\", VLOOKUP(I149,referentes!$J$2:$Q$14,2,FALSE))","v":""},null,null,{"$f":"IF(L149=\"\", \"\", INDEX(referentes!$D$2:$E$17,MATCH(L149,referentes!E$2:E$17,0),1))","v":""},null,null,null,null,"","",null,null,null,"","","","","",""]
[null,{"$f":"IF(C150=\"\",\"\",IF(COUNTIF($C$3:C150, C150)>1, \"\", C150))","v":""},{"$f":"IF(G150=\"\",\"\",IF(F150=\"\",\"\",CONCATENATE(3,DIGITADOR!$M$1,G150,E150)))","v":""},"",{"$f":"IF(F150=\"\",\"\",VLOOKUP(F150,referentes!$T$2:$W$200,2,FALSE))","v":""},null,null,{"$f":"IF(I150=\"\", \"\", VLOOKUP(I150,referentes!$J$2:$Q$14,2,FALSE))","v":""},null,null,{"$f":"IF(L150=\"\", \"\", INDEX(referentes!$D$2:$E$17,MATCH(L150,referentes!E$2:E$17,0),1))","v":""},null,null,null,null,"","",null,null,null,"","","","","",""]
[null,{"$f":"IF(C151=\"\",\"\",IF(COUNTIF($C$3:C151, C151)>1, \"\", C151))","v":""},{"$f":"IF(G151=\"\",\"\",IF(F151=\"\",\"\",CONCATENATE(3,DIGITADOR!$M$1,G151,E151)))","v":""},"",{"$f":"IF(F151=\"\",\"\",VLOOKUP(F151,referentes!$T$2:$W$200,2,FALSE))","v":""},null,null,{"$f":"IF(I151=\"\", \"\", VLOOKUP(I151,referentes!$J$2:$Q$14,2,FALSE))","v":""},null,null,{"$f":"IF(L151=\"\", \"\", INDEX(referentes!$D$2:$E$17,MATCH(L151,referentes!E$2:E$17,0),1))","v":""},null,null,null,null,"","",null,null,null,"","","","","",""]
[null,{"$f":"IF(C152=\"\",\"\",IF(COUNTIF($C$3:C152, C152)>1, \"\", C152))","v":""},{"$f":"IF(G152=\"\",\"\",IF(F152=\"\",\"\",CONCATENATE(3,DIGITADOR!$M$1,G152,E152)))","v":""},"",{"$f":"IF(F152=\"\",\"\",VLOOKUP(F152,referentes!$T$2:$W$200,2,FALSE))","v":""},null,null,{"$f":"IF(I152=\"\", \"\", VLOOKUP(I152,referentes!$J$2:$Q$14,2,FALSE))","v":""},null,null,{"$f":"IF(L152=\"\", \"\", INDEX(referentes!$D$2:$E$17,MATCH(L152,referentes!E$2:E$17,0),1))","v":""},null,null,null,null,"","",null,null,null,"","","","","",""]
[null,{"$f":"IF(C153=\"\",\"\",IF(COUNTIF($C$3:C153, C153)>1, \"\", C153))","v":""},{"$f":"IF(G153=\"\",\"\",IF(F153=\"\",\"\",CONCATENATE(3,DIGITADOR!$M$1,G153,E153)))","v":""},"",{"$f":"IF(F153=\"\",\"\",VLOOKUP(F153,referentes!$T$2:$W$200,2,FALSE))","v":""},null,null,{"$f":"IF(I153=\"\", \"\", VLOOKUP(I153,referentes!$J$2:$Q$14,2,FALSE))","v":""},null,null,{"$f":"IF(L153=\"\", \"\", INDEX(referentes!$D$2:$E$17,MATCH(L153,referentes!E$2:E$17,0),1))","v":""},null,null,null,null,"","",null,null,null,"","","","","",""]
[null,{"$f":"IF(C154=\"\",\"\",IF(COUNTIF($C$3:C154, C154)>1, \"\", C154))","v":""},{"$f":"IF(G154=\"\",\"\",IF(F154=\"\",\"\",CONCATENATE(3,DIGITADOR!$M$1,G154,E154)))","v":""},"",{"$f":"IF(F154=\"\",\"\",VLOOKUP(F154,referentes!$T$2:$W$200,2,FALSE))","v":""},null,null,{"$f":"IF(I154=\"\", \"\", VLOOKUP(I154,referentes!$J$2:$Q$14,2,FALSE))","v":""},null,null,{"$f":"IF(L154=\"\", \"\", INDEX(referentes!$D$2:$E$17,MATCH(L154,referentes!E$2:E$17,0),1))","v":""},null,null,null,null,"","",null,null,null,"","","","","",""]
[null,{"$f":"IF(C155=\"\",\"\",IF(COUNTIF($C$3:C155, C155)>1, \"\", C155))","v":""},{"$f":"IF(G155=\"\",\"\",IF(F155=\"\",\"\",CONCATENATE(3,DIGITADOR!$M$1,G155,E155)))","v":""},"",{"$f":"IF(F155=\"\",\"\",VLOOKUP(F155,referentes!$T$2:$W$200,2,FALSE))","v":""},null,null,{"$f":"IF(I155=\"\", \"\", VLOOKUP(I155,referentes!$J$2:$Q$14,2,FALSE))","v":""},null,null,{"$f":"IF(L155=\"\", \"\", INDEX(referentes!$D$2:$E$17,MATCH(L155,referentes!E$2:E$17,0),1))","v":""},null,null,null,null,"","",null,null,null,"","","","","",""]
[null,{"$f":"IF(C156=\"\",\"\",IF(COUNTIF($C$3:C156, C156)>1, \"\", C156))","v":""},{"$f":"IF(G156=\"\",\"\",IF(F156=\"\",\"\",CONCATENATE(3,DIGITADOR!$M$1,G156,E156)))","v":""},"",{"$f":"IF(F156=\"\",\"\",VLOOKUP(F156,referentes!$T$2:$W$200,2,FALSE))","v":""},null,null,{"$f":"IF(I156=\"\", \"\", VLOOKUP(I156,referentes!$J$2:$Q$14,2,FALSE))","v":""},null,null,{"$f":"IF(L156=\"\", \"\", INDEX(referentes!$D$2:$E$17,MATCH(L156,referentes!E$2:E$17,0),1))","v":""},null,null,null,null,"","",null,null,null,"","","","","",""]
[null,{"$f":"IF(C157=\"\",\"\",IF(COUNTIF($C$3:C157, C157)>1, \"\", C157))","v":""},{"$f":"IF(G157=\"\",\"\",IF(F157=\"\",\"\",CONCATENATE(3,DIGITADOR!$M$1,G157,E157)))","v":""},"",{"$f":"IF(F157=\"\",\"\",VLOOKUP(F157,referentes!$T$2:$W$200,2,FALSE))","v":""},null,null,{"$f":"IF(I157=\"\", \"\", VLOOKUP(I157,referentes!$J$2:$Q$14,2,FALSE))","v":""},null,null,{"$f":"IF(L157=\"\", \"\", INDEX(referentes!$D$2:$E$17,MATCH(L157,referentes!E$2:E$17,0),1))","v":""},null,null,null,null,"","",null,null,null,"","","","","",""]
[null,{"$f":"IF(C158=\"\",\"\",IF(COUNTIF($C$3:C158, C158)>1, \"\", C158))","v":""},{"$f":"IF(G158=\"\",\"\",IF(F158=\"\",\"\",CONCATENATE(3,DIGITADOR!$M$1,G158,E158)))","v":""},"",{"$f":"IF(F158=\"\",\"\",VLOOKUP(F158,referentes!$T$2:$W$200,2,FALSE))","v":""},null,null,{"$f":"IF(I158=\"\", \"\", VLOOKUP(I158,referentes!$J$2:$Q$14,2,FALSE))","v":""},null,null,{"$f":"IF(L158=\"\", \"\", INDEX(referentes!$D$2:$E$17,MATCH(L158,referentes!E$2:E$17,0),1))","v":""},null,null,null,null,"","",null,null,null,"","","","","",""]
[null,{"$f":"IF(C159=\"\",\"\",IF(COUNTIF($C$3:C159, C159)>1, \"\", C159))","v":""},{"$f":"IF(G159=\"\",\"\",IF(F159=\"\",\"\",CONCATENATE(3,DIGITADOR!$M$1,G159,E159)))","v":""},"",{"$f":"IF(F159=\"\",\"\",VLOOKUP(F159,referentes!$T$2:$W$200,2,FALSE))","v":""},null,null,{"$f":"IF(I159=\"\", \"\", VLOOKUP(I159,referentes!$J$2:$Q$14,2,FALSE))","v":""},null,null,{"$f":"IF(L159=\"\", \"\", INDEX(referentes!$D$2:$E$17,MATCH(L159,referentes!E$2:E$17,0),1))","v":""},null,null,null,null,"","",null,null,null,"","","","","",""]
[null,{"$f":"IF(C160=\"\",\"\",IF(COUNTIF($C$3:C160, C160)>1, \"\", C160))","v":""},{"$f":"IF(G160=\"\",\"\",IF(F160=\"\",\"\",CONCATENATE(3,DIGITADOR!$M$1,G160,E160)))","v":""},"",{"$f":"IF(F160=\"\",\"\",VLOOKUP(F160,referentes!$T$2:$W$200,2,FALSE))","v":""},null,null,{"$f":"IF(I160=\"\", \"\", VLOOKUP(I160,referentes!$J$2:$Q$14,2,FALSE))","v":""},null,null,{"$f":"IF(L160=\"\", \"\", INDEX(referentes!$D$2:$E$17,MATCH(L160,referentes!E$2:E$17,0),1))","v":""},null,null,null,null,"","",null,null,null,"","","","","",""]
[null,{"$f":"IF(C161=\"\",\"\",IF(COUNTIF($C$3:C161, C161)>1, \"\", C161))","v":""},{"$f":"IF(G161=\"\",\"\",IF(F161=\"\",\"\",CONCATENATE(3,DIGITADOR!$M$1,G161,E161)))","v":""},"",{"$f":"IF(F161=\"\",\"\",VLOOKUP(F161,referentes!$T$2:$W$200,2,FALSE))","v":""},null,null,{"$f":"IF(I161=\"\", \"\", VLOOKUP(I161,referentes!$J$2:$Q$14,2,FALSE))","v":""},null,null,{"$f":"IF(L161=\"\", \"\", INDEX(referentes!$D$2:$E$17,MATCH(L161,referentes!E$2:E$17,0),1))","v":""},null,null,null,null,"","",null,null,null,"","","","","",""]
[null,{"$f":"IF(C162=\"\",\"\",IF(COUNTIF($C$3:C162, C162)>1, \"\", C162))","v":""},{"$f":"IF(G162=\"\",\"\",IF(F162=\"\",\"\",CONCATENATE(3,DIGITADOR!$M$1,G162,E162)))","v":""},"",{"$f":"IF(F162=\"\",\"\",VLOOKUP(F162,referentes!$T$2:$W$200,2,FALSE))","v":""},null,null,{"$f":"IF(I162=\"\", \"\", VLOOKUP(I162,referentes!$J$2:$Q$14,2,FALSE))","v":""},null,null,{"$f":"IF(L162=\"\", \"\", INDEX(referentes!$D$2:$E$17,MATCH(L162,referentes!E$2:E$17,0),1))","v":""},null,null,null,null,"","",null,null,null,"","","","","",""]
[null,{"$f":"IF(C163=\"\",\"\",IF(COUNTIF($C$3:C163, C163)>1, \"\", C163))","v":""},{"$f":"IF(G163=\"\",\"\",IF(F163=\"\",\"\",CONCATENATE(3,DIGITADOR!$M$1,G163,E163)))","v":""},"",{"$f":"IF(F163=\"\",\"\",VLOOKUP(F163,referentes!$T$2:$W$200,2,FALSE))","v":""},null,null,{"$f":"IF(I163=\"\", \"\", VLOOKUP(I163,referentes!$J$2:$Q$14,2,FALSE))","v":""},null,null,{"$f":"IF(L163=\"\", \"\", INDEX(referentes!$D$2:$E$17,MATCH(L163,referentes!E$2:E$17,0),1))","v":""},null,null,null,null,"","",null,null,null,"","","","","",""]
[null,{"$f":"IF(C164=\"\",\"\",IF(COUNTIF($C$3:C164, C164)>1, \"\", C164))","v":""},{"$f":"IF(G164=\"\",\"\",IF(F164=\"\",\"\",CONCATENATE(3,DIGITADOR!$M$1,G164,E164)))","v":""},"",{"$f":"IF(F164=\"\",\"\",VLOOKUP(F164,referentes!$T$2:$W$200,2,FALSE))","v":""},null,null,{"$f":"IF(I164=\"\", \"\", VLOOKUP(I164,referentes!$J$2:$Q$14,2,FALSE))","v":""},null,null,{"$f":"IF(L164=\"\", \"\", INDEX(referentes!$D$2:$E$17,MATCH(L164,referentes!E$2:E$17,0),1))","v":""},null,null,null,null,"","",null,null,null,"","","","","",""]
[null,{"$f":"IF(C165=\"\",\"\",IF(COUNTIF($C$3:C165, C165)>1, \"\", C165))","v":""},{"$f":"IF(G165=\"\",\"\",IF(F165=\"\",\"\",CONCATENATE(3,DIGITADOR!$M$1,G165,E165)))","v":""},"",{"$f":"IF(F165=\"\",\"\",VLOOKUP(F165,referentes!$T$2:$W$200,2,FALSE))","v":""},null,null,{"$f":"IF(I165=\"\", \"\", VLOOKUP(I165,referentes!$J$2:$Q$14,2,FALSE))","v":""},null,null,{"$f":"IF(L165=\"\", \"\", INDEX(referentes!$D$2:$E$17,MATCH(L165,referentes!E$2:E$17,0),1))","v":""},null,null,null,null,"","",null,null,null,"","","","","",""]
[null,{"$f":"IF(C166=\"\",\"\",IF(COUNTIF($C$3:C166, C166)>1, \"\", C166))","v":""},{"$f":"IF(G166=\"\",\"\",IF(F166=\"\",\"\",CONCATENATE(3,DIGITADOR!$M$1,G166,E166)))","v":""},"",{"$f":"IF(F166=\"\",\"\",VLOOKUP(F166,referentes!$T$2:$W$200,2,FALSE))","v":""},null,null,{"$f":"IF(I166=\"\", \"\", VLOOKUP(I166,referentes!$J$2:$Q$14,2,FALSE))","v":""},null,null,{"$f":"IF(L166=\"\", \"\", INDEX(referentes!$D$2:$E$17,MATCH(L166,referentes!E$2:E$17,0),1))","v":""},null,null,null,null,"","",null,null,null,"","","","","",""]
[null,{"$f":"IF(C167=\"\",\"\",IF(COUNTIF($C$3:C167, C167)>1, \"\", C167))","v":""},{"$f":"IF(G167=\"\",\"\",IF(F167=\"\",\"\",CONCATENATE(3,DIGITADOR!$M$1,G167,E167)))","v":""},"",{"$f":"IF(F167=\"\",\"\",VLOOKUP(F167,referentes!$T$2:$W$200,2,FALSE))","v":""},null,null,{"$f":"IF(I167=\"\", \"\", VLOOKUP(I167,referentes!$J$2:$Q$14,2,FALSE))","v":""},null,null,{"$f":"IF(L167=\"\", \"\", INDEX(referentes!$D$2:$E$17,MATCH(L167,referentes!E$2:E$17,0),1))","v":""},null,null,null,null,"","",null,null,null,"","","","","",""]
[null,{"$f":"IF(C168=\"\",\"\",IF(COUNTIF($C$3:C168, C168)>1, \"\", C168))","v":""},{"$f":"IF(G168=\"\",\"\",IF(F168=\"\",\"\",CONCATENATE(3,DIGITADOR!$M$1,G168,E168)))","v":""},"",{"$f":"IF(F168=\"\",\"\",VLOOKUP(F168,referentes!$T$2:$W$200,2,FALSE))","v":""},null,null,{"$f":"IF(I168=\"\", \"\", VLOOKUP(I168,referentes!$J$2:$Q$14,2,FALSE))","v":""},null,null,{"$f":"IF(L168=\"\", \"\", INDEX(referentes!$D$2:$E$17,MATCH(L168,referentes!E$2:E$17,0),1))","v":""},null,null,null,null,"","",null,null,null,"","","","","",""]
[null,{"$f":"IF(C169=\"\",\"\",IF(COUNTIF($C$3:C169, C169)>1, \"\", C169))","v":""},{"$f":"IF(G169=\"\",\"\",IF(F169=\"\",\"\",CONCATENATE(3,DIGITADOR!$M$1,G169,E169)))","v":""},"",{"$f":"IF(F169=\"\",\"\",VLOOKUP(F169,referentes!$T$2:$W$200,2,FALSE))","v":""},null,null,{"$f":"IF(I169=\"\", \"\", VLOOKUP(I169,referentes!$J$2:$Q$14,2,FALSE))","v":""},null,null,{"$f":"IF(L169=\"\", \"\", INDEX(referentes!$D$2:$E$17,MATCH(L169,referentes!E$2:E$17,0),1))","v":""},null,null,null,null,"","",null,null,null,"","","","","",""]
[null,{"$f":"IF(C170=\"\",\"\",IF(COUNTIF($C$3:C170, C170)>1, \"\", C170))","v":""},{"$f":"IF(G170=\"\",\"\",IF(F170=\"\",\"\",CONCATENATE(3,DIGITADOR!$M$1,G170,E170)))","v":""},"",{"$f":"IF(F170=\"\",\"\",VLOOKUP(F170,referentes!$T$2:$W$200,2,FALSE))","v":""},null,null,{"$f":"IF(I170=\"\", \"\", VLOOKUP(I170,referentes!$J$2:$Q$14,2,FALSE))","v":""},null,null,{"$f":"IF(L170=\"\", \"\", INDEX(referentes!$D$2:$E$17,MATCH(L170,referentes!E$2:E$17,0),1))","v":""},null,null,null,null,"","",null,null,null,"","","","","",""]
[null,{"$f":"IF(C171=\"\",\"\",IF(COUNTIF($C$3:C171, C171)>1, \"\", C171))","v":""},{"$f":"IF(G171=\"\",\"\",IF(F171=\"\",\"\",CONCATENATE(3,DIGITADOR!$M$1,G171,E171)))","v":""},"",{"$f":"IF(F171=\"\",\"\",VLOOKUP(F171,referentes!$T$2:$W$200,2,FALSE))","v":""},null,null,{"$f":"IF(I171=\"\", \"\", VLOOKUP(I171,referentes!$J$2:$Q$14,2,FALSE))","v":""},null,null,{"$f":"IF(L171=\"\", \"\", INDEX(referentes!$D$2:$E$17,MATCH(L171,referentes!E$2:E$17,0),1))","v":""},null,null,null,null,"","",null,null,null,"","","","","",""]
[null,{"$f":"IF(C172=\"\",\"\",IF(COUNTIF($C$3:C172, C172)>1, \"\", C172))","v":""},{"$f":"IF(G172=\"\",\"\",IF(F172=\"\",\"\",CONCATENATE(3,DIGITADOR!$M$1,G172,E172)))","v":""},"",{"$f":"IF(F172=\"\",\"\",VLOOKUP(F172,referentes!$T$2:$W$200,2,FALSE))","v":""},null,null,{"$f":"IF(I172=\"\", \"\", VLOOKUP(I172,referentes!$J$2:$Q$14,2,FALSE))","v":""},null,null,{"$f":"IF(L172=\"\", \"\", INDEX(referentes!$D$2:$E$17,MATCH(L172,referentes!E$2:E$17,0),1))","v":""},null,null,null,null,"","",null,null,null,"","","","","",""]
[null,{"$f":"IF(C173=\"\",\"\",IF(COUNTIF($C$3:C173, C173)>1, \"\", C173))","v":""},{"$f":"IF(G173=\"\",\"\",IF(F173=\"\",\"\",CONCATENATE(3,DIGITADOR!$M$1,G173,E173)))","v":""},"",{"$f":"IF(F173=\"\",\"\",VLOOKUP(F173,referentes!$T$2:$W$200,2,FALSE))","v":""},null,null,{"$f":"IF(I173=\"\", \"\", VLOOKUP(I173,referentes!$J$2:$Q$14,2,FALSE))","v":""},null,null,{"$f":"IF(L173=\"\", \"\", INDEX(referentes!$D$2:$E$17,MATCH(L173,referentes!E$2:E$17,0),1))","v":""},null,null,null,null,"","",null,null,null,"","","","","",""]
[null,{"$f":"IF(C174=\"\",\"\",IF(COUNTIF($C$3:C174, C174)>1, \"\", C174))","v":""},{"$f":"IF(G174=\"\",\"\",IF(F174=\"\",\"\",CONCATENATE(3,DIGITADOR!$M$1,G174,E174)))","v":""},"",{"$f":"IF(F174=\"\",\"\",VLOOKUP(F174,referentes!$T$2:$W$200,2,FALSE))","v":""},null,null,{"$f":"IF(I174=\"\", \"\", VLOOKUP(I174,referentes!$J$2:$Q$14,2,FALSE))","v":""},null,null,{"$f":"IF(L174=\"\", \"\", INDEX(referentes!$D$2:$E$17,MATCH(L174,referentes!E$2:E$17,0),1))","v":""},null,null,null,null,"","",null,null,null,"","","","","",""]
[null,{"$f":"IF(C175=\"\",\"\",IF(COUNTIF($C$3:C175, C175)>1, \"\", C175))","v":""},{"$f":"IF(G175=\"\",\"\",IF(F175=\"\",\"\",CONCATENATE(3,DIGITADOR!$M$1,G175,E175)))","v":""},"",{"$f":"IF(F175=\"\",\"\",VLOOKUP(F175,referentes!$T$2:$W$200,2,FALSE))","v":""},null,null,{"$f":"IF(I175=\"\", \"\", VLOOKUP(I175,referentes!$J$2:$Q$14,2,FALSE))","v":""},null,null,{"$f":"IF(L175=\"\", \"\", INDEX(referentes!$D$2:$E$17,MATCH(L175,referentes!E$2:E$17,0),1))","v":""},null,null,null,null,"","",null,null,null,"","","","","",""]
[null,{"$f":"IF(C176=\"\",\"\",IF(COUNTIF($C$3:C176, C176)>1, \"\", C176))","v":""},{"$f":"IF(G176=\"\",\"\",IF(F176=\"\",\"\",CONCATENATE(3,DIGITADOR!$M$1,G176,E176)))","v":""},"",{"$f":"IF(F176=\"\",\"\",VLOOKUP(F176,referentes!$T$2:$W$200,2,FALSE))","v":""},null,null,{"$f":"IF(I176=\"\", \"\", VLOOKUP(I176,referentes!$J$2:$Q$14,2,FALSE))","v":""},null,null,{"$f":"IF(L176=\"\", \"\", INDEX(referentes!$D$2:$E$17,MATCH(L176,referentes!E$2:E$17,0),1))","v":""},null,null,null,null,"","",null,null,null,"","","","","",""]
[null,{"$f":"IF(C177=\"\",\"\",IF(COUNTIF($C$3:C177, C177)>1, \"\", C177))","v":""},{"$f":"IF(G177=\"\",\"\",IF(F177=\"\",\"\",CONCATENATE(3,DIGITADOR!$M$1,G177,E177)))","v":""},"",{"$f":"IF(F177=\"\",\"\",VLOOKUP(F177,referentes!$T$2:$W$200,2,FALSE))","v":""},null,null,{"$f":"IF(I177=\"\", \"\", VLOOKUP(I177,referentes!$J$2:$Q$14,2,FALSE))","v":""},null,null,{"$f":"IF(L177=\"\", \"\", INDEX(referentes!$D$2:$E$17,MATCH(L177,referentes!E$2:E$17,0),1))","v":""},null,null,null,null,"","",null,null,null,"","","","","",""]
[null,{"$f":"IF(C178=\"\",\"\",IF(COUNTIF($C$3:C178, C178)>1, \"\", C178))","v":""},{"$f":"IF(G178=\"\",\"\",IF(F178=\"\",\"\",CONCATENATE(3,DIGITADOR!$M$1,G178,E178)))","v":""},"",{"$f":"IF(F178=\"\",\"\",VLOOKUP(F178,referentes!$T$2:$W$200,2,FALSE))","v":""},null,null,{"$f":"IF(I178=\"\", \"\", VLOOKUP(I178,referentes!$J$2:$Q$14,2,FALSE))","v":""},null,null,{"$f":"IF(L178=\"\", \"\", INDEX(referentes!$D$2:$E$17,MATCH(L178,referentes!E$2:E$17,0),1))","v":""},null,null,null,null,"","",null,null,null,"","","","","",""]
[null,{"$f":"IF(C179=\"\",\"\",IF(COUNTIF($C$3:C179, C179)>1, \"\", C179))","v":""},{"$f":"IF(G179=\"\",\"\",IF(F179=\"\",\"\",CONCATENATE(3,DIGITADOR!$M$1,G179,E179)))","v":""},"",{"$f":"IF(F179=\"\",\"\",VLOOKUP(F179,referentes!$T$2:$W$200,2,FALSE))","v":""},null,null,{"$f":"IF(I179=\"\", \"\", VLOOKUP(I179,referentes!$J$2:$Q$14,2,FALSE))","v":""},null,null,{"$f":"IF(L179=\"\", \"\", INDEX(referentes!$D$2:$E$17,MATCH(L179,referentes!E$2:E$17,0),1))","v":""},null,null,null,null,"","",null,null,null,"","","","","",""]
[null,{"$f":"IF(C180=\"\",\"\",IF(COUNTIF($C$3:C180, C180)>1, \"\", C180))","v":""},{"$f":"IF(G180=\"\",\"\",IF(F180=\"\",\"\",CONCATENATE(3,DIGITADOR!$M$1,G180,E180)))","v":""},"",{"$f":"IF(F180=\"\",\"\",VLOOKUP(F180,referentes!$T$2:$W$200,2,FALSE))","v":""},null,null,{"$f":"IF(I180=\"\", \"\", VLOOKUP(I180,referentes!$J$2:$Q$14,2,FALSE))","v":""},null,null,{"$f":"IF(L180=\"\", \"\", INDEX(referentes!$D$2:$E$17,MATCH(L180,referentes!E$2:E$17,0),1))","v":""},null,null,null,null,"","",null,null,null,"","","","","",""]
[null,{"$f":"IF(C181=\"\",\"\",IF(COUNTIF($C$3:C181, C181)>1, \"\", C181))","v":""},{"$f":"IF(G181=\"\",\"\",IF(F181=\"\",\"\",CONCATENATE(3,DIGITADOR!$M$1,G181,E181)))","v":""},"",{"$f":"IF(F181=\"\",\"\",VLOOKUP(F181,referentes!$T$2:$W$200,2,FALSE))","v":""},null,null,{"$f":"IF(I181=\"\", \"\", VLOOKUP(I181,referentes!$J$2:$Q$14,2,FALSE))","v":""},null,null,{"$f":"IF(L181=\"\", \"\", INDEX(referentes!$D$2:$E$17,MATCH(L181,referentes!E$2:E$17,0),1))","v":""},null,null,null,null,"","",null,null,null,"","","","","",""]
[null,{"$f":"IF(C182=\"\",\"\",IF(COUNTIF($C$3:C182, C182)>1, \"\", C182))","v":""},{"$f":"IF(G182=\"\",\"\",IF(F182=\"\",\"\",CONCATENATE(3,DIGITADOR!$M$1,G182,E182)))","v":""},"",{"$f":"IF(F182=\"\",\"\",VLOOKUP(F182,referentes!$T$2:$W$200,2,FALSE))","v":""},null,null,{"$f":"IF(I182=\"\", \"\", VLOOKUP(I182,referentes!$J$2:$Q$14,2,FALSE))","v":""},null,null,{"$f":"IF(L182=\"\", \"\", INDEX(referentes!$D$2:$E$17,MATCH(L182,referentes!E$2:E$17,0),1))","v":""},null,null,null,null,"","",null,null,null,"","","","","",""]
[null,{"$f":"IF(C183=\"\",\"\",IF(COUNTIF($C$3:C183, C183)>1, \"\", C183))","v":""},{"$f":"IF(G183=\"\",\"\",IF(F183=\"\",\"\",CONCATENATE(3,DIGITADOR!$M$1,G183,E183)))","v":""},"",{"$f":"IF(F183=\"\",\"\",VLOOKUP(F183,referentes!$T$2:$W$200,2,FALSE))","v":""},null,null,{"$f":"IF(I183=\"\", \"\", VLOOKUP(I183,referentes!$J$2:$Q$14,2,FALSE))","v":""},null,null,{"$f":"IF(L183=\"\", \"\", INDEX(referentes!$D$2:$E$17,MATCH(L183,referentes!E$2:E$17,0),1))","v":""},null,null,null,null,"","",null,null,null,"","","","","",""]
[null,{"$f":"IF(C184=\"\",\"\",IF(COUNTIF($C$3:C184, C184)>1, \"\", C184))","v":""},{"$f":"IF(G184=\"\",\"\",IF(F184=\"\",\"\",CONCATENATE(3,DIGITADOR!$M$1,G184,E184)))","v":""},"",{"$f":"IF(F184=\"\",\"\",VLOOKUP(F184,referentes!$T$2:$W$200,2,FALSE))","v":""},null,null,{"$f":"IF(I184=\"\", \"\", VLOOKUP(I184,referentes!$J$2:$Q$14,2,FALSE))","v":""},null,null,{"$f":"IF(L184=\"\", \"\", INDEX(referentes!$D$2:$E$17,MATCH(L184,referentes!E$2:E$17,0),1))","v":""},null,null,null,null,"","",null,null,null,"","","","","",""]
[null,{"$f":"IF(C185=\"\",\"\",IF(COUNTIF($C$3:C185, C185)>1, \"\", C185))","v":""},{"$f":"IF(G185=\"\",\"\",IF(F185=\"\",\"\",CONCATENATE(3,DIGITADOR!$M$1,G185,E185)))","v":""},"",{"$f":"IF(F185=\"\",\"\",VLOOKUP(F185,referentes!$T$2:$W$200,2,FALSE))","v":""},null,null,{"$f":"IF(I185=\"\", \"\", VLOOKUP(I185,referentes!$J$2:$Q$14,2,FALSE))","v":""},null,null,{"$f":"IF(L185=\"\", \"\", INDEX(referentes!$D$2:$E$17,MATCH(L185,referentes!E$2:E$17,0),1))","v":""},null,null,null,null,"","",null,null,null,"","","","","",""]
[null,{"$f":"IF(C186=\"\",\"\",IF(COUNTIF($C$3:C186, C186)>1, \"\", C186))","v":""},{"$f":"IF(G186=\"\",\"\",IF(F186=\"\",\"\",CONCATENATE(3,DIGITADOR!$M$1,G186,E186)))","v":""},"",{"$f":"IF(F186=\"\",\"\",VLOOKUP(F186,referentes!$T$2:$W$200,2,FALSE))","v":""},null,null,{"$f":"IF(I186=\"\", \"\", VLOOKUP(I186,referentes!$J$2:$Q$14,2,FALSE))","v":""},null,null,{"$f":"IF(L186=\"\", \"\", INDEX(referentes!$D$2:$E$17,MATCH(L186,referentes!E$2:E$17,0),1))","v":""},null,null,null,null,"","",null,null,null,"","","","","",""]
[null,{"$f":"IF(C187=\"\",\"\",IF(COUNTIF($C$3:C187, C187)>1, \"\", C187))","v":""},{"$f":"IF(G187=\"\",\"\",IF(F187=\"\",\"\",CONCATENATE(3,DIGITADOR!$M$1,G187,E187)))","v":""},"",{"$f":"IF(F187=\"\",\"\",VLOOKUP(F187,referentes!$T$2:$W$200,2,FALSE))","v":""},null,null,{"$f":"IF(I187=\"\", \"\", VLOOKUP(I187,referentes!$J$2:$Q$14,2,FALSE))","v":""},null,null,{"$f":"IF(L187=\"\", \"\", INDEX(referentes!$D$2:$E$17,MATCH(L187,referentes!E$2:E$17,0),1))","v":""},null,null,null,null,"","",null,null,null,"","","","","",""]
[null,{"$f":"IF(C188=\"\",\"\",IF(COUNTIF($C$3:C188, C188)>1, \"\", C188))","v":""},{"$f":"IF(G188=\"\",\"\",IF(F188=\"\",\"\",CONCATENATE(3,DIGITADOR!$M$1,G188,E188)))","v":""},"",{"$f":"IF(F188=\"\",\"\",VLOOKUP(F188,referentes!$T$2:$W$200,2,FALSE))","v":""},null,null,{"$f":"IF(I188=\"\", \"\", VLOOKUP(I188,referentes!$J$2:$Q$14,2,FALSE))","v":""},null,null,{"$f":"IF(L188=\"\", \"\", INDEX(referentes!$D$2:$E$17,MATCH(L188,referentes!E$2:E$17,0),1))","v":""},null,null,null,null,"","",null,null,null,"","","","","",""]
[null,{"$f":"IF(C189=\"\",\"\",IF(COUNTIF($C$3:C189, C189)>1, \"\", C189))","v":""},{"$f":"IF(G189=\"\",\"\",IF(F189=\"\",\"\",CONCATENATE(3,DIGITADOR!$M$1,G189,E189)))","v":""},"",{"$f":"IF(F189=\"\",\"\",VLOOKUP(F189,referentes!$T$2:$W$200,2,FALSE))","v":""},null,null,{"$f":"IF(I189=\"\", \"\", VLOOKUP(I189,referentes!$J$2:$Q$14,2,FALSE))","v":""},null,null,{"$f":"IF(L189=\"\", \"\", INDEX(referentes!$D$2:$E$17,MATCH(L189,referentes!E$2:E$17,0),1))","v":""},null,null,null,null,"","",null,null,null,"","","","","",""]
[null,{"$f":"IF(C190=\"\",\"\",IF(COUNTIF($C$3:C190, C190)>1, \"\", C190))","v":""},{"$f":"IF(G190=\"\",\"\",IF(F190=\"\",\"\",CONCATENATE(3,DIGITADOR!$M$1,G190,E190)))","v":""},"",{"$f":"IF(F190=\"\",\"\",VLOOKUP(F190,referentes!$T$2:$W$200,2,FALSE))","v":""},null,null,{"$f":"IF(I190=\"\", \"\", VLOOKUP(I190,referentes!$J$2:$Q$14,2,FALSE))","v":""},null,null,{"$f":"IF(L190=\"\", \"\", INDEX(referentes!$D$2:$E$17,MATCH(L190,referentes!E$2:E$17,0),1))","v":""},null,null,null,null,"","",null,null,null,"","","","","",""]
[null,{"$f":"IF(C191=\"\",\"\",IF(COUNTIF($C$3:C191, C191)>1, \"\", C191))","v":""},{"$f":"IF(G191=\"\",\"\",IF(F191=\"\",\"\",CONCATENATE(3,DIGITADOR!$M$1,G191,E191)))","v":""},"",{"$f":"IF(F191=\"\",\"\",VLOOKUP(F191,referentes!$T$2:$W$200,2,FALSE))","v":""},null,null,{"$f":"IF(I191=\"\", \"\", VLOOKUP(I191,referentes!$J$2:$Q$14,2,FALSE))","v":""},null,null,{"$f":"IF(L191=\"\", \"\", INDEX(referentes!$D$2:$E$17,MATCH(L191,referentes!E$2:E$17,0),1))","v":""},null,null,null,null,"","",null,null,null,"","","","","",""]
[null,{"$f":"IF(C192=\"\",\"\",IF(COUNTIF($C$3:C192, C192)>1, \"\", C192))","v":""},{"$f":"IF(G192=\"\",\"\",IF(F192=\"\",\"\",CONCATENATE(3,DIGITADOR!$M$1,G192,E192)))","v":""},"",{"$f":"IF(F192=\"\",\"\",VLOOKUP(F192,referentes!$T$2:$W$200,2,FALSE))","v":""},null,null,{"$f":"IF(I192=\"\", \"\", VLOOKUP(I192,referentes!$J$2:$Q$14,2,FALSE))","v":""},null,null,{"$f":"IF(L192=\"\", \"\", INDEX(referentes!$D$2:$E$17,MATCH(L192,referentes!E$2:E$17,0),1))","v":""},null,null,null,null,"","",null,null,null,"","","","","",""]
[null,{"$f":"IF(C193=\"\",\"\",IF(COUNTIF($C$3:C193, C193)>1, \"\", C193))","v":""},{"$f":"IF(G193=\"\",\"\",IF(F193=\"\",\"\",CONCATENATE(3,DIGITADOR!$M$1,G193,E193)))","v":""},"",{"$f":"IF(F193=\"\",\"\",VLOOKUP(F193,referentes!$T$2:$W$200,2,FALSE))","v":""},null,null,{"$f":"IF(I193=\"\", \"\", VLOOKUP(I193,referentes!$J$2:$Q$14,2,FALSE))","v":""},null,null,{"$f":"IF(L193=\"\", \"\", INDEX(referentes!$D$2:$E$17,MATCH(L193,referentes!E$2:E$17,0),1))","v":""},null,null,null,null,"","",null,null,null,"","","","","",""]
[null,{"$f":"IF(C194=\"\",\"\",IF(COUNTIF($C$3:C194, C194)>1, \"\", C194))","v":""},{"$f":"IF(G194=\"\",\"\",IF(F194=\"\",\"\",CONCATENATE(3,DIGITADOR!$M$1,G194,E194)))","v":""},"",{"$f":"IF(F194=\"\",\"\",VLOOKUP(F194,referentes!$T$2:$W$200,2,FALSE))","v":""},null,null,{"$f":"IF(I194=\"\", \"\", VLOOKUP(I194,referentes!$J$2:$Q$14,2,FALSE))","v":""},null,null,{"$f":"IF(L194=\"\", \"\", INDEX(referentes!$D$2:$E$17,MATCH(L194,referentes!E$2:E$17,0),1))","v":""},null,null,null,null,"","",null,null,null,"","","","","",""]
[null,{"$f":"IF(C195=\"\",\"\",IF(COUNTIF($C$3:C195, C195)>1, \"\", C195))","v":""},{"$f":"IF(G195=\"\",\"\",IF(F195=\"\",\"\",CONCATENATE(3,DIGITADOR!$M$1,G195,E195)))","v":""},"",{"$f":"IF(F195=\"\",\"\",VLOOKUP(F195,referentes!$T$2:$W$200,2,FALSE))","v":""},null,null,{"$f":"IF(I195=\"\", \"\", VLOOKUP(I195,referentes!$J$2:$Q$14,2,FALSE))","v":""},null,null,{"$f":"IF(L195=\"\", \"\", INDEX(referentes!$D$2:$E$17,MATCH(L195,referentes!E$2:E$17,0),1))","v":""},null,null,null,null,"","",null,null,null,"","","","","",""]
[null,{"$f":"IF(C196=\"\",\"\",IF(COUNTIF($C$3:C196, C196)>1, \"\", C196))","v":""},{"$f":"IF(G196=\"\",\"\",IF(F196=\"\",\"\",CONCATENATE(3,DIGITADOR!$M$1,G196,E196)))","v":""},{"$f":"IF(C196=\"\",\"\",CONCATENATE(C196,ROW()-2))","v":""},{"$f":"IF(F196=\"\",\"\",VLOOKUP(F196,referentes!$T$2:$W$200,2,FALSE))","v":""},null,null,{"$f":"IF(I196=\"\", \"\", VLOOKUP(I196,referentes!$J$2:$Q$14,2,FALSE))","v":""},null,null,{"$f":"IF(L196=\"\", \"\", INDEX(referentes!$D$2:$E$17,MATCH(L196,referentes!E$2:E$17,0),1))","v":""},null,null,null,null,{"$f":"IF(O196=\"\",\"\", ROUND(O196/100, 4))","v":""},{"$f":"IF(P196=\"\",\"\", ROUND(P196^2, 4))","v":""},null,null,null,{"$f":"IF(R196=\"\", \"\", IF(R196=20, IF(S196<>\"\", ROUND(S196/R196, 6), \"\"), ROUND(20/(R196-0.5), 6)))","v":""},{"$f":"IF(U196=\"\", \"\", IF(U196 < 1, 0, 1))","v":""},{"$f":"IF(OR(M196=\"\",Q196=\"\"), \"\", ROUND((PI()/4)*Q196*M196, 6))","v":""},{"$f":"IF(AND(U196=\"\",V196=\"\"),\"\",ROUND(IF(V196=0,0.6451-0.388*(LOG10(U196))-0.377*V196+0.3*(LOG10(U196))*V196, 0.6451-0.388*(LOG10(U196))-0.377*V196+0.3*(LOG10(U196))), 6))","v":""},{"$f":"IF(X196=\"\",\"\", ROUND((X196*1000000/1000), 6))","v":""},{"$f":"IF(OR(W196=\"\",Y196=\"\"), \"\", ROUND(W196*Y196, 6))","v":""}]
[null,{"$f":"IF(C197=\"\",\"\",IF(COUNTIF($C$3:C197, C197)>1, \"\", C197))","v":""},{"$f":"IF(G197=\"\",\"\",IF(F197=\"\",\"\",CONCATENATE(3,DIGITADOR!$M$1,G197,E197)))","v":""},"",{"$f":"IF(F197=\"\",\"\",VLOOKUP(F197,referentes!$T$2:$W$200,2,FALSE))","v":""},null,null,{"$f":"IF(I197=\"\", \"\", VLOOKUP(I197,referentes!$J$2:$Q$14,2,FALSE))","v":""},null,null,{"$f":"IF(L197=\"\", \"\", INDEX(referentes!$D$2:$E$17,MATCH(L197,referentes!E$2:E$17,0),1))","v":""},null,null,null,null,"","",null,null,null,"","","","","",""]
[null,{"$f":"IF(C198=\"\",\"\",IF(COUNTIF($C$3:C198, C198)>1, \"\", C198))","v":""},{"$f":"IF(G198=\"\",\"\",IF(F198=\"\",\"\",CONCATENATE(3,DIGITADOR!$M$1,G198,E198)))","v":""},"",{"$f":"IF(F198=\"\",\"\",VLOOKUP(F198,referentes!$T$2:$W$200,2,FALSE))","v":""},null,null,{"$f":"IF(I198=\"\", \"\", VLOOKUP(I198,referentes!$J$2:$Q$14,2,FALSE))","v":""},null,null,{"$f":"IF(L198=\"\", \"\", INDEX(referentes!$D$2:$E$17,MATCH(L198,referentes!E$2:E$17,0),1))","v":""},null,null,null,null,"","",null,null,null,"","","","","",""]
[null,{"$f":"IF(C199=\"\",\"\",IF(COUNTIF($C$3:C199, C199)>1, \"\", C199))","v":""},{"$f":"IF(G199=\"\",\"\",IF(F199=\"\",\"\",CONCATENATE(3,DIGITADOR!$M$1,G199,E199)))","v":""},"",{"$f":"IF(F199=\"\",\"\",VLOOKUP(F199,referentes!$T$2:$W$200,2,FALSE))","v":""},null,null,{"$f":"IF(I199=\"\", \"\", VLOOKUP(I199,referentes!$J$2:$Q$14,2,FALSE))","v":""},null,null,{"$f":"IF(L199=\"\", \"\", INDEX(referentes!$D$2:$E$17,MATCH(L199,referentes!E$2:E$17,0),1))","v":""},null,null,null,null,"","",null,null,null,"","","","","",""]
[null,{"$f":"IF(C200=\"\",\"\",IF(COUNTIF($C$3:C200, C200)>1, \"\", C200))","v":""},{"$f":"IF(G200=\"\",\"\",IF(F200=\"\",\"\",CONCATENATE(3,DIGITADOR!$M$1,G200,E200)))","v":""},"",{"$f":"IF(F200=\"\",\"\",VLOOKUP(F200,referentes!$T$2:$W$200,2,FALSE))","v":""},null,null,{"$f":"IF(I200=\"\", \"\", VLOOKUP(I200,referentes!$J$2:$Q$14,2,FALSE))","v":""},null,null,{"$f":"IF(L200=\"\", \"\", INDEX(referentes!$D$2:$E$17,MATCH(L200,referentes!E$2:E$17,0),1))","v":""},null,null,null,null,"","",null,null,null,"","","","","",""]
[null,{"$f":"IF(C201=\"\",\"\",IF(COUNTIF($C$3:C201, C201)>1, \"\", C201))","v":""},{"$f":"IF(G201=\"\",\"\",IF(F201=\"\",\"\",CONCATENATE(3,DIGITADOR!$M$1,G201,E201)))","v":""},"",{"$f":"IF(F201=\"\",\"\",VLOOKUP(F201,referentes!$T$2:$W$200,2,FALSE))","v":""},null,null,{"$f":"IF(I201=\"\", \"\", VLOOKUP(I201,referentes!$J$2:$Q$14,2,FALSE))","v":""},null,null,{"$f":"IF(L201=\"\", \"\", INDEX(referentes!$D$2:$E$17,MATCH(L201,referentes!E$2:E$17,0),1))","v":""},null,null,null,null,"","",null,null,null,"","","","","",""]
[null,{"$f":"IF(C202=\"\",\"\",IF(COUNTIF($C$3:C202, C202)>1, \"\", C202))","v":""},{"$f":"IF(G202=\"\",\"\",IF(F202=\"\",\"\",CONCATENATE(3,DIGITADOR!$M$1,G202,E202)))","v":""},"",{"$f":"IF(F202=\"\",\"\",VLOOKUP(F202,referentes!$T$2:$W$200,2,FALSE))","v":""},null,null,{"$f":"IF(I202=\"\", \"\", VLOOKUP(I202,referentes!$J$2:$Q$14,2,FALSE))","v":""},null,null,{"$f":"IF(L202=\"\", \"\", INDEX(referentes!$D$2:$E$17,MATCH(L202,referentes!E$2:E$17,0),1))","v":""},null,null,null,null,"","",null,null,null,"","","","","",""]
[null,{"$f":"IF(C203=\"\",\"\",IF(COUNTIF($C$3:C203, C203)>1, \"\", C203))","v":""},{"$f":"IF(G203=\"\",\"\",IF(F203=\"\",\"\",CONCATENATE(3,DIGITADOR!$M$1,G203,E203)))","v":""},"",{"$f":"IF(F203=\"\",\"\",VLOOKUP(F203,referentes!$T$2:$W$200,2,FALSE))","v":""},null,null,{"$f":"IF(I203=\"\", \"\", VLOOKUP(I203,referentes!$J$2:$Q$14,2,FALSE))","v":""},null,null,{"$f":"IF(L203=\"\", \"\", INDEX(referentes!$D$2:$E$17,MATCH(L203,referentes!E$2:E$17,0),1))","v":""},null,null,null,null,"","",null,null,null,"","","","","",""]
[null,{"$f":"IF(C204=\"\",\"\",IF(COUNTIF($C$3:C204, C204)>1, \"\", C204))","v":""},{"$f":"IF(G204=\"\",\"\",IF(F204=\"\",\"\",CONCATENATE(3,DIGITADOR!$M$1,G204,E204)))","v":""},"",{"$f":"IF(F204=\"\",\"\",VLOOKUP(F204,referentes!$T$2:$W$200,2,FALSE))","v":""},null,null,{"$f":"IF(I204=\"\", \"\", VLOOKUP(I204,referentes!$J$2:$Q$14,2,FALSE))","v":""},null,null,{"$f":"IF(L204=\"\", \"\", INDEX(referentes!$D$2:$E$17,MATCH(L204,referentes!E$2:E$17,0),1))","v":""},null,null,null,null,"","",null,null,null,"","","","","",""]
[null,{"$f":"IF(C205=\"\",\"\",IF(COUNTIF($C$3:C205, C205)>1, \"\", C205))","v":""},{"$f":"IF(G205=\"\",\"\",IF(F205=\"\",\"\",CONCATENATE(3,DIGITADOR!$M$1,G205,E205)))","v":""},"",{"$f":"IF(F205=\"\",\"\",VLOOKUP(F205,referentes!$T$2:$W$200,2,FALSE))","v":""},null,null,{"$f":"IF(I205=\"\", \"\", VLOOKUP(I205,referentes!$J$2:$Q$14,2,FALSE))","v":""},null,null,{"$f":"IF(L205=\"\", \"\", INDEX(referentes!$D$2:$E$17,MATCH(L205,referentes!E$2:E$17,0),1))","v":""},null,null,null,null,"","",null,null,null,"","","","","",""]
[null,{"$f":"IF(C206=\"\",\"\",IF(COUNTIF($C$3:C206, C206)>1, \"\", C206))","v":""},{"$f":"IF(G206=\"\",\"\",IF(F206=\"\",\"\",CONCATENATE(3,DIGITADOR!$M$1,G206,E206)))","v":""},"",{"$f":"IF(F206=\"\",\"\",VLOOKUP(F206,referentes!$T$2:$W$200,2,FALSE))","v":""},null,null,{"$f":"IF(I206=\"\", \"\", VLOOKUP(I206,referentes!$J$2:$Q$14,2,FALSE))","v":""},null,null,{"$f":"IF(L206=\"\", \"\", INDEX(referentes!$D$2:$E$17,MATCH(L206,referentes!E$2:E$17,0),1))","v":""},null,null,null,null,"","",null,null,null,"","","","","",""]
[null,{"$f":"IF(C207=\"\",\"\",IF(COUNTIF($C$3:C207, C207)>1, \"\", C207))","v":""},{"$f":"IF(G207=\"\",\"\",IF(F207=\"\",\"\",CONCATENATE(3,DIGITADOR!$M$1,G207,E207)))","v":""},"",{"$f":"IF(F207=\"\",\"\",VLOOKUP(F207,referentes!$T$2:$W$200,2,FALSE))","v":""},null,null,{"$f":"IF(I207=\"\", \"\", VLOOKUP(I207,referentes!$J$2:$Q$14,2,FALSE))","v":""},null,null,{"$f":"IF(L207=\"\", \"\", INDEX(referentes!$D$2:$E$17,MATCH(L207,referentes!E$2:E$17,0),1))","v":""},null,null,null,null,"","",null,null,null,"","","","","",""]
[null,{"$f":"IF(C208=\"\",\"\",IF(COUNTIF($C$3:C208, C208)>1, \"\", C208))","v":""},{"$f":"IF(G208=\"\",\"\",IF(F208=\"\",\"\",CONCATENATE(3,DIGITADOR!$M$1,G208,E208)))","v":""},"",{"$f":"IF(F208=\"\",\"\",VLOOKUP(F208,referentes!$T$2:$W$200,2,FALSE))","v":""},null,null,{"$f":"IF(I208=\"\", \"\", VLOOKUP(I208,referentes!$J$2:$Q$14,2,FALSE))","v":""},null,null,{"$f":"IF(L208=\"\", \"\", INDEX(referentes!$D$2:$E$17,MATCH(L208,referentes!E$2:E$17,0),1))","v":""},null,null,null,null,"","",null,null,null,"","","","","",""]
[null,{"$f":"IF(C209=\"\",\"\",IF(COUNTIF($C$3:C209, C209)>1, \"\", C209))","v":""},{"$f":"IF(G209=\"\",\"\",IF(F209=\"\",\"\",CONCATENATE(3,DIGITADOR!$M$1,G209,E209)))","v":""},"",{"$f":"IF(F209=\"\",\"\",VLOOKUP(F209,referentes!$T$2:$W$200,2,FALSE))","v":""},null,null,{"$f":"IF(I209=\"\", \"\", VLOOKUP(I209,referentes!$J$2:$Q$14,2,FALSE))","v":""},null,null,{"$f":"IF(L209=\"\", \"\", INDEX(referentes!$D$2:$E$17,MATCH(L209,referentes!E$2:E$17,0),1))","v":""},null,null,null,null,"","",null,null,null,"","","","","",""]
[null,{"$f":"IF(C210=\"\",\"\",IF(COUNTIF($C$3:C210, C210)>1, \"\", C210))","v":""},{"$f":"IF(G210=\"\",\"\",IF(F210=\"\",\"\",CONCATENATE(3,DIGITADOR!$M$1,G210,E210)))","v":""},"",{"$f":"IF(F210=\"\",\"\",VLOOKUP(F210,referentes!$T$2:$W$200,2,FALSE))","v":""},null,null,{"$f":"IF(I210=\"\", \"\", VLOOKUP(I210,referentes!$J$2:$Q$14,2,FALSE))","v":""},null,null,{"$f":"IF(L210=\"\", \"\", INDEX(referentes!$D$2:$E$17,MATCH(L210,referentes!E$2:E$17,0),1))","v":""},null,null,null,null,"","",null,null,null,"","","","","",""]
[null,{"$f":"IF(C211=\"\",\"\",IF(COUNTIF($C$3:C211, C211)>1, \"\", C211))","v":""},{"$f":"IF(G211=\"\",\"\",IF(F211=\"\",\"\",CONCATENATE(3,DIGITADOR!$M$1,G211,E211)))","v":""},"",{"$f":"IF(F211=\"\",\"\",VLOOKUP(F211,referentes!$T$2:$W$200,2,FALSE))","v":""},null,null,{"$f":"IF(I211=\"\", \"\", VLOOKUP(I211,referentes!$J$2:$Q$14,2,FALSE))","v":""},null,null,{"$f":"IF(L211=\"\", \"\", INDEX(referentes!$D$2:$E$17,MATCH(L211,referentes!E$2:E$17,0),1))","v":""},null,null,null,null,"","",null,null,null,"","","","","",""]
[null,{"$f":"IF(C212=\"\",\"\",IF(COUNTIF($C$3:C212, C212)>1, \"\", C212))","v":""},{"$f":"IF(G212=\"\",\"\",IF(F212=\"\",\"\",CONCATENATE(3,DIGITADOR!$M$1,G212,E212)))","v":""},"",{"$f":"IF(F212=\"\",\"\",VLOOKUP(F212,referentes!$T$2:$W$200,2,FALSE))","v":""},null,null,{"$f":"IF(I212=\"\", \"\", VLOOKUP(I212,referentes!$J$2:$Q$14,2,FALSE))","v":""},null,null,{"$f":"IF(L212=\"\", \"\", INDEX(referentes!$D$2:$E$17,MATCH(L212,referentes!E$2:E$17,0),1))","v":""},null,null,null,null,"","",null,null,null,"","","","","",""]
[null,{"$f":"IF(C213=\"\",\"\",IF(COUNTIF($C$3:C213, C213)>1, \"\", C213))","v":""},{"$f":"IF(G213=\"\",\"\",IF(F213=\"\",\"\",CONCATENATE(3,DIGITADOR!$M$1,G213,E213)))","v":""},"",{"$f":"IF(F213=\"\",\"\",VLOOKUP(F213,referentes!$T$2:$W$200,2,FALSE))","v":""},null,null,{"$f":"IF(I213=\"\", \"\", VLOOKUP(I213,referentes!$J$2:$Q$14,2,FALSE))","v":""},null,null,{"$f":"IF(L213=\"\", \"\", INDEX(referentes!$D$2:$E$17,MATCH(L213,referentes!E$2:E$17,0),1))","v":""},null,null,null,null,"","",null,null,null,"","","","","",""]
[null,{"$f":"IF(C214=\"\",\"\",IF(COUNTIF($C$3:C214, C214)>1, \"\", C214))","v":""},{"$f":"IF(G214=\"\",\"\",IF(F214=\"\",\"\",CONCATENATE(3,DIGITADOR!$M$1,G214,E214)))","v":""},"",{"$f":"IF(F214=\"\",\"\",VLOOKUP(F214,referentes!$T$2:$W$200,2,FALSE))","v":""},null,null,{"$f":"IF(I214=\"\", \"\", VLOOKUP(I214,referentes!$J$2:$Q$14,2,FALSE))","v":""},null,null,{"$f":"IF(L214=\"\", \"\", INDEX(referentes!$D$2:$E$17,MATCH(L214,referentes!E$2:E$17,0),1))","v":""},null,null,null,null,"","",null,null,null,"","","","","",""]
[null,{"$f":"IF(C215=\"\",\"\",IF(COUNTIF($C$3:C215, C215)>1, \"\", C215))","v":""},{"$f":"IF(G215=\"\",\"\",IF(F215=\"\",\"\",CONCATENATE(3,DIGITADOR!$M$1,G215,E215)))","v":""},"",{"$f":"IF(F215=\"\",\"\",VLOOKUP(F215,referentes!$T$2:$W$200,2,FALSE))","v":""},null,null,{"$f":"IF(I215=\"\", \"\", VLOOKUP(I215,referentes!$J$2:$Q$14,2,FALSE))","v":""},null,null,{"$f":"IF(L215=\"\", \"\", INDEX(referentes!$D$2:$E$17,MATCH(L215,referentes!E$2:E$17,0),1))","v":""},null,null,null,null,"","",null,null,null,"","","","","",""]
[null,{"$f":"IF(C216=\"\",\"\",IF(COUNTIF($C$3:C216, C216)>1, \"\", C216))","v":""},{"$f":"IF(G216=\"\",\"\",IF(F216=\"\",\"\",CONCATENATE(3,DIGITADOR!$M$1,G216,E216)))","v":""},"",{"$f":"IF(F216=\"\",\"\",VLOOKUP(F216,referentes!$T$2:$W$200,2,FALSE))","v":""},null,null,{"$f":"IF(I216=\"\", \"\", VLOOKUP(I216,referentes!$J$2:$Q$14,2,FALSE))","v":""},null,null,{"$f":"IF(L216=\"\", \"\", INDEX(referentes!$D$2:$E$17,MATCH(L216,referentes!E$2:E$17,0),1))","v":""},null,null,null,null,"","",null,null,null,"","","","","",""]
[null,{"$f":"IF(C217=\"\",\"\",IF(COUNTIF($C$3:C217, C217)>1, \"\", C217))","v":""},{"$f":"IF(G217=\"\",\"\",IF(F217=\"\",\"\",CONCATENATE(3,DIGITADOR!$M$1,G217,E217)))","v":""},"",{"$f":"IF(F217=\"\",\"\",VLOOKUP(F217,referentes!$T$2:$W$200,2,FALSE))","v":""},null,null,{"$f":"IF(I217=\"\", \"\", VLOOKUP(I217,referentes!$J$2:$Q$14,2,FALSE))","v":""},null,null,{"$f":"IF(L217=\"\", \"\", INDEX(referentes!$D$2:$E$17,MATCH(L217,referentes!E$2:E$17,0),1))","v":""},null,null,null,null,"","",null,null,null,"","","","","",""]
[null,{"$f":"IF(C218=\"\",\"\",IF(COUNTIF($C$3:C218, C218)>1, \"\", C218))","v":""},{"$f":"IF(G218=\"\",\"\",IF(F218=\"\",\"\",CONCATENATE(3,DIGITADOR!$M$1,G218,E218)))","v":""},"",{"$f":"IF(F218=\"\",\"\",VLOOKUP(F218,referentes!$T$2:$W$200,2,FALSE))","v":""},null,null,{"$f":"IF(I218=\"\", \"\", VLOOKUP(I218,referentes!$J$2:$Q$14,2,FALSE))","v":""},null,null,{"$f":"IF(L218=\"\", \"\", INDEX(referentes!$D$2:$E$17,MATCH(L218,referentes!E$2:E$17,0),1))","v":""},null,null,null,null,"","",null,null,null,"","","","","",""]
[null,{"$f":"IF(C219=\"\",\"\",IF(COUNTIF($C$3:C219, C219)>1, \"\", C219))","v":""},{"$f":"IF(G219=\"\",\"\",IF(F219=\"\",\"\",CONCATENATE(3,DIGITADOR!$M$1,G219,E219)))","v":""},"",{"$f":"IF(F219=\"\",\"\",VLOOKUP(F219,referentes!$T$2:$W$200,2,FALSE))","v":""},null,null,{"$f":"IF(I219=\"\", \"\", VLOOKUP(I219,referentes!$J$2:$Q$14,2,FALSE))","v":""},null,null,{"$f":"IF(L219=\"\", \"\", INDEX(referentes!$D$2:$E$17,MATCH(L219,referentes!E$2:E$17,0),1))","v":""},null,null,null,null,"","",null,null,null,"","","","","",""]
[null,{"$f":"IF(C220=\"\",\"\",IF(COUNTIF($C$3:C220, C220)>1, \"\", C220))","v":""},{"$f":"IF(G220=\"\",\"\",IF(F220=\"\",\"\",CONCATENATE(3,DIGITADOR!$M$1,G220,E220)))","v":""},"",{"$f":"IF(F220=\"\",\"\",VLOOKUP(F220,referentes!$T$2:$W$200,2,FALSE))","v":""},null,null,{"$f":"IF(I220=\"\", \"\", VLOOKUP(I220,referentes!$J$2:$Q$14,2,FALSE))","v":""},null,null,{"$f":"IF(L220=\"\", \"\", INDEX(referentes!$D$2:$E$17,MATCH(L220,referentes!E$2:E$17,0),1))","v":""},null,null,null,null,"","",null,null,null,"","","","","",""]
[null,{"$f":"IF(C221=\"\",\"\",IF(COUNTIF($C$3:C221, C221)>1, \"\", C221))","v":""},{"$f":"IF(G221=\"\",\"\",IF(F221=\"\",\"\",CONCATENATE(3,DIGITADOR!$M$1,G221,E221)))","v":""},"",{"$f":"IF(F221=\"\",\"\",VLOOKUP(F221,referentes!$T$2:$W$200,2,FALSE))","v":""},null,null,{"$f":"IF(I221=\"\", \"\", VLOOKUP(I221,referentes!$J$2:$Q$14,2,FALSE))","v":""},null,null,{"$f":"IF(L221=\"\", \"\", INDEX(referentes!$D$2:$E$17,MATCH(L221,referentes!E$2:E$17,0),1))","v":""},null,null,null,null,"","",null,null,null,"","","","","",""]
[null,{"$f":"IF(C222=\"\",\"\",IF(COUNTIF($C$3:C222, C222)>1, \"\", C222))","v":""},{"$f":"IF(G222=\"\",\"\",IF(F222=\"\",\"\",CONCATENATE(3,DIGITADOR!$M$1,G222,E222)))","v":""},"",{"$f":"IF(F222=\"\",\"\",VLOOKUP(F222,referentes!$T$2:$W$200,2,FALSE))","v":""},null,null,{"$f":"IF(I222=\"\", \"\", VLOOKUP(I222,referentes!$J$2:$Q$14,2,FALSE))","v":""},null,null,{"$f":"IF(L222=\"\", \"\", INDEX(referentes!$D$2:$E$17,MATCH(L222,referentes!E$2:E$17,0),1))","v":""},null,null,null,null,"","",null,null,null,"","","","","",""]
[null,{"$f":"IF(C223=\"\",\"\",IF(COUNTIF($C$3:C223, C223)>1, \"\", C223))","v":""},{"$f":"IF(G223=\"\",\"\",IF(F223=\"\",\"\",CONCATENATE(3,DIGITADOR!$M$1,G223,E223)))","v":""},"",{"$f":"IF(F223=\"\",\"\",VLOOKUP(F223,referentes!$T$2:$W$200,2,FALSE))","v":""},null,null,{"$f":"IF(I223=\"\", \"\", VLOOKUP(I223,referentes!$J$2:$Q$14,2,FALSE))","v":""},null,null,{"$f":"IF(L223=\"\", \"\", INDEX(referentes!$D$2:$E$17,MATCH(L223,referentes!E$2:E$17,0),1))","v":""},null,null,null,null,"","",null,null,null,"","","","","",""]
[null,{"$f":"IF(C224=\"\",\"\",IF(COUNTIF($C$3:C224, C224)>1, \"\", C224))","v":""},{"$f":"IF(G224=\"\",\"\",IF(F224=\"\",\"\",CONCATENATE(3,DIGITADOR!$M$1,G224,E224)))","v":""},"",{"$f":"IF(F224=\"\",\"\",VLOOKUP(F224,referentes!$T$2:$W$200,2,FALSE))","v":""},null,null,{"$f":"IF(I224=\"\", \"\", VLOOKUP(I224,referentes!$J$2:$Q$14,2,FALSE))","v":""},null,null,{"$f":"IF(L224=\"\", \"\", INDEX(referentes!$D$2:$E$17,MATCH(L224,referentes!E$2:E$17,0),1))","v":""},null,null,null,null,"","",null,null,null,"","","","","",""]
[null,{"$f":"IF(C225=\"\",\"\",IF(COUNTIF($C$3:C225, C225)>1, \"\", C225))","v":""},{"$f":"IF(G225=\"\",\"\",IF(F225=\"\",\"\",CONCATENATE(3,DIGITADOR!$M$1,G225,E225)))","v":""},"",{"$f":"IF(F225=\"\",\"\",VLOOKUP(F225,referentes!$T$2:$W$200,2,FALSE))","v":""},null,null,{"$f":"IF(I225=\"\", \"\", VLOOKUP(I225,referentes!$J$2:$Q$14,2,FALSE))","v":""},null,null,{"$f":"IF(L225=\"\", \"\", INDEX(referentes!$D$2:$E$17,MATCH(L225,referentes!E$2:E$17,0),1))","v":""},null,null,null,null,"","",null,null,null,"","","","","",""]
[null,{"$f":"IF(C226=\"\",\"\",IF(COUNTIF($C$3:C226, C226)>1, \"\", C226))","v":""},{"$f":"IF(G226=\"\",\"\",IF(F226=\"\",\"\",CONCATENATE(3,DIGITADOR!$M$1,G226,E226)))","v":""},"",{"$f":"IF(F226=\"\",\"\",VLOOKUP(F226,referentes!$T$2:$W$200,2,FALSE))","v":""},null,null,{"$f":"IF(I226=\"\", \"\", VLOOKUP(I226,referentes!$J$2:$Q$14,2,FALSE))","v":""},null,null,{"$f":"IF(L226=\"\", \"\", INDEX(referentes!$D$2:$E$17,MATCH(L226,referentes!E$2:E$17,0),1))","v":""},null,null,null,null,"","",null,null,null,"","","","","",""]
[null,{"$f":"IF(C227=\"\",\"\",IF(COUNTIF($C$3:C227, C227)>1, \"\", C227))","v":""},{"$f":"IF(G227=\"\",\"\",IF(F227=\"\",\"\",CONCATENATE(3,DIGITADOR!$M$1,G227,E227)))","v":""},"",{"$f":"IF(F227=\"\",\"\",VLOOKUP(F227,referentes!$T$2:$W$200,2,FALSE))","v":""},null,null,{"$f":"IF(I227=\"\", \"\", VLOOKUP(I227,referentes!$J$2:$Q$14,2,FALSE))","v":""},null,null,{"$f":"IF(L227=\"\", \"\", INDEX(referentes!$D$2:$E$17,MATCH(L227,referentes!E$2:E$17,0),1))","v":""},null,null,null,null,"","",null,null,null,"","","","","",""]
[null,{"$f":"IF(C228=\"\",\"\",IF(COUNTIF($C$3:C228, C228)>1, \"\", C228))","v":""},{"$f":"IF(G228=\"\",\"\",IF(F228=\"\",\"\",CONCATENATE(3,DIGITADOR!$M$1,G228,E228)))","v":""},"",{"$f":"IF(F228=\"\",\"\",VLOOKUP(F228,referentes!$T$2:$W$200,2,FALSE))","v":""},null,null,{"$f":"IF(I228=\"\", \"\", VLOOKUP(I228,referentes!$J$2:$Q$14,2,FALSE))","v":""},null,null,{"$f":"IF(L228=\"\", \"\", INDEX(referentes!$D$2:$E$17,MATCH(L228,referentes!E$2:E$17,0),1))","v":""},null,null,null,null,"","",null,null,null,"","","","","",""]
[null,{"$f":"IF(C229=\"\",\"\",IF(COUNTIF($C$3:C229, C229)>1, \"\", C229))","v":""},{"$f":"IF(G229=\"\",\"\",IF(F229=\"\",\"\",CONCATENATE(3,DIGITADOR!$M$1,G229,E229)))","v":""},"",{"$f":"IF(F229=\"\",\"\",VLOOKUP(F229,referentes!$T$2:$W$200,2,FALSE))","v":""},null,null,{"$f":"IF(I229=\"\", \"\", VLOOKUP(I229,referentes!$J$2:$Q$14,2,FALSE))","v":""},null,null,{"$f":"IF(L229=\"\", \"\", INDEX(referentes!$D$2:$E$17,MATCH(L229,referentes!E$2:E$17,0),1))","v":""},null,null,null,null,"","",null,null,null,"","","","","",""]
[null,{"$f":"IF(C230=\"\",\"\",IF(COUNTIF($C$3:C230, C230)>1, \"\", C230))","v":""},{"$f":"IF(G230=\"\",\"\",IF(F230=\"\",\"\",CONCATENATE(3,DIGITADOR!$M$1,G230,E230)))","v":""},"",{"$f":"IF(F230=\"\",\"\",VLOOKUP(F230,referentes!$T$2:$W$200,2,FALSE))","v":""},null,null,{"$f":"IF(I230=\"\", \"\", VLOOKUP(I230,referentes!$J$2:$Q$14,2,FALSE))","v":""},null,null,{"$f":"IF(L230=\"\", \"\", INDEX(referentes!$D$2:$E$17,MATCH(L230,referentes!E$2:E$17,0),1))","v":""},null,null,null,null,"","",null,null,null,"","","","","",""]
[null,{"$f":"IF(C231=\"\",\"\",IF(COUNTIF($C$3:C231, C231)>1, \"\", C231))","v":""},{"$f":"IF(G231=\"\",\"\",IF(F231=\"\",\"\",CONCATENATE(3,DIGITADOR!$M$1,G231,E231)))","v":""},"",{"$f":"IF(F231=\"\",\"\",VLOOKUP(F231,referentes!$T$2:$W$200,2,FALSE))","v":""},null,null,{"$f":"IF(I231=\"\", \"\", VLOOKUP(I231,referentes!$J$2:$Q$14,2,FALSE))","v":""},null,null,{"$f":"IF(L231=\"\", \"\", INDEX(referentes!$D$2:$E$17,MATCH(L231,referentes!E$2:E$17,0),1))","v":""},null,null,null,null,"","",null,null,null,"","","","","",""]
[null,{"$f":"IF(C232=\"\",\"\",IF(COUNTIF($C$3:C232, C232)>1, \"\", C232))","v":""},{"$f":"IF(G232=\"\",\"\",IF(F232=\"\",\"\",CONCATENATE(3,DIGITADOR!$M$1,G232,E232)))","v":""},"",{"$f":"IF(F232=\"\",\"\",VLOOKUP(F232,referentes!$T$2:$W$200,2,FALSE))","v":""},null,null,{"$f":"IF(I232=\"\", \"\", VLOOKUP(I232,referentes!$J$2:$Q$14,2,FALSE))","v":""},null,null,{"$f":"IF(L232=\"\", \"\", INDEX(referentes!$D$2:$E$17,MATCH(L232,referentes!E$2:E$17,0),1))","v":""},null,null,null,null,"","",null,null,null,"","","","","",""]
[null,{"$f":"IF(C233=\"\",\"\",IF(COUNTIF($C$3:C233, C233)>1, \"\", C233))","v":""},{"$f":"IF(G233=\"\",\"\",IF(F233=\"\",\"\",CONCATENATE(3,DIGITADOR!$M$1,G233,E233)))","v":""},"",{"$f":"IF(F233=\"\",\"\",VLOOKUP(F233,referentes!$T$2:$W$200,2,FALSE))","v":""},null,null,{"$f":"IF(I233=\"\", \"\", VLOOKUP(I233,referentes!$J$2:$Q$14,2,FALSE))","v":""},null,null,{"$f":"IF(L233=\"\", \"\", INDEX(referentes!$D$2:$E$17,MATCH(L233,referentes!E$2:E$17,0),1))","v":""},null,null,null,null,"","",null,null,null,"","","","","",""]
[null,{"$f":"IF(C234=\"\",\"\",IF(COUNTIF($C$3:C234, C234)>1, \"\", C234))","v":""},{"$f":"IF(G234=\"\",\"\",IF(F234=\"\",\"\",CONCATENATE(3,DIGITADOR!$M$1,G234,E234)))","v":""},"",{"$f":"IF(F234=\"\",\"\",VLOOKUP(F234,referentes!$T$2:$W$200,2,FALSE))","v":""},null,null,{"$f":"IF(I234=\"\", \"\", VLOOKUP(I234,referentes!$J$2:$Q$14,2,FALSE))","v":""},null,null,{"$f":"IF(L234=\"\", \"\", INDEX(referentes!$D$2:$E$17,MATCH(L234,referentes!E$2:E$17,0),1))","v":""},null,null,null,null,"","",null,null,null,"","","","","",""]
[null,{"$f":"IF(C235=\"\",\"\",IF(COUNTIF($C$3:C235, C235)>1, \"\", C235))","v":""},{"$f":"IF(G235=\"\",\"\",IF(F235=\"\",\"\",CONCATENATE(3,DIGITADOR!$M$1,G235,E235)))","v":""},"",{"$f":"IF(F235=\"\",\"\",VLOOKUP(F235,referentes!$T$2:$W$200,2,FALSE))","v":""},null,null,{"$f":"IF(I235=\"\", \"\", VLOOKUP(I235,referentes!$J$2:$Q$14,2,FALSE))","v":""},null,null,{"$f":"IF(L235=\"\", \"\", INDEX(referentes!$D$2:$E$17,MATCH(L235,referentes!E$2:E$17,0),1))","v":""},null,null,null,null,"","",null,null,null,"","","","","",""]
[null,{"$f":"IF(C236=\"\",\"\",IF(COUNTIF($C$3:C236, C236)>1, \"\", C236))","v":""},{"$f":"IF(G236=\"\",\"\",IF(F236=\"\",\"\",CONCATENATE(3,DIGITADOR!$M$1,G236,E236)))","v":""},"",{"$f":"IF(F236=\"\",\"\",VLOOKUP(F236,referentes!$T$2:$W$200,2,FALSE))","v":""},null,null,{"$f":"IF(I236=\"\", \"\", VLOOKUP(I236,referentes!$J$2:$Q$14,2,FALSE))","v":""},null,null,{"$f":"IF(L236=\"\", \"\", INDEX(referentes!$D$2:$E$17,MATCH(L236,referentes!E$2:E$17,0),1))","v":""},null,null,null,null,"","",null,null,null,"","","","","",""]
[null,{"$f":"IF(C237=\"\",\"\",IF(COUNTIF($C$3:C237, C237)>1, \"\", C237))","v":""},{"$f":"IF(G237=\"\",\"\",IF(F237=\"\",\"\",CONCATENATE(3,DIGITADOR!$M$1,G237,E237)))","v":""},"",{"$f":"IF(F237=\"\",\"\",VLOOKUP(F237,referentes!$T$2:$W$200,2,FALSE))","v":""},null,null,{"$f":"IF(I237=\"\", \"\", VLOOKUP(I237,referentes!$J$2:$Q$14,2,FALSE))","v":""},null,null,{"$f":"IF(L237=\"\", \"\", INDEX(referentes!$D$2:$E$17,MATCH(L237,referentes!E$2:E$17,0),1))","v":""},null,null,null,null,"","",null,null,null,"","","","","",""]
[null,{"$f":"IF(C238=\"\",\"\",IF(COUNTIF($C$3:C238, C238)>1, \"\", C238))","v":""},{"$f":"IF(G238=\"\",\"\",IF(F238=\"\",\"\",CONCATENATE(3,DIGITADOR!$M$1,G238,E238)))","v":""},"",{"$f":"IF(F238=\"\",\"\",VLOOKUP(F238,referentes!$T$2:$W$200,2,FALSE))","v":""},null,null,{"$f":"IF(I238=\"\", \"\", VLOOKUP(I238,referentes!$J$2:$Q$14,2,FALSE))","v":""},null,null,{"$f":"IF(L238=\"\", \"\", INDEX(referentes!$D$2:$E$17,MATCH(L238,referentes!E$2:E$17,0),1))","v":""},null,null,null,null,"","",null,null,null,"","","","","",""]
[null,{"$f":"IF(C239=\"\",\"\",IF(COUNTIF($C$3:C239, C239)>1, \"\", C239))","v":""},{"$f":"IF(G239=\"\",\"\",IF(F239=\"\",\"\",CONCATENATE(3,DIGITADOR!$M$1,G239,E239)))","v":""},"",{"$f":"IF(F239=\"\",\"\",VLOOKUP(F239,referentes!$T$2:$W$200,2,FALSE))","v":""},null,null,{"$f":"IF(I239=\"\", \"\", VLOOKUP(I239,referentes!$J$2:$Q$14,2,FALSE))","v":""},null,null,{"$f":"IF(L239=\"\", \"\", INDEX(referentes!$D$2:$E$17,MATCH(L239,referentes!E$2:E$17,0),1))","v":""},null,null,null,null,"","",null,null,null,"","","","","",""]
[null,{"$f":"IF(C240=\"\",\"\",IF(COUNTIF($C$3:C240, C240)>1, \"\", C240))","v":""},{"$f":"IF(G240=\"\",\"\",IF(F240=\"\",\"\",CONCATENATE(3,DIGITADOR!$M$1,G240,E240)))","v":""},"",{"$f":"IF(F240=\"\",\"\",VLOOKUP(F240,referentes!$T$2:$W$200,2,FALSE))","v":""},null,null,{"$f":"IF(I240=\"\", \"\", VLOOKUP(I240,referentes!$J$2:$Q$14,2,FALSE))","v":""},null,null,{"$f":"IF(L240=\"\", \"\", INDEX(referentes!$D$2:$E$17,MATCH(L240,referentes!E$2:E$17,0),1))","v":""},null,null,null,null,"","",null,null,null,"","","","","",""]
[null,{"$f":"IF(C241=\"\",\"\",IF(COUNTIF($C$3:C241, C241)>1, \"\", C241))","v":""},{"$f":"IF(G241=\"\",\"\",IF(F241=\"\",\"\",CONCATENATE(3,DIGITADOR!$M$1,G241,E241)))","v":""},"",{"$f":"IF(F241=\"\",\"\",VLOOKUP(F241,referentes!$T$2:$W$200,2,FALSE))","v":""},null,null,{"$f":"IF(I241=\"\", \"\", VLOOKUP(I241,referentes!$J$2:$Q$14,2,FALSE))","v":""},null,null,{"$f":"IF(L241=\"\", \"\", INDEX(referentes!$D$2:$E$17,MATCH(L241,referentes!E$2:E$17,0),1))","v":""},null,null,null,null,"","",null,null,null,"","","","","",""]
[null,{"$f":"IF(C242=\"\",\"\",IF(COUNTIF($C$3:C242, C242)>1, \"\", C242))","v":""},{"$f":"IF(G242=\"\",\"\",IF(F242=\"\",\"\",CONCATENATE(3,DIGITADOR!$M$1,G242,E242)))","v":""},"",{"$f":"IF(F242=\"\",\"\",VLOOKUP(F242,referentes!$T$2:$W$200,2,FALSE))","v":""},null,null,{"$f":"IF(I242=\"\", \"\", VLOOKUP(I242,referentes!$J$2:$Q$14,2,FALSE))","v":""},null,null,{"$f":"IF(L242=\"\", \"\", INDEX(referentes!$D$2:$E$17,MATCH(L242,referentes!E$2:E$17,0),1))","v":""},null,null,null,null,"","",null,null,null,"","","","","",""]
[null,{"$f":"IF(C243=\"\",\"\",IF(COUNTIF($C$3:C243, C243)>1, \"\", C243))","v":""},{"$f":"IF(G243=\"\",\"\",IF(F243=\"\",\"\",CONCATENATE(3,DIGITADOR!$M$1,G243,E243)))","v":""},"",{"$f":"IF(F243=\"\",\"\",VLOOKUP(F243,referentes!$T$2:$W$200,2,FALSE))","v":""},null,null,{"$f":"IF(I243=\"\", \"\", VLOOKUP(I243,referentes!$J$2:$Q$14,2,FALSE))","v":""},null,null,{"$f":"IF(L243=\"\", \"\", INDEX(referentes!$D$2:$E$17,MATCH(L243,referentes!E$2:E$17,0),1))","v":""},null,null,null,null,"","",null,null,null,"","","","","",""]
[null,{"$f":"IF(C244=\"\",\"\",IF(COUNTIF($C$3:C244, C244)>1, \"\", C244))","v":""},{"$f":"IF(G244=\"\",\"\",IF(F244=\"\",\"\",CONCATENATE(3,DIGITADOR!$M$1,G244,E244)))","v":""},"",{"$f":"IF(F244=\"\",\"\",VLOOKUP(F244,referentes!$T$2:$W$200,2,FALSE))","v":""},null,null,{"$f":"IF(I244=\"\", \"\", VLOOKUP(I244,referentes!$J$2:$Q$14,2,FALSE))","v":""},null,null,{"$f":"IF(L244=\"\", \"\", INDEX(referentes!$D$2:$E$17,MATCH(L244,referentes!E$2:E$17,0),1))","v":""},null,null,null,null,"","",null,null,null,"","","","","",""]
[null,{"$f":"IF(C245=\"\",\"\",IF(COUNTIF($C$3:C245, C245)>1, \"\", C245))","v":""},{"$f":"IF(G245=\"\",\"\",IF(F245=\"\",\"\",CONCATENATE(3,DIGITADOR!$M$1,G245,E245)))","v":""},"",{"$f":"IF(F245=\"\",\"\",VLOOKUP(F245,referentes!$T$2:$W$200,2,FALSE))","v":""},null,null,{"$f":"IF(I245=\"\", \"\", VLOOKUP(I245,referentes!$J$2:$Q$14,2,FALSE))","v":""},null,null,{"$f":"IF(L245=\"\", \"\", INDEX(referentes!$D$2:$E$17,MATCH(L245,referentes!E$2:E$17,0),1))","v":""},null,null,null,null,"","",null,null,null,"","","","","",""]
[null,{"$f":"IF(C246=\"\",\"\",IF(COUNTIF($C$3:C246, C246)>1, \"\", C246))","v":""},{"$f":"IF(G246=\"\",\"\",IF(F246=\"\",\"\",CONCATENATE(3,DIGITADOR!$M$1,G246,E246)))","v":""},"",{"$f":"IF(F246=\"\",\"\",VLOOKUP(F246,referentes!$T$2:$W$200,2,FALSE))","v":""},null,null,{"$f":"IF(I246=\"\", \"\", VLOOKUP(I246,referentes!$J$2:$Q$14,2,FALSE))","v":""},null,null,{"$f":"IF(L246=\"\", \"\", INDEX(referentes!$D$2:$E$17,MATCH(L246,referentes!E$2:E$17,0),1))","v":""},null,null,null,null,"","",null,null,null,"","","","","",""]
[null,{"$f":"IF(C247=\"\",\"\",IF(COUNTIF($C$3:C247, C247)>1, \"\", C247))","v":""},{"$f":"IF(G247=\"\",\"\",IF(F247=\"\",\"\",CONCATENATE(3,DIGITADOR!$M$1,G247,E247)))","v":""},"",{"$f":"IF(F247=\"\",\"\",VLOOKUP(F247,referentes!$T$2:$W$200,2,FALSE))","v":""},null,null,{"$f":"IF(I247=\"\", \"\", VLOOKUP(I247,referentes!$J$2:$Q$14,2,FALSE))","v":""},null,null,{"$f":"IF(L247=\"\", \"\", INDEX(referentes!$D$2:$E$17,MATCH(L247,referentes!E$2:E$17,0),1))","v":""},null,null,null,null,"","",null,null,null,"","","","","",""]
[null,{"$f":"IF(C248=\"\",\"\",IF(COUNTIF($C$3:C248, C248)>1, \"\", C248))","v":""},{"$f":"IF(G248=\"\",\"\",IF(F248=\"\",\"\",CONCATENATE(3,DIGITADOR!$M$1,G248,E248)))","v":""},"",{"$f":"IF(F248=\"\",\"\",VLOOKUP(F248,referentes!$T$2:$W$200,2,FALSE))","v":""},null,null,{"$f":"IF(I248=\"\", \"\", VLOOKUP(I248,referentes!$J$2:$Q$14,2,FALSE))","v":""},null,null,{"$f":"IF(L248=\"\", \"\", INDEX(referentes!$D$2:$E$17,MATCH(L248,referentes!E$2:E$17,0),1))","v":""},null,null,null,null,"","",null,null,null,"","","","","",""]
[null,{"$f":"IF(C249=\"\",\"\",IF(COUNTIF($C$3:C249, C249)>1, \"\", C249))","v":""},{"$f":"IF(G249=\"\",\"\",IF(F249=\"\",\"\",CONCATENATE(3,DIGITADOR!$M$1,G249,E249)))","v":""},"",{"$f":"IF(F249=\"\",\"\",VLOOKUP(F249,referentes!$T$2:$W$200,2,FALSE))","v":""},null,null,{"$f":"IF(I249=\"\", \"\", VLOOKUP(I249,referentes!$J$2:$Q$14,2,FALSE))","v":""},null,null,{"$f":"IF(L249=\"\", \"\", INDEX(referentes!$D$2:$E$17,MATCH(L249,referentes!E$2:E$17,0),1))","v":""},null,null,null,null,"","",null,null,null,"","","","","",""]
[null,{"$f":"IF(C250=\"\",\"\",IF(COUNTIF($C$3:C250, C250)>1, \"\", C250))","v":""},{"$f":"IF(G250=\"\",\"\",IF(F250=\"\",\"\",CONCATENATE(3,DIGITADOR!$M$1,G250,E250)))","v":""},"",{"$f":"IF(F250=\"\",\"\",VLOOKUP(F250,referentes!$T$2:$W$200,2,FALSE))","v":""},null,null,{"$f":"IF(I250=\"\", \"\", VLOOKUP(I250,referentes!$J$2:$Q$14,2,FALSE))","v":""},null,null,{"$f":"IF(L250=\"\", \"\", INDEX(referentes!$D$2:$E$17,MATCH(L250,referentes!E$2:E$17,0),1))","v":""},null,null,null,null,"","",null,null,null,"","","","","",""]
[null,{"$f":"IF(C251=\"\",\"\",IF(COUNTIF($C$3:C251, C251)>1, \"\", C251))","v":""},{"$f":"IF(G251=\"\",\"\",IF(F251=\"\",\"\",CONCATENATE(3,DIGITADOR!$M$1,G251,E251)))","v":""},"",{"$f":"IF(F251=\"\",\"\",VLOOKUP(F251,referentes!$T$2:$W$200,2,FALSE))","v":""},null,null,{"$f":"IF(I251=\"\", \"\", VLOOKUP(I251,referentes!$J$2:$Q$14,2,FALSE))","v":""},null,null,{"$f":"IF(L251=\"\", \"\", INDEX(referentes!$D$2:$E$17,MATCH(L251,referentes!E$2:E$17,0),1))","v":""},null,null,null,null,"","",null,null,null,"","","","","",""]
[null,{"$f":"IF(C252=\"\",\"\",IF(COUNTIF($C$3:C252, C252)>1, \"\", C252))","v":""},{"$f":"IF(G252=\"\",\"\",IF(F252=\"\",\"\",CONCATENATE(3,DIGITADOR!$M$1,G252,E252)))","v":""},"",{"$f":"IF(F252=\"\",\"\",VLOOKUP(F252,referentes!$T$2:$W$200,2,FALSE))","v":""},null,null,{"$f":"IF(I252=\"\", \"\", VLOOKUP(I252,referentes!$J$2:$Q$14,2,FALSE))","v":""},null,null,{"$f":"IF(L252=\"\", \"\", INDEX(referentes!$D$2:$E$17,MATCH(L252,referentes!E$2:E$17,0),1))","v":""},null,null,null,null,"","",null,null,null,"","","","","",""]
[null,{"$f":"IF(C253=\"\",\"\",IF(COUNTIF($C$3:C253, C253)>1, \"\", C253))","v":""},{"$f":"IF(G253=\"\",\"\",IF(F253=\"\",\"\",CONCATENATE(3,DIGITADOR!$M$1,G253,E253)))","v":""},"",{"$f":"IF(F253=\"\",\"\",VLOOKUP(F253,referentes!$T$2:$W$200,2,FALSE))","v":""},null,null,{"$f":"IF(I253=\"\", \"\", VLOOKUP(I253,referentes!$J$2:$Q$14,2,FALSE))","v":""},null,null,{"$f":"IF(L253=\"\", \"\", INDEX(referentes!$D$2:$E$17,MATCH(L253,referentes!E$2:E$17,0),1))","v":""},null,null,null,null,"","",null,null,null,"","","","","",""]
[null,{"$f":"IF(C254=\"\",\"\",IF(COUNTIF($C$3:C254, C254)>1, \"\", C254))","v":""},{"$f":"IF(G254=\"\",\"\",IF(F254=\"\",\"\",CONCATENATE(3,DIGITADOR!$M$1,G254,E254)))","v":""},"",{"$f":"IF(F254=\"\",\"\",VLOOKUP(F254,referentes!$T$2:$W$200,2,FALSE))","v":""},null,null,{"$f":"IF(I254=\"\", \"\", VLOOKUP(I254,referentes!$J$2:$Q$14,2,FALSE))","v":""},null,null,{"$f":"IF(L254=\"\", \"\", INDEX(referentes!$D$2:$E$17,MATCH(L254,referentes!E$2:E$17,0),1))","v":""},null,null,null,null,"","",null,null,null,"","","","","",""]
[null,{"$f":"IF(C255=\"\",\"\",IF(COUNTIF($C$3:C255, C255)>1, \"\", C255))","v":""},{"$f":"IF(G255=\"\",\"\",IF(F255=\"\",\"\",CONCATENATE(3,DIGITADOR!$M$1,G255,E255)))","v":""},"",{"$f":"IF(F255=\"\",\"\",VLOOKUP(F255,referentes!$T$2:$W$200,2,FALSE))","v":""},null,null,{"$f":"IF(I255=\"\", \"\", VLOOKUP(I255,referentes!$J$2:$Q$14,2,FALSE))","v":""},null,null,{"$f":"IF(L255=\"\", \"\", INDEX(referentes!$D$2:$E$17,MATCH(L255,referentes!E$2:E$17,0),1))","v":""},null,null,null,null,"","",null,null,null,"","","","","",""]
[null,{"$f":"IF(C256=\"\",\"\",IF(COUNTIF($C$3:C256, C256)>1, \"\", C256))","v":""},{"$f":"IF(G256=\"\",\"\",IF(F256=\"\",\"\",CONCATENATE(3,DIGITADOR!$M$1,G256,E256)))","v":""},"",{"$f":"IF(F256=\"\",\"\",VLOOKUP(F256,referentes!$T$2:$W$200,2,FALSE))","v":""},null,null,{"$f":"IF(I256=\"\", \"\", VLOOKUP(I256,referentes!$J$2:$Q$14,2,FALSE))","v":""},null,null,{"$f":"IF(L256=\"\", \"\", INDEX(referentes!$D$2:$E$17,MATCH(L256,referentes!E$2:E$17,0),1))","v":""},null,null,null,null,"","",null,null,null,"","","","","",""]
[null,{"$f":"IF(C257=\"\",\"\",IF(COUNTIF($C$3:C257, C257)>1, \"\", C257))","v":""},{"$f":"IF(G257=\"\",\"\",IF(F257=\"\",\"\",CONCATENATE(3,DIGITADOR!$M$1,G257,E257)))","v":""},"",{"$f":"IF(F257=\"\",\"\",VLOOKUP(F257,referentes!$T$2:$W$200,2,FALSE))","v":""},null,null,{"$f":"IF(I257=\"\", \"\", VLOOKUP(I257,referentes!$J$2:$Q$14,2,FALSE))","v":""},null,null,{"$f":"IF(L257=\"\", \"\", INDEX(referentes!$D$2:$E$17,MATCH(L257,referentes!E$2:E$17,0),1))","v":""},null,null,null,null,"","",null,null,null,"","","","","",""]
[null,{"$f":"IF(C258=\"\",\"\",IF(COUNTIF($C$3:C258, C258)>1, \"\", C258))","v":""},{"$f":"IF(G258=\"\",\"\",IF(F258=\"\",\"\",CONCATENATE(3,DIGITADOR!$M$1,G258,E258)))","v":""},"",{"$f":"IF(F258=\"\",\"\",VLOOKUP(F258,referentes!$T$2:$W$200,2,FALSE))","v":""},null,null,{"$f":"IF(I258=\"\", \"\", VLOOKUP(I258,referentes!$J$2:$Q$14,2,FALSE))","v":""},null,null,{"$f":"IF(L258=\"\", \"\", INDEX(referentes!$D$2:$E$17,MATCH(L258,referentes!E$2:E$17,0),1))","v":""},null,null,null,null,"","",null,null,null,"","","","","",""]
[null,{"$f":"IF(C259=\"\",\"\",IF(COUNTIF($C$3:C259, C259)>1, \"\", C259))","v":""},{"$f":"IF(G259=\"\",\"\",IF(F259=\"\",\"\",CONCATENATE(3,DIGITADOR!$M$1,G259,E259)))","v":""},"",{"$f":"IF(F259=\"\",\"\",VLOOKUP(F259,referentes!$T$2:$W$200,2,FALSE))","v":""},null,null,{"$f":"IF(I259=\"\", \"\", VLOOKUP(I259,referentes!$J$2:$Q$14,2,FALSE))","v":""},null,null,{"$f":"IF(L259=\"\", \"\", INDEX(referentes!$D$2:$E$17,MATCH(L259,referentes!E$2:E$17,0),1))","v":""},null,null,null,null,"","",null,null,null,"","","","","",""]
[null,{"$f":"IF(C260=\"\",\"\",IF(COUNTIF($C$3:C260, C260)>1, \"\", C260))","v":""},{"$f":"IF(G260=\"\",\"\",IF(F260=\"\",\"\",CONCATENATE(3,DIGITADOR!$M$1,G260,E260)))","v":""},{"$f":"IF(C260=\"\",\"\",CONCATENATE(C260,ROW()-2))","v":""},{"$f":"IF(F260=\"\",\"\",VLOOKUP(F260,referentes!$T$2:$W$200,2,FALSE))","v":""},null,null,{"$f":"IF(I260=\"\", \"\", VLOOKUP(I260,referentes!$J$2:$Q$14,2,FALSE))","v":""},null,null,{"$f":"IF(L260=\"\", \"\", INDEX(referentes!$D$2:$E$17,MATCH(L260,referentes!E$2:E$17,0),1))","v":""},null,null,null,null,{"$f":"IF(O260=\"\",\"\", ROUND(O260/100, 4))","v":""},{"$f":"IF(P260=\"\",\"\", ROUND(P260^2, 4))","v":""},null,null,null,{"$f":"IF(R260=\"\", \"\", IF(R260=20, IF(S260<>\"\", ROUND(S260/R260, 6), \"\"), ROUND(20/(R260-0.5), 6)))","v":""},{"$f":"IF(U260=\"\", \"\", IF(U260 < 1, 0, 1))","v":""},{"$f":"IF(OR(M260=\"\",Q260=\"\"), \"\", ROUND((PI()/4)*Q260*M260, 6))","v":""},{"$f":"IF(AND(U260=\"\",V260=\"\"),\"\",ROUND(IF(V260=0,0.6451-0.388*(LOG10(U260))-0.377*V260+0.3*(LOG10(U260))*V260, 0.6451-0.388*(LOG10(U260))-0.377*V260+0.3*(LOG10(U260))), 6))","v":""},{"$f":"IF(X260=\"\",\"\", ROUND((X260*1000000/1000), 6))","v":""},{"$f":"IF(OR(W260=\"\",Y260=\"\"), \"\", ROUND(W260*Y260, 6))","v":""}]
[null,{"$f":"IF(C261=\"\",\"\",IF(COUNTIF($C$3:C261, C261)>1, \"\", C261))","v":""},{"$f":"IF(G261=\"\",\"\",IF(F261=\"\",\"\",CONCATENATE(3,DIGITADOR!$M$1,G261,E261)))","v":""},"",{"$f":"IF(F261=\"\",\"\",VLOOKUP(F261,referentes!$T$2:$W$200,2,FALSE))","v":""},null,null,{"$f":"IF(I261=\"\", \"\", VLOOKUP(I261,referentes!$J$2:$Q$14,2,FALSE))","v":""},null,null,{"$f":"IF(L261=\"\", \"\", INDEX(referentes!$D$2:$E$17,MATCH(L261,referentes!E$2:E$17,0),1))","v":""},null,null,null,null,"","",null,null,null,"","","","","",""]
[null,{"$f":"IF(C262=\"\",\"\",IF(COUNTIF($C$3:C262, C262)>1, \"\", C262))","v":""},{"$f":"IF(G262=\"\",\"\",IF(F262=\"\",\"\",CONCATENATE(3,DIGITADOR!$M$1,G262,E262)))","v":""},"",{"$f":"IF(F262=\"\",\"\",VLOOKUP(F262,referentes!$T$2:$W$200,2,FALSE))","v":""},null,null,{"$f":"IF(I262=\"\", \"\", VLOOKUP(I262,referentes!$J$2:$Q$14,2,FALSE))","v":""},null,null,{"$f":"IF(L262=\"\", \"\", INDEX(referentes!$D$2:$E$17,MATCH(L262,referentes!E$2:E$17,0),1))","v":""},null,null,null,null,"","",null,null,null,"","","","","",""]
[null,{"$f":"IF(C263=\"\",\"\",IF(COUNTIF($C$3:C263, C263)>1, \"\", C263))","v":""},{"$f":"IF(G263=\"\",\"\",IF(F263=\"\",\"\",CONCATENATE(3,DIGITADOR!$M$1,G263,E263)))","v":""},"",{"$f":"IF(F263=\"\",\"\",VLOOKUP(F263,referentes!$T$2:$W$200,2,FALSE))","v":""},null,null,{"$f":"IF(I263=\"\", \"\", VLOOKUP(I263,referentes!$J$2:$Q$14,2,FALSE))","v":""},null,null,{"$f":"IF(L263=\"\", \"\", INDEX(referentes!$D$2:$E$17,MATCH(L263,referentes!E$2:E$17,0),1))","v":""},null,null,null,null,"","",null,null,null,"","","","","",""]
[null,{"$f":"IF(C264=\"\",\"\",IF(COUNTIF($C$3:C264, C264)>1, \"\", C264))","v":""},{"$f":"IF(G264=\"\",\"\",IF(F264=\"\",\"\",CONCATENATE(3,DIGITADOR!$M$1,G264,E264)))","v":""},"",{"$f":"IF(F264=\"\",\"\",VLOOKUP(F264,referentes!$T$2:$W$200,2,FALSE))","v":""},null,null,{"$f":"IF(I264=\"\", \"\", VLOOKUP(I264,referentes!$J$2:$Q$14,2,FALSE))","v":""},null,null,{"$f":"IF(L264=\"\", \"\", INDEX(referentes!$D$2:$E$17,MATCH(L264,referentes!E$2:E$17,0),1))","v":""},null,null,null,null,"","",null,null,null,"","","","","",""]
[null,{"$f":"IF(C265=\"\",\"\",IF(COUNTIF($C$3:C265, C265)>1, \"\", C265))","v":""},{"$f":"IF(G265=\"\",\"\",IF(F265=\"\",\"\",CONCATENATE(3,DIGITADOR!$M$1,G265,E265)))","v":""},"",{"$f":"IF(F265=\"\",\"\",VLOOKUP(F265,referentes!$T$2:$W$200,2,FALSE))","v":""},null,null,{"$f":"IF(I265=\"\", \"\", VLOOKUP(I265,referentes!$J$2:$Q$14,2,FALSE))","v":""},null,null,{"$f":"IF(L265=\"\", \"\", INDEX(referentes!$D$2:$E$17,MATCH(L265,referentes!E$2:E$17,0),1))","v":""},null,null,null,null,"","",null,null,null,"","","","","",""]
[null,{"$f":"IF(C266=\"\",\"\",IF(COUNTIF($C$3:C266, C266)>1, \"\", C266))","v":""},{"$f":"IF(G266=\"\",\"\",IF(F266=\"\",\"\",CONCATENATE(3,DIGITADOR!$M$1,G266,E266)))","v":""},"",{"$f":"IF(F266=\"\",\"\",VLOOKUP(F266,referentes!$T$2:$W$200,2,FALSE))","v":""},null,null,{"$f":"IF(I266=\"\", \"\", VLOOKUP(I266,referentes!$J$2:$Q$14,2,FALSE))","v":""},null,null,{"$f":"IF(L266=\"\", \"\", INDEX(referentes!$D$2:$E$17,MATCH(L266,referentes!E$2:E$17,0),1))","v":""},null,null,null,null,"","",null,null,null,"","","","","",""]
[null,{"$f":"IF(C267=\"\",\"\",IF(COUNTIF($C$3:C267, C267)>1, \"\", C267))","v":""},{"$f":"IF(G267=\"\",\"\",IF(F267=\"\",\"\",CONCATENATE(3,DIGITADOR!$M$1,G267,E267)))","v":""},"",{"$f":"IF(F267=\"\",\"\",VLOOKUP(F267,referentes!$T$2:$W$200,2,FALSE))","v":""},null,null,{"$f":"IF(I267=\"\", \"\", VLOOKUP(I267,referentes!$J$2:$Q$14,2,FALSE))","v":""},null,null,{"$f":"IF(L267=\"\", \"\", INDEX(referentes!$D$2:$E$17,MATCH(L267,referentes!E$2:E$17,0),1))","v":""},null,null,null,null,"","",null,null,null,"","","","","",""]
[null,{"$f":"IF(C268=\"\",\"\",IF(COUNTIF($C$3:C268, C268)>1, \"\", C268))","v":""},{"$f":"IF(G268=\"\",\"\",IF(F268=\"\",\"\",CONCATENATE(3,DIGITADOR!$M$1,G268,E268)))","v":""},"",{"$f":"IF(F268=\"\",\"\",VLOOKUP(F268,referentes!$T$2:$W$200,2,FALSE))","v":""},null,null,{"$f":"IF(I268=\"\", \"\", VLOOKUP(I268,referentes!$J$2:$Q$14,2,FALSE))","v":""},null,null,{"$f":"IF(L268=\"\", \"\", INDEX(referentes!$D$2:$E$17,MATCH(L268,referentes!E$2:E$17,0),1))","v":""},null,null,null,null,"","",null,null,null,"","","","","",""]
[null,{"$f":"IF(C269=\"\",\"\",IF(COUNTIF($C$3:C269, C269)>1, \"\", C269))","v":""},{"$f":"IF(G269=\"\",\"\",IF(F269=\"\",\"\",CONCATENATE(3,DIGITADOR!$M$1,G269,E269)))","v":""},"",{"$f":"IF(F269=\"\",\"\",VLOOKUP(F269,referentes!$T$2:$W$200,2,FALSE))","v":""},null,null,{"$f":"IF(I269=\"\", \"\", VLOOKUP(I269,referentes!$J$2:$Q$14,2,FALSE))","v":""},null,null,{"$f":"IF(L269=\"\", \"\", INDEX(referentes!$D$2:$E$17,MATCH(L269,referentes!E$2:E$17,0),1))","v":""},null,null,null,null,"","",null,null,null,"","","","","",""]
[null,{"$f":"IF(C270=\"\",\"\",IF(COUNTIF($C$3:C270, C270)>1, \"\", C270))","v":""},{"$f":"IF(G270=\"\",\"\",IF(F270=\"\",\"\",CONCATENATE(3,DIGITADOR!$M$1,G270,E270)))","v":""},"",{"$f":"IF(F270=\"\",\"\",VLOOKUP(F270,referentes!$T$2:$W$200,2,FALSE))","v":""},null,null,{"$f":"IF(I270=\"\", \"\", VLOOKUP(I270,referentes!$J$2:$Q$14,2,FALSE))","v":""},null,null,{"$f":"IF(L270=\"\", \"\", INDEX(referentes!$D$2:$E$17,MATCH(L270,referentes!E$2:E$17,0),1))","v":""},null,null,null,null,"","",null,null,null,"","","","","",""]
[null,{"$f":"IF(C271=\"\",\"\",IF(COUNTIF($C$3:C271, C271)>1, \"\", C271))","v":""},{"$f":"IF(G271=\"\",\"\",IF(F271=\"\",\"\",CONCATENATE(3,DIGITADOR!$M$1,G271,E271)))","v":""},"",{"$f":"IF(F271=\"\",\"\",VLOOKUP(F271,referentes!$T$2:$W$200,2,FALSE))","v":""},null,null,{"$f":"IF(I271=\"\", \"\", VLOOKUP(I271,referentes!$J$2:$Q$14,2,FALSE))","v":""},null,null,{"$f":"IF(L271=\"\", \"\", INDEX(referentes!$D$2:$E$17,MATCH(L271,referentes!E$2:E$17,0),1))","v":""},null,null,null,null,"","",null,null,null,"","","","","",""]
[null,{"$f":"IF(C272=\"\",\"\",IF(COUNTIF($C$3:C272, C272)>1, \"\", C272))","v":""},{"$f":"IF(G272=\"\",\"\",IF(F272=\"\",\"\",CONCATENATE(3,DIGITADOR!$M$1,G272,E272)))","v":""},"",{"$f":"IF(F272=\"\",\"\",VLOOKUP(F272,referentes!$T$2:$W$200,2,FALSE))","v":""},null,null,{"$f":"IF(I272=\"\", \"\", VLOOKUP(I272,referentes!$J$2:$Q$14,2,FALSE))","v":""},null,null,{"$f":"IF(L272=\"\", \"\", INDEX(referentes!$D$2:$E$17,MATCH(L272,referentes!E$2:E$17,0),1))","v":""},null,null,null,null,"","",null,null,null,"","","","","",""]
[null,{"$f":"IF(C273=\"\",\"\",IF(COUNTIF($C$3:C273, C273)>1, \"\", C273))","v":""},{"$f":"IF(G273=\"\",\"\",IF(F273=\"\",\"\",CONCATENATE(3,DIGITADOR!$M$1,G273,E273)))","v":""},"",{"$f":"IF(F273=\"\",\"\",VLOOKUP(F273,referentes!$T$2:$W$200,2,FALSE))","v":""},null,null,{"$f":"IF(I273=\"\", \"\", VLOOKUP(I273,referentes!$J$2:$Q$14,2,FALSE))","v":""},null,null,{"$f":"IF(L273=\"\", \"\", INDEX(referentes!$D$2:$E$17,MATCH(L273,referentes!E$2:E$17,0),1))","v":""},null,null,null,null,"","",null,null,null,"","","","","",""]
[null,{"$f":"IF(C274=\"\",\"\",IF(COUNTIF($C$3:C274, C274)>1, \"\", C274))","v":""},{"$f":"IF(G274=\"\",\"\",IF(F274=\"\",\"\",CONCATENATE(3,DIGITADOR!$M$1,G274,E274)))","v":""},"",{"$f":"IF(F274=\"\",\"\",VLOOKUP(F274,referentes!$T$2:$W$200,2,FALSE))","v":""},null,null,{"$f":"IF(I274=\"\", \"\", VLOOKUP(I274,referentes!$J$2:$Q$14,2,FALSE))","v":""},null,null,{"$f":"IF(L274=\"\", \"\", INDEX(referentes!$D$2:$E$17,MATCH(L274,referentes!E$2:E$17,0),1))","v":""},null,null,null,null,"","",null,null,null,"","","","","",""]
[null,{"$f":"IF(C275=\"\",\"\",IF(COUNTIF($C$3:C275, C275)>1, \"\", C275))","v":""},{"$f":"IF(G275=\"\",\"\",IF(F275=\"\",\"\",CONCATENATE(3,DIGITADOR!$M$1,G275,E275)))","v":""},"",{"$f":"IF(F275=\"\",\"\",VLOOKUP(F275,referentes!$T$2:$W$200,2,FALSE))","v":""},null,null,{"$f":"IF(I275=\"\", \"\", VLOOKUP(I275,referentes!$J$2:$Q$14,2,FALSE))","v":""},null,null,{"$f":"IF(L275=\"\", \"\", INDEX(referentes!$D$2:$E$17,MATCH(L275,referentes!E$2:E$17,0),1))","v":""},null,null,null,null,"","",null,null,null,"","","","","",""]
[null,{"$f":"IF(C276=\"\",\"\",IF(COUNTIF($C$3:C276, C276)>1, \"\", C276))","v":""},{"$f":"IF(G276=\"\",\"\",IF(F276=\"\",\"\",CONCATENATE(3,DIGITADOR!$M$1,G276,E276)))","v":""},"",{"$f":"IF(F276=\"\",\"\",VLOOKUP(F276,referentes!$T$2:$W$200,2,FALSE))","v":""},null,null,{"$f":"IF(I276=\"\", \"\", VLOOKUP(I276,referentes!$J$2:$Q$14,2,FALSE))","v":""},null,null,{"$f":"IF(L276=\"\", \"\", INDEX(referentes!$D$2:$E$17,MATCH(L276,referentes!E$2:E$17,0),1))","v":""},null,null,null,null,"","",null,null,null,"","","","","",""]
[null,{"$f":"IF(C277=\"\",\"\",IF(COUNTIF($C$3:C277, C277)>1, \"\", C277))","v":""},{"$f":"IF(G277=\"\",\"\",IF(F277=\"\",\"\",CONCATENATE(3,DIGITADOR!$M$1,G277,E277)))","v":""},"",{"$f":"IF(F277=\"\",\"\",VLOOKUP(F277,referentes!$T$2:$W$200,2,FALSE))","v":""},null,null,{"$f":"IF(I277=\"\", \"\", VLOOKUP(I277,referentes!$J$2:$Q$14,2,FALSE))","v":""},null,null,{"$f":"IF(L277=\"\", \"\", INDEX(referentes!$D$2:$E$17,MATCH(L277,referentes!E$2:E$17,0),1))","v":""},null,null,null,null,"","",null,null,null,"","","","","",""]
[null,{"$f":"IF(C278=\"\",\"\",IF(COUNTIF($C$3:C278, C278)>1, \"\", C278))","v":""},{"$f":"IF(G278=\"\",\"\",IF(F278=\"\",\"\",CONCATENATE(3,DIGITADOR!$M$1,G278,E278)))","v":""},"",{"$f":"IF(F278=\"\",\"\",VLOOKUP(F278,referentes!$T$2:$W$200,2,FALSE))","v":""},null,null,{"$f":"IF(I278=\"\", \"\", VLOOKUP(I278,referentes!$J$2:$Q$14,2,FALSE))","v":""},null,null,{"$f":"IF(L278=\"\", \"\", INDEX(referentes!$D$2:$E$17,MATCH(L278,referentes!E$2:E$17,0),1))","v":""},null,null,null,null,"","",null,null,null,"","","","","",""]
[null,{"$f":"IF(C279=\"\",\"\",IF(COUNTIF($C$3:C279, C279)>1, \"\", C279))","v":""},{"$f":"IF(G279=\"\",\"\",IF(F279=\"\",\"\",CONCATENATE(3,DIGITADOR!$M$1,G279,E279)))","v":""},"",{"$f":"IF(F279=\"\",\"\",VLOOKUP(F279,referentes!$T$2:$W$200,2,FALSE))","v":""},null,null,{"$f":"IF(I279=\"\", \"\", VLOOKUP(I279,referentes!$J$2:$Q$14,2,FALSE))","v":""},null,null,{"$f":"IF(L279=\"\", \"\", INDEX(referentes!$D$2:$E$17,MATCH(L279,referentes!E$2:E$17,0),1))","v":""},null,null,null,null,"","",null,null,null,"","","","","",""]
[null,{"$f":"IF(C280=\"\",\"\",IF(COUNTIF($C$3:C280, C280)>1, \"\", C280))","v":""},{"$f":"IF(G280=\"\",\"\",IF(F280=\"\",\"\",CONCATENATE(3,DIGITADOR!$M$1,G280,E280)))","v":""},"",{"$f":"IF(F280=\"\",\"\",VLOOKUP(F280,referentes!$T$2:$W$200,2,FALSE))","v":""},null,null,{"$f":"IF(I280=\"\", \"\", VLOOKUP(I280,referentes!$J$2:$Q$14,2,FALSE))","v":""},null,null,{"$f":"IF(L280=\"\", \"\", INDEX(referentes!$D$2:$E$17,MATCH(L280,referentes!E$2:E$17,0),1))","v":""},null,null,null,null,"","",null,null,null,"","","","","",""]
[null,{"$f":"IF(C281=\"\",\"\",IF(COUNTIF($C$3:C281, C281)>1, \"\", C281))","v":""},{"$f":"IF(G281=\"\",\"\",IF(F281=\"\",\"\",CONCATENATE(3,DIGITADOR!$M$1,G281,E281)))","v":""},"",{"$f":"IF(F281=\"\",\"\",VLOOKUP(F281,referentes!$T$2:$W$200,2,FALSE))","v":""},null,null,{"$f":"IF(I281=\"\", \"\", VLOOKUP(I281,referentes!$J$2:$Q$14,2,FALSE))","v":""},null,null,{"$f":"IF(L281=\"\", \"\", INDEX(referentes!$D$2:$E$17,MATCH(L281,referentes!E$2:E$17,0),1))","v":""},null,null,null,null,"","",null,null,null,"","","","","",""]
[null,{"$f":"IF(C282=\"\",\"\",IF(COUNTIF($C$3:C282, C282)>1, \"\", C282))","v":""},{"$f":"IF(G282=\"\",\"\",IF(F282=\"\",\"\",CONCATENATE(3,DIGITADOR!$M$1,G282,E282)))","v":""},"",{"$f":"IF(F282=\"\",\"\",VLOOKUP(F282,referentes!$T$2:$W$200,2,FALSE))","v":""},null,null,{"$f":"IF(I282=\"\", \"\", VLOOKUP(I282,referentes!$J$2:$Q$14,2,FALSE))","v":""},null,null,{"$f":"IF(L282=\"\", \"\", INDEX(referentes!$D$2:$E$17,MATCH(L282,referentes!E$2:E$17,0),1))","v":""},null,null,null,null,"","",null,null,null,"","","","","",""]
[null,{"$f":"IF(C283=\"\",\"\",IF(COUNTIF($C$3:C283, C283)>1, \"\", C283))","v":""},{"$f":"IF(G283=\"\",\"\",IF(F283=\"\",\"\",CONCATENATE(3,DIGITADOR!$M$1,G283,E283)))","v":""},"",{"$f":"IF(F283=\"\",\"\",VLOOKUP(F283,referentes!$T$2:$W$200,2,FALSE))","v":""},null,null,{"$f":"IF(I283=\"\", \"\", VLOOKUP(I283,referentes!$J$2:$Q$14,2,FALSE))","v":""},null,null,{"$f":"IF(L283=\"\", \"\", INDEX(referentes!$D$2:$E$17,MATCH(L283,referentes!E$2:E$17,0),1))","v":""},null,null,null,null,"","",null,null,null,"","","","","",""]
[null,{"$f":"IF(C284=\"\",\"\",IF(COUNTIF($C$3:C284, C284)>1, \"\", C284))","v":""},{"$f":"IF(G284=\"\",\"\",IF(F284=\"\",\"\",CONCATENATE(3,DIGITADOR!$M$1,G284,E284)))","v":""},"",{"$f":"IF(F284=\"\",\"\",VLOOKUP(F284,referentes!$T$2:$W$200,2,FALSE))","v":""},null,null,{"$f":"IF(I284=\"\", \"\", VLOOKUP(I284,referentes!$J$2:$Q$14,2,FALSE))","v":""},null,null,{"$f":"IF(L284=\"\", \"\", INDEX(referentes!$D$2:$E$17,MATCH(L284,referentes!E$2:E$17,0),1))","v":""},null,null,null,null,"","",null,null,null,"","","","","",""]
[null,{"$f":"IF(C285=\"\",\"\",IF(COUNTIF($C$3:C285, C285)>1, \"\", C285))","v":""},{"$f":"IF(G285=\"\",\"\",IF(F285=\"\",\"\",CONCATENATE(3,DIGITADOR!$M$1,G285,E285)))","v":""},"",{"$f":"IF(F285=\"\",\"\",VLOOKUP(F285,referentes!$T$2:$W$200,2,FALSE))","v":""},null,null,{"$f":"IF(I285=\"\", \"\", VLOOKUP(I285,referentes!$J$2:$Q$14,2,FALSE))","v":""},null,null,{"$f":"IF(L285=\"\", \"\", INDEX(referentes!$D$2:$E$17,MATCH(L285,referentes!E$2:E$17,0),1))","v":""},null,null,null,null,"","",null,null,null,"","","","","",""]
[null,{"$f":"IF(C286=\"\",\"\",IF(COUNTIF($C$3:C286, C286)>1, \"\", C286))","v":""},{"$f":"IF(G286=\"\",\"\",IF(F286=\"\",\"\",CONCATENATE(3,DIGITADOR!$M$1,G286,E286)))","v":""},"",{"$f":"IF(F286=\"\",\"\",VLOOKUP(F286,referentes!$T$2:$W$200,2,FALSE))","v":""},null,null,{"$f":"IF(I286=\"\", \"\", VLOOKUP(I286,referentes!$J$2:$Q$14,2,FALSE))","v":""},null,null,{"$f":"IF(L286=\"\", \"\", INDEX(referentes!$D$2:$E$17,MATCH(L286,referentes!E$2:E$17,0),1))","v":""},null,null,null,null,"","",null,null,null,"","","","","",""]
[null,{"$f":"IF(C287=\"\",\"\",IF(COUNTIF($C$3:C287, C287)>1, \"\", C287))","v":""},{"$f":"IF(G287=\"\",\"\",IF(F287=\"\",\"\",CONCATENATE(3,DIGITADOR!$M$1,G287,E287)))","v":""},"",{"$f":"IF(F287=\"\",\"\",VLOOKUP(F287,referentes!$T$2:$W$200,2,FALSE))","v":""},null,null,{"$f":"IF(I287=\"\", \"\", VLOOKUP(I287,referentes!$J$2:$Q$14,2,FALSE))","v":""},null,null,{"$f":"IF(L287=\"\", \"\", INDEX(referentes!$D$2:$E$17,MATCH(L287,referentes!E$2:E$17,0),1))","v":""},null,null,null,null,"","",null,null,null,"","","","","",""]
[null,{"$f":"IF(C288=\"\",\"\",IF(COUNTIF($C$3:C288, C288)>1, \"\", C288))","v":""},{"$f":"IF(G288=\"\",\"\",IF(F288=\"\",\"\",CONCATENATE(3,DIGITADOR!$M$1,G288,E288)))","v":""},"",{"$f":"IF(F288=\"\",\"\",VLOOKUP(F288,referentes!$T$2:$W$200,2,FALSE))","v":""},null,null,{"$f":"IF(I288=\"\", \"\", VLOOKUP(I288,referentes!$J$2:$Q$14,2,FALSE))","v":""},null,null,{"$f":"IF(L288=\"\", \"\", INDEX(referentes!$D$2:$E$17,MATCH(L288,referentes!E$2:E$17,0),1))","v":""},null,null,null,null,"","",null,null,null,"","","","","",""]
[null,{"$f":"IF(C289=\"\",\"\",IF(COUNTIF($C$3:C289, C289)>1, \"\", C289))","v":""},{"$f":"IF(G289=\"\",\"\",IF(F289=\"\",\"\",CONCATENATE(3,DIGITADOR!$M$1,G289,E289)))","v":""},"",{"$f":"IF(F289=\"\",\"\",VLOOKUP(F289,referentes!$T$2:$W$200,2,FALSE))","v":""},null,null,{"$f":"IF(I289=\"\", \"\", VLOOKUP(I289,referentes!$J$2:$Q$14,2,FALSE))","v":""},null,null,{"$f":"IF(L289=\"\", \"\", INDEX(referentes!$D$2:$E$17,MATCH(L289,referentes!E$2:E$17,0),1))","v":""},null,null,null,null,"","",null,null,null,"","","","","",""]
[null,{"$f":"IF(C290=\"\",\"\",IF(COUNTIF($C$3:C290, C290)>1, \"\", C290))","v":""},{"$f":"IF(G290=\"\",\"\",IF(F290=\"\",\"\",CONCATENATE(3,DIGITADOR!$M$1,G290,E290)))","v":""},"",{"$f":"IF(F290=\"\",\"\",VLOOKUP(F290,referentes!$T$2:$W$200,2,FALSE))","v":""},null,null,{"$f":"IF(I290=\"\", \"\", VLOOKUP(I290,referentes!$J$2:$Q$14,2,FALSE))","v":""},null,null,{"$f":"IF(L290=\"\", \"\", INDEX(referentes!$D$2:$E$17,MATCH(L290,referentes!E$2:E$17,0),1))","v":""},null,null,null,null,"","",null,null,null,"","","","","",""]
[null,{"$f":"IF(C291=\"\",\"\",IF(COUNTIF($C$3:C291, C291)>1, \"\", C291))","v":""},{"$f":"IF(G291=\"\",\"\",IF(F291=\"\",\"\",CONCATENATE(3,DIGITADOR!$M$1,G291,E291)))","v":""},"",{"$f":"IF(F291=\"\",\"\",VLOOKUP(F291,referentes!$T$2:$W$200,2,FALSE))","v":""},null,null,{"$f":"IF(I291=\"\", \"\", VLOOKUP(I291,referentes!$J$2:$Q$14,2,FALSE))","v":""},null,null,{"$f":"IF(L291=\"\", \"\", INDEX(referentes!$D$2:$E$17,MATCH(L291,referentes!E$2:E$17,0),1))","v":""},null,null,null,null,"","",null,null,null,"","","","","",""]
[null,{"$f":"IF(C292=\"\",\"\",IF(COUNTIF($C$3:C292, C292)>1, \"\", C292))","v":""},{"$f":"IF(G292=\"\",\"\",IF(F292=\"\",\"\",CONCATENATE(3,DIGITADOR!$M$1,G292,E292)))","v":""},"",{"$f":"IF(F292=\"\",\"\",VLOOKUP(F292,referentes!$T$2:$W$200,2,FALSE))","v":""},null,null,{"$f":"IF(I292=\"\", \"\", VLOOKUP(I292,referentes!$J$2:$Q$14,2,FALSE))","v":""},null,null,{"$f":"IF(L292=\"\", \"\", INDEX(referentes!$D$2:$E$17,MATCH(L292,referentes!E$2:E$17,0),1))","v":""},null,null,null,null,"","",null,null,null,"","","","","",""]
[null,{"$f":"IF(C293=\"\",\"\",IF(COUNTIF($C$3:C293, C293)>1, \"\", C293))","v":""},{"$f":"IF(G293=\"\",\"\",IF(F293=\"\",\"\",CONCATENATE(3,DIGITADOR!$M$1,G293,E293)))","v":""},"",{"$f":"IF(F293=\"\",\"\",VLOOKUP(F293,referentes!$T$2:$W$200,2,FALSE))","v":""},null,null,{"$f":"IF(I293=\"\", \"\", VLOOKUP(I293,referentes!$J$2:$Q$14,2,FALSE))","v":""},null,null,{"$f":"IF(L293=\"\", \"\", INDEX(referentes!$D$2:$E$17,MATCH(L293,referentes!E$2:E$17,0),1))","v":""},null,null,null,null,"","",null,null,null,"","","","","",""]
[null,{"$f":"IF(C294=\"\",\"\",IF(COUNTIF($C$3:C294, C294)>1, \"\", C294))","v":""},{"$f":"IF(G294=\"\",\"\",IF(F294=\"\",\"\",CONCATENATE(3,DIGITADOR!$M$1,G294,E294)))","v":""},"",{"$f":"IF(F294=\"\",\"\",VLOOKUP(F294,referentes!$T$2:$W$200,2,FALSE))","v":""},null,null,{"$f":"IF(I294=\"\", \"\", VLOOKUP(I294,referentes!$J$2:$Q$14,2,FALSE))","v":""},null,null,{"$f":"IF(L294=\"\", \"\", INDEX(referentes!$D$2:$E$17,MATCH(L294,referentes!E$2:E$17,0),1))","v":""},null,null,null,null,"","",null,null,null,"","","","","",""]
[null,{"$f":"IF(C295=\"\",\"\",IF(COUNTIF($C$3:C295, C295)>1, \"\", C295))","v":""},{"$f":"IF(G295=\"\",\"\",IF(F295=\"\",\"\",CONCATENATE(3,DIGITADOR!$M$1,G295,E295)))","v":""},"",{"$f":"IF(F295=\"\",\"\",VLOOKUP(F295,referentes!$T$2:$W$200,2,FALSE))","v":""},null,null,{"$f":"IF(I295=\"\", \"\", VLOOKUP(I295,referentes!$J$2:$Q$14,2,FALSE))","v":""},null,null,{"$f":"IF(L295=\"\", \"\", INDEX(referentes!$D$2:$E$17,MATCH(L295,referentes!E$2:E$17,0),1))","v":""},null,null,null,null,"","",null,null,null,"","","","","",""]
[null,{"$f":"IF(C296=\"\",\"\",IF(COUNTIF($C$3:C296, C296)>1, \"\", C296))","v":""},{"$f":"IF(G296=\"\",\"\",IF(F296=\"\",\"\",CONCATENATE(3,DIGITADOR!$M$1,G296,E296)))","v":""},"",{"$f":"IF(F296=\"\",\"\",VLOOKUP(F296,referentes!$T$2:$W$200,2,FALSE))","v":""},null,null,{"$f":"IF(I296=\"\", \"\", VLOOKUP(I296,referentes!$J$2:$Q$14,2,FALSE))","v":""},null,null,{"$f":"IF(L296=\"\", \"\", INDEX(referentes!$D$2:$E$17,MATCH(L296,referentes!E$2:E$17,0),1))","v":""},null,null,null,null,"","",null,null,null,"","","","","",""]
[null,{"$f":"IF(C297=\"\",\"\",IF(COUNTIF($C$3:C297, C297)>1, \"\", C297))","v":""},{"$f":"IF(G297=\"\",\"\",IF(F297=\"\",\"\",CONCATENATE(3,DIGITADOR!$M$1,G297,E297)))","v":""},"",{"$f":"IF(F297=\"\",\"\",VLOOKUP(F297,referentes!$T$2:$W$200,2,FALSE))","v":""},null,null,{"$f":"IF(I297=\"\", \"\", VLOOKUP(I297,referentes!$J$2:$Q$14,2,FALSE))","v":""},null,null,{"$f":"IF(L297=\"\", \"\", INDEX(referentes!$D$2:$E$17,MATCH(L297,referentes!E$2:E$17,0),1))","v":""},null,null,null,null,"","",null,null,null,"","","","","",""]
[null,{"$f":"IF(C298=\"\",\"\",IF(COUNTIF($C$3:C298, C298)>1, \"\", C298))","v":""},{"$f":"IF(G298=\"\",\"\",IF(F298=\"\",\"\",CONCATENATE(3,DIGITADOR!$M$1,G298,E298)))","v":""},"",{"$f":"IF(F298=\"\",\"\",VLOOKUP(F298,referentes!$T$2:$W$200,2,FALSE))","v":""},null,null,{"$f":"IF(I298=\"\", \"\", VLOOKUP(I298,referentes!$J$2:$Q$14,2,FALSE))","v":""},null,null,{"$f":"IF(L298=\"\", \"\", INDEX(referentes!$D$2:$E$17,MATCH(L298,referentes!E$2:E$17,0),1))","v":""},null,null,null,null,"","",null,null,null,"","","","","",""]
[null,{"$f":"IF(C299=\"\",\"\",IF(COUNTIF($C$3:C299, C299)>1, \"\", C299))","v":""},{"$f":"IF(G299=\"\",\"\",IF(F299=\"\",\"\",CONCATENATE(3,DIGITADOR!$M$1,G299,E299)))","v":""},"",{"$f":"IF(F299=\"\",\"\",VLOOKUP(F299,referentes!$T$2:$W$200,2,FALSE))","v":""},null,null,{"$f":"IF(I299=\"\", \"\", VLOOKUP(I299,referentes!$J$2:$Q$14,2,FALSE))","v":""},null,null,{"$f":"IF(L299=\"\", \"\", INDEX(referentes!$D$2:$E$17,MATCH(L299,referentes!E$2:E$17,0),1))","v":""},null,null,null,null,"","",null,null,null,"","","","","",""]
[null,{"$f":"IF(C300=\"\",\"\",IF(COUNTIF($C$3:C300, C300)>1, \"\", C300))","v":""},{"$f":"IF(G300=\"\",\"\",IF(F300=\"\",\"\",CONCATENATE(3,DIGITADOR!$M$1,G300,E300)))","v":""},"",{"$f":"IF(F300=\"\",\"\",VLOOKUP(F300,referentes!$T$2:$W$200,2,FALSE))","v":""},null,null,{"$f":"IF(I300=\"\", \"\", VLOOKUP(I300,referentes!$J$2:$Q$14,2,FALSE))","v":""},null,null,{"$f":"IF(L300=\"\", \"\", INDEX(referentes!$D$2:$E$17,MATCH(L300,referentes!E$2:E$17,0),1))","v":""},null,null,null,null,"","",null,null,null,"","","","","",""]
[null,{"$f":"IF(C301=\"\",\"\",IF(COUNTIF($C$3:C301, C301)>1, \"\", C301))","v":""},{"$f":"IF(G301=\"\",\"\",IF(F301=\"\",\"\",CONCATENATE(3,DIGITADOR!$M$1,G301,E301)))","v":""},"",{"$f":"IF(F301=\"\",\"\",VLOOKUP(F301,referentes!$T$2:$W$200,2,FALSE))","v":""},null,null,{"$f":"IF(I301=\"\", \"\", VLOOKUP(I301,referentes!$J$2:$Q$14,2,FALSE))","v":""},null,null,{"$f":"IF(L301=\"\", \"\", INDEX(referentes!$D$2:$E$17,MATCH(L301,referentes!E$2:E$17,0),1))","v":""},null,null,null,null,"","",null,null,null,"","","","","",""]
[null,{"$f":"IF(C302=\"\",\"\",IF(COUNTIF($C$3:C302, C302)>1, \"\", C302))","v":""},{"$f":"IF(G302=\"\",\"\",IF(F302=\"\",\"\",CONCATENATE(3,DIGITADOR!$M$1,G302,E302)))","v":""},"",{"$f":"IF(F302=\"\",\"\",VLOOKUP(F302,referentes!$T$2:$W$200,2,FALSE))","v":""},null,null,{"$f":"IF(I302=\"\", \"\", VLOOKUP(I302,referentes!$J$2:$Q$14,2,FALSE))","v":""},null,null,{"$f":"IF(L302=\"\", \"\", INDEX(referentes!$D$2:$E$17,MATCH(L302,referentes!E$2:E$17,0),1))","v":""},null,null,null,null,"","",null,null,null,"","","","","",""]
[null,{"$f":"IF(C303=\"\",\"\",IF(COUNTIF($C$3:C303, C303)>1, \"\", C303))","v":""},{"$f":"IF(G303=\"\",\"\",IF(F303=\"\",\"\",CONCATENATE(3,DIGITADOR!$M$1,G303,E303)))","v":""},"",{"$f":"IF(F303=\"\",\"\",VLOOKUP(F303,referentes!$T$2:$W$200,2,FALSE))","v":""},null,null,{"$f":"IF(I303=\"\", \"\", VLOOKUP(I303,referentes!$J$2:$Q$14,2,FALSE))","v":""},null,null,{"$f":"IF(L303=\"\", \"\", INDEX(referentes!$D$2:$E$17,MATCH(L303,referentes!E$2:E$17,0),1))","v":""},null,null,null,null,"","",null,null,null,"","","","","",""]

{"sheet":"DATOS_FINOS","index":6,"n_rows":303,"n_cols":24,"rows_kept":303,"cut":false,"hidden":false,"merged":[[0,0,0,4],[0,5,0,6],[0,8,0,23]]}
[null,null,null,null,null,"MUESTREO",null,null,"MUESTRA"]
[{"$f":"TEXT(DIGITADOR!$B$5,\"yyyymmdd\")","v":"30001212"},"AGM MUESTREO","ID MUESTREO","ID MUESTRA","ID ESTACION","Parcela","Fecha\n(DD/MM/AAAA)",null,"COD Tipo Fisiográfico","Tipo fisiografico ","Transecto","Muestra ",null,"Diámetro\n(cm)","Diámetro\n(m)",null,"Longitud del fragmento (Cm)","Volumen total piezas transecto (m3)",null,"Masa seca\n(g)","Masa seca\n(kg)",null,null,"Observaciones"]
[null,{"$f":"IF(C3=\"\",\"\",IF(COUNTIF($C$3:C3, C3)>1, \"\", C3))","v":""},{"$f":"IF(G3=\"\",\"\",IF(F3=\"\",\"\",CONCATENATE(DIGITADOR!$M$1,G3,E3)))","v":""},{"$f":"IF(C3=\"\",\"\",CONCATENATE(C3,ROW()-2))","v":""},{"$f":"IF(F3=\"\",\"\",VLOOKUP(F3,referentes!$T$2:$W$200,2,FALSE))","v":""},null,null,null,{"$f":"IF(J3=\"\",\"\",VLOOKUP(J3,'otras referencias'!$A$12:$B$15,2,FALSE))","v":""},null,null,{"$f":"IF(F3=\"\",\"\",IF(COUNTIF($F$3:F3, F3)>1, \"\", 1))","v":""},null,null,{"$f":"IF(N3=\"\", \"\", N3/100)","v":""},null,null,null,null,null,{"$f":"IF(T3=\"\",\"\",T3/1000)","v":""}]
[null,{"$f":"IF(C4=\"\",\"\",IF(COUNTIF($C$3:C4, C4)>1, \"\", C4))","v":""},{"$f":"IF(G4=\"\",\"\",IF(F4=\"\",\"\",CONCATENATE(DIGITADOR!$M$1,G4,E4)))","v":""},{"$f":"IF(C4=\"\",\"\",CONCATENATE(C4,ROW()-2))","v":""},{"$f":"IF(F4=\"\",\"\",VLOOKUP(F4,referentes!$T$2:$W$200,2,FALSE))","v":""},null,null,null,{"$f":"IF(J4=\"\",\"\",VLOOKUP(J4,'otras referencias'!$A$12:$B$15,2,FALSE))","v":""},null,null,{"$f":"IF(F4=\"\",\"\",IF(COUNTIF($F$3:F4, F4)>1, L3+1, 1))","v":""},null,null,{"$f":"IF(N4=\"\", \"\", N4/100)","v":""},null,null,null,null,null,{"$f":"IF(T4=\"\",\"\",T4/1000)","v":""}]
[null,{"$f":"IF(C5=\"\",\"\",IF(COUNTIF($C$3:C5, C5)>1, \"\", C5))","v":""},{"$f":"IF(G5=\"\",\"\",IF(F5=\"\",\"\",CONCATENATE(DIGITADOR!$M$1,G5,E5)))","v":""},"",{"$f":"IF(F5=\"\",\"\",VLOOKUP(F5,referentes!$T$2:$W$200,2,FALSE))","v":""},null,null,null,{"$f":"IF(J5=\"\",\"\",VLOOKUP(J5,'otras referencias'!$A$12:$B$15,2,FALSE))","v":""},null,null,{"$f":"IF(F5=\"\",\"\",IF(COUNTIF($F$3:F5, F5)>1, L4+1, 1))","v":""},null,null,"",null,null,null,null,null,""]
[null,{"$f":"IF(C6=\"\",\"\",IF(COUNTIF($C$3:C6, C6)>1, \"\", C6))","v":""},{"$f":"IF(G6=\"\",\"\",IF(F6=\"\",\"\",CONCATENATE(DIGITADOR!$M$1,G6,E6)))","v":""},"",{"$f":"IF(F6=\"\",\"\",VLOOKUP(F6,referentes!$T$2:$W$200,2,FALSE))","v":""},null,null,null,{"$f":"IF(J6=\"\",\"\",VLOOKUP(J6,'otras referencias'!$A$12:$B$15,2,FALSE))","v":""},null,null,{"$f":"IF(F6=\"\",\"\",IF(COUNTIF($F$3:F6, F6)>1, L5+1, 1))","v":""},null,null,"",null,null,null,null,null,""]
[null,{"$f":"IF(C7=\"\",\"\",IF(COUNTIF($C$3:C7, C7)>1, \"\", C7))","v":""},{"$f":"IF(G7=\"\",\"\",IF(F7=\"\",\"\",CONCATENATE(DIGITADOR!$M$1,G7,E7)))","v":""},"",{"$f":"IF(F7=\"\",\"\",VLOOKUP(F7,referentes!$T$2:$W$200,2,FALSE))","v":""},null,null,null,{"$f":"IF(J7=\"\",\"\",VLOOKUP(J7,'otras referencias'!$A$12:$B$15,2,FALSE))","v":""},null,null,{"$f":"IF(F7=\"\",\"\",IF(COUNTIF($F$3:F7, F7)>1, L6+1, 1))","v":""},null,null,"",null,null,null,null,null,""]
[null,{"$f":"IF(C8=\"\",\"\",IF(COUNTIF($C$3:C8, C8)>1, \"\", C8))","v":""},{"$f":"IF(G8=\"\",\"\",IF(F8=\"\",\"\",CONCATENATE(DIGITADOR!$M$1,G8,E8)))","v":""},"",{"$f":"IF(F8=\"\",\"\",VLOOKUP(F8,referentes!$T$2:$W$200,2,FALSE))","v":""},null,null,null,{"$f":"IF(J8=\"\",\"\",VLOOKUP(J8,'otras referencias'!$A$12:$B$15,2,FALSE))","v":""},null,null,{"$f":"IF(F8=\"\",\"\",IF(COUNTIF($F$3:F8, F8)>1, L7+1, 1))","v":""},null,null,"",null,null,null,null,null,""]
[null,{"$f":"IF(C9=\"\",\"\",IF(COUNTIF($C$3:C9, C9)>1, \"\", C9))","v":""},{"$f":"IF(G9=\"\",\"\",IF(F9=\"\",\"\",CONCATENATE(DIGITADOR!$M$1,G9,E9)))","v":""},"",{"$f":"IF(F9=\"\",\"\",VLOOKUP(F9,referentes!$T$2:$W$200,2,FALSE))","v":""},null,null,null,{"$f":"IF(J9=\"\",\"\",VLOOKUP(J9,'otras referencias'!$A$12:$B$15,2,FALSE))","v":""},null,null,{"$f":"IF(F9=\"\",\"\",IF(COUNTIF($F$3:F9, F9)>1, L8+1, 1))","v":""},null,null,"",null,null,null,null,null,""]
[null,{"$f":"IF(C10=\"\",\"\",IF(COUNTIF($C$3:C10, C10)>1, \"\", C10))","v":""},{"$f":"IF(G10=\"\",\"\",IF(F10=\"\",\"\",CONCATENATE(DIGITADOR!$M$1,G10,E10)))","v":""},"",{"$f":"IF(F10=\"\",\"\",VLOOKUP(F10,referentes!$T$2:$W$200,2,FALSE))","v":""},null,null,null,{"$f":"IF(J10=\"\",\"\",VLOOKUP(J10,'otras referencias'!$A$12:$B$15,2,FALSE))","v":""},null,null,{"$f":"IF(F10=\"\",\"\",IF(COUNTIF($F$3:F10, F10)>1, L9+1, 1))","v":""},null,null,"",null,null,null,null,null,""]
[null,{"$f":"IF(C11=\"\",\"\",IF(COUNTIF($C$3:C11, C11)>1, \"\", C11))","v":""},{"$f":"IF(G11=\"\",\"\",IF(F11=\"\",\"\",CONCATENATE(DIGITADOR!$M$1,G11,E11)))","v":""},"",{"$f":"IF(F11=\"\",\"\",VLOOKUP(F11,referentes!$T$2:$W$200,2,FALSE))","v":""},null,null,null,{"$f":"IF(J11=\"\",\"\",VLOOKUP(J11,'otras referencias'!$A$12:$B$15,2,FALSE))","v":""},null,null,{"$f":"IF(F11=\"\",\"\",IF(COUNTIF($F$3:F11, F11)>1, L10+1, 1))","v":""},null,null,"",null,null,null,null,null,""]
[null,{"$f":"IF(C12=\"\",\"\",IF(COUNTIF($C$3:C12, C12)>1, \"\", C12))","v":""},{"$f":"IF(G12=\"\",\"\",IF(F12=\"\",\"\",CONCATENATE(DIGITADOR!$M$1,G12,E12)))","v":""},"",{"$f":"IF(F12=\"\",\"\",VLOOKUP(F12,referentes!$T$2:$W$200,2,FALSE))","v":""},null,null,null,{"$f":"IF(J12=\"\",\"\",VLOOKUP(J12,'otras referencias'!$A$12:$B$15,2,FALSE))","v":""},null,null,{"$f":"IF(F12=\"\",\"\",IF(COUNTIF($F$3:F12, F12)>1, L11+1, 1))","v":""},null,null,"",null,null,null,null,null,""]
[null,{"$f":"IF(C13=\"\",\"\",IF(COUNTIF($C$3:C13, C13)>1, \"\", C13))","v":""},{"$f":"IF(G13=\"\",\"\",IF(F13=\"\",\"\",CONCATENATE(DIGITADOR!$M$1,G13,E13)))","v":""},"",{"$f":"IF(F13=\"\",\"\",VLOOKUP(F13,referentes!$T$2:$W$200,2,FALSE))","v":""},null,null,null,{"$f":"IF(J13=\"\",\"\",VLOOKUP(J13,'otras referencias'!$A$12:$B$15,2,FALSE))","v":""},null,null,{"$f":"IF(F13=\"\",\"\",IF(COUNTIF($F$3:F13, F13)>1, L12+1, 1))","v":""},null,null,"",null,null,null,null,null,""]
[null,{"$f":"IF(C14=\"\",\"\",IF(COUNTIF($C$3:C14, C14)>1, \"\", C14))","v":""},{"$f":"IF(G14=\"\",\"\",IF(F14=\"\",\"\",CONCATENATE(DIGITADOR!$M$1,G14,E14)))","v":""},"",{"$f":"IF(F14=\"\",\"\",VLOOKUP(F14,referentes!$T$2:$W$200,2,FALSE))","v":""},null,null,null,{"$f":"IF(J14=\"\",\"\",VLOOKUP(J14,'otras referencias'!$A$12:$B$15,2,FALSE))","v":""},null,null,{"$f":"IF(F14=\"\",\"\",IF(COUNTIF($F$3:F14, F14)>1, L13+1, 1))","v":""},null,null,"",null,null,null,null,null,""]
[null,{"$f":"IF(C15=\"\",\"\",IF(COUNTIF($C$3:C15, C15)>1, \"\", C15))","v":""},{"$f":"IF(G15=\"\",\"\",IF(F15=\"\",\"\",CONCATENATE(DIGITADOR!$M$1,G15,E15)))","v":""},"",{"$f":"IF(F15=\"\",\"\",VLOOKUP(F15,referentes!$T$2:$W$200,2,FALSE))","v":""},null,null,null,{"$f":"IF(J15=\"\",\"\",VLOOKUP(J15,'otras referencias'!$A$12:$B$15,2,FALSE))","v":""},null,null,{"$f":"IF(F15=\"\",\"\",IF(COUNTIF($F$3:F15, F15)>1, L14+1, 1))","v":""},null,null,"",null,null,null,null,null,""]
[null,{"$f":"IF(C16=\"\",\"\",IF(COUNTIF($C$3:C16, C16)>1, \"\", C16))","v":""},{"$f":"IF(G16=\"\",\"\",IF(F16=\"\",\"\",CONCATENATE(DIGITADOR!$M$1,G16,E16)))","v":""},"",{"$f":"IF(F16=\"\",\"\",VLOOKUP(F16,referentes!$T$2:$W$200,2,FALSE))","v":""},null,null,null,{"$f":"IF(J16=\"\",\"\",VLOOKUP(J16,'otras referencias'!$A$12:$B$15,2,FALSE))","v":""},null,null,{"$f":"IF(F16=\"\",\"\",IF(COUNTIF($F$3:F16, F16)>1, L15+1, 1))","v":""},null,null,"",null,null,null,null,null,""]
[null,{"$f":"IF(C17=\"\",\"\",IF(COUNTIF($C$3:C17, C17)>1, \"\", C17))","v":""},{"$f":"IF(G17=\"\",\"\",IF(F17=\"\",\"\",CONCATENATE(DIGITADOR!$M$1,G17,E17)))","v":""},"",{"$f":"IF(F17=\"\",\"\",VLOOKUP(F17,referentes!$T$2:$W$200,2,FALSE))","v":""},null,null,null,{"$f":"IF(J17=\"\",\"\",VLOOKUP(J17,'otras referencias'!$A$12:$B$15,2,FALSE))","v":""},null,null,{"$f":"IF(F17=\"\",\"\",IF(COUNTIF($F$3:F17, F17)>1, L16+1, 1))","v":""},null,null,"",null,null,null,null,null,""]
[null,{"$f":"IF(C18=\"\",\"\",IF(COUNTIF($C$3:C18, C18)>1, \"\", C18))","v":""},{"$f":"IF(G18=\"\",\"\",IF(F18=\"\",\"\",CONCATENATE(DIGITADOR!$M$1,G18,E18)))","v":""},"",{"$f":"IF(F18=\"\",\"\",VLOOKUP(F18,referentes!$T$2:$W$200,2,FALSE))","v":""},null,null,null,{"$f":"IF(J18=\"\",\"\",VLOOKUP(J18,'otras referencias'!$A$12:$B$15,2,FALSE))","v":""},null,null,{"$f":"IF(F18=\"\",\"\",IF(COUNTIF($F$3:F18, F18)>1, L17+1, 1))","v":""},null,null,"",null,null,null,null,null,""]
[null,{"$f":"IF(C19=\"\",\"\",IF(COUNTIF($C$3:C19, C19)>1, \"\", C19))","v":""},{"$f":"IF(G19=\"\",\"\",IF(F19=\"\",\"\",CONCATENATE(DIGITADOR!$M$1,G19,E19)))","v":""},"",{"$f":"IF(F19=\"\",\"\",VLOOKUP(F19,referentes!$T$2:$W$200,2,FALSE))","v":""},null,null,null,{"$f":"IF(J19=\"\",\"\",VLOOKUP(J19,'otras referencias'!$A$12:$B$15,2,FALSE))","v":""},null,null,{"$f":"IF(F19=\"\",\"\",IF(COUNTIF($F$3:F19, F19)>1, L18+1, 1))","v":""},null,null,"",null,null,null,null,null,""]
[null,{"$f":"IF(C20=\"\",\"\",IF(COUNTIF($C$3:C20, C20)>1, \"\", C20))","v":""},{"$f":"IF(G20=\"\",\"\",IF(F20=\"\",\"\",CONCATENATE(DIGITADOR!$M$1,G20,E20)))","v":""},"",{"$f":"IF(F20=\"\",\"\",VLOOKUP(F20,referentes!$T$2:$W$200,2,FALSE))","v":""},null,null,null,{"$f":"IF(J20=\"\",\"\",VLOOKUP(J20,'otras referencias'!$A$12:$B$15,2,FALSE))","v":""},null,null,{"$f":"IF(F20=\"\",\"\",IF(COUNTIF($F$3:F20, F20)>1, L19+1, 1))","v":""},null,null,"",null,null,null,null,null,""]
[null,{"$f":"IF(C21=\"\",\"\",IF(COUNTIF($C$3:C21, C21)>1, \"\", C21))","v":""},{"$f":"IF(G21=\"\",\"\",IF(F21=\"\",\"\",CONCATENATE(DIGITADOR!$M$1,G21,E21)))","v":""},"",{"$f":"IF(F21=\"\",\"\",VLOOKUP(F21,referentes!$T$2:$W$200,2,FALSE))","v":""},null,null,null,{"$f":"IF(J21=\"\",\"\",VLOOKUP(J21,'otras referencias'!$A$12:$B$15,2,FALSE))","v":""},null,null,{"$f":"IF(F21=\"\",\"\",IF(COUNTIF($F$3:F21, F21)>1, L20+1, 1))","v":""},null,null,"",null,null,null,null,null,""]
[null,{"$f":"IF(C22=\"\",\"\",IF(COUNTIF($C$3:C22, C22)>1, \"\", C22))","v":""},{"$f":"IF(G22=\"\",\"\",IF(F22=\"\",\"\",CONCATENATE(DIGITADOR!$M$1,G22,E22)))","v":""},"",{"$f":"IF(F22=\"\",\"\",VLOOKUP(F22,referentes!$T$2:$W$200,2,FALSE))","v":""},null,null,null,{"$f":"IF(J22=\"\",\"\",VLOOKUP(J22,'otras referencias'!$A$12:$B$15,2,FALSE))","v":""},null,null,{"$f":"IF(F22=\"\",\"\",IF(COUNTIF($F$3:F22, F22)>1, L21+1, 1))","v":""},null,null,"",null,null,null,null,null,""]
[null,{"$f":"IF(C23=\"\",\"\",IF(COUNTIF($C$3:C23, C23)>1, \"\", C23))","v":""},{"$f":"IF(G23=\"\",\"\",IF(F23=\"\",\"\",CONCATENATE(DIGITADOR!$M$1,G23,E23)))","v":""},"",{"$f":"IF(F23=\"\",\"\",VLOOKUP(F23,referentes!$T$2:$W$200,2,FALSE))","v":""},null,null,null,{"$f":"IF(J23=\"\",\"\",VLOOKUP(J23,'otras referencias'!$A$12:$B$15,2,FALSE))","v":""},null,null,{"$f":"IF(F23=\"\",\"\",IF(COUNTIF($F$3:F23, F23)>1, L22+1, 1))","v":""},null,null,"",null,null,null,null,null,""]
[null,{"$f":"IF(C24=\"\",\"\",IF(COUNTIF($C$3:C24, C24)>1, \"\", C24))","v":""},{"$f":"IF(G24=\"\",\"\",IF(F24=\"\",\"\",CONCATENATE(DIGITADOR!$M$1,G24,E24)))","v":""},"",{"$f":"IF(F24=\"\",\"\",VLOOKUP(F24,referentes!$T$2:$W$200,2,FALSE))","v":""},null,null,null,{"$f":"IF(J24=\"\",\"\",VLOOKUP(J24,'otras referencias'!$A$12:$B$15,2,FALSE))","v":""},null,null,{"$f":"IF(F24=\"\",\"\",IF(COUNTIF($F$3:F24, F24)>1, L23+1, 1))","v":""},null,null,"",null,null,null,null,null,""]
[null,{"$f":"IF(C25=\"\",\"\",IF(COUNTIF($C$3:C25, C25)>1, \"\", C25))","v":""},{"$f":"IF(G25=\"\",\"\",IF(F25=\"\",\"\",CONCATENATE(DIGITADOR!$M$1,G25,E25)))","v":""},"",{"$f":"IF(F25=\"\",\"\",VLOOKUP(F25,referentes!$T$2:$W$200,2,FALSE))","v":""},null,null,null,{"$f":"IF(J25=\"\",\"\",VLOOKUP(J25,'otras referencias'!$A$12:$B$15,2,FALSE))","v":""},null,null,{"$f":"IF(F25=\"\",\"\",IF(COUNTIF($F$3:F25, F25)>1, L24+1, 1))","v":""},null,null,"",null,null,null,null,null,""]
[null,{"$f":"IF(C26=\"\",\"\",IF(COUNTIF($C$3:C26, C26)>1, \"\", C26))","v":""},{"$f":"IF(G26=\"\",\"\",IF(F26=\"\",\"\",CONCATENATE(DIGITADOR!$M$1,G26,E26)))","v":""},"",{"$f":"IF(F26=\"\",\"\",VLOOKUP(F26,referentes!$T$2:$W$200,2,FALSE))","v":""},null,null,null,{"$f":"IF(J26=\"\",\"\",VLOOKUP(J26,'otras referencias'!$A$12:$B$15,2,FALSE))","v":""},null,null,{"$f":"IF(F26=\"\",\"\",IF(COUNTIF($F$3:F26, F26)>1, L25+1, 1))","v":""},null,null,"",null,null,null,null,null,""]
[null,{"$f":"IF(C27=\"\",\"\",IF(COUNTIF($C$3:C27, C27)>1, \"\", C27))","v":""},{"$f":"IF(G27=\"\",\"\",IF(F27=\"\",\"\",CONCATENATE(DIGITADOR!$M$1,G27,E27)))","v":""},"",{"$f":"IF(F27=\"\",\"\",VLOOKUP(F27,referentes!$T$2:$W$200,2,FALSE))","v":""},null,null,null,{"$f":"IF(J27=\"\",\"\",VLOOKUP(J27,'otras referencias'!$A$12:$B$15,2,FALSE))","v":""},null,null,{"$f":"IF(F27=\"\",\"\",IF(COUNTIF($F$3:F27, F27)>1, L26+1, 1))","v":""},null,null,"",null,null,null,null,null,""]
[null,{"$f":"IF(C28=\"\",\"\",IF(COUNTIF($C$3:C28, C28)>1, \"\", C28))","v":""},{"$f":"IF(G28=\"\",\"\",IF(F28=\"\",\"\",CONCATENATE(DIGITADOR!$M$1,G28,E28)))","v":""},"",{"$f":"IF(F28=\"\",\"\",VLOOKUP(F28,referentes!$T$2:$W$200,2,FALSE))","v":""},null,null,null,{"$f":"IF(J28=\"\",\"\",VLOOKUP(J28,'otras referencias'!$A$12:$B$15,2,FALSE))","v":""},null,null,{"$f":"IF(F28=\"\",\"\",IF(COUNTIF($F$3:F28, F28)>1, L27+1, 1))","v":""},null,null,"",null,null,null,null,null,""]
[null,{"$f":"IF(C29=\"\",\"\",IF(COUNTIF($C$3:C29, C29)>1, \"\", C29))","v":""},{"$f":"IF(G29=\"\",\"\",IF(F29=\"\",\"\",CONCATENATE(DIGITADOR!$M$1,G29,E29)))","v":""},"",{"$f":"IF(F29=\"\",\"\",VLOOKUP(F29,referentes!$T$2:$W$200,2,FALSE))","v":""},null,null,null,{"$f":"IF(J29=\"\",\"\",VLOOKUP(J29,'otras referencias'!$A$12:$B$15,2,FALSE))","v":""},null,null,{"$f":"IF(F29=\"\",\"\",IF(COUNTIF($F$3:F29, F29)>1, L28+1, 1))","v":""},null,null,"",null,null,null,null,null,""]
[null,{"$f":"IF(C30=\"\",\"\",IF(COUNTIF($C$3:C30, C30)>1, \"\", C30))","v":""},{"$f":"IF(G30=\"\",\"\",IF(F30=\"\",\"\",CONCATENATE(DIGITADOR!$M$1,G30,E30)))","v":""},"",{"$f":"IF(F30=\"\",\"\",VLOOKUP(F30,referentes!$T$2:$W$200,2,FALSE))","v":""},null,null,null,{"$f":"IF(J30=\"\",\"\",VLOOKUP(J30,'otras referencias'!$A$12:$B$15,2,FALSE))","v":""},null,null,{"$f":"IF(F30=\"\",\"\",IF(COUNTIF($F$3:F30, F30)>1, L29+1, 1))","v":""},null,null,"",null,null,null,null,null,""]
[null,{"$f":"IF(C31=\"\",\"\",IF(COUNTIF($C$3:C31, C31)>1, \"\", C31))","v":""},{"$f":"IF(G31=\"\",\"\",IF(F31=\"\",\"\",CONCATENATE(DIGITADOR!$M$1,G31,E31)))","v":""},"",{"$f":"IF(F31=\"\",\"\",VLOOKUP(F31,referentes!$T$2:$W$200,2,FALSE))","v":""},null,null,null,{"$f":"IF(J31=\"\",\"\",VLOOKUP(J31,'otras referencias'!$A$12:$B$15,2,FALSE))","v":""},null,null,{"$f":"IF(F31=\"\",\"\",IF(COUNTIF($F$3:F31, F31)>1, L30+1, 1))","v":""},null,null,"",null,null,null,null,null,""]
[null,{"$f":"IF(C32=\"\",\"\",IF(COUNTIF($C$3:C32, C32)>1, \"\", C32))","v":""},{"$f":"IF(G32=\"\",\"\",IF(F32=\"\",\"\",CONCATENATE(DIGITADOR!$M$1,G32,E32)))","v":""},"",{"$f":"IF(F32=\"\",\"\",VLOOKUP(F32,referentes!$T$2:$W$200,2,FALSE))","v":""},null,null,null,{"$f":"IF(J32=\"\",\"\",VLOOKUP(J32,'otras referencias'!$A$12:$B$15,2,FALSE))","v":""},null,null,{"$f":"IF(F32=\"\",\"\",IF(COUNTIF($F$3:F32, F32)>1, L31+1, 1))","v":""},null,null,"",null,null,null,null,null,""]
[null,{"$f":"IF(C33=\"\",\"\",IF(COUNTIF($C$3:C33, C33)>1, \"\", C33))","v":""},{"$f":"IF(G33=\"\",\"\",IF(F33=\"\",\"\",CONCATENATE(DIGITADOR!$M$1,G33,E33)))","v":""},"",{"$f":"IF(F33=\"\",\"\",VLOOKUP(F33,referentes!$T$2:$W$200,2,FALSE))","v":""},null,null,null,{"$f":"IF(J33=\"\",\"\",VLOOKUP(J33,'otras referencias'!$A$12:$B$15,2,FALSE))","v":""},null,null,{"$f":"IF(F33=\"\",\"\",IF(COUNTIF($F$3:F33, F33)>1, L32+1, 1))","v":""},null,null,"",null,null,null,null,null,""]
[null,{"$f":"IF(C34=\"\",\"\",IF(COUNTIF($C$3:C34, C34)>1, \"\", C34))","v":""},{"$f":"IF(G34=\"\",\"\",IF(F34=\"\",\"\",CONCATENATE(DIGITADOR!$M$1,G34,E34)))","v":""},"",{"$f":"IF(F34=\"\",\"\",VLOOKUP(F34,referentes!$T$2:$W$200,2,FALSE))","v":""},null,null,null,{"$f":"IF(J34=\"\",\"\",VLOOKUP(J34,'otras referencias'!$A$12:$B$15,2,FALSE))","v":""},null,null,{"$f":"IF(F34=\"\",\"\",IF(COUNTIF($F$3:F34, F34)>1, L33+1, 1))","v":""},null,null,"",null,null,null,null,null,""]
[null,{"$f":"IF(C35=\"\",\"\",IF(COUNTIF($C$3:C35, C35)>1, \"\", C35))","v":""},{"$f":"IF(G35=\"\",\"\",IF(F35=\"\",\"\",CONCATENATE(DIGITADOR!$M$1,G35,E35)))","v":""},"",{"$f":"IF(F35=\"\",\"\",VLOOKUP(F35,referentes!$T$2:$W$200,2,FALSE))","v":""},null,null,null,{"$f":"IF(J35=\"\",\"\",VLOOKUP(J35,'otras referencias'!$A$12:$B$15,2,FALSE))","v":""},null,null,{"$f":"IF(F35=\"\",\"\",IF(COUNTIF($F$3:F35, F35)>1, L34+1, 1))","v":""},null,null,"",null,null,null,null,null,""]
[null,{"$f":"IF(C36=\"\",\"\",IF(COUNTIF($C$3:C36, C36)>1, \"\", C36))","v":""},{"$f":"IF(G36=\"\",\"\",IF(F36=\"\",\"\",CONCATENATE(DIGITADOR!$M$1,G36,E36)))","v":""},"",{"$f":"IF(F36=\"\",\"\",VLOOKUP(F36,referentes!$T$2:$W$200,2,FALSE))","v":""},null,null,null,{"$f":"IF(J36=\"\",\"\",VLOOKUP(J36,'otras referencias'!$A$12:$B$15,2,FALSE))","v":""},null,null,{"$f":"IF(F36=\"\",\"\",IF(COUNTIF($F$3:F36, F36)>1, L35+1, 1))","v":""},null,null,"",null,null,null,null,null,""]
[null,{"$f":"IF(C37=\"\",\"\",IF(COUNTIF($C$3:C37, C37)>1, \"\", C37))","v":""},{"$f":"IF(G37=\"\",\"\",IF(F37=\"\",\"\",CONCATENATE(DIGITADOR!$M$1,G37,E37)))","v":""},"",{"$f":"IF(F37=\"\",\"\",VLOOKUP(F37,referentes!$T$2:$W$200,2,FALSE))","v":""},null,null,null,{"$f":"IF(J37=\"\",\"\",VLOOKUP(J37,'otras referencias'!$A$12:$B$15,2,FALSE))","v":""},null,null,{"$f":"IF(F37=\"\",\"\",IF(COUNTIF($F$3:F37, F37)>1, L36+1, 1))","v":""},null,null,"",null,null,null,null,null,""]
[null,{"$f":"IF(C38=\"\",\"\",IF(COUNTIF($C$3:C38, C38)>1, \"\", C38))","v":""},{"$f":"IF(G38=\"\",\"\",IF(F38=\"\",\"\",CONCATENATE(DIGITADOR!$M$1,G38,E38)))","v":""},"",{"$f":"IF(F38=\"\",\"\",VLOOKUP(F38,referentes!$T$2:$W$200,2,FALSE))","v":""},null,null,null,{"$f":"IF(J38=\"\",\"\",VLOOKUP(J38,'otras referencias'!$A$12:$B$15,2,FALSE))","v":""},null,null,{"$f":"IF(F38=\"\",\"\",IF(COUNTIF($F$3:F38, F38)>1, L37+1, 1))","v":""},null,null,"",null,null,null,null,null,""]
[null,{"$f":"IF(C39=\"\",\"\",IF(COUNTIF($C$3:C39, C39)>1, \"\", C39))","v":""},{"$f":"IF(G39=\"\",\"\",IF(F39=\"\",\"\",CONCATENATE(DIGITADOR!$M$1,G39,E39)))","v":""},"",{"$f":"IF(F39=\"\",\"\",VLOOKUP(F39,referentes!$T$2:$W$200,2,FALSE))","v":""},null,null,null,{"$f":"IF(J39=\"\",\"\",VLOOKUP(J39,'otras referencias'!$A$12:$B$15,2,FALSE))","v":""},null,null,{"$f":"IF(F39=\"\",\"\",IF(COUNTIF($F$3:F39, F39)>1, L38+1, 1))","v":""},null,null,"",null,null,null,null,null,""]
[null,{"$f":"IF(C40=\"\",\"\",IF(COUNTIF($C$3:C40, C40)>1, \"\", C40))","v":""},{"$f":"IF(G40=\"\",\"\",IF(F40=\"\",\"\",CONCATENATE(DIGITADOR!$M$1,G40,E40)))","v":""},"",{"$f":"IF(F40=\"\",\"\",VLOOKUP(F40,referentes!$T$2:$W$200,2,FALSE))","v":""},null,null,null,{"$f":"IF(J40=\"\",\"\",VLOOKUP(J40,'otras referencias'!$A$12:$B$15,2,FALSE))","v":""},null,null,{"$f":"IF(F40=\"\",\"\",IF(COUNTIF($F$3:F40, F40)>1, L39+1, 1))","v":""},null,null,"",null,null,null,null,null,""]
[null,{"$f":"IF(C41=\"\",\"\",IF(COUNTIF($C$3:C41, C41)>1, \"\", C41))","v":""},{"$f":"IF(G41=\"\",\"\",IF(F41=\"\",\"\",CONCATENATE(DIGITADOR!$M$1,G41,E41)))","v":""},"",{"$f":"IF(F41=\"\",\"\",VLOOKUP(F41,referentes!$T$2:$W$200,2,FALSE))","v":""},null,null,null,{"$f":"IF(J41=\"\",\"\",VLOOKUP(J41,'otras referencias'!$A$12:$B$15,2,FALSE))","v":""},null,null,{"$f":"IF(F41=\"\",\"\",IF(COUNTIF($F$3:F41, F41)>1, L40+1, 1))","v":""},null,null,"",null,null,null,null,null,""]
[null,{"$f":"IF(C42=\"\",\"\",IF(COUNTIF($C$3:C42, C42)>1, \"\", C42))","v":""},{"$f":"IF(G42=\"\",\"\",IF(F42=\"\",\"\",CONCATENATE(DIGITADOR!$M$1,G42,E42)))","v":""},"",{"$f":"IF(F42=\"\",\"\",VLOOKUP(F42,referentes!$T$2:$W$200,2,FALSE))","v":""},null,null,null,{"$f":"IF(J42=\"\",\"\",VLOOKUP(J42,'otras referencias'!$A$12:$B$15,2,FALSE))","v":""},null,null,{"$f":"IF(F42=\"\",\"\",IF(COUNTIF($F$3:F42, F42)>1, L41+1, 1))","v":""},null,null,"",null,null,null,null,null,""]
[null,{"$f":"IF(C43=\"\",\"\",IF(COUNTIF($C$3:C43, C43)>1, \"\", C43))","v":""},{"$f":"IF(G43=\"\",\"\",IF(F43=\"\",\"\",CONCATENATE(DIGITADOR!$M$1,G43,E43)))","v":""},"",{"$f":"IF(F43=\"\",\"\",VLOOKUP(F43,referentes!$T$2:$W$200,2,FALSE))","v":""},null,null,null,{"$f":"IF(J43=\"\",\"\",VLOOKUP(J43,'otras referencias'!$A$12:$B$15,2,FALSE))","v":""},null,null,{"$f":"IF(F43=\"\",\"\",IF(COUNTIF($F$3:F43, F43)>1, L42+1, 1))","v":""},null,null,"",null,null,null,null,null,""]
[null,{"$f":"IF(C44=\"\",\"\",IF(COUNTIF($C$3:C44, C44)>1, \"\", C44))","v":""},{"$f":"IF(G44=\"\",\"\",IF(F44=\"\",\"\",CONCATENATE(DIGITADOR!$M$1,G44,E44)))","v":""},"",{"$f":"IF(F44=\"\",\"\",VLOOKUP(F44,referentes!$T$2:$W$200,2,FALSE))","v":""},null,null,null,{"$f":"IF(J44=\"\",\"\",VLOOKUP(J44,'otras referencias'!$A$12:$B$15,2,FALSE))","v":""},null,null,{"$f":"IF(F44=\"\",\"\",IF(COUNTIF($F$3:F44, F44)>1, L43+1, 1))","v":""},null,null,"",null,null,null,null,null,""]
[null,{"$f":"IF(C45=\"\",\"\",IF(COUNTIF($C$3:C45, C45)>1, \"\", C45))","v":""},{"$f":"IF(G45=\"\",\"\",IF(F45=\"\",\"\",CONCATENATE(DIGITADOR!$M$1,G45,E45)))","v":""},"",{"$f":"IF(F45=\"\",\"\",VLOOKUP(F45,referentes!$T$2:$W$200,2,FALSE))","v":""},null,null,null,{"$f":"IF(J45=\"\",\"\",VLOOKUP(J45,'otras referencias'!$A$12:$B$15,2,FALSE))","v":""},null,null,{"$f":"IF(F45=\"\",\"\",IF(COUNTIF($F$3:F45, F45)>1, L44+1, 1))","v":""},null,null,"",null,null,null,null,null,""]
[null,{"$f":"IF(C46=\"\",\"\",IF(COUNTIF($C$3:C46, C46)>1, \"\", C46))","v":""},{"$f":"IF(G46=\"\",\"\",IF(F46=\"\",\"\",CONCATENATE(DIGITADOR!$M$1,G46,E46)))","v":""},"",{"$f":"IF(F46=\"\",\"\",VLOOKUP(F46,referentes!$T$2:$W$200,2,FALSE))","v":""},null,null,null,{"$f":"IF(J46=\"\",\"\",VLOOKUP(J46,'otras referencias'!$A$12:$B$15,2,FALSE))","v":""},null,null,{"$f":"IF(F46=\"\",\"\",IF(COUNTIF($F$3:F46, F46)>1, L45+1, 1))","v":""},null,null,"",null,null,null,null,null,""]
[null,{"$f":"IF(C47=\"\",\"\",IF(COUNTIF($C$3:C47, C47)>1, \"\", C47))","v":""},{"$f":"IF(G47=\"\",\"\",IF(F47=\"\",\"\",CONCATENATE(DIGITADOR!$M$1,G47,E47)))","v":""},"",{"$f":"IF(F47=\"\",\"\",VLOOKUP(F47,referentes!$T$2:$W$200,2,FALSE))","v":""},null,null,null,{"$f":"IF(J47=\"\",\"\",VLOOKUP(J47,'otras referencias'!$A$12:$B$15,2,FALSE))","v":""},null,null,{"$f":"IF(F47=\"\",\"\",IF(COUNTIF($F$3:F47, F47)>1, L46+1, 1))","v":""},null,null,"",null,null,null,null,null,""]
[null,{"$f":"IF(C48=\"\",\"\",IF(COUNTIF($C$3:C48, C48)>1, \"\", C48))","v":""},{"$f":"IF(G48=\"\",\"\",IF(F48=\"\",\"\",CONCATENATE(DIGITADOR!$M$1,G48,E48)))","v":""},"",{"$f":"IF(F48=\"\",\"\",VLOOKUP(F48,referentes!$T$2:$W$200,2,FALSE))","v":""},null,null,null,{"$f":"IF(J48=\"\",\"\",VLOOKUP(J48,'otras referencias'!$A$12:$B$15,2,FALSE))","v":""},null,null,{"$f":"IF(F48=\"\",\"\",IF(COUNTIF($F$3:F48, F48)>1, L47+1, 1))","v":""},null,null,"",null,null,null,null,null,""]
[null,{"$f":"IF(C49=\"\",\"\",IF(COUNTIF($C$3:C49, C49)>1, \"\", C49))","v":""},{"$f":"IF(G49=\"\",\"\",IF(F49=\"\",\"\",CONCATENATE(DIGITADOR!$M$1,G49,E49)))","v":""},"",{"$f":"IF(F49=\"\",\"\",VLOOKUP(F49,referentes!$T$2:$W$200,2,FALSE))","v":""},null,null,null,{"$f":"IF(J49=\"\",\"\",VLOOKUP(J49,'otras referencias'!$A$12:$B$15,2,FALSE))","v":""},null,null,{"$f":"IF(F49=\"\",\"\",IF(COUNTIF($F$3:F49, F49)>1, L48+1, 1))","v":""},null,null,"",null,null,null,null,null,""]
[null,{"$f":"IF(C50=\"\",\"\",IF(COUNTIF($C$3:C50, C50)>1, \"\", C50))","v":""},{"$f":"IF(G50=\"\",\"\",IF(F50=\"\",\"\",CONCATENATE(DIGITADOR!$M$1,G50,E50)))","v":""},"",{"$f":"IF(F50=\"\",\"\",VLOOKUP(F50,referentes!$T$2:$W$200,2,FALSE))","v":""},null,null,null,{"$f":"IF(J50=\"\",\"\",VLOOKUP(J50,'otras referencias'!$A$12:$B$15,2,FALSE))","v":""},null,null,{"$f":"IF(F50=\"\",\"\",IF(COUNTIF($F$3:F50, F50)>1, L49+1, 1))","v":""},null,null,"",null,null,null,null,null,""]
[null,{"$f":"IF(C51=\"\",\"\",IF(COUNTIF($C$3:C51, C51)>1, \"\", C51))","v":""},{"$f":"IF(G51=\"\",\"\",IF(F51=\"\",\"\",CONCATENATE(DIGITADOR!$M$1,G51,E51)))","v":""},"",{"$f":"IF(F51=\"\",\"\",VLOOKUP(F51,referentes!$T$2:$W$200,2,FALSE))","v":""},null,null,null,{"$f":"IF(J51=\"\",\"\",VLOOKUP(J51,'otras referencias'!$A$12:$B$15,2,FALSE))","v":""},null,null,{"$f":"IF(F51=\"\",\"\",IF(COUNTIF($F$3:F51, F51)>1, L50+1, 1))","v":""},null,null,"",null,null,null,null,null,""]
[null,{"$f":"IF(C52=\"\",\"\",IF(COUNTIF($C$3:C52, C52)>1, \"\", C52))","v":""},{"$f":"IF(G52=\"\",\"\",IF(F52=\"\",\"\",CONCATENATE(DIGITADOR!$M$1,G52,E52)))","v":""},"",{"$f":"IF(F52=\"\",\"\",VLOOKUP(F52,referentes!$T$2:$W$200,2,FALSE))","v":""},null,null,null,{"$f":"IF(J52=\"\",\"\",VLOOKUP(J52,'otras referencias'!$A$12:$B$15,2,FALSE))","v":""},null,null,{"$f":"IF(F52=\"\",\"\",IF(COUNTIF($F$3:F52, F52)>1, L51+1, 1))","v":""},null,null,"",null,null,null,null,null,""]
[null,{"$f":"IF(C53=\"\",\"\",IF(COUNTIF($C$3:C53, C53)>1, \"\", C53))","v":""},{"$f":"IF(G53=\"\",\"\",IF(F53=\"\",\"\",CONCATENATE(DIGITADOR!$M$1,G53,E53)))","v":""},"",{"$f":"IF(F53=\"\",\"\",VLOOKUP(F53,referentes!$T$2:$W$200,2,FALSE))","v":""},null,null,null,{"$f":"IF(J53=\"\",\"\",VLOOKUP(J53,'otras referencias'!$A$12:$B$15,2,FALSE))","v":""},null,null,{"$f":"IF(F53=\"\",\"\",IF(COUNTIF($F$3:F53, F53)>1, L52+1, 1))","v":""},null,null,"",null,null,null,null,null,""]
[null,{"$f":"IF(C54=\"\",\"\",IF(COUNTIF($C$3:C54, C54)>1, \"\", C54))","v":""},{"$f":"IF(G54=\"\",\"\",IF(F54=\"\",\"\",CONCATENATE(DIGITADOR!$M$1,G54,E54)))","v":""},"",{"$f":"IF(F54=\"\",\"\",VLOOKUP(F54,referentes!$T$2:$W$200,2,FALSE))","v":""},null,null,null,{"$f":"IF(J54=\"\",\"\",VLOOKUP(J54,'otras referencias'!$A$12:$B$15,2,FALSE))","v":""},null,null,{"$f":"IF(F54=\"\",\"\",IF(COUNTIF($F$3:F54, F54)>1, L53+1, 1))","v":""},null,null,"",null,null,null,null,null,""]
[null,{"$f":"IF(C55=\"\",\"\",IF(COUNTIF($C$3:C55, C55)>1, \"\", C55))","v":""},{"$f":"IF(G55=\"\",\"\",IF(F55=\"\",\"\",CONCATENATE(DIGITADOR!$M$1,G55,E55)))","v":""},"",{"$f":"IF(F55=\"\",\"\",VLOOKUP(F55,referentes!$T$2:$W$200,2,FALSE))","v":""},null,null,null,{"$f":"IF(J55=\"\",\"\",VLOOKUP(J55,'otras referencias'!$A$12:$B$15,2,FALSE))","v":""},null,null,{"$f":"IF(F55=\"\",\"\",IF(COUNTIF($F$3:F55, F55)>1, L54+1, 1))","v":""},null,null,"",null,null,null,null,null,""]
[null,{"$f":"IF(C56=\"\",\"\",IF(COUNTIF($C$3:C56, C56)>1, \"\", C56))","v":""},{"$f":"IF(G56=\"\",\"\",IF(F56=\"\",\"\",CONCATENATE(DIGITADOR!$M$1,G56,E56)))","v":""},"",{"$f":"IF(F56=\"\",\"\",VLOOKUP(F56,referentes!$T$2:$W$200,2,FALSE))","v":""},null,null,null,{"$f":"IF(J56=\"\",\"\",VLOOKUP(J56,'otras referencias'!$A$12:$B$15,2,FALSE))","v":""},null,null,{"$f":"IF(F56=\"\",\"\",IF(COUNTIF($F$3:F56, F56)>1, L55+1, 1))","v":""},null,null,"",null,null,null,null,null,""]
[null,{"$f":"IF(C57=\"\",\"\",IF(COUNTIF($C$3:C57, C57)>1, \"\", C57))","v":""},{"$f":"IF(G57=\"\",\"\",IF(F57=\"\",\"\",CONCATENATE(DIGITADOR!$M$1,G57,E57)))","v":""},"",{"$f":"IF(F57=\"\",\"\",VLOOKUP(F57,referentes!$T$2:$W$200,2,FALSE))","v":""},null,null,null,{"$f":"IF(J57=\"\",\"\",VLOOKUP(J57,'otras referencias'!$A$12:$B$15,2,FALSE))","v":""},null,null,{"$f":"IF(F57=\"\",\"\",IF(COUNTIF($F$3:F57, F57)>1, L56+1, 1))","v":""},null,null,"",null,null,null,null,null,""]
[null,{"$f":"IF(C58=\"\",\"\",IF(COUNTIF($C$3:C58, C58)>1, \"\", C58))","v":""},{"$f":"IF(G58=\"\",\"\",IF(F58=\"\",\"\",CONCATENATE(DIGITADOR!$M$1,G58,E58)))","v":""},"",{"$f":"IF(F58=\"\",\"\",VLOOKUP(F58,referentes!$T$2:$W$200,2,FALSE))","v":""},null,null,null,{"$f":"IF(J58=\"\",\"\",VLOOKUP(J58,'otras referencias'!$A$12:$B$15,2,FALSE))","v":""},null,null,{"$f":"IF(F58=\"\",\"\",IF(COUNTIF($F$3:F58, F58)>1, L57+1, 1))","v":""},null,null,"",null,null,null,null,null,""]
[null,{"$f":"IF(C59=\"\",\"\",IF(COUNTIF($C$3:C59, C59)>1, \"\", C59))","v":""},{"$f":"IF(G59=\"\",\"\",IF(F59=\"\",\"\",CONCATENATE(DIGITADOR!$M$1,G59,E59)))","v":""},"",{"$f":"IF(F59=\"\",\"\",VLOOKUP(F59,referentes!$T$2:$W$200,2,FALSE))","v":""},null,null,null,{"$f":"IF(J59=\"\",\"\",VLOOKUP(J59,'otras referencias'!$A$12:$B$15,2,FALSE))","v":""},null,null,{"$f":"IF(F59=\"\",\"\",IF(COUNTIF($F$3:F59, F59)>1, L58+1, 1))","v":""},null,null,"",null,null,null,null,null,""]
[null,{"$f":"IF(C60=\"\",\"\",IF(COUNTIF($C$3:C60, C60)>1, \"\", C60))","v":""},{"$f":"IF(G60=\"\",\"\",IF(F60=\"\",\"\",CONCATENATE(DIGITADOR!$M$1,G60,E60)))","v":""},"",{"$f":"IF(F60=\"\",\"\",VLOOKUP(F60,referentes!$T$2:$W$200,2,FALSE))","v":""},null,null,null,{"$f":"IF(J60=\"\",\"\",VLOOKUP(J60,'otras referencias'!$A$12:$B$15,2,FALSE))","v":""},null,null,{"$f":"IF(F60=\"\",\"\",IF(COUNTIF($F$3:F60, F60)>1, L59+1, 1))","v":""},null,null,"",null,null,null,null,null,""]
[null,{"$f":"IF(C61=\"\",\"\",IF(COUNTIF($C$3:C61, C61)>1, \"\", C61))","v":""},{"$f":"IF(G61=\"\",\"\",IF(F61=\"\",\"\",CONCATENATE(DIGITADOR!$M$1,G61,E61)))","v":""},"",{"$f":"IF(F61=\"\",\"\",VLOOKUP(F61,referentes!$T$2:$W$200,2,FALSE))","v":""},null,null,null,{"$f":"IF(J61=\"\",\"\",VLOOKUP(J61,'otras referencias'!$A$12:$B$15,2,FALSE))","v":""},null,null,{"$f":"IF(F61=\"\",\"\",IF(COUNTIF($F$3:F61, F61)>1, L60+1, 1))","v":""},null,null,"",null,null,null,null,null,""]
[null,{"$f":"IF(C62=\"\",\"\",IF(COUNTIF($C$3:C62, C62)>1, \"\", C62))","v":""},{"$f":"IF(G62=\"\",\"\",IF(F62=\"\",\"\",CONCATENATE(DIGITADOR!$M$1,G62,E62)))","v":""},"",{"$f":"IF(F62=\"\",\"\",VLOOKUP(F62,referentes!$T$2:$W$200,2,FALSE))","v":""},null,null,null,{"$f":"IF(J62=\"\",\"\",VLOOKUP(J62,'otras referencias'!$A$12:$B$15,2,FALSE))","v":""},null,null,{"$f":"IF(F62=\"\",\"\",IF(COUNTIF($F$3:F62, F62)>1, L61+1, 1))","v":""},null,null,"",null,null,null,null,null,""]
[null,{"$f":"IF(C63=\"\",\"\",IF(COUNTIF($C$3:C63, C63)>1, \"\", C63))","v":""},{"$f":"IF(G63=\"\",\"\",IF(F63=\"\",\"\",CONCATENATE(DIGITADOR!$M$1,G63,E63)))","v":""},"",{"$f":"IF(F63=\"\",\"\",VLOOKUP(F63,referentes!$T$2:$W$200,2,FALSE))","v":""},null,null,null,{"$f":"IF(J63=\"\",\"\",VLOOKUP(J63,'otras referencias'!$A$12:$B$15,2,FALSE))","v":""},null,null,{"$f":"IF(F63=\"\",\"\",IF(COUNTIF($F$3:F63, F63)>1, L62+1, 1))","v":""},null,null,"",null,null,null,null,null,""]
[null,{"$f":"IF(C64=\"\",\"\",IF(COUNTIF($C$3:C64, C64)>1, \"\", C64))","v":""},{"$f":"IF(G64=\"\",\"\",IF(F64=\"\",\"\",CONCATENATE(DIGITADOR!$M$1,G64,E64)))","v":""},"",{"$f":"IF(F64=\"\",\"\",VLOOKUP(F64,referentes!$T$2:$W$200,2,FALSE))","v":""},null,null,null,{"$f":"IF(J64=\"\",\"\",VLOOKUP(J64,'otras referencias'!$A$12:$B$15,2,FALSE))","v":""},null,null,{"$f":"IF(F64=\"\",\"\",IF(COUNTIF($F$3:F64, F64)>1, L63+1, 1))","v":""},null,null,"",null,null,null,null,null,""]
[null,{"$f":"IF(C65=\"\",\"\",IF(COUNTIF($C$3:C65, C65)>1, \"\", C65))","v":""},{"$f":"IF(G65=\"\",\"\",IF(F65=\"\",\"\",CONCATENATE(DIGITADOR!$M$1,G65,E65)))","v":""},"",{"$f":"IF(F65=\"\",\"\",VLOOKUP(F65,referentes!$T$2:$W$200,2,FALSE))","v":""},null,null,null,{"$f":"IF(J65=\"\",\"\",VLOOKUP(J65,'otras referencias'!$A$12:$B$15,2,FALSE))","v":""},null,null,{"$f":"IF(F65=\"\",\"\",IF(COUNTIF($F$3:F65, F65)>1, L64+1, 1))","v":""},null,null,"",null,null,null,null,null,""]
[null,{"$f":"IF(C66=\"\",\"\",IF(COUNTIF($C$3:C66, C66)>1, \"\", C66))","v":""},{"$f":"IF(G66=\"\",\"\",IF(F66=\"\",\"\",CONCATENATE(DIGITADOR!$M$1,G66,E66)))","v":""},"",{"$f":"IF(F66=\"\",\"\",VLOOKUP(F66,referentes!$T$2:$W$200,2,FALSE))","v":""},null,null,null,{"$f":"IF(J66=\"\",\"\",VLOOKUP(J66,'otras referencias'!$A$12:$B$15,2,FALSE))","v":""},null,null,{"$f":"IF(F66=\"\",\"\",IF(COUNTIF($F$3:F66, F66)>1, L65+1, 1))","v":""},null,null,"",null,null,null,null,null,""]
[null,{"$f":"IF(C67=\"\",\"\",IF(COUNTIF($C$3:C67, C67)>1, \"\", C67))","v":""},{"$f":"IF(G67=\"\",\"\",IF(F67=\"\",\"\",CONCATENATE(DIGITADOR!$M$1,G67,E67)))","v":""},"",{"$f":"IF(F67=\"\",\"\",VLOOKUP(F67,referentes!$T$2:$W$200,2,FALSE))","v":""},null,null,null,{"$f":"IF(J67=\"\",\"\",VLOOKUP(J67,'otras referencias'!$A$12:$B$15,2,FALSE))","v":""},null,null,{"$f":"IF(F67=\"\",\"\",IF(COUNTIF($F$3:F67, F67)>1, L66+1, 1))","v":""},null,null,"",null,null,null,null,null,""]
[null,{"$f":"IF(C68=\"\",\"\",IF(COUNTIF($C$3:C68, C68)>1, \"\", C68))","v":""},{"$f":"IF(G68=\"\",\"\",IF(F68=\"\",\"\",CONCATENATE(DIGITADOR!$M$1,G68,E68)))","v":""},{"$f":"IF(C68=\"\",\"\",CONCATENATE(C68,ROW()-2))","v":""},{"$f":"IF(F68=\"\",\"\",VLOOKUP(F68,referentes!$T$2:$W$200,2,FALSE))","v":""},null,null,null,{"$f":"IF(J68=\"\",\"\",VLOOKUP(J68,'otras referencias'!$A$12:$B$15,2,FALSE))","v":""},null,null,{"$f":"IF(F68=\"\",\"\",IF(COUNTIF($F$3:F68, F68)>1, L67+1, 1))","v":""},null,null,{"$f":"IF(N68=\"\", \"\", N68/100)","v":""},null,null,null,null,null,{"$f":"IF(T68=\"\",\"\",T68/1000)","v":""}]
[null,{"$f":"IF(C69=\"\",\"\",IF(COUNTIF($C$3:C69, C69)>1, \"\", C69))","v":""},{"$f":"IF(G69=\"\",\"\",IF(F69=\"\",\"\",CONCATENATE(DIGITADOR!$M$1,G69,E69)))","v":""},"",{"$f":"IF(F69=\"\",\"\",VLOOKUP(F69,referentes!$T$2:$W$200,2,FALSE))","v":""},null,null,null,{"$f":"IF(J69=\"\",\"\",VLOOKUP(J69,'otras referencias'!$A$12:$B$15,2,FALSE))","v":""},null,null,{"$f":"IF(F69=\"\",\"\",IF(COUNTIF($F$3:F69, F69)>1, L68+1, 1))","v":""},null,null,"",null,null,null,null,null,""]
[null,{"$f":"IF(C70=\"\",\"\",IF(COUNTIF($C$3:C70, C70)>1, \"\", C70))","v":""},{"$f":"IF(G70=\"\",\"\",IF(F70=\"\",\"\",CONCATENATE(DIGITADOR!$M$1,G70,E70)))","v":""},"",{"$f":"IF(F70=\"\",\"\",VLOOKUP(F70,referentes!$T$2:$W$200,2,FALSE))","v":""},null,null,null,{"$f":"IF(J70=\"\",\"\",VLOOKUP(J70,'otras referencias'!$A$12:$B$15,2,FALSE))","v":""},null,null,{"$f":"IF(F70=\"\",\"\",IF(COUNTIF($F$3:F70, F70)>1, L69+1, 1))","v":""},null,null,"",null,null,null,null,null,""]
[null,{"$f":"IF(C71=\"\",\"\",IF(COUNTIF($C$3:C71, C71)>1, \"\", C71))","v":""},{"$f":"IF(G71=\"\",\"\",IF(F71=\"\",\"\",CONCATENATE(DIGITADOR!$M$1,G71,E71)))","v":""},"",{"$f":"IF(F71=\"\",\"\",VLOOKUP(F71,referentes!$T$2:$W$200,2,FALSE))","v":""},null,null,null,{"$f":"IF(J71=\"\",\"\",VLOOKUP(J71,'otras referencias'!$A$12:$B$15,2,FALSE))","v":""},null,null,{"$f":"IF(F71=\"\",\"\",IF(COUNTIF($F$3:F71, F71)>1, L70+1, 1))","v":""},null,null,"",null,null,null,null,null,""]
[null,{"$f":"IF(C72=\"\",\"\",IF(COUNTIF($C$3:C72, C72)>1, \"\", C72))","v":""},{"$f":"IF(G72=\"\",\"\",IF(F72=\"\",\"\",CONCATENATE(DIGITADOR!$M$1,G72,E72)))","v":""},"",{"$f":"IF(F72=\"\",\"\",VLOOKUP(F72,referentes!$T$2:$W$200,2,FALSE))","v":""},null,null,null,{"$f":"IF(J72=\"\",\"\",VLOOKUP(J72,'otras referencias'!$A$12:$B$15,2,FALSE))","v":""},null,null,{"$f":"IF(F72=\"\",\"\",IF(COUNTIF($F$3:F72, F72)>1, L71+1, 1))","v":""},null,null,"",null,null,null,null,null,""]
[null,{"$f":"IF(C73=\"\",\"\",IF(COUNTIF($C$3:C73, C73)>1, \"\", C73))","v":""},{"$f":"IF(G73=\"\",\"\",IF(F73=\"\",\"\",CONCATENATE(DIGITADOR!$M$1,G73,E73)))","v":""},"",{"$f":"IF(F73=\"\",\"\",VLOOKUP(F73,referentes!$T$2:$W$200,2,FALSE))","v":""},null,null,null,{"$f":"IF(J73=\"\",\"\",VLOOKUP(J73,'otras referencias'!$A$12:$B$15,2,FALSE))","v":""},null,null,{"$f":"IF(F73=\"\",\"\",IF(COUNTIF($F$3:F73, F73)>1, L72+1, 1))","v":""},null,null,"",null,null,null,null,null,""]
[null,{"$f":"IF(C74=\"\",\"\",IF(COUNTIF($C$3:C74, C74)>1, \"\", C74))","v":""},{"$f":"IF(G74=\"\",\"\",IF(F74=\"\",\"\",CONCATENATE(DIGITADOR!$M$1,G74,E74)))","v":""},"",{"$f":"IF(F74=\"\",\"\",VLOOKUP(F74,referentes!$T$2:$W$200,2,FALSE))","v":""},null,null,null,{"$f":"IF(J74=\"\",\"\",VLOOKUP(J74,'otras referencias'!$A$12:$B$15,2,FALSE))","v":""},null,null,{"$f":"IF(F74=\"\",\"\",IF(COUNTIF($F$3:F74, F74)>1, L73+1, 1))","v":""},null,null,"",null,null,null,null,null,""]
[null,{"$f":"IF(C75=\"\",\"\",IF(COUNTIF($C$3:C75, C75)>1, \"\", C75))","v":""},{"$f":"IF(G75=\"\",\"\",IF(F75=\"\",\"\",CONCATENATE(DIGITADOR!$M$1,G75,E75)))","v":""},"",{"$f":"IF(F75=\"\",\"\",VLOOKUP(F75,referentes!$T$2:$W$200,2,FALSE))","v":""},null,null,null,{"$f":"IF(J75=\"\",\"\",VLOOKUP(J75,'otras referencias'!$A$12:$B$15,2,FALSE))","v":""},null,null,{"$f":"IF(F75=\"\",\"\",IF(COUNTIF($F$3:F75, F75)>1, L74+1, 1))","v":""},null,null,"",null,null,null,null,null,""]
[null,{"$f":"IF(C76=\"\",\"\",IF(COUNTIF($C$3:C76, C76)>1, \"\", C76))","v":""},{"$f":"IF(G76=\"\",\"\",IF(F76=\"\",\"\",CONCATENATE(DIGITADOR!$M$1,G76,E76)))","v":""},"",{"$f":"IF(F76=\"\",\"\",VLOOKUP(F76,referentes!$T$2:$W$200,2,FALSE))","v":""},null,null,null,{"$f":"IF(J76=\"\",\"\",VLOOKUP(J76,'otras referencias'!$A$12:$B$15,2,FALSE))","v":""},null,null,{"$f":"IF(F76=\"\",\"\",IF(COUNTIF($F$3:F76, F76)>1, L75+1, 1))","v":""},null,null,"",null,null,null,null,null,""]
[null,{"$f":"IF(C77=\"\",\"\",IF(COUNTIF($C$3:C77, C77)>1, \"\", C77))","v":""},{"$f":"IF(G77=\"\",\"\",IF(F77=\"\",\"\",CONCATENATE(DIGITADOR!$M$1,G77,E77)))","v":""},"",{"$f":"IF(F77=\"\",\"\",VLOOKUP(F77,referentes!$T$2:$W$200,2,FALSE))","v":""},null,null,null,{"$f":"IF(J77=\"\",\"\",VLOOKUP(J77,'otras referencias'!$A$12:$B$15,2,FALSE))","v":""},null,null,{"$f":"IF(F77=\"\",\"\",IF(COUNTIF($F$3:F77, F77)>1, L76+1, 1))","v":""},null,null,"",null,null,null,null,null,""]
[null,{"$f":"IF(C78=\"\",\"\",IF(COUNTIF($C$3:C78, C78)>1, \"\", C78))","v":""},{"$f":"IF(G78=\"\",\"\",IF(F78=\"\",\"\",CONCATENATE(DIGITADOR!$M$1,G78,E78)))","v":""},"",{"$f":"IF(F78=\"\",\"\",VLOOKUP(F78,referentes!$T$2:$W$200,2,FALSE))","v":""},null,null,null,{"$f":"IF(J78=\"\",\"\",VLOOKUP(J78,'otras referencias'!$A$12:$B$15,2,FALSE))","v":""},null,null,{"$f":"IF(F78=\"\",\"\",IF(COUNTIF($F$3:F78, F78)>1, L77+1, 1))","v":""},null,null,"",null,null,null,null,null,""]
[null,{"$f":"IF(C79=\"\",\"\",IF(COUNTIF($C$3:C79, C79)>1, \"\", C79))","v":""},{"$f":"IF(G79=\"\",\"\",IF(F79=\"\",\"\",CONCATENATE(DIGITADOR!$M$1,G79,E79)))","v":""},"",{"$f":"IF(F79=\"\",\"\",VLOOKUP(F79,referentes!$T$2:$W$200,2,FALSE))","v":""},null,null,null,{"$f":"IF(J79=\"\",\"\",VLOOKUP(J79,'otras referencias'!$A$12:$B$15,2,FALSE))","v":""},null,null,{"$f":"IF(F79=\"\",\"\",IF(COUNTIF($F$3:F79, F79)>1, L78+1, 1))","v":""},null,null,"",null,null,null,null,null,""]
[null,{"$f":"IF(C80=\"\",\"\",IF(COUNTIF($C$3:C80, C80)>1, \"\", C80))","v":""},{"$f":"IF(G80=\"\",\"\",IF(F80=\"\",\"\",CONCATENATE(DIGITADOR!$M$1,G80,E80)))","v":""},"",{"$f":"IF(F80=\"\",\"\",VLOOKUP(F80,referentes!$T$2:$W$200,2,FALSE))","v":""},null,null,null,{"$f":"IF(J80=\"\",\"\",VLOOKUP(J80,'otras referencias'!$A$12:$B$15,2,FALSE))","v":""},null,null,{"$f":"IF(F80=\"\",\"\",IF(COUNTIF($F$3:F80, F80)>1, L79+1, 1))","v":""},null,null,"",null,null,null,null,null,""]
[null,{"$f":"IF(C81=\"\",\"\",IF(COUNTIF($C$3:C81, C81)>1, \"\", C81))","v":""},{"$f":"IF(G81=\"\",\"\",IF(F81=\"\",\"\",CONCATENATE(DIGITADOR!$M$1,G81,E81)))","v":""},"",{"$f":"IF(F81=\"\",\"\",VLOOKUP(F81,referentes!$T$2:$W$200,2,FALSE))","v":""},null,null,null,{"$f":"IF(J81=\"\",\"\",VLOOKUP(J81,'otras referencias'!$A$12:$B$15,2,FALSE))","v":""},null,null,{"$f":"IF(F81=\"\",\"\",IF(COUNTIF($F$3:F81, F81)>1, L80+1, 1))","v":""},null,null,"",null,null,null,null,null,""]
[null,{"$f":"IF(C82=\"\",\"\",IF(COUNTIF($C$3:C82, C82)>1, \"\", C82))","v":""},{"$f":"IF(G82=\"\",\"\",IF(F82=\"\",\"\",CONCATENATE(DIGITADOR!$M$1,G82,E82)))","v":""},"",{"$f":"IF(F82=\"\",\"\",VLOOKUP(F82,referentes!$T$2:$W$200,2,FALSE))","v":""},null,null,null,{"$f":"IF(J82=\"\",\"\",VLOOKUP(J82,'otras referencias'!$A$12:$B$15,2,FALSE))","v":""},null,null,{"$f":"IF(F82=\"\",\"\",IF(COUNTIF($F$3:F82, F82)>1, L81+1, 1))","v":""},null,null,"",null,null,null,null,null,""]
[null,{"$f":"IF(C83=\"\",\"\",IF(COUNTIF($C$3:C83, C83)>1, \"\", C83))","v":""},{"$f":"IF(G83=\"\",\"\",IF(F83=\"\",\"\",CONCATENATE(DIGITADOR!$M$1,G83,E83)))","v":""},"",{"$f":"IF(F83=\"\",\"\",VLOOKUP(F83,referentes!$T$2:$W$200,2,FALSE))","v":""},null,null,null,{"$f":"IF(J83=\"\",\"\",VLOOKUP(J83,'otras referencias'!$A$12:$B$15,2,FALSE))","v":""},null,null,{"$f":"IF(F83=\"\",\"\",IF(COUNTIF($F$3:F83, F83)>1, L82+1, 1))","v":""},null,null,"",null,null,null,null,null,""]
[null,{"$f":"IF(C84=\"\",\"\",IF(COUNTIF($C$3:C84, C84)>1, \"\", C84))","v":""},{"$f":"IF(G84=\"\",\"\",IF(F84=\"\",\"\",CONCATENATE(DIGITADOR!$M$1,G84,E84)))","v":""},"",{"$f":"IF(F84=\"\",\"\",VLOOKUP(F84,referentes!$T$2:$W$200,2,FALSE))","v":""},null,null,null,{"$f":"IF(J84=\"\",\"\",VLOOKUP(J84,'otras referencias'!$A$12:$B$15,2,FALSE))","v":""},null,null,{"$f":"IF(F84=\"\",\"\",IF(COUNTIF($F$3:F84, F84)>1, L83+1, 1))","v":""},null,null,"",null,null,null,null,null,""]
[null,{"$f":"IF(C85=\"\",\"\",IF(COUNTIF($C$3:C85, C85)>1, \"\", C85))","v":""},{"$f":"IF(G85=\"\",\"\",IF(F85=\"\",\"\",CONCATENATE(DIGITADOR!$M$1,G85,E85)))","v":""},"",{"$f":"IF(F85=\"\",\"\",VLOOKUP(F85,referentes!$T$2:$W$200,2,FALSE))","v":""},null,null,null,{"$f":"IF(J85=\"\",\"\",VLOOKUP(J85,'otras referencias'!$A$12:$B$15,2,FALSE))","v":""},null,null,{"$f":"IF(F85=\"\",\"\",IF(COUNTIF($F$3:F85, F85)>1, L84+1, 1))","v":""},null,null,"",null,null,null,null,null,""]
[null,{"$f":"IF(C86=\"\",\"\",IF(COUNTIF($C$3:C86, C86)>1, \"\", C86))","v":""},{"$f":"IF(G86=\"\",\"\",IF(F86=\"\",\"\",CONCATENATE(DIGITADOR!$M$1,G86,E86)))","v":""},"",{"$f":"IF(F86=\"\",\"\",VLOOKUP(F86,referentes!$T$2:$W$200,2,FALSE))","v":""},null,null,null,{"$f":"IF(J86=\"\",\"\",VLOOKUP(J86,'otras referencias'!$A$12:$B$15,2,FALSE))","v":""},null,null,{"$f":"IF(F86=\"\",\"\",IF(COUNTIF($F$3:F86, F86)>1, L85+1, 1))","v":""},null,null,"",null,null,null,null,null,""]
[null,{"$f":"IF(C87=\"\",\"\",IF(COUNTIF($C$3:C87, C87)>1, \"\", C87))","v":""},{"$f":"IF(G87=\"\",\"\",IF(F87=\"\",\"\",CONCATENATE(DIGITADOR!$M$1,G87,E87)))","v":""},"",{"$f":"IF(F87=\"\",\"\",VLOOKUP(F87,referentes!$T$2:$W$200,2,FALSE))","v":""},null,null,null,{"$f":"IF(J87=\"\",\"\",VLOOKUP(J87,'otras referencias'!$A$12:$B$15,2,FALSE))","v":""},null,null,{"$f":"IF(F87=\"\",\"\",IF(COUNTIF($F$3:F87, F87)>1, L86+1, 1))","v":""},null,null,"",null,null,null,null,null,""]
[null,{"$f":"IF(C88=\"\",\"\",IF(COUNTIF($C$3:C88, C88)>1, \"\", C88))","v":""},{"$f":"IF(G88=\"\",\"\",IF(F88=\"\",\"\",CONCATENATE(DIGITADOR!$M$1,G88,E88)))","v":""},"",{"$f":"IF(F88=\"\",\"\",VLOOKUP(F88,referentes!$T$2:$W$200,2,FALSE))","v":""},null,null,null,{"$f":"IF(J88=\"\",\"\",VLOOKUP(J88,'otras referencias'!$A$12:$B$15,2,FALSE))","v":""},null,null,{"$f":"IF(F88=\"\",\"\",IF(COUNTIF($F$3:F88, F88)>1, L87+1, 1))","v":""},null,null,"",null,null,null,null,null,""]
[null,{"$f":"IF(C89=\"\",\"\",IF(COUNTIF($C$3:C89, C89)>1, \"\", C89))","v":""},{"$f":"IF(G89=\"\",\"\",IF(F89=\"\",\"\",CONCATENATE(DIGITADOR!$M$1,G89,E89)))","v":""},"",{"$f":"IF(F89=\"\",\"\",VLOOKUP(F89,referentes!$T$2:$W$200,2,FALSE))","v":""},null,null,null,{"$f":"IF(J89=\"\",\"\",VLOOKUP(J89,'otras referencias'!$A$12:$B$15,2,FALSE))","v":""},null,null,{"$f":"IF(F89=\"\",\"\",IF(COUNTIF($F$3:F89, F89)>1, L88+1, 1))","v":""},null,null,"",null,null,null,null,null,""]
[null,{"$f":"IF(C90=\"\",\"\",IF(COUNTIF($C$3:C90, C90)>1, \"\", C90))","v":""},{"$f":"IF(G90=\"\",\"\",IF(F90=\"\",\"\",CONCATENATE(DIGITADOR!$M$1,G90,E90)))","v":""},"",{"$f":"IF(F90=\"\",\"\",VLOOKUP(F90,referentes!$T$2:$W$200,2,FALSE))","v":""},null,null,null,{"$f":"IF(J90=\"\",\"\",VLOOKUP(J90,'otras referencias'!$A$12:$B$15,2,FALSE))","v":""},null,null,{"$f":"IF(F90=\"\",\"\",IF(COUNTIF($F$3:F90, F90)>1, L89+1, 1))","v":""},null,null,"",null,null,null,null,null,""]
[null,{"$f":"IF(C91=\"\",\"\",IF(COUNTIF($C$3:C91, C91)>1, \"\", C91))","v":""},{"$f":"IF(G91=\"\",\"\",IF(F91=\"\",\"\",CONCATENATE(DIGITADOR!$M$1,G91,E91)))","v":""},"",{"$f":"IF(F91=\"\",\"\",VLOOKUP(F91,referentes!$T$2:$W$200,2,FALSE))","v":""},null,null,null,{"$f":"IF(J91=\"\",\"\",VLOOKUP(J91,'otras referencias'!$A$12:$B$15,2,FALSE))","v":""},null,null,{"$f":"IF(F91=\"\",\"\",IF(COUNTIF($F$3:F91, F91)>1, L90+1, 1))","v":""},null,null,"",null,null,null,null,null,""]
[null,{"$f":"IF(C92=\"\",\"\",IF(COUNTIF($C$3:C92, C92)>1, \"\", C92))","v":""},{"$f":"IF(G92=\"\",\"\",IF(F92=\"\",\"\",CONCATENATE(DIGITADOR!$M$1,G92,E92)))","v":""},"",{"$f":"IF(F92=\"\",\"\",VLOOKUP(F92,referentes!$T$2:$W$200,2,FALSE))","v":""},null,null,null,{"$f":"IF(J92=\"\",\"\",VLOOKUP(J92,'otras referencias'!$A$12:$B$15,2,FALSE))","v":""},null,null,{"$f":"IF(F92=\"\",\"\",IF(COUNTIF($F$3:F92, F92)>1, L91+1, 1))","v":""},null,null,"",null,null,null,null,null,""]
[null,{"$f":"IF(C93=\"\",\"\",IF(COUNTIF($C$3:C93, C93)>1, \"\", C93))","v":""},{"$f":"IF(G93=\"\",\"\",IF(F93=\"\",\"\",CONCATENATE(DIGITADOR!$M$1,G93,E93)))","v":""},"",{"$f":"IF(F93=\"\",\"\",VLOOKUP(F93,referentes!$T$2:$W$200,2,FALSE))","v":""},null,null,null,{"$f":"IF(J93=\"\",\"\",VLOOKUP(J93,'otras referencias'!$A$12:$B$15,2,FALSE))","v":""},null,null,{"$f":"IF(F93=\"\",\"\",IF(COUNTIF($F$3:F93, F93)>1, L92+1, 1))","v":""},null,null,"",null,null,null,null,null,""]
[null,{"$f":"IF(C94=\"\",\"\",IF(COUNTIF($C$3:C94, C94)>1, \"\", C94))","v":""},{"$f":"IF(G94=\"\",\"\",IF(F94=\"\",\"\",CONCATENATE(DIGITADOR!$M$1,G94,E94)))","v":""},"",{"$f":"IF(F94=\"\",\"\",VLOOKUP(F94,referentes!$T$2:$W$200,2,FALSE))","v":""},null,null,null,{"$f":"IF(J94=\"\",\"\",VLOOKUP(J94,'otras referencias'!$A$12:$B$15,2,FALSE))","v":""},null,null,{"$f":"IF(F94=\"\",\"\",IF(COUNTIF($F$3:F94, F94)>1, L93+1, 1))","v":""},null,null,"",null,null,null,null,null,""]
[null,{"$f":"IF(C95=\"\",\"\",IF(COUNTIF($C$3:C95, C95)>1, \"\", C95))","v":""},{"$f":"IF(G95=\"\",\"\",IF(F95=\"\",\"\",CONCATENATE(DIGITADOR!$M$1,G95,E95)))","v":""},"",{"$f":"IF(F95=\"\",\"\",VLOOKUP(F95,referentes!$T$2:$W$200,2,FALSE))","v":""},null,null,null,{"$f":"IF(J95=\"\",\"\",VLOOKUP(J95,'otras referencias'!$A$12:$B$15,2,FALSE))","v":""},null,null,{"$f":"IF(F95=\"\",\"\",IF(COUNTIF($F$3:F95, F95)>1, L94+1, 1))","v":""},null,null,"",null,null,null,null,null,""]
[null,{"$f":"IF(C96=\"\",\"\",IF(COUNTIF($C$3:C96, C96)>1, \"\", C96))","v":""},{"$f":"IF(G96=\"\",\"\",IF(F96=\"\",\"\",CONCATENATE(DIGITADOR!$M$1,G96,E96)))","v":""},"",{"$f":"IF(F96=\"\",\"\",VLOOKUP(F96,referentes!$T$2:$W$200,2,FALSE))","v":""},null,null,null,{"$f":"IF(J96=\"\",\"\",VLOOKUP(J96,'otras referencias'!$A$12:$B$15,2,FALSE))","v":""},null,null,{"$f":"IF(F96=\"\",\"\",IF(COUNTIF($F$3:F96, F96)>1, L95+1, 1))","v":""},null,null,"",null,null,null,null,null,""]
[null,{"$f":"IF(C97=\"\",\"\",IF(COUNTIF($C$3:C97, C97)>1, \"\", C97))","v":""},{"$f":"IF(G97=\"\",\"\",IF(F97=\"\",\"\",CONCATENATE(DIGITADOR!$M$1,G97,E97)))","v":""},"",{"$f":"IF(F97=\"\",\"\",VLOOKUP(F97,referentes!$T$2:$W$200,2,FALSE))","v":""},null,null,null,{"$f":"IF(J97=\"\",\"\",VLOOKUP(J97,'otras referencias'!$A$12:$B$15,2,FALSE))","v":""},null,null,{"$f":"IF(F97=\"\",\"\",IF(COUNTIF($F$3:F97, F97)>1, L96+1, 1))","v":""},null,null,"",null,null,null,null,null,""]
[null,{"$f":"IF(C98=\"\",\"\",IF(COUNTIF($C$3:C98, C98)>1, \"\", C98))","v":""},{"$f":"IF(G98=\"\",\"\",IF(F98=\"\",\"\",CONCATENATE(DIGITADOR!$M$1,G98,E98)))","v":""},"",{"$f":"IF(F98=\"\",\"\",VLOOKUP(F98,referentes!$T$2:$W$200,2,FALSE))","v":""},null,null,null,{"$f":"IF(J98=\"\",\"\",VLOOKUP(J98,'otras referencias'!$A$12:$B$15,2,FALSE))","v":""},null,null,{"$f":"IF(F98=\"\",\"\",IF(COUNTIF($F$3:F98, F98)>1, L97+1, 1))","v":""},null,null,"",null,null,null,null,null,""]
[null,{"$f":"IF(C99=\"\",\"\",IF(COUNTIF($C$3:C99, C99)>1, \"\", C99))","v":""},{"$f":"IF(G99=\"\",\"\",IF(F99=\"\",\"\",CONCATENATE(DIGITADOR!$M$1,G99,E99)))","v":""},"",{"$f":"IF(F99=\"\",\"\",VLOOKUP(F99,referentes!$T$2:$W$200,2,FALSE))","v":""},null,null,null,{"$f":"IF(J99=\"\",\"\",VLOOKUP(J99,'otras referencias'!$A$12:$B$15,2,FALSE))","v":""},null,null,{"$f":"IF(F99=\"\",\"\",IF(COUNTIF($F$3:F99, F99)>1, L98+1, 1))","v":""},null,null,"",null,null,null,null,null,""]
[null,{"$f":"IF(C100=\"\",\"\",IF(COUNTIF($C$3:C100, C100)>1, \"\", C100))","v":""},{"$f":"IF(G100=\"\",\"\",IF(F100=\"\",\"\",CONCATENATE(DIGITADOR!$M$1,G100,E100)))","v":""},"",{"$f":"IF(F100=\"\",\"\",VLOOKUP(F100,referentes!$T$2:$W$200,2,FALSE))","v":""},null,null,null,{"$f":"IF(J100=\"\",\"\",VLOOKUP(J100,'otras referencias'!$A$12:$B$15,2,FALSE))","v":""},null,null,{"$f":"IF(F100=\"\",\"\",IF(COUNTIF($F$3:F100, F100)>1, L99+1, 1))","v":""},null,null,"",null,null,null,null,null,""]
[null,{"$f":"IF(C101=\"\",\"\",IF(COUNTIF($C$3:C101, C101)>1, \"\", C101))","v":""},{"$f":"IF(G101=\"\",\"\",IF(F101=\"\",\"\",CONCATENATE(DIGITADOR!$M$1,G101,E101)))","v":""},"",{"$f":"IF(F101=\"\",\"\",VLOOKUP(F101,referentes!$T$2:$W$200,2,FALSE))","v":""},null,null,null,{"$f":"IF(J101=\"\",\"\",VLOOKUP(J101,'otras referencias'!$A$12:$B$15,2,FALSE))","v":""},null,null,{"$f":"IF(F101=\"\",\"\",IF(COUNTIF($F$3:F101, F101)>1, L100+1, 1))","v":""},null,null,"",null,null,null,null,null,""]
[null,{"$f":"IF(C102=\"\",\"\",IF(COUNTIF($C$3:C102, C102)>1, \"\", C102))","v":""},{"$f":"IF(G102=\"\",\"\",IF(F102=\"\",\"\",CONCATENATE(DIGITADOR!$M$1,G102,E102)))","v":""},"",{"$f":"IF(F102=\"\",\"\",VLOOKUP(F102,referentes!$T$2:$W$200,2,FALSE))","v":""},null,null,null,{"$f":"IF(J102=\"\",\"\",VLOOKUP(J102,'otras referencias'!$A$12:$B$15,2,FALSE))","v":""},null,null,{"$f":"IF(F102=\"\",\"\",IF(COUNTIF($F$3:F102, F102)>1, L101+1, 1))","v":""},null,null,"",null,null,null,null,null,""]
[null,{"$f":"IF(C103=\"\",\"\",IF(COUNTIF($C$3:C103, C103)>1, \"\", C103))","v":""},{"$f":"IF(G103=\"\",\"\",IF(F103=\"\",\"\",CONCATENATE(DIGITADOR!$M$1,G103,E103)))","v":""},"",{"$f":"IF(F103=\"\",\"\",VLOOKUP(F103,referentes!$T$2:$W$200,2,FALSE))","v":""},null,null,null,{"$f":"IF(J103=\"\",\"\",VLOOKUP(J103,'otras referencias'!$A$12:$B$15,2,FALSE))","v":""},null,null,{"$f":"IF(F103=\"\",\"\",IF(COUNTIF($F$3:F103, F103)>1, L102+1, 1))","v":""},null,null,"",null,null,null,null,null,""]
[null,{"$f":"IF(C104=\"\",\"\",IF(COUNTIF($C$3:C104, C104)>1, \"\", C104))","v":""},{"$f":"IF(G104=\"\",\"\",IF(F104=\"\",\"\",CONCATENATE(DIGITADOR!$M$1,G104,E104)))","v":""},"",{"$f":"IF(F104=\"\",\"\",VLOOKUP(F104,referentes!$T$2:$W$200,2,FALSE))","v":""},null,null,null,{"$f":"IF(J104=\"\",\"\",VLOOKUP(J104,'otras referencias'!$A$12:$B$15,2,FALSE))","v":""},null,null,{"$f":"IF(F104=\"\",\"\",IF(COUNTIF($F$3:F104, F104)>1, L103+1, 1))","v":""},null,null,"",null,null,null,null,null,""]
[null,{"$f":"IF(C105=\"\",\"\",IF(COUNTIF($C$3:C105, C105)>1, \"\", C105))","v":""},{"$f":"IF(G105=\"\",\"\",IF(F105=\"\",\"\",CONCATENATE(DIGITADOR!$M$1,G105,E105)))","v":""},"",{"$f":"IF(F105=\"\",\"\",VLOOKUP(F105,referentes!$T$2:$W$200,2,FALSE))","v":""},null,null,null,{"$f":"IF(J105=\"\",\"\",VLOOKUP(J105,'otras referencias'!$A$12:$B$15,2,FALSE))","v":""},null,null,{"$f":"IF(F105=\"\",\"\",IF(COUNTIF($F$3:F105, F105)>1, L104+1, 1))","v":""},null,null,"",null,null,null,null,null,""]
[null,{"$f":"IF(C106=\"\",\"\",IF(COUNTIF($C$3:C106, C106)>1, \"\", C106))","v":""},{"$f":"IF(G106=\"\",\"\",IF(F106=\"\",\"\",CONCATENATE(DIGITADOR!$M$1,G106,E106)))","v":""},"",{"$f":"IF(F106=\"\",\"\",VLOOKUP(F106,referentes!$T$2:$W$200,2,FALSE))","v":""},null,null,null,{"$f":"IF(J106=\"\",\"\",VLOOKUP(J106,'otras referencias'!$A$12:$B$15,2,FALSE))","v":""},null,null,{"$f":"IF(F106=\"\",\"\",IF(COUNTIF($F$3:F106, F106)>1, L105+1, 1))","v":""},null,null,"",null,null,null,null,null,""]
[null,{"$f":"IF(C107=\"\",\"\",IF(COUNTIF($C$3:C107, C107)>1, \"\", C107))","v":""},{"$f":"IF(G107=\"\",\"\",IF(F107=\"\",\"\",CONCATENATE(DIGITADOR!$M$1,G107,E107)))","v":""},"",{"$f":"IF(F107=\"\",\"\",VLOOKUP(F107,referentes!$T$2:$W$200,2,FALSE))","v":""},null,null,null,{"$f":"IF(J107=\"\",\"\",VLOOKUP(J107,'otras referencias'!$A$12:$B$15,2,FALSE))","v":""},null,null,{"$f":"IF(F107=\"\",\"\",IF(COUNTIF($F$3:F107, F107)>1, L106+1, 1))","v":""},null,null,"",null,null,null,null,null,""]
[null,{"$f":"IF(C108=\"\",\"\",IF(COUNTIF($C$3:C108, C108)>1, \"\", C108))","v":""},{"$f":"IF(G108=\"\",\"\",IF(F108=\"\",\"\",CONCATENATE(DIGITADOR!$M$1,G108,E108)))","v":""},"",{"$f":"IF(F108=\"\",\"\",VLOOKUP(F108,referentes!$T$2:$W$200,2,FALSE))","v":""},null,null,null,{"$f":"IF(J108=\"\",\"\",VLOOKUP(J108,'otras referencias'!$A$12:$B$15,2,FALSE))","v":""},null,null,{"$f":"IF(F108=\"\",\"\",IF(COUNTIF($F$3:F108, F108)>1, L107+1, 1))","v":""},null,null,"",null,null,null,null,null,""]
[null,{"$f":"IF(C109=\"\",\"\",IF(COUNTIF($C$3:C109, C109)>1, \"\", C109))","v":""},{"$f":"IF(G109=\"\",\"\",IF(F109=\"\",\"\",CONCATENATE(DIGITADOR!$M$1,G109,E109)))","v":""},"",{"$f":"IF(F109=\"\",\"\",VLOOKUP(F109,referentes!$T$2:$W$200,2,FALSE))","v":""},null,null,null,{"$f":"IF(J109=\"\",\"\",VLOOKUP(J109,'otras referencias'!$A$12:$B$15,2,FALSE))","v":""},null,null,{"$f":"IF(F109=\"\",\"\",IF(COUNTIF($F$3:F109, F109)>1, L108+1, 1))","v":""},null,null,"",null,null,null,null,null,""]
[null,{"$f":"IF(C110=\"\",\"\",IF(COUNTIF($C$3:C110, C110)>1, \"\", C110))","v":""},{"$f":"IF(G110=\"\",\"\",IF(F110=\"\",\"\",CONCATENATE(DIGITADOR!$M$1,G110,E110)))","v":""},"",{"$f":"IF(F110=\"\",\"\",VLOOKUP(F110,referentes!$T$2:$W$200,2,FALSE))","v":""},null,null,null,{"$f":"IF(J110=\"\",\"\",VLOOKUP(J110,'otras referencias'!$A$12:$B$15,2,FALSE))","v":""},null,null,{"$f":"IF(F110=\"\",\"\",IF(COUNTIF($F$3:F110, F110)>1, L109+1, 1))","v":""},null,null,"",null,null,null,null,null,""]
[null,{"$f":"IF(C111=\"\",\"\",IF(COUNTIF($C$3:C111, C111)>1, \"\", C111))","v":""},{"$f":"IF(G111=\"\",\"\",IF(F111=\"\",\"\",CONCATENATE(DIGITADOR!$M$1,G111,E111)))","v":""},"",{"$f":"IF(F111=\"\",\"\",VLOOKUP(F111,referentes!$T$2:$W$200,2,FALSE))","v":""},null,null,null,{"$f":"IF(J111=\"\",\"\",VLOOKUP(J111,'otras referencias'!$A$12:$B$15,2,FALSE))","v":""},null,null,{"$f":"IF(F111=\"\",\"\",IF(COUNTIF($F$3:F111, F111)>1, L110+1, 1))","v":""},null,null,"",null,null,null,null,null,""]
[null,{"$f":"IF(C112=\"\",\"\",IF(COUNTIF($C$3:C112, C112)>1, \"\", C112))","v":""},{"$f":"IF(G112=\"\",\"\",IF(F112=\"\",\"\",CONCATENATE(DIGITADOR!$M$1,G112,E112)))","v":""},"",{"$f":"IF(F112=\"\",\"\",VLOOKUP(F112,referentes!$T$2:$W$200,2,FALSE))","v":""},null,null,null,{"$f":"IF(J112=\"\",\"\",VLOOKUP(J112,'otras referencias'!$A$12:$B$15,2,FALSE))","v":""},null,null,{"$f":"IF(F112=\"\",\"\",IF(COUNTIF($F$3:F112, F112)>1, L111+1, 1))","v":""},null,null,"",null,null,null,null,null,""]
[null,{"$f":"IF(C113=\"\",\"\",IF(COUNTIF($C$3:C113, C113)>1, \"\", C113))","v":""},{"$f":"IF(G113=\"\",\"\",IF(F113=\"\",\"\",CONCATENATE(DIGITADOR!$M$1,G113,E113)))","v":""},"",{"$f":"IF(F113=\"\",\"\",VLOOKUP(F113,referentes!$T$2:$W$200,2,FALSE))","v":""},null,null,null,{"$f":"IF(J113=\"\",\"\",VLOOKUP(J113,'otras referencias'!$A$12:$B$15,2,FALSE))","v":""},null,null,{"$f":"IF(F113=\"\",\"\",IF(COUNTIF($F$3:F113, F113)>1, L112+1, 1))","v":""},null,null,"",null,null,null,null,null,""]
[null,{"$f":"IF(C114=\"\",\"\",IF(COUNTIF($C$3:C114, C114)>1, \"\", C114))","v":""},{"$f":"IF(G114=\"\",\"\",IF(F114=\"\",\"\",CONCATENATE(DIGITADOR!$M$1,G114,E114)))","v":""},"",{"$f":"IF(F114=\"\",\"\",VLOOKUP(F114,referentes!$T$2:$W$200,2,FALSE))","v":""},null,null,null,{"$f":"IF(J114=\"\",\"\",VLOOKUP(J114,'otras referencias'!$A$12:$B$15,2,FALSE))","v":""},null,null,{"$f":"IF(F114=\"\",\"\",IF(COUNTIF($F$3:F114, F114)>1, L113+1, 1))","v":""},null,null,"",null,null,null,null,null,""]
[null,{"$f":"IF(C115=\"\",\"\",IF(COUNTIF($C$3:C115, C115)>1, \"\", C115))","v":""},{"$f":"IF(G115=\"\",\"\",IF(F115=\"\",\"\",CONCATENATE(DIGITADOR!$M$1,G115,E115)))","v":""},"",{"$f":"IF(F115=\"\",\"\",VLOOKUP(F115,referentes!$T$2:$W$200,2,FALSE))","v":""},null,null,null,{"$f":"IF(J115=\"\",\"\",VLOOKUP(J115,'otras referencias'!$A$12:$B$15,2,FALSE))","v":""},null,null,{"$f":"IF(F115=\"\",\"\",IF(COUNTIF($F$3:F115, F115)>1, L114+1, 1))","v":""},null,null,"",null,null,null,null,null,""]
[null,{"$f":"IF(C116=\"\",\"\",IF(COUNTIF($C$3:C116, C116)>1, \"\", C116))","v":""},{"$f":"IF(G116=\"\",\"\",IF(F116=\"\",\"\",CONCATENATE(DIGITADOR!$M$1,G116,E116)))","v":""},"",{"$f":"IF(F116=\"\",\"\",VLOOKUP(F116,referentes!$T$2:$W$200,2,FALSE))","v":""},null,null,null,{"$f":"IF(J116=\"\",\"\",VLOOKUP(J116,'otras referencias'!$A$12:$B$15,2,FALSE))","v":""},null,null,{"$f":"IF(F116=\"\",\"\",IF(COUNTIF($F$3:F116, F116)>1, L115+1, 1))","v":""},null,null,"",null,null,null,null,null,""]
[null,{"$f":"IF(C117=\"\",\"\",IF(COUNTIF($C$3:C117, C117)>1, \"\", C117))","v":""},{"$f":"IF(G117=\"\",\"\",IF(F117=\"\",\"\",CONCATENATE(DIGITADOR!$M$1,G117,E117)))","v":""},"",{"$f":"IF(F117=\"\",\"\",VLOOKUP(F117,referentes!$T$2:$W$200,2,FALSE))","v":""},null,null,null,{"$f":"IF(J117=\"\",\"\",VLOOKUP(J117,'otras referencias'!$A$12:$B$15,2,FALSE))","v":""},null,null,{"$f":"IF(F117=\"\",\"\",IF(COUNTIF($F$3:F117, F117)>1, L116+1, 1))","v":""},null,null,"",null,null,null,null,null,""]
[null,{"$f":"IF(C118=\"\",\"\",IF(COUNTIF($C$3:C118, C118)>1, \"\", C118))","v":""},{"$f":"IF(G118=\"\",\"\",IF(F118=\"\",\"\",CONCATENATE(DIGITADOR!$M$1,G118,E118)))","v":""},"",{"$f":"IF(F118=\"\",\"\",VLOOKUP(F118,referentes!$T$2:$W$200,2,FALSE))","v":""},null,null,null,{"$f":"IF(J118=\"\",\"\",VLOOKUP(J118,'otras referencias'!$A$12:$B$15,2,FALSE))","v":""},null,null,{"$f":"IF(F118=\"\",\"\",IF(COUNTIF($F$3:F118, F118)>1, L117+1, 1))","v":""},null,null,"",null,null,null,null,null,""]
[null,{"$f":"IF(C119=\"\",\"\",IF(COUNTIF($C$3:C119, C119)>1, \"\", C119))","v":""},{"$f":"IF(G119=\"\",\"\",IF(F119=\"\",\"\",CONCATENATE(DIGITADOR!$M$1,G119,E119)))","v":""},"",{"$f":"IF(F119=\"\",\"\",VLOOKUP(F119,referentes!$T$2:$W$200,2,FALSE))","v":""},null,null,null,{"$f":"IF(J119=\"\",\"\",VLOOKUP(J119,'otras referencias'!$A$12:$B$15,2,FALSE))","v":""},null,null,{"$f":"IF(F119=\"\",\"\",IF(COUNTIF($F$3:F119, F119)>1, L118+1, 1))","v":""},null,null,"",null,null,null,null,null,""]
[null,{"$f":"IF(C120=\"\",\"\",IF(COUNTIF($C$3:C120, C120)>1, \"\", C120))","v":""},{"$f":"IF(G120=\"\",\"\",IF(F120=\"\",\"\",CONCATENATE(DIGITADOR!$M$1,G120,E120)))","v":""},"",{"$f":"IF(F120=\"\",\"\",VLOOKUP(F120,referentes!$T$2:$W$200,2,FALSE))","v":""},null,null,null,{"$f":"IF(J120=\"\",\"\",VLOOKUP(J120,'otras referencias'!$A$12:$B$15,2,FALSE))","v":""},null,null,{"$f":"IF(F120=\"\",\"\",IF(COUNTIF($F$3:F120, F120)>1, L119+1, 1))","v":""},null,null,"",null,null,null,null,null,""]
[null,{"$f":"IF(C121=\"\",\"\",IF(COUNTIF($C$3:C121, C121)>1, \"\", C121))","v":""},{"$f":"IF(G121=\"\",\"\",IF(F121=\"\",\"\",CONCATENATE(DIGITADOR!$M$1,G121,E121)))","v":""},"",{"$f":"IF(F121=\"\",\"\",VLOOKUP(F121,referentes!$T$2:$W$200,2,FALSE))","v":""},null,null,null,{"$f":"IF(J121=\"\",\"\",VLOOKUP(J121,'otras referencias'!$A$12:$B$15,2,FALSE))","v":""},null,null,{"$f":"IF(F121=\"\",\"\",IF(COUNTIF($F$3:F121, F121)>1, L120+1, 1))","v":""},null,null,"",null,null,null,null,null,""]
[null,{"$f":"IF(C122=\"\",\"\",IF(COUNTIF($C$3:C122, C122)>1, \"\", C122))","v":""},{"$f":"IF(G122=\"\",\"\",IF(F122=\"\",\"\",CONCATENATE(DIGITADOR!$M$1,G122,E122)))","v":""},"",{"$f":"IF(F122=\"\",\"\",VLOOKUP(F122,referentes!$T$2:$W$200,2,FALSE))","v":""},null,null,null,{"$f":"IF(J122=\"\",\"\",VLOOKUP(J122,'otras referencias'!$A$12:$B$15,2,FALSE))","v":""},null,null,{"$f":"IF(F122=\"\",\"\",IF(COUNTIF($F$3:F122, F122)>1, L121+1, 1))","v":""},null,null,"",null,null,null,null,null,""]
[null,{"$f":"IF(C123=\"\",\"\",IF(COUNTIF($C$3:C123, C123)>1, \"\", C123))","v":""},{"$f":"IF(G123=\"\",\"\",IF(F123=\"\",\"\",CONCATENATE(DIGITADOR!$M$1,G123,E123)))","v":""},"",{"$f":"IF(F123=\"\",\"\",VLOOKUP(F123,referentes!$T$2:$W$200,2,FALSE))","v":""},null,null,null,{"$f":"IF(J123=\"\",\"\",VLOOKUP(J123,'otras referencias'!$A$12:$B$15,2,FALSE))","v":""},null,null,{"$f":"IF(F123=\"\",\"\",IF(COUNTIF($F$3:F123, F123)>1, L122+1, 1))","v":""},null,null,"",null,null,null,null,null,""]
[null,{"$f":"IF(C124=\"\",\"\",IF(COUNTIF($C$3:C124, C124)>1, \"\", C124))","v":""},{"$f":"IF(G124=\"\",\"\",IF(F124=\"\",\"\",CONCATENATE(DIGITADOR!$M$1,G124,E124)))","v":""},"",{"$f":"IF(F124=\"\",\"\",VLOOKUP(F124,referentes!$T$2:$W$200,2,FALSE))","v":""},null,null,null,{"$f":"IF(J124=\"\",\"\",VLOOKUP(J124,'otras referencias'!$A$12:$B$15,2,FALSE))","v":""},null,null,{"$f":"IF(F124=\"\",\"\",IF(COUNTIF($F$3:F124, F124)>1, L123+1, 1))","v":""},null,null,"",null,null,null,null,null,""]
[null,{"$f":"IF(C125=\"\",\"\",IF(COUNTIF($C$3:C125, C125)>1, \"\", C125))","v":""},{"$f":"IF(G125=\"\",\"\",IF(F125=\"\",\"\",CONCATENATE(DIGITADOR!$M$1,G125,E125)))","v":""},"",{"$f":"IF(F125=\"\",\"\",VLOOKUP(F125,referentes!$T$2:$W$200,2,FALSE))","v":""},null,null,null,{"$f":"IF(J125=\"\",\"\",VLOOKUP(J125,'otras referencias'!$A$12:$B$15,2,FALSE))","v":""},null,null,{"$f":"IF(F125=\"\",\"\",IF(COUNTIF($F$3:F125, F125)>1, L124+1, 1))","v":""},null,null,"",null,null,null,null,null,""]
[null,{"$f":"IF(C126=\"\",\"\",IF(COUNTIF($C$3:C126, C126)>1, \"\", C126))","v":""},{"$f":"IF(G126=\"\",\"\",IF(F126=\"\",\"\",CONCATENATE(DIGITADOR!$M$1,G126,E126)))","v":""},"",{"$f":"IF(F126=\"\",\"\",VLOOKUP(F126,referentes!$T$2:$W$200,2,FALSE))","v":""},null,null,null,{"$f":"IF(J126=\"\",\"\",VLOOKUP(J126,'otras referencias'!$A$12:$B$15,2,FALSE))","v":""},null,null,{"$f":"IF(F126=\"\",\"\",IF(COUNTIF($F$3:F126, F126)>1, L125+1, 1))","v":""},null,null,"",null,null,null,null,null,""]
[null,{"$f":"IF(C127=\"\",\"\",IF(COUNTIF($C$3:C127, C127)>1, \"\", C127))","v":""},{"$f":"IF(G127=\"\",\"\",IF(F127=\"\",\"\",CONCATENATE(DIGITADOR!$M$1,G127,E127)))","v":""},"",{"$f":"IF(F127=\"\",\"\",VLOOKUP(F127,referentes!$T$2:$W$200,2,FALSE))","v":""},null,null,null,{"$f":"IF(J127=\"\",\"\",VLOOKUP(J127,'otras referencias'!$A$12:$B$15,2,FALSE))","v":""},null,null,{"$f":"IF(F127=\"\",\"\",IF(COUNTIF($F$3:F127, F127)>1, L126+1, 1))","v":""},null,null,"",null,null,null,null,null,""]
[null,{"$f":"IF(C128=\"\",\"\",IF(COUNTIF($C$3:C128, C128)>1, \"\", C128))","v":""},{"$f":"IF(G128=\"\",\"\",IF(F128=\"\",\"\",CONCATENATE(DIGITADOR!$M$1,G128,E128)))","v":""},"",{"$f":"IF(F128=\"\",\"\",VLOOKUP(F128,referentes!$T$2:$W$200,2,FALSE))","v":""},null,null,null,{"$f":"IF(J128=\"\",\"\",VLOOKUP(J128,'otras referencias'!$A$12:$B$15,2,FALSE))","v":""},null,null,{"$f":"IF(F128=\"\",\"\",IF(COUNTIF($F$3:F128, F128)>1, L127+1, 1))","v":""},null,null,"",null,null,null,null,null,""]
[null,{"$f":"IF(C129=\"\",\"\",IF(COUNTIF($C$3:C129, C129)>1, \"\", C129))","v":""},{"$f":"IF(G129=\"\",\"\",IF(F129=\"\",\"\",CONCATENATE(DIGITADOR!$M$1,G129,E129)))","v":""},"",{"$f":"IF(F129=\"\",\"\",VLOOKUP(F129,referentes!$T$2:$W$200,2,FALSE))","v":""},null,null,null,{"$f":"IF(J129=\"\",\"\",VLOOKUP(J129,'otras referencias'!$A$12:$B$15,2,FALSE))","v":""},null,null,{"$f":"IF(F129=\"\",\"\",IF(COUNTIF($F$3:F129, F129)>1, L128+1, 1))","v":""},null,null,"",null,null,null,null,null,""]
[null,{"$f":"IF(C130=\"\",\"\",IF(COUNTIF($C$3:C130, C130)>1, \"\", C130))","v":""},{"$f":"IF(G130=\"\",\"\",IF(F130=\"\",\"\",CONCATENATE(DIGITADOR!$M$1,G130,E130)))","v":""},"",{"$f":"IF(F130=\"\",\"\",VLOOKUP(F130,referentes!$T$2:$W$200,2,FALSE))","v":""},null,null,null,{"$f":"IF(J130=\"\",\"\",VLOOKUP(J130,'otras referencias'!$A$12:$B$15,2,FALSE))","v":""},null,null,{"$f":"IF(F130=\"\",\"\",IF(COUNTIF($F$3:F130, F130)>1, L129+1, 1))","v":""},null,null,"",null,null,null,null,null,""]
[null,{"$f":"IF(C131=\"\",\"\",IF(COUNTIF($C$3:C131, C131)>1, \"\", C131))","v":""},{"$f":"IF(G131=\"\",\"\",IF(F131=\"\",\"\",CONCATENATE(DIGITADOR!$M$1,G131,E131)))","v":""},"",{"$f":"IF(F131=\"\",\"\",VLOOKUP(F131,referentes!$T$2:$W$200,2,FALSE))","v":""},null,null,null,{"$f":"IF(J131=\"\",\"\",VLOOKUP(J131,'otras referencias'!$A$12:$B$15,2,FALSE))","v":""},null,null,{"$f":"IF(F131=\"\",\"\",IF(COUNTIF($F$3:F131, F131)>1, L130+1, 1))","v":""},null,null,"",null,null,null,null,null,""]
[null,{"$f":"IF(C132=\"\",\"\",IF(COUNTIF($C$3:C132, C132)>1, \"\", C132))","v":""},{"$f":"IF(G132=\"\",\"\",IF(F132=\"\",\"\",CONCATENATE(DIGITADOR!$M$1,G132,E132)))","v":""},{"$f":"IF(C132=\"\",\"\",CONCATENATE(C132,ROW()-2))","v":""},{"$f":"IF(F132=\"\",\"\",VLOOKUP(F132,referentes!$T$2:$W$200,2,FALSE))","v":""},null,null,null,{"$f":"IF(J132=\"\",\"\",VLOOKUP(J132,'otras referencias'!$A$12:$B$15,2,FALSE))","v":""},null,null,{"$f":"IF(F132=\"\",\"\",IF(COUNTIF($F$3:F132, F132)>1, L131+1, 1))","v":""},null,null,{"$f":"IF(N132=\"\", \"\", N132/100)","v":""},null,null,null,null,null,{"$f":"IF(T132=\"\",\"\",T132/1000)","v":""}]
[null,{"$f":"IF(C133=\"\",\"\",IF(COUNTIF($C$3:C133, C133)>1, \"\", C133))","v":""},{"$f":"IF(G133=\"\",\"\",IF(F133=\"\",\"\",CONCATENATE(DIGITADOR!$M$1,G133,E133)))","v":""},"",{"$f":"IF(F133=\"\",\"\",VLOOKUP(F133,referentes!$T$2:$W$200,2,FALSE))","v":""},null,null,null,{"$f":"IF(J133=\"\",\"\",VLOOKUP(J133,'otras referencias'!$A$12:$B$15,2,FALSE))","v":""},null,null,{"$f":"IF(F133=\"\",\"\",IF(COUNTIF($F$3:F133, F133)>1, L132+1, 1))","v":""},null,null,"",null,null,null,null,null,""]
[null,{"$f":"IF(C134=\"\",\"\",IF(COUNTIF($C$3:C134, C134)>1, \"\", C134))","v":""},{"$f":"IF(G134=\"\",\"\",IF(F134=\"\",\"\",CONCATENATE(DIGITADOR!$M$1,G134,E134)))","v":""},"",{"$f":"IF(F134=\"\",\"\",VLOOKUP(F134,referentes!$T$2:$W$200,2,FALSE))","v":""},null,null,null,{"$f":"IF(J134=\"\",\"\",VLOOKUP(J134,'otras referencias'!$A$12:$B$15,2,FALSE))","v":""},null,null,{"$f":"IF(F134=\"\",\"\",IF(COUNTIF($F$3:F134, F134)>1, L133+1, 1))","v":""},null,null,"",null,null,null,null,null,""]
[null,{"$f":"IF(C135=\"\",\"\",IF(COUNTIF($C$3:C135, C135)>1, \"\", C135))","v":""},{"$f":"IF(G135=\"\",\"\",IF(F135=\"\",\"\",CONCATENATE(DIGITADOR!$M$1,G135,E135)))","v":""},"",{"$f":"IF(F135=\"\",\"\",VLOOKUP(F135,referentes!$T$2:$W$200,2,FALSE))","v":""},null,null,null,{"$f":"IF(J135=\"\",\"\",VLOOKUP(J135,'otras referencias'!$A$12:$B$15,2,FALSE))","v":""},null,null,{"$f":"IF(F135=\"\",\"\",IF(COUNTIF($F$3:F135, F135)>1, L134+1, 1))","v":""},null,null,"",null,null,null,null,null,""]
[null,{"$f":"IF(C136=\"\",\"\",IF(COUNTIF($C$3:C136, C136)>1, \"\", C136))","v":""},{"$f":"IF(G136=\"\",\"\",IF(F136=\"\",\"\",CONCATENATE(DIGITADOR!$M$1,G136,E136)))","v":""},"",{"$f":"IF(F136=\"\",\"\",VLOOKUP(F136,referentes!$T$2:$W$200,2,FALSE))","v":""},null,null,null,{"$f":"IF(J136=\"\",\"\",VLOOKUP(J136,'otras referencias'!$A$12:$B$15,2,FALSE))","v":""},null,null,{"$f":"IF(F136=\"\",\"\",IF(COUNTIF($F$3:F136, F136)>1, L135+1, 1))","v":""},null,null,"",null,null,null,null,null,""]
[null,{"$f":"IF(C137=\"\",\"\",IF(COUNTIF($C$3:C137, C137)>1, \"\", C137))","v":""},{"$f":"IF(G137=\"\",\"\",IF(F137=\"\",\"\",CONCATENATE(DIGITADOR!$M$1,G137,E137)))","v":""},"",{"$f":"IF(F137=\"\",\"\",VLOOKUP(F137,referentes!$T$2:$W$200,2,FALSE))","v":""},null,null,null,{"$f":"IF(J137=\"\",\"\",VLOOKUP(J137,'otras referencias'!$A$12:$B$15,2,FALSE))","v":""},null,null,{"$f":"IF(F137=\"\",\"\",IF(COUNTIF($F$3:F137, F137)>1, L136+1, 1))","v":""},null,null,"",null,null,null,null,null,""]
[null,{"$f":"IF(C138=\"\",\"\",IF(COUNTIF($C$3:C138, C138)>1, \"\", C138))","v":""},{"$f":"IF(G138=\"\",\"\",IF(F138=\"\",\"\",CONCATENATE(DIGITADOR!$M$1,G138,E138)))","v":""},"",{"$f":"IF(F138=\"\",\"\",VLOOKUP(F138,referentes!$T$2:$W$200,2,FALSE))","v":""},null,null,null,{"$f":"IF(J138=\"\",\"\",VLOOKUP(J138,'otras referencias'!$A$12:$B$15,2,FALSE))","v":""},null,null,{"$f":"IF(F138=\"\",\"\",IF(COUNTIF($F$3:F138, F138)>1, L137+1, 1))","v":""},null,null,"",null,null,null,null,null,""]
[null,{"$f":"IF(C139=\"\",\"\",IF(COUNTIF($C$3:C139, C139)>1, \"\", C139))","v":""},{"$f":"IF(G139=\"\",\"\",IF(F139=\"\",\"\",CONCATENATE(DIGITADOR!$M$1,G139,E139)))","v":""},"",{"$f":"IF(F139=\"\",\"\",VLOOKUP(F139,referentes!$T$2:$W$200,2,FALSE))","v":""},null,null,null,{"$f":"IF(J139=\"\",\"\",VLOOKUP(J139,'otras referencias'!$A$12:$B$15,2,FALSE))","v":""},null,null,{"$f":"IF(F139=\"\",\"\",IF(COUNTIF($F$3:F139, F139)>1, L138+1, 1))","v":""},null,null,"",null,null,null,null,null,""]
[null,{"$f":"IF(C140=\"\",\"\",IF(COUNTIF($C$3:C140, C140)>1, \"\", C140))","v":""},{"$f":"IF(G140=\"\",\"\",IF(F140=\"\",\"\",CONCATENATE(DIGITADOR!$M$1,G140,E140)))","v":""},"",{"$f":"IF(F140=\"\",\"\",VLOOKUP(F140,referentes!$T$2:$W$200,2,FALSE))","v":""},null,null,null,{"$f":"IF(J140=\"\",\"\",VLOOKUP(J140,'otras referencias'!$A$12:$B$15,2,FALSE))","v":""},null,null,{"$f":"IF(F140=\"\",\"\",IF(COUNTIF($F$3:F140, F140)>1, L139+1, 1))","v":""},null,null,"",null,null,null,null,null,""]
[null,{"$f":"IF(C141=\"\",\"\",IF(COUNTIF($C$3:C141, C141)>1, \"\", C141))","v":""},{"$f":"IF(G141=\"\",\"\",IF(F141=\"\",\"\",CONCATENATE(DIGITADOR!$M$1,G141,E141)))","v":""},"",{"$f":"IF(F141=\"\",\"\",VLOOKUP(F141,referentes!$T$2:$W$200,2,FALSE))","v":""},null,null,null,{"$f":"IF(J141=\"\",\"\",VLOOKUP(J141,'otras referencias'!$A$12:$B$15,2,FALSE))","v":""},null,null,{"$f":"IF(F141=\"\",\"\",IF(COUNTIF($F$3:F141, F141)>1, L140+1, 1))","v":""},null,null,"",null,null,null,null,null,""]
[null,{"$f":"IF(C142=\"\",\"\",IF(COUNTIF($C$3:C142, C142)>1, \"\", C142))","v":""},{"$f":"IF(G142=\"\",\"\",IF(F142=\"\",\"\",CONCATENATE(DIGITADOR!$M$1,G142,E142)))","v":""},"",{"$f":"IF(F142=\"\",\"\",VLOOKUP(F142,referentes!$T$2:$W$200,2,FALSE))","v":""},null,null,null,{"$f":"IF(J142=\"\",\"\",VLOOKUP(J142,'otras referencias'!$A$12:$B$15,2,FALSE))","v":""},null,null,{"$f":"IF(F142=\"\",\"\",IF(COUNTIF($F$3:F142, F142)>1, L141+1, 1))","v":""},null,null,"",null,null,null,null,null,""]
[null,{"$f":"IF(C143=\"\",\"\",IF(COUNTIF($C$3:C143, C143)>1, \"\", C143))","v":""},{"$f":"IF(G143=\"\",\"\",IF(F143=\"\",\"\",CONCATENATE(DIGITADOR!$M$1,G143,E143)))","v":""},"",{"$f":"IF(F143=\"\",\"\",VLOOKUP(F143,referentes!$T$2:$W$200,2,FALSE))","v":""},null,null,null,{"$f":"IF(J143=\"\",\"\",VLOOKUP(J143,'otras referencias'!$A$12:$B$15,2,FALSE))","v":""},null,null,{"$f":"IF(F143=\"\",\"\",IF(COUNTIF($F$3:F143, F143)>1, L142+1, 1))","v":""},null,null,"",null,null,null,null,null,""]
[null,{"$f":"IF(C144=\"\",\"\",IF(COUNTIF($C$3:C144, C144)>1, \"\", C144))","v":""},{"$f":"IF(G144=\"\",\"\",IF(F144=\"\",\"\",CONCATENATE(DIGITADOR!$M$1,G144,E144)))","v":""},"",{"$f":"IF(F144=\"\",\"\",VLOOKUP(F144,referentes!$T$2:$W$200,2,FALSE))","v":""},null,null,null,{"$f":"IF(J144=\"\",\"\",VLOOKUP(J144,'otras referencias'!$A$12:$B$15,2,FALSE))","v":""},null,null,{"$f":"IF(F144=\"\",\"\",IF(COUNTIF($F$3:F144, F144)>1, L143+1, 1))","v":""},null,null,"",null,null,null,null,null,""]
[null,{"$f":"IF(C145=\"\",\"\",IF(COUNTIF($C$3:C145, C145)>1, \"\", C145))","v":""},{"$f":"IF(G145=\"\",\"\",IF(F145=\"\",\"\",CONCATENATE(DIGITADOR!$M$1,G145,E145)))","v":""},"",{"$f":"IF(F145=\"\",\"\",VLOOKUP(F145,referentes!$T$2:$W$200,2,FALSE))","v":""},null,null,null,{"$f":"IF(J145=\"\",\"\",VLOOKUP(J145,'otras referencias'!$A$12:$B$15,2,FALSE))","v":""},null,null,{"$f":"IF(F145=\"\",\"\",IF(COUNTIF($F$3:F145, F145)>1, L144+1, 1))","v":""},null,null,"",null,null,null,null,null,""]
[null,{"$f":"IF(C146=\"\",\"\",IF(COUNTIF($C$3:C146, C146)>1, \"\", C146))","v":""},{"$f":"IF(G146=\"\",\"\",IF(F146=\"\",\"\",CONCATENATE(DIGITADOR!$M$1,G146,E146)))","v":""},"",{"$f":"IF(F146=\"\",\"\",VLOOKUP(F146,referentes!$T$2:$W$200,2,FALSE))","v":""},null,null,null,{"$f":"IF(J146=\"\",\"\",VLOOKUP(J146,'otras referencias'!$A$12:$B$15,2,FALSE))","v":""},null,null,{"$f":"IF(F146=\"\",\"\",IF(COUNTIF($F$3:F146, F146)>1, L145+1, 1))","v":""},null,null,"",null,null,null,null,null,""]
[null,{"$f":"IF(C147=\"\",\"\",IF(COUNTIF($C$3:C147, C147)>1, \"\", C147))","v":""},{"$f":"IF(G147=\"\",\"\",IF(F147=\"\",\"\",CONCATENATE(DIGITADOR!$M$1,G147,E147)))","v":""},"",{"$f":"IF(F147=\"\",\"\",VLOOKUP(F147,referentes!$T$2:$W$200,2,FALSE))","v":""},null,null,null,{"$f":"IF(J147=\"\",\"\",VLOOKUP(J147,'otras referencias'!$A$12:$B$15,2,FALSE))","v":""},null,null,{"$f":"IF(F147=\"\",\"\",IF(COUNTIF($F$3:F147, F147)>1, L146+1, 1))","v":""},null,null,"",null,null,null,null,null,""]
[null,{"$f":"IF(C148=\"\",\"\",IF(COUNTIF($C$3:C148, C148)>1, \"\", C148))","v":""},{"$f":"IF(G148=\"\",\"\",IF(F148=\"\",\"\",CONCATENATE(DIGITADOR!$M$1,G148,E148)))","v":""},"",{"$f":"IF(F148=\"\",\"\",VLOOKUP(F148,referentes!$T$2:$W$200,2,FALSE))","v":""},null,null,null,{"$f":"IF(J148=\"\",\"\",VLOOKUP(J148,'otras referencias'!$A$12:$B$15,2,FALSE))","v":""},null,null,{"$f":"IF(F148=\"\",\"\",IF(COUNTIF($F$3:F148, F148)>1, L147+1, 1))","v":""},null,null,"",null,null,null,null,null,""]
[null,{"$f":"IF(C149=\"\",\"\",IF(COUNTIF($C$3:C149, C149)>1, \"\", C149))","v":""},{"$f":"IF(G149=\"\",\"\",IF(F149=\"\",\"\",CONCATENATE(DIGITADOR!$M$1,G149,E149)))","v":""},"",{"$f":"IF(F149=\"\",\"\",VLOOKUP(F149,referentes!$T$2:$W$200,2,FALSE))","v":""},null,null,null,{"$f":"IF(J149=\"\",\"\",VLOOKUP(J149,'otras referencias'!$A$12:$B$15,2,FALSE))","v":""},null,null,{"$f":"IF(F149=\"\",\"\",IF(COUNTIF($F$3:F149, F149)>1, L148+1, 1))","v":""},null,null,"",null,null,null,null,null,""]
[null,{"$f":"IF(C150=\"\",\"\",IF(COUNTIF($C$3:C150, C150)>1, \"\", C150))","v":""},{"$f":"IF(G150=\"\",\"\",IF(F150=\"\",\"\",CONCATENATE(DIGITADOR!$M$1,G150,E150)))","v":""},"",{"$f":"IF(F150=\"\",\"\",VLOOKUP(F150,referentes!$T$2:$W$200,2,FALSE))","v":""},null,null,null,{"$f":"IF(J150=\"\",\"\",VLOOKUP(J150,'otras referencias'!$A$12:$B$15,2,FALSE))","v":""},null,null,{"$f":"IF(F150=\"\",\"\",IF(COUNTIF($F$3:F150, F150)>1, L149+1, 1))","v":""},null,null,"",null,null,null,null,null,""]
[null,{"$f":"IF(C151=\"\",\"\",IF(COUNTIF($C$3:C151, C151)>1, \"\", C151))","v":""},{"$f":"IF(G151=\"\",\"\",IF(F151=\"\",\"\",CONCATENATE(DIGITADOR!$M$1,G151,E151)))","v":""},"",{"$f":"IF(F151=\"\",\"\",VLOOKUP(F151,referentes!$T$2:$W$200,2,FALSE))","v":""},null,null,null,{"$f":"IF(J151=\"\",\"\",VLOOKUP(J151,'otras referencias'!$A$12:$B$15,2,FALSE))","v":""},null,null,{"$f":"IF(F151=\"\",\"\",IF(COUNTIF($F$3:F151, F151)>1, L150+1, 1))","v":""},null,null,"",null,null,null,null,null,""]
[null,{"$f":"IF(C152=\"\",\"\",IF(COUNTIF($C$3:C152, C152)>1, \"\", C152))","v":""},{"$f":"IF(G152=\"\",\"\",IF(F152=\"\",\"\",CONCATENATE(DIGITADOR!$M$1,G152,E152)))","v":""},"",{"$f":"IF(F152=\"\",\"\",VLOOKUP(F152,referentes!$T$2:$W$200,2,FALSE))","v":""},null,null,null,{"$f":"IF(J152=\"\",\"\",VLOOKUP(J152,'otras referencias'!$A$12:$B$15,2,FALSE))","v":""},null,null,{"$f":"IF(F152=\"\",\"\",IF(COUNTIF($F$3:F152, F152)>1, L151+1, 1))","v":""},null,null,"",null,null,null,null,null,""]
[null,{"$f":"IF(C153=\"\",\"\",IF(COUNTIF($C$3:C153, C153)>1, \"\", C153))","v":""},{"$f":"IF(G153=\"\",\"\",IF(F153=\"\",\"\",CONCATENATE(DIGITADOR!$M$1,G153,E153)))","v":""},"",{"$f":"IF(F153=\"\",\"\",VLOOKUP(F153,referentes!$T$2:$W$200,2,FALSE))","v":""},null,null,null,{"$f":"IF(J153=\"\",\"\",VLOOKUP(J153,'otras referencias'!$A$12:$B$15,2,FALSE))","v":""},null,null,{"$f":"IF(F153=\"\",\"\",IF(COUNTIF($F$3:F153, F153)>1, L152+1, 1))","v":""},null,null,"",null,null,null,null,null,""]
[null,{"$f":"IF(C154=\"\",\"\",IF(COUNTIF($C$3:C154, C154)>1, \"\", C154))","v":""},{"$f":"IF(G154=\"\",\"\",IF(F154=\"\",\"\",CONCATENATE(DIGITADOR!$M$1,G154,E154)))","v":""},"",{"$f":"IF(F154=\"\",\"\",VLOOKUP(F154,referentes!$T$2:$W$200,2,FALSE))","v":""},null,null,null,{"$f":"IF(J154=\"\",\"\",VLOOKUP(J154,'otras referencias'!$A$12:$B$15,2,FALSE))","v":""},null,null,{"$f":"IF(F154=\"\",\"\",IF(COUNTIF($F$3:F154, F154)>1, L153+1, 1))","v":""},null,null,"",null,null,null,null,null,""]
[null,{"$f":"IF(C155=\"\",\"\",IF(COUNTIF($C$3:C155, C155)>1, \"\", C155))","v":""},{"$f":"IF(G155=\"\",\"\",IF(F155=\"\",\"\",CONCATENATE(DIGITADOR!$M$1,G155,E155)))","v":""},"",{"$f":"IF(F155=\"\",\"\",VLOOKUP(F155,referentes!$T$2:$W$200,2,FALSE))","v":""},null,null,null,{"$f":"IF(J155=\"\",\"\",VLOOKUP(J155,'otras referencias'!$A$12:$B$15,2,FALSE))","v":""},null,null,{"$f":"IF(F155=\"\",\"\",IF(COUNTIF($F$3:F155, F155)>1, L154+1, 1))","v":""},null,null,"",null,null,null,null,null,""]
[null,{"$f":"IF(C156=\"\",\"\",IF(COUNTIF($C$3:C156, C156)>1, \"\", C156))","v":""},{"$f":"IF(G156=\"\",\"\",IF(F156=\"\",\"\",CONCATENATE(DIGITADOR!$M$1,G156,E156)))","v":""},"",{"$f":"IF(F156=\"\",\"\",VLOOKUP(F156,referentes!$T$2:$W$200,2,FALSE))","v":""},null,null,null,{"$f":"IF(J156=\"\",\"\",VLOOKUP(J156,'otras referencias'!$A$12:$B$15,2,FALSE))","v":""},null,null,{"$f":"IF(F156=\"\",\"\",IF(COUNTIF($F$3:F156, F156)>1, L155+1, 1))","v":""},null,null,"",null,null,null,null,null,""]
[null,{"$f":"IF(C157=\"\",\"\",IF(COUNTIF($C$3:C157, C157)>1, \"\", C157))","v":""},{"$f":"IF(G157=\"\",\"\",IF(F157=\"\",\"\",CONCATENATE(DIGITADOR!$M$1,G157,E157)))","v":""},"",{"$f":"IF(F157=\"\",\"\",VLOOKUP(F157,referentes!$T$2:$W$200,2,FALSE))","v":""},null,null,null,{"$f":"IF(J157=\"\",\"\",VLOOKUP(J157,'otras referencias'!$A$12:$B$15,2,FALSE))","v":""},null,null,{"$f":"IF(F157=\"\",\"\",IF(COUNTIF($F$3:F157, F157)>1, L156+1, 1))","v":""},null,null,"",null,null,null,null,null,""]
[null,{"$f":"IF(C158=\"\",\"\",IF(COUNTIF($C$3:C158, C158)>1, \"\", C158))","v":""},{"$f":"IF(G158=\"\",\"\",IF(F158=\"\",\"\",CONCATENATE(DIGITADOR!$M$1,G158,E158)))","v":""},"",{"$f":"IF(F158=\"\",\"\",VLOOKUP(F158,referentes!$T$2:$W$200,2,FALSE))","v":""},null,null,null,{"$f":"IF(J158=\"\",\"\",VLOOKUP(J158,'otras referencias'!$A$12:$B$15,2,FALSE))","v":""},null,null,{"$f":"IF(F158=\"\",\"\",IF(COUNTIF($F$3:F158, F158)>1, L157+1, 1))","v":""},null,null,"",null,null,null,null,null,""]
[null,{"$f":"IF(C159=\"\",\"\",IF(COUNTIF($C$3:C159, C159)>1, \"\", C159))","v":""},{"$f":"IF(G159=\"\",\"\",IF(F159=\"\",\"\",CONCATENATE(DIGITADOR!$M$1,G159,E159)))","v":""},"",{"$f":"IF(F159=\"\",\"\",VLOOKUP(F159,referentes!$T$2:$W$200,2,FALSE))","v":""},null,null,null,{"$f":"IF(J159=\"\",\"\",VLOOKUP(J159,'otras referencias'!$A$12:$B$15,2,FALSE))","v":""},null,null,{"$f":"IF(F159=\"\",\"\",IF(COUNTIF($F$3:F159, F159)>1, L158+1, 1))","v":""},null,null,"",null,null,null,null,null,""]
[null,{"$f":"IF(C160=\"\",\"\",IF(COUNTIF($C$3:C160, C160)>1, \"\", C160))","v":""},{"$f":"IF(G160=\"\",\"\",IF(F160=\"\",\"\",CONCATENATE(DIGITADOR!$M$1,G160,E160)))","v":""},"",{"$f":"IF(F160=\"\",\"\",VLOOKUP(F160,referentes!$T$2:$W$200,2,FALSE))","v":""},null,null,null,{"$f":"IF(J160=\"\",\"\",VLOOKUP(J160,'otras referencias'!$A$12:$B$15,2,FALSE))","v":""},null,null,{"$f":"IF(F160=\"\",\"\",IF(COUNTIF($F$3:F160, F160)>1, L159+1, 1))","v":""},null,null,"",null,null,null,null,null,""]
[null,{"$f":"IF(C161=\"\",\"\",IF(COUNTIF($C$3:C161, C161)>1, \"\", C161))","v":""},{"$f":"IF(G161=\"\",\"\",IF(F161=\"\",\"\",CONCATENATE(DIGITADOR!$M$1,G161,E161)))","v":""},"",{"$f":"IF(F161=\"\",\"\",VLOOKUP(F161,referentes!$T$2:$W$200,2,FALSE))","v":""},null,null,null,{"$f":"IF(J161=\"\",\"\",VLOOKUP(J161,'otras referencias'!$A$12:$B$15,2,FALSE))","v":""},null,null,{"$f":"IF(F161=\"\",\"\",IF(COUNTIF($F$3:F161, F161)>1, L160+1, 1))","v":""},null,null,"",null,null,null,null,null,""]
[null,{"$f":"IF(C162=\"\",\"\",IF(COUNTIF($C$3:C162, C162)>1, \"\", C162))","v":""},{"$f":"IF(G162=\"\",\"\",IF(F162=\"\",\"\",CONCATENATE(DIGITADOR!$M$1,G162,E162)))","v":""},"",{"$f":"IF(F162=\"\",\"\",VLOOKUP(F162,referentes!$T$2:$W$200,2,FALSE))","v":""},null,null,null,{"$f":"IF(J162=\"\",\"\",VLOOKUP(J162,'otras referencias'!$A$12:$B$15,2,FALSE))","v":""},null,null,{"$f":"IF(F162=\"\",\"\",IF(COUNTIF($F$3:F162, F162)>1, L161+1, 1))","v":""},null,null,"",null,null,null,null,null,""]
[null,{"$f":"IF(C163=\"\",\"\",IF(COUNTIF($C$3:C163, C163)>1, \"\", C163))","v":""},{"$f":"IF(G163=\"\",\"\",IF(F163=\"\",\"\",CONCATENATE(DIGITADOR!$M$1,G163,E163)))","v":""},"",{"$f":"IF(F163=\"\",\"\",VLOOKUP(F163,referentes!$T$2:$W$200,2,FALSE))","v":""},null,null,null,{"$f":"IF(J163=\"\",\"\",VLOOKUP(J163,'otras referencias'!$A$12:$B$15,2,FALSE))","v":""},null,null,{"$f":"IF(F163=\"\",\"\",IF(COUNTIF($F$3:F163, F163)>1, L162+1, 1))","v":""},null,null,"",null,null,null,null,null,""]
[null,{"$f":"IF(C164=\"\",\"\",IF(COUNTIF($C$3:C164, C164)>1, \"\", C164))","v":""},{"$f":"IF(G164=\"\",\"\",IF(F164=\"\",\"\",CONCATENATE(DIGITADOR!$M$1,G164,E164)))","v":""},"",{"$f":"IF(F164=\"\",\"\",VLOOKUP(F164,referentes!$T$2:$W$200,2,FALSE))","v":""},null,null,null,{"$f":"IF(J164=\"\",\"\",VLOOKUP(J164,'otras referencias'!$A$12:$B$15,2,FALSE))","v":""},null,null,{"$f":"IF(F164=\"\",\"\",IF(COUNTIF($F$3:F164, F164)>1, L163+1, 1))","v":""},null,null,"",null,null,null,null,null,""]
[null,{"$f":"IF(C165=\"\",\"\",IF(COUNTIF($C$3:C165, C165)>1, \"\", C165))","v":""},{"$f":"IF(G165=\"\",\"\",IF(F165=\"\",\"\",CONCATENATE(DIGITADOR!$M$1,G165,E165)))","v":""},"",{"$f":"IF(F165=\"\",\"\",VLOOKUP(F165,referentes!$T$2:$W$200,2,FALSE))","v":""},null,null,null,{"$f":"IF(J165=\"\",\"\",VLOOKUP(J165,'otras referencias'!$A$12:$B$15,2,FALSE))","v":""},null,null,{"$f":"IF(F165=\"\",\"\",IF(COUNTIF($F$3:F165, F165)>1, L164+1, 1))","v":""},null,null,"",null,null,null,null,null,""]
[null,{"$f":"IF(C166=\"\",\"\",IF(COUNTIF($C$3:C166, C166)>1, \"\", C166))","v":""},{"$f":"IF(G166=\"\",\"\",IF(F166=\"\",\"\",CONCATENATE(DIGITADOR!$M$1,G166,E166)))","v":""},"",{"$f":"IF(F166=\"\",\"\",VLOOKUP(F166,referentes!$T$2:$W$200,2,FALSE))","v":""},null,null,null,{"$f":"IF(J166=\"\",\"\",VLOOKUP(J166,'otras referencias'!$A$12:$B$15,2,FALSE))","v":""},null,null,{"$f":"IF(F166=\"\",\"\",IF(COUNTIF($F$3:F166, F166)>1, L165+1, 1))","v":""},null,null,"",null,null,null,null,null,""]
[null,{"$f":"IF(C167=\"\",\"\",IF(COUNTIF($C$3:C167, C167)>1, \"\", C167))","v":""},{"$f":"IF(G167=\"\",\"\",IF(F167=\"\",\"\",CONCATENATE(DIGITADOR!$M$1,G167,E167)))","v":""},"",{"$f":"IF(F167=\"\",\"\",VLOOKUP(F167,referentes!$T$2:$W$200,2,FALSE))","v":""},null,null,null,{"$f":"IF(J167=\"\",\"\",VLOOKUP(J167,'otras referencias'!$A$12:$B$15,2,FALSE))","v":""},null,null,{"$f":"IF(F167=\"\",\"\",IF(COUNTIF($F$3:F167, F167)>1, L166+1, 1))","v":""},null,null,"",null,null,null,null,null,""]
[null,{"$f":"IF(C168=\"\",\"\",IF(COUNTIF($C$3:C168, C168)>1, \"\", C168))","v":""},{"$f":"IF(G168=\"\",\"\",IF(F168=\"\",\"\",CONCATENATE(DIGITADOR!$M$1,G168,E168)))","v":""},"",{"$f":"IF(F168=\"\",\"\",VLOOKUP(F168,referentes!$T$2:$W$200,2,FALSE))","v":""},null,null,null,{"$f":"IF(J168=\"\",\"\",VLOOKUP(J168,'otras referencias'!$A$12:$B$15,2,FALSE))","v":""},null,null,{"$f":"IF(F168=\"\",\"\",IF(COUNTIF($F$3:F168, F168)>1, L167+1, 1))","v":""},null,null,"",null,null,null,null,null,""]
[null,{"$f":"IF(C169=\"\",\"\",IF(COUNTIF($C$3:C169, C169)>1, \"\", C169))","v":""},{"$f":"IF(G169=\"\",\"\",IF(F169=\"\",\"\",CONCATENATE(DIGITADOR!$M$1,G169,E169)))","v":""},"",{"$f":"IF(F169=\"\",\"\",VLOOKUP(F169,referentes!$T$2:$W$200,2,FALSE))","v":""},null,null,null,{"$f":"IF(J169=\"\",\"\",VLOOKUP(J169,'otras referencias'!$A$12:$B$15,2,FALSE))","v":""},null,null,{"$f":"IF(F169=\"\",\"\",IF(COUNTIF($F$3:F169, F169)>1, L168+1, 1))","v":""},null,null,"",null,null,null,null,null,""]
[null,{"$f":"IF(C170=\"\",\"\",IF(COUNTIF($C$3:C170, C170)>1, \"\", C170))","v":""},{"$f":"IF(G170=\"\",\"\",IF(F170=\"\",\"\",CONCATENATE(DIGITADOR!$M$1,G170,E170)))","v":""},"",{"$f":"IF(F170=\"\",\"\",VLOOKUP(F170,referentes!$T$2:$W$200,2,FALSE))","v":""},null,null,null,{"$f":"IF(J170=\"\",\"\",VLOOKUP(J170,'otras referencias'!$A$12:$B$15,2,FALSE))","v":""},null,null,{"$f":"IF(F170=\"\",\"\",IF(COUNTIF($F$3:F170, F170)>1, L169+1, 1))","v":""},null,null,"",null,null,null,null,null,""]
[null,{"$f":"IF(C171=\"\",\"\",IF(COUNTIF($C$3:C171, C171)>1, \"\", C171))","v":""},{"$f":"IF(G171=\"\",\"\",IF(F171=\"\",\"\",CONCATENATE(DIGITADOR!$M$1,G171,E171)))","v":""},"",{"$f":"IF(F171=\"\",\"\",VLOOKUP(F171,referentes!$T$2:$W$200,2,FALSE))","v":""},null,null,null,{"$f":"IF(J171=\"\",\"\",VLOOKUP(J171,'otras referencias'!$A$12:$B$15,2,FALSE))","v":""},null,null,{"$f":"IF(F171=\"\",\"\",IF(COUNTIF($F$3:F171, F171)>1, L170+1, 1))","v":""},null,null,"",null,null,null,null,null,""]
[null,{"$f":"IF(C172=\"\",\"\",IF(COUNTIF($C$3:C172, C172)>1, \"\", C172))","v":""},{"$f":"IF(G172=\"\",\"\",IF(F172=\"\",\"\",CONCATENATE(DIGITADOR!$M$1,G172,E172)))","v":""},"",{"$f":"IF(F172=\"\",\"\",VLOOKUP(F172,referentes!$T$2:$W$200,2,FALSE))","v":""},null,null,null,{"$f":"IF(J172=\"\",\"\",VLOOKUP(J172,'otras referencias'!$A$12:$B$15,2,FALSE))","v":""},null,null,{"$f":"IF(F172=\"\",\"\",IF(COUNTIF($F$3:F172, F172)>1, L171+1, 1))","v":""},null,null,"",null,null,null,null,null,""]
[null,{"$f":"IF(C173=\"\",\"\",IF(COUNTIF($C$3:C173, C173)>1, \"\", C173))","v":""},{"$f":"IF(G173=\"\",\"\",IF(F173=\"\",\"\",CONCATENATE(DIGITADOR!$M$1,G173,E173)))","v":""},"",{"$f":"IF(F173=\"\",\"\",VLOOKUP(F173,referentes!$T$2:$W$200,2,FALSE))","v":""},null,null,null,{"$f":"IF(J173=\"\",\"\",VLOOKUP(J173,'otras referencias'!$A$12:$B$15,2,FALSE))","v":""},null,null,{"$f":"IF(F173=\"\",\"\",IF(COUNTIF($F$3:F173, F173)>1, L172+1, 1))","v":""},null,null,"",null,null,null,null,null,""]
[null,{"$f":"IF(C174=\"\",\"\",IF(COUNTIF($C$3:C174, C174)>1, \"\", C174))","v":""},{"$f":"IF(G174=\"\",\"\",IF(F174=\"\",\"\",CONCATENATE(DIGITADOR!$M$1,G174,E174)))","v":""},"",{"$f":"IF(F174=\"\",\"\",VLOOKUP(F174,referentes!$T$2:$W$200,2,FALSE))","v":""},null,null,null,{"$f":"IF(J174=\"\",\"\",VLOOKUP(J174,'otras referencias'!$A$12:$B$15,2,FALSE))","v":""},null,null,{"$f":"IF(F174=\"\",\"\",IF(COUNTIF($F$3:F174, F174)>1, L173+1, 1))","v":""},null,null,"",null,null,null,null,null,""]
[null,{"$f":"IF(C175=\"\",\"\",IF(COUNTIF($C$3:C175, C175)>1, \"\", C175))","v":""},{"$f":"IF(G175=\"\",\"\",IF(F175=\"\",\"\",CONCATENATE(DIGITADOR!$M$1,G175,E175)))","v":""},"",{"$f":"IF(F175=\"\",\"\",VLOOKUP(F175,referentes!$T$2:$W$200,2,FALSE))","v":""},null,null,null,{"$f":"IF(J175=\"\",\"\",VLOOKUP(J175,'otras referencias'!$A$12:$B$15,2,FALSE))","v":""},null,null,{"$f":"IF(F175=\"\",\"\",IF(COUNTIF($F$3:F175, F175)>1, L174+1, 1))","v":""},null,null,"",null,null,null,null,null,""]
[null,{"$f":"IF(C176=\"\",\"\",IF(COUNTIF($C$3:C176, C176)>1, \"\", C176))","v":""},{"$f":"IF(G176=\"\",\"\",IF(F176=\"\",\"\",CONCATENATE(DIGITADOR!$M$1,G176,E176)))","v":""},"",{"$f":"IF(F176=\"\",\"\",VLOOKUP(F176,referentes!$T$2:$W$200,2,FALSE))","v":""},null,null,null,{"$f":"IF(J176=\"\",\"\",VLOOKUP(J176,'otras referencias'!$A$12:$B$15,2,FALSE))","v":""},null,null,{"$f":"IF(F176=\"\",\"\",IF(COUNTIF($F$3:F176, F176)>1, L175+1, 1))","v":""},null,null,"",null,null,null,null,null,""]
[null,{"$f":"IF(C177=\"\",\"\",IF(COUNTIF($C$3:C177, C177)>1, \"\", C177))","v":""},{"$f":"IF(G177=\"\",\"\",IF(F177=\"\",\"\",CONCATENATE(DIGITADOR!$M$1,G177,E177)))","v":""},"",{"$f":"IF(F177=\"\",\"\",VLOOKUP(F177,referentes!$T$2:$W$200,2,FALSE))","v":""},null,null,null,{"$f":"IF(J177=\"\",\"\",VLOOKUP(J177,'otras referencias'!$A$12:$B$15,2,FALSE))","v":""},null,null,{"$f":"IF(F177=\"\",\"\",IF(COUNTIF($F$3:F177, F177)>1, L176+1, 1))","v":""},null,null,"",null,null,null,null,null,""]
[null,{"$f":"IF(C178=\"\",\"\",IF(COUNTIF($C$3:C178, C178)>1, \"\", C178))","v":""},{"$f":"IF(G178=\"\",\"\",IF(F178=\"\",\"\",CONCATENATE(DIGITADOR!$M$1,G178,E178)))","v":""},"",{"$f":"IF(F178=\"\",\"\",VLOOKUP(F178,referentes!$T$2:$W$200,2,FALSE))","v":""},null,null,null,{"$f":"IF(J178=\"\",\"\",VLOOKUP(J178,'otras referencias'!$A$12:$B$15,2,FALSE))","v":""},null,null,{"$f":"IF(F178=\"\",\"\",IF(COUNTIF($F$3:F178, F178)>1, L177+1, 1))","v":""},null,null,"",null,null,null,null,null,""]
[null,{"$f":"IF(C179=\"\",\"\",IF(COUNTIF($C$3:C179, C179)>1, \"\", C179))","v":""},{"$f":"IF(G179=\"\",\"\",IF(F179=\"\",\"\",CONCATENATE(DIGITADOR!$M$1,G179,E179)))","v":""},"",{"$f":"IF(F179=\"\",\"\",VLOOKUP(F179,referentes!$T$2:$W$200,2,FALSE))","v":""},null,null,null,{"$f":"IF(J179=\"\",\"\",VLOOKUP(J179,'otras referencias'!$A$12:$B$15,2,FALSE))","v":""},null,null,{"$f":"IF(F179=\"\",\"\",IF(COUNTIF($F$3:F179, F179)>1, L178+1, 1))","v":""},null,null,"",null,null,null,null,null,""]
[null,{"$f":"IF(C180=\"\",\"\",IF(COUNTIF($C$3:C180, C180)>1, \"\", C180))","v":""},{"$f":"IF(G180=\"\",\"\",IF(F180=\"\",\"\",CONCATENATE(DIGITADOR!$M$1,G180,E180)))","v":""},"",{"$f":"IF(F180=\"\",\"\",VLOOKUP(F180,referentes!$T$2:$W$200,2,FALSE))","v":""},null,null,null,{"$f":"IF(J180=\"\",\"\",VLOOKUP(J180,'otras referencias'!$A$12:$B$15,2,FALSE))","v":""},null,null,{"$f":"IF(F180=\"\",\"\",IF(COUNTIF($F$3:F180, F180)>1, L179+1, 1))","v":""},null,null,"",null,null,null,null,null,""]
[null,{"$f":"IF(C181=\"\",\"\",IF(COUNTIF($C$3:C181, C181)>1, \"\", C181))","v":""},{"$f":"IF(G181=\"\",\"\",IF(F181=\"\",\"\",CONCATENATE(DIGITADOR!$M$1,G181,E181)))","v":""},"",{"$f":"IF(F181=\"\",\"\",VLOOKUP(F181,referentes!$T$2:$W$200,2,FALSE))","v":""},null,null,null,{"$f":"IF(J181=\"\",\"\",VLOOKUP(J181,'otras referencias'!$A$12:$B$15,2,FALSE))","v":""},null,null,{"$f":"IF(F181=\"\",\"\",IF(COUNTIF($F$3:F181, F181)>1, L180+1, 1))","v":""},null,null,"",null,null,null,null,null,""]
[null,{"$f":"IF(C182=\"\",\"\",IF(COUNTIF($C$3:C182, C182)>1, \"\", C182))","v":""},{"$f":"IF(G182=\"\",\"\",IF(F182=\"\",\"\",CONCATENATE(DIGITADOR!$M$1,G182,E182)))","v":""},"",{"$f":"IF(F182=\"\",\"\",VLOOKUP(F182,referentes!$T$2:$W$200,2,FALSE))","v":""},null,null,null,{"$f":"IF(J182=\"\",\"\",VLOOKUP(J182,'otras referencias'!$A$12:$B$15,2,FALSE))","v":""},null,null,{"$f":"IF(F182=\"\",\"\",IF(COUNTIF($F$3:F182, F182)>1, L181+1, 1))","v":""},null,null,"",null,null,null,null,null,""]
[null,{"$f":"IF(C183=\"\",\"\",IF(COUNTIF($C$3:C183, C183)>1, \"\", C183))","v":""},{"$f":"IF(G183=\"\",\"\",IF(F183=\"\",\"\",CONCATENATE(DIGITADOR!$M$1,G183,E183)))","v":""},"",{"$f":"IF(F183=\"\",\"\",VLOOKUP(F183,referentes!$T$2:$W$200,2,FALSE))","v":""},null,null,null,{"$f":"IF(J183=\"\",\"\",VLOOKUP(J183,'otras referencias'!$A$12:$B$15,2,FALSE))","v":""},null,null,{"$f":"IF(F183=\"\",\"\",IF(COUNTIF($F$3:F183, F183)>1, L182+1, 1))","v":""},null,null,"",null,null,null,null,null,""]
[null,{"$f":"IF(C184=\"\",\"\",IF(COUNTIF($C$3:C184, C184)>1, \"\", C184))","v":""},{"$f":"IF(G184=\"\",\"\",IF(F184=\"\",\"\",CONCATENATE(DIGITADOR!$M$1,G184,E184)))","v":""},"",{"$f":"IF(F184=\"\",\"\",VLOOKUP(F184,referentes!$T$2:$W$200,2,FALSE))","v":""},null,null,null,{"$f":"IF(J184=\"\",\"\",VLOOKUP(J184,'otras referencias'!$A$12:$B$15,2,FALSE))","v":""},null,null,{"$f":"IF(F184=\"\",\"\",IF(COUNTIF($F$3:F184, F184)>1, L183+1, 1))","v":""},null,null,"",null,null,null,null,null,""]
[null,{"$f":"IF(C185=\"\",\"\",IF(COUNTIF($C$3:C185, C185)>1, \"\", C185))","v":""},{"$f":"IF(G185=\"\",\"\",IF(F185=\"\",\"\",CONCATENATE(DIGITADOR!$M$1,G185,E185)))","v":""},"",{"$f":"IF(F185=\"\",\"\",VLOOKUP(F185,referentes!$T$2:$W$200,2,FALSE))","v":""},null,null,null,{"$f":"IF(J185=\"\",\"\",VLOOKUP(J185,'otras referencias'!$A$12:$B$15,2,FALSE))","v":""},null,null,{"$f":"IF(F185=\"\",\"\",IF(COUNTIF($F$3:F185, F185)>1, L184+1, 1))","v":""},null,null,"",null,null,null,null,null,""]
[null,{"$f":"IF(C186=\"\",\"\",IF(COUNTIF($C$3:C186, C186)>1, \"\", C186))","v":""},{"$f":"IF(G186=\"\",\"\",IF(F186=\"\",\"\",CONCATENATE(DIGITADOR!$M$1,G186,E186)))","v":""},"",{"$f":"IF(F186=\"\",\"\",VLOOKUP(F186,referentes!$T$2:$W$200,2,FALSE))","v":""},null,null,null,{"$f":"IF(J186=\"\",\"\",VLOOKUP(J186,'otras referencias'!$A$12:$B$15,2,FALSE))","v":""},null,null,{"$f":"IF(F186=\"\",\"\",IF(COUNTIF($F$3:F186, F186)>1, L185+1, 1))","v":""},null,null,"",null,null,null,null,null,""]
[null,{"$f":"IF(C187=\"\",\"\",IF(COUNTIF($C$3:C187, C187)>1, \"\", C187))","v":""},{"$f":"IF(G187=\"\",\"\",IF(F187=\"\",\"\",CONCATENATE(DIGITADOR!$M$1,G187,E187)))","v":""},"",{"$f":"IF(F187=\"\",\"\",VLOOKUP(F187,referentes!$T$2:$W$200,2,FALSE))","v":""},null,null,null,{"$f":"IF(J187=\"\",\"\",VLOOKUP(J187,'otras referencias'!$A$12:$B$15,2,FALSE))","v":""},null,null,{"$f":"IF(F187=\"\",\"\",IF(COUNTIF($F$3:F187, F187)>1, L186+1, 1))","v":""},null,null,"",null,null,null,null,null,""]
[null,{"$f":"IF(C188=\"\",\"\",IF(COUNTIF($C$3:C188, C188)>1, \"\", C188))","v":""},{"$f":"IF(G188=\"\",\"\",IF(F188=\"\",\"\",CONCATENATE(DIGITADOR!$M$1,G188,E188)))","v":""},"",{"$f":"IF(F188=\"\",\"\",VLOOKUP(F188,referentes!$T$2:$W$200,2,FALSE))","v":""},null,null,null,{"$f":"IF(J188=\"\",\"\",VLOOKUP(J188,'otras referencias'!$A$12:$B$15,2,FALSE))","v":""},null,null,{"$f":"IF(F188=\"\",\"\",IF(COUNTIF($F$3:F188, F188)>1, L187+1, 1))","v":""},null,null,"",null,null,null,null,null,""]
[null,{"$f":"IF(C189=\"\",\"\",IF(COUNTIF($C$3:C189, C189)>1, \"\", C189))","v":""},{"$f":"IF(G189=\"\",\"\",IF(F189=\"\",\"\",CONCATENATE(DIGITADOR!$M$1,G189,E189)))","v":""},"",{"$f":"IF(F189=\"\",\"\",VLOOKUP(F189,referentes!$T$2:$W$200,2,FALSE))","v":""},null,null,null,{"$f":"IF(J189=\"\",\"\",VLOOKUP(J189,'otras referencias'!$A$12:$B$15,2,FALSE))","v":""},null,null,{"$f":"IF(F189=\"\",\"\",IF(COUNTIF($F$3:F189, F189)>1, L188+1, 1))","v":""},null,null,"",null,null,null,null,null,""]
[null,{"$f":"IF(C190=\"\",\"\",IF(COUNTIF($C$3:C190, C190)>1, \"\", C190))","v":""},{"$f":"IF(G190=\"\",\"\",IF(F190=\"\",\"\",CONCATENATE(DIGITADOR!$M$1,G190,E190)))","v":""},"",{"$f":"IF(F190=\"\",\"\",VLOOKUP(F190,referentes!$T$2:$W$200,2,FALSE))","v":""},null,null,null,{"$f":"IF(J190=\"\",\"\",VLOOKUP(J190,'otras referencias'!$A$12:$B$15,2,FALSE))","v":""},null,null,{"$f":"IF(F190=\"\",\"\",IF(COUNTIF($F$3:F190, F190)>1, L189+1, 1))","v":""},null,null,"",null,null,null,null,null,""]
[null,{"$f":"IF(C191=\"\",\"\",IF(COUNTIF($C$3:C191, C191)>1, \"\", C191))","v":""},{"$f":"IF(G191=\"\",\"\",IF(F191=\"\",\"\",CONCATENATE(DIGITADOR!$M$1,G191,E191)))","v":""},"",{"$f":"IF(F191=\"\",\"\",VLOOKUP(F191,referentes!$T$2:$W$200,2,FALSE))","v":""},null,null,null,{"$f":"IF(J191=\"\",\"\",VLOOKUP(J191,'otras referencias'!$A$12:$B$15,2,FALSE))","v":""},null,null,{"$f":"IF(F191=\"\",\"\",IF(COUNTIF($F$3:F191, F191)>1, L190+1, 1))","v":""},null,null,"",null,null,null,null,null,""]
[null,{"$f":"IF(C192=\"\",\"\",IF(COUNTIF($C$3:C192, C192)>1, \"\", C192))","v":""},{"$f":"IF(G192=\"\",\"\",IF(F192=\"\",\"\",CONCATENATE(DIGITADOR!$M$1,G192,E192)))","v":""},"",{"$f":"IF(F192=\"\",\"\",VLOOKUP(F192,referentes!$T$2:$W$200,2,FALSE))","v":""},null,null,null,{"$f":"IF(J192=\"\",\"\",VLOOKUP(J192,'otras referencias'!$A$12:$B$15,2,FALSE))","v":""},null,null,{"$f":"IF(F192=\"\",\"\",IF(COUNTIF($F$3:F192, F192)>1, L191+1, 1))","v":""},null,null,"",null,null,null,null,null,""]
[null,{"$f":"IF(C193=\"\",\"\",IF(COUNTIF($C$3:C193, C193)>1, \"\", C193))","v":""},{"$f":"IF(G193=\"\",\"\",IF(F193=\"\",\"\",CONCATENATE(DIGITADOR!$M$1,G193,E193)))","v":""},"",{"$f":"IF(F193=\"\",\"\",VLOOKUP(F193,referentes!$T$2:$W$200,2,FALSE))","v":""},null,null,null,{"$f":"IF(J193=\"\",\"\",VLOOKUP(J193,'otras referencias'!$A$12:$B$15,2,FALSE))","v":""},null,null,{"$f":"IF(F193=\"\",\"\",IF(COUNTIF($F$3:F193, F193)>1, L192+1, 1))","v":""},null,null,"",null,null,null,null,null,""]
[null,{"$f":"IF(C194=\"\",\"\",IF(COUNTIF($C$3:C194, C194)>1, \"\", C194))","v":""},{"$f":"IF(G194=\"\",\"\",IF(F194=\"\",\"\",CONCATENATE(DIGITADOR!$M$1,G194,E194)))","v":""},"",{"$f":"IF(F194=\"\",\"\",VLOOKUP(F194,referentes!$T$2:$W$200,2,FALSE))","v":""},null,null,null,{"$f":"IF(J194=\"\",\"\",VLOOKUP(J194,'otras referencias'!$A$12:$B$15,2,FALSE))","v":""},null,null,{"$f":"IF(F194=\"\",\"\",IF(COUNTIF($F$3:F194, F194)>1, L193+1, 1))","v":""},null,null,"",null,null,null,null,null,""]
[null,{"$f":"IF(C195=\"\",\"\",IF(COUNTIF($C$3:C195, C195)>1, \"\", C195))","v":""},{"$f":"IF(G195=\"\",\"\",IF(F195=\"\",\"\",CONCATENATE(DIGITADOR!$M$1,G195,E195)))","v":""},"",{"$f":"IF(F195=\"\",\"\",VLOOKUP(F195,referentes!$T$2:$W$200,2,FALSE))","v":""},null,null,null,{"$f":"IF(J195=\"\",\"\",VLOOKUP(J195,'otras referencias'!$A$12:$B$15,2,FALSE))","v":""},null,null,{"$f":"IF(F195=\"\",\"\",IF(COUNTIF($F$3:F195, F195)>1, L194+1, 1))","v":""},null,null,"",null,null,null,null,null,""]
[null,{"$f":"IF(C196=\"\",\"\",IF(COUNTIF($C$3:C196, C196)>1, \"\", C196))","v":""},{"$f":"IF(G196=\"\",\"\",IF(F196=\"\",\"\",CONCATENATE(DIGITADOR!$M$1,G196,E196)))","v":""},{"$f":"IF(C196=\"\",\"\",CONCATENATE(C196,ROW()-2))","v":""},{"$f":"IF(F196=\"\",\"\",VLOOKUP(F196,referentes!$T$2:$W$200,2,FALSE))","v":""},null,null,null,{"$f":"IF(J196=\"\",\"\",VLOOKUP(J196,'otras referencias'!$A$12:$B$15,2,FALSE))","v":""},null,null,{"$f":"IF(F196=\"\",\"\",IF(COUNTIF($F$3:F196, F196)>1, L195+1, 1))","v":""},null,null,{"$f":"IF(N196=\"\", \"\", N196/100)","v":""},null,null,null,null,null,{"$f":"IF(T196=\"\",\"\",T196/1000)","v":""}]
[null,{"$f":"IF(C197=\"\",\"\",IF(COUNTIF($C$3:C197, C197)>1, \"\", C197))","v":""},{"$f":"IF(G197=\"\",\"\",IF(F197=\"\",\"\",CONCATENATE(DIGITADOR!$M$1,G197,E197)))","v":""},"",{"$f":"IF(F197=\"\",\"\",VLOOKUP(F197,referentes!$T$2:$W$200,2,FALSE))","v":""},null,null,null,{"$f":"IF(J197=\"\",\"\",VLOOKUP(J197,'otras referencias'!$A$12:$B$15,2,FALSE))","v":""},null,null,{"$f":"IF(F197=\"\",\"\",IF(COUNTIF($F$3:F197, F197)>1, L196+1, 1))","v":""},null,null,"",null,null,null,null,null,""]
[null,{"$f":"IF(C198=\"\",\"\",IF(COUNTIF($C$3:C198, C198)>1, \"\", C198))","v":""},{"$f":"IF(G198=\"\",\"\",IF(F198=\"\",\"\",CONCATENATE(DIGITADOR!$M$1,G198,E198)))","v":""},"",{"$f":"IF(F198=\"\",\"\",VLOOKUP(F198,referentes!$T$2:$W$200,2,FALSE))","v":""},null,null,null,{"$f":"IF(J198=\"\",\"\",VLOOKUP(J198,'otras referencias'!$A$12:$B$15,2,FALSE))","v":""},null,null,{"$f":"IF(F198=\"\",\"\",IF(COUNTIF($F$3:F198, F198)>1, L197+1, 1))","v":""},null,null,"",null,null,null,null,null,""]
[null,{"$f":"IF(C199=\"\",\"\",IF(COUNTIF($C$3:C199, C199)>1, \"\", C199))","v":""},{"$f":"IF(G199=\"\",\"\",IF(F199=\"\",\"\",CONCATENATE(DIGITADOR!$M$1,G199,E199)))","v":""},"",{"$f":"IF(F199=\"\",\"\",VLOOKUP(F199,referentes!$T$2:$W$200,2,FALSE))","v":""},null,null,null,{"$f":"IF(J199=\"\",\"\",VLOOKUP(J199,'otras referencias'!$A$12:$B$15,2,FALSE))","v":""},null,null,{"$f":"IF(F199=\"\",\"\",IF(COUNTIF($F$3:F199, F199)>1, L198+1, 1))","v":""},null,null,"",null,null,null,null,null,""]
[null,{"$f":"IF(C200=\"\",\"\",IF(COUNTIF($C$3:C200, C200)>1, \"\", C200))","v":""},{"$f":"IF(G200=\"\",\"\",IF(F200=\"\",\"\",CONCATENATE(DIGITADOR!$M$1,G200,E200)))","v":""},"",{"$f":"IF(F200=\"\",\"\",VLOOKUP(F200,referentes!$T$2:$W$200,2,FALSE))","v":""},null,null,null,{"$f":"IF(J200=\"\",\"\",VLOOKUP(J200,'otras referencias'!$A$12:$B$15,2,FALSE))","v":""},null,null,{"$f":"IF(F200=\"\",\"\",IF(COUNTIF($F$3:F200, F200)>1, L199+1, 1))","v":""},null,null,"",null,null,null,null,null,""]
[null,{"$f":"IF(C201=\"\",\"\",IF(COUNTIF($C$3:C201, C201)>1, \"\", C201))","v":""},{"$f":"IF(G201=\"\",\"\",IF(F201=\"\",\"\",CONCATENATE(DIGITADOR!$M$1,G201,E201)))","v":""},"",{"$f":"IF(F201=\"\",\"\",VLOOKUP(F201,referentes!$T$2:$W$200,2,FALSE))","v":""},null,null,null,{"$f":"IF(J201=\"\",\"\",VLOOKUP(J201,'otras referencias'!$A$12:$B$15,2,FALSE))","v":""},null,null,{"$f":"IF(F201=\"\",\"\",IF(COUNTIF($F$3:F201, F201)>1, L200+1, 1))","v":""},null,null,"",null,null,null,null,null,""]
[null,{"$f":"IF(C202=\"\",\"\",IF(COUNTIF($C$3:C202, C202)>1, \"\", C202))","v":""},{"$f":"IF(G202=\"\",\"\",IF(F202=\"\",\"\",CONCATENATE(DIGITADOR!$M$1,G202,E202)))","v":""},"",{"$f":"IF(F202=\"\",\"\",VLOOKUP(F202,referentes!$T$2:$W$200,2,FALSE))","v":""},null,null,null,{"$f":"IF(J202=\"\",\"\",VLOOKUP(J202,'otras referencias'!$A$12:$B$15,2,FALSE))","v":""},null,null,{"$f":"IF(F202=\"\",\"\",IF(COUNTIF($F$3:F202, F202)>1, L201+1, 1))","v":""},null,null,"",null,null,null,null,null,""]
[null,{"$f":"IF(C203=\"\",\"\",IF(COUNTIF($C$3:C203, C203)>1, \"\", C203))","v":""},{"$f":"IF(G203=\"\",\"\",IF(F203=\"\",\"\",CONCATENATE(DIGITADOR!$M$1,G203,E203)))","v":""},"",{"$f":"IF(F203=\"\",\"\",VLOOKUP(F203,referentes!$T$2:$W$200,2,FALSE))","v":""},null,null,null,{"$f":"IF(J203=\"\",\"\",VLOOKUP(J203,'otras referencias'!$A$12:$B$15,2,FALSE))","v":""},null,null,{"$f":"IF(F203=\"\",\"\",IF(COUNTIF($F$3:F203, F203)>1, L202+1, 1))","v":""},null,null,"",null,null,null,null,null,""]
[null,{"$f":"IF(C204=\"\",\"\",IF(COUNTIF($C$3:C204, C204)>1, \"\", C204))","v":""},{"$f":"IF(G204=\"\",\"\",IF(F204=\"\",\"\",CONCATENATE(DIGITADOR!$M$1,G204,E204)))","v":""},"",{"$f":"IF(F204=\"\",\"\",VLOOKUP(F204,referentes!$T$2:$W$200,2,FALSE))","v":""},null,null,null,{"$f":"IF(J204=\"\",\"\",VLOOKUP(J204,'otras referencias'!$A$12:$B$15,2,FALSE))","v":""},null,null,{"$f":"IF(F204=\"\",\"\",IF(COUNTIF($F$3:F204, F204)>1, L203+1, 1))","v":""},null,null,"",null,null,null,null,null,""]
[null,{"$f":"IF(C205=\"\",\"\",IF(COUNTIF($C$3:C205, C205)>1, \"\", C205))","v":""},{"$f":"IF(G205=\"\",\"\",IF(F205=\"\",\"\",CONCATENATE(DIGITADOR!$M$1,G205,E205)))","v":""},"",{"$f":"IF(F205=\"\",\"\",VLOOKUP(F205,referentes!$T$2:$W$200,2,FALSE))","v":""},null,null,null,{"$f":"IF(J205=\"\",\"\",VLOOKUP(J205,'otras referencias'!$A$12:$B$15,2,FALSE))","v":""},null,null,{"$f":"IF(F205=\"\",\"\",IF(COUNTIF($F$3:F205, F205)>1, L204+1, 1))","v":""},null,null,"",null,null,null,null,null,""]
[null,{"$f":"IF(C206=\"\",\"\",IF(COUNTIF($C$3:C206, C206)>1, \"\", C206))","v":""},{"$f":"IF(G206=\"\",\"\",IF(F206=\"\",\"\",CONCATENATE(DIGITADOR!$M$1,G206,E206)))","v":""},"",{"$f":"IF(F206=\"\",\"\",VLOOKUP(F206,referentes!$T$2:$W$200,2,FALSE))","v":""},null,null,null,{"$f":"IF(J206=\"\",\"\",VLOOKUP(J206,'otras referencias'!$A$12:$B$15,2,FALSE))","v":""},null,null,{"$f":"IF(F206=\"\",\"\",IF(COUNTIF($F$3:F206, F206)>1, L205+1, 1))","v":""},null,null,"",null,null,null,null,null,""]
[null,{"$f":"IF(C207=\"\",\"\",IF(COUNTIF($C$3:C207, C207)>1, \"\", C207))","v":""},{"$f":"IF(G207=\"\",\"\",IF(F207=\"\",\"\",CONCATENATE(DIGITADOR!$M$1,G207,E207)))","v":""},"",{"$f":"IF(F207=\"\",\"\",VLOOKUP(F207,referentes!$T$2:$W$200,2,FALSE))","v":""},null,null,null,{"$f":"IF(J207=\"\",\"\",VLOOKUP(J207,'otras referencias'!$A$12:$B$15,2,FALSE))","v":""},null,null,{"$f":"IF(F207=\"\",\"\",IF(COUNTIF($F$3:F207, F207)>1, L206+1, 1))","v":""},null,null,"",null,null,null,null,null,""]
[null,{"$f":"IF(C208=\"\",\"\",IF(COUNTIF($C$3:C208, C208)>1, \"\", C208))","v":""},{"$f":"IF(G208=\"\",\"\",IF(F208=\"\",\"\",CONCATENATE(DIGITADOR!$M$1,G208,E208)))","v":""},"",{"$f":"IF(F208=\"\",\"\",VLOOKUP(F208,referentes!$T$2:$W$200,2,FALSE))","v":""},null,null,null,{"$f":"IF(J208=\"\",\"\",VLOOKUP(J208,'otras referencias'!$A$12:$B$15,2,FALSE))","v":""},null,null,{"$f":"IF(F208=\"\",\"\",IF(COUNTIF($F$3:F208, F208)>1, L207+1, 1))","v":""},null,null,"",null,null,null,null,null,""]
[null,{"$f":"IF(C209=\"\",\"\",IF(COUNTIF($C$3:C209, C209)>1, \"\", C209))","v":""},{"$f":"IF(G209=\"\",\"\",IF(F209=\"\",\"\",CONCATENATE(DIGITADOR!$M$1,G209,E209)))","v":""},"",{"$f":"IF(F209=\"\",\"\",VLOOKUP(F209,referentes!$T$2:$W$200,2,FALSE))","v":""},null,null,null,{"$f":"IF(J209=\"\",\"\",VLOOKUP(J209,'otras referencias'!$A$12:$B$15,2,FALSE))","v":""},null,null,{"$f":"IF(F209=\"\",\"\",IF(COUNTIF($F$3:F209, F209)>1, L208+1, 1))","v":""},null,null,"",null,null,null,null,null,""]
[null,{"$f":"IF(C210=\"\",\"\",IF(COUNTIF($C$3:C210, C210)>1, \"\", C210))","v":""},{"$f":"IF(G210=\"\",\"\",IF(F210=\"\",\"\",CONCATENATE(DIGITADOR!$M$1,G210,E210)))","v":""},"",{"$f":"IF(F210=\"\",\"\",VLOOKUP(F210,referentes!$T$2:$W$200,2,FALSE))","v":""},null,null,null,{"$f":"IF(J210=\"\",\"\",VLOOKUP(J210,'otras referencias'!$A$12:$B$15,2,FALSE))","v":""},null,null,{"$f":"IF(F210=\"\",\"\",IF(COUNTIF($F$3:F210, F210)>1, L209+1, 1))","v":""},null,null,"",null,null,null,null,null,""]
[null,{"$f":"IF(C211=\"\",\"\",IF(COUNTIF($C$3:C211, C211)>1, \"\", C211))","v":""},{"$f":"IF(G211=\"\",\"\",IF(F211=\"\",\"\",CONCATENATE(DIGITADOR!$M$1,G211,E211)))","v":""},"",{"$f":"IF(F211=\"\",\"\",VLOOKUP(F211,referentes!$T$2:$W$200,2,FALSE))","v":""},null,null,null,{"$f":"IF(J211=\"\",\"\",VLOOKUP(J211,'otras referencias'!$A$12:$B$15,2,FALSE))","v":""},null,null,{"$f":"IF(F211=\"\",\"\",IF(COUNTIF($F$3:F211, F211)>1, L210+1, 1))","v":""},null,null,"",null,null,null,null,null,""]
[null,{"$f":"IF(C212=\"\",\"\",IF(COUNTIF($C$3:C212, C212)>1, \"\", C212))","v":""},{"$f":"IF(G212=\"\",\"\",IF(F212=\"\",\"\",CONCATENATE(DIGITADOR!$M$1,G212,E212)))","v":""},"",{"$f":"IF(F212=\"\",\"\",VLOOKUP(F212,referentes!$T$2:$W$200,2,FALSE))","v":""},null,null,null,{"$f":"IF(J212=\"\",\"\",VLOOKUP(J212,'otras referencias'!$A$12:$B$15,2,FALSE))","v":""},null,null,{"$f":"IF(F212=\"\",\"\",IF(COUNTIF($F$3:F212, F212)>1, L211+1, 1))","v":""},null,null,"",null,null,null,null,null,""]
[null,{"$f":"IF(C213=\"\",\"\",IF(COUNTIF($C$3:C213, C213)>1, \"\", C213))","v":""},{"$f":"IF(G213=\"\",\"\",IF(F213=\"\",\"\",CONCATENATE(DIGITADOR!$M$1,G213,E213)))","v":""},"",{"$f":"IF(F213=\"\",\"\",VLOOKUP(F213,referentes!$T$2:$W$200,2,FALSE))","v":""},null,null,null,{"$f":"IF(J213=\"\",\"\",VLOOKUP(J213,'otras referencias'!$A$12:$B$15,2,FALSE))","v":""},null,null,{"$f":"IF(F213=\"\",\"\",IF(COUNTIF($F$3:F213, F213)>1, L212+1, 1))","v":""},null,null,"",null,null,null,null,null,""]
[null,{"$f":"IF(C214=\"\",\"\",IF(COUNTIF($C$3:C214, C214)>1, \"\", C214))","v":""},{"$f":"IF(G214=\"\",\"\",IF(F214=\"\",\"\",CONCATENATE(DIGITADOR!$M$1,G214,E214)))","v":""},"",{"$f":"IF(F214=\"\",\"\",VLOOKUP(F214,referentes!$T$2:$W$200,2,FALSE))","v":""},null,null,null,{"$f":"IF(J214=\"\",\"\",VLOOKUP(J214,'otras referencias'!$A$12:$B$15,2,FALSE))","v":""},null,null,{"$f":"IF(F214=\"\",\"\",IF(COUNTIF($F$3:F214, F214)>1, L213+1, 1))","v":""},null,null,"",null,null,null,null,null,""]
[null,{"$f":"IF(C215=\"\",\"\",IF(COUNTIF($C$3:C215, C215)>1, \"\", C215))","v":""},{"$f":"IF(G215=\"\",\"\",IF(F215=\"\",\"\",CONCATENATE(DIGITADOR!$M$1,G215,E215)))","v":""},"",{"$f":"IF(F215=\"\",\"\",VLOOKUP(F215,referentes!$T$2:$W$200,2,FALSE))","v":""},null,null,null,{"$f":"IF(J215=\"\",\"\",VLOOKUP(J215,'otras referencias'!$A$12:$B$15,2,FALSE))","v":""},null,null,{"$f":"IF(F215=\"\",\"\",IF(COUNTIF($F$3:F215, F215)>1, L214+1, 1))","v":""},null,null,"",null,null,null,null,null,""]
[null,{"$f":"IF(C216=\"\",\"\",IF(COUNTIF($C$3:C216, C216)>1, \"\", C216))","v":""},{"$f":"IF(G216=\"\",\"\",IF(F216=\"\",\"\",CONCATENATE(DIGITADOR!$M$1,G216,E216)))","v":""},"",{"$f":"IF(F216=\"\",\"\",VLOOKUP(F216,referentes!$T$2:$W$200,2,FALSE))","v":""},null,null,null,{"$f":"IF(J216=\"\",\"\",VLOOKUP(J216,'otras referencias'!$A$12:$B$15,2,FALSE))","v":""},null,null,{"$f":"IF(F216=\"\",\"\",IF(COUNTIF($F$3:F216, F216)>1, L215+1, 1))","v":""},null,null,"",null,null,null,null,null,""]
[null,{"$f":"IF(C217=\"\",\"\",IF(COUNTIF($C$3:C217, C217)>1, \"\", C217))","v":""},{"$f":"IF(G217=\"\",\"\",IF(F217=\"\",\"\",CONCATENATE(DIGITADOR!$M$1,G217,E217)))","v":""},"",{"$f":"IF(F217=\"\",\"\",VLOOKUP(F217,referentes!$T$2:$W$200,2,FALSE))","v":""},null,null,null,{"$f":"IF(J217=\"\",\"\",VLOOKUP(J217,'otras referencias'!$A$12:$B$15,2,FALSE))","v":""},null,null,{"$f":"IF(F217=\"\",\"\",IF(COUNTIF($F$3:F217, F217)>1, L216+1, 1))","v":""},null,null,"",null,null,null,null,null,""]
[null,{"$f":"IF(C218=\"\",\"\",IF(COUNTIF($C$3:C218, C218)>1, \"\", C218))","v":""},{"$f":"IF(G218=\"\",\"\",IF(F218=\"\",\"\",CONCATENATE(DIGITADOR!$M$1,G218,E218)))","v":""},"",{"$f":"IF(F218=\"\",\"\",VLOOKUP(F218,referentes!$T$2:$W$200,2,FALSE))","v":""},null,null,null,{"$f":"IF(J218=\"\",\"\",VLOOKUP(J218,'otras referencias'!$A$12:$B$15,2,FALSE))","v":""},null,null,{"$f":"IF(F218=\"\",\"\",IF(COUNTIF($F$3:F218, F218)>1, L217+1, 1))","v":""},null,null,"",null,null,null,null,null,""]
[null,{"$f":"IF(C219=\"\",\"\",IF(COUNTIF($C$3:C219, C219)>1, \"\", C219))","v":""},{"$f":"IF(G219=\"\",\"\",IF(F219=\"\",\"\",CONCATENATE(DIGITADOR!$M$1,G219,E219)))","v":""},"",{"$f":"IF(F219=\"\",\"\",VLOOKUP(F219,referentes!$T$2:$W$200,2,FALSE))","v":""},null,null,null,{"$f":"IF(J219=\"\",\"\",VLOOKUP(J219,'otras referencias'!$A$12:$B$15,2,FALSE))","v":""},null,null,{"$f":"IF(F219=\"\",\"\",IF(COUNTIF($F$3:F219, F219)>1, L218+1, 1))","v":""},null,null,"",null,null,null,null,null,""]
[null,{"$f":"IF(C220=\"\",\"\",IF(COUNTIF($C$3:C220, C220)>1, \"\", C220))","v":""},{"$f":"IF(G220=\"\",\"\",IF(F220=\"\",\"\",CONCATENATE(DIGITADOR!$M$1,G220,E220)))","v":""},"",{"$f":"IF(F220=\"\",\"\",VLOOKUP(F220,referentes!$T$2:$W$200,2,FALSE))","v":""},null,null,null,{"$f":"IF(J220=\"\",\"\",VLOOKUP(J220,'otras referencias'!$A$12:$B$15,2,FALSE))","v":""},null,null,{"$f":"IF(F220=\"\",\"\",IF(COUNTIF($F$3:F220, F220)>1, L219+1, 1))","v":""},null,null,"",null,null,null,null,null,""]
[null,{"$f":"IF(C221=\"\",\"\",IF(COUNTIF($C$3:C221, C221)>1, \"\", C221))","v":""},{"$f":"IF(G221=\"\",\"\",IF(F221=\"\",\"\",CONCATENATE(DIGITADOR!$M$1,G221,E221)))","v":""},"",{"$f":"IF(F221=\"\",\"\",VLOOKUP(F221,referentes!$T$2:$W$200,2,FALSE))","v":""},null,null,null,{"$f":"IF(J221=\"\",\"\",VLOOKUP(J221,'otras referencias'!$A$12:$B$15,2,FALSE))","v":""},null,null,{"$f":"IF(F221=\"\",\"\",IF(COUNTIF($F$3:F221, F221)>1, L220+1, 1))","v":""},null,null,"",null,null,null,null,null,""]
[null,{"$f":"IF(C222=\"\",\"\",IF(COUNTIF($C$3:C222, C222)>1, \"\", C222))","v":""},{"$f":"IF(G222=\"\",\"\",IF(F222=\"\",\"\",CONCATENATE(DIGITADOR!$M$1,G222,E222)))","v":""},"",{"$f":"IF(F222=\"\",\"\",VLOOKUP(F222,referentes!$T$2:$W$200,2,FALSE))","v":""},null,null,null,{"$f":"IF(J222=\"\",\"\",VLOOKUP(J222,'otras referencias'!$A$12:$B$15,2,FALSE))","v":""},null,null,{"$f":"IF(F222=\"\",\"\",IF(COUNTIF($F$3:F222, F222)>1, L221+1, 1))","v":""},null,null,"",null,null,null,null,null,""]
[null,{"$f":"IF(C223=\"\",\"\",IF(COUNTIF($C$3:C223, C223)>1, \"\", C223))","v":""},{"$f":"IF(G223=\"\",\"\",IF(F223=\"\",\"\",CONCATENATE(DIGITADOR!$M$1,G223,E223)))","v":""},"",{"$f":"IF(F223=\"\",\"\",VLOOKUP(F223,referentes!$T$2:$W$200,2,FALSE))","v":""},null,null,null,{"$f":"IF(J223=\"\",\"\",VLOOKUP(J223,'otras referencias'!$A$12:$B$15,2,FALSE))","v":""},null,null,{"$f":"IF(F223=\"\",\"\",IF(COUNTIF($F$3:F223, F223)>1, L222+1, 1))","v":""},null,null,"",null,null,null,null,null,""]
[null,{"$f":"IF(C224=\"\",\"\",IF(COUNTIF($C$3:C224, C224)>1, \"\", C224))","v":""},{"$f":"IF(G224=\"\",\"\",IF(F224=\"\",\"\",CONCATENATE(DIGITADOR!$M$1,G224,E224)))","v":""},"",{"$f":"IF(F224=\"\",\"\",VLOOKUP(F224,referentes!$T$2:$W$200,2,FALSE))","v":""},null,null,null,{"$f":"IF(J224=\"\",\"\",VLOOKUP(J224,'otras referencias'!$A$12:$B$15,2,FALSE))","v":""},null,null,{"$f":"IF(F224=\"\",\"\",IF(COUNTIF($F$3:F224, F224)>1, L223+1, 1))","v":""},null,null,"",null,null,null,null,null,""]
[null,{"$f":"IF(C225=\"\",\"\",IF(COUNTIF($C$3:C225, C225)>1, \"\", C225))","v":""},{"$f":"IF(G225=\"\",\"\",IF(F225=\"\",\"\",CONCATENATE(DIGITADOR!$M$1,G225,E225)))","v":""},"",{"$f":"IF(F225=\"\",\"\",VLOOKUP(F225,referentes!$T$2:$W$200,2,FALSE))","v":""},null,null,null,{"$f":"IF(J225=\"\",\"\",VLOOKUP(J225,'otras referencias'!$A$12:$B$15,2,FALSE))","v":""},null,null,{"$f":"IF(F225=\"\",\"\",IF(COUNTIF($F$3:F225, F225)>1, L224+1, 1))","v":""},null,null,"",null,null,null,null,null,""]
[null,{"$f":"IF(C226=\"\",\"\",IF(COUNTIF($C$3:C226, C226)>1, \"\", C226))","v":""},{"$f":"IF(G226=\"\",\"\",IF(F226=\"\",\"\",CONCATENATE(DIGITADOR!$M$1,G226,E226)))","v":""},"",{"$f":"IF(F226=\"\",\"\",VLOOKUP(F226,referentes!$T$2:$W$200,2,FALSE))","v":""},null,null,null,{"$f":"IF(J226=\"\",\"\",VLOOKUP(J226,'otras referencias'!$A$12:$B$15,2,FALSE))","v":""},null,null,{"$f":"IF(F226=\"\",\"\",IF(COUNTIF($F$3:F226, F226)>1, L225+1, 1))","v":""},null,null,"",null,null,null,null,null,""]
[null,{"$f":"IF(C227=\"\",\"\",IF(COUNTIF($C$3:C227, C227)>1, \"\", C227))","v":""},{"$f":"IF(G227=\"\",\"\",IF(F227=\"\",\"\",CONCATENATE(DIGITADOR!$M$1,G227,E227)))","v":""},"",{"$f":"IF(F227=\"\",\"\",VLOOKUP(F227,referentes!$T$2:$W$200,2,FALSE))","v":""},null,null,null,{"$f":"IF(J227=\"\",\"\",VLOOKUP(J227,'otras referencias'!$A$12:$B$15,2,FALSE))","v":""},null,null,{"$f":"IF(F227=\"\",\"\",IF(COUNTIF($F$3:F227, F227)>1, L226+1, 1))","v":""},null,null,"",null,null,null,null,null,""]
[null,{"$f":"IF(C228=\"\",\"\",IF(COUNTIF($C$3:C228, C228)>1, \"\", C228))","v":""},{"$f":"IF(G228=\"\",\"\",IF(F228=\"\",\"\",CONCATENATE(DIGITADOR!$M$1,G228,E228)))","v":""},"",{"$f":"IF(F228=\"\",\"\",VLOOKUP(F228,referentes!$T$2:$W$200,2,FALSE))","v":""},null,null,null,{"$f":"IF(J228=\"\",\"\",VLOOKUP(J228,'otras referencias'!$A$12:$B$15,2,FALSE))","v":""},null,null,{"$f":"IF(F228=\"\",\"\",IF(COUNTIF($F$3:F228, F228)>1, L227+1, 1))","v":""},null,null,"",null,null,null,null,null,""]
[null,{"$f":"IF(C229=\"\",\"\",IF(COUNTIF($C$3:C229, C229)>1, \"\", C229))","v":""},{"$f":"IF(G229=\"\",\"\",IF(F229=\"\",\"\",CONCATENATE(DIGITADOR!$M$1,G229,E229)))","v":""},"",{"$f":"IF(F229=\"\",\"\",VLOOKUP(F229,referentes!$T$2:$W$200,2,FALSE))","v":""},null,null,null,{"$f":"IF(J229=\"\",\"\",VLOOKUP(J229,'otras referencias'!$A$12:$B$15,2,FALSE))","v":""},null,null,{"$f":"IF(F229=\"\",\"\",IF(COUNTIF($F$3:F229, F229)>1, L228+1, 1))","v":""},null,null,"",null,null,null,null,null,""]
[null,{"$f":"IF(C230=\"\",\"\",IF(COUNTIF($C$3:C230, C230)>1, \"\", C230))","v":""},{"$f":"IF(G230=\"\",\"\",IF(F230=\"\",\"\",CONCATENATE(DIGITADOR!$M$1,G230,E230)))","v":""},"",{"$f":"IF(F230=\"\",\"\",VLOOKUP(F230,referentes!$T$2:$W$200,2,FALSE))","v":""},null,null,null,{"$f":"IF(J230=\"\",\"\",VLOOKUP(J230,'otras referencias'!$A$12:$B$15,2,FALSE))","v":""},null,null,{"$f":"IF(F230=\"\",\"\",IF(COUNTIF($F$3:F230, F230)>1, L229+1, 1))","v":""},null,null,"",null,null,null,null,null,""]
[null,{"$f":"IF(C231=\"\",\"\",IF(COUNTIF($C$3:C231, C231)>1, \"\", C231))","v":""},{"$f":"IF(G231=\"\",\"\",IF(F231=\"\",\"\",CONCATENATE(DIGITADOR!$M$1,G231,E231)))","v":""},"",{"$f":"IF(F231=\"\",\"\",VLOOKUP(F231,referentes!$T$2:$W$200,2,FALSE))","v":""},null,null,null,{"$f":"IF(J231=\"\",\"\",VLOOKUP(J231,'otras referencias'!$A$12:$B$15,2,FALSE))","v":""},null,null,{"$f":"IF(F231=\"\",\"\",IF(COUNTIF($F$3:F231, F231)>1, L230+1, 1))","v":""},null,null,"",null,null,null,null,null,""]
[null,{"$f":"IF(C232=\"\",\"\",IF(COUNTIF($C$3:C232, C232)>1, \"\", C232))","v":""},{"$f":"IF(G232=\"\",\"\",IF(F232=\"\",\"\",CONCATENATE(DIGITADOR!$M$1,G232,E232)))","v":""},"",{"$f":"IF(F232=\"\",\"\",VLOOKUP(F232,referentes!$T$2:$W$200,2,FALSE))","v":""},null,null,null,{"$f":"IF(J232=\"\",\"\",VLOOKUP(J232,'otras referencias'!$A$12:$B$15,2,FALSE))","v":""},null,null,{"$f":"IF(F232=\"\",\"\",IF(COUNTIF($F$3:F232, F232)>1, L231+1, 1))","v":""},null,null,"",null,null,null,null,null,""]
[null,{"$f":"IF(C233=\"\",\"\",IF(COUNTIF($C$3:C233, C233)>1, \"\", C233))","v":""},{"$f":"IF(G233=\"\",\"\",IF(F233=\"\",\"\",CONCATENATE(DIGITADOR!$M$1,G233,E233)))","v":""},"",{"$f":"IF(F233=\"\",\"\",VLOOKUP(F233,referentes!$T$2:$W$200,2,FALSE))","v":""},null,null,null,{"$f":"IF(J233=\"\",\"\",VLOOKUP(J233,'otras referencias'!$A$12:$B$15,2,FALSE))","v":""},null,null,{"$f":"IF(F233=\"\",\"\",IF(COUNTIF($F$3:F233, F233)>1, L232+1, 1))","v":""},null,null,"",null,null,null,null,null,""]
[null,{"$f":"IF(C234=\"\",\"\",IF(COUNTIF($C$3:C234, C234)>1, \"\", C234))","v":""},{"$f":"IF(G234=\"\",\"\",IF(F234=\"\",\"\",CONCATENATE(DIGITADOR!$M$1,G234,E234)))","v":""},"",{"$f":"IF(F234=\"\",\"\",VLOOKUP(F234,referentes!$T$2:$W$200,2,FALSE))","v":""},null,null,null,{"$f":"IF(J234=\"\",\"\",VLOOKUP(J234,'otras referencias'!$A$12:$B$15,2,FALSE))","v":""},null,null,{"$f":"IF(F234=\"\",\"\",IF(COUNTIF($F$3:F234, F234)>1, L233+1, 1))","v":""},null,null,"",null,null,null,null,null,""]
[null,{"$f":"IF(C235=\"\",\"\",IF(COUNTIF($C$3:C235, C235)>1, \"\", C235))","v":""},{"$f":"IF(G235=\"\",\"\",IF(F235=\"\",\"\",CONCATENATE(DIGITADOR!$M$1,G235,E235)))","v":""},"",{"$f":"IF(F235=\"\",\"\",VLOOKUP(F235,referentes!$T$2:$W$200,2,FALSE))","v":""},null,null,null,{"$f":"IF(J235=\"\",\"\",VLOOKUP(J235,'otras referencias'!$A$12:$B$15,2,FALSE))","v":""},null,null,{"$f":"IF(F235=\"\",\"\",IF(COUNTIF($F$3:F235, F235)>1, L234+1, 1))","v":""},null,null,"",null,null,null,null,null,""]
[null,{"$f":"IF(C236=\"\",\"\",IF(COUNTIF($C$3:C236, C236)>1, \"\", C236))","v":""},{"$f":"IF(G236=\"\",\"\",IF(F236=\"\",\"\",CONCATENATE(DIGITADOR!$M$1,G236,E236)))","v":""},"",{"$f":"IF(F236=\"\",\"\",VLOOKUP(F236,referentes!$T$2:$W$200,2,FALSE))","v":""},null,null,null,{"$f":"IF(J236=\"\",\"\",VLOOKUP(J236,'otras referencias'!$A$12:$B$15,2,FALSE))","v":""},null,null,{"$f":"IF(F236=\"\",\"\",IF(COUNTIF($F$3:F236, F236)>1, L235+1, 1))","v":""},null,null,"",null,null,null,null,null,""]
[null,{"$f":"IF(C237=\"\",\"\",IF(COUNTIF($C$3:C237, C237)>1, \"\", C237))","v":""},{"$f":"IF(G237=\"\",\"\",IF(F237=\"\",\"\",CONCATENATE(DIGITADOR!$M$1,G237,E237)))","v":""},"",{"$f":"IF(F237=\"\",\"\",VLOOKUP(F237,referentes!$T$2:$W$200,2,FALSE))","v":""},null,null,null,{"$f":"IF(J237=\"\",\"\",VLOOKUP(J237,'otras referencias'!$A$12:$B$15,2,FALSE))","v":""},null,null,{"$f":"IF(F237=\"\",\"\",IF(COUNTIF($F$3:F237, F237)>1, L236+1, 1))","v":""},null,null,"",null,null,null,null,null,""]
[null,{"$f":"IF(C238=\"\",\"\",IF(COUNTIF($C$3:C238, C238)>1, \"\", C238))","v":""},{"$f":"IF(G238=\"\",\"\",IF(F238=\"\",\"\",CONCATENATE(DIGITADOR!$M$1,G238,E238)))","v":""},"",{"$f":"IF(F238=\"\",\"\",VLOOKUP(F238,referentes!$T$2:$W$200,2,FALSE))","v":""},null,null,null,{"$f":"IF(J238=\"\",\"\",VLOOKUP(J238,'otras referencias'!$A$12:$B$15,2,FALSE))","v":""},null,null,{"$f":"IF(F238=\"\",\"\",IF(COUNTIF($F$3:F238, F238)>1, L237+1, 1))","v":""},null,null,"",null,null,null,null,null,""]
[null,{"$f":"IF(C239=\"\",\"\",IF(COUNTIF($C$3:C239, C239)>1, \"\", C239))","v":""},{"$f":"IF(G239=\"\",\"\",IF(F239=\"\",\"\",CONCATENATE(DIGITADOR!$M$1,G239,E239)))","v":""},"",{"$f":"IF(F239=\"\",\"\",VLOOKUP(F239,referentes!$T$2:$W$200,2,FALSE))","v":""},null,null,null,{"$f":"IF(J239=\"\",\"\",VLOOKUP(J239,'otras referencias'!$A$12:$B$15,2,FALSE))","v":""},null,null,{"$f":"IF(F239=\"\",\"\",IF(COUNTIF($F$3:F239, F239)>1, L238+1, 1))","v":""},null,null,"",null,null,null,null,null,""]
[null,{"$f":"IF(C240=\"\",\"\",IF(COUNTIF($C$3:C240, C240)>1, \"\", C240))","v":""},{"$f":"IF(G240=\"\",\"\",IF(F240=\"\",\"\",CONCATENATE(DIGITADOR!$M$1,G240,E240)))","v":""},"",{"$f":"IF(F240=\"\",\"\",VLOOKUP(F240,referentes!$T$2:$W$200,2,FALSE))","v":""},null,null,null,{"$f":"IF(J240=\"\",\"\",VLOOKUP(J240,'otras referencias'!$A$12:$B$15,2,FALSE))","v":""},null,null,{"$f":"IF(F240=\"\",\"\",IF(COUNTIF($F$3:F240, F240)>1, L239+1, 1))","v":""},null,null,"",null,null,null,null,null,""]
[null,{"$f":"IF(C241=\"\",\"\",IF(COUNTIF($C$3:C241, C241)>1, \"\", C241))","v":""},{"$f":"IF(G241=\"\",\"\",IF(F241=\"\",\"\",CONCATENATE(DIGITADOR!$M$1,G241,E241)))","v":""},"",{"$f":"IF(F241=\"\",\"\",VLOOKUP(F241,referentes!$T$2:$W$200,2,FALSE))","v":""},null,null,null,{"$f":"IF(J241=\"\",\"\",VLOOKUP(J241,'otras referencias'!$A$12:$B$15,2,FALSE))","v":""},null,null,{"$f":"IF(F241=\"\",\"\",IF(COUNTIF($F$3:F241, F241)>1, L240+1, 1))","v":""},null,null,"",null,null,null,null,null,""]
[null,{"$f":"IF(C242=\"\",\"\",IF(COUNTIF($C$3:C242, C242)>1, \"\", C242))","v":""},{"$f":"IF(G242=\"\",\"\",IF(F242=\"\",\"\",CONCATENATE(DIGITADOR!$M$1,G242,E242)))","v":""},"",{"$f":"IF(F242=\"\",\"\",VLOOKUP(F242,referentes!$T$2:$W$200,2,FALSE))","v":""},null,null,null,{"$f":"IF(J242=\"\",\"\",VLOOKUP(J242,'otras referencias'!$A$12:$B$15,2,FALSE))","v":""},null,null,{"$f":"IF(F242=\"\",\"\",IF(COUNTIF($F$3:F242, F242)>1, L241+1, 1))","v":""},null,null,"",null,null,null,null,null,""]
[null,{"$f":"IF(C243=\"\",\"\",IF(COUNTIF($C$3:C243, C243)>1, \"\", C243))","v":""},{"$f":"IF(G243=\"\",\"\",IF(F243=\"\",\"\",CONCATENATE(DIGITADOR!$M$1,G243,E243)))","v":""},"",{"$f":"IF(F243=\"\",\"\",VLOOKUP(F243,referentes!$T$2:$W$200,2,FALSE))","v":""},null,null,null,{"$f":"IF(J243=\"\",\"\",VLOOKUP(J243,'otras referencias'!$A$12:$B$15,2,FALSE))","v":""},null,null,{"$f":"IF(F243=\"\",\"\",IF(COUNTIF($F$3:F243, F243)>1, L242+1, 1))","v":""},null,null,"",null,null,null,null,null,""]
[null,{"$f":"IF(C244=\"\",\"\",IF(COUNTIF($C$3:C244, C244)>1, \"\", C244))","v":""},{"$f":"IF(G244=\"\",\"\",IF(F244=\"\",\"\",CONCATENATE(DIGITADOR!$M$1,G244,E244)))","v":""},"",{"$f":"IF(F244=\"\",\"\",VLOOKUP(F244,referentes!$T$2:$W$200,2,FALSE))","v":""},null,null,null,{"$f":"IF(J244=\"\",\"\",VLOOKUP(J244,'otras referencias'!$A$12:$B$15,2,FALSE))","v":""},null,null,{"$f":"IF(F244=\"\",\"\",IF(COUNTIF($F$3:F244, F244)>1, L243+1, 1))","v":""},null,null,"",null,null,null,null,null,""]
[null,{"$f":"IF(C245=\"\",\"\",IF(COUNTIF($C$3:C245, C245)>1, \"\", C245))","v":""},{"$f":"IF(G245=\"\",\"\",IF(F245=\"\",\"\",CONCATENATE(DIGITADOR!$M$1,G245,E245)))","v":""},"",{"$f":"IF(F245=\"\",\"\",VLOOKUP(F245,referentes!$T$2:$W$200,2,FALSE))","v":""},null,null,null,{"$f":"IF(J245=\"\",\"\",VLOOKUP(J245,'otras referencias'!$A$12:$B$15,2,FALSE))","v":""},null,null,{"$f":"IF(F245=\"\",\"\",IF(COUNTIF($F$3:F245, F245)>1, L244+1, 1))","v":""},null,null,"",null,null,null,null,null,""]
[null,{"$f":"IF(C246=\"\",\"\",IF(COUNTIF($C$3:C246, C246)>1, \"\", C246))","v":""},{"$f":"IF(G246=\"\",\"\",IF(F246=\"\",\"\",CONCATENATE(DIGITADOR!$M$1,G246,E246)))","v":""},"",{"$f":"IF(F246=\"\",\"\",VLOOKUP(F246,referentes!$T$2:$W$200,2,FALSE))","v":""},null,null,null,{"$f":"IF(J246=\"\",\"\",VLOOKUP(J246,'otras referencias'!$A$12:$B$15,2,FALSE))","v":""},null,null,{"$f":"IF(F246=\"\",\"\",IF(COUNTIF($F$3:F246, F246)>1, L245+1, 1))","v":""},null,null,"",null,null,null,null,null,""]
[null,{"$f":"IF(C247=\"\",\"\",IF(COUNTIF($C$3:C247, C247)>1, \"\", C247))","v":""},{"$f":"IF(G247=\"\",\"\",IF(F247=\"\",\"\",CONCATENATE(DIGITADOR!$M$1,G247,E247)))","v":""},"",{"$f":"IF(F247=\"\",\"\",VLOOKUP(F247,referentes!$T$2:$W$200,2,FALSE))","v":""},null,null,null,{"$f":"IF(J247=\"\",\"\",VLOOKUP(J247,'otras referencias'!$A$12:$B$15,2,FALSE))","v":""},null,null,{"$f":"IF(F247=\"\",\"\",IF(COUNTIF($F$3:F247, F247)>1, L246+1, 1))","v":""},null,null,"",null,null,null,null,null,""]
[null,{"$f":"IF(C248=\"\",\"\",IF(COUNTIF($C$3:C248, C248)>1, \"\", C248))","v":""},{"$f":"IF(G248=\"\",\"\",IF(F248=\"\",\"\",CONCATENATE(DIGITADOR!$M$1,G248,E248)))","v":""},"",{"$f":"IF(F248=\"\",\"\",VLOOKUP(F248,referentes!$T$2:$W$200,2,FALSE))","v":""},null,null,null,{"$f":"IF(J248=\"\",\"\",VLOOKUP(J248,'otras referencias'!$A$12:$B$15,2,FALSE))","v":""},null,null,{"$f":"IF(F248=\"\",\"\",IF(COUNTIF($F$3:F248, F248)>1, L247+1, 1))","v":""},null,null,"",null,null,null,null,null,""]
[null,{"$f":"IF(C249=\"\",\"\",IF(COUNTIF($C$3:C249, C249)>1, \"\", C249))","v":""},{"$f":"IF(G249=\"\",\"\",IF(F249=\"\",\"\",CONCATENATE(DIGITADOR!$M$1,G249,E249)))","v":""},"",{"$f":"IF(F249=\"\",\"\",VLOOKUP(F249,referentes!$T$2:$W$200,2,FALSE))","v":""},null,null,null,{"$f":"IF(J249=\"\",\"\",VLOOKUP(J249,'otras referencias'!$A$12:$B$15,2,FALSE))","v":""},null,null,{"$f":"IF(F249=\"\",\"\",IF(COUNTIF($F$3:F249, F249)>1, L248+1, 1))","v":""},null,null,"",null,null,null,null,null,""]
[null,{"$f":"IF(C250=\"\",\"\",IF(COUNTIF($C$3:C250, C250)>1, \"\", C250))","v":""},{"$f":"IF(G250=\"\",\"\",IF(F250=\"\",\"\",CONCATENATE(DIGITADOR!$M$1,G250,E250)))","v":""},"",{"$f":"IF(F250=\"\",\"\",VLOOKUP(F250,referentes!$T$2:$W$200,2,FALSE))","v":""},null,null,null,{"$f":"IF(J250=\"\",\"\",VLOOKUP(J250,'otras referencias'!$A$12:$B$15,2,FALSE))","v":""},null,null,{"$f":"IF(F250=\"\",\"\",IF(COUNTIF($F$3:F250, F250)>1, L249+1, 1))","v":""},null,null,"",null,null,null,null,null,""]
[null,{"$f":"IF(C251=\"\",\"\",IF(COUNTIF($C$3:C251, C251)>1, \"\", C251))","v":""},{"$f":"IF(G251=\"\",\"\",IF(F251=\"\",\"\",CONCATENATE(DIGITADOR!$M$1,G251,E251)))","v":""},"",{"$f":"IF(F251=\"\",\"\",VLOOKUP(F251,referentes!$T$2:$W$200,2,FALSE))","v":""},null,null,null,{"$f":"IF(J251=\"\",\"\",VLOOKUP(J251,'otras referencias'!$A$12:$B$15,2,FALSE))","v":""},null,null,{"$f":"IF(F251=\"\",\"\",IF(COUNTIF($F$3:F251, F251)>1, L250+1, 1))","v":""},null,null,"",null,null,null,null,null,""]
[null,{"$f":"IF(C252=\"\",\"\",IF(COUNTIF($C$3:C252, C252)>1, \"\", C252))","v":""},{"$f":"IF(G252=\"\",\"\",IF(F252=\"\",\"\",CONCATENATE(DIGITADOR!$M$1,G252,E252)))","v":""},"",{"$f":"IF(F252=\"\",\"\",VLOOKUP(F252,referentes!$T$2:$W$200,2,FALSE))","v":""},null,null,null,{"$f":"IF(J252=\"\",\"\",VLOOKUP(J252,'otras referencias'!$A$12:$B$15,2,FALSE))","v":""},null,null,{"$f":"IF(F252=\"\",\"\",IF(COUNTIF($F$3:F252, F252)>1, L251+1, 1))","v":""},null,null,"",null,null,null,null,null,""]
[null,{"$f":"IF(C253=\"\",\"\",IF(COUNTIF($C$3:C253, C253)>1, \"\", C253))","v":""},{"$f":"IF(G253=\"\",\"\",IF(F253=\"\",\"\",CONCATENATE(DIGITADOR!$M$1,G253,E253)))","v":""},"",{"$f":"IF(F253=\"\",\"\",VLOOKUP(F253,referentes!$T$2:$W$200,2,FALSE))","v":""},null,null,null,{"$f":"IF(J253=\"\",\"\",VLOOKUP(J253,'otras referencias'!$A$12:$B$15,2,FALSE))","v":""},null,null,{"$f":"IF(F253=\"\",\"\",IF(COUNTIF($F$3:F253, F253)>1, L252+1, 1))","v":""},null,null,"",null,null,null,null,null,""]
[null,{"$f":"IF(C254=\"\",\"\",IF(COUNTIF($C$3:C254, C254)>1, \"\", C254))","v":""},{"$f":"IF(G254=\"\",\"\",IF(F254=\"\",\"\",CONCATENATE(DIGITADOR!$M$1,G254,E254)))","v":""},"",{"$f":"IF(F254=\"\",\"\",VLOOKUP(F254,referentes!$T$2:$W$200,2,FALSE))","v":""},null,null,null,{"$f":"IF(J254=\"\",\"\",VLOOKUP(J254,'otras referencias'!$A$12:$B$15,2,FALSE))","v":""},null,null,{"$f":"IF(F254=\"\",\"\",IF(COUNTIF($F$3:F254, F254)>1, L253+1, 1))","v":""},null,null,"",null,null,null,null,null,""]
[null,{"$f":"IF(C255=\"\",\"\",IF(COUNTIF($C$3:C255, C255)>1, \"\", C255))","v":""},{"$f":"IF(G255=\"\",\"\",IF(F255=\"\",\"\",CONCATENATE(DIGITADOR!$M$1,G255,E255)))","v":""},"",{"$f":"IF(F255=\"\",\"\",VLOOKUP(F255,referentes!$T$2:$W$200,2,FALSE))","v":""},null,null,null,{"$f":"IF(J255=\"\",\"\",VLOOKUP(J255,'otras referencias'!$A$12:$B$15,2,FALSE))","v":""},null,null,{"$f":"IF(F255=\"\",\"\",IF(COUNTIF($F$3:F255, F255)>1, L254+1, 1))","v":""},null,null,"",null,null,null,null,null,""]
[null,{"$f":"IF(C256=\"\",\"\",IF(COUNTIF($C$3:C256, C256)>1, \"\", C256))","v":""},{"$f":"IF(G256=\"\",\"\",IF(F256=\"\",\"\",CONCATENATE(DIGITADOR!$M$1,G256,E256)))","v":""},"",{"$f":"IF(F256=\"\",\"\",VLOOKUP(F256,referentes!$T$2:$W$200,2,FALSE))","v":""},null,null,null,{"$f":"IF(J256=\"\",\"\",VLOOKUP(J256,'otras referencias'!$A$12:$B$15,2,FALSE))","v":""},null,null,{"$f":"IF(F256=\"\",\"\",IF(COUNTIF($F$3:F256, F256)>1, L255+1, 1))","v":""},null,null,"",null,null,null,null,null,""]
[null,{"$f":"IF(C257=\"\",\"\",IF(COUNTIF($C$3:C257, C257)>1, \"\", C257))","v":""},{"$f":"IF(G257=\"\",\"\",IF(F257=\"\",\"\",CONCATENATE(DIGITADOR!$M$1,G257,E257)))","v":""},"",{"$f":"IF(F257=\"\",\"\",VLOOKUP(F257,referentes!$T$2:$W$200,2,FALSE))","v":""},null,null,null,{"$f":"IF(J257=\"\",\"\",VLOOKUP(J257,'otras referencias'!$A$12:$B$15,2,FALSE))","v":""},null,null,{"$f":"IF(F257=\"\",\"\",IF(COUNTIF($F$3:F257, F257)>1, L256+1, 1))","v":""},null,null,"",null,null,null,null,null,""]
[null,{"$f":"IF(C258=\"\",\"\",IF(COUNTIF($C$3:C258, C258)>1, \"\", C258))","v":""},{"$f":"IF(G258=\"\",\"\",IF(F258=\"\",\"\",CONCATENATE(DIGITADOR!$M$1,G258,E258)))","v":""},"",{"$f":"IF(F258=\"\",\"\",VLOOKUP(F258,referentes!$T$2:$W$200,2,FALSE))","v":""},null,null,null,{"$f":"IF(J258=\"\",\"\",VLOOKUP(J258,'otras referencias'!$A$12:$B$15,2,FALSE))","v":""},null,null,{"$f":"IF(F258=\"\",\"\",IF(COUNTIF($F$3:F258, F258)>1, L257+1, 1))","v":""},null,null,"",null,null,null,null,null,""]
[null,{"$f":"IF(C259=\"\",\"\",IF(COUNTIF($C$3:C259, C259)>1, \"\", C259))","v":""},{"$f":"IF(G259=\"\",\"\",IF(F259=\"\",\"\",CONCATENATE(DIGITADOR!$M$1,G259,E259)))","v":""},"",{"$f":"IF(F259=\"\",\"\",VLOOKUP(F259,referentes!$T$2:$W$200,2,FALSE))","v":""},null,null,null,{"$f":"IF(J259=\"\",\"\",VLOOKUP(J259,'otras referencias'!$A$12:$B$15,2,FALSE))","v":""},null,null,{"$f":"IF(F259=\"\",\"\",IF(COUNTIF($F$3:F259, F259)>1, L258+1, 1))","v":""},null,null,"",null,null,null,null,null,""]
[null,{"$f":"IF(C260=\"\",\"\",IF(COUNTIF($C$3:C260, C260)>1, \"\", C260))","v":""},{"$f":"IF(G260=\"\",\"\",IF(F260=\"\",\"\",CONCATENATE(DIGITADOR!$M$1,G260,E260)))","v":""},{"$f":"IF(C260=\"\",\"\",CONCATENATE(C260,ROW()-2))","v":""},{"$f":"IF(F260=\"\",\"\",VLOOKUP(F260,referentes!$T$2:$W$200,2,FALSE))","v":""},null,null,null,{"$f":"IF(J260=\"\",\"\",VLOOKUP(J260,'otras referencias'!$A$12:$B$15,2,FALSE))","v":""},null,null,{"$f":"IF(F260=\"\",\"\",IF(COUNTIF($F$3:F260, F260)>1, L259+1, 1))","v":""},null,null,{"$f":"IF(N260=\"\", \"\", N260/100)","v":""},null,null,null,null,null,{"$f":"IF(T260=\"\",\"\",T260/1000)","v":""}]
[null,{"$f":"IF(C261=\"\",\"\",IF(COUNTIF($C$3:C261, C261)>1, \"\", C261))","v":""},{"$f":"IF(G261=\"\",\"\",IF(F261=\"\",\"\",CONCATENATE(DIGITADOR!$M$1,G261,E261)))","v":""},"",{"$f":"IF(F261=\"\",\"\",VLOOKUP(F261,referentes!$T$2:$W$200,2,FALSE))","v":""},null,null,null,{"$f":"IF(J261=\"\",\"\",VLOOKUP(J261,'otras referencias'!$A$12:$B$15,2,FALSE))","v":""},null,null,{"$f":"IF(F261=\"\",\"\",IF(COUNTIF($F$3:F261, F261)>1, L260+1, 1))","v":""},null,null,"",null,null,null,null,null,""]
[null,{"$f":"IF(C262=\"\",\"\",IF(COUNTIF($C$3:C262, C262)>1, \"\", C262))","v":""},{"$f":"IF(G262=\"\",\"\",IF(F262=\"\",\"\",CONCATENATE(DIGITADOR!$M$1,G262,E262)))","v":""},"",{"$f":"IF(F262=\"\",\"\",VLOOKUP(F262,referentes!$T$2:$W$200,2,FALSE))","v":""},null,null,null,{"$f":"IF(J262=\"\",\"\",VLOOKUP(J262,'otras referencias'!$A$12:$B$15,2,FALSE))","v":""},null,null,{"$f":"IF(F262=\"\",\"\",IF(COUNTIF($F$3:F262, F262)>1, L261+1, 1))","v":""},null,null,"",null,null,null,null,null,""]
[null,{"$f":"IF(C263=\"\",\"\",IF(COUNTIF($C$3:C263, C263)>1, \"\", C263))","v":""},{"$f":"IF(G263=\"\",\"\",IF(F263=\"\",\"\",CONCATENATE(DIGITADOR!$M$1,G263,E263)))","v":""},"",{"$f":"IF(F263=\"\",\"\",VLOOKUP(F263,referentes!$T$2:$W$200,2,FALSE))","v":""},null,null,null,{"$f":"IF(J263=\"\",\"\",VLOOKUP(J263,'otras referencias'!$A$12:$B$15,2,FALSE))","v":""},null,null,{"$f":"IF(F263=\"\",\"\",IF(COUNTIF($F$3:F263, F263)>1, L262+1, 1))","v":""},null,null,"",null,null,null,null,null,""]
[null,{"$f":"IF(C264=\"\",\"\",IF(COUNTIF($C$3:C264, C264)>1, \"\", C264))","v":""},{"$f":"IF(G264=\"\",\"\",IF(F264=\"\",\"\",CONCATENATE(DIGITADOR!$M$1,G264,E264)))","v":""},"",{"$f":"IF(F264=\"\",\"\",VLOOKUP(F264,referentes!$T$2:$W$200,2,FALSE))","v":""},null,null,null,{"$f":"IF(J264=\"\",\"\",VLOOKUP(J264,'otras referencias'!$A$12:$B$15,2,FALSE))","v":""},null,null,{"$f":"IF(F264=\"\",\"\",IF(COUNTIF($F$3:F264, F264)>1, L263+1, 1))","v":""},null,null,"",null,null,null,null,null,""]
[null,{"$f":"IF(C265=\"\",\"\",IF(COUNTIF($C$3:C265, C265)>1, \"\", C265))","v":""},{"$f":"IF(G265=\"\",\"\",IF(F265=\"\",\"\",CONCATENATE(DIGITADOR!$M$1,G265,E265)))","v":""},"",{"$f":"IF(F265=\"\",\"\",VLOOKUP(F265,referentes!$T$2:$W$200,2,FALSE))","v":""},null,null,null,{"$f":"IF(J265=\"\",\"\",VLOOKUP(J265,'otras referencias'!$A$12:$B$15,2,FALSE))","v":""},null,null,{"$f":"IF(F265=\"\",\"\",IF(COUNTIF($F$3:F265, F265)>1, L264+1, 1))","v":""},null,null,"",null,null,null,null,null,""]
[null,{"$f":"IF(C266=\"\",\"\",IF(COUNTIF($C$3:C266, C266)>1, \"\", C266))","v":""},{"$f":"IF(G266=\"\",\"\",IF(F266=\"\",\"\",CONCATENATE(DIGITADOR!$M$1,G266,E266)))","v":""},"",{"$f":"IF(F266=\"\",\"\",VLOOKUP(F266,referentes!$T$2:$W$200,2,FALSE))","v":""},null,null,null,{"$f":"IF(J266=\"\",\"\",VLOOKUP(J266,'otras referencias'!$A$12:$B$15,2,FALSE))","v":""},null,null,{"$f":"IF(F266=\"\",\"\",IF(COUNTIF($F$3:F266, F266)>1, L265+1, 1))","v":""},null,null,"",null,null,null,null,null,""]
[null,{"$f":"IF(C267=\"\",\"\",IF(COUNTIF($C$3:C267, C267)>1, \"\", C267))","v":""},{"$f":"IF(G267=\"\",\"\",IF(F267=\"\",\"\",CONCATENATE(DIGITADOR!$M$1,G267,E267)))","v":""},"",{"$f":"IF(F267=\"\",\"\",VLOOKUP(F267,referentes!$T$2:$W$200,2,FALSE))","v":""},null,null,null,{"$f":"IF(J267=\"\",\"\",VLOOKUP(J267,'otras referencias'!$A$12:$B$15,2,FALSE))","v":""},null,null,{"$f":"IF(F267=\"\",\"\",IF(COUNTIF($F$3:F267, F267)>1, L266+1, 1))","v":""},null,null,"",null,null,null,null,null,""]
[null,{"$f":"IF(C268=\"\",\"\",IF(COUNTIF($C$3:C268, C268)>1, \"\", C268))","v":""},{"$f":"IF(G268=\"\",\"\",IF(F268=\"\",\"\",CONCATENATE(DIGITADOR!$M$1,G268,E268)))","v":""},"",{"$f":"IF(F268=\"\",\"\",VLOOKUP(F268,referentes!$T$2:$W$200,2,FALSE))","v":""},null,null,null,{"$f":"IF(J268=\"\",\"\",VLOOKUP(J268,'otras referencias'!$A$12:$B$15,2,FALSE))","v":""},null,null,{"$f":"IF(F268=\"\",\"\",IF(COUNTIF($F$3:F268, F268)>1, L267+1, 1))","v":""},null,null,"",null,null,null,null,null,""]
[null,{"$f":"IF(C269=\"\",\"\",IF(COUNTIF($C$3:C269, C269)>1, \"\", C269))","v":""},{"$f":"IF(G269=\"\",\"\",IF(F269=\"\",\"\",CONCATENATE(DIGITADOR!$M$1,G269,E269)))","v":""},"",{"$f":"IF(F269=\"\",\"\",VLOOKUP(F269,referentes!$T$2:$W$200,2,FALSE))","v":""},null,null,null,{"$f":"IF(J269=\"\",\"\",VLOOKUP(J269,'otras referencias'!$A$12:$B$15,2,FALSE))","v":""},null,null,{"$f":"IF(F269=\"\",\"\",IF(COUNTIF($F$3:F269, F269)>1, L268+1, 1))","v":""},null,null,"",null,null,null,null,null,""]
[null,{"$f":"IF(C270=\"\",\"\",IF(COUNTIF($C$3:C270, C270)>1, \"\", C270))","v":""},{"$f":"IF(G270=\"\",\"\",IF(F270=\"\",\"\",CONCATENATE(DIGITADOR!$M$1,G270,E270)))","v":""},"",{"$f":"IF(F270=\"\",\"\",VLOOKUP(F270,referentes!$T$2:$W$200,2,FALSE))","v":""},null,null,null,{"$f":"IF(J270=\"\",\"\",VLOOKUP(J270,'otras referencias'!$A$12:$B$15,2,FALSE))","v":""},null,null,{"$f":"IF(F270=\"\",\"\",IF(COUNTIF($F$3:F270, F270)>1, L269+1, 1))","v":""},null,null,"",null,null,null,null,null,""]
[null,{"$f":"IF(C271=\"\",\"\",IF(COUNTIF($C$3:C271, C271)>1, \"\", C271))","v":""},{"$f":"IF(G271=\"\",\"\",IF(F271=\"\",\"\",CONCATENATE(DIGITADOR!$M$1,G271,E271)))","v":""},"",{"$f":"IF(F271=\"\",\"\",VLOOKUP(F271,referentes!$T$2:$W$200,2,FALSE))","v":""},null,null,null,{"$f":"IF(J271=\"\",\"\",VLOOKUP(J271,'otras referencias'!$A$12:$B$15,2,FALSE))","v":""},null,null,{"$f":"IF(F271=\"\",\"\",IF(COUNTIF($F$3:F271, F271)>1, L270+1, 1))","v":""},null,null,"",null,null,null,null,null,""]
[null,{"$f":"IF(C272=\"\",\"\",IF(COUNTIF($C$3:C272, C272)>1, \"\", C272))","v":""},{"$f":"IF(G272=\"\",\"\",IF(F272=\"\",\"\",CONCATENATE(DIGITADOR!$M$1,G272,E272)))","v":""},"",{"$f":"IF(F272=\"\",\"\",VLOOKUP(F272,referentes!$T$2:$W$200,2,FALSE))","v":""},null,null,null,{"$f":"IF(J272=\"\",\"\",VLOOKUP(J272,'otras referencias'!$A$12:$B$15,2,FALSE))","v":""},null,null,{"$f":"IF(F272=\"\",\"\",IF(COUNTIF($F$3:F272, F272)>1, L271+1, 1))","v":""},null,null,"",null,null,null,null,null,""]
[null,{"$f":"IF(C273=\"\",\"\",IF(COUNTIF($C$3:C273, C273)>1, \"\", C273))","v":""},{"$f":"IF(G273=\"\",\"\",IF(F273=\"\",\"\",CONCATENATE(DIGITADOR!$M$1,G273,E273)))","v":""},"",{"$f":"IF(F273=\"\",\"\",VLOOKUP(F273,referentes!$T$2:$W$200,2,FALSE))","v":""},null,null,null,{"$f":"IF(J273=\"\",\"\",VLOOKUP(J273,'otras referencias'!$A$12:$B$15,2,FALSE))","v":""},null,null,{"$f":"IF(F273=\"\",\"\",IF(COUNTIF($F$3:F273, F273)>1, L272+1, 1))","v":""},null,null,"",null,null,null,null,null,""]
[null,{"$f":"IF(C274=\"\",\"\",IF(COUNTIF($C$3:C274, C274)>1, \"\", C274))","v":""},{"$f":"IF(G274=\"\",\"\",IF(F274=\"\",\"\",CONCATENATE(DIGITADOR!$M$1,G274,E274)))","v":""},"",{"$f":"IF(F274=\"\",\"\",VLOOKUP(F274,referentes!$T$2:$W$200,2,FALSE))","v":""},null,null,null,{"$f":"IF(J274=\"\",\"\",VLOOKUP(J274,'otras referencias'!$A$12:$B$15,2,FALSE))","v":""},null,null,{"$f":"IF(F274=\"\",\"\",IF(COUNTIF($F$3:F274, F274)>1, L273+1, 1))","v":""},null,null,"",null,null,null,null,null,""]
[null,{"$f":"IF(C275=\"\",\"\",IF(COUNTIF($C$3:C275, C275)>1, \"\", C275))","v":""},{"$f":"IF(G275=\"\",\"\",IF(F275=\"\",\"\",CONCATENATE(DIGITADOR!$M$1,G275,E275)))","v":""},"",{"$f":"IF(F275=\"\",\"\",VLOOKUP(F275,referentes!$T$2:$W$200,2,FALSE))","v":""},null,null,null,{"$f":"IF(J275=\"\",\"\",VLOOKUP(J275,'otras referencias'!$A$12:$B$15,2,FALSE))","v":""},null,null,{"$f":"IF(F275=\"\",\"\",IF(COUNTIF($F$3:F275, F275)>1, L274+1, 1))","v":""},null,null,"",null,null,null,null,null,""]
[null,{"$f":"IF(C276=\"\",\"\",IF(COUNTIF($C$3:C276, C276)>1, \"\", C276))","v":""},{"$f":"IF(G276=\"\",\"\",IF(F276=\"\",\"\",CONCATENATE(DIGITADOR!$M$1,G276,E276)))","v":""},"",{"$f":"IF(F276=\"\",\"\",VLOOKUP(F276,referentes!$T$2:$W$200,2,FALSE))","v":""},null,null,null,{"$f":"IF(J276=\"\",\"\",VLOOKUP(J276,'otras referencias'!$A$12:$B$15,2,FALSE))","v":""},null,null,{"$f":"IF(F276=\"\",\"\",IF(COUNTIF($F$3:F276, F276)>1, L275+1, 1))","v":""},null,null,"",null,null,null,null,null,""]
[null,{"$f":"IF(C277=\"\",\"\",IF(COUNTIF($C$3:C277, C277)>1, \"\", C277))","v":""},{"$f":"IF(G277=\"\",\"\",IF(F277=\"\",\"\",CONCATENATE(DIGITADOR!$M$1,G277,E277)))","v":""},"",{"$f":"IF(F277=\"\",\"\",VLOOKUP(F277,referentes!$T$2:$W$200,2,FALSE))","v":""},null,null,null,{"$f":"IF(J277=\"\",\"\",VLOOKUP(J277,'otras referencias'!$A$12:$B$15,2,FALSE))","v":""},null,null,{"$f":"IF(F277=\"\",\"\",IF(COUNTIF($F$3:F277, F277)>1, L276+1, 1))","v":""},null,null,"",null,null,null,null,null,""]
[null,{"$f":"IF(C278=\"\",\"\",IF(COUNTIF($C$3:C278, C278)>1, \"\", C278))","v":""},{"$f":"IF(G278=\"\",\"\",IF(F278=\"\",\"\",CONCATENATE(DIGITADOR!$M$1,G278,E278)))","v":""},"",{"$f":"IF(F278=\"\",\"\",VLOOKUP(F278,referentes!$T$2:$W$200,2,FALSE))","v":""},null,null,null,{"$f":"IF(J278=\"\",\"\",VLOOKUP(J278,'otras referencias'!$A$12:$B$15,2,FALSE))","v":""},null,null,{"$f":"IF(F278=\"\",\"\",IF(COUNTIF($F$3:F278, F278)>1, L277+1, 1))","v":""},null,null,"",null,null,null,null,null,""]
[null,{"$f":"IF(C279=\"\",\"\",IF(COUNTIF($C$3:C279, C279)>1, \"\", C279))","v":""},{"$f":"IF(G279=\"\",\"\",IF(F279=\"\",\"\",CONCATENATE(DIGITADOR!$M$1,G279,E279)))","v":""},"",{"$f":"IF(F279=\"\",\"\",VLOOKUP(F279,referentes!$T$2:$W$200,2,FALSE))","v":""},null,null,null,{"$f":"IF(J279=\"\",\"\",VLOOKUP(J279,'otras referencias'!$A$12:$B$15,2,FALSE))","v":""},null,null,{"$f":"IF(F279=\"\",\"\",IF(COUNTIF($F$3:F279, F279)>1, L278+1, 1))","v":""},null,null,"",null,null,null,null,null,""]
[null,{"$f":"IF(C280=\"\",\"\",IF(COUNTIF($C$3:C280, C280)>1, \"\", C280))","v":""},{"$f":"IF(G280=\"\",\"\",IF(F280=\"\",\"\",CONCATENATE(DIGITADOR!$M$1,G280,E280)))","v":""},"",{"$f":"IF(F280=\"\",\"\",VLOOKUP(F280,referentes!$T$2:$W$200,2,FALSE))","v":""},null,null,null,{"$f":"IF(J280=\"\",\"\",VLOOKUP(J280,'otras referencias'!$A$12:$B$15,2,FALSE))","v":""},null,null,{"$f":"IF(F280=\"\",\"\",IF(COUNTIF($F$3:F280, F280)>1, L279+1, 1))","v":""},null,null,"",null,null,null,null,null,""]
[null,{"$f":"IF(C281=\"\",\"\",IF(COUNTIF($C$3:C281, C281)>1, \"\", C281))","v":""},{"$f":"IF(G281=\"\",\"\",IF(F281=\"\",\"\",CONCATENATE(DIGITADOR!$M$1,G281,E281)))","v":""},"",{"$f":"IF(F281=\"\",\"\",VLOOKUP(F281,referentes!$T$2:$W$200,2,FALSE))","v":""},null,null,null,{"$f":"IF(J281=\"\",\"\",VLOOKUP(J281,'otras referencias'!$A$12:$B$15,2,FALSE))","v":""},null,null,{"$f":"IF(F281=\"\",\"\",IF(COUNTIF($F$3:F281, F281)>1, L280+1, 1))","v":""},null,null,"",null,null,null,null,null,""]
[null,{"$f":"IF(C282=\"\",\"\",IF(COUNTIF($C$3:C282, C282)>1, \"\", C282))","v":""},{"$f":"IF(G282=\"\",\"\",IF(F282=\"\",\"\",CONCATENATE(DIGITADOR!$M$1,G282,E282)))","v":""},"",{"$f":"IF(F282=\"\",\"\",VLOOKUP(F282,referentes!$T$2:$W$200,2,FALSE))","v":""},null,null,null,{"$f":"IF(J282=\"\",\"\",VLOOKUP(J282,'otras referencias'!$A$12:$B$15,2,FALSE))","v":""},null,null,{"$f":"IF(F282=\"\",\"\",IF(COUNTIF($F$3:F282, F282)>1, L281+1, 1))","v":""},null,null,"",null,null,null,null,null,""]
[null,{"$f":"IF(C283=\"\",\"\",IF(COUNTIF($C$3:C283, C283)>1, \"\", C283))","v":""},{"$f":"IF(G283=\"\",\"\",IF(F283=\"\",\"\",CONCATENATE(DIGITADOR!$M$1,G283,E283)))","v":""},"",{"$f":"IF(F283=\"\",\"\",VLOOKUP(F283,referentes!$T$2:$W$200,2,FALSE))","v":""},null,null,null,{"$f":"IF(J283=\"\",\"\",VLOOKUP(J283,'otras referencias'!$A$12:$B$15,2,FALSE))","v":""},null,null,{"$f":"IF(F283=\"\",\"\",IF(COUNTIF($F$3:F283, F283)>1, L282+1, 1))","v":""},null,null,"",null,null,null,null,null,""]
[null,{"$f":"IF(C284=\"\",\"\",IF(COUNTIF($C$3:C284, C284)>1, \"\", C284))","v":""},{"$f":"IF(G284=\"\",\"\",IF(F284=\"\",\"\",CONCATENATE(DIGITADOR!$M$1,G284,E284)))","v":""},"",{"$f":"IF(F284=\"\",\"\",VLOOKUP(F284,referentes!$T$2:$W$200,2,FALSE))","v":""},null,null,null,{"$f":"IF(J284=\"\",\"\",VLOOKUP(J284,'otras referencias'!$A$12:$B$15,2,FALSE))","v":""},null,null,{"$f":"IF(F284=\"\",\"\",IF(COUNTIF($F$3:F284, F284)>1, L283+1, 1))","v":""},null,null,"",null,null,null,null,null,""]
[null,{"$f":"IF(C285=\"\",\"\",IF(COUNTIF($C$3:C285, C285)>1, \"\", C285))","v":""},{"$f":"IF(G285=\"\",\"\",IF(F285=\"\",\"\",CONCATENATE(DIGITADOR!$M$1,G285,E285)))","v":""},"",{"$f":"IF(F285=\"\",\"\",VLOOKUP(F285,referentes!$T$2:$W$200,2,FALSE))","v":""},null,null,null,{"$f":"IF(J285=\"\",\"\",VLOOKUP(J285,'otras referencias'!$A$12:$B$15,2,FALSE))","v":""},null,null,{"$f":"IF(F285=\"\",\"\",IF(COUNTIF($F$3:F285, F285)>1, L284+1, 1))","v":""},null,null,"",null,null,null,null,null,""]
[null,{"$f":"IF(C286=\"\",\"\",IF(COUNTIF($C$3:C286, C286)>1, \"\", C286))","v":""},{"$f":"IF(G286=\"\",\"\",IF(F286=\"\",\"\",CONCATENATE(DIGITADOR!$M$1,G286,E286)))","v":""},"",{"$f":"IF(F286=\"\",\"\",VLOOKUP(F286,referentes!$T$2:$W$200,2,FALSE))","v":""},null,null,null,{"$f":"IF(J286=\"\",\"\",VLOOKUP(J286,'otras referencias'!$A$12:$B$15,2,FALSE))","v":""},null,null,{"$f":"IF(F286=\"\",\"\",IF(COUNTIF($F$3:F286, F286)>1, L285+1, 1))","v":""},null,null,"",null,null,null,null,null,""]
[null,{"$f":"IF(C287=\"\",\"\",IF(COUNTIF($C$3:C287, C287)>1, \"\", C287))","v":""},{"$f":"IF(G287=\"\",\"\",IF(F287=\"\",\"\",CONCATENATE(DIGITADOR!$M$1,G287,E287)))","v":""},"",{"$f":"IF(F287=\"\",\"\",VLOOKUP(F287,referentes!$T$2:$W$200,2,FALSE))","v":""},null,null,null,{"$f":"IF(J287=\"\",\"\",VLOOKUP(J287,'otras referencias'!$A$12:$B$15,2,FALSE))","v":""},null,null,{"$f":"IF(F287=\"\",\"\",IF(COUNTIF($F$3:F287, F287)>1, L286+1, 1))","v":""},null,null,"",null,null,null,null,null,""]
[null,{"$f":"IF(C288=\"\",\"\",IF(COUNTIF($C$3:C288, C288)>1, \"\", C288))","v":""},{"$f":"IF(G288=\"\",\"\",IF(F288=\"\",\"\",CONCATENATE(DIGITADOR!$M$1,G288,E288)))","v":""},"",{"$f":"IF(F288=\"\",\"\",VLOOKUP(F288,referentes!$T$2:$W$200,2,FALSE))","v":""},null,null,null,{"$f":"IF(J288=\"\",\"\",VLOOKUP(J288,'otras referencias'!$A$12:$B$15,2,FALSE))","v":""},null,null,{"$f":"IF(F288=\"\",\"\",IF(COUNTIF($F$3:F288, F288)>1, L287+1, 1))","v":""},null,null,"",null,null,null,null,null,""]
[null,{"$f":"IF(C289=\"\",\"\",IF(COUNTIF($C$3:C289, C289)>1, \"\", C289))","v":""},{"$f":"IF(G289=\"\",\"\",IF(F289=\"\",\"\",CONCATENATE(DIGITADOR!$M$1,G289,E289)))","v":""},"",{"$f":"IF(F289=\"\",\"\",VLOOKUP(F289,referentes!$T$2:$W$200,2,FALSE))","v":""},null,null,null,{"$f":"IF(J289=\"\",\"\",VLOOKUP(J289,'otras referencias'!$A$12:$B$15,2,FALSE))","v":""},null,null,{"$f":"IF(F289=\"\",\"\",IF(COUNTIF($F$3:F289, F289)>1, L288+1, 1))","v":""},null,null,"",null,null,null,null,null,""]
[null,{"$f":"IF(C290=\"\",\"\",IF(COUNTIF($C$3:C290, C290)>1, \"\", C290))","v":""},{"$f":"IF(G290=\"\",\"\",IF(F290=\"\",\"\",CONCATENATE(DIGITADOR!$M$1,G290,E290)))","v":""},"",{"$f":"IF(F290=\"\",\"\",VLOOKUP(F290,referentes!$T$2:$W$200,2,FALSE))","v":""},null,null,null,{"$f":"IF(J290=\"\",\"\",VLOOKUP(J290,'otras referencias'!$A$12:$B$15,2,FALSE))","v":""},null,null,{"$f":"IF(F290=\"\",\"\",IF(COUNTIF($F$3:F290, F290)>1, L289+1, 1))","v":""},null,null,"",null,null,null,null,null,""]
[null,{"$f":"IF(C291=\"\",\"\",IF(COUNTIF($C$3:C291, C291)>1, \"\", C291))","v":""},{"$f":"IF(G291=\"\",\"\",IF(F291=\"\",\"\",CONCATENATE(DIGITADOR!$M$1,G291,E291)))","v":""},"",{"$f":"IF(F291=\"\",\"\",VLOOKUP(F291,referentes!$T$2:$W$200,2,FALSE))","v":""},null,null,null,{"$f":"IF(J291=\"\",\"\",VLOOKUP(J291,'otras referencias'!$A$12:$B$15,2,FALSE))","v":""},null,null,{"$f":"IF(F291=\"\",\"\",IF(COUNTIF($F$3:F291, F291)>1, L290+1, 1))","v":""},null,null,"",null,null,null,null,null,""]
[null,{"$f":"IF(C292=\"\",\"\",IF(COUNTIF($C$3:C292, C292)>1, \"\", C292))","v":""},{"$f":"IF(G292=\"\",\"\",IF(F292=\"\",\"\",CONCATENATE(DIGITADOR!$M$1,G292,E292)))","v":""},"",{"$f":"IF(F292=\"\",\"\",VLOOKUP(F292,referentes!$T$2:$W$200,2,FALSE))","v":""},null,null,null,{"$f":"IF(J292=\"\",\"\",VLOOKUP(J292,'otras referencias'!$A$12:$B$15,2,FALSE))","v":""},null,null,{"$f":"IF(F292=\"\",\"\",IF(COUNTIF($F$3:F292, F292)>1, L291+1, 1))","v":""},null,null,"",null,null,null,null,null,""]
[null,{"$f":"IF(C293=\"\",\"\",IF(COUNTIF($C$3:C293, C293)>1, \"\", C293))","v":""},{"$f":"IF(G293=\"\",\"\",IF(F293=\"\",\"\",CONCATENATE(DIGITADOR!$M$1,G293,E293)))","v":""},"",{"$f":"IF(F293=\"\",\"\",VLOOKUP(F293,referentes!$T$2:$W$200,2,FALSE))","v":""},null,null,null,{"$f":"IF(J293=\"\",\"\",VLOOKUP(J293,'otras referencias'!$A$12:$B$15,2,FALSE))","v":""},null,null,{"$f":"IF(F293=\"\",\"\",IF(COUNTIF($F$3:F293, F293)>1, L292+1, 1))","v":""},null,null,"",null,null,null,null,null,""]
[null,{"$f":"IF(C294=\"\",\"\",IF(COUNTIF($C$3:C294, C294)>1, \"\", C294))","v":""},{"$f":"IF(G294=\"\",\"\",IF(F294=\"\",\"\",CONCATENATE(DIGITADOR!$M$1,G294,E294)))","v":""},"",{"$f":"IF(F294=\"\",\"\",VLOOKUP(F294,referentes!$T$2:$W$200,2,FALSE))","v":""},null,null,null,{"$f":"IF(J294=\"\",\"\",VLOOKUP(J294,'otras referencias'!$A$12:$B$15,2,FALSE))","v":""},null,null,{"$f":"IF(F294=\"\",\"\",IF(COUNTIF($F$3:F294, F294)>1, L293+1, 1))","v":""},null,null,"",null,null,null,null,null,""]
[null,{"$f":"IF(C295=\"\",\"\",IF(COUNTIF($C$3:C295, C295)>1, \"\", C295))","v":""},{"$f":"IF(G295=\"\",\"\",IF(F295=\"\",\"\",CONCATENATE(DIGITADOR!$M$1,G295,E295)))","v":""},"",{"$f":"IF(F295=\"\",\"\",VLOOKUP(F295,referentes!$T$2:$W$200,2,FALSE))","v":""},null,null,null,{"$f":"IF(J295=\"\",\"\",VLOOKUP(J295,'otras referencias'!$A$12:$B$15,2,FALSE))","v":""},null,null,{"$f":"IF(F295=\"\",\"\",IF(COUNTIF($F$3:F295, F295)>1, L294+1, 1))","v":""},null,null,"",null,null,null,null,null,""]
[null,{"$f":"IF(C296=\"\",\"\",IF(COUNTIF($C$3:C296, C296)>1, \"\", C296))","v":""},{"$f":"IF(G296=\"\",\"\",IF(F296=\"\",\"\",CONCATENATE(DIGITADOR!$M$1,G296,E296)))","v":""},"",{"$f":"IF(F296=\"\",\"\",VLOOKUP(F296,referentes!$T$2:$W$200,2,FALSE))","v":""},null,null,null,{"$f":"IF(J296=\"\",\"\",VLOOKUP(J296,'otras referencias'!$A$12:$B$15,2,FALSE))","v":""},null,null,{"$f":"IF(F296=\"\",\"\",IF(COUNTIF($F$3:F296, F296)>1, L295+1, 1))","v":""},null,null,"",null,null,null,null,null,""]
[null,{"$f":"IF(C297=\"\",\"\",IF(COUNTIF($C$3:C297, C297)>1, \"\", C297))","v":""},{"$f":"IF(G297=\"\",\"\",IF(F297=\"\",\"\",CONCATENATE(DIGITADOR!$M$1,G297,E297)))","v":""},"",{"$f":"IF(F297=\"\",\"\",VLOOKUP(F297,referentes!$T$2:$W$200,2,FALSE))","v":""},null,null,null,{"$f":"IF(J297=\"\",\"\",VLOOKUP(J297,'otras referencias'!$A$12:$B$15,2,FALSE))","v":""},null,null,{"$f":"IF(F297=\"\",\"\",IF(COUNTIF($F$3:F297, F297)>1, L296+1, 1))","v":""},null,null,"",null,null,null,null,null,""]
[null,{"$f":"IF(C298=\"\",\"\",IF(COUNTIF($C$3:C298, C298)>1, \"\", C298))","v":""},{"$f":"IF(G298=\"\",\"\",IF(F298=\"\",\"\",CONCATENATE(DIGITADOR!$M$1,G298,E298)))","v":""},"",{"$f":"IF(F298=\"\",\"\",VLOOKUP(F298,referentes!$T$2:$W$200,2,FALSE))","v":""},null,null,null,{"$f":"IF(J298=\"\",\"\",VLOOKUP(J298,'otras referencias'!$A$12:$B$15,2,FALSE))","v":""},null,null,{"$f":"IF(F298=\"\",\"\",IF(COUNTIF($F$3:F298, F298)>1, L297+1, 1))","v":""},null,null,"",null,null,null,null,null,""]
[null,{"$f":"IF(C299=\"\",\"\",IF(COUNTIF($C$3:C299, C299)>1, \"\", C299))","v":""},{"$f":"IF(G299=\"\",\"\",IF(F299=\"\",\"\",CONCATENATE(DIGITADOR!$M$1,G299,E299)))","v":""},"",{"$f":"IF(F299=\"\",\"\",VLOOKUP(F299,referentes!$T$2:$W$200,2,FALSE))","v":""},null,null,null,{"$f":"IF(J299=\"\",\"\",VLOOKUP(J299,'otras referencias'!$A$12:$B$15,2,FALSE))","v":""},null,null,{"$f":"IF(F299=\"\",\"\",IF(COUNTIF($F$3:F299, F299)>1, L298+1, 1))","v":""},null,null,"",null,null,null,null,null,""]
[null,{"$f":"IF(C300=\"\",\"\",IF(COUNTIF($C$3:C300, C300)>1, \"\", C300))","v":""},{"$f":"IF(G300=\"\",\"\",IF(F300=\"\",\"\",CONCATENATE(DIGITADOR!$M$1,G300,E300)))","v":""},"",{"$f":"IF(F300=\"\",\"\",VLOOKUP(F300,referentes!$T$2:$W$200,2,FALSE))","v":""},null,null,null,{"$f":"IF(J300=\"\",\"\",VLOOKUP(J300,'otras referencias'!$A$12:$B$15,2,FALSE))","v":""},null,null,{"$f":"IF(F300=\"\",\"\",IF(COUNTIF($F$3:F300, F300)>1, L299+1, 1))","v":""},null,null,"",null,null,null,null,null,""]
[null,{"$f":"IF(C301=\"\",\"\",IF(COUNTIF($C$3:C301, C301)>1, \"\", C301))","v":""},{"$f":"IF(G301=\"\",\"\",IF(F301=\"\",\"\",CONCATENATE(DIGITADOR!$M$1,G301,E301)))","v":""},"",{"$f":"IF(F301=\"\",\"\",VLOOKUP(F301,referentes!$T$2:$W$200,2,FALSE))","v":""},null,null,null,{"$f":"IF(J301=\"\",\"\",VLOOKUP(J301,'otras referencias'!$A$12:$B$15,2,FALSE))","v":""},null,null,{"$f":"IF(F301=\"\",\"\",IF(COUNTIF($F$3:F301, F301)>1, L300+1, 1))","v":""},null,null,"",null,null,null,null,null,""]
[null,{"$f":"IF(C302=\"\",\"\",IF(COUNTIF($C$3:C302, C302)>1, \"\", C302))","v":""},{"$f":"IF(G302=\"\",\"\",IF(F302=\"\",\"\",CONCATENATE(DIGITADOR!$M$1,G302,E302)))","v":""},"",{"$f":"IF(F302=\"\",\"\",VLOOKUP(F302,referentes!$T$2:$W$200,2,FALSE))","v":""},null,null,null,{"$f":"IF(J302=\"\",\"\",VLOOKUP(J302,'otras referencias'!$A$12:$B$15,2,FALSE))","v":""},null,null,{"$f":"IF(F302=\"\",\"\",IF(COUNTIF($F$3:F302, F302)>1, L301+1, 1))","v":""},null,null,"",null,null,null,null,null,""]
[null,{"$f":"IF(C303=\"\",\"\",IF(COUNTIF($C$3:C303, C303)>1, \"\", C303))","v":""},{"$f":"IF(G303=\"\",\"\",IF(F303=\"\",\"\",CONCATENATE(DIGITADOR!$M$1,G303,E303)))","v":""},"",{"$f":"IF(F303=\"\",\"\",VLOOKUP(F303,referentes!$T$2:$W$200,2,FALSE))","v":""},null,null,null,{"$f":"IF(J303=\"\",\"\",VLOOKUP(J303,'otras referencias'!$A$12:$B$15,2,FALSE))","v":""},null,null,{"$f":"IF(F303=\"\",\"\",IF(COUNTIF($F$3:F303, F303)>1, L302+1, 1))","v":""},null,null,"",null,null,null,null,null,""]

{"sheet":"DATOS_GRUESOS","index":7,"n_rows":301,"n_cols":25,"rows_kept":301,"cut":false,"hidden":true,"merged":[[0,5,0,6],[0,7,0,24],[0,0,0,4]]}
[null,null,null,null,null,"MUESTREO",null,"MUESTRA"]
[{"$f":"TEXT(DIGITADOR!$B$5,\"yyyymmdd\")","v":"30001212"},"AGM MUESTREO","ID MUESTREO","ID MUESTRA","ID ESTACION","Parcela","Fecha\n(DD/MM/AAAA)","COD Tipo Fisiográfico","Tipo Fisiográfico","Transecto","Número\nMuestra","Longitud\n(m)",null,"Diámetro\n(cm)","Diámetro\n(m)","Diámetro al cuadrado (m2)","Número de golpes","Longitud de\npenetración (cm)","P (Penetración por golpe)","I (Valor de acuerdo a la penetración <1 o >1)","Volumen\n(m3)","Densidad\n(gr/cm3)","Densidad\n(kg/m3)","Necromasa\n(Kg)","Observaciones"]
[null,{"$f":"IF(C3=\"\",\"\",IF(COUNTIF($C$3:C3, C3)>1, \"\", C3))","v":""},{"$f":"IF(G3=\"\",\"\",IF(F3=\"\",\"\",CONCATENATE(2,DIGITADOR!$M$1,G3,E3)))","v":""},{"$f":"IF(C3=\"\",\"\",CONCATENATE(C3,ROW()-2))","v":""},{"$f":"IF(F3=\"\",\"\",VLOOKUP(F3,referentes!$T$2:$W$77,2,FALSE))","v":""},null,null,{"$f":"IF(I3=\"\",\"\",VLOOKUP(I3,'otras referencias'!$A$12:$B$15,2,FALSE))","v":""},null,null,null,null,null,null,{"$f":"IF(N3=\"\",\"\",N3/100)","v":""},{"$f":"IF(O3=\"\",\"\",O3^2)","v":""},null,null,{"$f":"IF(OR(Q3=\"\",R3=\"\"), IF(R3<>\"\", \"\", IF(Q3=\"\",\"\", ROUND(20/(Q3-0.5), 4))), R3/Q3)","v":""},{"$f":"IF(S3=\"\",\"\",IF(S3<1,0,1))","v":""},{"$f":"IF(OR(L3=\"\",P3=\"\"),\"\",ROUND((PI()/4)*L3*P3, 4))","v":""},{"$f":"IF(AND(S3=\"\",T3=\"\"),\"\",ROUND(IF(T3=0,0.6451-0.388*(LOG10(S3))-0.377*T3+0.3*(LOG10(S3))*T3, 0.6451-0.388*(LOG10(S3))-0.377*T3+0.3*(LOG10(S3))), 4))","v":""},{"$f":"IF(V3=\"\",\"\",ROUND((V3*1000000/1000), 4))","v":""},{"$f":"IF(OR(U3=\"\",W3=\"\"),\"\",ROUND(U3*W3,4))","v":""}]
[null,{"$f":"IF(C4=\"\",\"\",IF(COUNTIF($C$3:C4, C4)>1, \"\", C4))","v":""},{"$f":"IF(G4=\"\",\"\",IF(F4=\"\",\"\",CONCATENATE(2,DIGITADOR!$M$1,G4,E4)))","v":""},{"$f":"IF(C4=\"\",\"\",CONCATENATE(C4,ROW()-2))","v":""},{"$f":"IF(F4=\"\",\"\",VLOOKUP(F4,referentes!$T$2:$W$77,2,FALSE))","v":""},null,null,{"$f":"IF(I4=\"\",\"\",VLOOKUP(I4,'otras referencias'!$A$12:$B$15,2,FALSE))","v":""},null,null,null,null,null,null,{"$f":"IF(N4=\"\",\"\",N4/100)","v":""},{"$f":"IF(O4=\"\",\"\",O4^2)","v":""},null,null,{"$f":"IF(OR(Q4=\"\",R4=\"\"), IF(R4<>\"\", \"\", IF(Q4=\"\",\"\", ROUND(20/(Q4-0.5), 4))), R4/Q4)","v":""},{"$f":"IF(S4=\"\",\"\",IF(S4<1,0,1))","v":""},{"$f":"IF(OR(L4=\"\",P4=\"\"),\"\",ROUND((PI()/4)*L4*P4, 4))","v":""},{"$f":"IF(AND(S4=\"\",T4=\"\"),\"\",ROUND(IF(T4=0,0.6451-0.388*(LOG10(S4))-0.377*T4+0.3*(LOG10(S4))*T4, 0.6451-0.388*(LOG10(S4))-0.377*T4+0.3*(LOG10(S4))), 4))","v":""},{"$f":"IF(V4=\"\",\"\",ROUND((V4*1000000/1000), 4))","v":""},{"$f":"IF(OR(U4=\"\",W4=\"\"),\"\",ROUND(U4*W4,4))","v":""}]
[null,{"$f":"IF(C5=\"\",\"\",IF(COUNTIF($C$3:C5, C5)>1, \"\", C5))","v":""},{"$f":"IF(G5=\"\",\"\",IF(F5=\"\",\"\",CONCATENATE(2,DIGITADOR!$M$1,G5,E5)))","v":""},"",{"$f":"IF(F5=\"\",\"\",VLOOKUP(F5,referentes!$T$2:$W$77,2,FALSE))","v":""},null,null,{"$f":"IF(I5=\"\",\"\",VLOOKUP(I5,'otras referencias'!$A$12:$B$15,2,FALSE))","v":""},null,null,null,null,null,null,"",{"$f":"IF(O5=\"\",\"\",O5^2)","v":""},null,null,"",{"$f":"IF(S5=\"\",\"\",IF(S5<1,0,1))","v":""},"","","",""]
[null,{"$f":"IF(C6=\"\",\"\",IF(COUNTIF($C$3:C6, C6)>1, \"\", C6))","v":""},{"$f":"IF(G6=\"\",\"\",IF(F6=\"\",\"\",CONCATENATE(2,DIGITADOR!$M$1,G6,E6)))","v":""},"",{"$f":"IF(F6=\"\",\"\",VLOOKUP(F6,referentes!$T$2:$W$77,2,FALSE))","v":""},null,null,{"$f":"IF(I6=\"\",\"\",VLOOKUP(I6,'otras referencias'!$A$12:$B$15,2,FALSE))","v":""},null,null,null,null,null,null,"",{"$f":"IF(O6=\"\",\"\",O6^2)","v":""},null,null,"","","","","",""]
[null,{"$f":"IF(C7=\"\",\"\",IF(COUNTIF($C$3:C7, C7)>1, \"\", C7))","v":""},{"$f":"IF(G7=\"\",\"\",IF(F7=\"\",\"\",CONCATENATE(2,DIGITADOR!$M$1,G7,E7)))","v":""},"",{"$f":"IF(F7=\"\",\"\",VLOOKUP(F7,referentes!$T$2:$W$77,2,FALSE))","v":""},null,null,{"$f":"IF(I7=\"\",\"\",VLOOKUP(I7,'otras referencias'!$A$12:$B$15,2,FALSE))","v":""},null,null,null,null,null,null,"","",null,null,"","","","","",""]
[null,{"$f":"IF(C8=\"\",\"\",IF(COUNTIF($C$3:C8, C8)>1, \"\", C8))","v":""},{"$f":"IF(G8=\"\",\"\",IF(F8=\"\",\"\",CONCATENATE(2,DIGITADOR!$M$1,G8,E8)))","v":""},"",{"$f":"IF(F8=\"\",\"\",VLOOKUP(F8,referentes!$T$2:$W$77,2,FALSE))","v":""},null,null,{"$f":"IF(I8=\"\",\"\",VLOOKUP(I8,'otras referencias'!$A$12:$B$15,2,FALSE))","v":""},null,null,null,null,null,null,"","",null,null,"","","","","",""]
[null,{"$f":"IF(C9=\"\",\"\",IF(COUNTIF($C$3:C9, C9)>1, \"\", C9))","v":""},{"$f":"IF(G9=\"\",\"\",IF(F9=\"\",\"\",CONCATENATE(2,DIGITADOR!$M$1,G9,E9)))","v":""},"",{"$f":"IF(F9=\"\",\"\",VLOOKUP(F9,referentes!$T$2:$W$77,2,FALSE))","v":""},null,null,{"$f":"IF(I9=\"\",\"\",VLOOKUP(I9,'otras referencias'!$A$12:$B$15,2,FALSE))","v":""},null,null,null,null,null,null,"","",null,null,"","","","","",""]
[null,{"$f":"IF(C10=\"\",\"\",IF(COUNTIF($C$3:C10, C10)>1, \"\", C10))","v":""},{"$f":"IF(G10=\"\",\"\",IF(F10=\"\",\"\",CONCATENATE(2,DIGITADOR!$M$1,G10,E10)))","v":""},"",{"$f":"IF(F10=\"\",\"\",VLOOKUP(F10,referentes!$T$2:$W$77,2,FALSE))","v":""},null,null,{"$f":"IF(I10=\"\",\"\",VLOOKUP(I10,'otras referencias'!$A$12:$B$15,2,FALSE))","v":""},null,null,null,null,null,null,"","",null,null,"","","","","",""]
[null,{"$f":"IF(C11=\"\",\"\",IF(COUNTIF($C$3:C11, C11)>1, \"\", C11))","v":""},{"$f":"IF(G11=\"\",\"\",IF(F11=\"\",\"\",CONCATENATE(2,DIGITADOR!$M$1,G11,E11)))","v":""},"",{"$f":"IF(F11=\"\",\"\",VLOOKUP(F11,referentes!$T$2:$W$77,2,FALSE))","v":""},null,null,{"$f":"IF(I11=\"\",\"\",VLOOKUP(I11,'otras referencias'!$A$12:$B$15,2,FALSE))","v":""},null,null,null,null,null,null,"","",null,null,"","","","","",""]
[null,{"$f":"IF(C12=\"\",\"\",IF(COUNTIF($C$3:C12, C12)>1, \"\", C12))","v":""},{"$f":"IF(G12=\"\",\"\",IF(F12=\"\",\"\",CONCATENATE(2,DIGITADOR!$M$1,G12,E12)))","v":""},"",{"$f":"IF(F12=\"\",\"\",VLOOKUP(F12,referentes!$T$2:$W$77,2,FALSE))","v":""},null,null,{"$f":"IF(I12=\"\",\"\",VLOOKUP(I12,'otras referencias'!$A$12:$B$15,2,FALSE))","v":""},null,null,null,null,null,null,"","",null,null,"","","","","",""]
[null,{"$f":"IF(C13=\"\",\"\",IF(COUNTIF($C$3:C13, C13)>1, \"\", C13))","v":""},{"$f":"IF(G13=\"\",\"\",IF(F13=\"\",\"\",CONCATENATE(2,DIGITADOR!$M$1,G13,E13)))","v":""},"",{"$f":"IF(F13=\"\",\"\",VLOOKUP(F13,referentes!$T$2:$W$77,2,FALSE))","v":""},null,null,{"$f":"IF(I13=\"\",\"\",VLOOKUP(I13,'otras referencias'!$A$12:$B$15,2,FALSE))","v":""},null,null,null,null,null,null,"","",null,null,"","","","","",""]
[null,{"$f":"IF(C14=\"\",\"\",IF(COUNTIF($C$3:C14, C14)>1, \"\", C14))","v":""},{"$f":"IF(G14=\"\",\"\",IF(F14=\"\",\"\",CONCATENATE(2,DIGITADOR!$M$1,G14,E14)))","v":""},"",{"$f":"IF(F14=\"\",\"\",VLOOKUP(F14,referentes!$T$2:$W$77,2,FALSE))","v":""},null,null,{"$f":"IF(I14=\"\",\"\",VLOOKUP(I14,'otras referencias'!$A$12:$B$15,2,FALSE))","v":""},null,null,null,null,null,null,"","",null,null,"","","","","",""]
[null,{"$f":"IF(C15=\"\",\"\",IF(COUNTIF($C$3:C15, C15)>1, \"\", C15))","v":""},{"$f":"IF(G15=\"\",\"\",IF(F15=\"\",\"\",CONCATENATE(2,DIGITADOR!$M$1,G15,E15)))","v":""},"",{"$f":"IF(F15=\"\",\"\",VLOOKUP(F15,referentes!$T$2:$W$77,2,FALSE))","v":""},null,null,{"$f":"IF(I15=\"\",\"\",VLOOKUP(I15,'otras referencias'!$A$12:$B$15,2,FALSE))","v":""},null,null,null,null,null,null,"","",null,null,"","","","","",""]
[null,{"$f":"IF(C16=\"\",\"\",IF(COUNTIF($C$3:C16, C16)>1, \"\", C16))","v":""},{"$f":"IF(G16=\"\",\"\",IF(F16=\"\",\"\",CONCATENATE(2,DIGITADOR!$M$1,G16,E16)))","v":""},"",{"$f":"IF(F16=\"\",\"\",VLOOKUP(F16,referentes!$T$2:$W$77,2,FALSE))","v":""},null,null,{"$f":"IF(I16=\"\",\"\",VLOOKUP(I16,'otras referencias'!$A$12:$B$15,2,FALSE))","v":""},null,null,null,null,null,null,"","",null,null,"","","","","",""]
[null,{"$f":"IF(C17=\"\",\"\",IF(COUNTIF($C$3:C17, C17)>1, \"\", C17))","v":""},{"$f":"IF(G17=\"\",\"\",IF(F17=\"\",\"\",CONCATENATE(2,DIGITADOR!$M$1,G17,E17)))","v":""},"",{"$f":"IF(F17=\"\",\"\",VLOOKUP(F17,referentes!$T$2:$W$77,2,FALSE))","v":""},null,null,{"$f":"IF(I17=\"\",\"\",VLOOKUP(I17,'otras referencias'!$A$12:$B$15,2,FALSE))","v":""},null,null,null,null,null,null,"","",null,null,"","","","","",""]
[null,{"$f":"IF(C18=\"\",\"\",IF(COUNTIF($C$3:C18, C18)>1, \"\", C18))","v":""},{"$f":"IF(G18=\"\",\"\",IF(F18=\"\",\"\",CONCATENATE(2,DIGITADOR!$M$1,G18,E18)))","v":""},"",{"$f":"IF(F18=\"\",\"\",VLOOKUP(F18,referentes!$T$2:$W$77,2,FALSE))","v":""},null,null,{"$f":"IF(I18=\"\",\"\",VLOOKUP(I18,'otras referencias'!$A$12:$B$15,2,FALSE))","v":""},null,null,null,null,null,null,"","",null,null,"","","","","",""]
[null,{"$f":"IF(C19=\"\",\"\",IF(COUNTIF($C$3:C19, C19)>1, \"\", C19))","v":""},{"$f":"IF(G19=\"\",\"\",IF(F19=\"\",\"\",CONCATENATE(2,DIGITADOR!$M$1,G19,E19)))","v":""},"",{"$f":"IF(F19=\"\",\"\",VLOOKUP(F19,referentes!$T$2:$W$77,2,FALSE))","v":""},null,null,{"$f":"IF(I19=\"\",\"\",VLOOKUP(I19,'otras referencias'!$A$12:$B$15,2,FALSE))","v":""},null,null,null,null,null,null,"","",null,null,"","","","","",""]
[null,{"$f":"IF(C20=\"\",\"\",IF(COUNTIF($C$3:C20, C20)>1, \"\", C20))","v":""},{"$f":"IF(G20=\"\",\"\",IF(F20=\"\",\"\",CONCATENATE(2,DIGITADOR!$M$1,G20,E20)))","v":""},"",{"$f":"IF(F20=\"\",\"\",VLOOKUP(F20,referentes!$T$2:$W$77,2,FALSE))","v":""},null,null,{"$f":"IF(I20=\"\",\"\",VLOOKUP(I20,'otras referencias'!$A$12:$B$15,2,FALSE))","v":""},null,null,null,null,null,null,"","",null,null,"","","","","",""]
[null,{"$f":"IF(C21=\"\",\"\",IF(COUNTIF($C$3:C21, C21)>1, \"\", C21))","v":""},{"$f":"IF(G21=\"\",\"\",IF(F21=\"\",\"\",CONCATENATE(2,DIGITADOR!$M$1,G21,E21)))","v":""},"",{"$f":"IF(F21=\"\",\"\",VLOOKUP(F21,referentes!$T$2:$W$77,2,FALSE))","v":""},null,null,{"$f":"IF(I21=\"\",\"\",VLOOKUP(I21,'otras referencias'!$A$12:$B$15,2,FALSE))","v":""},null,null,null,null,null,null,"","",null,null,"","","","","",""]
[null,{"$f":"IF(C22=\"\",\"\",IF(COUNTIF($C$3:C22, C22)>1, \"\", C22))","v":""},{"$f":"IF(G22=\"\",\"\",IF(F22=\"\",\"\",CONCATENATE(2,DIGITADOR!$M$1,G22,E22)))","v":""},"",{"$f":"IF(F22=\"\",\"\",VLOOKUP(F22,referentes!$T$2:$W$77,2,FALSE))","v":""},null,null,{"$f":"IF(I22=\"\",\"\",VLOOKUP(I22,'otras referencias'!$A$12:$B$15,2,FALSE))","v":""},null,null,null,null,null,null,"","",null,null,"","","","","",""]
[null,{"$f":"IF(C23=\"\",\"\",IF(COUNTIF($C$3:C23, C23)>1, \"\", C23))","v":""},{"$f":"IF(G23=\"\",\"\",IF(F23=\"\",\"\",CONCATENATE(2,DIGITADOR!$M$1,G23,E23)))","v":""},"",{"$f":"IF(F23=\"\",\"\",VLOOKUP(F23,referentes!$T$2:$W$77,2,FALSE))","v":""},null,null,{"$f":"IF(I23=\"\",\"\",VLOOKUP(I23,'otras referencias'!$A$12:$B$15,2,FALSE))","v":""},null,null,null,null,null,null,"","",null,null,"","","","","",""]
[null,{"$f":"IF(C24=\"\",\"\",IF(COUNTIF($C$3:C24, C24)>1, \"\", C24))","v":""},{"$f":"IF(G24=\"\",\"\",IF(F24=\"\",\"\",CONCATENATE(2,DIGITADOR!$M$1,G24,E24)))","v":""},"",{"$f":"IF(F24=\"\",\"\",VLOOKUP(F24,referentes!$T$2:$W$77,2,FALSE))","v":""},null,null,{"$f":"IF(I24=\"\",\"\",VLOOKUP(I24,'otras referencias'!$A$12:$B$15,2,FALSE))","v":""},null,null,null,null,null,null,"","",null,null,"","","","","",""]
[null,{"$f":"IF(C25=\"\",\"\",IF(COUNTIF($C$3:C25, C25)>1, \"\", C25))","v":""},{"$f":"IF(G25=\"\",\"\",IF(F25=\"\",\"\",CONCATENATE(2,DIGITADOR!$M$1,G25,E25)))","v":""},"",{"$f":"IF(F25=\"\",\"\",VLOOKUP(F25,referentes!$T$2:$W$77,2,FALSE))","v":""},null,null,{"$f":"IF(I25=\"\",\"\",VLOOKUP(I25,'otras referencias'!$A$12:$B$15,2,FALSE))","v":""},null,null,null,null,null,null,"","",null,null,"","","","","",""]
[null,{"$f":"IF(C26=\"\",\"\",IF(COUNTIF($C$3:C26, C26)>1, \"\", C26))","v":""},{"$f":"IF(G26=\"\",\"\",IF(F26=\"\",\"\",CONCATENATE(2,DIGITADOR!$M$1,G26,E26)))","v":""},"",{"$f":"IF(F26=\"\",\"\",VLOOKUP(F26,referentes!$T$2:$W$77,2,FALSE))","v":""},null,null,{"$f":"IF(I26=\"\",\"\",VLOOKUP(I26,'otras referencias'!$A$12:$B$15,2,FALSE))","v":""},null,null,null,null,null,null,"","",null,null,"","","","","",""]
[null,{"$f":"IF(C27=\"\",\"\",IF(COUNTIF($C$3:C27, C27)>1, \"\", C27))","v":""},{"$f":"IF(G27=\"\",\"\",IF(F27=\"\",\"\",CONCATENATE(2,DIGITADOR!$M$1,G27,E27)))","v":""},"",{"$f":"IF(F27=\"\",\"\",VLOOKUP(F27,referentes!$T$2:$W$77,2,FALSE))","v":""},null,null,{"$f":"IF(I27=\"\",\"\",VLOOKUP(I27,'otras referencias'!$A$12:$B$15,2,FALSE))","v":""},null,null,null,null,null,null,"","",null,null,"","","","","",""]
[null,{"$f":"IF(C28=\"\",\"\",IF(COUNTIF($C$3:C28, C28)>1, \"\", C28))","v":""},{"$f":"IF(G28=\"\",\"\",IF(F28=\"\",\"\",CONCATENATE(2,DIGITADOR!$M$1,G28,E28)))","v":""},"",{"$f":"IF(F28=\"\",\"\",VLOOKUP(F28,referentes!$T$2:$W$77,2,FALSE))","v":""},null,null,{"$f":"IF(I28=\"\",\"\",VLOOKUP(I28,'otras referencias'!$A$12:$B$15,2,FALSE))","v":""},null,null,null,null,null,null,"","",null,null,"","","","","",""]
[null,{"$f":"IF(C29=\"\",\"\",IF(COUNTIF($C$3:C29, C29)>1, \"\", C29))","v":""},{"$f":"IF(G29=\"\",\"\",IF(F29=\"\",\"\",CONCATENATE(2,DIGITADOR!$M$1,G29,E29)))","v":""},"",{"$f":"IF(F29=\"\",\"\",VLOOKUP(F29,referentes!$T$2:$W$77,2,FALSE))","v":""},null,null,{"$f":"IF(I29=\"\",\"\",VLOOKUP(I29,'otras referencias'!$A$12:$B$15,2,FALSE))","v":""},null,null,null,null,null,null,"","",null,null,"","","","","",""]
[null,{"$f":"IF(C30=\"\",\"\",IF(COUNTIF($C$3:C30, C30)>1, \"\", C30))","v":""},{"$f":"IF(G30=\"\",\"\",IF(F30=\"\",\"\",CONCATENATE(2,DIGITADOR!$M$1,G30,E30)))","v":""},"",{"$f":"IF(F30=\"\",\"\",VLOOKUP(F30,referentes!$T$2:$W$77,2,FALSE))","v":""},null,null,{"$f":"IF(I30=\"\",\"\",VLOOKUP(I30,'otras referencias'!$A$12:$B$15,2,FALSE))","v":""},null,null,null,null,null,null,"","",null,null,"","","","","",""]
[null,{"$f":"IF(C31=\"\",\"\",IF(COUNTIF($C$3:C31, C31)>1, \"\", C31))","v":""},{"$f":"IF(G31=\"\",\"\",IF(F31=\"\",\"\",CONCATENATE(2,DIGITADOR!$M$1,G31,E31)))","v":""},"",{"$f":"IF(F31=\"\",\"\",VLOOKUP(F31,referentes!$T$2:$W$77,2,FALSE))","v":""},null,null,{"$f":"IF(I31=\"\",\"\",VLOOKUP(I31,'otras referencias'!$A$12:$B$15,2,FALSE))","v":""},null,null,null,null,null,null,"","",null,null,"","","","","",""]
[null,{"$f":"IF(C32=\"\",\"\",IF(COUNTIF($C$3:C32, C32)>1, \"\", C32))","v":""},{"$f":"IF(G32=\"\",\"\",IF(F32=\"\",\"\",CONCATENATE(2,DIGITADOR!$M$1,G32,E32)))","v":""},"",{"$f":"IF(F32=\"\",\"\",VLOOKUP(F32,referentes!$T$2:$W$77,2,FALSE))","v":""},null,null,{"$f":"IF(I32=\"\",\"\",VLOOKUP(I32,'otras referencias'!$A$12:$B$15,2,FALSE))","v":""},null,null,null,null,null,null,"","",null,null,"","","","","",""]
[null,{"$f":"IF(C33=\"\",\"\",IF(COUNTIF($C$3:C33, C33)>1, \"\", C33))","v":""},{"$f":"IF(G33=\"\",\"\",IF(F33=\"\",\"\",CONCATENATE(2,DIGITADOR!$M$1,G33,E33)))","v":""},"",{"$f":"IF(F33=\"\",\"\",VLOOKUP(F33,referentes!$T$2:$W$77,2,FALSE))","v":""},null,null,{"$f":"IF(I33=\"\",\"\",VLOOKUP(I33,'otras referencias'!$A$12:$B$15,2,FALSE))","v":""},null,null,null,null,null,null,"","",null,null,"","","","","",""]
[null,{"$f":"IF(C34=\"\",\"\",IF(COUNTIF($C$3:C34, C34)>1, \"\", C34))","v":""},{"$f":"IF(G34=\"\",\"\",IF(F34=\"\",\"\",CONCATENATE(2,DIGITADOR!$M$1,G34,E34)))","v":""},"",{"$f":"IF(F34=\"\",\"\",VLOOKUP(F34,referentes!$T$2:$W$77,2,FALSE))","v":""},null,null,{"$f":"IF(I34=\"\",\"\",VLOOKUP(I34,'otras referencias'!$A$12:$B$15,2,FALSE))","v":""},null,null,null,null,null,null,"","",null,null,"","","","","",""]
[null,{"$f":"IF(C35=\"\",\"\",IF(COUNTIF($C$3:C35, C35)>1, \"\", C35))","v":""},{"$f":"IF(G35=\"\",\"\",IF(F35=\"\",\"\",CONCATENATE(2,DIGITADOR!$M$1,G35,E35)))","v":""},"",{"$f":"IF(F35=\"\",\"\",VLOOKUP(F35,referentes!$T$2:$W$77,2,FALSE))","v":""},null,null,{"$f":"IF(I35=\"\",\"\",VLOOKUP(I35,'otras referencias'!$A$12:$B$15,2,FALSE))","v":""},null,null,null,null,null,null,"","",null,null,"","","","","",""]
[null,{"$f":"IF(C36=\"\",\"\",IF(COUNTIF($C$3:C36, C36)>1, \"\", C36))","v":""},{"$f":"IF(G36=\"\",\"\",IF(F36=\"\",\"\",CONCATENATE(2,DIGITADOR!$M$1,G36,E36)))","v":""},"",{"$f":"IF(F36=\"\",\"\",VLOOKUP(F36,referentes!$T$2:$W$77,2,FALSE))","v":""},null,null,{"$f":"IF(I36=\"\",\"\",VLOOKUP(I36,'otras referencias'!$A$12:$B$15,2,FALSE))","v":""},null,null,null,null,null,null,"","",null,null,"","","","","",""]
[null,{"$f":"IF(C37=\"\",\"\",IF(COUNTIF($C$3:C37, C37)>1, \"\", C37))","v":""},{"$f":"IF(G37=\"\",\"\",IF(F37=\"\",\"\",CONCATENATE(2,DIGITADOR!$M$1,G37,E37)))","v":""},"",{"$f":"IF(F37=\"\",\"\",VLOOKUP(F37,referentes!$T$2:$W$77,2,FALSE))","v":""},null,null,{"$f":"IF(I37=\"\",\"\",VLOOKUP(I37,'otras referencias'!$A$12:$B$15,2,FALSE))","v":""},null,null,null,null,null,null,"","",null,null,"","","","","",""]
[null,{"$f":"IF(C38=\"\",\"\",IF(COUNTIF($C$3:C38, C38)>1, \"\", C38))","v":""},{"$f":"IF(G38=\"\",\"\",IF(F38=\"\",\"\",CONCATENATE(2,DIGITADOR!$M$1,G38,E38)))","v":""},"",{"$f":"IF(F38=\"\",\"\",VLOOKUP(F38,referentes!$T$2:$W$77,2,FALSE))","v":""},null,null,{"$f":"IF(I38=\"\",\"\",VLOOKUP(I38,'otras referencias'!$A$12:$B$15,2,FALSE))","v":""},null,null,null,null,null,null,"","",null,null,"","","","","",""]
[null,{"$f":"IF(C39=\"\",\"\",IF(COUNTIF($C$3:C39, C39)>1, \"\", C39))","v":""},{"$f":"IF(G39=\"\",\"\",IF(F39=\"\",\"\",CONCATENATE(2,DIGITADOR!$M$1,G39,E39)))","v":""},"",{"$f":"IF(F39=\"\",\"\",VLOOKUP(F39,referentes!$T$2:$W$77,2,FALSE))","v":""},null,null,{"$f":"IF(I39=\"\",\"\",VLOOKUP(I39,'otras referencias'!$A$12:$B$15,2,FALSE))","v":""},null,null,null,null,null,null,"","",null,null,"","","","","",""]
[null,{"$f":"IF(C40=\"\",\"\",IF(COUNTIF($C$3:C40, C40)>1, \"\", C40))","v":""},{"$f":"IF(G40=\"\",\"\",IF(F40=\"\",\"\",CONCATENATE(2,DIGITADOR!$M$1,G40,E40)))","v":""},"",{"$f":"IF(F40=\"\",\"\",VLOOKUP(F40,referentes!$T$2:$W$77,2,FALSE))","v":""},null,null,{"$f":"IF(I40=\"\",\"\",VLOOKUP(I40,'otras referencias'!$A$12:$B$15,2,FALSE))","v":""},null,null,null,null,null,null,"","",null,null,"","","","","",""]
[null,{"$f":"IF(C41=\"\",\"\",IF(COUNTIF($C$3:C41, C41)>1, \"\", C41))","v":""},{"$f":"IF(G41=\"\",\"\",IF(F41=\"\",\"\",CONCATENATE(2,DIGITADOR!$M$1,G41,E41)))","v":""},"",{"$f":"IF(F41=\"\",\"\",VLOOKUP(F41,referentes!$T$2:$W$77,2,FALSE))","v":""},null,null,{"$f":"IF(I41=\"\",\"\",VLOOKUP(I41,'otras referencias'!$A$12:$B$15,2,FALSE))","v":""},null,null,null,null,null,null,"","",null,null,"","","","","",""]
[null,{"$f":"IF(C42=\"\",\"\",IF(COUNTIF($C$3:C42, C42)>1, \"\", C42))","v":""},{"$f":"IF(G42=\"\",\"\",IF(F42=\"\",\"\",CONCATENATE(2,DIGITADOR!$M$1,G42,E42)))","v":""},"",{"$f":"IF(F42=\"\",\"\",VLOOKUP(F42,referentes!$T$2:$W$77,2,FALSE))","v":""},null,null,{"$f":"IF(I42=\"\",\"\",VLOOKUP(I42,'otras referencias'!$A$12:$B$15,2,FALSE))","v":""},null,null,null,null,null,null,"","",null,null,"","","","","",""]
[null,{"$f":"IF(C43=\"\",\"\",IF(COUNTIF($C$3:C43, C43)>1, \"\", C43))","v":""},{"$f":"IF(G43=\"\",\"\",IF(F43=\"\",\"\",CONCATENATE(2,DIGITADOR!$M$1,G43,E43)))","v":""},"",{"$f":"IF(F43=\"\",\"\",VLOOKUP(F43,referentes!$T$2:$W$77,2,FALSE))","v":""},null,null,{"$f":"IF(I43=\"\",\"\",VLOOKUP(I43,'otras referencias'!$A$12:$B$15,2,FALSE))","v":""},null,null,null,null,null,null,"","",null,null,"","","","","",""]
[null,{"$f":"IF(C44=\"\",\"\",IF(COUNTIF($C$3:C44, C44)>1, \"\", C44))","v":""},{"$f":"IF(G44=\"\",\"\",IF(F44=\"\",\"\",CONCATENATE(2,DIGITADOR!$M$1,G44,E44)))","v":""},"",{"$f":"IF(F44=\"\",\"\",VLOOKUP(F44,referentes!$T$2:$W$77,2,FALSE))","v":""},null,null,{"$f":"IF(I44=\"\",\"\",VLOOKUP(I44,'otras referencias'!$A$12:$B$15,2,FALSE))","v":""},null,null,null,null,null,null,"","",null,null,"","","","","",""]
[null,{"$f":"IF(C45=\"\",\"\",IF(COUNTIF($C$3:C45, C45)>1, \"\", C45))","v":""},{"$f":"IF(G45=\"\",\"\",IF(F45=\"\",\"\",CONCATENATE(2,DIGITADOR!$M$1,G45,E45)))","v":""},"",{"$f":"IF(F45=\"\",\"\",VLOOKUP(F45,referentes!$T$2:$W$77,2,FALSE))","v":""},null,null,{"$f":"IF(I45=\"\",\"\",VLOOKUP(I45,'otras referencias'!$A$12:$B$15,2,FALSE))","v":""},null,null,null,null,null,null,"","",null,null,"","","","","",""]
[null,{"$f":"IF(C46=\"\",\"\",IF(COUNTIF($C$3:C46, C46)>1, \"\", C46))","v":""},{"$f":"IF(G46=\"\",\"\",IF(F46=\"\",\"\",CONCATENATE(2,DIGITADOR!$M$1,G46,E46)))","v":""},"",{"$f":"IF(F46=\"\",\"\",VLOOKUP(F46,referentes!$T$2:$W$77,2,FALSE))","v":""},null,null,{"$f":"IF(I46=\"\",\"\",VLOOKUP(I46,'otras referencias'!$A$12:$B$15,2,FALSE))","v":""},null,null,null,null,null,null,"","",null,null,"","","","","",""]
[null,{"$f":"IF(C47=\"\",\"\",IF(COUNTIF($C$3:C47, C47)>1, \"\", C47))","v":""},{"$f":"IF(G47=\"\",\"\",IF(F47=\"\",\"\",CONCATENATE(2,DIGITADOR!$M$1,G47,E47)))","v":""},"",{"$f":"IF(F47=\"\",\"\",VLOOKUP(F47,referentes!$T$2:$W$77,2,FALSE))","v":""},null,null,{"$f":"IF(I47=\"\",\"\",VLOOKUP(I47,'otras referencias'!$A$12:$B$15,2,FALSE))","v":""},null,null,null,null,null,null,"","",null,null,"","","","","",""]
[null,{"$f":"IF(C48=\"\",\"\",IF(COUNTIF($C$3:C48, C48)>1, \"\", C48))","v":""},{"$f":"IF(G48=\"\",\"\",IF(F48=\"\",\"\",CONCATENATE(2,DIGITADOR!$M$1,G48,E48)))","v":""},"",{"$f":"IF(F48=\"\",\"\",VLOOKUP(F48,referentes!$T$2:$W$77,2,FALSE))","v":""},null,null,{"$f":"IF(I48=\"\",\"\",VLOOKUP(I48,'otras referencias'!$A$12:$B$15,2,FALSE))","v":""},null,null,null,null,null,null,"","",null,null,"","","","","",""]
[null,{"$f":"IF(C49=\"\",\"\",IF(COUNTIF($C$3:C49, C49)>1, \"\", C49))","v":""},{"$f":"IF(G49=\"\",\"\",IF(F49=\"\",\"\",CONCATENATE(2,DIGITADOR!$M$1,G49,E49)))","v":""},"",{"$f":"IF(F49=\"\",\"\",VLOOKUP(F49,referentes!$T$2:$W$77,2,FALSE))","v":""},null,null,{"$f":"IF(I49=\"\",\"\",VLOOKUP(I49,'otras referencias'!$A$12:$B$15,2,FALSE))","v":""},null,null,null,null,null,null,"","",null,null,"","","","","",""]
[null,{"$f":"IF(C50=\"\",\"\",IF(COUNTIF($C$3:C50, C50)>1, \"\", C50))","v":""},{"$f":"IF(G50=\"\",\"\",IF(F50=\"\",\"\",CONCATENATE(2,DIGITADOR!$M$1,G50,E50)))","v":""},"",{"$f":"IF(F50=\"\",\"\",VLOOKUP(F50,referentes!$T$2:$W$77,2,FALSE))","v":""},null,null,{"$f":"IF(I50=\"\",\"\",VLOOKUP(I50,'otras referencias'!$A$12:$B$15,2,FALSE))","v":""},null,null,null,null,null,null,"","",null,null,"","","","","",""]
[null,{"$f":"IF(C51=\"\",\"\",IF(COUNTIF($C$3:C51, C51)>1, \"\", C51))","v":""},{"$f":"IF(G51=\"\",\"\",IF(F51=\"\",\"\",CONCATENATE(2,DIGITADOR!$M$1,G51,E51)))","v":""},"",{"$f":"IF(F51=\"\",\"\",VLOOKUP(F51,referentes!$T$2:$W$77,2,FALSE))","v":""},null,null,{"$f":"IF(I51=\"\",\"\",VLOOKUP(I51,'otras referencias'!$A$12:$B$15,2,FALSE))","v":""},null,null,null,null,null,null,"","",null,null,"","","","","",""]
[null,{"$f":"IF(C52=\"\",\"\",IF(COUNTIF($C$3:C52, C52)>1, \"\", C52))","v":""},{"$f":"IF(G52=\"\",\"\",IF(F52=\"\",\"\",CONCATENATE(2,DIGITADOR!$M$1,G52,E52)))","v":""},"",{"$f":"IF(F52=\"\",\"\",VLOOKUP(F52,referentes!$T$2:$W$77,2,FALSE))","v":""},null,null,{"$f":"IF(I52=\"\",\"\",VLOOKUP(I52,'otras referencias'!$A$12:$B$15,2,FALSE))","v":""},null,null,null,null,null,null,"","",null,null,"","","","","",""]
[null,{"$f":"IF(C53=\"\",\"\",IF(COUNTIF($C$3:C53, C53)>1, \"\", C53))","v":""},{"$f":"IF(G53=\"\",\"\",IF(F53=\"\",\"\",CONCATENATE(2,DIGITADOR!$M$1,G53,E53)))","v":""},"",{"$f":"IF(F53=\"\",\"\",VLOOKUP(F53,referentes!$T$2:$W$77,2,FALSE))","v":""},null,null,{"$f":"IF(I53=\"\",\"\",VLOOKUP(I53,'otras referencias'!$A$12:$B$15,2,FALSE))","v":""},null,null,null,null,null,null,"","",null,null,"","","","","",""]
[null,{"$f":"IF(C54=\"\",\"\",IF(COUNTIF($C$3:C54, C54)>1, \"\", C54))","v":""},{"$f":"IF(G54=\"\",\"\",IF(F54=\"\",\"\",CONCATENATE(2,DIGITADOR!$M$1,G54,E54)))","v":""},"",{"$f":"IF(F54=\"\",\"\",VLOOKUP(F54,referentes!$T$2:$W$77,2,FALSE))","v":""},null,null,{"$f":"IF(I54=\"\",\"\",VLOOKUP(I54,'otras referencias'!$A$12:$B$15,2,FALSE))","v":""},null,null,null,null,null,null,"","",null,null,"","","","","",""]
[null,{"$f":"IF(C55=\"\",\"\",IF(COUNTIF($C$3:C55, C55)>1, \"\", C55))","v":""},{"$f":"IF(G55=\"\",\"\",IF(F55=\"\",\"\",CONCATENATE(2,DIGITADOR!$M$1,G55,E55)))","v":""},"",{"$f":"IF(F55=\"\",\"\",VLOOKUP(F55,referentes!$T$2:$W$77,2,FALSE))","v":""},null,null,{"$f":"IF(I55=\"\",\"\",VLOOKUP(I55,'otras referencias'!$A$12:$B$15,2,FALSE))","v":""},null,null,null,null,null,null,"","",null,null,"","","","","",""]
[null,{"$f":"IF(C56=\"\",\"\",IF(COUNTIF($C$3:C56, C56)>1, \"\", C56))","v":""},{"$f":"IF(G56=\"\",\"\",IF(F56=\"\",\"\",CONCATENATE(2,DIGITADOR!$M$1,G56,E56)))","v":""},"",{"$f":"IF(F56=\"\",\"\",VLOOKUP(F56,referentes!$T$2:$W$77,2,FALSE))","v":""},null,null,{"$f":"IF(I56=\"\",\"\",VLOOKUP(I56,'otras referencias'!$A$12:$B$15,2,FALSE))","v":""},null,null,null,null,null,null,"","",null,null,"","","","","",""]
[null,{"$f":"IF(C57=\"\",\"\",IF(COUNTIF($C$3:C57, C57)>1, \"\", C57))","v":""},{"$f":"IF(G57=\"\",\"\",IF(F57=\"\",\"\",CONCATENATE(2,DIGITADOR!$M$1,G57,E57)))","v":""},"",{"$f":"IF(F57=\"\",\"\",VLOOKUP(F57,referentes!$T$2:$W$77,2,FALSE))","v":""},null,null,{"$f":"IF(I57=\"\",\"\",VLOOKUP(I57,'otras referencias'!$A$12:$B$15,2,FALSE))","v":""},null,null,null,null,null,null,"","",null,null,"","","","","",""]
[null,{"$f":"IF(C58=\"\",\"\",IF(COUNTIF($C$3:C58, C58)>1, \"\", C58))","v":""},{"$f":"IF(G58=\"\",\"\",IF(F58=\"\",\"\",CONCATENATE(2,DIGITADOR!$M$1,G58,E58)))","v":""},"",{"$f":"IF(F58=\"\",\"\",VLOOKUP(F58,referentes!$T$2:$W$77,2,FALSE))","v":""},null,null,{"$f":"IF(I58=\"\",\"\",VLOOKUP(I58,'otras referencias'!$A$12:$B$15,2,FALSE))","v":""},null,null,null,null,null,null,"","",null,null,"","","","","",""]
[null,{"$f":"IF(C59=\"\",\"\",IF(COUNTIF($C$3:C59, C59)>1, \"\", C59))","v":""},{"$f":"IF(G59=\"\",\"\",IF(F59=\"\",\"\",CONCATENATE(2,DIGITADOR!$M$1,G59,E59)))","v":""},"",{"$f":"IF(F59=\"\",\"\",VLOOKUP(F59,referentes!$T$2:$W$77,2,FALSE))","v":""},null,null,{"$f":"IF(I59=\"\",\"\",VLOOKUP(I59,'otras referencias'!$A$12:$B$15,2,FALSE))","v":""},null,null,null,null,null,null,"","",null,null,"","","","","",""]
[null,{"$f":"IF(C60=\"\",\"\",IF(COUNTIF($C$3:C60, C60)>1, \"\", C60))","v":""},{"$f":"IF(G60=\"\",\"\",IF(F60=\"\",\"\",CONCATENATE(2,DIGITADOR!$M$1,G60,E60)))","v":""},"",{"$f":"IF(F60=\"\",\"\",VLOOKUP(F60,referentes!$T$2:$W$77,2,FALSE))","v":""},null,null,{"$f":"IF(I60=\"\",\"\",VLOOKUP(I60,'otras referencias'!$A$12:$B$15,2,FALSE))","v":""},null,null,null,null,null,null,"","",null,null,"","","","","",""]
[null,{"$f":"IF(C61=\"\",\"\",IF(COUNTIF($C$3:C61, C61)>1, \"\", C61))","v":""},{"$f":"IF(G61=\"\",\"\",IF(F61=\"\",\"\",CONCATENATE(2,DIGITADOR!$M$1,G61,E61)))","v":""},"",{"$f":"IF(F61=\"\",\"\",VLOOKUP(F61,referentes!$T$2:$W$77,2,FALSE))","v":""},null,null,{"$f":"IF(I61=\"\",\"\",VLOOKUP(I61,'otras referencias'!$A$12:$B$15,2,FALSE))","v":""},null,null,null,null,null,null,"","",null,null,"","","","","",""]
[null,{"$f":"IF(C62=\"\",\"\",IF(COUNTIF($C$3:C62, C62)>1, \"\", C62))","v":""},{"$f":"IF(G62=\"\",\"\",IF(F62=\"\",\"\",CONCATENATE(2,DIGITADOR!$M$1,G62,E62)))","v":""},"",{"$f":"IF(F62=\"\",\"\",VLOOKUP(F62,referentes!$T$2:$W$77,2,FALSE))","v":""},null,null,{"$f":"IF(I62=\"\",\"\",VLOOKUP(I62,'otras referencias'!$A$12:$B$15,2,FALSE))","v":""},null,null,null,null,null,null,"","",null,null,"","","","","",""]
[null,{"$f":"IF(C63=\"\",\"\",IF(COUNTIF($C$3:C63, C63)>1, \"\", C63))","v":""},{"$f":"IF(G63=\"\",\"\",IF(F63=\"\",\"\",CONCATENATE(2,DIGITADOR!$M$1,G63,E63)))","v":""},"",{"$f":"IF(F63=\"\",\"\",VLOOKUP(F63,referentes!$T$2:$W$77,2,FALSE))","v":""},null,null,{"$f":"IF(I63=\"\",\"\",VLOOKUP(I63,'otras referencias'!$A$12:$B$15,2,FALSE))","v":""},null,null,null,null,null,null,"","",null,null,"","","","","",""]
[null,{"$f":"IF(C64=\"\",\"\",IF(COUNTIF($C$3:C64, C64)>1, \"\", C64))","v":""},{"$f":"IF(G64=\"\",\"\",IF(F64=\"\",\"\",CONCATENATE(2,DIGITADOR!$M$1,G64,E64)))","v":""},"",{"$f":"IF(F64=\"\",\"\",VLOOKUP(F64,referentes!$T$2:$W$77,2,FALSE))","v":""},null,null,{"$f":"IF(I64=\"\",\"\",VLOOKUP(I64,'otras referencias'!$A$12:$B$15,2,FALSE))","v":""},null,null,null,null,null,null,"","",null,null,"","","","","",""]
[null,{"$f":"IF(C65=\"\",\"\",IF(COUNTIF($C$3:C65, C65)>1, \"\", C65))","v":""},{"$f":"IF(G65=\"\",\"\",IF(F65=\"\",\"\",CONCATENATE(2,DIGITADOR!$M$1,G65,E65)))","v":""},"",{"$f":"IF(F65=\"\",\"\",VLOOKUP(F65,referentes!$T$2:$W$77,2,FALSE))","v":""},null,null,{"$f":"IF(I65=\"\",\"\",VLOOKUP(I65,'otras referencias'!$A$12:$B$15,2,FALSE))","v":""},null,null,null,null,null,null,"","",null,null,"","","","","",""]
[null,{"$f":"IF(C66=\"\",\"\",IF(COUNTIF($C$3:C66, C66)>1, \"\", C66))","v":""},{"$f":"IF(G66=\"\",\"\",IF(F66=\"\",\"\",CONCATENATE(2,DIGITADOR!$M$1,G66,E66)))","v":""},{"$f":"IF(C66=\"\",\"\",CONCATENATE(C66,ROW()-2))","v":""},{"$f":"IF(F66=\"\",\"\",VLOOKUP(F66,referentes!$T$2:$W$77,2,FALSE))","v":""},null,null,{"$f":"IF(I66=\"\",\"\",VLOOKUP(I66,'otras referencias'!$A$12:$B$15,2,FALSE))","v":""},null,null,null,null,null,null,{"$f":"IF(N66=\"\",\"\",N66/100)","v":""},{"$f":"IF(O66=\"\",\"\",O66^2)","v":""},null,null,{"$f":"IF(OR(Q66=\"\",R66=\"\"), IF(R66<>\"\", \"\", IF(Q66=\"\",\"\", ROUND(20/(Q66-0.5), 4))), R66/Q66)","v":""},{"$f":"IF(S66=\"\",\"\",IF(S66<1,0,1))","v":""},{"$f":"IF(OR(L66=\"\",P66=\"\"),\"\",ROUND((PI()/4)*L66*P66, 4))","v":""},{"$f":"IF(AND(S66=\"\",T66=\"\"),\"\",ROUND(IF(T66=0,0.6451-0.388*(LOG10(S66))-0.377*T66+0.3*(LOG10(S66))*T66, 0.6451-0.388*(LOG10(S66))-0.377*T66+0.3*(LOG10(S66))), 4))","v":""},{"$f":"IF(V66=\"\",\"\",ROUND((V66*1000000/1000), 4))","v":""},{"$f":"IF(OR(U66=\"\",W66=\"\"),\"\",ROUND(U66*W66,4))","v":""}]
[null,{"$f":"IF(C67=\"\",\"\",IF(COUNTIF($C$3:C67, C67)>1, \"\", C67))","v":""},{"$f":"IF(G67=\"\",\"\",IF(F67=\"\",\"\",CONCATENATE(2,DIGITADOR!$M$1,G67,E67)))","v":""},"",{"$f":"IF(F67=\"\",\"\",VLOOKUP(F67,referentes!$T$2:$W$77,2,FALSE))","v":""},null,null,{"$f":"IF(I67=\"\",\"\",VLOOKUP(I67,'otras referencias'!$A$12:$B$15,2,FALSE))","v":""},null,null,null,null,null,null,"","",null,null,"","","","","",""]
[null,{"$f":"IF(C68=\"\",\"\",IF(COUNTIF($C$3:C68, C68)>1, \"\", C68))","v":""},{"$f":"IF(G68=\"\",\"\",IF(F68=\"\",\"\",CONCATENATE(2,DIGITADOR!$M$1,G68,E68)))","v":""},"",{"$f":"IF(F68=\"\",\"\",VLOOKUP(F68,referentes!$T$2:$W$77,2,FALSE))","v":""},null,null,{"$f":"IF(I68=\"\",\"\",VLOOKUP(I68,'otras referencias'!$A$12:$B$15,2,FALSE))","v":""},null,null,null,null,null,null,"","",null,null,"","","","","",""]
[null,{"$f":"IF(C69=\"\",\"\",IF(COUNTIF($C$3:C69, C69)>1, \"\", C69))","v":""},{"$f":"IF(G69=\"\",\"\",IF(F69=\"\",\"\",CONCATENATE(2,DIGITADOR!$M$1,G69,E69)))","v":""},"",{"$f":"IF(F69=\"\",\"\",VLOOKUP(F69,referentes!$T$2:$W$77,2,FALSE))","v":""},null,null,{"$f":"IF(I69=\"\",\"\",VLOOKUP(I69,'otras referencias'!$A$12:$B$15,2,FALSE))","v":""},null,null,null,null,null,null,"","",null,null,"","","","","",""]
[null,{"$f":"IF(C70=\"\",\"\",IF(COUNTIF($C$3:C70, C70)>1, \"\", C70))","v":""},{"$f":"IF(G70=\"\",\"\",IF(F70=\"\",\"\",CONCATENATE(2,DIGITADOR!$M$1,G70,E70)))","v":""},"",{"$f":"IF(F70=\"\",\"\",VLOOKUP(F70,referentes!$T$2:$W$77,2,FALSE))","v":""},null,null,{"$f":"IF(I70=\"\",\"\",VLOOKUP(I70,'otras referencias'!$A$12:$B$15,2,FALSE))","v":""},null,null,null,null,null,null,"","",null,null,"","","","","",""]
[null,{"$f":"IF(C71=\"\",\"\",IF(COUNTIF($C$3:C71, C71)>1, \"\", C71))","v":""},{"$f":"IF(G71=\"\",\"\",IF(F71=\"\",\"\",CONCATENATE(2,DIGITADOR!$M$1,G71,E71)))","v":""},"",{"$f":"IF(F71=\"\",\"\",VLOOKUP(F71,referentes!$T$2:$W$77,2,FALSE))","v":""},null,null,{"$f":"IF(I71=\"\",\"\",VLOOKUP(I71,'otras referencias'!$A$12:$B$15,2,FALSE))","v":""},null,null,null,null,null,null,"","",null,null,"","","","","",""]
[null,{"$f":"IF(C72=\"\",\"\",IF(COUNTIF($C$3:C72, C72)>1, \"\", C72))","v":""},{"$f":"IF(G72=\"\",\"\",IF(F72=\"\",\"\",CONCATENATE(2,DIGITADOR!$M$1,G72,E72)))","v":""},"",{"$f":"IF(F72=\"\",\"\",VLOOKUP(F72,referentes!$T$2:$W$77,2,FALSE))","v":""},null,null,{"$f":"IF(I72=\"\",\"\",VLOOKUP(I72,'otras referencias'!$A$12:$B$15,2,FALSE))","v":""},null,null,null,null,null,null,"","",null,null,"","","","","",""]
[null,{"$f":"IF(C73=\"\",\"\",IF(COUNTIF($C$3:C73, C73)>1, \"\", C73))","v":""},{"$f":"IF(G73=\"\",\"\",IF(F73=\"\",\"\",CONCATENATE(2,DIGITADOR!$M$1,G73,E73)))","v":""},"",{"$f":"IF(F73=\"\",\"\",VLOOKUP(F73,referentes!$T$2:$W$77,2,FALSE))","v":""},null,null,{"$f":"IF(I73=\"\",\"\",VLOOKUP(I73,'otras referencias'!$A$12:$B$15,2,FALSE))","v":""},null,null,null,null,null,null,"","",null,null,"","","","","",""]
[null,{"$f":"IF(C74=\"\",\"\",IF(COUNTIF($C$3:C74, C74)>1, \"\", C74))","v":""},{"$f":"IF(G74=\"\",\"\",IF(F74=\"\",\"\",CONCATENATE(2,DIGITADOR!$M$1,G74,E74)))","v":""},"",{"$f":"IF(F74=\"\",\"\",VLOOKUP(F74,referentes!$T$2:$W$77,2,FALSE))","v":""},null,null,{"$f":"IF(I74=\"\",\"\",VLOOKUP(I74,'otras referencias'!$A$12:$B$15,2,FALSE))","v":""},null,null,null,null,null,null,"","",null,null,"","","","","",""]
[null,{"$f":"IF(C75=\"\",\"\",IF(COUNTIF($C$3:C75, C75)>1, \"\", C75))","v":""},{"$f":"IF(G75=\"\",\"\",IF(F75=\"\",\"\",CONCATENATE(2,DIGITADOR!$M$1,G75,E75)))","v":""},"",{"$f":"IF(F75=\"\",\"\",VLOOKUP(F75,referentes!$T$2:$W$77,2,FALSE))","v":""},null,null,{"$f":"IF(I75=\"\",\"\",VLOOKUP(I75,'otras referencias'!$A$12:$B$15,2,FALSE))","v":""},null,null,null,null,null,null,"","",null,null,"","","","","",""]
[null,{"$f":"IF(C76=\"\",\"\",IF(COUNTIF($C$3:C76, C76)>1, \"\", C76))","v":""},{"$f":"IF(G76=\"\",\"\",IF(F76=\"\",\"\",CONCATENATE(2,DIGITADOR!$M$1,G76,E76)))","v":""},"",{"$f":"IF(F76=\"\",\"\",VLOOKUP(F76,referentes!$T$2:$W$77,2,FALSE))","v":""},null,null,{"$f":"IF(I76=\"\",\"\",VLOOKUP(I76,'otras referencias'!$A$12:$B$15,2,FALSE))","v":""},null,null,null,null,null,null,"","",null,null,"","","","","",""]
[null,{"$f":"IF(C77=\"\",\"\",IF(COUNTIF($C$3:C77, C77)>1, \"\", C77))","v":""},{"$f":"IF(G77=\"\",\"\",IF(F77=\"\",\"\",CONCATENATE(2,DIGITADOR!$M$1,G77,E77)))","v":""},"",{"$f":"IF(F77=\"\",\"\",VLOOKUP(F77,referentes!$T$2:$W$77,2,FALSE))","v":""},null,null,{"$f":"IF(I77=\"\",\"\",VLOOKUP(I77,'otras referencias'!$A$12:$B$15,2,FALSE))","v":""},null,null,null,null,null,null,"","",null,null,"","","","","",""]
[null,{"$f":"IF(C78=\"\",\"\",IF(COUNTIF($C$3:C78, C78)>1, \"\", C78))","v":""},{"$f":"IF(G78=\"\",\"\",IF(F78=\"\",\"\",CONCATENATE(2,DIGITADOR!$M$1,G78,E78)))","v":""},"",{"$f":"IF(F78=\"\",\"\",VLOOKUP(F78,referentes!$T$2:$W$77,2,FALSE))","v":""},null,null,{"$f":"IF(I78=\"\",\"\",VLOOKUP(I78,'otras referencias'!$A$12:$B$15,2,FALSE))","v":""},null,null,null,null,null,null,"","",null,null,"","","","","",""]
[null,{"$f":"IF(C79=\"\",\"\",IF(COUNTIF($C$3:C79, C79)>1, \"\", C79))","v":""},{"$f":"IF(G79=\"\",\"\",IF(F79=\"\",\"\",CONCATENATE(2,DIGITADOR!$M$1,G79,E79)))","v":""},"",{"$f":"IF(F79=\"\",\"\",VLOOKUP(F79,referentes!$T$2:$W$77,2,FALSE))","v":""},null,null,{"$f":"IF(I79=\"\",\"\",VLOOKUP(I79,'otras referencias'!$A$12:$B$15,2,FALSE))","v":""},null,null,null,null,null,null,"","",null,null,"","","","","",""]
[null,{"$f":"IF(C80=\"\",\"\",IF(COUNTIF($C$3:C80, C80)>1, \"\", C80))","v":""},{"$f":"IF(G80=\"\",\"\",IF(F80=\"\",\"\",CONCATENATE(2,DIGITADOR!$M$1,G80,E80)))","v":""},"",{"$f":"IF(F80=\"\",\"\",VLOOKUP(F80,referentes!$T$2:$W$77,2,FALSE))","v":""},null,null,{"$f":"IF(I80=\"\",\"\",VLOOKUP(I80,'otras referencias'!$A$12:$B$15,2,FALSE))","v":""},null,null,null,null,null,null,"","",null,null,"","","","","",""]
[null,{"$f":"IF(C81=\"\",\"\",IF(COUNTIF($C$3:C81, C81)>1, \"\", C81))","v":""},{"$f":"IF(G81=\"\",\"\",IF(F81=\"\",\"\",CONCATENATE(2,DIGITADOR!$M$1,G81,E81)))","v":""},"",{"$f":"IF(F81=\"\",\"\",VLOOKUP(F81,referentes!$T$2:$W$77,2,FALSE))","v":""},null,null,{"$f":"IF(I81=\"\",\"\",VLOOKUP(I81,'otras referencias'!$A$12:$B$15,2,FALSE))","v":""},null,null,null,null,null,null,"","",null,null,"","","","","",""]
[null,{"$f":"IF(C82=\"\",\"\",IF(COUNTIF($C$3:C82, C82)>1, \"\", C82))","v":""},{"$f":"IF(G82=\"\",\"\",IF(F82=\"\",\"\",CONCATENATE(2,DIGITADOR!$M$1,G82,E82)))","v":""},"",{"$f":"IF(F82=\"\",\"\",VLOOKUP(F82,referentes!$T$2:$W$77,2,FALSE))","v":""},null,null,{"$f":"IF(I82=\"\",\"\",VLOOKUP(I82,'otras referencias'!$A$12:$B$15,2,FALSE))","v":""},null,null,null,null,null,null,"","",null,null,"","","","","",""]
[null,{"$f":"IF(C83=\"\",\"\",IF(COUNTIF($C$3:C83, C83)>1, \"\", C83))","v":""},{"$f":"IF(G83=\"\",\"\",IF(F83=\"\",\"\",CONCATENATE(2,DIGITADOR!$M$1,G83,E83)))","v":""},"",{"$f":"IF(F83=\"\",\"\",VLOOKUP(F83,referentes!$T$2:$W$77,2,FALSE))","v":""},null,null,{"$f":"IF(I83=\"\",\"\",VLOOKUP(I83,'otras referencias'!$A$12:$B$15,2,FALSE))","v":""},null,null,null,null,null,null,"","",null,null,"","","","","",""]
[null,{"$f":"IF(C84=\"\",\"\",IF(COUNTIF($C$3:C84, C84)>1, \"\", C84))","v":""},{"$f":"IF(G84=\"\",\"\",IF(F84=\"\",\"\",CONCATENATE(2,DIGITADOR!$M$1,G84,E84)))","v":""},"",{"$f":"IF(F84=\"\",\"\",VLOOKUP(F84,referentes!$T$2:$W$77,2,FALSE))","v":""},null,null,{"$f":"IF(I84=\"\",\"\",VLOOKUP(I84,'otras referencias'!$A$12:$B$15,2,FALSE))","v":""},null,null,null,null,null,null,"","",null,null,"","","","","",""]
[null,{"$f":"IF(C85=\"\",\"\",IF(COUNTIF($C$3:C85, C85)>1, \"\", C85))","v":""},{"$f":"IF(G85=\"\",\"\",IF(F85=\"\",\"\",CONCATENATE(2,DIGITADOR!$M$1,G85,E85)))","v":""},"",{"$f":"IF(F85=\"\",\"\",VLOOKUP(F85,referentes!$T$2:$W$77,2,FALSE))","v":""},null,null,{"$f":"IF(I85=\"\",\"\",VLOOKUP(I85,'otras referencias'!$A$12:$B$15,2,FALSE))","v":""},null,null,null,null,null,null,"","",null,null,"","","","","",""]
[null,{"$f":"IF(C86=\"\",\"\",IF(COUNTIF($C$3:C86, C86)>1, \"\", C86))","v":""},{"$f":"IF(G86=\"\",\"\",IF(F86=\"\",\"\",CONCATENATE(2,DIGITADOR!$M$1,G86,E86)))","v":""},"",{"$f":"IF(F86=\"\",\"\",VLOOKUP(F86,referentes!$T$2:$W$77,2,FALSE))","v":""},null,null,{"$f":"IF(I86=\"\",\"\",VLOOKUP(I86,'otras referencias'!$A$12:$B$15,2,FALSE))","v":""},null,null,null,null,null,null,"","",null,null,"","","","","",""]
[null,{"$f":"IF(C87=\"\",\"\",IF(COUNTIF($C$3:C87, C87)>1, \"\", C87))","v":""},{"$f":"IF(G87=\"\",\"\",IF(F87=\"\",\"\",CONCATENATE(2,DIGITADOR!$M$1,G87,E87)))","v":""},"",{"$f":"IF(F87=\"\",\"\",VLOOKUP(F87,referentes!$T$2:$W$77,2,FALSE))","v":""},null,null,{"$f":"IF(I87=\"\",\"\",VLOOKUP(I87,'otras referencias'!$A$12:$B$15,2,FALSE))","v":""},null,null,null,null,null,null,"","",null,null,"","","","","",""]
[null,{"$f":"IF(C88=\"\",\"\",IF(COUNTIF($C$3:C88, C88)>1, \"\", C88))","v":""},{"$f":"IF(G88=\"\",\"\",IF(F88=\"\",\"\",CONCATENATE(2,DIGITADOR!$M$1,G88,E88)))","v":""},"",{"$f":"IF(F88=\"\",\"\",VLOOKUP(F88,referentes!$T$2:$W$77,2,FALSE))","v":""},null,null,{"$f":"IF(I88=\"\",\"\",VLOOKUP(I88,'otras referencias'!$A$12:$B$15,2,FALSE))","v":""},null,null,null,null,null,null,"","",null,null,"","","","","",""]
[null,{"$f":"IF(C89=\"\",\"\",IF(COUNTIF($C$3:C89, C89)>1, \"\", C89))","v":""},{"$f":"IF(G89=\"\",\"\",IF(F89=\"\",\"\",CONCATENATE(2,DIGITADOR!$M$1,G89,E89)))","v":""},"",{"$f":"IF(F89=\"\",\"\",VLOOKUP(F89,referentes!$T$2:$W$77,2,FALSE))","v":""},null,null,{"$f":"IF(I89=\"\",\"\",VLOOKUP(I89,'otras referencias'!$A$12:$B$15,2,FALSE))","v":""},null,null,null,null,null,null,"","",null,null,"","","","","",""]
[null,{"$f":"IF(C90=\"\",\"\",IF(COUNTIF($C$3:C90, C90)>1, \"\", C90))","v":""},{"$f":"IF(G90=\"\",\"\",IF(F90=\"\",\"\",CONCATENATE(2,DIGITADOR!$M$1,G90,E90)))","v":""},"",{"$f":"IF(F90=\"\",\"\",VLOOKUP(F90,referentes!$T$2:$W$77,2,FALSE))","v":""},null,null,{"$f":"IF(I90=\"\",\"\",VLOOKUP(I90,'otras referencias'!$A$12:$B$15,2,FALSE))","v":""},null,null,null,null,null,null,"","",null,null,"","","","","",""]
[null,{"$f":"IF(C91=\"\",\"\",IF(COUNTIF($C$3:C91, C91)>1, \"\", C91))","v":""},{"$f":"IF(G91=\"\",\"\",IF(F91=\"\",\"\",CONCATENATE(2,DIGITADOR!$M$1,G91,E91)))","v":""},"",{"$f":"IF(F91=\"\",\"\",VLOOKUP(F91,referentes!$T$2:$W$77,2,FALSE))","v":""},null,null,{"$f":"IF(I91=\"\",\"\",VLOOKUP(I91,'otras referencias'!$A$12:$B$15,2,FALSE))","v":""},null,null,null,null,null,null,"","",null,null,"","","","","",""]
[null,{"$f":"IF(C92=\"\",\"\",IF(COUNTIF($C$3:C92, C92)>1, \"\", C92))","v":""},{"$f":"IF(G92=\"\",\"\",IF(F92=\"\",\"\",CONCATENATE(2,DIGITADOR!$M$1,G92,E92)))","v":""},"",{"$f":"IF(F92=\"\",\"\",VLOOKUP(F92,referentes!$T$2:$W$77,2,FALSE))","v":""},null,null,{"$f":"IF(I92=\"\",\"\",VLOOKUP(I92,'otras referencias'!$A$12:$B$15,2,FALSE))","v":""},null,null,null,null,null,null,"","",null,null,"","","","","",""]
[null,{"$f":"IF(C93=\"\",\"\",IF(COUNTIF($C$3:C93, C93)>1, \"\", C93))","v":""},{"$f":"IF(G93=\"\",\"\",IF(F93=\"\",\"\",CONCATENATE(2,DIGITADOR!$M$1,G93,E93)))","v":""},"",{"$f":"IF(F93=\"\",\"\",VLOOKUP(F93,referentes!$T$2:$W$77,2,FALSE))","v":""},null,null,{"$f":"IF(I93=\"\",\"\",VLOOKUP(I93,'otras referencias'!$A$12:$B$15,2,FALSE))","v":""},null,null,null,null,null,null,"","",null,null,"","","","","",""]
[null,{"$f":"IF(C94=\"\",\"\",IF(COUNTIF($C$3:C94, C94)>1, \"\", C94))","v":""},{"$f":"IF(G94=\"\",\"\",IF(F94=\"\",\"\",CONCATENATE(2,DIGITADOR!$M$1,G94,E94)))","v":""},"",{"$f":"IF(F94=\"\",\"\",VLOOKUP(F94,referentes!$T$2:$W$77,2,FALSE))","v":""},null,null,{"$f":"IF(I94=\"\",\"\",VLOOKUP(I94,'otras referencias'!$A$12:$B$15,2,FALSE))","v":""},null,null,null,null,null,null,"","",null,null,"","","","","",""]
[null,{"$f":"IF(C95=\"\",\"\",IF(COUNTIF($C$3:C95, C95)>1, \"\", C95))","v":""},{"$f":"IF(G95=\"\",\"\",IF(F95=\"\",\"\",CONCATENATE(2,DIGITADOR!$M$1,G95,E95)))","v":""},"",{"$f":"IF(F95=\"\",\"\",VLOOKUP(F95,referentes!$T$2:$W$77,2,FALSE))","v":""},null,null,{"$f":"IF(I95=\"\",\"\",VLOOKUP(I95,'otras referencias'!$A$12:$B$15,2,FALSE))","v":""},null,null,null,null,null,null,"","",null,null,"","","","","",""]
[null,{"$f":"IF(C96=\"\",\"\",IF(COUNTIF($C$3:C96, C96)>1, \"\", C96))","v":""},{"$f":"IF(G96=\"\",\"\",IF(F96=\"\",\"\",CONCATENATE(2,DIGITADOR!$M$1,G96,E96)))","v":""},"",{"$f":"IF(F96=\"\",\"\",VLOOKUP(F96,referentes!$T$2:$W$77,2,FALSE))","v":""},null,null,{"$f":"IF(I96=\"\",\"\",VLOOKUP(I96,'otras referencias'!$A$12:$B$15,2,FALSE))","v":""},null,null,null,null,null,null,"","",null,null,"","","","","",""]
[null,{"$f":"IF(C97=\"\",\"\",IF(COUNTIF($C$3:C97, C97)>1, \"\", C97))","v":""},{"$f":"IF(G97=\"\",\"\",IF(F97=\"\",\"\",CONCATENATE(2,DIGITADOR!$M$1,G97,E97)))","v":""},"",{"$f":"IF(F97=\"\",\"\",VLOOKUP(F97,referentes!$T$2:$W$77,2,FALSE))","v":""},null,null,{"$f":"IF(I97=\"\",\"\",VLOOKUP(I97,'otras referencias'!$A$12:$B$15,2,FALSE))","v":""},null,null,null,null,null,null,"","",null,null,"","","","","",""]
[null,{"$f":"IF(C98=\"\",\"\",IF(COUNTIF($C$3:C98, C98)>1, \"\", C98))","v":""},{"$f":"IF(G98=\"\",\"\",IF(F98=\"\",\"\",CONCATENATE(2,DIGITADOR!$M$1,G98,E98)))","v":""},"",{"$f":"IF(F98=\"\",\"\",VLOOKUP(F98,referentes!$T$2:$W$77,2,FALSE))","v":""},null,null,{"$f":"IF(I98=\"\",\"\",VLOOKUP(I98,'otras referencias'!$A$12:$B$15,2,FALSE))","v":""},null,null,null,null,null,null,"","",null,null,"","","","","",""]
[null,{"$f":"IF(C99=\"\",\"\",IF(COUNTIF($C$3:C99, C99)>1, \"\", C99))","v":""},{"$f":"IF(G99=\"\",\"\",IF(F99=\"\",\"\",CONCATENATE(2,DIGITADOR!$M$1,G99,E99)))","v":""},"",{"$f":"IF(F99=\"\",\"\",VLOOKUP(F99,referentes!$T$2:$W$77,2,FALSE))","v":""},null,null,{"$f":"IF(I99=\"\",\"\",VLOOKUP(I99,'otras referencias'!$A$12:$B$15,2,FALSE))","v":""},null,null,null,null,null,null,"","",null,null,"","","","","",""]
[null,{"$f":"IF(C100=\"\",\"\",IF(COUNTIF($C$3:C100, C100)>1, \"\", C100))","v":""},{"$f":"IF(G100=\"\",\"\",IF(F100=\"\",\"\",CONCATENATE(2,DIGITADOR!$M$1,G100,E100)))","v":""},"",{"$f":"IF(F100=\"\",\"\",VLOOKUP(F100,referentes!$T$2:$W$77,2,FALSE))","v":""},null,null,{"$f":"IF(I100=\"\",\"\",VLOOKUP(I100,'otras referencias'!$A$12:$B$15,2,FALSE))","v":""},null,null,null,null,null,null,"","",null,null,"","","","","",""]
[null,{"$f":"IF(C101=\"\",\"\",IF(COUNTIF($C$3:C101, C101)>1, \"\", C101))","v":""},{"$f":"IF(G101=\"\",\"\",IF(F101=\"\",\"\",CONCATENATE(2,DIGITADOR!$M$1,G101,E101)))","v":""},"",{"$f":"IF(F101=\"\",\"\",VLOOKUP(F101,referentes!$T$2:$W$77,2,FALSE))","v":""},null,null,{"$f":"IF(I101=\"\",\"\",VLOOKUP(I101,'otras referencias'!$A$12:$B$15,2,FALSE))","v":""},null,null,null,null,null,null,"","",null,null,"","","","","",""]
[null,{"$f":"IF(C102=\"\",\"\",IF(COUNTIF($C$3:C102, C102)>1, \"\", C102))","v":""},{"$f":"IF(G102=\"\",\"\",IF(F102=\"\",\"\",CONCATENATE(2,DIGITADOR!$M$1,G102,E102)))","v":""},"",{"$f":"IF(F102=\"\",\"\",VLOOKUP(F102,referentes!$T$2:$W$77,2,FALSE))","v":""},null,null,{"$f":"IF(I102=\"\",\"\",VLOOKUP(I102,'otras referencias'!$A$12:$B$15,2,FALSE))","v":""},null,null,null,null,null,null,"","",null,null,"","","","","",""]
[null,{"$f":"IF(C103=\"\",\"\",IF(COUNTIF($C$3:C103, C103)>1, \"\", C103))","v":""},{"$f":"IF(G103=\"\",\"\",IF(F103=\"\",\"\",CONCATENATE(2,DIGITADOR!$M$1,G103,E103)))","v":""},"",{"$f":"IF(F103=\"\",\"\",VLOOKUP(F103,referentes!$T$2:$W$77,2,FALSE))","v":""},null,null,{"$f":"IF(I103=\"\",\"\",VLOOKUP(I103,'otras referencias'!$A$12:$B$15,2,FALSE))","v":""},null,null,null,null,null,null,"","",null,null,"","","","","",""]
[null,{"$f":"IF(C104=\"\",\"\",IF(COUNTIF($C$3:C104, C104)>1, \"\", C104))","v":""},{"$f":"IF(G104=\"\",\"\",IF(F104=\"\",\"\",CONCATENATE(2,DIGITADOR!$M$1,G104,E104)))","v":""},"",{"$f":"IF(F104=\"\",\"\",VLOOKUP(F104,referentes!$T$2:$W$77,2,FALSE))","v":""},null,null,{"$f":"IF(I104=\"\",\"\",VLOOKUP(I104,'otras referencias'!$A$12:$B$15,2,FALSE))","v":""},null,null,null,null,null,null,"","",null,null,"","","","","",""]
[null,{"$f":"IF(C105=\"\",\"\",IF(COUNTIF($C$3:C105, C105)>1, \"\", C105))","v":""},{"$f":"IF(G105=\"\",\"\",IF(F105=\"\",\"\",CONCATENATE(2,DIGITADOR!$M$1,G105,E105)))","v":""},"",{"$f":"IF(F105=\"\",\"\",VLOOKUP(F105,referentes!$T$2:$W$77,2,FALSE))","v":""},null,null,{"$f":"IF(I105=\"\",\"\",VLOOKUP(I105,'otras referencias'!$A$12:$B$15,2,FALSE))","v":""},null,null,null,null,null,null,"","",null,null,"","","","","",""]
[null,{"$f":"IF(C106=\"\",\"\",IF(COUNTIF($C$3:C106, C106)>1, \"\", C106))","v":""},{"$f":"IF(G106=\"\",\"\",IF(F106=\"\",\"\",CONCATENATE(2,DIGITADOR!$M$1,G106,E106)))","v":""},"",{"$f":"IF(F106=\"\",\"\",VLOOKUP(F106,referentes!$T$2:$W$77,2,FALSE))","v":""},null,null,{"$f":"IF(I106=\"\",\"\",VLOOKUP(I106,'otras referencias'!$A$12:$B$15,2,FALSE))","v":""},null,null,null,null,null,null,"","",null,null,"","","","","",""]
[null,{"$f":"IF(C107=\"\",\"\",IF(COUNTIF($C$3:C107, C107)>1, \"\", C107))","v":""},{"$f":"IF(G107=\"\",\"\",IF(F107=\"\",\"\",CONCATENATE(2,DIGITADOR!$M$1,G107,E107)))","v":""},"",{"$f":"IF(F107=\"\",\"\",VLOOKUP(F107,referentes!$T$2:$W$77,2,FALSE))","v":""},null,null,{"$f":"IF(I107=\"\",\"\",VLOOKUP(I107,'otras referencias'!$A$12:$B$15,2,FALSE))","v":""},null,null,null,null,null,null,"","",null,null,"","","","","",""]
[null,{"$f":"IF(C108=\"\",\"\",IF(COUNTIF($C$3:C108, C108)>1, \"\", C108))","v":""},{"$f":"IF(G108=\"\",\"\",IF(F108=\"\",\"\",CONCATENATE(2,DIGITADOR!$M$1,G108,E108)))","v":""},"",{"$f":"IF(F108=\"\",\"\",VLOOKUP(F108,referentes!$T$2:$W$77,2,FALSE))","v":""},null,null,{"$f":"IF(I108=\"\",\"\",VLOOKUP(I108,'otras referencias'!$A$12:$B$15,2,FALSE))","v":""},null,null,null,null,null,null,"","",null,null,"","","","","",""]
[null,{"$f":"IF(C109=\"\",\"\",IF(COUNTIF($C$3:C109, C109)>1, \"\", C109))","v":""},{"$f":"IF(G109=\"\",\"\",IF(F109=\"\",\"\",CONCATENATE(2,DIGITADOR!$M$1,G109,E109)))","v":""},"",{"$f":"IF(F109=\"\",\"\",VLOOKUP(F109,referentes!$T$2:$W$77,2,FALSE))","v":""},null,null,{"$f":"IF(I109=\"\",\"\",VLOOKUP(I109,'otras referencias'!$A$12:$B$15,2,FALSE))","v":""},null,null,null,null,null,null,"","",null,null,"","","","","",""]
[null,{"$f":"IF(C110=\"\",\"\",IF(COUNTIF($C$3:C110, C110)>1, \"\", C110))","v":""},{"$f":"IF(G110=\"\",\"\",IF(F110=\"\",\"\",CONCATENATE(2,DIGITADOR!$M$1,G110,E110)))","v":""},"",{"$f":"IF(F110=\"\",\"\",VLOOKUP(F110,referentes!$T$2:$W$77,2,FALSE))","v":""},null,null,{"$f":"IF(I110=\"\",\"\",VLOOKUP(I110,'otras referencias'!$A$12:$B$15,2,FALSE))","v":""},null,null,null,null,null,null,"","",null,null,"","","","","",""]
[null,{"$f":"IF(C111=\"\",\"\",IF(COUNTIF($C$3:C111, C111)>1, \"\", C111))","v":""},{"$f":"IF(G111=\"\",\"\",IF(F111=\"\",\"\",CONCATENATE(2,DIGITADOR!$M$1,G111,E111)))","v":""},"",{"$f":"IF(F111=\"\",\"\",VLOOKUP(F111,referentes!$T$2:$W$77,2,FALSE))","v":""},null,null,{"$f":"IF(I111=\"\",\"\",VLOOKUP(I111,'otras referencias'!$A$12:$B$15,2,FALSE))","v":""},null,null,null,null,null,null,"","",null,null,"","","","","",""]
[null,{"$f":"IF(C112=\"\",\"\",IF(COUNTIF($C$3:C112, C112)>1, \"\", C112))","v":""},{"$f":"IF(G112=\"\",\"\",IF(F112=\"\",\"\",CONCATENATE(2,DIGITADOR!$M$1,G112,E112)))","v":""},"",{"$f":"IF(F112=\"\",\"\",VLOOKUP(F112,referentes!$T$2:$W$77,2,FALSE))","v":""},null,null,{"$f":"IF(I112=\"\",\"\",VLOOKUP(I112,'otras referencias'!$A$12:$B$15,2,FALSE))","v":""},null,null,null,null,null,null,"","",null,null,"","","","","",""]
[null,{"$f":"IF(C113=\"\",\"\",IF(COUNTIF($C$3:C113, C113)>1, \"\", C113))","v":""},{"$f":"IF(G113=\"\",\"\",IF(F113=\"\",\"\",CONCATENATE(2,DIGITADOR!$M$1,G113,E113)))","v":""},"",{"$f":"IF(F113=\"\",\"\",VLOOKUP(F113,referentes!$T$2:$W$77,2,FALSE))","v":""},null,null,{"$f":"IF(I113=\"\",\"\",VLOOKUP(I113,'otras referencias'!$A$12:$B$15,2,FALSE))","v":""},null,null,null,null,null,null,"","",null,null,"","","","","",""]
[null,{"$f":"IF(C114=\"\",\"\",IF(COUNTIF($C$3:C114, C114)>1, \"\", C114))","v":""},{"$f":"IF(G114=\"\",\"\",IF(F114=\"\",\"\",CONCATENATE(2,DIGITADOR!$M$1,G114,E114)))","v":""},"",{"$f":"IF(F114=\"\",\"\",VLOOKUP(F114,referentes!$T$2:$W$77,2,FALSE))","v":""},null,null,{"$f":"IF(I114=\"\",\"\",VLOOKUP(I114,'otras referencias'!$A$12:$B$15,2,FALSE))","v":""},null,null,null,null,null,null,"","",null,null,"","","","","",""]
[null,{"$f":"IF(C115=\"\",\"\",IF(COUNTIF($C$3:C115, C115)>1, \"\", C115))","v":""},{"$f":"IF(G115=\"\",\"\",IF(F115=\"\",\"\",CONCATENATE(2,DIGITADOR!$M$1,G115,E115)))","v":""},"",{"$f":"IF(F115=\"\",\"\",VLOOKUP(F115,referentes!$T$2:$W$77,2,FALSE))","v":""},null,null,{"$f":"IF(I115=\"\",\"\",VLOOKUP(I115,'otras referencias'!$A$12:$B$15,2,FALSE))","v":""},null,null,null,null,null,null,"","",null,null,"","","","","",""]
[null,{"$f":"IF(C116=\"\",\"\",IF(COUNTIF($C$3:C116, C116)>1, \"\", C116))","v":""},{"$f":"IF(G116=\"\",\"\",IF(F116=\"\",\"\",CONCATENATE(2,DIGITADOR!$M$1,G116,E116)))","v":""},"",{"$f":"IF(F116=\"\",\"\",VLOOKUP(F116,referentes!$T$2:$W$77,2,FALSE))","v":""},null,null,{"$f":"IF(I116=\"\",\"\",VLOOKUP(I116,'otras referencias'!$A$12:$B$15,2,FALSE))","v":""},null,null,null,null,null,null,"","",null,null,"","","","","",""]
[null,{"$f":"IF(C117=\"\",\"\",IF(COUNTIF($C$3:C117, C117)>1, \"\", C117))","v":""},{"$f":"IF(G117=\"\",\"\",IF(F117=\"\",\"\",CONCATENATE(2,DIGITADOR!$M$1,G117,E117)))","v":""},"",{"$f":"IF(F117=\"\",\"\",VLOOKUP(F117,referentes!$T$2:$W$77,2,FALSE))","v":""},null,null,{"$f":"IF(I117=\"\",\"\",VLOOKUP(I117,'otras referencias'!$A$12:$B$15,2,FALSE))","v":""},null,null,null,null,null,null,"","",null,null,"","","","","",""]
[null,{"$f":"IF(C118=\"\",\"\",IF(COUNTIF($C$3:C118, C118)>1, \"\", C118))","v":""},{"$f":"IF(G118=\"\",\"\",IF(F118=\"\",\"\",CONCATENATE(2,DIGITADOR!$M$1,G118,E118)))","v":""},"",{"$f":"IF(F118=\"\",\"\",VLOOKUP(F118,referentes!$T$2:$W$77,2,FALSE))","v":""},null,null,{"$f":"IF(I118=\"\",\"\",VLOOKUP(I118,'otras referencias'!$A$12:$B$15,2,FALSE))","v":""},null,null,null,null,null,null,"","",null,null,"","","","","",""]
[null,{"$f":"IF(C119=\"\",\"\",IF(COUNTIF($C$3:C119, C119)>1, \"\", C119))","v":""},{"$f":"IF(G119=\"\",\"\",IF(F119=\"\",\"\",CONCATENATE(2,DIGITADOR!$M$1,G119,E119)))","v":""},"",{"$f":"IF(F119=\"\",\"\",VLOOKUP(F119,referentes!$T$2:$W$77,2,FALSE))","v":""},null,null,{"$f":"IF(I119=\"\",\"\",VLOOKUP(I119,'otras referencias'!$A$12:$B$15,2,FALSE))","v":""},null,null,null,null,null,null,"","",null,null,"","","","","",""]
[null,{"$f":"IF(C120=\"\",\"\",IF(COUNTIF($C$3:C120, C120)>1, \"\", C120))","v":""},{"$f":"IF(G120=\"\",\"\",IF(F120=\"\",\"\",CONCATENATE(2,DIGITADOR!$M$1,G120,E120)))","v":""},"",{"$f":"IF(F120=\"\",\"\",VLOOKUP(F120,referentes!$T$2:$W$77,2,FALSE))","v":""},null,null,{"$f":"IF(I120=\"\",\"\",VLOOKUP(I120,'otras referencias'!$A$12:$B$15,2,FALSE))","v":""},null,null,null,null,null,null,"","",null,null,"","","","","",""]
[null,{"$f":"IF(C121=\"\",\"\",IF(COUNTIF($C$3:C121, C121)>1, \"\", C121))","v":""},{"$f":"IF(G121=\"\",\"\",IF(F121=\"\",\"\",CONCATENATE(2,DIGITADOR!$M$1,G121,E121)))","v":""},"",{"$f":"IF(F121=\"\",\"\",VLOOKUP(F121,referentes!$T$2:$W$77,2,FALSE))","v":""},null,null,{"$f":"IF(I121=\"\",\"\",VLOOKUP(I121,'otras referencias'!$A$12:$B$15,2,FALSE))","v":""},null,null,null,null,null,null,"","",null,null,"","","","","",""]
[null,{"$f":"IF(C122=\"\",\"\",IF(COUNTIF($C$3:C122, C122)>1, \"\", C122))","v":""},{"$f":"IF(G122=\"\",\"\",IF(F122=\"\",\"\",CONCATENATE(2,DIGITADOR!$M$1,G122,E122)))","v":""},"",{"$f":"IF(F122=\"\",\"\",VLOOKUP(F122,referentes!$T$2:$W$77,2,FALSE))","v":""},null,null,{"$f":"IF(I122=\"\",\"\",VLOOKUP(I122,'otras referencias'!$A$12:$B$15,2,FALSE))","v":""},null,null,null,null,null,null,"","",null,null,"","","","","",""]
[null,{"$f":"IF(C123=\"\",\"\",IF(COUNTIF($C$3:C123, C123)>1, \"\", C123))","v":""},{"$f":"IF(G123=\"\",\"\",IF(F123=\"\",\"\",CONCATENATE(2,DIGITADOR!$M$1,G123,E123)))","v":""},"",{"$f":"IF(F123=\"\",\"\",VLOOKUP(F123,referentes!$T$2:$W$77,2,FALSE))","v":""},null,null,{"$f":"IF(I123=\"\",\"\",VLOOKUP(I123,'otras referencias'!$A$12:$B$15,2,FALSE))","v":""},null,null,null,null,null,null,"","",null,null,"","","","","",""]
[null,{"$f":"IF(C124=\"\",\"\",IF(COUNTIF($C$3:C124, C124)>1, \"\", C124))","v":""},{"$f":"IF(G124=\"\",\"\",IF(F124=\"\",\"\",CONCATENATE(2,DIGITADOR!$M$1,G124,E124)))","v":""},"",{"$f":"IF(F124=\"\",\"\",VLOOKUP(F124,referentes!$T$2:$W$77,2,FALSE))","v":""},null,null,{"$f":"IF(I124=\"\",\"\",VLOOKUP(I124,'otras referencias'!$A$12:$B$15,2,FALSE))","v":""},null,null,null,null,null,null,"","",null,null,"","","","","",""]
[null,{"$f":"IF(C125=\"\",\"\",IF(COUNTIF($C$3:C125, C125)>1, \"\", C125))","v":""},{"$f":"IF(G125=\"\",\"\",IF(F125=\"\",\"\",CONCATENATE(2,DIGITADOR!$M$1,G125,E125)))","v":""},"",{"$f":"IF(F125=\"\",\"\",VLOOKUP(F125,referentes!$T$2:$W$77,2,FALSE))","v":""},null,null,{"$f":"IF(I125=\"\",\"\",VLOOKUP(I125,'otras referencias'!$A$12:$B$15,2,FALSE))","v":""},null,null,null,null,null,null,"","",null,null,"","","","","",""]
[null,{"$f":"IF(C126=\"\",\"\",IF(COUNTIF($C$3:C126, C126)>1, \"\", C126))","v":""},{"$f":"IF(G126=\"\",\"\",IF(F126=\"\",\"\",CONCATENATE(2,DIGITADOR!$M$1,G126,E126)))","v":""},"",{"$f":"IF(F126=\"\",\"\",VLOOKUP(F126,referentes!$T$2:$W$77,2,FALSE))","v":""},null,null,{"$f":"IF(I126=\"\",\"\",VLOOKUP(I126,'otras referencias'!$A$12:$B$15,2,FALSE))","v":""},null,null,null,null,null,null,"","",null,null,"","","","","",""]
[null,{"$f":"IF(C127=\"\",\"\",IF(COUNTIF($C$3:C127, C127)>1, \"\", C127))","v":""},{"$f":"IF(G127=\"\",\"\",IF(F127=\"\",\"\",CONCATENATE(2,DIGITADOR!$M$1,G127,E127)))","v":""},"",{"$f":"IF(F127=\"\",\"\",VLOOKUP(F127,referentes!$T$2:$W$77,2,FALSE))","v":""},null,null,{"$f":"IF(I127=\"\",\"\",VLOOKUP(I127,'otras referencias'!$A$12:$B$15,2,FALSE))","v":""},null,null,null,null,null,null,"","",null,null,"","","","","",""]
[null,{"$f":"IF(C128=\"\",\"\",IF(COUNTIF($C$3:C128, C128)>1, \"\", C128))","v":""},{"$f":"IF(G128=\"\",\"\",IF(F128=\"\",\"\",CONCATENATE(2,DIGITADOR!$M$1,G128,E128)))","v":""},"",{"$f":"IF(F128=\"\",\"\",VLOOKUP(F128,referentes!$T$2:$W$77,2,FALSE))","v":""},null,null,{"$f":"IF(I128=\"\",\"\",VLOOKUP(I128,'otras referencias'!$A$12:$B$15,2,FALSE))","v":""},null,null,null,null,null,null,"","",null,null,"","","","","",""]
[null,{"$f":"IF(C129=\"\",\"\",IF(COUNTIF($C$3:C129, C129)>1, \"\", C129))","v":""},{"$f":"IF(G129=\"\",\"\",IF(F129=\"\",\"\",CONCATENATE(2,DIGITADOR!$M$1,G129,E129)))","v":""},"",{"$f":"IF(F129=\"\",\"\",VLOOKUP(F129,referentes!$T$2:$W$77,2,FALSE))","v":""},null,null,{"$f":"IF(I129=\"\",\"\",VLOOKUP(I129,'otras referencias'!$A$12:$B$15,2,FALSE))","v":""},null,null,null,null,null,null,"","",null,null,"","","","","",""]
[null,{"$f":"IF(C130=\"\",\"\",IF(COUNTIF($C$3:C130, C130)>1, \"\", C130))","v":""},{"$f":"IF(G130=\"\",\"\",IF(F130=\"\",\"\",CONCATENATE(2,DIGITADOR!$M$1,G130,E130)))","v":""},{"$f":"IF(C130=\"\",\"\",CONCATENATE(C130,ROW()-2))","v":""},{"$f":"IF(F130=\"\",\"\",VLOOKUP(F130,referentes!$T$2:$W$77,2,FALSE))","v":""},null,null,{"$f":"IF(I130=\"\",\"\",VLOOKUP(I130,'otras referencias'!$A$12:$B$15,2,FALSE))","v":""},null,null,null,null,null,null,{"$f":"IF(N130=\"\",\"\",N130/100)","v":""},{"$f":"IF(O130=\"\",\"\",O130^2)","v":""},null,null,{"$f":"IF(OR(Q130=\"\",R130=\"\"), IF(R130<>\"\", \"\", IF(Q130=\"\",\"\", ROUND(20/(Q130-0.5), 4))), R130/Q130)","v":""},{"$f":"IF(S130=\"\",\"\",IF(S130<1,0,1))","v":""},{"$f":"IF(OR(L130=\"\",P130=\"\"),\"\",ROUND((PI()/4)*L130*P130, 4))","v":""},{"$f":"IF(AND(S130=\"\",T130=\"\"),\"\",ROUND(IF(T130=0,0.6451-0.388*(LOG10(S130))-0.377*T130+0.3*(LOG10(S130))*T130, 0.6451-0.388*(LOG10(S130))-0.377*T130+0.3*(LOG10(S130))), 4))","v":""},{"$f":"IF(V130=\"\",\"\",ROUND((V130*1000000/1000), 4))","v":""},{"$f":"IF(OR(U130=\"\",W130=\"\"),\"\",ROUND(U130*W130,4))","v":""}]
[null,{"$f":"IF(C131=\"\",\"\",IF(COUNTIF($C$3:C131, C131)>1, \"\", C131))","v":""},{"$f":"IF(G131=\"\",\"\",IF(F131=\"\",\"\",CONCATENATE(2,DIGITADOR!$M$1,G131,E131)))","v":""},"",{"$f":"IF(F131=\"\",\"\",VLOOKUP(F131,referentes!$T$2:$W$77,2,FALSE))","v":""},null,null,{"$f":"IF(I131=\"\",\"\",VLOOKUP(I131,'otras referencias'!$A$12:$B$15,2,FALSE))","v":""},null,null,null,null,null,null,"","",null,null,"","","","","",""]
[null,{"$f":"IF(C132=\"\",\"\",IF(COUNTIF($C$3:C132, C132)>1, \"\", C132))","v":""},{"$f":"IF(G132=\"\",\"\",IF(F132=\"\",\"\",CONCATENATE(2,DIGITADOR!$M$1,G132,E132)))","v":""},"",{"$f":"IF(F132=\"\",\"\",VLOOKUP(F132,referentes!$T$2:$W$77,2,FALSE))","v":""},null,null,{"$f":"IF(I132=\"\",\"\",VLOOKUP(I132,'otras referencias'!$A$12:$B$15,2,FALSE))","v":""},null,null,null,null,null,null,"","",null,null,"","","","","",""]
[null,{"$f":"IF(C133=\"\",\"\",IF(COUNTIF($C$3:C133, C133)>1, \"\", C133))","v":""},{"$f":"IF(G133=\"\",\"\",IF(F133=\"\",\"\",CONCATENATE(2,DIGITADOR!$M$1,G133,E133)))","v":""},"",{"$f":"IF(F133=\"\",\"\",VLOOKUP(F133,referentes!$T$2:$W$77,2,FALSE))","v":""},null,null,{"$f":"IF(I133=\"\",\"\",VLOOKUP(I133,'otras referencias'!$A$12:$B$15,2,FALSE))","v":""},null,null,null,null,null,null,"","",null,null,"","","","","",""]
[null,{"$f":"IF(C134=\"\",\"\",IF(COUNTIF($C$3:C134, C134)>1, \"\", C134))","v":""},{"$f":"IF(G134=\"\",\"\",IF(F134=\"\",\"\",CONCATENATE(2,DIGITADOR!$M$1,G134,E134)))","v":""},"",{"$f":"IF(F134=\"\",\"\",VLOOKUP(F134,referentes!$T$2:$W$77,2,FALSE))","v":""},null,null,{"$f":"IF(I134=\"\",\"\",VLOOKUP(I134,'otras referencias'!$A$12:$B$15,2,FALSE))","v":""},null,null,null,null,null,null,"","",null,null,"","","","","",""]
[null,{"$f":"IF(C135=\"\",\"\",IF(COUNTIF($C$3:C135, C135)>1, \"\", C135))","v":""},{"$f":"IF(G135=\"\",\"\",IF(F135=\"\",\"\",CONCATENATE(2,DIGITADOR!$M$1,G135,E135)))","v":""},"",{"$f":"IF(F135=\"\",\"\",VLOOKUP(F135,referentes!$T$2:$W$77,2,FALSE))","v":""},null,null,{"$f":"IF(I135=\"\",\"\",VLOOKUP(I135,'otras referencias'!$A$12:$B$15,2,FALSE))","v":""},null,null,null,null,null,null,"","",null,null,"","","","","",""]
[null,{"$f":"IF(C136=\"\",\"\",IF(COUNTIF($C$3:C136, C136)>1, \"\", C136))","v":""},{"$f":"IF(G136=\"\",\"\",IF(F136=\"\",\"\",CONCATENATE(2,DIGITADOR!$M$1,G136,E136)))","v":""},"",{"$f":"IF(F136=\"\",\"\",VLOOKUP(F136,referentes!$T$2:$W$77,2,FALSE))","v":""},null,null,{"$f":"IF(I136=\"\",\"\",VLOOKUP(I136,'otras referencias'!$A$12:$B$15,2,FALSE))","v":""},null,null,null,null,null,null,"","",null,null,"","","","","",""]
[null,{"$f":"IF(C137=\"\",\"\",IF(COUNTIF($C$3:C137, C137)>1, \"\", C137))","v":""},{"$f":"IF(G137=\"\",\"\",IF(F137=\"\",\"\",CONCATENATE(2,DIGITADOR!$M$1,G137,E137)))","v":""},"",{"$f":"IF(F137=\"\",\"\",VLOOKUP(F137,referentes!$T$2:$W$77,2,FALSE))","v":""},null,null,{"$f":"IF(I137=\"\",\"\",VLOOKUP(I137,'otras referencias'!$A$12:$B$15,2,FALSE))","v":""},null,null,null,null,null,null,"","",null,null,"","","","","",""]
[null,{"$f":"IF(C138=\"\",\"\",IF(COUNTIF($C$3:C138, C138)>1, \"\", C138))","v":""},{"$f":"IF(G138=\"\",\"\",IF(F138=\"\",\"\",CONCATENATE(2,DIGITADOR!$M$1,G138,E138)))","v":""},"",{"$f":"IF(F138=\"\",\"\",VLOOKUP(F138,referentes!$T$2:$W$77,2,FALSE))","v":""},null,null,{"$f":"IF(I138=\"\",\"\",VLOOKUP(I138,'otras referencias'!$A$12:$B$15,2,FALSE))","v":""},null,null,null,null,null,null,"","",null,null,"","","","","",""]
[null,{"$f":"IF(C139=\"\",\"\",IF(COUNTIF($C$3:C139, C139)>1, \"\", C139))","v":""},{"$f":"IF(G139=\"\",\"\",IF(F139=\"\",\"\",CONCATENATE(2,DIGITADOR!$M$1,G139,E139)))","v":""},"",{"$f":"IF(F139=\"\",\"\",VLOOKUP(F139,referentes!$T$2:$W$77,2,FALSE))","v":""},null,null,{"$f":"IF(I139=\"\",\"\",VLOOKUP(I139,'otras referencias'!$A$12:$B$15,2,FALSE))","v":""},null,null,null,null,null,null,"","",null,null,"","","","","",""]
[null,{"$f":"IF(C140=\"\",\"\",IF(COUNTIF($C$3:C140, C140)>1, \"\", C140))","v":""},{"$f":"IF(G140=\"\",\"\",IF(F140=\"\",\"\",CONCATENATE(2,DIGITADOR!$M$1,G140,E140)))","v":""},"",{"$f":"IF(F140=\"\",\"\",VLOOKUP(F140,referentes!$T$2:$W$77,2,FALSE))","v":""},null,null,{"$f":"IF(I140=\"\",\"\",VLOOKUP(I140,'otras referencias'!$A$12:$B$15,2,FALSE))","v":""},null,null,null,null,null,null,"","",null,null,"","","","","",""]
[null,{"$f":"IF(C141=\"\",\"\",IF(COUNTIF($C$3:C141, C141)>1, \"\", C141))","v":""},{"$f":"IF(G141=\"\",\"\",IF(F141=\"\",\"\",CONCATENATE(2,DIGITADOR!$M$1,G141,E141)))","v":""},"",{"$f":"IF(F141=\"\",\"\",VLOOKUP(F141,referentes!$T$2:$W$77,2,FALSE))","v":""},null,null,{"$f":"IF(I141=\"\",\"\",VLOOKUP(I141,'otras referencias'!$A$12:$B$15,2,FALSE))","v":""},null,null,null,null,null,null,"","",null,null,"","","","","",""]
[null,{"$f":"IF(C142=\"\",\"\",IF(COUNTIF($C$3:C142, C142)>1, \"\", C142))","v":""},{"$f":"IF(G142=\"\",\"\",IF(F142=\"\",\"\",CONCATENATE(2,DIGITADOR!$M$1,G142,E142)))","v":""},"",{"$f":"IF(F142=\"\",\"\",VLOOKUP(F142,referentes!$T$2:$W$77,2,FALSE))","v":""},null,null,{"$f":"IF(I142=\"\",\"\",VLOOKUP(I142,'otras referencias'!$A$12:$B$15,2,FALSE))","v":""},null,null,null,null,null,null,"","",null,null,"","","","","",""]
[null,{"$f":"IF(C143=\"\",\"\",IF(COUNTIF($C$3:C143, C143)>1, \"\", C143))","v":""},{"$f":"IF(G143=\"\",\"\",IF(F143=\"\",\"\",CONCATENATE(2,DIGITADOR!$M$1,G143,E143)))","v":""},"",{"$f":"IF(F143=\"\",\"\",VLOOKUP(F143,referentes!$T$2:$W$77,2,FALSE))","v":""},null,null,{"$f":"IF(I143=\"\",\"\",VLOOKUP(I143,'otras referencias'!$A$12:$B$15,2,FALSE))","v":""},null,null,null,null,null,null,"","",null,null,"","","","","",""]
[null,{"$f":"IF(C144=\"\",\"\",IF(COUNTIF($C$3:C144, C144)>1, \"\", C144))","v":""},{"$f":"IF(G144=\"\",\"\",IF(F144=\"\",\"\",CONCATENATE(2,DIGITADOR!$M$1,G144,E144)))","v":""},"",{"$f":"IF(F144=\"\",\"\",VLOOKUP(F144,referentes!$T$2:$W$77,2,FALSE))","v":""},null,null,{"$f":"IF(I144=\"\",\"\",VLOOKUP(I144,'otras referencias'!$A$12:$B$15,2,FALSE))","v":""},null,null,null,null,null,null,"","",null,null,"","","","","",""]
[null,{"$f":"IF(C145=\"\",\"\",IF(COUNTIF($C$3:C145, C145)>1, \"\", C145))","v":""},{"$f":"IF(G145=\"\",\"\",IF(F145=\"\",\"\",CONCATENATE(2,DIGITADOR!$M$1,G145,E145)))","v":""},"",{"$f":"IF(F145=\"\",\"\",VLOOKUP(F145,referentes!$T$2:$W$77,2,FALSE))","v":""},null,null,{"$f":"IF(I145=\"\",\"\",VLOOKUP(I145,'otras referencias'!$A$12:$B$15,2,FALSE))","v":""},null,null,null,null,null,null,"","",null,null,"","","","","",""]
[null,{"$f":"IF(C146=\"\",\"\",IF(COUNTIF($C$3:C146, C146)>1, \"\", C146))","v":""},{"$f":"IF(G146=\"\",\"\",IF(F146=\"\",\"\",CONCATENATE(2,DIGITADOR!$M$1,G146,E146)))","v":""},"",{"$f":"IF(F146=\"\",\"\",VLOOKUP(F146,referentes!$T$2:$W$77,2,FALSE))","v":""},null,null,{"$f":"IF(I146=\"\",\"\",VLOOKUP(I146,'otras referencias'!$A$12:$B$15,2,FALSE))","v":""},null,null,null,null,null,null,"","",null,null,"","","","","",""]
[null,{"$f":"IF(C147=\"\",\"\",IF(COUNTIF($C$3:C147, C147)>1, \"\", C147))","v":""},{"$f":"IF(G147=\"\",\"\",IF(F147=\"\",\"\",CONCATENATE(2,DIGITADOR!$M$1,G147,E147)))","v":""},"",{"$f":"IF(F147=\"\",\"\",VLOOKUP(F147,referentes!$T$2:$W$77,2,FALSE))","v":""},null,null,{"$f":"IF(I147=\"\",\"\",VLOOKUP(I147,'otras referencias'!$A$12:$B$15,2,FALSE))","v":""},null,null,null,null,null,null,"","",null,null,"","","","","",""]
[null,{"$f":"IF(C148=\"\",\"\",IF(COUNTIF($C$3:C148, C148)>1, \"\", C148))","v":""},{"$f":"IF(G148=\"\",\"\",IF(F148=\"\",\"\",CONCATENATE(2,DIGITADOR!$M$1,G148,E148)))","v":""},"",{"$f":"IF(F148=\"\",\"\",VLOOKUP(F148,referentes!$T$2:$W$77,2,FALSE))","v":""},null,null,{"$f":"IF(I148=\"\",\"\",VLOOKUP(I148,'otras referencias'!$A$12:$B$15,2,FALSE))","v":""},null,null,null,null,null,null,"","",null,null,"","","","","",""]
[null,{"$f":"IF(C149=\"\",\"\",IF(COUNTIF($C$3:C149, C149)>1, \"\", C149))","v":""},{"$f":"IF(G149=\"\",\"\",IF(F149=\"\",\"\",CONCATENATE(2,DIGITADOR!$M$1,G149,E149)))","v":""},"",{"$f":"IF(F149=\"\",\"\",VLOOKUP(F149,referentes!$T$2:$W$77,2,FALSE))","v":""},null,null,{"$f":"IF(I149=\"\",\"\",VLOOKUP(I149,'otras referencias'!$A$12:$B$15,2,FALSE))","v":""},null,null,null,null,null,null,"","",null,null,"","","","","",""]
[null,{"$f":"IF(C150=\"\",\"\",IF(COUNTIF($C$3:C150, C150)>1, \"\", C150))","v":""},{"$f":"IF(G150=\"\",\"\",IF(F150=\"\",\"\",CONCATENATE(2,DIGITADOR!$M$1,G150,E150)))","v":""},"",{"$f":"IF(F150=\"\",\"\",VLOOKUP(F150,referentes!$T$2:$W$77,2,FALSE))","v":""},null,null,{"$f":"IF(I150=\"\",\"\",VLOOKUP(I150,'otras referencias'!$A$12:$B$15,2,FALSE))","v":""},null,null,null,null,null,null,"","",null,null,"","","","","",""]
[null,{"$f":"IF(C151=\"\",\"\",IF(COUNTIF($C$3:C151, C151)>1, \"\", C151))","v":""},{"$f":"IF(G151=\"\",\"\",IF(F151=\"\",\"\",CONCATENATE(2,DIGITADOR!$M$1,G151,E151)))","v":""},"",{"$f":"IF(F151=\"\",\"\",VLOOKUP(F151,referentes!$T$2:$W$77,2,FALSE))","v":""},null,null,{"$f":"IF(I151=\"\",\"\",VLOOKUP(I151,'otras referencias'!$A$12:$B$15,2,FALSE))","v":""},null,null,null,null,null,null,"","",null,null,"","","","","",""]
[null,{"$f":"IF(C152=\"\",\"\",IF(COUNTIF($C$3:C152, C152)>1, \"\", C152))","v":""},{"$f":"IF(G152=\"\",\"\",IF(F152=\"\",\"\",CONCATENATE(2,DIGITADOR!$M$1,G152,E152)))","v":""},"",{"$f":"IF(F152=\"\",\"\",VLOOKUP(F152,referentes!$T$2:$W$77,2,FALSE))","v":""},null,null,{"$f":"IF(I152=\"\",\"\",VLOOKUP(I152,'otras referencias'!$A$12:$B$15,2,FALSE))","v":""},null,null,null,null,null,null,"","",null,null,"","","","","",""]
[null,{"$f":"IF(C153=\"\",\"\",IF(COUNTIF($C$3:C153, C153)>1, \"\", C153))","v":""},{"$f":"IF(G153=\"\",\"\",IF(F153=\"\",\"\",CONCATENATE(2,DIGITADOR!$M$1,G153,E153)))","v":""},"",{"$f":"IF(F153=\"\",\"\",VLOOKUP(F153,referentes!$T$2:$W$77,2,FALSE))","v":""},null,null,{"$f":"IF(I153=\"\",\"\",VLOOKUP(I153,'otras referencias'!$A$12:$B$15,2,FALSE))","v":""},null,null,null,null,null,null,"","",null,null,"","","","","",""]
[null,{"$f":"IF(C154=\"\",\"\",IF(COUNTIF($C$3:C154, C154)>1, \"\", C154))","v":""},{"$f":"IF(G154=\"\",\"\",IF(F154=\"\",\"\",CONCATENATE(2,DIGITADOR!$M$1,G154,E154)))","v":""},"",{"$f":"IF(F154=\"\",\"\",VLOOKUP(F154,referentes!$T$2:$W$77,2,FALSE))","v":""},null,null,{"$f":"IF(I154=\"\",\"\",VLOOKUP(I154,'otras referencias'!$A$12:$B$15,2,FALSE))","v":""},null,null,null,null,null,null,"","",null,null,"","","","","",""]
[null,{"$f":"IF(C155=\"\",\"\",IF(COUNTIF($C$3:C155, C155)>1, \"\", C155))","v":""},{"$f":"IF(G155=\"\",\"\",IF(F155=\"\",\"\",CONCATENATE(2,DIGITADOR!$M$1,G155,E155)))","v":""},"",{"$f":"IF(F155=\"\",\"\",VLOOKUP(F155,referentes!$T$2:$W$77,2,FALSE))","v":""},null,null,{"$f":"IF(I155=\"\",\"\",VLOOKUP(I155,'otras referencias'!$A$12:$B$15,2,FALSE))","v":""},null,null,null,null,null,null,"","",null,null,"","","","","",""]
[null,{"$f":"IF(C156=\"\",\"\",IF(COUNTIF($C$3:C156, C156)>1, \"\", C156))","v":""},{"$f":"IF(G156=\"\",\"\",IF(F156=\"\",\"\",CONCATENATE(2,DIGITADOR!$M$1,G156,E156)))","v":""},"",{"$f":"IF(F156=\"\",\"\",VLOOKUP(F156,referentes!$T$2:$W$77,2,FALSE))","v":""},null,null,{"$f":"IF(I156=\"\",\"\",VLOOKUP(I156,'otras referencias'!$A$12:$B$15,2,FALSE))","v":""},null,null,null,null,null,null,"","",null,null,"","","","","",""]
[null,{"$f":"IF(C157=\"\",\"\",IF(COUNTIF($C$3:C157, C157)>1, \"\", C157))","v":""},{"$f":"IF(G157=\"\",\"\",IF(F157=\"\",\"\",CONCATENATE(2,DIGITADOR!$M$1,G157,E157)))","v":""},"",{"$f":"IF(F157=\"\",\"\",VLOOKUP(F157,referentes!$T$2:$W$77,2,FALSE))","v":""},null,null,{"$f":"IF(I157=\"\",\"\",VLOOKUP(I157,'otras referencias'!$A$12:$B$15,2,FALSE))","v":""},null,null,null,null,null,null,"","",null,null,"","","","","",""]
[null,{"$f":"IF(C158=\"\",\"\",IF(COUNTIF($C$3:C158, C158)>1, \"\", C158))","v":""},{"$f":"IF(G158=\"\",\"\",IF(F158=\"\",\"\",CONCATENATE(2,DIGITADOR!$M$1,G158,E158)))","v":""},"",{"$f":"IF(F158=\"\",\"\",VLOOKUP(F158,referentes!$T$2:$W$77,2,FALSE))","v":""},null,null,{"$f":"IF(I158=\"\",\"\",VLOOKUP(I158,'otras referencias'!$A$12:$B$15,2,FALSE))","v":""},null,null,null,null,null,null,"","",null,null,"","","","","",""]
[null,{"$f":"IF(C159=\"\",\"\",IF(COUNTIF($C$3:C159, C159)>1, \"\", C159))","v":""},{"$f":"IF(G159=\"\",\"\",IF(F159=\"\",\"\",CONCATENATE(2,DIGITADOR!$M$1,G159,E159)))","v":""},"",{"$f":"IF(F159=\"\",\"\",VLOOKUP(F159,referentes!$T$2:$W$77,2,FALSE))","v":""},null,null,{"$f":"IF(I159=\"\",\"\",VLOOKUP(I159,'otras referencias'!$A$12:$B$15,2,FALSE))","v":""},null,null,null,null,null,null,"","",null,null,"","","","","",""]
[null,{"$f":"IF(C160=\"\",\"\",IF(COUNTIF($C$3:C160, C160)>1, \"\", C160))","v":""},{"$f":"IF(G160=\"\",\"\",IF(F160=\"\",\"\",CONCATENATE(2,DIGITADOR!$M$1,G160,E160)))","v":""},"",{"$f":"IF(F160=\"\",\"\",VLOOKUP(F160,referentes!$T$2:$W$77,2,FALSE))","v":""},null,null,{"$f":"IF(I160=\"\",\"\",VLOOKUP(I160,'otras referencias'!$A$12:$B$15,2,FALSE))","v":""},null,null,null,null,null,null,"","",null,null,"","","","","",""]
[null,{"$f":"IF(C161=\"\",\"\",IF(COUNTIF($C$3:C161, C161)>1, \"\", C161))","v":""},{"$f":"IF(G161=\"\",\"\",IF(F161=\"\",\"\",CONCATENATE(2,DIGITADOR!$M$1,G161,E161)))","v":""},"",{"$f":"IF(F161=\"\",\"\",VLOOKUP(F161,referentes!$T$2:$W$77,2,FALSE))","v":""},null,null,{"$f":"IF(I161=\"\",\"\",VLOOKUP(I161,'otras referencias'!$A$12:$B$15,2,FALSE))","v":""},null,null,null,null,null,null,"","",null,null,"","","","","",""]
[null,{"$f":"IF(C162=\"\",\"\",IF(COUNTIF($C$3:C162, C162)>1, \"\", C162))","v":""},{"$f":"IF(G162=\"\",\"\",IF(F162=\"\",\"\",CONCATENATE(2,DIGITADOR!$M$1,G162,E162)))","v":""},"",{"$f":"IF(F162=\"\",\"\",VLOOKUP(F162,referentes!$T$2:$W$77,2,FALSE))","v":""},null,null,{"$f":"IF(I162=\"\",\"\",VLOOKUP(I162,'otras referencias'!$A$12:$B$15,2,FALSE))","v":""},null,null,null,null,null,null,"","",null,null,"","","","","",""]
[null,{"$f":"IF(C163=\"\",\"\",IF(COUNTIF($C$3:C163, C163)>1, \"\", C163))","v":""},{"$f":"IF(G163=\"\",\"\",IF(F163=\"\",\"\",CONCATENATE(2,DIGITADOR!$M$1,G163,E163)))","v":""},"",{"$f":"IF(F163=\"\",\"\",VLOOKUP(F163,referentes!$T$2:$W$77,2,FALSE))","v":""},null,null,{"$f":"IF(I163=\"\",\"\",VLOOKUP(I163,'otras referencias'!$A$12:$B$15,2,FALSE))","v":""},null,null,null,null,null,null,"","",null,null,"","","","","",""]
[null,{"$f":"IF(C164=\"\",\"\",IF(COUNTIF($C$3:C164, C164)>1, \"\", C164))","v":""},{"$f":"IF(G164=\"\",\"\",IF(F164=\"\",\"\",CONCATENATE(2,DIGITADOR!$M$1,G164,E164)))","v":""},"",{"$f":"IF(F164=\"\",\"\",VLOOKUP(F164,referentes!$T$2:$W$77,2,FALSE))","v":""},null,null,{"$f":"IF(I164=\"\",\"\",VLOOKUP(I164,'otras referencias'!$A$12:$B$15,2,FALSE))","v":""},null,null,null,null,null,null,"","",null,null,"","","","","",""]
[null,{"$f":"IF(C165=\"\",\"\",IF(COUNTIF($C$3:C165, C165)>1, \"\", C165))","v":""},{"$f":"IF(G165=\"\",\"\",IF(F165=\"\",\"\",CONCATENATE(2,DIGITADOR!$M$1,G165,E165)))","v":""},"",{"$f":"IF(F165=\"\",\"\",VLOOKUP(F165,referentes!$T$2:$W$77,2,FALSE))","v":""},null,null,{"$f":"IF(I165=\"\",\"\",VLOOKUP(I165,'otras referencias'!$A$12:$B$15,2,FALSE))","v":""},null,null,null,null,null,null,"","",null,null,"","","","","",""]
[null,{"$f":"IF(C166=\"\",\"\",IF(COUNTIF($C$3:C166, C166)>1, \"\", C166))","v":""},{"$f":"IF(G166=\"\",\"\",IF(F166=\"\",\"\",CONCATENATE(2,DIGITADOR!$M$1,G166,E166)))","v":""},"",{"$f":"IF(F166=\"\",\"\",VLOOKUP(F166,referentes!$T$2:$W$77,2,FALSE))","v":""},null,null,{"$f":"IF(I166=\"\",\"\",VLOOKUP(I166,'otras referencias'!$A$12:$B$15,2,FALSE))","v":""},null,null,null,null,null,null,"","",null,null,"","","","","",""]
[null,{"$f":"IF(C167=\"\",\"\",IF(COUNTIF($C$3:C167, C167)>1, \"\", C167))","v":""},{"$f":"IF(G167=\"\",\"\",IF(F167=\"\",\"\",CONCATENATE(2,DIGITADOR!$M$1,G167,E167)))","v":""},"",{"$f":"IF(F167=\"\",\"\",VLOOKUP(F167,referentes!$T$2:$W$77,2,FALSE))","v":""},null,null,{"$f":"IF(I167=\"\",\"\",VLOOKUP(I167,'otras referencias'!$A$12:$B$15,2,FALSE))","v":""},null,null,null,null,null,null,"","",null,null,"","","","","",""]
[null,{"$f":"IF(C168=\"\",\"\",IF(COUNTIF($C$3:C168, C168)>1, \"\", C168))","v":""},{"$f":"IF(G168=\"\",\"\",IF(F168=\"\",\"\",CONCATENATE(2,DIGITADOR!$M$1,G168,E168)))","v":""},"",{"$f":"IF(F168=\"\",\"\",VLOOKUP(F168,referentes!$T$2:$W$77,2,FALSE))","v":""},null,null,{"$f":"IF(I168=\"\",\"\",VLOOKUP(I168,'otras referencias'!$A$12:$B$15,2,FALSE))","v":""},null,null,null,null,null,null,"","",null,null,"","","","","",""]
[null,{"$f":"IF(C169=\"\",\"\",IF(COUNTIF($C$3:C169, C169)>1, \"\", C169))","v":""},{"$f":"IF(G169=\"\",\"\",IF(F169=\"\",\"\",CONCATENATE(2,DIGITADOR!$M$1,G169,E169)))","v":""},"",{"$f":"IF(F169=\"\",\"\",VLOOKUP(F169,referentes!$T$2:$W$77,2,FALSE))","v":""},null,null,{"$f":"IF(I169=\"\",\"\",VLOOKUP(I169,'otras referencias'!$A$12:$B$15,2,FALSE))","v":""},null,null,null,null,null,null,"","",null,null,"","","","","",""]
[null,{"$f":"IF(C170=\"\",\"\",IF(COUNTIF($C$3:C170, C170)>1, \"\", C170))","v":""},{"$f":"IF(G170=\"\",\"\",IF(F170=\"\",\"\",CONCATENATE(2,DIGITADOR!$M$1,G170,E170)))","v":""},"",{"$f":"IF(F170=\"\",\"\",VLOOKUP(F170,referentes!$T$2:$W$77,2,FALSE))","v":""},null,null,{"$f":"IF(I170=\"\",\"\",VLOOKUP(I170,'otras referencias'!$A$12:$B$15,2,FALSE))","v":""},null,null,null,null,null,null,"","",null,null,"","","","","",""]
[null,{"$f":"IF(C171=\"\",\"\",IF(COUNTIF($C$3:C171, C171)>1, \"\", C171))","v":""},{"$f":"IF(G171=\"\",\"\",IF(F171=\"\",\"\",CONCATENATE(2,DIGITADOR!$M$1,G171,E171)))","v":""},"",{"$f":"IF(F171=\"\",\"\",VLOOKUP(F171,referentes!$T$2:$W$77,2,FALSE))","v":""},null,null,{"$f":"IF(I171=\"\",\"\",VLOOKUP(I171,'otras referencias'!$A$12:$B$15,2,FALSE))","v":""},null,null,null,null,null,null,"","",null,null,"","","","","",""]
[null,{"$f":"IF(C172=\"\",\"\",IF(COUNTIF($C$3:C172, C172)>1, \"\", C172))","v":""},{"$f":"IF(G172=\"\",\"\",IF(F172=\"\",\"\",CONCATENATE(2,DIGITADOR!$M$1,G172,E172)))","v":""},"",{"$f":"IF(F172=\"\",\"\",VLOOKUP(F172,referentes!$T$2:$W$77,2,FALSE))","v":""},null,null,{"$f":"IF(I172=\"\",\"\",VLOOKUP(I172,'otras referencias'!$A$12:$B$15,2,FALSE))","v":""},null,null,null,null,null,null,"","",null,null,"","","","","",""]
[null,{"$f":"IF(C173=\"\",\"\",IF(COUNTIF($C$3:C173, C173)>1, \"\", C173))","v":""},{"$f":"IF(G173=\"\",\"\",IF(F173=\"\",\"\",CONCATENATE(2,DIGITADOR!$M$1,G173,E173)))","v":""},"",{"$f":"IF(F173=\"\",\"\",VLOOKUP(F173,referentes!$T$2:$W$77,2,FALSE))","v":""},null,null,{"$f":"IF(I173=\"\",\"\",VLOOKUP(I173,'otras referencias'!$A$12:$B$15,2,FALSE))","v":""},null,null,null,null,null,null,"","",null,null,"","","","","",""]
[null,{"$f":"IF(C174=\"\",\"\",IF(COUNTIF($C$3:C174, C174)>1, \"\", C174))","v":""},{"$f":"IF(G174=\"\",\"\",IF(F174=\"\",\"\",CONCATENATE(2,DIGITADOR!$M$1,G174,E174)))","v":""},"",{"$f":"IF(F174=\"\",\"\",VLOOKUP(F174,referentes!$T$2:$W$77,2,FALSE))","v":""},null,null,{"$f":"IF(I174=\"\",\"\",VLOOKUP(I174,'otras referencias'!$A$12:$B$15,2,FALSE))","v":""},null,null,null,null,null,null,"","",null,null,"","","","","",""]
[null,{"$f":"IF(C175=\"\",\"\",IF(COUNTIF($C$3:C175, C175)>1, \"\", C175))","v":""},{"$f":"IF(G175=\"\",\"\",IF(F175=\"\",\"\",CONCATENATE(2,DIGITADOR!$M$1,G175,E175)))","v":""},"",{"$f":"IF(F175=\"\",\"\",VLOOKUP(F175,referentes!$T$2:$W$77,2,FALSE))","v":""},null,null,{"$f":"IF(I175=\"\",\"\",VLOOKUP(I175,'otras referencias'!$A$12:$B$15,2,FALSE))","v":""},null,null,null,null,null,null,"","",null,null,"","","","","",""]
[null,{"$f":"IF(C176=\"\",\"\",IF(COUNTIF($C$3:C176, C176)>1, \"\", C176))","v":""},{"$f":"IF(G176=\"\",\"\",IF(F176=\"\",\"\",CONCATENATE(2,DIGITADOR!$M$1,G176,E176)))","v":""},"",{"$f":"IF(F176=\"\",\"\",VLOOKUP(F176,referentes!$T$2:$W$77,2,FALSE))","v":""},null,null,{"$f":"IF(I176=\"\",\"\",VLOOKUP(I176,'otras referencias'!$A$12:$B$15,2,FALSE))","v":""},null,null,null,null,null,null,"","",null,null,"","","","","",""]
[null,{"$f":"IF(C177=\"\",\"\",IF(COUNTIF($C$3:C177, C177)>1, \"\", C177))","v":""},{"$f":"IF(G177=\"\",\"\",IF(F177=\"\",\"\",CONCATENATE(2,DIGITADOR!$M$1,G177,E177)))","v":""},"",{"$f":"IF(F177=\"\",\"\",VLOOKUP(F177,referentes!$T$2:$W$77,2,FALSE))","v":""},null,null,{"$f":"IF(I177=\"\",\"\",VLOOKUP(I177,'otras referencias'!$A$12:$B$15,2,FALSE))","v":""},null,null,null,null,null,null,"","",null,null,"","","","","",""]
[null,{"$f":"IF(C178=\"\",\"\",IF(COUNTIF($C$3:C178, C178)>1, \"\", C178))","v":""},{"$f":"IF(G178=\"\",\"\",IF(F178=\"\",\"\",CONCATENATE(2,DIGITADOR!$M$1,G178,E178)))","v":""},"",{"$f":"IF(F178=\"\",\"\",VLOOKUP(F178,referentes!$T$2:$W$77,2,FALSE))","v":""},null,null,{"$f":"IF(I178=\"\",\"\",VLOOKUP(I178,'otras referencias'!$A$12:$B$15,2,FALSE))","v":""},null,null,null,null,null,null,"","",null,null,"","","","","",""]
[null,{"$f":"IF(C179=\"\",\"\",IF(COUNTIF($C$3:C179, C179)>1, \"\", C179))","v":""},{"$f":"IF(G179=\"\",\"\",IF(F179=\"\",\"\",CONCATENATE(2,DIGITADOR!$M$1,G179,E179)))","v":""},"",{"$f":"IF(F179=\"\",\"\",VLOOKUP(F179,referentes!$T$2:$W$77,2,FALSE))","v":""},null,null,{"$f":"IF(I179=\"\",\"\",VLOOKUP(I179,'otras referencias'!$A$12:$B$15,2,FALSE))","v":""},null,null,null,null,null,null,"","",null,null,"","","","","",""]
[null,{"$f":"IF(C180=\"\",\"\",IF(COUNTIF($C$3:C180, C180)>1, \"\", C180))","v":""},{"$f":"IF(G180=\"\",\"\",IF(F180=\"\",\"\",CONCATENATE(2,DIGITADOR!$M$1,G180,E180)))","v":""},"",{"$f":"IF(F180=\"\",\"\",VLOOKUP(F180,referentes!$T$2:$W$77,2,FALSE))","v":""},null,null,{"$f":"IF(I180=\"\",\"\",VLOOKUP(I180,'otras referencias'!$A$12:$B$15,2,FALSE))","v":""},null,null,null,null,null,null,"","",null,null,"","","","","",""]
[null,{"$f":"IF(C181=\"\",\"\",IF(COUNTIF($C$3:C181, C181)>1, \"\", C181))","v":""},{"$f":"IF(G181=\"\",\"\",IF(F181=\"\",\"\",CONCATENATE(2,DIGITADOR!$M$1,G181,E181)))","v":""},"",{"$f":"IF(F181=\"\",\"\",VLOOKUP(F181,referentes!$T$2:$W$77,2,FALSE))","v":""},null,null,{"$f":"IF(I181=\"\",\"\",VLOOKUP(I181,'otras referencias'!$A$12:$B$15,2,FALSE))","v":""},null,null,null,null,null,null,"","",null,null,"","","","","",""]
[null,{"$f":"IF(C182=\"\",\"\",IF(COUNTIF($C$3:C182, C182)>1, \"\", C182))","v":""},{"$f":"IF(G182=\"\",\"\",IF(F182=\"\",\"\",CONCATENATE(2,DIGITADOR!$M$1,G182,E182)))","v":""},"",{"$f":"IF(F182=\"\",\"\",VLOOKUP(F182,referentes!$T$2:$W$77,2,FALSE))","v":""},null,null,{"$f":"IF(I182=\"\",\"\",VLOOKUP(I182,'otras referencias'!$A$12:$B$15,2,FALSE))","v":""},null,null,null,null,null,null,"","",null,null,"","","","","",""]
[null,{"$f":"IF(C183=\"\",\"\",IF(COUNTIF($C$3:C183, C183)>1, \"\", C183))","v":""},{"$f":"IF(G183=\"\",\"\",IF(F183=\"\",\"\",CONCATENATE(2,DIGITADOR!$M$1,G183,E183)))","v":""},"",{"$f":"IF(F183=\"\",\"\",VLOOKUP(F183,referentes!$T$2:$W$77,2,FALSE))","v":""},null,null,{"$f":"IF(I183=\"\",\"\",VLOOKUP(I183,'otras referencias'!$A$12:$B$15,2,FALSE))","v":""},null,null,null,null,null,null,"","",null,null,"","","","","",""]
[null,{"$f":"IF(C184=\"\",\"\",IF(COUNTIF($C$3:C184, C184)>1, \"\", C184))","v":""},{"$f":"IF(G184=\"\",\"\",IF(F184=\"\",\"\",CONCATENATE(2,DIGITADOR!$M$1,G184,E184)))","v":""},"",{"$f":"IF(F184=\"\",\"\",VLOOKUP(F184,referentes!$T$2:$W$77,2,FALSE))","v":""},null,null,{"$f":"IF(I184=\"\",\"\",VLOOKUP(I184,'otras referencias'!$A$12:$B$15,2,FALSE))","v":""},null,null,null,null,null,null,"","",null,null,"","","","","",""]
[null,{"$f":"IF(C185=\"\",\"\",IF(COUNTIF($C$3:C185, C185)>1, \"\", C185))","v":""},{"$f":"IF(G185=\"\",\"\",IF(F185=\"\",\"\",CONCATENATE(2,DIGITADOR!$M$1,G185,E185)))","v":""},"",{"$f":"IF(F185=\"\",\"\",VLOOKUP(F185,referentes!$T$2:$W$77,2,FALSE))","v":""},null,null,{"$f":"IF(I185=\"\",\"\",VLOOKUP(I185,'otras referencias'!$A$12:$B$15,2,FALSE))","v":""},null,null,null,null,null,null,"","",null,null,"","","","","",""]
[null,{"$f":"IF(C186=\"\",\"\",IF(COUNTIF($C$3:C186, C186)>1, \"\", C186))","v":""},{"$f":"IF(G186=\"\",\"\",IF(F186=\"\",\"\",CONCATENATE(2,DIGITADOR!$M$1,G186,E186)))","v":""},"",{"$f":"IF(F186=\"\",\"\",VLOOKUP(F186,referentes!$T$2:$W$77,2,FALSE))","v":""},null,null,{"$f":"IF(I186=\"\",\"\",VLOOKUP(I186,'otras referencias'!$A$12:$B$15,2,FALSE))","v":""},null,null,null,null,null,null,"","",null,null,"","","","","",""]
[null,{"$f":"IF(C187=\"\",\"\",IF(COUNTIF($C$3:C187, C187)>1, \"\", C187))","v":""},{"$f":"IF(G187=\"\",\"\",IF(F187=\"\",\"\",CONCATENATE(2,DIGITADOR!$M$1,G187,E187)))","v":""},"",{"$f":"IF(F187=\"\",\"\",VLOOKUP(F187,referentes!$T$2:$W$77,2,FALSE))","v":""},null,null,{"$f":"IF(I187=\"\",\"\",VLOOKUP(I187,'otras referencias'!$A$12:$B$15,2,FALSE))","v":""},null,null,null,null,null,null,"","",null,null,"","","","","",""]
[null,{"$f":"IF(C188=\"\",\"\",IF(COUNTIF($C$3:C188, C188)>1, \"\", C188))","v":""},{"$f":"IF(G188=\"\",\"\",IF(F188=\"\",\"\",CONCATENATE(2,DIGITADOR!$M$1,G188,E188)))","v":""},"",{"$f":"IF(F188=\"\",\"\",VLOOKUP(F188,referentes!$T$2:$W$77,2,FALSE))","v":""},null,null,{"$f":"IF(I188=\"\",\"\",VLOOKUP(I188,'otras referencias'!$A$12:$B$15,2,FALSE))","v":""},null,null,null,null,null,null,"","",null,null,"","","","","",""]
[null,{"$f":"IF(C189=\"\",\"\",IF(COUNTIF($C$3:C189, C189)>1, \"\", C189))","v":""},{"$f":"IF(G189=\"\",\"\",IF(F189=\"\",\"\",CONCATENATE(2,DIGITADOR!$M$1,G189,E189)))","v":""},"",{"$f":"IF(F189=\"\",\"\",VLOOKUP(F189,referentes!$T$2:$W$77,2,FALSE))","v":""},null,null,{"$f":"IF(I189=\"\",\"\",VLOOKUP(I189,'otras referencias'!$A$12:$B$15,2,FALSE))","v":""},null,null,null,null,null,null,"","",null,null,"","","","","",""]
[null,{"$f":"IF(C190=\"\",\"\",IF(COUNTIF($C$3:C190, C190)>1, \"\", C190))","v":""},{"$f":"IF(G190=\"\",\"\",IF(F190=\"\",\"\",CONCATENATE(2,DIGITADOR!$M$1,G190,E190)))","v":""},"",{"$f":"IF(F190=\"\",\"\",VLOOKUP(F190,referentes!$T$2:$W$77,2,FALSE))","v":""},null,null,{"$f":"IF(I190=\"\",\"\",VLOOKUP(I190,'otras referencias'!$A$12:$B$15,2,FALSE))","v":""},null,null,null,null,null,null,"","",null,null,"","","","","",""]
[null,{"$f":"IF(C191=\"\",\"\",IF(COUNTIF($C$3:C191, C191)>1, \"\", C191))","v":""},{"$f":"IF(G191=\"\",\"\",IF(F191=\"\",\"\",CONCATENATE(2,DIGITADOR!$M$1,G191,E191)))","v":""},"",{"$f":"IF(F191=\"\",\"\",VLOOKUP(F191,referentes!$T$2:$W$77,2,FALSE))","v":""},null,null,{"$f":"IF(I191=\"\",\"\",VLOOKUP(I191,'otras referencias'!$A$12:$B$15,2,FALSE))","v":""},null,null,null,null,null,null,"","",null,null,"","","","","",""]
[null,{"$f":"IF(C192=\"\",\"\",IF(COUNTIF($C$3:C192, C192)>1, \"\", C192))","v":""},{"$f":"IF(G192=\"\",\"\",IF(F192=\"\",\"\",CONCATENATE(2,DIGITADOR!$M$1,G192,E192)))","v":""},"",{"$f":"IF(F192=\"\",\"\",VLOOKUP(F192,referentes!$T$2:$W$77,2,FALSE))","v":""},null,null,{"$f":"IF(I192=\"\",\"\",VLOOKUP(I192,'otras referencias'!$A$12:$B$15,2,FALSE))","v":""},null,null,null,null,null,null,"","",null,null,"","","","","",""]
[null,{"$f":"IF(C193=\"\",\"\",IF(COUNTIF($C$3:C193, C193)>1, \"\", C193))","v":""},{"$f":"IF(G193=\"\",\"\",IF(F193=\"\",\"\",CONCATENATE(2,DIGITADOR!$M$1,G193,E193)))","v":""},"",{"$f":"IF(F193=\"\",\"\",VLOOKUP(F193,referentes!$T$2:$W$77,2,FALSE))","v":""},null,null,{"$f":"IF(I193=\"\",\"\",VLOOKUP(I193,'otras referencias'!$A$12:$B$15,2,FALSE))","v":""},null,null,null,null,null,null,"","",null,null,"","","","","",""]
[null,{"$f":"IF(C194=\"\",\"\",IF(COUNTIF($C$3:C194, C194)>1, \"\", C194))","v":""},{"$f":"IF(G194=\"\",\"\",IF(F194=\"\",\"\",CONCATENATE(2,DIGITADOR!$M$1,G194,E194)))","v":""},{"$f":"IF(C194=\"\",\"\",CONCATENATE(C194,ROW()-2))","v":""},{"$f":"IF(F194=\"\",\"\",VLOOKUP(F194,referentes!$T$2:$W$77,2,FALSE))","v":""},null,null,{"$f":"IF(I194=\"\",\"\",VLOOKUP(I194,'otras referencias'!$A$12:$B$15,2,FALSE))","v":""},null,null,null,null,null,null,{"$f":"IF(N194=\"\",\"\",N194/100)","v":""},{"$f":"IF(O194=\"\",\"\",O194^2)","v":""},null,null,{"$f":"IF(OR(Q194=\"\",R194=\"\"), IF(R194<>\"\", \"\", IF(Q194=\"\",\"\", ROUND(20/(Q194-0.5), 4))), R194/Q194)","v":""},{"$f":"IF(S194=\"\",\"\",IF(S194<1,0,1))","v":""},{"$f":"IF(OR(L194=\"\",P194=\"\"),\"\",ROUND((PI()/4)*L194*P194, 4))","v":""},{"$f":"IF(AND(S194=\"\",T194=\"\"),\"\",ROUND(IF(T194=0,0.6451-0.388*(LOG10(S194))-0.377*T194+0.3*(LOG10(S194))*T194, 0.6451-0.388*(LOG10(S194))-0.377*T194+0.3*(LOG10(S194))), 4))","v":""},{"$f":"IF(V194=\"\",\"\",ROUND((V194*1000000/1000), 4))","v":""},{"$f":"IF(OR(U194=\"\",W194=\"\"),\"\",ROUND(U194*W194,4))","v":""}]
[null,{"$f":"IF(C195=\"\",\"\",IF(COUNTIF($C$3:C195, C195)>1, \"\", C195))","v":""},{"$f":"IF(G195=\"\",\"\",IF(F195=\"\",\"\",CONCATENATE(2,DIGITADOR!$M$1,G195,E195)))","v":""},"",{"$f":"IF(F195=\"\",\"\",VLOOKUP(F195,referentes!$T$2:$W$77,2,FALSE))","v":""},null,null,{"$f":"IF(I195=\"\",\"\",VLOOKUP(I195,'otras referencias'!$A$12:$B$15,2,FALSE))","v":""},null,null,null,null,null,null,"","",null,null,"","","","","",""]
[null,{"$f":"IF(C196=\"\",\"\",IF(COUNTIF($C$3:C196, C196)>1, \"\", C196))","v":""},{"$f":"IF(G196=\"\",\"\",IF(F196=\"\",\"\",CONCATENATE(2,DIGITADOR!$M$1,G196,E196)))","v":""},"",{"$f":"IF(F196=\"\",\"\",VLOOKUP(F196,referentes!$T$2:$W$77,2,FALSE))","v":""},null,null,{"$f":"IF(I196=\"\",\"\",VLOOKUP(I196,'otras referencias'!$A$12:$B$15,2,FALSE))","v":""},null,null,null,null,null,null,"","",null,null,"","","","","",""]
[null,{"$f":"IF(C197=\"\",\"\",IF(COUNTIF($C$3:C197, C197)>1, \"\", C197))","v":""},{"$f":"IF(G197=\"\",\"\",IF(F197=\"\",\"\",CONCATENATE(2,DIGITADOR!$M$1,G197,E197)))","v":""},"",{"$f":"IF(F197=\"\",\"\",VLOOKUP(F197,referentes!$T$2:$W$77,2,FALSE))","v":""},null,null,{"$f":"IF(I197=\"\",\"\",VLOOKUP(I197,'otras referencias'!$A$12:$B$15,2,FALSE))","v":""},null,null,null,null,null,null,"","",null,null,"","","","","",""]
[null,{"$f":"IF(C198=\"\",\"\",IF(COUNTIF($C$3:C198, C198)>1, \"\", C198))","v":""},{"$f":"IF(G198=\"\",\"\",IF(F198=\"\",\"\",CONCATENATE(2,DIGITADOR!$M$1,G198,E198)))","v":""},"",{"$f":"IF(F198=\"\",\"\",VLOOKUP(F198,referentes!$T$2:$W$77,2,FALSE))","v":""},null,null,{"$f":"IF(I198=\"\",\"\",VLOOKUP(I198,'otras referencias'!$A$12:$B$15,2,FALSE))","v":""},null,null,null,null,null,null,"","",null,null,"","","","","",""]
[null,{"$f":"IF(C199=\"\",\"\",IF(COUNTIF($C$3:C199, C199)>1, \"\", C199))","v":""},{"$f":"IF(G199=\"\",\"\",IF(F199=\"\",\"\",CONCATENATE(2,DIGITADOR!$M$1,G199,E199)))","v":""},"",{"$f":"IF(F199=\"\",\"\",VLOOKUP(F199,referentes!$T$2:$W$77,2,FALSE))","v":""},null,null,{"$f":"IF(I199=\"\",\"\",VLOOKUP(I199,'otras referencias'!$A$12:$B$15,2,FALSE))","v":""},null,null,null,null,null,null,"","",null,null,"","","","","",""]
[null,{"$f":"IF(C200=\"\",\"\",IF(COUNTIF($C$3:C200, C200)>1, \"\", C200))","v":""},{"$f":"IF(G200=\"\",\"\",IF(F200=\"\",\"\",CONCATENATE(2,DIGITADOR!$M$1,G200,E200)))","v":""},"",{"$f":"IF(F200=\"\",\"\",VLOOKUP(F200,referentes!$T$2:$W$77,2,FALSE))","v":""},null,null,{"$f":"IF(I200=\"\",\"\",VLOOKUP(I200,'otras referencias'!$A$12:$B$15,2,FALSE))","v":""},null,null,null,null,null,null,"","",null,null,"","","","","",""]
[null,{"$f":"IF(C201=\"\",\"\",IF(COUNTIF($C$3:C201, C201)>1, \"\", C201))","v":""},{"$f":"IF(G201=\"\",\"\",IF(F201=\"\",\"\",CONCATENATE(2,DIGITADOR!$M$1,G201,E201)))","v":""},"",{"$f":"IF(F201=\"\",\"\",VLOOKUP(F201,referentes!$T$2:$W$77,2,FALSE))","v":""},null,null,{"$f":"IF(I201=\"\",\"\",VLOOKUP(I201,'otras referencias'!$A$12:$B$15,2,FALSE))","v":""},null,null,null,null,null,null,"","",null,null,"","","","","",""]
[null,{"$f":"IF(C202=\"\",\"\",IF(COUNTIF($C$3:C202, C202)>1, \"\", C202))","v":""},{"$f":"IF(G202=\"\",\"\",IF(F202=\"\",\"\",CONCATENATE(2,DIGITADOR!$M$1,G202,E202)))","v":""},"",{"$f":"IF(F202=\"\",\"\",VLOOKUP(F202,referentes!$T$2:$W$77,2,FALSE))","v":""},null,null,{"$f":"IF(I202=\"\",\"\",VLOOKUP(I202,'otras referencias'!$A$12:$B$15,2,FALSE))","v":""},null,null,null,null,null,null,"","",null,null,"","","","","",""]
[null,{"$f":"IF(C203=\"\",\"\",IF(COUNTIF($C$3:C203, C203)>1, \"\", C203))","v":""},{"$f":"IF(G203=\"\",\"\",IF(F203=\"\",\"\",CONCATENATE(2,DIGITADOR!$M$1,G203,E203)))","v":""},"",{"$f":"IF(F203=\"\",\"\",VLOOKUP(F203,referentes!$T$2:$W$77,2,FALSE))","v":""},null,null,{"$f":"IF(I203=\"\",\"\",VLOOKUP(I203,'otras referencias'!$A$12:$B$15,2,FALSE))","v":""},null,null,null,null,null,null,"","",null,null,"","","","","",""]
[null,{"$f":"IF(C204=\"\",\"\",IF(COUNTIF($C$3:C204, C204)>1, \"\", C204))","v":""},{"$f":"IF(G204=\"\",\"\",IF(F204=\"\",\"\",CONCATENATE(2,DIGITADOR!$M$1,G204,E204)))","v":""},"",{"$f":"IF(F204=\"\",\"\",VLOOKUP(F204,referentes!$T$2:$W$77,2,FALSE))","v":""},null,null,{"$f":"IF(I204=\"\",\"\",VLOOKUP(I204,'otras referencias'!$A$12:$B$15,2,FALSE))","v":""},null,null,null,null,null,null,"","",null,null,"","","","","",""]
[null,{"$f":"IF(C205=\"\",\"\",IF(COUNTIF($C$3:C205, C205)>1, \"\", C205))","v":""},{"$f":"IF(G205=\"\",\"\",IF(F205=\"\",\"\",CONCATENATE(2,DIGITADOR!$M$1,G205,E205)))","v":""},"",{"$f":"IF(F205=\"\",\"\",VLOOKUP(F205,referentes!$T$2:$W$77,2,FALSE))","v":""},null,null,{"$f":"IF(I205=\"\",\"\",VLOOKUP(I205,'otras referencias'!$A$12:$B$15,2,FALSE))","v":""},null,null,null,null,null,null,"","",null,null,"","","","","",""]
[null,{"$f":"IF(C206=\"\",\"\",IF(COUNTIF($C$3:C206, C206)>1, \"\", C206))","v":""},{"$f":"IF(G206=\"\",\"\",IF(F206=\"\",\"\",CONCATENATE(2,DIGITADOR!$M$1,G206,E206)))","v":""},"",{"$f":"IF(F206=\"\",\"\",VLOOKUP(F206,referentes!$T$2:$W$77,2,FALSE))","v":""},null,null,{"$f":"IF(I206=\"\",\"\",VLOOKUP(I206,'otras referencias'!$A$12:$B$15,2,FALSE))","v":""},null,null,null,null,null,null,"","",null,null,"","","","","",""]
[null,{"$f":"IF(C207=\"\",\"\",IF(COUNTIF($C$3:C207, C207)>1, \"\", C207))","v":""},{"$f":"IF(G207=\"\",\"\",IF(F207=\"\",\"\",CONCATENATE(2,DIGITADOR!$M$1,G207,E207)))","v":""},"",{"$f":"IF(F207=\"\",\"\",VLOOKUP(F207,referentes!$T$2:$W$77,2,FALSE))","v":""},null,null,{"$f":"IF(I207=\"\",\"\",VLOOKUP(I207,'otras referencias'!$A$12:$B$15,2,FALSE))","v":""},null,null,null,null,null,null,"","",null,null,"","","","","",""]
[null,{"$f":"IF(C208=\"\",\"\",IF(COUNTIF($C$3:C208, C208)>1, \"\", C208))","v":""},{"$f":"IF(G208=\"\",\"\",IF(F208=\"\",\"\",CONCATENATE(2,DIGITADOR!$M$1,G208,E208)))","v":""},"",{"$f":"IF(F208=\"\",\"\",VLOOKUP(F208,referentes!$T$2:$W$77,2,FALSE))","v":""},null,null,{"$f":"IF(I208=\"\",\"\",VLOOKUP(I208,'otras referencias'!$A$12:$B$15,2,FALSE))","v":""},null,null,null,null,null,null,"","",null,null,"","","","","",""]
[null,{"$f":"IF(C209=\"\",\"\",IF(COUNTIF($C$3:C209, C209)>1, \"\", C209))","v":""},{"$f":"IF(G209=\"\",\"\",IF(F209=\"\",\"\",CONCATENATE(2,DIGITADOR!$M$1,G209,E209)))","v":""},"",{"$f":"IF(F209=\"\",\"\",VLOOKUP(F209,referentes!$T$2:$W$77,2,FALSE))","v":""},null,null,{"$f":"IF(I209=\"\",\"\",VLOOKUP(I209,'otras referencias'!$A$12:$B$15,2,FALSE))","v":""},null,null,null,null,null,null,"","",null,null,"","","","","",""]
[null,{"$f":"IF(C210=\"\",\"\",IF(COUNTIF($C$3:C210, C210)>1, \"\", C210))","v":""},{"$f":"IF(G210=\"\",\"\",IF(F210=\"\",\"\",CONCATENATE(2,DIGITADOR!$M$1,G210,E210)))","v":""},"",{"$f":"IF(F210=\"\",\"\",VLOOKUP(F210,referentes!$T$2:$W$77,2,FALSE))","v":""},null,null,{"$f":"IF(I210=\"\",\"\",VLOOKUP(I210,'otras referencias'!$A$12:$B$15,2,FALSE))","v":""},null,null,null,null,null,null,"","",null,null,"","","","","",""]
[null,{"$f":"IF(C211=\"\",\"\",IF(COUNTIF($C$3:C211, C211)>1, \"\", C211))","v":""},{"$f":"IF(G211=\"\",\"\",IF(F211=\"\",\"\",CONCATENATE(2,DIGITADOR!$M$1,G211,E211)))","v":""},"",{"$f":"IF(F211=\"\",\"\",VLOOKUP(F211,referentes!$T$2:$W$77,2,FALSE))","v":""},null,null,{"$f":"IF(I211=\"\",\"\",VLOOKUP(I211,'otras referencias'!$A$12:$B$15,2,FALSE))","v":""},null,null,null,null,null,null,"","",null,null,"","","","","",""]
[null,{"$f":"IF(C212=\"\",\"\",IF(COUNTIF($C$3:C212, C212)>1, \"\", C212))","v":""},{"$f":"IF(G212=\"\",\"\",IF(F212=\"\",\"\",CONCATENATE(2,DIGITADOR!$M$1,G212,E212)))","v":""},"",{"$f":"IF(F212=\"\",\"\",VLOOKUP(F212,referentes!$T$2:$W$77,2,FALSE))","v":""},null,null,{"$f":"IF(I212=\"\",\"\",VLOOKUP(I212,'otras referencias'!$A$12:$B$15,2,FALSE))","v":""},null,null,null,null,null,null,"","",null,null,"","","","","",""]
[null,{"$f":"IF(C213=\"\",\"\",IF(COUNTIF($C$3:C213, C213)>1, \"\", C213))","v":""},{"$f":"IF(G213=\"\",\"\",IF(F213=\"\",\"\",CONCATENATE(2,DIGITADOR!$M$1,G213,E213)))","v":""},"",{"$f":"IF(F213=\"\",\"\",VLOOKUP(F213,referentes!$T$2:$W$77,2,FALSE))","v":""},null,null,{"$f":"IF(I213=\"\",\"\",VLOOKUP(I213,'otras referencias'!$A$12:$B$15,2,FALSE))","v":""},null,null,null,null,null,null,"","",null,null,"","","","","",""]
[null,{"$f":"IF(C214=\"\",\"\",IF(COUNTIF($C$3:C214, C214)>1, \"\", C214))","v":""},{"$f":"IF(G214=\"\",\"\",IF(F214=\"\",\"\",CONCATENATE(2,DIGITADOR!$M$1,G214,E214)))","v":""},"",{"$f":"IF(F214=\"\",\"\",VLOOKUP(F214,referentes!$T$2:$W$77,2,FALSE))","v":""},null,null,{"$f":"IF(I214=\"\",\"\",VLOOKUP(I214,'otras referencias'!$A$12:$B$15,2,FALSE))","v":""},null,null,null,null,null,null,"","",null,null,"","","","","",""]
[null,{"$f":"IF(C215=\"\",\"\",IF(COUNTIF($C$3:C215, C215)>1, \"\", C215))","v":""},{"$f":"IF(G215=\"\",\"\",IF(F215=\"\",\"\",CONCATENATE(2,DIGITADOR!$M$1,G215,E215)))","v":""},"",{"$f":"IF(F215=\"\",\"\",VLOOKUP(F215,referentes!$T$2:$W$77,2,FALSE))","v":""},null,null,{"$f":"IF(I215=\"\",\"\",VLOOKUP(I215,'otras referencias'!$A$12:$B$15,2,FALSE))","v":""},null,null,null,null,null,null,"","",null,null,"","","","","",""]
[null,{"$f":"IF(C216=\"\",\"\",IF(COUNTIF($C$3:C216, C216)>1, \"\", C216))","v":""},{"$f":"IF(G216=\"\",\"\",IF(F216=\"\",\"\",CONCATENATE(2,DIGITADOR!$M$1,G216,E216)))","v":""},"",{"$f":"IF(F216=\"\",\"\",VLOOKUP(F216,referentes!$T$2:$W$77,2,FALSE))","v":""},null,null,{"$f":"IF(I216=\"\",\"\",VLOOKUP(I216,'otras referencias'!$A$12:$B$15,2,FALSE))","v":""},null,null,null,null,null,null,"","",null,null,"","","","","",""]
[null,{"$f":"IF(C217=\"\",\"\",IF(COUNTIF($C$3:C217, C217)>1, \"\", C217))","v":""},{"$f":"IF(G217=\"\",\"\",IF(F217=\"\",\"\",CONCATENATE(2,DIGITADOR!$M$1,G217,E217)))","v":""},"",{"$f":"IF(F217=\"\",\"\",VLOOKUP(F217,referentes!$T$2:$W$77,2,FALSE))","v":""},null,null,{"$f":"IF(I217=\"\",\"\",VLOOKUP(I217,'otras referencias'!$A$12:$B$15,2,FALSE))","v":""},null,null,null,null,null,null,"","",null,null,"","","","","",""]
[null,{"$f":"IF(C218=\"\",\"\",IF(COUNTIF($C$3:C218, C218)>1, \"\", C218))","v":""},{"$f":"IF(G218=\"\",\"\",IF(F218=\"\",\"\",CONCATENATE(2,DIGITADOR!$M$1,G218,E218)))","v":""},"",{"$f":"IF(F218=\"\",\"\",VLOOKUP(F218,referentes!$T$2:$W$77,2,FALSE))","v":""},null,null,{"$f":"IF(I218=\"\",\"\",VLOOKUP(I218,'otras referencias'!$A$12:$B$15,2,FALSE))","v":""},null,null,null,null,null,null,"","",null,null,"","","","","",""]
[null,{"$f":"IF(C219=\"\",\"\",IF(COUNTIF($C$3:C219, C219)>1, \"\", C219))","v":""},{"$f":"IF(G219=\"\",\"\",IF(F219=\"\",\"\",CONCATENATE(2,DIGITADOR!$M$1,G219,E219)))","v":""},"",{"$f":"IF(F219=\"\",\"\",VLOOKUP(F219,referentes!$T$2:$W$77,2,FALSE))","v":""},null,null,{"$f":"IF(I219=\"\",\"\",VLOOKUP(I219,'otras referencias'!$A$12:$B$15,2,FALSE))","v":""},null,null,null,null,null,null,"","",null,null,"","","","","",""]
[null,{"$f":"IF(C220=\"\",\"\",IF(COUNTIF($C$3:C220, C220)>1, \"\", C220))","v":""},{"$f":"IF(G220=\"\",\"\",IF(F220=\"\",\"\",CONCATENATE(2,DIGITADOR!$M$1,G220,E220)))","v":""},"",{"$f":"IF(F220=\"\",\"\",VLOOKUP(F220,referentes!$T$2:$W$77,2,FALSE))","v":""},null,null,{"$f":"IF(I220=\"\",\"\",VLOOKUP(I220,'otras referencias'!$A$12:$B$15,2,FALSE))","v":""},null,null,null,null,null,null,"","",null,null,"","","","","",""]
[null,{"$f":"IF(C221=\"\",\"\",IF(COUNTIF($C$3:C221, C221)>1, \"\", C221))","v":""},{"$f":"IF(G221=\"\",\"\",IF(F221=\"\",\"\",CONCATENATE(2,DIGITADOR!$M$1,G221,E221)))","v":""},"",{"$f":"IF(F221=\"\",\"\",VLOOKUP(F221,referentes!$T$2:$W$77,2,FALSE))","v":""},null,null,{"$f":"IF(I221=\"\",\"\",VLOOKUP(I221,'otras referencias'!$A$12:$B$15,2,FALSE))","v":""},null,null,null,null,null,null,"","",null,null,"","","","","",""]
[null,{"$f":"IF(C222=\"\",\"\",IF(COUNTIF($C$3:C222, C222)>1, \"\", C222))","v":""},{"$f":"IF(G222=\"\",\"\",IF(F222=\"\",\"\",CONCATENATE(2,DIGITADOR!$M$1,G222,E222)))","v":""},"",{"$f":"IF(F222=\"\",\"\",VLOOKUP(F222,referentes!$T$2:$W$77,2,FALSE))","v":""},null,null,{"$f":"IF(I222=\"\",\"\",VLOOKUP(I222,'otras referencias'!$A$12:$B$15,2,FALSE))","v":""},null,null,null,null,null,null,"","",null,null,"","","","","",""]
[null,{"$f":"IF(C223=\"\",\"\",IF(COUNTIF($C$3:C223, C223)>1, \"\", C223))","v":""},{"$f":"IF(G223=\"\",\"\",IF(F223=\"\",\"\",CONCATENATE(2,DIGITADOR!$M$1,G223,E223)))","v":""},"",{"$f":"IF(F223=\"\",\"\",VLOOKUP(F223,referentes!$T$2:$W$77,2,FALSE))","v":""},null,null,{"$f":"IF(I223=\"\",\"\",VLOOKUP(I223,'otras referencias'!$A$12:$B$15,2,FALSE))","v":""},null,null,null,null,null,null,"","",null,null,"","","","","",""]
[null,{"$f":"IF(C224=\"\",\"\",IF(COUNTIF($C$3:C224, C224)>1, \"\", C224))","v":""},{"$f":"IF(G224=\"\",\"\",IF(F224=\"\",\"\",CONCATENATE(2,DIGITADOR!$M$1,G224,E224)))","v":""},"",{"$f":"IF(F224=\"\",\"\",VLOOKUP(F224,referentes!$T$2:$W$77,2,FALSE))","v":""},null,null,{"$f":"IF(I224=\"\",\"\",VLOOKUP(I224,'otras referencias'!$A$12:$B$15,2,FALSE))","v":""},null,null,null,null,null,null,"","",null,null,"","","","","",""]
[null,{"$f":"IF(C225=\"\",\"\",IF(COUNTIF($C$3:C225, C225)>1, \"\", C225))","v":""},{"$f":"IF(G225=\"\",\"\",IF(F225=\"\",\"\",CONCATENATE(2,DIGITADOR!$M$1,G225,E225)))","v":""},"",{"$f":"IF(F225=\"\",\"\",VLOOKUP(F225,referentes!$T$2:$W$77,2,FALSE))","v":""},null,null,{"$f":"IF(I225=\"\",\"\",VLOOKUP(I225,'otras referencias'!$A$12:$B$15,2,FALSE))","v":""},null,null,null,null,null,null,"","",null,null,"","","","","",""]
[null,{"$f":"IF(C226=\"\",\"\",IF(COUNTIF($C$3:C226, C226)>1, \"\", C226))","v":""},{"$f":"IF(G226=\"\",\"\",IF(F226=\"\",\"\",CONCATENATE(2,DIGITADOR!$M$1,G226,E226)))","v":""},"",{"$f":"IF(F226=\"\",\"\",VLOOKUP(F226,referentes!$T$2:$W$77,2,FALSE))","v":""},null,null,{"$f":"IF(I226=\"\",\"\",VLOOKUP(I226,'otras referencias'!$A$12:$B$15,2,FALSE))","v":""},null,null,null,null,null,null,"","",null,null,"","","","","",""]
[null,{"$f":"IF(C227=\"\",\"\",IF(COUNTIF($C$3:C227, C227)>1, \"\", C227))","v":""},{"$f":"IF(G227=\"\",\"\",IF(F227=\"\",\"\",CONCATENATE(2,DIGITADOR!$M$1,G227,E227)))","v":""},"",{"$f":"IF(F227=\"\",\"\",VLOOKUP(F227,referentes!$T$2:$W$77,2,FALSE))","v":""},null,null,{"$f":"IF(I227=\"\",\"\",VLOOKUP(I227,'otras referencias'!$A$12:$B$15,2,FALSE))","v":""},null,null,null,null,null,null,"","",null,null,"","","","","",""]
[null,{"$f":"IF(C228=\"\",\"\",IF(COUNTIF($C$3:C228, C228)>1, \"\", C228))","v":""},{"$f":"IF(G228=\"\",\"\",IF(F228=\"\",\"\",CONCATENATE(2,DIGITADOR!$M$1,G228,E228)))","v":""},"",{"$f":"IF(F228=\"\",\"\",VLOOKUP(F228,referentes!$T$2:$W$77,2,FALSE))","v":""},null,null,{"$f":"IF(I228=\"\",\"\",VLOOKUP(I228,'otras referencias'!$A$12:$B$15,2,FALSE))","v":""},null,null,null,null,null,null,"","",null,null,"","","","","",""]
[null,{"$f":"IF(C229=\"\",\"\",IF(COUNTIF($C$3:C229, C229)>1, \"\", C229))","v":""},{"$f":"IF(G229=\"\",\"\",IF(F229=\"\",\"\",CONCATENATE(2,DIGITADOR!$M$1,G229,E229)))","v":""},"",{"$f":"IF(F229=\"\",\"\",VLOOKUP(F229,referentes!$T$2:$W$77,2,FALSE))","v":""},null,null,{"$f":"IF(I229=\"\",\"\",VLOOKUP(I229,'otras referencias'!$A$12:$B$15,2,FALSE))","v":""},null,null,null,null,null,null,"","",null,null,"","","","","",""]
[null,{"$f":"IF(C230=\"\",\"\",IF(COUNTIF($C$3:C230, C230)>1, \"\", C230))","v":""},{"$f":"IF(G230=\"\",\"\",IF(F230=\"\",\"\",CONCATENATE(2,DIGITADOR!$M$1,G230,E230)))","v":""},"",{"$f":"IF(F230=\"\",\"\",VLOOKUP(F230,referentes!$T$2:$W$77,2,FALSE))","v":""},null,null,{"$f":"IF(I230=\"\",\"\",VLOOKUP(I230,'otras referencias'!$A$12:$B$15,2,FALSE))","v":""},null,null,null,null,null,null,"","",null,null,"","","","","",""]
[null,{"$f":"IF(C231=\"\",\"\",IF(COUNTIF($C$3:C231, C231)>1, \"\", C231))","v":""},{"$f":"IF(G231=\"\",\"\",IF(F231=\"\",\"\",CONCATENATE(2,DIGITADOR!$M$1,G231,E231)))","v":""},"",{"$f":"IF(F231=\"\",\"\",VLOOKUP(F231,referentes!$T$2:$W$77,2,FALSE))","v":""},null,null,{"$f":"IF(I231=\"\",\"\",VLOOKUP(I231,'otras referencias'!$A$12:$B$15,2,FALSE))","v":""},null,null,null,null,null,null,"","",null,null,"","","","","",""]
[null,{"$f":"IF(C232=\"\",\"\",IF(COUNTIF($C$3:C232, C232)>1, \"\", C232))","v":""},{"$f":"IF(G232=\"\",\"\",IF(F232=\"\",\"\",CONCATENATE(2,DIGITADOR!$M$1,G232,E232)))","v":""},"",{"$f":"IF(F232=\"\",\"\",VLOOKUP(F232,referentes!$T$2:$W$77,2,FALSE))","v":""},null,null,{"$f":"IF(I232=\"\",\"\",VLOOKUP(I232,'otras referencias'!$A$12:$B$15,2,FALSE))","v":""},null,null,null,null,null,null,"","",null,null,"","","","","",""]
[null,{"$f":"IF(C233=\"\",\"\",IF(COUNTIF($C$3:C233, C233)>1, \"\", C233))","v":""},{"$f":"IF(G233=\"\",\"\",IF(F233=\"\",\"\",CONCATENATE(2,DIGITADOR!$M$1,G233,E233)))","v":""},"",{"$f":"IF(F233=\"\",\"\",VLOOKUP(F233,referentes!$T$2:$W$77,2,FALSE))","v":""},null,null,{"$f":"IF(I233=\"\",\"\",VLOOKUP(I233,'otras referencias'!$A$12:$B$15,2,FALSE))","v":""},null,null,null,null,null,null,"","",null,null,"","","","","",""]
[null,{"$f":"IF(C234=\"\",\"\",IF(COUNTIF($C$3:C234, C234)>1, \"\", C234))","v":""},{"$f":"IF(G234=\"\",\"\",IF(F234=\"\",\"\",CONCATENATE(2,DIGITADOR!$M$1,G234,E234)))","v":""},"",{"$f":"IF(F234=\"\",\"\",VLOOKUP(F234,referentes!$T$2:$W$77,2,FALSE))","v":""},null,null,{"$f":"IF(I234=\"\",\"\",VLOOKUP(I234,'otras referencias'!$A$12:$B$15,2,FALSE))","v":""},null,null,null,null,null,null,"","",null,null,"","","","","",""]
[null,{"$f":"IF(C235=\"\",\"\",IF(COUNTIF($C$3:C235, C235)>1, \"\", C235))","v":""},{"$f":"IF(G235=\"\",\"\",IF(F235=\"\",\"\",CONCATENATE(2,DIGITADOR!$M$1,G235,E235)))","v":""},"",{"$f":"IF(F235=\"\",\"\",VLOOKUP(F235,referentes!$T$2:$W$77,2,FALSE))","v":""},null,null,{"$f":"IF(I235=\"\",\"\",VLOOKUP(I235,'otras referencias'!$A$12:$B$15,2,FALSE))","v":""},null,null,null,null,null,null,"","",null,null,"","","","","",""]
[null,{"$f":"IF(C236=\"\",\"\",IF(COUNTIF($C$3:C236, C236)>1, \"\", C236))","v":""},{"$f":"IF(G236=\"\",\"\",IF(F236=\"\",\"\",CONCATENATE(2,DIGITADOR!$M$1,G236,E236)))","v":""},"",{"$f":"IF(F236=\"\",\"\",VLOOKUP(F236,referentes!$T$2:$W$77,2,FALSE))","v":""},null,null,{"$f":"IF(I236=\"\",\"\",VLOOKUP(I236,'otras referencias'!$A$12:$B$15,2,FALSE))","v":""},null,null,null,null,null,null,"","",null,null,"","","","","",""]
[null,{"$f":"IF(C237=\"\",\"\",IF(COUNTIF($C$3:C237, C237)>1, \"\", C237))","v":""},{"$f":"IF(G237=\"\",\"\",IF(F237=\"\",\"\",CONCATENATE(2,DIGITADOR!$M$1,G237,E237)))","v":""},"",{"$f":"IF(F237=\"\",\"\",VLOOKUP(F237,referentes!$T$2:$W$77,2,FALSE))","v":""},null,null,{"$f":"IF(I237=\"\",\"\",VLOOKUP(I237,'otras referencias'!$A$12:$B$15,2,FALSE))","v":""},null,null,null,null,null,null,"","",null,null,"","","","","",""]
[null,{"$f":"IF(C238=\"\",\"\",IF(COUNTIF($C$3:C238, C238)>1, \"\", C238))","v":""},{"$f":"IF(G238=\"\",\"\",IF(F238=\"\",\"\",CONCATENATE(2,DIGITADOR!$M$1,G238,E238)))","v":""},"",{"$f":"IF(F238=\"\",\"\",VLOOKUP(F238,referentes!$T$2:$W$77,2,FALSE))","v":""},null,null,{"$f":"IF(I238=\"\",\"\",VLOOKUP(I238,'otras referencias'!$A$12:$B$15,2,FALSE))","v":""},null,null,null,null,null,null,"","",null,null,"","","","","",""]
[null,{"$f":"IF(C239=\"\",\"\",IF(COUNTIF($C$3:C239, C239)>1, \"\", C239))","v":""},{"$f":"IF(G239=\"\",\"\",IF(F239=\"\",\"\",CONCATENATE(2,DIGITADOR!$M$1,G239,E239)))","v":""},"",{"$f":"IF(F239=\"\",\"\",VLOOKUP(F239,referentes!$T$2:$W$77,2,FALSE))","v":""},null,null,{"$f":"IF(I239=\"\",\"\",VLOOKUP(I239,'otras referencias'!$A$12:$B$15,2,FALSE))","v":""},null,null,null,null,null,null,"","",null,null,"","","","","",""]
[null,{"$f":"IF(C240=\"\",\"\",IF(COUNTIF($C$3:C240, C240)>1, \"\", C240))","v":""},{"$f":"IF(G240=\"\",\"\",IF(F240=\"\",\"\",CONCATENATE(2,DIGITADOR!$M$1,G240,E240)))","v":""},"",{"$f":"IF(F240=\"\",\"\",VLOOKUP(F240,referentes!$T$2:$W$77,2,FALSE))","v":""},null,null,{"$f":"IF(I240=\"\",\"\",VLOOKUP(I240,'otras referencias'!$A$12:$B$15,2,FALSE))","v":""},null,null,null,null,null,null,"","",null,null,"","","","","",""]
[null,{"$f":"IF(C241=\"\",\"\",IF(COUNTIF($C$3:C241, C241)>1, \"\", C241))","v":""},{"$f":"IF(G241=\"\",\"\",IF(F241=\"\",\"\",CONCATENATE(2,DIGITADOR!$M$1,G241,E241)))","v":""},"",{"$f":"IF(F241=\"\",\"\",VLOOKUP(F241,referentes!$T$2:$W$77,2,FALSE))","v":""},null,null,{"$f":"IF(I241=\"\",\"\",VLOOKUP(I241,'otras referencias'!$A$12:$B$15,2,FALSE))","v":""},null,null,null,null,null,null,"","",null,null,"","","","","",""]
[null,{"$f":"IF(C242=\"\",\"\",IF(COUNTIF($C$3:C242, C242)>1, \"\", C242))","v":""},{"$f":"IF(G242=\"\",\"\",IF(F242=\"\",\"\",CONCATENATE(2,DIGITADOR!$M$1,G242,E242)))","v":""},"",{"$f":"IF(F242=\"\",\"\",VLOOKUP(F242,referentes!$T$2:$W$77,2,FALSE))","v":""},null,null,{"$f":"IF(I242=\"\",\"\",VLOOKUP(I242,'otras referencias'!$A$12:$B$15,2,FALSE))","v":""},null,null,null,null,null,null,"","",null,null,"","","","","",""]
[null,{"$f":"IF(C243=\"\",\"\",IF(COUNTIF($C$3:C243, C243)>1, \"\", C243))","v":""},{"$f":"IF(G243=\"\",\"\",IF(F243=\"\",\"\",CONCATENATE(2,DIGITADOR!$M$1,G243,E243)))","v":""},"",{"$f":"IF(F243=\"\",\"\",VLOOKUP(F243,referentes!$T$2:$W$77,2,FALSE))","v":""},null,null,{"$f":"IF(I243=\"\",\"\",VLOOKUP(I243,'otras referencias'!$A$12:$B$15,2,FALSE))","v":""},null,null,null,null,null,null,"","",null,null,"","","","","",""]
[null,{"$f":"IF(C244=\"\",\"\",IF(COUNTIF($C$3:C244, C244)>1, \"\", C244))","v":""},{"$f":"IF(G244=\"\",\"\",IF(F244=\"\",\"\",CONCATENATE(2,DIGITADOR!$M$1,G244,E244)))","v":""},"",{"$f":"IF(F244=\"\",\"\",VLOOKUP(F244,referentes!$T$2:$W$77,2,FALSE))","v":""},null,null,{"$f":"IF(I244=\"\",\"\",VLOOKUP(I244,'otras referencias'!$A$12:$B$15,2,FALSE))","v":""},null,null,null,null,null,null,"","",null,null,"","","","","",""]
[null,{"$f":"IF(C245=\"\",\"\",IF(COUNTIF($C$3:C245, C245)>1, \"\", C245))","v":""},{"$f":"IF(G245=\"\",\"\",IF(F245=\"\",\"\",CONCATENATE(2,DIGITADOR!$M$1,G245,E245)))","v":""},"",{"$f":"IF(F245=\"\",\"\",VLOOKUP(F245,referentes!$T$2:$W$77,2,FALSE))","v":""},null,null,{"$f":"IF(I245=\"\",\"\",VLOOKUP(I245,'otras referencias'!$A$12:$B$15,2,FALSE))","v":""},null,null,null,null,null,null,"","",null,null,"","","","","",""]
[null,{"$f":"IF(C246=\"\",\"\",IF(COUNTIF($C$3:C246, C246)>1, \"\", C246))","v":""},{"$f":"IF(G246=\"\",\"\",IF(F246=\"\",\"\",CONCATENATE(2,DIGITADOR!$M$1,G246,E246)))","v":""},"",{"$f":"IF(F246=\"\",\"\",VLOOKUP(F246,referentes!$T$2:$W$77,2,FALSE))","v":""},null,null,{"$f":"IF(I246=\"\",\"\",VLOOKUP(I246,'otras referencias'!$A$12:$B$15,2,FALSE))","v":""},null,null,null,null,null,null,"","",null,null,"","","","","",""]
[null,{"$f":"IF(C247=\"\",\"\",IF(COUNTIF($C$3:C247, C247)>1, \"\", C247))","v":""},{"$f":"IF(G247=\"\",\"\",IF(F247=\"\",\"\",CONCATENATE(2,DIGITADOR!$M$1,G247,E247)))","v":""},"",{"$f":"IF(F247=\"\",\"\",VLOOKUP(F247,referentes!$T$2:$W$77,2,FALSE))","v":""},null,null,{"$f":"IF(I247=\"\",\"\",VLOOKUP(I247,'otras referencias'!$A$12:$B$15,2,FALSE))","v":""},null,null,null,null,null,null,"","",null,null,"","","","","",""]
[null,{"$f":"IF(C248=\"\",\"\",IF(COUNTIF($C$3:C248, C248)>1, \"\", C248))","v":""},{"$f":"IF(G248=\"\",\"\",IF(F248=\"\",\"\",CONCATENATE(2,DIGITADOR!$M$1,G248,E248)))","v":""},"",{"$f":"IF(F248=\"\",\"\",VLOOKUP(F248,referentes!$T$2:$W$77,2,FALSE))","v":""},null,null,{"$f":"IF(I248=\"\",\"\",VLOOKUP(I248,'otras referencias'!$A$12:$B$15,2,FALSE))","v":""},null,null,null,null,null,null,"","",null,null,"","","","","",""]
[null,{"$f":"IF(C249=\"\",\"\",IF(COUNTIF($C$3:C249, C249)>1, \"\", C249))","v":""},{"$f":"IF(G249=\"\",\"\",IF(F249=\"\",\"\",CONCATENATE(2,DIGITADOR!$M$1,G249,E249)))","v":""},"",{"$f":"IF(F249=\"\",\"\",VLOOKUP(F249,referentes!$T$2:$W$77,2,FALSE))","v":""},null,null,{"$f":"IF(I249=\"\",\"\",VLOOKUP(I249,'otras referencias'!$A$12:$B$15,2,FALSE))","v":""},null,null,null,null,null,null,"","",null,null,"","","","","",""]
[null,{"$f":"IF(C250=\"\",\"\",IF(COUNTIF($C$3:C250, C250)>1, \"\", C250))","v":""},{"$f":"IF(G250=\"\",\"\",IF(F250=\"\",\"\",CONCATENATE(2,DIGITADOR!$M$1,G250,E250)))","v":""},"",{"$f":"IF(F250=\"\",\"\",VLOOKUP(F250,referentes!$T$2:$W$77,2,FALSE))","v":""},null,null,{"$f":"IF(I250=\"\",\"\",VLOOKUP(I250,'otras referencias'!$A$12:$B$15,2,FALSE))","v":""},null,null,null,null,null,null,"","",null,null,"","","","","",""]
[null,{"$f":"IF(C251=\"\",\"\",IF(COUNTIF($C$3:C251, C251)>1, \"\", C251))","v":""},{"$f":"IF(G251=\"\",\"\",IF(F251=\"\",\"\",CONCATENATE(2,DIGITADOR!$M$1,G251,E251)))","v":""},"",{"$f":"IF(F251=\"\",\"\",VLOOKUP(F251,referentes!$T$2:$W$77,2,FALSE))","v":""},null,null,{"$f":"IF(I251=\"\",\"\",VLOOKUP(I251,'otras referencias'!$A$12:$B$15,2,FALSE))","v":""},null,null,null,null,null,null,"","",null,null,"","","","","",""]
[null,{"$f":"IF(C252=\"\",\"\",IF(COUNTIF($C$3:C252, C252)>1, \"\", C252))","v":""},{"$f":"IF(G252=\"\",\"\",IF(F252=\"\",\"\",CONCATENATE(2,DIGITADOR!$M$1,G252,E252)))","v":""},"",{"$f":"IF(F252=\"\",\"\",VLOOKUP(F252,referentes!$T$2:$W$77,2,FALSE))","v":""},null,null,{"$f":"IF(I252=\"\",\"\",VLOOKUP(I252,'otras referencias'!$A$12:$B$15,2,FALSE))","v":""},null,null,null,null,null,null,"","",null,null,"","","","","",""]
[null,{"$f":"IF(C253=\"\",\"\",IF(COUNTIF($C$3:C253, C253)>1, \"\", C253))","v":""},{"$f":"IF(G253=\"\",\"\",IF(F253=\"\",\"\",CONCATENATE(2,DIGITADOR!$M$1,G253,E253)))","v":""},"",{"$f":"IF(F253=\"\",\"\",VLOOKUP(F253,referentes!$T$2:$W$77,2,FALSE))","v":""},null,null,{"$f":"IF(I253=\"\",\"\",VLOOKUP(I253,'otras referencias'!$A$12:$B$15,2,FALSE))","v":""},null,null,null,null,null,null,"","",null,null,"","","","","",""]
[null,{"$f":"IF(C254=\"\",\"\",IF(COUNTIF($C$3:C254, C254)>1, \"\", C254))","v":""},{"$f":"IF(G254=\"\",\"\",IF(F254=\"\",\"\",CONCATENATE(2,DIGITADOR!$M$1,G254,E254)))","v":""},"",{"$f":"IF(F254=\"\",\"\",VLOOKUP(F254,referentes!$T$2:$W$77,2,FALSE))","v":""},null,null,{"$f":"IF(I254=\"\",\"\",VLOOKUP(I254,'otras referencias'!$A$12:$B$15,2,FALSE))","v":""},null,null,null,null,null,null,"","",null,null,"","","","","",""]
[null,{"$f":"IF(C255=\"\",\"\",IF(COUNTIF($C$3:C255, C255)>1, \"\", C255))","v":""},{"$f":"IF(G255=\"\",\"\",IF(F255=\"\",\"\",CONCATENATE(2,DIGITADOR!$M$1,G255,E255)))","v":""},"",{"$f":"IF(F255=\"\",\"\",VLOOKUP(F255,referentes!$T$2:$W$77,2,FALSE))","v":""},null,null,{"$f":"IF(I255=\"\",\"\",VLOOKUP(I255,'otras referencias'!$A$12:$B$15,2,FALSE))","v":""},null,null,null,null,null,null,"","",null,null,"","","","","",""]
[null,{"$f":"IF(C256=\"\",\"\",IF(COUNTIF($C$3:C256, C256)>1, \"\", C256))","v":""},{"$f":"IF(G256=\"\",\"\",IF(F256=\"\",\"\",CONCATENATE(2,DIGITADOR!$M$1,G256,E256)))","v":""},"",{"$f":"IF(F256=\"\",\"\",VLOOKUP(F256,referentes!$T$2:$W$77,2,FALSE))","v":""},null,null,{"$f":"IF(I256=\"\",\"\",VLOOKUP(I256,'otras referencias'!$A$12:$B$15,2,FALSE))","v":""},null,null,null,null,null,null,"","",null,null,"","","","","",""]
[null,{"$f":"IF(C257=\"\",\"\",IF(COUNTIF($C$3:C257, C257)>1, \"\", C257))","v":""},{"$f":"IF(G257=\"\",\"\",IF(F257=\"\",\"\",CONCATENATE(2,DIGITADOR!$M$1,G257,E257)))","v":""},"",{"$f":"IF(F257=\"\",\"\",VLOOKUP(F257,referentes!$T$2:$W$77,2,FALSE))","v":""},null,null,{"$f":"IF(I257=\"\",\"\",VLOOKUP(I257,'otras referencias'!$A$12:$B$15,2,FALSE))","v":""},null,null,null,null,null,null,"","",null,null,"","","","","",""]
[null,{"$f":"IF(C258=\"\",\"\",IF(COUNTIF($C$3:C258, C258)>1, \"\", C258))","v":""},{"$f":"IF(G258=\"\",\"\",IF(F258=\"\",\"\",CONCATENATE(2,DIGITADOR!$M$1,G258,E258)))","v":""},{"$f":"IF(C258=\"\",\"\",CONCATENATE(C258,ROW()-2))","v":""},{"$f":"IF(F258=\"\",\"\",VLOOKUP(F258,referentes!$T$2:$W$77,2,FALSE))","v":""},null,null,{"$f":"IF(I258=\"\",\"\",VLOOKUP(I258,'otras referencias'!$A$12:$B$15,2,FALSE))","v":""},null,null,null,null,null,null,{"$f":"IF(N258=\"\",\"\",N258/100)","v":""},{"$f":"IF(O258=\"\",\"\",O258^2)","v":""},null,null,{"$f":"IF(OR(Q258=\"\",R258=\"\"), IF(R258<>\"\", \"\", IF(Q258=\"\",\"\", ROUND(20/(Q258-0.5), 4))), R258/Q258)","v":""},{"$f":"IF(S258=\"\",\"\",IF(S258<1,0,1))","v":""},{"$f":"IF(OR(L258=\"\",P258=\"\"),\"\",ROUND((PI()/4)*L258*P258, 4))","v":""},{"$f":"IF(AND(S258=\"\",T258=\"\"),\"\",ROUND(IF(T258=0,0.6451-0.388*(LOG10(S258))-0.377*T258+0.3*(LOG10(S258))*T258, 0.6451-0.388*(LOG10(S258))-0.377*T258+0.3*(LOG10(S258))), 4))","v":""},{"$f":"IF(V258=\"\",\"\",ROUND((V258*1000000/1000), 4))","v":""},{"$f":"IF(OR(U258=\"\",W258=\"\"),\"\",ROUND(U258*W258,4))","v":""}]
[null,{"$f":"IF(C259=\"\",\"\",IF(COUNTIF($C$3:C259, C259)>1, \"\", C259))","v":""},{"$f":"IF(G259=\"\",\"\",IF(F259=\"\",\"\",CONCATENATE(2,DIGITADOR!$M$1,G259,E259)))","v":""},"",{"$f":"IF(F259=\"\",\"\",VLOOKUP(F259,referentes!$T$2:$W$77,2,FALSE))","v":""},null,null,{"$f":"IF(I259=\"\",\"\",VLOOKUP(I259,'otras referencias'!$A$12:$B$15,2,FALSE))","v":""},null,null,null,null,null,null,"","",null,null,"","","","","",""]
[null,{"$f":"IF(C260=\"\",\"\",IF(COUNTIF($C$3:C260, C260)>1, \"\", C260))","v":""},{"$f":"IF(G260=\"\",\"\",IF(F260=\"\",\"\",CONCATENATE(2,DIGITADOR!$M$1,G260,E260)))","v":""},"",{"$f":"IF(F260=\"\",\"\",VLOOKUP(F260,referentes!$T$2:$W$77,2,FALSE))","v":""},null,null,{"$f":"IF(I260=\"\",\"\",VLOOKUP(I260,'otras referencias'!$A$12:$B$15,2,FALSE))","v":""},null,null,null,null,null,null,"","",null,null,"","","","","",""]
[null,{"$f":"IF(C261=\"\",\"\",IF(COUNTIF($C$3:C261, C261)>1, \"\", C261))","v":""},{"$f":"IF(G261=\"\",\"\",IF(F261=\"\",\"\",CONCATENATE(2,DIGITADOR!$M$1,G261,E261)))","v":""},"",{"$f":"IF(F261=\"\",\"\",VLOOKUP(F261,referentes!$T$2:$W$77,2,FALSE))","v":""},null,null,{"$f":"IF(I261=\"\",\"\",VLOOKUP(I261,'otras referencias'!$A$12:$B$15,2,FALSE))","v":""},null,null,null,null,null,null,"","",null,null,"","","","","",""]
[null,{"$f":"IF(C262=\"\",\"\",IF(COUNTIF($C$3:C262, C262)>1, \"\", C262))","v":""},{"$f":"IF(G262=\"\",\"\",IF(F262=\"\",\"\",CONCATENATE(2,DIGITADOR!$M$1,G262,E262)))","v":""},"",{"$f":"IF(F262=\"\",\"\",VLOOKUP(F262,referentes!$T$2:$W$77,2,FALSE))","v":""},null,null,{"$f":"IF(I262=\"\",\"\",VLOOKUP(I262,'otras referencias'!$A$12:$B$15,2,FALSE))","v":""},null,null,null,null,null,null,"","",null,null,"","","","","",""]
[null,{"$f":"IF(C263=\"\",\"\",IF(COUNTIF($C$3:C263, C263)>1, \"\", C263))","v":""},{"$f":"IF(G263=\"\",\"\",IF(F263=\"\",\"\",CONCATENATE(2,DIGITADOR!$M$1,G263,E263)))","v":""},"",{"$f":"IF(F263=\"\",\"\",VLOOKUP(F263,referentes!$T$2:$W$77,2,FALSE))","v":""},null,null,{"$f":"IF(I263=\"\",\"\",VLOOKUP(I263,'otras referencias'!$A$12:$B$15,2,FALSE))","v":""},null,null,null,null,null,null,"","",null,null,"","","","","",""]
[null,{"$f":"IF(C264=\"\",\"\",IF(COUNTIF($C$3:C264, C264)>1, \"\", C264))","v":""},{"$f":"IF(G264=\"\",\"\",IF(F264=\"\",\"\",CONCATENATE(2,DIGITADOR!$M$1,G264,E264)))","v":""},"",{"$f":"IF(F264=\"\",\"\",VLOOKUP(F264,referentes!$T$2:$W$77,2,FALSE))","v":""},null,null,{"$f":"IF(I264=\"\",\"\",VLOOKUP(I264,'otras referencias'!$A$12:$B$15,2,FALSE))","v":""},null,null,null,null,null,null,"","",null,null,"","","","","",""]
[null,{"$f":"IF(C265=\"\",\"\",IF(COUNTIF($C$3:C265, C265)>1, \"\", C265))","v":""},{"$f":"IF(G265=\"\",\"\",IF(F265=\"\",\"\",CONCATENATE(2,DIGITADOR!$M$1,G265,E265)))","v":""},"",{"$f":"IF(F265=\"\",\"\",VLOOKUP(F265,referentes!$T$2:$W$77,2,FALSE))","v":""},null,null,{"$f":"IF(I265=\"\",\"\",VLOOKUP(I265,'otras referencias'!$A$12:$B$15,2,FALSE))","v":""},null,null,null,null,null,null,"","",null,null,"","","","","",""]
[null,{"$f":"IF(C266=\"\",\"\",IF(COUNTIF($C$3:C266, C266)>1, \"\", C266))","v":""},{"$f":"IF(G266=\"\",\"\",IF(F266=\"\",\"\",CONCATENATE(2,DIGITADOR!$M$1,G266,E266)))","v":""},"",{"$f":"IF(F266=\"\",\"\",VLOOKUP(F266,referentes!$T$2:$W$77,2,FALSE))","v":""},null,null,{"$f":"IF(I266=\"\",\"\",VLOOKUP(I266,'otras referencias'!$A$12:$B$15,2,FALSE))","v":""},null,null,null,null,null,null,"","",null,null,"","","","","",""]
[null,{"$f":"IF(C267=\"\",\"\",IF(COUNTIF($C$3:C267, C267)>1, \"\", C267))","v":""},{"$f":"IF(G267=\"\",\"\",IF(F267=\"\",\"\",CONCATENATE(2,DIGITADOR!$M$1,G267,E267)))","v":""},"",{"$f":"IF(F267=\"\",\"\",VLOOKUP(F267,referentes!$T$2:$W$77,2,FALSE))","v":""},null,null,{"$f":"IF(I267=\"\",\"\",VLOOKUP(I267,'otras referencias'!$A$12:$B$15,2,FALSE))","v":""},null,null,null,null,null,null,"","",null,null,"","","","","",""]
[null,{"$f":"IF(C268=\"\",\"\",IF(COUNTIF($C$3:C268, C268)>1, \"\", C268))","v":""},{"$f":"IF(G268=\"\",\"\",IF(F268=\"\",\"\",CONCATENATE(2,DIGITADOR!$M$1,G268,E268)))","v":""},"",{"$f":"IF(F268=\"\",\"\",VLOOKUP(F268,referentes!$T$2:$W$77,2,FALSE))","v":""},null,null,{"$f":"IF(I268=\"\",\"\",VLOOKUP(I268,'otras referencias'!$A$12:$B$15,2,FALSE))","v":""},null,null,null,null,null,null,"","",null,null,"","","","","",""]
[null,{"$f":"IF(C269=\"\",\"\",IF(COUNTIF($C$3:C269, C269)>1, \"\", C269))","v":""},{"$f":"IF(G269=\"\",\"\",IF(F269=\"\",\"\",CONCATENATE(2,DIGITADOR!$M$1,G269,E269)))","v":""},"",{"$f":"IF(F269=\"\",\"\",VLOOKUP(F269,referentes!$T$2:$W$77,2,FALSE))","v":""},null,null,{"$f":"IF(I269=\"\",\"\",VLOOKUP(I269,'otras referencias'!$A$12:$B$15,2,FALSE))","v":""},null,null,null,null,null,null,"","",null,null,"","","","","",""]
[null,{"$f":"IF(C270=\"\",\"\",IF(COUNTIF($C$3:C270, C270)>1, \"\", C270))","v":""},{"$f":"IF(G270=\"\",\"\",IF(F270=\"\",\"\",CONCATENATE(2,DIGITADOR!$M$1,G270,E270)))","v":""},"",{"$f":"IF(F270=\"\",\"\",VLOOKUP(F270,referentes!$T$2:$W$77,2,FALSE))","v":""},null,null,{"$f":"IF(I270=\"\",\"\",VLOOKUP(I270,'otras referencias'!$A$12:$B$15,2,FALSE))","v":""},null,null,null,null,null,null,"","",null,null,"","","","","",""]
[null,{"$f":"IF(C271=\"\",\"\",IF(COUNTIF($C$3:C271, C271)>1, \"\", C271))","v":""},{"$f":"IF(G271=\"\",\"\",IF(F271=\"\",\"\",CONCATENATE(2,DIGITADOR!$M$1,G271,E271)))","v":""},"",{"$f":"IF(F271=\"\",\"\",VLOOKUP(F271,referentes!$T$2:$W$77,2,FALSE))","v":""},null,null,{"$f":"IF(I271=\"\",\"\",VLOOKUP(I271,'otras referencias'!$A$12:$B$15,2,FALSE))","v":""},null,null,null,null,null,null,"","",null,null,"","","","","",""]
[null,{"$f":"IF(C272=\"\",\"\",IF(COUNTIF($C$3:C272, C272)>1, \"\", C272))","v":""},{"$f":"IF(G272=\"\",\"\",IF(F272=\"\",\"\",CONCATENATE(2,DIGITADOR!$M$1,G272,E272)))","v":""},"",{"$f":"IF(F272=\"\",\"\",VLOOKUP(F272,referentes!$T$2:$W$77,2,FALSE))","v":""},null,null,{"$f":"IF(I272=\"\",\"\",VLOOKUP(I272,'otras referencias'!$A$12:$B$15,2,FALSE))","v":""},null,null,null,null,null,null,"","",null,null,"","","","","",""]
[null,{"$f":"IF(C273=\"\",\"\",IF(COUNTIF($C$3:C273, C273)>1, \"\", C273))","v":""},{"$f":"IF(G273=\"\",\"\",IF(F273=\"\",\"\",CONCATENATE(2,DIGITADOR!$M$1,G273,E273)))","v":""},"",{"$f":"IF(F273=\"\",\"\",VLOOKUP(F273,referentes!$T$2:$W$77,2,FALSE))","v":""},null,null,{"$f":"IF(I273=\"\",\"\",VLOOKUP(I273,'otras referencias'!$A$12:$B$15,2,FALSE))","v":""},null,null,null,null,null,null,"","",null,null,"","","","","",""]
[null,{"$f":"IF(C274=\"\",\"\",IF(COUNTIF($C$3:C274, C274)>1, \"\", C274))","v":""},{"$f":"IF(G274=\"\",\"\",IF(F274=\"\",\"\",CONCATENATE(2,DIGITADOR!$M$1,G274,E274)))","v":""},"",{"$f":"IF(F274=\"\",\"\",VLOOKUP(F274,referentes!$T$2:$W$77,2,FALSE))","v":""},null,null,{"$f":"IF(I274=\"\",\"\",VLOOKUP(I274,'otras referencias'!$A$12:$B$15,2,FALSE))","v":""},null,null,null,null,null,null,"","",null,null,"","","","","",""]
[null,{"$f":"IF(C275=\"\",\"\",IF(COUNTIF($C$3:C275, C275)>1, \"\", C275))","v":""},{"$f":"IF(G275=\"\",\"\",IF(F275=\"\",\"\",CONCATENATE(2,DIGITADOR!$M$1,G275,E275)))","v":""},"",{"$f":"IF(F275=\"\",\"\",VLOOKUP(F275,referentes!$T$2:$W$77,2,FALSE))","v":""},null,null,{"$f":"IF(I275=\"\",\"\",VLOOKUP(I275,'otras referencias'!$A$12:$B$15,2,FALSE))","v":""},null,null,null,null,null,null,"","",null,null,"","","","","",""]
[null,{"$f":"IF(C276=\"\",\"\",IF(COUNTIF($C$3:C276, C276)>1, \"\", C276))","v":""},{"$f":"IF(G276=\"\",\"\",IF(F276=\"\",\"\",CONCATENATE(2,DIGITADOR!$M$1,G276,E276)))","v":""},"",{"$f":"IF(F276=\"\",\"\",VLOOKUP(F276,referentes!$T$2:$W$77,2,FALSE))","v":""},null,null,{"$f":"IF(I276=\"\",\"\",VLOOKUP(I276,'otras referencias'!$A$12:$B$15,2,FALSE))","v":""},null,null,null,null,null,null,"","",null,null,"","","","","",""]
[null,{"$f":"IF(C277=\"\",\"\",IF(COUNTIF($C$3:C277, C277)>1, \"\", C277))","v":""},{"$f":"IF(G277=\"\",\"\",IF(F277=\"\",\"\",CONCATENATE(2,DIGITADOR!$M$1,G277,E277)))","v":""},"",{"$f":"IF(F277=\"\",\"\",VLOOKUP(F277,referentes!$T$2:$W$77,2,FALSE))","v":""},null,null,{"$f":"IF(I277=\"\",\"\",VLOOKUP(I277,'otras referencias'!$A$12:$B$15,2,FALSE))","v":""},null,null,null,null,null,null,"","",null,null,"","","","","",""]
[null,{"$f":"IF(C278=\"\",\"\",IF(COUNTIF($C$3:C278, C278)>1, \"\", C278))","v":""},{"$f":"IF(G278=\"\",\"\",IF(F278=\"\",\"\",CONCATENATE(2,DIGITADOR!$M$1,G278,E278)))","v":""},"",{"$f":"IF(F278=\"\",\"\",VLOOKUP(F278,referentes!$T$2:$W$77,2,FALSE))","v":""},null,null,{"$f":"IF(I278=\"\",\"\",VLOOKUP(I278,'otras referencias'!$A$12:$B$15,2,FALSE))","v":""},null,null,null,null,null,null,"","",null,null,"","","","","",""]
[null,{"$f":"IF(C279=\"\",\"\",IF(COUNTIF($C$3:C279, C279)>1, \"\", C279))","v":""},{"$f":"IF(G279=\"\",\"\",IF(F279=\"\",\"\",CONCATENATE(2,DIGITADOR!$M$1,G279,E279)))","v":""},"",{"$f":"IF(F279=\"\",\"\",VLOOKUP(F279,referentes!$T$2:$W$77,2,FALSE))","v":""},null,null,{"$f":"IF(I279=\"\",\"\",VLOOKUP(I279,'otras referencias'!$A$12:$B$15,2,FALSE))","v":""},null,null,null,null,null,null,"","",null,null,"","","","","",""]
[null,{"$f":"IF(C280=\"\",\"\",IF(COUNTIF($C$3:C280, C280)>1, \"\", C280))","v":""},{"$f":"IF(G280=\"\",\"\",IF(F280=\"\",\"\",CONCATENATE(2,DIGITADOR!$M$1,G280,E280)))","v":""},"",{"$f":"IF(F280=\"\",\"\",VLOOKUP(F280,referentes!$T$2:$W$77,2,FALSE))","v":""},null,null,{"$f":"IF(I280=\"\",\"\",VLOOKUP(I280,'otras referencias'!$A$12:$B$15,2,FALSE))","v":""},null,null,null,null,null,null,"","",null,null,"","","","","",""]
[null,{"$f":"IF(C281=\"\",\"\",IF(COUNTIF($C$3:C281, C281)>1, \"\", C281))","v":""},{"$f":"IF(G281=\"\",\"\",IF(F281=\"\",\"\",CONCATENATE(2,DIGITADOR!$M$1,G281,E281)))","v":""},"",{"$f":"IF(F281=\"\",\"\",VLOOKUP(F281,referentes!$T$2:$W$77,2,FALSE))","v":""},null,null,{"$f":"IF(I281=\"\",\"\",VLOOKUP(I281,'otras referencias'!$A$12:$B$15,2,FALSE))","v":""},null,null,null,null,null,null,"","",null,null,"","","","","",""]
[null,{"$f":"IF(C282=\"\",\"\",IF(COUNTIF($C$3:C282, C282)>1, \"\", C282))","v":""},{"$f":"IF(G282=\"\",\"\",IF(F282=\"\",\"\",CONCATENATE(2,DIGITADOR!$M$1,G282,E282)))","v":""},"",{"$f":"IF(F282=\"\",\"\",VLOOKUP(F282,referentes!$T$2:$W$77,2,FALSE))","v":""},null,null,{"$f":"IF(I282=\"\",\"\",VLOOKUP(I282,'otras referencias'!$A$12:$B$15,2,FALSE))","v":""},null,null,null,null,null,null,"","",null,null,"","","","","",""]
[null,{"$f":"IF(C283=\"\",\"\",IF(COUNTIF($C$3:C283, C283)>1, \"\", C283))","v":""},{"$f":"IF(G283=\"\",\"\",IF(F283=\"\",\"\",CONCATENATE(2,DIGITADOR!$M$1,G283,E283)))","v":""},"",{"$f":"IF(F283=\"\",\"\",VLOOKUP(F283,referentes!$T$2:$W$77,2,FALSE))","v":""},null,null,{"$f":"IF(I283=\"\",\"\",VLOOKUP(I283,'otras referencias'!$A$12:$B$15,2,FALSE))","v":""},null,null,null,null,null,null,"","",null,null,"","","","","",""]
[null,{"$f":"IF(C284=\"\",\"\",IF(COUNTIF($C$3:C284, C284)>1, \"\", C284))","v":""},{"$f":"IF(G284=\"\",\"\",IF(F284=\"\",\"\",CONCATENATE(2,DIGITADOR!$M$1,G284,E284)))","v":""},"",{"$f":"IF(F284=\"\",\"\",VLOOKUP(F284,referentes!$T$2:$W$77,2,FALSE))","v":""},null,null,{"$f":"IF(I284=\"\",\"\",VLOOKUP(I284,'otras referencias'!$A$12:$B$15,2,FALSE))","v":""},null,null,null,null,null,null,"","",null,null,"","","","","",""]
[null,{"$f":"IF(C285=\"\",\"\",IF(COUNTIF($C$3:C285, C285)>1, \"\", C285))","v":""},{"$f":"IF(G285=\"\",\"\",IF(F285=\"\",\"\",CONCATENATE(2,DIGITADOR!$M$1,G285,E285)))","v":""},"",{"$f":"IF(F285=\"\",\"\",VLOOKUP(F285,referentes!$T$2:$W$77,2,FALSE))","v":""},null,null,{"$f":"IF(I285=\"\",\"\",VLOOKUP(I285,'otras referencias'!$A$12:$B$15,2,FALSE))","v":""},null,null,null,null,null,null,"","",null,null,"","","","","",""]
[null,{"$f":"IF(C286=\"\",\"\",IF(COUNTIF($C$3:C286, C286)>1, \"\", C286))","v":""},{"$f":"IF(G286=\"\",\"\",IF(F286=\"\",\"\",CONCATENATE(2,DIGITADOR!$M$1,G286,E286)))","v":""},"",{"$f":"IF(F286=\"\",\"\",VLOOKUP(F286,referentes!$T$2:$W$77,2,FALSE))","v":""},null,null,{"$f":"IF(I286=\"\",\"\",VLOOKUP(I286,'otras referencias'!$A$12:$B$15,2,FALSE))","v":""},null,null,null,null,null,null,"","",null,null,"","","","","",""]
[null,{"$f":"IF(C287=\"\",\"\",IF(COUNTIF($C$3:C287, C287)>1, \"\", C287))","v":""},{"$f":"IF(G287=\"\",\"\",IF(F287=\"\",\"\",CONCATENATE(2,DIGITADOR!$M$1,G287,E287)))","v":""},"",{"$f":"IF(F287=\"\",\"\",VLOOKUP(F287,referentes!$T$2:$W$77,2,FALSE))","v":""},null,null,{"$f":"IF(I287=\"\",\"\",VLOOKUP(I287,'otras referencias'!$A$12:$B$15,2,FALSE))","v":""},null,null,null,null,null,null,"","",null,null,"","","","","",""]
[null,{"$f":"IF(C288=\"\",\"\",IF(COUNTIF($C$3:C288, C288)>1, \"\", C288))","v":""},{"$f":"IF(G288=\"\",\"\",IF(F288=\"\",\"\",CONCATENATE(2,DIGITADOR!$M$1,G288,E288)))","v":""},"",{"$f":"IF(F288=\"\",\"\",VLOOKUP(F288,referentes!$T$2:$W$77,2,FALSE))","v":""},null,null,{"$f":"IF(I288=\"\",\"\",VLOOKUP(I288,'otras referencias'!$A$12:$B$15,2,FALSE))","v":""},null,null,null,null,null,null,"","",null,null,"","","","","",""]
[null,{"$f":"IF(C289=\"\",\"\",IF(COUNTIF($C$3:C289, C289)>1, \"\", C289))","v":""},{"$f":"IF(G289=\"\",\"\",IF(F289=\"\",\"\",CONCATENATE(2,DIGITADOR!$M$1,G289,E289)))","v":""},"",{"$f":"IF(F289=\"\",\"\",VLOOKUP(F289,referentes!$T$2:$W$77,2,FALSE))","v":""},null,null,{"$f":"IF(I289=\"\",\"\",VLOOKUP(I289,'otras referencias'!$A$12:$B$15,2,FALSE))","v":""},null,null,null,null,null,null,"","",null,null,"","","","","",""]
[null,{"$f":"IF(C290=\"\",\"\",IF(COUNTIF($C$3:C290, C290)>1, \"\", C290))","v":""},{"$f":"IF(G290=\"\",\"\",IF(F290=\"\",\"\",CONCATENATE(2,DIGITADOR!$M$1,G290,E290)))","v":""},"",{"$f":"IF(F290=\"\",\"\",VLOOKUP(F290,referentes!$T$2:$W$77,2,FALSE))","v":""},null,null,{"$f":"IF(I290=\"\",\"\",VLOOKUP(I290,'otras referencias'!$A$12:$B$15,2,FALSE))","v":""},null,null,null,null,null,null,"","",null,null,"","","","","",""]
[null,{"$f":"IF(C291=\"\",\"\",IF(COUNTIF($C$3:C291, C291)>1, \"\", C291))","v":""},{"$f":"IF(G291=\"\",\"\",IF(F291=\"\",\"\",CONCATENATE(2,DIGITADOR!$M$1,G291,E291)))","v":""},"",{"$f":"IF(F291=\"\",\"\",VLOOKUP(F291,referentes!$T$2:$W$77,2,FALSE))","v":""},null,null,{"$f":"IF(I291=\"\",\"\",VLOOKUP(I291,'otras referencias'!$A$12:$B$15,2,FALSE))","v":""},null,null,null,null,null,null,"","",null,null,"","","","","",""]
[null,{"$f":"IF(C292=\"\",\"\",IF(COUNTIF($C$3:C292, C292)>1, \"\", C292))","v":""},{"$f":"IF(G292=\"\",\"\",IF(F292=\"\",\"\",CONCATENATE(2,DIGITADOR!$M$1,G292,E292)))","v":""},"",{"$f":"IF(F292=\"\",\"\",VLOOKUP(F292,referentes!$T$2:$W$77,2,FALSE))","v":""},null,null,{"$f":"IF(I292=\"\",\"\",VLOOKUP(I292,'otras referencias'!$A$12:$B$15,2,FALSE))","v":""},null,null,null,null,null,null,"","",null,null,"","","","","",""]
[null,{"$f":"IF(C293=\"\",\"\",IF(COUNTIF($C$3:C293, C293)>1, \"\", C293))","v":""},{"$f":"IF(G293=\"\",\"\",IF(F293=\"\",\"\",CONCATENATE(2,DIGITADOR!$M$1,G293,E293)))","v":""},"",{"$f":"IF(F293=\"\",\"\",VLOOKUP(F293,referentes!$T$2:$W$77,2,FALSE))","v":""},null,null,{"$f":"IF(I293=\"\",\"\",VLOOKUP(I293,'otras referencias'!$A$12:$B$15,2,FALSE))","v":""},null,null,null,null,null,null,"","",null,null,"","","","","",""]
[null,{"$f":"IF(C294=\"\",\"\",IF(COUNTIF($C$3:C294, C294)>1, \"\", C294))","v":""},{"$f":"IF(G294=\"\",\"\",IF(F294=\"\",\"\",CONCATENATE(2,DIGITADOR!$M$1,G294,E294)))","v":""},"",{"$f":"IF(F294=\"\",\"\",VLOOKUP(F294,referentes!$T$2:$W$77,2,FALSE))","v":""},null,null,{"$f":"IF(I294=\"\",\"\",VLOOKUP(I294,'otras referencias'!$A$12:$B$15,2,FALSE))","v":""},null,null,null,null,null,null,"","",null,null,"","","","","",""]
[null,{"$f":"IF(C295=\"\",\"\",IF(COUNTIF($C$3:C295, C295)>1, \"\", C295))","v":""},{"$f":"IF(G295=\"\",\"\",IF(F295=\"\",\"\",CONCATENATE(2,DIGITADOR!$M$1,G295,E295)))","v":""},"",{"$f":"IF(F295=\"\",\"\",VLOOKUP(F295,referentes!$T$2:$W$77,2,FALSE))","v":""},null,null,{"$f":"IF(I295=\"\",\"\",VLOOKUP(I295,'otras referencias'!$A$12:$B$15,2,FALSE))","v":""},null,null,null,null,null,null,"","",null,null,"","","","","",""]
[null,{"$f":"IF(C296=\"\",\"\",IF(COUNTIF($C$3:C296, C296)>1, \"\", C296))","v":""},{"$f":"IF(G296=\"\",\"\",IF(F296=\"\",\"\",CONCATENATE(2,DIGITADOR!$M$1,G296,E296)))","v":""},"",{"$f":"IF(F296=\"\",\"\",VLOOKUP(F296,referentes!$T$2:$W$77,2,FALSE))","v":""},null,null,{"$f":"IF(I296=\"\",\"\",VLOOKUP(I296,'otras referencias'!$A$12:$B$15,2,FALSE))","v":""},null,null,null,null,null,null,"","",null,null,"","","","","",""]
[null,{"$f":"IF(C297=\"\",\"\",IF(COUNTIF($C$3:C297, C297)>1, \"\", C297))","v":""},{"$f":"IF(G297=\"\",\"\",IF(F297=\"\",\"\",CONCATENATE(2,DIGITADOR!$M$1,G297,E297)))","v":""},"",{"$f":"IF(F297=\"\",\"\",VLOOKUP(F297,referentes!$T$2:$W$77,2,FALSE))","v":""},null,null,{"$f":"IF(I297=\"\",\"\",VLOOKUP(I297,'otras referencias'!$A$12:$B$15,2,FALSE))","v":""},null,null,null,null,null,null,"","",null,null,"","","","","",""]
[null,{"$f":"IF(C298=\"\",\"\",IF(COUNTIF($C$3:C298, C298)>1, \"\", C298))","v":""},{"$f":"IF(G298=\"\",\"\",IF(F298=\"\",\"\",CONCATENATE(2,DIGITADOR!$M$1,G298,E298)))","v":""},"",{"$f":"IF(F298=\"\",\"\",VLOOKUP(F298,referentes!$T$2:$W$77,2,FALSE))","v":""},null,null,{"$f":"IF(I298=\"\",\"\",VLOOKUP(I298,'otras referencias'!$A$12:$B$15,2,FALSE))","v":""},null,null,null,null,null,null,"","",null,null,"","","","","",""]
[null,{"$f":"IF(C299=\"\",\"\",IF(COUNTIF($C$3:C299, C299)>1, \"\", C299))","v":""},{"$f":"IF(G299=\"\",\"\",IF(F299=\"\",\"\",CONCATENATE(2,DIGITADOR!$M$1,G299,E299)))","v":""},"",{"$f":"IF(F299=\"\",\"\",VLOOKUP(F299,referentes!$T$2:$W$77,2,FALSE))","v":""},null,null,{"$f":"IF(I299=\"\",\"\",VLOOKUP(I299,'otras referencias'!$A$12:$B$15,2,FALSE))","v":""},null,null,null,null,null,null,"","",null,null,"","","","","",""]
[null,{"$f":"IF(C300=\"\",\"\",IF(COUNTIF($C$3:C300, C300)>1, \"\", C300))","v":""},{"$f":"IF(G300=\"\",\"\",IF(F300=\"\",\"\",CONCATENATE(2,DIGITADOR!$M$1,G300,E300)))","v":""},"",{"$f":"IF(F300=\"\",\"\",VLOOKUP(F300,referentes!$T$2:$W$77,2,FALSE))","v":""},null,null,{"$f":"IF(I300=\"\",\"\",VLOOKUP(I300,'otras referencias'!$A$12:$B$15,2,FALSE))","v":""},null,null,null,null,null,null,"","",null,null,"","","","","",""]
[null,{"$f":"IF(C301=\"\",\"\",IF(COUNTIF($C$3:C301, C301)>1, \"\", C301))","v":""},{"$f":"IF(G301=\"\",\"\",IF(F301=\"\",\"\",CONCATENATE(2,DIGITADOR!$M$1,G301,E301)))","v":""},"",{"$f":"IF(F301=\"\",\"\",VLOOKUP(F301,referentes!$T$2:$W$77,2,FALSE))","v":""},null,null,{"$f":"IF(I301=\"\",\"\",VLOOKUP(I301,'otras referencias'!$A$12:$B$15,2,FALSE))","v":""},null,null,null,null,null,null,"","",null,null,"","","","","",""]

{"sheet":"referentes","index":8,"n_rows":171,"n_cols":27,"rows_kept":171,"cut":false,"hidden":false,"merged":[]}
[]
[4542,"Borde",null,"Carbono Azul - CORALINA","Carbono Azul - CORALINA",null,null,null,null,null,null,null,null,null,null,null,null,null,null,"Ararca P6",57491,"P",6,null,null,8619,"Juan Pablo Caicedo García"]
[4543,"Cuenca",null,4545,"Carbono Azul - Vida Manglar",null,null,null,null,null,null,null,null,null,null,null,null,null,null,"Ararca P7",57492,"P",7,null,null,8265,"Kevin Samuel Moreno"]
["Interior","Interior",null,"Carbono Azul - Conserv. Internacional","Carbono Azul - Conservación Internacional",null,null,null,null,null,null,null,null,null,null,null,null,null,null,"Bahía Honda P1",57442,"P",1,null,null,8642,"Milena Hernández Ortiz"]
[4552,"Ribereño",null,4548,"Carbono Azul - Fundación Grupo ARGOS",null,null,null,null,null,null,null,null,null,null,null,null,null,null,"Bahía Honda P2",57443,"P",2,null,null,4521,"Sebastian Herrera Fajardo"]
[null,null,null,"Carbono Azul - DAMCRA","Carbono Azul - DAMCRA",null,null,null,null,null,null,null,null,null,null,null,null,null,null,"Bahía Honda P3",57444,"P",3,null,null,8057,"Tania Carolina Hoyos Ruiz"]
[null,null,null,"Carbono Azul - GEF_SAMP","Carbono Azul - GEF_SAMP",null,null,null,null,null,null,null,null,null,null,null,null,null,null,"Bahía Hondita EMH1",57916,"EMH",1,null,null,8266,"Zulay Saudith González Herrera"]
[null,null,null,"Carbono Azul - Bolívar","Carbono Azul - Bolívar",null,null,null,null,null,null,null,null,null,null,null,null,null,null,"Bahía Hondita EMH2",57917,"EMH",2]
[null,null,null,"Línea Base ambiental ECOPETROL","Línea Base ambiental ECOPETROL",null,null,null,null,null,null,null,null,null,null,null,null,null,null,"Bahía Hondita EMH3",57918,"EMH",3]
[null,null,null,null,null,null,null,null,null,null,null,null,null,null,null,null,null,null,null,"Bahía Hooker P1",57438,"P",1]
[null,null,null,null,null,null,null,null,null,null,null,null,null,null,null,null,null,null,null,"Bahía Hooker P2",57439,"P",2]
[null,null,null,null,null,null,null,null,null,null,null,null,null,null,null,null,null,null,null,"Bahía Hooker P3",57440,"P",3]
[null,null,null,null,null,null,null,null,null,null,null,null,null,null,null,null,null,null,null,"Bahía Hooker P4",57441,"P",4]
[null,null,null,null,null,null,null,null,null,null,null,null,null,null,null,null,null,null,null,"Bahía Málaga P1",57833,"P",1]
[null,null,null,null,null,null,null,null,null,null,null,null,null,null,null,null,null,null,null,"Bahía Málaga P10",57842,"P",10]
[null,null,null,null,null,null,null,null,null,null,null,null,null,null,null,null,null,null,null,"Bahía Málaga P11",57843,"P",11]
[null,null,null,null,null,null,null,null,null,null,null,null,null,null,null,null,null,null,null,"Bahía Málaga P12",57844,"P",12]
[null,null,null,null,null,null,null,null,null,null,null,null,null,null,null,null,null,null,null,"Bahía Málaga P13",57845,"P",13]
[null,null,null,null,null,null,null,null,null,null,null,null,null,null,null,null,null,null,null,"Bahía Málaga P14",57846,"P",14]
[null,null,null,null,null,null,null,null,null,null,null,null,null,null,null,null,null,null,null,"Bahía Málaga P15",57847,"P",15]
[null,null,null,null,null,null,null,null,null,null,null,null,null,null,null,null,null,null,null,"Bahía Málaga P16",57848,"P",16]
[null,null,null,null,null,null,null,null,null,null,null,null,null,null,null,null,null,null,null,"Bahía Málaga P17",57849,"P",17]
[null,null,null,null,null,null,null,null,null,null,null,null,null,null,null,null,null,null,null,"Bahía Málaga P18",57850,"P",18]
[null,null,null,null,null,null,null,null,null,null,null,null,null,null,null,null,null,null,null,"Bahía Málaga P19",57851,"P",19]
[null,null,null,null,null,null,null,null,null,null,null,null,null,null,null,null,null,null,null,"Bahía Málaga P2",57834,"P",2]
[null,null,null,null,null,null,null,null,null,null,null,null,null,null,null,null,null,null,null,"Bahía Málaga P20",57852,"P",20]
[null,null,null,null,null,null,null,null,null,null,null,null,null,null,null,null,null,null,null,"Bahía Málaga P21",57853,"P",21]
[null,null,null,null,null,null,null,null,null,null,null,null,null,null,null,null,null,null,null,"Bahía Málaga P22",57854,"P",22]
[null,null,null,null,null,null,null,null,null,null,null,null,null,null,null,null,null,null,null,"Bahía Málaga P23",57855,"P",23]
[null,null,null,null,null,null,null,null,null,null,null,null,null,null,null,null,null,null,null,"Bahía Málaga P24",57856,"P",24]
[null,null,null,null,null,null,null,null,null,null,null,null,null,null,null,null,null,null,null,"Bahía Málaga P25",57857,"P",25]
[null,null,null,null,null,null,null,null,null,null,null,null,null,null,null,null,null,null,null,"Bahía Málaga P26",57858,"P",26]
[null,null,null,null,null,null,null,null,null,null,null,null,null,null,null,null,null,null,null,"Bahía Málaga P27",57859,"P",27]
[null,null,null,null,null,null,null,null,null,null,null,null,null,null,null,null,null,null,null,"Bahía Málaga P28",57860,"P",28]
[null,null,null,null,null,null,null,null,null,null,null,null,null,null,null,null,null,null,null,"Bahía Málaga P29",57861,"P",29]
[null,null,null,null,null,null,null,null,null,null,null,null,null,null,null,null,null,null,null,"Bahía Málaga P3",57835,"P",3]
[null,null,null,null,null,null,null,null,null,null,null,null,null,null,null,null,null,null,null,"Bahía Málaga P30",57862,"P",30]
[null,null,null,null,null,null,null,null,null,null,null,null,null,null,null,null,null,null,null,"Bahía Málaga P31",57863,"P",31]
[null,null,null,null,null,null,null,null,null,null,null,null,null,null,null,null,null,null,null,"Bahía Málaga P32",57864,"P",32]
[null,null,null,null,null,null,null,null,null,null,null,null,null,null,null,null,null,null,null,"Bahía Málaga P33",57865,"P",33]
[null,null,null,null,null,null,null,null,null,null,null,null,null,null,null,null,null,null,null,"Bahía Málaga P34",57866,"P",34]
[null,null,null,null,null,null,null,null,null,null,null,null,null,null,null,null,null,null,null,"Bahía Málaga P35",57867,"P",35]
[null,null,null,null,null,null,null,null,null,null,null,null,null,null,null,null,null,null,null,"Bahía Málaga P36",57868,"P",36]
[null,null,null,null,null,null,null,null,null,null,null,null,null,null,null,null,null,null,null,"Bahía Málaga P37",57869,"P",37]
[null,null,null,null,null,null,null,null,null,null,null,null,null,null,null,null,null,null,null,"Bahía Málaga P38",57870,"P",38]
[null,null,null,null,null,null,null,null,null,null,null,null,null,null,null,null,null,null,null,"Bahía Málaga P39",57871,"P",39]
[null,null,null,null,null,null,null,null,null,null,null,null,null,null,null,null,null,null,null,"Bahía Málaga P4",57836,"P",4]
[null,null,null,null,null,null,null,null,null,null,null,null,null,null,null,null,null,null,null,"Bahía Málaga P40",57872,"P",40]
[null,null,null,null,null,null,null,null,null,null,null,null,null,null,null,null,null,null,null,"Bahía Málaga P41",57873,"P",41]
[null,null,null,null,null,null,null,null,null,null,null,null,null,null,null,null,null,null,null,"Bahía Málaga P42",57874,"P",42]
[null,null,null,null,null,null,null,null,null,null,null,null,null,null,null,null,null,null,null,"Bahía Málaga P43",57875,"P",43]
[null,null,null,null,null,null,null,null,null,null,null,null,null,null,null,null,null,null,null,"Bahía Málaga P44",57876,"P",44]
[null,null,null,null,null,null,null,null,null,null,null,null,null,null,null,null,null,null,null,"Bahía Málaga P45",57877,"P",45]
[null,null,null,null,null,null,null,null,null,null,null,null,null,null,null,null,null,null,null,"Bahía Málaga P5",57837,"P",5]
[null,null,null,null,null,null,null,null,null,null,null,null,null,null,null,null,null,null,null,"Bahía Málaga P6",57838,"P",6]
[null,null,null,null,null,null,null,null,null,null,null,null,null,null,null,null,null,null,null,"Bahía Málaga P7",57839,"P",7]
[null,null,null,null,null,null,null,null,null,null,null,null,null,null,null,null,null,null,null,"Bahía Málaga P8",57840,"P",8]
[null,null,null,null,null,null,null,null,null,null,null,null,null,null,null,null,null,null,null,"Bahía Málaga P9",57841,"P",9]
[null,null,null,null,null,null,null,null,null,null,null,null,null,null,null,null,null,null,null,"Bahía de Cispatá B1",57878,"B",1]
[null,null,null,null,null,null,null,null,null,null,null,null,null,null,null,null,null,null,null,"Bahía de Cispatá B10",57887,"B",10]
[null,null,null,null,null,null,null,null,null,null,null,null,null,null,null,null,null,null,null,"Bahía de Cispatá B11",57888,"B",11]
[null,null,null,null,null,null,null,null,null,null,null,null,null,null,null,null,null,null,null,"Bahía de Cispatá B12",57889,"B",12]
[null,null,null,null,null,null,null,null,null,null,null,null,null,null,null,null,null,null,null,"Bahía de Cispatá B13",57890,"B",13]
[null,null,null,null,null,null,null,null,null,null,null,null,null,null,null,null,null,null,null,"Bahía de Cispatá B14",57891,"B",14]
[null,null,null,null,null,null,null,null,null,null,null,null,null,null,null,null,null,null,null,"Bahía de Cispatá B15",57892,"B",15]
[null,null,null,null,null,null,null,null,null,null,null,null,null,null,null,null,null,null,null,"Bahía de Cispatá B16",57893,"B",16]
[null,null,null,null,null,null,null,null,null,null,null,null,null,null,null,null,null,null,null,"Bahía de Cispatá B17",57894,"B",17]
[null,null,null,null,null,null,null,null,null,null,null,null,null,null,null,null,null,null,null,"Bahía de Cispatá B18",57895,"B",18]
[null,null,null,null,null,null,null,null,null,null,null,null,null,null,null,null,null,null,null,"Bahía de Cispatá B19",57896,"B",19]
[null,null,null,null,null,null,null,null,null,null,null,null,null,null,null,null,null,null,null,"Bahía de Cispatá B2",57879,"B",2]
[null,null,null,null,null,null,null,null,null,null,null,null,null,null,null,null,null,null,null,"Bahía de Cispatá B20",57897,"B",20]
[null,null,null,null,null,null,null,null,null,null,null,null,null,null,null,null,null,null,null,"Bahía de Cispatá B21",57898,"B",21]
[null,null,null,null,null,null,null,null,null,null,null,null,null,null,null,null,null,null,null,"Bahía de Cispatá B22",57899,"B",22]
[null,null,null,null,null,null,null,null,null,null,null,null,null,null,null,null,null,null,null,"Bahía de Cispatá B23",57900,"B",23]
[null,null,null,null,null,null,null,null,null,null,null,null,null,null,null,null,null,null,null,"Bahía de Cispatá B3",57880,"B",3]
[null,null,null,null,null,null,null,null,null,null,null,null,null,null,null,null,null,null,null,"Bahía de Cispatá B4",57881,"B",4]
[null,null,null,null,null,null,null,null,null,null,null,null,null,null,null,null,null,null,null,"Bahía de Cispatá B5",57882,"B",5]
[null,null,null,null,null,null,null,null,null,null,null,null,null,null,null,null,null,null,null,"Bahía de Cispatá B6",57883,"B",6]
[null,null,null,null,null,null,null,null,null,null,null,null,null,null,null,null,null,null,null,"Bahía de Cispatá B7",57884,"B",7]
[null,null,null,null,null,null,null,null,null,null,null,null,null,null,null,null,null,null,null,"Bahía de Cispatá B8",57885,"B",8]
[null,null,null,null,null,null,null,null,null,null,null,null,null,null,null,null,null,null,null,"Bahía de Cispatá B9",57886,"B",9]
[null,null,null,null,null,null,null,null,null,null,null,null,null,null,null,null,null,null,null,"Boca Cerrada P1",57487,"P",1]
[null,null,null,null,null,null,null,null,null,null,null,null,null,null,null,null,null,null,null,"Boca Cerrada P3",57488,"P",3]
[null,null,null,null,null,null,null,null,null,null,null,null,null,null,null,null,null,null,null,"Caimanera P10",57471,"P",10]
[null,null,null,null,null,null,null,null,null,null,null,null,null,null,null,null,null,null,null,"Caimanera P11",57476,"P",11]
[null,null,null,null,null,null,null,null,null,null,null,null,null,null,null,null,null,null,null,"Caimanera P12",57480,"P",12]
[null,null,null,null,null,null,null,null,null,null,null,null,null,null,null,null,null,null,null,"Caimanera P13",57473,"P",13]
[null,null,null,null,null,null,null,null,null,null,null,null,null,null,null,null,null,null,null,"Caimanera P14",57481,"P",14]
[null,null,null,null,null,null,null,null,null,null,null,null,null,null,null,null,null,null,null,"Caimanera P19",57482,"P",19]
[null,null,null,null,null,null,null,null,null,null,null,null,null,null,null,null,null,null,null,"Caimanera P20",57483,"P",20]
[null,null,null,null,null,null,null,null,null,null,null,null,null,null,null,null,null,null,null,"Caimanera P3",57477,"P",3]
[null,null,null,null,null,null,null,null,null,null,null,null,null,null,null,null,null,null,null,"Caimanera P4",57478,"P",4]
[null,null,null,null,null,null,null,null,null,null,null,null,null,null,null,null,null,null,null,"Caimanera P5",57479,"P",5]
[null,null,null,null,null,null,null,null,null,null,null,null,null,null,null,null,null,null,null,"Caimanera P6",57475,"P",6]
[null,null,null,null,null,null,null,null,null,null,null,null,null,null,null,null,null,null,null,"Caimanera P7",57472,"P",7]
[null,null,null,null,null,null,null,null,null,null,null,null,null,null,null,null,null,null,null,"Caimanera P8",57470,"P",8]
[null,null,null,null,null,null,null,null,null,null,null,null,null,null,null,null,null,null,null,"Caimanera P9",57474,"P",9]
[null,null,null,null,null,null,null,null,null,null,null,null,null,null,null,null,null,null,null,"Ciénaga de Mallorquín  IFN1",57545,"IFN",1]
[null,null,null,null,null,null,null,null,null,null,null,null,null,null,null,null,null,null,null,"Ciénaga de Mallorquín  IFN2",57546,"IFN",2]
[null,null,null,null,null,null,null,null,null,null,null,null,null,null,null,null,null,null,null,"Ciénaga de Mallorquín  IFN3",57547,"IFN",3]
[null,null,null,null,null,null,null,null,null,null,null,null,null,null,null,null,null,null,null,"Ciénaga de Mallorquín  IFN4",57548,"IFN",4]
[null,null,null,null,null,null,null,null,null,null,null,null,null,null,null,null,null,null,null,"Ciénaga de Mallorquín  IFN5",57549,"IFN",5]
[null,null,null,null,null,null,null,null,null,null,null,null,null,null,null,null,null,null,null,"Cocoplum P1",57425,"P",1]
[null,null,null,null,null,null,null,null,null,null,null,null,null,null,null,null,null,null,null,"Cocoplum P2",57426,"P",2]
[null,null,null,null,null,null,null,null,null,null,null,null,null,null,null,null,null,null,null,"Cocoplum P3",57427,"P",3]
[null,null,null,null,null,null,null,null,null,null,null,null,null,null,null,null,null,null,null,"DELTA DEL RIO RANCHERIA P1",58959,"RIO",1]
[null,null,null,null,null,null,null,null,null,null,null,null,null,null,null,null,null,null,null,"DELTA DEL RIO RANCHERIA P2",58960,"RIO",2]
[null,null,null,null,null,null,null,null,null,null,null,null,null,null,null,null,null,null,null,"El Cove P1",57445,"P",1]
[null,null,null,null,null,null,null,null,null,null,null,null,null,null,null,null,null,null,null,"El Cove P2",57446,"P",2]
[null,null,null,null,null,null,null,null,null,null,null,null,null,null,null,null,null,null,null,"Golfo de Urabá BA1",57911,"BA",1]
[null,null,null,null,null,null,null,null,null,null,null,null,null,null,null,null,null,null,null,"Golfo de Urabá BA2",57912,"BA",2]
[null,null,null,null,null,null,null,null,null,null,null,null,null,null,null,null,null,null,null,"Golfo de Urabá BR1",57907,"BR",1]
[null,null,null,null,null,null,null,null,null,null,null,null,null,null,null,null,null,null,null,"Golfo de Urabá BR2",57908,"BR",2]
[null,null,null,null,null,null,null,null,null,null,null,null,null,null,null,null,null,null,null,"Golfo de Urabá BR3",57909,"BR",3]
[null,null,null,null,null,null,null,null,null,null,null,null,null,null,null,null,null,null,null,"Golfo de Urabá BR4",57910,"BR",4]
[null,null,null,null,null,null,null,null,null,null,null,null,null,null,null,null,null,null,null,"Golfo de Urabá NC1",57913,"NC",1]
[null,null,null,null,null,null,null,null,null,null,null,null,null,null,null,null,null,null,null,"Golfo de Urabá NC2",57914,"NC",2]
[null,null,null,null,null,null,null,null,null,null,null,null,null,null,null,null,null,null,null,"Golfo de Urabá NC3",57915,"NC",3]
[null,null,null,null,null,null,null,null,null,null,null,null,null,null,null,null,null,null,null,"Golfo de Urabá RC1",57902,"RC",1]
[null,null,null,null,null,null,null,null,null,null,null,null,null,null,null,null,null,null,null,"Golfo de Urabá RC2",57903,"RC",2]
[null,null,null,null,null,null,null,null,null,null,null,null,null,null,null,null,null,null,null,"Golfo de Urabá RC3",57904,"RC",3]
[null,null,null,null,null,null,null,null,null,null,null,null,null,null,null,null,null,null,null,"Golfo de Urabá RT1",57905,"RT",1]
[null,null,null,null,null,null,null,null,null,null,null,null,null,null,null,null,null,null,null,"Golfo de Urabá RT2",57906,"RT",2]
[null,null,null,null,null,null,null,null,null,null,null,null,null,null,null,null,null,null,null,"Golfo de Urabá RT3",57901,"RT",3]
[null,null,null,null,null,null,null,null,null,null,null,null,null,null,null,null,null,null,null,"Guacamaya P1",57460,"P",1]
[null,null,null,null,null,null,null,null,null,null,null,null,null,null,null,null,null,null,null,"Guacamaya P15",57468,"P",15]
[null,null,null,null,null,null,null,null,null,null,null,null,null,null,null,null,null,null,null,"Guacamaya P16",57469,"P",16]
[null,null,null,null,null,null,null,null,null,null,null,null,null,null,null,null,null,null,null,"Guacamaya P2",57462,"P",2]
[null,null,null,null,null,null,null,null,null,null,null,null,null,null,null,null,null,null,null,"Guacamaya P3",57463,"P",3]
[null,null,null,null,null,null,null,null,null,null,null,null,null,null,null,null,null,null,null,"Guacamaya P4",57465,"P",4]
[null,null,null,null,null,null,null,null,null,null,null,null,null,null,null,null,null,null,null,"Guacamaya P5",57464,"P",5]
[null,null,null,null,null,null,null,null,null,null,null,null,null,null,null,null,null,null,null,"Guacamaya P6",57467,"P",6]
[null,null,null,null,null,null,null,null,null,null,null,null,null,null,null,null,null,null,null,"Guacamaya P7",57461,"P",7]
[null,null,null,null,null,null,null,null,null,null,null,null,null,null,null,null,null,null,null,"Guacamaya P8",57459,"P",8]
[null,null,null,null,null,null,null,null,null,null,null,null,null,null,null,null,null,null,null,"Guacamaya P9",57466,"P",9]
[null,null,null,null,null,null,null,null,null,null,null,null,null,null,null,null,null,null,null,"John Mangrove P1",57456,"P",1]
[null,null,null,null,null,null,null,null,null,null,null,null,null,null,null,null,null,null,null,"LA ENEA PARCELA 1",58956,"EN",1]
[null,null,null,null,null,null,null,null,null,null,null,null,null,null,null,null,null,null,null,"LA ENEA PARCELA 2",58957,"EN",2]
[null,null,null,null,null,null,null,null,null,null,null,null,null,null,null,null,null,null,null,"MUSICHI PARCELA 1",58961,"MUS",1]
[null,null,null,null,null,null,null,null,null,null,null,null,null,null,null,null,null,null,null,"Mallorquín P1",57493,"P",1]
[null,null,null,null,null,null,null,null,null,null,null,null,null,null,null,null,null,null,null,"Mallorquín P2",57494,"P",2]
[null,null,null,null,null,null,null,null,null,null,null,null,null,null,null,null,null,null,null,"Mallorquín P3",57495,"P",3]
[null,null,null,null,null,null,null,null,null,null,null,null,null,null,null,null,null,null,null,"Mallorquín P4",57496,"P",4]
[null,null,null,null,null,null,null,null,null,null,null,null,null,null,null,null,null,null,null,"Mallorquín P5",57497,"P",5]
[null,null,null,null,null,null,null,null,null,null,null,null,null,null,null,null,null,null,null,"Mallorquín P6",57498,"P",6]
[null,null,null,null,null,null,null,null,null,null,null,null,null,null,null,null,null,null,null,"Mallorquín P7",57499,"P",7]
[null,null,null,null,null,null,null,null,null,null,null,null,null,null,null,null,null,null,null,"Mallorquín P8",57500,"P",8]
[null,null,null,null,null,null,null,null,null,null,null,null,null,null,null,null,null,null,null,"Manzanillo P1",57447,"P",1]
[null,null,null,null,null,null,null,null,null,null,null,null,null,null,null,null,null,null,null,"Manzanillo P2",57448,"P",2]
[null,null,null,null,null,null,null,null,null,null,null,null,null,null,null,null,null,null,null,"McBean Lagoon P1",57453,"P",1]
[null,null,null,null,null,null,null,null,null,null,null,null,null,null,null,null,null,null,null,"McBean Lagoon P2",57454,"P",2]
[null,null,null,null,null,null,null,null,null,null,null,null,null,null,null,null,null,null,null,"McBean Lagoon P3",57455,"P",3]
[null,null,null,null,null,null,null,null,null,null,null,null,null,null,null,null,null,null,null,"Old Town P1",57449,"P",1]
[null,null,null,null,null,null,null,null,null,null,null,null,null,null,null,null,null,null,null,"Old Town P2",57450,"P",2]
[null,null,null,null,null,null,null,null,null,null,null,null,null,null,null,null,null,null,null,"SFF PARCELA 1",58958,"SFF",1]
[null,null,null,null,null,null,null,null,null,null,null,null,null,null,null,null,null,null,null,"Salt Creek P1",57428,"P",1]
[null,null,null,null,null,null,null,null,null,null,null,null,null,null,null,null,null,null,null,"Salt Creek P2",57429,"P",2]
[null,null,null,null,null,null,null,null,null,null,null,null,null,null,null,null,null,null,null,"Salt Creek P3",57430,"P",3]
[null,null,null,null,null,null,null,null,null,null,null,null,null,null,null,null,null,null,null,"Santa Ana P4",57489,"P",4]
[null,null,null,null,null,null,null,null,null,null,null,null,null,null,null,null,null,null,null,"Santa Ana P5",57490,"P",5]
[null,null,null,null,null,null,null,null,null,null,null,null,null,null,null,null,null,null,null,"Santa Catalina P1",57457,"P",1]
[null,null,null,null,null,null,null,null,null,null,null,null,null,null,null,null,null,null,null,"Santa Catalina P2",57458,"P",2]
[null,null,null,null,null,null,null,null,null,null,null,null,null,null,null,null,null,null,null,"Smith Channel P1",57431,"P",1]
[null,null,null,null,null,null,null,null,null,null,null,null,null,null,null,null,null,null,null,"Smith Channel P2",57432,"P",2]
[null,null,null,null,null,null,null,null,null,null,null,null,null,null,null,null,null,null,null,"Smith Channel P3",57433,"P",3]
[null,null,null,null,null,null,null,null,null,null,null,null,null,null,null,null,null,null,null,"Sound Bay P1",57434,"P",1]
[null,null,null,null,null,null,null,null,null,null,null,null,null,null,null,null,null,null,null,"Sound Bay P2",57435,"P",2]
[null,null,null,null,null,null,null,null,null,null,null,null,null,null,null,null,null,null,null,"Sound Bay P3",57436,"P",3]
[null,null,null,null,null,null,null,null,null,null,null,null,null,null,null,null,null,null,null,"Suroeste P1",57451,"P",1]
[null,null,null,null,null,null,null,null,null,null,null,null,null,null,null,null,null,null,null,"Suroeste P2",57452,"P",2]
[null,null,null,null,null,null,null,null,null,null,null,null,null,null,null,null,null,null,null,"Velodia Road P1",57437,"P",1]

{"sheet":"otras referencias","index":9,"n_rows":96,"n_cols":32,"rows_kept":96,"cut":false,"hidden":false,"merged":[[0,0,2,10],[4,0,4,1],[4,5,4,6],[15,0,15,1],[4,11,4,12],[10,0,10,1],[32,0,32,2],[9,28,9,29],[10,28,10,29],[11,28,11,29],[4,27,4,31],[5,28,5,29],[6,28,6,29],[7,28,7,29],[8,28,8,29],[25,0,25,1],[19,0,19,1],[4,23,4,24],[4,20,4,21],[4,17,4,18],[4,14,4,15]]}
["Estas son listas para variables con valores que no se encuentran codificados, pero que deben manejarse de manera estandarizada. \nSi se requiere agregar un valor nuevo hagalo debajo de la lista correspondiente"]
[]
[]
[]
["TRANSECTOS",null,null,"METODOS",null,"ESTACION",null,null,null,null,null,"UNIDADES_DE_MEDIDA",null,null,"UNIDADES_PESO_MUESTRA",null,null,"ROL USUARIO",null,null,"FORMA",null,null,"TEMATICAS",null,"HOJA CONFIGURACION",null,"Descripción general de Proyecto Convenio\n3700"]
["A",null,null,"NOMBRE_MT","CODIGO","Descripcion","Codigo",null,null,null,null,"Descripcion","Codigo",null,"Descripcion","Codigo",null,"Rol","Id Rol",null,"FILA","Filamento",null,"DATOS_FINOS","Necromasa - Detritos Finos De Madera (DFM)","configuracion_finos",null,"Codigo del proyecto","Proyecto Convenio",null,"Descripción Siglas del convenio","Estaciones pertenecientes "]
["B",null,null,"Manual de métodos de SIMAC: Cadena rotulada cada diez eslabones","Car",{"$f":"CONCATENATE(referentes!AF2,\"-\",referentes!AG2, \" \",referentes!AI2)","v":"- "},{"$f":"referentes!AE2","v":0},null,null,null,null,"unidades/m2",136,null,"g",69,null,"Colectó muestra",10,null,"PELI","Película",null,"DATOS_GRUESOS","Necromasa - Detritos Gruesos de Madera (DGM)","configuracion_gruesos",null,4544,"Carbono Azul - CORALINA",null,"Corporación Coralina ","San Andres, Providencia y Sta Catalina"]
["C",null,null,null,null,{"$f":"CONCATENATE(referentes!AF3,\"-\",referentes!AG3, \" \",referentes!AI3)","v":"- "},{"$f":"referentes!AE3","v":0},null,null,null,null,"unidades/kg p.s",152,null,"kg",116,null,"Procesó muestra",11,null,"ESP","Espuma",null,"DATOS_AMP","Necromasa - Árboles Muertos En Pie (AMP)","configuracion_amp",null,4545,"Carbono Azul - Vida Manglar",null,"Proyecto Vida Manglar","Caimanera Y PNR Guacamayas\nBahía de Cispata"]
["D",null,null,null,null,{"$f":"CONCATENATE(referentes!AF4,\"-\",referentes!AG4, \" \",referentes!AI4)","v":"- "},{"$f":"referentes!AE4","v":0},null,null,null,null,null,null,null,null,null,null,"Verificó  resultados -Jefe Sección",3472,null,"FRG","Fragmento",null,null,null,null,null,4551,"Carbono Azul - GEF_SAMP",null,"Proyecto GEF SAMP:\n- Fondo Mundial para el Medio Ambiente o GEF (por sus siglas en inglés) \n- Diseño e implementación de un Subsistema Nacional de Áreas Marinas Protegidas (SAMP) en Colombia.","Bahia Malaga"]
[null,null,null,"ENTIDAD",null,{"$f":"CONCATENATE(referentes!AF5,\"-\",referentes!AG5, \" \",referentes!AI5)","v":"- "},{"$f":"referentes!AE5","v":0},null,null,null,null,null,null,null,null,null,null,"Verificó resultados - Jefe Laboratorio",3473,null,"GRAN","Granulo",null,null,null,null,null,4547,"Carbono Azul - Fundación Grupo ARGOS",null,"Fundación Grupo ARGOS","Bolívar"]
["Tipo Fisiográfico",null,null,"Instituto de Investigaciones Marinas y Costeras",null,{"$f":"CONCATENATE(referentes!AF6,\"-\",referentes!AG6, \" \",referentes!AI6)","v":"- "},{"$f":"referentes!AE6","v":0},null,null,null,null,null,null,null,null,null,null,"Verificó resutados -  Jefe Calidad",3474,null,"PEL","Pellet",null,null,null,null,null,4550,"Carbono Azul - DAMCRA",null,"DAMCRA: Grupo de Ordenamiento Ambiental del Territorio y Gestión Sostenible de la Biodiversidad Costero Marina","Bahia hondita\nGolfo de uraba"]
["Borde",4542,null,null,null,{"$f":"CONCATENATE(referentes!AF7,\"-\",referentes!AG7, \" \",referentes!AI7)","v":"- "},{"$f":"referentes!AE7","v":0},null,null,null,null,null,null,null,null,null,null,null,null,null,"ND","No detectado",null,null,null,null,null,4546,"Carbono Azul - Conservación Internacional",null,"Conservación Internacional","Mallorquín"]
["Interior",4547,null,null,null,{"$f":"CONCATENATE(referentes!AF8,\"-\",referentes!AG8, \" \",referentes!AI8)","v":"- "},{"$f":"referentes!AE8","v":0}]
["Cuenca",4543]
["Ribereño",4552,null,null,null,{"$f":"CONCATENATE(referentes!AF9,\"-\",referentes!AG9, \" \",referentes!AI9)","v":"- "},{"$f":"referentes!AE9","v":0}]
["PROYECTO",null,null,null,null,{"$f":"CONCATENATE(referentes!AF10,\"-\",referentes!AG10, \" \",referentes!AI10)","v":"- "},{"$f":"referentes!AE10","v":0}]
["Descripcion","Código",null,null,null,{"$f":"CONCATENATE(referentes!AF11,\"-\",referentes!AG11, \" \",referentes!AI11)","v":"- "},{"$f":"referentes!AE11","v":0}]
["Carbono Azul",3700,null,null,null,{"$f":"CONCATENATE(referentes!AF12,\"-\",referentes!AG12, \" \",referentes!AI12)","v":"- "},{"$f":"referentes!AE12","v":0}]
[null,null,null,null,null,{"$f":"CONCATENATE(referentes!AF13,\"-\",referentes!AG13, \" \",referentes!AI13)","v":"- "},{"$f":"referentes!AE13","v":0}]
["PROYECTO CONVENIO",null,null,null,null,{"$f":"CONCATENATE(referentes!AF14,\"-\",referentes!AG14, \" \",referentes!AI14)","v":"- "},{"$f":"referentes!AE14","v":0}]
["Descripcion","Código",null,null,null,{"$f":"CONCATENATE(referentes!AF15,\"-\",referentes!AG15, \" \",referentes!AI15)","v":"- "},{"$f":"referentes!AE15","v":0}]
["Carbono Azul - San Andres Providencia y Sta Catalina",4544,null,null,null,{"$f":"CONCATENATE(referentes!AF16,\"-\",referentes!AG16, \" \",referentes!AI16)","v":"- "},{"$f":"referentes!AE16","v":0}]
["Carbono Azul - Mallorquín",4546,null,null,null,{"$f":"CONCATENATE(referentes!AF17,\"-\",referentes!AG17, \" \",referentes!AI17)","v":"- "},{"$f":"referentes!AE17","v":0}]
["Carbono Azul - Caimanera y PNR Guacamayas",4545,null,null,null,{"$f":"CONCATENATE(referentes!AF18,\"-\",referentes!AG18, \" \",referentes!AI18)","v":"- "},{"$f":"referentes!AE18","v":0}]
[null,null,null,null,null,{"$f":"CONCATENATE(referentes!AF19,\"-\",referentes!AG19, \" \",referentes!AI19)","v":"- "},{"$f":"referentes!AE19","v":0}]
["ROLES",null,null,null,null,{"$f":"CONCATENATE(referentes!AF20,\"-\",referentes!AG20, \" \",referentes!AI20)","v":"- "},{"$f":"referentes!AE20","v":0}]
["Captura en campo",4,null,null,null,{"$f":"CONCATENATE(referentes!AF21,\"-\",referentes!AG21, \" \",referentes!AI21)","v":"- "},{"$f":"referentes!AE21","v":0}]
["Revisar datos",6,null,null,null,{"$f":"CONCATENATE(referentes!AF22,\"-\",referentes!AG22, \" \",referentes!AI22)","v":"- "},{"$f":"referentes!AE22","v":0}]
["Coordinador actividad de campo",3497,null,null,null,{"$f":"CONCATENATE(referentes!AF23,\"-\",referentes!AG23, \" \",referentes!AI23)","v":"- "},{"$f":"referentes!AE23","v":0}]
["Procesamiento en laboratorio",4526,null,null,null,{"$f":"CONCATENATE(referentes!AF24,\"-\",referentes!AG24, \" \",referentes!AI24)","v":"- "},{"$f":"referentes!AE24","v":0}]
[null,null,null,null,null,{"$f":"CONCATENATE(referentes!AF25,\"-\",referentes!AG25, \" \",referentes!AI25)","v":"- "},{"$f":"referentes!AE25","v":0}]
[null,null,null,null,null,{"$f":"CONCATENATE(referentes!AF26,\"-\",referentes!AG26, \" \",referentes!AI26)","v":"- "},{"$f":"referentes!AE26","v":0}]
["CODIGOS LOV",null,null,null,null,{"$f":"CONCATENATE(referentes!AF27,\"-\",referentes!AG27, \" \",referentes!AI27)","v":"- "},{"$f":"referentes!AE27","v":0}]
["DESCRIPCIÓN","CÓDIGO","GRUPO",null,null,{"$f":"CONCATENATE(referentes!AF28,\"-\",referentes!AG28, \" \",referentes!AI28)","v":"- "},{"$f":"referentes!AE28","v":0}]
["Departamento",10,2,null,null,{"$f":"CONCATENATE(referentes!AF29,\"-\",referentes!AG29, \" \",referentes!AI29)","v":"- "},{"$f":"referentes!AE29","v":0}]
["Sector",20,2,null,null,{"$f":"CONCATENATE(referentes!AF30,\"-\",referentes!AG30, \" \",referentes!AI30)","v":"- "},{"$f":"referentes!AE30","v":0}]
["Punto",30,2,null,null,{"$f":"CONCATENATE(referentes!AF31,\"-\",referentes!AG31, \" \",referentes!AI31)","v":"- "},{"$f":"referentes!AE31","v":0}]
["Parcela",35,2,null,null,{"$f":"CONCATENATE(referentes!AF32,\"-\",referentes!AG32, \" \",referentes!AI32)","v":"- "},{"$f":"referentes!AE32","v":0}]
["Estaciones",40,2,null,null,{"$f":"CONCATENATE(referentes!AF33,\"-\",referentes!AG33, \" \",referentes!AI33)","v":"- "},{"$f":"referentes!AE33","v":0}]
["Region",50,2,null,null,{"$f":"CONCATENATE(referentes!AF34,\"-\",referentes!AG34, \" \",referentes!AI34)","v":"- "},{"$f":"referentes!AE34","v":0}]
["Unidad_de_Manejo",60,2,null,null,{"$f":"CONCATENATE(referentes!AF35,\"-\",referentes!AG35, \" \",referentes!AI35)","v":"- "},{"$f":"referentes!AE35","v":0}]
["Unidad_Ambiental_Costera",70,2,null,null,{"$f":"CONCATENATE(referentes!AF36,\"-\",referentes!AG36, \" \",referentes!AI36)","v":"- "},{"$f":"referentes!AE36","v":0}]
["Localidad",80,2,null,null,{"$f":"CONCATENATE(referentes!AF37,\"-\",referentes!AG37, \" \",referentes!AI37)","v":"- "},{"$f":"referentes!AE37","v":0}]
["Bloque_Exploracion",85,2,null,null,{"$f":"CONCATENATE(referentes!AF38,\"-\",referentes!AG38, \" \",referentes!AI38)","v":"- "},{"$f":"referentes!AE38","v":0}]
["Area",90,2,null,null,{"$f":"CONCATENATE(referentes!AF39,\"-\",referentes!AG39, \" \",referentes!AI39)","v":"- "},{"$f":"referentes!AE39","v":0}]
[null,null,null,null,null,{"$f":"CONCATENATE(referentes!AF40,\"-\",referentes!AG40, \" \",referentes!AI40)","v":"- "},{"$f":"referentes!AE40","v":0}]
[null,null,null,null,null,{"$f":"CONCATENATE(referentes!AF41,\"-\",referentes!AG41, \" \",referentes!AI41)","v":"- "},{"$f":"referentes!AE41","v":0}]
[null,null,null,null,null,{"$f":"CONCATENATE(referentes!AF42,\"-\",referentes!AG42, \" \",referentes!AI42)","v":"- "},{"$f":"referentes!AE42","v":0}]
[null,null,null,null,null,{"$f":"CONCATENATE(referentes!AF43,\"-\",referentes!AG43, \" \",referentes!AI43)","v":"- "},{"$f":"referentes!AE43","v":0}]
[null,null,null,null,null,{"$f":"CONCATENATE(referentes!AF44,\"-\",referentes!AG44, \" \",referentes!AI44)","v":"- "},{"$f":"referentes!AE44","v":0}]
[null,null,null,null,null,{"$f":"CONCATENATE(referentes!AF45,\"-\",referentes!AG45, \" \",referentes!AI45)","v":"- "},{"$f":"referentes!AE45","v":0}]
[null,null,null,null,null,{"$f":"CONCATENATE(referentes!AF46,\"-\",referentes!AG46, \" \",referentes!AI46)","v":"- "},{"$f":"referentes!AE46","v":0}]
[null,null,null,null,null,{"$f":"CONCATENATE(referentes!AF47,\"-\",referentes!AG47, \" \",referentes!AI47)","v":"- "},{"$f":"referentes!AE47","v":0}]
[null,null,null,null,null,{"$f":"CONCATENATE(referentes!AF48,\"-\",referentes!AG48, \" \",referentes!AI48)","v":"- "},{"$f":"referentes!AE48","v":0}]
[null,null,null,null,null,{"$f":"CONCATENATE(referentes!AF49,\"-\",referentes!AG49, \" \",referentes!AI49)","v":"- "},{"$f":"referentes!AE49","v":0}]
[null,null,null,null,null,{"$f":"CONCATENATE(referentes!AF50,\"-\",referentes!AG50, \" \",referentes!AI50)","v":"- "},{"$f":"referentes!AE50","v":0}]
[null,null,null,null,null,{"$f":"CONCATENATE(referentes!AF51,\"-\",referentes!AG51, \" \",referentes!AI51)","v":"- "},{"$f":"referentes!AE51","v":0}]
[null,null,null,null,null,{"$f":"CONCATENATE(referentes!AF52,\"-\",referentes!AG52, \" \",referentes!AI52)","v":"- "},{"$f":"referentes!AE52","v":0}]
[null,null,null,null,null,{"$f":"CONCATENATE(referentes!AF53,\"-\",referentes!AG53, \" \",referentes!AI53)","v":"- "},{"$f":"referentes!AE53","v":0}]
[null,null,null,null,null,{"$f":"CONCATENATE(referentes!AF54,\"-\",referentes!AG54, \" \",referentes!AI54)","v":"- "},{"$f":"referentes!AE54","v":0}]
[null,null,null,null,null,{"$f":"CONCATENATE(referentes!AF55,\"-\",referentes!AG55, \" \",referentes!AI55)","v":"- "},{"$f":"referentes!AE55","v":0}]
[null,null,null,null,null,{"$f":"CONCATENATE(referentes!AF56,\"-\",referentes!AG56, \" \",referentes!AI56)","v":"- "},{"$f":"referentes!AE56","v":0}]
[null,null,null,null,null,{"$f":"CONCATENATE(referentes!AF57,\"-\",referentes!AG57, \" \",referentes!AI57)","v":"- "},{"$f":"referentes!AE57","v":0}]
[null,null,null,null,null,{"$f":"CONCATENATE(referentes!AF58,\"-\",referentes!AG58, \" \",referentes!AI58)","v":"- "},{"$f":"referentes!AE58","v":0}]
[null,null,null,null,null,{"$f":"CONCATENATE(referentes!AF59,\"-\",referentes!AG59, \" \",referentes!AI59)","v":"- "},{"$f":"referentes!AE59","v":0}]
[null,null,null,null,null,{"$f":"CONCATENATE(referentes!AF60,\"-\",referentes!AG60, \" \",referentes!AI60)","v":"- "},{"$f":"referentes!AE60","v":0}]
[null,null,null,null,null,{"$f":"CONCATENATE(referentes!AF61,\"-\",referentes!AG61, \" \",referentes!AI61)","v":"- "},{"$f":"referentes!AE61","v":0}]
[null,null,null,null,null,{"$f":"CONCATENATE(referentes!AF62,\"-\",referentes!AG62, \" \",referentes!AI62)","v":"- "},{"$f":"referentes!AE62","v":0}]
[null,null,null,null,null,{"$f":"CONCATENATE(referentes!AF63,\"-\",referentes!AG63, \" \",referentes!AI63)","v":"- "},{"$f":"referentes!AE63","v":0}]
[null,null,null,null,null,{"$f":"CONCATENATE(referentes!AF64,\"-\",referentes!AG64, \" \",referentes!AI64)","v":"- "},{"$f":"referentes!AE64","v":0}]
[null,null,null,null,null,{"$f":"CONCATENATE(referentes!AF65,\"-\",referentes!AG65, \" \",referentes!AI65)","v":"- "},{"$f":"referentes!AE65","v":0}]
[null,null,null,null,null,{"$f":"CONCATENATE(referentes!AF66,\"-\",referentes!AG66, \" \",referentes!AI66)","v":"- "},{"$f":"referentes!AE66","v":0}]
[null,null,null,null,null,{"$f":"CONCATENATE(referentes!AF67,\"-\",referentes!AG67, \" \",referentes!AI67)","v":"- "},{"$f":"referentes!AE67","v":0}]
[null,null,null,null,null,{"$f":"CONCATENATE(referentes!AF68,\"-\",referentes!AG68, \" \",referentes!AI68)","v":"- "},{"$f":"referentes!AE68","v":0}]
[null,null,null,null,null,{"$f":"CONCATENATE(referentes!AF69,\"-\",referentes!AG69, \" \",referentes!AI69)","v":"- "},{"$f":"referentes!AE69","v":0}]
[null,null,null,null,null,{"$f":"CONCATENATE(referentes!AF70,\"-\",referentes!AG70, \" \",referentes!AI70)","v":"- "},{"$f":"referentes!AE70","v":0}]
[null,null,null,null,null,{"$f":"CONCATENATE(referentes!AF71,\"-\",referentes!AG71, \" \",referentes!AI71)","v":"- "},{"$f":"referentes!AE71","v":0}]
[null,null,null,null,null,{"$f":"CONCATENATE(referentes!AF72,\"-\",referentes!AG72, \" \",referentes!AI72)","v":"- "},{"$f":"referentes!AE72","v":0}]
[null,null,null,null,null,{"$f":"CONCATENATE(referentes!AF73,\"-\",referentes!AG73, \" \",referentes!AI73)","v":"- "},{"$f":"referentes!AE73","v":0}]
[null,null,null,null,null,{"$f":"CONCATENATE(referentes!AF74,\"-\",referentes!AG74, \" \",referentes!AI74)","v":"- "},{"$f":"referentes!AE74","v":0}]
[null,null,null,null,null,{"$f":"CONCATENATE(referentes!AF75,\"-\",referentes!AG75, \" \",referentes!AI75)","v":"- "},{"$f":"referentes!AE75","v":0}]
[null,null,null,null,null,{"$f":"CONCATENATE(referentes!AF76,\"-\",referentes!AG76, \" \",referentes!AI76)","v":"- "},{"$f":"referentes!AE76","v":0}]
[null,null,null,null,null,{"$f":"CONCATENATE(referentes!AF77,\"-\",referentes!AG77, \" \",referentes!AI77)","v":"- "},{"$f":"referentes!AE77","v":0}]
[null,null,null,null,null,{"$f":"CONCATENATE(referentes!AF78,\"-\",referentes!AG78, \" \",referentes!AI78)","v":"- "},{"$f":"referentes!AE78","v":0}]
[null,null,null,null,null,{"$f":"CONCATENATE(referentes!AF79,\"-\",referentes!AG79, \" \",referentes!AI79)","v":"- "},{"$f":"referentes!AE79","v":0}]
[null,null,null,null,null,{"$f":"CONCATENATE(referentes!AF80,\"-\",referentes!AG80, \" \",referentes!AI80)","v":"- "},{"$f":"referentes!AE80","v":0}]
[null,null,null,null,null,{"$f":"CONCATENATE(referentes!AF81,\"-\",referentes!AG81, \" \",referentes!AI81)","v":"- "},{"$f":"referentes!AE81","v":0}]
[null,null,null,null,null,{"$f":"CONCATENATE(referentes!AF82,\"-\",referentes!AG82, \" \",referentes!AI82)","v":"- "},{"$f":"referentes!AE82","v":0}]
[null,null,null,null,null,{"$f":"CONCATENATE(referentes!AF83,\"-\",referentes!AG83, \" \",referentes!AI83)","v":"- "},{"$f":"referentes!AE83","v":0}]
[null,null,null,null,null,{"$f":"CONCATENATE(referentes!AF84,\"-\",referentes!AG84, \" \",referentes!AI84)","v":"- "},{"$f":"referentes!AE84","v":0}]
[null,null,null,null,null,{"$f":"CONCATENATE(referentes!AF85,\"-\",referentes!AG85, \" \",referentes!AI85)","v":"- "},{"$f":"referentes!AE85","v":0}]
[null,null,null,null,null,{"$f":"CONCATENATE(referentes!AF86,\"-\",referentes!AG86, \" \",referentes!AI86)","v":"- "},{"$f":"referentes!AE86","v":0}]
[null,null,null,null,null,{"$f":"CONCATENATE(referentes!AF87,\"-\",referentes!AG87, \" \",referentes!AI87)","v":"- "},{"$f":"referentes!AE87","v":0}]
[null,null,null,null,null,{"$f":"CONCATENATE(referentes!AF88,\"-\",referentes!AG88, \" \",referentes!AI88)","v":"- "},{"$f":"referentes!AE88","v":0}]
[null,null,null,null,null,{"$f":"CONCATENATE(referentes!AF89,\"-\",referentes!AG89, \" \",referentes!AI89)","v":"- "},{"$f":"referentes!AE89","v":0}]
[null,null,null,null,null,{"$f":"CONCATENATE(referentes!AF90,\"-\",referentes!AG90, \" \",referentes!AI90)","v":"- "},{"$f":"referentes!AE90","v":0}]

{"sheet":"AGD_MUESTREOS","index":10,"n_rows":0,"n_cols":0,"rows_kept":0,"cut":false,"hidden":true,"merged":[]}

{"sheet":"AGD_PARAMETRO","index":11,"n_rows":0,"n_cols":0,"rows_kept":0,"cut":false,"hidden":true,"merged":[]}

{"sheet":"AGD_MUESTRAS","index":12,"n_rows":0,"n_cols":0,"rows_kept":0,"cut":false,"hidden":true,"merged":[]}

{"sheet":"AGD_MUESTRAS_VARIABLES","index":13,"n_rows":0,"n_cols":0,"rows_kept":0,"cut":false,"hidden":true,"merged":[]}

{"sheet":"AGD_AUTORIAS","index":14,"n_rows":0,"n_cols":0,"rows_kept":0,"cut":false,"hidden":true,"merged":[]}

{"sheet":"MUESTRAS","index":15,"n_rows":0,"n_cols":0,"rows_kept":0,"cut":false,"hidden":true,"merged":[]}