{"text_format":"1","workbook":"xlsx","n_sheets":11,"sheets":["Registro de cambios","configuracion","DIGITADOR","DATOS","referentes","Otras referencias","AGD_MUESTREOS","AGD_PARAMETRO","AGD_MUESTRAS","AGD_MUESTRAS_VARIABLES","AGD_AUTORIAS"],"not_rendered":{"charts":0,"images":0,"macros":1,"external_links":1,"defined_names":22,"comments":3,"pivot_tables":0},"unopened":[],"bounds":{"document_bytes":16777216,"sheet_cells":100000,"rows_first":2000,"rows_last":500,"rows_between":2000,"halvings":0,"cell_chars":16384,"cell_head_chars":4096},"cells_cut":0,"cells_raw":0,"read":"whole","date_system":"1900"}

{"sheet":"Registro de cambios","index":0,"n_rows":8,"n_cols":7,"rows_kept":8,"cut":false,"hidden":true,"merged":[[2,3,2,6]]}
[]
[]
[null,null,null,"REGISTRO DE CAMBIOS"]
[null,null,null,"VERSIÓN No.","CAMBIO REALIZADO","AUTOR","VIGENTE DESDE\n(DD/MM/AAAA)"]
[null,null,null,"20250421m","Creación de nuevas parcelas de monitoreo para el proyecto \"Línea Base ambiental ECOPETROL\".","Kevin Moreno","2025-04-21"]
[null,null,null,"20240515i","Actualización del código de la macro.\n\nSe eliminó la URL de la antigua API de portete:\n       http://portete.invemar.org.co:7003/ArgosWebServices-RESTWebService-context-root/rest/1.0\n\nFue reemplazada por la URL de la API de ARGOS:\n       https://argos.invemar.org.co/api/\n\nLa API contiene End Points que permiten tener mayor control, facilitan la descarga de referentes (listas de usuarios, estaciones, especies, etc.) que corresponden a criterios específicos como el proyecto usado en la plantilla para evitar descargar data innecesaria.\n\nDel mismo modo, también permite la carga de información a la BDD del INVEMAR.\n\nLa macro toma los Endpoints desde la hoja configuracion de una tabla llamada \"Configuración referentes\", a la que se le puede modificar las rutas de la API o agregar nuevas. cabe resaltar que se puede \"quemar\" directamente en la macro los Endpoints que lo requieran.","Kevin Moreno","15/05/2024"]
[null,null,null,"20240212i","1. Actualización de parcelas, se agregaron nuevas parcelas de:\nBahía de Cispatá, Bahía Hondita, Golfo de Urabá, Bahía Málaga.\n\n2. Se agregó una nueva url para los datos de parcelas, la cual, se encuentra en la pestaña; configuracion, celda: B67, está solo es del proyecto 3700, por lo tanto, en el código no se relacionó con las celdas: C7 de configuracion, es decir, el código se modificó.\n\n3. Se modificó el contenido de la celda B8 en la pestaña DIGITADOR, el cual, se descarga en referentes, se colocó el nombre del proyecto – nombre con el ente que se hace el convenio.\n\n4. Se actualizaron algunos campos debido a los cambios generados.\n","Luz Parra","2024-02-12"]
[null,null,null,"20231120i","Se creó la plantilla desde cero (0), los elementos que la componen funcionan para la temática de Físico Químicos.\n\nSe modificó la hoja de DIGITADOR añadiendo listas de valores, entre otros tal como observaciones generales.\n\nSe crearon todas las columnas que componente la hoja de DATOS, se obtienen valores como la fecha, estación, nivel del agua, temperatura, etc .\n\nSe mapeó toda la hoja de CONFIGURACIÓN para tomar los valores de los muestreos y muestras y generar las tablas que sirven para subir la información al sistema.\n","Kevin Moreno","2023-11-20"]

{"sheet":"configuracion","index":1,"n_rows":71,"n_cols":13,"rows_kept":71,"cut":false,"hidden":true,"merged":[[0,0,2,0],[3,0,5,0],[7,0,8,0],[9,0,15,0],[17,0,21,0],[28,0,35,0],[37,0,42,0],[45,0,45,1],[61,0,61,2],[23,0,26,0]]}
["general","urlServicio","https://argos.invemar.org.co/api/"]
[null,"fila de inicio",3]
[null,"fila de fin",503]
["metodologias","Metodologias",{"$f":"DIGITADOR!$B$4","v":885}]
[null,"Referentes",500]
[null,"Cantidad maxima de referentes ",500]
["estaciones/investigadores","proyectos",3700]
["Lista especies","metodologias"]
[null,"proyectos",3700]
["MUESTREOS","ID_MUESTREO","DATOS,B"]
[null,"ID_ESTACION","DATOS,E"]
[null,"ID_PROYECTO",3700]
[null,"ID_METODOLOGIA",{"$f":"$C$4","v":885}]
[null,"ID_TEMATICAS",{"$f":"IF(C4=\"\",\"\",VLOOKUP(C4,'Otras referencias'!N7:P10,2,FALSE))","v":231}]
[null,"FECHA","DATOS,G"]
[null,"NOTAS","DIGITADOR,B,28"]
[null,"cantidad",503]
["parametro muestreo","ID_MUESTREO","DATOS,B","DATOS,B","DATOS,B","DATOS,B"]
[null,"ID_PARAMETRO",1169,1055,1170,127]
[null,"ID_METODOLOGIA",{"$f":"$C$4","v":885},{"$f":"$C$4","v":885},885,885]
[null,"ID_UNIDAD_MEDIDA",100,100,100,100]
[null,"VALOR","DIGITADOR,B,14","DIGITADOR,B,7","DIGITADOR,B,13","DIGITADOR,B,11"]
[null,"cantidad",503,503,503,503]
["muestra","ID_MUESTRA","DATOS,D"]
[null,"ID_MUESTREO","DATOS,C"]
[null,"NOTAS","DATOS,AA"]
[null,"ES_REPLICA","DATOS,Z"]
[null,"cantidad",503]
["muestra variable","ID_PARAMETRO",866,352,867,350,869,347,871,873,874,1143,1144]
[null,"ID_METODOLOGIA",{"$f":"$C$4","v":885},{"$f":"$C$4","v":885},885,885,885,885,885,885,885,885,885]
[null,"ID_UNIDAD_MEDIDA",10,5,5,19,19,19,19,7,7,51,51]
[null,"ID_MUESTRA","DATOS,D","DATOS,D","DATOS,D","DATOS,D","DATOS,D","DATOS,D","DATOS,D","DATOS,D","DATOS,D","DATOS,D","DATOS,D"]
[null,"ID_METODO",676,676,676,676,676,676,676,676,676,676,676]
[null,"VALOR","DATOS,K","DATOS,L","DATOS,M","DATOS,O","DATOS,P","DATOS,R","DATOS,S","DATOS,U","DATOS,V","DATOS,X","DATOS,Y"]
[null,"QUALITY_FLAG"]
[null,"PRECISION"]
[null,"cantidad",503,503,503,503,503,503,503,503,503,503,503]
["autoria","ID_FUNCIONARIO","DIGITADOR,B,2","DIGITADOR,B,18","DIGITADOR,B,20","DIGITADOR,B,22","DIGITADOR,B,24"]
[null,"ID_TAREA",5,"DIGITADOR,A,18","DIGITADOR,A,20","DIGITADOR,A,22","DIGITADOR,A,24"]
[null,"ORDEN",1,2,3,4,5]
[null,"FECHA","DIGITADOR,B,9","DATOS,G","DATOS,G","DATOS,G","DATOS,G"]
[null,"ID_MUESTREO","DATOS,B","DATOS,B","DATOS,B","DATOS,B","DATOS,B"]
[null,"ENTIDAD","DIGITADOR,B,6","DIGITADOR,B,6","DIGITADOR,B,6","DIGITADOR,B,6","DIGITADOR,B,6"]
[null,"cantidad",503,503,503,503,503]
[]
["REGISTROS GENERADOS",null,"REGISTROS CARGADOS",null,null,866,10,"NIVEL_AGUA_CM"]
["MUESTREOS",null,null,null,null,352,5,"TEMP_SUPERFICIAL"]
["parametro muestreo",null,null,null,null,867,5,"TEMP_INTERSTICIAL_05"]
["muestra",null,null,null,null,350,19,"SALINIDAD_SUPERFICIAL"]
["muestra variable",null,null,null,null,869,19,"SALINIDAD_INTERSTICIAL_05"]
["autoria",null,null,null,null,347,19,"PH_SUPERFICIAL"]
["registros correctos",null,null,null,null,871,19,"PH_INTERSTICIAL_05"]
["Fecha de carga",null,null,null,null,873,7,"COND_SUPERFICIAL"]
["json error",null,null,null,null,874,7,"COND_INTERSTICIAL_05"]
["error",null,null,null,null,1143,51,"ORP_SUPERFICIAL"]
[null,null,null,null,null,1144,51,"ORP_INTERSTICIAL_05"]
[null,null,null,null,null,1169,100,"URL_METADATO"]
["Atributo","Descripción","Código",null,null,1055,100,"VERSION_PLANTILLA"]
["Tipo Nodo","Parcela",{"$f":"VLOOKUP($B$59,'Otras referencias'!$N$14:$O$24,2,FALSE)","v":35},null,null,1170,100,"ARCHIVO_FUENTE"]
[null,null,null,null,null,127,100,"PROYECTO_CONVENIO"]
[]
["CONFIGURACION REFERENTES"]
["Ruta de la API","Endpoint","Descripción"]
["URL - AGM Campo",{"$f":"CONCATENATE(\"parametros/agmcampo/\",$C$4,\"\")","v":"parametros/agmcampo/885"},"Listado de referentes AGM_CAMPO"]
["URL - Especies",{"$f":"IF($C$8=\"\",\"\",CONCATENATE(\"especies/filt/\",$C$9,\",\",$C$8,\"/\"))","v":""},"Especies por proyecto\n(No todos los proyectos tienen asociados una lista de especies)"]
["URL - Estaciones",{"$f":"CONCATENATE(\"estaciones/\", $C$59, \"/\",$C$9,\"\")","v":"estaciones/35/3700"},"Estaciones/parcelas por proyecto, cambia dependiendo del Tipo de Nodo, cuyo estado sea VIGENTE."]
["URL - Usuarios",{"$f":"CONCATENATE(\"parametros/usersByProject/\",$C$7,\"\")","v":"parametros/usersByProject/3700"},"Usuarios por proyecto."]
["URL - Entidades","estaciones/get-entidades","Listado de entidades."]
["Atributos de la API","codigo_in","nombre_in"]
["Rango de atributos de la API","B70:C71","nombre_in"]
["URL - Plantillas","plantillas/","Endpoint para la carga de datos al sistema."]

{"sheet":"DIGITADOR","index":2,"n_rows":38,"n_cols":4,"rows_kept":38,"cut":false,"hidden":false,"merged":[[26,0,26,1],[29,0,29,1],[0,0,0,1],[15,3,15,9],[16,3,16,9],[1,3,9,9],[10,3,14,9],[7,0,8,0]]}
["Recolección de Datos Monitoreo\nFISICOQUIMICOS - Carbono Azul"]
["Código Digitador",{"$f":"IF(B3=\"\",\"\",INDEX(referentes!$V$2:$W$60,MATCH(DIGITADOR!B3,referentes!$W$2:$W$60,0),1))","v":""},null,"Recomendaciones generales: \n¡Precaución! No inserte Filas o Columnas.\nEn los casos en que falte un valor a ingresar que provenga de la hoja de referencias, informe para que el administrador del sistema haga las adiciones necesarias.\nEsta es una plantilla programada. Las columnas de color oscuro se llenan automaticamente, principalmente a partir de los contenidos de la hoja de referencias. \nNO UTILICE PUNTO Y COMA (;) en ningun campo, por ser el separador de variables (columnas). Las unidades de medida son las especificadas en la cabecera de la hoja.\nPara el correcto funcionamiento de la hoja debe estar activa la opcion de Excel de ejecutar macros (al abrir la hoja acepte la opcion habilitar macros, mensaje de Excel que aparece en la parte superior de la hoja en un recuadro amarillo). La extensión del archivo debe ser .xlsm.. \nAl finalizar, renombre el archivo de modo que su contenido sea claro, ejemplo:\ncorporacion_estacion_anocuatrodigitosmesmuestreo.xlsm. El nombre no debe tener espacios en blanco vocales tildadas o ñ."]
["Nombre del responsable",null,{"$f":"IF(G3=\"\",\"\",CONCATENATE(DIGITADOR!$M$1,G3,E3))","v":""}]
["Código Monitoreo",{"$f":"IF(B5=\"\",\"\",INDEX('Otras referencias'!$K$7:$L$9,MATCH(DIGITADOR!B5,'Otras referencias'!$L$7:$L$9,0),1))","v":885}]
["Monitoreo","FISICOQUIMICOS"]
["Entidad","Instituto de Investigaciones Marinas y Costeras"]
["Versión de la plantilla",{"$f":"'Registro de cambios'!$D$5","v":"20250421m"}]
["Fecha en la que ingresa los datos en esta hoja","DD/MM/AAAA"]
[null,"3000-12-12"]
[]
["Código del proyecto",{"$f":"IF(B12=\"\",\"\",INDEX(referentes!A2:B12,MATCH(DIGITADOR!B12,referentes!B2:B12,0),1))","v":""},null,"Previamente a iniciar el llenado de la plantilla, debe presionar el botón \"Descargar referentes\" para que los referentes de ésta plantilla sean actualizados. \nLuego de llenar completamente la plantilla verifique que:\na. No haya celdas con valores como \"#N/A\" o \"#¡REF!\".\nb. No se estén aplicando filtros en la hoja de datos.\nEnvíe la plantilla diligenciada al correo kevin.moreno@invemar.org.co"]
["Proyecto Convenio"]
["Nombre del Archivo",{"$f":"MID(CELL(\"FILENAME\",N63),FIND(\"[\",CELL(\"FILENAME\",N63))+1,   FIND(\"]\",CELL(\"FILENAME\",N63))-FIND(\"[\",CELL(\"FILENAME\",N63))-1)","v":"CA_FISICOQUIMICOS_20250421m.xlsm"}]
["DOI Metadato"]
["Fuente Plantilla ","http://cinto.invemar.org.co/download/Plantillas_ARGOS_Plus/"]
[null,null,null,"Si requiere ayuda contacte a:\nKevin S. Moreno (kevin.moreno@invemar.org.co)"]
["ROLES INVOLUCRADOS","NOMBRE DE LA PERSONA",null,"El custodio de los datos es el único autorizado para distribuir este conjunto de datos. El observador y el digitador se comprometen a tomar las medidas necesarias para salvaguardar este conjunto de datos de modo que copia de los mismos no sean obtenidas y/o usadas por terceros no relacionados con el propósito para la cual se recolectó."]
[{"$f":"IF(A19=\"\",\"\",INDEX('Otras referencias'!$H$6:$I$9,MATCH(DIGITADOR!A19,'Otras referencias'!$I$6:$I$9,0),1))","v":""},{"$f":"IF(B19=\"\",\"\",INDEX(referentes!$V$2:$W$60,MATCH(DIGITADOR!B19,referentes!$W$2:$W$60,0),1))","v":""}]
[]
[{"$f":"IF(A21=\"\",\"\",INDEX('Otras referencias'!$H$6:$I$9,MATCH(DIGITADOR!A21,'Otras referencias'!$I$6:$I$9,0),1))","v":""},{"$f":"IF(B21=\"\",\"\",INDEX(referentes!$V$2:$W$60,MATCH(DIGITADOR!B21,referentes!$W$2:$W$60,0),1))","v":""}]
[]
[{"$f":"IF(A23=\"\",\"\",INDEX('Otras referencias'!$H$6:$I$9,MATCH(DIGITADOR!A23,'Otras referencias'!$I$6:$I$9,0),1))","v":""},{"$f":"IF(B23=\"\",\"\",INDEX(referentes!$V$2:$W$60,MATCH(DIGITADOR!B23,referentes!$W$2:$W$60,0),1))","v":""}]
[]
[{"$f":"IF(A25=\"\",\"\",INDEX('Otras referencias'!$H$6:$I$9,MATCH(DIGITADOR!A25,'Otras referencias'!$I$6:$I$9,0),1))","v":""},{"$f":"IF(B25=\"\",\"\",INDEX(referentes!$V$2:$W$60,MATCH(DIGITADOR!B25,referentes!$W$2:$W$60,0),1))","v":""}]
[]
[]
["ATRIBUTOS ADICIONALES"]
["Observaciones generales"]
[]
["REGISTROS GENERADOS",null,"CARGADOS"]
["Muestreos",{"$f":"IF(configuracion!B47=\"\",\"\",configuracion!B47)","v":""},{"$f":"IF(configuracion!C47=\"\",\"\",configuracion!C47)","v":""}]
["Parámetros del muestreo",{"$f":"IF(configuracion!B48=\"\",\"\",configuracion!B48)","v":""},{"$f":"IF(configuracion!C48=\"\",\"\",configuracion!C48)","v":""}]
["Registros",{"$f":"IF(configuracion!B49=\"\",\"\",configuracion!B49)","v":""},{"$f":"IF(configuracion!C49=\"\",\"\",configuracion!C49)","v":""}]
["Variables",{"$f":"IF(configuracion!B50=\"\",\"\",configuracion!B50)","v":""},{"$f":"IF(configuracion!C50=\"\",\"\",configuracion!C50)","v":""}]
["Autorías",{"$f":"IF(configuracion!B51=\"\",\"\",configuracion!B51)","v":""},{"$f":"IF(configuracion!C51=\"\",\"\",configuracion!C51)","v":""}]
["Registros correctos",{"$f":"IF(configuracion!B52=\"\",\"\",configuracion!B52)","v":""},{"$f":"IF(configuracion!C52=\"\",\"\",configuracion!C52)","v":""}]
["json error",{"$f":"IF(configuracion!B53=\"\",\"\",configuracion!B53)","v":""},{"$f":"IF(configuracion!C53=\"\",\"\",configuracion!C53)","v":""}]
["error",{"$f":"IF(configuracion!B54=\"\",\"\",configuracion!B54)","v":""},{"$f":"IF(configuracion!C54=\"\",\"\",configuracion!C54)","v":""}]

{"sheet":"DATOS","index":3,"n_rows":502,"n_cols":27,"rows_kept":502,"cut":false,"hidden":false,"merged":[[0,5,0,6],[0,10,0,26]]}
[null,null,null,null,null,"MUESTREO"]
[{"$f":"TEXT(DIGITADOR!$B$9,\"yyyymmdd\")","v":"30001212"},"AGM MUESTREO","ID MUESTREO","ID MUESTRA","ID ESTACION","PARCELA","FECHA","Hora","Fecha + Hora",null,"Nivel Agua (cm)","Temp superficial (°C)","Temp instersticial 0.5m (°C)",null,"Salinidad superficial UPS","Salinidad intersticial 0.5m\n(UPS)",null,"PH superficial\n(unidades)","PH intersticial 0.5 m\n(unidades)",null,"Conductividad superficial\n(mS/cm)","Conductividad\nintersticial 0.5 m\n(mS/cm)",null,"ORP superficial","ORP intersticial 0.5m\n(mV)","Replica","OBSERVACIONES"]
[null,{"$f":"IF(C3=\"\",\"\",IF(COUNTIF($C$3:C3, C3)>1, \"\", C3))","v":""},{"$f":"IF(G3=\"\",\"\",IF(F3=\"\",\"\",CONCATENATE(DIGITADOR!$M$1,G3,E3)))","v":""},{"$f":"IF(C3=\"\",\"\",CONCATENATE(C3,ROW()-2))","v":""},{"$f":"IF(F3=\"\",\"\",VLOOKUP(F3,referentes!$Q$2:$T$200,3,FALSE))","v":""},null,null,null,{"$f":"IF(G3<>\"\", G3 + H3, \"\")","v":""}]
[null,{"$f":"IF(C4=\"\",\"\",IF(COUNTIF($C$3:C4, C4)>1, \"\", C4))","v":""},{"$f":"IF(G4=\"\",\"\",IF(F4=\"\",\"\",CONCATENATE(DIGITADOR!$M$1,G4,E4)))","v":""},{"$f":"IF(C4=\"\",\"\",CONCATENATE(C4,ROW()-2))","v":""},{"$f":"IF(F4=\"\",\"\",VLOOKUP(F4,referentes!$Q$2:$T$200,3,FALSE))","v":""},null,null,null,{"$f":"IF(G4<>\"\", G4 + H4, \"\")","v":""}]
[null,{"$f":"IF(C5=\"\",\"\",IF(COUNTIF($C$3:C5, C5)>1, \"\", C5))","v":""},{"$f":"IF(G5=\"\",\"\",IF(F5=\"\",\"\",CONCATENATE(DIGITADOR!$M$1,G5,E5)))","v":""},"",{"$f":"IF(F5=\"\",\"\",VLOOKUP(F5,referentes!$Q$2:$T$200,3,FALSE))","v":""},null,null,null,""]
[null,{"$f":"IF(C6=\"\",\"\",IF(COUNTIF($C$3:C6, C6)>1, \"\", C6))","v":""},{"$f":"IF(G6=\"\",\"\",IF(F6=\"\",\"\",CONCATENATE(DIGITADOR!$M$1,G6,E6)))","v":""},"",{"$f":"IF(F6=\"\",\"\",VLOOKUP(F6,referentes!$Q$2:$T$200,3,FALSE))","v":""},null,null,null,""]
[null,{"$f":"IF(C7=\"\",\"\",IF(COUNTIF($C$3:C7, C7)>1, \"\", C7))","v":""},{"$f":"IF(G7=\"\",\"\",IF(F7=\"\",\"\",CONCATENATE(DIGITADOR!$M$1,G7,E7)))","v":""},{"$f":"IF(C7=\"\",\"\",CONCATENATE(C7,ROW()-2))","v":""},{"$f":"IF(F7=\"\",\"\",VLOOKUP(F7,referentes!$Q$2:$T$200,3,FALSE))","v":""},null,null,null,""]
[null,{"$f":"IF(C8=\"\",\"\",IF(COUNTIF($C$3:C8, C8)>1, \"\", C8))","v":""},{"$f":"IF(G8=\"\",\"\",IF(F8=\"\",\"\",CONCATENATE(DIGITADOR!$M$1,G8,E8)))","v":""},"",{"$f":"IF(F8=\"\",\"\",VLOOKUP(F8,referentes!$Q$2:$T$200,3,FALSE))","v":""},null,null,null,""]
[null,{"$f":"IF(C9=\"\",\"\",IF(COUNTIF($C$3:C9, C9)>1, \"\", C9))","v":""},{"$f":"IF(G9=\"\",\"\",IF(F9=\"\",\"\",CONCATENATE(DIGITADOR!$M$1,G9,E9)))","v":""},"",{"$f":"IF(F9=\"\",\"\",VLOOKUP(F9,referentes!$Q$2:$T$200,3,FALSE))","v":""},null,null,null,""]
[null,{"$f":"IF(C10=\"\",\"\",IF(COUNTIF($C$3:C10, C10)>1, \"\", C10))","v":""},{"$f":"IF(G10=\"\",\"\",IF(F10=\"\",\"\",CONCATENATE(DIGITADOR!$M$1,G10,E10)))","v":""},"",{"$f":"IF(F10=\"\",\"\",VLOOKUP(F10,referentes!$Q$2:$T$200,3,FALSE))","v":""},null,null,null,""]
[null,{"$f":"IF(C11=\"\",\"\",IF(COUNTIF($C$3:C11, C11)>1, \"\", C11))","v":""},{"$f":"IF(G11=\"\",\"\",IF(F11=\"\",\"\",CONCATENATE(DIGITADOR!$M$1,G11,E11)))","v":""},"",{"$f":"IF(F11=\"\",\"\",VLOOKUP(F11,referentes!$Q$2:$T$200,3,FALSE))","v":""},null,null,null,""]
[null,{"$f":"IF(C12=\"\",\"\",IF(COUNTIF($C$3:C12, C12)>1, \"\", C12))","v":""},{"$f":"IF(G12=\"\",\"\",IF(F12=\"\",\"\",CONCATENATE(DIGITADOR!$M$1,G12,E12)))","v":""},"",{"$f":"IF(F12=\"\",\"\",VLOOKUP(F12,referentes!$Q$2:$T$200,3,FALSE))","v":""},null,null,null,""]
[null,{"$f":"IF(C13=\"\",\"\",IF(COUNTIF($C$3:C13, C13)>1, \"\", C13))","v":""},{"$f":"IF(G13=\"\",\"\",IF(F13=\"\",\"\",CONCATENATE(DIGITADOR!$M$1,G13,E13)))","v":""},"",{"$f":"IF(F13=\"\",\"\",VLOOKUP(F13,referentes!$Q$2:$T$200,3,FALSE))","v":""},null,null,null,""]
[null,{"$f":"IF(C14=\"\",\"\",IF(COUNTIF($C$3:C14, C14)>1, \"\", C14))","v":""},{"$f":"IF(G14=\"\",\"\",IF(F14=\"\",\"\",CONCATENATE(DIGITADOR!$M$1,G14,E14)))","v":""},"",{"$f":"IF(F14=\"\",\"\",VLOOKUP(F14,referentes!$Q$2:$T$200,3,FALSE))","v":""},null,null,null,""]
[null,{"$f":"IF(C15=\"\",\"\",IF(COUNTIF($C$3:C15, C15)>1, \"\", C15))","v":""},{"$f":"IF(G15=\"\",\"\",IF(F15=\"\",\"\",CONCATENATE(DIGITADOR!$M$1,G15,E15)))","v":""},"",{"$f":"IF(F15=\"\",\"\",VLOOKUP(F15,referentes!$Q$2:$T$200,3,FALSE))","v":""},null,null,null,""]
[null,{"$f":"IF(C16=\"\",\"\",IF(COUNTIF($C$3:C16, C16)>1, \"\", C16))","v":""},{"$f":"IF(G16=\"\",\"\",IF(F16=\"\",\"\",CONCATENATE(DIGITADOR!$M$1,G16,E16)))","v":""},"",{"$f":"IF(F16=\"\",\"\",VLOOKUP(F16,referentes!$Q$2:$T$200,3,FALSE))","v":""},null,null,null,""]
[null,{"$f":"IF(C17=\"\",\"\",IF(COUNTIF($C$3:C17, C17)>1, \"\", C17))","v":""},{"$f":"IF(G17=\"\",\"\",IF(F17=\"\",\"\",CONCATENATE(DIGITADOR!$M$1,G17,E17)))","v":""},"",{"$f":"IF(F17=\"\",\"\",VLOOKUP(F17,referentes!$Q$2:$T$200,3,FALSE))","v":""},null,null,null,""]
[null,{"$f":"IF(C18=\"\",\"\",IF(COUNTIF($C$3:C18, C18)>1, \"\", C18))","v":""},{"$f":"IF(G18=\"\",\"\",IF(F18=\"\",\"\",CONCATENATE(DIGITADOR!$M$1,G18,E18)))","v":""},"",{"$f":"IF(F18=\"\",\"\",VLOOKUP(F18,referentes!$Q$2:$T$200,3,FALSE))","v":""},null,null,null,""]
[null,{"$f":"IF(C19=\"\",\"\",IF(COUNTIF($C$3:C19, C19)>1, \"\", C19))","v":""},{"$f":"IF(G19=\"\",\"\",IF(F19=\"\",\"\",CONCATENATE(DIGITADOR!$M$1,G19,E19)))","v":""},"",{"$f":"IF(F19=\"\",\"\",VLOOKUP(F19,referentes!$Q$2:$T$200,3,FALSE))","v":""},null,null,null,""]
[null,{"$f":"IF(C20=\"\",\"\",IF(COUNTIF($C$3:C20, C20)>1, \"\", C20))","v":""},{"$f":"IF(G20=\"\",\"\",IF(F20=\"\",\"\",CONCATENATE(DIGITADOR!$M$1,G20,E20)))","v":""},"",{"$f":"IF(F20=\"\",\"\",VLOOKUP(F20,referentes!$Q$2:$T$200,3,FALSE))","v":""},null,null,null,""]
[null,{"$f":"IF(C21=\"\",\"\",IF(COUNTIF($C$3:C21, C21)>1, \"\", C21))","v":""},{"$f":"IF(G21=\"\",\"\",IF(F21=\"\",\"\",CONCATENATE(DIGITADOR!$M$1,G21,E21)))","v":""},"",{"$f":"IF(F21=\"\",\"\",VLOOKUP(F21,referentes!$Q$2:$T$200,3,FALSE))","v":""},null,null,null,""]
[null,{"$f":"IF(C22=\"\",\"\",IF(COUNTIF($C$3:C22, C22)>1, \"\", C22))","v":""},{"$f":"IF(G22=\"\",\"\",IF(F22=\"\",\"\",CONCATENATE(DIGITADOR!$M$1,G22,E22)))","v":""},"",{"$f":"IF(F22=\"\",\"\",VLOOKUP(F22,referentes!$Q$2:$T$200,3,FALSE))","v":""},null,null,null,""]
[null,{"$f":"IF(C23=\"\",\"\",IF(COUNTIF($C$3:C23, C23)>1, \"\", C23))","v":""},{"$f":"IF(G23=\"\",\"\",IF(F23=\"\",\"\",CONCATENATE(DIGITADOR!$M$1,G23,E23)))","v":""},"",{"$f":"IF(F23=\"\",\"\",VLOOKUP(F23,referentes!$Q$2:$T$200,3,FALSE))","v":""},null,null,null,""]
[null,{"$f":"IF(C24=\"\",\"\",IF(COUNTIF($C$3:C24, C24)>1, \"\", C24))","v":""},{"$f":"IF(G24=\"\",\"\",IF(F24=\"\",\"\",CONCATENATE(DIGITADOR!$M$1,G24,E24)))","v":""},"",{"$f":"IF(F24=\"\",\"\",VLOOKUP(F24,referentes!$Q$2:$T$200,3,FALSE))","v":""},null,null,null,""]
[null,{"$f":"IF(C25=\"\",\"\",IF(COUNTIF($C$3:C25, C25)>1, \"\", C25))","v":""},{"$f":"IF(G25=\"\",\"\",IF(F25=\"\",\"\",CONCATENATE(DIGITADOR!$M$1,G25,E25)))","v":""},"",{"$f":"IF(F25=\"\",\"\",VLOOKUP(F25,referentes!$Q$2:$T$200,3,FALSE))","v":""},null,null,null,""]
[null,{"$f":"IF(C26=\"\",\"\",IF(COUNTIF($C$3:C26, C26)>1, \"\", C26))","v":""},{"$f":"IF(G26=\"\",\"\",IF(F26=\"\",\"\",CONCATENATE(DIGITADOR!$M$1,G26,E26)))","v":""},"",{"$f":"IF(F26=\"\",\"\",VLOOKUP(F26,referentes!$Q$2:$T$200,3,FALSE))","v":""},null,null,null,""]
[null,{"$f":"IF(C27=\"\",\"\",IF(COUNTIF($C$3:C27, C27)>1, \"\", C27))","v":""},{"$f":"IF(G27=\"\",\"\",IF(F27=\"\",\"\",CONCATENATE(DIGITADOR!$M$1,G27,E27)))","v":""},"",{"$f":"IF(F27=\"\",\"\",VLOOKUP(F27,referentes!$Q$2:$T$200,3,FALSE))","v":""},null,null,null,""]
[null,{"$f":"IF(C28=\"\",\"\",IF(COUNTIF($C$3:C28, C28)>1, \"\", C28))","v":""},{"$f":"IF(G28=\"\",\"\",IF(F28=\"\",\"\",CONCATENATE(DIGITADOR!$M$1,G28,E28)))","v":""},"",{"$f":"IF(F28=\"\",\"\",VLOOKUP(F28,referentes!$Q$2:$T$200,3,FALSE))","v":""},null,null,null,""]
[null,{"$f":"IF(C29=\"\",\"\",IF(COUNTIF($C$3:C29, C29)>1, \"\", C29))","v":""},{"$f":"IF(G29=\"\",\"\",IF(F29=\"\",\"\",CONCATENATE(DIGITADOR!$M$1,G29,E29)))","v":""},"",{"$f":"IF(F29=\"\",\"\",VLOOKUP(F29,referentes!$Q$2:$T$200,3,FALSE))","v":""},null,null,null,""]
[null,{"$f":"IF(C30=\"\",\"\",IF(COUNTIF($C$3:C30, C30)>1, \"\", C30))","v":""},{"$f":"IF(G30=\"\",\"\",IF(F30=\"\",\"\",CONCATENATE(DIGITADOR!$M$1,G30,E30)))","v":""},"",{"$f":"IF(F30=\"\",\"\",VLOOKUP(F30,referentes!$Q$2:$T$200,3,FALSE))","v":""},null,null,null,""]
[null,{"$f":"IF(C31=\"\",\"\",IF(COUNTIF($C$3:C31, C31)>1, \"\", C31))","v":""},{"$f":"IF(G31=\"\",\"\",IF(F31=\"\",\"\",CONCATENATE(DIGITADOR!$M$1,G31,E31)))","v":""},"",{"$f":"IF(F31=\"\",\"\",VLOOKUP(F31,referentes!$Q$2:$T$200,3,FALSE))","v":""},null,null,null,""]
[null,{"$f":"IF(C32=\"\",\"\",IF(COUNTIF($C$3:C32, C32)>1, \"\", C32))","v":""},{"$f":"IF(G32=\"\",\"\",IF(F32=\"\",\"\",CONCATENATE(DIGITADOR!$M$1,G32,E32)))","v":""},"",{"$f":"IF(F32=\"\",\"\",VLOOKUP(F32,referentes!$Q$2:$T$200,3,FALSE))","v":""},null,null,null,""]
[null,{"$f":"IF(C33=\"\",\"\",IF(COUNTIF($C$3:C33, C33)>1, \"\", C33))","v":""},{"$f":"IF(G33=\"\",\"\",IF(F33=\"\",\"\",CONCATENATE(DIGITADOR!$M$1,G33,E33)))","v":""},"",{"$f":"IF(F33=\"\",\"\",VLOOKUP(F33,referentes!$Q$2:$T$200,3,FALSE))","v":""},null,null,null,""]
[null,{"$f":"IF(C34=\"\",\"\",IF(COUNTIF($C$3:C34, C34)>1, \"\", C34))","v":""},{"$f":"IF(G34=\"\",\"\",IF(F34=\"\",\"\",CONCATENATE(DIGITADOR!$M$1,G34,E34)))","v":""},"",{"$f":"IF(F34=\"\",\"\",VLOOKUP(F34,referentes!$Q$2:$T$200,3,FALSE))","v":""},null,null,null,""]
[null,{"$f":"IF(C35=\"\",\"\",IF(COUNTIF($C$3:C35, C35)>1, \"\", C35))","v":""},{"$f":"IF(G35=\"\",\"\",IF(F35=\"\",\"\",CONCATENATE(DIGITADOR!$M$1,G35,E35)))","v":""},"",{"$f":"IF(F35=\"\",\"\",VLOOKUP(F35,referentes!$Q$2:$T$200,3,FALSE))","v":""},null,null,null,""]
[null,{"$f":"IF(C36=\"\",\"\",IF(COUNTIF($C$3:C36, C36)>1, \"\", C36))","v":""},{"$f":"IF(G36=\"\",\"\",IF(F36=\"\",\"\",CONCATENATE(DIGITADOR!$M$1,G36,E36)))","v":""},"",{"$f":"IF(F36=\"\",\"\",VLOOKUP(F36,referentes!$Q$2:$T$200,3,FALSE))","v":""},null,null,null,""]
[null,{"$f":"IF(C37=\"\",\"\",IF(COUNTIF($C$3:C37, C37)>1, \"\", C37))","v":""},{"$f":"IF(G37=\"\",\"\",IF(F37=\"\",\"\",CONCATENATE(DIGITADOR!$M$1,G37,E37)))","v":""},"",{"$f":"IF(F37=\"\",\"\",VLOOKUP(F37,referentes!$Q$2:$T$200,3,FALSE))","v":""},null,null,null,""]
[null,{"$f":"IF(C38=\"\",\"\",IF(COUNTIF($C$3:C38, C38)>1, \"\", C38))","v":""},{"$f":"IF(G38=\"\",\"\",IF(F38=\"\",\"\",CONCATENATE(DIGITADOR!$M$1,G38,E38)))","v":""},"",{"$f":"IF(F38=\"\",\"\",VLOOKUP(F38,referentes!$Q$2:$T$200,3,FALSE))","v":""},null,null,null,""]
[null,{"$f":"IF(C39=\"\",\"\",IF(COUNTIF($C$3:C39, C39)>1, \"\", C39))","v":""},{"$f":"IF(G39=\"\",\"\",IF(F39=\"\",\"\",CONCATENATE(DIGITADOR!$M$1,G39,E39)))","v":""},"",{"$f":"IF(F39=\"\",\"\",VLOOKUP(F39,referentes!$Q$2:$T$200,3,FALSE))","v":""},null,null,null,""]
[null,{"$f":"IF(C40=\"\",\"\",IF(COUNTIF($C$3:C40, C40)>1, \"\", C40))","v":""},{"$f":"IF(G40=\"\",\"\",IF(F40=\"\",\"\",CONCATENATE(DIGITADOR!$M$1,G40,E40)))","v":""},"",{"$f":"IF(F40=\"\",\"\",VLOOKUP(F40,referentes!$Q$2:$T$200,3,FALSE))","v":""},null,null,null,""]
[null,{"$f":"IF(C41=\"\",\"\",IF(COUNTIF($C$3:C41, C41)>1, \"\", C41))","v":""},{"$f":"IF(G41=\"\",\"\",IF(F41=\"\",\"\",CONCATENATE(DIGITADOR!$M$1,G41,E41)))","v":""},"",{"$f":"IF(F41=\"\",\"\",VLOOKUP(F41,referentes!$Q$2:$T$200,3,FALSE))","v":""},null,null,null,""]
[null,{"$f":"IF(C42=\"\",\"\",IF(COUNTIF($C$3:C42, C42)>1, \"\", C42))","v":""},{"$f":"IF(G42=\"\",\"\",IF(F42=\"\",\"\",CONCATENATE(DIGITADOR!$M$1,G42,E42)))","v":""},"",{"$f":"IF(F42=\"\",\"\",VLOOKUP(F42,referentes!$Q$2:$T$200,3,FALSE))","v":""},null,null,null,""]
[null,{"$f":"IF(C43=\"\",\"\",IF(COUNTIF($C$3:C43, C43)>1, \"\", C43))","v":""},{"$f":"IF(G43=\"\",\"\",IF(F43=\"\",\"\",CONCATENATE(DIGITADOR!$M$1,G43,E43)))","v":""},"",{"$f":"IF(F43=\"\",\"\",VLOOKUP(F43,referentes!$Q$2:$T$200,3,FALSE))","v":""},null,null,null,""]
[null,{"$f":"IF(C44=\"\",\"\",IF(COUNTIF($C$3:C44, C44)>1, \"\", C44))","v":""},{"$f":"IF(G44=\"\",\"\",IF(F44=\"\",\"\",CONCATENATE(DIGITADOR!$M$1,G44,E44)))","v":""},"",{"$f":"IF(F44=\"\",\"\",VLOOKUP(F44,referentes!$Q$2:$T$200,3,FALSE))","v":""},null,null,null,""]
[null,{"$f":"IF(C45=\"\",\"\",IF(COUNTIF($C$3:C45, C45)>1, \"\", C45))","v":""},{"$f":"IF(G45=\"\",\"\",IF(F45=\"\",\"\",CONCATENATE(DIGITADOR!$M$1,G45,E45)))","v":""},"",{"$f":"IF(F45=\"\",\"\",VLOOKUP(F45,referentes!$Q$2:$T$200,3,FALSE))","v":""},null,null,null,""]
[null,{"$f":"IF(C46=\"\",\"\",IF(COUNTIF($C$3:C46, C46)>1, \"\", C46))","v":""},{"$f":"IF(G46=\"\",\"\",IF(F46=\"\",\"\",CONCATENATE(DIGITADOR!$M$1,G46,E46)))","v":""},"",{"$f":"IF(F46=\"\",\"\",VLOOKUP(F46,referentes!$Q$2:$T$200,3,FALSE))","v":""},null,null,null,""]
[null,{"$f":"IF(C47=\"\",\"\",IF(COUNTIF($C$3:C47, C47)>1, \"\", C47))","v":""},{"$f":"IF(G47=\"\",\"\",IF(F47=\"\",\"\",CONCATENATE(DIGITADOR!$M$1,G47,E47)))","v":""},"",{"$f":"IF(F47=\"\",\"\",VLOOKUP(F47,referentes!$Q$2:$T$200,3,FALSE))","v":""},null,null,null,""]
[null,{"$f":"IF(C48=\"\",\"\",IF(COUNTIF($C$3:C48, C48)>1, \"\", C48))","v":""},{"$f":"IF(G48=\"\",\"\",IF(F48=\"\",\"\",CONCATENATE(DIGITADOR!$M$1,G48,E48)))","v":""},"",{"$f":"IF(F48=\"\",\"\",VLOOKUP(F48,referentes!$Q$2:$T$200,3,FALSE))","v":""},null,null,null,""]
[null,{"$f":"IF(C49=\"\",\"\",IF(COUNTIF($C$3:C49, C49)>1, \"\", C49))","v":""},{"$f":"IF(G49=\"\",\"\",IF(F49=\"\",\"\",CONCATENATE(DIGITADOR!$M$1,G49,E49)))","v":""},"",{"$f":"IF(F49=\"\",\"\",VLOOKUP(F49,referentes!$Q$2:$T$200,3,FALSE))","v":""},null,null,null,""]
[null,{"$f":"IF(C50=\"\",\"\",IF(COUNTIF($C$3:C50, C50)>1, \"\", C50))","v":""},{"$f":"IF(G50=\"\",\"\",IF(F50=\"\",\"\",CONCATENATE(DIGITADOR!$M$1,G50,E50)))","v":""},"",{"$f":"IF(F50=\"\",\"\",VLOOKUP(F50,referentes!$Q$2:$T$200,3,FALSE))","v":""},null,null,null,""]
[null,{"$f":"IF(C51=\"\",\"\",IF(COUNTIF($C$3:C51, C51)>1, \"\", C51))","v":""},{"$f":"IF(G51=\"\",\"\",IF(F51=\"\",\"\",CONCATENATE(DIGITADOR!$M$1,G51,E51)))","v":""},"",{"$f":"IF(F51=\"\",\"\",VLOOKUP(F51,referentes!$Q$2:$T$200,3,FALSE))","v":""},null,null,null,""]
[null,{"$f":"IF(C52=\"\",\"\",IF(COUNTIF($C$3:C52, C52)>1, \"\", C52))","v":""},{"$f":"IF(G52=\"\",\"\",IF(F52=\"\",\"\",CONCATENATE(DIGITADOR!$M$1,G52,E52)))","v":""},"",{"$f":"IF(F52=\"\",\"\",VLOOKUP(F52,referentes!$Q$2:$T$200,3,FALSE))","v":""},null,null,null,""]
[null,{"$f":"IF(C53=\"\",\"\",IF(COUNTIF($C$3:C53, C53)>1, \"\", C53))","v":""},{"$f":"IF(G53=\"\",\"\",IF(F53=\"\",\"\",CONCATENATE(DIGITADOR!$M$1,G53,E53)))","v":""},"",{"$f":"IF(F53=\"\",\"\",VLOOKUP(F53,referentes!$Q$2:$T$200,3,FALSE))","v":""},null,null,null,""]
[null,{"$f":"IF(C54=\"\",\"\",IF(COUNTIF($C$3:C54, C54)>1, \"\", C54))","v":""},{"$f":"IF(G54=\"\",\"\",IF(F54=\"\",\"\",CONCATENATE(DIGITADOR!$M$1,G54,E54)))","v":""},"",{"$f":"IF(F54=\"\",\"\",VLOOKUP(F54,referentes!$Q$2:$T$200,3,FALSE))","v":""},null,null,null,""]
[null,{"$f":"IF(C55=\"\",\"\",IF(COUNTIF($C$3:C55, C55)>1, \"\", C55))","v":""},{"$f":"IF(G55=\"\",\"\",IF(F55=\"\",\"\",CONCATENATE(DIGITADOR!$M$1,G55,E55)))","v":""},"",{"$f":"IF(F55=\"\",\"\",VLOOKUP(F55,referentes!$Q$2:$T$200,3,FALSE))","v":""},null,null,null,""]
[null,{"$f":"IF(C56=\"\",\"\",IF(COUNTIF($C$3:C56, C56)>1, \"\", C56))","v":""},{"$f":"IF(G56=\"\",\"\",IF(F56=\"\",\"\",CONCATENATE(DIGITADOR!$M$1,G56,E56)))","v":""},"",{"$f":"IF(F56=\"\",\"\",VLOOKUP(F56,referentes!$Q$2:$T$200,3,FALSE))","v":""},null,null,null,""]
[null,{"$f":"IF(C57=\"\",\"\",IF(COUNTIF($C$3:C57, C57)>1, \"\", C57))","v":""},{"$f":"IF(G57=\"\",\"\",IF(F57=\"\",\"\",CONCATENATE(DIGITADOR!$M$1,G57,E57)))","v":""},"",{"$f":"IF(F57=\"\",\"\",VLOOKUP(F57,referentes!$Q$2:$T$200,3,FALSE))","v":""},null,null,null,""]
[null,{"$f":"IF(C58=\"\",\"\",IF(COUNTIF($C$3:C58, C58)>1, \"\", C58))","v":""},{"$f":"IF(G58=\"\",\"\",IF(F58=\"\",\"\",CONCATENATE(DIGITADOR!$M$1,G58,E58)))","v":""},"",{"$f":"IF(F58=\"\",\"\",VLOOKUP(F58,referentes!$Q$2:$T$200,3,FALSE))","v":""},null,null,null,""]
[null,{"$f":"IF(C59=\"\",\"\",IF(COUNTIF($C$3:C59, C59)>1, \"\", C59))","v":""},{"$f":"IF(G59=\"\",\"\",IF(F59=\"\",\"\",CONCATENATE(DIGITADOR!$M$1,G59,E59)))","v":""},"",{"$f":"IF(F59=\"\",\"\",VLOOKUP(F59,referentes!$Q$2:$T$200,3,FALSE))","v":""},null,null,null,""]
[null,{"$f":"IF(C60=\"\",\"\",IF(COUNTIF($C$3:C60, C60)>1, \"\", C60))","v":""},{"$f":"IF(G60=\"\",\"\",IF(F60=\"\",\"\",CONCATENATE(DIGITADOR!$M$1,G60,E60)))","v":""},"",{"$f":"IF(F60=\"\",\"\",VLOOKUP(F60,referentes!$Q$2:$T$200,3,FALSE))","v":""},null,null,null,""]
[null,{"$f":"IF(C61=\"\",\"\",IF(COUNTIF($C$3:C61, C61)>1, \"\", C61))","v":""},{"$f":"IF(G61=\"\",\"\",IF(F61=\"\",\"\",CONCATENATE(DIGITADOR!$M$1,G61,E61)))","v":""},"",{"$f":"IF(F61=\"\",\"\",VLOOKUP(F61,referentes!$Q$2:$T$200,3,FALSE))","v":""},null,null,null,""]
[null,{"$f":"IF(C62=\"\",\"\",IF(COUNTIF($C$3:C62, C62)>1, \"\", C62))","v":""},{"$f":"IF(G62=\"\",\"\",IF(F62=\"\",\"\",CONCATENATE(DIGITADOR!$M$1,G62,E62)))","v":""},"",{"$f":"IF(F62=\"\",\"\",VLOOKUP(F62,referentes!$Q$2:$T$200,3,FALSE))","v":""},null,null,null,""]
[null,{"$f":"IF(C63=\"\",\"\",IF(COUNTIF($C$3:C63, C63)>1, \"\", C63))","v":""},{"$f":"IF(G63=\"\",\"\",IF(F63=\"\",\"\",CONCATENATE(DIGITADOR!$M$1,G63,E63)))","v":""},"",{"$f":"IF(F63=\"\",\"\",VLOOKUP(F63,referentes!$Q$2:$T$200,3,FALSE))","v":""},null,null,null,""]
[null,{"$f":"IF(C64=\"\",\"\",IF(COUNTIF($C$3:C64, C64)>1, \"\", C64))","v":""},{"$f":"IF(G64=\"\",\"\",IF(F64=\"\",\"\",CONCATENATE(DIGITADOR!$M$1,G64,E64)))","v":""},"",{"$f":"IF(F64=\"\",\"\",VLOOKUP(F64,referentes!$Q$2:$T$200,3,FALSE))","v":""},null,null,null,""]
[null,{"$f":"IF(C65=\"\",\"\",IF(COUNTIF($C$3:C65, C65)>1, \"\", C65))","v":""},{"$f":"IF(G65=\"\",\"\",IF(F65=\"\",\"\",CONCATENATE(DIGITADOR!$M$1,G65,E65)))","v":""},"",{"$f":"IF(F65=\"\",\"\",VLOOKUP(F65,referentes!$Q$2:$T$200,3,FALSE))","v":""},null,null,null,""]
[null,{"$f":"IF(C66=\"\",\"\",IF(COUNTIF($C$3:C66, C66)>1, \"\", C66))","v":""},{"$f":"IF(G66=\"\",\"\",IF(F66=\"\",\"\",CONCATENATE(DIGITADOR!$M$1,G66,E66)))","v":""},"",{"$f":"IF(F66=\"\",\"\",VLOOKUP(F66,referentes!$Q$2:$T$200,3,FALSE))","v":""},null,null,null,""]
[null,{"$f":"IF(C67=\"\",\"\",IF(COUNTIF($C$3:C67, C67)>1, \"\", C67))","v":""},{"$f":"IF(G67=\"\",\"\",IF(F67=\"\",\"\",CONCATENATE(DIGITADOR!$M$1,G67,E67)))","v":""},"",{"$f":"IF(F67=\"\",\"\",VLOOKUP(F67,referentes!$Q$2:$T$200,3,FALSE))","v":""},null,null,null,""]
[null,{"$f":"IF(C68=\"\",\"\",IF(COUNTIF($C$3:C68, C68)>1, \"\", C68))","v":""},{"$f":"IF(G68=\"\",\"\",IF(F68=\"\",\"\",CONCATENATE(DIGITADOR!$M$1,G68,E68)))","v":""},{"$f":"IF(C68=\"\",\"\",CONCATENATE(C68,ROW()-2))","v":""},{"$f":"IF(F68=\"\",\"\",VLOOKUP(F68,referentes!$Q$2:$T$200,3,FALSE))","v":""},null,null,null,{"$f":"IF(G68<>\"\", G68 + H68, \"\")","v":""}]
[null,{"$f":"IF(C69=\"\",\"\",IF(COUNTIF($C$3:C69, C69)>1, \"\", C69))","v":""},{"$f":"IF(G69=\"\",\"\",IF(F69=\"\",\"\",CONCATENATE(DIGITADOR!$M$1,G69,E69)))","v":""},"",{"$f":"IF(F69=\"\",\"\",VLOOKUP(F69,referentes!$Q$2:$T$200,3,FALSE))","v":""},null,null,null,""]
[null,{"$f":"IF(C70=\"\",\"\",IF(COUNTIF($C$3:C70, C70)>1, \"\", C70))","v":""},{"$f":"IF(G70=\"\",\"\",IF(F70=\"\",\"\",CONCATENATE(DIGITADOR!$M$1,G70,E70)))","v":""},"",{"$f":"IF(F70=\"\",\"\",VLOOKUP(F70,referentes!$Q$2:$T$200,3,FALSE))","v":""},null,null,null,""]
[null,{"$f":"IF(C71=\"\",\"\",IF(COUNTIF($C$3:C71, C71)>1, \"\", C71))","v":""},{"$f":"IF(G71=\"\",\"\",IF(F71=\"\",\"\",CONCATENATE(DIGITADOR!$M$1,G71,E71)))","v":""},"",{"$f":"IF(F71=\"\",\"\",VLOOKUP(F71,referentes!$Q$2:$T$200,3,FALSE))","v":""},null,null,null,""]
[null,{"$f":"IF(C72=\"\",\"\",IF(COUNTIF($C$3:C72, C72)>1, \"\", C72))","v":""},{"$f":"IF(G72=\"\",\"\",IF(F72=\"\",\"\",CONCATENATE(DIGITADOR!$M$1,G72,E72)))","v":""},"",{"$f":"IF(F72=\"\",\"\",VLOOKUP(F72,referentes!$Q$2:$T$200,3,FALSE))","v":""},null,null,null,""]
[null,{"$f":"IF(C73=\"\",\"\",IF(COUNTIF($C$3:C73, C73)>1, \"\", C73))","v":""},{"$f":"IF(G73=\"\",\"\",IF(F73=\"\",\"\",CONCATENATE(DIGITADOR!$M$1,G73,E73)))","v":""},"",{"$f":"IF(F73=\"\",\"\",VLOOKUP(F73,referentes!$Q$2:$T$200,3,FALSE))","v":""},null,null,null,""]
[null,{"$f":"IF(C74=\"\",\"\",IF(COUNTIF($C$3:C74, C74)>1, \"\", C74))","v":""},{"$f":"IF(G74=\"\",\"\",IF(F74=\"\",\"\",CONCATENATE(DIGITADOR!$M$1,G74,E74)))","v":""},"",{"$f":"IF(F74=\"\",\"\",VLOOKUP(F74,referentes!$Q$2:$T$200,3,FALSE))","v":""},null,null,null,""]
[null,{"$f":"IF(C75=\"\",\"\",IF(COUNTIF($C$3:C75, C75)>1, \"\", C75))","v":""},{"$f":"IF(G75=\"\",\"\",IF(F75=\"\",\"\",CONCATENATE(DIGITADOR!$M$1,G75,E75)))","v":""},"",{"$f":"IF(F75=\"\",\"\",VLOOKUP(F75,referentes!$Q$2:$T$200,3,FALSE))","v":""},null,null,null,""]
[null,{"$f":"IF(C76=\"\",\"\",IF(COUNTIF($C$3:C76, C76)>1, \"\", C76))","v":""},{"$f":"IF(G76=\"\",\"\",IF(F76=\"\",\"\",CONCATENATE(DIGITADOR!$M$1,G76,E76)))","v":""},"",{"$f":"IF(F76=\"\",\"\",VLOOKUP(F76,referentes!$Q$2:$T$200,3,FALSE))","v":""},null,null,null,""]
[null,{"$f":"IF(C77=\"\",\"\",IF(COUNTIF($C$3:C77, C77)>1, \"\", C77))","v":""},{"$f":"IF(G77=\"\",\"\",IF(F77=\"\",\"\",CONCATENATE(DIGITADOR!$M$1,G77,E77)))","v":""},"",{"$f":"IF(F77=\"\",\"\",VLOOKUP(F77,referentes!$Q$2:$T$200,3,FALSE))","v":""},null,null,null,""]
[null,{"$f":"IF(C78=\"\",\"\",IF(COUNTIF($C$3:C78, C78)>1, \"\", C78))","v":""},{"$f":"IF(G78=\"\",\"\",IF(F78=\"\",\"\",CONCATENATE(DIGITADOR!$M$1,G78,E78)))","v":""},"",{"$f":"IF(F78=\"\",\"\",VLOOKUP(F78,referentes!$Q$2:$T$200,3,FALSE))","v":""},null,null,null,""]
[null,{"$f":"IF(C79=\"\",\"\",IF(COUNTIF($C$3:C79, C79)>1, \"\", C79))","v":""},{"$f":"IF(G79=\"\",\"\",IF(F79=\"\",\"\",CONCATENATE(DIGITADOR!$M$1,G79,E79)))","v":""},"",{"$f":"IF(F79=\"\",\"\",VLOOKUP(F79,referentes!$Q$2:$T$200,3,FALSE))","v":""},null,null,null,""]
[null,{"$f":"IF(C80=\"\",\"\",IF(COUNTIF($C$3:C80, C80)>1, \"\", C80))","v":""},{"$f":"IF(G80=\"\",\"\",IF(F80=\"\",\"\",CONCATENATE(DIGITADOR!$M$1,G80,E80)))","v":""},"",{"$f":"IF(F80=\"\",\"\",VLOOKUP(F80,referentes!$Q$2:$T$200,3,FALSE))","v":""},null,null,null,""]
[null,{"$f":"IF(C81=\"\",\"\",IF(COUNTIF($C$3:C81, C81)>1, \"\", C81))","v":""},{"$f":"IF(G81=\"\",\"\",IF(F81=\"\",\"\",CONCATENATE(DIGITADOR!$M$1,G81,E81)))","v":""},"",{"$f":"IF(F81=\"\",\"\",VLOOKUP(F81,referentes!$Q$2:$T$200,3,FALSE))","v":""},null,null,null,""]
[null,{"$f":"IF(C82=\"\",\"\",IF(COUNTIF($C$3:C82, C82)>1, \"\", C82))","v":""},{"$f":"IF(G82=\"\",\"\",IF(F82=\"\",\"\",CONCATENATE(DIGITADOR!$M$1,G82,E82)))","v":""},"",{"$f":"IF(F82=\"\",\"\",VLOOKUP(F82,referentes!$Q$2:$T$200,3,FALSE))","v":""},null,null,null,""]
[null,{"$f":"IF(C83=\"\",\"\",IF(COUNTIF($C$3:C83, C83)>1, \"\", C83))","v":""},{"$f":"IF(G83=\"\",\"\",IF(F83=\"\",\"\",CONCATENATE(DIGITADOR!$M$1,G83,E83)))","v":""},"",{"$f":"IF(F83=\"\",\"\",VLOOKUP(F83,referentes!$Q$2:$T$200,3,FALSE))","v":""},null,null,null,""]
[null,{"$f":"IF(C84=\"\",\"\",IF(COUNTIF($C$3:C84, C84)>1, \"\", C84))","v":""},{"$f":"IF(G84=\"\",\"\",IF(F84=\"\",\"\",CONCATENATE(DIGITADOR!$M$1,G84,E84)))","v":""},"",{"$f":"IF(F84=\"\",\"\",VLOOKUP(F84,referentes!$Q$2:$T$200,3,FALSE))","v":""},null,null,null,""]
[null,{"$f":"IF(C85=\"\",\"\",IF(COUNTIF($C$3:C85, C85)>1, \"\", C85))","v":""},{"$f":"IF(G85=\"\",\"\",IF(F85=\"\",\"\",CONCATENATE(DIGITADOR!$M$1,G85,E85)))","v":""},"",{"$f":"IF(F85=\"\",\"\",VLOOKUP(F85,referentes!$Q$2:$T$200,3,FALSE))","v":""},null,null,null,""]
[null,{"$f":"IF(C86=\"\",\"\",IF(COUNTIF($C$3:C86, C86)>1, \"\", C86))","v":""},{"$f":"IF(G86=\"\",\"\",IF(F86=\"\",\"\",CONCATENATE(DIGITADOR!$M$1,G86,E86)))","v":""},"",{"$f":"IF(F86=\"\",\"\",VLOOKUP(F86,referentes!$Q$2:$T$200,3,FALSE))","v":""},null,null,null,""]
[null,{"$f":"IF(C87=\"\",\"\",IF(COUNTIF($C$3:C87, C87)>1, \"\", C87))","v":""},{"$f":"IF(G87=\"\",\"\",IF(F87=\"\",\"\",CONCATENATE(DIGITADOR!$M$1,G87,E87)))","v":""},"",{"$f":"IF(F87=\"\",\"\",VLOOKUP(F87,referentes!$Q$2:$T$200,3,FALSE))","v":""},null,null,null,""]
[null,{"$f":"IF(C88=\"\",\"\",IF(COUNTIF($C$3:C88, C88)>1, \"\", C88))","v":""},{"$f":"IF(G88=\"\",\"\",IF(F88=\"\",\"\",CONCATENATE(DIGITADOR!$M$1,G88,E88)))","v":""},"",{"$f":"IF(F88=\"\",\"\",VLOOKUP(F88,referentes!$Q$2:$T$200,3,FALSE))","v":""},null,null,null,""]
[null,{"$f":"IF(C89=\"\",\"\",IF(COUNTIF($C$3:C89, C89)>1, \"\", C89))","v":""},{"$f":"IF(G89=\"\",\"\",IF(F89=\"\",\"\",CONCATENATE(DIGITADOR!$M$1,G89,E89)))","v":""},"",{"$f":"IF(F89=\"\",\"\",VLOOKUP(F89,referentes!$Q$2:$T$200,3,FALSE))","v":""},null,null,null,""]
[null,{"$f":"IF(C90=\"\",\"\",IF(COUNTIF($C$3:C90, C90)>1, \"\", C90))","v":""},{"$f":"IF(G90=\"\",\"\",IF(F90=\"\",\"\",CONCATENATE(DIGITADOR!$M$1,G90,E90)))","v":""},"",{"$f":"IF(F90=\"\",\"\",VLOOKUP(F90,referentes!$Q$2:$T$200,3,FALSE))","v":""},null,null,null,""]
[null,{"$f":"IF(C91=\"\",\"\",IF(COUNTIF($C$3:C91, C91)>1, \"\", C91))","v":""},{"$f":"IF(G91=\"\",\"\",IF(F91=\"\",\"\",CONCATENATE(DIGITADOR!$M$1,G91,E91)))","v":""},"",{"$f":"IF(F91=\"\",\"\",VLOOKUP(F91,referentes!$Q$2:$T$200,3,FALSE))","v":""},null,null,null,""]
[null,{"$f":"IF(C92=\"\",\"\",IF(COUNTIF($C$3:C92, C92)>1, \"\", C92))","v":""},{"$f":"IF(G92=\"\",\"\",IF(F92=\"\",\"\",CONCATENATE(DIGITADOR!$M$1,G92,E92)))","v":""},"",{"$f":"IF(F92=\"\",\"\",VLOOKUP(F92,referentes!$Q$2:$T$200,3,FALSE))","v":""},null,null,null,""]
[null,{"$f":"IF(C93=\"\",\"\",IF(COUNTIF($C$3:C93, C93)>1, \"\", C93))","v":""},{"$f":"IF(G93=\"\",\"\",IF(F93=\"\",\"\",CONCATENATE(DIGITADOR!$M$1,G93,E93)))","v":""},"",{"$f":"IF(F93=\"\",\"\",VLOOKUP(F93,referentes!$Q$2:$T$200,3,FALSE))","v":""},null,null,null,""]
[null,{"$f":"IF(C94=\"\",\"\",IF(COUNTIF($C$3:C94, C94)>1, \"\", C94))","v":""},{"$f":"IF(G94=\"\",\"\",IF(F94=\"\",\"\",CONCATENATE(DIGITADOR!$M$1,G94,E94)))","v":""},"",{"$f":"IF(F94=\"\",\"\",VLOOKUP(F94,referentes!$Q$2:$T$200,3,FALSE))","v":""},null,null,null,""]
[null,{"$f":"IF(C95=\"\",\"\",IF(COUNTIF($C$3:C95, C95)>1, \"\", C95))","v":""},{"$f":"IF(G95=\"\",\"\",IF(F95=\"\",\"\",CONCATENATE(DIGITADOR!$M$1,G95,E95)))","v":""},"",{"$f":"IF(F95=\"\",\"\",VLOOKUP(F95,referentes!$Q$2:$T$200,3,FALSE))","v":""},null,null,null,""]
[null,{"$f":"IF(C96=\"\",\"\",IF(COUNTIF($C$3:C96, C96)>1, \"\", C96))","v":""},{"$f":"IF(G96=\"\",\"\",IF(F96=\"\",\"\",CONCATENATE(DIGITADOR!$M$1,G96,E96)))","v":""},"",{"$f":"IF(F96=\"\",\"\",VLOOKUP(F96,referentes!$Q$2:$T$200,3,FALSE))","v":""},null,null,null,""]
[null,{"$f":"IF(C97=\"\",\"\",IF(COUNTIF($C$3:C97, C97)>1, \"\", C97))","v":""},{"$f":"IF(G97=\"\",\"\",IF(F97=\"\",\"\",CONCATENATE(DIGITADOR!$M$1,G97,E97)))","v":""},"",{"$f":"IF(F97=\"\",\"\",VLOOKUP(F97,referentes!$Q$2:$T$200,3,FALSE))","v":""},null,null,null,""]
[null,{"$f":"IF(C98=\"\",\"\",IF(COUNTIF($C$3:C98, C98)>1, \"\", C98))","v":""},{"$f":"IF(G98=\"\",\"\",IF(F98=\"\",\"\",CONCATENATE(DIGITADOR!$M$1,G98,E98)))","v":""},"",{"$f":"IF(F98=\"\",\"\",VLOOKUP(F98,referentes!$Q$2:$T$200,3,FALSE))","v":""},null,null,null,""]
[null,{"$f":"IF(C99=\"\",\"\",IF(COUNTIF($C$3:C99, C99)>1, \"\", C99))","v":""},{"$f":"IF(G99=\"\",\"\",IF(F99=\"\",\"\",CONCATENATE(DIGITADOR!$M$1,G99,E99)))","v":""},"",{"$f":"IF(F99=\"\",\"\",VLOOKUP(F99,referentes!$Q$2:$T$200,3,FALSE))","v":""},null,null,null,""]
[null,{"$f":"IF(C100=\"\",\"\",IF(COUNTIF($C$3:C100, C100)>1, \"\", C100))","v":""},{"$f":"IF(G100=\"\",\"\",IF(F100=\"\",\"\",CONCATENATE(DIGITADOR!$M$1,G100,E100)))","v":""},"",{"$f":"IF(F100=\"\",\"\",VLOOKUP(F100,referentes!$Q$2:$T$200,3,FALSE))","v":""},null,null,null,""]
[null,{"$f":"IF(C101=\"\",\"\",IF(COUNTIF($C$3:C101, C101)>1, \"\", C101))","v":""},{"$f":"IF(G101=\"\",\"\",IF(F101=\"\",\"\",CONCATENATE(DIGITADOR!$M$1,G101,E101)))","v":""},"",{"$f":"IF(F101=\"\",\"\",VLOOKUP(F101,referentes!$Q$2:$T$200,3,FALSE))","v":""},null,null,null,""]
[null,{"$f":"IF(C102=\"\",\"\",IF(COUNTIF($C$3:C102, C102)>1, \"\", C102))","v":""},{"$f":"IF(G102=\"\",\"\",IF(F102=\"\",\"\",CONCATENATE(DIGITADOR!$M$1,G102,E102)))","v":""},"",{"$f":"IF(F102=\"\",\"\",VLOOKUP(F102,referentes!$Q$2:$T$200,3,FALSE))","v":""},null,null,null,""]
[null,{"$f":"IF(C103=\"\",\"\",IF(COUNTIF($C$3:C103, C103)>1, \"\", C103))","v":""},{"$f":"IF(G103=\"\",\"\",IF(F103=\"\",\"\",CONCATENATE(DIGITADOR!$M$1,G103,E103)))","v":""},"",{"$f":"IF(F103=\"\",\"\",VLOOKUP(F103,referentes!$Q$2:$T$200,3,FALSE))","v":""},null,null,null,""]
[null,{"$f":"IF(C104=\"\",\"\",IF(COUNTIF($C$3:C104, C104)>1, \"\", C104))","v":""},{"$f":"IF(G104=\"\",\"\",IF(F104=\"\",\"\",CONCATENATE(DIGITADOR!$M$1,G104,E104)))","v":""},"",{"$f":"IF(F104=\"\",\"\",VLOOKUP(F104,referentes!$Q$2:$T$200,3,FALSE))","v":""},null,null,null,""]
[null,{"$f":"IF(C105=\"\",\"\",IF(COUNTIF($C$3:C105, C105)>1, \"\", C105))","v":""},{"$f":"IF(G105=\"\",\"\",IF(F105=\"\",\"\",CONCATENATE(DIGITADOR!$M$1,G105,E105)))","v":""},"",{"$f":"IF(F105=\"\",\"\",VLOOKUP(F105,referentes!$Q$2:$T$200,3,FALSE))","v":""},null,null,null,""]
[null,{"$f":"IF(C106=\"\",\"\",IF(COUNTIF($C$3:C106, C106)>1, \"\", C106))","v":""},{"$f":"IF(G106=\"\",\"\",IF(F106=\"\",\"\",CONCATENATE(DIGITADOR!$M$1,G106,E106)))","v":""},"",{"$f":"IF(F106=\"\",\"\",VLOOKUP(F106,referentes!$Q$2:$T$200,3,FALSE))","v":""},null,null,null,""]
[null,{"$f":"IF(C107=\"\",\"\",IF(COUNTIF($C$3:C107, C107)>1, \"\", C107))","v":""},{"$f":"IF(G107=\"\",\"\",IF(F107=\"\",\"\",CONCATENATE(DIGITADOR!$M$1,G107,E107)))","v":""},"",{"$f":"IF(F107=\"\",\"\",VLOOKUP(F107,referentes!$Q$2:$T$200,3,FALSE))","v":""},null,null,null,""]
[null,{"$f":"IF(C108=\"\",\"\",IF(COUNTIF($C$3:C108, C108)>1, \"\", C108))","v":""},{"$f":"IF(G108=\"\",\"\",IF(F108=\"\",\"\",CONCATENATE(DIGITADOR!$M$1,G108,E108)))","v":""},"",{"$f":"IF(F108=\"\",\"\",VLOOKUP(F108,referentes!$Q$2:$T$200,3,FALSE))","v":""},null,null,null,""]
[null,{"$f":"IF(C109=\"\",\"\",IF(COUNTIF($C$3:C109, C109)>1, \"\", C109))","v":""},{"$f":"IF(G109=\"\",\"\",IF(F109=\"\",\"\",CONCATENATE(DIGITADOR!$M$1,G109,E109)))","v":""},"",{"$f":"IF(F109=\"\",\"\",VLOOKUP(F109,referentes!$Q$2:$T$200,3,FALSE))","v":""},null,null,null,""]
[null,{"$f":"IF(C110=\"\",\"\",IF(COUNTIF($C$3:C110, C110)>1, \"\", C110))","v":""},{"$f":"IF(G110=\"\",\"\",IF(F110=\"\",\"\",CONCATENATE(DIGITADOR!$M$1,G110,E110)))","v":""},"",{"$f":"IF(F110=\"\",\"\",VLOOKUP(F110,referentes!$Q$2:$T$200,3,FALSE))","v":""},null,null,null,""]
[null,{"$f":"IF(C111=\"\",\"\",IF(COUNTIF($C$3:C111, C111)>1, \"\", C111))","v":""},{"$f":"IF(G111=\"\",\"\",IF(F111=\"\",\"\",CONCATENATE(DIGITADOR!$M$1,G111,E111)))","v":""},"",{"$f":"IF(F111=\"\",\"\",VLOOKUP(F111,referentes!$Q$2:$T$200,3,FALSE))","v":""},null,null,null,""]
[null,{"$f":"IF(C112=\"\",\"\",IF(COUNTIF($C$3:C112, C112)>1, \"\", C112))","v":""},{"$f":"IF(G112=\"\",\"\",IF(F112=\"\",\"\",CONCATENATE(DIGITADOR!$M$1,G112,E112)))","v":""},"",{"$f":"IF(F112=\"\",\"\",VLOOKUP(F112,referentes!$Q$2:$T$200,3,FALSE))","v":""},null,null,null,""]
[null,{"$f":"IF(C113=\"\",\"\",IF(COUNTIF($C$3:C113, C113)>1, \"\", C113))","v":""},{"$f":"IF(G113=\"\",\"\",IF(F113=\"\",\"\",CONCATENATE(DIGITADOR!$M$1,G113,E113)))","v":""},"",{"$f":"IF(F113=\"\",\"\",VLOOKUP(F113,referentes!$Q$2:$T$200,3,FALSE))","v":""},null,null,null,""]
[null,{"$f":"IF(C114=\"\",\"\",IF(COUNTIF($C$3:C114, C114)>1, \"\", C114))","v":""},{"$f":"IF(G114=\"\",\"\",IF(F114=\"\",\"\",CONCATENATE(DIGITADOR!$M$1,G114,E114)))","v":""},"",{"$f":"IF(F114=\"\",\"\",VLOOKUP(F114,referentes!$Q$2:$T$200,3,FALSE))","v":""},null,null,null,""]
[null,{"$f":"IF(C115=\"\",\"\",IF(COUNTIF($C$3:C115, C115)>1, \"\", C115))","v":""},{"$f":"IF(G115=\"\",\"\",IF(F115=\"\",\"\",CONCATENATE(DIGITADOR!$M$1,G115,E115)))","v":""},"",{"$f":"IF(F115=\"\",\"\",VLOOKUP(F115,referentes!$Q$2:$T$200,3,FALSE))","v":""},null,null,null,""]
[null,{"$f":"IF(C116=\"\",\"\",IF(COUNTIF($C$3:C116, C116)>1, \"\", C116))","v":""},{"$f":"IF(G116=\"\",\"\",IF(F116=\"\",\"\",CONCATENATE(DIGITADOR!$M$1,G116,E116)))","v":""},"",{"$f":"IF(F116=\"\",\"\",VLOOKUP(F116,referentes!$Q$2:$T$200,3,FALSE))","v":""},null,null,null,""]
[null,{"$f":"IF(C117=\"\",\"\",IF(COUNTIF($C$3:C117, C117)>1, \"\", C117))","v":""},{"$f":"IF(G117=\"\",\"\",IF(F117=\"\",\"\",CONCATENATE(DIGITADOR!$M$1,G117,E117)))","v":""},"",{"$f":"IF(F117=\"\",\"\",VLOOKUP(F117,referentes!$Q$2:$T$200,3,FALSE))","v":""},null,null,null,""]
[null,{"$f":"IF(C118=\"\",\"\",IF(COUNTIF($C$3:C118, C118)>1, \"\", C118))","v":""},{"$f":"IF(G118=\"\",\"\",IF(F118=\"\",\"\",CONCATENATE(DIGITADOR!$M$1,G118,E118)))","v":""},"",{"$f":"IF(F118=\"\",\"\",VLOOKUP(F118,referentes!$Q$2:$T$200,3,FALSE))","v":""},null,null,null,""]
[null,{"$f":"IF(C119=\"\",\"\",IF(COUNTIF($C$3:C119, C119)>1, \"\", C119))","v":""},{"$f":"IF(G119=\"\",\"\",IF(F119=\"\",\"\",CONCATENATE(DIGITADOR!$M$1,G119,E119)))","v":""},"",{"$f":"IF(F119=\"\",\"\",VLOOKUP(F119,referentes!$Q$2:$T$200,3,FALSE))","v":""},null,null,null,""]
[null,{"$f":"IF(C120=\"\",\"\",IF(COUNTIF($C$3:C120, C120)>1, \"\", C120))","v":""},{"$f":"IF(G120=\"\",\"\",IF(F120=\"\",\"\",CONCATENATE(DIGITADOR!$M$1,G120,E120)))","v":""},"",{"$f":"IF(F120=\"\",\"\",VLOOKUP(F120,referentes!$Q$2:$T$200,3,FALSE))","v":""},null,null,null,""]
[null,{"$f":"IF(C121=\"\",\"\",IF(COUNTIF($C$3:C121, C121)>1, \"\", C121))","v":""},{"$f":"IF(G121=\"\",\"\",IF(F121=\"\",\"\",CONCATENATE(DIGITADOR!$M$1,G121,E121)))","v":""},"",{"$f":"IF(F121=\"\",\"\",VLOOKUP(F121,referentes!$Q$2:$T$200,3,FALSE))","v":""},null,null,null,""]
[null,{"$f":"IF(C122=\"\",\"\",IF(COUNTIF($C$3:C122, C122)>1, \"\", C122))","v":""},{"$f":"IF(G122=\"\",\"\",IF(F122=\"\",\"\",CONCATENATE(DIGITADOR!$M$1,G122,E122)))","v":""},"",{"$f":"IF(F122=\"\",\"\",VLOOKUP(F122,referentes!$Q$2:$T$200,3,FALSE))","v":""},null,null,null,""]
[null,{"$f":"IF(C123=\"\",\"\",IF(COUNTIF($C$3:C123, C123)>1, \"\", C123))","v":""},{"$f":"IF(G123=\"\",\"\",IF(F123=\"\",\"\",CONCATENATE(DIGITADOR!$M$1,G123,E123)))","v":""},"",{"$f":"IF(F123=\"\",\"\",VLOOKUP(F123,referentes!$Q$2:$T$200,3,FALSE))","v":""},null,null,null,""]
[null,{"$f":"IF(C124=\"\",\"\",IF(COUNTIF($C$3:C124, C124)>1, \"\", C124))","v":""},{"$f":"IF(G124=\"\",\"\",IF(F124=\"\",\"\",CONCATENATE(DIGITADOR!$M$1,G124,E124)))","v":""},"",{"$f":"IF(F124=\"\",\"\",VLOOKUP(F124,referentes!$Q$2:$T$200,3,FALSE))","v":""},null,null,null,""]
[null,{"$f":"IF(C125=\"\",\"\",IF(COUNTIF($C$3:C125, C125)>1, \"\", C125))","v":""},{"$f":"IF(G125=\"\",\"\",IF(F125=\"\",\"\",CONCATENATE(DIGITADOR!$M$1,G125,E125)))","v":""},"",{"$f":"IF(F125=\"\",\"\",VLOOKUP(F125,referentes!$Q$2:$T$200,3,FALSE))","v":""},null,null,null,""]
[null,{"$f":"IF(C126=\"\",\"\",IF(COUNTIF($C$3:C126, C126)>1, \"\", C126))","v":""},{"$f":"IF(G126=\"\",\"\",IF(F126=\"\",\"\",CONCATENATE(DIGITADOR!$M$1,G126,E126)))","v":""},"",{"$f":"IF(F126=\"\",\"\",VLOOKUP(F126,referentes!$Q$2:$T$200,3,FALSE))","v":""},null,null,null,""]
[null,{"$f":"IF(C127=\"\",\"\",IF(COUNTIF($C$3:C127, C127)>1, \"\", C127))","v":""},{"$f":"IF(G127=\"\",\"\",IF(F127=\"\",\"\",CONCATENATE(DIGITADOR!$M$1,G127,E127)))","v":""},"",{"$f":"IF(F127=\"\",\"\",VLOOKUP(F127,referentes!$Q$2:$T$200,3,FALSE))","v":""},null,null,null,""]
[null,{"$f":"IF(C128=\"\",\"\",IF(COUNTIF($C$3:C128, C128)>1, \"\", C128))","v":""},{"$f":"IF(G128=\"\",\"\",IF(F128=\"\",\"\",CONCATENATE(DIGITADOR!$M$1,G128,E128)))","v":""},"",{"$f":"IF(F128=\"\",\"\",VLOOKUP(F128,referentes!$Q$2:$T$200,3,FALSE))","v":""},null,null,null,""]
[null,{"$f":"IF(C129=\"\",\"\",IF(COUNTIF($C$3:C129, C129)>1, \"\", C129))","v":""},{"$f":"IF(G129=\"\",\"\",IF(F129=\"\",\"\",CONCATENATE(DIGITADOR!$M$1,G129,E129)))","v":""},"",{"$f":"IF(F129=\"\",\"\",VLOOKUP(F129,referentes!$Q$2:$T$200,3,FALSE))","v":""},null,null,null,""]
[null,{"$f":"IF(C130=\"\",\"\",IF(COUNTIF($C$3:C130, C130)>1, \"\", C130))","v":""},{"$f":"IF(G130=\"\",\"\",IF(F130=\"\",\"\",CONCATENATE(DIGITADOR!$M$1,G130,E130)))","v":""},"",{"$f":"IF(F130=\"\",\"\",VLOOKUP(F130,referentes!$Q$2:$T$200,3,FALSE))","v":""},null,null,null,""]
[null,{"$f":"IF(C131=\"\",\"\",IF(COUNTIF($C$3:C131, C131)>1, \"\", C131))","v":""},{"$f":"IF(G131=\"\",\"\",IF(F131=\"\",\"\",CONCATENATE(DIGITADOR!$M$1,G131,E131)))","v":""},"",{"$f":"IF(F131=\"\",\"\",VLOOKUP(F131,referentes!$Q$2:$T$200,3,FALSE))","v":""},null,null,null,""]
[null,{"$f":"IF(C132=\"\",\"\",IF(COUNTIF($C$3:C132, C132)>1, \"\", C132))","v":""},{"$f":"IF(G132=\"\",\"\",IF(F132=\"\",\"\",CONCATENATE(DIGITADOR!$M$1,G132,E132)))","v":""},{"$f":"IF(C132=\"\",\"\",CONCATENATE(C132,ROW()-2))","v":""},{"$f":"IF(F132=\"\",\"\",VLOOKUP(F132,referentes!$Q$2:$T$200,3,FALSE))","v":""},null,null,null,{"$f":"IF(G132<>\"\", G132 + H132, \"\")","v":""}]
[null,{"$f":"IF(C133=\"\",\"\",IF(COUNTIF($C$3:C133, C133)>1, \"\", C133))","v":""},{"$f":"IF(G133=\"\",\"\",IF(F133=\"\",\"\",CONCATENATE(DIGITADOR!$M$1,G133,E133)))","v":""},"",{"$f":"IF(F133=\"\",\"\",VLOOKUP(F133,referentes!$Q$2:$T$200,3,FALSE))","v":""},null,null,null,""]
[null,{"$f":"IF(C134=\"\",\"\",IF(COUNTIF($C$3:C134, C134)>1, \"\", C134))","v":""},{"$f":"IF(G134=\"\",\"\",IF(F134=\"\",\"\",CONCATENATE(DIGITADOR!$M$1,G134,E134)))","v":""},"",{"$f":"IF(F134=\"\",\"\",VLOOKUP(F134,referentes!$Q$2:$T$200,3,FALSE))","v":""},null,null,null,""]
[null,{"$f":"IF(C135=\"\",\"\",IF(COUNTIF($C$3:C135, C135)>1, \"\", C135))","v":""},{"$f":"IF(G135=\"\",\"\",IF(F135=\"\",\"\",CONCATENATE(DIGITADOR!$M$1,G135,E135)))","v":""},"",{"$f":"IF(F135=\"\",\"\",VLOOKUP(F135,referentes!$Q$2:$T$200,3,FALSE))","v":""},null,null,null,""]
[null,{"$f":"IF(C136=\"\",\"\",IF(COUNTIF($C$3:C136, C136)>1, \"\", C136))","v":""},{"$f":"IF(G136=\"\",\"\",IF(F136=\"\",\"\",CONCATENATE(DIGITADOR!$M$1,G136,E136)))","v":""},"",{"$f":"IF(F136=\"\",\"\",VLOOKUP(F136,referentes!$Q$2:$T$200,3,FALSE))","v":""},null,null,null,""]
[null,{"$f":"IF(C137=\"\",\"\",IF(COUNTIF($C$3:C137, C137)>1, \"\", C137))","v":""},{"$f":"IF(G137=\"\",\"\",IF(F137=\"\",\"\",CONCATENATE(DIGITADOR!$M$1,G137,E137)))","v":""},"",{"$f":"IF(F137=\"\",\"\",VLOOKUP(F137,referentes!$Q$2:$T$200,3,FALSE))","v":""},null,null,null,""]
[null,{"$f":"IF(C138=\"\",\"\",IF(COUNTIF($C$3:C138, C138)>1, \"\", C138))","v":""},{"$f":"IF(G138=\"\",\"\",IF(F138=\"\",\"\",CONCATENATE(DIGITADOR!$M$1,G138,E138)))","v":""},"",{"$f":"IF(F138=\"\",\"\",VLOOKUP(F138,referentes!$Q$2:$T$200,3,FALSE))","v":""},null,null,null,""]
[null,{"$f":"IF(C139=\"\",\"\",IF(COUNTIF($C$3:C139, C139)>1, \"\", C139))","v":""},{"$f":"IF(G139=\"\",\"\",IF(F139=\"\",\"\",CONCATENATE(DIGITADOR!$M$1,G139,E139)))","v":""},"",{"$f":"IF(F139=\"\",\"\",VLOOKUP(F139,referentes!$Q$2:$T$200,3,FALSE))","v":""},null,null,null,""]
[null,{"$f":"IF(C140=\"\",\"\",IF(COUNTIF($C$3:C140, C140)>1, \"\", C140))","v":""},{"$f":"IF(G140=\"\",\"\",IF(F140=\"\",\"\",CONCATENATE(DIGITADOR!$M$1,G140,E140)))","v":""},"",{"$f":"IF(F140=\"\",\"\",VLOOKUP(F140,referentes!$Q$2:$T$200,3,FALSE))","v":""},null,null,null,""]
[null,{"$f":"IF(C141=\"\",\"\",IF(COUNTIF($C$3:C141, C141)>1, \"\", C141))","v":""},{"$f":"IF(G141=\"\",\"\",IF(F141=\"\",\"\",CONCATENATE(DIGITADOR!$M$1,G141,E141)))","v":""},"",{"$f":"IF(F141=\"\",\"\",VLOOKUP(F141,referentes!$Q$2:$T$200,3,FALSE))","v":""},null,null,null,""]
[null,{"$f":"IF(C142=\"\",\"\",IF(COUNTIF($C$3:C142, C142)>1, \"\", C142))","v":""},{"$f":"IF(G142=\"\",\"\",IF(F142=\"\",\"\",CONCATENATE(DIGITADOR!$M$1,G142,E142)))","v":""},"",{"$f":"IF(F142=\"\",\"\",VLOOKUP(F142,referentes!$Q$2:$T$200,3,FALSE))","v":""},null,null,null,""]
[null,{"$f":"IF(C143=\"\",\"\",IF(COUNTIF($C$3:C143, C143)>1, \"\", C143))","v":""},{"$f":"IF(G143=\"\",\"\",IF(F143=\"\",\"\",CONCATENATE(DIGITADOR!$M$1,G143,E143)))","v":""},"",{"$f":"IF(F143=\"\",\"\",VLOOKUP(F143,referentes!$Q$2:$T$200,3,FALSE))","v":""},null,null,null,""]
[null,{"$f":"IF(C144=\"\",\"\",IF(COUNTIF($C$3:C144, C144)>1, \"\", C144))","v":""},{"$f":"IF(G144=\"\",\"\",IF(F144=\"\",\"\",CONCATENATE(DIGITADOR!$M$1,G144,E144)))","v":""},"",{"$f":"IF(F144=\"\",\"\",VLOOKUP(F144,referentes!$Q$2:$T$200,3,FALSE))","v":""},null,null,null,""]
[null,{"$f":"IF(C145=\"\",\"\",IF(COUNTIF($C$3:C145, C145)>1, \"\", C145))","v":""},{"$f":"IF(G145=\"\",\"\",IF(F145=\"\",\"\",CONCATENATE(DIGITADOR!$M$1,G145,E145)))","v":""},"",{"$f":"IF(F145=\"\",\"\",VLOOKUP(F145,referentes!$Q$2:$T$200,3,FALSE))","v":""},null,null,null,""]
[null,{"$f":"IF(C146=\"\",\"\",IF(COUNTIF($C$3:C146, C146)>1, \"\", C146))","v":""},{"$f":"IF(G146=\"\",\"\",IF(F146=\"\",\"\",CONCATENATE(DIGITADOR!$M$1,G146,E146)))","v":""},"",{"$f":"IF(F146=\"\",\"\",VLOOKUP(F146,referentes!$Q$2:$T$200,3,FALSE))","v":""},null,null,null,""]
[null,{"$f":"IF(C147=\"\",\"\",IF(COUNTIF($C$3:C147, C147)>1, \"\", C147))","v":""},{"$f":"IF(G147=\"\",\"\",IF(F147=\"\",\"\",CONCATENATE(DIGITADOR!$M$1,G147,E147)))","v":""},"",{"$f":"IF(F147=\"\",\"\",VLOOKUP(F147,referentes!$Q$2:$T$200,3,FALSE))","v":""},null,null,null,""]
[null,{"$f":"IF(C148=\"\",\"\",IF(COUNTIF($C$3:C148, C148)>1, \"\", C148))","v":""},{"$f":"IF(G148=\"\",\"\",IF(F148=\"\",\"\",CONCATENATE(DIGITADOR!$M$1,G148,E148)))","v":""},"",{"$f":"IF(F148=\"\",\"\",VLOOKUP(F148,referentes!$Q$2:$T$200,3,FALSE))","v":""},null,null,null,""]
[null,{"$f":"IF(C149=\"\",\"\",IF(COUNTIF($C$3:C149, C149)>1, \"\", C149))","v":""},{"$f":"IF(G149=\"\",\"\",IF(F149=\"\",\"\",CONCATENATE(DIGITADOR!$M$1,G149,E149)))","v":""},"",{"$f":"IF(F149=\"\",\"\",VLOOKUP(F149,referentes!$Q$2:$T$200,3,FALSE))","v":""},null,null,null,""]
[null,{"$f":"IF(C150=\"\",\"\",IF(COUNTIF($C$3:C150, C150)>1, \"\", C150))","v":""},{"$f":"IF(G150=\"\",\"\",IF(F150=\"\",\"\",CONCATENATE(DIGITADOR!$M$1,G150,E150)))","v":""},"",{"$f":"IF(F150=\"\",\"\",VLOOKUP(F150,referentes!$Q$2:$T$200,3,FALSE))","v":""},null,null,null,""]
[null,{"$f":"IF(C151=\"\",\"\",IF(COUNTIF($C$3:C151, C151)>1, \"\", C151))","v":""},{"$f":"IF(G151=\"\",\"\",IF(F151=\"\",\"\",CONCATENATE(DIGITADOR!$M$1,G151,E151)))","v":""},"",{"$f":"IF(F151=\"\",\"\",VLOOKUP(F151,referentes!$Q$2:$T$200,3,FALSE))","v":""},null,null,null,""]
[null,{"$f":"IF(C152=\"\",\"\",IF(COUNTIF($C$3:C152, C152)>1, \"\", C152))","v":""},{"$f":"IF(G152=\"\",\"\",IF(F152=\"\",\"\",CONCATENATE(DIGITADOR!$M$1,G152,E152)))","v":""},"",{"$f":"IF(F152=\"\",\"\",VLOOKUP(F152,referentes!$Q$2:$T$200,3,FALSE))","v":""},null,null,null,""]
[null,{"$f":"IF(C153=\"\",\"\",IF(COUNTIF($C$3:C153, C153)>1, \"\", C153))","v":""},{"$f":"IF(G153=\"\",\"\",IF(F153=\"\",\"\",CONCATENATE(DIGITADOR!$M$1,G153,E153)))","v":""},"",{"$f":"IF(F153=\"\",\"\",VLOOKUP(F153,referentes!$Q$2:$T$200,3,FALSE))","v":""},null,null,null,""]
[null,{"$f":"IF(C154=\"\",\"\",IF(COUNTIF($C$3:C154, C154)>1, \"\", C154))","v":""},{"$f":"IF(G154=\"\",\"\",IF(F154=\"\",\"\",CONCATENATE(DIGITADOR!$M$1,G154,E154)))","v":""},"",{"$f":"IF(F154=\"\",\"\",VLOOKUP(F154,referentes!$Q$2:$T$200,3,FALSE))","v":""},null,null,null,""]
[null,{"$f":"IF(C155=\"\",\"\",IF(COUNTIF($C$3:C155, C155)>1, \"\", C155))","v":""},{"$f":"IF(G155=\"\",\"\",IF(F155=\"\",\"\",CONCATENATE(DIGITADOR!$M$1,G155,E155)))","v":""},"",{"$f":"IF(F155=\"\",\"\",VLOOKUP(F155,referentes!$Q$2:$T$200,3,FALSE))","v":""},null,null,null,""]
[null,{"$f":"IF(C156=\"\",\"\",IF(COUNTIF($C$3:C156, C156)>1, \"\", C156))","v":""},{"$f":"IF(G156=\"\",\"\",IF(F156=\"\",\"\",CONCATENATE(DIGITADOR!$M$1,G156,E156)))","v":""},"",{"$f":"IF(F156=\"\",\"\",VLOOKUP(F156,referentes!$Q$2:$T$200,3,FALSE))","v":""},null,null,null,""]
[null,{"$f":"IF(C157=\"\",\"\",IF(COUNTIF($C$3:C157, C157)>1, \"\", C157))","v":""},{"$f":"IF(G157=\"\",\"\",IF(F157=\"\",\"\",CONCATENATE(DIGITADOR!$M$1,G157,E157)))","v":""},"",{"$f":"IF(F157=\"\",\"\",VLOOKUP(F157,referentes!$Q$2:$T$200,3,FALSE))","v":""},null,null,null,""]
[null,{"$f":"IF(C158=\"\",\"\",IF(COUNTIF($C$3:C158, C158)>1, \"\", C158))","v":""},{"$f":"IF(G158=\"\",\"\",IF(F158=\"\",\"\",CONCATENATE(DIGITADOR!$M$1,G158,E158)))","v":""},"",{"$f":"IF(F158=\"\",\"\",VLOOKUP(F158,referentes!$Q$2:$T$200,3,FALSE))","v":""},null,null,null,""]
[null,{"$f":"IF(C159=\"\",\"\",IF(COUNTIF($C$3:C159, C159)>1, \"\", C159))","v":""},{"$f":"IF(G159=\"\",\"\",IF(F159=\"\",\"\",CONCATENATE(DIGITADOR!$M$1,G159,E159)))","v":""},"",{"$f":"IF(F159=\"\",\"\",VLOOKUP(F159,referentes!$Q$2:$T$200,3,FALSE))","v":""},null,null,null,""]
[null,{"$f":"IF(C160=\"\",\"\",IF(COUNTIF($C$3:C160, C160)>1, \"\", C160))","v":""},{"$f":"IF(G160=\"\",\"\",IF(F160=\"\",\"\",CONCATENATE(DIGITADOR!$M$1,G160,E160)))","v":""},"",{"$f":"IF(F160=\"\",\"\",VLOOKUP(F160,referentes!$Q$2:$T$200,3,FALSE))","v":""},null,null,null,""]
[null,{"$f":"IF(C161=\"\",\"\",IF(COUNTIF($C$3:C161, C161)>1, \"\", C161))","v":""},{"$f":"IF(G161=\"\",\"\",IF(F161=\"\",\"\",CONCATENATE(DIGITADOR!$M$1,G161,E161)))","v":""},"",{"$f":"IF(F161=\"\",\"\",VLOOKUP(F161,referentes!$Q$2:$T$200,3,FALSE))","v":""},null,null,null,""]
[null,{"$f":"IF(C162=\"\",\"\",IF(COUNTIF($C$3:C162, C162)>1, \"\", C162))","v":""},{"$f":"IF(G162=\"\",\"\",IF(F162=\"\",\"\",CONCATENATE(DIGITADOR!$M$1,G162,E162)))","v":""},"",{"$f":"IF(F162=\"\",\"\",VLOOKUP(F162,referentes!$Q$2:$T$200,3,FALSE))","v":""},null,null,null,""]
[null,{"$f":"IF(C163=\"\",\"\",IF(COUNTIF($C$3:C163, C163)>1, \"\", C163))","v":""},{"$f":"IF(G163=\"\",\"\",IF(F163=\"\",\"\",CONCATENATE(DIGITADOR!$M$1,G163,E163)))","v":""},"",{"$f":"IF(F163=\"\",\"\",VLOOKUP(F163,referentes!$Q$2:$T$200,3,FALSE))","v":""},null,null,null,""]
[null,{"$f":"IF(C164=\"\",\"\",IF(COUNTIF($C$3:C164, C164)>1, \"\", C164))","v":""},{"$f":"IF(G164=\"\",\"\",IF(F164=\"\",\"\",CONCATENATE(DIGITADOR!$M$1,G164,E164)))","v":""},"",{"$f":"IF(F164=\"\",\"\",VLOOKUP(F164,referentes!$Q$2:$T$200,3,FALSE))","v":""},null,null,null,""]
[null,{"$f":"IF(C165=\"\",\"\",IF(COUNTIF($C$3:C165, C165)>1, \"\", C165))","v":""},{"$f":"IF(G165=\"\",\"\",IF(F165=\"\",\"\",CONCATENATE(DIGITADOR!$M$1,G165,E165)))","v":""},"",{"$f":"IF(F165=\"\",\"\",VLOOKUP(F165,referentes!$Q$2:$T$200,3,FALSE))","v":""},null,null,null,""]
[null,{"$f":"IF(C166=\"\",\"\",IF(COUNTIF($C$3:C166, C166)>1, \"\", C166))","v":""},{"$f":"IF(G166=\"\",\"\",IF(F166=\"\",\"\",CONCATENATE(DIGITADOR!$M$1,G166,E166)))","v":""},"",{"$f":"IF(F166=\"\",\"\",VLOOKUP(F166,referentes!$Q$2:$T$200,3,FALSE))","v":""},null,null,null,""]
[null,{"$f":"IF(C167=\"\",\"\",IF(COUNTIF($C$3:C167, C167)>1, \"\", C167))","v":""},{"$f":"IF(G167=\"\",\"\",IF(F167=\"\",\"\",CONCATENATE(DIGITADOR!$M$1,G167,E167)))","v":""},"",{"$f":"IF(F167=\"\",\"\",VLOOKUP(F167,referentes!$Q$2:$T$200,3,FALSE))","v":""},null,null,null,""]
[null,{"$f":"IF(C168=\"\",\"\",IF(COUNTIF($C$3:C168, C168)>1, \"\", C168))","v":""},{"$f":"IF(G168=\"\",\"\",IF(F168=\"\",\"\",CONCATENATE(DIGITADOR!$M$1,G168,E168)))","v":""},"",{"$f":"IF(F168=\"\",\"\",VLOOKUP(F168,referentes!$Q$2:$T$200,3,FALSE))","v":""},null,null,null,""]
[null,{"$f":"IF(C169=\"\",\"\",IF(COUNTIF($C$3:C169, C169)>1, \"\", C169))","v":""},{"$f":"IF(G169=\"\",\"\",IF(F169=\"\",\"\",CONCATENATE(DIGITADOR!$M$1,G169,E169)))","v":""},"",{"$f":"IF(F169=\"\",\"\",VLOOKUP(F169,referentes!$Q$2:$T$200,3,FALSE))","v":""},null,null,null,""]
[null,{"$f":"IF(C170=\"\",\"\",IF(COUNTIF($C$3:C170, C170)>1, \"\", C170))","v":""},{"$f":"IF(G170=\"\",\"\",IF(F170=\"\",\"\",CONCATENATE(DIGITADOR!$M$1,G170,E170)))","v":""},"",{"$f":"IF(F170=\"\",\"\",VLOOKUP(F170,referentes!$Q$2:$T$200,3,FALSE))","v":""},null,null,null,""]
[null,{"$f":"IF(C171=\"\",\"\",IF(COUNTIF($C$3:C171, C171)>1, \"\", C171))","v":""},{"$f":"IF(G171=\"\",\"\",IF(F171=\"\",\"\",CONCATENATE(DIGITADOR!$M$1,G171,E171)))","v":""},"",{"$f":"IF(F171=\"\",\"\",VLOOKUP(F171,referentes!$Q$2:$T$200,3,FALSE))","v":""},null,null,null,""]
[null,{"$f":"IF(C172=\"\",\"\",IF(COUNTIF($C$3:C172, C172)>1, \"\", C172))","v":""},{"$f":"IF(G172=\"\",\"\",IF(F172=\"\",\"\",CONCATENATE(DIGITADOR!$M$1,G172,E172)))","v":""},"",{"$f":"IF(F172=\"\",\"\",VLOOKUP(F172,referentes!$Q$2:$T$200,3,FALSE))","v":""},null,null,null,""]
[null,{"$f":"IF(C173=\"\",\"\",IF(COUNTIF($C$3:C173, C173)>1, \"\", C173))","v":""},{"$f":"IF(G173=\"\",\"\",IF(F173=\"\",\"\",CONCATENATE(DIGITADOR!$M$1,G173,E173)))","v":""},"",{"$f":"IF(F173=\"\",\"\",VLOOKUP(F173,referentes!$Q$2:$T$200,3,FALSE))","v":""},null,null,null,""]
[null,{"$f":"IF(C174=\"\",\"\",IF(COUNTIF($C$3:C174, C174)>1, \"\", C174))","v":""},{"$f":"IF(G174=\"\",\"\",IF(F174=\"\",\"\",CONCATENATE(DIGITADOR!$M$1,G174,E174)))","v":""},"",{"$f":"IF(F174=\"\",\"\",VLOOKUP(F174,referentes!$Q$2:$T$200,3,FALSE))","v":""},null,null,null,""]
[null,{"$f":"IF(C175=\"\",\"\",IF(COUNTIF($C$3:C175, C175)>1, \"\", C175))","v":""},{"$f":"IF(G175=\"\",\"\",IF(F175=\"\",\"\",CONCATENATE(DIGITADOR!$M$1,G175,E175)))","v":""},"",{"$f":"IF(F175=\"\",\"\",VLOOKUP(F175,referentes!$Q$2:$T$200,3,FALSE))","v":""},null,null,null,""]
[null,{"$f":"IF(C176=\"\",\"\",IF(COUNTIF($C$3:C176, C176)>1, \"\", C176))","v":""},{"$f":"IF(G176=\"\",\"\",IF(F176=\"\",\"\",CONCATENATE(DIGITADOR!$M$1,G176,E176)))","v":""},"",{"$f":"IF(F176=\"\",\"\",VLOOKUP(F176,referentes!$Q$2:$T$200,3,FALSE))","v":""},null,null,null,""]
[null,{"$f":"IF(C177=\"\",\"\",IF(COUNTIF($C$3:C177, C177)>1, \"\", C177))","v":""},{"$f":"IF(G177=\"\",\"\",IF(F177=\"\",\"\",CONCATENATE(DIGITADOR!$M$1,G177,E177)))","v":""},"",{"$f":"IF(F177=\"\",\"\",VLOOKUP(F177,referentes!$Q$2:$T$200,3,FALSE))","v":""},null,null,null,""]
[null,{"$f":"IF(C178=\"\",\"\",IF(COUNTIF($C$3:C178, C178)>1, \"\", C178))","v":""},{"$f":"IF(G178=\"\",\"\",IF(F178=\"\",\"\",CONCATENATE(DIGITADOR!$M$1,G178,E178)))","v":""},"",{"$f":"IF(F178=\"\",\"\",VLOOKUP(F178,referentes!$Q$2:$T$200,3,FALSE))","v":""},null,null,null,""]
[null,{"$f":"IF(C179=\"\",\"\",IF(COUNTIF($C$3:C179, C179)>1, \"\", C179))","v":""},{"$f":"IF(G179=\"\",\"\",IF(F179=\"\",\"\",CONCATENATE(DIGITADOR!$M$1,G179,E179)))","v":""},"",{"$f":"IF(F179=\"\",\"\",VLOOKUP(F179,referentes!$Q$2:$T$200,3,FALSE))","v":""},null,null,null,""]
[null,{"$f":"IF(C180=\"\",\"\",IF(COUNTIF($C$3:C180, C180)>1, \"\", C180))","v":""},{"$f":"IF(G180=\"\",\"\",IF(F180=\"\",\"\",CONCATENATE(DIGITADOR!$M$1,G180,E180)))","v":""},"",{"$f":"IF(F180=\"\",\"\",VLOOKUP(F180,referentes!$Q$2:$T$200,3,FALSE))","v":""},null,null,null,""]
[null,{"$f":"IF(C181=\"\",\"\",IF(COUNTIF($C$3:C181, C181)>1, \"\", C181))","v":""},{"$f":"IF(G181=\"\",\"\",IF(F181=\"\",\"\",CONCATENATE(DIGITADOR!$M$1,G181,E181)))","v":""},"",{"$f":"IF(F181=\"\",\"\",VLOOKUP(F181,referentes!$Q$2:$T$200,3,FALSE))","v":""},null,null,null,""]
[null,{"$f":"IF(C182=\"\",\"\",IF(COUNTIF($C$3:C182, C182)>1, \"\", C182))","v":""},{"$f":"IF(G182=\"\",\"\",IF(F182=\"\",\"\",CONCATENATE(DIGITADOR!$M$1,G182,E182)))","v":""},"",{"$f":"IF(F182=\"\",\"\",VLOOKUP(F182,referentes!$Q$2:$T$200,3,FALSE))","v":""},null,null,null,""]
[null,{"$f":"IF(C183=\"\",\"\",IF(COUNTIF($C$3:C183, C183)>1, \"\", C183))","v":""},{"$f":"IF(G183=\"\",\"\",IF(F183=\"\",\"\",CONCATENATE(DIGITADOR!$M$1,G183,E183)))","v":""},"",{"$f":"IF(F183=\"\",\"\",VLOOKUP(F183,referentes!$Q$2:$T$200,3,FALSE))","v":""},null,null,null,""]
[null,{"$f":"IF(C184=\"\",\"\",IF(COUNTIF($C$3:C184, C184)>1, \"\", C184))","v":""},{"$f":"IF(G184=\"\",\"\",IF(F184=\"\",\"\",CONCATENATE(DIGITADOR!$M$1,G184,E184)))","v":""},"",{"$f":"IF(F184=\"\",\"\",VLOOKUP(F184,referentes!$Q$2:$T$200,3,FALSE))","v":""},null,null,null,""]
[null,{"$f":"IF(C185=\"\",\"\",IF(COUNTIF($C$3:C185, C185)>1, \"\", C185))","v":""},{"$f":"IF(G185=\"\",\"\",IF(F185=\"\",\"\",CONCATENATE(DIGITADOR!$M$1,G185,E185)))","v":""},"",{"$f":"IF(F185=\"\",\"\",VLOOKUP(F185,referentes!$Q$2:$T$200,3,FALSE))","v":""},null,null,null,""]
[null,{"$f":"IF(C186=\"\",\"\",IF(COUNTIF($C$3:C186, C186)>1, \"\", C186))","v":""},{"$f":"IF(G186=\"\",\"\",IF(F186=\"\",\"\",CONCATENATE(DIGITADOR!$M$1,G186,E186)))","v":""},"",{"$f":"IF(F186=\"\",\"\",VLOOKUP(F186,referentes!$Q$2:$T$200,3,FALSE))","v":""},null,null,null,""]
[null,{"$f":"IF(C187=\"\",\"\",IF(COUNTIF($C$3:C187, C187)>1, \"\", C187))","v":""},{"$f":"IF(G187=\"\",\"\",IF(F187=\"\",\"\",CONCATENATE(DIGITADOR!$M$1,G187,E187)))","v":""},"",{"$f":"IF(F187=\"\",\"\",VLOOKUP(F187,referentes!$Q$2:$T$200,3,FALSE))","v":""},null,null,null,""]
[null,{"$f":"IF(C188=\"\",\"\",IF(COUNTIF($C$3:C188, C188)>1, \"\", C188))","v":""},{"$f":"IF(G188=\"\",\"\",IF(F188=\"\",\"\",CONCATENATE(DIGITADOR!$M$1,G188,E188)))","v":""},"",{"$f":"IF(F188=\"\",\"\",VLOOKUP(F188,referentes!$Q$2:$T$200,3,FALSE))","v":""},null,null,null,""]
[null,{"$f":"IF(C189=\"\",\"\",IF(COUNTIF($C$3:C189, C189)>1, \"\", C189))","v":""},{"$f":"IF(G189=\"\",\"\",IF(F189=\"\",\"\",CONCATENATE(DIGITADOR!$M$1,G189,E189)))","v":""},"",{"$f":"IF(F189=\"\",\"\",VLOOKUP(F189,referentes!$Q$2:$T$200,3,FALSE))","v":""},null,null,null,""]
[null,{"$f":"IF(C190=\"\",\"\",IF(COUNTIF($C$3:C190, C190)>1, \"\", C190))","v":""},{"$f":"IF(G190=\"\",\"\",IF(F190=\"\",\"\",CONCATENATE(DIGITADOR!$M$1,G190,E190)))","v":""},"",{"$f":"IF(F190=\"\",\"\",VLOOKUP(F190,referentes!$Q$2:$T$200,3,FALSE))","v":""},null,null,null,""]
[null,{"$f":"IF(C191=\"\",\"\",IF(COUNTIF($C$3:C191, C191)>1, \"\", C191))","v":""},{"$f":"IF(G191=\"\",\"\",IF(F191=\"\",\"\",CONCATENATE(DIGITADOR!$M$1,G191,E191)))","v":""},"",{"$f":"IF(F191=\"\",\"\",VLOOKUP(F191,referentes!$Q$2:$T$200,3,FALSE))","v":""},null,null,null,""]
[null,{"$f":"IF(C192=\"\",\"\",IF(COUNTIF($C$3:C192, C192)>1, \"\", C192))","v":""},{"$f":"IF(G192=\"\",\"\",IF(F192=\"\",\"\",CONCATENATE(DIGITADOR!$M$1,G192,E192)))","v":""},"",{"$f":"IF(F192=\"\",\"\",VLOOKUP(F192,referentes!$Q$2:$T$200,3,FALSE))","v":""},null,null,null,""]
[null,{"$f":"IF(C193=\"\",\"\",IF(COUNTIF($C$3:C193, C193)>1, \"\", C193))","v":""},{"$f":"IF(G193=\"\",\"\",IF(F193=\"\",\"\",CONCATENATE(DIGITADOR!$M$1,G193,E193)))","v":""},"",{"$f":"IF(F193=\"\",\"\",VLOOKUP(F193,referentes!$Q$2:$T$200,3,FALSE))","v":""},null,null,null,""]
[null,{"$f":"IF(C194=\"\",\"\",IF(COUNTIF($C$3:C194, C194)>1, \"\", C194))","v":""},{"$f":"IF(G194=\"\",\"\",IF(F194=\"\",\"\",CONCATENATE(DIGITADOR!$M$1,G194,E194)))","v":""},"",{"$f":"IF(F194=\"\",\"\",VLOOKUP(F194,referentes!$Q$2:$T$200,3,FALSE))","v":""},null,null,null,""]
[null,{"$f":"IF(C195=\"\",\"\",IF(COUNTIF($C$3:C195, C195)>1, \"\", C195))","v":""},{"$f":"IF(G195=\"\",\"\",IF(F195=\"\",\"\",CONCATENATE(DIGITADOR!$M$1,G195,E195)))","v":""},"",{"$f":"IF(F195=\"\",\"\",VLOOKUP(F195,referentes!$Q$2:$T$200,3,FALSE))","v":""},null,null,null,""]
[null,{"$f":"IF(C196=\"\",\"\",IF(COUNTIF($C$3:C196, C196)>1, \"\", C196))","v":""},{"$f":"IF(G196=\"\",\"\",IF(F196=\"\",\"\",CONCATENATE(DIGITADOR!$M$1,G196,E196)))","v":""},{"$f":"IF(C196=\"\",\"\",CONCATENATE(C196,ROW()-2))","v":""},{"$f":"IF(F196=\"\",\"\",VLOOKUP(F196,referentes!$Q$2:$T$200,3,FALSE))","v":""},null,null,null,{"$f":"IF(G196<>\"\", G196 + H196, \"\")","v":""}]
[null,{"$f":"IF(C197=\"\",\"\",IF(COUNTIF($C$3:C197, C197)>1, \"\", C197))","v":""},{"$f":"IF(G197=\"\",\"\",IF(F197=\"\",\"\",CONCATENATE(DIGITADOR!$M$1,G197,E197)))","v":""},"",{"$f":"IF(F197=\"\",\"\",VLOOKUP(F197,referentes!$Q$2:$T$200,3,FALSE))","v":""},null,null,null,""]
[null,{"$f":"IF(C198=\"\",\"\",IF(COUNTIF($C$3:C198, C198)>1, \"\", C198))","v":""},{"$f":"IF(G198=\"\",\"\",IF(F198=\"\",\"\",CONCATENATE(DIGITADOR!$M$1,G198,E198)))","v":""},"",{"$f":"IF(F198=\"\",\"\",VLOOKUP(F198,referentes!$Q$2:$T$200,3,FALSE))","v":""},null,null,null,""]
[null,{"$f":"IF(C199=\"\",\"\",IF(COUNTIF($C$3:C199, C199)>1, \"\", C199))","v":""},{"$f":"IF(G199=\"\",\"\",IF(F199=\"\",\"\",CONCATENATE(DIGITADOR!$M$1,G199,E199)))","v":""},"",{"$f":"IF(F199=\"\",\"\",VLOOKUP(F199,referentes!$Q$2:$T$200,3,FALSE))","v":""},null,null,null,""]
[null,{"$f":"IF(C200=\"\",\"\",IF(COUNTIF($C$3:C200, C200)>1, \"\", C200))","v":""},{"$f":"IF(G200=\"\",\"\",IF(F200=\"\",\"\",CONCATENATE(DIGITADOR!$M$1,G200,E200)))","v":""},"",{"$f":"IF(F200=\"\",\"\",VLOOKUP(F200,referentes!$Q$2:$T$200,3,FALSE))","v":""},null,null,null,""]
[null,{"$f":"IF(C201=\"\",\"\",IF(COUNTIF($C$3:C201, C201)>1, \"\", C201))","v":""},{"$f":"IF(G201=\"\",\"\",IF(F201=\"\",\"\",CONCATENATE(DIGITADOR!$M$1,G201,E201)))","v":""},"",{"$f":"IF(F201=\"\",\"\",VLOOKUP(F201,referentes!$Q$2:$T$200,3,FALSE))","v":""},null,null,null,""]
[null,{"$f":"IF(C202=\"\",\"\",IF(COUNTIF($C$3:C202, C202)>1, \"\", C202))","v":""},{"$f":"IF(G202=\"\",\"\",IF(F202=\"\",\"\",CONCATENATE(DIGITADOR!$M$1,G202,E202)))","v":""},"",{"$f":"IF(F202=\"\",\"\",VLOOKUP(F202,referentes!$Q$2:$T$200,3,FALSE))","v":""},null,null,null,""]
[null,{"$f":"IF(C203=\"\",\"\",IF(COUNTIF($C$3:C203, C203)>1, \"\", C203))","v":""},{"$f":"IF(G203=\"\",\"\",IF(F203=\"\",\"\",CONCATENATE(DIGITADOR!$M$1,G203,E203)))","v":""},"",{"$f":"IF(F203=\"\",\"\",VLOOKUP(F203,referentes!$Q$2:$T$200,3,FALSE))","v":""},null,null,null,""]
[null,{"$f":"IF(C204=\"\",\"\",IF(COUNTIF($C$3:C204, C204)>1, \"\", C204))","v":""},{"$f":"IF(G204=\"\",\"\",IF(F204=\"\",\"\",CONCATENATE(DIGITADOR!$M$1,G204,E204)))","v":""},"",{"$f":"IF(F204=\"\",\"\",VLOOKUP(F204,referentes!$Q$2:$T$200,3,FALSE))","v":""},null,null,null,""]
[null,{"$f":"IF(C205=\"\",\"\",IF(COUNTIF($C$3:C205, C205)>1, \"\", C205))","v":""},{"$f":"IF(G205=\"\",\"\",IF(F205=\"\",\"\",CONCATENATE(DIGITADOR!$M$1,G205,E205)))","v":""},"",{"$f":"IF(F205=\"\",\"\",VLOOKUP(F205,referentes!$Q$2:$T$200,3,FALSE))","v":""},null,null,null,""]
[null,{"$f":"IF(C206=\"\",\"\",IF(COUNTIF($C$3:C206, C206)>1, \"\", C206))","v":""},{"$f":"IF(G206=\"\",\"\",IF(F206=\"\",\"\",CONCATENATE(DIGITADOR!$M$1,G206,E206)))","v":""},"",{"$f":"IF(F206=\"\",\"\",VLOOKUP(F206,referentes!$Q$2:$T$200,3,FALSE))","v":""},null,null,null,""]
[null,{"$f":"IF(C207=\"\",\"\",IF(COUNTIF($C$3:C207, C207)>1, \"\", C207))","v":""},{"$f":"IF(G207=\"\",\"\",IF(F207=\"\",\"\",CONCATENATE(DIGITADOR!$M$1,G207,E207)))","v":""},"",{"$f":"IF(F207=\"\",\"\",VLOOKUP(F207,referentes!$Q$2:$T$200,3,FALSE))","v":""},null,null,null,""]
[null,{"$f":"IF(C208=\"\",\"\",IF(COUNTIF($C$3:C208, C208)>1, \"\", C208))","v":""},{"$f":"IF(G208=\"\",\"\",IF(F208=\"\",\"\",CONCATENATE(DIGITADOR!$M$1,G208,E208)))","v":""},"",{"$f":"IF(F208=\"\",\"\",VLOOKUP(F208,referentes!$Q$2:$T$200,3,FALSE))","v":""},null,null,null,""]
[null,{"$f":"IF(C209=\"\",\"\",IF(COUNTIF($C$3:C209, C209)>1, \"\", C209))","v":""},{"$f":"IF(G209=\"\",\"\",IF(F209=\"\",\"\",CONCATENATE(DIGITADOR!$M$1,G209,E209)))","v":""},"",{"$f":"IF(F209=\"\",\"\",VLOOKUP(F209,referentes!$Q$2:$T$200,3,FALSE))","v":""},null,null,null,""]
[null,{"$f":"IF(C210=\"\",\"\",IF(COUNTIF($C$3:C210, C210)>1, \"\", C210))","v":""},{"$f":"IF(G210=\"\",\"\",IF(F210=\"\",\"\",CONCATENATE(DIGITADOR!$M$1,G210,E210)))","v":""},"",{"$f":"IF(F210=\"\",\"\",VLOOKUP(F210,referentes!$Q$2:$T$200,3,FALSE))","v":""},null,null,null,""]
[null,{"$f":"IF(C211=\"\",\"\",IF(COUNTIF($C$3:C211, C211)>1, \"\", C211))","v":""},{"$f":"IF(G211=\"\",\"\",IF(F211=\"\",\"\",CONCATENATE(DIGITADOR!$M$1,G211,E211)))","v":""},"",{"$f":"IF(F211=\"\",\"\",VLOOKUP(F211,referentes!$Q$2:$T$200,3,FALSE))","v":""},null,null,null,""]
[null,{"$f":"IF(C212=\"\",\"\",IF(COUNTIF($C$3:C212, C212)>1, \"\", C212))","v":""},{"$f":"IF(G212=\"\",\"\",IF(F212=\"\",\"\",CONCATENATE(DIGITADOR!$M$1,G212,E212)))","v":""},"",{"$f":"IF(F212=\"\",\"\",VLOOKUP(F212,referentes!$Q$2:$T$200,3,FALSE))","v":""},null,null,null,""]
[null,{"$f":"IF(C213=\"\",\"\",IF(COUNTIF($C$3:C213, C213)>1, \"\", C213))","v":""},{"$f":"IF(G213=\"\",\"\",IF(F213=\"\",\"\",CONCATENATE(DIGITADOR!$M$1,G213,E213)))","v":""},"",{"$f":"IF(F213=\"\",\"\",VLOOKUP(F213,referentes!$Q$2:$T$200,3,FALSE))","v":""},null,null,null,""]
[null,{"$f":"IF(C214=\"\",\"\",IF(COUNTIF($C$3:C214, C214)>1, \"\", C214))","v":""},{"$f":"IF(G214=\"\",\"\",IF(F214=\"\",\"\",CONCATENATE(DIGITADOR!$M$1,G214,E214)))","v":""},"",{"$f":"IF(F214=\"\",\"\",VLOOKUP(F214,referentes!$Q$2:$T$200,3,FALSE))","v":""},null,null,null,""]
[null,{"$f":"IF(C215=\"\",\"\",IF(COUNTIF($C$3:C215, C215)>1, \"\", C215))","v":""},{"$f":"IF(G215=\"\",\"\",IF(F215=\"\",\"\",CONCATENATE(DIGITADOR!$M$1,G215,E215)))","v":""},"",{"$f":"IF(F215=\"\",\"\",VLOOKUP(F215,referentes!$Q$2:$T$200,3,FALSE))","v":""},null,null,null,""]
[null,{"$f":"IF(C216=\"\",\"\",IF(COUNTIF($C$3:C216, C216)>1, \"\", C216))","v":""},{"$f":"IF(G216=\"\",\"\",IF(F216=\"\",\"\",CONCATENATE(DIGITADOR!$M$1,G216,E216)))","v":""},"",{"$f":"IF(F216=\"\",\"\",VLOOKUP(F216,referentes!$Q$2:$T$200,3,FALSE))","v":""},null,null,null,""]
[null,{"$f":"IF(C217=\"\",\"\",IF(COUNTIF($C$3:C217, C217)>1, \"\", C217))","v":""},{"$f":"IF(G217=\"\",\"\",IF(F217=\"\",\"\",CONCATENATE(DIGITADOR!$M$1,G217,E217)))","v":""},"",{"$f":"IF(F217=\"\",\"\",VLOOKUP(F217,referentes!$Q$2:$T$200,3,FALSE))","v":""},null,null,null,""]
[null,{"$f":"IF(C218=\"\",\"\",IF(COUNTIF($C$3:C218, C218)>1, \"\", C218))","v":""},{"$f":"IF(G218=\"\",\"\",IF(F218=\"\",\"\",CONCATENATE(DIGITADOR!$M$1,G218,E218)))","v":""},"",{"$f":"IF(F218=\"\",\"\",VLOOKUP(F218,referentes!$Q$2:$T$200,3,FALSE))","v":""},null,null,null,""]
[null,{"$f":"IF(C219=\"\",\"\",IF(COUNTIF($C$3:C219, C219)>1, \"\", C219))","v":""},{"$f":"IF(G219=\"\",\"\",IF(F219=\"\",\"\",CONCATENATE(DIGITADOR!$M$1,G219,E219)))","v":""},"",{"$f":"IF(F219=\"\",\"\",VLOOKUP(F219,referentes!$Q$2:$T$200,3,FALSE))","v":""},null,null,null,""]
[null,{"$f":"IF(C220=\"\",\"\",IF(COUNTIF($C$3:C220, C220)>1, \"\", C220))","v":""},{"$f":"IF(G220=\"\",\"\",IF(F220=\"\",\"\",CONCATENATE(DIGITADOR!$M$1,G220,E220)))","v":""},"",{"$f":"IF(F220=\"\",\"\",VLOOKUP(F220,referentes!$Q$2:$T$200,3,FALSE))","v":""},null,null,null,""]
[null,{"$f":"IF(C221=\"\",\"\",IF(COUNTIF($C$3:C221, C221)>1, \"\", C221))","v":""},{"$f":"IF(G221=\"\",\"\",IF(F221=\"\",\"\",CONCATENATE(DIGITADOR!$M$1,G221,E221)))","v":""},"",{"$f":"IF(F221=\"\",\"\",VLOOKUP(F221,referentes!$Q$2:$T$200,3,FALSE))","v":""},null,null,null,""]
[null,{"$f":"IF(C222=\"\",\"\",IF(COUNTIF($C$3:C222, C222)>1, \"\", C222))","v":""},{"$f":"IF(G222=\"\",\"\",IF(F222=\"\",\"\",CONCATENATE(DIGITADOR!$M$1,G222,E222)))","v":""},"",{"$f":"IF(F222=\"\",\"\",VLOOKUP(F222,referentes!$Q$2:$T$200,3,FALSE))","v":""},null,null,null,""]
[null,{"$f":"IF(C223=\"\",\"\",IF(COUNTIF($C$3:C223, C223)>1, \"\", C223))","v":""},{"$f":"IF(G223=\"\",\"\",IF(F223=\"\",\"\",CONCATENATE(DIGITADOR!$M$1,G223,E223)))","v":""},"",{"$f":"IF(F223=\"\",\"\",VLOOKUP(F223,referentes!$Q$2:$T$200,3,FALSE))","v":""},null,null,null,""]
[null,{"$f":"IF(C224=\"\",\"\",IF(COUNTIF($C$3:C224, C224)>1, \"\", C224))","v":""},{"$f":"IF(G224=\"\",\"\",IF(F224=\"\",\"\",CONCATENATE(DIGITADOR!$M$1,G224,E224)))","v":""},"",{"$f":"IF(F224=\"\",\"\",VLOOKUP(F224,referentes!$Q$2:$T$200,3,FALSE))","v":""},null,null,null,""]
[null,{"$f":"IF(C225=\"\",\"\",IF(COUNTIF($C$3:C225, C225)>1, \"\", C225))","v":""},{"$f":"IF(G225=\"\",\"\",IF(F225=\"\",\"\",CONCATENATE(DIGITADOR!$M$1,G225,E225)))","v":""},"",{"$f":"IF(F225=\"\",\"\",VLOOKUP(F225,referentes!$Q$2:$T$200,3,FALSE))","v":""},null,null,null,""]
[null,{"$f":"IF(C226=\"\",\"\",IF(COUNTIF($C$3:C226, C226)>1, \"\", C226))","v":""},{"$f":"IF(G226=\"\",\"\",IF(F226=\"\",\"\",CONCATENATE(DIGITADOR!$M$1,G226,E226)))","v":""},"",{"$f":"IF(F226=\"\",\"\",VLOOKUP(F226,referentes!$Q$2:$T$200,3,FALSE))","v":""},null,null,null,""]
[null,{"$f":"IF(C227=\"\",\"\",IF(COUNTIF($C$3:C227, C227)>1, \"\", C227))","v":""},{"$f":"IF(G227=\"\",\"\",IF(F227=\"\",\"\",CONCATENATE(DIGITADOR!$M$1,G227,E227)))","v":""},"",{"$f":"IF(F227=\"\",\"\",VLOOKUP(F227,referentes!$Q$2:$T$200,3,FALSE))","v":""},null,null,null,""]
[null,{"$f":"IF(C228=\"\",\"\",IF(COUNTIF($C$3:C228, C228)>1, \"\", C228))","v":""},{"$f":"IF(G228=\"\",\"\",IF(F228=\"\",\"\",CONCATENATE(DIGITADOR!$M$1,G228,E228)))","v":""},"",{"$f":"IF(F228=\"\",\"\",VLOOKUP(F228,referentes!$Q$2:$T$200,3,FALSE))","v":""},null,null,null,""]
[null,{"$f":"IF(C229=\"\",\"\",IF(COUNTIF($C$3:C229, C229)>1, \"\", C229))","v":""},{"$f":"IF(G229=\"\",\"\",IF(F229=\"\",\"\",CONCATENATE(DIGITADOR!$M$1,G229,E229)))","v":""},"",{"$f":"IF(F229=\"\",\"\",VLOOKUP(F229,referentes!$Q$2:$T$200,3,FALSE))","v":""},null,null,null,""]
[null,{"$f":"IF(C230=\"\",\"\",IF(COUNTIF($C$3:C230, C230)>1, \"\", C230))","v":""},{"$f":"IF(G230=\"\",\"\",IF(F230=\"\",\"\",CONCATENATE(DIGITADOR!$M$1,G230,E230)))","v":""},"",{"$f":"IF(F230=\"\",\"\",VLOOKUP(F230,referentes!$Q$2:$T$200,3,FALSE))","v":""},null,null,null,""]
[null,{"$f":"IF(C231=\"\",\"\",IF(COUNTIF($C$3:C231, C231)>1, \"\", C231))","v":""},{"$f":"IF(G231=\"\",\"\",IF(F231=\"\",\"\",CONCATENATE(DIGITADOR!$M$1,G231,E231)))","v":""},"",{"$f":"IF(F231=\"\",\"\",VLOOKUP(F231,referentes!$Q$2:$T$200,3,FALSE))","v":""},null,null,null,""]
[null,{"$f":"IF(C232=\"\",\"\",IF(COUNTIF($C$3:C232, C232)>1, \"\", C232))","v":""},{"$f":"IF(G232=\"\",\"\",IF(F232=\"\",\"\",CONCATENATE(DIGITADOR!$M$1,G232,E232)))","v":""},"",{"$f":"IF(F232=\"\",\"\",VLOOKUP(F232,referentes!$Q$2:$T$200,3,FALSE))","v":""},null,null,null,""]
[null,{"$f":"IF(C233=\"\",\"\",IF(COUNTIF($C$3:C233, C233)>1, \"\", C233))","v":""},{"$f":"IF(G233=\"\",\"\",IF(F233=\"\",\"\",CONCATENATE(DIGITADOR!$M$1,G233,E233)))","v":""},"",{"$f":"IF(F233=\"\",\"\",VLOOKUP(F233,referentes!$Q$2:$T$200,3,FALSE))","v":""},null,null,null,""]
[null,{"$f":"IF(C234=\"\",\"\",IF(COUNTIF($C$3:C234, C234)>1, \"\", C234))","v":""},{"$f":"IF(G234=\"\",\"\",IF(F234=\"\",\"\",CONCATENATE(DIGITADOR!$M$1,G234,E234)))","v":""},"",{"$f":"IF(F234=\"\",\"\",VLOOKUP(F234,referentes!$Q$2:$T$200,3,FALSE))","v":""},null,null,null,""]
[null,{"$f":"IF(C235=\"\",\"\",IF(COUNTIF($C$3:C235, C235)>1, \"\", C235))","v":""},{"$f":"IF(G235=\"\",\"\",IF(F235=\"\",\"\",CONCATENATE(DIGITADOR!$M$1,G235,E235)))","v":""},"",{"$f":"IF(F235=\"\",\"\",VLOOKUP(F235,referentes!$Q$2:$T$200,3,FALSE))","v":""},null,null,null,""]
[null,{"$f":"IF(C236=\"\",\"\",IF(COUNTIF($C$3:C236, C236)>1, \"\", C236))","v":""},{"$f":"IF(G236=\"\",\"\",IF(F236=\"\",\"\",CONCATENATE(DIGITADOR!$M$1,G236,E236)))","v":""},"",{"$f":"IF(F236=\"\",\"\",VLOOKUP(F236,referentes!$Q$2:$T$200,3,FALSE))","v":""},null,null,null,""]
[null,{"$f":"IF(C237=\"\",\"\",IF(COUNTIF($C$3:C237, C237)>1, \"\", C237))","v":""},{"$f":"IF(G237=\"\",\"\",IF(F237=\"\",\"\",CONCATENATE(DIGITADOR!$M$1,G237,E237)))","v":""},"",{"$f":"IF(F237=\"\",\"\",VLOOKUP(F237,referentes!$Q$2:$T$200,3,FALSE))","v":""},null,null,null,""]
[null,{"$f":"IF(C238=\"\",\"\",IF(COUNTIF($C$3:C238, C238)>1, \"\", C238))","v":""},{"$f":"IF(G238=\"\",\"\",IF(F238=\"\",\"\",CONCATENATE(DIGITADOR!$M$1,G238,E238)))","v":""},"",{"$f":"IF(F238=\"\",\"\",VLOOKUP(F238,referentes!$Q$2:$T$200,3,FALSE))","v":""},null,null,null,""]
[null,{"$f":"IF(C239=\"\",\"\",IF(COUNTIF($C$3:C239, C239)>1, \"\", C239))","v":""},{"$f":"IF(G239=\"\",\"\",IF(F239=\"\",\"\",CONCATENATE(DIGITADOR!$M$1,G239,E239)))","v":""},"",{"$f":"IF(F239=\"\",\"\",VLOOKUP(F239,referentes!$Q$2:$T$200,3,FALSE))","v":""},null,null,null,""]
[null,{"$f":"IF(C240=\"\",\"\",IF(COUNTIF($C$3:C240, C240)>1, \"\", C240))","v":""},{"$f":"IF(G240=\"\",\"\",IF(F240=\"\",\"\",CONCATENATE(DIGITADOR!$M$1,G240,E240)))","v":""},"",{"$f":"IF(F240=\"\",\"\",VLOOKUP(F240,referentes!$Q$2:$T$200,3,FALSE))","v":""},null,null,null,""]
[null,{"$f":"IF(C241=\"\",\"\",IF(COUNTIF($C$3:C241, C241)>1, \"\", C241))","v":""},{"$f":"IF(G241=\"\",\"\",IF(F241=\"\",\"\",CONCATENATE(DIGITADOR!$M$1,G241,E241)))","v":""},"",{"$f":"IF(F241=\"\",\"\",VLOOKUP(F241,referentes!$Q$2:$T$200,3,FALSE))","v":""},null,null,null,""]
[null,{"$f":"IF(C242=\"\",\"\",IF(COUNTIF($C$3:C242, C242)>1, \"\", C242))","v":""},{"$f":"IF(G242=\"\",\"\",IF(F242=\"\",\"\",CONCATENATE(DIGITADOR!$M$1,G242,E242)))","v":""},"",{"$f":"IF(F242=\"\",\"\",VLOOKUP(F242,referentes!$Q$2:$T$200,3,FALSE))","v":""},null,null,null,""]
[null,{"$f":"IF(C243=\"\",\"\",IF(COUNTIF($C$3:C243, C243)>1, \"\", C243))","v":""},{"$f":"IF(G243=\"\",\"\",IF(F243=\"\",\"\",CONCATENATE(DIGITADOR!$M$1,G243,E243)))","v":""},"",{"$f":"IF(F243=\"\",\"\",VLOOKUP(F243,referentes!$Q$2:$T$200,3,FALSE))","v":""},null,null,null,""]
[null,{"$f":"IF(C244=\"\",\"\",IF(COUNTIF($C$3:C244, C244)>1, \"\", C244))","v":""},{"$f":"IF(G244=\"\",\"\",IF(F244=\"\",\"\",CONCATENATE(DIGITADOR!$M$1,G244,E244)))","v":""},"",{"$f":"IF(F244=\"\",\"\",VLOOKUP(F244,referentes!$Q$2:$T$200,3,FALSE))","v":""},null,null,null,""]
[null,{"$f":"IF(C245=\"\",\"\",IF(COUNTIF($C$3:C245, C245)>1, \"\", C245))","v":""},{"$f":"IF(G245=\"\",\"\",IF(F245=\"\",\"\",CONCATENATE(DIGITADOR!$M$1,G245,E245)))","v":""},"",{"$f":"IF(F245=\"\",\"\",VLOOKUP(F245,referentes!$Q$2:$T$200,3,FALSE))","v":""},null,null,null,""]
[null,{"$f":"IF(C246=\"\",\"\",IF(COUNTIF($C$3:C246, C246)>1, \"\", C246))","v":""},{"$f":"IF(G246=\"\",\"\",IF(F246=\"\",\"\",CONCATENATE(DIGITADOR!$M$1,G246,E246)))","v":""},"",{"$f":"IF(F246=\"\",\"\",VLOOKUP(F246,referentes!$Q$2:$T$200,3,FALSE))","v":""},null,null,null,""]
[null,{"$f":"IF(C247=\"\",\"\",IF(COUNTIF($C$3:C247, C247)>1, \"\", C247))","v":""},{"$f":"IF(G247=\"\",\"\",IF(F247=\"\",\"\",CONCATENATE(DIGITADOR!$M$1,G247,E247)))","v":""},"",{"$f":"IF(F247=\"\",\"\",VLOOKUP(F247,referentes!$Q$2:$T$200,3,FALSE))","v":""},null,null,null,""]
[null,{"$f":"IF(C248=\"\",\"\",IF(COUNTIF($C$3:C248, C248)>1, \"\", C248))","v":""},{"$f":"IF(G248=\"\",\"\",IF(F248=\"\",\"\",CONCATENATE(DIGITADOR!$M$1,G248,E248)))","v":""},"",{"$f":"IF(F248=\"\",\"\",VLOOKUP(F248,referentes!$Q$2:$T$200,3,FALSE))","v":""},null,null,null,""]
[null,{"$f":"IF(C249=\"\",\"\",IF(COUNTIF($C$3:C249, C249)>1, \"\", C249))","v":""},{"$f":"IF(G249=\"\",\"\",IF(F249=\"\",\"\",CONCATENATE(DIGITADOR!$M$1,G249,E249)))","v":""},"",{"$f":"IF(F249=\"\",\"\",VLOOKUP(F249,referentes!$Q$2:$T$200,3,FALSE))","v":""},null,null,null,""]
[null,{"$f":"IF(C250=\"\",\"\",IF(COUNTIF($C$3:C250, C250)>1, \"\", C250))","v":""},{"$f":"IF(G250=\"\",\"\",IF(F250=\"\",\"\",CONCATENATE(DIGITADOR!$M$1,G250,E250)))","v":""},"",{"$f":"IF(F250=\"\",\"\",VLOOKUP(F250,referentes!$Q$2:$T$200,3,FALSE))","v":""},null,null,null,""]
[null,{"$f":"IF(C251=\"\",\"\",IF(COUNTIF($C$3:C251, C251)>1, \"\", C251))","v":""},{"$f":"IF(G251=\"\",\"\",IF(F251=\"\",\"\",CONCATENATE(DIGITADOR!$M$1,G251,E251)))","v":""},"",{"$f":"IF(F251=\"\",\"\",VLOOKUP(F251,referentes!$Q$2:$T$200,3,FALSE))","v":""},null,null,null,""]
[null,{"$f":"IF(C252=\"\",\"\",IF(COUNTIF($C$3:C252, C252)>1, \"\", C252))","v":""},{"$f":"IF(G252=\"\",\"\",IF(F252=\"\",\"\",CONCATENATE(DIGITADOR!$M$1,G252,E252)))","v":""},"",{"$f":"IF(F252=\"\",\"\",VLOOKUP(F252,referentes!$Q$2:$T$200,3,FALSE))","v":""},null,null,null,""]
[null,{"$f":"IF(C253=\"\",\"\",IF(COUNTIF($C$3:C253, C253)>1, \"\", C253))","v":""},{"$f":"IF(G253=\"\",\"\",IF(F253=\"\",\"\",CONCATENATE(DIGITADOR!$M$1,G253,E253)))","v":""},"",{"$f":"IF(F253=\"\",\"\",VLOOKUP(F253,referentes!$Q$2:$T$200,3,FALSE))","v":""},null,null,null,""]
[null,{"$f":"IF(C254=\"\",\"\",IF(COUNTIF($C$3:C254, C254)>1, \"\", C254))","v":""},{"$f":"IF(G254=\"\",\"\",IF(F254=\"\",\"\",CONCATENATE(DIGITADOR!$M$1,G254,E254)))","v":""},"",{"$f":"IF(F254=\"\",\"\",VLOOKUP(F254,referentes!$Q$2:$T$200,3,FALSE))","v":""},null,null,null,""]
[null,{"$f":"IF(C255=\"\",\"\",IF(COUNTIF($C$3:C255, C255)>1, \"\", C255))","v":""},{"$f":"IF(G255=\"\",\"\",IF(F255=\"\",\"\",CONCATENATE(DIGITADOR!$M$1,G255,E255)))","v":""},"",{"$f":"IF(F255=\"\",\"\",VLOOKUP(F255,referentes!$Q$2:$T$200,3,FALSE))","v":""},null,null,null,""]
[null,{"$f":"IF(C256=\"\",\"\",IF(COUNTIF($C$3:C256, C256)>1, \"\", C256))","v":""},{"$f":"IF(G256=\"\",\"\",IF(F256=\"\",\"\",CONCATENATE(DIGITADOR!$M$1,G256,E256)))","v":""},"",{"$f":"IF(F256=\"\",\"\",VLOOKUP(F256,referentes!$Q$2:$T$200,3,FALSE))","v":""},null,null,null,""]
[null,{"$f":"IF(C257=\"\",\"\",IF(COUNTIF($C$3:C257, C257)>1, \"\", C257))","v":""},{"$f":"IF(G257=\"\",\"\",IF(F257=\"\",\"\",CONCATENATE(DIGITADOR!$M$1,G257,E257)))","v":""},"",{"$f":"IF(F257=\"\",\"\",VLOOKUP(F257,referentes!$Q$2:$T$200,3,FALSE))","v":""},null,null,null,""]
[null,{"$f":"IF(C258=\"\",\"\",IF(COUNTIF($C$3:C258, C258)>1, \"\", C258))","v":""},{"$f":"IF(G258=\"\",\"\",IF(F258=\"\",\"\",CONCATENATE(DIGITADOR!$M$1,G258,E258)))","v":""},"",{"$f":"IF(F258=\"\",\"\",VLOOKUP(F258,referentes!$Q$2:$T$200,3,FALSE))","v":""},null,null,null,""]
[null,{"$f":"IF(C259=\"\",\"\",IF(COUNTIF($C$3:C259, C259)>1, \"\", C259))","v":""},{"$f":"IF(G259=\"\",\"\",IF(F259=\"\",\"\",CONCATENATE(DIGITADOR!$M$1,G259,E259)))","v":""},"",{"$f":"IF(F259=\"\",\"\",VLOOKUP(F259,referentes!$Q$2:$T$200,3,FALSE))","v":""},null,null,null,""]
[null,{"$f":"IF(C260=\"\",\"\",IF(COUNTIF($C$3:C260, C260)>1, \"\", C260))","v":""},{"$f":"IF(G260=\"\",\"\",IF(F260=\"\",\"\",CONCATENATE(DIGITADOR!$M$1,G260,E260)))","v":""},{"$f":"IF(C260=\"\",\"\",CONCATENATE(C260,ROW()-2))","v":""},{"$f":"IF(F260=\"\",\"\",VLOOKUP(F260,referentes!$Q$2:$T$200,3,FALSE))","v":""},null,null,null,{"$f":"IF(G260<>\"\", G260 + H260, \"\")","v":""}]
[null,{"$f":"IF(C261=\"\",\"\",IF(COUNTIF($C$3:C261, C261)>1, \"\", C261))","v":""},{"$f":"IF(G261=\"\",\"\",IF(F261=\"\",\"\",CONCATENATE(DIGITADOR!$M$1,G261,E261)))","v":""},"",{"$f":"IF(F261=\"\",\"\",VLOOKUP(F261,referentes!$Q$2:$T$200,3,FALSE))","v":""},null,null,null,""]
[null,{"$f":"IF(C262=\"\",\"\",IF(COUNTIF($C$3:C262, C262)>1, \"\", C262))","v":""},{"$f":"IF(G262=\"\",\"\",IF(F262=\"\",\"\",CONCATENATE(DIGITADOR!$M$1,G262,E262)))","v":""},"",{"$f":"IF(F262=\"\",\"\",VLOOKUP(F262,referentes!$Q$2:$T$200,3,FALSE))","v":""},null,null,null,""]
[null,{"$f":"IF(C263=\"\",\"\",IF(COUNTIF($C$3:C263, C263)>1, \"\", C263))","v":""},{"$f":"IF(G263=\"\",\"\",IF(F263=\"\",\"\",CONCATENATE(DIGITADOR!$M$1,G263,E263)))","v":""},"",{"$f":"IF(F263=\"\",\"\",VLOOKUP(F263,referentes!$Q$2:$T$200,3,FALSE))","v":""},null,null,null,""]
[null,{"$f":"IF(C264=\"\",\"\",IF(COUNTIF($C$3:C264, C264)>1, \"\", C264))","v":""},{"$f":"IF(G264=\"\",\"\",IF(F264=\"\",\"\",CONCATENATE(DIGITADOR!$M$1,G264,E264)))","v":""},"",{"$f":"IF(F264=\"\",\"\",VLOOKUP(F264,referentes!$Q$2:$T$200,3,FALSE))","v":""},null,null,null,""]
[null,{"$f":"IF(C265=\"\",\"\",IF(COUNTIF($C$3:C265, C265)>1, \"\", C265))","v":""},{"$f":"IF(G265=\"\",\"\",IF(F265=\"\",\"\",CONCATENATE(DIGITADOR!$M$1,G265,E265)))","v":""},"",{"$f":"IF(F265=\"\",\"\",VLOOKUP(F265,referentes!$Q$2:$T$200,3,FALSE))","v":""},null,null,null,""]
[null,{"$f":"IF(C266=\"\",\"\",IF(COUNTIF($C$3:C266, C266)>1, \"\", C266))","v":""},{"$f":"IF(G266=\"\",\"\",IF(F266=\"\",\"\",CONCATENATE(DIGITADOR!$M$1,G266,E266)))","v":""},"",{"$f":"IF(F266=\"\",\"\",VLOOKUP(F266,referentes!$Q$2:$T$200,3,FALSE))","v":""},null,null,null,""]
[null,{"$f":"IF(C267=\"\",\"\",IF(COUNTIF($C$3:C267, C267)>1, \"\", C267))","v":""},{"$f":"IF(G267=\"\",\"\",IF(F267=\"\",\"\",CONCATENATE(DIGITADOR!$M$1,G267,E267)))","v":""},"",{"$f":"IF(F267=\"\",\"\",VLOOKUP(F267,referentes!$Q$2:$T$200,3,FALSE))","v":""},null,null,null,""]
[null,{"$f":"IF(C268=\"\",\"\",IF(COUNTIF($C$3:C268, C268)>1, \"\", C268))","v":""},{"$f":"IF(G268=\"\",\"\",IF(F268=\"\",\"\",CONCATENATE(DIGITADOR!$M$1,G268,E268)))","v":""},"",{"$f":"IF(F268=\"\",\"\",VLOOKUP(F268,referentes!$Q$2:$T$200,3,FALSE))","v":""},null,null,null,""]
[null,{"$f":"IF(C269=\"\",\"\",IF(COUNTIF($C$3:C269, C269)>1, \"\", C269))","v":""},{"$f":"IF(G269=\"\",\"\",IF(F269=\"\",\"\",CONCATENATE(DIGITADOR!$M$1,G269,E269)))","v":""},"",{"$f":"IF(F269=\"\",\"\",VLOOKUP(F269,referentes!$Q$2:$T$200,3,FALSE))","v":""},null,null,null,""]
[null,{"$f":"IF(C270=\"\",\"\",IF(COUNTIF($C$3:C270, C270)>1, \"\", C270))","v":""},{"$f":"IF(G270=\"\",\"\",IF(F270=\"\",\"\",CONCATENATE(DIGITADOR!$M$1,G270,E270)))","v":""},"",{"$f":"IF(F270=\"\",\"\",VLOOKUP(F270,referentes!$Q$2:$T$200,3,FALSE))","v":""},null,null,null,""]
[null,{"$f":"IF(C271=\"\",\"\",IF(COUNTIF($C$3:C271, C271)>1, \"\", C271))","v":""},{"$f":"IF(G271=\"\",\"\",IF(F271=\"\",\"\",CONCATENATE(DIGITADOR!$M$1,G271,E271)))","v":""},"",{"$f":"IF(F271=\"\",\"\",VLOOKUP(F271,referentes!$Q$2:$T$200,3,FALSE))","v":""},null,null,null,""]
[null,{"$f":"IF(C272=\"\",\"\",IF(COUNTIF($C$3:C272, C272)>1, \"\", C272))","v":""},{"$f":"IF(G272=\"\",\"\",IF(F272=\"\",\"\",CONCATENATE(DIGITADOR!$M$1,G272,E272)))","v":""},"",{"$f":"IF(F272=\"\",\"\",VLOOKUP(F272,referentes!$Q$2:$T$200,3,FALSE))","v":""},null,null,null,""]
[null,{"$f":"IF(C273=\"\",\"\",IF(COUNTIF($C$3:C273, C273)>1, \"\", C273))","v":""},{"$f":"IF(G273=\"\",\"\",IF(F273=\"\",\"\",CONCATENATE(DIGITADOR!$M$1,G273,E273)))","v":""},"",{"$f":"IF(F273=\"\",\"\",VLOOKUP(F273,referentes!$Q$2:$T$200,3,FALSE))","v":""},null,null,null,""]
[null,{"$f":"IF(C274=\"\",\"\",IF(COUNTIF($C$3:C274, C274)>1, \"\", C274))","v":""},{"$f":"IF(G274=\"\",\"\",IF(F274=\"\",\"\",CONCATENATE(DIGITADOR!$M$1,G274,E274)))","v":""},"",{"$f":"IF(F274=\"\",\"\",VLOOKUP(F274,referentes!$Q$2:$T$200,3,FALSE))","v":""},null,null,null,""]
[null,{"$f":"IF(C275=\"\",\"\",IF(COUNTIF($C$3:C275, C275)>1, \"\", C275))","v":""},{"$f":"IF(G275=\"\",\"\",IF(F275=\"\",\"\",CONCATENATE(DIGITADOR!$M$1,G275,E275)))","v":""},"",{"$f":"IF(F275=\"\",\"\",VLOOKUP(F275,referentes!$Q$2:$T$200,3,FALSE))","v":""},null,null,null,""]
[null,{"$f":"IF(C276=\"\",\"\",IF(COUNTIF($C$3:C276, C276)>1, \"\", C276))","v":""},{"$f":"IF(G276=\"\",\"\",IF(F276=\"\",\"\",CONCATENATE(DIGITADOR!$M$1,G276,E276)))","v":""},"",{"$f":"IF(F276=\"\",\"\",VLOOKUP(F276,referentes!$Q$2:$T$200,3,FALSE))","v":""},null,null,null,""]
[null,{"$f":"IF(C277=\"\",\"\",IF(COUNTIF($C$3:C277, C277)>1, \"\", C277))","v":""},{"$f":"IF(G277=\"\",\"\",IF(F277=\"\",\"\",CONCATENATE(DIGITADOR!$M$1,G277,E277)))","v":""},"",{"$f":"IF(F277=\"\",\"\",VLOOKUP(F277,referentes!$Q$2:$T$200,3,FALSE))","v":""},null,null,null,""]
[null,{"$f":"IF(C278=\"\",\"\",IF(COUNTIF($C$3:C278, C278)>1, \"\", C278))","v":""},{"$f":"IF(G278=\"\",\"\",IF(F278=\"\",\"\",CONCATENATE(DIGITADOR!$M$1,G278,E278)))","v":""},"",{"$f":"IF(F278=\"\",\"\",VLOOKUP(F278,referentes!$Q$2:$T$200,3,FALSE))","v":""},null,null,null,""]
[null,{"$f":"IF(C279=\"\",\"\",IF(COUNTIF($C$3:C279, C279)>1, \"\", C279))","v":""},{"$f":"IF(G279=\"\",\"\",IF(F279=\"\",\"\",CONCATENATE(DIGITADOR!$M$1,G279,E279)))","v":""},"",{"$f":"IF(F279=\"\",\"\",VLOOKUP(F279,referentes!$Q$2:$T$200,3,FALSE))","v":""},null,null,null,""]
[null,{"$f":"IF(C280=\"\",\"\",IF(COUNTIF($C$3:C280, C280)>1, \"\", C280))","v":""},{"$f":"IF(G280=\"\",\"\",IF(F280=\"\",\"\",CONCATENATE(DIGITADOR!$M$1,G280,E280)))","v":""},"",{"$f":"IF(F280=\"\",\"\",VLOOKUP(F280,referentes!$Q$2:$T$200,3,FALSE))","v":""},null,null,null,""]
[null,{"$f":"IF(C281=\"\",\"\",IF(COUNTIF($C$3:C281, C281)>1, \"\", C281))","v":""},{"$f":"IF(G281=\"\",\"\",IF(F281=\"\",\"\",CONCATENATE(DIGITADOR!$M$1,G281,E281)))","v":""},"",{"$f":"IF(F281=\"\",\"\",VLOOKUP(F281,referentes!$Q$2:$T$200,3,FALSE))","v":""},null,null,null,""]
[null,{"$f":"IF(C282=\"\",\"\",IF(COUNTIF($C$3:C282, C282)>1, \"\", C282))","v":""},{"$f":"IF(G282=\"\",\"\",IF(F282=\"\",\"\",CONCATENATE(DIGITADOR!$M$1,G282,E282)))","v":""},"",{"$f":"IF(F282=\"\",\"\",VLOOKUP(F282,referentes!$Q$2:$T$200,3,FALSE))","v":""},null,null,null,""]
[null,{"$f":"IF(C283=\"\",\"\",IF(COUNTIF($C$3:C283, C283)>1, \"\", C283))","v":""},{"$f":"IF(G283=\"\",\"\",IF(F283=\"\",\"\",CONCATENATE(DIGITADOR!$M$1,G283,E283)))","v":""},"",{"$f":"IF(F283=\"\",\"\",VLOOKUP(F283,referentes!$Q$2:$T$200,3,FALSE))","v":""},null,null,null,""]
[null,{"$f":"IF(C284=\"\",\"\",IF(COUNTIF($C$3:C284, C284)>1, \"\", C284))","v":""},{"$f":"IF(G284=\"\",\"\",IF(F284=\"\",\"\",CONCATENATE(DIGITADOR!$M$1,G284,E284)))","v":""},"",{"$f":"IF(F284=\"\",\"\",VLOOKUP(F284,referentes!$Q$2:$T$200,3,FALSE))","v":""},null,null,null,""]
[null,{"$f":"IF(C285=\"\",\"\",IF(COUNTIF($C$3:C285, C285)>1, \"\", C285))","v":""},{"$f":"IF(G285=\"\",\"\",IF(F285=\"\",\"\",CONCATENATE(DIGITADOR!$M$1,G285,E285)))","v":""},"",{"$f":"IF(F285=\"\",\"\",VLOOKUP(F285,referentes!$Q$2:$T$200,3,FALSE))","v":""},null,null,null,""]
[null,{"$f":"IF(C286=\"\",\"\",IF(COUNTIF($C$3:C286, C286)>1, \"\", C286))","v":""},{"$f":"IF(G286=\"\",\"\",IF(F286=\"\",\"\",CONCATENATE(DIGITADOR!$M$1,G286,E286)))","v":""},"",{"$f":"IF(F286=\"\",\"\",VLOOKUP(F286,referentes!$Q$2:$T$200,3,FALSE))","v":""},null,null,null,""]
[null,{"$f":"IF(C287=\"\",\"\",IF(COUNTIF($C$3:C287, C287)>1, \"\", C287))","v":""},{"$f":"IF(G287=\"\",\"\",IF(F287=\"\",\"\",CONCATENATE(DIGITADOR!$M$1,G287,E287)))","v":""},"",{"$f":"IF(F287=\"\",\"\",VLOOKUP(F287,referentes!$Q$2:$T$200,3,FALSE))","v":""},null,null,null,""]
[null,{"$f":"IF(C288=\"\",\"\",IF(COUNTIF($C$3:C288, C288)>1, \"\", C288))","v":""},{"$f":"IF(G288=\"\",\"\",IF(F288=\"\",\"\",CONCATENATE(DIGITADOR!$M$1,G288,E288)))","v":""},"",{"$f":"IF(F288=\"\",\"\",VLOOKUP(F288,referentes!$Q$2:$T$200,3,FALSE))","v":""},null,null,null,""]
[null,{"$f":"IF(C289=\"\",\"\",IF(COUNTIF($C$3:C289, C289)>1, \"\", C289))","v":""},{"$f":"IF(G289=\"\",\"\",IF(F289=\"\",\"\",CONCATENATE(DIGITADOR!$M$1,G289,E289)))","v":""},"",{"$f":"IF(F289=\"\",\"\",VLOOKUP(F289,referentes!$Q$2:$T$200,3,FALSE))","v":""},null,null,null,""]
[null,{"$f":"IF(C290=\"\",\"\",IF(COUNTIF($C$3:C290, C290)>1, \"\", C290))","v":""},{"$f":"IF(G290=\"\",\"\",IF(F290=\"\",\"\",CONCATENATE(DIGITADOR!$M$1,G290,E290)))","v":""},"",{"$f":"IF(F290=\"\",\"\",VLOOKUP(F290,referentes!$Q$2:$T$200,3,FALSE))","v":""},null,null,null,""]
[null,{"$f":"IF(C291=\"\",\"\",IF(COUNTIF($C$3:C291, C291)>1, \"\", C291))","v":""},{"$f":"IF(G291=\"\",\"\",IF(F291=\"\",\"\",CONCATENATE(DIGITADOR!$M$1,G291,E291)))","v":""},"",{"$f":"IF(F291=\"\",\"\",VLOOKUP(F291,referentes!$Q$2:$T$200,3,FALSE))","v":""},null,null,null,""]
[null,{"$f":"IF(C292=\"\",\"\",IF(COUNTIF($C$3:C292, C292)>1, \"\", C292))","v":""},{"$f":"IF(G292=\"\",\"\",IF(F292=\"\",\"\",CONCATENATE(DIGITADOR!$M$1,G292,E292)))","v":""},"",{"$f":"IF(F292=\"\",\"\",VLOOKUP(F292,referentes!$Q$2:$T$200,3,FALSE))","v":""},null,null,null,""]
[null,{"$f":"IF(C293=\"\",\"\",IF(COUNTIF($C$3:C293, C293)>1, \"\", C293))","v":""},{"$f":"IF(G293=\"\",\"\",IF(F293=\"\",\"\",CONCATENATE(DIGITADOR!$M$1,G293,E293)))","v":""},"",{"$f":"IF(F293=\"\",\"\",VLOOKUP(F293,referentes!$Q$2:$T$200,3,FALSE))","v":""},null,null,null,""]
[null,{"$f":"IF(C294=\"\",\"\",IF(COUNTIF($C$3:C294, C294)>1, \"\", C294))","v":""},{"$f":"IF(G294=\"\",\"\",IF(F294=\"\",\"\",CONCATENATE(DIGITADOR!$M$1,G294,E294)))","v":""},"",{"$f":"IF(F294=\"\",\"\",VLOOKUP(F294,referentes!$Q$2:$T$200,3,FALSE))","v":""},null,null,null,""]
[null,{"$f":"IF(C295=\"\",\"\",IF(COUNTIF($C$3:C295, C295)>1, \"\", C295))","v":""},{"$f":"IF(G295=\"\",\"\",IF(F295=\"\",\"\",CONCATENATE(DIGITADOR!$M$1,G295,E295)))","v":""},"",{"$f":"IF(F295=\"\",\"\",VLOOKUP(F295,referentes!$Q$2:$T$200,3,FALSE))","v":""},null,null,null,""]
[null,{"$f":"IF(C296=\"\",\"\",IF(COUNTIF($C$3:C296, C296)>1, \"\", C296))","v":""},{"$f":"IF(G296=\"\",\"\",IF(F296=\"\",\"\",CONCATENATE(DIGITADOR!$M$1,G296,E296)))","v":""},"",{"$f":"IF(F296=\"\",\"\",VLOOKUP(F296,referentes!$Q$2:$T$200,3,FALSE))","v":""},null,null,null,""]
[null,{"$f":"IF(C297=\"\",\"\",IF(COUNTIF($C$3:C297, C297)>1, \"\", C297))","v":""},{"$f":"IF(G297=\"\",\"\",IF(F297=\"\",\"\",CONCATENATE(DIGITADOR!$M$1,G297,E297)))","v":""},"",{"$f":"IF(F297=\"\",\"\",VLOOKUP(F297,referentes!$Q$2:$T$200,3,FALSE))","v":""},null,null,null,""]
[null,{"$f":"IF(C298=\"\",\"\",IF(COUNTIF($C$3:C298, C298)>1, \"\", C298))","v":""},{"$f":"IF(G298=\"\",\"\",IF(F298=\"\",\"\",CONCATENATE(DIGITADOR!$M$1,G298,E298)))","v":""},"",{"$f":"IF(F298=\"\",\"\",VLOOKUP(F298,referentes!$Q$2:$T$200,3,FALSE))","v":""},null,null,null,""]
[null,{"$f":"IF(C299=\"\",\"\",IF(COUNTIF($C$3:C299, C299)>1, \"\", C299))","v":""},{"$f":"IF(G299=\"\",\"\",IF(F299=\"\",\"\",CONCATENATE(DIGITADOR!$M$1,G299,E299)))","v":""},"",{"$f":"IF(F299=\"\",\"\",VLOOKUP(F299,referentes!$Q$2:$T$200,3,FALSE))","v":""},null,null,null,""]
[null,{"$f":"IF(C300=\"\",\"\",IF(COUNTIF($C$3:C300, C300)>1, \"\", C300))","v":""},{"$f":"IF(G300=\"\",\"\",IF(F300=\"\",\"\",CONCATENATE(DIGITADOR!$M$1,G300,E300)))","v":""},"",{"$f":"IF(F300=\"\",\"\",VLOOKUP(F300,referentes!$Q$2:$T$200,3,FALSE))","v":""},null,null,null,""]
[null,{"$f":"IF(C301=\"\",\"\",IF(COUNTIF($C$3:C301, C301)>1, \"\", C301))","v":""},{"$f":"IF(G301=\"\",\"\",IF(F301=\"\",\"\",CONCATENATE(DIGITADOR!$M$1,G301,E301)))","v":""},"",{"$f":"IF(F301=\"\",\"\",VLOOKUP(F301,referentes!$Q$2:$T$200,3,FALSE))","v":""},null,null,null,""]
[null,{"$f":"IF(C302=\"\",\"\",IF(COUNTIF($C$3:C302, C302)>1, \"\", C302))","v":""},{"$f":"IF(G302=\"\",\"\",IF(F302=\"\",\"\",CONCATENATE(DIGITADOR!$M$1,G302,E302)))","v":""},"",{"$f":"IF(F302=\"\",\"\",VLOOKUP(F302,referentes!$Q$2:$T$200,3,FALSE))","v":""},null,null,null,""]
[null,{"$f":"IF(C303=\"\",\"\",IF(COUNTIF($C$3:C303, C303)>1, \"\", C303))","v":""},{"$f":"IF(G303=\"\",\"\",IF(F303=\"\",\"\",CONCATENATE(DIGITADOR!$M$1,G303,E303)))","v":""},"",{"$f":"IF(F303=\"\",\"\",VLOOKUP(F303,referentes!$Q$2:$T$200,3,FALSE))","v":""},null,null,null,""]
[null,{"$f":"IF(C304=\"\",\"\",IF(COUNTIF($C$3:C304, C304)>1, \"\", C304))","v":""},{"$f":"IF(G304=\"\",\"\",IF(F304=\"\",\"\",CONCATENATE(DIGITADOR!$M$1,G304,E304)))","v":""},"",{"$f":"IF(F304=\"\",\"\",VLOOKUP(F304,referentes!$Q$2:$T$200,3,FALSE))","v":""},null,null,null,""]
[null,{"$f":"IF(C305=\"\",\"\",IF(COUNTIF($C$3:C305, C305)>1, \"\", C305))","v":""},{"$f":"IF(G305=\"\",\"\",IF(F305=\"\",\"\",CONCATENATE(DIGITADOR!$M$1,G305,E305)))","v":""},"",{"$f":"IF(F305=\"\",\"\",VLOOKUP(F305,referentes!$Q$2:$T$200,3,FALSE))","v":""},null,null,null,""]
[null,{"$f":"IF(C306=\"\",\"\",IF(COUNTIF($C$3:C306, C306)>1, \"\", C306))","v":""},{"$f":"IF(G306=\"\",\"\",IF(F306=\"\",\"\",CONCATENATE(DIGITADOR!$M$1,G306,E306)))","v":""},"",{"$f":"IF(F306=\"\",\"\",VLOOKUP(F306,referentes!$Q$2:$T$200,3,FALSE))","v":""},null,null,null,""]
[null,{"$f":"IF(C307=\"\",\"\",IF(COUNTIF($C$3:C307, C307)>1, \"\", C307))","v":""},{"$f":"IF(G307=\"\",\"\",IF(F307=\"\",\"\",CONCATENATE(DIGITADOR!$M$1,G307,E307)))","v":""},"",{"$f":"IF(F307=\"\",\"\",VLOOKUP(F307,referentes!$Q$2:$T$200,3,FALSE))","v":""},null,null,null,""]
[null,{"$f":"IF(C308=\"\",\"\",IF(COUNTIF($C$3:C308, C308)>1, \"\", C308))","v":""},{"$f":"IF(G308=\"\",\"\",IF(F308=\"\",\"\",CONCATENATE(DIGITADOR!$M$1,G308,E308)))","v":""},"",{"$f":"IF(F308=\"\",\"\",VLOOKUP(F308,referentes!$Q$2:$T$200,3,FALSE))","v":""},null,null,null,""]
[null,{"$f":"IF(C309=\"\",\"\",IF(COUNTIF($C$3:C309, C309)>1, \"\", C309))","v":""},{"$f":"IF(G309=\"\",\"\",IF(F309=\"\",\"\",CONCATENATE(DIGITADOR!$M$1,G309,E309)))","v":""},"",{"$f":"IF(F309=\"\",\"\",VLOOKUP(F309,referentes!$Q$2:$T$200,3,FALSE))","v":""},null,null,null,""]
[null,{"$f":"IF(C310=\"\",\"\",IF(COUNTIF($C$3:C310, C310)>1, \"\", C310))","v":""},{"$f":"IF(G310=\"\",\"\",IF(F310=\"\",\"\",CONCATENATE(DIGITADOR!$M$1,G310,E310)))","v":""},"",{"$f":"IF(F310=\"\",\"\",VLOOKUP(F310,referentes!$Q$2:$T$200,3,FALSE))","v":""},null,null,null,""]
[null,{"$f":"IF(C311=\"\",\"\",IF(COUNTIF($C$3:C311, C311)>1, \"\", C311))","v":""},{"$f":"IF(G311=\"\",\"\",IF(F311=\"\",\"\",CONCATENATE(DIGITADOR!$M$1,G311,E311)))","v":""},"",{"$f":"IF(F311=\"\",\"\",VLOOKUP(F311,referentes!$Q$2:$T$200,3,FALSE))","v":""},null,null,null,""]
[null,{"$f":"IF(C312=\"\",\"\",IF(COUNTIF($C$3:C312, C312)>1, \"\", C312))","v":""},{"$f":"IF(G312=\"\",\"\",IF(F312=\"\",\"\",CONCATENATE(DIGITADOR!$M$1,G312,E312)))","v":""},"",{"$f":"IF(F312=\"\",\"\",VLOOKUP(F312,referentes!$Q$2:$T$200,3,FALSE))","v":""},null,null,null,""]
[null,{"$f":"IF(C313=\"\",\"\",IF(COUNTIF($C$3:C313, C313)>1, \"\", C313))","v":""},{"$f":"IF(G313=\"\",\"\",IF(F313=\"\",\"\",CONCATENATE(DIGITADOR!$M$1,G313,E313)))","v":""},"",{"$f":"IF(F313=\"\",\"\",VLOOKUP(F313,referentes!$Q$2:$T$200,3,FALSE))","v":""},null,null,null,""]
[null,{"$f":"IF(C314=\"\",\"\",IF(COUNTIF($C$3:C314, C314)>1, \"\", C314))","v":""},{"$f":"IF(G314=\"\",\"\",IF(F314=\"\",\"\",CONCATENATE(DIGITADOR!$M$1,G314,E314)))","v":""},"",{"$f":"IF(F314=\"\",\"\",VLOOKUP(F314,referentes!$Q$2:$T$200,3,FALSE))","v":""},null,null,null,""]
[null,{"$f":"IF(C315=\"\",\"\",IF(COUNTIF($C$3:C315, C315)>1, \"\", C315))","v":""},{"$f":"IF(G315=\"\",\"\",IF(F315=\"\",\"\",CONCATENATE(DIGITADOR!$M$1,G315,E315)))","v":""},"",{"$f":"IF(F315=\"\",\"\",VLOOKUP(F315,referentes!$Q$2:$T$200,3,FALSE))","v":""},null,null,null,""]
[null,{"$f":"IF(C316=\"\",\"\",IF(COUNTIF($C$3:C316, C316)>1, \"\", C316))","v":""},{"$f":"IF(G316=\"\",\"\",IF(F316=\"\",\"\",CONCATENATE(DIGITADOR!$M$1,G316,E316)))","v":""},"",{"$f":"IF(F316=\"\",\"\",VLOOKUP(F316,referentes!$Q$2:$T$200,3,FALSE))","v":""},null,null,null,""]
[null,{"$f":"IF(C317=\"\",\"\",IF(COUNTIF($C$3:C317, C317)>1, \"\", C317))","v":""},{"$f":"IF(G317=\"\",\"\",IF(F317=\"\",\"\",CONCATENATE(DIGITADOR!$M$1,G317,E317)))","v":""},"",{"$f":"IF(F317=\"\",\"\",VLOOKUP(F317,referentes!$Q$2:$T$200,3,FALSE))","v":""},null,null,null,""]
[null,{"$f":"IF(C318=\"\",\"\",IF(COUNTIF($C$3:C318, C318)>1, \"\", C318))","v":""},{"$f":"IF(G318=\"\",\"\",IF(F318=\"\",\"\",CONCATENATE(DIGITADOR!$M$1,G318,E318)))","v":""},"",{"$f":"IF(F318=\"\",\"\",VLOOKUP(F318,referentes!$Q$2:$T$200,3,FALSE))","v":""},null,null,null,""]
[null,{"$f":"IF(C319=\"\",\"\",IF(COUNTIF($C$3:C319, C319)>1, \"\", C319))","v":""},{"$f":"IF(G319=\"\",\"\",IF(F319=\"\",\"\",CONCATENATE(DIGITADOR!$M$1,G319,E319)))","v":""},"",{"$f":"IF(F319=\"\",\"\",VLOOKUP(F319,referentes!$Q$2:$T$200,3,FALSE))","v":""},null,null,null,""]
[null,{"$f":"IF(C320=\"\",\"\",IF(COUNTIF($C$3:C320, C320)>1, \"\", C320))","v":""},{"$f":"IF(G320=\"\",\"\",IF(F320=\"\",\"\",CONCATENATE(DIGITADOR!$M$1,G320,E320)))","v":""},"",{"$f":"IF(F320=\"\",\"\",VLOOKUP(F320,referentes!$Q$2:$T$200,3,FALSE))","v":""},null,null,null,""]
[null,{"$f":"IF(C321=\"\",\"\",IF(COUNTIF($C$3:C321, C321)>1, \"\", C321))","v":""},{"$f":"IF(G321=\"\",\"\",IF(F321=\"\",\"\",CONCATENATE(DIGITADOR!$M$1,G321,E321)))","v":""},"",{"$f":"IF(F321=\"\",\"\",VLOOKUP(F321,referentes!$Q$2:$T$200,3,FALSE))","v":""},null,null,null,""]
[null,{"$f":"IF(C322=\"\",\"\",IF(COUNTIF($C$3:C322, C322)>1, \"\", C322))","v":""},{"$f":"IF(G322=\"\",\"\",IF(F322=\"\",\"\",CONCATENATE(DIGITADOR!$M$1,G322,E322)))","v":""},"",{"$f":"IF(F322=\"\",\"\",VLOOKUP(F322,referentes!$Q$2:$T$200,3,FALSE))","v":""},null,null,null,""]
[null,{"$f":"IF(C323=\"\",\"\",IF(COUNTIF($C$3:C323, C323)>1, \"\", C323))","v":""},{"$f":"IF(G323=\"\",\"\",IF(F323=\"\",\"\",CONCATENATE(DIGITADOR!$M$1,G323,E323)))","v":""},"",{"$f":"IF(F323=\"\",\"\",VLOOKUP(F323,referentes!$Q$2:$T$200,3,FALSE))","v":""},null,null,null,""]
[null,{"$f":"IF(C324=\"\",\"\",IF(COUNTIF($C$3:C324, C324)>1, \"\", C324))","v":""},{"$f":"IF(G324=\"\",\"\",IF(F324=\"\",\"\",CONCATENATE(DIGITADOR!$M$1,G324,E324)))","v":""},{"$f":"IF(C324=\"\",\"\",CONCATENATE(C324,ROW()-2))","v":""},{"$f":"IF(F324=\"\",\"\",VLOOKUP(F324,referentes!$Q$2:$T$200,3,FALSE))","v":""},null,null,null,{"$f":"IF(G324<>\"\", G324 + H324, \"\")","v":""}]
[null,{"$f":"IF(C325=\"\",\"\",IF(COUNTIF($C$3:C325, C325)>1, \"\", C325))","v":""},{"$f":"IF(G325=\"\",\"\",IF(F325=\"\",\"\",CONCATENATE(DIGITADOR!$M$1,G325,E325)))","v":""},"",{"$f":"IF(F325=\"\",\"\",VLOOKUP(F325,referentes!$Q$2:$T$200,3,FALSE))","v":""},null,null,null,""]
[null,{"$f":"IF(C326=\"\",\"\",IF(COUNTIF($C$3:C326, C326)>1, \"\", C326))","v":""},{"$f":"IF(G326=\"\",\"\",IF(F326=\"\",\"\",CONCATENATE(DIGITADOR!$M$1,G326,E326)))","v":""},"",{"$f":"IF(F326=\"\",\"\",VLOOKUP(F326,referentes!$Q$2:$T$200,3,FALSE))","v":""},null,null,null,""]
[null,{"$f":"IF(C327=\"\",\"\",IF(COUNTIF($C$3:C327, C327)>1, \"\", C327))","v":""},{"$f":"IF(G327=\"\",\"\",IF(F327=\"\",\"\",CONCATENATE(DIGITADOR!$M$1,G327,E327)))","v":""},"",{"$f":"IF(F327=\"\",\"\",VLOOKUP(F327,referentes!$Q$2:$T$200,3,FALSE))","v":""},null,null,null,""]
[null,{"$f":"IF(C328=\"\",\"\",IF(COUNTIF($C$3:C328, C328)>1, \"\", C328))","v":""},{"$f":"IF(G328=\"\",\"\",IF(F328=\"\",\"\",CONCATENATE(DIGITADOR!$M$1,G328,E328)))","v":""},"",{"$f":"IF(F328=\"\",\"\",VLOOKUP(F328,referentes!$Q$2:$T$200,3,FALSE))","v":""},null,null,null,""]
[null,{"$f":"IF(C329=\"\",\"\",IF(COUNTIF($C$3:C329, C329)>1, \"\", C329))","v":""},{"$f":"IF(G329=\"\",\"\",IF(F329=\"\",\"\",CONCATENATE(DIGITADOR!$M$1,G329,E329)))","v":""},"",{"$f":"IF(F329=\"\",\"\",VLOOKUP(F329,referentes!$Q$2:$T$200,3,FALSE))","v":""},null,null,null,""]
[null,{"$f":"IF(C330=\"\",\"\",IF(COUNTIF($C$3:C330, C330)>1, \"\", C330))","v":""},{"$f":"IF(G330=\"\",\"\",IF(F330=\"\",\"\",CONCATENATE(DIGITADOR!$M$1,G330,E330)))","v":""},"",{"$f":"IF(F330=\"\",\"\",VLOOKUP(F330,referentes!$Q$2:$T$200,3,FALSE))","v":""},null,null,null,""]
[null,{"$f":"IF(C331=\"\",\"\",IF(COUNTIF($C$3:C331, C331)>1, \"\", C331))","v":""},{"$f":"IF(G331=\"\",\"\",IF(F331=\"\",\"\",CONCATENATE(DIGITADOR!$M$1,G331,E331)))","v":""},"",{"$f":"IF(F331=\"\",\"\",VLOOKUP(F331,referentes!$Q$2:$T$200,3,FALSE))","v":""},null,null,null,""]
[null,{"$f":"IF(C332=\"\",\"\",IF(COUNTIF($C$3:C332, C332)>1, \"\", C332))","v":""},{"$f":"IF(G332=\"\",\"\",IF(F332=\"\",\"\",CONCATENATE(DIGITADOR!$M$1,G332,E332)))","v":""},"",{"$f":"IF(F332=\"\",\"\",VLOOKUP(F332,referentes!$Q$2:$T$200,3,FALSE))","v":""},null,null,null,""]
[null,{"$f":"IF(C333=\"\",\"\",IF(COUNTIF($C$3:C333, C333)>1, \"\", C333))","v":""},{"$f":"IF(G333=\"\",\"\",IF(F333=\"\",\"\",CONCATENATE(DIGITADOR!$M$1,G333,E333)))","v":""},"",{"$f":"IF(F333=\"\",\"\",VLOOKUP(F333,referentes!$Q$2:$T$200,3,FALSE))","v":""},null,null,null,""]
[null,{"$f":"IF(C334=\"\",\"\",IF(COUNTIF($C$3:C334, C334)>1, \"\", C334))","v":""},{"$f":"IF(G334=\"\",\"\",IF(F334=\"\",\"\",CONCATENATE(DIGITADOR!$M$1,G334,E334)))","v":""},"",{"$f":"IF(F334=\"\",\"\",VLOOKUP(F334,referentes!$Q$2:$T$200,3,FALSE))","v":""},null,null,null,""]
[null,{"$f":"IF(C335=\"\",\"\",IF(COUNTIF($C$3:C335, C335)>1, \"\", C335))","v":""},{"$f":"IF(G335=\"\",\"\",IF(F335=\"\",\"\",CONCATENATE(DIGITADOR!$M$1,G335,E335)))","v":""},"",{"$f":"IF(F335=\"\",\"\",VLOOKUP(F335,referentes!$Q$2:$T$200,3,FALSE))","v":""},null,null,null,""]
[null,{"$f":"IF(C336=\"\",\"\",IF(COUNTIF($C$3:C336, C336)>1, \"\", C336))","v":""},{"$f":"IF(G336=\"\",\"\",IF(F336=\"\",\"\",CONCATENATE(DIGITADOR!$M$1,G336,E336)))","v":""},"",{"$f":"IF(F336=\"\",\"\",VLOOKUP(F336,referentes!$Q$2:$T$200,3,FALSE))","v":""},null,null,null,""]
[null,{"$f":"IF(C337=\"\",\"\",IF(COUNTIF($C$3:C337, C337)>1, \"\", C337))","v":""},{"$f":"IF(G337=\"\",\"\",IF(F337=\"\",\"\",CONCATENATE(DIGITADOR!$M$1,G337,E337)))","v":""},"",{"$f":"IF(F337=\"\",\"\",VLOOKUP(F337,referentes!$Q$2:$T$200,3,FALSE))","v":""},null,null,null,""]
[null,{"$f":"IF(C338=\"\",\"\",IF(COUNTIF($C$3:C338, C338)>1, \"\", C338))","v":""},{"$f":"IF(G338=\"\",\"\",IF(F338=\"\",\"\",CONCATENATE(DIGITADOR!$M$1,G338,E338)))","v":""},"",{"$f":"IF(F338=\"\",\"\",VLOOKUP(F338,referentes!$Q$2:$T$200,3,FALSE))","v":""},null,null,null,""]
[null,{"$f":"IF(C339=\"\",\"\",IF(COUNTIF($C$3:C339, C339)>1, \"\", C339))","v":""},{"$f":"IF(G339=\"\",\"\",IF(F339=\"\",\"\",CONCATENATE(DIGITADOR!$M$1,G339,E339)))","v":""},"",{"$f":"IF(F339=\"\",\"\",VLOOKUP(F339,referentes!$Q$2:$T$200,3,FALSE))","v":""},null,null,null,""]
[null,{"$f":"IF(C340=\"\",\"\",IF(COUNTIF($C$3:C340, C340)>1, \"\", C340))","v":""},{"$f":"IF(G340=\"\",\"\",IF(F340=\"\",\"\",CONCATENATE(DIGITADOR!$M$1,G340,E340)))","v":""},"",{"$f":"IF(F340=\"\",\"\",VLOOKUP(F340,referentes!$Q$2:$T$200,3,FALSE))","v":""},null,null,null,""]
[null,{"$f":"IF(C341=\"\",\"\",IF(COUNTIF($C$3:C341, C341)>1, \"\", C341))","v":""},{"$f":"IF(G341=\"\",\"\",IF(F341=\"\",\"\",CONCATENATE(DIGITADOR!$M$1,G341,E341)))","v":""},"",{"$f":"IF(F341=\"\",\"\",VLOOKUP(F341,referentes!$Q$2:$T$200,3,FALSE))","v":""},null,null,null,""]
[null,{"$f":"IF(C342=\"\",\"\",IF(COUNTIF($C$3:C342, C342)>1, \"\", C342))","v":""},{"$f":"IF(G342=\"\",\"\",IF(F342=\"\",\"\",CONCATENATE(DIGITADOR!$M$1,G342,E342)))","v":""},"",{"$f":"IF(F342=\"\",\"\",VLOOKUP(F342,referentes!$Q$2:$T$200,3,FALSE))","v":""},null,null,null,""]
[null,{"$f":"IF(C343=\"\",\"\",IF(COUNTIF($C$3:C343, C343)>1, \"\", C343))","v":""},{"$f":"IF(G343=\"\",\"\",IF(F343=\"\",\"\",CONCATENATE(DIGITADOR!$M$1,G343,E343)))","v":""},"",{"$f":"IF(F343=\"\",\"\",VLOOKUP(F343,referentes!$Q$2:$T$200,3,FALSE))","v":""},null,null,null,""]
[null,{"$f":"IF(C344=\"\",\"\",IF(COUNTIF($C$3:C344, C344)>1, \"\", C344))","v":""},{"$f":"IF(G344=\"\",\"\",IF(F344=\"\",\"\",CONCATENATE(DIGITADOR!$M$1,G344,E344)))","v":""},"",{"$f":"IF(F344=\"\",\"\",VLOOKUP(F344,referentes!$Q$2:$T$200,3,FALSE))","v":""},null,null,null,""]
[null,{"$f":"IF(C345=\"\",\"\",IF(COUNTIF($C$3:C345, C345)>1, \"\", C345))","v":""},{"$f":"IF(G345=\"\",\"\",IF(F345=\"\",\"\",CONCATENATE(DIGITADOR!$M$1,G345,E345)))","v":""},"",{"$f":"IF(F345=\"\",\"\",VLOOKUP(F345,referentes!$Q$2:$T$200,3,FALSE))","v":""},null,null,null,""]
[null,{"$f":"IF(C346=\"\",\"\",IF(COUNTIF($C$3:C346, C346)>1, \"\", C346))","v":""},{"$f":"IF(G346=\"\",\"\",IF(F346=\"\",\"\",CONCATENATE(DIGITADOR!$M$1,G346,E346)))","v":""},"",{"$f":"IF(F346=\"\",\"\",VLOOKUP(F346,referentes!$Q$2:$T$200,3,FALSE))","v":""},null,null,null,""]
[null,{"$f":"IF(C347=\"\",\"\",IF(COUNTIF($C$3:C347, C347)>1, \"\", C347))","v":""},{"$f":"IF(G347=\"\",\"\",IF(F347=\"\",\"\",CONCATENATE(DIGITADOR!$M$1,G347,E347)))","v":""},"",{"$f":"IF(F347=\"\",\"\",VLOOKUP(F347,referentes!$Q$2:$T$200,3,FALSE))","v":""},null,null,null,""]
[null,{"$f":"IF(C348=\"\",\"\",IF(COUNTIF($C$3:C348, C348)>1, \"\", C348))","v":""},{"$f":"IF(G348=\"\",\"\",IF(F348=\"\",\"\",CONCATENATE(DIGITADOR!$M$1,G348,E348)))","v":""},"",{"$f":"IF(F348=\"\",\"\",VLOOKUP(F348,referentes!$Q$2:$T$200,3,FALSE))","v":""},null,null,null,""]
[null,{"$f":"IF(C349=\"\",\"\",IF(COUNTIF($C$3:C349, C349)>1, \"\", C349))","v":""},{"$f":"IF(G349=\"\",\"\",IF(F349=\"\",\"\",CONCATENATE(DIGITADOR!$M$1,G349,E349)))","v":""},"",{"$f":"IF(F349=\"\",\"\",VLOOKUP(F349,referentes!$Q$2:$T$200,3,FALSE))","v":""},null,null,null,""]
[null,{"$f":"IF(C350=\"\",\"\",IF(COUNTIF($C$3:C350, C350)>1, \"\", C350))","v":""},{"$f":"IF(G350=\"\",\"\",IF(F350=\"\",\"\",CONCATENATE(DIGITADOR!$M$1,G350,E350)))","v":""},"",{"$f":"IF(F350=\"\",\"\",VLOOKUP(F350,referentes!$Q$2:$T$200,3,FALSE))","v":""},null,null,null,""]
[null,{"$f":"IF(C351=\"\",\"\",IF(COUNTIF($C$3:C351, C351)>1, \"\", C351))","v":""},{"$f":"IF(G351=\"\",\"\",IF(F351=\"\",\"\",CONCATENATE(DIGITADOR!$M$1,G351,E351)))","v":""},"",{"$f":"IF(F351=\"\",\"\",VLOOKUP(F351,referentes!$Q$2:$T$200,3,FALSE))","v":""},null,null,null,""]
[null,{"$f":"IF(C352=\"\",\"\",IF(COUNTIF($C$3:C352, C352)>1, \"\", C352))","v":""},{"$f":"IF(G352=\"\",\"\",IF(F352=\"\",\"\",CONCATENATE(DIGITADOR!$M$1,G352,E352)))","v":""},"",{"$f":"IF(F352=\"\",\"\",VLOOKUP(F352,referentes!$Q$2:$T$200,3,FALSE))","v":""},null,null,null,""]
[null,{"$f":"IF(C353=\"\",\"\",IF(COUNTIF($C$3:C353, C353)>1, \"\", C353))","v":""},{"$f":"IF(G353=\"\",\"\",IF(F353=\"\",\"\",CONCATENATE(DIGITADOR!$M$1,G353,E353)))","v":""},"",{"$f":"IF(F353=\"\",\"\",VLOOKUP(F353,referentes!$Q$2:$T$200,3,FALSE))","v":""},null,null,null,""]
[null,{"$f":"IF(C354=\"\",\"\",IF(COUNTIF($C$3:C354, C354)>1, \"\", C354))","v":""},{"$f":"IF(G354=\"\",\"\",IF(F354=\"\",\"\",CONCATENATE(DIGITADOR!$M$1,G354,E354)))","v":""},"",{"$f":"IF(F354=\"\",\"\",VLOOKUP(F354,referentes!$Q$2:$T$200,3,FALSE))","v":""},null,null,null,""]
[null,{"$f":"IF(C355=\"\",\"\",IF(COUNTIF($C$3:C355, C355)>1, \"\", C355))","v":""},{"$f":"IF(G355=\"\",\"\",IF(F355=\"\",\"\",CONCATENATE(DIGITADOR!$M$1,G355,E355)))","v":""},"",{"$f":"IF(F355=\"\",\"\",VLOOKUP(F355,referentes!$Q$2:$T$200,3,FALSE))","v":""},null,null,null,""]
[null,{"$f":"IF(C356=\"\",\"\",IF(COUNTIF($C$3:C356, C356)>1, \"\", C356))","v":""},{"$f":"IF(G356=\"\",\"\",IF(F356=\"\",\"\",CONCATENATE(DIGITADOR!$M$1,G356,E356)))","v":""},"",{"$f":"IF(F356=\"\",\"\",VLOOKUP(F356,referentes!$Q$2:$T$200,3,FALSE))","v":""},null,null,null,""]
[null,{"$f":"IF(C357=\"\",\"\",IF(COUNTIF($C$3:C357, C357)>1, \"\", C357))","v":""},{"$f":"IF(G357=\"\",\"\",IF(F357=\"\",\"\",CONCATENATE(DIGITADOR!$M$1,G357,E357)))","v":""},"",{"$f":"IF(F357=\"\",\"\",VLOOKUP(F357,referentes!$Q$2:$T$200,3,FALSE))","v":""},null,null,null,""]
[null,{"$f":"IF(C358=\"\",\"\",IF(COUNTIF($C$3:C358, C358)>1, \"\", C358))","v":""},{"$f":"IF(G358=\"\",\"\",IF(F358=\"\",\"\",CONCATENATE(DIGITADOR!$M$1,G358,E358)))","v":""},"",{"$f":"IF(F358=\"\",\"\",VLOOKUP(F358,referentes!$Q$2:$T$200,3,FALSE))","v":""},null,null,null,""]
[null,{"$f":"IF(C359=\"\",\"\",IF(COUNTIF($C$3:C359, C359)>1, \"\", C359))","v":""},{"$f":"IF(G359=\"\",\"\",IF(F359=\"\",\"\",CONCATENATE(DIGITADOR!$M$1,G359,E359)))","v":""},"",{"$f":"IF(F359=\"\",\"\",VLOOKUP(F359,referentes!$Q$2:$T$200,3,FALSE))","v":""},null,null,null,""]
[null,{"$f":"IF(C360=\"\",\"\",IF(COUNTIF($C$3:C360, C360)>1, \"\", C360))","v":""},{"$f":"IF(G360=\"\",\"\",IF(F360=\"\",\"\",CONCATENATE(DIGITADOR!$M$1,G360,E360)))","v":""},"",{"$f":"IF(F360=\"\",\"\",VLOOKUP(F360,referentes!$Q$2:$T$200,3,FALSE))","v":""},null,null,null,""]
[null,{"$f":"IF(C361=\"\",\"\",IF(COUNTIF($C$3:C361, C361)>1, \"\", C361))","v":""},{"$f":"IF(G361=\"\",\"\",IF(F361=\"\",\"\",CONCATENATE(DIGITADOR!$M$1,G361,E361)))","v":""},"",{"$f":"IF(F361=\"\",\"\",VLOOKUP(F361,referentes!$Q$2:$T$200,3,FALSE))","v":""},null,null,null,""]
[null,{"$f":"IF(C362=\"\",\"\",IF(COUNTIF($C$3:C362, C362)>1, \"\", C362))","v":""},{"$f":"IF(G362=\"\",\"\",IF(F362=\"\",\"\",CONCATENATE(DIGITADOR!$M$1,G362,E362)))","v":""},"",{"$f":"IF(F362=\"\",\"\",VLOOKUP(F362,referentes!$Q$2:$T$200,3,FALSE))","v":""},null,null,null,""]
[null,{"$f":"IF(C363=\"\",\"\",IF(COUNTIF($C$3:C363, C363)>1, \"\", C363))","v":""},{"$f":"IF(G363=\"\",\"\",IF(F363=\"\",\"\",CONCATENATE(DIGITADOR!$M$1,G363,E363)))","v":""},"",{"$f":"IF(F363=\"\",\"\",VLOOKUP(F363,referentes!$Q$2:$T$200,3,FALSE))","v":""},null,null,null,""]
[null,{"$f":"IF(C364=\"\",\"\",IF(COUNTIF($C$3:C364, C364)>1, \"\", C364))","v":""},{"$f":"IF(G364=\"\",\"\",IF(F364=\"\",\"\",CONCATENATE(DIGITADOR!$M$1,G364,E364)))","v":""},"",{"$f":"IF(F364=\"\",\"\",VLOOKUP(F364,referentes!$Q$2:$T$200,3,FALSE))","v":""},null,null,null,""]
[null,{"$f":"IF(C365=\"\",\"\",IF(COUNTIF($C$3:C365, C365)>1, \"\", C365))","v":""},{"$f":"IF(G365=\"\",\"\",IF(F365=\"\",\"\",CONCATENATE(DIGITADOR!$M$1,G365,E365)))","v":""},"",{"$f":"IF(F365=\"\",\"\",VLOOKUP(F365,referentes!$Q$2:$T$200,3,FALSE))","v":""},null,null,null,""]
[null,{"$f":"IF(C366=\"\",\"\",IF(COUNTIF($C$3:C366, C366)>1, \"\", C366))","v":""},{"$f":"IF(G366=\"\",\"\",IF(F366=\"\",\"\",CONCATENATE(DIGITADOR!$M$1,G366,E366)))","v":""},"",{"$f":"IF(F366=\"\",\"\",VLOOKUP(F366,referentes!$Q$2:$T$200,3,FALSE))","v":""},null,null,null,""]
[null,{"$f":"IF(C367=\"\",\"\",IF(COUNTIF($C$3:C367, C367)>1, \"\", C367))","v":""},{"$f":"IF(G367=\"\",\"\",IF(F367=\"\",\"\",CONCATENATE(DIGITADOR!$M$1,G367,E367)))","v":""},"",{"$f":"IF(F367=\"\",\"\",VLOOKUP(F367,referentes!$Q$2:$T$200,3,FALSE))","v":""},null,null,null,""]
[null,{"$f":"IF(C368=\"\",\"\",IF(COUNTIF($C$3:C368, C368)>1, \"\", C368))","v":""},{"$f":"IF(G368=\"\",\"\",IF(F368=\"\",\"\",CONCATENATE(DIGITADOR!$M$1,G368,E368)))","v":""},"",{"$f":"IF(F368=\"\",\"\",VLOOKUP(F368,referentes!$Q$2:$T$200,3,FALSE))","v":""},null,null,null,""]
[null,{"$f":"IF(C369=\"\",\"\",IF(COUNTIF($C$3:C369, C369)>1, \"\", C369))","v":""},{"$f":"IF(G369=\"\",\"\",IF(F369=\"\",\"\",CONCATENATE(DIGITADOR!$M$1,G369,E369)))","v":""},"",{"$f":"IF(F369=\"\",\"\",VLOOKUP(F369,referentes!$Q$2:$T$200,3,FALSE))","v":""},null,null,null,""]
[null,{"$f":"IF(C370=\"\",\"\",IF(COUNTIF($C$3:C370, C370)>1, \"\", C370))","v":""},{"$f":"IF(G370=\"\",\"\",IF(F370=\"\",\"\",CONCATENATE(DIGITADOR!$M$1,G370,E370)))","v":""},"",{"$f":"IF(F370=\"\",\"\",VLOOKUP(F370,referentes!$Q$2:$T$200,3,FALSE))","v":""},null,null,null,""]
[null,{"$f":"IF(C371=\"\",\"\",IF(COUNTIF($C$3:C371, C371)>1, \"\", C371))","v":""},{"$f":"IF(G371=\"\",\"\",IF(F371=\"\",\"\",CONCATENATE(DIGITADOR!$M$1,G371,E371)))","v":""},"",{"$f":"IF(F371=\"\",\"\",VLOOKUP(F371,referentes!$Q$2:$T$200,3,FALSE))","v":""},null,null,null,""]
[null,{"$f":"IF(C372=\"\",\"\",IF(COUNTIF($C$3:C372, C372)>1, \"\", C372))","v":""},{"$f":"IF(G372=\"\",\"\",IF(F372=\"\",\"\",CONCATENATE(DIGITADOR!$M$1,G372,E372)))","v":""},"",{"$f":"IF(F372=\"\",\"\",VLOOKUP(F372,referentes!$Q$2:$T$200,3,FALSE))","v":""},null,null,null,""]
[null,{"$f":"IF(C373=\"\",\"\",IF(COUNTIF($C$3:C373, C373)>1, \"\", C373))","v":""},{"$f":"IF(G373=\"\",\"\",IF(F373=\"\",\"\",CONCATENATE(DIGITADOR!$M$1,G373,E373)))","v":""},"",{"$f":"IF(F373=\"\",\"\",VLOOKUP(F373,referentes!$Q$2:$T$200,3,FALSE))","v":""},null,null,null,""]
[null,{"$f":"IF(C374=\"\",\"\",IF(COUNTIF($C$3:C374, C374)>1, \"\", C374))","v":""},{"$f":"IF(G374=\"\",\"\",IF(F374=\"\",\"\",CONCATENATE(DIGITADOR!$M$1,G374,E374)))","v":""},"",{"$f":"IF(F374=\"\",\"\",VLOOKUP(F374,referentes!$Q$2:$T$200,3,FALSE))","v":""},null,null,null,""]
[null,{"$f":"IF(C375=\"\",\"\",IF(COUNTIF($C$3:C375, C375)>1, \"\", C375))","v":""},{"$f":"IF(G375=\"\",\"\",IF(F375=\"\",\"\",CONCATENATE(DIGITADOR!$M$1,G375,E375)))","v":""},"",{"$f":"IF(F375=\"\",\"\",VLOOKUP(F375,referentes!$Q$2:$T$200,3,FALSE))","v":""},null,null,null,""]
[null,{"$f":"IF(C376=\"\",\"\",IF(COUNTIF($C$3:C376, C376)>1, \"\", C376))","v":""},{"$f":"IF(G376=\"\",\"\",IF(F376=\"\",\"\",CONCATENATE(DIGITADOR!$M$1,G376,E376)))","v":""},"",{"$f":"IF(F376=\"\",\"\",VLOOKUP(F376,referentes!$Q$2:$T$200,3,FALSE))","v":""},null,null,null,""]
[null,{"$f":"IF(C377=\"\",\"\",IF(COUNTIF($C$3:C377, C377)>1, \"\", C377))","v":""},{"$f":"IF(G377=\"\",\"\",IF(F377=\"\",\"\",CONCATENATE(DIGITADOR!$M$1,G377,E377)))","v":""},"",{"$f":"IF(F377=\"\",\"\",VLOOKUP(F377,referentes!$Q$2:$T$200,3,FALSE))","v":""},null,null,null,""]
[null,{"$f":"IF(C378=\"\",\"\",IF(COUNTIF($C$3:C378, C378)>1, \"\", C378))","v":""},{"$f":"IF(G378=\"\",\"\",IF(F378=\"\",\"\",CONCATENATE(DIGITADOR!$M$1,G378,E378)))","v":""},"",{"$f":"IF(F378=\"\",\"\",VLOOKUP(F378,referentes!$Q$2:$T$200,3,FALSE))","v":""},null,null,null,""]
[null,{"$f":"IF(C379=\"\",\"\",IF(COUNTIF($C$3:C379, C379)>1, \"\", C379))","v":""},{"$f":"IF(G379=\"\",\"\",IF(F379=\"\",\"\",CONCATENATE(DIGITADOR!$M$1,G379,E379)))","v":""},"",{"$f":"IF(F379=\"\",\"\",VLOOKUP(F379,referentes!$Q$2:$T$200,3,FALSE))","v":""},null,null,null,""]
[null,{"$f":"IF(C380=\"\",\"\",IF(COUNTIF($C$3:C380, C380)>1, \"\", C380))","v":""},{"$f":"IF(G380=\"\",\"\",IF(F380=\"\",\"\",CONCATENATE(DIGITADOR!$M$1,G380,E380)))","v":""},"",{"$f":"IF(F380=\"\",\"\",VLOOKUP(F380,referentes!$Q$2:$T$200,3,FALSE))","v":""},null,null,null,""]
[null,{"$f":"IF(C381=\"\",\"\",IF(COUNTIF($C$3:C381, C381)>1, \"\", C381))","v":""},{"$f":"IF(G381=\"\",\"\",IF(F381=\"\",\"\",CONCATENATE(DIGITADOR!$M$1,G381,E381)))","v":""},"",{"$f":"IF(F381=\"\",\"\",VLOOKUP(F381,referentes!$Q$2:$T$200,3,FALSE))","v":""},null,null,null,""]
[null,{"$f":"IF(C382=\"\",\"\",IF(COUNTIF($C$3:C382, C382)>1, \"\", C382))","v":""},{"$f":"IF(G382=\"\",\"\",IF(F382=\"\",\"\",CONCATENATE(DIGITADOR!$M$1,G382,E382)))","v":""},"",{"$f":"IF(F382=\"\",\"\",VLOOKUP(F382,referentes!$Q$2:$T$200,3,FALSE))","v":""},null,null,null,""]
[null,{"$f":"IF(C383=\"\",\"\",IF(COUNTIF($C$3:C383, C383)>1, \"\", C383))","v":""},{"$f":"IF(G383=\"\",\"\",IF(F383=\"\",\"\",CONCATENATE(DIGITADOR!$M$1,G383,E383)))","v":""},"",{"$f":"IF(F383=\"\",\"\",VLOOKUP(F383,referentes!$Q$2:$T$200,3,FALSE))","v":""},null,null,null,""]
[null,{"$f":"IF(C384=\"\",\"\",IF(COUNTIF($C$3:C384, C384)>1, \"\", C384))","v":""},{"$f":"IF(G384=\"\",\"\",IF(F384=\"\",\"\",CONCATENATE(DIGITADOR!$M$1,G384,E384)))","v":""},"",{"$f":"IF(F384=\"\",\"\",VLOOKUP(F384,referentes!$Q$2:$T$200,3,FALSE))","v":""},null,null,null,""]
[null,{"$f":"IF(C385=\"\",\"\",IF(COUNTIF($C$3:C385, C385)>1, \"\", C385))","v":""},{"$f":"IF(G385=\"\",\"\",IF(F385=\"\",\"\",CONCATENATE(DIGITADOR!$M$1,G385,E385)))","v":""},"",{"$f":"IF(F385=\"\",\"\",VLOOKUP(F385,referentes!$Q$2:$T$200,3,FALSE))","v":""},null,null,null,""]
[null,{"$f":"IF(C386=\"\",\"\",IF(COUNTIF($C$3:C386, C386)>1, \"\", C386))","v":""},{"$f":"IF(G386=\"\",\"\",IF(F386=\"\",\"\",CONCATENATE(DIGITADOR!$M$1,G386,E386)))","v":""},"",{"$f":"IF(F386=\"\",\"\",VLOOKUP(F386,referentes!$Q$2:$T$200,3,FALSE))","v":""},null,null,null,""]
[null,{"$f":"IF(C387=\"\",\"\",IF(COUNTIF($C$3:C387, C387)>1, \"\", C387))","v":""},{"$f":"IF(G387=\"\",\"\",IF(F387=\"\",\"\",CONCATENATE(DIGITADOR!$M$1,G387,E387)))","v":""},"",{"$f":"IF(F387=\"\",\"\",VLOOKUP(F387,referentes!$Q$2:$T$200,3,FALSE))","v":""},null,null,null,""]
[null,{"$f":"IF(C388=\"\",\"\",IF(COUNTIF($C$3:C388, C388)>1, \"\", C388))","v":""},{"$f":"IF(G388=\"\",\"\",IF(F388=\"\",\"\",CONCATENATE(DIGITADOR!$M$1,G388,E388)))","v":""},{"$f":"IF(C388=\"\",\"\",CONCATENATE(C388,ROW()-2))","v":""},{"$f":"IF(F388=\"\",\"\",VLOOKUP(F388,referentes!$Q$2:$T$200,3,FALSE))","v":""},null,null,null,{"$f":"IF(G388<>\"\", G388 + H388, \"\")","v":""}]
[null,{"$f":"IF(C389=\"\",\"\",IF(COUNTIF($C$3:C389, C389)>1, \"\", C389))","v":""},{"$f":"IF(G389=\"\",\"\",IF(F389=\"\",\"\",CONCATENATE(DIGITADOR!$M$1,G389,E389)))","v":""},"",{"$f":"IF(F389=\"\",\"\",VLOOKUP(F389,referentes!$Q$2:$T$200,3,FALSE))","v":""},null,null,null,""]
[null,{"$f":"IF(C390=\"\",\"\",IF(COUNTIF($C$3:C390, C390)>1, \"\", C390))","v":""},{"$f":"IF(G390=\"\",\"\",IF(F390=\"\",\"\",CONCATENATE(DIGITADOR!$M$1,G390,E390)))","v":""},"",{"$f":"IF(F390=\"\",\"\",VLOOKUP(F390,referentes!$Q$2:$T$200,3,FALSE))","v":""},null,null,null,""]
[null,{"$f":"IF(C391=\"\",\"\",IF(COUNTIF($C$3:C391, C391)>1, \"\", C391))","v":""},{"$f":"IF(G391=\"\",\"\",IF(F391=\"\",\"\",CONCATENATE(DIGITADOR!$M$1,G391,E391)))","v":""},"",{"$f":"IF(F391=\"\",\"\",VLOOKUP(F391,referentes!$Q$2:$T$200,3,FALSE))","v":""},null,null,null,""]
[null,{"$f":"IF(C392=\"\",\"\",IF(COUNTIF($C$3:C392, C392)>1, \"\", C392))","v":""},{"$f":"IF(G392=\"\",\"\",IF(F392=\"\",\"\",CONCATENATE(DIGITADOR!$M$1,G392,E392)))","v":""},"",{"$f":"IF(F392=\"\",\"\",VLOOKUP(F392,referentes!$Q$2:$T$200,3,FALSE))","v":""},null,null,null,""]
[null,{"$f":"IF(C393=\"\",\"\",IF(COUNTIF($C$3:C393, C393)>1, \"\", C393))","v":""},{"$f":"IF(G393=\"\",\"\",IF(F393=\"\",\"\",CONCATENATE(DIGITADOR!$M$1,G393,E393)))","v":""},"",{"$f":"IF(F393=\"\",\"\",VLOOKUP(F393,referentes!$Q$2:$T$200,3,FALSE))","v":""},null,null,null,""]
[null,{"$f":"IF(C394=\"\",\"\",IF(COUNTIF($C$3:C394, C394)>1, \"\", C394))","v":""},{"$f":"IF(G394=\"\",\"\",IF(F394=\"\",\"\",CONCATENATE(DIGITADOR!$M$1,G394,E394)))","v":""},"",{"$f":"IF(F394=\"\",\"\",VLOOKUP(F394,referentes!$Q$2:$T$200,3,FALSE))","v":""},null,null,null,""]
[null,{"$f":"IF(C395=\"\",\"\",IF(COUNTIF($C$3:C395, C395)>1, \"\", C395))","v":""},{"$f":"IF(G395=\"\",\"\",IF(F395=\"\",\"\",CONCATENATE(DIGITADOR!$M$1,G395,E395)))","v":""},"",{"$f":"IF(F395=\"\",\"\",VLOOKUP(F395,referentes!$Q$2:$T$200,3,FALSE))","v":""},null,null,null,""]
[null,{"$f":"IF(C396=\"\",\"\",IF(COUNTIF($C$3:C396, C396)>1, \"\", C396))","v":""},{"$f":"IF(G396=\"\",\"\",IF(F396=\"\",\"\",CONCATENATE(DIGITADOR!$M$1,G396,E396)))","v":""},"",{"$f":"IF(F396=\"\",\"\",VLOOKUP(F396,referentes!$Q$2:$T$200,3,FALSE))","v":""},null,null,null,""]
[null,{"$f":"IF(C397=\"\",\"\",IF(COUNTIF($C$3:C397, C397)>1, \"\", C397))","v":""},{"$f":"IF(G397=\"\",\"\",IF(F397=\"\",\"\",CONCATENATE(DIGITADOR!$M$1,G397,E397)))","v":""},"",{"$f":"IF(F397=\"\",\"\",VLOOKUP(F397,referentes!$Q$2:$T$200,3,FALSE))","v":""},null,null,null,""]
[null,{"$f":"IF(C398=\"\",\"\",IF(COUNTIF($C$3:C398, C398)>1, \"\", C398))","v":""},{"$f":"IF(G398=\"\",\"\",IF(F398=\"\",\"\",CONCATENATE(DIGITADOR!$M$1,G398,E398)))","v":""},"",{"$f":"IF(F398=\"\",\"\",VLOOKUP(F398,referentes!$Q$2:$T$200,3,FALSE))","v":""},null,null,null,""]
[null,{"$f":"IF(C399=\"\",\"\",IF(COUNTIF($C$3:C399, C399)>1, \"\", C399))","v":""},{"$f":"IF(G399=\"\",\"\",IF(F399=\"\",\"\",CONCATENATE(DIGITADOR!$M$1,G399,E399)))","v":""},"",{"$f":"IF(F399=\"\",\"\",VLOOKUP(F399,referentes!$Q$2:$T$200,3,FALSE))","v":""},null,null,null,""]
[null,{"$f":"IF(C400=\"\",\"\",IF(COUNTIF($C$3:C400, C400)>1, \"\", C400))","v":""},{"$f":"IF(G400=\"\",\"\",IF(F400=\"\",\"\",CONCATENATE(DIGITADOR!$M$1,G400,E400)))","v":""},"",{"$f":"IF(F400=\"\",\"\",VLOOKUP(F400,referentes!$Q$2:$T$200,3,FALSE))","v":""},null,null,null,""]
[null,{"$f":"IF(C401=\"\",\"\",IF(COUNTIF($C$3:C401, C401)>1, \"\", C401))","v":""},{"$f":"IF(G401=\"\",\"\",IF(F401=\"\",\"\",CONCATENATE(DIGITADOR!$M$1,G401,E401)))","v":""},"",{"$f":"IF(F401=\"\",\"\",VLOOKUP(F401,referentes!$Q$2:$T$200,3,FALSE))","v":""},null,null,null,""]
[null,{"$f":"IF(C402=\"\",\"\",IF(COUNTIF($C$3:C402, C402)>1, \"\", C402))","v":""},{"$f":"IF(G402=\"\",\"\",IF(F402=\"\",\"\",CONCATENATE(DIGITADOR!$M$1,G402,E402)))","v":""},"",{"$f":"IF(F402=\"\",\"\",VLOOKUP(F402,referentes!$Q$2:$T$200,3,FALSE))","v":""},null,null,null,""]
[null,{"$f":"IF(C403=\"\",\"\",IF(COUNTIF($C$3:C403, C403)>1, \"\", C403))","v":""},{"$f":"IF(G403=\"\",\"\",IF(F403=\"\",\"\",CONCATENATE(DIGITADOR!$M$1,G403,E403)))","v":""},"",{"$f":"IF(F403=\"\",\"\",VLOOKUP(F403,referentes!$Q$2:$T$200,3,FALSE))","v":""},null,null,null,""]
[null,{"$f":"IF(C404=\"\",\"\",IF(COUNTIF($C$3:C404, C404)>1, \"\", C404))","v":""},{"$f":"IF(G404=\"\",\"\",IF(F404=\"\",\"\",CONCATENATE(DIGITADOR!$M$1,G404,E404)))","v":""},"",{"$f":"IF(F404=\"\",\"\",VLOOKUP(F404,referentes!$Q$2:$T$200,3,FALSE))","v":""},null,null,null,""]
[null,{"$f":"IF(C405=\"\",\"\",IF(COUNTIF($C$3:C405, C405)>1, \"\", C405))","v":""},{"$f":"IF(G405=\"\",\"\",IF(F405=\"\",\"\",CONCATENATE(DIGITADOR!$M$1,G405,E405)))","v":""},"",{"$f":"IF(F405=\"\",\"\",VLOOKUP(F405,referentes!$Q$2:$T$200,3,FALSE))","v":""},null,null,null,""]
[null,{"$f":"IF(C406=\"\",\"\",IF(COUNTIF($C$3:C406, C406)>1, \"\", C406))","v":""},{"$f":"IF(G406=\"\",\"\",IF(F406=\"\",\"\",CONCATENATE(DIGITADOR!$M$1,G406,E406)))","v":""},"",{"$f":"IF(F406=\"\",\"\",VLOOKUP(F406,referentes!$Q$2:$T$200,3,FALSE))","v":""},null,null,null,""]
[null,{"$f":"IF(C407=\"\",\"\",IF(COUNTIF($C$3:C407, C407)>1, \"\", C407))","v":""},{"$f":"IF(G407=\"\",\"\",IF(F407=\"\",\"\",CONCATENATE(DIGITADOR!$M$1,G407,E407)))","v":""},"",{"$f":"IF(F407=\"\",\"\",VLOOKUP(F407,referentes!$Q$2:$T$200,3,FALSE))","v":""},null,null,null,""]
[null,{"$f":"IF(C408=\"\",\"\",IF(COUNTIF($C$3:C408, C408)>1, \"\", C408))","v":""},{"$f":"IF(G408=\"\",\"\",IF(F408=\"\",\"\",CONCATENATE(DIGITADOR!$M$1,G408,E408)))","v":""},"",{"$f":"IF(F408=\"\",\"\",VLOOKUP(F408,referentes!$Q$2:$T$200,3,FALSE))","v":""},null,null,null,""]
[null,{"$f":"IF(C409=\"\",\"\",IF(COUNTIF($C$3:C409, C409)>1, \"\", C409))","v":""},{"$f":"IF(G409=\"\",\"\",IF(F409=\"\",\"\",CONCATENATE(DIGITADOR!$M$1,G409,E409)))","v":""},"",{"$f":"IF(F409=\"\",\"\",VLOOKUP(F409,referentes!$Q$2:$T$200,3,FALSE))","v":""},null,null,null,""]
[null,{"$f":"IF(C410=\"\",\"\",IF(COUNTIF($C$3:C410, C410)>1, \"\", C410))","v":""},{"$f":"IF(G410=\"\",\"\",IF(F410=\"\",\"\",CONCATENATE(DIGITADOR!$M$1,G410,E410)))","v":""},"",{"$f":"IF(F410=\"\",\"\",VLOOKUP(F410,referentes!$Q$2:$T$200,3,FALSE))","v":""},null,null,null,""]
[null,{"$f":"IF(C411=\"\",\"\",IF(COUNTIF($C$3:C411, C411)>1, \"\", C411))","v":""},{"$f":"IF(G411=\"\",\"\",IF(F411=\"\",\"\",CONCATENATE(DIGITADOR!$M$1,G411,E411)))","v":""},"",{"$f":"IF(F411=\"\",\"\",VLOOKUP(F411,referentes!$Q$2:$T$200,3,FALSE))","v":""},null,null,null,""]
[null,{"$f":"IF(C412=\"\",\"\",IF(COUNTIF($C$3:C412, C412)>1, \"\", C412))","v":""},{"$f":"IF(G412=\"\",\"\",IF(F412=\"\",\"\",CONCATENATE(DIGITADOR!$M$1,G412,E412)))","v":""},"",{"$f":"IF(F412=\"\",\"\",VLOOKUP(F412,referentes!$Q$2:$T$200,3,FALSE))","v":""},null,null,null,""]
[null,{"$f":"IF(C413=\"\",\"\",IF(COUNTIF($C$3:C413, C413)>1, \"\", C413))","v":""},{"$f":"IF(G413=\"\",\"\",IF(F413=\"\",\"\",CONCATENATE(DIGITADOR!$M$1,G413,E413)))","v":""},"",{"$f":"IF(F413=\"\",\"\",VLOOKUP(F413,referentes!$Q$2:$T$200,3,FALSE))","v":""},null,null,null,""]
[null,{"$f":"IF(C414=\"\",\"\",IF(COUNTIF($C$3:C414, C414)>1, \"\", C414))","v":""},{"$f":"IF(G414=\"\",\"\",IF(F414=\"\",\"\",CONCATENATE(DIGITADOR!$M$1,G414,E414)))","v":""},"",{"$f":"IF(F414=\"\",\"\",VLOOKUP(F414,referentes!$Q$2:$T$200,3,FALSE))","v":""},null,null,null,""]
[null,{"$f":"IF(C415=\"\",\"\",IF(COUNTIF($C$3:C415, C415)>1, \"\", C415))","v":""},{"$f":"IF(G415=\"\",\"\",IF(F415=\"\",\"\",CONCATENATE(DIGITADOR!$M$1,G415,E415)))","v":""},"",{"$f":"IF(F415=\"\",\"\",VLOOKUP(F415,referentes!$Q$2:$T$200,3,FALSE))","v":""},null,null,null,""]
[null,{"$f":"IF(C416=\"\",\"\",IF(COUNTIF($C$3:C416, C416)>1, \"\", C416))","v":""},{"$f":"IF(G416=\"\",\"\",IF(F416=\"\",\"\",CONCATENATE(DIGITADOR!$M$1,G416,E416)))","v":""},"",{"$f":"IF(F416=\"\",\"\",VLOOKUP(F416,referentes!$Q$2:$T$200,3,FALSE))","v":""},null,null,null,""]
[null,{"$f":"IF(C417=\"\",\"\",IF(COUNTIF($C$3:C417, C417)>1, \"\", C417))","v":""},{"$f":"IF(G417=\"\",\"\",IF(F417=\"\",\"\",CONCATENATE(DIGITADOR!$M$1,G417,E417)))","v":""},"",{"$f":"IF(F417=\"\",\"\",VLOOKUP(F417,referentes!$Q$2:$T$200,3,FALSE))","v":""},null,null,null,""]
[null,{"$f":"IF(C418=\"\",\"\",IF(COUNTIF($C$3:C418, C418)>1, \"\", C418))","v":""},{"$f":"IF(G418=\"\",\"\",IF(F418=\"\",\"\",CONCATENATE(DIGITADOR!$M$1,G418,E418)))","v":""},"",{"$f":"IF(F418=\"\",\"\",VLOOKUP(F418,referentes!$Q$2:$T$200,3,FALSE))","v":""},null,null,null,""]
[null,{"$f":"IF(C419=\"\",\"\",IF(COUNTIF($C$3:C419, C419)>1, \"\", C419))","v":""},{"$f":"IF(G419=\"\",\"\",IF(F419=\"\",\"\",CONCATENATE(DIGITADOR!$M$1,G419,E419)))","v":""},"",{"$f":"IF(F419=\"\",\"\",VLOOKUP(F419,referentes!$Q$2:$T$200,3,FALSE))","v":""},null,null,null,""]
[null,{"$f":"IF(C420=\"\",\"\",IF(COUNTIF($C$3:C420, C420)>1, \"\", C420))","v":""},{"$f":"IF(G420=\"\",\"\",IF(F420=\"\",\"\",CONCATENATE(DIGITADOR!$M$1,G420,E420)))","v":""},"",{"$f":"IF(F420=\"\",\"\",VLOOKUP(F420,referentes!$Q$2:$T$200,3,FALSE))","v":""},null,null,null,""]
[null,{"$f":"IF(C421=\"\",\"\",IF(COUNTIF($C$3:C421, C421)>1, \"\", C421))","v":""},{"$f":"IF(G421=\"\",\"\",IF(F421=\"\",\"\",CONCATENATE(DIGITADOR!$M$1,G421,E421)))","v":""},"",{"$f":"IF(F421=\"\",\"\",VLOOKUP(F421,referentes!$Q$2:$T$200,3,FALSE))","v":""},null,null,null,""]
[null,{"$f":"IF(C422=\"\",\"\",IF(COUNTIF($C$3:C422, C422)>1, \"\", C422))","v":""},{"$f":"IF(G422=\"\",\"\",IF(F422=\"\",\"\",CONCATENATE(DIGITADOR!$M$1,G422,E422)))","v":""},"",{"$f":"IF(F422=\"\",\"\",VLOOKUP(F422,referentes!$Q$2:$T$200,3,FALSE))","v":""},null,null,null,""]
[null,{"$f":"IF(C423=\"\",\"\",IF(COUNTIF($C$3:C423, C423)>1, \"\", C423))","v":""},{"$f":"IF(G423=\"\",\"\",IF(F423=\"\",\"\",CONCATENATE(DIGITADOR!$M$1,G423,E423)))","v":""},"",{"$f":"IF(F423=\"\",\"\",VLOOKUP(F423,referentes!$Q$2:$T$200,3,FALSE))","v":""},null,null,null,""]
[null,{"$f":"IF(C424=\"\",\"\",IF(COUNTIF($C$3:C424, C424)>1, \"\", C424))","v":""},{"$f":"IF(G424=\"\",\"\",IF(F424=\"\",\"\",CONCATENATE(DIGITADOR!$M$1,G424,E424)))","v":""},"",{"$f":"IF(F424=\"\",\"\",VLOOKUP(F424,referentes!$Q$2:$T$200,3,FALSE))","v":""},null,null,null,""]
[null,{"$f":"IF(C425=\"\",\"\",IF(COUNTIF($C$3:C425, C425)>1, \"\", C425))","v":""},{"$f":"IF(G425=\"\",\"\",IF(F425=\"\",\"\",CONCATENATE(DIGITADOR!$M$1,G425,E425)))","v":""},"",{"$f":"IF(F425=\"\",\"\",VLOOKUP(F425,referentes!$Q$2:$T$200,3,FALSE))","v":""},null,null,null,""]
[null,{"$f":"IF(C426=\"\",\"\",IF(COUNTIF($C$3:C426, C426)>1, \"\", C426))","v":""},{"$f":"IF(G426=\"\",\"\",IF(F426=\"\",\"\",CONCATENATE(DIGITADOR!$M$1,G426,E426)))","v":""},"",{"$f":"IF(F426=\"\",\"\",VLOOKUP(F426,referentes!$Q$2:$T$200,3,FALSE))","v":""},null,null,null,""]
[null,{"$f":"IF(C427=\"\",\"\",IF(COUNTIF($C$3:C427, C427)>1, \"\", C427))","v":""},{"$f":"IF(G427=\"\",\"\",IF(F427=\"\",\"\",CONCATENATE(DIGITADOR!$M$1,G427,E427)))","v":""},"",{"$f":"IF(F427=\"\",\"\",VLOOKUP(F427,referentes!$Q$2:$T$200,3,FALSE))","v":""},null,null,null,""]
[null,{"$f":"IF(C428=\"\",\"\",IF(COUNTIF($C$3:C428, C428)>1, \"\", C428))","v":""},{"$f":"IF(G428=\"\",\"\",IF(F428=\"\",\"\",CONCATENATE(DIGITADOR!$M$1,G428,E428)))","v":""},"",{"$f":"IF(F428=\"\",\"\",VLOOKUP(F428,referentes!$Q$2:$T$200,3,FALSE))","v":""},null,null,null,""]
[null,{"$f":"IF(C429=\"\",\"\",IF(COUNTIF($C$3:C429, C429)>1, \"\", C429))","v":""},{"$f":"IF(G429=\"\",\"\",IF(F429=\"\",\"\",CONCATENATE(DIGITADOR!$M$1,G429,E429)))","v":""},"",{"$f":"IF(F429=\"\",\"\",VLOOKUP(F429,referentes!$Q$2:$T$200,3,FALSE))","v":""},null,null,null,""]
[null,{"$f":"IF(C430=\"\",\"\",IF(COUNTIF($C$3:C430, C430)>1, \"\", C430))","v":""},{"$f":"IF(G430=\"\",\"\",IF(F430=\"\",\"\",CONCATENATE(DIGITADOR!$M$1,G430,E430)))","v":""},"",{"$f":"IF(F430=\"\",\"\",VLOOKUP(F430,referentes!$Q$2:$T$200,3,FALSE))","v":""},null,null,null,""]
[null,{"$f":"IF(C431=\"\",\"\",IF(COUNTIF($C$3:C431, C431)>1, \"\", C431))","v":""},{"$f":"IF(G431=\"\",\"\",IF(F431=\"\",\"\",CONCATENATE(DIGITADOR!$M$1,G431,E431)))","v":""},"",{"$f":"IF(F431=\"\",\"\",VLOOKUP(F431,referentes!$Q$2:$T$200,3,FALSE))","v":""},null,null,null,""]
[null,{"$f":"IF(C432=\"\",\"\",IF(COUNTIF($C$3:C432, C432)>1, \"\", C432))","v":""},{"$f":"IF(G432=\"\",\"\",IF(F432=\"\",\"\",CONCATENATE(DIGITADOR!$M$1,G432,E432)))","v":""},"",{"$f":"IF(F432=\"\",\"\",VLOOKUP(F432,referentes!$Q$2:$T$200,3,FALSE))","v":""},null,null,null,""]
[null,{"$f":"IF(C433=\"\",\"\",IF(COUNTIF($C$3:C433, C433)>1, \"\", C433))","v":""},{"$f":"IF(G433=\"\",\"\",IF(F433=\"\",\"\",CONCATENATE(DIGITADOR!$M$1,G433,E433)))","v":""},"",{"$f":"IF(F433=\"\",\"\",VLOOKUP(F433,referentes!$Q$2:$T$200,3,FALSE))","v":""},null,null,null,""]
[null,{"$f":"IF(C434=\"\",\"\",IF(COUNTIF($C$3:C434, C434)>1, \"\", C434))","v":""},{"$f":"IF(G434=\"\",\"\",IF(F434=\"\",\"\",CONCATENATE(DIGITADOR!$M$1,G434,E434)))","v":""},"",{"$f":"IF(F434=\"\",\"\",VLOOKUP(F434,referentes!$Q$2:$T$200,3,FALSE))","v":""},null,null,null,""]
[null,{"$f":"IF(C435=\"\",\"\",IF(COUNTIF($C$3:C435, C435)>1, \"\", C435))","v":""},{"$f":"IF(G435=\"\",\"\",IF(F435=\"\",\"\",CONCATENATE(DIGITADOR!$M$1,G435,E435)))","v":""},"",{"$f":"IF(F435=\"\",\"\",VLOOKUP(F435,referentes!$Q$2:$T$200,3,FALSE))","v":""},null,null,null,""]
[null,{"$f":"IF(C436=\"\",\"\",IF(COUNTIF($C$3:C436, C436)>1, \"\", C436))","v":""},{"$f":"IF(G436=\"\",\"\",IF(F436=\"\",\"\",CONCATENATE(DIGITADOR!$M$1,G436,E436)))","v":""},"",{"$f":"IF(F436=\"\",\"\",VLOOKUP(F436,referentes!$Q$2:$T$200,3,FALSE))","v":""},null,null,null,""]
[null,{"$f":"IF(C437=\"\",\"\",IF(COUNTIF($C$3:C437, C437)>1, \"\", C437))","v":""},{"$f":"IF(G437=\"\",\"\",IF(F437=\"\",\"\",CONCATENATE(DIGITADOR!$M$1,G437,E437)))","v":""},"",{"$f":"IF(F437=\"\",\"\",VLOOKUP(F437,referentes!$Q$2:$T$200,3,FALSE))","v":""},null,null,null,""]
[null,{"$f":"IF(C438=\"\",\"\",IF(COUNTIF($C$3:C438, C438)>1, \"\", C438))","v":""},{"$f":"IF(G438=\"\",\"\",IF(F438=\"\",\"\",CONCATENATE(DIGITADOR!$M$1,G438,E438)))","v":""},"",{"$f":"IF(F438=\"\",\"\",VLOOKUP(F438,referentes!$Q$2:$T$200,3,FALSE))","v":""},null,null,null,""]
[null,{"$f":"IF(C439=\"\",\"\",IF(COUNTIF($C$3:C439, C439)>1, \"\", C439))","v":""},{"$f":"IF(G439=\"\",\"\",IF(F439=\"\",\"\",CONCATENATE(DIGITADOR!$M$1,G439,E439)))","v":""},"",{"$f":"IF(F439=\"\",\"\",VLOOKUP(F439,referentes!$Q$2:$T$200,3,FALSE))","v":""},null,null,null,""]
[null,{"$f":"IF(C440=\"\",\"\",IF(COUNTIF($C$3:C440, C440)>1, \"\", C440))","v":""},{"$f":"IF(G440=\"\",\"\",IF(F440=\"\",\"\",CONCATENATE(DIGITADOR!$M$1,G440,E440)))","v":""},"",{"$f":"IF(F440=\"\",\"\",VLOOKUP(F440,referentes!$Q$2:$T$200,3,FALSE))","v":""},null,null,null,""]
[null,{"$f":"IF(C441=\"\",\"\",IF(COUNTIF($C$3:C441, C441)>1, \"\", C441))","v":""},{"$f":"IF(G441=\"\",\"\",IF(F441=\"\",\"\",CONCATENATE(DIGITADOR!$M$1,G441,E441)))","v":""},"",{"$f":"IF(F441=\"\",\"\",VLOOKUP(F441,referentes!$Q$2:$T$200,3,FALSE))","v":""},null,null,null,""]
[null,{"$f":"IF(C442=\"\",\"\",IF(COUNTIF($C$3:C442, C442)>1, \"\", C442))","v":""},{"$f":"IF(G442=\"\",\"\",IF(F442=\"\",\"\",CONCATENATE(DIGITADOR!$M$1,G442,E442)))","v":""},"",{"$f":"IF(F442=\"\",\"\",VLOOKUP(F442,referentes!$Q$2:$T$200,3,FALSE))","v":""},null,null,null,""]
[null,{"$f":"IF(C443=\"\",\"\",IF(COUNTIF($C$3:C443, C443)>1, \"\", C443))","v":""},{"$f":"IF(G443=\"\",\"\",IF(F443=\"\",\"\",CONCATENATE(DIGITADOR!$M$1,G443,E443)))","v":""},"",{"$f":"IF(F443=\"\",\"\",VLOOKUP(F443,referentes!$Q$2:$T$200,3,FALSE))","v":""},null,null,null,""]
[null,{"$f":"IF(C444=\"\",\"\",IF(COUNTIF($C$3:C444, C444)>1, \"\", C444))","v":""},{"$f":"IF(G444=\"\",\"\",IF(F444=\"\",\"\",CONCATENATE(DIGITADOR!$M$1,G444,E444)))","v":""},"",{"$f":"IF(F444=\"\",\"\",VLOOKUP(F444,referentes!$Q$2:$T$200,3,FALSE))","v":""},null,null,null,""]
[null,{"$f":"IF(C445=\"\",\"\",IF(COUNTIF($C$3:C445, C445)>1, \"\", C445))","v":""},{"$f":"IF(G445=\"\",\"\",IF(F445=\"\",\"\",CONCATENATE(DIGITADOR!$M$1,G445,E445)))","v":""},"",{"$f":"IF(F445=\"\",\"\",VLOOKUP(F445,referentes!$Q$2:$T$200,3,FALSE))","v":""},null,null,null,""]
[null,{"$f":"IF(C446=\"\",\"\",IF(COUNTIF($C$3:C446, C446)>1, \"\", C446))","v":""},{"$f":"IF(G446=\"\",\"\",IF(F446=\"\",\"\",CONCATENATE(DIGITADOR!$M$1,G446,E446)))","v":""},"",{"$f":"IF(F446=\"\",\"\",VLOOKUP(F446,referentes!$Q$2:$T$200,3,FALSE))","v":""},null,null,null,""]
[null,{"$f":"IF(C447=\"\",\"\",IF(COUNTIF($C$3:C447, C447)>1, \"\", C447))","v":""},{"$f":"IF(G447=\"\",\"\",IF(F447=\"\",\"\",CONCATENATE(DIGITADOR!$M$1,G447,E447)))","v":""},"",{"$f":"IF(F447=\"\",\"\",VLOOKUP(F447,referentes!$Q$2:$T$200,3,FALSE))","v":""},null,null,null,""]
[null,{"$f":"IF(C448=\"\",\"\",IF(COUNTIF($C$3:C448, C448)>1, \"\", C448))","v":""},{"$f":"IF(G448=\"\",\"\",IF(F448=\"\",\"\",CONCATENATE(DIGITADOR!$M$1,G448,E448)))","v":""},"",{"$f":"IF(F448=\"\",\"\",VLOOKUP(F448,referentes!$Q$2:$T$200,3,FALSE))","v":""},null,null,null,""]
[null,{"$f":"IF(C449=\"\",\"\",IF(COUNTIF($C$3:C449, C449)>1, \"\", C449))","v":""},{"$f":"IF(G449=\"\",\"\",IF(F449=\"\",\"\",CONCATENATE(DIGITADOR!$M$1,G449,E449)))","v":""},"",{"$f":"IF(F449=\"\",\"\",VLOOKUP(F449,referentes!$Q$2:$T$200,3,FALSE))","v":""},null,null,null,""]
[null,{"$f":"IF(C450=\"\",\"\",IF(COUNTIF($C$3:C450, C450)>1, \"\", C450))","v":""},{"$f":"IF(G450=\"\",\"\",IF(F450=\"\",\"\",CONCATENATE(DIGITADOR!$M$1,G450,E450)))","v":""},"",{"$f":"IF(F450=\"\",\"\",VLOOKUP(F450,referentes!$Q$2:$T$200,3,FALSE))","v":""},null,null,null,""]
[null,{"$f":"IF(C451=\"\",\"\",IF(COUNTIF($C$3:C451, C451)>1, \"\", C451))","v":""},{"$f":"IF(G451=\"\",\"\",IF(F451=\"\",\"\",CONCATENATE(DIGITADOR!$M$1,G451,E451)))","v":""},"",{"$f":"IF(F451=\"\",\"\",VLOOKUP(F451,referentes!$Q$2:$T$200,3,FALSE))","v":""},null,null,null,""]
[null,{"$f":"IF(C452=\"\",\"\",IF(COUNTIF($C$3:C452, C452)>1, \"\", C452))","v":""},{"$f":"IF(G452=\"\",\"\",IF(F452=\"\",\"\",CONCATENATE(DIGITADOR!$M$1,G452,E452)))","v":""},{"$f":"IF(C452=\"\",\"\",CONCATENATE(C452,ROW()-2))","v":""},{"$f":"IF(F452=\"\",\"\",VLOOKUP(F452,referentes!$Q$2:$T$200,3,FALSE))","v":""},null,null,null,{"$f":"IF(G452<>\"\", G452 + H452, \"\")","v":""}]
[null,{"$f":"IF(C453=\"\",\"\",IF(COUNTIF($C$3:C453, C453)>1, \"\", C453))","v":""},{"$f":"IF(G453=\"\",\"\",IF(F453=\"\",\"\",CONCATENATE(DIGITADOR!$M$1,G453,E453)))","v":""},"",{"$f":"IF(F453=\"\",\"\",VLOOKUP(F453,referentes!$Q$2:$T$200,3,FALSE))","v":""},null,null,null,""]
[null,{"$f":"IF(C454=\"\",\"\",IF(COUNTIF($C$3:C454, C454)>1, \"\", C454))","v":""},{"$f":"IF(G454=\"\",\"\",IF(F454=\"\",\"\",CONCATENATE(DIGITADOR!$M$1,G454,E454)))","v":""},"",{"$f":"IF(F454=\"\",\"\",VLOOKUP(F454,referentes!$Q$2:$T$200,3,FALSE))","v":""},null,null,null,""]
[null,{"$f":"IF(C455=\"\",\"\",IF(COUNTIF($C$3:C455, C455)>1, \"\", C455))","v":""},{"$f":"IF(G455=\"\",\"\",IF(F455=\"\",\"\",CONCATENATE(DIGITADOR!$M$1,G455,E455)))","v":""},"",{"$f":"IF(F455=\"\",\"\",VLOOKUP(F455,referentes!$Q$2:$T$200,3,FALSE))","v":""},null,null,null,""]
[null,{"$f":"IF(C456=\"\",\"\",IF(COUNTIF($C$3:C456, C456)>1, \"\", C456))","v":""},{"$f":"IF(G456=\"\",\"\",IF(F456=\"\",\"\",CONCATENATE(DIGITADOR!$M$1,G456,E456)))","v":""},"",{"$f":"IF(F456=\"\",\"\",VLOOKUP(F456,referentes!$Q$2:$T$200,3,FALSE))","v":""},null,null,null,""]
[null,{"$f":"IF(C457=\"\",\"\",IF(COUNTIF($C$3:C457, C457)>1, \"\", C457))","v":""},{"$f":"IF(G457=\"\",\"\",IF(F457=\"\",\"\",CONCATENATE(DIGITADOR!$M$1,G457,E457)))","v":""},"",{"$f":"IF(F457=\"\",\"\",VLOOKUP(F457,referentes!$Q$2:$T$200,3,FALSE))","v":""},null,null,null,""]
[null,{"$f":"IF(C458=\"\",\"\",IF(COUNTIF($C$3:C458, C458)>1, \"\", C458))","v":""},{"$f":"IF(G458=\"\",\"\",IF(F458=\"\",\"\",CONCATENATE(DIGITADOR!$M$1,G458,E458)))","v":""},"",{"$f":"IF(F458=\"\",\"\",VLOOKUP(F458,referentes!$Q$2:$T$200,3,FALSE))","v":""},null,null,null,""]
[null,{"$f":"IF(C459=\"\",\"\",IF(COUNTIF($C$3:C459, C459)>1, \"\", C459))","v":""},{"$f":"IF(G459=\"\",\"\",IF(F459=\"\",\"\",CONCATENATE(DIGITADOR!$M$1,G459,E459)))","v":""},"",{"$f":"IF(F459=\"\",\"\",VLOOKUP(F459,referentes!$Q$2:$T$200,3,FALSE))","v":""},null,null,null,""]
[null,{"$f":"IF(C460=\"\",\"\",IF(COUNTIF($C$3:C460, C460)>1, \"\", C460))","v":""},{"$f":"IF(G460=\"\",\"\",IF(F460=\"\",\"\",CONCATENATE(DIGITADOR!$M$1,G460,E460)))","v":""},"",{"$f":"IF(F460=\"\",\"\",VLOOKUP(F460,referentes!$Q$2:$T$200,3,FALSE))","v":""},null,null,null,""]
[null,{"$f":"IF(C461=\"\",\"\",IF(COUNTIF($C$3:C461, C461)>1, \"\", C461))","v":""},{"$f":"IF(G461=\"\",\"\",IF(F461=\"\",\"\",CONCATENATE(DIGITADOR!$M$1,G461,E461)))","v":""},"",{"$f":"IF(F461=\"\",\"\",VLOOKUP(F461,referentes!$Q$2:$T$200,3,FALSE))","v":""},null,null,null,""]
[null,{"$f":"IF(C462=\"\",\"\",IF(COUNTIF($C$3:C462, C462)>1, \"\", C462))","v":""},{"$f":"IF(G462=\"\",\"\",IF(F462=\"\",\"\",CONCATENATE(DIGITADOR!$M$1,G462,E462)))","v":""},"",{"$f":"IF(F462=\"\",\"\",VLOOKUP(F462,referentes!$Q$2:$T$200,3,FALSE))","v":""},null,null,null,""]
[null,{"$f":"IF(C463=\"\",\"\",IF(COUNTIF($C$3:C463, C463)>1, \"\", C463))","v":""},{"$f":"IF(G463=\"\",\"\",IF(F463=\"\",\"\",CONCATENATE(DIGITADOR!$M$1,G463,E463)))","v":""},"",{"$f":"IF(F463=\"\",\"\",VLOOKUP(F463,referentes!$Q$2:$T$200,3,FALSE))","v":""},null,null,null,""]
[null,{"$f":"IF(C464=\"\",\"\",IF(COUNTIF($C$3:C464, C464)>1, \"\", C464))","v":""},{"$f":"IF(G464=\"\",\"\",IF(F464=\"\",\"\",CONCATENATE(DIGITADOR!$M$1,G464,E464)))","v":""},"",{"$f":"IF(F464=\"\",\"\",VLOOKUP(F464,referentes!$Q$2:$T$200,3,FALSE))","v":""},null,null,null,""]
[null,{"$f":"IF(C465=\"\",\"\",IF(COUNTIF($C$3:C465, C465)>1, \"\", C465))","v":""},{"$f":"IF(G465=\"\",\"\",IF(F465=\"\",\"\",CONCATENATE(DIGITADOR!$M$1,G465,E465)))","v":""},"",{"$f":"IF(F465=\"\",\"\",VLOOKUP(F465,referentes!$Q$2:$T$200,3,FALSE))","v":""},null,null,null,""]
[null,{"$f":"IF(C466=\"\",\"\",IF(COUNTIF($C$3:C466, C466)>1, \"\", C466))","v":""},{"$f":"IF(G466=\"\",\"\",IF(F466=\"\",\"\",CONCATENATE(DIGITADOR!$M$1,G466,E466)))","v":""},"",{"$f":"IF(F466=\"\",\"\",VLOOKUP(F466,referentes!$Q$2:$T$200,3,FALSE))","v":""},null,null,null,""]
[null,{"$f":"IF(C467=\"\",\"\",IF(COUNTIF($C$3:C467, C467)>1, \"\", C467))","v":""},{"$f":"IF(G467=\"\",\"\",IF(F467=\"\",\"\",CONCATENATE(DIGITADOR!$M$1,G467,E467)))","v":""},"",{"$f":"IF(F467=\"\",\"\",VLOOKUP(F467,referentes!$Q$2:$T$200,3,FALSE))","v":""},null,null,null,""]
[null,{"$f":"IF(C468=\"\",\"\",IF(COUNTIF($C$3:C468, C468)>1, \"\", C468))","v":""},{"$f":"IF(G468=\"\",\"\",IF(F468=\"\",\"\",CONCATENATE(DIGITADOR!$M$1,G468,E468)))","v":""},"",{"$f":"IF(F468=\"\",\"\",VLOOKUP(F468,referentes!$Q$2:$T$200,3,FALSE))","v":""},null,null,null,""]
[null,{"$f":"IF(C469=\"\",\"\",IF(COUNTIF($C$3:C469, C469)>1, \"\", C469))","v":""},{"$f":"IF(G469=\"\",\"\",IF(F469=\"\",\"\",CONCATENATE(DIGITADOR!$M$1,G469,E469)))","v":""},"",{"$f":"IF(F469=\"\",\"\",VLOOKUP(F469,referentes!$Q$2:$T$200,3,FALSE))","v":""},null,null,null,""]
[null,{"$f":"IF(C470=\"\",\"\",IF(COUNTIF($C$3:C470, C470)>1, \"\", C470))","v":""},{"$f":"IF(G470=\"\",\"\",IF(F470=\"\",\"\",CONCATENATE(DIGITADOR!$M$1,G470,E470)))","v":""},"",{"$f":"IF(F470=\"\",\"\",VLOOKUP(F470,referentes!$Q$2:$T$200,3,FALSE))","v":""},null,null,null,""]
[null,{"$f":"IF(C471=\"\",\"\",IF(COUNTIF($C$3:C471, C471)>1, \"\", C471))","v":""},{"$f":"IF(G471=\"\",\"\",IF(F471=\"\",\"\",CONCATENATE(DIGITADOR!$M$1,G471,E471)))","v":""},"",{"$f":"IF(F471=\"\",\"\",VLOOKUP(F471,referentes!$Q$2:$T$200,3,FALSE))","v":""},null,null,null,""]
[null,{"$f":"IF(C472=\"\",\"\",IF(COUNTIF($C$3:C472, C472)>1, \"\", C472))","v":""},{"$f":"IF(G472=\"\",\"\",IF(F472=\"\",\"\",CONCATENATE(DIGITADOR!$M$1,G472,E472)))","v":""},"",{"$f":"IF(F472=\"\",\"\",VLOOKUP(F472,referentes!$Q$2:$T$200,3,FALSE))","v":""},null,null,null,""]
[null,{"$f":"IF(C473=\"\",\"\",IF(COUNTIF($C$3:C473, C473)>1, \"\", C473))","v":""},{"$f":"IF(G473=\"\",\"\",IF(F473=\"\",\"\",CONCATENATE(DIGITADOR!$M$1,G473,E473)))","v":""},"",{"$f":"IF(F473=\"\",\"\",VLOOKUP(F473,referentes!$Q$2:$T$200,3,FALSE))","v":""},null,null,null,""]
[null,{"$f":"IF(C474=\"\",\"\",IF(COUNTIF($C$3:C474, C474)>1, \"\", C474))","v":""},{"$f":"IF(G474=\"\",\"\",IF(F474=\"\",\"\",CONCATENATE(DIGITADOR!$M$1,G474,E474)))","v":""},"",{"$f":"IF(F474=\"\",\"\",VLOOKUP(F474,referentes!$Q$2:$T$200,3,FALSE))","v":""},null,null,null,""]
[null,{"$f":"IF(C475=\"\",\"\",IF(COUNTIF($C$3:C475, C475)>1, \"\", C475))","v":""},{"$f":"IF(G475=\"\",\"\",IF(F475=\"\",\"\",CONCATENATE(DIGITADOR!$M$1,G475,E475)))","v":""},"",{"$f":"IF(F475=\"\",\"\",VLOOKUP(F475,referentes!$Q$2:$T$200,3,FALSE))","v":""},null,null,null,""]
[null,{"$f":"IF(C476=\"\",\"\",IF(COUNTIF($C$3:C476, C476)>1, \"\", C476))","v":""},{"$f":"IF(G476=\"\",\"\",IF(F476=\"\",\"\",CONCATENATE(DIGITADOR!$M$1,G476,E476)))","v":""},"",{"$f":"IF(F476=\"\",\"\",VLOOKUP(F476,referentes!$Q$2:$T$200,3,FALSE))","v":""},null,null,null,""]
[null,{"$f":"IF(C477=\"\",\"\",IF(COUNTIF($C$3:C477, C477)>1, \"\", C477))","v":""},{"$f":"IF(G477=\"\",\"\",IF(F477=\"\",\"\",CONCATENATE(DIGITADOR!$M$1,G477,E477)))","v":""},"",{"$f":"IF(F477=\"\",\"\",VLOOKUP(F477,referentes!$Q$2:$T$200,3,FALSE))","v":""},null,null,null,""]
[null,{"$f":"IF(C478=\"\",\"\",IF(COUNTIF($C$3:C478, C478)>1, \"\", C478))","v":""},{"$f":"IF(G478=\"\",\"\",IF(F478=\"\",\"\",CONCATENATE(DIGITADOR!$M$1,G478,E478)))","v":""},"",{"$f":"IF(F478=\"\",\"\",VLOOKUP(F478,referentes!$Q$2:$T$200,3,FALSE))","v":""},null,null,null,""]
[null,{"$f":"IF(C479=\"\",\"\",IF(COUNTIF($C$3:C479, C479)>1, \"\", C479))","v":""},{"$f":"IF(G479=\"\",\"\",IF(F479=\"\",\"\",CONCATENATE(DIGITADOR!$M$1,G479,E479)))","v":""},"",{"$f":"IF(F479=\"\",\"\",VLOOKUP(F479,referentes!$Q$2:$T$200,3,FALSE))","v":""},null,null,null,""]
[null,{"$f":"IF(C480=\"\",\"\",IF(COUNTIF($C$3:C480, C480)>1, \"\", C480))","v":""},{"$f":"IF(G480=\"\",\"\",IF(F480=\"\",\"\",CONCATENATE(DIGITADOR!$M$1,G480,E480)))","v":""},"",{"$f":"IF(F480=\"\",\"\",VLOOKUP(F480,referentes!$Q$2:$T$200,3,FALSE))","v":""},null,null,null,""]
[null,{"$f":"IF(C481=\"\",\"\",IF(COUNTIF($C$3:C481, C481)>1, \"\", C481))","v":""},{"$f":"IF(G481=\"\",\"\",IF(F481=\"\",\"\",CONCATENATE(DIGITADOR!$M$1,G481,E481)))","v":""},"",{"$f":"IF(F481=\"\",\"\",VLOOKUP(F481,referentes!$Q$2:$T$200,3,FALSE))","v":""},null,null,null,""]
[null,{"$f":"IF(C482=\"\",\"\",IF(COUNTIF($C$3:C482, C482)>1, \"\", C482))","v":""},{"$f":"IF(G482=\"\",\"\",IF(F482=\"\",\"\",CONCATENATE(DIGITADOR!$M$1,G482,E482)))","v":""},"",{"$f":"IF(F482=\"\",\"\",VLOOKUP(F482,referentes!$Q$2:$T$200,3,FALSE))","v":""},null,null,null,""]
[null,{"$f":"IF(C483=\"\",\"\",IF(COUNTIF($C$3:C483, C483)>1, \"\", C483))","v":""},{"$f":"IF(G483=\"\",\"\",IF(F483=\"\",\"\",CONCATENATE(DIGITADOR!$M$1,G483,E483)))","v":""},"",{"$f":"IF(F483=\"\",\"\",VLOOKUP(F483,referentes!$Q$2:$T$200,3,FALSE))","v":""},null,null,null,""]
[null,{"$f":"IF(C484=\"\",\"\",IF(COUNTIF($C$3:C484, C484)>1, \"\", C484))","v":""},{"$f":"IF(G484=\"\",\"\",IF(F484=\"\",\"\",CONCATENATE(DIGITADOR!$M$1,G484,E484)))","v":""},"",{"$f":"IF(F484=\"\",\"\",VLOOKUP(F484,referentes!$Q$2:$T$200,3,FALSE))","v":""},null,null,null,""]
[null,{"$f":"IF(C485=\"\",\"\",IF(COUNTIF($C$3:C485, C485)>1, \"\", C485))","v":""},{"$f":"IF(G485=\"\",\"\",IF(F485=\"\",\"\",CONCATENATE(DIGITADOR!$M$1,G485,E485)))","v":""},"",{"$f":"IF(F485=\"\",\"\",VLOOKUP(F485,referentes!$Q$2:$T$200,3,FALSE))","v":""},null,null,null,""]
[null,{"$f":"IF(C486=\"\",\"\",IF(COUNTIF($C$3:C486, C486)>1, \"\", C486))","v":""},{"$f":"IF(G486=\"\",\"\",IF(F486=\"\",\"\",CONCATENATE(DIGITADOR!$M$1,G486,E486)))","v":""},"",{"$f":"IF(F486=\"\",\"\",VLOOKUP(F486,referentes!$Q$2:$T$200,3,FALSE))","v":""},null,null,null,""]
[null,{"$f":"IF(C487=\"\",\"\",IF(COUNTIF($C$3:C487, C487)>1, \"\", C487))","v":""},{"$f":"IF(G487=\"\",\"\",IF(F487=\"\",\"\",CONCATENATE(DIGITADOR!$M$1,G487,E487)))","v":""},"",{"$f":"IF(F487=\"\",\"\",VLOOKUP(F487,referentes!$Q$2:$T$200,3,FALSE))","v":""},null,null,null,""]
[null,{"$f":"IF(C488=\"\",\"\",IF(COUNTIF($C$3:C488, C488)>1, \"\", C488))","v":""},{"$f":"IF(G488=\"\",\"\",IF(F488=\"\",\"\",CONCATENATE(DIGITADOR!$M$1,G488,E488)))","v":""},"",{"$f":"IF(F488=\"\",\"\",VLOOKUP(F488,referentes!$Q$2:$T$200,3,FALSE))","v":""},null,null,null,""]
[null,{"$f":"IF(C489=\"\",\"\",IF(COUNTIF($C$3:C489, C489)>1, \"\", C489))","v":""},{"$f":"IF(G489=\"\",\"\",IF(F489=\"\",\"\",CONCATENATE(DIGITADOR!$M$1,G489,E489)))","v":""},"",{"$f":"IF(F489=\"\",\"\",VLOOKUP(F489,referentes!$Q$2:$T$200,3,FALSE))","v":""},null,null,null,""]
[null,{"$f":"IF(C490=\"\",\"\",IF(COUNTIF($C$3:C490, C490)>1, \"\", C490))","v":""},{"$f":"IF(G490=\"\",\"\",IF(F490=\"\",\"\",CONCATENATE(DIGITADOR!$M$1,G490,E490)))","v":""},"",{"$f":"IF(F490=\"\",\"\",VLOOKUP(F490,referentes!$Q$2:$T$200,3,FALSE))","v":""},null,null,null,""]
[null,{"$f":"IF(C491=\"\",\"\",IF(COUNTIF($C$3:C491, C491)>1, \"\", C491))","v":""},{"$f":"IF(G491=\"\",\"\",IF(F491=\"\",\"\",CONCATENATE(DIGITADOR!$M$1,G491,E491)))","v":""},"",{"$f":"IF(F491=\"\",\"\",VLOOKUP(F491,referentes!$Q$2:$T$200,3,FALSE))","v":""},null,null,null,""]
[null,{"$f":"IF(C492=\"\",\"\",IF(COUNTIF($C$3:C492, C492)>1, \"\", C492))","v":""},{"$f":"IF(G492=\"\",\"\",IF(F492=\"\",\"\",CONCATENATE(DIGITADOR!$M$1,G492,E492)))","v":""},"",{"$f":"IF(F492=\"\",\"\",VLOOKUP(F492,referentes!$Q$2:$T$200,3,FALSE))","v":""},null,null,null,""]
[null,{"$f":"IF(C493=\"\",\"\",IF(COUNTIF($C$3:C493, C493)>1, \"\", C493))","v":""},{"$f":"IF(G493=\"\",\"\",IF(F493=\"\",\"\",CONCATENATE(DIGITADOR!$M$1,G493,E493)))","v":""},"",{"$f":"IF(F493=\"\",\"\",VLOOKUP(F493,referentes!$Q$2:$T$200,3,FALSE))","v":""},null,null,null,""]
[null,{"$f":"IF(C494=\"\",\"\",IF(COUNTIF($C$3:C494, C494)>1, \"\", C494))","v":""},{"$f":"IF(G494=\"\",\"\",IF(F494=\"\",\"\",CONCATENATE(DIGITADOR!$M$1,G494,E494)))","v":""},"",{"$f":"IF(F494=\"\",\"\",VLOOKUP(F494,referentes!$Q$2:$T$200,3,FALSE))","v":""},null,null,null,""]
[null,{"$f":"IF(C495=\"\",\"\",IF(COUNTIF($C$3:C495, C495)>1, \"\", C495))","v":""},{"$f":"IF(G495=\"\",\"\",IF(F495=\"\",\"\",CONCATENATE(DIGITADOR!$M$1,G495,E495)))","v":""},"",{"$f":"IF(F495=\"\",\"\",VLOOKUP(F495,referentes!$Q$2:$T$200,3,FALSE))","v":""},null,null,null,""]
[null,{"$f":"IF(C496=\"\",\"\",IF(COUNTIF($C$3:C496, C496)>1, \"\", C496))","v":""},{"$f":"IF(G496=\"\",\"\",IF(F496=\"\",\"\",CONCATENATE(DIGITADOR!$M$1,G496,E496)))","v":""},"",{"$f":"IF(F496=\"\",\"\",VLOOKUP(F496,referentes!$Q$2:$T$200,3,FALSE))","v":""},null,null,null,""]
[null,{"$f":"IF(C497=\"\",\"\",IF(COUNTIF($C$3:C497, C497)>1, \"\", C497))","v":""},{"$f":"IF(G497=\"\",\"\",IF(F497=\"\",\"\",CONCATENATE(DIGITADOR!$M$1,G497,E497)))","v":""},"",{"$f":"IF(F497=\"\",\"\",VLOOKUP(F497,referentes!$Q$2:$T$200,3,FALSE))","v":""},null,null,null,""]
[null,{"$f":"IF(C498=\"\",\"\",IF(COUNTIF($C$3:C498, C498)>1, \"\", C498))","v":""},{"$f":"IF(G498=\"\",\"\",IF(F498=\"\",\"\",CONCATENATE(DIGITADOR!$M$1,G498,E498)))","v":""},"",{"$f":"IF(F498=\"\",\"\",VLOOKUP(F498,referentes!$Q$2:$T$200,3,FALSE))","v":""},null,null,null,""]
[null,{"$f":"IF(C499=\"\",\"\",IF(COUNTIF($C$3:C499, C499)>1, \"\", C499))","v":""},{"$f":"IF(G499=\"\",\"\",IF(F499=\"\",\"\",CONCATENATE(DIGITADOR!$M$1,G499,E499)))","v":""},"",{"$f":"IF(F499=\"\",\"\",VLOOKUP(F499,referentes!$Q$2:$T$200,3,FALSE))","v":""},null,null,null,""]
[null,{"$f":"IF(C500=\"\",\"\",IF(COUNTIF($C$3:C500, C500)>1, \"\", C500))","v":""},{"$f":"IF(G500=\"\",\"\",IF(F500=\"\",\"\",CONCATENATE(DIGITADOR!$M$1,G500,E500)))","v":""},"",{"$f":"IF(F500=\"\",\"\",VLOOKUP(F500,referentes!$Q$2:$T$200,3,FALSE))","v":""},null,null,null,""]
[null,{"$f":"IF(C501=\"\",\"\",IF(COUNTIF($C$3:C501, C501)>1, \"\", C501))","v":""},{"$f":"IF(G501=\"\",\"\",IF(F501=\"\",\"\",CONCATENATE(DIGITADOR!$M$1,G501,E501)))","v":""},"",{"$f":"IF(F501=\"\",\"\",VLOOKUP(F501,referentes!$Q$2:$T$200,3,FALSE))","v":""},null,null,null,""]
[null,{"$f":"IF(C502=\"\",\"\",IF(COUNTIF($C$3:C502, C502)>1, \"\", C502))","v":""},{"$f":"IF(G502=\"\",\"\",IF(F502=\"\",\"\",CONCATENATE(DIGITADOR!$M$1,G502,E502)))","v":""},"",{"$f":"IF(F502=\"\",\"\",VLOOKUP(F502,referentes!$Q$2:$T$200,3,FALSE))","v":""},null,null,null,""]

{"sheet":"referentes","index":4,"n_rows":171,"n_cols":23,"rows_kept":171,"cut":false,"hidden":false,"merged":[]}
["AG_LOV"]
["Carbono Azul - CORALINA","Carbono Azul - CORALINA",null,null,null,null,null,null,null,null,null,null,null,null,null,null,"Ararca P6","P",57491,6,null,8619,"Juan Pablo Caicedo García"]
[4545,"Carbono Azul - Vida Manglar",null,null,null,null,null,null,null,null,null,null,null,null,null,null,"Ararca P7","P",57492,7,null,8265,"Kevin Samuel Moreno"]
["Carbono Azul - Conserv. Internacional","Carbono Azul - Conservación Internacional",null,null,null,null,null,null,null,null,null,null,null,null,null,null,"Bahía Honda P1","P",57442,1,null,8642,"Milena Hernández Ortiz"]
[4548,"Carbono Azul - Fundación Grupo ARGOS",null,null,null,null,null,null,null,null,null,null,null,null,null,null,"Bahía Honda P2","P",57443,2,null,4521,"Sebastian Herrera Fajardo"]
["Carbono Azul - DAMCRA","Carbono Azul - DAMCRA",null,null,null,null,null,null,null,null,null,null,null,null,null,null,"Bahía Honda P3","P",57444,3,null,8057,"Tania Carolina Hoyos Ruiz"]
["Carbono Azul - GEF_SAMP","Carbono Azul - GEF_SAMP",null,null,null,null,null,null,null,null,null,null,null,null,null,null,"Bahía Hondita EMH1","EMH",57916,1,null,8266,"Zulay Saudith González Herrera"]
["Carbono Azul - Bolívar","Carbono Azul - Bolívar",null,null,null,null,null,null,null,null,null,null,null,null,null,null,"Bahía Hondita EMH2","EMH",57917,2]
["Línea Base ambiental ECOPETROL","Línea Base ambiental ECOPETROL",null,null,null,null,null,null,null,null,null,null,null,null,null,null,"Bahía Hondita EMH3","EMH",57918,3]
[null,null,null,null,null,null,null,null,null,null,null,null,null,null,null,null,"Bahía Hooker P1","P",57438,1]
[null,null,null,null,null,null,null,null,null,null,null,null,null,null,null,null,"Bahía Hooker P2","P",57439,2]
[null,null,null,null,null,null,null,null,null,null,null,null,null,null,null,null,"Bahía Hooker P3","P",57440,3]
[null,null,null,null,null,null,null,null,null,null,null,null,null,null,null,null,"Bahía Hooker P4","P",57441,4]
[null,null,null,null,null,null,null,null,null,null,null,null,null,null,null,null,"Bahía Málaga P1","P",57833,1]
[null,null,null,null,null,null,null,null,null,null,null,null,null,null,null,null,"Bahía Málaga P10","P",57842,10]
[null,null,null,null,null,null,null,null,null,null,null,null,null,null,null,null,"Bahía Málaga P11","P",57843,11]
[null,null,null,null,null,null,null,null,null,null,null,null,null,null,null,null,"Bahía Málaga P12","P",57844,12]
[null,null,null,null,null,null,null,null,null,null,null,null,null,null,null,null,"Bahía Málaga P13","P",57845,13]
[null,null,null,null,null,null,null,null,null,null,null,null,null,null,null,null,"Bahía Málaga P14","P",57846,14]
[null,null,null,null,null,null,null,null,null,null,null,null,null,null,null,null,"Bahía Málaga P15","P",57847,15]
[null,null,null,null,null,null,null,null,null,null,null,null,null,null,null,null,"Bahía Málaga P16","P",57848,16]
[null,null,null,null,null,null,null,null,null,null,null,null,null,null,null,null,"Bahía Málaga P17","P",57849,17]
[null,null,null,null,null,null,null,null,null,null,null,null,null,null,null,null,"Bahía Málaga P18","P",57850,18]
[null,null,null,null,null,null,null,null,null,null,null,null,null,null,null,null,"Bahía Málaga P19","P",57851,19]
[null,null,null,null,null,null,null,null,null,null,null,null,null,null,null,null,"Bahía Málaga P2","P",57834,2]
[null,null,null,null,null,null,null,null,null,null,null,null,null,null,null,null,"Bahía Málaga P20","P",57852,20]
[null,null,null,null,null,null,null,null,null,null,null,null,null,null,null,null,"Bahía Málaga P21","P",57853,21]
[null,null,null,null,null,null,null,null,null,null,null,null,null,null,null,null,"Bahía Málaga P22","P",57854,22]
[null,null,null,null,null,null,null,null,null,null,null,null,null,null,null,null,"Bahía Málaga P23","P",57855,23]
[null,null,null,null,null,null,null,null,null,null,null,null,null,null,null,null,"Bahía Málaga P24","P",57856,24]
[null,null,null,null,null,null,null,null,null,null,null,null,null,null,null,null,"Bahía Málaga P25","P",57857,25]
[null,null,null,null,null,null,null,null,null,null,null,null,null,null,null,null,"Bahía Málaga P26","P",57858,26]
[null,null,null,null,null,null,null,null,null,null,null,null,null,null,null,null,"Bahía Málaga P27","P",57859,27]
[null,null,null,null,null,null,null,null,null,null,null,null,null,null,null,null,"Bahía Málaga P28","P",57860,28]
[null,null,null,null,null,null,null,null,null,null,null,null,null,null,null,null,"Bahía Málaga P29","P",57861,29]
[null,null,null,null,null,null,null,null,null,null,null,null,null,null,null,null,"Bahía Málaga P3","P",57835,3]
[null,null,null,null,null,null,null,null,null,null,null,null,null,null,null,null,"Bahía Málaga P30","P",57862,30]
[null,null,null,null,null,null,null,null,null,null,null,null,null,null,null,null,"Bahía Málaga P31","P",57863,31]
[null,null,null,null,null,null,null,null,null,null,null,null,null,null,null,null,"Bahía Málaga P32","P",57864,32]
[null,null,null,null,null,null,null,null,null,null,null,null,null,null,null,null,"Bahía Málaga P33","P",57865,33]
[null,null,null,null,null,null,null,null,null,null,null,null,null,null,null,null,"Bahía Málaga P34","P",57866,34]
[null,null,null,null,null,null,null,null,null,null,null,null,null,null,null,null,"Bahía Málaga P35","P",57867,35]
[null,null,null,null,null,null,null,null,null,null,null,null,null,null,null,null,"Bahía Málaga P36","P",57868,36]
[null,null,null,null,null,null,null,null,null,null,null,null,null,null,null,null,"Bahía Málaga P37","P",57869,37]
[null,null,null,null,null,null,null,null,null,null,null,null,null,null,null,null,"Bahía Málaga P38","P",57870,38]
[null,null,null,null,null,null,null,null,null,null,null,null,null,null,null,null,"Bahía Málaga P39","P",57871,39]
[null,null,null,null,null,null,null,null,null,null,null,null,null,null,null,null,"Bahía Málaga P4","P",57836,4]
[null,null,null,null,null,null,null,null,null,null,null,null,null,null,null,null,"Bahía Málaga P40","P",57872,40]
[null,null,null,null,null,null,null,null,null,null,null,null,null,null,null,null,"Bahía Málaga P41","P",57873,41]
[null,null,null,null,null,null,null,null,null,null,null,null,null,null,null,null,"Bahía Málaga P42","P",57874,42]
[null,null,null,null,null,null,null,null,null,null,null,null,null,null,null,null,"Bahía Málaga P43","P",57875,43]
[null,null,null,null,null,null,null,null,null,null,null,null,null,null,null,null,"Bahía Málaga P44","P",57876,44]
[null,null,null,null,null,null,null,null,null,null,null,null,null,null,null,null,"Bahía Málaga P45","P",57877,45]
[null,null,null,null,null,null,null,null,null,null,null,null,null,null,null,null,"Bahía Málaga P5","P",57837,5]
[null,null,null,null,null,null,null,null,null,null,null,null,null,null,null,null,"Bahía Málaga P6","P",57838,6]
[null,null,null,null,null,null,null,null,null,null,null,null,null,null,null,null,"Bahía Málaga P7","P",57839,7]
[null,null,null,null,null,null,null,null,null,null,null,null,null,null,null,null,"Bahía Málaga P8","P",57840,8]
[null,null,null,null,null,null,null,null,null,null,null,null,null,null,null,null,"Bahía Málaga P9","P",57841,9]
[null,null,null,null,null,null,null,null,null,null,null,null,null,null,null,null,"Bahía de Cispatá B1","B",57878,1]
[null,null,null,null,null,null,null,null,null,null,null,null,null,null,null,null,"Bahía de Cispatá B10","B",57887,10]
[null,null,null,null,null,null,null,null,null,null,null,null,null,null,null,null,"Bahía de Cispatá B11","B",57888,11]
[null,null,null,null,null,null,null,null,null,null,null,null,null,null,null,null,"Bahía de Cispatá B12","B",57889,12]
[null,null,null,null,null,null,null,null,null,null,null,null,null,null,null,null,"Bahía de Cispatá B13","B",57890,13]
[null,null,null,null,null,null,null,null,null,null,null,null,null,null,null,null,"Bahía de Cispatá B14","B",57891,14]
[null,null,null,null,null,null,null,null,null,null,null,null,null,null,null,null,"Bahía de Cispatá B15","B",57892,15]
[null,null,null,null,null,null,null,null,null,null,null,null,null,null,null,null,"Bahía de Cispatá B16","B",57893,16]
[null,null,null,null,null,null,null,null,null,null,null,null,null,null,null,null,"Bahía de Cispatá B17","B",57894,17]
[null,null,null,null,null,null,null,null,null,null,null,null,null,null,null,null,"Bahía de Cispatá B18","B",57895,18]
[null,null,null,null,null,null,null,null,null,null,null,null,null,null,null,null,"Bahía de Cispatá B19","B",57896,19]
[null,null,null,null,null,null,null,null,null,null,null,null,null,null,null,null,"Bahía de Cispatá B2","B",57879,2]
[null,null,null,null,null,null,null,null,null,null,null,null,null,null,null,null,"Bahía de Cispatá B20","B",57897,20]
[null,null,null,null,null,null,null,null,null,null,null,null,null,null,null,null,"Bahía de Cispatá B21","B",57898,21]
[null,null,null,null,null,null,null,null,null,null,null,null,null,null,null,null,"Bahía de Cispatá B22","B",57899,22]
[null,null,null,null,null,null,null,null,null,null,null,null,null,null,null,null,"Bahía de Cispatá B23","B",57900,23]
[null,null,null,null,null,null,null,null,null,null,null,null,null,null,null,null,"Bahía de Cispatá B3","B",57880,3]
[null,null,null,null,null,null,null,null,null,null,null,null,null,null,null,null,"Bahía de Cispatá B4","B",57881,4]
[null,null,null,null,null,null,null,null,null,null,null,null,null,null,null,null,"Bahía de Cispatá B5","B",57882,5]
[null,null,null,null,null,null,null,null,null,null,null,null,null,null,null,null,"Bahía de Cispatá B6","B",57883,6]
[null,null,null,null,null,null,null,null,null,null,null,null,null,null,null,null,"Bahía de Cispatá B7","B",57884,7]
[null,null,null,null,null,null,null,null,null,null,null,null,null,null,null,null,"Bahía de Cispatá B8","B",57885,8]
[null,null,null,null,null,null,null,null,null,null,null,null,null,null,null,null,"Bahía de Cispatá B9","B",57886,9]
[null,null,null,null,null,null,null,null,null,null,null,null,null,null,null,null,"Boca Cerrada P1","P",57487,1]
[null,null,null,null,null,null,null,null,null,null,null,null,null,null,null,null,"Boca Cerrada P3","P",57488,3]
[null,null,null,null,null,null,null,null,null,null,null,null,null,null,null,null,"Caimanera P10","P",57471,10]
[null,null,null,null,null,null,null,null,null,null,null,null,null,null,null,null,"Caimanera P11","P",57476,11]
[null,null,null,null,null,null,null,null,null,null,null,null,null,null,null,null,"Caimanera P12","P",57480,12]
[null,null,null,null,null,null,null,null,null,null,null,null,null,null,null,null,"Caimanera P13","P",57473,13]
[null,null,null,null,null,null,null,null,null,null,null,null,null,null,null,null,"Caimanera P14","P",57481,14]
[null,null,null,null,null,null,null,null,null,null,null,null,null,null,null,null,"Caimanera P19","P",57482,19]
[null,null,null,null,null,null,null,null,null,null,null,null,null,null,null,null,"Caimanera P20","P",57483,20]
[null,null,null,null,null,null,null,null,null,null,null,null,null,null,null,null,"Caimanera P3","P",57477,3]
[null,null,null,null,null,null,null,null,null,null,null,null,null,null,null,null,"Caimanera P4","P",57478,4]
[null,null,null,null,null,null,null,null,null,null,null,null,null,null,null,null,"Caimanera P5","P",57479,5]
[null,null,null,null,null,null,null,null,null,null,null,null,null,null,null,null,"Caimanera P6","P",57475,6]
[null,null,null,null,null,null,null,null,null,null,null,null,null,null,null,null,"Caimanera P7","P",57472,7]
[null,null,null,null,null,null,null,null,null,null,null,null,null,null,null,null,"Caimanera P8","P",57470,8]
[null,null,null,null,null,null,null,null,null,null,null,null,null,null,null,null,"Caimanera P9","P",57474,9]
[null,null,null,null,null,null,null,null,null,null,null,null,null,null,null,null,"Ciénaga de Mallorquín  IFN1","IFN",57545,1]
[null,null,null,null,null,null,null,null,null,null,null,null,null,null,null,null,"Ciénaga de Mallorquín  IFN2","IFN",57546,2]
[null,null,null,null,null,null,null,null,null,null,null,null,null,null,null,null,"Ciénaga de Mallorquín  IFN3","IFN",57547,3]
[null,null,null,null,null,null,null,null,null,null,null,null,null,null,null,null,"Ciénaga de Mallorquín  IFN4","IFN",57548,4]
[null,null,null,null,null,null,null,null,null,null,null,null,null,null,null,null,"Ciénaga de Mallorquín  IFN5","IFN",57549,5]
[null,null,null,null,null,null,null,null,null,null,null,null,null,null,null,null,"Cocoplum P1","P",57425,1]
[null,null,null,null,null,null,null,null,null,null,null,null,null,null,null,null,"Cocoplum P2","P",57426,2]
[null,null,null,null,null,null,null,null,null,null,null,null,null,null,null,null,"Cocoplum P3","P",57427,3]
[null,null,null,null,null,null,null,null,null,null,null,null,null,null,null,null,"DELTA DEL RIO RANCHERIA P1","RIO",58959,1]
[null,null,null,null,null,null,null,null,null,null,null,null,null,null,null,null,"DELTA DEL RIO RANCHERIA P2","RIO",58960,2]
[null,null,null,null,null,null,null,null,null,null,null,null,null,null,null,null,"El Cove P1","P",57445,1]
[null,null,null,null,null,null,null,null,null,null,null,null,null,null,null,null,"El Cove P2","P",57446,2]
[null,null,null,null,null,null,null,null,null,null,null,null,null,null,null,null,"Golfo de Urabá BA1","BA",57911,1]
[null,null,null,null,null,null,null,null,null,null,null,null,null,null,null,null,"Golfo de Urabá BA2","BA",57912,2]
[null,null,null,null,null,null,null,null,null,null,null,null,null,null,null,null,"Golfo de Urabá BR1","BR",57907,1]
[null,null,null,null,null,null,null,null,null,null,null,null,null,null,null,null,"Golfo de Urabá BR2","BR",57908,2]
[null,null,null,null,null,null,null,null,null,null,null,null,null,null,null,null,"Golfo de Urabá BR3","BR",57909,3]
[null,null,null,null,null,null,null,null,null,null,null,null,null,null,null,null,"Golfo de Urabá BR4","BR",57910,4]
[null,null,null,null,null,null,null,null,null,null,null,null,null,null,null,null,"Golfo de Urabá NC1","NC",57913,1]
[null,null,null,null,null,null,null,null,null,null,null,null,null,null,null,null,"Golfo de Urabá NC2","NC",57914,2]
[null,null,null,null,null,null,null,null,null,null,null,null,null,null,null,null,"Golfo de Urabá NC3","NC",57915,3]
[null,null,null,null,null,null,null,null,null,null,null,null,null,null,null,null,"Golfo de Urabá RC1","RC",57902,1]
[null,null,null,null,null,null,null,null,null,null,null,null,null,null,null,null,"Golfo de Urabá RC2","RC",57903,2]
[null,null,null,null,null,null,null,null,null,null,null,null,null,null,null,null,"Golfo de Urabá RC3","RC",57904,3]
[null,null,null,null,null,null,null,null,null,null,null,null,null,null,null,null,"Golfo de Urabá RT1","RT",57905,1]
[null,null,null,null,null,null,null,null,null,null,null,null,null,null,null,null,"Golfo de Urabá RT2","RT",57906,2]
[null,null,null,null,null,null,null,null,null,null,null,null,null,null,null,null,"Golfo de Urabá RT3","RT",57901,3]
[null,null,null,null,null,null,null,null,null,null,null,null,null,null,null,null,"Guacamaya P1","P",57460,1]
[null,null,null,null,null,null,null,null,null,null,null,null,null,null,null,null,"Guacamaya P15","P",57468,15]
[null,null,null,null,null,null,null,null,null,null,null,null,null,null,null,null,"Guacamaya P16","P",57469,16]
[null,null,null,null,null,null,null,null,null,null,null,null,null,null,null,null,"Guacamaya P2","P",57462,2]
[null,null,null,null,null,null,null,null,null,null,null,null,null,null,null,null,"Guacamaya P3","P",57463,3]
[null,null,null,null,null,null,null,null,null,null,null,null,null,null,null,null,"Guacamaya P4","P",57465,4]
[null,null,null,null,null,null,null,null,null,null,null,null,null,null,null,null,"Guacamaya P5","P",57464,5]
[null,null,null,null,null,null,null,null,null,null,null,null,null,null,null,null,"Guacamaya P6","P",57467,6]
[null,null,null,null,null,null,null,null,null,null,null,null,null,null,null,null,"Guacamaya P7","P",57461,7]
[null,null,null,null,null,null,null,null,null,null,null,null,null,null,null,null,"Guacamaya P8","P",57459,8]
[null,null,null,null,null,null,null,null,null,null,null,null,null,null,null,null,"Guacamaya P9","P",57466,9]
[null,null,null,null,null,null,null,null,null,null,null,null,null,null,null,null,"John Mangrove P1","P",57456,1]
[null,null,null,null,null,null,null,null,null,null,null,null,null,null,null,null,"LA ENEA PARCELA 1","EN",58956,1]
[null,null,null,null,null,null,null,null,null,null,null,null,null,null,null,null,"LA ENEA PARCELA 2","EN",58957,2]
[null,null,null,null,null,null,null,null,null,null,null,null,null,null,null,null,"MUSICHI PARCELA 1","MUS",58961,1]
[null,null,null,null,null,null,null,null,null,null,null,null,null,null,null,null,"Mallorquín P1","P",57493,1]
[null,null,null,null,null,null,null,null,null,null,null,null,null,null,null,null,"Mallorquín P2","P",57494,2]
[null,null,null,null,null,null,null,null,null,null,null,null,null,null,null,null,"Mallorquín P3","P",57495,3]
[null,null,null,null,null,null,null,null,null,null,null,null,null,null,null,null,"Mallorquín P4","P",57496,4]
[null,null,null,null,null,null,null,null,null,null,null,null,null,null,null,null,"Mallorquín P5","P",57497,5]
[null,null,null,null,null,null,null,null,null,null,null,null,null,null,null,null,"Mallorquín P6","P",57498,6]
[null,null,null,null,null,null,null,null,null,null,null,null,null,null,null,null,"Mallorquín P7","P",57499,7]
[null,null,null,null,null,null,null,null,null,null,null,null,null,null,null,null,"Mallorquín P8","P",57500,8]
[null,null,null,null,null,null,null,null,null,null,null,null,null,null,null,null,"Manzanillo P1","P",57447,1]
[null,null,null,null,null,null,null,null,null,null,null,null,null,null,null,null,"Manzanillo P2","P",57448,2]
[null,null,null,null,null,null,null,null,null,null,null,null,null,null,null,null,"McBean Lagoon P1","P",57453,1]
[null,null,null,null,null,null,null,null,null,null,null,null,null,null,null,null,"McBean Lagoon P2","P",57454,2]
[null,null,null,null,null,null,null,null,null,null,null,null,null,null,null,null,"McBean Lagoon P3","P",57455,3]
[null,null,null,null,null,null,null,null,null,null,null,null,null,null,null,null,"Old Town P1","P",57449,1]
[null,null,null,null,null,null,null,null,null,null,null,null,null,null,null,null,"Old Town P2","P",57450,2]
[null,null,null,null,null,null,null,null,null,null,null,null,null,null,null,null,"SFF PARCELA 1","SFF",58958,1]
[null,null,null,null,null,null,null,null,null,null,null,null,null,null,null,null,"Salt Creek P1","P",57428,1]
[null,null,null,null,null,null,null,null,null,null,null,null,null,null,null,null,"Salt Creek P2","P",57429,2]
[null,null,null,null,null,null,null,null,null,null,null,null,null,null,null,null,"Salt Creek P3","P",57430,3]
[null,null,null,null,null,null,null,null,null,null,null,null,null,null,null,null,"Santa Ana P4","P",57489,4]
[null,null,null,null,null,null,null,null,null,null,null,null,null,null,null,null,"Santa Ana P5","P",57490,5]
[null,null,null,null,null,null,null,null,null,null,null,null,null,null,null,null,"Santa Catalina P1","P",57457,1]
[null,null,null,null,null,null,null,null,null,null,null,null,null,null,null,null,"Santa Catalina P2","P",57458,2]
[null,null,null,null,null,null,null,null,null,null,null,null,null,null,null,null,"Smith Channel P1","P",57431,1]
[null,null,null,null,null,null,null,null,null,null,null,null,null,null,null,null,"Smith Channel P2","P",57432,2]
[null,null,null,null,null,null,null,null,null,null,null,null,null,null,null,null,"Smith Channel P3","P",57433,3]
[null,null,null,null,null,null,null,null,null,null,null,null,null,null,null,null,"Sound Bay P1","P",57434,1]
[null,null,null,null,null,null,null,null,null,null,null,null,null,null,null,null,"Sound Bay P2","P",57435,2]
[null,null,null,null,null,null,null,null,null,null,null,null,null,null,null,null,"Sound Bay P3","P",57436,3]
[null,null,null,null,null,null,null,null,null,null,null,null,null,null,null,null,"Suroeste P1","P",57451,1]
[null,null,null,null,null,null,null,null,null,null,null,null,null,null,null,null,"Suroeste P2","P",57452,2]
[null,null,null,null,null,null,null,null,null,null,null,null,null,null,null,null,"Velodia Road P1","P",57437,1]

{"sheet":"Otras referencias","index":5,"n_rows":28,"n_cols":22,"rows_kept":28,"cut":false,"hidden":false,"merged":[[11,18,11,19],[19,0,19,1],[20,7,20,8],[10,7,10,8],[11,13,11,15],[0,0,2,6],[4,0,4,1],[4,10,4,11],[9,18,9,19],[10,18,10,19],[4,17,4,21],[5,18,5,19],[6,18,6,19],[7,18,7,19],[8,18,8,19],[26,0,26,1],[4,13,4,15],[4,3,4,5],[4,7,4,8],[10,10,10,11]]}
["Estas son listas para variables con valores que no se encuentran codificados, pero que deben manejarse de manera estandarizada. \nSi se requiere agregar un valor nuevo hagalo debajo de la lista correspondiente"]
[]
[]
[]
["UNIDADES DE MEDIDA",null,null,"PROYECTO",null,null,null,"ROLES",null,null,"METODOLOGIAS",null,null,"TEMATICAS",null,null,null,"Descripción general de Proyecto Convenio\n3700"]
["CODIGO","DESCRIPCION",null,"COD","PROYECTO","PROYECTO DESC",null,4,"Captura en campo",null,"CODIGO","DESCRIPCION",null,"COD METODOLOGIA","COD TEMATICA","DESCRIPCION",null,"Codigo del proyecto","Proyecto Convenio",null,"Descripción Siglas del convenio","Estaciones pertenecientes "]
[10,"cm",null,3572,"KFW","KFW",null,6,"Revisar datos",null,null,null,null,885,231,"FISICOQUIMICOS",null,4544,"Carbono Azul - CORALINA",null,"Corporación Coralina ","San Andres, Providencia y Sta Catalina"]
[11,"m",null,null,null,null,null,3497,"Coordinador actividad de campo",null,null,null,null,null,null,null,null,4545,"Carbono Azul - Vida Manglar",null,"Proyecto Vida Manglar","Caimanera Y PNR Guacamayas\nBahía de Cispata"]
[69,"g",null,null,null,null,null,4526,"Procesamiento en laboratorio",null,885,"FISICOQUIMICOS",null,null,null,null,null,4551,"Carbono Azul - GEF_SAMP",null,"Proyecto GEF SAMP:\n- Fondo Mundial para el Medio Ambiente o GEF (por sus siglas en inglés) \n- Diseño e implementación de un Subsistema Nacional de Áreas Marinas Protegidas (SAMP) en Colombia.","Bahia Malaga"]
[142,"Ind/Estación",null,null,null,null,null,null,null,null,null,null,null,null,null,null,null,4547,"Carbono Azul - Fundación Grupo ARGOS",null,"Fundación Grupo ARGOS","Bolívar"]
[null,null,null,null,null,null,null,"MICROHABITAT",null,null,"SUBCUADRANTE",null,null,null,null,null,null,4550,"Carbono Azul - DAMCRA",null,"DAMCRA: Grupo de Ordenamiento Ambiental del Territorio y Gestión Sostenible de la Biodiversidad Costero Marina","Bahia hondita\nGolfo de uraba"]
[null,null,null,null,null,null,null,4507,"Madrigueras de cangrejos",null,"CODIGO","DESCRIPCION",null,"CODIGOS LOV",null,null,null,4546,"Carbono Azul - Conservación Internacional",null,"Conservación Internacional","Mallorquín"]
[null,null,null,null,null,null,null,4508,"Nidos",null,null,"A",null,"DESCRIPCIÓN","CÓDIGO","GRUPO"]
[" m²",null,null,null,null,null,null,4509,"Refugios en árboles vivos",null,null,"B",null,"Departamento",10,2]
[132,null,null,null,null,null,null,4510,"Troncos en descomposición",null,null,null,null,"Sector",20,2]
[28,null,null,null,null,null,null,4511,"Caños",null,null,null,null,"Punto",30,2]
[1,null,null,null,null,null,null,4512,"Hormigueros",null,null,null,null,"Parcela",35,2]
[null,null,null,null,null,null,null,4513,"Termiteros",null,null,null,null,"Estaciones",40,2]
[null,null,null,null,null,null,null,null,null,null,null,null,null,"Region",50,2]
[" ESTADO SALUD",null,null,null,null,null,null,null,null,null,null,null,null,"Unidad_de_Manejo",60,2]
[0,"SIN AFECTACIÓN",null,null,null,null,null,"ESTADO PLAYA",null,null,null,null,null,"Unidad_Ambiental_Costera",70,2]
[1,"MODERADAMENTE AFECTADO",null,null,null,null,null,4514,"Presencia de basuras",null,null,null,null,"Localidad",80,2]
[2,"MUY AFECTADO",null,null,null,null,null,4515,"Desagüe de tuberias",null,null,null,null,"Bloque_Exploracion",85,2]
[3,"MUERTO",null,null,null,null,null,4516,"Erosión",null,null,null,null,"Area",90,2]
[null,null,null,null,null,null,null,4517,"Construcciones"]
[null,null,null,null,null,null,null,4518,"Turismo"]
["ENTIDAD",null,null,null,null,null,null,4539,"Restos de material vegetal"]
["INVEMAR","Instituto de Investigaciones Marinas y Costeras"]

{"sheet":"AGD_MUESTREOS","index":6,"n_rows":0,"n_cols":0,"rows_kept":0,"cut":false,"hidden":true,"merged":[]}

{"sheet":"AGD_PARAMETRO","index":7,"n_rows":0,"n_cols":0,"rows_kept":0,"cut":false,"hidden":true,"merged":[]}

{"sheet":"AGD_MUESTRAS","index":8,"n_rows":0,"n_cols":0,"rows_kept":0,"cut":false,"hidden":true,"merged":[]}

{"sheet":"AGD_MUESTRAS_VARIABLES","index":9,"n_rows":0,"n_cols":0,"rows_kept":0,"cut":false,"hidden":true,"merged":[]}

{"sheet":"AGD_AUTORIAS","index":10,"n_rows":0,"n_cols":0,"rows_kept":0,"cut":false,"hidden":true,"merged":[]}