{"text_format":"1","workbook":"xlsx","n_sheets":11,"sheets":["Registro de cambios","configuracion","DIGITADOR","DATOS","referentes","Otras referencias","AGD_MUESTREOS","AGD_PARAMETRO","AGD_MUESTRAS","AGD_MUESTRAS_VARIABLES","AGD_AUTORIAS"],"not_rendered":{"charts":0,"images":0,"macros":1,"external_links":1,"defined_names":21,"comments":3,"pivot_tables":0},"unopened":[],"bounds":{"document_bytes":16777216,"sheet_cells":100000,"rows_first":2000,"rows_last":500,"rows_between":2000,"halvings":0,"cell_chars":16384,"cell_head_chars":4096},"cells_cut":0,"cells_raw":0,"read":"whole","date_system":"1900"}

{"sheet":"Registro de cambios","index":0,"n_rows":8,"n_cols":7,"rows_kept":8,"cut":false,"hidden":true,"merged":[[2,3,2,6]]}
[]
[]
[null,null,null,"REGISTRO DE CAMBIOS"]
[null,null,null,"VERSIÓN No.","CAMBIO REALIZADO","AUTOR","VIGENTE DESDE\n(DD/MM/AAAA)"]
[null,null,null,"20250421m","Creación de nuevas parcelas de monitoreo para el proyecto \"Línea Base ambiental ECOPETROL\".","Kevin Moreno","2025-04-21"]
[null,null,null,"20240429i","Actualización del código de la macro.\n\nSe eliminó la URL de la antigua API de portete:\n       http://portete.invemar.org.co:7003/ArgosWebServices-RESTWebService-context-root/rest/1.0\n\nFue reemplazada por la URL de la API de ARGOS:\n       https://argos.invemar.org.co/api/\n\nLa API contiene End Points que permiten tener mayor control, facilitan la descarga de referentes (listas de usuarios, estaciones, especies, etc.) que corresponden a criterios específicos como el proyecto usado en la plantilla para evitar descargar data innecesaria.\n\nDel mismo modo, también permite la carga de información a la BDD del INVEMAR.\n\nLa macro toma los Endpoints desde la hoja configuracion de una tabla llamada \"Configuración referentes\", a la que se le puede modificar las rutas de la API o agregar nuevas. cabe resaltar que se puede \"quemar\" directamente en la macro los Endpoints que lo requieran.","Kevin Moreno","29/04/2024"]
[null,null,null,"20240211i","1. Actualización de parcelas, se agregaron nuevas parcelas de:\n        Bahía de Cispatá, Bahía Hondita, Golfo de Urabá, Bahía Málaga.\n\n2. Se agregó una nueva url para obtener los datos de parcelas, la cual, se encuentra en la pestaña; configuracion, celda: B67, esta URL solo es del proyecto 3700, por lo tanto, en el código de la macro no se relacionó con las celdas: C7 de la hoja configuracion, es decir, el código se modificó.\n\n3. Se modificó el contenido de la celda B8 en la pestaña DIGITADOR, el cual, se descarga en referentes, se colocó el nombre del proyecto – nombre con el ente que se hace el convenio.\n\n4. Se actualizaron algunos campos debido a los cambios generados.\n\n5. Se agregaron 3 especies nuevas a la lista de referentes.\n","Luz Parra","2024-02-11"]
[null,null,null,"20231120i","Se creó la plantilla de cero (0), los elementos que componen la plantilla funcionan para la temática de Biomasa Aérea.\n\nSe modificó la hoja de DIGITADOR añadiendo listas de valores, entre otros tal como observaciones generales.\n\nSe crearon todas las columnas que componente la hoja de DATOS, se obtienen valores como la fecha, estación, especie, DAP, altura, etc .\n\nSe mapeó toda la hoja de CONFIGURACIÓN para tomar los valores de los muestreos y muestras y generar las tablas que sirven para subir la información al sistema.\n","Kevin Moreno / \nLuz Parra","2023-11-20"]

{"sheet":"configuracion","index":1,"n_rows":71,"n_cols":9,"rows_kept":71,"cut":false,"hidden":true,"merged":[[28,0,35,0],[37,0,42,0],[45,0,45,1],[61,0,61,2],[23,0,26,0],[0,0,2,0],[3,0,5,0],[7,0,8,0],[9,0,15,0],[17,0,21,0]]}
["general","urlServicio","https://argos.invemar.org.co/api/"]
[null,"fila de inicio",3]
[null,"fila de fin",2003]
["metodologias","Metodologias",883]
[null,"Referentes",500]
[null,"Cantidad maxima de referentes ",500]
["estaciones/investigadores","proyectos",3700]
["Lista especies","metodologias",882]
[null,"proyectos",3700]
["MUESTREOS","ID_MUESTREO","DATOS,B"]
[null,"ID_ESTACION","DATOS,E"]
[null,"ID_PROYECTO",3700]
[null,"ID_METODOLOGIA",883]
[null,"ID_TEMATICAS",{"$f":"IF(C4=\"\",\"\",VLOOKUP(C4,'Otras referencias'!N7:P10,2,FALSE))","v":275}]
[null,"FECHA","DATOS,G"]
[null,"NOTAS","DIGITADOR,B,28"]
[null,"cantidad",2003]
["parametro muestreo","ID_MUESTREO","DATOS,B","DATOS,B","DATOS,B","DATOS,B"]
[null,"ID_PARAMETRO",1169,1055,1170,127]
[null,"ID_METODOLOGIA",{"$f":"$C$4","v":883},{"$f":"$C$4","v":883},{"$f":"$C$4","v":883},{"$f":"$C$4","v":883}]
[null,"ID_UNIDAD_MEDIDA",100,100,100,100]
[null,"VALOR","DIGITADOR,B,14","DIGITADOR,B,7","DIGITADOR,B,13","DIGITADOR,B,11"]
[null,"cantidad",2003,2003,2003,2003]
["muestra","ID_MUESTRA","DATOS,D"]
[null,"ID_MUESTREO","DATOS,C"]
[null,"NOTAS","DATOS,S"]
[null,"ES_REPLICA",1]
[null,"cantidad",2003]
["muestra variable","ID_PARAMETRO",282,1181,855,263,270,1792,307]
[null,"ID_METODOLOGIA",{"$f":"DIGITADOR!$B$4","v":883},{"$f":"DIGITADOR!$B$4","v":883},{"$f":"DIGITADOR!$B$4","v":883},{"$f":"DIGITADOR!$B$4","v":883},{"$f":"DIGITADOR!$B$4","v":883},{"$f":"DIGITADOR!$B$4","v":883},{"$f":"DIGITADOR!$B$4","v":883}]
[null,"ID_UNIDAD_MEDIDA",100,100,10,10,11,161,162]
[null,"ID_MUESTRA","DATOS,D","DATOS,D","DATOS,D","DATOS,D","DATOS,D","DATOS,D","DATOS,D"]
[null,"ID_METODO"]
[null,"VALOR","DATOS,J","DATOS,K","DATOS,M","DATOS,N","DATOS,P","DATOS,Q","DATOS,R"]
[null,"QUALITY_FLAG"]
[null,"PRECISION"]
[null,"cantidad",2003,2003,2003,2003,2003,2003,2003]
["autoria","ID_FUNCIONARIO","DIGITADOR,B,2","DIGITADOR,B,18","DIGITADOR,B,20","DIGITADOR,B,22","DIGITADOR,B,24"]
[null,"ID_TAREA",5,"DIGITADOR,A,18","DIGITADOR,A,20","DIGITADOR,A,22","DIGITADOR,A,24"]
[null,"ORDEN",1,2,3,4,5]
[null,"FECHA","DIGITADOR,B,9","DATOS,G","DATOS,G","DATOS,G","DATOS,G"]
[null,"ID_MUESTREO","DATOS,B","DATOS,B","DATOS,B","DATOS,B","DATOS,B"]
[null,"ENTIDAD","DIGITADOR,B,6","DIGITADOR,B,6","DIGITADOR,B,6","DIGITADOR,B,6","DIGITADOR,B,6"]
[null,"cantidad",2003,2003,2003,2003,2003]
[]
["REGISTROS GENERADOS",null,"REGISTROS CARGADOS",null,null,282,100,"TAG"]
["MUESTREOS",null,null,null,null,1181,100,"ESPECIE"]
["parametro muestreo",null,null,null,null,855,10,"CAP"]
["muestra",null,null,null,null,263,10,"DAP"]
["muestra variable",null,null,null,null,270,11,"ALTURA"]
["autoria",null,null,null,null,1792,161,"ÁREA BASAL "]
["registros correctos",null,null,null,null,307,162,"CARBONO"]
["Fecha de carga",null,null,null,null,1169,100,"URL_METADATO"]
["json error",null,null,null,null,1055,100,"VERSION_PLANTILLA"]
["error",null,null,null,null,1170,100,"ARCHIVO_FUENTE"]
[null,null,null,null,null,127,100,"PROYECTO_CONVENIO"]
[]
["Atributo","Descripción","Código"]
["Tipo Nodo","Parcela",{"$f":"VLOOKUP(B59,'Otras referencias'!$D$16:$F$26,2,FALSE)","v":35}]
[]
[]
["CONFIGURACION REFERENTES"]
["Ruta de la API","Endpoint","Descripción"]
["URL - AGM Campo",{"$f":"CONCATENATE(\"parametros/agmcampo/\",$C$4,\"\")","v":"parametros/agmcampo/883"},"Listado de referentes AGM_CAMPO"]
["URL - Especies",{"$f":"IF($C$8=\"\",\"\",CONCATENATE(\"especies/filt/\",$C$9,\",\",$C$8,\"/\"))","v":"especies/filt/3700,882/"},"Especies por proyecto\n(No todos los proyectos tienen asociados una lista de especies)"]
["URL - Estaciones",{"$f":"CONCATENATE(\"estaciones/\", $C$59, \"/\",$C$9,\"\")","v":"estaciones/35/3700"},"Estaciones/parcelas por proyecto, cambia dependiendo del Tipo de Nodo, cuyo estado sea VIGENTE."]
["URL - Usuarios",{"$f":"CONCATENATE(\"parametros/usersByProject/\",$C$7,\"\")","v":"parametros/usersByProject/3700"},"Usuarios por proyecto."]
["URL - Entidades","estaciones/get-entidades","Listado de entidades."]
["Atributos de la API","codigo_in","nombre_in"]
["Rango de atributos de la API","B70:C71","nombre_in"]
["URL - Plantillas","plantillas/","Endpoint para la carga de datos al sistema."]

{"sheet":"DIGITADOR","index":2,"n_rows":38,"n_cols":4,"rows_kept":38,"cut":false,"hidden":false,"merged":[[37,1,37,2],[36,1,36,2],[0,0,0,1],[15,3,15,9],[16,3,16,9],[1,3,9,9],[10,3,14,9],[7,0,8,0],[26,0,26,1],[29,0,29,1]]}
["Recolección de Datos Monitoreo\nBiomasa Aérea - Carbono Azul"]
["Código Digitador",{"$f":"IF(B3=\"\",\"\",INDEX(referentes!$V$2:$W$60,MATCH(DIGITADOR!B3,referentes!$W$2:$W$60,0),1))","v":""},null,"Recomendaciones generales: \n¡Precaución! No inserte Filas o Columnas.\nEn los casos en que falte un valor a ingresar que provenga de la hoja de referencias, informe para que el administrador del sistema haga las adiciones necesarias.\nEsta es una plantilla programada. Las columnas de color oscuro se llenan automaticamente, principalmente a partir de los contenidos de la hoja de referencias. \nNO UTILICE PUNTO Y COMA (;) en ningun campo, por ser el separador de variables (columnas). Las unidades de medida son las especificadas en la cabecera de la hoja.\nPara el correcto funcionamiento de la hoja debe estar activa la opcion de Excel de ejecutar macros (al abrir la hoja acepte la opcion habilitar macros, mensaje de Excel que aparece en la parte superior de la hoja en un recuadro amarillo). La extensión del archivo debe ser .xlsm.. \nAl finalizar, renombre el archivo de modo que su contenido sea claro, ejemplo:\ncorporacion_estacion_anocuatrodigitosmesmuestreo.xlsm. El nombre no debe tener espacios en blanco vocales tildadas o ñ."]
["Nombre del responsable",null,{"$f":"IF(G3=\"\",\"\",CONCATENATE(DIGITADOR!$M$1,G3,E3))","v":""}]
["Código Monitoreo",{"$f":"IF(B5=\"\",\"\",INDEX('Otras referencias'!$K$7:$L$9,MATCH(DIGITADOR!B5,'Otras referencias'!$L$7:$L$9,0),1))","v":883}]
["Monitoreo","BIOMASA AÉREA"]
["Entidad","Instituto de Investigaciones Marinas y Costeras"]
["Versión de la plantilla",{"$f":"'Registro de cambios'!$D$5","v":"20250421m"}]
["Fecha en la que ingresa los datos en esta hoja","DD/MM/AAAA"]
[null,"3000-12-12"]
[]
["Código del proyecto",{"$f":"IF(B12=\"\",\"\",INDEX(referentes!D2:E50,MATCH(DIGITADOR!B12,referentes!E2:E50,0),1))","v":""},null,"Previamente a iniciar el llenado de la plantilla, debe presionar el botón \"Descargar referentes\" para que los referentes de ésta plantilla sean actualizados. \nLuego de llenar completamente la plantilla verifique que:\na. No haya celdas con valores como \"#N/A\" o \"#¡REF!\".\nb. No se estén aplicando filtros en la hoja de datos.\nEnvíe la plantilla diligenciada al correo kevin.moreno@invemar.org.co"]
["Proyecto Convenio"]
["Nombre del Archivo",{"$f":"MID(CELL(\"FILENAME\",N63),FIND(\"[\",CELL(\"FILENAME\",N63))+1,   FIND(\"]\",CELL(\"FILENAME\",N63))-FIND(\"[\",CELL(\"FILENAME\",N63))-1)","v":"CA_BIOMASA_20250421m.xlsm"}]
["DOI Metadato"]
["Fuente Plantilla ","http://cinto.invemar.org.co/download/Plantillas_ARGOS_Plus/"]
[null,null,null,"Si requiere ayuda contacte a:\nKevin S. Moreno (kevin.moreno@invemar.org.co)"]
["ROLES INVOLUCRADOS","NOMBRE DE LA PERSONA",null,"El custodio de los datos es el único autorizado para distribuir este conjunto de datos. El observador y el digitador se comprometen a tomar las medidas necesarias para salvaguardar este conjunto de datos de modo que copia de los mismos no sean obtenidas y/o usadas por terceros no relacionados con el propósito para la cual se recolectó."]
[{"$f":"IF(A19=\"\",\"\",INDEX('Otras referencias'!$H$6:$I$9,MATCH(DIGITADOR!A19,'Otras referencias'!$I$6:$I$9,0),1))","v":""},{"$f":"IF(B19=\"\",\"\",INDEX(referentes!$V$2:$W$60,MATCH(DIGITADOR!B19,referentes!$W$2:$W$60,0),1))","v":""}]
[]
[{"$f":"IF(A21=\"\",\"\",INDEX('Otras referencias'!$H$6:$I$9,MATCH(DIGITADOR!A21,'Otras referencias'!$I$6:$I$9,0),1))","v":""},{"$f":"IF(B21=\"\",\"\",INDEX(referentes!$V$2:$W$60,MATCH(DIGITADOR!B21,referentes!$W$2:$W$60,0),1))","v":""}]
[]
[{"$f":"IF(A23=\"\",\"\",INDEX('Otras referencias'!$H$6:$I$9,MATCH(DIGITADOR!A23,'Otras referencias'!$I$6:$I$9,0),1))","v":""},{"$f":"IF(B23=\"\",\"\",INDEX(referentes!$V$2:$W$60,MATCH(DIGITADOR!B23,referentes!$W$2:$W$60,0),1))","v":""}]
[]
[{"$f":"IF(A25=\"\",\"\",INDEX('Otras referencias'!$H$6:$I$9,MATCH(DIGITADOR!A25,'Otras referencias'!$I$6:$I$9,0),1))","v":""},{"$f":"IF(B25=\"\",\"\",INDEX(referentes!$V$2:$W$60,MATCH(DIGITADOR!B25,referentes!$W$2:$W$60,0),1))","v":""}]
[]
[]
["ATRIBUTOS ADICIONALES"]
["Observaciones generales"]
[]
["REGISTROS GENERADOS",null,"CARGADOS"]
["Muestreos",{"$f":"IF(configuracion!B47=\"\",\"\",configuracion!B47)","v":""},{"$f":"IF(configuracion!C47=\"\",\"\",configuracion!C47)","v":""}]
["Parámetros del muestreo",{"$f":"IF(configuracion!B48=\"\",\"\",configuracion!B48)","v":""},{"$f":"IF(configuracion!C48=\"\",\"\",configuracion!C48)","v":""}]
["Registros",{"$f":"IF(configuracion!B49=\"\",\"\",configuracion!B49)","v":""},{"$f":"IF(configuracion!C49=\"\",\"\",configuracion!C49)","v":""}]
["Variables",{"$f":"IF(configuracion!B50=\"\",\"\",configuracion!B50)","v":""},{"$f":"IF(configuracion!C50=\"\",\"\",configuracion!C50)","v":""}]
["Autorías",{"$f":"IF(configuracion!B51=\"\",\"\",configuracion!B51)","v":""},{"$f":"IF(configuracion!C51=\"\",\"\",configuracion!C51)","v":""}]
["Registros correctos",{"$f":"IF(configuracion!B52=\"\",\"\",configuracion!B52)","v":""},{"$f":"IF(configuracion!C52=\"\",\"\",configuracion!C52)","v":""}]
["json error",{"$f":"IF(C41=\"\",\"\",IF(C41=0,0,IF(B41-C41=0,C41,\"Fallaron \"&B41-C41&\" registros\")))","v":""}]
["error",{"$f":"IF(C42=\"\",\"\",IF(C42=0,0,IF(B42-C42=0,C42,\"Fallaron \"&B42-C42&\" registros\")))","v":""}]

{"sheet":"DATOS","index":3,"n_rows":2003,"n_cols":19,"rows_kept":2003,"cut":false,"hidden":false,"merged":[[0,5,0,6],[0,9,0,18]]}
[null,null,null,null,null,"MUESTREO",null,null,null,"MUESTRA"]
[{"$f":"TEXT(DIGITADOR!$B$9,\"yyyymmdd\")","v":"30001212"},"AGM MUESTREO","ID MUESTREO","ID MUESTRA","ID ESTACION","PARCELA","FECHA",null,null,"TAG\n(NÚMERO DE ÁRBOL)","COD\nESPECIE","ESPECIE","CAP\n(CM)","DAP\n(CM)",null,"ALTURA\n(M)","ÁREA BASAL (M2/HA)","CARBONO\n(MG)","OBSERVACIONES"]
[null,{"$f":"IF(C3=\"\",\"\",IF(COUNTIF($C$3:C3, C3)>1, \"\", C3))","v":""},{"$f":"IF(G3=\"\",\"\",IF(F3=\"\",\"\",CONCATENATE(DIGITADOR!$M$1,G3,E3)))","v":""},{"$f":"IF(C3=\"\",\"\",CONCATENATE(C3,ROW()-2))","v":""},{"$f":"IF(F3=\"\",\"\",VLOOKUP(F3,referentes!$Q$2:$T$300,3,FALSE))","v":""},null,null,null,null,null,{"$f":"IF(L3=\"\",\"\",VLOOKUP(L3,referentes!$G$2:$N$15,2,FALSE))","v":""},null,null,{"$f":"IF(M3=\"\",\"\",M3/PI())","v":""},null,null,{"$f":"IF(N3=\"\",\"\",((PI())*((N3/100)^2))/4*10000/500)","v":""}]
[null,{"$f":"IF(C4=\"\",\"\",IF(COUNTIF($C$3:C4, C4)>1, \"\", C4))","v":""},{"$f":"IF(G4=\"\",\"\",IF(F4=\"\",\"\",CONCATENATE(DIGITADOR!$M$1,G4,E4)))","v":""},{"$f":"IF(C4=\"\",\"\",CONCATENATE(C4,ROW()-2))","v":""},{"$f":"IF(F4=\"\",\"\",VLOOKUP(F4,referentes!$Q$2:$T$300,3,FALSE))","v":""},null,null,null,null,null,{"$f":"IF(L4=\"\",\"\",VLOOKUP(L4,referentes!$G$2:$N$15,2,FALSE))","v":""},null,null,{"$f":"IF(M4=\"\",\"\",M4/PI())","v":""},null,null,{"$f":"IF(N4=\"\",\"\",((PI())*((N4/100)^2))/4*10000/500)","v":""}]
[null,{"$f":"IF(C5=\"\",\"\",IF(COUNTIF($C$3:C5, C5)>1, \"\", C5))","v":""},{"$f":"IF(G5=\"\",\"\",IF(F5=\"\",\"\",CONCATENATE(DIGITADOR!$M$1,G5,E5)))","v":""},"",{"$f":"IF(F5=\"\",\"\",VLOOKUP(F5,referentes!$Q$2:$T$300,3,FALSE))","v":""},null,null,null,null,null,{"$f":"IF(L5=\"\",\"\",VLOOKUP(L5,referentes!$G$2:$N$15,2,FALSE))","v":""},null,null,"",null,null,""]
[null,{"$f":"IF(C6=\"\",\"\",IF(COUNTIF($C$3:C6, C6)>1, \"\", C6))","v":""},{"$f":"IF(G6=\"\",\"\",IF(F6=\"\",\"\",CONCATENATE(DIGITADOR!$M$1,G6,E6)))","v":""},"",{"$f":"IF(F6=\"\",\"\",VLOOKUP(F6,referentes!$Q$2:$T$300,3,FALSE))","v":""},null,null,null,null,null,{"$f":"IF(L6=\"\",\"\",VLOOKUP(L6,referentes!$G$2:$N$15,2,FALSE))","v":""},null,null,"",null,null,""]
[null,{"$f":"IF(C7=\"\",\"\",IF(COUNTIF($C$3:C7, C7)>1, \"\", C7))","v":""},{"$f":"IF(G7=\"\",\"\",IF(F7=\"\",\"\",CONCATENATE(DIGITADOR!$M$1,G7,E7)))","v":""},"",{"$f":"IF(F7=\"\",\"\",VLOOKUP(F7,referentes!$Q$2:$T$300,3,FALSE))","v":""},null,null,null,null,null,{"$f":"IF(L7=\"\",\"\",VLOOKUP(L7,referentes!$G$2:$N$15,2,FALSE))","v":""},null,null,"",null,null,""]
[null,{"$f":"IF(C8=\"\",\"\",IF(COUNTIF($C$3:C8, C8)>1, \"\", C8))","v":""},{"$f":"IF(G8=\"\",\"\",IF(F8=\"\",\"\",CONCATENATE(DIGITADOR!$M$1,G8,E8)))","v":""},"",{"$f":"IF(F8=\"\",\"\",VLOOKUP(F8,referentes!$Q$2:$T$300,3,FALSE))","v":""},null,null,null,null,null,{"$f":"IF(L8=\"\",\"\",VLOOKUP(L8,referentes!$G$2:$N$15,2,FALSE))","v":""},null,null,"",null,null,""]
[null,{"$f":"IF(C9=\"\",\"\",IF(COUNTIF($C$3:C9, C9)>1, \"\", C9))","v":""},{"$f":"IF(G9=\"\",\"\",IF(F9=\"\",\"\",CONCATENATE(DIGITADOR!$M$1,G9,E9)))","v":""},"",{"$f":"IF(F9=\"\",\"\",VLOOKUP(F9,referentes!$Q$2:$T$300,3,FALSE))","v":""},null,null,null,null,null,{"$f":"IF(L9=\"\",\"\",VLOOKUP(L9,referentes!$G$2:$N$15,2,FALSE))","v":""},null,null,"",null,null,""]
[null,{"$f":"IF(C10=\"\",\"\",IF(COUNTIF($C$3:C10, C10)>1, \"\", C10))","v":""},{"$f":"IF(G10=\"\",\"\",IF(F10=\"\",\"\",CONCATENATE(DIGITADOR!$M$1,G10,E10)))","v":""},"",{"$f":"IF(F10=\"\",\"\",VLOOKUP(F10,referentes!$Q$2:$T$300,3,FALSE))","v":""},null,null,null,null,null,{"$f":"IF(L10=\"\",\"\",VLOOKUP(L10,referentes!$G$2:$N$15,2,FALSE))","v":""},null,null,"",null,null,""]
[null,{"$f":"IF(C11=\"\",\"\",IF(COUNTIF($C$3:C11, C11)>1, \"\", C11))","v":""},{"$f":"IF(G11=\"\",\"\",IF(F11=\"\",\"\",CONCATENATE(DIGITADOR!$M$1,G11,E11)))","v":""},"",{"$f":"IF(F11=\"\",\"\",VLOOKUP(F11,referentes!$Q$2:$T$300,3,FALSE))","v":""},null,null,null,null,null,{"$f":"IF(L11=\"\",\"\",VLOOKUP(L11,referentes!$G$2:$N$15,2,FALSE))","v":""},null,null,"",null,null,""]
[null,{"$f":"IF(C12=\"\",\"\",IF(COUNTIF($C$3:C12, C12)>1, \"\", C12))","v":""},{"$f":"IF(G12=\"\",\"\",IF(F12=\"\",\"\",CONCATENATE(DIGITADOR!$M$1,G12,E12)))","v":""},"",{"$f":"IF(F12=\"\",\"\",VLOOKUP(F12,referentes!$Q$2:$T$300,3,FALSE))","v":""},null,null,null,null,null,{"$f":"IF(L12=\"\",\"\",VLOOKUP(L12,referentes!$G$2:$N$15,2,FALSE))","v":""},null,null,"",null,null,""]
[null,{"$f":"IF(C13=\"\",\"\",IF(COUNTIF($C$3:C13, C13)>1, \"\", C13))","v":""},{"$f":"IF(G13=\"\",\"\",IF(F13=\"\",\"\",CONCATENATE(DIGITADOR!$M$1,G13,E13)))","v":""},"",{"$f":"IF(F13=\"\",\"\",VLOOKUP(F13,referentes!$Q$2:$T$300,3,FALSE))","v":""},null,null,null,null,null,{"$f":"IF(L13=\"\",\"\",VLOOKUP(L13,referentes!$G$2:$N$15,2,FALSE))","v":""},null,null,"",null,null,""]
[null,{"$f":"IF(C14=\"\",\"\",IF(COUNTIF($C$3:C14, C14)>1, \"\", C14))","v":""},{"$f":"IF(G14=\"\",\"\",IF(F14=\"\",\"\",CONCATENATE(DIGITADOR!$M$1,G14,E14)))","v":""},"",{"$f":"IF(F14=\"\",\"\",VLOOKUP(F14,referentes!$Q$2:$T$300,3,FALSE))","v":""},null,null,null,null,null,{"$f":"IF(L14=\"\",\"\",VLOOKUP(L14,referentes!$G$2:$N$15,2,FALSE))","v":""},null,null,"",null,null,""]
[null,{"$f":"IF(C15=\"\",\"\",IF(COUNTIF($C$3:C15, C15)>1, \"\", C15))","v":""},{"$f":"IF(G15=\"\",\"\",IF(F15=\"\",\"\",CONCATENATE(DIGITADOR!$M$1,G15,E15)))","v":""},"",{"$f":"IF(F15=\"\",\"\",VLOOKUP(F15,referentes!$Q$2:$T$300,3,FALSE))","v":""},null,null,null,null,null,{"$f":"IF(L15=\"\",\"\",VLOOKUP(L15,referentes!$G$2:$N$15,2,FALSE))","v":""},null,null,"",null,null,""]
[null,{"$f":"IF(C16=\"\",\"\",IF(COUNTIF($C$3:C16, C16)>1, \"\", C16))","v":""},{"$f":"IF(G16=\"\",\"\",IF(F16=\"\",\"\",CONCATENATE(DIGITADOR!$M$1,G16,E16)))","v":""},"",{"$f":"IF(F16=\"\",\"\",VLOOKUP(F16,referentes!$Q$2:$T$300,3,FALSE))","v":""},null,null,null,null,null,{"$f":"IF(L16=\"\",\"\",VLOOKUP(L16,referentes!$G$2:$N$15,2,FALSE))","v":""},null,null,"",null,null,""]
[null,{"$f":"IF(C17=\"\",\"\",IF(COUNTIF($C$3:C17, C17)>1, \"\", C17))","v":""},{"$f":"IF(G17=\"\",\"\",IF(F17=\"\",\"\",CONCATENATE(DIGITADOR!$M$1,G17,E17)))","v":""},"",{"$f":"IF(F17=\"\",\"\",VLOOKUP(F17,referentes!$Q$2:$T$300,3,FALSE))","v":""},null,null,null,null,null,{"$f":"IF(L17=\"\",\"\",VLOOKUP(L17,referentes!$G$2:$N$15,2,FALSE))","v":""},null,null,"",null,null,""]
[null,{"$f":"IF(C18=\"\",\"\",IF(COUNTIF($C$3:C18, C18)>1, \"\", C18))","v":""},{"$f":"IF(G18=\"\",\"\",IF(F18=\"\",\"\",CONCATENATE(DIGITADOR!$M$1,G18,E18)))","v":""},"",{"$f":"IF(F18=\"\",\"\",VLOOKUP(F18,referentes!$Q$2:$T$300,3,FALSE))","v":""},null,null,null,null,null,{"$f":"IF(L18=\"\",\"\",VLOOKUP(L18,referentes!$G$2:$N$15,2,FALSE))","v":""},null,null,"",null,null,""]
[null,{"$f":"IF(C19=\"\",\"\",IF(COUNTIF($C$3:C19, C19)>1, \"\", C19))","v":""},{"$f":"IF(G19=\"\",\"\",IF(F19=\"\",\"\",CONCATENATE(DIGITADOR!$M$1,G19,E19)))","v":""},"",{"$f":"IF(F19=\"\",\"\",VLOOKUP(F19,referentes!$Q$2:$T$300,3,FALSE))","v":""},null,null,null,null,null,{"$f":"IF(L19=\"\",\"\",VLOOKUP(L19,referentes!$G$2:$N$15,2,FALSE))","v":""},null,null,"",null,null,""]
[null,{"$f":"IF(C20=\"\",\"\",IF(COUNTIF($C$3:C20, C20)>1, \"\", C20))","v":""},{"$f":"IF(G20=\"\",\"\",IF(F20=\"\",\"\",CONCATENATE(DIGITADOR!$M$1,G20,E20)))","v":""},"",{"$f":"IF(F20=\"\",\"\",VLOOKUP(F20,referentes!$Q$2:$T$300,3,FALSE))","v":""},null,null,null,null,null,{"$f":"IF(L20=\"\",\"\",VLOOKUP(L20,referentes!$G$2:$N$15,2,FALSE))","v":""},null,null,"",null,null,""]
[null,{"$f":"IF(C21=\"\",\"\",IF(COUNTIF($C$3:C21, C21)>1, \"\", C21))","v":""},{"$f":"IF(G21=\"\",\"\",IF(F21=\"\",\"\",CONCATENATE(DIGITADOR!$M$1,G21,E21)))","v":""},"",{"$f":"IF(F21=\"\",\"\",VLOOKUP(F21,referentes!$Q$2:$T$300,3,FALSE))","v":""},null,null,null,null,null,{"$f":"IF(L21=\"\",\"\",VLOOKUP(L21,referentes!$G$2:$N$15,2,FALSE))","v":""},null,null,"",null,null,""]
[null,{"$f":"IF(C22=\"\",\"\",IF(COUNTIF($C$3:C22, C22)>1, \"\", C22))","v":""},{"$f":"IF(G22=\"\",\"\",IF(F22=\"\",\"\",CONCATENATE(DIGITADOR!$M$1,G22,E22)))","v":""},"",{"$f":"IF(F22=\"\",\"\",VLOOKUP(F22,referentes!$Q$2:$T$300,3,FALSE))","v":""},null,null,null,null,null,{"$f":"IF(L22=\"\",\"\",VLOOKUP(L22,referentes!$G$2:$N$15,2,FALSE))","v":""},null,null,"",null,null,""]
[null,{"$f":"IF(C23=\"\",\"\",IF(COUNTIF($C$3:C23, C23)>1, \"\", C23))","v":""},{"$f":"IF(G23=\"\",\"\",IF(F23=\"\",\"\",CONCATENATE(DIGITADOR!$M$1,G23,E23)))","v":""},"",{"$f":"IF(F23=\"\",\"\",VLOOKUP(F23,referentes!$Q$2:$T$300,3,FALSE))","v":""},null,null,null,null,null,{"$f":"IF(L23=\"\",\"\",VLOOKUP(L23,referentes!$G$2:$N$15,2,FALSE))","v":""},null,null,"",null,null,""]
[null,{"$f":"IF(C24=\"\",\"\",IF(COUNTIF($C$3:C24, C24)>1, \"\", C24))","v":""},{"$f":"IF(G24=\"\",\"\",IF(F24=\"\",\"\",CONCATENATE(DIGITADOR!$M$1,G24,E24)))","v":""},"",{"$f":"IF(F24=\"\",\"\",VLOOKUP(F24,referentes!$Q$2:$T$300,3,FALSE))","v":""},null,null,null,null,null,{"$f":"IF(L24=\"\",\"\",VLOOKUP(L24,referentes!$G$2:$N$15,2,FALSE))","v":""},null,null,"",null,null,""]
[null,{"$f":"IF(C25=\"\",\"\",IF(COUNTIF($C$3:C25, C25)>1, \"\", C25))","v":""},{"$f":"IF(G25=\"\",\"\",IF(F25=\"\",\"\",CONCATENATE(DIGITADOR!$M$1,G25,E25)))","v":""},"",{"$f":"IF(F25=\"\",\"\",VLOOKUP(F25,referentes!$Q$2:$T$300,3,FALSE))","v":""},null,null,null,null,null,{"$f":"IF(L25=\"\",\"\",VLOOKUP(L25,referentes!$G$2:$N$15,2,FALSE))","v":""},null,null,"",null,null,""]
[null,{"$f":"IF(C26=\"\",\"\",IF(COUNTIF($C$3:C26, C26)>1, \"\", C26))","v":""},{"$f":"IF(G26=\"\",\"\",IF(F26=\"\",\"\",CONCATENATE(DIGITADOR!$M$1,G26,E26)))","v":""},"",{"$f":"IF(F26=\"\",\"\",VLOOKUP(F26,referentes!$Q$2:$T$300,3,FALSE))","v":""},null,null,null,null,null,{"$f":"IF(L26=\"\",\"\",VLOOKUP(L26,referentes!$G$2:$N$15,2,FALSE))","v":""},null,null,"",null,null,""]
[null,{"$f":"IF(C27=\"\",\"\",IF(COUNTIF($C$3:C27, C27)>1, \"\", C27))","v":""},{"$f":"IF(G27=\"\",\"\",IF(F27=\"\",\"\",CONCATENATE(DIGITADOR!$M$1,G27,E27)))","v":""},"",{"$f":"IF(F27=\"\",\"\",VLOOKUP(F27,referentes!$Q$2:$T$300,3,FALSE))","v":""},null,null,null,null,null,{"$f":"IF(L27=\"\",\"\",VLOOKUP(L27,referentes!$G$2:$N$15,2,FALSE))","v":""},null,null,"",null,null,""]
[null,{"$f":"IF(C28=\"\",\"\",IF(COUNTIF($C$3:C28, C28)>1, \"\", C28))","v":""},{"$f":"IF(G28=\"\",\"\",IF(F28=\"\",\"\",CONCATENATE(DIGITADOR!$M$1,G28,E28)))","v":""},"",{"$f":"IF(F28=\"\",\"\",VLOOKUP(F28,referentes!$Q$2:$T$300,3,FALSE))","v":""},null,null,null,null,null,{"$f":"IF(L28=\"\",\"\",VLOOKUP(L28,referentes!$G$2:$N$15,2,FALSE))","v":""},null,null,"",null,null,""]
[null,{"$f":"IF(C29=\"\",\"\",IF(COUNTIF($C$3:C29, C29)>1, \"\", C29))","v":""},{"$f":"IF(G29=\"\",\"\",IF(F29=\"\",\"\",CONCATENATE(DIGITADOR!$M$1,G29,E29)))","v":""},"",{"$f":"IF(F29=\"\",\"\",VLOOKUP(F29,referentes!$Q$2:$T$300,3,FALSE))","v":""},null,null,null,null,null,{"$f":"IF(L29=\"\",\"\",VLOOKUP(L29,referentes!$G$2:$N$15,2,FALSE))","v":""},null,null,"",null,null,""]
[null,{"$f":"IF(C30=\"\",\"\",IF(COUNTIF($C$3:C30, C30)>1, \"\", C30))","v":""},{"$f":"IF(G30=\"\",\"\",IF(F30=\"\",\"\",CONCATENATE(DIGITADOR!$M$1,G30,E30)))","v":""},"",{"$f":"IF(F30=\"\",\"\",VLOOKUP(F30,referentes!$Q$2:$T$300,3,FALSE))","v":""},null,null,null,null,null,{"$f":"IF(L30=\"\",\"\",VLOOKUP(L30,referentes!$G$2:$N$15,2,FALSE))","v":""},null,null,"",null,null,""]
[null,{"$f":"IF(C31=\"\",\"\",IF(COUNTIF($C$3:C31, C31)>1, \"\", C31))","v":""},{"$f":"IF(G31=\"\",\"\",IF(F31=\"\",\"\",CONCATENATE(DIGITADOR!$M$1,G31,E31)))","v":""},"",{"$f":"IF(F31=\"\",\"\",VLOOKUP(F31,referentes!$Q$2:$T$300,3,FALSE))","v":""},null,null,null,null,null,{"$f":"IF(L31=\"\",\"\",VLOOKUP(L31,referentes!$G$2:$N$15,2,FALSE))","v":""},null,null,"",null,null,""]
[null,{"$f":"IF(C32=\"\",\"\",IF(COUNTIF($C$3:C32, C32)>1, \"\", C32))","v":""},{"$f":"IF(G32=\"\",\"\",IF(F32=\"\",\"\",CONCATENATE(DIGITADOR!$M$1,G32,E32)))","v":""},"",{"$f":"IF(F32=\"\",\"\",VLOOKUP(F32,referentes!$Q$2:$T$300,3,FALSE))","v":""},null,null,null,null,null,{"$f":"IF(L32=\"\",\"\",VLOOKUP(L32,referentes!$G$2:$N$15,2,FALSE))","v":""},null,null,"",null,null,""]
[null,{"$f":"IF(C33=\"\",\"\",IF(COUNTIF($C$3:C33, C33)>1, \"\", C33))","v":""},{"$f":"IF(G33=\"\",\"\",IF(F33=\"\",\"\",CONCATENATE(DIGITADOR!$M$1,G33,E33)))","v":""},"",{"$f":"IF(F33=\"\",\"\",VLOOKUP(F33,referentes!$Q$2:$T$300,3,FALSE))","v":""},null,null,null,null,null,{"$f":"IF(L33=\"\",\"\",VLOOKUP(L33,referentes!$G$2:$N$15,2,FALSE))","v":""},null,null,"",null,null,""]
[null,{"$f":"IF(C34=\"\",\"\",IF(COUNTIF($C$3:C34, C34)>1, \"\", C34))","v":""},{"$f":"IF(G34=\"\",\"\",IF(F34=\"\",\"\",CONCATENATE(DIGITADOR!$M$1,G34,E34)))","v":""},"",{"$f":"IF(F34=\"\",\"\",VLOOKUP(F34,referentes!$Q$2:$T$300,3,FALSE))","v":""},null,null,null,null,null,{"$f":"IF(L34=\"\",\"\",VLOOKUP(L34,referentes!$G$2:$N$15,2,FALSE))","v":""},null,null,"",null,null,""]
[null,{"$f":"IF(C35=\"\",\"\",IF(COUNTIF($C$3:C35, C35)>1, \"\", C35))","v":""},{"$f":"IF(G35=\"\",\"\",IF(F35=\"\",\"\",CONCATENATE(DIGITADOR!$M$1,G35,E35)))","v":""},"",{"$f":"IF(F35=\"\",\"\",VLOOKUP(F35,referentes!$Q$2:$T$300,3,FALSE))","v":""},null,null,null,null,null,{"$f":"IF(L35=\"\",\"\",VLOOKUP(L35,referentes!$G$2:$N$15,2,FALSE))","v":""},null,null,"",null,null,""]
[null,{"$f":"IF(C36=\"\",\"\",IF(COUNTIF($C$3:C36, C36)>1, \"\", C36))","v":""},{"$f":"IF(G36=\"\",\"\",IF(F36=\"\",\"\",CONCATENATE(DIGITADOR!$M$1,G36,E36)))","v":""},"",{"$f":"IF(F36=\"\",\"\",VLOOKUP(F36,referentes!$Q$2:$T$300,3,FALSE))","v":""},null,null,null,null,null,{"$f":"IF(L36=\"\",\"\",VLOOKUP(L36,referentes!$G$2:$N$15,2,FALSE))","v":""},null,null,"",null,null,""]
[null,{"$f":"IF(C37=\"\",\"\",IF(COUNTIF($C$3:C37, C37)>1, \"\", C37))","v":""},{"$f":"IF(G37=\"\",\"\",IF(F37=\"\",\"\",CONCATENATE(DIGITADOR!$M$1,G37,E37)))","v":""},"",{"$f":"IF(F37=\"\",\"\",VLOOKUP(F37,referentes!$Q$2:$T$300,3,FALSE))","v":""},null,null,null,null,null,{"$f":"IF(L37=\"\",\"\",VLOOKUP(L37,referentes!$G$2:$N$15,2,FALSE))","v":""},null,null,"",null,null,""]
[null,{"$f":"IF(C38=\"\",\"\",IF(COUNTIF($C$3:C38, C38)>1, \"\", C38))","v":""},{"$f":"IF(G38=\"\",\"\",IF(F38=\"\",\"\",CONCATENATE(DIGITADOR!$M$1,G38,E38)))","v":""},"",{"$f":"IF(F38=\"\",\"\",VLOOKUP(F38,referentes!$Q$2:$T$300,3,FALSE))","v":""},null,null,null,null,null,{"$f":"IF(L38=\"\",\"\",VLOOKUP(L38,referentes!$G$2:$N$15,2,FALSE))","v":""},null,null,"",null,null,""]
[null,{"$f":"IF(C39=\"\",\"\",IF(COUNTIF($C$3:C39, C39)>1, \"\", C39))","v":""},{"$f":"IF(G39=\"\",\"\",IF(F39=\"\",\"\",CONCATENATE(DIGITADOR!$M$1,G39,E39)))","v":""},"",{"$f":"IF(F39=\"\",\"\",VLOOKUP(F39,referentes!$Q$2:$T$300,3,FALSE))","v":""},null,null,null,null,null,{"$f":"IF(L39=\"\",\"\",VLOOKUP(L39,referentes!$G$2:$N$15,2,FALSE))","v":""},null,null,"",null,null,""]
[null,{"$f":"IF(C40=\"\",\"\",IF(COUNTIF($C$3:C40, C40)>1, \"\", C40))","v":""},{"$f":"IF(G40=\"\",\"\",IF(F40=\"\",\"\",CONCATENATE(DIGITADOR!$M$1,G40,E40)))","v":""},"",{"$f":"IF(F40=\"\",\"\",VLOOKUP(F40,referentes!$Q$2:$T$300,3,FALSE))","v":""},null,null,null,null,null,{"$f":"IF(L40=\"\",\"\",VLOOKUP(L40,referentes!$G$2:$N$15,2,FALSE))","v":""},null,null,"",null,null,""]
[null,{"$f":"IF(C41=\"\",\"\",IF(COUNTIF($C$3:C41, C41)>1, \"\", C41))","v":""},{"$f":"IF(G41=\"\",\"\",IF(F41=\"\",\"\",CONCATENATE(DIGITADOR!$M$1,G41,E41)))","v":""},"",{"$f":"IF(F41=\"\",\"\",VLOOKUP(F41,referentes!$Q$2:$T$300,3,FALSE))","v":""},null,null,null,null,null,{"$f":"IF(L41=\"\",\"\",VLOOKUP(L41,referentes!$G$2:$N$15,2,FALSE))","v":""},null,null,"",null,null,""]
[null,{"$f":"IF(C42=\"\",\"\",IF(COUNTIF($C$3:C42, C42)>1, \"\", C42))","v":""},{"$f":"IF(G42=\"\",\"\",IF(F42=\"\",\"\",CONCATENATE(DIGITADOR!$M$1,G42,E42)))","v":""},"",{"$f":"IF(F42=\"\",\"\",VLOOKUP(F42,referentes!$Q$2:$T$300,3,FALSE))","v":""},null,null,null,null,null,{"$f":"IF(L42=\"\",\"\",VLOOKUP(L42,referentes!$G$2:$N$15,2,FALSE))","v":""},null,null,"",null,null,""]
[null,{"$f":"IF(C43=\"\",\"\",IF(COUNTIF($C$3:C43, C43)>1, \"\", C43))","v":""},{"$f":"IF(G43=\"\",\"\",IF(F43=\"\",\"\",CONCATENATE(DIGITADOR!$M$1,G43,E43)))","v":""},"",{"$f":"IF(F43=\"\",\"\",VLOOKUP(F43,referentes!$Q$2:$T$300,3,FALSE))","v":""},null,null,null,null,null,{"$f":"IF(L43=\"\",\"\",VLOOKUP(L43,referentes!$G$2:$N$15,2,FALSE))","v":""},null,null,"",null,null,""]
[null,{"$f":"IF(C44=\"\",\"\",IF(COUNTIF($C$3:C44, C44)>1, \"\", C44))","v":""},{"$f":"IF(G44=\"\",\"\",IF(F44=\"\",\"\",CONCATENATE(DIGITADOR!$M$1,G44,E44)))","v":""},"",{"$f":"IF(F44=\"\",\"\",VLOOKUP(F44,referentes!$Q$2:$T$300,3,FALSE))","v":""},null,null,null,null,null,{"$f":"IF(L44=\"\",\"\",VLOOKUP(L44,referentes!$G$2:$N$15,2,FALSE))","v":""},null,null,"",null,null,""]
[null,{"$f":"IF(C45=\"\",\"\",IF(COUNTIF($C$3:C45, C45)>1, \"\", C45))","v":""},{"$f":"IF(G45=\"\",\"\",IF(F45=\"\",\"\",CONCATENATE(DIGITADOR!$M$1,G45,E45)))","v":""},"",{"$f":"IF(F45=\"\",\"\",VLOOKUP(F45,referentes!$Q$2:$T$300,3,FALSE))","v":""},null,null,null,null,null,{"$f":"IF(L45=\"\",\"\",VLOOKUP(L45,referentes!$G$2:$N$15,2,FALSE))","v":""},null,null,"",null,null,""]
[null,{"$f":"IF(C46=\"\",\"\",IF(COUNTIF($C$3:C46, C46)>1, \"\", C46))","v":""},{"$f":"IF(G46=\"\",\"\",IF(F46=\"\",\"\",CONCATENATE(DIGITADOR!$M$1,G46,E46)))","v":""},"",{"$f":"IF(F46=\"\",\"\",VLOOKUP(F46,referentes!$Q$2:$T$300,3,FALSE))","v":""},null,null,null,null,null,{"$f":"IF(L46=\"\",\"\",VLOOKUP(L46,referentes!$G$2:$N$15,2,FALSE))","v":""},null,null,"",null,null,""]
[null,{"$f":"IF(C47=\"\",\"\",IF(COUNTIF($C$3:C47, C47)>1, \"\", C47))","v":""},{"$f":"IF(G47=\"\",\"\",IF(F47=\"\",\"\",CONCATENATE(DIGITADOR!$M$1,G47,E47)))","v":""},"",{"$f":"IF(F47=\"\",\"\",VLOOKUP(F47,referentes!$Q$2:$T$300,3,FALSE))","v":""},null,null,null,null,null,{"$f":"IF(L47=\"\",\"\",VLOOKUP(L47,referentes!$G$2:$N$15,2,FALSE))","v":""},null,null,"",null,null,""]
[null,{"$f":"IF(C48=\"\",\"\",IF(COUNTIF($C$3:C48, C48)>1, \"\", C48))","v":""},{"$f":"IF(G48=\"\",\"\",IF(F48=\"\",\"\",CONCATENATE(DIGITADOR!$M$1,G48,E48)))","v":""},"",{"$f":"IF(F48=\"\",\"\",VLOOKUP(F48,referentes!$Q$2:$T$300,3,FALSE))","v":""},null,null,null,null,null,{"$f":"IF(L48=\"\",\"\",VLOOKUP(L48,referentes!$G$2:$N$15,2,FALSE))","v":""},null,null,"",null,null,""]
[null,{"$f":"IF(C49=\"\",\"\",IF(COUNTIF($C$3:C49, C49)>1, \"\", C49))","v":""},{"$f":"IF(G49=\"\",\"\",IF(F49=\"\",\"\",CONCATENATE(DIGITADOR!$M$1,G49,E49)))","v":""},"",{"$f":"IF(F49=\"\",\"\",VLOOKUP(F49,referentes!$Q$2:$T$300,3,FALSE))","v":""},null,null,null,null,null,{"$f":"IF(L49=\"\",\"\",VLOOKUP(L49,referentes!$G$2:$N$15,2,FALSE))","v":""},null,null,"",null,null,""]
[null,{"$f":"IF(C50=\"\",\"\",IF(COUNTIF($C$3:C50, C50)>1, \"\", C50))","v":""},{"$f":"IF(G50=\"\",\"\",IF(F50=\"\",\"\",CONCATENATE(DIGITADOR!$M$1,G50,E50)))","v":""},"",{"$f":"IF(F50=\"\",\"\",VLOOKUP(F50,referentes!$Q$2:$T$300,3,FALSE))","v":""},null,null,null,null,null,{"$f":"IF(L50=\"\",\"\",VLOOKUP(L50,referentes!$G$2:$N$15,2,FALSE))","v":""},null,null,"",null,null,""]
[null,{"$f":"IF(C51=\"\",\"\",IF(COUNTIF($C$3:C51, C51)>1, \"\", C51))","v":""},{"$f":"IF(G51=\"\",\"\",IF(F51=\"\",\"\",CONCATENATE(DIGITADOR!$M$1,G51,E51)))","v":""},"",{"$f":"IF(F51=\"\",\"\",VLOOKUP(F51,referentes!$Q$2:$T$300,3,FALSE))","v":""},null,null,null,null,null,{"$f":"IF(L51=\"\",\"\",VLOOKUP(L51,referentes!$G$2:$N$15,2,FALSE))","v":""},null,null,"",null,null,""]
[null,{"$f":"IF(C52=\"\",\"\",IF(COUNTIF($C$3:C52, C52)>1, \"\", C52))","v":""},{"$f":"IF(G52=\"\",\"\",IF(F52=\"\",\"\",CONCATENATE(DIGITADOR!$M$1,G52,E52)))","v":""},"",{"$f":"IF(F52=\"\",\"\",VLOOKUP(F52,referentes!$Q$2:$T$300,3,FALSE))","v":""},null,null,null,null,null,{"$f":"IF(L52=\"\",\"\",VLOOKUP(L52,referentes!$G$2:$N$15,2,FALSE))","v":""},null,null,"",null,null,""]
[null,{"$f":"IF(C53=\"\",\"\",IF(COUNTIF($C$3:C53, C53)>1, \"\", C53))","v":""},{"$f":"IF(G53=\"\",\"\",IF(F53=\"\",\"\",CONCATENATE(DIGITADOR!$M$1,G53,E53)))","v":""},"",{"$f":"IF(F53=\"\",\"\",VLOOKUP(F53,referentes!$Q$2:$T$300,3,FALSE))","v":""},null,null,null,null,null,{"$f":"IF(L53=\"\",\"\",VLOOKUP(L53,referentes!$G$2:$N$15,2,FALSE))","v":""},null,null,"",null,null,""]
[null,{"$f":"IF(C54=\"\",\"\",IF(COUNTIF($C$3:C54, C54)>1, \"\", C54))","v":""},{"$f":"IF(G54=\"\",\"\",IF(F54=\"\",\"\",CONCATENATE(DIGITADOR!$M$1,G54,E54)))","v":""},"",{"$f":"IF(F54=\"\",\"\",VLOOKUP(F54,referentes!$Q$2:$T$300,3,FALSE))","v":""},null,null,null,null,null,{"$f":"IF(L54=\"\",\"\",VLOOKUP(L54,referentes!$G$2:$N$15,2,FALSE))","v":""},null,null,"",null,null,""]
[null,{"$f":"IF(C55=\"\",\"\",IF(COUNTIF($C$3:C55, C55)>1, \"\", C55))","v":""},{"$f":"IF(G55=\"\",\"\",IF(F55=\"\",\"\",CONCATENATE(DIGITADOR!$M$1,G55,E55)))","v":""},"",{"$f":"IF(F55=\"\",\"\",VLOOKUP(F55,referentes!$Q$2:$T$300,3,FALSE))","v":""},null,null,null,null,null,{"$f":"IF(L55=\"\",\"\",VLOOKUP(L55,referentes!$G$2:$N$15,2,FALSE))","v":""},null,null,"",null,null,""]
[null,{"$f":"IF(C56=\"\",\"\",IF(COUNTIF($C$3:C56, C56)>1, \"\", C56))","v":""},{"$f":"IF(G56=\"\",\"\",IF(F56=\"\",\"\",CONCATENATE(DIGITADOR!$M$1,G56,E56)))","v":""},"",{"$f":"IF(F56=\"\",\"\",VLOOKUP(F56,referentes!$Q$2:$T$300,3,FALSE))","v":""},null,null,null,null,null,{"$f":"IF(L56=\"\",\"\",VLOOKUP(L56,referentes!$G$2:$N$15,2,FALSE))","v":""},null,null,"",null,null,""]
[null,{"$f":"IF(C57=\"\",\"\",IF(COUNTIF($C$3:C57, C57)>1, \"\", C57))","v":""},{"$f":"IF(G57=\"\",\"\",IF(F57=\"\",\"\",CONCATENATE(DIGITADOR!$M$1,G57,E57)))","v":""},"",{"$f":"IF(F57=\"\",\"\",VLOOKUP(F57,referentes!$Q$2:$T$300,3,FALSE))","v":""},null,null,null,null,null,{"$f":"IF(L57=\"\",\"\",VLOOKUP(L57,referentes!$G$2:$N$15,2,FALSE))","v":""},null,null,"",null,null,""]
[null,{"$f":"IF(C58=\"\",\"\",IF(COUNTIF($C$3:C58, C58)>1, \"\", C58))","v":""},{"$f":"IF(G58=\"\",\"\",IF(F58=\"\",\"\",CONCATENATE(DIGITADOR!$M$1,G58,E58)))","v":""},"",{"$f":"IF(F58=\"\",\"\",VLOOKUP(F58,referentes!$Q$2:$T$300,3,FALSE))","v":""},null,null,null,null,null,{"$f":"IF(L58=\"\",\"\",VLOOKUP(L58,referentes!$G$2:$N$15,2,FALSE))","v":""},null,null,"",null,null,""]
[null,{"$f":"IF(C59=\"\",\"\",IF(COUNTIF($C$3:C59, C59)>1, \"\", C59))","v":""},{"$f":"IF(G59=\"\",\"\",IF(F59=\"\",\"\",CONCATENATE(DIGITADOR!$M$1,G59,E59)))","v":""},"",{"$f":"IF(F59=\"\",\"\",VLOOKUP(F59,referentes!$Q$2:$T$300,3,FALSE))","v":""},null,null,null,null,null,{"$f":"IF(L59=\"\",\"\",VLOOKUP(L59,referentes!$G$2:$N$15,2,FALSE))","v":""},null,null,"",null,null,""]
[null,{"$f":"IF(C60=\"\",\"\",IF(COUNTIF($C$3:C60, C60)>1, \"\", C60))","v":""},{"$f":"IF(G60=\"\",\"\",IF(F60=\"\",\"\",CONCATENATE(DIGITADOR!$M$1,G60,E60)))","v":""},"",{"$f":"IF(F60=\"\",\"\",VLOOKUP(F60,referentes!$Q$2:$T$300,3,FALSE))","v":""},null,null,null,null,null,{"$f":"IF(L60=\"\",\"\",VLOOKUP(L60,referentes!$G$2:$N$15,2,FALSE))","v":""},null,null,"",null,null,""]
[null,{"$f":"IF(C61=\"\",\"\",IF(COUNTIF($C$3:C61, C61)>1, \"\", C61))","v":""},{"$f":"IF(G61=\"\",\"\",IF(F61=\"\",\"\",CONCATENATE(DIGITADOR!$M$1,G61,E61)))","v":""},"",{"$f":"IF(F61=\"\",\"\",VLOOKUP(F61,referentes!$Q$2:$T$300,3,FALSE))","v":""},null,null,null,null,null,{"$f":"IF(L61=\"\",\"\",VLOOKUP(L61,referentes!$G$2:$N$15,2,FALSE))","v":""},null,null,"",null,null,""]
[null,{"$f":"IF(C62=\"\",\"\",IF(COUNTIF($C$3:C62, C62)>1, \"\", C62))","v":""},{"$f":"IF(G62=\"\",\"\",IF(F62=\"\",\"\",CONCATENATE(DIGITADOR!$M$1,G62,E62)))","v":""},"",{"$f":"IF(F62=\"\",\"\",VLOOKUP(F62,referentes!$Q$2:$T$300,3,FALSE))","v":""},null,null,null,null,null,{"$f":"IF(L62=\"\",\"\",VLOOKUP(L62,referentes!$G$2:$N$15,2,FALSE))","v":""},null,null,"",null,null,""]
[null,{"$f":"IF(C63=\"\",\"\",IF(COUNTIF($C$3:C63, C63)>1, \"\", C63))","v":""},{"$f":"IF(G63=\"\",\"\",IF(F63=\"\",\"\",CONCATENATE(DIGITADOR!$M$1,G63,E63)))","v":""},"",{"$f":"IF(F63=\"\",\"\",VLOOKUP(F63,referentes!$Q$2:$T$300,3,FALSE))","v":""},null,null,null,null,null,{"$f":"IF(L63=\"\",\"\",VLOOKUP(L63,referentes!$G$2:$N$15,2,FALSE))","v":""},null,null,"",null,null,""]
[null,{"$f":"IF(C64=\"\",\"\",IF(COUNTIF($C$3:C64, C64)>1, \"\", C64))","v":""},{"$f":"IF(G64=\"\",\"\",IF(F64=\"\",\"\",CONCATENATE(DIGITADOR!$M$1,G64,E64)))","v":""},"",{"$f":"IF(F64=\"\",\"\",VLOOKUP(F64,referentes!$Q$2:$T$300,3,FALSE))","v":""},null,null,null,null,null,{"$f":"IF(L64=\"\",\"\",VLOOKUP(L64,referentes!$G$2:$N$15,2,FALSE))","v":""},null,null,"",null,null,""]
[null,{"$f":"IF(C65=\"\",\"\",IF(COUNTIF($C$3:C65, C65)>1, \"\", C65))","v":""},{"$f":"IF(G65=\"\",\"\",IF(F65=\"\",\"\",CONCATENATE(DIGITADOR!$M$1,G65,E65)))","v":""},"",{"$f":"IF(F65=\"\",\"\",VLOOKUP(F65,referentes!$Q$2:$T$300,3,FALSE))","v":""},null,null,null,null,null,{"$f":"IF(L65=\"\",\"\",VLOOKUP(L65,referentes!$G$2:$N$15,2,FALSE))","v":""},null,null,"",null,null,""]
[null,{"$f":"IF(C66=\"\",\"\",IF(COUNTIF($C$3:C66, C66)>1, \"\", C66))","v":""},{"$f":"IF(G66=\"\",\"\",IF(F66=\"\",\"\",CONCATENATE(DIGITADOR!$M$1,G66,E66)))","v":""},"",{"$f":"IF(F66=\"\",\"\",VLOOKUP(F66,referentes!$Q$2:$T$300,3,FALSE))","v":""},null,null,null,null,null,{"$f":"IF(L66=\"\",\"\",VLOOKUP(L66,referentes!$G$2:$N$15,2,FALSE))","v":""},null,null,"",null,null,""]
[null,{"$f":"IF(C67=\"\",\"\",IF(COUNTIF($C$3:C67, C67)>1, \"\", C67))","v":""},{"$f":"IF(G67=\"\",\"\",IF(F67=\"\",\"\",CONCATENATE(DIGITADOR!$M$1,G67,E67)))","v":""},"",{"$f":"IF(F67=\"\",\"\",VLOOKUP(F67,referentes!$Q$2:$T$300,3,FALSE))","v":""},null,null,null,null,null,{"$f":"IF(L67=\"\",\"\",VLOOKUP(L67,referentes!$G$2:$N$15,2,FALSE))","v":""},null,null,"",null,null,""]
[null,{"$f":"IF(C68=\"\",\"\",IF(COUNTIF($C$3:C68, C68)>1, \"\", C68))","v":""},{"$f":"IF(G68=\"\",\"\",IF(F68=\"\",\"\",CONCATENATE(DIGITADOR!$M$1,G68,E68)))","v":""},{"$f":"IF(C68=\"\",\"\",CONCATENATE(C68,ROW()-2))","v":""},{"$f":"IF(F68=\"\",\"\",VLOOKUP(F68,referentes!$Q$2:$T$300,3,FALSE))","v":""},null,null,null,null,null,{"$f":"IF(L68=\"\",\"\",VLOOKUP(L68,referentes!$G$2:$N$15,2,FALSE))","v":""},null,null,{"$f":"IF(M68=\"\",\"\",M68/PI())","v":""},null,null,{"$f":"IF(N68=\"\",\"\",((PI())*((N68/100)^2))/4*10000/500)","v":""}]
[null,{"$f":"IF(C69=\"\",\"\",IF(COUNTIF($C$3:C69, C69)>1, \"\", C69))","v":""},{"$f":"IF(G69=\"\",\"\",IF(F69=\"\",\"\",CONCATENATE(DIGITADOR!$M$1,G69,E69)))","v":""},"",{"$f":"IF(F69=\"\",\"\",VLOOKUP(F69,referentes!$Q$2:$T$300,3,FALSE))","v":""},null,null,null,null,null,{"$f":"IF(L69=\"\",\"\",VLOOKUP(L69,referentes!$G$2:$N$15,2,FALSE))","v":""},null,null,"",null,null,""]
[null,{"$f":"IF(C70=\"\",\"\",IF(COUNTIF($C$3:C70, C70)>1, \"\", C70))","v":""},{"$f":"IF(G70=\"\",\"\",IF(F70=\"\",\"\",CONCATENATE(DIGITADOR!$M$1,G70,E70)))","v":""},"",{"$f":"IF(F70=\"\",\"\",VLOOKUP(F70,referentes!$Q$2:$T$300,3,FALSE))","v":""},null,null,null,null,null,{"$f":"IF(L70=\"\",\"\",VLOOKUP(L70,referentes!$G$2:$N$15,2,FALSE))","v":""},null,null,"",null,null,""]
[null,{"$f":"IF(C71=\"\",\"\",IF(COUNTIF($C$3:C71, C71)>1, \"\", C71))","v":""},{"$f":"IF(G71=\"\",\"\",IF(F71=\"\",\"\",CONCATENATE(DIGITADOR!$M$1,G71,E71)))","v":""},"",{"$f":"IF(F71=\"\",\"\",VLOOKUP(F71,referentes!$Q$2:$T$300,3,FALSE))","v":""},null,null,null,null,null,{"$f":"IF(L71=\"\",\"\",VLOOKUP(L71,referentes!$G$2:$N$15,2,FALSE))","v":""},null,null,"",null,null,""]
[null,{"$f":"IF(C72=\"\",\"\",IF(COUNTIF($C$3:C72, C72)>1, \"\", C72))","v":""},{"$f":"IF(G72=\"\",\"\",IF(F72=\"\",\"\",CONCATENATE(DIGITADOR!$M$1,G72,E72)))","v":""},"",{"$f":"IF(F72=\"\",\"\",VLOOKUP(F72,referentes!$Q$2:$T$300,3,FALSE))","v":""},null,null,null,null,null,{"$f":"IF(L72=\"\",\"\",VLOOKUP(L72,referentes!$G$2:$N$15,2,FALSE))","v":""},null,null,"",null,null,""]
[null,{"$f":"IF(C73=\"\",\"\",IF(COUNTIF($C$3:C73, C73)>1, \"\", C73))","v":""},{"$f":"IF(G73=\"\",\"\",IF(F73=\"\",\"\",CONCATENATE(DIGITADOR!$M$1,G73,E73)))","v":""},"",{"$f":"IF(F73=\"\",\"\",VLOOKUP(F73,referentes!$Q$2:$T$300,3,FALSE))","v":""},null,null,null,null,null,{"$f":"IF(L73=\"\",\"\",VLOOKUP(L73,referentes!$G$2:$N$15,2,FALSE))","v":""},null,null,"",null,null,""]
[null,{"$f":"IF(C74=\"\",\"\",IF(COUNTIF($C$3:C74, C74)>1, \"\", C74))","v":""},{"$f":"IF(G74=\"\",\"\",IF(F74=\"\",\"\",CONCATENATE(DIGITADOR!$M$1,G74,E74)))","v":""},"",{"$f":"IF(F74=\"\",\"\",VLOOKUP(F74,referentes!$Q$2:$T$300,3,FALSE))","v":""},null,null,null,null,null,{"$f":"IF(L74=\"\",\"\",VLOOKUP(L74,referentes!$G$2:$N$15,2,FALSE))","v":""},null,null,"",null,null,""]
[null,{"$f":"IF(C75=\"\",\"\",IF(COUNTIF($C$3:C75, C75)>1, \"\", C75))","v":""},{"$f":"IF(G75=\"\",\"\",IF(F75=\"\",\"\",CONCATENATE(DIGITADOR!$M$1,G75,E75)))","v":""},"",{"$f":"IF(F75=\"\",\"\",VLOOKUP(F75,referentes!$Q$2:$T$300,3,FALSE))","v":""},null,null,null,null,null,{"$f":"IF(L75=\"\",\"\",VLOOKUP(L75,referentes!$G$2:$N$15,2,FALSE))","v":""},null,null,"",null,null,""]
[null,{"$f":"IF(C76=\"\",\"\",IF(COUNTIF($C$3:C76, C76)>1, \"\", C76))","v":""},{"$f":"IF(G76=\"\",\"\",IF(F76=\"\",\"\",CONCATENATE(DIGITADOR!$M$1,G76,E76)))","v":""},"",{"$f":"IF(F76=\"\",\"\",VLOOKUP(F76,referentes!$Q$2:$T$300,3,FALSE))","v":""},null,null,null,null,null,{"$f":"IF(L76=\"\",\"\",VLOOKUP(L76,referentes!$G$2:$N$15,2,FALSE))","v":""},null,null,"",null,null,""]
[null,{"$f":"IF(C77=\"\",\"\",IF(COUNTIF($C$3:C77, C77)>1, \"\", C77))","v":""},{"$f":"IF(G77=\"\",\"\",IF(F77=\"\",\"\",CONCATENATE(DIGITADOR!$M$1,G77,E77)))","v":""},"",{"$f":"IF(F77=\"\",\"\",VLOOKUP(F77,referentes!$Q$2:$T$300,3,FALSE))","v":""},null,null,null,null,null,{"$f":"IF(L77=\"\",\"\",VLOOKUP(L77,referentes!$G$2:$N$15,2,FALSE))","v":""},null,null,"",null,null,""]
[null,{"$f":"IF(C78=\"\",\"\",IF(COUNTIF($C$3:C78, C78)>1, \"\", C78))","v":""},{"$f":"IF(G78=\"\",\"\",IF(F78=\"\",\"\",CONCATENATE(DIGITADOR!$M$1,G78,E78)))","v":""},"",{"$f":"IF(F78=\"\",\"\",VLOOKUP(F78,referentes!$Q$2:$T$300,3,FALSE))","v":""},null,null,null,null,null,{"$f":"IF(L78=\"\",\"\",VLOOKUP(L78,referentes!$G$2:$N$15,2,FALSE))","v":""},null,null,"",null,null,""]
[null,{"$f":"IF(C79=\"\",\"\",IF(COUNTIF($C$3:C79, C79)>1, \"\", C79))","v":""},{"$f":"IF(G79=\"\",\"\",IF(F79=\"\",\"\",CONCATENATE(DIGITADOR!$M$1,G79,E79)))","v":""},"",{"$f":"IF(F79=\"\",\"\",VLOOKUP(F79,referentes!$Q$2:$T$300,3,FALSE))","v":""},null,null,null,null,null,{"$f":"IF(L79=\"\",\"\",VLOOKUP(L79,referentes!$G$2:$N$15,2,FALSE))","v":""},null,null,"",null,null,""]
[null,{"$f":"IF(C80=\"\",\"\",IF(COUNTIF($C$3:C80, C80)>1, \"\", C80))","v":""},{"$f":"IF(G80=\"\",\"\",IF(F80=\"\",\"\",CONCATENATE(DIGITADOR!$M$1,G80,E80)))","v":""},"",{"$f":"IF(F80=\"\",\"\",VLOOKUP(F80,referentes!$Q$2:$T$300,3,FALSE))","v":""},null,null,null,null,null,{"$f":"IF(L80=\"\",\"\",VLOOKUP(L80,referentes!$G$2:$N$15,2,FALSE))","v":""},null,null,"",null,null,""]
[null,{"$f":"IF(C81=\"\",\"\",IF(COUNTIF($C$3:C81, C81)>1, \"\", C81))","v":""},{"$f":"IF(G81=\"\",\"\",IF(F81=\"\",\"\",CONCATENATE(DIGITADOR!$M$1,G81,E81)))","v":""},"",{"$f":"IF(F81=\"\",\"\",VLOOKUP(F81,referentes!$Q$2:$T$300,3,FALSE))","v":""},null,null,null,null,null,{"$f":"IF(L81=\"\",\"\",VLOOKUP(L81,referentes!$G$2:$N$15,2,FALSE))","v":""},null,null,"",null,null,""]
[null,{"$f":"IF(C82=\"\",\"\",IF(COUNTIF($C$3:C82, C82)>1, \"\", C82))","v":""},{"$f":"IF(G82=\"\",\"\",IF(F82=\"\",\"\",CONCATENATE(DIGITADOR!$M$1,G82,E82)))","v":""},"",{"$f":"IF(F82=\"\",\"\",VLOOKUP(F82,referentes!$Q$2:$T$300,3,FALSE))","v":""},null,null,null,null,null,{"$f":"IF(L82=\"\",\"\",VLOOKUP(L82,referentes!$G$2:$N$15,2,FALSE))","v":""},null,null,"",null,null,""]
[null,{"$f":"IF(C83=\"\",\"\",IF(COUNTIF($C$3:C83, C83)>1, \"\", C83))","v":""},{"$f":"IF(G83=\"\",\"\",IF(F83=\"\",\"\",CONCATENATE(DIGITADOR!$M$1,G83,E83)))","v":""},"",{"$f":"IF(F83=\"\",\"\",VLOOKUP(F83,referentes!$Q$2:$T$300,3,FALSE))","v":""},null,null,null,null,null,{"$f":"IF(L83=\"\",\"\",VLOOKUP(L83,referentes!$G$2:$N$15,2,FALSE))","v":""},null,null,"",null,null,""]
[null,{"$f":"IF(C84=\"\",\"\",IF(COUNTIF($C$3:C84, C84)>1, \"\", C84))","v":""},{"$f":"IF(G84=\"\",\"\",IF(F84=\"\",\"\",CONCATENATE(DIGITADOR!$M$1,G84,E84)))","v":""},"",{"$f":"IF(F84=\"\",\"\",VLOOKUP(F84,referentes!$Q$2:$T$300,3,FALSE))","v":""},null,null,null,null,null,{"$f":"IF(L84=\"\",\"\",VLOOKUP(L84,referentes!$G$2:$N$15,2,FALSE))","v":""},null,null,"",null,null,""]
[null,{"$f":"IF(C85=\"\",\"\",IF(COUNTIF($C$3:C85, C85)>1, \"\", C85))","v":""},{"$f":"IF(G85=\"\",\"\",IF(F85=\"\",\"\",CONCATENATE(DIGITADOR!$M$1,G85,E85)))","v":""},"",{"$f":"IF(F85=\"\",\"\",VLOOKUP(F85,referentes!$Q$2:$T$300,3,FALSE))","v":""},null,null,null,null,null,{"$f":"IF(L85=\"\",\"\",VLOOKUP(L85,referentes!$G$2:$N$15,2,FALSE))","v":""},null,null,"",null,null,""]
[null,{"$f":"IF(C86=\"\",\"\",IF(COUNTIF($C$3:C86, C86)>1, \"\", C86))","v":""},{"$f":"IF(G86=\"\",\"\",IF(F86=\"\",\"\",CONCATENATE(DIGITADOR!$M$1,G86,E86)))","v":""},"",{"$f":"IF(F86=\"\",\"\",VLOOKUP(F86,referentes!$Q$2:$T$300,3,FALSE))","v":""},null,null,null,null,null,{"$f":"IF(L86=\"\",\"\",VLOOKUP(L86,referentes!$G$2:$N$15,2,FALSE))","v":""},null,null,"",null,null,""]
[null,{"$f":"IF(C87=\"\",\"\",IF(COUNTIF($C$3:C87, C87)>1, \"\", C87))","v":""},{"$f":"IF(G87=\"\",\"\",IF(F87=\"\",\"\",CONCATENATE(DIGITADOR!$M$1,G87,E87)))","v":""},"",{"$f":"IF(F87=\"\",\"\",VLOOKUP(F87,referentes!$Q$2:$T$300,3,FALSE))","v":""},null,null,null,null,null,{"$f":"IF(L87=\"\",\"\",VLOOKUP(L87,referentes!$G$2:$N$15,2,FALSE))","v":""},null,null,"",null,null,""]
[null,{"$f":"IF(C88=\"\",\"\",IF(COUNTIF($C$3:C88, C88)>1, \"\", C88))","v":""},{"$f":"IF(G88=\"\",\"\",IF(F88=\"\",\"\",CONCATENATE(DIGITADOR!$M$1,G88,E88)))","v":""},"",{"$f":"IF(F88=\"\",\"\",VLOOKUP(F88,referentes!$Q$2:$T$300,3,FALSE))","v":""},null,null,null,null,null,{"$f":"IF(L88=\"\",\"\",VLOOKUP(L88,referentes!$G$2:$N$15,2,FALSE))","v":""},null,null,"",null,null,""]
[null,{"$f":"IF(C89=\"\",\"\",IF(COUNTIF($C$3:C89, C89)>1, \"\", C89))","v":""},{"$f":"IF(G89=\"\",\"\",IF(F89=\"\",\"\",CONCATENATE(DIGITADOR!$M$1,G89,E89)))","v":""},"",{"$f":"IF(F89=\"\",\"\",VLOOKUP(F89,referentes!$Q$2:$T$300,3,FALSE))","v":""},null,null,null,null,null,{"$f":"IF(L89=\"\",\"\",VLOOKUP(L89,referentes!$G$2:$N$15,2,FALSE))","v":""},null,null,"",null,null,""]
[null,{"$f":"IF(C90=\"\",\"\",IF(COUNTIF($C$3:C90, C90)>1, \"\", C90))","v":""},{"$f":"IF(G90=\"\",\"\",IF(F90=\"\",\"\",CONCATENATE(DIGITADOR!$M$1,G90,E90)))","v":""},"",{"$f":"IF(F90=\"\",\"\",VLOOKUP(F90,referentes!$Q$2:$T$300,3,FALSE))","v":""},null,null,null,null,null,{"$f":"IF(L90=\"\",\"\",VLOOKUP(L90,referentes!$G$2:$N$15,2,FALSE))","v":""},null,null,"",null,null,""]
[null,{"$f":"IF(C91=\"\",\"\",IF(COUNTIF($C$3:C91, C91)>1, \"\", C91))","v":""},{"$f":"IF(G91=\"\",\"\",IF(F91=\"\",\"\",CONCATENATE(DIGITADOR!$M$1,G91,E91)))","v":""},"",{"$f":"IF(F91=\"\",\"\",VLOOKUP(F91,referentes!$Q$2:$T$300,3,FALSE))","v":""},null,null,null,null,null,{"$f":"IF(L91=\"\",\"\",VLOOKUP(L91,referentes!$G$2:$N$15,2,FALSE))","v":""},null,null,"",null,null,""]
[null,{"$f":"IF(C92=\"\",\"\",IF(COUNTIF($C$3:C92, C92)>1, \"\", C92))","v":""},{"$f":"IF(G92=\"\",\"\",IF(F92=\"\",\"\",CONCATENATE(DIGITADOR!$M$1,G92,E92)))","v":""},"",{"$f":"IF(F92=\"\",\"\",VLOOKUP(F92,referentes!$Q$2:$T$300,3,FALSE))","v":""},null,null,null,null,null,{"$f":"IF(L92=\"\",\"\",VLOOKUP(L92,referentes!$G$2:$N$15,2,FALSE))","v":""},null,null,"",null,null,""]
[null,{"$f":"IF(C93=\"\",\"\",IF(COUNTIF($C$3:C93, C93)>1, \"\", C93))","v":""},{"$f":"IF(G93=\"\",\"\",IF(F93=\"\",\"\",CONCATENATE(DIGITADOR!$M$1,G93,E93)))","v":""},"",{"$f":"IF(F93=\"\",\"\",VLOOKUP(F93,referentes!$Q$2:$T$300,3,FALSE))","v":""},null,null,null,null,null,{"$f":"IF(L93=\"\",\"\",VLOOKUP(L93,referentes!$G$2:$N$15,2,FALSE))","v":""},null,null,"",null,null,""]
[null,{"$f":"IF(C94=\"\",\"\",IF(COUNTIF($C$3:C94, C94)>1, \"\", C94))","v":""},{"$f":"IF(G94=\"\",\"\",IF(F94=\"\",\"\",CONCATENATE(DIGITADOR!$M$1,G94,E94)))","v":""},"",{"$f":"IF(F94=\"\",\"\",VLOOKUP(F94,referentes!$Q$2:$T$300,3,FALSE))","v":""},null,null,null,null,null,{"$f":"IF(L94=\"\",\"\",VLOOKUP(L94,referentes!$G$2:$N$15,2,FALSE))","v":""},null,null,"",null,null,""]
[null,{"$f":"IF(C95=\"\",\"\",IF(COUNTIF($C$3:C95, C95)>1, \"\", C95))","v":""},{"$f":"IF(G95=\"\",\"\",IF(F95=\"\",\"\",CONCATENATE(DIGITADOR!$M$1,G95,E95)))","v":""},"",{"$f":"IF(F95=\"\",\"\",VLOOKUP(F95,referentes!$Q$2:$T$300,3,FALSE))","v":""},null,null,null,null,null,{"$f":"IF(L95=\"\",\"\",VLOOKUP(L95,referentes!$G$2:$N$15,2,FALSE))","v":""},null,null,"",null,null,""]
[null,{"$f":"IF(C96=\"\",\"\",IF(COUNTIF($C$3:C96, C96)>1, \"\", C96))","v":""},{"$f":"IF(G96=\"\",\"\",IF(F96=\"\",\"\",CONCATENATE(DIGITADOR!$M$1,G96,E96)))","v":""},"",{"$f":"IF(F96=\"\",\"\",VLOOKUP(F96,referentes!$Q$2:$T$300,3,FALSE))","v":""},null,null,null,null,null,{"$f":"IF(L96=\"\",\"\",VLOOKUP(L96,referentes!$G$2:$N$15,2,FALSE))","v":""},null,null,"",null,null,""]
[null,{"$f":"IF(C97=\"\",\"\",IF(COUNTIF($C$3:C97, C97)>1, \"\", C97))","v":""},{"$f":"IF(G97=\"\",\"\",IF(F97=\"\",\"\",CONCATENATE(DIGITADOR!$M$1,G97,E97)))","v":""},"",{"$f":"IF(F97=\"\",\"\",VLOOKUP(F97,referentes!$Q$2:$T$300,3,FALSE))","v":""},null,null,null,null,null,{"$f":"IF(L97=\"\",\"\",VLOOKUP(L97,referentes!$G$2:$N$15,2,FALSE))","v":""},null,null,"",null,null,""]
[null,{"$f":"IF(C98=\"\",\"\",IF(COUNTIF($C$3:C98, C98)>1, \"\", C98))","v":""},{"$f":"IF(G98=\"\",\"\",IF(F98=\"\",\"\",CONCATENATE(DIGITADOR!$M$1,G98,E98)))","v":""},"",{"$f":"IF(F98=\"\",\"\",VLOOKUP(F98,referentes!$Q$2:$T$300,3,FALSE))","v":""},null,null,null,null,null,{"$f":"IF(L98=\"\",\"\",VLOOKUP(L98,referentes!$G$2:$N$15,2,FALSE))","v":""},null,null,"",null,null,""]
[null,{"$f":"IF(C99=\"\",\"\",IF(COUNTIF($C$3:C99, C99)>1, \"\", C99))","v":""},{"$f":"IF(G99=\"\",\"\",IF(F99=\"\",\"\",CONCATENATE(DIGITADOR!$M$1,G99,E99)))","v":""},"",{"$f":"IF(F99=\"\",\"\",VLOOKUP(F99,referentes!$Q$2:$T$300,3,FALSE))","v":""},null,null,null,null,null,{"$f":"IF(L99=\"\",\"\",VLOOKUP(L99,referentes!$G$2:$N$15,2,FALSE))","v":""},null,null,"",null,null,""]
[null,{"$f":"IF(C100=\"\",\"\",IF(COUNTIF($C$3:C100, C100)>1, \"\", C100))","v":""},{"$f":"IF(G100=\"\",\"\",IF(F100=\"\",\"\",CONCATENATE(DIGITADOR!$M$1,G100,E100)))","v":""},"",{"$f":"IF(F100=\"\",\"\",VLOOKUP(F100,referentes!$Q$2:$T$300,3,FALSE))","v":""},null,null,null,null,null,{"$f":"IF(L100=\"\",\"\",VLOOKUP(L100,referentes!$G$2:$N$15,2,FALSE))","v":""},null,null,"",null,null,""]
[null,{"$f":"IF(C101=\"\",\"\",IF(COUNTIF($C$3:C101, C101)>1, \"\", C101))","v":""},{"$f":"IF(G101=\"\",\"\",IF(F101=\"\",\"\",CONCATENATE(DIGITADOR!$M$1,G101,E101)))","v":""},"",{"$f":"IF(F101=\"\",\"\",VLOOKUP(F101,referentes!$Q$2:$T$300,3,FALSE))","v":""},null,null,null,null,null,{"$f":"IF(L101=\"\",\"\",VLOOKUP(L101,referentes!$G$2:$N$15,2,FALSE))","v":""},null,null,"",null,null,""]
[null,{"$f":"IF(C102=\"\",\"\",IF(COUNTIF($C$3:C102, C102)>1, \"\", C102))","v":""},{"$f":"IF(G102=\"\",\"\",IF(F102=\"\",\"\",CONCATENATE(DIGITADOR!$M$1,G102,E102)))","v":""},"",{"$f":"IF(F102=\"\",\"\",VLOOKUP(F102,referentes!$Q$2:$T$300,3,FALSE))","v":""},null,null,null,null,null,{"$f":"IF(L102=\"\",\"\",VLOOKUP(L102,referentes!$G$2:$N$15,2,FALSE))","v":""},null,null,"",null,null,""]
[null,{"$f":"IF(C103=\"\",\"\",IF(COUNTIF($C$3:C103, C103)>1, \"\", C103))","v":""},{"$f":"IF(G103=\"\",\"\",IF(F103=\"\",\"\",CONCATENATE(DIGITADOR!$M$1,G103,E103)))","v":""},"",{"$f":"IF(F103=\"\",\"\",VLOOKUP(F103,referentes!$Q$2:$T$300,3,FALSE))","v":""},null,null,null,null,null,{"$f":"IF(L103=\"\",\"\",VLOOKUP(L103,referentes!$G$2:$N$15,2,FALSE))","v":""},null,null,"",null,null,""]
[null,{"$f":"IF(C104=\"\",\"\",IF(COUNTIF($C$3:C104, C104)>1, \"\", C104))","v":""},{"$f":"IF(G104=\"\",\"\",IF(F104=\"\",\"\",CONCATENATE(DIGITADOR!$M$1,G104,E104)))","v":""},"",{"$f":"IF(F104=\"\",\"\",VLOOKUP(F104,referentes!$Q$2:$T$300,3,FALSE))","v":""},null,null,null,null,null,{"$f":"IF(L104=\"\",\"\",VLOOKUP(L104,referentes!$G$2:$N$15,2,FALSE))","v":""},null,null,"",null,null,""]
[null,{"$f":"IF(C105=\"\",\"\",IF(COUNTIF($C$3:C105, C105)>1, \"\", C105))","v":""},{"$f":"IF(G105=\"\",\"\",IF(F105=\"\",\"\",CONCATENATE(DIGITADOR!$M$1,G105,E105)))","v":""},"",{"$f":"IF(F105=\"\",\"\",VLOOKUP(F105,referentes!$Q$2:$T$300,3,FALSE))","v":""},null,null,null,null,null,{"$f":"IF(L105=\"\",\"\",VLOOKUP(L105,referentes!$G$2:$N$15,2,FALSE))","v":""},null,null,"",null,null,""]
[null,{"$f":"IF(C106=\"\",\"\",IF(COUNTIF($C$3:C106, C106)>1, \"\", C106))","v":""},{"$f":"IF(G106=\"\",\"\",IF(F106=\"\",\"\",CONCATENATE(DIGITADOR!$M$1,G106,E106)))","v":""},"",{"$f":"IF(F106=\"\",\"\",VLOOKUP(F106,referentes!$Q$2:$T$300,3,FALSE))","v":""},null,null,null,null,null,{"$f":"IF(L106=\"\",\"\",VLOOKUP(L106,referentes!$G$2:$N$15,2,FALSE))","v":""},null,null,"",null,null,""]
[null,{"$f":"IF(C107=\"\",\"\",IF(COUNTIF($C$3:C107, C107)>1, \"\", C107))","v":""},{"$f":"IF(G107=\"\",\"\",IF(F107=\"\",\"\",CONCATENATE(DIGITADOR!$M$1,G107,E107)))","v":""},"",{"$f":"IF(F107=\"\",\"\",VLOOKUP(F107,referentes!$Q$2:$T$300,3,FALSE))","v":""},null,null,null,null,null,{"$f":"IF(L107=\"\",\"\",VLOOKUP(L107,referentes!$G$2:$N$15,2,FALSE))","v":""},null,null,"",null,null,""]
[null,{"$f":"IF(C108=\"\",\"\",IF(COUNTIF($C$3:C108, C108)>1, \"\", C108))","v":""},{"$f":"IF(G108=\"\",\"\",IF(F108=\"\",\"\",CONCATENATE(DIGITADOR!$M$1,G108,E108)))","v":""},"",{"$f":"IF(F108=\"\",\"\",VLOOKUP(F108,referentes!$Q$2:$T$300,3,FALSE))","v":""},null,null,null,null,null,{"$f":"IF(L108=\"\",\"\",VLOOKUP(L108,referentes!$G$2:$N$15,2,FALSE))","v":""},null,null,"",null,null,""]
[null,{"$f":"IF(C109=\"\",\"\",IF(COUNTIF($C$3:C109, C109)>1, \"\", C109))","v":""},{"$f":"IF(G109=\"\",\"\",IF(F109=\"\",\"\",CONCATENATE(DIGITADOR!$M$1,G109,E109)))","v":""},"",{"$f":"IF(F109=\"\",\"\",VLOOKUP(F109,referentes!$Q$2:$T$300,3,FALSE))","v":""},null,null,null,null,null,{"$f":"IF(L109=\"\",\"\",VLOOKUP(L109,referentes!$G$2:$N$15,2,FALSE))","v":""},null,null,"",null,null,""]
[null,{"$f":"IF(C110=\"\",\"\",IF(COUNTIF($C$3:C110, C110)>1, \"\", C110))","v":""},{"$f":"IF(G110=\"\",\"\",IF(F110=\"\",\"\",CONCATENATE(DIGITADOR!$M$1,G110,E110)))","v":""},"",{"$f":"IF(F110=\"\",\"\",VLOOKUP(F110,referentes!$Q$2:$T$300,3,FALSE))","v":""},null,null,null,null,null,{"$f":"IF(L110=\"\",\"\",VLOOKUP(L110,referentes!$G$2:$N$15,2,FALSE))","v":""},null,null,"",null,null,""]
[null,{"$f":"IF(C111=\"\",\"\",IF(COUNTIF($C$3:C111, C111)>1, \"\", C111))","v":""},{"$f":"IF(G111=\"\",\"\",IF(F111=\"\",\"\",CONCATENATE(DIGITADOR!$M$1,G111,E111)))","v":""},"",{"$f":"IF(F111=\"\",\"\",VLOOKUP(F111,referentes!$Q$2:$T$300,3,FALSE))","v":""},null,null,null,null,null,{"$f":"IF(L111=\"\",\"\",VLOOKUP(L111,referentes!$G$2:$N$15,2,FALSE))","v":""},null,null,"",null,null,""]
[null,{"$f":"IF(C112=\"\",\"\",IF(COUNTIF($C$3:C112, C112)>1, \"\", C112))","v":""},{"$f":"IF(G112=\"\",\"\",IF(F112=\"\",\"\",CONCATENATE(DIGITADOR!$M$1,G112,E112)))","v":""},"",{"$f":"IF(F112=\"\",\"\",VLOOKUP(F112,referentes!$Q$2:$T$300,3,FALSE))","v":""},null,null,null,null,null,{"$f":"IF(L112=\"\",\"\",VLOOKUP(L112,referentes!$G$2:$N$15,2,FALSE))","v":""},null,null,"",null,null,""]
[null,{"$f":"IF(C113=\"\",\"\",IF(COUNTIF($C$3:C113, C113)>1, \"\", C113))","v":""},{"$f":"IF(G113=\"\",\"\",IF(F113=\"\",\"\",CONCATENATE(DIGITADOR!$M$1,G113,E113)))","v":""},"",{"$f":"IF(F113=\"\",\"\",VLOOKUP(F113,referentes!$Q$2:$T$300,3,FALSE))","v":""},null,null,null,null,null,{"$f":"IF(L113=\"\",\"\",VLOOKUP(L113,referentes!$G$2:$N$15,2,FALSE))","v":""},null,null,"",null,null,""]
[null,{"$f":"IF(C114=\"\",\"\",IF(COUNTIF($C$3:C114, C114)>1, \"\", C114))","v":""},{"$f":"IF(G114=\"\",\"\",IF(F114=\"\",\"\",CONCATENATE(DIGITADOR!$M$1,G114,E114)))","v":""},"",{"$f":"IF(F114=\"\",\"\",VLOOKUP(F114,referentes!$Q$2:$T$300,3,FALSE))","v":""},null,null,null,null,null,{"$f":"IF(L114=\"\",\"\",VLOOKUP(L114,referentes!$G$2:$N$15,2,FALSE))","v":""},null,null,"",null,null,""]
[null,{"$f":"IF(C115=\"\",\"\",IF(COUNTIF($C$3:C115, C115)>1, \"\", C115))","v":""},{"$f":"IF(G115=\"\",\"\",IF(F115=\"\",\"\",CONCATENATE(DIGITADOR!$M$1,G115,E115)))","v":""},"",{"$f":"IF(F115=\"\",\"\",VLOOKUP(F115,referentes!$Q$2:$T$300,3,FALSE))","v":""},null,null,null,null,null,{"$f":"IF(L115=\"\",\"\",VLOOKUP(L115,referentes!$G$2:$N$15,2,FALSE))","v":""},null,null,"",null,null,""]
[null,{"$f":"IF(C116=\"\",\"\",IF(COUNTIF($C$3:C116, C116)>1, \"\", C116))","v":""},{"$f":"IF(G116=\"\",\"\",IF(F116=\"\",\"\",CONCATENATE(DIGITADOR!$M$1,G116,E116)))","v":""},"",{"$f":"IF(F116=\"\",\"\",VLOOKUP(F116,referentes!$Q$2:$T$300,3,FALSE))","v":""},null,null,null,null,null,{"$f":"IF(L116=\"\",\"\",VLOOKUP(L116,referentes!$G$2:$N$15,2,FALSE))","v":""},null,null,"",null,null,""]
[null,{"$f":"IF(C117=\"\",\"\",IF(COUNTIF($C$3:C117, C117)>1, \"\", C117))","v":""},{"$f":"IF(G117=\"\",\"\",IF(F117=\"\",\"\",CONCATENATE(DIGITADOR!$M$1,G117,E117)))","v":""},"",{"$f":"IF(F117=\"\",\"\",VLOOKUP(F117,referentes!$Q$2:$T$300,3,FALSE))","v":""},null,null,null,null,null,{"$f":"IF(L117=\"\",\"\",VLOOKUP(L117,referentes!$G$2:$N$15,2,FALSE))","v":""},null,null,"",null,null,""]
[null,{"$f":"IF(C118=\"\",\"\",IF(COUNTIF($C$3:C118, C118)>1, \"\", C118))","v":""},{"$f":"IF(G118=\"\",\"\",IF(F118=\"\",\"\",CONCATENATE(DIGITADOR!$M$1,G118,E118)))","v":""},"",{"$f":"IF(F118=\"\",\"\",VLOOKUP(F118,referentes!$Q$2:$T$300,3,FALSE))","v":""},null,null,null,null,null,{"$f":"IF(L118=\"\",\"\",VLOOKUP(L118,referentes!$G$2:$N$15,2,FALSE))","v":""},null,null,"",null,null,""]
[null,{"$f":"IF(C119=\"\",\"\",IF(COUNTIF($C$3:C119, C119)>1, \"\", C119))","v":""},{"$f":"IF(G119=\"\",\"\",IF(F119=\"\",\"\",CONCATENATE(DIGITADOR!$M$1,G119,E119)))","v":""},"",{"$f":"IF(F119=\"\",\"\",VLOOKUP(F119,referentes!$Q$2:$T$300,3,FALSE))","v":""},null,null,null,null,null,{"$f":"IF(L119=\"\",\"\",VLOOKUP(L119,referentes!$G$2:$N$15,2,FALSE))","v":""},null,null,"",null,null,""]
[null,{"$f":"IF(C120=\"\",\"\",IF(COUNTIF($C$3:C120, C120)>1, \"\", C120))","v":""},{"$f":"IF(G120=\"\",\"\",IF(F120=\"\",\"\",CONCATENATE(DIGITADOR!$M$1,G120,E120)))","v":""},"",{"$f":"IF(F120=\"\",\"\",VLOOKUP(F120,referentes!$Q$2:$T$300,3,FALSE))","v":""},null,null,null,null,null,{"$f":"IF(L120=\"\",\"\",VLOOKUP(L120,referentes!$G$2:$N$15,2,FALSE))","v":""},null,null,"",null,null,""]
[null,{"$f":"IF(C121=\"\",\"\",IF(COUNTIF($C$3:C121, C121)>1, \"\", C121))","v":""},{"$f":"IF(G121=\"\",\"\",IF(F121=\"\",\"\",CONCATENATE(DIGITADOR!$M$1,G121,E121)))","v":""},"",{"$f":"IF(F121=\"\",\"\",VLOOKUP(F121,referentes!$Q$2:$T$300,3,FALSE))","v":""},null,null,null,null,null,{"$f":"IF(L121=\"\",\"\",VLOOKUP(L121,referentes!$G$2:$N$15,2,FALSE))","v":""},null,null,"",null,null,""]
[null,{"$f":"IF(C122=\"\",\"\",IF(COUNTIF($C$3:C122, C122)>1, \"\", C122))","v":""},{"$f":"IF(G122=\"\",\"\",IF(F122=\"\",\"\",CONCATENATE(DIGITADOR!$M$1,G122,E122)))","v":""},"",{"$f":"IF(F122=\"\",\"\",VLOOKUP(F122,referentes!$Q$2:$T$300,3,FALSE))","v":""},null,null,null,null,null,{"$f":"IF(L122=\"\",\"\",VLOOKUP(L122,referentes!$G$2:$N$15,2,FALSE))","v":""},null,null,"",null,null,""]
[null,{"$f":"IF(C123=\"\",\"\",IF(COUNTIF($C$3:C123, C123)>1, \"\", C123))","v":""},{"$f":"IF(G123=\"\",\"\",IF(F123=\"\",\"\",CONCATENATE(DIGITADOR!$M$1,G123,E123)))","v":""},"",{"$f":"IF(F123=\"\",\"\",VLOOKUP(F123,referentes!$Q$2:$T$300,3,FALSE))","v":""},null,null,null,null,null,{"$f":"IF(L123=\"\",\"\",VLOOKUP(L123,referentes!$G$2:$N$15,2,FALSE))","v":""},null,null,"",null,null,""]
[null,{"$f":"IF(C124=\"\",\"\",IF(COUNTIF($C$3:C124, C124)>1, \"\", C124))","v":""},{"$f":"IF(G124=\"\",\"\",IF(F124=\"\",\"\",CONCATENATE(DIGITADOR!$M$1,G124,E124)))","v":""},"",{"$f":"IF(F124=\"\",\"\",VLOOKUP(F124,referentes!$Q$2:$T$300,3,FALSE))","v":""},null,null,null,null,null,{"$f":"IF(L124=\"\",\"\",VLOOKUP(L124,referentes!$G$2:$N$15,2,FALSE))","v":""},null,null,"",null,null,""]
[null,{"$f":"IF(C125=\"\",\"\",IF(COUNTIF($C$3:C125, C125)>1, \"\", C125))","v":""},{"$f":"IF(G125=\"\",\"\",IF(F125=\"\",\"\",CONCATENATE(DIGITADOR!$M$1,G125,E125)))","v":""},"",{"$f":"IF(F125=\"\",\"\",VLOOKUP(F125,referentes!$Q$2:$T$300,3,FALSE))","v":""},null,null,null,null,null,{"$f":"IF(L125=\"\",\"\",VLOOKUP(L125,referentes!$G$2:$N$15,2,FALSE))","v":""},null,null,"",null,null,""]
[null,{"$f":"IF(C126=\"\",\"\",IF(COUNTIF($C$3:C126, C126)>1, \"\", C126))","v":""},{"$f":"IF(G126=\"\",\"\",IF(F126=\"\",\"\",CONCATENATE(DIGITADOR!$M$1,G126,E126)))","v":""},"",{"$f":"IF(F126=\"\",\"\",VLOOKUP(F126,referentes!$Q$2:$T$300,3,FALSE))","v":""},null,null,null,null,null,{"$f":"IF(L126=\"\",\"\",VLOOKUP(L126,referentes!$G$2:$N$15,2,FALSE))","v":""},null,null,"",null,null,""]
[null,{"$f":"IF(C127=\"\",\"\",IF(COUNTIF($C$3:C127, C127)>1, \"\", C127))","v":""},{"$f":"IF(G127=\"\",\"\",IF(F127=\"\",\"\",CONCATENATE(DIGITADOR!$M$1,G127,E127)))","v":""},"",{"$f":"IF(F127=\"\",\"\",VLOOKUP(F127,referentes!$Q$2:$T$300,3,FALSE))","v":""},null,null,null,null,null,{"$f":"IF(L127=\"\",\"\",VLOOKUP(L127,referentes!$G$2:$N$15,2,FALSE))","v":""},null,null,"",null,null,""]
[null,{"$f":"IF(C128=\"\",\"\",IF(COUNTIF($C$3:C128, C128)>1, \"\", C128))","v":""},{"$f":"IF(G128=\"\",\"\",IF(F128=\"\",\"\",CONCATENATE(DIGITADOR!$M$1,G128,E128)))","v":""},"",{"$f":"IF(F128=\"\",\"\",VLOOKUP(F128,referentes!$Q$2:$T$300,3,FALSE))","v":""},null,null,null,null,null,{"$f":"IF(L128=\"\",\"\",VLOOKUP(L128,referentes!$G$2:$N$15,2,FALSE))","v":""},null,null,"",null,null,""]
[null,{"$f":"IF(C129=\"\",\"\",IF(COUNTIF($C$3:C129, C129)>1, \"\", C129))","v":""},{"$f":"IF(G129=\"\",\"\",IF(F129=\"\",\"\",CONCATENATE(DIGITADOR!$M$1,G129,E129)))","v":""},"",{"$f":"IF(F129=\"\",\"\",VLOOKUP(F129,referentes!$Q$2:$T$300,3,FALSE))","v":""},null,null,null,null,null,{"$f":"IF(L129=\"\",\"\",VLOOKUP(L129,referentes!$G$2:$N$15,2,FALSE))","v":""},null,null,"",null,null,""]
[null,{"$f":"IF(C130=\"\",\"\",IF(COUNTIF($C$3:C130, C130)>1, \"\", C130))","v":""},{"$f":"IF(G130=\"\",\"\",IF(F130=\"\",\"\",CONCATENATE(DIGITADOR!$M$1,G130,E130)))","v":""},"",{"$f":"IF(F130=\"\",\"\",VLOOKUP(F130,referentes!$Q$2:$T$300,3,FALSE))","v":""},null,null,null,null,null,{"$f":"IF(L130=\"\",\"\",VLOOKUP(L130,referentes!$G$2:$N$15,2,FALSE))","v":""},null,null,"",null,null,""]
[null,{"$f":"IF(C131=\"\",\"\",IF(COUNTIF($C$3:C131, C131)>1, \"\", C131))","v":""},{"$f":"IF(G131=\"\",\"\",IF(F131=\"\",\"\",CONCATENATE(DIGITADOR!$M$1,G131,E131)))","v":""},"",{"$f":"IF(F131=\"\",\"\",VLOOKUP(F131,referentes!$Q$2:$T$300,3,FALSE))","v":""},null,null,null,null,null,{"$f":"IF(L131=\"\",\"\",VLOOKUP(L131,referentes!$G$2:$N$15,2,FALSE))","v":""},null,null,"",null,null,""]
[null,{"$f":"IF(C132=\"\",\"\",IF(COUNTIF($C$3:C132, C132)>1, \"\", C132))","v":""},{"$f":"IF(G132=\"\",\"\",IF(F132=\"\",\"\",CONCATENATE(DIGITADOR!$M$1,G132,E132)))","v":""},{"$f":"IF(C132=\"\",\"\",CONCATENATE(C132,ROW()-2))","v":""},{"$f":"IF(F132=\"\",\"\",VLOOKUP(F132,referentes!$Q$2:$T$300,3,FALSE))","v":""},null,null,null,null,null,{"$f":"IF(L132=\"\",\"\",VLOOKUP(L132,referentes!$G$2:$N$15,2,FALSE))","v":""},null,null,{"$f":"IF(M132=\"\",\"\",M132/PI())","v":""},null,null,{"$f":"IF(N132=\"\",\"\",((PI())*((N132/100)^2))/4*10000/500)","v":""}]
[null,{"$f":"IF(C133=\"\",\"\",IF(COUNTIF($C$3:C133, C133)>1, \"\", C133))","v":""},{"$f":"IF(G133=\"\",\"\",IF(F133=\"\",\"\",CONCATENATE(DIGITADOR!$M$1,G133,E133)))","v":""},"",{"$f":"IF(F133=\"\",\"\",VLOOKUP(F133,referentes!$Q$2:$T$300,3,FALSE))","v":""},null,null,null,null,null,{"$f":"IF(L133=\"\",\"\",VLOOKUP(L133,referentes!$G$2:$N$15,2,FALSE))","v":""},null,null,"",null,null,""]
[null,{"$f":"IF(C134=\"\",\"\",IF(COUNTIF($C$3:C134, C134)>1, \"\", C134))","v":""},{"$f":"IF(G134=\"\",\"\",IF(F134=\"\",\"\",CONCATENATE(DIGITADOR!$M$1,G134,E134)))","v":""},"",{"$f":"IF(F134=\"\",\"\",VLOOKUP(F134,referentes!$Q$2:$T$300,3,FALSE))","v":""},null,null,null,null,null,{"$f":"IF(L134=\"\",\"\",VLOOKUP(L134,referentes!$G$2:$N$15,2,FALSE))","v":""},null,null,"",null,null,""]
[null,{"$f":"IF(C135=\"\",\"\",IF(COUNTIF($C$3:C135, C135)>1, \"\", C135))","v":""},{"$f":"IF(G135=\"\",\"\",IF(F135=\"\",\"\",CONCATENATE(DIGITADOR!$M$1,G135,E135)))","v":""},"",{"$f":"IF(F135=\"\",\"\",VLOOKUP(F135,referentes!$Q$2:$T$300,3,FALSE))","v":""},null,null,null,null,null,{"$f":"IF(L135=\"\",\"\",VLOOKUP(L135,referentes!$G$2:$N$15,2,FALSE))","v":""},null,null,"",null,null,""]
[null,{"$f":"IF(C136=\"\",\"\",IF(COUNTIF($C$3:C136, C136)>1, \"\", C136))","v":""},{"$f":"IF(G136=\"\",\"\",IF(F136=\"\",\"\",CONCATENATE(DIGITADOR!$M$1,G136,E136)))","v":""},"",{"$f":"IF(F136=\"\",\"\",VLOOKUP(F136,referentes!$Q$2:$T$300,3,FALSE))","v":""},null,null,null,null,null,{"$f":"IF(L136=\"\",\"\",VLOOKUP(L136,referentes!$G$2:$N$15,2,FALSE))","v":""},null,null,"",null,null,""]
[null,{"$f":"IF(C137=\"\",\"\",IF(COUNTIF($C$3:C137, C137)>1, \"\", C137))","v":""},{"$f":"IF(G137=\"\",\"\",IF(F137=\"\",\"\",CONCATENATE(DIGITADOR!$M$1,G137,E137)))","v":""},"",{"$f":"IF(F137=\"\",\"\",VLOOKUP(F137,referentes!$Q$2:$T$300,3,FALSE))","v":""},null,null,null,null,null,{"$f":"IF(L137=\"\",\"\",VLOOKUP(L137,referentes!$G$2:$N$15,2,FALSE))","v":""},null,null,"",null,null,""]
[null,{"$f":"IF(C138=\"\",\"\",IF(COUNTIF($C$3:C138, C138)>1, \"\", C138))","v":""},{"$f":"IF(G138=\"\",\"\",IF(F138=\"\",\"\",CONCATENATE(DIGITADOR!$M$1,G138,E138)))","v":""},"",{"$f":"IF(F138=\"\",\"\",VLOOKUP(F138,referentes!$Q$2:$T$300,3,FALSE))","v":""},null,null,null,null,null,{"$f":"IF(L138=\"\",\"\",VLOOKUP(L138,referentes!$G$2:$N$15,2,FALSE))","v":""},null,null,"",null,null,""]
[null,{"$f":"IF(C139=\"\",\"\",IF(COUNTIF($C$3:C139, C139)>1, \"\", C139))","v":""},{"$f":"IF(G139=\"\",\"\",IF(F139=\"\",\"\",CONCATENATE(DIGITADOR!$M$1,G139,E139)))","v":""},"",{"$f":"IF(F139=\"\",\"\",VLOOKUP(F139,referentes!$Q$2:$T$300,3,FALSE))","v":""},null,null,null,null,null,{"$f":"IF(L139=\"\",\"\",VLOOKUP(L139,referentes!$G$2:$N$15,2,FALSE))","v":""},null,null,"",null,null,""]
[null,{"$f":"IF(C140=\"\",\"\",IF(COUNTIF($C$3:C140, C140)>1, \"\", C140))","v":""},{"$f":"IF(G140=\"\",\"\",IF(F140=\"\",\"\",CONCATENATE(DIGITADOR!$M$1,G140,E140)))","v":""},"",{"$f":"IF(F140=\"\",\"\",VLOOKUP(F140,referentes!$Q$2:$T$300,3,FALSE))","v":""},null,null,null,null,null,{"$f":"IF(L140=\"\",\"\",VLOOKUP(L140,referentes!$G$2:$N$15,2,FALSE))","v":""},null,null,"",null,null,""]
[null,{"$f":"IF(C141=\"\",\"\",IF(COUNTIF($C$3:C141, C141)>1, \"\", C141))","v":""},{"$f":"IF(G141=\"\",\"\",IF(F141=\"\",\"\",CONCATENATE(DIGITADOR!$M$1,G141,E141)))","v":""},"",{"$f":"IF(F141=\"\",\"\",VLOOKUP(F141,referentes!$Q$2:$T$300,3,FALSE))","v":""},null,null,null,null,null,{"$f":"IF(L141=\"\",\"\",VLOOKUP(L141,referentes!$G$2:$N$15,2,FALSE))","v":""},null,null,"",null,null,""]
[null,{"$f":"IF(C142=\"\",\"\",IF(COUNTIF($C$3:C142, C142)>1, \"\", C142))","v":""},{"$f":"IF(G142=\"\",\"\",IF(F142=\"\",\"\",CONCATENATE(DIGITADOR!$M$1,G142,E142)))","v":""},"",{"$f":"IF(F142=\"\",\"\",VLOOKUP(F142,referentes!$Q$2:$T$300,3,FALSE))","v":""},null,null,null,null,null,{"$f":"IF(L142=\"\",\"\",VLOOKUP(L142,referentes!$G$2:$N$15,2,FALSE))","v":""},null,null,"",null,null,""]
[null,{"$f":"IF(C143=\"\",\"\",IF(COUNTIF($C$3:C143, C143)>1, \"\", C143))","v":""},{"$f":"IF(G143=\"\",\"\",IF(F143=\"\",\"\",CONCATENATE(DIGITADOR!$M$1,G143,E143)))","v":""},"",{"$f":"IF(F143=\"\",\"\",VLOOKUP(F143,referentes!$Q$2:$T$300,3,FALSE))","v":""},null,null,null,null,null,{"$f":"IF(L143=\"\",\"\",VLOOKUP(L143,referentes!$G$2:$N$15,2,FALSE))","v":""},null,null,"",null,null,""]
[null,{"$f":"IF(C144=\"\",\"\",IF(COUNTIF($C$3:C144, C144)>1, \"\", C144))","v":""},{"$f":"IF(G144=\"\",\"\",IF(F144=\"\",\"\",CONCATENATE(DIGITADOR!$M$1,G144,E144)))","v":""},"",{"$f":"IF(F144=\"\",\"\",VLOOKUP(F144,referentes!$Q$2:$T$300,3,FALSE))","v":""},null,null,null,null,null,{"$f":"IF(L144=\"\",\"\",VLOOKUP(L144,referentes!$G$2:$N$15,2,FALSE))","v":""},null,null,"",null,null,""]
[null,{"$f":"IF(C145=\"\",\"\",IF(COUNTIF($C$3:C145, C145)>1, \"\", C145))","v":""},{"$f":"IF(G145=\"\",\"\",IF(F145=\"\",\"\",CONCATENATE(DIGITADOR!$M$1,G145,E145)))","v":""},"",{"$f":"IF(F145=\"\",\"\",VLOOKUP(F145,referentes!$Q$2:$T$300,3,FALSE))","v":""},null,null,null,null,null,{"$f":"IF(L145=\"\",\"\",VLOOKUP(L145,referentes!$G$2:$N$15,2,FALSE))","v":""},null,null,"",null,null,""]
[null,{"$f":"IF(C146=\"\",\"\",IF(COUNTIF($C$3:C146, C146)>1, \"\", C146))","v":""},{"$f":"IF(G146=\"\",\"\",IF(F146=\"\",\"\",CONCATENATE(DIGITADOR!$M$1,G146,E146)))","v":""},"",{"$f":"IF(F146=\"\",\"\",VLOOKUP(F146,referentes!$Q$2:$T$300,3,FALSE))","v":""},null,null,null,null,null,{"$f":"IF(L146=\"\",\"\",VLOOKUP(L146,referentes!$G$2:$N$15,2,FALSE))","v":""},null,null,"",null,null,""]
[null,{"$f":"IF(C147=\"\",\"\",IF(COUNTIF($C$3:C147, C147)>1, \"\", C147))","v":""},{"$f":"IF(G147=\"\",\"\",IF(F147=\"\",\"\",CONCATENATE(DIGITADOR!$M$1,G147,E147)))","v":""},"",{"$f":"IF(F147=\"\",\"\",VLOOKUP(F147,referentes!$Q$2:$T$300,3,FALSE))","v":""},null,null,null,null,null,{"$f":"IF(L147=\"\",\"\",VLOOKUP(L147,referentes!$G$2:$N$15,2,FALSE))","v":""},null,null,"",null,null,""]
[null,{"$f":"IF(C148=\"\",\"\",IF(COUNTIF($C$3:C148, C148)>1, \"\", C148))","v":""},{"$f":"IF(G148=\"\",\"\",IF(F148=\"\",\"\",CONCATENATE(DIGITADOR!$M$1,G148,E148)))","v":""},"",{"$f":"IF(F148=\"\",\"\",VLOOKUP(F148,referentes!$Q$2:$T$300,3,FALSE))","v":""},null,null,null,null,null,{"$f":"IF(L148=\"\",\"\",VLOOKUP(L148,referentes!$G$2:$N$15,2,FALSE))","v":""},null,null,"",null,null,""]
[null,{"$f":"IF(C149=\"\",\"\",IF(COUNTIF($C$3:C149, C149)>1, \"\", C149))","v":""},{"$f":"IF(G149=\"\",\"\",IF(F149=\"\",\"\",CONCATENATE(DIGITADOR!$M$1,G149,E149)))","v":""},"",{"$f":"IF(F149=\"\",\"\",VLOOKUP(F149,referentes!$Q$2:$T$300,3,FALSE))","v":""},null,null,null,null,null,{"$f":"IF(L149=\"\",\"\",VLOOKUP(L149,referentes!$G$2:$N$15,2,FALSE))","v":""},null,null,"",null,null,""]
[null,{"$f":"IF(C150=\"\",\"\",IF(COUNTIF($C$3:C150, C150)>1, \"\", C150))","v":""},{"$f":"IF(G150=\"\",\"\",IF(F150=\"\",\"\",CONCATENATE(DIGITADOR!$M$1,G150,E150)))","v":""},"",{"$f":"IF(F150=\"\",\"\",VLOOKUP(F150,referentes!$Q$2:$T$300,3,FALSE))","v":""},null,null,null,null,null,{"$f":"IF(L150=\"\",\"\",VLOOKUP(L150,referentes!$G$2:$N$15,2,FALSE))","v":""},null,null,"",null,null,""]
[null,{"$f":"IF(C151=\"\",\"\",IF(COUNTIF($C$3:C151, C151)>1, \"\", C151))","v":""},{"$f":"IF(G151=\"\",\"\",IF(F151=\"\",\"\",CONCATENATE(DIGITADOR!$M$1,G151,E151)))","v":""},"",{"$f":"IF(F151=\"\",\"\",VLOOKUP(F151,referentes!$Q$2:$T$300,3,FALSE))","v":""},null,null,null,null,null,{"$f":"IF(L151=\"\",\"\",VLOOKUP(L151,referentes!$G$2:$N$15,2,FALSE))","v":""},null,null,"",null,null,""]
[null,{"$f":"IF(C152=\"\",\"\",IF(COUNTIF($C$3:C152, C152)>1, \"\", C152))","v":""},{"$f":"IF(G152=\"\",\"\",IF(F152=\"\",\"\",CONCATENATE(DIGITADOR!$M$1,G152,E152)))","v":""},"",{"$f":"IF(F152=\"\",\"\",VLOOKUP(F152,referentes!$Q$2:$T$300,3,FALSE))","v":""},null,null,null,null,null,{"$f":"IF(L152=\"\",\"\",VLOOKUP(L152,referentes!$G$2:$N$15,2,FALSE))","v":""},null,null,"",null,null,""]
[null,{"$f":"IF(C153=\"\",\"\",IF(COUNTIF($C$3:C153, C153)>1, \"\", C153))","v":""},{"$f":"IF(G153=\"\",\"\",IF(F153=\"\",\"\",CONCATENATE(DIGITADOR!$M$1,G153,E153)))","v":""},"",{"$f":"IF(F153=\"\",\"\",VLOOKUP(F153,referentes!$Q$2:$T$300,3,FALSE))","v":""},null,null,null,null,null,{"$f":"IF(L153=\"\",\"\",VLOOKUP(L153,referentes!$G$2:$N$15,2,FALSE))","v":""},null,null,"",null,null,""]
[null,{"$f":"IF(C154=\"\",\"\",IF(COUNTIF($C$3:C154, C154)>1, \"\", C154))","v":""},{"$f":"IF(G154=\"\",\"\",IF(F154=\"\",\"\",CONCATENATE(DIGITADOR!$M$1,G154,E154)))","v":""},"",{"$f":"IF(F154=\"\",\"\",VLOOKUP(F154,referentes!$Q$2:$T$300,3,FALSE))","v":""},null,null,null,null,null,{"$f":"IF(L154=\"\",\"\",VLOOKUP(L154,referentes!$G$2:$N$15,2,FALSE))","v":""},null,null,"",null,null,""]
[null,{"$f":"IF(C155=\"\",\"\",IF(COUNTIF($C$3:C155, C155)>1, \"\", C155))","v":""},{"$f":"IF(G155=\"\",\"\",IF(F155=\"\",\"\",CONCATENATE(DIGITADOR!$M$1,G155,E155)))","v":""},"",{"$f":"IF(F155=\"\",\"\",VLOOKUP(F155,referentes!$Q$2:$T$300,3,FALSE))","v":""},null,null,null,null,null,{"$f":"IF(L155=\"\",\"\",VLOOKUP(L155,referentes!$G$2:$N$15,2,FALSE))","v":""},null,null,"",null,null,""]
[null,{"$f":"IF(C156=\"\",\"\",IF(COUNTIF($C$3:C156, C156)>1, \"\", C156))","v":""},{"$f":"IF(G156=\"\",\"\",IF(F156=\"\",\"\",CONCATENATE(DIGITADOR!$M$1,G156,E156)))","v":""},"",{"$f":"IF(F156=\"\",\"\",VLOOKUP(F156,referentes!$Q$2:$T$300,3,FALSE))","v":""},null,null,null,null,null,{"$f":"IF(L156=\"\",\"\",VLOOKUP(L156,referentes!$G$2:$N$15,2,FALSE))","v":""},null,null,"",null,null,""]
[null,{"$f":"IF(C157=\"\",\"\",IF(COUNTIF($C$3:C157, C157)>1, \"\", C157))","v":""},{"$f":"IF(G157=\"\",\"\",IF(F157=\"\",\"\",CONCATENATE(DIGITADOR!$M$1,G157,E157)))","v":""},"",{"$f":"IF(F157=\"\",\"\",VLOOKUP(F157,referentes!$Q$2:$T$300,3,FALSE))","v":""},null,null,null,null,null,{"$f":"IF(L157=\"\",\"\",VLOOKUP(L157,referentes!$G$2:$N$15,2,FALSE))","v":""},null,null,"",null,null,""]
[null,{"$f":"IF(C158=\"\",\"\",IF(COUNTIF($C$3:C158, C158)>1, \"\", C158))","v":""},{"$f":"IF(G158=\"\",\"\",IF(F158=\"\",\"\",CONCATENATE(DIGITADOR!$M$1,G158,E158)))","v":""},"",{"$f":"IF(F158=\"\",\"\",VLOOKUP(F158,referentes!$Q$2:$T$300,3,FALSE))","v":""},null,null,null,null,null,{"$f":"IF(L158=\"\",\"\",VLOOKUP(L158,referentes!$G$2:$N$15,2,FALSE))","v":""},null,null,"",null,null,""]
[null,{"$f":"IF(C159=\"\",\"\",IF(COUNTIF($C$3:C159, C159)>1, \"\", C159))","v":""},{"$f":"IF(G159=\"\",\"\",IF(F159=\"\",\"\",CONCATENATE(DIGITADOR!$M$1,G159,E159)))","v":""},"",{"$f":"IF(F159=\"\",\"\",VLOOKUP(F159,referentes!$Q$2:$T$300,3,FALSE))","v":""},null,null,null,null,null,{"$f":"IF(L159=\"\",\"\",VLOOKUP(L159,referentes!$G$2:$N$15,2,FALSE))","v":""},null,null,"",null,null,""]
[null,{"$f":"IF(C160=\"\",\"\",IF(COUNTIF($C$3:C160, C160)>1, \"\", C160))","v":""},{"$f":"IF(G160=\"\",\"\",IF(F160=\"\",\"\",CONCATENATE(DIGITADOR!$M$1,G160,E160)))","v":""},"",{"$f":"IF(F160=\"\",\"\",VLOOKUP(F160,referentes!$Q$2:$T$300,3,FALSE))","v":""},null,null,null,null,null,{"$f":"IF(L160=\"\",\"\",VLOOKUP(L160,referentes!$G$2:$N$15,2,FALSE))","v":""},null,null,"",null,null,""]
[null,{"$f":"IF(C161=\"\",\"\",IF(COUNTIF($C$3:C161, C161)>1, \"\", C161))","v":""},{"$f":"IF(G161=\"\",\"\",IF(F161=\"\",\"\",CONCATENATE(DIGITADOR!$M$1,G161,E161)))","v":""},"",{"$f":"IF(F161=\"\",\"\",VLOOKUP(F161,referentes!$Q$2:$T$300,3,FALSE))","v":""},null,null,null,null,null,{"$f":"IF(L161=\"\",\"\",VLOOKUP(L161,referentes!$G$2:$N$15,2,FALSE))","v":""},null,null,"",null,null,""]
[null,{"$f":"IF(C162=\"\",\"\",IF(COUNTIF($C$3:C162, C162)>1, \"\", C162))","v":""},{"$f":"IF(G162=\"\",\"\",IF(F162=\"\",\"\",CONCATENATE(DIGITADOR!$M$1,G162,E162)))","v":""},"",{"$f":"IF(F162=\"\",\"\",VLOOKUP(F162,referentes!$Q$2:$T$300,3,FALSE))","v":""},null,null,null,null,null,{"$f":"IF(L162=\"\",\"\",VLOOKUP(L162,referentes!$G$2:$N$15,2,FALSE))","v":""},null,null,"",null,null,""]
[null,{"$f":"IF(C163=\"\",\"\",IF(COUNTIF($C$3:C163, C163)>1, \"\", C163))","v":""},{"$f":"IF(G163=\"\",\"\",IF(F163=\"\",\"\",CONCATENATE(DIGITADOR!$M$1,G163,E163)))","v":""},"",{"$f":"IF(F163=\"\",\"\",VLOOKUP(F163,referentes!$Q$2:$T$300,3,FALSE))","v":""},null,null,null,null,null,{"$f":"IF(L163=\"\",\"\",VLOOKUP(L163,referentes!$G$2:$N$15,2,FALSE))","v":""},null,null,"",null,null,""]
[null,{"$f":"IF(C164=\"\",\"\",IF(COUNTIF($C$3:C164, C164)>1, \"\", C164))","v":""},{"$f":"IF(G164=\"\",\"\",IF(F164=\"\",\"\",CONCATENATE(DIGITADOR!$M$1,G164,E164)))","v":""},"",{"$f":"IF(F164=\"\",\"\",VLOOKUP(F164,referentes!$Q$2:$T$300,3,FALSE))","v":""},null,null,null,null,null,{"$f":"IF(L164=\"\",\"\",VLOOKUP(L164,referentes!$G$2:$N$15,2,FALSE))","v":""},null,null,"",null,null,""]
[null,{"$f":"IF(C165=\"\",\"\",IF(COUNTIF($C$3:C165, C165)>1, \"\", C165))","v":""},{"$f":"IF(G165=\"\",\"\",IF(F165=\"\",\"\",CONCATENATE(DIGITADOR!$M$1,G165,E165)))","v":""},"",{"$f":"IF(F165=\"\",\"\",VLOOKUP(F165,referentes!$Q$2:$T$300,3,FALSE))","v":""},null,null,null,null,null,{"$f":"IF(L165=\"\",\"\",VLOOKUP(L165,referentes!$G$2:$N$15,2,FALSE))","v":""},null,null,"",null,null,""]
[null,{"$f":"IF(C166=\"\",\"\",IF(COUNTIF($C$3:C166, C166)>1, \"\", C166))","v":""},{"$f":"IF(G166=\"\",\"\",IF(F166=\"\",\"\",CONCATENATE(DIGITADOR!$M$1,G166,E166)))","v":""},"",{"$f":"IF(F166=\"\",\"\",VLOOKUP(F166,referentes!$Q$2:$T$300,3,FALSE))","v":""},null,null,null,null,null,{"$f":"IF(L166=\"\",\"\",VLOOKUP(L166,referentes!$G$2:$N$15,2,FALSE))","v":""},null,null,"",null,null,""]
[null,{"$f":"IF(C167=\"\",\"\",IF(COUNTIF($C$3:C167, C167)>1, \"\", C167))","v":""},{"$f":"IF(G167=\"\",\"\",IF(F167=\"\",\"\",CONCATENATE(DIGITADOR!$M$1,G167,E167)))","v":""},"",{"$f":"IF(F167=\"\",\"\",VLOOKUP(F167,referentes!$Q$2:$T$300,3,FALSE))","v":""},null,null,null,null,null,{"$f":"IF(L167=\"\",\"\",VLOOKUP(L167,referentes!$G$2:$N$15,2,FALSE))","v":""},null,null,"",null,null,""]
[null,{"$f":"IF(C168=\"\",\"\",IF(COUNTIF($C$3:C168, C168)>1, \"\", C168))","v":""},{"$f":"IF(G168=\"\",\"\",IF(F168=\"\",\"\",CONCATENATE(DIGITADOR!$M$1,G168,E168)))","v":""},"",{"$f":"IF(F168=\"\",\"\",VLOOKUP(F168,referentes!$Q$2:$T$300,3,FALSE))","v":""},null,null,null,null,null,{"$f":"IF(L168=\"\",\"\",VLOOKUP(L168,referentes!$G$2:$N$15,2,FALSE))","v":""},null,null,"",null,null,""]
[null,{"$f":"IF(C169=\"\",\"\",IF(COUNTIF($C$3:C169, C169)>1, \"\", C169))","v":""},{"$f":"IF(G169=\"\",\"\",IF(F169=\"\",\"\",CONCATENATE(DIGITADOR!$M$1,G169,E169)))","v":""},"",{"$f":"IF(F169=\"\",\"\",VLOOKUP(F169,referentes!$Q$2:$T$300,3,FALSE))","v":""},null,null,null,null,null,{"$f":"IF(L169=\"\",\"\",VLOOKUP(L169,referentes!$G$2:$N$15,2,FALSE))","v":""},null,null,"",null,null,""]
[null,{"$f":"IF(C170=\"\",\"\",IF(COUNTIF($C$3:C170, C170)>1, \"\", C170))","v":""},{"$f":"IF(G170=\"\",\"\",IF(F170=\"\",\"\",CONCATENATE(DIGITADOR!$M$1,G170,E170)))","v":""},"",{"$f":"IF(F170=\"\",\"\",VLOOKUP(F170,referentes!$Q$2:$T$300,3,FALSE))","v":""},null,null,null,null,null,{"$f":"IF(L170=\"\",\"\",VLOOKUP(L170,referentes!$G$2:$N$15,2,FALSE))","v":""},null,null,"",null,null,""]
[null,{"$f":"IF(C171=\"\",\"\",IF(COUNTIF($C$3:C171, C171)>1, \"\", C171))","v":""},{"$f":"IF(G171=\"\",\"\",IF(F171=\"\",\"\",CONCATENATE(DIGITADOR!$M$1,G171,E171)))","v":""},"",{"$f":"IF(F171=\"\",\"\",VLOOKUP(F171,referentes!$Q$2:$T$300,3,FALSE))","v":""},null,null,null,null,null,{"$f":"IF(L171=\"\",\"\",VLOOKUP(L171,referentes!$G$2:$N$15,2,FALSE))","v":""},null,null,"",null,null,""]
[null,{"$f":"IF(C172=\"\",\"\",IF(COUNTIF($C$3:C172, C172)>1, \"\", C172))","v":""},{"$f":"IF(G172=\"\",\"\",IF(F172=\"\",\"\",CONCATENATE(DIGITADOR!$M$1,G172,E172)))","v":""},"",{"$f":"IF(F172=\"\",\"\",VLOOKUP(F172,referentes!$Q$2:$T$300,3,FALSE))","v":""},null,null,null,null,null,{"$f":"IF(L172=\"\",\"\",VLOOKUP(L172,referentes!$G$2:$N$15,2,FALSE))","v":""},null,null,"",null,null,""]
[null,{"$f":"IF(C173=\"\",\"\",IF(COUNTIF($C$3:C173, C173)>1, \"\", C173))","v":""},{"$f":"IF(G173=\"\",\"\",IF(F173=\"\",\"\",CONCATENATE(DIGITADOR!$M$1,G173,E173)))","v":""},"",{"$f":"IF(F173=\"\",\"\",VLOOKUP(F173,referentes!$Q$2:$T$300,3,FALSE))","v":""},null,null,null,null,null,{"$f":"IF(L173=\"\",\"\",VLOOKUP(L173,referentes!$G$2:$N$15,2,FALSE))","v":""},null,null,"",null,null,""]
[null,{"$f":"IF(C174=\"\",\"\",IF(COUNTIF($C$3:C174, C174)>1, \"\", C174))","v":""},{"$f":"IF(G174=\"\",\"\",IF(F174=\"\",\"\",CONCATENATE(DIGITADOR!$M$1,G174,E174)))","v":""},"",{"$f":"IF(F174=\"\",\"\",VLOOKUP(F174,referentes!$Q$2:$T$300,3,FALSE))","v":""},null,null,null,null,null,{"$f":"IF(L174=\"\",\"\",VLOOKUP(L174,referentes!$G$2:$N$15,2,FALSE))","v":""},null,null,"",null,null,""]
[null,{"$f":"IF(C175=\"\",\"\",IF(COUNTIF($C$3:C175, C175)>1, \"\", C175))","v":""},{"$f":"IF(G175=\"\",\"\",IF(F175=\"\",\"\",CONCATENATE(DIGITADOR!$M$1,G175,E175)))","v":""},"",{"$f":"IF(F175=\"\",\"\",VLOOKUP(F175,referentes!$Q$2:$T$300,3,FALSE))","v":""},null,null,null,null,null,{"$f":"IF(L175=\"\",\"\",VLOOKUP(L175,referentes!$G$2:$N$15,2,FALSE))","v":""},null,null,"",null,null,""]
[null,{"$f":"IF(C176=\"\",\"\",IF(COUNTIF($C$3:C176, C176)>1, \"\", C176))","v":""},{"$f":"IF(G176=\"\",\"\",IF(F176=\"\",\"\",CONCATENATE(DIGITADOR!$M$1,G176,E176)))","v":""},"",{"$f":"IF(F176=\"\",\"\",VLOOKUP(F176,referentes!$Q$2:$T$300,3,FALSE))","v":""},null,null,null,null,null,{"$f":"IF(L176=\"\",\"\",VLOOKUP(L176,referentes!$G$2:$N$15,2,FALSE))","v":""},null,null,"",null,null,""]
[null,{"$f":"IF(C177=\"\",\"\",IF(COUNTIF($C$3:C177, C177)>1, \"\", C177))","v":""},{"$f":"IF(G177=\"\",\"\",IF(F177=\"\",\"\",CONCATENATE(DIGITADOR!$M$1,G177,E177)))","v":""},"",{"$f":"IF(F177=\"\",\"\",VLOOKUP(F177,referentes!$Q$2:$T$300,3,FALSE))","v":""},null,null,null,null,null,{"$f":"IF(L177=\"\",\"\",VLOOKUP(L177,referentes!$G$2:$N$15,2,FALSE))","v":""},null,null,"",null,null,""]
[null,{"$f":"IF(C178=\"\",\"\",IF(COUNTIF($C$3:C178, C178)>1, \"\", C178))","v":""},{"$f":"IF(G178=\"\",\"\",IF(F178=\"\",\"\",CONCATENATE(DIGITADOR!$M$1,G178,E178)))","v":""},"",{"$f":"IF(F178=\"\",\"\",VLOOKUP(F178,referentes!$Q$2:$T$300,3,FALSE))","v":""},null,null,null,null,null,{"$f":"IF(L178=\"\",\"\",VLOOKUP(L178,referentes!$G$2:$N$15,2,FALSE))","v":""},null,null,"",null,null,""]
[null,{"$f":"IF(C179=\"\",\"\",IF(COUNTIF($C$3:C179, C179)>1, \"\", C179))","v":""},{"$f":"IF(G179=\"\",\"\",IF(F179=\"\",\"\",CONCATENATE(DIGITADOR!$M$1,G179,E179)))","v":""},"",{"$f":"IF(F179=\"\",\"\",VLOOKUP(F179,referentes!$Q$2:$T$300,3,FALSE))","v":""},null,null,null,null,null,{"$f":"IF(L179=\"\",\"\",VLOOKUP(L179,referentes!$G$2:$N$15,2,FALSE))","v":""},null,null,"",null,null,""]
[null,{"$f":"IF(C180=\"\",\"\",IF(COUNTIF($C$3:C180, C180)>1, \"\", C180))","v":""},{"$f":"IF(G180=\"\",\"\",IF(F180=\"\",\"\",CONCATENATE(DIGITADOR!$M$1,G180,E180)))","v":""},"",{"$f":"IF(F180=\"\",\"\",VLOOKUP(F180,referentes!$Q$2:$T$300,3,FALSE))","v":""},null,null,null,null,null,{"$f":"IF(L180=\"\",\"\",VLOOKUP(L180,referentes!$G$2:$N$15,2,FALSE))","v":""},null,null,"",null,null,""]
[null,{"$f":"IF(C181=\"\",\"\",IF(COUNTIF($C$3:C181, C181)>1, \"\", C181))","v":""},{"$f":"IF(G181=\"\",\"\",IF(F181=\"\",\"\",CONCATENATE(DIGITADOR!$M$1,G181,E181)))","v":""},"",{"$f":"IF(F181=\"\",\"\",VLOOKUP(F181,referentes!$Q$2:$T$300,3,FALSE))","v":""},null,null,null,null,null,{"$f":"IF(L181=\"\",\"\",VLOOKUP(L181,referentes!$G$2:$N$15,2,FALSE))","v":""},null,null,"",null,null,""]
[null,{"$f":"IF(C182=\"\",\"\",IF(COUNTIF($C$3:C182, C182)>1, \"\", C182))","v":""},{"$f":"IF(G182=\"\",\"\",IF(F182=\"\",\"\",CONCATENATE(DIGITADOR!$M$1,G182,E182)))","v":""},"",{"$f":"IF(F182=\"\",\"\",VLOOKUP(F182,referentes!$Q$2:$T$300,3,FALSE))","v":""},null,null,null,null,null,{"$f":"IF(L182=\"\",\"\",VLOOKUP(L182,referentes!$G$2:$N$15,2,FALSE))","v":""},null,null,"",null,null,""]
[null,{"$f":"IF(C183=\"\",\"\",IF(COUNTIF($C$3:C183, C183)>1, \"\", C183))","v":""},{"$f":"IF(G183=\"\",\"\",IF(F183=\"\",\"\",CONCATENATE(DIGITADOR!$M$1,G183,E183)))","v":""},"",{"$f":"IF(F183=\"\",\"\",VLOOKUP(F183,referentes!$Q$2:$T$300,3,FALSE))","v":""},null,null,null,null,null,{"$f":"IF(L183=\"\",\"\",VLOOKUP(L183,referentes!$G$2:$N$15,2,FALSE))","v":""},null,null,"",null,null,""]
[null,{"$f":"IF(C184=\"\",\"\",IF(COUNTIF($C$3:C184, C184)>1, \"\", C184))","v":""},{"$f":"IF(G184=\"\",\"\",IF(F184=\"\",\"\",CONCATENATE(DIGITADOR!$M$1,G184,E184)))","v":""},"",{"$f":"IF(F184=\"\",\"\",VLOOKUP(F184,referentes!$Q$2:$T$300,3,FALSE))","v":""},null,null,null,null,null,{"$f":"IF(L184=\"\",\"\",VLOOKUP(L184,referentes!$G$2:$N$15,2,FALSE))","v":""},null,null,"",null,null,""]
[null,{"$f":"IF(C185=\"\",\"\",IF(COUNTIF($C$3:C185, C185)>1, \"\", C185))","v":""},{"$f":"IF(G185=\"\",\"\",IF(F185=\"\",\"\",CONCATENATE(DIGITADOR!$M$1,G185,E185)))","v":""},"",{"$f":"IF(F185=\"\",\"\",VLOOKUP(F185,referentes!$Q$2:$T$300,3,FALSE))","v":""},null,null,null,null,null,{"$f":"IF(L185=\"\",\"\",VLOOKUP(L185,referentes!$G$2:$N$15,2,FALSE))","v":""},null,null,"",null,null,""]
[null,{"$f":"IF(C186=\"\",\"\",IF(COUNTIF($C$3:C186, C186)>1, \"\", C186))","v":""},{"$f":"IF(G186=\"\",\"\",IF(F186=\"\",\"\",CONCATENATE(DIGITADOR!$M$1,G186,E186)))","v":""},"",{"$f":"IF(F186=\"\",\"\",VLOOKUP(F186,referentes!$Q$2:$T$300,3,FALSE))","v":""},null,null,null,null,null,{"$f":"IF(L186=\"\",\"\",VLOOKUP(L186,referentes!$G$2:$N$15,2,FALSE))","v":""},null,null,"",null,null,""]
[null,{"$f":"IF(C187=\"\",\"\",IF(COUNTIF($C$3:C187, C187)>1, \"\", C187))","v":""},{"$f":"IF(G187=\"\",\"\",IF(F187=\"\",\"\",CONCATENATE(DIGITADOR!$M$1,G187,E187)))","v":""},"",{"$f":"IF(F187=\"\",\"\",VLOOKUP(F187,referentes!$Q$2:$T$300,3,FALSE))","v":""},null,null,null,null,null,{"$f":"IF(L187=\"\",\"\",VLOOKUP(L187,referentes!$G$2:$N$15,2,FALSE))","v":""},null,null,"",null,null,""]
[null,{"$f":"IF(C188=\"\",\"\",IF(COUNTIF($C$3:C188, C188)>1, \"\", C188))","v":""},{"$f":"IF(G188=\"\",\"\",IF(F188=\"\",\"\",CONCATENATE(DIGITADOR!$M$1,G188,E188)))","v":""},"",{"$f":"IF(F188=\"\",\"\",VLOOKUP(F188,referentes!$Q$2:$T$300,3,FALSE))","v":""},null,null,null,null,null,{"$f":"IF(L188=\"\",\"\",VLOOKUP(L188,referentes!$G$2:$N$15,2,FALSE))","v":""},null,null,"",null,null,""]
[null,{"$f":"IF(C189=\"\",\"\",IF(COUNTIF($C$3:C189, C189)>1, \"\", C189))","v":""},{"$f":"IF(G189=\"\",\"\",IF(F189=\"\",\"\",CONCATENATE(DIGITADOR!$M$1,G189,E189)))","v":""},"",{"$f":"IF(F189=\"\",\"\",VLOOKUP(F189,referentes!$Q$2:$T$300,3,FALSE))","v":""},null,null,null,null,null,{"$f":"IF(L189=\"\",\"\",VLOOKUP(L189,referentes!$G$2:$N$15,2,FALSE))","v":""},null,null,"",null,null,""]
[null,{"$f":"IF(C190=\"\",\"\",IF(COUNTIF($C$3:C190, C190)>1, \"\", C190))","v":""},{"$f":"IF(G190=\"\",\"\",IF(F190=\"\",\"\",CONCATENATE(DIGITADOR!$M$1,G190,E190)))","v":""},"",{"$f":"IF(F190=\"\",\"\",VLOOKUP(F190,referentes!$Q$2:$T$300,3,FALSE))","v":""},null,null,null,null,null,{"$f":"IF(L190=\"\",\"\",VLOOKUP(L190,referentes!$G$2:$N$15,2,FALSE))","v":""},null,null,"",null,null,""]
[null,{"$f":"IF(C191=\"\",\"\",IF(COUNTIF($C$3:C191, C191)>1, \"\", C191))","v":""},{"$f":"IF(G191=\"\",\"\",IF(F191=\"\",\"\",CONCATENATE(DIGITADOR!$M$1,G191,E191)))","v":""},"",{"$f":"IF(F191=\"\",\"\",VLOOKUP(F191,referentes!$Q$2:$T$300,3,FALSE))","v":""},null,null,null,null,null,{"$f":"IF(L191=\"\",\"\",VLOOKUP(L191,referentes!$G$2:$N$15,2,FALSE))","v":""},null,null,"",null,null,""]
[null,{"$f":"IF(C192=\"\",\"\",IF(COUNTIF($C$3:C192, C192)>1, \"\", C192))","v":""},{"$f":"IF(G192=\"\",\"\",IF(F192=\"\",\"\",CONCATENATE(DIGITADOR!$M$1,G192,E192)))","v":""},"",{"$f":"IF(F192=\"\",\"\",VLOOKUP(F192,referentes!$Q$2:$T$300,3,FALSE))","v":""},null,null,null,null,null,{"$f":"IF(L192=\"\",\"\",VLOOKUP(L192,referentes!$G$2:$N$15,2,FALSE))","v":""},null,null,"",null,null,""]
[null,{"$f":"IF(C193=\"\",\"\",IF(COUNTIF($C$3:C193, C193)>1, \"\", C193))","v":""},{"$f":"IF(G193=\"\",\"\",IF(F193=\"\",\"\",CONCATENATE(DIGITADOR!$M$1,G193,E193)))","v":""},"",{"$f":"IF(F193=\"\",\"\",VLOOKUP(F193,referentes!$Q$2:$T$300,3,FALSE))","v":""},null,null,null,null,null,{"$f":"IF(L193=\"\",\"\",VLOOKUP(L193,referentes!$G$2:$N$15,2,FALSE))","v":""},null,null,"",null,null,""]
[null,{"$f":"IF(C194=\"\",\"\",IF(COUNTIF($C$3:C194, C194)>1, \"\", C194))","v":""},{"$f":"IF(G194=\"\",\"\",IF(F194=\"\",\"\",CONCATENATE(DIGITADOR!$M$1,G194,E194)))","v":""},"",{"$f":"IF(F194=\"\",\"\",VLOOKUP(F194,referentes!$Q$2:$T$300,3,FALSE))","v":""},null,null,null,null,null,{"$f":"IF(L194=\"\",\"\",VLOOKUP(L194,referentes!$G$2:$N$15,2,FALSE))","v":""},null,null,"",null,null,""]
[null,{"$f":"IF(C195=\"\",\"\",IF(COUNTIF($C$3:C195, C195)>1, \"\", C195))","v":""},{"$f":"IF(G195=\"\",\"\",IF(F195=\"\",\"\",CONCATENATE(DIGITADOR!$M$1,G195,E195)))","v":""},"",{"$f":"IF(F195=\"\",\"\",VLOOKUP(F195,referentes!$Q$2:$T$300,3,FALSE))","v":""},null,null,null,null,null,{"$f":"IF(L195=\"\",\"\",VLOOKUP(L195,referentes!$G$2:$N$15,2,FALSE))","v":""},null,null,"",null,null,""]
[null,{"$f":"IF(C196=\"\",\"\",IF(COUNTIF($C$3:C196, C196)>1, \"\", C196))","v":""},{"$f":"IF(G196=\"\",\"\",IF(F196=\"\",\"\",CONCATENATE(DIGITADOR!$M$1,G196,E196)))","v":""},{"$f":"IF(C196=\"\",\"\",CONCATENATE(C196,ROW()-2))","v":""},{"$f":"IF(F196=\"\",\"\",VLOOKUP(F196,referentes!$Q$2:$T$300,3,FALSE))","v":""},null,null,null,null,null,{"$f":"IF(L196=\"\",\"\",VLOOKUP(L196,referentes!$G$2:$N$15,2,FALSE))","v":""},null,null,{"$f":"IF(M196=\"\",\"\",M196/PI())","v":""},null,null,{"$f":"IF(N196=\"\",\"\",((PI())*((N196/100)^2))/4*10000/500)","v":""}]
[null,{"$f":"IF(C197=\"\",\"\",IF(COUNTIF($C$3:C197, C197)>1, \"\", C197))","v":""},{"$f":"IF(G197=\"\",\"\",IF(F197=\"\",\"\",CONCATENATE(DIGITADOR!$M$1,G197,E197)))","v":""},"",{"$f":"IF(F197=\"\",\"\",VLOOKUP(F197,referentes!$Q$2:$T$300,3,FALSE))","v":""},null,null,null,null,null,{"$f":"IF(L197=\"\",\"\",VLOOKUP(L197,referentes!$G$2:$N$15,2,FALSE))","v":""},null,null,"",null,null,""]
[null,{"$f":"IF(C198=\"\",\"\",IF(COUNTIF($C$3:C198, C198)>1, \"\", C198))","v":""},{"$f":"IF(G198=\"\",\"\",IF(F198=\"\",\"\",CONCATENATE(DIGITADOR!$M$1,G198,E198)))","v":""},"",{"$f":"IF(F198=\"\",\"\",VLOOKUP(F198,referentes!$Q$2:$T$300,3,FALSE))","v":""},null,null,null,null,null,{"$f":"IF(L198=\"\",\"\",VLOOKUP(L198,referentes!$G$2:$N$15,2,FALSE))","v":""},null,null,"",null,null,""]
[null,{"$f":"IF(C199=\"\",\"\",IF(COUNTIF($C$3:C199, C199)>1, \"\", C199))","v":""},{"$f":"IF(G199=\"\",\"\",IF(F199=\"\",\"\",CONCATENATE(DIGITADOR!$M$1,G199,E199)))","v":""},"",{"$f":"IF(F199=\"\",\"\",VLOOKUP(F199,referentes!$Q$2:$T$300,3,FALSE))","v":""},null,null,null,null,null,{"$f":"IF(L199=\"\",\"\",VLOOKUP(L199,referentes!$G$2:$N$15,2,FALSE))","v":""},null,null,"",null,null,""]
[null,{"$f":"IF(C200=\"\",\"\",IF(COUNTIF($C$3:C200, C200)>1, \"\", C200))","v":""},{"$f":"IF(G200=\"\",\"\",IF(F200=\"\",\"\",CONCATENATE(DIGITADOR!$M$1,G200,E200)))","v":""},"",{"$f":"IF(F200=\"\",\"\",VLOOKUP(F200,referentes!$Q$2:$T$300,3,FALSE))","v":""},null,null,null,null,null,{"$f":"IF(L200=\"\",\"\",VLOOKUP(L200,referentes!$G$2:$N$15,2,FALSE))","v":""},null,null,"",null,null,""]
[null,{"$f":"IF(C201=\"\",\"\",IF(COUNTIF($C$3:C201, C201)>1, \"\", C201))","v":""},{"$f":"IF(G201=\"\",\"\",IF(F201=\"\",\"\",CONCATENATE(DIGITADOR!$M$1,G201,E201)))","v":""},"",{"$f":"IF(F201=\"\",\"\",VLOOKUP(F201,referentes!$Q$2:$T$300,3,FALSE))","v":""},null,null,null,null,null,{"$f":"IF(L201=\"\",\"\",VLOOKUP(L201,referentes!$G$2:$N$15,2,FALSE))","v":""},null,null,"",null,null,""]
[null,{"$f":"IF(C202=\"\",\"\",IF(COUNTIF($C$3:C202, C202)>1, \"\", C202))","v":""},{"$f":"IF(G202=\"\",\"\",IF(F202=\"\",\"\",CONCATENATE(DIGITADOR!$M$1,G202,E202)))","v":""},"",{"$f":"IF(F202=\"\",\"\",VLOOKUP(F202,referentes!$Q$2:$T$300,3,FALSE))","v":""},null,null,null,null,null,{"$f":"IF(L202=\"\",\"\",VLOOKUP(L202,referentes!$G$2:$N$15,2,FALSE))","v":""},null,null,"",null,null,""]
[null,{"$f":"IF(C203=\"\",\"\",IF(COUNTIF($C$3:C203, C203)>1, \"\", C203))","v":""},{"$f":"IF(G203=\"\",\"\",IF(F203=\"\",\"\",CONCATENATE(DIGITADOR!$M$1,G203,E203)))","v":""},"",{"$f":"IF(F203=\"\",\"\",VLOOKUP(F203,referentes!$Q$2:$T$300,3,FALSE))","v":""},null,null,null,null,null,{"$f":"IF(L203=\"\",\"\",VLOOKUP(L203,referentes!$G$2:$N$15,2,FALSE))","v":""},null,null,"",null,null,""]
[null,{"$f":"IF(C204=\"\",\"\",IF(COUNTIF($C$3:C204, C204)>1, \"\", C204))","v":""},{"$f":"IF(G204=\"\",\"\",IF(F204=\"\",\"\",CONCATENATE(DIGITADOR!$M$1,G204,E204)))","v":""},"",{"$f":"IF(F204=\"\",\"\",VLOOKUP(F204,referentes!$Q$2:$T$300,3,FALSE))","v":""},null,null,null,null,null,{"$f":"IF(L204=\"\",\"\",VLOOKUP(L204,referentes!$G$2:$N$15,2,FALSE))","v":""},null,null,"",null,null,""]
[null,{"$f":"IF(C205=\"\",\"\",IF(COUNTIF($C$3:C205, C205)>1, \"\", C205))","v":""},{"$f":"IF(G205=\"\",\"\",IF(F205=\"\",\"\",CONCATENATE(DIGITADOR!$M$1,G205,E205)))","v":""},"",{"$f":"IF(F205=\"\",\"\",VLOOKUP(F205,referentes!$Q$2:$T$300,3,FALSE))","v":""},null,null,null,null,null,{"$f":"IF(L205=\"\",\"\",VLOOKUP(L205,referentes!$G$2:$N$15,2,FALSE))","v":""},null,null,"",null,null,""]
[null,{"$f":"IF(C206=\"\",\"\",IF(COUNTIF($C$3:C206, C206)>1, \"\", C206))","v":""},{"$f":"IF(G206=\"\",\"\",IF(F206=\"\",\"\",CONCATENATE(DIGITADOR!$M$1,G206,E206)))","v":""},"",{"$f":"IF(F206=\"\",\"\",VLOOKUP(F206,referentes!$Q$2:$T$300,3,FALSE))","v":""},null,null,null,null,null,{"$f":"IF(L206=\"\",\"\",VLOOKUP(L206,referentes!$G$2:$N$15,2,FALSE))","v":""},null,null,"",null,null,""]
[null,{"$f":"IF(C207=\"\",\"\",IF(COUNTIF($C$3:C207, C207)>1, \"\", C207))","v":""},{"$f":"IF(G207=\"\",\"\",IF(F207=\"\",\"\",CONCATENATE(DIGITADOR!$M$1,G207,E207)))","v":""},"",{"$f":"IF(F207=\"\",\"\",VLOOKUP(F207,referentes!$Q$2:$T$300,3,FALSE))","v":""},null,null,null,null,null,{"$f":"IF(L207=\"\",\"\",VLOOKUP(L207,referentes!$G$2:$N$15,2,FALSE))","v":""},null,null,"",null,null,""]
[null,{"$f":"IF(C208=\"\",\"\",IF(COUNTIF($C$3:C208, C208)>1, \"\", C208))","v":""},{"$f":"IF(G208=\"\",\"\",IF(F208=\"\",\"\",CONCATENATE(DIGITADOR!$M$1,G208,E208)))","v":""},"",{"$f":"IF(F208=\"\",\"\",VLOOKUP(F208,referentes!$Q$2:$T$300,3,FALSE))","v":""},null,null,null,null,null,{"$f":"IF(L208=\"\",\"\",VLOOKUP(L208,referentes!$G$2:$N$15,2,FALSE))","v":""},null,null,"",null,null,""]
[null,{"$f":"IF(C209=\"\",\"\",IF(COUNTIF($C$3:C209, C209)>1, \"\", C209))","v":""},{"$f":"IF(G209=\"\",\"\",IF(F209=\"\",\"\",CONCATENATE(DIGITADOR!$M$1,G209,E209)))","v":""},"",{"$f":"IF(F209=\"\",\"\",VLOOKUP(F209,referentes!$Q$2:$T$300,3,FALSE))","v":""},null,null,null,null,null,{"$f":"IF(L209=\"\",\"\",VLOOKUP(L209,referentes!$G$2:$N$15,2,FALSE))","v":""},null,null,"",null,null,""]
[null,{"$f":"IF(C210=\"\",\"\",IF(COUNTIF($C$3:C210, C210)>1, \"\", C210))","v":""},{"$f":"IF(G210=\"\",\"\",IF(F210=\"\",\"\",CONCATENATE(DIGITADOR!$M$1,G210,E210)))","v":""},"",{"$f":"IF(F210=\"\",\"\",VLOOKUP(F210,referentes!$Q$2:$T$300,3,FALSE))","v":""},null,null,null,null,null,{"$f":"IF(L210=\"\",\"\",VLOOKUP(L210,referentes!$G$2:$N$15,2,FALSE))","v":""},null,null,"",null,null,""]
[null,{"$f":"IF(C211=\"\",\"\",IF(COUNTIF($C$3:C211, C211)>1, \"\", C211))","v":""},{"$f":"IF(G211=\"\",\"\",IF(F211=\"\",\"\",CONCATENATE(DIGITADOR!$M$1,G211,E211)))","v":""},"",{"$f":"IF(F211=\"\",\"\",VLOOKUP(F211,referentes!$Q$2:$T$300,3,FALSE))","v":""},null,null,null,null,null,{"$f":"IF(L211=\"\",\"\",VLOOKUP(L211,referentes!$G$2:$N$15,2,FALSE))","v":""},null,null,"",null,null,""]
[null,{"$f":"IF(C212=\"\",\"\",IF(COUNTIF($C$3:C212, C212)>1, \"\", C212))","v":""},{"$f":"IF(G212=\"\",\"\",IF(F212=\"\",\"\",CONCATENATE(DIGITADOR!$M$1,G212,E212)))","v":""},"",{"$f":"IF(F212=\"\",\"\",VLOOKUP(F212,referentes!$Q$2:$T$300,3,FALSE))","v":""},null,null,null,null,null,{"$f":"IF(L212=\"\",\"\",VLOOKUP(L212,referentes!$G$2:$N$15,2,FALSE))","v":""},null,null,"",null,null,""]
[null,{"$f":"IF(C213=\"\",\"\",IF(COUNTIF($C$3:C213, C213)>1, \"\", C213))","v":""},{"$f":"IF(G213=\"\",\"\",IF(F213=\"\",\"\",CONCATENATE(DIGITADOR!$M$1,G213,E213)))","v":""},"",{"$f":"IF(F213=\"\",\"\",VLOOKUP(F213,referentes!$Q$2:$T$300,3,FALSE))","v":""},null,null,null,null,null,{"$f":"IF(L213=\"\",\"\",VLOOKUP(L213,referentes!$G$2:$N$15,2,FALSE))","v":""},null,null,"",null,null,""]
[null,{"$f":"IF(C214=\"\",\"\",IF(COUNTIF($C$3:C214, C214)>1, \"\", C214))","v":""},{"$f":"IF(G214=\"\",\"\",IF(F214=\"\",\"\",CONCATENATE(DIGITADOR!$M$1,G214,E214)))","v":""},"",{"$f":"IF(F214=\"\",\"\",VLOOKUP(F214,referentes!$Q$2:$T$300,3,FALSE))","v":""},null,null,null,null,null,{"$f":"IF(L214=\"\",\"\",VLOOKUP(L214,referentes!$G$2:$N$15,2,FALSE))","v":""},null,null,"",null,null,""]
[null,{"$f":"IF(C215=\"\",\"\",IF(COUNTIF($C$3:C215, C215)>1, \"\", C215))","v":""},{"$f":"IF(G215=\"\",\"\",IF(F215=\"\",\"\",CONCATENATE(DIGITADOR!$M$1,G215,E215)))","v":""},"",{"$f":"IF(F215=\"\",\"\",VLOOKUP(F215,referentes!$Q$2:$T$300,3,FALSE))","v":""},null,null,null,null,null,{"$f":"IF(L215=\"\",\"\",VLOOKUP(L215,referentes!$G$2:$N$15,2,FALSE))","v":""},null,null,"",null,null,""]
[null,{"$f":"IF(C216=\"\",\"\",IF(COUNTIF($C$3:C216, C216)>1, \"\", C216))","v":""},{"$f":"IF(G216=\"\",\"\",IF(F216=\"\",\"\",CONCATENATE(DIGITADOR!$M$1,G216,E216)))","v":""},"",{"$f":"IF(F216=\"\",\"\",VLOOKUP(F216,referentes!$Q$2:$T$300,3,FALSE))","v":""},null,null,null,null,null,{"$f":"IF(L216=\"\",\"\",VLOOKUP(L216,referentes!$G$2:$N$15,2,FALSE))","v":""},null,null,"",null,null,""]
[null,{"$f":"IF(C217=\"\",\"\",IF(COUNTIF($C$3:C217, C217)>1, \"\", C217))","v":""},{"$f":"IF(G217=\"\",\"\",IF(F217=\"\",\"\",CONCATENATE(DIGITADOR!$M$1,G217,E217)))","v":""},"",{"$f":"IF(F217=\"\",\"\",VLOOKUP(F217,referentes!$Q$2:$T$300,3,FALSE))","v":""},null,null,null,null,null,{"$f":"IF(L217=\"\",\"\",VLOOKUP(L217,referentes!$G$2:$N$15,2,FALSE))","v":""},null,null,"",null,null,""]
[null,{"$f":"IF(C218=\"\",\"\",IF(COUNTIF($C$3:C218, C218)>1, \"\", C218))","v":""},{"$f":"IF(G218=\"\",\"\",IF(F218=\"\",\"\",CONCATENATE(DIGITADOR!$M$1,G218,E218)))","v":""},"",{"$f":"IF(F218=\"\",\"\",VLOOKUP(F218,referentes!$Q$2:$T$300,3,FALSE))","v":""},null,null,null,null,null,{"$f":"IF(L218=\"\",\"\",VLOOKUP(L218,referentes!$G$2:$N$15,2,FALSE))","v":""},null,null,"",null,null,""]
[null,{"$f":"IF(C219=\"\",\"\",IF(COUNTIF($C$3:C219, C219)>1, \"\", C219))","v":""},{"$f":"IF(G219=\"\",\"\",IF(F219=\"\",\"\",CONCATENATE(DIGITADOR!$M$1,G219,E219)))","v":""},"",{"$f":"IF(F219=\"\",\"\",VLOOKUP(F219,referentes!$Q$2:$T$300,3,FALSE))","v":""},null,null,null,null,null,{"$f":"IF(L219=\"\",\"\",VLOOKUP(L219,referentes!$G$2:$N$15,2,FALSE))","v":""},null,null,"",null,null,""]
[null,{"$f":"IF(C220=\"\",\"\",IF(COUNTIF($C$3:C220, C220)>1, \"\", C220))","v":""},{"$f":"IF(G220=\"\",\"\",IF(F220=\"\",\"\",CONCATENATE(DIGITADOR!$M$1,G220,E220)))","v":""},"",{"$f":"IF(F220=\"\",\"\",VLOOKUP(F220,referentes!$Q$2:$T$300,3,FALSE))","v":""},null,null,null,null,null,{"$f":"IF(L220=\"\",\"\",VLOOKUP(L220,referentes!$G$2:$N$15,2,FALSE))","v":""},null,null,"",null,null,""]
[null,{"$f":"IF(C221=\"\",\"\",IF(COUNTIF($C$3:C221, C221)>1, \"\", C221))","v":""},{"$f":"IF(G221=\"\",\"\",IF(F221=\"\",\"\",CONCATENATE(DIGITADOR!$M$1,G221,E221)))","v":""},"",{"$f":"IF(F221=\"\",\"\",VLOOKUP(F221,referentes!$Q$2:$T$300,3,FALSE))","v":""},null,null,null,null,null,{"$f":"IF(L221=\"\",\"\",VLOOKUP(L221,referentes!$G$2:$N$15,2,FALSE))","v":""},null,null,"",null,null,""]
[null,{"$f":"IF(C222=\"\",\"\",IF(COUNTIF($C$3:C222, C222)>1, \"\", C222))","v":""},{"$f":"IF(G222=\"\",\"\",IF(F222=\"\",\"\",CONCATENATE(DIGITADOR!$M$1,G222,E222)))","v":""},"",{"$f":"IF(F222=\"\",\"\",VLOOKUP(F222,referentes!$Q$2:$T$300,3,FALSE))","v":""},null,null,null,null,null,{"$f":"IF(L222=\"\",\"\",VLOOKUP(L222,referentes!$G$2:$N$15,2,FALSE))","v":""},null,null,"",null,null,""]
[null,{"$f":"IF(C223=\"\",\"\",IF(COUNTIF($C$3:C223, C223)>1, \"\", C223))","v":""},{"$f":"IF(G223=\"\",\"\",IF(F223=\"\",\"\",CONCATENATE(DIGITADOR!$M$1,G223,E223)))","v":""},"",{"$f":"IF(F223=\"\",\"\",VLOOKUP(F223,referentes!$Q$2:$T$300,3,FALSE))","v":""},null,null,null,null,null,{"$f":"IF(L223=\"\",\"\",VLOOKUP(L223,referentes!$G$2:$N$15,2,FALSE))","v":""},null,null,"",null,null,""]
[null,{"$f":"IF(C224=\"\",\"\",IF(COUNTIF($C$3:C224, C224)>1, \"\", C224))","v":""},{"$f":"IF(G224=\"\",\"\",IF(F224=\"\",\"\",CONCATENATE(DIGITADOR!$M$1,G224,E224)))","v":""},"",{"$f":"IF(F224=\"\",\"\",VLOOKUP(F224,referentes!$Q$2:$T$300,3,FALSE))","v":""},null,null,null,null,null,{"$f":"IF(L224=\"\",\"\",VLOOKUP(L224,referentes!$G$2:$N$15,2,FALSE))","v":""},null,null,"",null,null,""]
[null,{"$f":"IF(C225=\"\",\"\",IF(COUNTIF($C$3:C225, C225)>1, \"\", C225))","v":""},{"$f":"IF(G225=\"\",\"\",IF(F225=\"\",\"\",CONCATENATE(DIGITADOR!$M$1,G225,E225)))","v":""},"",{"$f":"IF(F225=\"\",\"\",VLOOKUP(F225,referentes!$Q$2:$T$300,3,FALSE))","v":""},null,null,null,null,null,{"$f":"IF(L225=\"\",\"\",VLOOKUP(L225,referentes!$G$2:$N$15,2,FALSE))","v":""},null,null,"",null,null,""]
[null,{"$f":"IF(C226=\"\",\"\",IF(COUNTIF($C$3:C226, C226)>1, \"\", C226))","v":""},{"$f":"IF(G226=\"\",\"\",IF(F226=\"\",\"\",CONCATENATE(DIGITADOR!$M$1,G226,E226)))","v":""},"",{"$f":"IF(F226=\"\",\"\",VLOOKUP(F226,referentes!$Q$2:$T$300,3,FALSE))","v":""},null,null,null,null,null,{"$f":"IF(L226=\"\",\"\",VLOOKUP(L226,referentes!$G$2:$N$15,2,FALSE))","v":""},null,null,"",null,null,""]
[null,{"$f":"IF(C227=\"\",\"\",IF(COUNTIF($C$3:C227, C227)>1, \"\", C227))","v":""},{"$f":"IF(G227=\"\",\"\",IF(F227=\"\",\"\",CONCATENATE(DIGITADOR!$M$1,G227,E227)))","v":""},"",{"$f":"IF(F227=\"\",\"\",VLOOKUP(F227,referentes!$Q$2:$T$300,3,FALSE))","v":""},null,null,null,null,null,{"$f":"IF(L227=\"\",\"\",VLOOKUP(L227,referentes!$G$2:$N$15,2,FALSE))","v":""},null,null,"",null,null,""]
[null,{"$f":"IF(C228=\"\",\"\",IF(COUNTIF($C$3:C228, C228)>1, \"\", C228))","v":""},{"$f":"IF(G228=\"\",\"\",IF(F228=\"\",\"\",CONCATENATE(DIGITADOR!$M$1,G228,E228)))","v":""},"",{"$f":"IF(F228=\"\",\"\",VLOOKUP(F228,referentes!$Q$2:$T$300,3,FALSE))","v":""},null,null,null,null,null,{"$f":"IF(L228=\"\",\"\",VLOOKUP(L228,referentes!$G$2:$N$15,2,FALSE))","v":""},null,null,"",null,null,""]
[null,{"$f":"IF(C229=\"\",\"\",IF(COUNTIF($C$3:C229, C229)>1, \"\", C229))","v":""},{"$f":"IF(G229=\"\",\"\",IF(F229=\"\",\"\",CONCATENATE(DIGITADOR!$M$1,G229,E229)))","v":""},"",{"$f":"IF(F229=\"\",\"\",VLOOKUP(F229,referentes!$Q$2:$T$300,3,FALSE))","v":""},null,null,null,null,null,{"$f":"IF(L229=\"\",\"\",VLOOKUP(L229,referentes!$G$2:$N$15,2,FALSE))","v":""},null,null,"",null,null,""]
[null,{"$f":"IF(C230=\"\",\"\",IF(COUNTIF($C$3:C230, C230)>1, \"\", C230))","v":""},{"$f":"IF(G230=\"\",\"\",IF(F230=\"\",\"\",CONCATENATE(DIGITADOR!$M$1,G230,E230)))","v":""},"",{"$f":"IF(F230=\"\",\"\",VLOOKUP(F230,referentes!$Q$2:$T$300,3,FALSE))","v":""},null,null,null,null,null,{"$f":"IF(L230=\"\",\"\",VLOOKUP(L230,referentes!$G$2:$N$15,2,FALSE))","v":""},null,null,"",null,null,""]
[null,{"$f":"IF(C231=\"\",\"\",IF(COUNTIF($C$3:C231, C231)>1, \"\", C231))","v":""},{"$f":"IF(G231=\"\",\"\",IF(F231=\"\",\"\",CONCATENATE(DIGITADOR!$M$1,G231,E231)))","v":""},"",{"$f":"IF(F231=\"\",\"\",VLOOKUP(F231,referentes!$Q$2:$T$300,3,FALSE))","v":""},null,null,null,null,null,{"$f":"IF(L231=\"\",\"\",VLOOKUP(L231,referentes!$G$2:$N$15,2,FALSE))","v":""},null,null,"",null,null,""]
[null,{"$f":"IF(C232=\"\",\"\",IF(COUNTIF($C$3:C232, C232)>1, \"\", C232))","v":""},{"$f":"IF(G232=\"\",\"\",IF(F232=\"\",\"\",CONCATENATE(DIGITADOR!$M$1,G232,E232)))","v":""},"",{"$f":"IF(F232=\"\",\"\",VLOOKUP(F232,referentes!$Q$2:$T$300,3,FALSE))","v":""},null,null,null,null,null,{"$f":"IF(L232=\"\",\"\",VLOOKUP(L232,referentes!$G$2:$N$15,2,FALSE))","v":""},null,null,"",null,null,""]
[null,{"$f":"IF(C233=\"\",\"\",IF(COUNTIF($C$3:C233, C233)>1, \"\", C233))","v":""},{"$f":"IF(G233=\"\",\"\",IF(F233=\"\",\"\",CONCATENATE(DIGITADOR!$M$1,G233,E233)))","v":""},"",{"$f":"IF(F233=\"\",\"\",VLOOKUP(F233,referentes!$Q$2:$T$300,3,FALSE))","v":""},null,null,null,null,null,{"$f":"IF(L233=\"\",\"\",VLOOKUP(L233,referentes!$G$2:$N$15,2,FALSE))","v":""},null,null,"",null,null,""]
[null,{"$f":"IF(C234=\"\",\"\",IF(COUNTIF($C$3:C234, C234)>1, \"\", C234))","v":""},{"$f":"IF(G234=\"\",\"\",IF(F234=\"\",\"\",CONCATENATE(DIGITADOR!$M$1,G234,E234)))","v":""},"",{"$f":"IF(F234=\"\",\"\",VLOOKUP(F234,referentes!$Q$2:$T$300,3,FALSE))","v":""},null,null,null,null,null,{"$f":"IF(L234=\"\",\"\",VLOOKUP(L234,referentes!$G$2:$N$15,2,FALSE))","v":""},null,null,"",null,null,""]
[null,{"$f":"IF(C235=\"\",\"\",IF(COUNTIF($C$3:C235, C235)>1, \"\", C235))","v":""},{"$f":"IF(G235=\"\",\"\",IF(F235=\"\",\"\",CONCATENATE(DIGITADOR!$M$1,G235,E235)))","v":""},"",{"$f":"IF(F235=\"\",\"\",VLOOKUP(F235,referentes!$Q$2:$T$300,3,FALSE))","v":""},null,null,null,null,null,{"$f":"IF(L235=\"\",\"\",VLOOKUP(L235,referentes!$G$2:$N$15,2,FALSE))","v":""},null,null,"",null,null,""]
[null,{"$f":"IF(C236=\"\",\"\",IF(COUNTIF($C$3:C236, C236)>1, \"\", C236))","v":""},{"$f":"IF(G236=\"\",\"\",IF(F236=\"\",\"\",CONCATENATE(DIGITADOR!$M$1,G236,E236)))","v":""},"",{"$f":"IF(F236=\"\",\"\",VLOOKUP(F236,referentes!$Q$2:$T$300,3,FALSE))","v":""},null,null,null,null,null,{"$f":"IF(L236=\"\",\"\",VLOOKUP(L236,referentes!$G$2:$N$15,2,FALSE))","v":""},null,null,"",null,null,""]
[null,{"$f":"IF(C237=\"\",\"\",IF(COUNTIF($C$3:C237, C237)>1, \"\", C237))","v":""},{"$f":"IF(G237=\"\",\"\",IF(F237=\"\",\"\",CONCATENATE(DIGITADOR!$M$1,G237,E237)))","v":""},"",{"$f":"IF(F237=\"\",\"\",VLOOKUP(F237,referentes!$Q$2:$T$300,3,FALSE))","v":""},null,null,null,null,null,{"$f":"IF(L237=\"\",\"\",VLOOKUP(L237,referentes!$G$2:$N$15,2,FALSE))","v":""},null,null,"",null,null,""]
[null,{"$f":"IF(C238=\"\",\"\",IF(COUNTIF($C$3:C238, C238)>1, \"\", C238))","v":""},{"$f":"IF(G238=\"\",\"\",IF(F238=\"\",\"\",CONCATENATE(DIGITADOR!$M$1,G238,E238)))","v":""},"",{"$f":"IF(F238=\"\",\"\",VLOOKUP(F238,referentes!$Q$2:$T$300,3,FALSE))","v":""},null,null,null,null,null,{"$f":"IF(L238=\"\",\"\",VLOOKUP(L238,referentes!$G$2:$N$15,2,FALSE))","v":""},null,null,"",null,null,""]
[null,{"$f":"IF(C239=\"\",\"\",IF(COUNTIF($C$3:C239, C239)>1, \"\", C239))","v":""},{"$f":"IF(G239=\"\",\"\",IF(F239=\"\",\"\",CONCATENATE(DIGITADOR!$M$1,G239,E239)))","v":""},"",{"$f":"IF(F239=\"\",\"\",VLOOKUP(F239,referentes!$Q$2:$T$300,3,FALSE))","v":""},null,null,null,null,null,{"$f":"IF(L239=\"\",\"\",VLOOKUP(L239,referentes!$G$2:$N$15,2,FALSE))","v":""},null,null,"",null,null,""]
[null,{"$f":"IF(C240=\"\",\"\",IF(COUNTIF($C$3:C240, C240)>1, \"\", C240))","v":""},{"$f":"IF(G240=\"\",\"\",IF(F240=\"\",\"\",CONCATENATE(DIGITADOR!$M$1,G240,E240)))","v":""},"",{"$f":"IF(F240=\"\",\"\",VLOOKUP(F240,referentes!$Q$2:$T$300,3,FALSE))","v":""},null,null,null,null,null,{"$f":"IF(L240=\"\",\"\",VLOOKUP(L240,referentes!$G$2:$N$15,2,FALSE))","v":""},null,null,"",null,null,""]
[null,{"$f":"IF(C241=\"\",\"\",IF(COUNTIF($C$3:C241, C241)>1, \"\", C241))","v":""},{"$f":"IF(G241=\"\",\"\",IF(F241=\"\",\"\",CONCATENATE(DIGITADOR!$M$1,G241,E241)))","v":""},"",{"$f":"IF(F241=\"\",\"\",VLOOKUP(F241,referentes!$Q$2:$T$300,3,FALSE))","v":""},null,null,null,null,null,{"$f":"IF(L241=\"\",\"\",VLOOKUP(L241,referentes!$G$2:$N$15,2,FALSE))","v":""},null,null,"",null,null,""]
[null,{"$f":"IF(C242=\"\",\"\",IF(COUNTIF($C$3:C242, C242)>1, \"\", C242))","v":""},{"$f":"IF(G242=\"\",\"\",IF(F242=\"\",\"\",CONCATENATE(DIGITADOR!$M$1,G242,E242)))","v":""},"",{"$f":"IF(F242=\"\",\"\",VLOOKUP(F242,referentes!$Q$2:$T$300,3,FALSE))","v":""},null,null,null,null,null,{"$f":"IF(L242=\"\",\"\",VLOOKUP(L242,referentes!$G$2:$N$15,2,FALSE))","v":""},null,null,"",null,null,""]
[null,{"$f":"IF(C243=\"\",\"\",IF(COUNTIF($C$3:C243, C243)>1, \"\", C243))","v":""},{"$f":"IF(G243=\"\",\"\",IF(F243=\"\",\"\",CONCATENATE(DIGITADOR!$M$1,G243,E243)))","v":""},"",{"$f":"IF(F243=\"\",\"\",VLOOKUP(F243,referentes!$Q$2:$T$300,3,FALSE))","v":""},null,null,null,null,null,{"$f":"IF(L243=\"\",\"\",VLOOKUP(L243,referentes!$G$2:$N$15,2,FALSE))","v":""},null,null,"",null,null,""]
[null,{"$f":"IF(C244=\"\",\"\",IF(COUNTIF($C$3:C244, C244)>1, \"\", C244))","v":""},{"$f":"IF(G244=\"\",\"\",IF(F244=\"\",\"\",CONCATENATE(DIGITADOR!$M$1,G244,E244)))","v":""},"",{"$f":"IF(F244=\"\",\"\",VLOOKUP(F244,referentes!$Q$2:$T$300,3,FALSE))","v":""},null,null,null,null,null,{"$f":"IF(L244=\"\",\"\",VLOOKUP(L244,referentes!$G$2:$N$15,2,FALSE))","v":""},null,null,"",null,null,""]
[null,{"$f":"IF(C245=\"\",\"\",IF(COUNTIF($C$3:C245, C245)>1, \"\", C245))","v":""},{"$f":"IF(G245=\"\",\"\",IF(F245=\"\",\"\",CONCATENATE(DIGITADOR!$M$1,G245,E245)))","v":""},"",{"$f":"IF(F245=\"\",\"\",VLOOKUP(F245,referentes!$Q$2:$T$300,3,FALSE))","v":""},null,null,null,null,null,{"$f":"IF(L245=\"\",\"\",VLOOKUP(L245,referentes!$G$2:$N$15,2,FALSE))","v":""},null,null,"",null,null,""]
[null,{"$f":"IF(C246=\"\",\"\",IF(COUNTIF($C$3:C246, C246)>1, \"\", C246))","v":""},{"$f":"IF(G246=\"\",\"\",IF(F246=\"\",\"\",CONCATENATE(DIGITADOR!$M$1,G246,E246)))","v":""},"",{"$f":"IF(F246=\"\",\"\",VLOOKUP(F246,referentes!$Q$2:$T$300,3,FALSE))","v":""},null,null,null,null,null,{"$f":"IF(L246=\"\",\"\",VLOOKUP(L246,referentes!$G$2:$N$15,2,FALSE))","v":""},null,null,"",null,null,""]
[null,{"$f":"IF(C247=\"\",\"\",IF(COUNTIF($C$3:C247, C247)>1, \"\", C247))","v":""},{"$f":"IF(G247=\"\",\"\",IF(F247=\"\",\"\",CONCATENATE(DIGITADOR!$M$1,G247,E247)))","v":""},"",{"$f":"IF(F247=\"\",\"\",VLOOKUP(F247,referentes!$Q$2:$T$300,3,FALSE))","v":""},null,null,null,null,null,{"$f":"IF(L247=\"\",\"\",VLOOKUP(L247,referentes!$G$2:$N$15,2,FALSE))","v":""},null,null,"",null,null,""]
[null,{"$f":"IF(C248=\"\",\"\",IF(COUNTIF($C$3:C248, C248)>1, \"\", C248))","v":""},{"$f":"IF(G248=\"\",\"\",IF(F248=\"\",\"\",CONCATENATE(DIGITADOR!$M$1,G248,E248)))","v":""},"",{"$f":"IF(F248=\"\",\"\",VLOOKUP(F248,referentes!$Q$2:$T$300,3,FALSE))","v":""},null,null,null,null,null,{"$f":"IF(L248=\"\",\"\",VLOOKUP(L248,referentes!$G$2:$N$15,2,FALSE))","v":""},null,null,"",null,null,""]
[null,{"$f":"IF(C249=\"\",\"\",IF(COUNTIF($C$3:C249, C249)>1, \"\", C249))","v":""},{"$f":"IF(G249=\"\",\"\",IF(F249=\"\",\"\",CONCATENATE(DIGITADOR!$M$1,G249,E249)))","v":""},"",{"$f":"IF(F249=\"\",\"\",VLOOKUP(F249,referentes!$Q$2:$T$300,3,FALSE))","v":""},null,null,null,null,null,{"$f":"IF(L249=\"\",\"\",VLOOKUP(L249,referentes!$G$2:$N$15,2,FALSE))","v":""},null,null,"",null,null,""]
[null,{"$f":"IF(C250=\"\",\"\",IF(COUNTIF($C$3:C250, C250)>1, \"\", C250))","v":""},{"$f":"IF(G250=\"\",\"\",IF(F250=\"\",\"\",CONCATENATE(DIGITADOR!$M$1,G250,E250)))","v":""},"",{"$f":"IF(F250=\"\",\"\",VLOOKUP(F250,referentes!$Q$2:$T$300,3,FALSE))","v":""},null,null,null,null,null,{"$f":"IF(L250=\"\",\"\",VLOOKUP(L250,referentes!$G$2:$N$15,2,FALSE))","v":""},null,null,"",null,null,""]
[null,{"$f":"IF(C251=\"\",\"\",IF(COUNTIF($C$3:C251, C251)>1, \"\", C251))","v":""},{"$f":"IF(G251=\"\",\"\",IF(F251=\"\",\"\",CONCATENATE(DIGITADOR!$M$1,G251,E251)))","v":""},"",{"$f":"IF(F251=\"\",\"\",VLOOKUP(F251,referentes!$Q$2:$T$300,3,FALSE))","v":""},null,null,null,null,null,{"$f":"IF(L251=\"\",\"\",VLOOKUP(L251,referentes!$G$2:$N$15,2,FALSE))","v":""},null,null,"",null,null,""]
[null,{"$f":"IF(C252=\"\",\"\",IF(COUNTIF($C$3:C252, C252)>1, \"\", C252))","v":""},{"$f":"IF(G252=\"\",\"\",IF(F252=\"\",\"\",CONCATENATE(DIGITADOR!$M$1,G252,E252)))","v":""},"",{"$f":"IF(F252=\"\",\"\",VLOOKUP(F252,referentes!$Q$2:$T$300,3,FALSE))","v":""},null,null,null,null,null,{"$f":"IF(L252=\"\",\"\",VLOOKUP(L252,referentes!$G$2:$N$15,2,FALSE))","v":""},null,null,"",null,null,""]
[null,{"$f":"IF(C253=\"\",\"\",IF(COUNTIF($C$3:C253, C253)>1, \"\", C253))","v":""},{"$f":"IF(G253=\"\",\"\",IF(F253=\"\",\"\",CONCATENATE(DIGITADOR!$M$1,G253,E253)))","v":""},"",{"$f":"IF(F253=\"\",\"\",VLOOKUP(F253,referentes!$Q$2:$T$300,3,FALSE))","v":""},null,null,null,null,null,{"$f":"IF(L253=\"\",\"\",VLOOKUP(L253,referentes!$G$2:$N$15,2,FALSE))","v":""},null,null,"",null,null,""]
[null,{"$f":"IF(C254=\"\",\"\",IF(COUNTIF($C$3:C254, C254)>1, \"\", C254))","v":""},{"$f":"IF(G254=\"\",\"\",IF(F254=\"\",\"\",CONCATENATE(DIGITADOR!$M$1,G254,E254)))","v":""},"",{"$f":"IF(F254=\"\",\"\",VLOOKUP(F254,referentes!$Q$2:$T$300,3,FALSE))","v":""},null,null,null,null,null,{"$f":"IF(L254=\"\",\"\",VLOOKUP(L254,referentes!$G$2:$N$15,2,FALSE))","v":""},null,null,"",null,null,""]
[null,{"$f":"IF(C255=\"\",\"\",IF(COUNTIF($C$3:C255, C255)>1, \"\", C255))","v":""},{"$f":"IF(G255=\"\",\"\",IF(F255=\"\",\"\",CONCATENATE(DIGITADOR!$M$1,G255,E255)))","v":""},"",{"$f":"IF(F255=\"\",\"\",VLOOKUP(F255,referentes!$Q$2:$T$300,3,FALSE))","v":""},null,null,null,null,null,{"$f":"IF(L255=\"\",\"\",VLOOKUP(L255,referentes!$G$2:$N$15,2,FALSE))","v":""},null,null,"",null,null,""]
[null,{"$f":"IF(C256=\"\",\"\",IF(COUNTIF($C$3:C256, C256)>1, \"\", C256))","v":""},{"$f":"IF(G256=\"\",\"\",IF(F256=\"\",\"\",CONCATENATE(DIGITADOR!$M$1,G256,E256)))","v":""},"",{"$f":"IF(F256=\"\",\"\",VLOOKUP(F256,referentes!$Q$2:$T$300,3,FALSE))","v":""},null,null,null,null,null,{"$f":"IF(L256=\"\",\"\",VLOOKUP(L256,referentes!$G$2:$N$15,2,FALSE))","v":""},null,null,"",null,null,""]
[null,{"$f":"IF(C257=\"\",\"\",IF(COUNTIF($C$3:C257, C257)>1, \"\", C257))","v":""},{"$f":"IF(G257=\"\",\"\",IF(F257=\"\",\"\",CONCATENATE(DIGITADOR!$M$1,G257,E257)))","v":""},"",{"$f":"IF(F257=\"\",\"\",VLOOKUP(F257,referentes!$Q$2:$T$300,3,FALSE))","v":""},null,null,null,null,null,{"$f":"IF(L257=\"\",\"\",VLOOKUP(L257,referentes!$G$2:$N$15,2,FALSE))","v":""},null,null,"",null,null,""]
[null,{"$f":"IF(C258=\"\",\"\",IF(COUNTIF($C$3:C258, C258)>1, \"\", C258))","v":""},{"$f":"IF(G258=\"\",\"\",IF(F258=\"\",\"\",CONCATENATE(DIGITADOR!$M$1,G258,E258)))","v":""},"",{"$f":"IF(F258=\"\",\"\",VLOOKUP(F258,referentes!$Q$2:$T$300,3,FALSE))","v":""},null,null,null,null,null,{"$f":"IF(L258=\"\",\"\",VLOOKUP(L258,referentes!$G$2:$N$15,2,FALSE))","v":""},null,null,"",null,null,""]
[null,{"$f":"IF(C259=\"\",\"\",IF(COUNTIF($C$3:C259, C259)>1, \"\", C259))","v":""},{"$f":"IF(G259=\"\",\"\",IF(F259=\"\",\"\",CONCATENATE(DIGITADOR!$M$1,G259,E259)))","v":""},"",{"$f":"IF(F259=\"\",\"\",VLOOKUP(F259,referentes!$Q$2:$T$300,3,FALSE))","v":""},null,null,null,null,null,{"$f":"IF(L259=\"\",\"\",VLOOKUP(L259,referentes!$G$2:$N$15,2,FALSE))","v":""},null,null,"",null,null,""]
[null,{"$f":"IF(C260=\"\",\"\",IF(COUNTIF($C$3:C260, C260)>1, \"\", C260))","v":""},{"$f":"IF(G260=\"\",\"\",IF(F260=\"\",\"\",CONCATENATE(DIGITADOR!$M$1,G260,E260)))","v":""},{"$f":"IF(C260=\"\",\"\",CONCATENATE(C260,ROW()-2))","v":""},{"$f":"IF(F260=\"\",\"\",VLOOKUP(F260,referentes!$Q$2:$T$300,3,FALSE))","v":""},null,null,null,null,null,{"$f":"IF(L260=\"\",\"\",VLOOKUP(L260,referentes!$G$2:$N$15,2,FALSE))","v":""},null,null,{"$f":"IF(M260=\"\",\"\",M260/PI())","v":""},null,null,{"$f":"IF(N260=\"\",\"\",((PI())*((N260/100)^2))/4*10000/500)","v":""}]
[null,{"$f":"IF(C261=\"\",\"\",IF(COUNTIF($C$3:C261, C261)>1, \"\", C261))","v":""},{"$f":"IF(G261=\"\",\"\",IF(F261=\"\",\"\",CONCATENATE(DIGITADOR!$M$1,G261,E261)))","v":""},"",{"$f":"IF(F261=\"\",\"\",VLOOKUP(F261,referentes!$Q$2:$T$300,3,FALSE))","v":""},null,null,null,null,null,{"$f":"IF(L261=\"\",\"\",VLOOKUP(L261,referentes!$G$2:$N$15,2,FALSE))","v":""},null,null,"",null,null,""]
[null,{"$f":"IF(C262=\"\",\"\",IF(COUNTIF($C$3:C262, C262)>1, \"\", C262))","v":""},{"$f":"IF(G262=\"\",\"\",IF(F262=\"\",\"\",CONCATENATE(DIGITADOR!$M$1,G262,E262)))","v":""},"",{"$f":"IF(F262=\"\",\"\",VLOOKUP(F262,referentes!$Q$2:$T$300,3,FALSE))","v":""},null,null,null,null,null,{"$f":"IF(L262=\"\",\"\",VLOOKUP(L262,referentes!$G$2:$N$15,2,FALSE))","v":""},null,null,"",null,null,""]
[null,{"$f":"IF(C263=\"\",\"\",IF(COUNTIF($C$3:C263, C263)>1, \"\", C263))","v":""},{"$f":"IF(G263=\"\",\"\",IF(F263=\"\",\"\",CONCATENATE(DIGITADOR!$M$1,G263,E263)))","v":""},"",{"$f":"IF(F263=\"\",\"\",VLOOKUP(F263,referentes!$Q$2:$T$300,3,FALSE))","v":""},null,null,null,null,null,{"$f":"IF(L263=\"\",\"\",VLOOKUP(L263,referentes!$G$2:$N$15,2,FALSE))","v":""},null,null,"",null,null,""]
[null,{"$f":"IF(C264=\"\",\"\",IF(COUNTIF($C$3:C264, C264)>1, \"\", C264))","v":""},{"$f":"IF(G264=\"\",\"\",IF(F264=\"\",\"\",CONCATENATE(DIGITADOR!$M$1,G264,E264)))","v":""},"",{"$f":"IF(F264=\"\",\"\",VLOOKUP(F264,referentes!$Q$2:$T$300,3,FALSE))","v":""},null,null,null,null,null,{"$f":"IF(L264=\"\",\"\",VLOOKUP(L264,referentes!$G$2:$N$15,2,FALSE))","v":""},null,null,"",null,null,""]
[null,{"$f":"IF(C265=\"\",\"\",IF(COUNTIF($C$3:C265, C265)>1, \"\", C265))","v":""},{"$f":"IF(G265=\"\",\"\",IF(F265=\"\",\"\",CONCATENATE(DIGITADOR!$M$1,G265,E265)))","v":""},"",{"$f":"IF(F265=\"\",\"\",VLOOKUP(F265,referentes!$Q$2:$T$300,3,FALSE))","v":""},null,null,null,null,null,{"$f":"IF(L265=\"\",\"\",VLOOKUP(L265,referentes!$G$2:$N$15,2,FALSE))","v":""},null,null,"",null,null,""]
[null,{"$f":"IF(C266=\"\",\"\",IF(COUNTIF($C$3:C266, C266)>1, \"\", C266))","v":""},{"$f":"IF(G266=\"\",\"\",IF(F266=\"\",\"\",CONCATENATE(DIGITADOR!$M$1,G266,E266)))","v":""},"",{"$f":"IF(F266=\"\",\"\",VLOOKUP(F266,referentes!$Q$2:$T$300,3,FALSE))","v":""},null,null,null,null,null,{"$f":"IF(L266=\"\",\"\",VLOOKUP(L266,referentes!$G$2:$N$15,2,FALSE))","v":""},null,null,"",null,null,""]
[null,{"$f":"IF(C267=\"\",\"\",IF(COUNTIF($C$3:C267, C267)>1, \"\", C267))","v":""},{"$f":"IF(G267=\"\",\"\",IF(F267=\"\",\"\",CONCATENATE(DIGITADOR!$M$1,G267,E267)))","v":""},"",{"$f":"IF(F267=\"\",\"\",VLOOKUP(F267,referentes!$Q$2:$T$300,3,FALSE))","v":""},null,null,null,null,null,{"$f":"IF(L267=\"\",\"\",VLOOKUP(L267,referentes!$G$2:$N$15,2,FALSE))","v":""},null,null,"",null,null,""]
[null,{"$f":"IF(C268=\"\",\"\",IF(COUNTIF($C$3:C268, C268)>1, \"\", C268))","v":""},{"$f":"IF(G268=\"\",\"\",IF(F268=\"\",\"\",CONCATENATE(DIGITADOR!$M$1,G268,E268)))","v":""},"",{"$f":"IF(F268=\"\",\"\",VLOOKUP(F268,referentes!$Q$2:$T$300,3,FALSE))","v":""},null,null,null,null,null,{"$f":"IF(L268=\"\",\"\",VLOOKUP(L268,referentes!$G$2:$N$15,2,FALSE))","v":""},null,null,"",null,null,""]
[null,{"$f":"IF(C269=\"\",\"\",IF(COUNTIF($C$3:C269, C269)>1, \"\", C269))","v":""},{"$f":"IF(G269=\"\",\"\",IF(F269=\"\",\"\",CONCATENATE(DIGITADOR!$M$1,G269,E269)))","v":""},"",{"$f":"IF(F269=\"\",\"\",VLOOKUP(F269,referentes!$Q$2:$T$300,3,FALSE))","v":""},null,null,null,null,null,{"$f":"IF(L269=\"\",\"\",VLOOKUP(L269,referentes!$G$2:$N$15,2,FALSE))","v":""},null,null,"",null,null,""]
[null,{"$f":"IF(C270=\"\",\"\",IF(COUNTIF($C$3:C270, C270)>1, \"\", C270))","v":""},{"$f":"IF(G270=\"\",\"\",IF(F270=\"\",\"\",CONCATENATE(DIGITADOR!$M$1,G270,E270)))","v":""},"",{"$f":"IF(F270=\"\",\"\",VLOOKUP(F270,referentes!$Q$2:$T$300,3,FALSE))","v":""},null,null,null,null,null,{"$f":"IF(L270=\"\",\"\",VLOOKUP(L270,referentes!$G$2:$N$15,2,FALSE))","v":""},null,null,"",null,null,""]
[null,{"$f":"IF(C271=\"\",\"\",IF(COUNTIF($C$3:C271, C271)>1, \"\", C271))","v":""},{"$f":"IF(G271=\"\",\"\",IF(F271=\"\",\"\",CONCATENATE(DIGITADOR!$M$1,G271,E271)))","v":""},"",{"$f":"IF(F271=\"\",\"\",VLOOKUP(F271,referentes!$Q$2:$T$300,3,FALSE))","v":""},null,null,null,null,null,{"$f":"IF(L271=\"\",\"\",VLOOKUP(L271,referentes!$G$2:$N$15,2,FALSE))","v":""},null,null,"",null,null,""]
[null,{"$f":"IF(C272=\"\",\"\",IF(COUNTIF($C$3:C272, C272)>1, \"\", C272))","v":""},{"$f":"IF(G272=\"\",\"\",IF(F272=\"\",\"\",CONCATENATE(DIGITADOR!$M$1,G272,E272)))","v":""},"",{"$f":"IF(F272=\"\",\"\",VLOOKUP(F272,referentes!$Q$2:$T$300,3,FALSE))","v":""},null,null,null,null,null,{"$f":"IF(L272=\"\",\"\",VLOOKUP(L272,referentes!$G$2:$N$15,2,FALSE))","v":""},null,null,"",null,null,""]
[null,{"$f":"IF(C273=\"\",\"\",IF(COUNTIF($C$3:C273, C273)>1, \"\", C273))","v":""},{"$f":"IF(G273=\"\",\"\",IF(F273=\"\",\"\",CONCATENATE(DIGITADOR!$M$1,G273,E273)))","v":""},"",{"$f":"IF(F273=\"\",\"\",VLOOKUP(F273,referentes!$Q$2:$T$300,3,FALSE))","v":""},null,null,null,null,null,{"$f":"IF(L273=\"\",\"\",VLOOKUP(L273,referentes!$G$2:$N$15,2,FALSE))","v":""},null,null,"",null,null,""]
[null,{"$f":"IF(C274=\"\",\"\",IF(COUNTIF($C$3:C274, C274)>1, \"\", C274))","v":""},{"$f":"IF(G274=\"\",\"\",IF(F274=\"\",\"\",CONCATENATE(DIGITADOR!$M$1,G274,E274)))","v":""},"",{"$f":"IF(F274=\"\",\"\",VLOOKUP(F274,referentes!$Q$2:$T$300,3,FALSE))","v":""},null,null,null,null,null,{"$f":"IF(L274=\"\",\"\",VLOOKUP(L274,referentes!$G$2:$N$15,2,FALSE))","v":""},null,null,"",null,null,""]
[null,{"$f":"IF(C275=\"\",\"\",IF(COUNTIF($C$3:C275, C275)>1, \"\", C275))","v":""},{"$f":"IF(G275=\"\",\"\",IF(F275=\"\",\"\",CONCATENATE(DIGITADOR!$M$1,G275,E275)))","v":""},"",{"$f":"IF(F275=\"\",\"\",VLOOKUP(F275,referentes!$Q$2:$T$300,3,FALSE))","v":""},null,null,null,null,null,{"$f":"IF(L275=\"\",\"\",VLOOKUP(L275,referentes!$G$2:$N$15,2,FALSE))","v":""},null,null,"",null,null,""]
[null,{"$f":"IF(C276=\"\",\"\",IF(COUNTIF($C$3:C276, C276)>1, \"\", C276))","v":""},{"$f":"IF(G276=\"\",\"\",IF(F276=\"\",\"\",CONCATENATE(DIGITADOR!$M$1,G276,E276)))","v":""},"",{"$f":"IF(F276=\"\",\"\",VLOOKUP(F276,referentes!$Q$2:$T$300,3,FALSE))","v":""},null,null,null,null,null,{"$f":"IF(L276=\"\",\"\",VLOOKUP(L276,referentes!$G$2:$N$15,2,FALSE))","v":""},null,null,"",null,null,""]
[null,{"$f":"IF(C277=\"\",\"\",IF(COUNTIF($C$3:C277, C277)>1, \"\", C277))","v":""},{"$f":"IF(G277=\"\",\"\",IF(F277=\"\",\"\",CONCATENATE(DIGITADOR!$M$1,G277,E277)))","v":""},"",{"$f":"IF(F277=\"\",\"\",VLOOKUP(F277,referentes!$Q$2:$T$300,3,FALSE))","v":""},null,null,null,null,null,{"$f":"IF(L277=\"\",\"\",VLOOKUP(L277,referentes!$G$2:$N$15,2,FALSE))","v":""},null,null,"",null,null,""]
[null,{"$f":"IF(C278=\"\",\"\",IF(COUNTIF($C$3:C278, C278)>1, \"\", C278))","v":""},{"$f":"IF(G278=\"\",\"\",IF(F278=\"\",\"\",CONCATENATE(DIGITADOR!$M$1,G278,E278)))","v":""},"",{"$f":"IF(F278=\"\",\"\",VLOOKUP(F278,referentes!$Q$2:$T$300,3,FALSE))","v":""},null,null,null,null,null,{"$f":"IF(L278=\"\",\"\",VLOOKUP(L278,referentes!$G$2:$N$15,2,FALSE))","v":""},null,null,"",null,null,""]
[null,{"$f":"IF(C279=\"\",\"\",IF(COUNTIF($C$3:C279, C279)>1, \"\", C279))","v":""},{"$f":"IF(G279=\"\",\"\",IF(F279=\"\",\"\",CONCATENATE(DIGITADOR!$M$1,G279,E279)))","v":""},"",{"$f":"IF(F279=\"\",\"\",VLOOKUP(F279,referentes!$Q$2:$T$300,3,FALSE))","v":""},null,null,null,null,null,{"$f":"IF(L279=\"\",\"\",VLOOKUP(L279,referentes!$G$2:$N$15,2,FALSE))","v":""},null,null,"",null,null,""]
[null,{"$f":"IF(C280=\"\",\"\",IF(COUNTIF($C$3:C280, C280)>1, \"\", C280))","v":""},{"$f":"IF(G280=\"\",\"\",IF(F280=\"\",\"\",CONCATENATE(DIGITADOR!$M$1,G280,E280)))","v":""},"",{"$f":"IF(F280=\"\",\"\",VLOOKUP(F280,referentes!$Q$2:$T$300,3,FALSE))","v":""},null,null,null,null,null,{"$f":"IF(L280=\"\",\"\",VLOOKUP(L280,referentes!$G$2:$N$15,2,FALSE))","v":""},null,null,"",null,null,""]
[null,{"$f":"IF(C281=\"\",\"\",IF(COUNTIF($C$3:C281, C281)>1, \"\", C281))","v":""},{"$f":"IF(G281=\"\",\"\",IF(F281=\"\",\"\",CONCATENATE(DIGITADOR!$M$1,G281,E281)))","v":""},"",{"$f":"IF(F281=\"\",\"\",VLOOKUP(F281,referentes!$Q$2:$T$300,3,FALSE))","v":""},null,null,null,null,null,{"$f":"IF(L281=\"\",\"\",VLOOKUP(L281,referentes!$G$2:$N$15,2,FALSE))","v":""},null,null,"",null,null,""]
[null,{"$f":"IF(C282=\"\",\"\",IF(COUNTIF($C$3:C282, C282)>1, \"\", C282))","v":""},{"$f":"IF(G282=\"\",\"\",IF(F282=\"\",\"\",CONCATENATE(DIGITADOR!$M$1,G282,E282)))","v":""},"",{"$f":"IF(F282=\"\",\"\",VLOOKUP(F282,referentes!$Q$2:$T$300,3,FALSE))","v":""},null,null,null,null,null,{"$f":"IF(L282=\"\",\"\",VLOOKUP(L282,referentes!$G$2:$N$15,2,FALSE))","v":""},null,null,"",null,null,""]
[null,{"$f":"IF(C283=\"\",\"\",IF(COUNTIF($C$3:C283, C283)>1, \"\", C283))","v":""},{"$f":"IF(G283=\"\",\"\",IF(F283=\"\",\"\",CONCATENATE(DIGITADOR!$M$1,G283,E283)))","v":""},"",{"$f":"IF(F283=\"\",\"\",VLOOKUP(F283,referentes!$Q$2:$T$300,3,FALSE))","v":""},null,null,null,null,null,{"$f":"IF(L283=\"\",\"\",VLOOKUP(L283,referentes!$G$2:$N$15,2,FALSE))","v":""},null,null,"",null,null,""]
[null,{"$f":"IF(C284=\"\",\"\",IF(COUNTIF($C$3:C284, C284)>1, \"\", C284))","v":""},{"$f":"IF(G284=\"\",\"\",IF(F284=\"\",\"\",CONCATENATE(DIGITADOR!$M$1,G284,E284)))","v":""},"",{"$f":"IF(F284=\"\",\"\",VLOOKUP(F284,referentes!$Q$2:$T$300,3,FALSE))","v":""},null,null,null,null,null,{"$f":"IF(L284=\"\",\"\",VLOOKUP(L284,referentes!$G$2:$N$15,2,FALSE))","v":""},null,null,"",null,null,""]
[null,{"$f":"IF(C285=\"\",\"\",IF(COUNTIF($C$3:C285, C285)>1, \"\", C285))","v":""},{"$f":"IF(G285=\"\",\"\",IF(F285=\"\",\"\",CONCATENATE(DIGITADOR!$M$1,G285,E285)))","v":""},"",{"$f":"IF(F285=\"\",\"\",VLOOKUP(F285,referentes!$Q$2:$T$300,3,FALSE))","v":""},null,null,null,null,null,{"$f":"IF(L285=\"\",\"\",VLOOKUP(L285,referentes!$G$2:$N$15,2,FALSE))","v":""},null,null,"",null,null,""]
[null,{"$f":"IF(C286=\"\",\"\",IF(COUNTIF($C$3:C286, C286)>1, \"\", C286))","v":""},{"$f":"IF(G286=\"\",\"\",IF(F286=\"\",\"\",CONCATENATE(DIGITADOR!$M$1,G286,E286)))","v":""},"",{"$f":"IF(F286=\"\",\"\",VLOOKUP(F286,referentes!$Q$2:$T$300,3,FALSE))","v":""},null,null,null,null,null,{"$f":"IF(L286=\"\",\"\",VLOOKUP(L286,referentes!$G$2:$N$15,2,FALSE))","v":""},null,null,"",null,null,""]
[null,{"$f":"IF(C287=\"\",\"\",IF(COUNTIF($C$3:C287, C287)>1, \"\", C287))","v":""},{"$f":"IF(G287=\"\",\"\",IF(F287=\"\",\"\",CONCATENATE(DIGITADOR!$M$1,G287,E287)))","v":""},"",{"$f":"IF(F287=\"\",\"\",VLOOKUP(F287,referentes!$Q$2:$T$300,3,FALSE))","v":""},null,null,null,null,null,{"$f":"IF(L287=\"\",\"\",VLOOKUP(L287,referentes!$G$2:$N$15,2,FALSE))","v":""},null,null,"",null,null,""]
[null,{"$f":"IF(C288=\"\",\"\",IF(COUNTIF($C$3:C288, C288)>1, \"\", C288))","v":""},{"$f":"IF(G288=\"\",\"\",IF(F288=\"\",\"\",CONCATENATE(DIGITADOR!$M$1,G288,E288)))","v":""},"",{"$f":"IF(F288=\"\",\"\",VLOOKUP(F288,referentes!$Q$2:$T$300,3,FALSE))","v":""},null,null,null,null,null,{"$f":"IF(L288=\"\",\"\",VLOOKUP(L288,referentes!$G$2:$N$15,2,FALSE))","v":""},null,null,"",null,null,""]
[null,{"$f":"IF(C289=\"\",\"\",IF(COUNTIF($C$3:C289, C289)>1, \"\", C289))","v":""},{"$f":"IF(G289=\"\",\"\",IF(F289=\"\",\"\",CONCATENATE(DIGITADOR!$M$1,G289,E289)))","v":""},"",{"$f":"IF(F289=\"\",\"\",VLOOKUP(F289,referentes!$Q$2:$T$300,3,FALSE))","v":""},null,null,null,null,null,{"$f":"IF(L289=\"\",\"\",VLOOKUP(L289,referentes!$G$2:$N$15,2,FALSE))","v":""},null,null,"",null,null,""]
[null,{"$f":"IF(C290=\"\",\"\",IF(COUNTIF($C$3:C290, C290)>1, \"\", C290))","v":""},{"$f":"IF(G290=\"\",\"\",IF(F290=\"\",\"\",CONCATENATE(DIGITADOR!$M$1,G290,E290)))","v":""},"",{"$f":"IF(F290=\"\",\"\",VLOOKUP(F290,referentes!$Q$2:$T$300,3,FALSE))","v":""},null,null,null,null,null,{"$f":"IF(L290=\"\",\"\",VLOOKUP(L290,referentes!$G$2:$N$15,2,FALSE))","v":""},null,null,"",null,null,""]
[null,{"$f":"IF(C291=\"\",\"\",IF(COUNTIF($C$3:C291, C291)>1, \"\", C291))","v":""},{"$f":"IF(G291=\"\",\"\",IF(F291=\"\",\"\",CONCATENATE(DIGITADOR!$M$1,G291,E291)))","v":""},"",{"$f":"IF(F291=\"\",\"\",VLOOKUP(F291,referentes!$Q$2:$T$300,3,FALSE))","v":""},null,null,null,null,null,{"$f":"IF(L291=\"\",\"\",VLOOKUP(L291,referentes!$G$2:$N$15,2,FALSE))","v":""},null,null,"",null,null,""]
[null,{"$f":"IF(C292=\"\",\"\",IF(COUNTIF($C$3:C292, C292)>1, \"\", C292))","v":""},{"$f":"IF(G292=\"\",\"\",IF(F292=\"\",\"\",CONCATENATE(DIGITADOR!$M$1,G292,E292)))","v":""},"",{"$f":"IF(F292=\"\",\"\",VLOOKUP(F292,referentes!$Q$2:$T$300,3,FALSE))","v":""},null,null,null,null,null,{"$f":"IF(L292=\"\",\"\",VLOOKUP(L292,referentes!$G$2:$N$15,2,FALSE))","v":""},null,null,"",null,null,""]
[null,{"$f":"IF(C293=\"\",\"\",IF(COUNTIF($C$3:C293, C293)>1, \"\", C293))","v":""},{"$f":"IF(G293=\"\",\"\",IF(F293=\"\",\"\",CONCATENATE(DIGITADOR!$M$1,G293,E293)))","v":""},"",{"$f":"IF(F293=\"\",\"\",VLOOKUP(F293,referentes!$Q$2:$T$300,3,FALSE))","v":""},null,null,null,null,null,{"$f":"IF(L293=\"\",\"\",VLOOKUP(L293,referentes!$G$2:$N$15,2,FALSE))","v":""},null,null,"",null,null,""]
[null,{"$f":"IF(C294=\"\",\"\",IF(COUNTIF($C$3:C294, C294)>1, \"\", C294))","v":""},{"$f":"IF(G294=\"\",\"\",IF(F294=\"\",\"\",CONCATENATE(DIGITADOR!$M$1,G294,E294)))","v":""},"",{"$f":"IF(F294=\"\",\"\",VLOOKUP(F294,referentes!$Q$2:$T$300,3,FALSE))","v":""},null,null,null,null,null,{"$f":"IF(L294=\"\",\"\",VLOOKUP(L294,referentes!$G$2:$N$15,2,FALSE))","v":""},null,null,"",null,null,""]
[null,{"$f":"IF(C295=\"\",\"\",IF(COUNTIF($C$3:C295, C295)>1, \"\", C295))","v":""},{"$f":"IF(G295=\"\",\"\",IF(F295=\"\",\"\",CONCATENATE(DIGITADOR!$M$1,G295,E295)))","v":""},"",{"$f":"IF(F295=\"\",\"\",VLOOKUP(F295,referentes!$Q$2:$T$300,3,FALSE))","v":""},null,null,null,null,null,{"$f":"IF(L295=\"\",\"\",VLOOKUP(L295,referentes!$G$2:$N$15,2,FALSE))","v":""},null,null,"",null,null,""]
[null,{"$f":"IF(C296=\"\",\"\",IF(COUNTIF($C$3:C296, C296)>1, \"\", C296))","v":""},{"$f":"IF(G296=\"\",\"\",IF(F296=\"\",\"\",CONCATENATE(DIGITADOR!$M$1,G296,E296)))","v":""},"",{"$f":"IF(F296=\"\",\"\",VLOOKUP(F296,referentes!$Q$2:$T$300,3,FALSE))","v":""},null,null,null,null,null,{"$f":"IF(L296=\"\",\"\",VLOOKUP(L296,referentes!$G$2:$N$15,2,FALSE))","v":""},null,null,"",null,null,""]
[null,{"$f":"IF(C297=\"\",\"\",IF(COUNTIF($C$3:C297, C297)>1, \"\", C297))","v":""},{"$f":"IF(G297=\"\",\"\",IF(F297=\"\",\"\",CONCATENATE(DIGITADOR!$M$1,G297,E297)))","v":""},"",{"$f":"IF(F297=\"\",\"\",VLOOKUP(F297,referentes!$Q$2:$T$300,3,FALSE))","v":""},null,null,null,null,null,{"$f":"IF(L297=\"\",\"\",VLOOKUP(L297,referentes!$G$2:$N$15,2,FALSE))","v":""},null,null,"",null,null,""]
[null,{"$f":"IF(C298=\"\",\"\",IF(COUNTIF($C$3:C298, C298)>1, \"\", C298))","v":""},{"$f":"IF(G298=\"\",\"\",IF(F298=\"\",\"\",CONCATENATE(DIGITADOR!$M$1,G298,E298)))","v":""},"",{"$f":"IF(F298=\"\",\"\",VLOOKUP(F298,referentes!$Q$2:$T$300,3,FALSE))","v":""},null,null,null,null,null,{"$f":"IF(L298=\"\",\"\",VLOOKUP(L298,referentes!$G$2:$N$15,2,FALSE))","v":""},null,null,"",null,null,""]
[null,{"$f":"IF(C299=\"\",\"\",IF(COUNTIF($C$3:C299, C299)>1, \"\", C299))","v":""},{"$f":"IF(G299=\"\",\"\",IF(F299=\"\",\"\",CONCATENATE(DIGITADOR!$M$1,G299,E299)))","v":""},"",{"$f":"IF(F299=\"\",\"\",VLOOKUP(F299,referentes!$Q$2:$T$300,3,FALSE))","v":""},null,null,null,null,null,{"$f":"IF(L299=\"\",\"\",VLOOKUP(L299,referentes!$G$2:$N$15,2,FALSE))","v":""},null,null,"",null,null,""]
[null,{"$f":"IF(C300=\"\",\"\",IF(COUNTIF($C$3:C300, C300)>1, \"\", C300))","v":""},{"$f":"IF(G300=\"\",\"\",IF(F300=\"\",\"\",CONCATENATE(DIGITADOR!$M$1,G300,E300)))","v":""},"",{"$f":"IF(F300=\"\",\"\",VLOOKUP(F300,referentes!$Q$2:$T$300,3,FALSE))","v":""},null,null,null,null,null,{"$f":"IF(L300=\"\",\"\",VLOOKUP(L300,referentes!$G$2:$N$15,2,FALSE))","v":""},null,null,"",null,null,""]
[null,{"$f":"IF(C301=\"\",\"\",IF(COUNTIF($C$3:C301, C301)>1, \"\", C301))","v":""},{"$f":"IF(G301=\"\",\"\",IF(F301=\"\",\"\",CONCATENATE(DIGITADOR!$M$1,G301,E301)))","v":""},"",{"$f":"IF(F301=\"\",\"\",VLOOKUP(F301,referentes!$Q$2:$T$300,3,FALSE))","v":""},null,null,null,null,null,{"$f":"IF(L301=\"\",\"\",VLOOKUP(L301,referentes!$G$2:$N$15,2,FALSE))","v":""},null,null,"",null,null,""]
[null,{"$f":"IF(C302=\"\",\"\",IF(COUNTIF($C$3:C302, C302)>1, \"\", C302))","v":""},{"$f":"IF(G302=\"\",\"\",IF(F302=\"\",\"\",CONCATENATE(DIGITADOR!$M$1,G302,E302)))","v":""},"",{"$f":"IF(F302=\"\",\"\",VLOOKUP(F302,referentes!$Q$2:$T$300,3,FALSE))","v":""},null,null,null,null,null,{"$f":"IF(L302=\"\",\"\",VLOOKUP(L302,referentes!$G$2:$N$15,2,FALSE))","v":""},null,null,"",null,null,""]
[null,{"$f":"IF(C303=\"\",\"\",IF(COUNTIF($C$3:C303, C303)>1, \"\", C303))","v":""},{"$f":"IF(G303=\"\",\"\",IF(F303=\"\",\"\",CONCATENATE(DIGITADOR!$M$1,G303,E303)))","v":""},"",{"$f":"IF(F303=\"\",\"\",VLOOKUP(F303,referentes!$Q$2:$T$300,3,FALSE))","v":""},null,null,null,null,null,{"$f":"IF(L303=\"\",\"\",VLOOKUP(L303,referentes!$G$2:$N$15,2,FALSE))","v":""},null,null,"",null,null,""]
[null,{"$f":"IF(C304=\"\",\"\",IF(COUNTIF($C$3:C304, C304)>1, \"\", C304))","v":""},{"$f":"IF(G304=\"\",\"\",IF(F304=\"\",\"\",CONCATENATE(DIGITADOR!$M$1,G304,E304)))","v":""},"",{"$f":"IF(F304=\"\",\"\",VLOOKUP(F304,referentes!$Q$2:$T$300,3,FALSE))","v":""},null,null,null,null,null,{"$f":"IF(L304=\"\",\"\",VLOOKUP(L304,referentes!$G$2:$N$15,2,FALSE))","v":""},null,null,"",null,null,""]
[null,{"$f":"IF(C305=\"\",\"\",IF(COUNTIF($C$3:C305, C305)>1, \"\", C305))","v":""},{"$f":"IF(G305=\"\",\"\",IF(F305=\"\",\"\",CONCATENATE(DIGITADOR!$M$1,G305,E305)))","v":""},"",{"$f":"IF(F305=\"\",\"\",VLOOKUP(F305,referentes!$Q$2:$T$300,3,FALSE))","v":""},null,null,null,null,null,{"$f":"IF(L305=\"\",\"\",VLOOKUP(L305,referentes!$G$2:$N$15,2,FALSE))","v":""},null,null,"",null,null,""]
[null,{"$f":"IF(C306=\"\",\"\",IF(COUNTIF($C$3:C306, C306)>1, \"\", C306))","v":""},{"$f":"IF(G306=\"\",\"\",IF(F306=\"\",\"\",CONCATENATE(DIGITADOR!$M$1,G306,E306)))","v":""},"",{"$f":"IF(F306=\"\",\"\",VLOOKUP(F306,referentes!$Q$2:$T$300,3,FALSE))","v":""},null,null,null,null,null,{"$f":"IF(L306=\"\",\"\",VLOOKUP(L306,referentes!$G$2:$N$15,2,FALSE))","v":""},null,null,"",null,null,""]
[null,{"$f":"IF(C307=\"\",\"\",IF(COUNTIF($C$3:C307, C307)>1, \"\", C307))","v":""},{"$f":"IF(G307=\"\",\"\",IF(F307=\"\",\"\",CONCATENATE(DIGITADOR!$M$1,G307,E307)))","v":""},"",{"$f":"IF(F307=\"\",\"\",VLOOKUP(F307,referentes!$Q$2:$T$300,3,FALSE))","v":""},null,null,null,null,null,{"$f":"IF(L307=\"\",\"\",VLOOKUP(L307,referentes!$G$2:$N$15,2,FALSE))","v":""},null,null,"",null,null,""]
[null,{"$f":"IF(C308=\"\",\"\",IF(COUNTIF($C$3:C308, C308)>1, \"\", C308))","v":""},{"$f":"IF(G308=\"\",\"\",IF(F308=\"\",\"\",CONCATENATE(DIGITADOR!$M$1,G308,E308)))","v":""},"",{"$f":"IF(F308=\"\",\"\",VLOOKUP(F308,referentes!$Q$2:$T$300,3,FALSE))","v":""},null,null,null,null,null,{"$f":"IF(L308=\"\",\"\",VLOOKUP(L308,referentes!$G$2:$N$15,2,FALSE))","v":""},null,null,"",null,null,""]
[null,{"$f":"IF(C309=\"\",\"\",IF(COUNTIF($C$3:C309, C309)>1, \"\", C309))","v":""},{"$f":"IF(G309=\"\",\"\",IF(F309=\"\",\"\",CONCATENATE(DIGITADOR!$M$1,G309,E309)))","v":""},"",{"$f":"IF(F309=\"\",\"\",VLOOKUP(F309,referentes!$Q$2:$T$300,3,FALSE))","v":""},null,null,null,null,null,{"$f":"IF(L309=\"\",\"\",VLOOKUP(L309,referentes!$G$2:$N$15,2,FALSE))","v":""},null,null,"",null,null,""]
[null,{"$f":"IF(C310=\"\",\"\",IF(COUNTIF($C$3:C310, C310)>1, \"\", C310))","v":""},{"$f":"IF(G310=\"\",\"\",IF(F310=\"\",\"\",CONCATENATE(DIGITADOR!$M$1,G310,E310)))","v":""},"",{"$f":"IF(F310=\"\",\"\",VLOOKUP(F310,referentes!$Q$2:$T$300,3,FALSE))","v":""},null,null,null,null,null,{"$f":"IF(L310=\"\",\"\",VLOOKUP(L310,referentes!$G$2:$N$15,2,FALSE))","v":""},null,null,"",null,null,""]
[null,{"$f":"IF(C311=\"\",\"\",IF(COUNTIF($C$3:C311, C311)>1, \"\", C311))","v":""},{"$f":"IF(G311=\"\",\"\",IF(F311=\"\",\"\",CONCATENATE(DIGITADOR!$M$1,G311,E311)))","v":""},"",{"$f":"IF(F311=\"\",\"\",VLOOKUP(F311,referentes!$Q$2:$T$300,3,FALSE))","v":""},null,null,null,null,null,{"$f":"IF(L311=\"\",\"\",VLOOKUP(L311,referentes!$G$2:$N$15,2,FALSE))","v":""},null,null,"",null,null,""]
[null,{"$f":"IF(C312=\"\",\"\",IF(COUNTIF($C$3:C312, C312)>1, \"\", C312))","v":""},{"$f":"IF(G312=\"\",\"\",IF(F312=\"\",\"\",CONCATENATE(DIGITADOR!$M$1,G312,E312)))","v":""},"",{"$f":"IF(F312=\"\",\"\",VLOOKUP(F312,referentes!$Q$2:$T$300,3,FALSE))","v":""},null,null,null,null,null,{"$f":"IF(L312=\"\",\"\",VLOOKUP(L312,referentes!$G$2:$N$15,2,FALSE))","v":""},null,null,"",null,null,""]
[null,{"$f":"IF(C313=\"\",\"\",IF(COUNTIF($C$3:C313, C313)>1, \"\", C313))","v":""},{"$f":"IF(G313=\"\",\"\",IF(F313=\"\",\"\",CONCATENATE(DIGITADOR!$M$1,G313,E313)))","v":""},"",{"$f":"IF(F313=\"\",\"\",VLOOKUP(F313,referentes!$Q$2:$T$300,3,FALSE))","v":""},null,null,null,null,null,{"$f":"IF(L313=\"\",\"\",VLOOKUP(L313,referentes!$G$2:$N$15,2,FALSE))","v":""},null,null,"",null,null,""]
[null,{"$f":"IF(C314=\"\",\"\",IF(COUNTIF($C$3:C314, C314)>1, \"\", C314))","v":""},{"$f":"IF(G314=\"\",\"\",IF(F314=\"\",\"\",CONCATENATE(DIGITADOR!$M$1,G314,E314)))","v":""},"",{"$f":"IF(F314=\"\",\"\",VLOOKUP(F314,referentes!$Q$2:$T$300,3,FALSE))","v":""},null,null,null,null,null,{"$f":"IF(L314=\"\",\"\",VLOOKUP(L314,referentes!$G$2:$N$15,2,FALSE))","v":""},null,null,"",null,null,""]
[null,{"$f":"IF(C315=\"\",\"\",IF(COUNTIF($C$3:C315, C315)>1, \"\", C315))","v":""},{"$f":"IF(G315=\"\",\"\",IF(F315=\"\",\"\",CONCATENATE(DIGITADOR!$M$1,G315,E315)))","v":""},"",{"$f":"IF(F315=\"\",\"\",VLOOKUP(F315,referentes!$Q$2:$T$300,3,FALSE))","v":""},null,null,null,null,null,{"$f":"IF(L315=\"\",\"\",VLOOKUP(L315,referentes!$G$2:$N$15,2,FALSE))","v":""},null,null,"",null,null,""]
[null,{"$f":"IF(C316=\"\",\"\",IF(COUNTIF($C$3:C316, C316)>1, \"\", C316))","v":""},{"$f":"IF(G316=\"\",\"\",IF(F316=\"\",\"\",CONCATENATE(DIGITADOR!$M$1,G316,E316)))","v":""},"",{"$f":"IF(F316=\"\",\"\",VLOOKUP(F316,referentes!$Q$2:$T$300,3,FALSE))","v":""},null,null,null,null,null,{"$f":"IF(L316=\"\",\"\",VLOOKUP(L316,referentes!$G$2:$N$15,2,FALSE))","v":""},null,null,"",null,null,""]
[null,{"$f":"IF(C317=\"\",\"\",IF(COUNTIF($C$3:C317, C317)>1, \"\", C317))","v":""},{"$f":"IF(G317=\"\",\"\",IF(F317=\"\",\"\",CONCATENATE(DIGITADOR!$M$1,G317,E317)))","v":""},"",{"$f":"IF(F317=\"\",\"\",VLOOKUP(F317,referentes!$Q$2:$T$300,3,FALSE))","v":""},null,null,null,null,null,{"$f":"IF(L317=\"\",\"\",VLOOKUP(L317,referentes!$G$2:$N$15,2,FALSE))","v":""},null,null,"",null,null,""]
[null,{"$f":"IF(C318=\"\",\"\",IF(COUNTIF($C$3:C318, C318)>1, \"\", C318))","v":""},{"$f":"IF(G318=\"\",\"\",IF(F318=\"\",\"\",CONCATENATE(DIGITADOR!$M$1,G318,E318)))","v":""},"",{"$f":"IF(F318=\"\",\"\",VLOOKUP(F318,referentes!$Q$2:$T$300,3,FALSE))","v":""},null,null,null,null,null,{"$f":"IF(L318=\"\",\"\",VLOOKUP(L318,referentes!$G$2:$N$15,2,FALSE))","v":""},null,null,"",null,null,""]
[null,{"$f":"IF(C319=\"\",\"\",IF(COUNTIF($C$3:C319, C319)>1, \"\", C319))","v":""},{"$f":"IF(G319=\"\",\"\",IF(F319=\"\",\"\",CONCATENATE(DIGITADOR!$M$1,G319,E319)))","v":""},"",{"$f":"IF(F319=\"\",\"\",VLOOKUP(F319,referentes!$Q$2:$T$300,3,FALSE))","v":""},null,null,null,null,null,{"$f":"IF(L319=\"\",\"\",VLOOKUP(L319,referentes!$G$2:$N$15,2,FALSE))","v":""},null,null,"",null,null,""]
[null,{"$f":"IF(C320=\"\",\"\",IF(COUNTIF($C$3:C320, C320)>1, \"\", C320))","v":""},{"$f":"IF(G320=\"\",\"\",IF(F320=\"\",\"\",CONCATENATE(DIGITADOR!$M$1,G320,E320)))","v":""},"",{"$f":"IF(F320=\"\",\"\",VLOOKUP(F320,referentes!$Q$2:$T$300,3,FALSE))","v":""},null,null,null,null,null,{"$f":"IF(L320=\"\",\"\",VLOOKUP(L320,referentes!$G$2:$N$15,2,FALSE))","v":""},null,null,"",null,null,""]
[null,{"$f":"IF(C321=\"\",\"\",IF(COUNTIF($C$3:C321, C321)>1, \"\", C321))","v":""},{"$f":"IF(G321=\"\",\"\",IF(F321=\"\",\"\",CONCATENATE(DIGITADOR!$M$1,G321,E321)))","v":""},"",{"$f":"IF(F321=\"\",\"\",VLOOKUP(F321,referentes!$Q$2:$T$300,3,FALSE))","v":""},null,null,null,null,null,{"$f":"IF(L321=\"\",\"\",VLOOKUP(L321,referentes!$G$2:$N$15,2,FALSE))","v":""},null,null,"",null,null,""]
[null,{"$f":"IF(C322=\"\",\"\",IF(COUNTIF($C$3:C322, C322)>1, \"\", C322))","v":""},{"$f":"IF(G322=\"\",\"\",IF(F322=\"\",\"\",CONCATENATE(DIGITADOR!$M$1,G322,E322)))","v":""},"",{"$f":"IF(F322=\"\",\"\",VLOOKUP(F322,referentes!$Q$2:$T$300,3,FALSE))","v":""},null,null,null,null,null,{"$f":"IF(L322=\"\",\"\",VLOOKUP(L322,referentes!$G$2:$N$15,2,FALSE))","v":""},null,null,"",null,null,""]
[null,{"$f":"IF(C323=\"\",\"\",IF(COUNTIF($C$3:C323, C323)>1, \"\", C323))","v":""},{"$f":"IF(G323=\"\",\"\",IF(F323=\"\",\"\",CONCATENATE(DIGITADOR!$M$1,G323,E323)))","v":""},"",{"$f":"IF(F323=\"\",\"\",VLOOKUP(F323,referentes!$Q$2:$T$300,3,FALSE))","v":""},null,null,null,null,null,{"$f":"IF(L323=\"\",\"\",VLOOKUP(L323,referentes!$G$2:$N$15,2,FALSE))","v":""},null,null,"",null,null,""]
[null,{"$f":"IF(C324=\"\",\"\",IF(COUNTIF($C$3:C324, C324)>1, \"\", C324))","v":""},{"$f":"IF(G324=\"\",\"\",IF(F324=\"\",\"\",CONCATENATE(DIGITADOR!$M$1,G324,E324)))","v":""},{"$f":"IF(C324=\"\",\"\",CONCATENATE(C324,ROW()-2))","v":""},{"$f":"IF(F324=\"\",\"\",VLOOKUP(F324,referentes!$Q$2:$T$300,3,FALSE))","v":""},null,null,null,null,null,{"$f":"IF(L324=\"\",\"\",VLOOKUP(L324,referentes!$G$2:$N$15,2,FALSE))","v":""},null,null,{"$f":"IF(M324=\"\",\"\",M324/PI())","v":""},null,null,{"$f":"IF(N324=\"\",\"\",((PI())*((N324/100)^2))/4*10000/500)","v":""}]
[null,{"$f":"IF(C325=\"\",\"\",IF(COUNTIF($C$3:C325, C325)>1, \"\", C325))","v":""},{"$f":"IF(G325=\"\",\"\",IF(F325=\"\",\"\",CONCATENATE(DIGITADOR!$M$1,G325,E325)))","v":""},"",{"$f":"IF(F325=\"\",\"\",VLOOKUP(F325,referentes!$Q$2:$T$300,3,FALSE))","v":""},null,null,null,null,null,{"$f":"IF(L325=\"\",\"\",VLOOKUP(L325,referentes!$G$2:$N$15,2,FALSE))","v":""},null,null,"",null,null,""]
[null,{"$f":"IF(C326=\"\",\"\",IF(COUNTIF($C$3:C326, C326)>1, \"\", C326))","v":""},{"$f":"IF(G326=\"\",\"\",IF(F326=\"\",\"\",CONCATENATE(DIGITADOR!$M$1,G326,E326)))","v":""},"",{"$f":"IF(F326=\"\",\"\",VLOOKUP(F326,referentes!$Q$2:$T$300,3,FALSE))","v":""},null,null,null,null,null,{"$f":"IF(L326=\"\",\"\",VLOOKUP(L326,referentes!$G$2:$N$15,2,FALSE))","v":""},null,null,"",null,null,""]
[null,{"$f":"IF(C327=\"\",\"\",IF(COUNTIF($C$3:C327, C327)>1, \"\", C327))","v":""},{"$f":"IF(G327=\"\",\"\",IF(F327=\"\",\"\",CONCATENATE(DIGITADOR!$M$1,G327,E327)))","v":""},"",{"$f":"IF(F327=\"\",\"\",VLOOKUP(F327,referentes!$Q$2:$T$300,3,FALSE))","v":""},null,null,null,null,null,{"$f":"IF(L327=\"\",\"\",VLOOKUP(L327,referentes!$G$2:$N$15,2,FALSE))","v":""},null,null,"",null,null,""]
[null,{"$f":"IF(C328=\"\",\"\",IF(COUNTIF($C$3:C328, C328)>1, \"\", C328))","v":""},{"$f":"IF(G328=\"\",\"\",IF(F328=\"\",\"\",CONCATENATE(DIGITADOR!$M$1,G328,E328)))","v":""},"",{"$f":"IF(F328=\"\",\"\",VLOOKUP(F328,referentes!$Q$2:$T$300,3,FALSE))","v":""},null,null,null,null,null,{"$f":"IF(L328=\"\",\"\",VLOOKUP(L328,referentes!$G$2:$N$15,2,FALSE))","v":""},null,null,"",null,null,""]
[null,{"$f":"IF(C329=\"\",\"\",IF(COUNTIF($C$3:C329, C329)>1, \"\", C329))","v":""},{"$f":"IF(G329=\"\",\"\",IF(F329=\"\",\"\",CONCATENATE(DIGITADOR!$M$1,G329,E329)))","v":""},"",{"$f":"IF(F329=\"\",\"\",VLOOKUP(F329,referentes!$Q$2:$T$300,3,FALSE))","v":""},null,null,null,null,null,{"$f":"IF(L329=\"\",\"\",VLOOKUP(L329,referentes!$G$2:$N$15,2,FALSE))","v":""},null,null,"",null,null,""]
[null,{"$f":"IF(C330=\"\",\"\",IF(COUNTIF($C$3:C330, C330)>1, \"\", C330))","v":""},{"$f":"IF(G330=\"\",\"\",IF(F330=\"\",\"\",CONCATENATE(DIGITADOR!$M$1,G330,E330)))","v":""},"",{"$f":"IF(F330=\"\",\"\",VLOOKUP(F330,referentes!$Q$2:$T$300,3,FALSE))","v":""},null,null,null,null,null,{"$f":"IF(L330=\"\",\"\",VLOOKUP(L330,referentes!$G$2:$N$15,2,FALSE))","v":""},null,null,"",null,null,""]
[null,{"$f":"IF(C331=\"\",\"\",IF(COUNTIF($C$3:C331, C331)>1, \"\", C331))","v":""},{"$f":"IF(G331=\"\",\"\",IF(F331=\"\",\"\",CONCATENATE(DIGITADOR!$M$1,G331,E331)))","v":""},"",{"$f":"IF(F331=\"\",\"\",VLOOKUP(F331,referentes!$Q$2:$T$300,3,FALSE))","v":""},null,null,null,null,null,{"$f":"IF(L331=\"\",\"\",VLOOKUP(L331,referentes!$G$2:$N$15,2,FALSE))","v":""},null,null,"",null,null,""]
[null,{"$f":"IF(C332=\"\",\"\",IF(COUNTIF($C$3:C332, C332)>1, \"\", C332))","v":""},{"$f":"IF(G332=\"\",\"\",IF(F332=\"\",\"\",CONCATENATE(DIGITADOR!$M$1,G332,E332)))","v":""},"",{"$f":"IF(F332=\"\",\"\",VLOOKUP(F332,referentes!$Q$2:$T$300,3,FALSE))","v":""},null,null,null,null,null,{"$f":"IF(L332=\"\",\"\",VLOOKUP(L332,referentes!$G$2:$N$15,2,FALSE))","v":""},null,null,"",null,null,""]
[null,{"$f":"IF(C333=\"\",\"\",IF(COUNTIF($C$3:C333, C333)>1, \"\", C333))","v":""},{"$f":"IF(G333=\"\",\"\",IF(F333=\"\",\"\",CONCATENATE(DIGITADOR!$M$1,G333,E333)))","v":""},"",{"$f":"IF(F333=\"\",\"\",VLOOKUP(F333,referentes!$Q$2:$T$300,3,FALSE))","v":""},null,null,null,null,null,{"$f":"IF(L333=\"\",\"\",VLOOKUP(L333,referentes!$G$2:$N$15,2,FALSE))","v":""},null,null,"",null,null,""]
[null,{"$f":"IF(C334=\"\",\"\",IF(COUNTIF($C$3:C334, C334)>1, \"\", C334))","v":""},{"$f":"IF(G334=\"\",\"\",IF(F334=\"\",\"\",CONCATENATE(DIGITADOR!$M$1,G334,E334)))","v":""},"",{"$f":"IF(F334=\"\",\"\",VLOOKUP(F334,referentes!$Q$2:$T$300,3,FALSE))","v":""},null,null,null,null,null,{"$f":"IF(L334=\"\",\"\",VLOOKUP(L334,referentes!$G$2:$N$15,2,FALSE))","v":""},null,null,"",null,null,""]
[null,{"$f":"IF(C335=\"\",\"\",IF(COUNTIF($C$3:C335, C335)>1, \"\", C335))","v":""},{"$f":"IF(G335=\"\",\"\",IF(F335=\"\",\"\",CONCATENATE(DIGITADOR!$M$1,G335,E335)))","v":""},"",{"$f":"IF(F335=\"\",\"\",VLOOKUP(F335,referentes!$Q$2:$T$300,3,FALSE))","v":""},null,null,null,null,null,{"$f":"IF(L335=\"\",\"\",VLOOKUP(L335,referentes!$G$2:$N$15,2,FALSE))","v":""},null,null,"",null,null,""]
[null,{"$f":"IF(C336=\"\",\"\",IF(COUNTIF($C$3:C336, C336)>1, \"\", C336))","v":""},{"$f":"IF(G336=\"\",\"\",IF(F336=\"\",\"\",CONCATENATE(DIGITADOR!$M$1,G336,E336)))","v":""},"",{"$f":"IF(F336=\"\",\"\",VLOOKUP(F336,referentes!$Q$2:$T$300,3,FALSE))","v":""},null,null,null,null,null,{"$f":"IF(L336=\"\",\"\",VLOOKUP(L336,referentes!$G$2:$N$15,2,FALSE))","v":""},null,null,"",null,null,""]
[null,{"$f":"IF(C337=\"\",\"\",IF(COUNTIF($C$3:C337, C337)>1, \"\", C337))","v":""},{"$f":"IF(G337=\"\",\"\",IF(F337=\"\",\"\",CONCATENATE(DIGITADOR!$M$1,G337,E337)))","v":""},"",{"$f":"IF(F337=\"\",\"\",VLOOKUP(F337,referentes!$Q$2:$T$300,3,FALSE))","v":""},null,null,null,null,null,{"$f":"IF(L337=\"\",\"\",VLOOKUP(L337,referentes!$G$2:$N$15,2,FALSE))","v":""},null,null,"",null,null,""]
[null,{"$f":"IF(C338=\"\",\"\",IF(COUNTIF($C$3:C338, C338)>1, \"\", C338))","v":""},{"$f":"IF(G338=\"\",\"\",IF(F338=\"\",\"\",CONCATENATE(DIGITADOR!$M$1,G338,E338)))","v":""},"",{"$f":"IF(F338=\"\",\"\",VLOOKUP(F338,referentes!$Q$2:$T$300,3,FALSE))","v":""},null,null,null,null,null,{"$f":"IF(L338=\"\",\"\",VLOOKUP(L338,referentes!$G$2:$N$15,2,FALSE))","v":""},null,null,"",null,null,""]
[null,{"$f":"IF(C339=\"\",\"\",IF(COUNTIF($C$3:C339, C339)>1, \"\", C339))","v":""},{"$f":"IF(G339=\"\",\"\",IF(F339=\"\",\"\",CONCATENATE(DIGITADOR!$M$1,G339,E339)))","v":""},"",{"$f":"IF(F339=\"\",\"\",VLOOKUP(F339,referentes!$Q$2:$T$300,3,FALSE))","v":""},null,null,null,null,null,{"$f":"IF(L339=\"\",\"\",VLOOKUP(L339,referentes!$G$2:$N$15,2,FALSE))","v":""},null,null,"",null,null,""]
[null,{"$f":"IF(C340=\"\",\"\",IF(COUNTIF($C$3:C340, C340)>1, \"\", C340))","v":""},{"$f":"IF(G340=\"\",\"\",IF(F340=\"\",\"\",CONCATENATE(DIGITADOR!$M$1,G340,E340)))","v":""},"",{"$f":"IF(F340=\"\",\"\",VLOOKUP(F340,referentes!$Q$2:$T$300,3,FALSE))","v":""},null,null,null,null,null,{"$f":"IF(L340=\"\",\"\",VLOOKUP(L340,referentes!$G$2:$N$15,2,FALSE))","v":""},null,null,"",null,null,""]
[null,{"$f":"IF(C341=\"\",\"\",IF(COUNTIF($C$3:C341, C341)>1, \"\", C341))","v":""},{"$f":"IF(G341=\"\",\"\",IF(F341=\"\",\"\",CONCATENATE(DIGITADOR!$M$1,G341,E341)))","v":""},"",{"$f":"IF(F341=\"\",\"\",VLOOKUP(F341,referentes!$Q$2:$T$300,3,FALSE))","v":""},null,null,null,null,null,{"$f":"IF(L341=\"\",\"\",VLOOKUP(L341,referentes!$G$2:$N$15,2,FALSE))","v":""},null,null,"",null,null,""]
[null,{"$f":"IF(C342=\"\",\"\",IF(COUNTIF($C$3:C342, C342)>1, \"\", C342))","v":""},{"$f":"IF(G342=\"\",\"\",IF(F342=\"\",\"\",CONCATENATE(DIGITADOR!$M$1,G342,E342)))","v":""},"",{"$f":"IF(F342=\"\",\"\",VLOOKUP(F342,referentes!$Q$2:$T$300,3,FALSE))","v":""},null,null,null,null,null,{"$f":"IF(L342=\"\",\"\",VLOOKUP(L342,referentes!$G$2:$N$15,2,FALSE))","v":""},null,null,"",null,null,""]
[null,{"$f":"IF(C343=\"\",\"\",IF(COUNTIF($C$3:C343, C343)>1, \"\", C343))","v":""},{"$f":"IF(G343=\"\",\"\",IF(F343=\"\",\"\",CONCATENATE(DIGITADOR!$M$1,G343,E343)))","v":""},"",{"$f":"IF(F343=\"\",\"\",VLOOKUP(F343,referentes!$Q$2:$T$300,3,FALSE))","v":""},null,null,null,null,null,{"$f":"IF(L343=\"\",\"\",VLOOKUP(L343,referentes!$G$2:$N$15,2,FALSE))","v":""},null,null,"",null,null,""]
[null,{"$f":"IF(C344=\"\",\"\",IF(COUNTIF($C$3:C344, C344)>1, \"\", C344))","v":""},{"$f":"IF(G344=\"\",\"\",IF(F344=\"\",\"\",CONCATENATE(DIGITADOR!$M$1,G344,E344)))","v":""},"",{"$f":"IF(F344=\"\",\"\",VLOOKUP(F344,referentes!$Q$2:$T$300,3,FALSE))","v":""},null,null,null,null,null,{"$f":"IF(L344=\"\",\"\",VLOOKUP(L344,referentes!$G$2:$N$15,2,FALSE))","v":""},null,null,"",null,null,""]
[null,{"$f":"IF(C345=\"\",\"\",IF(COUNTIF($C$3:C345, C345)>1, \"\", C345))","v":""},{"$f":"IF(G345=\"\",\"\",IF(F345=\"\",\"\",CONCATENATE(DIGITADOR!$M$1,G345,E345)))","v":""},"",{"$f":"IF(F345=\"\",\"\",VLOOKUP(F345,referentes!$Q$2:$T$300,3,FALSE))","v":""},null,null,null,null,null,{"$f":"IF(L345=\"\",\"\",VLOOKUP(L345,referentes!$G$2:$N$15,2,FALSE))","v":""},null,null,"",null,null,""]
[null,{"$f":"IF(C346=\"\",\"\",IF(COUNTIF($C$3:C346, C346)>1, \"\", C346))","v":""},{"$f":"IF(G346=\"\",\"\",IF(F346=\"\",\"\",CONCATENATE(DIGITADOR!$M$1,G346,E346)))","v":""},"",{"$f":"IF(F346=\"\",\"\",VLOOKUP(F346,referentes!$Q$2:$T$300,3,FALSE))","v":""},null,null,null,null,null,{"$f":"IF(L346=\"\",\"\",VLOOKUP(L346,referentes!$G$2:$N$15,2,FALSE))","v":""},null,null,"",null,null,""]
[null,{"$f":"IF(C347=\"\",\"\",IF(COUNTIF($C$3:C347, C347)>1, \"\", C347))","v":""},{"$f":"IF(G347=\"\",\"\",IF(F347=\"\",\"\",CONCATENATE(DIGITADOR!$M$1,G347,E347)))","v":""},"",{"$f":"IF(F347=\"\",\"\",VLOOKUP(F347,referentes!$Q$2:$T$300,3,FALSE))","v":""},null,null,null,null,null,{"$f":"IF(L347=\"\",\"\",VLOOKUP(L347,referentes!$G$2:$N$15,2,FALSE))","v":""},null,null,"",null,null,""]
[null,{"$f":"IF(C348=\"\",\"\",IF(COUNTIF($C$3:C348, C348)>1, \"\", C348))","v":""},{"$f":"IF(G348=\"\",\"\",IF(F348=\"\",\"\",CONCATENATE(DIGITADOR!$M$1,G348,E348)))","v":""},"",{"$f":"IF(F348=\"\",\"\",VLOOKUP(F348,referentes!$Q$2:$T$300,3,FALSE))","v":""},null,null,null,null,null,{"$f":"IF(L348=\"\",\"\",VLOOKUP(L348,referentes!$G$2:$N$15,2,FALSE))","v":""},null,null,"",null,null,""]
[null,{"$f":"IF(C349=\"\",\"\",IF(COUNTIF($C$3:C349, C349)>1, \"\", C349))","v":""},{"$f":"IF(G349=\"\",\"\",IF(F349=\"\",\"\",CONCATENATE(DIGITADOR!$M$1,G349,E349)))","v":""},"",{"$f":"IF(F349=\"\",\"\",VLOOKUP(F349,referentes!$Q$2:$T$300,3,FALSE))","v":""},null,null,null,null,null,{"$f":"IF(L349=\"\",\"\",VLOOKUP(L349,referentes!$G$2:$N$15,2,FALSE))","v":""},null,null,"",null,null,""]
[null,{"$f":"IF(C350=\"\",\"\",IF(COUNTIF($C$3:C350, C350)>1, \"\", C350))","v":""},{"$f":"IF(G350=\"\",\"\",IF(F350=\"\",\"\",CONCATENATE(DIGITADOR!$M$1,G350,E350)))","v":""},"",{"$f":"IF(F350=\"\",\"\",VLOOKUP(F350,referentes!$Q$2:$T$300,3,FALSE))","v":""},null,null,null,null,null,{"$f":"IF(L350=\"\",\"\",VLOOKUP(L350,referentes!$G$2:$N$15,2,FALSE))","v":""},null,null,"",null,null,""]
[null,{"$f":"IF(C351=\"\",\"\",IF(COUNTIF($C$3:C351, C351)>1, \"\", C351))","v":""},{"$f":"IF(G351=\"\",\"\",IF(F351=\"\",\"\",CONCATENATE(DIGITADOR!$M$1,G351,E351)))","v":""},"",{"$f":"IF(F351=\"\",\"\",VLOOKUP(F351,referentes!$Q$2:$T$300,3,FALSE))","v":""},null,null,null,null,null,{"$f":"IF(L351=\"\",\"\",VLOOKUP(L351,referentes!$G$2:$N$15,2,FALSE))","v":""},null,null,"",null,null,""]
[null,{"$f":"IF(C352=\"\",\"\",IF(COUNTIF($C$3:C352, C352)>1, \"\", C352))","v":""},{"$f":"IF(G352=\"\",\"\",IF(F352=\"\",\"\",CONCATENATE(DIGITADOR!$M$1,G352,E352)))","v":""},"",{"$f":"IF(F352=\"\",\"\",VLOOKUP(F352,referentes!$Q$2:$T$300,3,FALSE))","v":""},null,null,null,null,null,{"$f":"IF(L352=\"\",\"\",VLOOKUP(L352,referentes!$G$2:$N$15,2,FALSE))","v":""},null,null,"",null,null,""]
[null,{"$f":"IF(C353=\"\",\"\",IF(COUNTIF($C$3:C353, C353)>1, \"\", C353))","v":""},{"$f":"IF(G353=\"\",\"\",IF(F353=\"\",\"\",CONCATENATE(DIGITADOR!$M$1,G353,E353)))","v":""},"",{"$f":"IF(F353=\"\",\"\",VLOOKUP(F353,referentes!$Q$2:$T$300,3,FALSE))","v":""},null,null,null,null,null,{"$f":"IF(L353=\"\",\"\",VLOOKUP(L353,referentes!$G$2:$N$15,2,FALSE))","v":""},null,null,"",null,null,""]
[null,{"$f":"IF(C354=\"\",\"\",IF(COUNTIF($C$3:C354, C354)>1, \"\", C354))","v":""},{"$f":"IF(G354=\"\",\"\",IF(F354=\"\",\"\",CONCATENATE(DIGITADOR!$M$1,G354,E354)))","v":""},"",{"$f":"IF(F354=\"\",\"\",VLOOKUP(F354,referentes!$Q$2:$T$300,3,FALSE))","v":""},null,null,null,null,null,{"$f":"IF(L354=\"\",\"\",VLOOKUP(L354,referentes!$G$2:$N$15,2,FALSE))","v":""},null,null,"",null,null,""]
[null,{"$f":"IF(C355=\"\",\"\",IF(COUNTIF($C$3:C355, C355)>1, \"\", C355))","v":""},{"$f":"IF(G355=\"\",\"\",IF(F355=\"\",\"\",CONCATENATE(DIGITADOR!$M$1,G355,E355)))","v":""},"",{"$f":"IF(F355=\"\",\"\",VLOOKUP(F355,referentes!$Q$2:$T$300,3,FALSE))","v":""},null,null,null,null,null,{"$f":"IF(L355=\"\",\"\",VLOOKUP(L355,referentes!$G$2:$N$15,2,FALSE))","v":""},null,null,"",null,null,""]
[null,{"$f":"IF(C356=\"\",\"\",IF(COUNTIF($C$3:C356, C356)>1, \"\", C356))","v":""},{"$f":"IF(G356=\"\",\"\",IF(F356=\"\",\"\",CONCATENATE(DIGITADOR!$M$1,G356,E356)))","v":""},"",{"$f":"IF(F356=\"\",\"\",VLOOKUP(F356,referentes!$Q$2:$T$300,3,FALSE))","v":""},null,null,null,null,null,{"$f":"IF(L356=\"\",\"\",VLOOKUP(L356,referentes!$G$2:$N$15,2,FALSE))","v":""},null,null,"",null,null,""]
[null,{"$f":"IF(C357=\"\",\"\",IF(COUNTIF($C$3:C357, C357)>1, \"\", C357))","v":""},{"$f":"IF(G357=\"\",\"\",IF(F357=\"\",\"\",CONCATENATE(DIGITADOR!$M$1,G357,E357)))","v":""},"",{"$f":"IF(F357=\"\",\"\",VLOOKUP(F357,referentes!$Q$2:$T$300,3,FALSE))","v":""},null,null,null,null,null,{"$f":"IF(L357=\"\",\"\",VLOOKUP(L357,referentes!$G$2:$N$15,2,FALSE))","v":""},null,null,"",null,null,""]
[null,{"$f":"IF(C358=\"\",\"\",IF(COUNTIF($C$3:C358, C358)>1, \"\", C358))","v":""},{"$f":"IF(G358=\"\",\"\",IF(F358=\"\",\"\",CONCATENATE(DIGITADOR!$M$1,G358,E358)))","v":""},"",{"$f":"IF(F358=\"\",\"\",VLOOKUP(F358,referentes!$Q$2:$T$300,3,FALSE))","v":""},null,null,null,null,null,{"$f":"IF(L358=\"\",\"\",VLOOKUP(L358,referentes!$G$2:$N$15,2,FALSE))","v":""},null,null,"",null,null,""]
[null,{"$f":"IF(C359=\"\",\"\",IF(COUNTIF($C$3:C359, C359)>1, \"\", C359))","v":""},{"$f":"IF(G359=\"\",\"\",IF(F359=\"\",\"\",CONCATENATE(DIGITADOR!$M$1,G359,E359)))","v":""},"",{"$f":"IF(F359=\"\",\"\",VLOOKUP(F359,referentes!$Q$2:$T$300,3,FALSE))","v":""},null,null,null,null,null,{"$f":"IF(L359=\"\",\"\",VLOOKUP(L359,referentes!$G$2:$N$15,2,FALSE))","v":""},null,null,"",null,null,""]
[null,{"$f":"IF(C360=\"\",\"\",IF(COUNTIF($C$3:C360, C360)>1, \"\", C360))","v":""},{"$f":"IF(G360=\"\",\"\",IF(F360=\"\",\"\",CONCATENATE(DIGITADOR!$M$1,G360,E360)))","v":""},"",{"$f":"IF(F360=\"\",\"\",VLOOKUP(F360,referentes!$Q$2:$T$300,3,FALSE))","v":""},null,null,null,null,null,{"$f":"IF(L360=\"\",\"\",VLOOKUP(L360,referentes!$G$2:$N$15,2,FALSE))","v":""},null,null,"",null,null,""]
[null,{"$f":"IF(C361=\"\",\"\",IF(COUNTIF($C$3:C361, C361)>1, \"\", C361))","v":""},{"$f":"IF(G361=\"\",\"\",IF(F361=\"\",\"\",CONCATENATE(DIGITADOR!$M$1,G361,E361)))","v":""},"",{"$f":"IF(F361=\"\",\"\",VLOOKUP(F361,referentes!$Q$2:$T$300,3,FALSE))","v":""},null,null,null,null,null,{"$f":"IF(L361=\"\",\"\",VLOOKUP(L361,referentes!$G$2:$N$15,2,FALSE))","v":""},null,null,"",null,null,""]
[null,{"$f":"IF(C362=\"\",\"\",IF(COUNTIF($C$3:C362, C362)>1, \"\", C362))","v":""},{"$f":"IF(G362=\"\",\"\",IF(F362=\"\",\"\",CONCATENATE(DIGITADOR!$M$1,G362,E362)))","v":""},"",{"$f":"IF(F362=\"\",\"\",VLOOKUP(F362,referentes!$Q$2:$T$300,3,FALSE))","v":""},null,null,null,null,null,{"$f":"IF(L362=\"\",\"\",VLOOKUP(L362,referentes!$G$2:$N$15,2,FALSE))","v":""},null,null,"",null,null,""]
[null,{"$f":"IF(C363=\"\",\"\",IF(COUNTIF($C$3:C363, C363)>1, \"\", C363))","v":""},{"$f":"IF(G363=\"\",\"\",IF(F363=\"\",\"\",CONCATENATE(DIGITADOR!$M$1,G363,E363)))","v":""},"",{"$f":"IF(F363=\"\",\"\",VLOOKUP(F363,referentes!$Q$2:$T$300,3,FALSE))","v":""},null,null,null,null,null,{"$f":"IF(L363=\"\",\"\",VLOOKUP(L363,referentes!$G$2:$N$15,2,FALSE))","v":""},null,null,"",null,null,""]
[null,{"$f":"IF(C364=\"\",\"\",IF(COUNTIF($C$3:C364, C364)>1, \"\", C364))","v":""},{"$f":"IF(G364=\"\",\"\",IF(F364=\"\",\"\",CONCATENATE(DIGITADOR!$M$1,G364,E364)))","v":""},"",{"$f":"IF(F364=\"\",\"\",VLOOKUP(F364,referentes!$Q$2:$T$300,3,FALSE))","v":""},null,null,null,null,null,{"$f":"IF(L364=\"\",\"\",VLOOKUP(L364,referentes!$G$2:$N$15,2,FALSE))","v":""},null,null,"",null,null,""]
[null,{"$f":"IF(C365=\"\",\"\",IF(COUNTIF($C$3:C365, C365)>1, \"\", C365))","v":""},{"$f":"IF(G365=\"\",\"\",IF(F365=\"\",\"\",CONCATENATE(DIGITADOR!$M$1,G365,E365)))","v":""},"",{"$f":"IF(F365=\"\",\"\",VLOOKUP(F365,referentes!$Q$2:$T$300,3,FALSE))","v":""},null,null,null,null,null,{"$f":"IF(L365=\"\",\"\",VLOOKUP(L365,referentes!$G$2:$N$15,2,FALSE))","v":""},null,null,"",null,null,""]
[null,{"$f":"IF(C366=\"\",\"\",IF(COUNTIF($C$3:C366, C366)>1, \"\", C366))","v":""},{"$f":"IF(G366=\"\",\"\",IF(F366=\"\",\"\",CONCATENATE(DIGITADOR!$M$1,G366,E366)))","v":""},"",{"$f":"IF(F366=\"\",\"\",VLOOKUP(F366,referentes!$Q$2:$T$300,3,FALSE))","v":""},null,null,null,null,null,{"$f":"IF(L366=\"\",\"\",VLOOKUP(L366,referentes!$G$2:$N$15,2,FALSE))","v":""},null,null,"",null,null,""]
[null,{"$f":"IF(C367=\"\",\"\",IF(COUNTIF($C$3:C367, C367)>1, \"\", C367))","v":""},{"$f":"IF(G367=\"\",\"\",IF(F367=\"\",\"\",CONCATENATE(DIGITADOR!$M$1,G367,E367)))","v":""},"",{"$f":"IF(F367=\"\",\"\",VLOOKUP(F367,referentes!$Q$2:$T$300,3,FALSE))","v":""},null,null,null,null,null,{"$f":"IF(L367=\"\",\"\",VLOOKUP(L367,referentes!$G$2:$N$15,2,FALSE))","v":""},null,null,"",null,null,""]
[null,{"$f":"IF(C368=\"\",\"\",IF(COUNTIF($C$3:C368, C368)>1, \"\", C368))","v":""},{"$f":"IF(G368=\"\",\"\",IF(F368=\"\",\"\",CONCATENATE(DIGITADOR!$M$1,G368,E368)))","v":""},"",{"$f":"IF(F368=\"\",\"\",VLOOKUP(F368,referentes!$Q$2:$T$300,3,FALSE))","v":""},null,null,null,null,null,{"$f":"IF(L368=\"\",\"\",VLOOKUP(L368,referentes!$G$2:$N$15,2,FALSE))","v":""},null,null,"",null,null,""]
[null,{"$f":"IF(C369=\"\",\"\",IF(COUNTIF($C$3:C369, C369)>1, \"\", C369))","v":""},{"$f":"IF(G369=\"\",\"\",IF(F369=\"\",\"\",CONCATENATE(DIGITADOR!$M$1,G369,E369)))","v":""},"",{"$f":"IF(F369=\"\",\"\",VLOOKUP(F369,referentes!$Q$2:$T$300,3,FALSE))","v":""},null,null,null,null,null,{"$f":"IF(L369=\"\",\"\",VLOOKUP(L369,referentes!$G$2:$N$15,2,FALSE))","v":""},null,null,"",null,null,""]
[null,{"$f":"IF(C370=\"\",\"\",IF(COUNTIF($C$3:C370, C370)>1, \"\", C370))","v":""},{"$f":"IF(G370=\"\",\"\",IF(F370=\"\",\"\",CONCATENATE(DIGITADOR!$M$1,G370,E370)))","v":""},"",{"$f":"IF(F370=\"\",\"\",VLOOKUP(F370,referentes!$Q$2:$T$300,3,FALSE))","v":""},null,null,null,null,null,{"$f":"IF(L370=\"\",\"\",VLOOKUP(L370,referentes!$G$2:$N$15,2,FALSE))","v":""},null,null,"",null,null,""]
[null,{"$f":"IF(C371=\"\",\"\",IF(COUNTIF($C$3:C371, C371)>1, \"\", C371))","v":""},{"$f":"IF(G371=\"\",\"\",IF(F371=\"\",\"\",CONCATENATE(DIGITADOR!$M$1,G371,E371)))","v":""},"",{"$f":"IF(F371=\"\",\"\",VLOOKUP(F371,referentes!$Q$2:$T$300,3,FALSE))","v":""},null,null,null,null,null,{"$f":"IF(L371=\"\",\"\",VLOOKUP(L371,referentes!$G$2:$N$15,2,FALSE))","v":""},null,null,"",null,null,""]
[null,{"$f":"IF(C372=\"\",\"\",IF(COUNTIF($C$3:C372, C372)>1, \"\", C372))","v":""},{"$f":"IF(G372=\"\",\"\",IF(F372=\"\",\"\",CONCATENATE(DIGITADOR!$M$1,G372,E372)))","v":""},"",{"$f":"IF(F372=\"\",\"\",VLOOKUP(F372,referentes!$Q$2:$T$300,3,FALSE))","v":""},null,null,null,null,null,{"$f":"IF(L372=\"\",\"\",VLOOKUP(L372,referentes!$G$2:$N$15,2,FALSE))","v":""},null,null,"",null,null,""]
[null,{"$f":"IF(C373=\"\",\"\",IF(COUNTIF($C$3:C373, C373)>1, \"\", C373))","v":""},{"$f":"IF(G373=\"\",\"\",IF(F373=\"\",\"\",CONCATENATE(DIGITADOR!$M$1,G373,E373)))","v":""},"",{"$f":"IF(F373=\"\",\"\",VLOOKUP(F373,referentes!$Q$2:$T$300,3,FALSE))","v":""},null,null,null,null,null,{"$f":"IF(L373=\"\",\"\",VLOOKUP(L373,referentes!$G$2:$N$15,2,FALSE))","v":""},null,null,"",null,null,""]
[null,{"$f":"IF(C374=\"\",\"\",IF(COUNTIF($C$3:C374, C374)>1, \"\", C374))","v":""},{"$f":"IF(G374=\"\",\"\",IF(F374=\"\",\"\",CONCATENATE(DIGITADOR!$M$1,G374,E374)))","v":""},"",{"$f":"IF(F374=\"\",\"\",VLOOKUP(F374,referentes!$Q$2:$T$300,3,FALSE))","v":""},null,null,null,null,null,{"$f":"IF(L374=\"\",\"\",VLOOKUP(L374,referentes!$G$2:$N$15,2,FALSE))","v":""},null,null,"",null,null,""]
[null,{"$f":"IF(C375=\"\",\"\",IF(COUNTIF($C$3:C375, C375)>1, \"\", C375))","v":""},{"$f":"IF(G375=\"\",\"\",IF(F375=\"\",\"\",CONCATENATE(DIGITADOR!$M$1,G375,E375)))","v":""},"",{"$f":"IF(F375=\"\",\"\",VLOOKUP(F375,referentes!$Q$2:$T$300,3,FALSE))","v":""},null,null,null,null,null,{"$f":"IF(L375=\"\",\"\",VLOOKUP(L375,referentes!$G$2:$N$15,2,FALSE))","v":""},null,null,"",null,null,""]
[null,{"$f":"IF(C376=\"\",\"\",IF(COUNTIF($C$3:C376, C376)>1, \"\", C376))","v":""},{"$f":"IF(G376=\"\",\"\",IF(F376=\"\",\"\",CONCATENATE(DIGITADOR!$M$1,G376,E376)))","v":""},"",{"$f":"IF(F376=\"\",\"\",VLOOKUP(F376,referentes!$Q$2:$T$300,3,FALSE))","v":""},null,null,null,null,null,{"$f":"IF(L376=\"\",\"\",VLOOKUP(L376,referentes!$G$2:$N$15,2,FALSE))","v":""},null,null,"",null,null,""]
[null,{"$f":"IF(C377=\"\",\"\",IF(COUNTIF($C$3:C377, C377)>1, \"\", C377))","v":""},{"$f":"IF(G377=\"\",\"\",IF(F377=\"\",\"\",CONCATENATE(DIGITADOR!$M$1,G377,E377)))","v":""},"",{"$f":"IF(F377=\"\",\"\",VLOOKUP(F377,referentes!$Q$2:$T$300,3,FALSE))","v":""},null,null,null,null,null,{"$f":"IF(L377=\"\",\"\",VLOOKUP(L377,referentes!$G$2:$N$15,2,FALSE))","v":""},null,null,"",null,null,""]
[null,{"$f":"IF(C378=\"\",\"\",IF(COUNTIF($C$3:C378, C378)>1, \"\", C378))","v":""},{"$f":"IF(G378=\"\",\"\",IF(F378=\"\",\"\",CONCATENATE(DIGITADOR!$M$1,G378,E378)))","v":""},"",{"$f":"IF(F378=\"\",\"\",VLOOKUP(F378,referentes!$Q$2:$T$300,3,FALSE))","v":""},null,null,null,null,null,{"$f":"IF(L378=\"\",\"\",VLOOKUP(L378,referentes!$G$2:$N$15,2,FALSE))","v":""},null,null,"",null,null,""]
[null,{"$f":"IF(C379=\"\",\"\",IF(COUNTIF($C$3:C379, C379)>1, \"\", C379))","v":""},{"$f":"IF(G379=\"\",\"\",IF(F379=\"\",\"\",CONCATENATE(DIGITADOR!$M$1,G379,E379)))","v":""},"",{"$f":"IF(F379=\"\",\"\",VLOOKUP(F379,referentes!$Q$2:$T$300,3,FALSE))","v":""},null,null,null,null,null,{"$f":"IF(L379=\"\",\"\",VLOOKUP(L379,referentes!$G$2:$N$15,2,FALSE))","v":""},null,null,"",null,null,""]
[null,{"$f":"IF(C380=\"\",\"\",IF(COUNTIF($C$3:C380, C380)>1, \"\", C380))","v":""},{"$f":"IF(G380=\"\",\"\",IF(F380=\"\",\"\",CONCATENATE(DIGITADOR!$M$1,G380,E380)))","v":""},"",{"$f":"IF(F380=\"\",\"\",VLOOKUP(F380,referentes!$Q$2:$T$300,3,FALSE))","v":""},null,null,null,null,null,{"$f":"IF(L380=\"\",\"\",VLOOKUP(L380,referentes!$G$2:$N$15,2,FALSE))","v":""},null,null,"",null,null,""]
[null,{"$f":"IF(C381=\"\",\"\",IF(COUNTIF($C$3:C381, C381)>1, \"\", C381))","v":""},{"$f":"IF(G381=\"\",\"\",IF(F381=\"\",\"\",CONCATENATE(DIGITADOR!$M$1,G381,E381)))","v":""},"",{"$f":"IF(F381=\"\",\"\",VLOOKUP(F381,referentes!$Q$2:$T$300,3,FALSE))","v":""},null,null,null,null,null,{"$f":"IF(L381=\"\",\"\",VLOOKUP(L381,referentes!$G$2:$N$15,2,FALSE))","v":""},null,null,"",null,null,""]
[null,{"$f":"IF(C382=\"\",\"\",IF(COUNTIF($C$3:C382, C382)>1, \"\", C382))","v":""},{"$f":"IF(G382=\"\",\"\",IF(F382=\"\",\"\",CONCATENATE(DIGITADOR!$M$1,G382,E382)))","v":""},"",{"$f":"IF(F382=\"\",\"\",VLOOKUP(F382,referentes!$Q$2:$T$300,3,FALSE))","v":""},null,null,null,null,null,{"$f":"IF(L382=\"\",\"\",VLOOKUP(L382,referentes!$G$2:$N$15,2,FALSE))","v":""},null,null,"",null,null,""]
[null,{"$f":"IF(C383=\"\",\"\",IF(COUNTIF($C$3:C383, C383)>1, \"\", C383))","v":""},{"$f":"IF(G383=\"\",\"\",IF(F383=\"\",\"\",CONCATENATE(DIGITADOR!$M$1,G383,E383)))","v":""},"",{"$f":"IF(F383=\"\",\"\",VLOOKUP(F383,referentes!$Q$2:$T$300,3,FALSE))","v":""},null,null,null,null,null,{"$f":"IF(L383=\"\",\"\",VLOOKUP(L383,referentes!$G$2:$N$15,2,FALSE))","v":""},null,null,"",null,null,""]
[null,{"$f":"IF(C384=\"\",\"\",IF(COUNTIF($C$3:C384, C384)>1, \"\", C384))","v":""},{"$f":"IF(G384=\"\",\"\",IF(F384=\"\",\"\",CONCATENATE(DIGITADOR!$M$1,G384,E384)))","v":""},"",{"$f":"IF(F384=\"\",\"\",VLOOKUP(F384,referentes!$Q$2:$T$300,3,FALSE))","v":""},null,null,null,null,null,{"$f":"IF(L384=\"\",\"\",VLOOKUP(L384,referentes!$G$2:$N$15,2,FALSE))","v":""},null,null,"",null,null,""]
[null,{"$f":"IF(C385=\"\",\"\",IF(COUNTIF($C$3:C385, C385)>1, \"\", C385))","v":""},{"$f":"IF(G385=\"\",\"\",IF(F385=\"\",\"\",CONCATENATE(DIGITADOR!$M$1,G385,E385)))","v":""},"",{"$f":"IF(F385=\"\",\"\",VLOOKUP(F385,referentes!$Q$2:$T$300,3,FALSE))","v":""},null,null,null,null,null,{"$f":"IF(L385=\"\",\"\",VLOOKUP(L385,referentes!$G$2:$N$15,2,FALSE))","v":""},null,null,"",null,null,""]
[null,{"$f":"IF(C386=\"\",\"\",IF(COUNTIF($C$3:C386, C386)>1, \"\", C386))","v":""},{"$f":"IF(G386=\"\",\"\",IF(F386=\"\",\"\",CONCATENATE(DIGITADOR!$M$1,G386,E386)))","v":""},"",{"$f":"IF(F386=\"\",\"\",VLOOKUP(F386,referentes!$Q$2:$T$300,3,FALSE))","v":""},null,null,null,null,null,{"$f":"IF(L386=\"\",\"\",VLOOKUP(L386,referentes!$G$2:$N$15,2,FALSE))","v":""},null,null,"",null,null,""]
[null,{"$f":"IF(C387=\"\",\"\",IF(COUNTIF($C$3:C387, C387)>1, \"\", C387))","v":""},{"$f":"IF(G387=\"\",\"\",IF(F387=\"\",\"\",CONCATENATE(DIGITADOR!$M$1,G387,E387)))","v":""},"",{"$f":"IF(F387=\"\",\"\",VLOOKUP(F387,referentes!$Q$2:$T$300,3,FALSE))","v":""},null,null,null,null,null,{"$f":"IF(L387=\"\",\"\",VLOOKUP(L387,referentes!$G$2:$N$15,2,FALSE))","v":""},null,null,"",null,null,""]
[null,{"$f":"IF(C388=\"\",\"\",IF(COUNTIF($C$3:C388, C388)>1, \"\", C388))","v":""},{"$f":"IF(G388=\"\",\"\",IF(F388=\"\",\"\",CONCATENATE(DIGITADOR!$M$1,G388,E388)))","v":""},{"$f":"IF(C388=\"\",\"\",CONCATENATE(C388,ROW()-2))","v":""},{"$f":"IF(F388=\"\",\"\",VLOOKUP(F388,referentes!$Q$2:$T$300,3,FALSE))","v":""},null,null,null,null,null,{"$f":"IF(L388=\"\",\"\",VLOOKUP(L388,referentes!$G$2:$N$15,2,FALSE))","v":""},null,null,{"$f":"IF(M388=\"\",\"\",M388/PI())","v":""},null,null,{"$f":"IF(N388=\"\",\"\",((PI())*((N388/100)^2))/4*10000/500)","v":""}]
[null,{"$f":"IF(C389=\"\",\"\",IF(COUNTIF($C$3:C389, C389)>1, \"\", C389))","v":""},{"$f":"IF(G389=\"\",\"\",IF(F389=\"\",\"\",CONCATENATE(DIGITADOR!$M$1,G389,E389)))","v":""},"",{"$f":"IF(F389=\"\",\"\",VLOOKUP(F389,referentes!$Q$2:$T$300,3,FALSE))","v":""},null,null,null,null,null,{"$f":"IF(L389=\"\",\"\",VLOOKUP(L389,referentes!$G$2:$N$15,2,FALSE))","v":""},null,null,"",null,null,""]
[null,{"$f":"IF(C390=\"\",\"\",IF(COUNTIF($C$3:C390, C390)>1, \"\", C390))","v":""},{"$f":"IF(G390=\"\",\"\",IF(F390=\"\",\"\",CONCATENATE(DIGITADOR!$M$1,G390,E390)))","v":""},"",{"$f":"IF(F390=\"\",\"\",VLOOKUP(F390,referentes!$Q$2:$T$300,3,FALSE))","v":""},null,null,null,null,null,{"$f":"IF(L390=\"\",\"\",VLOOKUP(L390,referentes!$G$2:$N$15,2,FALSE))","v":""},null,null,"",null,null,""]
[null,{"$f":"IF(C391=\"\",\"\",IF(COUNTIF($C$3:C391, C391)>1, \"\", C391))","v":""},{"$f":"IF(G391=\"\",\"\",IF(F391=\"\",\"\",CONCATENATE(DIGITADOR!$M$1,G391,E391)))","v":""},"",{"$f":"IF(F391=\"\",\"\",VLOOKUP(F391,referentes!$Q$2:$T$300,3,FALSE))","v":""},null,null,null,null,null,{"$f":"IF(L391=\"\",\"\",VLOOKUP(L391,referentes!$G$2:$N$15,2,FALSE))","v":""},null,null,"",null,null,""]
[null,{"$f":"IF(C392=\"\",\"\",IF(COUNTIF($C$3:C392, C392)>1, \"\", C392))","v":""},{"$f":"IF(G392=\"\",\"\",IF(F392=\"\",\"\",CONCATENATE(DIGITADOR!$M$1,G392,E392)))","v":""},"",{"$f":"IF(F392=\"\",\"\",VLOOKUP(F392,referentes!$Q$2:$T$300,3,FALSE))","v":""},null,null,null,null,null,{"$f":"IF(L392=\"\",\"\",VLOOKUP(L392,referentes!$G$2:$N$15,2,FALSE))","v":""},null,null,"",null,null,""]
[null,{"$f":"IF(C393=\"\",\"\",IF(COUNTIF($C$3:C393, C393)>1, \"\", C393))","v":""},{"$f":"IF(G393=\"\",\"\",IF(F393=\"\",\"\",CONCATENATE(DIGITADOR!$M$1,G393,E393)))","v":""},"",{"$f":"IF(F393=\"\",\"\",VLOOKUP(F393,referentes!$Q$2:$T$300,3,FALSE))","v":""},null,null,null,null,null,{"$f":"IF(L393=\"\",\"\",VLOOKUP(L393,referentes!$G$2:$N$15,2,FALSE))","v":""},null,null,"",null,null,""]
[null,{"$f":"IF(C394=\"\",\"\",IF(COUNTIF($C$3:C394, C394)>1, \"\", C394))","v":""},{"$f":"IF(G394=\"\",\"\",IF(F394=\"\",\"\",CONCATENATE(DIGITADOR!$M$1,G394,E394)))","v":""},"",{"$f":"IF(F394=\"\",\"\",VLOOKUP(F394,referentes!$Q$2:$T$300,3,FALSE))","v":""},null,null,null,null,null,{"$f":"IF(L394=\"\",\"\",VLOOKUP(L394,referentes!$G$2:$N$15,2,FALSE))","v":""},null,null,"",null,null,""]
[null,{"$f":"IF(C395=\"\",\"\",IF(COUNTIF($C$3:C395, C395)>1, \"\", C395))","v":""},{"$f":"IF(G395=\"\",\"\",IF(F395=\"\",\"\",CONCATENATE(DIGITADOR!$M$1,G395,E395)))","v":""},"",{"$f":"IF(F395=\"\",\"\",VLOOKUP(F395,referentes!$Q$2:$T$300,3,FALSE))","v":""},null,null,null,null,null,{"$f":"IF(L395=\"\",\"\",VLOOKUP(L395,referentes!$G$2:$N$15,2,FALSE))","v":""},null,null,"",null,null,""]
[null,{"$f":"IF(C396=\"\",\"\",IF(COUNTIF($C$3:C396, C396)>1, \"\", C396))","v":""},{"$f":"IF(G396=\"\",\"\",IF(F396=\"\",\"\",CONCATENATE(DIGITADOR!$M$1,G396,E396)))","v":""},"",{"$f":"IF(F396=\"\",\"\",VLOOKUP(F396,referentes!$Q$2:$T$300,3,FALSE))","v":""},null,null,null,null,null,{"$f":"IF(L396=\"\",\"\",VLOOKUP(L396,referentes!$G$2:$N$15,2,FALSE))","v":""},null,null,"",null,null,""]
[null,{"$f":"IF(C397=\"\",\"\",IF(COUNTIF($C$3:C397, C397)>1, \"\", C397))","v":""},{"$f":"IF(G397=\"\",\"\",IF(F397=\"\",\"\",CONCATENATE(DIGITADOR!$M$1,G397,E397)))","v":""},"",{"$f":"IF(F397=\"\",\"\",VLOOKUP(F397,referentes!$Q$2:$T$300,3,FALSE))","v":""},null,null,null,null,null,{"$f":"IF(L397=\"\",\"\",VLOOKUP(L397,referentes!$G$2:$N$15,2,FALSE))","v":""},null,null,"",null,null,""]
[null,{"$f":"IF(C398=\"\",\"\",IF(COUNTIF($C$3:C398, C398)>1, \"\", C398))","v":""},{"$f":"IF(G398=\"\",\"\",IF(F398=\"\",\"\",CONCATENATE(DIGITADOR!$M$1,G398,E398)))","v":""},"",{"$f":"IF(F398=\"\",\"\",VLOOKUP(F398,referentes!$Q$2:$T$300,3,FALSE))","v":""},null,null,null,null,null,{"$f":"IF(L398=\"\",\"\",VLOOKUP(L398,referentes!$G$2:$N$15,2,FALSE))","v":""},null,null,"",null,null,""]
[null,{"$f":"IF(C399=\"\",\"\",IF(COUNTIF($C$3:C399, C399)>1, \"\", C399))","v":""},{"$f":"IF(G399=\"\",\"\",IF(F399=\"\",\"\",CONCATENATE(DIGITADOR!$M$1,G399,E399)))","v":""},"",{"$f":"IF(F399=\"\",\"\",VLOOKUP(F399,referentes!$Q$2:$T$300,3,FALSE))","v":""},null,null,null,null,null,{"$f":"IF(L399=\"\",\"\",VLOOKUP(L399,referentes!$G$2:$N$15,2,FALSE))","v":""},null,null,"",null,null,""]
[null,{"$f":"IF(C400=\"\",\"\",IF(COUNTIF($C$3:C400, C400)>1, \"\", C400))","v":""},{"$f":"IF(G400=\"\",\"\",IF(F400=\"\",\"\",CONCATENATE(DIGITADOR!$M$1,G400,E400)))","v":""},"",{"$f":"IF(F400=\"\",\"\",VLOOKUP(F400,referentes!$Q$2:$T$300,3,FALSE))","v":""},null,null,null,null,null,{"$f":"IF(L400=\"\",\"\",VLOOKUP(L400,referentes!$G$2:$N$15,2,FALSE))","v":""},null,null,"",null,null,""]
[null,{"$f":"IF(C401=\"\",\"\",IF(COUNTIF($C$3:C401, C401)>1, \"\", C401))","v":""},{"$f":"IF(G401=\"\",\"\",IF(F401=\"\",\"\",CONCATENATE(DIGITADOR!$M$1,G401,E401)))","v":""},"",{"$f":"IF(F401=\"\",\"\",VLOOKUP(F401,referentes!$Q$2:$T$300,3,FALSE))","v":""},null,null,null,null,null,{"$f":"IF(L401=\"\",\"\",VLOOKUP(L401,referentes!$G$2:$N$15,2,FALSE))","v":""},null,null,"",null,null,""]
[null,{"$f":"IF(C402=\"\",\"\",IF(COUNTIF($C$3:C402, C402)>1, \"\", C402))","v":""},{"$f":"IF(G402=\"\",\"\",IF(F402=\"\",\"\",CONCATENATE(DIGITADOR!$M$1,G402,E402)))","v":""},"",{"$f":"IF(F402=\"\",\"\",VLOOKUP(F402,referentes!$Q$2:$T$300,3,FALSE))","v":""},null,null,null,null,null,{"$f":"IF(L402=\"\",\"\",VLOOKUP(L402,referentes!$G$2:$N$15,2,FALSE))","v":""},null,null,"",null,null,""]
[null,{"$f":"IF(C403=\"\",\"\",IF(COUNTIF($C$3:C403, C403)>1, \"\", C403))","v":""},{"$f":"IF(G403=\"\",\"\",IF(F403=\"\",\"\",CONCATENATE(DIGITADOR!$M$1,G403,E403)))","v":""},"",{"$f":"IF(F403=\"\",\"\",VLOOKUP(F403,referentes!$Q$2:$T$300,3,FALSE))","v":""},null,null,null,null,null,{"$f":"IF(L403=\"\",\"\",VLOOKUP(L403,referentes!$G$2:$N$15,2,FALSE))","v":""},null,null,"",null,null,""]
[null,{"$f":"IF(C404=\"\",\"\",IF(COUNTIF($C$3:C404, C404)>1, \"\", C404))","v":""},{"$f":"IF(G404=\"\",\"\",IF(F404=\"\",\"\",CONCATENATE(DIGITADOR!$M$1,G404,E404)))","v":""},"",{"$f":"IF(F404=\"\",\"\",VLOOKUP(F404,referentes!$Q$2:$T$300,3,FALSE))","v":""},null,null,null,null,null,{"$f":"IF(L404=\"\",\"\",VLOOKUP(L404,referentes!$G$2:$N$15,2,FALSE))","v":""},null,null,"",null,null,""]
[null,{"$f":"IF(C405=\"\",\"\",IF(COUNTIF($C$3:C405, C405)>1, \"\", C405))","v":""},{"$f":"IF(G405=\"\",\"\",IF(F405=\"\",\"\",CONCATENATE(DIGITADOR!$M$1,G405,E405)))","v":""},"",{"$f":"IF(F405=\"\",\"\",VLOOKUP(F405,referentes!$Q$2:$T$300,3,FALSE))","v":""},null,null,null,null,null,{"$f":"IF(L405=\"\",\"\",VLOOKUP(L405,referentes!$G$2:$N$15,2,FALSE))","v":""},null,null,"",null,null,""]
[null,{"$f":"IF(C406=\"\",\"\",IF(COUNTIF($C$3:C406, C406)>1, \"\", C406))","v":""},{"$f":"IF(G406=\"\",\"\",IF(F406=\"\",\"\",CONCATENATE(DIGITADOR!$M$1,G406,E406)))","v":""},"",{"$f":"IF(F406=\"\",\"\",VLOOKUP(F406,referentes!$Q$2:$T$300,3,FALSE))","v":""},null,null,null,null,null,{"$f":"IF(L406=\"\",\"\",VLOOKUP(L406,referentes!$G$2:$N$15,2,FALSE))","v":""},null,null,"",null,null,""]
[null,{"$f":"IF(C407=\"\",\"\",IF(COUNTIF($C$3:C407, C407)>1, \"\", C407))","v":""},{"$f":"IF(G407=\"\",\"\",IF(F407=\"\",\"\",CONCATENATE(DIGITADOR!$M$1,G407,E407)))","v":""},"",{"$f":"IF(F407=\"\",\"\",VLOOKUP(F407,referentes!$Q$2:$T$300,3,FALSE))","v":""},null,null,null,null,null,{"$f":"IF(L407=\"\",\"\",VLOOKUP(L407,referentes!$G$2:$N$15,2,FALSE))","v":""},null,null,"",null,null,""]
[null,{"$f":"IF(C408=\"\",\"\",IF(COUNTIF($C$3:C408, C408)>1, \"\", C408))","v":""},{"$f":"IF(G408=\"\",\"\",IF(F408=\"\",\"\",CONCATENATE(DIGITADOR!$M$1,G408,E408)))","v":""},"",{"$f":"IF(F408=\"\",\"\",VLOOKUP(F408,referentes!$Q$2:$T$300,3,FALSE))","v":""},null,null,null,null,null,{"$f":"IF(L408=\"\",\"\",VLOOKUP(L408,referentes!$G$2:$N$15,2,FALSE))","v":""},null,null,"",null,null,""]
[null,{"$f":"IF(C409=\"\",\"\",IF(COUNTIF($C$3:C409, C409)>1, \"\", C409))","v":""},{"$f":"IF(G409=\"\",\"\",IF(F409=\"\",\"\",CONCATENATE(DIGITADOR!$M$1,G409,E409)))","v":""},"",{"$f":"IF(F409=\"\",\"\",VLOOKUP(F409,referentes!$Q$2:$T$300,3,FALSE))","v":""},null,null,null,null,null,{"$f":"IF(L409=\"\",\"\",VLOOKUP(L409,referentes!$G$2:$N$15,2,FALSE))","v":""},null,null,"",null,null,""]
[null,{"$f":"IF(C410=\"\",\"\",IF(COUNTIF($C$3:C410, C410)>1, \"\", C410))","v":""},{"$f":"IF(G410=\"\",\"\",IF(F410=\"\",\"\",CONCATENATE(DIGITADOR!$M$1,G410,E410)))","v":""},"",{"$f":"IF(F410=\"\",\"\",VLOOKUP(F410,referentes!$Q$2:$T$300,3,FALSE))","v":""},null,null,null,null,null,{"$f":"IF(L410=\"\",\"\",VLOOKUP(L410,referentes!$G$2:$N$15,2,FALSE))","v":""},null,null,"",null,null,""]
[null,{"$f":"IF(C411=\"\",\"\",IF(COUNTIF($C$3:C411, C411)>1, \"\", C411))","v":""},{"$f":"IF(G411=\"\",\"\",IF(F411=\"\",\"\",CONCATENATE(DIGITADOR!$M$1,G411,E411)))","v":""},"",{"$f":"IF(F411=\"\",\"\",VLOOKUP(F411,referentes!$Q$2:$T$300,3,FALSE))","v":""},null,null,null,null,null,{"$f":"IF(L411=\"\",\"\",VLOOKUP(L411,referentes!$G$2:$N$15,2,FALSE))","v":""},null,null,"",null,null,""]
[null,{"$f":"IF(C412=\"\",\"\",IF(COUNTIF($C$3:C412, C412)>1, \"\", C412))","v":""},{"$f":"IF(G412=\"\",\"\",IF(F412=\"\",\"\",CONCATENATE(DIGITADOR!$M$1,G412,E412)))","v":""},"",{"$f":"IF(F412=\"\",\"\",VLOOKUP(F412,referentes!$Q$2:$T$300,3,FALSE))","v":""},null,null,null,null,null,{"$f":"IF(L412=\"\",\"\",VLOOKUP(L412,referentes!$G$2:$N$15,2,FALSE))","v":""},null,null,"",null,null,""]
[null,{"$f":"IF(C413=\"\",\"\",IF(COUNTIF($C$3:C413, C413)>1, \"\", C413))","v":""},{"$f":"IF(G413=\"\",\"\",IF(F413=\"\",\"\",CONCATENATE(DIGITADOR!$M$1,G413,E413)))","v":""},"",{"$f":"IF(F413=\"\",\"\",VLOOKUP(F413,referentes!$Q$2:$T$300,3,FALSE))","v":""},null,null,null,null,null,{"$f":"IF(L413=\"\",\"\",VLOOKUP(L413,referentes!$G$2:$N$15,2,FALSE))","v":""},null,null,"",null,null,""]
[null,{"$f":"IF(C414=\"\",\"\",IF(COUNTIF($C$3:C414, C414)>1, \"\", C414))","v":""},{"$f":"IF(G414=\"\",\"\",IF(F414=\"\",\"\",CONCATENATE(DIGITADOR!$M$1,G414,E414)))","v":""},"",{"$f":"IF(F414=\"\",\"\",VLOOKUP(F414,referentes!$Q$2:$T$300,3,FALSE))","v":""},null,null,null,null,null,{"$f":"IF(L414=\"\",\"\",VLOOKUP(L414,referentes!$G$2:$N$15,2,FALSE))","v":""},null,null,"",null,null,""]
[null,{"$f":"IF(C415=\"\",\"\",IF(COUNTIF($C$3:C415, C415)>1, \"\", C415))","v":""},{"$f":"IF(G415=\"\",\"\",IF(F415=\"\",\"\",CONCATENATE(DIGITADOR!$M$1,G415,E415)))","v":""},"",{"$f":"IF(F415=\"\",\"\",VLOOKUP(F415,referentes!$Q$2:$T$300,3,FALSE))","v":""},null,null,null,null,null,{"$f":"IF(L415=\"\",\"\",VLOOKUP(L415,referentes!$G$2:$N$15,2,FALSE))","v":""},null,null,"",null,null,""]
[null,{"$f":"IF(C416=\"\",\"\",IF(COUNTIF($C$3:C416, C416)>1, \"\", C416))","v":""},{"$f":"IF(G416=\"\",\"\",IF(F416=\"\",\"\",CONCATENATE(DIGITADOR!$M$1,G416,E416)))","v":""},"",{"$f":"IF(F416=\"\",\"\",VLOOKUP(F416,referentes!$Q$2:$T$300,3,FALSE))","v":""},null,null,null,null,null,{"$f":"IF(L416=\"\",\"\",VLOOKUP(L416,referentes!$G$2:$N$15,2,FALSE))","v":""},null,null,"",null,null,""]
[null,{"$f":"IF(C417=\"\",\"\",IF(COUNTIF($C$3:C417, C417)>1, \"\", C417))","v":""},{"$f":"IF(G417=\"\",\"\",IF(F417=\"\",\"\",CONCATENATE(DIGITADOR!$M$1,G417,E417)))","v":""},"",{"$f":"IF(F417=\"\",\"\",VLOOKUP(F417,referentes!$Q$2:$T$300,3,FALSE))","v":""},null,null,null,null,null,{"$f":"IF(L417=\"\",\"\",VLOOKUP(L417,referentes!$G$2:$N$15,2,FALSE))","v":""},null,null,"",null,null,""]
[null,{"$f":"IF(C418=\"\",\"\",IF(COUNTIF($C$3:C418, C418)>1, \"\", C418))","v":""},{"$f":"IF(G418=\"\",\"\",IF(F418=\"\",\"\",CONCATENATE(DIGITADOR!$M$1,G418,E418)))","v":""},"",{"$f":"IF(F418=\"\",\"\",VLOOKUP(F418,referentes!$Q$2:$T$300,3,FALSE))","v":""},null,null,null,null,null,{"$f":"IF(L418=\"\",\"\",VLOOKUP(L418,referentes!$G$2:$N$15,2,FALSE))","v":""},null,null,"",null,null,""]
[null,{"$f":"IF(C419=\"\",\"\",IF(COUNTIF($C$3:C419, C419)>1, \"\", C419))","v":""},{"$f":"IF(G419=\"\",\"\",IF(F419=\"\",\"\",CONCATENATE(DIGITADOR!$M$1,G419,E419)))","v":""},"",{"$f":"IF(F419=\"\",\"\",VLOOKUP(F419,referentes!$Q$2:$T$300,3,FALSE))","v":""},null,null,null,null,null,{"$f":"IF(L419=\"\",\"\",VLOOKUP(L419,referentes!$G$2:$N$15,2,FALSE))","v":""},null,null,"",null,null,""]
[null,{"$f":"IF(C420=\"\",\"\",IF(COUNTIF($C$3:C420, C420)>1, \"\", C420))","v":""},{"$f":"IF(G420=\"\",\"\",IF(F420=\"\",\"\",CONCATENATE(DIGITADOR!$M$1,G420,E420)))","v":""},"",{"$f":"IF(F420=\"\",\"\",VLOOKUP(F420,referentes!$Q$2:$T$300,3,FALSE))","v":""},null,null,null,null,null,{"$f":"IF(L420=\"\",\"\",VLOOKUP(L420,referentes!$G$2:$N$15,2,FALSE))","v":""},null,null,"",null,null,""]
[null,{"$f":"IF(C421=\"\",\"\",IF(COUNTIF($C$3:C421, C421)>1, \"\", C421))","v":""},{"$f":"IF(G421=\"\",\"\",IF(F421=\"\",\"\",CONCATENATE(DIGITADOR!$M$1,G421,E421)))","v":""},"",{"$f":"IF(F421=\"\",\"\",VLOOKUP(F421,referentes!$Q$2:$T$300,3,FALSE))","v":""},null,null,null,null,null,{"$f":"IF(L421=\"\",\"\",VLOOKUP(L421,referentes!$G$2:$N$15,2,FALSE))","v":""},null,null,"",null,null,""]
[null,{"$f":"IF(C422=\"\",\"\",IF(COUNTIF($C$3:C422, C422)>1, \"\", C422))","v":""},{"$f":"IF(G422=\"\",\"\",IF(F422=\"\",\"\",CONCATENATE(DIGITADOR!$M$1,G422,E422)))","v":""},"",{"$f":"IF(F422=\"\",\"\",VLOOKUP(F422,referentes!$Q$2:$T$300,3,FALSE))","v":""},null,null,null,null,null,{"$f":"IF(L422=\"\",\"\",VLOOKUP(L422,referentes!$G$2:$N$15,2,FALSE))","v":""},null,null,"",null,null,""]
[null,{"$f":"IF(C423=\"\",\"\",IF(COUNTIF($C$3:C423, C423)>1, \"\", C423))","v":""},{"$f":"IF(G423=\"\",\"\",IF(F423=\"\",\"\",CONCATENATE(DIGITADOR!$M$1,G423,E423)))","v":""},"",{"$f":"IF(F423=\"\",\"\",VLOOKUP(F423,referentes!$Q$2:$T$300,3,FALSE))","v":""},null,null,null,null,null,{"$f":"IF(L423=\"\",\"\",VLOOKUP(L423,referentes!$G$2:$N$15,2,FALSE))","v":""},null,null,"",null,null,""]
[null,{"$f":"IF(C424=\"\",\"\",IF(COUNTIF($C$3:C424, C424)>1, \"\", C424))","v":""},{"$f":"IF(G424=\"\",\"\",IF(F424=\"\",\"\",CONCATENATE(DIGITADOR!$M$1,G424,E424)))","v":""},"",{"$f":"IF(F424=\"\",\"\",VLOOKUP(F424,referentes!$Q$2:$T$300,3,FALSE))","v":""},null,null,null,null,null,{"$f":"IF(L424=\"\",\"\",VLOOKUP(L424,referentes!$G$2:$N$15,2,FALSE))","v":""},null,null,"",null,null,""]
[null,{"$f":"IF(C425=\"\",\"\",IF(COUNTIF($C$3:C425, C425)>1, \"\", C425))","v":""},{"$f":"IF(G425=\"\",\"\",IF(F425=\"\",\"\",CONCATENATE(DIGITADOR!$M$1,G425,E425)))","v":""},"",{"$f":"IF(F425=\"\",\"\",VLOOKUP(F425,referentes!$Q$2:$T$300,3,FALSE))","v":""},null,null,null,null,null,{"$f":"IF(L425=\"\",\"\",VLOOKUP(L425,referentes!$G$2:$N$15,2,FALSE))","v":""},null,null,"",null,null,""]
[null,{"$f":"IF(C426=\"\",\"\",IF(COUNTIF($C$3:C426, C426)>1, \"\", C426))","v":""},{"$f":"IF(G426=\"\",\"\",IF(F426=\"\",\"\",CONCATENATE(DIGITADOR!$M$1,G426,E426)))","v":""},"",{"$f":"IF(F426=\"\",\"\",VLOOKUP(F426,referentes!$Q$2:$T$300,3,FALSE))","v":""},null,null,null,null,null,{"$f":"IF(L426=\"\",\"\",VLOOKUP(L426,referentes!$G$2:$N$15,2,FALSE))","v":""},null,null,"",null,null,""]
[null,{"$f":"IF(C427=\"\",\"\",IF(COUNTIF($C$3:C427, C427)>1, \"\", C427))","v":""},{"$f":"IF(G427=\"\",\"\",IF(F427=\"\",\"\",CONCATENATE(DIGITADOR!$M$1,G427,E427)))","v":""},"",{"$f":"IF(F427=\"\",\"\",VLOOKUP(F427,referentes!$Q$2:$T$300,3,FALSE))","v":""},null,null,null,null,null,{"$f":"IF(L427=\"\",\"\",VLOOKUP(L427,referentes!$G$2:$N$15,2,FALSE))","v":""},null,null,"",null,null,""]
[null,{"$f":"IF(C428=\"\",\"\",IF(COUNTIF($C$3:C428, C428)>1, \"\", C428))","v":""},{"$f":"IF(G428=\"\",\"\",IF(F428=\"\",\"\",CONCATENATE(DIGITADOR!$M$1,G428,E428)))","v":""},"",{"$f":"IF(F428=\"\",\"\",VLOOKUP(F428,referentes!$Q$2:$T$300,3,FALSE))","v":""},null,null,null,null,null,{"$f":"IF(L428=\"\",\"\",VLOOKUP(L428,referentes!$G$2:$N$15,2,FALSE))","v":""},null,null,"",null,null,""]
[null,{"$f":"IF(C429=\"\",\"\",IF(COUNTIF($C$3:C429, C429)>1, \"\", C429))","v":""},{"$f":"IF(G429=\"\",\"\",IF(F429=\"\",\"\",CONCATENATE(DIGITADOR!$M$1,G429,E429)))","v":""},"",{"$f":"IF(F429=\"\",\"\",VLOOKUP(F429,referentes!$Q$2:$T$300,3,FALSE))","v":""},null,null,null,null,null,{"$f":"IF(L429=\"\",\"\",VLOOKUP(L429,referentes!$G$2:$N$15,2,FALSE))","v":""},null,null,"",null,null,""]
[null,{"$f":"IF(C430=\"\",\"\",IF(COUNTIF($C$3:C430, C430)>1, \"\", C430))","v":""},{"$f":"IF(G430=\"\",\"\",IF(F430=\"\",\"\",CONCATENATE(DIGITADOR!$M$1,G430,E430)))","v":""},"",{"$f":"IF(F430=\"\",\"\",VLOOKUP(F430,referentes!$Q$2:$T$300,3,FALSE))","v":""},null,null,null,null,null,{"$f":"IF(L430=\"\",\"\",VLOOKUP(L430,referentes!$G$2:$N$15,2,FALSE))","v":""},null,null,"",null,null,""]
[null,{"$f":"IF(C431=\"\",\"\",IF(COUNTIF($C$3:C431, C431)>1, \"\", C431))","v":""},{"$f":"IF(G431=\"\",\"\",IF(F431=\"\",\"\",CONCATENATE(DIGITADOR!$M$1,G431,E431)))","v":""},"",{"$f":"IF(F431=\"\",\"\",VLOOKUP(F431,referentes!$Q$2:$T$300,3,FALSE))","v":""},null,null,null,null,null,{"$f":"IF(L431=\"\",\"\",VLOOKUP(L431,referentes!$G$2:$N$15,2,FALSE))","v":""},null,null,"",null,null,""]
[null,{"$f":"IF(C432=\"\",\"\",IF(COUNTIF($C$3:C432, C432)>1, \"\", C432))","v":""},{"$f":"IF(G432=\"\",\"\",IF(F432=\"\",\"\",CONCATENATE(DIGITADOR!$M$1,G432,E432)))","v":""},"",{"$f":"IF(F432=\"\",\"\",VLOOKUP(F432,referentes!$Q$2:$T$300,3,FALSE))","v":""},null,null,null,null,null,{"$f":"IF(L432=\"\",\"\",VLOOKUP(L432,referentes!$G$2:$N$15,2,FALSE))","v":""},null,null,"",null,null,""]
[null,{"$f":"IF(C433=\"\",\"\",IF(COUNTIF($C$3:C433, C433)>1, \"\", C433))","v":""},{"$f":"IF(G433=\"\",\"\",IF(F433=\"\",\"\",CONCATENATE(DIGITADOR!$M$1,G433,E433)))","v":""},"",{"$f":"IF(F433=\"\",\"\",VLOOKUP(F433,referentes!$Q$2:$T$300,3,FALSE))","v":""},null,null,null,null,null,{"$f":"IF(L433=\"\",\"\",VLOOKUP(L433,referentes!$G$2:$N$15,2,FALSE))","v":""},null,null,"",null,null,""]
[null,{"$f":"IF(C434=\"\",\"\",IF(COUNTIF($C$3:C434, C434)>1, \"\", C434))","v":""},{"$f":"IF(G434=\"\",\"\",IF(F434=\"\",\"\",CONCATENATE(DIGITADOR!$M$1,G434,E434)))","v":""},"",{"$f":"IF(F434=\"\",\"\",VLOOKUP(F434,referentes!$Q$2:$T$300,3,FALSE))","v":""},null,null,null,null,null,{"$f":"IF(L434=\"\",\"\",VLOOKUP(L434,referentes!$G$2:$N$15,2,FALSE))","v":""},null,null,"",null,null,""]
[null,{"$f":"IF(C435=\"\",\"\",IF(COUNTIF($C$3:C435, C435)>1, \"\", C435))","v":""},{"$f":"IF(G435=\"\",\"\",IF(F435=\"\",\"\",CONCATENATE(DIGITADOR!$M$1,G435,E435)))","v":""},"",{"$f":"IF(F435=\"\",\"\",VLOOKUP(F435,referentes!$Q$2:$T$300,3,FALSE))","v":""},null,null,null,null,null,{"$f":"IF(L435=\"\",\"\",VLOOKUP(L435,referentes!$G$2:$N$15,2,FALSE))","v":""},null,null,"",null,null,""]
[null,{"$f":"IF(C436=\"\",\"\",IF(COUNTIF($C$3:C436, C436)>1, \"\", C436))","v":""},{"$f":"IF(G436=\"\",\"\",IF(F436=\"\",\"\",CONCATENATE(DIGITADOR!$M$1,G436,E436)))","v":""},"",{"$f":"IF(F436=\"\",\"\",VLOOKUP(F436,referentes!$Q$2:$T$300,3,FALSE))","v":""},null,null,null,null,null,{"$f":"IF(L436=\"\",\"\",VLOOKUP(L436,referentes!$G$2:$N$15,2,FALSE))","v":""},null,null,"",null,null,""]
[null,{"$f":"IF(C437=\"\",\"\",IF(COUNTIF($C$3:C437, C437)>1, \"\", C437))","v":""},{"$f":"IF(G437=\"\",\"\",IF(F437=\"\",\"\",CONCATENATE(DIGITADOR!$M$1,G437,E437)))","v":""},"",{"$f":"IF(F437=\"\",\"\",VLOOKUP(F437,referentes!$Q$2:$T$300,3,FALSE))","v":""},null,null,null,null,null,{"$f":"IF(L437=\"\",\"\",VLOOKUP(L437,referentes!$G$2:$N$15,2,FALSE))","v":""},null,null,"",null,null,""]
[null,{"$f":"IF(C438=\"\",\"\",IF(COUNTIF($C$3:C438, C438)>1, \"\", C438))","v":""},{"$f":"IF(G438=\"\",\"\",IF(F438=\"\",\"\",CONCATENATE(DIGITADOR!$M$1,G438,E438)))","v":""},"",{"$f":"IF(F438=\"\",\"\",VLOOKUP(F438,referentes!$Q$2:$T$300,3,FALSE))","v":""},null,null,null,null,null,{"$f":"IF(L438=\"\",\"\",VLOOKUP(L438,referentes!$G$2:$N$15,2,FALSE))","v":""},null,null,"",null,null,""]
[null,{"$f":"IF(C439=\"\",\"\",IF(COUNTIF($C$3:C439, C439)>1, \"\", C439))","v":""},{"$f":"IF(G439=\"\",\"\",IF(F439=\"\",\"\",CONCATENATE(DIGITADOR!$M$1,G439,E439)))","v":""},"",{"$f":"IF(F439=\"\",\"\",VLOOKUP(F439,referentes!$Q$2:$T$300,3,FALSE))","v":""},null,null,null,null,null,{"$f":"IF(L439=\"\",\"\",VLOOKUP(L439,referentes!$G$2:$N$15,2,FALSE))","v":""},null,null,"",null,null,""]
[null,{"$f":"IF(C440=\"\",\"\",IF(COUNTIF($C$3:C440, C440)>1, \"\", C440))","v":""},{"$f":"IF(G440=\"\",\"\",IF(F440=\"\",\"\",CONCATENATE(DIGITADOR!$M$1,G440,E440)))","v":""},"",{"$f":"IF(F440=\"\",\"\",VLOOKUP(F440,referentes!$Q$2:$T$300,3,FALSE))","v":""},null,null,null,null,null,{"$f":"IF(L440=\"\",\"\",VLOOKUP(L440,referentes!$G$2:$N$15,2,FALSE))","v":""},null,null,"",null,null,""]
[null,{"$f":"IF(C441=\"\",\"\",IF(COUNTIF($C$3:C441, C441)>1, \"\", C441))","v":""},{"$f":"IF(G441=\"\",\"\",IF(F441=\"\",\"\",CONCATENATE(DIGITADOR!$M$1,G441,E441)))","v":""},"",{"$f":"IF(F441=\"\",\"\",VLOOKUP(F441,referentes!$Q$2:$T$300,3,FALSE))","v":""},null,null,null,null,null,{"$f":"IF(L441=\"\",\"\",VLOOKUP(L441,referentes!$G$2:$N$15,2,FALSE))","v":""},null,null,"",null,null,""]
[null,{"$f":"IF(C442=\"\",\"\",IF(COUNTIF($C$3:C442, C442)>1, \"\", C442))","v":""},{"$f":"IF(G442=\"\",\"\",IF(F442=\"\",\"\",CONCATENATE(DIGITADOR!$M$1,G442,E442)))","v":""},"",{"$f":"IF(F442=\"\",\"\",VLOOKUP(F442,referentes!$Q$2:$T$300,3,FALSE))","v":""},null,null,null,null,null,{"$f":"IF(L442=\"\",\"\",VLOOKUP(L442,referentes!$G$2:$N$15,2,FALSE))","v":""},null,null,"",null,null,""]
[null,{"$f":"IF(C443=\"\",\"\",IF(COUNTIF($C$3:C443, C443)>1, \"\", C443))","v":""},{"$f":"IF(G443=\"\",\"\",IF(F443=\"\",\"\",CONCATENATE(DIGITADOR!$M$1,G443,E443)))","v":""},"",{"$f":"IF(F443=\"\",\"\",VLOOKUP(F443,referentes!$Q$2:$T$300,3,FALSE))","v":""},null,null,null,null,null,{"$f":"IF(L443=\"\",\"\",VLOOKUP(L443,referentes!$G$2:$N$15,2,FALSE))","v":""},null,null,"",null,null,""]
[null,{"$f":"IF(C444=\"\",\"\",IF(COUNTIF($C$3:C444, C444)>1, \"\", C444))","v":""},{"$f":"IF(G444=\"\",\"\",IF(F444=\"\",\"\",CONCATENATE(DIGITADOR!$M$1,G444,E444)))","v":""},"",{"$f":"IF(F444=\"\",\"\",VLOOKUP(F444,referentes!$Q$2:$T$300,3,FALSE))","v":""},null,null,null,null,null,{"$f":"IF(L444=\"\",\"\",VLOOKUP(L444,referentes!$G$2:$N$15,2,FALSE))","v":""},null,null,"",null,null,""]
[null,{"$f":"IF(C445=\"\",\"\",IF(COUNTIF($C$3:C445, C445)>1, \"\", C445))","v":""},{"$f":"IF(G445=\"\",\"\",IF(F445=\"\",\"\",CONCATENATE(DIGITADOR!$M$1,G445,E445)))","v":""},"",{"$f":"IF(F445=\"\",\"\",VLOOKUP(F445,referentes!$Q$2:$T$300,3,FALSE))","v":""},null,null,null,null,null,{"$f":"IF(L445=\"\",\"\",VLOOKUP(L445,referentes!$G$2:$N$15,2,FALSE))","v":""},null,null,"",null,null,""]
[null,{"$f":"IF(C446=\"\",\"\",IF(COUNTIF($C$3:C446, C446)>1, \"\", C446))","v":""},{"$f":"IF(G446=\"\",\"\",IF(F446=\"\",\"\",CONCATENATE(DIGITADOR!$M$1,G446,E446)))","v":""},"",{"$f":"IF(F446=\"\",\"\",VLOOKUP(F446,referentes!$Q$2:$T$300,3,FALSE))","v":""},null,null,null,null,null,{"$f":"IF(L446=\"\",\"\",VLOOKUP(L446,referentes!$G$2:$N$15,2,FALSE))","v":""},null,null,"",null,null,""]
[null,{"$f":"IF(C447=\"\",\"\",IF(COUNTIF($C$3:C447, C447)>1, \"\", C447))","v":""},{"$f":"IF(G447=\"\",\"\",IF(F447=\"\",\"\",CONCATENATE(DIGITADOR!$M$1,G447,E447)))","v":""},"",{"$f":"IF(F447=\"\",\"\",VLOOKUP(F447,referentes!$Q$2:$T$300,3,FALSE))","v":""},null,null,null,null,null,{"$f":"IF(L447=\"\",\"\",VLOOKUP(L447,referentes!$G$2:$N$15,2,FALSE))","v":""},null,null,"",null,null,""]
[null,{"$f":"IF(C448=\"\",\"\",IF(COUNTIF($C$3:C448, C448)>1, \"\", C448))","v":""},{"$f":"IF(G448=\"\",\"\",IF(F448=\"\",\"\",CONCATENATE(DIGITADOR!$M$1,G448,E448)))","v":""},"",{"$f":"IF(F448=\"\",\"\",VLOOKUP(F448,referentes!$Q$2:$T$300,3,FALSE))","v":""},null,null,null,null,null,{"$f":"IF(L448=\"\",\"\",VLOOKUP(L448,referentes!$G$2:$N$15,2,FALSE))","v":""},null,null,"",null,null,""]
[null,{"$f":"IF(C449=\"\",\"\",IF(COUNTIF($C$3:C449, C449)>1, \"\", C449))","v":""},{"$f":"IF(G449=\"\",\"\",IF(F449=\"\",\"\",CONCATENATE(DIGITADOR!$M$1,G449,E449)))","v":""},"",{"$f":"IF(F449=\"\",\"\",VLOOKUP(F449,referentes!$Q$2:$T$300,3,FALSE))","v":""},null,null,null,null,null,{"$f":"IF(L449=\"\",\"\",VLOOKUP(L449,referentes!$G$2:$N$15,2,FALSE))","v":""},null,null,"",null,null,""]
[null,{"$f":"IF(C450=\"\",\"\",IF(COUNTIF($C$3:C450, C450)>1, \"\", C450))","v":""},{"$f":"IF(G450=\"\",\"\",IF(F450=\"\",\"\",CONCATENATE(DIGITADOR!$M$1,G450,E450)))","v":""},"",{"$f":"IF(F450=\"\",\"\",VLOOKUP(F450,referentes!$Q$2:$T$300,3,FALSE))","v":""},null,null,null,null,null,{"$f":"IF(L450=\"\",\"\",VLOOKUP(L450,referentes!$G$2:$N$15,2,FALSE))","v":""},null,null,"",null,null,""]
[null,{"$f":"IF(C451=\"\",\"\",IF(COUNTIF($C$3:C451, C451)>1, \"\", C451))","v":""},{"$f":"IF(G451=\"\",\"\",IF(F451=\"\",\"\",CONCATENATE(DIGITADOR!$M$1,G451,E451)))","v":""},"",{"$f":"IF(F451=\"\",\"\",VLOOKUP(F451,referentes!$Q$2:$T$300,3,FALSE))","v":""},null,null,null,null,null,{"$f":"IF(L451=\"\",\"\",VLOOKUP(L451,referentes!$G$2:$N$15,2,FALSE))","v":""},null,null,"",null,null,""]
[null,{"$f":"IF(C452=\"\",\"\",IF(COUNTIF($C$3:C452, C452)>1, \"\", C452))","v":""},{"$f":"IF(G452=\"\",\"\",IF(F452=\"\",\"\",CONCATENATE(DIGITADOR!$M$1,G452,E452)))","v":""},{"$f":"IF(C452=\"\",\"\",CONCATENATE(C452,ROW()-2))","v":""},{"$f":"IF(F452=\"\",\"\",VLOOKUP(F452,referentes!$Q$2:$T$300,3,FALSE))","v":""},null,null,null,null,null,{"$f":"IF(L452=\"\",\"\",VLOOKUP(L452,referentes!$G$2:$N$15,2,FALSE))","v":""},null,null,{"$f":"IF(M452=\"\",\"\",M452/PI())","v":""},null,null,{"$f":"IF(N452=\"\",\"\",((PI())*((N452/100)^2))/4*10000/500)","v":""}]
[null,{"$f":"IF(C453=\"\",\"\",IF(COUNTIF($C$3:C453, C453)>1, \"\", C453))","v":""},{"$f":"IF(G453=\"\",\"\",IF(F453=\"\",\"\",CONCATENATE(DIGITADOR!$M$1,G453,E453)))","v":""},"",{"$f":"IF(F453=\"\",\"\",VLOOKUP(F453,referentes!$Q$2:$T$300,3,FALSE))","v":""},null,null,null,null,null,{"$f":"IF(L453=\"\",\"\",VLOOKUP(L453,referentes!$G$2:$N$15,2,FALSE))","v":""},null,null,"",null,null,""]
[null,{"$f":"IF(C454=\"\",\"\",IF(COUNTIF($C$3:C454, C454)>1, \"\", C454))","v":""},{"$f":"IF(G454=\"\",\"\",IF(F454=\"\",\"\",CONCATENATE(DIGITADOR!$M$1,G454,E454)))","v":""},"",{"$f":"IF(F454=\"\",\"\",VLOOKUP(F454,referentes!$Q$2:$T$300,3,FALSE))","v":""},null,null,null,null,null,{"$f":"IF(L454=\"\",\"\",VLOOKUP(L454,referentes!$G$2:$N$15,2,FALSE))","v":""},null,null,"",null,null,""]
[null,{"$f":"IF(C455=\"\",\"\",IF(COUNTIF($C$3:C455, C455)>1, \"\", C455))","v":""},{"$f":"IF(G455=\"\",\"\",IF(F455=\"\",\"\",CONCATENATE(DIGITADOR!$M$1,G455,E455)))","v":""},"",{"$f":"IF(F455=\"\",\"\",VLOOKUP(F455,referentes!$Q$2:$T$300,3,FALSE))","v":""},null,null,null,null,null,{"$f":"IF(L455=\"\",\"\",VLOOKUP(L455,referentes!$G$2:$N$15,2,FALSE))","v":""},null,null,"",null,null,""]
[null,{"$f":"IF(C456=\"\",\"\",IF(COUNTIF($C$3:C456, C456)>1, \"\", C456))","v":""},{"$f":"IF(G456=\"\",\"\",IF(F456=\"\",\"\",CONCATENATE(DIGITADOR!$M$1,G456,E456)))","v":""},"",{"$f":"IF(F456=\"\",\"\",VLOOKUP(F456,referentes!$Q$2:$T$300,3,FALSE))","v":""},null,null,null,null,null,{"$f":"IF(L456=\"\",\"\",VLOOKUP(L456,referentes!$G$2:$N$15,2,FALSE))","v":""},null,null,"",null,null,""]
[null,{"$f":"IF(C457=\"\",\"\",IF(COUNTIF($C$3:C457, C457)>1, \"\", C457))","v":""},{"$f":"IF(G457=\"\",\"\",IF(F457=\"\",\"\",CONCATENATE(DIGITADOR!$M$1,G457,E457)))","v":""},"",{"$f":"IF(F457=\"\",\"\",VLOOKUP(F457,referentes!$Q$2:$T$300,3,FALSE))","v":""},null,null,null,null,null,{"$f":"IF(L457=\"\",\"\",VLOOKUP(L457,referentes!$G$2:$N$15,2,FALSE))","v":""},null,null,"",null,null,""]
[null,{"$f":"IF(C458=\"\",\"\",IF(COUNTIF($C$3:C458, C458)>1, \"\", C458))","v":""},{"$f":"IF(G458=\"\",\"\",IF(F458=\"\",\"\",CONCATENATE(DIGITADOR!$M$1,G458,E458)))","v":""},"",{"$f":"IF(F458=\"\",\"\",VLOOKUP(F458,referentes!$Q$2:$T$300,3,FALSE))","v":""},null,null,null,null,null,{"$f":"IF(L458=\"\",\"\",VLOOKUP(L458,referentes!$G$2:$N$15,2,FALSE))","v":""},null,null,"",null,null,""]
[null,{"$f":"IF(C459=\"\",\"\",IF(COUNTIF($C$3:C459, C459)>1, \"\", C459))","v":""},{"$f":"IF(G459=\"\",\"\",IF(F459=\"\",\"\",CONCATENATE(DIGITADOR!$M$1,G459,E459)))","v":""},"",{"$f":"IF(F459=\"\",\"\",VLOOKUP(F459,referentes!$Q$2:$T$300,3,FALSE))","v":""},null,null,null,null,null,{"$f":"IF(L459=\"\",\"\",VLOOKUP(L459,referentes!$G$2:$N$15,2,FALSE))","v":""},null,null,"",null,null,""]
[null,{"$f":"IF(C460=\"\",\"\",IF(COUNTIF($C$3:C460, C460)>1, \"\", C460))","v":""},{"$f":"IF(G460=\"\",\"\",IF(F460=\"\",\"\",CONCATENATE(DIGITADOR!$M$1,G460,E460)))","v":""},"",{"$f":"IF(F460=\"\",\"\",VLOOKUP(F460,referentes!$Q$2:$T$300,3,FALSE))","v":""},null,null,null,null,null,{"$f":"IF(L460=\"\",\"\",VLOOKUP(L460,referentes!$G$2:$N$15,2,FALSE))","v":""},null,null,"",null,null,""]
[null,{"$f":"IF(C461=\"\",\"\",IF(COUNTIF($C$3:C461, C461)>1, \"\", C461))","v":""},{"$f":"IF(G461=\"\",\"\",IF(F461=\"\",\"\",CONCATENATE(DIGITADOR!$M$1,G461,E461)))","v":""},"",{"$f":"IF(F461=\"\",\"\",VLOOKUP(F461,referentes!$Q$2:$T$300,3,FALSE))","v":""},null,null,null,null,null,{"$f":"IF(L461=\"\",\"\",VLOOKUP(L461,referentes!$G$2:$N$15,2,FALSE))","v":""},null,null,"",null,null,""]
[null,{"$f":"IF(C462=\"\",\"\",IF(COUNTIF($C$3:C462, C462)>1, \"\", C462))","v":""},{"$f":"IF(G462=\"\",\"\",IF(F462=\"\",\"\",CONCATENATE(DIGITADOR!$M$1,G462,E462)))","v":""},"",{"$f":"IF(F462=\"\",\"\",VLOOKUP(F462,referentes!$Q$2:$T$300,3,FALSE))","v":""},null,null,null,null,null,{"$f":"IF(L462=\"\",\"\",VLOOKUP(L462,referentes!$G$2:$N$15,2,FALSE))","v":""},null,null,"",null,null,""]
[null,{"$f":"IF(C463=\"\",\"\",IF(COUNTIF($C$3:C463, C463)>1, \"\", C463))","v":""},{"$f":"IF(G463=\"\",\"\",IF(F463=\"\",\"\",CONCATENATE(DIGITADOR!$M$1,G463,E463)))","v":""},"",{"$f":"IF(F463=\"\",\"\",VLOOKUP(F463,referentes!$Q$2:$T$300,3,FALSE))","v":""},null,null,null,null,null,{"$f":"IF(L463=\"\",\"\",VLOOKUP(L463,referentes!$G$2:$N$15,2,FALSE))","v":""},null,null,"",null,null,""]
[null,{"$f":"IF(C464=\"\",\"\",IF(COUNTIF($C$3:C464, C464)>1, \"\", C464))","v":""},{"$f":"IF(G464=\"\",\"\",IF(F464=\"\",\"\",CONCATENATE(DIGITADOR!$M$1,G464,E464)))","v":""},"",{"$f":"IF(F464=\"\",\"\",VLOOKUP(F464,referentes!$Q$2:$T$300,3,FALSE))","v":""},null,null,null,null,null,{"$f":"IF(L464=\"\",\"\",VLOOKUP(L464,referentes!$G$2:$N$15,2,FALSE))","v":""},null,null,"",null,null,""]
[null,{"$f":"IF(C465=\"\",\"\",IF(COUNTIF($C$3:C465, C465)>1, \"\", C465))","v":""},{"$f":"IF(G465=\"\",\"\",IF(F465=\"\",\"\",CONCATENATE(DIGITADOR!$M$1,G465,E465)))","v":""},"",{"$f":"IF(F465=\"\",\"\",VLOOKUP(F465,referentes!$Q$2:$T$300,3,FALSE))","v":""},null,null,null,null,null,{"$f":"IF(L465=\"\",\"\",VLOOKUP(L465,referentes!$G$2:$N$15,2,FALSE))","v":""},null,null,"",null,null,""]
[null,{"$f":"IF(C466=\"\",\"\",IF(COUNTIF($C$3:C466, C466)>1, \"\", C466))","v":""},{"$f":"IF(G466=\"\",\"\",IF(F466=\"\",\"\",CONCATENATE(DIGITADOR!$M$1,G466,E466)))","v":""},"",{"$f":"IF(F466=\"\",\"\",VLOOKUP(F466,referentes!$Q$2:$T$300,3,FALSE))","v":""},null,null,null,null,null,{"$f":"IF(L466=\"\",\"\",VLOOKUP(L466,referentes!$G$2:$N$15,2,FALSE))","v":""},null,null,"",null,null,""]
[null,{"$f":"IF(C467=\"\",\"\",IF(COUNTIF($C$3:C467, C467)>1, \"\", C467))","v":""},{"$f":"IF(G467=\"\",\"\",IF(F467=\"\",\"\",CONCATENATE(DIGITADOR!$M$1,G467,E467)))","v":""},"",{"$f":"IF(F467=\"\",\"\",VLOOKUP(F467,referentes!$Q$2:$T$300,3,FALSE))","v":""},null,null,null,null,null,{"$f":"IF(L467=\"\",\"\",VLOOKUP(L467,referentes!$G$2:$N$15,2,FALSE))","v":""},null,null,"",null,null,""]
[null,{"$f":"IF(C468=\"\",\"\",IF(COUNTIF($C$3:C468, C468)>1, \"\", C468))","v":""},{"$f":"IF(G468=\"\",\"\",IF(F468=\"\",\"\",CONCATENATE(DIGITADOR!$M$1,G468,E468)))","v":""},"",{"$f":"IF(F468=\"\",\"\",VLOOKUP(F468,referentes!$Q$2:$T$300,3,FALSE))","v":""},null,null,null,null,null,{"$f":"IF(L468=\"\",\"\",VLOOKUP(L468,referentes!$G$2:$N$15,2,FALSE))","v":""},null,null,"",null,null,""]
[null,{"$f":"IF(C469=\"\",\"\",IF(COUNTIF($C$3:C469, C469)>1, \"\", C469))","v":""},{"$f":"IF(G469=\"\",\"\",IF(F469=\"\",\"\",CONCATENATE(DIGITADOR!$M$1,G469,E469)))","v":""},"",{"$f":"IF(F469=\"\",\"\",VLOOKUP(F469,referentes!$Q$2:$T$300,3,FALSE))","v":""},null,null,null,null,null,{"$f":"IF(L469=\"\",\"\",VLOOKUP(L469,referentes!$G$2:$N$15,2,FALSE))","v":""},null,null,"",null,null,""]
[null,{"$f":"IF(C470=\"\",\"\",IF(COUNTIF($C$3:C470, C470)>1, \"\", C470))","v":""},{"$f":"IF(G470=\"\",\"\",IF(F470=\"\",\"\",CONCATENATE(DIGITADOR!$M$1,G470,E470)))","v":""},"",{"$f":"IF(F470=\"\",\"\",VLOOKUP(F470,referentes!$Q$2:$T$300,3,FALSE))","v":""},null,null,null,null,null,{"$f":"IF(L470=\"\",\"\",VLOOKUP(L470,referentes!$G$2:$N$15,2,FALSE))","v":""},null,null,"",null,null,""]
[null,{"$f":"IF(C471=\"\",\"\",IF(COUNTIF($C$3:C471, C471)>1, \"\", C471))","v":""},{"$f":"IF(G471=\"\",\"\",IF(F471=\"\",\"\",CONCATENATE(DIGITADOR!$M$1,G471,E471)))","v":""},"",{"$f":"IF(F471=\"\",\"\",VLOOKUP(F471,referentes!$Q$2:$T$300,3,FALSE))","v":""},null,null,null,null,null,{"$f":"IF(L471=\"\",\"\",VLOOKUP(L471,referentes!$G$2:$N$15,2,FALSE))","v":""},null,null,"",null,null,""]
[null,{"$f":"IF(C472=\"\",\"\",IF(COUNTIF($C$3:C472, C472)>1, \"\", C472))","v":""},{"$f":"IF(G472=\"\",\"\",IF(F472=\"\",\"\",CONCATENATE(DIGITADOR!$M$1,G472,E472)))","v":""},"",{"$f":"IF(F472=\"\",\"\",VLOOKUP(F472,referentes!$Q$2:$T$300,3,FALSE))","v":""},null,null,null,null,null,{"$f":"IF(L472=\"\",\"\",VLOOKUP(L472,referentes!$G$2:$N$15,2,FALSE))","v":""},null,null,"",null,null,""]
[null,{"$f":"IF(C473=\"\",\"\",IF(COUNTIF($C$3:C473, C473)>1, \"\", C473))","v":""},{"$f":"IF(G473=\"\",\"\",IF(F473=\"\",\"\",CONCATENATE(DIGITADOR!$M$1,G473,E473)))","v":""},"",{"$f":"IF(F473=\"\",\"\",VLOOKUP(F473,referentes!$Q$2:$T$300,3,FALSE))","v":""},null,null,null,null,null,{"$f":"IF(L473=\"\",\"\",VLOOKUP(L473,referentes!$G$2:$N$15,2,FALSE))","v":""},null,null,"",null,null,""]
[null,{"$f":"IF(C474=\"\",\"\",IF(COUNTIF($C$3:C474, C474)>1, \"\", C474))","v":""},{"$f":"IF(G474=\"\",\"\",IF(F474=\"\",\"\",CONCATENATE(DIGITADOR!$M$1,G474,E474)))","v":""},"",{"$f":"IF(F474=\"\",\"\",VLOOKUP(F474,referentes!$Q$2:$T$300,3,FALSE))","v":""},null,null,null,null,null,{"$f":"IF(L474=\"\",\"\",VLOOKUP(L474,referentes!$G$2:$N$15,2,FALSE))","v":""},null,null,"",null,null,""]
[null,{"$f":"IF(C475=\"\",\"\",IF(COUNTIF($C$3:C475, C475)>1, \"\", C475))","v":""},{"$f":"IF(G475=\"\",\"\",IF(F475=\"\",\"\",CONCATENATE(DIGITADOR!$M$1,G475,E475)))","v":""},"",{"$f":"IF(F475=\"\",\"\",VLOOKUP(F475,referentes!$Q$2:$T$300,3,FALSE))","v":""},null,null,null,null,null,{"$f":"IF(L475=\"\",\"\",VLOOKUP(L475,referentes!$G$2:$N$15,2,FALSE))","v":""},null,null,"",null,null,""]
[null,{"$f":"IF(C476=\"\",\"\",IF(COUNTIF($C$3:C476, C476)>1, \"\", C476))","v":""},{"$f":"IF(G476=\"\",\"\",IF(F476=\"\",\"\",CONCATENATE(DIGITADOR!$M$1,G476,E476)))","v":""},"",{"$f":"IF(F476=\"\",\"\",VLOOKUP(F476,referentes!$Q$2:$T$300,3,FALSE))","v":""},null,null,null,null,null,{"$f":"IF(L476=\"\",\"\",VLOOKUP(L476,referentes!$G$2:$N$15,2,FALSE))","v":""},null,null,"",null,null,""]
[null,{"$f":"IF(C477=\"\",\"\",IF(COUNTIF($C$3:C477, C477)>1, \"\", C477))","v":""},{"$f":"IF(G477=\"\",\"\",IF(F477=\"\",\"\",CONCATENATE(DIGITADOR!$M$1,G477,E477)))","v":""},"",{"$f":"IF(F477=\"\",\"\",VLOOKUP(F477,referentes!$Q$2:$T$300,3,FALSE))","v":""},null,null,null,null,null,{"$f":"IF(L477=\"\",\"\",VLOOKUP(L477,referentes!$G$2:$N$15,2,FALSE))","v":""},null,null,"",null,null,""]
[null,{"$f":"IF(C478=\"\",\"\",IF(COUNTIF($C$3:C478, C478)>1, \"\", C478))","v":""},{"$f":"IF(G478=\"\",\"\",IF(F478=\"\",\"\",CONCATENATE(DIGITADOR!$M$1,G478,E478)))","v":""},"",{"$f":"IF(F478=\"\",\"\",VLOOKUP(F478,referentes!$Q$2:$T$300,3,FALSE))","v":""},null,null,null,null,null,{"$f":"IF(L478=\"\",\"\",VLOOKUP(L478,referentes!$G$2:$N$15,2,FALSE))","v":""},null,null,"",null,null,""]
[null,{"$f":"IF(C479=\"\",\"\",IF(COUNTIF($C$3:C479, C479)>1, \"\", C479))","v":""},{"$f":"IF(G479=\"\",\"\",IF(F479=\"\",\"\",CONCATENATE(DIGITADOR!$M$1,G479,E479)))","v":""},"",{"$f":"IF(F479=\"\",\"\",VLOOKUP(F479,referentes!$Q$2:$T$300,3,FALSE))","v":""},null,null,null,null,null,{"$f":"IF(L479=\"\",\"\",VLOOKUP(L479,referentes!$G$2:$N$15,2,FALSE))","v":""},null,null,"",null,null,""]
[null,{"$f":"IF(C480=\"\",\"\",IF(COUNTIF($C$3:C480, C480)>1, \"\", C480))","v":""},{"$f":"IF(G480=\"\",\"\",IF(F480=\"\",\"\",CONCATENATE(DIGITADOR!$M$1,G480,E480)))","v":""},"",{"$f":"IF(F480=\"\",\"\",VLOOKUP(F480,referentes!$Q$2:$T$300,3,FALSE))","v":""},null,null,null,null,null,{"$f":"IF(L480=\"\",\"\",VLOOKUP(L480,referentes!$G$2:$N$15,2,FALSE))","v":""},null,null,"",null,null,""]
[null,{"$f":"IF(C481=\"\",\"\",IF(COUNTIF($C$3:C481, C481)>1, \"\", C481))","v":""},{"$f":"IF(G481=\"\",\"\",IF(F481=\"\",\"\",CONCATENATE(DIGITADOR!$M$1,G481,E481)))","v":""},"",{"$f":"IF(F481=\"\",\"\",VLOOKUP(F481,referentes!$Q$2:$T$300,3,FALSE))","v":""},null,null,null,null,null,{"$f":"IF(L481=\"\",\"\",VLOOKUP(L481,referentes!$G$2:$N$15,2,FALSE))","v":""},null,null,"",null,null,""]
[null,{"$f":"IF(C482=\"\",\"\",IF(COUNTIF($C$3:C482, C482)>1, \"\", C482))","v":""},{"$f":"IF(G482=\"\",\"\",IF(F482=\"\",\"\",CONCATENATE(DIGITADOR!$M$1,G482,E482)))","v":""},"",{"$f":"IF(F482=\"\",\"\",VLOOKUP(F482,referentes!$Q$2:$T$300,3,FALSE))","v":""},null,null,null,null,null,{"$f":"IF(L482=\"\",\"\",VLOOKUP(L482,referentes!$G$2:$N$15,2,FALSE))","v":""},null,null,"",null,null,""]
[null,{"$f":"IF(C483=\"\",\"\",IF(COUNTIF($C$3:C483, C483)>1, \"\", C483))","v":""},{"$f":"IF(G483=\"\",\"\",IF(F483=\"\",\"\",CONCATENATE(DIGITADOR!$M$1,G483,E483)))","v":""},"",{"$f":"IF(F483=\"\",\"\",VLOOKUP(F483,referentes!$Q$2:$T$300,3,FALSE))","v":""},null,null,null,null,null,{"$f":"IF(L483=\"\",\"\",VLOOKUP(L483,referentes!$G$2:$N$15,2,FALSE))","v":""},null,null,"",null,null,""]
[null,{"$f":"IF(C484=\"\",\"\",IF(COUNTIF($C$3:C484, C484)>1, \"\", C484))","v":""},{"$f":"IF(G484=\"\",\"\",IF(F484=\"\",\"\",CONCATENATE(DIGITADOR!$M$1,G484,E484)))","v":""},"",{"$f":"IF(F484=\"\",\"\",VLOOKUP(F484,referentes!$Q$2:$T$300,3,FALSE))","v":""},null,null,null,null,null,{"$f":"IF(L484=\"\",\"\",VLOOKUP(L484,referentes!$G$2:$N$15,2,FALSE))","v":""},null,null,"",null,null,""]
[null,{"$f":"IF(C485=\"\",\"\",IF(COUNTIF($C$3:C485, C485)>1, \"\", C485))","v":""},{"$f":"IF(G485=\"\",\"\",IF(F485=\"\",\"\",CONCATENATE(DIGITADOR!$M$1,G485,E485)))","v":""},"",{"$f":"IF(F485=\"\",\"\",VLOOKUP(F485,referentes!$Q$2:$T$300,3,FALSE))","v":""},null,null,null,null,null,{"$f":"IF(L485=\"\",\"\",VLOOKUP(L485,referentes!$G$2:$N$15,2,FALSE))","v":""},null,null,"",null,null,""]
[null,{"$f":"IF(C486=\"\",\"\",IF(COUNTIF($C$3:C486, C486)>1, \"\", C486))","v":""},{"$f":"IF(G486=\"\",\"\",IF(F486=\"\",\"\",CONCATENATE(DIGITADOR!$M$1,G486,E486)))","v":""},"",{"$f":"IF(F486=\"\",\"\",VLOOKUP(F486,referentes!$Q$2:$T$300,3,FALSE))","v":""},null,null,null,null,null,{"$f":"IF(L486=\"\",\"\",VLOOKUP(L486,referentes!$G$2:$N$15,2,FALSE))","v":""},null,null,"",null,null,""]
[null,{"$f":"IF(C487=\"\",\"\",IF(COUNTIF($C$3:C487, C487)>1, \"\", C487))","v":""},{"$f":"IF(G487=\"\",\"\",IF(F487=\"\",\"\",CONCATENATE(DIGITADOR!$M$1,G487,E487)))","v":""},"",{"$f":"IF(F487=\"\",\"\",VLOOKUP(F487,referentes!$Q$2:$T$300,3,FALSE))","v":""},null,null,null,null,null,{"$f":"IF(L487=\"\",\"\",VLOOKUP(L487,referentes!$G$2:$N$15,2,FALSE))","v":""},null,null,"",null,null,""]
[null,{"$f":"IF(C488=\"\",\"\",IF(COUNTIF($C$3:C488, C488)>1, \"\", C488))","v":""},{"$f":"IF(G488=\"\",\"\",IF(F488=\"\",\"\",CONCATENATE(DIGITADOR!$M$1,G488,E488)))","v":""},"",{"$f":"IF(F488=\"\",\"\",VLOOKUP(F488,referentes!$Q$2:$T$300,3,FALSE))","v":""},null,null,null,null,null,{"$f":"IF(L488=\"\",\"\",VLOOKUP(L488,referentes!$G$2:$N$15,2,FALSE))","v":""},null,null,"",null,null,""]
[null,{"$f":"IF(C489=\"\",\"\",IF(COUNTIF($C$3:C489, C489)>1, \"\", C489))","v":""},{"$f":"IF(G489=\"\",\"\",IF(F489=\"\",\"\",CONCATENATE(DIGITADOR!$M$1,G489,E489)))","v":""},"",{"$f":"IF(F489=\"\",\"\",VLOOKUP(F489,referentes!$Q$2:$T$300,3,FALSE))","v":""},null,null,null,null,null,{"$f":"IF(L489=\"\",\"\",VLOOKUP(L489,referentes!$G$2:$N$15,2,FALSE))","v":""},null,null,"",null,null,""]
[null,{"$f":"IF(C490=\"\",\"\",IF(COUNTIF($C$3:C490, C490)>1, \"\", C490))","v":""},{"$f":"IF(G490=\"\",\"\",IF(F490=\"\",\"\",CONCATENATE(DIGITADOR!$M$1,G490,E490)))","v":""},"",{"$f":"IF(F490=\"\",\"\",VLOOKUP(F490,referentes!$Q$2:$T$300,3,FALSE))","v":""},null,null,null,null,null,{"$f":"IF(L490=\"\",\"\",VLOOKUP(L490,referentes!$G$2:$N$15,2,FALSE))","v":""},null,null,"",null,null,""]
[null,{"$f":"IF(C491=\"\",\"\",IF(COUNTIF($C$3:C491, C491)>1, \"\", C491))","v":""},{"$f":"IF(G491=\"\",\"\",IF(F491=\"\",\"\",CONCATENATE(DIGITADOR!$M$1,G491,E491)))","v":""},"",{"$f":"IF(F491=\"\",\"\",VLOOKUP(F491,referentes!$Q$2:$T$300,3,FALSE))","v":""},null,null,null,null,null,{"$f":"IF(L491=\"\",\"\",VLOOKUP(L491,referentes!$G$2:$N$15,2,FALSE))","v":""},null,null,"",null,null,""]
[null,{"$f":"IF(C492=\"\",\"\",IF(COUNTIF($C$3:C492, C492)>1, \"\", C492))","v":""},{"$f":"IF(G492=\"\",\"\",IF(F492=\"\",\"\",CONCATENATE(DIGITADOR!$M$1,G492,E492)))","v":""},"",{"$f":"IF(F492=\"\",\"\",VLOOKUP(F492,referentes!$Q$2:$T$300,3,FALSE))","v":""},null,null,null,null,null,{"$f":"IF(L492=\"\",\"\",VLOOKUP(L492,referentes!$G$2:$N$15,2,FALSE))","v":""},null,null,"",null,null,""]
[null,{"$f":"IF(C493=\"\",\"\",IF(COUNTIF($C$3:C493, C493)>1, \"\", C493))","v":""},{"$f":"IF(G493=\"\",\"\",IF(F493=\"\",\"\",CONCATENATE(DIGITADOR!$M$1,G493,E493)))","v":""},"",{"$f":"IF(F493=\"\",\"\",VLOOKUP(F493,referentes!$Q$2:$T$300,3,FALSE))","v":""},null,null,null,null,null,{"$f":"IF(L493=\"\",\"\",VLOOKUP(L493,referentes!$G$2:$N$15,2,FALSE))","v":""},null,null,"",null,null,""]
[null,{"$f":"IF(C494=\"\",\"\",IF(COUNTIF($C$3:C494, C494)>1, \"\", C494))","v":""},{"$f":"IF(G494=\"\",\"\",IF(F494=\"\",\"\",CONCATENATE(DIGITADOR!$M$1,G494,E494)))","v":""},"",{"$f":"IF(F494=\"\",\"\",VLOOKUP(F494,referentes!$Q$2:$T$300,3,FALSE))","v":""},null,null,null,null,null,{"$f":"IF(L494=\"\",\"\",VLOOKUP(L494,referentes!$G$2:$N$15,2,FALSE))","v":""},null,null,"",null,null,""]
[null,{"$f":"IF(C495=\"\",\"\",IF(COUNTIF($C$3:C495, C495)>1, \"\", C495))","v":""},{"$f":"IF(G495=\"\",\"\",IF(F495=\"\",\"\",CONCATENATE(DIGITADOR!$M$1,G495,E495)))","v":""},"",{"$f":"IF(F495=\"\",\"\",VLOOKUP(F495,referentes!$Q$2:$T$300,3,FALSE))","v":""},null,null,null,null,null,{"$f":"IF(L495=\"\",\"\",VLOOKUP(L495,referentes!$G$2:$N$15,2,FALSE))","v":""},null,null,"",null,null,""]
[null,{"$f":"IF(C496=\"\",\"\",IF(COUNTIF($C$3:C496, C496)>1, \"\", C496))","v":""},{"$f":"IF(G496=\"\",\"\",IF(F496=\"\",\"\",CONCATENATE(DIGITADOR!$M$1,G496,E496)))","v":""},"",{"$f":"IF(F496=\"\",\"\",VLOOKUP(F496,referentes!$Q$2:$T$300,3,FALSE))","v":""},null,null,null,null,null,{"$f":"IF(L496=\"\",\"\",VLOOKUP(L496,referentes!$G$2:$N$15,2,FALSE))","v":""},null,null,"",null,null,""]
[null,{"$f":"IF(C497=\"\",\"\",IF(COUNTIF($C$3:C497, C497)>1, \"\", C497))","v":""},{"$f":"IF(G497=\"\",\"\",IF(F497=\"\",\"\",CONCATENATE(DIGITADOR!$M$1,G497,E497)))","v":""},"",{"$f":"IF(F497=\"\",\"\",VLOOKUP(F497,referentes!$Q$2:$T$300,3,FALSE))","v":""},null,null,null,null,null,{"$f":"IF(L497=\"\",\"\",VLOOKUP(L497,referentes!$G$2:$N$15,2,FALSE))","v":""},null,null,"",null,null,""]
[null,{"$f":"IF(C498=\"\",\"\",IF(COUNTIF($C$3:C498, C498)>1, \"\", C498))","v":""},{"$f":"IF(G498=\"\",\"\",IF(F498=\"\",\"\",CONCATENATE(DIGITADOR!$M$1,G498,E498)))","v":""},"",{"$f":"IF(F498=\"\",\"\",VLOOKUP(F498,referentes!$Q$2:$T$300,3,FALSE))","v":""},null,null,null,null,null,{"$f":"IF(L498=\"\",\"\",VLOOKUP(L498,referentes!$G$2:$N$15,2,FALSE))","v":""},null,null,"",null,null,""]
[null,{"$f":"IF(C499=\"\",\"\",IF(COUNTIF($C$3:C499, C499)>1, \"\", C499))","v":""},{"$f":"IF(G499=\"\",\"\",IF(F499=\"\",\"\",CONCATENATE(DIGITADOR!$M$1,G499,E499)))","v":""},"",{"$f":"IF(F499=\"\",\"\",VLOOKUP(F499,referentes!$Q$2:$T$300,3,FALSE))","v":""},null,null,null,null,null,{"$f":"IF(L499=\"\",\"\",VLOOKUP(L499,referentes!$G$2:$N$15,2,FALSE))","v":""},null,null,"",null,null,""]
[null,{"$f":"IF(C500=\"\",\"\",IF(COUNTIF($C$3:C500, C500)>1, \"\", C500))","v":""},{"$f":"IF(G500=\"\",\"\",IF(F500=\"\",\"\",CONCATENATE(DIGITADOR!$M$1,G500,E500)))","v":""},"",{"$f":"IF(F500=\"\",\"\",VLOOKUP(F500,referentes!$Q$2:$T$300,3,FALSE))","v":""},null,null,null,null,null,{"$f":"IF(L500=\"\",\"\",VLOOKUP(L500,referentes!$G$2:$N$15,2,FALSE))","v":""},null,null,"",null,null,""]
[null,{"$f":"IF(C501=\"\",\"\",IF(COUNTIF($C$3:C501, C501)>1, \"\", C501))","v":""},{"$f":"IF(G501=\"\",\"\",IF(F501=\"\",\"\",CONCATENATE(DIGITADOR!$M$1,G501,E501)))","v":""},"",{"$f":"IF(F501=\"\",\"\",VLOOKUP(F501,referentes!$Q$2:$T$300,3,FALSE))","v":""},null,null,null,null,null,{"$f":"IF(L501=\"\",\"\",VLOOKUP(L501,referentes!$G$2:$N$15,2,FALSE))","v":""},null,null,"",null,null,""]
[null,{"$f":"IF(C502=\"\",\"\",IF(COUNTIF($C$3:C502, C502)>1, \"\", C502))","v":""},{"$f":"IF(G502=\"\",\"\",IF(F502=\"\",\"\",CONCATENATE(DIGITADOR!$M$1,G502,E502)))","v":""},"",{"$f":"IF(F502=\"\",\"\",VLOOKUP(F502,referentes!$Q$2:$T$300,3,FALSE))","v":""},null,null,null,null,null,{"$f":"IF(L502=\"\",\"\",VLOOKUP(L502,referentes!$G$2:$N$15,2,FALSE))","v":""},null,null,"",null,null,""]
[null,{"$f":"IF(C503=\"\",\"\",IF(COUNTIF($C$3:C503, C503)>1, \"\", C503))","v":""},{"$f":"IF(G503=\"\",\"\",IF(F503=\"\",\"\",CONCATENATE(DIGITADOR!$M$1,G503,E503)))","v":""},"",{"$f":"IF(F503=\"\",\"\",VLOOKUP(F503,referentes!$Q$2:$T$300,3,FALSE))","v":""},null,null,null,null,null,{"$f":"IF(L503=\"\",\"\",VLOOKUP(L503,referentes!$G$2:$N$15,2,FALSE))","v":""},null,null,"",null,null,""]
[null,{"$f":"IF(C504=\"\",\"\",IF(COUNTIF($C$3:C504, C504)>1, \"\", C504))","v":""},{"$f":"IF(G504=\"\",\"\",IF(F504=\"\",\"\",CONCATENATE(DIGITADOR!$M$1,G504,E504)))","v":""},"",{"$f":"IF(F504=\"\",\"\",VLOOKUP(F504,referentes!$Q$2:$T$300,3,FALSE))","v":""},null,null,null,null,null,{"$f":"IF(L504=\"\",\"\",VLOOKUP(L504,referentes!$G$2:$N$15,2,FALSE))","v":""},null,null,"",null,null,""]
[null,{"$f":"IF(C505=\"\",\"\",IF(COUNTIF($C$3:C505, C505)>1, \"\", C505))","v":""},{"$f":"IF(G505=\"\",\"\",IF(F505=\"\",\"\",CONCATENATE(DIGITADOR!$M$1,G505,E505)))","v":""},"",{"$f":"IF(F505=\"\",\"\",VLOOKUP(F505,referentes!$Q$2:$T$300,3,FALSE))","v":""},null,null,null,null,null,{"$f":"IF(L505=\"\",\"\",VLOOKUP(L505,referentes!$G$2:$N$15,2,FALSE))","v":""},null,null,"",null,null,""]
[null,{"$f":"IF(C506=\"\",\"\",IF(COUNTIF($C$3:C506, C506)>1, \"\", C506))","v":""},{"$f":"IF(G506=\"\",\"\",IF(F506=\"\",\"\",CONCATENATE(DIGITADOR!$M$1,G506,E506)))","v":""},"",{"$f":"IF(F506=\"\",\"\",VLOOKUP(F506,referentes!$Q$2:$T$300,3,FALSE))","v":""},null,null,null,null,null,{"$f":"IF(L506=\"\",\"\",VLOOKUP(L506,referentes!$G$2:$N$15,2,FALSE))","v":""},null,null,"",null,null,""]
[null,{"$f":"IF(C507=\"\",\"\",IF(COUNTIF($C$3:C507, C507)>1, \"\", C507))","v":""},{"$f":"IF(G507=\"\",\"\",IF(F507=\"\",\"\",CONCATENATE(DIGITADOR!$M$1,G507,E507)))","v":""},"",{"$f":"IF(F507=\"\",\"\",VLOOKUP(F507,referentes!$Q$2:$T$300,3,FALSE))","v":""},null,null,null,null,null,{"$f":"IF(L507=\"\",\"\",VLOOKUP(L507,referentes!$G$2:$N$15,2,FALSE))","v":""},null,null,"",null,null,""]
[null,{"$f":"IF(C508=\"\",\"\",IF(COUNTIF($C$3:C508, C508)>1, \"\", C508))","v":""},{"$f":"IF(G508=\"\",\"\",IF(F508=\"\",\"\",CONCATENATE(DIGITADOR!$M$1,G508,E508)))","v":""},"",{"$f":"IF(F508=\"\",\"\",VLOOKUP(F508,referentes!$Q$2:$T$300,3,FALSE))","v":""},null,null,null,null,null,{"$f":"IF(L508=\"\",\"\",VLOOKUP(L508,referentes!$G$2:$N$15,2,FALSE))","v":""},null,null,"",null,null,""]
[null,{"$f":"IF(C509=\"\",\"\",IF(COUNTIF($C$3:C509, C509)>1, \"\", C509))","v":""},{"$f":"IF(G509=\"\",\"\",IF(F509=\"\",\"\",CONCATENATE(DIGITADOR!$M$1,G509,E509)))","v":""},"",{"$f":"IF(F509=\"\",\"\",VLOOKUP(F509,referentes!$Q$2:$T$300,3,FALSE))","v":""},null,null,null,null,null,{"$f":"IF(L509=\"\",\"\",VLOOKUP(L509,referentes!$G$2:$N$15,2,FALSE))","v":""},null,null,"",null,null,""]
[null,{"$f":"IF(C510=\"\",\"\",IF(COUNTIF($C$3:C510, C510)>1, \"\", C510))","v":""},{"$f":"IF(G510=\"\",\"\",IF(F510=\"\",\"\",CONCATENATE(DIGITADOR!$M$1,G510,E510)))","v":""},"",{"$f":"IF(F510=\"\",\"\",VLOOKUP(F510,referentes!$Q$2:$T$300,3,FALSE))","v":""},null,null,null,null,null,{"$f":"IF(L510=\"\",\"\",VLOOKUP(L510,referentes!$G$2:$N$15,2,FALSE))","v":""},null,null,"",null,null,""]
[null,{"$f":"IF(C511=\"\",\"\",IF(COUNTIF($C$3:C511, C511)>1, \"\", C511))","v":""},{"$f":"IF(G511=\"\",\"\",IF(F511=\"\",\"\",CONCATENATE(DIGITADOR!$M$1,G511,E511)))","v":""},"",{"$f":"IF(F511=\"\",\"\",VLOOKUP(F511,referentes!$Q$2:$T$300,3,FALSE))","v":""},null,null,null,null,null,{"$f":"IF(L511=\"\",\"\",VLOOKUP(L511,referentes!$G$2:$N$15,2,FALSE))","v":""},null,null,"",null,null,""]
[null,{"$f":"IF(C512=\"\",\"\",IF(COUNTIF($C$3:C512, C512)>1, \"\", C512))","v":""},{"$f":"IF(G512=\"\",\"\",IF(F512=\"\",\"\",CONCATENATE(DIGITADOR!$M$1,G512,E512)))","v":""},"",{"$f":"IF(F512=\"\",\"\",VLOOKUP(F512,referentes!$Q$2:$T$300,3,FALSE))","v":""},null,null,null,null,null,{"$f":"IF(L512=\"\",\"\",VLOOKUP(L512,referentes!$G$2:$N$15,2,FALSE))","v":""},null,null,"",null,null,""]
[null,{"$f":"IF(C513=\"\",\"\",IF(COUNTIF($C$3:C513, C513)>1, \"\", C513))","v":""},{"$f":"IF(G513=\"\",\"\",IF(F513=\"\",\"\",CONCATENATE(DIGITADOR!$M$1,G513,E513)))","v":""},"",{"$f":"IF(F513=\"\",\"\",VLOOKUP(F513,referentes!$Q$2:$T$300,3,FALSE))","v":""},null,null,null,null,null,{"$f":"IF(L513=\"\",\"\",VLOOKUP(L513,referentes!$G$2:$N$15,2,FALSE))","v":""},null,null,"",null,null,""]
[null,{"$f":"IF(C514=\"\",\"\",IF(COUNTIF($C$3:C514, C514)>1, \"\", C514))","v":""},{"$f":"IF(G514=\"\",\"\",IF(F514=\"\",\"\",CONCATENATE(DIGITADOR!$M$1,G514,E514)))","v":""},"",{"$f":"IF(F514=\"\",\"\",VLOOKUP(F514,referentes!$Q$2:$T$300,3,FALSE))","v":""},null,null,null,null,null,{"$f":"IF(L514=\"\",\"\",VLOOKUP(L514,referentes!$G$2:$N$15,2,FALSE))","v":""},null,null,"",null,null,""]
[null,{"$f":"IF(C515=\"\",\"\",IF(COUNTIF($C$3:C515, C515)>1, \"\", C515))","v":""},{"$f":"IF(G515=\"\",\"\",IF(F515=\"\",\"\",CONCATENATE(DIGITADOR!$M$1,G515,E515)))","v":""},"",{"$f":"IF(F515=\"\",\"\",VLOOKUP(F515,referentes!$Q$2:$T$300,3,FALSE))","v":""},null,null,null,null,null,{"$f":"IF(L515=\"\",\"\",VLOOKUP(L515,referentes!$G$2:$N$15,2,FALSE))","v":""},null,null,"",null,null,""]
[null,{"$f":"IF(C516=\"\",\"\",IF(COUNTIF($C$3:C516, C516)>1, \"\", C516))","v":""},{"$f":"IF(G516=\"\",\"\",IF(F516=\"\",\"\",CONCATENATE(DIGITADOR!$M$1,G516,E516)))","v":""},{"$f":"IF(C516=\"\",\"\",CONCATENATE(C516,ROW()-2))","v":""},{"$f":"IF(F516=\"\",\"\",VLOOKUP(F516,referentes!$Q$2:$T$300,3,FALSE))","v":""},null,null,null,null,null,{"$f":"IF(L516=\"\",\"\",VLOOKUP(L516,referentes!$G$2:$N$15,2,FALSE))","v":""},null,null,{"$f":"IF(M516=\"\",\"\",M516/PI())","v":""},null,null,{"$f":"IF(N516=\"\",\"\",((PI())*((N516/100)^2))/4*10000/500)","v":""}]
[null,{"$f":"IF(C517=\"\",\"\",IF(COUNTIF($C$3:C517, C517)>1, \"\", C517))","v":""},{"$f":"IF(G517=\"\",\"\",IF(F517=\"\",\"\",CONCATENATE(DIGITADOR!$M$1,G517,E517)))","v":""},"",{"$f":"IF(F517=\"\",\"\",VLOOKUP(F517,referentes!$Q$2:$T$300,3,FALSE))","v":""},null,null,null,null,null,{"$f":"IF(L517=\"\",\"\",VLOOKUP(L517,referentes!$G$2:$N$15,2,FALSE))","v":""},null,null,"",null,null,""]
[null,{"$f":"IF(C518=\"\",\"\",IF(COUNTIF($C$3:C518, C518)>1, \"\", C518))","v":""},{"$f":"IF(G518=\"\",\"\",IF(F518=\"\",\"\",CONCATENATE(DIGITADOR!$M$1,G518,E518)))","v":""},"",{"$f":"IF(F518=\"\",\"\",VLOOKUP(F518,referentes!$Q$2:$T$300,3,FALSE))","v":""},null,null,null,null,null,{"$f":"IF(L518=\"\",\"\",VLOOKUP(L518,referentes!$G$2:$N$15,2,FALSE))","v":""},null,null,"",null,null,""]
[null,{"$f":"IF(C519=\"\",\"\",IF(COUNTIF($C$3:C519, C519)>1, \"\", C519))","v":""},{"$f":"IF(G519=\"\",\"\",IF(F519=\"\",\"\",CONCATENATE(DIGITADOR!$M$1,G519,E519)))","v":""},"",{"$f":"IF(F519=\"\",\"\",VLOOKUP(F519,referentes!$Q$2:$T$300,3,FALSE))","v":""},null,null,null,null,null,{"$f":"IF(L519=\"\",\"\",VLOOKUP(L519,referentes!$G$2:$N$15,2,FALSE))","v":""},null,null,"",null,null,""]
[null,{"$f":"IF(C520=\"\",\"\",IF(COUNTIF($C$3:C520, C520)>1, \"\", C520))","v":""},{"$f":"IF(G520=\"\",\"\",IF(F520=\"\",\"\",CONCATENATE(DIGITADOR!$M$1,G520,E520)))","v":""},"",{"$f":"IF(F520=\"\",\"\",VLOOKUP(F520,referentes!$Q$2:$T$300,3,FALSE))","v":""},null,null,null,null,null,{"$f":"IF(L520=\"\",\"\",VLOOKUP(L520,referentes!$G$2:$N$15,2,FALSE))","v":""},null,null,"",null,null,""]
[null,{"$f":"IF(C521=\"\",\"\",IF(COUNTIF($C$3:C521, C521)>1, \"\", C521))","v":""},{"$f":"IF(G521=\"\",\"\",IF(F521=\"\",\"\",CONCATENATE(DIGITADOR!$M$1,G521,E521)))","v":""},"",{"$f":"IF(F521=\"\",\"\",VLOOKUP(F521,referentes!$Q$2:$T$300,3,FALSE))","v":""},null,null,null,null,null,{"$f":"IF(L521=\"\",\"\",VLOOKUP(L521,referentes!$G$2:$N$15,2,FALSE))","v":""},null,null,"",null,null,""]
[null,{"$f":"IF(C522=\"\",\"\",IF(COUNTIF($C$3:C522, C522)>1, \"\", C522))","v":""},{"$f":"IF(G522=\"\",\"\",IF(F522=\"\",\"\",CONCATENATE(DIGITADOR!$M$1,G522,E522)))","v":""},"",{"$f":"IF(F522=\"\",\"\",VLOOKUP(F522,referentes!$Q$2:$T$300,3,FALSE))","v":""},null,null,null,null,null,{"$f":"IF(L522=\"\",\"\",VLOOKUP(L522,referentes!$G$2:$N$15,2,FALSE))","v":""},null,null,"",null,null,""]
[null,{"$f":"IF(C523=\"\",\"\",IF(COUNTIF($C$3:C523, C523)>1, \"\", C523))","v":""},{"$f":"IF(G523=\"\",\"\",IF(F523=\"\",\"\",CONCATENATE(DIGITADOR!$M$1,G523,E523)))","v":""},"",{"$f":"IF(F523=\"\",\"\",VLOOKUP(F523,referentes!$Q$2:$T$300,3,FALSE))","v":""},null,null,null,null,null,{"$f":"IF(L523=\"\",\"\",VLOOKUP(L523,referentes!$G$2:$N$15,2,FALSE))","v":""},null,null,"",null,null,""]
[null,{"$f":"IF(C524=\"\",\"\",IF(COUNTIF($C$3:C524, C524)>1, \"\", C524))","v":""},{"$f":"IF(G524=\"\",\"\",IF(F524=\"\",\"\",CONCATENATE(DIGITADOR!$M$1,G524,E524)))","v":""},"",{"$f":"IF(F524=\"\",\"\",VLOOKUP(F524,referentes!$Q$2:$T$300,3,FALSE))","v":""},null,null,null,null,null,{"$f":"IF(L524=\"\",\"\",VLOOKUP(L524,referentes!$G$2:$N$15,2,FALSE))","v":""},null,null,"",null,null,""]
[null,{"$f":"IF(C525=\"\",\"\",IF(COUNTIF($C$3:C525, C525)>1, \"\", C525))","v":""},{"$f":"IF(G525=\"\",\"\",IF(F525=\"\",\"\",CONCATENATE(DIGITADOR!$M$1,G525,E525)))","v":""},"",{"$f":"IF(F525=\"\",\"\",VLOOKUP(F525,referentes!$Q$2:$T$300,3,FALSE))","v":""},null,null,null,null,null,{"$f":"IF(L525=\"\",\"\",VLOOKUP(L525,referentes!$G$2:$N$15,2,FALSE))","v":""},null,null,"",null,null,""]
[null,{"$f":"IF(C526=\"\",\"\",IF(COUNTIF($C$3:C526, C526)>1, \"\", C526))","v":""},{"$f":"IF(G526=\"\",\"\",IF(F526=\"\",\"\",CONCATENATE(DIGITADOR!$M$1,G526,E526)))","v":""},"",{"$f":"IF(F526=\"\",\"\",VLOOKUP(F526,referentes!$Q$2:$T$300,3,FALSE))","v":""},null,null,null,null,null,{"$f":"IF(L526=\"\",\"\",VLOOKUP(L526,referentes!$G$2:$N$15,2,FALSE))","v":""},null,null,"",null,null,""]
[null,{"$f":"IF(C527=\"\",\"\",IF(COUNTIF($C$3:C527, C527)>1, \"\", C527))","v":""},{"$f":"IF(G527=\"\",\"\",IF(F527=\"\",\"\",CONCATENATE(DIGITADOR!$M$1,G527,E527)))","v":""},"",{"$f":"IF(F527=\"\",\"\",VLOOKUP(F527,referentes!$Q$2:$T$300,3,FALSE))","v":""},null,null,null,null,null,{"$f":"IF(L527=\"\",\"\",VLOOKUP(L527,referentes!$G$2:$N$15,2,FALSE))","v":""},null,null,"",null,null,""]
[null,{"$f":"IF(C528=\"\",\"\",IF(COUNTIF($C$3:C528, C528)>1, \"\", C528))","v":""},{"$f":"IF(G528=\"\",\"\",IF(F528=\"\",\"\",CONCATENATE(DIGITADOR!$M$1,G528,E528)))","v":""},"",{"$f":"IF(F528=\"\",\"\",VLOOKUP(F528,referentes!$Q$2:$T$300,3,FALSE))","v":""},null,null,null,null,null,{"$f":"IF(L528=\"\",\"\",VLOOKUP(L528,referentes!$G$2:$N$15,2,FALSE))","v":""},null,null,"",null,null,""]
[null,{"$f":"IF(C529=\"\",\"\",IF(COUNTIF($C$3:C529, C529)>1, \"\", C529))","v":""},{"$f":"IF(G529=\"\",\"\",IF(F529=\"\",\"\",CONCATENATE(DIGITADOR!$M$1,G529,E529)))","v":""},"",{"$f":"IF(F529=\"\",\"\",VLOOKUP(F529,referentes!$Q$2:$T$300,3,FALSE))","v":""},null,null,null,null,null,{"$f":"IF(L529=\"\",\"\",VLOOKUP(L529,referentes!$G$2:$N$15,2,FALSE))","v":""},null,null,"",null,null,""]
[null,{"$f":"IF(C530=\"\",\"\",IF(COUNTIF($C$3:C530, C530)>1, \"\", C530))","v":""},{"$f":"IF(G530=\"\",\"\",IF(F530=\"\",\"\",CONCATENATE(DIGITADOR!$M$1,G530,E530)))","v":""},"",{"$f":"IF(F530=\"\",\"\",VLOOKUP(F530,referentes!$Q$2:$T$300,3,FALSE))","v":""},null,null,null,null,null,{"$f":"IF(L530=\"\",\"\",VLOOKUP(L530,referentes!$G$2:$N$15,2,FALSE))","v":""},null,null,"",null,null,""]
[null,{"$f":"IF(C531=\"\",\"\",IF(COUNTIF($C$3:C531, C531)>1, \"\", C531))","v":""},{"$f":"IF(G531=\"\",\"\",IF(F531=\"\",\"\",CONCATENATE(DIGITADOR!$M$1,G531,E531)))","v":""},"",{"$f":"IF(F531=\"\",\"\",VLOOKUP(F531,referentes!$Q$2:$T$300,3,FALSE))","v":""},null,null,null,null,null,{"$f":"IF(L531=\"\",\"\",VLOOKUP(L531,referentes!$G$2:$N$15,2,FALSE))","v":""},null,null,"",null,null,""]
[null,{"$f":"IF(C532=\"\",\"\",IF(COUNTIF($C$3:C532, C532)>1, \"\", C532))","v":""},{"$f":"IF(G532=\"\",\"\",IF(F532=\"\",\"\",CONCATENATE(DIGITADOR!$M$1,G532,E532)))","v":""},"",{"$f":"IF(F532=\"\",\"\",VLOOKUP(F532,referentes!$Q$2:$T$300,3,FALSE))","v":""},null,null,null,null,null,{"$f":"IF(L532=\"\",\"\",VLOOKUP(L532,referentes!$G$2:$N$15,2,FALSE))","v":""},null,null,"",null,null,""]
[null,{"$f":"IF(C533=\"\",\"\",IF(COUNTIF($C$3:C533, C533)>1, \"\", C533))","v":""},{"$f":"IF(G533=\"\",\"\",IF(F533=\"\",\"\",CONCATENATE(DIGITADOR!$M$1,G533,E533)))","v":""},"",{"$f":"IF(F533=\"\",\"\",VLOOKUP(F533,referentes!$Q$2:$T$300,3,FALSE))","v":""},null,null,null,null,null,{"$f":"IF(L533=\"\",\"\",VLOOKUP(L533,referentes!$G$2:$N$15,2,FALSE))","v":""},null,null,"",null,null,""]
[null,{"$f":"IF(C534=\"\",\"\",IF(COUNTIF($C$3:C534, C534)>1, \"\", C534))","v":""},{"$f":"IF(G534=\"\",\"\",IF(F534=\"\",\"\",CONCATENATE(DIGITADOR!$M$1,G534,E534)))","v":""},"",{"$f":"IF(F534=\"\",\"\",VLOOKUP(F534,referentes!$Q$2:$T$300,3,FALSE))","v":""},null,null,null,null,null,{"$f":"IF(L534=\"\",\"\",VLOOKUP(L534,referentes!$G$2:$N$15,2,FALSE))","v":""},null,null,"",null,null,""]
[null,{"$f":"IF(C535=\"\",\"\",IF(COUNTIF($C$3:C535, C535)>1, \"\", C535))","v":""},{"$f":"IF(G535=\"\",\"\",IF(F535=\"\",\"\",CONCATENATE(DIGITADOR!$M$1,G535,E535)))","v":""},"",{"$f":"IF(F535=\"\",\"\",VLOOKUP(F535,referentes!$Q$2:$T$300,3,FALSE))","v":""},null,null,null,null,null,{"$f":"IF(L535=\"\",\"\",VLOOKUP(L535,referentes!$G$2:$N$15,2,FALSE))","v":""},null,null,"",null,null,""]
[null,{"$f":"IF(C536=\"\",\"\",IF(COUNTIF($C$3:C536, C536)>1, \"\", C536))","v":""},{"$f":"IF(G536=\"\",\"\",IF(F536=\"\",\"\",CONCATENATE(DIGITADOR!$M$1,G536,E536)))","v":""},"",{"$f":"IF(F536=\"\",\"\",VLOOKUP(F536,referentes!$Q$2:$T$300,3,FALSE))","v":""},null,null,null,null,null,{"$f":"IF(L536=\"\",\"\",VLOOKUP(L536,referentes!$G$2:$N$15,2,FALSE))","v":""},null,null,"",null,null,""]
[null,{"$f":"IF(C537=\"\",\"\",IF(COUNTIF($C$3:C537, C537)>1, \"\", C537))","v":""},{"$f":"IF(G537=\"\",\"\",IF(F537=\"\",\"\",CONCATENATE(DIGITADOR!$M$1,G537,E537)))","v":""},"",{"$f":"IF(F537=\"\",\"\",VLOOKUP(F537,referentes!$Q$2:$T$300,3,FALSE))","v":""},null,null,null,null,null,{"$f":"IF(L537=\"\",\"\",VLOOKUP(L537,referentes!$G$2:$N$15,2,FALSE))","v":""},null,null,"",null,null,""]
[null,{"$f":"IF(C538=\"\",\"\",IF(COUNTIF($C$3:C538, C538)>1, \"\", C538))","v":""},{"$f":"IF(G538=\"\",\"\",IF(F538=\"\",\"\",CONCATENATE(DIGITADOR!$M$1,G538,E538)))","v":""},"",{"$f":"IF(F538=\"\",\"\",VLOOKUP(F538,referentes!$Q$2:$T$300,3,FALSE))","v":""},null,null,null,null,null,{"$f":"IF(L538=\"\",\"\",VLOOKUP(L538,referentes!$G$2:$N$15,2,FALSE))","v":""},null,null,"",null,null,""]
[null,{"$f":"IF(C539=\"\",\"\",IF(COUNTIF($C$3:C539, C539)>1, \"\", C539))","v":""},{"$f":"IF(G539=\"\",\"\",IF(F539=\"\",\"\",CONCATENATE(DIGITADOR!$M$1,G539,E539)))","v":""},"",{"$f":"IF(F539=\"\",\"\",VLOOKUP(F539,referentes!$Q$2:$T$300,3,FALSE))","v":""},null,null,null,null,null,{"$f":"IF(L539=\"\",\"\",VLOOKUP(L539,referentes!$G$2:$N$15,2,FALSE))","v":""},null,null,"",null,null,""]
[null,{"$f":"IF(C540=\"\",\"\",IF(COUNTIF($C$3:C540, C540)>1, \"\", C540))","v":""},{"$f":"IF(G540=\"\",\"\",IF(F540=\"\",\"\",CONCATENATE(DIGITADOR!$M$1,G540,E540)))","v":""},"",{"$f":"IF(F540=\"\",\"\",VLOOKUP(F540,referentes!$Q$2:$T$300,3,FALSE))","v":""},null,null,null,null,null,{"$f":"IF(L540=\"\",\"\",VLOOKUP(L540,referentes!$G$2:$N$15,2,FALSE))","v":""},null,null,"",null,null,""]
[null,{"$f":"IF(C541=\"\",\"\",IF(COUNTIF($C$3:C541, C541)>1, \"\", C541))","v":""},{"$f":"IF(G541=\"\",\"\",IF(F541=\"\",\"\",CONCATENATE(DIGITADOR!$M$1,G541,E541)))","v":""},"",{"$f":"IF(F541=\"\",\"\",VLOOKUP(F541,referentes!$Q$2:$T$300,3,FALSE))","v":""},null,null,null,null,null,{"$f":"IF(L541=\"\",\"\",VLOOKUP(L541,referentes!$G$2:$N$15,2,FALSE))","v":""},null,null,"",null,null,""]
[null,{"$f":"IF(C542=\"\",\"\",IF(COUNTIF($C$3:C542, C542)>1, \"\", C542))","v":""},{"$f":"IF(G542=\"\",\"\",IF(F542=\"\",\"\",CONCATENATE(DIGITADOR!$M$1,G542,E542)))","v":""},"",{"$f":"IF(F542=\"\",\"\",VLOOKUP(F542,referentes!$Q$2:$T$300,3,FALSE))","v":""},null,null,null,null,null,{"$f":"IF(L542=\"\",\"\",VLOOKUP(L542,referentes!$G$2:$N$15,2,FALSE))","v":""},null,null,"",null,null,""]
[null,{"$f":"IF(C543=\"\",\"\",IF(COUNTIF($C$3:C543, C543)>1, \"\", C543))","v":""},{"$f":"IF(G543=\"\",\"\",IF(F543=\"\",\"\",CONCATENATE(DIGITADOR!$M$1,G543,E543)))","v":""},"",{"$f":"IF(F543=\"\",\"\",VLOOKUP(F543,referentes!$Q$2:$T$300,3,FALSE))","v":""},null,null,null,null,null,{"$f":"IF(L543=\"\",\"\",VLOOKUP(L543,referentes!$G$2:$N$15,2,FALSE))","v":""},null,null,"",null,null,""]
[null,{"$f":"IF(C544=\"\",\"\",IF(COUNTIF($C$3:C544, C544)>1, \"\", C544))","v":""},{"$f":"IF(G544=\"\",\"\",IF(F544=\"\",\"\",CONCATENATE(DIGITADOR!$M$1,G544,E544)))","v":""},"",{"$f":"IF(F544=\"\",\"\",VLOOKUP(F544,referentes!$Q$2:$T$300,3,FALSE))","v":""},null,null,null,null,null,{"$f":"IF(L544=\"\",\"\",VLOOKUP(L544,referentes!$G$2:$N$15,2,FALSE))","v":""},null,null,"",null,null,""]
[null,{"$f":"IF(C545=\"\",\"\",IF(COUNTIF($C$3:C545, C545)>1, \"\", C545))","v":""},{"$f":"IF(G545=\"\",\"\",IF(F545=\"\",\"\",CONCATENATE(DIGITADOR!$M$1,G545,E545)))","v":""},"",{"$f":"IF(F545=\"\",\"\",VLOOKUP(F545,referentes!$Q$2:$T$300,3,FALSE))","v":""},null,null,null,null,null,{"$f":"IF(L545=\"\",\"\",VLOOKUP(L545,referentes!$G$2:$N$15,2,FALSE))","v":""},null,null,"",null,null,""]
[null,{"$f":"IF(C546=\"\",\"\",IF(COUNTIF($C$3:C546, C546)>1, \"\", C546))","v":""},{"$f":"IF(G546=\"\",\"\",IF(F546=\"\",\"\",CONCATENATE(DIGITADOR!$M$1,G546,E546)))","v":""},"",{"$f":"IF(F546=\"\",\"\",VLOOKUP(F546,referentes!$Q$2:$T$300,3,FALSE))","v":""},null,null,null,null,null,{"$f":"IF(L546=\"\",\"\",VLOOKUP(L546,referentes!$G$2:$N$15,2,FALSE))","v":""},null,null,"",null,null,""]
[null,{"$f":"IF(C547=\"\",\"\",IF(COUNTIF($C$3:C547, C547)>1, \"\", C547))","v":""},{"$f":"IF(G547=\"\",\"\",IF(F547=\"\",\"\",CONCATENATE(DIGITADOR!$M$1,G547,E547)))","v":""},"",{"$f":"IF(F547=\"\",\"\",VLOOKUP(F547,referentes!$Q$2:$T$300,3,FALSE))","v":""},null,null,null,null,null,{"$f":"IF(L547=\"\",\"\",VLOOKUP(L547,referentes!$G$2:$N$15,2,FALSE))","v":""},null,null,"",null,null,""]
[null,{"$f":"IF(C548=\"\",\"\",IF(COUNTIF($C$3:C548, C548)>1, \"\", C548))","v":""},{"$f":"IF(G548=\"\",\"\",IF(F548=\"\",\"\",CONCATENATE(DIGITADOR!$M$1,G548,E548)))","v":""},"",{"$f":"IF(F548=\"\",\"\",VLOOKUP(F548,referentes!$Q$2:$T$300,3,FALSE))","v":""},null,null,null,null,null,{"$f":"IF(L548=\"\",\"\",VLOOKUP(L548,referentes!$G$2:$N$15,2,FALSE))","v":""},null,null,"",null,null,""]
[null,{"$f":"IF(C549=\"\",\"\",IF(COUNTIF($C$3:C549, C549)>1, \"\", C549))","v":""},{"$f":"IF(G549=\"\",\"\",IF(F549=\"\",\"\",CONCATENATE(DIGITADOR!$M$1,G549,E549)))","v":""},"",{"$f":"IF(F549=\"\",\"\",VLOOKUP(F549,referentes!$Q$2:$T$300,3,FALSE))","v":""},null,null,null,null,null,{"$f":"IF(L549=\"\",\"\",VLOOKUP(L549,referentes!$G$2:$N$15,2,FALSE))","v":""},null,null,"",null,null,""]
[null,{"$f":"IF(C550=\"\",\"\",IF(COUNTIF($C$3:C550, C550)>1, \"\", C550))","v":""},{"$f":"IF(G550=\"\",\"\",IF(F550=\"\",\"\",CONCATENATE(DIGITADOR!$M$1,G550,E550)))","v":""},"",{"$f":"IF(F550=\"\",\"\",VLOOKUP(F550,referentes!$Q$2:$T$300,3,FALSE))","v":""},null,null,null,null,null,{"$f":"IF(L550=\"\",\"\",VLOOKUP(L550,referentes!$G$2:$N$15,2,FALSE))","v":""},null,null,"",null,null,""]
[null,{"$f":"IF(C551=\"\",\"\",IF(COUNTIF($C$3:C551, C551)>1, \"\", C551))","v":""},{"$f":"IF(G551=\"\",\"\",IF(F551=\"\",\"\",CONCATENATE(DIGITADOR!$M$1,G551,E551)))","v":""},"",{"$f":"IF(F551=\"\",\"\",VLOOKUP(F551,referentes!$Q$2:$T$300,3,FALSE))","v":""},null,null,null,null,null,{"$f":"IF(L551=\"\",\"\",VLOOKUP(L551,referentes!$G$2:$N$15,2,FALSE))","v":""},null,null,"",null,null,""]
[null,{"$f":"IF(C552=\"\",\"\",IF(COUNTIF($C$3:C552, C552)>1, \"\", C552))","v":""},{"$f":"IF(G552=\"\",\"\",IF(F552=\"\",\"\",CONCATENATE(DIGITADOR!$M$1,G552,E552)))","v":""},"",{"$f":"IF(F552=\"\",\"\",VLOOKUP(F552,referentes!$Q$2:$T$300,3,FALSE))","v":""},null,null,null,null,null,{"$f":"IF(L552=\"\",\"\",VLOOKUP(L552,referentes!$G$2:$N$15,2,FALSE))","v":""},null,null,"",null,null,""]
[null,{"$f":"IF(C553=\"\",\"\",IF(COUNTIF($C$3:C553, C553)>1, \"\", C553))","v":""},{"$f":"IF(G553=\"\",\"\",IF(F553=\"\",\"\",CONCATENATE(DIGITADOR!$M$1,G553,E553)))","v":""},"",{"$f":"IF(F553=\"\",\"\",VLOOKUP(F553,referentes!$Q$2:$T$300,3,FALSE))","v":""},null,null,null,null,null,{"$f":"IF(L553=\"\",\"\",VLOOKUP(L553,referentes!$G$2:$N$15,2,FALSE))","v":""},null,null,"",null,null,""]
[null,{"$f":"IF(C554=\"\",\"\",IF(COUNTIF($C$3:C554, C554)>1, \"\", C554))","v":""},{"$f":"IF(G554=\"\",\"\",IF(F554=\"\",\"\",CONCATENATE(DIGITADOR!$M$1,G554,E554)))","v":""},"",{"$f":"IF(F554=\"\",\"\",VLOOKUP(F554,referentes!$Q$2:$T$300,3,FALSE))","v":""},null,null,null,null,null,{"$f":"IF(L554=\"\",\"\",VLOOKUP(L554,referentes!$G$2:$N$15,2,FALSE))","v":""},null,null,"",null,null,""]
[null,{"$f":"IF(C555=\"\",\"\",IF(COUNTIF($C$3:C555, C555)>1, \"\", C555))","v":""},{"$f":"IF(G555=\"\",\"\",IF(F555=\"\",\"\",CONCATENATE(DIGITADOR!$M$1,G555,E555)))","v":""},"",{"$f":"IF(F555=\"\",\"\",VLOOKUP(F555,referentes!$Q$2:$T$300,3,FALSE))","v":""},null,null,null,null,null,{"$f":"IF(L555=\"\",\"\",VLOOKUP(L555,referentes!$G$2:$N$15,2,FALSE))","v":""},null,null,"",null,null,""]
[null,{"$f":"IF(C556=\"\",\"\",IF(COUNTIF($C$3:C556, C556)>1, \"\", C556))","v":""},{"$f":"IF(G556=\"\",\"\",IF(F556=\"\",\"\",CONCATENATE(DIGITADOR!$M$1,G556,E556)))","v":""},"",{"$f":"IF(F556=\"\",\"\",VLOOKUP(F556,referentes!$Q$2:$T$300,3,FALSE))","v":""},null,null,null,null,null,{"$f":"IF(L556=\"\",\"\",VLOOKUP(L556,referentes!$G$2:$N$15,2,FALSE))","v":""},null,null,"",null,null,""]
[null,{"$f":"IF(C557=\"\",\"\",IF(COUNTIF($C$3:C557, C557)>1, \"\", C557))","v":""},{"$f":"IF(G557=\"\",\"\",IF(F557=\"\",\"\",CONCATENATE(DIGITADOR!$M$1,G557,E557)))","v":""},"",{"$f":"IF(F557=\"\",\"\",VLOOKUP(F557,referentes!$Q$2:$T$300,3,FALSE))","v":""},null,null,null,null,null,{"$f":"IF(L557=\"\",\"\",VLOOKUP(L557,referentes!$G$2:$N$15,2,FALSE))","v":""},null,null,"",null,null,""]
[null,{"$f":"IF(C558=\"\",\"\",IF(COUNTIF($C$3:C558, C558)>1, \"\", C558))","v":""},{"$f":"IF(G558=\"\",\"\",IF(F558=\"\",\"\",CONCATENATE(DIGITADOR!$M$1,G558,E558)))","v":""},"",{"$f":"IF(F558=\"\",\"\",VLOOKUP(F558,referentes!$Q$2:$T$300,3,FALSE))","v":""},null,null,null,null,null,{"$f":"IF(L558=\"\",\"\",VLOOKUP(L558,referentes!$G$2:$N$15,2,FALSE))","v":""},null,null,"",null,null,""]
[null,{"$f":"IF(C559=\"\",\"\",IF(COUNTIF($C$3:C559, C559)>1, \"\", C559))","v":""},{"$f":"IF(G559=\"\",\"\",IF(F559=\"\",\"\",CONCATENATE(DIGITADOR!$M$1,G559,E559)))","v":""},"",{"$f":"IF(F559=\"\",\"\",VLOOKUP(F559,referentes!$Q$2:$T$300,3,FALSE))","v":""},null,null,null,null,null,{"$f":"IF(L559=\"\",\"\",VLOOKUP(L559,referentes!$G$2:$N$15,2,FALSE))","v":""},null,null,"",null,null,""]
[null,{"$f":"IF(C560=\"\",\"\",IF(COUNTIF($C$3:C560, C560)>1, \"\", C560))","v":""},{"$f":"IF(G560=\"\",\"\",IF(F560=\"\",\"\",CONCATENATE(DIGITADOR!$M$1,G560,E560)))","v":""},"",{"$f":"IF(F560=\"\",\"\",VLOOKUP(F560,referentes!$Q$2:$T$300,3,FALSE))","v":""},null,null,null,null,null,{"$f":"IF(L560=\"\",\"\",VLOOKUP(L560,referentes!$G$2:$N$15,2,FALSE))","v":""},null,null,"",null,null,""]
[null,{"$f":"IF(C561=\"\",\"\",IF(COUNTIF($C$3:C561, C561)>1, \"\", C561))","v":""},{"$f":"IF(G561=\"\",\"\",IF(F561=\"\",\"\",CONCATENATE(DIGITADOR!$M$1,G561,E561)))","v":""},"",{"$f":"IF(F561=\"\",\"\",VLOOKUP(F561,referentes!$Q$2:$T$300,3,FALSE))","v":""},null,null,null,null,null,{"$f":"IF(L561=\"\",\"\",VLOOKUP(L561,referentes!$G$2:$N$15,2,FALSE))","v":""},null,null,"",null,null,""]
[null,{"$f":"IF(C562=\"\",\"\",IF(COUNTIF($C$3:C562, C562)>1, \"\", C562))","v":""},{"$f":"IF(G562=\"\",\"\",IF(F562=\"\",\"\",CONCATENATE(DIGITADOR!$M$1,G562,E562)))","v":""},"",{"$f":"IF(F562=\"\",\"\",VLOOKUP(F562,referentes!$Q$2:$T$300,3,FALSE))","v":""},null,null,null,null,null,{"$f":"IF(L562=\"\",\"\",VLOOKUP(L562,referentes!$G$2:$N$15,2,FALSE))","v":""},null,null,"",null,null,""]
[null,{"$f":"IF(C563=\"\",\"\",IF(COUNTIF($C$3:C563, C563)>1, \"\", C563))","v":""},{"$f":"IF(G563=\"\",\"\",IF(F563=\"\",\"\",CONCATENATE(DIGITADOR!$M$1,G563,E563)))","v":""},"",{"$f":"IF(F563=\"\",\"\",VLOOKUP(F563,referentes!$Q$2:$T$300,3,FALSE))","v":""},null,null,null,null,null,{"$f":"IF(L563=\"\",\"\",VLOOKUP(L563,referentes!$G$2:$N$15,2,FALSE))","v":""},null,null,"",null,null,""]
[null,{"$f":"IF(C564=\"\",\"\",IF(COUNTIF($C$3:C564, C564)>1, \"\", C564))","v":""},{"$f":"IF(G564=\"\",\"\",IF(F564=\"\",\"\",CONCATENATE(DIGITADOR!$M$1,G564,E564)))","v":""},"",{"$f":"IF(F564=\"\",\"\",VLOOKUP(F564,referentes!$Q$2:$T$300,3,FALSE))","v":""},null,null,null,null,null,{"$f":"IF(L564=\"\",\"\",VLOOKUP(L564,referentes!$G$2:$N$15,2,FALSE))","v":""},null,null,"",null,null,""]
[null,{"$f":"IF(C565=\"\",\"\",IF(COUNTIF($C$3:C565, C565)>1, \"\", C565))","v":""},{"$f":"IF(G565=\"\",\"\",IF(F565=\"\",\"\",CONCATENATE(DIGITADOR!$M$1,G565,E565)))","v":""},"",{"$f":"IF(F565=\"\",\"\",VLOOKUP(F565,referentes!$Q$2:$T$300,3,FALSE))","v":""},null,null,null,null,null,{"$f":"IF(L565=\"\",\"\",VLOOKUP(L565,referentes!$G$2:$N$15,2,FALSE))","v":""},null,null,"",null,null,""]
[null,{"$f":"IF(C566=\"\",\"\",IF(COUNTIF($C$3:C566, C566)>1, \"\", C566))","v":""},{"$f":"IF(G566=\"\",\"\",IF(F566=\"\",\"\",CONCATENATE(DIGITADOR!$M$1,G566,E566)))","v":""},"",{"$f":"IF(F566=\"\",\"\",VLOOKUP(F566,referentes!$Q$2:$T$300,3,FALSE))","v":""},null,null,null,null,null,{"$f":"IF(L566=\"\",\"\",VLOOKUP(L566,referentes!$G$2:$N$15,2,FALSE))","v":""},null,null,"",null,null,""]
[null,{"$f":"IF(C567=\"\",\"\",IF(COUNTIF($C$3:C567, C567)>1, \"\", C567))","v":""},{"$f":"IF(G567=\"\",\"\",IF(F567=\"\",\"\",CONCATENATE(DIGITADOR!$M$1,G567,E567)))","v":""},"",{"$f":"IF(F567=\"\",\"\",VLOOKUP(F567,referentes!$Q$2:$T$300,3,FALSE))","v":""},null,null,null,null,null,{"$f":"IF(L567=\"\",\"\",VLOOKUP(L567,referentes!$G$2:$N$15,2,FALSE))","v":""},null,null,"",null,null,""]
[null,{"$f":"IF(C568=\"\",\"\",IF(COUNTIF($C$3:C568, C568)>1, \"\", C568))","v":""},{"$f":"IF(G568=\"\",\"\",IF(F568=\"\",\"\",CONCATENATE(DIGITADOR!$M$1,G568,E568)))","v":""},"",{"$f":"IF(F568=\"\",\"\",VLOOKUP(F568,referentes!$Q$2:$T$300,3,FALSE))","v":""},null,null,null,null,null,{"$f":"IF(L568=\"\",\"\",VLOOKUP(L568,referentes!$G$2:$N$15,2,FALSE))","v":""},null,null,"",null,null,""]
[null,{"$f":"IF(C569=\"\",\"\",IF(COUNTIF($C$3:C569, C569)>1, \"\", C569))","v":""},{"$f":"IF(G569=\"\",\"\",IF(F569=\"\",\"\",CONCATENATE(DIGITADOR!$M$1,G569,E569)))","v":""},"",{"$f":"IF(F569=\"\",\"\",VLOOKUP(F569,referentes!$Q$2:$T$300,3,FALSE))","v":""},null,null,null,null,null,{"$f":"IF(L569=\"\",\"\",VLOOKUP(L569,referentes!$G$2:$N$15,2,FALSE))","v":""},null,null,"",null,null,""]
[null,{"$f":"IF(C570=\"\",\"\",IF(COUNTIF($C$3:C570, C570)>1, \"\", C570))","v":""},{"$f":"IF(G570=\"\",\"\",IF(F570=\"\",\"\",CONCATENATE(DIGITADOR!$M$1,G570,E570)))","v":""},"",{"$f":"IF(F570=\"\",\"\",VLOOKUP(F570,referentes!$Q$2:$T$300,3,FALSE))","v":""},null,null,null,null,null,{"$f":"IF(L570=\"\",\"\",VLOOKUP(L570,referentes!$G$2:$N$15,2,FALSE))","v":""},null,null,"",null,null,""]
[null,{"$f":"IF(C571=\"\",\"\",IF(COUNTIF($C$3:C571, C571)>1, \"\", C571))","v":""},{"$f":"IF(G571=\"\",\"\",IF(F571=\"\",\"\",CONCATENATE(DIGITADOR!$M$1,G571,E571)))","v":""},"",{"$f":"IF(F571=\"\",\"\",VLOOKUP(F571,referentes!$Q$2:$T$300,3,FALSE))","v":""},null,null,null,null,null,{"$f":"IF(L571=\"\",\"\",VLOOKUP(L571,referentes!$G$2:$N$15,2,FALSE))","v":""},null,null,"",null,null,""]
[null,{"$f":"IF(C572=\"\",\"\",IF(COUNTIF($C$3:C572, C572)>1, \"\", C572))","v":""},{"$f":"IF(G572=\"\",\"\",IF(F572=\"\",\"\",CONCATENATE(DIGITADOR!$M$1,G572,E572)))","v":""},"",{"$f":"IF(F572=\"\",\"\",VLOOKUP(F572,referentes!$Q$2:$T$300,3,FALSE))","v":""},null,null,null,null,null,{"$f":"IF(L572=\"\",\"\",VLOOKUP(L572,referentes!$G$2:$N$15,2,FALSE))","v":""},null,null,"",null,null,""]
[null,{"$f":"IF(C573=\"\",\"\",IF(COUNTIF($C$3:C573, C573)>1, \"\", C573))","v":""},{"$f":"IF(G573=\"\",\"\",IF(F573=\"\",\"\",CONCATENATE(DIGITADOR!$M$1,G573,E573)))","v":""},"",{"$f":"IF(F573=\"\",\"\",VLOOKUP(F573,referentes!$Q$2:$T$300,3,FALSE))","v":""},null,null,null,null,null,{"$f":"IF(L573=\"\",\"\",VLOOKUP(L573,referentes!$G$2:$N$15,2,FALSE))","v":""},null,null,"",null,null,""]
[null,{"$f":"IF(C574=\"\",\"\",IF(COUNTIF($C$3:C574, C574)>1, \"\", C574))","v":""},{"$f":"IF(G574=\"\",\"\",IF(F574=\"\",\"\",CONCATENATE(DIGITADOR!$M$1,G574,E574)))","v":""},"",{"$f":"IF(F574=\"\",\"\",VLOOKUP(F574,referentes!$Q$2:$T$300,3,FALSE))","v":""},null,null,null,null,null,{"$f":"IF(L574=\"\",\"\",VLOOKUP(L574,referentes!$G$2:$N$15,2,FALSE))","v":""},null,null,"",null,null,""]
[null,{"$f":"IF(C575=\"\",\"\",IF(COUNTIF($C$3:C575, C575)>1, \"\", C575))","v":""},{"$f":"IF(G575=\"\",\"\",IF(F575=\"\",\"\",CONCATENATE(DIGITADOR!$M$1,G575,E575)))","v":""},"",{"$f":"IF(F575=\"\",\"\",VLOOKUP(F575,referentes!$Q$2:$T$300,3,FALSE))","v":""},null,null,null,null,null,{"$f":"IF(L575=\"\",\"\",VLOOKUP(L575,referentes!$G$2:$N$15,2,FALSE))","v":""},null,null,"",null,null,""]
[null,{"$f":"IF(C576=\"\",\"\",IF(COUNTIF($C$3:C576, C576)>1, \"\", C576))","v":""},{"$f":"IF(G576=\"\",\"\",IF(F576=\"\",\"\",CONCATENATE(DIGITADOR!$M$1,G576,E576)))","v":""},"",{"$f":"IF(F576=\"\",\"\",VLOOKUP(F576,referentes!$Q$2:$T$300,3,FALSE))","v":""},null,null,null,null,null,{"$f":"IF(L576=\"\",\"\",VLOOKUP(L576,referentes!$G$2:$N$15,2,FALSE))","v":""},null,null,"",null,null,""]
[null,{"$f":"IF(C577=\"\",\"\",IF(COUNTIF($C$3:C577, C577)>1, \"\", C577))","v":""},{"$f":"IF(G577=\"\",\"\",IF(F577=\"\",\"\",CONCATENATE(DIGITADOR!$M$1,G577,E577)))","v":""},"",{"$f":"IF(F577=\"\",\"\",VLOOKUP(F577,referentes!$Q$2:$T$300,3,FALSE))","v":""},null,null,null,null,null,{"$f":"IF(L577=\"\",\"\",VLOOKUP(L577,referentes!$G$2:$N$15,2,FALSE))","v":""},null,null,"",null,null,""]
[null,{"$f":"IF(C578=\"\",\"\",IF(COUNTIF($C$3:C578, C578)>1, \"\", C578))","v":""},{"$f":"IF(G578=\"\",\"\",IF(F578=\"\",\"\",CONCATENATE(DIGITADOR!$M$1,G578,E578)))","v":""},"",{"$f":"IF(F578=\"\",\"\",VLOOKUP(F578,referentes!$Q$2:$T$300,3,FALSE))","v":""},null,null,null,null,null,{"$f":"IF(L578=\"\",\"\",VLOOKUP(L578,referentes!$G$2:$N$15,2,FALSE))","v":""},null,null,"",null,null,""]
[null,{"$f":"IF(C579=\"\",\"\",IF(COUNTIF($C$3:C579, C579)>1, \"\", C579))","v":""},{"$f":"IF(G579=\"\",\"\",IF(F579=\"\",\"\",CONCATENATE(DIGITADOR!$M$1,G579,E579)))","v":""},"",{"$f":"IF(F579=\"\",\"\",VLOOKUP(F579,referentes!$Q$2:$T$300,3,FALSE))","v":""},null,null,null,null,null,{"$f":"IF(L579=\"\",\"\",VLOOKUP(L579,referentes!$G$2:$N$15,2,FALSE))","v":""},null,null,"",null,null,""]
[null,{"$f":"IF(C580=\"\",\"\",IF(COUNTIF($C$3:C580, C580)>1, \"\", C580))","v":""},{"$f":"IF(G580=\"\",\"\",IF(F580=\"\",\"\",CONCATENATE(DIGITADOR!$M$1,G580,E580)))","v":""},{"$f":"IF(C580=\"\",\"\",CONCATENATE(C580,ROW()-2))","v":""},{"$f":"IF(F580=\"\",\"\",VLOOKUP(F580,referentes!$Q$2:$T$300,3,FALSE))","v":""},null,null,null,null,null,{"$f":"IF(L580=\"\",\"\",VLOOKUP(L580,referentes!$G$2:$N$15,2,FALSE))","v":""},null,null,{"$f":"IF(M580=\"\",\"\",M580/PI())","v":""},null,null,{"$f":"IF(N580=\"\",\"\",((PI())*((N580/100)^2))/4*10000/500)","v":""}]
[null,{"$f":"IF(C581=\"\",\"\",IF(COUNTIF($C$3:C581, C581)>1, \"\", C581))","v":""},{"$f":"IF(G581=\"\",\"\",IF(F581=\"\",\"\",CONCATENATE(DIGITADOR!$M$1,G581,E581)))","v":""},"",{"$f":"IF(F581=\"\",\"\",VLOOKUP(F581,referentes!$Q$2:$T$300,3,FALSE))","v":""},null,null,null,null,null,{"$f":"IF(L581=\"\",\"\",VLOOKUP(L581,referentes!$G$2:$N$15,2,FALSE))","v":""},null,null,"",null,null,""]
[null,{"$f":"IF(C582=\"\",\"\",IF(COUNTIF($C$3:C582, C582)>1, \"\", C582))","v":""},{"$f":"IF(G582=\"\",\"\",IF(F582=\"\",\"\",CONCATENATE(DIGITADOR!$M$1,G582,E582)))","v":""},"",{"$f":"IF(F582=\"\",\"\",VLOOKUP(F582,referentes!$Q$2:$T$300,3,FALSE))","v":""},null,null,null,null,null,{"$f":"IF(L582=\"\",\"\",VLOOKUP(L582,referentes!$G$2:$N$15,2,FALSE))","v":""},null,null,"",null,null,""]
[null,{"$f":"IF(C583=\"\",\"\",IF(COUNTIF($C$3:C583, C583)>1, \"\", C583))","v":""},{"$f":"IF(G583=\"\",\"\",IF(F583=\"\",\"\",CONCATENATE(DIGITADOR!$M$1,G583,E583)))","v":""},"",{"$f":"IF(F583=\"\",\"\",VLOOKUP(F583,referentes!$Q$2:$T$300,3,FALSE))","v":""},null,null,null,null,null,{"$f":"IF(L583=\"\",\"\",VLOOKUP(L583,referentes!$G$2:$N$15,2,FALSE))","v":""},null,null,"",null,null,""]
[null,{"$f":"IF(C584=\"\",\"\",IF(COUNTIF($C$3:C584, C584)>1, \"\", C584))","v":""},{"$f":"IF(G584=\"\",\"\",IF(F584=\"\",\"\",CONCATENATE(DIGITADOR!$M$1,G584,E584)))","v":""},"",{"$f":"IF(F584=\"\",\"\",VLOOKUP(F584,referentes!$Q$2:$T$300,3,FALSE))","v":""},null,null,null,null,null,{"$f":"IF(L584=\"\",\"\",VLOOKUP(L584,referentes!$G$2:$N$15,2,FALSE))","v":""},null,null,"",null,null,""]
[null,{"$f":"IF(C585=\"\",\"\",IF(COUNTIF($C$3:C585, C585)>1, \"\", C585))","v":""},{"$f":"IF(G585=\"\",\"\",IF(F585=\"\",\"\",CONCATENATE(DIGITADOR!$M$1,G585,E585)))","v":""},"",{"$f":"IF(F585=\"\",\"\",VLOOKUP(F585,referentes!$Q$2:$T$300,3,FALSE))","v":""},null,null,null,null,null,{"$f":"IF(L585=\"\",\"\",VLOOKUP(L585,referentes!$G$2:$N$15,2,FALSE))","v":""},null,null,"",null,null,""]
[null,{"$f":"IF(C586=\"\",\"\",IF(COUNTIF($C$3:C586, C586)>1, \"\", C586))","v":""},{"$f":"IF(G586=\"\",\"\",IF(F586=\"\",\"\",CONCATENATE(DIGITADOR!$M$1,G586,E586)))","v":""},"",{"$f":"IF(F586=\"\",\"\",VLOOKUP(F586,referentes!$Q$2:$T$300,3,FALSE))","v":""},null,null,null,null,null,{"$f":"IF(L586=\"\",\"\",VLOOKUP(L586,referentes!$G$2:$N$15,2,FALSE))","v":""},null,null,"",null,null,""]
[null,{"$f":"IF(C587=\"\",\"\",IF(COUNTIF($C$3:C587, C587)>1, \"\", C587))","v":""},{"$f":"IF(G587=\"\",\"\",IF(F587=\"\",\"\",CONCATENATE(DIGITADOR!$M$1,G587,E587)))","v":""},"",{"$f":"IF(F587=\"\",\"\",VLOOKUP(F587,referentes!$Q$2:$T$300,3,FALSE))","v":""},null,null,null,null,null,{"$f":"IF(L587=\"\",\"\",VLOOKUP(L587,referentes!$G$2:$N$15,2,FALSE))","v":""},null,null,"",null,null,""]
[null,{"$f":"IF(C588=\"\",\"\",IF(COUNTIF($C$3:C588, C588)>1, \"\", C588))","v":""},{"$f":"IF(G588=\"\",\"\",IF(F588=\"\",\"\",CONCATENATE(DIGITADOR!$M$1,G588,E588)))","v":""},"",{"$f":"IF(F588=\"\",\"\",VLOOKUP(F588,referentes!$Q$2:$T$300,3,FALSE))","v":""},null,null,null,null,null,{"$f":"IF(L588=\"\",\"\",VLOOKUP(L588,referentes!$G$2:$N$15,2,FALSE))","v":""},null,null,"",null,null,""]
[null,{"$f":"IF(C589=\"\",\"\",IF(COUNTIF($C$3:C589, C589)>1, \"\", C589))","v":""},{"$f":"IF(G589=\"\",\"\",IF(F589=\"\",\"\",CONCATENATE(DIGITADOR!$M$1,G589,E589)))","v":""},"",{"$f":"IF(F589=\"\",\"\",VLOOKUP(F589,referentes!$Q$2:$T$300,3,FALSE))","v":""},null,null,null,null,null,{"$f":"IF(L589=\"\",\"\",VLOOKUP(L589,referentes!$G$2:$N$15,2,FALSE))","v":""},null,null,"",null,null,""]
[null,{"$f":"IF(C590=\"\",\"\",IF(COUNTIF($C$3:C590, C590)>1, \"\", C590))","v":""},{"$f":"IF(G590=\"\",\"\",IF(F590=\"\",\"\",CONCATENATE(DIGITADOR!$M$1,G590,E590)))","v":""},"",{"$f":"IF(F590=\"\",\"\",VLOOKUP(F590,referentes!$Q$2:$T$300,3,FALSE))","v":""},null,null,null,null,null,{"$f":"IF(L590=\"\",\"\",VLOOKUP(L590,referentes!$G$2:$N$15,2,FALSE))","v":""},null,null,"",null,null,""]
[null,{"$f":"IF(C591=\"\",\"\",IF(COUNTIF($C$3:C591, C591)>1, \"\", C591))","v":""},{"$f":"IF(G591=\"\",\"\",IF(F591=\"\",\"\",CONCATENATE(DIGITADOR!$M$1,G591,E591)))","v":""},"",{"$f":"IF(F591=\"\",\"\",VLOOKUP(F591,referentes!$Q$2:$T$300,3,FALSE))","v":""},null,null,null,null,null,{"$f":"IF(L591=\"\",\"\",VLOOKUP(L591,referentes!$G$2:$N$15,2,FALSE))","v":""},null,null,"",null,null,""]
[null,{"$f":"IF(C592=\"\",\"\",IF(COUNTIF($C$3:C592, C592)>1, \"\", C592))","v":""},{"$f":"IF(G592=\"\",\"\",IF(F592=\"\",\"\",CONCATENATE(DIGITADOR!$M$1,G592,E592)))","v":""},"",{"$f":"IF(F592=\"\",\"\",VLOOKUP(F592,referentes!$Q$2:$T$300,3,FALSE))","v":""},null,null,null,null,null,{"$f":"IF(L592=\"\",\"\",VLOOKUP(L592,referentes!$G$2:$N$15,2,FALSE))","v":""},null,null,"",null,null,""]
[null,{"$f":"IF(C593=\"\",\"\",IF(COUNTIF($C$3:C593, C593)>1, \"\", C593))","v":""},{"$f":"IF(G593=\"\",\"\",IF(F593=\"\",\"\",CONCATENATE(DIGITADOR!$M$1,G593,E593)))","v":""},"",{"$f":"IF(F593=\"\",\"\",VLOOKUP(F593,referentes!$Q$2:$T$300,3,FALSE))","v":""},null,null,null,null,null,{"$f":"IF(L593=\"\",\"\",VLOOKUP(L593,referentes!$G$2:$N$15,2,FALSE))","v":""},null,null,"",null,null,""]
[null,{"$f":"IF(C594=\"\",\"\",IF(COUNTIF($C$3:C594, C594)>1, \"\", C594))","v":""},{"$f":"IF(G594=\"\",\"\",IF(F594=\"\",\"\",CONCATENATE(DIGITADOR!$M$1,G594,E594)))","v":""},"",{"$f":"IF(F594=\"\",\"\",VLOOKUP(F594,referentes!$Q$2:$T$300,3,FALSE))","v":""},null,null,null,null,null,{"$f":"IF(L594=\"\",\"\",VLOOKUP(L594,referentes!$G$2:$N$15,2,FALSE))","v":""},null,null,"",null,null,""]
[null,{"$f":"IF(C595=\"\",\"\",IF(COUNTIF($C$3:C595, C595)>1, \"\", C595))","v":""},{"$f":"IF(G595=\"\",\"\",IF(F595=\"\",\"\",CONCATENATE(DIGITADOR!$M$1,G595,E595)))","v":""},"",{"$f":"IF(F595=\"\",\"\",VLOOKUP(F595,referentes!$Q$2:$T$300,3,FALSE))","v":""},null,null,null,null,null,{"$f":"IF(L595=\"\",\"\",VLOOKUP(L595,referentes!$G$2:$N$15,2,FALSE))","v":""},null,null,"",null,null,""]
[null,{"$f":"IF(C596=\"\",\"\",IF(COUNTIF($C$3:C596, C596)>1, \"\", C596))","v":""},{"$f":"IF(G596=\"\",\"\",IF(F596=\"\",\"\",CONCATENATE(DIGITADOR!$M$1,G596,E596)))","v":""},"",{"$f":"IF(F596=\"\",\"\",VLOOKUP(F596,referentes!$Q$2:$T$300,3,FALSE))","v":""},null,null,null,null,null,{"$f":"IF(L596=\"\",\"\",VLOOKUP(L596,referentes!$G$2:$N$15,2,FALSE))","v":""},null,null,"",null,null,""]
[null,{"$f":"IF(C597=\"\",\"\",IF(COUNTIF($C$3:C597, C597)>1, \"\", C597))","v":""},{"$f":"IF(G597=\"\",\"\",IF(F597=\"\",\"\",CONCATENATE(DIGITADOR!$M$1,G597,E597)))","v":""},"",{"$f":"IF(F597=\"\",\"\",VLOOKUP(F597,referentes!$Q$2:$T$300,3,FALSE))","v":""},null,null,null,null,null,{"$f":"IF(L597=\"\",\"\",VLOOKUP(L597,referentes!$G$2:$N$15,2,FALSE))","v":""},null,null,"",null,null,""]
[null,{"$f":"IF(C598=\"\",\"\",IF(COUNTIF($C$3:C598, C598)>1, \"\", C598))","v":""},{"$f":"IF(G598=\"\",\"\",IF(F598=\"\",\"\",CONCATENATE(DIGITADOR!$M$1,G598,E598)))","v":""},"",{"$f":"IF(F598=\"\",\"\",VLOOKUP(F598,referentes!$Q$2:$T$300,3,FALSE))","v":""},null,null,null,null,null,{"$f":"IF(L598=\"\",\"\",VLOOKUP(L598,referentes!$G$2:$N$15,2,FALSE))","v":""},null,null,"",null,null,""]
[null,{"$f":"IF(C599=\"\",\"\",IF(COUNTIF($C$3:C599, C599)>1, \"\", C599))","v":""},{"$f":"IF(G599=\"\",\"\",IF(F599=\"\",\"\",CONCATENATE(DIGITADOR!$M$1,G599,E599)))","v":""},"",{"$f":"IF(F599=\"\",\"\",VLOOKUP(F599,referentes!$Q$2:$T$300,3,FALSE))","v":""},null,null,null,null,null,{"$f":"IF(L599=\"\",\"\",VLOOKUP(L599,referentes!$G$2:$N$15,2,FALSE))","v":""},null,null,"",null,null,""]
[null,{"$f":"IF(C600=\"\",\"\",IF(COUNTIF($C$3:C600, C600)>1, \"\", C600))","v":""},{"$f":"IF(G600=\"\",\"\",IF(F600=\"\",\"\",CONCATENATE(DIGITADOR!$M$1,G600,E600)))","v":""},"",{"$f":"IF(F600=\"\",\"\",VLOOKUP(F600,referentes!$Q$2:$T$300,3,FALSE))","v":""},null,null,null,null,null,{"$f":"IF(L600=\"\",\"\",VLOOKUP(L600,referentes!$G$2:$N$15,2,FALSE))","v":""},null,null,"",null,null,""]
[null,{"$f":"IF(C601=\"\",\"\",IF(COUNTIF($C$3:C601, C601)>1, \"\", C601))","v":""},{"$f":"IF(G601=\"\",\"\",IF(F601=\"\",\"\",CONCATENATE(DIGITADOR!$M$1,G601,E601)))","v":""},"",{"$f":"IF(F601=\"\",\"\",VLOOKUP(F601,referentes!$Q$2:$T$300,3,FALSE))","v":""},null,null,null,null,null,{"$f":"IF(L601=\"\",\"\",VLOOKUP(L601,referentes!$G$2:$N$15,2,FALSE))","v":""},null,null,"",null,null,""]
[null,{"$f":"IF(C602=\"\",\"\",IF(COUNTIF($C$3:C602, C602)>1, \"\", C602))","v":""},{"$f":"IF(G602=\"\",\"\",IF(F602=\"\",\"\",CONCATENATE(DIGITADOR!$M$1,G602,E602)))","v":""},"",{"$f":"IF(F602=\"\",\"\",VLOOKUP(F602,referentes!$Q$2:$T$300,3,FALSE))","v":""},null,null,null,null,null,{"$f":"IF(L602=\"\",\"\",VLOOKUP(L602,referentes!$G$2:$N$15,2,FALSE))","v":""},null,null,"",null,null,""]
[null,{"$f":"IF(C603=\"\",\"\",IF(COUNTIF($C$3:C603, C603)>1, \"\", C603))","v":""},{"$f":"IF(G603=\"\",\"\",IF(F603=\"\",\"\",CONCATENATE(DIGITADOR!$M$1,G603,E603)))","v":""},"",{"$f":"IF(F603=\"\",\"\",VLOOKUP(F603,referentes!$Q$2:$T$300,3,FALSE))","v":""},null,null,null,null,null,{"$f":"IF(L603=\"\",\"\",VLOOKUP(L603,referentes!$G$2:$N$15,2,FALSE))","v":""},null,null,"",null,null,""]
[null,{"$f":"IF(C604=\"\",\"\",IF(COUNTIF($C$3:C604, C604)>1, \"\", C604))","v":""},{"$f":"IF(G604=\"\",\"\",IF(F604=\"\",\"\",CONCATENATE(DIGITADOR!$M$1,G604,E604)))","v":""},"",{"$f":"IF(F604=\"\",\"\",VLOOKUP(F604,referentes!$Q$2:$T$300,3,FALSE))","v":""},null,null,null,null,null,{"$f":"IF(L604=\"\",\"\",VLOOKUP(L604,referentes!$G$2:$N$15,2,FALSE))","v":""},null,null,"",null,null,""]
[null,{"$f":"IF(C605=\"\",\"\",IF(COUNTIF($C$3:C605, C605)>1, \"\", C605))","v":""},{"$f":"IF(G605=\"\",\"\",IF(F605=\"\",\"\",CONCATENATE(DIGITADOR!$M$1,G605,E605)))","v":""},"",{"$f":"IF(F605=\"\",\"\",VLOOKUP(F605,referentes!$Q$2:$T$300,3,FALSE))","v":""},null,null,null,null,null,{"$f":"IF(L605=\"\",\"\",VLOOKUP(L605,referentes!$G$2:$N$15,2,FALSE))","v":""},null,null,"",null,null,""]
[null,{"$f":"IF(C606=\"\",\"\",IF(COUNTIF($C$3:C606, C606)>1, \"\", C606))","v":""},{"$f":"IF(G606=\"\",\"\",IF(F606=\"\",\"\",CONCATENATE(DIGITADOR!$M$1,G606,E606)))","v":""},"",{"$f":"IF(F606=\"\",\"\",VLOOKUP(F606,referentes!$Q$2:$T$300,3,FALSE))","v":""},null,null,null,null,null,{"$f":"IF(L606=\"\",\"\",VLOOKUP(L606,referentes!$G$2:$N$15,2,FALSE))","v":""},null,null,"",null,null,""]
[null,{"$f":"IF(C607=\"\",\"\",IF(COUNTIF($C$3:C607, C607)>1, \"\", C607))","v":""},{"$f":"IF(G607=\"\",\"\",IF(F607=\"\",\"\",CONCATENATE(DIGITADOR!$M$1,G607,E607)))","v":""},"",{"$f":"IF(F607=\"\",\"\",VLOOKUP(F607,referentes!$Q$2:$T$300,3,FALSE))","v":""},null,null,null,null,null,{"$f":"IF(L607=\"\",\"\",VLOOKUP(L607,referentes!$G$2:$N$15,2,FALSE))","v":""},null,null,"",null,null,""]
[null,{"$f":"IF(C608=\"\",\"\",IF(COUNTIF($C$3:C608, C608)>1, \"\", C608))","v":""},{"$f":"IF(G608=\"\",\"\",IF(F608=\"\",\"\",CONCATENATE(DIGITADOR!$M$1,G608,E608)))","v":""},"",{"$f":"IF(F608=\"\",\"\",VLOOKUP(F608,referentes!$Q$2:$T$300,3,FALSE))","v":""},null,null,null,null,null,{"$f":"IF(L608=\"\",\"\",VLOOKUP(L608,referentes!$G$2:$N$15,2,FALSE))","v":""},null,null,"",null,null,""]
[null,{"$f":"IF(C609=\"\",\"\",IF(COUNTIF($C$3:C609, C609)>1, \"\", C609))","v":""},{"$f":"IF(G609=\"\",\"\",IF(F609=\"\",\"\",CONCATENATE(DIGITADOR!$M$1,G609,E609)))","v":""},"",{"$f":"IF(F609=\"\",\"\",VLOOKUP(F609,referentes!$Q$2:$T$300,3,FALSE))","v":""},null,null,null,null,null,{"$f":"IF(L609=\"\",\"\",VLOOKUP(L609,referentes!$G$2:$N$15,2,FALSE))","v":""},null,null,"",null,null,""]
[null,{"$f":"IF(C610=\"\",\"\",IF(COUNTIF($C$3:C610, C610)>1, \"\", C610))","v":""},{"$f":"IF(G610=\"\",\"\",IF(F610=\"\",\"\",CONCATENATE(DIGITADOR!$M$1,G610,E610)))","v":""},"",{"$f":"IF(F610=\"\",\"\",VLOOKUP(F610,referentes!$Q$2:$T$300,3,FALSE))","v":""},null,null,null,null,null,{"$f":"IF(L610=\"\",\"\",VLOOKUP(L610,referentes!$G$2:$N$15,2,FALSE))","v":""},null,null,"",null,null,""]
[null,{"$f":"IF(C611=\"\",\"\",IF(COUNTIF($C$3:C611, C611)>1, \"\", C611))","v":""},{"$f":"IF(G611=\"\",\"\",IF(F611=\"\",\"\",CONCATENATE(DIGITADOR!$M$1,G611,E611)))","v":""},"",{"$f":"IF(F611=\"\",\"\",VLOOKUP(F611,referentes!$Q$2:$T$300,3,FALSE))","v":""},null,null,null,null,null,{"$f":"IF(L611=\"\",\"\",VLOOKUP(L611,referentes!$G$2:$N$15,2,FALSE))","v":""},null,null,"",null,null,""]
[null,{"$f":"IF(C612=\"\",\"\",IF(COUNTIF($C$3:C612, C612)>1, \"\", C612))","v":""},{"$f":"IF(G612=\"\",\"\",IF(F612=\"\",\"\",CONCATENATE(DIGITADOR!$M$1,G612,E612)))","v":""},"",{"$f":"IF(F612=\"\",\"\",VLOOKUP(F612,referentes!$Q$2:$T$300,3,FALSE))","v":""},null,null,null,null,null,{"$f":"IF(L612=\"\",\"\",VLOOKUP(L612,referentes!$G$2:$N$15,2,FALSE))","v":""},null,null,"",null,null,""]
[null,{"$f":"IF(C613=\"\",\"\",IF(COUNTIF($C$3:C613, C613)>1, \"\", C613))","v":""},{"$f":"IF(G613=\"\",\"\",IF(F613=\"\",\"\",CONCATENATE(DIGITADOR!$M$1,G613,E613)))","v":""},"",{"$f":"IF(F613=\"\",\"\",VLOOKUP(F613,referentes!$Q$2:$T$300,3,FALSE))","v":""},null,null,null,null,null,{"$f":"IF(L613=\"\",\"\",VLOOKUP(L613,referentes!$G$2:$N$15,2,FALSE))","v":""},null,null,"",null,null,""]
[null,{"$f":"IF(C614=\"\",\"\",IF(COUNTIF($C$3:C614, C614)>1, \"\", C614))","v":""},{"$f":"IF(G614=\"\",\"\",IF(F614=\"\",\"\",CONCATENATE(DIGITADOR!$M$1,G614,E614)))","v":""},"",{"$f":"IF(F614=\"\",\"\",VLOOKUP(F614,referentes!$Q$2:$T$300,3,FALSE))","v":""},null,null,null,null,null,{"$f":"IF(L614=\"\",\"\",VLOOKUP(L614,referentes!$G$2:$N$15,2,FALSE))","v":""},null,null,"",null,null,""]
[null,{"$f":"IF(C615=\"\",\"\",IF(COUNTIF($C$3:C615, C615)>1, \"\", C615))","v":""},{"$f":"IF(G615=\"\",\"\",IF(F615=\"\",\"\",CONCATENATE(DIGITADOR!$M$1,G615,E615)))","v":""},"",{"$f":"IF(F615=\"\",\"\",VLOOKUP(F615,referentes!$Q$2:$T$300,3,FALSE))","v":""},null,null,null,null,null,{"$f":"IF(L615=\"\",\"\",VLOOKUP(L615,referentes!$G$2:$N$15,2,FALSE))","v":""},null,null,"",null,null,""]
[null,{"$f":"IF(C616=\"\",\"\",IF(COUNTIF($C$3:C616, C616)>1, \"\", C616))","v":""},{"$f":"IF(G616=\"\",\"\",IF(F616=\"\",\"\",CONCATENATE(DIGITADOR!$M$1,G616,E616)))","v":""},"",{"$f":"IF(F616=\"\",\"\",VLOOKUP(F616,referentes!$Q$2:$T$300,3,FALSE))","v":""},null,null,null,null,null,{"$f":"IF(L616=\"\",\"\",VLOOKUP(L616,referentes!$G$2:$N$15,2,FALSE))","v":""},null,null,"",null,null,""]
[null,{"$f":"IF(C617=\"\",\"\",IF(COUNTIF($C$3:C617, C617)>1, \"\", C617))","v":""},{"$f":"IF(G617=\"\",\"\",IF(F617=\"\",\"\",CONCATENATE(DIGITADOR!$M$1,G617,E617)))","v":""},"",{"$f":"IF(F617=\"\",\"\",VLOOKUP(F617,referentes!$Q$2:$T$300,3,FALSE))","v":""},null,null,null,null,null,{"$f":"IF(L617=\"\",\"\",VLOOKUP(L617,referentes!$G$2:$N$15,2,FALSE))","v":""},null,null,"",null,null,""]
[null,{"$f":"IF(C618=\"\",\"\",IF(COUNTIF($C$3:C618, C618)>1, \"\", C618))","v":""},{"$f":"IF(G618=\"\",\"\",IF(F618=\"\",\"\",CONCATENATE(DIGITADOR!$M$1,G618,E618)))","v":""},"",{"$f":"IF(F618=\"\",\"\",VLOOKUP(F618,referentes!$Q$2:$T$300,3,FALSE))","v":""},null,null,null,null,null,{"$f":"IF(L618=\"\",\"\",VLOOKUP(L618,referentes!$G$2:$N$15,2,FALSE))","v":""},null,null,"",null,null,""]
[null,{"$f":"IF(C619=\"\",\"\",IF(COUNTIF($C$3:C619, C619)>1, \"\", C619))","v":""},{"$f":"IF(G619=\"\",\"\",IF(F619=\"\",\"\",CONCATENATE(DIGITADOR!$M$1,G619,E619)))","v":""},"",{"$f":"IF(F619=\"\",\"\",VLOOKUP(F619,referentes!$Q$2:$T$300,3,FALSE))","v":""},null,null,null,null,null,{"$f":"IF(L619=\"\",\"\",VLOOKUP(L619,referentes!$G$2:$N$15,2,FALSE))","v":""},null,null,"",null,null,""]
[null,{"$f":"IF(C620=\"\",\"\",IF(COUNTIF($C$3:C620, C620)>1, \"\", C620))","v":""},{"$f":"IF(G620=\"\",\"\",IF(F620=\"\",\"\",CONCATENATE(DIGITADOR!$M$1,G620,E620)))","v":""},"",{"$f":"IF(F620=\"\",\"\",VLOOKUP(F620,referentes!$Q$2:$T$300,3,FALSE))","v":""},null,null,null,null,null,{"$f":"IF(L620=\"\",\"\",VLOOKUP(L620,referentes!$G$2:$N$15,2,FALSE))","v":""},null,null,"",null,null,""]
[null,{"$f":"IF(C621=\"\",\"\",IF(COUNTIF($C$3:C621, C621)>1, \"\", C621))","v":""},{"$f":"IF(G621=\"\",\"\",IF(F621=\"\",\"\",CONCATENATE(DIGITADOR!$M$1,G621,E621)))","v":""},"",{"$f":"IF(F621=\"\",\"\",VLOOKUP(F621,referentes!$Q$2:$T$300,3,FALSE))","v":""},null,null,null,null,null,{"$f":"IF(L621=\"\",\"\",VLOOKUP(L621,referentes!$G$2:$N$15,2,FALSE))","v":""},null,null,"",null,null,""]
[null,{"$f":"IF(C622=\"\",\"\",IF(COUNTIF($C$3:C622, C622)>1, \"\", C622))","v":""},{"$f":"IF(G622=\"\",\"\",IF(F622=\"\",\"\",CONCATENATE(DIGITADOR!$M$1,G622,E622)))","v":""},"",{"$f":"IF(F622=\"\",\"\",VLOOKUP(F622,referentes!$Q$2:$T$300,3,FALSE))","v":""},null,null,null,null,null,{"$f":"IF(L622=\"\",\"\",VLOOKUP(L622,referentes!$G$2:$N$15,2,FALSE))","v":""},null,null,"",null,null,""]
[null,{"$f":"IF(C623=\"\",\"\",IF(COUNTIF($C$3:C623, C623)>1, \"\", C623))","v":""},{"$f":"IF(G623=\"\",\"\",IF(F623=\"\",\"\",CONCATENATE(DIGITADOR!$M$1,G623,E623)))","v":""},"",{"$f":"IF(F623=\"\",\"\",VLOOKUP(F623,referentes!$Q$2:$T$300,3,FALSE))","v":""},null,null,null,null,null,{"$f":"IF(L623=\"\",\"\",VLOOKUP(L623,referentes!$G$2:$N$15,2,FALSE))","v":""},null,null,"",null,null,""]
[null,{"$f":"IF(C624=\"\",\"\",IF(COUNTIF($C$3:C624, C624)>1, \"\", C624))","v":""},{"$f":"IF(G624=\"\",\"\",IF(F624=\"\",\"\",CONCATENATE(DIGITADOR!$M$1,G624,E624)))","v":""},"",{"$f":"IF(F624=\"\",\"\",VLOOKUP(F624,referentes!$Q$2:$T$300,3,FALSE))","v":""},null,null,null,null,null,{"$f":"IF(L624=\"\",\"\",VLOOKUP(L624,referentes!$G$2:$N$15,2,FALSE))","v":""},null,null,"",null,null,""]
[null,{"$f":"IF(C625=\"\",\"\",IF(COUNTIF($C$3:C625, C625)>1, \"\", C625))","v":""},{"$f":"IF(G625=\"\",\"\",IF(F625=\"\",\"\",CONCATENATE(DIGITADOR!$M$1,G625,E625)))","v":""},"",{"$f":"IF(F625=\"\",\"\",VLOOKUP(F625,referentes!$Q$2:$T$300,3,FALSE))","v":""},null,null,null,null,null,{"$f":"IF(L625=\"\",\"\",VLOOKUP(L625,referentes!$G$2:$N$15,2,FALSE))","v":""},null,null,"",null,null,""]
[null,{"$f":"IF(C626=\"\",\"\",IF(COUNTIF($C$3:C626, C626)>1, \"\", C626))","v":""},{"$f":"IF(G626=\"\",\"\",IF(F626=\"\",\"\",CONCATENATE(DIGITADOR!$M$1,G626,E626)))","v":""},"",{"$f":"IF(F626=\"\",\"\",VLOOKUP(F626,referentes!$Q$2:$T$300,3,FALSE))","v":""},null,null,null,null,null,{"$f":"IF(L626=\"\",\"\",VLOOKUP(L626,referentes!$G$2:$N$15,2,FALSE))","v":""},null,null,"",null,null,""]
[null,{"$f":"IF(C627=\"\",\"\",IF(COUNTIF($C$3:C627, C627)>1, \"\", C627))","v":""},{"$f":"IF(G627=\"\",\"\",IF(F627=\"\",\"\",CONCATENATE(DIGITADOR!$M$1,G627,E627)))","v":""},"",{"$f":"IF(F627=\"\",\"\",VLOOKUP(F627,referentes!$Q$2:$T$300,3,FALSE))","v":""},null,null,null,null,null,{"$f":"IF(L627=\"\",\"\",VLOOKUP(L627,referentes!$G$2:$N$15,2,FALSE))","v":""},null,null,"",null,null,""]
[null,{"$f":"IF(C628=\"\",\"\",IF(COUNTIF($C$3:C628, C628)>1, \"\", C628))","v":""},{"$f":"IF(G628=\"\",\"\",IF(F628=\"\",\"\",CONCATENATE(DIGITADOR!$M$1,G628,E628)))","v":""},"",{"$f":"IF(F628=\"\",\"\",VLOOKUP(F628,referentes!$Q$2:$T$300,3,FALSE))","v":""},null,null,null,null,null,{"$f":"IF(L628=\"\",\"\",VLOOKUP(L628,referentes!$G$2:$N$15,2,FALSE))","v":""},null,null,"",null,null,""]
[null,{"$f":"IF(C629=\"\",\"\",IF(COUNTIF($C$3:C629, C629)>1, \"\", C629))","v":""},{"$f":"IF(G629=\"\",\"\",IF(F629=\"\",\"\",CONCATENATE(DIGITADOR!$M$1,G629,E629)))","v":""},"",{"$f":"IF(F629=\"\",\"\",VLOOKUP(F629,referentes!$Q$2:$T$300,3,FALSE))","v":""},null,null,null,null,null,{"$f":"IF(L629=\"\",\"\",VLOOKUP(L629,referentes!$G$2:$N$15,2,FALSE))","v":""},null,null,"",null,null,""]
[null,{"$f":"IF(C630=\"\",\"\",IF(COUNTIF($C$3:C630, C630)>1, \"\", C630))","v":""},{"$f":"IF(G630=\"\",\"\",IF(F630=\"\",\"\",CONCATENATE(DIGITADOR!$M$1,G630,E630)))","v":""},"",{"$f":"IF(F630=\"\",\"\",VLOOKUP(F630,referentes!$Q$2:$T$300,3,FALSE))","v":""},null,null,null,null,null,{"$f":"IF(L630=\"\",\"\",VLOOKUP(L630,referentes!$G$2:$N$15,2,FALSE))","v":""},null,null,"",null,null,""]
[null,{"$f":"IF(C631=\"\",\"\",IF(COUNTIF($C$3:C631, C631)>1, \"\", C631))","v":""},{"$f":"IF(G631=\"\",\"\",IF(F631=\"\",\"\",CONCATENATE(DIGITADOR!$M$1,G631,E631)))","v":""},"",{"$f":"IF(F631=\"\",\"\",VLOOKUP(F631,referentes!$Q$2:$T$300,3,FALSE))","v":""},null,null,null,null,null,{"$f":"IF(L631=\"\",\"\",VLOOKUP(L631,referentes!$G$2:$N$15,2,FALSE))","v":""},null,null,"",null,null,""]
[null,{"$f":"IF(C632=\"\",\"\",IF(COUNTIF($C$3:C632, C632)>1, \"\", C632))","v":""},{"$f":"IF(G632=\"\",\"\",IF(F632=\"\",\"\",CONCATENATE(DIGITADOR!$M$1,G632,E632)))","v":""},"",{"$f":"IF(F632=\"\",\"\",VLOOKUP(F632,referentes!$Q$2:$T$300,3,FALSE))","v":""},null,null,null,null,null,{"$f":"IF(L632=\"\",\"\",VLOOKUP(L632,referentes!$G$2:$N$15,2,FALSE))","v":""},null,null,"",null,null,""]
[null,{"$f":"IF(C633=\"\",\"\",IF(COUNTIF($C$3:C633, C633)>1, \"\", C633))","v":""},{"$f":"IF(G633=\"\",\"\",IF(F633=\"\",\"\",CONCATENATE(DIGITADOR!$M$1,G633,E633)))","v":""},"",{"$f":"IF(F633=\"\",\"\",VLOOKUP(F633,referentes!$Q$2:$T$300,3,FALSE))","v":""},null,null,null,null,null,{"$f":"IF(L633=\"\",\"\",VLOOKUP(L633,referentes!$G$2:$N$15,2,FALSE))","v":""},null,null,"",null,null,""]
[null,{"$f":"IF(C634=\"\",\"\",IF(COUNTIF($C$3:C634, C634)>1, \"\", C634))","v":""},{"$f":"IF(G634=\"\",\"\",IF(F634=\"\",\"\",CONCATENATE(DIGITADOR!$M$1,G634,E634)))","v":""},"",{"$f":"IF(F634=\"\",\"\",VLOOKUP(F634,referentes!$Q$2:$T$300,3,FALSE))","v":""},null,null,null,null,null,{"$f":"IF(L634=\"\",\"\",VLOOKUP(L634,referentes!$G$2:$N$15,2,FALSE))","v":""},null,null,"",null,null,""]
[null,{"$f":"IF(C635=\"\",\"\",IF(COUNTIF($C$3:C635, C635)>1, \"\", C635))","v":""},{"$f":"IF(G635=\"\",\"\",IF(F635=\"\",\"\",CONCATENATE(DIGITADOR!$M$1,G635,E635)))","v":""},"",{"$f":"IF(F635=\"\",\"\",VLOOKUP(F635,referentes!$Q$2:$T$300,3,FALSE))","v":""},null,null,null,null,null,{"$f":"IF(L635=\"\",\"\",VLOOKUP(L635,referentes!$G$2:$N$15,2,FALSE))","v":""},null,null,"",null,null,""]
[null,{"$f":"IF(C636=\"\",\"\",IF(COUNTIF($C$3:C636, C636)>1, \"\", C636))","v":""},{"$f":"IF(G636=\"\",\"\",IF(F636=\"\",\"\",CONCATENATE(DIGITADOR!$M$1,G636,E636)))","v":""},"",{"$f":"IF(F636=\"\",\"\",VLOOKUP(F636,referentes!$Q$2:$T$300,3,FALSE))","v":""},null,null,null,null,null,{"$f":"IF(L636=\"\",\"\",VLOOKUP(L636,referentes!$G$2:$N$15,2,FALSE))","v":""},null,null,"",null,null,""]
[null,{"$f":"IF(C637=\"\",\"\",IF(COUNTIF($C$3:C637, C637)>1, \"\", C637))","v":""},{"$f":"IF(G637=\"\",\"\",IF(F637=\"\",\"\",CONCATENATE(DIGITADOR!$M$1,G637,E637)))","v":""},"",{"$f":"IF(F637=\"\",\"\",VLOOKUP(F637,referentes!$Q$2:$T$300,3,FALSE))","v":""},null,null,null,null,null,{"$f":"IF(L637=\"\",\"\",VLOOKUP(L637,referentes!$G$2:$N$15,2,FALSE))","v":""},null,null,"",null,null,""]
[null,{"$f":"IF(C638=\"\",\"\",IF(COUNTIF($C$3:C638, C638)>1, \"\", C638))","v":""},{"$f":"IF(G638=\"\",\"\",IF(F638=\"\",\"\",CONCATENATE(DIGITADOR!$M$1,G638,E638)))","v":""},"",{"$f":"IF(F638=\"\",\"\",VLOOKUP(F638,referentes!$Q$2:$T$300,3,FALSE))","v":""},null,null,null,null,null,{"$f":"IF(L638=\"\",\"\",VLOOKUP(L638,referentes!$G$2:$N$15,2,FALSE))","v":""},null,null,"",null,null,""]
[null,{"$f":"IF(C639=\"\",\"\",IF(COUNTIF($C$3:C639, C639)>1, \"\", C639))","v":""},{"$f":"IF(G639=\"\",\"\",IF(F639=\"\",\"\",CONCATENATE(DIGITADOR!$M$1,G639,E639)))","v":""},"",{"$f":"IF(F639=\"\",\"\",VLOOKUP(F639,referentes!$Q$2:$T$300,3,FALSE))","v":""},null,null,null,null,null,{"$f":"IF(L639=\"\",\"\",VLOOKUP(L639,referentes!$G$2:$N$15,2,FALSE))","v":""},null,null,"",null,null,""]
[null,{"$f":"IF(C640=\"\",\"\",IF(COUNTIF($C$3:C640, C640)>1, \"\", C640))","v":""},{"$f":"IF(G640=\"\",\"\",IF(F640=\"\",\"\",CONCATENATE(DIGITADOR!$M$1,G640,E640)))","v":""},"",{"$f":"IF(F640=\"\",\"\",VLOOKUP(F640,referentes!$Q$2:$T$300,3,FALSE))","v":""},null,null,null,null,null,{"$f":"IF(L640=\"\",\"\",VLOOKUP(L640,referentes!$G$2:$N$15,2,FALSE))","v":""},null,null,"",null,null,""]
[null,{"$f":"IF(C641=\"\",\"\",IF(COUNTIF($C$3:C641, C641)>1, \"\", C641))","v":""},{"$f":"IF(G641=\"\",\"\",IF(F641=\"\",\"\",CONCATENATE(DIGITADOR!$M$1,G641,E641)))","v":""},"",{"$f":"IF(F641=\"\",\"\",VLOOKUP(F641,referentes!$Q$2:$T$300,3,FALSE))","v":""},null,null,null,null,null,{"$f":"IF(L641=\"\",\"\",VLOOKUP(L641,referentes!$G$2:$N$15,2,FALSE))","v":""},null,null,"",null,null,""]
[null,{"$f":"IF(C642=\"\",\"\",IF(COUNTIF($C$3:C642, C642)>1, \"\", C642))","v":""},{"$f":"IF(G642=\"\",\"\",IF(F642=\"\",\"\",CONCATENATE(DIGITADOR!$M$1,G642,E642)))","v":""},"",{"$f":"IF(F642=\"\",\"\",VLOOKUP(F642,referentes!$Q$2:$T$300,3,FALSE))","v":""},null,null,null,null,null,{"$f":"IF(L642=\"\",\"\",VLOOKUP(L642,referentes!$G$2:$N$15,2,FALSE))","v":""},null,null,"",null,null,""]
[null,{"$f":"IF(C643=\"\",\"\",IF(COUNTIF($C$3:C643, C643)>1, \"\", C643))","v":""},{"$f":"IF(G643=\"\",\"\",IF(F643=\"\",\"\",CONCATENATE(DIGITADOR!$M$1,G643,E643)))","v":""},"",{"$f":"IF(F643=\"\",\"\",VLOOKUP(F643,referentes!$Q$2:$T$300,3,FALSE))","v":""},null,null,null,null,null,{"$f":"IF(L643=\"\",\"\",VLOOKUP(L643,referentes!$G$2:$N$15,2,FALSE))","v":""},null,null,"",null,null,""]
[null,{"$f":"IF(C644=\"\",\"\",IF(COUNTIF($C$3:C644, C644)>1, \"\", C644))","v":""},{"$f":"IF(G644=\"\",\"\",IF(F644=\"\",\"\",CONCATENATE(DIGITADOR!$M$1,G644,E644)))","v":""},{"$f":"IF(C644=\"\",\"\",CONCATENATE(C644,ROW()-2))","v":""},{"$f":"IF(F644=\"\",\"\",VLOOKUP(F644,referentes!$Q$2:$T$300,3,FALSE))","v":""},null,null,null,null,null,{"$f":"IF(L644=\"\",\"\",VLOOKUP(L644,referentes!$G$2:$N$15,2,FALSE))","v":""},null,null,{"$f":"IF(M644=\"\",\"\",M644/PI())","v":""},null,null,{"$f":"IF(N644=\"\",\"\",((PI())*((N644/100)^2))/4*10000/500)","v":""}]
[null,{"$f":"IF(C645=\"\",\"\",IF(COUNTIF($C$3:C645, C645)>1, \"\", C645))","v":""},{"$f":"IF(G645=\"\",\"\",IF(F645=\"\",\"\",CONCATENATE(DIGITADOR!$M$1,G645,E645)))","v":""},"",{"$f":"IF(F645=\"\",\"\",VLOOKUP(F645,referentes!$Q$2:$T$300,3,FALSE))","v":""},null,null,null,null,null,{"$f":"IF(L645=\"\",\"\",VLOOKUP(L645,referentes!$G$2:$N$15,2,FALSE))","v":""},null,null,"",null,null,""]
[null,{"$f":"IF(C646=\"\",\"\",IF(COUNTIF($C$3:C646, C646)>1, \"\", C646))","v":""},{"$f":"IF(G646=\"\",\"\",IF(F646=\"\",\"\",CONCATENATE(DIGITADOR!$M$1,G646,E646)))","v":""},"",{"$f":"IF(F646=\"\",\"\",VLOOKUP(F646,referentes!$Q$2:$T$300,3,FALSE))","v":""},null,null,null,null,null,{"$f":"IF(L646=\"\",\"\",VLOOKUP(L646,referentes!$G$2:$N$15,2,FALSE))","v":""},null,null,"",null,null,""]
[null,{"$f":"IF(C647=\"\",\"\",IF(COUNTIF($C$3:C647, C647)>1, \"\", C647))","v":""},{"$f":"IF(G647=\"\",\"\",IF(F647=\"\",\"\",CONCATENATE(DIGITADOR!$M$1,G647,E647)))","v":""},"",{"$f":"IF(F647=\"\",\"\",VLOOKUP(F647,referentes!$Q$2:$T$300,3,FALSE))","v":""},null,null,null,null,null,{"$f":"IF(L647=\"\",\"\",VLOOKUP(L647,referentes!$G$2:$N$15,2,FALSE))","v":""},null,null,"",null,null,""]
[null,{"$f":"IF(C648=\"\",\"\",IF(COUNTIF($C$3:C648, C648)>1, \"\", C648))","v":""},{"$f":"IF(G648=\"\",\"\",IF(F648=\"\",\"\",CONCATENATE(DIGITADOR!$M$1,G648,E648)))","v":""},"",{"$f":"IF(F648=\"\",\"\",VLOOKUP(F648,referentes!$Q$2:$T$300,3,FALSE))","v":""},null,null,null,null,null,{"$f":"IF(L648=\"\",\"\",VLOOKUP(L648,referentes!$G$2:$N$15,2,FALSE))","v":""},null,null,"",null,null,""]
[null,{"$f":"IF(C649=\"\",\"\",IF(COUNTIF($C$3:C649, C649)>1, \"\", C649))","v":""},{"$f":"IF(G649=\"\",\"\",IF(F649=\"\",\"\",CONCATENATE(DIGITADOR!$M$1,G649,E649)))","v":""},"",{"$f":"IF(F649=\"\",\"\",VLOOKUP(F649,referentes!$Q$2:$T$300,3,FALSE))","v":""},null,null,null,null,null,{"$f":"IF(L649=\"\",\"\",VLOOKUP(L649,referentes!$G$2:$N$15,2,FALSE))","v":""},null,null,"",null,null,""]
[null,{"$f":"IF(C650=\"\",\"\",IF(COUNTIF($C$3:C650, C650)>1, \"\", C650))","v":""},{"$f":"IF(G650=\"\",\"\",IF(F650=\"\",\"\",CONCATENATE(DIGITADOR!$M$1,G650,E650)))","v":""},"",{"$f":"IF(F650=\"\",\"\",VLOOKUP(F650,referentes!$Q$2:$T$300,3,FALSE))","v":""},null,null,null,null,null,{"$f":"IF(L650=\"\",\"\",VLOOKUP(L650,referentes!$G$2:$N$15,2,FALSE))","v":""},null,null,"",null,null,""]
[null,{"$f":"IF(C651=\"\",\"\",IF(COUNTIF($C$3:C651, C651)>1, \"\", C651))","v":""},{"$f":"IF(G651=\"\",\"\",IF(F651=\"\",\"\",CONCATENATE(DIGITADOR!$M$1,G651,E651)))","v":""},"",{"$f":"IF(F651=\"\",\"\",VLOOKUP(F651,referentes!$Q$2:$T$300,3,FALSE))","v":""},null,null,null,null,null,{"$f":"IF(L651=\"\",\"\",VLOOKUP(L651,referentes!$G$2:$N$15,2,FALSE))","v":""},null,null,"",null,null,""]
[null,{"$f":"IF(C652=\"\",\"\",IF(COUNTIF($C$3:C652, C652)>1, \"\", C652))","v":""},{"$f":"IF(G652=\"\",\"\",IF(F652=\"\",\"\",CONCATENATE(DIGITADOR!$M$1,G652,E652)))","v":""},"",{"$f":"IF(F652=\"\",\"\",VLOOKUP(F652,referentes!$Q$2:$T$300,3,FALSE))","v":""},null,null,null,null,null,{"$f":"IF(L652=\"\",\"\",VLOOKUP(L652,referentes!$G$2:$N$15,2,FALSE))","v":""},null,null,"",null,null,""]
[null,{"$f":"IF(C653=\"\",\"\",IF(COUNTIF($C$3:C653, C653)>1, \"\", C653))","v":""},{"$f":"IF(G653=\"\",\"\",IF(F653=\"\",\"\",CONCATENATE(DIGITADOR!$M$1,G653,E653)))","v":""},"",{"$f":"IF(F653=\"\",\"\",VLOOKUP(F653,referentes!$Q$2:$T$300,3,FALSE))","v":""},null,null,null,null,null,{"$f":"IF(L653=\"\",\"\",VLOOKUP(L653,referentes!$G$2:$N$15,2,FALSE))","v":""},null,null,"",null,null,""]
[null,{"$f":"IF(C654=\"\",\"\",IF(COUNTIF($C$3:C654, C654)>1, \"\", C654))","v":""},{"$f":"IF(G654=\"\",\"\",IF(F654=\"\",\"\",CONCATENATE(DIGITADOR!$M$1,G654,E654)))","v":""},"",{"$f":"IF(F654=\"\",\"\",VLOOKUP(F654,referentes!$Q$2:$T$300,3,FALSE))","v":""},null,null,null,null,null,{"$f":"IF(L654=\"\",\"\",VLOOKUP(L654,referentes!$G$2:$N$15,2,FALSE))","v":""},null,null,"",null,null,""]
[null,{"$f":"IF(C655=\"\",\"\",IF(COUNTIF($C$3:C655, C655)>1, \"\", C655))","v":""},{"$f":"IF(G655=\"\",\"\",IF(F655=\"\",\"\",CONCATENATE(DIGITADOR!$M$1,G655,E655)))","v":""},"",{"$f":"IF(F655=\"\",\"\",VLOOKUP(F655,referentes!$Q$2:$T$300,3,FALSE))","v":""},null,null,null,null,null,{"$f":"IF(L655=\"\",\"\",VLOOKUP(L655,referentes!$G$2:$N$15,2,FALSE))","v":""},null,null,"",null,null,""]
[null,{"$f":"IF(C656=\"\",\"\",IF(COUNTIF($C$3:C656, C656)>1, \"\", C656))","v":""},{"$f":"IF(G656=\"\",\"\",IF(F656=\"\",\"\",CONCATENATE(DIGITADOR!$M$1,G656,E656)))","v":""},"",{"$f":"IF(F656=\"\",\"\",VLOOKUP(F656,referentes!$Q$2:$T$300,3,FALSE))","v":""},null,null,null,null,null,{"$f":"IF(L656=\"\",\"\",VLOOKUP(L656,referentes!$G$2:$N$15,2,FALSE))","v":""},null,null,"",null,null,""]
[null,{"$f":"IF(C657=\"\",\"\",IF(COUNTIF($C$3:C657, C657)>1, \"\", C657))","v":""},{"$f":"IF(G657=\"\",\"\",IF(F657=\"\",\"\",CONCATENATE(DIGITADOR!$M$1,G657,E657)))","v":""},"",{"$f":"IF(F657=\"\",\"\",VLOOKUP(F657,referentes!$Q$2:$T$300,3,FALSE))","v":""},null,null,null,null,null,{"$f":"IF(L657=\"\",\"\",VLOOKUP(L657,referentes!$G$2:$N$15,2,FALSE))","v":""},null,null,"",null,null,""]
[null,{"$f":"IF(C658=\"\",\"\",IF(COUNTIF($C$3:C658, C658)>1, \"\", C658))","v":""},{"$f":"IF(G658=\"\",\"\",IF(F658=\"\",\"\",CONCATENATE(DIGITADOR!$M$1,G658,E658)))","v":""},"",{"$f":"IF(F658=\"\",\"\",VLOOKUP(F658,referentes!$Q$2:$T$300,3,FALSE))","v":""},null,null,null,null,null,{"$f":"IF(L658=\"\",\"\",VLOOKUP(L658,referentes!$G$2:$N$15,2,FALSE))","v":""},null,null,"",null,null,""]
[null,{"$f":"IF(C659=\"\",\"\",IF(COUNTIF($C$3:C659, C659)>1, \"\", C659))","v":""},{"$f":"IF(G659=\"\",\"\",IF(F659=\"\",\"\",CONCATENATE(DIGITADOR!$M$1,G659,E659)))","v":""},"",{"$f":"IF(F659=\"\",\"\",VLOOKUP(F659,referentes!$Q$2:$T$300,3,FALSE))","v":""},null,null,null,null,null,{"$f":"IF(L659=\"\",\"\",VLOOKUP(L659,referentes!$G$2:$N$15,2,FALSE))","v":""},null,null,"",null,null,""]
[null,{"$f":"IF(C660=\"\",\"\",IF(COUNTIF($C$3:C660, C660)>1, \"\", C660))","v":""},{"$f":"IF(G660=\"\",\"\",IF(F660=\"\",\"\",CONCATENATE(DIGITADOR!$M$1,G660,E660)))","v":""},"",{"$f":"IF(F660=\"\",\"\",VLOOKUP(F660,referentes!$Q$2:$T$300,3,FALSE))","v":""},null,null,null,null,null,{"$f":"IF(L660=\"\",\"\",VLOOKUP(L660,referentes!$G$2:$N$15,2,FALSE))","v":""},null,null,"",null,null,""]
[null,{"$f":"IF(C661=\"\",\"\",IF(COUNTIF($C$3:C661, C661)>1, \"\", C661))","v":""},{"$f":"IF(G661=\"\",\"\",IF(F661=\"\",\"\",CONCATENATE(DIGITADOR!$M$1,G661,E661)))","v":""},"",{"$f":"IF(F661=\"\",\"\",VLOOKUP(F661,referentes!$Q$2:$T$300,3,FALSE))","v":""},null,null,null,null,null,{"$f":"IF(L661=\"\",\"\",VLOOKUP(L661,referentes!$G$2:$N$15,2,FALSE))","v":""},null,null,"",null,null,""]
[null,{"$f":"IF(C662=\"\",\"\",IF(COUNTIF($C$3:C662, C662)>1, \"\", C662))","v":""},{"$f":"IF(G662=\"\",\"\",IF(F662=\"\",\"\",CONCATENATE(DIGITADOR!$M$1,G662,E662)))","v":""},"",{"$f":"IF(F662=\"\",\"\",VLOOKUP(F662,referentes!$Q$2:$T$300,3,FALSE))","v":""},null,null,null,null,null,{"$f":"IF(L662=\"\",\"\",VLOOKUP(L662,referentes!$G$2:$N$15,2,FALSE))","v":""},null,null,"",null,null,""]
[null,{"$f":"IF(C663=\"\",\"\",IF(COUNTIF($C$3:C663, C663)>1, \"\", C663))","v":""},{"$f":"IF(G663=\"\",\"\",IF(F663=\"\",\"\",CONCATENATE(DIGITADOR!$M$1,G663,E663)))","v":""},"",{"$f":"IF(F663=\"\",\"\",VLOOKUP(F663,referentes!$Q$2:$T$300,3,FALSE))","v":""},null,null,null,null,null,{"$f":"IF(L663=\"\",\"\",VLOOKUP(L663,referentes!$G$2:$N$15,2,FALSE))","v":""},null,null,"",null,null,""]
[null,{"$f":"IF(C664=\"\",\"\",IF(COUNTIF($C$3:C664, C664)>1, \"\", C664))","v":""},{"$f":"IF(G664=\"\",\"\",IF(F664=\"\",\"\",CONCATENATE(DIGITADOR!$M$1,G664,E664)))","v":""},"",{"$f":"IF(F664=\"\",\"\",VLOOKUP(F664,referentes!$Q$2:$T$300,3,FALSE))","v":""},null,null,null,null,null,{"$f":"IF(L664=\"\",\"\",VLOOKUP(L664,referentes!$G$2:$N$15,2,FALSE))","v":""},null,null,"",null,null,""]
[null,{"$f":"IF(C665=\"\",\"\",IF(COUNTIF($C$3:C665, C665)>1, \"\", C665))","v":""},{"$f":"IF(G665=\"\",\"\",IF(F665=\"\",\"\",CONCATENATE(DIGITADOR!$M$1,G665,E665)))","v":""},"",{"$f":"IF(F665=\"\",\"\",VLOOKUP(F665,referentes!$Q$2:$T$300,3,FALSE))","v":""},null,null,null,null,null,{"$f":"IF(L665=\"\",\"\",VLOOKUP(L665,referentes!$G$2:$N$15,2,FALSE))","v":""},null,null,"",null,null,""]
[null,{"$f":"IF(C666=\"\",\"\",IF(COUNTIF($C$3:C666, C666)>1, \"\", C666))","v":""},{"$f":"IF(G666=\"\",\"\",IF(F666=\"\",\"\",CONCATENATE(DIGITADOR!$M$1,G666,E666)))","v":""},"",{"$f":"IF(F666=\"\",\"\",VLOOKUP(F666,referentes!$Q$2:$T$300,3,FALSE))","v":""},null,null,null,null,null,{"$f":"IF(L666=\"\",\"\",VLOOKUP(L666,referentes!$G$2:$N$15,2,FALSE))","v":""},null,null,"",null,null,""]
[null,{"$f":"IF(C667=\"\",\"\",IF(COUNTIF($C$3:C667, C667)>1, \"\", C667))","v":""},{"$f":"IF(G667=\"\",\"\",IF(F667=\"\",\"\",CONCATENATE(DIGITADOR!$M$1,G667,E667)))","v":""},"",{"$f":"IF(F667=\"\",\"\",VLOOKUP(F667,referentes!$Q$2:$T$300,3,FALSE))","v":""},null,null,null,null,null,{"$f":"IF(L667=\"\",\"\",VLOOKUP(L667,referentes!$G$2:$N$15,2,FALSE))","v":""},null,null,"",null,null,""]
[null,{"$f":"IF(C668=\"\",\"\",IF(COUNTIF($C$3:C668, C668)>1, \"\", C668))","v":""},{"$f":"IF(G668=\"\",\"\",IF(F668=\"\",\"\",CONCATENATE(DIGITADOR!$M$1,G668,E668)))","v":""},"",{"$f":"IF(F668=\"\",\"\",VLOOKUP(F668,referentes!$Q$2:$T$300,3,FALSE))","v":""},null,null,null,null,null,{"$f":"IF(L668=\"\",\"\",VLOOKUP(L668,referentes!$G$2:$N$15,2,FALSE))","v":""},null,null,"",null,null,""]
[null,{"$f":"IF(C669=\"\",\"\",IF(COUNTIF($C$3:C669, C669)>1, \"\", C669))","v":""},{"$f":"IF(G669=\"\",\"\",IF(F669=\"\",\"\",CONCATENATE(DIGITADOR!$M$1,G669,E669)))","v":""},"",{"$f":"IF(F669=\"\",\"\",VLOOKUP(F669,referentes!$Q$2:$T$300,3,FALSE))","v":""},null,null,null,null,null,{"$f":"IF(L669=\"\",\"\",VLOOKUP(L669,referentes!$G$2:$N$15,2,FALSE))","v":""},null,null,"",null,null,""]
[null,{"$f":"IF(C670=\"\",\"\",IF(COUNTIF($C$3:C670, C670)>1, \"\", C670))","v":""},{"$f":"IF(G670=\"\",\"\",IF(F670=\"\",\"\",CONCATENATE(DIGITADOR!$M$1,G670,E670)))","v":""},"",{"$f":"IF(F670=\"\",\"\",VLOOKUP(F670,referentes!$Q$2:$T$300,3,FALSE))","v":""},null,null,null,null,null,{"$f":"IF(L670=\"\",\"\",VLOOKUP(L670,referentes!$G$2:$N$15,2,FALSE))","v":""},null,null,"",null,null,""]
[null,{"$f":"IF(C671=\"\",\"\",IF(COUNTIF($C$3:C671, C671)>1, \"\", C671))","v":""},{"$f":"IF(G671=\"\",\"\",IF(F671=\"\",\"\",CONCATENATE(DIGITADOR!$M$1,G671,E671)))","v":""},"",{"$f":"IF(F671=\"\",\"\",VLOOKUP(F671,referentes!$Q$2:$T$300,3,FALSE))","v":""},null,null,null,null,null,{"$f":"IF(L671=\"\",\"\",VLOOKUP(L671,referentes!$G$2:$N$15,2,FALSE))","v":""},null,null,"",null,null,""]
[null,{"$f":"IF(C672=\"\",\"\",IF(COUNTIF($C$3:C672, C672)>1, \"\", C672))","v":""},{"$f":"IF(G672=\"\",\"\",IF(F672=\"\",\"\",CONCATENATE(DIGITADOR!$M$1,G672,E672)))","v":""},"",{"$f":"IF(F672=\"\",\"\",VLOOKUP(F672,referentes!$Q$2:$T$300,3,FALSE))","v":""},null,null,null,null,null,{"$f":"IF(L672=\"\",\"\",VLOOKUP(L672,referentes!$G$2:$N$15,2,FALSE))","v":""},null,null,"",null,null,""]
[null,{"$f":"IF(C673=\"\",\"\",IF(COUNTIF($C$3:C673, C673)>1, \"\", C673))","v":""},{"$f":"IF(G673=\"\",\"\",IF(F673=\"\",\"\",CONCATENATE(DIGITADOR!$M$1,G673,E673)))","v":""},"",{"$f":"IF(F673=\"\",\"\",VLOOKUP(F673,referentes!$Q$2:$T$300,3,FALSE))","v":""},null,null,null,null,null,{"$f":"IF(L673=\"\",\"\",VLOOKUP(L673,referentes!$G$2:$N$15,2,FALSE))","v":""},null,null,"",null,null,""]
[null,{"$f":"IF(C674=\"\",\"\",IF(COUNTIF($C$3:C674, C674)>1, \"\", C674))","v":""},{"$f":"IF(G674=\"\",\"\",IF(F674=\"\",\"\",CONCATENATE(DIGITADOR!$M$1,G674,E674)))","v":""},"",{"$f":"IF(F674=\"\",\"\",VLOOKUP(F674,referentes!$Q$2:$T$300,3,FALSE))","v":""},null,null,null,null,null,{"$f":"IF(L674=\"\",\"\",VLOOKUP(L674,referentes!$G$2:$N$15,2,FALSE))","v":""},null,null,"",null,null,""]
[null,{"$f":"IF(C675=\"\",\"\",IF(COUNTIF($C$3:C675, C675)>1, \"\", C675))","v":""},{"$f":"IF(G675=\"\",\"\",IF(F675=\"\",\"\",CONCATENATE(DIGITADOR!$M$1,G675,E675)))","v":""},"",{"$f":"IF(F675=\"\",\"\",VLOOKUP(F675,referentes!$Q$2:$T$300,3,FALSE))","v":""},null,null,null,null,null,{"$f":"IF(L675=\"\",\"\",VLOOKUP(L675,referentes!$G$2:$N$15,2,FALSE))","v":""},null,null,"",null,null,""]
[null,{"$f":"IF(C676=\"\",\"\",IF(COUNTIF($C$3:C676, C676)>1, \"\", C676))","v":""},{"$f":"IF(G676=\"\",\"\",IF(F676=\"\",\"\",CONCATENATE(DIGITADOR!$M$1,G676,E676)))","v":""},"",{"$f":"IF(F676=\"\",\"\",VLOOKUP(F676,referentes!$Q$2:$T$300,3,FALSE))","v":""},null,null,null,null,null,{"$f":"IF(L676=\"\",\"\",VLOOKUP(L676,referentes!$G$2:$N$15,2,FALSE))","v":""},null,null,"",null,null,""]
[null,{"$f":"IF(C677=\"\",\"\",IF(COUNTIF($C$3:C677, C677)>1, \"\", C677))","v":""},{"$f":"IF(G677=\"\",\"\",IF(F677=\"\",\"\",CONCATENATE(DIGITADOR!$M$1,G677,E677)))","v":""},"",{"$f":"IF(F677=\"\",\"\",VLOOKUP(F677,referentes!$Q$2:$T$300,3,FALSE))","v":""},null,null,null,null,null,{"$f":"IF(L677=\"\",\"\",VLOOKUP(L677,referentes!$G$2:$N$15,2,FALSE))","v":""},null,null,"",null,null,""]
[null,{"$f":"IF(C678=\"\",\"\",IF(COUNTIF($C$3:C678, C678)>1, \"\", C678))","v":""},{"$f":"IF(G678=\"\",\"\",IF(F678=\"\",\"\",CONCATENATE(DIGITADOR!$M$1,G678,E678)))","v":""},"",{"$f":"IF(F678=\"\",\"\",VLOOKUP(F678,referentes!$Q$2:$T$300,3,FALSE))","v":""},null,null,null,null,null,{"$f":"IF(L678=\"\",\"\",VLOOKUP(L678,referentes!$G$2:$N$15,2,FALSE))","v":""},null,null,"",null,null,""]
[null,{"$f":"IF(C679=\"\",\"\",IF(COUNTIF($C$3:C679, C679)>1, \"\", C679))","v":""},{"$f":"IF(G679=\"\",\"\",IF(F679=\"\",\"\",CONCATENATE(DIGITADOR!$M$1,G679,E679)))","v":""},"",{"$f":"IF(F679=\"\",\"\",VLOOKUP(F679,referentes!$Q$2:$T$300,3,FALSE))","v":""},null,null,null,null,null,{"$f":"IF(L679=\"\",\"\",VLOOKUP(L679,referentes!$G$2:$N$15,2,FALSE))","v":""},null,null,"",null,null,""]
[null,{"$f":"IF(C680=\"\",\"\",IF(COUNTIF($C$3:C680, C680)>1, \"\", C680))","v":""},{"$f":"IF(G680=\"\",\"\",IF(F680=\"\",\"\",CONCATENATE(DIGITADOR!$M$1,G680,E680)))","v":""},"",{"$f":"IF(F680=\"\",\"\",VLOOKUP(F680,referentes!$Q$2:$T$300,3,FALSE))","v":""},null,null,null,null,null,{"$f":"IF(L680=\"\",\"\",VLOOKUP(L680,referentes!$G$2:$N$15,2,FALSE))","v":""},null,null,"",null,null,""]
[null,{"$f":"IF(C681=\"\",\"\",IF(COUNTIF($C$3:C681, C681)>1, \"\", C681))","v":""},{"$f":"IF(G681=\"\",\"\",IF(F681=\"\",\"\",CONCATENATE(DIGITADOR!$M$1,G681,E681)))","v":""},"",{"$f":"IF(F681=\"\",\"\",VLOOKUP(F681,referentes!$Q$2:$T$300,3,FALSE))","v":""},null,null,null,null,null,{"$f":"IF(L681=\"\",\"\",VLOOKUP(L681,referentes!$G$2:$N$15,2,FALSE))","v":""},null,null,"",null,null,""]
[null,{"$f":"IF(C682=\"\",\"\",IF(COUNTIF($C$3:C682, C682)>1, \"\", C682))","v":""},{"$f":"IF(G682=\"\",\"\",IF(F682=\"\",\"\",CONCATENATE(DIGITADOR!$M$1,G682,E682)))","v":""},"",{"$f":"IF(F682=\"\",\"\",VLOOKUP(F682,referentes!$Q$2:$T$300,3,FALSE))","v":""},null,null,null,null,null,{"$f":"IF(L682=\"\",\"\",VLOOKUP(L682,referentes!$G$2:$N$15,2,FALSE))","v":""},null,null,"",null,null,""]
[null,{"$f":"IF(C683=\"\",\"\",IF(COUNTIF($C$3:C683, C683)>1, \"\", C683))","v":""},{"$f":"IF(G683=\"\",\"\",IF(F683=\"\",\"\",CONCATENATE(DIGITADOR!$M$1,G683,E683)))","v":""},"",{"$f":"IF(F683=\"\",\"\",VLOOKUP(F683,referentes!$Q$2:$T$300,3,FALSE))","v":""},null,null,null,null,null,{"$f":"IF(L683=\"\",\"\",VLOOKUP(L683,referentes!$G$2:$N$15,2,FALSE))","v":""},null,null,"",null,null,""]
[null,{"$f":"IF(C684=\"\",\"\",IF(COUNTIF($C$3:C684, C684)>1, \"\", C684))","v":""},{"$f":"IF(G684=\"\",\"\",IF(F684=\"\",\"\",CONCATENATE(DIGITADOR!$M$1,G684,E684)))","v":""},"",{"$f":"IF(F684=\"\",\"\",VLOOKUP(F684,referentes!$Q$2:$T$300,3,FALSE))","v":""},null,null,null,null,null,{"$f":"IF(L684=\"\",\"\",VLOOKUP(L684,referentes!$G$2:$N$15,2,FALSE))","v":""},null,null,"",null,null,""]
[null,{"$f":"IF(C685=\"\",\"\",IF(COUNTIF($C$3:C685, C685)>1, \"\", C685))","v":""},{"$f":"IF(G685=\"\",\"\",IF(F685=\"\",\"\",CONCATENATE(DIGITADOR!$M$1,G685,E685)))","v":""},"",{"$f":"IF(F685=\"\",\"\",VLOOKUP(F685,referentes!$Q$2:$T$300,3,FALSE))","v":""},null,null,null,null,null,{"$f":"IF(L685=\"\",\"\",VLOOKUP(L685,referentes!$G$2:$N$15,2,FALSE))","v":""},null,null,"",null,null,""]
[null,{"$f":"IF(C686=\"\",\"\",IF(COUNTIF($C$3:C686, C686)>1, \"\", C686))","v":""},{"$f":"IF(G686=\"\",\"\",IF(F686=\"\",\"\",CONCATENATE(DIGITADOR!$M$1,G686,E686)))","v":""},"",{"$f":"IF(F686=\"\",\"\",VLOOKUP(F686,referentes!$Q$2:$T$300,3,FALSE))","v":""},null,null,null,null,null,{"$f":"IF(L686=\"\",\"\",VLOOKUP(L686,referentes!$G$2:$N$15,2,FALSE))","v":""},null,null,"",null,null,""]
[null,{"$f":"IF(C687=\"\",\"\",IF(COUNTIF($C$3:C687, C687)>1, \"\", C687))","v":""},{"$f":"IF(G687=\"\",\"\",IF(F687=\"\",\"\",CONCATENATE(DIGITADOR!$M$1,G687,E687)))","v":""},"",{"$f":"IF(F687=\"\",\"\",VLOOKUP(F687,referentes!$Q$2:$T$300,3,FALSE))","v":""},null,null,null,null,null,{"$f":"IF(L687=\"\",\"\",VLOOKUP(L687,referentes!$G$2:$N$15,2,FALSE))","v":""},null,null,"",null,null,""]
[null,{"$f":"IF(C688=\"\",\"\",IF(COUNTIF($C$3:C688, C688)>1, \"\", C688))","v":""},{"$f":"IF(G688=\"\",\"\",IF(F688=\"\",\"\",CONCATENATE(DIGITADOR!$M$1,G688,E688)))","v":""},"",{"$f":"IF(F688=\"\",\"\",VLOOKUP(F688,referentes!$Q$2:$T$300,3,FALSE))","v":""},null,null,null,null,null,{"$f":"IF(L688=\"\",\"\",VLOOKUP(L688,referentes!$G$2:$N$15,2,FALSE))","v":""},null,null,"",null,null,""]
[null,{"$f":"IF(C689=\"\",\"\",IF(COUNTIF($C$3:C689, C689)>1, \"\", C689))","v":""},{"$f":"IF(G689=\"\",\"\",IF(F689=\"\",\"\",CONCATENATE(DIGITADOR!$M$1,G689,E689)))","v":""},"",{"$f":"IF(F689=\"\",\"\",VLOOKUP(F689,referentes!$Q$2:$T$300,3,FALSE))","v":""},null,null,null,null,null,{"$f":"IF(L689=\"\",\"\",VLOOKUP(L689,referentes!$G$2:$N$15,2,FALSE))","v":""},null,null,"",null,null,""]
[null,{"$f":"IF(C690=\"\",\"\",IF(COUNTIF($C$3:C690, C690)>1, \"\", C690))","v":""},{"$f":"IF(G690=\"\",\"\",IF(F690=\"\",\"\",CONCATENATE(DIGITADOR!$M$1,G690,E690)))","v":""},"",{"$f":"IF(F690=\"\",\"\",VLOOKUP(F690,referentes!$Q$2:$T$300,3,FALSE))","v":""},null,null,null,null,null,{"$f":"IF(L690=\"\",\"\",VLOOKUP(L690,referentes!$G$2:$N$15,2,FALSE))","v":""},null,null,"",null,null,""]
[null,{"$f":"IF(C691=\"\",\"\",IF(COUNTIF($C$3:C691, C691)>1, \"\", C691))","v":""},{"$f":"IF(G691=\"\",\"\",IF(F691=\"\",\"\",CONCATENATE(DIGITADOR!$M$1,G691,E691)))","v":""},"",{"$f":"IF(F691=\"\",\"\",VLOOKUP(F691,referentes!$Q$2:$T$300,3,FALSE))","v":""},null,null,null,null,null,{"$f":"IF(L691=\"\",\"\",VLOOKUP(L691,referentes!$G$2:$N$15,2,FALSE))","v":""},null,null,"",null,null,""]
[null,{"$f":"IF(C692=\"\",\"\",IF(COUNTIF($C$3:C692, C692)>1, \"\", C692))","v":""},{"$f":"IF(G692=\"\",\"\",IF(F692=\"\",\"\",CONCATENATE(DIGITADOR!$M$1,G692,E692)))","v":""},"",{"$f":"IF(F692=\"\",\"\",VLOOKUP(F692,referentes!$Q$2:$T$300,3,FALSE))","v":""},null,null,null,null,null,{"$f":"IF(L692=\"\",\"\",VLOOKUP(L692,referentes!$G$2:$N$15,2,FALSE))","v":""},null,null,"",null,null,""]
[null,{"$f":"IF(C693=\"\",\"\",IF(COUNTIF($C$3:C693, C693)>1, \"\", C693))","v":""},{"$f":"IF(G693=\"\",\"\",IF(F693=\"\",\"\",CONCATENATE(DIGITADOR!$M$1,G693,E693)))","v":""},"",{"$f":"IF(F693=\"\",\"\",VLOOKUP(F693,referentes!$Q$2:$T$300,3,FALSE))","v":""},null,null,null,null,null,{"$f":"IF(L693=\"\",\"\",VLOOKUP(L693,referentes!$G$2:$N$15,2,FALSE))","v":""},null,null,"",null,null,""]
[null,{"$f":"IF(C694=\"\",\"\",IF(COUNTIF($C$3:C694, C694)>1, \"\", C694))","v":""},{"$f":"IF(G694=\"\",\"\",IF(F694=\"\",\"\",CONCATENATE(DIGITADOR!$M$1,G694,E694)))","v":""},"",{"$f":"IF(F694=\"\",\"\",VLOOKUP(F694,referentes!$Q$2:$T$300,3,FALSE))","v":""},null,null,null,null,null,{"$f":"IF(L694=\"\",\"\",VLOOKUP(L694,referentes!$G$2:$N$15,2,FALSE))","v":""},null,null,"",null,null,""]
[null,{"$f":"IF(C695=\"\",\"\",IF(COUNTIF($C$3:C695, C695)>1, \"\", C695))","v":""},{"$f":"IF(G695=\"\",\"\",IF(F695=\"\",\"\",CONCATENATE(DIGITADOR!$M$1,G695,E695)))","v":""},"",{"$f":"IF(F695=\"\",\"\",VLOOKUP(F695,referentes!$Q$2:$T$300,3,FALSE))","v":""},null,null,null,null,null,{"$f":"IF(L695=\"\",\"\",VLOOKUP(L695,referentes!$G$2:$N$15,2,FALSE))","v":""},null,null,"",null,null,""]
[null,{"$f":"IF(C696=\"\",\"\",IF(COUNTIF($C$3:C696, C696)>1, \"\", C696))","v":""},{"$f":"IF(G696=\"\",\"\",IF(F696=\"\",\"\",CONCATENATE(DIGITADOR!$M$1,G696,E696)))","v":""},"",{"$f":"IF(F696=\"\",\"\",VLOOKUP(F696,referentes!$Q$2:$T$300,3,FALSE))","v":""},null,null,null,null,null,{"$f":"IF(L696=\"\",\"\",VLOOKUP(L696,referentes!$G$2:$N$15,2,FALSE))","v":""},null,null,"",null,null,""]
[null,{"$f":"IF(C697=\"\",\"\",IF(COUNTIF($C$3:C697, C697)>1, \"\", C697))","v":""},{"$f":"IF(G697=\"\",\"\",IF(F697=\"\",\"\",CONCATENATE(DIGITADOR!$M$1,G697,E697)))","v":""},"",{"$f":"IF(F697=\"\",\"\",VLOOKUP(F697,referentes!$Q$2:$T$300,3,FALSE))","v":""},null,null,null,null,null,{"$f":"IF(L697=\"\",\"\",VLOOKUP(L697,referentes!$G$2:$N$15,2,FALSE))","v":""},null,null,"",null,null,""]
[null,{"$f":"IF(C698=\"\",\"\",IF(COUNTIF($C$3:C698, C698)>1, \"\", C698))","v":""},{"$f":"IF(G698=\"\",\"\",IF(F698=\"\",\"\",CONCATENATE(DIGITADOR!$M$1,G698,E698)))","v":""},"",{"$f":"IF(F698=\"\",\"\",VLOOKUP(F698,referentes!$Q$2:$T$300,3,FALSE))","v":""},null,null,null,null,null,{"$f":"IF(L698=\"\",\"\",VLOOKUP(L698,referentes!$G$2:$N$15,2,FALSE))","v":""},null,null,"",null,null,""]
[null,{"$f":"IF(C699=\"\",\"\",IF(COUNTIF($C$3:C699, C699)>1, \"\", C699))","v":""},{"$f":"IF(G699=\"\",\"\",IF(F699=\"\",\"\",CONCATENATE(DIGITADOR!$M$1,G699,E699)))","v":""},"",{"$f":"IF(F699=\"\",\"\",VLOOKUP(F699,referentes!$Q$2:$T$300,3,FALSE))","v":""},null,null,null,null,null,{"$f":"IF(L699=\"\",\"\",VLOOKUP(L699,referentes!$G$2:$N$15,2,FALSE))","v":""},null,null,"",null,null,""]
[null,{"$f":"IF(C700=\"\",\"\",IF(COUNTIF($C$3:C700, C700)>1, \"\", C700))","v":""},{"$f":"IF(G700=\"\",\"\",IF(F700=\"\",\"\",CONCATENATE(DIGITADOR!$M$1,G700,E700)))","v":""},"",{"$f":"IF(F700=\"\",\"\",VLOOKUP(F700,referentes!$Q$2:$T$300,3,FALSE))","v":""},null,null,null,null,null,{"$f":"IF(L700=\"\",\"\",VLOOKUP(L700,referentes!$G$2:$N$15,2,FALSE))","v":""},null,null,"",null,null,""]
[null,{"$f":"IF(C701=\"\",\"\",IF(COUNTIF($C$3:C701, C701)>1, \"\", C701))","v":""},{"$f":"IF(G701=\"\",\"\",IF(F701=\"\",\"\",CONCATENATE(DIGITADOR!$M$1,G701,E701)))","v":""},"",{"$f":"IF(F701=\"\",\"\",VLOOKUP(F701,referentes!$Q$2:$T$300,3,FALSE))","v":""},null,null,null,null,null,{"$f":"IF(L701=\"\",\"\",VLOOKUP(L701,referentes!$G$2:$N$15,2,FALSE))","v":""},null,null,"",null,null,""]
[null,{"$f":"IF(C702=\"\",\"\",IF(COUNTIF($C$3:C702, C702)>1, \"\", C702))","v":""},{"$f":"IF(G702=\"\",\"\",IF(F702=\"\",\"\",CONCATENATE(DIGITADOR!$M$1,G702,E702)))","v":""},"",{"$f":"IF(F702=\"\",\"\",VLOOKUP(F702,referentes!$Q$2:$T$300,3,FALSE))","v":""},null,null,null,null,null,{"$f":"IF(L702=\"\",\"\",VLOOKUP(L702,referentes!$G$2:$N$15,2,FALSE))","v":""},null,null,"",null,null,""]
[null,{"$f":"IF(C703=\"\",\"\",IF(COUNTIF($C$3:C703, C703)>1, \"\", C703))","v":""},{"$f":"IF(G703=\"\",\"\",IF(F703=\"\",\"\",CONCATENATE(DIGITADOR!$M$1,G703,E703)))","v":""},"",{"$f":"IF(F703=\"\",\"\",VLOOKUP(F703,referentes!$Q$2:$T$300,3,FALSE))","v":""},null,null,null,null,null,{"$f":"IF(L703=\"\",\"\",VLOOKUP(L703,referentes!$G$2:$N$15,2,FALSE))","v":""},null,null,"",null,null,""]
[null,{"$f":"IF(C704=\"\",\"\",IF(COUNTIF($C$3:C704, C704)>1, \"\", C704))","v":""},{"$f":"IF(G704=\"\",\"\",IF(F704=\"\",\"\",CONCATENATE(DIGITADOR!$M$1,G704,E704)))","v":""},"",{"$f":"IF(F704=\"\",\"\",VLOOKUP(F704,referentes!$Q$2:$T$300,3,FALSE))","v":""},null,null,null,null,null,{"$f":"IF(L704=\"\",\"\",VLOOKUP(L704,referentes!$G$2:$N$15,2,FALSE))","v":""},null,null,"",null,null,""]
[null,{"$f":"IF(C705=\"\",\"\",IF(COUNTIF($C$3:C705, C705)>1, \"\", C705))","v":""},{"$f":"IF(G705=\"\",\"\",IF(F705=\"\",\"\",CONCATENATE(DIGITADOR!$M$1,G705,E705)))","v":""},"",{"$f":"IF(F705=\"\",\"\",VLOOKUP(F705,referentes!$Q$2:$T$300,3,FALSE))","v":""},null,null,null,null,null,{"$f":"IF(L705=\"\",\"\",VLOOKUP(L705,referentes!$G$2:$N$15,2,FALSE))","v":""},null,null,"",null,null,""]
[null,{"$f":"IF(C706=\"\",\"\",IF(COUNTIF($C$3:C706, C706)>1, \"\", C706))","v":""},{"$f":"IF(G706=\"\",\"\",IF(F706=\"\",\"\",CONCATENATE(DIGITADOR!$M$1,G706,E706)))","v":""},"",{"$f":"IF(F706=\"\",\"\",VLOOKUP(F706,referentes!$Q$2:$T$300,3,FALSE))","v":""},null,null,null,null,null,{"$f":"IF(L706=\"\",\"\",VLOOKUP(L706,referentes!$G$2:$N$15,2,FALSE))","v":""},null,null,"",null,null,""]
[null,{"$f":"IF(C707=\"\",\"\",IF(COUNTIF($C$3:C707, C707)>1, \"\", C707))","v":""},{"$f":"IF(G707=\"\",\"\",IF(F707=\"\",\"\",CONCATENATE(DIGITADOR!$M$1,G707,E707)))","v":""},"",{"$f":"IF(F707=\"\",\"\",VLOOKUP(F707,referentes!$Q$2:$T$300,3,FALSE))","v":""},null,null,null,null,null,{"$f":"IF(L707=\"\",\"\",VLOOKUP(L707,referentes!$G$2:$N$15,2,FALSE))","v":""},null,null,"",null,null,""]
[null,{"$f":"IF(C708=\"\",\"\",IF(COUNTIF($C$3:C708, C708)>1, \"\", C708))","v":""},{"$f":"IF(G708=\"\",\"\",IF(F708=\"\",\"\",CONCATENATE(DIGITADOR!$M$1,G708,E708)))","v":""},{"$f":"IF(C708=\"\",\"\",CONCATENATE(C708,ROW()-2))","v":""},{"$f":"IF(F708=\"\",\"\",VLOOKUP(F708,referentes!$Q$2:$T$300,3,FALSE))","v":""},null,null,null,null,null,{"$f":"IF(L708=\"\",\"\",VLOOKUP(L708,referentes!$G$2:$N$15,2,FALSE))","v":""},null,null,{"$f":"IF(M708=\"\",\"\",M708/PI())","v":""},null,null,{"$f":"IF(N708=\"\",\"\",((PI())*((N708/100)^2))/4*10000/500)","v":""}]
[null,{"$f":"IF(C709=\"\",\"\",IF(COUNTIF($C$3:C709, C709)>1, \"\", C709))","v":""},{"$f":"IF(G709=\"\",\"\",IF(F709=\"\",\"\",CONCATENATE(DIGITADOR!$M$1,G709,E709)))","v":""},"",{"$f":"IF(F709=\"\",\"\",VLOOKUP(F709,referentes!$Q$2:$T$300,3,FALSE))","v":""},null,null,null,null,null,{"$f":"IF(L709=\"\",\"\",VLOOKUP(L709,referentes!$G$2:$N$15,2,FALSE))","v":""},null,null,"",null,null,""]
[null,{"$f":"IF(C710=\"\",\"\",IF(COUNTIF($C$3:C710, C710)>1, \"\", C710))","v":""},{"$f":"IF(G710=\"\",\"\",IF(F710=\"\",\"\",CONCATENATE(DIGITADOR!$M$1,G710,E710)))","v":""},"",{"$f":"IF(F710=\"\",\"\",VLOOKUP(F710,referentes!$Q$2:$T$300,3,FALSE))","v":""},null,null,null,null,null,{"$f":"IF(L710=\"\",\"\",VLOOKUP(L710,referentes!$G$2:$N$15,2,FALSE))","v":""},null,null,"",null,null,""]
[null,{"$f":"IF(C711=\"\",\"\",IF(COUNTIF($C$3:C711, C711)>1, \"\", C711))","v":""},{"$f":"IF(G711=\"\",\"\",IF(F711=\"\",\"\",CONCATENATE(DIGITADOR!$M$1,G711,E711)))","v":""},"",{"$f":"IF(F711=\"\",\"\",VLOOKUP(F711,referentes!$Q$2:$T$300,3,FALSE))","v":""},null,null,null,null,null,{"$f":"IF(L711=\"\",\"\",VLOOKUP(L711,referentes!$G$2:$N$15,2,FALSE))","v":""},null,null,"",null,null,""]
[null,{"$f":"IF(C712=\"\",\"\",IF(COUNTIF($C$3:C712, C712)>1, \"\", C712))","v":""},{"$f":"IF(G712=\"\",\"\",IF(F712=\"\",\"\",CONCATENATE(DIGITADOR!$M$1,G712,E712)))","v":""},"",{"$f":"IF(F712=\"\",\"\",VLOOKUP(F712,referentes!$Q$2:$T$300,3,FALSE))","v":""},null,null,null,null,null,{"$f":"IF(L712=\"\",\"\",VLOOKUP(L712,referentes!$G$2:$N$15,2,FALSE))","v":""},null,null,"",null,null,""]
[null,{"$f":"IF(C713=\"\",\"\",IF(COUNTIF($C$3:C713, C713)>1, \"\", C713))","v":""},{"$f":"IF(G713=\"\",\"\",IF(F713=\"\",\"\",CONCATENATE(DIGITADOR!$M$1,G713,E713)))","v":""},"",{"$f":"IF(F713=\"\",\"\",VLOOKUP(F713,referentes!$Q$2:$T$300,3,FALSE))","v":""},null,null,null,null,null,{"$f":"IF(L713=\"\",\"\",VLOOKUP(L713,referentes!$G$2:$N$15,2,FALSE))","v":""},null,null,"",null,null,""]
[null,{"$f":"IF(C714=\"\",\"\",IF(COUNTIF($C$3:C714, C714)>1, \"\", C714))","v":""},{"$f":"IF(G714=\"\",\"\",IF(F714=\"\",\"\",CONCATENATE(DIGITADOR!$M$1,G714,E714)))","v":""},"",{"$f":"IF(F714=\"\",\"\",VLOOKUP(F714,referentes!$Q$2:$T$300,3,FALSE))","v":""},null,null,null,null,null,{"$f":"IF(L714=\"\",\"\",VLOOKUP(L714,referentes!$G$2:$N$15,2,FALSE))","v":""},null,null,"",null,null,""]
[null,{"$f":"IF(C715=\"\",\"\",IF(COUNTIF($C$3:C715, C715)>1, \"\", C715))","v":""},{"$f":"IF(G715=\"\",\"\",IF(F715=\"\",\"\",CONCATENATE(DIGITADOR!$M$1,G715,E715)))","v":""},"",{"$f":"IF(F715=\"\",\"\",VLOOKUP(F715,referentes!$Q$2:$T$300,3,FALSE))","v":""},null,null,null,null,null,{"$f":"IF(L715=\"\",\"\",VLOOKUP(L715,referentes!$G$2:$N$15,2,FALSE))","v":""},null,null,"",null,null,""]
[null,{"$f":"IF(C716=\"\",\"\",IF(COUNTIF($C$3:C716, C716)>1, \"\", C716))","v":""},{"$f":"IF(G716=\"\",\"\",IF(F716=\"\",\"\",CONCATENATE(DIGITADOR!$M$1,G716,E716)))","v":""},"",{"$f":"IF(F716=\"\",\"\",VLOOKUP(F716,referentes!$Q$2:$T$300,3,FALSE))","v":""},null,null,null,null,null,{"$f":"IF(L716=\"\",\"\",VLOOKUP(L716,referentes!$G$2:$N$15,2,FALSE))","v":""},null,null,"",null,null,""]
[null,{"$f":"IF(C717=\"\",\"\",IF(COUNTIF($C$3:C717, C717)>1, \"\", C717))","v":""},{"$f":"IF(G717=\"\",\"\",IF(F717=\"\",\"\",CONCATENATE(DIGITADOR!$M$1,G717,E717)))","v":""},"",{"$f":"IF(F717=\"\",\"\",VLOOKUP(F717,referentes!$Q$2:$T$300,3,FALSE))","v":""},null,null,null,null,null,{"$f":"IF(L717=\"\",\"\",VLOOKUP(L717,referentes!$G$2:$N$15,2,FALSE))","v":""},null,null,"",null,null,""]
[null,{"$f":"IF(C718=\"\",\"\",IF(COUNTIF($C$3:C718, C718)>1, \"\", C718))","v":""},{"$f":"IF(G718=\"\",\"\",IF(F718=\"\",\"\",CONCATENATE(DIGITADOR!$M$1,G718,E718)))","v":""},"",{"$f":"IF(F718=\"\",\"\",VLOOKUP(F718,referentes!$Q$2:$T$300,3,FALSE))","v":""},null,null,null,null,null,{"$f":"IF(L718=\"\",\"\",VLOOKUP(L718,referentes!$G$2:$N$15,2,FALSE))","v":""},null,null,"",null,null,""]
[null,{"$f":"IF(C719=\"\",\"\",IF(COUNTIF($C$3:C719, C719)>1, \"\", C719))","v":""},{"$f":"IF(G719=\"\",\"\",IF(F719=\"\",\"\",CONCATENATE(DIGITADOR!$M$1,G719,E719)))","v":""},"",{"$f":"IF(F719=\"\",\"\",VLOOKUP(F719,referentes!$Q$2:$T$300,3,FALSE))","v":""},null,null,null,null,null,{"$f":"IF(L719=\"\",\"\",VLOOKUP(L719,referentes!$G$2:$N$15,2,FALSE))","v":""},null,null,"",null,null,""]
[null,{"$f":"IF(C720=\"\",\"\",IF(COUNTIF($C$3:C720, C720)>1, \"\", C720))","v":""},{"$f":"IF(G720=\"\",\"\",IF(F720=\"\",\"\",CONCATENATE(DIGITADOR!$M$1,G720,E720)))","v":""},"",{"$f":"IF(F720=\"\",\"\",VLOOKUP(F720,referentes!$Q$2:$T$300,3,FALSE))","v":""},null,null,null,null,null,{"$f":"IF(L720=\"\",\"\",VLOOKUP(L720,referentes!$G$2:$N$15,2,FALSE))","v":""},null,null,"",null,null,""]
[null,{"$f":"IF(C721=\"\",\"\",IF(COUNTIF($C$3:C721, C721)>1, \"\", C721))","v":""},{"$f":"IF(G721=\"\",\"\",IF(F721=\"\",\"\",CONCATENATE(DIGITADOR!$M$1,G721,E721)))","v":""},"",{"$f":"IF(F721=\"\",\"\",VLOOKUP(F721,referentes!$Q$2:$T$300,3,FALSE))","v":""},null,null,null,null,null,{"$f":"IF(L721=\"\",\"\",VLOOKUP(L721,referentes!$G$2:$N$15,2,FALSE))","v":""},null,null,"",null,null,""]
[null,{"$f":"IF(C722=\"\",\"\",IF(COUNTIF($C$3:C722, C722)>1, \"\", C722))","v":""},{"$f":"IF(G722=\"\",\"\",IF(F722=\"\",\"\",CONCATENATE(DIGITADOR!$M$1,G722,E722)))","v":""},"",{"$f":"IF(F722=\"\",\"\",VLOOKUP(F722,referentes!$Q$2:$T$300,3,FALSE))","v":""},null,null,null,null,null,{"$f":"IF(L722=\"\",\"\",VLOOKUP(L722,referentes!$G$2:$N$15,2,FALSE))","v":""},null,null,"",null,null,""]
[null,{"$f":"IF(C723=\"\",\"\",IF(COUNTIF($C$3:C723, C723)>1, \"\", C723))","v":""},{"$f":"IF(G723=\"\",\"\",IF(F723=\"\",\"\",CONCATENATE(DIGITADOR!$M$1,G723,E723)))","v":""},"",{"$f":"IF(F723=\"\",\"\",VLOOKUP(F723,referentes!$Q$2:$T$300,3,FALSE))","v":""},null,null,null,null,null,{"$f":"IF(L723=\"\",\"\",VLOOKUP(L723,referentes!$G$2:$N$15,2,FALSE))","v":""},null,null,"",null,null,""]
[null,{"$f":"IF(C724=\"\",\"\",IF(COUNTIF($C$3:C724, C724)>1, \"\", C724))","v":""},{"$f":"IF(G724=\"\",\"\",IF(F724=\"\",\"\",CONCATENATE(DIGITADOR!$M$1,G724,E724)))","v":""},"",{"$f":"IF(F724=\"\",\"\",VLOOKUP(F724,referentes!$Q$2:$T$300,3,FALSE))","v":""},null,null,null,null,null,{"$f":"IF(L724=\"\",\"\",VLOOKUP(L724,referentes!$G$2:$N$15,2,FALSE))","v":""},null,null,"",null,null,""]
[null,{"$f":"IF(C725=\"\",\"\",IF(COUNTIF($C$3:C725, C725)>1, \"\", C725))","v":""},{"$f":"IF(G725=\"\",\"\",IF(F725=\"\",\"\",CONCATENATE(DIGITADOR!$M$1,G725,E725)))","v":""},"",{"$f":"IF(F725=\"\",\"\",VLOOKUP(F725,referentes!$Q$2:$T$300,3,FALSE))","v":""},null,null,null,null,null,{"$f":"IF(L725=\"\",\"\",VLOOKUP(L725,referentes!$G$2:$N$15,2,FALSE))","v":""},null,null,"",null,null,""]
[null,{"$f":"IF(C726=\"\",\"\",IF(COUNTIF($C$3:C726, C726)>1, \"\", C726))","v":""},{"$f":"IF(G726=\"\",\"\",IF(F726=\"\",\"\",CONCATENATE(DIGITADOR!$M$1,G726,E726)))","v":""},"",{"$f":"IF(F726=\"\",\"\",VLOOKUP(F726,referentes!$Q$2:$T$300,3,FALSE))","v":""},null,null,null,null,null,{"$f":"IF(L726=\"\",\"\",VLOOKUP(L726,referentes!$G$2:$N$15,2,FALSE))","v":""},null,null,"",null,null,""]
[null,{"$f":"IF(C727=\"\",\"\",IF(COUNTIF($C$3:C727, C727)>1, \"\", C727))","v":""},{"$f":"IF(G727=\"\",\"\",IF(F727=\"\",\"\",CONCATENATE(DIGITADOR!$M$1,G727,E727)))","v":""},"",{"$f":"IF(F727=\"\",\"\",VLOOKUP(F727,referentes!$Q$2:$T$300,3,FALSE))","v":""},null,null,null,null,null,{"$f":"IF(L727=\"\",\"\",VLOOKUP(L727,referentes!$G$2:$N$15,2,FALSE))","v":""},null,null,"",null,null,""]
[null,{"$f":"IF(C728=\"\",\"\",IF(COUNTIF($C$3:C728, C728)>1, \"\", C728))","v":""},{"$f":"IF(G728=\"\",\"\",IF(F728=\"\",\"\",CONCATENATE(DIGITADOR!$M$1,G728,E728)))","v":""},"",{"$f":"IF(F728=\"\",\"\",VLOOKUP(F728,referentes!$Q$2:$T$300,3,FALSE))","v":""},null,null,null,null,null,{"$f":"IF(L728=\"\",\"\",VLOOKUP(L728,referentes!$G$2:$N$15,2,FALSE))","v":""},null,null,"",null,null,""]
[null,{"$f":"IF(C729=\"\",\"\",IF(COUNTIF($C$3:C729, C729)>1, \"\", C729))","v":""},{"$f":"IF(G729=\"\",\"\",IF(F729=\"\",\"\",CONCATENATE(DIGITADOR!$M$1,G729,E729)))","v":""},"",{"$f":"IF(F729=\"\",\"\",VLOOKUP(F729,referentes!$Q$2:$T$300,3,FALSE))","v":""},null,null,null,null,null,{"$f":"IF(L729=\"\",\"\",VLOOKUP(L729,referentes!$G$2:$N$15,2,FALSE))","v":""},null,null,"",null,null,""]
[null,{"$f":"IF(C730=\"\",\"\",IF(COUNTIF($C$3:C730, C730)>1, \"\", C730))","v":""},{"$f":"IF(G730=\"\",\"\",IF(F730=\"\",\"\",CONCATENATE(DIGITADOR!$M$1,G730,E730)))","v":""},"",{"$f":"IF(F730=\"\",\"\",VLOOKUP(F730,referentes!$Q$2:$T$300,3,FALSE))","v":""},null,null,null,null,null,{"$f":"IF(L730=\"\",\"\",VLOOKUP(L730,referentes!$G$2:$N$15,2,FALSE))","v":""},null,null,"",null,null,""]
[null,{"$f":"IF(C731=\"\",\"\",IF(COUNTIF($C$3:C731, C731)>1, \"\", C731))","v":""},{"$f":"IF(G731=\"\",\"\",IF(F731=\"\",\"\",CONCATENATE(DIGITADOR!$M$1,G731,E731)))","v":""},"",{"$f":"IF(F731=\"\",\"\",VLOOKUP(F731,referentes!$Q$2:$T$300,3,FALSE))","v":""},null,null,null,null,null,{"$f":"IF(L731=\"\",\"\",VLOOKUP(L731,referentes!$G$2:$N$15,2,FALSE))","v":""},null,null,"",null,null,""]
[null,{"$f":"IF(C732=\"\",\"\",IF(COUNTIF($C$3:C732, C732)>1, \"\", C732))","v":""},{"$f":"IF(G732=\"\",\"\",IF(F732=\"\",\"\",CONCATENATE(DIGITADOR!$M$1,G732,E732)))","v":""},"",{"$f":"IF(F732=\"\",\"\",VLOOKUP(F732,referentes!$Q$2:$T$300,3,FALSE))","v":""},null,null,null,null,null,{"$f":"IF(L732=\"\",\"\",VLOOKUP(L732,referentes!$G$2:$N$15,2,FALSE))","v":""},null,null,"",null,null,""]
[null,{"$f":"IF(C733=\"\",\"\",IF(COUNTIF($C$3:C733, C733)>1, \"\", C733))","v":""},{"$f":"IF(G733=\"\",\"\",IF(F733=\"\",\"\",CONCATENATE(DIGITADOR!$M$1,G733,E733)))","v":""},"",{"$f":"IF(F733=\"\",\"\",VLOOKUP(F733,referentes!$Q$2:$T$300,3,FALSE))","v":""},null,null,null,null,null,{"$f":"IF(L733=\"\",\"\",VLOOKUP(L733,referentes!$G$2:$N$15,2,FALSE))","v":""},null,null,"",null,null,""]
[null,{"$f":"IF(C734=\"\",\"\",IF(COUNTIF($C$3:C734, C734)>1, \"\", C734))","v":""},{"$f":"IF(G734=\"\",\"\",IF(F734=\"\",\"\",CONCATENATE(DIGITADOR!$M$1,G734,E734)))","v":""},"",{"$f":"IF(F734=\"\",\"\",VLOOKUP(F734,referentes!$Q$2:$T$300,3,FALSE))","v":""},null,null,null,null,null,{"$f":"IF(L734=\"\",\"\",VLOOKUP(L734,referentes!$G$2:$N$15,2,FALSE))","v":""},null,null,"",null,null,""]
[null,{"$f":"IF(C735=\"\",\"\",IF(COUNTIF($C$3:C735, C735)>1, \"\", C735))","v":""},{"$f":"IF(G735=\"\",\"\",IF(F735=\"\",\"\",CONCATENATE(DIGITADOR!$M$1,G735,E735)))","v":""},"",{"$f":"IF(F735=\"\",\"\",VLOOKUP(F735,referentes!$Q$2:$T$300,3,FALSE))","v":""},null,null,null,null,null,{"$f":"IF(L735=\"\",\"\",VLOOKUP(L735,referentes!$G$2:$N$15,2,FALSE))","v":""},null,null,"",null,null,""]
[null,{"$f":"IF(C736=\"\",\"\",IF(COUNTIF($C$3:C736, C736)>1, \"\", C736))","v":""},{"$f":"IF(G736=\"\",\"\",IF(F736=\"\",\"\",CONCATENATE(DIGITADOR!$M$1,G736,E736)))","v":""},"",{"$f":"IF(F736=\"\",\"\",VLOOKUP(F736,referentes!$Q$2:$T$300,3,FALSE))","v":""},null,null,null,null,null,{"$f":"IF(L736=\"\",\"\",VLOOKUP(L736,referentes!$G$2:$N$15,2,FALSE))","v":""},null,null,"",null,null,""]
[null,{"$f":"IF(C737=\"\",\"\",IF(COUNTIF($C$3:C737, C737)>1, \"\", C737))","v":""},{"$f":"IF(G737=\"\",\"\",IF(F737=\"\",\"\",CONCATENATE(DIGITADOR!$M$1,G737,E737)))","v":""},"",{"$f":"IF(F737=\"\",\"\",VLOOKUP(F737,referentes!$Q$2:$T$300,3,FALSE))","v":""},null,null,null,null,null,{"$f":"IF(L737=\"\",\"\",VLOOKUP(L737,referentes!$G$2:$N$15,2,FALSE))","v":""},null,null,"",null,null,""]
[null,{"$f":"IF(C738=\"\",\"\",IF(COUNTIF($C$3:C738, C738)>1, \"\", C738))","v":""},{"$f":"IF(G738=\"\",\"\",IF(F738=\"\",\"\",CONCATENATE(DIGITADOR!$M$1,G738,E738)))","v":""},"",{"$f":"IF(F738=\"\",\"\",VLOOKUP(F738,referentes!$Q$2:$T$300,3,FALSE))","v":""},null,null,null,null,null,{"$f":"IF(L738=\"\",\"\",VLOOKUP(L738,referentes!$G$2:$N$15,2,FALSE))","v":""},null,null,"",null,null,""]
[null,{"$f":"IF(C739=\"\",\"\",IF(COUNTIF($C$3:C739, C739)>1, \"\", C739))","v":""},{"$f":"IF(G739=\"\",\"\",IF(F739=\"\",\"\",CONCATENATE(DIGITADOR!$M$1,G739,E739)))","v":""},"",{"$f":"IF(F739=\"\",\"\",VLOOKUP(F739,referentes!$Q$2:$T$300,3,FALSE))","v":""},null,null,null,null,null,{"$f":"IF(L739=\"\",\"\",VLOOKUP(L739,referentes!$G$2:$N$15,2,FALSE))","v":""},null,null,"",null,null,""]
[null,{"$f":"IF(C740=\"\",\"\",IF(COUNTIF($C$3:C740, C740)>1, \"\", C740))","v":""},{"$f":"IF(G740=\"\",\"\",IF(F740=\"\",\"\",CONCATENATE(DIGITADOR!$M$1,G740,E740)))","v":""},"",{"$f":"IF(F740=\"\",\"\",VLOOKUP(F740,referentes!$Q$2:$T$300,3,FALSE))","v":""},null,null,null,null,null,{"$f":"IF(L740=\"\",\"\",VLOOKUP(L740,referentes!$G$2:$N$15,2,FALSE))","v":""},null,null,"",null,null,""]
[null,{"$f":"IF(C741=\"\",\"\",IF(COUNTIF($C$3:C741, C741)>1, \"\", C741))","v":""},{"$f":"IF(G741=\"\",\"\",IF(F741=\"\",\"\",CONCATENATE(DIGITADOR!$M$1,G741,E741)))","v":""},"",{"$f":"IF(F741=\"\",\"\",VLOOKUP(F741,referentes!$Q$2:$T$300,3,FALSE))","v":""},null,null,null,null,null,{"$f":"IF(L741=\"\",\"\",VLOOKUP(L741,referentes!$G$2:$N$15,2,FALSE))","v":""},null,null,"",null,null,""]
[null,{"$f":"IF(C742=\"\",\"\",IF(COUNTIF($C$3:C742, C742)>1, \"\", C742))","v":""},{"$f":"IF(G742=\"\",\"\",IF(F742=\"\",\"\",CONCATENATE(DIGITADOR!$M$1,G742,E742)))","v":""},"",{"$f":"IF(F742=\"\",\"\",VLOOKUP(F742,referentes!$Q$2:$T$300,3,FALSE))","v":""},null,null,null,null,null,{"$f":"IF(L742=\"\",\"\",VLOOKUP(L742,referentes!$G$2:$N$15,2,FALSE))","v":""},null,null,"",null,null,""]
[null,{"$f":"IF(C743=\"\",\"\",IF(COUNTIF($C$3:C743, C743)>1, \"\", C743))","v":""},{"$f":"IF(G743=\"\",\"\",IF(F743=\"\",\"\",CONCATENATE(DIGITADOR!$M$1,G743,E743)))","v":""},"",{"$f":"IF(F743=\"\",\"\",VLOOKUP(F743,referentes!$Q$2:$T$300,3,FALSE))","v":""},null,null,null,null,null,{"$f":"IF(L743=\"\",\"\",VLOOKUP(L743,referentes!$G$2:$N$15,2,FALSE))","v":""},null,null,"",null,null,""]
[null,{"$f":"IF(C744=\"\",\"\",IF(COUNTIF($C$3:C744, C744)>1, \"\", C744))","v":""},{"$f":"IF(G744=\"\",\"\",IF(F744=\"\",\"\",CONCATENATE(DIGITADOR!$M$1,G744,E744)))","v":""},"",{"$f":"IF(F744=\"\",\"\",VLOOKUP(F744,referentes!$Q$2:$T$300,3,FALSE))","v":""},null,null,null,null,null,{"$f":"IF(L744=\"\",\"\",VLOOKUP(L744,referentes!$G$2:$N$15,2,FALSE))","v":""},null,null,"",null,null,""]
[null,{"$f":"IF(C745=\"\",\"\",IF(COUNTIF($C$3:C745, C745)>1, \"\", C745))","v":""},{"$f":"IF(G745=\"\",\"\",IF(F745=\"\",\"\",CONCATENATE(DIGITADOR!$M$1,G745,E745)))","v":""},"",{"$f":"IF(F745=\"\",\"\",VLOOKUP(F745,referentes!$Q$2:$T$300,3,FALSE))","v":""},null,null,null,null,null,{"$f":"IF(L745=\"\",\"\",VLOOKUP(L745,referentes!$G$2:$N$15,2,FALSE))","v":""},null,null,"",null,null,""]
[null,{"$f":"IF(C746=\"\",\"\",IF(COUNTIF($C$3:C746, C746)>1, \"\", C746))","v":""},{"$f":"IF(G746=\"\",\"\",IF(F746=\"\",\"\",CONCATENATE(DIGITADOR!$M$1,G746,E746)))","v":""},"",{"$f":"IF(F746=\"\",\"\",VLOOKUP(F746,referentes!$Q$2:$T$300,3,FALSE))","v":""},null,null,null,null,null,{"$f":"IF(L746=\"\",\"\",VLOOKUP(L746,referentes!$G$2:$N$15,2,FALSE))","v":""},null,null,"",null,null,""]
[null,{"$f":"IF(C747=\"\",\"\",IF(COUNTIF($C$3:C747, C747)>1, \"\", C747))","v":""},{"$f":"IF(G747=\"\",\"\",IF(F747=\"\",\"\",CONCATENATE(DIGITADOR!$M$1,G747,E747)))","v":""},"",{"$f":"IF(F747=\"\",\"\",VLOOKUP(F747,referentes!$Q$2:$T$300,3,FALSE))","v":""},null,null,null,null,null,{"$f":"IF(L747=\"\",\"\",VLOOKUP(L747,referentes!$G$2:$N$15,2,FALSE))","v":""},null,null,"",null,null,""]
[null,{"$f":"IF(C748=\"\",\"\",IF(COUNTIF($C$3:C748, C748)>1, \"\", C748))","v":""},{"$f":"IF(G748=\"\",\"\",IF(F748=\"\",\"\",CONCATENATE(DIGITADOR!$M$1,G748,E748)))","v":""},"",{"$f":"IF(F748=\"\",\"\",VLOOKUP(F748,referentes!$Q$2:$T$300,3,FALSE))","v":""},null,null,null,null,null,{"$f":"IF(L748=\"\",\"\",VLOOKUP(L748,referentes!$G$2:$N$15,2,FALSE))","v":""},null,null,"",null,null,""]
[null,{"$f":"IF(C749=\"\",\"\",IF(COUNTIF($C$3:C749, C749)>1, \"\", C749))","v":""},{"$f":"IF(G749=\"\",\"\",IF(F749=\"\",\"\",CONCATENATE(DIGITADOR!$M$1,G749,E749)))","v":""},"",{"$f":"IF(F749=\"\",\"\",VLOOKUP(F749,referentes!$Q$2:$T$300,3,FALSE))","v":""},null,null,null,null,null,{"$f":"IF(L749=\"\",\"\",VLOOKUP(L749,referentes!$G$2:$N$15,2,FALSE))","v":""},null,null,"",null,null,""]
[null,{"$f":"IF(C750=\"\",\"\",IF(COUNTIF($C$3:C750, C750)>1, \"\", C750))","v":""},{"$f":"IF(G750=\"\",\"\",IF(F750=\"\",\"\",CONCATENATE(DIGITADOR!$M$1,G750,E750)))","v":""},"",{"$f":"IF(F750=\"\",\"\",VLOOKUP(F750,referentes!$Q$2:$T$300,3,FALSE))","v":""},null,null,null,null,null,{"$f":"IF(L750=\"\",\"\",VLOOKUP(L750,referentes!$G$2:$N$15,2,FALSE))","v":""},null,null,"",null,null,""]
[null,{"$f":"IF(C751=\"\",\"\",IF(COUNTIF($C$3:C751, C751)>1, \"\", C751))","v":""},{"$f":"IF(G751=\"\",\"\",IF(F751=\"\",\"\",CONCATENATE(DIGITADOR!$M$1,G751,E751)))","v":""},"",{"$f":"IF(F751=\"\",\"\",VLOOKUP(F751,referentes!$Q$2:$T$300,3,FALSE))","v":""},null,null,null,null,null,{"$f":"IF(L751=\"\",\"\",VLOOKUP(L751,referentes!$G$2:$N$15,2,FALSE))","v":""},null,null,"",null,null,""]
[null,{"$f":"IF(C752=\"\",\"\",IF(COUNTIF($C$3:C752, C752)>1, \"\", C752))","v":""},{"$f":"IF(G752=\"\",\"\",IF(F752=\"\",\"\",CONCATENATE(DIGITADOR!$M$1,G752,E752)))","v":""},"",{"$f":"IF(F752=\"\",\"\",VLOOKUP(F752,referentes!$Q$2:$T$300,3,FALSE))","v":""},null,null,null,null,null,{"$f":"IF(L752=\"\",\"\",VLOOKUP(L752,referentes!$G$2:$N$15,2,FALSE))","v":""},null,null,"",null,null,""]
[null,{"$f":"IF(C753=\"\",\"\",IF(COUNTIF($C$3:C753, C753)>1, \"\", C753))","v":""},{"$f":"IF(G753=\"\",\"\",IF(F753=\"\",\"\",CONCATENATE(DIGITADOR!$M$1,G753,E753)))","v":""},"",{"$f":"IF(F753=\"\",\"\",VLOOKUP(F753,referentes!$Q$2:$T$300,3,FALSE))","v":""},null,null,null,null,null,{"$f":"IF(L753=\"\",\"\",VLOOKUP(L753,referentes!$G$2:$N$15,2,FALSE))","v":""},null,null,"",null,null,""]
[null,{"$f":"IF(C754=\"\",\"\",IF(COUNTIF($C$3:C754, C754)>1, \"\", C754))","v":""},{"$f":"IF(G754=\"\",\"\",IF(F754=\"\",\"\",CONCATENATE(DIGITADOR!$M$1,G754,E754)))","v":""},"",{"$f":"IF(F754=\"\",\"\",VLOOKUP(F754,referentes!$Q$2:$T$300,3,FALSE))","v":""},null,null,null,null,null,{"$f":"IF(L754=\"\",\"\",VLOOKUP(L754,referentes!$G$2:$N$15,2,FALSE))","v":""},null,null,"",null,null,""]
[null,{"$f":"IF(C755=\"\",\"\",IF(COUNTIF($C$3:C755, C755)>1, \"\", C755))","v":""},{"$f":"IF(G755=\"\",\"\",IF(F755=\"\",\"\",CONCATENATE(DIGITADOR!$M$1,G755,E755)))","v":""},"",{"$f":"IF(F755=\"\",\"\",VLOOKUP(F755,referentes!$Q$2:$T$300,3,FALSE))","v":""},null,null,null,null,null,{"$f":"IF(L755=\"\",\"\",VLOOKUP(L755,referentes!$G$2:$N$15,2,FALSE))","v":""},null,null,"",null,null,""]
[null,{"$f":"IF(C756=\"\",\"\",IF(COUNTIF($C$3:C756, C756)>1, \"\", C756))","v":""},{"$f":"IF(G756=\"\",\"\",IF(F756=\"\",\"\",CONCATENATE(DIGITADOR!$M$1,G756,E756)))","v":""},"",{"$f":"IF(F756=\"\",\"\",VLOOKUP(F756,referentes!$Q$2:$T$300,3,FALSE))","v":""},null,null,null,null,null,{"$f":"IF(L756=\"\",\"\",VLOOKUP(L756,referentes!$G$2:$N$15,2,FALSE))","v":""},null,null,"",null,null,""]
[null,{"$f":"IF(C757=\"\",\"\",IF(COUNTIF($C$3:C757, C757)>1, \"\", C757))","v":""},{"$f":"IF(G757=\"\",\"\",IF(F757=\"\",\"\",CONCATENATE(DIGITADOR!$M$1,G757,E757)))","v":""},"",{"$f":"IF(F757=\"\",\"\",VLOOKUP(F757,referentes!$Q$2:$T$300,3,FALSE))","v":""},null,null,null,null,null,{"$f":"IF(L757=\"\",\"\",VLOOKUP(L757,referentes!$G$2:$N$15,2,FALSE))","v":""},null,null,"",null,null,""]
[null,{"$f":"IF(C758=\"\",\"\",IF(COUNTIF($C$3:C758, C758)>1, \"\", C758))","v":""},{"$f":"IF(G758=\"\",\"\",IF(F758=\"\",\"\",CONCATENATE(DIGITADOR!$M$1,G758,E758)))","v":""},"",{"$f":"IF(F758=\"\",\"\",VLOOKUP(F758,referentes!$Q$2:$T$300,3,FALSE))","v":""},null,null,null,null,null,{"$f":"IF(L758=\"\",\"\",VLOOKUP(L758,referentes!$G$2:$N$15,2,FALSE))","v":""},null,null,"",null,null,""]
[null,{"$f":"IF(C759=\"\",\"\",IF(COUNTIF($C$3:C759, C759)>1, \"\", C759))","v":""},{"$f":"IF(G759=\"\",\"\",IF(F759=\"\",\"\",CONCATENATE(DIGITADOR!$M$1,G759,E759)))","v":""},"",{"$f":"IF(F759=\"\",\"\",VLOOKUP(F759,referentes!$Q$2:$T$300,3,FALSE))","v":""},null,null,null,null,null,{"$f":"IF(L759=\"\",\"\",VLOOKUP(L759,referentes!$G$2:$N$15,2,FALSE))","v":""},null,null,"",null,null,""]
[null,{"$f":"IF(C760=\"\",\"\",IF(COUNTIF($C$3:C760, C760)>1, \"\", C760))","v":""},{"$f":"IF(G760=\"\",\"\",IF(F760=\"\",\"\",CONCATENATE(DIGITADOR!$M$1,G760,E760)))","v":""},"",{"$f":"IF(F760=\"\",\"\",VLOOKUP(F760,referentes!$Q$2:$T$300,3,FALSE))","v":""},null,null,null,null,null,{"$f":"IF(L760=\"\",\"\",VLOOKUP(L760,referentes!$G$2:$N$15,2,FALSE))","v":""},null,null,"",null,null,""]
[null,{"$f":"IF(C761=\"\",\"\",IF(COUNTIF($C$3:C761, C761)>1, \"\", C761))","v":""},{"$f":"IF(G761=\"\",\"\",IF(F761=\"\",\"\",CONCATENATE(DIGITADOR!$M$1,G761,E761)))","v":""},"",{"$f":"IF(F761=\"\",\"\",VLOOKUP(F761,referentes!$Q$2:$T$300,3,FALSE))","v":""},null,null,null,null,null,{"$f":"IF(L761=\"\",\"\",VLOOKUP(L761,referentes!$G$2:$N$15,2,FALSE))","v":""},null,null,"",null,null,""]
[null,{"$f":"IF(C762=\"\",\"\",IF(COUNTIF($C$3:C762, C762)>1, \"\", C762))","v":""},{"$f":"IF(G762=\"\",\"\",IF(F762=\"\",\"\",CONCATENATE(DIGITADOR!$M$1,G762,E762)))","v":""},"",{"$f":"IF(F762=\"\",\"\",VLOOKUP(F762,referentes!$Q$2:$T$300,3,FALSE))","v":""},null,null,null,null,null,{"$f":"IF(L762=\"\",\"\",VLOOKUP(L762,referentes!$G$2:$N$15,2,FALSE))","v":""},null,null,"",null,null,""]
[null,{"$f":"IF(C763=\"\",\"\",IF(COUNTIF($C$3:C763, C763)>1, \"\", C763))","v":""},{"$f":"IF(G763=\"\",\"\",IF(F763=\"\",\"\",CONCATENATE(DIGITADOR!$M$1,G763,E763)))","v":""},"",{"$f":"IF(F763=\"\",\"\",VLOOKUP(F763,referentes!$Q$2:$T$300,3,FALSE))","v":""},null,null,null,null,null,{"$f":"IF(L763=\"\",\"\",VLOOKUP(L763,referentes!$G$2:$N$15,2,FALSE))","v":""},null,null,"",null,null,""]
[null,{"$f":"IF(C764=\"\",\"\",IF(COUNTIF($C$3:C764, C764)>1, \"\", C764))","v":""},{"$f":"IF(G764=\"\",\"\",IF(F764=\"\",\"\",CONCATENATE(DIGITADOR!$M$1,G764,E764)))","v":""},"",{"$f":"IF(F764=\"\",\"\",VLOOKUP(F764,referentes!$Q$2:$T$300,3,FALSE))","v":""},null,null,null,null,null,{"$f":"IF(L764=\"\",\"\",VLOOKUP(L764,referentes!$G$2:$N$15,2,FALSE))","v":""},null,null,"",null,null,""]
[null,{"$f":"IF(C765=\"\",\"\",IF(COUNTIF($C$3:C765, C765)>1, \"\", C765))","v":""},{"$f":"IF(G765=\"\",\"\",IF(F765=\"\",\"\",CONCATENATE(DIGITADOR!$M$1,G765,E765)))","v":""},"",{"$f":"IF(F765=\"\",\"\",VLOOKUP(F765,referentes!$Q$2:$T$300,3,FALSE))","v":""},null,null,null,null,null,{"$f":"IF(L765=\"\",\"\",VLOOKUP(L765,referentes!$G$2:$N$15,2,FALSE))","v":""},null,null,"",null,null,""]
[null,{"$f":"IF(C766=\"\",\"\",IF(COUNTIF($C$3:C766, C766)>1, \"\", C766))","v":""},{"$f":"IF(G766=\"\",\"\",IF(F766=\"\",\"\",CONCATENATE(DIGITADOR!$M$1,G766,E766)))","v":""},"",{"$f":"IF(F766=\"\",\"\",VLOOKUP(F766,referentes!$Q$2:$T$300,3,FALSE))","v":""},null,null,null,null,null,{"$f":"IF(L766=\"\",\"\",VLOOKUP(L766,referentes!$G$2:$N$15,2,FALSE))","v":""},null,null,"",null,null,""]
[null,{"$f":"IF(C767=\"\",\"\",IF(COUNTIF($C$3:C767, C767)>1, \"\", C767))","v":""},{"$f":"IF(G767=\"\",\"\",IF(F767=\"\",\"\",CONCATENATE(DIGITADOR!$M$1,G767,E767)))","v":""},"",{"$f":"IF(F767=\"\",\"\",VLOOKUP(F767,referentes!$Q$2:$T$300,3,FALSE))","v":""},null,null,null,null,null,{"$f":"IF(L767=\"\",\"\",VLOOKUP(L767,referentes!$G$2:$N$15,2,FALSE))","v":""},null,null,"",null,null,""]
[null,{"$f":"IF(C768=\"\",\"\",IF(COUNTIF($C$3:C768, C768)>1, \"\", C768))","v":""},{"$f":"IF(G768=\"\",\"\",IF(F768=\"\",\"\",CONCATENATE(DIGITADOR!$M$1,G768,E768)))","v":""},"",{"$f":"IF(F768=\"\",\"\",VLOOKUP(F768,referentes!$Q$2:$T$300,3,FALSE))","v":""},null,null,null,null,null,{"$f":"IF(L768=\"\",\"\",VLOOKUP(L768,referentes!$G$2:$N$15,2,FALSE))","v":""},null,null,"",null,null,""]
[null,{"$f":"IF(C769=\"\",\"\",IF(COUNTIF($C$3:C769, C769)>1, \"\", C769))","v":""},{"$f":"IF(G769=\"\",\"\",IF(F769=\"\",\"\",CONCATENATE(DIGITADOR!$M$1,G769,E769)))","v":""},"",{"$f":"IF(F769=\"\",\"\",VLOOKUP(F769,referentes!$Q$2:$T$300,3,FALSE))","v":""},null,null,null,null,null,{"$f":"IF(L769=\"\",\"\",VLOOKUP(L769,referentes!$G$2:$N$15,2,FALSE))","v":""},null,null,"",null,null,""]
[null,{"$f":"IF(C770=\"\",\"\",IF(COUNTIF($C$3:C770, C770)>1, \"\", C770))","v":""},{"$f":"IF(G770=\"\",\"\",IF(F770=\"\",\"\",CONCATENATE(DIGITADOR!$M$1,G770,E770)))","v":""},"",{"$f":"IF(F770=\"\",\"\",VLOOKUP(F770,referentes!$Q$2:$T$300,3,FALSE))","v":""},null,null,null,null,null,{"$f":"IF(L770=\"\",\"\",VLOOKUP(L770,referentes!$G$2:$N$15,2,FALSE))","v":""},null,null,"",null,null,""]
[null,{"$f":"IF(C771=\"\",\"\",IF(COUNTIF($C$3:C771, C771)>1, \"\", C771))","v":""},{"$f":"IF(G771=\"\",\"\",IF(F771=\"\",\"\",CONCATENATE(DIGITADOR!$M$1,G771,E771)))","v":""},"",{"$f":"IF(F771=\"\",\"\",VLOOKUP(F771,referentes!$Q$2:$T$300,3,FALSE))","v":""},null,null,null,null,null,{"$f":"IF(L771=\"\",\"\",VLOOKUP(L771,referentes!$G$2:$N$15,2,FALSE))","v":""},null,null,"",null,null,""]
[null,{"$f":"IF(C772=\"\",\"\",IF(COUNTIF($C$3:C772, C772)>1, \"\", C772))","v":""},{"$f":"IF(G772=\"\",\"\",IF(F772=\"\",\"\",CONCATENATE(DIGITADOR!$M$1,G772,E772)))","v":""},{"$f":"IF(C772=\"\",\"\",CONCATENATE(C772,ROW()-2))","v":""},{"$f":"IF(F772=\"\",\"\",VLOOKUP(F772,referentes!$Q$2:$T$300,3,FALSE))","v":""},null,null,null,null,null,{"$f":"IF(L772=\"\",\"\",VLOOKUP(L772,referentes!$G$2:$N$15,2,FALSE))","v":""},null,null,{"$f":"IF(M772=\"\",\"\",M772/PI())","v":""},null,null,{"$f":"IF(N772=\"\",\"\",((PI())*((N772/100)^2))/4*10000/500)","v":""}]
[null,{"$f":"IF(C773=\"\",\"\",IF(COUNTIF($C$3:C773, C773)>1, \"\", C773))","v":""},{"$f":"IF(G773=\"\",\"\",IF(F773=\"\",\"\",CONCATENATE(DIGITADOR!$M$1,G773,E773)))","v":""},"",{"$f":"IF(F773=\"\",\"\",VLOOKUP(F773,referentes!$Q$2:$T$300,3,FALSE))","v":""},null,null,null,null,null,{"$f":"IF(L773=\"\",\"\",VLOOKUP(L773,referentes!$G$2:$N$15,2,FALSE))","v":""},null,null,"",null,null,""]
[null,{"$f":"IF(C774=\"\",\"\",IF(COUNTIF($C$3:C774, C774)>1, \"\", C774))","v":""},{"$f":"IF(G774=\"\",\"\",IF(F774=\"\",\"\",CONCATENATE(DIGITADOR!$M$1,G774,E774)))","v":""},"",{"$f":"IF(F774=\"\",\"\",VLOOKUP(F774,referentes!$Q$2:$T$300,3,FALSE))","v":""},null,null,null,null,null,{"$f":"IF(L774=\"\",\"\",VLOOKUP(L774,referentes!$G$2:$N$15,2,FALSE))","v":""},null,null,"",null,null,""]
[null,{"$f":"IF(C775=\"\",\"\",IF(COUNTIF($C$3:C775, C775)>1, \"\", C775))","v":""},{"$f":"IF(G775=\"\",\"\",IF(F775=\"\",\"\",CONCATENATE(DIGITADOR!$M$1,G775,E775)))","v":""},"",{"$f":"IF(F775=\"\",\"\",VLOOKUP(F775,referentes!$Q$2:$T$300,3,FALSE))","v":""},null,null,null,null,null,{"$f":"IF(L775=\"\",\"\",VLOOKUP(L775,referentes!$G$2:$N$15,2,FALSE))","v":""},null,null,"",null,null,""]
[null,{"$f":"IF(C776=\"\",\"\",IF(COUNTIF($C$3:C776, C776)>1, \"\", C776))","v":""},{"$f":"IF(G776=\"\",\"\",IF(F776=\"\",\"\",CONCATENATE(DIGITADOR!$M$1,G776,E776)))","v":""},"",{"$f":"IF(F776=\"\",\"\",VLOOKUP(F776,referentes!$Q$2:$T$300,3,FALSE))","v":""},null,null,null,null,null,{"$f":"IF(L776=\"\",\"\",VLOOKUP(L776,referentes!$G$2:$N$15,2,FALSE))","v":""},null,null,"",null,null,""]
[null,{"$f":"IF(C777=\"\",\"\",IF(COUNTIF($C$3:C777, C777)>1, \"\", C777))","v":""},{"$f":"IF(G777=\"\",\"\",IF(F777=\"\",\"\",CONCATENATE(DIGITADOR!$M$1,G777,E777)))","v":""},"",{"$f":"IF(F777=\"\",\"\",VLOOKUP(F777,referentes!$Q$2:$T$300,3,FALSE))","v":""},null,null,null,null,null,{"$f":"IF(L777=\"\",\"\",VLOOKUP(L777,referentes!$G$2:$N$15,2,FALSE))","v":""},null,null,"",null,null,""]
[null,{"$f":"IF(C778=\"\",\"\",IF(COUNTIF($C$3:C778, C778)>1, \"\", C778))","v":""},{"$f":"IF(G778=\"\",\"\",IF(F778=\"\",\"\",CONCATENATE(DIGITADOR!$M$1,G778,E778)))","v":""},"",{"$f":"IF(F778=\"\",\"\",VLOOKUP(F778,referentes!$Q$2:$T$300,3,FALSE))","v":""},null,null,null,null,null,{"$f":"IF(L778=\"\",\"\",VLOOKUP(L778,referentes!$G$2:$N$15,2,FALSE))","v":""},null,null,"",null,null,""]
[null,{"$f":"IF(C779=\"\",\"\",IF(COUNTIF($C$3:C779, C779)>1, \"\", C779))","v":""},{"$f":"IF(G779=\"\",\"\",IF(F779=\"\",\"\",CONCATENATE(DIGITADOR!$M$1,G779,E779)))","v":""},"",{"$f":"IF(F779=\"\",\"\",VLOOKUP(F779,referentes!$Q$2:$T$300,3,FALSE))","v":""},null,null,null,null,null,{"$f":"IF(L779=\"\",\"\",VLOOKUP(L779,referentes!$G$2:$N$15,2,FALSE))","v":""},null,null,"",null,null,""]
[null,{"$f":"IF(C780=\"\",\"\",IF(COUNTIF($C$3:C780, C780)>1, \"\", C780))","v":""},{"$f":"IF(G780=\"\",\"\",IF(F780=\"\",\"\",CONCATENATE(DIGITADOR!$M$1,G780,E780)))","v":""},"",{"$f":"IF(F780=\"\",\"\",VLOOKUP(F780,referentes!$Q$2:$T$300,3,FALSE))","v":""},null,null,null,null,null,{"$f":"IF(L780=\"\",\"\",VLOOKUP(L780,referentes!$G$2:$N$15,2,FALSE))","v":""},null,null,"",null,null,""]
[null,{"$f":"IF(C781=\"\",\"\",IF(COUNTIF($C$3:C781, C781)>1, \"\", C781))","v":""},{"$f":"IF(G781=\"\",\"\",IF(F781=\"\",\"\",CONCATENATE(DIGITADOR!$M$1,G781,E781)))","v":""},"",{"$f":"IF(F781=\"\",\"\",VLOOKUP(F781,referentes!$Q$2:$T$300,3,FALSE))","v":""},null,null,null,null,null,{"$f":"IF(L781=\"\",\"\",VLOOKUP(L781,referentes!$G$2:$N$15,2,FALSE))","v":""},null,null,"",null,null,""]
[null,{"$f":"IF(C782=\"\",\"\",IF(COUNTIF($C$3:C782, C782)>1, \"\", C782))","v":""},{"$f":"IF(G782=\"\",\"\",IF(F782=\"\",\"\",CONCATENATE(DIGITADOR!$M$1,G782,E782)))","v":""},"",{"$f":"IF(F782=\"\",\"\",VLOOKUP(F782,referentes!$Q$2:$T$300,3,FALSE))","v":""},null,null,null,null,null,{"$f":"IF(L782=\"\",\"\",VLOOKUP(L782,referentes!$G$2:$N$15,2,FALSE))","v":""},null,null,"",null,null,""]
[null,{"$f":"IF(C783=\"\",\"\",IF(COUNTIF($C$3:C783, C783)>1, \"\", C783))","v":""},{"$f":"IF(G783=\"\",\"\",IF(F783=\"\",\"\",CONCATENATE(DIGITADOR!$M$1,G783,E783)))","v":""},"",{"$f":"IF(F783=\"\",\"\",VLOOKUP(F783,referentes!$Q$2:$T$300,3,FALSE))","v":""},null,null,null,null,null,{"$f":"IF(L783=\"\",\"\",VLOOKUP(L783,referentes!$G$2:$N$15,2,FALSE))","v":""},null,null,"",null,null,""]
[null,{"$f":"IF(C784=\"\",\"\",IF(COUNTIF($C$3:C784, C784)>1, \"\", C784))","v":""},{"$f":"IF(G784=\"\",\"\",IF(F784=\"\",\"\",CONCATENATE(DIGITADOR!$M$1,G784,E784)))","v":""},"",{"$f":"IF(F784=\"\",\"\",VLOOKUP(F784,referentes!$Q$2:$T$300,3,FALSE))","v":""},null,null,null,null,null,{"$f":"IF(L784=\"\",\"\",VLOOKUP(L784,referentes!$G$2:$N$15,2,FALSE))","v":""},null,null,"",null,null,""]
[null,{"$f":"IF(C785=\"\",\"\",IF(COUNTIF($C$3:C785, C785)>1, \"\", C785))","v":""},{"$f":"IF(G785=\"\",\"\",IF(F785=\"\",\"\",CONCATENATE(DIGITADOR!$M$1,G785,E785)))","v":""},"",{"$f":"IF(F785=\"\",\"\",VLOOKUP(F785,referentes!$Q$2:$T$300,3,FALSE))","v":""},null,null,null,null,null,{"$f":"IF(L785=\"\",\"\",VLOOKUP(L785,referentes!$G$2:$N$15,2,FALSE))","v":""},null,null,"",null,null,""]
[null,{"$f":"IF(C786=\"\",\"\",IF(COUNTIF($C$3:C786, C786)>1, \"\", C786))","v":""},{"$f":"IF(G786=\"\",\"\",IF(F786=\"\",\"\",CONCATENATE(DIGITADOR!$M$1,G786,E786)))","v":""},"",{"$f":"IF(F786=\"\",\"\",VLOOKUP(F786,referentes!$Q$2:$T$300,3,FALSE))","v":""},null,null,null,null,null,{"$f":"IF(L786=\"\",\"\",VLOOKUP(L786,referentes!$G$2:$N$15,2,FALSE))","v":""},null,null,"",null,null,""]
[null,{"$f":"IF(C787=\"\",\"\",IF(COUNTIF($C$3:C787, C787)>1, \"\", C787))","v":""},{"$f":"IF(G787=\"\",\"\",IF(F787=\"\",\"\",CONCATENATE(DIGITADOR!$M$1,G787,E787)))","v":""},"",{"$f":"IF(F787=\"\",\"\",VLOOKUP(F787,referentes!$Q$2:$T$300,3,FALSE))","v":""},null,null,null,null,null,{"$f":"IF(L787=\"\",\"\",VLOOKUP(L787,referentes!$G$2:$N$15,2,FALSE))","v":""},null,null,"",null,null,""]
[null,{"$f":"IF(C788=\"\",\"\",IF(COUNTIF($C$3:C788, C788)>1, \"\", C788))","v":""},{"$f":"IF(G788=\"\",\"\",IF(F788=\"\",\"\",CONCATENATE(DIGITADOR!$M$1,G788,E788)))","v":""},"",{"$f":"IF(F788=\"\",\"\",VLOOKUP(F788,referentes!$Q$2:$T$300,3,FALSE))","v":""},null,null,null,null,null,{"$f":"IF(L788=\"\",\"\",VLOOKUP(L788,referentes!$G$2:$N$15,2,FALSE))","v":""},null,null,"",null,null,""]
[null,{"$f":"IF(C789=\"\",\"\",IF(COUNTIF($C$3:C789, C789)>1, \"\", C789))","v":""},{"$f":"IF(G789=\"\",\"\",IF(F789=\"\",\"\",CONCATENATE(DIGITADOR!$M$1,G789,E789)))","v":""},"",{"$f":"IF(F789=\"\",\"\",VLOOKUP(F789,referentes!$Q$2:$T$300,3,FALSE))","v":""},null,null,null,null,null,{"$f":"IF(L789=\"\",\"\",VLOOKUP(L789,referentes!$G$2:$N$15,2,FALSE))","v":""},null,null,"",null,null,""]
[null,{"$f":"IF(C790=\"\",\"\",IF(COUNTIF($C$3:C790, C790)>1, \"\", C790))","v":""},{"$f":"IF(G790=\"\",\"\",IF(F790=\"\",\"\",CONCATENATE(DIGITADOR!$M$1,G790,E790)))","v":""},"",{"$f":"IF(F790=\"\",\"\",VLOOKUP(F790,referentes!$Q$2:$T$300,3,FALSE))","v":""},null,null,null,null,null,{"$f":"IF(L790=\"\",\"\",VLOOKUP(L790,referentes!$G$2:$N$15,2,FALSE))","v":""},null,null,"",null,null,""]
[null,{"$f":"IF(C791=\"\",\"\",IF(COUNTIF($C$3:C791, C791)>1, \"\", C791))","v":""},{"$f":"IF(G791=\"\",\"\",IF(F791=\"\",\"\",CONCATENATE(DIGITADOR!$M$1,G791,E791)))","v":""},"",{"$f":"IF(F791=\"\",\"\",VLOOKUP(F791,referentes!$Q$2:$T$300,3,FALSE))","v":""},null,null,null,null,null,{"$f":"IF(L791=\"\",\"\",VLOOKUP(L791,referentes!$G$2:$N$15,2,FALSE))","v":""},null,null,"",null,null,""]
[null,{"$f":"IF(C792=\"\",\"\",IF(COUNTIF($C$3:C792, C792)>1, \"\", C792))","v":""},{"$f":"IF(G792=\"\",\"\",IF(F792=\"\",\"\",CONCATENATE(DIGITADOR!$M$1,G792,E792)))","v":""},"",{"$f":"IF(F792=\"\",\"\",VLOOKUP(F792,referentes!$Q$2:$T$300,3,FALSE))","v":""},null,null,null,null,null,{"$f":"IF(L792=\"\",\"\",VLOOKUP(L792,referentes!$G$2:$N$15,2,FALSE))","v":""},null,null,"",null,null,""]
[null,{"$f":"IF(C793=\"\",\"\",IF(COUNTIF($C$3:C793, C793)>1, \"\", C793))","v":""},{"$f":"IF(G793=\"\",\"\",IF(F793=\"\",\"\",CONCATENATE(DIGITADOR!$M$1,G793,E793)))","v":""},"",{"$f":"IF(F793=\"\",\"\",VLOOKUP(F793,referentes!$Q$2:$T$300,3,FALSE))","v":""},null,null,null,null,null,{"$f":"IF(L793=\"\",\"\",VLOOKUP(L793,referentes!$G$2:$N$15,2,FALSE))","v":""},null,null,"",null,null,""]
[null,{"$f":"IF(C794=\"\",\"\",IF(COUNTIF($C$3:C794, C794)>1, \"\", C794))","v":""},{"$f":"IF(G794=\"\",\"\",IF(F794=\"\",\"\",CONCATENATE(DIGITADOR!$M$1,G794,E794)))","v":""},"",{"$f":"IF(F794=\"\",\"\",VLOOKUP(F794,referentes!$Q$2:$T$300,3,FALSE))","v":""},null,null,null,null,null,{"$f":"IF(L794=\"\",\"\",VLOOKUP(L794,referentes!$G$2:$N$15,2,FALSE))","v":""},null,null,"",null,null,""]
[null,{"$f":"IF(C795=\"\",\"\",IF(COUNTIF($C$3:C795, C795)>1, \"\", C795))","v":""},{"$f":"IF(G795=\"\",\"\",IF(F795=\"\",\"\",CONCATENATE(DIGITADOR!$M$1,G795,E795)))","v":""},"",{"$f":"IF(F795=\"\",\"\",VLOOKUP(F795,referentes!$Q$2:$T$300,3,FALSE))","v":""},null,null,null,null,null,{"$f":"IF(L795=\"\",\"\",VLOOKUP(L795,referentes!$G$2:$N$15,2,FALSE))","v":""},null,null,"",null,null,""]
[null,{"$f":"IF(C796=\"\",\"\",IF(COUNTIF($C$3:C796, C796)>1, \"\", C796))","v":""},{"$f":"IF(G796=\"\",\"\",IF(F796=\"\",\"\",CONCATENATE(DIGITADOR!$M$1,G796,E796)))","v":""},"",{"$f":"IF(F796=\"\",\"\",VLOOKUP(F796,referentes!$Q$2:$T$300,3,FALSE))","v":""},null,null,null,null,null,{"$f":"IF(L796=\"\",\"\",VLOOKUP(L796,referentes!$G$2:$N$15,2,FALSE))","v":""},null,null,"",null,null,""]
[null,{"$f":"IF(C797=\"\",\"\",IF(COUNTIF($C$3:C797, C797)>1, \"\", C797))","v":""},{"$f":"IF(G797=\"\",\"\",IF(F797=\"\",\"\",CONCATENATE(DIGITADOR!$M$1,G797,E797)))","v":""},"",{"$f":"IF(F797=\"\",\"\",VLOOKUP(F797,referentes!$Q$2:$T$300,3,FALSE))","v":""},null,null,null,null,null,{"$f":"IF(L797=\"\",\"\",VLOOKUP(L797,referentes!$G$2:$N$15,2,FALSE))","v":""},null,null,"",null,null,""]
[null,{"$f":"IF(C798=\"\",\"\",IF(COUNTIF($C$3:C798, C798)>1, \"\", C798))","v":""},{"$f":"IF(G798=\"\",\"\",IF(F798=\"\",\"\",CONCATENATE(DIGITADOR!$M$1,G798,E798)))","v":""},"",{"$f":"IF(F798=\"\",\"\",VLOOKUP(F798,referentes!$Q$2:$T$300,3,FALSE))","v":""},null,null,null,null,null,{"$f":"IF(L798=\"\",\"\",VLOOKUP(L798,referentes!$G$2:$N$15,2,FALSE))","v":""},null,null,"",null,null,""]
[null,{"$f":"IF(C799=\"\",\"\",IF(COUNTIF($C$3:C799, C799)>1, \"\", C799))","v":""},{"$f":"IF(G799=\"\",\"\",IF(F799=\"\",\"\",CONCATENATE(DIGITADOR!$M$1,G799,E799)))","v":""},"",{"$f":"IF(F799=\"\",\"\",VLOOKUP(F799,referentes!$Q$2:$T$300,3,FALSE))","v":""},null,null,null,null,null,{"$f":"IF(L799=\"\",\"\",VLOOKUP(L799,referentes!$G$2:$N$15,2,FALSE))","v":""},null,null,"",null,null,""]
[null,{"$f":"IF(C800=\"\",\"\",IF(COUNTIF($C$3:C800, C800)>1, \"\", C800))","v":""},{"$f":"IF(G800=\"\",\"\",IF(F800=\"\",\"\",CONCATENATE(DIGITADOR!$M$1,G800,E800)))","v":""},"",{"$f":"IF(F800=\"\",\"\",VLOOKUP(F800,referentes!$Q$2:$T$300,3,FALSE))","v":""},null,null,null,null,null,{"$f":"IF(L800=\"\",\"\",VLOOKUP(L800,referentes!$G$2:$N$15,2,FALSE))","v":""},null,null,"",null,null,""]
[null,{"$f":"IF(C801=\"\",\"\",IF(COUNTIF($C$3:C801, C801)>1, \"\", C801))","v":""},{"$f":"IF(G801=\"\",\"\",IF(F801=\"\",\"\",CONCATENATE(DIGITADOR!$M$1,G801,E801)))","v":""},"",{"$f":"IF(F801=\"\",\"\",VLOOKUP(F801,referentes!$Q$2:$T$300,3,FALSE))","v":""},null,null,null,null,null,{"$f":"IF(L801=\"\",\"\",VLOOKUP(L801,referentes!$G$2:$N$15,2,FALSE))","v":""},null,null,"",null,null,""]
[null,{"$f":"IF(C802=\"\",\"\",IF(COUNTIF($C$3:C802, C802)>1, \"\", C802))","v":""},{"$f":"IF(G802=\"\",\"\",IF(F802=\"\",\"\",CONCATENATE(DIGITADOR!$M$1,G802,E802)))","v":""},"",{"$f":"IF(F802=\"\",\"\",VLOOKUP(F802,referentes!$Q$2:$T$300,3,FALSE))","v":""},null,null,null,null,null,{"$f":"IF(L802=\"\",\"\",VLOOKUP(L802,referentes!$G$2:$N$15,2,FALSE))","v":""},null,null,"",null,null,""]
[null,{"$f":"IF(C803=\"\",\"\",IF(COUNTIF($C$3:C803, C803)>1, \"\", C803))","v":""},{"$f":"IF(G803=\"\",\"\",IF(F803=\"\",\"\",CONCATENATE(DIGITADOR!$M$1,G803,E803)))","v":""},"",{"$f":"IF(F803=\"\",\"\",VLOOKUP(F803,referentes!$Q$2:$T$300,3,FALSE))","v":""},null,null,null,null,null,{"$f":"IF(L803=\"\",\"\",VLOOKUP(L803,referentes!$G$2:$N$15,2,FALSE))","v":""},null,null,"",null,null,""]
[null,{"$f":"IF(C804=\"\",\"\",IF(COUNTIF($C$3:C804, C804)>1, \"\", C804))","v":""},{"$f":"IF(G804=\"\",\"\",IF(F804=\"\",\"\",CONCATENATE(DIGITADOR!$M$1,G804,E804)))","v":""},"",{"$f":"IF(F804=\"\",\"\",VLOOKUP(F804,referentes!$Q$2:$T$300,3,FALSE))","v":""},null,null,null,null,null,{"$f":"IF(L804=\"\",\"\",VLOOKUP(L804,referentes!$G$2:$N$15,2,FALSE))","v":""},null,null,"",null,null,""]
[null,{"$f":"IF(C805=\"\",\"\",IF(COUNTIF($C$3:C805, C805)>1, \"\", C805))","v":""},{"$f":"IF(G805=\"\",\"\",IF(F805=\"\",\"\",CONCATENATE(DIGITADOR!$M$1,G805,E805)))","v":""},"",{"$f":"IF(F805=\"\",\"\",VLOOKUP(F805,referentes!$Q$2:$T$300,3,FALSE))","v":""},null,null,null,null,null,{"$f":"IF(L805=\"\",\"\",VLOOKUP(L805,referentes!$G$2:$N$15,2,FALSE))","v":""},null,null,"",null,null,""]
[null,{"$f":"IF(C806=\"\",\"\",IF(COUNTIF($C$3:C806, C806)>1, \"\", C806))","v":""},{"$f":"IF(G806=\"\",\"\",IF(F806=\"\",\"\",CONCATENATE(DIGITADOR!$M$1,G806,E806)))","v":""},"",{"$f":"IF(F806=\"\",\"\",VLOOKUP(F806,referentes!$Q$2:$T$300,3,FALSE))","v":""},null,null,null,null,null,{"$f":"IF(L806=\"\",\"\",VLOOKUP(L806,referentes!$G$2:$N$15,2,FALSE))","v":""},null,null,"",null,null,""]
[null,{"$f":"IF(C807=\"\",\"\",IF(COUNTIF($C$3:C807, C807)>1, \"\", C807))","v":""},{"$f":"IF(G807=\"\",\"\",IF(F807=\"\",\"\",CONCATENATE(DIGITADOR!$M$1,G807,E807)))","v":""},"",{"$f":"IF(F807=\"\",\"\",VLOOKUP(F807,referentes!$Q$2:$T$300,3,FALSE))","v":""},null,null,null,null,null,{"$f":"IF(L807=\"\",\"\",VLOOKUP(L807,referentes!$G$2:$N$15,2,FALSE))","v":""},null,null,"",null,null,""]
[null,{"$f":"IF(C808=\"\",\"\",IF(COUNTIF($C$3:C808, C808)>1, \"\", C808))","v":""},{"$f":"IF(G808=\"\",\"\",IF(F808=\"\",\"\",CONCATENATE(DIGITADOR!$M$1,G808,E808)))","v":""},"",{"$f":"IF(F808=\"\",\"\",VLOOKUP(F808,referentes!$Q$2:$T$300,3,FALSE))","v":""},null,null,null,null,null,{"$f":"IF(L808=\"\",\"\",VLOOKUP(L808,referentes!$G$2:$N$15,2,FALSE))","v":""},null,null,"",null,null,""]
[null,{"$f":"IF(C809=\"\",\"\",IF(COUNTIF($C$3:C809, C809)>1, \"\", C809))","v":""},{"$f":"IF(G809=\"\",\"\",IF(F809=\"\",\"\",CONCATENATE(DIGITADOR!$M$1,G809,E809)))","v":""},"",{"$f":"IF(F809=\"\",\"\",VLOOKUP(F809,referentes!$Q$2:$T$300,3,FALSE))","v":""},null,null,null,null,null,{"$f":"IF(L809=\"\",\"\",VLOOKUP(L809,referentes!$G$2:$N$15,2,FALSE))","v":""},null,null,"",null,null,""]
[null,{"$f":"IF(C810=\"\",\"\",IF(COUNTIF($C$3:C810, C810)>1, \"\", C810))","v":""},{"$f":"IF(G810=\"\",\"\",IF(F810=\"\",\"\",CONCATENATE(DIGITADOR!$M$1,G810,E810)))","v":""},"",{"$f":"IF(F810=\"\",\"\",VLOOKUP(F810,referentes!$Q$2:$T$300,3,FALSE))","v":""},null,null,null,null,null,{"$f":"IF(L810=\"\",\"\",VLOOKUP(L810,referentes!$G$2:$N$15,2,FALSE))","v":""},null,null,"",null,null,""]
[null,{"$f":"IF(C811=\"\",\"\",IF(COUNTIF($C$3:C811, C811)>1, \"\", C811))","v":""},{"$f":"IF(G811=\"\",\"\",IF(F811=\"\",\"\",CONCATENATE(DIGITADOR!$M$1,G811,E811)))","v":""},"",{"$f":"IF(F811=\"\",\"\",VLOOKUP(F811,referentes!$Q$2:$T$300,3,FALSE))","v":""},null,null,null,null,null,{"$f":"IF(L811=\"\",\"\",VLOOKUP(L811,referentes!$G$2:$N$15,2,FALSE))","v":""},null,null,"",null,null,""]
[null,{"$f":"IF(C812=\"\",\"\",IF(COUNTIF($C$3:C812, C812)>1, \"\", C812))","v":""},{"$f":"IF(G812=\"\",\"\",IF(F812=\"\",\"\",CONCATENATE(DIGITADOR!$M$1,G812,E812)))","v":""},"",{"$f":"IF(F812=\"\",\"\",VLOOKUP(F812,referentes!$Q$2:$T$300,3,FALSE))","v":""},null,null,null,null,null,{"$f":"IF(L812=\"\",\"\",VLOOKUP(L812,referentes!$G$2:$N$15,2,FALSE))","v":""},null,null,"",null,null,""]
[null,{"$f":"IF(C813=\"\",\"\",IF(COUNTIF($C$3:C813, C813)>1, \"\", C813))","v":""},{"$f":"IF(G813=\"\",\"\",IF(F813=\"\",\"\",CONCATENATE(DIGITADOR!$M$1,G813,E813)))","v":""},"",{"$f":"IF(F813=\"\",\"\",VLOOKUP(F813,referentes!$Q$2:$T$300,3,FALSE))","v":""},null,null,null,null,null,{"$f":"IF(L813=\"\",\"\",VLOOKUP(L813,referentes!$G$2:$N$15,2,FALSE))","v":""},null,null,"",null,null,""]
[null,{"$f":"IF(C814=\"\",\"\",IF(COUNTIF($C$3:C814, C814)>1, \"\", C814))","v":""},{"$f":"IF(G814=\"\",\"\",IF(F814=\"\",\"\",CONCATENATE(DIGITADOR!$M$1,G814,E814)))","v":""},"",{"$f":"IF(F814=\"\",\"\",VLOOKUP(F814,referentes!$Q$2:$T$300,3,FALSE))","v":""},null,null,null,null,null,{"$f":"IF(L814=\"\",\"\",VLOOKUP(L814,referentes!$G$2:$N$15,2,FALSE))","v":""},null,null,"",null,null,""]
[null,{"$f":"IF(C815=\"\",\"\",IF(COUNTIF($C$3:C815, C815)>1, \"\", C815))","v":""},{"$f":"IF(G815=\"\",\"\",IF(F815=\"\",\"\",CONCATENATE(DIGITADOR!$M$1,G815,E815)))","v":""},"",{"$f":"IF(F815=\"\",\"\",VLOOKUP(F815,referentes!$Q$2:$T$300,3,FALSE))","v":""},null,null,null,null,null,{"$f":"IF(L815=\"\",\"\",VLOOKUP(L815,referentes!$G$2:$N$15,2,FALSE))","v":""},null,null,"",null,null,""]
[null,{"$f":"IF(C816=\"\",\"\",IF(COUNTIF($C$3:C816, C816)>1, \"\", C816))","v":""},{"$f":"IF(G816=\"\",\"\",IF(F816=\"\",\"\",CONCATENATE(DIGITADOR!$M$1,G816,E816)))","v":""},"",{"$f":"IF(F816=\"\",\"\",VLOOKUP(F816,referentes!$Q$2:$T$300,3,FALSE))","v":""},null,null,null,null,null,{"$f":"IF(L816=\"\",\"\",VLOOKUP(L816,referentes!$G$2:$N$15,2,FALSE))","v":""},null,null,"",null,null,""]
[null,{"$f":"IF(C817=\"\",\"\",IF(COUNTIF($C$3:C817, C817)>1, \"\", C817))","v":""},{"$f":"IF(G817=\"\",\"\",IF(F817=\"\",\"\",CONCATENATE(DIGITADOR!$M$1,G817,E817)))","v":""},"",{"$f":"IF(F817=\"\",\"\",VLOOKUP(F817,referentes!$Q$2:$T$300,3,FALSE))","v":""},null,null,null,null,null,{"$f":"IF(L817=\"\",\"\",VLOOKUP(L817,referentes!$G$2:$N$15,2,FALSE))","v":""},null,null,"",null,null,""]
[null,{"$f":"IF(C818=\"\",\"\",IF(COUNTIF($C$3:C818, C818)>1, \"\", C818))","v":""},{"$f":"IF(G818=\"\",\"\",IF(F818=\"\",\"\",CONCATENATE(DIGITADOR!$M$1,G818,E818)))","v":""},"",{"$f":"IF(F818=\"\",\"\",VLOOKUP(F818,referentes!$Q$2:$T$300,3,FALSE))","v":""},null,null,null,null,null,{"$f":"IF(L818=\"\",\"\",VLOOKUP(L818,referentes!$G$2:$N$15,2,FALSE))","v":""},null,null,"",null,null,""]
[null,{"$f":"IF(C819=\"\",\"\",IF(COUNTIF($C$3:C819, C819)>1, \"\", C819))","v":""},{"$f":"IF(G819=\"\",\"\",IF(F819=\"\",\"\",CONCATENATE(DIGITADOR!$M$1,G819,E819)))","v":""},"",{"$f":"IF(F819=\"\",\"\",VLOOKUP(F819,referentes!$Q$2:$T$300,3,FALSE))","v":""},null,null,null,null,null,{"$f":"IF(L819=\"\",\"\",VLOOKUP(L819,referentes!$G$2:$N$15,2,FALSE))","v":""},null,null,"",null,null,""]
[null,{"$f":"IF(C820=\"\",\"\",IF(COUNTIF($C$3:C820, C820)>1, \"\", C820))","v":""},{"$f":"IF(G820=\"\",\"\",IF(F820=\"\",\"\",CONCATENATE(DIGITADOR!$M$1,G820,E820)))","v":""},"",{"$f":"IF(F820=\"\",\"\",VLOOKUP(F820,referentes!$Q$2:$T$300,3,FALSE))","v":""},null,null,null,null,null,{"$f":"IF(L820=\"\",\"\",VLOOKUP(L820,referentes!$G$2:$N$15,2,FALSE))","v":""},null,null,"",null,null,""]
[null,{"$f":"IF(C821=\"\",\"\",IF(COUNTIF($C$3:C821, C821)>1, \"\", C821))","v":""},{"$f":"IF(G821=\"\",\"\",IF(F821=\"\",\"\",CONCATENATE(DIGITADOR!$M$1,G821,E821)))","v":""},"",{"$f":"IF(F821=\"\",\"\",VLOOKUP(F821,referentes!$Q$2:$T$300,3,FALSE))","v":""},null,null,null,null,null,{"$f":"IF(L821=\"\",\"\",VLOOKUP(L821,referentes!$G$2:$N$15,2,FALSE))","v":""},null,null,"",null,null,""]
[null,{"$f":"IF(C822=\"\",\"\",IF(COUNTIF($C$3:C822, C822)>1, \"\", C822))","v":""},{"$f":"IF(G822=\"\",\"\",IF(F822=\"\",\"\",CONCATENATE(DIGITADOR!$M$1,G822,E822)))","v":""},"",{"$f":"IF(F822=\"\",\"\",VLOOKUP(F822,referentes!$Q$2:$T$300,3,FALSE))","v":""},null,null,null,null,null,{"$f":"IF(L822=\"\",\"\",VLOOKUP(L822,referentes!$G$2:$N$15,2,FALSE))","v":""},null,null,"",null,null,""]
[null,{"$f":"IF(C823=\"\",\"\",IF(COUNTIF($C$3:C823, C823)>1, \"\", C823))","v":""},{"$f":"IF(G823=\"\",\"\",IF(F823=\"\",\"\",CONCATENATE(DIGITADOR!$M$1,G823,E823)))","v":""},"",{"$f":"IF(F823=\"\",\"\",VLOOKUP(F823,referentes!$Q$2:$T$300,3,FALSE))","v":""},null,null,null,null,null,{"$f":"IF(L823=\"\",\"\",VLOOKUP(L823,referentes!$G$2:$N$15,2,FALSE))","v":""},null,null,"",null,null,""]
[null,{"$f":"IF(C824=\"\",\"\",IF(COUNTIF($C$3:C824, C824)>1, \"\", C824))","v":""},{"$f":"IF(G824=\"\",\"\",IF(F824=\"\",\"\",CONCATENATE(DIGITADOR!$M$1,G824,E824)))","v":""},"",{"$f":"IF(F824=\"\",\"\",VLOOKUP(F824,referentes!$Q$2:$T$300,3,FALSE))","v":""},null,null,null,null,null,{"$f":"IF(L824=\"\",\"\",VLOOKUP(L824,referentes!$G$2:$N$15,2,FALSE))","v":""},null,null,"",null,null,""]
[null,{"$f":"IF(C825=\"\",\"\",IF(COUNTIF($C$3:C825, C825)>1, \"\", C825))","v":""},{"$f":"IF(G825=\"\",\"\",IF(F825=\"\",\"\",CONCATENATE(DIGITADOR!$M$1,G825,E825)))","v":""},"",{"$f":"IF(F825=\"\",\"\",VLOOKUP(F825,referentes!$Q$2:$T$300,3,FALSE))","v":""},null,null,null,null,null,{"$f":"IF(L825=\"\",\"\",VLOOKUP(L825,referentes!$G$2:$N$15,2,FALSE))","v":""},null,null,"",null,null,""]
[null,{"$f":"IF(C826=\"\",\"\",IF(COUNTIF($C$3:C826, C826)>1, \"\", C826))","v":""},{"$f":"IF(G826=\"\",\"\",IF(F826=\"\",\"\",CONCATENATE(DIGITADOR!$M$1,G826,E826)))","v":""},"",{"$f":"IF(F826=\"\",\"\",VLOOKUP(F826,referentes!$Q$2:$T$300,3,FALSE))","v":""},null,null,null,null,null,{"$f":"IF(L826=\"\",\"\",VLOOKUP(L826,referentes!$G$2:$N$15,2,FALSE))","v":""},null,null,"",null,null,""]
[null,{"$f":"IF(C827=\"\",\"\",IF(COUNTIF($C$3:C827, C827)>1, \"\", C827))","v":""},{"$f":"IF(G827=\"\",\"\",IF(F827=\"\",\"\",CONCATENATE(DIGITADOR!$M$1,G827,E827)))","v":""},"",{"$f":"IF(F827=\"\",\"\",VLOOKUP(F827,referentes!$Q$2:$T$300,3,FALSE))","v":""},null,null,null,null,null,{"$f":"IF(L827=\"\",\"\",VLOOKUP(L827,referentes!$G$2:$N$15,2,FALSE))","v":""},null,null,"",null,null,""]
[null,{"$f":"IF(C828=\"\",\"\",IF(COUNTIF($C$3:C828, C828)>1, \"\", C828))","v":""},{"$f":"IF(G828=\"\",\"\",IF(F828=\"\",\"\",CONCATENATE(DIGITADOR!$M$1,G828,E828)))","v":""},"",{"$f":"IF(F828=\"\",\"\",VLOOKUP(F828,referentes!$Q$2:$T$300,3,FALSE))","v":""},null,null,null,null,null,{"$f":"IF(L828=\"\",\"\",VLOOKUP(L828,referentes!$G$2:$N$15,2,FALSE))","v":""},null,null,"",null,null,""]
[null,{"$f":"IF(C829=\"\",\"\",IF(COUNTIF($C$3:C829, C829)>1, \"\", C829))","v":""},{"$f":"IF(G829=\"\",\"\",IF(F829=\"\",\"\",CONCATENATE(DIGITADOR!$M$1,G829,E829)))","v":""},"",{"$f":"IF(F829=\"\",\"\",VLOOKUP(F829,referentes!$Q$2:$T$300,3,FALSE))","v":""},null,null,null,null,null,{"$f":"IF(L829=\"\",\"\",VLOOKUP(L829,referentes!$G$2:$N$15,2,FALSE))","v":""},null,null,"",null,null,""]
[null,{"$f":"IF(C830=\"\",\"\",IF(COUNTIF($C$3:C830, C830)>1, \"\", C830))","v":""},{"$f":"IF(G830=\"\",\"\",IF(F830=\"\",\"\",CONCATENATE(DIGITADOR!$M$1,G830,E830)))","v":""},"",{"$f":"IF(F830=\"\",\"\",VLOOKUP(F830,referentes!$Q$2:$T$300,3,FALSE))","v":""},null,null,null,null,null,{"$f":"IF(L830=\"\",\"\",VLOOKUP(L830,referentes!$G$2:$N$15,2,FALSE))","v":""},null,null,"",null,null,""]
[null,{"$f":"IF(C831=\"\",\"\",IF(COUNTIF($C$3:C831, C831)>1, \"\", C831))","v":""},{"$f":"IF(G831=\"\",\"\",IF(F831=\"\",\"\",CONCATENATE(DIGITADOR!$M$1,G831,E831)))","v":""},"",{"$f":"IF(F831=\"\",\"\",VLOOKUP(F831,referentes!$Q$2:$T$300,3,FALSE))","v":""},null,null,null,null,null,{"$f":"IF(L831=\"\",\"\",VLOOKUP(L831,referentes!$G$2:$N$15,2,FALSE))","v":""},null,null,"",null,null,""]
[null,{"$f":"IF(C832=\"\",\"\",IF(COUNTIF($C$3:C832, C832)>1, \"\", C832))","v":""},{"$f":"IF(G832=\"\",\"\",IF(F832=\"\",\"\",CONCATENATE(DIGITADOR!$M$1,G832,E832)))","v":""},"",{"$f":"IF(F832=\"\",\"\",VLOOKUP(F832,referentes!$Q$2:$T$300,3,FALSE))","v":""},null,null,null,null,null,{"$f":"IF(L832=\"\",\"\",VLOOKUP(L832,referentes!$G$2:$N$15,2,FALSE))","v":""},null,null,"",null,null,""]
[null,{"$f":"IF(C833=\"\",\"\",IF(COUNTIF($C$3:C833, C833)>1, \"\", C833))","v":""},{"$f":"IF(G833=\"\",\"\",IF(F833=\"\",\"\",CONCATENATE(DIGITADOR!$M$1,G833,E833)))","v":""},"",{"$f":"IF(F833=\"\",\"\",VLOOKUP(F833,referentes!$Q$2:$T$300,3,FALSE))","v":""},null,null,null,null,null,{"$f":"IF(L833=\"\",\"\",VLOOKUP(L833,referentes!$G$2:$N$15,2,FALSE))","v":""},null,null,"",null,null,""]
[null,{"$f":"IF(C834=\"\",\"\",IF(COUNTIF($C$3:C834, C834)>1, \"\", C834))","v":""},{"$f":"IF(G834=\"\",\"\",IF(F834=\"\",\"\",CONCATENATE(DIGITADOR!$M$1,G834,E834)))","v":""},"",{"$f":"IF(F834=\"\",\"\",VLOOKUP(F834,referentes!$Q$2:$T$300,3,FALSE))","v":""},null,null,null,null,null,{"$f":"IF(L834=\"\",\"\",VLOOKUP(L834,referentes!$G$2:$N$15,2,FALSE))","v":""},null,null,"",null,null,""]
[null,{"$f":"IF(C835=\"\",\"\",IF(COUNTIF($C$3:C835, C835)>1, \"\", C835))","v":""},{"$f":"IF(G835=\"\",\"\",IF(F835=\"\",\"\",CONCATENATE(DIGITADOR!$M$1,G835,E835)))","v":""},"",{"$f":"IF(F835=\"\",\"\",VLOOKUP(F835,referentes!$Q$2:$T$300,3,FALSE))","v":""},null,null,null,null,null,{"$f":"IF(L835=\"\",\"\",VLOOKUP(L835,referentes!$G$2:$N$15,2,FALSE))","v":""},null,null,"",null,null,""]
[null,{"$f":"IF(C836=\"\",\"\",IF(COUNTIF($C$3:C836, C836)>1, \"\", C836))","v":""},{"$f":"IF(G836=\"\",\"\",IF(F836=\"\",\"\",CONCATENATE(DIGITADOR!$M$1,G836,E836)))","v":""},{"$f":"IF(C836=\"\",\"\",CONCATENATE(C836,ROW()-2))","v":""},{"$f":"IF(F836=\"\",\"\",VLOOKUP(F836,referentes!$Q$2:$T$300,3,FALSE))","v":""},null,null,null,null,null,{"$f":"IF(L836=\"\",\"\",VLOOKUP(L836,referentes!$G$2:$N$15,2,FALSE))","v":""},null,null,{"$f":"IF(M836=\"\",\"\",M836/PI())","v":""},null,null,{"$f":"IF(N836=\"\",\"\",((PI())*((N836/100)^2))/4*10000/500)","v":""}]
[null,{"$f":"IF(C837=\"\",\"\",IF(COUNTIF($C$3:C837, C837)>1, \"\", C837))","v":""},{"$f":"IF(G837=\"\",\"\",IF(F837=\"\",\"\",CONCATENATE(DIGITADOR!$M$1,G837,E837)))","v":""},"",{"$f":"IF(F837=\"\",\"\",VLOOKUP(F837,referentes!$Q$2:$T$300,3,FALSE))","v":""},null,null,null,null,null,{"$f":"IF(L837=\"\",\"\",VLOOKUP(L837,referentes!$G$2:$N$15,2,FALSE))","v":""},null,null,"",null,null,""]
[null,{"$f":"IF(C838=\"\",\"\",IF(COUNTIF($C$3:C838, C838)>1, \"\", C838))","v":""},{"$f":"IF(G838=\"\",\"\",IF(F838=\"\",\"\",CONCATENATE(DIGITADOR!$M$1,G838,E838)))","v":""},"",{"$f":"IF(F838=\"\",\"\",VLOOKUP(F838,referentes!$Q$2:$T$300,3,FALSE))","v":""},null,null,null,null,null,{"$f":"IF(L838=\"\",\"\",VLOOKUP(L838,referentes!$G$2:$N$15,2,FALSE))","v":""},null,null,"",null,null,""]
[null,{"$f":"IF(C839=\"\",\"\",IF(COUNTIF($C$3:C839, C839)>1, \"\", C839))","v":""},{"$f":"IF(G839=\"\",\"\",IF(F839=\"\",\"\",CONCATENATE(DIGITADOR!$M$1,G839,E839)))","v":""},"",{"$f":"IF(F839=\"\",\"\",VLOOKUP(F839,referentes!$Q$2:$T$300,3,FALSE))","v":""},null,null,null,null,null,{"$f":"IF(L839=\"\",\"\",VLOOKUP(L839,referentes!$G$2:$N$15,2,FALSE))","v":""},null,null,"",null,null,""]
[null,{"$f":"IF(C840=\"\",\"\",IF(COUNTIF($C$3:C840, C840)>1, \"\", C840))","v":""},{"$f":"IF(G840=\"\",\"\",IF(F840=\"\",\"\",CONCATENATE(DIGITADOR!$M$1,G840,E840)))","v":""},"",{"$f":"IF(F840=\"\",\"\",VLOOKUP(F840,referentes!$Q$2:$T$300,3,FALSE))","v":""},null,null,null,null,null,{"$f":"IF(L840=\"\",\"\",VLOOKUP(L840,referentes!$G$2:$N$15,2,FALSE))","v":""},null,null,"",null,null,""]
[null,{"$f":"IF(C841=\"\",\"\",IF(COUNTIF($C$3:C841, C841)>1, \"\", C841))","v":""},{"$f":"IF(G841=\"\",\"\",IF(F841=\"\",\"\",CONCATENATE(DIGITADOR!$M$1,G841,E841)))","v":""},"",{"$f":"IF(F841=\"\",\"\",VLOOKUP(F841,referentes!$Q$2:$T$300,3,FALSE))","v":""},null,null,null,null,null,{"$f":"IF(L841=\"\",\"\",VLOOKUP(L841,referentes!$G$2:$N$15,2,FALSE))","v":""},null,null,"",null,null,""]
[null,{"$f":"IF(C842=\"\",\"\",IF(COUNTIF($C$3:C842, C842)>1, \"\", C842))","v":""},{"$f":"IF(G842=\"\",\"\",IF(F842=\"\",\"\",CONCATENATE(DIGITADOR!$M$1,G842,E842)))","v":""},"",{"$f":"IF(F842=\"\",\"\",VLOOKUP(F842,referentes!$Q$2:$T$300,3,FALSE))","v":""},null,null,null,null,null,{"$f":"IF(L842=\"\",\"\",VLOOKUP(L842,referentes!$G$2:$N$15,2,FALSE))","v":""},null,null,"",null,null,""]
[null,{"$f":"IF(C843=\"\",\"\",IF(COUNTIF($C$3:C843, C843)>1, \"\", C843))","v":""},{"$f":"IF(G843=\"\",\"\",IF(F843=\"\",\"\",CONCATENATE(DIGITADOR!$M$1,G843,E843)))","v":""},"",{"$f":"IF(F843=\"\",\"\",VLOOKUP(F843,referentes!$Q$2:$T$300,3,FALSE))","v":""},null,null,null,null,null,{"$f":"IF(L843=\"\",\"\",VLOOKUP(L843,referentes!$G$2:$N$15,2,FALSE))","v":""},null,null,"",null,null,""]
[null,{"$f":"IF(C844=\"\",\"\",IF(COUNTIF($C$3:C844, C844)>1, \"\", C844))","v":""},{"$f":"IF(G844=\"\",\"\",IF(F844=\"\",\"\",CONCATENATE(DIGITADOR!$M$1,G844,E844)))","v":""},"",{"$f":"IF(F844=\"\",\"\",VLOOKUP(F844,referentes!$Q$2:$T$300,3,FALSE))","v":""},null,null,null,null,null,{"$f":"IF(L844=\"\",\"\",VLOOKUP(L844,referentes!$G$2:$N$15,2,FALSE))","v":""},null,null,"",null,null,""]
[null,{"$f":"IF(C845=\"\",\"\",IF(COUNTIF($C$3:C845, C845)>1, \"\", C845))","v":""},{"$f":"IF(G845=\"\",\"\",IF(F845=\"\",\"\",CONCATENATE(DIGITADOR!$M$1,G845,E845)))","v":""},"",{"$f":"IF(F845=\"\",\"\",VLOOKUP(F845,referentes!$Q$2:$T$300,3,FALSE))","v":""},null,null,null,null,null,{"$f":"IF(L845=\"\",\"\",VLOOKUP(L845,referentes!$G$2:$N$15,2,FALSE))","v":""},null,null,"",null,null,""]
[null,{"$f":"IF(C846=\"\",\"\",IF(COUNTIF($C$3:C846, C846)>1, \"\", C846))","v":""},{"$f":"IF(G846=\"\",\"\",IF(F846=\"\",\"\",CONCATENATE(DIGITADOR!$M$1,G846,E846)))","v":""},"",{"$f":"IF(F846=\"\",\"\",VLOOKUP(F846,referentes!$Q$2:$T$300,3,FALSE))","v":""},null,null,null,null,null,{"$f":"IF(L846=\"\",\"\",VLOOKUP(L846,referentes!$G$2:$N$15,2,FALSE))","v":""},null,null,"",null,null,""]
[null,{"$f":"IF(C847=\"\",\"\",IF(COUNTIF($C$3:C847, C847)>1, \"\", C847))","v":""},{"$f":"IF(G847=\"\",\"\",IF(F847=\"\",\"\",CONCATENATE(DIGITADOR!$M$1,G847,E847)))","v":""},"",{"$f":"IF(F847=\"\",\"\",VLOOKUP(F847,referentes!$Q$2:$T$300,3,FALSE))","v":""},null,null,null,null,null,{"$f":"IF(L847=\"\",\"\",VLOOKUP(L847,referentes!$G$2:$N$15,2,FALSE))","v":""},null,null,"",null,null,""]
[null,{"$f":"IF(C848=\"\",\"\",IF(COUNTIF($C$3:C848, C848)>1, \"\", C848))","v":""},{"$f":"IF(G848=\"\",\"\",IF(F848=\"\",\"\",CONCATENATE(DIGITADOR!$M$1,G848,E848)))","v":""},"",{"$f":"IF(F848=\"\",\"\",VLOOKUP(F848,referentes!$Q$2:$T$300,3,FALSE))","v":""},null,null,null,null,null,{"$f":"IF(L848=\"\",\"\",VLOOKUP(L848,referentes!$G$2:$N$15,2,FALSE))","v":""},null,null,"",null,null,""]
[null,{"$f":"IF(C849=\"\",\"\",IF(COUNTIF($C$3:C849, C849)>1, \"\", C849))","v":""},{"$f":"IF(G849=\"\",\"\",IF(F849=\"\",\"\",CONCATENATE(DIGITADOR!$M$1,G849,E849)))","v":""},"",{"$f":"IF(F849=\"\",\"\",VLOOKUP(F849,referentes!$Q$2:$T$300,3,FALSE))","v":""},null,null,null,null,null,{"$f":"IF(L849=\"\",\"\",VLOOKUP(L849,referentes!$G$2:$N$15,2,FALSE))","v":""},null,null,"",null,null,""]
[null,{"$f":"IF(C850=\"\",\"\",IF(COUNTIF($C$3:C850, C850)>1, \"\", C850))","v":""},{"$f":"IF(G850=\"\",\"\",IF(F850=\"\",\"\",CONCATENATE(DIGITADOR!$M$1,G850,E850)))","v":""},"",{"$f":"IF(F850=\"\",\"\",VLOOKUP(F850,referentes!$Q$2:$T$300,3,FALSE))","v":""},null,null,null,null,null,{"$f":"IF(L850=\"\",\"\",VLOOKUP(L850,referentes!$G$2:$N$15,2,FALSE))","v":""},null,null,"",null,null,""]
[null,{"$f":"IF(C851=\"\",\"\",IF(COUNTIF($C$3:C851, C851)>1, \"\", C851))","v":""},{"$f":"IF(G851=\"\",\"\",IF(F851=\"\",\"\",CONCATENATE(DIGITADOR!$M$1,G851,E851)))","v":""},"",{"$f":"IF(F851=\"\",\"\",VLOOKUP(F851,referentes!$Q$2:$T$300,3,FALSE))","v":""},null,null,null,null,null,{"$f":"IF(L851=\"\",\"\",VLOOKUP(L851,referentes!$G$2:$N$15,2,FALSE))","v":""},null,null,"",null,null,""]
[null,{"$f":"IF(C852=\"\",\"\",IF(COUNTIF($C$3:C852, C852)>1, \"\", C852))","v":""},{"$f":"IF(G852=\"\",\"\",IF(F852=\"\",\"\",CONCATENATE(DIGITADOR!$M$1,G852,E852)))","v":""},"",{"$f":"IF(F852=\"\",\"\",VLOOKUP(F852,referentes!$Q$2:$T$300,3,FALSE))","v":""},null,null,null,null,null,{"$f":"IF(L852=\"\",\"\",VLOOKUP(L852,referentes!$G$2:$N$15,2,FALSE))","v":""},null,null,"",null,null,""]
[null,{"$f":"IF(C853=\"\",\"\",IF(COUNTIF($C$3:C853, C853)>1, \"\", C853))","v":""},{"$f":"IF(G853=\"\",\"\",IF(F853=\"\",\"\",CONCATENATE(DIGITADOR!$M$1,G853,E853)))","v":""},"",{"$f":"IF(F853=\"\",\"\",VLOOKUP(F853,referentes!$Q$2:$T$300,3,FALSE))","v":""},null,null,null,null,null,{"$f":"IF(L853=\"\",\"\",VLOOKUP(L853,referentes!$G$2:$N$15,2,FALSE))","v":""},null,null,"",null,null,""]
[null,{"$f":"IF(C854=\"\",\"\",IF(COUNTIF($C$3:C854, C854)>1, \"\", C854))","v":""},{"$f":"IF(G854=\"\",\"\",IF(F854=\"\",\"\",CONCATENATE(DIGITADOR!$M$1,G854,E854)))","v":""},"",{"$f":"IF(F854=\"\",\"\",VLOOKUP(F854,referentes!$Q$2:$T$300,3,FALSE))","v":""},null,null,null,null,null,{"$f":"IF(L854=\"\",\"\",VLOOKUP(L854,referentes!$G$2:$N$15,2,FALSE))","v":""},null,null,"",null,null,""]
[null,{"$f":"IF(C855=\"\",\"\",IF(COUNTIF($C$3:C855, C855)>1, \"\", C855))","v":""},{"$f":"IF(G855=\"\",\"\",IF(F855=\"\",\"\",CONCATENATE(DIGITADOR!$M$1,G855,E855)))","v":""},"",{"$f":"IF(F855=\"\",\"\",VLOOKUP(F855,referentes!$Q$2:$T$300,3,FALSE))","v":""},null,null,null,null,null,{"$f":"IF(L855=\"\",\"\",VLOOKUP(L855,referentes!$G$2:$N$15,2,FALSE))","v":""},null,null,"",null,null,""]
[null,{"$f":"IF(C856=\"\",\"\",IF(COUNTIF($C$3:C856, C856)>1, \"\", C856))","v":""},{"$f":"IF(G856=\"\",\"\",IF(F856=\"\",\"\",CONCATENATE(DIGITADOR!$M$1,G856,E856)))","v":""},"",{"$f":"IF(F856=\"\",\"\",VLOOKUP(F856,referentes!$Q$2:$T$300,3,FALSE))","v":""},null,null,null,null,null,{"$f":"IF(L856=\"\",\"\",VLOOKUP(L856,referentes!$G$2:$N$15,2,FALSE))","v":""},null,null,"",null,null,""]
[null,{"$f":"IF(C857=\"\",\"\",IF(COUNTIF($C$3:C857, C857)>1, \"\", C857))","v":""},{"$f":"IF(G857=\"\",\"\",IF(F857=\"\",\"\",CONCATENATE(DIGITADOR!$M$1,G857,E857)))","v":""},"",{"$f":"IF(F857=\"\",\"\",VLOOKUP(F857,referentes!$Q$2:$T$300,3,FALSE))","v":""},null,null,null,null,null,{"$f":"IF(L857=\"\",\"\",VLOOKUP(L857,referentes!$G$2:$N$15,2,FALSE))","v":""},null,null,"",null,null,""]
[null,{"$f":"IF(C858=\"\",\"\",IF(COUNTIF($C$3:C858, C858)>1, \"\", C858))","v":""},{"$f":"IF(G858=\"\",\"\",IF(F858=\"\",\"\",CONCATENATE(DIGITADOR!$M$1,G858,E858)))","v":""},"",{"$f":"IF(F858=\"\",\"\",VLOOKUP(F858,referentes!$Q$2:$T$300,3,FALSE))","v":""},null,null,null,null,null,{"$f":"IF(L858=\"\",\"\",VLOOKUP(L858,referentes!$G$2:$N$15,2,FALSE))","v":""},null,null,"",null,null,""]
[null,{"$f":"IF(C859=\"\",\"\",IF(COUNTIF($C$3:C859, C859)>1, \"\", C859))","v":""},{"$f":"IF(G859=\"\",\"\",IF(F859=\"\",\"\",CONCATENATE(DIGITADOR!$M$1,G859,E859)))","v":""},"",{"$f":"IF(F859=\"\",\"\",VLOOKUP(F859,referentes!$Q$2:$T$300,3,FALSE))","v":""},null,null,null,null,null,{"$f":"IF(L859=\"\",\"\",VLOOKUP(L859,referentes!$G$2:$N$15,2,FALSE))","v":""},null,null,"",null,null,""]
[null,{"$f":"IF(C860=\"\",\"\",IF(COUNTIF($C$3:C860, C860)>1, \"\", C860))","v":""},{"$f":"IF(G860=\"\",\"\",IF(F860=\"\",\"\",CONCATENATE(DIGITADOR!$M$1,G860,E860)))","v":""},"",{"$f":"IF(F860=\"\",\"\",VLOOKUP(F860,referentes!$Q$2:$T$300,3,FALSE))","v":""},null,null,null,null,null,{"$f":"IF(L860=\"\",\"\",VLOOKUP(L860,referentes!$G$2:$N$15,2,FALSE))","v":""},null,null,"",null,null,""]
[null,{"$f":"IF(C861=\"\",\"\",IF(COUNTIF($C$3:C861, C861)>1, \"\", C861))","v":""},{"$f":"IF(G861=\"\",\"\",IF(F861=\"\",\"\",CONCATENATE(DIGITADOR!$M$1,G861,E861)))","v":""},"",{"$f":"IF(F861=\"\",\"\",VLOOKUP(F861,referentes!$Q$2:$T$300,3,FALSE))","v":""},null,null,null,null,null,{"$f":"IF(L861=\"\",\"\",VLOOKUP(L861,referentes!$G$2:$N$15,2,FALSE))","v":""},null,null,"",null,null,""]
[null,{"$f":"IF(C862=\"\",\"\",IF(COUNTIF($C$3:C862, C862)>1, \"\", C862))","v":""},{"$f":"IF(G862=\"\",\"\",IF(F862=\"\",\"\",CONCATENATE(DIGITADOR!$M$1,G862,E862)))","v":""},"",{"$f":"IF(F862=\"\",\"\",VLOOKUP(F862,referentes!$Q$2:$T$300,3,FALSE))","v":""},null,null,null,null,null,{"$f":"IF(L862=\"\",\"\",VLOOKUP(L862,referentes!$G$2:$N$15,2,FALSE))","v":""},null,null,"",null,null,""]
[null,{"$f":"IF(C863=\"\",\"\",IF(COUNTIF($C$3:C863, C863)>1, \"\", C863))","v":""},{"$f":"IF(G863=\"\",\"\",IF(F863=\"\",\"\",CONCATENATE(DIGITADOR!$M$1,G863,E863)))","v":""},"",{"$f":"IF(F863=\"\",\"\",VLOOKUP(F863,referentes!$Q$2:$T$300,3,FALSE))","v":""},null,null,null,null,null,{"$f":"IF(L863=\"\",\"\",VLOOKUP(L863,referentes!$G$2:$N$15,2,FALSE))","v":""},null,null,"",null,null,""]
[null,{"$f":"IF(C864=\"\",\"\",IF(COUNTIF($C$3:C864, C864)>1, \"\", C864))","v":""},{"$f":"IF(G864=\"\",\"\",IF(F864=\"\",\"\",CONCATENATE(DIGITADOR!$M$1,G864,E864)))","v":""},"",{"$f":"IF(F864=\"\",\"\",VLOOKUP(F864,referentes!$Q$2:$T$300,3,FALSE))","v":""},null,null,null,null,null,{"$f":"IF(L864=\"\",\"\",VLOOKUP(L864,referentes!$G$2:$N$15,2,FALSE))","v":""},null,null,"",null,null,""]
[null,{"$f":"IF(C865=\"\",\"\",IF(COUNTIF($C$3:C865, C865)>1, \"\", C865))","v":""},{"$f":"IF(G865=\"\",\"\",IF(F865=\"\",\"\",CONCATENATE(DIGITADOR!$M$1,G865,E865)))","v":""},"",{"$f":"IF(F865=\"\",\"\",VLOOKUP(F865,referentes!$Q$2:$T$300,3,FALSE))","v":""},null,null,null,null,null,{"$f":"IF(L865=\"\",\"\",VLOOKUP(L865,referentes!$G$2:$N$15,2,FALSE))","v":""},null,null,"",null,null,""]
[null,{"$f":"IF(C866=\"\",\"\",IF(COUNTIF($C$3:C866, C866)>1, \"\", C866))","v":""},{"$f":"IF(G866=\"\",\"\",IF(F866=\"\",\"\",CONCATENATE(DIGITADOR!$M$1,G866,E866)))","v":""},"",{"$f":"IF(F866=\"\",\"\",VLOOKUP(F866,referentes!$Q$2:$T$300,3,FALSE))","v":""},null,null,null,null,null,{"$f":"IF(L866=\"\",\"\",VLOOKUP(L866,referentes!$G$2:$N$15,2,FALSE))","v":""},null,null,"",null,null,""]
[null,{"$f":"IF(C867=\"\",\"\",IF(COUNTIF($C$3:C867, C867)>1, \"\", C867))","v":""},{"$f":"IF(G867=\"\",\"\",IF(F867=\"\",\"\",CONCATENATE(DIGITADOR!$M$1,G867,E867)))","v":""},"",{"$f":"IF(F867=\"\",\"\",VLOOKUP(F867,referentes!$Q$2:$T$300,3,FALSE))","v":""},null,null,null,null,null,{"$f":"IF(L867=\"\",\"\",VLOOKUP(L867,referentes!$G$2:$N$15,2,FALSE))","v":""},null,null,"",null,null,""]
[null,{"$f":"IF(C868=\"\",\"\",IF(COUNTIF($C$3:C868, C868)>1, \"\", C868))","v":""},{"$f":"IF(G868=\"\",\"\",IF(F868=\"\",\"\",CONCATENATE(DIGITADOR!$M$1,G868,E868)))","v":""},"",{"$f":"IF(F868=\"\",\"\",VLOOKUP(F868,referentes!$Q$2:$T$300,3,FALSE))","v":""},null,null,null,null,null,{"$f":"IF(L868=\"\",\"\",VLOOKUP(L868,referentes!$G$2:$N$15,2,FALSE))","v":""},null,null,"",null,null,""]
[null,{"$f":"IF(C869=\"\",\"\",IF(COUNTIF($C$3:C869, C869)>1, \"\", C869))","v":""},{"$f":"IF(G869=\"\",\"\",IF(F869=\"\",\"\",CONCATENATE(DIGITADOR!$M$1,G869,E869)))","v":""},"",{"$f":"IF(F869=\"\",\"\",VLOOKUP(F869,referentes!$Q$2:$T$300,3,FALSE))","v":""},null,null,null,null,null,{"$f":"IF(L869=\"\",\"\",VLOOKUP(L869,referentes!$G$2:$N$15,2,FALSE))","v":""},null,null,"",null,null,""]
[null,{"$f":"IF(C870=\"\",\"\",IF(COUNTIF($C$3:C870, C870)>1, \"\", C870))","v":""},{"$f":"IF(G870=\"\",\"\",IF(F870=\"\",\"\",CONCATENATE(DIGITADOR!$M$1,G870,E870)))","v":""},"",{"$f":"IF(F870=\"\",\"\",VLOOKUP(F870,referentes!$Q$2:$T$300,3,FALSE))","v":""},null,null,null,null,null,{"$f":"IF(L870=\"\",\"\",VLOOKUP(L870,referentes!$G$2:$N$15,2,FALSE))","v":""},null,null,"",null,null,""]
[null,{"$f":"IF(C871=\"\",\"\",IF(COUNTIF($C$3:C871, C871)>1, \"\", C871))","v":""},{"$f":"IF(G871=\"\",\"\",IF(F871=\"\",\"\",CONCATENATE(DIGITADOR!$M$1,G871,E871)))","v":""},"",{"$f":"IF(F871=\"\",\"\",VLOOKUP(F871,referentes!$Q$2:$T$300,3,FALSE))","v":""},null,null,null,null,null,{"$f":"IF(L871=\"\",\"\",VLOOKUP(L871,referentes!$G$2:$N$15,2,FALSE))","v":""},null,null,"",null,null,""]
[null,{"$f":"IF(C872=\"\",\"\",IF(COUNTIF($C$3:C872, C872)>1, \"\", C872))","v":""},{"$f":"IF(G872=\"\",\"\",IF(F872=\"\",\"\",CONCATENATE(DIGITADOR!$M$1,G872,E872)))","v":""},"",{"$f":"IF(F872=\"\",\"\",VLOOKUP(F872,referentes!$Q$2:$T$300,3,FALSE))","v":""},null,null,null,null,null,{"$f":"IF(L872=\"\",\"\",VLOOKUP(L872,referentes!$G$2:$N$15,2,FALSE))","v":""},null,null,"",null,null,""]
[null,{"$f":"IF(C873=\"\",\"\",IF(COUNTIF($C$3:C873, C873)>1, \"\", C873))","v":""},{"$f":"IF(G873=\"\",\"\",IF(F873=\"\",\"\",CONCATENATE(DIGITADOR!$M$1,G873,E873)))","v":""},"",{"$f":"IF(F873=\"\",\"\",VLOOKUP(F873,referentes!$Q$2:$T$300,3,FALSE))","v":""},null,null,null,null,null,{"$f":"IF(L873=\"\",\"\",VLOOKUP(L873,referentes!$G$2:$N$15,2,FALSE))","v":""},null,null,"",null,null,""]
[null,{"$f":"IF(C874=\"\",\"\",IF(COUNTIF($C$3:C874, C874)>1, \"\", C874))","v":""},{"$f":"IF(G874=\"\",\"\",IF(F874=\"\",\"\",CONCATENATE(DIGITADOR!$M$1,G874,E874)))","v":""},"",{"$f":"IF(F874=\"\",\"\",VLOOKUP(F874,referentes!$Q$2:$T$300,3,FALSE))","v":""},null,null,null,null,null,{"$f":"IF(L874=\"\",\"\",VLOOKUP(L874,referentes!$G$2:$N$15,2,FALSE))","v":""},null,null,"",null,null,""]
[null,{"$f":"IF(C875=\"\",\"\",IF(COUNTIF($C$3:C875, C875)>1, \"\", C875))","v":""},{"$f":"IF(G875=\"\",\"\",IF(F875=\"\",\"\",CONCATENATE(DIGITADOR!$M$1,G875,E875)))","v":""},"",{"$f":"IF(F875=\"\",\"\",VLOOKUP(F875,referentes!$Q$2:$T$300,3,FALSE))","v":""},null,null,null,null,null,{"$f":"IF(L875=\"\",\"\",VLOOKUP(L875,referentes!$G$2:$N$15,2,FALSE))","v":""},null,null,"",null,null,""]
[null,{"$f":"IF(C876=\"\",\"\",IF(COUNTIF($C$3:C876, C876)>1, \"\", C876))","v":""},{"$f":"IF(G876=\"\",\"\",IF(F876=\"\",\"\",CONCATENATE(DIGITADOR!$M$1,G876,E876)))","v":""},"",{"$f":"IF(F876=\"\",\"\",VLOOKUP(F876,referentes!$Q$2:$T$300,3,FALSE))","v":""},null,null,null,null,null,{"$f":"IF(L876=\"\",\"\",VLOOKUP(L876,referentes!$G$2:$N$15,2,FALSE))","v":""},null,null,"",null,null,""]
[null,{"$f":"IF(C877=\"\",\"\",IF(COUNTIF($C$3:C877, C877)>1, \"\", C877))","v":""},{"$f":"IF(G877=\"\",\"\",IF(F877=\"\",\"\",CONCATENATE(DIGITADOR!$M$1,G877,E877)))","v":""},"",{"$f":"IF(F877=\"\",\"\",VLOOKUP(F877,referentes!$Q$2:$T$300,3,FALSE))","v":""},null,null,null,null,null,{"$f":"IF(L877=\"\",\"\",VLOOKUP(L877,referentes!$G$2:$N$15,2,FALSE))","v":""},null,null,"",null,null,""]
[null,{"$f":"IF(C878=\"\",\"\",IF(COUNTIF($C$3:C878, C878)>1, \"\", C878))","v":""},{"$f":"IF(G878=\"\",\"\",IF(F878=\"\",\"\",CONCATENATE(DIGITADOR!$M$1,G878,E878)))","v":""},"",{"$f":"IF(F878=\"\",\"\",VLOOKUP(F878,referentes!$Q$2:$T$300,3,FALSE))","v":""},null,null,null,null,null,{"$f":"IF(L878=\"\",\"\",VLOOKUP(L878,referentes!$G$2:$N$15,2,FALSE))","v":""},null,null,"",null,null,""]
[null,{"$f":"IF(C879=\"\",\"\",IF(COUNTIF($C$3:C879, C879)>1, \"\", C879))","v":""},{"$f":"IF(G879=\"\",\"\",IF(F879=\"\",\"\",CONCATENATE(DIGITADOR!$M$1,G879,E879)))","v":""},"",{"$f":"IF(F879=\"\",\"\",VLOOKUP(F879,referentes!$Q$2:$T$300,3,FALSE))","v":""},null,null,null,null,null,{"$f":"IF(L879=\"\",\"\",VLOOKUP(L879,referentes!$G$2:$N$15,2,FALSE))","v":""},null,null,"",null,null,""]
[null,{"$f":"IF(C880=\"\",\"\",IF(COUNTIF($C$3:C880, C880)>1, \"\", C880))","v":""},{"$f":"IF(G880=\"\",\"\",IF(F880=\"\",\"\",CONCATENATE(DIGITADOR!$M$1,G880,E880)))","v":""},"",{"$f":"IF(F880=\"\",\"\",VLOOKUP(F880,referentes!$Q$2:$T$300,3,FALSE))","v":""},null,null,null,null,null,{"$f":"IF(L880=\"\",\"\",VLOOKUP(L880,referentes!$G$2:$N$15,2,FALSE))","v":""},null,null,"",null,null,""]
[null,{"$f":"IF(C881=\"\",\"\",IF(COUNTIF($C$3:C881, C881)>1, \"\", C881))","v":""},{"$f":"IF(G881=\"\",\"\",IF(F881=\"\",\"\",CONCATENATE(DIGITADOR!$M$1,G881,E881)))","v":""},"",{"$f":"IF(F881=\"\",\"\",VLOOKUP(F881,referentes!$Q$2:$T$300,3,FALSE))","v":""},null,null,null,null,null,{"$f":"IF(L881=\"\",\"\",VLOOKUP(L881,referentes!$G$2:$N$15,2,FALSE))","v":""},null,null,"",null,null,""]
[null,{"$f":"IF(C882=\"\",\"\",IF(COUNTIF($C$3:C882, C882)>1, \"\", C882))","v":""},{"$f":"IF(G882=\"\",\"\",IF(F882=\"\",\"\",CONCATENATE(DIGITADOR!$M$1,G882,E882)))","v":""},"",{"$f":"IF(F882=\"\",\"\",VLOOKUP(F882,referentes!$Q$2:$T$300,3,FALSE))","v":""},null,null,null,null,null,{"$f":"IF(L882=\"\",\"\",VLOOKUP(L882,referentes!$G$2:$N$15,2,FALSE))","v":""},null,null,"",null,null,""]
[null,{"$f":"IF(C883=\"\",\"\",IF(COUNTIF($C$3:C883, C883)>1, \"\", C883))","v":""},{"$f":"IF(G883=\"\",\"\",IF(F883=\"\",\"\",CONCATENATE(DIGITADOR!$M$1,G883,E883)))","v":""},"",{"$f":"IF(F883=\"\",\"\",VLOOKUP(F883,referentes!$Q$2:$T$300,3,FALSE))","v":""},null,null,null,null,null,{"$f":"IF(L883=\"\",\"\",VLOOKUP(L883,referentes!$G$2:$N$15,2,FALSE))","v":""},null,null,"",null,null,""]
[null,{"$f":"IF(C884=\"\",\"\",IF(COUNTIF($C$3:C884, C884)>1, \"\", C884))","v":""},{"$f":"IF(G884=\"\",\"\",IF(F884=\"\",\"\",CONCATENATE(DIGITADOR!$M$1,G884,E884)))","v":""},"",{"$f":"IF(F884=\"\",\"\",VLOOKUP(F884,referentes!$Q$2:$T$300,3,FALSE))","v":""},null,null,null,null,null,{"$f":"IF(L884=\"\",\"\",VLOOKUP(L884,referentes!$G$2:$N$15,2,FALSE))","v":""},null,null,"",null,null,""]
[null,{"$f":"IF(C885=\"\",\"\",IF(COUNTIF($C$3:C885, C885)>1, \"\", C885))","v":""},{"$f":"IF(G885=\"\",\"\",IF(F885=\"\",\"\",CONCATENATE(DIGITADOR!$M$1,G885,E885)))","v":""},"",{"$f":"IF(F885=\"\",\"\",VLOOKUP(F885,referentes!$Q$2:$T$300,3,FALSE))","v":""},null,null,null,null,null,{"$f":"IF(L885=\"\",\"\",VLOOKUP(L885,referentes!$G$2:$N$15,2,FALSE))","v":""},null,null,"",null,null,""]
[null,{"$f":"IF(C886=\"\",\"\",IF(COUNTIF($C$3:C886, C886)>1, \"\", C886))","v":""},{"$f":"IF(G886=\"\",\"\",IF(F886=\"\",\"\",CONCATENATE(DIGITADOR!$M$1,G886,E886)))","v":""},"",{"$f":"IF(F886=\"\",\"\",VLOOKUP(F886,referentes!$Q$2:$T$300,3,FALSE))","v":""},null,null,null,null,null,{"$f":"IF(L886=\"\",\"\",VLOOKUP(L886,referentes!$G$2:$N$15,2,FALSE))","v":""},null,null,"",null,null,""]
[null,{"$f":"IF(C887=\"\",\"\",IF(COUNTIF($C$3:C887, C887)>1, \"\", C887))","v":""},{"$f":"IF(G887=\"\",\"\",IF(F887=\"\",\"\",CONCATENATE(DIGITADOR!$M$1,G887,E887)))","v":""},"",{"$f":"IF(F887=\"\",\"\",VLOOKUP(F887,referentes!$Q$2:$T$300,3,FALSE))","v":""},null,null,null,null,null,{"$f":"IF(L887=\"\",\"\",VLOOKUP(L887,referentes!$G$2:$N$15,2,FALSE))","v":""},null,null,"",null,null,""]
[null,{"$f":"IF(C888=\"\",\"\",IF(COUNTIF($C$3:C888, C888)>1, \"\", C888))","v":""},{"$f":"IF(G888=\"\",\"\",IF(F888=\"\",\"\",CONCATENATE(DIGITADOR!$M$1,G888,E888)))","v":""},"",{"$f":"IF(F888=\"\",\"\",VLOOKUP(F888,referentes!$Q$2:$T$300,3,FALSE))","v":""},null,null,null,null,null,{"$f":"IF(L888=\"\",\"\",VLOOKUP(L888,referentes!$G$2:$N$15,2,FALSE))","v":""},null,null,"",null,null,""]
[null,{"$f":"IF(C889=\"\",\"\",IF(COUNTIF($C$3:C889, C889)>1, \"\", C889))","v":""},{"$f":"IF(G889=\"\",\"\",IF(F889=\"\",\"\",CONCATENATE(DIGITADOR!$M$1,G889,E889)))","v":""},"",{"$f":"IF(F889=\"\",\"\",VLOOKUP(F889,referentes!$Q$2:$T$300,3,FALSE))","v":""},null,null,null,null,null,{"$f":"IF(L889=\"\",\"\",VLOOKUP(L889,referentes!$G$2:$N$15,2,FALSE))","v":""},null,null,"",null,null,""]
[null,{"$f":"IF(C890=\"\",\"\",IF(COUNTIF($C$3:C890, C890)>1, \"\", C890))","v":""},{"$f":"IF(G890=\"\",\"\",IF(F890=\"\",\"\",CONCATENATE(DIGITADOR!$M$1,G890,E890)))","v":""},"",{"$f":"IF(F890=\"\",\"\",VLOOKUP(F890,referentes!$Q$2:$T$300,3,FALSE))","v":""},null,null,null,null,null,{"$f":"IF(L890=\"\",\"\",VLOOKUP(L890,referentes!$G$2:$N$15,2,FALSE))","v":""},null,null,"",null,null,""]
[null,{"$f":"IF(C891=\"\",\"\",IF(COUNTIF($C$3:C891, C891)>1, \"\", C891))","v":""},{"$f":"IF(G891=\"\",\"\",IF(F891=\"\",\"\",CONCATENATE(DIGITADOR!$M$1,G891,E891)))","v":""},"",{"$f":"IF(F891=\"\",\"\",VLOOKUP(F891,referentes!$Q$2:$T$300,3,FALSE))","v":""},null,null,null,null,null,{"$f":"IF(L891=\"\",\"\",VLOOKUP(L891,referentes!$G$2:$N$15,2,FALSE))","v":""},null,null,"",null,null,""]
[null,{"$f":"IF(C892=\"\",\"\",IF(COUNTIF($C$3:C892, C892)>1, \"\", C892))","v":""},{"$f":"IF(G892=\"\",\"\",IF(F892=\"\",\"\",CONCATENATE(DIGITADOR!$M$1,G892,E892)))","v":""},"",{"$f":"IF(F892=\"\",\"\",VLOOKUP(F892,referentes!$Q$2:$T$300,3,FALSE))","v":""},null,null,null,null,null,{"$f":"IF(L892=\"\",\"\",VLOOKUP(L892,referentes!$G$2:$N$15,2,FALSE))","v":""},null,null,"",null,null,""]
[null,{"$f":"IF(C893=\"\",\"\",IF(COUNTIF($C$3:C893, C893)>1, \"\", C893))","v":""},{"$f":"IF(G893=\"\",\"\",IF(F893=\"\",\"\",CONCATENATE(DIGITADOR!$M$1,G893,E893)))","v":""},"",{"$f":"IF(F893=\"\",\"\",VLOOKUP(F893,referentes!$Q$2:$T$300,3,FALSE))","v":""},null,null,null,null,null,{"$f":"IF(L893=\"\",\"\",VLOOKUP(L893,referentes!$G$2:$N$15,2,FALSE))","v":""},null,null,"",null,null,""]
[null,{"$f":"IF(C894=\"\",\"\",IF(COUNTIF($C$3:C894, C894)>1, \"\", C894))","v":""},{"$f":"IF(G894=\"\",\"\",IF(F894=\"\",\"\",CONCATENATE(DIGITADOR!$M$1,G894,E894)))","v":""},"",{"$f":"IF(F894=\"\",\"\",VLOOKUP(F894,referentes!$Q$2:$T$300,3,FALSE))","v":""},null,null,null,null,null,{"$f":"IF(L894=\"\",\"\",VLOOKUP(L894,referentes!$G$2:$N$15,2,FALSE))","v":""},null,null,"",null,null,""]
[null,{"$f":"IF(C895=\"\",\"\",IF(COUNTIF($C$3:C895, C895)>1, \"\", C895))","v":""},{"$f":"IF(G895=\"\",\"\",IF(F895=\"\",\"\",CONCATENATE(DIGITADOR!$M$1,G895,E895)))","v":""},"",{"$f":"IF(F895=\"\",\"\",VLOOKUP(F895,referentes!$Q$2:$T$300,3,FALSE))","v":""},null,null,null,null,null,{"$f":"IF(L895=\"\",\"\",VLOOKUP(L895,referentes!$G$2:$N$15,2,FALSE))","v":""},null,null,"",null,null,""]
[null,{"$f":"IF(C896=\"\",\"\",IF(COUNTIF($C$3:C896, C896)>1, \"\", C896))","v":""},{"$f":"IF(G896=\"\",\"\",IF(F896=\"\",\"\",CONCATENATE(DIGITADOR!$M$1,G896,E896)))","v":""},"",{"$f":"IF(F896=\"\",\"\",VLOOKUP(F896,referentes!$Q$2:$T$300,3,FALSE))","v":""},null,null,null,null,null,{"$f":"IF(L896=\"\",\"\",VLOOKUP(L896,referentes!$G$2:$N$15,2,FALSE))","v":""},null,null,"",null,null,""]
[null,{"$f":"IF(C897=\"\",\"\",IF(COUNTIF($C$3:C897, C897)>1, \"\", C897))","v":""},{"$f":"IF(G897=\"\",\"\",IF(F897=\"\",\"\",CONCATENATE(DIGITADOR!$M$1,G897,E897)))","v":""},"",{"$f":"IF(F897=\"\",\"\",VLOOKUP(F897,referentes!$Q$2:$T$300,3,FALSE))","v":""},null,null,null,null,null,{"$f":"IF(L897=\"\",\"\",VLOOKUP(L897,referentes!$G$2:$N$15,2,FALSE))","v":""},null,null,"",null,null,""]
[null,{"$f":"IF(C898=\"\",\"\",IF(COUNTIF($C$3:C898, C898)>1, \"\", C898))","v":""},{"$f":"IF(G898=\"\",\"\",IF(F898=\"\",\"\",CONCATENATE(DIGITADOR!$M$1,G898,E898)))","v":""},"",{"$f":"IF(F898=\"\",\"\",VLOOKUP(F898,referentes!$Q$2:$T$300,3,FALSE))","v":""},null,null,null,null,null,{"$f":"IF(L898=\"\",\"\",VLOOKUP(L898,referentes!$G$2:$N$15,2,FALSE))","v":""},null,null,"",null,null,""]
[null,{"$f":"IF(C899=\"\",\"\",IF(COUNTIF($C$3:C899, C899)>1, \"\", C899))","v":""},{"$f":"IF(G899=\"\",\"\",IF(F899=\"\",\"\",CONCATENATE(DIGITADOR!$M$1,G899,E899)))","v":""},"",{"$f":"IF(F899=\"\",\"\",VLOOKUP(F899,referentes!$Q$2:$T$300,3,FALSE))","v":""},null,null,null,null,null,{"$f":"IF(L899=\"\",\"\",VLOOKUP(L899,referentes!$G$2:$N$15,2,FALSE))","v":""},null,null,"",null,null,""]
[null,{"$f":"IF(C900=\"\",\"\",IF(COUNTIF($C$3:C900, C900)>1, \"\", C900))","v":""},{"$f":"IF(G900=\"\",\"\",IF(F900=\"\",\"\",CONCATENATE(DIGITADOR!$M$1,G900,E900)))","v":""},{"$f":"IF(C900=\"\",\"\",CONCATENATE(C900,ROW()-2))","v":""},{"$f":"IF(F900=\"\",\"\",VLOOKUP(F900,referentes!$Q$2:$T$300,3,FALSE))","v":""},null,null,null,null,null,{"$f":"IF(L900=\"\",\"\",VLOOKUP(L900,referentes!$G$2:$N$15,2,FALSE))","v":""},null,null,{"$f":"IF(M900=\"\",\"\",M900/PI())","v":""},null,null,{"$f":"IF(N900=\"\",\"\",((PI())*((N900/100)^2))/4*10000/500)","v":""}]
[null,{"$f":"IF(C901=\"\",\"\",IF(COUNTIF($C$3:C901, C901)>1, \"\", C901))","v":""},{"$f":"IF(G901=\"\",\"\",IF(F901=\"\",\"\",CONCATENATE(DIGITADOR!$M$1,G901,E901)))","v":""},"",{"$f":"IF(F901=\"\",\"\",VLOOKUP(F901,referentes!$Q$2:$T$300,3,FALSE))","v":""},null,null,null,null,null,{"$f":"IF(L901=\"\",\"\",VLOOKUP(L901,referentes!$G$2:$N$15,2,FALSE))","v":""},null,null,"",null,null,""]
[null,{"$f":"IF(C902=\"\",\"\",IF(COUNTIF($C$3:C902, C902)>1, \"\", C902))","v":""},{"$f":"IF(G902=\"\",\"\",IF(F902=\"\",\"\",CONCATENATE(DIGITADOR!$M$1,G902,E902)))","v":""},"",{"$f":"IF(F902=\"\",\"\",VLOOKUP(F902,referentes!$Q$2:$T$300,3,FALSE))","v":""},null,null,null,null,null,{"$f":"IF(L902=\"\",\"\",VLOOKUP(L902,referentes!$G$2:$N$15,2,FALSE))","v":""},null,null,"",null,null,""]
[null,{"$f":"IF(C903=\"\",\"\",IF(COUNTIF($C$3:C903, C903)>1, \"\", C903))","v":""},{"$f":"IF(G903=\"\",\"\",IF(F903=\"\",\"\",CONCATENATE(DIGITADOR!$M$1,G903,E903)))","v":""},"",{"$f":"IF(F903=\"\",\"\",VLOOKUP(F903,referentes!$Q$2:$T$300,3,FALSE))","v":""},null,null,null,null,null,{"$f":"IF(L903=\"\",\"\",VLOOKUP(L903,referentes!$G$2:$N$15,2,FALSE))","v":""},null,null,"",null,null,""]
[null,{"$f":"IF(C904=\"\",\"\",IF(COUNTIF($C$3:C904, C904)>1, \"\", C904))","v":""},{"$f":"IF(G904=\"\",\"\",IF(F904=\"\",\"\",CONCATENATE(DIGITADOR!$M$1,G904,E904)))","v":""},"",{"$f":"IF(F904=\"\",\"\",VLOOKUP(F904,referentes!$Q$2:$T$300,3,FALSE))","v":""},null,null,null,null,null,{"$f":"IF(L904=\"\",\"\",VLOOKUP(L904,referentes!$G$2:$N$15,2,FALSE))","v":""},null,null,"",null,null,""]
[null,{"$f":"IF(C905=\"\",\"\",IF(COUNTIF($C$3:C905, C905)>1, \"\", C905))","v":""},{"$f":"IF(G905=\"\",\"\",IF(F905=\"\",\"\",CONCATENATE(DIGITADOR!$M$1,G905,E905)))","v":""},"",{"$f":"IF(F905=\"\",\"\",VLOOKUP(F905,referentes!$Q$2:$T$300,3,FALSE))","v":""},null,null,null,null,null,{"$f":"IF(L905=\"\",\"\",VLOOKUP(L905,referentes!$G$2:$N$15,2,FALSE))","v":""},null,null,"",null,null,""]
[null,{"$f":"IF(C906=\"\",\"\",IF(COUNTIF($C$3:C906, C906)>1, \"\", C906))","v":""},{"$f":"IF(G906=\"\",\"\",IF(F906=\"\",\"\",CONCATENATE(DIGITADOR!$M$1,G906,E906)))","v":""},"",{"$f":"IF(F906=\"\",\"\",VLOOKUP(F906,referentes!$Q$2:$T$300,3,FALSE))","v":""},null,null,null,null,null,{"$f":"IF(L906=\"\",\"\",VLOOKUP(L906,referentes!$G$2:$N$15,2,FALSE))","v":""},null,null,"",null,null,""]
[null,{"$f":"IF(C907=\"\",\"\",IF(COUNTIF($C$3:C907, C907)>1, \"\", C907))","v":""},{"$f":"IF(G907=\"\",\"\",IF(F907=\"\",\"\",CONCATENATE(DIGITADOR!$M$1,G907,E907)))","v":""},"",{"$f":"IF(F907=\"\",\"\",VLOOKUP(F907,referentes!$Q$2:$T$300,3,FALSE))","v":""},null,null,null,null,null,{"$f":"IF(L907=\"\",\"\",VLOOKUP(L907,referentes!$G$2:$N$15,2,FALSE))","v":""},null,null,"",null,null,""]
[null,{"$f":"IF(C908=\"\",\"\",IF(COUNTIF($C$3:C908, C908)>1, \"\", C908))","v":""},{"$f":"IF(G908=\"\",\"\",IF(F908=\"\",\"\",CONCATENATE(DIGITADOR!$M$1,G908,E908)))","v":""},"",{"$f":"IF(F908=\"\",\"\",VLOOKUP(F908,referentes!$Q$2:$T$300,3,FALSE))","v":""},null,null,null,null,null,{"$f":"IF(L908=\"\",\"\",VLOOKUP(L908,referentes!$G$2:$N$15,2,FALSE))","v":""},null,null,"",null,null,""]
[null,{"$f":"IF(C909=\"\",\"\",IF(COUNTIF($C$3:C909, C909)>1, \"\", C909))","v":""},{"$f":"IF(G909=\"\",\"\",IF(F909=\"\",\"\",CONCATENATE(DIGITADOR!$M$1,G909,E909)))","v":""},"",{"$f":"IF(F909=\"\",\"\",VLOOKUP(F909,referentes!$Q$2:$T$300,3,FALSE))","v":""},null,null,null,null,null,{"$f":"IF(L909=\"\",\"\",VLOOKUP(L909,referentes!$G$2:$N$15,2,FALSE))","v":""},null,null,"",null,null,""]
[null,{"$f":"IF(C910=\"\",\"\",IF(COUNTIF($C$3:C910, C910)>1, \"\", C910))","v":""},{"$f":"IF(G910=\"\",\"\",IF(F910=\"\",\"\",CONCATENATE(DIGITADOR!$M$1,G910,E910)))","v":""},"",{"$f":"IF(F910=\"\",\"\",VLOOKUP(F910,referentes!$Q$2:$T$300,3,FALSE))","v":""},null,null,null,null,null,{"$f":"IF(L910=\"\",\"\",VLOOKUP(L910,referentes!$G$2:$N$15,2,FALSE))","v":""},null,null,"",null,null,""]
[null,{"$f":"IF(C911=\"\",\"\",IF(COUNTIF($C$3:C911, C911)>1, \"\", C911))","v":""},{"$f":"IF(G911=\"\",\"\",IF(F911=\"\",\"\",CONCATENATE(DIGITADOR!$M$1,G911,E911)))","v":""},"",{"$f":"IF(F911=\"\",\"\",VLOOKUP(F911,referentes!$Q$2:$T$300,3,FALSE))","v":""},null,null,null,null,null,{"$f":"IF(L911=\"\",\"\",VLOOKUP(L911,referentes!$G$2:$N$15,2,FALSE))","v":""},null,null,"",null,null,""]
[null,{"$f":"IF(C912=\"\",\"\",IF(COUNTIF($C$3:C912, C912)>1, \"\", C912))","v":""},{"$f":"IF(G912=\"\",\"\",IF(F912=\"\",\"\",CONCATENATE(DIGITADOR!$M$1,G912,E912)))","v":""},"",{"$f":"IF(F912=\"\",\"\",VLOOKUP(F912,referentes!$Q$2:$T$300,3,FALSE))","v":""},null,null,null,null,null,{"$f":"IF(L912=\"\",\"\",VLOOKUP(L912,referentes!$G$2:$N$15,2,FALSE))","v":""},null,null,"",null,null,""]
[null,{"$f":"IF(C913=\"\",\"\",IF(COUNTIF($C$3:C913, C913)>1, \"\", C913))","v":""},{"$f":"IF(G913=\"\",\"\",IF(F913=\"\",\"\",CONCATENATE(DIGITADOR!$M$1,G913,E913)))","v":""},"",{"$f":"IF(F913=\"\",\"\",VLOOKUP(F913,referentes!$Q$2:$T$300,3,FALSE))","v":""},null,null,null,null,null,{"$f":"IF(L913=\"\",\"\",VLOOKUP(L913,referentes!$G$2:$N$15,2,FALSE))","v":""},null,null,"",null,null,""]
[null,{"$f":"IF(C914=\"\",\"\",IF(COUNTIF($C$3:C914, C914)>1, \"\", C914))","v":""},{"$f":"IF(G914=\"\",\"\",IF(F914=\"\",\"\",CONCATENATE(DIGITADOR!$M$1,G914,E914)))","v":""},"",{"$f":"IF(F914=\"\",\"\",VLOOKUP(F914,referentes!$Q$2:$T$300,3,FALSE))","v":""},null,null,null,null,null,{"$f":"IF(L914=\"\",\"\",VLOOKUP(L914,referentes!$G$2:$N$15,2,FALSE))","v":""},null,null,"",null,null,""]
[null,{"$f":"IF(C915=\"\",\"\",IF(COUNTIF($C$3:C915, C915)>1, \"\", C915))","v":""},{"$f":"IF(G915=\"\",\"\",IF(F915=\"\",\"\",CONCATENATE(DIGITADOR!$M$1,G915,E915)))","v":""},"",{"$f":"IF(F915=\"\",\"\",VLOOKUP(F915,referentes!$Q$2:$T$300,3,FALSE))","v":""},null,null,null,null,null,{"$f":"IF(L915=\"\",\"\",VLOOKUP(L915,referentes!$G$2:$N$15,2,FALSE))","v":""},null,null,"",null,null,""]
[null,{"$f":"IF(C916=\"\",\"\",IF(COUNTIF($C$3:C916, C916)>1, \"\", C916))","v":""},{"$f":"IF(G916=\"\",\"\",IF(F916=\"\",\"\",CONCATENATE(DIGITADOR!$M$1,G916,E916)))","v":""},"",{"$f":"IF(F916=\"\",\"\",VLOOKUP(F916,referentes!$Q$2:$T$300,3,FALSE))","v":""},null,null,null,null,null,{"$f":"IF(L916=\"\",\"\",VLOOKUP(L916,referentes!$G$2:$N$15,2,FALSE))","v":""},null,null,"",null,null,""]
[null,{"$f":"IF(C917=\"\",\"\",IF(COUNTIF($C$3:C917, C917)>1, \"\", C917))","v":""},{"$f":"IF(G917=\"\",\"\",IF(F917=\"\",\"\",CONCATENATE(DIGITADOR!$M$1,G917,E917)))","v":""},"",{"$f":"IF(F917=\"\",\"\",VLOOKUP(F917,referentes!$Q$2:$T$300,3,FALSE))","v":""},null,null,null,null,null,{"$f":"IF(L917=\"\",\"\",VLOOKUP(L917,referentes!$G$2:$N$15,2,FALSE))","v":""},null,null,"",null,null,""]
[null,{"$f":"IF(C918=\"\",\"\",IF(COUNTIF($C$3:C918, C918)>1, \"\", C918))","v":""},{"$f":"IF(G918=\"\",\"\",IF(F918=\"\",\"\",CONCATENATE(DIGITADOR!$M$1,G918,E918)))","v":""},"",{"$f":"IF(F918=\"\",\"\",VLOOKUP(F918,referentes!$Q$2:$T$300,3,FALSE))","v":""},null,null,null,null,null,{"$f":"IF(L918=\"\",\"\",VLOOKUP(L918,referentes!$G$2:$N$15,2,FALSE))","v":""},null,null,"",null,null,""]
[null,{"$f":"IF(C919=\"\",\"\",IF(COUNTIF($C$3:C919, C919)>1, \"\", C919))","v":""},{"$f":"IF(G919=\"\",\"\",IF(F919=\"\",\"\",CONCATENATE(DIGITADOR!$M$1,G919,E919)))","v":""},"",{"$f":"IF(F919=\"\",\"\",VLOOKUP(F919,referentes!$Q$2:$T$300,3,FALSE))","v":""},null,null,null,null,null,{"$f":"IF(L919=\"\",\"\",VLOOKUP(L919,referentes!$G$2:$N$15,2,FALSE))","v":""},null,null,"",null,null,""]
[null,{"$f":"IF(C920=\"\",\"\",IF(COUNTIF($C$3:C920, C920)>1, \"\", C920))","v":""},{"$f":"IF(G920=\"\",\"\",IF(F920=\"\",\"\",CONCATENATE(DIGITADOR!$M$1,G920,E920)))","v":""},"",{"$f":"IF(F920=\"\",\"\",VLOOKUP(F920,referentes!$Q$2:$T$300,3,FALSE))","v":""},null,null,null,null,null,{"$f":"IF(L920=\"\",\"\",VLOOKUP(L920,referentes!$G$2:$N$15,2,FALSE))","v":""},null,null,"",null,null,""]
[null,{"$f":"IF(C921=\"\",\"\",IF(COUNTIF($C$3:C921, C921)>1, \"\", C921))","v":""},{"$f":"IF(G921=\"\",\"\",IF(F921=\"\",\"\",CONCATENATE(DIGITADOR!$M$1,G921,E921)))","v":""},"",{"$f":"IF(F921=\"\",\"\",VLOOKUP(F921,referentes!$Q$2:$T$300,3,FALSE))","v":""},null,null,null,null,null,{"$f":"IF(L921=\"\",\"\",VLOOKUP(L921,referentes!$G$2:$N$15,2,FALSE))","v":""},null,null,"",null,null,""]
[null,{"$f":"IF(C922=\"\",\"\",IF(COUNTIF($C$3:C922, C922)>1, \"\", C922))","v":""},{"$f":"IF(G922=\"\",\"\",IF(F922=\"\",\"\",CONCATENATE(DIGITADOR!$M$1,G922,E922)))","v":""},"",{"$f":"IF(F922=\"\",\"\",VLOOKUP(F922,referentes!$Q$2:$T$300,3,FALSE))","v":""},null,null,null,null,null,{"$f":"IF(L922=\"\",\"\",VLOOKUP(L922,referentes!$G$2:$N$15,2,FALSE))","v":""},null,null,"",null,null,""]
[null,{"$f":"IF(C923=\"\",\"\",IF(COUNTIF($C$3:C923, C923)>1, \"\", C923))","v":""},{"$f":"IF(G923=\"\",\"\",IF(F923=\"\",\"\",CONCATENATE(DIGITADOR!$M$1,G923,E923)))","v":""},"",{"$f":"IF(F923=\"\",\"\",VLOOKUP(F923,referentes!$Q$2:$T$300,3,FALSE))","v":""},null,null,null,null,null,{"$f":"IF(L923=\"\",\"\",VLOOKUP(L923,referentes!$G$2:$N$15,2,FALSE))","v":""},null,null,"",null,null,""]
[null,{"$f":"IF(C924=\"\",\"\",IF(COUNTIF($C$3:C924, C924)>1, \"\", C924))","v":""},{"$f":"IF(G924=\"\",\"\",IF(F924=\"\",\"\",CONCATENATE(DIGITADOR!$M$1,G924,E924)))","v":""},"",{"$f":"IF(F924=\"\",\"\",VLOOKUP(F924,referentes!$Q$2:$T$300,3,FALSE))","v":""},null,null,null,null,null,{"$f":"IF(L924=\"\",\"\",VLOOKUP(L924,referentes!$G$2:$N$15,2,FALSE))","v":""},null,null,"",null,null,""]
[null,{"$f":"IF(C925=\"\",\"\",IF(COUNTIF($C$3:C925, C925)>1, \"\", C925))","v":""},{"$f":"IF(G925=\"\",\"\",IF(F925=\"\",\"\",CONCATENATE(DIGITADOR!$M$1,G925,E925)))","v":""},"",{"$f":"IF(F925=\"\",\"\",VLOOKUP(F925,referentes!$Q$2:$T$300,3,FALSE))","v":""},null,null,null,null,null,{"$f":"IF(L925=\"\",\"\",VLOOKUP(L925,referentes!$G$2:$N$15,2,FALSE))","v":""},null,null,"",null,null,""]
[null,{"$f":"IF(C926=\"\",\"\",IF(COUNTIF($C$3:C926, C926)>1, \"\", C926))","v":""},{"$f":"IF(G926=\"\",\"\",IF(F926=\"\",\"\",CONCATENATE(DIGITADOR!$M$1,G926,E926)))","v":""},"",{"$f":"IF(F926=\"\",\"\",VLOOKUP(F926,referentes!$Q$2:$T$300,3,FALSE))","v":""},null,null,null,null,null,{"$f":"IF(L926=\"\",\"\",VLOOKUP(L926,referentes!$G$2:$N$15,2,FALSE))","v":""},null,null,"",null,null,""]
[null,{"$f":"IF(C927=\"\",\"\",IF(COUNTIF($C$3:C927, C927)>1, \"\", C927))","v":""},{"$f":"IF(G927=\"\",\"\",IF(F927=\"\",\"\",CONCATENATE(DIGITADOR!$M$1,G927,E927)))","v":""},"",{"$f":"IF(F927=\"\",\"\",VLOOKUP(F927,referentes!$Q$2:$T$300,3,FALSE))","v":""},null,null,null,null,null,{"$f":"IF(L927=\"\",\"\",VLOOKUP(L927,referentes!$G$2:$N$15,2,FALSE))","v":""},null,null,"",null,null,""]
[null,{"$f":"IF(C928=\"\",\"\",IF(COUNTIF($C$3:C928, C928)>1, \"\", C928))","v":""},{"$f":"IF(G928=\"\",\"\",IF(F928=\"\",\"\",CONCATENATE(DIGITADOR!$M$1,G928,E928)))","v":""},"",{"$f":"IF(F928=\"\",\"\",VLOOKUP(F928,referentes!$Q$2:$T$300,3,FALSE))","v":""},null,null,null,null,null,{"$f":"IF(L928=\"\",\"\",VLOOKUP(L928,referentes!$G$2:$N$15,2,FALSE))","v":""},null,null,"",null,null,""]
[null,{"$f":"IF(C929=\"\",\"\",IF(COUNTIF($C$3:C929, C929)>1, \"\", C929))","v":""},{"$f":"IF(G929=\"\",\"\",IF(F929=\"\",\"\",CONCATENATE(DIGITADOR!$M$1,G929,E929)))","v":""},"",{"$f":"IF(F929=\"\",\"\",VLOOKUP(F929,referentes!$Q$2:$T$300,3,FALSE))","v":""},null,null,null,null,null,{"$f":"IF(L929=\"\",\"\",VLOOKUP(L929,referentes!$G$2:$N$15,2,FALSE))","v":""},null,null,"",null,null,""]
[null,{"$f":"IF(C930=\"\",\"\",IF(COUNTIF($C$3:C930, C930)>1, \"\", C930))","v":""},{"$f":"IF(G930=\"\",\"\",IF(F930=\"\",\"\",CONCATENATE(DIGITADOR!$M$1,G930,E930)))","v":""},"",{"$f":"IF(F930=\"\",\"\",VLOOKUP(F930,referentes!$Q$2:$T$300,3,FALSE))","v":""},null,null,null,null,null,{"$f":"IF(L930=\"\",\"\",VLOOKUP(L930,referentes!$G$2:$N$15,2,FALSE))","v":""},null,null,"",null,null,""]
[null,{"$f":"IF(C931=\"\",\"\",IF(COUNTIF($C$3:C931, C931)>1, \"\", C931))","v":""},{"$f":"IF(G931=\"\",\"\",IF(F931=\"\",\"\",CONCATENATE(DIGITADOR!$M$1,G931,E931)))","v":""},"",{"$f":"IF(F931=\"\",\"\",VLOOKUP(F931,referentes!$Q$2:$T$300,3,FALSE))","v":""},null,null,null,null,null,{"$f":"IF(L931=\"\",\"\",VLOOKUP(L931,referentes!$G$2:$N$15,2,FALSE))","v":""},null,null,"",null,null,""]
[null,{"$f":"IF(C932=\"\",\"\",IF(COUNTIF($C$3:C932, C932)>1, \"\", C932))","v":""},{"$f":"IF(G932=\"\",\"\",IF(F932=\"\",\"\",CONCATENATE(DIGITADOR!$M$1,G932,E932)))","v":""},"",{"$f":"IF(F932=\"\",\"\",VLOOKUP(F932,referentes!$Q$2:$T$300,3,FALSE))","v":""},null,null,null,null,null,{"$f":"IF(L932=\"\",\"\",VLOOKUP(L932,referentes!$G$2:$N$15,2,FALSE))","v":""},null,null,"",null,null,""]
[null,{"$f":"IF(C933=\"\",\"\",IF(COUNTIF($C$3:C933, C933)>1, \"\", C933))","v":""},{"$f":"IF(G933=\"\",\"\",IF(F933=\"\",\"\",CONCATENATE(DIGITADOR!$M$1,G933,E933)))","v":""},"",{"$f":"IF(F933=\"\",\"\",VLOOKUP(F933,referentes!$Q$2:$T$300,3,FALSE))","v":""},null,null,null,null,null,{"$f":"IF(L933=\"\",\"\",VLOOKUP(L933,referentes!$G$2:$N$15,2,FALSE))","v":""},null,null,"",null,null,""]
[null,{"$f":"IF(C934=\"\",\"\",IF(COUNTIF($C$3:C934, C934)>1, \"\", C934))","v":""},{"$f":"IF(G934=\"\",\"\",IF(F934=\"\",\"\",CONCATENATE(DIGITADOR!$M$1,G934,E934)))","v":""},"",{"$f":"IF(F934=\"\",\"\",VLOOKUP(F934,referentes!$Q$2:$T$300,3,FALSE))","v":""},null,null,null,null,null,{"$f":"IF(L934=\"\",\"\",VLOOKUP(L934,referentes!$G$2:$N$15,2,FALSE))","v":""},null,null,"",null,null,""]
[null,{"$f":"IF(C935=\"\",\"\",IF(COUNTIF($C$3:C935, C935)>1, \"\", C935))","v":""},{"$f":"IF(G935=\"\",\"\",IF(F935=\"\",\"\",CONCATENATE(DIGITADOR!$M$1,G935,E935)))","v":""},"",{"$f":"IF(F935=\"\",\"\",VLOOKUP(F935,referentes!$Q$2:$T$300,3,FALSE))","v":""},null,null,null,null,null,{"$f":"IF(L935=\"\",\"\",VLOOKUP(L935,referentes!$G$2:$N$15,2,FALSE))","v":""},null,null,"",null,null,""]
[null,{"$f":"IF(C936=\"\",\"\",IF(COUNTIF($C$3:C936, C936)>1, \"\", C936))","v":""},{"$f":"IF(G936=\"\",\"\",IF(F936=\"\",\"\",CONCATENATE(DIGITADOR!$M$1,G936,E936)))","v":""},"",{"$f":"IF(F936=\"\",\"\",VLOOKUP(F936,referentes!$Q$2:$T$300,3,FALSE))","v":""},null,null,null,null,null,{"$f":"IF(L936=\"\",\"\",VLOOKUP(L936,referentes!$G$2:$N$15,2,FALSE))","v":""},null,null,"",null,null,""]
[null,{"$f":"IF(C937=\"\",\"\",IF(COUNTIF($C$3:C937, C937)>1, \"\", C937))","v":""},{"$f":"IF(G937=\"\",\"\",IF(F937=\"\",\"\",CONCATENATE(DIGITADOR!$M$1,G937,E937)))","v":""},"",{"$f":"IF(F937=\"\",\"\",VLOOKUP(F937,referentes!$Q$2:$T$300,3,FALSE))","v":""},null,null,null,null,null,{"$f":"IF(L937=\"\",\"\",VLOOKUP(L937,referentes!$G$2:$N$15,2,FALSE))","v":""},null,null,"",null,null,""]
[null,{"$f":"IF(C938=\"\",\"\",IF(COUNTIF($C$3:C938, C938)>1, \"\", C938))","v":""},{"$f":"IF(G938=\"\",\"\",IF(F938=\"\",\"\",CONCATENATE(DIGITADOR!$M$1,G938,E938)))","v":""},"",{"$f":"IF(F938=\"\",\"\",VLOOKUP(F938,referentes!$Q$2:$T$300,3,FALSE))","v":""},null,null,null,null,null,{"$f":"IF(L938=\"\",\"\",VLOOKUP(L938,referentes!$G$2:$N$15,2,FALSE))","v":""},null,null,"",null,null,""]
[null,{"$f":"IF(C939=\"\",\"\",IF(COUNTIF($C$3:C939, C939)>1, \"\", C939))","v":""},{"$f":"IF(G939=\"\",\"\",IF(F939=\"\",\"\",CONCATENATE(DIGITADOR!$M$1,G939,E939)))","v":""},"",{"$f":"IF(F939=\"\",\"\",VLOOKUP(F939,referentes!$Q$2:$T$300,3,FALSE))","v":""},null,null,null,null,null,{"$f":"IF(L939=\"\",\"\",VLOOKUP(L939,referentes!$G$2:$N$15,2,FALSE))","v":""},null,null,"",null,null,""]
[null,{"$f":"IF(C940=\"\",\"\",IF(COUNTIF($C$3:C940, C940)>1, \"\", C940))","v":""},{"$f":"IF(G940=\"\",\"\",IF(F940=\"\",\"\",CONCATENATE(DIGITADOR!$M$1,G940,E940)))","v":""},"",{"$f":"IF(F940=\"\",\"\",VLOOKUP(F940,referentes!$Q$2:$T$300,3,FALSE))","v":""},null,null,null,null,null,{"$f":"IF(L940=\"\",\"\",VLOOKUP(L940,referentes!$G$2:$N$15,2,FALSE))","v":""},null,null,"",null,null,""]
[null,{"$f":"IF(C941=\"\",\"\",IF(COUNTIF($C$3:C941, C941)>1, \"\", C941))","v":""},{"$f":"IF(G941=\"\",\"\",IF(F941=\"\",\"\",CONCATENATE(DIGITADOR!$M$1,G941,E941)))","v":""},"",{"$f":"IF(F941=\"\",\"\",VLOOKUP(F941,referentes!$Q$2:$T$300,3,FALSE))","v":""},null,null,null,null,null,{"$f":"IF(L941=\"\",\"\",VLOOKUP(L941,referentes!$G$2:$N$15,2,FALSE))","v":""},null,null,"",null,null,""]
[null,{"$f":"IF(C942=\"\",\"\",IF(COUNTIF($C$3:C942, C942)>1, \"\", C942))","v":""},{"$f":"IF(G942=\"\",\"\",IF(F942=\"\",\"\",CONCATENATE(DIGITADOR!$M$1,G942,E942)))","v":""},"",{"$f":"IF(F942=\"\",\"\",VLOOKUP(F942,referentes!$Q$2:$T$300,3,FALSE))","v":""},null,null,null,null,null,{"$f":"IF(L942=\"\",\"\",VLOOKUP(L942,referentes!$G$2:$N$15,2,FALSE))","v":""},null,null,"",null,null,""]
[null,{"$f":"IF(C943=\"\",\"\",IF(COUNTIF($C$3:C943, C943)>1, \"\", C943))","v":""},{"$f":"IF(G943=\"\",\"\",IF(F943=\"\",\"\",CONCATENATE(DIGITADOR!$M$1,G943,E943)))","v":""},"",{"$f":"IF(F943=\"\",\"\",VLOOKUP(F943,referentes!$Q$2:$T$300,3,FALSE))","v":""},null,null,null,null,null,{"$f":"IF(L943=\"\",\"\",VLOOKUP(L943,referentes!$G$2:$N$15,2,FALSE))","v":""},null,null,"",null,null,""]
[null,{"$f":"IF(C944=\"\",\"\",IF(COUNTIF($C$3:C944, C944)>1, \"\", C944))","v":""},{"$f":"IF(G944=\"\",\"\",IF(F944=\"\",\"\",CONCATENATE(DIGITADOR!$M$1,G944,E944)))","v":""},"",{"$f":"IF(F944=\"\",\"\",VLOOKUP(F944,referentes!$Q$2:$T$300,3,FALSE))","v":""},null,null,null,null,null,{"$f":"IF(L944=\"\",\"\",VLOOKUP(L944,referentes!$G$2:$N$15,2,FALSE))","v":""},null,null,"",null,null,""]
[null,{"$f":"IF(C945=\"\",\"\",IF(COUNTIF($C$3:C945, C945)>1, \"\", C945))","v":""},{"$f":"IF(G945=\"\",\"\",IF(F945=\"\",\"\",CONCATENATE(DIGITADOR!$M$1,G945,E945)))","v":""},"",{"$f":"IF(F945=\"\",\"\",VLOOKUP(F945,referentes!$Q$2:$T$300,3,FALSE))","v":""},null,null,null,null,null,{"$f":"IF(L945=\"\",\"\",VLOOKUP(L945,referentes!$G$2:$N$15,2,FALSE))","v":""},null,null,"",null,null,""]
[null,{"$f":"IF(C946=\"\",\"\",IF(COUNTIF($C$3:C946, C946)>1, \"\", C946))","v":""},{"$f":"IF(G946=\"\",\"\",IF(F946=\"\",\"\",CONCATENATE(DIGITADOR!$M$1,G946,E946)))","v":""},"",{"$f":"IF(F946=\"\",\"\",VLOOKUP(F946,referentes!$Q$2:$T$300,3,FALSE))","v":""},null,null,null,null,null,{"$f":"IF(L946=\"\",\"\",VLOOKUP(L946,referentes!$G$2:$N$15,2,FALSE))","v":""},null,null,"",null,null,""]
[null,{"$f":"IF(C947=\"\",\"\",IF(COUNTIF($C$3:C947, C947)>1, \"\", C947))","v":""},{"$f":"IF(G947=\"\",\"\",IF(F947=\"\",\"\",CONCATENATE(DIGITADOR!$M$1,G947,E947)))","v":""},"",{"$f":"IF(F947=\"\",\"\",VLOOKUP(F947,referentes!$Q$2:$T$300,3,FALSE))","v":""},null,null,null,null,null,{"$f":"IF(L947=\"\",\"\",VLOOKUP(L947,referentes!$G$2:$N$15,2,FALSE))","v":""},null,null,"",null,null,""]
[null,{"$f":"IF(C948=\"\",\"\",IF(COUNTIF($C$3:C948, C948)>1, \"\", C948))","v":""},{"$f":"IF(G948=\"\",\"\",IF(F948=\"\",\"\",CONCATENATE(DIGITADOR!$M$1,G948,E948)))","v":""},"",{"$f":"IF(F948=\"\",\"\",VLOOKUP(F948,referentes!$Q$2:$T$300,3,FALSE))","v":""},null,null,null,null,null,{"$f":"IF(L948=\"\",\"\",VLOOKUP(L948,referentes!$G$2:$N$15,2,FALSE))","v":""},null,null,"",null,null,""]
[null,{"$f":"IF(C949=\"\",\"\",IF(COUNTIF($C$3:C949, C949)>1, \"\", C949))","v":""},{"$f":"IF(G949=\"\",\"\",IF(F949=\"\",\"\",CONCATENATE(DIGITADOR!$M$1,G949,E949)))","v":""},"",{"$f":"IF(F949=\"\",\"\",VLOOKUP(F949,referentes!$Q$2:$T$300,3,FALSE))","v":""},null,null,null,null,null,{"$f":"IF(L949=\"\",\"\",VLOOKUP(L949,referentes!$G$2:$N$15,2,FALSE))","v":""},null,null,"",null,null,""]
[null,{"$f":"IF(C950=\"\",\"\",IF(COUNTIF($C$3:C950, C950)>1, \"\", C950))","v":""},{"$f":"IF(G950=\"\",\"\",IF(F950=\"\",\"\",CONCATENATE(DIGITADOR!$M$1,G950,E950)))","v":""},"",{"$f":"IF(F950=\"\",\"\",VLOOKUP(F950,referentes!$Q$2:$T$300,3,FALSE))","v":""},null,null,null,null,null,{"$f":"IF(L950=\"\",\"\",VLOOKUP(L950,referentes!$G$2:$N$15,2,FALSE))","v":""},null,null,"",null,null,""]
[null,{"$f":"IF(C951=\"\",\"\",IF(COUNTIF($C$3:C951, C951)>1, \"\", C951))","v":""},{"$f":"IF(G951=\"\",\"\",IF(F951=\"\",\"\",CONCATENATE(DIGITADOR!$M$1,G951,E951)))","v":""},"",{"$f":"IF(F951=\"\",\"\",VLOOKUP(F951,referentes!$Q$2:$T$300,3,FALSE))","v":""},null,null,null,null,null,{"$f":"IF(L951=\"\",\"\",VLOOKUP(L951,referentes!$G$2:$N$15,2,FALSE))","v":""},null,null,"",null,null,""]
[null,{"$f":"IF(C952=\"\",\"\",IF(COUNTIF($C$3:C952, C952)>1, \"\", C952))","v":""},{"$f":"IF(G952=\"\",\"\",IF(F952=\"\",\"\",CONCATENATE(DIGITADOR!$M$1,G952,E952)))","v":""},"",{"$f":"IF(F952=\"\",\"\",VLOOKUP(F952,referentes!$Q$2:$T$300,3,FALSE))","v":""},null,null,null,null,null,{"$f":"IF(L952=\"\",\"\",VLOOKUP(L952,referentes!$G$2:$N$15,2,FALSE))","v":""},null,null,"",null,null,""]
[null,{"$f":"IF(C953=\"\",\"\",IF(COUNTIF($C$3:C953, C953)>1, \"\", C953))","v":""},{"$f":"IF(G953=\"\",\"\",IF(F953=\"\",\"\",CONCATENATE(DIGITADOR!$M$1,G953,E953)))","v":""},"",{"$f":"IF(F953=\"\",\"\",VLOOKUP(F953,referentes!$Q$2:$T$300,3,FALSE))","v":""},null,null,null,null,null,{"$f":"IF(L953=\"\",\"\",VLOOKUP(L953,referentes!$G$2:$N$15,2,FALSE))","v":""},null,null,"",null,null,""]
[null,{"$f":"IF(C954=\"\",\"\",IF(COUNTIF($C$3:C954, C954)>1, \"\", C954))","v":""},{"$f":"IF(G954=\"\",\"\",IF(F954=\"\",\"\",CONCATENATE(DIGITADOR!$M$1,G954,E954)))","v":""},"",{"$f":"IF(F954=\"\",\"\",VLOOKUP(F954,referentes!$Q$2:$T$300,3,FALSE))","v":""},null,null,null,null,null,{"$f":"IF(L954=\"\",\"\",VLOOKUP(L954,referentes!$G$2:$N$15,2,FALSE))","v":""},null,null,"",null,null,""]
[null,{"$f":"IF(C955=\"\",\"\",IF(COUNTIF($C$3:C955, C955)>1, \"\", C955))","v":""},{"$f":"IF(G955=\"\",\"\",IF(F955=\"\",\"\",CONCATENATE(DIGITADOR!$M$1,G955,E955)))","v":""},"",{"$f":"IF(F955=\"\",\"\",VLOOKUP(F955,referentes!$Q$2:$T$300,3,FALSE))","v":""},null,null,null,null,null,{"$f":"IF(L955=\"\",\"\",VLOOKUP(L955,referentes!$G$2:$N$15,2,FALSE))","v":""},null,null,"",null,null,""]
[null,{"$f":"IF(C956=\"\",\"\",IF(COUNTIF($C$3:C956, C956)>1, \"\", C956))","v":""},{"$f":"IF(G956=\"\",\"\",IF(F956=\"\",\"\",CONCATENATE(DIGITADOR!$M$1,G956,E956)))","v":""},"",{"$f":"IF(F956=\"\",\"\",VLOOKUP(F956,referentes!$Q$2:$T$300,3,FALSE))","v":""},null,null,null,null,null,{"$f":"IF(L956=\"\",\"\",VLOOKUP(L956,referentes!$G$2:$N$15,2,FALSE))","v":""},null,null,"",null,null,""]
[null,{"$f":"IF(C957=\"\",\"\",IF(COUNTIF($C$3:C957, C957)>1, \"\", C957))","v":""},{"$f":"IF(G957=\"\",\"\",IF(F957=\"\",\"\",CONCATENATE(DIGITADOR!$M$1,G957,E957)))","v":""},"",{"$f":"IF(F957=\"\",\"\",VLOOKUP(F957,referentes!$Q$2:$T$300,3,FALSE))","v":""},null,null,null,null,null,{"$f":"IF(L957=\"\",\"\",VLOOKUP(L957,referentes!$G$2:$N$15,2,FALSE))","v":""},null,null,"",null,null,""]
[null,{"$f":"IF(C958=\"\",\"\",IF(COUNTIF($C$3:C958, C958)>1, \"\", C958))","v":""},{"$f":"IF(G958=\"\",\"\",IF(F958=\"\",\"\",CONCATENATE(DIGITADOR!$M$1,G958,E958)))","v":""},"",{"$f":"IF(F958=\"\",\"\",VLOOKUP(F958,referentes!$Q$2:$T$300,3,FALSE))","v":""},null,null,null,null,null,{"$f":"IF(L958=\"\",\"\",VLOOKUP(L958,referentes!$G$2:$N$15,2,FALSE))","v":""},null,null,"",null,null,""]
[null,{"$f":"IF(C959=\"\",\"\",IF(COUNTIF($C$3:C959, C959)>1, \"\", C959))","v":""},{"$f":"IF(G959=\"\",\"\",IF(F959=\"\",\"\",CONCATENATE(DIGITADOR!$M$1,G959,E959)))","v":""},"",{"$f":"IF(F959=\"\",\"\",VLOOKUP(F959,referentes!$Q$2:$T$300,3,FALSE))","v":""},null,null,null,null,null,{"$f":"IF(L959=\"\",\"\",VLOOKUP(L959,referentes!$G$2:$N$15,2,FALSE))","v":""},null,null,"",null,null,""]
[null,{"$f":"IF(C960=\"\",\"\",IF(COUNTIF($C$3:C960, C960)>1, \"\", C960))","v":""},{"$f":"IF(G960=\"\",\"\",IF(F960=\"\",\"\",CONCATENATE(DIGITADOR!$M$1,G960,E960)))","v":""},"",{"$f":"IF(F960=\"\",\"\",VLOOKUP(F960,referentes!$Q$2:$T$300,3,FALSE))","v":""},null,null,null,null,null,{"$f":"IF(L960=\"\",\"\",VLOOKUP(L960,referentes!$G$2:$N$15,2,FALSE))","v":""},null,null,"",null,null,""]
[null,{"$f":"IF(C961=\"\",\"\",IF(COUNTIF($C$3:C961, C961)>1, \"\", C961))","v":""},{"$f":"IF(G961=\"\",\"\",IF(F961=\"\",\"\",CONCATENATE(DIGITADOR!$M$1,G961,E961)))","v":""},"",{"$f":"IF(F961=\"\",\"\",VLOOKUP(F961,referentes!$Q$2:$T$300,3,FALSE))","v":""},null,null,null,null,null,{"$f":"IF(L961=\"\",\"\",VLOOKUP(L961,referentes!$G$2:$N$15,2,FALSE))","v":""},null,null,"",null,null,""]
[null,{"$f":"IF(C962=\"\",\"\",IF(COUNTIF($C$3:C962, C962)>1, \"\", C962))","v":""},{"$f":"IF(G962=\"\",\"\",IF(F962=\"\",\"\",CONCATENATE(DIGITADOR!$M$1,G962,E962)))","v":""},"",{"$f":"IF(F962=\"\",\"\",VLOOKUP(F962,referentes!$Q$2:$T$300,3,FALSE))","v":""},null,null,null,null,null,{"$f":"IF(L962=\"\",\"\",VLOOKUP(L962,referentes!$G$2:$N$15,2,FALSE))","v":""},null,null,"",null,null,""]
[null,{"$f":"IF(C963=\"\",\"\",IF(COUNTIF($C$3:C963, C963)>1, \"\", C963))","v":""},{"$f":"IF(G963=\"\",\"\",IF(F963=\"\",\"\",CONCATENATE(DIGITADOR!$M$1,G963,E963)))","v":""},"",{"$f":"IF(F963=\"\",\"\",VLOOKUP(F963,referentes!$Q$2:$T$300,3,FALSE))","v":""},null,null,null,null,null,{"$f":"IF(L963=\"\",\"\",VLOOKUP(L963,referentes!$G$2:$N$15,2,FALSE))","v":""},null,null,"",null,null,""]
[null,{"$f":"IF(C964=\"\",\"\",IF(COUNTIF($C$3:C964, C964)>1, \"\", C964))","v":""},{"$f":"IF(G964=\"\",\"\",IF(F964=\"\",\"\",CONCATENATE(DIGITADOR!$M$1,G964,E964)))","v":""},{"$f":"IF(C964=\"\",\"\",CONCATENATE(C964,ROW()-2))","v":""},{"$f":"IF(F964=\"\",\"\",VLOOKUP(F964,referentes!$Q$2:$T$300,3,FALSE))","v":""},null,null,null,null,null,{"$f":"IF(L964=\"\",\"\",VLOOKUP(L964,referentes!$G$2:$N$15,2,FALSE))","v":""},null,null,{"$f":"IF(M964=\"\",\"\",M964/PI())","v":""},null,null,{"$f":"IF(N964=\"\",\"\",((PI())*((N964/100)^2))/4*10000/500)","v":""}]
[null,{"$f":"IF(C965=\"\",\"\",IF(COUNTIF($C$3:C965, C965)>1, \"\", C965))","v":""},{"$f":"IF(G965=\"\",\"\",IF(F965=\"\",\"\",CONCATENATE(DIGITADOR!$M$1,G965,E965)))","v":""},"",{"$f":"IF(F965=\"\",\"\",VLOOKUP(F965,referentes!$Q$2:$T$300,3,FALSE))","v":""},null,null,null,null,null,{"$f":"IF(L965=\"\",\"\",VLOOKUP(L965,referentes!$G$2:$N$15,2,FALSE))","v":""},null,null,"",null,null,""]
[null,{"$f":"IF(C966=\"\",\"\",IF(COUNTIF($C$3:C966, C966)>1, \"\", C966))","v":""},{"$f":"IF(G966=\"\",\"\",IF(F966=\"\",\"\",CONCATENATE(DIGITADOR!$M$1,G966,E966)))","v":""},"",{"$f":"IF(F966=\"\",\"\",VLOOKUP(F966,referentes!$Q$2:$T$300,3,FALSE))","v":""},null,null,null,null,null,{"$f":"IF(L966=\"\",\"\",VLOOKUP(L966,referentes!$G$2:$N$15,2,FALSE))","v":""},null,null,"",null,null,""]
[null,{"$f":"IF(C967=\"\",\"\",IF(COUNTIF($C$3:C967, C967)>1, \"\", C967))","v":""},{"$f":"IF(G967=\"\",\"\",IF(F967=\"\",\"\",CONCATENATE(DIGITADOR!$M$1,G967,E967)))","v":""},"",{"$f":"IF(F967=\"\",\"\",VLOOKUP(F967,referentes!$Q$2:$T$300,3,FALSE))","v":""},null,null,null,null,null,{"$f":"IF(L967=\"\",\"\",VLOOKUP(L967,referentes!$G$2:$N$15,2,FALSE))","v":""},null,null,"",null,null,""]
[null,{"$f":"IF(C968=\"\",\"\",IF(COUNTIF($C$3:C968, C968)>1, \"\", C968))","v":""},{"$f":"IF(G968=\"\",\"\",IF(F968=\"\",\"\",CONCATENATE(DIGITADOR!$M$1,G968,E968)))","v":""},"",{"$f":"IF(F968=\"\",\"\",VLOOKUP(F968,referentes!$Q$2:$T$300,3,FALSE))","v":""},null,null,null,null,null,{"$f":"IF(L968=\"\",\"\",VLOOKUP(L968,referentes!$G$2:$N$15,2,FALSE))","v":""},null,null,"",null,null,""]
[null,{"$f":"IF(C969=\"\",\"\",IF(COUNTIF($C$3:C969, C969)>1, \"\", C969))","v":""},{"$f":"IF(G969=\"\",\"\",IF(F969=\"\",\"\",CONCATENATE(DIGITADOR!$M$1,G969,E969)))","v":""},"",{"$f":"IF(F969=\"\",\"\",VLOOKUP(F969,referentes!$Q$2:$T$300,3,FALSE))","v":""},null,null,null,null,null,{"$f":"IF(L969=\"\",\"\",VLOOKUP(L969,referentes!$G$2:$N$15,2,FALSE))","v":""},null,null,"",null,null,""]
[null,{"$f":"IF(C970=\"\",\"\",IF(COUNTIF($C$3:C970, C970)>1, \"\", C970))","v":""},{"$f":"IF(G970=\"\",\"\",IF(F970=\"\",\"\",CONCATENATE(DIGITADOR!$M$1,G970,E970)))","v":""},"",{"$f":"IF(F970=\"\",\"\",VLOOKUP(F970,referentes!$Q$2:$T$300,3,FALSE))","v":""},null,null,null,null,null,{"$f":"IF(L970=\"\",\"\",VLOOKUP(L970,referentes!$G$2:$N$15,2,FALSE))","v":""},null,null,"",null,null,""]
[null,{"$f":"IF(C971=\"\",\"\",IF(COUNTIF($C$3:C971, C971)>1, \"\", C971))","v":""},{"$f":"IF(G971=\"\",\"\",IF(F971=\"\",\"\",CONCATENATE(DIGITADOR!$M$1,G971,E971)))","v":""},"",{"$f":"IF(F971=\"\",\"\",VLOOKUP(F971,referentes!$Q$2:$T$300,3,FALSE))","v":""},null,null,null,null,null,{"$f":"IF(L971=\"\",\"\",VLOOKUP(L971,referentes!$G$2:$N$15,2,FALSE))","v":""},null,null,"",null,null,""]
[null,{"$f":"IF(C972=\"\",\"\",IF(COUNTIF($C$3:C972, C972)>1, \"\", C972))","v":""},{"$f":"IF(G972=\"\",\"\",IF(F972=\"\",\"\",CONCATENATE(DIGITADOR!$M$1,G972,E972)))","v":""},"",{"$f":"IF(F972=\"\",\"\",VLOOKUP(F972,referentes!$Q$2:$T$300,3,FALSE))","v":""},null,null,null,null,null,{"$f":"IF(L972=\"\",\"\",VLOOKUP(L972,referentes!$G$2:$N$15,2,FALSE))","v":""},null,null,"",null,null,""]
[null,{"$f":"IF(C973=\"\",\"\",IF(COUNTIF($C$3:C973, C973)>1, \"\", C973))","v":""},{"$f":"IF(G973=\"\",\"\",IF(F973=\"\",\"\",CONCATENATE(DIGITADOR!$M$1,G973,E973)))","v":""},"",{"$f":"IF(F973=\"\",\"\",VLOOKUP(F973,referentes!$Q$2:$T$300,3,FALSE))","v":""},null,null,null,null,null,{"$f":"IF(L973=\"\",\"\",VLOOKUP(L973,referentes!$G$2:$N$15,2,FALSE))","v":""},null,null,"",null,null,""]
[null,{"$f":"IF(C974=\"\",\"\",IF(COUNTIF($C$3:C974, C974)>1, \"\", C974))","v":""},{"$f":"IF(G974=\"\",\"\",IF(F974=\"\",\"\",CONCATENATE(DIGITADOR!$M$1,G974,E974)))","v":""},"",{"$f":"IF(F974=\"\",\"\",VLOOKUP(F974,referentes!$Q$2:$T$300,3,FALSE))","v":""},null,null,null,null,null,{"$f":"IF(L974=\"\",\"\",VLOOKUP(L974,referentes!$G$2:$N$15,2,FALSE))","v":""},null,null,"",null,null,""]
[null,{"$f":"IF(C975=\"\",\"\",IF(COUNTIF($C$3:C975, C975)>1, \"\", C975))","v":""},{"$f":"IF(G975=\"\",\"\",IF(F975=\"\",\"\",CONCATENATE(DIGITADOR!$M$1,G975,E975)))","v":""},"",{"$f":"IF(F975=\"\",\"\",VLOOKUP(F975,referentes!$Q$2:$T$300,3,FALSE))","v":""},null,null,null,null,null,{"$f":"IF(L975=\"\",\"\",VLOOKUP(L975,referentes!$G$2:$N$15,2,FALSE))","v":""},null,null,"",null,null,""]
[null,{"$f":"IF(C976=\"\",\"\",IF(COUNTIF($C$3:C976, C976)>1, \"\", C976))","v":""},{"$f":"IF(G976=\"\",\"\",IF(F976=\"\",\"\",CONCATENATE(DIGITADOR!$M$1,G976,E976)))","v":""},"",{"$f":"IF(F976=\"\",\"\",VLOOKUP(F976,referentes!$Q$2:$T$300,3,FALSE))","v":""},null,null,null,null,null,{"$f":"IF(L976=\"\",\"\",VLOOKUP(L976,referentes!$G$2:$N$15,2,FALSE))","v":""},null,null,"",null,null,""]
[null,{"$f":"IF(C977=\"\",\"\",IF(COUNTIF($C$3:C977, C977)>1, \"\", C977))","v":""},{"$f":"IF(G977=\"\",\"\",IF(F977=\"\",\"\",CONCATENATE(DIGITADOR!$M$1,G977,E977)))","v":""},"",{"$f":"IF(F977=\"\",\"\",VLOOKUP(F977,referentes!$Q$2:$T$300,3,FALSE))","v":""},null,null,null,null,null,{"$f":"IF(L977=\"\",\"\",VLOOKUP(L977,referentes!$G$2:$N$15,2,FALSE))","v":""},null,null,"",null,null,""]
[null,{"$f":"IF(C978=\"\",\"\",IF(COUNTIF($C$3:C978, C978)>1, \"\", C978))","v":""},{"$f":"IF(G978=\"\",\"\",IF(F978=\"\",\"\",CONCATENATE(DIGITADOR!$M$1,G978,E978)))","v":""},"",{"$f":"IF(F978=\"\",\"\",VLOOKUP(F978,referentes!$Q$2:$T$300,3,FALSE))","v":""},null,null,null,null,null,{"$f":"IF(L978=\"\",\"\",VLOOKUP(L978,referentes!$G$2:$N$15,2,FALSE))","v":""},null,null,"",null,null,""]
[null,{"$f":"IF(C979=\"\",\"\",IF(COUNTIF($C$3:C979, C979)>1, \"\", C979))","v":""},{"$f":"IF(G979=\"\",\"\",IF(F979=\"\",\"\",CONCATENATE(DIGITADOR!$M$1,G979,E979)))","v":""},"",{"$f":"IF(F979=\"\",\"\",VLOOKUP(F979,referentes!$Q$2:$T$300,3,FALSE))","v":""},null,null,null,null,null,{"$f":"IF(L979=\"\",\"\",VLOOKUP(L979,referentes!$G$2:$N$15,2,FALSE))","v":""},null,null,"",null,null,""]
[null,{"$f":"IF(C980=\"\",\"\",IF(COUNTIF($C$3:C980, C980)>1, \"\", C980))","v":""},{"$f":"IF(G980=\"\",\"\",IF(F980=\"\",\"\",CONCATENATE(DIGITADOR!$M$1,G980,E980)))","v":""},"",{"$f":"IF(F980=\"\",\"\",VLOOKUP(F980,referentes!$Q$2:$T$300,3,FALSE))","v":""},null,null,null,null,null,{"$f":"IF(L980=\"\",\"\",VLOOKUP(L980,referentes!$G$2:$N$15,2,FALSE))","v":""},null,null,"",null,null,""]
[null,{"$f":"IF(C981=\"\",\"\",IF(COUNTIF($C$3:C981, C981)>1, \"\", C981))","v":""},{"$f":"IF(G981=\"\",\"\",IF(F981=\"\",\"\",CONCATENATE(DIGITADOR!$M$1,G981,E981)))","v":""},"",{"$f":"IF(F981=\"\",\"\",VLOOKUP(F981,referentes!$Q$2:$T$300,3,FALSE))","v":""},null,null,null,null,null,{"$f":"IF(L981=\"\",\"\",VLOOKUP(L981,referentes!$G$2:$N$15,2,FALSE))","v":""},null,null,"",null,null,""]
[null,{"$f":"IF(C982=\"\",\"\",IF(COUNTIF($C$3:C982, C982)>1, \"\", C982))","v":""},{"$f":"IF(G982=\"\",\"\",IF(F982=\"\",\"\",CONCATENATE(DIGITADOR!$M$1,G982,E982)))","v":""},"",{"$f":"IF(F982=\"\",\"\",VLOOKUP(F982,referentes!$Q$2:$T$300,3,FALSE))","v":""},null,null,null,null,null,{"$f":"IF(L982=\"\",\"\",VLOOKUP(L982,referentes!$G$2:$N$15,2,FALSE))","v":""},null,null,"",null,null,""]
[null,{"$f":"IF(C983=\"\",\"\",IF(COUNTIF($C$3:C983, C983)>1, \"\", C983))","v":""},{"$f":"IF(G983=\"\",\"\",IF(F983=\"\",\"\",CONCATENATE(DIGITADOR!$M$1,G983,E983)))","v":""},"",{"$f":"IF(F983=\"\",\"\",VLOOKUP(F983,referentes!$Q$2:$T$300,3,FALSE))","v":""},null,null,null,null,null,{"$f":"IF(L983=\"\",\"\",VLOOKUP(L983,referentes!$G$2:$N$15,2,FALSE))","v":""},null,null,"",null,null,""]
[null,{"$f":"IF(C984=\"\",\"\",IF(COUNTIF($C$3:C984, C984)>1, \"\", C984))","v":""},{"$f":"IF(G984=\"\",\"\",IF(F984=\"\",\"\",CONCATENATE(DIGITADOR!$M$1,G984,E984)))","v":""},"",{"$f":"IF(F984=\"\",\"\",VLOOKUP(F984,referentes!$Q$2:$T$300,3,FALSE))","v":""},null,null,null,null,null,{"$f":"IF(L984=\"\",\"\",VLOOKUP(L984,referentes!$G$2:$N$15,2,FALSE))","v":""},null,null,"",null,null,""]
[null,{"$f":"IF(C985=\"\",\"\",IF(COUNTIF($C$3:C985, C985)>1, \"\", C985))","v":""},{"$f":"IF(G985=\"\",\"\",IF(F985=\"\",\"\",CONCATENATE(DIGITADOR!$M$1,G985,E985)))","v":""},"",{"$f":"IF(F985=\"\",\"\",VLOOKUP(F985,referentes!$Q$2:$T$300,3,FALSE))","v":""},null,null,null,null,null,{"$f":"IF(L985=\"\",\"\",VLOOKUP(L985,referentes!$G$2:$N$15,2,FALSE))","v":""},null,null,"",null,null,""]
[null,{"$f":"IF(C986=\"\",\"\",IF(COUNTIF($C$3:C986, C986)>1, \"\", C986))","v":""},{"$f":"IF(G986=\"\",\"\",IF(F986=\"\",\"\",CONCATENATE(DIGITADOR!$M$1,G986,E986)))","v":""},"",{"$f":"IF(F986=\"\",\"\",VLOOKUP(F986,referentes!$Q$2:$T$300,3,FALSE))","v":""},null,null,null,null,null,{"$f":"IF(L986=\"\",\"\",VLOOKUP(L986,referentes!$G$2:$N$15,2,FALSE))","v":""},null,null,"",null,null,""]
[null,{"$f":"IF(C987=\"\",\"\",IF(COUNTIF($C$3:C987, C987)>1, \"\", C987))","v":""},{"$f":"IF(G987=\"\",\"\",IF(F987=\"\",\"\",CONCATENATE(DIGITADOR!$M$1,G987,E987)))","v":""},"",{"$f":"IF(F987=\"\",\"\",VLOOKUP(F987,referentes!$Q$2:$T$300,3,FALSE))","v":""},null,null,null,null,null,{"$f":"IF(L987=\"\",\"\",VLOOKUP(L987,referentes!$G$2:$N$15,2,FALSE))","v":""},null,null,"",null,null,""]
[null,{"$f":"IF(C988=\"\",\"\",IF(COUNTIF($C$3:C988, C988)>1, \"\", C988))","v":""},{"$f":"IF(G988=\"\",\"\",IF(F988=\"\",\"\",CONCATENATE(DIGITADOR!$M$1,G988,E988)))","v":""},"",{"$f":"IF(F988=\"\",\"\",VLOOKUP(F988,referentes!$Q$2:$T$300,3,FALSE))","v":""},null,null,null,null,null,{"$f":"IF(L988=\"\",\"\",VLOOKUP(L988,referentes!$G$2:$N$15,2,FALSE))","v":""},null,null,"",null,null,""]
[null,{"$f":"IF(C989=\"\",\"\",IF(COUNTIF($C$3:C989, C989)>1, \"\", C989))","v":""},{"$f":"IF(G989=\"\",\"\",IF(F989=\"\",\"\",CONCATENATE(DIGITADOR!$M$1,G989,E989)))","v":""},"",{"$f":"IF(F989=\"\",\"\",VLOOKUP(F989,referentes!$Q$2:$T$300,3,FALSE))","v":""},null,null,null,null,null,{"$f":"IF(L989=\"\",\"\",VLOOKUP(L989,referentes!$G$2:$N$15,2,FALSE))","v":""},null,null,"",null,null,""]
[null,{"$f":"IF(C990=\"\",\"\",IF(COUNTIF($C$3:C990, C990)>1, \"\", C990))","v":""},{"$f":"IF(G990=\"\",\"\",IF(F990=\"\",\"\",CONCATENATE(DIGITADOR!$M$1,G990,E990)))","v":""},"",{"$f":"IF(F990=\"\",\"\",VLOOKUP(F990,referentes!$Q$2:$T$300,3,FALSE))","v":""},null,null,null,null,null,{"$f":"IF(L990=\"\",\"\",VLOOKUP(L990,referentes!$G$2:$N$15,2,FALSE))","v":""},null,null,"",null,null,""]
[null,{"$f":"IF(C991=\"\",\"\",IF(COUNTIF($C$3:C991, C991)>1, \"\", C991))","v":""},{"$f":"IF(G991=\"\",\"\",IF(F991=\"\",\"\",CONCATENATE(DIGITADOR!$M$1,G991,E991)))","v":""},"",{"$f":"IF(F991=\"\",\"\",VLOOKUP(F991,referentes!$Q$2:$T$300,3,FALSE))","v":""},null,null,null,null,null,{"$f":"IF(L991=\"\",\"\",VLOOKUP(L991,referentes!$G$2:$N$15,2,FALSE))","v":""},null,null,"",null,null,""]
[null,{"$f":"IF(C992=\"\",\"\",IF(COUNTIF($C$3:C992, C992)>1, \"\", C992))","v":""},{"$f":"IF(G992=\"\",\"\",IF(F992=\"\",\"\",CONCATENATE(DIGITADOR!$M$1,G992,E992)))","v":""},"",{"$f":"IF(F992=\"\",\"\",VLOOKUP(F992,referentes!$Q$2:$T$300,3,FALSE))","v":""},null,null,null,null,null,{"$f":"IF(L992=\"\",\"\",VLOOKUP(L992,referentes!$G$2:$N$15,2,FALSE))","v":""},null,null,"",null,null,""]
[null,{"$f":"IF(C993=\"\",\"\",IF(COUNTIF($C$3:C993, C993)>1, \"\", C993))","v":""},{"$f":"IF(G993=\"\",\"\",IF(F993=\"\",\"\",CONCATENATE(DIGITADOR!$M$1,G993,E993)))","v":""},"",{"$f":"IF(F993=\"\",\"\",VLOOKUP(F993,referentes!$Q$2:$T$300,3,FALSE))","v":""},null,null,null,null,null,{"$f":"IF(L993=\"\",\"\",VLOOKUP(L993,referentes!$G$2:$N$15,2,FALSE))","v":""},null,null,"",null,null,""]
[null,{"$f":"IF(C994=\"\",\"\",IF(COUNTIF($C$3:C994, C994)>1, \"\", C994))","v":""},{"$f":"IF(G994=\"\",\"\",IF(F994=\"\",\"\",CONCATENATE(DIGITADOR!$M$1,G994,E994)))","v":""},"",{"$f":"IF(F994=\"\",\"\",VLOOKUP(F994,referentes!$Q$2:$T$300,3,FALSE))","v":""},null,null,null,null,null,{"$f":"IF(L994=\"\",\"\",VLOOKUP(L994,referentes!$G$2:$N$15,2,FALSE))","v":""},null,null,"",null,null,""]
[null,{"$f":"IF(C995=\"\",\"\",IF(COUNTIF($C$3:C995, C995)>1, \"\", C995))","v":""},{"$f":"IF(G995=\"\",\"\",IF(F995=\"\",\"\",CONCATENATE(DIGITADOR!$M$1,G995,E995)))","v":""},"",{"$f":"IF(F995=\"\",\"\",VLOOKUP(F995,referentes!$Q$2:$T$300,3,FALSE))","v":""},null,null,null,null,null,{"$f":"IF(L995=\"\",\"\",VLOOKUP(L995,referentes!$G$2:$N$15,2,FALSE))","v":""},null,null,"",null,null,""]
[null,{"$f":"IF(C996=\"\",\"\",IF(COUNTIF($C$3:C996, C996)>1, \"\", C996))","v":""},{"$f":"IF(G996=\"\",\"\",IF(F996=\"\",\"\",CONCATENATE(DIGITADOR!$M$1,G996,E996)))","v":""},"",{"$f":"IF(F996=\"\",\"\",VLOOKUP(F996,referentes!$Q$2:$T$300,3,FALSE))","v":""},null,null,null,null,null,{"$f":"IF(L996=\"\",\"\",VLOOKUP(L996,referentes!$G$2:$N$15,2,FALSE))","v":""},null,null,"",null,null,""]
[null,{"$f":"IF(C997=\"\",\"\",IF(COUNTIF($C$3:C997, C997)>1, \"\", C997))","v":""},{"$f":"IF(G997=\"\",\"\",IF(F997=\"\",\"\",CONCATENATE(DIGITADOR!$M$1,G997,E997)))","v":""},"",{"$f":"IF(F997=\"\",\"\",VLOOKUP(F997,referentes!$Q$2:$T$300,3,FALSE))","v":""},null,null,null,null,null,{"$f":"IF(L997=\"\",\"\",VLOOKUP(L997,referentes!$G$2:$N$15,2,FALSE))","v":""},null,null,"",null,null,""]
[null,{"$f":"IF(C998=\"\",\"\",IF(COUNTIF($C$3:C998, C998)>1, \"\", C998))","v":""},{"$f":"IF(G998=\"\",\"\",IF(F998=\"\",\"\",CONCATENATE(DIGITADOR!$M$1,G998,E998)))","v":""},"",{"$f":"IF(F998=\"\",\"\",VLOOKUP(F998,referentes!$Q$2:$T$300,3,FALSE))","v":""},null,null,null,null,null,{"$f":"IF(L998=\"\",\"\",VLOOKUP(L998,referentes!$G$2:$N$15,2,FALSE))","v":""},null,null,"",null,null,""]
[null,{"$f":"IF(C999=\"\",\"\",IF(COUNTIF($C$3:C999, C999)>1, \"\", C999))","v":""},{"$f":"IF(G999=\"\",\"\",IF(F999=\"\",\"\",CONCATENATE(DIGITADOR!$M$1,G999,E999)))","v":""},"",{"$f":"IF(F999=\"\",\"\",VLOOKUP(F999,referentes!$Q$2:$T$300,3,FALSE))","v":""},null,null,null,null,null,{"$f":"IF(L999=\"\",\"\",VLOOKUP(L999,referentes!$G$2:$N$15,2,FALSE))","v":""},null,null,"",null,null,""]
[null,{"$f":"IF(C1000=\"\",\"\",IF(COUNTIF($C$3:C1000, C1000)>1, \"\", C1000))","v":""},{"$f":"IF(G1000=\"\",\"\",IF(F1000=\"\",\"\",CONCATENATE(DIGITADOR!$M$1,G1000,E1000)))","v":""},"",{"$f":"IF(F1000=\"\",\"\",VLOOKUP(F1000,referentes!$Q$2:$T$300,3,FALSE))","v":""},null,null,null,null,null,{"$f":"IF(L1000=\"\",\"\",VLOOKUP(L1000,referentes!$G$2:$N$15,2,FALSE))","v":""},null,null,"",null,null,""]
[null,{"$f":"IF(C1001=\"\",\"\",IF(COUNTIF($C$3:C1001, C1001)>1, \"\", C1001))","v":""},{"$f":"IF(G1001=\"\",\"\",IF(F1001=\"\",\"\",CONCATENATE(DIGITADOR!$M$1,G1001,E1001)))","v":""},"",{"$f":"IF(F1001=\"\",\"\",VLOOKUP(F1001,referentes!$Q$2:$T$300,3,FALSE))","v":""},null,null,null,null,null,{"$f":"IF(L1001=\"\",\"\",VLOOKUP(L1001,referentes!$G$2:$N$15,2,FALSE))","v":""},null,null,"",null,null,""]
[null,{"$f":"IF(C1002=\"\",\"\",IF(COUNTIF($C$3:C1002, C1002)>1, \"\", C1002))","v":""},{"$f":"IF(G1002=\"\",\"\",IF(F1002=\"\",\"\",CONCATENATE(DIGITADOR!$M$1,G1002,E1002)))","v":""},"",{"$f":"IF(F1002=\"\",\"\",VLOOKUP(F1002,referentes!$Q$2:$T$300,3,FALSE))","v":""},null,null,null,null,null,{"$f":"IF(L1002=\"\",\"\",VLOOKUP(L1002,referentes!$G$2:$N$15,2,FALSE))","v":""},null,null,"",null,null,""]
[null,{"$f":"IF(C1003=\"\",\"\",IF(COUNTIF($C$3:C1003, C1003)>1, \"\", C1003))","v":""},{"$f":"IF(G1003=\"\",\"\",IF(F1003=\"\",\"\",CONCATENATE(DIGITADOR!$M$1,G1003,E1003)))","v":""},"",{"$f":"IF(F1003=\"\",\"\",VLOOKUP(F1003,referentes!$Q$2:$T$300,3,FALSE))","v":""},null,null,null,null,null,{"$f":"IF(L1003=\"\",\"\",VLOOKUP(L1003,referentes!$G$2:$N$15,2,FALSE))","v":""},null,null,"",null,null,""]
[null,{"$f":"IF(C1004=\"\",\"\",IF(COUNTIF($C$3:C1004, C1004)>1, \"\", C1004))","v":""},{"$f":"IF(G1004=\"\",\"\",IF(F1004=\"\",\"\",CONCATENATE(DIGITADOR!$M$1,G1004,E1004)))","v":""},"",{"$f":"IF(F1004=\"\",\"\",VLOOKUP(F1004,referentes!$Q$2:$T$300,3,FALSE))","v":""},null,null,null,null,null,{"$f":"IF(L1004=\"\",\"\",VLOOKUP(L1004,referentes!$G$2:$N$15,2,FALSE))","v":""},null,null,"",null,null,""]
[null,{"$f":"IF(C1005=\"\",\"\",IF(COUNTIF($C$3:C1005, C1005)>1, \"\", C1005))","v":""},{"$f":"IF(G1005=\"\",\"\",IF(F1005=\"\",\"\",CONCATENATE(DIGITADOR!$M$1,G1005,E1005)))","v":""},"",{"$f":"IF(F1005=\"\",\"\",VLOOKUP(F1005,referentes!$Q$2:$T$300,3,FALSE))","v":""},null,null,null,null,null,{"$f":"IF(L1005=\"\",\"\",VLOOKUP(L1005,referentes!$G$2:$N$15,2,FALSE))","v":""},null,null,"",null,null,""]
[null,{"$f":"IF(C1006=\"\",\"\",IF(COUNTIF($C$3:C1006, C1006)>1, \"\", C1006))","v":""},{"$f":"IF(G1006=\"\",\"\",IF(F1006=\"\",\"\",CONCATENATE(DIGITADOR!$M$1,G1006,E1006)))","v":""},"",{"$f":"IF(F1006=\"\",\"\",VLOOKUP(F1006,referentes!$Q$2:$T$300,3,FALSE))","v":""},null,null,null,null,null,{"$f":"IF(L1006=\"\",\"\",VLOOKUP(L1006,referentes!$G$2:$N$15,2,FALSE))","v":""},null,null,"",null,null,""]
[null,{"$f":"IF(C1007=\"\",\"\",IF(COUNTIF($C$3:C1007, C1007)>1, \"\", C1007))","v":""},{"$f":"IF(G1007=\"\",\"\",IF(F1007=\"\",\"\",CONCATENATE(DIGITADOR!$M$1,G1007,E1007)))","v":""},"",{"$f":"IF(F1007=\"\",\"\",VLOOKUP(F1007,referentes!$Q$2:$T$300,3,FALSE))","v":""},null,null,null,null,null,{"$f":"IF(L1007=\"\",\"\",VLOOKUP(L1007,referentes!$G$2:$N$15,2,FALSE))","v":""},null,null,"",null,null,""]
[null,{"$f":"IF(C1008=\"\",\"\",IF(COUNTIF($C$3:C1008, C1008)>1, \"\", C1008))","v":""},{"$f":"IF(G1008=\"\",\"\",IF(F1008=\"\",\"\",CONCATENATE(DIGITADOR!$M$1,G1008,E1008)))","v":""},"",{"$f":"IF(F1008=\"\",\"\",VLOOKUP(F1008,referentes!$Q$2:$T$300,3,FALSE))","v":""},null,null,null,null,null,{"$f":"IF(L1008=\"\",\"\",VLOOKUP(L1008,referentes!$G$2:$N$15,2,FALSE))","v":""},null,null,"",null,null,""]
[null,{"$f":"IF(C1009=\"\",\"\",IF(COUNTIF($C$3:C1009, C1009)>1, \"\", C1009))","v":""},{"$f":"IF(G1009=\"\",\"\",IF(F1009=\"\",\"\",CONCATENATE(DIGITADOR!$M$1,G1009,E1009)))","v":""},"",{"$f":"IF(F1009=\"\",\"\",VLOOKUP(F1009,referentes!$Q$2:$T$300,3,FALSE))","v":""},null,null,null,null,null,{"$f":"IF(L1009=\"\",\"\",VLOOKUP(L1009,referentes!$G$2:$N$15,2,FALSE))","v":""},null,null,"",null,null,""]
[null,{"$f":"IF(C1010=\"\",\"\",IF(COUNTIF($C$3:C1010, C1010)>1, \"\", C1010))","v":""},{"$f":"IF(G1010=\"\",\"\",IF(F1010=\"\",\"\",CONCATENATE(DIGITADOR!$M$1,G1010,E1010)))","v":""},"",{"$f":"IF(F1010=\"\",\"\",VLOOKUP(F1010,referentes!$Q$2:$T$300,3,FALSE))","v":""},null,null,null,null,null,{"$f":"IF(L1010=\"\",\"\",VLOOKUP(L1010,referentes!$G$2:$N$15,2,FALSE))","v":""},null,null,"",null,null,""]
[null,{"$f":"IF(C1011=\"\",\"\",IF(COUNTIF($C$3:C1011, C1011)>1, \"\", C1011))","v":""},{"$f":"IF(G1011=\"\",\"\",IF(F1011=\"\",\"\",CONCATENATE(DIGITADOR!$M$1,G1011,E1011)))","v":""},"",{"$f":"IF(F1011=\"\",\"\",VLOOKUP(F1011,referentes!$Q$2:$T$300,3,FALSE))","v":""},null,null,null,null,null,{"$f":"IF(L1011=\"\",\"\",VLOOKUP(L1011,referentes!$G$2:$N$15,2,FALSE))","v":""},null,null,"",null,null,""]
[null,{"$f":"IF(C1012=\"\",\"\",IF(COUNTIF($C$3:C1012, C1012)>1, \"\", C1012))","v":""},{"$f":"IF(G1012=\"\",\"\",IF(F1012=\"\",\"\",CONCATENATE(DIGITADOR!$M$1,G1012,E1012)))","v":""},"",{"$f":"IF(F1012=\"\",\"\",VLOOKUP(F1012,referentes!$Q$2:$T$300,3,FALSE))","v":""},null,null,null,null,null,{"$f":"IF(L1012=\"\",\"\",VLOOKUP(L1012,referentes!$G$2:$N$15,2,FALSE))","v":""},null,null,"",null,null,""]
[null,{"$f":"IF(C1013=\"\",\"\",IF(COUNTIF($C$3:C1013, C1013)>1, \"\", C1013))","v":""},{"$f":"IF(G1013=\"\",\"\",IF(F1013=\"\",\"\",CONCATENATE(DIGITADOR!$M$1,G1013,E1013)))","v":""},"",{"$f":"IF(F1013=\"\",\"\",VLOOKUP(F1013,referentes!$Q$2:$T$300,3,FALSE))","v":""},null,null,null,null,null,{"$f":"IF(L1013=\"\",\"\",VLOOKUP(L1013,referentes!$G$2:$N$15,2,FALSE))","v":""},null,null,"",null,null,""]
[null,{"$f":"IF(C1014=\"\",\"\",IF(COUNTIF($C$3:C1014, C1014)>1, \"\", C1014))","v":""},{"$f":"IF(G1014=\"\",\"\",IF(F1014=\"\",\"\",CONCATENATE(DIGITADOR!$M$1,G1014,E1014)))","v":""},"",{"$f":"IF(F1014=\"\",\"\",VLOOKUP(F1014,referentes!$Q$2:$T$300,3,FALSE))","v":""},null,null,null,null,null,{"$f":"IF(L1014=\"\",\"\",VLOOKUP(L1014,referentes!$G$2:$N$15,2,FALSE))","v":""},null,null,"",null,null,""]
[null,{"$f":"IF(C1015=\"\",\"\",IF(COUNTIF($C$3:C1015, C1015)>1, \"\", C1015))","v":""},{"$f":"IF(G1015=\"\",\"\",IF(F1015=\"\",\"\",CONCATENATE(DIGITADOR!$M$1,G1015,E1015)))","v":""},"",{"$f":"IF(F1015=\"\",\"\",VLOOKUP(F1015,referentes!$Q$2:$T$300,3,FALSE))","v":""},null,null,null,null,null,{"$f":"IF(L1015=\"\",\"\",VLOOKUP(L1015,referentes!$G$2:$N$15,2,FALSE))","v":""},null,null,"",null,null,""]
[null,{"$f":"IF(C1016=\"\",\"\",IF(COUNTIF($C$3:C1016, C1016)>1, \"\", C1016))","v":""},{"$f":"IF(G1016=\"\",\"\",IF(F1016=\"\",\"\",CONCATENATE(DIGITADOR!$M$1,G1016,E1016)))","v":""},"",{"$f":"IF(F1016=\"\",\"\",VLOOKUP(F1016,referentes!$Q$2:$T$300,3,FALSE))","v":""},null,null,null,null,null,{"$f":"IF(L1016=\"\",\"\",VLOOKUP(L1016,referentes!$G$2:$N$15,2,FALSE))","v":""},null,null,"",null,null,""]
[null,{"$f":"IF(C1017=\"\",\"\",IF(COUNTIF($C$3:C1017, C1017)>1, \"\", C1017))","v":""},{"$f":"IF(G1017=\"\",\"\",IF(F1017=\"\",\"\",CONCATENATE(DIGITADOR!$M$1,G1017,E1017)))","v":""},"",{"$f":"IF(F1017=\"\",\"\",VLOOKUP(F1017,referentes!$Q$2:$T$300,3,FALSE))","v":""},null,null,null,null,null,{"$f":"IF(L1017=\"\",\"\",VLOOKUP(L1017,referentes!$G$2:$N$15,2,FALSE))","v":""},null,null,"",null,null,""]
[null,{"$f":"IF(C1018=\"\",\"\",IF(COUNTIF($C$3:C1018, C1018)>1, \"\", C1018))","v":""},{"$f":"IF(G1018=\"\",\"\",IF(F1018=\"\",\"\",CONCATENATE(DIGITADOR!$M$1,G1018,E1018)))","v":""},"",{"$f":"IF(F1018=\"\",\"\",VLOOKUP(F1018,referentes!$Q$2:$T$300,3,FALSE))","v":""},null,null,null,null,null,{"$f":"IF(L1018=\"\",\"\",VLOOKUP(L1018,referentes!$G$2:$N$15,2,FALSE))","v":""},null,null,"",null,null,""]
[null,{"$f":"IF(C1019=\"\",\"\",IF(COUNTIF($C$3:C1019, C1019)>1, \"\", C1019))","v":""},{"$f":"IF(G1019=\"\",\"\",IF(F1019=\"\",\"\",CONCATENATE(DIGITADOR!$M$1,G1019,E1019)))","v":""},"",{"$f":"IF(F1019=\"\",\"\",VLOOKUP(F1019,referentes!$Q$2:$T$300,3,FALSE))","v":""},null,null,null,null,null,{"$f":"IF(L1019=\"\",\"\",VLOOKUP(L1019,referentes!$G$2:$N$15,2,FALSE))","v":""},null,null,"",null,null,""]
[null,{"$f":"IF(C1020=\"\",\"\",IF(COUNTIF($C$3:C1020, C1020)>1, \"\", C1020))","v":""},{"$f":"IF(G1020=\"\",\"\",IF(F1020=\"\",\"\",CONCATENATE(DIGITADOR!$M$1,G1020,E1020)))","v":""},"",{"$f":"IF(F1020=\"\",\"\",VLOOKUP(F1020,referentes!$Q$2:$T$300,3,FALSE))","v":""},null,null,null,null,null,{"$f":"IF(L1020=\"\",\"\",VLOOKUP(L1020,referentes!$G$2:$N$15,2,FALSE))","v":""},null,null,"",null,null,""]
[null,{"$f":"IF(C1021=\"\",\"\",IF(COUNTIF($C$3:C1021, C1021)>1, \"\", C1021))","v":""},{"$f":"IF(G1021=\"\",\"\",IF(F1021=\"\",\"\",CONCATENATE(DIGITADOR!$M$1,G1021,E1021)))","v":""},"",{"$f":"IF(F1021=\"\",\"\",VLOOKUP(F1021,referentes!$Q$2:$T$300,3,FALSE))","v":""},null,null,null,null,null,{"$f":"IF(L1021=\"\",\"\",VLOOKUP(L1021,referentes!$G$2:$N$15,2,FALSE))","v":""},null,null,"",null,null,""]
[null,{"$f":"IF(C1022=\"\",\"\",IF(COUNTIF($C$3:C1022, C1022)>1, \"\", C1022))","v":""},{"$f":"IF(G1022=\"\",\"\",IF(F1022=\"\",\"\",CONCATENATE(DIGITADOR!$M$1,G1022,E1022)))","v":""},"",{"$f":"IF(F1022=\"\",\"\",VLOOKUP(F1022,referentes!$Q$2:$T$300,3,FALSE))","v":""},null,null,null,null,null,{"$f":"IF(L1022=\"\",\"\",VLOOKUP(L1022,referentes!$G$2:$N$15,2,FALSE))","v":""},null,null,"",null,null,""]
[null,{"$f":"IF(C1023=\"\",\"\",IF(COUNTIF($C$3:C1023, C1023)>1, \"\", C1023))","v":""},{"$f":"IF(G1023=\"\",\"\",IF(F1023=\"\",\"\",CONCATENATE(DIGITADOR!$M$1,G1023,E1023)))","v":""},"",{"$f":"IF(F1023=\"\",\"\",VLOOKUP(F1023,referentes!$Q$2:$T$300,3,FALSE))","v":""},null,null,null,null,null,{"$f":"IF(L1023=\"\",\"\",VLOOKUP(L1023,referentes!$G$2:$N$15,2,FALSE))","v":""},null,null,"",null,null,""]
[null,{"$f":"IF(C1024=\"\",\"\",IF(COUNTIF($C$3:C1024, C1024)>1, \"\", C1024))","v":""},{"$f":"IF(G1024=\"\",\"\",IF(F1024=\"\",\"\",CONCATENATE(DIGITADOR!$M$1,G1024,E1024)))","v":""},"",{"$f":"IF(F1024=\"\",\"\",VLOOKUP(F1024,referentes!$Q$2:$T$300,3,FALSE))","v":""},null,null,null,null,null,{"$f":"IF(L1024=\"\",\"\",VLOOKUP(L1024,referentes!$G$2:$N$15,2,FALSE))","v":""},null,null,"",null,null,""]
[null,{"$f":"IF(C1025=\"\",\"\",IF(COUNTIF($C$3:C1025, C1025)>1, \"\", C1025))","v":""},{"$f":"IF(G1025=\"\",\"\",IF(F1025=\"\",\"\",CONCATENATE(DIGITADOR!$M$1,G1025,E1025)))","v":""},"",{"$f":"IF(F1025=\"\",\"\",VLOOKUP(F1025,referentes!$Q$2:$T$300,3,FALSE))","v":""},null,null,null,null,null,{"$f":"IF(L1025=\"\",\"\",VLOOKUP(L1025,referentes!$G$2:$N$15,2,FALSE))","v":""},null,null,"",null,null,""]
[null,{"$f":"IF(C1026=\"\",\"\",IF(COUNTIF($C$3:C1026, C1026)>1, \"\", C1026))","v":""},{"$f":"IF(G1026=\"\",\"\",IF(F1026=\"\",\"\",CONCATENATE(DIGITADOR!$M$1,G1026,E1026)))","v":""},"",{"$f":"IF(F1026=\"\",\"\",VLOOKUP(F1026,referentes!$Q$2:$T$300,3,FALSE))","v":""},null,null,null,null,null,{"$f":"IF(L1026=\"\",\"\",VLOOKUP(L1026,referentes!$G$2:$N$15,2,FALSE))","v":""},null,null,"",null,null,""]
[null,{"$f":"IF(C1027=\"\",\"\",IF(COUNTIF($C$3:C1027, C1027)>1, \"\", C1027))","v":""},{"$f":"IF(G1027=\"\",\"\",IF(F1027=\"\",\"\",CONCATENATE(DIGITADOR!$M$1,G1027,E1027)))","v":""},"",{"$f":"IF(F1027=\"\",\"\",VLOOKUP(F1027,referentes!$Q$2:$T$300,3,FALSE))","v":""},null,null,null,null,null,{"$f":"IF(L1027=\"\",\"\",VLOOKUP(L1027,referentes!$G$2:$N$15,2,FALSE))","v":""},null,null,"",null,null,""]
[null,{"$f":"IF(C1028=\"\",\"\",IF(COUNTIF($C$3:C1028, C1028)>1, \"\", C1028))","v":""},{"$f":"IF(G1028=\"\",\"\",IF(F1028=\"\",\"\",CONCATENATE(DIGITADOR!$M$1,G1028,E1028)))","v":""},{"$f":"IF(C1028=\"\",\"\",CONCATENATE(C1028,ROW()-2))","v":""},{"$f":"IF(F1028=\"\",\"\",VLOOKUP(F1028,referentes!$Q$2:$T$300,3,FALSE))","v":""},null,null,null,null,null,{"$f":"IF(L1028=\"\",\"\",VLOOKUP(L1028,referentes!$G$2:$N$15,2,FALSE))","v":""},null,null,{"$f":"IF(M1028=\"\",\"\",M1028/PI())","v":""},null,null,{"$f":"IF(N1028=\"\",\"\",((PI())*((N1028/100)^2))/4*10000/500)","v":""}]
[null,{"$f":"IF(C1029=\"\",\"\",IF(COUNTIF($C$3:C1029, C1029)>1, \"\", C1029))","v":""},{"$f":"IF(G1029=\"\",\"\",IF(F1029=\"\",\"\",CONCATENATE(DIGITADOR!$M$1,G1029,E1029)))","v":""},"",{"$f":"IF(F1029=\"\",\"\",VLOOKUP(F1029,referentes!$Q$2:$T$300,3,FALSE))","v":""},null,null,null,null,null,{"$f":"IF(L1029=\"\",\"\",VLOOKUP(L1029,referentes!$G$2:$N$15,2,FALSE))","v":""},null,null,"",null,null,""]
[null,{"$f":"IF(C1030=\"\",\"\",IF(COUNTIF($C$3:C1030, C1030)>1, \"\", C1030))","v":""},{"$f":"IF(G1030=\"\",\"\",IF(F1030=\"\",\"\",CONCATENATE(DIGITADOR!$M$1,G1030,E1030)))","v":""},"",{"$f":"IF(F1030=\"\",\"\",VLOOKUP(F1030,referentes!$Q$2:$T$300,3,FALSE))","v":""},null,null,null,null,null,{"$f":"IF(L1030=\"\",\"\",VLOOKUP(L1030,referentes!$G$2:$N$15,2,FALSE))","v":""},null,null,"",null,null,""]
[null,{"$f":"IF(C1031=\"\",\"\",IF(COUNTIF($C$3:C1031, C1031)>1, \"\", C1031))","v":""},{"$f":"IF(G1031=\"\",\"\",IF(F1031=\"\",\"\",CONCATENATE(DIGITADOR!$M$1,G1031,E1031)))","v":""},"",{"$f":"IF(F1031=\"\",\"\",VLOOKUP(F1031,referentes!$Q$2:$T$300,3,FALSE))","v":""},null,null,null,null,null,{"$f":"IF(L1031=\"\",\"\",VLOOKUP(L1031,referentes!$G$2:$N$15,2,FALSE))","v":""},null,null,"",null,null,""]
[null,{"$f":"IF(C1032=\"\",\"\",IF(COUNTIF($C$3:C1032, C1032)>1, \"\", C1032))","v":""},{"$f":"IF(G1032=\"\",\"\",IF(F1032=\"\",\"\",CONCATENATE(DIGITADOR!$M$1,G1032,E1032)))","v":""},"",{"$f":"IF(F1032=\"\",\"\",VLOOKUP(F1032,referentes!$Q$2:$T$300,3,FALSE))","v":""},null,null,null,null,null,{"$f":"IF(L1032=\"\",\"\",VLOOKUP(L1032,referentes!$G$2:$N$15,2,FALSE))","v":""},null,null,"",null,null,""]
[null,{"$f":"IF(C1033=\"\",\"\",IF(COUNTIF($C$3:C1033, C1033)>1, \"\", C1033))","v":""},{"$f":"IF(G1033=\"\",\"\",IF(F1033=\"\",\"\",CONCATENATE(DIGITADOR!$M$1,G1033,E1033)))","v":""},"",{"$f":"IF(F1033=\"\",\"\",VLOOKUP(F1033,referentes!$Q$2:$T$300,3,FALSE))","v":""},null,null,null,null,null,{"$f":"IF(L1033=\"\",\"\",VLOOKUP(L1033,referentes!$G$2:$N$15,2,FALSE))","v":""},null,null,"",null,null,""]
[null,{"$f":"IF(C1034=\"\",\"\",IF(COUNTIF($C$3:C1034, C1034)>1, \"\", C1034))","v":""},{"$f":"IF(G1034=\"\",\"\",IF(F1034=\"\",\"\",CONCATENATE(DIGITADOR!$M$1,G1034,E1034)))","v":""},"",{"$f":"IF(F1034=\"\",\"\",VLOOKUP(F1034,referentes!$Q$2:$T$300,3,FALSE))","v":""},null,null,null,null,null,{"$f":"IF(L1034=\"\",\"\",VLOOKUP(L1034,referentes!$G$2:$N$15,2,FALSE))","v":""},null,null,"",null,null,""]
[null,{"$f":"IF(C1035=\"\",\"\",IF(COUNTIF($C$3:C1035, C1035)>1, \"\", C1035))","v":""},{"$f":"IF(G1035=\"\",\"\",IF(F1035=\"\",\"\",CONCATENATE(DIGITADOR!$M$1,G1035,E1035)))","v":""},"",{"$f":"IF(F1035=\"\",\"\",VLOOKUP(F1035,referentes!$Q$2:$T$300,3,FALSE))","v":""},null,null,null,null,null,{"$f":"IF(L1035=\"\",\"\",VLOOKUP(L1035,referentes!$G$2:$N$15,2,FALSE))","v":""},null,null,"",null,null,""]
[null,{"$f":"IF(C1036=\"\",\"\",IF(COUNTIF($C$3:C1036, C1036)>1, \"\", C1036))","v":""},{"$f":"IF(G1036=\"\",\"\",IF(F1036=\"\",\"\",CONCATENATE(DIGITADOR!$M$1,G1036,E1036)))","v":""},"",{"$f":"IF(F1036=\"\",\"\",VLOOKUP(F1036,referentes!$Q$2:$T$300,3,FALSE))","v":""},null,null,null,null,null,{"$f":"IF(L1036=\"\",\"\",VLOOKUP(L1036,referentes!$G$2:$N$15,2,FALSE))","v":""},null,null,"",null,null,""]
[null,{"$f":"IF(C1037=\"\",\"\",IF(COUNTIF($C$3:C1037, C1037)>1, \"\", C1037))","v":""},{"$f":"IF(G1037=\"\",\"\",IF(F1037=\"\",\"\",CONCATENATE(DIGITADOR!$M$1,G1037,E1037)))","v":""},"",{"$f":"IF(F1037=\"\",\"\",VLOOKUP(F1037,referentes!$Q$2:$T$300,3,FALSE))","v":""},null,null,null,null,null,{"$f":"IF(L1037=\"\",\"\",VLOOKUP(L1037,referentes!$G$2:$N$15,2,FALSE))","v":""},null,null,"",null,null,""]
[null,{"$f":"IF(C1038=\"\",\"\",IF(COUNTIF($C$3:C1038, C1038)>1, \"\", C1038))","v":""},{"$f":"IF(G1038=\"\",\"\",IF(F1038=\"\",\"\",CONCATENATE(DIGITADOR!$M$1,G1038,E1038)))","v":""},"",{"$f":"IF(F1038=\"\",\"\",VLOOKUP(F1038,referentes!$Q$2:$T$300,3,FALSE))","v":""},null,null,null,null,null,{"$f":"IF(L1038=\"\",\"\",VLOOKUP(L1038,referentes!$G$2:$N$15,2,FALSE))","v":""},null,null,"",null,null,""]
[null,{"$f":"IF(C1039=\"\",\"\",IF(COUNTIF($C$3:C1039, C1039)>1, \"\", C1039))","v":""},{"$f":"IF(G1039=\"\",\"\",IF(F1039=\"\",\"\",CONCATENATE(DIGITADOR!$M$1,G1039,E1039)))","v":""},"",{"$f":"IF(F1039=\"\",\"\",VLOOKUP(F1039,referentes!$Q$2:$T$300,3,FALSE))","v":""},null,null,null,null,null,{"$f":"IF(L1039=\"\",\"\",VLOOKUP(L1039,referentes!$G$2:$N$15,2,FALSE))","v":""},null,null,"",null,null,""]
[null,{"$f":"IF(C1040=\"\",\"\",IF(COUNTIF($C$3:C1040, C1040)>1, \"\", C1040))","v":""},{"$f":"IF(G1040=\"\",\"\",IF(F1040=\"\",\"\",CONCATENATE(DIGITADOR!$M$1,G1040,E1040)))","v":""},"",{"$f":"IF(F1040=\"\",\"\",VLOOKUP(F1040,referentes!$Q$2:$T$300,3,FALSE))","v":""},null,null,null,null,null,{"$f":"IF(L1040=\"\",\"\",VLOOKUP(L1040,referentes!$G$2:$N$15,2,FALSE))","v":""},null,null,"",null,null,""]
[null,{"$f":"IF(C1041=\"\",\"\",IF(COUNTIF($C$3:C1041, C1041)>1, \"\", C1041))","v":""},{"$f":"IF(G1041=\"\",\"\",IF(F1041=\"\",\"\",CONCATENATE(DIGITADOR!$M$1,G1041,E1041)))","v":""},"",{"$f":"IF(F1041=\"\",\"\",VLOOKUP(F1041,referentes!$Q$2:$T$300,3,FALSE))","v":""},null,null,null,null,null,{"$f":"IF(L1041=\"\",\"\",VLOOKUP(L1041,referentes!$G$2:$N$15,2,FALSE))","v":""},null,null,"",null,null,""]
[null,{"$f":"IF(C1042=\"\",\"\",IF(COUNTIF($C$3:C1042, C1042)>1, \"\", C1042))","v":""},{"$f":"IF(G1042=\"\",\"\",IF(F1042=\"\",\"\",CONCATENATE(DIGITADOR!$M$1,G1042,E1042)))","v":""},"",{"$f":"IF(F1042=\"\",\"\",VLOOKUP(F1042,referentes!$Q$2:$T$300,3,FALSE))","v":""},null,null,null,null,null,{"$f":"IF(L1042=\"\",\"\",VLOOKUP(L1042,referentes!$G$2:$N$15,2,FALSE))","v":""},null,null,"",null,null,""]
[null,{"$f":"IF(C1043=\"\",\"\",IF(COUNTIF($C$3:C1043, C1043)>1, \"\", C1043))","v":""},{"$f":"IF(G1043=\"\",\"\",IF(F1043=\"\",\"\",CONCATENATE(DIGITADOR!$M$1,G1043,E1043)))","v":""},"",{"$f":"IF(F1043=\"\",\"\",VLOOKUP(F1043,referentes!$Q$2:$T$300,3,FALSE))","v":""},null,null,null,null,null,{"$f":"IF(L1043=\"\",\"\",VLOOKUP(L1043,referentes!$G$2:$N$15,2,FALSE))","v":""},null,null,"",null,null,""]
[null,{"$f":"IF(C1044=\"\",\"\",IF(COUNTIF($C$3:C1044, C1044)>1, \"\", C1044))","v":""},{"$f":"IF(G1044=\"\",\"\",IF(F1044=\"\",\"\",CONCATENATE(DIGITADOR!$M$1,G1044,E1044)))","v":""},"",{"$f":"IF(F1044=\"\",\"\",VLOOKUP(F1044,referentes!$Q$2:$T$300,3,FALSE))","v":""},null,null,null,null,null,{"$f":"IF(L1044=\"\",\"\",VLOOKUP(L1044,referentes!$G$2:$N$15,2,FALSE))","v":""},null,null,"",null,null,""]
[null,{"$f":"IF(C1045=\"\",\"\",IF(COUNTIF($C$3:C1045, C1045)>1, \"\", C1045))","v":""},{"$f":"IF(G1045=\"\",\"\",IF(F1045=\"\",\"\",CONCATENATE(DIGITADOR!$M$1,G1045,E1045)))","v":""},"",{"$f":"IF(F1045=\"\",\"\",VLOOKUP(F1045,referentes!$Q$2:$T$300,3,FALSE))","v":""},null,null,null,null,null,{"$f":"IF(L1045=\"\",\"\",VLOOKUP(L1045,referentes!$G$2:$N$15,2,FALSE))","v":""},null,null,"",null,null,""]
[null,{"$f":"IF(C1046=\"\",\"\",IF(COUNTIF($C$3:C1046, C1046)>1, \"\", C1046))","v":""},{"$f":"IF(G1046=\"\",\"\",IF(F1046=\"\",\"\",CONCATENATE(DIGITADOR!$M$1,G1046,E1046)))","v":""},"",{"$f":"IF(F1046=\"\",\"\",VLOOKUP(F1046,referentes!$Q$2:$T$300,3,FALSE))","v":""},null,null,null,null,null,{"$f":"IF(L1046=\"\",\"\",VLOOKUP(L1046,referentes!$G$2:$N$15,2,FALSE))","v":""},null,null,"",null,null,""]
[null,{"$f":"IF(C1047=\"\",\"\",IF(COUNTIF($C$3:C1047, C1047)>1, \"\", C1047))","v":""},{"$f":"IF(G1047=\"\",\"\",IF(F1047=\"\",\"\",CONCATENATE(DIGITADOR!$M$1,G1047,E1047)))","v":""},"",{"$f":"IF(F1047=\"\",\"\",VLOOKUP(F1047,referentes!$Q$2:$T$300,3,FALSE))","v":""},null,null,null,null,null,{"$f":"IF(L1047=\"\",\"\",VLOOKUP(L1047,referentes!$G$2:$N$15,2,FALSE))","v":""},null,null,"",null,null,""]
[null,{"$f":"IF(C1048=\"\",\"\",IF(COUNTIF($C$3:C1048, C1048)>1, \"\", C1048))","v":""},{"$f":"IF(G1048=\"\",\"\",IF(F1048=\"\",\"\",CONCATENATE(DIGITADOR!$M$1,G1048,E1048)))","v":""},"",{"$f":"IF(F1048=\"\",\"\",VLOOKUP(F1048,referentes!$Q$2:$T$300,3,FALSE))","v":""},null,null,null,null,null,{"$f":"IF(L1048=\"\",\"\",VLOOKUP(L1048,referentes!$G$2:$N$15,2,FALSE))","v":""},null,null,"",null,null,""]
[null,{"$f":"IF(C1049=\"\",\"\",IF(COUNTIF($C$3:C1049, C1049)>1, \"\", C1049))","v":""},{"$f":"IF(G1049=\"\",\"\",IF(F1049=\"\",\"\",CONCATENATE(DIGITADOR!$M$1,G1049,E1049)))","v":""},"",{"$f":"IF(F1049=\"\",\"\",VLOOKUP(F1049,referentes!$Q$2:$T$300,3,FALSE))","v":""},null,null,null,null,null,{"$f":"IF(L1049=\"\",\"\",VLOOKUP(L1049,referentes!$G$2:$N$15,2,FALSE))","v":""},null,null,"",null,null,""]
[null,{"$f":"IF(C1050=\"\",\"\",IF(COUNTIF($C$3:C1050, C1050)>1, \"\", C1050))","v":""},{"$f":"IF(G1050=\"\",\"\",IF(F1050=\"\",\"\",CONCATENATE(DIGITADOR!$M$1,G1050,E1050)))","v":""},"",{"$f":"IF(F1050=\"\",\"\",VLOOKUP(F1050,referentes!$Q$2:$T$300,3,FALSE))","v":""},null,null,null,null,null,{"$f":"IF(L1050=\"\",\"\",VLOOKUP(L1050,referentes!$G$2:$N$15,2,FALSE))","v":""},null,null,"",null,null,""]
[null,{"$f":"IF(C1051=\"\",\"\",IF(COUNTIF($C$3:C1051, C1051)>1, \"\", C1051))","v":""},{"$f":"IF(G1051=\"\",\"\",IF(F1051=\"\",\"\",CONCATENATE(DIGITADOR!$M$1,G1051,E1051)))","v":""},"",{"$f":"IF(F1051=\"\",\"\",VLOOKUP(F1051,referentes!$Q$2:$T$300,3,FALSE))","v":""},null,null,null,null,null,{"$f":"IF(L1051=\"\",\"\",VLOOKUP(L1051,referentes!$G$2:$N$15,2,FALSE))","v":""},null,null,"",null,null,""]
[null,{"$f":"IF(C1052=\"\",\"\",IF(COUNTIF($C$3:C1052, C1052)>1, \"\", C1052))","v":""},{"$f":"IF(G1052=\"\",\"\",IF(F1052=\"\",\"\",CONCATENATE(DIGITADOR!$M$1,G1052,E1052)))","v":""},"",{"$f":"IF(F1052=\"\",\"\",VLOOKUP(F1052,referentes!$Q$2:$T$300,3,FALSE))","v":""},null,null,null,null,null,{"$f":"IF(L1052=\"\",\"\",VLOOKUP(L1052,referentes!$G$2:$N$15,2,FALSE))","v":""},null,null,"",null,null,""]
[null,{"$f":"IF(C1053=\"\",\"\",IF(COUNTIF($C$3:C1053, C1053)>1, \"\", C1053))","v":""},{"$f":"IF(G1053=\"\",\"\",IF(F1053=\"\",\"\",CONCATENATE(DIGITADOR!$M$1,G1053,E1053)))","v":""},"",{"$f":"IF(F1053=\"\",\"\",VLOOKUP(F1053,referentes!$Q$2:$T$300,3,FALSE))","v":""},null,null,null,null,null,{"$f":"IF(L1053=\"\",\"\",VLOOKUP(L1053,referentes!$G$2:$N$15,2,FALSE))","v":""},null,null,"",null,null,""]
[null,{"$f":"IF(C1054=\"\",\"\",IF(COUNTIF($C$3:C1054, C1054)>1, \"\", C1054))","v":""},{"$f":"IF(G1054=\"\",\"\",IF(F1054=\"\",\"\",CONCATENATE(DIGITADOR!$M$1,G1054,E1054)))","v":""},"",{"$f":"IF(F1054=\"\",\"\",VLOOKUP(F1054,referentes!$Q$2:$T$300,3,FALSE))","v":""},null,null,null,null,null,{"$f":"IF(L1054=\"\",\"\",VLOOKUP(L1054,referentes!$G$2:$N$15,2,FALSE))","v":""},null,null,"",null,null,""]
[null,{"$f":"IF(C1055=\"\",\"\",IF(COUNTIF($C$3:C1055, C1055)>1, \"\", C1055))","v":""},{"$f":"IF(G1055=\"\",\"\",IF(F1055=\"\",\"\",CONCATENATE(DIGITADOR!$M$1,G1055,E1055)))","v":""},"",{"$f":"IF(F1055=\"\",\"\",VLOOKUP(F1055,referentes!$Q$2:$T$300,3,FALSE))","v":""},null,null,null,null,null,{"$f":"IF(L1055=\"\",\"\",VLOOKUP(L1055,referentes!$G$2:$N$15,2,FALSE))","v":""},null,null,"",null,null,""]
[null,{"$f":"IF(C1056=\"\",\"\",IF(COUNTIF($C$3:C1056, C1056)>1, \"\", C1056))","v":""},{"$f":"IF(G1056=\"\",\"\",IF(F1056=\"\",\"\",CONCATENATE(DIGITADOR!$M$1,G1056,E1056)))","v":""},"",{"$f":"IF(F1056=\"\",\"\",VLOOKUP(F1056,referentes!$Q$2:$T$300,3,FALSE))","v":""},null,null,null,null,null,{"$f":"IF(L1056=\"\",\"\",VLOOKUP(L1056,referentes!$G$2:$N$15,2,FALSE))","v":""},null,null,"",null,null,""]
[null,{"$f":"IF(C1057=\"\",\"\",IF(COUNTIF($C$3:C1057, C1057)>1, \"\", C1057))","v":""},{"$f":"IF(G1057=\"\",\"\",IF(F1057=\"\",\"\",CONCATENATE(DIGITADOR!$M$1,G1057,E1057)))","v":""},"",{"$f":"IF(F1057=\"\",\"\",VLOOKUP(F1057,referentes!$Q$2:$T$300,3,FALSE))","v":""},null,null,null,null,null,{"$f":"IF(L1057=\"\",\"\",VLOOKUP(L1057,referentes!$G$2:$N$15,2,FALSE))","v":""},null,null,"",null,null,""]
[null,{"$f":"IF(C1058=\"\",\"\",IF(COUNTIF($C$3:C1058, C1058)>1, \"\", C1058))","v":""},{"$f":"IF(G1058=\"\",\"\",IF(F1058=\"\",\"\",CONCATENATE(DIGITADOR!$M$1,G1058,E1058)))","v":""},"",{"$f":"IF(F1058=\"\",\"\",VLOOKUP(F1058,referentes!$Q$2:$T$300,3,FALSE))","v":""},null,null,null,null,null,{"$f":"IF(L1058=\"\",\"\",VLOOKUP(L1058,referentes!$G$2:$N$15,2,FALSE))","v":""},null,null,"",null,null,""]
[null,{"$f":"IF(C1059=\"\",\"\",IF(COUNTIF($C$3:C1059, C1059)>1, \"\", C1059))","v":""},{"$f":"IF(G1059=\"\",\"\",IF(F1059=\"\",\"\",CONCATENATE(DIGITADOR!$M$1,G1059,E1059)))","v":""},"",{"$f":"IF(F1059=\"\",\"\",VLOOKUP(F1059,referentes!$Q$2:$T$300,3,FALSE))","v":""},null,null,null,null,null,{"$f":"IF(L1059=\"\",\"\",VLOOKUP(L1059,referentes!$G$2:$N$15,2,FALSE))","v":""},null,null,"",null,null,""]
[null,{"$f":"IF(C1060=\"\",\"\",IF(COUNTIF($C$3:C1060, C1060)>1, \"\", C1060))","v":""},{"$f":"IF(G1060=\"\",\"\",IF(F1060=\"\",\"\",CONCATENATE(DIGITADOR!$M$1,G1060,E1060)))","v":""},"",{"$f":"IF(F1060=\"\",\"\",VLOOKUP(F1060,referentes!$Q$2:$T$300,3,FALSE))","v":""},null,null,null,null,null,{"$f":"IF(L1060=\"\",\"\",VLOOKUP(L1060,referentes!$G$2:$N$15,2,FALSE))","v":""},null,null,"",null,null,""]
[null,{"$f":"IF(C1061=\"\",\"\",IF(COUNTIF($C$3:C1061, C1061)>1, \"\", C1061))","v":""},{"$f":"IF(G1061=\"\",\"\",IF(F1061=\"\",\"\",CONCATENATE(DIGITADOR!$M$1,G1061,E1061)))","v":""},"",{"$f":"IF(F1061=\"\",\"\",VLOOKUP(F1061,referentes!$Q$2:$T$300,3,FALSE))","v":""},null,null,null,null,null,{"$f":"IF(L1061=\"\",\"\",VLOOKUP(L1061,referentes!$G$2:$N$15,2,FALSE))","v":""},null,null,"",null,null,""]
[null,{"$f":"IF(C1062=\"\",\"\",IF(COUNTIF($C$3:C1062, C1062)>1, \"\", C1062))","v":""},{"$f":"IF(G1062=\"\",\"\",IF(F1062=\"\",\"\",CONCATENATE(DIGITADOR!$M$1,G1062,E1062)))","v":""},"",{"$f":"IF(F1062=\"\",\"\",VLOOKUP(F1062,referentes!$Q$2:$T$300,3,FALSE))","v":""},null,null,null,null,null,{"$f":"IF(L1062=\"\",\"\",VLOOKUP(L1062,referentes!$G$2:$N$15,2,FALSE))","v":""},null,null,"",null,null,""]
[null,{"$f":"IF(C1063=\"\",\"\",IF(COUNTIF($C$3:C1063, C1063)>1, \"\", C1063))","v":""},{"$f":"IF(G1063=\"\",\"\",IF(F1063=\"\",\"\",CONCATENATE(DIGITADOR!$M$1,G1063,E1063)))","v":""},"",{"$f":"IF(F1063=\"\",\"\",VLOOKUP(F1063,referentes!$Q$2:$T$300,3,FALSE))","v":""},null,null,null,null,null,{"$f":"IF(L1063=\"\",\"\",VLOOKUP(L1063,referentes!$G$2:$N$15,2,FALSE))","v":""},null,null,"",null,null,""]
[null,{"$f":"IF(C1064=\"\",\"\",IF(COUNTIF($C$3:C1064, C1064)>1, \"\", C1064))","v":""},{"$f":"IF(G1064=\"\",\"\",IF(F1064=\"\",\"\",CONCATENATE(DIGITADOR!$M$1,G1064,E1064)))","v":""},"",{"$f":"IF(F1064=\"\",\"\",VLOOKUP(F1064,referentes!$Q$2:$T$300,3,FALSE))","v":""},null,null,null,null,null,{"$f":"IF(L1064=\"\",\"\",VLOOKUP(L1064,referentes!$G$2:$N$15,2,FALSE))","v":""},null,null,"",null,null,""]
[null,{"$f":"IF(C1065=\"\",\"\",IF(COUNTIF($C$3:C1065, C1065)>1, \"\", C1065))","v":""},{"$f":"IF(G1065=\"\",\"\",IF(F1065=\"\",\"\",CONCATENATE(DIGITADOR!$M$1,G1065,E1065)))","v":""},"",{"$f":"IF(F1065=\"\",\"\",VLOOKUP(F1065,referentes!$Q$2:$T$300,3,FALSE))","v":""},null,null,null,null,null,{"$f":"IF(L1065=\"\",\"\",VLOOKUP(L1065,referentes!$G$2:$N$15,2,FALSE))","v":""},null,null,"",null,null,""]
[null,{"$f":"IF(C1066=\"\",\"\",IF(COUNTIF($C$3:C1066, C1066)>1, \"\", C1066))","v":""},{"$f":"IF(G1066=\"\",\"\",IF(F1066=\"\",\"\",CONCATENATE(DIGITADOR!$M$1,G1066,E1066)))","v":""},"",{"$f":"IF(F1066=\"\",\"\",VLOOKUP(F1066,referentes!$Q$2:$T$300,3,FALSE))","v":""},null,null,null,null,null,{"$f":"IF(L1066=\"\",\"\",VLOOKUP(L1066,referentes!$G$2:$N$15,2,FALSE))","v":""},null,null,"",null,null,""]
[null,{"$f":"IF(C1067=\"\",\"\",IF(COUNTIF($C$3:C1067, C1067)>1, \"\", C1067))","v":""},{"$f":"IF(G1067=\"\",\"\",IF(F1067=\"\",\"\",CONCATENATE(DIGITADOR!$M$1,G1067,E1067)))","v":""},"",{"$f":"IF(F1067=\"\",\"\",VLOOKUP(F1067,referentes!$Q$2:$T$300,3,FALSE))","v":""},null,null,null,null,null,{"$f":"IF(L1067=\"\",\"\",VLOOKUP(L1067,referentes!$G$2:$N$15,2,FALSE))","v":""},null,null,"",null,null,""]
[null,{"$f":"IF(C1068=\"\",\"\",IF(COUNTIF($C$3:C1068, C1068)>1, \"\", C1068))","v":""},{"$f":"IF(G1068=\"\",\"\",IF(F1068=\"\",\"\",CONCATENATE(DIGITADOR!$M$1,G1068,E1068)))","v":""},"",{"$f":"IF(F1068=\"\",\"\",VLOOKUP(F1068,referentes!$Q$2:$T$300,3,FALSE))","v":""},null,null,null,null,null,{"$f":"IF(L1068=\"\",\"\",VLOOKUP(L1068,referentes!$G$2:$N$15,2,FALSE))","v":""},null,null,"",null,null,""]
[null,{"$f":"IF(C1069=\"\",\"\",IF(COUNTIF($C$3:C1069, C1069)>1, \"\", C1069))","v":""},{"$f":"IF(G1069=\"\",\"\",IF(F1069=\"\",\"\",CONCATENATE(DIGITADOR!$M$1,G1069,E1069)))","v":""},"",{"$f":"IF(F1069=\"\",\"\",VLOOKUP(F1069,referentes!$Q$2:$T$300,3,FALSE))","v":""},null,null,null,null,null,{"$f":"IF(L1069=\"\",\"\",VLOOKUP(L1069,referentes!$G$2:$N$15,2,FALSE))","v":""},null,null,"",null,null,""]
[null,{"$f":"IF(C1070=\"\",\"\",IF(COUNTIF($C$3:C1070, C1070)>1, \"\", C1070))","v":""},{"$f":"IF(G1070=\"\",\"\",IF(F1070=\"\",\"\",CONCATENATE(DIGITADOR!$M$1,G1070,E1070)))","v":""},"",{"$f":"IF(F1070=\"\",\"\",VLOOKUP(F1070,referentes!$Q$2:$T$300,3,FALSE))","v":""},null,null,null,null,null,{"$f":"IF(L1070=\"\",\"\",VLOOKUP(L1070,referentes!$G$2:$N$15,2,FALSE))","v":""},null,null,"",null,null,""]
[null,{"$f":"IF(C1071=\"\",\"\",IF(COUNTIF($C$3:C1071, C1071)>1, \"\", C1071))","v":""},{"$f":"IF(G1071=\"\",\"\",IF(F1071=\"\",\"\",CONCATENATE(DIGITADOR!$M$1,G1071,E1071)))","v":""},"",{"$f":"IF(F1071=\"\",\"\",VLOOKUP(F1071,referentes!$Q$2:$T$300,3,FALSE))","v":""},null,null,null,null,null,{"$f":"IF(L1071=\"\",\"\",VLOOKUP(L1071,referentes!$G$2:$N$15,2,FALSE))","v":""},null,null,"",null,null,""]
[null,{"$f":"IF(C1072=\"\",\"\",IF(COUNTIF($C$3:C1072, C1072)>1, \"\", C1072))","v":""},{"$f":"IF(G1072=\"\",\"\",IF(F1072=\"\",\"\",CONCATENATE(DIGITADOR!$M$1,G1072,E1072)))","v":""},"",{"$f":"IF(F1072=\"\",\"\",VLOOKUP(F1072,referentes!$Q$2:$T$300,3,FALSE))","v":""},null,null,null,null,null,{"$f":"IF(L1072=\"\",\"\",VLOOKUP(L1072,referentes!$G$2:$N$15,2,FALSE))","v":""},null,null,"",null,null,""]
[null,{"$f":"IF(C1073=\"\",\"\",IF(COUNTIF($C$3:C1073, C1073)>1, \"\", C1073))","v":""},{"$f":"IF(G1073=\"\",\"\",IF(F1073=\"\",\"\",CONCATENATE(DIGITADOR!$M$1,G1073,E1073)))","v":""},"",{"$f":"IF(F1073=\"\",\"\",VLOOKUP(F1073,referentes!$Q$2:$T$300,3,FALSE))","v":""},null,null,null,null,null,{"$f":"IF(L1073=\"\",\"\",VLOOKUP(L1073,referentes!$G$2:$N$15,2,FALSE))","v":""},null,null,"",null,null,""]
[null,{"$f":"IF(C1074=\"\",\"\",IF(COUNTIF($C$3:C1074, C1074)>1, \"\", C1074))","v":""},{"$f":"IF(G1074=\"\",\"\",IF(F1074=\"\",\"\",CONCATENATE(DIGITADOR!$M$1,G1074,E1074)))","v":""},"",{"$f":"IF(F1074=\"\",\"\",VLOOKUP(F1074,referentes!$Q$2:$T$300,3,FALSE))","v":""},null,null,null,null,null,{"$f":"IF(L1074=\"\",\"\",VLOOKUP(L1074,referentes!$G$2:$N$15,2,FALSE))","v":""},null,null,"",null,null,""]
[null,{"$f":"IF(C1075=\"\",\"\",IF(COUNTIF($C$3:C1075, C1075)>1, \"\", C1075))","v":""},{"$f":"IF(G1075=\"\",\"\",IF(F1075=\"\",\"\",CONCATENATE(DIGITADOR!$M$1,G1075,E1075)))","v":""},"",{"$f":"IF(F1075=\"\",\"\",VLOOKUP(F1075,referentes!$Q$2:$T$300,3,FALSE))","v":""},null,null,null,null,null,{"$f":"IF(L1075=\"\",\"\",VLOOKUP(L1075,referentes!$G$2:$N$15,2,FALSE))","v":""},null,null,"",null,null,""]
[null,{"$f":"IF(C1076=\"\",\"\",IF(COUNTIF($C$3:C1076, C1076)>1, \"\", C1076))","v":""},{"$f":"IF(G1076=\"\",\"\",IF(F1076=\"\",\"\",CONCATENATE(DIGITADOR!$M$1,G1076,E1076)))","v":""},"",{"$f":"IF(F1076=\"\",\"\",VLOOKUP(F1076,referentes!$Q$2:$T$300,3,FALSE))","v":""},null,null,null,null,null,{"$f":"IF(L1076=\"\",\"\",VLOOKUP(L1076,referentes!$G$2:$N$15,2,FALSE))","v":""},null,null,"",null,null,""]
[null,{"$f":"IF(C1077=\"\",\"\",IF(COUNTIF($C$3:C1077, C1077)>1, \"\", C1077))","v":""},{"$f":"IF(G1077=\"\",\"\",IF(F1077=\"\",\"\",CONCATENATE(DIGITADOR!$M$1,G1077,E1077)))","v":""},"",{"$f":"IF(F1077=\"\",\"\",VLOOKUP(F1077,referentes!$Q$2:$T$300,3,FALSE))","v":""},null,null,null,null,null,{"$f":"IF(L1077=\"\",\"\",VLOOKUP(L1077,referentes!$G$2:$N$15,2,FALSE))","v":""},null,null,"",null,null,""]
[null,{"$f":"IF(C1078=\"\",\"\",IF(COUNTIF($C$3:C1078, C1078)>1, \"\", C1078))","v":""},{"$f":"IF(G1078=\"\",\"\",IF(F1078=\"\",\"\",CONCATENATE(DIGITADOR!$M$1,G1078,E1078)))","v":""},"",{"$f":"IF(F1078=\"\",\"\",VLOOKUP(F1078,referentes!$Q$2:$T$300,3,FALSE))","v":""},null,null,null,null,null,{"$f":"IF(L1078=\"\",\"\",VLOOKUP(L1078,referentes!$G$2:$N$15,2,FALSE))","v":""},null,null,"",null,null,""]
[null,{"$f":"IF(C1079=\"\",\"\",IF(COUNTIF($C$3:C1079, C1079)>1, \"\", C1079))","v":""},{"$f":"IF(G1079=\"\",\"\",IF(F1079=\"\",\"\",CONCATENATE(DIGITADOR!$M$1,G1079,E1079)))","v":""},"",{"$f":"IF(F1079=\"\",\"\",VLOOKUP(F1079,referentes!$Q$2:$T$300,3,FALSE))","v":""},null,null,null,null,null,{"$f":"IF(L1079=\"\",\"\",VLOOKUP(L1079,referentes!$G$2:$N$15,2,FALSE))","v":""},null,null,"",null,null,""]
[null,{"$f":"IF(C1080=\"\",\"\",IF(COUNTIF($C$3:C1080, C1080)>1, \"\", C1080))","v":""},{"$f":"IF(G1080=\"\",\"\",IF(F1080=\"\",\"\",CONCATENATE(DIGITADOR!$M$1,G1080,E1080)))","v":""},"",{"$f":"IF(F1080=\"\",\"\",VLOOKUP(F1080,referentes!$Q$2:$T$300,3,FALSE))","v":""},null,null,null,null,null,{"$f":"IF(L1080=\"\",\"\",VLOOKUP(L1080,referentes!$G$2:$N$15,2,FALSE))","v":""},null,null,"",null,null,""]
[null,{"$f":"IF(C1081=\"\",\"\",IF(COUNTIF($C$3:C1081, C1081)>1, \"\", C1081))","v":""},{"$f":"IF(G1081=\"\",\"\",IF(F1081=\"\",\"\",CONCATENATE(DIGITADOR!$M$1,G1081,E1081)))","v":""},"",{"$f":"IF(F1081=\"\",\"\",VLOOKUP(F1081,referentes!$Q$2:$T$300,3,FALSE))","v":""},null,null,null,null,null,{"$f":"IF(L1081=\"\",\"\",VLOOKUP(L1081,referentes!$G$2:$N$15,2,FALSE))","v":""},null,null,"",null,null,""]
[null,{"$f":"IF(C1082=\"\",\"\",IF(COUNTIF($C$3:C1082, C1082)>1, \"\", C1082))","v":""},{"$f":"IF(G1082=\"\",\"\",IF(F1082=\"\",\"\",CONCATENATE(DIGITADOR!$M$1,G1082,E1082)))","v":""},"",{"$f":"IF(F1082=\"\",\"\",VLOOKUP(F1082,referentes!$Q$2:$T$300,3,FALSE))","v":""},null,null,null,null,null,{"$f":"IF(L1082=\"\",\"\",VLOOKUP(L1082,referentes!$G$2:$N$15,2,FALSE))","v":""},null,null,"",null,null,""]
[null,{"$f":"IF(C1083=\"\",\"\",IF(COUNTIF($C$3:C1083, C1083)>1, \"\", C1083))","v":""},{"$f":"IF(G1083=\"\",\"\",IF(F1083=\"\",\"\",CONCATENATE(DIGITADOR!$M$1,G1083,E1083)))","v":""},"",{"$f":"IF(F1083=\"\",\"\",VLOOKUP(F1083,referentes!$Q$2:$T$300,3,FALSE))","v":""},null,null,null,null,null,{"$f":"IF(L1083=\"\",\"\",VLOOKUP(L1083,referentes!$G$2:$N$15,2,FALSE))","v":""},null,null,"",null,null,""]
[null,{"$f":"IF(C1084=\"\",\"\",IF(COUNTIF($C$3:C1084, C1084)>1, \"\", C1084))","v":""},{"$f":"IF(G1084=\"\",\"\",IF(F1084=\"\",\"\",CONCATENATE(DIGITADOR!$M$1,G1084,E1084)))","v":""},"",{"$f":"IF(F1084=\"\",\"\",VLOOKUP(F1084,referentes!$Q$2:$T$300,3,FALSE))","v":""},null,null,null,null,null,{"$f":"IF(L1084=\"\",\"\",VLOOKUP(L1084,referentes!$G$2:$N$15,2,FALSE))","v":""},null,null,"",null,null,""]
[null,{"$f":"IF(C1085=\"\",\"\",IF(COUNTIF($C$3:C1085, C1085)>1, \"\", C1085))","v":""},{"$f":"IF(G1085=\"\",\"\",IF(F1085=\"\",\"\",CONCATENATE(DIGITADOR!$M$1,G1085,E1085)))","v":""},"",{"$f":"IF(F1085=\"\",\"\",VLOOKUP(F1085,referentes!$Q$2:$T$300,3,FALSE))","v":""},null,null,null,null,null,{"$f":"IF(L1085=\"\",\"\",VLOOKUP(L1085,referentes!$G$2:$N$15,2,FALSE))","v":""},null,null,"",null,null,""]
[null,{"$f":"IF(C1086=\"\",\"\",IF(COUNTIF($C$3:C1086, C1086)>1, \"\", C1086))","v":""},{"$f":"IF(G1086=\"\",\"\",IF(F1086=\"\",\"\",CONCATENATE(DIGITADOR!$M$1,G1086,E1086)))","v":""},"",{"$f":"IF(F1086=\"\",\"\",VLOOKUP(F1086,referentes!$Q$2:$T$300,3,FALSE))","v":""},null,null,null,null,null,{"$f":"IF(L1086=\"\",\"\",VLOOKUP(L1086,referentes!$G$2:$N$15,2,FALSE))","v":""},null,null,"",null,null,""]
[null,{"$f":"IF(C1087=\"\",\"\",IF(COUNTIF($C$3:C1087, C1087)>1, \"\", C1087))","v":""},{"$f":"IF(G1087=\"\",\"\",IF(F1087=\"\",\"\",CONCATENATE(DIGITADOR!$M$1,G1087,E1087)))","v":""},"",{"$f":"IF(F1087=\"\",\"\",VLOOKUP(F1087,referentes!$Q$2:$T$300,3,FALSE))","v":""},null,null,null,null,null,{"$f":"IF(L1087=\"\",\"\",VLOOKUP(L1087,referentes!$G$2:$N$15,2,FALSE))","v":""},null,null,"",null,null,""]
[null,{"$f":"IF(C1088=\"\",\"\",IF(COUNTIF($C$3:C1088, C1088)>1, \"\", C1088))","v":""},{"$f":"IF(G1088=\"\",\"\",IF(F1088=\"\",\"\",CONCATENATE(DIGITADOR!$M$1,G1088,E1088)))","v":""},"",{"$f":"IF(F1088=\"\",\"\",VLOOKUP(F1088,referentes!$Q$2:$T$300,3,FALSE))","v":""},null,null,null,null,null,{"$f":"IF(L1088=\"\",\"\",VLOOKUP(L1088,referentes!$G$2:$N$15,2,FALSE))","v":""},null,null,"",null,null,""]
[null,{"$f":"IF(C1089=\"\",\"\",IF(COUNTIF($C$3:C1089, C1089)>1, \"\", C1089))","v":""},{"$f":"IF(G1089=\"\",\"\",IF(F1089=\"\",\"\",CONCATENATE(DIGITADOR!$M$1,G1089,E1089)))","v":""},"",{"$f":"IF(F1089=\"\",\"\",VLOOKUP(F1089,referentes!$Q$2:$T$300,3,FALSE))","v":""},null,null,null,null,null,{"$f":"IF(L1089=\"\",\"\",VLOOKUP(L1089,referentes!$G$2:$N$15,2,FALSE))","v":""},null,null,"",null,null,""]
[null,{"$f":"IF(C1090=\"\",\"\",IF(COUNTIF($C$3:C1090, C1090)>1, \"\", C1090))","v":""},{"$f":"IF(G1090=\"\",\"\",IF(F1090=\"\",\"\",CONCATENATE(DIGITADOR!$M$1,G1090,E1090)))","v":""},"",{"$f":"IF(F1090=\"\",\"\",VLOOKUP(F1090,referentes!$Q$2:$T$300,3,FALSE))","v":""},null,null,null,null,null,{"$f":"IF(L1090=\"\",\"\",VLOOKUP(L1090,referentes!$G$2:$N$15,2,FALSE))","v":""},null,null,"",null,null,""]
[null,{"$f":"IF(C1091=\"\",\"\",IF(COUNTIF($C$3:C1091, C1091)>1, \"\", C1091))","v":""},{"$f":"IF(G1091=\"\",\"\",IF(F1091=\"\",\"\",CONCATENATE(DIGITADOR!$M$1,G1091,E1091)))","v":""},"",{"$f":"IF(F1091=\"\",\"\",VLOOKUP(F1091,referentes!$Q$2:$T$300,3,FALSE))","v":""},null,null,null,null,null,{"$f":"IF(L1091=\"\",\"\",VLOOKUP(L1091,referentes!$G$2:$N$15,2,FALSE))","v":""},null,null,"",null,null,""]
[null,{"$f":"IF(C1092=\"\",\"\",IF(COUNTIF($C$3:C1092, C1092)>1, \"\", C1092))","v":""},{"$f":"IF(G1092=\"\",\"\",IF(F1092=\"\",\"\",CONCATENATE(DIGITADOR!$M$1,G1092,E1092)))","v":""},{"$f":"IF(C1092=\"\",\"\",CONCATENATE(C1092,ROW()-2))","v":""},{"$f":"IF(F1092=\"\",\"\",VLOOKUP(F1092,referentes!$Q$2:$T$300,3,FALSE))","v":""},null,null,null,null,null,{"$f":"IF(L1092=\"\",\"\",VLOOKUP(L1092,referentes!$G$2:$N$15,2,FALSE))","v":""},null,null,{"$f":"IF(M1092=\"\",\"\",M1092/PI())","v":""},null,null,{"$f":"IF(N1092=\"\",\"\",((PI())*((N1092/100)^2))/4*10000/500)","v":""}]
[null,{"$f":"IF(C1093=\"\",\"\",IF(COUNTIF($C$3:C1093, C1093)>1, \"\", C1093))","v":""},{"$f":"IF(G1093=\"\",\"\",IF(F1093=\"\",\"\",CONCATENATE(DIGITADOR!$M$1,G1093,E1093)))","v":""},"",{"$f":"IF(F1093=\"\",\"\",VLOOKUP(F1093,referentes!$Q$2:$T$300,3,FALSE))","v":""},null,null,null,null,null,{"$f":"IF(L1093=\"\",\"\",VLOOKUP(L1093,referentes!$G$2:$N$15,2,FALSE))","v":""},null,null,"",null,null,""]
[null,{"$f":"IF(C1094=\"\",\"\",IF(COUNTIF($C$3:C1094, C1094)>1, \"\", C1094))","v":""},{"$f":"IF(G1094=\"\",\"\",IF(F1094=\"\",\"\",CONCATENATE(DIGITADOR!$M$1,G1094,E1094)))","v":""},"",{"$f":"IF(F1094=\"\",\"\",VLOOKUP(F1094,referentes!$Q$2:$T$300,3,FALSE))","v":""},null,null,null,null,null,{"$f":"IF(L1094=\"\",\"\",VLOOKUP(L1094,referentes!$G$2:$N$15,2,FALSE))","v":""},null,null,"",null,null,""]
[null,{"$f":"IF(C1095=\"\",\"\",IF(COUNTIF($C$3:C1095, C1095)>1, \"\", C1095))","v":""},{"$f":"IF(G1095=\"\",\"\",IF(F1095=\"\",\"\",CONCATENATE(DIGITADOR!$M$1,G1095,E1095)))","v":""},"",{"$f":"IF(F1095=\"\",\"\",VLOOKUP(F1095,referentes!$Q$2:$T$300,3,FALSE))","v":""},null,null,null,null,null,{"$f":"IF(L1095=\"\",\"\",VLOOKUP(L1095,referentes!$G$2:$N$15,2,FALSE))","v":""},null,null,"",null,null,""]
[null,{"$f":"IF(C1096=\"\",\"\",IF(COUNTIF($C$3:C1096, C1096)>1, \"\", C1096))","v":""},{"$f":"IF(G1096=\"\",\"\",IF(F1096=\"\",\"\",CONCATENATE(DIGITADOR!$M$1,G1096,E1096)))","v":""},"",{"$f":"IF(F1096=\"\",\"\",VLOOKUP(F1096,referentes!$Q$2:$T$300,3,FALSE))","v":""},null,null,null,null,null,{"$f":"IF(L1096=\"\",\"\",VLOOKUP(L1096,referentes!$G$2:$N$15,2,FALSE))","v":""},null,null,"",null,null,""]
[null,{"$f":"IF(C1097=\"\",\"\",IF(COUNTIF($C$3:C1097, C1097)>1, \"\", C1097))","v":""},{"$f":"IF(G1097=\"\",\"\",IF(F1097=\"\",\"\",CONCATENATE(DIGITADOR!$M$1,G1097,E1097)))","v":""},"",{"$f":"IF(F1097=\"\",\"\",VLOOKUP(F1097,referentes!$Q$2:$T$300,3,FALSE))","v":""},null,null,null,null,null,{"$f":"IF(L1097=\"\",\"\",VLOOKUP(L1097,referentes!$G$2:$N$15,2,FALSE))","v":""},null,null,"",null,null,""]
[null,{"$f":"IF(C1098=\"\",\"\",IF(COUNTIF($C$3:C1098, C1098)>1, \"\", C1098))","v":""},{"$f":"IF(G1098=\"\",\"\",IF(F1098=\"\",\"\",CONCATENATE(DIGITADOR!$M$1,G1098,E1098)))","v":""},"",{"$f":"IF(F1098=\"\",\"\",VLOOKUP(F1098,referentes!$Q$2:$T$300,3,FALSE))","v":""},null,null,null,null,null,{"$f":"IF(L1098=\"\",\"\",VLOOKUP(L1098,referentes!$G$2:$N$15,2,FALSE))","v":""},null,null,"",null,null,""]
[null,{"$f":"IF(C1099=\"\",\"\",IF(COUNTIF($C$3:C1099, C1099)>1, \"\", C1099))","v":""},{"$f":"IF(G1099=\"\",\"\",IF(F1099=\"\",\"\",CONCATENATE(DIGITADOR!$M$1,G1099,E1099)))","v":""},"",{"$f":"IF(F1099=\"\",\"\",VLOOKUP(F1099,referentes!$Q$2:$T$300,3,FALSE))","v":""},null,null,null,null,null,{"$f":"IF(L1099=\"\",\"\",VLOOKUP(L1099,referentes!$G$2:$N$15,2,FALSE))","v":""},null,null,"",null,null,""]
[null,{"$f":"IF(C1100=\"\",\"\",IF(COUNTIF($C$3:C1100, C1100)>1, \"\", C1100))","v":""},{"$f":"IF(G1100=\"\",\"\",IF(F1100=\"\",\"\",CONCATENATE(DIGITADOR!$M$1,G1100,E1100)))","v":""},"",{"$f":"IF(F1100=\"\",\"\",VLOOKUP(F1100,referentes!$Q$2:$T$300,3,FALSE))","v":""},null,null,null,null,null,{"$f":"IF(L1100=\"\",\"\",VLOOKUP(L1100,referentes!$G$2:$N$15,2,FALSE))","v":""},null,null,"",null,null,""]
[null,{"$f":"IF(C1101=\"\",\"\",IF(COUNTIF($C$3:C1101, C1101)>1, \"\", C1101))","v":""},{"$f":"IF(G1101=\"\",\"\",IF(F1101=\"\",\"\",CONCATENATE(DIGITADOR!$M$1,G1101,E1101)))","v":""},"",{"$f":"IF(F1101=\"\",\"\",VLOOKUP(F1101,referentes!$Q$2:$T$300,3,FALSE))","v":""},null,null,null,null,null,{"$f":"IF(L1101=\"\",\"\",VLOOKUP(L1101,referentes!$G$2:$N$15,2,FALSE))","v":""},null,null,"",null,null,""]
[null,{"$f":"IF(C1102=\"\",\"\",IF(COUNTIF($C$3:C1102, C1102)>1, \"\", C1102))","v":""},{"$f":"IF(G1102=\"\",\"\",IF(F1102=\"\",\"\",CONCATENATE(DIGITADOR!$M$1,G1102,E1102)))","v":""},"",{"$f":"IF(F1102=\"\",\"\",VLOOKUP(F1102,referentes!$Q$2:$T$300,3,FALSE))","v":""},null,null,null,null,null,{"$f":"IF(L1102=\"\",\"\",VLOOKUP(L1102,referentes!$G$2:$N$15,2,FALSE))","v":""},null,null,"",null,null,""]
[null,{"$f":"IF(C1103=\"\",\"\",IF(COUNTIF($C$3:C1103, C1103)>1, \"\", C1103))","v":""},{"$f":"IF(G1103=\"\",\"\",IF(F1103=\"\",\"\",CONCATENATE(DIGITADOR!$M$1,G1103,E1103)))","v":""},"",{"$f":"IF(F1103=\"\",\"\",VLOOKUP(F1103,referentes!$Q$2:$T$300,3,FALSE))","v":""},null,null,null,null,null,{"$f":"IF(L1103=\"\",\"\",VLOOKUP(L1103,referentes!$G$2:$N$15,2,FALSE))","v":""},null,null,"",null,null,""]
[null,{"$f":"IF(C1104=\"\",\"\",IF(COUNTIF($C$3:C1104, C1104)>1, \"\", C1104))","v":""},{"$f":"IF(G1104=\"\",\"\",IF(F1104=\"\",\"\",CONCATENATE(DIGITADOR!$M$1,G1104,E1104)))","v":""},"",{"$f":"IF(F1104=\"\",\"\",VLOOKUP(F1104,referentes!$Q$2:$T$300,3,FALSE))","v":""},null,null,null,null,null,{"$f":"IF(L1104=\"\",\"\",VLOOKUP(L1104,referentes!$G$2:$N$15,2,FALSE))","v":""},null,null,"",null,null,""]
[null,{"$f":"IF(C1105=\"\",\"\",IF(COUNTIF($C$3:C1105, C1105)>1, \"\", C1105))","v":""},{"$f":"IF(G1105=\"\",\"\",IF(F1105=\"\",\"\",CONCATENATE(DIGITADOR!$M$1,G1105,E1105)))","v":""},"",{"$f":"IF(F1105=\"\",\"\",VLOOKUP(F1105,referentes!$Q$2:$T$300,3,FALSE))","v":""},null,null,null,null,null,{"$f":"IF(L1105=\"\",\"\",VLOOKUP(L1105,referentes!$G$2:$N$15,2,FALSE))","v":""},null,null,"",null,null,""]
[null,{"$f":"IF(C1106=\"\",\"\",IF(COUNTIF($C$3:C1106, C1106)>1, \"\", C1106))","v":""},{"$f":"IF(G1106=\"\",\"\",IF(F1106=\"\",\"\",CONCATENATE(DIGITADOR!$M$1,G1106,E1106)))","v":""},"",{"$f":"IF(F1106=\"\",\"\",VLOOKUP(F1106,referentes!$Q$2:$T$300,3,FALSE))","v":""},null,null,null,null,null,{"$f":"IF(L1106=\"\",\"\",VLOOKUP(L1106,referentes!$G$2:$N$15,2,FALSE))","v":""},null,null,"",null,null,""]
[null,{"$f":"IF(C1107=\"\",\"\",IF(COUNTIF($C$3:C1107, C1107)>1, \"\", C1107))","v":""},{"$f":"IF(G1107=\"\",\"\",IF(F1107=\"\",\"\",CONCATENATE(DIGITADOR!$M$1,G1107,E1107)))","v":""},"",{"$f":"IF(F1107=\"\",\"\",VLOOKUP(F1107,referentes!$Q$2:$T$300,3,FALSE))","v":""},null,null,null,null,null,{"$f":"IF(L1107=\"\",\"\",VLOOKUP(L1107,referentes!$G$2:$N$15,2,FALSE))","v":""},null,null,"",null,null,""]
[null,{"$f":"IF(C1108=\"\",\"\",IF(COUNTIF($C$3:C1108, C1108)>1, \"\", C1108))","v":""},{"$f":"IF(G1108=\"\",\"\",IF(F1108=\"\",\"\",CONCATENATE(DIGITADOR!$M$1,G1108,E1108)))","v":""},"",{"$f":"IF(F1108=\"\",\"\",VLOOKUP(F1108,referentes!$Q$2:$T$300,3,FALSE))","v":""},null,null,null,null,null,{"$f":"IF(L1108=\"\",\"\",VLOOKUP(L1108,referentes!$G$2:$N$15,2,FALSE))","v":""},null,null,"",null,null,""]
[null,{"$f":"IF(C1109=\"\",\"\",IF(COUNTIF($C$3:C1109, C1109)>1, \"\", C1109))","v":""},{"$f":"IF(G1109=\"\",\"\",IF(F1109=\"\",\"\",CONCATENATE(DIGITADOR!$M$1,G1109,E1109)))","v":""},"",{"$f":"IF(F1109=\"\",\"\",VLOOKUP(F1109,referentes!$Q$2:$T$300,3,FALSE))","v":""},null,null,null,null,null,{"$f":"IF(L1109=\"\",\"\",VLOOKUP(L1109,referentes!$G$2:$N$15,2,FALSE))","v":""},null,null,"",null,null,""]
[null,{"$f":"IF(C1110=\"\",\"\",IF(COUNTIF($C$3:C1110, C1110)>1, \"\", C1110))","v":""},{"$f":"IF(G1110=\"\",\"\",IF(F1110=\"\",\"\",CONCATENATE(DIGITADOR!$M$1,G1110,E1110)))","v":""},"",{"$f":"IF(F1110=\"\",\"\",VLOOKUP(F1110,referentes!$Q$2:$T$300,3,FALSE))","v":""},null,null,null,null,null,{"$f":"IF(L1110=\"\",\"\",VLOOKUP(L1110,referentes!$G$2:$N$15,2,FALSE))","v":""},null,null,"",null,null,""]
[null,{"$f":"IF(C1111=\"\",\"\",IF(COUNTIF($C$3:C1111, C1111)>1, \"\", C1111))","v":""},{"$f":"IF(G1111=\"\",\"\",IF(F1111=\"\",\"\",CONCATENATE(DIGITADOR!$M$1,G1111,E1111)))","v":""},"",{"$f":"IF(F1111=\"\",\"\",VLOOKUP(F1111,referentes!$Q$2:$T$300,3,FALSE))","v":""},null,null,null,null,null,{"$f":"IF(L1111=\"\",\"\",VLOOKUP(L1111,referentes!$G$2:$N$15,2,FALSE))","v":""},null,null,"",null,null,""]
[null,{"$f":"IF(C1112=\"\",\"\",IF(COUNTIF($C$3:C1112, C1112)>1, \"\", C1112))","v":""},{"$f":"IF(G1112=\"\",\"\",IF(F1112=\"\",\"\",CONCATENATE(DIGITADOR!$M$1,G1112,E1112)))","v":""},"",{"$f":"IF(F1112=\"\",\"\",VLOOKUP(F1112,referentes!$Q$2:$T$300,3,FALSE))","v":""},null,null,null,null,null,{"$f":"IF(L1112=\"\",\"\",VLOOKUP(L1112,referentes!$G$2:$N$15,2,FALSE))","v":""},null,null,"",null,null,""]
[null,{"$f":"IF(C1113=\"\",\"\",IF(COUNTIF($C$3:C1113, C1113)>1, \"\", C1113))","v":""},{"$f":"IF(G1113=\"\",\"\",IF(F1113=\"\",\"\",CONCATENATE(DIGITADOR!$M$1,G1113,E1113)))","v":""},"",{"$f":"IF(F1113=\"\",\"\",VLOOKUP(F1113,referentes!$Q$2:$T$300,3,FALSE))","v":""},null,null,null,null,null,{"$f":"IF(L1113=\"\",\"\",VLOOKUP(L1113,referentes!$G$2:$N$15,2,FALSE))","v":""},null,null,"",null,null,""]
[null,{"$f":"IF(C1114=\"\",\"\",IF(COUNTIF($C$3:C1114, C1114)>1, \"\", C1114))","v":""},{"$f":"IF(G1114=\"\",\"\",IF(F1114=\"\",\"\",CONCATENATE(DIGITADOR!$M$1,G1114,E1114)))","v":""},"",{"$f":"IF(F1114=\"\",\"\",VLOOKUP(F1114,referentes!$Q$2:$T$300,3,FALSE))","v":""},null,null,null,null,null,{"$f":"IF(L1114=\"\",\"\",VLOOKUP(L1114,referentes!$G$2:$N$15,2,FALSE))","v":""},null,null,"",null,null,""]
[null,{"$f":"IF(C1115=\"\",\"\",IF(COUNTIF($C$3:C1115, C1115)>1, \"\", C1115))","v":""},{"$f":"IF(G1115=\"\",\"\",IF(F1115=\"\",\"\",CONCATENATE(DIGITADOR!$M$1,G1115,E1115)))","v":""},"",{"$f":"IF(F1115=\"\",\"\",VLOOKUP(F1115,referentes!$Q$2:$T$300,3,FALSE))","v":""},null,null,null,null,null,{"$f":"IF(L1115=\"\",\"\",VLOOKUP(L1115,referentes!$G$2:$N$15,2,FALSE))","v":""},null,null,"",null,null,""]
[null,{"$f":"IF(C1116=\"\",\"\",IF(COUNTIF($C$3:C1116, C1116)>1, \"\", C1116))","v":""},{"$f":"IF(G1116=\"\",\"\",IF(F1116=\"\",\"\",CONCATENATE(DIGITADOR!$M$1,G1116,E1116)))","v":""},"",{"$f":"IF(F1116=\"\",\"\",VLOOKUP(F1116,referentes!$Q$2:$T$300,3,FALSE))","v":""},null,null,null,null,null,{"$f":"IF(L1116=\"\",\"\",VLOOKUP(L1116,referentes!$G$2:$N$15,2,FALSE))","v":""},null,null,"",null,null,""]
[null,{"$f":"IF(C1117=\"\",\"\",IF(COUNTIF($C$3:C1117, C1117)>1, \"\", C1117))","v":""},{"$f":"IF(G1117=\"\",\"\",IF(F1117=\"\",\"\",CONCATENATE(DIGITADOR!$M$1,G1117,E1117)))","v":""},"",{"$f":"IF(F1117=\"\",\"\",VLOOKUP(F1117,referentes!$Q$2:$T$300,3,FALSE))","v":""},null,null,null,null,null,{"$f":"IF(L1117=\"\",\"\",VLOOKUP(L1117,referentes!$G$2:$N$15,2,FALSE))","v":""},null,null,"",null,null,""]
[null,{"$f":"IF(C1118=\"\",\"\",IF(COUNTIF($C$3:C1118, C1118)>1, \"\", C1118))","v":""},{"$f":"IF(G1118=\"\",\"\",IF(F1118=\"\",\"\",CONCATENATE(DIGITADOR!$M$1,G1118,E1118)))","v":""},"",{"$f":"IF(F1118=\"\",\"\",VLOOKUP(F1118,referentes!$Q$2:$T$300,3,FALSE))","v":""},null,null,null,null,null,{"$f":"IF(L1118=\"\",\"\",VLOOKUP(L1118,referentes!$G$2:$N$15,2,FALSE))","v":""},null,null,"",null,null,""]
[null,{"$f":"IF(C1119=\"\",\"\",IF(COUNTIF($C$3:C1119, C1119)>1, \"\", C1119))","v":""},{"$f":"IF(G1119=\"\",\"\",IF(F1119=\"\",\"\",CONCATENATE(DIGITADOR!$M$1,G1119,E1119)))","v":""},"",{"$f":"IF(F1119=\"\",\"\",VLOOKUP(F1119,referentes!$Q$2:$T$300,3,FALSE))","v":""},null,null,null,null,null,{"$f":"IF(L1119=\"\",\"\",VLOOKUP(L1119,referentes!$G$2:$N$15,2,FALSE))","v":""},null,null,"",null,null,""]
[null,{"$f":"IF(C1120=\"\",\"\",IF(COUNTIF($C$3:C1120, C1120)>1, \"\", C1120))","v":""},{"$f":"IF(G1120=\"\",\"\",IF(F1120=\"\",\"\",CONCATENATE(DIGITADOR!$M$1,G1120,E1120)))","v":""},"",{"$f":"IF(F1120=\"\",\"\",VLOOKUP(F1120,referentes!$Q$2:$T$300,3,FALSE))","v":""},null,null,null,null,null,{"$f":"IF(L1120=\"\",\"\",VLOOKUP(L1120,referentes!$G$2:$N$15,2,FALSE))","v":""},null,null,"",null,null,""]
[null,{"$f":"IF(C1121=\"\",\"\",IF(COUNTIF($C$3:C1121, C1121)>1, \"\", C1121))","v":""},{"$f":"IF(G1121=\"\",\"\",IF(F1121=\"\",\"\",CONCATENATE(DIGITADOR!$M$1,G1121,E1121)))","v":""},"",{"$f":"IF(F1121=\"\",\"\",VLOOKUP(F1121,referentes!$Q$2:$T$300,3,FALSE))","v":""},null,null,null,null,null,{"$f":"IF(L1121=\"\",\"\",VLOOKUP(L1121,referentes!$G$2:$N$15,2,FALSE))","v":""},null,null,"",null,null,""]
[null,{"$f":"IF(C1122=\"\",\"\",IF(COUNTIF($C$3:C1122, C1122)>1, \"\", C1122))","v":""},{"$f":"IF(G1122=\"\",\"\",IF(F1122=\"\",\"\",CONCATENATE(DIGITADOR!$M$1,G1122,E1122)))","v":""},"",{"$f":"IF(F1122=\"\",\"\",VLOOKUP(F1122,referentes!$Q$2:$T$300,3,FALSE))","v":""},null,null,null,null,null,{"$f":"IF(L1122=\"\",\"\",VLOOKUP(L1122,referentes!$G$2:$N$15,2,FALSE))","v":""},null,null,"",null,null,""]
[null,{"$f":"IF(C1123=\"\",\"\",IF(COUNTIF($C$3:C1123, C1123)>1, \"\", C1123))","v":""},{"$f":"IF(G1123=\"\",\"\",IF(F1123=\"\",\"\",CONCATENATE(DIGITADOR!$M$1,G1123,E1123)))","v":""},"",{"$f":"IF(F1123=\"\",\"\",VLOOKUP(F1123,referentes!$Q$2:$T$300,3,FALSE))","v":""},null,null,null,null,null,{"$f":"IF(L1123=\"\",\"\",VLOOKUP(L1123,referentes!$G$2:$N$15,2,FALSE))","v":""},null,null,"",null,null,""]
[null,{"$f":"IF(C1124=\"\",\"\",IF(COUNTIF($C$3:C1124, C1124)>1, \"\", C1124))","v":""},{"$f":"IF(G1124=\"\",\"\",IF(F1124=\"\",\"\",CONCATENATE(DIGITADOR!$M$1,G1124,E1124)))","v":""},"",{"$f":"IF(F1124=\"\",\"\",VLOOKUP(F1124,referentes!$Q$2:$T$300,3,FALSE))","v":""},null,null,null,null,null,{"$f":"IF(L1124=\"\",\"\",VLOOKUP(L1124,referentes!$G$2:$N$15,2,FALSE))","v":""},null,null,"",null,null,""]
[null,{"$f":"IF(C1125=\"\",\"\",IF(COUNTIF($C$3:C1125, C1125)>1, \"\", C1125))","v":""},{"$f":"IF(G1125=\"\",\"\",IF(F1125=\"\",\"\",CONCATENATE(DIGITADOR!$M$1,G1125,E1125)))","v":""},"",{"$f":"IF(F1125=\"\",\"\",VLOOKUP(F1125,referentes!$Q$2:$T$300,3,FALSE))","v":""},null,null,null,null,null,{"$f":"IF(L1125=\"\",\"\",VLOOKUP(L1125,referentes!$G$2:$N$15,2,FALSE))","v":""},null,null,"",null,null,""]
[null,{"$f":"IF(C1126=\"\",\"\",IF(COUNTIF($C$3:C1126, C1126)>1, \"\", C1126))","v":""},{"$f":"IF(G1126=\"\",\"\",IF(F1126=\"\",\"\",CONCATENATE(DIGITADOR!$M$1,G1126,E1126)))","v":""},"",{"$f":"IF(F1126=\"\",\"\",VLOOKUP(F1126,referentes!$Q$2:$T$300,3,FALSE))","v":""},null,null,null,null,null,{"$f":"IF(L1126=\"\",\"\",VLOOKUP(L1126,referentes!$G$2:$N$15,2,FALSE))","v":""},null,null,"",null,null,""]
[null,{"$f":"IF(C1127=\"\",\"\",IF(COUNTIF($C$3:C1127, C1127)>1, \"\", C1127))","v":""},{"$f":"IF(G1127=\"\",\"\",IF(F1127=\"\",\"\",CONCATENATE(DIGITADOR!$M$1,G1127,E1127)))","v":""},"",{"$f":"IF(F1127=\"\",\"\",VLOOKUP(F1127,referentes!$Q$2:$T$300,3,FALSE))","v":""},null,null,null,null,null,{"$f":"IF(L1127=\"\",\"\",VLOOKUP(L1127,referentes!$G$2:$N$15,2,FALSE))","v":""},null,null,"",null,null,""]
[null,{"$f":"IF(C1128=\"\",\"\",IF(COUNTIF($C$3:C1128, C1128)>1, \"\", C1128))","v":""},{"$f":"IF(G1128=\"\",\"\",IF(F1128=\"\",\"\",CONCATENATE(DIGITADOR!$M$1,G1128,E1128)))","v":""},"",{"$f":"IF(F1128=\"\",\"\",VLOOKUP(F1128,referentes!$Q$2:$T$300,3,FALSE))","v":""},null,null,null,null,null,{"$f":"IF(L1128=\"\",\"\",VLOOKUP(L1128,referentes!$G$2:$N$15,2,FALSE))","v":""},null,null,"",null,null,""]
[null,{"$f":"IF(C1129=\"\",\"\",IF(COUNTIF($C$3:C1129, C1129)>1, \"\", C1129))","v":""},{"$f":"IF(G1129=\"\",\"\",IF(F1129=\"\",\"\",CONCATENATE(DIGITADOR!$M$1,G1129,E1129)))","v":""},"",{"$f":"IF(F1129=\"\",\"\",VLOOKUP(F1129,referentes!$Q$2:$T$300,3,FALSE))","v":""},null,null,null,null,null,{"$f":"IF(L1129=\"\",\"\",VLOOKUP(L1129,referentes!$G$2:$N$15,2,FALSE))","v":""},null,null,"",null,null,""]
[null,{"$f":"IF(C1130=\"\",\"\",IF(COUNTIF($C$3:C1130, C1130)>1, \"\", C1130))","v":""},{"$f":"IF(G1130=\"\",\"\",IF(F1130=\"\",\"\",CONCATENATE(DIGITADOR!$M$1,G1130,E1130)))","v":""},"",{"$f":"IF(F1130=\"\",\"\",VLOOKUP(F1130,referentes!$Q$2:$T$300,3,FALSE))","v":""},null,null,null,null,null,{"$f":"IF(L1130=\"\",\"\",VLOOKUP(L1130,referentes!$G$2:$N$15,2,FALSE))","v":""},null,null,"",null,null,""]
[null,{"$f":"IF(C1131=\"\",\"\",IF(COUNTIF($C$3:C1131, C1131)>1, \"\", C1131))","v":""},{"$f":"IF(G1131=\"\",\"\",IF(F1131=\"\",\"\",CONCATENATE(DIGITADOR!$M$1,G1131,E1131)))","v":""},"",{"$f":"IF(F1131=\"\",\"\",VLOOKUP(F1131,referentes!$Q$2:$T$300,3,FALSE))","v":""},null,null,null,null,null,{"$f":"IF(L1131=\"\",\"\",VLOOKUP(L1131,referentes!$G$2:$N$15,2,FALSE))","v":""},null,null,"",null,null,""]
[null,{"$f":"IF(C1132=\"\",\"\",IF(COUNTIF($C$3:C1132, C1132)>1, \"\", C1132))","v":""},{"$f":"IF(G1132=\"\",\"\",IF(F1132=\"\",\"\",CONCATENATE(DIGITADOR!$M$1,G1132,E1132)))","v":""},"",{"$f":"IF(F1132=\"\",\"\",VLOOKUP(F1132,referentes!$Q$2:$T$300,3,FALSE))","v":""},null,null,null,null,null,{"$f":"IF(L1132=\"\",\"\",VLOOKUP(L1132,referentes!$G$2:$N$15,2,FALSE))","v":""},null,null,"",null,null,""]
[null,{"$f":"IF(C1133=\"\",\"\",IF(COUNTIF($C$3:C1133, C1133)>1, \"\", C1133))","v":""},{"$f":"IF(G1133=\"\",\"\",IF(F1133=\"\",\"\",CONCATENATE(DIGITADOR!$M$1,G1133,E1133)))","v":""},"",{"$f":"IF(F1133=\"\",\"\",VLOOKUP(F1133,referentes!$Q$2:$T$300,3,FALSE))","v":""},null,null,null,null,null,{"$f":"IF(L1133=\"\",\"\",VLOOKUP(L1133,referentes!$G$2:$N$15,2,FALSE))","v":""},null,null,"",null,null,""]
[null,{"$f":"IF(C1134=\"\",\"\",IF(COUNTIF($C$3:C1134, C1134)>1, \"\", C1134))","v":""},{"$f":"IF(G1134=\"\",\"\",IF(F1134=\"\",\"\",CONCATENATE(DIGITADOR!$M$1,G1134,E1134)))","v":""},"",{"$f":"IF(F1134=\"\",\"\",VLOOKUP(F1134,referentes!$Q$2:$T$300,3,FALSE))","v":""},null,null,null,null,null,{"$f":"IF(L1134=\"\",\"\",VLOOKUP(L1134,referentes!$G$2:$N$15,2,FALSE))","v":""},null,null,"",null,null,""]
[null,{"$f":"IF(C1135=\"\",\"\",IF(COUNTIF($C$3:C1135, C1135)>1, \"\", C1135))","v":""},{"$f":"IF(G1135=\"\",\"\",IF(F1135=\"\",\"\",CONCATENATE(DIGITADOR!$M$1,G1135,E1135)))","v":""},"",{"$f":"IF(F1135=\"\",\"\",VLOOKUP(F1135,referentes!$Q$2:$T$300,3,FALSE))","v":""},null,null,null,null,null,{"$f":"IF(L1135=\"\",\"\",VLOOKUP(L1135,referentes!$G$2:$N$15,2,FALSE))","v":""},null,null,"",null,null,""]
[null,{"$f":"IF(C1136=\"\",\"\",IF(COUNTIF($C$3:C1136, C1136)>1, \"\", C1136))","v":""},{"$f":"IF(G1136=\"\",\"\",IF(F1136=\"\",\"\",CONCATENATE(DIGITADOR!$M$1,G1136,E1136)))","v":""},"",{"$f":"IF(F1136=\"\",\"\",VLOOKUP(F1136,referentes!$Q$2:$T$300,3,FALSE))","v":""},null,null,null,null,null,{"$f":"IF(L1136=\"\",\"\",VLOOKUP(L1136,referentes!$G$2:$N$15,2,FALSE))","v":""},null,null,"",null,null,""]
[null,{"$f":"IF(C1137=\"\",\"\",IF(COUNTIF($C$3:C1137, C1137)>1, \"\", C1137))","v":""},{"$f":"IF(G1137=\"\",\"\",IF(F1137=\"\",\"\",CONCATENATE(DIGITADOR!$M$1,G1137,E1137)))","v":""},"",{"$f":"IF(F1137=\"\",\"\",VLOOKUP(F1137,referentes!$Q$2:$T$300,3,FALSE))","v":""},null,null,null,null,null,{"$f":"IF(L1137=\"\",\"\",VLOOKUP(L1137,referentes!$G$2:$N$15,2,FALSE))","v":""},null,null,"",null,null,""]
[null,{"$f":"IF(C1138=\"\",\"\",IF(COUNTIF($C$3:C1138, C1138)>1, \"\", C1138))","v":""},{"$f":"IF(G1138=\"\",\"\",IF(F1138=\"\",\"\",CONCATENATE(DIGITADOR!$M$1,G1138,E1138)))","v":""},"",{"$f":"IF(F1138=\"\",\"\",VLOOKUP(F1138,referentes!$Q$2:$T$300,3,FALSE))","v":""},null,null,null,null,null,{"$f":"IF(L1138=\"\",\"\",VLOOKUP(L1138,referentes!$G$2:$N$15,2,FALSE))","v":""},null,null,"",null,null,""]
[null,{"$f":"IF(C1139=\"\",\"\",IF(COUNTIF($C$3:C1139, C1139)>1, \"\", C1139))","v":""},{"$f":"IF(G1139=\"\",\"\",IF(F1139=\"\",\"\",CONCATENATE(DIGITADOR!$M$1,G1139,E1139)))","v":""},"",{"$f":"IF(F1139=\"\",\"\",VLOOKUP(F1139,referentes!$Q$2:$T$300,3,FALSE))","v":""},null,null,null,null,null,{"$f":"IF(L1139=\"\",\"\",VLOOKUP(L1139,referentes!$G$2:$N$15,2,FALSE))","v":""},null,null,"",null,null,""]
[null,{"$f":"IF(C1140=\"\",\"\",IF(COUNTIF($C$3:C1140, C1140)>1, \"\", C1140))","v":""},{"$f":"IF(G1140=\"\",\"\",IF(F1140=\"\",\"\",CONCATENATE(DIGITADOR!$M$1,G1140,E1140)))","v":""},"",{"$f":"IF(F1140=\"\",\"\",VLOOKUP(F1140,referentes!$Q$2:$T$300,3,FALSE))","v":""},null,null,null,null,null,{"$f":"IF(L1140=\"\",\"\",VLOOKUP(L1140,referentes!$G$2:$N$15,2,FALSE))","v":""},null,null,"",null,null,""]
[null,{"$f":"IF(C1141=\"\",\"\",IF(COUNTIF($C$3:C1141, C1141)>1, \"\", C1141))","v":""},{"$f":"IF(G1141=\"\",\"\",IF(F1141=\"\",\"\",CONCATENATE(DIGITADOR!$M$1,G1141,E1141)))","v":""},"",{"$f":"IF(F1141=\"\",\"\",VLOOKUP(F1141,referentes!$Q$2:$T$300,3,FALSE))","v":""},null,null,null,null,null,{"$f":"IF(L1141=\"\",\"\",VLOOKUP(L1141,referentes!$G$2:$N$15,2,FALSE))","v":""},null,null,"",null,null,""]
[null,{"$f":"IF(C1142=\"\",\"\",IF(COUNTIF($C$3:C1142, C1142)>1, \"\", C1142))","v":""},{"$f":"IF(G1142=\"\",\"\",IF(F1142=\"\",\"\",CONCATENATE(DIGITADOR!$M$1,G1142,E1142)))","v":""},"",{"$f":"IF(F1142=\"\",\"\",VLOOKUP(F1142,referentes!$Q$2:$T$300,3,FALSE))","v":""},null,null,null,null,null,{"$f":"IF(L1142=\"\",\"\",VLOOKUP(L1142,referentes!$G$2:$N$15,2,FALSE))","v":""},null,null,"",null,null,""]
[null,{"$f":"IF(C1143=\"\",\"\",IF(COUNTIF($C$3:C1143, C1143)>1, \"\", C1143))","v":""},{"$f":"IF(G1143=\"\",\"\",IF(F1143=\"\",\"\",CONCATENATE(DIGITADOR!$M$1,G1143,E1143)))","v":""},"",{"$f":"IF(F1143=\"\",\"\",VLOOKUP(F1143,referentes!$Q$2:$T$300,3,FALSE))","v":""},null,null,null,null,null,{"$f":"IF(L1143=\"\",\"\",VLOOKUP(L1143,referentes!$G$2:$N$15,2,FALSE))","v":""},null,null,"",null,null,""]
[null,{"$f":"IF(C1144=\"\",\"\",IF(COUNTIF($C$3:C1144, C1144)>1, \"\", C1144))","v":""},{"$f":"IF(G1144=\"\",\"\",IF(F1144=\"\",\"\",CONCATENATE(DIGITADOR!$M$1,G1144,E1144)))","v":""},"",{"$f":"IF(F1144=\"\",\"\",VLOOKUP(F1144,referentes!$Q$2:$T$300,3,FALSE))","v":""},null,null,null,null,null,{"$f":"IF(L1144=\"\",\"\",VLOOKUP(L1144,referentes!$G$2:$N$15,2,FALSE))","v":""},null,null,"",null,null,""]
[null,{"$f":"IF(C1145=\"\",\"\",IF(COUNTIF($C$3:C1145, C1145)>1, \"\", C1145))","v":""},{"$f":"IF(G1145=\"\",\"\",IF(F1145=\"\",\"\",CONCATENATE(DIGITADOR!$M$1,G1145,E1145)))","v":""},"",{"$f":"IF(F1145=\"\",\"\",VLOOKUP(F1145,referentes!$Q$2:$T$300,3,FALSE))","v":""},null,null,null,null,null,{"$f":"IF(L1145=\"\",\"\",VLOOKUP(L1145,referentes!$G$2:$N$15,2,FALSE))","v":""},null,null,"",null,null,""]
[null,{"$f":"IF(C1146=\"\",\"\",IF(COUNTIF($C$3:C1146, C1146)>1, \"\", C1146))","v":""},{"$f":"IF(G1146=\"\",\"\",IF(F1146=\"\",\"\",CONCATENATE(DIGITADOR!$M$1,G1146,E1146)))","v":""},"",{"$f":"IF(F1146=\"\",\"\",VLOOKUP(F1146,referentes!$Q$2:$T$300,3,FALSE))","v":""},null,null,null,null,null,{"$f":"IF(L1146=\"\",\"\",VLOOKUP(L1146,referentes!$G$2:$N$15,2,FALSE))","v":""},null,null,"",null,null,""]
[null,{"$f":"IF(C1147=\"\",\"\",IF(COUNTIF($C$3:C1147, C1147)>1, \"\", C1147))","v":""},{"$f":"IF(G1147=\"\",\"\",IF(F1147=\"\",\"\",CONCATENATE(DIGITADOR!$M$1,G1147,E1147)))","v":""},"",{"$f":"IF(F1147=\"\",\"\",VLOOKUP(F1147,referentes!$Q$2:$T$300,3,FALSE))","v":""},null,null,null,null,null,{"$f":"IF(L1147=\"\",\"\",VLOOKUP(L1147,referentes!$G$2:$N$15,2,FALSE))","v":""},null,null,"",null,null,""]
[null,{"$f":"IF(C1148=\"\",\"\",IF(COUNTIF($C$3:C1148, C1148)>1, \"\", C1148))","v":""},{"$f":"IF(G1148=\"\",\"\",IF(F1148=\"\",\"\",CONCATENATE(DIGITADOR!$M$1,G1148,E1148)))","v":""},"",{"$f":"IF(F1148=\"\",\"\",VLOOKUP(F1148,referentes!$Q$2:$T$300,3,FALSE))","v":""},null,null,null,null,null,{"$f":"IF(L1148=\"\",\"\",VLOOKUP(L1148,referentes!$G$2:$N$15,2,FALSE))","v":""},null,null,"",null,null,""]
[null,{"$f":"IF(C1149=\"\",\"\",IF(COUNTIF($C$3:C1149, C1149)>1, \"\", C1149))","v":""},{"$f":"IF(G1149=\"\",\"\",IF(F1149=\"\",\"\",CONCATENATE(DIGITADOR!$M$1,G1149,E1149)))","v":""},"",{"$f":"IF(F1149=\"\",\"\",VLOOKUP(F1149,referentes!$Q$2:$T$300,3,FALSE))","v":""},null,null,null,null,null,{"$f":"IF(L1149=\"\",\"\",VLOOKUP(L1149,referentes!$G$2:$N$15,2,FALSE))","v":""},null,null,"",null,null,""]
[null,{"$f":"IF(C1150=\"\",\"\",IF(COUNTIF($C$3:C1150, C1150)>1, \"\", C1150))","v":""},{"$f":"IF(G1150=\"\",\"\",IF(F1150=\"\",\"\",CONCATENATE(DIGITADOR!$M$1,G1150,E1150)))","v":""},"",{"$f":"IF(F1150=\"\",\"\",VLOOKUP(F1150,referentes!$Q$2:$T$300,3,FALSE))","v":""},null,null,null,null,null,{"$f":"IF(L1150=\"\",\"\",VLOOKUP(L1150,referentes!$G$2:$N$15,2,FALSE))","v":""},null,null,"",null,null,""]
[null,{"$f":"IF(C1151=\"\",\"\",IF(COUNTIF($C$3:C1151, C1151)>1, \"\", C1151))","v":""},{"$f":"IF(G1151=\"\",\"\",IF(F1151=\"\",\"\",CONCATENATE(DIGITADOR!$M$1,G1151,E1151)))","v":""},"",{"$f":"IF(F1151=\"\",\"\",VLOOKUP(F1151,referentes!$Q$2:$T$300,3,FALSE))","v":""},null,null,null,null,null,{"$f":"IF(L1151=\"\",\"\",VLOOKUP(L1151,referentes!$G$2:$N$15,2,FALSE))","v":""},null,null,"",null,null,""]
[null,{"$f":"IF(C1152=\"\",\"\",IF(COUNTIF($C$3:C1152, C1152)>1, \"\", C1152))","v":""},{"$f":"IF(G1152=\"\",\"\",IF(F1152=\"\",\"\",CONCATENATE(DIGITADOR!$M$1,G1152,E1152)))","v":""},"",{"$f":"IF(F1152=\"\",\"\",VLOOKUP(F1152,referentes!$Q$2:$T$300,3,FALSE))","v":""},null,null,null,null,null,{"$f":"IF(L1152=\"\",\"\",VLOOKUP(L1152,referentes!$G$2:$N$15,2,FALSE))","v":""},null,null,"",null,null,""]
[null,{"$f":"IF(C1153=\"\",\"\",IF(COUNTIF($C$3:C1153, C1153)>1, \"\", C1153))","v":""},{"$f":"IF(G1153=\"\",\"\",IF(F1153=\"\",\"\",CONCATENATE(DIGITADOR!$M$1,G1153,E1153)))","v":""},"",{"$f":"IF(F1153=\"\",\"\",VLOOKUP(F1153,referentes!$Q$2:$T$300,3,FALSE))","v":""},null,null,null,null,null,{"$f":"IF(L1153=\"\",\"\",VLOOKUP(L1153,referentes!$G$2:$N$15,2,FALSE))","v":""},null,null,"",null,null,""]
[null,{"$f":"IF(C1154=\"\",\"\",IF(COUNTIF($C$3:C1154, C1154)>1, \"\", C1154))","v":""},{"$f":"IF(G1154=\"\",\"\",IF(F1154=\"\",\"\",CONCATENATE(DIGITADOR!$M$1,G1154,E1154)))","v":""},"",{"$f":"IF(F1154=\"\",\"\",VLOOKUP(F1154,referentes!$Q$2:$T$300,3,FALSE))","v":""},null,null,null,null,null,{"$f":"IF(L1154=\"\",\"\",VLOOKUP(L1154,referentes!$G$2:$N$15,2,FALSE))","v":""},null,null,"",null,null,""]
[null,{"$f":"IF(C1155=\"\",\"\",IF(COUNTIF($C$3:C1155, C1155)>1, \"\", C1155))","v":""},{"$f":"IF(G1155=\"\",\"\",IF(F1155=\"\",\"\",CONCATENATE(DIGITADOR!$M$1,G1155,E1155)))","v":""},"",{"$f":"IF(F1155=\"\",\"\",VLOOKUP(F1155,referentes!$Q$2:$T$300,3,FALSE))","v":""},null,null,null,null,null,{"$f":"IF(L1155=\"\",\"\",VLOOKUP(L1155,referentes!$G$2:$N$15,2,FALSE))","v":""},null,null,"",null,null,""]
[null,{"$f":"IF(C1156=\"\",\"\",IF(COUNTIF($C$3:C1156, C1156)>1, \"\", C1156))","v":""},{"$f":"IF(G1156=\"\",\"\",IF(F1156=\"\",\"\",CONCATENATE(DIGITADOR!$M$1,G1156,E1156)))","v":""},{"$f":"IF(C1156=\"\",\"\",CONCATENATE(C1156,ROW()-2))","v":""},{"$f":"IF(F1156=\"\",\"\",VLOOKUP(F1156,referentes!$Q$2:$T$300,3,FALSE))","v":""},null,null,null,null,null,{"$f":"IF(L1156=\"\",\"\",VLOOKUP(L1156,referentes!$G$2:$N$15,2,FALSE))","v":""},null,null,{"$f":"IF(M1156=\"\",\"\",M1156/PI())","v":""},null,null,{"$f":"IF(N1156=\"\",\"\",((PI())*((N1156/100)^2))/4*10000/500)","v":""}]
[null,{"$f":"IF(C1157=\"\",\"\",IF(COUNTIF($C$3:C1157, C1157)>1, \"\", C1157))","v":""},{"$f":"IF(G1157=\"\",\"\",IF(F1157=\"\",\"\",CONCATENATE(DIGITADOR!$M$1,G1157,E1157)))","v":""},"",{"$f":"IF(F1157=\"\",\"\",VLOOKUP(F1157,referentes!$Q$2:$T$300,3,FALSE))","v":""},null,null,null,null,null,{"$f":"IF(L1157=\"\",\"\",VLOOKUP(L1157,referentes!$G$2:$N$15,2,FALSE))","v":""},null,null,"",null,null,""]
[null,{"$f":"IF(C1158=\"\",\"\",IF(COUNTIF($C$3:C1158, C1158)>1, \"\", C1158))","v":""},{"$f":"IF(G1158=\"\",\"\",IF(F1158=\"\",\"\",CONCATENATE(DIGITADOR!$M$1,G1158,E1158)))","v":""},"",{"$f":"IF(F1158=\"\",\"\",VLOOKUP(F1158,referentes!$Q$2:$T$300,3,FALSE))","v":""},null,null,null,null,null,{"$f":"IF(L1158=\"\",\"\",VLOOKUP(L1158,referentes!$G$2:$N$15,2,FALSE))","v":""},null,null,"",null,null,""]
[null,{"$f":"IF(C1159=\"\",\"\",IF(COUNTIF($C$3:C1159, C1159)>1, \"\", C1159))","v":""},{"$f":"IF(G1159=\"\",\"\",IF(F1159=\"\",\"\",CONCATENATE(DIGITADOR!$M$1,G1159,E1159)))","v":""},"",{"$f":"IF(F1159=\"\",\"\",VLOOKUP(F1159,referentes!$Q$2:$T$300,3,FALSE))","v":""},null,null,null,null,null,{"$f":"IF(L1159=\"\",\"\",VLOOKUP(L1159,referentes!$G$2:$N$15,2,FALSE))","v":""},null,null,"",null,null,""]
[null,{"$f":"IF(C1160=\"\",\"\",IF(COUNTIF($C$3:C1160, C1160)>1, \"\", C1160))","v":""},{"$f":"IF(G1160=\"\",\"\",IF(F1160=\"\",\"\",CONCATENATE(DIGITADOR!$M$1,G1160,E1160)))","v":""},"",{"$f":"IF(F1160=\"\",\"\",VLOOKUP(F1160,referentes!$Q$2:$T$300,3,FALSE))","v":""},null,null,null,null,null,{"$f":"IF(L1160=\"\",\"\",VLOOKUP(L1160,referentes!$G$2:$N$15,2,FALSE))","v":""},null,null,"",null,null,""]
[null,{"$f":"IF(C1161=\"\",\"\",IF(COUNTIF($C$3:C1161, C1161)>1, \"\", C1161))","v":""},{"$f":"IF(G1161=\"\",\"\",IF(F1161=\"\",\"\",CONCATENATE(DIGITADOR!$M$1,G1161,E1161)))","v":""},"",{"$f":"IF(F1161=\"\",\"\",VLOOKUP(F1161,referentes!$Q$2:$T$300,3,FALSE))","v":""},null,null,null,null,null,{"$f":"IF(L1161=\"\",\"\",VLOOKUP(L1161,referentes!$G$2:$N$15,2,FALSE))","v":""},null,null,"",null,null,""]
[null,{"$f":"IF(C1162=\"\",\"\",IF(COUNTIF($C$3:C1162, C1162)>1, \"\", C1162))","v":""},{"$f":"IF(G1162=\"\",\"\",IF(F1162=\"\",\"\",CONCATENATE(DIGITADOR!$M$1,G1162,E1162)))","v":""},"",{"$f":"IF(F1162=\"\",\"\",VLOOKUP(F1162,referentes!$Q$2:$T$300,3,FALSE))","v":""},null,null,null,null,null,{"$f":"IF(L1162=\"\",\"\",VLOOKUP(L1162,referentes!$G$2:$N$15,2,FALSE))","v":""},null,null,"",null,null,""]
[null,{"$f":"IF(C1163=\"\",\"\",IF(COUNTIF($C$3:C1163, C1163)>1, \"\", C1163))","v":""},{"$f":"IF(G1163=\"\",\"\",IF(F1163=\"\",\"\",CONCATENATE(DIGITADOR!$M$1,G1163,E1163)))","v":""},"",{"$f":"IF(F1163=\"\",\"\",VLOOKUP(F1163,referentes!$Q$2:$T$300,3,FALSE))","v":""},null,null,null,null,null,{"$f":"IF(L1163=\"\",\"\",VLOOKUP(L1163,referentes!$G$2:$N$15,2,FALSE))","v":""},null,null,"",null,null,""]
[null,{"$f":"IF(C1164=\"\",\"\",IF(COUNTIF($C$3:C1164, C1164)>1, \"\", C1164))","v":""},{"$f":"IF(G1164=\"\",\"\",IF(F1164=\"\",\"\",CONCATENATE(DIGITADOR!$M$1,G1164,E1164)))","v":""},"",{"$f":"IF(F1164=\"\",\"\",VLOOKUP(F1164,referentes!$Q$2:$T$300,3,FALSE))","v":""},null,null,null,null,null,{"$f":"IF(L1164=\"\",\"\",VLOOKUP(L1164,referentes!$G$2:$N$15,2,FALSE))","v":""},null,null,"",null,null,""]
[null,{"$f":"IF(C1165=\"\",\"\",IF(COUNTIF($C$3:C1165, C1165)>1, \"\", C1165))","v":""},{"$f":"IF(G1165=\"\",\"\",IF(F1165=\"\",\"\",CONCATENATE(DIGITADOR!$M$1,G1165,E1165)))","v":""},"",{"$f":"IF(F1165=\"\",\"\",VLOOKUP(F1165,referentes!$Q$2:$T$300,3,FALSE))","v":""},null,null,null,null,null,{"$f":"IF(L1165=\"\",\"\",VLOOKUP(L1165,referentes!$G$2:$N$15,2,FALSE))","v":""},null,null,"",null,null,""]
[null,{"$f":"IF(C1166=\"\",\"\",IF(COUNTIF($C$3:C1166, C1166)>1, \"\", C1166))","v":""},{"$f":"IF(G1166=\"\",\"\",IF(F1166=\"\",\"\",CONCATENATE(DIGITADOR!$M$1,G1166,E1166)))","v":""},"",{"$f":"IF(F1166=\"\",\"\",VLOOKUP(F1166,referentes!$Q$2:$T$300,3,FALSE))","v":""},null,null,null,null,null,{"$f":"IF(L1166=\"\",\"\",VLOOKUP(L1166,referentes!$G$2:$N$15,2,FALSE))","v":""},null,null,"",null,null,""]
[null,{"$f":"IF(C1167=\"\",\"\",IF(COUNTIF($C$3:C1167, C1167)>1, \"\", C1167))","v":""},{"$f":"IF(G1167=\"\",\"\",IF(F1167=\"\",\"\",CONCATENATE(DIGITADOR!$M$1,G1167,E1167)))","v":""},"",{"$f":"IF(F1167=\"\",\"\",VLOOKUP(F1167,referentes!$Q$2:$T$300,3,FALSE))","v":""},null,null,null,null,null,{"$f":"IF(L1167=\"\",\"\",VLOOKUP(L1167,referentes!$G$2:$N$15,2,FALSE))","v":""},null,null,"",null,null,""]
[null,{"$f":"IF(C1168=\"\",\"\",IF(COUNTIF($C$3:C1168, C1168)>1, \"\", C1168))","v":""},{"$f":"IF(G1168=\"\",\"\",IF(F1168=\"\",\"\",CONCATENATE(DIGITADOR!$M$1,G1168,E1168)))","v":""},"",{"$f":"IF(F1168=\"\",\"\",VLOOKUP(F1168,referentes!$Q$2:$T$300,3,FALSE))","v":""},null,null,null,null,null,{"$f":"IF(L1168=\"\",\"\",VLOOKUP(L1168,referentes!$G$2:$N$15,2,FALSE))","v":""},null,null,"",null,null,""]
[null,{"$f":"IF(C1169=\"\",\"\",IF(COUNTIF($C$3:C1169, C1169)>1, \"\", C1169))","v":""},{"$f":"IF(G1169=\"\",\"\",IF(F1169=\"\",\"\",CONCATENATE(DIGITADOR!$M$1,G1169,E1169)))","v":""},"",{"$f":"IF(F1169=\"\",\"\",VLOOKUP(F1169,referentes!$Q$2:$T$300,3,FALSE))","v":""},null,null,null,null,null,{"$f":"IF(L1169=\"\",\"\",VLOOKUP(L1169,referentes!$G$2:$N$15,2,FALSE))","v":""},null,null,"",null,null,""]
[null,{"$f":"IF(C1170=\"\",\"\",IF(COUNTIF($C$3:C1170, C1170)>1, \"\", C1170))","v":""},{"$f":"IF(G1170=\"\",\"\",IF(F1170=\"\",\"\",CONCATENATE(DIGITADOR!$M$1,G1170,E1170)))","v":""},"",{"$f":"IF(F1170=\"\",\"\",VLOOKUP(F1170,referentes!$Q$2:$T$300,3,FALSE))","v":""},null,null,null,null,null,{"$f":"IF(L1170=\"\",\"\",VLOOKUP(L1170,referentes!$G$2:$N$15,2,FALSE))","v":""},null,null,"",null,null,""]
[null,{"$f":"IF(C1171=\"\",\"\",IF(COUNTIF($C$3:C1171, C1171)>1, \"\", C1171))","v":""},{"$f":"IF(G1171=\"\",\"\",IF(F1171=\"\",\"\",CONCATENATE(DIGITADOR!$M$1,G1171,E1171)))","v":""},"",{"$f":"IF(F1171=\"\",\"\",VLOOKUP(F1171,referentes!$Q$2:$T$300,3,FALSE))","v":""},null,null,null,null,null,{"$f":"IF(L1171=\"\",\"\",VLOOKUP(L1171,referentes!$G$2:$N$15,2,FALSE))","v":""},null,null,"",null,null,""]
[null,{"$f":"IF(C1172=\"\",\"\",IF(COUNTIF($C$3:C1172, C1172)>1, \"\", C1172))","v":""},{"$f":"IF(G1172=\"\",\"\",IF(F1172=\"\",\"\",CONCATENATE(DIGITADOR!$M$1,G1172,E1172)))","v":""},"",{"$f":"IF(F1172=\"\",\"\",VLOOKUP(F1172,referentes!$Q$2:$T$300,3,FALSE))","v":""},null,null,null,null,null,{"$f":"IF(L1172=\"\",\"\",VLOOKUP(L1172,referentes!$G$2:$N$15,2,FALSE))","v":""},null,null,"",null,null,""]
[null,{"$f":"IF(C1173=\"\",\"\",IF(COUNTIF($C$3:C1173, C1173)>1, \"\", C1173))","v":""},{"$f":"IF(G1173=\"\",\"\",IF(F1173=\"\",\"\",CONCATENATE(DIGITADOR!$M$1,G1173,E1173)))","v":""},"",{"$f":"IF(F1173=\"\",\"\",VLOOKUP(F1173,referentes!$Q$2:$T$300,3,FALSE))","v":""},null,null,null,null,null,{"$f":"IF(L1173=\"\",\"\",VLOOKUP(L1173,referentes!$G$2:$N$15,2,FALSE))","v":""},null,null,"",null,null,""]
[null,{"$f":"IF(C1174=\"\",\"\",IF(COUNTIF($C$3:C1174, C1174)>1, \"\", C1174))","v":""},{"$f":"IF(G1174=\"\",\"\",IF(F1174=\"\",\"\",CONCATENATE(DIGITADOR!$M$1,G1174,E1174)))","v":""},"",{"$f":"IF(F1174=\"\",\"\",VLOOKUP(F1174,referentes!$Q$2:$T$300,3,FALSE))","v":""},null,null,null,null,null,{"$f":"IF(L1174=\"\",\"\",VLOOKUP(L1174,referentes!$G$2:$N$15,2,FALSE))","v":""},null,null,"",null,null,""]
[null,{"$f":"IF(C1175=\"\",\"\",IF(COUNTIF($C$3:C1175, C1175)>1, \"\", C1175))","v":""},{"$f":"IF(G1175=\"\",\"\",IF(F1175=\"\",\"\",CONCATENATE(DIGITADOR!$M$1,G1175,E1175)))","v":""},"",{"$f":"IF(F1175=\"\",\"\",VLOOKUP(F1175,referentes!$Q$2:$T$300,3,FALSE))","v":""},null,null,null,null,null,{"$f":"IF(L1175=\"\",\"\",VLOOKUP(L1175,referentes!$G$2:$N$15,2,FALSE))","v":""},null,null,"",null,null,""]
[null,{"$f":"IF(C1176=\"\",\"\",IF(COUNTIF($C$3:C1176, C1176)>1, \"\", C1176))","v":""},{"$f":"IF(G1176=\"\",\"\",IF(F1176=\"\",\"\",CONCATENATE(DIGITADOR!$M$1,G1176,E1176)))","v":""},"",{"$f":"IF(F1176=\"\",\"\",VLOOKUP(F1176,referentes!$Q$2:$T$300,3,FALSE))","v":""},null,null,null,null,null,{"$f":"IF(L1176=\"\",\"\",VLOOKUP(L1176,referentes!$G$2:$N$15,2,FALSE))","v":""},null,null,"",null,null,""]
[null,{"$f":"IF(C1177=\"\",\"\",IF(COUNTIF($C$3:C1177, C1177)>1, \"\", C1177))","v":""},{"$f":"IF(G1177=\"\",\"\",IF(F1177=\"\",\"\",CONCATENATE(DIGITADOR!$M$1,G1177,E1177)))","v":""},"",{"$f":"IF(F1177=\"\",\"\",VLOOKUP(F1177,referentes!$Q$2:$T$300,3,FALSE))","v":""},null,null,null,null,null,{"$f":"IF(L1177=\"\",\"\",VLOOKUP(L1177,referentes!$G$2:$N$15,2,FALSE))","v":""},null,null,"",null,null,""]
[null,{"$f":"IF(C1178=\"\",\"\",IF(COUNTIF($C$3:C1178, C1178)>1, \"\", C1178))","v":""},{"$f":"IF(G1178=\"\",\"\",IF(F1178=\"\",\"\",CONCATENATE(DIGITADOR!$M$1,G1178,E1178)))","v":""},"",{"$f":"IF(F1178=\"\",\"\",VLOOKUP(F1178,referentes!$Q$2:$T$300,3,FALSE))","v":""},null,null,null,null,null,{"$f":"IF(L1178=\"\",\"\",VLOOKUP(L1178,referentes!$G$2:$N$15,2,FALSE))","v":""},null,null,"",null,null,""]
[null,{"$f":"IF(C1179=\"\",\"\",IF(COUNTIF($C$3:C1179, C1179)>1, \"\", C1179))","v":""},{"$f":"IF(G1179=\"\",\"\",IF(F1179=\"\",\"\",CONCATENATE(DIGITADOR!$M$1,G1179,E1179)))","v":""},"",{"$f":"IF(F1179=\"\",\"\",VLOOKUP(F1179,referentes!$Q$2:$T$300,3,FALSE))","v":""},null,null,null,null,null,{"$f":"IF(L1179=\"\",\"\",VLOOKUP(L1179,referentes!$G$2:$N$15,2,FALSE))","v":""},null,null,"",null,null,""]
[null,{"$f":"IF(C1180=\"\",\"\",IF(COUNTIF($C$3:C1180, C1180)>1, \"\", C1180))","v":""},{"$f":"IF(G1180=\"\",\"\",IF(F1180=\"\",\"\",CONCATENATE(DIGITADOR!$M$1,G1180,E1180)))","v":""},"",{"$f":"IF(F1180=\"\",\"\",VLOOKUP(F1180,referentes!$Q$2:$T$300,3,FALSE))","v":""},null,null,null,null,null,{"$f":"IF(L1180=\"\",\"\",VLOOKUP(L1180,referentes!$G$2:$N$15,2,FALSE))","v":""},null,null,"",null,null,""]
[null,{"$f":"IF(C1181=\"\",\"\",IF(COUNTIF($C$3:C1181, C1181)>1, \"\", C1181))","v":""},{"$f":"IF(G1181=\"\",\"\",IF(F1181=\"\",\"\",CONCATENATE(DIGITADOR!$M$1,G1181,E1181)))","v":""},"",{"$f":"IF(F1181=\"\",\"\",VLOOKUP(F1181,referentes!$Q$2:$T$300,3,FALSE))","v":""},null,null,null,null,null,{"$f":"IF(L1181=\"\",\"\",VLOOKUP(L1181,referentes!$G$2:$N$15,2,FALSE))","v":""},null,null,"",null,null,""]
[null,{"$f":"IF(C1182=\"\",\"\",IF(COUNTIF($C$3:C1182, C1182)>1, \"\", C1182))","v":""},{"$f":"IF(G1182=\"\",\"\",IF(F1182=\"\",\"\",CONCATENATE(DIGITADOR!$M$1,G1182,E1182)))","v":""},"",{"$f":"IF(F1182=\"\",\"\",VLOOKUP(F1182,referentes!$Q$2:$T$300,3,FALSE))","v":""},null,null,null,null,null,{"$f":"IF(L1182=\"\",\"\",VLOOKUP(L1182,referentes!$G$2:$N$15,2,FALSE))","v":""},null,null,"",null,null,""]
[null,{"$f":"IF(C1183=\"\",\"\",IF(COUNTIF($C$3:C1183, C1183)>1, \"\", C1183))","v":""},{"$f":"IF(G1183=\"\",\"\",IF(F1183=\"\",\"\",CONCATENATE(DIGITADOR!$M$1,G1183,E1183)))","v":""},"",{"$f":"IF(F1183=\"\",\"\",VLOOKUP(F1183,referentes!$Q$2:$T$300,3,FALSE))","v":""},null,null,null,null,null,{"$f":"IF(L1183=\"\",\"\",VLOOKUP(L1183,referentes!$G$2:$N$15,2,FALSE))","v":""},null,null,"",null,null,""]
[null,{"$f":"IF(C1184=\"\",\"\",IF(COUNTIF($C$3:C1184, C1184)>1, \"\", C1184))","v":""},{"$f":"IF(G1184=\"\",\"\",IF(F1184=\"\",\"\",CONCATENATE(DIGITADOR!$M$1,G1184,E1184)))","v":""},"",{"$f":"IF(F1184=\"\",\"\",VLOOKUP(F1184,referentes!$Q$2:$T$300,3,FALSE))","v":""},null,null,null,null,null,{"$f":"IF(L1184=\"\",\"\",VLOOKUP(L1184,referentes!$G$2:$N$15,2,FALSE))","v":""},null,null,"",null,null,""]
[null,{"$f":"IF(C1185=\"\",\"\",IF(COUNTIF($C$3:C1185, C1185)>1, \"\", C1185))","v":""},{"$f":"IF(G1185=\"\",\"\",IF(F1185=\"\",\"\",CONCATENATE(DIGITADOR!$M$1,G1185,E1185)))","v":""},"",{"$f":"IF(F1185=\"\",\"\",VLOOKUP(F1185,referentes!$Q$2:$T$300,3,FALSE))","v":""},null,null,null,null,null,{"$f":"IF(L1185=\"\",\"\",VLOOKUP(L1185,referentes!$G$2:$N$15,2,FALSE))","v":""},null,null,"",null,null,""]
[null,{"$f":"IF(C1186=\"\",\"\",IF(COUNTIF($C$3:C1186, C1186)>1, \"\", C1186))","v":""},{"$f":"IF(G1186=\"\",\"\",IF(F1186=\"\",\"\",CONCATENATE(DIGITADOR!$M$1,G1186,E1186)))","v":""},"",{"$f":"IF(F1186=\"\",\"\",VLOOKUP(F1186,referentes!$Q$2:$T$300,3,FALSE))","v":""},null,null,null,null,null,{"$f":"IF(L1186=\"\",\"\",VLOOKUP(L1186,referentes!$G$2:$N$15,2,FALSE))","v":""},null,null,"",null,null,""]
[null,{"$f":"IF(C1187=\"\",\"\",IF(COUNTIF($C$3:C1187, C1187)>1, \"\", C1187))","v":""},{"$f":"IF(G1187=\"\",\"\",IF(F1187=\"\",\"\",CONCATENATE(DIGITADOR!$M$1,G1187,E1187)))","v":""},"",{"$f":"IF(F1187=\"\",\"\",VLOOKUP(F1187,referentes!$Q$2:$T$300,3,FALSE))","v":""},null,null,null,null,null,{"$f":"IF(L1187=\"\",\"\",VLOOKUP(L1187,referentes!$G$2:$N$15,2,FALSE))","v":""},null,null,"",null,null,""]
[null,{"$f":"IF(C1188=\"\",\"\",IF(COUNTIF($C$3:C1188, C1188)>1, \"\", C1188))","v":""},{"$f":"IF(G1188=\"\",\"\",IF(F1188=\"\",\"\",CONCATENATE(DIGITADOR!$M$1,G1188,E1188)))","v":""},"",{"$f":"IF(F1188=\"\",\"\",VLOOKUP(F1188,referentes!$Q$2:$T$300,3,FALSE))","v":""},null,null,null,null,null,{"$f":"IF(L1188=\"\",\"\",VLOOKUP(L1188,referentes!$G$2:$N$15,2,FALSE))","v":""},null,null,"",null,null,""]
[null,{"$f":"IF(C1189=\"\",\"\",IF(COUNTIF($C$3:C1189, C1189)>1, \"\", C1189))","v":""},{"$f":"IF(G1189=\"\",\"\",IF(F1189=\"\",\"\",CONCATENATE(DIGITADOR!$M$1,G1189,E1189)))","v":""},"",{"$f":"IF(F1189=\"\",\"\",VLOOKUP(F1189,referentes!$Q$2:$T$300,3,FALSE))","v":""},null,null,null,null,null,{"$f":"IF(L1189=\"\",\"\",VLOOKUP(L1189,referentes!$G$2:$N$15,2,FALSE))","v":""},null,null,"",null,null,""]
[null,{"$f":"IF(C1190=\"\",\"\",IF(COUNTIF($C$3:C1190, C1190)>1, \"\", C1190))","v":""},{"$f":"IF(G1190=\"\",\"\",IF(F1190=\"\",\"\",CONCATENATE(DIGITADOR!$M$1,G1190,E1190)))","v":""},"",{"$f":"IF(F1190=\"\",\"\",VLOOKUP(F1190,referentes!$Q$2:$T$300,3,FALSE))","v":""},null,null,null,null,null,{"$f":"IF(L1190=\"\",\"\",VLOOKUP(L1190,referentes!$G$2:$N$15,2,FALSE))","v":""},null,null,"",null,null,""]
[null,{"$f":"IF(C1191=\"\",\"\",IF(COUNTIF($C$3:C1191, C1191)>1, \"\", C1191))","v":""},{"$f":"IF(G1191=\"\",\"\",IF(F1191=\"\",\"\",CONCATENATE(DIGITADOR!$M$1,G1191,E1191)))","v":""},"",{"$f":"IF(F1191=\"\",\"\",VLOOKUP(F1191,referentes!$Q$2:$T$300,3,FALSE))","v":""},null,null,null,null,null,{"$f":"IF(L1191=\"\",\"\",VLOOKUP(L1191,referentes!$G$2:$N$15,2,FALSE))","v":""},null,null,"",null,null,""]
[null,{"$f":"IF(C1192=\"\",\"\",IF(COUNTIF($C$3:C1192, C1192)>1, \"\", C1192))","v":""},{"$f":"IF(G1192=\"\",\"\",IF(F1192=\"\",\"\",CONCATENATE(DIGITADOR!$M$1,G1192,E1192)))","v":""},"",{"$f":"IF(F1192=\"\",\"\",VLOOKUP(F1192,referentes!$Q$2:$T$300,3,FALSE))","v":""},null,null,null,null,null,{"$f":"IF(L1192=\"\",\"\",VLOOKUP(L1192,referentes!$G$2:$N$15,2,FALSE))","v":""},null,null,"",null,null,""]
[null,{"$f":"IF(C1193=\"\",\"\",IF(COUNTIF($C$3:C1193, C1193)>1, \"\", C1193))","v":""},{"$f":"IF(G1193=\"\",\"\",IF(F1193=\"\",\"\",CONCATENATE(DIGITADOR!$M$1,G1193,E1193)))","v":""},"",{"$f":"IF(F1193=\"\",\"\",VLOOKUP(F1193,referentes!$Q$2:$T$300,3,FALSE))","v":""},null,null,null,null,null,{"$f":"IF(L1193=\"\",\"\",VLOOKUP(L1193,referentes!$G$2:$N$15,2,FALSE))","v":""},null,null,"",null,null,""]
[null,{"$f":"IF(C1194=\"\",\"\",IF(COUNTIF($C$3:C1194, C1194)>1, \"\", C1194))","v":""},{"$f":"IF(G1194=\"\",\"\",IF(F1194=\"\",\"\",CONCATENATE(DIGITADOR!$M$1,G1194,E1194)))","v":""},"",{"$f":"IF(F1194=\"\",\"\",VLOOKUP(F1194,referentes!$Q$2:$T$300,3,FALSE))","v":""},null,null,null,null,null,{"$f":"IF(L1194=\"\",\"\",VLOOKUP(L1194,referentes!$G$2:$N$15,2,FALSE))","v":""},null,null,"",null,null,""]
[null,{"$f":"IF(C1195=\"\",\"\",IF(COUNTIF($C$3:C1195, C1195)>1, \"\", C1195))","v":""},{"$f":"IF(G1195=\"\",\"\",IF(F1195=\"\",\"\",CONCATENATE(DIGITADOR!$M$1,G1195,E1195)))","v":""},"",{"$f":"IF(F1195=\"\",\"\",VLOOKUP(F1195,referentes!$Q$2:$T$300,3,FALSE))","v":""},null,null,null,null,null,{"$f":"IF(L1195=\"\",\"\",VLOOKUP(L1195,referentes!$G$2:$N$15,2,FALSE))","v":""},null,null,"",null,null,""]
[null,{"$f":"IF(C1196=\"\",\"\",IF(COUNTIF($C$3:C1196, C1196)>1, \"\", C1196))","v":""},{"$f":"IF(G1196=\"\",\"\",IF(F1196=\"\",\"\",CONCATENATE(DIGITADOR!$M$1,G1196,E1196)))","v":""},"",{"$f":"IF(F1196=\"\",\"\",VLOOKUP(F1196,referentes!$Q$2:$T$300,3,FALSE))","v":""},null,null,null,null,null,{"$f":"IF(L1196=\"\",\"\",VLOOKUP(L1196,referentes!$G$2:$N$15,2,FALSE))","v":""},null,null,"",null,null,""]
[null,{"$f":"IF(C1197=\"\",\"\",IF(COUNTIF($C$3:C1197, C1197)>1, \"\", C1197))","v":""},{"$f":"IF(G1197=\"\",\"\",IF(F1197=\"\",\"\",CONCATENATE(DIGITADOR!$M$1,G1197,E1197)))","v":""},"",{"$f":"IF(F1197=\"\",\"\",VLOOKUP(F1197,referentes!$Q$2:$T$300,3,FALSE))","v":""},null,null,null,null,null,{"$f":"IF(L1197=\"\",\"\",VLOOKUP(L1197,referentes!$G$2:$N$15,2,FALSE))","v":""},null,null,"",null,null,""]
[null,{"$f":"IF(C1198=\"\",\"\",IF(COUNTIF($C$3:C1198, C1198)>1, \"\", C1198))","v":""},{"$f":"IF(G1198=\"\",\"\",IF(F1198=\"\",\"\",CONCATENATE(DIGITADOR!$M$1,G1198,E1198)))","v":""},"",{"$f":"IF(F1198=\"\",\"\",VLOOKUP(F1198,referentes!$Q$2:$T$300,3,FALSE))","v":""},null,null,null,null,null,{"$f":"IF(L1198=\"\",\"\",VLOOKUP(L1198,referentes!$G$2:$N$15,2,FALSE))","v":""},null,null,"",null,null,""]
[null,{"$f":"IF(C1199=\"\",\"\",IF(COUNTIF($C$3:C1199, C1199)>1, \"\", C1199))","v":""},{"$f":"IF(G1199=\"\",\"\",IF(F1199=\"\",\"\",CONCATENATE(DIGITADOR!$M$1,G1199,E1199)))","v":""},"",{"$f":"IF(F1199=\"\",\"\",VLOOKUP(F1199,referentes!$Q$2:$T$300,3,FALSE))","v":""},null,null,null,null,null,{"$f":"IF(L1199=\"\",\"\",VLOOKUP(L1199,referentes!$G$2:$N$15,2,FALSE))","v":""},null,null,"",null,null,""]
[null,{"$f":"IF(C1200=\"\",\"\",IF(COUNTIF($C$3:C1200, C1200)>1, \"\", C1200))","v":""},{"$f":"IF(G1200=\"\",\"\",IF(F1200=\"\",\"\",CONCATENATE(DIGITADOR!$M$1,G1200,E1200)))","v":""},"",{"$f":"IF(F1200=\"\",\"\",VLOOKUP(F1200,referentes!$Q$2:$T$300,3,FALSE))","v":""},null,null,null,null,null,{"$f":"IF(L1200=\"\",\"\",VLOOKUP(L1200,referentes!$G$2:$N$15,2,FALSE))","v":""},null,null,"",null,null,""]
[null,{"$f":"IF(C1201=\"\",\"\",IF(COUNTIF($C$3:C1201, C1201)>1, \"\", C1201))","v":""},{"$f":"IF(G1201=\"\",\"\",IF(F1201=\"\",\"\",CONCATENATE(DIGITADOR!$M$1,G1201,E1201)))","v":""},"",{"$f":"IF(F1201=\"\",\"\",VLOOKUP(F1201,referentes!$Q$2:$T$300,3,FALSE))","v":""},null,null,null,null,null,{"$f":"IF(L1201=\"\",\"\",VLOOKUP(L1201,referentes!$G$2:$N$15,2,FALSE))","v":""},null,null,"",null,null,""]
[null,{"$f":"IF(C1202=\"\",\"\",IF(COUNTIF($C$3:C1202, C1202)>1, \"\", C1202))","v":""},{"$f":"IF(G1202=\"\",\"\",IF(F1202=\"\",\"\",CONCATENATE(DIGITADOR!$M$1,G1202,E1202)))","v":""},"",{"$f":"IF(F1202=\"\",\"\",VLOOKUP(F1202,referentes!$Q$2:$T$300,3,FALSE))","v":""},null,null,null,null,null,{"$f":"IF(L1202=\"\",\"\",VLOOKUP(L1202,referentes!$G$2:$N$15,2,FALSE))","v":""},null,null,"",null,null,""]
[null,{"$f":"IF(C1203=\"\",\"\",IF(COUNTIF($C$3:C1203, C1203)>1, \"\", C1203))","v":""},{"$f":"IF(G1203=\"\",\"\",IF(F1203=\"\",\"\",CONCATENATE(DIGITADOR!$M$1,G1203,E1203)))","v":""},"",{"$f":"IF(F1203=\"\",\"\",VLOOKUP(F1203,referentes!$Q$2:$T$300,3,FALSE))","v":""},null,null,null,null,null,{"$f":"IF(L1203=\"\",\"\",VLOOKUP(L1203,referentes!$G$2:$N$15,2,FALSE))","v":""},null,null,"",null,null,""]
[null,{"$f":"IF(C1204=\"\",\"\",IF(COUNTIF($C$3:C1204, C1204)>1, \"\", C1204))","v":""},{"$f":"IF(G1204=\"\",\"\",IF(F1204=\"\",\"\",CONCATENATE(DIGITADOR!$M$1,G1204,E1204)))","v":""},"",{"$f":"IF(F1204=\"\",\"\",VLOOKUP(F1204,referentes!$Q$2:$T$300,3,FALSE))","v":""},null,null,null,null,null,{"$f":"IF(L1204=\"\",\"\",VLOOKUP(L1204,referentes!$G$2:$N$15,2,FALSE))","v":""},null,null,"",null,null,""]
[null,{"$f":"IF(C1205=\"\",\"\",IF(COUNTIF($C$3:C1205, C1205)>1, \"\", C1205))","v":""},{"$f":"IF(G1205=\"\",\"\",IF(F1205=\"\",\"\",CONCATENATE(DIGITADOR!$M$1,G1205,E1205)))","v":""},"",{"$f":"IF(F1205=\"\",\"\",VLOOKUP(F1205,referentes!$Q$2:$T$300,3,FALSE))","v":""},null,null,null,null,null,{"$f":"IF(L1205=\"\",\"\",VLOOKUP(L1205,referentes!$G$2:$N$15,2,FALSE))","v":""},null,null,"",null,null,""]
[null,{"$f":"IF(C1206=\"\",\"\",IF(COUNTIF($C$3:C1206, C1206)>1, \"\", C1206))","v":""},{"$f":"IF(G1206=\"\",\"\",IF(F1206=\"\",\"\",CONCATENATE(DIGITADOR!$M$1,G1206,E1206)))","v":""},"",{"$f":"IF(F1206=\"\",\"\",VLOOKUP(F1206,referentes!$Q$2:$T$300,3,FALSE))","v":""},null,null,null,null,null,{"$f":"IF(L1206=\"\",\"\",VLOOKUP(L1206,referentes!$G$2:$N$15,2,FALSE))","v":""},null,null,"",null,null,""]
[null,{"$f":"IF(C1207=\"\",\"\",IF(COUNTIF($C$3:C1207, C1207)>1, \"\", C1207))","v":""},{"$f":"IF(G1207=\"\",\"\",IF(F1207=\"\",\"\",CONCATENATE(DIGITADOR!$M$1,G1207,E1207)))","v":""},"",{"$f":"IF(F1207=\"\",\"\",VLOOKUP(F1207,referentes!$Q$2:$T$300,3,FALSE))","v":""},null,null,null,null,null,{"$f":"IF(L1207=\"\",\"\",VLOOKUP(L1207,referentes!$G$2:$N$15,2,FALSE))","v":""},null,null,"",null,null,""]
[null,{"$f":"IF(C1208=\"\",\"\",IF(COUNTIF($C$3:C1208, C1208)>1, \"\", C1208))","v":""},{"$f":"IF(G1208=\"\",\"\",IF(F1208=\"\",\"\",CONCATENATE(DIGITADOR!$M$1,G1208,E1208)))","v":""},"",{"$f":"IF(F1208=\"\",\"\",VLOOKUP(F1208,referentes!$Q$2:$T$300,3,FALSE))","v":""},null,null,null,null,null,{"$f":"IF(L1208=\"\",\"\",VLOOKUP(L1208,referentes!$G$2:$N$15,2,FALSE))","v":""},null,null,"",null,null,""]
[null,{"$f":"IF(C1209=\"\",\"\",IF(COUNTIF($C$3:C1209, C1209)>1, \"\", C1209))","v":""},{"$f":"IF(G1209=\"\",\"\",IF(F1209=\"\",\"\",CONCATENATE(DIGITADOR!$M$1,G1209,E1209)))","v":""},"",{"$f":"IF(F1209=\"\",\"\",VLOOKUP(F1209,referentes!$Q$2:$T$300,3,FALSE))","v":""},null,null,null,null,null,{"$f":"IF(L1209=\"\",\"\",VLOOKUP(L1209,referentes!$G$2:$N$15,2,FALSE))","v":""},null,null,"",null,null,""]
[null,{"$f":"IF(C1210=\"\",\"\",IF(COUNTIF($C$3:C1210, C1210)>1, \"\", C1210))","v":""},{"$f":"IF(G1210=\"\",\"\",IF(F1210=\"\",\"\",CONCATENATE(DIGITADOR!$M$1,G1210,E1210)))","v":""},"",{"$f":"IF(F1210=\"\",\"\",VLOOKUP(F1210,referentes!$Q$2:$T$300,3,FALSE))","v":""},null,null,null,null,null,{"$f":"IF(L1210=\"\",\"\",VLOOKUP(L1210,referentes!$G$2:$N$15,2,FALSE))","v":""},null,null,"",null,null,""]
[null,{"$f":"IF(C1211=\"\",\"\",IF(COUNTIF($C$3:C1211, C1211)>1, \"\", C1211))","v":""},{"$f":"IF(G1211=\"\",\"\",IF(F1211=\"\",\"\",CONCATENATE(DIGITADOR!$M$1,G1211,E1211)))","v":""},"",{"$f":"IF(F1211=\"\",\"\",VLOOKUP(F1211,referentes!$Q$2:$T$300,3,FALSE))","v":""},null,null,null,null,null,{"$f":"IF(L1211=\"\",\"\",VLOOKUP(L1211,referentes!$G$2:$N$15,2,FALSE))","v":""},null,null,"",null,null,""]
[null,{"$f":"IF(C1212=\"\",\"\",IF(COUNTIF($C$3:C1212, C1212)>1, \"\", C1212))","v":""},{"$f":"IF(G1212=\"\",\"\",IF(F1212=\"\",\"\",CONCATENATE(DIGITADOR!$M$1,G1212,E1212)))","v":""},"",{"$f":"IF(F1212=\"\",\"\",VLOOKUP(F1212,referentes!$Q$2:$T$300,3,FALSE))","v":""},null,null,null,null,null,{"$f":"IF(L1212=\"\",\"\",VLOOKUP(L1212,referentes!$G$2:$N$15,2,FALSE))","v":""},null,null,"",null,null,""]
[null,{"$f":"IF(C1213=\"\",\"\",IF(COUNTIF($C$3:C1213, C1213)>1, \"\", C1213))","v":""},{"$f":"IF(G1213=\"\",\"\",IF(F1213=\"\",\"\",CONCATENATE(DIGITADOR!$M$1,G1213,E1213)))","v":""},"",{"$f":"IF(F1213=\"\",\"\",VLOOKUP(F1213,referentes!$Q$2:$T$300,3,FALSE))","v":""},null,null,null,null,null,{"$f":"IF(L1213=\"\",\"\",VLOOKUP(L1213,referentes!$G$2:$N$15,2,FALSE))","v":""},null,null,"",null,null,""]
[null,{"$f":"IF(C1214=\"\",\"\",IF(COUNTIF($C$3:C1214, C1214)>1, \"\", C1214))","v":""},{"$f":"IF(G1214=\"\",\"\",IF(F1214=\"\",\"\",CONCATENATE(DIGITADOR!$M$1,G1214,E1214)))","v":""},"",{"$f":"IF(F1214=\"\",\"\",VLOOKUP(F1214,referentes!$Q$2:$T$300,3,FALSE))","v":""},null,null,null,null,null,{"$f":"IF(L1214=\"\",\"\",VLOOKUP(L1214,referentes!$G$2:$N$15,2,FALSE))","v":""},null,null,"",null,null,""]
[null,{"$f":"IF(C1215=\"\",\"\",IF(COUNTIF($C$3:C1215, C1215)>1, \"\", C1215))","v":""},{"$f":"IF(G1215=\"\",\"\",IF(F1215=\"\",\"\",CONCATENATE(DIGITADOR!$M$1,G1215,E1215)))","v":""},"",{"$f":"IF(F1215=\"\",\"\",VLOOKUP(F1215,referentes!$Q$2:$T$300,3,FALSE))","v":""},null,null,null,null,null,{"$f":"IF(L1215=\"\",\"\",VLOOKUP(L1215,referentes!$G$2:$N$15,2,FALSE))","v":""},null,null,"",null,null,""]
[null,{"$f":"IF(C1216=\"\",\"\",IF(COUNTIF($C$3:C1216, C1216)>1, \"\", C1216))","v":""},{"$f":"IF(G1216=\"\",\"\",IF(F1216=\"\",\"\",CONCATENATE(DIGITADOR!$M$1,G1216,E1216)))","v":""},"",{"$f":"IF(F1216=\"\",\"\",VLOOKUP(F1216,referentes!$Q$2:$T$300,3,FALSE))","v":""},null,null,null,null,null,{"$f":"IF(L1216=\"\",\"\",VLOOKUP(L1216,referentes!$G$2:$N$15,2,FALSE))","v":""},null,null,"",null,null,""]
[null,{"$f":"IF(C1217=\"\",\"\",IF(COUNTIF($C$3:C1217, C1217)>1, \"\", C1217))","v":""},{"$f":"IF(G1217=\"\",\"\",IF(F1217=\"\",\"\",CONCATENATE(DIGITADOR!$M$1,G1217,E1217)))","v":""},"",{"$f":"IF(F1217=\"\",\"\",VLOOKUP(F1217,referentes!$Q$2:$T$300,3,FALSE))","v":""},null,null,null,null,null,{"$f":"IF(L1217=\"\",\"\",VLOOKUP(L1217,referentes!$G$2:$N$15,2,FALSE))","v":""},null,null,"",null,null,""]
[null,{"$f":"IF(C1218=\"\",\"\",IF(COUNTIF($C$3:C1218, C1218)>1, \"\", C1218))","v":""},{"$f":"IF(G1218=\"\",\"\",IF(F1218=\"\",\"\",CONCATENATE(DIGITADOR!$M$1,G1218,E1218)))","v":""},"",{"$f":"IF(F1218=\"\",\"\",VLOOKUP(F1218,referentes!$Q$2:$T$300,3,FALSE))","v":""},null,null,null,null,null,{"$f":"IF(L1218=\"\",\"\",VLOOKUP(L1218,referentes!$G$2:$N$15,2,FALSE))","v":""},null,null,"",null,null,""]
[null,{"$f":"IF(C1219=\"\",\"\",IF(COUNTIF($C$3:C1219, C1219)>1, \"\", C1219))","v":""},{"$f":"IF(G1219=\"\",\"\",IF(F1219=\"\",\"\",CONCATENATE(DIGITADOR!$M$1,G1219,E1219)))","v":""},"",{"$f":"IF(F1219=\"\",\"\",VLOOKUP(F1219,referentes!$Q$2:$T$300,3,FALSE))","v":""},null,null,null,null,null,{"$f":"IF(L1219=\"\",\"\",VLOOKUP(L1219,referentes!$G$2:$N$15,2,FALSE))","v":""},null,null,"",null,null,""]
[null,{"$f":"IF(C1220=\"\",\"\",IF(COUNTIF($C$3:C1220, C1220)>1, \"\", C1220))","v":""},{"$f":"IF(G1220=\"\",\"\",IF(F1220=\"\",\"\",CONCATENATE(DIGITADOR!$M$1,G1220,E1220)))","v":""},{"$f":"IF(C1220=\"\",\"\",CONCATENATE(C1220,ROW()-2))","v":""},{"$f":"IF(F1220=\"\",\"\",VLOOKUP(F1220,referentes!$Q$2:$T$300,3,FALSE))","v":""},null,null,null,null,null,{"$f":"IF(L1220=\"\",\"\",VLOOKUP(L1220,referentes!$G$2:$N$15,2,FALSE))","v":""},null,null,{"$f":"IF(M1220=\"\",\"\",M1220/PI())","v":""},null,null,{"$f":"IF(N1220=\"\",\"\",((PI())*((N1220/100)^2))/4*10000/500)","v":""}]
[null,{"$f":"IF(C1221=\"\",\"\",IF(COUNTIF($C$3:C1221, C1221)>1, \"\", C1221))","v":""},{"$f":"IF(G1221=\"\",\"\",IF(F1221=\"\",\"\",CONCATENATE(DIGITADOR!$M$1,G1221,E1221)))","v":""},"",{"$f":"IF(F1221=\"\",\"\",VLOOKUP(F1221,referentes!$Q$2:$T$300,3,FALSE))","v":""},null,null,null,null,null,{"$f":"IF(L1221=\"\",\"\",VLOOKUP(L1221,referentes!$G$2:$N$15,2,FALSE))","v":""},null,null,"",null,null,""]
[null,{"$f":"IF(C1222=\"\",\"\",IF(COUNTIF($C$3:C1222, C1222)>1, \"\", C1222))","v":""},{"$f":"IF(G1222=\"\",\"\",IF(F1222=\"\",\"\",CONCATENATE(DIGITADOR!$M$1,G1222,E1222)))","v":""},"",{"$f":"IF(F1222=\"\",\"\",VLOOKUP(F1222,referentes!$Q$2:$T$300,3,FALSE))","v":""},null,null,null,null,null,{"$f":"IF(L1222=\"\",\"\",VLOOKUP(L1222,referentes!$G$2:$N$15,2,FALSE))","v":""},null,null,"",null,null,""]
[null,{"$f":"IF(C1223=\"\",\"\",IF(COUNTIF($C$3:C1223, C1223)>1, \"\", C1223))","v":""},{"$f":"IF(G1223=\"\",\"\",IF(F1223=\"\",\"\",CONCATENATE(DIGITADOR!$M$1,G1223,E1223)))","v":""},"",{"$f":"IF(F1223=\"\",\"\",VLOOKUP(F1223,referentes!$Q$2:$T$300,3,FALSE))","v":""},null,null,null,null,null,{"$f":"IF(L1223=\"\",\"\",VLOOKUP(L1223,referentes!$G$2:$N$15,2,FALSE))","v":""},null,null,"",null,null,""]
[null,{"$f":"IF(C1224=\"\",\"\",IF(COUNTIF($C$3:C1224, C1224)>1, \"\", C1224))","v":""},{"$f":"IF(G1224=\"\",\"\",IF(F1224=\"\",\"\",CONCATENATE(DIGITADOR!$M$1,G1224,E1224)))","v":""},"",{"$f":"IF(F1224=\"\",\"\",VLOOKUP(F1224,referentes!$Q$2:$T$300,3,FALSE))","v":""},null,null,null,null,null,{"$f":"IF(L1224=\"\",\"\",VLOOKUP(L1224,referentes!$G$2:$N$15,2,FALSE))","v":""},null,null,"",null,null,""]
[null,{"$f":"IF(C1225=\"\",\"\",IF(COUNTIF($C$3:C1225, C1225)>1, \"\", C1225))","v":""},{"$f":"IF(G1225=\"\",\"\",IF(F1225=\"\",\"\",CONCATENATE(DIGITADOR!$M$1,G1225,E1225)))","v":""},"",{"$f":"IF(F1225=\"\",\"\",VLOOKUP(F1225,referentes!$Q$2:$T$300,3,FALSE))","v":""},null,null,null,null,null,{"$f":"IF(L1225=\"\",\"\",VLOOKUP(L1225,referentes!$G$2:$N$15,2,FALSE))","v":""},null,null,"",null,null,""]
[null,{"$f":"IF(C1226=\"\",\"\",IF(COUNTIF($C$3:C1226, C1226)>1, \"\", C1226))","v":""},{"$f":"IF(G1226=\"\",\"\",IF(F1226=\"\",\"\",CONCATENATE(DIGITADOR!$M$1,G1226,E1226)))","v":""},"",{"$f":"IF(F1226=\"\",\"\",VLOOKUP(F1226,referentes!$Q$2:$T$300,3,FALSE))","v":""},null,null,null,null,null,{"$f":"IF(L1226=\"\",\"\",VLOOKUP(L1226,referentes!$G$2:$N$15,2,FALSE))","v":""},null,null,"",null,null,""]
[null,{"$f":"IF(C1227=\"\",\"\",IF(COUNTIF($C$3:C1227, C1227)>1, \"\", C1227))","v":""},{"$f":"IF(G1227=\"\",\"\",IF(F1227=\"\",\"\",CONCATENATE(DIGITADOR!$M$1,G1227,E1227)))","v":""},"",{"$f":"IF(F1227=\"\",\"\",VLOOKUP(F1227,referentes!$Q$2:$T$300,3,FALSE))","v":""},null,null,null,null,null,{"$f":"IF(L1227=\"\",\"\",VLOOKUP(L1227,referentes!$G$2:$N$15,2,FALSE))","v":""},null,null,"",null,null,""]
[null,{"$f":"IF(C1228=\"\",\"\",IF(COUNTIF($C$3:C1228, C1228)>1, \"\", C1228))","v":""},{"$f":"IF(G1228=\"\",\"\",IF(F1228=\"\",\"\",CONCATENATE(DIGITADOR!$M$1,G1228,E1228)))","v":""},"",{"$f":"IF(F1228=\"\",\"\",VLOOKUP(F1228,referentes!$Q$2:$T$300,3,FALSE))","v":""},null,null,null,null,null,{"$f":"IF(L1228=\"\",\"\",VLOOKUP(L1228,referentes!$G$2:$N$15,2,FALSE))","v":""},null,null,"",null,null,""]
[null,{"$f":"IF(C1229=\"\",\"\",IF(COUNTIF($C$3:C1229, C1229)>1, \"\", C1229))","v":""},{"$f":"IF(G1229=\"\",\"\",IF(F1229=\"\",\"\",CONCATENATE(DIGITADOR!$M$1,G1229,E1229)))","v":""},"",{"$f":"IF(F1229=\"\",\"\",VLOOKUP(F1229,referentes!$Q$2:$T$300,3,FALSE))","v":""},null,null,null,null,null,{"$f":"IF(L1229=\"\",\"\",VLOOKUP(L1229,referentes!$G$2:$N$15,2,FALSE))","v":""},null,null,"",null,null,""]
[null,{"$f":"IF(C1230=\"\",\"\",IF(COUNTIF($C$3:C1230, C1230)>1, \"\", C1230))","v":""},{"$f":"IF(G1230=\"\",\"\",IF(F1230=\"\",\"\",CONCATENATE(DIGITADOR!$M$1,G1230,E1230)))","v":""},"",{"$f":"IF(F1230=\"\",\"\",VLOOKUP(F1230,referentes!$Q$2:$T$300,3,FALSE))","v":""},null,null,null,null,null,{"$f":"IF(L1230=\"\",\"\",VLOOKUP(L1230,referentes!$G$2:$N$15,2,FALSE))","v":""},null,null,"",null,null,""]
[null,{"$f":"IF(C1231=\"\",\"\",IF(COUNTIF($C$3:C1231, C1231)>1, \"\", C1231))","v":""},{"$f":"IF(G1231=\"\",\"\",IF(F1231=\"\",\"\",CONCATENATE(DIGITADOR!$M$1,G1231,E1231)))","v":""},"",{"$f":"IF(F1231=\"\",\"\",VLOOKUP(F1231,referentes!$Q$2:$T$300,3,FALSE))","v":""},null,null,null,null,null,{"$f":"IF(L1231=\"\",\"\",VLOOKUP(L1231,referentes!$G$2:$N$15,2,FALSE))","v":""},null,null,"",null,null,""]
[null,{"$f":"IF(C1232=\"\",\"\",IF(COUNTIF($C$3:C1232, C1232)>1, \"\", C1232))","v":""},{"$f":"IF(G1232=\"\",\"\",IF(F1232=\"\",\"\",CONCATENATE(DIGITADOR!$M$1,G1232,E1232)))","v":""},"",{"$f":"IF(F1232=\"\",\"\",VLOOKUP(F1232,referentes!$Q$2:$T$300,3,FALSE))","v":""},null,null,null,null,null,{"$f":"IF(L1232=\"\",\"\",VLOOKUP(L1232,referentes!$G$2:$N$15,2,FALSE))","v":""},null,null,"",null,null,""]
[null,{"$f":"IF(C1233=\"\",\"\",IF(COUNTIF($C$3:C1233, C1233)>1, \"\", C1233))","v":""},{"$f":"IF(G1233=\"\",\"\",IF(F1233=\"\",\"\",CONCATENATE(DIGITADOR!$M$1,G1233,E1233)))","v":""},"",{"$f":"IF(F1233=\"\",\"\",VLOOKUP(F1233,referentes!$Q$2:$T$300,3,FALSE))","v":""},null,null,null,null,null,{"$f":"IF(L1233=\"\",\"\",VLOOKUP(L1233,referentes!$G$2:$N$15,2,FALSE))","v":""},null,null,"",null,null,""]
[null,{"$f":"IF(C1234=\"\",\"\",IF(COUNTIF($C$3:C1234, C1234)>1, \"\", C1234))","v":""},{"$f":"IF(G1234=\"\",\"\",IF(F1234=\"\",\"\",CONCATENATE(DIGITADOR!$M$1,G1234,E1234)))","v":""},"",{"$f":"IF(F1234=\"\",\"\",VLOOKUP(F1234,referentes!$Q$2:$T$300,3,FALSE))","v":""},null,null,null,null,null,{"$f":"IF(L1234=\"\",\"\",VLOOKUP(L1234,referentes!$G$2:$N$15,2,FALSE))","v":""},null,null,"",null,null,""]
[null,{"$f":"IF(C1235=\"\",\"\",IF(COUNTIF($C$3:C1235, C1235)>1, \"\", C1235))","v":""},{"$f":"IF(G1235=\"\",\"\",IF(F1235=\"\",\"\",CONCATENATE(DIGITADOR!$M$1,G1235,E1235)))","v":""},"",{"$f":"IF(F1235=\"\",\"\",VLOOKUP(F1235,referentes!$Q$2:$T$300,3,FALSE))","v":""},null,null,null,null,null,{"$f":"IF(L1235=\"\",\"\",VLOOKUP(L1235,referentes!$G$2:$N$15,2,FALSE))","v":""},null,null,"",null,null,""]
[null,{"$f":"IF(C1236=\"\",\"\",IF(COUNTIF($C$3:C1236, C1236)>1, \"\", C1236))","v":""},{"$f":"IF(G1236=\"\",\"\",IF(F1236=\"\",\"\",CONCATENATE(DIGITADOR!$M$1,G1236,E1236)))","v":""},"",{"$f":"IF(F1236=\"\",\"\",VLOOKUP(F1236,referentes!$Q$2:$T$300,3,FALSE))","v":""},null,null,null,null,null,{"$f":"IF(L1236=\"\",\"\",VLOOKUP(L1236,referentes!$G$2:$N$15,2,FALSE))","v":""},null,null,"",null,null,""]
[null,{"$f":"IF(C1237=\"\",\"\",IF(COUNTIF($C$3:C1237, C1237)>1, \"\", C1237))","v":""},{"$f":"IF(G1237=\"\",\"\",IF(F1237=\"\",\"\",CONCATENATE(DIGITADOR!$M$1,G1237,E1237)))","v":""},"",{"$f":"IF(F1237=\"\",\"\",VLOOKUP(F1237,referentes!$Q$2:$T$300,3,FALSE))","v":""},null,null,null,null,null,{"$f":"IF(L1237=\"\",\"\",VLOOKUP(L1237,referentes!$G$2:$N$15,2,FALSE))","v":""},null,null,"",null,null,""]
[null,{"$f":"IF(C1238=\"\",\"\",IF(COUNTIF($C$3:C1238, C1238)>1, \"\", C1238))","v":""},{"$f":"IF(G1238=\"\",\"\",IF(F1238=\"\",\"\",CONCATENATE(DIGITADOR!$M$1,G1238,E1238)))","v":""},"",{"$f":"IF(F1238=\"\",\"\",VLOOKUP(F1238,referentes!$Q$2:$T$300,3,FALSE))","v":""},null,null,null,null,null,{"$f":"IF(L1238=\"\",\"\",VLOOKUP(L1238,referentes!$G$2:$N$15,2,FALSE))","v":""},null,null,"",null,null,""]
[null,{"$f":"IF(C1239=\"\",\"\",IF(COUNTIF($C$3:C1239, C1239)>1, \"\", C1239))","v":""},{"$f":"IF(G1239=\"\",\"\",IF(F1239=\"\",\"\",CONCATENATE(DIGITADOR!$M$1,G1239,E1239)))","v":""},"",{"$f":"IF(F1239=\"\",\"\",VLOOKUP(F1239,referentes!$Q$2:$T$300,3,FALSE))","v":""},null,null,null,null,null,{"$f":"IF(L1239=\"\",\"\",VLOOKUP(L1239,referentes!$G$2:$N$15,2,FALSE))","v":""},null,null,"",null,null,""]
[null,{"$f":"IF(C1240=\"\",\"\",IF(COUNTIF($C$3:C1240, C1240)>1, \"\", C1240))","v":""},{"$f":"IF(G1240=\"\",\"\",IF(F1240=\"\",\"\",CONCATENATE(DIGITADOR!$M$1,G1240,E1240)))","v":""},"",{"$f":"IF(F1240=\"\",\"\",VLOOKUP(F1240,referentes!$Q$2:$T$300,3,FALSE))","v":""},null,null,null,null,null,{"$f":"IF(L1240=\"\",\"\",VLOOKUP(L1240,referentes!$G$2:$N$15,2,FALSE))","v":""},null,null,"",null,null,""]
[null,{"$f":"IF(C1241=\"\",\"\",IF(COUNTIF($C$3:C1241, C1241)>1, \"\", C1241))","v":""},{"$f":"IF(G1241=\"\",\"\",IF(F1241=\"\",\"\",CONCATENATE(DIGITADOR!$M$1,G1241,E1241)))","v":""},"",{"$f":"IF(F1241=\"\",\"\",VLOOKUP(F1241,referentes!$Q$2:$T$300,3,FALSE))","v":""},null,null,null,null,null,{"$f":"IF(L1241=\"\",\"\",VLOOKUP(L1241,referentes!$G$2:$N$15,2,FALSE))","v":""},null,null,"",null,null,""]
[null,{"$f":"IF(C1242=\"\",\"\",IF(COUNTIF($C$3:C1242, C1242)>1, \"\", C1242))","v":""},{"$f":"IF(G1242=\"\",\"\",IF(F1242=\"\",\"\",CONCATENATE(DIGITADOR!$M$1,G1242,E1242)))","v":""},"",{"$f":"IF(F1242=\"\",\"\",VLOOKUP(F1242,referentes!$Q$2:$T$300,3,FALSE))","v":""},null,null,null,null,null,{"$f":"IF(L1242=\"\",\"\",VLOOKUP(L1242,referentes!$G$2:$N$15,2,FALSE))","v":""},null,null,"",null,null,""]
[null,{"$f":"IF(C1243=\"\",\"\",IF(COUNTIF($C$3:C1243, C1243)>1, \"\", C1243))","v":""},{"$f":"IF(G1243=\"\",\"\",IF(F1243=\"\",\"\",CONCATENATE(DIGITADOR!$M$1,G1243,E1243)))","v":""},"",{"$f":"IF(F1243=\"\",\"\",VLOOKUP(F1243,referentes!$Q$2:$T$300,3,FALSE))","v":""},null,null,null,null,null,{"$f":"IF(L1243=\"\",\"\",VLOOKUP(L1243,referentes!$G$2:$N$15,2,FALSE))","v":""},null,null,"",null,null,""]
[null,{"$f":"IF(C1244=\"\",\"\",IF(COUNTIF($C$3:C1244, C1244)>1, \"\", C1244))","v":""},{"$f":"IF(G1244=\"\",\"\",IF(F1244=\"\",\"\",CONCATENATE(DIGITADOR!$M$1,G1244,E1244)))","v":""},"",{"$f":"IF(F1244=\"\",\"\",VLOOKUP(F1244,referentes!$Q$2:$T$300,3,FALSE))","v":""},null,null,null,null,null,{"$f":"IF(L1244=\"\",\"\",VLOOKUP(L1244,referentes!$G$2:$N$15,2,FALSE))","v":""},null,null,"",null,null,""]
[null,{"$f":"IF(C1245=\"\",\"\",IF(COUNTIF($C$3:C1245, C1245)>1, \"\", C1245))","v":""},{"$f":"IF(G1245=\"\",\"\",IF(F1245=\"\",\"\",CONCATENATE(DIGITADOR!$M$1,G1245,E1245)))","v":""},"",{"$f":"IF(F1245=\"\",\"\",VLOOKUP(F1245,referentes!$Q$2:$T$300,3,FALSE))","v":""},null,null,null,null,null,{"$f":"IF(L1245=\"\",\"\",VLOOKUP(L1245,referentes!$G$2:$N$15,2,FALSE))","v":""},null,null,"",null,null,""]
[null,{"$f":"IF(C1246=\"\",\"\",IF(COUNTIF($C$3:C1246, C1246)>1, \"\", C1246))","v":""},{"$f":"IF(G1246=\"\",\"\",IF(F1246=\"\",\"\",CONCATENATE(DIGITADOR!$M$1,G1246,E1246)))","v":""},"",{"$f":"IF(F1246=\"\",\"\",VLOOKUP(F1246,referentes!$Q$2:$T$300,3,FALSE))","v":""},null,null,null,null,null,{"$f":"IF(L1246=\"\",\"\",VLOOKUP(L1246,referentes!$G$2:$N$15,2,FALSE))","v":""},null,null,"",null,null,""]
[null,{"$f":"IF(C1247=\"\",\"\",IF(COUNTIF($C$3:C1247, C1247)>1, \"\", C1247))","v":""},{"$f":"IF(G1247=\"\",\"\",IF(F1247=\"\",\"\",CONCATENATE(DIGITADOR!$M$1,G1247,E1247)))","v":""},"",{"$f":"IF(F1247=\"\",\"\",VLOOKUP(F1247,referentes!$Q$2:$T$300,3,FALSE))","v":""},null,null,null,null,null,{"$f":"IF(L1247=\"\",\"\",VLOOKUP(L1247,referentes!$G$2:$N$15,2,FALSE))","v":""},null,null,"",null,null,""]
[null,{"$f":"IF(C1248=\"\",\"\",IF(COUNTIF($C$3:C1248, C1248)>1, \"\", C1248))","v":""},{"$f":"IF(G1248=\"\",\"\",IF(F1248=\"\",\"\",CONCATENATE(DIGITADOR!$M$1,G1248,E1248)))","v":""},"",{"$f":"IF(F1248=\"\",\"\",VLOOKUP(F1248,referentes!$Q$2:$T$300,3,FALSE))","v":""},null,null,null,null,null,{"$f":"IF(L1248=\"\",\"\",VLOOKUP(L1248,referentes!$G$2:$N$15,2,FALSE))","v":""},null,null,"",null,null,""]
[null,{"$f":"IF(C1249=\"\",\"\",IF(COUNTIF($C$3:C1249, C1249)>1, \"\", C1249))","v":""},{"$f":"IF(G1249=\"\",\"\",IF(F1249=\"\",\"\",CONCATENATE(DIGITADOR!$M$1,G1249,E1249)))","v":""},"",{"$f":"IF(F1249=\"\",\"\",VLOOKUP(F1249,referentes!$Q$2:$T$300,3,FALSE))","v":""},null,null,null,null,null,{"$f":"IF(L1249=\"\",\"\",VLOOKUP(L1249,referentes!$G$2:$N$15,2,FALSE))","v":""},null,null,"",null,null,""]
[null,{"$f":"IF(C1250=\"\",\"\",IF(COUNTIF($C$3:C1250, C1250)>1, \"\", C1250))","v":""},{"$f":"IF(G1250=\"\",\"\",IF(F1250=\"\",\"\",CONCATENATE(DIGITADOR!$M$1,G1250,E1250)))","v":""},"",{"$f":"IF(F1250=\"\",\"\",VLOOKUP(F1250,referentes!$Q$2:$T$300,3,FALSE))","v":""},null,null,null,null,null,{"$f":"IF(L1250=\"\",\"\",VLOOKUP(L1250,referentes!$G$2:$N$15,2,FALSE))","v":""},null,null,"",null,null,""]
[null,{"$f":"IF(C1251=\"\",\"\",IF(COUNTIF($C$3:C1251, C1251)>1, \"\", C1251))","v":""},{"$f":"IF(G1251=\"\",\"\",IF(F1251=\"\",\"\",CONCATENATE(DIGITADOR!$M$1,G1251,E1251)))","v":""},"",{"$f":"IF(F1251=\"\",\"\",VLOOKUP(F1251,referentes!$Q$2:$T$300,3,FALSE))","v":""},null,null,null,null,null,{"$f":"IF(L1251=\"\",\"\",VLOOKUP(L1251,referentes!$G$2:$N$15,2,FALSE))","v":""},null,null,"",null,null,""]
[null,{"$f":"IF(C1252=\"\",\"\",IF(COUNTIF($C$3:C1252, C1252)>1, \"\", C1252))","v":""},{"$f":"IF(G1252=\"\",\"\",IF(F1252=\"\",\"\",CONCATENATE(DIGITADOR!$M$1,G1252,E1252)))","v":""},"",{"$f":"IF(F1252=\"\",\"\",VLOOKUP(F1252,referentes!$Q$2:$T$300,3,FALSE))","v":""},null,null,null,null,null,{"$f":"IF(L1252=\"\",\"\",VLOOKUP(L1252,referentes!$G$2:$N$15,2,FALSE))","v":""},null,null,"",null,null,""]
[null,{"$f":"IF(C1253=\"\",\"\",IF(COUNTIF($C$3:C1253, C1253)>1, \"\", C1253))","v":""},{"$f":"IF(G1253=\"\",\"\",IF(F1253=\"\",\"\",CONCATENATE(DIGITADOR!$M$1,G1253,E1253)))","v":""},"",{"$f":"IF(F1253=\"\",\"\",VLOOKUP(F1253,referentes!$Q$2:$T$300,3,FALSE))","v":""},null,null,null,null,null,{"$f":"IF(L1253=\"\",\"\",VLOOKUP(L1253,referentes!$G$2:$N$15,2,FALSE))","v":""},null,null,"",null,null,""]
[null,{"$f":"IF(C1254=\"\",\"\",IF(COUNTIF($C$3:C1254, C1254)>1, \"\", C1254))","v":""},{"$f":"IF(G1254=\"\",\"\",IF(F1254=\"\",\"\",CONCATENATE(DIGITADOR!$M$1,G1254,E1254)))","v":""},"",{"$f":"IF(F1254=\"\",\"\",VLOOKUP(F1254,referentes!$Q$2:$T$300,3,FALSE))","v":""},null,null,null,null,null,{"$f":"IF(L1254=\"\",\"\",VLOOKUP(L1254,referentes!$G$2:$N$15,2,FALSE))","v":""},null,null,"",null,null,""]
[null,{"$f":"IF(C1255=\"\",\"\",IF(COUNTIF($C$3:C1255, C1255)>1, \"\", C1255))","v":""},{"$f":"IF(G1255=\"\",\"\",IF(F1255=\"\",\"\",CONCATENATE(DIGITADOR!$M$1,G1255,E1255)))","v":""},"",{"$f":"IF(F1255=\"\",\"\",VLOOKUP(F1255,referentes!$Q$2:$T$300,3,FALSE))","v":""},null,null,null,null,null,{"$f":"IF(L1255=\"\",\"\",VLOOKUP(L1255,referentes!$G$2:$N$15,2,FALSE))","v":""},null,null,"",null,null,""]
[null,{"$f":"IF(C1256=\"\",\"\",IF(COUNTIF($C$3:C1256, C1256)>1, \"\", C1256))","v":""},{"$f":"IF(G1256=\"\",\"\",IF(F1256=\"\",\"\",CONCATENATE(DIGITADOR!$M$1,G1256,E1256)))","v":""},"",{"$f":"IF(F1256=\"\",\"\",VLOOKUP(F1256,referentes!$Q$2:$T$300,3,FALSE))","v":""},null,null,null,null,null,{"$f":"IF(L1256=\"\",\"\",VLOOKUP(L1256,referentes!$G$2:$N$15,2,FALSE))","v":""},null,null,"",null,null,""]
[null,{"$f":"IF(C1257=\"\",\"\",IF(COUNTIF($C$3:C1257, C1257)>1, \"\", C1257))","v":""},{"$f":"IF(G1257=\"\",\"\",IF(F1257=\"\",\"\",CONCATENATE(DIGITADOR!$M$1,G1257,E1257)))","v":""},"",{"$f":"IF(F1257=\"\",\"\",VLOOKUP(F1257,referentes!$Q$2:$T$300,3,FALSE))","v":""},null,null,null,null,null,{"$f":"IF(L1257=\"\",\"\",VLOOKUP(L1257,referentes!$G$2:$N$15,2,FALSE))","v":""},null,null,"",null,null,""]
[null,{"$f":"IF(C1258=\"\",\"\",IF(COUNTIF($C$3:C1258, C1258)>1, \"\", C1258))","v":""},{"$f":"IF(G1258=\"\",\"\",IF(F1258=\"\",\"\",CONCATENATE(DIGITADOR!$M$1,G1258,E1258)))","v":""},"",{"$f":"IF(F1258=\"\",\"\",VLOOKUP(F1258,referentes!$Q$2:$T$300,3,FALSE))","v":""},null,null,null,null,null,{"$f":"IF(L1258=\"\",\"\",VLOOKUP(L1258,referentes!$G$2:$N$15,2,FALSE))","v":""},null,null,"",null,null,""]
[null,{"$f":"IF(C1259=\"\",\"\",IF(COUNTIF($C$3:C1259, C1259)>1, \"\", C1259))","v":""},{"$f":"IF(G1259=\"\",\"\",IF(F1259=\"\",\"\",CONCATENATE(DIGITADOR!$M$1,G1259,E1259)))","v":""},"",{"$f":"IF(F1259=\"\",\"\",VLOOKUP(F1259,referentes!$Q$2:$T$300,3,FALSE))","v":""},null,null,null,null,null,{"$f":"IF(L1259=\"\",\"\",VLOOKUP(L1259,referentes!$G$2:$N$15,2,FALSE))","v":""},null,null,"",null,null,""]
[null,{"$f":"IF(C1260=\"\",\"\",IF(COUNTIF($C$3:C1260, C1260)>1, \"\", C1260))","v":""},{"$f":"IF(G1260=\"\",\"\",IF(F1260=\"\",\"\",CONCATENATE(DIGITADOR!$M$1,G1260,E1260)))","v":""},"",{"$f":"IF(F1260=\"\",\"\",VLOOKUP(F1260,referentes!$Q$2:$T$300,3,FALSE))","v":""},null,null,null,null,null,{"$f":"IF(L1260=\"\",\"\",VLOOKUP(L1260,referentes!$G$2:$N$15,2,FALSE))","v":""},null,null,"",null,null,""]
[null,{"$f":"IF(C1261=\"\",\"\",IF(COUNTIF($C$3:C1261, C1261)>1, \"\", C1261))","v":""},{"$f":"IF(G1261=\"\",\"\",IF(F1261=\"\",\"\",CONCATENATE(DIGITADOR!$M$1,G1261,E1261)))","v":""},"",{"$f":"IF(F1261=\"\",\"\",VLOOKUP(F1261,referentes!$Q$2:$T$300,3,FALSE))","v":""},null,null,null,null,null,{"$f":"IF(L1261=\"\",\"\",VLOOKUP(L1261,referentes!$G$2:$N$15,2,FALSE))","v":""},null,null,"",null,null,""]
[null,{"$f":"IF(C1262=\"\",\"\",IF(COUNTIF($C$3:C1262, C1262)>1, \"\", C1262))","v":""},{"$f":"IF(G1262=\"\",\"\",IF(F1262=\"\",\"\",CONCATENATE(DIGITADOR!$M$1,G1262,E1262)))","v":""},"",{"$f":"IF(F1262=\"\",\"\",VLOOKUP(F1262,referentes!$Q$2:$T$300,3,FALSE))","v":""},null,null,null,null,null,{"$f":"IF(L1262=\"\",\"\",VLOOKUP(L1262,referentes!$G$2:$N$15,2,FALSE))","v":""},null,null,"",null,null,""]
[null,{"$f":"IF(C1263=\"\",\"\",IF(COUNTIF($C$3:C1263, C1263)>1, \"\", C1263))","v":""},{"$f":"IF(G1263=\"\",\"\",IF(F1263=\"\",\"\",CONCATENATE(DIGITADOR!$M$1,G1263,E1263)))","v":""},"",{"$f":"IF(F1263=\"\",\"\",VLOOKUP(F1263,referentes!$Q$2:$T$300,3,FALSE))","v":""},null,null,null,null,null,{"$f":"IF(L1263=\"\",\"\",VLOOKUP(L1263,referentes!$G$2:$N$15,2,FALSE))","v":""},null,null,"",null,null,""]
[null,{"$f":"IF(C1264=\"\",\"\",IF(COUNTIF($C$3:C1264, C1264)>1, \"\", C1264))","v":""},{"$f":"IF(G1264=\"\",\"\",IF(F1264=\"\",\"\",CONCATENATE(DIGITADOR!$M$1,G1264,E1264)))","v":""},"",{"$f":"IF(F1264=\"\",\"\",VLOOKUP(F1264,referentes!$Q$2:$T$300,3,FALSE))","v":""},null,null,null,null,null,{"$f":"IF(L1264=\"\",\"\",VLOOKUP(L1264,referentes!$G$2:$N$15,2,FALSE))","v":""},null,null,"",null,null,""]
[null,{"$f":"IF(C1265=\"\",\"\",IF(COUNTIF($C$3:C1265, C1265)>1, \"\", C1265))","v":""},{"$f":"IF(G1265=\"\",\"\",IF(F1265=\"\",\"\",CONCATENATE(DIGITADOR!$M$1,G1265,E1265)))","v":""},"",{"$f":"IF(F1265=\"\",\"\",VLOOKUP(F1265,referentes!$Q$2:$T$300,3,FALSE))","v":""},null,null,null,null,null,{"$f":"IF(L1265=\"\",\"\",VLOOKUP(L1265,referentes!$G$2:$N$15,2,FALSE))","v":""},null,null,"",null,null,""]
[null,{"$f":"IF(C1266=\"\",\"\",IF(COUNTIF($C$3:C1266, C1266)>1, \"\", C1266))","v":""},{"$f":"IF(G1266=\"\",\"\",IF(F1266=\"\",\"\",CONCATENATE(DIGITADOR!$M$1,G1266,E1266)))","v":""},"",{"$f":"IF(F1266=\"\",\"\",VLOOKUP(F1266,referentes!$Q$2:$T$300,3,FALSE))","v":""},null,null,null,null,null,{"$f":"IF(L1266=\"\",\"\",VLOOKUP(L1266,referentes!$G$2:$N$15,2,FALSE))","v":""},null,null,"",null,null,""]
[null,{"$f":"IF(C1267=\"\",\"\",IF(COUNTIF($C$3:C1267, C1267)>1, \"\", C1267))","v":""},{"$f":"IF(G1267=\"\",\"\",IF(F1267=\"\",\"\",CONCATENATE(DIGITADOR!$M$1,G1267,E1267)))","v":""},"",{"$f":"IF(F1267=\"\",\"\",VLOOKUP(F1267,referentes!$Q$2:$T$300,3,FALSE))","v":""},null,null,null,null,null,{"$f":"IF(L1267=\"\",\"\",VLOOKUP(L1267,referentes!$G$2:$N$15,2,FALSE))","v":""},null,null,"",null,null,""]
[null,{"$f":"IF(C1268=\"\",\"\",IF(COUNTIF($C$3:C1268, C1268)>1, \"\", C1268))","v":""},{"$f":"IF(G1268=\"\",\"\",IF(F1268=\"\",\"\",CONCATENATE(DIGITADOR!$M$1,G1268,E1268)))","v":""},"",{"$f":"IF(F1268=\"\",\"\",VLOOKUP(F1268,referentes!$Q$2:$T$300,3,FALSE))","v":""},null,null,null,null,null,{"$f":"IF(L1268=\"\",\"\",VLOOKUP(L1268,referentes!$G$2:$N$15,2,FALSE))","v":""},null,null,"",null,null,""]
[null,{"$f":"IF(C1269=\"\",\"\",IF(COUNTIF($C$3:C1269, C1269)>1, \"\", C1269))","v":""},{"$f":"IF(G1269=\"\",\"\",IF(F1269=\"\",\"\",CONCATENATE(DIGITADOR!$M$1,G1269,E1269)))","v":""},"",{"$f":"IF(F1269=\"\",\"\",VLOOKUP(F1269,referentes!$Q$2:$T$300,3,FALSE))","v":""},null,null,null,null,null,{"$f":"IF(L1269=\"\",\"\",VLOOKUP(L1269,referentes!$G$2:$N$15,2,FALSE))","v":""},null,null,"",null,null,""]
[null,{"$f":"IF(C1270=\"\",\"\",IF(COUNTIF($C$3:C1270, C1270)>1, \"\", C1270))","v":""},{"$f":"IF(G1270=\"\",\"\",IF(F1270=\"\",\"\",CONCATENATE(DIGITADOR!$M$1,G1270,E1270)))","v":""},"",{"$f":"IF(F1270=\"\",\"\",VLOOKUP(F1270,referentes!$Q$2:$T$300,3,FALSE))","v":""},null,null,null,null,null,{"$f":"IF(L1270=\"\",\"\",VLOOKUP(L1270,referentes!$G$2:$N$15,2,FALSE))","v":""},null,null,"",null,null,""]
[null,{"$f":"IF(C1271=\"\",\"\",IF(COUNTIF($C$3:C1271, C1271)>1, \"\", C1271))","v":""},{"$f":"IF(G1271=\"\",\"\",IF(F1271=\"\",\"\",CONCATENATE(DIGITADOR!$M$1,G1271,E1271)))","v":""},"",{"$f":"IF(F1271=\"\",\"\",VLOOKUP(F1271,referentes!$Q$2:$T$300,3,FALSE))","v":""},null,null,null,null,null,{"$f":"IF(L1271=\"\",\"\",VLOOKUP(L1271,referentes!$G$2:$N$15,2,FALSE))","v":""},null,null,"",null,null,""]
[null,{"$f":"IF(C1272=\"\",\"\",IF(COUNTIF($C$3:C1272, C1272)>1, \"\", C1272))","v":""},{"$f":"IF(G1272=\"\",\"\",IF(F1272=\"\",\"\",CONCATENATE(DIGITADOR!$M$1,G1272,E1272)))","v":""},"",{"$f":"IF(F1272=\"\",\"\",VLOOKUP(F1272,referentes!$Q$2:$T$300,3,FALSE))","v":""},null,null,null,null,null,{"$f":"IF(L1272=\"\",\"\",VLOOKUP(L1272,referentes!$G$2:$N$15,2,FALSE))","v":""},null,null,"",null,null,""]
[null,{"$f":"IF(C1273=\"\",\"\",IF(COUNTIF($C$3:C1273, C1273)>1, \"\", C1273))","v":""},{"$f":"IF(G1273=\"\",\"\",IF(F1273=\"\",\"\",CONCATENATE(DIGITADOR!$M$1,G1273,E1273)))","v":""},"",{"$f":"IF(F1273=\"\",\"\",VLOOKUP(F1273,referentes!$Q$2:$T$300,3,FALSE))","v":""},null,null,null,null,null,{"$f":"IF(L1273=\"\",\"\",VLOOKUP(L1273,referentes!$G$2:$N$15,2,FALSE))","v":""},null,null,"",null,null,""]
[null,{"$f":"IF(C1274=\"\",\"\",IF(COUNTIF($C$3:C1274, C1274)>1, \"\", C1274))","v":""},{"$f":"IF(G1274=\"\",\"\",IF(F1274=\"\",\"\",CONCATENATE(DIGITADOR!$M$1,G1274,E1274)))","v":""},"",{"$f":"IF(F1274=\"\",\"\",VLOOKUP(F1274,referentes!$Q$2:$T$300,3,FALSE))","v":""},null,null,null,null,null,{"$f":"IF(L1274=\"\",\"\",VLOOKUP(L1274,referentes!$G$2:$N$15,2,FALSE))","v":""},null,null,"",null,null,""]
[null,{"$f":"IF(C1275=\"\",\"\",IF(COUNTIF($C$3:C1275, C1275)>1, \"\", C1275))","v":""},{"$f":"IF(G1275=\"\",\"\",IF(F1275=\"\",\"\",CONCATENATE(DIGITADOR!$M$1,G1275,E1275)))","v":""},"",{"$f":"IF(F1275=\"\",\"\",VLOOKUP(F1275,referentes!$Q$2:$T$300,3,FALSE))","v":""},null,null,null,null,null,{"$f":"IF(L1275=\"\",\"\",VLOOKUP(L1275,referentes!$G$2:$N$15,2,FALSE))","v":""},null,null,"",null,null,""]
[null,{"$f":"IF(C1276=\"\",\"\",IF(COUNTIF($C$3:C1276, C1276)>1, \"\", C1276))","v":""},{"$f":"IF(G1276=\"\",\"\",IF(F1276=\"\",\"\",CONCATENATE(DIGITADOR!$M$1,G1276,E1276)))","v":""},"",{"$f":"IF(F1276=\"\",\"\",VLOOKUP(F1276,referentes!$Q$2:$T$300,3,FALSE))","v":""},null,null,null,null,null,{"$f":"IF(L1276=\"\",\"\",VLOOKUP(L1276,referentes!$G$2:$N$15,2,FALSE))","v":""},null,null,"",null,null,""]
[null,{"$f":"IF(C1277=\"\",\"\",IF(COUNTIF($C$3:C1277, C1277)>1, \"\", C1277))","v":""},{"$f":"IF(G1277=\"\",\"\",IF(F1277=\"\",\"\",CONCATENATE(DIGITADOR!$M$1,G1277,E1277)))","v":""},"",{"$f":"IF(F1277=\"\",\"\",VLOOKUP(F1277,referentes!$Q$2:$T$300,3,FALSE))","v":""},null,null,null,null,null,{"$f":"IF(L1277=\"\",\"\",VLOOKUP(L1277,referentes!$G$2:$N$15,2,FALSE))","v":""},null,null,"",null,null,""]
[null,{"$f":"IF(C1278=\"\",\"\",IF(COUNTIF($C$3:C1278, C1278)>1, \"\", C1278))","v":""},{"$f":"IF(G1278=\"\",\"\",IF(F1278=\"\",\"\",CONCATENATE(DIGITADOR!$M$1,G1278,E1278)))","v":""},"",{"$f":"IF(F1278=\"\",\"\",VLOOKUP(F1278,referentes!$Q$2:$T$300,3,FALSE))","v":""},null,null,null,null,null,{"$f":"IF(L1278=\"\",\"\",VLOOKUP(L1278,referentes!$G$2:$N$15,2,FALSE))","v":""},null,null,"",null,null,""]
[null,{"$f":"IF(C1279=\"\",\"\",IF(COUNTIF($C$3:C1279, C1279)>1, \"\", C1279))","v":""},{"$f":"IF(G1279=\"\",\"\",IF(F1279=\"\",\"\",CONCATENATE(DIGITADOR!$M$1,G1279,E1279)))","v":""},"",{"$f":"IF(F1279=\"\",\"\",VLOOKUP(F1279,referentes!$Q$2:$T$300,3,FALSE))","v":""},null,null,null,null,null,{"$f":"IF(L1279=\"\",\"\",VLOOKUP(L1279,referentes!$G$2:$N$15,2,FALSE))","v":""},null,null,"",null,null,""]
[null,{"$f":"IF(C1280=\"\",\"\",IF(COUNTIF($C$3:C1280, C1280)>1, \"\", C1280))","v":""},{"$f":"IF(G1280=\"\",\"\",IF(F1280=\"\",\"\",CONCATENATE(DIGITADOR!$M$1,G1280,E1280)))","v":""},"",{"$f":"IF(F1280=\"\",\"\",VLOOKUP(F1280,referentes!$Q$2:$T$300,3,FALSE))","v":""},null,null,null,null,null,{"$f":"IF(L1280=\"\",\"\",VLOOKUP(L1280,referentes!$G$2:$N$15,2,FALSE))","v":""},null,null,"",null,null,""]
[null,{"$f":"IF(C1281=\"\",\"\",IF(COUNTIF($C$3:C1281, C1281)>1, \"\", C1281))","v":""},{"$f":"IF(G1281=\"\",\"\",IF(F1281=\"\",\"\",CONCATENATE(DIGITADOR!$M$1,G1281,E1281)))","v":""},"",{"$f":"IF(F1281=\"\",\"\",VLOOKUP(F1281,referentes!$Q$2:$T$300,3,FALSE))","v":""},null,null,null,null,null,{"$f":"IF(L1281=\"\",\"\",VLOOKUP(L1281,referentes!$G$2:$N$15,2,FALSE))","v":""},null,null,"",null,null,""]
[null,{"$f":"IF(C1282=\"\",\"\",IF(COUNTIF($C$3:C1282, C1282)>1, \"\", C1282))","v":""},{"$f":"IF(G1282=\"\",\"\",IF(F1282=\"\",\"\",CONCATENATE(DIGITADOR!$M$1,G1282,E1282)))","v":""},"",{"$f":"IF(F1282=\"\",\"\",VLOOKUP(F1282,referentes!$Q$2:$T$300,3,FALSE))","v":""},null,null,null,null,null,{"$f":"IF(L1282=\"\",\"\",VLOOKUP(L1282,referentes!$G$2:$N$15,2,FALSE))","v":""},null,null,"",null,null,""]
[null,{"$f":"IF(C1283=\"\",\"\",IF(COUNTIF($C$3:C1283, C1283)>1, \"\", C1283))","v":""},{"$f":"IF(G1283=\"\",\"\",IF(F1283=\"\",\"\",CONCATENATE(DIGITADOR!$M$1,G1283,E1283)))","v":""},"",{"$f":"IF(F1283=\"\",\"\",VLOOKUP(F1283,referentes!$Q$2:$T$300,3,FALSE))","v":""},null,null,null,null,null,{"$f":"IF(L1283=\"\",\"\",VLOOKUP(L1283,referentes!$G$2:$N$15,2,FALSE))","v":""},null,null,"",null,null,""]
[null,{"$f":"IF(C1284=\"\",\"\",IF(COUNTIF($C$3:C1284, C1284)>1, \"\", C1284))","v":""},{"$f":"IF(G1284=\"\",\"\",IF(F1284=\"\",\"\",CONCATENATE(DIGITADOR!$M$1,G1284,E1284)))","v":""},{"$f":"IF(C1284=\"\",\"\",CONCATENATE(C1284,ROW()-2))","v":""},{"$f":"IF(F1284=\"\",\"\",VLOOKUP(F1284,referentes!$Q$2:$T$300,3,FALSE))","v":""},null,null,null,null,null,{"$f":"IF(L1284=\"\",\"\",VLOOKUP(L1284,referentes!$G$2:$N$15,2,FALSE))","v":""},null,null,{"$f":"IF(M1284=\"\",\"\",M1284/PI())","v":""},null,null,{"$f":"IF(N1284=\"\",\"\",((PI())*((N1284/100)^2))/4*10000/500)","v":""}]
[null,{"$f":"IF(C1285=\"\",\"\",IF(COUNTIF($C$3:C1285, C1285)>1, \"\", C1285))","v":""},{"$f":"IF(G1285=\"\",\"\",IF(F1285=\"\",\"\",CONCATENATE(DIGITADOR!$M$1,G1285,E1285)))","v":""},"",{"$f":"IF(F1285=\"\",\"\",VLOOKUP(F1285,referentes!$Q$2:$T$300,3,FALSE))","v":""},null,null,null,null,null,{"$f":"IF(L1285=\"\",\"\",VLOOKUP(L1285,referentes!$G$2:$N$15,2,FALSE))","v":""},null,null,"",null,null,""]
[null,{"$f":"IF(C1286=\"\",\"\",IF(COUNTIF($C$3:C1286, C1286)>1, \"\", C1286))","v":""},{"$f":"IF(G1286=\"\",\"\",IF(F1286=\"\",\"\",CONCATENATE(DIGITADOR!$M$1,G1286,E1286)))","v":""},"",{"$f":"IF(F1286=\"\",\"\",VLOOKUP(F1286,referentes!$Q$2:$T$300,3,FALSE))","v":""},null,null,null,null,null,{"$f":"IF(L1286=\"\",\"\",VLOOKUP(L1286,referentes!$G$2:$N$15,2,FALSE))","v":""},null,null,"",null,null,""]
[null,{"$f":"IF(C1287=\"\",\"\",IF(COUNTIF($C$3:C1287, C1287)>1, \"\", C1287))","v":""},{"$f":"IF(G1287=\"\",\"\",IF(F1287=\"\",\"\",CONCATENATE(DIGITADOR!$M$1,G1287,E1287)))","v":""},"",{"$f":"IF(F1287=\"\",\"\",VLOOKUP(F1287,referentes!$Q$2:$T$300,3,FALSE))","v":""},null,null,null,null,null,{"$f":"IF(L1287=\"\",\"\",VLOOKUP(L1287,referentes!$G$2:$N$15,2,FALSE))","v":""},null,null,"",null,null,""]
[null,{"$f":"IF(C1288=\"\",\"\",IF(COUNTIF($C$3:C1288, C1288)>1, \"\", C1288))","v":""},{"$f":"IF(G1288=\"\",\"\",IF(F1288=\"\",\"\",CONCATENATE(DIGITADOR!$M$1,G1288,E1288)))","v":""},"",{"$f":"IF(F1288=\"\",\"\",VLOOKUP(F1288,referentes!$Q$2:$T$300,3,FALSE))","v":""},null,null,null,null,null,{"$f":"IF(L1288=\"\",\"\",VLOOKUP(L1288,referentes!$G$2:$N$15,2,FALSE))","v":""},null,null,"",null,null,""]
[null,{"$f":"IF(C1289=\"\",\"\",IF(COUNTIF($C$3:C1289, C1289)>1, \"\", C1289))","v":""},{"$f":"IF(G1289=\"\",\"\",IF(F1289=\"\",\"\",CONCATENATE(DIGITADOR!$M$1,G1289,E1289)))","v":""},"",{"$f":"IF(F1289=\"\",\"\",VLOOKUP(F1289,referentes!$Q$2:$T$300,3,FALSE))","v":""},null,null,null,null,null,{"$f":"IF(L1289=\"\",\"\",VLOOKUP(L1289,referentes!$G$2:$N$15,2,FALSE))","v":""},null,null,"",null,null,""]
[null,{"$f":"IF(C1290=\"\",\"\",IF(COUNTIF($C$3:C1290, C1290)>1, \"\", C1290))","v":""},{"$f":"IF(G1290=\"\",\"\",IF(F1290=\"\",\"\",CONCATENATE(DIGITADOR!$M$1,G1290,E1290)))","v":""},"",{"$f":"IF(F1290=\"\",\"\",VLOOKUP(F1290,referentes!$Q$2:$T$300,3,FALSE))","v":""},null,null,null,null,null,{"$f":"IF(L1290=\"\",\"\",VLOOKUP(L1290,referentes!$G$2:$N$15,2,FALSE))","v":""},null,null,"",null,null,""]
[null,{"$f":"IF(C1291=\"\",\"\",IF(COUNTIF($C$3:C1291, C1291)>1, \"\", C1291))","v":""},{"$f":"IF(G1291=\"\",\"\",IF(F1291=\"\",\"\",CONCATENATE(DIGITADOR!$M$1,G1291,E1291)))","v":""},"",{"$f":"IF(F1291=\"\",\"\",VLOOKUP(F1291,referentes!$Q$2:$T$300,3,FALSE))","v":""},null,null,null,null,null,{"$f":"IF(L1291=\"\",\"\",VLOOKUP(L1291,referentes!$G$2:$N$15,2,FALSE))","v":""},null,null,"",null,null,""]
[null,{"$f":"IF(C1292=\"\",\"\",IF(COUNTIF($C$3:C1292, C1292)>1, \"\", C1292))","v":""},{"$f":"IF(G1292=\"\",\"\",IF(F1292=\"\",\"\",CONCATENATE(DIGITADOR!$M$1,G1292,E1292)))","v":""},"",{"$f":"IF(F1292=\"\",\"\",VLOOKUP(F1292,referentes!$Q$2:$T$300,3,FALSE))","v":""},null,null,null,null,null,{"$f":"IF(L1292=\"\",\"\",VLOOKUP(L1292,referentes!$G$2:$N$15,2,FALSE))","v":""},null,null,"",null,null,""]
[null,{"$f":"IF(C1293=\"\",\"\",IF(COUNTIF($C$3:C1293, C1293)>1, \"\", C1293))","v":""},{"$f":"IF(G1293=\"\",\"\",IF(F1293=\"\",\"\",CONCATENATE(DIGITADOR!$M$1,G1293,E1293)))","v":""},"",{"$f":"IF(F1293=\"\",\"\",VLOOKUP(F1293,referentes!$Q$2:$T$300,3,FALSE))","v":""},null,null,null,null,null,{"$f":"IF(L1293=\"\",\"\",VLOOKUP(L1293,referentes!$G$2:$N$15,2,FALSE))","v":""},null,null,"",null,null,""]
[null,{"$f":"IF(C1294=\"\",\"\",IF(COUNTIF($C$3:C1294, C1294)>1, \"\", C1294))","v":""},{"$f":"IF(G1294=\"\",\"\",IF(F1294=\"\",\"\",CONCATENATE(DIGITADOR!$M$1,G1294,E1294)))","v":""},"",{"$f":"IF(F1294=\"\",\"\",VLOOKUP(F1294,referentes!$Q$2:$T$300,3,FALSE))","v":""},null,null,null,null,null,{"$f":"IF(L1294=\"\",\"\",VLOOKUP(L1294,referentes!$G$2:$N$15,2,FALSE))","v":""},null,null,"",null,null,""]
[null,{"$f":"IF(C1295=\"\",\"\",IF(COUNTIF($C$3:C1295, C1295)>1, \"\", C1295))","v":""},{"$f":"IF(G1295=\"\",\"\",IF(F1295=\"\",\"\",CONCATENATE(DIGITADOR!$M$1,G1295,E1295)))","v":""},"",{"$f":"IF(F1295=\"\",\"\",VLOOKUP(F1295,referentes!$Q$2:$T$300,3,FALSE))","v":""},null,null,null,null,null,{"$f":"IF(L1295=\"\",\"\",VLOOKUP(L1295,referentes!$G$2:$N$15,2,FALSE))","v":""},null,null,"",null,null,""]
[null,{"$f":"IF(C1296=\"\",\"\",IF(COUNTIF($C$3:C1296, C1296)>1, \"\", C1296))","v":""},{"$f":"IF(G1296=\"\",\"\",IF(F1296=\"\",\"\",CONCATENATE(DIGITADOR!$M$1,G1296,E1296)))","v":""},"",{"$f":"IF(F1296=\"\",\"\",VLOOKUP(F1296,referentes!$Q$2:$T$300,3,FALSE))","v":""},null,null,null,null,null,{"$f":"IF(L1296=\"\",\"\",VLOOKUP(L1296,referentes!$G$2:$N$15,2,FALSE))","v":""},null,null,"",null,null,""]
[null,{"$f":"IF(C1297=\"\",\"\",IF(COUNTIF($C$3:C1297, C1297)>1, \"\", C1297))","v":""},{"$f":"IF(G1297=\"\",\"\",IF(F1297=\"\",\"\",CONCATENATE(DIGITADOR!$M$1,G1297,E1297)))","v":""},"",{"$f":"IF(F1297=\"\",\"\",VLOOKUP(F1297,referentes!$Q$2:$T$300,3,FALSE))","v":""},null,null,null,null,null,{"$f":"IF(L1297=\"\",\"\",VLOOKUP(L1297,referentes!$G$2:$N$15,2,FALSE))","v":""},null,null,"",null,null,""]
[null,{"$f":"IF(C1298=\"\",\"\",IF(COUNTIF($C$3:C1298, C1298)>1, \"\", C1298))","v":""},{"$f":"IF(G1298=\"\",\"\",IF(F1298=\"\",\"\",CONCATENATE(DIGITADOR!$M$1,G1298,E1298)))","v":""},"",{"$f":"IF(F1298=\"\",\"\",VLOOKUP(F1298,referentes!$Q$2:$T$300,3,FALSE))","v":""},null,null,null,null,null,{"$f":"IF(L1298=\"\",\"\",VLOOKUP(L1298,referentes!$G$2:$N$15,2,FALSE))","v":""},null,null,"",null,null,""]
[null,{"$f":"IF(C1299=\"\",\"\",IF(COUNTIF($C$3:C1299, C1299)>1, \"\", C1299))","v":""},{"$f":"IF(G1299=\"\",\"\",IF(F1299=\"\",\"\",CONCATENATE(DIGITADOR!$M$1,G1299,E1299)))","v":""},"",{"$f":"IF(F1299=\"\",\"\",VLOOKUP(F1299,referentes!$Q$2:$T$300,3,FALSE))","v":""},null,null,null,null,null,{"$f":"IF(L1299=\"\",\"\",VLOOKUP(L1299,referentes!$G$2:$N$15,2,FALSE))","v":""},null,null,"",null,null,""]
[null,{"$f":"IF(C1300=\"\",\"\",IF(COUNTIF($C$3:C1300, C1300)>1, \"\", C1300))","v":""},{"$f":"IF(G1300=\"\",\"\",IF(F1300=\"\",\"\",CONCATENATE(DIGITADOR!$M$1,G1300,E1300)))","v":""},"",{"$f":"IF(F1300=\"\",\"\",VLOOKUP(F1300,referentes!$Q$2:$T$300,3,FALSE))","v":""},null,null,null,null,null,{"$f":"IF(L1300=\"\",\"\",VLOOKUP(L1300,referentes!$G$2:$N$15,2,FALSE))","v":""},null,null,"",null,null,""]
[null,{"$f":"IF(C1301=\"\",\"\",IF(COUNTIF($C$3:C1301, C1301)>1, \"\", C1301))","v":""},{"$f":"IF(G1301=\"\",\"\",IF(F1301=\"\",\"\",CONCATENATE(DIGITADOR!$M$1,G1301,E1301)))","v":""},"",{"$f":"IF(F1301=\"\",\"\",VLOOKUP(F1301,referentes!$Q$2:$T$300,3,FALSE))","v":""},null,null,null,null,null,{"$f":"IF(L1301=\"\",\"\",VLOOKUP(L1301,referentes!$G$2:$N$15,2,FALSE))","v":""},null,null,"",null,null,""]
[null,{"$f":"IF(C1302=\"\",\"\",IF(COUNTIF($C$3:C1302, C1302)>1, \"\", C1302))","v":""},{"$f":"IF(G1302=\"\",\"\",IF(F1302=\"\",\"\",CONCATENATE(DIGITADOR!$M$1,G1302,E1302)))","v":""},"",{"$f":"IF(F1302=\"\",\"\",VLOOKUP(F1302,referentes!$Q$2:$T$300,3,FALSE))","v":""},null,null,null,null,null,{"$f":"IF(L1302=\"\",\"\",VLOOKUP(L1302,referentes!$G$2:$N$15,2,FALSE))","v":""},null,null,"",null,null,""]
[null,{"$f":"IF(C1303=\"\",\"\",IF(COUNTIF($C$3:C1303, C1303)>1, \"\", C1303))","v":""},{"$f":"IF(G1303=\"\",\"\",IF(F1303=\"\",\"\",CONCATENATE(DIGITADOR!$M$1,G1303,E1303)))","v":""},"",{"$f":"IF(F1303=\"\",\"\",VLOOKUP(F1303,referentes!$Q$2:$T$300,3,FALSE))","v":""},null,null,null,null,null,{"$f":"IF(L1303=\"\",\"\",VLOOKUP(L1303,referentes!$G$2:$N$15,2,FALSE))","v":""},null,null,"",null,null,""]
[null,{"$f":"IF(C1304=\"\",\"\",IF(COUNTIF($C$3:C1304, C1304)>1, \"\", C1304))","v":""},{"$f":"IF(G1304=\"\",\"\",IF(F1304=\"\",\"\",CONCATENATE(DIGITADOR!$M$1,G1304,E1304)))","v":""},"",{"$f":"IF(F1304=\"\",\"\",VLOOKUP(F1304,referentes!$Q$2:$T$300,3,FALSE))","v":""},null,null,null,null,null,{"$f":"IF(L1304=\"\",\"\",VLOOKUP(L1304,referentes!$G$2:$N$15,2,FALSE))","v":""},null,null,"",null,null,""]
[null,{"$f":"IF(C1305=\"\",\"\",IF(COUNTIF($C$3:C1305, C1305)>1, \"\", C1305))","v":""},{"$f":"IF(G1305=\"\",\"\",IF(F1305=\"\",\"\",CONCATENATE(DIGITADOR!$M$1,G1305,E1305)))","v":""},"",{"$f":"IF(F1305=\"\",\"\",VLOOKUP(F1305,referentes!$Q$2:$T$300,3,FALSE))","v":""},null,null,null,null,null,{"$f":"IF(L1305=\"\",\"\",VLOOKUP(L1305,referentes!$G$2:$N$15,2,FALSE))","v":""},null,null,"",null,null,""]
[null,{"$f":"IF(C1306=\"\",\"\",IF(COUNTIF($C$3:C1306, C1306)>1, \"\", C1306))","v":""},{"$f":"IF(G1306=\"\",\"\",IF(F1306=\"\",\"\",CONCATENATE(DIGITADOR!$M$1,G1306,E1306)))","v":""},"",{"$f":"IF(F1306=\"\",\"\",VLOOKUP(F1306,referentes!$Q$2:$T$300,3,FALSE))","v":""},null,null,null,null,null,{"$f":"IF(L1306=\"\",\"\",VLOOKUP(L1306,referentes!$G$2:$N$15,2,FALSE))","v":""},null,null,"",null,null,""]
[null,{"$f":"IF(C1307=\"\",\"\",IF(COUNTIF($C$3:C1307, C1307)>1, \"\", C1307))","v":""},{"$f":"IF(G1307=\"\",\"\",IF(F1307=\"\",\"\",CONCATENATE(DIGITADOR!$M$1,G1307,E1307)))","v":""},"",{"$f":"IF(F1307=\"\",\"\",VLOOKUP(F1307,referentes!$Q$2:$T$300,3,FALSE))","v":""},null,null,null,null,null,{"$f":"IF(L1307=\"\",\"\",VLOOKUP(L1307,referentes!$G$2:$N$15,2,FALSE))","v":""},null,null,"",null,null,""]
[null,{"$f":"IF(C1308=\"\",\"\",IF(COUNTIF($C$3:C1308, C1308)>1, \"\", C1308))","v":""},{"$f":"IF(G1308=\"\",\"\",IF(F1308=\"\",\"\",CONCATENATE(DIGITADOR!$M$1,G1308,E1308)))","v":""},"",{"$f":"IF(F1308=\"\",\"\",VLOOKUP(F1308,referentes!$Q$2:$T$300,3,FALSE))","v":""},null,null,null,null,null,{"$f":"IF(L1308=\"\",\"\",VLOOKUP(L1308,referentes!$G$2:$N$15,2,FALSE))","v":""},null,null,"",null,null,""]
[null,{"$f":"IF(C1309=\"\",\"\",IF(COUNTIF($C$3:C1309, C1309)>1, \"\", C1309))","v":""},{"$f":"IF(G1309=\"\",\"\",IF(F1309=\"\",\"\",CONCATENATE(DIGITADOR!$M$1,G1309,E1309)))","v":""},"",{"$f":"IF(F1309=\"\",\"\",VLOOKUP(F1309,referentes!$Q$2:$T$300,3,FALSE))","v":""},null,null,null,null,null,{"$f":"IF(L1309=\"\",\"\",VLOOKUP(L1309,referentes!$G$2:$N$15,2,FALSE))","v":""},null,null,"",null,null,""]
[null,{"$f":"IF(C1310=\"\",\"\",IF(COUNTIF($C$3:C1310, C1310)>1, \"\", C1310))","v":""},{"$f":"IF(G1310=\"\",\"\",IF(F1310=\"\",\"\",CONCATENATE(DIGITADOR!$M$1,G1310,E1310)))","v":""},"",{"$f":"IF(F1310=\"\",\"\",VLOOKUP(F1310,referentes!$Q$2:$T$300,3,FALSE))","v":""},null,null,null,null,null,{"$f":"IF(L1310=\"\",\"\",VLOOKUP(L1310,referentes!$G$2:$N$15,2,FALSE))","v":""},null,null,"",null,null,""]
[null,{"$f":"IF(C1311=\"\",\"\",IF(COUNTIF($C$3:C1311, C1311)>1, \"\", C1311))","v":""},{"$f":"IF(G1311=\"\",\"\",IF(F1311=\"\",\"\",CONCATENATE(DIGITADOR!$M$1,G1311,E1311)))","v":""},"",{"$f":"IF(F1311=\"\",\"\",VLOOKUP(F1311,referentes!$Q$2:$T$300,3,FALSE))","v":""},null,null,null,null,null,{"$f":"IF(L1311=\"\",\"\",VLOOKUP(L1311,referentes!$G$2:$N$15,2,FALSE))","v":""},null,null,"",null,null,""]
[null,{"$f":"IF(C1312=\"\",\"\",IF(COUNTIF($C$3:C1312, C1312)>1, \"\", C1312))","v":""},{"$f":"IF(G1312=\"\",\"\",IF(F1312=\"\",\"\",CONCATENATE(DIGITADOR!$M$1,G1312,E1312)))","v":""},"",{"$f":"IF(F1312=\"\",\"\",VLOOKUP(F1312,referentes!$Q$2:$T$300,3,FALSE))","v":""},null,null,null,null,null,{"$f":"IF(L1312=\"\",\"\",VLOOKUP(L1312,referentes!$G$2:$N$15,2,FALSE))","v":""},null,null,"",null,null,""]
[null,{"$f":"IF(C1313=\"\",\"\",IF(COUNTIF($C$3:C1313, C1313)>1, \"\", C1313))","v":""},{"$f":"IF(G1313=\"\",\"\",IF(F1313=\"\",\"\",CONCATENATE(DIGITADOR!$M$1,G1313,E1313)))","v":""},"",{"$f":"IF(F1313=\"\",\"\",VLOOKUP(F1313,referentes!$Q$2:$T$300,3,FALSE))","v":""},null,null,null,null,null,{"$f":"IF(L1313=\"\",\"\",VLOOKUP(L1313,referentes!$G$2:$N$15,2,FALSE))","v":""},null,null,"",null,null,""]
[null,{"$f":"IF(C1314=\"\",\"\",IF(COUNTIF($C$3:C1314, C1314)>1, \"\", C1314))","v":""},{"$f":"IF(G1314=\"\",\"\",IF(F1314=\"\",\"\",CONCATENATE(DIGITADOR!$M$1,G1314,E1314)))","v":""},"",{"$f":"IF(F1314=\"\",\"\",VLOOKUP(F1314,referentes!$Q$2:$T$300,3,FALSE))","v":""},null,null,null,null,null,{"$f":"IF(L1314=\"\",\"\",VLOOKUP(L1314,referentes!$G$2:$N$15,2,FALSE))","v":""},null,null,"",null,null,""]
[null,{"$f":"IF(C1315=\"\",\"\",IF(COUNTIF($C$3:C1315, C1315)>1, \"\", C1315))","v":""},{"$f":"IF(G1315=\"\",\"\",IF(F1315=\"\",\"\",CONCATENATE(DIGITADOR!$M$1,G1315,E1315)))","v":""},"",{"$f":"IF(F1315=\"\",\"\",VLOOKUP(F1315,referentes!$Q$2:$T$300,3,FALSE))","v":""},null,null,null,null,null,{"$f":"IF(L1315=\"\",\"\",VLOOKUP(L1315,referentes!$G$2:$N$15,2,FALSE))","v":""},null,null,"",null,null,""]
[null,{"$f":"IF(C1316=\"\",\"\",IF(COUNTIF($C$3:C1316, C1316)>1, \"\", C1316))","v":""},{"$f":"IF(G1316=\"\",\"\",IF(F1316=\"\",\"\",CONCATENATE(DIGITADOR!$M$1,G1316,E1316)))","v":""},"",{"$f":"IF(F1316=\"\",\"\",VLOOKUP(F1316,referentes!$Q$2:$T$300,3,FALSE))","v":""},null,null,null,null,null,{"$f":"IF(L1316=\"\",\"\",VLOOKUP(L1316,referentes!$G$2:$N$15,2,FALSE))","v":""},null,null,"",null,null,""]
[null,{"$f":"IF(C1317=\"\",\"\",IF(COUNTIF($C$3:C1317, C1317)>1, \"\", C1317))","v":""},{"$f":"IF(G1317=\"\",\"\",IF(F1317=\"\",\"\",CONCATENATE(DIGITADOR!$M$1,G1317,E1317)))","v":""},"",{"$f":"IF(F1317=\"\",\"\",VLOOKUP(F1317,referentes!$Q$2:$T$300,3,FALSE))","v":""},null,null,null,null,null,{"$f":"IF(L1317=\"\",\"\",VLOOKUP(L1317,referentes!$G$2:$N$15,2,FALSE))","v":""},null,null,"",null,null,""]
[null,{"$f":"IF(C1318=\"\",\"\",IF(COUNTIF($C$3:C1318, C1318)>1, \"\", C1318))","v":""},{"$f":"IF(G1318=\"\",\"\",IF(F1318=\"\",\"\",CONCATENATE(DIGITADOR!$M$1,G1318,E1318)))","v":""},"",{"$f":"IF(F1318=\"\",\"\",VLOOKUP(F1318,referentes!$Q$2:$T$300,3,FALSE))","v":""},null,null,null,null,null,{"$f":"IF(L1318=\"\",\"\",VLOOKUP(L1318,referentes!$G$2:$N$15,2,FALSE))","v":""},null,null,"",null,null,""]
[null,{"$f":"IF(C1319=\"\",\"\",IF(COUNTIF($C$3:C1319, C1319)>1, \"\", C1319))","v":""},{"$f":"IF(G1319=\"\",\"\",IF(F1319=\"\",\"\",CONCATENATE(DIGITADOR!$M$1,G1319,E1319)))","v":""},"",{"$f":"IF(F1319=\"\",\"\",VLOOKUP(F1319,referentes!$Q$2:$T$300,3,FALSE))","v":""},null,null,null,null,null,{"$f":"IF(L1319=\"\",\"\",VLOOKUP(L1319,referentes!$G$2:$N$15,2,FALSE))","v":""},null,null,"",null,null,""]
[null,{"$f":"IF(C1320=\"\",\"\",IF(COUNTIF($C$3:C1320, C1320)>1, \"\", C1320))","v":""},{"$f":"IF(G1320=\"\",\"\",IF(F1320=\"\",\"\",CONCATENATE(DIGITADOR!$M$1,G1320,E1320)))","v":""},"",{"$f":"IF(F1320=\"\",\"\",VLOOKUP(F1320,referentes!$Q$2:$T$300,3,FALSE))","v":""},null,null,null,null,null,{"$f":"IF(L1320=\"\",\"\",VLOOKUP(L1320,referentes!$G$2:$N$15,2,FALSE))","v":""},null,null,"",null,null,""]
[null,{"$f":"IF(C1321=\"\",\"\",IF(COUNTIF($C$3:C1321, C1321)>1, \"\", C1321))","v":""},{"$f":"IF(G1321=\"\",\"\",IF(F1321=\"\",\"\",CONCATENATE(DIGITADOR!$M$1,G1321,E1321)))","v":""},"",{"$f":"IF(F1321=\"\",\"\",VLOOKUP(F1321,referentes!$Q$2:$T$300,3,FALSE))","v":""},null,null,null,null,null,{"$f":"IF(L1321=\"\",\"\",VLOOKUP(L1321,referentes!$G$2:$N$15,2,FALSE))","v":""},null,null,"",null,null,""]
[null,{"$f":"IF(C1322=\"\",\"\",IF(COUNTIF($C$3:C1322, C1322)>1, \"\", C1322))","v":""},{"$f":"IF(G1322=\"\",\"\",IF(F1322=\"\",\"\",CONCATENATE(DIGITADOR!$M$1,G1322,E1322)))","v":""},"",{"$f":"IF(F1322=\"\",\"\",VLOOKUP(F1322,referentes!$Q$2:$T$300,3,FALSE))","v":""},null,null,null,null,null,{"$f":"IF(L1322=\"\",\"\",VLOOKUP(L1322,referentes!$G$2:$N$15,2,FALSE))","v":""},null,null,"",null,null,""]
[null,{"$f":"IF(C1323=\"\",\"\",IF(COUNTIF($C$3:C1323, C1323)>1, \"\", C1323))","v":""},{"$f":"IF(G1323=\"\",\"\",IF(F1323=\"\",\"\",CONCATENATE(DIGITADOR!$M$1,G1323,E1323)))","v":""},"",{"$f":"IF(F1323=\"\",\"\",VLOOKUP(F1323,referentes!$Q$2:$T$300,3,FALSE))","v":""},null,null,null,null,null,{"$f":"IF(L1323=\"\",\"\",VLOOKUP(L1323,referentes!$G$2:$N$15,2,FALSE))","v":""},null,null,"",null,null,""]
[null,{"$f":"IF(C1324=\"\",\"\",IF(COUNTIF($C$3:C1324, C1324)>1, \"\", C1324))","v":""},{"$f":"IF(G1324=\"\",\"\",IF(F1324=\"\",\"\",CONCATENATE(DIGITADOR!$M$1,G1324,E1324)))","v":""},"",{"$f":"IF(F1324=\"\",\"\",VLOOKUP(F1324,referentes!$Q$2:$T$300,3,FALSE))","v":""},null,null,null,null,null,{"$f":"IF(L1324=\"\",\"\",VLOOKUP(L1324,referentes!$G$2:$N$15,2,FALSE))","v":""},null,null,"",null,null,""]
[null,{"$f":"IF(C1325=\"\",\"\",IF(COUNTIF($C$3:C1325, C1325)>1, \"\", C1325))","v":""},{"$f":"IF(G1325=\"\",\"\",IF(F1325=\"\",\"\",CONCATENATE(DIGITADOR!$M$1,G1325,E1325)))","v":""},"",{"$f":"IF(F1325=\"\",\"\",VLOOKUP(F1325,referentes!$Q$2:$T$300,3,FALSE))","v":""},null,null,null,null,null,{"$f":"IF(L1325=\"\",\"\",VLOOKUP(L1325,referentes!$G$2:$N$15,2,FALSE))","v":""},null,null,"",null,null,""]
[null,{"$f":"IF(C1326=\"\",\"\",IF(COUNTIF($C$3:C1326, C1326)>1, \"\", C1326))","v":""},{"$f":"IF(G1326=\"\",\"\",IF(F1326=\"\",\"\",CONCATENATE(DIGITADOR!$M$1,G1326,E1326)))","v":""},"",{"$f":"IF(F1326=\"\",\"\",VLOOKUP(F1326,referentes!$Q$2:$T$300,3,FALSE))","v":""},null,null,null,null,null,{"$f":"IF(L1326=\"\",\"\",VLOOKUP(L1326,referentes!$G$2:$N$15,2,FALSE))","v":""},null,null,"",null,null,""]
[null,{"$f":"IF(C1327=\"\",\"\",IF(COUNTIF($C$3:C1327, C1327)>1, \"\", C1327))","v":""},{"$f":"IF(G1327=\"\",\"\",IF(F1327=\"\",\"\",CONCATENATE(DIGITADOR!$M$1,G1327,E1327)))","v":""},"",{"$f":"IF(F1327=\"\",\"\",VLOOKUP(F1327,referentes!$Q$2:$T$300,3,FALSE))","v":""},null,null,null,null,null,{"$f":"IF(L1327=\"\",\"\",VLOOKUP(L1327,referentes!$G$2:$N$15,2,FALSE))","v":""},null,null,"",null,null,""]
[null,{"$f":"IF(C1328=\"\",\"\",IF(COUNTIF($C$3:C1328, C1328)>1, \"\", C1328))","v":""},{"$f":"IF(G1328=\"\",\"\",IF(F1328=\"\",\"\",CONCATENATE(DIGITADOR!$M$1,G1328,E1328)))","v":""},"",{"$f":"IF(F1328=\"\",\"\",VLOOKUP(F1328,referentes!$Q$2:$T$300,3,FALSE))","v":""},null,null,null,null,null,{"$f":"IF(L1328=\"\",\"\",VLOOKUP(L1328,referentes!$G$2:$N$15,2,FALSE))","v":""},null,null,"",null,null,""]
[null,{"$f":"IF(C1329=\"\",\"\",IF(COUNTIF($C$3:C1329, C1329)>1, \"\", C1329))","v":""},{"$f":"IF(G1329=\"\",\"\",IF(F1329=\"\",\"\",CONCATENATE(DIGITADOR!$M$1,G1329,E1329)))","v":""},"",{"$f":"IF(F1329=\"\",\"\",VLOOKUP(F1329,referentes!$Q$2:$T$300,3,FALSE))","v":""},null,null,null,null,null,{"$f":"IF(L1329=\"\",\"\",VLOOKUP(L1329,referentes!$G$2:$N$15,2,FALSE))","v":""},null,null,"",null,null,""]
[null,{"$f":"IF(C1330=\"\",\"\",IF(COUNTIF($C$3:C1330, C1330)>1, \"\", C1330))","v":""},{"$f":"IF(G1330=\"\",\"\",IF(F1330=\"\",\"\",CONCATENATE(DIGITADOR!$M$1,G1330,E1330)))","v":""},"",{"$f":"IF(F1330=\"\",\"\",VLOOKUP(F1330,referentes!$Q$2:$T$300,3,FALSE))","v":""},null,null,null,null,null,{"$f":"IF(L1330=\"\",\"\",VLOOKUP(L1330,referentes!$G$2:$N$15,2,FALSE))","v":""},null,null,"",null,null,""]
[null,{"$f":"IF(C1331=\"\",\"\",IF(COUNTIF($C$3:C1331, C1331)>1, \"\", C1331))","v":""},{"$f":"IF(G1331=\"\",\"\",IF(F1331=\"\",\"\",CONCATENATE(DIGITADOR!$M$1,G1331,E1331)))","v":""},"",{"$f":"IF(F1331=\"\",\"\",VLOOKUP(F1331,referentes!$Q$2:$T$300,3,FALSE))","v":""},null,null,null,null,null,{"$f":"IF(L1331=\"\",\"\",VLOOKUP(L1331,referentes!$G$2:$N$15,2,FALSE))","v":""},null,null,"",null,null,""]
[null,{"$f":"IF(C1332=\"\",\"\",IF(COUNTIF($C$3:C1332, C1332)>1, \"\", C1332))","v":""},{"$f":"IF(G1332=\"\",\"\",IF(F1332=\"\",\"\",CONCATENATE(DIGITADOR!$M$1,G1332,E1332)))","v":""},"",{"$f":"IF(F1332=\"\",\"\",VLOOKUP(F1332,referentes!$Q$2:$T$300,3,FALSE))","v":""},null,null,null,null,null,{"$f":"IF(L1332=\"\",\"\",VLOOKUP(L1332,referentes!$G$2:$N$15,2,FALSE))","v":""},null,null,"",null,null,""]
[null,{"$f":"IF(C1333=\"\",\"\",IF(COUNTIF($C$3:C1333, C1333)>1, \"\", C1333))","v":""},{"$f":"IF(G1333=\"\",\"\",IF(F1333=\"\",\"\",CONCATENATE(DIGITADOR!$M$1,G1333,E1333)))","v":""},"",{"$f":"IF(F1333=\"\",\"\",VLOOKUP(F1333,referentes!$Q$2:$T$300,3,FALSE))","v":""},null,null,null,null,null,{"$f":"IF(L1333=\"\",\"\",VLOOKUP(L1333,referentes!$G$2:$N$15,2,FALSE))","v":""},null,null,"",null,null,""]
[null,{"$f":"IF(C1334=\"\",\"\",IF(COUNTIF($C$3:C1334, C1334)>1, \"\", C1334))","v":""},{"$f":"IF(G1334=\"\",\"\",IF(F1334=\"\",\"\",CONCATENATE(DIGITADOR!$M$1,G1334,E1334)))","v":""},"",{"$f":"IF(F1334=\"\",\"\",VLOOKUP(F1334,referentes!$Q$2:$T$300,3,FALSE))","v":""},null,null,null,null,null,{"$f":"IF(L1334=\"\",\"\",VLOOKUP(L1334,referentes!$G$2:$N$15,2,FALSE))","v":""},null,null,"",null,null,""]
[null,{"$f":"IF(C1335=\"\",\"\",IF(COUNTIF($C$3:C1335, C1335)>1, \"\", C1335))","v":""},{"$f":"IF(G1335=\"\",\"\",IF(F1335=\"\",\"\",CONCATENATE(DIGITADOR!$M$1,G1335,E1335)))","v":""},"",{"$f":"IF(F1335=\"\",\"\",VLOOKUP(F1335,referentes!$Q$2:$T$300,3,FALSE))","v":""},null,null,null,null,null,{"$f":"IF(L1335=\"\",\"\",VLOOKUP(L1335,referentes!$G$2:$N$15,2,FALSE))","v":""},null,null,"",null,null,""]
[null,{"$f":"IF(C1336=\"\",\"\",IF(COUNTIF($C$3:C1336, C1336)>1, \"\", C1336))","v":""},{"$f":"IF(G1336=\"\",\"\",IF(F1336=\"\",\"\",CONCATENATE(DIGITADOR!$M$1,G1336,E1336)))","v":""},"",{"$f":"IF(F1336=\"\",\"\",VLOOKUP(F1336,referentes!$Q$2:$T$300,3,FALSE))","v":""},null,null,null,null,null,{"$f":"IF(L1336=\"\",\"\",VLOOKUP(L1336,referentes!$G$2:$N$15,2,FALSE))","v":""},null,null,"",null,null,""]
[null,{"$f":"IF(C1337=\"\",\"\",IF(COUNTIF($C$3:C1337, C1337)>1, \"\", C1337))","v":""},{"$f":"IF(G1337=\"\",\"\",IF(F1337=\"\",\"\",CONCATENATE(DIGITADOR!$M$1,G1337,E1337)))","v":""},"",{"$f":"IF(F1337=\"\",\"\",VLOOKUP(F1337,referentes!$Q$2:$T$300,3,FALSE))","v":""},null,null,null,null,null,{"$f":"IF(L1337=\"\",\"\",VLOOKUP(L1337,referentes!$G$2:$N$15,2,FALSE))","v":""},null,null,"",null,null,""]
[null,{"$f":"IF(C1338=\"\",\"\",IF(COUNTIF($C$3:C1338, C1338)>1, \"\", C1338))","v":""},{"$f":"IF(G1338=\"\",\"\",IF(F1338=\"\",\"\",CONCATENATE(DIGITADOR!$M$1,G1338,E1338)))","v":""},"",{"$f":"IF(F1338=\"\",\"\",VLOOKUP(F1338,referentes!$Q$2:$T$300,3,FALSE))","v":""},null,null,null,null,null,{"$f":"IF(L1338=\"\",\"\",VLOOKUP(L1338,referentes!$G$2:$N$15,2,FALSE))","v":""},null,null,"",null,null,""]
[null,{"$f":"IF(C1339=\"\",\"\",IF(COUNTIF($C$3:C1339, C1339)>1, \"\", C1339))","v":""},{"$f":"IF(G1339=\"\",\"\",IF(F1339=\"\",\"\",CONCATENATE(DIGITADOR!$M$1,G1339,E1339)))","v":""},"",{"$f":"IF(F1339=\"\",\"\",VLOOKUP(F1339,referentes!$Q$2:$T$300,3,FALSE))","v":""},null,null,null,null,null,{"$f":"IF(L1339=\"\",\"\",VLOOKUP(L1339,referentes!$G$2:$N$15,2,FALSE))","v":""},null,null,"",null,null,""]
[null,{"$f":"IF(C1340=\"\",\"\",IF(COUNTIF($C$3:C1340, C1340)>1, \"\", C1340))","v":""},{"$f":"IF(G1340=\"\",\"\",IF(F1340=\"\",\"\",CONCATENATE(DIGITADOR!$M$1,G1340,E1340)))","v":""},"",{"$f":"IF(F1340=\"\",\"\",VLOOKUP(F1340,referentes!$Q$2:$T$300,3,FALSE))","v":""},null,null,null,null,null,{"$f":"IF(L1340=\"\",\"\",VLOOKUP(L1340,referentes!$G$2:$N$15,2,FALSE))","v":""},null,null,"",null,null,""]
[null,{"$f":"IF(C1341=\"\",\"\",IF(COUNTIF($C$3:C1341, C1341)>1, \"\", C1341))","v":""},{"$f":"IF(G1341=\"\",\"\",IF(F1341=\"\",\"\",CONCATENATE(DIGITADOR!$M$1,G1341,E1341)))","v":""},"",{"$f":"IF(F1341=\"\",\"\",VLOOKUP(F1341,referentes!$Q$2:$T$300,3,FALSE))","v":""},null,null,null,null,null,{"$f":"IF(L1341=\"\",\"\",VLOOKUP(L1341,referentes!$G$2:$N$15,2,FALSE))","v":""},null,null,"",null,null,""]
[null,{"$f":"IF(C1342=\"\",\"\",IF(COUNTIF($C$3:C1342, C1342)>1, \"\", C1342))","v":""},{"$f":"IF(G1342=\"\",\"\",IF(F1342=\"\",\"\",CONCATENATE(DIGITADOR!$M$1,G1342,E1342)))","v":""},"",{"$f":"IF(F1342=\"\",\"\",VLOOKUP(F1342,referentes!$Q$2:$T$300,3,FALSE))","v":""},null,null,null,null,null,{"$f":"IF(L1342=\"\",\"\",VLOOKUP(L1342,referentes!$G$2:$N$15,2,FALSE))","v":""},null,null,"",null,null,""]
[null,{"$f":"IF(C1343=\"\",\"\",IF(COUNTIF($C$3:C1343, C1343)>1, \"\", C1343))","v":""},{"$f":"IF(G1343=\"\",\"\",IF(F1343=\"\",\"\",CONCATENATE(DIGITADOR!$M$1,G1343,E1343)))","v":""},"",{"$f":"IF(F1343=\"\",\"\",VLOOKUP(F1343,referentes!$Q$2:$T$300,3,FALSE))","v":""},null,null,null,null,null,{"$f":"IF(L1343=\"\",\"\",VLOOKUP(L1343,referentes!$G$2:$N$15,2,FALSE))","v":""},null,null,"",null,null,""]
[null,{"$f":"IF(C1344=\"\",\"\",IF(COUNTIF($C$3:C1344, C1344)>1, \"\", C1344))","v":""},{"$f":"IF(G1344=\"\",\"\",IF(F1344=\"\",\"\",CONCATENATE(DIGITADOR!$M$1,G1344,E1344)))","v":""},"",{"$f":"IF(F1344=\"\",\"\",VLOOKUP(F1344,referentes!$Q$2:$T$300,3,FALSE))","v":""},null,null,null,null,null,{"$f":"IF(L1344=\"\",\"\",VLOOKUP(L1344,referentes!$G$2:$N$15,2,FALSE))","v":""},null,null,"",null,null,""]
[null,{"$f":"IF(C1345=\"\",\"\",IF(COUNTIF($C$3:C1345, C1345)>1, \"\", C1345))","v":""},{"$f":"IF(G1345=\"\",\"\",IF(F1345=\"\",\"\",CONCATENATE(DIGITADOR!$M$1,G1345,E1345)))","v":""},"",{"$f":"IF(F1345=\"\",\"\",VLOOKUP(F1345,referentes!$Q$2:$T$300,3,FALSE))","v":""},null,null,null,null,null,{"$f":"IF(L1345=\"\",\"\",VLOOKUP(L1345,referentes!$G$2:$N$15,2,FALSE))","v":""},null,null,"",null,null,""]
[null,{"$f":"IF(C1346=\"\",\"\",IF(COUNTIF($C$3:C1346, C1346)>1, \"\", C1346))","v":""},{"$f":"IF(G1346=\"\",\"\",IF(F1346=\"\",\"\",CONCATENATE(DIGITADOR!$M$1,G1346,E1346)))","v":""},"",{"$f":"IF(F1346=\"\",\"\",VLOOKUP(F1346,referentes!$Q$2:$T$300,3,FALSE))","v":""},null,null,null,null,null,{"$f":"IF(L1346=\"\",\"\",VLOOKUP(L1346,referentes!$G$2:$N$15,2,FALSE))","v":""},null,null,"",null,null,""]
[null,{"$f":"IF(C1347=\"\",\"\",IF(COUNTIF($C$3:C1347, C1347)>1, \"\", C1347))","v":""},{"$f":"IF(G1347=\"\",\"\",IF(F1347=\"\",\"\",CONCATENATE(DIGITADOR!$M$1,G1347,E1347)))","v":""},"",{"$f":"IF(F1347=\"\",\"\",VLOOKUP(F1347,referentes!$Q$2:$T$300,3,FALSE))","v":""},null,null,null,null,null,{"$f":"IF(L1347=\"\",\"\",VLOOKUP(L1347,referentes!$G$2:$N$15,2,FALSE))","v":""},null,null,"",null,null,""]
[null,{"$f":"IF(C1348=\"\",\"\",IF(COUNTIF($C$3:C1348, C1348)>1, \"\", C1348))","v":""},{"$f":"IF(G1348=\"\",\"\",IF(F1348=\"\",\"\",CONCATENATE(DIGITADOR!$M$1,G1348,E1348)))","v":""},{"$f":"IF(C1348=\"\",\"\",CONCATENATE(C1348,ROW()-2))","v":""},{"$f":"IF(F1348=\"\",\"\",VLOOKUP(F1348,referentes!$Q$2:$T$300,3,FALSE))","v":""},null,null,null,null,null,{"$f":"IF(L1348=\"\",\"\",VLOOKUP(L1348,referentes!$G$2:$N$15,2,FALSE))","v":""},null,null,{"$f":"IF(M1348=\"\",\"\",M1348/PI())","v":""},null,null,{"$f":"IF(N1348=\"\",\"\",((PI())*((N1348/100)^2))/4*10000/500)","v":""}]
[null,{"$f":"IF(C1349=\"\",\"\",IF(COUNTIF($C$3:C1349, C1349)>1, \"\", C1349))","v":""},{"$f":"IF(G1349=\"\",\"\",IF(F1349=\"\",\"\",CONCATENATE(DIGITADOR!$M$1,G1349,E1349)))","v":""},"",{"$f":"IF(F1349=\"\",\"\",VLOOKUP(F1349,referentes!$Q$2:$T$300,3,FALSE))","v":""},null,null,null,null,null,{"$f":"IF(L1349=\"\",\"\",VLOOKUP(L1349,referentes!$G$2:$N$15,2,FALSE))","v":""},null,null,"",null,null,""]
[null,{"$f":"IF(C1350=\"\",\"\",IF(COUNTIF($C$3:C1350, C1350)>1, \"\", C1350))","v":""},{"$f":"IF(G1350=\"\",\"\",IF(F1350=\"\",\"\",CONCATENATE(DIGITADOR!$M$1,G1350,E1350)))","v":""},"",{"$f":"IF(F1350=\"\",\"\",VLOOKUP(F1350,referentes!$Q$2:$T$300,3,FALSE))","v":""},null,null,null,null,null,{"$f":"IF(L1350=\"\",\"\",VLOOKUP(L1350,referentes!$G$2:$N$15,2,FALSE))","v":""},null,null,"",null,null,""]
[null,{"$f":"IF(C1351=\"\",\"\",IF(COUNTIF($C$3:C1351, C1351)>1, \"\", C1351))","v":""},{"$f":"IF(G1351=\"\",\"\",IF(F1351=\"\",\"\",CONCATENATE(DIGITADOR!$M$1,G1351,E1351)))","v":""},"",{"$f":"IF(F1351=\"\",\"\",VLOOKUP(F1351,referentes!$Q$2:$T$300,3,FALSE))","v":""},null,null,null,null,null,{"$f":"IF(L1351=\"\",\"\",VLOOKUP(L1351,referentes!$G$2:$N$15,2,FALSE))","v":""},null,null,"",null,null,""]
[null,{"$f":"IF(C1352=\"\",\"\",IF(COUNTIF($C$3:C1352, C1352)>1, \"\", C1352))","v":""},{"$f":"IF(G1352=\"\",\"\",IF(F1352=\"\",\"\",CONCATENATE(DIGITADOR!$M$1,G1352,E1352)))","v":""},"",{"$f":"IF(F1352=\"\",\"\",VLOOKUP(F1352,referentes!$Q$2:$T$300,3,FALSE))","v":""},null,null,null,null,null,{"$f":"IF(L1352=\"\",\"\",VLOOKUP(L1352,referentes!$G$2:$N$15,2,FALSE))","v":""},null,null,"",null,null,""]
[null,{"$f":"IF(C1353=\"\",\"\",IF(COUNTIF($C$3:C1353, C1353)>1, \"\", C1353))","v":""},{"$f":"IF(G1353=\"\",\"\",IF(F1353=\"\",\"\",CONCATENATE(DIGITADOR!$M$1,G1353,E1353)))","v":""},"",{"$f":"IF(F1353=\"\",\"\",VLOOKUP(F1353,referentes!$Q$2:$T$300,3,FALSE))","v":""},null,null,null,null,null,{"$f":"IF(L1353=\"\",\"\",VLOOKUP(L1353,referentes!$G$2:$N$15,2,FALSE))","v":""},null,null,"",null,null,""]
[null,{"$f":"IF(C1354=\"\",\"\",IF(COUNTIF($C$3:C1354, C1354)>1, \"\", C1354))","v":""},{"$f":"IF(G1354=\"\",\"\",IF(F1354=\"\",\"\",CONCATENATE(DIGITADOR!$M$1,G1354,E1354)))","v":""},"",{"$f":"IF(F1354=\"\",\"\",VLOOKUP(F1354,referentes!$Q$2:$T$300,3,FALSE))","v":""},null,null,null,null,null,{"$f":"IF(L1354=\"\",\"\",VLOOKUP(L1354,referentes!$G$2:$N$15,2,FALSE))","v":""},null,null,"",null,null,""]
[null,{"$f":"IF(C1355=\"\",\"\",IF(COUNTIF($C$3:C1355, C1355)>1, \"\", C1355))","v":""},{"$f":"IF(G1355=\"\",\"\",IF(F1355=\"\",\"\",CONCATENATE(DIGITADOR!$M$1,G1355,E1355)))","v":""},"",{"$f":"IF(F1355=\"\",\"\",VLOOKUP(F1355,referentes!$Q$2:$T$300,3,FALSE))","v":""},null,null,null,null,null,{"$f":"IF(L1355=\"\",\"\",VLOOKUP(L1355,referentes!$G$2:$N$15,2,FALSE))","v":""},null,null,"",null,null,""]
[null,{"$f":"IF(C1356=\"\",\"\",IF(COUNTIF($C$3:C1356, C1356)>1, \"\", C1356))","v":""},{"$f":"IF(G1356=\"\",\"\",IF(F1356=\"\",\"\",CONCATENATE(DIGITADOR!$M$1,G1356,E1356)))","v":""},"",{"$f":"IF(F1356=\"\",\"\",VLOOKUP(F1356,referentes!$Q$2:$T$300,3,FALSE))","v":""},null,null,null,null,null,{"$f":"IF(L1356=\"\",\"\",VLOOKUP(L1356,referentes!$G$2:$N$15,2,FALSE))","v":""},null,null,"",null,null,""]
[null,{"$f":"IF(C1357=\"\",\"\",IF(COUNTIF($C$3:C1357, C1357)>1, \"\", C1357))","v":""},{"$f":"IF(G1357=\"\",\"\",IF(F1357=\"\",\"\",CONCATENATE(DIGITADOR!$M$1,G1357,E1357)))","v":""},"",{"$f":"IF(F1357=\"\",\"\",VLOOKUP(F1357,referentes!$Q$2:$T$300,3,FALSE))","v":""},null,null,null,null,null,{"$f":"IF(L1357=\"\",\"\",VLOOKUP(L1357,referentes!$G$2:$N$15,2,FALSE))","v":""},null,null,"",null,null,""]
[null,{"$f":"IF(C1358=\"\",\"\",IF(COUNTIF($C$3:C1358, C1358)>1, \"\", C1358))","v":""},{"$f":"IF(G1358=\"\",\"\",IF(F1358=\"\",\"\",CONCATENATE(DIGITADOR!$M$1,G1358,E1358)))","v":""},"",{"$f":"IF(F1358=\"\",\"\",VLOOKUP(F1358,referentes!$Q$2:$T$300,3,FALSE))","v":""},null,null,null,null,null,{"$f":"IF(L1358=\"\",\"\",VLOOKUP(L1358,referentes!$G$2:$N$15,2,FALSE))","v":""},null,null,"",null,null,""]
[null,{"$f":"IF(C1359=\"\",\"\",IF(COUNTIF($C$3:C1359, C1359)>1, \"\", C1359))","v":""},{"$f":"IF(G1359=\"\",\"\",IF(F1359=\"\",\"\",CONCATENATE(DIGITADOR!$M$1,G1359,E1359)))","v":""},"",{"$f":"IF(F1359=\"\",\"\",VLOOKUP(F1359,referentes!$Q$2:$T$300,3,FALSE))","v":""},null,null,null,null,null,{"$f":"IF(L1359=\"\",\"\",VLOOKUP(L1359,referentes!$G$2:$N$15,2,FALSE))","v":""},null,null,"",null,null,""]
[null,{"$f":"IF(C1360=\"\",\"\",IF(COUNTIF($C$3:C1360, C1360)>1, \"\", C1360))","v":""},{"$f":"IF(G1360=\"\",\"\",IF(F1360=\"\",\"\",CONCATENATE(DIGITADOR!$M$1,G1360,E1360)))","v":""},"",{"$f":"IF(F1360=\"\",\"\",VLOOKUP(F1360,referentes!$Q$2:$T$300,3,FALSE))","v":""},null,null,null,null,null,{"$f":"IF(L1360=\"\",\"\",VLOOKUP(L1360,referentes!$G$2:$N$15,2,FALSE))","v":""},null,null,"",null,null,""]
[null,{"$f":"IF(C1361=\"\",\"\",IF(COUNTIF($C$3:C1361, C1361)>1, \"\", C1361))","v":""},{"$f":"IF(G1361=\"\",\"\",IF(F1361=\"\",\"\",CONCATENATE(DIGITADOR!$M$1,G1361,E1361)))","v":""},"",{"$f":"IF(F1361=\"\",\"\",VLOOKUP(F1361,referentes!$Q$2:$T$300,3,FALSE))","v":""},null,null,null,null,null,{"$f":"IF(L1361=\"\",\"\",VLOOKUP(L1361,referentes!$G$2:$N$15,2,FALSE))","v":""},null,null,"",null,null,""]
[null,{"$f":"IF(C1362=\"\",\"\",IF(COUNTIF($C$3:C1362, C1362)>1, \"\", C1362))","v":""},{"$f":"IF(G1362=\"\",\"\",IF(F1362=\"\",\"\",CONCATENATE(DIGITADOR!$M$1,G1362,E1362)))","v":""},"",{"$f":"IF(F1362=\"\",\"\",VLOOKUP(F1362,referentes!$Q$2:$T$300,3,FALSE))","v":""},null,null,null,null,null,{"$f":"IF(L1362=\"\",\"\",VLOOKUP(L1362,referentes!$G$2:$N$15,2,FALSE))","v":""},null,null,"",null,null,""]
[null,{"$f":"IF(C1363=\"\",\"\",IF(COUNTIF($C$3:C1363, C1363)>1, \"\", C1363))","v":""},{"$f":"IF(G1363=\"\",\"\",IF(F1363=\"\",\"\",CONCATENATE(DIGITADOR!$M$1,G1363,E1363)))","v":""},"",{"$f":"IF(F1363=\"\",\"\",VLOOKUP(F1363,referentes!$Q$2:$T$300,3,FALSE))","v":""},null,null,null,null,null,{"$f":"IF(L1363=\"\",\"\",VLOOKUP(L1363,referentes!$G$2:$N$15,2,FALSE))","v":""},null,null,"",null,null,""]
[null,{"$f":"IF(C1364=\"\",\"\",IF(COUNTIF($C$3:C1364, C1364)>1, \"\", C1364))","v":""},{"$f":"IF(G1364=\"\",\"\",IF(F1364=\"\",\"\",CONCATENATE(DIGITADOR!$M$1,G1364,E1364)))","v":""},"",{"$f":"IF(F1364=\"\",\"\",VLOOKUP(F1364,referentes!$Q$2:$T$300,3,FALSE))","v":""},null,null,null,null,null,{"$f":"IF(L1364=\"\",\"\",VLOOKUP(L1364,referentes!$G$2:$N$15,2,FALSE))","v":""},null,null,"",null,null,""]
[null,{"$f":"IF(C1365=\"\",\"\",IF(COUNTIF($C$3:C1365, C1365)>1, \"\", C1365))","v":""},{"$f":"IF(G1365=\"\",\"\",IF(F1365=\"\",\"\",CONCATENATE(DIGITADOR!$M$1,G1365,E1365)))","v":""},"",{"$f":"IF(F1365=\"\",\"\",VLOOKUP(F1365,referentes!$Q$2:$T$300,3,FALSE))","v":""},null,null,null,null,null,{"$f":"IF(L1365=\"\",\"\",VLOOKUP(L1365,referentes!$G$2:$N$15,2,FALSE))","v":""},null,null,"",null,null,""]
[null,{"$f":"IF(C1366=\"\",\"\",IF(COUNTIF($C$3:C1366, C1366)>1, \"\", C1366))","v":""},{"$f":"IF(G1366=\"\",\"\",IF(F1366=\"\",\"\",CONCATENATE(DIGITADOR!$M$1,G1366,E1366)))","v":""},"",{"$f":"IF(F1366=\"\",\"\",VLOOKUP(F1366,referentes!$Q$2:$T$300,3,FALSE))","v":""},null,null,null,null,null,{"$f":"IF(L1366=\"\",\"\",VLOOKUP(L1366,referentes!$G$2:$N$15,2,FALSE))","v":""},null,null,"",null,null,""]
[null,{"$f":"IF(C1367=\"\",\"\",IF(COUNTIF($C$3:C1367, C1367)>1, \"\", C1367))","v":""},{"$f":"IF(G1367=\"\",\"\",IF(F1367=\"\",\"\",CONCATENATE(DIGITADOR!$M$1,G1367,E1367)))","v":""},"",{"$f":"IF(F1367=\"\",\"\",VLOOKUP(F1367,referentes!$Q$2:$T$300,3,FALSE))","v":""},null,null,null,null,null,{"$f":"IF(L1367=\"\",\"\",VLOOKUP(L1367,referentes!$G$2:$N$15,2,FALSE))","v":""},null,null,"",null,null,""]
[null,{"$f":"IF(C1368=\"\",\"\",IF(COUNTIF($C$3:C1368, C1368)>1, \"\", C1368))","v":""},{"$f":"IF(G1368=\"\",\"\",IF(F1368=\"\",\"\",CONCATENATE(DIGITADOR!$M$1,G1368,E1368)))","v":""},"",{"$f":"IF(F1368=\"\",\"\",VLOOKUP(F1368,referentes!$Q$2:$T$300,3,FALSE))","v":""},null,null,null,null,null,{"$f":"IF(L1368=\"\",\"\",VLOOKUP(L1368,referentes!$G$2:$N$15,2,FALSE))","v":""},null,null,"",null,null,""]
[null,{"$f":"IF(C1369=\"\",\"\",IF(COUNTIF($C$3:C1369, C1369)>1, \"\", C1369))","v":""},{"$f":"IF(G1369=\"\",\"\",IF(F1369=\"\",\"\",CONCATENATE(DIGITADOR!$M$1,G1369,E1369)))","v":""},"",{"$f":"IF(F1369=\"\",\"\",VLOOKUP(F1369,referentes!$Q$2:$T$300,3,FALSE))","v":""},null,null,null,null,null,{"$f":"IF(L1369=\"\",\"\",VLOOKUP(L1369,referentes!$G$2:$N$15,2,FALSE))","v":""},null,null,"",null,null,""]
[null,{"$f":"IF(C1370=\"\",\"\",IF(COUNTIF($C$3:C1370, C1370)>1, \"\", C1370))","v":""},{"$f":"IF(G1370=\"\",\"\",IF(F1370=\"\",\"\",CONCATENATE(DIGITADOR!$M$1,G1370,E1370)))","v":""},"",{"$f":"IF(F1370=\"\",\"\",VLOOKUP(F1370,referentes!$Q$2:$T$300,3,FALSE))","v":""},null,null,null,null,null,{"$f":"IF(L1370=\"\",\"\",VLOOKUP(L1370,referentes!$G$2:$N$15,2,FALSE))","v":""},null,null,"",null,null,""]
[null,{"$f":"IF(C1371=\"\",\"\",IF(COUNTIF($C$3:C1371, C1371)>1, \"\", C1371))","v":""},{"$f":"IF(G1371=\"\",\"\",IF(F1371=\"\",\"\",CONCATENATE(DIGITADOR!$M$1,G1371,E1371)))","v":""},"",{"$f":"IF(F1371=\"\",\"\",VLOOKUP(F1371,referentes!$Q$2:$T$300,3,FALSE))","v":""},null,null,null,null,null,{"$f":"IF(L1371=\"\",\"\",VLOOKUP(L1371,referentes!$G$2:$N$15,2,FALSE))","v":""},null,null,"",null,null,""]
[null,{"$f":"IF(C1372=\"\",\"\",IF(COUNTIF($C$3:C1372, C1372)>1, \"\", C1372))","v":""},{"$f":"IF(G1372=\"\",\"\",IF(F1372=\"\",\"\",CONCATENATE(DIGITADOR!$M$1,G1372,E1372)))","v":""},"",{"$f":"IF(F1372=\"\",\"\",VLOOKUP(F1372,referentes!$Q$2:$T$300,3,FALSE))","v":""},null,null,null,null,null,{"$f":"IF(L1372=\"\",\"\",VLOOKUP(L1372,referentes!$G$2:$N$15,2,FALSE))","v":""},null,null,"",null,null,""]
[null,{"$f":"IF(C1373=\"\",\"\",IF(COUNTIF($C$3:C1373, C1373)>1, \"\", C1373))","v":""},{"$f":"IF(G1373=\"\",\"\",IF(F1373=\"\",\"\",CONCATENATE(DIGITADOR!$M$1,G1373,E1373)))","v":""},"",{"$f":"IF(F1373=\"\",\"\",VLOOKUP(F1373,referentes!$Q$2:$T$300,3,FALSE))","v":""},null,null,null,null,null,{"$f":"IF(L1373=\"\",\"\",VLOOKUP(L1373,referentes!$G$2:$N$15,2,FALSE))","v":""},null,null,"",null,null,""]
[null,{"$f":"IF(C1374=\"\",\"\",IF(COUNTIF($C$3:C1374, C1374)>1, \"\", C1374))","v":""},{"$f":"IF(G1374=\"\",\"\",IF(F1374=\"\",\"\",CONCATENATE(DIGITADOR!$M$1,G1374,E1374)))","v":""},"",{"$f":"IF(F1374=\"\",\"\",VLOOKUP(F1374,referentes!$Q$2:$T$300,3,FALSE))","v":""},null,null,null,null,null,{"$f":"IF(L1374=\"\",\"\",VLOOKUP(L1374,referentes!$G$2:$N$15,2,FALSE))","v":""},null,null,"",null,null,""]
[null,{"$f":"IF(C1375=\"\",\"\",IF(COUNTIF($C$3:C1375, C1375)>1, \"\", C1375))","v":""},{"$f":"IF(G1375=\"\",\"\",IF(F1375=\"\",\"\",CONCATENATE(DIGITADOR!$M$1,G1375,E1375)))","v":""},"",{"$f":"IF(F1375=\"\",\"\",VLOOKUP(F1375,referentes!$Q$2:$T$300,3,FALSE))","v":""},null,null,null,null,null,{"$f":"IF(L1375=\"\",\"\",VLOOKUP(L1375,referentes!$G$2:$N$15,2,FALSE))","v":""},null,null,"",null,null,""]
[null,{"$f":"IF(C1376=\"\",\"\",IF(COUNTIF($C$3:C1376, C1376)>1, \"\", C1376))","v":""},{"$f":"IF(G1376=\"\",\"\",IF(F1376=\"\",\"\",CONCATENATE(DIGITADOR!$M$1,G1376,E1376)))","v":""},"",{"$f":"IF(F1376=\"\",\"\",VLOOKUP(F1376,referentes!$Q$2:$T$300,3,FALSE))","v":""},null,null,null,null,null,{"$f":"IF(L1376=\"\",\"\",VLOOKUP(L1376,referentes!$G$2:$N$15,2,FALSE))","v":""},null,null,"",null,null,""]
[null,{"$f":"IF(C1377=\"\",\"\",IF(COUNTIF($C$3:C1377, C1377)>1, \"\", C1377))","v":""},{"$f":"IF(G1377=\"\",\"\",IF(F1377=\"\",\"\",CONCATENATE(DIGITADOR!$M$1,G1377,E1377)))","v":""},"",{"$f":"IF(F1377=\"\",\"\",VLOOKUP(F1377,referentes!$Q$2:$T$300,3,FALSE))","v":""},null,null,null,null,null,{"$f":"IF(L1377=\"\",\"\",VLOOKUP(L1377,referentes!$G$2:$N$15,2,FALSE))","v":""},null,null,"",null,null,""]
[null,{"$f":"IF(C1378=\"\",\"\",IF(COUNTIF($C$3:C1378, C1378)>1, \"\", C1378))","v":""},{"$f":"IF(G1378=\"\",\"\",IF(F1378=\"\",\"\",CONCATENATE(DIGITADOR!$M$1,G1378,E1378)))","v":""},"",{"$f":"IF(F1378=\"\",\"\",VLOOKUP(F1378,referentes!$Q$2:$T$300,3,FALSE))","v":""},null,null,null,null,null,{"$f":"IF(L1378=\"\",\"\",VLOOKUP(L1378,referentes!$G$2:$N$15,2,FALSE))","v":""},null,null,"",null,null,""]
[null,{"$f":"IF(C1379=\"\",\"\",IF(COUNTIF($C$3:C1379, C1379)>1, \"\", C1379))","v":""},{"$f":"IF(G1379=\"\",\"\",IF(F1379=\"\",\"\",CONCATENATE(DIGITADOR!$M$1,G1379,E1379)))","v":""},"",{"$f":"IF(F1379=\"\",\"\",VLOOKUP(F1379,referentes!$Q$2:$T$300,3,FALSE))","v":""},null,null,null,null,null,{"$f":"IF(L1379=\"\",\"\",VLOOKUP(L1379,referentes!$G$2:$N$15,2,FALSE))","v":""},null,null,"",null,null,""]
[null,{"$f":"IF(C1380=\"\",\"\",IF(COUNTIF($C$3:C1380, C1380)>1, \"\", C1380))","v":""},{"$f":"IF(G1380=\"\",\"\",IF(F1380=\"\",\"\",CONCATENATE(DIGITADOR!$M$1,G1380,E1380)))","v":""},"",{"$f":"IF(F1380=\"\",\"\",VLOOKUP(F1380,referentes!$Q$2:$T$300,3,FALSE))","v":""},null,null,null,null,null,{"$f":"IF(L1380=\"\",\"\",VLOOKUP(L1380,referentes!$G$2:$N$15,2,FALSE))","v":""},null,null,"",null,null,""]
[null,{"$f":"IF(C1381=\"\",\"\",IF(COUNTIF($C$3:C1381, C1381)>1, \"\", C1381))","v":""},{"$f":"IF(G1381=\"\",\"\",IF(F1381=\"\",\"\",CONCATENATE(DIGITADOR!$M$1,G1381,E1381)))","v":""},"",{"$f":"IF(F1381=\"\",\"\",VLOOKUP(F1381,referentes!$Q$2:$T$300,3,FALSE))","v":""},null,null,null,null,null,{"$f":"IF(L1381=\"\",\"\",VLOOKUP(L1381,referentes!$G$2:$N$15,2,FALSE))","v":""},null,null,"",null,null,""]
[null,{"$f":"IF(C1382=\"\",\"\",IF(COUNTIF($C$3:C1382, C1382)>1, \"\", C1382))","v":""},{"$f":"IF(G1382=\"\",\"\",IF(F1382=\"\",\"\",CONCATENATE(DIGITADOR!$M$1,G1382,E1382)))","v":""},"",{"$f":"IF(F1382=\"\",\"\",VLOOKUP(F1382,referentes!$Q$2:$T$300,3,FALSE))","v":""},null,null,null,null,null,{"$f":"IF(L1382=\"\",\"\",VLOOKUP(L1382,referentes!$G$2:$N$15,2,FALSE))","v":""},null,null,"",null,null,""]
[null,{"$f":"IF(C1383=\"\",\"\",IF(COUNTIF($C$3:C1383, C1383)>1, \"\", C1383))","v":""},{"$f":"IF(G1383=\"\",\"\",IF(F1383=\"\",\"\",CONCATENATE(DIGITADOR!$M$1,G1383,E1383)))","v":""},"",{"$f":"IF(F1383=\"\",\"\",VLOOKUP(F1383,referentes!$Q$2:$T$300,3,FALSE))","v":""},null,null,null,null,null,{"$f":"IF(L1383=\"\",\"\",VLOOKUP(L1383,referentes!$G$2:$N$15,2,FALSE))","v":""},null,null,"",null,null,""]
[null,{"$f":"IF(C1384=\"\",\"\",IF(COUNTIF($C$3:C1384, C1384)>1, \"\", C1384))","v":""},{"$f":"IF(G1384=\"\",\"\",IF(F1384=\"\",\"\",CONCATENATE(DIGITADOR!$M$1,G1384,E1384)))","v":""},"",{"$f":"IF(F1384=\"\",\"\",VLOOKUP(F1384,referentes!$Q$2:$T$300,3,FALSE))","v":""},null,null,null,null,null,{"$f":"IF(L1384=\"\",\"\",VLOOKUP(L1384,referentes!$G$2:$N$15,2,FALSE))","v":""},null,null,"",null,null,""]
[null,{"$f":"IF(C1385=\"\",\"\",IF(COUNTIF($C$3:C1385, C1385)>1, \"\", C1385))","v":""},{"$f":"IF(G1385=\"\",\"\",IF(F1385=\"\",\"\",CONCATENATE(DIGITADOR!$M$1,G1385,E1385)))","v":""},"",{"$f":"IF(F1385=\"\",\"\",VLOOKUP(F1385,referentes!$Q$2:$T$300,3,FALSE))","v":""},null,null,null,null,null,{"$f":"IF(L1385=\"\",\"\",VLOOKUP(L1385,referentes!$G$2:$N$15,2,FALSE))","v":""},null,null,"",null,null,""]
[null,{"$f":"IF(C1386=\"\",\"\",IF(COUNTIF($C$3:C1386, C1386)>1, \"\", C1386))","v":""},{"$f":"IF(G1386=\"\",\"\",IF(F1386=\"\",\"\",CONCATENATE(DIGITADOR!$M$1,G1386,E1386)))","v":""},"",{"$f":"IF(F1386=\"\",\"\",VLOOKUP(F1386,referentes!$Q$2:$T$300,3,FALSE))","v":""},null,null,null,null,null,{"$f":"IF(L1386=\"\",\"\",VLOOKUP(L1386,referentes!$G$2:$N$15,2,FALSE))","v":""},null,null,"",null,null,""]
[null,{"$f":"IF(C1387=\"\",\"\",IF(COUNTIF($C$3:C1387, C1387)>1, \"\", C1387))","v":""},{"$f":"IF(G1387=\"\",\"\",IF(F1387=\"\",\"\",CONCATENATE(DIGITADOR!$M$1,G1387,E1387)))","v":""},"",{"$f":"IF(F1387=\"\",\"\",VLOOKUP(F1387,referentes!$Q$2:$T$300,3,FALSE))","v":""},null,null,null,null,null,{"$f":"IF(L1387=\"\",\"\",VLOOKUP(L1387,referentes!$G$2:$N$15,2,FALSE))","v":""},null,null,"",null,null,""]
[null,{"$f":"IF(C1388=\"\",\"\",IF(COUNTIF($C$3:C1388, C1388)>1, \"\", C1388))","v":""},{"$f":"IF(G1388=\"\",\"\",IF(F1388=\"\",\"\",CONCATENATE(DIGITADOR!$M$1,G1388,E1388)))","v":""},"",{"$f":"IF(F1388=\"\",\"\",VLOOKUP(F1388,referentes!$Q$2:$T$300,3,FALSE))","v":""},null,null,null,null,null,{"$f":"IF(L1388=\"\",\"\",VLOOKUP(L1388,referentes!$G$2:$N$15,2,FALSE))","v":""},null,null,"",null,null,""]
[null,{"$f":"IF(C1389=\"\",\"\",IF(COUNTIF($C$3:C1389, C1389)>1, \"\", C1389))","v":""},{"$f":"IF(G1389=\"\",\"\",IF(F1389=\"\",\"\",CONCATENATE(DIGITADOR!$M$1,G1389,E1389)))","v":""},"",{"$f":"IF(F1389=\"\",\"\",VLOOKUP(F1389,referentes!$Q$2:$T$300,3,FALSE))","v":""},null,null,null,null,null,{"$f":"IF(L1389=\"\",\"\",VLOOKUP(L1389,referentes!$G$2:$N$15,2,FALSE))","v":""},null,null,"",null,null,""]
[null,{"$f":"IF(C1390=\"\",\"\",IF(COUNTIF($C$3:C1390, C1390)>1, \"\", C1390))","v":""},{"$f":"IF(G1390=\"\",\"\",IF(F1390=\"\",\"\",CONCATENATE(DIGITADOR!$M$1,G1390,E1390)))","v":""},"",{"$f":"IF(F1390=\"\",\"\",VLOOKUP(F1390,referentes!$Q$2:$T$300,3,FALSE))","v":""},null,null,null,null,null,{"$f":"IF(L1390=\"\",\"\",VLOOKUP(L1390,referentes!$G$2:$N$15,2,FALSE))","v":""},null,null,"",null,null,""]
[null,{"$f":"IF(C1391=\"\",\"\",IF(COUNTIF($C$3:C1391, C1391)>1, \"\", C1391))","v":""},{"$f":"IF(G1391=\"\",\"\",IF(F1391=\"\",\"\",CONCATENATE(DIGITADOR!$M$1,G1391,E1391)))","v":""},"",{"$f":"IF(F1391=\"\",\"\",VLOOKUP(F1391,referentes!$Q$2:$T$300,3,FALSE))","v":""},null,null,null,null,null,{"$f":"IF(L1391=\"\",\"\",VLOOKUP(L1391,referentes!$G$2:$N$15,2,FALSE))","v":""},null,null,"",null,null,""]
[null,{"$f":"IF(C1392=\"\",\"\",IF(COUNTIF($C$3:C1392, C1392)>1, \"\", C1392))","v":""},{"$f":"IF(G1392=\"\",\"\",IF(F1392=\"\",\"\",CONCATENATE(DIGITADOR!$M$1,G1392,E1392)))","v":""},"",{"$f":"IF(F1392=\"\",\"\",VLOOKUP(F1392,referentes!$Q$2:$T$300,3,FALSE))","v":""},null,null,null,null,null,{"$f":"IF(L1392=\"\",\"\",VLOOKUP(L1392,referentes!$G$2:$N$15,2,FALSE))","v":""},null,null,"",null,null,""]
[null,{"$f":"IF(C1393=\"\",\"\",IF(COUNTIF($C$3:C1393, C1393)>1, \"\", C1393))","v":""},{"$f":"IF(G1393=\"\",\"\",IF(F1393=\"\",\"\",CONCATENATE(DIGITADOR!$M$1,G1393,E1393)))","v":""},"",{"$f":"IF(F1393=\"\",\"\",VLOOKUP(F1393,referentes!$Q$2:$T$300,3,FALSE))","v":""},null,null,null,null,null,{"$f":"IF(L1393=\"\",\"\",VLOOKUP(L1393,referentes!$G$2:$N$15,2,FALSE))","v":""},null,null,"",null,null,""]
[null,{"$f":"IF(C1394=\"\",\"\",IF(COUNTIF($C$3:C1394, C1394)>1, \"\", C1394))","v":""},{"$f":"IF(G1394=\"\",\"\",IF(F1394=\"\",\"\",CONCATENATE(DIGITADOR!$M$1,G1394,E1394)))","v":""},"",{"$f":"IF(F1394=\"\",\"\",VLOOKUP(F1394,referentes!$Q$2:$T$300,3,FALSE))","v":""},null,null,null,null,null,{"$f":"IF(L1394=\"\",\"\",VLOOKUP(L1394,referentes!$G$2:$N$15,2,FALSE))","v":""},null,null,"",null,null,""]
[null,{"$f":"IF(C1395=\"\",\"\",IF(COUNTIF($C$3:C1395, C1395)>1, \"\", C1395))","v":""},{"$f":"IF(G1395=\"\",\"\",IF(F1395=\"\",\"\",CONCATENATE(DIGITADOR!$M$1,G1395,E1395)))","v":""},"",{"$f":"IF(F1395=\"\",\"\",VLOOKUP(F1395,referentes!$Q$2:$T$300,3,FALSE))","v":""},null,null,null,null,null,{"$f":"IF(L1395=\"\",\"\",VLOOKUP(L1395,referentes!$G$2:$N$15,2,FALSE))","v":""},null,null,"",null,null,""]
[null,{"$f":"IF(C1396=\"\",\"\",IF(COUNTIF($C$3:C1396, C1396)>1, \"\", C1396))","v":""},{"$f":"IF(G1396=\"\",\"\",IF(F1396=\"\",\"\",CONCATENATE(DIGITADOR!$M$1,G1396,E1396)))","v":""},"",{"$f":"IF(F1396=\"\",\"\",VLOOKUP(F1396,referentes!$Q$2:$T$300,3,FALSE))","v":""},null,null,null,null,null,{"$f":"IF(L1396=\"\",\"\",VLOOKUP(L1396,referentes!$G$2:$N$15,2,FALSE))","v":""},null,null,"",null,null,""]
[null,{"$f":"IF(C1397=\"\",\"\",IF(COUNTIF($C$3:C1397, C1397)>1, \"\", C1397))","v":""},{"$f":"IF(G1397=\"\",\"\",IF(F1397=\"\",\"\",CONCATENATE(DIGITADOR!$M$1,G1397,E1397)))","v":""},"",{"$f":"IF(F1397=\"\",\"\",VLOOKUP(F1397,referentes!$Q$2:$T$300,3,FALSE))","v":""},null,null,null,null,null,{"$f":"IF(L1397=\"\",\"\",VLOOKUP(L1397,referentes!$G$2:$N$15,2,FALSE))","v":""},null,null,"",null,null,""]
[null,{"$f":"IF(C1398=\"\",\"\",IF(COUNTIF($C$3:C1398, C1398)>1, \"\", C1398))","v":""},{"$f":"IF(G1398=\"\",\"\",IF(F1398=\"\",\"\",CONCATENATE(DIGITADOR!$M$1,G1398,E1398)))","v":""},"",{"$f":"IF(F1398=\"\",\"\",VLOOKUP(F1398,referentes!$Q$2:$T$300,3,FALSE))","v":""},null,null,null,null,null,{"$f":"IF(L1398=\"\",\"\",VLOOKUP(L1398,referentes!$G$2:$N$15,2,FALSE))","v":""},null,null,"",null,null,""]
[null,{"$f":"IF(C1399=\"\",\"\",IF(COUNTIF($C$3:C1399, C1399)>1, \"\", C1399))","v":""},{"$f":"IF(G1399=\"\",\"\",IF(F1399=\"\",\"\",CONCATENATE(DIGITADOR!$M$1,G1399,E1399)))","v":""},"",{"$f":"IF(F1399=\"\",\"\",VLOOKUP(F1399,referentes!$Q$2:$T$300,3,FALSE))","v":""},null,null,null,null,null,{"$f":"IF(L1399=\"\",\"\",VLOOKUP(L1399,referentes!$G$2:$N$15,2,FALSE))","v":""},null,null,"",null,null,""]
[null,{"$f":"IF(C1400=\"\",\"\",IF(COUNTIF($C$3:C1400, C1400)>1, \"\", C1400))","v":""},{"$f":"IF(G1400=\"\",\"\",IF(F1400=\"\",\"\",CONCATENATE(DIGITADOR!$M$1,G1400,E1400)))","v":""},"",{"$f":"IF(F1400=\"\",\"\",VLOOKUP(F1400,referentes!$Q$2:$T$300,3,FALSE))","v":""},null,null,null,null,null,{"$f":"IF(L1400=\"\",\"\",VLOOKUP(L1400,referentes!$G$2:$N$15,2,FALSE))","v":""},null,null,"",null,null,""]
[null,{"$f":"IF(C1401=\"\",\"\",IF(COUNTIF($C$3:C1401, C1401)>1, \"\", C1401))","v":""},{"$f":"IF(G1401=\"\",\"\",IF(F1401=\"\",\"\",CONCATENATE(DIGITADOR!$M$1,G1401,E1401)))","v":""},"",{"$f":"IF(F1401=\"\",\"\",VLOOKUP(F1401,referentes!$Q$2:$T$300,3,FALSE))","v":""},null,null,null,null,null,{"$f":"IF(L1401=\"\",\"\",VLOOKUP(L1401,referentes!$G$2:$N$15,2,FALSE))","v":""},null,null,"",null,null,""]
[null,{"$f":"IF(C1402=\"\",\"\",IF(COUNTIF($C$3:C1402, C1402)>1, \"\", C1402))","v":""},{"$f":"IF(G1402=\"\",\"\",IF(F1402=\"\",\"\",CONCATENATE(DIGITADOR!$M$1,G1402,E1402)))","v":""},"",{"$f":"IF(F1402=\"\",\"\",VLOOKUP(F1402,referentes!$Q$2:$T$300,3,FALSE))","v":""},null,null,null,null,null,{"$f":"IF(L1402=\"\",\"\",VLOOKUP(L1402,referentes!$G$2:$N$15,2,FALSE))","v":""},null,null,"",null,null,""]
[null,{"$f":"IF(C1403=\"\",\"\",IF(COUNTIF($C$3:C1403, C1403)>1, \"\", C1403))","v":""},{"$f":"IF(G1403=\"\",\"\",IF(F1403=\"\",\"\",CONCATENATE(DIGITADOR!$M$1,G1403,E1403)))","v":""},"",{"$f":"IF(F1403=\"\",\"\",VLOOKUP(F1403,referentes!$Q$2:$T$300,3,FALSE))","v":""},null,null,null,null,null,{"$f":"IF(L1403=\"\",\"\",VLOOKUP(L1403,referentes!$G$2:$N$15,2,FALSE))","v":""},null,null,"",null,null,""]
[null,{"$f":"IF(C1404=\"\",\"\",IF(COUNTIF($C$3:C1404, C1404)>1, \"\", C1404))","v":""},{"$f":"IF(G1404=\"\",\"\",IF(F1404=\"\",\"\",CONCATENATE(DIGITADOR!$M$1,G1404,E1404)))","v":""},"",{"$f":"IF(F1404=\"\",\"\",VLOOKUP(F1404,referentes!$Q$2:$T$300,3,FALSE))","v":""},null,null,null,null,null,{"$f":"IF(L1404=\"\",\"\",VLOOKUP(L1404,referentes!$G$2:$N$15,2,FALSE))","v":""},null,null,"",null,null,""]
[null,{"$f":"IF(C1405=\"\",\"\",IF(COUNTIF($C$3:C1405, C1405)>1, \"\", C1405))","v":""},{"$f":"IF(G1405=\"\",\"\",IF(F1405=\"\",\"\",CONCATENATE(DIGITADOR!$M$1,G1405,E1405)))","v":""},"",{"$f":"IF(F1405=\"\",\"\",VLOOKUP(F1405,referentes!$Q$2:$T$300,3,FALSE))","v":""},null,null,null,null,null,{"$f":"IF(L1405=\"\",\"\",VLOOKUP(L1405,referentes!$G$2:$N$15,2,FALSE))","v":""},null,null,"",null,null,""]
[null,{"$f":"IF(C1406=\"\",\"\",IF(COUNTIF($C$3:C1406, C1406)>1, \"\", C1406))","v":""},{"$f":"IF(G1406=\"\",\"\",IF(F1406=\"\",\"\",CONCATENATE(DIGITADOR!$M$1,G1406,E1406)))","v":""},"",{"$f":"IF(F1406=\"\",\"\",VLOOKUP(F1406,referentes!$Q$2:$T$300,3,FALSE))","v":""},null,null,null,null,null,{"$f":"IF(L1406=\"\",\"\",VLOOKUP(L1406,referentes!$G$2:$N$15,2,FALSE))","v":""},null,null,"",null,null,""]
[null,{"$f":"IF(C1407=\"\",\"\",IF(COUNTIF($C$3:C1407, C1407)>1, \"\", C1407))","v":""},{"$f":"IF(G1407=\"\",\"\",IF(F1407=\"\",\"\",CONCATENATE(DIGITADOR!$M$1,G1407,E1407)))","v":""},"",{"$f":"IF(F1407=\"\",\"\",VLOOKUP(F1407,referentes!$Q$2:$T$300,3,FALSE))","v":""},null,null,null,null,null,{"$f":"IF(L1407=\"\",\"\",VLOOKUP(L1407,referentes!$G$2:$N$15,2,FALSE))","v":""},null,null,"",null,null,""]
[null,{"$f":"IF(C1408=\"\",\"\",IF(COUNTIF($C$3:C1408, C1408)>1, \"\", C1408))","v":""},{"$f":"IF(G1408=\"\",\"\",IF(F1408=\"\",\"\",CONCATENATE(DIGITADOR!$M$1,G1408,E1408)))","v":""},"",{"$f":"IF(F1408=\"\",\"\",VLOOKUP(F1408,referentes!$Q$2:$T$300,3,FALSE))","v":""},null,null,null,null,null,{"$f":"IF(L1408=\"\",\"\",VLOOKUP(L1408,referentes!$G$2:$N$15,2,FALSE))","v":""},null,null,"",null,null,""]
[null,{"$f":"IF(C1409=\"\",\"\",IF(COUNTIF($C$3:C1409, C1409)>1, \"\", C1409))","v":""},{"$f":"IF(G1409=\"\",\"\",IF(F1409=\"\",\"\",CONCATENATE(DIGITADOR!$M$1,G1409,E1409)))","v":""},"",{"$f":"IF(F1409=\"\",\"\",VLOOKUP(F1409,referentes!$Q$2:$T$300,3,FALSE))","v":""},null,null,null,null,null,{"$f":"IF(L1409=\"\",\"\",VLOOKUP(L1409,referentes!$G$2:$N$15,2,FALSE))","v":""},null,null,"",null,null,""]
[null,{"$f":"IF(C1410=\"\",\"\",IF(COUNTIF($C$3:C1410, C1410)>1, \"\", C1410))","v":""},{"$f":"IF(G1410=\"\",\"\",IF(F1410=\"\",\"\",CONCATENATE(DIGITADOR!$M$1,G1410,E1410)))","v":""},"",{"$f":"IF(F1410=\"\",\"\",VLOOKUP(F1410,referentes!$Q$2:$T$300,3,FALSE))","v":""},null,null,null,null,null,{"$f":"IF(L1410=\"\",\"\",VLOOKUP(L1410,referentes!$G$2:$N$15,2,FALSE))","v":""},null,null,"",null,null,""]
[null,{"$f":"IF(C1411=\"\",\"\",IF(COUNTIF($C$3:C1411, C1411)>1, \"\", C1411))","v":""},{"$f":"IF(G1411=\"\",\"\",IF(F1411=\"\",\"\",CONCATENATE(DIGITADOR!$M$1,G1411,E1411)))","v":""},"",{"$f":"IF(F1411=\"\",\"\",VLOOKUP(F1411,referentes!$Q$2:$T$300,3,FALSE))","v":""},null,null,null,null,null,{"$f":"IF(L1411=\"\",\"\",VLOOKUP(L1411,referentes!$G$2:$N$15,2,FALSE))","v":""},null,null,"",null,null,""]
[null,{"$f":"IF(C1412=\"\",\"\",IF(COUNTIF($C$3:C1412, C1412)>1, \"\", C1412))","v":""},{"$f":"IF(G1412=\"\",\"\",IF(F1412=\"\",\"\",CONCATENATE(DIGITADOR!$M$1,G1412,E1412)))","v":""},{"$f":"IF(C1412=\"\",\"\",CONCATENATE(C1412,ROW()-2))","v":""},{"$f":"IF(F1412=\"\",\"\",VLOOKUP(F1412,referentes!$Q$2:$T$300,3,FALSE))","v":""},null,null,null,null,null,{"$f":"IF(L1412=\"\",\"\",VLOOKUP(L1412,referentes!$G$2:$N$15,2,FALSE))","v":""},null,null,{"$f":"IF(M1412=\"\",\"\",M1412/PI())","v":""},null,null,{"$f":"IF(N1412=\"\",\"\",((PI())*((N1412/100)^2))/4*10000/500)","v":""}]
[null,{"$f":"IF(C1413=\"\",\"\",IF(COUNTIF($C$3:C1413, C1413)>1, \"\", C1413))","v":""},{"$f":"IF(G1413=\"\",\"\",IF(F1413=\"\",\"\",CONCATENATE(DIGITADOR!$M$1,G1413,E1413)))","v":""},"",{"$f":"IF(F1413=\"\",\"\",VLOOKUP(F1413,referentes!$Q$2:$T$300,3,FALSE))","v":""},null,null,null,null,null,{"$f":"IF(L1413=\"\",\"\",VLOOKUP(L1413,referentes!$G$2:$N$15,2,FALSE))","v":""},null,null,"",null,null,""]
[null,{"$f":"IF(C1414=\"\",\"\",IF(COUNTIF($C$3:C1414, C1414)>1, \"\", C1414))","v":""},{"$f":"IF(G1414=\"\",\"\",IF(F1414=\"\",\"\",CONCATENATE(DIGITADOR!$M$1,G1414,E1414)))","v":""},"",{"$f":"IF(F1414=\"\",\"\",VLOOKUP(F1414,referentes!$Q$2:$T$300,3,FALSE))","v":""},null,null,null,null,null,{"$f":"IF(L1414=\"\",\"\",VLOOKUP(L1414,referentes!$G$2:$N$15,2,FALSE))","v":""},null,null,"",null,null,""]
[null,{"$f":"IF(C1415=\"\",\"\",IF(COUNTIF($C$3:C1415, C1415)>1, \"\", C1415))","v":""},{"$f":"IF(G1415=\"\",\"\",IF(F1415=\"\",\"\",CONCATENATE(DIGITADOR!$M$1,G1415,E1415)))","v":""},"",{"$f":"IF(F1415=\"\",\"\",VLOOKUP(F1415,referentes!$Q$2:$T$300,3,FALSE))","v":""},null,null,null,null,null,{"$f":"IF(L1415=\"\",\"\",VLOOKUP(L1415,referentes!$G$2:$N$15,2,FALSE))","v":""},null,null,"",null,null,""]
[null,{"$f":"IF(C1416=\"\",\"\",IF(COUNTIF($C$3:C1416, C1416)>1, \"\", C1416))","v":""},{"$f":"IF(G1416=\"\",\"\",IF(F1416=\"\",\"\",CONCATENATE(DIGITADOR!$M$1,G1416,E1416)))","v":""},"",{"$f":"IF(F1416=\"\",\"\",VLOOKUP(F1416,referentes!$Q$2:$T$300,3,FALSE))","v":""},null,null,null,null,null,{"$f":"IF(L1416=\"\",\"\",VLOOKUP(L1416,referentes!$G$2:$N$15,2,FALSE))","v":""},null,null,"",null,null,""]
[null,{"$f":"IF(C1417=\"\",\"\",IF(COUNTIF($C$3:C1417, C1417)>1, \"\", C1417))","v":""},{"$f":"IF(G1417=\"\",\"\",IF(F1417=\"\",\"\",CONCATENATE(DIGITADOR!$M$1,G1417,E1417)))","v":""},"",{"$f":"IF(F1417=\"\",\"\",VLOOKUP(F1417,referentes!$Q$2:$T$300,3,FALSE))","v":""},null,null,null,null,null,{"$f":"IF(L1417=\"\",\"\",VLOOKUP(L1417,referentes!$G$2:$N$15,2,FALSE))","v":""},null,null,"",null,null,""]
[null,{"$f":"IF(C1418=\"\",\"\",IF(COUNTIF($C$3:C1418, C1418)>1, \"\", C1418))","v":""},{"$f":"IF(G1418=\"\",\"\",IF(F1418=\"\",\"\",CONCATENATE(DIGITADOR!$M$1,G1418,E1418)))","v":""},"",{"$f":"IF(F1418=\"\",\"\",VLOOKUP(F1418,referentes!$Q$2:$T$300,3,FALSE))","v":""},null,null,null,null,null,{"$f":"IF(L1418=\"\",\"\",VLOOKUP(L1418,referentes!$G$2:$N$15,2,FALSE))","v":""},null,null,"",null,null,""]
[null,{"$f":"IF(C1419=\"\",\"\",IF(COUNTIF($C$3:C1419, C1419)>1, \"\", C1419))","v":""},{"$f":"IF(G1419=\"\",\"\",IF(F1419=\"\",\"\",CONCATENATE(DIGITADOR!$M$1,G1419,E1419)))","v":""},"",{"$f":"IF(F1419=\"\",\"\",VLOOKUP(F1419,referentes!$Q$2:$T$300,3,FALSE))","v":""},null,null,null,null,null,{"$f":"IF(L1419=\"\",\"\",VLOOKUP(L1419,referentes!$G$2:$N$15,2,FALSE))","v":""},null,null,"",null,null,""]
[null,{"$f":"IF(C1420=\"\",\"\",IF(COUNTIF($C$3:C1420, C1420)>1, \"\", C1420))","v":""},{"$f":"IF(G1420=\"\",\"\",IF(F1420=\"\",\"\",CONCATENATE(DIGITADOR!$M$1,G1420,E1420)))","v":""},"",{"$f":"IF(F1420=\"\",\"\",VLOOKUP(F1420,referentes!$Q$2:$T$300,3,FALSE))","v":""},null,null,null,null,null,{"$f":"IF(L1420=\"\",\"\",VLOOKUP(L1420,referentes!$G$2:$N$15,2,FALSE))","v":""},null,null,"",null,null,""]
[null,{"$f":"IF(C1421=\"\",\"\",IF(COUNTIF($C$3:C1421, C1421)>1, \"\", C1421))","v":""},{"$f":"IF(G1421=\"\",\"\",IF(F1421=\"\",\"\",CONCATENATE(DIGITADOR!$M$1,G1421,E1421)))","v":""},"",{"$f":"IF(F1421=\"\",\"\",VLOOKUP(F1421,referentes!$Q$2:$T$300,3,FALSE))","v":""},null,null,null,null,null,{"$f":"IF(L1421=\"\",\"\",VLOOKUP(L1421,referentes!$G$2:$N$15,2,FALSE))","v":""},null,null,"",null,null,""]
[null,{"$f":"IF(C1422=\"\",\"\",IF(COUNTIF($C$3:C1422, C1422)>1, \"\", C1422))","v":""},{"$f":"IF(G1422=\"\",\"\",IF(F1422=\"\",\"\",CONCATENATE(DIGITADOR!$M$1,G1422,E1422)))","v":""},"",{"$f":"IF(F1422=\"\",\"\",VLOOKUP(F1422,referentes!$Q$2:$T$300,3,FALSE))","v":""},null,null,null,null,null,{"$f":"IF(L1422=\"\",\"\",VLOOKUP(L1422,referentes!$G$2:$N$15,2,FALSE))","v":""},null,null,"",null,null,""]
[null,{"$f":"IF(C1423=\"\",\"\",IF(COUNTIF($C$3:C1423, C1423)>1, \"\", C1423))","v":""},{"$f":"IF(G1423=\"\",\"\",IF(F1423=\"\",\"\",CONCATENATE(DIGITADOR!$M$1,G1423,E1423)))","v":""},"",{"$f":"IF(F1423=\"\",\"\",VLOOKUP(F1423,referentes!$Q$2:$T$300,3,FALSE))","v":""},null,null,null,null,null,{"$f":"IF(L1423=\"\",\"\",VLOOKUP(L1423,referentes!$G$2:$N$15,2,FALSE))","v":""},null,null,"",null,null,""]
[null,{"$f":"IF(C1424=\"\",\"\",IF(COUNTIF($C$3:C1424, C1424)>1, \"\", C1424))","v":""},{"$f":"IF(G1424=\"\",\"\",IF(F1424=\"\",\"\",CONCATENATE(DIGITADOR!$M$1,G1424,E1424)))","v":""},"",{"$f":"IF(F1424=\"\",\"\",VLOOKUP(F1424,referentes!$Q$2:$T$300,3,FALSE))","v":""},null,null,null,null,null,{"$f":"IF(L1424=\"\",\"\",VLOOKUP(L1424,referentes!$G$2:$N$15,2,FALSE))","v":""},null,null,"",null,null,""]
[null,{"$f":"IF(C1425=\"\",\"\",IF(COUNTIF($C$3:C1425, C1425)>1, \"\", C1425))","v":""},{"$f":"IF(G1425=\"\",\"\",IF(F1425=\"\",\"\",CONCATENATE(DIGITADOR!$M$1,G1425,E1425)))","v":""},"",{"$f":"IF(F1425=\"\",\"\",VLOOKUP(F1425,referentes!$Q$2:$T$300,3,FALSE))","v":""},null,null,null,null,null,{"$f":"IF(L1425=\"\",\"\",VLOOKUP(L1425,referentes!$G$2:$N$15,2,FALSE))","v":""},null,null,"",null,null,""]
[null,{"$f":"IF(C1426=\"\",\"\",IF(COUNTIF($C$3:C1426, C1426)>1, \"\", C1426))","v":""},{"$f":"IF(G1426=\"\",\"\",IF(F1426=\"\",\"\",CONCATENATE(DIGITADOR!$M$1,G1426,E1426)))","v":""},"",{"$f":"IF(F1426=\"\",\"\",VLOOKUP(F1426,referentes!$Q$2:$T$300,3,FALSE))","v":""},null,null,null,null,null,{"$f":"IF(L1426=\"\",\"\",VLOOKUP(L1426,referentes!$G$2:$N$15,2,FALSE))","v":""},null,null,"",null,null,""]
[null,{"$f":"IF(C1427=\"\",\"\",IF(COUNTIF($C$3:C1427, C1427)>1, \"\", C1427))","v":""},{"$f":"IF(G1427=\"\",\"\",IF(F1427=\"\",\"\",CONCATENATE(DIGITADOR!$M$1,G1427,E1427)))","v":""},"",{"$f":"IF(F1427=\"\",\"\",VLOOKUP(F1427,referentes!$Q$2:$T$300,3,FALSE))","v":""},null,null,null,null,null,{"$f":"IF(L1427=\"\",\"\",VLOOKUP(L1427,referentes!$G$2:$N$15,2,FALSE))","v":""},null,null,"",null,null,""]
[null,{"$f":"IF(C1428=\"\",\"\",IF(COUNTIF($C$3:C1428, C1428)>1, \"\", C1428))","v":""},{"$f":"IF(G1428=\"\",\"\",IF(F1428=\"\",\"\",CONCATENATE(DIGITADOR!$M$1,G1428,E1428)))","v":""},"",{"$f":"IF(F1428=\"\",\"\",VLOOKUP(F1428,referentes!$Q$2:$T$300,3,FALSE))","v":""},null,null,null,null,null,{"$f":"IF(L1428=\"\",\"\",VLOOKUP(L1428,referentes!$G$2:$N$15,2,FALSE))","v":""},null,null,"",null,null,""]
[null,{"$f":"IF(C1429=\"\",\"\",IF(COUNTIF($C$3:C1429, C1429)>1, \"\", C1429))","v":""},{"$f":"IF(G1429=\"\",\"\",IF(F1429=\"\",\"\",CONCATENATE(DIGITADOR!$M$1,G1429,E1429)))","v":""},"",{"$f":"IF(F1429=\"\",\"\",VLOOKUP(F1429,referentes!$Q$2:$T$300,3,FALSE))","v":""},null,null,null,null,null,{"$f":"IF(L1429=\"\",\"\",VLOOKUP(L1429,referentes!$G$2:$N$15,2,FALSE))","v":""},null,null,"",null,null,""]
[null,{"$f":"IF(C1430=\"\",\"\",IF(COUNTIF($C$3:C1430, C1430)>1, \"\", C1430))","v":""},{"$f":"IF(G1430=\"\",\"\",IF(F1430=\"\",\"\",CONCATENATE(DIGITADOR!$M$1,G1430,E1430)))","v":""},"",{"$f":"IF(F1430=\"\",\"\",VLOOKUP(F1430,referentes!$Q$2:$T$300,3,FALSE))","v":""},null,null,null,null,null,{"$f":"IF(L1430=\"\",\"\",VLOOKUP(L1430,referentes!$G$2:$N$15,2,FALSE))","v":""},null,null,"",null,null,""]
[null,{"$f":"IF(C1431=\"\",\"\",IF(COUNTIF($C$3:C1431, C1431)>1, \"\", C1431))","v":""},{"$f":"IF(G1431=\"\",\"\",IF(F1431=\"\",\"\",CONCATENATE(DIGITADOR!$M$1,G1431,E1431)))","v":""},"",{"$f":"IF(F1431=\"\",\"\",VLOOKUP(F1431,referentes!$Q$2:$T$300,3,FALSE))","v":""},null,null,null,null,null,{"$f":"IF(L1431=\"\",\"\",VLOOKUP(L1431,referentes!$G$2:$N$15,2,FALSE))","v":""},null,null,"",null,null,""]
[null,{"$f":"IF(C1432=\"\",\"\",IF(COUNTIF($C$3:C1432, C1432)>1, \"\", C1432))","v":""},{"$f":"IF(G1432=\"\",\"\",IF(F1432=\"\",\"\",CONCATENATE(DIGITADOR!$M$1,G1432,E1432)))","v":""},"",{"$f":"IF(F1432=\"\",\"\",VLOOKUP(F1432,referentes!$Q$2:$T$300,3,FALSE))","v":""},null,null,null,null,null,{"$f":"IF(L1432=\"\",\"\",VLOOKUP(L1432,referentes!$G$2:$N$15,2,FALSE))","v":""},null,null,"",null,null,""]
[null,{"$f":"IF(C1433=\"\",\"\",IF(COUNTIF($C$3:C1433, C1433)>1, \"\", C1433))","v":""},{"$f":"IF(G1433=\"\",\"\",IF(F1433=\"\",\"\",CONCATENATE(DIGITADOR!$M$1,G1433,E1433)))","v":""},"",{"$f":"IF(F1433=\"\",\"\",VLOOKUP(F1433,referentes!$Q$2:$T$300,3,FALSE))","v":""},null,null,null,null,null,{"$f":"IF(L1433=\"\",\"\",VLOOKUP(L1433,referentes!$G$2:$N$15,2,FALSE))","v":""},null,null,"",null,null,""]
[null,{"$f":"IF(C1434=\"\",\"\",IF(COUNTIF($C$3:C1434, C1434)>1, \"\", C1434))","v":""},{"$f":"IF(G1434=\"\",\"\",IF(F1434=\"\",\"\",CONCATENATE(DIGITADOR!$M$1,G1434,E1434)))","v":""},"",{"$f":"IF(F1434=\"\",\"\",VLOOKUP(F1434,referentes!$Q$2:$T$300,3,FALSE))","v":""},null,null,null,null,null,{"$f":"IF(L1434=\"\",\"\",VLOOKUP(L1434,referentes!$G$2:$N$15,2,FALSE))","v":""},null,null,"",null,null,""]
[null,{"$f":"IF(C1435=\"\",\"\",IF(COUNTIF($C$3:C1435, C1435)>1, \"\", C1435))","v":""},{"$f":"IF(G1435=\"\",\"\",IF(F1435=\"\",\"\",CONCATENATE(DIGITADOR!$M$1,G1435,E1435)))","v":""},"",{"$f":"IF(F1435=\"\",\"\",VLOOKUP(F1435,referentes!$Q$2:$T$300,3,FALSE))","v":""},null,null,null,null,null,{"$f":"IF(L1435=\"\",\"\",VLOOKUP(L1435,referentes!$G$2:$N$15,2,FALSE))","v":""},null,null,"",null,null,""]
[null,{"$f":"IF(C1436=\"\",\"\",IF(COUNTIF($C$3:C1436, C1436)>1, \"\", C1436))","v":""},{"$f":"IF(G1436=\"\",\"\",IF(F1436=\"\",\"\",CONCATENATE(DIGITADOR!$M$1,G1436,E1436)))","v":""},"",{"$f":"IF(F1436=\"\",\"\",VLOOKUP(F1436,referentes!$Q$2:$T$300,3,FALSE))","v":""},null,null,null,null,null,{"$f":"IF(L1436=\"\",\"\",VLOOKUP(L1436,referentes!$G$2:$N$15,2,FALSE))","v":""},null,null,"",null,null,""]
[null,{"$f":"IF(C1437=\"\",\"\",IF(COUNTIF($C$3:C1437, C1437)>1, \"\", C1437))","v":""},{"$f":"IF(G1437=\"\",\"\",IF(F1437=\"\",\"\",CONCATENATE(DIGITADOR!$M$1,G1437,E1437)))","v":""},"",{"$f":"IF(F1437=\"\",\"\",VLOOKUP(F1437,referentes!$Q$2:$T$300,3,FALSE))","v":""},null,null,null,null,null,{"$f":"IF(L1437=\"\",\"\",VLOOKUP(L1437,referentes!$G$2:$N$15,2,FALSE))","v":""},null,null,"",null,null,""]
[null,{"$f":"IF(C1438=\"\",\"\",IF(COUNTIF($C$3:C1438, C1438)>1, \"\", C1438))","v":""},{"$f":"IF(G1438=\"\",\"\",IF(F1438=\"\",\"\",CONCATENATE(DIGITADOR!$M$1,G1438,E1438)))","v":""},"",{"$f":"IF(F1438=\"\",\"\",VLOOKUP(F1438,referentes!$Q$2:$T$300,3,FALSE))","v":""},null,null,null,null,null,{"$f":"IF(L1438=\"\",\"\",VLOOKUP(L1438,referentes!$G$2:$N$15,2,FALSE))","v":""},null,null,"",null,null,""]
[null,{"$f":"IF(C1439=\"\",\"\",IF(COUNTIF($C$3:C1439, C1439)>1, \"\", C1439))","v":""},{"$f":"IF(G1439=\"\",\"\",IF(F1439=\"\",\"\",CONCATENATE(DIGITADOR!$M$1,G1439,E1439)))","v":""},"",{"$f":"IF(F1439=\"\",\"\",VLOOKUP(F1439,referentes!$Q$2:$T$300,3,FALSE))","v":""},null,null,null,null,null,{"$f":"IF(L1439=\"\",\"\",VLOOKUP(L1439,referentes!$G$2:$N$15,2,FALSE))","v":""},null,null,"",null,null,""]
[null,{"$f":"IF(C1440=\"\",\"\",IF(COUNTIF($C$3:C1440, C1440)>1, \"\", C1440))","v":""},{"$f":"IF(G1440=\"\",\"\",IF(F1440=\"\",\"\",CONCATENATE(DIGITADOR!$M$1,G1440,E1440)))","v":""},"",{"$f":"IF(F1440=\"\",\"\",VLOOKUP(F1440,referentes!$Q$2:$T$300,3,FALSE))","v":""},null,null,null,null,null,{"$f":"IF(L1440=\"\",\"\",VLOOKUP(L1440,referentes!$G$2:$N$15,2,FALSE))","v":""},null,null,"",null,null,""]
[null,{"$f":"IF(C1441=\"\",\"\",IF(COUNTIF($C$3:C1441, C1441)>1, \"\", C1441))","v":""},{"$f":"IF(G1441=\"\",\"\",IF(F1441=\"\",\"\",CONCATENATE(DIGITADOR!$M$1,G1441,E1441)))","v":""},"",{"$f":"IF(F1441=\"\",\"\",VLOOKUP(F1441,referentes!$Q$2:$T$300,3,FALSE))","v":""},null,null,null,null,null,{"$f":"IF(L1441=\"\",\"\",VLOOKUP(L1441,referentes!$G$2:$N$15,2,FALSE))","v":""},null,null,"",null,null,""]
[null,{"$f":"IF(C1442=\"\",\"\",IF(COUNTIF($C$3:C1442, C1442)>1, \"\", C1442))","v":""},{"$f":"IF(G1442=\"\",\"\",IF(F1442=\"\",\"\",CONCATENATE(DIGITADOR!$M$1,G1442,E1442)))","v":""},"",{"$f":"IF(F1442=\"\",\"\",VLOOKUP(F1442,referentes!$Q$2:$T$300,3,FALSE))","v":""},null,null,null,null,null,{"$f":"IF(L1442=\"\",\"\",VLOOKUP(L1442,referentes!$G$2:$N$15,2,FALSE))","v":""},null,null,"",null,null,""]
[null,{"$f":"IF(C1443=\"\",\"\",IF(COUNTIF($C$3:C1443, C1443)>1, \"\", C1443))","v":""},{"$f":"IF(G1443=\"\",\"\",IF(F1443=\"\",\"\",CONCATENATE(DIGITADOR!$M$1,G1443,E1443)))","v":""},"",{"$f":"IF(F1443=\"\",\"\",VLOOKUP(F1443,referentes!$Q$2:$T$300,3,FALSE))","v":""},null,null,null,null,null,{"$f":"IF(L1443=\"\",\"\",VLOOKUP(L1443,referentes!$G$2:$N$15,2,FALSE))","v":""},null,null,"",null,null,""]
[null,{"$f":"IF(C1444=\"\",\"\",IF(COUNTIF($C$3:C1444, C1444)>1, \"\", C1444))","v":""},{"$f":"IF(G1444=\"\",\"\",IF(F1444=\"\",\"\",CONCATENATE(DIGITADOR!$M$1,G1444,E1444)))","v":""},"",{"$f":"IF(F1444=\"\",\"\",VLOOKUP(F1444,referentes!$Q$2:$T$300,3,FALSE))","v":""},null,null,null,null,null,{"$f":"IF(L1444=\"\",\"\",VLOOKUP(L1444,referentes!$G$2:$N$15,2,FALSE))","v":""},null,null,"",null,null,""]
[null,{"$f":"IF(C1445=\"\",\"\",IF(COUNTIF($C$3:C1445, C1445)>1, \"\", C1445))","v":""},{"$f":"IF(G1445=\"\",\"\",IF(F1445=\"\",\"\",CONCATENATE(DIGITADOR!$M$1,G1445,E1445)))","v":""},"",{"$f":"IF(F1445=\"\",\"\",VLOOKUP(F1445,referentes!$Q$2:$T$300,3,FALSE))","v":""},null,null,null,null,null,{"$f":"IF(L1445=\"\",\"\",VLOOKUP(L1445,referentes!$G$2:$N$15,2,FALSE))","v":""},null,null,"",null,null,""]
[null,{"$f":"IF(C1446=\"\",\"\",IF(COUNTIF($C$3:C1446, C1446)>1, \"\", C1446))","v":""},{"$f":"IF(G1446=\"\",\"\",IF(F1446=\"\",\"\",CONCATENATE(DIGITADOR!$M$1,G1446,E1446)))","v":""},"",{"$f":"IF(F1446=\"\",\"\",VLOOKUP(F1446,referentes!$Q$2:$T$300,3,FALSE))","v":""},null,null,null,null,null,{"$f":"IF(L1446=\"\",\"\",VLOOKUP(L1446,referentes!$G$2:$N$15,2,FALSE))","v":""},null,null,"",null,null,""]
[null,{"$f":"IF(C1447=\"\",\"\",IF(COUNTIF($C$3:C1447, C1447)>1, \"\", C1447))","v":""},{"$f":"IF(G1447=\"\",\"\",IF(F1447=\"\",\"\",CONCATENATE(DIGITADOR!$M$1,G1447,E1447)))","v":""},"",{"$f":"IF(F1447=\"\",\"\",VLOOKUP(F1447,referentes!$Q$2:$T$300,3,FALSE))","v":""},null,null,null,null,null,{"$f":"IF(L1447=\"\",\"\",VLOOKUP(L1447,referentes!$G$2:$N$15,2,FALSE))","v":""},null,null,"",null,null,""]
[null,{"$f":"IF(C1448=\"\",\"\",IF(COUNTIF($C$3:C1448, C1448)>1, \"\", C1448))","v":""},{"$f":"IF(G1448=\"\",\"\",IF(F1448=\"\",\"\",CONCATENATE(DIGITADOR!$M$1,G1448,E1448)))","v":""},"",{"$f":"IF(F1448=\"\",\"\",VLOOKUP(F1448,referentes!$Q$2:$T$300,3,FALSE))","v":""},null,null,null,null,null,{"$f":"IF(L1448=\"\",\"\",VLOOKUP(L1448,referentes!$G$2:$N$15,2,FALSE))","v":""},null,null,"",null,null,""]
[null,{"$f":"IF(C1449=\"\",\"\",IF(COUNTIF($C$3:C1449, C1449)>1, \"\", C1449))","v":""},{"$f":"IF(G1449=\"\",\"\",IF(F1449=\"\",\"\",CONCATENATE(DIGITADOR!$M$1,G1449,E1449)))","v":""},"",{"$f":"IF(F1449=\"\",\"\",VLOOKUP(F1449,referentes!$Q$2:$T$300,3,FALSE))","v":""},null,null,null,null,null,{"$f":"IF(L1449=\"\",\"\",VLOOKUP(L1449,referentes!$G$2:$N$15,2,FALSE))","v":""},null,null,"",null,null,""]
[null,{"$f":"IF(C1450=\"\",\"\",IF(COUNTIF($C$3:C1450, C1450)>1, \"\", C1450))","v":""},{"$f":"IF(G1450=\"\",\"\",IF(F1450=\"\",\"\",CONCATENATE(DIGITADOR!$M$1,G1450,E1450)))","v":""},"",{"$f":"IF(F1450=\"\",\"\",VLOOKUP(F1450,referentes!$Q$2:$T$300,3,FALSE))","v":""},null,null,null,null,null,{"$f":"IF(L1450=\"\",\"\",VLOOKUP(L1450,referentes!$G$2:$N$15,2,FALSE))","v":""},null,null,"",null,null,""]
[null,{"$f":"IF(C1451=\"\",\"\",IF(COUNTIF($C$3:C1451, C1451)>1, \"\", C1451))","v":""},{"$f":"IF(G1451=\"\",\"\",IF(F1451=\"\",\"\",CONCATENATE(DIGITADOR!$M$1,G1451,E1451)))","v":""},"",{"$f":"IF(F1451=\"\",\"\",VLOOKUP(F1451,referentes!$Q$2:$T$300,3,FALSE))","v":""},null,null,null,null,null,{"$f":"IF(L1451=\"\",\"\",VLOOKUP(L1451,referentes!$G$2:$N$15,2,FALSE))","v":""},null,null,"",null,null,""]
[null,{"$f":"IF(C1452=\"\",\"\",IF(COUNTIF($C$3:C1452, C1452)>1, \"\", C1452))","v":""},{"$f":"IF(G1452=\"\",\"\",IF(F1452=\"\",\"\",CONCATENATE(DIGITADOR!$M$1,G1452,E1452)))","v":""},"",{"$f":"IF(F1452=\"\",\"\",VLOOKUP(F1452,referentes!$Q$2:$T$300,3,FALSE))","v":""},null,null,null,null,null,{"$f":"IF(L1452=\"\",\"\",VLOOKUP(L1452,referentes!$G$2:$N$15,2,FALSE))","v":""},null,null,"",null,null,""]
[null,{"$f":"IF(C1453=\"\",\"\",IF(COUNTIF($C$3:C1453, C1453)>1, \"\", C1453))","v":""},{"$f":"IF(G1453=\"\",\"\",IF(F1453=\"\",\"\",CONCATENATE(DIGITADOR!$M$1,G1453,E1453)))","v":""},"",{"$f":"IF(F1453=\"\",\"\",VLOOKUP(F1453,referentes!$Q$2:$T$300,3,FALSE))","v":""},null,null,null,null,null,{"$f":"IF(L1453=\"\",\"\",VLOOKUP(L1453,referentes!$G$2:$N$15,2,FALSE))","v":""},null,null,"",null,null,""]
[null,{"$f":"IF(C1454=\"\",\"\",IF(COUNTIF($C$3:C1454, C1454)>1, \"\", C1454))","v":""},{"$f":"IF(G1454=\"\",\"\",IF(F1454=\"\",\"\",CONCATENATE(DIGITADOR!$M$1,G1454,E1454)))","v":""},"",{"$f":"IF(F1454=\"\",\"\",VLOOKUP(F1454,referentes!$Q$2:$T$300,3,FALSE))","v":""},null,null,null,null,null,{"$f":"IF(L1454=\"\",\"\",VLOOKUP(L1454,referentes!$G$2:$N$15,2,FALSE))","v":""},null,null,"",null,null,""]
[null,{"$f":"IF(C1455=\"\",\"\",IF(COUNTIF($C$3:C1455, C1455)>1, \"\", C1455))","v":""},{"$f":"IF(G1455=\"\",\"\",IF(F1455=\"\",\"\",CONCATENATE(DIGITADOR!$M$1,G1455,E1455)))","v":""},"",{"$f":"IF(F1455=\"\",\"\",VLOOKUP(F1455,referentes!$Q$2:$T$300,3,FALSE))","v":""},null,null,null,null,null,{"$f":"IF(L1455=\"\",\"\",VLOOKUP(L1455,referentes!$G$2:$N$15,2,FALSE))","v":""},null,null,"",null,null,""]
[null,{"$f":"IF(C1456=\"\",\"\",IF(COUNTIF($C$3:C1456, C1456)>1, \"\", C1456))","v":""},{"$f":"IF(G1456=\"\",\"\",IF(F1456=\"\",\"\",CONCATENATE(DIGITADOR!$M$1,G1456,E1456)))","v":""},"",{"$f":"IF(F1456=\"\",\"\",VLOOKUP(F1456,referentes!$Q$2:$T$300,3,FALSE))","v":""},null,null,null,null,null,{"$f":"IF(L1456=\"\",\"\",VLOOKUP(L1456,referentes!$G$2:$N$15,2,FALSE))","v":""},null,null,"",null,null,""]
[null,{"$f":"IF(C1457=\"\",\"\",IF(COUNTIF($C$3:C1457, C1457)>1, \"\", C1457))","v":""},{"$f":"IF(G1457=\"\",\"\",IF(F1457=\"\",\"\",CONCATENATE(DIGITADOR!$M$1,G1457,E1457)))","v":""},"",{"$f":"IF(F1457=\"\",\"\",VLOOKUP(F1457,referentes!$Q$2:$T$300,3,FALSE))","v":""},null,null,null,null,null,{"$f":"IF(L1457=\"\",\"\",VLOOKUP(L1457,referentes!$G$2:$N$15,2,FALSE))","v":""},null,null,"",null,null,""]
[null,{"$f":"IF(C1458=\"\",\"\",IF(COUNTIF($C$3:C1458, C1458)>1, \"\", C1458))","v":""},{"$f":"IF(G1458=\"\",\"\",IF(F1458=\"\",\"\",CONCATENATE(DIGITADOR!$M$1,G1458,E1458)))","v":""},"",{"$f":"IF(F1458=\"\",\"\",VLOOKUP(F1458,referentes!$Q$2:$T$300,3,FALSE))","v":""},null,null,null,null,null,{"$f":"IF(L1458=\"\",\"\",VLOOKUP(L1458,referentes!$G$2:$N$15,2,FALSE))","v":""},null,null,"",null,null,""]
[null,{"$f":"IF(C1459=\"\",\"\",IF(COUNTIF($C$3:C1459, C1459)>1, \"\", C1459))","v":""},{"$f":"IF(G1459=\"\",\"\",IF(F1459=\"\",\"\",CONCATENATE(DIGITADOR!$M$1,G1459,E1459)))","v":""},"",{"$f":"IF(F1459=\"\",\"\",VLOOKUP(F1459,referentes!$Q$2:$T$300,3,FALSE))","v":""},null,null,null,null,null,{"$f":"IF(L1459=\"\",\"\",VLOOKUP(L1459,referentes!$G$2:$N$15,2,FALSE))","v":""},null,null,"",null,null,""]
[null,{"$f":"IF(C1460=\"\",\"\",IF(COUNTIF($C$3:C1460, C1460)>1, \"\", C1460))","v":""},{"$f":"IF(G1460=\"\",\"\",IF(F1460=\"\",\"\",CONCATENATE(DIGITADOR!$M$1,G1460,E1460)))","v":""},"",{"$f":"IF(F1460=\"\",\"\",VLOOKUP(F1460,referentes!$Q$2:$T$300,3,FALSE))","v":""},null,null,null,null,null,{"$f":"IF(L1460=\"\",\"\",VLOOKUP(L1460,referentes!$G$2:$N$15,2,FALSE))","v":""},null,null,"",null,null,""]
[null,{"$f":"IF(C1461=\"\",\"\",IF(COUNTIF($C$3:C1461, C1461)>1, \"\", C1461))","v":""},{"$f":"IF(G1461=\"\",\"\",IF(F1461=\"\",\"\",CONCATENATE(DIGITADOR!$M$1,G1461,E1461)))","v":""},"",{"$f":"IF(F1461=\"\",\"\",VLOOKUP(F1461,referentes!$Q$2:$T$300,3,FALSE))","v":""},null,null,null,null,null,{"$f":"IF(L1461=\"\",\"\",VLOOKUP(L1461,referentes!$G$2:$N$15,2,FALSE))","v":""},null,null,"",null,null,""]
[null,{"$f":"IF(C1462=\"\",\"\",IF(COUNTIF($C$3:C1462, C1462)>1, \"\", C1462))","v":""},{"$f":"IF(G1462=\"\",\"\",IF(F1462=\"\",\"\",CONCATENATE(DIGITADOR!$M$1,G1462,E1462)))","v":""},"",{"$f":"IF(F1462=\"\",\"\",VLOOKUP(F1462,referentes!$Q$2:$T$300,3,FALSE))","v":""},null,null,null,null,null,{"$f":"IF(L1462=\"\",\"\",VLOOKUP(L1462,referentes!$G$2:$N$15,2,FALSE))","v":""},null,null,"",null,null,""]
[null,{"$f":"IF(C1463=\"\",\"\",IF(COUNTIF($C$3:C1463, C1463)>1, \"\", C1463))","v":""},{"$f":"IF(G1463=\"\",\"\",IF(F1463=\"\",\"\",CONCATENATE(DIGITADOR!$M$1,G1463,E1463)))","v":""},"",{"$f":"IF(F1463=\"\",\"\",VLOOKUP(F1463,referentes!$Q$2:$T$300,3,FALSE))","v":""},null,null,null,null,null,{"$f":"IF(L1463=\"\",\"\",VLOOKUP(L1463,referentes!$G$2:$N$15,2,FALSE))","v":""},null,null,"",null,null,""]
[null,{"$f":"IF(C1464=\"\",\"\",IF(COUNTIF($C$3:C1464, C1464)>1, \"\", C1464))","v":""},{"$f":"IF(G1464=\"\",\"\",IF(F1464=\"\",\"\",CONCATENATE(DIGITADOR!$M$1,G1464,E1464)))","v":""},"",{"$f":"IF(F1464=\"\",\"\",VLOOKUP(F1464,referentes!$Q$2:$T$300,3,FALSE))","v":""},null,null,null,null,null,{"$f":"IF(L1464=\"\",\"\",VLOOKUP(L1464,referentes!$G$2:$N$15,2,FALSE))","v":""},null,null,"",null,null,""]
[null,{"$f":"IF(C1465=\"\",\"\",IF(COUNTIF($C$3:C1465, C1465)>1, \"\", C1465))","v":""},{"$f":"IF(G1465=\"\",\"\",IF(F1465=\"\",\"\",CONCATENATE(DIGITADOR!$M$1,G1465,E1465)))","v":""},"",{"$f":"IF(F1465=\"\",\"\",VLOOKUP(F1465,referentes!$Q$2:$T$300,3,FALSE))","v":""},null,null,null,null,null,{"$f":"IF(L1465=\"\",\"\",VLOOKUP(L1465,referentes!$G$2:$N$15,2,FALSE))","v":""},null,null,"",null,null,""]
[null,{"$f":"IF(C1466=\"\",\"\",IF(COUNTIF($C$3:C1466, C1466)>1, \"\", C1466))","v":""},{"$f":"IF(G1466=\"\",\"\",IF(F1466=\"\",\"\",CONCATENATE(DIGITADOR!$M$1,G1466,E1466)))","v":""},"",{"$f":"IF(F1466=\"\",\"\",VLOOKUP(F1466,referentes!$Q$2:$T$300,3,FALSE))","v":""},null,null,null,null,null,{"$f":"IF(L1466=\"\",\"\",VLOOKUP(L1466,referentes!$G$2:$N$15,2,FALSE))","v":""},null,null,"",null,null,""]
[null,{"$f":"IF(C1467=\"\",\"\",IF(COUNTIF($C$3:C1467, C1467)>1, \"\", C1467))","v":""},{"$f":"IF(G1467=\"\",\"\",IF(F1467=\"\",\"\",CONCATENATE(DIGITADOR!$M$1,G1467,E1467)))","v":""},"",{"$f":"IF(F1467=\"\",\"\",VLOOKUP(F1467,referentes!$Q$2:$T$300,3,FALSE))","v":""},null,null,null,null,null,{"$f":"IF(L1467=\"\",\"\",VLOOKUP(L1467,referentes!$G$2:$N$15,2,FALSE))","v":""},null,null,"",null,null,""]
[null,{"$f":"IF(C1468=\"\",\"\",IF(COUNTIF($C$3:C1468, C1468)>1, \"\", C1468))","v":""},{"$f":"IF(G1468=\"\",\"\",IF(F1468=\"\",\"\",CONCATENATE(DIGITADOR!$M$1,G1468,E1468)))","v":""},"",{"$f":"IF(F1468=\"\",\"\",VLOOKUP(F1468,referentes!$Q$2:$T$300,3,FALSE))","v":""},null,null,null,null,null,{"$f":"IF(L1468=\"\",\"\",VLOOKUP(L1468,referentes!$G$2:$N$15,2,FALSE))","v":""},null,null,"",null,null,""]
[null,{"$f":"IF(C1469=\"\",\"\",IF(COUNTIF($C$3:C1469, C1469)>1, \"\", C1469))","v":""},{"$f":"IF(G1469=\"\",\"\",IF(F1469=\"\",\"\",CONCATENATE(DIGITADOR!$M$1,G1469,E1469)))","v":""},"",{"$f":"IF(F1469=\"\",\"\",VLOOKUP(F1469,referentes!$Q$2:$T$300,3,FALSE))","v":""},null,null,null,null,null,{"$f":"IF(L1469=\"\",\"\",VLOOKUP(L1469,referentes!$G$2:$N$15,2,FALSE))","v":""},null,null,"",null,null,""]
[null,{"$f":"IF(C1470=\"\",\"\",IF(COUNTIF($C$3:C1470, C1470)>1, \"\", C1470))","v":""},{"$f":"IF(G1470=\"\",\"\",IF(F1470=\"\",\"\",CONCATENATE(DIGITADOR!$M$1,G1470,E1470)))","v":""},"",{"$f":"IF(F1470=\"\",\"\",VLOOKUP(F1470,referentes!$Q$2:$T$300,3,FALSE))","v":""},null,null,null,null,null,{"$f":"IF(L1470=\"\",\"\",VLOOKUP(L1470,referentes!$G$2:$N$15,2,FALSE))","v":""},null,null,"",null,null,""]
[null,{"$f":"IF(C1471=\"\",\"\",IF(COUNTIF($C$3:C1471, C1471)>1, \"\", C1471))","v":""},{"$f":"IF(G1471=\"\",\"\",IF(F1471=\"\",\"\",CONCATENATE(DIGITADOR!$M$1,G1471,E1471)))","v":""},"",{"$f":"IF(F1471=\"\",\"\",VLOOKUP(F1471,referentes!$Q$2:$T$300,3,FALSE))","v":""},null,null,null,null,null,{"$f":"IF(L1471=\"\",\"\",VLOOKUP(L1471,referentes!$G$2:$N$15,2,FALSE))","v":""},null,null,"",null,null,""]
[null,{"$f":"IF(C1472=\"\",\"\",IF(COUNTIF($C$3:C1472, C1472)>1, \"\", C1472))","v":""},{"$f":"IF(G1472=\"\",\"\",IF(F1472=\"\",\"\",CONCATENATE(DIGITADOR!$M$1,G1472,E1472)))","v":""},"",{"$f":"IF(F1472=\"\",\"\",VLOOKUP(F1472,referentes!$Q$2:$T$300,3,FALSE))","v":""},null,null,null,null,null,{"$f":"IF(L1472=\"\",\"\",VLOOKUP(L1472,referentes!$G$2:$N$15,2,FALSE))","v":""},null,null,"",null,null,""]
[null,{"$f":"IF(C1473=\"\",\"\",IF(COUNTIF($C$3:C1473, C1473)>1, \"\", C1473))","v":""},{"$f":"IF(G1473=\"\",\"\",IF(F1473=\"\",\"\",CONCATENATE(DIGITADOR!$M$1,G1473,E1473)))","v":""},"",{"$f":"IF(F1473=\"\",\"\",VLOOKUP(F1473,referentes!$Q$2:$T$300,3,FALSE))","v":""},null,null,null,null,null,{"$f":"IF(L1473=\"\",\"\",VLOOKUP(L1473,referentes!$G$2:$N$15,2,FALSE))","v":""},null,null,"",null,null,""]
[null,{"$f":"IF(C1474=\"\",\"\",IF(COUNTIF($C$3:C1474, C1474)>1, \"\", C1474))","v":""},{"$f":"IF(G1474=\"\",\"\",IF(F1474=\"\",\"\",CONCATENATE(DIGITADOR!$M$1,G1474,E1474)))","v":""},"",{"$f":"IF(F1474=\"\",\"\",VLOOKUP(F1474,referentes!$Q$2:$T$300,3,FALSE))","v":""},null,null,null,null,null,{"$f":"IF(L1474=\"\",\"\",VLOOKUP(L1474,referentes!$G$2:$N$15,2,FALSE))","v":""},null,null,"",null,null,""]
[null,{"$f":"IF(C1475=\"\",\"\",IF(COUNTIF($C$3:C1475, C1475)>1, \"\", C1475))","v":""},{"$f":"IF(G1475=\"\",\"\",IF(F1475=\"\",\"\",CONCATENATE(DIGITADOR!$M$1,G1475,E1475)))","v":""},"",{"$f":"IF(F1475=\"\",\"\",VLOOKUP(F1475,referentes!$Q$2:$T$300,3,FALSE))","v":""},null,null,null,null,null,{"$f":"IF(L1475=\"\",\"\",VLOOKUP(L1475,referentes!$G$2:$N$15,2,FALSE))","v":""},null,null,"",null,null,""]
[null,{"$f":"IF(C1476=\"\",\"\",IF(COUNTIF($C$3:C1476, C1476)>1, \"\", C1476))","v":""},{"$f":"IF(G1476=\"\",\"\",IF(F1476=\"\",\"\",CONCATENATE(DIGITADOR!$M$1,G1476,E1476)))","v":""},{"$f":"IF(C1476=\"\",\"\",CONCATENATE(C1476,ROW()-2))","v":""},{"$f":"IF(F1476=\"\",\"\",VLOOKUP(F1476,referentes!$Q$2:$T$300,3,FALSE))","v":""},null,null,null,null,null,{"$f":"IF(L1476=\"\",\"\",VLOOKUP(L1476,referentes!$G$2:$N$15,2,FALSE))","v":""},null,null,{"$f":"IF(M1476=\"\",\"\",M1476/PI())","v":""},null,null,{"$f":"IF(N1476=\"\",\"\",((PI())*((N1476/100)^2))/4*10000/500)","v":""}]
[null,{"$f":"IF(C1477=\"\",\"\",IF(COUNTIF($C$3:C1477, C1477)>1, \"\", C1477))","v":""},{"$f":"IF(G1477=\"\",\"\",IF(F1477=\"\",\"\",CONCATENATE(DIGITADOR!$M$1,G1477,E1477)))","v":""},"",{"$f":"IF(F1477=\"\",\"\",VLOOKUP(F1477,referentes!$Q$2:$T$300,3,FALSE))","v":""},null,null,null,null,null,{"$f":"IF(L1477=\"\",\"\",VLOOKUP(L1477,referentes!$G$2:$N$15,2,FALSE))","v":""},null,null,"",null,null,""]
[null,{"$f":"IF(C1478=\"\",\"\",IF(COUNTIF($C$3:C1478, C1478)>1, \"\", C1478))","v":""},{"$f":"IF(G1478=\"\",\"\",IF(F1478=\"\",\"\",CONCATENATE(DIGITADOR!$M$1,G1478,E1478)))","v":""},"",{"$f":"IF(F1478=\"\",\"\",VLOOKUP(F1478,referentes!$Q$2:$T$300,3,FALSE))","v":""},null,null,null,null,null,{"$f":"IF(L1478=\"\",\"\",VLOOKUP(L1478,referentes!$G$2:$N$15,2,FALSE))","v":""},null,null,"",null,null,""]
[null,{"$f":"IF(C1479=\"\",\"\",IF(COUNTIF($C$3:C1479, C1479)>1, \"\", C1479))","v":""},{"$f":"IF(G1479=\"\",\"\",IF(F1479=\"\",\"\",CONCATENATE(DIGITADOR!$M$1,G1479,E1479)))","v":""},"",{"$f":"IF(F1479=\"\",\"\",VLOOKUP(F1479,referentes!$Q$2:$T$300,3,FALSE))","v":""},null,null,null,null,null,{"$f":"IF(L1479=\"\",\"\",VLOOKUP(L1479,referentes!$G$2:$N$15,2,FALSE))","v":""},null,null,"",null,null,""]
[null,{"$f":"IF(C1480=\"\",\"\",IF(COUNTIF($C$3:C1480, C1480)>1, \"\", C1480))","v":""},{"$f":"IF(G1480=\"\",\"\",IF(F1480=\"\",\"\",CONCATENATE(DIGITADOR!$M$1,G1480,E1480)))","v":""},"",{"$f":"IF(F1480=\"\",\"\",VLOOKUP(F1480,referentes!$Q$2:$T$300,3,FALSE))","v":""},null,null,null,null,null,{"$f":"IF(L1480=\"\",\"\",VLOOKUP(L1480,referentes!$G$2:$N$15,2,FALSE))","v":""},null,null,"",null,null,""]
[null,{"$f":"IF(C1481=\"\",\"\",IF(COUNTIF($C$3:C1481, C1481)>1, \"\", C1481))","v":""},{"$f":"IF(G1481=\"\",\"\",IF(F1481=\"\",\"\",CONCATENATE(DIGITADOR!$M$1,G1481,E1481)))","v":""},"",{"$f":"IF(F1481=\"\",\"\",VLOOKUP(F1481,referentes!$Q$2:$T$300,3,FALSE))","v":""},null,null,null,null,null,{"$f":"IF(L1481=\"\",\"\",VLOOKUP(L1481,referentes!$G$2:$N$15,2,FALSE))","v":""},null,null,"",null,null,""]
[null,{"$f":"IF(C1482=\"\",\"\",IF(COUNTIF($C$3:C1482, C1482)>1, \"\", C1482))","v":""},{"$f":"IF(G1482=\"\",\"\",IF(F1482=\"\",\"\",CONCATENATE(DIGITADOR!$M$1,G1482,E1482)))","v":""},"",{"$f":"IF(F1482=\"\",\"\",VLOOKUP(F1482,referentes!$Q$2:$T$300,3,FALSE))","v":""},null,null,null,null,null,{"$f":"IF(L1482=\"\",\"\",VLOOKUP(L1482,referentes!$G$2:$N$15,2,FALSE))","v":""},null,null,"",null,null,""]
[null,{"$f":"IF(C1483=\"\",\"\",IF(COUNTIF($C$3:C1483, C1483)>1, \"\", C1483))","v":""},{"$f":"IF(G1483=\"\",\"\",IF(F1483=\"\",\"\",CONCATENATE(DIGITADOR!$M$1,G1483,E1483)))","v":""},"",{"$f":"IF(F1483=\"\",\"\",VLOOKUP(F1483,referentes!$Q$2:$T$300,3,FALSE))","v":""},null,null,null,null,null,{"$f":"IF(L1483=\"\",\"\",VLOOKUP(L1483,referentes!$G$2:$N$15,2,FALSE))","v":""},null,null,"",null,null,""]
[null,{"$f":"IF(C1484=\"\",\"\",IF(COUNTIF($C$3:C1484, C1484)>1, \"\", C1484))","v":""},{"$f":"IF(G1484=\"\",\"\",IF(F1484=\"\",\"\",CONCATENATE(DIGITADOR!$M$1,G1484,E1484)))","v":""},"",{"$f":"IF(F1484=\"\",\"\",VLOOKUP(F1484,referentes!$Q$2:$T$300,3,FALSE))","v":""},null,null,null,null,null,{"$f":"IF(L1484=\"\",\"\",VLOOKUP(L1484,referentes!$G$2:$N$15,2,FALSE))","v":""},null,null,"",null,null,""]
[null,{"$f":"IF(C1485=\"\",\"\",IF(COUNTIF($C$3:C1485, C1485)>1, \"\", C1485))","v":""},{"$f":"IF(G1485=\"\",\"\",IF(F1485=\"\",\"\",CONCATENATE(DIGITADOR!$M$1,G1485,E1485)))","v":""},"",{"$f":"IF(F1485=\"\",\"\",VLOOKUP(F1485,referentes!$Q$2:$T$300,3,FALSE))","v":""},null,null,null,null,null,{"$f":"IF(L1485=\"\",\"\",VLOOKUP(L1485,referentes!$G$2:$N$15,2,FALSE))","v":""},null,null,"",null,null,""]
[null,{"$f":"IF(C1486=\"\",\"\",IF(COUNTIF($C$3:C1486, C1486)>1, \"\", C1486))","v":""},{"$f":"IF(G1486=\"\",\"\",IF(F1486=\"\",\"\",CONCATENATE(DIGITADOR!$M$1,G1486,E1486)))","v":""},"",{"$f":"IF(F1486=\"\",\"\",VLOOKUP(F1486,referentes!$Q$2:$T$300,3,FALSE))","v":""},null,null,null,null,null,{"$f":"IF(L1486=\"\",\"\",VLOOKUP(L1486,referentes!$G$2:$N$15,2,FALSE))","v":""},null,null,"",null,null,""]
[null,{"$f":"IF(C1487=\"\",\"\",IF(COUNTIF($C$3:C1487, C1487)>1, \"\", C1487))","v":""},{"$f":"IF(G1487=\"\",\"\",IF(F1487=\"\",\"\",CONCATENATE(DIGITADOR!$M$1,G1487,E1487)))","v":""},"",{"$f":"IF(F1487=\"\",\"\",VLOOKUP(F1487,referentes!$Q$2:$T$300,3,FALSE))","v":""},null,null,null,null,null,{"$f":"IF(L1487=\"\",\"\",VLOOKUP(L1487,referentes!$G$2:$N$15,2,FALSE))","v":""},null,null,"",null,null,""]
[null,{"$f":"IF(C1488=\"\",\"\",IF(COUNTIF($C$3:C1488, C1488)>1, \"\", C1488))","v":""},{"$f":"IF(G1488=\"\",\"\",IF(F1488=\"\",\"\",CONCATENATE(DIGITADOR!$M$1,G1488,E1488)))","v":""},"",{"$f":"IF(F1488=\"\",\"\",VLOOKUP(F1488,referentes!$Q$2:$T$300,3,FALSE))","v":""},null,null,null,null,null,{"$f":"IF(L1488=\"\",\"\",VLOOKUP(L1488,referentes!$G$2:$N$15,2,FALSE))","v":""},null,null,"",null,null,""]
[null,{"$f":"IF(C1489=\"\",\"\",IF(COUNTIF($C$3:C1489, C1489)>1, \"\", C1489))","v":""},{"$f":"IF(G1489=\"\",\"\",IF(F1489=\"\",\"\",CONCATENATE(DIGITADOR!$M$1,G1489,E1489)))","v":""},"",{"$f":"IF(F1489=\"\",\"\",VLOOKUP(F1489,referentes!$Q$2:$T$300,3,FALSE))","v":""},null,null,null,null,null,{"$f":"IF(L1489=\"\",\"\",VLOOKUP(L1489,referentes!$G$2:$N$15,2,FALSE))","v":""},null,null,"",null,null,""]
[null,{"$f":"IF(C1490=\"\",\"\",IF(COUNTIF($C$3:C1490, C1490)>1, \"\", C1490))","v":""},{"$f":"IF(G1490=\"\",\"\",IF(F1490=\"\",\"\",CONCATENATE(DIGITADOR!$M$1,G1490,E1490)))","v":""},"",{"$f":"IF(F1490=\"\",\"\",VLOOKUP(F1490,referentes!$Q$2:$T$300,3,FALSE))","v":""},null,null,null,null,null,{"$f":"IF(L1490=\"\",\"\",VLOOKUP(L1490,referentes!$G$2:$N$15,2,FALSE))","v":""},null,null,"",null,null,""]
[null,{"$f":"IF(C1491=\"\",\"\",IF(COUNTIF($C$3:C1491, C1491)>1, \"\", C1491))","v":""},{"$f":"IF(G1491=\"\",\"\",IF(F1491=\"\",\"\",CONCATENATE(DIGITADOR!$M$1,G1491,E1491)))","v":""},"",{"$f":"IF(F1491=\"\",\"\",VLOOKUP(F1491,referentes!$Q$2:$T$300,3,FALSE))","v":""},null,null,null,null,null,{"$f":"IF(L1491=\"\",\"\",VLOOKUP(L1491,referentes!$G$2:$N$15,2,FALSE))","v":""},null,null,"",null,null,""]
[null,{"$f":"IF(C1492=\"\",\"\",IF(COUNTIF($C$3:C1492, C1492)>1, \"\", C1492))","v":""},{"$f":"IF(G1492=\"\",\"\",IF(F1492=\"\",\"\",CONCATENATE(DIGITADOR!$M$1,G1492,E1492)))","v":""},"",{"$f":"IF(F1492=\"\",\"\",VLOOKUP(F1492,referentes!$Q$2:$T$300,3,FALSE))","v":""},null,null,null,null,null,{"$f":"IF(L1492=\"\",\"\",VLOOKUP(L1492,referentes!$G$2:$N$15,2,FALSE))","v":""},null,null,"",null,null,""]
[null,{"$f":"IF(C1493=\"\",\"\",IF(COUNTIF($C$3:C1493, C1493)>1, \"\", C1493))","v":""},{"$f":"IF(G1493=\"\",\"\",IF(F1493=\"\",\"\",CONCATENATE(DIGITADOR!$M$1,G1493,E1493)))","v":""},"",{"$f":"IF(F1493=\"\",\"\",VLOOKUP(F1493,referentes!$Q$2:$T$300,3,FALSE))","v":""},null,null,null,null,null,{"$f":"IF(L1493=\"\",\"\",VLOOKUP(L1493,referentes!$G$2:$N$15,2,FALSE))","v":""},null,null,"",null,null,""]
[null,{"$f":"IF(C1494=\"\",\"\",IF(COUNTIF($C$3:C1494, C1494)>1, \"\", C1494))","v":""},{"$f":"IF(G1494=\"\",\"\",IF(F1494=\"\",\"\",CONCATENATE(DIGITADOR!$M$1,G1494,E1494)))","v":""},"",{"$f":"IF(F1494=\"\",\"\",VLOOKUP(F1494,referentes!$Q$2:$T$300,3,FALSE))","v":""},null,null,null,null,null,{"$f":"IF(L1494=\"\",\"\",VLOOKUP(L1494,referentes!$G$2:$N$15,2,FALSE))","v":""},null,null,"",null,null,""]
[null,{"$f":"IF(C1495=\"\",\"\",IF(COUNTIF($C$3:C1495, C1495)>1, \"\", C1495))","v":""},{"$f":"IF(G1495=\"\",\"\",IF(F1495=\"\",\"\",CONCATENATE(DIGITADOR!$M$1,G1495,E1495)))","v":""},"",{"$f":"IF(F1495=\"\",\"\",VLOOKUP(F1495,referentes!$Q$2:$T$300,3,FALSE))","v":""},null,null,null,null,null,{"$f":"IF(L1495=\"\",\"\",VLOOKUP(L1495,referentes!$G$2:$N$15,2,FALSE))","v":""},null,null,"",null,null,""]
[null,{"$f":"IF(C1496=\"\",\"\",IF(COUNTIF($C$3:C1496, C1496)>1, \"\", C1496))","v":""},{"$f":"IF(G1496=\"\",\"\",IF(F1496=\"\",\"\",CONCATENATE(DIGITADOR!$M$1,G1496,E1496)))","v":""},"",{"$f":"IF(F1496=\"\",\"\",VLOOKUP(F1496,referentes!$Q$2:$T$300,3,FALSE))","v":""},null,null,null,null,null,{"$f":"IF(L1496=\"\",\"\",VLOOKUP(L1496,referentes!$G$2:$N$15,2,FALSE))","v":""},null,null,"",null,null,""]
[null,{"$f":"IF(C1497=\"\",\"\",IF(COUNTIF($C$3:C1497, C1497)>1, \"\", C1497))","v":""},{"$f":"IF(G1497=\"\",\"\",IF(F1497=\"\",\"\",CONCATENATE(DIGITADOR!$M$1,G1497,E1497)))","v":""},"",{"$f":"IF(F1497=\"\",\"\",VLOOKUP(F1497,referentes!$Q$2:$T$300,3,FALSE))","v":""},null,null,null,null,null,{"$f":"IF(L1497=\"\",\"\",VLOOKUP(L1497,referentes!$G$2:$N$15,2,FALSE))","v":""},null,null,"",null,null,""]
[null,{"$f":"IF(C1498=\"\",\"\",IF(COUNTIF($C$3:C1498, C1498)>1, \"\", C1498))","v":""},{"$f":"IF(G1498=\"\",\"\",IF(F1498=\"\",\"\",CONCATENATE(DIGITADOR!$M$1,G1498,E1498)))","v":""},"",{"$f":"IF(F1498=\"\",\"\",VLOOKUP(F1498,referentes!$Q$2:$T$300,3,FALSE))","v":""},null,null,null,null,null,{"$f":"IF(L1498=\"\",\"\",VLOOKUP(L1498,referentes!$G$2:$N$15,2,FALSE))","v":""},null,null,"",null,null,""]
[null,{"$f":"IF(C1499=\"\",\"\",IF(COUNTIF($C$3:C1499, C1499)>1, \"\", C1499))","v":""},{"$f":"IF(G1499=\"\",\"\",IF(F1499=\"\",\"\",CONCATENATE(DIGITADOR!$M$1,G1499,E1499)))","v":""},"",{"$f":"IF(F1499=\"\",\"\",VLOOKUP(F1499,referentes!$Q$2:$T$300,3,FALSE))","v":""},null,null,null,null,null,{"$f":"IF(L1499=\"\",\"\",VLOOKUP(L1499,referentes!$G$2:$N$15,2,FALSE))","v":""},null,null,"",null,null,""]
[null,{"$f":"IF(C1500=\"\",\"\",IF(COUNTIF($C$3:C1500, C1500)>1, \"\", C1500))","v":""},{"$f":"IF(G1500=\"\",\"\",IF(F1500=\"\",\"\",CONCATENATE(DIGITADOR!$M$1,G1500,E1500)))","v":""},"",{"$f":"IF(F1500=\"\",\"\",VLOOKUP(F1500,referentes!$Q$2:$T$300,3,FALSE))","v":""},null,null,null,null,null,{"$f":"IF(L1500=\"\",\"\",VLOOKUP(L1500,referentes!$G$2:$N$15,2,FALSE))","v":""},null,null,"",null,null,""]
[null,{"$f":"IF(C1501=\"\",\"\",IF(COUNTIF($C$3:C1501, C1501)>1, \"\", C1501))","v":""},{"$f":"IF(G1501=\"\",\"\",IF(F1501=\"\",\"\",CONCATENATE(DIGITADOR!$M$1,G1501,E1501)))","v":""},"",{"$f":"IF(F1501=\"\",\"\",VLOOKUP(F1501,referentes!$Q$2:$T$300,3,FALSE))","v":""},null,null,null,null,null,{"$f":"IF(L1501=\"\",\"\",VLOOKUP(L1501,referentes!$G$2:$N$15,2,FALSE))","v":""},null,null,"",null,null,""]
[null,{"$f":"IF(C1502=\"\",\"\",IF(COUNTIF($C$3:C1502, C1502)>1, \"\", C1502))","v":""},{"$f":"IF(G1502=\"\",\"\",IF(F1502=\"\",\"\",CONCATENATE(DIGITADOR!$M$1,G1502,E1502)))","v":""},"",{"$f":"IF(F1502=\"\",\"\",VLOOKUP(F1502,referentes!$Q$2:$T$300,3,FALSE))","v":""},null,null,null,null,null,{"$f":"IF(L1502=\"\",\"\",VLOOKUP(L1502,referentes!$G$2:$N$15,2,FALSE))","v":""},null,null,"",null,null,""]
[null,{"$f":"IF(C1503=\"\",\"\",IF(COUNTIF($C$3:C1503, C1503)>1, \"\", C1503))","v":""},{"$f":"IF(G1503=\"\",\"\",IF(F1503=\"\",\"\",CONCATENATE(DIGITADOR!$M$1,G1503,E1503)))","v":""},"",{"$f":"IF(F1503=\"\",\"\",VLOOKUP(F1503,referentes!$Q$2:$T$300,3,FALSE))","v":""},null,null,null,null,null,{"$f":"IF(L1503=\"\",\"\",VLOOKUP(L1503,referentes!$G$2:$N$15,2,FALSE))","v":""},null,null,"",null,null,""]
[null,{"$f":"IF(C1504=\"\",\"\",IF(COUNTIF($C$3:C1504, C1504)>1, \"\", C1504))","v":""},{"$f":"IF(G1504=\"\",\"\",IF(F1504=\"\",\"\",CONCATENATE(DIGITADOR!$M$1,G1504,E1504)))","v":""},"",{"$f":"IF(F1504=\"\",\"\",VLOOKUP(F1504,referentes!$Q$2:$T$300,3,FALSE))","v":""},null,null,null,null,null,{"$f":"IF(L1504=\"\",\"\",VLOOKUP(L1504,referentes!$G$2:$N$15,2,FALSE))","v":""},null,null,"",null,null,""]
[null,{"$f":"IF(C1505=\"\",\"\",IF(COUNTIF($C$3:C1505, C1505)>1, \"\", C1505))","v":""},{"$f":"IF(G1505=\"\",\"\",IF(F1505=\"\",\"\",CONCATENATE(DIGITADOR!$M$1,G1505,E1505)))","v":""},"",{"$f":"IF(F1505=\"\",\"\",VLOOKUP(F1505,referentes!$Q$2:$T$300,3,FALSE))","v":""},null,null,null,null,null,{"$f":"IF(L1505=\"\",\"\",VLOOKUP(L1505,referentes!$G$2:$N$15,2,FALSE))","v":""},null,null,"",null,null,""]
[null,{"$f":"IF(C1506=\"\",\"\",IF(COUNTIF($C$3:C1506, C1506)>1, \"\", C1506))","v":""},{"$f":"IF(G1506=\"\",\"\",IF(F1506=\"\",\"\",CONCATENATE(DIGITADOR!$M$1,G1506,E1506)))","v":""},"",{"$f":"IF(F1506=\"\",\"\",VLOOKUP(F1506,referentes!$Q$2:$T$300,3,FALSE))","v":""},null,null,null,null,null,{"$f":"IF(L1506=\"\",\"\",VLOOKUP(L1506,referentes!$G$2:$N$15,2,FALSE))","v":""},null,null,"",null,null,""]
[null,{"$f":"IF(C1507=\"\",\"\",IF(COUNTIF($C$3:C1507, C1507)>1, \"\", C1507))","v":""},{"$f":"IF(G1507=\"\",\"\",IF(F1507=\"\",\"\",CONCATENATE(DIGITADOR!$M$1,G1507,E1507)))","v":""},"",{"$f":"IF(F1507=\"\",\"\",VLOOKUP(F1507,referentes!$Q$2:$T$300,3,FALSE))","v":""},null,null,null,null,null,{"$f":"IF(L1507=\"\",\"\",VLOOKUP(L1507,referentes!$G$2:$N$15,2,FALSE))","v":""},null,null,"",null,null,""]
[null,{"$f":"IF(C1508=\"\",\"\",IF(COUNTIF($C$3:C1508, C1508)>1, \"\", C1508))","v":""},{"$f":"IF(G1508=\"\",\"\",IF(F1508=\"\",\"\",CONCATENATE(DIGITADOR!$M$1,G1508,E1508)))","v":""},"",{"$f":"IF(F1508=\"\",\"\",VLOOKUP(F1508,referentes!$Q$2:$T$300,3,FALSE))","v":""},null,null,null,null,null,{"$f":"IF(L1508=\"\",\"\",VLOOKUP(L1508,referentes!$G$2:$N$15,2,FALSE))","v":""},null,null,"",null,null,""]
[null,{"$f":"IF(C1509=\"\",\"\",IF(COUNTIF($C$3:C1509, C1509)>1, \"\", C1509))","v":""},{"$f":"IF(G1509=\"\",\"\",IF(F1509=\"\",\"\",CONCATENATE(DIGITADOR!$M$1,G1509,E1509)))","v":""},"",{"$f":"IF(F1509=\"\",\"\",VLOOKUP(F1509,referentes!$Q$2:$T$300,3,FALSE))","v":""},null,null,null,null,null,{"$f":"IF(L1509=\"\",\"\",VLOOKUP(L1509,referentes!$G$2:$N$15,2,FALSE))","v":""},null,null,"",null,null,""]
[null,{"$f":"IF(C1510=\"\",\"\",IF(COUNTIF($C$3:C1510, C1510)>1, \"\", C1510))","v":""},{"$f":"IF(G1510=\"\",\"\",IF(F1510=\"\",\"\",CONCATENATE(DIGITADOR!$M$1,G1510,E1510)))","v":""},"",{"$f":"IF(F1510=\"\",\"\",VLOOKUP(F1510,referentes!$Q$2:$T$300,3,FALSE))","v":""},null,null,null,null,null,{"$f":"IF(L1510=\"\",\"\",VLOOKUP(L1510,referentes!$G$2:$N$15,2,FALSE))","v":""},null,null,"",null,null,""]
[null,{"$f":"IF(C1511=\"\",\"\",IF(COUNTIF($C$3:C1511, C1511)>1, \"\", C1511))","v":""},{"$f":"IF(G1511=\"\",\"\",IF(F1511=\"\",\"\",CONCATENATE(DIGITADOR!$M$1,G1511,E1511)))","v":""},"",{"$f":"IF(F1511=\"\",\"\",VLOOKUP(F1511,referentes!$Q$2:$T$300,3,FALSE))","v":""},null,null,null,null,null,{"$f":"IF(L1511=\"\",\"\",VLOOKUP(L1511,referentes!$G$2:$N$15,2,FALSE))","v":""},null,null,"",null,null,""]
[null,{"$f":"IF(C1512=\"\",\"\",IF(COUNTIF($C$3:C1512, C1512)>1, \"\", C1512))","v":""},{"$f":"IF(G1512=\"\",\"\",IF(F1512=\"\",\"\",CONCATENATE(DIGITADOR!$M$1,G1512,E1512)))","v":""},"",{"$f":"IF(F1512=\"\",\"\",VLOOKUP(F1512,referentes!$Q$2:$T$300,3,FALSE))","v":""},null,null,null,null,null,{"$f":"IF(L1512=\"\",\"\",VLOOKUP(L1512,referentes!$G$2:$N$15,2,FALSE))","v":""},null,null,"",null,null,""]
[null,{"$f":"IF(C1513=\"\",\"\",IF(COUNTIF($C$3:C1513, C1513)>1, \"\", C1513))","v":""},{"$f":"IF(G1513=\"\",\"\",IF(F1513=\"\",\"\",CONCATENATE(DIGITADOR!$M$1,G1513,E1513)))","v":""},"",{"$f":"IF(F1513=\"\",\"\",VLOOKUP(F1513,referentes!$Q$2:$T$300,3,FALSE))","v":""},null,null,null,null,null,{"$f":"IF(L1513=\"\",\"\",VLOOKUP(L1513,referentes!$G$2:$N$15,2,FALSE))","v":""},null,null,"",null,null,""]
[null,{"$f":"IF(C1514=\"\",\"\",IF(COUNTIF($C$3:C1514, C1514)>1, \"\", C1514))","v":""},{"$f":"IF(G1514=\"\",\"\",IF(F1514=\"\",\"\",CONCATENATE(DIGITADOR!$M$1,G1514,E1514)))","v":""},"",{"$f":"IF(F1514=\"\",\"\",VLOOKUP(F1514,referentes!$Q$2:$T$300,3,FALSE))","v":""},null,null,null,null,null,{"$f":"IF(L1514=\"\",\"\",VLOOKUP(L1514,referentes!$G$2:$N$15,2,FALSE))","v":""},null,null,"",null,null,""]
[null,{"$f":"IF(C1515=\"\",\"\",IF(COUNTIF($C$3:C1515, C1515)>1, \"\", C1515))","v":""},{"$f":"IF(G1515=\"\",\"\",IF(F1515=\"\",\"\",CONCATENATE(DIGITADOR!$M$1,G1515,E1515)))","v":""},"",{"$f":"IF(F1515=\"\",\"\",VLOOKUP(F1515,referentes!$Q$2:$T$300,3,FALSE))","v":""},null,null,null,null,null,{"$f":"IF(L1515=\"\",\"\",VLOOKUP(L1515,referentes!$G$2:$N$15,2,FALSE))","v":""},null,null,"",null,null,""]
[null,{"$f":"IF(C1516=\"\",\"\",IF(COUNTIF($C$3:C1516, C1516)>1, \"\", C1516))","v":""},{"$f":"IF(G1516=\"\",\"\",IF(F1516=\"\",\"\",CONCATENATE(DIGITADOR!$M$1,G1516,E1516)))","v":""},"",{"$f":"IF(F1516=\"\",\"\",VLOOKUP(F1516,referentes!$Q$2:$T$300,3,FALSE))","v":""},null,null,null,null,null,{"$f":"IF(L1516=\"\",\"\",VLOOKUP(L1516,referentes!$G$2:$N$15,2,FALSE))","v":""},null,null,"",null,null,""]
[null,{"$f":"IF(C1517=\"\",\"\",IF(COUNTIF($C$3:C1517, C1517)>1, \"\", C1517))","v":""},{"$f":"IF(G1517=\"\",\"\",IF(F1517=\"\",\"\",CONCATENATE(DIGITADOR!$M$1,G1517,E1517)))","v":""},"",{"$f":"IF(F1517=\"\",\"\",VLOOKUP(F1517,referentes!$Q$2:$T$300,3,FALSE))","v":""},null,null,null,null,null,{"$f":"IF(L1517=\"\",\"\",VLOOKUP(L1517,referentes!$G$2:$N$15,2,FALSE))","v":""},null,null,"",null,null,""]
[null,{"$f":"IF(C1518=\"\",\"\",IF(COUNTIF($C$3:C1518, C1518)>1, \"\", C1518))","v":""},{"$f":"IF(G1518=\"\",\"\",IF(F1518=\"\",\"\",CONCATENATE(DIGITADOR!$M$1,G1518,E1518)))","v":""},"",{"$f":"IF(F1518=\"\",\"\",VLOOKUP(F1518,referentes!$Q$2:$T$300,3,FALSE))","v":""},null,null,null,null,null,{"$f":"IF(L1518=\"\",\"\",VLOOKUP(L1518,referentes!$G$2:$N$15,2,FALSE))","v":""},null,null,"",null,null,""]
[null,{"$f":"IF(C1519=\"\",\"\",IF(COUNTIF($C$3:C1519, C1519)>1, \"\", C1519))","v":""},{"$f":"IF(G1519=\"\",\"\",IF(F1519=\"\",\"\",CONCATENATE(DIGITADOR!$M$1,G1519,E1519)))","v":""},"",{"$f":"IF(F1519=\"\",\"\",VLOOKUP(F1519,referentes!$Q$2:$T$300,3,FALSE))","v":""},null,null,null,null,null,{"$f":"IF(L1519=\"\",\"\",VLOOKUP(L1519,referentes!$G$2:$N$15,2,FALSE))","v":""},null,null,"",null,null,""]
[null,{"$f":"IF(C1520=\"\",\"\",IF(COUNTIF($C$3:C1520, C1520)>1, \"\", C1520))","v":""},{"$f":"IF(G1520=\"\",\"\",IF(F1520=\"\",\"\",CONCATENATE(DIGITADOR!$M$1,G1520,E1520)))","v":""},"",{"$f":"IF(F1520=\"\",\"\",VLOOKUP(F1520,referentes!$Q$2:$T$300,3,FALSE))","v":""},null,null,null,null,null,{"$f":"IF(L1520=\"\",\"\",VLOOKUP(L1520,referentes!$G$2:$N$15,2,FALSE))","v":""},null,null,"",null,null,""]
[null,{"$f":"IF(C1521=\"\",\"\",IF(COUNTIF($C$3:C1521, C1521)>1, \"\", C1521))","v":""},{"$f":"IF(G1521=\"\",\"\",IF(F1521=\"\",\"\",CONCATENATE(DIGITADOR!$M$1,G1521,E1521)))","v":""},"",{"$f":"IF(F1521=\"\",\"\",VLOOKUP(F1521,referentes!$Q$2:$T$300,3,FALSE))","v":""},null,null,null,null,null,{"$f":"IF(L1521=\"\",\"\",VLOOKUP(L1521,referentes!$G$2:$N$15,2,FALSE))","v":""},null,null,"",null,null,""]
[null,{"$f":"IF(C1522=\"\",\"\",IF(COUNTIF($C$3:C1522, C1522)>1, \"\", C1522))","v":""},{"$f":"IF(G1522=\"\",\"\",IF(F1522=\"\",\"\",CONCATENATE(DIGITADOR!$M$1,G1522,E1522)))","v":""},"",{"$f":"IF(F1522=\"\",\"\",VLOOKUP(F1522,referentes!$Q$2:$T$300,3,FALSE))","v":""},null,null,null,null,null,{"$f":"IF(L1522=\"\",\"\",VLOOKUP(L1522,referentes!$G$2:$N$15,2,FALSE))","v":""},null,null,"",null,null,""]
[null,{"$f":"IF(C1523=\"\",\"\",IF(COUNTIF($C$3:C1523, C1523)>1, \"\", C1523))","v":""},{"$f":"IF(G1523=\"\",\"\",IF(F1523=\"\",\"\",CONCATENATE(DIGITADOR!$M$1,G1523,E1523)))","v":""},"",{"$f":"IF(F1523=\"\",\"\",VLOOKUP(F1523,referentes!$Q$2:$T$300,3,FALSE))","v":""},null,null,null,null,null,{"$f":"IF(L1523=\"\",\"\",VLOOKUP(L1523,referentes!$G$2:$N$15,2,FALSE))","v":""},null,null,"",null,null,""]
[null,{"$f":"IF(C1524=\"\",\"\",IF(COUNTIF($C$3:C1524, C1524)>1, \"\", C1524))","v":""},{"$f":"IF(G1524=\"\",\"\",IF(F1524=\"\",\"\",CONCATENATE(DIGITADOR!$M$1,G1524,E1524)))","v":""},"",{"$f":"IF(F1524=\"\",\"\",VLOOKUP(F1524,referentes!$Q$2:$T$300,3,FALSE))","v":""},null,null,null,null,null,{"$f":"IF(L1524=\"\",\"\",VLOOKUP(L1524,referentes!$G$2:$N$15,2,FALSE))","v":""},null,null,"",null,null,""]
[null,{"$f":"IF(C1525=\"\",\"\",IF(COUNTIF($C$3:C1525, C1525)>1, \"\", C1525))","v":""},{"$f":"IF(G1525=\"\",\"\",IF(F1525=\"\",\"\",CONCATENATE(DIGITADOR!$M$1,G1525,E1525)))","v":""},"",{"$f":"IF(F1525=\"\",\"\",VLOOKUP(F1525,referentes!$Q$2:$T$300,3,FALSE))","v":""},null,null,null,null,null,{"$f":"IF(L1525=\"\",\"\",VLOOKUP(L1525,referentes!$G$2:$N$15,2,FALSE))","v":""},null,null,"",null,null,""]
[null,{"$f":"IF(C1526=\"\",\"\",IF(COUNTIF($C$3:C1526, C1526)>1, \"\", C1526))","v":""},{"$f":"IF(G1526=\"\",\"\",IF(F1526=\"\",\"\",CONCATENATE(DIGITADOR!$M$1,G1526,E1526)))","v":""},"",{"$f":"IF(F1526=\"\",\"\",VLOOKUP(F1526,referentes!$Q$2:$T$300,3,FALSE))","v":""},null,null,null,null,null,{"$f":"IF(L1526=\"\",\"\",VLOOKUP(L1526,referentes!$G$2:$N$15,2,FALSE))","v":""},null,null,"",null,null,""]
[null,{"$f":"IF(C1527=\"\",\"\",IF(COUNTIF($C$3:C1527, C1527)>1, \"\", C1527))","v":""},{"$f":"IF(G1527=\"\",\"\",IF(F1527=\"\",\"\",CONCATENATE(DIGITADOR!$M$1,G1527,E1527)))","v":""},"",{"$f":"IF(F1527=\"\",\"\",VLOOKUP(F1527,referentes!$Q$2:$T$300,3,FALSE))","v":""},null,null,null,null,null,{"$f":"IF(L1527=\"\",\"\",VLOOKUP(L1527,referentes!$G$2:$N$15,2,FALSE))","v":""},null,null,"",null,null,""]
[null,{"$f":"IF(C1528=\"\",\"\",IF(COUNTIF($C$3:C1528, C1528)>1, \"\", C1528))","v":""},{"$f":"IF(G1528=\"\",\"\",IF(F1528=\"\",\"\",CONCATENATE(DIGITADOR!$M$1,G1528,E1528)))","v":""},"",{"$f":"IF(F1528=\"\",\"\",VLOOKUP(F1528,referentes!$Q$2:$T$300,3,FALSE))","v":""},null,null,null,null,null,{"$f":"IF(L1528=\"\",\"\",VLOOKUP(L1528,referentes!$G$2:$N$15,2,FALSE))","v":""},null,null,"",null,null,""]
[null,{"$f":"IF(C1529=\"\",\"\",IF(COUNTIF($C$3:C1529, C1529)>1, \"\", C1529))","v":""},{"$f":"IF(G1529=\"\",\"\",IF(F1529=\"\",\"\",CONCATENATE(DIGITADOR!$M$1,G1529,E1529)))","v":""},"",{"$f":"IF(F1529=\"\",\"\",VLOOKUP(F1529,referentes!$Q$2:$T$300,3,FALSE))","v":""},null,null,null,null,null,{"$f":"IF(L1529=\"\",\"\",VLOOKUP(L1529,referentes!$G$2:$N$15,2,FALSE))","v":""},null,null,"",null,null,""]
[null,{"$f":"IF(C1530=\"\",\"\",IF(COUNTIF($C$3:C1530, C1530)>1, \"\", C1530))","v":""},{"$f":"IF(G1530=\"\",\"\",IF(F1530=\"\",\"\",CONCATENATE(DIGITADOR!$M$1,G1530,E1530)))","v":""},"",{"$f":"IF(F1530=\"\",\"\",VLOOKUP(F1530,referentes!$Q$2:$T$300,3,FALSE))","v":""},null,null,null,null,null,{"$f":"IF(L1530=\"\",\"\",VLOOKUP(L1530,referentes!$G$2:$N$15,2,FALSE))","v":""},null,null,"",null,null,""]
[null,{"$f":"IF(C1531=\"\",\"\",IF(COUNTIF($C$3:C1531, C1531)>1, \"\", C1531))","v":""},{"$f":"IF(G1531=\"\",\"\",IF(F1531=\"\",\"\",CONCATENATE(DIGITADOR!$M$1,G1531,E1531)))","v":""},"",{"$f":"IF(F1531=\"\",\"\",VLOOKUP(F1531,referentes!$Q$2:$T$300,3,FALSE))","v":""},null,null,null,null,null,{"$f":"IF(L1531=\"\",\"\",VLOOKUP(L1531,referentes!$G$2:$N$15,2,FALSE))","v":""},null,null,"",null,null,""]
[null,{"$f":"IF(C1532=\"\",\"\",IF(COUNTIF($C$3:C1532, C1532)>1, \"\", C1532))","v":""},{"$f":"IF(G1532=\"\",\"\",IF(F1532=\"\",\"\",CONCATENATE(DIGITADOR!$M$1,G1532,E1532)))","v":""},"",{"$f":"IF(F1532=\"\",\"\",VLOOKUP(F1532,referentes!$Q$2:$T$300,3,FALSE))","v":""},null,null,null,null,null,{"$f":"IF(L1532=\"\",\"\",VLOOKUP(L1532,referentes!$G$2:$N$15,2,FALSE))","v":""},null,null,"",null,null,""]
[null,{"$f":"IF(C1533=\"\",\"\",IF(COUNTIF($C$3:C1533, C1533)>1, \"\", C1533))","v":""},{"$f":"IF(G1533=\"\",\"\",IF(F1533=\"\",\"\",CONCATENATE(DIGITADOR!$M$1,G1533,E1533)))","v":""},"",{"$f":"IF(F1533=\"\",\"\",VLOOKUP(F1533,referentes!$Q$2:$T$300,3,FALSE))","v":""},null,null,null,null,null,{"$f":"IF(L1533=\"\",\"\",VLOOKUP(L1533,referentes!$G$2:$N$15,2,FALSE))","v":""},null,null,"",null,null,""]
[null,{"$f":"IF(C1534=\"\",\"\",IF(COUNTIF($C$3:C1534, C1534)>1, \"\", C1534))","v":""},{"$f":"IF(G1534=\"\",\"\",IF(F1534=\"\",\"\",CONCATENATE(DIGITADOR!$M$1,G1534,E1534)))","v":""},"",{"$f":"IF(F1534=\"\",\"\",VLOOKUP(F1534,referentes!$Q$2:$T$300,3,FALSE))","v":""},null,null,null,null,null,{"$f":"IF(L1534=\"\",\"\",VLOOKUP(L1534,referentes!$G$2:$N$15,2,FALSE))","v":""},null,null,"",null,null,""]
[null,{"$f":"IF(C1535=\"\",\"\",IF(COUNTIF($C$3:C1535, C1535)>1, \"\", C1535))","v":""},{"$f":"IF(G1535=\"\",\"\",IF(F1535=\"\",\"\",CONCATENATE(DIGITADOR!$M$1,G1535,E1535)))","v":""},"",{"$f":"IF(F1535=\"\",\"\",VLOOKUP(F1535,referentes!$Q$2:$T$300,3,FALSE))","v":""},null,null,null,null,null,{"$f":"IF(L1535=\"\",\"\",VLOOKUP(L1535,referentes!$G$2:$N$15,2,FALSE))","v":""},null,null,"",null,null,""]
[null,{"$f":"IF(C1536=\"\",\"\",IF(COUNTIF($C$3:C1536, C1536)>1, \"\", C1536))","v":""},{"$f":"IF(G1536=\"\",\"\",IF(F1536=\"\",\"\",CONCATENATE(DIGITADOR!$M$1,G1536,E1536)))","v":""},"",{"$f":"IF(F1536=\"\",\"\",VLOOKUP(F1536,referentes!$Q$2:$T$300,3,FALSE))","v":""},null,null,null,null,null,{"$f":"IF(L1536=\"\",\"\",VLOOKUP(L1536,referentes!$G$2:$N$15,2,FALSE))","v":""},null,null,"",null,null,""]
[null,{"$f":"IF(C1537=\"\",\"\",IF(COUNTIF($C$3:C1537, C1537)>1, \"\", C1537))","v":""},{"$f":"IF(G1537=\"\",\"\",IF(F1537=\"\",\"\",CONCATENATE(DIGITADOR!$M$1,G1537,E1537)))","v":""},"",{"$f":"IF(F1537=\"\",\"\",VLOOKUP(F1537,referentes!$Q$2:$T$300,3,FALSE))","v":""},null,null,null,null,null,{"$f":"IF(L1537=\"\",\"\",VLOOKUP(L1537,referentes!$G$2:$N$15,2,FALSE))","v":""},null,null,"",null,null,""]
[null,{"$f":"IF(C1538=\"\",\"\",IF(COUNTIF($C$3:C1538, C1538)>1, \"\", C1538))","v":""},{"$f":"IF(G1538=\"\",\"\",IF(F1538=\"\",\"\",CONCATENATE(DIGITADOR!$M$1,G1538,E1538)))","v":""},"",{"$f":"IF(F1538=\"\",\"\",VLOOKUP(F1538,referentes!$Q$2:$T$300,3,FALSE))","v":""},null,null,null,null,null,{"$f":"IF(L1538=\"\",\"\",VLOOKUP(L1538,referentes!$G$2:$N$15,2,FALSE))","v":""},null,null,"",null,null,""]
[null,{"$f":"IF(C1539=\"\",\"\",IF(COUNTIF($C$3:C1539, C1539)>1, \"\", C1539))","v":""},{"$f":"IF(G1539=\"\",\"\",IF(F1539=\"\",\"\",CONCATENATE(DIGITADOR!$M$1,G1539,E1539)))","v":""},"",{"$f":"IF(F1539=\"\",\"\",VLOOKUP(F1539,referentes!$Q$2:$T$300,3,FALSE))","v":""},null,null,null,null,null,{"$f":"IF(L1539=\"\",\"\",VLOOKUP(L1539,referentes!$G$2:$N$15,2,FALSE))","v":""},null,null,"",null,null,""]
[null,{"$f":"IF(C1540=\"\",\"\",IF(COUNTIF($C$3:C1540, C1540)>1, \"\", C1540))","v":""},{"$f":"IF(G1540=\"\",\"\",IF(F1540=\"\",\"\",CONCATENATE(DIGITADOR!$M$1,G1540,E1540)))","v":""},{"$f":"IF(C1540=\"\",\"\",CONCATENATE(C1540,ROW()-2))","v":""},{"$f":"IF(F1540=\"\",\"\",VLOOKUP(F1540,referentes!$Q$2:$T$300,3,FALSE))","v":""},null,null,null,null,null,{"$f":"IF(L1540=\"\",\"\",VLOOKUP(L1540,referentes!$G$2:$N$15,2,FALSE))","v":""},null,null,{"$f":"IF(M1540=\"\",\"\",M1540/PI())","v":""},null,null,{"$f":"IF(N1540=\"\",\"\",((PI())*((N1540/100)^2))/4*10000/500)","v":""}]
[null,{"$f":"IF(C1541=\"\",\"\",IF(COUNTIF($C$3:C1541, C1541)>1, \"\", C1541))","v":""},{"$f":"IF(G1541=\"\",\"\",IF(F1541=\"\",\"\",CONCATENATE(DIGITADOR!$M$1,G1541,E1541)))","v":""},"",{"$f":"IF(F1541=\"\",\"\",VLOOKUP(F1541,referentes!$Q$2:$T$300,3,FALSE))","v":""},null,null,null,null,null,{"$f":"IF(L1541=\"\",\"\",VLOOKUP(L1541,referentes!$G$2:$N$15,2,FALSE))","v":""},null,null,"",null,null,""]
[null,{"$f":"IF(C1542=\"\",\"\",IF(COUNTIF($C$3:C1542, C1542)>1, \"\", C1542))","v":""},{"$f":"IF(G1542=\"\",\"\",IF(F1542=\"\",\"\",CONCATENATE(DIGITADOR!$M$1,G1542,E1542)))","v":""},"",{"$f":"IF(F1542=\"\",\"\",VLOOKUP(F1542,referentes!$Q$2:$T$300,3,FALSE))","v":""},null,null,null,null,null,{"$f":"IF(L1542=\"\",\"\",VLOOKUP(L1542,referentes!$G$2:$N$15,2,FALSE))","v":""},null,null,"",null,null,""]
[null,{"$f":"IF(C1543=\"\",\"\",IF(COUNTIF($C$3:C1543, C1543)>1, \"\", C1543))","v":""},{"$f":"IF(G1543=\"\",\"\",IF(F1543=\"\",\"\",CONCATENATE(DIGITADOR!$M$1,G1543,E1543)))","v":""},"",{"$f":"IF(F1543=\"\",\"\",VLOOKUP(F1543,referentes!$Q$2:$T$300,3,FALSE))","v":""},null,null,null,null,null,{"$f":"IF(L1543=\"\",\"\",VLOOKUP(L1543,referentes!$G$2:$N$15,2,FALSE))","v":""},null,null,"",null,null,""]
[null,{"$f":"IF(C1544=\"\",\"\",IF(COUNTIF($C$3:C1544, C1544)>1, \"\", C1544))","v":""},{"$f":"IF(G1544=\"\",\"\",IF(F1544=\"\",\"\",CONCATENATE(DIGITADOR!$M$1,G1544,E1544)))","v":""},"",{"$f":"IF(F1544=\"\",\"\",VLOOKUP(F1544,referentes!$Q$2:$T$300,3,FALSE))","v":""},null,null,null,null,null,{"$f":"IF(L1544=\"\",\"\",VLOOKUP(L1544,referentes!$G$2:$N$15,2,FALSE))","v":""},null,null,"",null,null,""]
[null,{"$f":"IF(C1545=\"\",\"\",IF(COUNTIF($C$3:C1545, C1545)>1, \"\", C1545))","v":""},{"$f":"IF(G1545=\"\",\"\",IF(F1545=\"\",\"\",CONCATENATE(DIGITADOR!$M$1,G1545,E1545)))","v":""},"",{"$f":"IF(F1545=\"\",\"\",VLOOKUP(F1545,referentes!$Q$2:$T$300,3,FALSE))","v":""},null,null,null,null,null,{"$f":"IF(L1545=\"\",\"\",VLOOKUP(L1545,referentes!$G$2:$N$15,2,FALSE))","v":""},null,null,"",null,null,""]
[null,{"$f":"IF(C1546=\"\",\"\",IF(COUNTIF($C$3:C1546, C1546)>1, \"\", C1546))","v":""},{"$f":"IF(G1546=\"\",\"\",IF(F1546=\"\",\"\",CONCATENATE(DIGITADOR!$M$1,G1546,E1546)))","v":""},"",{"$f":"IF(F1546=\"\",\"\",VLOOKUP(F1546,referentes!$Q$2:$T$300,3,FALSE))","v":""},null,null,null,null,null,{"$f":"IF(L1546=\"\",\"\",VLOOKUP(L1546,referentes!$G$2:$N$15,2,FALSE))","v":""},null,null,"",null,null,""]
[null,{"$f":"IF(C1547=\"\",\"\",IF(COUNTIF($C$3:C1547, C1547)>1, \"\", C1547))","v":""},{"$f":"IF(G1547=\"\",\"\",IF(F1547=\"\",\"\",CONCATENATE(DIGITADOR!$M$1,G1547,E1547)))","v":""},"",{"$f":"IF(F1547=\"\",\"\",VLOOKUP(F1547,referentes!$Q$2:$T$300,3,FALSE))","v":""},null,null,null,null,null,{"$f":"IF(L1547=\"\",\"\",VLOOKUP(L1547,referentes!$G$2:$N$15,2,FALSE))","v":""},null,null,"",null,null,""]
[null,{"$f":"IF(C1548=\"\",\"\",IF(COUNTIF($C$3:C1548, C1548)>1, \"\", C1548))","v":""},{"$f":"IF(G1548=\"\",\"\",IF(F1548=\"\",\"\",CONCATENATE(DIGITADOR!$M$1,G1548,E1548)))","v":""},"",{"$f":"IF(F1548=\"\",\"\",VLOOKUP(F1548,referentes!$Q$2:$T$300,3,FALSE))","v":""},null,null,null,null,null,{"$f":"IF(L1548=\"\",\"\",VLOOKUP(L1548,referentes!$G$2:$N$15,2,FALSE))","v":""},null,null,"",null,null,""]
[null,{"$f":"IF(C1549=\"\",\"\",IF(COUNTIF($C$3:C1549, C1549)>1, \"\", C1549))","v":""},{"$f":"IF(G1549=\"\",\"\",IF(F1549=\"\",\"\",CONCATENATE(DIGITADOR!$M$1,G1549,E1549)))","v":""},"",{"$f":"IF(F1549=\"\",\"\",VLOOKUP(F1549,referentes!$Q$2:$T$300,3,FALSE))","v":""},null,null,null,null,null,{"$f":"IF(L1549=\"\",\"\",VLOOKUP(L1549,referentes!$G$2:$N$15,2,FALSE))","v":""},null,null,"",null,null,""]
[null,{"$f":"IF(C1550=\"\",\"\",IF(COUNTIF($C$3:C1550, C1550)>1, \"\", C1550))","v":""},{"$f":"IF(G1550=\"\",\"\",IF(F1550=\"\",\"\",CONCATENATE(DIGITADOR!$M$1,G1550,E1550)))","v":""},"",{"$f":"IF(F1550=\"\",\"\",VLOOKUP(F1550,referentes!$Q$2:$T$300,3,FALSE))","v":""},null,null,null,null,null,{"$f":"IF(L1550=\"\",\"\",VLOOKUP(L1550,referentes!$G$2:$N$15,2,FALSE))","v":""},null,null,"",null,null,""]
[null,{"$f":"IF(C1551=\"\",\"\",IF(COUNTIF($C$3:C1551, C1551)>1, \"\", C1551))","v":""},{"$f":"IF(G1551=\"\",\"\",IF(F1551=\"\",\"\",CONCATENATE(DIGITADOR!$M$1,G1551,E1551)))","v":""},"",{"$f":"IF(F1551=\"\",\"\",VLOOKUP(F1551,referentes!$Q$2:$T$300,3,FALSE))","v":""},null,null,null,null,null,{"$f":"IF(L1551=\"\",\"\",VLOOKUP(L1551,referentes!$G$2:$N$15,2,FALSE))","v":""},null,null,"",null,null,""]
[null,{"$f":"IF(C1552=\"\",\"\",IF(COUNTIF($C$3:C1552, C1552)>1, \"\", C1552))","v":""},{"$f":"IF(G1552=\"\",\"\",IF(F1552=\"\",\"\",CONCATENATE(DIGITADOR!$M$1,G1552,E1552)))","v":""},"",{"$f":"IF(F1552=\"\",\"\",VLOOKUP(F1552,referentes!$Q$2:$T$300,3,FALSE))","v":""},null,null,null,null,null,{"$f":"IF(L1552=\"\",\"\",VLOOKUP(L1552,referentes!$G$2:$N$15,2,FALSE))","v":""},null,null,"",null,null,""]
[null,{"$f":"IF(C1553=\"\",\"\",IF(COUNTIF($C$3:C1553, C1553)>1, \"\", C1553))","v":""},{"$f":"IF(G1553=\"\",\"\",IF(F1553=\"\",\"\",CONCATENATE(DIGITADOR!$M$1,G1553,E1553)))","v":""},"",{"$f":"IF(F1553=\"\",\"\",VLOOKUP(F1553,referentes!$Q$2:$T$300,3,FALSE))","v":""},null,null,null,null,null,{"$f":"IF(L1553=\"\",\"\",VLOOKUP(L1553,referentes!$G$2:$N$15,2,FALSE))","v":""},null,null,"",null,null,""]
[null,{"$f":"IF(C1554=\"\",\"\",IF(COUNTIF($C$3:C1554, C1554)>1, \"\", C1554))","v":""},{"$f":"IF(G1554=\"\",\"\",IF(F1554=\"\",\"\",CONCATENATE(DIGITADOR!$M$1,G1554,E1554)))","v":""},"",{"$f":"IF(F1554=\"\",\"\",VLOOKUP(F1554,referentes!$Q$2:$T$300,3,FALSE))","v":""},null,null,null,null,null,{"$f":"IF(L1554=\"\",\"\",VLOOKUP(L1554,referentes!$G$2:$N$15,2,FALSE))","v":""},null,null,"",null,null,""]
[null,{"$f":"IF(C1555=\"\",\"\",IF(COUNTIF($C$3:C1555, C1555)>1, \"\", C1555))","v":""},{"$f":"IF(G1555=\"\",\"\",IF(F1555=\"\",\"\",CONCATENATE(DIGITADOR!$M$1,G1555,E1555)))","v":""},"",{"$f":"IF(F1555=\"\",\"\",VLOOKUP(F1555,referentes!$Q$2:$T$300,3,FALSE))","v":""},null,null,null,null,null,{"$f":"IF(L1555=\"\",\"\",VLOOKUP(L1555,referentes!$G$2:$N$15,2,FALSE))","v":""},null,null,"",null,null,""]
[null,{"$f":"IF(C1556=\"\",\"\",IF(COUNTIF($C$3:C1556, C1556)>1, \"\", C1556))","v":""},{"$f":"IF(G1556=\"\",\"\",IF(F1556=\"\",\"\",CONCATENATE(DIGITADOR!$M$1,G1556,E1556)))","v":""},"",{"$f":"IF(F1556=\"\",\"\",VLOOKUP(F1556,referentes!$Q$2:$T$300,3,FALSE))","v":""},null,null,null,null,null,{"$f":"IF(L1556=\"\",\"\",VLOOKUP(L1556,referentes!$G$2:$N$15,2,FALSE))","v":""},null,null,"",null,null,""]
[null,{"$f":"IF(C1557=\"\",\"\",IF(COUNTIF($C$3:C1557, C1557)>1, \"\", C1557))","v":""},{"$f":"IF(G1557=\"\",\"\",IF(F1557=\"\",\"\",CONCATENATE(DIGITADOR!$M$1,G1557,E1557)))","v":""},"",{"$f":"IF(F1557=\"\",\"\",VLOOKUP(F1557,referentes!$Q$2:$T$300,3,FALSE))","v":""},null,null,null,null,null,{"$f":"IF(L1557=\"\",\"\",VLOOKUP(L1557,referentes!$G$2:$N$15,2,FALSE))","v":""},null,null,"",null,null,""]
[null,{"$f":"IF(C1558=\"\",\"\",IF(COUNTIF($C$3:C1558, C1558)>1, \"\", C1558))","v":""},{"$f":"IF(G1558=\"\",\"\",IF(F1558=\"\",\"\",CONCATENATE(DIGITADOR!$M$1,G1558,E1558)))","v":""},"",{"$f":"IF(F1558=\"\",\"\",VLOOKUP(F1558,referentes!$Q$2:$T$300,3,FALSE))","v":""},null,null,null,null,null,{"$f":"IF(L1558=\"\",\"\",VLOOKUP(L1558,referentes!$G$2:$N$15,2,FALSE))","v":""},null,null,"",null,null,""]
[null,{"$f":"IF(C1559=\"\",\"\",IF(COUNTIF($C$3:C1559, C1559)>1, \"\", C1559))","v":""},{"$f":"IF(G1559=\"\",\"\",IF(F1559=\"\",\"\",CONCATENATE(DIGITADOR!$M$1,G1559,E1559)))","v":""},"",{"$f":"IF(F1559=\"\",\"\",VLOOKUP(F1559,referentes!$Q$2:$T$300,3,FALSE))","v":""},null,null,null,null,null,{"$f":"IF(L1559=\"\",\"\",VLOOKUP(L1559,referentes!$G$2:$N$15,2,FALSE))","v":""},null,null,"",null,null,""]
[null,{"$f":"IF(C1560=\"\",\"\",IF(COUNTIF($C$3:C1560, C1560)>1, \"\", C1560))","v":""},{"$f":"IF(G1560=\"\",\"\",IF(F1560=\"\",\"\",CONCATENATE(DIGITADOR!$M$1,G1560,E1560)))","v":""},"",{"$f":"IF(F1560=\"\",\"\",VLOOKUP(F1560,referentes!$Q$2:$T$300,3,FALSE))","v":""},null,null,null,null,null,{"$f":"IF(L1560=\"\",\"\",VLOOKUP(L1560,referentes!$G$2:$N$15,2,FALSE))","v":""},null,null,"",null,null,""]
[null,{"$f":"IF(C1561=\"\",\"\",IF(COUNTIF($C$3:C1561, C1561)>1, \"\", C1561))","v":""},{"$f":"IF(G1561=\"\",\"\",IF(F1561=\"\",\"\",CONCATENATE(DIGITADOR!$M$1,G1561,E1561)))","v":""},"",{"$f":"IF(F1561=\"\",\"\",VLOOKUP(F1561,referentes!$Q$2:$T$300,3,FALSE))","v":""},null,null,null,null,null,{"$f":"IF(L1561=\"\",\"\",VLOOKUP(L1561,referentes!$G$2:$N$15,2,FALSE))","v":""},null,null,"",null,null,""]
[null,{"$f":"IF(C1562=\"\",\"\",IF(COUNTIF($C$3:C1562, C1562)>1, \"\", C1562))","v":""},{"$f":"IF(G1562=\"\",\"\",IF(F1562=\"\",\"\",CONCATENATE(DIGITADOR!$M$1,G1562,E1562)))","v":""},"",{"$f":"IF(F1562=\"\",\"\",VLOOKUP(F1562,referentes!$Q$2:$T$300,3,FALSE))","v":""},null,null,null,null,null,{"$f":"IF(L1562=\"\",\"\",VLOOKUP(L1562,referentes!$G$2:$N$15,2,FALSE))","v":""},null,null,"",null,null,""]
[null,{"$f":"IF(C1563=\"\",\"\",IF(COUNTIF($C$3:C1563, C1563)>1, \"\", C1563))","v":""},{"$f":"IF(G1563=\"\",\"\",IF(F1563=\"\",\"\",CONCATENATE(DIGITADOR!$M$1,G1563,E1563)))","v":""},"",{"$f":"IF(F1563=\"\",\"\",VLOOKUP(F1563,referentes!$Q$2:$T$300,3,FALSE))","v":""},null,null,null,null,null,{"$f":"IF(L1563=\"\",\"\",VLOOKUP(L1563,referentes!$G$2:$N$15,2,FALSE))","v":""},null,null,"",null,null,""]
[null,{"$f":"IF(C1564=\"\",\"\",IF(COUNTIF($C$3:C1564, C1564)>1, \"\", C1564))","v":""},{"$f":"IF(G1564=\"\",\"\",IF(F1564=\"\",\"\",CONCATENATE(DIGITADOR!$M$1,G1564,E1564)))","v":""},"",{"$f":"IF(F1564=\"\",\"\",VLOOKUP(F1564,referentes!$Q$2:$T$300,3,FALSE))","v":""},null,null,null,null,null,{"$f":"IF(L1564=\"\",\"\",VLOOKUP(L1564,referentes!$G$2:$N$15,2,FALSE))","v":""},null,null,"",null,null,""]
[null,{"$f":"IF(C1565=\"\",\"\",IF(COUNTIF($C$3:C1565, C1565)>1, \"\", C1565))","v":""},{"$f":"IF(G1565=\"\",\"\",IF(F1565=\"\",\"\",CONCATENATE(DIGITADOR!$M$1,G1565,E1565)))","v":""},"",{"$f":"IF(F1565=\"\",\"\",VLOOKUP(F1565,referentes!$Q$2:$T$300,3,FALSE))","v":""},null,null,null,null,null,{"$f":"IF(L1565=\"\",\"\",VLOOKUP(L1565,referentes!$G$2:$N$15,2,FALSE))","v":""},null,null,"",null,null,""]
[null,{"$f":"IF(C1566=\"\",\"\",IF(COUNTIF($C$3:C1566, C1566)>1, \"\", C1566))","v":""},{"$f":"IF(G1566=\"\",\"\",IF(F1566=\"\",\"\",CONCATENATE(DIGITADOR!$M$1,G1566,E1566)))","v":""},"",{"$f":"IF(F1566=\"\",\"\",VLOOKUP(F1566,referentes!$Q$2:$T$300,3,FALSE))","v":""},null,null,null,null,null,{"$f":"IF(L1566=\"\",\"\",VLOOKUP(L1566,referentes!$G$2:$N$15,2,FALSE))","v":""},null,null,"",null,null,""]
[null,{"$f":"IF(C1567=\"\",\"\",IF(COUNTIF($C$3:C1567, C1567)>1, \"\", C1567))","v":""},{"$f":"IF(G1567=\"\",\"\",IF(F1567=\"\",\"\",CONCATENATE(DIGITADOR!$M$1,G1567,E1567)))","v":""},"",{"$f":"IF(F1567=\"\",\"\",VLOOKUP(F1567,referentes!$Q$2:$T$300,3,FALSE))","v":""},null,null,null,null,null,{"$f":"IF(L1567=\"\",\"\",VLOOKUP(L1567,referentes!$G$2:$N$15,2,FALSE))","v":""},null,null,"",null,null,""]
[null,{"$f":"IF(C1568=\"\",\"\",IF(COUNTIF($C$3:C1568, C1568)>1, \"\", C1568))","v":""},{"$f":"IF(G1568=\"\",\"\",IF(F1568=\"\",\"\",CONCATENATE(DIGITADOR!$M$1,G1568,E1568)))","v":""},"",{"$f":"IF(F1568=\"\",\"\",VLOOKUP(F1568,referentes!$Q$2:$T$300,3,FALSE))","v":""},null,null,null,null,null,{"$f":"IF(L1568=\"\",\"\",VLOOKUP(L1568,referentes!$G$2:$N$15,2,FALSE))","v":""},null,null,"",null,null,""]
[null,{"$f":"IF(C1569=\"\",\"\",IF(COUNTIF($C$3:C1569, C1569)>1, \"\", C1569))","v":""},{"$f":"IF(G1569=\"\",\"\",IF(F1569=\"\",\"\",CONCATENATE(DIGITADOR!$M$1,G1569,E1569)))","v":""},"",{"$f":"IF(F1569=\"\",\"\",VLOOKUP(F1569,referentes!$Q$2:$T$300,3,FALSE))","v":""},null,null,null,null,null,{"$f":"IF(L1569=\"\",\"\",VLOOKUP(L1569,referentes!$G$2:$N$15,2,FALSE))","v":""},null,null,"",null,null,""]
[null,{"$f":"IF(C1570=\"\",\"\",IF(COUNTIF($C$3:C1570, C1570)>1, \"\", C1570))","v":""},{"$f":"IF(G1570=\"\",\"\",IF(F1570=\"\",\"\",CONCATENATE(DIGITADOR!$M$1,G1570,E1570)))","v":""},"",{"$f":"IF(F1570=\"\",\"\",VLOOKUP(F1570,referentes!$Q$2:$T$300,3,FALSE))","v":""},null,null,null,null,null,{"$f":"IF(L1570=\"\",\"\",VLOOKUP(L1570,referentes!$G$2:$N$15,2,FALSE))","v":""},null,null,"",null,null,""]
[null,{"$f":"IF(C1571=\"\",\"\",IF(COUNTIF($C$3:C1571, C1571)>1, \"\", C1571))","v":""},{"$f":"IF(G1571=\"\",\"\",IF(F1571=\"\",\"\",CONCATENATE(DIGITADOR!$M$1,G1571,E1571)))","v":""},"",{"$f":"IF(F1571=\"\",\"\",VLOOKUP(F1571,referentes!$Q$2:$T$300,3,FALSE))","v":""},null,null,null,null,null,{"$f":"IF(L1571=\"\",\"\",VLOOKUP(L1571,referentes!$G$2:$N$15,2,FALSE))","v":""},null,null,"",null,null,""]
[null,{"$f":"IF(C1572=\"\",\"\",IF(COUNTIF($C$3:C1572, C1572)>1, \"\", C1572))","v":""},{"$f":"IF(G1572=\"\",\"\",IF(F1572=\"\",\"\",CONCATENATE(DIGITADOR!$M$1,G1572,E1572)))","v":""},"",{"$f":"IF(F1572=\"\",\"\",VLOOKUP(F1572,referentes!$Q$2:$T$300,3,FALSE))","v":""},null,null,null,null,null,{"$f":"IF(L1572=\"\",\"\",VLOOKUP(L1572,referentes!$G$2:$N$15,2,FALSE))","v":""},null,null,"",null,null,""]
[null,{"$f":"IF(C1573=\"\",\"\",IF(COUNTIF($C$3:C1573, C1573)>1, \"\", C1573))","v":""},{"$f":"IF(G1573=\"\",\"\",IF(F1573=\"\",\"\",CONCATENATE(DIGITADOR!$M$1,G1573,E1573)))","v":""},"",{"$f":"IF(F1573=\"\",\"\",VLOOKUP(F1573,referentes!$Q$2:$T$300,3,FALSE))","v":""},null,null,null,null,null,{"$f":"IF(L1573=\"\",\"\",VLOOKUP(L1573,referentes!$G$2:$N$15,2,FALSE))","v":""},null,null,"",null,null,""]
[null,{"$f":"IF(C1574=\"\",\"\",IF(COUNTIF($C$3:C1574, C1574)>1, \"\", C1574))","v":""},{"$f":"IF(G1574=\"\",\"\",IF(F1574=\"\",\"\",CONCATENATE(DIGITADOR!$M$1,G1574,E1574)))","v":""},"",{"$f":"IF(F1574=\"\",\"\",VLOOKUP(F1574,referentes!$Q$2:$T$300,3,FALSE))","v":""},null,null,null,null,null,{"$f":"IF(L1574=\"\",\"\",VLOOKUP(L1574,referentes!$G$2:$N$15,2,FALSE))","v":""},null,null,"",null,null,""]
[null,{"$f":"IF(C1575=\"\",\"\",IF(COUNTIF($C$3:C1575, C1575)>1, \"\", C1575))","v":""},{"$f":"IF(G1575=\"\",\"\",IF(F1575=\"\",\"\",CONCATENATE(DIGITADOR!$M$1,G1575,E1575)))","v":""},"",{"$f":"IF(F1575=\"\",\"\",VLOOKUP(F1575,referentes!$Q$2:$T$300,3,FALSE))","v":""},null,null,null,null,null,{"$f":"IF(L1575=\"\",\"\",VLOOKUP(L1575,referentes!$G$2:$N$15,2,FALSE))","v":""},null,null,"",null,null,""]
[null,{"$f":"IF(C1576=\"\",\"\",IF(COUNTIF($C$3:C1576, C1576)>1, \"\", C1576))","v":""},{"$f":"IF(G1576=\"\",\"\",IF(F1576=\"\",\"\",CONCATENATE(DIGITADOR!$M$1,G1576,E1576)))","v":""},"",{"$f":"IF(F1576=\"\",\"\",VLOOKUP(F1576,referentes!$Q$2:$T$300,3,FALSE))","v":""},null,null,null,null,null,{"$f":"IF(L1576=\"\",\"\",VLOOKUP(L1576,referentes!$G$2:$N$15,2,FALSE))","v":""},null,null,"",null,null,""]
[null,{"$f":"IF(C1577=\"\",\"\",IF(COUNTIF($C$3:C1577, C1577)>1, \"\", C1577))","v":""},{"$f":"IF(G1577=\"\",\"\",IF(F1577=\"\",\"\",CONCATENATE(DIGITADOR!$M$1,G1577,E1577)))","v":""},"",{"$f":"IF(F1577=\"\",\"\",VLOOKUP(F1577,referentes!$Q$2:$T$300,3,FALSE))","v":""},null,null,null,null,null,{"$f":"IF(L1577=\"\",\"\",VLOOKUP(L1577,referentes!$G$2:$N$15,2,FALSE))","v":""},null,null,"",null,null,""]
[null,{"$f":"IF(C1578=\"\",\"\",IF(COUNTIF($C$3:C1578, C1578)>1, \"\", C1578))","v":""},{"$f":"IF(G1578=\"\",\"\",IF(F1578=\"\",\"\",CONCATENATE(DIGITADOR!$M$1,G1578,E1578)))","v":""},"",{"$f":"IF(F1578=\"\",\"\",VLOOKUP(F1578,referentes!$Q$2:$T$300,3,FALSE))","v":""},null,null,null,null,null,{"$f":"IF(L1578=\"\",\"\",VLOOKUP(L1578,referentes!$G$2:$N$15,2,FALSE))","v":""},null,null,"",null,null,""]
[null,{"$f":"IF(C1579=\"\",\"\",IF(COUNTIF($C$3:C1579, C1579)>1, \"\", C1579))","v":""},{"$f":"IF(G1579=\"\",\"\",IF(F1579=\"\",\"\",CONCATENATE(DIGITADOR!$M$1,G1579,E1579)))","v":""},"",{"$f":"IF(F1579=\"\",\"\",VLOOKUP(F1579,referentes!$Q$2:$T$300,3,FALSE))","v":""},null,null,null,null,null,{"$f":"IF(L1579=\"\",\"\",VLOOKUP(L1579,referentes!$G$2:$N$15,2,FALSE))","v":""},null,null,"",null,null,""]
[null,{"$f":"IF(C1580=\"\",\"\",IF(COUNTIF($C$3:C1580, C1580)>1, \"\", C1580))","v":""},{"$f":"IF(G1580=\"\",\"\",IF(F1580=\"\",\"\",CONCATENATE(DIGITADOR!$M$1,G1580,E1580)))","v":""},"",{"$f":"IF(F1580=\"\",\"\",VLOOKUP(F1580,referentes!$Q$2:$T$300,3,FALSE))","v":""},null,null,null,null,null,{"$f":"IF(L1580=\"\",\"\",VLOOKUP(L1580,referentes!$G$2:$N$15,2,FALSE))","v":""},null,null,"",null,null,""]
[null,{"$f":"IF(C1581=\"\",\"\",IF(COUNTIF($C$3:C1581, C1581)>1, \"\", C1581))","v":""},{"$f":"IF(G1581=\"\",\"\",IF(F1581=\"\",\"\",CONCATENATE(DIGITADOR!$M$1,G1581,E1581)))","v":""},"",{"$f":"IF(F1581=\"\",\"\",VLOOKUP(F1581,referentes!$Q$2:$T$300,3,FALSE))","v":""},null,null,null,null,null,{"$f":"IF(L1581=\"\",\"\",VLOOKUP(L1581,referentes!$G$2:$N$15,2,FALSE))","v":""},null,null,"",null,null,""]
[null,{"$f":"IF(C1582=\"\",\"\",IF(COUNTIF($C$3:C1582, C1582)>1, \"\", C1582))","v":""},{"$f":"IF(G1582=\"\",\"\",IF(F1582=\"\",\"\",CONCATENATE(DIGITADOR!$M$1,G1582,E1582)))","v":""},"",{"$f":"IF(F1582=\"\",\"\",VLOOKUP(F1582,referentes!$Q$2:$T$300,3,FALSE))","v":""},null,null,null,null,null,{"$f":"IF(L1582=\"\",\"\",VLOOKUP(L1582,referentes!$G$2:$N$15,2,FALSE))","v":""},null,null,"",null,null,""]
[null,{"$f":"IF(C1583=\"\",\"\",IF(COUNTIF($C$3:C1583, C1583)>1, \"\", C1583))","v":""},{"$f":"IF(G1583=\"\",\"\",IF(F1583=\"\",\"\",CONCATENATE(DIGITADOR!$M$1,G1583,E1583)))","v":""},"",{"$f":"IF(F1583=\"\",\"\",VLOOKUP(F1583,referentes!$Q$2:$T$300,3,FALSE))","v":""},null,null,null,null,null,{"$f":"IF(L1583=\"\",\"\",VLOOKUP(L1583,referentes!$G$2:$N$15,2,FALSE))","v":""},null,null,"",null,null,""]
[null,{"$f":"IF(C1584=\"\",\"\",IF(COUNTIF($C$3:C1584, C1584)>1, \"\", C1584))","v":""},{"$f":"IF(G1584=\"\",\"\",IF(F1584=\"\",\"\",CONCATENATE(DIGITADOR!$M$1,G1584,E1584)))","v":""},"",{"$f":"IF(F1584=\"\",\"\",VLOOKUP(F1584,referentes!$Q$2:$T$300,3,FALSE))","v":""},null,null,null,null,null,{"$f":"IF(L1584=\"\",\"\",VLOOKUP(L1584,referentes!$G$2:$N$15,2,FALSE))","v":""},null,null,"",null,null,""]
[null,{"$f":"IF(C1585=\"\",\"\",IF(COUNTIF($C$3:C1585, C1585)>1, \"\", C1585))","v":""},{"$f":"IF(G1585=\"\",\"\",IF(F1585=\"\",\"\",CONCATENATE(DIGITADOR!$M$1,G1585,E1585)))","v":""},"",{"$f":"IF(F1585=\"\",\"\",VLOOKUP(F1585,referentes!$Q$2:$T$300,3,FALSE))","v":""},null,null,null,null,null,{"$f":"IF(L1585=\"\",\"\",VLOOKUP(L1585,referentes!$G$2:$N$15,2,FALSE))","v":""},null,null,"",null,null,""]
[null,{"$f":"IF(C1586=\"\",\"\",IF(COUNTIF($C$3:C1586, C1586)>1, \"\", C1586))","v":""},{"$f":"IF(G1586=\"\",\"\",IF(F1586=\"\",\"\",CONCATENATE(DIGITADOR!$M$1,G1586,E1586)))","v":""},"",{"$f":"IF(F1586=\"\",\"\",VLOOKUP(F1586,referentes!$Q$2:$T$300,3,FALSE))","v":""},null,null,null,null,null,{"$f":"IF(L1586=\"\",\"\",VLOOKUP(L1586,referentes!$G$2:$N$15,2,FALSE))","v":""},null,null,"",null,null,""]
[null,{"$f":"IF(C1587=\"\",\"\",IF(COUNTIF($C$3:C1587, C1587)>1, \"\", C1587))","v":""},{"$f":"IF(G1587=\"\",\"\",IF(F1587=\"\",\"\",CONCATENATE(DIGITADOR!$M$1,G1587,E1587)))","v":""},"",{"$f":"IF(F1587=\"\",\"\",VLOOKUP(F1587,referentes!$Q$2:$T$300,3,FALSE))","v":""},null,null,null,null,null,{"$f":"IF(L1587=\"\",\"\",VLOOKUP(L1587,referentes!$G$2:$N$15,2,FALSE))","v":""},null,null,"",null,null,""]
[null,{"$f":"IF(C1588=\"\",\"\",IF(COUNTIF($C$3:C1588, C1588)>1, \"\", C1588))","v":""},{"$f":"IF(G1588=\"\",\"\",IF(F1588=\"\",\"\",CONCATENATE(DIGITADOR!$M$1,G1588,E1588)))","v":""},"",{"$f":"IF(F1588=\"\",\"\",VLOOKUP(F1588,referentes!$Q$2:$T$300,3,FALSE))","v":""},null,null,null,null,null,{"$f":"IF(L1588=\"\",\"\",VLOOKUP(L1588,referentes!$G$2:$N$15,2,FALSE))","v":""},null,null,"",null,null,""]
[null,{"$f":"IF(C1589=\"\",\"\",IF(COUNTIF($C$3:C1589, C1589)>1, \"\", C1589))","v":""},{"$f":"IF(G1589=\"\",\"\",IF(F1589=\"\",\"\",CONCATENATE(DIGITADOR!$M$1,G1589,E1589)))","v":""},"",{"$f":"IF(F1589=\"\",\"\",VLOOKUP(F1589,referentes!$Q$2:$T$300,3,FALSE))","v":""},null,null,null,null,null,{"$f":"IF(L1589=\"\",\"\",VLOOKUP(L1589,referentes!$G$2:$N$15,2,FALSE))","v":""},null,null,"",null,null,""]
[null,{"$f":"IF(C1590=\"\",\"\",IF(COUNTIF($C$3:C1590, C1590)>1, \"\", C1590))","v":""},{"$f":"IF(G1590=\"\",\"\",IF(F1590=\"\",\"\",CONCATENATE(DIGITADOR!$M$1,G1590,E1590)))","v":""},"",{"$f":"IF(F1590=\"\",\"\",VLOOKUP(F1590,referentes!$Q$2:$T$300,3,FALSE))","v":""},null,null,null,null,null,{"$f":"IF(L1590=\"\",\"\",VLOOKUP(L1590,referentes!$G$2:$N$15,2,FALSE))","v":""},null,null,"",null,null,""]
[null,{"$f":"IF(C1591=\"\",\"\",IF(COUNTIF($C$3:C1591, C1591)>1, \"\", C1591))","v":""},{"$f":"IF(G1591=\"\",\"\",IF(F1591=\"\",\"\",CONCATENATE(DIGITADOR!$M$1,G1591,E1591)))","v":""},"",{"$f":"IF(F1591=\"\",\"\",VLOOKUP(F1591,referentes!$Q$2:$T$300,3,FALSE))","v":""},null,null,null,null,null,{"$f":"IF(L1591=\"\",\"\",VLOOKUP(L1591,referentes!$G$2:$N$15,2,FALSE))","v":""},null,null,"",null,null,""]
[null,{"$f":"IF(C1592=\"\",\"\",IF(COUNTIF($C$3:C1592, C1592)>1, \"\", C1592))","v":""},{"$f":"IF(G1592=\"\",\"\",IF(F1592=\"\",\"\",CONCATENATE(DIGITADOR!$M$1,G1592,E1592)))","v":""},"",{"$f":"IF(F1592=\"\",\"\",VLOOKUP(F1592,referentes!$Q$2:$T$300,3,FALSE))","v":""},null,null,null,null,null,{"$f":"IF(L1592=\"\",\"\",VLOOKUP(L1592,referentes!$G$2:$N$15,2,FALSE))","v":""},null,null,"",null,null,""]
[null,{"$f":"IF(C1593=\"\",\"\",IF(COUNTIF($C$3:C1593, C1593)>1, \"\", C1593))","v":""},{"$f":"IF(G1593=\"\",\"\",IF(F1593=\"\",\"\",CONCATENATE(DIGITADOR!$M$1,G1593,E1593)))","v":""},"",{"$f":"IF(F1593=\"\",\"\",VLOOKUP(F1593,referentes!$Q$2:$T$300,3,FALSE))","v":""},null,null,null,null,null,{"$f":"IF(L1593=\"\",\"\",VLOOKUP(L1593,referentes!$G$2:$N$15,2,FALSE))","v":""},null,null,"",null,null,""]
[null,{"$f":"IF(C1594=\"\",\"\",IF(COUNTIF($C$3:C1594, C1594)>1, \"\", C1594))","v":""},{"$f":"IF(G1594=\"\",\"\",IF(F1594=\"\",\"\",CONCATENATE(DIGITADOR!$M$1,G1594,E1594)))","v":""},"",{"$f":"IF(F1594=\"\",\"\",VLOOKUP(F1594,referentes!$Q$2:$T$300,3,FALSE))","v":""},null,null,null,null,null,{"$f":"IF(L1594=\"\",\"\",VLOOKUP(L1594,referentes!$G$2:$N$15,2,FALSE))","v":""},null,null,"",null,null,""]
[null,{"$f":"IF(C1595=\"\",\"\",IF(COUNTIF($C$3:C1595, C1595)>1, \"\", C1595))","v":""},{"$f":"IF(G1595=\"\",\"\",IF(F1595=\"\",\"\",CONCATENATE(DIGITADOR!$M$1,G1595,E1595)))","v":""},"",{"$f":"IF(F1595=\"\",\"\",VLOOKUP(F1595,referentes!$Q$2:$T$300,3,FALSE))","v":""},null,null,null,null,null,{"$f":"IF(L1595=\"\",\"\",VLOOKUP(L1595,referentes!$G$2:$N$15,2,FALSE))","v":""},null,null,"",null,null,""]
[null,{"$f":"IF(C1596=\"\",\"\",IF(COUNTIF($C$3:C1596, C1596)>1, \"\", C1596))","v":""},{"$f":"IF(G1596=\"\",\"\",IF(F1596=\"\",\"\",CONCATENATE(DIGITADOR!$M$1,G1596,E1596)))","v":""},"",{"$f":"IF(F1596=\"\",\"\",VLOOKUP(F1596,referentes!$Q$2:$T$300,3,FALSE))","v":""},null,null,null,null,null,{"$f":"IF(L1596=\"\",\"\",VLOOKUP(L1596,referentes!$G$2:$N$15,2,FALSE))","v":""},null,null,"",null,null,""]
[null,{"$f":"IF(C1597=\"\",\"\",IF(COUNTIF($C$3:C1597, C1597)>1, \"\", C1597))","v":""},{"$f":"IF(G1597=\"\",\"\",IF(F1597=\"\",\"\",CONCATENATE(DIGITADOR!$M$1,G1597,E1597)))","v":""},"",{"$f":"IF(F1597=\"\",\"\",VLOOKUP(F1597,referentes!$Q$2:$T$300,3,FALSE))","v":""},null,null,null,null,null,{"$f":"IF(L1597=\"\",\"\",VLOOKUP(L1597,referentes!$G$2:$N$15,2,FALSE))","v":""},null,null,"",null,null,""]
[null,{"$f":"IF(C1598=\"\",\"\",IF(COUNTIF($C$3:C1598, C1598)>1, \"\", C1598))","v":""},{"$f":"IF(G1598=\"\",\"\",IF(F1598=\"\",\"\",CONCATENATE(DIGITADOR!$M$1,G1598,E1598)))","v":""},"",{"$f":"IF(F1598=\"\",\"\",VLOOKUP(F1598,referentes!$Q$2:$T$300,3,FALSE))","v":""},null,null,null,null,null,{"$f":"IF(L1598=\"\",\"\",VLOOKUP(L1598,referentes!$G$2:$N$15,2,FALSE))","v":""},null,null,"",null,null,""]
[null,{"$f":"IF(C1599=\"\",\"\",IF(COUNTIF($C$3:C1599, C1599)>1, \"\", C1599))","v":""},{"$f":"IF(G1599=\"\",\"\",IF(F1599=\"\",\"\",CONCATENATE(DIGITADOR!$M$1,G1599,E1599)))","v":""},"",{"$f":"IF(F1599=\"\",\"\",VLOOKUP(F1599,referentes!$Q$2:$T$300,3,FALSE))","v":""},null,null,null,null,null,{"$f":"IF(L1599=\"\",\"\",VLOOKUP(L1599,referentes!$G$2:$N$15,2,FALSE))","v":""},null,null,"",null,null,""]
[null,{"$f":"IF(C1600=\"\",\"\",IF(COUNTIF($C$3:C1600, C1600)>1, \"\", C1600))","v":""},{"$f":"IF(G1600=\"\",\"\",IF(F1600=\"\",\"\",CONCATENATE(DIGITADOR!$M$1,G1600,E1600)))","v":""},"",{"$f":"IF(F1600=\"\",\"\",VLOOKUP(F1600,referentes!$Q$2:$T$300,3,FALSE))","v":""},null,null,null,null,null,{"$f":"IF(L1600=\"\",\"\",VLOOKUP(L1600,referentes!$G$2:$N$15,2,FALSE))","v":""},null,null,"",null,null,""]
[null,{"$f":"IF(C1601=\"\",\"\",IF(COUNTIF($C$3:C1601, C1601)>1, \"\", C1601))","v":""},{"$f":"IF(G1601=\"\",\"\",IF(F1601=\"\",\"\",CONCATENATE(DIGITADOR!$M$1,G1601,E1601)))","v":""},"",{"$f":"IF(F1601=\"\",\"\",VLOOKUP(F1601,referentes!$Q$2:$T$300,3,FALSE))","v":""},null,null,null,null,null,{"$f":"IF(L1601=\"\",\"\",VLOOKUP(L1601,referentes!$G$2:$N$15,2,FALSE))","v":""},null,null,"",null,null,""]
[null,{"$f":"IF(C1602=\"\",\"\",IF(COUNTIF($C$3:C1602, C1602)>1, \"\", C1602))","v":""},{"$f":"IF(G1602=\"\",\"\",IF(F1602=\"\",\"\",CONCATENATE(DIGITADOR!$M$1,G1602,E1602)))","v":""},"",{"$f":"IF(F1602=\"\",\"\",VLOOKUP(F1602,referentes!$Q$2:$T$300,3,FALSE))","v":""},null,null,null,null,null,{"$f":"IF(L1602=\"\",\"\",VLOOKUP(L1602,referentes!$G$2:$N$15,2,FALSE))","v":""},null,null,"",null,null,""]
[null,{"$f":"IF(C1603=\"\",\"\",IF(COUNTIF($C$3:C1603, C1603)>1, \"\", C1603))","v":""},{"$f":"IF(G1603=\"\",\"\",IF(F1603=\"\",\"\",CONCATENATE(DIGITADOR!$M$1,G1603,E1603)))","v":""},"",{"$f":"IF(F1603=\"\",\"\",VLOOKUP(F1603,referentes!$Q$2:$T$300,3,FALSE))","v":""},null,null,null,null,null,{"$f":"IF(L1603=\"\",\"\",VLOOKUP(L1603,referentes!$G$2:$N$15,2,FALSE))","v":""},null,null,"",null,null,""]
[null,{"$f":"IF(C1604=\"\",\"\",IF(COUNTIF($C$3:C1604, C1604)>1, \"\", C1604))","v":""},{"$f":"IF(G1604=\"\",\"\",IF(F1604=\"\",\"\",CONCATENATE(DIGITADOR!$M$1,G1604,E1604)))","v":""},{"$f":"IF(C1604=\"\",\"\",CONCATENATE(C1604,ROW()-2))","v":""},{"$f":"IF(F1604=\"\",\"\",VLOOKUP(F1604,referentes!$Q$2:$T$300,3,FALSE))","v":""},null,null,null,null,null,{"$f":"IF(L1604=\"\",\"\",VLOOKUP(L1604,referentes!$G$2:$N$15,2,FALSE))","v":""},null,null,{"$f":"IF(M1604=\"\",\"\",M1604/PI())","v":""},null,null,{"$f":"IF(N1604=\"\",\"\",((PI())*((N1604/100)^2))/4*10000/500)","v":""}]
[null,{"$f":"IF(C1605=\"\",\"\",IF(COUNTIF($C$3:C1605, C1605)>1, \"\", C1605))","v":""},{"$f":"IF(G1605=\"\",\"\",IF(F1605=\"\",\"\",CONCATENATE(DIGITADOR!$M$1,G1605,E1605)))","v":""},"",{"$f":"IF(F1605=\"\",\"\",VLOOKUP(F1605,referentes!$Q$2:$T$300,3,FALSE))","v":""},null,null,null,null,null,{"$f":"IF(L1605=\"\",\"\",VLOOKUP(L1605,referentes!$G$2:$N$15,2,FALSE))","v":""},null,null,"",null,null,""]
[null,{"$f":"IF(C1606=\"\",\"\",IF(COUNTIF($C$3:C1606, C1606)>1, \"\", C1606))","v":""},{"$f":"IF(G1606=\"\",\"\",IF(F1606=\"\",\"\",CONCATENATE(DIGITADOR!$M$1,G1606,E1606)))","v":""},"",{"$f":"IF(F1606=\"\",\"\",VLOOKUP(F1606,referentes!$Q$2:$T$300,3,FALSE))","v":""},null,null,null,null,null,{"$f":"IF(L1606=\"\",\"\",VLOOKUP(L1606,referentes!$G$2:$N$15,2,FALSE))","v":""},null,null,"",null,null,""]
[null,{"$f":"IF(C1607=\"\",\"\",IF(COUNTIF($C$3:C1607, C1607)>1, \"\", C1607))","v":""},{"$f":"IF(G1607=\"\",\"\",IF(F1607=\"\",\"\",CONCATENATE(DIGITADOR!$M$1,G1607,E1607)))","v":""},"",{"$f":"IF(F1607=\"\",\"\",VLOOKUP(F1607,referentes!$Q$2:$T$300,3,FALSE))","v":""},null,null,null,null,null,{"$f":"IF(L1607=\"\",\"\",VLOOKUP(L1607,referentes!$G$2:$N$15,2,FALSE))","v":""},null,null,"",null,null,""]
[null,{"$f":"IF(C1608=\"\",\"\",IF(COUNTIF($C$3:C1608, C1608)>1, \"\", C1608))","v":""},{"$f":"IF(G1608=\"\",\"\",IF(F1608=\"\",\"\",CONCATENATE(DIGITADOR!$M$1,G1608,E1608)))","v":""},"",{"$f":"IF(F1608=\"\",\"\",VLOOKUP(F1608,referentes!$Q$2:$T$300,3,FALSE))","v":""},null,null,null,null,null,{"$f":"IF(L1608=\"\",\"\",VLOOKUP(L1608,referentes!$G$2:$N$15,2,FALSE))","v":""},null,null,"",null,null,""]
[null,{"$f":"IF(C1609=\"\",\"\",IF(COUNTIF($C$3:C1609, C1609)>1, \"\", C1609))","v":""},{"$f":"IF(G1609=\"\",\"\",IF(F1609=\"\",\"\",CONCATENATE(DIGITADOR!$M$1,G1609,E1609)))","v":""},"",{"$f":"IF(F1609=\"\",\"\",VLOOKUP(F1609,referentes!$Q$2:$T$300,3,FALSE))","v":""},null,null,null,null,null,{"$f":"IF(L1609=\"\",\"\",VLOOKUP(L1609,referentes!$G$2:$N$15,2,FALSE))","v":""},null,null,"",null,null,""]
[null,{"$f":"IF(C1610=\"\",\"\",IF(COUNTIF($C$3:C1610, C1610)>1, \"\", C1610))","v":""},{"$f":"IF(G1610=\"\",\"\",IF(F1610=\"\",\"\",CONCATENATE(DIGITADOR!$M$1,G1610,E1610)))","v":""},"",{"$f":"IF(F1610=\"\",\"\",VLOOKUP(F1610,referentes!$Q$2:$T$300,3,FALSE))","v":""},null,null,null,null,null,{"$f":"IF(L1610=\"\",\"\",VLOOKUP(L1610,referentes!$G$2:$N$15,2,FALSE))","v":""},null,null,"",null,null,""]
[null,{"$f":"IF(C1611=\"\",\"\",IF(COUNTIF($C$3:C1611, C1611)>1, \"\", C1611))","v":""},{"$f":"IF(G1611=\"\",\"\",IF(F1611=\"\",\"\",CONCATENATE(DIGITADOR!$M$1,G1611,E1611)))","v":""},"",{"$f":"IF(F1611=\"\",\"\",VLOOKUP(F1611,referentes!$Q$2:$T$300,3,FALSE))","v":""},null,null,null,null,null,{"$f":"IF(L1611=\"\",\"\",VLOOKUP(L1611,referentes!$G$2:$N$15,2,FALSE))","v":""},null,null,"",null,null,""]
[null,{"$f":"IF(C1612=\"\",\"\",IF(COUNTIF($C$3:C1612, C1612)>1, \"\", C1612))","v":""},{"$f":"IF(G1612=\"\",\"\",IF(F1612=\"\",\"\",CONCATENATE(DIGITADOR!$M$1,G1612,E1612)))","v":""},"",{"$f":"IF(F1612=\"\",\"\",VLOOKUP(F1612,referentes!$Q$2:$T$300,3,FALSE))","v":""},null,null,null,null,null,{"$f":"IF(L1612=\"\",\"\",VLOOKUP(L1612,referentes!$G$2:$N$15,2,FALSE))","v":""},null,null,"",null,null,""]
[null,{"$f":"IF(C1613=\"\",\"\",IF(COUNTIF($C$3:C1613, C1613)>1, \"\", C1613))","v":""},{"$f":"IF(G1613=\"\",\"\",IF(F1613=\"\",\"\",CONCATENATE(DIGITADOR!$M$1,G1613,E1613)))","v":""},"",{"$f":"IF(F1613=\"\",\"\",VLOOKUP(F1613,referentes!$Q$2:$T$300,3,FALSE))","v":""},null,null,null,null,null,{"$f":"IF(L1613=\"\",\"\",VLOOKUP(L1613,referentes!$G$2:$N$15,2,FALSE))","v":""},null,null,"",null,null,""]
[null,{"$f":"IF(C1614=\"\",\"\",IF(COUNTIF($C$3:C1614, C1614)>1, \"\", C1614))","v":""},{"$f":"IF(G1614=\"\",\"\",IF(F1614=\"\",\"\",CONCATENATE(DIGITADOR!$M$1,G1614,E1614)))","v":""},"",{"$f":"IF(F1614=\"\",\"\",VLOOKUP(F1614,referentes!$Q$2:$T$300,3,FALSE))","v":""},null,null,null,null,null,{"$f":"IF(L1614=\"\",\"\",VLOOKUP(L1614,referentes!$G$2:$N$15,2,FALSE))","v":""},null,null,"",null,null,""]
[null,{"$f":"IF(C1615=\"\",\"\",IF(COUNTIF($C$3:C1615, C1615)>1, \"\", C1615))","v":""},{"$f":"IF(G1615=\"\",\"\",IF(F1615=\"\",\"\",CONCATENATE(DIGITADOR!$M$1,G1615,E1615)))","v":""},"",{"$f":"IF(F1615=\"\",\"\",VLOOKUP(F1615,referentes!$Q$2:$T$300,3,FALSE))","v":""},null,null,null,null,null,{"$f":"IF(L1615=\"\",\"\",VLOOKUP(L1615,referentes!$G$2:$N$15,2,FALSE))","v":""},null,null,"",null,null,""]
[null,{"$f":"IF(C1616=\"\",\"\",IF(COUNTIF($C$3:C1616, C1616)>1, \"\", C1616))","v":""},{"$f":"IF(G1616=\"\",\"\",IF(F1616=\"\",\"\",CONCATENATE(DIGITADOR!$M$1,G1616,E1616)))","v":""},"",{"$f":"IF(F1616=\"\",\"\",VLOOKUP(F1616,referentes!$Q$2:$T$300,3,FALSE))","v":""},null,null,null,null,null,{"$f":"IF(L1616=\"\",\"\",VLOOKUP(L1616,referentes!$G$2:$N$15,2,FALSE))","v":""},null,null,"",null,null,""]
[null,{"$f":"IF(C1617=\"\",\"\",IF(COUNTIF($C$3:C1617, C1617)>1, \"\", C1617))","v":""},{"$f":"IF(G1617=\"\",\"\",IF(F1617=\"\",\"\",CONCATENATE(DIGITADOR!$M$1,G1617,E1617)))","v":""},"",{"$f":"IF(F1617=\"\",\"\",VLOOKUP(F1617,referentes!$Q$2:$T$300,3,FALSE))","v":""},null,null,null,null,null,{"$f":"IF(L1617=\"\",\"\",VLOOKUP(L1617,referentes!$G$2:$N$15,2,FALSE))","v":""},null,null,"",null,null,""]
[null,{"$f":"IF(C1618=\"\",\"\",IF(COUNTIF($C$3:C1618, C1618)>1, \"\", C1618))","v":""},{"$f":"IF(G1618=\"\",\"\",IF(F1618=\"\",\"\",CONCATENATE(DIGITADOR!$M$1,G1618,E1618)))","v":""},"",{"$f":"IF(F1618=\"\",\"\",VLOOKUP(F1618,referentes!$Q$2:$T$300,3,FALSE))","v":""},null,null,null,null,null,{"$f":"IF(L1618=\"\",\"\",VLOOKUP(L1618,referentes!$G$2:$N$15,2,FALSE))","v":""},null,null,"",null,null,""]
[null,{"$f":"IF(C1619=\"\",\"\",IF(COUNTIF($C$3:C1619, C1619)>1, \"\", C1619))","v":""},{"$f":"IF(G1619=\"\",\"\",IF(F1619=\"\",\"\",CONCATENATE(DIGITADOR!$M$1,G1619,E1619)))","v":""},"",{"$f":"IF(F1619=\"\",\"\",VLOOKUP(F1619,referentes!$Q$2:$T$300,3,FALSE))","v":""},null,null,null,null,null,{"$f":"IF(L1619=\"\",\"\",VLOOKUP(L1619,referentes!$G$2:$N$15,2,FALSE))","v":""},null,null,"",null,null,""]
[null,{"$f":"IF(C1620=\"\",\"\",IF(COUNTIF($C$3:C1620, C1620)>1, \"\", C1620))","v":""},{"$f":"IF(G1620=\"\",\"\",IF(F1620=\"\",\"\",CONCATENATE(DIGITADOR!$M$1,G1620,E1620)))","v":""},"",{"$f":"IF(F1620=\"\",\"\",VLOOKUP(F1620,referentes!$Q$2:$T$300,3,FALSE))","v":""},null,null,null,null,null,{"$f":"IF(L1620=\"\",\"\",VLOOKUP(L1620,referentes!$G$2:$N$15,2,FALSE))","v":""},null,null,"",null,null,""]
[null,{"$f":"IF(C1621=\"\",\"\",IF(COUNTIF($C$3:C1621, C1621)>1, \"\", C1621))","v":""},{"$f":"IF(G1621=\"\",\"\",IF(F1621=\"\",\"\",CONCATENATE(DIGITADOR!$M$1,G1621,E1621)))","v":""},"",{"$f":"IF(F1621=\"\",\"\",VLOOKUP(F1621,referentes!$Q$2:$T$300,3,FALSE))","v":""},null,null,null,null,null,{"$f":"IF(L1621=\"\",\"\",VLOOKUP(L1621,referentes!$G$2:$N$15,2,FALSE))","v":""},null,null,"",null,null,""]
[null,{"$f":"IF(C1622=\"\",\"\",IF(COUNTIF($C$3:C1622, C1622)>1, \"\", C1622))","v":""},{"$f":"IF(G1622=\"\",\"\",IF(F1622=\"\",\"\",CONCATENATE(DIGITADOR!$M$1,G1622,E1622)))","v":""},"",{"$f":"IF(F1622=\"\",\"\",VLOOKUP(F1622,referentes!$Q$2:$T$300,3,FALSE))","v":""},null,null,null,null,null,{"$f":"IF(L1622=\"\",\"\",VLOOKUP(L1622,referentes!$G$2:$N$15,2,FALSE))","v":""},null,null,"",null,null,""]
[null,{"$f":"IF(C1623=\"\",\"\",IF(COUNTIF($C$3:C1623, C1623)>1, \"\", C1623))","v":""},{"$f":"IF(G1623=\"\",\"\",IF(F1623=\"\",\"\",CONCATENATE(DIGITADOR!$M$1,G1623,E1623)))","v":""},"",{"$f":"IF(F1623=\"\",\"\",VLOOKUP(F1623,referentes!$Q$2:$T$300,3,FALSE))","v":""},null,null,null,null,null,{"$f":"IF(L1623=\"\",\"\",VLOOKUP(L1623,referentes!$G$2:$N$15,2,FALSE))","v":""},null,null,"",null,null,""]
[null,{"$f":"IF(C1624=\"\",\"\",IF(COUNTIF($C$3:C1624, C1624)>1, \"\", C1624))","v":""},{"$f":"IF(G1624=\"\",\"\",IF(F1624=\"\",\"\",CONCATENATE(DIGITADOR!$M$1,G1624,E1624)))","v":""},"",{"$f":"IF(F1624=\"\",\"\",VLOOKUP(F1624,referentes!$Q$2:$T$300,3,FALSE))","v":""},null,null,null,null,null,{"$f":"IF(L1624=\"\",\"\",VLOOKUP(L1624,referentes!$G$2:$N$15,2,FALSE))","v":""},null,null,"",null,null,""]
[null,{"$f":"IF(C1625=\"\",\"\",IF(COUNTIF($C$3:C1625, C1625)>1, \"\", C1625))","v":""},{"$f":"IF(G1625=\"\",\"\",IF(F1625=\"\",\"\",CONCATENATE(DIGITADOR!$M$1,G1625,E1625)))","v":""},"",{"$f":"IF(F1625=\"\",\"\",VLOOKUP(F1625,referentes!$Q$2:$T$300,3,FALSE))","v":""},null,null,null,null,null,{"$f":"IF(L1625=\"\",\"\",VLOOKUP(L1625,referentes!$G$2:$N$15,2,FALSE))","v":""},null,null,"",null,null,""]
[null,{"$f":"IF(C1626=\"\",\"\",IF(COUNTIF($C$3:C1626, C1626)>1, \"\", C1626))","v":""},{"$f":"IF(G1626=\"\",\"\",IF(F1626=\"\",\"\",CONCATENATE(DIGITADOR!$M$1,G1626,E1626)))","v":""},"",{"$f":"IF(F1626=\"\",\"\",VLOOKUP(F1626,referentes!$Q$2:$T$300,3,FALSE))","v":""},null,null,null,null,null,{"$f":"IF(L1626=\"\",\"\",VLOOKUP(L1626,referentes!$G$2:$N$15,2,FALSE))","v":""},null,null,"",null,null,""]
[null,{"$f":"IF(C1627=\"\",\"\",IF(COUNTIF($C$3:C1627, C1627)>1, \"\", C1627))","v":""},{"$f":"IF(G1627=\"\",\"\",IF(F1627=\"\",\"\",CONCATENATE(DIGITADOR!$M$1,G1627,E1627)))","v":""},"",{"$f":"IF(F1627=\"\",\"\",VLOOKUP(F1627,referentes!$Q$2:$T$300,3,FALSE))","v":""},null,null,null,null,null,{"$f":"IF(L1627=\"\",\"\",VLOOKUP(L1627,referentes!$G$2:$N$15,2,FALSE))","v":""},null,null,"",null,null,""]
[null,{"$f":"IF(C1628=\"\",\"\",IF(COUNTIF($C$3:C1628, C1628)>1, \"\", C1628))","v":""},{"$f":"IF(G1628=\"\",\"\",IF(F1628=\"\",\"\",CONCATENATE(DIGITADOR!$M$1,G1628,E1628)))","v":""},"",{"$f":"IF(F1628=\"\",\"\",VLOOKUP(F1628,referentes!$Q$2:$T$300,3,FALSE))","v":""},null,null,null,null,null,{"$f":"IF(L1628=\"\",\"\",VLOOKUP(L1628,referentes!$G$2:$N$15,2,FALSE))","v":""},null,null,"",null,null,""]
[null,{"$f":"IF(C1629=\"\",\"\",IF(COUNTIF($C$3:C1629, C1629)>1, \"\", C1629))","v":""},{"$f":"IF(G1629=\"\",\"\",IF(F1629=\"\",\"\",CONCATENATE(DIGITADOR!$M$1,G1629,E1629)))","v":""},"",{"$f":"IF(F1629=\"\",\"\",VLOOKUP(F1629,referentes!$Q$2:$T$300,3,FALSE))","v":""},null,null,null,null,null,{"$f":"IF(L1629=\"\",\"\",VLOOKUP(L1629,referentes!$G$2:$N$15,2,FALSE))","v":""},null,null,"",null,null,""]
[null,{"$f":"IF(C1630=\"\",\"\",IF(COUNTIF($C$3:C1630, C1630)>1, \"\", C1630))","v":""},{"$f":"IF(G1630=\"\",\"\",IF(F1630=\"\",\"\",CONCATENATE(DIGITADOR!$M$1,G1630,E1630)))","v":""},"",{"$f":"IF(F1630=\"\",\"\",VLOOKUP(F1630,referentes!$Q$2:$T$300,3,FALSE))","v":""},null,null,null,null,null,{"$f":"IF(L1630=\"\",\"\",VLOOKUP(L1630,referentes!$G$2:$N$15,2,FALSE))","v":""},null,null,"",null,null,""]
[null,{"$f":"IF(C1631=\"\",\"\",IF(COUNTIF($C$3:C1631, C1631)>1, \"\", C1631))","v":""},{"$f":"IF(G1631=\"\",\"\",IF(F1631=\"\",\"\",CONCATENATE(DIGITADOR!$M$1,G1631,E1631)))","v":""},"",{"$f":"IF(F1631=\"\",\"\",VLOOKUP(F1631,referentes!$Q$2:$T$300,3,FALSE))","v":""},null,null,null,null,null,{"$f":"IF(L1631=\"\",\"\",VLOOKUP(L1631,referentes!$G$2:$N$15,2,FALSE))","v":""},null,null,"",null,null,""]
[null,{"$f":"IF(C1632=\"\",\"\",IF(COUNTIF($C$3:C1632, C1632)>1, \"\", C1632))","v":""},{"$f":"IF(G1632=\"\",\"\",IF(F1632=\"\",\"\",CONCATENATE(DIGITADOR!$M$1,G1632,E1632)))","v":""},"",{"$f":"IF(F1632=\"\",\"\",VLOOKUP(F1632,referentes!$Q$2:$T$300,3,FALSE))","v":""},null,null,null,null,null,{"$f":"IF(L1632=\"\",\"\",VLOOKUP(L1632,referentes!$G$2:$N$15,2,FALSE))","v":""},null,null,"",null,null,""]
[null,{"$f":"IF(C1633=\"\",\"\",IF(COUNTIF($C$3:C1633, C1633)>1, \"\", C1633))","v":""},{"$f":"IF(G1633=\"\",\"\",IF(F1633=\"\",\"\",CONCATENATE(DIGITADOR!$M$1,G1633,E1633)))","v":""},"",{"$f":"IF(F1633=\"\",\"\",VLOOKUP(F1633,referentes!$Q$2:$T$300,3,FALSE))","v":""},null,null,null,null,null,{"$f":"IF(L1633=\"\",\"\",VLOOKUP(L1633,referentes!$G$2:$N$15,2,FALSE))","v":""},null,null,"",null,null,""]
[null,{"$f":"IF(C1634=\"\",\"\",IF(COUNTIF($C$3:C1634, C1634)>1, \"\", C1634))","v":""},{"$f":"IF(G1634=\"\",\"\",IF(F1634=\"\",\"\",CONCATENATE(DIGITADOR!$M$1,G1634,E1634)))","v":""},"",{"$f":"IF(F1634=\"\",\"\",VLOOKUP(F1634,referentes!$Q$2:$T$300,3,FALSE))","v":""},null,null,null,null,null,{"$f":"IF(L1634=\"\",\"\",VLOOKUP(L1634,referentes!$G$2:$N$15,2,FALSE))","v":""},null,null,"",null,null,""]
[null,{"$f":"IF(C1635=\"\",\"\",IF(COUNTIF($C$3:C1635, C1635)>1, \"\", C1635))","v":""},{"$f":"IF(G1635=\"\",\"\",IF(F1635=\"\",\"\",CONCATENATE(DIGITADOR!$M$1,G1635,E1635)))","v":""},"",{"$f":"IF(F1635=\"\",\"\",VLOOKUP(F1635,referentes!$Q$2:$T$300,3,FALSE))","v":""},null,null,null,null,null,{"$f":"IF(L1635=\"\",\"\",VLOOKUP(L1635,referentes!$G$2:$N$15,2,FALSE))","v":""},null,null,"",null,null,""]
[null,{"$f":"IF(C1636=\"\",\"\",IF(COUNTIF($C$3:C1636, C1636)>1, \"\", C1636))","v":""},{"$f":"IF(G1636=\"\",\"\",IF(F1636=\"\",\"\",CONCATENATE(DIGITADOR!$M$1,G1636,E1636)))","v":""},"",{"$f":"IF(F1636=\"\",\"\",VLOOKUP(F1636,referentes!$Q$2:$T$300,3,FALSE))","v":""},null,null,null,null,null,{"$f":"IF(L1636=\"\",\"\",VLOOKUP(L1636,referentes!$G$2:$N$15,2,FALSE))","v":""},null,null,"",null,null,""]
[null,{"$f":"IF(C1637=\"\",\"\",IF(COUNTIF($C$3:C1637, C1637)>1, \"\", C1637))","v":""},{"$f":"IF(G1637=\"\",\"\",IF(F1637=\"\",\"\",CONCATENATE(DIGITADOR!$M$1,G1637,E1637)))","v":""},"",{"$f":"IF(F1637=\"\",\"\",VLOOKUP(F1637,referentes!$Q$2:$T$300,3,FALSE))","v":""},null,null,null,null,null,{"$f":"IF(L1637=\"\",\"\",VLOOKUP(L1637,referentes!$G$2:$N$15,2,FALSE))","v":""},null,null,"",null,null,""]
[null,{"$f":"IF(C1638=\"\",\"\",IF(COUNTIF($C$3:C1638, C1638)>1, \"\", C1638))","v":""},{"$f":"IF(G1638=\"\",\"\",IF(F1638=\"\",\"\",CONCATENATE(DIGITADOR!$M$1,G1638,E1638)))","v":""},"",{"$f":"IF(F1638=\"\",\"\",VLOOKUP(F1638,referentes!$Q$2:$T$300,3,FALSE))","v":""},null,null,null,null,null,{"$f":"IF(L1638=\"\",\"\",VLOOKUP(L1638,referentes!$G$2:$N$15,2,FALSE))","v":""},null,null,"",null,null,""]
[null,{"$f":"IF(C1639=\"\",\"\",IF(COUNTIF($C$3:C1639, C1639)>1, \"\", C1639))","v":""},{"$f":"IF(G1639=\"\",\"\",IF(F1639=\"\",\"\",CONCATENATE(DIGITADOR!$M$1,G1639,E1639)))","v":""},"",{"$f":"IF(F1639=\"\",\"\",VLOOKUP(F1639,referentes!$Q$2:$T$300,3,FALSE))","v":""},null,null,null,null,null,{"$f":"IF(L1639=\"\",\"\",VLOOKUP(L1639,referentes!$G$2:$N$15,2,FALSE))","v":""},null,null,"",null,null,""]
[null,{"$f":"IF(C1640=\"\",\"\",IF(COUNTIF($C$3:C1640, C1640)>1, \"\", C1640))","v":""},{"$f":"IF(G1640=\"\",\"\",IF(F1640=\"\",\"\",CONCATENATE(DIGITADOR!$M$1,G1640,E1640)))","v":""},"",{"$f":"IF(F1640=\"\",\"\",VLOOKUP(F1640,referentes!$Q$2:$T$300,3,FALSE))","v":""},null,null,null,null,null,{"$f":"IF(L1640=\"\",\"\",VLOOKUP(L1640,referentes!$G$2:$N$15,2,FALSE))","v":""},null,null,"",null,null,""]
[null,{"$f":"IF(C1641=\"\",\"\",IF(COUNTIF($C$3:C1641, C1641)>1, \"\", C1641))","v":""},{"$f":"IF(G1641=\"\",\"\",IF(F1641=\"\",\"\",CONCATENATE(DIGITADOR!$M$1,G1641,E1641)))","v":""},"",{"$f":"IF(F1641=\"\",\"\",VLOOKUP(F1641,referentes!$Q$2:$T$300,3,FALSE))","v":""},null,null,null,null,null,{"$f":"IF(L1641=\"\",\"\",VLOOKUP(L1641,referentes!$G$2:$N$15,2,FALSE))","v":""},null,null,"",null,null,""]
[null,{"$f":"IF(C1642=\"\",\"\",IF(COUNTIF($C$3:C1642, C1642)>1, \"\", C1642))","v":""},{"$f":"IF(G1642=\"\",\"\",IF(F1642=\"\",\"\",CONCATENATE(DIGITADOR!$M$1,G1642,E1642)))","v":""},"",{"$f":"IF(F1642=\"\",\"\",VLOOKUP(F1642,referentes!$Q$2:$T$300,3,FALSE))","v":""},null,null,null,null,null,{"$f":"IF(L1642=\"\",\"\",VLOOKUP(L1642,referentes!$G$2:$N$15,2,FALSE))","v":""},null,null,"",null,null,""]
[null,{"$f":"IF(C1643=\"\",\"\",IF(COUNTIF($C$3:C1643, C1643)>1, \"\", C1643))","v":""},{"$f":"IF(G1643=\"\",\"\",IF(F1643=\"\",\"\",CONCATENATE(DIGITADOR!$M$1,G1643,E1643)))","v":""},"",{"$f":"IF(F1643=\"\",\"\",VLOOKUP(F1643,referentes!$Q$2:$T$300,3,FALSE))","v":""},null,null,null,null,null,{"$f":"IF(L1643=\"\",\"\",VLOOKUP(L1643,referentes!$G$2:$N$15,2,FALSE))","v":""},null,null,"",null,null,""]
[null,{"$f":"IF(C1644=\"\",\"\",IF(COUNTIF($C$3:C1644, C1644)>1, \"\", C1644))","v":""},{"$f":"IF(G1644=\"\",\"\",IF(F1644=\"\",\"\",CONCATENATE(DIGITADOR!$M$1,G1644,E1644)))","v":""},"",{"$f":"IF(F1644=\"\",\"\",VLOOKUP(F1644,referentes!$Q$2:$T$300,3,FALSE))","v":""},null,null,null,null,null,{"$f":"IF(L1644=\"\",\"\",VLOOKUP(L1644,referentes!$G$2:$N$15,2,FALSE))","v":""},null,null,"",null,null,""]
[null,{"$f":"IF(C1645=\"\",\"\",IF(COUNTIF($C$3:C1645, C1645)>1, \"\", C1645))","v":""},{"$f":"IF(G1645=\"\",\"\",IF(F1645=\"\",\"\",CONCATENATE(DIGITADOR!$M$1,G1645,E1645)))","v":""},"",{"$f":"IF(F1645=\"\",\"\",VLOOKUP(F1645,referentes!$Q$2:$T$300,3,FALSE))","v":""},null,null,null,null,null,{"$f":"IF(L1645=\"\",\"\",VLOOKUP(L1645,referentes!$G$2:$N$15,2,FALSE))","v":""},null,null,"",null,null,""]
[null,{"$f":"IF(C1646=\"\",\"\",IF(COUNTIF($C$3:C1646, C1646)>1, \"\", C1646))","v":""},{"$f":"IF(G1646=\"\",\"\",IF(F1646=\"\",\"\",CONCATENATE(DIGITADOR!$M$1,G1646,E1646)))","v":""},"",{"$f":"IF(F1646=\"\",\"\",VLOOKUP(F1646,referentes!$Q$2:$T$300,3,FALSE))","v":""},null,null,null,null,null,{"$f":"IF(L1646=\"\",\"\",VLOOKUP(L1646,referentes!$G$2:$N$15,2,FALSE))","v":""},null,null,"",null,null,""]
[null,{"$f":"IF(C1647=\"\",\"\",IF(COUNTIF($C$3:C1647, C1647)>1, \"\", C1647))","v":""},{"$f":"IF(G1647=\"\",\"\",IF(F1647=\"\",\"\",CONCATENATE(DIGITADOR!$M$1,G1647,E1647)))","v":""},"",{"$f":"IF(F1647=\"\",\"\",VLOOKUP(F1647,referentes!$Q$2:$T$300,3,FALSE))","v":""},null,null,null,null,null,{"$f":"IF(L1647=\"\",\"\",VLOOKUP(L1647,referentes!$G$2:$N$15,2,FALSE))","v":""},null,null,"",null,null,""]
[null,{"$f":"IF(C1648=\"\",\"\",IF(COUNTIF($C$3:C1648, C1648)>1, \"\", C1648))","v":""},{"$f":"IF(G1648=\"\",\"\",IF(F1648=\"\",\"\",CONCATENATE(DIGITADOR!$M$1,G1648,E1648)))","v":""},"",{"$f":"IF(F1648=\"\",\"\",VLOOKUP(F1648,referentes!$Q$2:$T$300,3,FALSE))","v":""},null,null,null,null,null,{"$f":"IF(L1648=\"\",\"\",VLOOKUP(L1648,referentes!$G$2:$N$15,2,FALSE))","v":""},null,null,"",null,null,""]
[null,{"$f":"IF(C1649=\"\",\"\",IF(COUNTIF($C$3:C1649, C1649)>1, \"\", C1649))","v":""},{"$f":"IF(G1649=\"\",\"\",IF(F1649=\"\",\"\",CONCATENATE(DIGITADOR!$M$1,G1649,E1649)))","v":""},"",{"$f":"IF(F1649=\"\",\"\",VLOOKUP(F1649,referentes!$Q$2:$T$300,3,FALSE))","v":""},null,null,null,null,null,{"$f":"IF(L1649=\"\",\"\",VLOOKUP(L1649,referentes!$G$2:$N$15,2,FALSE))","v":""},null,null,"",null,null,""]
[null,{"$f":"IF(C1650=\"\",\"\",IF(COUNTIF($C$3:C1650, C1650)>1, \"\", C1650))","v":""},{"$f":"IF(G1650=\"\",\"\",IF(F1650=\"\",\"\",CONCATENATE(DIGITADOR!$M$1,G1650,E1650)))","v":""},"",{"$f":"IF(F1650=\"\",\"\",VLOOKUP(F1650,referentes!$Q$2:$T$300,3,FALSE))","v":""},null,null,null,null,null,{"$f":"IF(L1650=\"\",\"\",VLOOKUP(L1650,referentes!$G$2:$N$15,2,FALSE))","v":""},null,null,"",null,null,""]
[null,{"$f":"IF(C1651=\"\",\"\",IF(COUNTIF($C$3:C1651, C1651)>1, \"\", C1651))","v":""},{"$f":"IF(G1651=\"\",\"\",IF(F1651=\"\",\"\",CONCATENATE(DIGITADOR!$M$1,G1651,E1651)))","v":""},"",{"$f":"IF(F1651=\"\",\"\",VLOOKUP(F1651,referentes!$Q$2:$T$300,3,FALSE))","v":""},null,null,null,null,null,{"$f":"IF(L1651=\"\",\"\",VLOOKUP(L1651,referentes!$G$2:$N$15,2,FALSE))","v":""},null,null,"",null,null,""]
[null,{"$f":"IF(C1652=\"\",\"\",IF(COUNTIF($C$3:C1652, C1652)>1, \"\", C1652))","v":""},{"$f":"IF(G1652=\"\",\"\",IF(F1652=\"\",\"\",CONCATENATE(DIGITADOR!$M$1,G1652,E1652)))","v":""},"",{"$f":"IF(F1652=\"\",\"\",VLOOKUP(F1652,referentes!$Q$2:$T$300,3,FALSE))","v":""},null,null,null,null,null,{"$f":"IF(L1652=\"\",\"\",VLOOKUP(L1652,referentes!$G$2:$N$15,2,FALSE))","v":""},null,null,"",null,null,""]
[null,{"$f":"IF(C1653=\"\",\"\",IF(COUNTIF($C$3:C1653, C1653)>1, \"\", C1653))","v":""},{"$f":"IF(G1653=\"\",\"\",IF(F1653=\"\",\"\",CONCATENATE(DIGITADOR!$M$1,G1653,E1653)))","v":""},"",{"$f":"IF(F1653=\"\",\"\",VLOOKUP(F1653,referentes!$Q$2:$T$300,3,FALSE))","v":""},null,null,null,null,null,{"$f":"IF(L1653=\"\",\"\",VLOOKUP(L1653,referentes!$G$2:$N$15,2,FALSE))","v":""},null,null,"",null,null,""]
[null,{"$f":"IF(C1654=\"\",\"\",IF(COUNTIF($C$3:C1654, C1654)>1, \"\", C1654))","v":""},{"$f":"IF(G1654=\"\",\"\",IF(F1654=\"\",\"\",CONCATENATE(DIGITADOR!$M$1,G1654,E1654)))","v":""},"",{"$f":"IF(F1654=\"\",\"\",VLOOKUP(F1654,referentes!$Q$2:$T$300,3,FALSE))","v":""},null,null,null,null,null,{"$f":"IF(L1654=\"\",\"\",VLOOKUP(L1654,referentes!$G$2:$N$15,2,FALSE))","v":""},null,null,"",null,null,""]
[null,{"$f":"IF(C1655=\"\",\"\",IF(COUNTIF($C$3:C1655, C1655)>1, \"\", C1655))","v":""},{"$f":"IF(G1655=\"\",\"\",IF(F1655=\"\",\"\",CONCATENATE(DIGITADOR!$M$1,G1655,E1655)))","v":""},"",{"$f":"IF(F1655=\"\",\"\",VLOOKUP(F1655,referentes!$Q$2:$T$300,3,FALSE))","v":""},null,null,null,null,null,{"$f":"IF(L1655=\"\",\"\",VLOOKUP(L1655,referentes!$G$2:$N$15,2,FALSE))","v":""},null,null,"",null,null,""]
[null,{"$f":"IF(C1656=\"\",\"\",IF(COUNTIF($C$3:C1656, C1656)>1, \"\", C1656))","v":""},{"$f":"IF(G1656=\"\",\"\",IF(F1656=\"\",\"\",CONCATENATE(DIGITADOR!$M$1,G1656,E1656)))","v":""},"",{"$f":"IF(F1656=\"\",\"\",VLOOKUP(F1656,referentes!$Q$2:$T$300,3,FALSE))","v":""},null,null,null,null,null,{"$f":"IF(L1656=\"\",\"\",VLOOKUP(L1656,referentes!$G$2:$N$15,2,FALSE))","v":""},null,null,"",null,null,""]
[null,{"$f":"IF(C1657=\"\",\"\",IF(COUNTIF($C$3:C1657, C1657)>1, \"\", C1657))","v":""},{"$f":"IF(G1657=\"\",\"\",IF(F1657=\"\",\"\",CONCATENATE(DIGITADOR!$M$1,G1657,E1657)))","v":""},"",{"$f":"IF(F1657=\"\",\"\",VLOOKUP(F1657,referentes!$Q$2:$T$300,3,FALSE))","v":""},null,null,null,null,null,{"$f":"IF(L1657=\"\",\"\",VLOOKUP(L1657,referentes!$G$2:$N$15,2,FALSE))","v":""},null,null,"",null,null,""]
[null,{"$f":"IF(C1658=\"\",\"\",IF(COUNTIF($C$3:C1658, C1658)>1, \"\", C1658))","v":""},{"$f":"IF(G1658=\"\",\"\",IF(F1658=\"\",\"\",CONCATENATE(DIGITADOR!$M$1,G1658,E1658)))","v":""},"",{"$f":"IF(F1658=\"\",\"\",VLOOKUP(F1658,referentes!$Q$2:$T$300,3,FALSE))","v":""},null,null,null,null,null,{"$f":"IF(L1658=\"\",\"\",VLOOKUP(L1658,referentes!$G$2:$N$15,2,FALSE))","v":""},null,null,"",null,null,""]
[null,{"$f":"IF(C1659=\"\",\"\",IF(COUNTIF($C$3:C1659, C1659)>1, \"\", C1659))","v":""},{"$f":"IF(G1659=\"\",\"\",IF(F1659=\"\",\"\",CONCATENATE(DIGITADOR!$M$1,G1659,E1659)))","v":""},"",{"$f":"IF(F1659=\"\",\"\",VLOOKUP(F1659,referentes!$Q$2:$T$300,3,FALSE))","v":""},null,null,null,null,null,{"$f":"IF(L1659=\"\",\"\",VLOOKUP(L1659,referentes!$G$2:$N$15,2,FALSE))","v":""},null,null,"",null,null,""]
[null,{"$f":"IF(C1660=\"\",\"\",IF(COUNTIF($C$3:C1660, C1660)>1, \"\", C1660))","v":""},{"$f":"IF(G1660=\"\",\"\",IF(F1660=\"\",\"\",CONCATENATE(DIGITADOR!$M$1,G1660,E1660)))","v":""},"",{"$f":"IF(F1660=\"\",\"\",VLOOKUP(F1660,referentes!$Q$2:$T$300,3,FALSE))","v":""},null,null,null,null,null,{"$f":"IF(L1660=\"\",\"\",VLOOKUP(L1660,referentes!$G$2:$N$15,2,FALSE))","v":""},null,null,"",null,null,""]
[null,{"$f":"IF(C1661=\"\",\"\",IF(COUNTIF($C$3:C1661, C1661)>1, \"\", C1661))","v":""},{"$f":"IF(G1661=\"\",\"\",IF(F1661=\"\",\"\",CONCATENATE(DIGITADOR!$M$1,G1661,E1661)))","v":""},"",{"$f":"IF(F1661=\"\",\"\",VLOOKUP(F1661,referentes!$Q$2:$T$300,3,FALSE))","v":""},null,null,null,null,null,{"$f":"IF(L1661=\"\",\"\",VLOOKUP(L1661,referentes!$G$2:$N$15,2,FALSE))","v":""},null,null,"",null,null,""]
[null,{"$f":"IF(C1662=\"\",\"\",IF(COUNTIF($C$3:C1662, C1662)>1, \"\", C1662))","v":""},{"$f":"IF(G1662=\"\",\"\",IF(F1662=\"\",\"\",CONCATENATE(DIGITADOR!$M$1,G1662,E1662)))","v":""},"",{"$f":"IF(F1662=\"\",\"\",VLOOKUP(F1662,referentes!$Q$2:$T$300,3,FALSE))","v":""},null,null,null,null,null,{"$f":"IF(L1662=\"\",\"\",VLOOKUP(L1662,referentes!$G$2:$N$15,2,FALSE))","v":""},null,null,"",null,null,""]
[null,{"$f":"IF(C1663=\"\",\"\",IF(COUNTIF($C$3:C1663, C1663)>1, \"\", C1663))","v":""},{"$f":"IF(G1663=\"\",\"\",IF(F1663=\"\",\"\",CONCATENATE(DIGITADOR!$M$1,G1663,E1663)))","v":""},"",{"$f":"IF(F1663=\"\",\"\",VLOOKUP(F1663,referentes!$Q$2:$T$300,3,FALSE))","v":""},null,null,null,null,null,{"$f":"IF(L1663=\"\",\"\",VLOOKUP(L1663,referentes!$G$2:$N$15,2,FALSE))","v":""},null,null,"",null,null,""]
[null,{"$f":"IF(C1664=\"\",\"\",IF(COUNTIF($C$3:C1664, C1664)>1, \"\", C1664))","v":""},{"$f":"IF(G1664=\"\",\"\",IF(F1664=\"\",\"\",CONCATENATE(DIGITADOR!$M$1,G1664,E1664)))","v":""},"",{"$f":"IF(F1664=\"\",\"\",VLOOKUP(F1664,referentes!$Q$2:$T$300,3,FALSE))","v":""},null,null,null,null,null,{"$f":"IF(L1664=\"\",\"\",VLOOKUP(L1664,referentes!$G$2:$N$15,2,FALSE))","v":""},null,null,"",null,null,""]
[null,{"$f":"IF(C1665=\"\",\"\",IF(COUNTIF($C$3:C1665, C1665)>1, \"\", C1665))","v":""},{"$f":"IF(G1665=\"\",\"\",IF(F1665=\"\",\"\",CONCATENATE(DIGITADOR!$M$1,G1665,E1665)))","v":""},"",{"$f":"IF(F1665=\"\",\"\",VLOOKUP(F1665,referentes!$Q$2:$T$300,3,FALSE))","v":""},null,null,null,null,null,{"$f":"IF(L1665=\"\",\"\",VLOOKUP(L1665,referentes!$G$2:$N$15,2,FALSE))","v":""},null,null,"",null,null,""]
[null,{"$f":"IF(C1666=\"\",\"\",IF(COUNTIF($C$3:C1666, C1666)>1, \"\", C1666))","v":""},{"$f":"IF(G1666=\"\",\"\",IF(F1666=\"\",\"\",CONCATENATE(DIGITADOR!$M$1,G1666,E1666)))","v":""},"",{"$f":"IF(F1666=\"\",\"\",VLOOKUP(F1666,referentes!$Q$2:$T$300,3,FALSE))","v":""},null,null,null,null,null,{"$f":"IF(L1666=\"\",\"\",VLOOKUP(L1666,referentes!$G$2:$N$15,2,FALSE))","v":""},null,null,"",null,null,""]
[null,{"$f":"IF(C1667=\"\",\"\",IF(COUNTIF($C$3:C1667, C1667)>1, \"\", C1667))","v":""},{"$f":"IF(G1667=\"\",\"\",IF(F1667=\"\",\"\",CONCATENATE(DIGITADOR!$M$1,G1667,E1667)))","v":""},"",{"$f":"IF(F1667=\"\",\"\",VLOOKUP(F1667,referentes!$Q$2:$T$300,3,FALSE))","v":""},null,null,null,null,null,{"$f":"IF(L1667=\"\",\"\",VLOOKUP(L1667,referentes!$G$2:$N$15,2,FALSE))","v":""},null,null,"",null,null,""]
[null,{"$f":"IF(C1668=\"\",\"\",IF(COUNTIF($C$3:C1668, C1668)>1, \"\", C1668))","v":""},{"$f":"IF(G1668=\"\",\"\",IF(F1668=\"\",\"\",CONCATENATE(DIGITADOR!$M$1,G1668,E1668)))","v":""},{"$f":"IF(C1668=\"\",\"\",CONCATENATE(C1668,ROW()-2))","v":""},{"$f":"IF(F1668=\"\",\"\",VLOOKUP(F1668,referentes!$Q$2:$T$300,3,FALSE))","v":""},null,null,null,null,null,{"$f":"IF(L1668=\"\",\"\",VLOOKUP(L1668,referentes!$G$2:$N$15,2,FALSE))","v":""},null,null,{"$f":"IF(M1668=\"\",\"\",M1668/PI())","v":""},null,null,{"$f":"IF(N1668=\"\",\"\",((PI())*((N1668/100)^2))/4*10000/500)","v":""}]
[null,{"$f":"IF(C1669=\"\",\"\",IF(COUNTIF($C$3:C1669, C1669)>1, \"\", C1669))","v":""},{"$f":"IF(G1669=\"\",\"\",IF(F1669=\"\",\"\",CONCATENATE(DIGITADOR!$M$1,G1669,E1669)))","v":""},"",{"$f":"IF(F1669=\"\",\"\",VLOOKUP(F1669,referentes!$Q$2:$T$300,3,FALSE))","v":""},null,null,null,null,null,{"$f":"IF(L1669=\"\",\"\",VLOOKUP(L1669,referentes!$G$2:$N$15,2,FALSE))","v":""},null,null,"",null,null,""]
[null,{"$f":"IF(C1670=\"\",\"\",IF(COUNTIF($C$3:C1670, C1670)>1, \"\", C1670))","v":""},{"$f":"IF(G1670=\"\",\"\",IF(F1670=\"\",\"\",CONCATENATE(DIGITADOR!$M$1,G1670,E1670)))","v":""},"",{"$f":"IF(F1670=\"\",\"\",VLOOKUP(F1670,referentes!$Q$2:$T$300,3,FALSE))","v":""},null,null,null,null,null,{"$f":"IF(L1670=\"\",\"\",VLOOKUP(L1670,referentes!$G$2:$N$15,2,FALSE))","v":""},null,null,"",null,null,""]
[null,{"$f":"IF(C1671=\"\",\"\",IF(COUNTIF($C$3:C1671, C1671)>1, \"\", C1671))","v":""},{"$f":"IF(G1671=\"\",\"\",IF(F1671=\"\",\"\",CONCATENATE(DIGITADOR!$M$1,G1671,E1671)))","v":""},"",{"$f":"IF(F1671=\"\",\"\",VLOOKUP(F1671,referentes!$Q$2:$T$300,3,FALSE))","v":""},null,null,null,null,null,{"$f":"IF(L1671=\"\",\"\",VLOOKUP(L1671,referentes!$G$2:$N$15,2,FALSE))","v":""},null,null,"",null,null,""]
[null,{"$f":"IF(C1672=\"\",\"\",IF(COUNTIF($C$3:C1672, C1672)>1, \"\", C1672))","v":""},{"$f":"IF(G1672=\"\",\"\",IF(F1672=\"\",\"\",CONCATENATE(DIGITADOR!$M$1,G1672,E1672)))","v":""},"",{"$f":"IF(F1672=\"\",\"\",VLOOKUP(F1672,referentes!$Q$2:$T$300,3,FALSE))","v":""},null,null,null,null,null,{"$f":"IF(L1672=\"\",\"\",VLOOKUP(L1672,referentes!$G$2:$N$15,2,FALSE))","v":""},null,null,"",null,null,""]
[null,{"$f":"IF(C1673=\"\",\"\",IF(COUNTIF($C$3:C1673, C1673)>1, \"\", C1673))","v":""},{"$f":"IF(G1673=\"\",\"\",IF(F1673=\"\",\"\",CONCATENATE(DIGITADOR!$M$1,G1673,E1673)))","v":""},"",{"$f":"IF(F1673=\"\",\"\",VLOOKUP(F1673,referentes!$Q$2:$T$300,3,FALSE))","v":""},null,null,null,null,null,{"$f":"IF(L1673=\"\",\"\",VLOOKUP(L1673,referentes!$G$2:$N$15,2,FALSE))","v":""},null,null,"",null,null,""]
[null,{"$f":"IF(C1674=\"\",\"\",IF(COUNTIF($C$3:C1674, C1674)>1, \"\", C1674))","v":""},{"$f":"IF(G1674=\"\",\"\",IF(F1674=\"\",\"\",CONCATENATE(DIGITADOR!$M$1,G1674,E1674)))","v":""},"",{"$f":"IF(F1674=\"\",\"\",VLOOKUP(F1674,referentes!$Q$2:$T$300,3,FALSE))","v":""},null,null,null,null,null,{"$f":"IF(L1674=\"\",\"\",VLOOKUP(L1674,referentes!$G$2:$N$15,2,FALSE))","v":""},null,null,"",null,null,""]
[null,{"$f":"IF(C1675=\"\",\"\",IF(COUNTIF($C$3:C1675, C1675)>1, \"\", C1675))","v":""},{"$f":"IF(G1675=\"\",\"\",IF(F1675=\"\",\"\",CONCATENATE(DIGITADOR!$M$1,G1675,E1675)))","v":""},"",{"$f":"IF(F1675=\"\",\"\",VLOOKUP(F1675,referentes!$Q$2:$T$300,3,FALSE))","v":""},null,null,null,null,null,{"$f":"IF(L1675=\"\",\"\",VLOOKUP(L1675,referentes!$G$2:$N$15,2,FALSE))","v":""},null,null,"",null,null,""]
[null,{"$f":"IF(C1676=\"\",\"\",IF(COUNTIF($C$3:C1676, C1676)>1, \"\", C1676))","v":""},{"$f":"IF(G1676=\"\",\"\",IF(F1676=\"\",\"\",CONCATENATE(DIGITADOR!$M$1,G1676,E1676)))","v":""},"",{"$f":"IF(F1676=\"\",\"\",VLOOKUP(F1676,referentes!$Q$2:$T$300,3,FALSE))","v":""},null,null,null,null,null,{"$f":"IF(L1676=\"\",\"\",VLOOKUP(L1676,referentes!$G$2:$N$15,2,FALSE))","v":""},null,null,"",null,null,""]
[null,{"$f":"IF(C1677=\"\",\"\",IF(COUNTIF($C$3:C1677, C1677)>1, \"\", C1677))","v":""},{"$f":"IF(G1677=\"\",\"\",IF(F1677=\"\",\"\",CONCATENATE(DIGITADOR!$M$1,G1677,E1677)))","v":""},"",{"$f":"IF(F1677=\"\",\"\",VLOOKUP(F1677,referentes!$Q$2:$T$300,3,FALSE))","v":""},null,null,null,null,null,{"$f":"IF(L1677=\"\",\"\",VLOOKUP(L1677,referentes!$G$2:$N$15,2,FALSE))","v":""},null,null,"",null,null,""]
[null,{"$f":"IF(C1678=\"\",\"\",IF(COUNTIF($C$3:C1678, C1678)>1, \"\", C1678))","v":""},{"$f":"IF(G1678=\"\",\"\",IF(F1678=\"\",\"\",CONCATENATE(DIGITADOR!$M$1,G1678,E1678)))","v":""},"",{"$f":"IF(F1678=\"\",\"\",VLOOKUP(F1678,referentes!$Q$2:$T$300,3,FALSE))","v":""},null,null,null,null,null,{"$f":"IF(L1678=\"\",\"\",VLOOKUP(L1678,referentes!$G$2:$N$15,2,FALSE))","v":""},null,null,"",null,null,""]
[null,{"$f":"IF(C1679=\"\",\"\",IF(COUNTIF($C$3:C1679, C1679)>1, \"\", C1679))","v":""},{"$f":"IF(G1679=\"\",\"\",IF(F1679=\"\",\"\",CONCATENATE(DIGITADOR!$M$1,G1679,E1679)))","v":""},"",{"$f":"IF(F1679=\"\",\"\",VLOOKUP(F1679,referentes!$Q$2:$T$300,3,FALSE))","v":""},null,null,null,null,null,{"$f":"IF(L1679=\"\",\"\",VLOOKUP(L1679,referentes!$G$2:$N$15,2,FALSE))","v":""},null,null,"",null,null,""]
[null,{"$f":"IF(C1680=\"\",\"\",IF(COUNTIF($C$3:C1680, C1680)>1, \"\", C1680))","v":""},{"$f":"IF(G1680=\"\",\"\",IF(F1680=\"\",\"\",CONCATENATE(DIGITADOR!$M$1,G1680,E1680)))","v":""},"",{"$f":"IF(F1680=\"\",\"\",VLOOKUP(F1680,referentes!$Q$2:$T$300,3,FALSE))","v":""},null,null,null,null,null,{"$f":"IF(L1680=\"\",\"\",VLOOKUP(L1680,referentes!$G$2:$N$15,2,FALSE))","v":""},null,null,"",null,null,""]
[null,{"$f":"IF(C1681=\"\",\"\",IF(COUNTIF($C$3:C1681, C1681)>1, \"\", C1681))","v":""},{"$f":"IF(G1681=\"\",\"\",IF(F1681=\"\",\"\",CONCATENATE(DIGITADOR!$M$1,G1681,E1681)))","v":""},"",{"$f":"IF(F1681=\"\",\"\",VLOOKUP(F1681,referentes!$Q$2:$T$300,3,FALSE))","v":""},null,null,null,null,null,{"$f":"IF(L1681=\"\",\"\",VLOOKUP(L1681,referentes!$G$2:$N$15,2,FALSE))","v":""},null,null,"",null,null,""]
[null,{"$f":"IF(C1682=\"\",\"\",IF(COUNTIF($C$3:C1682, C1682)>1, \"\", C1682))","v":""},{"$f":"IF(G1682=\"\",\"\",IF(F1682=\"\",\"\",CONCATENATE(DIGITADOR!$M$1,G1682,E1682)))","v":""},"",{"$f":"IF(F1682=\"\",\"\",VLOOKUP(F1682,referentes!$Q$2:$T$300,3,FALSE))","v":""},null,null,null,null,null,{"$f":"IF(L1682=\"\",\"\",VLOOKUP(L1682,referentes!$G$2:$N$15,2,FALSE))","v":""},null,null,"",null,null,""]
[null,{"$f":"IF(C1683=\"\",\"\",IF(COUNTIF($C$3:C1683, C1683)>1, \"\", C1683))","v":""},{"$f":"IF(G1683=\"\",\"\",IF(F1683=\"\",\"\",CONCATENATE(DIGITADOR!$M$1,G1683,E1683)))","v":""},"",{"$f":"IF(F1683=\"\",\"\",VLOOKUP(F1683,referentes!$Q$2:$T$300,3,FALSE))","v":""},null,null,null,null,null,{"$f":"IF(L1683=\"\",\"\",VLOOKUP(L1683,referentes!$G$2:$N$15,2,FALSE))","v":""},null,null,"",null,null,""]
[null,{"$f":"IF(C1684=\"\",\"\",IF(COUNTIF($C$3:C1684, C1684)>1, \"\", C1684))","v":""},{"$f":"IF(G1684=\"\",\"\",IF(F1684=\"\",\"\",CONCATENATE(DIGITADOR!$M$1,G1684,E1684)))","v":""},"",{"$f":"IF(F1684=\"\",\"\",VLOOKUP(F1684,referentes!$Q$2:$T$300,3,FALSE))","v":""},null,null,null,null,null,{"$f":"IF(L1684=\"\",\"\",VLOOKUP(L1684,referentes!$G$2:$N$15,2,FALSE))","v":""},null,null,"",null,null,""]
[null,{"$f":"IF(C1685=\"\",\"\",IF(COUNTIF($C$3:C1685, C1685)>1, \"\", C1685))","v":""},{"$f":"IF(G1685=\"\",\"\",IF(F1685=\"\",\"\",CONCATENATE(DIGITADOR!$M$1,G1685,E1685)))","v":""},"",{"$f":"IF(F1685=\"\",\"\",VLOOKUP(F1685,referentes!$Q$2:$T$300,3,FALSE))","v":""},null,null,null,null,null,{"$f":"IF(L1685=\"\",\"\",VLOOKUP(L1685,referentes!$G$2:$N$15,2,FALSE))","v":""},null,null,"",null,null,""]
[null,{"$f":"IF(C1686=\"\",\"\",IF(COUNTIF($C$3:C1686, C1686)>1, \"\", C1686))","v":""},{"$f":"IF(G1686=\"\",\"\",IF(F1686=\"\",\"\",CONCATENATE(DIGITADOR!$M$1,G1686,E1686)))","v":""},"",{"$f":"IF(F1686=\"\",\"\",VLOOKUP(F1686,referentes!$Q$2:$T$300,3,FALSE))","v":""},null,null,null,null,null,{"$f":"IF(L1686=\"\",\"\",VLOOKUP(L1686,referentes!$G$2:$N$15,2,FALSE))","v":""},null,null,"",null,null,""]
[null,{"$f":"IF(C1687=\"\",\"\",IF(COUNTIF($C$3:C1687, C1687)>1, \"\", C1687))","v":""},{"$f":"IF(G1687=\"\",\"\",IF(F1687=\"\",\"\",CONCATENATE(DIGITADOR!$M$1,G1687,E1687)))","v":""},"",{"$f":"IF(F1687=\"\",\"\",VLOOKUP(F1687,referentes!$Q$2:$T$300,3,FALSE))","v":""},null,null,null,null,null,{"$f":"IF(L1687=\"\",\"\",VLOOKUP(L1687,referentes!$G$2:$N$15,2,FALSE))","v":""},null,null,"",null,null,""]
[null,{"$f":"IF(C1688=\"\",\"\",IF(COUNTIF($C$3:C1688, C1688)>1, \"\", C1688))","v":""},{"$f":"IF(G1688=\"\",\"\",IF(F1688=\"\",\"\",CONCATENATE(DIGITADOR!$M$1,G1688,E1688)))","v":""},"",{"$f":"IF(F1688=\"\",\"\",VLOOKUP(F1688,referentes!$Q$2:$T$300,3,FALSE))","v":""},null,null,null,null,null,{"$f":"IF(L1688=\"\",\"\",VLOOKUP(L1688,referentes!$G$2:$N$15,2,FALSE))","v":""},null,null,"",null,null,""]
[null,{"$f":"IF(C1689=\"\",\"\",IF(COUNTIF($C$3:C1689, C1689)>1, \"\", C1689))","v":""},{"$f":"IF(G1689=\"\",\"\",IF(F1689=\"\",\"\",CONCATENATE(DIGITADOR!$M$1,G1689,E1689)))","v":""},"",{"$f":"IF(F1689=\"\",\"\",VLOOKUP(F1689,referentes!$Q$2:$T$300,3,FALSE))","v":""},null,null,null,null,null,{"$f":"IF(L1689=\"\",\"\",VLOOKUP(L1689,referentes!$G$2:$N$15,2,FALSE))","v":""},null,null,"",null,null,""]
[null,{"$f":"IF(C1690=\"\",\"\",IF(COUNTIF($C$3:C1690, C1690)>1, \"\", C1690))","v":""},{"$f":"IF(G1690=\"\",\"\",IF(F1690=\"\",\"\",CONCATENATE(DIGITADOR!$M$1,G1690,E1690)))","v":""},"",{"$f":"IF(F1690=\"\",\"\",VLOOKUP(F1690,referentes!$Q$2:$T$300,3,FALSE))","v":""},null,null,null,null,null,{"$f":"IF(L1690=\"\",\"\",VLOOKUP(L1690,referentes!$G$2:$N$15,2,FALSE))","v":""},null,null,"",null,null,""]
[null,{"$f":"IF(C1691=\"\",\"\",IF(COUNTIF($C$3:C1691, C1691)>1, \"\", C1691))","v":""},{"$f":"IF(G1691=\"\",\"\",IF(F1691=\"\",\"\",CONCATENATE(DIGITADOR!$M$1,G1691,E1691)))","v":""},"",{"$f":"IF(F1691=\"\",\"\",VLOOKUP(F1691,referentes!$Q$2:$T$300,3,FALSE))","v":""},null,null,null,null,null,{"$f":"IF(L1691=\"\",\"\",VLOOKUP(L1691,referentes!$G$2:$N$15,2,FALSE))","v":""},null,null,"",null,null,""]
[null,{"$f":"IF(C1692=\"\",\"\",IF(COUNTIF($C$3:C1692, C1692)>1, \"\", C1692))","v":""},{"$f":"IF(G1692=\"\",\"\",IF(F1692=\"\",\"\",CONCATENATE(DIGITADOR!$M$1,G1692,E1692)))","v":""},"",{"$f":"IF(F1692=\"\",\"\",VLOOKUP(F1692,referentes!$Q$2:$T$300,3,FALSE))","v":""},null,null,null,null,null,{"$f":"IF(L1692=\"\",\"\",VLOOKUP(L1692,referentes!$G$2:$N$15,2,FALSE))","v":""},null,null,"",null,null,""]
[null,{"$f":"IF(C1693=\"\",\"\",IF(COUNTIF($C$3:C1693, C1693)>1, \"\", C1693))","v":""},{"$f":"IF(G1693=\"\",\"\",IF(F1693=\"\",\"\",CONCATENATE(DIGITADOR!$M$1,G1693,E1693)))","v":""},"",{"$f":"IF(F1693=\"\",\"\",VLOOKUP(F1693,referentes!$Q$2:$T$300,3,FALSE))","v":""},null,null,null,null,null,{"$f":"IF(L1693=\"\",\"\",VLOOKUP(L1693,referentes!$G$2:$N$15,2,FALSE))","v":""},null,null,"",null,null,""]
[null,{"$f":"IF(C1694=\"\",\"\",IF(COUNTIF($C$3:C1694, C1694)>1, \"\", C1694))","v":""},{"$f":"IF(G1694=\"\",\"\",IF(F1694=\"\",\"\",CONCATENATE(DIGITADOR!$M$1,G1694,E1694)))","v":""},"",{"$f":"IF(F1694=\"\",\"\",VLOOKUP(F1694,referentes!$Q$2:$T$300,3,FALSE))","v":""},null,null,null,null,null,{"$f":"IF(L1694=\"\",\"\",VLOOKUP(L1694,referentes!$G$2:$N$15,2,FALSE))","v":""},null,null,"",null,null,""]
[null,{"$f":"IF(C1695=\"\",\"\",IF(COUNTIF($C$3:C1695, C1695)>1, \"\", C1695))","v":""},{"$f":"IF(G1695=\"\",\"\",IF(F1695=\"\",\"\",CONCATENATE(DIGITADOR!$M$1,G1695,E1695)))","v":""},"",{"$f":"IF(F1695=\"\",\"\",VLOOKUP(F1695,referentes!$Q$2:$T$300,3,FALSE))","v":""},null,null,null,null,null,{"$f":"IF(L1695=\"\",\"\",VLOOKUP(L1695,referentes!$G$2:$N$15,2,FALSE))","v":""},null,null,"",null,null,""]
[null,{"$f":"IF(C1696=\"\",\"\",IF(COUNTIF($C$3:C1696, C1696)>1, \"\", C1696))","v":""},{"$f":"IF(G1696=\"\",\"\",IF(F1696=\"\",\"\",CONCATENATE(DIGITADOR!$M$1,G1696,E1696)))","v":""},"",{"$f":"IF(F1696=\"\",\"\",VLOOKUP(F1696,referentes!$Q$2:$T$300,3,FALSE))","v":""},null,null,null,null,null,{"$f":"IF(L1696=\"\",\"\",VLOOKUP(L1696,referentes!$G$2:$N$15,2,FALSE))","v":""},null,null,"",null,null,""]
[null,{"$f":"IF(C1697=\"\",\"\",IF(COUNTIF($C$3:C1697, C1697)>1, \"\", C1697))","v":""},{"$f":"IF(G1697=\"\",\"\",IF(F1697=\"\",\"\",CONCATENATE(DIGITADOR!$M$1,G1697,E1697)))","v":""},"",{"$f":"IF(F1697=\"\",\"\",VLOOKUP(F1697,referentes!$Q$2:$T$300,3,FALSE))","v":""},null,null,null,null,null,{"$f":"IF(L1697=\"\",\"\",VLOOKUP(L1697,referentes!$G$2:$N$15,2,FALSE))","v":""},null,null,"",null,null,""]
[null,{"$f":"IF(C1698=\"\",\"\",IF(COUNTIF($C$3:C1698, C1698)>1, \"\", C1698))","v":""},{"$f":"IF(G1698=\"\",\"\",IF(F1698=\"\",\"\",CONCATENATE(DIGITADOR!$M$1,G1698,E1698)))","v":""},"",{"$f":"IF(F1698=\"\",\"\",VLOOKUP(F1698,referentes!$Q$2:$T$300,3,FALSE))","v":""},null,null,null,null,null,{"$f":"IF(L1698=\"\",\"\",VLOOKUP(L1698,referentes!$G$2:$N$15,2,FALSE))","v":""},null,null,"",null,null,""]
[null,{"$f":"IF(C1699=\"\",\"\",IF(COUNTIF($C$3:C1699, C1699)>1, \"\", C1699))","v":""},{"$f":"IF(G1699=\"\",\"\",IF(F1699=\"\",\"\",CONCATENATE(DIGITADOR!$M$1,G1699,E1699)))","v":""},"",{"$f":"IF(F1699=\"\",\"\",VLOOKUP(F1699,referentes!$Q$2:$T$300,3,FALSE))","v":""},null,null,null,null,null,{"$f":"IF(L1699=\"\",\"\",VLOOKUP(L1699,referentes!$G$2:$N$15,2,FALSE))","v":""},null,null,"",null,null,""]
[null,{"$f":"IF(C1700=\"\",\"\",IF(COUNTIF($C$3:C1700, C1700)>1, \"\", C1700))","v":""},{"$f":"IF(G1700=\"\",\"\",IF(F1700=\"\",\"\",CONCATENATE(DIGITADOR!$M$1,G1700,E1700)))","v":""},"",{"$f":"IF(F1700=\"\",\"\",VLOOKUP(F1700,referentes!$Q$2:$T$300,3,FALSE))","v":""},null,null,null,null,null,{"$f":"IF(L1700=\"\",\"\",VLOOKUP(L1700,referentes!$G$2:$N$15,2,FALSE))","v":""},null,null,"",null,null,""]
[null,{"$f":"IF(C1701=\"\",\"\",IF(COUNTIF($C$3:C1701, C1701)>1, \"\", C1701))","v":""},{"$f":"IF(G1701=\"\",\"\",IF(F1701=\"\",\"\",CONCATENATE(DIGITADOR!$M$1,G1701,E1701)))","v":""},"",{"$f":"IF(F1701=\"\",\"\",VLOOKUP(F1701,referentes!$Q$2:$T$300,3,FALSE))","v":""},null,null,null,null,null,{"$f":"IF(L1701=\"\",\"\",VLOOKUP(L1701,referentes!$G$2:$N$15,2,FALSE))","v":""},null,null,"",null,null,""]
[null,{"$f":"IF(C1702=\"\",\"\",IF(COUNTIF($C$3:C1702, C1702)>1, \"\", C1702))","v":""},{"$f":"IF(G1702=\"\",\"\",IF(F1702=\"\",\"\",CONCATENATE(DIGITADOR!$M$1,G1702,E1702)))","v":""},"",{"$f":"IF(F1702=\"\",\"\",VLOOKUP(F1702,referentes!$Q$2:$T$300,3,FALSE))","v":""},null,null,null,null,null,{"$f":"IF(L1702=\"\",\"\",VLOOKUP(L1702,referentes!$G$2:$N$15,2,FALSE))","v":""},null,null,"",null,null,""]
[null,{"$f":"IF(C1703=\"\",\"\",IF(COUNTIF($C$3:C1703, C1703)>1, \"\", C1703))","v":""},{"$f":"IF(G1703=\"\",\"\",IF(F1703=\"\",\"\",CONCATENATE(DIGITADOR!$M$1,G1703,E1703)))","v":""},"",{"$f":"IF(F1703=\"\",\"\",VLOOKUP(F1703,referentes!$Q$2:$T$300,3,FALSE))","v":""},null,null,null,null,null,{"$f":"IF(L1703=\"\",\"\",VLOOKUP(L1703,referentes!$G$2:$N$15,2,FALSE))","v":""},null,null,"",null,null,""]
[null,{"$f":"IF(C1704=\"\",\"\",IF(COUNTIF($C$3:C1704, C1704)>1, \"\", C1704))","v":""},{"$f":"IF(G1704=\"\",\"\",IF(F1704=\"\",\"\",CONCATENATE(DIGITADOR!$M$1,G1704,E1704)))","v":""},"",{"$f":"IF(F1704=\"\",\"\",VLOOKUP(F1704,referentes!$Q$2:$T$300,3,FALSE))","v":""},null,null,null,null,null,{"$f":"IF(L1704=\"\",\"\",VLOOKUP(L1704,referentes!$G$2:$N$15,2,FALSE))","v":""},null,null,"",null,null,""]
[null,{"$f":"IF(C1705=\"\",\"\",IF(COUNTIF($C$3:C1705, C1705)>1, \"\", C1705))","v":""},{"$f":"IF(G1705=\"\",\"\",IF(F1705=\"\",\"\",CONCATENATE(DIGITADOR!$M$1,G1705,E1705)))","v":""},"",{"$f":"IF(F1705=\"\",\"\",VLOOKUP(F1705,referentes!$Q$2:$T$300,3,FALSE))","v":""},null,null,null,null,null,{"$f":"IF(L1705=\"\",\"\",VLOOKUP(L1705,referentes!$G$2:$N$15,2,FALSE))","v":""},null,null,"",null,null,""]
[null,{"$f":"IF(C1706=\"\",\"\",IF(COUNTIF($C$3:C1706, C1706)>1, \"\", C1706))","v":""},{"$f":"IF(G1706=\"\",\"\",IF(F1706=\"\",\"\",CONCATENATE(DIGITADOR!$M$1,G1706,E1706)))","v":""},"",{"$f":"IF(F1706=\"\",\"\",VLOOKUP(F1706,referentes!$Q$2:$T$300,3,FALSE))","v":""},null,null,null,null,null,{"$f":"IF(L1706=\"\",\"\",VLOOKUP(L1706,referentes!$G$2:$N$15,2,FALSE))","v":""},null,null,"",null,null,""]
[null,{"$f":"IF(C1707=\"\",\"\",IF(COUNTIF($C$3:C1707, C1707)>1, \"\", C1707))","v":""},{"$f":"IF(G1707=\"\",\"\",IF(F1707=\"\",\"\",CONCATENATE(DIGITADOR!$M$1,G1707,E1707)))","v":""},"",{"$f":"IF(F1707=\"\",\"\",VLOOKUP(F1707,referentes!$Q$2:$T$300,3,FALSE))","v":""},null,null,null,null,null,{"$f":"IF(L1707=\"\",\"\",VLOOKUP(L1707,referentes!$G$2:$N$15,2,FALSE))","v":""},null,null,"",null,null,""]
[null,{"$f":"IF(C1708=\"\",\"\",IF(COUNTIF($C$3:C1708, C1708)>1, \"\", C1708))","v":""},{"$f":"IF(G1708=\"\",\"\",IF(F1708=\"\",\"\",CONCATENATE(DIGITADOR!$M$1,G1708,E1708)))","v":""},"",{"$f":"IF(F1708=\"\",\"\",VLOOKUP(F1708,referentes!$Q$2:$T$300,3,FALSE))","v":""},null,null,null,null,null,{"$f":"IF(L1708=\"\",\"\",VLOOKUP(L1708,referentes!$G$2:$N$15,2,FALSE))","v":""},null,null,"",null,null,""]
[null,{"$f":"IF(C1709=\"\",\"\",IF(COUNTIF($C$3:C1709, C1709)>1, \"\", C1709))","v":""},{"$f":"IF(G1709=\"\",\"\",IF(F1709=\"\",\"\",CONCATENATE(DIGITADOR!$M$1,G1709,E1709)))","v":""},"",{"$f":"IF(F1709=\"\",\"\",VLOOKUP(F1709,referentes!$Q$2:$T$300,3,FALSE))","v":""},null,null,null,null,null,{"$f":"IF(L1709=\"\",\"\",VLOOKUP(L1709,referentes!$G$2:$N$15,2,FALSE))","v":""},null,null,"",null,null,""]
[null,{"$f":"IF(C1710=\"\",\"\",IF(COUNTIF($C$3:C1710, C1710)>1, \"\", C1710))","v":""},{"$f":"IF(G1710=\"\",\"\",IF(F1710=\"\",\"\",CONCATENATE(DIGITADOR!$M$1,G1710,E1710)))","v":""},"",{"$f":"IF(F1710=\"\",\"\",VLOOKUP(F1710,referentes!$Q$2:$T$300,3,FALSE))","v":""},null,null,null,null,null,{"$f":"IF(L1710=\"\",\"\",VLOOKUP(L1710,referentes!$G$2:$N$15,2,FALSE))","v":""},null,null,"",null,null,""]
[null,{"$f":"IF(C1711=\"\",\"\",IF(COUNTIF($C$3:C1711, C1711)>1, \"\", C1711))","v":""},{"$f":"IF(G1711=\"\",\"\",IF(F1711=\"\",\"\",CONCATENATE(DIGITADOR!$M$1,G1711,E1711)))","v":""},"",{"$f":"IF(F1711=\"\",\"\",VLOOKUP(F1711,referentes!$Q$2:$T$300,3,FALSE))","v":""},null,null,null,null,null,{"$f":"IF(L1711=\"\",\"\",VLOOKUP(L1711,referentes!$G$2:$N$15,2,FALSE))","v":""},null,null,"",null,null,""]
[null,{"$f":"IF(C1712=\"\",\"\",IF(COUNTIF($C$3:C1712, C1712)>1, \"\", C1712))","v":""},{"$f":"IF(G1712=\"\",\"\",IF(F1712=\"\",\"\",CONCATENATE(DIGITADOR!$M$1,G1712,E1712)))","v":""},"",{"$f":"IF(F1712=\"\",\"\",VLOOKUP(F1712,referentes!$Q$2:$T$300,3,FALSE))","v":""},null,null,null,null,null,{"$f":"IF(L1712=\"\",\"\",VLOOKUP(L1712,referentes!$G$2:$N$15,2,FALSE))","v":""},null,null,"",null,null,""]
[null,{"$f":"IF(C1713=\"\",\"\",IF(COUNTIF($C$3:C1713, C1713)>1, \"\", C1713))","v":""},{"$f":"IF(G1713=\"\",\"\",IF(F1713=\"\",\"\",CONCATENATE(DIGITADOR!$M$1,G1713,E1713)))","v":""},"",{"$f":"IF(F1713=\"\",\"\",VLOOKUP(F1713,referentes!$Q$2:$T$300,3,FALSE))","v":""},null,null,null,null,null,{"$f":"IF(L1713=\"\",\"\",VLOOKUP(L1713,referentes!$G$2:$N$15,2,FALSE))","v":""},null,null,"",null,null,""]
[null,{"$f":"IF(C1714=\"\",\"\",IF(COUNTIF($C$3:C1714, C1714)>1, \"\", C1714))","v":""},{"$f":"IF(G1714=\"\",\"\",IF(F1714=\"\",\"\",CONCATENATE(DIGITADOR!$M$1,G1714,E1714)))","v":""},"",{"$f":"IF(F1714=\"\",\"\",VLOOKUP(F1714,referentes!$Q$2:$T$300,3,FALSE))","v":""},null,null,null,null,null,{"$f":"IF(L1714=\"\",\"\",VLOOKUP(L1714,referentes!$G$2:$N$15,2,FALSE))","v":""},null,null,"",null,null,""]
[null,{"$f":"IF(C1715=\"\",\"\",IF(COUNTIF($C$3:C1715, C1715)>1, \"\", C1715))","v":""},{"$f":"IF(G1715=\"\",\"\",IF(F1715=\"\",\"\",CONCATENATE(DIGITADOR!$M$1,G1715,E1715)))","v":""},"",{"$f":"IF(F1715=\"\",\"\",VLOOKUP(F1715,referentes!$Q$2:$T$300,3,FALSE))","v":""},null,null,null,null,null,{"$f":"IF(L1715=\"\",\"\",VLOOKUP(L1715,referentes!$G$2:$N$15,2,FALSE))","v":""},null,null,"",null,null,""]
[null,{"$f":"IF(C1716=\"\",\"\",IF(COUNTIF($C$3:C1716, C1716)>1, \"\", C1716))","v":""},{"$f":"IF(G1716=\"\",\"\",IF(F1716=\"\",\"\",CONCATENATE(DIGITADOR!$M$1,G1716,E1716)))","v":""},"",{"$f":"IF(F1716=\"\",\"\",VLOOKUP(F1716,referentes!$Q$2:$T$300,3,FALSE))","v":""},null,null,null,null,null,{"$f":"IF(L1716=\"\",\"\",VLOOKUP(L1716,referentes!$G$2:$N$15,2,FALSE))","v":""},null,null,"",null,null,""]
[null,{"$f":"IF(C1717=\"\",\"\",IF(COUNTIF($C$3:C1717, C1717)>1, \"\", C1717))","v":""},{"$f":"IF(G1717=\"\",\"\",IF(F1717=\"\",\"\",CONCATENATE(DIGITADOR!$M$1,G1717,E1717)))","v":""},"",{"$f":"IF(F1717=\"\",\"\",VLOOKUP(F1717,referentes!$Q$2:$T$300,3,FALSE))","v":""},null,null,null,null,null,{"$f":"IF(L1717=\"\",\"\",VLOOKUP(L1717,referentes!$G$2:$N$15,2,FALSE))","v":""},null,null,"",null,null,""]
[null,{"$f":"IF(C1718=\"\",\"\",IF(COUNTIF($C$3:C1718, C1718)>1, \"\", C1718))","v":""},{"$f":"IF(G1718=\"\",\"\",IF(F1718=\"\",\"\",CONCATENATE(DIGITADOR!$M$1,G1718,E1718)))","v":""},"",{"$f":"IF(F1718=\"\",\"\",VLOOKUP(F1718,referentes!$Q$2:$T$300,3,FALSE))","v":""},null,null,null,null,null,{"$f":"IF(L1718=\"\",\"\",VLOOKUP(L1718,referentes!$G$2:$N$15,2,FALSE))","v":""},null,null,"",null,null,""]
[null,{"$f":"IF(C1719=\"\",\"\",IF(COUNTIF($C$3:C1719, C1719)>1, \"\", C1719))","v":""},{"$f":"IF(G1719=\"\",\"\",IF(F1719=\"\",\"\",CONCATENATE(DIGITADOR!$M$1,G1719,E1719)))","v":""},"",{"$f":"IF(F1719=\"\",\"\",VLOOKUP(F1719,referentes!$Q$2:$T$300,3,FALSE))","v":""},null,null,null,null,null,{"$f":"IF(L1719=\"\",\"\",VLOOKUP(L1719,referentes!$G$2:$N$15,2,FALSE))","v":""},null,null,"",null,null,""]
[null,{"$f":"IF(C1720=\"\",\"\",IF(COUNTIF($C$3:C1720, C1720)>1, \"\", C1720))","v":""},{"$f":"IF(G1720=\"\",\"\",IF(F1720=\"\",\"\",CONCATENATE(DIGITADOR!$M$1,G1720,E1720)))","v":""},"",{"$f":"IF(F1720=\"\",\"\",VLOOKUP(F1720,referentes!$Q$2:$T$300,3,FALSE))","v":""},null,null,null,null,null,{"$f":"IF(L1720=\"\",\"\",VLOOKUP(L1720,referentes!$G$2:$N$15,2,FALSE))","v":""},null,null,"",null,null,""]
[null,{"$f":"IF(C1721=\"\",\"\",IF(COUNTIF($C$3:C1721, C1721)>1, \"\", C1721))","v":""},{"$f":"IF(G1721=\"\",\"\",IF(F1721=\"\",\"\",CONCATENATE(DIGITADOR!$M$1,G1721,E1721)))","v":""},"",{"$f":"IF(F1721=\"\",\"\",VLOOKUP(F1721,referentes!$Q$2:$T$300,3,FALSE))","v":""},null,null,null,null,null,{"$f":"IF(L1721=\"\",\"\",VLOOKUP(L1721,referentes!$G$2:$N$15,2,FALSE))","v":""},null,null,"",null,null,""]
[null,{"$f":"IF(C1722=\"\",\"\",IF(COUNTIF($C$3:C1722, C1722)>1, \"\", C1722))","v":""},{"$f":"IF(G1722=\"\",\"\",IF(F1722=\"\",\"\",CONCATENATE(DIGITADOR!$M$1,G1722,E1722)))","v":""},"",{"$f":"IF(F1722=\"\",\"\",VLOOKUP(F1722,referentes!$Q$2:$T$300,3,FALSE))","v":""},null,null,null,null,null,{"$f":"IF(L1722=\"\",\"\",VLOOKUP(L1722,referentes!$G$2:$N$15,2,FALSE))","v":""},null,null,"",null,null,""]
[null,{"$f":"IF(C1723=\"\",\"\",IF(COUNTIF($C$3:C1723, C1723)>1, \"\", C1723))","v":""},{"$f":"IF(G1723=\"\",\"\",IF(F1723=\"\",\"\",CONCATENATE(DIGITADOR!$M$1,G1723,E1723)))","v":""},"",{"$f":"IF(F1723=\"\",\"\",VLOOKUP(F1723,referentes!$Q$2:$T$300,3,FALSE))","v":""},null,null,null,null,null,{"$f":"IF(L1723=\"\",\"\",VLOOKUP(L1723,referentes!$G$2:$N$15,2,FALSE))","v":""},null,null,"",null,null,""]
[null,{"$f":"IF(C1724=\"\",\"\",IF(COUNTIF($C$3:C1724, C1724)>1, \"\", C1724))","v":""},{"$f":"IF(G1724=\"\",\"\",IF(F1724=\"\",\"\",CONCATENATE(DIGITADOR!$M$1,G1724,E1724)))","v":""},"",{"$f":"IF(F1724=\"\",\"\",VLOOKUP(F1724,referentes!$Q$2:$T$300,3,FALSE))","v":""},null,null,null,null,null,{"$f":"IF(L1724=\"\",\"\",VLOOKUP(L1724,referentes!$G$2:$N$15,2,FALSE))","v":""},null,null,"",null,null,""]
[null,{"$f":"IF(C1725=\"\",\"\",IF(COUNTIF($C$3:C1725, C1725)>1, \"\", C1725))","v":""},{"$f":"IF(G1725=\"\",\"\",IF(F1725=\"\",\"\",CONCATENATE(DIGITADOR!$M$1,G1725,E1725)))","v":""},"",{"$f":"IF(F1725=\"\",\"\",VLOOKUP(F1725,referentes!$Q$2:$T$300,3,FALSE))","v":""},null,null,null,null,null,{"$f":"IF(L1725=\"\",\"\",VLOOKUP(L1725,referentes!$G$2:$N$15,2,FALSE))","v":""},null,null,"",null,null,""]
[null,{"$f":"IF(C1726=\"\",\"\",IF(COUNTIF($C$3:C1726, C1726)>1, \"\", C1726))","v":""},{"$f":"IF(G1726=\"\",\"\",IF(F1726=\"\",\"\",CONCATENATE(DIGITADOR!$M$1,G1726,E1726)))","v":""},"",{"$f":"IF(F1726=\"\",\"\",VLOOKUP(F1726,referentes!$Q$2:$T$300,3,FALSE))","v":""},null,null,null,null,null,{"$f":"IF(L1726=\"\",\"\",VLOOKUP(L1726,referentes!$G$2:$N$15,2,FALSE))","v":""},null,null,"",null,null,""]
[null,{"$f":"IF(C1727=\"\",\"\",IF(COUNTIF($C$3:C1727, C1727)>1, \"\", C1727))","v":""},{"$f":"IF(G1727=\"\",\"\",IF(F1727=\"\",\"\",CONCATENATE(DIGITADOR!$M$1,G1727,E1727)))","v":""},"",{"$f":"IF(F1727=\"\",\"\",VLOOKUP(F1727,referentes!$Q$2:$T$300,3,FALSE))","v":""},null,null,null,null,null,{"$f":"IF(L1727=\"\",\"\",VLOOKUP(L1727,referentes!$G$2:$N$15,2,FALSE))","v":""},null,null,"",null,null,""]
[null,{"$f":"IF(C1728=\"\",\"\",IF(COUNTIF($C$3:C1728, C1728)>1, \"\", C1728))","v":""},{"$f":"IF(G1728=\"\",\"\",IF(F1728=\"\",\"\",CONCATENATE(DIGITADOR!$M$1,G1728,E1728)))","v":""},"",{"$f":"IF(F1728=\"\",\"\",VLOOKUP(F1728,referentes!$Q$2:$T$300,3,FALSE))","v":""},null,null,null,null,null,{"$f":"IF(L1728=\"\",\"\",VLOOKUP(L1728,referentes!$G$2:$N$15,2,FALSE))","v":""},null,null,"",null,null,""]
[null,{"$f":"IF(C1729=\"\",\"\",IF(COUNTIF($C$3:C1729, C1729)>1, \"\", C1729))","v":""},{"$f":"IF(G1729=\"\",\"\",IF(F1729=\"\",\"\",CONCATENATE(DIGITADOR!$M$1,G1729,E1729)))","v":""},"",{"$f":"IF(F1729=\"\",\"\",VLOOKUP(F1729,referentes!$Q$2:$T$300,3,FALSE))","v":""},null,null,null,null,null,{"$f":"IF(L1729=\"\",\"\",VLOOKUP(L1729,referentes!$G$2:$N$15,2,FALSE))","v":""},null,null,"",null,null,""]
[null,{"$f":"IF(C1730=\"\",\"\",IF(COUNTIF($C$3:C1730, C1730)>1, \"\", C1730))","v":""},{"$f":"IF(G1730=\"\",\"\",IF(F1730=\"\",\"\",CONCATENATE(DIGITADOR!$M$1,G1730,E1730)))","v":""},"",{"$f":"IF(F1730=\"\",\"\",VLOOKUP(F1730,referentes!$Q$2:$T$300,3,FALSE))","v":""},null,null,null,null,null,{"$f":"IF(L1730=\"\",\"\",VLOOKUP(L1730,referentes!$G$2:$N$15,2,FALSE))","v":""},null,null,"",null,null,""]
[null,{"$f":"IF(C1731=\"\",\"\",IF(COUNTIF($C$3:C1731, C1731)>1, \"\", C1731))","v":""},{"$f":"IF(G1731=\"\",\"\",IF(F1731=\"\",\"\",CONCATENATE(DIGITADOR!$M$1,G1731,E1731)))","v":""},"",{"$f":"IF(F1731=\"\",\"\",VLOOKUP(F1731,referentes!$Q$2:$T$300,3,FALSE))","v":""},null,null,null,null,null,{"$f":"IF(L1731=\"\",\"\",VLOOKUP(L1731,referentes!$G$2:$N$15,2,FALSE))","v":""},null,null,"",null,null,""]
[null,{"$f":"IF(C1732=\"\",\"\",IF(COUNTIF($C$3:C1732, C1732)>1, \"\", C1732))","v":""},{"$f":"IF(G1732=\"\",\"\",IF(F1732=\"\",\"\",CONCATENATE(DIGITADOR!$M$1,G1732,E1732)))","v":""},{"$f":"IF(C1732=\"\",\"\",CONCATENATE(C1732,ROW()-2))","v":""},{"$f":"IF(F1732=\"\",\"\",VLOOKUP(F1732,referentes!$Q$2:$T$300,3,FALSE))","v":""},null,null,null,null,null,{"$f":"IF(L1732=\"\",\"\",VLOOKUP(L1732,referentes!$G$2:$N$15,2,FALSE))","v":""},null,null,{"$f":"IF(M1732=\"\",\"\",M1732/PI())","v":""},null,null,{"$f":"IF(N1732=\"\",\"\",((PI())*((N1732/100)^2))/4*10000/500)","v":""}]
[null,{"$f":"IF(C1733=\"\",\"\",IF(COUNTIF($C$3:C1733, C1733)>1, \"\", C1733))","v":""},{"$f":"IF(G1733=\"\",\"\",IF(F1733=\"\",\"\",CONCATENATE(DIGITADOR!$M$1,G1733,E1733)))","v":""},"",{"$f":"IF(F1733=\"\",\"\",VLOOKUP(F1733,referentes!$Q$2:$T$300,3,FALSE))","v":""},null,null,null,null,null,{"$f":"IF(L1733=\"\",\"\",VLOOKUP(L1733,referentes!$G$2:$N$15,2,FALSE))","v":""},null,null,"",null,null,""]
[null,{"$f":"IF(C1734=\"\",\"\",IF(COUNTIF($C$3:C1734, C1734)>1, \"\", C1734))","v":""},{"$f":"IF(G1734=\"\",\"\",IF(F1734=\"\",\"\",CONCATENATE(DIGITADOR!$M$1,G1734,E1734)))","v":""},"",{"$f":"IF(F1734=\"\",\"\",VLOOKUP(F1734,referentes!$Q$2:$T$300,3,FALSE))","v":""},null,null,null,null,null,{"$f":"IF(L1734=\"\",\"\",VLOOKUP(L1734,referentes!$G$2:$N$15,2,FALSE))","v":""},null,null,"",null,null,""]
[null,{"$f":"IF(C1735=\"\",\"\",IF(COUNTIF($C$3:C1735, C1735)>1, \"\", C1735))","v":""},{"$f":"IF(G1735=\"\",\"\",IF(F1735=\"\",\"\",CONCATENATE(DIGITADOR!$M$1,G1735,E1735)))","v":""},"",{"$f":"IF(F1735=\"\",\"\",VLOOKUP(F1735,referentes!$Q$2:$T$300,3,FALSE))","v":""},null,null,null,null,null,{"$f":"IF(L1735=\"\",\"\",VLOOKUP(L1735,referentes!$G$2:$N$15,2,FALSE))","v":""},null,null,"",null,null,""]
[null,{"$f":"IF(C1736=\"\",\"\",IF(COUNTIF($C$3:C1736, C1736)>1, \"\", C1736))","v":""},{"$f":"IF(G1736=\"\",\"\",IF(F1736=\"\",\"\",CONCATENATE(DIGITADOR!$M$1,G1736,E1736)))","v":""},"",{"$f":"IF(F1736=\"\",\"\",VLOOKUP(F1736,referentes!$Q$2:$T$300,3,FALSE))","v":""},null,null,null,null,null,{"$f":"IF(L1736=\"\",\"\",VLOOKUP(L1736,referentes!$G$2:$N$15,2,FALSE))","v":""},null,null,"",null,null,""]
[null,{"$f":"IF(C1737=\"\",\"\",IF(COUNTIF($C$3:C1737, C1737)>1, \"\", C1737))","v":""},{"$f":"IF(G1737=\"\",\"\",IF(F1737=\"\",\"\",CONCATENATE(DIGITADOR!$M$1,G1737,E1737)))","v":""},"",{"$f":"IF(F1737=\"\",\"\",VLOOKUP(F1737,referentes!$Q$2:$T$300,3,FALSE))","v":""},null,null,null,null,null,{"$f":"IF(L1737=\"\",\"\",VLOOKUP(L1737,referentes!$G$2:$N$15,2,FALSE))","v":""},null,null,"",null,null,""]
[null,{"$f":"IF(C1738=\"\",\"\",IF(COUNTIF($C$3:C1738, C1738)>1, \"\", C1738))","v":""},{"$f":"IF(G1738=\"\",\"\",IF(F1738=\"\",\"\",CONCATENATE(DIGITADOR!$M$1,G1738,E1738)))","v":""},"",{"$f":"IF(F1738=\"\",\"\",VLOOKUP(F1738,referentes!$Q$2:$T$300,3,FALSE))","v":""},null,null,null,null,null,{"$f":"IF(L1738=\"\",\"\",VLOOKUP(L1738,referentes!$G$2:$N$15,2,FALSE))","v":""},null,null,"",null,null,""]
[null,{"$f":"IF(C1739=\"\",\"\",IF(COUNTIF($C$3:C1739, C1739)>1, \"\", C1739))","v":""},{"$f":"IF(G1739=\"\",\"\",IF(F1739=\"\",\"\",CONCATENATE(DIGITADOR!$M$1,G1739,E1739)))","v":""},"",{"$f":"IF(F1739=\"\",\"\",VLOOKUP(F1739,referentes!$Q$2:$T$300,3,FALSE))","v":""},null,null,null,null,null,{"$f":"IF(L1739=\"\",\"\",VLOOKUP(L1739,referentes!$G$2:$N$15,2,FALSE))","v":""},null,null,"",null,null,""]
[null,{"$f":"IF(C1740=\"\",\"\",IF(COUNTIF($C$3:C1740, C1740)>1, \"\", C1740))","v":""},{"$f":"IF(G1740=\"\",\"\",IF(F1740=\"\",\"\",CONCATENATE(DIGITADOR!$M$1,G1740,E1740)))","v":""},"",{"$f":"IF(F1740=\"\",\"\",VLOOKUP(F1740,referentes!$Q$2:$T$300,3,FALSE))","v":""},null,null,null,null,null,{"$f":"IF(L1740=\"\",\"\",VLOOKUP(L1740,referentes!$G$2:$N$15,2,FALSE))","v":""},null,null,"",null,null,""]
[null,{"$f":"IF(C1741=\"\",\"\",IF(COUNTIF($C$3:C1741, C1741)>1, \"\", C1741))","v":""},{"$f":"IF(G1741=\"\",\"\",IF(F1741=\"\",\"\",CONCATENATE(DIGITADOR!$M$1,G1741,E1741)))","v":""},"",{"$f":"IF(F1741=\"\",\"\",VLOOKUP(F1741,referentes!$Q$2:$T$300,3,FALSE))","v":""},null,null,null,null,null,{"$f":"IF(L1741=\"\",\"\",VLOOKUP(L1741,referentes!$G$2:$N$15,2,FALSE))","v":""},null,null,"",null,null,""]
[null,{"$f":"IF(C1742=\"\",\"\",IF(COUNTIF($C$3:C1742, C1742)>1, \"\", C1742))","v":""},{"$f":"IF(G1742=\"\",\"\",IF(F1742=\"\",\"\",CONCATENATE(DIGITADOR!$M$1,G1742,E1742)))","v":""},"",{"$f":"IF(F1742=\"\",\"\",VLOOKUP(F1742,referentes!$Q$2:$T$300,3,FALSE))","v":""},null,null,null,null,null,{"$f":"IF(L1742=\"\",\"\",VLOOKUP(L1742,referentes!$G$2:$N$15,2,FALSE))","v":""},null,null,"",null,null,""]
[null,{"$f":"IF(C1743=\"\",\"\",IF(COUNTIF($C$3:C1743, C1743)>1, \"\", C1743))","v":""},{"$f":"IF(G1743=\"\",\"\",IF(F1743=\"\",\"\",CONCATENATE(DIGITADOR!$M$1,G1743,E1743)))","v":""},"",{"$f":"IF(F1743=\"\",\"\",VLOOKUP(F1743,referentes!$Q$2:$T$300,3,FALSE))","v":""},null,null,null,null,null,{"$f":"IF(L1743=\"\",\"\",VLOOKUP(L1743,referentes!$G$2:$N$15,2,FALSE))","v":""},null,null,"",null,null,""]
[null,{"$f":"IF(C1744=\"\",\"\",IF(COUNTIF($C$3:C1744, C1744)>1, \"\", C1744))","v":""},{"$f":"IF(G1744=\"\",\"\",IF(F1744=\"\",\"\",CONCATENATE(DIGITADOR!$M$1,G1744,E1744)))","v":""},"",{"$f":"IF(F1744=\"\",\"\",VLOOKUP(F1744,referentes!$Q$2:$T$300,3,FALSE))","v":""},null,null,null,null,null,{"$f":"IF(L1744=\"\",\"\",VLOOKUP(L1744,referentes!$G$2:$N$15,2,FALSE))","v":""},null,null,"",null,null,""]
[null,{"$f":"IF(C1745=\"\",\"\",IF(COUNTIF($C$3:C1745, C1745)>1, \"\", C1745))","v":""},{"$f":"IF(G1745=\"\",\"\",IF(F1745=\"\",\"\",CONCATENATE(DIGITADOR!$M$1,G1745,E1745)))","v":""},"",{"$f":"IF(F1745=\"\",\"\",VLOOKUP(F1745,referentes!$Q$2:$T$300,3,FALSE))","v":""},null,null,null,null,null,{"$f":"IF(L1745=\"\",\"\",VLOOKUP(L1745,referentes!$G$2:$N$15,2,FALSE))","v":""},null,null,"",null,null,""]
[null,{"$f":"IF(C1746=\"\",\"\",IF(COUNTIF($C$3:C1746, C1746)>1, \"\", C1746))","v":""},{"$f":"IF(G1746=\"\",\"\",IF(F1746=\"\",\"\",CONCATENATE(DIGITADOR!$M$1,G1746,E1746)))","v":""},"",{"$f":"IF(F1746=\"\",\"\",VLOOKUP(F1746,referentes!$Q$2:$T$300,3,FALSE))","v":""},null,null,null,null,null,{"$f":"IF(L1746=\"\",\"\",VLOOKUP(L1746,referentes!$G$2:$N$15,2,FALSE))","v":""},null,null,"",null,null,""]
[null,{"$f":"IF(C1747=\"\",\"\",IF(COUNTIF($C$3:C1747, C1747)>1, \"\", C1747))","v":""},{"$f":"IF(G1747=\"\",\"\",IF(F1747=\"\",\"\",CONCATENATE(DIGITADOR!$M$1,G1747,E1747)))","v":""},"",{"$f":"IF(F1747=\"\",\"\",VLOOKUP(F1747,referentes!$Q$2:$T$300,3,FALSE))","v":""},null,null,null,null,null,{"$f":"IF(L1747=\"\",\"\",VLOOKUP(L1747,referentes!$G$2:$N$15,2,FALSE))","v":""},null,null,"",null,null,""]
[null,{"$f":"IF(C1748=\"\",\"\",IF(COUNTIF($C$3:C1748, C1748)>1, \"\", C1748))","v":""},{"$f":"IF(G1748=\"\",\"\",IF(F1748=\"\",\"\",CONCATENATE(DIGITADOR!$M$1,G1748,E1748)))","v":""},"",{"$f":"IF(F1748=\"\",\"\",VLOOKUP(F1748,referentes!$Q$2:$T$300,3,FALSE))","v":""},null,null,null,null,null,{"$f":"IF(L1748=\"\",\"\",VLOOKUP(L1748,referentes!$G$2:$N$15,2,FALSE))","v":""},null,null,"",null,null,""]
[null,{"$f":"IF(C1749=\"\",\"\",IF(COUNTIF($C$3:C1749, C1749)>1, \"\", C1749))","v":""},{"$f":"IF(G1749=\"\",\"\",IF(F1749=\"\",\"\",CONCATENATE(DIGITADOR!$M$1,G1749,E1749)))","v":""},"",{"$f":"IF(F1749=\"\",\"\",VLOOKUP(F1749,referentes!$Q$2:$T$300,3,FALSE))","v":""},null,null,null,null,null,{"$f":"IF(L1749=\"\",\"\",VLOOKUP(L1749,referentes!$G$2:$N$15,2,FALSE))","v":""},null,null,"",null,null,""]
[null,{"$f":"IF(C1750=\"\",\"\",IF(COUNTIF($C$3:C1750, C1750)>1, \"\", C1750))","v":""},{"$f":"IF(G1750=\"\",\"\",IF(F1750=\"\",\"\",CONCATENATE(DIGITADOR!$M$1,G1750,E1750)))","v":""},"",{"$f":"IF(F1750=\"\",\"\",VLOOKUP(F1750,referentes!$Q$2:$T$300,3,FALSE))","v":""},null,null,null,null,null,{"$f":"IF(L1750=\"\",\"\",VLOOKUP(L1750,referentes!$G$2:$N$15,2,FALSE))","v":""},null,null,"",null,null,""]
[null,{"$f":"IF(C1751=\"\",\"\",IF(COUNTIF($C$3:C1751, C1751)>1, \"\", C1751))","v":""},{"$f":"IF(G1751=\"\",\"\",IF(F1751=\"\",\"\",CONCATENATE(DIGITADOR!$M$1,G1751,E1751)))","v":""},"",{"$f":"IF(F1751=\"\",\"\",VLOOKUP(F1751,referentes!$Q$2:$T$300,3,FALSE))","v":""},null,null,null,null,null,{"$f":"IF(L1751=\"\",\"\",VLOOKUP(L1751,referentes!$G$2:$N$15,2,FALSE))","v":""},null,null,"",null,null,""]
[null,{"$f":"IF(C1752=\"\",\"\",IF(COUNTIF($C$3:C1752, C1752)>1, \"\", C1752))","v":""},{"$f":"IF(G1752=\"\",\"\",IF(F1752=\"\",\"\",CONCATENATE(DIGITADOR!$M$1,G1752,E1752)))","v":""},"",{"$f":"IF(F1752=\"\",\"\",VLOOKUP(F1752,referentes!$Q$2:$T$300,3,FALSE))","v":""},null,null,null,null,null,{"$f":"IF(L1752=\"\",\"\",VLOOKUP(L1752,referentes!$G$2:$N$15,2,FALSE))","v":""},null,null,"",null,null,""]
[null,{"$f":"IF(C1753=\"\",\"\",IF(COUNTIF($C$3:C1753, C1753)>1, \"\", C1753))","v":""},{"$f":"IF(G1753=\"\",\"\",IF(F1753=\"\",\"\",CONCATENATE(DIGITADOR!$M$1,G1753,E1753)))","v":""},"",{"$f":"IF(F1753=\"\",\"\",VLOOKUP(F1753,referentes!$Q$2:$T$300,3,FALSE))","v":""},null,null,null,null,null,{"$f":"IF(L1753=\"\",\"\",VLOOKUP(L1753,referentes!$G$2:$N$15,2,FALSE))","v":""},null,null,"",null,null,""]
[null,{"$f":"IF(C1754=\"\",\"\",IF(COUNTIF($C$3:C1754, C1754)>1, \"\", C1754))","v":""},{"$f":"IF(G1754=\"\",\"\",IF(F1754=\"\",\"\",CONCATENATE(DIGITADOR!$M$1,G1754,E1754)))","v":""},"",{"$f":"IF(F1754=\"\",\"\",VLOOKUP(F1754,referentes!$Q$2:$T$300,3,FALSE))","v":""},null,null,null,null,null,{"$f":"IF(L1754=\"\",\"\",VLOOKUP(L1754,referentes!$G$2:$N$15,2,FALSE))","v":""},null,null,"",null,null,""]
[null,{"$f":"IF(C1755=\"\",\"\",IF(COUNTIF($C$3:C1755, C1755)>1, \"\", C1755))","v":""},{"$f":"IF(G1755=\"\",\"\",IF(F1755=\"\",\"\",CONCATENATE(DIGITADOR!$M$1,G1755,E1755)))","v":""},"",{"$f":"IF(F1755=\"\",\"\",VLOOKUP(F1755,referentes!$Q$2:$T$300,3,FALSE))","v":""},null,null,null,null,null,{"$f":"IF(L1755=\"\",\"\",VLOOKUP(L1755,referentes!$G$2:$N$15,2,FALSE))","v":""},null,null,"",null,null,""]
[null,{"$f":"IF(C1756=\"\",\"\",IF(COUNTIF($C$3:C1756, C1756)>1, \"\", C1756))","v":""},{"$f":"IF(G1756=\"\",\"\",IF(F1756=\"\",\"\",CONCATENATE(DIGITADOR!$M$1,G1756,E1756)))","v":""},"",{"$f":"IF(F1756=\"\",\"\",VLOOKUP(F1756,referentes!$Q$2:$T$300,3,FALSE))","v":""},null,null,null,null,null,{"$f":"IF(L1756=\"\",\"\",VLOOKUP(L1756,referentes!$G$2:$N$15,2,FALSE))","v":""},null,null,"",null,null,""]
[null,{"$f":"IF(C1757=\"\",\"\",IF(COUNTIF($C$3:C1757, C1757)>1, \"\", C1757))","v":""},{"$f":"IF(G1757=\"\",\"\",IF(F1757=\"\",\"\",CONCATENATE(DIGITADOR!$M$1,G1757,E1757)))","v":""},"",{"$f":"IF(F1757=\"\",\"\",VLOOKUP(F1757,referentes!$Q$2:$T$300,3,FALSE))","v":""},null,null,null,null,null,{"$f":"IF(L1757=\"\",\"\",VLOOKUP(L1757,referentes!$G$2:$N$15,2,FALSE))","v":""},null,null,"",null,null,""]
[null,{"$f":"IF(C1758=\"\",\"\",IF(COUNTIF($C$3:C1758, C1758)>1, \"\", C1758))","v":""},{"$f":"IF(G1758=\"\",\"\",IF(F1758=\"\",\"\",CONCATENATE(DIGITADOR!$M$1,G1758,E1758)))","v":""},"",{"$f":"IF(F1758=\"\",\"\",VLOOKUP(F1758,referentes!$Q$2:$T$300,3,FALSE))","v":""},null,null,null,null,null,{"$f":"IF(L1758=\"\",\"\",VLOOKUP(L1758,referentes!$G$2:$N$15,2,FALSE))","v":""},null,null,"",null,null,""]
[null,{"$f":"IF(C1759=\"\",\"\",IF(COUNTIF($C$3:C1759, C1759)>1, \"\", C1759))","v":""},{"$f":"IF(G1759=\"\",\"\",IF(F1759=\"\",\"\",CONCATENATE(DIGITADOR!$M$1,G1759,E1759)))","v":""},"",{"$f":"IF(F1759=\"\",\"\",VLOOKUP(F1759,referentes!$Q$2:$T$300,3,FALSE))","v":""},null,null,null,null,null,{"$f":"IF(L1759=\"\",\"\",VLOOKUP(L1759,referentes!$G$2:$N$15,2,FALSE))","v":""},null,null,"",null,null,""]
[null,{"$f":"IF(C1760=\"\",\"\",IF(COUNTIF($C$3:C1760, C1760)>1, \"\", C1760))","v":""},{"$f":"IF(G1760=\"\",\"\",IF(F1760=\"\",\"\",CONCATENATE(DIGITADOR!$M$1,G1760,E1760)))","v":""},"",{"$f":"IF(F1760=\"\",\"\",VLOOKUP(F1760,referentes!$Q$2:$T$300,3,FALSE))","v":""},null,null,null,null,null,{"$f":"IF(L1760=\"\",\"\",VLOOKUP(L1760,referentes!$G$2:$N$15,2,FALSE))","v":""},null,null,"",null,null,""]
[null,{"$f":"IF(C1761=\"\",\"\",IF(COUNTIF($C$3:C1761, C1761)>1, \"\", C1761))","v":""},{"$f":"IF(G1761=\"\",\"\",IF(F1761=\"\",\"\",CONCATENATE(DIGITADOR!$M$1,G1761,E1761)))","v":""},"",{"$f":"IF(F1761=\"\",\"\",VLOOKUP(F1761,referentes!$Q$2:$T$300,3,FALSE))","v":""},null,null,null,null,null,{"$f":"IF(L1761=\"\",\"\",VLOOKUP(L1761,referentes!$G$2:$N$15,2,FALSE))","v":""},null,null,"",null,null,""]
[null,{"$f":"IF(C1762=\"\",\"\",IF(COUNTIF($C$3:C1762, C1762)>1, \"\", C1762))","v":""},{"$f":"IF(G1762=\"\",\"\",IF(F1762=\"\",\"\",CONCATENATE(DIGITADOR!$M$1,G1762,E1762)))","v":""},"",{"$f":"IF(F1762=\"\",\"\",VLOOKUP(F1762,referentes!$Q$2:$T$300,3,FALSE))","v":""},null,null,null,null,null,{"$f":"IF(L1762=\"\",\"\",VLOOKUP(L1762,referentes!$G$2:$N$15,2,FALSE))","v":""},null,null,"",null,null,""]
[null,{"$f":"IF(C1763=\"\",\"\",IF(COUNTIF($C$3:C1763, C1763)>1, \"\", C1763))","v":""},{"$f":"IF(G1763=\"\",\"\",IF(F1763=\"\",\"\",CONCATENATE(DIGITADOR!$M$1,G1763,E1763)))","v":""},"",{"$f":"IF(F1763=\"\",\"\",VLOOKUP(F1763,referentes!$Q$2:$T$300,3,FALSE))","v":""},null,null,null,null,null,{"$f":"IF(L1763=\"\",\"\",VLOOKUP(L1763,referentes!$G$2:$N$15,2,FALSE))","v":""},null,null,"",null,null,""]
[null,{"$f":"IF(C1764=\"\",\"\",IF(COUNTIF($C$3:C1764, C1764)>1, \"\", C1764))","v":""},{"$f":"IF(G1764=\"\",\"\",IF(F1764=\"\",\"\",CONCATENATE(DIGITADOR!$M$1,G1764,E1764)))","v":""},"",{"$f":"IF(F1764=\"\",\"\",VLOOKUP(F1764,referentes!$Q$2:$T$300,3,FALSE))","v":""},null,null,null,null,null,{"$f":"IF(L1764=\"\",\"\",VLOOKUP(L1764,referentes!$G$2:$N$15,2,FALSE))","v":""},null,null,"",null,null,""]
[null,{"$f":"IF(C1765=\"\",\"\",IF(COUNTIF($C$3:C1765, C1765)>1, \"\", C1765))","v":""},{"$f":"IF(G1765=\"\",\"\",IF(F1765=\"\",\"\",CONCATENATE(DIGITADOR!$M$1,G1765,E1765)))","v":""},"",{"$f":"IF(F1765=\"\",\"\",VLOOKUP(F1765,referentes!$Q$2:$T$300,3,FALSE))","v":""},null,null,null,null,null,{"$f":"IF(L1765=\"\",\"\",VLOOKUP(L1765,referentes!$G$2:$N$15,2,FALSE))","v":""},null,null,"",null,null,""]
[null,{"$f":"IF(C1766=\"\",\"\",IF(COUNTIF($C$3:C1766, C1766)>1, \"\", C1766))","v":""},{"$f":"IF(G1766=\"\",\"\",IF(F1766=\"\",\"\",CONCATENATE(DIGITADOR!$M$1,G1766,E1766)))","v":""},"",{"$f":"IF(F1766=\"\",\"\",VLOOKUP(F1766,referentes!$Q$2:$T$300,3,FALSE))","v":""},null,null,null,null,null,{"$f":"IF(L1766=\"\",\"\",VLOOKUP(L1766,referentes!$G$2:$N$15,2,FALSE))","v":""},null,null,"",null,null,""]
[null,{"$f":"IF(C1767=\"\",\"\",IF(COUNTIF($C$3:C1767, C1767)>1, \"\", C1767))","v":""},{"$f":"IF(G1767=\"\",\"\",IF(F1767=\"\",\"\",CONCATENATE(DIGITADOR!$M$1,G1767,E1767)))","v":""},"",{"$f":"IF(F1767=\"\",\"\",VLOOKUP(F1767,referentes!$Q$2:$T$300,3,FALSE))","v":""},null,null,null,null,null,{"$f":"IF(L1767=\"\",\"\",VLOOKUP(L1767,referentes!$G$2:$N$15,2,FALSE))","v":""},null,null,"",null,null,""]
[null,{"$f":"IF(C1768=\"\",\"\",IF(COUNTIF($C$3:C1768, C1768)>1, \"\", C1768))","v":""},{"$f":"IF(G1768=\"\",\"\",IF(F1768=\"\",\"\",CONCATENATE(DIGITADOR!$M$1,G1768,E1768)))","v":""},"",{"$f":"IF(F1768=\"\",\"\",VLOOKUP(F1768,referentes!$Q$2:$T$300,3,FALSE))","v":""},null,null,null,null,null,{"$f":"IF(L1768=\"\",\"\",VLOOKUP(L1768,referentes!$G$2:$N$15,2,FALSE))","v":""},null,null,"",null,null,""]
[null,{"$f":"IF(C1769=\"\",\"\",IF(COUNTIF($C$3:C1769, C1769)>1, \"\", C1769))","v":""},{"$f":"IF(G1769=\"\",\"\",IF(F1769=\"\",\"\",CONCATENATE(DIGITADOR!$M$1,G1769,E1769)))","v":""},"",{"$f":"IF(F1769=\"\",\"\",VLOOKUP(F1769,referentes!$Q$2:$T$300,3,FALSE))","v":""},null,null,null,null,null,{"$f":"IF(L1769=\"\",\"\",VLOOKUP(L1769,referentes!$G$2:$N$15,2,FALSE))","v":""},null,null,"",null,null,""]
[null,{"$f":"IF(C1770=\"\",\"\",IF(COUNTIF($C$3:C1770, C1770)>1, \"\", C1770))","v":""},{"$f":"IF(G1770=\"\",\"\",IF(F1770=\"\",\"\",CONCATENATE(DIGITADOR!$M$1,G1770,E1770)))","v":""},"",{"$f":"IF(F1770=\"\",\"\",VLOOKUP(F1770,referentes!$Q$2:$T$300,3,FALSE))","v":""},null,null,null,null,null,{"$f":"IF(L1770=\"\",\"\",VLOOKUP(L1770,referentes!$G$2:$N$15,2,FALSE))","v":""},null,null,"",null,null,""]
[null,{"$f":"IF(C1771=\"\",\"\",IF(COUNTIF($C$3:C1771, C1771)>1, \"\", C1771))","v":""},{"$f":"IF(G1771=\"\",\"\",IF(F1771=\"\",\"\",CONCATENATE(DIGITADOR!$M$1,G1771,E1771)))","v":""},"",{"$f":"IF(F1771=\"\",\"\",VLOOKUP(F1771,referentes!$Q$2:$T$300,3,FALSE))","v":""},null,null,null,null,null,{"$f":"IF(L1771=\"\",\"\",VLOOKUP(L1771,referentes!$G$2:$N$15,2,FALSE))","v":""},null,null,"",null,null,""]
[null,{"$f":"IF(C1772=\"\",\"\",IF(COUNTIF($C$3:C1772, C1772)>1, \"\", C1772))","v":""},{"$f":"IF(G1772=\"\",\"\",IF(F1772=\"\",\"\",CONCATENATE(DIGITADOR!$M$1,G1772,E1772)))","v":""},"",{"$f":"IF(F1772=\"\",\"\",VLOOKUP(F1772,referentes!$Q$2:$T$300,3,FALSE))","v":""},null,null,null,null,null,{"$f":"IF(L1772=\"\",\"\",VLOOKUP(L1772,referentes!$G$2:$N$15,2,FALSE))","v":""},null,null,"",null,null,""]
[null,{"$f":"IF(C1773=\"\",\"\",IF(COUNTIF($C$3:C1773, C1773)>1, \"\", C1773))","v":""},{"$f":"IF(G1773=\"\",\"\",IF(F1773=\"\",\"\",CONCATENATE(DIGITADOR!$M$1,G1773,E1773)))","v":""},"",{"$f":"IF(F1773=\"\",\"\",VLOOKUP(F1773,referentes!$Q$2:$T$300,3,FALSE))","v":""},null,null,null,null,null,{"$f":"IF(L1773=\"\",\"\",VLOOKUP(L1773,referentes!$G$2:$N$15,2,FALSE))","v":""},null,null,"",null,null,""]
[null,{"$f":"IF(C1774=\"\",\"\",IF(COUNTIF($C$3:C1774, C1774)>1, \"\", C1774))","v":""},{"$f":"IF(G1774=\"\",\"\",IF(F1774=\"\",\"\",CONCATENATE(DIGITADOR!$M$1,G1774,E1774)))","v":""},"",{"$f":"IF(F1774=\"\",\"\",VLOOKUP(F1774,referentes!$Q$2:$T$300,3,FALSE))","v":""},null,null,null,null,null,{"$f":"IF(L1774=\"\",\"\",VLOOKUP(L1774,referentes!$G$2:$N$15,2,FALSE))","v":""},null,null,"",null,null,""]
[null,{"$f":"IF(C1775=\"\",\"\",IF(COUNTIF($C$3:C1775, C1775)>1, \"\", C1775))","v":""},{"$f":"IF(G1775=\"\",\"\",IF(F1775=\"\",\"\",CONCATENATE(DIGITADOR!$M$1,G1775,E1775)))","v":""},"",{"$f":"IF(F1775=\"\",\"\",VLOOKUP(F1775,referentes!$Q$2:$T$300,3,FALSE))","v":""},null,null,null,null,null,{"$f":"IF(L1775=\"\",\"\",VLOOKUP(L1775,referentes!$G$2:$N$15,2,FALSE))","v":""},null,null,"",null,null,""]
[null,{"$f":"IF(C1776=\"\",\"\",IF(COUNTIF($C$3:C1776, C1776)>1, \"\", C1776))","v":""},{"$f":"IF(G1776=\"\",\"\",IF(F1776=\"\",\"\",CONCATENATE(DIGITADOR!$M$1,G1776,E1776)))","v":""},"",{"$f":"IF(F1776=\"\",\"\",VLOOKUP(F1776,referentes!$Q$2:$T$300,3,FALSE))","v":""},null,null,null,null,null,{"$f":"IF(L1776=\"\",\"\",VLOOKUP(L1776,referentes!$G$2:$N$15,2,FALSE))","v":""},null,null,"",null,null,""]
[null,{"$f":"IF(C1777=\"\",\"\",IF(COUNTIF($C$3:C1777, C1777)>1, \"\", C1777))","v":""},{"$f":"IF(G1777=\"\",\"\",IF(F1777=\"\",\"\",CONCATENATE(DIGITADOR!$M$1,G1777,E1777)))","v":""},"",{"$f":"IF(F1777=\"\",\"\",VLOOKUP(F1777,referentes!$Q$2:$T$300,3,FALSE))","v":""},null,null,null,null,null,{"$f":"IF(L1777=\"\",\"\",VLOOKUP(L1777,referentes!$G$2:$N$15,2,FALSE))","v":""},null,null,"",null,null,""]
[null,{"$f":"IF(C1778=\"\",\"\",IF(COUNTIF($C$3:C1778, C1778)>1, \"\", C1778))","v":""},{"$f":"IF(G1778=\"\",\"\",IF(F1778=\"\",\"\",CONCATENATE(DIGITADOR!$M$1,G1778,E1778)))","v":""},"",{"$f":"IF(F1778=\"\",\"\",VLOOKUP(F1778,referentes!$Q$2:$T$300,3,FALSE))","v":""},null,null,null,null,null,{"$f":"IF(L1778=\"\",\"\",VLOOKUP(L1778,referentes!$G$2:$N$15,2,FALSE))","v":""},null,null,"",null,null,""]
[null,{"$f":"IF(C1779=\"\",\"\",IF(COUNTIF($C$3:C1779, C1779)>1, \"\", C1779))","v":""},{"$f":"IF(G1779=\"\",\"\",IF(F1779=\"\",\"\",CONCATENATE(DIGITADOR!$M$1,G1779,E1779)))","v":""},"",{"$f":"IF(F1779=\"\",\"\",VLOOKUP(F1779,referentes!$Q$2:$T$300,3,FALSE))","v":""},null,null,null,null,null,{"$f":"IF(L1779=\"\",\"\",VLOOKUP(L1779,referentes!$G$2:$N$15,2,FALSE))","v":""},null,null,"",null,null,""]
[null,{"$f":"IF(C1780=\"\",\"\",IF(COUNTIF($C$3:C1780, C1780)>1, \"\", C1780))","v":""},{"$f":"IF(G1780=\"\",\"\",IF(F1780=\"\",\"\",CONCATENATE(DIGITADOR!$M$1,G1780,E1780)))","v":""},"",{"$f":"IF(F1780=\"\",\"\",VLOOKUP(F1780,referentes!$Q$2:$T$300,3,FALSE))","v":""},null,null,null,null,null,{"$f":"IF(L1780=\"\",\"\",VLOOKUP(L1780,referentes!$G$2:$N$15,2,FALSE))","v":""},null,null,"",null,null,""]
[null,{"$f":"IF(C1781=\"\",\"\",IF(COUNTIF($C$3:C1781, C1781)>1, \"\", C1781))","v":""},{"$f":"IF(G1781=\"\",\"\",IF(F1781=\"\",\"\",CONCATENATE(DIGITADOR!$M$1,G1781,E1781)))","v":""},"",{"$f":"IF(F1781=\"\",\"\",VLOOKUP(F1781,referentes!$Q$2:$T$300,3,FALSE))","v":""},null,null,null,null,null,{"$f":"IF(L1781=\"\",\"\",VLOOKUP(L1781,referentes!$G$2:$N$15,2,FALSE))","v":""},null,null,"",null,null,""]
[null,{"$f":"IF(C1782=\"\",\"\",IF(COUNTIF($C$3:C1782, C1782)>1, \"\", C1782))","v":""},{"$f":"IF(G1782=\"\",\"\",IF(F1782=\"\",\"\",CONCATENATE(DIGITADOR!$M$1,G1782,E1782)))","v":""},"",{"$f":"IF(F1782=\"\",\"\",VLOOKUP(F1782,referentes!$Q$2:$T$300,3,FALSE))","v":""},null,null,null,null,null,{"$f":"IF(L1782=\"\",\"\",VLOOKUP(L1782,referentes!$G$2:$N$15,2,FALSE))","v":""},null,null,"",null,null,""]
[null,{"$f":"IF(C1783=\"\",\"\",IF(COUNTIF($C$3:C1783, C1783)>1, \"\", C1783))","v":""},{"$f":"IF(G1783=\"\",\"\",IF(F1783=\"\",\"\",CONCATENATE(DIGITADOR!$M$1,G1783,E1783)))","v":""},"",{"$f":"IF(F1783=\"\",\"\",VLOOKUP(F1783,referentes!$Q$2:$T$300,3,FALSE))","v":""},null,null,null,null,null,{"$f":"IF(L1783=\"\",\"\",VLOOKUP(L1783,referentes!$G$2:$N$15,2,FALSE))","v":""},null,null,"",null,null,""]
[null,{"$f":"IF(C1784=\"\",\"\",IF(COUNTIF($C$3:C1784, C1784)>1, \"\", C1784))","v":""},{"$f":"IF(G1784=\"\",\"\",IF(F1784=\"\",\"\",CONCATENATE(DIGITADOR!$M$1,G1784,E1784)))","v":""},"",{"$f":"IF(F1784=\"\",\"\",VLOOKUP(F1784,referentes!$Q$2:$T$300,3,FALSE))","v":""},null,null,null,null,null,{"$f":"IF(L1784=\"\",\"\",VLOOKUP(L1784,referentes!$G$2:$N$15,2,FALSE))","v":""},null,null,"",null,null,""]
[null,{"$f":"IF(C1785=\"\",\"\",IF(COUNTIF($C$3:C1785, C1785)>1, \"\", C1785))","v":""},{"$f":"IF(G1785=\"\",\"\",IF(F1785=\"\",\"\",CONCATENATE(DIGITADOR!$M$1,G1785,E1785)))","v":""},"",{"$f":"IF(F1785=\"\",\"\",VLOOKUP(F1785,referentes!$Q$2:$T$300,3,FALSE))","v":""},null,null,null,null,null,{"$f":"IF(L1785=\"\",\"\",VLOOKUP(L1785,referentes!$G$2:$N$15,2,FALSE))","v":""},null,null,"",null,null,""]
[null,{"$f":"IF(C1786=\"\",\"\",IF(COUNTIF($C$3:C1786, C1786)>1, \"\", C1786))","v":""},{"$f":"IF(G1786=\"\",\"\",IF(F1786=\"\",\"\",CONCATENATE(DIGITADOR!$M$1,G1786,E1786)))","v":""},"",{"$f":"IF(F1786=\"\",\"\",VLOOKUP(F1786,referentes!$Q$2:$T$300,3,FALSE))","v":""},null,null,null,null,null,{"$f":"IF(L1786=\"\",\"\",VLOOKUP(L1786,referentes!$G$2:$N$15,2,FALSE))","v":""},null,null,"",null,null,""]
[null,{"$f":"IF(C1787=\"\",\"\",IF(COUNTIF($C$3:C1787, C1787)>1, \"\", C1787))","v":""},{"$f":"IF(G1787=\"\",\"\",IF(F1787=\"\",\"\",CONCATENATE(DIGITADOR!$M$1,G1787,E1787)))","v":""},"",{"$f":"IF(F1787=\"\",\"\",VLOOKUP(F1787,referentes!$Q$2:$T$300,3,FALSE))","v":""},null,null,null,null,null,{"$f":"IF(L1787=\"\",\"\",VLOOKUP(L1787,referentes!$G$2:$N$15,2,FALSE))","v":""},null,null,"",null,null,""]
[null,{"$f":"IF(C1788=\"\",\"\",IF(COUNTIF($C$3:C1788, C1788)>1, \"\", C1788))","v":""},{"$f":"IF(G1788=\"\",\"\",IF(F1788=\"\",\"\",CONCATENATE(DIGITADOR!$M$1,G1788,E1788)))","v":""},"",{"$f":"IF(F1788=\"\",\"\",VLOOKUP(F1788,referentes!$Q$2:$T$300,3,FALSE))","v":""},null,null,null,null,null,{"$f":"IF(L1788=\"\",\"\",VLOOKUP(L1788,referentes!$G$2:$N$15,2,FALSE))","v":""},null,null,"",null,null,""]
[null,{"$f":"IF(C1789=\"\",\"\",IF(COUNTIF($C$3:C1789, C1789)>1, \"\", C1789))","v":""},{"$f":"IF(G1789=\"\",\"\",IF(F1789=\"\",\"\",CONCATENATE(DIGITADOR!$M$1,G1789,E1789)))","v":""},"",{"$f":"IF(F1789=\"\",\"\",VLOOKUP(F1789,referentes!$Q$2:$T$300,3,FALSE))","v":""},null,null,null,null,null,{"$f":"IF(L1789=\"\",\"\",VLOOKUP(L1789,referentes!$G$2:$N$15,2,FALSE))","v":""},null,null,"",null,null,""]
[null,{"$f":"IF(C1790=\"\",\"\",IF(COUNTIF($C$3:C1790, C1790)>1, \"\", C1790))","v":""},{"$f":"IF(G1790=\"\",\"\",IF(F1790=\"\",\"\",CONCATENATE(DIGITADOR!$M$1,G1790,E1790)))","v":""},"",{"$f":"IF(F1790=\"\",\"\",VLOOKUP(F1790,referentes!$Q$2:$T$300,3,FALSE))","v":""},null,null,null,null,null,{"$f":"IF(L1790=\"\",\"\",VLOOKUP(L1790,referentes!$G$2:$N$15,2,FALSE))","v":""},null,null,"",null,null,""]
[null,{"$f":"IF(C1791=\"\",\"\",IF(COUNTIF($C$3:C1791, C1791)>1, \"\", C1791))","v":""},{"$f":"IF(G1791=\"\",\"\",IF(F1791=\"\",\"\",CONCATENATE(DIGITADOR!$M$1,G1791,E1791)))","v":""},"",{"$f":"IF(F1791=\"\",\"\",VLOOKUP(F1791,referentes!$Q$2:$T$300,3,FALSE))","v":""},null,null,null,null,null,{"$f":"IF(L1791=\"\",\"\",VLOOKUP(L1791,referentes!$G$2:$N$15,2,FALSE))","v":""},null,null,"",null,null,""]
[null,{"$f":"IF(C1792=\"\",\"\",IF(COUNTIF($C$3:C1792, C1792)>1, \"\", C1792))","v":""},{"$f":"IF(G1792=\"\",\"\",IF(F1792=\"\",\"\",CONCATENATE(DIGITADOR!$M$1,G1792,E1792)))","v":""},"",{"$f":"IF(F1792=\"\",\"\",VLOOKUP(F1792,referentes!$Q$2:$T$300,3,FALSE))","v":""},null,null,null,null,null,{"$f":"IF(L1792=\"\",\"\",VLOOKUP(L1792,referentes!$G$2:$N$15,2,FALSE))","v":""},null,null,"",null,null,""]
[null,{"$f":"IF(C1793=\"\",\"\",IF(COUNTIF($C$3:C1793, C1793)>1, \"\", C1793))","v":""},{"$f":"IF(G1793=\"\",\"\",IF(F1793=\"\",\"\",CONCATENATE(DIGITADOR!$M$1,G1793,E1793)))","v":""},"",{"$f":"IF(F1793=\"\",\"\",VLOOKUP(F1793,referentes!$Q$2:$T$300,3,FALSE))","v":""},null,null,null,null,null,{"$f":"IF(L1793=\"\",\"\",VLOOKUP(L1793,referentes!$G$2:$N$15,2,FALSE))","v":""},null,null,"",null,null,""]
[null,{"$f":"IF(C1794=\"\",\"\",IF(COUNTIF($C$3:C1794, C1794)>1, \"\", C1794))","v":""},{"$f":"IF(G1794=\"\",\"\",IF(F1794=\"\",\"\",CONCATENATE(DIGITADOR!$M$1,G1794,E1794)))","v":""},"",{"$f":"IF(F1794=\"\",\"\",VLOOKUP(F1794,referentes!$Q$2:$T$300,3,FALSE))","v":""},null,null,null,null,null,{"$f":"IF(L1794=\"\",\"\",VLOOKUP(L1794,referentes!$G$2:$N$15,2,FALSE))","v":""},null,null,"",null,null,""]
[null,{"$f":"IF(C1795=\"\",\"\",IF(COUNTIF($C$3:C1795, C1795)>1, \"\", C1795))","v":""},{"$f":"IF(G1795=\"\",\"\",IF(F1795=\"\",\"\",CONCATENATE(DIGITADOR!$M$1,G1795,E1795)))","v":""},"",{"$f":"IF(F1795=\"\",\"\",VLOOKUP(F1795,referentes!$Q$2:$T$300,3,FALSE))","v":""},null,null,null,null,null,{"$f":"IF(L1795=\"\",\"\",VLOOKUP(L1795,referentes!$G$2:$N$15,2,FALSE))","v":""},null,null,"",null,null,""]
[null,{"$f":"IF(C1796=\"\",\"\",IF(COUNTIF($C$3:C1796, C1796)>1, \"\", C1796))","v":""},{"$f":"IF(G1796=\"\",\"\",IF(F1796=\"\",\"\",CONCATENATE(DIGITADOR!$M$1,G1796,E1796)))","v":""},{"$f":"IF(C1796=\"\",\"\",CONCATENATE(C1796,ROW()-2))","v":""},{"$f":"IF(F1796=\"\",\"\",VLOOKUP(F1796,referentes!$Q$2:$T$300,3,FALSE))","v":""},null,null,null,null,null,{"$f":"IF(L1796=\"\",\"\",VLOOKUP(L1796,referentes!$G$2:$N$15,2,FALSE))","v":""},null,null,{"$f":"IF(M1796=\"\",\"\",M1796/PI())","v":""},null,null,{"$f":"IF(N1796=\"\",\"\",((PI())*((N1796/100)^2))/4*10000/500)","v":""}]
[null,{"$f":"IF(C1797=\"\",\"\",IF(COUNTIF($C$3:C1797, C1797)>1, \"\", C1797))","v":""},{"$f":"IF(G1797=\"\",\"\",IF(F1797=\"\",\"\",CONCATENATE(DIGITADOR!$M$1,G1797,E1797)))","v":""},"",{"$f":"IF(F1797=\"\",\"\",VLOOKUP(F1797,referentes!$Q$2:$T$300,3,FALSE))","v":""},null,null,null,null,null,{"$f":"IF(L1797=\"\",\"\",VLOOKUP(L1797,referentes!$G$2:$N$15,2,FALSE))","v":""},null,null,"",null,null,""]
[null,{"$f":"IF(C1798=\"\",\"\",IF(COUNTIF($C$3:C1798, C1798)>1, \"\", C1798))","v":""},{"$f":"IF(G1798=\"\",\"\",IF(F1798=\"\",\"\",CONCATENATE(DIGITADOR!$M$1,G1798,E1798)))","v":""},"",{"$f":"IF(F1798=\"\",\"\",VLOOKUP(F1798,referentes!$Q$2:$T$300,3,FALSE))","v":""},null,null,null,null,null,{"$f":"IF(L1798=\"\",\"\",VLOOKUP(L1798,referentes!$G$2:$N$15,2,FALSE))","v":""},null,null,"",null,null,""]
[null,{"$f":"IF(C1799=\"\",\"\",IF(COUNTIF($C$3:C1799, C1799)>1, \"\", C1799))","v":""},{"$f":"IF(G1799=\"\",\"\",IF(F1799=\"\",\"\",CONCATENATE(DIGITADOR!$M$1,G1799,E1799)))","v":""},"",{"$f":"IF(F1799=\"\",\"\",VLOOKUP(F1799,referentes!$Q$2:$T$300,3,FALSE))","v":""},null,null,null,null,null,{"$f":"IF(L1799=\"\",\"\",VLOOKUP(L1799,referentes!$G$2:$N$15,2,FALSE))","v":""},null,null,"",null,null,""]
[null,{"$f":"IF(C1800=\"\",\"\",IF(COUNTIF($C$3:C1800, C1800)>1, \"\", C1800))","v":""},{"$f":"IF(G1800=\"\",\"\",IF(F1800=\"\",\"\",CONCATENATE(DIGITADOR!$M$1,G1800,E1800)))","v":""},"",{"$f":"IF(F1800=\"\",\"\",VLOOKUP(F1800,referentes!$Q$2:$T$300,3,FALSE))","v":""},null,null,null,null,null,{"$f":"IF(L1800=\"\",\"\",VLOOKUP(L1800,referentes!$G$2:$N$15,2,FALSE))","v":""},null,null,"",null,null,""]
[null,{"$f":"IF(C1801=\"\",\"\",IF(COUNTIF($C$3:C1801, C1801)>1, \"\", C1801))","v":""},{"$f":"IF(G1801=\"\",\"\",IF(F1801=\"\",\"\",CONCATENATE(DIGITADOR!$M$1,G1801,E1801)))","v":""},"",{"$f":"IF(F1801=\"\",\"\",VLOOKUP(F1801,referentes!$Q$2:$T$300,3,FALSE))","v":""},null,null,null,null,null,{"$f":"IF(L1801=\"\",\"\",VLOOKUP(L1801,referentes!$G$2:$N$15,2,FALSE))","v":""},null,null,"",null,null,""]
[null,{"$f":"IF(C1802=\"\",\"\",IF(COUNTIF($C$3:C1802, C1802)>1, \"\", C1802))","v":""},{"$f":"IF(G1802=\"\",\"\",IF(F1802=\"\",\"\",CONCATENATE(DIGITADOR!$M$1,G1802,E1802)))","v":""},"",{"$f":"IF(F1802=\"\",\"\",VLOOKUP(F1802,referentes!$Q$2:$T$300,3,FALSE))","v":""},null,null,null,null,null,{"$f":"IF(L1802=\"\",\"\",VLOOKUP(L1802,referentes!$G$2:$N$15,2,FALSE))","v":""},null,null,"",null,null,""]
[null,{"$f":"IF(C1803=\"\",\"\",IF(COUNTIF($C$3:C1803, C1803)>1, \"\", C1803))","v":""},{"$f":"IF(G1803=\"\",\"\",IF(F1803=\"\",\"\",CONCATENATE(DIGITADOR!$M$1,G1803,E1803)))","v":""},"",{"$f":"IF(F1803=\"\",\"\",VLOOKUP(F1803,referentes!$Q$2:$T$300,3,FALSE))","v":""},null,null,null,null,null,{"$f":"IF(L1803=\"\",\"\",VLOOKUP(L1803,referentes!$G$2:$N$15,2,FALSE))","v":""},null,null,"",null,null,""]
[null,{"$f":"IF(C1804=\"\",\"\",IF(COUNTIF($C$3:C1804, C1804)>1, \"\", C1804))","v":""},{"$f":"IF(G1804=\"\",\"\",IF(F1804=\"\",\"\",CONCATENATE(DIGITADOR!$M$1,G1804,E1804)))","v":""},"",{"$f":"IF(F1804=\"\",\"\",VLOOKUP(F1804,referentes!$Q$2:$T$300,3,FALSE))","v":""},null,null,null,null,null,{"$f":"IF(L1804=\"\",\"\",VLOOKUP(L1804,referentes!$G$2:$N$15,2,FALSE))","v":""},null,null,"",null,null,""]
[null,{"$f":"IF(C1805=\"\",\"\",IF(COUNTIF($C$3:C1805, C1805)>1, \"\", C1805))","v":""},{"$f":"IF(G1805=\"\",\"\",IF(F1805=\"\",\"\",CONCATENATE(DIGITADOR!$M$1,G1805,E1805)))","v":""},"",{"$f":"IF(F1805=\"\",\"\",VLOOKUP(F1805,referentes!$Q$2:$T$300,3,FALSE))","v":""},null,null,null,null,null,{"$f":"IF(L1805=\"\",\"\",VLOOKUP(L1805,referentes!$G$2:$N$15,2,FALSE))","v":""},null,null,"",null,null,""]
[null,{"$f":"IF(C1806=\"\",\"\",IF(COUNTIF($C$3:C1806, C1806)>1, \"\", C1806))","v":""},{"$f":"IF(G1806=\"\",\"\",IF(F1806=\"\",\"\",CONCATENATE(DIGITADOR!$M$1,G1806,E1806)))","v":""},"",{"$f":"IF(F1806=\"\",\"\",VLOOKUP(F1806,referentes!$Q$2:$T$300,3,FALSE))","v":""},null,null,null,null,null,{"$f":"IF(L1806=\"\",\"\",VLOOKUP(L1806,referentes!$G$2:$N$15,2,FALSE))","v":""},null,null,"",null,null,""]
[null,{"$f":"IF(C1807=\"\",\"\",IF(COUNTIF($C$3:C1807, C1807)>1, \"\", C1807))","v":""},{"$f":"IF(G1807=\"\",\"\",IF(F1807=\"\",\"\",CONCATENATE(DIGITADOR!$M$1,G1807,E1807)))","v":""},"",{"$f":"IF(F1807=\"\",\"\",VLOOKUP(F1807,referentes!$Q$2:$T$300,3,FALSE))","v":""},null,null,null,null,null,{"$f":"IF(L1807=\"\",\"\",VLOOKUP(L1807,referentes!$G$2:$N$15,2,FALSE))","v":""},null,null,"",null,null,""]
[null,{"$f":"IF(C1808=\"\",\"\",IF(COUNTIF($C$3:C1808, C1808)>1, \"\", C1808))","v":""},{"$f":"IF(G1808=\"\",\"\",IF(F1808=\"\",\"\",CONCATENATE(DIGITADOR!$M$1,G1808,E1808)))","v":""},"",{"$f":"IF(F1808=\"\",\"\",VLOOKUP(F1808,referentes!$Q$2:$T$300,3,FALSE))","v":""},null,null,null,null,null,{"$f":"IF(L1808=\"\",\"\",VLOOKUP(L1808,referentes!$G$2:$N$15,2,FALSE))","v":""},null,null,"",null,null,""]
[null,{"$f":"IF(C1809=\"\",\"\",IF(COUNTIF($C$3:C1809, C1809)>1, \"\", C1809))","v":""},{"$f":"IF(G1809=\"\",\"\",IF(F1809=\"\",\"\",CONCATENATE(DIGITADOR!$M$1,G1809,E1809)))","v":""},"",{"$f":"IF(F1809=\"\",\"\",VLOOKUP(F1809,referentes!$Q$2:$T$300,3,FALSE))","v":""},null,null,null,null,null,{"$f":"IF(L1809=\"\",\"\",VLOOKUP(L1809,referentes!$G$2:$N$15,2,FALSE))","v":""},null,null,"",null,null,""]
[null,{"$f":"IF(C1810=\"\",\"\",IF(COUNTIF($C$3:C1810, C1810)>1, \"\", C1810))","v":""},{"$f":"IF(G1810=\"\",\"\",IF(F1810=\"\",\"\",CONCATENATE(DIGITADOR!$M$1,G1810,E1810)))","v":""},"",{"$f":"IF(F1810=\"\",\"\",VLOOKUP(F1810,referentes!$Q$2:$T$300,3,FALSE))","v":""},null,null,null,null,null,{"$f":"IF(L1810=\"\",\"\",VLOOKUP(L1810,referentes!$G$2:$N$15,2,FALSE))","v":""},null,null,"",null,null,""]
[null,{"$f":"IF(C1811=\"\",\"\",IF(COUNTIF($C$3:C1811, C1811)>1, \"\", C1811))","v":""},{"$f":"IF(G1811=\"\",\"\",IF(F1811=\"\",\"\",CONCATENATE(DIGITADOR!$M$1,G1811,E1811)))","v":""},"",{"$f":"IF(F1811=\"\",\"\",VLOOKUP(F1811,referentes!$Q$2:$T$300,3,FALSE))","v":""},null,null,null,null,null,{"$f":"IF(L1811=\"\",\"\",VLOOKUP(L1811,referentes!$G$2:$N$15,2,FALSE))","v":""},null,null,"",null,null,""]
[null,{"$f":"IF(C1812=\"\",\"\",IF(COUNTIF($C$3:C1812, C1812)>1, \"\", C1812))","v":""},{"$f":"IF(G1812=\"\",\"\",IF(F1812=\"\",\"\",CONCATENATE(DIGITADOR!$M$1,G1812,E1812)))","v":""},"",{"$f":"IF(F1812=\"\",\"\",VLOOKUP(F1812,referentes!$Q$2:$T$300,3,FALSE))","v":""},null,null,null,null,null,{"$f":"IF(L1812=\"\",\"\",VLOOKUP(L1812,referentes!$G$2:$N$15,2,FALSE))","v":""},null,null,"",null,null,""]
[null,{"$f":"IF(C1813=\"\",\"\",IF(COUNTIF($C$3:C1813, C1813)>1, \"\", C1813))","v":""},{"$f":"IF(G1813=\"\",\"\",IF(F1813=\"\",\"\",CONCATENATE(DIGITADOR!$M$1,G1813,E1813)))","v":""},"",{"$f":"IF(F1813=\"\",\"\",VLOOKUP(F1813,referentes!$Q$2:$T$300,3,FALSE))","v":""},null,null,null,null,null,{"$f":"IF(L1813=\"\",\"\",VLOOKUP(L1813,referentes!$G$2:$N$15,2,FALSE))","v":""},null,null,"",null,null,""]
[null,{"$f":"IF(C1814=\"\",\"\",IF(COUNTIF($C$3:C1814, C1814)>1, \"\", C1814))","v":""},{"$f":"IF(G1814=\"\",\"\",IF(F1814=\"\",\"\",CONCATENATE(DIGITADOR!$M$1,G1814,E1814)))","v":""},"",{"$f":"IF(F1814=\"\",\"\",VLOOKUP(F1814,referentes!$Q$2:$T$300,3,FALSE))","v":""},null,null,null,null,null,{"$f":"IF(L1814=\"\",\"\",VLOOKUP(L1814,referentes!$G$2:$N$15,2,FALSE))","v":""},null,null,"",null,null,""]
[null,{"$f":"IF(C1815=\"\",\"\",IF(COUNTIF($C$3:C1815, C1815)>1, \"\", C1815))","v":""},{"$f":"IF(G1815=\"\",\"\",IF(F1815=\"\",\"\",CONCATENATE(DIGITADOR!$M$1,G1815,E1815)))","v":""},"",{"$f":"IF(F1815=\"\",\"\",VLOOKUP(F1815,referentes!$Q$2:$T$300,3,FALSE))","v":""},null,null,null,null,null,{"$f":"IF(L1815=\"\",\"\",VLOOKUP(L1815,referentes!$G$2:$N$15,2,FALSE))","v":""},null,null,"",null,null,""]
[null,{"$f":"IF(C1816=\"\",\"\",IF(COUNTIF($C$3:C1816, C1816)>1, \"\", C1816))","v":""},{"$f":"IF(G1816=\"\",\"\",IF(F1816=\"\",\"\",CONCATENATE(DIGITADOR!$M$1,G1816,E1816)))","v":""},"",{"$f":"IF(F1816=\"\",\"\",VLOOKUP(F1816,referentes!$Q$2:$T$300,3,FALSE))","v":""},null,null,null,null,null,{"$f":"IF(L1816=\"\",\"\",VLOOKUP(L1816,referentes!$G$2:$N$15,2,FALSE))","v":""},null,null,"",null,null,""]
[null,{"$f":"IF(C1817=\"\",\"\",IF(COUNTIF($C$3:C1817, C1817)>1, \"\", C1817))","v":""},{"$f":"IF(G1817=\"\",\"\",IF(F1817=\"\",\"\",CONCATENATE(DIGITADOR!$M$1,G1817,E1817)))","v":""},"",{"$f":"IF(F1817=\"\",\"\",VLOOKUP(F1817,referentes!$Q$2:$T$300,3,FALSE))","v":""},null,null,null,null,null,{"$f":"IF(L1817=\"\",\"\",VLOOKUP(L1817,referentes!$G$2:$N$15,2,FALSE))","v":""},null,null,"",null,null,""]
[null,{"$f":"IF(C1818=\"\",\"\",IF(COUNTIF($C$3:C1818, C1818)>1, \"\", C1818))","v":""},{"$f":"IF(G1818=\"\",\"\",IF(F1818=\"\",\"\",CONCATENATE(DIGITADOR!$M$1,G1818,E1818)))","v":""},"",{"$f":"IF(F1818=\"\",\"\",VLOOKUP(F1818,referentes!$Q$2:$T$300,3,FALSE))","v":""},null,null,null,null,null,{"$f":"IF(L1818=\"\",\"\",VLOOKUP(L1818,referentes!$G$2:$N$15,2,FALSE))","v":""},null,null,"",null,null,""]
[null,{"$f":"IF(C1819=\"\",\"\",IF(COUNTIF($C$3:C1819, C1819)>1, \"\", C1819))","v":""},{"$f":"IF(G1819=\"\",\"\",IF(F1819=\"\",\"\",CONCATENATE(DIGITADOR!$M$1,G1819,E1819)))","v":""},"",{"$f":"IF(F1819=\"\",\"\",VLOOKUP(F1819,referentes!$Q$2:$T$300,3,FALSE))","v":""},null,null,null,null,null,{"$f":"IF(L1819=\"\",\"\",VLOOKUP(L1819,referentes!$G$2:$N$15,2,FALSE))","v":""},null,null,"",null,null,""]
[null,{"$f":"IF(C1820=\"\",\"\",IF(COUNTIF($C$3:C1820, C1820)>1, \"\", C1820))","v":""},{"$f":"IF(G1820=\"\",\"\",IF(F1820=\"\",\"\",CONCATENATE(DIGITADOR!$M$1,G1820,E1820)))","v":""},"",{"$f":"IF(F1820=\"\",\"\",VLOOKUP(F1820,referentes!$Q$2:$T$300,3,FALSE))","v":""},null,null,null,null,null,{"$f":"IF(L1820=\"\",\"\",VLOOKUP(L1820,referentes!$G$2:$N$15,2,FALSE))","v":""},null,null,"",null,null,""]
[null,{"$f":"IF(C1821=\"\",\"\",IF(COUNTIF($C$3:C1821, C1821)>1, \"\", C1821))","v":""},{"$f":"IF(G1821=\"\",\"\",IF(F1821=\"\",\"\",CONCATENATE(DIGITADOR!$M$1,G1821,E1821)))","v":""},"",{"$f":"IF(F1821=\"\",\"\",VLOOKUP(F1821,referentes!$Q$2:$T$300,3,FALSE))","v":""},null,null,null,null,null,{"$f":"IF(L1821=\"\",\"\",VLOOKUP(L1821,referentes!$G$2:$N$15,2,FALSE))","v":""},null,null,"",null,null,""]
[null,{"$f":"IF(C1822=\"\",\"\",IF(COUNTIF($C$3:C1822, C1822)>1, \"\", C1822))","v":""},{"$f":"IF(G1822=\"\",\"\",IF(F1822=\"\",\"\",CONCATENATE(DIGITADOR!$M$1,G1822,E1822)))","v":""},"",{"$f":"IF(F1822=\"\",\"\",VLOOKUP(F1822,referentes!$Q$2:$T$300,3,FALSE))","v":""},null,null,null,null,null,{"$f":"IF(L1822=\"\",\"\",VLOOKUP(L1822,referentes!$G$2:$N$15,2,FALSE))","v":""},null,null,"",null,null,""]
[null,{"$f":"IF(C1823=\"\",\"\",IF(COUNTIF($C$3:C1823, C1823)>1, \"\", C1823))","v":""},{"$f":"IF(G1823=\"\",\"\",IF(F1823=\"\",\"\",CONCATENATE(DIGITADOR!$M$1,G1823,E1823)))","v":""},"",{"$f":"IF(F1823=\"\",\"\",VLOOKUP(F1823,referentes!$Q$2:$T$300,3,FALSE))","v":""},null,null,null,null,null,{"$f":"IF(L1823=\"\",\"\",VLOOKUP(L1823,referentes!$G$2:$N$15,2,FALSE))","v":""},null,null,"",null,null,""]
[null,{"$f":"IF(C1824=\"\",\"\",IF(COUNTIF($C$3:C1824, C1824)>1, \"\", C1824))","v":""},{"$f":"IF(G1824=\"\",\"\",IF(F1824=\"\",\"\",CONCATENATE(DIGITADOR!$M$1,G1824,E1824)))","v":""},"",{"$f":"IF(F1824=\"\",\"\",VLOOKUP(F1824,referentes!$Q$2:$T$300,3,FALSE))","v":""},null,null,null,null,null,{"$f":"IF(L1824=\"\",\"\",VLOOKUP(L1824,referentes!$G$2:$N$15,2,FALSE))","v":""},null,null,"",null,null,""]
[null,{"$f":"IF(C1825=\"\",\"\",IF(COUNTIF($C$3:C1825, C1825)>1, \"\", C1825))","v":""},{"$f":"IF(G1825=\"\",\"\",IF(F1825=\"\",\"\",CONCATENATE(DIGITADOR!$M$1,G1825,E1825)))","v":""},"",{"$f":"IF(F1825=\"\",\"\",VLOOKUP(F1825,referentes!$Q$2:$T$300,3,FALSE))","v":""},null,null,null,null,null,{"$f":"IF(L1825=\"\",\"\",VLOOKUP(L1825,referentes!$G$2:$N$15,2,FALSE))","v":""},null,null,"",null,null,""]
[null,{"$f":"IF(C1826=\"\",\"\",IF(COUNTIF($C$3:C1826, C1826)>1, \"\", C1826))","v":""},{"$f":"IF(G1826=\"\",\"\",IF(F1826=\"\",\"\",CONCATENATE(DIGITADOR!$M$1,G1826,E1826)))","v":""},"",{"$f":"IF(F1826=\"\",\"\",VLOOKUP(F1826,referentes!$Q$2:$T$300,3,FALSE))","v":""},null,null,null,null,null,{"$f":"IF(L1826=\"\",\"\",VLOOKUP(L1826,referentes!$G$2:$N$15,2,FALSE))","v":""},null,null,"",null,null,""]
[null,{"$f":"IF(C1827=\"\",\"\",IF(COUNTIF($C$3:C1827, C1827)>1, \"\", C1827))","v":""},{"$f":"IF(G1827=\"\",\"\",IF(F1827=\"\",\"\",CONCATENATE(DIGITADOR!$M$1,G1827,E1827)))","v":""},"",{"$f":"IF(F1827=\"\",\"\",VLOOKUP(F1827,referentes!$Q$2:$T$300,3,FALSE))","v":""},null,null,null,null,null,{"$f":"IF(L1827=\"\",\"\",VLOOKUP(L1827,referentes!$G$2:$N$15,2,FALSE))","v":""},null,null,"",null,null,""]
[null,{"$f":"IF(C1828=\"\",\"\",IF(COUNTIF($C$3:C1828, C1828)>1, \"\", C1828))","v":""},{"$f":"IF(G1828=\"\",\"\",IF(F1828=\"\",\"\",CONCATENATE(DIGITADOR!$M$1,G1828,E1828)))","v":""},"",{"$f":"IF(F1828=\"\",\"\",VLOOKUP(F1828,referentes!$Q$2:$T$300,3,FALSE))","v":""},null,null,null,null,null,{"$f":"IF(L1828=\"\",\"\",VLOOKUP(L1828,referentes!$G$2:$N$15,2,FALSE))","v":""},null,null,"",null,null,""]
[null,{"$f":"IF(C1829=\"\",\"\",IF(COUNTIF($C$3:C1829, C1829)>1, \"\", C1829))","v":""},{"$f":"IF(G1829=\"\",\"\",IF(F1829=\"\",\"\",CONCATENATE(DIGITADOR!$M$1,G1829,E1829)))","v":""},"",{"$f":"IF(F1829=\"\",\"\",VLOOKUP(F1829,referentes!$Q$2:$T$300,3,FALSE))","v":""},null,null,null,null,null,{"$f":"IF(L1829=\"\",\"\",VLOOKUP(L1829,referentes!$G$2:$N$15,2,FALSE))","v":""},null,null,"",null,null,""]
[null,{"$f":"IF(C1830=\"\",\"\",IF(COUNTIF($C$3:C1830, C1830)>1, \"\", C1830))","v":""},{"$f":"IF(G1830=\"\",\"\",IF(F1830=\"\",\"\",CONCATENATE(DIGITADOR!$M$1,G1830,E1830)))","v":""},"",{"$f":"IF(F1830=\"\",\"\",VLOOKUP(F1830,referentes!$Q$2:$T$300,3,FALSE))","v":""},null,null,null,null,null,{"$f":"IF(L1830=\"\",\"\",VLOOKUP(L1830,referentes!$G$2:$N$15,2,FALSE))","v":""},null,null,"",null,null,""]
[null,{"$f":"IF(C1831=\"\",\"\",IF(COUNTIF($C$3:C1831, C1831)>1, \"\", C1831))","v":""},{"$f":"IF(G1831=\"\",\"\",IF(F1831=\"\",\"\",CONCATENATE(DIGITADOR!$M$1,G1831,E1831)))","v":""},"",{"$f":"IF(F1831=\"\",\"\",VLOOKUP(F1831,referentes!$Q$2:$T$300,3,FALSE))","v":""},null,null,null,null,null,{"$f":"IF(L1831=\"\",\"\",VLOOKUP(L1831,referentes!$G$2:$N$15,2,FALSE))","v":""},null,null,"",null,null,""]
[null,{"$f":"IF(C1832=\"\",\"\",IF(COUNTIF($C$3:C1832, C1832)>1, \"\", C1832))","v":""},{"$f":"IF(G1832=\"\",\"\",IF(F1832=\"\",\"\",CONCATENATE(DIGITADOR!$M$1,G1832,E1832)))","v":""},"",{"$f":"IF(F1832=\"\",\"\",VLOOKUP(F1832,referentes!$Q$2:$T$300,3,FALSE))","v":""},null,null,null,null,null,{"$f":"IF(L1832=\"\",\"\",VLOOKUP(L1832,referentes!$G$2:$N$15,2,FALSE))","v":""},null,null,"",null,null,""]
[null,{"$f":"IF(C1833=\"\",\"\",IF(COUNTIF($C$3:C1833, C1833)>1, \"\", C1833))","v":""},{"$f":"IF(G1833=\"\",\"\",IF(F1833=\"\",\"\",CONCATENATE(DIGITADOR!$M$1,G1833,E1833)))","v":""},"",{"$f":"IF(F1833=\"\",\"\",VLOOKUP(F1833,referentes!$Q$2:$T$300,3,FALSE))","v":""},null,null,null,null,null,{"$f":"IF(L1833=\"\",\"\",VLOOKUP(L1833,referentes!$G$2:$N$15,2,FALSE))","v":""},null,null,"",null,null,""]
[null,{"$f":"IF(C1834=\"\",\"\",IF(COUNTIF($C$3:C1834, C1834)>1, \"\", C1834))","v":""},{"$f":"IF(G1834=\"\",\"\",IF(F1834=\"\",\"\",CONCATENATE(DIGITADOR!$M$1,G1834,E1834)))","v":""},"",{"$f":"IF(F1834=\"\",\"\",VLOOKUP(F1834,referentes!$Q$2:$T$300,3,FALSE))","v":""},null,null,null,null,null,{"$f":"IF(L1834=\"\",\"\",VLOOKUP(L1834,referentes!$G$2:$N$15,2,FALSE))","v":""},null,null,"",null,null,""]
[null,{"$f":"IF(C1835=\"\",\"\",IF(COUNTIF($C$3:C1835, C1835)>1, \"\", C1835))","v":""},{"$f":"IF(G1835=\"\",\"\",IF(F1835=\"\",\"\",CONCATENATE(DIGITADOR!$M$1,G1835,E1835)))","v":""},"",{"$f":"IF(F1835=\"\",\"\",VLOOKUP(F1835,referentes!$Q$2:$T$300,3,FALSE))","v":""},null,null,null,null,null,{"$f":"IF(L1835=\"\",\"\",VLOOKUP(L1835,referentes!$G$2:$N$15,2,FALSE))","v":""},null,null,"",null,null,""]
[null,{"$f":"IF(C1836=\"\",\"\",IF(COUNTIF($C$3:C1836, C1836)>1, \"\", C1836))","v":""},{"$f":"IF(G1836=\"\",\"\",IF(F1836=\"\",\"\",CONCATENATE(DIGITADOR!$M$1,G1836,E1836)))","v":""},"",{"$f":"IF(F1836=\"\",\"\",VLOOKUP(F1836,referentes!$Q$2:$T$300,3,FALSE))","v":""},null,null,null,null,null,{"$f":"IF(L1836=\"\",\"\",VLOOKUP(L1836,referentes!$G$2:$N$15,2,FALSE))","v":""},null,null,"",null,null,""]
[null,{"$f":"IF(C1837=\"\",\"\",IF(COUNTIF($C$3:C1837, C1837)>1, \"\", C1837))","v":""},{"$f":"IF(G1837=\"\",\"\",IF(F1837=\"\",\"\",CONCATENATE(DIGITADOR!$M$1,G1837,E1837)))","v":""},"",{"$f":"IF(F1837=\"\",\"\",VLOOKUP(F1837,referentes!$Q$2:$T$300,3,FALSE))","v":""},null,null,null,null,null,{"$f":"IF(L1837=\"\",\"\",VLOOKUP(L1837,referentes!$G$2:$N$15,2,FALSE))","v":""},null,null,"",null,null,""]
[null,{"$f":"IF(C1838=\"\",\"\",IF(COUNTIF($C$3:C1838, C1838)>1, \"\", C1838))","v":""},{"$f":"IF(G1838=\"\",\"\",IF(F1838=\"\",\"\",CONCATENATE(DIGITADOR!$M$1,G1838,E1838)))","v":""},"",{"$f":"IF(F1838=\"\",\"\",VLOOKUP(F1838,referentes!$Q$2:$T$300,3,FALSE))","v":""},null,null,null,null,null,{"$f":"IF(L1838=\"\",\"\",VLOOKUP(L1838,referentes!$G$2:$N$15,2,FALSE))","v":""},null,null,"",null,null,""]
[null,{"$f":"IF(C1839=\"\",\"\",IF(COUNTIF($C$3:C1839, C1839)>1, \"\", C1839))","v":""},{"$f":"IF(G1839=\"\",\"\",IF(F1839=\"\",\"\",CONCATENATE(DIGITADOR!$M$1,G1839,E1839)))","v":""},"",{"$f":"IF(F1839=\"\",\"\",VLOOKUP(F1839,referentes!$Q$2:$T$300,3,FALSE))","v":""},null,null,null,null,null,{"$f":"IF(L1839=\"\",\"\",VLOOKUP(L1839,referentes!$G$2:$N$15,2,FALSE))","v":""},null,null,"",null,null,""]
[null,{"$f":"IF(C1840=\"\",\"\",IF(COUNTIF($C$3:C1840, C1840)>1, \"\", C1840))","v":""},{"$f":"IF(G1840=\"\",\"\",IF(F1840=\"\",\"\",CONCATENATE(DIGITADOR!$M$1,G1840,E1840)))","v":""},"",{"$f":"IF(F1840=\"\",\"\",VLOOKUP(F1840,referentes!$Q$2:$T$300,3,FALSE))","v":""},null,null,null,null,null,{"$f":"IF(L1840=\"\",\"\",VLOOKUP(L1840,referentes!$G$2:$N$15,2,FALSE))","v":""},null,null,"",null,null,""]
[null,{"$f":"IF(C1841=\"\",\"\",IF(COUNTIF($C$3:C1841, C1841)>1, \"\", C1841))","v":""},{"$f":"IF(G1841=\"\",\"\",IF(F1841=\"\",\"\",CONCATENATE(DIGITADOR!$M$1,G1841,E1841)))","v":""},"",{"$f":"IF(F1841=\"\",\"\",VLOOKUP(F1841,referentes!$Q$2:$T$300,3,FALSE))","v":""},null,null,null,null,null,{"$f":"IF(L1841=\"\",\"\",VLOOKUP(L1841,referentes!$G$2:$N$15,2,FALSE))","v":""},null,null,"",null,null,""]
[null,{"$f":"IF(C1842=\"\",\"\",IF(COUNTIF($C$3:C1842, C1842)>1, \"\", C1842))","v":""},{"$f":"IF(G1842=\"\",\"\",IF(F1842=\"\",\"\",CONCATENATE(DIGITADOR!$M$1,G1842,E1842)))","v":""},"",{"$f":"IF(F1842=\"\",\"\",VLOOKUP(F1842,referentes!$Q$2:$T$300,3,FALSE))","v":""},null,null,null,null,null,{"$f":"IF(L1842=\"\",\"\",VLOOKUP(L1842,referentes!$G$2:$N$15,2,FALSE))","v":""},null,null,"",null,null,""]
[null,{"$f":"IF(C1843=\"\",\"\",IF(COUNTIF($C$3:C1843, C1843)>1, \"\", C1843))","v":""},{"$f":"IF(G1843=\"\",\"\",IF(F1843=\"\",\"\",CONCATENATE(DIGITADOR!$M$1,G1843,E1843)))","v":""},"",{"$f":"IF(F1843=\"\",\"\",VLOOKUP(F1843,referentes!$Q$2:$T$300,3,FALSE))","v":""},null,null,null,null,null,{"$f":"IF(L1843=\"\",\"\",VLOOKUP(L1843,referentes!$G$2:$N$15,2,FALSE))","v":""},null,null,"",null,null,""]
[null,{"$f":"IF(C1844=\"\",\"\",IF(COUNTIF($C$3:C1844, C1844)>1, \"\", C1844))","v":""},{"$f":"IF(G1844=\"\",\"\",IF(F1844=\"\",\"\",CONCATENATE(DIGITADOR!$M$1,G1844,E1844)))","v":""},"",{"$f":"IF(F1844=\"\",\"\",VLOOKUP(F1844,referentes!$Q$2:$T$300,3,FALSE))","v":""},null,null,null,null,null,{"$f":"IF(L1844=\"\",\"\",VLOOKUP(L1844,referentes!$G$2:$N$15,2,FALSE))","v":""},null,null,"",null,null,""]
[null,{"$f":"IF(C1845=\"\",\"\",IF(COUNTIF($C$3:C1845, C1845)>1, \"\", C1845))","v":""},{"$f":"IF(G1845=\"\",\"\",IF(F1845=\"\",\"\",CONCATENATE(DIGITADOR!$M$1,G1845,E1845)))","v":""},"",{"$f":"IF(F1845=\"\",\"\",VLOOKUP(F1845,referentes!$Q$2:$T$300,3,FALSE))","v":""},null,null,null,null,null,{"$f":"IF(L1845=\"\",\"\",VLOOKUP(L1845,referentes!$G$2:$N$15,2,FALSE))","v":""},null,null,"",null,null,""]
[null,{"$f":"IF(C1846=\"\",\"\",IF(COUNTIF($C$3:C1846, C1846)>1, \"\", C1846))","v":""},{"$f":"IF(G1846=\"\",\"\",IF(F1846=\"\",\"\",CONCATENATE(DIGITADOR!$M$1,G1846,E1846)))","v":""},"",{"$f":"IF(F1846=\"\",\"\",VLOOKUP(F1846,referentes!$Q$2:$T$300,3,FALSE))","v":""},null,null,null,null,null,{"$f":"IF(L1846=\"\",\"\",VLOOKUP(L1846,referentes!$G$2:$N$15,2,FALSE))","v":""},null,null,"",null,null,""]
[null,{"$f":"IF(C1847=\"\",\"\",IF(COUNTIF($C$3:C1847, C1847)>1, \"\", C1847))","v":""},{"$f":"IF(G1847=\"\",\"\",IF(F1847=\"\",\"\",CONCATENATE(DIGITADOR!$M$1,G1847,E1847)))","v":""},"",{"$f":"IF(F1847=\"\",\"\",VLOOKUP(F1847,referentes!$Q$2:$T$300,3,FALSE))","v":""},null,null,null,null,null,{"$f":"IF(L1847=\"\",\"\",VLOOKUP(L1847,referentes!$G$2:$N$15,2,FALSE))","v":""},null,null,"",null,null,""]
[null,{"$f":"IF(C1848=\"\",\"\",IF(COUNTIF($C$3:C1848, C1848)>1, \"\", C1848))","v":""},{"$f":"IF(G1848=\"\",\"\",IF(F1848=\"\",\"\",CONCATENATE(DIGITADOR!$M$1,G1848,E1848)))","v":""},"",{"$f":"IF(F1848=\"\",\"\",VLOOKUP(F1848,referentes!$Q$2:$T$300,3,FALSE))","v":""},null,null,null,null,null,{"$f":"IF(L1848=\"\",\"\",VLOOKUP(L1848,referentes!$G$2:$N$15,2,FALSE))","v":""},null,null,"",null,null,""]
[null,{"$f":"IF(C1849=\"\",\"\",IF(COUNTIF($C$3:C1849, C1849)>1, \"\", C1849))","v":""},{"$f":"IF(G1849=\"\",\"\",IF(F1849=\"\",\"\",CONCATENATE(DIGITADOR!$M$1,G1849,E1849)))","v":""},"",{"$f":"IF(F1849=\"\",\"\",VLOOKUP(F1849,referentes!$Q$2:$T$300,3,FALSE))","v":""},null,null,null,null,null,{"$f":"IF(L1849=\"\",\"\",VLOOKUP(L1849,referentes!$G$2:$N$15,2,FALSE))","v":""},null,null,"",null,null,""]
[null,{"$f":"IF(C1850=\"\",\"\",IF(COUNTIF($C$3:C1850, C1850)>1, \"\", C1850))","v":""},{"$f":"IF(G1850=\"\",\"\",IF(F1850=\"\",\"\",CONCATENATE(DIGITADOR!$M$1,G1850,E1850)))","v":""},"",{"$f":"IF(F1850=\"\",\"\",VLOOKUP(F1850,referentes!$Q$2:$T$300,3,FALSE))","v":""},null,null,null,null,null,{"$f":"IF(L1850=\"\",\"\",VLOOKUP(L1850,referentes!$G$2:$N$15,2,FALSE))","v":""},null,null,"",null,null,""]
[null,{"$f":"IF(C1851=\"\",\"\",IF(COUNTIF($C$3:C1851, C1851)>1, \"\", C1851))","v":""},{"$f":"IF(G1851=\"\",\"\",IF(F1851=\"\",\"\",CONCATENATE(DIGITADOR!$M$1,G1851,E1851)))","v":""},"",{"$f":"IF(F1851=\"\",\"\",VLOOKUP(F1851,referentes!$Q$2:$T$300,3,FALSE))","v":""},null,null,null,null,null,{"$f":"IF(L1851=\"\",\"\",VLOOKUP(L1851,referentes!$G$2:$N$15,2,FALSE))","v":""},null,null,"",null,null,""]
[null,{"$f":"IF(C1852=\"\",\"\",IF(COUNTIF($C$3:C1852, C1852)>1, \"\", C1852))","v":""},{"$f":"IF(G1852=\"\",\"\",IF(F1852=\"\",\"\",CONCATENATE(DIGITADOR!$M$1,G1852,E1852)))","v":""},"",{"$f":"IF(F1852=\"\",\"\",VLOOKUP(F1852,referentes!$Q$2:$T$300,3,FALSE))","v":""},null,null,null,null,null,{"$f":"IF(L1852=\"\",\"\",VLOOKUP(L1852,referentes!$G$2:$N$15,2,FALSE))","v":""},null,null,"",null,null,""]
[null,{"$f":"IF(C1853=\"\",\"\",IF(COUNTIF($C$3:C1853, C1853)>1, \"\", C1853))","v":""},{"$f":"IF(G1853=\"\",\"\",IF(F1853=\"\",\"\",CONCATENATE(DIGITADOR!$M$1,G1853,E1853)))","v":""},"",{"$f":"IF(F1853=\"\",\"\",VLOOKUP(F1853,referentes!$Q$2:$T$300,3,FALSE))","v":""},null,null,null,null,null,{"$f":"IF(L1853=\"\",\"\",VLOOKUP(L1853,referentes!$G$2:$N$15,2,FALSE))","v":""},null,null,"",null,null,""]
[null,{"$f":"IF(C1854=\"\",\"\",IF(COUNTIF($C$3:C1854, C1854)>1, \"\", C1854))","v":""},{"$f":"IF(G1854=\"\",\"\",IF(F1854=\"\",\"\",CONCATENATE(DIGITADOR!$M$1,G1854,E1854)))","v":""},"",{"$f":"IF(F1854=\"\",\"\",VLOOKUP(F1854,referentes!$Q$2:$T$300,3,FALSE))","v":""},null,null,null,null,null,{"$f":"IF(L1854=\"\",\"\",VLOOKUP(L1854,referentes!$G$2:$N$15,2,FALSE))","v":""},null,null,"",null,null,""]
[null,{"$f":"IF(C1855=\"\",\"\",IF(COUNTIF($C$3:C1855, C1855)>1, \"\", C1855))","v":""},{"$f":"IF(G1855=\"\",\"\",IF(F1855=\"\",\"\",CONCATENATE(DIGITADOR!$M$1,G1855,E1855)))","v":""},"",{"$f":"IF(F1855=\"\",\"\",VLOOKUP(F1855,referentes!$Q$2:$T$300,3,FALSE))","v":""},null,null,null,null,null,{"$f":"IF(L1855=\"\",\"\",VLOOKUP(L1855,referentes!$G$2:$N$15,2,FALSE))","v":""},null,null,"",null,null,""]
[null,{"$f":"IF(C1856=\"\",\"\",IF(COUNTIF($C$3:C1856, C1856)>1, \"\", C1856))","v":""},{"$f":"IF(G1856=\"\",\"\",IF(F1856=\"\",\"\",CONCATENATE(DIGITADOR!$M$1,G1856,E1856)))","v":""},"",{"$f":"IF(F1856=\"\",\"\",VLOOKUP(F1856,referentes!$Q$2:$T$300,3,FALSE))","v":""},null,null,null,null,null,{"$f":"IF(L1856=\"\",\"\",VLOOKUP(L1856,referentes!$G$2:$N$15,2,FALSE))","v":""},null,null,"",null,null,""]
[null,{"$f":"IF(C1857=\"\",\"\",IF(COUNTIF($C$3:C1857, C1857)>1, \"\", C1857))","v":""},{"$f":"IF(G1857=\"\",\"\",IF(F1857=\"\",\"\",CONCATENATE(DIGITADOR!$M$1,G1857,E1857)))","v":""},"",{"$f":"IF(F1857=\"\",\"\",VLOOKUP(F1857,referentes!$Q$2:$T$300,3,FALSE))","v":""},null,null,null,null,null,{"$f":"IF(L1857=\"\",\"\",VLOOKUP(L1857,referentes!$G$2:$N$15,2,FALSE))","v":""},null,null,"",null,null,""]
[null,{"$f":"IF(C1858=\"\",\"\",IF(COUNTIF($C$3:C1858, C1858)>1, \"\", C1858))","v":""},{"$f":"IF(G1858=\"\",\"\",IF(F1858=\"\",\"\",CONCATENATE(DIGITADOR!$M$1,G1858,E1858)))","v":""},"",{"$f":"IF(F1858=\"\",\"\",VLOOKUP(F1858,referentes!$Q$2:$T$300,3,FALSE))","v":""},null,null,null,null,null,{"$f":"IF(L1858=\"\",\"\",VLOOKUP(L1858,referentes!$G$2:$N$15,2,FALSE))","v":""},null,null,"",null,null,""]
[null,{"$f":"IF(C1859=\"\",\"\",IF(COUNTIF($C$3:C1859, C1859)>1, \"\", C1859))","v":""},{"$f":"IF(G1859=\"\",\"\",IF(F1859=\"\",\"\",CONCATENATE(DIGITADOR!$M$1,G1859,E1859)))","v":""},"",{"$f":"IF(F1859=\"\",\"\",VLOOKUP(F1859,referentes!$Q$2:$T$300,3,FALSE))","v":""},null,null,null,null,null,{"$f":"IF(L1859=\"\",\"\",VLOOKUP(L1859,referentes!$G$2:$N$15,2,FALSE))","v":""},null,null,"",null,null,""]
[null,{"$f":"IF(C1860=\"\",\"\",IF(COUNTIF($C$3:C1860, C1860)>1, \"\", C1860))","v":""},{"$f":"IF(G1860=\"\",\"\",IF(F1860=\"\",\"\",CONCATENATE(DIGITADOR!$M$1,G1860,E1860)))","v":""},{"$f":"IF(C1860=\"\",\"\",CONCATENATE(C1860,ROW()-2))","v":""},{"$f":"IF(F1860=\"\",\"\",VLOOKUP(F1860,referentes!$Q$2:$T$300,3,FALSE))","v":""},null,null,null,null,null,{"$f":"IF(L1860=\"\",\"\",VLOOKUP(L1860,referentes!$G$2:$N$15,2,FALSE))","v":""},null,null,{"$f":"IF(M1860=\"\",\"\",M1860/PI())","v":""},null,null,{"$f":"IF(N1860=\"\",\"\",((PI())*((N1860/100)^2))/4*10000/500)","v":""}]
[null,{"$f":"IF(C1861=\"\",\"\",IF(COUNTIF($C$3:C1861, C1861)>1, \"\", C1861))","v":""},{"$f":"IF(G1861=\"\",\"\",IF(F1861=\"\",\"\",CONCATENATE(DIGITADOR!$M$1,G1861,E1861)))","v":""},"",{"$f":"IF(F1861=\"\",\"\",VLOOKUP(F1861,referentes!$Q$2:$T$300,3,FALSE))","v":""},null,null,null,null,null,{"$f":"IF(L1861=\"\",\"\",VLOOKUP(L1861,referentes!$G$2:$N$15,2,FALSE))","v":""},null,null,"",null,null,""]
[null,{"$f":"IF(C1862=\"\",\"\",IF(COUNTIF($C$3:C1862, C1862)>1, \"\", C1862))","v":""},{"$f":"IF(G1862=\"\",\"\",IF(F1862=\"\",\"\",CONCATENATE(DIGITADOR!$M$1,G1862,E1862)))","v":""},"",{"$f":"IF(F1862=\"\",\"\",VLOOKUP(F1862,referentes!$Q$2:$T$300,3,FALSE))","v":""},null,null,null,null,null,{"$f":"IF(L1862=\"\",\"\",VLOOKUP(L1862,referentes!$G$2:$N$15,2,FALSE))","v":""},null,null,"",null,null,""]
[null,{"$f":"IF(C1863=\"\",\"\",IF(COUNTIF($C$3:C1863, C1863)>1, \"\", C1863))","v":""},{"$f":"IF(G1863=\"\",\"\",IF(F1863=\"\",\"\",CONCATENATE(DIGITADOR!$M$1,G1863,E1863)))","v":""},"",{"$f":"IF(F1863=\"\",\"\",VLOOKUP(F1863,referentes!$Q$2:$T$300,3,FALSE))","v":""},null,null,null,null,null,{"$f":"IF(L1863=\"\",\"\",VLOOKUP(L1863,referentes!$G$2:$N$15,2,FALSE))","v":""},null,null,"",null,null,""]
[null,{"$f":"IF(C1864=\"\",\"\",IF(COUNTIF($C$3:C1864, C1864)>1, \"\", C1864))","v":""},{"$f":"IF(G1864=\"\",\"\",IF(F1864=\"\",\"\",CONCATENATE(DIGITADOR!$M$1,G1864,E1864)))","v":""},"",{"$f":"IF(F1864=\"\",\"\",VLOOKUP(F1864,referentes!$Q$2:$T$300,3,FALSE))","v":""},null,null,null,null,null,{"$f":"IF(L1864=\"\",\"\",VLOOKUP(L1864,referentes!$G$2:$N$15,2,FALSE))","v":""},null,null,"",null,null,""]
[null,{"$f":"IF(C1865=\"\",\"\",IF(COUNTIF($C$3:C1865, C1865)>1, \"\", C1865))","v":""},{"$f":"IF(G1865=\"\",\"\",IF(F1865=\"\",\"\",CONCATENATE(DIGITADOR!$M$1,G1865,E1865)))","v":""},"",{"$f":"IF(F1865=\"\",\"\",VLOOKUP(F1865,referentes!$Q$2:$T$300,3,FALSE))","v":""},null,null,null,null,null,{"$f":"IF(L1865=\"\",\"\",VLOOKUP(L1865,referentes!$G$2:$N$15,2,FALSE))","v":""},null,null,"",null,null,""]
[null,{"$f":"IF(C1866=\"\",\"\",IF(COUNTIF($C$3:C1866, C1866)>1, \"\", C1866))","v":""},{"$f":"IF(G1866=\"\",\"\",IF(F1866=\"\",\"\",CONCATENATE(DIGITADOR!$M$1,G1866,E1866)))","v":""},"",{"$f":"IF(F1866=\"\",\"\",VLOOKUP(F1866,referentes!$Q$2:$T$300,3,FALSE))","v":""},null,null,null,null,null,{"$f":"IF(L1866=\"\",\"\",VLOOKUP(L1866,referentes!$G$2:$N$15,2,FALSE))","v":""},null,null,"",null,null,""]
[null,{"$f":"IF(C1867=\"\",\"\",IF(COUNTIF($C$3:C1867, C1867)>1, \"\", C1867))","v":""},{"$f":"IF(G1867=\"\",\"\",IF(F1867=\"\",\"\",CONCATENATE(DIGITADOR!$M$1,G1867,E1867)))","v":""},"",{"$f":"IF(F1867=\"\",\"\",VLOOKUP(F1867,referentes!$Q$2:$T$300,3,FALSE))","v":""},null,null,null,null,null,{"$f":"IF(L1867=\"\",\"\",VLOOKUP(L1867,referentes!$G$2:$N$15,2,FALSE))","v":""},null,null,"",null,null,""]
[null,{"$f":"IF(C1868=\"\",\"\",IF(COUNTIF($C$3:C1868, C1868)>1, \"\", C1868))","v":""},{"$f":"IF(G1868=\"\",\"\",IF(F1868=\"\",\"\",CONCATENATE(DIGITADOR!$M$1,G1868,E1868)))","v":""},"",{"$f":"IF(F1868=\"\",\"\",VLOOKUP(F1868,referentes!$Q$2:$T$300,3,FALSE))","v":""},null,null,null,null,null,{"$f":"IF(L1868=\"\",\"\",VLOOKUP(L1868,referentes!$G$2:$N$15,2,FALSE))","v":""},null,null,"",null,null,""]
[null,{"$f":"IF(C1869=\"\",\"\",IF(COUNTIF($C$3:C1869, C1869)>1, \"\", C1869))","v":""},{"$f":"IF(G1869=\"\",\"\",IF(F1869=\"\",\"\",CONCATENATE(DIGITADOR!$M$1,G1869,E1869)))","v":""},"",{"$f":"IF(F1869=\"\",\"\",VLOOKUP(F1869,referentes!$Q$2:$T$300,3,FALSE))","v":""},null,null,null,null,null,{"$f":"IF(L1869=\"\",\"\",VLOOKUP(L1869,referentes!$G$2:$N$15,2,FALSE))","v":""},null,null,"",null,null,""]
[null,{"$f":"IF(C1870=\"\",\"\",IF(COUNTIF($C$3:C1870, C1870)>1, \"\", C1870))","v":""},{"$f":"IF(G1870=\"\",\"\",IF(F1870=\"\",\"\",CONCATENATE(DIGITADOR!$M$1,G1870,E1870)))","v":""},"",{"$f":"IF(F1870=\"\",\"\",VLOOKUP(F1870,referentes!$Q$2:$T$300,3,FALSE))","v":""},null,null,null,null,null,{"$f":"IF(L1870=\"\",\"\",VLOOKUP(L1870,referentes!$G$2:$N$15,2,FALSE))","v":""},null,null,"",null,null,""]
[null,{"$f":"IF(C1871=\"\",\"\",IF(COUNTIF($C$3:C1871, C1871)>1, \"\", C1871))","v":""},{"$f":"IF(G1871=\"\",\"\",IF(F1871=\"\",\"\",CONCATENATE(DIGITADOR!$M$1,G1871,E1871)))","v":""},"",{"$f":"IF(F1871=\"\",\"\",VLOOKUP(F1871,referentes!$Q$2:$T$300,3,FALSE))","v":""},null,null,null,null,null,{"$f":"IF(L1871=\"\",\"\",VLOOKUP(L1871,referentes!$G$2:$N$15,2,FALSE))","v":""},null,null,"",null,null,""]
[null,{"$f":"IF(C1872=\"\",\"\",IF(COUNTIF($C$3:C1872, C1872)>1, \"\", C1872))","v":""},{"$f":"IF(G1872=\"\",\"\",IF(F1872=\"\",\"\",CONCATENATE(DIGITADOR!$M$1,G1872,E1872)))","v":""},"",{"$f":"IF(F1872=\"\",\"\",VLOOKUP(F1872,referentes!$Q$2:$T$300,3,FALSE))","v":""},null,null,null,null,null,{"$f":"IF(L1872=\"\",\"\",VLOOKUP(L1872,referentes!$G$2:$N$15,2,FALSE))","v":""},null,null,"",null,null,""]
[null,{"$f":"IF(C1873=\"\",\"\",IF(COUNTIF($C$3:C1873, C1873)>1, \"\", C1873))","v":""},{"$f":"IF(G1873=\"\",\"\",IF(F1873=\"\",\"\",CONCATENATE(DIGITADOR!$M$1,G1873,E1873)))","v":""},"",{"$f":"IF(F1873=\"\",\"\",VLOOKUP(F1873,referentes!$Q$2:$T$300,3,FALSE))","v":""},null,null,null,null,null,{"$f":"IF(L1873=\"\",\"\",VLOOKUP(L1873,referentes!$G$2:$N$15,2,FALSE))","v":""},null,null,"",null,null,""]
[null,{"$f":"IF(C1874=\"\",\"\",IF(COUNTIF($C$3:C1874, C1874)>1, \"\", C1874))","v":""},{"$f":"IF(G1874=\"\",\"\",IF(F1874=\"\",\"\",CONCATENATE(DIGITADOR!$M$1,G1874,E1874)))","v":""},"",{"$f":"IF(F1874=\"\",\"\",VLOOKUP(F1874,referentes!$Q$2:$T$300,3,FALSE))","v":""},null,null,null,null,null,{"$f":"IF(L1874=\"\",\"\",VLOOKUP(L1874,referentes!$G$2:$N$15,2,FALSE))","v":""},null,null,"",null,null,""]
[null,{"$f":"IF(C1875=\"\",\"\",IF(COUNTIF($C$3:C1875, C1875)>1, \"\", C1875))","v":""},{"$f":"IF(G1875=\"\",\"\",IF(F1875=\"\",\"\",CONCATENATE(DIGITADOR!$M$1,G1875,E1875)))","v":""},"",{"$f":"IF(F1875=\"\",\"\",VLOOKUP(F1875,referentes!$Q$2:$T$300,3,FALSE))","v":""},null,null,null,null,null,{"$f":"IF(L1875=\"\",\"\",VLOOKUP(L1875,referentes!$G$2:$N$15,2,FALSE))","v":""},null,null,"",null,null,""]
[null,{"$f":"IF(C1876=\"\",\"\",IF(COUNTIF($C$3:C1876, C1876)>1, \"\", C1876))","v":""},{"$f":"IF(G1876=\"\",\"\",IF(F1876=\"\",\"\",CONCATENATE(DIGITADOR!$M$1,G1876,E1876)))","v":""},"",{"$f":"IF(F1876=\"\",\"\",VLOOKUP(F1876,referentes!$Q$2:$T$300,3,FALSE))","v":""},null,null,null,null,null,{"$f":"IF(L1876=\"\",\"\",VLOOKUP(L1876,referentes!$G$2:$N$15,2,FALSE))","v":""},null,null,"",null,null,""]
[null,{"$f":"IF(C1877=\"\",\"\",IF(COUNTIF($C$3:C1877, C1877)>1, \"\", C1877))","v":""},{"$f":"IF(G1877=\"\",\"\",IF(F1877=\"\",\"\",CONCATENATE(DIGITADOR!$M$1,G1877,E1877)))","v":""},"",{"$f":"IF(F1877=\"\",\"\",VLOOKUP(F1877,referentes!$Q$2:$T$300,3,FALSE))","v":""},null,null,null,null,null,{"$f":"IF(L1877=\"\",\"\",VLOOKUP(L1877,referentes!$G$2:$N$15,2,FALSE))","v":""},null,null,"",null,null,""]
[null,{"$f":"IF(C1878=\"\",\"\",IF(COUNTIF($C$3:C1878, C1878)>1, \"\", C1878))","v":""},{"$f":"IF(G1878=\"\",\"\",IF(F1878=\"\",\"\",CONCATENATE(DIGITADOR!$M$1,G1878,E1878)))","v":""},"",{"$f":"IF(F1878=\"\",\"\",VLOOKUP(F1878,referentes!$Q$2:$T$300,3,FALSE))","v":""},null,null,null,null,null,{"$f":"IF(L1878=\"\",\"\",VLOOKUP(L1878,referentes!$G$2:$N$15,2,FALSE))","v":""},null,null,"",null,null,""]
[null,{"$f":"IF(C1879=\"\",\"\",IF(COUNTIF($C$3:C1879, C1879)>1, \"\", C1879))","v":""},{"$f":"IF(G1879=\"\",\"\",IF(F1879=\"\",\"\",CONCATENATE(DIGITADOR!$M$1,G1879,E1879)))","v":""},"",{"$f":"IF(F1879=\"\",\"\",VLOOKUP(F1879,referentes!$Q$2:$T$300,3,FALSE))","v":""},null,null,null,null,null,{"$f":"IF(L1879=\"\",\"\",VLOOKUP(L1879,referentes!$G$2:$N$15,2,FALSE))","v":""},null,null,"",null,null,""]
[null,{"$f":"IF(C1880=\"\",\"\",IF(COUNTIF($C$3:C1880, C1880)>1, \"\", C1880))","v":""},{"$f":"IF(G1880=\"\",\"\",IF(F1880=\"\",\"\",CONCATENATE(DIGITADOR!$M$1,G1880,E1880)))","v":""},"",{"$f":"IF(F1880=\"\",\"\",VLOOKUP(F1880,referentes!$Q$2:$T$300,3,FALSE))","v":""},null,null,null,null,null,{"$f":"IF(L1880=\"\",\"\",VLOOKUP(L1880,referentes!$G$2:$N$15,2,FALSE))","v":""},null,null,"",null,null,""]
[null,{"$f":"IF(C1881=\"\",\"\",IF(COUNTIF($C$3:C1881, C1881)>1, \"\", C1881))","v":""},{"$f":"IF(G1881=\"\",\"\",IF(F1881=\"\",\"\",CONCATENATE(DIGITADOR!$M$1,G1881,E1881)))","v":""},"",{"$f":"IF(F1881=\"\",\"\",VLOOKUP(F1881,referentes!$Q$2:$T$300,3,FALSE))","v":""},null,null,null,null,null,{"$f":"IF(L1881=\"\",\"\",VLOOKUP(L1881,referentes!$G$2:$N$15,2,FALSE))","v":""},null,null,"",null,null,""]
[null,{"$f":"IF(C1882=\"\",\"\",IF(COUNTIF($C$3:C1882, C1882)>1, \"\", C1882))","v":""},{"$f":"IF(G1882=\"\",\"\",IF(F1882=\"\",\"\",CONCATENATE(DIGITADOR!$M$1,G1882,E1882)))","v":""},"",{"$f":"IF(F1882=\"\",\"\",VLOOKUP(F1882,referentes!$Q$2:$T$300,3,FALSE))","v":""},null,null,null,null,null,{"$f":"IF(L1882=\"\",\"\",VLOOKUP(L1882,referentes!$G$2:$N$15,2,FALSE))","v":""},null,null,"",null,null,""]
[null,{"$f":"IF(C1883=\"\",\"\",IF(COUNTIF($C$3:C1883, C1883)>1, \"\", C1883))","v":""},{"$f":"IF(G1883=\"\",\"\",IF(F1883=\"\",\"\",CONCATENATE(DIGITADOR!$M$1,G1883,E1883)))","v":""},"",{"$f":"IF(F1883=\"\",\"\",VLOOKUP(F1883,referentes!$Q$2:$T$300,3,FALSE))","v":""},null,null,null,null,null,{"$f":"IF(L1883=\"\",\"\",VLOOKUP(L1883,referentes!$G$2:$N$15,2,FALSE))","v":""},null,null,"",null,null,""]
[null,{"$f":"IF(C1884=\"\",\"\",IF(COUNTIF($C$3:C1884, C1884)>1, \"\", C1884))","v":""},{"$f":"IF(G1884=\"\",\"\",IF(F1884=\"\",\"\",CONCATENATE(DIGITADOR!$M$1,G1884,E1884)))","v":""},"",{"$f":"IF(F1884=\"\",\"\",VLOOKUP(F1884,referentes!$Q$2:$T$300,3,FALSE))","v":""},null,null,null,null,null,{"$f":"IF(L1884=\"\",\"\",VLOOKUP(L1884,referentes!$G$2:$N$15,2,FALSE))","v":""},null,null,"",null,null,""]
[null,{"$f":"IF(C1885=\"\",\"\",IF(COUNTIF($C$3:C1885, C1885)>1, \"\", C1885))","v":""},{"$f":"IF(G1885=\"\",\"\",IF(F1885=\"\",\"\",CONCATENATE(DIGITADOR!$M$1,G1885,E1885)))","v":""},"",{"$f":"IF(F1885=\"\",\"\",VLOOKUP(F1885,referentes!$Q$2:$T$300,3,FALSE))","v":""},null,null,null,null,null,{"$f":"IF(L1885=\"\",\"\",VLOOKUP(L1885,referentes!$G$2:$N$15,2,FALSE))","v":""},null,null,"",null,null,""]
[null,{"$f":"IF(C1886=\"\",\"\",IF(COUNTIF($C$3:C1886, C1886)>1, \"\", C1886))","v":""},{"$f":"IF(G1886=\"\",\"\",IF(F1886=\"\",\"\",CONCATENATE(DIGITADOR!$M$1,G1886,E1886)))","v":""},"",{"$f":"IF(F1886=\"\",\"\",VLOOKUP(F1886,referentes!$Q$2:$T$300,3,FALSE))","v":""},null,null,null,null,null,{"$f":"IF(L1886=\"\",\"\",VLOOKUP(L1886,referentes!$G$2:$N$15,2,FALSE))","v":""},null,null,"",null,null,""]
[null,{"$f":"IF(C1887=\"\",\"\",IF(COUNTIF($C$3:C1887, C1887)>1, \"\", C1887))","v":""},{"$f":"IF(G1887=\"\",\"\",IF(F1887=\"\",\"\",CONCATENATE(DIGITADOR!$M$1,G1887,E1887)))","v":""},"",{"$f":"IF(F1887=\"\",\"\",VLOOKUP(F1887,referentes!$Q$2:$T$300,3,FALSE))","v":""},null,null,null,null,null,{"$f":"IF(L1887=\"\",\"\",VLOOKUP(L1887,referentes!$G$2:$N$15,2,FALSE))","v":""},null,null,"",null,null,""]
[null,{"$f":"IF(C1888=\"\",\"\",IF(COUNTIF($C$3:C1888, C1888)>1, \"\", C1888))","v":""},{"$f":"IF(G1888=\"\",\"\",IF(F1888=\"\",\"\",CONCATENATE(DIGITADOR!$M$1,G1888,E1888)))","v":""},"",{"$f":"IF(F1888=\"\",\"\",VLOOKUP(F1888,referentes!$Q$2:$T$300,3,FALSE))","v":""},null,null,null,null,null,{"$f":"IF(L1888=\"\",\"\",VLOOKUP(L1888,referentes!$G$2:$N$15,2,FALSE))","v":""},null,null,"",null,null,""]
[null,{"$f":"IF(C1889=\"\",\"\",IF(COUNTIF($C$3:C1889, C1889)>1, \"\", C1889))","v":""},{"$f":"IF(G1889=\"\",\"\",IF(F1889=\"\",\"\",CONCATENATE(DIGITADOR!$M$1,G1889,E1889)))","v":""},"",{"$f":"IF(F1889=\"\",\"\",VLOOKUP(F1889,referentes!$Q$2:$T$300,3,FALSE))","v":""},null,null,null,null,null,{"$f":"IF(L1889=\"\",\"\",VLOOKUP(L1889,referentes!$G$2:$N$15,2,FALSE))","v":""},null,null,"",null,null,""]
[null,{"$f":"IF(C1890=\"\",\"\",IF(COUNTIF($C$3:C1890, C1890)>1, \"\", C1890))","v":""},{"$f":"IF(G1890=\"\",\"\",IF(F1890=\"\",\"\",CONCATENATE(DIGITADOR!$M$1,G1890,E1890)))","v":""},"",{"$f":"IF(F1890=\"\",\"\",VLOOKUP(F1890,referentes!$Q$2:$T$300,3,FALSE))","v":""},null,null,null,null,null,{"$f":"IF(L1890=\"\",\"\",VLOOKUP(L1890,referentes!$G$2:$N$15,2,FALSE))","v":""},null,null,"",null,null,""]
[null,{"$f":"IF(C1891=\"\",\"\",IF(COUNTIF($C$3:C1891, C1891)>1, \"\", C1891))","v":""},{"$f":"IF(G1891=\"\",\"\",IF(F1891=\"\",\"\",CONCATENATE(DIGITADOR!$M$1,G1891,E1891)))","v":""},"",{"$f":"IF(F1891=\"\",\"\",VLOOKUP(F1891,referentes!$Q$2:$T$300,3,FALSE))","v":""},null,null,null,null,null,{"$f":"IF(L1891=\"\",\"\",VLOOKUP(L1891,referentes!$G$2:$N$15,2,FALSE))","v":""},null,null,"",null,null,""]
[null,{"$f":"IF(C1892=\"\",\"\",IF(COUNTIF($C$3:C1892, C1892)>1, \"\", C1892))","v":""},{"$f":"IF(G1892=\"\",\"\",IF(F1892=\"\",\"\",CONCATENATE(DIGITADOR!$M$1,G1892,E1892)))","v":""},"",{"$f":"IF(F1892=\"\",\"\",VLOOKUP(F1892,referentes!$Q$2:$T$300,3,FALSE))","v":""},null,null,null,null,null,{"$f":"IF(L1892=\"\",\"\",VLOOKUP(L1892,referentes!$G$2:$N$15,2,FALSE))","v":""},null,null,"",null,null,""]
[null,{"$f":"IF(C1893=\"\",\"\",IF(COUNTIF($C$3:C1893, C1893)>1, \"\", C1893))","v":""},{"$f":"IF(G1893=\"\",\"\",IF(F1893=\"\",\"\",CONCATENATE(DIGITADOR!$M$1,G1893,E1893)))","v":""},"",{"$f":"IF(F1893=\"\",\"\",VLOOKUP(F1893,referentes!$Q$2:$T$300,3,FALSE))","v":""},null,null,null,null,null,{"$f":"IF(L1893=\"\",\"\",VLOOKUP(L1893,referentes!$G$2:$N$15,2,FALSE))","v":""},null,null,"",null,null,""]
[null,{"$f":"IF(C1894=\"\",\"\",IF(COUNTIF($C$3:C1894, C1894)>1, \"\", C1894))","v":""},{"$f":"IF(G1894=\"\",\"\",IF(F1894=\"\",\"\",CONCATENATE(DIGITADOR!$M$1,G1894,E1894)))","v":""},"",{"$f":"IF(F1894=\"\",\"\",VLOOKUP(F1894,referentes!$Q$2:$T$300,3,FALSE))","v":""},null,null,null,null,null,{"$f":"IF(L1894=\"\",\"\",VLOOKUP(L1894,referentes!$G$2:$N$15,2,FALSE))","v":""},null,null,"",null,null,""]
[null,{"$f":"IF(C1895=\"\",\"\",IF(COUNTIF($C$3:C1895, C1895)>1, \"\", C1895))","v":""},{"$f":"IF(G1895=\"\",\"\",IF(F1895=\"\",\"\",CONCATENATE(DIGITADOR!$M$1,G1895,E1895)))","v":""},"",{"$f":"IF(F1895=\"\",\"\",VLOOKUP(F1895,referentes!$Q$2:$T$300,3,FALSE))","v":""},null,null,null,null,null,{"$f":"IF(L1895=\"\",\"\",VLOOKUP(L1895,referentes!$G$2:$N$15,2,FALSE))","v":""},null,null,"",null,null,""]
[null,{"$f":"IF(C1896=\"\",\"\",IF(COUNTIF($C$3:C1896, C1896)>1, \"\", C1896))","v":""},{"$f":"IF(G1896=\"\",\"\",IF(F1896=\"\",\"\",CONCATENATE(DIGITADOR!$M$1,G1896,E1896)))","v":""},"",{"$f":"IF(F1896=\"\",\"\",VLOOKUP(F1896,referentes!$Q$2:$T$300,3,FALSE))","v":""},null,null,null,null,null,{"$f":"IF(L1896=\"\",\"\",VLOOKUP(L1896,referentes!$G$2:$N$15,2,FALSE))","v":""},null,null,"",null,null,""]
[null,{"$f":"IF(C1897=\"\",\"\",IF(COUNTIF($C$3:C1897, C1897)>1, \"\", C1897))","v":""},{"$f":"IF(G1897=\"\",\"\",IF(F1897=\"\",\"\",CONCATENATE(DIGITADOR!$M$1,G1897,E1897)))","v":""},"",{"$f":"IF(F1897=\"\",\"\",VLOOKUP(F1897,referentes!$Q$2:$T$300,3,FALSE))","v":""},null,null,null,null,null,{"$f":"IF(L1897=\"\",\"\",VLOOKUP(L1897,referentes!$G$2:$N$15,2,FALSE))","v":""},null,null,"",null,null,""]
[null,{"$f":"IF(C1898=\"\",\"\",IF(COUNTIF($C$3:C1898, C1898)>1, \"\", C1898))","v":""},{"$f":"IF(G1898=\"\",\"\",IF(F1898=\"\",\"\",CONCATENATE(DIGITADOR!$M$1,G1898,E1898)))","v":""},"",{"$f":"IF(F1898=\"\",\"\",VLOOKUP(F1898,referentes!$Q$2:$T$300,3,FALSE))","v":""},null,null,null,null,null,{"$f":"IF(L1898=\"\",\"\",VLOOKUP(L1898,referentes!$G$2:$N$15,2,FALSE))","v":""},null,null,"",null,null,""]
[null,{"$f":"IF(C1899=\"\",\"\",IF(COUNTIF($C$3:C1899, C1899)>1, \"\", C1899))","v":""},{"$f":"IF(G1899=\"\",\"\",IF(F1899=\"\",\"\",CONCATENATE(DIGITADOR!$M$1,G1899,E1899)))","v":""},"",{"$f":"IF(F1899=\"\",\"\",VLOOKUP(F1899,referentes!$Q$2:$T$300,3,FALSE))","v":""},null,null,null,null,null,{"$f":"IF(L1899=\"\",\"\",VLOOKUP(L1899,referentes!$G$2:$N$15,2,FALSE))","v":""},null,null,"",null,null,""]
[null,{"$f":"IF(C1900=\"\",\"\",IF(COUNTIF($C$3:C1900, C1900)>1, \"\", C1900))","v":""},{"$f":"IF(G1900=\"\",\"\",IF(F1900=\"\",\"\",CONCATENATE(DIGITADOR!$M$1,G1900,E1900)))","v":""},"",{"$f":"IF(F1900=\"\",\"\",VLOOKUP(F1900,referentes!$Q$2:$T$300,3,FALSE))","v":""},null,null,null,null,null,{"$f":"IF(L1900=\"\",\"\",VLOOKUP(L1900,referentes!$G$2:$N$15,2,FALSE))","v":""},null,null,"",null,null,""]
[null,{"$f":"IF(C1901=\"\",\"\",IF(COUNTIF($C$3:C1901, C1901)>1, \"\", C1901))","v":""},{"$f":"IF(G1901=\"\",\"\",IF(F1901=\"\",\"\",CONCATENATE(DIGITADOR!$M$1,G1901,E1901)))","v":""},"",{"$f":"IF(F1901=\"\",\"\",VLOOKUP(F1901,referentes!$Q$2:$T$300,3,FALSE))","v":""},null,null,null,null,null,{"$f":"IF(L1901=\"\",\"\",VLOOKUP(L1901,referentes!$G$2:$N$15,2,FALSE))","v":""},null,null,"",null,null,""]
[null,{"$f":"IF(C1902=\"\",\"\",IF(COUNTIF($C$3:C1902, C1902)>1, \"\", C1902))","v":""},{"$f":"IF(G1902=\"\",\"\",IF(F1902=\"\",\"\",CONCATENATE(DIGITADOR!$M$1,G1902,E1902)))","v":""},"",{"$f":"IF(F1902=\"\",\"\",VLOOKUP(F1902,referentes!$Q$2:$T$300,3,FALSE))","v":""},null,null,null,null,null,{"$f":"IF(L1902=\"\",\"\",VLOOKUP(L1902,referentes!$G$2:$N$15,2,FALSE))","v":""},null,null,"",null,null,""]
[null,{"$f":"IF(C1903=\"\",\"\",IF(COUNTIF($C$3:C1903, C1903)>1, \"\", C1903))","v":""},{"$f":"IF(G1903=\"\",\"\",IF(F1903=\"\",\"\",CONCATENATE(DIGITADOR!$M$1,G1903,E1903)))","v":""},"",{"$f":"IF(F1903=\"\",\"\",VLOOKUP(F1903,referentes!$Q$2:$T$300,3,FALSE))","v":""},null,null,null,null,null,{"$f":"IF(L1903=\"\",\"\",VLOOKUP(L1903,referentes!$G$2:$N$15,2,FALSE))","v":""},null,null,"",null,null,""]
[null,{"$f":"IF(C1904=\"\",\"\",IF(COUNTIF($C$3:C1904, C1904)>1, \"\", C1904))","v":""},{"$f":"IF(G1904=\"\",\"\",IF(F1904=\"\",\"\",CONCATENATE(DIGITADOR!$M$1,G1904,E1904)))","v":""},"",{"$f":"IF(F1904=\"\",\"\",VLOOKUP(F1904,referentes!$Q$2:$T$300,3,FALSE))","v":""},null,null,null,null,null,{"$f":"IF(L1904=\"\",\"\",VLOOKUP(L1904,referentes!$G$2:$N$15,2,FALSE))","v":""},null,null,"",null,null,""]
[null,{"$f":"IF(C1905=\"\",\"\",IF(COUNTIF($C$3:C1905, C1905)>1, \"\", C1905))","v":""},{"$f":"IF(G1905=\"\",\"\",IF(F1905=\"\",\"\",CONCATENATE(DIGITADOR!$M$1,G1905,E1905)))","v":""},"",{"$f":"IF(F1905=\"\",\"\",VLOOKUP(F1905,referentes!$Q$2:$T$300,3,FALSE))","v":""},null,null,null,null,null,{"$f":"IF(L1905=\"\",\"\",VLOOKUP(L1905,referentes!$G$2:$N$15,2,FALSE))","v":""},null,null,"",null,null,""]
[null,{"$f":"IF(C1906=\"\",\"\",IF(COUNTIF($C$3:C1906, C1906)>1, \"\", C1906))","v":""},{"$f":"IF(G1906=\"\",\"\",IF(F1906=\"\",\"\",CONCATENATE(DIGITADOR!$M$1,G1906,E1906)))","v":""},"",{"$f":"IF(F1906=\"\",\"\",VLOOKUP(F1906,referentes!$Q$2:$T$300,3,FALSE))","v":""},null,null,null,null,null,{"$f":"IF(L1906=\"\",\"\",VLOOKUP(L1906,referentes!$G$2:$N$15,2,FALSE))","v":""},null,null,"",null,null,""]
[null,{"$f":"IF(C1907=\"\",\"\",IF(COUNTIF($C$3:C1907, C1907)>1, \"\", C1907))","v":""},{"$f":"IF(G1907=\"\",\"\",IF(F1907=\"\",\"\",CONCATENATE(DIGITADOR!$M$1,G1907,E1907)))","v":""},"",{"$f":"IF(F1907=\"\",\"\",VLOOKUP(F1907,referentes!$Q$2:$T$300,3,FALSE))","v":""},null,null,null,null,null,{"$f":"IF(L1907=\"\",\"\",VLOOKUP(L1907,referentes!$G$2:$N$15,2,FALSE))","v":""},null,null,"",null,null,""]
[null,{"$f":"IF(C1908=\"\",\"\",IF(COUNTIF($C$3:C1908, C1908)>1, \"\", C1908))","v":""},{"$f":"IF(G1908=\"\",\"\",IF(F1908=\"\",\"\",CONCATENATE(DIGITADOR!$M$1,G1908,E1908)))","v":""},"",{"$f":"IF(F1908=\"\",\"\",VLOOKUP(F1908,referentes!$Q$2:$T$300,3,FALSE))","v":""},null,null,null,null,null,{"$f":"IF(L1908=\"\",\"\",VLOOKUP(L1908,referentes!$G$2:$N$15,2,FALSE))","v":""},null,null,"",null,null,""]
[null,{"$f":"IF(C1909=\"\",\"\",IF(COUNTIF($C$3:C1909, C1909)>1, \"\", C1909))","v":""},{"$f":"IF(G1909=\"\",\"\",IF(F1909=\"\",\"\",CONCATENATE(DIGITADOR!$M$1,G1909,E1909)))","v":""},"",{"$f":"IF(F1909=\"\",\"\",VLOOKUP(F1909,referentes!$Q$2:$T$300,3,FALSE))","v":""},null,null,null,null,null,{"$f":"IF(L1909=\"\",\"\",VLOOKUP(L1909,referentes!$G$2:$N$15,2,FALSE))","v":""},null,null,"",null,null,""]
[null,{"$f":"IF(C1910=\"\",\"\",IF(COUNTIF($C$3:C1910, C1910)>1, \"\", C1910))","v":""},{"$f":"IF(G1910=\"\",\"\",IF(F1910=\"\",\"\",CONCATENATE(DIGITADOR!$M$1,G1910,E1910)))","v":""},"",{"$f":"IF(F1910=\"\",\"\",VLOOKUP(F1910,referentes!$Q$2:$T$300,3,FALSE))","v":""},null,null,null,null,null,{"$f":"IF(L1910=\"\",\"\",VLOOKUP(L1910,referentes!$G$2:$N$15,2,FALSE))","v":""},null,null,"",null,null,""]
[null,{"$f":"IF(C1911=\"\",\"\",IF(COUNTIF($C$3:C1911, C1911)>1, \"\", C1911))","v":""},{"$f":"IF(G1911=\"\",\"\",IF(F1911=\"\",\"\",CONCATENATE(DIGITADOR!$M$1,G1911,E1911)))","v":""},"",{"$f":"IF(F1911=\"\",\"\",VLOOKUP(F1911,referentes!$Q$2:$T$300,3,FALSE))","v":""},null,null,null,null,null,{"$f":"IF(L1911=\"\",\"\",VLOOKUP(L1911,referentes!$G$2:$N$15,2,FALSE))","v":""},null,null,"",null,null,""]
[null,{"$f":"IF(C1912=\"\",\"\",IF(COUNTIF($C$3:C1912, C1912)>1, \"\", C1912))","v":""},{"$f":"IF(G1912=\"\",\"\",IF(F1912=\"\",\"\",CONCATENATE(DIGITADOR!$M$1,G1912,E1912)))","v":""},"",{"$f":"IF(F1912=\"\",\"\",VLOOKUP(F1912,referentes!$Q$2:$T$300,3,FALSE))","v":""},null,null,null,null,null,{"$f":"IF(L1912=\"\",\"\",VLOOKUP(L1912,referentes!$G$2:$N$15,2,FALSE))","v":""},null,null,"",null,null,""]
[null,{"$f":"IF(C1913=\"\",\"\",IF(COUNTIF($C$3:C1913, C1913)>1, \"\", C1913))","v":""},{"$f":"IF(G1913=\"\",\"\",IF(F1913=\"\",\"\",CONCATENATE(DIGITADOR!$M$1,G1913,E1913)))","v":""},"",{"$f":"IF(F1913=\"\",\"\",VLOOKUP(F1913,referentes!$Q$2:$T$300,3,FALSE))","v":""},null,null,null,null,null,{"$f":"IF(L1913=\"\",\"\",VLOOKUP(L1913,referentes!$G$2:$N$15,2,FALSE))","v":""},null,null,"",null,null,""]
[null,{"$f":"IF(C1914=\"\",\"\",IF(COUNTIF($C$3:C1914, C1914)>1, \"\", C1914))","v":""},{"$f":"IF(G1914=\"\",\"\",IF(F1914=\"\",\"\",CONCATENATE(DIGITADOR!$M$1,G1914,E1914)))","v":""},"",{"$f":"IF(F1914=\"\",\"\",VLOOKUP(F1914,referentes!$Q$2:$T$300,3,FALSE))","v":""},null,null,null,null,null,{"$f":"IF(L1914=\"\",\"\",VLOOKUP(L1914,referentes!$G$2:$N$15,2,FALSE))","v":""},null,null,"",null,null,""]
[null,{"$f":"IF(C1915=\"\",\"\",IF(COUNTIF($C$3:C1915, C1915)>1, \"\", C1915))","v":""},{"$f":"IF(G1915=\"\",\"\",IF(F1915=\"\",\"\",CONCATENATE(DIGITADOR!$M$1,G1915,E1915)))","v":""},"",{"$f":"IF(F1915=\"\",\"\",VLOOKUP(F1915,referentes!$Q$2:$T$300,3,FALSE))","v":""},null,null,null,null,null,{"$f":"IF(L1915=\"\",\"\",VLOOKUP(L1915,referentes!$G$2:$N$15,2,FALSE))","v":""},null,null,"",null,null,""]
[null,{"$f":"IF(C1916=\"\",\"\",IF(COUNTIF($C$3:C1916, C1916)>1, \"\", C1916))","v":""},{"$f":"IF(G1916=\"\",\"\",IF(F1916=\"\",\"\",CONCATENATE(DIGITADOR!$M$1,G1916,E1916)))","v":""},"",{"$f":"IF(F1916=\"\",\"\",VLOOKUP(F1916,referentes!$Q$2:$T$300,3,FALSE))","v":""},null,null,null,null,null,{"$f":"IF(L1916=\"\",\"\",VLOOKUP(L1916,referentes!$G$2:$N$15,2,FALSE))","v":""},null,null,"",null,null,""]
[null,{"$f":"IF(C1917=\"\",\"\",IF(COUNTIF($C$3:C1917, C1917)>1, \"\", C1917))","v":""},{"$f":"IF(G1917=\"\",\"\",IF(F1917=\"\",\"\",CONCATENATE(DIGITADOR!$M$1,G1917,E1917)))","v":""},"",{"$f":"IF(F1917=\"\",\"\",VLOOKUP(F1917,referentes!$Q$2:$T$300,3,FALSE))","v":""},null,null,null,null,null,{"$f":"IF(L1917=\"\",\"\",VLOOKUP(L1917,referentes!$G$2:$N$15,2,FALSE))","v":""},null,null,"",null,null,""]
[null,{"$f":"IF(C1918=\"\",\"\",IF(COUNTIF($C$3:C1918, C1918)>1, \"\", C1918))","v":""},{"$f":"IF(G1918=\"\",\"\",IF(F1918=\"\",\"\",CONCATENATE(DIGITADOR!$M$1,G1918,E1918)))","v":""},"",{"$f":"IF(F1918=\"\",\"\",VLOOKUP(F1918,referentes!$Q$2:$T$300,3,FALSE))","v":""},null,null,null,null,null,{"$f":"IF(L1918=\"\",\"\",VLOOKUP(L1918,referentes!$G$2:$N$15,2,FALSE))","v":""},null,null,"",null,null,""]
[null,{"$f":"IF(C1919=\"\",\"\",IF(COUNTIF($C$3:C1919, C1919)>1, \"\", C1919))","v":""},{"$f":"IF(G1919=\"\",\"\",IF(F1919=\"\",\"\",CONCATENATE(DIGITADOR!$M$1,G1919,E1919)))","v":""},"",{"$f":"IF(F1919=\"\",\"\",VLOOKUP(F1919,referentes!$Q$2:$T$300,3,FALSE))","v":""},null,null,null,null,null,{"$f":"IF(L1919=\"\",\"\",VLOOKUP(L1919,referentes!$G$2:$N$15,2,FALSE))","v":""},null,null,"",null,null,""]
[null,{"$f":"IF(C1920=\"\",\"\",IF(COUNTIF($C$3:C1920, C1920)>1, \"\", C1920))","v":""},{"$f":"IF(G1920=\"\",\"\",IF(F1920=\"\",\"\",CONCATENATE(DIGITADOR!$M$1,G1920,E1920)))","v":""},"",{"$f":"IF(F1920=\"\",\"\",VLOOKUP(F1920,referentes!$Q$2:$T$300,3,FALSE))","v":""},null,null,null,null,null,{"$f":"IF(L1920=\"\",\"\",VLOOKUP(L1920,referentes!$G$2:$N$15,2,FALSE))","v":""},null,null,"",null,null,""]
[null,{"$f":"IF(C1921=\"\",\"\",IF(COUNTIF($C$3:C1921, C1921)>1, \"\", C1921))","v":""},{"$f":"IF(G1921=\"\",\"\",IF(F1921=\"\",\"\",CONCATENATE(DIGITADOR!$M$1,G1921,E1921)))","v":""},"",{"$f":"IF(F1921=\"\",\"\",VLOOKUP(F1921,referentes!$Q$2:$T$300,3,FALSE))","v":""},null,null,null,null,null,{"$f":"IF(L1921=\"\",\"\",VLOOKUP(L1921,referentes!$G$2:$N$15,2,FALSE))","v":""},null,null,"",null,null,""]
[null,{"$f":"IF(C1922=\"\",\"\",IF(COUNTIF($C$3:C1922, C1922)>1, \"\", C1922))","v":""},{"$f":"IF(G1922=\"\",\"\",IF(F1922=\"\",\"\",CONCATENATE(DIGITADOR!$M$1,G1922,E1922)))","v":""},"",{"$f":"IF(F1922=\"\",\"\",VLOOKUP(F1922,referentes!$Q$2:$T$300,3,FALSE))","v":""},null,null,null,null,null,{"$f":"IF(L1922=\"\",\"\",VLOOKUP(L1922,referentes!$G$2:$N$15,2,FALSE))","v":""},null,null,"",null,null,""]
[null,{"$f":"IF(C1923=\"\",\"\",IF(COUNTIF($C$3:C1923, C1923)>1, \"\", C1923))","v":""},{"$f":"IF(G1923=\"\",\"\",IF(F1923=\"\",\"\",CONCATENATE(DIGITADOR!$M$1,G1923,E1923)))","v":""},"",{"$f":"IF(F1923=\"\",\"\",VLOOKUP(F1923,referentes!$Q$2:$T$300,3,FALSE))","v":""},null,null,null,null,null,{"$f":"IF(L1923=\"\",\"\",VLOOKUP(L1923,referentes!$G$2:$N$15,2,FALSE))","v":""},null,null,"",null,null,""]
[null,{"$f":"IF(C1924=\"\",\"\",IF(COUNTIF($C$3:C1924, C1924)>1, \"\", C1924))","v":""},{"$f":"IF(G1924=\"\",\"\",IF(F1924=\"\",\"\",CONCATENATE(DIGITADOR!$M$1,G1924,E1924)))","v":""},{"$f":"IF(C1924=\"\",\"\",CONCATENATE(C1924,ROW()-2))","v":""},{"$f":"IF(F1924=\"\",\"\",VLOOKUP(F1924,referentes!$Q$2:$T$300,3,FALSE))","v":""},null,null,null,null,null,{"$f":"IF(L1924=\"\",\"\",VLOOKUP(L1924,referentes!$G$2:$N$15,2,FALSE))","v":""},null,null,{"$f":"IF(M1924=\"\",\"\",M1924/PI())","v":""},null,null,{"$f":"IF(N1924=\"\",\"\",((PI())*((N1924/100)^2))/4*10000/500)","v":""}]
[null,{"$f":"IF(C1925=\"\",\"\",IF(COUNTIF($C$3:C1925, C1925)>1, \"\", C1925))","v":""},{"$f":"IF(G1925=\"\",\"\",IF(F1925=\"\",\"\",CONCATENATE(DIGITADOR!$M$1,G1925,E1925)))","v":""},"",{"$f":"IF(F1925=\"\",\"\",VLOOKUP(F1925,referentes!$Q$2:$T$300,3,FALSE))","v":""},null,null,null,null,null,{"$f":"IF(L1925=\"\",\"\",VLOOKUP(L1925,referentes!$G$2:$N$15,2,FALSE))","v":""},null,null,"",null,null,""]
[null,{"$f":"IF(C1926=\"\",\"\",IF(COUNTIF($C$3:C1926, C1926)>1, \"\", C1926))","v":""},{"$f":"IF(G1926=\"\",\"\",IF(F1926=\"\",\"\",CONCATENATE(DIGITADOR!$M$1,G1926,E1926)))","v":""},"",{"$f":"IF(F1926=\"\",\"\",VLOOKUP(F1926,referentes!$Q$2:$T$300,3,FALSE))","v":""},null,null,null,null,null,{"$f":"IF(L1926=\"\",\"\",VLOOKUP(L1926,referentes!$G$2:$N$15,2,FALSE))","v":""},null,null,"",null,null,""]
[null,{"$f":"IF(C1927=\"\",\"\",IF(COUNTIF($C$3:C1927, C1927)>1, \"\", C1927))","v":""},{"$f":"IF(G1927=\"\",\"\",IF(F1927=\"\",\"\",CONCATENATE(DIGITADOR!$M$1,G1927,E1927)))","v":""},"",{"$f":"IF(F1927=\"\",\"\",VLOOKUP(F1927,referentes!$Q$2:$T$300,3,FALSE))","v":""},null,null,null,null,null,{"$f":"IF(L1927=\"\",\"\",VLOOKUP(L1927,referentes!$G$2:$N$15,2,FALSE))","v":""},null,null,"",null,null,""]
[null,{"$f":"IF(C1928=\"\",\"\",IF(COUNTIF($C$3:C1928, C1928)>1, \"\", C1928))","v":""},{"$f":"IF(G1928=\"\",\"\",IF(F1928=\"\",\"\",CONCATENATE(DIGITADOR!$M$1,G1928,E1928)))","v":""},"",{"$f":"IF(F1928=\"\",\"\",VLOOKUP(F1928,referentes!$Q$2:$T$300,3,FALSE))","v":""},null,null,null,null,null,{"$f":"IF(L1928=\"\",\"\",VLOOKUP(L1928,referentes!$G$2:$N$15,2,FALSE))","v":""},null,null,"",null,null,""]
[null,{"$f":"IF(C1929=\"\",\"\",IF(COUNTIF($C$3:C1929, C1929)>1, \"\", C1929))","v":""},{"$f":"IF(G1929=\"\",\"\",IF(F1929=\"\",\"\",CONCATENATE(DIGITADOR!$M$1,G1929,E1929)))","v":""},"",{"$f":"IF(F1929=\"\",\"\",VLOOKUP(F1929,referentes!$Q$2:$T$300,3,FALSE))","v":""},null,null,null,null,null,{"$f":"IF(L1929=\"\",\"\",VLOOKUP(L1929,referentes!$G$2:$N$15,2,FALSE))","v":""},null,null,"",null,null,""]
[null,{"$f":"IF(C1930=\"\",\"\",IF(COUNTIF($C$3:C1930, C1930)>1, \"\", C1930))","v":""},{"$f":"IF(G1930=\"\",\"\",IF(F1930=\"\",\"\",CONCATENATE(DIGITADOR!$M$1,G1930,E1930)))","v":""},"",{"$f":"IF(F1930=\"\",\"\",VLOOKUP(F1930,referentes!$Q$2:$T$300,3,FALSE))","v":""},null,null,null,null,null,{"$f":"IF(L1930=\"\",\"\",VLOOKUP(L1930,referentes!$G$2:$N$15,2,FALSE))","v":""},null,null,"",null,null,""]
[null,{"$f":"IF(C1931=\"\",\"\",IF(COUNTIF($C$3:C1931, C1931)>1, \"\", C1931))","v":""},{"$f":"IF(G1931=\"\",\"\",IF(F1931=\"\",\"\",CONCATENATE(DIGITADOR!$M$1,G1931,E1931)))","v":""},"",{"$f":"IF(F1931=\"\",\"\",VLOOKUP(F1931,referentes!$Q$2:$T$300,3,FALSE))","v":""},null,null,null,null,null,{"$f":"IF(L1931=\"\",\"\",VLOOKUP(L1931,referentes!$G$2:$N$15,2,FALSE))","v":""},null,null,"",null,null,""]
[null,{"$f":"IF(C1932=\"\",\"\",IF(COUNTIF($C$3:C1932, C1932)>1, \"\", C1932))","v":""},{"$f":"IF(G1932=\"\",\"\",IF(F1932=\"\",\"\",CONCATENATE(DIGITADOR!$M$1,G1932,E1932)))","v":""},"",{"$f":"IF(F1932=\"\",\"\",VLOOKUP(F1932,referentes!$Q$2:$T$300,3,FALSE))","v":""},null,null,null,null,null,{"$f":"IF(L1932=\"\",\"\",VLOOKUP(L1932,referentes!$G$2:$N$15,2,FALSE))","v":""},null,null,"",null,null,""]
[null,{"$f":"IF(C1933=\"\",\"\",IF(COUNTIF($C$3:C1933, C1933)>1, \"\", C1933))","v":""},{"$f":"IF(G1933=\"\",\"\",IF(F1933=\"\",\"\",CONCATENATE(DIGITADOR!$M$1,G1933,E1933)))","v":""},"",{"$f":"IF(F1933=\"\",\"\",VLOOKUP(F1933,referentes!$Q$2:$T$300,3,FALSE))","v":""},null,null,null,null,null,{"$f":"IF(L1933=\"\",\"\",VLOOKUP(L1933,referentes!$G$2:$N$15,2,FALSE))","v":""},null,null,"",null,null,""]
[null,{"$f":"IF(C1934=\"\",\"\",IF(COUNTIF($C$3:C1934, C1934)>1, \"\", C1934))","v":""},{"$f":"IF(G1934=\"\",\"\",IF(F1934=\"\",\"\",CONCATENATE(DIGITADOR!$M$1,G1934,E1934)))","v":""},"",{"$f":"IF(F1934=\"\",\"\",VLOOKUP(F1934,referentes!$Q$2:$T$300,3,FALSE))","v":""},null,null,null,null,null,{"$f":"IF(L1934=\"\",\"\",VLOOKUP(L1934,referentes!$G$2:$N$15,2,FALSE))","v":""},null,null,"",null,null,""]
[null,{"$f":"IF(C1935=\"\",\"\",IF(COUNTIF($C$3:C1935, C1935)>1, \"\", C1935))","v":""},{"$f":"IF(G1935=\"\",\"\",IF(F1935=\"\",\"\",CONCATENATE(DIGITADOR!$M$1,G1935,E1935)))","v":""},"",{"$f":"IF(F1935=\"\",\"\",VLOOKUP(F1935,referentes!$Q$2:$T$300,3,FALSE))","v":""},null,null,null,null,null,{"$f":"IF(L1935=\"\",\"\",VLOOKUP(L1935,referentes!$G$2:$N$15,2,FALSE))","v":""},null,null,"",null,null,""]
[null,{"$f":"IF(C1936=\"\",\"\",IF(COUNTIF($C$3:C1936, C1936)>1, \"\", C1936))","v":""},{"$f":"IF(G1936=\"\",\"\",IF(F1936=\"\",\"\",CONCATENATE(DIGITADOR!$M$1,G1936,E1936)))","v":""},"",{"$f":"IF(F1936=\"\",\"\",VLOOKUP(F1936,referentes!$Q$2:$T$300,3,FALSE))","v":""},null,null,null,null,null,{"$f":"IF(L1936=\"\",\"\",VLOOKUP(L1936,referentes!$G$2:$N$15,2,FALSE))","v":""},null,null,"",null,null,""]
[null,{"$f":"IF(C1937=\"\",\"\",IF(COUNTIF($C$3:C1937, C1937)>1, \"\", C1937))","v":""},{"$f":"IF(G1937=\"\",\"\",IF(F1937=\"\",\"\",CONCATENATE(DIGITADOR!$M$1,G1937,E1937)))","v":""},"",{"$f":"IF(F1937=\"\",\"\",VLOOKUP(F1937,referentes!$Q$2:$T$300,3,FALSE))","v":""},null,null,null,null,null,{"$f":"IF(L1937=\"\",\"\",VLOOKUP(L1937,referentes!$G$2:$N$15,2,FALSE))","v":""},null,null,"",null,null,""]
[null,{"$f":"IF(C1938=\"\",\"\",IF(COUNTIF($C$3:C1938, C1938)>1, \"\", C1938))","v":""},{"$f":"IF(G1938=\"\",\"\",IF(F1938=\"\",\"\",CONCATENATE(DIGITADOR!$M$1,G1938,E1938)))","v":""},"",{"$f":"IF(F1938=\"\",\"\",VLOOKUP(F1938,referentes!$Q$2:$T$300,3,FALSE))","v":""},null,null,null,null,null,{"$f":"IF(L1938=\"\",\"\",VLOOKUP(L1938,referentes!$G$2:$N$15,2,FALSE))","v":""},null,null,"",null,null,""]
[null,{"$f":"IF(C1939=\"\",\"\",IF(COUNTIF($C$3:C1939, C1939)>1, \"\", C1939))","v":""},{"$f":"IF(G1939=\"\",\"\",IF(F1939=\"\",\"\",CONCATENATE(DIGITADOR!$M$1,G1939,E1939)))","v":""},"",{"$f":"IF(F1939=\"\",\"\",VLOOKUP(F1939,referentes!$Q$2:$T$300,3,FALSE))","v":""},null,null,null,null,null,{"$f":"IF(L1939=\"\",\"\",VLOOKUP(L1939,referentes!$G$2:$N$15,2,FALSE))","v":""},null,null,"",null,null,""]
[null,{"$f":"IF(C1940=\"\",\"\",IF(COUNTIF($C$3:C1940, C1940)>1, \"\", C1940))","v":""},{"$f":"IF(G1940=\"\",\"\",IF(F1940=\"\",\"\",CONCATENATE(DIGITADOR!$M$1,G1940,E1940)))","v":""},"",{"$f":"IF(F1940=\"\",\"\",VLOOKUP(F1940,referentes!$Q$2:$T$300,3,FALSE))","v":""},null,null,null,null,null,{"$f":"IF(L1940=\"\",\"\",VLOOKUP(L1940,referentes!$G$2:$N$15,2,FALSE))","v":""},null,null,"",null,null,""]
[null,{"$f":"IF(C1941=\"\",\"\",IF(COUNTIF($C$3:C1941, C1941)>1, \"\", C1941))","v":""},{"$f":"IF(G1941=\"\",\"\",IF(F1941=\"\",\"\",CONCATENATE(DIGITADOR!$M$1,G1941,E1941)))","v":""},"",{"$f":"IF(F1941=\"\",\"\",VLOOKUP(F1941,referentes!$Q$2:$T$300,3,FALSE))","v":""},null,null,null,null,null,{"$f":"IF(L1941=\"\",\"\",VLOOKUP(L1941,referentes!$G$2:$N$15,2,FALSE))","v":""},null,null,"",null,null,""]
[null,{"$f":"IF(C1942=\"\",\"\",IF(COUNTIF($C$3:C1942, C1942)>1, \"\", C1942))","v":""},{"$f":"IF(G1942=\"\",\"\",IF(F1942=\"\",\"\",CONCATENATE(DIGITADOR!$M$1,G1942,E1942)))","v":""},"",{"$f":"IF(F1942=\"\",\"\",VLOOKUP(F1942,referentes!$Q$2:$T$300,3,FALSE))","v":""},null,null,null,null,null,{"$f":"IF(L1942=\"\",\"\",VLOOKUP(L1942,referentes!$G$2:$N$15,2,FALSE))","v":""},null,null,"",null,null,""]
[null,{"$f":"IF(C1943=\"\",\"\",IF(COUNTIF($C$3:C1943, C1943)>1, \"\", C1943))","v":""},{"$f":"IF(G1943=\"\",\"\",IF(F1943=\"\",\"\",CONCATENATE(DIGITADOR!$M$1,G1943,E1943)))","v":""},"",{"$f":"IF(F1943=\"\",\"\",VLOOKUP(F1943,referentes!$Q$2:$T$300,3,FALSE))","v":""},null,null,null,null,null,{"$f":"IF(L1943=\"\",\"\",VLOOKUP(L1943,referentes!$G$2:$N$15,2,FALSE))","v":""},null,null,"",null,null,""]
[null,{"$f":"IF(C1944=\"\",\"\",IF(COUNTIF($C$3:C1944, C1944)>1, \"\", C1944))","v":""},{"$f":"IF(G1944=\"\",\"\",IF(F1944=\"\",\"\",CONCATENATE(DIGITADOR!$M$1,G1944,E1944)))","v":""},"",{"$f":"IF(F1944=\"\",\"\",VLOOKUP(F1944,referentes!$Q$2:$T$300,3,FALSE))","v":""},null,null,null,null,null,{"$f":"IF(L1944=\"\",\"\",VLOOKUP(L1944,referentes!$G$2:$N$15,2,FALSE))","v":""},null,null,"",null,null,""]
[null,{"$f":"IF(C1945=\"\",\"\",IF(COUNTIF($C$3:C1945, C1945)>1, \"\", C1945))","v":""},{"$f":"IF(G1945=\"\",\"\",IF(F1945=\"\",\"\",CONCATENATE(DIGITADOR!$M$1,G1945,E1945)))","v":""},"",{"$f":"IF(F1945=\"\",\"\",VLOOKUP(F1945,referentes!$Q$2:$T$300,3,FALSE))","v":""},null,null,null,null,null,{"$f":"IF(L1945=\"\",\"\",VLOOKUP(L1945,referentes!$G$2:$N$15,2,FALSE))","v":""},null,null,"",null,null,""]
[null,{"$f":"IF(C1946=\"\",\"\",IF(COUNTIF($C$3:C1946, C1946)>1, \"\", C1946))","v":""},{"$f":"IF(G1946=\"\",\"\",IF(F1946=\"\",\"\",CONCATENATE(DIGITADOR!$M$1,G1946,E1946)))","v":""},"",{"$f":"IF(F1946=\"\",\"\",VLOOKUP(F1946,referentes!$Q$2:$T$300,3,FALSE))","v":""},null,null,null,null,null,{"$f":"IF(L1946=\"\",\"\",VLOOKUP(L1946,referentes!$G$2:$N$15,2,FALSE))","v":""},null,null,"",null,null,""]
[null,{"$f":"IF(C1947=\"\",\"\",IF(COUNTIF($C$3:C1947, C1947)>1, \"\", C1947))","v":""},{"$f":"IF(G1947=\"\",\"\",IF(F1947=\"\",\"\",CONCATENATE(DIGITADOR!$M$1,G1947,E1947)))","v":""},"",{"$f":"IF(F1947=\"\",\"\",VLOOKUP(F1947,referentes!$Q$2:$T$300,3,FALSE))","v":""},null,null,null,null,null,{"$f":"IF(L1947=\"\",\"\",VLOOKUP(L1947,referentes!$G$2:$N$15,2,FALSE))","v":""},null,null,"",null,null,""]
[null,{"$f":"IF(C1948=\"\",\"\",IF(COUNTIF($C$3:C1948, C1948)>1, \"\", C1948))","v":""},{"$f":"IF(G1948=\"\",\"\",IF(F1948=\"\",\"\",CONCATENATE(DIGITADOR!$M$1,G1948,E1948)))","v":""},"",{"$f":"IF(F1948=\"\",\"\",VLOOKUP(F1948,referentes!$Q$2:$T$300,3,FALSE))","v":""},null,null,null,null,null,{"$f":"IF(L1948=\"\",\"\",VLOOKUP(L1948,referentes!$G$2:$N$15,2,FALSE))","v":""},null,null,"",null,null,""]
[null,{"$f":"IF(C1949=\"\",\"\",IF(COUNTIF($C$3:C1949, C1949)>1, \"\", C1949))","v":""},{"$f":"IF(G1949=\"\",\"\",IF(F1949=\"\",\"\",CONCATENATE(DIGITADOR!$M$1,G1949,E1949)))","v":""},"",{"$f":"IF(F1949=\"\",\"\",VLOOKUP(F1949,referentes!$Q$2:$T$300,3,FALSE))","v":""},null,null,null,null,null,{"$f":"IF(L1949=\"\",\"\",VLOOKUP(L1949,referentes!$G$2:$N$15,2,FALSE))","v":""},null,null,"",null,null,""]
[null,{"$f":"IF(C1950=\"\",\"\",IF(COUNTIF($C$3:C1950, C1950)>1, \"\", C1950))","v":""},{"$f":"IF(G1950=\"\",\"\",IF(F1950=\"\",\"\",CONCATENATE(DIGITADOR!$M$1,G1950,E1950)))","v":""},"",{"$f":"IF(F1950=\"\",\"\",VLOOKUP(F1950,referentes!$Q$2:$T$300,3,FALSE))","v":""},null,null,null,null,null,{"$f":"IF(L1950=\"\",\"\",VLOOKUP(L1950,referentes!$G$2:$N$15,2,FALSE))","v":""},null,null,"",null,null,""]
[null,{"$f":"IF(C1951=\"\",\"\",IF(COUNTIF($C$3:C1951, C1951)>1, \"\", C1951))","v":""},{"$f":"IF(G1951=\"\",\"\",IF(F1951=\"\",\"\",CONCATENATE(DIGITADOR!$M$1,G1951,E1951)))","v":""},"",{"$f":"IF(F1951=\"\",\"\",VLOOKUP(F1951,referentes!$Q$2:$T$300,3,FALSE))","v":""},null,null,null,null,null,{"$f":"IF(L1951=\"\",\"\",VLOOKUP(L1951,referentes!$G$2:$N$15,2,FALSE))","v":""},null,null,"",null,null,""]
[null,{"$f":"IF(C1952=\"\",\"\",IF(COUNTIF($C$3:C1952, C1952)>1, \"\", C1952))","v":""},{"$f":"IF(G1952=\"\",\"\",IF(F1952=\"\",\"\",CONCATENATE(DIGITADOR!$M$1,G1952,E1952)))","v":""},"",{"$f":"IF(F1952=\"\",\"\",VLOOKUP(F1952,referentes!$Q$2:$T$300,3,FALSE))","v":""},null,null,null,null,null,{"$f":"IF(L1952=\"\",\"\",VLOOKUP(L1952,referentes!$G$2:$N$15,2,FALSE))","v":""},null,null,"",null,null,""]
[null,{"$f":"IF(C1953=\"\",\"\",IF(COUNTIF($C$3:C1953, C1953)>1, \"\", C1953))","v":""},{"$f":"IF(G1953=\"\",\"\",IF(F1953=\"\",\"\",CONCATENATE(DIGITADOR!$M$1,G1953,E1953)))","v":""},"",{"$f":"IF(F1953=\"\",\"\",VLOOKUP(F1953,referentes!$Q$2:$T$300,3,FALSE))","v":""},null,null,null,null,null,{"$f":"IF(L1953=\"\",\"\",VLOOKUP(L1953,referentes!$G$2:$N$15,2,FALSE))","v":""},null,null,"",null,null,""]
[null,{"$f":"IF(C1954=\"\",\"\",IF(COUNTIF($C$3:C1954, C1954)>1, \"\", C1954))","v":""},{"$f":"IF(G1954=\"\",\"\",IF(F1954=\"\",\"\",CONCATENATE(DIGITADOR!$M$1,G1954,E1954)))","v":""},"",{"$f":"IF(F1954=\"\",\"\",VLOOKUP(F1954,referentes!$Q$2:$T$300,3,FALSE))","v":""},null,null,null,null,null,{"$f":"IF(L1954=\"\",\"\",VLOOKUP(L1954,referentes!$G$2:$N$15,2,FALSE))","v":""},null,null,"",null,null,""]
[null,{"$f":"IF(C1955=\"\",\"\",IF(COUNTIF($C$3:C1955, C1955)>1, \"\", C1955))","v":""},{"$f":"IF(G1955=\"\",\"\",IF(F1955=\"\",\"\",CONCATENATE(DIGITADOR!$M$1,G1955,E1955)))","v":""},"",{"$f":"IF(F1955=\"\",\"\",VLOOKUP(F1955,referentes!$Q$2:$T$300,3,FALSE))","v":""},null,null,null,null,null,{"$f":"IF(L1955=\"\",\"\",VLOOKUP(L1955,referentes!$G$2:$N$15,2,FALSE))","v":""},null,null,"",null,null,""]
[null,{"$f":"IF(C1956=\"\",\"\",IF(COUNTIF($C$3:C1956, C1956)>1, \"\", C1956))","v":""},{"$f":"IF(G1956=\"\",\"\",IF(F1956=\"\",\"\",CONCATENATE(DIGITADOR!$M$1,G1956,E1956)))","v":""},"",{"$f":"IF(F1956=\"\",\"\",VLOOKUP(F1956,referentes!$Q$2:$T$300,3,FALSE))","v":""},null,null,null,null,null,{"$f":"IF(L1956=\"\",\"\",VLOOKUP(L1956,referentes!$G$2:$N$15,2,FALSE))","v":""},null,null,"",null,null,""]
[null,{"$f":"IF(C1957=\"\",\"\",IF(COUNTIF($C$3:C1957, C1957)>1, \"\", C1957))","v":""},{"$f":"IF(G1957=\"\",\"\",IF(F1957=\"\",\"\",CONCATENATE(DIGITADOR!$M$1,G1957,E1957)))","v":""},"",{"$f":"IF(F1957=\"\",\"\",VLOOKUP(F1957,referentes!$Q$2:$T$300,3,FALSE))","v":""},null,null,null,null,null,{"$f":"IF(L1957=\"\",\"\",VLOOKUP(L1957,referentes!$G$2:$N$15,2,FALSE))","v":""},null,null,"",null,null,""]
[null,{"$f":"IF(C1958=\"\",\"\",IF(COUNTIF($C$3:C1958, C1958)>1, \"\", C1958))","v":""},{"$f":"IF(G1958=\"\",\"\",IF(F1958=\"\",\"\",CONCATENATE(DIGITADOR!$M$1,G1958,E1958)))","v":""},"",{"$f":"IF(F1958=\"\",\"\",VLOOKUP(F1958,referentes!$Q$2:$T$300,3,FALSE))","v":""},null,null,null,null,null,{"$f":"IF(L1958=\"\",\"\",VLOOKUP(L1958,referentes!$G$2:$N$15,2,FALSE))","v":""},null,null,"",null,null,""]
[null,{"$f":"IF(C1959=\"\",\"\",IF(COUNTIF($C$3:C1959, C1959)>1, \"\", C1959))","v":""},{"$f":"IF(G1959=\"\",\"\",IF(F1959=\"\",\"\",CONCATENATE(DIGITADOR!$M$1,G1959,E1959)))","v":""},"",{"$f":"IF(F1959=\"\",\"\",VLOOKUP(F1959,referentes!$Q$2:$T$300,3,FALSE))","v":""},null,null,null,null,null,{"$f":"IF(L1959=\"\",\"\",VLOOKUP(L1959,referentes!$G$2:$N$15,2,FALSE))","v":""},null,null,"",null,null,""]
[null,{"$f":"IF(C1960=\"\",\"\",IF(COUNTIF($C$3:C1960, C1960)>1, \"\", C1960))","v":""},{"$f":"IF(G1960=\"\",\"\",IF(F1960=\"\",\"\",CONCATENATE(DIGITADOR!$M$1,G1960,E1960)))","v":""},"",{"$f":"IF(F1960=\"\",\"\",VLOOKUP(F1960,referentes!$Q$2:$T$300,3,FALSE))","v":""},null,null,null,null,null,{"$f":"IF(L1960=\"\",\"\",VLOOKUP(L1960,referentes!$G$2:$N$15,2,FALSE))","v":""},null,null,"",null,null,""]
[null,{"$f":"IF(C1961=\"\",\"\",IF(COUNTIF($C$3:C1961, C1961)>1, \"\", C1961))","v":""},{"$f":"IF(G1961=\"\",\"\",IF(F1961=\"\",\"\",CONCATENATE(DIGITADOR!$M$1,G1961,E1961)))","v":""},"",{"$f":"IF(F1961=\"\",\"\",VLOOKUP(F1961,referentes!$Q$2:$T$300,3,FALSE))","v":""},null,null,null,null,null,{"$f":"IF(L1961=\"\",\"\",VLOOKUP(L1961,referentes!$G$2:$N$15,2,FALSE))","v":""},null,null,"",null,null,""]
[null,{"$f":"IF(C1962=\"\",\"\",IF(COUNTIF($C$3:C1962, C1962)>1, \"\", C1962))","v":""},{"$f":"IF(G1962=\"\",\"\",IF(F1962=\"\",\"\",CONCATENATE(DIGITADOR!$M$1,G1962,E1962)))","v":""},"",{"$f":"IF(F1962=\"\",\"\",VLOOKUP(F1962,referentes!$Q$2:$T$300,3,FALSE))","v":""},null,null,null,null,null,{"$f":"IF(L1962=\"\",\"\",VLOOKUP(L1962,referentes!$G$2:$N$15,2,FALSE))","v":""},null,null,"",null,null,""]
[null,{"$f":"IF(C1963=\"\",\"\",IF(COUNTIF($C$3:C1963, C1963)>1, \"\", C1963))","v":""},{"$f":"IF(G1963=\"\",\"\",IF(F1963=\"\",\"\",CONCATENATE(DIGITADOR!$M$1,G1963,E1963)))","v":""},"",{"$f":"IF(F1963=\"\",\"\",VLOOKUP(F1963,referentes!$Q$2:$T$300,3,FALSE))","v":""},null,null,null,null,null,{"$f":"IF(L1963=\"\",\"\",VLOOKUP(L1963,referentes!$G$2:$N$15,2,FALSE))","v":""},null,null,"",null,null,""]
[null,{"$f":"IF(C1964=\"\",\"\",IF(COUNTIF($C$3:C1964, C1964)>1, \"\", C1964))","v":""},{"$f":"IF(G1964=\"\",\"\",IF(F1964=\"\",\"\",CONCATENATE(DIGITADOR!$M$1,G1964,E1964)))","v":""},"",{"$f":"IF(F1964=\"\",\"\",VLOOKUP(F1964,referentes!$Q$2:$T$300,3,FALSE))","v":""},null,null,null,null,null,{"$f":"IF(L1964=\"\",\"\",VLOOKUP(L1964,referentes!$G$2:$N$15,2,FALSE))","v":""},null,null,"",null,null,""]
[null,{"$f":"IF(C1965=\"\",\"\",IF(COUNTIF($C$3:C1965, C1965)>1, \"\", C1965))","v":""},{"$f":"IF(G1965=\"\",\"\",IF(F1965=\"\",\"\",CONCATENATE(DIGITADOR!$M$1,G1965,E1965)))","v":""},"",{"$f":"IF(F1965=\"\",\"\",VLOOKUP(F1965,referentes!$Q$2:$T$300,3,FALSE))","v":""},null,null,null,null,null,{"$f":"IF(L1965=\"\",\"\",VLOOKUP(L1965,referentes!$G$2:$N$15,2,FALSE))","v":""},null,null,"",null,null,""]
[null,{"$f":"IF(C1966=\"\",\"\",IF(COUNTIF($C$3:C1966, C1966)>1, \"\", C1966))","v":""},{"$f":"IF(G1966=\"\",\"\",IF(F1966=\"\",\"\",CONCATENATE(DIGITADOR!$M$1,G1966,E1966)))","v":""},"",{"$f":"IF(F1966=\"\",\"\",VLOOKUP(F1966,referentes!$Q$2:$T$300,3,FALSE))","v":""},null,null,null,null,null,{"$f":"IF(L1966=\"\",\"\",VLOOKUP(L1966,referentes!$G$2:$N$15,2,FALSE))","v":""},null,null,"",null,null,""]
[null,{"$f":"IF(C1967=\"\",\"\",IF(COUNTIF($C$3:C1967, C1967)>1, \"\", C1967))","v":""},{"$f":"IF(G1967=\"\",\"\",IF(F1967=\"\",\"\",CONCATENATE(DIGITADOR!$M$1,G1967,E1967)))","v":""},"",{"$f":"IF(F1967=\"\",\"\",VLOOKUP(F1967,referentes!$Q$2:$T$300,3,FALSE))","v":""},null,null,null,null,null,{"$f":"IF(L1967=\"\",\"\",VLOOKUP(L1967,referentes!$G$2:$N$15,2,FALSE))","v":""},null,null,"",null,null,""]
[null,{"$f":"IF(C1968=\"\",\"\",IF(COUNTIF($C$3:C1968, C1968)>1, \"\", C1968))","v":""},{"$f":"IF(G1968=\"\",\"\",IF(F1968=\"\",\"\",CONCATENATE(DIGITADOR!$M$1,G1968,E1968)))","v":""},"",{"$f":"IF(F1968=\"\",\"\",VLOOKUP(F1968,referentes!$Q$2:$T$300,3,FALSE))","v":""},null,null,null,null,null,{"$f":"IF(L1968=\"\",\"\",VLOOKUP(L1968,referentes!$G$2:$N$15,2,FALSE))","v":""},null,null,"",null,null,""]
[null,{"$f":"IF(C1969=\"\",\"\",IF(COUNTIF($C$3:C1969, C1969)>1, \"\", C1969))","v":""},{"$f":"IF(G1969=\"\",\"\",IF(F1969=\"\",\"\",CONCATENATE(DIGITADOR!$M$1,G1969,E1969)))","v":""},"",{"$f":"IF(F1969=\"\",\"\",VLOOKUP(F1969,referentes!$Q$2:$T$300,3,FALSE))","v":""},null,null,null,null,null,{"$f":"IF(L1969=\"\",\"\",VLOOKUP(L1969,referentes!$G$2:$N$15,2,FALSE))","v":""},null,null,"",null,null,""]
[null,{"$f":"IF(C1970=\"\",\"\",IF(COUNTIF($C$3:C1970, C1970)>1, \"\", C1970))","v":""},{"$f":"IF(G1970=\"\",\"\",IF(F1970=\"\",\"\",CONCATENATE(DIGITADOR!$M$1,G1970,E1970)))","v":""},"",{"$f":"IF(F1970=\"\",\"\",VLOOKUP(F1970,referentes!$Q$2:$T$300,3,FALSE))","v":""},null,null,null,null,null,{"$f":"IF(L1970=\"\",\"\",VLOOKUP(L1970,referentes!$G$2:$N$15,2,FALSE))","v":""},null,null,"",null,null,""]
[null,{"$f":"IF(C1971=\"\",\"\",IF(COUNTIF($C$3:C1971, C1971)>1, \"\", C1971))","v":""},{"$f":"IF(G1971=\"\",\"\",IF(F1971=\"\",\"\",CONCATENATE(DIGITADOR!$M$1,G1971,E1971)))","v":""},"",{"$f":"IF(F1971=\"\",\"\",VLOOKUP(F1971,referentes!$Q$2:$T$300,3,FALSE))","v":""},null,null,null,null,null,{"$f":"IF(L1971=\"\",\"\",VLOOKUP(L1971,referentes!$G$2:$N$15,2,FALSE))","v":""},null,null,"",null,null,""]
[null,{"$f":"IF(C1972=\"\",\"\",IF(COUNTIF($C$3:C1972, C1972)>1, \"\", C1972))","v":""},{"$f":"IF(G1972=\"\",\"\",IF(F1972=\"\",\"\",CONCATENATE(DIGITADOR!$M$1,G1972,E1972)))","v":""},"",{"$f":"IF(F1972=\"\",\"\",VLOOKUP(F1972,referentes!$Q$2:$T$300,3,FALSE))","v":""},null,null,null,null,null,{"$f":"IF(L1972=\"\",\"\",VLOOKUP(L1972,referentes!$G$2:$N$15,2,FALSE))","v":""},null,null,"",null,null,""]
[null,{"$f":"IF(C1973=\"\",\"\",IF(COUNTIF($C$3:C1973, C1973)>1, \"\", C1973))","v":""},{"$f":"IF(G1973=\"\",\"\",IF(F1973=\"\",\"\",CONCATENATE(DIGITADOR!$M$1,G1973,E1973)))","v":""},"",{"$f":"IF(F1973=\"\",\"\",VLOOKUP(F1973,referentes!$Q$2:$T$300,3,FALSE))","v":""},null,null,null,null,null,{"$f":"IF(L1973=\"\",\"\",VLOOKUP(L1973,referentes!$G$2:$N$15,2,FALSE))","v":""},null,null,"",null,null,""]
[null,{"$f":"IF(C1974=\"\",\"\",IF(COUNTIF($C$3:C1974, C1974)>1, \"\", C1974))","v":""},{"$f":"IF(G1974=\"\",\"\",IF(F1974=\"\",\"\",CONCATENATE(DIGITADOR!$M$1,G1974,E1974)))","v":""},"",{"$f":"IF(F1974=\"\",\"\",VLOOKUP(F1974,referentes!$Q$2:$T$300,3,FALSE))","v":""},null,null,null,null,null,{"$f":"IF(L1974=\"\",\"\",VLOOKUP(L1974,referentes!$G$2:$N$15,2,FALSE))","v":""},null,null,"",null,null,""]
[null,{"$f":"IF(C1975=\"\",\"\",IF(COUNTIF($C$3:C1975, C1975)>1, \"\", C1975))","v":""},{"$f":"IF(G1975=\"\",\"\",IF(F1975=\"\",\"\",CONCATENATE(DIGITADOR!$M$1,G1975,E1975)))","v":""},"",{"$f":"IF(F1975=\"\",\"\",VLOOKUP(F1975,referentes!$Q$2:$T$300,3,FALSE))","v":""},null,null,null,null,null,{"$f":"IF(L1975=\"\",\"\",VLOOKUP(L1975,referentes!$G$2:$N$15,2,FALSE))","v":""},null,null,"",null,null,""]
[null,{"$f":"IF(C1976=\"\",\"\",IF(COUNTIF($C$3:C1976, C1976)>1, \"\", C1976))","v":""},{"$f":"IF(G1976=\"\",\"\",IF(F1976=\"\",\"\",CONCATENATE(DIGITADOR!$M$1,G1976,E1976)))","v":""},"",{"$f":"IF(F1976=\"\",\"\",VLOOKUP(F1976,referentes!$Q$2:$T$300,3,FALSE))","v":""},null,null,null,null,null,{"$f":"IF(L1976=\"\",\"\",VLOOKUP(L1976,referentes!$G$2:$N$15,2,FALSE))","v":""},null,null,"",null,null,""]
[null,{"$f":"IF(C1977=\"\",\"\",IF(COUNTIF($C$3:C1977, C1977)>1, \"\", C1977))","v":""},{"$f":"IF(G1977=\"\",\"\",IF(F1977=\"\",\"\",CONCATENATE(DIGITADOR!$M$1,G1977,E1977)))","v":""},"",{"$f":"IF(F1977=\"\",\"\",VLOOKUP(F1977,referentes!$Q$2:$T$300,3,FALSE))","v":""},null,null,null,null,null,{"$f":"IF(L1977=\"\",\"\",VLOOKUP(L1977,referentes!$G$2:$N$15,2,FALSE))","v":""},null,null,"",null,null,""]
[null,{"$f":"IF(C1978=\"\",\"\",IF(COUNTIF($C$3:C1978, C1978)>1, \"\", C1978))","v":""},{"$f":"IF(G1978=\"\",\"\",IF(F1978=\"\",\"\",CONCATENATE(DIGITADOR!$M$1,G1978,E1978)))","v":""},"",{"$f":"IF(F1978=\"\",\"\",VLOOKUP(F1978,referentes!$Q$2:$T$300,3,FALSE))","v":""},null,null,null,null,null,{"$f":"IF(L1978=\"\",\"\",VLOOKUP(L1978,referentes!$G$2:$N$15,2,FALSE))","v":""},null,null,"",null,null,""]
[null,{"$f":"IF(C1979=\"\",\"\",IF(COUNTIF($C$3:C1979, C1979)>1, \"\", C1979))","v":""},{"$f":"IF(G1979=\"\",\"\",IF(F1979=\"\",\"\",CONCATENATE(DIGITADOR!$M$1,G1979,E1979)))","v":""},"",{"$f":"IF(F1979=\"\",\"\",VLOOKUP(F1979,referentes!$Q$2:$T$300,3,FALSE))","v":""},null,null,null,null,null,{"$f":"IF(L1979=\"\",\"\",VLOOKUP(L1979,referentes!$G$2:$N$15,2,FALSE))","v":""},null,null,"",null,null,""]
[null,{"$f":"IF(C1980=\"\",\"\",IF(COUNTIF($C$3:C1980, C1980)>1, \"\", C1980))","v":""},{"$f":"IF(G1980=\"\",\"\",IF(F1980=\"\",\"\",CONCATENATE(DIGITADOR!$M$1,G1980,E1980)))","v":""},"",{"$f":"IF(F1980=\"\",\"\",VLOOKUP(F1980,referentes!$Q$2:$T$300,3,FALSE))","v":""},null,null,null,null,null,{"$f":"IF(L1980=\"\",\"\",VLOOKUP(L1980,referentes!$G$2:$N$15,2,FALSE))","v":""},null,null,"",null,null,""]
[null,{"$f":"IF(C1981=\"\",\"\",IF(COUNTIF($C$3:C1981, C1981)>1, \"\", C1981))","v":""},{"$f":"IF(G1981=\"\",\"\",IF(F1981=\"\",\"\",CONCATENATE(DIGITADOR!$M$1,G1981,E1981)))","v":""},"",{"$f":"IF(F1981=\"\",\"\",VLOOKUP(F1981,referentes!$Q$2:$T$300,3,FALSE))","v":""},null,null,null,null,null,{"$f":"IF(L1981=\"\",\"\",VLOOKUP(L1981,referentes!$G$2:$N$15,2,FALSE))","v":""},null,null,"",null,null,""]
[null,{"$f":"IF(C1982=\"\",\"\",IF(COUNTIF($C$3:C1982, C1982)>1, \"\", C1982))","v":""},{"$f":"IF(G1982=\"\",\"\",IF(F1982=\"\",\"\",CONCATENATE(DIGITADOR!$M$1,G1982,E1982)))","v":""},"",{"$f":"IF(F1982=\"\",\"\",VLOOKUP(F1982,referentes!$Q$2:$T$300,3,FALSE))","v":""},null,null,null,null,null,{"$f":"IF(L1982=\"\",\"\",VLOOKUP(L1982,referentes!$G$2:$N$15,2,FALSE))","v":""},null,null,"",null,null,""]
[null,{"$f":"IF(C1983=\"\",\"\",IF(COUNTIF($C$3:C1983, C1983)>1, \"\", C1983))","v":""},{"$f":"IF(G1983=\"\",\"\",IF(F1983=\"\",\"\",CONCATENATE(DIGITADOR!$M$1,G1983,E1983)))","v":""},"",{"$f":"IF(F1983=\"\",\"\",VLOOKUP(F1983,referentes!$Q$2:$T$300,3,FALSE))","v":""},null,null,null,null,null,{"$f":"IF(L1983=\"\",\"\",VLOOKUP(L1983,referentes!$G$2:$N$15,2,FALSE))","v":""},null,null,"",null,null,""]
[null,{"$f":"IF(C1984=\"\",\"\",IF(COUNTIF($C$3:C1984, C1984)>1, \"\", C1984))","v":""},{"$f":"IF(G1984=\"\",\"\",IF(F1984=\"\",\"\",CONCATENATE(DIGITADOR!$M$1,G1984,E1984)))","v":""},"",{"$f":"IF(F1984=\"\",\"\",VLOOKUP(F1984,referentes!$Q$2:$T$300,3,FALSE))","v":""},null,null,null,null,null,{"$f":"IF(L1984=\"\",\"\",VLOOKUP(L1984,referentes!$G$2:$N$15,2,FALSE))","v":""},null,null,"",null,null,""]
[null,{"$f":"IF(C1985=\"\",\"\",IF(COUNTIF($C$3:C1985, C1985)>1, \"\", C1985))","v":""},{"$f":"IF(G1985=\"\",\"\",IF(F1985=\"\",\"\",CONCATENATE(DIGITADOR!$M$1,G1985,E1985)))","v":""},"",{"$f":"IF(F1985=\"\",\"\",VLOOKUP(F1985,referentes!$Q$2:$T$300,3,FALSE))","v":""},null,null,null,null,null,{"$f":"IF(L1985=\"\",\"\",VLOOKUP(L1985,referentes!$G$2:$N$15,2,FALSE))","v":""},null,null,"",null,null,""]
[null,{"$f":"IF(C1986=\"\",\"\",IF(COUNTIF($C$3:C1986, C1986)>1, \"\", C1986))","v":""},{"$f":"IF(G1986=\"\",\"\",IF(F1986=\"\",\"\",CONCATENATE(DIGITADOR!$M$1,G1986,E1986)))","v":""},"",{"$f":"IF(F1986=\"\",\"\",VLOOKUP(F1986,referentes!$Q$2:$T$300,3,FALSE))","v":""},null,null,null,null,null,{"$f":"IF(L1986=\"\",\"\",VLOOKUP(L1986,referentes!$G$2:$N$15,2,FALSE))","v":""},null,null,"",null,null,""]
[null,{"$f":"IF(C1987=\"\",\"\",IF(COUNTIF($C$3:C1987, C1987)>1, \"\", C1987))","v":""},{"$f":"IF(G1987=\"\",\"\",IF(F1987=\"\",\"\",CONCATENATE(DIGITADOR!$M$1,G1987,E1987)))","v":""},"",{"$f":"IF(F1987=\"\",\"\",VLOOKUP(F1987,referentes!$Q$2:$T$300,3,FALSE))","v":""},null,null,null,null,null,{"$f":"IF(L1987=\"\",\"\",VLOOKUP(L1987,referentes!$G$2:$N$15,2,FALSE))","v":""},null,null,"",null,null,""]
[null,{"$f":"IF(C1988=\"\",\"\",IF(COUNTIF($C$3:C1988, C1988)>1, \"\", C1988))","v":""},{"$f":"IF(G1988=\"\",\"\",IF(F1988=\"\",\"\",CONCATENATE(DIGITADOR!$M$1,G1988,E1988)))","v":""},{"$f":"IF(C1988=\"\",\"\",CONCATENATE(C1988,ROW()-2))","v":""},{"$f":"IF(F1988=\"\",\"\",VLOOKUP(F1988,referentes!$Q$2:$T$300,3,FALSE))","v":""},null,null,null,null,null,{"$f":"IF(L1988=\"\",\"\",VLOOKUP(L1988,referentes!$G$2:$N$15,2,FALSE))","v":""},null,null,{"$f":"IF(M1988=\"\",\"\",M1988/PI())","v":""},null,null,{"$f":"IF(N1988=\"\",\"\",((PI())*((N1988/100)^2))/4*10000/500)","v":""}]
[null,{"$f":"IF(C1989=\"\",\"\",IF(COUNTIF($C$3:C1989, C1989)>1, \"\", C1989))","v":""},{"$f":"IF(G1989=\"\",\"\",IF(F1989=\"\",\"\",CONCATENATE(DIGITADOR!$M$1,G1989,E1989)))","v":""},"",{"$f":"IF(F1989=\"\",\"\",VLOOKUP(F1989,referentes!$Q$2:$T$300,3,FALSE))","v":""},null,null,null,null,null,{"$f":"IF(L1989=\"\",\"\",VLOOKUP(L1989,referentes!$G$2:$N$15,2,FALSE))","v":""},null,null,"",null,null,""]
[null,{"$f":"IF(C1990=\"\",\"\",IF(COUNTIF($C$3:C1990, C1990)>1, \"\", C1990))","v":""},{"$f":"IF(G1990=\"\",\"\",IF(F1990=\"\",\"\",CONCATENATE(DIGITADOR!$M$1,G1990,E1990)))","v":""},"",{"$f":"IF(F1990=\"\",\"\",VLOOKUP(F1990,referentes!$Q$2:$T$300,3,FALSE))","v":""},null,null,null,null,null,{"$f":"IF(L1990=\"\",\"\",VLOOKUP(L1990,referentes!$G$2:$N$15,2,FALSE))","v":""},null,null,"",null,null,""]
[null,{"$f":"IF(C1991=\"\",\"\",IF(COUNTIF($C$3:C1991, C1991)>1, \"\", C1991))","v":""},{"$f":"IF(G1991=\"\",\"\",IF(F1991=\"\",\"\",CONCATENATE(DIGITADOR!$M$1,G1991,E1991)))","v":""},"",{"$f":"IF(F1991=\"\",\"\",VLOOKUP(F1991,referentes!$Q$2:$T$300,3,FALSE))","v":""},null,null,null,null,null,{"$f":"IF(L1991=\"\",\"\",VLOOKUP(L1991,referentes!$G$2:$N$15,2,FALSE))","v":""},null,null,"",null,null,""]
[null,{"$f":"IF(C1992=\"\",\"\",IF(COUNTIF($C$3:C1992, C1992)>1, \"\", C1992))","v":""},{"$f":"IF(G1992=\"\",\"\",IF(F1992=\"\",\"\",CONCATENATE(DIGITADOR!$M$1,G1992,E1992)))","v":""},"",{"$f":"IF(F1992=\"\",\"\",VLOOKUP(F1992,referentes!$Q$2:$T$300,3,FALSE))","v":""},null,null,null,null,null,{"$f":"IF(L1992=\"\",\"\",VLOOKUP(L1992,referentes!$G$2:$N$15,2,FALSE))","v":""},null,null,"",null,null,""]
[null,{"$f":"IF(C1993=\"\",\"\",IF(COUNTIF($C$3:C1993, C1993)>1, \"\", C1993))","v":""},{"$f":"IF(G1993=\"\",\"\",IF(F1993=\"\",\"\",CONCATENATE(DIGITADOR!$M$1,G1993,E1993)))","v":""},"",{"$f":"IF(F1993=\"\",\"\",VLOOKUP(F1993,referentes!$Q$2:$T$300,3,FALSE))","v":""},null,null,null,null,null,{"$f":"IF(L1993=\"\",\"\",VLOOKUP(L1993,referentes!$G$2:$N$15,2,FALSE))","v":""},null,null,"",null,null,""]
[null,{"$f":"IF(C1994=\"\",\"\",IF(COUNTIF($C$3:C1994, C1994)>1, \"\", C1994))","v":""},{"$f":"IF(G1994=\"\",\"\",IF(F1994=\"\",\"\",CONCATENATE(DIGITADOR!$M$1,G1994,E1994)))","v":""},"",{"$f":"IF(F1994=\"\",\"\",VLOOKUP(F1994,referentes!$Q$2:$T$300,3,FALSE))","v":""},null,null,null,null,null,{"$f":"IF(L1994=\"\",\"\",VLOOKUP(L1994,referentes!$G$2:$N$15,2,FALSE))","v":""},null,null,"",null,null,""]
[null,{"$f":"IF(C1995=\"\",\"\",IF(COUNTIF($C$3:C1995, C1995)>1, \"\", C1995))","v":""},{"$f":"IF(G1995=\"\",\"\",IF(F1995=\"\",\"\",CONCATENATE(DIGITADOR!$M$1,G1995,E1995)))","v":""},"",{"$f":"IF(F1995=\"\",\"\",VLOOKUP(F1995,referentes!$Q$2:$T$300,3,FALSE))","v":""},null,null,null,null,null,{"$f":"IF(L1995=\"\",\"\",VLOOKUP(L1995,referentes!$G$2:$N$15,2,FALSE))","v":""},null,null,"",null,null,""]
[null,{"$f":"IF(C1996=\"\",\"\",IF(COUNTIF($C$3:C1996, C1996)>1, \"\", C1996))","v":""},{"$f":"IF(G1996=\"\",\"\",IF(F1996=\"\",\"\",CONCATENATE(DIGITADOR!$M$1,G1996,E1996)))","v":""},"",{"$f":"IF(F1996=\"\",\"\",VLOOKUP(F1996,referentes!$Q$2:$T$300,3,FALSE))","v":""},null,null,null,null,null,{"$f":"IF(L1996=\"\",\"\",VLOOKUP(L1996,referentes!$G$2:$N$15,2,FALSE))","v":""},null,null,"",null,null,""]
[null,{"$f":"IF(C1997=\"\",\"\",IF(COUNTIF($C$3:C1997, C1997)>1, \"\", C1997))","v":""},{"$f":"IF(G1997=\"\",\"\",IF(F1997=\"\",\"\",CONCATENATE(DIGITADOR!$M$1,G1997,E1997)))","v":""},"",{"$f":"IF(F1997=\"\",\"\",VLOOKUP(F1997,referentes!$Q$2:$T$300,3,FALSE))","v":""},null,null,null,null,null,{"$f":"IF(L1997=\"\",\"\",VLOOKUP(L1997,referentes!$G$2:$N$15,2,FALSE))","v":""},null,null,"",null,null,""]
[null,{"$f":"IF(C1998=\"\",\"\",IF(COUNTIF($C$3:C1998, C1998)>1, \"\", C1998))","v":""},{"$f":"IF(G1998=\"\",\"\",IF(F1998=\"\",\"\",CONCATENATE(DIGITADOR!$M$1,G1998,E1998)))","v":""},"",{"$f":"IF(F1998=\"\",\"\",VLOOKUP(F1998,referentes!$Q$2:$T$300,3,FALSE))","v":""},null,null,null,null,null,{"$f":"IF(L1998=\"\",\"\",VLOOKUP(L1998,referentes!$G$2:$N$15,2,FALSE))","v":""},null,null,"",null,null,""]
[null,{"$f":"IF(C1999=\"\",\"\",IF(COUNTIF($C$3:C1999, C1999)>1, \"\", C1999))","v":""},{"$f":"IF(G1999=\"\",\"\",IF(F1999=\"\",\"\",CONCATENATE(DIGITADOR!$M$1,G1999,E1999)))","v":""},"",{"$f":"IF(F1999=\"\",\"\",VLOOKUP(F1999,referentes!$Q$2:$T$300,3,FALSE))","v":""},null,null,null,null,null,{"$f":"IF(L1999=\"\",\"\",VLOOKUP(L1999,referentes!$G$2:$N$15,2,FALSE))","v":""},null,null,"",null,null,""]
[null,{"$f":"IF(C2000=\"\",\"\",IF(COUNTIF($C$3:C2000, C2000)>1, \"\", C2000))","v":""},{"$f":"IF(G2000=\"\",\"\",IF(F2000=\"\",\"\",CONCATENATE(DIGITADOR!$M$1,G2000,E2000)))","v":""},"",{"$f":"IF(F2000=\"\",\"\",VLOOKUP(F2000,referentes!$Q$2:$T$300,3,FALSE))","v":""},null,null,null,null,null,{"$f":"IF(L2000=\"\",\"\",VLOOKUP(L2000,referentes!$G$2:$N$15,2,FALSE))","v":""},null,null,"",null,null,""]
[null,{"$f":"IF(C2001=\"\",\"\",IF(COUNTIF($C$3:C2001, C2001)>1, \"\", C2001))","v":""},{"$f":"IF(G2001=\"\",\"\",IF(F2001=\"\",\"\",CONCATENATE(DIGITADOR!$M$1,G2001,E2001)))","v":""},"",{"$f":"IF(F2001=\"\",\"\",VLOOKUP(F2001,referentes!$Q$2:$T$300,3,FALSE))","v":""},null,null,null,null,null,{"$f":"IF(L2001=\"\",\"\",VLOOKUP(L2001,referentes!$G$2:$N$15,2,FALSE))","v":""},null,null,"",null,null,""]
[null,{"$f":"IF(C2002=\"\",\"\",IF(COUNTIF($C$3:C2002, C2002)>1, \"\", C2002))","v":""},{"$f":"IF(G2002=\"\",\"\",IF(F2002=\"\",\"\",CONCATENATE(DIGITADOR!$M$1,G2002,E2002)))","v":""},"",{"$f":"IF(F2002=\"\",\"\",VLOOKUP(F2002,referentes!$Q$2:$T$300,3,FALSE))","v":""},null,null,null,null,null,{"$f":"IF(L2002=\"\",\"\",VLOOKUP(L2002,referentes!$G$2:$N$15,2,FALSE))","v":""},null,null,"",null,null,""]
[null,{"$f":"IF(C2003=\"\",\"\",IF(COUNTIF($C$3:C2003, C2003)>1, \"\", C2003))","v":""},{"$f":"IF(G2003=\"\",\"\",IF(F2003=\"\",\"\",CONCATENATE(DIGITADOR!$M$1,G2003,E2003)))","v":""},"",{"$f":"IF(F2003=\"\",\"\",VLOOKUP(F2003,referentes!$Q$2:$T$300,3,FALSE))","v":""},null,null,null,null,null,{"$f":"IF(L2003=\"\",\"\",VLOOKUP(L2003,referentes!$G$2:$N$15,2,FALSE))","v":""},null,null,"",null,null,""]

{"sheet":"referentes","index":4,"n_rows":171,"n_cols":23,"rows_kept":171,"cut":false,"hidden":false,"merged":[]}
["AG_ESPECIES",null,null,"AG_LOV",null,null,"descripcion","cod_letras"]
["RZMA","Rhizophora mangle",null,"Carbono Azul - CORALINA","Carbono Azul - CORALINA",null,"Avicennia germinans","AVGE","2040.55.685","Plantae","Magnoliopsida","Lamiales ","Acanthaceae","Avicennia",null,null,"Ararca P6","P",57491,6,null,8619,"Juan Pablo Caicedo García"]
["AVGE","Avicennia germinans",null,4545,"Carbono Azul - Vida Manglar",null,"Conocarpus erectus","CNER","2040.55.293","Plantae","Magnoliopsida","Myrtales","Combretaceae","Conocarpus",null,null,"Ararca P7","P",57492,7,null,8265,"Kevin Samuel Moreno"]
["LGRA","Laguncularia racemosa",null,"Carbono Azul - Conserv. Internacional","Carbono Azul - Conservación Internacional",null,"Laguncularia racemosa","LGRA","2040.55.290","Plantae","Magnoliopsida","Myrtales","Combretaceae","Laguncularia",null,null,"Bahía Honda P1","P",57442,1,null,8642,"Milena Hernández Ortiz"]
["CNER","Conocarpus erectus",null,4548,"Carbono Azul - Fundación Grupo ARGOS",null,"Mora oleifera","MM","2040.55.507","Tracheophyta","Magnoliopsida","Fabales","Caesalpiniaceae","Mora",null,null,"Bahía Honda P2","P",57443,2,null,4521,"Sebastian Herrera Fajardo"]
["PLBE","Pelliciera benthamii",null,"Carbono Azul - DAMCRA","Carbono Azul - DAMCRA",null,"Pelliciera benthamii","PLBE",null,"Plantae","Magnoliopsida","Ericales","Tetrameristaceae","Pelliciera",null,null,"Bahía Honda P3","P",57444,3,null,8057,"Tania Carolina Hoyos Ruiz"]
["MM","Mora oleifera",null,"Carbono Azul - GEF_SAMP","Carbono Azul - GEF_SAMP",null,"Pelliciera rhizophorae","PR","2040.55.532","Tracheophyta","Magnoliopsida","Ericales","Rhizophoraceae","Pelliciera",null,null,"Bahía Hondita EMH1","EMH",57916,1,null,8266,"Zulay Saudith González Herrera"]
["PR","Pelliciera rhizophorae",null,"Carbono Azul - Bolívar","Carbono Azul - Bolívar",null,"Rhizophora sp.","RS","2040.46.710","Tracheophyta","Rosopsida","Rhizophorales","Rhizophoraceae","Rhizophora",null,null,"Bahía Hondita EMH2","EMH",57917,2]
["RS","Rhizophora sp.",null,"Línea Base ambiental ECOPETROL","Línea Base ambiental ECOPETROL",null,"Rhizophora mangle","RZMA","2040.55.325","Plantae","Magnoliopsida","Malpighiales","Rhizophoraceae","Rhizophora",null,null,"Bahía Hondita EMH3","EMH",57918,3]
[null,null,null,null,null,null,null,null,null,null,null,null,null,null,null,null,"Bahía Hooker P1","P",57438,1]
[null,null,null,null,null,null,null,null,null,null,null,null,null,null,null,null,"Bahía Hooker P2","P",57439,2]
[null,null,null,null,null,null,null,null,null,null,null,null,null,null,null,null,"Bahía Hooker P3","P",57440,3]
[null,null,null,null,null,null,null,null,null,null,null,null,null,null,null,null,"Bahía Hooker P4","P",57441,4]
[null,null,null,null,null,null,null,null,null,null,null,null,null,null,null,null,"Bahía Málaga P1","P",57833,1]
[null,null,null,null,null,null,null,null,null,null,null,null,null,null,null,null,"Bahía Málaga P10","P",57842,10]
[null,null,null,null,null,null,null,null,null,null,null,null,null,null,null,null,"Bahía Málaga P11","P",57843,11]
[null,null,null,null,null,null,null,null,null,null,null,null,null,null,null,null,"Bahía Málaga P12","P",57844,12]
[null,null,null,null,null,null,null,null,null,null,null,null,null,null,null,null,"Bahía Málaga P13","P",57845,13]
[null,null,null,null,null,null,null,null,null,null,null,null,null,null,null,null,"Bahía Málaga P14","P",57846,14]
[null,null,null,null,null,null,null,null,null,null,null,null,null,null,null,null,"Bahía Málaga P15","P",57847,15]
[null,null,null,null,null,null,null,null,null,null,null,null,null,null,null,null,"Bahía Málaga P16","P",57848,16]
[null,null,null,null,null,null,null,null,null,null,null,null,null,null,null,null,"Bahía Málaga P17","P",57849,17]
[null,null,null,null,null,null,null,null,null,null,null,null,null,null,null,null,"Bahía Málaga P18","P",57850,18]
[null,null,null,null,null,null,null,null,null,null,null,null,null,null,null,null,"Bahía Málaga P19","P",57851,19]
[null,null,null,null,null,null,null,null,null,null,null,null,null,null,null,null,"Bahía Málaga P2","P",57834,2]
[null,null,null,null,null,null,null,null,null,null,null,null,null,null,null,null,"Bahía Málaga P20","P",57852,20]
[null,null,null,null,null,null,null,null,null,null,null,null,null,null,null,null,"Bahía Málaga P21","P",57853,21]
[null,null,null,null,null,null,null,null,null,null,null,null,null,null,null,null,"Bahía Málaga P22","P",57854,22]
[null,null,null,null,null,null,null,null,null,null,null,null,null,null,null,null,"Bahía Málaga P23","P",57855,23]
[null,null,null,null,null,null,null,null,null,null,null,null,null,null,null,null,"Bahía Málaga P24","P",57856,24]
[null,null,null,null,null,null,null,null,null,null,null,null,null,null,null,null,"Bahía Málaga P25","P",57857,25]
[null,null,null,null,null,null,null,null,null,null,null,null,null,null,null,null,"Bahía Málaga P26","P",57858,26]
[null,null,null,null,null,null,null,null,null,null,null,null,null,null,null,null,"Bahía Málaga P27","P",57859,27]
[null,null,null,null,null,null,null,null,null,null,null,null,null,null,null,null,"Bahía Málaga P28","P",57860,28]
[null,null,null,null,null,null,null,null,null,null,null,null,null,null,null,null,"Bahía Málaga P29","P",57861,29]
[null,null,null,null,null,null,null,null,null,null,null,null,null,null,null,null,"Bahía Málaga P3","P",57835,3]
[null,null,null,null,null,null,null,null,null,null,null,null,null,null,null,null,"Bahía Málaga P30","P",57862,30]
[null,null,null,null,null,null,null,null,null,null,null,null,null,null,null,null,"Bahía Málaga P31","P",57863,31]
[null,null,null,null,null,null,null,null,null,null,null,null,null,null,null,null,"Bahía Málaga P32","P",57864,32]
[null,null,null,null,null,null,null,null,null,null,null,null,null,null,null,null,"Bahía Málaga P33","P",57865,33]
[null,null,null,null,null,null,null,null,null,null,null,null,null,null,null,null,"Bahía Málaga P34","P",57866,34]
[null,null,null,null,null,null,null,null,null,null,null,null,null,null,null,null,"Bahía Málaga P35","P",57867,35]
[null,null,null,null,null,null,null,null,null,null,null,null,null,null,null,null,"Bahía Málaga P36","P",57868,36]
[null,null,null,null,null,null,null,null,null,null,null,null,null,null,null,null,"Bahía Málaga P37","P",57869,37]
[null,null,null,null,null,null,null,null,null,null,null,null,null,null,null,null,"Bahía Málaga P38","P",57870,38]
[null,null,null,null,null,null,null,null,null,null,null,null,null,null,null,null,"Bahía Málaga P39","P",57871,39]
[null,null,null,null,null,null,null,null,null,null,null,null,null,null,null,null,"Bahía Málaga P4","P",57836,4]
[null,null,null,null,null,null,null,null,null,null,null,null,null,null,null,null,"Bahía Málaga P40","P",57872,40]
[null,null,null,null,null,null,null,null,null,null,null,null,null,null,null,null,"Bahía Málaga P41","P",57873,41]
[null,null,null,null,null,null,null,null,null,null,null,null,null,null,null,null,"Bahía Málaga P42","P",57874,42]
[null,null,null,null,null,null,null,null,null,null,null,null,null,null,null,null,"Bahía Málaga P43","P",57875,43]
[null,null,null,null,null,null,null,null,null,null,null,null,null,null,null,null,"Bahía Málaga P44","P",57876,44]
[null,null,null,null,null,null,null,null,null,null,null,null,null,null,null,null,"Bahía Málaga P45","P",57877,45]
[null,null,null,null,null,null,null,null,null,null,null,null,null,null,null,null,"Bahía Málaga P5","P",57837,5]
[null,null,null,null,null,null,null,null,null,null,null,null,null,null,null,null,"Bahía Málaga P6","P",57838,6]
[null,null,null,null,null,null,null,null,null,null,null,null,null,null,null,null,"Bahía Málaga P7","P",57839,7]
[null,null,null,null,null,null,null,null,null,null,null,null,null,null,null,null,"Bahía Málaga P8","P",57840,8]
[null,null,null,null,null,null,null,null,null,null,null,null,null,null,null,null,"Bahía Málaga P9","P",57841,9]
[null,null,null,null,null,null,null,null,null,null,null,null,null,null,null,null,"Bahía de Cispatá B1","B",57878,1]
[null,null,null,null,null,null,null,null,null,null,null,null,null,null,null,null,"Bahía de Cispatá B10","B",57887,10]
[null,null,null,null,null,null,null,null,null,null,null,null,null,null,null,null,"Bahía de Cispatá B11","B",57888,11]
[null,null,null,null,null,null,null,null,null,null,null,null,null,null,null,null,"Bahía de Cispatá B12","B",57889,12]
[null,null,null,null,null,null,null,null,null,null,null,null,null,null,null,null,"Bahía de Cispatá B13","B",57890,13]
[null,null,null,null,null,null,null,null,null,null,null,null,null,null,null,null,"Bahía de Cispatá B14","B",57891,14]
[null,null,null,null,null,null,null,null,null,null,null,null,null,null,null,null,"Bahía de Cispatá B15","B",57892,15]
[null,null,null,null,null,null,null,null,null,null,null,null,null,null,null,null,"Bahía de Cispatá B16","B",57893,16]
[null,null,null,null,null,null,null,null,null,null,null,null,null,null,null,null,"Bahía de Cispatá B17","B",57894,17]
[null,null,null,null,null,null,null,null,null,null,null,null,null,null,null,null,"Bahía de Cispatá B18","B",57895,18]
[null,null,null,null,null,null,null,null,null,null,null,null,null,null,null,null,"Bahía de Cispatá B19","B",57896,19]
[null,null,null,null,null,null,null,null,null,null,null,null,null,null,null,null,"Bahía de Cispatá B2","B",57879,2]
[null,null,null,null,null,null,null,null,null,null,null,null,null,null,null,null,"Bahía de Cispatá B20","B",57897,20]
[null,null,null,null,null,null,null,null,null,null,null,null,null,null,null,null,"Bahía de Cispatá B21","B",57898,21]
[null,null,null,null,null,null,null,null,null,null,null,null,null,null,null,null,"Bahía de Cispatá B22","B",57899,22]
[null,null,null,null,null,null,null,null,null,null,null,null,null,null,null,null,"Bahía de Cispatá B23","B",57900,23]
[null,null,null,null,null,null,null,null,null,null,null,null,null,null,null,null,"Bahía de Cispatá B3","B",57880,3]
[null,null,null,null,null,null,null,null,null,null,null,null,null,null,null,null,"Bahía de Cispatá B4","B",57881,4]
[null,null,null,null,null,null,null,null,null,null,null,null,null,null,null,null,"Bahía de Cispatá B5","B",57882,5]
[null,null,null,null,null,null,null,null,null,null,null,null,null,null,null,null,"Bahía de Cispatá B6","B",57883,6]
[null,null,null,null,null,null,null,null,null,null,null,null,null,null,null,null,"Bahía de Cispatá B7","B",57884,7]
[null,null,null,null,null,null,null,null,null,null,null,null,null,null,null,null,"Bahía de Cispatá B8","B",57885,8]
[null,null,null,null,null,null,null,null,null,null,null,null,null,null,null,null,"Bahía de Cispatá B9","B",57886,9]
[null,null,null,null,null,null,null,null,null,null,null,null,null,null,null,null,"Boca Cerrada P1","P",57487,1]
[null,null,null,null,null,null,null,null,null,null,null,null,null,null,null,null,"Boca Cerrada P3","P",57488,3]
[null,null,null,null,null,null,null,null,null,null,null,null,null,null,null,null,"Caimanera P10","P",57471,10]
[null,null,null,null,null,null,null,null,null,null,null,null,null,null,null,null,"Caimanera P11","P",57476,11]
[null,null,null,null,null,null,null,null,null,null,null,null,null,null,null,null,"Caimanera P12","P",57480,12]
[null,null,null,null,null,null,null,null,null,null,null,null,null,null,null,null,"Caimanera P13","P",57473,13]
[null,null,null,null,null,null,null,null,null,null,null,null,null,null,null,null,"Caimanera P14","P",57481,14]
[null,null,null,null,null,null,null,null,null,null,null,null,null,null,null,null,"Caimanera P19","P",57482,19]
[null,null,null,null,null,null,null,null,null,null,null,null,null,null,null,null,"Caimanera P20","P",57483,20]
[null,null,null,null,null,null,null,null,null,null,null,null,null,null,null,null,"Caimanera P3","P",57477,3]
[null,null,null,null,null,null,null,null,null,null,null,null,null,null,null,null,"Caimanera P4","P",57478,4]
[null,null,null,null,null,null,null,null,null,null,null,null,null,null,null,null,"Caimanera P5","P",57479,5]
[null,null,null,null,null,null,null,null,null,null,null,null,null,null,null,null,"Caimanera P6","P",57475,6]
[null,null,null,null,null,null,null,null,null,null,null,null,null,null,null,null,"Caimanera P7","P",57472,7]
[null,null,null,null,null,null,null,null,null,null,null,null,null,null,null,null,"Caimanera P8","P",57470,8]
[null,null,null,null,null,null,null,null,null,null,null,null,null,null,null,null,"Caimanera P9","P",57474,9]
[null,null,null,null,null,null,null,null,null,null,null,null,null,null,null,null,"Ciénaga de Mallorquín  IFN1","IFN",57545,1]
[null,null,null,null,null,null,null,null,null,null,null,null,null,null,null,null,"Ciénaga de Mallorquín  IFN2","IFN",57546,2]
[null,null,null,null,null,null,null,null,null,null,null,null,null,null,null,null,"Ciénaga de Mallorquín  IFN3","IFN",57547,3]
[null,null,null,null,null,null,null,null,null,null,null,null,null,null,null,null,"Ciénaga de Mallorquín  IFN4","IFN",57548,4]
[null,null,null,null,null,null,null,null,null,null,null,null,null,null,null,null,"Ciénaga de Mallorquín  IFN5","IFN",57549,5]
[null,null,null,null,null,null,null,null,null,null,null,null,null,null,null,null,"Cocoplum P1","P",57425,1]
[null,null,null,null,null,null,null,null,null,null,null,null,null,null,null,null,"Cocoplum P2","P",57426,2]
[null,null,null,null,null,null,null,null,null,null,null,null,null,null,null,null,"Cocoplum P3","P",57427,3]
[null,null,null,null,null,null,null,null,null,null,null,null,null,null,null,null,"DELTA DEL RIO RANCHERIA P1","RIO",58959,1]
[null,null,null,null,null,null,null,null,null,null,null,null,null,null,null,null,"DELTA DEL RIO RANCHERIA P2","RIO",58960,2]
[null,null,null,null,null,null,null,null,null,null,null,null,null,null,null,null,"El Cove P1","P",57445,1]
[null,null,null,null,null,null,null,null,null,null,null,null,null,null,null,null,"El Cove P2","P",57446,2]
[null,null,null,null,null,null,null,null,null,null,null,null,null,null,null,null,"Golfo de Urabá BA1","BA",57911,1]
[null,null,null,null,null,null,null,null,null,null,null,null,null,null,null,null,"Golfo de Urabá BA2","BA",57912,2]
[null,null,null,null,null,null,null,null,null,null,null,null,null,null,null,null,"Golfo de Urabá BR1","BR",57907,1]
[null,null,null,null,null,null,null,null,null,null,null,null,null,null,null,null,"Golfo de Urabá BR2","BR",57908,2]
[null,null,null,null,null,null,null,null,null,null,null,null,null,null,null,null,"Golfo de Urabá BR3","BR",57909,3]
[null,null,null,null,null,null,null,null,null,null,null,null,null,null,null,null,"Golfo de Urabá BR4","BR",57910,4]
[null,null,null,null,null,null,null,null,null,null,null,null,null,null,null,null,"Golfo de Urabá NC1","NC",57913,1]
[null,null,null,null,null,null,null,null,null,null,null,null,null,null,null,null,"Golfo de Urabá NC2","NC",57914,2]
[null,null,null,null,null,null,null,null,null,null,null,null,null,null,null,null,"Golfo de Urabá NC3","NC",57915,3]
[null,null,null,null,null,null,null,null,null,null,null,null,null,null,null,null,"Golfo de Urabá RC1","RC",57902,1]
[null,null,null,null,null,null,null,null,null,null,null,null,null,null,null,null,"Golfo de Urabá RC2","RC",57903,2]
[null,null,null,null,null,null,null,null,null,null,null,null,null,null,null,null,"Golfo de Urabá RC3","RC",57904,3]
[null,null,null,null,null,null,null,null,null,null,null,null,null,null,null,null,"Golfo de Urabá RT1","RT",57905,1]
[null,null,null,null,null,null,null,null,null,null,null,null,null,null,null,null,"Golfo de Urabá RT2","RT",57906,2]
[null,null,null,null,null,null,null,null,null,null,null,null,null,null,null,null,"Golfo de Urabá RT3","RT",57901,3]
[null,null,null,null,null,null,null,null,null,null,null,null,null,null,null,null,"Guacamaya P1","P",57460,1]
[null,null,null,null,null,null,null,null,null,null,null,null,null,null,null,null,"Guacamaya P15","P",57468,15]
[null,null,null,null,null,null,null,null,null,null,null,null,null,null,null,null,"Guacamaya P16","P",57469,16]
[null,null,null,null,null,null,null,null,null,null,null,null,null,null,null,null,"Guacamaya P2","P",57462,2]
[null,null,null,null,null,null,null,null,null,null,null,null,null,null,null,null,"Guacamaya P3","P",57463,3]
[null,null,null,null,null,null,null,null,null,null,null,null,null,null,null,null,"Guacamaya P4","P",57465,4]
[null,null,null,null,null,null,null,null,null,null,null,null,null,null,null,null,"Guacamaya P5","P",57464,5]
[null,null,null,null,null,null,null,null,null,null,null,null,null,null,null,null,"Guacamaya P6","P",57467,6]
[null,null,null,null,null,null,null,null,null,null,null,null,null,null,null,null,"Guacamaya P7","P",57461,7]
[null,null,null,null,null,null,null,null,null,null,null,null,null,null,null,null,"Guacamaya P8","P",57459,8]
[null,null,null,null,null,null,null,null,null,null,null,null,null,null,null,null,"Guacamaya P9","P",57466,9]
[null,null,null,null,null,null,null,null,null,null,null,null,null,null,null,null,"John Mangrove P1","P",57456,1]
[null,null,null,null,null,null,null,null,null,null,null,null,null,null,null,null,"LA ENEA PARCELA 1","EN",58956,1]
[null,null,null,null,null,null,null,null,null,null,null,null,null,null,null,null,"LA ENEA PARCELA 2","EN",58957,2]
[null,null,null,null,null,null,null,null,null,null,null,null,null,null,null,null,"MUSICHI PARCELA 1","MUS",58961,1]
[null,null,null,null,null,null,null,null,null,null,null,null,null,null,null,null,"Mallorquín P1","P",57493,1]
[null,null,null,null,null,null,null,null,null,null,null,null,null,null,null,null,"Mallorquín P2","P",57494,2]
[null,null,null,null,null,null,null,null,null,null,null,null,null,null,null,null,"Mallorquín P3","P",57495,3]
[null,null,null,null,null,null,null,null,null,null,null,null,null,null,null,null,"Mallorquín P4","P",57496,4]
[null,null,null,null,null,null,null,null,null,null,null,null,null,null,null,null,"Mallorquín P5","P",57497,5]
[null,null,null,null,null,null,null,null,null,null,null,null,null,null,null,null,"Mallorquín P6","P",57498,6]
[null,null,null,null,null,null,null,null,null,null,null,null,null,null,null,null,"Mallorquín P7","P",57499,7]
[null,null,null,null,null,null,null,null,null,null,null,null,null,null,null,null,"Mallorquín P8","P",57500,8]
[null,null,null,null,null,null,null,null,null,null,null,null,null,null,null,null,"Manzanillo P1","P",57447,1]
[null,null,null,null,null,null,null,null,null,null,null,null,null,null,null,null,"Manzanillo P2","P",57448,2]
[null,null,null,null,null,null,null,null,null,null,null,null,null,null,null,null,"McBean Lagoon P1","P",57453,1]
[null,null,null,null,null,null,null,null,null,null,null,null,null,null,null,null,"McBean Lagoon P2","P",57454,2]
[null,null,null,null,null,null,null,null,null,null,null,null,null,null,null,null,"McBean Lagoon P3","P",57455,3]
[null,null,null,null,null,null,null,null,null,null,null,null,null,null,null,null,"Old Town P1","P",57449,1]
[null,null,null,null,null,null,null,null,null,null,null,null,null,null,null,null,"Old Town P2","P",57450,2]
[null,null,null,null,null,null,null,null,null,null,null,null,null,null,null,null,"SFF PARCELA 1","SFF",58958,1]
[null,null,null,null,null,null,null,null,null,null,null,null,null,null,null,null,"Salt Creek P1","P",57428,1]
[null,null,null,null,null,null,null,null,null,null,null,null,null,null,null,null,"Salt Creek P2","P",57429,2]
[null,null,null,null,null,null,null,null,null,null,null,null,null,null,null,null,"Salt Creek P3","P",57430,3]
[null,null,null,null,null,null,null,null,null,null,null,null,null,null,null,null,"Santa Ana P4","P",57489,4]
[null,null,null,null,null,null,null,null,null,null,null,null,null,null,null,null,"Santa Ana P5","P",57490,5]
[null,null,null,null,null,null,null,null,null,null,null,null,null,null,null,null,"Santa Catalina P1","P",57457,1]
[null,null,null,null,null,null,null,null,null,null,null,null,null,null,null,null,"Santa Catalina P2","P",57458,2]
[null,null,null,null,null,null,null,null,null,null,null,null,null,null,null,null,"Smith Channel P1","P",57431,1]
[null,null,null,null,null,null,null,null,null,null,null,null,null,null,null,null,"Smith Channel P2","P",57432,2]
[null,null,null,null,null,null,null,null,null,null,null,null,null,null,null,null,"Smith Channel P3","P",57433,3]
[null,null,null,null,null,null,null,null,null,null,null,null,null,null,null,null,"Sound Bay P1","P",57434,1]
[null,null,null,null,null,null,null,null,null,null,null,null,null,null,null,null,"Sound Bay P2","P",57435,2]
[null,null,null,null,null,null,null,null,null,null,null,null,null,null,null,null,"Sound Bay P3","P",57436,3]
[null,null,null,null,null,null,null,null,null,null,null,null,null,null,null,null,"Suroeste P1","P",57451,1]
[null,null,null,null,null,null,null,null,null,null,null,null,null,null,null,null,"Suroeste P2","P",57452,2]
[null,null,null,null,null,null,null,null,null,null,null,null,null,null,null,null,"Velodia Road P1","P",57437,1]

{"sheet":"Otras referencias","index":5,"n_rows":27,"n_cols":19,"rows_kept":27,"cut":false,"hidden":false,"merged":[[0,0,2,6],[4,0,4,1],[4,10,4,11],[13,3,13,5],[23,14,23,15],[18,14,18,15],[19,14,19,15],[20,14,20,15],[21,14,21,15],[22,14,22,15],[17,14,17,15],[19,0,19,1],[20,7,20,8],[10,7,10,8],[4,13,4,15],[4,3,4,5],[4,7,4,8],[10,10,10,11],[16,13,16,18]]}
["Estas son listas para variables con valores que no se encuentran codificados, pero que deben manejarse de manera estandarizada. \nSi se requiere agregar un valor nuevo hagalo debajo de la lista correspondiente"]
[]
[]
[]
["UNIDADES DE MEDIDA",null,null,"PROYECTO",null,null,null,"ROLES",null,null,"METODOLOGIAS",null,null,"TEMATICAS"]
["CODIGO","DESCRIPCION",null,"COD","PROYECTO","PROYECTO DESC",null,4,"Captura en campo",null,"CODIGO","DESCRIPCION",null,"COD METODOLOGIA","COD TEMATICA","DESCRIPCION"]
[10,"cm",null,3572,"KFW","KFW",null,6,"Revisar datos",null,null,null,null,883,275,"BIOMASA AÉREA"]
[11,"m",null,null,null,null,null,3497,"Coordinador actividad de campo"]
[69,"g",null,null,null,null,null,4526,"Procesamiento en laboratorio",null,883,"BIOMASA AÉREA"]
[142,"Ind/Estación"]
[null,null,null,null,null,null,null,"MICROHABITAT",null,null,"SUBCUADRANTE"]
[null,null,null,null,null,null,null,4507,"Madrigueras de cangrejos",null,"CODIGO","DESCRIPCION"]
[null,null,null,null,null,null,null,4508,"Nidos",null,null,"A"]
[" m²",null,null,"CODIGOS LOV",null,null,null,4509,"Refugios en árboles vivos",null,null,"B"]
[132,null,null,"DESCRIPCIÓN","CÓDIGO","GRUPO",null,4510,"Troncos en descomposición"]
[28,null,null,"Departamento",10,2,null,4511,"Caños"]
[1,null,null,"Sector",20,2,null,4512,"Hormigueros",null,null,null,null,"Descripción general de Proyecto Convenio\n3700"]
[null,null,null,"Punto",30,2,null,4513,"Termiteros",null,null,null,null,"Codigo del proyecto","Proyecto Convenio",null,"Descripción Siglas del convenio","Estaciones pertenecientes ","Departamento"]
[null,null,null,"Parcela",35,2,null,null,null,null,null,null,null,4544,"Carbono Azul - CORALINA",null,"Corporación Coralina ","San Andres, Providencia y Sta Catalina","San Andres, Providencia y Sta Catalina"]
[" ESTADO SALUD",null,null,"Estaciones",40,2,null,null,null,null,null,null,null,4545,"Carbono Azul - Vida Manglar",null,"Proyecto Vida Manglar","Caimanera Y PNR Guacamayas\nBahía de Cispata","Sucre,\nCordoba"]
[0,"SIN AFECTACIÓN",null,"Region",50,2,null,"ESTADO PLAYA",null,null,null,null,null,4551,"Carbono Azul - GEF_SAMP",null,"Proyecto GEF SAMP:\n- Fondo Mundial para el Medio Ambiente o GEF (por sus siglas en inglés) \n- Diseño e implementación de un Subsistema Nacional de Áreas Marinas Protegidas (SAMP) en Colombia.","Bahia Malaga","Valle del Cauca"]
[1,"MODERADAMENTE AFECTADO",null,"Unidad_de_Manejo",60,2,null,4514,"Presencia de basuras",null,null,null,null,4547,"Carbono Azul - Fundación Grupo ARGOS",null,"Fundación Grupo ARGOS","Bolívar","Bolívar"]
[2,"MUY AFECTADO",null,"Unidad_Ambiental_Costera",70,2,null,4515,"Desagüe de tuberias",null,null,null,null,4550,"Carbono Azul - DAMCRA",null,"DAMCRA: Grupo de Ordenamiento Ambiental del Territorio y Gestión Sostenible de la Biodiversidad Costero Marina","Bahia hondita\nGolfo de uraba","La guajira\nAntioquia"]
[3,"MUERTO",null,"Localidad",80,2,null,4516,"Erosión",null,null,null,null,4546,"Carbono Azul - Conservación Internacional",null,"Conservación Internacional","Mallorquín","Atlantico"]
[null,null,null,"Bloque_Exploracion",85,2,null,4517,"Construcciones"]
[null,null,null,"Area",90,2,null,4518,"Turismo"]
[null,null,null,null,null,null,null,4539,"Restos de material vegetal"]

{"sheet":"AGD_MUESTREOS","index":6,"n_rows":0,"n_cols":0,"rows_kept":0,"cut":false,"hidden":true,"merged":[]}

{"sheet":"AGD_PARAMETRO","index":7,"n_rows":0,"n_cols":0,"rows_kept":0,"cut":false,"hidden":true,"merged":[]}

{"sheet":"AGD_MUESTRAS","index":8,"n_rows":0,"n_cols":0,"rows_kept":0,"cut":false,"hidden":true,"merged":[]}

{"sheet":"AGD_MUESTRAS_VARIABLES","index":9,"n_rows":0,"n_cols":0,"rows_kept":0,"cut":false,"hidden":true,"merged":[]}

{"sheet":"AGD_AUTORIAS","index":10,"n_rows":0,"n_cols":0,"rows_kept":0,"cut":false,"hidden":true,"merged":[]}