{"text_format":"1","workbook":"xlsx","n_sheets":11,"sheets":["Registro de cambios","configuracion","DIGITADOR","DATOS","referentes","OtrasReferencias","AGD_MUESTREOS","AGD_PARAMETRO","AGD_MUESTRAS","AGD_MUESTRAS_VARIABLES","AGD_AUTORIAS"],"not_rendered":{"charts":0,"images":0,"macros":1,"external_links":1,"defined_names":32,"comments":2,"pivot_tables":0},"unopened":[],"bounds":{"document_bytes":16777216,"sheet_cells":100000,"rows_first":2000,"rows_last":500,"rows_between":2000,"halvings":0,"cell_chars":16384,"cell_head_chars":4096},"cells_cut":0,"cells_raw":0,"read":"whole","date_system":"1900"}

{"sheet":"Registro de cambios","index":0,"n_rows":17,"n_cols":7,"rows_kept":17,"cut":false,"hidden":true,"merged":[[0,0,0,1],[1,3,1,6]]}
["Registrar los cambios de forma ascendente"]
[null,null,null,"REGISTRO DE CAMBIOS"]
[null,null,null,"VERSIÓN No.","CAMBIO REALIZADO","VIGENTE DESDE","AUTOR"]
[null,null,null,"20241203i","Actualización del código de la macro.\n\nSe remplazo la URL de la antigua API de portete: http://portete.invemar.org.co:7003/ArgosWebServices-RESTWebService-context-root/rest/1.0, por la URL de la API de ARGOS: https://argos.invemar.org.co/api/\n\nLa API contiene Endpoints que permiten tener mayor control, facilitan la descarga de referentes (listas de usuarios, estaciones, especies, etc.) que corresponden a criterios específicos como el proyecto usado en la plantilla para evitar descargar data innecesaria.\n\nDel mismo modo, también permite la carga de información a la BDD del INVEMAR.\n\nLa macro toma los Endpoints desde la hoja configuracion de una tabla llamada \"Configuración referentes\", a la que se le puede modificar las rutas de la API o agregar nuevas. cabe resaltar que se puede \"quemar\" directamente en la macro los Endpoints que lo requieran.","2024-03-12","Cristian Charris"]
[null,null,null,"20220920m","Se corrigió el mapeo en la hoja Configuración para\nque tomara de forma correcta la información de la hoja Datos.\nSe agregó la columna Profundidad Cualitativa en la hoja Datos.\n","2022-09-20"]
[null,null,null,"20220125m","Se soluciono error en el boton \"Descargar referentes\" de la hoja digitador","2022-01-25"]
[null,null,null,"20201201m","Introduce el campo calificador indentificador\nRutina para descargar referentes automatica para todas las variables","2020-12-10"]
[null,null,null,"20200921i","Se actualizo la hoja de DATOS, reubicando las celdas oculta que cumplen funciones de calculo y luego se modificaron los indices que cambiaron en la hoja CONFIGURACIÓN."]
[null,null,null,null,"Se actualizo las referencias de las listas de selección que se encuentran en la hoja Datos, para que al momento de cargar mas información a las hojas REFERENTES Y OTRAS REFERENCIAS, se visualice automaticamente sin modificar formulas de las celdad."]
[null,null,null,null,"Se actualizo el campo PLANTILLA, agregando una nueva formula para actualizar el numero de versión a medida que se agregan nuevos cambios."]
[null,null,null,null,"Se agrego el campo NOMBRE DE ARCHIVO, con la formula que permite obtener el nombre del archivo automaticamente al momento de modificarse en la hoja DIGITADOR."]
[null,null,null,null,"Se agrego el campo DOI METADATO en la hoja DIGITADOR."]
[null,null,null,null,"Se agrego el campo FUENTE PLANTILLA en la hoja DIGITADOR."]
[null,null,null,null,"Se agrego un algoritmo basico en la macro de la hoja DIGITADOR, ya que se presentaba un error de validacion al momento de dejar la celda vacia, por lo que el aparecia un error de macro. Ademas de validar cuando la celdas tuviera el valor por defecto en caso dado quedara sin diligenciar."]
[null,null,null,20190620,"Se agregan nuevas columnas trabajando en conjunto con BEM, CSC y CAM","2019-06-04"]
[null,null,null,null,"Se quita el campo COD_SIBM","2019-06-20"]
[null,null,null,"20180813i","Actualización a la versión del nuevo ARGOS","2018-08-13"]

{"sheet":"configuracion","index":1,"n_rows":84,"n_cols":29,"rows_kept":84,"cut":false,"hidden":true,"merged":[[61,0,61,2],[28,0,35,0],[37,0,42,0],[45,0,45,1],[0,0,2,0],[3,0,5,0],[7,0,8,0],[9,0,15,0],[17,0,21,0],[23,0,26,0]]}
["general","urlServicio","https://argos.invemar.org.co/api/"]
[null,"fila de inicio",4]
[null,"fila de fin",503]
["metodologias","Metodologias",94]
[null,"Referentes",500]
[null,"Cantidad maxima de referentes ",500]
["estaciones/investigadores","proyectos",3452,1513,3424]
["Lista especies","metodologias",94]
[null,"proyectos",1513]
["MUESTREOS","ID_MUESTREO","DATOS,C"]
[null,"ID_ESTACION","DATOS,Y"]
[null,"ID_PROYECTO","DIGITADOR,B,10"]
[null,"ID_METODOLOGIA",94]
[null,"ID_TEMATICAS",68]
[null,"FECHA","DATOS,D"]
[null,"NOTAS","DATOS,AE"]
[null,"cantidad",503]
["parametro muestreo","ID_MUESTREO","DATOS,C","DATOS,C","DATOS,C"]
[null,"ID_PARAMETRO",1170,1055,1169]
[null,"ID_METODOLOGIA",94,94,94]
[null,"ID_UNIDAD_MEDIDA",100,100,100]
[null,"VALOR","DIGITADOR,B,12","DIGITADOR,B,6","DIGITADOR,B,13"]
[null,"cantidad",503,503,503]
["muestra","ID_MUESTRA","DATOS,I"]
[null,"ID_MUESTREO","DATOS,J"]
[null,"NOTAS","DATOS,AR"]
[null,"ES_REPLICA",1]
[null,"cantidad",503]
["muestra variable","ID_PARAMETRO",1038,1043,1039,828,821,1050,1051,1028,1052,1053,1181,1042,1070,1219,585,1047,1048,1044,564,1045,622,576,576,1046,376,120,1069]
[null,"ID_METODOLOGIA",94,94,94,94,94,94,94,94,94,94,94,94,94,94,94,94,94,94,94,94,94,94,94,94,94,94,94]
[null,"ID_UNIDAD_MEDIDA",100,100,4,100,100,100,100,100,100,100,100,100,100,100,100,100,100,122,50,100,100,11,100,100,100,100,100]
[null,"ID_MUESTRA","DATOS,I","DATOS,I","DATOS,I","DATOS,I","DATOS,I","DATOS,I","DATOS,I","DATOS,I","DATOS,I","DATOS,I","DATOS,I","DATOS,I","DATOS,I","DATOS,I","DATOS,I","DATOS,I","DATOS,I","DATOS,I","DATOS,I","DATOS,I","DATOS,I","DATOS,I","DATOS,I","DATOS,I","DATOS,I","DATOS,I","DATOS,I"]
[null,"ID_METODO"]
[null,"VALOR","DATOS,E","DATOS,L","DATOS,U","DATOS,AD","DATOS,AF","DATOS,AG","DATOS,AH","DATOS,AI","DATOS,AJ","DATOS,AK","DATOS,AL","DATOS,AM","DATOS,AN","DATOS,AP","DATOS,AQ","DATOS,AT","DATOS,AX","DATOS,AV","DATOS,AW","DATOS,AZ","DATOS,BB","DATOS,Z","DATOS,BC","DATOS,F","DATOS,G","DATOS,S","DATOS,O"]
[null,"QUALITY_FLAG"]
[null,"PRECISION"]
[null,"cantidad",503,503,503,503,503,503,503,503,503,503,503,503,503,503,503,503,503,503,503,503,503,503,503,503,503,503,503]
["autoria","ID_FUNCIONARIO","DIGITADOR,B,2","DATOS,AB"]
[null,"ID_TAREA",5,4]
[null,"ORDEN",1,2]
[null,"FECHA","DIGITADOR,B,8","DATOS,D"]
[null,"ID_MUESTREO","DATOS,C","DATOS,C"]
[null,"ENTIDAD","DIGITADOR,B,4","DATOS,AD"]
[null,"cantidad",503,503]
[]
["REGISTROS GENERADOS",null,"REGISTROS CARGADOS",null,null,"ID_PARAMETRO","ID_UNIDAD_MEDIDA","NOMBRE_COLUMNA"]
["MUESTREOS",null,null,null,null,120,100,"TEMPORADA"]
["parametro muestreo",null,null,null,null,376,100,"AMBIENTE"]
["muestra",null,null,null,null,564,50,"ABUNDANCIA"]
["muestra variable",null,null,null,null,576,11,"PROF_CUANTITATIVA"]
["autoria",null,null,null,null,576,100,"PROF_CUALITATIVA"]
["registros correctos",null,null,null,null,585,100,"COD_SIBM"]
["Fecha de carga",null,null,null,null,622,100,"OBS_DENSIDAD"]
["json error",null,null,null,null,756,100,"TAXONRANK"]
["error",null,null,null,null,821,100,"COD_MUESTRA"]
[null,null,null,null,null,828,100,"ENTIDAD"]
[null,null,null,null,null,1028,100,"ORDEN"]
["Atributo","Descripción","Código",null,null,1038,100,"JORNADA"]
["Tipo Nodo","Estaciones",{"$f":"VLOOKUP(B59,OtrasReferencias!$A$29:$C$39,2,FALSE)","v":40},null,null,1039,4,"INTENSIDAD_LUZ"]
[null,null,null,null,null,1042,100,"MORFOTIPO"]
[null,null,null,null,null,1043,100,"FUENTE_TAXA"]
["CONFIGURACION REFERENTES",null,null,null,null,1044,122,"VOL_ANALIZADO"]
["Ruta de la API","Endpoint","Descripción",null,null,1045,100,"METODO_ANALISIS"]
["URL - AGM Campo",{"$f":"CONCATENATE(\"parametros/agmcampo/\",$C$4,\"\")","v":"parametros/agmcampo/94"},"Listado de referentes AGM_CAMPO.",null,null,1046,100,"METODO_RECOLECTA"]
["URL - Especies",{"$f":"IF($C$8=\"\",\"\",CONCATENATE(\"especies/filt/\",$C$9,\",\",$C$8,\"/\"))","v":"especies/filt/1513,94/"},"Especies por proyecto\n(No todos los proyectos tienen asociados una lista de especies)",null,null,1047,100,"TIPO_ANALISIS"]
["URL - Estaciones",{"$f":"CONCATENATE(\"estaciones/\", $C$59, \"/\",$C$7,\"\")","v":"estaciones/40/3452"},"Estaciones/parcelas por proyecto, cambia dependiendo del Tipo de Nodo, cuyo estado sea VIGENTE.",null,null,1048,100,"UNIDAD_ABUNDANCIA"]
["URL - Usuarios",{"$f":"CONCATENATE(\"parametros/usersByProject/\",$C$7,\"\")","v":"parametros/usersByProject/3452"},"Usuarios por proyecto.",null,null,1050,100,"PHYLUM"]
["URL - Entidades","estaciones/get-entidades","Listado de entidades.",null,null,1051,100,"CLASE"]
["Atributos de la API","codigo_in","nombre_in",null,null,1052,100,"FAMILIA"]
["Rango de atributos de la API","B70:C71","nombre_in",null,null,1053,100,"GENERO"]
["URL - Plantillas","plantillas/","Endpoint para la carga de datos al sistema.",null,null,1054,100,"EPITETO"]
[null,null,null,null,null,1055,100,"VERSION_PLANTILLA"]
[null,null,null,null,null,1069,100,"EPOCA"]
[null,null,null,null,null,1070,100,"AUTOR"]
[null,null,null,null,null,1169,100,"URL_METADATO"]
[null,null,null,null,null,1170,100,"ARCHIVO_FUENTE"]
[null,null,null,null,null,1181,100,"ESPECIE"]
[null,null,null,null,null,1219,100,"IDENTIFICATIONQUAL"]
[null,null,null,null,null,1251,58,"TAMAÑO_ABERTURA_MALLA"]
[null,null,null,null,null,1655,100,"SCIENTIFICNAMEID"]
[null,null,null,null,null,1660,100,"FIJACION"]
[null,null,null,null,null,1665,122,"TAMAÑO_COLECTADO_MUESTRA"]
[null,null,null,null,null,1670,100,"ESFUERZO_MUESTREO"]
[null,null,null,null,null,1675,100,"ESFUERZO_REVISION"]

{"sheet":"DIGITADOR","index":2,"n_rows":28,"n_cols":11,"rows_kept":28,"cut":false,"hidden":false,"merged":[[12,3,14,9],[6,0,7,0],[0,0,0,1],[0,3,6,9],[7,3,9,9],[10,3,11,9]]}
["Monitoreo comunidades fitoplancton - Densidades",null,null,"Recomendaciones generales: \n¡Precaución! No inserte Filas o Columnas.\nEn los casos en que falte un valor a ingresar que provenga de la hoja de referencias, informe para que el administrador del sistema haga las adiciones necesarias.\nEsta es una plantilla programada. Las columnas de color oscuro se llenan automaticamente, principalmente a partir de los contenidos de la hoja de referencias. \nNO UTILICE PUNTO Y COMA (;) en ningun campo, por ser el separador de variables (columnas). Tampoco escriba las unidades de medida, no son necesarias.\nPara el correcto funcionamiento de la hoja debe estar activa la opcion de Excel de ejecutar macros (al abrir la hoja acepte la opcion habilitar macros, mensaje de Excel que aparece en la parte superior de la hoja en un recuadro amarillo). La extensión del archivo debe ser .xlsm\nSe recomienda renombrar el archivo de la siguiente manera: Fitoplancton_NombreEstacion_FechaMonitoreo.xlsm"]
["Código del responsable",{"$f":"IF(B3=\"\",\"\",INDEX(referentes!AZ:BA,MATCH(B3,referentes!BA:BA,0),1))","v":""}]
["Nombre responsable"]
["Entidad",null,null,null,null,null,null,null,null,null," "]
[]
["Versión de la plantilla",{"$f":"'Registro de cambios'!$D$4","v":"20241203i"}]
["Fecha en la que ingresa los datos en esta hoja",{"$f":"IF(B8=DATEVALUE(\"01/12/3000\"),\"DD/MM/AAAA\",INDEX(B8,MATCH(B8,B8,0),1))","v":"3000-12-12"}]
[null,"3000-12-12",null,"Previamente a iniciar el llenado de la plantilla, debe seleccionar el proyecto al que pertenecen los datos que va a diligenciar y luego presionar el botón \"Descargar referentes\" para que los referentes de ésta plantilla sean actualizados. \nLuego de llenar completamente la plantilla, haga clic sobre el botón \"Generar tablas\" para que los datos sean organizados antes de cargarlos al Sistema de Información.\nAntes de presionar el botón \"Generar tablas\" verifique que:\na. No haya celdas con valores como \"#N/A\" o \"#¡REF!\"\nb. No se esten aplicando filtros en la hoja de datos \nPara finalizar, presione el botón \"Cargar datos\"."]
[]
["Código Proyecto",{"$f":"IF(B11=\"\",\"\",INDEX(OtrasReferencias!M:N,MATCH(B11,OtrasReferencias!M:M,0),2))","v":""}]
["Nombre Proyecto",null,null,"Si requiere ayuda contacte a:\nKevin S. Moreno (kevin.moreno@invemar.org.co) - Apoyo técnico software"]
["Archivo fuente",{"$f":"MID(CELL(\"FILENAME\",N50),FIND(\"[\",CELL(\"FILENAME\",N50))+1,   FIND(\"]\",CELL(\"FILENAME\",N50))-FIND(\"[\",CELL(\"FILENAME\",N50))-1)","v":"BEM_Fitoplancton_20241203i.xlsm"}]
["DOI Metadato",null,null,"El custodio de los datos es el único autorizado para distribuir este conjunto de datos. El observador y el digitador se comprometen a tomar las medidas necesarias para salvaguardar este conjunto de datos de modo que copia de los mismos no sean obtenidas y/o usadas por terceros no relacionados con el propósito para la cual se recolectó."]
["Fuente Plantilla","http://cinto.invemar.org.co/download/Plantillas_ARGOS_Plus/"]
[]
[]
[]
[]
[]
[null,"REGISTROS GENERADOS","CARGADOS"]
["MUESTREOS",{"$f":"IF(configuracion!B47=\"\",\"\",configuracion!B47)","v":""},{"$f":"IF(configuracion!C47=\"\",\"\",configuracion!C47)","v":""}]
["parametro muestreo",{"$f":"IF(configuracion!B48=\"\",\"\",configuracion!B48)","v":""},{"$f":"IF(configuracion!C48=\"\",\"\",configuracion!C48)","v":""}]
["muestra",{"$f":"IF(configuracion!B49=\"\",\"\",configuracion!B49)","v":""},{"$f":"IF(configuracion!C49=\"\",\"\",configuracion!C49)","v":""}]
["muestra variable",{"$f":"IF(configuracion!B50=\"\",\"\",configuracion!B50)","v":""},{"$f":"IF(configuracion!C50=\"\",\"\",configuracion!C50)","v":""}]
["autoria",{"$f":"IF(configuracion!B51=\"\",\"\",configuracion!B51)","v":""},{"$f":"IF(configuracion!C51=\"\",\"\",configuracion!C51)","v":""}]
["registros correctos",{"$f":"IF(configuracion!B52=\"\",\"\",configuracion!B52)","v":""},{"$f":"IF(configuracion!C52=\"\",\"\",configuracion!C52)","v":""}]
["json error",{"$f":"IF(configuracion!B53=\"\",\"\",configuracion!B53)","v":""},{"$f":"IF(configuracion!C53=\"\",\"\",configuracion!C53)","v":""}]
["error",{"$f":"IF(configuracion!B54=\"\",\"\",configuracion!B54)","v":""},{"$f":"IF(configuracion!C54=\"\",\"\",configuracion!C54)","v":""}]

{"sheet":"DATOS","index":3,"n_rows":503,"n_cols":55,"rows_kept":503,"cut":false,"hidden":false,"merged":[[0,54,1,54],[0,15,1,31],[2,27,2,28],[0,32,1,43],[0,44,1,53],[2,51,2,52]]}
[null,null,null,null,null,null,null,null,null,null,null,null,null,null,null,"DATOS MUESTRA",null,null,null,null,null,null,null,null,null,null,null,null,null,null,null,null,"IDENTIFICACION TAXONOMICA",null,null,null,null,null,null,null,null,null,null,null,"DENSIDAD",null,null,null,null,null,null,null,null,null,"Datos Muestra"]
[{"$f":"TEXT(DIGITADOR!B8,\"yyyymmdd\")","v":"30001212"}]
[{"$f":"DIGITADOR!$B$2","v":""},"LIBRE","AGD MUESTREO","DATE","CDG JORNADA","CDG METODO\nRECOLECTA","CDG\nAMBIENTE","ID\nTEMPORADA","ID MUESTRA","COD MUESTREO","CDG PROF","FUENTE TAXO","ULTIMO TAXON","CADENA","CDG\nEPOCA","FECHA\n(DD/MM/AAAA)","HORA\n(HH:MM)","EPOCA","TEMPORADA","JORNADA","INTENSIDAD\nLUMINICA (%)","METODO DE\nRECOLECTA","AMBIENTE","NOMBRE ESTACION","ID ESTACION","PROFUNDIDAD (m)","PROFUNIDAD\nCUALITATIVA","INVESTIGADOR",null,"ENTIDAD","OBSERVACIONES\nMUESTREO","COD MUESTRA","PHYLUM","CLASE","ORDEN","FAMILIA","GENERO","ESPECIE","MORFOTIPO","AUTOR","FUENTE","CALIFICADOR\nIDENTIFICACION","CLAVE SP\n(SIBM)","OBSERVACIONES \nTAXONOMIA","TIPO DE ANALISIS","CDG TIPO ANALISIS",null,"VOLUMEN ANALIZADO\nmL","CELULAS","COD\nUNIDAD","UNIDAD","MÉTODO DE ANALISIS",null,"OBSERVACIONES ANALISIS","CDG PROFUNDIDAD\nCUALITATIVA"]
[null,null,{"$f":"IF(J4=\"\",\"\",J4)","v":""},{"$f":"IF(P4<>\"\",P4+Q4,\"\")","v":""},{"$f":"IF(T4=\"\",\"\",INDEX(referentes!G:H,MATCH(T4,referentes!H:H,0),1))","v":""},{"$f":"IF(V4=\"\",\"\",INDEX(referentes!$M:$N,MATCH(V4,referentes!$N:$N,0),1))","v":""},{"$f":"IF(W4=\"\",\"\",INDEX(referentes!J:K,MATCH(W4,referentes!K:K,0),1))","v":""},null,{"$f":"IF(Y4<>\"\",CONCATENATE($A$3,P4,DIGITADOR!$M$1,Y4,ROW()),\"\")","v":""},{"$f":"IF(Y4<>\"\",CONCATENATE(P4,INT(Q4*1440),DIGITADOR!$M$1,Y4),\"\")","v":""},null,{"$f":"IF(AO4<>\"\",INDEX(referentes!$Y:$Z,MATCH(DATOS!AO4,referentes!$Z:$Z,0),1),\"\")","v":""},{"$f":"TRIM(UPPER(IF(AL4<>\"\",AL4,IF(AK4<>\"\",AK4,(IF(AJ4<>\"\",AJ4,IF(AI4<>\"\",AI4,IF(AH4<>\"\",AH4,AG4))))))))","v":""},{"$f":"TRIM(UPPER(CONCATENATE(AG4,\" \",AH4,\" \",AI4,\" \",AJ4,\" \",AK4,\" \",AL4)))","v":""},{"$f":"IF(R4=\"\",\"\",INDEX(referentes!D:E,MATCH(R4,referentes!E:E,0),1))","v":""},null,null,null,null,null,null,null,null,null,{"$f":"IF(X4=\"\",\"\",INDEX(referentes!$AT:$AX,MATCH(X4,referentes!$AX:$AX,0),1))","v":""},null,null,{"$f":"IF(AC4=\"\",\"\",INDEX(referentes!AZ:BA,MATCH(AC4,referentes!BA:BA,0),1))","v":""},null,null,null,null,null,null,null,null,null,null,null,null,null,null,{"$f":"IF(N4<>\"\",INDEX(referentes!$AK:$AM,MATCH(DATOS!M4,referentes!$AK:$AK,0),3),\"\")","v":""},null,null,{"$f":"IF(AS4=\"\",\"\",INDEX(referentes!P:Q,MATCH(AS4,referentes!Q:Q,0),1))","v":""},null,null,null,{"$f":"IF(AY4=\"\",\"\",INDEX(referentes!AB:AC,MATCH(AY4,referentes!AC:AC,0),1))","v":""},null,{"$f":"IF(BA4=\"\",\"\",INDEX(referentes!S:T,MATCH(BA4,referentes!T:T,0),1))","v":""},null,null,{"$f":"IF(AA4=\"\",\"\",INDEX(OtrasReferencias!$AM$7:$AN$9,MATCH(AA4,OtrasReferencias!$AM$7:$AM$9,0),2))","v":""}]
[null,null,{"$f":"IF(J5=\"\",\"\",IF(J5=J4,\"\",J5))","v":""},{"$f":"IF(P5<>\"\",P5+Q5,\"\")","v":""},{"$f":"IF(T5=\"\",\"\",INDEX(referentes!G:H,MATCH(T5,referentes!H:H,0),1))","v":""},{"$f":"IF(V5=\"\",\"\",INDEX(referentes!$M:$N,MATCH(V5,referentes!$N:$N,0),1))","v":""},{"$f":"IF(W5=\"\",\"\",INDEX(referentes!J:K,MATCH(W5,referentes!K:K,0),1))","v":""},null,{"$f":"IF(Y5<>\"\",CONCATENATE($A$3,P5,DIGITADOR!$M$1,Y5,ROW()),\"\")","v":""},{"$f":"IF(Y5<>\"\",CONCATENATE(P5,INT(Q5*1440),DIGITADOR!$M$1,Y5),\"\")","v":""},null,{"$f":"IF(AO5<>\"\",INDEX(referentes!$Y:$Z,MATCH(DATOS!AO5,referentes!$Z:$Z,0),1),\"\")","v":""},{"$f":"TRIM(UPPER(IF(AL5<>\"\",AL5,IF(AK5<>\"\",AK5,(IF(AJ5<>\"\",AJ5,IF(AI5<>\"\",AI5,IF(AH5<>\"\",AH5,AG5))))))))","v":""},{"$f":"TRIM(UPPER(CONCATENATE(AG5,\" \",AH5,\" \",AI5,\" \",AJ5,\" \",AK5,\" \",AL5)))","v":""},{"$f":"IF(R5=\"\",\"\",INDEX(referentes!D:E,MATCH(R5,referentes!E:E,0),1))","v":""},null,null,null,null,null,null,null,null,null,{"$f":"IF(X5=\"\",\"\",INDEX(referentes!$AT:$AX,MATCH(X5,referentes!$AX:$AX,0),1))","v":""},null,null,{"$f":"IF(AC5=\"\",\"\",INDEX(referentes!AZ:BA,MATCH(AC5,referentes!BA:BA,0),1))","v":""},null,null,null,null,null,null,null,null,null,null,null,null,null,null,{"$f":"IF(N5<>\"\",INDEX(referentes!$AK:$AM,MATCH(DATOS!M5,referentes!$AK:$AK,0),3),\"\")","v":""},null,null,{"$f":"IF(AS5=\"\",\"\",INDEX(referentes!P:Q,MATCH(AS5,referentes!Q:Q,0),1))","v":""},null,null,null,{"$f":"IF(AY5=\"\",\"\",INDEX(referentes!AB:AC,MATCH(AY5,referentes!AC:AC,0),1))","v":""},null,{"$f":"IF(BA5=\"\",\"\",INDEX(referentes!S:T,MATCH(BA5,referentes!T:T,0),1))","v":""},null,null,{"$f":"IF(AA5=\"\",\"\",INDEX(OtrasReferencias!$AM$7:$AN$9,MATCH(AA5,OtrasReferencias!$AM$7:$AM$9,0),2))","v":""}]
[null,null,{"$f":"IF(J6=\"\",\"\",IF(J6=J5,\"\",J6))","v":""},"",{"$f":"IF(T6=\"\",\"\",INDEX(referentes!G:H,MATCH(T6,referentes!H:H,0),1))","v":""},{"$f":"IF(V6=\"\",\"\",INDEX(referentes!$M:$N,MATCH(V6,referentes!$N:$N,0),1))","v":""},{"$f":"IF(W6=\"\",\"\",INDEX(referentes!J:K,MATCH(W6,referentes!K:K,0),1))","v":""},null,{"$f":"IF(Y6<>\"\",CONCATENATE($A$3,P6,DIGITADOR!$M$1,Y6,ROW()),\"\")","v":""},{"$f":"IF(Y6<>\"\",CONCATENATE(P6,INT(Q6*1440),DIGITADOR!$M$1,Y6),\"\")","v":""},null,{"$f":"IF(AO6<>\"\",INDEX(referentes!$Y:$Z,MATCH(DATOS!AO6,referentes!$Z:$Z,0),1),\"\")","v":""},"","",{"$f":"IF(R6=\"\",\"\",INDEX(referentes!D:E,MATCH(R6,referentes!E:E,0),1))","v":""},null,null,null,null,null,null,null,null,null,{"$f":"IF(X6=\"\",\"\",INDEX(referentes!$AT:$AX,MATCH(X6,referentes!$AX:$AX,0),1))","v":""},null,null,{"$f":"IF(AC6=\"\",\"\",INDEX(referentes!AZ:BA,MATCH(AC6,referentes!BA:BA,0),1))","v":""},null,null,null,null,null,null,null,null,null,null,null,null,null,null,{"$f":"IF(N6<>\"\",INDEX(referentes!$AK:$AM,MATCH(DATOS!M6,referentes!$AK:$AK,0),3),\"\")","v":""},null,null,{"$f":"IF(AS6=\"\",\"\",INDEX(referentes!P:Q,MATCH(AS6,referentes!Q:Q,0),1))","v":""},null,null,null,{"$f":"IF(AY6=\"\",\"\",INDEX(referentes!AB:AC,MATCH(AY6,referentes!AC:AC,0),1))","v":""},null,{"$f":"IF(BA6=\"\",\"\",INDEX(referentes!S:T,MATCH(BA6,referentes!T:T,0),1))","v":""},null,null,{"$f":"IF(AA6=\"\",\"\",INDEX(OtrasReferencias!$AM$7:$AN$9,MATCH(AA6,OtrasReferencias!$AM$7:$AM$9,0),2))","v":""}]
[null,null,"","",{"$f":"IF(T7=\"\",\"\",INDEX(referentes!G:H,MATCH(T7,referentes!H:H,0),1))","v":""},{"$f":"IF(V7=\"\",\"\",INDEX(referentes!$M:$N,MATCH(V7,referentes!$N:$N,0),1))","v":""},{"$f":"IF(W7=\"\",\"\",INDEX(referentes!J:K,MATCH(W7,referentes!K:K,0),1))","v":""},null,{"$f":"IF(Y7<>\"\",CONCATENATE($A$3,P7,DIGITADOR!$M$1,Y7,ROW()),\"\")","v":""},{"$f":"IF(Y7<>\"\",CONCATENATE(P7,INT(Q7*1440),DIGITADOR!$M$1,Y7),\"\")","v":""},null,{"$f":"IF(AO7<>\"\",INDEX(referentes!$Y:$Z,MATCH(DATOS!AO7,referentes!$Z:$Z,0),1),\"\")","v":""},"","",{"$f":"IF(R7=\"\",\"\",INDEX(referentes!D:E,MATCH(R7,referentes!E:E,0),1))","v":""},null,null,null,null,null,null,null,null,null,{"$f":"IF(X7=\"\",\"\",INDEX(referentes!$AT:$AX,MATCH(X7,referentes!$AX:$AX,0),1))","v":""},null,null,{"$f":"IF(AC7=\"\",\"\",INDEX(referentes!AZ:BA,MATCH(AC7,referentes!BA:BA,0),1))","v":""},null,null,null,null,null,null,null,null,null,null,null,null,null,null,{"$f":"IF(N7<>\"\",INDEX(referentes!$AK:$AM,MATCH(DATOS!M7,referentes!$AK:$AK,0),3),\"\")","v":""},null,null,{"$f":"IF(AS7=\"\",\"\",INDEX(referentes!P:Q,MATCH(AS7,referentes!Q:Q,0),1))","v":""},null,null,null,{"$f":"IF(AY7=\"\",\"\",INDEX(referentes!AB:AC,MATCH(AY7,referentes!AC:AC,0),1))","v":""},null,{"$f":"IF(BA7=\"\",\"\",INDEX(referentes!S:T,MATCH(BA7,referentes!T:T,0),1))","v":""},null,null,{"$f":"IF(AA7=\"\",\"\",INDEX(OtrasReferencias!$AM$7:$AN$9,MATCH(AA7,OtrasReferencias!$AM$7:$AM$9,0),2))","v":""}]
[null,null,"","",{"$f":"IF(T8=\"\",\"\",INDEX(referentes!G:H,MATCH(T8,referentes!H:H,0),1))","v":""},{"$f":"IF(V8=\"\",\"\",INDEX(referentes!$M:$N,MATCH(V8,referentes!$N:$N,0),1))","v":""},{"$f":"IF(W8=\"\",\"\",INDEX(referentes!J:K,MATCH(W8,referentes!K:K,0),1))","v":""},null,{"$f":"IF(Y8<>\"\",CONCATENATE($A$3,P8,DIGITADOR!$M$1,Y8,ROW()),\"\")","v":""},{"$f":"IF(Y8<>\"\",CONCATENATE(P8,INT(Q8*1440),DIGITADOR!$M$1,Y8),\"\")","v":""},null,{"$f":"IF(AO8<>\"\",INDEX(referentes!$Y:$Z,MATCH(DATOS!AO8,referentes!$Z:$Z,0),1),\"\")","v":""},"","",{"$f":"IF(R8=\"\",\"\",INDEX(referentes!D:E,MATCH(R8,referentes!E:E,0),1))","v":""},null,null,null,null,null,null,null,null,null,{"$f":"IF(X8=\"\",\"\",INDEX(referentes!$AT:$AX,MATCH(X8,referentes!$AX:$AX,0),1))","v":""},null,null,{"$f":"IF(AC8=\"\",\"\",INDEX(referentes!AZ:BA,MATCH(AC8,referentes!BA:BA,0),1))","v":""},null,null,null,null,null,null,null,null,null,null,null,null,null,null,{"$f":"IF(N8<>\"\",INDEX(referentes!$AK:$AM,MATCH(DATOS!M8,referentes!$AK:$AK,0),3),\"\")","v":""},null,null,{"$f":"IF(AS8=\"\",\"\",INDEX(referentes!P:Q,MATCH(AS8,referentes!Q:Q,0),1))","v":""},null,null,null,{"$f":"IF(AY8=\"\",\"\",INDEX(referentes!AB:AC,MATCH(AY8,referentes!AC:AC,0),1))","v":""},null,{"$f":"IF(BA8=\"\",\"\",INDEX(referentes!S:T,MATCH(BA8,referentes!T:T,0),1))","v":""},null,null,{"$f":"IF(AA8=\"\",\"\",INDEX(OtrasReferencias!$AM$7:$AN$9,MATCH(AA8,OtrasReferencias!$AM$7:$AM$9,0),2))","v":""}]
[null,null,"","",{"$f":"IF(T9=\"\",\"\",INDEX(referentes!G:H,MATCH(T9,referentes!H:H,0),1))","v":""},{"$f":"IF(V9=\"\",\"\",INDEX(referentes!$M:$N,MATCH(V9,referentes!$N:$N,0),1))","v":""},{"$f":"IF(W9=\"\",\"\",INDEX(referentes!J:K,MATCH(W9,referentes!K:K,0),1))","v":""},null,{"$f":"IF(Y9<>\"\",CONCATENATE($A$3,P9,DIGITADOR!$M$1,Y9,ROW()),\"\")","v":""},{"$f":"IF(Y9<>\"\",CONCATENATE(P9,INT(Q9*1440),DIGITADOR!$M$1,Y9),\"\")","v":""},null,{"$f":"IF(AO9<>\"\",INDEX(referentes!$Y:$Z,MATCH(DATOS!AO9,referentes!$Z:$Z,0),1),\"\")","v":""},"","",{"$f":"IF(R9=\"\",\"\",INDEX(referentes!D:E,MATCH(R9,referentes!E:E,0),1))","v":""},null,null,null,null,null,null,null,null,null,{"$f":"IF(X9=\"\",\"\",INDEX(referentes!$AT:$AX,MATCH(X9,referentes!$AX:$AX,0),1))","v":""},null,null,{"$f":"IF(AC9=\"\",\"\",INDEX(referentes!AZ:BA,MATCH(AC9,referentes!BA:BA,0),1))","v":""},null,null,null,null,null,null,null,null,null,null,null,null,null,null,{"$f":"IF(N9<>\"\",INDEX(referentes!$AK:$AM,MATCH(DATOS!M9,referentes!$AK:$AK,0),3),\"\")","v":""},null,null,{"$f":"IF(AS9=\"\",\"\",INDEX(referentes!P:Q,MATCH(AS9,referentes!Q:Q,0),1))","v":""},null,null,null,{"$f":"IF(AY9=\"\",\"\",INDEX(referentes!AB:AC,MATCH(AY9,referentes!AC:AC,0),1))","v":""},null,{"$f":"IF(BA9=\"\",\"\",INDEX(referentes!S:T,MATCH(BA9,referentes!T:T,0),1))","v":""},null,null,{"$f":"IF(AA9=\"\",\"\",INDEX(OtrasReferencias!$AM$7:$AN$9,MATCH(AA9,OtrasReferencias!$AM$7:$AM$9,0),2))","v":""}]
[null,null,"","",{"$f":"IF(T10=\"\",\"\",INDEX(referentes!G:H,MATCH(T10,referentes!H:H,0),1))","v":""},{"$f":"IF(V10=\"\",\"\",INDEX(referentes!$M:$N,MATCH(V10,referentes!$N:$N,0),1))","v":""},{"$f":"IF(W10=\"\",\"\",INDEX(referentes!J:K,MATCH(W10,referentes!K:K,0),1))","v":""},null,{"$f":"IF(Y10<>\"\",CONCATENATE($A$3,P10,DIGITADOR!$M$1,Y10,ROW()),\"\")","v":""},{"$f":"IF(Y10<>\"\",CONCATENATE(P10,INT(Q10*1440),DIGITADOR!$M$1,Y10),\"\")","v":""},null,{"$f":"IF(AO10<>\"\",INDEX(referentes!$Y:$Z,MATCH(DATOS!AO10,referentes!$Z:$Z,0),1),\"\")","v":""},"","",{"$f":"IF(R10=\"\",\"\",INDEX(referentes!D:E,MATCH(R10,referentes!E:E,0),1))","v":""},null,null,null,null,null,null,null,null,null,{"$f":"IF(X10=\"\",\"\",INDEX(referentes!$AT:$AX,MATCH(X10,referentes!$AX:$AX,0),1))","v":""},null,null,{"$f":"IF(AC10=\"\",\"\",INDEX(referentes!AZ:BA,MATCH(AC10,referentes!BA:BA,0),1))","v":""},null,null,null,null,null,null,null,null,null,null,null,null,null,null,{"$f":"IF(N10<>\"\",INDEX(referentes!$AK:$AM,MATCH(DATOS!M10,referentes!$AK:$AK,0),3),\"\")","v":""},null,null,{"$f":"IF(AS10=\"\",\"\",INDEX(referentes!P:Q,MATCH(AS10,referentes!Q:Q,0),1))","v":""},null,null,null,{"$f":"IF(AY10=\"\",\"\",INDEX(referentes!AB:AC,MATCH(AY10,referentes!AC:AC,0),1))","v":""},null,{"$f":"IF(BA10=\"\",\"\",INDEX(referentes!S:T,MATCH(BA10,referentes!T:T,0),1))","v":""},null,null,{"$f":"IF(AA10=\"\",\"\",INDEX(OtrasReferencias!$AM$7:$AN$9,MATCH(AA10,OtrasReferencias!$AM$7:$AM$9,0),2))","v":""}]
[null,null,"","",{"$f":"IF(T11=\"\",\"\",INDEX(referentes!G:H,MATCH(T11,referentes!H:H,0),1))","v":""},{"$f":"IF(V11=\"\",\"\",INDEX(referentes!$M:$N,MATCH(V11,referentes!$N:$N,0),1))","v":""},{"$f":"IF(W11=\"\",\"\",INDEX(referentes!J:K,MATCH(W11,referentes!K:K,0),1))","v":""},null,{"$f":"IF(Y11<>\"\",CONCATENATE($A$3,P11,DIGITADOR!$M$1,Y11,ROW()),\"\")","v":""},{"$f":"IF(Y11<>\"\",CONCATENATE(P11,INT(Q11*1440),DIGITADOR!$M$1,Y11),\"\")","v":""},null,{"$f":"IF(AO11<>\"\",INDEX(referentes!$Y:$Z,MATCH(DATOS!AO11,referentes!$Z:$Z,0),1),\"\")","v":""},"","",{"$f":"IF(R11=\"\",\"\",INDEX(referentes!D:E,MATCH(R11,referentes!E:E,0),1))","v":""},null,null,null,null,null,null,null,null,null,{"$f":"IF(X11=\"\",\"\",INDEX(referentes!$AT:$AX,MATCH(X11,referentes!$AX:$AX,0),1))","v":""},null,null,{"$f":"IF(AC11=\"\",\"\",INDEX(referentes!AZ:BA,MATCH(AC11,referentes!BA:BA,0),1))","v":""},null,null,null,null,null,null,null,null,null,null,null,null,null,null,{"$f":"IF(N11<>\"\",INDEX(referentes!$AK:$AM,MATCH(DATOS!M11,referentes!$AK:$AK,0),3),\"\")","v":""},null,null,{"$f":"IF(AS11=\"\",\"\",INDEX(referentes!P:Q,MATCH(AS11,referentes!Q:Q,0),1))","v":""},null,null,null,{"$f":"IF(AY11=\"\",\"\",INDEX(referentes!AB:AC,MATCH(AY11,referentes!AC:AC,0),1))","v":""},null,{"$f":"IF(BA11=\"\",\"\",INDEX(referentes!S:T,MATCH(BA11,referentes!T:T,0),1))","v":""},null,null,{"$f":"IF(AA11=\"\",\"\",INDEX(OtrasReferencias!$AM$7:$AN$9,MATCH(AA11,OtrasReferencias!$AM$7:$AM$9,0),2))","v":""}]
[null,null,"","",{"$f":"IF(T12=\"\",\"\",INDEX(referentes!G:H,MATCH(T12,referentes!H:H,0),1))","v":""},{"$f":"IF(V12=\"\",\"\",INDEX(referentes!$M:$N,MATCH(V12,referentes!$N:$N,0),1))","v":""},{"$f":"IF(W12=\"\",\"\",INDEX(referentes!J:K,MATCH(W12,referentes!K:K,0),1))","v":""},null,{"$f":"IF(Y12<>\"\",CONCATENATE($A$3,P12,DIGITADOR!$M$1,Y12,ROW()),\"\")","v":""},{"$f":"IF(Y12<>\"\",CONCATENATE(P12,INT(Q12*1440),DIGITADOR!$M$1,Y12),\"\")","v":""},null,{"$f":"IF(AO12<>\"\",INDEX(referentes!$Y:$Z,MATCH(DATOS!AO12,referentes!$Z:$Z,0),1),\"\")","v":""},"","",{"$f":"IF(R12=\"\",\"\",INDEX(referentes!D:E,MATCH(R12,referentes!E:E,0),1))","v":""},null,null,null,null,null,null,null,null,null,{"$f":"IF(X12=\"\",\"\",INDEX(referentes!$AT:$AX,MATCH(X12,referentes!$AX:$AX,0),1))","v":""},null,null,{"$f":"IF(AC12=\"\",\"\",INDEX(referentes!AZ:BA,MATCH(AC12,referentes!BA:BA,0),1))","v":""},null,null,null,null,null,null,null,null,null,null,null,null,null,null,{"$f":"IF(N12<>\"\",INDEX(referentes!$AK:$AM,MATCH(DATOS!M12,referentes!$AK:$AK,0),3),\"\")","v":""},null,null,{"$f":"IF(AS12=\"\",\"\",INDEX(referentes!P:Q,MATCH(AS12,referentes!Q:Q,0),1))","v":""},null,null,null,{"$f":"IF(AY12=\"\",\"\",INDEX(referentes!AB:AC,MATCH(AY12,referentes!AC:AC,0),1))","v":""},null,{"$f":"IF(BA12=\"\",\"\",INDEX(referentes!S:T,MATCH(BA12,referentes!T:T,0),1))","v":""},null,null,{"$f":"IF(AA12=\"\",\"\",INDEX(OtrasReferencias!$AM$7:$AN$9,MATCH(AA12,OtrasReferencias!$AM$7:$AM$9,0),2))","v":""}]
[null,null,"","",{"$f":"IF(T13=\"\",\"\",INDEX(referentes!G:H,MATCH(T13,referentes!H:H,0),1))","v":""},{"$f":"IF(V13=\"\",\"\",INDEX(referentes!$M:$N,MATCH(V13,referentes!$N:$N,0),1))","v":""},{"$f":"IF(W13=\"\",\"\",INDEX(referentes!J:K,MATCH(W13,referentes!K:K,0),1))","v":""},null,{"$f":"IF(Y13<>\"\",CONCATENATE($A$3,P13,DIGITADOR!$M$1,Y13,ROW()),\"\")","v":""},{"$f":"IF(Y13<>\"\",CONCATENATE(P13,INT(Q13*1440),DIGITADOR!$M$1,Y13),\"\")","v":""},null,{"$f":"IF(AO13<>\"\",INDEX(referentes!$Y:$Z,MATCH(DATOS!AO13,referentes!$Z:$Z,0),1),\"\")","v":""},"","",{"$f":"IF(R13=\"\",\"\",INDEX(referentes!D:E,MATCH(R13,referentes!E:E,0),1))","v":""},null,null,null,null,null,null,null,null,null,{"$f":"IF(X13=\"\",\"\",INDEX(referentes!$AT:$AX,MATCH(X13,referentes!$AX:$AX,0),1))","v":""},null,null,{"$f":"IF(AC13=\"\",\"\",INDEX(referentes!AZ:BA,MATCH(AC13,referentes!BA:BA,0),1))","v":""},null,null,null,null,null,null,null,null,null,null,null,null,null,null,{"$f":"IF(N13<>\"\",INDEX(referentes!$AK:$AM,MATCH(DATOS!M13,referentes!$AK:$AK,0),3),\"\")","v":""},null,null,{"$f":"IF(AS13=\"\",\"\",INDEX(referentes!P:Q,MATCH(AS13,referentes!Q:Q,0),1))","v":""},null,null,null,{"$f":"IF(AY13=\"\",\"\",INDEX(referentes!AB:AC,MATCH(AY13,referentes!AC:AC,0),1))","v":""},null,{"$f":"IF(BA13=\"\",\"\",INDEX(referentes!S:T,MATCH(BA13,referentes!T:T,0),1))","v":""},null,null,{"$f":"IF(AA13=\"\",\"\",INDEX(OtrasReferencias!$AM$7:$AN$9,MATCH(AA13,OtrasReferencias!$AM$7:$AM$9,0),2))","v":""}]
[null,null,"","",{"$f":"IF(T14=\"\",\"\",INDEX(referentes!G:H,MATCH(T14,referentes!H:H,0),1))","v":""},{"$f":"IF(V14=\"\",\"\",INDEX(referentes!$M:$N,MATCH(V14,referentes!$N:$N,0),1))","v":""},{"$f":"IF(W14=\"\",\"\",INDEX(referentes!J:K,MATCH(W14,referentes!K:K,0),1))","v":""},null,{"$f":"IF(Y14<>\"\",CONCATENATE($A$3,P14,DIGITADOR!$M$1,Y14,ROW()),\"\")","v":""},{"$f":"IF(Y14<>\"\",CONCATENATE(P14,INT(Q14*1440),DIGITADOR!$M$1,Y14),\"\")","v":""},null,{"$f":"IF(AO14<>\"\",INDEX(referentes!$Y:$Z,MATCH(DATOS!AO14,referentes!$Z:$Z,0),1),\"\")","v":""},"","",{"$f":"IF(R14=\"\",\"\",INDEX(referentes!D:E,MATCH(R14,referentes!E:E,0),1))","v":""},null,null,null,null,null,null,null,null,null,{"$f":"IF(X14=\"\",\"\",INDEX(referentes!$AT:$AX,MATCH(X14,referentes!$AX:$AX,0),1))","v":""},null,null,{"$f":"IF(AC14=\"\",\"\",INDEX(referentes!AZ:BA,MATCH(AC14,referentes!BA:BA,0),1))","v":""},null,null,null,null,null,null,null,null,null,null,null,null,null,null,{"$f":"IF(N14<>\"\",INDEX(referentes!$AK:$AM,MATCH(DATOS!M14,referentes!$AK:$AK,0),3),\"\")","v":""},null,null,{"$f":"IF(AS14=\"\",\"\",INDEX(referentes!P:Q,MATCH(AS14,referentes!Q:Q,0),1))","v":""},null,null,null,{"$f":"IF(AY14=\"\",\"\",INDEX(referentes!AB:AC,MATCH(AY14,referentes!AC:AC,0),1))","v":""},null,{"$f":"IF(BA14=\"\",\"\",INDEX(referentes!S:T,MATCH(BA14,referentes!T:T,0),1))","v":""},null,null,{"$f":"IF(AA14=\"\",\"\",INDEX(OtrasReferencias!$AM$7:$AN$9,MATCH(AA14,OtrasReferencias!$AM$7:$AM$9,0),2))","v":""}]
[null,null,"","",{"$f":"IF(T15=\"\",\"\",INDEX(referentes!G:H,MATCH(T15,referentes!H:H,0),1))","v":""},{"$f":"IF(V15=\"\",\"\",INDEX(referentes!$M:$N,MATCH(V15,referentes!$N:$N,0),1))","v":""},{"$f":"IF(W15=\"\",\"\",INDEX(referentes!J:K,MATCH(W15,referentes!K:K,0),1))","v":""},null,{"$f":"IF(Y15<>\"\",CONCATENATE($A$3,P15,DIGITADOR!$M$1,Y15,ROW()),\"\")","v":""},{"$f":"IF(Y15<>\"\",CONCATENATE(P15,INT(Q15*1440),DIGITADOR!$M$1,Y15),\"\")","v":""},null,{"$f":"IF(AO15<>\"\",INDEX(referentes!$Y:$Z,MATCH(DATOS!AO15,referentes!$Z:$Z,0),1),\"\")","v":""},"","",{"$f":"IF(R15=\"\",\"\",INDEX(referentes!D:E,MATCH(R15,referentes!E:E,0),1))","v":""},null,null,null,null,null,null,null,null,null,{"$f":"IF(X15=\"\",\"\",INDEX(referentes!$AT:$AX,MATCH(X15,referentes!$AX:$AX,0),1))","v":""},null,null,{"$f":"IF(AC15=\"\",\"\",INDEX(referentes!AZ:BA,MATCH(AC15,referentes!BA:BA,0),1))","v":""},null,null,null,null,null,null,null,null,null,null,null,null,null,null,{"$f":"IF(N15<>\"\",INDEX(referentes!$AK:$AM,MATCH(DATOS!M15,referentes!$AK:$AK,0),3),\"\")","v":""},null,null,{"$f":"IF(AS15=\"\",\"\",INDEX(referentes!P:Q,MATCH(AS15,referentes!Q:Q,0),1))","v":""},null,null,null,{"$f":"IF(AY15=\"\",\"\",INDEX(referentes!AB:AC,MATCH(AY15,referentes!AC:AC,0),1))","v":""},null,{"$f":"IF(BA15=\"\",\"\",INDEX(referentes!S:T,MATCH(BA15,referentes!T:T,0),1))","v":""},null,null,{"$f":"IF(AA15=\"\",\"\",INDEX(OtrasReferencias!$AM$7:$AN$9,MATCH(AA15,OtrasReferencias!$AM$7:$AM$9,0),2))","v":""}]
[null,null,"","",{"$f":"IF(T16=\"\",\"\",INDEX(referentes!G:H,MATCH(T16,referentes!H:H,0),1))","v":""},{"$f":"IF(V16=\"\",\"\",INDEX(referentes!$M:$N,MATCH(V16,referentes!$N:$N,0),1))","v":""},{"$f":"IF(W16=\"\",\"\",INDEX(referentes!J:K,MATCH(W16,referentes!K:K,0),1))","v":""},null,{"$f":"IF(Y16<>\"\",CONCATENATE($A$3,P16,DIGITADOR!$M$1,Y16,ROW()),\"\")","v":""},{"$f":"IF(Y16<>\"\",CONCATENATE(P16,INT(Q16*1440),DIGITADOR!$M$1,Y16),\"\")","v":""},null,{"$f":"IF(AO16<>\"\",INDEX(referentes!$Y:$Z,MATCH(DATOS!AO16,referentes!$Z:$Z,0),1),\"\")","v":""},"","",{"$f":"IF(R16=\"\",\"\",INDEX(referentes!D:E,MATCH(R16,referentes!E:E,0),1))","v":""},null,null,null,null,null,null,null,null,null,{"$f":"IF(X16=\"\",\"\",INDEX(referentes!$AT:$AX,MATCH(X16,referentes!$AX:$AX,0),1))","v":""},null,null,{"$f":"IF(AC16=\"\",\"\",INDEX(referentes!AZ:BA,MATCH(AC16,referentes!BA:BA,0),1))","v":""},null,null,null,null,null,null,null,null,null,null,null,null,null,null,{"$f":"IF(N16<>\"\",INDEX(referentes!$AK:$AM,MATCH(DATOS!M16,referentes!$AK:$AK,0),3),\"\")","v":""},null,null,{"$f":"IF(AS16=\"\",\"\",INDEX(referentes!P:Q,MATCH(AS16,referentes!Q:Q,0),1))","v":""},null,null,null,{"$f":"IF(AY16=\"\",\"\",INDEX(referentes!AB:AC,MATCH(AY16,referentes!AC:AC,0),1))","v":""},null,{"$f":"IF(BA16=\"\",\"\",INDEX(referentes!S:T,MATCH(BA16,referentes!T:T,0),1))","v":""},null,null,{"$f":"IF(AA16=\"\",\"\",INDEX(OtrasReferencias!$AM$7:$AN$9,MATCH(AA16,OtrasReferencias!$AM$7:$AM$9,0),2))","v":""}]
[null,null,"","",{"$f":"IF(T17=\"\",\"\",INDEX(referentes!G:H,MATCH(T17,referentes!H:H,0),1))","v":""},{"$f":"IF(V17=\"\",\"\",INDEX(referentes!$M:$N,MATCH(V17,referentes!$N:$N,0),1))","v":""},{"$f":"IF(W17=\"\",\"\",INDEX(referentes!J:K,MATCH(W17,referentes!K:K,0),1))","v":""},null,{"$f":"IF(Y17<>\"\",CONCATENATE($A$3,P17,DIGITADOR!$M$1,Y17,ROW()),\"\")","v":""},{"$f":"IF(Y17<>\"\",CONCATENATE(P17,INT(Q17*1440),DIGITADOR!$M$1,Y17),\"\")","v":""},null,{"$f":"IF(AO17<>\"\",INDEX(referentes!$Y:$Z,MATCH(DATOS!AO17,referentes!$Z:$Z,0),1),\"\")","v":""},"","",{"$f":"IF(R17=\"\",\"\",INDEX(referentes!D:E,MATCH(R17,referentes!E:E,0),1))","v":""},null,null,null,null,null,null,null,null,null,{"$f":"IF(X17=\"\",\"\",INDEX(referentes!$AT:$AX,MATCH(X17,referentes!$AX:$AX,0),1))","v":""},null,null,{"$f":"IF(AC17=\"\",\"\",INDEX(referentes!AZ:BA,MATCH(AC17,referentes!BA:BA,0),1))","v":""},null,null,null,null,null,null,null,null,null,null,null,null,null,null,{"$f":"IF(N17<>\"\",INDEX(referentes!$AK:$AM,MATCH(DATOS!M17,referentes!$AK:$AK,0),3),\"\")","v":""},null,null,{"$f":"IF(AS17=\"\",\"\",INDEX(referentes!P:Q,MATCH(AS17,referentes!Q:Q,0),1))","v":""},null,null,null,{"$f":"IF(AY17=\"\",\"\",INDEX(referentes!AB:AC,MATCH(AY17,referentes!AC:AC,0),1))","v":""},null,{"$f":"IF(BA17=\"\",\"\",INDEX(referentes!S:T,MATCH(BA17,referentes!T:T,0),1))","v":""},null,null,{"$f":"IF(AA17=\"\",\"\",INDEX(OtrasReferencias!$AM$7:$AN$9,MATCH(AA17,OtrasReferencias!$AM$7:$AM$9,0),2))","v":""}]
[null,null,"","",{"$f":"IF(T18=\"\",\"\",INDEX(referentes!G:H,MATCH(T18,referentes!H:H,0),1))","v":""},{"$f":"IF(V18=\"\",\"\",INDEX(referentes!$M:$N,MATCH(V18,referentes!$N:$N,0),1))","v":""},{"$f":"IF(W18=\"\",\"\",INDEX(referentes!J:K,MATCH(W18,referentes!K:K,0),1))","v":""},null,{"$f":"IF(Y18<>\"\",CONCATENATE($A$3,P18,DIGITADOR!$M$1,Y18,ROW()),\"\")","v":""},{"$f":"IF(Y18<>\"\",CONCATENATE(P18,INT(Q18*1440),DIGITADOR!$M$1,Y18),\"\")","v":""},null,{"$f":"IF(AO18<>\"\",INDEX(referentes!$Y:$Z,MATCH(DATOS!AO18,referentes!$Z:$Z,0),1),\"\")","v":""},"","",{"$f":"IF(R18=\"\",\"\",INDEX(referentes!D:E,MATCH(R18,referentes!E:E,0),1))","v":""},null,null,null,null,null,null,null,null,null,{"$f":"IF(X18=\"\",\"\",INDEX(referentes!$AT:$AX,MATCH(X18,referentes!$AX:$AX,0),1))","v":""},null,null,{"$f":"IF(AC18=\"\",\"\",INDEX(referentes!AZ:BA,MATCH(AC18,referentes!BA:BA,0),1))","v":""},null,null,null,null,null,null,null,null,null,null,null,null,null,null,{"$f":"IF(N18<>\"\",INDEX(referentes!$AK:$AM,MATCH(DATOS!M18,referentes!$AK:$AK,0),3),\"\")","v":""},null,null,{"$f":"IF(AS18=\"\",\"\",INDEX(referentes!P:Q,MATCH(AS18,referentes!Q:Q,0),1))","v":""},null,null,null,{"$f":"IF(AY18=\"\",\"\",INDEX(referentes!AB:AC,MATCH(AY18,referentes!AC:AC,0),1))","v":""},null,{"$f":"IF(BA18=\"\",\"\",INDEX(referentes!S:T,MATCH(BA18,referentes!T:T,0),1))","v":""},null,null,{"$f":"IF(AA18=\"\",\"\",INDEX(OtrasReferencias!$AM$7:$AN$9,MATCH(AA18,OtrasReferencias!$AM$7:$AM$9,0),2))","v":""}]
[null,null,"","",{"$f":"IF(T19=\"\",\"\",INDEX(referentes!G:H,MATCH(T19,referentes!H:H,0),1))","v":""},{"$f":"IF(V19=\"\",\"\",INDEX(referentes!$M:$N,MATCH(V19,referentes!$N:$N,0),1))","v":""},{"$f":"IF(W19=\"\",\"\",INDEX(referentes!J:K,MATCH(W19,referentes!K:K,0),1))","v":""},null,{"$f":"IF(Y19<>\"\",CONCATENATE($A$3,P19,DIGITADOR!$M$1,Y19,ROW()),\"\")","v":""},{"$f":"IF(Y19<>\"\",CONCATENATE(P19,INT(Q19*1440),DIGITADOR!$M$1,Y19),\"\")","v":""},null,{"$f":"IF(AO19<>\"\",INDEX(referentes!$Y:$Z,MATCH(DATOS!AO19,referentes!$Z:$Z,0),1),\"\")","v":""},"","",{"$f":"IF(R19=\"\",\"\",INDEX(referentes!D:E,MATCH(R19,referentes!E:E,0),1))","v":""},null,null,null,null,null,null,null,null,null,{"$f":"IF(X19=\"\",\"\",INDEX(referentes!$AT:$AX,MATCH(X19,referentes!$AX:$AX,0),1))","v":""},null,null,{"$f":"IF(AC19=\"\",\"\",INDEX(referentes!AZ:BA,MATCH(AC19,referentes!BA:BA,0),1))","v":""},null,null,null,null,null,null,null,null,null,null,null,null,null,null,{"$f":"IF(N19<>\"\",INDEX(referentes!$AK:$AM,MATCH(DATOS!M19,referentes!$AK:$AK,0),3),\"\")","v":""},null,null,{"$f":"IF(AS19=\"\",\"\",INDEX(referentes!P:Q,MATCH(AS19,referentes!Q:Q,0),1))","v":""},null,null,null,{"$f":"IF(AY19=\"\",\"\",INDEX(referentes!AB:AC,MATCH(AY19,referentes!AC:AC,0),1))","v":""},null,{"$f":"IF(BA19=\"\",\"\",INDEX(referentes!S:T,MATCH(BA19,referentes!T:T,0),1))","v":""},null,null,{"$f":"IF(AA19=\"\",\"\",INDEX(OtrasReferencias!$AM$7:$AN$9,MATCH(AA19,OtrasReferencias!$AM$7:$AM$9,0),2))","v":""}]
[null,null,"","",{"$f":"IF(T20=\"\",\"\",INDEX(referentes!G:H,MATCH(T20,referentes!H:H,0),1))","v":""},{"$f":"IF(V20=\"\",\"\",INDEX(referentes!$M:$N,MATCH(V20,referentes!$N:$N,0),1))","v":""},{"$f":"IF(W20=\"\",\"\",INDEX(referentes!J:K,MATCH(W20,referentes!K:K,0),1))","v":""},null,{"$f":"IF(Y20<>\"\",CONCATENATE($A$3,P20,DIGITADOR!$M$1,Y20,ROW()),\"\")","v":""},{"$f":"IF(Y20<>\"\",CONCATENATE(P20,INT(Q20*1440),DIGITADOR!$M$1,Y20),\"\")","v":""},null,{"$f":"IF(AO20<>\"\",INDEX(referentes!$Y:$Z,MATCH(DATOS!AO20,referentes!$Z:$Z,0),1),\"\")","v":""},"","",{"$f":"IF(R20=\"\",\"\",INDEX(referentes!D:E,MATCH(R20,referentes!E:E,0),1))","v":""},null,null,null,null,null,null,null,null,null,{"$f":"IF(X20=\"\",\"\",INDEX(referentes!$AT:$AX,MATCH(X20,referentes!$AX:$AX,0),1))","v":""},null,null,{"$f":"IF(AC20=\"\",\"\",INDEX(referentes!AZ:BA,MATCH(AC20,referentes!BA:BA,0),1))","v":""},null,null,null,null,null,null,null,null,null,null,null,null,null,null,{"$f":"IF(N20<>\"\",INDEX(referentes!$AK:$AM,MATCH(DATOS!M20,referentes!$AK:$AK,0),3),\"\")","v":""},null,null,{"$f":"IF(AS20=\"\",\"\",INDEX(referentes!P:Q,MATCH(AS20,referentes!Q:Q,0),1))","v":""},null,null,null,{"$f":"IF(AY20=\"\",\"\",INDEX(referentes!AB:AC,MATCH(AY20,referentes!AC:AC,0),1))","v":""},null,{"$f":"IF(BA20=\"\",\"\",INDEX(referentes!S:T,MATCH(BA20,referentes!T:T,0),1))","v":""},null,null,{"$f":"IF(AA20=\"\",\"\",INDEX(OtrasReferencias!$AM$7:$AN$9,MATCH(AA20,OtrasReferencias!$AM$7:$AM$9,0),2))","v":""}]
[null,null,"","",{"$f":"IF(T21=\"\",\"\",INDEX(referentes!G:H,MATCH(T21,referentes!H:H,0),1))","v":""},{"$f":"IF(V21=\"\",\"\",INDEX(referentes!$M:$N,MATCH(V21,referentes!$N:$N,0),1))","v":""},{"$f":"IF(W21=\"\",\"\",INDEX(referentes!J:K,MATCH(W21,referentes!K:K,0),1))","v":""},null,{"$f":"IF(Y21<>\"\",CONCATENATE($A$3,P21,DIGITADOR!$M$1,Y21,ROW()),\"\")","v":""},{"$f":"IF(Y21<>\"\",CONCATENATE(P21,INT(Q21*1440),DIGITADOR!$M$1,Y21),\"\")","v":""},null,{"$f":"IF(AO21<>\"\",INDEX(referentes!$Y:$Z,MATCH(DATOS!AO21,referentes!$Z:$Z,0),1),\"\")","v":""},"","",{"$f":"IF(R21=\"\",\"\",INDEX(referentes!D:E,MATCH(R21,referentes!E:E,0),1))","v":""},null,null,null,null,null,null,null,null,null,{"$f":"IF(X21=\"\",\"\",INDEX(referentes!$AT:$AX,MATCH(X21,referentes!$AX:$AX,0),1))","v":""},null,null,{"$f":"IF(AC21=\"\",\"\",INDEX(referentes!AZ:BA,MATCH(AC21,referentes!BA:BA,0),1))","v":""},null,null,null,null,null,null,null,null,null,null,null,null,null,null,{"$f":"IF(N21<>\"\",INDEX(referentes!$AK:$AM,MATCH(DATOS!M21,referentes!$AK:$AK,0),3),\"\")","v":""},null,null,{"$f":"IF(AS21=\"\",\"\",INDEX(referentes!P:Q,MATCH(AS21,referentes!Q:Q,0),1))","v":""},null,null,null,{"$f":"IF(AY21=\"\",\"\",INDEX(referentes!AB:AC,MATCH(AY21,referentes!AC:AC,0),1))","v":""},null,{"$f":"IF(BA21=\"\",\"\",INDEX(referentes!S:T,MATCH(BA21,referentes!T:T,0),1))","v":""},null,null,{"$f":"IF(AA21=\"\",\"\",INDEX(OtrasReferencias!$AM$7:$AN$9,MATCH(AA21,OtrasReferencias!$AM$7:$AM$9,0),2))","v":""}]
[null,null,"","",{"$f":"IF(T22=\"\",\"\",INDEX(referentes!G:H,MATCH(T22,referentes!H:H,0),1))","v":""},{"$f":"IF(V22=\"\",\"\",INDEX(referentes!$M:$N,MATCH(V22,referentes!$N:$N,0),1))","v":""},{"$f":"IF(W22=\"\",\"\",INDEX(referentes!J:K,MATCH(W22,referentes!K:K,0),1))","v":""},null,{"$f":"IF(Y22<>\"\",CONCATENATE($A$3,P22,DIGITADOR!$M$1,Y22,ROW()),\"\")","v":""},{"$f":"IF(Y22<>\"\",CONCATENATE(P22,INT(Q22*1440),DIGITADOR!$M$1,Y22),\"\")","v":""},null,{"$f":"IF(AO22<>\"\",INDEX(referentes!$Y:$Z,MATCH(DATOS!AO22,referentes!$Z:$Z,0),1),\"\")","v":""},"","",{"$f":"IF(R22=\"\",\"\",INDEX(referentes!D:E,MATCH(R22,referentes!E:E,0),1))","v":""},null,null,null,null,null,null,null,null,null,{"$f":"IF(X22=\"\",\"\",INDEX(referentes!$AT:$AX,MATCH(X22,referentes!$AX:$AX,0),1))","v":""},null,null,{"$f":"IF(AC22=\"\",\"\",INDEX(referentes!AZ:BA,MATCH(AC22,referentes!BA:BA,0),1))","v":""},null,null,null,null,null,null,null,null,null,null,null,null,null,null,{"$f":"IF(N22<>\"\",INDEX(referentes!$AK:$AM,MATCH(DATOS!M22,referentes!$AK:$AK,0),3),\"\")","v":""},null,null,{"$f":"IF(AS22=\"\",\"\",INDEX(referentes!P:Q,MATCH(AS22,referentes!Q:Q,0),1))","v":""},null,null,null,{"$f":"IF(AY22=\"\",\"\",INDEX(referentes!AB:AC,MATCH(AY22,referentes!AC:AC,0),1))","v":""},null,{"$f":"IF(BA22=\"\",\"\",INDEX(referentes!S:T,MATCH(BA22,referentes!T:T,0),1))","v":""},null,null,{"$f":"IF(AA22=\"\",\"\",INDEX(OtrasReferencias!$AM$7:$AN$9,MATCH(AA22,OtrasReferencias!$AM$7:$AM$9,0),2))","v":""}]
[null,null,"","",{"$f":"IF(T23=\"\",\"\",INDEX(referentes!G:H,MATCH(T23,referentes!H:H,0),1))","v":""},{"$f":"IF(V23=\"\",\"\",INDEX(referentes!$M:$N,MATCH(V23,referentes!$N:$N,0),1))","v":""},{"$f":"IF(W23=\"\",\"\",INDEX(referentes!J:K,MATCH(W23,referentes!K:K,0),1))","v":""},null,{"$f":"IF(Y23<>\"\",CONCATENATE($A$3,P23,DIGITADOR!$M$1,Y23,ROW()),\"\")","v":""},{"$f":"IF(Y23<>\"\",CONCATENATE(P23,INT(Q23*1440),DIGITADOR!$M$1,Y23),\"\")","v":""},null,{"$f":"IF(AO23<>\"\",INDEX(referentes!$Y:$Z,MATCH(DATOS!AO23,referentes!$Z:$Z,0),1),\"\")","v":""},"","",{"$f":"IF(R23=\"\",\"\",INDEX(referentes!D:E,MATCH(R23,referentes!E:E,0),1))","v":""},null,null,null,null,null,null,null,null,null,{"$f":"IF(X23=\"\",\"\",INDEX(referentes!$AT:$AX,MATCH(X23,referentes!$AX:$AX,0),1))","v":""},null,null,{"$f":"IF(AC23=\"\",\"\",INDEX(referentes!AZ:BA,MATCH(AC23,referentes!BA:BA,0),1))","v":""},null,null,null,null,null,null,null,null,null,null,null,null,null,null,{"$f":"IF(N23<>\"\",INDEX(referentes!$AK:$AM,MATCH(DATOS!M23,referentes!$AK:$AK,0),3),\"\")","v":""},null,null,{"$f":"IF(AS23=\"\",\"\",INDEX(referentes!P:Q,MATCH(AS23,referentes!Q:Q,0),1))","v":""},null,null,null,{"$f":"IF(AY23=\"\",\"\",INDEX(referentes!AB:AC,MATCH(AY23,referentes!AC:AC,0),1))","v":""},null,{"$f":"IF(BA23=\"\",\"\",INDEX(referentes!S:T,MATCH(BA23,referentes!T:T,0),1))","v":""},null,null,{"$f":"IF(AA23=\"\",\"\",INDEX(OtrasReferencias!$AM$7:$AN$9,MATCH(AA23,OtrasReferencias!$AM$7:$AM$9,0),2))","v":""}]
[null,null,"","",{"$f":"IF(T24=\"\",\"\",INDEX(referentes!G:H,MATCH(T24,referentes!H:H,0),1))","v":""},{"$f":"IF(V24=\"\",\"\",INDEX(referentes!$M:$N,MATCH(V24,referentes!$N:$N,0),1))","v":""},{"$f":"IF(W24=\"\",\"\",INDEX(referentes!J:K,MATCH(W24,referentes!K:K,0),1))","v":""},null,{"$f":"IF(Y24<>\"\",CONCATENATE($A$3,P24,DIGITADOR!$M$1,Y24,ROW()),\"\")","v":""},{"$f":"IF(Y24<>\"\",CONCATENATE(P24,INT(Q24*1440),DIGITADOR!$M$1,Y24),\"\")","v":""},null,{"$f":"IF(AO24<>\"\",INDEX(referentes!$Y:$Z,MATCH(DATOS!AO24,referentes!$Z:$Z,0),1),\"\")","v":""},"","",{"$f":"IF(R24=\"\",\"\",INDEX(referentes!D:E,MATCH(R24,referentes!E:E,0),1))","v":""},null,null,null,null,null,null,null,null,null,{"$f":"IF(X24=\"\",\"\",INDEX(referentes!$AT:$AX,MATCH(X24,referentes!$AX:$AX,0),1))","v":""},null,null,{"$f":"IF(AC24=\"\",\"\",INDEX(referentes!AZ:BA,MATCH(AC24,referentes!BA:BA,0),1))","v":""},null,null,null,null,null,null,null,null,null,null,null,null,null,null,{"$f":"IF(N24<>\"\",INDEX(referentes!$AK:$AM,MATCH(DATOS!M24,referentes!$AK:$AK,0),3),\"\")","v":""},null,null,{"$f":"IF(AS24=\"\",\"\",INDEX(referentes!P:Q,MATCH(AS24,referentes!Q:Q,0),1))","v":""},null,null,null,{"$f":"IF(AY24=\"\",\"\",INDEX(referentes!AB:AC,MATCH(AY24,referentes!AC:AC,0),1))","v":""},null,{"$f":"IF(BA24=\"\",\"\",INDEX(referentes!S:T,MATCH(BA24,referentes!T:T,0),1))","v":""},null,null,{"$f":"IF(AA24=\"\",\"\",INDEX(OtrasReferencias!$AM$7:$AN$9,MATCH(AA24,OtrasReferencias!$AM$7:$AM$9,0),2))","v":""}]
[null,null,"","",{"$f":"IF(T25=\"\",\"\",INDEX(referentes!G:H,MATCH(T25,referentes!H:H,0),1))","v":""},{"$f":"IF(V25=\"\",\"\",INDEX(referentes!$M:$N,MATCH(V25,referentes!$N:$N,0),1))","v":""},{"$f":"IF(W25=\"\",\"\",INDEX(referentes!J:K,MATCH(W25,referentes!K:K,0),1))","v":""},null,{"$f":"IF(Y25<>\"\",CONCATENATE($A$3,P25,DIGITADOR!$M$1,Y25,ROW()),\"\")","v":""},{"$f":"IF(Y25<>\"\",CONCATENATE(P25,INT(Q25*1440),DIGITADOR!$M$1,Y25),\"\")","v":""},null,{"$f":"IF(AO25<>\"\",INDEX(referentes!$Y:$Z,MATCH(DATOS!AO25,referentes!$Z:$Z,0),1),\"\")","v":""},"","",{"$f":"IF(R25=\"\",\"\",INDEX(referentes!D:E,MATCH(R25,referentes!E:E,0),1))","v":""},null,null,null,null,null,null,null,null,null,{"$f":"IF(X25=\"\",\"\",INDEX(referentes!$AT:$AX,MATCH(X25,referentes!$AX:$AX,0),1))","v":""},null,null,{"$f":"IF(AC25=\"\",\"\",INDEX(referentes!AZ:BA,MATCH(AC25,referentes!BA:BA,0),1))","v":""},null,null,null,null,null,null,null,null,null,null,null,null,null,null,{"$f":"IF(N25<>\"\",INDEX(referentes!$AK:$AM,MATCH(DATOS!M25,referentes!$AK:$AK,0),3),\"\")","v":""},null,null,{"$f":"IF(AS25=\"\",\"\",INDEX(referentes!P:Q,MATCH(AS25,referentes!Q:Q,0),1))","v":""},null,null,null,{"$f":"IF(AY25=\"\",\"\",INDEX(referentes!AB:AC,MATCH(AY25,referentes!AC:AC,0),1))","v":""},null,{"$f":"IF(BA25=\"\",\"\",INDEX(referentes!S:T,MATCH(BA25,referentes!T:T,0),1))","v":""},null,null,{"$f":"IF(AA25=\"\",\"\",INDEX(OtrasReferencias!$AM$7:$AN$9,MATCH(AA25,OtrasReferencias!$AM$7:$AM$9,0),2))","v":""}]
[null,null,"","",{"$f":"IF(T26=\"\",\"\",INDEX(referentes!G:H,MATCH(T26,referentes!H:H,0),1))","v":""},{"$f":"IF(V26=\"\",\"\",INDEX(referentes!$M:$N,MATCH(V26,referentes!$N:$N,0),1))","v":""},{"$f":"IF(W26=\"\",\"\",INDEX(referentes!J:K,MATCH(W26,referentes!K:K,0),1))","v":""},null,{"$f":"IF(Y26<>\"\",CONCATENATE($A$3,P26,DIGITADOR!$M$1,Y26,ROW()),\"\")","v":""},{"$f":"IF(Y26<>\"\",CONCATENATE(P26,INT(Q26*1440),DIGITADOR!$M$1,Y26),\"\")","v":""},null,{"$f":"IF(AO26<>\"\",INDEX(referentes!$Y:$Z,MATCH(DATOS!AO26,referentes!$Z:$Z,0),1),\"\")","v":""},"","",{"$f":"IF(R26=\"\",\"\",INDEX(referentes!D:E,MATCH(R26,referentes!E:E,0),1))","v":""},null,null,null,null,null,null,null,null,null,{"$f":"IF(X26=\"\",\"\",INDEX(referentes!$AT:$AX,MATCH(X26,referentes!$AX:$AX,0),1))","v":""},null,null,{"$f":"IF(AC26=\"\",\"\",INDEX(referentes!AZ:BA,MATCH(AC26,referentes!BA:BA,0),1))","v":""},null,null,null,null,null,null,null,null,null,null,null,null,null,null,{"$f":"IF(N26<>\"\",INDEX(referentes!$AK:$AM,MATCH(DATOS!M26,referentes!$AK:$AK,0),3),\"\")","v":""},null,null,{"$f":"IF(AS26=\"\",\"\",INDEX(referentes!P:Q,MATCH(AS26,referentes!Q:Q,0),1))","v":""},null,null,null,{"$f":"IF(AY26=\"\",\"\",INDEX(referentes!AB:AC,MATCH(AY26,referentes!AC:AC,0),1))","v":""},null,{"$f":"IF(BA26=\"\",\"\",INDEX(referentes!S:T,MATCH(BA26,referentes!T:T,0),1))","v":""},null,null,{"$f":"IF(AA26=\"\",\"\",INDEX(OtrasReferencias!$AM$7:$AN$9,MATCH(AA26,OtrasReferencias!$AM$7:$AM$9,0),2))","v":""}]
[null,null,"","",{"$f":"IF(T27=\"\",\"\",INDEX(referentes!G:H,MATCH(T27,referentes!H:H,0),1))","v":""},{"$f":"IF(V27=\"\",\"\",INDEX(referentes!$M:$N,MATCH(V27,referentes!$N:$N,0),1))","v":""},{"$f":"IF(W27=\"\",\"\",INDEX(referentes!J:K,MATCH(W27,referentes!K:K,0),1))","v":""},null,{"$f":"IF(Y27<>\"\",CONCATENATE($A$3,P27,DIGITADOR!$M$1,Y27,ROW()),\"\")","v":""},{"$f":"IF(Y27<>\"\",CONCATENATE(P27,INT(Q27*1440),DIGITADOR!$M$1,Y27),\"\")","v":""},null,{"$f":"IF(AO27<>\"\",INDEX(referentes!$Y:$Z,MATCH(DATOS!AO27,referentes!$Z:$Z,0),1),\"\")","v":""},"","",{"$f":"IF(R27=\"\",\"\",INDEX(referentes!D:E,MATCH(R27,referentes!E:E,0),1))","v":""},null,null,null,null,null,null,null,null,null,{"$f":"IF(X27=\"\",\"\",INDEX(referentes!$AT:$AX,MATCH(X27,referentes!$AX:$AX,0),1))","v":""},null,null,{"$f":"IF(AC27=\"\",\"\",INDEX(referentes!AZ:BA,MATCH(AC27,referentes!BA:BA,0),1))","v":""},null,null,null,null,null,null,null,null,null,null,null,null,null,null,{"$f":"IF(N27<>\"\",INDEX(referentes!$AK:$AM,MATCH(DATOS!M27,referentes!$AK:$AK,0),3),\"\")","v":""},null,null,{"$f":"IF(AS27=\"\",\"\",INDEX(referentes!P:Q,MATCH(AS27,referentes!Q:Q,0),1))","v":""},null,null,null,{"$f":"IF(AY27=\"\",\"\",INDEX(referentes!AB:AC,MATCH(AY27,referentes!AC:AC,0),1))","v":""},null,{"$f":"IF(BA27=\"\",\"\",INDEX(referentes!S:T,MATCH(BA27,referentes!T:T,0),1))","v":""},null,null,{"$f":"IF(AA27=\"\",\"\",INDEX(OtrasReferencias!$AM$7:$AN$9,MATCH(AA27,OtrasReferencias!$AM$7:$AM$9,0),2))","v":""}]
[null,null,"","",{"$f":"IF(T28=\"\",\"\",INDEX(referentes!G:H,MATCH(T28,referentes!H:H,0),1))","v":""},{"$f":"IF(V28=\"\",\"\",INDEX(referentes!$M:$N,MATCH(V28,referentes!$N:$N,0),1))","v":""},{"$f":"IF(W28=\"\",\"\",INDEX(referentes!J:K,MATCH(W28,referentes!K:K,0),1))","v":""},null,{"$f":"IF(Y28<>\"\",CONCATENATE($A$3,P28,DIGITADOR!$M$1,Y28,ROW()),\"\")","v":""},{"$f":"IF(Y28<>\"\",CONCATENATE(P28,INT(Q28*1440),DIGITADOR!$M$1,Y28),\"\")","v":""},null,{"$f":"IF(AO28<>\"\",INDEX(referentes!$Y:$Z,MATCH(DATOS!AO28,referentes!$Z:$Z,0),1),\"\")","v":""},"","",{"$f":"IF(R28=\"\",\"\",INDEX(referentes!D:E,MATCH(R28,referentes!E:E,0),1))","v":""},null,null,null,null,null,null,null,null,null,{"$f":"IF(X28=\"\",\"\",INDEX(referentes!$AT:$AX,MATCH(X28,referentes!$AX:$AX,0),1))","v":""},null,null,{"$f":"IF(AC28=\"\",\"\",INDEX(referentes!AZ:BA,MATCH(AC28,referentes!BA:BA,0),1))","v":""},null,null,null,null,null,null,null,null,null,null,null,null,null,null,{"$f":"IF(N28<>\"\",INDEX(referentes!$AK:$AM,MATCH(DATOS!M28,referentes!$AK:$AK,0),3),\"\")","v":""},null,null,{"$f":"IF(AS28=\"\",\"\",INDEX(referentes!P:Q,MATCH(AS28,referentes!Q:Q,0),1))","v":""},null,null,null,{"$f":"IF(AY28=\"\",\"\",INDEX(referentes!AB:AC,MATCH(AY28,referentes!AC:AC,0),1))","v":""},null,{"$f":"IF(BA28=\"\",\"\",INDEX(referentes!S:T,MATCH(BA28,referentes!T:T,0),1))","v":""},null,null,{"$f":"IF(AA28=\"\",\"\",INDEX(OtrasReferencias!$AM$7:$AN$9,MATCH(AA28,OtrasReferencias!$AM$7:$AM$9,0),2))","v":""}]
[null,null,"","",{"$f":"IF(T29=\"\",\"\",INDEX(referentes!G:H,MATCH(T29,referentes!H:H,0),1))","v":""},{"$f":"IF(V29=\"\",\"\",INDEX(referentes!$M:$N,MATCH(V29,referentes!$N:$N,0),1))","v":""},{"$f":"IF(W29=\"\",\"\",INDEX(referentes!J:K,MATCH(W29,referentes!K:K,0),1))","v":""},null,{"$f":"IF(Y29<>\"\",CONCATENATE($A$3,P29,DIGITADOR!$M$1,Y29,ROW()),\"\")","v":""},{"$f":"IF(Y29<>\"\",CONCATENATE(P29,INT(Q29*1440),DIGITADOR!$M$1,Y29),\"\")","v":""},null,{"$f":"IF(AO29<>\"\",INDEX(referentes!$Y:$Z,MATCH(DATOS!AO29,referentes!$Z:$Z,0),1),\"\")","v":""},"","",{"$f":"IF(R29=\"\",\"\",INDEX(referentes!D:E,MATCH(R29,referentes!E:E,0),1))","v":""},null,null,null,null,null,null,null,null,null,{"$f":"IF(X29=\"\",\"\",INDEX(referentes!$AT:$AX,MATCH(X29,referentes!$AX:$AX,0),1))","v":""},null,null,{"$f":"IF(AC29=\"\",\"\",INDEX(referentes!AZ:BA,MATCH(AC29,referentes!BA:BA,0),1))","v":""},null,null,null,null,null,null,null,null,null,null,null,null,null,null,{"$f":"IF(N29<>\"\",INDEX(referentes!$AK:$AM,MATCH(DATOS!M29,referentes!$AK:$AK,0),3),\"\")","v":""},null,null,{"$f":"IF(AS29=\"\",\"\",INDEX(referentes!P:Q,MATCH(AS29,referentes!Q:Q,0),1))","v":""},null,null,null,{"$f":"IF(AY29=\"\",\"\",INDEX(referentes!AB:AC,MATCH(AY29,referentes!AC:AC,0),1))","v":""},null,{"$f":"IF(BA29=\"\",\"\",INDEX(referentes!S:T,MATCH(BA29,referentes!T:T,0),1))","v":""},null,null,{"$f":"IF(AA29=\"\",\"\",INDEX(OtrasReferencias!$AM$7:$AN$9,MATCH(AA29,OtrasReferencias!$AM$7:$AM$9,0),2))","v":""}]
[null,null,"","",{"$f":"IF(T30=\"\",\"\",INDEX(referentes!G:H,MATCH(T30,referentes!H:H,0),1))","v":""},{"$f":"IF(V30=\"\",\"\",INDEX(referentes!$M:$N,MATCH(V30,referentes!$N:$N,0),1))","v":""},{"$f":"IF(W30=\"\",\"\",INDEX(referentes!J:K,MATCH(W30,referentes!K:K,0),1))","v":""},null,{"$f":"IF(Y30<>\"\",CONCATENATE($A$3,P30,DIGITADOR!$M$1,Y30,ROW()),\"\")","v":""},{"$f":"IF(Y30<>\"\",CONCATENATE(P30,INT(Q30*1440),DIGITADOR!$M$1,Y30),\"\")","v":""},null,{"$f":"IF(AO30<>\"\",INDEX(referentes!$Y:$Z,MATCH(DATOS!AO30,referentes!$Z:$Z,0),1),\"\")","v":""},"","",{"$f":"IF(R30=\"\",\"\",INDEX(referentes!D:E,MATCH(R30,referentes!E:E,0),1))","v":""},null,null,null,null,null,null,null,null,null,{"$f":"IF(X30=\"\",\"\",INDEX(referentes!$AT:$AX,MATCH(X30,referentes!$AX:$AX,0),1))","v":""},null,null,{"$f":"IF(AC30=\"\",\"\",INDEX(referentes!AZ:BA,MATCH(AC30,referentes!BA:BA,0),1))","v":""},null,null,null,null,null,null,null,null,null,null,null,null,null,null,{"$f":"IF(N30<>\"\",INDEX(referentes!$AK:$AM,MATCH(DATOS!M30,referentes!$AK:$AK,0),3),\"\")","v":""},null,null,{"$f":"IF(AS30=\"\",\"\",INDEX(referentes!P:Q,MATCH(AS30,referentes!Q:Q,0),1))","v":""},null,null,null,{"$f":"IF(AY30=\"\",\"\",INDEX(referentes!AB:AC,MATCH(AY30,referentes!AC:AC,0),1))","v":""},null,{"$f":"IF(BA30=\"\",\"\",INDEX(referentes!S:T,MATCH(BA30,referentes!T:T,0),1))","v":""},null,null,{"$f":"IF(AA30=\"\",\"\",INDEX(OtrasReferencias!$AM$7:$AN$9,MATCH(AA30,OtrasReferencias!$AM$7:$AM$9,0),2))","v":""}]
[null,null,"","",{"$f":"IF(T31=\"\",\"\",INDEX(referentes!G:H,MATCH(T31,referentes!H:H,0),1))","v":""},{"$f":"IF(V31=\"\",\"\",INDEX(referentes!$M:$N,MATCH(V31,referentes!$N:$N,0),1))","v":""},{"$f":"IF(W31=\"\",\"\",INDEX(referentes!J:K,MATCH(W31,referentes!K:K,0),1))","v":""},null,{"$f":"IF(Y31<>\"\",CONCATENATE($A$3,P31,DIGITADOR!$M$1,Y31,ROW()),\"\")","v":""},{"$f":"IF(Y31<>\"\",CONCATENATE(P31,INT(Q31*1440),DIGITADOR!$M$1,Y31),\"\")","v":""},null,{"$f":"IF(AO31<>\"\",INDEX(referentes!$Y:$Z,MATCH(DATOS!AO31,referentes!$Z:$Z,0),1),\"\")","v":""},"","",{"$f":"IF(R31=\"\",\"\",INDEX(referentes!D:E,MATCH(R31,referentes!E:E,0),1))","v":""},null,null,null,null,null,null,null,null,null,{"$f":"IF(X31=\"\",\"\",INDEX(referentes!$AT:$AX,MATCH(X31,referentes!$AX:$AX,0),1))","v":""},null,null,{"$f":"IF(AC31=\"\",\"\",INDEX(referentes!AZ:BA,MATCH(AC31,referentes!BA:BA,0),1))","v":""},null,null,null,null,null,null,null,null,null,null,null,null,null,null,{"$f":"IF(N31<>\"\",INDEX(referentes!$AK:$AM,MATCH(DATOS!M31,referentes!$AK:$AK,0),3),\"\")","v":""},null,null,{"$f":"IF(AS31=\"\",\"\",INDEX(referentes!P:Q,MATCH(AS31,referentes!Q:Q,0),1))","v":""},null,null,null,{"$f":"IF(AY31=\"\",\"\",INDEX(referentes!AB:AC,MATCH(AY31,referentes!AC:AC,0),1))","v":""},null,{"$f":"IF(BA31=\"\",\"\",INDEX(referentes!S:T,MATCH(BA31,referentes!T:T,0),1))","v":""},null,null,{"$f":"IF(AA31=\"\",\"\",INDEX(OtrasReferencias!$AM$7:$AN$9,MATCH(AA31,OtrasReferencias!$AM$7:$AM$9,0),2))","v":""}]
[null,null,"","",{"$f":"IF(T32=\"\",\"\",INDEX(referentes!G:H,MATCH(T32,referentes!H:H,0),1))","v":""},{"$f":"IF(V32=\"\",\"\",INDEX(referentes!$M:$N,MATCH(V32,referentes!$N:$N,0),1))","v":""},{"$f":"IF(W32=\"\",\"\",INDEX(referentes!J:K,MATCH(W32,referentes!K:K,0),1))","v":""},null,{"$f":"IF(Y32<>\"\",CONCATENATE($A$3,P32,DIGITADOR!$M$1,Y32,ROW()),\"\")","v":""},{"$f":"IF(Y32<>\"\",CONCATENATE(P32,INT(Q32*1440),DIGITADOR!$M$1,Y32),\"\")","v":""},null,{"$f":"IF(AO32<>\"\",INDEX(referentes!$Y:$Z,MATCH(DATOS!AO32,referentes!$Z:$Z,0),1),\"\")","v":""},"","",{"$f":"IF(R32=\"\",\"\",INDEX(referentes!D:E,MATCH(R32,referentes!E:E,0),1))","v":""},null,null,null,null,null,null,null,null,null,{"$f":"IF(X32=\"\",\"\",INDEX(referentes!$AT:$AX,MATCH(X32,referentes!$AX:$AX,0),1))","v":""},null,null,{"$f":"IF(AC32=\"\",\"\",INDEX(referentes!AZ:BA,MATCH(AC32,referentes!BA:BA,0),1))","v":""},null,null,null,null,null,null,null,null,null,null,null,null,null,null,{"$f":"IF(N32<>\"\",INDEX(referentes!$AK:$AM,MATCH(DATOS!M32,referentes!$AK:$AK,0),3),\"\")","v":""},null,null,{"$f":"IF(AS32=\"\",\"\",INDEX(referentes!P:Q,MATCH(AS32,referentes!Q:Q,0),1))","v":""},null,null,null,{"$f":"IF(AY32=\"\",\"\",INDEX(referentes!AB:AC,MATCH(AY32,referentes!AC:AC,0),1))","v":""},null,{"$f":"IF(BA32=\"\",\"\",INDEX(referentes!S:T,MATCH(BA32,referentes!T:T,0),1))","v":""},null,null,{"$f":"IF(AA32=\"\",\"\",INDEX(OtrasReferencias!$AM$7:$AN$9,MATCH(AA32,OtrasReferencias!$AM$7:$AM$9,0),2))","v":""}]
[null,null,"","",{"$f":"IF(T33=\"\",\"\",INDEX(referentes!G:H,MATCH(T33,referentes!H:H,0),1))","v":""},{"$f":"IF(V33=\"\",\"\",INDEX(referentes!$M:$N,MATCH(V33,referentes!$N:$N,0),1))","v":""},{"$f":"IF(W33=\"\",\"\",INDEX(referentes!J:K,MATCH(W33,referentes!K:K,0),1))","v":""},null,{"$f":"IF(Y33<>\"\",CONCATENATE($A$3,P33,DIGITADOR!$M$1,Y33,ROW()),\"\")","v":""},{"$f":"IF(Y33<>\"\",CONCATENATE(P33,INT(Q33*1440),DIGITADOR!$M$1,Y33),\"\")","v":""},null,{"$f":"IF(AO33<>\"\",INDEX(referentes!$Y:$Z,MATCH(DATOS!AO33,referentes!$Z:$Z,0),1),\"\")","v":""},"","",{"$f":"IF(R33=\"\",\"\",INDEX(referentes!D:E,MATCH(R33,referentes!E:E,0),1))","v":""},null,null,null,null,null,null,null,null,null,{"$f":"IF(X33=\"\",\"\",INDEX(referentes!$AT:$AX,MATCH(X33,referentes!$AX:$AX,0),1))","v":""},null,null,{"$f":"IF(AC33=\"\",\"\",INDEX(referentes!AZ:BA,MATCH(AC33,referentes!BA:BA,0),1))","v":""},null,null,null,null,null,null,null,null,null,null,null,null,null,null,{"$f":"IF(N33<>\"\",INDEX(referentes!$AK:$AM,MATCH(DATOS!M33,referentes!$AK:$AK,0),3),\"\")","v":""},null,null,{"$f":"IF(AS33=\"\",\"\",INDEX(referentes!P:Q,MATCH(AS33,referentes!Q:Q,0),1))","v":""},null,null,null,{"$f":"IF(AY33=\"\",\"\",INDEX(referentes!AB:AC,MATCH(AY33,referentes!AC:AC,0),1))","v":""},null,{"$f":"IF(BA33=\"\",\"\",INDEX(referentes!S:T,MATCH(BA33,referentes!T:T,0),1))","v":""},null,null,{"$f":"IF(AA33=\"\",\"\",INDEX(OtrasReferencias!$AM$7:$AN$9,MATCH(AA33,OtrasReferencias!$AM$7:$AM$9,0),2))","v":""}]
[null,null,"","",{"$f":"IF(T34=\"\",\"\",INDEX(referentes!G:H,MATCH(T34,referentes!H:H,0),1))","v":""},{"$f":"IF(V34=\"\",\"\",INDEX(referentes!$M:$N,MATCH(V34,referentes!$N:$N,0),1))","v":""},{"$f":"IF(W34=\"\",\"\",INDEX(referentes!J:K,MATCH(W34,referentes!K:K,0),1))","v":""},null,{"$f":"IF(Y34<>\"\",CONCATENATE($A$3,P34,DIGITADOR!$M$1,Y34,ROW()),\"\")","v":""},{"$f":"IF(Y34<>\"\",CONCATENATE(P34,INT(Q34*1440),DIGITADOR!$M$1,Y34),\"\")","v":""},null,{"$f":"IF(AO34<>\"\",INDEX(referentes!$Y:$Z,MATCH(DATOS!AO34,referentes!$Z:$Z,0),1),\"\")","v":""},"","",{"$f":"IF(R34=\"\",\"\",INDEX(referentes!D:E,MATCH(R34,referentes!E:E,0),1))","v":""},null,null,null,null,null,null,null,null,null,{"$f":"IF(X34=\"\",\"\",INDEX(referentes!$AT:$AX,MATCH(X34,referentes!$AX:$AX,0),1))","v":""},null,null,{"$f":"IF(AC34=\"\",\"\",INDEX(referentes!AZ:BA,MATCH(AC34,referentes!BA:BA,0),1))","v":""},null,null,null,null,null,null,null,null,null,null,null,null,null,null,{"$f":"IF(N34<>\"\",INDEX(referentes!$AK:$AM,MATCH(DATOS!M34,referentes!$AK:$AK,0),3),\"\")","v":""},null,null,{"$f":"IF(AS34=\"\",\"\",INDEX(referentes!P:Q,MATCH(AS34,referentes!Q:Q,0),1))","v":""},null,null,null,{"$f":"IF(AY34=\"\",\"\",INDEX(referentes!AB:AC,MATCH(AY34,referentes!AC:AC,0),1))","v":""},null,{"$f":"IF(BA34=\"\",\"\",INDEX(referentes!S:T,MATCH(BA34,referentes!T:T,0),1))","v":""},null,null,{"$f":"IF(AA34=\"\",\"\",INDEX(OtrasReferencias!$AM$7:$AN$9,MATCH(AA34,OtrasReferencias!$AM$7:$AM$9,0),2))","v":""}]
[null,null,"","",{"$f":"IF(T35=\"\",\"\",INDEX(referentes!G:H,MATCH(T35,referentes!H:H,0),1))","v":""},{"$f":"IF(V35=\"\",\"\",INDEX(referentes!$M:$N,MATCH(V35,referentes!$N:$N,0),1))","v":""},{"$f":"IF(W35=\"\",\"\",INDEX(referentes!J:K,MATCH(W35,referentes!K:K,0),1))","v":""},null,{"$f":"IF(Y35<>\"\",CONCATENATE($A$3,P35,DIGITADOR!$M$1,Y35,ROW()),\"\")","v":""},{"$f":"IF(Y35<>\"\",CONCATENATE(P35,INT(Q35*1440),DIGITADOR!$M$1,Y35),\"\")","v":""},null,{"$f":"IF(AO35<>\"\",INDEX(referentes!$Y:$Z,MATCH(DATOS!AO35,referentes!$Z:$Z,0),1),\"\")","v":""},"","",{"$f":"IF(R35=\"\",\"\",INDEX(referentes!D:E,MATCH(R35,referentes!E:E,0),1))","v":""},null,null,null,null,null,null,null,null,null,{"$f":"IF(X35=\"\",\"\",INDEX(referentes!$AT:$AX,MATCH(X35,referentes!$AX:$AX,0),1))","v":""},null,null,{"$f":"IF(AC35=\"\",\"\",INDEX(referentes!AZ:BA,MATCH(AC35,referentes!BA:BA,0),1))","v":""},null,null,null,null,null,null,null,null,null,null,null,null,null,null,{"$f":"IF(N35<>\"\",INDEX(referentes!$AK:$AM,MATCH(DATOS!M35,referentes!$AK:$AK,0),3),\"\")","v":""},null,null,{"$f":"IF(AS35=\"\",\"\",INDEX(referentes!P:Q,MATCH(AS35,referentes!Q:Q,0),1))","v":""},null,null,null,{"$f":"IF(AY35=\"\",\"\",INDEX(referentes!AB:AC,MATCH(AY35,referentes!AC:AC,0),1))","v":""},null,{"$f":"IF(BA35=\"\",\"\",INDEX(referentes!S:T,MATCH(BA35,referentes!T:T,0),1))","v":""},null,null,{"$f":"IF(AA35=\"\",\"\",INDEX(OtrasReferencias!$AM$7:$AN$9,MATCH(AA35,OtrasReferencias!$AM$7:$AM$9,0),2))","v":""}]
[null,null,"","",{"$f":"IF(T36=\"\",\"\",INDEX(referentes!G:H,MATCH(T36,referentes!H:H,0),1))","v":""},{"$f":"IF(V36=\"\",\"\",INDEX(referentes!$M:$N,MATCH(V36,referentes!$N:$N,0),1))","v":""},{"$f":"IF(W36=\"\",\"\",INDEX(referentes!J:K,MATCH(W36,referentes!K:K,0),1))","v":""},null,{"$f":"IF(Y36<>\"\",CONCATENATE($A$3,P36,DIGITADOR!$M$1,Y36,ROW()),\"\")","v":""},{"$f":"IF(Y36<>\"\",CONCATENATE(P36,INT(Q36*1440),DIGITADOR!$M$1,Y36),\"\")","v":""},null,{"$f":"IF(AO36<>\"\",INDEX(referentes!$Y:$Z,MATCH(DATOS!AO36,referentes!$Z:$Z,0),1),\"\")","v":""},"","",{"$f":"IF(R36=\"\",\"\",INDEX(referentes!D:E,MATCH(R36,referentes!E:E,0),1))","v":""},null,null,null,null,null,null,null,null,null,{"$f":"IF(X36=\"\",\"\",INDEX(referentes!$AT:$AX,MATCH(X36,referentes!$AX:$AX,0),1))","v":""},null,null,{"$f":"IF(AC36=\"\",\"\",INDEX(referentes!AZ:BA,MATCH(AC36,referentes!BA:BA,0),1))","v":""},null,null,null,null,null,null,null,null,null,null,null,null,null,null,{"$f":"IF(N36<>\"\",INDEX(referentes!$AK:$AM,MATCH(DATOS!M36,referentes!$AK:$AK,0),3),\"\")","v":""},null,null,{"$f":"IF(AS36=\"\",\"\",INDEX(referentes!P:Q,MATCH(AS36,referentes!Q:Q,0),1))","v":""},null,null,null,{"$f":"IF(AY36=\"\",\"\",INDEX(referentes!AB:AC,MATCH(AY36,referentes!AC:AC,0),1))","v":""},null,{"$f":"IF(BA36=\"\",\"\",INDEX(referentes!S:T,MATCH(BA36,referentes!T:T,0),1))","v":""},null,null,{"$f":"IF(AA36=\"\",\"\",INDEX(OtrasReferencias!$AM$7:$AN$9,MATCH(AA36,OtrasReferencias!$AM$7:$AM$9,0),2))","v":""}]
[null,null,"","",{"$f":"IF(T37=\"\",\"\",INDEX(referentes!G:H,MATCH(T37,referentes!H:H,0),1))","v":""},{"$f":"IF(V37=\"\",\"\",INDEX(referentes!$M:$N,MATCH(V37,referentes!$N:$N,0),1))","v":""},{"$f":"IF(W37=\"\",\"\",INDEX(referentes!J:K,MATCH(W37,referentes!K:K,0),1))","v":""},null,{"$f":"IF(Y37<>\"\",CONCATENATE($A$3,P37,DIGITADOR!$M$1,Y37,ROW()),\"\")","v":""},{"$f":"IF(Y37<>\"\",CONCATENATE(P37,INT(Q37*1440),DIGITADOR!$M$1,Y37),\"\")","v":""},null,{"$f":"IF(AO37<>\"\",INDEX(referentes!$Y:$Z,MATCH(DATOS!AO37,referentes!$Z:$Z,0),1),\"\")","v":""},"","",{"$f":"IF(R37=\"\",\"\",INDEX(referentes!D:E,MATCH(R37,referentes!E:E,0),1))","v":""},null,null,null,null,null,null,null,null,null,{"$f":"IF(X37=\"\",\"\",INDEX(referentes!$AT:$AX,MATCH(X37,referentes!$AX:$AX,0),1))","v":""},null,null,{"$f":"IF(AC37=\"\",\"\",INDEX(referentes!AZ:BA,MATCH(AC37,referentes!BA:BA,0),1))","v":""},null,null,null,null,null,null,null,null,null,null,null,null,null,null,{"$f":"IF(N37<>\"\",INDEX(referentes!$AK:$AM,MATCH(DATOS!M37,referentes!$AK:$AK,0),3),\"\")","v":""},null,null,{"$f":"IF(AS37=\"\",\"\",INDEX(referentes!P:Q,MATCH(AS37,referentes!Q:Q,0),1))","v":""},null,null,null,{"$f":"IF(AY37=\"\",\"\",INDEX(referentes!AB:AC,MATCH(AY37,referentes!AC:AC,0),1))","v":""},null,{"$f":"IF(BA37=\"\",\"\",INDEX(referentes!S:T,MATCH(BA37,referentes!T:T,0),1))","v":""},null,null,{"$f":"IF(AA37=\"\",\"\",INDEX(OtrasReferencias!$AM$7:$AN$9,MATCH(AA37,OtrasReferencias!$AM$7:$AM$9,0),2))","v":""}]
[null,null,"","",{"$f":"IF(T38=\"\",\"\",INDEX(referentes!G:H,MATCH(T38,referentes!H:H,0),1))","v":""},{"$f":"IF(V38=\"\",\"\",INDEX(referentes!$M:$N,MATCH(V38,referentes!$N:$N,0),1))","v":""},{"$f":"IF(W38=\"\",\"\",INDEX(referentes!J:K,MATCH(W38,referentes!K:K,0),1))","v":""},null,{"$f":"IF(Y38<>\"\",CONCATENATE($A$3,P38,DIGITADOR!$M$1,Y38,ROW()),\"\")","v":""},{"$f":"IF(Y38<>\"\",CONCATENATE(P38,INT(Q38*1440),DIGITADOR!$M$1,Y38),\"\")","v":""},null,{"$f":"IF(AO38<>\"\",INDEX(referentes!$Y:$Z,MATCH(DATOS!AO38,referentes!$Z:$Z,0),1),\"\")","v":""},"","",{"$f":"IF(R38=\"\",\"\",INDEX(referentes!D:E,MATCH(R38,referentes!E:E,0),1))","v":""},null,null,null,null,null,null,null,null,null,{"$f":"IF(X38=\"\",\"\",INDEX(referentes!$AT:$AX,MATCH(X38,referentes!$AX:$AX,0),1))","v":""},null,null,{"$f":"IF(AC38=\"\",\"\",INDEX(referentes!AZ:BA,MATCH(AC38,referentes!BA:BA,0),1))","v":""},null,null,null,null,null,null,null,null,null,null,null,null,null,null,{"$f":"IF(N38<>\"\",INDEX(referentes!$AK:$AM,MATCH(DATOS!M38,referentes!$AK:$AK,0),3),\"\")","v":""},null,null,{"$f":"IF(AS38=\"\",\"\",INDEX(referentes!P:Q,MATCH(AS38,referentes!Q:Q,0),1))","v":""},null,null,null,{"$f":"IF(AY38=\"\",\"\",INDEX(referentes!AB:AC,MATCH(AY38,referentes!AC:AC,0),1))","v":""},null,{"$f":"IF(BA38=\"\",\"\",INDEX(referentes!S:T,MATCH(BA38,referentes!T:T,0),1))","v":""},null,null,{"$f":"IF(AA38=\"\",\"\",INDEX(OtrasReferencias!$AM$7:$AN$9,MATCH(AA38,OtrasReferencias!$AM$7:$AM$9,0),2))","v":""}]
[null,null,"","",{"$f":"IF(T39=\"\",\"\",INDEX(referentes!G:H,MATCH(T39,referentes!H:H,0),1))","v":""},{"$f":"IF(V39=\"\",\"\",INDEX(referentes!$M:$N,MATCH(V39,referentes!$N:$N,0),1))","v":""},{"$f":"IF(W39=\"\",\"\",INDEX(referentes!J:K,MATCH(W39,referentes!K:K,0),1))","v":""},null,{"$f":"IF(Y39<>\"\",CONCATENATE($A$3,P39,DIGITADOR!$M$1,Y39,ROW()),\"\")","v":""},{"$f":"IF(Y39<>\"\",CONCATENATE(P39,INT(Q39*1440),DIGITADOR!$M$1,Y39),\"\")","v":""},null,{"$f":"IF(AO39<>\"\",INDEX(referentes!$Y:$Z,MATCH(DATOS!AO39,referentes!$Z:$Z,0),1),\"\")","v":""},"","",{"$f":"IF(R39=\"\",\"\",INDEX(referentes!D:E,MATCH(R39,referentes!E:E,0),1))","v":""},null,null,null,null,null,null,null,null,null,{"$f":"IF(X39=\"\",\"\",INDEX(referentes!$AT:$AX,MATCH(X39,referentes!$AX:$AX,0),1))","v":""},null,null,{"$f":"IF(AC39=\"\",\"\",INDEX(referentes!AZ:BA,MATCH(AC39,referentes!BA:BA,0),1))","v":""},null,null,null,null,null,null,null,null,null,null,null,null,null,null,{"$f":"IF(N39<>\"\",INDEX(referentes!$AK:$AM,MATCH(DATOS!M39,referentes!$AK:$AK,0),3),\"\")","v":""},null,null,{"$f":"IF(AS39=\"\",\"\",INDEX(referentes!P:Q,MATCH(AS39,referentes!Q:Q,0),1))","v":""},null,null,null,{"$f":"IF(AY39=\"\",\"\",INDEX(referentes!AB:AC,MATCH(AY39,referentes!AC:AC,0),1))","v":""},null,{"$f":"IF(BA39=\"\",\"\",INDEX(referentes!S:T,MATCH(BA39,referentes!T:T,0),1))","v":""},null,null,{"$f":"IF(AA39=\"\",\"\",INDEX(OtrasReferencias!$AM$7:$AN$9,MATCH(AA39,OtrasReferencias!$AM$7:$AM$9,0),2))","v":""}]
[null,null,"","",{"$f":"IF(T40=\"\",\"\",INDEX(referentes!G:H,MATCH(T40,referentes!H:H,0),1))","v":""},{"$f":"IF(V40=\"\",\"\",INDEX(referentes!$M:$N,MATCH(V40,referentes!$N:$N,0),1))","v":""},{"$f":"IF(W40=\"\",\"\",INDEX(referentes!J:K,MATCH(W40,referentes!K:K,0),1))","v":""},null,{"$f":"IF(Y40<>\"\",CONCATENATE($A$3,P40,DIGITADOR!$M$1,Y40,ROW()),\"\")","v":""},{"$f":"IF(Y40<>\"\",CONCATENATE(P40,INT(Q40*1440),DIGITADOR!$M$1,Y40),\"\")","v":""},null,{"$f":"IF(AO40<>\"\",INDEX(referentes!$Y:$Z,MATCH(DATOS!AO40,referentes!$Z:$Z,0),1),\"\")","v":""},"","",{"$f":"IF(R40=\"\",\"\",INDEX(referentes!D:E,MATCH(R40,referentes!E:E,0),1))","v":""},null,null,null,null,null,null,null,null,null,{"$f":"IF(X40=\"\",\"\",INDEX(referentes!$AT:$AX,MATCH(X40,referentes!$AX:$AX,0),1))","v":""},null,null,{"$f":"IF(AC40=\"\",\"\",INDEX(referentes!AZ:BA,MATCH(AC40,referentes!BA:BA,0),1))","v":""},null,null,null,null,null,null,null,null,null,null,null,null,null,null,{"$f":"IF(N40<>\"\",INDEX(referentes!$AK:$AM,MATCH(DATOS!M40,referentes!$AK:$AK,0),3),\"\")","v":""},null,null,{"$f":"IF(AS40=\"\",\"\",INDEX(referentes!P:Q,MATCH(AS40,referentes!Q:Q,0),1))","v":""},null,null,null,{"$f":"IF(AY40=\"\",\"\",INDEX(referentes!AB:AC,MATCH(AY40,referentes!AC:AC,0),1))","v":""},null,{"$f":"IF(BA40=\"\",\"\",INDEX(referentes!S:T,MATCH(BA40,referentes!T:T,0),1))","v":""},null,null,{"$f":"IF(AA40=\"\",\"\",INDEX(OtrasReferencias!$AM$7:$AN$9,MATCH(AA40,OtrasReferencias!$AM$7:$AM$9,0),2))","v":""}]
[null,null,"","",{"$f":"IF(T41=\"\",\"\",INDEX(referentes!G:H,MATCH(T41,referentes!H:H,0),1))","v":""},{"$f":"IF(V41=\"\",\"\",INDEX(referentes!$M:$N,MATCH(V41,referentes!$N:$N,0),1))","v":""},{"$f":"IF(W41=\"\",\"\",INDEX(referentes!J:K,MATCH(W41,referentes!K:K,0),1))","v":""},null,{"$f":"IF(Y41<>\"\",CONCATENATE($A$3,P41,DIGITADOR!$M$1,Y41,ROW()),\"\")","v":""},{"$f":"IF(Y41<>\"\",CONCATENATE(P41,INT(Q41*1440),DIGITADOR!$M$1,Y41),\"\")","v":""},null,{"$f":"IF(AO41<>\"\",INDEX(referentes!$Y:$Z,MATCH(DATOS!AO41,referentes!$Z:$Z,0),1),\"\")","v":""},"","",{"$f":"IF(R41=\"\",\"\",INDEX(referentes!D:E,MATCH(R41,referentes!E:E,0),1))","v":""},null,null,null,null,null,null,null,null,null,{"$f":"IF(X41=\"\",\"\",INDEX(referentes!$AT:$AX,MATCH(X41,referentes!$AX:$AX,0),1))","v":""},null,null,{"$f":"IF(AC41=\"\",\"\",INDEX(referentes!AZ:BA,MATCH(AC41,referentes!BA:BA,0),1))","v":""},null,null,null,null,null,null,null,null,null,null,null,null,null,null,{"$f":"IF(N41<>\"\",INDEX(referentes!$AK:$AM,MATCH(DATOS!M41,referentes!$AK:$AK,0),3),\"\")","v":""},null,null,{"$f":"IF(AS41=\"\",\"\",INDEX(referentes!P:Q,MATCH(AS41,referentes!Q:Q,0),1))","v":""},null,null,null,{"$f":"IF(AY41=\"\",\"\",INDEX(referentes!AB:AC,MATCH(AY41,referentes!AC:AC,0),1))","v":""},null,{"$f":"IF(BA41=\"\",\"\",INDEX(referentes!S:T,MATCH(BA41,referentes!T:T,0),1))","v":""},null,null,{"$f":"IF(AA41=\"\",\"\",INDEX(OtrasReferencias!$AM$7:$AN$9,MATCH(AA41,OtrasReferencias!$AM$7:$AM$9,0),2))","v":""}]
[null,null,"","",{"$f":"IF(T42=\"\",\"\",INDEX(referentes!G:H,MATCH(T42,referentes!H:H,0),1))","v":""},{"$f":"IF(V42=\"\",\"\",INDEX(referentes!$M:$N,MATCH(V42,referentes!$N:$N,0),1))","v":""},{"$f":"IF(W42=\"\",\"\",INDEX(referentes!J:K,MATCH(W42,referentes!K:K,0),1))","v":""},null,{"$f":"IF(Y42<>\"\",CONCATENATE($A$3,P42,DIGITADOR!$M$1,Y42,ROW()),\"\")","v":""},{"$f":"IF(Y42<>\"\",CONCATENATE(P42,INT(Q42*1440),DIGITADOR!$M$1,Y42),\"\")","v":""},null,{"$f":"IF(AO42<>\"\",INDEX(referentes!$Y:$Z,MATCH(DATOS!AO42,referentes!$Z:$Z,0),1),\"\")","v":""},"","",{"$f":"IF(R42=\"\",\"\",INDEX(referentes!D:E,MATCH(R42,referentes!E:E,0),1))","v":""},null,null,null,null,null,null,null,null,null,{"$f":"IF(X42=\"\",\"\",INDEX(referentes!$AT:$AX,MATCH(X42,referentes!$AX:$AX,0),1))","v":""},null,null,{"$f":"IF(AC42=\"\",\"\",INDEX(referentes!AZ:BA,MATCH(AC42,referentes!BA:BA,0),1))","v":""},null,null,null,null,null,null,null,null,null,null,null,null,null,null,{"$f":"IF(N42<>\"\",INDEX(referentes!$AK:$AM,MATCH(DATOS!M42,referentes!$AK:$AK,0),3),\"\")","v":""},null,null,{"$f":"IF(AS42=\"\",\"\",INDEX(referentes!P:Q,MATCH(AS42,referentes!Q:Q,0),1))","v":""},null,null,null,{"$f":"IF(AY42=\"\",\"\",INDEX(referentes!AB:AC,MATCH(AY42,referentes!AC:AC,0),1))","v":""},null,{"$f":"IF(BA42=\"\",\"\",INDEX(referentes!S:T,MATCH(BA42,referentes!T:T,0),1))","v":""},null,null,{"$f":"IF(AA42=\"\",\"\",INDEX(OtrasReferencias!$AM$7:$AN$9,MATCH(AA42,OtrasReferencias!$AM$7:$AM$9,0),2))","v":""}]
[null,null,"","",{"$f":"IF(T43=\"\",\"\",INDEX(referentes!G:H,MATCH(T43,referentes!H:H,0),1))","v":""},{"$f":"IF(V43=\"\",\"\",INDEX(referentes!$M:$N,MATCH(V43,referentes!$N:$N,0),1))","v":""},{"$f":"IF(W43=\"\",\"\",INDEX(referentes!J:K,MATCH(W43,referentes!K:K,0),1))","v":""},null,{"$f":"IF(Y43<>\"\",CONCATENATE($A$3,P43,DIGITADOR!$M$1,Y43,ROW()),\"\")","v":""},{"$f":"IF(Y43<>\"\",CONCATENATE(P43,INT(Q43*1440),DIGITADOR!$M$1,Y43),\"\")","v":""},null,{"$f":"IF(AO43<>\"\",INDEX(referentes!$Y:$Z,MATCH(DATOS!AO43,referentes!$Z:$Z,0),1),\"\")","v":""},"","",{"$f":"IF(R43=\"\",\"\",INDEX(referentes!D:E,MATCH(R43,referentes!E:E,0),1))","v":""},null,null,null,null,null,null,null,null,null,{"$f":"IF(X43=\"\",\"\",INDEX(referentes!$AT:$AX,MATCH(X43,referentes!$AX:$AX,0),1))","v":""},null,null,{"$f":"IF(AC43=\"\",\"\",INDEX(referentes!AZ:BA,MATCH(AC43,referentes!BA:BA,0),1))","v":""},null,null,null,null,null,null,null,null,null,null,null,null,null,null,{"$f":"IF(N43<>\"\",INDEX(referentes!$AK:$AM,MATCH(DATOS!M43,referentes!$AK:$AK,0),3),\"\")","v":""},null,null,{"$f":"IF(AS43=\"\",\"\",INDEX(referentes!P:Q,MATCH(AS43,referentes!Q:Q,0),1))","v":""},null,null,null,{"$f":"IF(AY43=\"\",\"\",INDEX(referentes!AB:AC,MATCH(AY43,referentes!AC:AC,0),1))","v":""},null,{"$f":"IF(BA43=\"\",\"\",INDEX(referentes!S:T,MATCH(BA43,referentes!T:T,0),1))","v":""},null,null,{"$f":"IF(AA43=\"\",\"\",INDEX(OtrasReferencias!$AM$7:$AN$9,MATCH(AA43,OtrasReferencias!$AM$7:$AM$9,0),2))","v":""}]
[null,null,"","",{"$f":"IF(T44=\"\",\"\",INDEX(referentes!G:H,MATCH(T44,referentes!H:H,0),1))","v":""},{"$f":"IF(V44=\"\",\"\",INDEX(referentes!$M:$N,MATCH(V44,referentes!$N:$N,0),1))","v":""},{"$f":"IF(W44=\"\",\"\",INDEX(referentes!J:K,MATCH(W44,referentes!K:K,0),1))","v":""},null,{"$f":"IF(Y44<>\"\",CONCATENATE($A$3,P44,DIGITADOR!$M$1,Y44,ROW()),\"\")","v":""},{"$f":"IF(Y44<>\"\",CONCATENATE(P44,INT(Q44*1440),DIGITADOR!$M$1,Y44),\"\")","v":""},null,{"$f":"IF(AO44<>\"\",INDEX(referentes!$Y:$Z,MATCH(DATOS!AO44,referentes!$Z:$Z,0),1),\"\")","v":""},"","",{"$f":"IF(R44=\"\",\"\",INDEX(referentes!D:E,MATCH(R44,referentes!E:E,0),1))","v":""},null,null,null,null,null,null,null,null,null,{"$f":"IF(X44=\"\",\"\",INDEX(referentes!$AT:$AX,MATCH(X44,referentes!$AX:$AX,0),1))","v":""},null,null,{"$f":"IF(AC44=\"\",\"\",INDEX(referentes!AZ:BA,MATCH(AC44,referentes!BA:BA,0),1))","v":""},null,null,null,null,null,null,null,null,null,null,null,null,null,null,{"$f":"IF(N44<>\"\",INDEX(referentes!$AK:$AM,MATCH(DATOS!M44,referentes!$AK:$AK,0),3),\"\")","v":""},null,null,{"$f":"IF(AS44=\"\",\"\",INDEX(referentes!P:Q,MATCH(AS44,referentes!Q:Q,0),1))","v":""},null,null,null,{"$f":"IF(AY44=\"\",\"\",INDEX(referentes!AB:AC,MATCH(AY44,referentes!AC:AC,0),1))","v":""},null,{"$f":"IF(BA44=\"\",\"\",INDEX(referentes!S:T,MATCH(BA44,referentes!T:T,0),1))","v":""},null,null,{"$f":"IF(AA44=\"\",\"\",INDEX(OtrasReferencias!$AM$7:$AN$9,MATCH(AA44,OtrasReferencias!$AM$7:$AM$9,0),2))","v":""}]
[null,null,"","",{"$f":"IF(T45=\"\",\"\",INDEX(referentes!G:H,MATCH(T45,referentes!H:H,0),1))","v":""},{"$f":"IF(V45=\"\",\"\",INDEX(referentes!$M:$N,MATCH(V45,referentes!$N:$N,0),1))","v":""},{"$f":"IF(W45=\"\",\"\",INDEX(referentes!J:K,MATCH(W45,referentes!K:K,0),1))","v":""},null,{"$f":"IF(Y45<>\"\",CONCATENATE($A$3,P45,DIGITADOR!$M$1,Y45,ROW()),\"\")","v":""},{"$f":"IF(Y45<>\"\",CONCATENATE(P45,INT(Q45*1440),DIGITADOR!$M$1,Y45),\"\")","v":""},null,{"$f":"IF(AO45<>\"\",INDEX(referentes!$Y:$Z,MATCH(DATOS!AO45,referentes!$Z:$Z,0),1),\"\")","v":""},"","",{"$f":"IF(R45=\"\",\"\",INDEX(referentes!D:E,MATCH(R45,referentes!E:E,0),1))","v":""},null,null,null,null,null,null,null,null,null,{"$f":"IF(X45=\"\",\"\",INDEX(referentes!$AT:$AX,MATCH(X45,referentes!$AX:$AX,0),1))","v":""},null,null,{"$f":"IF(AC45=\"\",\"\",INDEX(referentes!AZ:BA,MATCH(AC45,referentes!BA:BA,0),1))","v":""},null,null,null,null,null,null,null,null,null,null,null,null,null,null,{"$f":"IF(N45<>\"\",INDEX(referentes!$AK:$AM,MATCH(DATOS!M45,referentes!$AK:$AK,0),3),\"\")","v":""},null,null,{"$f":"IF(AS45=\"\",\"\",INDEX(referentes!P:Q,MATCH(AS45,referentes!Q:Q,0),1))","v":""},null,null,null,{"$f":"IF(AY45=\"\",\"\",INDEX(referentes!AB:AC,MATCH(AY45,referentes!AC:AC,0),1))","v":""},null,{"$f":"IF(BA45=\"\",\"\",INDEX(referentes!S:T,MATCH(BA45,referentes!T:T,0),1))","v":""},null,null,{"$f":"IF(AA45=\"\",\"\",INDEX(OtrasReferencias!$AM$7:$AN$9,MATCH(AA45,OtrasReferencias!$AM$7:$AM$9,0),2))","v":""}]
[null,null,"","",{"$f":"IF(T46=\"\",\"\",INDEX(referentes!G:H,MATCH(T46,referentes!H:H,0),1))","v":""},{"$f":"IF(V46=\"\",\"\",INDEX(referentes!$M:$N,MATCH(V46,referentes!$N:$N,0),1))","v":""},{"$f":"IF(W46=\"\",\"\",INDEX(referentes!J:K,MATCH(W46,referentes!K:K,0),1))","v":""},null,{"$f":"IF(Y46<>\"\",CONCATENATE($A$3,P46,DIGITADOR!$M$1,Y46,ROW()),\"\")","v":""},{"$f":"IF(Y46<>\"\",CONCATENATE(P46,INT(Q46*1440),DIGITADOR!$M$1,Y46),\"\")","v":""},null,{"$f":"IF(AO46<>\"\",INDEX(referentes!$Y:$Z,MATCH(DATOS!AO46,referentes!$Z:$Z,0),1),\"\")","v":""},"","",{"$f":"IF(R46=\"\",\"\",INDEX(referentes!D:E,MATCH(R46,referentes!E:E,0),1))","v":""},null,null,null,null,null,null,null,null,null,{"$f":"IF(X46=\"\",\"\",INDEX(referentes!$AT:$AX,MATCH(X46,referentes!$AX:$AX,0),1))","v":""},null,null,{"$f":"IF(AC46=\"\",\"\",INDEX(referentes!AZ:BA,MATCH(AC46,referentes!BA:BA,0),1))","v":""},null,null,null,null,null,null,null,null,null,null,null,null,null,null,{"$f":"IF(N46<>\"\",INDEX(referentes!$AK:$AM,MATCH(DATOS!M46,referentes!$AK:$AK,0),3),\"\")","v":""},null,null,{"$f":"IF(AS46=\"\",\"\",INDEX(referentes!P:Q,MATCH(AS46,referentes!Q:Q,0),1))","v":""},null,null,null,{"$f":"IF(AY46=\"\",\"\",INDEX(referentes!AB:AC,MATCH(AY46,referentes!AC:AC,0),1))","v":""},null,{"$f":"IF(BA46=\"\",\"\",INDEX(referentes!S:T,MATCH(BA46,referentes!T:T,0),1))","v":""},null,null,{"$f":"IF(AA46=\"\",\"\",INDEX(OtrasReferencias!$AM$7:$AN$9,MATCH(AA46,OtrasReferencias!$AM$7:$AM$9,0),2))","v":""}]
[null,null,"","",{"$f":"IF(T47=\"\",\"\",INDEX(referentes!G:H,MATCH(T47,referentes!H:H,0),1))","v":""},{"$f":"IF(V47=\"\",\"\",INDEX(referentes!$M:$N,MATCH(V47,referentes!$N:$N,0),1))","v":""},{"$f":"IF(W47=\"\",\"\",INDEX(referentes!J:K,MATCH(W47,referentes!K:K,0),1))","v":""},null,{"$f":"IF(Y47<>\"\",CONCATENATE($A$3,P47,DIGITADOR!$M$1,Y47,ROW()),\"\")","v":""},{"$f":"IF(Y47<>\"\",CONCATENATE(P47,INT(Q47*1440),DIGITADOR!$M$1,Y47),\"\")","v":""},null,{"$f":"IF(AO47<>\"\",INDEX(referentes!$Y:$Z,MATCH(DATOS!AO47,referentes!$Z:$Z,0),1),\"\")","v":""},"","",{"$f":"IF(R47=\"\",\"\",INDEX(referentes!D:E,MATCH(R47,referentes!E:E,0),1))","v":""},null,null,null,null,null,null,null,null,null,{"$f":"IF(X47=\"\",\"\",INDEX(referentes!$AT:$AX,MATCH(X47,referentes!$AX:$AX,0),1))","v":""},null,null,{"$f":"IF(AC47=\"\",\"\",INDEX(referentes!AZ:BA,MATCH(AC47,referentes!BA:BA,0),1))","v":""},null,null,null,null,null,null,null,null,null,null,null,null,null,null,{"$f":"IF(N47<>\"\",INDEX(referentes!$AK:$AM,MATCH(DATOS!M47,referentes!$AK:$AK,0),3),\"\")","v":""},null,null,{"$f":"IF(AS47=\"\",\"\",INDEX(referentes!P:Q,MATCH(AS47,referentes!Q:Q,0),1))","v":""},null,null,null,{"$f":"IF(AY47=\"\",\"\",INDEX(referentes!AB:AC,MATCH(AY47,referentes!AC:AC,0),1))","v":""},null,{"$f":"IF(BA47=\"\",\"\",INDEX(referentes!S:T,MATCH(BA47,referentes!T:T,0),1))","v":""},null,null,{"$f":"IF(AA47=\"\",\"\",INDEX(OtrasReferencias!$AM$7:$AN$9,MATCH(AA47,OtrasReferencias!$AM$7:$AM$9,0),2))","v":""}]
[null,null,"","",{"$f":"IF(T48=\"\",\"\",INDEX(referentes!G:H,MATCH(T48,referentes!H:H,0),1))","v":""},{"$f":"IF(V48=\"\",\"\",INDEX(referentes!$M:$N,MATCH(V48,referentes!$N:$N,0),1))","v":""},{"$f":"IF(W48=\"\",\"\",INDEX(referentes!J:K,MATCH(W48,referentes!K:K,0),1))","v":""},null,{"$f":"IF(Y48<>\"\",CONCATENATE($A$3,P48,DIGITADOR!$M$1,Y48,ROW()),\"\")","v":""},{"$f":"IF(Y48<>\"\",CONCATENATE(P48,INT(Q48*1440),DIGITADOR!$M$1,Y48),\"\")","v":""},null,{"$f":"IF(AO48<>\"\",INDEX(referentes!$Y:$Z,MATCH(DATOS!AO48,referentes!$Z:$Z,0),1),\"\")","v":""},"","",{"$f":"IF(R48=\"\",\"\",INDEX(referentes!D:E,MATCH(R48,referentes!E:E,0),1))","v":""},null,null,null,null,null,null,null,null,null,{"$f":"IF(X48=\"\",\"\",INDEX(referentes!$AT:$AX,MATCH(X48,referentes!$AX:$AX,0),1))","v":""},null,null,{"$f":"IF(AC48=\"\",\"\",INDEX(referentes!AZ:BA,MATCH(AC48,referentes!BA:BA,0),1))","v":""},null,null,null,null,null,null,null,null,null,null,null,null,null,null,{"$f":"IF(N48<>\"\",INDEX(referentes!$AK:$AM,MATCH(DATOS!M48,referentes!$AK:$AK,0),3),\"\")","v":""},null,null,{"$f":"IF(AS48=\"\",\"\",INDEX(referentes!P:Q,MATCH(AS48,referentes!Q:Q,0),1))","v":""},null,null,null,{"$f":"IF(AY48=\"\",\"\",INDEX(referentes!AB:AC,MATCH(AY48,referentes!AC:AC,0),1))","v":""},null,{"$f":"IF(BA48=\"\",\"\",INDEX(referentes!S:T,MATCH(BA48,referentes!T:T,0),1))","v":""},null,null,{"$f":"IF(AA48=\"\",\"\",INDEX(OtrasReferencias!$AM$7:$AN$9,MATCH(AA48,OtrasReferencias!$AM$7:$AM$9,0),2))","v":""}]
[null,null,"","",{"$f":"IF(T49=\"\",\"\",INDEX(referentes!G:H,MATCH(T49,referentes!H:H,0),1))","v":""},{"$f":"IF(V49=\"\",\"\",INDEX(referentes!$M:$N,MATCH(V49,referentes!$N:$N,0),1))","v":""},{"$f":"IF(W49=\"\",\"\",INDEX(referentes!J:K,MATCH(W49,referentes!K:K,0),1))","v":""},null,{"$f":"IF(Y49<>\"\",CONCATENATE($A$3,P49,DIGITADOR!$M$1,Y49,ROW()),\"\")","v":""},{"$f":"IF(Y49<>\"\",CONCATENATE(P49,INT(Q49*1440),DIGITADOR!$M$1,Y49),\"\")","v":""},null,{"$f":"IF(AO49<>\"\",INDEX(referentes!$Y:$Z,MATCH(DATOS!AO49,referentes!$Z:$Z,0),1),\"\")","v":""},"","",{"$f":"IF(R49=\"\",\"\",INDEX(referentes!D:E,MATCH(R49,referentes!E:E,0),1))","v":""},null,null,null,null,null,null,null,null,null,{"$f":"IF(X49=\"\",\"\",INDEX(referentes!$AT:$AX,MATCH(X49,referentes!$AX:$AX,0),1))","v":""},null,null,{"$f":"IF(AC49=\"\",\"\",INDEX(referentes!AZ:BA,MATCH(AC49,referentes!BA:BA,0),1))","v":""},null,null,null,null,null,null,null,null,null,null,null,null,null,null,{"$f":"IF(N49<>\"\",INDEX(referentes!$AK:$AM,MATCH(DATOS!M49,referentes!$AK:$AK,0),3),\"\")","v":""},null,null,{"$f":"IF(AS49=\"\",\"\",INDEX(referentes!P:Q,MATCH(AS49,referentes!Q:Q,0),1))","v":""},null,null,null,{"$f":"IF(AY49=\"\",\"\",INDEX(referentes!AB:AC,MATCH(AY49,referentes!AC:AC,0),1))","v":""},null,{"$f":"IF(BA49=\"\",\"\",INDEX(referentes!S:T,MATCH(BA49,referentes!T:T,0),1))","v":""},null,null,{"$f":"IF(AA49=\"\",\"\",INDEX(OtrasReferencias!$AM$7:$AN$9,MATCH(AA49,OtrasReferencias!$AM$7:$AM$9,0),2))","v":""}]
[null,null,"","",{"$f":"IF(T50=\"\",\"\",INDEX(referentes!G:H,MATCH(T50,referentes!H:H,0),1))","v":""},{"$f":"IF(V50=\"\",\"\",INDEX(referentes!$M:$N,MATCH(V50,referentes!$N:$N,0),1))","v":""},{"$f":"IF(W50=\"\",\"\",INDEX(referentes!J:K,MATCH(W50,referentes!K:K,0),1))","v":""},null,{"$f":"IF(Y50<>\"\",CONCATENATE($A$3,P50,DIGITADOR!$M$1,Y50,ROW()),\"\")","v":""},{"$f":"IF(Y50<>\"\",CONCATENATE(P50,INT(Q50*1440),DIGITADOR!$M$1,Y50),\"\")","v":""},null,{"$f":"IF(AO50<>\"\",INDEX(referentes!$Y:$Z,MATCH(DATOS!AO50,referentes!$Z:$Z,0),1),\"\")","v":""},"","",{"$f":"IF(R50=\"\",\"\",INDEX(referentes!D:E,MATCH(R50,referentes!E:E,0),1))","v":""},null,null,null,null,null,null,null,null,null,{"$f":"IF(X50=\"\",\"\",INDEX(referentes!$AT:$AX,MATCH(X50,referentes!$AX:$AX,0),1))","v":""},null,null,{"$f":"IF(AC50=\"\",\"\",INDEX(referentes!AZ:BA,MATCH(AC50,referentes!BA:BA,0),1))","v":""},null,null,null,null,null,null,null,null,null,null,null,null,null,null,{"$f":"IF(N50<>\"\",INDEX(referentes!$AK:$AM,MATCH(DATOS!M50,referentes!$AK:$AK,0),3),\"\")","v":""},null,null,{"$f":"IF(AS50=\"\",\"\",INDEX(referentes!P:Q,MATCH(AS50,referentes!Q:Q,0),1))","v":""},null,null,null,{"$f":"IF(AY50=\"\",\"\",INDEX(referentes!AB:AC,MATCH(AY50,referentes!AC:AC,0),1))","v":""},null,{"$f":"IF(BA50=\"\",\"\",INDEX(referentes!S:T,MATCH(BA50,referentes!T:T,0),1))","v":""},null,null,{"$f":"IF(AA50=\"\",\"\",INDEX(OtrasReferencias!$AM$7:$AN$9,MATCH(AA50,OtrasReferencias!$AM$7:$AM$9,0),2))","v":""}]
[null,null,"","",{"$f":"IF(T51=\"\",\"\",INDEX(referentes!G:H,MATCH(T51,referentes!H:H,0),1))","v":""},{"$f":"IF(V51=\"\",\"\",INDEX(referentes!$M:$N,MATCH(V51,referentes!$N:$N,0),1))","v":""},{"$f":"IF(W51=\"\",\"\",INDEX(referentes!J:K,MATCH(W51,referentes!K:K,0),1))","v":""},null,{"$f":"IF(Y51<>\"\",CONCATENATE($A$3,P51,DIGITADOR!$M$1,Y51,ROW()),\"\")","v":""},{"$f":"IF(Y51<>\"\",CONCATENATE(P51,INT(Q51*1440),DIGITADOR!$M$1,Y51),\"\")","v":""},null,{"$f":"IF(AO51<>\"\",INDEX(referentes!$Y:$Z,MATCH(DATOS!AO51,referentes!$Z:$Z,0),1),\"\")","v":""},"","",{"$f":"IF(R51=\"\",\"\",INDEX(referentes!D:E,MATCH(R51,referentes!E:E,0),1))","v":""},null,null,null,null,null,null,null,null,null,{"$f":"IF(X51=\"\",\"\",INDEX(referentes!$AT:$AX,MATCH(X51,referentes!$AX:$AX,0),1))","v":""},null,null,{"$f":"IF(AC51=\"\",\"\",INDEX(referentes!AZ:BA,MATCH(AC51,referentes!BA:BA,0),1))","v":""},null,null,null,null,null,null,null,null,null,null,null,null,null,null,{"$f":"IF(N51<>\"\",INDEX(referentes!$AK:$AM,MATCH(DATOS!M51,referentes!$AK:$AK,0),3),\"\")","v":""},null,null,{"$f":"IF(AS51=\"\",\"\",INDEX(referentes!P:Q,MATCH(AS51,referentes!Q:Q,0),1))","v":""},null,null,null,{"$f":"IF(AY51=\"\",\"\",INDEX(referentes!AB:AC,MATCH(AY51,referentes!AC:AC,0),1))","v":""},null,{"$f":"IF(BA51=\"\",\"\",INDEX(referentes!S:T,MATCH(BA51,referentes!T:T,0),1))","v":""},null,null,{"$f":"IF(AA51=\"\",\"\",INDEX(OtrasReferencias!$AM$7:$AN$9,MATCH(AA51,OtrasReferencias!$AM$7:$AM$9,0),2))","v":""}]
[null,null,"","",{"$f":"IF(T52=\"\",\"\",INDEX(referentes!G:H,MATCH(T52,referentes!H:H,0),1))","v":""},{"$f":"IF(V52=\"\",\"\",INDEX(referentes!$M:$N,MATCH(V52,referentes!$N:$N,0),1))","v":""},{"$f":"IF(W52=\"\",\"\",INDEX(referentes!J:K,MATCH(W52,referentes!K:K,0),1))","v":""},null,{"$f":"IF(Y52<>\"\",CONCATENATE($A$3,P52,DIGITADOR!$M$1,Y52,ROW()),\"\")","v":""},{"$f":"IF(Y52<>\"\",CONCATENATE(P52,INT(Q52*1440),DIGITADOR!$M$1,Y52),\"\")","v":""},null,{"$f":"IF(AO52<>\"\",INDEX(referentes!$Y:$Z,MATCH(DATOS!AO52,referentes!$Z:$Z,0),1),\"\")","v":""},"","",{"$f":"IF(R52=\"\",\"\",INDEX(referentes!D:E,MATCH(R52,referentes!E:E,0),1))","v":""},null,null,null,null,null,null,null,null,null,{"$f":"IF(X52=\"\",\"\",INDEX(referentes!$AT:$AX,MATCH(X52,referentes!$AX:$AX,0),1))","v":""},null,null,{"$f":"IF(AC52=\"\",\"\",INDEX(referentes!AZ:BA,MATCH(AC52,referentes!BA:BA,0),1))","v":""},null,null,null,null,null,null,null,null,null,null,null,null,null,null,{"$f":"IF(N52<>\"\",INDEX(referentes!$AK:$AM,MATCH(DATOS!M52,referentes!$AK:$AK,0),3),\"\")","v":""},null,null,{"$f":"IF(AS52=\"\",\"\",INDEX(referentes!P:Q,MATCH(AS52,referentes!Q:Q,0),1))","v":""},null,null,null,{"$f":"IF(AY52=\"\",\"\",INDEX(referentes!AB:AC,MATCH(AY52,referentes!AC:AC,0),1))","v":""},null,{"$f":"IF(BA52=\"\",\"\",INDEX(referentes!S:T,MATCH(BA52,referentes!T:T,0),1))","v":""},null,null,{"$f":"IF(AA52=\"\",\"\",INDEX(OtrasReferencias!$AM$7:$AN$9,MATCH(AA52,OtrasReferencias!$AM$7:$AM$9,0),2))","v":""}]
[null,null,"","",{"$f":"IF(T53=\"\",\"\",INDEX(referentes!G:H,MATCH(T53,referentes!H:H,0),1))","v":""},{"$f":"IF(V53=\"\",\"\",INDEX(referentes!$M:$N,MATCH(V53,referentes!$N:$N,0),1))","v":""},{"$f":"IF(W53=\"\",\"\",INDEX(referentes!J:K,MATCH(W53,referentes!K:K,0),1))","v":""},null,{"$f":"IF(Y53<>\"\",CONCATENATE($A$3,P53,DIGITADOR!$M$1,Y53,ROW()),\"\")","v":""},{"$f":"IF(Y53<>\"\",CONCATENATE(P53,INT(Q53*1440),DIGITADOR!$M$1,Y53),\"\")","v":""},null,{"$f":"IF(AO53<>\"\",INDEX(referentes!$Y:$Z,MATCH(DATOS!AO53,referentes!$Z:$Z,0),1),\"\")","v":""},"","",{"$f":"IF(R53=\"\",\"\",INDEX(referentes!D:E,MATCH(R53,referentes!E:E,0),1))","v":""},null,null,null,null,null,null,null,null,null,{"$f":"IF(X53=\"\",\"\",INDEX(referentes!$AT:$AX,MATCH(X53,referentes!$AX:$AX,0),1))","v":""},null,null,{"$f":"IF(AC53=\"\",\"\",INDEX(referentes!AZ:BA,MATCH(AC53,referentes!BA:BA,0),1))","v":""},null,null,null,null,null,null,null,null,null,null,null,null,null,null,{"$f":"IF(N53<>\"\",INDEX(referentes!$AK:$AM,MATCH(DATOS!M53,referentes!$AK:$AK,0),3),\"\")","v":""},null,null,{"$f":"IF(AS53=\"\",\"\",INDEX(referentes!P:Q,MATCH(AS53,referentes!Q:Q,0),1))","v":""},null,null,null,{"$f":"IF(AY53=\"\",\"\",INDEX(referentes!AB:AC,MATCH(AY53,referentes!AC:AC,0),1))","v":""},null,{"$f":"IF(BA53=\"\",\"\",INDEX(referentes!S:T,MATCH(BA53,referentes!T:T,0),1))","v":""},null,null,{"$f":"IF(AA53=\"\",\"\",INDEX(OtrasReferencias!$AM$7:$AN$9,MATCH(AA53,OtrasReferencias!$AM$7:$AM$9,0),2))","v":""}]
[null,null,"","",{"$f":"IF(T54=\"\",\"\",INDEX(referentes!G:H,MATCH(T54,referentes!H:H,0),1))","v":""},{"$f":"IF(V54=\"\",\"\",INDEX(referentes!$M:$N,MATCH(V54,referentes!$N:$N,0),1))","v":""},{"$f":"IF(W54=\"\",\"\",INDEX(referentes!J:K,MATCH(W54,referentes!K:K,0),1))","v":""},null,{"$f":"IF(Y54<>\"\",CONCATENATE($A$3,P54,DIGITADOR!$M$1,Y54,ROW()),\"\")","v":""},{"$f":"IF(Y54<>\"\",CONCATENATE(P54,INT(Q54*1440),DIGITADOR!$M$1,Y54),\"\")","v":""},null,{"$f":"IF(AO54<>\"\",INDEX(referentes!$Y:$Z,MATCH(DATOS!AO54,referentes!$Z:$Z,0),1),\"\")","v":""},"","",{"$f":"IF(R54=\"\",\"\",INDEX(referentes!D:E,MATCH(R54,referentes!E:E,0),1))","v":""},null,null,null,null,null,null,null,null,null,{"$f":"IF(X54=\"\",\"\",INDEX(referentes!$AT:$AX,MATCH(X54,referentes!$AX:$AX,0),1))","v":""},null,null,{"$f":"IF(AC54=\"\",\"\",INDEX(referentes!AZ:BA,MATCH(AC54,referentes!BA:BA,0),1))","v":""},null,null,null,null,null,null,null,null,null,null,null,null,null,null,{"$f":"IF(N54<>\"\",INDEX(referentes!$AK:$AM,MATCH(DATOS!M54,referentes!$AK:$AK,0),3),\"\")","v":""},null,null,{"$f":"IF(AS54=\"\",\"\",INDEX(referentes!P:Q,MATCH(AS54,referentes!Q:Q,0),1))","v":""},null,null,null,{"$f":"IF(AY54=\"\",\"\",INDEX(referentes!AB:AC,MATCH(AY54,referentes!AC:AC,0),1))","v":""},null,{"$f":"IF(BA54=\"\",\"\",INDEX(referentes!S:T,MATCH(BA54,referentes!T:T,0),1))","v":""},null,null,{"$f":"IF(AA54=\"\",\"\",INDEX(OtrasReferencias!$AM$7:$AN$9,MATCH(AA54,OtrasReferencias!$AM$7:$AM$9,0),2))","v":""}]
[null,null,"","",{"$f":"IF(T55=\"\",\"\",INDEX(referentes!G:H,MATCH(T55,referentes!H:H,0),1))","v":""},{"$f":"IF(V55=\"\",\"\",INDEX(referentes!$M:$N,MATCH(V55,referentes!$N:$N,0),1))","v":""},{"$f":"IF(W55=\"\",\"\",INDEX(referentes!J:K,MATCH(W55,referentes!K:K,0),1))","v":""},null,{"$f":"IF(Y55<>\"\",CONCATENATE($A$3,P55,DIGITADOR!$M$1,Y55,ROW()),\"\")","v":""},{"$f":"IF(Y55<>\"\",CONCATENATE(P55,INT(Q55*1440),DIGITADOR!$M$1,Y55),\"\")","v":""},null,{"$f":"IF(AO55<>\"\",INDEX(referentes!$Y:$Z,MATCH(DATOS!AO55,referentes!$Z:$Z,0),1),\"\")","v":""},"","",{"$f":"IF(R55=\"\",\"\",INDEX(referentes!D:E,MATCH(R55,referentes!E:E,0),1))","v":""},null,null,null,null,null,null,null,null,null,{"$f":"IF(X55=\"\",\"\",INDEX(referentes!$AT:$AX,MATCH(X55,referentes!$AX:$AX,0),1))","v":""},null,null,{"$f":"IF(AC55=\"\",\"\",INDEX(referentes!AZ:BA,MATCH(AC55,referentes!BA:BA,0),1))","v":""},null,null,null,null,null,null,null,null,null,null,null,null,null,null,{"$f":"IF(N55<>\"\",INDEX(referentes!$AK:$AM,MATCH(DATOS!M55,referentes!$AK:$AK,0),3),\"\")","v":""},null,null,{"$f":"IF(AS55=\"\",\"\",INDEX(referentes!P:Q,MATCH(AS55,referentes!Q:Q,0),1))","v":""},null,null,null,{"$f":"IF(AY55=\"\",\"\",INDEX(referentes!AB:AC,MATCH(AY55,referentes!AC:AC,0),1))","v":""},null,{"$f":"IF(BA55=\"\",\"\",INDEX(referentes!S:T,MATCH(BA55,referentes!T:T,0),1))","v":""},null,null,{"$f":"IF(AA55=\"\",\"\",INDEX(OtrasReferencias!$AM$7:$AN$9,MATCH(AA55,OtrasReferencias!$AM$7:$AM$9,0),2))","v":""}]
[null,null,"","",{"$f":"IF(T56=\"\",\"\",INDEX(referentes!G:H,MATCH(T56,referentes!H:H,0),1))","v":""},{"$f":"IF(V56=\"\",\"\",INDEX(referentes!$M:$N,MATCH(V56,referentes!$N:$N,0),1))","v":""},{"$f":"IF(W56=\"\",\"\",INDEX(referentes!J:K,MATCH(W56,referentes!K:K,0),1))","v":""},null,{"$f":"IF(Y56<>\"\",CONCATENATE($A$3,P56,DIGITADOR!$M$1,Y56,ROW()),\"\")","v":""},{"$f":"IF(Y56<>\"\",CONCATENATE(P56,INT(Q56*1440),DIGITADOR!$M$1,Y56),\"\")","v":""},null,{"$f":"IF(AO56<>\"\",INDEX(referentes!$Y:$Z,MATCH(DATOS!AO56,referentes!$Z:$Z,0),1),\"\")","v":""},"","",{"$f":"IF(R56=\"\",\"\",INDEX(referentes!D:E,MATCH(R56,referentes!E:E,0),1))","v":""},null,null,null,null,null,null,null,null,null,{"$f":"IF(X56=\"\",\"\",INDEX(referentes!$AT:$AX,MATCH(X56,referentes!$AX:$AX,0),1))","v":""},null,null,{"$f":"IF(AC56=\"\",\"\",INDEX(referentes!AZ:BA,MATCH(AC56,referentes!BA:BA,0),1))","v":""},null,null,null,null,null,null,null,null,null,null,null,null,null,null,{"$f":"IF(N56<>\"\",INDEX(referentes!$AK:$AM,MATCH(DATOS!M56,referentes!$AK:$AK,0),3),\"\")","v":""},null,null,{"$f":"IF(AS56=\"\",\"\",INDEX(referentes!P:Q,MATCH(AS56,referentes!Q:Q,0),1))","v":""},null,null,null,{"$f":"IF(AY56=\"\",\"\",INDEX(referentes!AB:AC,MATCH(AY56,referentes!AC:AC,0),1))","v":""},null,{"$f":"IF(BA56=\"\",\"\",INDEX(referentes!S:T,MATCH(BA56,referentes!T:T,0),1))","v":""},null,null,{"$f":"IF(AA56=\"\",\"\",INDEX(OtrasReferencias!$AM$7:$AN$9,MATCH(AA56,OtrasReferencias!$AM$7:$AM$9,0),2))","v":""}]
[null,null,"","",{"$f":"IF(T57=\"\",\"\",INDEX(referentes!G:H,MATCH(T57,referentes!H:H,0),1))","v":""},{"$f":"IF(V57=\"\",\"\",INDEX(referentes!$M:$N,MATCH(V57,referentes!$N:$N,0),1))","v":""},{"$f":"IF(W57=\"\",\"\",INDEX(referentes!J:K,MATCH(W57,referentes!K:K,0),1))","v":""},null,{"$f":"IF(Y57<>\"\",CONCATENATE($A$3,P57,DIGITADOR!$M$1,Y57,ROW()),\"\")","v":""},{"$f":"IF(Y57<>\"\",CONCATENATE(P57,INT(Q57*1440),DIGITADOR!$M$1,Y57),\"\")","v":""},null,{"$f":"IF(AO57<>\"\",INDEX(referentes!$Y:$Z,MATCH(DATOS!AO57,referentes!$Z:$Z,0),1),\"\")","v":""},"","",{"$f":"IF(R57=\"\",\"\",INDEX(referentes!D:E,MATCH(R57,referentes!E:E,0),1))","v":""},null,null,null,null,null,null,null,null,null,{"$f":"IF(X57=\"\",\"\",INDEX(referentes!$AT:$AX,MATCH(X57,referentes!$AX:$AX,0),1))","v":""},null,null,{"$f":"IF(AC57=\"\",\"\",INDEX(referentes!AZ:BA,MATCH(AC57,referentes!BA:BA,0),1))","v":""},null,null,null,null,null,null,null,null,null,null,null,null,null,null,{"$f":"IF(N57<>\"\",INDEX(referentes!$AK:$AM,MATCH(DATOS!M57,referentes!$AK:$AK,0),3),\"\")","v":""},null,null,{"$f":"IF(AS57=\"\",\"\",INDEX(referentes!P:Q,MATCH(AS57,referentes!Q:Q,0),1))","v":""},null,null,null,{"$f":"IF(AY57=\"\",\"\",INDEX(referentes!AB:AC,MATCH(AY57,referentes!AC:AC,0),1))","v":""},null,{"$f":"IF(BA57=\"\",\"\",INDEX(referentes!S:T,MATCH(BA57,referentes!T:T,0),1))","v":""},null,null,{"$f":"IF(AA57=\"\",\"\",INDEX(OtrasReferencias!$AM$7:$AN$9,MATCH(AA57,OtrasReferencias!$AM$7:$AM$9,0),2))","v":""}]
[null,null,"","",{"$f":"IF(T58=\"\",\"\",INDEX(referentes!G:H,MATCH(T58,referentes!H:H,0),1))","v":""},{"$f":"IF(V58=\"\",\"\",INDEX(referentes!$M:$N,MATCH(V58,referentes!$N:$N,0),1))","v":""},{"$f":"IF(W58=\"\",\"\",INDEX(referentes!J:K,MATCH(W58,referentes!K:K,0),1))","v":""},null,{"$f":"IF(Y58<>\"\",CONCATENATE($A$3,P58,DIGITADOR!$M$1,Y58,ROW()),\"\")","v":""},{"$f":"IF(Y58<>\"\",CONCATENATE(P58,INT(Q58*1440),DIGITADOR!$M$1,Y58),\"\")","v":""},null,{"$f":"IF(AO58<>\"\",INDEX(referentes!$Y:$Z,MATCH(DATOS!AO58,referentes!$Z:$Z,0),1),\"\")","v":""},"","",{"$f":"IF(R58=\"\",\"\",INDEX(referentes!D:E,MATCH(R58,referentes!E:E,0),1))","v":""},null,null,null,null,null,null,null,null,null,{"$f":"IF(X58=\"\",\"\",INDEX(referentes!$AT:$AX,MATCH(X58,referentes!$AX:$AX,0),1))","v":""},null,null,{"$f":"IF(AC58=\"\",\"\",INDEX(referentes!AZ:BA,MATCH(AC58,referentes!BA:BA,0),1))","v":""},null,null,null,null,null,null,null,null,null,null,null,null,null,null,{"$f":"IF(N58<>\"\",INDEX(referentes!$AK:$AM,MATCH(DATOS!M58,referentes!$AK:$AK,0),3),\"\")","v":""},null,null,{"$f":"IF(AS58=\"\",\"\",INDEX(referentes!P:Q,MATCH(AS58,referentes!Q:Q,0),1))","v":""},null,null,null,{"$f":"IF(AY58=\"\",\"\",INDEX(referentes!AB:AC,MATCH(AY58,referentes!AC:AC,0),1))","v":""},null,{"$f":"IF(BA58=\"\",\"\",INDEX(referentes!S:T,MATCH(BA58,referentes!T:T,0),1))","v":""},null,null,{"$f":"IF(AA58=\"\",\"\",INDEX(OtrasReferencias!$AM$7:$AN$9,MATCH(AA58,OtrasReferencias!$AM$7:$AM$9,0),2))","v":""}]
[null,null,"","",{"$f":"IF(T59=\"\",\"\",INDEX(referentes!G:H,MATCH(T59,referentes!H:H,0),1))","v":""},{"$f":"IF(V59=\"\",\"\",INDEX(referentes!$M:$N,MATCH(V59,referentes!$N:$N,0),1))","v":""},{"$f":"IF(W59=\"\",\"\",INDEX(referentes!J:K,MATCH(W59,referentes!K:K,0),1))","v":""},null,{"$f":"IF(Y59<>\"\",CONCATENATE($A$3,P59,DIGITADOR!$M$1,Y59,ROW()),\"\")","v":""},{"$f":"IF(Y59<>\"\",CONCATENATE(P59,INT(Q59*1440),DIGITADOR!$M$1,Y59),\"\")","v":""},null,{"$f":"IF(AO59<>\"\",INDEX(referentes!$Y:$Z,MATCH(DATOS!AO59,referentes!$Z:$Z,0),1),\"\")","v":""},"","",{"$f":"IF(R59=\"\",\"\",INDEX(referentes!D:E,MATCH(R59,referentes!E:E,0),1))","v":""},null,null,null,null,null,null,null,null,null,{"$f":"IF(X59=\"\",\"\",INDEX(referentes!$AT:$AX,MATCH(X59,referentes!$AX:$AX,0),1))","v":""},null,null,{"$f":"IF(AC59=\"\",\"\",INDEX(referentes!AZ:BA,MATCH(AC59,referentes!BA:BA,0),1))","v":""},null,null,null,null,null,null,null,null,null,null,null,null,null,null,{"$f":"IF(N59<>\"\",INDEX(referentes!$AK:$AM,MATCH(DATOS!M59,referentes!$AK:$AK,0),3),\"\")","v":""},null,null,{"$f":"IF(AS59=\"\",\"\",INDEX(referentes!P:Q,MATCH(AS59,referentes!Q:Q,0),1))","v":""},null,null,null,{"$f":"IF(AY59=\"\",\"\",INDEX(referentes!AB:AC,MATCH(AY59,referentes!AC:AC,0),1))","v":""},null,{"$f":"IF(BA59=\"\",\"\",INDEX(referentes!S:T,MATCH(BA59,referentes!T:T,0),1))","v":""},null,null,{"$f":"IF(AA59=\"\",\"\",INDEX(OtrasReferencias!$AM$7:$AN$9,MATCH(AA59,OtrasReferencias!$AM$7:$AM$9,0),2))","v":""}]
[null,null,"","",{"$f":"IF(T60=\"\",\"\",INDEX(referentes!G:H,MATCH(T60,referentes!H:H,0),1))","v":""},{"$f":"IF(V60=\"\",\"\",INDEX(referentes!$M:$N,MATCH(V60,referentes!$N:$N,0),1))","v":""},{"$f":"IF(W60=\"\",\"\",INDEX(referentes!J:K,MATCH(W60,referentes!K:K,0),1))","v":""},null,{"$f":"IF(Y60<>\"\",CONCATENATE($A$3,P60,DIGITADOR!$M$1,Y60,ROW()),\"\")","v":""},{"$f":"IF(Y60<>\"\",CONCATENATE(P60,INT(Q60*1440),DIGITADOR!$M$1,Y60),\"\")","v":""},null,{"$f":"IF(AO60<>\"\",INDEX(referentes!$Y:$Z,MATCH(DATOS!AO60,referentes!$Z:$Z,0),1),\"\")","v":""},"","",{"$f":"IF(R60=\"\",\"\",INDEX(referentes!D:E,MATCH(R60,referentes!E:E,0),1))","v":""},null,null,null,null,null,null,null,null,null,{"$f":"IF(X60=\"\",\"\",INDEX(referentes!$AT:$AX,MATCH(X60,referentes!$AX:$AX,0),1))","v":""},null,null,{"$f":"IF(AC60=\"\",\"\",INDEX(referentes!AZ:BA,MATCH(AC60,referentes!BA:BA,0),1))","v":""},null,null,null,null,null,null,null,null,null,null,null,null,null,null,{"$f":"IF(N60<>\"\",INDEX(referentes!$AK:$AM,MATCH(DATOS!M60,referentes!$AK:$AK,0),3),\"\")","v":""},null,null,{"$f":"IF(AS60=\"\",\"\",INDEX(referentes!P:Q,MATCH(AS60,referentes!Q:Q,0),1))","v":""},null,null,null,{"$f":"IF(AY60=\"\",\"\",INDEX(referentes!AB:AC,MATCH(AY60,referentes!AC:AC,0),1))","v":""},null,{"$f":"IF(BA60=\"\",\"\",INDEX(referentes!S:T,MATCH(BA60,referentes!T:T,0),1))","v":""},null,null,{"$f":"IF(AA60=\"\",\"\",INDEX(OtrasReferencias!$AM$7:$AN$9,MATCH(AA60,OtrasReferencias!$AM$7:$AM$9,0),2))","v":""}]
[null,null,"","",{"$f":"IF(T61=\"\",\"\",INDEX(referentes!G:H,MATCH(T61,referentes!H:H,0),1))","v":""},{"$f":"IF(V61=\"\",\"\",INDEX(referentes!$M:$N,MATCH(V61,referentes!$N:$N,0),1))","v":""},{"$f":"IF(W61=\"\",\"\",INDEX(referentes!J:K,MATCH(W61,referentes!K:K,0),1))","v":""},null,{"$f":"IF(Y61<>\"\",CONCATENATE($A$3,P61,DIGITADOR!$M$1,Y61,ROW()),\"\")","v":""},{"$f":"IF(Y61<>\"\",CONCATENATE(P61,INT(Q61*1440),DIGITADOR!$M$1,Y61),\"\")","v":""},null,{"$f":"IF(AO61<>\"\",INDEX(referentes!$Y:$Z,MATCH(DATOS!AO61,referentes!$Z:$Z,0),1),\"\")","v":""},"","",{"$f":"IF(R61=\"\",\"\",INDEX(referentes!D:E,MATCH(R61,referentes!E:E,0),1))","v":""},null,null,null,null,null,null,null,null,null,{"$f":"IF(X61=\"\",\"\",INDEX(referentes!$AT:$AX,MATCH(X61,referentes!$AX:$AX,0),1))","v":""},null,null,{"$f":"IF(AC61=\"\",\"\",INDEX(referentes!AZ:BA,MATCH(AC61,referentes!BA:BA,0),1))","v":""},null,null,null,null,null,null,null,null,null,null,null,null,null,null,{"$f":"IF(N61<>\"\",INDEX(referentes!$AK:$AM,MATCH(DATOS!M61,referentes!$AK:$AK,0),3),\"\")","v":""},null,null,{"$f":"IF(AS61=\"\",\"\",INDEX(referentes!P:Q,MATCH(AS61,referentes!Q:Q,0),1))","v":""},null,null,null,{"$f":"IF(AY61=\"\",\"\",INDEX(referentes!AB:AC,MATCH(AY61,referentes!AC:AC,0),1))","v":""},null,{"$f":"IF(BA61=\"\",\"\",INDEX(referentes!S:T,MATCH(BA61,referentes!T:T,0),1))","v":""},null,null,{"$f":"IF(AA61=\"\",\"\",INDEX(OtrasReferencias!$AM$7:$AN$9,MATCH(AA61,OtrasReferencias!$AM$7:$AM$9,0),2))","v":""}]
[null,null,"","",{"$f":"IF(T62=\"\",\"\",INDEX(referentes!G:H,MATCH(T62,referentes!H:H,0),1))","v":""},{"$f":"IF(V62=\"\",\"\",INDEX(referentes!$M:$N,MATCH(V62,referentes!$N:$N,0),1))","v":""},{"$f":"IF(W62=\"\",\"\",INDEX(referentes!J:K,MATCH(W62,referentes!K:K,0),1))","v":""},null,{"$f":"IF(Y62<>\"\",CONCATENATE($A$3,P62,DIGITADOR!$M$1,Y62,ROW()),\"\")","v":""},{"$f":"IF(Y62<>\"\",CONCATENATE(P62,INT(Q62*1440),DIGITADOR!$M$1,Y62),\"\")","v":""},null,{"$f":"IF(AO62<>\"\",INDEX(referentes!$Y:$Z,MATCH(DATOS!AO62,referentes!$Z:$Z,0),1),\"\")","v":""},"","",{"$f":"IF(R62=\"\",\"\",INDEX(referentes!D:E,MATCH(R62,referentes!E:E,0),1))","v":""},null,null,null,null,null,null,null,null,null,{"$f":"IF(X62=\"\",\"\",INDEX(referentes!$AT:$AX,MATCH(X62,referentes!$AX:$AX,0),1))","v":""},null,null,{"$f":"IF(AC62=\"\",\"\",INDEX(referentes!AZ:BA,MATCH(AC62,referentes!BA:BA,0),1))","v":""},null,null,null,null,null,null,null,null,null,null,null,null,null,null,{"$f":"IF(N62<>\"\",INDEX(referentes!$AK:$AM,MATCH(DATOS!M62,referentes!$AK:$AK,0),3),\"\")","v":""},null,null,{"$f":"IF(AS62=\"\",\"\",INDEX(referentes!P:Q,MATCH(AS62,referentes!Q:Q,0),1))","v":""},null,null,null,{"$f":"IF(AY62=\"\",\"\",INDEX(referentes!AB:AC,MATCH(AY62,referentes!AC:AC,0),1))","v":""},null,{"$f":"IF(BA62=\"\",\"\",INDEX(referentes!S:T,MATCH(BA62,referentes!T:T,0),1))","v":""},null,null,{"$f":"IF(AA62=\"\",\"\",INDEX(OtrasReferencias!$AM$7:$AN$9,MATCH(AA62,OtrasReferencias!$AM$7:$AM$9,0),2))","v":""}]
[null,null,"","",{"$f":"IF(T63=\"\",\"\",INDEX(referentes!G:H,MATCH(T63,referentes!H:H,0),1))","v":""},{"$f":"IF(V63=\"\",\"\",INDEX(referentes!$M:$N,MATCH(V63,referentes!$N:$N,0),1))","v":""},{"$f":"IF(W63=\"\",\"\",INDEX(referentes!J:K,MATCH(W63,referentes!K:K,0),1))","v":""},null,{"$f":"IF(Y63<>\"\",CONCATENATE($A$3,P63,DIGITADOR!$M$1,Y63,ROW()),\"\")","v":""},{"$f":"IF(Y63<>\"\",CONCATENATE(P63,INT(Q63*1440),DIGITADOR!$M$1,Y63),\"\")","v":""},null,{"$f":"IF(AO63<>\"\",INDEX(referentes!$Y:$Z,MATCH(DATOS!AO63,referentes!$Z:$Z,0),1),\"\")","v":""},"","",{"$f":"IF(R63=\"\",\"\",INDEX(referentes!D:E,MATCH(R63,referentes!E:E,0),1))","v":""},null,null,null,null,null,null,null,null,null,{"$f":"IF(X63=\"\",\"\",INDEX(referentes!$AT:$AX,MATCH(X63,referentes!$AX:$AX,0),1))","v":""},null,null,{"$f":"IF(AC63=\"\",\"\",INDEX(referentes!AZ:BA,MATCH(AC63,referentes!BA:BA,0),1))","v":""},null,null,null,null,null,null,null,null,null,null,null,null,null,null,{"$f":"IF(N63<>\"\",INDEX(referentes!$AK:$AM,MATCH(DATOS!M63,referentes!$AK:$AK,0),3),\"\")","v":""},null,null,{"$f":"IF(AS63=\"\",\"\",INDEX(referentes!P:Q,MATCH(AS63,referentes!Q:Q,0),1))","v":""},null,null,null,{"$f":"IF(AY63=\"\",\"\",INDEX(referentes!AB:AC,MATCH(AY63,referentes!AC:AC,0),1))","v":""},null,{"$f":"IF(BA63=\"\",\"\",INDEX(referentes!S:T,MATCH(BA63,referentes!T:T,0),1))","v":""},null,null,{"$f":"IF(AA63=\"\",\"\",INDEX(OtrasReferencias!$AM$7:$AN$9,MATCH(AA63,OtrasReferencias!$AM$7:$AM$9,0),2))","v":""}]
[null,null,"","",{"$f":"IF(T64=\"\",\"\",INDEX(referentes!G:H,MATCH(T64,referentes!H:H,0),1))","v":""},{"$f":"IF(V64=\"\",\"\",INDEX(referentes!$M:$N,MATCH(V64,referentes!$N:$N,0),1))","v":""},{"$f":"IF(W64=\"\",\"\",INDEX(referentes!J:K,MATCH(W64,referentes!K:K,0),1))","v":""},null,{"$f":"IF(Y64<>\"\",CONCATENATE($A$3,P64,DIGITADOR!$M$1,Y64,ROW()),\"\")","v":""},{"$f":"IF(Y64<>\"\",CONCATENATE(P64,INT(Q64*1440),DIGITADOR!$M$1,Y64),\"\")","v":""},null,{"$f":"IF(AO64<>\"\",INDEX(referentes!$Y:$Z,MATCH(DATOS!AO64,referentes!$Z:$Z,0),1),\"\")","v":""},"","",{"$f":"IF(R64=\"\",\"\",INDEX(referentes!D:E,MATCH(R64,referentes!E:E,0),1))","v":""},null,null,null,null,null,null,null,null,null,{"$f":"IF(X64=\"\",\"\",INDEX(referentes!$AT:$AX,MATCH(X64,referentes!$AX:$AX,0),1))","v":""},null,null,{"$f":"IF(AC64=\"\",\"\",INDEX(referentes!AZ:BA,MATCH(AC64,referentes!BA:BA,0),1))","v":""},null,null,null,null,null,null,null,null,null,null,null,null,null,null,{"$f":"IF(N64<>\"\",INDEX(referentes!$AK:$AM,MATCH(DATOS!M64,referentes!$AK:$AK,0),3),\"\")","v":""},null,null,{"$f":"IF(AS64=\"\",\"\",INDEX(referentes!P:Q,MATCH(AS64,referentes!Q:Q,0),1))","v":""},null,null,null,{"$f":"IF(AY64=\"\",\"\",INDEX(referentes!AB:AC,MATCH(AY64,referentes!AC:AC,0),1))","v":""},null,{"$f":"IF(BA64=\"\",\"\",INDEX(referentes!S:T,MATCH(BA64,referentes!T:T,0),1))","v":""},null,null,{"$f":"IF(AA64=\"\",\"\",INDEX(OtrasReferencias!$AM$7:$AN$9,MATCH(AA64,OtrasReferencias!$AM$7:$AM$9,0),2))","v":""}]
[null,null,"","",{"$f":"IF(T65=\"\",\"\",INDEX(referentes!G:H,MATCH(T65,referentes!H:H,0),1))","v":""},{"$f":"IF(V65=\"\",\"\",INDEX(referentes!$M:$N,MATCH(V65,referentes!$N:$N,0),1))","v":""},{"$f":"IF(W65=\"\",\"\",INDEX(referentes!J:K,MATCH(W65,referentes!K:K,0),1))","v":""},null,{"$f":"IF(Y65<>\"\",CONCATENATE($A$3,P65,DIGITADOR!$M$1,Y65,ROW()),\"\")","v":""},{"$f":"IF(Y65<>\"\",CONCATENATE(P65,INT(Q65*1440),DIGITADOR!$M$1,Y65),\"\")","v":""},null,{"$f":"IF(AO65<>\"\",INDEX(referentes!$Y:$Z,MATCH(DATOS!AO65,referentes!$Z:$Z,0),1),\"\")","v":""},"","",{"$f":"IF(R65=\"\",\"\",INDEX(referentes!D:E,MATCH(R65,referentes!E:E,0),1))","v":""},null,null,null,null,null,null,null,null,null,{"$f":"IF(X65=\"\",\"\",INDEX(referentes!$AT:$AX,MATCH(X65,referentes!$AX:$AX,0),1))","v":""},null,null,{"$f":"IF(AC65=\"\",\"\",INDEX(referentes!AZ:BA,MATCH(AC65,referentes!BA:BA,0),1))","v":""},null,null,null,null,null,null,null,null,null,null,null,null,null,null,{"$f":"IF(N65<>\"\",INDEX(referentes!$AK:$AM,MATCH(DATOS!M65,referentes!$AK:$AK,0),3),\"\")","v":""},null,null,{"$f":"IF(AS65=\"\",\"\",INDEX(referentes!P:Q,MATCH(AS65,referentes!Q:Q,0),1))","v":""},null,null,null,{"$f":"IF(AY65=\"\",\"\",INDEX(referentes!AB:AC,MATCH(AY65,referentes!AC:AC,0),1))","v":""},null,{"$f":"IF(BA65=\"\",\"\",INDEX(referentes!S:T,MATCH(BA65,referentes!T:T,0),1))","v":""},null,null,{"$f":"IF(AA65=\"\",\"\",INDEX(OtrasReferencias!$AM$7:$AN$9,MATCH(AA65,OtrasReferencias!$AM$7:$AM$9,0),2))","v":""}]
[null,null,"","",{"$f":"IF(T66=\"\",\"\",INDEX(referentes!G:H,MATCH(T66,referentes!H:H,0),1))","v":""},{"$f":"IF(V66=\"\",\"\",INDEX(referentes!$M:$N,MATCH(V66,referentes!$N:$N,0),1))","v":""},{"$f":"IF(W66=\"\",\"\",INDEX(referentes!J:K,MATCH(W66,referentes!K:K,0),1))","v":""},null,{"$f":"IF(Y66<>\"\",CONCATENATE($A$3,P66,DIGITADOR!$M$1,Y66,ROW()),\"\")","v":""},{"$f":"IF(Y66<>\"\",CONCATENATE(P66,INT(Q66*1440),DIGITADOR!$M$1,Y66),\"\")","v":""},null,{"$f":"IF(AO66<>\"\",INDEX(referentes!$Y:$Z,MATCH(DATOS!AO66,referentes!$Z:$Z,0),1),\"\")","v":""},"","",{"$f":"IF(R66=\"\",\"\",INDEX(referentes!D:E,MATCH(R66,referentes!E:E,0),1))","v":""},null,null,null,null,null,null,null,null,null,{"$f":"IF(X66=\"\",\"\",INDEX(referentes!$AT:$AX,MATCH(X66,referentes!$AX:$AX,0),1))","v":""},null,null,{"$f":"IF(AC66=\"\",\"\",INDEX(referentes!AZ:BA,MATCH(AC66,referentes!BA:BA,0),1))","v":""},null,null,null,null,null,null,null,null,null,null,null,null,null,null,{"$f":"IF(N66<>\"\",INDEX(referentes!$AK:$AM,MATCH(DATOS!M66,referentes!$AK:$AK,0),3),\"\")","v":""},null,null,{"$f":"IF(AS66=\"\",\"\",INDEX(referentes!P:Q,MATCH(AS66,referentes!Q:Q,0),1))","v":""},null,null,null,{"$f":"IF(AY66=\"\",\"\",INDEX(referentes!AB:AC,MATCH(AY66,referentes!AC:AC,0),1))","v":""},null,{"$f":"IF(BA66=\"\",\"\",INDEX(referentes!S:T,MATCH(BA66,referentes!T:T,0),1))","v":""},null,null,{"$f":"IF(AA66=\"\",\"\",INDEX(OtrasReferencias!$AM$7:$AN$9,MATCH(AA66,OtrasReferencias!$AM$7:$AM$9,0),2))","v":""}]
[null,null,"","",{"$f":"IF(T67=\"\",\"\",INDEX(referentes!G:H,MATCH(T67,referentes!H:H,0),1))","v":""},{"$f":"IF(V67=\"\",\"\",INDEX(referentes!$M:$N,MATCH(V67,referentes!$N:$N,0),1))","v":""},{"$f":"IF(W67=\"\",\"\",INDEX(referentes!J:K,MATCH(W67,referentes!K:K,0),1))","v":""},null,{"$f":"IF(Y67<>\"\",CONCATENATE($A$3,P67,DIGITADOR!$M$1,Y67,ROW()),\"\")","v":""},{"$f":"IF(Y67<>\"\",CONCATENATE(P67,INT(Q67*1440),DIGITADOR!$M$1,Y67),\"\")","v":""},null,{"$f":"IF(AO67<>\"\",INDEX(referentes!$Y:$Z,MATCH(DATOS!AO67,referentes!$Z:$Z,0),1),\"\")","v":""},"","",{"$f":"IF(R67=\"\",\"\",INDEX(referentes!D:E,MATCH(R67,referentes!E:E,0),1))","v":""},null,null,null,null,null,null,null,null,null,{"$f":"IF(X67=\"\",\"\",INDEX(referentes!$AT:$AX,MATCH(X67,referentes!$AX:$AX,0),1))","v":""},null,null,{"$f":"IF(AC67=\"\",\"\",INDEX(referentes!AZ:BA,MATCH(AC67,referentes!BA:BA,0),1))","v":""},null,null,null,null,null,null,null,null,null,null,null,null,null,null,{"$f":"IF(N67<>\"\",INDEX(referentes!$AK:$AM,MATCH(DATOS!M67,referentes!$AK:$AK,0),3),\"\")","v":""},null,null,{"$f":"IF(AS67=\"\",\"\",INDEX(referentes!P:Q,MATCH(AS67,referentes!Q:Q,0),1))","v":""},null,null,null,{"$f":"IF(AY67=\"\",\"\",INDEX(referentes!AB:AC,MATCH(AY67,referentes!AC:AC,0),1))","v":""},null,{"$f":"IF(BA67=\"\",\"\",INDEX(referentes!S:T,MATCH(BA67,referentes!T:T,0),1))","v":""},null,null,{"$f":"IF(AA67=\"\",\"\",INDEX(OtrasReferencias!$AM$7:$AN$9,MATCH(AA67,OtrasReferencias!$AM$7:$AM$9,0),2))","v":""}]
[null,null,"","",{"$f":"IF(T68=\"\",\"\",INDEX(referentes!G:H,MATCH(T68,referentes!H:H,0),1))","v":""},{"$f":"IF(V68=\"\",\"\",INDEX(referentes!$M:$N,MATCH(V68,referentes!$N:$N,0),1))","v":""},{"$f":"IF(W68=\"\",\"\",INDEX(referentes!J:K,MATCH(W68,referentes!K:K,0),1))","v":""},null,{"$f":"IF(Y68<>\"\",CONCATENATE($A$3,P68,DIGITADOR!$M$1,Y68,ROW()),\"\")","v":""},{"$f":"IF(Y68<>\"\",CONCATENATE(P68,INT(Q68*1440),DIGITADOR!$M$1,Y68),\"\")","v":""},null,{"$f":"IF(AO68<>\"\",INDEX(referentes!$Y:$Z,MATCH(DATOS!AO68,referentes!$Z:$Z,0),1),\"\")","v":""},"","",{"$f":"IF(R68=\"\",\"\",INDEX(referentes!D:E,MATCH(R68,referentes!E:E,0),1))","v":""},null,null,null,null,null,null,null,null,null,{"$f":"IF(X68=\"\",\"\",INDEX(referentes!$AT:$AX,MATCH(X68,referentes!$AX:$AX,0),1))","v":""},null,null,{"$f":"IF(AC68=\"\",\"\",INDEX(referentes!AZ:BA,MATCH(AC68,referentes!BA:BA,0),1))","v":""},null,null,null,null,null,null,null,null,null,null,null,null,null,null,{"$f":"IF(N68<>\"\",INDEX(referentes!$AK:$AM,MATCH(DATOS!M68,referentes!$AK:$AK,0),3),\"\")","v":""},null,null,{"$f":"IF(AS68=\"\",\"\",INDEX(referentes!P:Q,MATCH(AS68,referentes!Q:Q,0),1))","v":""},null,null,null,{"$f":"IF(AY68=\"\",\"\",INDEX(referentes!AB:AC,MATCH(AY68,referentes!AC:AC,0),1))","v":""},null,{"$f":"IF(BA68=\"\",\"\",INDEX(referentes!S:T,MATCH(BA68,referentes!T:T,0),1))","v":""},null,null,{"$f":"IF(AA68=\"\",\"\",INDEX(OtrasReferencias!$AM$7:$AN$9,MATCH(AA68,OtrasReferencias!$AM$7:$AM$9,0),2))","v":""}]
[null,null,"",{"$f":"IF(P69<>\"\",P69+Q69,\"\")","v":""},{"$f":"IF(T69=\"\",\"\",INDEX(referentes!G:H,MATCH(T69,referentes!H:H,0),1))","v":""},{"$f":"IF(V69=\"\",\"\",INDEX(referentes!$M:$N,MATCH(V69,referentes!$N:$N,0),1))","v":""},{"$f":"IF(W69=\"\",\"\",INDEX(referentes!J:K,MATCH(W69,referentes!K:K,0),1))","v":""},null,{"$f":"IF(Y69<>\"\",CONCATENATE($A$3,P69,DIGITADOR!$M$1,Y69,ROW()),\"\")","v":""},{"$f":"IF(Y69<>\"\",CONCATENATE(P69,INT(Q69*1440),DIGITADOR!$M$1,Y69),\"\")","v":""},null,{"$f":"IF(AO69<>\"\",INDEX(referentes!$Y:$Z,MATCH(DATOS!AO69,referentes!$Z:$Z,0),1),\"\")","v":""},{"$f":"TRIM(UPPER(IF(AL69<>\"\",AL69,IF(AK69<>\"\",AK69,(IF(AJ69<>\"\",AJ69,IF(AI69<>\"\",AI69,IF(AH69<>\"\",AH69,AG69))))))))","v":""},{"$f":"TRIM(UPPER(CONCATENATE(AG69,\" \",AH69,\" \",AI69,\" \",AJ69,\" \",AK69,\" \",AL69)))","v":""},{"$f":"IF(R69=\"\",\"\",INDEX(referentes!D:E,MATCH(R69,referentes!E:E,0),1))","v":""},null,null,null,null,null,null,null,null,null,{"$f":"IF(X69=\"\",\"\",INDEX(referentes!$AT:$AX,MATCH(X69,referentes!$AX:$AX,0),1))","v":""},null,null,{"$f":"IF(AC69=\"\",\"\",INDEX(referentes!AZ:BA,MATCH(AC69,referentes!BA:BA,0),1))","v":""},null,null,null,null,null,null,null,null,null,null,null,null,null,null,{"$f":"IF(N69<>\"\",INDEX(referentes!$AK:$AM,MATCH(DATOS!M69,referentes!$AK:$AK,0),3),\"\")","v":""},null,null,{"$f":"IF(AS69=\"\",\"\",INDEX(referentes!P:Q,MATCH(AS69,referentes!Q:Q,0),1))","v":""},null,null,null,{"$f":"IF(AY69=\"\",\"\",INDEX(referentes!AB:AC,MATCH(AY69,referentes!AC:AC,0),1))","v":""},null,{"$f":"IF(BA69=\"\",\"\",INDEX(referentes!S:T,MATCH(BA69,referentes!T:T,0),1))","v":""},null,null,{"$f":"IF(AA69=\"\",\"\",INDEX(OtrasReferencias!$AM$7:$AN$9,MATCH(AA69,OtrasReferencias!$AM$7:$AM$9,0),2))","v":""}]
[null,null,{"$f":"IF(J70=\"\",\"\",IF(J70=J69,\"\",J70))","v":""},"",{"$f":"IF(T70=\"\",\"\",INDEX(referentes!G:H,MATCH(T70,referentes!H:H,0),1))","v":""},{"$f":"IF(V70=\"\",\"\",INDEX(referentes!$M:$N,MATCH(V70,referentes!$N:$N,0),1))","v":""},{"$f":"IF(W70=\"\",\"\",INDEX(referentes!J:K,MATCH(W70,referentes!K:K,0),1))","v":""},null,{"$f":"IF(Y70<>\"\",CONCATENATE($A$3,P70,DIGITADOR!$M$1,Y70,ROW()),\"\")","v":""},{"$f":"IF(Y70<>\"\",CONCATENATE(P70,INT(Q70*1440),DIGITADOR!$M$1,Y70),\"\")","v":""},null,{"$f":"IF(AO70<>\"\",INDEX(referentes!$Y:$Z,MATCH(DATOS!AO70,referentes!$Z:$Z,0),1),\"\")","v":""},"","",{"$f":"IF(R70=\"\",\"\",INDEX(referentes!D:E,MATCH(R70,referentes!E:E,0),1))","v":""},null,null,null,null,null,null,null,null,null,{"$f":"IF(X70=\"\",\"\",INDEX(referentes!$AT:$AX,MATCH(X70,referentes!$AX:$AX,0),1))","v":""},null,null,{"$f":"IF(AC70=\"\",\"\",INDEX(referentes!AZ:BA,MATCH(AC70,referentes!BA:BA,0),1))","v":""},null,null,null,null,null,null,null,null,null,null,null,null,null,null,{"$f":"IF(N70<>\"\",INDEX(referentes!$AK:$AM,MATCH(DATOS!M70,referentes!$AK:$AK,0),3),\"\")","v":""},null,null,{"$f":"IF(AS70=\"\",\"\",INDEX(referentes!P:Q,MATCH(AS70,referentes!Q:Q,0),1))","v":""},null,null,null,{"$f":"IF(AY70=\"\",\"\",INDEX(referentes!AB:AC,MATCH(AY70,referentes!AC:AC,0),1))","v":""},null,{"$f":"IF(BA70=\"\",\"\",INDEX(referentes!S:T,MATCH(BA70,referentes!T:T,0),1))","v":""},null,null,{"$f":"IF(AA70=\"\",\"\",INDEX(OtrasReferencias!$AM$7:$AN$9,MATCH(AA70,OtrasReferencias!$AM$7:$AM$9,0),2))","v":""}]
[null,null,"","",{"$f":"IF(T71=\"\",\"\",INDEX(referentes!G:H,MATCH(T71,referentes!H:H,0),1))","v":""},{"$f":"IF(V71=\"\",\"\",INDEX(referentes!$M:$N,MATCH(V71,referentes!$N:$N,0),1))","v":""},{"$f":"IF(W71=\"\",\"\",INDEX(referentes!J:K,MATCH(W71,referentes!K:K,0),1))","v":""},null,{"$f":"IF(Y71<>\"\",CONCATENATE($A$3,P71,DIGITADOR!$M$1,Y71,ROW()),\"\")","v":""},{"$f":"IF(Y71<>\"\",CONCATENATE(P71,INT(Q71*1440),DIGITADOR!$M$1,Y71),\"\")","v":""},null,{"$f":"IF(AO71<>\"\",INDEX(referentes!$Y:$Z,MATCH(DATOS!AO71,referentes!$Z:$Z,0),1),\"\")","v":""},"","",{"$f":"IF(R71=\"\",\"\",INDEX(referentes!D:E,MATCH(R71,referentes!E:E,0),1))","v":""},null,null,null,null,null,null,null,null,null,{"$f":"IF(X71=\"\",\"\",INDEX(referentes!$AT:$AX,MATCH(X71,referentes!$AX:$AX,0),1))","v":""},null,null,{"$f":"IF(AC71=\"\",\"\",INDEX(referentes!AZ:BA,MATCH(AC71,referentes!BA:BA,0),1))","v":""},null,null,null,null,null,null,null,null,null,null,null,null,null,null,{"$f":"IF(N71<>\"\",INDEX(referentes!$AK:$AM,MATCH(DATOS!M71,referentes!$AK:$AK,0),3),\"\")","v":""},null,null,{"$f":"IF(AS71=\"\",\"\",INDEX(referentes!P:Q,MATCH(AS71,referentes!Q:Q,0),1))","v":""},null,null,null,{"$f":"IF(AY71=\"\",\"\",INDEX(referentes!AB:AC,MATCH(AY71,referentes!AC:AC,0),1))","v":""},null,{"$f":"IF(BA71=\"\",\"\",INDEX(referentes!S:T,MATCH(BA71,referentes!T:T,0),1))","v":""},null,null,{"$f":"IF(AA71=\"\",\"\",INDEX(OtrasReferencias!$AM$7:$AN$9,MATCH(AA71,OtrasReferencias!$AM$7:$AM$9,0),2))","v":""}]
[null,null,"","",{"$f":"IF(T72=\"\",\"\",INDEX(referentes!G:H,MATCH(T72,referentes!H:H,0),1))","v":""},{"$f":"IF(V72=\"\",\"\",INDEX(referentes!$M:$N,MATCH(V72,referentes!$N:$N,0),1))","v":""},{"$f":"IF(W72=\"\",\"\",INDEX(referentes!J:K,MATCH(W72,referentes!K:K,0),1))","v":""},null,{"$f":"IF(Y72<>\"\",CONCATENATE($A$3,P72,DIGITADOR!$M$1,Y72,ROW()),\"\")","v":""},{"$f":"IF(Y72<>\"\",CONCATENATE(P72,INT(Q72*1440),DIGITADOR!$M$1,Y72),\"\")","v":""},null,{"$f":"IF(AO72<>\"\",INDEX(referentes!$Y:$Z,MATCH(DATOS!AO72,referentes!$Z:$Z,0),1),\"\")","v":""},"","",{"$f":"IF(R72=\"\",\"\",INDEX(referentes!D:E,MATCH(R72,referentes!E:E,0),1))","v":""},null,null,null,null,null,null,null,null,null,{"$f":"IF(X72=\"\",\"\",INDEX(referentes!$AT:$AX,MATCH(X72,referentes!$AX:$AX,0),1))","v":""},null,null,{"$f":"IF(AC72=\"\",\"\",INDEX(referentes!AZ:BA,MATCH(AC72,referentes!BA:BA,0),1))","v":""},null,null,null,null,null,null,null,null,null,null,null,null,null,null,{"$f":"IF(N72<>\"\",INDEX(referentes!$AK:$AM,MATCH(DATOS!M72,referentes!$AK:$AK,0),3),\"\")","v":""},null,null,{"$f":"IF(AS72=\"\",\"\",INDEX(referentes!P:Q,MATCH(AS72,referentes!Q:Q,0),1))","v":""},null,null,null,{"$f":"IF(AY72=\"\",\"\",INDEX(referentes!AB:AC,MATCH(AY72,referentes!AC:AC,0),1))","v":""},null,{"$f":"IF(BA72=\"\",\"\",INDEX(referentes!S:T,MATCH(BA72,referentes!T:T,0),1))","v":""},null,null,{"$f":"IF(AA72=\"\",\"\",INDEX(OtrasReferencias!$AM$7:$AN$9,MATCH(AA72,OtrasReferencias!$AM$7:$AM$9,0),2))","v":""}]
[null,null,"","",{"$f":"IF(T73=\"\",\"\",INDEX(referentes!G:H,MATCH(T73,referentes!H:H,0),1))","v":""},{"$f":"IF(V73=\"\",\"\",INDEX(referentes!$M:$N,MATCH(V73,referentes!$N:$N,0),1))","v":""},{"$f":"IF(W73=\"\",\"\",INDEX(referentes!J:K,MATCH(W73,referentes!K:K,0),1))","v":""},null,{"$f":"IF(Y73<>\"\",CONCATENATE($A$3,P73,DIGITADOR!$M$1,Y73,ROW()),\"\")","v":""},{"$f":"IF(Y73<>\"\",CONCATENATE(P73,INT(Q73*1440),DIGITADOR!$M$1,Y73),\"\")","v":""},null,{"$f":"IF(AO73<>\"\",INDEX(referentes!$Y:$Z,MATCH(DATOS!AO73,referentes!$Z:$Z,0),1),\"\")","v":""},"","",{"$f":"IF(R73=\"\",\"\",INDEX(referentes!D:E,MATCH(R73,referentes!E:E,0),1))","v":""},null,null,null,null,null,null,null,null,null,{"$f":"IF(X73=\"\",\"\",INDEX(referentes!$AT:$AX,MATCH(X73,referentes!$AX:$AX,0),1))","v":""},null,null,{"$f":"IF(AC73=\"\",\"\",INDEX(referentes!AZ:BA,MATCH(AC73,referentes!BA:BA,0),1))","v":""},null,null,null,null,null,null,null,null,null,null,null,null,null,null,{"$f":"IF(N73<>\"\",INDEX(referentes!$AK:$AM,MATCH(DATOS!M73,referentes!$AK:$AK,0),3),\"\")","v":""},null,null,{"$f":"IF(AS73=\"\",\"\",INDEX(referentes!P:Q,MATCH(AS73,referentes!Q:Q,0),1))","v":""},null,null,null,{"$f":"IF(AY73=\"\",\"\",INDEX(referentes!AB:AC,MATCH(AY73,referentes!AC:AC,0),1))","v":""},null,{"$f":"IF(BA73=\"\",\"\",INDEX(referentes!S:T,MATCH(BA73,referentes!T:T,0),1))","v":""},null,null,{"$f":"IF(AA73=\"\",\"\",INDEX(OtrasReferencias!$AM$7:$AN$9,MATCH(AA73,OtrasReferencias!$AM$7:$AM$9,0),2))","v":""}]
[null,null,"","",{"$f":"IF(T74=\"\",\"\",INDEX(referentes!G:H,MATCH(T74,referentes!H:H,0),1))","v":""},{"$f":"IF(V74=\"\",\"\",INDEX(referentes!$M:$N,MATCH(V74,referentes!$N:$N,0),1))","v":""},{"$f":"IF(W74=\"\",\"\",INDEX(referentes!J:K,MATCH(W74,referentes!K:K,0),1))","v":""},null,{"$f":"IF(Y74<>\"\",CONCATENATE($A$3,P74,DIGITADOR!$M$1,Y74,ROW()),\"\")","v":""},{"$f":"IF(Y74<>\"\",CONCATENATE(P74,INT(Q74*1440),DIGITADOR!$M$1,Y74),\"\")","v":""},null,{"$f":"IF(AO74<>\"\",INDEX(referentes!$Y:$Z,MATCH(DATOS!AO74,referentes!$Z:$Z,0),1),\"\")","v":""},"","",{"$f":"IF(R74=\"\",\"\",INDEX(referentes!D:E,MATCH(R74,referentes!E:E,0),1))","v":""},null,null,null,null,null,null,null,null,null,{"$f":"IF(X74=\"\",\"\",INDEX(referentes!$AT:$AX,MATCH(X74,referentes!$AX:$AX,0),1))","v":""},null,null,{"$f":"IF(AC74=\"\",\"\",INDEX(referentes!AZ:BA,MATCH(AC74,referentes!BA:BA,0),1))","v":""},null,null,null,null,null,null,null,null,null,null,null,null,null,null,{"$f":"IF(N74<>\"\",INDEX(referentes!$AK:$AM,MATCH(DATOS!M74,referentes!$AK:$AK,0),3),\"\")","v":""},null,null,{"$f":"IF(AS74=\"\",\"\",INDEX(referentes!P:Q,MATCH(AS74,referentes!Q:Q,0),1))","v":""},null,null,null,{"$f":"IF(AY74=\"\",\"\",INDEX(referentes!AB:AC,MATCH(AY74,referentes!AC:AC,0),1))","v":""},null,{"$f":"IF(BA74=\"\",\"\",INDEX(referentes!S:T,MATCH(BA74,referentes!T:T,0),1))","v":""},null,null,{"$f":"IF(AA74=\"\",\"\",INDEX(OtrasReferencias!$AM$7:$AN$9,MATCH(AA74,OtrasReferencias!$AM$7:$AM$9,0),2))","v":""}]
[null,null,"","",{"$f":"IF(T75=\"\",\"\",INDEX(referentes!G:H,MATCH(T75,referentes!H:H,0),1))","v":""},{"$f":"IF(V75=\"\",\"\",INDEX(referentes!$M:$N,MATCH(V75,referentes!$N:$N,0),1))","v":""},{"$f":"IF(W75=\"\",\"\",INDEX(referentes!J:K,MATCH(W75,referentes!K:K,0),1))","v":""},null,{"$f":"IF(Y75<>\"\",CONCATENATE($A$3,P75,DIGITADOR!$M$1,Y75,ROW()),\"\")","v":""},{"$f":"IF(Y75<>\"\",CONCATENATE(P75,INT(Q75*1440),DIGITADOR!$M$1,Y75),\"\")","v":""},null,{"$f":"IF(AO75<>\"\",INDEX(referentes!$Y:$Z,MATCH(DATOS!AO75,referentes!$Z:$Z,0),1),\"\")","v":""},"","",{"$f":"IF(R75=\"\",\"\",INDEX(referentes!D:E,MATCH(R75,referentes!E:E,0),1))","v":""},null,null,null,null,null,null,null,null,null,{"$f":"IF(X75=\"\",\"\",INDEX(referentes!$AT:$AX,MATCH(X75,referentes!$AX:$AX,0),1))","v":""},null,null,{"$f":"IF(AC75=\"\",\"\",INDEX(referentes!AZ:BA,MATCH(AC75,referentes!BA:BA,0),1))","v":""},null,null,null,null,null,null,null,null,null,null,null,null,null,null,{"$f":"IF(N75<>\"\",INDEX(referentes!$AK:$AM,MATCH(DATOS!M75,referentes!$AK:$AK,0),3),\"\")","v":""},null,null,{"$f":"IF(AS75=\"\",\"\",INDEX(referentes!P:Q,MATCH(AS75,referentes!Q:Q,0),1))","v":""},null,null,null,{"$f":"IF(AY75=\"\",\"\",INDEX(referentes!AB:AC,MATCH(AY75,referentes!AC:AC,0),1))","v":""},null,{"$f":"IF(BA75=\"\",\"\",INDEX(referentes!S:T,MATCH(BA75,referentes!T:T,0),1))","v":""},null,null,{"$f":"IF(AA75=\"\",\"\",INDEX(OtrasReferencias!$AM$7:$AN$9,MATCH(AA75,OtrasReferencias!$AM$7:$AM$9,0),2))","v":""}]
[null,null,"","",{"$f":"IF(T76=\"\",\"\",INDEX(referentes!G:H,MATCH(T76,referentes!H:H,0),1))","v":""},{"$f":"IF(V76=\"\",\"\",INDEX(referentes!$M:$N,MATCH(V76,referentes!$N:$N,0),1))","v":""},{"$f":"IF(W76=\"\",\"\",INDEX(referentes!J:K,MATCH(W76,referentes!K:K,0),1))","v":""},null,{"$f":"IF(Y76<>\"\",CONCATENATE($A$3,P76,DIGITADOR!$M$1,Y76,ROW()),\"\")","v":""},{"$f":"IF(Y76<>\"\",CONCATENATE(P76,INT(Q76*1440),DIGITADOR!$M$1,Y76),\"\")","v":""},null,{"$f":"IF(AO76<>\"\",INDEX(referentes!$Y:$Z,MATCH(DATOS!AO76,referentes!$Z:$Z,0),1),\"\")","v":""},"","",{"$f":"IF(R76=\"\",\"\",INDEX(referentes!D:E,MATCH(R76,referentes!E:E,0),1))","v":""},null,null,null,null,null,null,null,null,null,{"$f":"IF(X76=\"\",\"\",INDEX(referentes!$AT:$AX,MATCH(X76,referentes!$AX:$AX,0),1))","v":""},null,null,{"$f":"IF(AC76=\"\",\"\",INDEX(referentes!AZ:BA,MATCH(AC76,referentes!BA:BA,0),1))","v":""},null,null,null,null,null,null,null,null,null,null,null,null,null,null,{"$f":"IF(N76<>\"\",INDEX(referentes!$AK:$AM,MATCH(DATOS!M76,referentes!$AK:$AK,0),3),\"\")","v":""},null,null,{"$f":"IF(AS76=\"\",\"\",INDEX(referentes!P:Q,MATCH(AS76,referentes!Q:Q,0),1))","v":""},null,null,null,{"$f":"IF(AY76=\"\",\"\",INDEX(referentes!AB:AC,MATCH(AY76,referentes!AC:AC,0),1))","v":""},null,{"$f":"IF(BA76=\"\",\"\",INDEX(referentes!S:T,MATCH(BA76,referentes!T:T,0),1))","v":""},null,null,{"$f":"IF(AA76=\"\",\"\",INDEX(OtrasReferencias!$AM$7:$AN$9,MATCH(AA76,OtrasReferencias!$AM$7:$AM$9,0),2))","v":""}]
[null,null,"","",{"$f":"IF(T77=\"\",\"\",INDEX(referentes!G:H,MATCH(T77,referentes!H:H,0),1))","v":""},{"$f":"IF(V77=\"\",\"\",INDEX(referentes!$M:$N,MATCH(V77,referentes!$N:$N,0),1))","v":""},{"$f":"IF(W77=\"\",\"\",INDEX(referentes!J:K,MATCH(W77,referentes!K:K,0),1))","v":""},null,{"$f":"IF(Y77<>\"\",CONCATENATE($A$3,P77,DIGITADOR!$M$1,Y77,ROW()),\"\")","v":""},{"$f":"IF(Y77<>\"\",CONCATENATE(P77,INT(Q77*1440),DIGITADOR!$M$1,Y77),\"\")","v":""},null,{"$f":"IF(AO77<>\"\",INDEX(referentes!$Y:$Z,MATCH(DATOS!AO77,referentes!$Z:$Z,0),1),\"\")","v":""},"","",{"$f":"IF(R77=\"\",\"\",INDEX(referentes!D:E,MATCH(R77,referentes!E:E,0),1))","v":""},null,null,null,null,null,null,null,null,null,{"$f":"IF(X77=\"\",\"\",INDEX(referentes!$AT:$AX,MATCH(X77,referentes!$AX:$AX,0),1))","v":""},null,null,{"$f":"IF(AC77=\"\",\"\",INDEX(referentes!AZ:BA,MATCH(AC77,referentes!BA:BA,0),1))","v":""},null,null,null,null,null,null,null,null,null,null,null,null,null,null,{"$f":"IF(N77<>\"\",INDEX(referentes!$AK:$AM,MATCH(DATOS!M77,referentes!$AK:$AK,0),3),\"\")","v":""},null,null,{"$f":"IF(AS77=\"\",\"\",INDEX(referentes!P:Q,MATCH(AS77,referentes!Q:Q,0),1))","v":""},null,null,null,{"$f":"IF(AY77=\"\",\"\",INDEX(referentes!AB:AC,MATCH(AY77,referentes!AC:AC,0),1))","v":""},null,{"$f":"IF(BA77=\"\",\"\",INDEX(referentes!S:T,MATCH(BA77,referentes!T:T,0),1))","v":""},null,null,{"$f":"IF(AA77=\"\",\"\",INDEX(OtrasReferencias!$AM$7:$AN$9,MATCH(AA77,OtrasReferencias!$AM$7:$AM$9,0),2))","v":""}]
[null,null,"","",{"$f":"IF(T78=\"\",\"\",INDEX(referentes!G:H,MATCH(T78,referentes!H:H,0),1))","v":""},{"$f":"IF(V78=\"\",\"\",INDEX(referentes!$M:$N,MATCH(V78,referentes!$N:$N,0),1))","v":""},{"$f":"IF(W78=\"\",\"\",INDEX(referentes!J:K,MATCH(W78,referentes!K:K,0),1))","v":""},null,{"$f":"IF(Y78<>\"\",CONCATENATE($A$3,P78,DIGITADOR!$M$1,Y78,ROW()),\"\")","v":""},{"$f":"IF(Y78<>\"\",CONCATENATE(P78,INT(Q78*1440),DIGITADOR!$M$1,Y78),\"\")","v":""},null,{"$f":"IF(AO78<>\"\",INDEX(referentes!$Y:$Z,MATCH(DATOS!AO78,referentes!$Z:$Z,0),1),\"\")","v":""},"","",{"$f":"IF(R78=\"\",\"\",INDEX(referentes!D:E,MATCH(R78,referentes!E:E,0),1))","v":""},null,null,null,null,null,null,null,null,null,{"$f":"IF(X78=\"\",\"\",INDEX(referentes!$AT:$AX,MATCH(X78,referentes!$AX:$AX,0),1))","v":""},null,null,{"$f":"IF(AC78=\"\",\"\",INDEX(referentes!AZ:BA,MATCH(AC78,referentes!BA:BA,0),1))","v":""},null,null,null,null,null,null,null,null,null,null,null,null,null,null,{"$f":"IF(N78<>\"\",INDEX(referentes!$AK:$AM,MATCH(DATOS!M78,referentes!$AK:$AK,0),3),\"\")","v":""},null,null,{"$f":"IF(AS78=\"\",\"\",INDEX(referentes!P:Q,MATCH(AS78,referentes!Q:Q,0),1))","v":""},null,null,null,{"$f":"IF(AY78=\"\",\"\",INDEX(referentes!AB:AC,MATCH(AY78,referentes!AC:AC,0),1))","v":""},null,{"$f":"IF(BA78=\"\",\"\",INDEX(referentes!S:T,MATCH(BA78,referentes!T:T,0),1))","v":""},null,null,{"$f":"IF(AA78=\"\",\"\",INDEX(OtrasReferencias!$AM$7:$AN$9,MATCH(AA78,OtrasReferencias!$AM$7:$AM$9,0),2))","v":""}]
[null,null,"","",{"$f":"IF(T79=\"\",\"\",INDEX(referentes!G:H,MATCH(T79,referentes!H:H,0),1))","v":""},{"$f":"IF(V79=\"\",\"\",INDEX(referentes!$M:$N,MATCH(V79,referentes!$N:$N,0),1))","v":""},{"$f":"IF(W79=\"\",\"\",INDEX(referentes!J:K,MATCH(W79,referentes!K:K,0),1))","v":""},null,{"$f":"IF(Y79<>\"\",CONCATENATE($A$3,P79,DIGITADOR!$M$1,Y79,ROW()),\"\")","v":""},{"$f":"IF(Y79<>\"\",CONCATENATE(P79,INT(Q79*1440),DIGITADOR!$M$1,Y79),\"\")","v":""},null,{"$f":"IF(AO79<>\"\",INDEX(referentes!$Y:$Z,MATCH(DATOS!AO79,referentes!$Z:$Z,0),1),\"\")","v":""},"","",{"$f":"IF(R79=\"\",\"\",INDEX(referentes!D:E,MATCH(R79,referentes!E:E,0),1))","v":""},null,null,null,null,null,null,null,null,null,{"$f":"IF(X79=\"\",\"\",INDEX(referentes!$AT:$AX,MATCH(X79,referentes!$AX:$AX,0),1))","v":""},null,null,{"$f":"IF(AC79=\"\",\"\",INDEX(referentes!AZ:BA,MATCH(AC79,referentes!BA:BA,0),1))","v":""},null,null,null,null,null,null,null,null,null,null,null,null,null,null,{"$f":"IF(N79<>\"\",INDEX(referentes!$AK:$AM,MATCH(DATOS!M79,referentes!$AK:$AK,0),3),\"\")","v":""},null,null,{"$f":"IF(AS79=\"\",\"\",INDEX(referentes!P:Q,MATCH(AS79,referentes!Q:Q,0),1))","v":""},null,null,null,{"$f":"IF(AY79=\"\",\"\",INDEX(referentes!AB:AC,MATCH(AY79,referentes!AC:AC,0),1))","v":""},null,{"$f":"IF(BA79=\"\",\"\",INDEX(referentes!S:T,MATCH(BA79,referentes!T:T,0),1))","v":""},null,null,{"$f":"IF(AA79=\"\",\"\",INDEX(OtrasReferencias!$AM$7:$AN$9,MATCH(AA79,OtrasReferencias!$AM$7:$AM$9,0),2))","v":""}]
[null,null,"","",{"$f":"IF(T80=\"\",\"\",INDEX(referentes!G:H,MATCH(T80,referentes!H:H,0),1))","v":""},{"$f":"IF(V80=\"\",\"\",INDEX(referentes!$M:$N,MATCH(V80,referentes!$N:$N,0),1))","v":""},{"$f":"IF(W80=\"\",\"\",INDEX(referentes!J:K,MATCH(W80,referentes!K:K,0),1))","v":""},null,{"$f":"IF(Y80<>\"\",CONCATENATE($A$3,P80,DIGITADOR!$M$1,Y80,ROW()),\"\")","v":""},{"$f":"IF(Y80<>\"\",CONCATENATE(P80,INT(Q80*1440),DIGITADOR!$M$1,Y80),\"\")","v":""},null,{"$f":"IF(AO80<>\"\",INDEX(referentes!$Y:$Z,MATCH(DATOS!AO80,referentes!$Z:$Z,0),1),\"\")","v":""},"","",{"$f":"IF(R80=\"\",\"\",INDEX(referentes!D:E,MATCH(R80,referentes!E:E,0),1))","v":""},null,null,null,null,null,null,null,null,null,{"$f":"IF(X80=\"\",\"\",INDEX(referentes!$AT:$AX,MATCH(X80,referentes!$AX:$AX,0),1))","v":""},null,null,{"$f":"IF(AC80=\"\",\"\",INDEX(referentes!AZ:BA,MATCH(AC80,referentes!BA:BA,0),1))","v":""},null,null,null,null,null,null,null,null,null,null,null,null,null,null,{"$f":"IF(N80<>\"\",INDEX(referentes!$AK:$AM,MATCH(DATOS!M80,referentes!$AK:$AK,0),3),\"\")","v":""},null,null,{"$f":"IF(AS80=\"\",\"\",INDEX(referentes!P:Q,MATCH(AS80,referentes!Q:Q,0),1))","v":""},null,null,null,{"$f":"IF(AY80=\"\",\"\",INDEX(referentes!AB:AC,MATCH(AY80,referentes!AC:AC,0),1))","v":""},null,{"$f":"IF(BA80=\"\",\"\",INDEX(referentes!S:T,MATCH(BA80,referentes!T:T,0),1))","v":""},null,null,{"$f":"IF(AA80=\"\",\"\",INDEX(OtrasReferencias!$AM$7:$AN$9,MATCH(AA80,OtrasReferencias!$AM$7:$AM$9,0),2))","v":""}]
[null,null,"","",{"$f":"IF(T81=\"\",\"\",INDEX(referentes!G:H,MATCH(T81,referentes!H:H,0),1))","v":""},{"$f":"IF(V81=\"\",\"\",INDEX(referentes!$M:$N,MATCH(V81,referentes!$N:$N,0),1))","v":""},{"$f":"IF(W81=\"\",\"\",INDEX(referentes!J:K,MATCH(W81,referentes!K:K,0),1))","v":""},null,{"$f":"IF(Y81<>\"\",CONCATENATE($A$3,P81,DIGITADOR!$M$1,Y81,ROW()),\"\")","v":""},{"$f":"IF(Y81<>\"\",CONCATENATE(P81,INT(Q81*1440),DIGITADOR!$M$1,Y81),\"\")","v":""},null,{"$f":"IF(AO81<>\"\",INDEX(referentes!$Y:$Z,MATCH(DATOS!AO81,referentes!$Z:$Z,0),1),\"\")","v":""},"","",{"$f":"IF(R81=\"\",\"\",INDEX(referentes!D:E,MATCH(R81,referentes!E:E,0),1))","v":""},null,null,null,null,null,null,null,null,null,{"$f":"IF(X81=\"\",\"\",INDEX(referentes!$AT:$AX,MATCH(X81,referentes!$AX:$AX,0),1))","v":""},null,null,{"$f":"IF(AC81=\"\",\"\",INDEX(referentes!AZ:BA,MATCH(AC81,referentes!BA:BA,0),1))","v":""},null,null,null,null,null,null,null,null,null,null,null,null,null,null,{"$f":"IF(N81<>\"\",INDEX(referentes!$AK:$AM,MATCH(DATOS!M81,referentes!$AK:$AK,0),3),\"\")","v":""},null,null,{"$f":"IF(AS81=\"\",\"\",INDEX(referentes!P:Q,MATCH(AS81,referentes!Q:Q,0),1))","v":""},null,null,null,{"$f":"IF(AY81=\"\",\"\",INDEX(referentes!AB:AC,MATCH(AY81,referentes!AC:AC,0),1))","v":""},null,{"$f":"IF(BA81=\"\",\"\",INDEX(referentes!S:T,MATCH(BA81,referentes!T:T,0),1))","v":""},null,null,{"$f":"IF(AA81=\"\",\"\",INDEX(OtrasReferencias!$AM$7:$AN$9,MATCH(AA81,OtrasReferencias!$AM$7:$AM$9,0),2))","v":""}]
[null,null,"","",{"$f":"IF(T82=\"\",\"\",INDEX(referentes!G:H,MATCH(T82,referentes!H:H,0),1))","v":""},{"$f":"IF(V82=\"\",\"\",INDEX(referentes!$M:$N,MATCH(V82,referentes!$N:$N,0),1))","v":""},{"$f":"IF(W82=\"\",\"\",INDEX(referentes!J:K,MATCH(W82,referentes!K:K,0),1))","v":""},null,{"$f":"IF(Y82<>\"\",CONCATENATE($A$3,P82,DIGITADOR!$M$1,Y82,ROW()),\"\")","v":""},{"$f":"IF(Y82<>\"\",CONCATENATE(P82,INT(Q82*1440),DIGITADOR!$M$1,Y82),\"\")","v":""},null,{"$f":"IF(AO82<>\"\",INDEX(referentes!$Y:$Z,MATCH(DATOS!AO82,referentes!$Z:$Z,0),1),\"\")","v":""},"","",{"$f":"IF(R82=\"\",\"\",INDEX(referentes!D:E,MATCH(R82,referentes!E:E,0),1))","v":""},null,null,null,null,null,null,null,null,null,{"$f":"IF(X82=\"\",\"\",INDEX(referentes!$AT:$AX,MATCH(X82,referentes!$AX:$AX,0),1))","v":""},null,null,{"$f":"IF(AC82=\"\",\"\",INDEX(referentes!AZ:BA,MATCH(AC82,referentes!BA:BA,0),1))","v":""},null,null,null,null,null,null,null,null,null,null,null,null,null,null,{"$f":"IF(N82<>\"\",INDEX(referentes!$AK:$AM,MATCH(DATOS!M82,referentes!$AK:$AK,0),3),\"\")","v":""},null,null,{"$f":"IF(AS82=\"\",\"\",INDEX(referentes!P:Q,MATCH(AS82,referentes!Q:Q,0),1))","v":""},null,null,null,{"$f":"IF(AY82=\"\",\"\",INDEX(referentes!AB:AC,MATCH(AY82,referentes!AC:AC,0),1))","v":""},null,{"$f":"IF(BA82=\"\",\"\",INDEX(referentes!S:T,MATCH(BA82,referentes!T:T,0),1))","v":""},null,null,{"$f":"IF(AA82=\"\",\"\",INDEX(OtrasReferencias!$AM$7:$AN$9,MATCH(AA82,OtrasReferencias!$AM$7:$AM$9,0),2))","v":""}]
[null,null,"","",{"$f":"IF(T83=\"\",\"\",INDEX(referentes!G:H,MATCH(T83,referentes!H:H,0),1))","v":""},{"$f":"IF(V83=\"\",\"\",INDEX(referentes!$M:$N,MATCH(V83,referentes!$N:$N,0),1))","v":""},{"$f":"IF(W83=\"\",\"\",INDEX(referentes!J:K,MATCH(W83,referentes!K:K,0),1))","v":""},null,{"$f":"IF(Y83<>\"\",CONCATENATE($A$3,P83,DIGITADOR!$M$1,Y83,ROW()),\"\")","v":""},{"$f":"IF(Y83<>\"\",CONCATENATE(P83,INT(Q83*1440),DIGITADOR!$M$1,Y83),\"\")","v":""},null,{"$f":"IF(AO83<>\"\",INDEX(referentes!$Y:$Z,MATCH(DATOS!AO83,referentes!$Z:$Z,0),1),\"\")","v":""},"","",{"$f":"IF(R83=\"\",\"\",INDEX(referentes!D:E,MATCH(R83,referentes!E:E,0),1))","v":""},null,null,null,null,null,null,null,null,null,{"$f":"IF(X83=\"\",\"\",INDEX(referentes!$AT:$AX,MATCH(X83,referentes!$AX:$AX,0),1))","v":""},null,null,{"$f":"IF(AC83=\"\",\"\",INDEX(referentes!AZ:BA,MATCH(AC83,referentes!BA:BA,0),1))","v":""},null,null,null,null,null,null,null,null,null,null,null,null,null,null,{"$f":"IF(N83<>\"\",INDEX(referentes!$AK:$AM,MATCH(DATOS!M83,referentes!$AK:$AK,0),3),\"\")","v":""},null,null,{"$f":"IF(AS83=\"\",\"\",INDEX(referentes!P:Q,MATCH(AS83,referentes!Q:Q,0),1))","v":""},null,null,null,{"$f":"IF(AY83=\"\",\"\",INDEX(referentes!AB:AC,MATCH(AY83,referentes!AC:AC,0),1))","v":""},null,{"$f":"IF(BA83=\"\",\"\",INDEX(referentes!S:T,MATCH(BA83,referentes!T:T,0),1))","v":""},null,null,{"$f":"IF(AA83=\"\",\"\",INDEX(OtrasReferencias!$AM$7:$AN$9,MATCH(AA83,OtrasReferencias!$AM$7:$AM$9,0),2))","v":""}]
[null,null,"","",{"$f":"IF(T84=\"\",\"\",INDEX(referentes!G:H,MATCH(T84,referentes!H:H,0),1))","v":""},{"$f":"IF(V84=\"\",\"\",INDEX(referentes!$M:$N,MATCH(V84,referentes!$N:$N,0),1))","v":""},{"$f":"IF(W84=\"\",\"\",INDEX(referentes!J:K,MATCH(W84,referentes!K:K,0),1))","v":""},null,{"$f":"IF(Y84<>\"\",CONCATENATE($A$3,P84,DIGITADOR!$M$1,Y84,ROW()),\"\")","v":""},{"$f":"IF(Y84<>\"\",CONCATENATE(P84,INT(Q84*1440),DIGITADOR!$M$1,Y84),\"\")","v":""},null,{"$f":"IF(AO84<>\"\",INDEX(referentes!$Y:$Z,MATCH(DATOS!AO84,referentes!$Z:$Z,0),1),\"\")","v":""},"","",{"$f":"IF(R84=\"\",\"\",INDEX(referentes!D:E,MATCH(R84,referentes!E:E,0),1))","v":""},null,null,null,null,null,null,null,null,null,{"$f":"IF(X84=\"\",\"\",INDEX(referentes!$AT:$AX,MATCH(X84,referentes!$AX:$AX,0),1))","v":""},null,null,{"$f":"IF(AC84=\"\",\"\",INDEX(referentes!AZ:BA,MATCH(AC84,referentes!BA:BA,0),1))","v":""},null,null,null,null,null,null,null,null,null,null,null,null,null,null,{"$f":"IF(N84<>\"\",INDEX(referentes!$AK:$AM,MATCH(DATOS!M84,referentes!$AK:$AK,0),3),\"\")","v":""},null,null,{"$f":"IF(AS84=\"\",\"\",INDEX(referentes!P:Q,MATCH(AS84,referentes!Q:Q,0),1))","v":""},null,null,null,{"$f":"IF(AY84=\"\",\"\",INDEX(referentes!AB:AC,MATCH(AY84,referentes!AC:AC,0),1))","v":""},null,{"$f":"IF(BA84=\"\",\"\",INDEX(referentes!S:T,MATCH(BA84,referentes!T:T,0),1))","v":""},null,null,{"$f":"IF(AA84=\"\",\"\",INDEX(OtrasReferencias!$AM$7:$AN$9,MATCH(AA84,OtrasReferencias!$AM$7:$AM$9,0),2))","v":""}]
[null,null,"","",{"$f":"IF(T85=\"\",\"\",INDEX(referentes!G:H,MATCH(T85,referentes!H:H,0),1))","v":""},{"$f":"IF(V85=\"\",\"\",INDEX(referentes!$M:$N,MATCH(V85,referentes!$N:$N,0),1))","v":""},{"$f":"IF(W85=\"\",\"\",INDEX(referentes!J:K,MATCH(W85,referentes!K:K,0),1))","v":""},null,{"$f":"IF(Y85<>\"\",CONCATENATE($A$3,P85,DIGITADOR!$M$1,Y85,ROW()),\"\")","v":""},{"$f":"IF(Y85<>\"\",CONCATENATE(P85,INT(Q85*1440),DIGITADOR!$M$1,Y85),\"\")","v":""},null,{"$f":"IF(AO85<>\"\",INDEX(referentes!$Y:$Z,MATCH(DATOS!AO85,referentes!$Z:$Z,0),1),\"\")","v":""},"","",{"$f":"IF(R85=\"\",\"\",INDEX(referentes!D:E,MATCH(R85,referentes!E:E,0),1))","v":""},null,null,null,null,null,null,null,null,null,{"$f":"IF(X85=\"\",\"\",INDEX(referentes!$AT:$AX,MATCH(X85,referentes!$AX:$AX,0),1))","v":""},null,null,{"$f":"IF(AC85=\"\",\"\",INDEX(referentes!AZ:BA,MATCH(AC85,referentes!BA:BA,0),1))","v":""},null,null,null,null,null,null,null,null,null,null,null,null,null,null,{"$f":"IF(N85<>\"\",INDEX(referentes!$AK:$AM,MATCH(DATOS!M85,referentes!$AK:$AK,0),3),\"\")","v":""},null,null,{"$f":"IF(AS85=\"\",\"\",INDEX(referentes!P:Q,MATCH(AS85,referentes!Q:Q,0),1))","v":""},null,null,null,{"$f":"IF(AY85=\"\",\"\",INDEX(referentes!AB:AC,MATCH(AY85,referentes!AC:AC,0),1))","v":""},null,{"$f":"IF(BA85=\"\",\"\",INDEX(referentes!S:T,MATCH(BA85,referentes!T:T,0),1))","v":""},null,null,{"$f":"IF(AA85=\"\",\"\",INDEX(OtrasReferencias!$AM$7:$AN$9,MATCH(AA85,OtrasReferencias!$AM$7:$AM$9,0),2))","v":""}]
[null,null,"","",{"$f":"IF(T86=\"\",\"\",INDEX(referentes!G:H,MATCH(T86,referentes!H:H,0),1))","v":""},{"$f":"IF(V86=\"\",\"\",INDEX(referentes!$M:$N,MATCH(V86,referentes!$N:$N,0),1))","v":""},{"$f":"IF(W86=\"\",\"\",INDEX(referentes!J:K,MATCH(W86,referentes!K:K,0),1))","v":""},null,{"$f":"IF(Y86<>\"\",CONCATENATE($A$3,P86,DIGITADOR!$M$1,Y86,ROW()),\"\")","v":""},{"$f":"IF(Y86<>\"\",CONCATENATE(P86,INT(Q86*1440),DIGITADOR!$M$1,Y86),\"\")","v":""},null,{"$f":"IF(AO86<>\"\",INDEX(referentes!$Y:$Z,MATCH(DATOS!AO86,referentes!$Z:$Z,0),1),\"\")","v":""},"","",{"$f":"IF(R86=\"\",\"\",INDEX(referentes!D:E,MATCH(R86,referentes!E:E,0),1))","v":""},null,null,null,null,null,null,null,null,null,{"$f":"IF(X86=\"\",\"\",INDEX(referentes!$AT:$AX,MATCH(X86,referentes!$AX:$AX,0),1))","v":""},null,null,{"$f":"IF(AC86=\"\",\"\",INDEX(referentes!AZ:BA,MATCH(AC86,referentes!BA:BA,0),1))","v":""},null,null,null,null,null,null,null,null,null,null,null,null,null,null,{"$f":"IF(N86<>\"\",INDEX(referentes!$AK:$AM,MATCH(DATOS!M86,referentes!$AK:$AK,0),3),\"\")","v":""},null,null,{"$f":"IF(AS86=\"\",\"\",INDEX(referentes!P:Q,MATCH(AS86,referentes!Q:Q,0),1))","v":""},null,null,null,{"$f":"IF(AY86=\"\",\"\",INDEX(referentes!AB:AC,MATCH(AY86,referentes!AC:AC,0),1))","v":""},null,{"$f":"IF(BA86=\"\",\"\",INDEX(referentes!S:T,MATCH(BA86,referentes!T:T,0),1))","v":""},null,null,{"$f":"IF(AA86=\"\",\"\",INDEX(OtrasReferencias!$AM$7:$AN$9,MATCH(AA86,OtrasReferencias!$AM$7:$AM$9,0),2))","v":""}]
[null,null,"","",{"$f":"IF(T87=\"\",\"\",INDEX(referentes!G:H,MATCH(T87,referentes!H:H,0),1))","v":""},{"$f":"IF(V87=\"\",\"\",INDEX(referentes!$M:$N,MATCH(V87,referentes!$N:$N,0),1))","v":""},{"$f":"IF(W87=\"\",\"\",INDEX(referentes!J:K,MATCH(W87,referentes!K:K,0),1))","v":""},null,{"$f":"IF(Y87<>\"\",CONCATENATE($A$3,P87,DIGITADOR!$M$1,Y87,ROW()),\"\")","v":""},{"$f":"IF(Y87<>\"\",CONCATENATE(P87,INT(Q87*1440),DIGITADOR!$M$1,Y87),\"\")","v":""},null,{"$f":"IF(AO87<>\"\",INDEX(referentes!$Y:$Z,MATCH(DATOS!AO87,referentes!$Z:$Z,0),1),\"\")","v":""},"","",{"$f":"IF(R87=\"\",\"\",INDEX(referentes!D:E,MATCH(R87,referentes!E:E,0),1))","v":""},null,null,null,null,null,null,null,null,null,{"$f":"IF(X87=\"\",\"\",INDEX(referentes!$AT:$AX,MATCH(X87,referentes!$AX:$AX,0),1))","v":""},null,null,{"$f":"IF(AC87=\"\",\"\",INDEX(referentes!AZ:BA,MATCH(AC87,referentes!BA:BA,0),1))","v":""},null,null,null,null,null,null,null,null,null,null,null,null,null,null,{"$f":"IF(N87<>\"\",INDEX(referentes!$AK:$AM,MATCH(DATOS!M87,referentes!$AK:$AK,0),3),\"\")","v":""},null,null,{"$f":"IF(AS87=\"\",\"\",INDEX(referentes!P:Q,MATCH(AS87,referentes!Q:Q,0),1))","v":""},null,null,null,{"$f":"IF(AY87=\"\",\"\",INDEX(referentes!AB:AC,MATCH(AY87,referentes!AC:AC,0),1))","v":""},null,{"$f":"IF(BA87=\"\",\"\",INDEX(referentes!S:T,MATCH(BA87,referentes!T:T,0),1))","v":""},null,null,{"$f":"IF(AA87=\"\",\"\",INDEX(OtrasReferencias!$AM$7:$AN$9,MATCH(AA87,OtrasReferencias!$AM$7:$AM$9,0),2))","v":""}]
[null,null,"","",{"$f":"IF(T88=\"\",\"\",INDEX(referentes!G:H,MATCH(T88,referentes!H:H,0),1))","v":""},{"$f":"IF(V88=\"\",\"\",INDEX(referentes!$M:$N,MATCH(V88,referentes!$N:$N,0),1))","v":""},{"$f":"IF(W88=\"\",\"\",INDEX(referentes!J:K,MATCH(W88,referentes!K:K,0),1))","v":""},null,{"$f":"IF(Y88<>\"\",CONCATENATE($A$3,P88,DIGITADOR!$M$1,Y88,ROW()),\"\")","v":""},{"$f":"IF(Y88<>\"\",CONCATENATE(P88,INT(Q88*1440),DIGITADOR!$M$1,Y88),\"\")","v":""},null,{"$f":"IF(AO88<>\"\",INDEX(referentes!$Y:$Z,MATCH(DATOS!AO88,referentes!$Z:$Z,0),1),\"\")","v":""},"","",{"$f":"IF(R88=\"\",\"\",INDEX(referentes!D:E,MATCH(R88,referentes!E:E,0),1))","v":""},null,null,null,null,null,null,null,null,null,{"$f":"IF(X88=\"\",\"\",INDEX(referentes!$AT:$AX,MATCH(X88,referentes!$AX:$AX,0),1))","v":""},null,null,{"$f":"IF(AC88=\"\",\"\",INDEX(referentes!AZ:BA,MATCH(AC88,referentes!BA:BA,0),1))","v":""},null,null,null,null,null,null,null,null,null,null,null,null,null,null,{"$f":"IF(N88<>\"\",INDEX(referentes!$AK:$AM,MATCH(DATOS!M88,referentes!$AK:$AK,0),3),\"\")","v":""},null,null,{"$f":"IF(AS88=\"\",\"\",INDEX(referentes!P:Q,MATCH(AS88,referentes!Q:Q,0),1))","v":""},null,null,null,{"$f":"IF(AY88=\"\",\"\",INDEX(referentes!AB:AC,MATCH(AY88,referentes!AC:AC,0),1))","v":""},null,{"$f":"IF(BA88=\"\",\"\",INDEX(referentes!S:T,MATCH(BA88,referentes!T:T,0),1))","v":""},null,null,{"$f":"IF(AA88=\"\",\"\",INDEX(OtrasReferencias!$AM$7:$AN$9,MATCH(AA88,OtrasReferencias!$AM$7:$AM$9,0),2))","v":""}]
[null,null,"","",{"$f":"IF(T89=\"\",\"\",INDEX(referentes!G:H,MATCH(T89,referentes!H:H,0),1))","v":""},{"$f":"IF(V89=\"\",\"\",INDEX(referentes!$M:$N,MATCH(V89,referentes!$N:$N,0),1))","v":""},{"$f":"IF(W89=\"\",\"\",INDEX(referentes!J:K,MATCH(W89,referentes!K:K,0),1))","v":""},null,{"$f":"IF(Y89<>\"\",CONCATENATE($A$3,P89,DIGITADOR!$M$1,Y89,ROW()),\"\")","v":""},{"$f":"IF(Y89<>\"\",CONCATENATE(P89,INT(Q89*1440),DIGITADOR!$M$1,Y89),\"\")","v":""},null,{"$f":"IF(AO89<>\"\",INDEX(referentes!$Y:$Z,MATCH(DATOS!AO89,referentes!$Z:$Z,0),1),\"\")","v":""},"","",{"$f":"IF(R89=\"\",\"\",INDEX(referentes!D:E,MATCH(R89,referentes!E:E,0),1))","v":""},null,null,null,null,null,null,null,null,null,{"$f":"IF(X89=\"\",\"\",INDEX(referentes!$AT:$AX,MATCH(X89,referentes!$AX:$AX,0),1))","v":""},null,null,{"$f":"IF(AC89=\"\",\"\",INDEX(referentes!AZ:BA,MATCH(AC89,referentes!BA:BA,0),1))","v":""},null,null,null,null,null,null,null,null,null,null,null,null,null,null,{"$f":"IF(N89<>\"\",INDEX(referentes!$AK:$AM,MATCH(DATOS!M89,referentes!$AK:$AK,0),3),\"\")","v":""},null,null,{"$f":"IF(AS89=\"\",\"\",INDEX(referentes!P:Q,MATCH(AS89,referentes!Q:Q,0),1))","v":""},null,null,null,{"$f":"IF(AY89=\"\",\"\",INDEX(referentes!AB:AC,MATCH(AY89,referentes!AC:AC,0),1))","v":""},null,{"$f":"IF(BA89=\"\",\"\",INDEX(referentes!S:T,MATCH(BA89,referentes!T:T,0),1))","v":""},null,null,{"$f":"IF(AA89=\"\",\"\",INDEX(OtrasReferencias!$AM$7:$AN$9,MATCH(AA89,OtrasReferencias!$AM$7:$AM$9,0),2))","v":""}]
[null,null,"","",{"$f":"IF(T90=\"\",\"\",INDEX(referentes!G:H,MATCH(T90,referentes!H:H,0),1))","v":""},{"$f":"IF(V90=\"\",\"\",INDEX(referentes!$M:$N,MATCH(V90,referentes!$N:$N,0),1))","v":""},{"$f":"IF(W90=\"\",\"\",INDEX(referentes!J:K,MATCH(W90,referentes!K:K,0),1))","v":""},null,{"$f":"IF(Y90<>\"\",CONCATENATE($A$3,P90,DIGITADOR!$M$1,Y90,ROW()),\"\")","v":""},{"$f":"IF(Y90<>\"\",CONCATENATE(P90,INT(Q90*1440),DIGITADOR!$M$1,Y90),\"\")","v":""},null,{"$f":"IF(AO90<>\"\",INDEX(referentes!$Y:$Z,MATCH(DATOS!AO90,referentes!$Z:$Z,0),1),\"\")","v":""},"","",{"$f":"IF(R90=\"\",\"\",INDEX(referentes!D:E,MATCH(R90,referentes!E:E,0),1))","v":""},null,null,null,null,null,null,null,null,null,{"$f":"IF(X90=\"\",\"\",INDEX(referentes!$AT:$AX,MATCH(X90,referentes!$AX:$AX,0),1))","v":""},null,null,{"$f":"IF(AC90=\"\",\"\",INDEX(referentes!AZ:BA,MATCH(AC90,referentes!BA:BA,0),1))","v":""},null,null,null,null,null,null,null,null,null,null,null,null,null,null,{"$f":"IF(N90<>\"\",INDEX(referentes!$AK:$AM,MATCH(DATOS!M90,referentes!$AK:$AK,0),3),\"\")","v":""},null,null,{"$f":"IF(AS90=\"\",\"\",INDEX(referentes!P:Q,MATCH(AS90,referentes!Q:Q,0),1))","v":""},null,null,null,{"$f":"IF(AY90=\"\",\"\",INDEX(referentes!AB:AC,MATCH(AY90,referentes!AC:AC,0),1))","v":""},null,{"$f":"IF(BA90=\"\",\"\",INDEX(referentes!S:T,MATCH(BA90,referentes!T:T,0),1))","v":""},null,null,{"$f":"IF(AA90=\"\",\"\",INDEX(OtrasReferencias!$AM$7:$AN$9,MATCH(AA90,OtrasReferencias!$AM$7:$AM$9,0),2))","v":""}]
[null,null,"","",{"$f":"IF(T91=\"\",\"\",INDEX(referentes!G:H,MATCH(T91,referentes!H:H,0),1))","v":""},{"$f":"IF(V91=\"\",\"\",INDEX(referentes!$M:$N,MATCH(V91,referentes!$N:$N,0),1))","v":""},{"$f":"IF(W91=\"\",\"\",INDEX(referentes!J:K,MATCH(W91,referentes!K:K,0),1))","v":""},null,{"$f":"IF(Y91<>\"\",CONCATENATE($A$3,P91,DIGITADOR!$M$1,Y91,ROW()),\"\")","v":""},{"$f":"IF(Y91<>\"\",CONCATENATE(P91,INT(Q91*1440),DIGITADOR!$M$1,Y91),\"\")","v":""},null,{"$f":"IF(AO91<>\"\",INDEX(referentes!$Y:$Z,MATCH(DATOS!AO91,referentes!$Z:$Z,0),1),\"\")","v":""},"","",{"$f":"IF(R91=\"\",\"\",INDEX(referentes!D:E,MATCH(R91,referentes!E:E,0),1))","v":""},null,null,null,null,null,null,null,null,null,{"$f":"IF(X91=\"\",\"\",INDEX(referentes!$AT:$AX,MATCH(X91,referentes!$AX:$AX,0),1))","v":""},null,null,{"$f":"IF(AC91=\"\",\"\",INDEX(referentes!AZ:BA,MATCH(AC91,referentes!BA:BA,0),1))","v":""},null,null,null,null,null,null,null,null,null,null,null,null,null,null,{"$f":"IF(N91<>\"\",INDEX(referentes!$AK:$AM,MATCH(DATOS!M91,referentes!$AK:$AK,0),3),\"\")","v":""},null,null,{"$f":"IF(AS91=\"\",\"\",INDEX(referentes!P:Q,MATCH(AS91,referentes!Q:Q,0),1))","v":""},null,null,null,{"$f":"IF(AY91=\"\",\"\",INDEX(referentes!AB:AC,MATCH(AY91,referentes!AC:AC,0),1))","v":""},null,{"$f":"IF(BA91=\"\",\"\",INDEX(referentes!S:T,MATCH(BA91,referentes!T:T,0),1))","v":""},null,null,{"$f":"IF(AA91=\"\",\"\",INDEX(OtrasReferencias!$AM$7:$AN$9,MATCH(AA91,OtrasReferencias!$AM$7:$AM$9,0),2))","v":""}]
[null,null,"","",{"$f":"IF(T92=\"\",\"\",INDEX(referentes!G:H,MATCH(T92,referentes!H:H,0),1))","v":""},{"$f":"IF(V92=\"\",\"\",INDEX(referentes!$M:$N,MATCH(V92,referentes!$N:$N,0),1))","v":""},{"$f":"IF(W92=\"\",\"\",INDEX(referentes!J:K,MATCH(W92,referentes!K:K,0),1))","v":""},null,{"$f":"IF(Y92<>\"\",CONCATENATE($A$3,P92,DIGITADOR!$M$1,Y92,ROW()),\"\")","v":""},{"$f":"IF(Y92<>\"\",CONCATENATE(P92,INT(Q92*1440),DIGITADOR!$M$1,Y92),\"\")","v":""},null,{"$f":"IF(AO92<>\"\",INDEX(referentes!$Y:$Z,MATCH(DATOS!AO92,referentes!$Z:$Z,0),1),\"\")","v":""},"","",{"$f":"IF(R92=\"\",\"\",INDEX(referentes!D:E,MATCH(R92,referentes!E:E,0),1))","v":""},null,null,null,null,null,null,null,null,null,{"$f":"IF(X92=\"\",\"\",INDEX(referentes!$AT:$AX,MATCH(X92,referentes!$AX:$AX,0),1))","v":""},null,null,{"$f":"IF(AC92=\"\",\"\",INDEX(referentes!AZ:BA,MATCH(AC92,referentes!BA:BA,0),1))","v":""},null,null,null,null,null,null,null,null,null,null,null,null,null,null,{"$f":"IF(N92<>\"\",INDEX(referentes!$AK:$AM,MATCH(DATOS!M92,referentes!$AK:$AK,0),3),\"\")","v":""},null,null,{"$f":"IF(AS92=\"\",\"\",INDEX(referentes!P:Q,MATCH(AS92,referentes!Q:Q,0),1))","v":""},null,null,null,{"$f":"IF(AY92=\"\",\"\",INDEX(referentes!AB:AC,MATCH(AY92,referentes!AC:AC,0),1))","v":""},null,{"$f":"IF(BA92=\"\",\"\",INDEX(referentes!S:T,MATCH(BA92,referentes!T:T,0),1))","v":""},null,null,{"$f":"IF(AA92=\"\",\"\",INDEX(OtrasReferencias!$AM$7:$AN$9,MATCH(AA92,OtrasReferencias!$AM$7:$AM$9,0),2))","v":""}]
[null,null,"","",{"$f":"IF(T93=\"\",\"\",INDEX(referentes!G:H,MATCH(T93,referentes!H:H,0),1))","v":""},{"$f":"IF(V93=\"\",\"\",INDEX(referentes!$M:$N,MATCH(V93,referentes!$N:$N,0),1))","v":""},{"$f":"IF(W93=\"\",\"\",INDEX(referentes!J:K,MATCH(W93,referentes!K:K,0),1))","v":""},null,{"$f":"IF(Y93<>\"\",CONCATENATE($A$3,P93,DIGITADOR!$M$1,Y93,ROW()),\"\")","v":""},{"$f":"IF(Y93<>\"\",CONCATENATE(P93,INT(Q93*1440),DIGITADOR!$M$1,Y93),\"\")","v":""},null,{"$f":"IF(AO93<>\"\",INDEX(referentes!$Y:$Z,MATCH(DATOS!AO93,referentes!$Z:$Z,0),1),\"\")","v":""},"","",{"$f":"IF(R93=\"\",\"\",INDEX(referentes!D:E,MATCH(R93,referentes!E:E,0),1))","v":""},null,null,null,null,null,null,null,null,null,{"$f":"IF(X93=\"\",\"\",INDEX(referentes!$AT:$AX,MATCH(X93,referentes!$AX:$AX,0),1))","v":""},null,null,{"$f":"IF(AC93=\"\",\"\",INDEX(referentes!AZ:BA,MATCH(AC93,referentes!BA:BA,0),1))","v":""},null,null,null,null,null,null,null,null,null,null,null,null,null,null,{"$f":"IF(N93<>\"\",INDEX(referentes!$AK:$AM,MATCH(DATOS!M93,referentes!$AK:$AK,0),3),\"\")","v":""},null,null,{"$f":"IF(AS93=\"\",\"\",INDEX(referentes!P:Q,MATCH(AS93,referentes!Q:Q,0),1))","v":""},null,null,null,{"$f":"IF(AY93=\"\",\"\",INDEX(referentes!AB:AC,MATCH(AY93,referentes!AC:AC,0),1))","v":""},null,{"$f":"IF(BA93=\"\",\"\",INDEX(referentes!S:T,MATCH(BA93,referentes!T:T,0),1))","v":""},null,null,{"$f":"IF(AA93=\"\",\"\",INDEX(OtrasReferencias!$AM$7:$AN$9,MATCH(AA93,OtrasReferencias!$AM$7:$AM$9,0),2))","v":""}]
[null,null,"","",{"$f":"IF(T94=\"\",\"\",INDEX(referentes!G:H,MATCH(T94,referentes!H:H,0),1))","v":""},{"$f":"IF(V94=\"\",\"\",INDEX(referentes!$M:$N,MATCH(V94,referentes!$N:$N,0),1))","v":""},{"$f":"IF(W94=\"\",\"\",INDEX(referentes!J:K,MATCH(W94,referentes!K:K,0),1))","v":""},null,{"$f":"IF(Y94<>\"\",CONCATENATE($A$3,P94,DIGITADOR!$M$1,Y94,ROW()),\"\")","v":""},{"$f":"IF(Y94<>\"\",CONCATENATE(P94,INT(Q94*1440),DIGITADOR!$M$1,Y94),\"\")","v":""},null,{"$f":"IF(AO94<>\"\",INDEX(referentes!$Y:$Z,MATCH(DATOS!AO94,referentes!$Z:$Z,0),1),\"\")","v":""},"","",{"$f":"IF(R94=\"\",\"\",INDEX(referentes!D:E,MATCH(R94,referentes!E:E,0),1))","v":""},null,null,null,null,null,null,null,null,null,{"$f":"IF(X94=\"\",\"\",INDEX(referentes!$AT:$AX,MATCH(X94,referentes!$AX:$AX,0),1))","v":""},null,null,{"$f":"IF(AC94=\"\",\"\",INDEX(referentes!AZ:BA,MATCH(AC94,referentes!BA:BA,0),1))","v":""},null,null,null,null,null,null,null,null,null,null,null,null,null,null,{"$f":"IF(N94<>\"\",INDEX(referentes!$AK:$AM,MATCH(DATOS!M94,referentes!$AK:$AK,0),3),\"\")","v":""},null,null,{"$f":"IF(AS94=\"\",\"\",INDEX(referentes!P:Q,MATCH(AS94,referentes!Q:Q,0),1))","v":""},null,null,null,{"$f":"IF(AY94=\"\",\"\",INDEX(referentes!AB:AC,MATCH(AY94,referentes!AC:AC,0),1))","v":""},null,{"$f":"IF(BA94=\"\",\"\",INDEX(referentes!S:T,MATCH(BA94,referentes!T:T,0),1))","v":""},null,null,{"$f":"IF(AA94=\"\",\"\",INDEX(OtrasReferencias!$AM$7:$AN$9,MATCH(AA94,OtrasReferencias!$AM$7:$AM$9,0),2))","v":""}]
[null,null,"","",{"$f":"IF(T95=\"\",\"\",INDEX(referentes!G:H,MATCH(T95,referentes!H:H,0),1))","v":""},{"$f":"IF(V95=\"\",\"\",INDEX(referentes!$M:$N,MATCH(V95,referentes!$N:$N,0),1))","v":""},{"$f":"IF(W95=\"\",\"\",INDEX(referentes!J:K,MATCH(W95,referentes!K:K,0),1))","v":""},null,{"$f":"IF(Y95<>\"\",CONCATENATE($A$3,P95,DIGITADOR!$M$1,Y95,ROW()),\"\")","v":""},{"$f":"IF(Y95<>\"\",CONCATENATE(P95,INT(Q95*1440),DIGITADOR!$M$1,Y95),\"\")","v":""},null,{"$f":"IF(AO95<>\"\",INDEX(referentes!$Y:$Z,MATCH(DATOS!AO95,referentes!$Z:$Z,0),1),\"\")","v":""},"","",{"$f":"IF(R95=\"\",\"\",INDEX(referentes!D:E,MATCH(R95,referentes!E:E,0),1))","v":""},null,null,null,null,null,null,null,null,null,{"$f":"IF(X95=\"\",\"\",INDEX(referentes!$AT:$AX,MATCH(X95,referentes!$AX:$AX,0),1))","v":""},null,null,{"$f":"IF(AC95=\"\",\"\",INDEX(referentes!AZ:BA,MATCH(AC95,referentes!BA:BA,0),1))","v":""},null,null,null,null,null,null,null,null,null,null,null,null,null,null,{"$f":"IF(N95<>\"\",INDEX(referentes!$AK:$AM,MATCH(DATOS!M95,referentes!$AK:$AK,0),3),\"\")","v":""},null,null,{"$f":"IF(AS95=\"\",\"\",INDEX(referentes!P:Q,MATCH(AS95,referentes!Q:Q,0),1))","v":""},null,null,null,{"$f":"IF(AY95=\"\",\"\",INDEX(referentes!AB:AC,MATCH(AY95,referentes!AC:AC,0),1))","v":""},null,{"$f":"IF(BA95=\"\",\"\",INDEX(referentes!S:T,MATCH(BA95,referentes!T:T,0),1))","v":""},null,null,{"$f":"IF(AA95=\"\",\"\",INDEX(OtrasReferencias!$AM$7:$AN$9,MATCH(AA95,OtrasReferencias!$AM$7:$AM$9,0),2))","v":""}]
[null,null,"","",{"$f":"IF(T96=\"\",\"\",INDEX(referentes!G:H,MATCH(T96,referentes!H:H,0),1))","v":""},{"$f":"IF(V96=\"\",\"\",INDEX(referentes!$M:$N,MATCH(V96,referentes!$N:$N,0),1))","v":""},{"$f":"IF(W96=\"\",\"\",INDEX(referentes!J:K,MATCH(W96,referentes!K:K,0),1))","v":""},null,{"$f":"IF(Y96<>\"\",CONCATENATE($A$3,P96,DIGITADOR!$M$1,Y96,ROW()),\"\")","v":""},{"$f":"IF(Y96<>\"\",CONCATENATE(P96,INT(Q96*1440),DIGITADOR!$M$1,Y96),\"\")","v":""},null,{"$f":"IF(AO96<>\"\",INDEX(referentes!$Y:$Z,MATCH(DATOS!AO96,referentes!$Z:$Z,0),1),\"\")","v":""},"","",{"$f":"IF(R96=\"\",\"\",INDEX(referentes!D:E,MATCH(R96,referentes!E:E,0),1))","v":""},null,null,null,null,null,null,null,null,null,{"$f":"IF(X96=\"\",\"\",INDEX(referentes!$AT:$AX,MATCH(X96,referentes!$AX:$AX,0),1))","v":""},null,null,{"$f":"IF(AC96=\"\",\"\",INDEX(referentes!AZ:BA,MATCH(AC96,referentes!BA:BA,0),1))","v":""},null,null,null,null,null,null,null,null,null,null,null,null,null,null,{"$f":"IF(N96<>\"\",INDEX(referentes!$AK:$AM,MATCH(DATOS!M96,referentes!$AK:$AK,0),3),\"\")","v":""},null,null,{"$f":"IF(AS96=\"\",\"\",INDEX(referentes!P:Q,MATCH(AS96,referentes!Q:Q,0),1))","v":""},null,null,null,{"$f":"IF(AY96=\"\",\"\",INDEX(referentes!AB:AC,MATCH(AY96,referentes!AC:AC,0),1))","v":""},null,{"$f":"IF(BA96=\"\",\"\",INDEX(referentes!S:T,MATCH(BA96,referentes!T:T,0),1))","v":""},null,null,{"$f":"IF(AA96=\"\",\"\",INDEX(OtrasReferencias!$AM$7:$AN$9,MATCH(AA96,OtrasReferencias!$AM$7:$AM$9,0),2))","v":""}]
[null,null,"","",{"$f":"IF(T97=\"\",\"\",INDEX(referentes!G:H,MATCH(T97,referentes!H:H,0),1))","v":""},{"$f":"IF(V97=\"\",\"\",INDEX(referentes!$M:$N,MATCH(V97,referentes!$N:$N,0),1))","v":""},{"$f":"IF(W97=\"\",\"\",INDEX(referentes!J:K,MATCH(W97,referentes!K:K,0),1))","v":""},null,{"$f":"IF(Y97<>\"\",CONCATENATE($A$3,P97,DIGITADOR!$M$1,Y97,ROW()),\"\")","v":""},{"$f":"IF(Y97<>\"\",CONCATENATE(P97,INT(Q97*1440),DIGITADOR!$M$1,Y97),\"\")","v":""},null,{"$f":"IF(AO97<>\"\",INDEX(referentes!$Y:$Z,MATCH(DATOS!AO97,referentes!$Z:$Z,0),1),\"\")","v":""},"","",{"$f":"IF(R97=\"\",\"\",INDEX(referentes!D:E,MATCH(R97,referentes!E:E,0),1))","v":""},null,null,null,null,null,null,null,null,null,{"$f":"IF(X97=\"\",\"\",INDEX(referentes!$AT:$AX,MATCH(X97,referentes!$AX:$AX,0),1))","v":""},null,null,{"$f":"IF(AC97=\"\",\"\",INDEX(referentes!AZ:BA,MATCH(AC97,referentes!BA:BA,0),1))","v":""},null,null,null,null,null,null,null,null,null,null,null,null,null,null,{"$f":"IF(N97<>\"\",INDEX(referentes!$AK:$AM,MATCH(DATOS!M97,referentes!$AK:$AK,0),3),\"\")","v":""},null,null,{"$f":"IF(AS97=\"\",\"\",INDEX(referentes!P:Q,MATCH(AS97,referentes!Q:Q,0),1))","v":""},null,null,null,{"$f":"IF(AY97=\"\",\"\",INDEX(referentes!AB:AC,MATCH(AY97,referentes!AC:AC,0),1))","v":""},null,{"$f":"IF(BA97=\"\",\"\",INDEX(referentes!S:T,MATCH(BA97,referentes!T:T,0),1))","v":""},null,null,{"$f":"IF(AA97=\"\",\"\",INDEX(OtrasReferencias!$AM$7:$AN$9,MATCH(AA97,OtrasReferencias!$AM$7:$AM$9,0),2))","v":""}]
[null,null,"","",{"$f":"IF(T98=\"\",\"\",INDEX(referentes!G:H,MATCH(T98,referentes!H:H,0),1))","v":""},{"$f":"IF(V98=\"\",\"\",INDEX(referentes!$M:$N,MATCH(V98,referentes!$N:$N,0),1))","v":""},{"$f":"IF(W98=\"\",\"\",INDEX(referentes!J:K,MATCH(W98,referentes!K:K,0),1))","v":""},null,{"$f":"IF(Y98<>\"\",CONCATENATE($A$3,P98,DIGITADOR!$M$1,Y98,ROW()),\"\")","v":""},{"$f":"IF(Y98<>\"\",CONCATENATE(P98,INT(Q98*1440),DIGITADOR!$M$1,Y98),\"\")","v":""},null,{"$f":"IF(AO98<>\"\",INDEX(referentes!$Y:$Z,MATCH(DATOS!AO98,referentes!$Z:$Z,0),1),\"\")","v":""},"","",{"$f":"IF(R98=\"\",\"\",INDEX(referentes!D:E,MATCH(R98,referentes!E:E,0),1))","v":""},null,null,null,null,null,null,null,null,null,{"$f":"IF(X98=\"\",\"\",INDEX(referentes!$AT:$AX,MATCH(X98,referentes!$AX:$AX,0),1))","v":""},null,null,{"$f":"IF(AC98=\"\",\"\",INDEX(referentes!AZ:BA,MATCH(AC98,referentes!BA:BA,0),1))","v":""},null,null,null,null,null,null,null,null,null,null,null,null,null,null,{"$f":"IF(N98<>\"\",INDEX(referentes!$AK:$AM,MATCH(DATOS!M98,referentes!$AK:$AK,0),3),\"\")","v":""},null,null,{"$f":"IF(AS98=\"\",\"\",INDEX(referentes!P:Q,MATCH(AS98,referentes!Q:Q,0),1))","v":""},null,null,null,{"$f":"IF(AY98=\"\",\"\",INDEX(referentes!AB:AC,MATCH(AY98,referentes!AC:AC,0),1))","v":""},null,{"$f":"IF(BA98=\"\",\"\",INDEX(referentes!S:T,MATCH(BA98,referentes!T:T,0),1))","v":""},null,null,{"$f":"IF(AA98=\"\",\"\",INDEX(OtrasReferencias!$AM$7:$AN$9,MATCH(AA98,OtrasReferencias!$AM$7:$AM$9,0),2))","v":""}]
[null,null,"","",{"$f":"IF(T99=\"\",\"\",INDEX(referentes!G:H,MATCH(T99,referentes!H:H,0),1))","v":""},{"$f":"IF(V99=\"\",\"\",INDEX(referentes!$M:$N,MATCH(V99,referentes!$N:$N,0),1))","v":""},{"$f":"IF(W99=\"\",\"\",INDEX(referentes!J:K,MATCH(W99,referentes!K:K,0),1))","v":""},null,{"$f":"IF(Y99<>\"\",CONCATENATE($A$3,P99,DIGITADOR!$M$1,Y99,ROW()),\"\")","v":""},{"$f":"IF(Y99<>\"\",CONCATENATE(P99,INT(Q99*1440),DIGITADOR!$M$1,Y99),\"\")","v":""},null,{"$f":"IF(AO99<>\"\",INDEX(referentes!$Y:$Z,MATCH(DATOS!AO99,referentes!$Z:$Z,0),1),\"\")","v":""},"","",{"$f":"IF(R99=\"\",\"\",INDEX(referentes!D:E,MATCH(R99,referentes!E:E,0),1))","v":""},null,null,null,null,null,null,null,null,null,{"$f":"IF(X99=\"\",\"\",INDEX(referentes!$AT:$AX,MATCH(X99,referentes!$AX:$AX,0),1))","v":""},null,null,{"$f":"IF(AC99=\"\",\"\",INDEX(referentes!AZ:BA,MATCH(AC99,referentes!BA:BA,0),1))","v":""},null,null,null,null,null,null,null,null,null,null,null,null,null,null,{"$f":"IF(N99<>\"\",INDEX(referentes!$AK:$AM,MATCH(DATOS!M99,referentes!$AK:$AK,0),3),\"\")","v":""},null,null,{"$f":"IF(AS99=\"\",\"\",INDEX(referentes!P:Q,MATCH(AS99,referentes!Q:Q,0),1))","v":""},null,null,null,{"$f":"IF(AY99=\"\",\"\",INDEX(referentes!AB:AC,MATCH(AY99,referentes!AC:AC,0),1))","v":""},null,{"$f":"IF(BA99=\"\",\"\",INDEX(referentes!S:T,MATCH(BA99,referentes!T:T,0),1))","v":""},null,null,{"$f":"IF(AA99=\"\",\"\",INDEX(OtrasReferencias!$AM$7:$AN$9,MATCH(AA99,OtrasReferencias!$AM$7:$AM$9,0),2))","v":""}]
[null,null,"","",{"$f":"IF(T100=\"\",\"\",INDEX(referentes!G:H,MATCH(T100,referentes!H:H,0),1))","v":""},{"$f":"IF(V100=\"\",\"\",INDEX(referentes!$M:$N,MATCH(V100,referentes!$N:$N,0),1))","v":""},{"$f":"IF(W100=\"\",\"\",INDEX(referentes!J:K,MATCH(W100,referentes!K:K,0),1))","v":""},null,{"$f":"IF(Y100<>\"\",CONCATENATE($A$3,P100,DIGITADOR!$M$1,Y100,ROW()),\"\")","v":""},{"$f":"IF(Y100<>\"\",CONCATENATE(P100,INT(Q100*1440),DIGITADOR!$M$1,Y100),\"\")","v":""},null,{"$f":"IF(AO100<>\"\",INDEX(referentes!$Y:$Z,MATCH(DATOS!AO100,referentes!$Z:$Z,0),1),\"\")","v":""},"","",{"$f":"IF(R100=\"\",\"\",INDEX(referentes!D:E,MATCH(R100,referentes!E:E,0),1))","v":""},null,null,null,null,null,null,null,null,null,{"$f":"IF(X100=\"\",\"\",INDEX(referentes!$AT:$AX,MATCH(X100,referentes!$AX:$AX,0),1))","v":""},null,null,{"$f":"IF(AC100=\"\",\"\",INDEX(referentes!AZ:BA,MATCH(AC100,referentes!BA:BA,0),1))","v":""},null,null,null,null,null,null,null,null,null,null,null,null,null,null,{"$f":"IF(N100<>\"\",INDEX(referentes!$AK:$AM,MATCH(DATOS!M100,referentes!$AK:$AK,0),3),\"\")","v":""},null,null,{"$f":"IF(AS100=\"\",\"\",INDEX(referentes!P:Q,MATCH(AS100,referentes!Q:Q,0),1))","v":""},null,null,null,{"$f":"IF(AY100=\"\",\"\",INDEX(referentes!AB:AC,MATCH(AY100,referentes!AC:AC,0),1))","v":""},null,{"$f":"IF(BA100=\"\",\"\",INDEX(referentes!S:T,MATCH(BA100,referentes!T:T,0),1))","v":""},null,null,{"$f":"IF(AA100=\"\",\"\",INDEX(OtrasReferencias!$AM$7:$AN$9,MATCH(AA100,OtrasReferencias!$AM$7:$AM$9,0),2))","v":""}]
[null,null,"","",{"$f":"IF(T101=\"\",\"\",INDEX(referentes!G:H,MATCH(T101,referentes!H:H,0),1))","v":""},{"$f":"IF(V101=\"\",\"\",INDEX(referentes!$M:$N,MATCH(V101,referentes!$N:$N,0),1))","v":""},{"$f":"IF(W101=\"\",\"\",INDEX(referentes!J:K,MATCH(W101,referentes!K:K,0),1))","v":""},null,{"$f":"IF(Y101<>\"\",CONCATENATE($A$3,P101,DIGITADOR!$M$1,Y101,ROW()),\"\")","v":""},{"$f":"IF(Y101<>\"\",CONCATENATE(P101,INT(Q101*1440),DIGITADOR!$M$1,Y101),\"\")","v":""},null,{"$f":"IF(AO101<>\"\",INDEX(referentes!$Y:$Z,MATCH(DATOS!AO101,referentes!$Z:$Z,0),1),\"\")","v":""},"","",{"$f":"IF(R101=\"\",\"\",INDEX(referentes!D:E,MATCH(R101,referentes!E:E,0),1))","v":""},null,null,null,null,null,null,null,null,null,{"$f":"IF(X101=\"\",\"\",INDEX(referentes!$AT:$AX,MATCH(X101,referentes!$AX:$AX,0),1))","v":""},null,null,{"$f":"IF(AC101=\"\",\"\",INDEX(referentes!AZ:BA,MATCH(AC101,referentes!BA:BA,0),1))","v":""},null,null,null,null,null,null,null,null,null,null,null,null,null,null,{"$f":"IF(N101<>\"\",INDEX(referentes!$AK:$AM,MATCH(DATOS!M101,referentes!$AK:$AK,0),3),\"\")","v":""},null,null,{"$f":"IF(AS101=\"\",\"\",INDEX(referentes!P:Q,MATCH(AS101,referentes!Q:Q,0),1))","v":""},null,null,null,{"$f":"IF(AY101=\"\",\"\",INDEX(referentes!AB:AC,MATCH(AY101,referentes!AC:AC,0),1))","v":""},null,{"$f":"IF(BA101=\"\",\"\",INDEX(referentes!S:T,MATCH(BA101,referentes!T:T,0),1))","v":""},null,null,{"$f":"IF(AA101=\"\",\"\",INDEX(OtrasReferencias!$AM$7:$AN$9,MATCH(AA101,OtrasReferencias!$AM$7:$AM$9,0),2))","v":""}]
[null,null,"","",{"$f":"IF(T102=\"\",\"\",INDEX(referentes!G:H,MATCH(T102,referentes!H:H,0),1))","v":""},{"$f":"IF(V102=\"\",\"\",INDEX(referentes!$M:$N,MATCH(V102,referentes!$N:$N,0),1))","v":""},{"$f":"IF(W102=\"\",\"\",INDEX(referentes!J:K,MATCH(W102,referentes!K:K,0),1))","v":""},null,{"$f":"IF(Y102<>\"\",CONCATENATE($A$3,P102,DIGITADOR!$M$1,Y102,ROW()),\"\")","v":""},{"$f":"IF(Y102<>\"\",CONCATENATE(P102,INT(Q102*1440),DIGITADOR!$M$1,Y102),\"\")","v":""},null,{"$f":"IF(AO102<>\"\",INDEX(referentes!$Y:$Z,MATCH(DATOS!AO102,referentes!$Z:$Z,0),1),\"\")","v":""},"","",{"$f":"IF(R102=\"\",\"\",INDEX(referentes!D:E,MATCH(R102,referentes!E:E,0),1))","v":""},null,null,null,null,null,null,null,null,null,{"$f":"IF(X102=\"\",\"\",INDEX(referentes!$AT:$AX,MATCH(X102,referentes!$AX:$AX,0),1))","v":""},null,null,{"$f":"IF(AC102=\"\",\"\",INDEX(referentes!AZ:BA,MATCH(AC102,referentes!BA:BA,0),1))","v":""},null,null,null,null,null,null,null,null,null,null,null,null,null,null,{"$f":"IF(N102<>\"\",INDEX(referentes!$AK:$AM,MATCH(DATOS!M102,referentes!$AK:$AK,0),3),\"\")","v":""},null,null,{"$f":"IF(AS102=\"\",\"\",INDEX(referentes!P:Q,MATCH(AS102,referentes!Q:Q,0),1))","v":""},null,null,null,{"$f":"IF(AY102=\"\",\"\",INDEX(referentes!AB:AC,MATCH(AY102,referentes!AC:AC,0),1))","v":""},null,{"$f":"IF(BA102=\"\",\"\",INDEX(referentes!S:T,MATCH(BA102,referentes!T:T,0),1))","v":""},null,null,{"$f":"IF(AA102=\"\",\"\",INDEX(OtrasReferencias!$AM$7:$AN$9,MATCH(AA102,OtrasReferencias!$AM$7:$AM$9,0),2))","v":""}]
[null,null,"","",{"$f":"IF(T103=\"\",\"\",INDEX(referentes!G:H,MATCH(T103,referentes!H:H,0),1))","v":""},{"$f":"IF(V103=\"\",\"\",INDEX(referentes!$M:$N,MATCH(V103,referentes!$N:$N,0),1))","v":""},{"$f":"IF(W103=\"\",\"\",INDEX(referentes!J:K,MATCH(W103,referentes!K:K,0),1))","v":""},null,{"$f":"IF(Y103<>\"\",CONCATENATE($A$3,P103,DIGITADOR!$M$1,Y103,ROW()),\"\")","v":""},{"$f":"IF(Y103<>\"\",CONCATENATE(P103,INT(Q103*1440),DIGITADOR!$M$1,Y103),\"\")","v":""},null,{"$f":"IF(AO103<>\"\",INDEX(referentes!$Y:$Z,MATCH(DATOS!AO103,referentes!$Z:$Z,0),1),\"\")","v":""},"","",{"$f":"IF(R103=\"\",\"\",INDEX(referentes!D:E,MATCH(R103,referentes!E:E,0),1))","v":""},null,null,null,null,null,null,null,null,null,{"$f":"IF(X103=\"\",\"\",INDEX(referentes!$AT:$AX,MATCH(X103,referentes!$AX:$AX,0),1))","v":""},null,null,{"$f":"IF(AC103=\"\",\"\",INDEX(referentes!AZ:BA,MATCH(AC103,referentes!BA:BA,0),1))","v":""},null,null,null,null,null,null,null,null,null,null,null,null,null,null,{"$f":"IF(N103<>\"\",INDEX(referentes!$AK:$AM,MATCH(DATOS!M103,referentes!$AK:$AK,0),3),\"\")","v":""},null,null,{"$f":"IF(AS103=\"\",\"\",INDEX(referentes!P:Q,MATCH(AS103,referentes!Q:Q,0),1))","v":""},null,null,null,{"$f":"IF(AY103=\"\",\"\",INDEX(referentes!AB:AC,MATCH(AY103,referentes!AC:AC,0),1))","v":""},null,{"$f":"IF(BA103=\"\",\"\",INDEX(referentes!S:T,MATCH(BA103,referentes!T:T,0),1))","v":""},null,null,{"$f":"IF(AA103=\"\",\"\",INDEX(OtrasReferencias!$AM$7:$AN$9,MATCH(AA103,OtrasReferencias!$AM$7:$AM$9,0),2))","v":""}]
[null,null,"","",{"$f":"IF(T104=\"\",\"\",INDEX(referentes!G:H,MATCH(T104,referentes!H:H,0),1))","v":""},{"$f":"IF(V104=\"\",\"\",INDEX(referentes!$M:$N,MATCH(V104,referentes!$N:$N,0),1))","v":""},{"$f":"IF(W104=\"\",\"\",INDEX(referentes!J:K,MATCH(W104,referentes!K:K,0),1))","v":""},null,{"$f":"IF(Y104<>\"\",CONCATENATE($A$3,P104,DIGITADOR!$M$1,Y104,ROW()),\"\")","v":""},{"$f":"IF(Y104<>\"\",CONCATENATE(P104,INT(Q104*1440),DIGITADOR!$M$1,Y104),\"\")","v":""},null,{"$f":"IF(AO104<>\"\",INDEX(referentes!$Y:$Z,MATCH(DATOS!AO104,referentes!$Z:$Z,0),1),\"\")","v":""},"","",{"$f":"IF(R104=\"\",\"\",INDEX(referentes!D:E,MATCH(R104,referentes!E:E,0),1))","v":""},null,null,null,null,null,null,null,null,null,{"$f":"IF(X104=\"\",\"\",INDEX(referentes!$AT:$AX,MATCH(X104,referentes!$AX:$AX,0),1))","v":""},null,null,{"$f":"IF(AC104=\"\",\"\",INDEX(referentes!AZ:BA,MATCH(AC104,referentes!BA:BA,0),1))","v":""},null,null,null,null,null,null,null,null,null,null,null,null,null,null,{"$f":"IF(N104<>\"\",INDEX(referentes!$AK:$AM,MATCH(DATOS!M104,referentes!$AK:$AK,0),3),\"\")","v":""},null,null,{"$f":"IF(AS104=\"\",\"\",INDEX(referentes!P:Q,MATCH(AS104,referentes!Q:Q,0),1))","v":""},null,null,null,{"$f":"IF(AY104=\"\",\"\",INDEX(referentes!AB:AC,MATCH(AY104,referentes!AC:AC,0),1))","v":""},null,{"$f":"IF(BA104=\"\",\"\",INDEX(referentes!S:T,MATCH(BA104,referentes!T:T,0),1))","v":""},null,null,{"$f":"IF(AA104=\"\",\"\",INDEX(OtrasReferencias!$AM$7:$AN$9,MATCH(AA104,OtrasReferencias!$AM$7:$AM$9,0),2))","v":""}]
[null,null,"","",{"$f":"IF(T105=\"\",\"\",INDEX(referentes!G:H,MATCH(T105,referentes!H:H,0),1))","v":""},{"$f":"IF(V105=\"\",\"\",INDEX(referentes!$M:$N,MATCH(V105,referentes!$N:$N,0),1))","v":""},{"$f":"IF(W105=\"\",\"\",INDEX(referentes!J:K,MATCH(W105,referentes!K:K,0),1))","v":""},null,{"$f":"IF(Y105<>\"\",CONCATENATE($A$3,P105,DIGITADOR!$M$1,Y105,ROW()),\"\")","v":""},{"$f":"IF(Y105<>\"\",CONCATENATE(P105,INT(Q105*1440),DIGITADOR!$M$1,Y105),\"\")","v":""},null,{"$f":"IF(AO105<>\"\",INDEX(referentes!$Y:$Z,MATCH(DATOS!AO105,referentes!$Z:$Z,0),1),\"\")","v":""},"","",{"$f":"IF(R105=\"\",\"\",INDEX(referentes!D:E,MATCH(R105,referentes!E:E,0),1))","v":""},null,null,null,null,null,null,null,null,null,{"$f":"IF(X105=\"\",\"\",INDEX(referentes!$AT:$AX,MATCH(X105,referentes!$AX:$AX,0),1))","v":""},null,null,{"$f":"IF(AC105=\"\",\"\",INDEX(referentes!AZ:BA,MATCH(AC105,referentes!BA:BA,0),1))","v":""},null,null,null,null,null,null,null,null,null,null,null,null,null,null,{"$f":"IF(N105<>\"\",INDEX(referentes!$AK:$AM,MATCH(DATOS!M105,referentes!$AK:$AK,0),3),\"\")","v":""},null,null,{"$f":"IF(AS105=\"\",\"\",INDEX(referentes!P:Q,MATCH(AS105,referentes!Q:Q,0),1))","v":""},null,null,null,{"$f":"IF(AY105=\"\",\"\",INDEX(referentes!AB:AC,MATCH(AY105,referentes!AC:AC,0),1))","v":""},null,{"$f":"IF(BA105=\"\",\"\",INDEX(referentes!S:T,MATCH(BA105,referentes!T:T,0),1))","v":""},null,null,{"$f":"IF(AA105=\"\",\"\",INDEX(OtrasReferencias!$AM$7:$AN$9,MATCH(AA105,OtrasReferencias!$AM$7:$AM$9,0),2))","v":""}]
[null,null,"","",{"$f":"IF(T106=\"\",\"\",INDEX(referentes!G:H,MATCH(T106,referentes!H:H,0),1))","v":""},{"$f":"IF(V106=\"\",\"\",INDEX(referentes!$M:$N,MATCH(V106,referentes!$N:$N,0),1))","v":""},{"$f":"IF(W106=\"\",\"\",INDEX(referentes!J:K,MATCH(W106,referentes!K:K,0),1))","v":""},null,{"$f":"IF(Y106<>\"\",CONCATENATE($A$3,P106,DIGITADOR!$M$1,Y106,ROW()),\"\")","v":""},{"$f":"IF(Y106<>\"\",CONCATENATE(P106,INT(Q106*1440),DIGITADOR!$M$1,Y106),\"\")","v":""},null,{"$f":"IF(AO106<>\"\",INDEX(referentes!$Y:$Z,MATCH(DATOS!AO106,referentes!$Z:$Z,0),1),\"\")","v":""},"","",{"$f":"IF(R106=\"\",\"\",INDEX(referentes!D:E,MATCH(R106,referentes!E:E,0),1))","v":""},null,null,null,null,null,null,null,null,null,{"$f":"IF(X106=\"\",\"\",INDEX(referentes!$AT:$AX,MATCH(X106,referentes!$AX:$AX,0),1))","v":""},null,null,{"$f":"IF(AC106=\"\",\"\",INDEX(referentes!AZ:BA,MATCH(AC106,referentes!BA:BA,0),1))","v":""},null,null,null,null,null,null,null,null,null,null,null,null,null,null,{"$f":"IF(N106<>\"\",INDEX(referentes!$AK:$AM,MATCH(DATOS!M106,referentes!$AK:$AK,0),3),\"\")","v":""},null,null,{"$f":"IF(AS106=\"\",\"\",INDEX(referentes!P:Q,MATCH(AS106,referentes!Q:Q,0),1))","v":""},null,null,null,{"$f":"IF(AY106=\"\",\"\",INDEX(referentes!AB:AC,MATCH(AY106,referentes!AC:AC,0),1))","v":""},null,{"$f":"IF(BA106=\"\",\"\",INDEX(referentes!S:T,MATCH(BA106,referentes!T:T,0),1))","v":""},null,null,{"$f":"IF(AA106=\"\",\"\",INDEX(OtrasReferencias!$AM$7:$AN$9,MATCH(AA106,OtrasReferencias!$AM$7:$AM$9,0),2))","v":""}]
[null,null,"","",{"$f":"IF(T107=\"\",\"\",INDEX(referentes!G:H,MATCH(T107,referentes!H:H,0),1))","v":""},{"$f":"IF(V107=\"\",\"\",INDEX(referentes!$M:$N,MATCH(V107,referentes!$N:$N,0),1))","v":""},{"$f":"IF(W107=\"\",\"\",INDEX(referentes!J:K,MATCH(W107,referentes!K:K,0),1))","v":""},null,{"$f":"IF(Y107<>\"\",CONCATENATE($A$3,P107,DIGITADOR!$M$1,Y107,ROW()),\"\")","v":""},{"$f":"IF(Y107<>\"\",CONCATENATE(P107,INT(Q107*1440),DIGITADOR!$M$1,Y107),\"\")","v":""},null,{"$f":"IF(AO107<>\"\",INDEX(referentes!$Y:$Z,MATCH(DATOS!AO107,referentes!$Z:$Z,0),1),\"\")","v":""},"","",{"$f":"IF(R107=\"\",\"\",INDEX(referentes!D:E,MATCH(R107,referentes!E:E,0),1))","v":""},null,null,null,null,null,null,null,null,null,{"$f":"IF(X107=\"\",\"\",INDEX(referentes!$AT:$AX,MATCH(X107,referentes!$AX:$AX,0),1))","v":""},null,null,{"$f":"IF(AC107=\"\",\"\",INDEX(referentes!AZ:BA,MATCH(AC107,referentes!BA:BA,0),1))","v":""},null,null,null,null,null,null,null,null,null,null,null,null,null,null,{"$f":"IF(N107<>\"\",INDEX(referentes!$AK:$AM,MATCH(DATOS!M107,referentes!$AK:$AK,0),3),\"\")","v":""},null,null,{"$f":"IF(AS107=\"\",\"\",INDEX(referentes!P:Q,MATCH(AS107,referentes!Q:Q,0),1))","v":""},null,null,null,{"$f":"IF(AY107=\"\",\"\",INDEX(referentes!AB:AC,MATCH(AY107,referentes!AC:AC,0),1))","v":""},null,{"$f":"IF(BA107=\"\",\"\",INDEX(referentes!S:T,MATCH(BA107,referentes!T:T,0),1))","v":""},null,null,{"$f":"IF(AA107=\"\",\"\",INDEX(OtrasReferencias!$AM$7:$AN$9,MATCH(AA107,OtrasReferencias!$AM$7:$AM$9,0),2))","v":""}]
[null,null,"","",{"$f":"IF(T108=\"\",\"\",INDEX(referentes!G:H,MATCH(T108,referentes!H:H,0),1))","v":""},{"$f":"IF(V108=\"\",\"\",INDEX(referentes!$M:$N,MATCH(V108,referentes!$N:$N,0),1))","v":""},{"$f":"IF(W108=\"\",\"\",INDEX(referentes!J:K,MATCH(W108,referentes!K:K,0),1))","v":""},null,{"$f":"IF(Y108<>\"\",CONCATENATE($A$3,P108,DIGITADOR!$M$1,Y108,ROW()),\"\")","v":""},{"$f":"IF(Y108<>\"\",CONCATENATE(P108,INT(Q108*1440),DIGITADOR!$M$1,Y108),\"\")","v":""},null,{"$f":"IF(AO108<>\"\",INDEX(referentes!$Y:$Z,MATCH(DATOS!AO108,referentes!$Z:$Z,0),1),\"\")","v":""},"","",{"$f":"IF(R108=\"\",\"\",INDEX(referentes!D:E,MATCH(R108,referentes!E:E,0),1))","v":""},null,null,null,null,null,null,null,null,null,{"$f":"IF(X108=\"\",\"\",INDEX(referentes!$AT:$AX,MATCH(X108,referentes!$AX:$AX,0),1))","v":""},null,null,{"$f":"IF(AC108=\"\",\"\",INDEX(referentes!AZ:BA,MATCH(AC108,referentes!BA:BA,0),1))","v":""},null,null,null,null,null,null,null,null,null,null,null,null,null,null,{"$f":"IF(N108<>\"\",INDEX(referentes!$AK:$AM,MATCH(DATOS!M108,referentes!$AK:$AK,0),3),\"\")","v":""},null,null,{"$f":"IF(AS108=\"\",\"\",INDEX(referentes!P:Q,MATCH(AS108,referentes!Q:Q,0),1))","v":""},null,null,null,{"$f":"IF(AY108=\"\",\"\",INDEX(referentes!AB:AC,MATCH(AY108,referentes!AC:AC,0),1))","v":""},null,{"$f":"IF(BA108=\"\",\"\",INDEX(referentes!S:T,MATCH(BA108,referentes!T:T,0),1))","v":""},null,null,{"$f":"IF(AA108=\"\",\"\",INDEX(OtrasReferencias!$AM$7:$AN$9,MATCH(AA108,OtrasReferencias!$AM$7:$AM$9,0),2))","v":""}]
[null,null,"","",{"$f":"IF(T109=\"\",\"\",INDEX(referentes!G:H,MATCH(T109,referentes!H:H,0),1))","v":""},{"$f":"IF(V109=\"\",\"\",INDEX(referentes!$M:$N,MATCH(V109,referentes!$N:$N,0),1))","v":""},{"$f":"IF(W109=\"\",\"\",INDEX(referentes!J:K,MATCH(W109,referentes!K:K,0),1))","v":""},null,{"$f":"IF(Y109<>\"\",CONCATENATE($A$3,P109,DIGITADOR!$M$1,Y109,ROW()),\"\")","v":""},{"$f":"IF(Y109<>\"\",CONCATENATE(P109,INT(Q109*1440),DIGITADOR!$M$1,Y109),\"\")","v":""},null,{"$f":"IF(AO109<>\"\",INDEX(referentes!$Y:$Z,MATCH(DATOS!AO109,referentes!$Z:$Z,0),1),\"\")","v":""},"","",{"$f":"IF(R109=\"\",\"\",INDEX(referentes!D:E,MATCH(R109,referentes!E:E,0),1))","v":""},null,null,null,null,null,null,null,null,null,{"$f":"IF(X109=\"\",\"\",INDEX(referentes!$AT:$AX,MATCH(X109,referentes!$AX:$AX,0),1))","v":""},null,null,{"$f":"IF(AC109=\"\",\"\",INDEX(referentes!AZ:BA,MATCH(AC109,referentes!BA:BA,0),1))","v":""},null,null,null,null,null,null,null,null,null,null,null,null,null,null,{"$f":"IF(N109<>\"\",INDEX(referentes!$AK:$AM,MATCH(DATOS!M109,referentes!$AK:$AK,0),3),\"\")","v":""},null,null,{"$f":"IF(AS109=\"\",\"\",INDEX(referentes!P:Q,MATCH(AS109,referentes!Q:Q,0),1))","v":""},null,null,null,{"$f":"IF(AY109=\"\",\"\",INDEX(referentes!AB:AC,MATCH(AY109,referentes!AC:AC,0),1))","v":""},null,{"$f":"IF(BA109=\"\",\"\",INDEX(referentes!S:T,MATCH(BA109,referentes!T:T,0),1))","v":""},null,null,{"$f":"IF(AA109=\"\",\"\",INDEX(OtrasReferencias!$AM$7:$AN$9,MATCH(AA109,OtrasReferencias!$AM$7:$AM$9,0),2))","v":""}]
[null,null,"","",{"$f":"IF(T110=\"\",\"\",INDEX(referentes!G:H,MATCH(T110,referentes!H:H,0),1))","v":""},{"$f":"IF(V110=\"\",\"\",INDEX(referentes!$M:$N,MATCH(V110,referentes!$N:$N,0),1))","v":""},{"$f":"IF(W110=\"\",\"\",INDEX(referentes!J:K,MATCH(W110,referentes!K:K,0),1))","v":""},null,{"$f":"IF(Y110<>\"\",CONCATENATE($A$3,P110,DIGITADOR!$M$1,Y110,ROW()),\"\")","v":""},{"$f":"IF(Y110<>\"\",CONCATENATE(P110,INT(Q110*1440),DIGITADOR!$M$1,Y110),\"\")","v":""},null,{"$f":"IF(AO110<>\"\",INDEX(referentes!$Y:$Z,MATCH(DATOS!AO110,referentes!$Z:$Z,0),1),\"\")","v":""},"","",{"$f":"IF(R110=\"\",\"\",INDEX(referentes!D:E,MATCH(R110,referentes!E:E,0),1))","v":""},null,null,null,null,null,null,null,null,null,{"$f":"IF(X110=\"\",\"\",INDEX(referentes!$AT:$AX,MATCH(X110,referentes!$AX:$AX,0),1))","v":""},null,null,{"$f":"IF(AC110=\"\",\"\",INDEX(referentes!AZ:BA,MATCH(AC110,referentes!BA:BA,0),1))","v":""},null,null,null,null,null,null,null,null,null,null,null,null,null,null,{"$f":"IF(N110<>\"\",INDEX(referentes!$AK:$AM,MATCH(DATOS!M110,referentes!$AK:$AK,0),3),\"\")","v":""},null,null,{"$f":"IF(AS110=\"\",\"\",INDEX(referentes!P:Q,MATCH(AS110,referentes!Q:Q,0),1))","v":""},null,null,null,{"$f":"IF(AY110=\"\",\"\",INDEX(referentes!AB:AC,MATCH(AY110,referentes!AC:AC,0),1))","v":""},null,{"$f":"IF(BA110=\"\",\"\",INDEX(referentes!S:T,MATCH(BA110,referentes!T:T,0),1))","v":""},null,null,{"$f":"IF(AA110=\"\",\"\",INDEX(OtrasReferencias!$AM$7:$AN$9,MATCH(AA110,OtrasReferencias!$AM$7:$AM$9,0),2))","v":""}]
[null,null,"","",{"$f":"IF(T111=\"\",\"\",INDEX(referentes!G:H,MATCH(T111,referentes!H:H,0),1))","v":""},{"$f":"IF(V111=\"\",\"\",INDEX(referentes!$M:$N,MATCH(V111,referentes!$N:$N,0),1))","v":""},{"$f":"IF(W111=\"\",\"\",INDEX(referentes!J:K,MATCH(W111,referentes!K:K,0),1))","v":""},null,{"$f":"IF(Y111<>\"\",CONCATENATE($A$3,P111,DIGITADOR!$M$1,Y111,ROW()),\"\")","v":""},{"$f":"IF(Y111<>\"\",CONCATENATE(P111,INT(Q111*1440),DIGITADOR!$M$1,Y111),\"\")","v":""},null,{"$f":"IF(AO111<>\"\",INDEX(referentes!$Y:$Z,MATCH(DATOS!AO111,referentes!$Z:$Z,0),1),\"\")","v":""},"","",{"$f":"IF(R111=\"\",\"\",INDEX(referentes!D:E,MATCH(R111,referentes!E:E,0),1))","v":""},null,null,null,null,null,null,null,null,null,{"$f":"IF(X111=\"\",\"\",INDEX(referentes!$AT:$AX,MATCH(X111,referentes!$AX:$AX,0),1))","v":""},null,null,{"$f":"IF(AC111=\"\",\"\",INDEX(referentes!AZ:BA,MATCH(AC111,referentes!BA:BA,0),1))","v":""},null,null,null,null,null,null,null,null,null,null,null,null,null,null,{"$f":"IF(N111<>\"\",INDEX(referentes!$AK:$AM,MATCH(DATOS!M111,referentes!$AK:$AK,0),3),\"\")","v":""},null,null,{"$f":"IF(AS111=\"\",\"\",INDEX(referentes!P:Q,MATCH(AS111,referentes!Q:Q,0),1))","v":""},null,null,null,{"$f":"IF(AY111=\"\",\"\",INDEX(referentes!AB:AC,MATCH(AY111,referentes!AC:AC,0),1))","v":""},null,{"$f":"IF(BA111=\"\",\"\",INDEX(referentes!S:T,MATCH(BA111,referentes!T:T,0),1))","v":""},null,null,{"$f":"IF(AA111=\"\",\"\",INDEX(OtrasReferencias!$AM$7:$AN$9,MATCH(AA111,OtrasReferencias!$AM$7:$AM$9,0),2))","v":""}]
[null,null,"","",{"$f":"IF(T112=\"\",\"\",INDEX(referentes!G:H,MATCH(T112,referentes!H:H,0),1))","v":""},{"$f":"IF(V112=\"\",\"\",INDEX(referentes!$M:$N,MATCH(V112,referentes!$N:$N,0),1))","v":""},{"$f":"IF(W112=\"\",\"\",INDEX(referentes!J:K,MATCH(W112,referentes!K:K,0),1))","v":""},null,{"$f":"IF(Y112<>\"\",CONCATENATE($A$3,P112,DIGITADOR!$M$1,Y112,ROW()),\"\")","v":""},{"$f":"IF(Y112<>\"\",CONCATENATE(P112,INT(Q112*1440),DIGITADOR!$M$1,Y112),\"\")","v":""},null,{"$f":"IF(AO112<>\"\",INDEX(referentes!$Y:$Z,MATCH(DATOS!AO112,referentes!$Z:$Z,0),1),\"\")","v":""},"","",{"$f":"IF(R112=\"\",\"\",INDEX(referentes!D:E,MATCH(R112,referentes!E:E,0),1))","v":""},null,null,null,null,null,null,null,null,null,{"$f":"IF(X112=\"\",\"\",INDEX(referentes!$AT:$AX,MATCH(X112,referentes!$AX:$AX,0),1))","v":""},null,null,{"$f":"IF(AC112=\"\",\"\",INDEX(referentes!AZ:BA,MATCH(AC112,referentes!BA:BA,0),1))","v":""},null,null,null,null,null,null,null,null,null,null,null,null,null,null,{"$f":"IF(N112<>\"\",INDEX(referentes!$AK:$AM,MATCH(DATOS!M112,referentes!$AK:$AK,0),3),\"\")","v":""},null,null,{"$f":"IF(AS112=\"\",\"\",INDEX(referentes!P:Q,MATCH(AS112,referentes!Q:Q,0),1))","v":""},null,null,null,{"$f":"IF(AY112=\"\",\"\",INDEX(referentes!AB:AC,MATCH(AY112,referentes!AC:AC,0),1))","v":""},null,{"$f":"IF(BA112=\"\",\"\",INDEX(referentes!S:T,MATCH(BA112,referentes!T:T,0),1))","v":""},null,null,{"$f":"IF(AA112=\"\",\"\",INDEX(OtrasReferencias!$AM$7:$AN$9,MATCH(AA112,OtrasReferencias!$AM$7:$AM$9,0),2))","v":""}]
[null,null,"","",{"$f":"IF(T113=\"\",\"\",INDEX(referentes!G:H,MATCH(T113,referentes!H:H,0),1))","v":""},{"$f":"IF(V113=\"\",\"\",INDEX(referentes!$M:$N,MATCH(V113,referentes!$N:$N,0),1))","v":""},{"$f":"IF(W113=\"\",\"\",INDEX(referentes!J:K,MATCH(W113,referentes!K:K,0),1))","v":""},null,{"$f":"IF(Y113<>\"\",CONCATENATE($A$3,P113,DIGITADOR!$M$1,Y113,ROW()),\"\")","v":""},{"$f":"IF(Y113<>\"\",CONCATENATE(P113,INT(Q113*1440),DIGITADOR!$M$1,Y113),\"\")","v":""},null,{"$f":"IF(AO113<>\"\",INDEX(referentes!$Y:$Z,MATCH(DATOS!AO113,referentes!$Z:$Z,0),1),\"\")","v":""},"","",{"$f":"IF(R113=\"\",\"\",INDEX(referentes!D:E,MATCH(R113,referentes!E:E,0),1))","v":""},null,null,null,null,null,null,null,null,null,{"$f":"IF(X113=\"\",\"\",INDEX(referentes!$AT:$AX,MATCH(X113,referentes!$AX:$AX,0),1))","v":""},null,null,{"$f":"IF(AC113=\"\",\"\",INDEX(referentes!AZ:BA,MATCH(AC113,referentes!BA:BA,0),1))","v":""},null,null,null,null,null,null,null,null,null,null,null,null,null,null,{"$f":"IF(N113<>\"\",INDEX(referentes!$AK:$AM,MATCH(DATOS!M113,referentes!$AK:$AK,0),3),\"\")","v":""},null,null,{"$f":"IF(AS113=\"\",\"\",INDEX(referentes!P:Q,MATCH(AS113,referentes!Q:Q,0),1))","v":""},null,null,null,{"$f":"IF(AY113=\"\",\"\",INDEX(referentes!AB:AC,MATCH(AY113,referentes!AC:AC,0),1))","v":""},null,{"$f":"IF(BA113=\"\",\"\",INDEX(referentes!S:T,MATCH(BA113,referentes!T:T,0),1))","v":""},null,null,{"$f":"IF(AA113=\"\",\"\",INDEX(OtrasReferencias!$AM$7:$AN$9,MATCH(AA113,OtrasReferencias!$AM$7:$AM$9,0),2))","v":""}]
[null,null,"","",{"$f":"IF(T114=\"\",\"\",INDEX(referentes!G:H,MATCH(T114,referentes!H:H,0),1))","v":""},{"$f":"IF(V114=\"\",\"\",INDEX(referentes!$M:$N,MATCH(V114,referentes!$N:$N,0),1))","v":""},{"$f":"IF(W114=\"\",\"\",INDEX(referentes!J:K,MATCH(W114,referentes!K:K,0),1))","v":""},null,{"$f":"IF(Y114<>\"\",CONCATENATE($A$3,P114,DIGITADOR!$M$1,Y114,ROW()),\"\")","v":""},{"$f":"IF(Y114<>\"\",CONCATENATE(P114,INT(Q114*1440),DIGITADOR!$M$1,Y114),\"\")","v":""},null,{"$f":"IF(AO114<>\"\",INDEX(referentes!$Y:$Z,MATCH(DATOS!AO114,referentes!$Z:$Z,0),1),\"\")","v":""},"","",{"$f":"IF(R114=\"\",\"\",INDEX(referentes!D:E,MATCH(R114,referentes!E:E,0),1))","v":""},null,null,null,null,null,null,null,null,null,{"$f":"IF(X114=\"\",\"\",INDEX(referentes!$AT:$AX,MATCH(X114,referentes!$AX:$AX,0),1))","v":""},null,null,{"$f":"IF(AC114=\"\",\"\",INDEX(referentes!AZ:BA,MATCH(AC114,referentes!BA:BA,0),1))","v":""},null,null,null,null,null,null,null,null,null,null,null,null,null,null,{"$f":"IF(N114<>\"\",INDEX(referentes!$AK:$AM,MATCH(DATOS!M114,referentes!$AK:$AK,0),3),\"\")","v":""},null,null,{"$f":"IF(AS114=\"\",\"\",INDEX(referentes!P:Q,MATCH(AS114,referentes!Q:Q,0),1))","v":""},null,null,null,{"$f":"IF(AY114=\"\",\"\",INDEX(referentes!AB:AC,MATCH(AY114,referentes!AC:AC,0),1))","v":""},null,{"$f":"IF(BA114=\"\",\"\",INDEX(referentes!S:T,MATCH(BA114,referentes!T:T,0),1))","v":""},null,null,{"$f":"IF(AA114=\"\",\"\",INDEX(OtrasReferencias!$AM$7:$AN$9,MATCH(AA114,OtrasReferencias!$AM$7:$AM$9,0),2))","v":""}]
[null,null,"","",{"$f":"IF(T115=\"\",\"\",INDEX(referentes!G:H,MATCH(T115,referentes!H:H,0),1))","v":""},{"$f":"IF(V115=\"\",\"\",INDEX(referentes!$M:$N,MATCH(V115,referentes!$N:$N,0),1))","v":""},{"$f":"IF(W115=\"\",\"\",INDEX(referentes!J:K,MATCH(W115,referentes!K:K,0),1))","v":""},null,{"$f":"IF(Y115<>\"\",CONCATENATE($A$3,P115,DIGITADOR!$M$1,Y115,ROW()),\"\")","v":""},{"$f":"IF(Y115<>\"\",CONCATENATE(P115,INT(Q115*1440),DIGITADOR!$M$1,Y115),\"\")","v":""},null,{"$f":"IF(AO115<>\"\",INDEX(referentes!$Y:$Z,MATCH(DATOS!AO115,referentes!$Z:$Z,0),1),\"\")","v":""},"","",{"$f":"IF(R115=\"\",\"\",INDEX(referentes!D:E,MATCH(R115,referentes!E:E,0),1))","v":""},null,null,null,null,null,null,null,null,null,{"$f":"IF(X115=\"\",\"\",INDEX(referentes!$AT:$AX,MATCH(X115,referentes!$AX:$AX,0),1))","v":""},null,null,{"$f":"IF(AC115=\"\",\"\",INDEX(referentes!AZ:BA,MATCH(AC115,referentes!BA:BA,0),1))","v":""},null,null,null,null,null,null,null,null,null,null,null,null,null,null,{"$f":"IF(N115<>\"\",INDEX(referentes!$AK:$AM,MATCH(DATOS!M115,referentes!$AK:$AK,0),3),\"\")","v":""},null,null,{"$f":"IF(AS115=\"\",\"\",INDEX(referentes!P:Q,MATCH(AS115,referentes!Q:Q,0),1))","v":""},null,null,null,{"$f":"IF(AY115=\"\",\"\",INDEX(referentes!AB:AC,MATCH(AY115,referentes!AC:AC,0),1))","v":""},null,{"$f":"IF(BA115=\"\",\"\",INDEX(referentes!S:T,MATCH(BA115,referentes!T:T,0),1))","v":""},null,null,{"$f":"IF(AA115=\"\",\"\",INDEX(OtrasReferencias!$AM$7:$AN$9,MATCH(AA115,OtrasReferencias!$AM$7:$AM$9,0),2))","v":""}]
[null,null,"","",{"$f":"IF(T116=\"\",\"\",INDEX(referentes!G:H,MATCH(T116,referentes!H:H,0),1))","v":""},{"$f":"IF(V116=\"\",\"\",INDEX(referentes!$M:$N,MATCH(V116,referentes!$N:$N,0),1))","v":""},{"$f":"IF(W116=\"\",\"\",INDEX(referentes!J:K,MATCH(W116,referentes!K:K,0),1))","v":""},null,{"$f":"IF(Y116<>\"\",CONCATENATE($A$3,P116,DIGITADOR!$M$1,Y116,ROW()),\"\")","v":""},{"$f":"IF(Y116<>\"\",CONCATENATE(P116,INT(Q116*1440),DIGITADOR!$M$1,Y116),\"\")","v":""},null,{"$f":"IF(AO116<>\"\",INDEX(referentes!$Y:$Z,MATCH(DATOS!AO116,referentes!$Z:$Z,0),1),\"\")","v":""},"","",{"$f":"IF(R116=\"\",\"\",INDEX(referentes!D:E,MATCH(R116,referentes!E:E,0),1))","v":""},null,null,null,null,null,null,null,null,null,{"$f":"IF(X116=\"\",\"\",INDEX(referentes!$AT:$AX,MATCH(X116,referentes!$AX:$AX,0),1))","v":""},null,null,{"$f":"IF(AC116=\"\",\"\",INDEX(referentes!AZ:BA,MATCH(AC116,referentes!BA:BA,0),1))","v":""},null,null,null,null,null,null,null,null,null,null,null,null,null,null,{"$f":"IF(N116<>\"\",INDEX(referentes!$AK:$AM,MATCH(DATOS!M116,referentes!$AK:$AK,0),3),\"\")","v":""},null,null,{"$f":"IF(AS116=\"\",\"\",INDEX(referentes!P:Q,MATCH(AS116,referentes!Q:Q,0),1))","v":""},null,null,null,{"$f":"IF(AY116=\"\",\"\",INDEX(referentes!AB:AC,MATCH(AY116,referentes!AC:AC,0),1))","v":""},null,{"$f":"IF(BA116=\"\",\"\",INDEX(referentes!S:T,MATCH(BA116,referentes!T:T,0),1))","v":""},null,null,{"$f":"IF(AA116=\"\",\"\",INDEX(OtrasReferencias!$AM$7:$AN$9,MATCH(AA116,OtrasReferencias!$AM$7:$AM$9,0),2))","v":""}]
[null,null,"","",{"$f":"IF(T117=\"\",\"\",INDEX(referentes!G:H,MATCH(T117,referentes!H:H,0),1))","v":""},{"$f":"IF(V117=\"\",\"\",INDEX(referentes!$M:$N,MATCH(V117,referentes!$N:$N,0),1))","v":""},{"$f":"IF(W117=\"\",\"\",INDEX(referentes!J:K,MATCH(W117,referentes!K:K,0),1))","v":""},null,{"$f":"IF(Y117<>\"\",CONCATENATE($A$3,P117,DIGITADOR!$M$1,Y117,ROW()),\"\")","v":""},{"$f":"IF(Y117<>\"\",CONCATENATE(P117,INT(Q117*1440),DIGITADOR!$M$1,Y117),\"\")","v":""},null,{"$f":"IF(AO117<>\"\",INDEX(referentes!$Y:$Z,MATCH(DATOS!AO117,referentes!$Z:$Z,0),1),\"\")","v":""},"","",{"$f":"IF(R117=\"\",\"\",INDEX(referentes!D:E,MATCH(R117,referentes!E:E,0),1))","v":""},null,null,null,null,null,null,null,null,null,{"$f":"IF(X117=\"\",\"\",INDEX(referentes!$AT:$AX,MATCH(X117,referentes!$AX:$AX,0),1))","v":""},null,null,{"$f":"IF(AC117=\"\",\"\",INDEX(referentes!AZ:BA,MATCH(AC117,referentes!BA:BA,0),1))","v":""},null,null,null,null,null,null,null,null,null,null,null,null,null,null,{"$f":"IF(N117<>\"\",INDEX(referentes!$AK:$AM,MATCH(DATOS!M117,referentes!$AK:$AK,0),3),\"\")","v":""},null,null,{"$f":"IF(AS117=\"\",\"\",INDEX(referentes!P:Q,MATCH(AS117,referentes!Q:Q,0),1))","v":""},null,null,null,{"$f":"IF(AY117=\"\",\"\",INDEX(referentes!AB:AC,MATCH(AY117,referentes!AC:AC,0),1))","v":""},null,{"$f":"IF(BA117=\"\",\"\",INDEX(referentes!S:T,MATCH(BA117,referentes!T:T,0),1))","v":""},null,null,{"$f":"IF(AA117=\"\",\"\",INDEX(OtrasReferencias!$AM$7:$AN$9,MATCH(AA117,OtrasReferencias!$AM$7:$AM$9,0),2))","v":""}]
[null,null,"","",{"$f":"IF(T118=\"\",\"\",INDEX(referentes!G:H,MATCH(T118,referentes!H:H,0),1))","v":""},{"$f":"IF(V118=\"\",\"\",INDEX(referentes!$M:$N,MATCH(V118,referentes!$N:$N,0),1))","v":""},{"$f":"IF(W118=\"\",\"\",INDEX(referentes!J:K,MATCH(W118,referentes!K:K,0),1))","v":""},null,{"$f":"IF(Y118<>\"\",CONCATENATE($A$3,P118,DIGITADOR!$M$1,Y118,ROW()),\"\")","v":""},{"$f":"IF(Y118<>\"\",CONCATENATE(P118,INT(Q118*1440),DIGITADOR!$M$1,Y118),\"\")","v":""},null,{"$f":"IF(AO118<>\"\",INDEX(referentes!$Y:$Z,MATCH(DATOS!AO118,referentes!$Z:$Z,0),1),\"\")","v":""},"","",{"$f":"IF(R118=\"\",\"\",INDEX(referentes!D:E,MATCH(R118,referentes!E:E,0),1))","v":""},null,null,null,null,null,null,null,null,null,{"$f":"IF(X118=\"\",\"\",INDEX(referentes!$AT:$AX,MATCH(X118,referentes!$AX:$AX,0),1))","v":""},null,null,{"$f":"IF(AC118=\"\",\"\",INDEX(referentes!AZ:BA,MATCH(AC118,referentes!BA:BA,0),1))","v":""},null,null,null,null,null,null,null,null,null,null,null,null,null,null,{"$f":"IF(N118<>\"\",INDEX(referentes!$AK:$AM,MATCH(DATOS!M118,referentes!$AK:$AK,0),3),\"\")","v":""},null,null,{"$f":"IF(AS118=\"\",\"\",INDEX(referentes!P:Q,MATCH(AS118,referentes!Q:Q,0),1))","v":""},null,null,null,{"$f":"IF(AY118=\"\",\"\",INDEX(referentes!AB:AC,MATCH(AY118,referentes!AC:AC,0),1))","v":""},null,{"$f":"IF(BA118=\"\",\"\",INDEX(referentes!S:T,MATCH(BA118,referentes!T:T,0),1))","v":""},null,null,{"$f":"IF(AA118=\"\",\"\",INDEX(OtrasReferencias!$AM$7:$AN$9,MATCH(AA118,OtrasReferencias!$AM$7:$AM$9,0),2))","v":""}]
[null,null,"","",{"$f":"IF(T119=\"\",\"\",INDEX(referentes!G:H,MATCH(T119,referentes!H:H,0),1))","v":""},{"$f":"IF(V119=\"\",\"\",INDEX(referentes!$M:$N,MATCH(V119,referentes!$N:$N,0),1))","v":""},{"$f":"IF(W119=\"\",\"\",INDEX(referentes!J:K,MATCH(W119,referentes!K:K,0),1))","v":""},null,{"$f":"IF(Y119<>\"\",CONCATENATE($A$3,P119,DIGITADOR!$M$1,Y119,ROW()),\"\")","v":""},{"$f":"IF(Y119<>\"\",CONCATENATE(P119,INT(Q119*1440),DIGITADOR!$M$1,Y119),\"\")","v":""},null,{"$f":"IF(AO119<>\"\",INDEX(referentes!$Y:$Z,MATCH(DATOS!AO119,referentes!$Z:$Z,0),1),\"\")","v":""},"","",{"$f":"IF(R119=\"\",\"\",INDEX(referentes!D:E,MATCH(R119,referentes!E:E,0),1))","v":""},null,null,null,null,null,null,null,null,null,{"$f":"IF(X119=\"\",\"\",INDEX(referentes!$AT:$AX,MATCH(X119,referentes!$AX:$AX,0),1))","v":""},null,null,{"$f":"IF(AC119=\"\",\"\",INDEX(referentes!AZ:BA,MATCH(AC119,referentes!BA:BA,0),1))","v":""},null,null,null,null,null,null,null,null,null,null,null,null,null,null,{"$f":"IF(N119<>\"\",INDEX(referentes!$AK:$AM,MATCH(DATOS!M119,referentes!$AK:$AK,0),3),\"\")","v":""},null,null,{"$f":"IF(AS119=\"\",\"\",INDEX(referentes!P:Q,MATCH(AS119,referentes!Q:Q,0),1))","v":""},null,null,null,{"$f":"IF(AY119=\"\",\"\",INDEX(referentes!AB:AC,MATCH(AY119,referentes!AC:AC,0),1))","v":""},null,{"$f":"IF(BA119=\"\",\"\",INDEX(referentes!S:T,MATCH(BA119,referentes!T:T,0),1))","v":""},null,null,{"$f":"IF(AA119=\"\",\"\",INDEX(OtrasReferencias!$AM$7:$AN$9,MATCH(AA119,OtrasReferencias!$AM$7:$AM$9,0),2))","v":""}]
[null,null,"","",{"$f":"IF(T120=\"\",\"\",INDEX(referentes!G:H,MATCH(T120,referentes!H:H,0),1))","v":""},{"$f":"IF(V120=\"\",\"\",INDEX(referentes!$M:$N,MATCH(V120,referentes!$N:$N,0),1))","v":""},{"$f":"IF(W120=\"\",\"\",INDEX(referentes!J:K,MATCH(W120,referentes!K:K,0),1))","v":""},null,{"$f":"IF(Y120<>\"\",CONCATENATE($A$3,P120,DIGITADOR!$M$1,Y120,ROW()),\"\")","v":""},{"$f":"IF(Y120<>\"\",CONCATENATE(P120,INT(Q120*1440),DIGITADOR!$M$1,Y120),\"\")","v":""},null,{"$f":"IF(AO120<>\"\",INDEX(referentes!$Y:$Z,MATCH(DATOS!AO120,referentes!$Z:$Z,0),1),\"\")","v":""},"","",{"$f":"IF(R120=\"\",\"\",INDEX(referentes!D:E,MATCH(R120,referentes!E:E,0),1))","v":""},null,null,null,null,null,null,null,null,null,{"$f":"IF(X120=\"\",\"\",INDEX(referentes!$AT:$AX,MATCH(X120,referentes!$AX:$AX,0),1))","v":""},null,null,{"$f":"IF(AC120=\"\",\"\",INDEX(referentes!AZ:BA,MATCH(AC120,referentes!BA:BA,0),1))","v":""},null,null,null,null,null,null,null,null,null,null,null,null,null,null,{"$f":"IF(N120<>\"\",INDEX(referentes!$AK:$AM,MATCH(DATOS!M120,referentes!$AK:$AK,0),3),\"\")","v":""},null,null,{"$f":"IF(AS120=\"\",\"\",INDEX(referentes!P:Q,MATCH(AS120,referentes!Q:Q,0),1))","v":""},null,null,null,{"$f":"IF(AY120=\"\",\"\",INDEX(referentes!AB:AC,MATCH(AY120,referentes!AC:AC,0),1))","v":""},null,{"$f":"IF(BA120=\"\",\"\",INDEX(referentes!S:T,MATCH(BA120,referentes!T:T,0),1))","v":""},null,null,{"$f":"IF(AA120=\"\",\"\",INDEX(OtrasReferencias!$AM$7:$AN$9,MATCH(AA120,OtrasReferencias!$AM$7:$AM$9,0),2))","v":""}]
[null,null,"","",{"$f":"IF(T121=\"\",\"\",INDEX(referentes!G:H,MATCH(T121,referentes!H:H,0),1))","v":""},{"$f":"IF(V121=\"\",\"\",INDEX(referentes!$M:$N,MATCH(V121,referentes!$N:$N,0),1))","v":""},{"$f":"IF(W121=\"\",\"\",INDEX(referentes!J:K,MATCH(W121,referentes!K:K,0),1))","v":""},null,{"$f":"IF(Y121<>\"\",CONCATENATE($A$3,P121,DIGITADOR!$M$1,Y121,ROW()),\"\")","v":""},{"$f":"IF(Y121<>\"\",CONCATENATE(P121,INT(Q121*1440),DIGITADOR!$M$1,Y121),\"\")","v":""},null,{"$f":"IF(AO121<>\"\",INDEX(referentes!$Y:$Z,MATCH(DATOS!AO121,referentes!$Z:$Z,0),1),\"\")","v":""},"","",{"$f":"IF(R121=\"\",\"\",INDEX(referentes!D:E,MATCH(R121,referentes!E:E,0),1))","v":""},null,null,null,null,null,null,null,null,null,{"$f":"IF(X121=\"\",\"\",INDEX(referentes!$AT:$AX,MATCH(X121,referentes!$AX:$AX,0),1))","v":""},null,null,{"$f":"IF(AC121=\"\",\"\",INDEX(referentes!AZ:BA,MATCH(AC121,referentes!BA:BA,0),1))","v":""},null,null,null,null,null,null,null,null,null,null,null,null,null,null,{"$f":"IF(N121<>\"\",INDEX(referentes!$AK:$AM,MATCH(DATOS!M121,referentes!$AK:$AK,0),3),\"\")","v":""},null,null,{"$f":"IF(AS121=\"\",\"\",INDEX(referentes!P:Q,MATCH(AS121,referentes!Q:Q,0),1))","v":""},null,null,null,{"$f":"IF(AY121=\"\",\"\",INDEX(referentes!AB:AC,MATCH(AY121,referentes!AC:AC,0),1))","v":""},null,{"$f":"IF(BA121=\"\",\"\",INDEX(referentes!S:T,MATCH(BA121,referentes!T:T,0),1))","v":""},null,null,{"$f":"IF(AA121=\"\",\"\",INDEX(OtrasReferencias!$AM$7:$AN$9,MATCH(AA121,OtrasReferencias!$AM$7:$AM$9,0),2))","v":""}]
[null,null,"","",{"$f":"IF(T122=\"\",\"\",INDEX(referentes!G:H,MATCH(T122,referentes!H:H,0),1))","v":""},{"$f":"IF(V122=\"\",\"\",INDEX(referentes!$M:$N,MATCH(V122,referentes!$N:$N,0),1))","v":""},{"$f":"IF(W122=\"\",\"\",INDEX(referentes!J:K,MATCH(W122,referentes!K:K,0),1))","v":""},null,{"$f":"IF(Y122<>\"\",CONCATENATE($A$3,P122,DIGITADOR!$M$1,Y122,ROW()),\"\")","v":""},{"$f":"IF(Y122<>\"\",CONCATENATE(P122,INT(Q122*1440),DIGITADOR!$M$1,Y122),\"\")","v":""},null,{"$f":"IF(AO122<>\"\",INDEX(referentes!$Y:$Z,MATCH(DATOS!AO122,referentes!$Z:$Z,0),1),\"\")","v":""},"","",{"$f":"IF(R122=\"\",\"\",INDEX(referentes!D:E,MATCH(R122,referentes!E:E,0),1))","v":""},null,null,null,null,null,null,null,null,null,{"$f":"IF(X122=\"\",\"\",INDEX(referentes!$AT:$AX,MATCH(X122,referentes!$AX:$AX,0),1))","v":""},null,null,{"$f":"IF(AC122=\"\",\"\",INDEX(referentes!AZ:BA,MATCH(AC122,referentes!BA:BA,0),1))","v":""},null,null,null,null,null,null,null,null,null,null,null,null,null,null,{"$f":"IF(N122<>\"\",INDEX(referentes!$AK:$AM,MATCH(DATOS!M122,referentes!$AK:$AK,0),3),\"\")","v":""},null,null,{"$f":"IF(AS122=\"\",\"\",INDEX(referentes!P:Q,MATCH(AS122,referentes!Q:Q,0),1))","v":""},null,null,null,{"$f":"IF(AY122=\"\",\"\",INDEX(referentes!AB:AC,MATCH(AY122,referentes!AC:AC,0),1))","v":""},null,{"$f":"IF(BA122=\"\",\"\",INDEX(referentes!S:T,MATCH(BA122,referentes!T:T,0),1))","v":""},null,null,{"$f":"IF(AA122=\"\",\"\",INDEX(OtrasReferencias!$AM$7:$AN$9,MATCH(AA122,OtrasReferencias!$AM$7:$AM$9,0),2))","v":""}]
[null,null,"","",{"$f":"IF(T123=\"\",\"\",INDEX(referentes!G:H,MATCH(T123,referentes!H:H,0),1))","v":""},{"$f":"IF(V123=\"\",\"\",INDEX(referentes!$M:$N,MATCH(V123,referentes!$N:$N,0),1))","v":""},{"$f":"IF(W123=\"\",\"\",INDEX(referentes!J:K,MATCH(W123,referentes!K:K,0),1))","v":""},null,{"$f":"IF(Y123<>\"\",CONCATENATE($A$3,P123,DIGITADOR!$M$1,Y123,ROW()),\"\")","v":""},{"$f":"IF(Y123<>\"\",CONCATENATE(P123,INT(Q123*1440),DIGITADOR!$M$1,Y123),\"\")","v":""},null,{"$f":"IF(AO123<>\"\",INDEX(referentes!$Y:$Z,MATCH(DATOS!AO123,referentes!$Z:$Z,0),1),\"\")","v":""},"","",{"$f":"IF(R123=\"\",\"\",INDEX(referentes!D:E,MATCH(R123,referentes!E:E,0),1))","v":""},null,null,null,null,null,null,null,null,null,{"$f":"IF(X123=\"\",\"\",INDEX(referentes!$AT:$AX,MATCH(X123,referentes!$AX:$AX,0),1))","v":""},null,null,{"$f":"IF(AC123=\"\",\"\",INDEX(referentes!AZ:BA,MATCH(AC123,referentes!BA:BA,0),1))","v":""},null,null,null,null,null,null,null,null,null,null,null,null,null,null,{"$f":"IF(N123<>\"\",INDEX(referentes!$AK:$AM,MATCH(DATOS!M123,referentes!$AK:$AK,0),3),\"\")","v":""},null,null,{"$f":"IF(AS123=\"\",\"\",INDEX(referentes!P:Q,MATCH(AS123,referentes!Q:Q,0),1))","v":""},null,null,null,{"$f":"IF(AY123=\"\",\"\",INDEX(referentes!AB:AC,MATCH(AY123,referentes!AC:AC,0),1))","v":""},null,{"$f":"IF(BA123=\"\",\"\",INDEX(referentes!S:T,MATCH(BA123,referentes!T:T,0),1))","v":""},null,null,{"$f":"IF(AA123=\"\",\"\",INDEX(OtrasReferencias!$AM$7:$AN$9,MATCH(AA123,OtrasReferencias!$AM$7:$AM$9,0),2))","v":""}]
[null,null,"","",{"$f":"IF(T124=\"\",\"\",INDEX(referentes!G:H,MATCH(T124,referentes!H:H,0),1))","v":""},{"$f":"IF(V124=\"\",\"\",INDEX(referentes!$M:$N,MATCH(V124,referentes!$N:$N,0),1))","v":""},{"$f":"IF(W124=\"\",\"\",INDEX(referentes!J:K,MATCH(W124,referentes!K:K,0),1))","v":""},null,{"$f":"IF(Y124<>\"\",CONCATENATE($A$3,P124,DIGITADOR!$M$1,Y124,ROW()),\"\")","v":""},{"$f":"IF(Y124<>\"\",CONCATENATE(P124,INT(Q124*1440),DIGITADOR!$M$1,Y124),\"\")","v":""},null,{"$f":"IF(AO124<>\"\",INDEX(referentes!$Y:$Z,MATCH(DATOS!AO124,referentes!$Z:$Z,0),1),\"\")","v":""},"","",{"$f":"IF(R124=\"\",\"\",INDEX(referentes!D:E,MATCH(R124,referentes!E:E,0),1))","v":""},null,null,null,null,null,null,null,null,null,{"$f":"IF(X124=\"\",\"\",INDEX(referentes!$AT:$AX,MATCH(X124,referentes!$AX:$AX,0),1))","v":""},null,null,{"$f":"IF(AC124=\"\",\"\",INDEX(referentes!AZ:BA,MATCH(AC124,referentes!BA:BA,0),1))","v":""},null,null,null,null,null,null,null,null,null,null,null,null,null,null,{"$f":"IF(N124<>\"\",INDEX(referentes!$AK:$AM,MATCH(DATOS!M124,referentes!$AK:$AK,0),3),\"\")","v":""},null,null,{"$f":"IF(AS124=\"\",\"\",INDEX(referentes!P:Q,MATCH(AS124,referentes!Q:Q,0),1))","v":""},null,null,null,{"$f":"IF(AY124=\"\",\"\",INDEX(referentes!AB:AC,MATCH(AY124,referentes!AC:AC,0),1))","v":""},null,{"$f":"IF(BA124=\"\",\"\",INDEX(referentes!S:T,MATCH(BA124,referentes!T:T,0),1))","v":""},null,null,{"$f":"IF(AA124=\"\",\"\",INDEX(OtrasReferencias!$AM$7:$AN$9,MATCH(AA124,OtrasReferencias!$AM$7:$AM$9,0),2))","v":""}]
[null,null,"","",{"$f":"IF(T125=\"\",\"\",INDEX(referentes!G:H,MATCH(T125,referentes!H:H,0),1))","v":""},{"$f":"IF(V125=\"\",\"\",INDEX(referentes!$M:$N,MATCH(V125,referentes!$N:$N,0),1))","v":""},{"$f":"IF(W125=\"\",\"\",INDEX(referentes!J:K,MATCH(W125,referentes!K:K,0),1))","v":""},null,{"$f":"IF(Y125<>\"\",CONCATENATE($A$3,P125,DIGITADOR!$M$1,Y125,ROW()),\"\")","v":""},{"$f":"IF(Y125<>\"\",CONCATENATE(P125,INT(Q125*1440),DIGITADOR!$M$1,Y125),\"\")","v":""},null,{"$f":"IF(AO125<>\"\",INDEX(referentes!$Y:$Z,MATCH(DATOS!AO125,referentes!$Z:$Z,0),1),\"\")","v":""},"","",{"$f":"IF(R125=\"\",\"\",INDEX(referentes!D:E,MATCH(R125,referentes!E:E,0),1))","v":""},null,null,null,null,null,null,null,null,null,{"$f":"IF(X125=\"\",\"\",INDEX(referentes!$AT:$AX,MATCH(X125,referentes!$AX:$AX,0),1))","v":""},null,null,{"$f":"IF(AC125=\"\",\"\",INDEX(referentes!AZ:BA,MATCH(AC125,referentes!BA:BA,0),1))","v":""},null,null,null,null,null,null,null,null,null,null,null,null,null,null,{"$f":"IF(N125<>\"\",INDEX(referentes!$AK:$AM,MATCH(DATOS!M125,referentes!$AK:$AK,0),3),\"\")","v":""},null,null,{"$f":"IF(AS125=\"\",\"\",INDEX(referentes!P:Q,MATCH(AS125,referentes!Q:Q,0),1))","v":""},null,null,null,{"$f":"IF(AY125=\"\",\"\",INDEX(referentes!AB:AC,MATCH(AY125,referentes!AC:AC,0),1))","v":""},null,{"$f":"IF(BA125=\"\",\"\",INDEX(referentes!S:T,MATCH(BA125,referentes!T:T,0),1))","v":""},null,null,{"$f":"IF(AA125=\"\",\"\",INDEX(OtrasReferencias!$AM$7:$AN$9,MATCH(AA125,OtrasReferencias!$AM$7:$AM$9,0),2))","v":""}]
[null,null,"","",{"$f":"IF(T126=\"\",\"\",INDEX(referentes!G:H,MATCH(T126,referentes!H:H,0),1))","v":""},{"$f":"IF(V126=\"\",\"\",INDEX(referentes!$M:$N,MATCH(V126,referentes!$N:$N,0),1))","v":""},{"$f":"IF(W126=\"\",\"\",INDEX(referentes!J:K,MATCH(W126,referentes!K:K,0),1))","v":""},null,{"$f":"IF(Y126<>\"\",CONCATENATE($A$3,P126,DIGITADOR!$M$1,Y126,ROW()),\"\")","v":""},{"$f":"IF(Y126<>\"\",CONCATENATE(P126,INT(Q126*1440),DIGITADOR!$M$1,Y126),\"\")","v":""},null,{"$f":"IF(AO126<>\"\",INDEX(referentes!$Y:$Z,MATCH(DATOS!AO126,referentes!$Z:$Z,0),1),\"\")","v":""},"","",{"$f":"IF(R126=\"\",\"\",INDEX(referentes!D:E,MATCH(R126,referentes!E:E,0),1))","v":""},null,null,null,null,null,null,null,null,null,{"$f":"IF(X126=\"\",\"\",INDEX(referentes!$AT:$AX,MATCH(X126,referentes!$AX:$AX,0),1))","v":""},null,null,{"$f":"IF(AC126=\"\",\"\",INDEX(referentes!AZ:BA,MATCH(AC126,referentes!BA:BA,0),1))","v":""},null,null,null,null,null,null,null,null,null,null,null,null,null,null,{"$f":"IF(N126<>\"\",INDEX(referentes!$AK:$AM,MATCH(DATOS!M126,referentes!$AK:$AK,0),3),\"\")","v":""},null,null,{"$f":"IF(AS126=\"\",\"\",INDEX(referentes!P:Q,MATCH(AS126,referentes!Q:Q,0),1))","v":""},null,null,null,{"$f":"IF(AY126=\"\",\"\",INDEX(referentes!AB:AC,MATCH(AY126,referentes!AC:AC,0),1))","v":""},null,{"$f":"IF(BA126=\"\",\"\",INDEX(referentes!S:T,MATCH(BA126,referentes!T:T,0),1))","v":""},null,null,{"$f":"IF(AA126=\"\",\"\",INDEX(OtrasReferencias!$AM$7:$AN$9,MATCH(AA126,OtrasReferencias!$AM$7:$AM$9,0),2))","v":""}]
[null,null,"","",{"$f":"IF(T127=\"\",\"\",INDEX(referentes!G:H,MATCH(T127,referentes!H:H,0),1))","v":""},{"$f":"IF(V127=\"\",\"\",INDEX(referentes!$M:$N,MATCH(V127,referentes!$N:$N,0),1))","v":""},{"$f":"IF(W127=\"\",\"\",INDEX(referentes!J:K,MATCH(W127,referentes!K:K,0),1))","v":""},null,{"$f":"IF(Y127<>\"\",CONCATENATE($A$3,P127,DIGITADOR!$M$1,Y127,ROW()),\"\")","v":""},{"$f":"IF(Y127<>\"\",CONCATENATE(P127,INT(Q127*1440),DIGITADOR!$M$1,Y127),\"\")","v":""},null,{"$f":"IF(AO127<>\"\",INDEX(referentes!$Y:$Z,MATCH(DATOS!AO127,referentes!$Z:$Z,0),1),\"\")","v":""},"","",{"$f":"IF(R127=\"\",\"\",INDEX(referentes!D:E,MATCH(R127,referentes!E:E,0),1))","v":""},null,null,null,null,null,null,null,null,null,{"$f":"IF(X127=\"\",\"\",INDEX(referentes!$AT:$AX,MATCH(X127,referentes!$AX:$AX,0),1))","v":""},null,null,{"$f":"IF(AC127=\"\",\"\",INDEX(referentes!AZ:BA,MATCH(AC127,referentes!BA:BA,0),1))","v":""},null,null,null,null,null,null,null,null,null,null,null,null,null,null,{"$f":"IF(N127<>\"\",INDEX(referentes!$AK:$AM,MATCH(DATOS!M127,referentes!$AK:$AK,0),3),\"\")","v":""},null,null,{"$f":"IF(AS127=\"\",\"\",INDEX(referentes!P:Q,MATCH(AS127,referentes!Q:Q,0),1))","v":""},null,null,null,{"$f":"IF(AY127=\"\",\"\",INDEX(referentes!AB:AC,MATCH(AY127,referentes!AC:AC,0),1))","v":""},null,{"$f":"IF(BA127=\"\",\"\",INDEX(referentes!S:T,MATCH(BA127,referentes!T:T,0),1))","v":""},null,null,{"$f":"IF(AA127=\"\",\"\",INDEX(OtrasReferencias!$AM$7:$AN$9,MATCH(AA127,OtrasReferencias!$AM$7:$AM$9,0),2))","v":""}]
[null,null,"","",{"$f":"IF(T128=\"\",\"\",INDEX(referentes!G:H,MATCH(T128,referentes!H:H,0),1))","v":""},{"$f":"IF(V128=\"\",\"\",INDEX(referentes!$M:$N,MATCH(V128,referentes!$N:$N,0),1))","v":""},{"$f":"IF(W128=\"\",\"\",INDEX(referentes!J:K,MATCH(W128,referentes!K:K,0),1))","v":""},null,{"$f":"IF(Y128<>\"\",CONCATENATE($A$3,P128,DIGITADOR!$M$1,Y128,ROW()),\"\")","v":""},{"$f":"IF(Y128<>\"\",CONCATENATE(P128,INT(Q128*1440),DIGITADOR!$M$1,Y128),\"\")","v":""},null,{"$f":"IF(AO128<>\"\",INDEX(referentes!$Y:$Z,MATCH(DATOS!AO128,referentes!$Z:$Z,0),1),\"\")","v":""},"","",{"$f":"IF(R128=\"\",\"\",INDEX(referentes!D:E,MATCH(R128,referentes!E:E,0),1))","v":""},null,null,null,null,null,null,null,null,null,{"$f":"IF(X128=\"\",\"\",INDEX(referentes!$AT:$AX,MATCH(X128,referentes!$AX:$AX,0),1))","v":""},null,null,{"$f":"IF(AC128=\"\",\"\",INDEX(referentes!AZ:BA,MATCH(AC128,referentes!BA:BA,0),1))","v":""},null,null,null,null,null,null,null,null,null,null,null,null,null,null,{"$f":"IF(N128<>\"\",INDEX(referentes!$AK:$AM,MATCH(DATOS!M128,referentes!$AK:$AK,0),3),\"\")","v":""},null,null,{"$f":"IF(AS128=\"\",\"\",INDEX(referentes!P:Q,MATCH(AS128,referentes!Q:Q,0),1))","v":""},null,null,null,{"$f":"IF(AY128=\"\",\"\",INDEX(referentes!AB:AC,MATCH(AY128,referentes!AC:AC,0),1))","v":""},null,{"$f":"IF(BA128=\"\",\"\",INDEX(referentes!S:T,MATCH(BA128,referentes!T:T,0),1))","v":""},null,null,{"$f":"IF(AA128=\"\",\"\",INDEX(OtrasReferencias!$AM$7:$AN$9,MATCH(AA128,OtrasReferencias!$AM$7:$AM$9,0),2))","v":""}]
[null,null,"","",{"$f":"IF(T129=\"\",\"\",INDEX(referentes!G:H,MATCH(T129,referentes!H:H,0),1))","v":""},{"$f":"IF(V129=\"\",\"\",INDEX(referentes!$M:$N,MATCH(V129,referentes!$N:$N,0),1))","v":""},{"$f":"IF(W129=\"\",\"\",INDEX(referentes!J:K,MATCH(W129,referentes!K:K,0),1))","v":""},null,{"$f":"IF(Y129<>\"\",CONCATENATE($A$3,P129,DIGITADOR!$M$1,Y129,ROW()),\"\")","v":""},{"$f":"IF(Y129<>\"\",CONCATENATE(P129,INT(Q129*1440),DIGITADOR!$M$1,Y129),\"\")","v":""},null,{"$f":"IF(AO129<>\"\",INDEX(referentes!$Y:$Z,MATCH(DATOS!AO129,referentes!$Z:$Z,0),1),\"\")","v":""},"","",{"$f":"IF(R129=\"\",\"\",INDEX(referentes!D:E,MATCH(R129,referentes!E:E,0),1))","v":""},null,null,null,null,null,null,null,null,null,{"$f":"IF(X129=\"\",\"\",INDEX(referentes!$AT:$AX,MATCH(X129,referentes!$AX:$AX,0),1))","v":""},null,null,{"$f":"IF(AC129=\"\",\"\",INDEX(referentes!AZ:BA,MATCH(AC129,referentes!BA:BA,0),1))","v":""},null,null,null,null,null,null,null,null,null,null,null,null,null,null,{"$f":"IF(N129<>\"\",INDEX(referentes!$AK:$AM,MATCH(DATOS!M129,referentes!$AK:$AK,0),3),\"\")","v":""},null,null,{"$f":"IF(AS129=\"\",\"\",INDEX(referentes!P:Q,MATCH(AS129,referentes!Q:Q,0),1))","v":""},null,null,null,{"$f":"IF(AY129=\"\",\"\",INDEX(referentes!AB:AC,MATCH(AY129,referentes!AC:AC,0),1))","v":""},null,{"$f":"IF(BA129=\"\",\"\",INDEX(referentes!S:T,MATCH(BA129,referentes!T:T,0),1))","v":""},null,null,{"$f":"IF(AA129=\"\",\"\",INDEX(OtrasReferencias!$AM$7:$AN$9,MATCH(AA129,OtrasReferencias!$AM$7:$AM$9,0),2))","v":""}]
[null,null,"","",{"$f":"IF(T130=\"\",\"\",INDEX(referentes!G:H,MATCH(T130,referentes!H:H,0),1))","v":""},{"$f":"IF(V130=\"\",\"\",INDEX(referentes!$M:$N,MATCH(V130,referentes!$N:$N,0),1))","v":""},{"$f":"IF(W130=\"\",\"\",INDEX(referentes!J:K,MATCH(W130,referentes!K:K,0),1))","v":""},null,{"$f":"IF(Y130<>\"\",CONCATENATE($A$3,P130,DIGITADOR!$M$1,Y130,ROW()),\"\")","v":""},{"$f":"IF(Y130<>\"\",CONCATENATE(P130,INT(Q130*1440),DIGITADOR!$M$1,Y130),\"\")","v":""},null,{"$f":"IF(AO130<>\"\",INDEX(referentes!$Y:$Z,MATCH(DATOS!AO130,referentes!$Z:$Z,0),1),\"\")","v":""},"","",{"$f":"IF(R130=\"\",\"\",INDEX(referentes!D:E,MATCH(R130,referentes!E:E,0),1))","v":""},null,null,null,null,null,null,null,null,null,{"$f":"IF(X130=\"\",\"\",INDEX(referentes!$AT:$AX,MATCH(X130,referentes!$AX:$AX,0),1))","v":""},null,null,{"$f":"IF(AC130=\"\",\"\",INDEX(referentes!AZ:BA,MATCH(AC130,referentes!BA:BA,0),1))","v":""},null,null,null,null,null,null,null,null,null,null,null,null,null,null,{"$f":"IF(N130<>\"\",INDEX(referentes!$AK:$AM,MATCH(DATOS!M130,referentes!$AK:$AK,0),3),\"\")","v":""},null,null,{"$f":"IF(AS130=\"\",\"\",INDEX(referentes!P:Q,MATCH(AS130,referentes!Q:Q,0),1))","v":""},null,null,null,{"$f":"IF(AY130=\"\",\"\",INDEX(referentes!AB:AC,MATCH(AY130,referentes!AC:AC,0),1))","v":""},null,{"$f":"IF(BA130=\"\",\"\",INDEX(referentes!S:T,MATCH(BA130,referentes!T:T,0),1))","v":""},null,null,{"$f":"IF(AA130=\"\",\"\",INDEX(OtrasReferencias!$AM$7:$AN$9,MATCH(AA130,OtrasReferencias!$AM$7:$AM$9,0),2))","v":""}]
[null,null,"","",{"$f":"IF(T131=\"\",\"\",INDEX(referentes!G:H,MATCH(T131,referentes!H:H,0),1))","v":""},{"$f":"IF(V131=\"\",\"\",INDEX(referentes!$M:$N,MATCH(V131,referentes!$N:$N,0),1))","v":""},{"$f":"IF(W131=\"\",\"\",INDEX(referentes!J:K,MATCH(W131,referentes!K:K,0),1))","v":""},null,{"$f":"IF(Y131<>\"\",CONCATENATE($A$3,P131,DIGITADOR!$M$1,Y131,ROW()),\"\")","v":""},{"$f":"IF(Y131<>\"\",CONCATENATE(P131,INT(Q131*1440),DIGITADOR!$M$1,Y131),\"\")","v":""},null,{"$f":"IF(AO131<>\"\",INDEX(referentes!$Y:$Z,MATCH(DATOS!AO131,referentes!$Z:$Z,0),1),\"\")","v":""},"","",{"$f":"IF(R131=\"\",\"\",INDEX(referentes!D:E,MATCH(R131,referentes!E:E,0),1))","v":""},null,null,null,null,null,null,null,null,null,{"$f":"IF(X131=\"\",\"\",INDEX(referentes!$AT:$AX,MATCH(X131,referentes!$AX:$AX,0),1))","v":""},null,null,{"$f":"IF(AC131=\"\",\"\",INDEX(referentes!AZ:BA,MATCH(AC131,referentes!BA:BA,0),1))","v":""},null,null,null,null,null,null,null,null,null,null,null,null,null,null,{"$f":"IF(N131<>\"\",INDEX(referentes!$AK:$AM,MATCH(DATOS!M131,referentes!$AK:$AK,0),3),\"\")","v":""},null,null,{"$f":"IF(AS131=\"\",\"\",INDEX(referentes!P:Q,MATCH(AS131,referentes!Q:Q,0),1))","v":""},null,null,null,{"$f":"IF(AY131=\"\",\"\",INDEX(referentes!AB:AC,MATCH(AY131,referentes!AC:AC,0),1))","v":""},null,{"$f":"IF(BA131=\"\",\"\",INDEX(referentes!S:T,MATCH(BA131,referentes!T:T,0),1))","v":""},null,null,{"$f":"IF(AA131=\"\",\"\",INDEX(OtrasReferencias!$AM$7:$AN$9,MATCH(AA131,OtrasReferencias!$AM$7:$AM$9,0),2))","v":""}]
[null,null,"","",{"$f":"IF(T132=\"\",\"\",INDEX(referentes!G:H,MATCH(T132,referentes!H:H,0),1))","v":""},{"$f":"IF(V132=\"\",\"\",INDEX(referentes!$M:$N,MATCH(V132,referentes!$N:$N,0),1))","v":""},{"$f":"IF(W132=\"\",\"\",INDEX(referentes!J:K,MATCH(W132,referentes!K:K,0),1))","v":""},null,{"$f":"IF(Y132<>\"\",CONCATENATE($A$3,P132,DIGITADOR!$M$1,Y132,ROW()),\"\")","v":""},{"$f":"IF(Y132<>\"\",CONCATENATE(P132,INT(Q132*1440),DIGITADOR!$M$1,Y132),\"\")","v":""},null,{"$f":"IF(AO132<>\"\",INDEX(referentes!$Y:$Z,MATCH(DATOS!AO132,referentes!$Z:$Z,0),1),\"\")","v":""},"","",{"$f":"IF(R132=\"\",\"\",INDEX(referentes!D:E,MATCH(R132,referentes!E:E,0),1))","v":""},null,null,null,null,null,null,null,null,null,{"$f":"IF(X132=\"\",\"\",INDEX(referentes!$AT:$AX,MATCH(X132,referentes!$AX:$AX,0),1))","v":""},null,null,{"$f":"IF(AC132=\"\",\"\",INDEX(referentes!AZ:BA,MATCH(AC132,referentes!BA:BA,0),1))","v":""},null,null,null,null,null,null,null,null,null,null,null,null,null,null,{"$f":"IF(N132<>\"\",INDEX(referentes!$AK:$AM,MATCH(DATOS!M132,referentes!$AK:$AK,0),3),\"\")","v":""},null,null,{"$f":"IF(AS132=\"\",\"\",INDEX(referentes!P:Q,MATCH(AS132,referentes!Q:Q,0),1))","v":""},null,null,null,{"$f":"IF(AY132=\"\",\"\",INDEX(referentes!AB:AC,MATCH(AY132,referentes!AC:AC,0),1))","v":""},null,{"$f":"IF(BA132=\"\",\"\",INDEX(referentes!S:T,MATCH(BA132,referentes!T:T,0),1))","v":""},null,null,{"$f":"IF(AA132=\"\",\"\",INDEX(OtrasReferencias!$AM$7:$AN$9,MATCH(AA132,OtrasReferencias!$AM$7:$AM$9,0),2))","v":""}]
[null,null,"",{"$f":"IF(P133<>\"\",P133+Q133,\"\")","v":""},{"$f":"IF(T133=\"\",\"\",INDEX(referentes!G:H,MATCH(T133,referentes!H:H,0),1))","v":""},{"$f":"IF(V133=\"\",\"\",INDEX(referentes!$M:$N,MATCH(V133,referentes!$N:$N,0),1))","v":""},{"$f":"IF(W133=\"\",\"\",INDEX(referentes!J:K,MATCH(W133,referentes!K:K,0),1))","v":""},null,{"$f":"IF(Y133<>\"\",CONCATENATE($A$3,P133,DIGITADOR!$M$1,Y133,ROW()),\"\")","v":""},{"$f":"IF(Y133<>\"\",CONCATENATE(P133,INT(Q133*1440),DIGITADOR!$M$1,Y133),\"\")","v":""},null,{"$f":"IF(AO133<>\"\",INDEX(referentes!$Y:$Z,MATCH(DATOS!AO133,referentes!$Z:$Z,0),1),\"\")","v":""},{"$f":"TRIM(UPPER(IF(AL133<>\"\",AL133,IF(AK133<>\"\",AK133,(IF(AJ133<>\"\",AJ133,IF(AI133<>\"\",AI133,IF(AH133<>\"\",AH133,AG133))))))))","v":""},{"$f":"TRIM(UPPER(CONCATENATE(AG133,\" \",AH133,\" \",AI133,\" \",AJ133,\" \",AK133,\" \",AL133)))","v":""},{"$f":"IF(R133=\"\",\"\",INDEX(referentes!D:E,MATCH(R133,referentes!E:E,0),1))","v":""},null,null,null,null,null,null,null,null,null,{"$f":"IF(X133=\"\",\"\",INDEX(referentes!$AT:$AX,MATCH(X133,referentes!$AX:$AX,0),1))","v":""},null,null,{"$f":"IF(AC133=\"\",\"\",INDEX(referentes!AZ:BA,MATCH(AC133,referentes!BA:BA,0),1))","v":""},null,null,null,null,null,null,null,null,null,null,null,null,null,null,{"$f":"IF(N133<>\"\",INDEX(referentes!$AK:$AM,MATCH(DATOS!M133,referentes!$AK:$AK,0),3),\"\")","v":""},null,null,{"$f":"IF(AS133=\"\",\"\",INDEX(referentes!P:Q,MATCH(AS133,referentes!Q:Q,0),1))","v":""},null,null,null,{"$f":"IF(AY133=\"\",\"\",INDEX(referentes!AB:AC,MATCH(AY133,referentes!AC:AC,0),1))","v":""},null,{"$f":"IF(BA133=\"\",\"\",INDEX(referentes!S:T,MATCH(BA133,referentes!T:T,0),1))","v":""},null,null,{"$f":"IF(AA133=\"\",\"\",INDEX(OtrasReferencias!$AM$7:$AN$9,MATCH(AA133,OtrasReferencias!$AM$7:$AM$9,0),2))","v":""}]
[null,null,{"$f":"IF(J134=\"\",\"\",IF(J134=J133,\"\",J134))","v":""},"",{"$f":"IF(T134=\"\",\"\",INDEX(referentes!G:H,MATCH(T134,referentes!H:H,0),1))","v":""},{"$f":"IF(V134=\"\",\"\",INDEX(referentes!$M:$N,MATCH(V134,referentes!$N:$N,0),1))","v":""},{"$f":"IF(W134=\"\",\"\",INDEX(referentes!J:K,MATCH(W134,referentes!K:K,0),1))","v":""},null,{"$f":"IF(Y134<>\"\",CONCATENATE($A$3,P134,DIGITADOR!$M$1,Y134,ROW()),\"\")","v":""},{"$f":"IF(Y134<>\"\",CONCATENATE(P134,INT(Q134*1440),DIGITADOR!$M$1,Y134),\"\")","v":""},null,{"$f":"IF(AO134<>\"\",INDEX(referentes!$Y:$Z,MATCH(DATOS!AO134,referentes!$Z:$Z,0),1),\"\")","v":""},"","",{"$f":"IF(R134=\"\",\"\",INDEX(referentes!D:E,MATCH(R134,referentes!E:E,0),1))","v":""},null,null,null,null,null,null,null,null,null,{"$f":"IF(X134=\"\",\"\",INDEX(referentes!$AT:$AX,MATCH(X134,referentes!$AX:$AX,0),1))","v":""},null,null,{"$f":"IF(AC134=\"\",\"\",INDEX(referentes!AZ:BA,MATCH(AC134,referentes!BA:BA,0),1))","v":""},null,null,null,null,null,null,null,null,null,null,null,null,null,null,{"$f":"IF(N134<>\"\",INDEX(referentes!$AK:$AM,MATCH(DATOS!M134,referentes!$AK:$AK,0),3),\"\")","v":""},null,null,{"$f":"IF(AS134=\"\",\"\",INDEX(referentes!P:Q,MATCH(AS134,referentes!Q:Q,0),1))","v":""},null,null,null,{"$f":"IF(AY134=\"\",\"\",INDEX(referentes!AB:AC,MATCH(AY134,referentes!AC:AC,0),1))","v":""},null,{"$f":"IF(BA134=\"\",\"\",INDEX(referentes!S:T,MATCH(BA134,referentes!T:T,0),1))","v":""},null,null,{"$f":"IF(AA134=\"\",\"\",INDEX(OtrasReferencias!$AM$7:$AN$9,MATCH(AA134,OtrasReferencias!$AM$7:$AM$9,0),2))","v":""}]
[null,null,"","",{"$f":"IF(T135=\"\",\"\",INDEX(referentes!G:H,MATCH(T135,referentes!H:H,0),1))","v":""},{"$f":"IF(V135=\"\",\"\",INDEX(referentes!$M:$N,MATCH(V135,referentes!$N:$N,0),1))","v":""},{"$f":"IF(W135=\"\",\"\",INDEX(referentes!J:K,MATCH(W135,referentes!K:K,0),1))","v":""},null,{"$f":"IF(Y135<>\"\",CONCATENATE($A$3,P135,DIGITADOR!$M$1,Y135,ROW()),\"\")","v":""},{"$f":"IF(Y135<>\"\",CONCATENATE(P135,INT(Q135*1440),DIGITADOR!$M$1,Y135),\"\")","v":""},null,{"$f":"IF(AO135<>\"\",INDEX(referentes!$Y:$Z,MATCH(DATOS!AO135,referentes!$Z:$Z,0),1),\"\")","v":""},"","",{"$f":"IF(R135=\"\",\"\",INDEX(referentes!D:E,MATCH(R135,referentes!E:E,0),1))","v":""},null,null,null,null,null,null,null,null,null,{"$f":"IF(X135=\"\",\"\",INDEX(referentes!$AT:$AX,MATCH(X135,referentes!$AX:$AX,0),1))","v":""},null,null,{"$f":"IF(AC135=\"\",\"\",INDEX(referentes!AZ:BA,MATCH(AC135,referentes!BA:BA,0),1))","v":""},null,null,null,null,null,null,null,null,null,null,null,null,null,null,{"$f":"IF(N135<>\"\",INDEX(referentes!$AK:$AM,MATCH(DATOS!M135,referentes!$AK:$AK,0),3),\"\")","v":""},null,null,{"$f":"IF(AS135=\"\",\"\",INDEX(referentes!P:Q,MATCH(AS135,referentes!Q:Q,0),1))","v":""},null,null,null,{"$f":"IF(AY135=\"\",\"\",INDEX(referentes!AB:AC,MATCH(AY135,referentes!AC:AC,0),1))","v":""},null,{"$f":"IF(BA135=\"\",\"\",INDEX(referentes!S:T,MATCH(BA135,referentes!T:T,0),1))","v":""},null,null,{"$f":"IF(AA135=\"\",\"\",INDEX(OtrasReferencias!$AM$7:$AN$9,MATCH(AA135,OtrasReferencias!$AM$7:$AM$9,0),2))","v":""}]
[null,null,"","",{"$f":"IF(T136=\"\",\"\",INDEX(referentes!G:H,MATCH(T136,referentes!H:H,0),1))","v":""},{"$f":"IF(V136=\"\",\"\",INDEX(referentes!$M:$N,MATCH(V136,referentes!$N:$N,0),1))","v":""},{"$f":"IF(W136=\"\",\"\",INDEX(referentes!J:K,MATCH(W136,referentes!K:K,0),1))","v":""},null,{"$f":"IF(Y136<>\"\",CONCATENATE($A$3,P136,DIGITADOR!$M$1,Y136,ROW()),\"\")","v":""},{"$f":"IF(Y136<>\"\",CONCATENATE(P136,INT(Q136*1440),DIGITADOR!$M$1,Y136),\"\")","v":""},null,{"$f":"IF(AO136<>\"\",INDEX(referentes!$Y:$Z,MATCH(DATOS!AO136,referentes!$Z:$Z,0),1),\"\")","v":""},"","",{"$f":"IF(R136=\"\",\"\",INDEX(referentes!D:E,MATCH(R136,referentes!E:E,0),1))","v":""},null,null,null,null,null,null,null,null,null,{"$f":"IF(X136=\"\",\"\",INDEX(referentes!$AT:$AX,MATCH(X136,referentes!$AX:$AX,0),1))","v":""},null,null,{"$f":"IF(AC136=\"\",\"\",INDEX(referentes!AZ:BA,MATCH(AC136,referentes!BA:BA,0),1))","v":""},null,null,null,null,null,null,null,null,null,null,null,null,null,null,{"$f":"IF(N136<>\"\",INDEX(referentes!$AK:$AM,MATCH(DATOS!M136,referentes!$AK:$AK,0),3),\"\")","v":""},null,null,{"$f":"IF(AS136=\"\",\"\",INDEX(referentes!P:Q,MATCH(AS136,referentes!Q:Q,0),1))","v":""},null,null,null,{"$f":"IF(AY136=\"\",\"\",INDEX(referentes!AB:AC,MATCH(AY136,referentes!AC:AC,0),1))","v":""},null,{"$f":"IF(BA136=\"\",\"\",INDEX(referentes!S:T,MATCH(BA136,referentes!T:T,0),1))","v":""},null,null,{"$f":"IF(AA136=\"\",\"\",INDEX(OtrasReferencias!$AM$7:$AN$9,MATCH(AA136,OtrasReferencias!$AM$7:$AM$9,0),2))","v":""}]
[null,null,"","",{"$f":"IF(T137=\"\",\"\",INDEX(referentes!G:H,MATCH(T137,referentes!H:H,0),1))","v":""},{"$f":"IF(V137=\"\",\"\",INDEX(referentes!$M:$N,MATCH(V137,referentes!$N:$N,0),1))","v":""},{"$f":"IF(W137=\"\",\"\",INDEX(referentes!J:K,MATCH(W137,referentes!K:K,0),1))","v":""},null,{"$f":"IF(Y137<>\"\",CONCATENATE($A$3,P137,DIGITADOR!$M$1,Y137,ROW()),\"\")","v":""},{"$f":"IF(Y137<>\"\",CONCATENATE(P137,INT(Q137*1440),DIGITADOR!$M$1,Y137),\"\")","v":""},null,{"$f":"IF(AO137<>\"\",INDEX(referentes!$Y:$Z,MATCH(DATOS!AO137,referentes!$Z:$Z,0),1),\"\")","v":""},"","",{"$f":"IF(R137=\"\",\"\",INDEX(referentes!D:E,MATCH(R137,referentes!E:E,0),1))","v":""},null,null,null,null,null,null,null,null,null,{"$f":"IF(X137=\"\",\"\",INDEX(referentes!$AT:$AX,MATCH(X137,referentes!$AX:$AX,0),1))","v":""},null,null,{"$f":"IF(AC137=\"\",\"\",INDEX(referentes!AZ:BA,MATCH(AC137,referentes!BA:BA,0),1))","v":""},null,null,null,null,null,null,null,null,null,null,null,null,null,null,{"$f":"IF(N137<>\"\",INDEX(referentes!$AK:$AM,MATCH(DATOS!M137,referentes!$AK:$AK,0),3),\"\")","v":""},null,null,{"$f":"IF(AS137=\"\",\"\",INDEX(referentes!P:Q,MATCH(AS137,referentes!Q:Q,0),1))","v":""},null,null,null,{"$f":"IF(AY137=\"\",\"\",INDEX(referentes!AB:AC,MATCH(AY137,referentes!AC:AC,0),1))","v":""},null,{"$f":"IF(BA137=\"\",\"\",INDEX(referentes!S:T,MATCH(BA137,referentes!T:T,0),1))","v":""},null,null,{"$f":"IF(AA137=\"\",\"\",INDEX(OtrasReferencias!$AM$7:$AN$9,MATCH(AA137,OtrasReferencias!$AM$7:$AM$9,0),2))","v":""}]
[null,null,"","",{"$f":"IF(T138=\"\",\"\",INDEX(referentes!G:H,MATCH(T138,referentes!H:H,0),1))","v":""},{"$f":"IF(V138=\"\",\"\",INDEX(referentes!$M:$N,MATCH(V138,referentes!$N:$N,0),1))","v":""},{"$f":"IF(W138=\"\",\"\",INDEX(referentes!J:K,MATCH(W138,referentes!K:K,0),1))","v":""},null,{"$f":"IF(Y138<>\"\",CONCATENATE($A$3,P138,DIGITADOR!$M$1,Y138,ROW()),\"\")","v":""},{"$f":"IF(Y138<>\"\",CONCATENATE(P138,INT(Q138*1440),DIGITADOR!$M$1,Y138),\"\")","v":""},null,{"$f":"IF(AO138<>\"\",INDEX(referentes!$Y:$Z,MATCH(DATOS!AO138,referentes!$Z:$Z,0),1),\"\")","v":""},"","",{"$f":"IF(R138=\"\",\"\",INDEX(referentes!D:E,MATCH(R138,referentes!E:E,0),1))","v":""},null,null,null,null,null,null,null,null,null,{"$f":"IF(X138=\"\",\"\",INDEX(referentes!$AT:$AX,MATCH(X138,referentes!$AX:$AX,0),1))","v":""},null,null,{"$f":"IF(AC138=\"\",\"\",INDEX(referentes!AZ:BA,MATCH(AC138,referentes!BA:BA,0),1))","v":""},null,null,null,null,null,null,null,null,null,null,null,null,null,null,{"$f":"IF(N138<>\"\",INDEX(referentes!$AK:$AM,MATCH(DATOS!M138,referentes!$AK:$AK,0),3),\"\")","v":""},null,null,{"$f":"IF(AS138=\"\",\"\",INDEX(referentes!P:Q,MATCH(AS138,referentes!Q:Q,0),1))","v":""},null,null,null,{"$f":"IF(AY138=\"\",\"\",INDEX(referentes!AB:AC,MATCH(AY138,referentes!AC:AC,0),1))","v":""},null,{"$f":"IF(BA138=\"\",\"\",INDEX(referentes!S:T,MATCH(BA138,referentes!T:T,0),1))","v":""},null,null,{"$f":"IF(AA138=\"\",\"\",INDEX(OtrasReferencias!$AM$7:$AN$9,MATCH(AA138,OtrasReferencias!$AM$7:$AM$9,0),2))","v":""}]
[null,null,"","",{"$f":"IF(T139=\"\",\"\",INDEX(referentes!G:H,MATCH(T139,referentes!H:H,0),1))","v":""},{"$f":"IF(V139=\"\",\"\",INDEX(referentes!$M:$N,MATCH(V139,referentes!$N:$N,0),1))","v":""},{"$f":"IF(W139=\"\",\"\",INDEX(referentes!J:K,MATCH(W139,referentes!K:K,0),1))","v":""},null,{"$f":"IF(Y139<>\"\",CONCATENATE($A$3,P139,DIGITADOR!$M$1,Y139,ROW()),\"\")","v":""},{"$f":"IF(Y139<>\"\",CONCATENATE(P139,INT(Q139*1440),DIGITADOR!$M$1,Y139),\"\")","v":""},null,{"$f":"IF(AO139<>\"\",INDEX(referentes!$Y:$Z,MATCH(DATOS!AO139,referentes!$Z:$Z,0),1),\"\")","v":""},"","",{"$f":"IF(R139=\"\",\"\",INDEX(referentes!D:E,MATCH(R139,referentes!E:E,0),1))","v":""},null,null,null,null,null,null,null,null,null,{"$f":"IF(X139=\"\",\"\",INDEX(referentes!$AT:$AX,MATCH(X139,referentes!$AX:$AX,0),1))","v":""},null,null,{"$f":"IF(AC139=\"\",\"\",INDEX(referentes!AZ:BA,MATCH(AC139,referentes!BA:BA,0),1))","v":""},null,null,null,null,null,null,null,null,null,null,null,null,null,null,{"$f":"IF(N139<>\"\",INDEX(referentes!$AK:$AM,MATCH(DATOS!M139,referentes!$AK:$AK,0),3),\"\")","v":""},null,null,{"$f":"IF(AS139=\"\",\"\",INDEX(referentes!P:Q,MATCH(AS139,referentes!Q:Q,0),1))","v":""},null,null,null,{"$f":"IF(AY139=\"\",\"\",INDEX(referentes!AB:AC,MATCH(AY139,referentes!AC:AC,0),1))","v":""},null,{"$f":"IF(BA139=\"\",\"\",INDEX(referentes!S:T,MATCH(BA139,referentes!T:T,0),1))","v":""},null,null,{"$f":"IF(AA139=\"\",\"\",INDEX(OtrasReferencias!$AM$7:$AN$9,MATCH(AA139,OtrasReferencias!$AM$7:$AM$9,0),2))","v":""}]
[null,null,"","",{"$f":"IF(T140=\"\",\"\",INDEX(referentes!G:H,MATCH(T140,referentes!H:H,0),1))","v":""},{"$f":"IF(V140=\"\",\"\",INDEX(referentes!$M:$N,MATCH(V140,referentes!$N:$N,0),1))","v":""},{"$f":"IF(W140=\"\",\"\",INDEX(referentes!J:K,MATCH(W140,referentes!K:K,0),1))","v":""},null,{"$f":"IF(Y140<>\"\",CONCATENATE($A$3,P140,DIGITADOR!$M$1,Y140,ROW()),\"\")","v":""},{"$f":"IF(Y140<>\"\",CONCATENATE(P140,INT(Q140*1440),DIGITADOR!$M$1,Y140),\"\")","v":""},null,{"$f":"IF(AO140<>\"\",INDEX(referentes!$Y:$Z,MATCH(DATOS!AO140,referentes!$Z:$Z,0),1),\"\")","v":""},"","",{"$f":"IF(R140=\"\",\"\",INDEX(referentes!D:E,MATCH(R140,referentes!E:E,0),1))","v":""},null,null,null,null,null,null,null,null,null,{"$f":"IF(X140=\"\",\"\",INDEX(referentes!$AT:$AX,MATCH(X140,referentes!$AX:$AX,0),1))","v":""},null,null,{"$f":"IF(AC140=\"\",\"\",INDEX(referentes!AZ:BA,MATCH(AC140,referentes!BA:BA,0),1))","v":""},null,null,null,null,null,null,null,null,null,null,null,null,null,null,{"$f":"IF(N140<>\"\",INDEX(referentes!$AK:$AM,MATCH(DATOS!M140,referentes!$AK:$AK,0),3),\"\")","v":""},null,null,{"$f":"IF(AS140=\"\",\"\",INDEX(referentes!P:Q,MATCH(AS140,referentes!Q:Q,0),1))","v":""},null,null,null,{"$f":"IF(AY140=\"\",\"\",INDEX(referentes!AB:AC,MATCH(AY140,referentes!AC:AC,0),1))","v":""},null,{"$f":"IF(BA140=\"\",\"\",INDEX(referentes!S:T,MATCH(BA140,referentes!T:T,0),1))","v":""},null,null,{"$f":"IF(AA140=\"\",\"\",INDEX(OtrasReferencias!$AM$7:$AN$9,MATCH(AA140,OtrasReferencias!$AM$7:$AM$9,0),2))","v":""}]
[null,null,"","",{"$f":"IF(T141=\"\",\"\",INDEX(referentes!G:H,MATCH(T141,referentes!H:H,0),1))","v":""},{"$f":"IF(V141=\"\",\"\",INDEX(referentes!$M:$N,MATCH(V141,referentes!$N:$N,0),1))","v":""},{"$f":"IF(W141=\"\",\"\",INDEX(referentes!J:K,MATCH(W141,referentes!K:K,0),1))","v":""},null,{"$f":"IF(Y141<>\"\",CONCATENATE($A$3,P141,DIGITADOR!$M$1,Y141,ROW()),\"\")","v":""},{"$f":"IF(Y141<>\"\",CONCATENATE(P141,INT(Q141*1440),DIGITADOR!$M$1,Y141),\"\")","v":""},null,{"$f":"IF(AO141<>\"\",INDEX(referentes!$Y:$Z,MATCH(DATOS!AO141,referentes!$Z:$Z,0),1),\"\")","v":""},"","",{"$f":"IF(R141=\"\",\"\",INDEX(referentes!D:E,MATCH(R141,referentes!E:E,0),1))","v":""},null,null,null,null,null,null,null,null,null,{"$f":"IF(X141=\"\",\"\",INDEX(referentes!$AT:$AX,MATCH(X141,referentes!$AX:$AX,0),1))","v":""},null,null,{"$f":"IF(AC141=\"\",\"\",INDEX(referentes!AZ:BA,MATCH(AC141,referentes!BA:BA,0),1))","v":""},null,null,null,null,null,null,null,null,null,null,null,null,null,null,{"$f":"IF(N141<>\"\",INDEX(referentes!$AK:$AM,MATCH(DATOS!M141,referentes!$AK:$AK,0),3),\"\")","v":""},null,null,{"$f":"IF(AS141=\"\",\"\",INDEX(referentes!P:Q,MATCH(AS141,referentes!Q:Q,0),1))","v":""},null,null,null,{"$f":"IF(AY141=\"\",\"\",INDEX(referentes!AB:AC,MATCH(AY141,referentes!AC:AC,0),1))","v":""},null,{"$f":"IF(BA141=\"\",\"\",INDEX(referentes!S:T,MATCH(BA141,referentes!T:T,0),1))","v":""},null,null,{"$f":"IF(AA141=\"\",\"\",INDEX(OtrasReferencias!$AM$7:$AN$9,MATCH(AA141,OtrasReferencias!$AM$7:$AM$9,0),2))","v":""}]
[null,null,"","",{"$f":"IF(T142=\"\",\"\",INDEX(referentes!G:H,MATCH(T142,referentes!H:H,0),1))","v":""},{"$f":"IF(V142=\"\",\"\",INDEX(referentes!$M:$N,MATCH(V142,referentes!$N:$N,0),1))","v":""},{"$f":"IF(W142=\"\",\"\",INDEX(referentes!J:K,MATCH(W142,referentes!K:K,0),1))","v":""},null,{"$f":"IF(Y142<>\"\",CONCATENATE($A$3,P142,DIGITADOR!$M$1,Y142,ROW()),\"\")","v":""},{"$f":"IF(Y142<>\"\",CONCATENATE(P142,INT(Q142*1440),DIGITADOR!$M$1,Y142),\"\")","v":""},null,{"$f":"IF(AO142<>\"\",INDEX(referentes!$Y:$Z,MATCH(DATOS!AO142,referentes!$Z:$Z,0),1),\"\")","v":""},"","",{"$f":"IF(R142=\"\",\"\",INDEX(referentes!D:E,MATCH(R142,referentes!E:E,0),1))","v":""},null,null,null,null,null,null,null,null,null,{"$f":"IF(X142=\"\",\"\",INDEX(referentes!$AT:$AX,MATCH(X142,referentes!$AX:$AX,0),1))","v":""},null,null,{"$f":"IF(AC142=\"\",\"\",INDEX(referentes!AZ:BA,MATCH(AC142,referentes!BA:BA,0),1))","v":""},null,null,null,null,null,null,null,null,null,null,null,null,null,null,{"$f":"IF(N142<>\"\",INDEX(referentes!$AK:$AM,MATCH(DATOS!M142,referentes!$AK:$AK,0),3),\"\")","v":""},null,null,{"$f":"IF(AS142=\"\",\"\",INDEX(referentes!P:Q,MATCH(AS142,referentes!Q:Q,0),1))","v":""},null,null,null,{"$f":"IF(AY142=\"\",\"\",INDEX(referentes!AB:AC,MATCH(AY142,referentes!AC:AC,0),1))","v":""},null,{"$f":"IF(BA142=\"\",\"\",INDEX(referentes!S:T,MATCH(BA142,referentes!T:T,0),1))","v":""},null,null,{"$f":"IF(AA142=\"\",\"\",INDEX(OtrasReferencias!$AM$7:$AN$9,MATCH(AA142,OtrasReferencias!$AM$7:$AM$9,0),2))","v":""}]
[null,null,"","",{"$f":"IF(T143=\"\",\"\",INDEX(referentes!G:H,MATCH(T143,referentes!H:H,0),1))","v":""},{"$f":"IF(V143=\"\",\"\",INDEX(referentes!$M:$N,MATCH(V143,referentes!$N:$N,0),1))","v":""},{"$f":"IF(W143=\"\",\"\",INDEX(referentes!J:K,MATCH(W143,referentes!K:K,0),1))","v":""},null,{"$f":"IF(Y143<>\"\",CONCATENATE($A$3,P143,DIGITADOR!$M$1,Y143,ROW()),\"\")","v":""},{"$f":"IF(Y143<>\"\",CONCATENATE(P143,INT(Q143*1440),DIGITADOR!$M$1,Y143),\"\")","v":""},null,{"$f":"IF(AO143<>\"\",INDEX(referentes!$Y:$Z,MATCH(DATOS!AO143,referentes!$Z:$Z,0),1),\"\")","v":""},"","",{"$f":"IF(R143=\"\",\"\",INDEX(referentes!D:E,MATCH(R143,referentes!E:E,0),1))","v":""},null,null,null,null,null,null,null,null,null,{"$f":"IF(X143=\"\",\"\",INDEX(referentes!$AT:$AX,MATCH(X143,referentes!$AX:$AX,0),1))","v":""},null,null,{"$f":"IF(AC143=\"\",\"\",INDEX(referentes!AZ:BA,MATCH(AC143,referentes!BA:BA,0),1))","v":""},null,null,null,null,null,null,null,null,null,null,null,null,null,null,{"$f":"IF(N143<>\"\",INDEX(referentes!$AK:$AM,MATCH(DATOS!M143,referentes!$AK:$AK,0),3),\"\")","v":""},null,null,{"$f":"IF(AS143=\"\",\"\",INDEX(referentes!P:Q,MATCH(AS143,referentes!Q:Q,0),1))","v":""},null,null,null,{"$f":"IF(AY143=\"\",\"\",INDEX(referentes!AB:AC,MATCH(AY143,referentes!AC:AC,0),1))","v":""},null,{"$f":"IF(BA143=\"\",\"\",INDEX(referentes!S:T,MATCH(BA143,referentes!T:T,0),1))","v":""},null,null,{"$f":"IF(AA143=\"\",\"\",INDEX(OtrasReferencias!$AM$7:$AN$9,MATCH(AA143,OtrasReferencias!$AM$7:$AM$9,0),2))","v":""}]
[null,null,"","",{"$f":"IF(T144=\"\",\"\",INDEX(referentes!G:H,MATCH(T144,referentes!H:H,0),1))","v":""},{"$f":"IF(V144=\"\",\"\",INDEX(referentes!$M:$N,MATCH(V144,referentes!$N:$N,0),1))","v":""},{"$f":"IF(W144=\"\",\"\",INDEX(referentes!J:K,MATCH(W144,referentes!K:K,0),1))","v":""},null,{"$f":"IF(Y144<>\"\",CONCATENATE($A$3,P144,DIGITADOR!$M$1,Y144,ROW()),\"\")","v":""},{"$f":"IF(Y144<>\"\",CONCATENATE(P144,INT(Q144*1440),DIGITADOR!$M$1,Y144),\"\")","v":""},null,{"$f":"IF(AO144<>\"\",INDEX(referentes!$Y:$Z,MATCH(DATOS!AO144,referentes!$Z:$Z,0),1),\"\")","v":""},"","",{"$f":"IF(R144=\"\",\"\",INDEX(referentes!D:E,MATCH(R144,referentes!E:E,0),1))","v":""},null,null,null,null,null,null,null,null,null,{"$f":"IF(X144=\"\",\"\",INDEX(referentes!$AT:$AX,MATCH(X144,referentes!$AX:$AX,0),1))","v":""},null,null,{"$f":"IF(AC144=\"\",\"\",INDEX(referentes!AZ:BA,MATCH(AC144,referentes!BA:BA,0),1))","v":""},null,null,null,null,null,null,null,null,null,null,null,null,null,null,{"$f":"IF(N144<>\"\",INDEX(referentes!$AK:$AM,MATCH(DATOS!M144,referentes!$AK:$AK,0),3),\"\")","v":""},null,null,{"$f":"IF(AS144=\"\",\"\",INDEX(referentes!P:Q,MATCH(AS144,referentes!Q:Q,0),1))","v":""},null,null,null,{"$f":"IF(AY144=\"\",\"\",INDEX(referentes!AB:AC,MATCH(AY144,referentes!AC:AC,0),1))","v":""},null,{"$f":"IF(BA144=\"\",\"\",INDEX(referentes!S:T,MATCH(BA144,referentes!T:T,0),1))","v":""},null,null,{"$f":"IF(AA144=\"\",\"\",INDEX(OtrasReferencias!$AM$7:$AN$9,MATCH(AA144,OtrasReferencias!$AM$7:$AM$9,0),2))","v":""}]
[null,null,"","",{"$f":"IF(T145=\"\",\"\",INDEX(referentes!G:H,MATCH(T145,referentes!H:H,0),1))","v":""},{"$f":"IF(V145=\"\",\"\",INDEX(referentes!$M:$N,MATCH(V145,referentes!$N:$N,0),1))","v":""},{"$f":"IF(W145=\"\",\"\",INDEX(referentes!J:K,MATCH(W145,referentes!K:K,0),1))","v":""},null,{"$f":"IF(Y145<>\"\",CONCATENATE($A$3,P145,DIGITADOR!$M$1,Y145,ROW()),\"\")","v":""},{"$f":"IF(Y145<>\"\",CONCATENATE(P145,INT(Q145*1440),DIGITADOR!$M$1,Y145),\"\")","v":""},null,{"$f":"IF(AO145<>\"\",INDEX(referentes!$Y:$Z,MATCH(DATOS!AO145,referentes!$Z:$Z,0),1),\"\")","v":""},"","",{"$f":"IF(R145=\"\",\"\",INDEX(referentes!D:E,MATCH(R145,referentes!E:E,0),1))","v":""},null,null,null,null,null,null,null,null,null,{"$f":"IF(X145=\"\",\"\",INDEX(referentes!$AT:$AX,MATCH(X145,referentes!$AX:$AX,0),1))","v":""},null,null,{"$f":"IF(AC145=\"\",\"\",INDEX(referentes!AZ:BA,MATCH(AC145,referentes!BA:BA,0),1))","v":""},null,null,null,null,null,null,null,null,null,null,null,null,null,null,{"$f":"IF(N145<>\"\",INDEX(referentes!$AK:$AM,MATCH(DATOS!M145,referentes!$AK:$AK,0),3),\"\")","v":""},null,null,{"$f":"IF(AS145=\"\",\"\",INDEX(referentes!P:Q,MATCH(AS145,referentes!Q:Q,0),1))","v":""},null,null,null,{"$f":"IF(AY145=\"\",\"\",INDEX(referentes!AB:AC,MATCH(AY145,referentes!AC:AC,0),1))","v":""},null,{"$f":"IF(BA145=\"\",\"\",INDEX(referentes!S:T,MATCH(BA145,referentes!T:T,0),1))","v":""},null,null,{"$f":"IF(AA145=\"\",\"\",INDEX(OtrasReferencias!$AM$7:$AN$9,MATCH(AA145,OtrasReferencias!$AM$7:$AM$9,0),2))","v":""}]
[null,null,"","",{"$f":"IF(T146=\"\",\"\",INDEX(referentes!G:H,MATCH(T146,referentes!H:H,0),1))","v":""},{"$f":"IF(V146=\"\",\"\",INDEX(referentes!$M:$N,MATCH(V146,referentes!$N:$N,0),1))","v":""},{"$f":"IF(W146=\"\",\"\",INDEX(referentes!J:K,MATCH(W146,referentes!K:K,0),1))","v":""},null,{"$f":"IF(Y146<>\"\",CONCATENATE($A$3,P146,DIGITADOR!$M$1,Y146,ROW()),\"\")","v":""},{"$f":"IF(Y146<>\"\",CONCATENATE(P146,INT(Q146*1440),DIGITADOR!$M$1,Y146),\"\")","v":""},null,{"$f":"IF(AO146<>\"\",INDEX(referentes!$Y:$Z,MATCH(DATOS!AO146,referentes!$Z:$Z,0),1),\"\")","v":""},"","",{"$f":"IF(R146=\"\",\"\",INDEX(referentes!D:E,MATCH(R146,referentes!E:E,0),1))","v":""},null,null,null,null,null,null,null,null,null,{"$f":"IF(X146=\"\",\"\",INDEX(referentes!$AT:$AX,MATCH(X146,referentes!$AX:$AX,0),1))","v":""},null,null,{"$f":"IF(AC146=\"\",\"\",INDEX(referentes!AZ:BA,MATCH(AC146,referentes!BA:BA,0),1))","v":""},null,null,null,null,null,null,null,null,null,null,null,null,null,null,{"$f":"IF(N146<>\"\",INDEX(referentes!$AK:$AM,MATCH(DATOS!M146,referentes!$AK:$AK,0),3),\"\")","v":""},null,null,{"$f":"IF(AS146=\"\",\"\",INDEX(referentes!P:Q,MATCH(AS146,referentes!Q:Q,0),1))","v":""},null,null,null,{"$f":"IF(AY146=\"\",\"\",INDEX(referentes!AB:AC,MATCH(AY146,referentes!AC:AC,0),1))","v":""},null,{"$f":"IF(BA146=\"\",\"\",INDEX(referentes!S:T,MATCH(BA146,referentes!T:T,0),1))","v":""},null,null,{"$f":"IF(AA146=\"\",\"\",INDEX(OtrasReferencias!$AM$7:$AN$9,MATCH(AA146,OtrasReferencias!$AM$7:$AM$9,0),2))","v":""}]
[null,null,"","",{"$f":"IF(T147=\"\",\"\",INDEX(referentes!G:H,MATCH(T147,referentes!H:H,0),1))","v":""},{"$f":"IF(V147=\"\",\"\",INDEX(referentes!$M:$N,MATCH(V147,referentes!$N:$N,0),1))","v":""},{"$f":"IF(W147=\"\",\"\",INDEX(referentes!J:K,MATCH(W147,referentes!K:K,0),1))","v":""},null,{"$f":"IF(Y147<>\"\",CONCATENATE($A$3,P147,DIGITADOR!$M$1,Y147,ROW()),\"\")","v":""},{"$f":"IF(Y147<>\"\",CONCATENATE(P147,INT(Q147*1440),DIGITADOR!$M$1,Y147),\"\")","v":""},null,{"$f":"IF(AO147<>\"\",INDEX(referentes!$Y:$Z,MATCH(DATOS!AO147,referentes!$Z:$Z,0),1),\"\")","v":""},"","",{"$f":"IF(R147=\"\",\"\",INDEX(referentes!D:E,MATCH(R147,referentes!E:E,0),1))","v":""},null,null,null,null,null,null,null,null,null,{"$f":"IF(X147=\"\",\"\",INDEX(referentes!$AT:$AX,MATCH(X147,referentes!$AX:$AX,0),1))","v":""},null,null,{"$f":"IF(AC147=\"\",\"\",INDEX(referentes!AZ:BA,MATCH(AC147,referentes!BA:BA,0),1))","v":""},null,null,null,null,null,null,null,null,null,null,null,null,null,null,{"$f":"IF(N147<>\"\",INDEX(referentes!$AK:$AM,MATCH(DATOS!M147,referentes!$AK:$AK,0),3),\"\")","v":""},null,null,{"$f":"IF(AS147=\"\",\"\",INDEX(referentes!P:Q,MATCH(AS147,referentes!Q:Q,0),1))","v":""},null,null,null,{"$f":"IF(AY147=\"\",\"\",INDEX(referentes!AB:AC,MATCH(AY147,referentes!AC:AC,0),1))","v":""},null,{"$f":"IF(BA147=\"\",\"\",INDEX(referentes!S:T,MATCH(BA147,referentes!T:T,0),1))","v":""},null,null,{"$f":"IF(AA147=\"\",\"\",INDEX(OtrasReferencias!$AM$7:$AN$9,MATCH(AA147,OtrasReferencias!$AM$7:$AM$9,0),2))","v":""}]
[null,null,"","",{"$f":"IF(T148=\"\",\"\",INDEX(referentes!G:H,MATCH(T148,referentes!H:H,0),1))","v":""},{"$f":"IF(V148=\"\",\"\",INDEX(referentes!$M:$N,MATCH(V148,referentes!$N:$N,0),1))","v":""},{"$f":"IF(W148=\"\",\"\",INDEX(referentes!J:K,MATCH(W148,referentes!K:K,0),1))","v":""},null,{"$f":"IF(Y148<>\"\",CONCATENATE($A$3,P148,DIGITADOR!$M$1,Y148,ROW()),\"\")","v":""},{"$f":"IF(Y148<>\"\",CONCATENATE(P148,INT(Q148*1440),DIGITADOR!$M$1,Y148),\"\")","v":""},null,{"$f":"IF(AO148<>\"\",INDEX(referentes!$Y:$Z,MATCH(DATOS!AO148,referentes!$Z:$Z,0),1),\"\")","v":""},"","",{"$f":"IF(R148=\"\",\"\",INDEX(referentes!D:E,MATCH(R148,referentes!E:E,0),1))","v":""},null,null,null,null,null,null,null,null,null,{"$f":"IF(X148=\"\",\"\",INDEX(referentes!$AT:$AX,MATCH(X148,referentes!$AX:$AX,0),1))","v":""},null,null,{"$f":"IF(AC148=\"\",\"\",INDEX(referentes!AZ:BA,MATCH(AC148,referentes!BA:BA,0),1))","v":""},null,null,null,null,null,null,null,null,null,null,null,null,null,null,{"$f":"IF(N148<>\"\",INDEX(referentes!$AK:$AM,MATCH(DATOS!M148,referentes!$AK:$AK,0),3),\"\")","v":""},null,null,{"$f":"IF(AS148=\"\",\"\",INDEX(referentes!P:Q,MATCH(AS148,referentes!Q:Q,0),1))","v":""},null,null,null,{"$f":"IF(AY148=\"\",\"\",INDEX(referentes!AB:AC,MATCH(AY148,referentes!AC:AC,0),1))","v":""},null,{"$f":"IF(BA148=\"\",\"\",INDEX(referentes!S:T,MATCH(BA148,referentes!T:T,0),1))","v":""},null,null,{"$f":"IF(AA148=\"\",\"\",INDEX(OtrasReferencias!$AM$7:$AN$9,MATCH(AA148,OtrasReferencias!$AM$7:$AM$9,0),2))","v":""}]
[null,null,"","",{"$f":"IF(T149=\"\",\"\",INDEX(referentes!G:H,MATCH(T149,referentes!H:H,0),1))","v":""},{"$f":"IF(V149=\"\",\"\",INDEX(referentes!$M:$N,MATCH(V149,referentes!$N:$N,0),1))","v":""},{"$f":"IF(W149=\"\",\"\",INDEX(referentes!J:K,MATCH(W149,referentes!K:K,0),1))","v":""},null,{"$f":"IF(Y149<>\"\",CONCATENATE($A$3,P149,DIGITADOR!$M$1,Y149,ROW()),\"\")","v":""},{"$f":"IF(Y149<>\"\",CONCATENATE(P149,INT(Q149*1440),DIGITADOR!$M$1,Y149),\"\")","v":""},null,{"$f":"IF(AO149<>\"\",INDEX(referentes!$Y:$Z,MATCH(DATOS!AO149,referentes!$Z:$Z,0),1),\"\")","v":""},"","",{"$f":"IF(R149=\"\",\"\",INDEX(referentes!D:E,MATCH(R149,referentes!E:E,0),1))","v":""},null,null,null,null,null,null,null,null,null,{"$f":"IF(X149=\"\",\"\",INDEX(referentes!$AT:$AX,MATCH(X149,referentes!$AX:$AX,0),1))","v":""},null,null,{"$f":"IF(AC149=\"\",\"\",INDEX(referentes!AZ:BA,MATCH(AC149,referentes!BA:BA,0),1))","v":""},null,null,null,null,null,null,null,null,null,null,null,null,null,null,{"$f":"IF(N149<>\"\",INDEX(referentes!$AK:$AM,MATCH(DATOS!M149,referentes!$AK:$AK,0),3),\"\")","v":""},null,null,{"$f":"IF(AS149=\"\",\"\",INDEX(referentes!P:Q,MATCH(AS149,referentes!Q:Q,0),1))","v":""},null,null,null,{"$f":"IF(AY149=\"\",\"\",INDEX(referentes!AB:AC,MATCH(AY149,referentes!AC:AC,0),1))","v":""},null,{"$f":"IF(BA149=\"\",\"\",INDEX(referentes!S:T,MATCH(BA149,referentes!T:T,0),1))","v":""},null,null,{"$f":"IF(AA149=\"\",\"\",INDEX(OtrasReferencias!$AM$7:$AN$9,MATCH(AA149,OtrasReferencias!$AM$7:$AM$9,0),2))","v":""}]
[null,null,"","",{"$f":"IF(T150=\"\",\"\",INDEX(referentes!G:H,MATCH(T150,referentes!H:H,0),1))","v":""},{"$f":"IF(V150=\"\",\"\",INDEX(referentes!$M:$N,MATCH(V150,referentes!$N:$N,0),1))","v":""},{"$f":"IF(W150=\"\",\"\",INDEX(referentes!J:K,MATCH(W150,referentes!K:K,0),1))","v":""},null,{"$f":"IF(Y150<>\"\",CONCATENATE($A$3,P150,DIGITADOR!$M$1,Y150,ROW()),\"\")","v":""},{"$f":"IF(Y150<>\"\",CONCATENATE(P150,INT(Q150*1440),DIGITADOR!$M$1,Y150),\"\")","v":""},null,{"$f":"IF(AO150<>\"\",INDEX(referentes!$Y:$Z,MATCH(DATOS!AO150,referentes!$Z:$Z,0),1),\"\")","v":""},"","",{"$f":"IF(R150=\"\",\"\",INDEX(referentes!D:E,MATCH(R150,referentes!E:E,0),1))","v":""},null,null,null,null,null,null,null,null,null,{"$f":"IF(X150=\"\",\"\",INDEX(referentes!$AT:$AX,MATCH(X150,referentes!$AX:$AX,0),1))","v":""},null,null,{"$f":"IF(AC150=\"\",\"\",INDEX(referentes!AZ:BA,MATCH(AC150,referentes!BA:BA,0),1))","v":""},null,null,null,null,null,null,null,null,null,null,null,null,null,null,{"$f":"IF(N150<>\"\",INDEX(referentes!$AK:$AM,MATCH(DATOS!M150,referentes!$AK:$AK,0),3),\"\")","v":""},null,null,{"$f":"IF(AS150=\"\",\"\",INDEX(referentes!P:Q,MATCH(AS150,referentes!Q:Q,0),1))","v":""},null,null,null,{"$f":"IF(AY150=\"\",\"\",INDEX(referentes!AB:AC,MATCH(AY150,referentes!AC:AC,0),1))","v":""},null,{"$f":"IF(BA150=\"\",\"\",INDEX(referentes!S:T,MATCH(BA150,referentes!T:T,0),1))","v":""},null,null,{"$f":"IF(AA150=\"\",\"\",INDEX(OtrasReferencias!$AM$7:$AN$9,MATCH(AA150,OtrasReferencias!$AM$7:$AM$9,0),2))","v":""}]
[null,null,"","",{"$f":"IF(T151=\"\",\"\",INDEX(referentes!G:H,MATCH(T151,referentes!H:H,0),1))","v":""},{"$f":"IF(V151=\"\",\"\",INDEX(referentes!$M:$N,MATCH(V151,referentes!$N:$N,0),1))","v":""},{"$f":"IF(W151=\"\",\"\",INDEX(referentes!J:K,MATCH(W151,referentes!K:K,0),1))","v":""},null,{"$f":"IF(Y151<>\"\",CONCATENATE($A$3,P151,DIGITADOR!$M$1,Y151,ROW()),\"\")","v":""},{"$f":"IF(Y151<>\"\",CONCATENATE(P151,INT(Q151*1440),DIGITADOR!$M$1,Y151),\"\")","v":""},null,{"$f":"IF(AO151<>\"\",INDEX(referentes!$Y:$Z,MATCH(DATOS!AO151,referentes!$Z:$Z,0),1),\"\")","v":""},"","",{"$f":"IF(R151=\"\",\"\",INDEX(referentes!D:E,MATCH(R151,referentes!E:E,0),1))","v":""},null,null,null,null,null,null,null,null,null,{"$f":"IF(X151=\"\",\"\",INDEX(referentes!$AT:$AX,MATCH(X151,referentes!$AX:$AX,0),1))","v":""},null,null,{"$f":"IF(AC151=\"\",\"\",INDEX(referentes!AZ:BA,MATCH(AC151,referentes!BA:BA,0),1))","v":""},null,null,null,null,null,null,null,null,null,null,null,null,null,null,{"$f":"IF(N151<>\"\",INDEX(referentes!$AK:$AM,MATCH(DATOS!M151,referentes!$AK:$AK,0),3),\"\")","v":""},null,null,{"$f":"IF(AS151=\"\",\"\",INDEX(referentes!P:Q,MATCH(AS151,referentes!Q:Q,0),1))","v":""},null,null,null,{"$f":"IF(AY151=\"\",\"\",INDEX(referentes!AB:AC,MATCH(AY151,referentes!AC:AC,0),1))","v":""},null,{"$f":"IF(BA151=\"\",\"\",INDEX(referentes!S:T,MATCH(BA151,referentes!T:T,0),1))","v":""},null,null,{"$f":"IF(AA151=\"\",\"\",INDEX(OtrasReferencias!$AM$7:$AN$9,MATCH(AA151,OtrasReferencias!$AM$7:$AM$9,0),2))","v":""}]
[null,null,"","",{"$f":"IF(T152=\"\",\"\",INDEX(referentes!G:H,MATCH(T152,referentes!H:H,0),1))","v":""},{"$f":"IF(V152=\"\",\"\",INDEX(referentes!$M:$N,MATCH(V152,referentes!$N:$N,0),1))","v":""},{"$f":"IF(W152=\"\",\"\",INDEX(referentes!J:K,MATCH(W152,referentes!K:K,0),1))","v":""},null,{"$f":"IF(Y152<>\"\",CONCATENATE($A$3,P152,DIGITADOR!$M$1,Y152,ROW()),\"\")","v":""},{"$f":"IF(Y152<>\"\",CONCATENATE(P152,INT(Q152*1440),DIGITADOR!$M$1,Y152),\"\")","v":""},null,{"$f":"IF(AO152<>\"\",INDEX(referentes!$Y:$Z,MATCH(DATOS!AO152,referentes!$Z:$Z,0),1),\"\")","v":""},"","",{"$f":"IF(R152=\"\",\"\",INDEX(referentes!D:E,MATCH(R152,referentes!E:E,0),1))","v":""},null,null,null,null,null,null,null,null,null,{"$f":"IF(X152=\"\",\"\",INDEX(referentes!$AT:$AX,MATCH(X152,referentes!$AX:$AX,0),1))","v":""},null,null,{"$f":"IF(AC152=\"\",\"\",INDEX(referentes!AZ:BA,MATCH(AC152,referentes!BA:BA,0),1))","v":""},null,null,null,null,null,null,null,null,null,null,null,null,null,null,{"$f":"IF(N152<>\"\",INDEX(referentes!$AK:$AM,MATCH(DATOS!M152,referentes!$AK:$AK,0),3),\"\")","v":""},null,null,{"$f":"IF(AS152=\"\",\"\",INDEX(referentes!P:Q,MATCH(AS152,referentes!Q:Q,0),1))","v":""},null,null,null,{"$f":"IF(AY152=\"\",\"\",INDEX(referentes!AB:AC,MATCH(AY152,referentes!AC:AC,0),1))","v":""},null,{"$f":"IF(BA152=\"\",\"\",INDEX(referentes!S:T,MATCH(BA152,referentes!T:T,0),1))","v":""},null,null,{"$f":"IF(AA152=\"\",\"\",INDEX(OtrasReferencias!$AM$7:$AN$9,MATCH(AA152,OtrasReferencias!$AM$7:$AM$9,0),2))","v":""}]
[null,null,"","",{"$f":"IF(T153=\"\",\"\",INDEX(referentes!G:H,MATCH(T153,referentes!H:H,0),1))","v":""},{"$f":"IF(V153=\"\",\"\",INDEX(referentes!$M:$N,MATCH(V153,referentes!$N:$N,0),1))","v":""},{"$f":"IF(W153=\"\",\"\",INDEX(referentes!J:K,MATCH(W153,referentes!K:K,0),1))","v":""},null,{"$f":"IF(Y153<>\"\",CONCATENATE($A$3,P153,DIGITADOR!$M$1,Y153,ROW()),\"\")","v":""},{"$f":"IF(Y153<>\"\",CONCATENATE(P153,INT(Q153*1440),DIGITADOR!$M$1,Y153),\"\")","v":""},null,{"$f":"IF(AO153<>\"\",INDEX(referentes!$Y:$Z,MATCH(DATOS!AO153,referentes!$Z:$Z,0),1),\"\")","v":""},"","",{"$f":"IF(R153=\"\",\"\",INDEX(referentes!D:E,MATCH(R153,referentes!E:E,0),1))","v":""},null,null,null,null,null,null,null,null,null,{"$f":"IF(X153=\"\",\"\",INDEX(referentes!$AT:$AX,MATCH(X153,referentes!$AX:$AX,0),1))","v":""},null,null,{"$f":"IF(AC153=\"\",\"\",INDEX(referentes!AZ:BA,MATCH(AC153,referentes!BA:BA,0),1))","v":""},null,null,null,null,null,null,null,null,null,null,null,null,null,null,{"$f":"IF(N153<>\"\",INDEX(referentes!$AK:$AM,MATCH(DATOS!M153,referentes!$AK:$AK,0),3),\"\")","v":""},null,null,{"$f":"IF(AS153=\"\",\"\",INDEX(referentes!P:Q,MATCH(AS153,referentes!Q:Q,0),1))","v":""},null,null,null,{"$f":"IF(AY153=\"\",\"\",INDEX(referentes!AB:AC,MATCH(AY153,referentes!AC:AC,0),1))","v":""},null,{"$f":"IF(BA153=\"\",\"\",INDEX(referentes!S:T,MATCH(BA153,referentes!T:T,0),1))","v":""},null,null,{"$f":"IF(AA153=\"\",\"\",INDEX(OtrasReferencias!$AM$7:$AN$9,MATCH(AA153,OtrasReferencias!$AM$7:$AM$9,0),2))","v":""}]
[null,null,"","",{"$f":"IF(T154=\"\",\"\",INDEX(referentes!G:H,MATCH(T154,referentes!H:H,0),1))","v":""},{"$f":"IF(V154=\"\",\"\",INDEX(referentes!$M:$N,MATCH(V154,referentes!$N:$N,0),1))","v":""},{"$f":"IF(W154=\"\",\"\",INDEX(referentes!J:K,MATCH(W154,referentes!K:K,0),1))","v":""},null,{"$f":"IF(Y154<>\"\",CONCATENATE($A$3,P154,DIGITADOR!$M$1,Y154,ROW()),\"\")","v":""},{"$f":"IF(Y154<>\"\",CONCATENATE(P154,INT(Q154*1440),DIGITADOR!$M$1,Y154),\"\")","v":""},null,{"$f":"IF(AO154<>\"\",INDEX(referentes!$Y:$Z,MATCH(DATOS!AO154,referentes!$Z:$Z,0),1),\"\")","v":""},"","",{"$f":"IF(R154=\"\",\"\",INDEX(referentes!D:E,MATCH(R154,referentes!E:E,0),1))","v":""},null,null,null,null,null,null,null,null,null,{"$f":"IF(X154=\"\",\"\",INDEX(referentes!$AT:$AX,MATCH(X154,referentes!$AX:$AX,0),1))","v":""},null,null,{"$f":"IF(AC154=\"\",\"\",INDEX(referentes!AZ:BA,MATCH(AC154,referentes!BA:BA,0),1))","v":""},null,null,null,null,null,null,null,null,null,null,null,null,null,null,{"$f":"IF(N154<>\"\",INDEX(referentes!$AK:$AM,MATCH(DATOS!M154,referentes!$AK:$AK,0),3),\"\")","v":""},null,null,{"$f":"IF(AS154=\"\",\"\",INDEX(referentes!P:Q,MATCH(AS154,referentes!Q:Q,0),1))","v":""},null,null,null,{"$f":"IF(AY154=\"\",\"\",INDEX(referentes!AB:AC,MATCH(AY154,referentes!AC:AC,0),1))","v":""},null,{"$f":"IF(BA154=\"\",\"\",INDEX(referentes!S:T,MATCH(BA154,referentes!T:T,0),1))","v":""},null,null,{"$f":"IF(AA154=\"\",\"\",INDEX(OtrasReferencias!$AM$7:$AN$9,MATCH(AA154,OtrasReferencias!$AM$7:$AM$9,0),2))","v":""}]
[null,null,"","",{"$f":"IF(T155=\"\",\"\",INDEX(referentes!G:H,MATCH(T155,referentes!H:H,0),1))","v":""},{"$f":"IF(V155=\"\",\"\",INDEX(referentes!$M:$N,MATCH(V155,referentes!$N:$N,0),1))","v":""},{"$f":"IF(W155=\"\",\"\",INDEX(referentes!J:K,MATCH(W155,referentes!K:K,0),1))","v":""},null,{"$f":"IF(Y155<>\"\",CONCATENATE($A$3,P155,DIGITADOR!$M$1,Y155,ROW()),\"\")","v":""},{"$f":"IF(Y155<>\"\",CONCATENATE(P155,INT(Q155*1440),DIGITADOR!$M$1,Y155),\"\")","v":""},null,{"$f":"IF(AO155<>\"\",INDEX(referentes!$Y:$Z,MATCH(DATOS!AO155,referentes!$Z:$Z,0),1),\"\")","v":""},"","",{"$f":"IF(R155=\"\",\"\",INDEX(referentes!D:E,MATCH(R155,referentes!E:E,0),1))","v":""},null,null,null,null,null,null,null,null,null,{"$f":"IF(X155=\"\",\"\",INDEX(referentes!$AT:$AX,MATCH(X155,referentes!$AX:$AX,0),1))","v":""},null,null,{"$f":"IF(AC155=\"\",\"\",INDEX(referentes!AZ:BA,MATCH(AC155,referentes!BA:BA,0),1))","v":""},null,null,null,null,null,null,null,null,null,null,null,null,null,null,{"$f":"IF(N155<>\"\",INDEX(referentes!$AK:$AM,MATCH(DATOS!M155,referentes!$AK:$AK,0),3),\"\")","v":""},null,null,{"$f":"IF(AS155=\"\",\"\",INDEX(referentes!P:Q,MATCH(AS155,referentes!Q:Q,0),1))","v":""},null,null,null,{"$f":"IF(AY155=\"\",\"\",INDEX(referentes!AB:AC,MATCH(AY155,referentes!AC:AC,0),1))","v":""},null,{"$f":"IF(BA155=\"\",\"\",INDEX(referentes!S:T,MATCH(BA155,referentes!T:T,0),1))","v":""},null,null,{"$f":"IF(AA155=\"\",\"\",INDEX(OtrasReferencias!$AM$7:$AN$9,MATCH(AA155,OtrasReferencias!$AM$7:$AM$9,0),2))","v":""}]
[null,null,"","",{"$f":"IF(T156=\"\",\"\",INDEX(referentes!G:H,MATCH(T156,referentes!H:H,0),1))","v":""},{"$f":"IF(V156=\"\",\"\",INDEX(referentes!$M:$N,MATCH(V156,referentes!$N:$N,0),1))","v":""},{"$f":"IF(W156=\"\",\"\",INDEX(referentes!J:K,MATCH(W156,referentes!K:K,0),1))","v":""},null,{"$f":"IF(Y156<>\"\",CONCATENATE($A$3,P156,DIGITADOR!$M$1,Y156,ROW()),\"\")","v":""},{"$f":"IF(Y156<>\"\",CONCATENATE(P156,INT(Q156*1440),DIGITADOR!$M$1,Y156),\"\")","v":""},null,{"$f":"IF(AO156<>\"\",INDEX(referentes!$Y:$Z,MATCH(DATOS!AO156,referentes!$Z:$Z,0),1),\"\")","v":""},"","",{"$f":"IF(R156=\"\",\"\",INDEX(referentes!D:E,MATCH(R156,referentes!E:E,0),1))","v":""},null,null,null,null,null,null,null,null,null,{"$f":"IF(X156=\"\",\"\",INDEX(referentes!$AT:$AX,MATCH(X156,referentes!$AX:$AX,0),1))","v":""},null,null,{"$f":"IF(AC156=\"\",\"\",INDEX(referentes!AZ:BA,MATCH(AC156,referentes!BA:BA,0),1))","v":""},null,null,null,null,null,null,null,null,null,null,null,null,null,null,{"$f":"IF(N156<>\"\",INDEX(referentes!$AK:$AM,MATCH(DATOS!M156,referentes!$AK:$AK,0),3),\"\")","v":""},null,null,{"$f":"IF(AS156=\"\",\"\",INDEX(referentes!P:Q,MATCH(AS156,referentes!Q:Q,0),1))","v":""},null,null,null,{"$f":"IF(AY156=\"\",\"\",INDEX(referentes!AB:AC,MATCH(AY156,referentes!AC:AC,0),1))","v":""},null,{"$f":"IF(BA156=\"\",\"\",INDEX(referentes!S:T,MATCH(BA156,referentes!T:T,0),1))","v":""},null,null,{"$f":"IF(AA156=\"\",\"\",INDEX(OtrasReferencias!$AM$7:$AN$9,MATCH(AA156,OtrasReferencias!$AM$7:$AM$9,0),2))","v":""}]
[null,null,"","",{"$f":"IF(T157=\"\",\"\",INDEX(referentes!G:H,MATCH(T157,referentes!H:H,0),1))","v":""},{"$f":"IF(V157=\"\",\"\",INDEX(referentes!$M:$N,MATCH(V157,referentes!$N:$N,0),1))","v":""},{"$f":"IF(W157=\"\",\"\",INDEX(referentes!J:K,MATCH(W157,referentes!K:K,0),1))","v":""},null,{"$f":"IF(Y157<>\"\",CONCATENATE($A$3,P157,DIGITADOR!$M$1,Y157,ROW()),\"\")","v":""},{"$f":"IF(Y157<>\"\",CONCATENATE(P157,INT(Q157*1440),DIGITADOR!$M$1,Y157),\"\")","v":""},null,{"$f":"IF(AO157<>\"\",INDEX(referentes!$Y:$Z,MATCH(DATOS!AO157,referentes!$Z:$Z,0),1),\"\")","v":""},"","",{"$f":"IF(R157=\"\",\"\",INDEX(referentes!D:E,MATCH(R157,referentes!E:E,0),1))","v":""},null,null,null,null,null,null,null,null,null,{"$f":"IF(X157=\"\",\"\",INDEX(referentes!$AT:$AX,MATCH(X157,referentes!$AX:$AX,0),1))","v":""},null,null,{"$f":"IF(AC157=\"\",\"\",INDEX(referentes!AZ:BA,MATCH(AC157,referentes!BA:BA,0),1))","v":""},null,null,null,null,null,null,null,null,null,null,null,null,null,null,{"$f":"IF(N157<>\"\",INDEX(referentes!$AK:$AM,MATCH(DATOS!M157,referentes!$AK:$AK,0),3),\"\")","v":""},null,null,{"$f":"IF(AS157=\"\",\"\",INDEX(referentes!P:Q,MATCH(AS157,referentes!Q:Q,0),1))","v":""},null,null,null,{"$f":"IF(AY157=\"\",\"\",INDEX(referentes!AB:AC,MATCH(AY157,referentes!AC:AC,0),1))","v":""},null,{"$f":"IF(BA157=\"\",\"\",INDEX(referentes!S:T,MATCH(BA157,referentes!T:T,0),1))","v":""},null,null,{"$f":"IF(AA157=\"\",\"\",INDEX(OtrasReferencias!$AM$7:$AN$9,MATCH(AA157,OtrasReferencias!$AM$7:$AM$9,0),2))","v":""}]
[null,null,"","",{"$f":"IF(T158=\"\",\"\",INDEX(referentes!G:H,MATCH(T158,referentes!H:H,0),1))","v":""},{"$f":"IF(V158=\"\",\"\",INDEX(referentes!$M:$N,MATCH(V158,referentes!$N:$N,0),1))","v":""},{"$f":"IF(W158=\"\",\"\",INDEX(referentes!J:K,MATCH(W158,referentes!K:K,0),1))","v":""},null,{"$f":"IF(Y158<>\"\",CONCATENATE($A$3,P158,DIGITADOR!$M$1,Y158,ROW()),\"\")","v":""},{"$f":"IF(Y158<>\"\",CONCATENATE(P158,INT(Q158*1440),DIGITADOR!$M$1,Y158),\"\")","v":""},null,{"$f":"IF(AO158<>\"\",INDEX(referentes!$Y:$Z,MATCH(DATOS!AO158,referentes!$Z:$Z,0),1),\"\")","v":""},"","",{"$f":"IF(R158=\"\",\"\",INDEX(referentes!D:E,MATCH(R158,referentes!E:E,0),1))","v":""},null,null,null,null,null,null,null,null,null,{"$f":"IF(X158=\"\",\"\",INDEX(referentes!$AT:$AX,MATCH(X158,referentes!$AX:$AX,0),1))","v":""},null,null,{"$f":"IF(AC158=\"\",\"\",INDEX(referentes!AZ:BA,MATCH(AC158,referentes!BA:BA,0),1))","v":""},null,null,null,null,null,null,null,null,null,null,null,null,null,null,{"$f":"IF(N158<>\"\",INDEX(referentes!$AK:$AM,MATCH(DATOS!M158,referentes!$AK:$AK,0),3),\"\")","v":""},null,null,{"$f":"IF(AS158=\"\",\"\",INDEX(referentes!P:Q,MATCH(AS158,referentes!Q:Q,0),1))","v":""},null,null,null,{"$f":"IF(AY158=\"\",\"\",INDEX(referentes!AB:AC,MATCH(AY158,referentes!AC:AC,0),1))","v":""},null,{"$f":"IF(BA158=\"\",\"\",INDEX(referentes!S:T,MATCH(BA158,referentes!T:T,0),1))","v":""},null,null,{"$f":"IF(AA158=\"\",\"\",INDEX(OtrasReferencias!$AM$7:$AN$9,MATCH(AA158,OtrasReferencias!$AM$7:$AM$9,0),2))","v":""}]
[null,null,"","",{"$f":"IF(T159=\"\",\"\",INDEX(referentes!G:H,MATCH(T159,referentes!H:H,0),1))","v":""},{"$f":"IF(V159=\"\",\"\",INDEX(referentes!$M:$N,MATCH(V159,referentes!$N:$N,0),1))","v":""},{"$f":"IF(W159=\"\",\"\",INDEX(referentes!J:K,MATCH(W159,referentes!K:K,0),1))","v":""},null,{"$f":"IF(Y159<>\"\",CONCATENATE($A$3,P159,DIGITADOR!$M$1,Y159,ROW()),\"\")","v":""},{"$f":"IF(Y159<>\"\",CONCATENATE(P159,INT(Q159*1440),DIGITADOR!$M$1,Y159),\"\")","v":""},null,{"$f":"IF(AO159<>\"\",INDEX(referentes!$Y:$Z,MATCH(DATOS!AO159,referentes!$Z:$Z,0),1),\"\")","v":""},"","",{"$f":"IF(R159=\"\",\"\",INDEX(referentes!D:E,MATCH(R159,referentes!E:E,0),1))","v":""},null,null,null,null,null,null,null,null,null,{"$f":"IF(X159=\"\",\"\",INDEX(referentes!$AT:$AX,MATCH(X159,referentes!$AX:$AX,0),1))","v":""},null,null,{"$f":"IF(AC159=\"\",\"\",INDEX(referentes!AZ:BA,MATCH(AC159,referentes!BA:BA,0),1))","v":""},null,null,null,null,null,null,null,null,null,null,null,null,null,null,{"$f":"IF(N159<>\"\",INDEX(referentes!$AK:$AM,MATCH(DATOS!M159,referentes!$AK:$AK,0),3),\"\")","v":""},null,null,{"$f":"IF(AS159=\"\",\"\",INDEX(referentes!P:Q,MATCH(AS159,referentes!Q:Q,0),1))","v":""},null,null,null,{"$f":"IF(AY159=\"\",\"\",INDEX(referentes!AB:AC,MATCH(AY159,referentes!AC:AC,0),1))","v":""},null,{"$f":"IF(BA159=\"\",\"\",INDEX(referentes!S:T,MATCH(BA159,referentes!T:T,0),1))","v":""},null,null,{"$f":"IF(AA159=\"\",\"\",INDEX(OtrasReferencias!$AM$7:$AN$9,MATCH(AA159,OtrasReferencias!$AM$7:$AM$9,0),2))","v":""}]
[null,null,"","",{"$f":"IF(T160=\"\",\"\",INDEX(referentes!G:H,MATCH(T160,referentes!H:H,0),1))","v":""},{"$f":"IF(V160=\"\",\"\",INDEX(referentes!$M:$N,MATCH(V160,referentes!$N:$N,0),1))","v":""},{"$f":"IF(W160=\"\",\"\",INDEX(referentes!J:K,MATCH(W160,referentes!K:K,0),1))","v":""},null,{"$f":"IF(Y160<>\"\",CONCATENATE($A$3,P160,DIGITADOR!$M$1,Y160,ROW()),\"\")","v":""},{"$f":"IF(Y160<>\"\",CONCATENATE(P160,INT(Q160*1440),DIGITADOR!$M$1,Y160),\"\")","v":""},null,{"$f":"IF(AO160<>\"\",INDEX(referentes!$Y:$Z,MATCH(DATOS!AO160,referentes!$Z:$Z,0),1),\"\")","v":""},"","",{"$f":"IF(R160=\"\",\"\",INDEX(referentes!D:E,MATCH(R160,referentes!E:E,0),1))","v":""},null,null,null,null,null,null,null,null,null,{"$f":"IF(X160=\"\",\"\",INDEX(referentes!$AT:$AX,MATCH(X160,referentes!$AX:$AX,0),1))","v":""},null,null,{"$f":"IF(AC160=\"\",\"\",INDEX(referentes!AZ:BA,MATCH(AC160,referentes!BA:BA,0),1))","v":""},null,null,null,null,null,null,null,null,null,null,null,null,null,null,{"$f":"IF(N160<>\"\",INDEX(referentes!$AK:$AM,MATCH(DATOS!M160,referentes!$AK:$AK,0),3),\"\")","v":""},null,null,{"$f":"IF(AS160=\"\",\"\",INDEX(referentes!P:Q,MATCH(AS160,referentes!Q:Q,0),1))","v":""},null,null,null,{"$f":"IF(AY160=\"\",\"\",INDEX(referentes!AB:AC,MATCH(AY160,referentes!AC:AC,0),1))","v":""},null,{"$f":"IF(BA160=\"\",\"\",INDEX(referentes!S:T,MATCH(BA160,referentes!T:T,0),1))","v":""},null,null,{"$f":"IF(AA160=\"\",\"\",INDEX(OtrasReferencias!$AM$7:$AN$9,MATCH(AA160,OtrasReferencias!$AM$7:$AM$9,0),2))","v":""}]
[null,null,"","",{"$f":"IF(T161=\"\",\"\",INDEX(referentes!G:H,MATCH(T161,referentes!H:H,0),1))","v":""},{"$f":"IF(V161=\"\",\"\",INDEX(referentes!$M:$N,MATCH(V161,referentes!$N:$N,0),1))","v":""},{"$f":"IF(W161=\"\",\"\",INDEX(referentes!J:K,MATCH(W161,referentes!K:K,0),1))","v":""},null,{"$f":"IF(Y161<>\"\",CONCATENATE($A$3,P161,DIGITADOR!$M$1,Y161,ROW()),\"\")","v":""},{"$f":"IF(Y161<>\"\",CONCATENATE(P161,INT(Q161*1440),DIGITADOR!$M$1,Y161),\"\")","v":""},null,{"$f":"IF(AO161<>\"\",INDEX(referentes!$Y:$Z,MATCH(DATOS!AO161,referentes!$Z:$Z,0),1),\"\")","v":""},"","",{"$f":"IF(R161=\"\",\"\",INDEX(referentes!D:E,MATCH(R161,referentes!E:E,0),1))","v":""},null,null,null,null,null,null,null,null,null,{"$f":"IF(X161=\"\",\"\",INDEX(referentes!$AT:$AX,MATCH(X161,referentes!$AX:$AX,0),1))","v":""},null,null,{"$f":"IF(AC161=\"\",\"\",INDEX(referentes!AZ:BA,MATCH(AC161,referentes!BA:BA,0),1))","v":""},null,null,null,null,null,null,null,null,null,null,null,null,null,null,{"$f":"IF(N161<>\"\",INDEX(referentes!$AK:$AM,MATCH(DATOS!M161,referentes!$AK:$AK,0),3),\"\")","v":""},null,null,{"$f":"IF(AS161=\"\",\"\",INDEX(referentes!P:Q,MATCH(AS161,referentes!Q:Q,0),1))","v":""},null,null,null,{"$f":"IF(AY161=\"\",\"\",INDEX(referentes!AB:AC,MATCH(AY161,referentes!AC:AC,0),1))","v":""},null,{"$f":"IF(BA161=\"\",\"\",INDEX(referentes!S:T,MATCH(BA161,referentes!T:T,0),1))","v":""},null,null,{"$f":"IF(AA161=\"\",\"\",INDEX(OtrasReferencias!$AM$7:$AN$9,MATCH(AA161,OtrasReferencias!$AM$7:$AM$9,0),2))","v":""}]
[null,null,"","",{"$f":"IF(T162=\"\",\"\",INDEX(referentes!G:H,MATCH(T162,referentes!H:H,0),1))","v":""},{"$f":"IF(V162=\"\",\"\",INDEX(referentes!$M:$N,MATCH(V162,referentes!$N:$N,0),1))","v":""},{"$f":"IF(W162=\"\",\"\",INDEX(referentes!J:K,MATCH(W162,referentes!K:K,0),1))","v":""},null,{"$f":"IF(Y162<>\"\",CONCATENATE($A$3,P162,DIGITADOR!$M$1,Y162,ROW()),\"\")","v":""},{"$f":"IF(Y162<>\"\",CONCATENATE(P162,INT(Q162*1440),DIGITADOR!$M$1,Y162),\"\")","v":""},null,{"$f":"IF(AO162<>\"\",INDEX(referentes!$Y:$Z,MATCH(DATOS!AO162,referentes!$Z:$Z,0),1),\"\")","v":""},"","",{"$f":"IF(R162=\"\",\"\",INDEX(referentes!D:E,MATCH(R162,referentes!E:E,0),1))","v":""},null,null,null,null,null,null,null,null,null,{"$f":"IF(X162=\"\",\"\",INDEX(referentes!$AT:$AX,MATCH(X162,referentes!$AX:$AX,0),1))","v":""},null,null,{"$f":"IF(AC162=\"\",\"\",INDEX(referentes!AZ:BA,MATCH(AC162,referentes!BA:BA,0),1))","v":""},null,null,null,null,null,null,null,null,null,null,null,null,null,null,{"$f":"IF(N162<>\"\",INDEX(referentes!$AK:$AM,MATCH(DATOS!M162,referentes!$AK:$AK,0),3),\"\")","v":""},null,null,{"$f":"IF(AS162=\"\",\"\",INDEX(referentes!P:Q,MATCH(AS162,referentes!Q:Q,0),1))","v":""},null,null,null,{"$f":"IF(AY162=\"\",\"\",INDEX(referentes!AB:AC,MATCH(AY162,referentes!AC:AC,0),1))","v":""},null,{"$f":"IF(BA162=\"\",\"\",INDEX(referentes!S:T,MATCH(BA162,referentes!T:T,0),1))","v":""},null,null,{"$f":"IF(AA162=\"\",\"\",INDEX(OtrasReferencias!$AM$7:$AN$9,MATCH(AA162,OtrasReferencias!$AM$7:$AM$9,0),2))","v":""}]
[null,null,"","",{"$f":"IF(T163=\"\",\"\",INDEX(referentes!G:H,MATCH(T163,referentes!H:H,0),1))","v":""},{"$f":"IF(V163=\"\",\"\",INDEX(referentes!$M:$N,MATCH(V163,referentes!$N:$N,0),1))","v":""},{"$f":"IF(W163=\"\",\"\",INDEX(referentes!J:K,MATCH(W163,referentes!K:K,0),1))","v":""},null,{"$f":"IF(Y163<>\"\",CONCATENATE($A$3,P163,DIGITADOR!$M$1,Y163,ROW()),\"\")","v":""},{"$f":"IF(Y163<>\"\",CONCATENATE(P163,INT(Q163*1440),DIGITADOR!$M$1,Y163),\"\")","v":""},null,{"$f":"IF(AO163<>\"\",INDEX(referentes!$Y:$Z,MATCH(DATOS!AO163,referentes!$Z:$Z,0),1),\"\")","v":""},"","",{"$f":"IF(R163=\"\",\"\",INDEX(referentes!D:E,MATCH(R163,referentes!E:E,0),1))","v":""},null,null,null,null,null,null,null,null,null,{"$f":"IF(X163=\"\",\"\",INDEX(referentes!$AT:$AX,MATCH(X163,referentes!$AX:$AX,0),1))","v":""},null,null,{"$f":"IF(AC163=\"\",\"\",INDEX(referentes!AZ:BA,MATCH(AC163,referentes!BA:BA,0),1))","v":""},null,null,null,null,null,null,null,null,null,null,null,null,null,null,{"$f":"IF(N163<>\"\",INDEX(referentes!$AK:$AM,MATCH(DATOS!M163,referentes!$AK:$AK,0),3),\"\")","v":""},null,null,{"$f":"IF(AS163=\"\",\"\",INDEX(referentes!P:Q,MATCH(AS163,referentes!Q:Q,0),1))","v":""},null,null,null,{"$f":"IF(AY163=\"\",\"\",INDEX(referentes!AB:AC,MATCH(AY163,referentes!AC:AC,0),1))","v":""},null,{"$f":"IF(BA163=\"\",\"\",INDEX(referentes!S:T,MATCH(BA163,referentes!T:T,0),1))","v":""},null,null,{"$f":"IF(AA163=\"\",\"\",INDEX(OtrasReferencias!$AM$7:$AN$9,MATCH(AA163,OtrasReferencias!$AM$7:$AM$9,0),2))","v":""}]
[null,null,"","",{"$f":"IF(T164=\"\",\"\",INDEX(referentes!G:H,MATCH(T164,referentes!H:H,0),1))","v":""},{"$f":"IF(V164=\"\",\"\",INDEX(referentes!$M:$N,MATCH(V164,referentes!$N:$N,0),1))","v":""},{"$f":"IF(W164=\"\",\"\",INDEX(referentes!J:K,MATCH(W164,referentes!K:K,0),1))","v":""},null,{"$f":"IF(Y164<>\"\",CONCATENATE($A$3,P164,DIGITADOR!$M$1,Y164,ROW()),\"\")","v":""},{"$f":"IF(Y164<>\"\",CONCATENATE(P164,INT(Q164*1440),DIGITADOR!$M$1,Y164),\"\")","v":""},null,{"$f":"IF(AO164<>\"\",INDEX(referentes!$Y:$Z,MATCH(DATOS!AO164,referentes!$Z:$Z,0),1),\"\")","v":""},"","",{"$f":"IF(R164=\"\",\"\",INDEX(referentes!D:E,MATCH(R164,referentes!E:E,0),1))","v":""},null,null,null,null,null,null,null,null,null,{"$f":"IF(X164=\"\",\"\",INDEX(referentes!$AT:$AX,MATCH(X164,referentes!$AX:$AX,0),1))","v":""},null,null,{"$f":"IF(AC164=\"\",\"\",INDEX(referentes!AZ:BA,MATCH(AC164,referentes!BA:BA,0),1))","v":""},null,null,null,null,null,null,null,null,null,null,null,null,null,null,{"$f":"IF(N164<>\"\",INDEX(referentes!$AK:$AM,MATCH(DATOS!M164,referentes!$AK:$AK,0),3),\"\")","v":""},null,null,{"$f":"IF(AS164=\"\",\"\",INDEX(referentes!P:Q,MATCH(AS164,referentes!Q:Q,0),1))","v":""},null,null,null,{"$f":"IF(AY164=\"\",\"\",INDEX(referentes!AB:AC,MATCH(AY164,referentes!AC:AC,0),1))","v":""},null,{"$f":"IF(BA164=\"\",\"\",INDEX(referentes!S:T,MATCH(BA164,referentes!T:T,0),1))","v":""},null,null,{"$f":"IF(AA164=\"\",\"\",INDEX(OtrasReferencias!$AM$7:$AN$9,MATCH(AA164,OtrasReferencias!$AM$7:$AM$9,0),2))","v":""}]
[null,null,"","",{"$f":"IF(T165=\"\",\"\",INDEX(referentes!G:H,MATCH(T165,referentes!H:H,0),1))","v":""},{"$f":"IF(V165=\"\",\"\",INDEX(referentes!$M:$N,MATCH(V165,referentes!$N:$N,0),1))","v":""},{"$f":"IF(W165=\"\",\"\",INDEX(referentes!J:K,MATCH(W165,referentes!K:K,0),1))","v":""},null,{"$f":"IF(Y165<>\"\",CONCATENATE($A$3,P165,DIGITADOR!$M$1,Y165,ROW()),\"\")","v":""},{"$f":"IF(Y165<>\"\",CONCATENATE(P165,INT(Q165*1440),DIGITADOR!$M$1,Y165),\"\")","v":""},null,{"$f":"IF(AO165<>\"\",INDEX(referentes!$Y:$Z,MATCH(DATOS!AO165,referentes!$Z:$Z,0),1),\"\")","v":""},"","",{"$f":"IF(R165=\"\",\"\",INDEX(referentes!D:E,MATCH(R165,referentes!E:E,0),1))","v":""},null,null,null,null,null,null,null,null,null,{"$f":"IF(X165=\"\",\"\",INDEX(referentes!$AT:$AX,MATCH(X165,referentes!$AX:$AX,0),1))","v":""},null,null,{"$f":"IF(AC165=\"\",\"\",INDEX(referentes!AZ:BA,MATCH(AC165,referentes!BA:BA,0),1))","v":""},null,null,null,null,null,null,null,null,null,null,null,null,null,null,{"$f":"IF(N165<>\"\",INDEX(referentes!$AK:$AM,MATCH(DATOS!M165,referentes!$AK:$AK,0),3),\"\")","v":""},null,null,{"$f":"IF(AS165=\"\",\"\",INDEX(referentes!P:Q,MATCH(AS165,referentes!Q:Q,0),1))","v":""},null,null,null,{"$f":"IF(AY165=\"\",\"\",INDEX(referentes!AB:AC,MATCH(AY165,referentes!AC:AC,0),1))","v":""},null,{"$f":"IF(BA165=\"\",\"\",INDEX(referentes!S:T,MATCH(BA165,referentes!T:T,0),1))","v":""},null,null,{"$f":"IF(AA165=\"\",\"\",INDEX(OtrasReferencias!$AM$7:$AN$9,MATCH(AA165,OtrasReferencias!$AM$7:$AM$9,0),2))","v":""}]
[null,null,"","",{"$f":"IF(T166=\"\",\"\",INDEX(referentes!G:H,MATCH(T166,referentes!H:H,0),1))","v":""},{"$f":"IF(V166=\"\",\"\",INDEX(referentes!$M:$N,MATCH(V166,referentes!$N:$N,0),1))","v":""},{"$f":"IF(W166=\"\",\"\",INDEX(referentes!J:K,MATCH(W166,referentes!K:K,0),1))","v":""},null,{"$f":"IF(Y166<>\"\",CONCATENATE($A$3,P166,DIGITADOR!$M$1,Y166,ROW()),\"\")","v":""},{"$f":"IF(Y166<>\"\",CONCATENATE(P166,INT(Q166*1440),DIGITADOR!$M$1,Y166),\"\")","v":""},null,{"$f":"IF(AO166<>\"\",INDEX(referentes!$Y:$Z,MATCH(DATOS!AO166,referentes!$Z:$Z,0),1),\"\")","v":""},"","",{"$f":"IF(R166=\"\",\"\",INDEX(referentes!D:E,MATCH(R166,referentes!E:E,0),1))","v":""},null,null,null,null,null,null,null,null,null,{"$f":"IF(X166=\"\",\"\",INDEX(referentes!$AT:$AX,MATCH(X166,referentes!$AX:$AX,0),1))","v":""},null,null,{"$f":"IF(AC166=\"\",\"\",INDEX(referentes!AZ:BA,MATCH(AC166,referentes!BA:BA,0),1))","v":""},null,null,null,null,null,null,null,null,null,null,null,null,null,null,{"$f":"IF(N166<>\"\",INDEX(referentes!$AK:$AM,MATCH(DATOS!M166,referentes!$AK:$AK,0),3),\"\")","v":""},null,null,{"$f":"IF(AS166=\"\",\"\",INDEX(referentes!P:Q,MATCH(AS166,referentes!Q:Q,0),1))","v":""},null,null,null,{"$f":"IF(AY166=\"\",\"\",INDEX(referentes!AB:AC,MATCH(AY166,referentes!AC:AC,0),1))","v":""},null,{"$f":"IF(BA166=\"\",\"\",INDEX(referentes!S:T,MATCH(BA166,referentes!T:T,0),1))","v":""},null,null,{"$f":"IF(AA166=\"\",\"\",INDEX(OtrasReferencias!$AM$7:$AN$9,MATCH(AA166,OtrasReferencias!$AM$7:$AM$9,0),2))","v":""}]
[null,null,"","",{"$f":"IF(T167=\"\",\"\",INDEX(referentes!G:H,MATCH(T167,referentes!H:H,0),1))","v":""},{"$f":"IF(V167=\"\",\"\",INDEX(referentes!$M:$N,MATCH(V167,referentes!$N:$N,0),1))","v":""},{"$f":"IF(W167=\"\",\"\",INDEX(referentes!J:K,MATCH(W167,referentes!K:K,0),1))","v":""},null,{"$f":"IF(Y167<>\"\",CONCATENATE($A$3,P167,DIGITADOR!$M$1,Y167,ROW()),\"\")","v":""},{"$f":"IF(Y167<>\"\",CONCATENATE(P167,INT(Q167*1440),DIGITADOR!$M$1,Y167),\"\")","v":""},null,{"$f":"IF(AO167<>\"\",INDEX(referentes!$Y:$Z,MATCH(DATOS!AO167,referentes!$Z:$Z,0),1),\"\")","v":""},"","",{"$f":"IF(R167=\"\",\"\",INDEX(referentes!D:E,MATCH(R167,referentes!E:E,0),1))","v":""},null,null,null,null,null,null,null,null,null,{"$f":"IF(X167=\"\",\"\",INDEX(referentes!$AT:$AX,MATCH(X167,referentes!$AX:$AX,0),1))","v":""},null,null,{"$f":"IF(AC167=\"\",\"\",INDEX(referentes!AZ:BA,MATCH(AC167,referentes!BA:BA,0),1))","v":""},null,null,null,null,null,null,null,null,null,null,null,null,null,null,{"$f":"IF(N167<>\"\",INDEX(referentes!$AK:$AM,MATCH(DATOS!M167,referentes!$AK:$AK,0),3),\"\")","v":""},null,null,{"$f":"IF(AS167=\"\",\"\",INDEX(referentes!P:Q,MATCH(AS167,referentes!Q:Q,0),1))","v":""},null,null,null,{"$f":"IF(AY167=\"\",\"\",INDEX(referentes!AB:AC,MATCH(AY167,referentes!AC:AC,0),1))","v":""},null,{"$f":"IF(BA167=\"\",\"\",INDEX(referentes!S:T,MATCH(BA167,referentes!T:T,0),1))","v":""},null,null,{"$f":"IF(AA167=\"\",\"\",INDEX(OtrasReferencias!$AM$7:$AN$9,MATCH(AA167,OtrasReferencias!$AM$7:$AM$9,0),2))","v":""}]
[null,null,"","",{"$f":"IF(T168=\"\",\"\",INDEX(referentes!G:H,MATCH(T168,referentes!H:H,0),1))","v":""},{"$f":"IF(V168=\"\",\"\",INDEX(referentes!$M:$N,MATCH(V168,referentes!$N:$N,0),1))","v":""},{"$f":"IF(W168=\"\",\"\",INDEX(referentes!J:K,MATCH(W168,referentes!K:K,0),1))","v":""},null,{"$f":"IF(Y168<>\"\",CONCATENATE($A$3,P168,DIGITADOR!$M$1,Y168,ROW()),\"\")","v":""},{"$f":"IF(Y168<>\"\",CONCATENATE(P168,INT(Q168*1440),DIGITADOR!$M$1,Y168),\"\")","v":""},null,{"$f":"IF(AO168<>\"\",INDEX(referentes!$Y:$Z,MATCH(DATOS!AO168,referentes!$Z:$Z,0),1),\"\")","v":""},"","",{"$f":"IF(R168=\"\",\"\",INDEX(referentes!D:E,MATCH(R168,referentes!E:E,0),1))","v":""},null,null,null,null,null,null,null,null,null,{"$f":"IF(X168=\"\",\"\",INDEX(referentes!$AT:$AX,MATCH(X168,referentes!$AX:$AX,0),1))","v":""},null,null,{"$f":"IF(AC168=\"\",\"\",INDEX(referentes!AZ:BA,MATCH(AC168,referentes!BA:BA,0),1))","v":""},null,null,null,null,null,null,null,null,null,null,null,null,null,null,{"$f":"IF(N168<>\"\",INDEX(referentes!$AK:$AM,MATCH(DATOS!M168,referentes!$AK:$AK,0),3),\"\")","v":""},null,null,{"$f":"IF(AS168=\"\",\"\",INDEX(referentes!P:Q,MATCH(AS168,referentes!Q:Q,0),1))","v":""},null,null,null,{"$f":"IF(AY168=\"\",\"\",INDEX(referentes!AB:AC,MATCH(AY168,referentes!AC:AC,0),1))","v":""},null,{"$f":"IF(BA168=\"\",\"\",INDEX(referentes!S:T,MATCH(BA168,referentes!T:T,0),1))","v":""},null,null,{"$f":"IF(AA168=\"\",\"\",INDEX(OtrasReferencias!$AM$7:$AN$9,MATCH(AA168,OtrasReferencias!$AM$7:$AM$9,0),2))","v":""}]
[null,null,"","",{"$f":"IF(T169=\"\",\"\",INDEX(referentes!G:H,MATCH(T169,referentes!H:H,0),1))","v":""},{"$f":"IF(V169=\"\",\"\",INDEX(referentes!$M:$N,MATCH(V169,referentes!$N:$N,0),1))","v":""},{"$f":"IF(W169=\"\",\"\",INDEX(referentes!J:K,MATCH(W169,referentes!K:K,0),1))","v":""},null,{"$f":"IF(Y169<>\"\",CONCATENATE($A$3,P169,DIGITADOR!$M$1,Y169,ROW()),\"\")","v":""},{"$f":"IF(Y169<>\"\",CONCATENATE(P169,INT(Q169*1440),DIGITADOR!$M$1,Y169),\"\")","v":""},null,{"$f":"IF(AO169<>\"\",INDEX(referentes!$Y:$Z,MATCH(DATOS!AO169,referentes!$Z:$Z,0),1),\"\")","v":""},"","",{"$f":"IF(R169=\"\",\"\",INDEX(referentes!D:E,MATCH(R169,referentes!E:E,0),1))","v":""},null,null,null,null,null,null,null,null,null,{"$f":"IF(X169=\"\",\"\",INDEX(referentes!$AT:$AX,MATCH(X169,referentes!$AX:$AX,0),1))","v":""},null,null,{"$f":"IF(AC169=\"\",\"\",INDEX(referentes!AZ:BA,MATCH(AC169,referentes!BA:BA,0),1))","v":""},null,null,null,null,null,null,null,null,null,null,null,null,null,null,{"$f":"IF(N169<>\"\",INDEX(referentes!$AK:$AM,MATCH(DATOS!M169,referentes!$AK:$AK,0),3),\"\")","v":""},null,null,{"$f":"IF(AS169=\"\",\"\",INDEX(referentes!P:Q,MATCH(AS169,referentes!Q:Q,0),1))","v":""},null,null,null,{"$f":"IF(AY169=\"\",\"\",INDEX(referentes!AB:AC,MATCH(AY169,referentes!AC:AC,0),1))","v":""},null,{"$f":"IF(BA169=\"\",\"\",INDEX(referentes!S:T,MATCH(BA169,referentes!T:T,0),1))","v":""},null,null,{"$f":"IF(AA169=\"\",\"\",INDEX(OtrasReferencias!$AM$7:$AN$9,MATCH(AA169,OtrasReferencias!$AM$7:$AM$9,0),2))","v":""}]
[null,null,"","",{"$f":"IF(T170=\"\",\"\",INDEX(referentes!G:H,MATCH(T170,referentes!H:H,0),1))","v":""},{"$f":"IF(V170=\"\",\"\",INDEX(referentes!$M:$N,MATCH(V170,referentes!$N:$N,0),1))","v":""},{"$f":"IF(W170=\"\",\"\",INDEX(referentes!J:K,MATCH(W170,referentes!K:K,0),1))","v":""},null,{"$f":"IF(Y170<>\"\",CONCATENATE($A$3,P170,DIGITADOR!$M$1,Y170,ROW()),\"\")","v":""},{"$f":"IF(Y170<>\"\",CONCATENATE(P170,INT(Q170*1440),DIGITADOR!$M$1,Y170),\"\")","v":""},null,{"$f":"IF(AO170<>\"\",INDEX(referentes!$Y:$Z,MATCH(DATOS!AO170,referentes!$Z:$Z,0),1),\"\")","v":""},"","",{"$f":"IF(R170=\"\",\"\",INDEX(referentes!D:E,MATCH(R170,referentes!E:E,0),1))","v":""},null,null,null,null,null,null,null,null,null,{"$f":"IF(X170=\"\",\"\",INDEX(referentes!$AT:$AX,MATCH(X170,referentes!$AX:$AX,0),1))","v":""},null,null,{"$f":"IF(AC170=\"\",\"\",INDEX(referentes!AZ:BA,MATCH(AC170,referentes!BA:BA,0),1))","v":""},null,null,null,null,null,null,null,null,null,null,null,null,null,null,{"$f":"IF(N170<>\"\",INDEX(referentes!$AK:$AM,MATCH(DATOS!M170,referentes!$AK:$AK,0),3),\"\")","v":""},null,null,{"$f":"IF(AS170=\"\",\"\",INDEX(referentes!P:Q,MATCH(AS170,referentes!Q:Q,0),1))","v":""},null,null,null,{"$f":"IF(AY170=\"\",\"\",INDEX(referentes!AB:AC,MATCH(AY170,referentes!AC:AC,0),1))","v":""},null,{"$f":"IF(BA170=\"\",\"\",INDEX(referentes!S:T,MATCH(BA170,referentes!T:T,0),1))","v":""},null,null,{"$f":"IF(AA170=\"\",\"\",INDEX(OtrasReferencias!$AM$7:$AN$9,MATCH(AA170,OtrasReferencias!$AM$7:$AM$9,0),2))","v":""}]
[null,null,"","",{"$f":"IF(T171=\"\",\"\",INDEX(referentes!G:H,MATCH(T171,referentes!H:H,0),1))","v":""},{"$f":"IF(V171=\"\",\"\",INDEX(referentes!$M:$N,MATCH(V171,referentes!$N:$N,0),1))","v":""},{"$f":"IF(W171=\"\",\"\",INDEX(referentes!J:K,MATCH(W171,referentes!K:K,0),1))","v":""},null,{"$f":"IF(Y171<>\"\",CONCATENATE($A$3,P171,DIGITADOR!$M$1,Y171,ROW()),\"\")","v":""},{"$f":"IF(Y171<>\"\",CONCATENATE(P171,INT(Q171*1440),DIGITADOR!$M$1,Y171),\"\")","v":""},null,{"$f":"IF(AO171<>\"\",INDEX(referentes!$Y:$Z,MATCH(DATOS!AO171,referentes!$Z:$Z,0),1),\"\")","v":""},"","",{"$f":"IF(R171=\"\",\"\",INDEX(referentes!D:E,MATCH(R171,referentes!E:E,0),1))","v":""},null,null,null,null,null,null,null,null,null,{"$f":"IF(X171=\"\",\"\",INDEX(referentes!$AT:$AX,MATCH(X171,referentes!$AX:$AX,0),1))","v":""},null,null,{"$f":"IF(AC171=\"\",\"\",INDEX(referentes!AZ:BA,MATCH(AC171,referentes!BA:BA,0),1))","v":""},null,null,null,null,null,null,null,null,null,null,null,null,null,null,{"$f":"IF(N171<>\"\",INDEX(referentes!$AK:$AM,MATCH(DATOS!M171,referentes!$AK:$AK,0),3),\"\")","v":""},null,null,{"$f":"IF(AS171=\"\",\"\",INDEX(referentes!P:Q,MATCH(AS171,referentes!Q:Q,0),1))","v":""},null,null,null,{"$f":"IF(AY171=\"\",\"\",INDEX(referentes!AB:AC,MATCH(AY171,referentes!AC:AC,0),1))","v":""},null,{"$f":"IF(BA171=\"\",\"\",INDEX(referentes!S:T,MATCH(BA171,referentes!T:T,0),1))","v":""},null,null,{"$f":"IF(AA171=\"\",\"\",INDEX(OtrasReferencias!$AM$7:$AN$9,MATCH(AA171,OtrasReferencias!$AM$7:$AM$9,0),2))","v":""}]
[null,null,"","",{"$f":"IF(T172=\"\",\"\",INDEX(referentes!G:H,MATCH(T172,referentes!H:H,0),1))","v":""},{"$f":"IF(V172=\"\",\"\",INDEX(referentes!$M:$N,MATCH(V172,referentes!$N:$N,0),1))","v":""},{"$f":"IF(W172=\"\",\"\",INDEX(referentes!J:K,MATCH(W172,referentes!K:K,0),1))","v":""},null,{"$f":"IF(Y172<>\"\",CONCATENATE($A$3,P172,DIGITADOR!$M$1,Y172,ROW()),\"\")","v":""},{"$f":"IF(Y172<>\"\",CONCATENATE(P172,INT(Q172*1440),DIGITADOR!$M$1,Y172),\"\")","v":""},null,{"$f":"IF(AO172<>\"\",INDEX(referentes!$Y:$Z,MATCH(DATOS!AO172,referentes!$Z:$Z,0),1),\"\")","v":""},"","",{"$f":"IF(R172=\"\",\"\",INDEX(referentes!D:E,MATCH(R172,referentes!E:E,0),1))","v":""},null,null,null,null,null,null,null,null,null,{"$f":"IF(X172=\"\",\"\",INDEX(referentes!$AT:$AX,MATCH(X172,referentes!$AX:$AX,0),1))","v":""},null,null,{"$f":"IF(AC172=\"\",\"\",INDEX(referentes!AZ:BA,MATCH(AC172,referentes!BA:BA,0),1))","v":""},null,null,null,null,null,null,null,null,null,null,null,null,null,null,{"$f":"IF(N172<>\"\",INDEX(referentes!$AK:$AM,MATCH(DATOS!M172,referentes!$AK:$AK,0),3),\"\")","v":""},null,null,{"$f":"IF(AS172=\"\",\"\",INDEX(referentes!P:Q,MATCH(AS172,referentes!Q:Q,0),1))","v":""},null,null,null,{"$f":"IF(AY172=\"\",\"\",INDEX(referentes!AB:AC,MATCH(AY172,referentes!AC:AC,0),1))","v":""},null,{"$f":"IF(BA172=\"\",\"\",INDEX(referentes!S:T,MATCH(BA172,referentes!T:T,0),1))","v":""},null,null,{"$f":"IF(AA172=\"\",\"\",INDEX(OtrasReferencias!$AM$7:$AN$9,MATCH(AA172,OtrasReferencias!$AM$7:$AM$9,0),2))","v":""}]
[null,null,"","",{"$f":"IF(T173=\"\",\"\",INDEX(referentes!G:H,MATCH(T173,referentes!H:H,0),1))","v":""},{"$f":"IF(V173=\"\",\"\",INDEX(referentes!$M:$N,MATCH(V173,referentes!$N:$N,0),1))","v":""},{"$f":"IF(W173=\"\",\"\",INDEX(referentes!J:K,MATCH(W173,referentes!K:K,0),1))","v":""},null,{"$f":"IF(Y173<>\"\",CONCATENATE($A$3,P173,DIGITADOR!$M$1,Y173,ROW()),\"\")","v":""},{"$f":"IF(Y173<>\"\",CONCATENATE(P173,INT(Q173*1440),DIGITADOR!$M$1,Y173),\"\")","v":""},null,{"$f":"IF(AO173<>\"\",INDEX(referentes!$Y:$Z,MATCH(DATOS!AO173,referentes!$Z:$Z,0),1),\"\")","v":""},"","",{"$f":"IF(R173=\"\",\"\",INDEX(referentes!D:E,MATCH(R173,referentes!E:E,0),1))","v":""},null,null,null,null,null,null,null,null,null,{"$f":"IF(X173=\"\",\"\",INDEX(referentes!$AT:$AX,MATCH(X173,referentes!$AX:$AX,0),1))","v":""},null,null,{"$f":"IF(AC173=\"\",\"\",INDEX(referentes!AZ:BA,MATCH(AC173,referentes!BA:BA,0),1))","v":""},null,null,null,null,null,null,null,null,null,null,null,null,null,null,{"$f":"IF(N173<>\"\",INDEX(referentes!$AK:$AM,MATCH(DATOS!M173,referentes!$AK:$AK,0),3),\"\")","v":""},null,null,{"$f":"IF(AS173=\"\",\"\",INDEX(referentes!P:Q,MATCH(AS173,referentes!Q:Q,0),1))","v":""},null,null,null,{"$f":"IF(AY173=\"\",\"\",INDEX(referentes!AB:AC,MATCH(AY173,referentes!AC:AC,0),1))","v":""},null,{"$f":"IF(BA173=\"\",\"\",INDEX(referentes!S:T,MATCH(BA173,referentes!T:T,0),1))","v":""},null,null,{"$f":"IF(AA173=\"\",\"\",INDEX(OtrasReferencias!$AM$7:$AN$9,MATCH(AA173,OtrasReferencias!$AM$7:$AM$9,0),2))","v":""}]
[null,null,"","",{"$f":"IF(T174=\"\",\"\",INDEX(referentes!G:H,MATCH(T174,referentes!H:H,0),1))","v":""},{"$f":"IF(V174=\"\",\"\",INDEX(referentes!$M:$N,MATCH(V174,referentes!$N:$N,0),1))","v":""},{"$f":"IF(W174=\"\",\"\",INDEX(referentes!J:K,MATCH(W174,referentes!K:K,0),1))","v":""},null,{"$f":"IF(Y174<>\"\",CONCATENATE($A$3,P174,DIGITADOR!$M$1,Y174,ROW()),\"\")","v":""},{"$f":"IF(Y174<>\"\",CONCATENATE(P174,INT(Q174*1440),DIGITADOR!$M$1,Y174),\"\")","v":""},null,{"$f":"IF(AO174<>\"\",INDEX(referentes!$Y:$Z,MATCH(DATOS!AO174,referentes!$Z:$Z,0),1),\"\")","v":""},"","",{"$f":"IF(R174=\"\",\"\",INDEX(referentes!D:E,MATCH(R174,referentes!E:E,0),1))","v":""},null,null,null,null,null,null,null,null,null,{"$f":"IF(X174=\"\",\"\",INDEX(referentes!$AT:$AX,MATCH(X174,referentes!$AX:$AX,0),1))","v":""},null,null,{"$f":"IF(AC174=\"\",\"\",INDEX(referentes!AZ:BA,MATCH(AC174,referentes!BA:BA,0),1))","v":""},null,null,null,null,null,null,null,null,null,null,null,null,null,null,{"$f":"IF(N174<>\"\",INDEX(referentes!$AK:$AM,MATCH(DATOS!M174,referentes!$AK:$AK,0),3),\"\")","v":""},null,null,{"$f":"IF(AS174=\"\",\"\",INDEX(referentes!P:Q,MATCH(AS174,referentes!Q:Q,0),1))","v":""},null,null,null,{"$f":"IF(AY174=\"\",\"\",INDEX(referentes!AB:AC,MATCH(AY174,referentes!AC:AC,0),1))","v":""},null,{"$f":"IF(BA174=\"\",\"\",INDEX(referentes!S:T,MATCH(BA174,referentes!T:T,0),1))","v":""},null,null,{"$f":"IF(AA174=\"\",\"\",INDEX(OtrasReferencias!$AM$7:$AN$9,MATCH(AA174,OtrasReferencias!$AM$7:$AM$9,0),2))","v":""}]
[null,null,"","",{"$f":"IF(T175=\"\",\"\",INDEX(referentes!G:H,MATCH(T175,referentes!H:H,0),1))","v":""},{"$f":"IF(V175=\"\",\"\",INDEX(referentes!$M:$N,MATCH(V175,referentes!$N:$N,0),1))","v":""},{"$f":"IF(W175=\"\",\"\",INDEX(referentes!J:K,MATCH(W175,referentes!K:K,0),1))","v":""},null,{"$f":"IF(Y175<>\"\",CONCATENATE($A$3,P175,DIGITADOR!$M$1,Y175,ROW()),\"\")","v":""},{"$f":"IF(Y175<>\"\",CONCATENATE(P175,INT(Q175*1440),DIGITADOR!$M$1,Y175),\"\")","v":""},null,{"$f":"IF(AO175<>\"\",INDEX(referentes!$Y:$Z,MATCH(DATOS!AO175,referentes!$Z:$Z,0),1),\"\")","v":""},"","",{"$f":"IF(R175=\"\",\"\",INDEX(referentes!D:E,MATCH(R175,referentes!E:E,0),1))","v":""},null,null,null,null,null,null,null,null,null,{"$f":"IF(X175=\"\",\"\",INDEX(referentes!$AT:$AX,MATCH(X175,referentes!$AX:$AX,0),1))","v":""},null,null,{"$f":"IF(AC175=\"\",\"\",INDEX(referentes!AZ:BA,MATCH(AC175,referentes!BA:BA,0),1))","v":""},null,null,null,null,null,null,null,null,null,null,null,null,null,null,{"$f":"IF(N175<>\"\",INDEX(referentes!$AK:$AM,MATCH(DATOS!M175,referentes!$AK:$AK,0),3),\"\")","v":""},null,null,{"$f":"IF(AS175=\"\",\"\",INDEX(referentes!P:Q,MATCH(AS175,referentes!Q:Q,0),1))","v":""},null,null,null,{"$f":"IF(AY175=\"\",\"\",INDEX(referentes!AB:AC,MATCH(AY175,referentes!AC:AC,0),1))","v":""},null,{"$f":"IF(BA175=\"\",\"\",INDEX(referentes!S:T,MATCH(BA175,referentes!T:T,0),1))","v":""},null,null,{"$f":"IF(AA175=\"\",\"\",INDEX(OtrasReferencias!$AM$7:$AN$9,MATCH(AA175,OtrasReferencias!$AM$7:$AM$9,0),2))","v":""}]
[null,null,"","",{"$f":"IF(T176=\"\",\"\",INDEX(referentes!G:H,MATCH(T176,referentes!H:H,0),1))","v":""},{"$f":"IF(V176=\"\",\"\",INDEX(referentes!$M:$N,MATCH(V176,referentes!$N:$N,0),1))","v":""},{"$f":"IF(W176=\"\",\"\",INDEX(referentes!J:K,MATCH(W176,referentes!K:K,0),1))","v":""},null,{"$f":"IF(Y176<>\"\",CONCATENATE($A$3,P176,DIGITADOR!$M$1,Y176,ROW()),\"\")","v":""},{"$f":"IF(Y176<>\"\",CONCATENATE(P176,INT(Q176*1440),DIGITADOR!$M$1,Y176),\"\")","v":""},null,{"$f":"IF(AO176<>\"\",INDEX(referentes!$Y:$Z,MATCH(DATOS!AO176,referentes!$Z:$Z,0),1),\"\")","v":""},"","",{"$f":"IF(R176=\"\",\"\",INDEX(referentes!D:E,MATCH(R176,referentes!E:E,0),1))","v":""},null,null,null,null,null,null,null,null,null,{"$f":"IF(X176=\"\",\"\",INDEX(referentes!$AT:$AX,MATCH(X176,referentes!$AX:$AX,0),1))","v":""},null,null,{"$f":"IF(AC176=\"\",\"\",INDEX(referentes!AZ:BA,MATCH(AC176,referentes!BA:BA,0),1))","v":""},null,null,null,null,null,null,null,null,null,null,null,null,null,null,{"$f":"IF(N176<>\"\",INDEX(referentes!$AK:$AM,MATCH(DATOS!M176,referentes!$AK:$AK,0),3),\"\")","v":""},null,null,{"$f":"IF(AS176=\"\",\"\",INDEX(referentes!P:Q,MATCH(AS176,referentes!Q:Q,0),1))","v":""},null,null,null,{"$f":"IF(AY176=\"\",\"\",INDEX(referentes!AB:AC,MATCH(AY176,referentes!AC:AC,0),1))","v":""},null,{"$f":"IF(BA176=\"\",\"\",INDEX(referentes!S:T,MATCH(BA176,referentes!T:T,0),1))","v":""},null,null,{"$f":"IF(AA176=\"\",\"\",INDEX(OtrasReferencias!$AM$7:$AN$9,MATCH(AA176,OtrasReferencias!$AM$7:$AM$9,0),2))","v":""}]
[null,null,"","",{"$f":"IF(T177=\"\",\"\",INDEX(referentes!G:H,MATCH(T177,referentes!H:H,0),1))","v":""},{"$f":"IF(V177=\"\",\"\",INDEX(referentes!$M:$N,MATCH(V177,referentes!$N:$N,0),1))","v":""},{"$f":"IF(W177=\"\",\"\",INDEX(referentes!J:K,MATCH(W177,referentes!K:K,0),1))","v":""},null,{"$f":"IF(Y177<>\"\",CONCATENATE($A$3,P177,DIGITADOR!$M$1,Y177,ROW()),\"\")","v":""},{"$f":"IF(Y177<>\"\",CONCATENATE(P177,INT(Q177*1440),DIGITADOR!$M$1,Y177),\"\")","v":""},null,{"$f":"IF(AO177<>\"\",INDEX(referentes!$Y:$Z,MATCH(DATOS!AO177,referentes!$Z:$Z,0),1),\"\")","v":""},"","",{"$f":"IF(R177=\"\",\"\",INDEX(referentes!D:E,MATCH(R177,referentes!E:E,0),1))","v":""},null,null,null,null,null,null,null,null,null,{"$f":"IF(X177=\"\",\"\",INDEX(referentes!$AT:$AX,MATCH(X177,referentes!$AX:$AX,0),1))","v":""},null,null,{"$f":"IF(AC177=\"\",\"\",INDEX(referentes!AZ:BA,MATCH(AC177,referentes!BA:BA,0),1))","v":""},null,null,null,null,null,null,null,null,null,null,null,null,null,null,{"$f":"IF(N177<>\"\",INDEX(referentes!$AK:$AM,MATCH(DATOS!M177,referentes!$AK:$AK,0),3),\"\")","v":""},null,null,{"$f":"IF(AS177=\"\",\"\",INDEX(referentes!P:Q,MATCH(AS177,referentes!Q:Q,0),1))","v":""},null,null,null,{"$f":"IF(AY177=\"\",\"\",INDEX(referentes!AB:AC,MATCH(AY177,referentes!AC:AC,0),1))","v":""},null,{"$f":"IF(BA177=\"\",\"\",INDEX(referentes!S:T,MATCH(BA177,referentes!T:T,0),1))","v":""},null,null,{"$f":"IF(AA177=\"\",\"\",INDEX(OtrasReferencias!$AM$7:$AN$9,MATCH(AA177,OtrasReferencias!$AM$7:$AM$9,0),2))","v":""}]
[null,null,"","",{"$f":"IF(T178=\"\",\"\",INDEX(referentes!G:H,MATCH(T178,referentes!H:H,0),1))","v":""},{"$f":"IF(V178=\"\",\"\",INDEX(referentes!$M:$N,MATCH(V178,referentes!$N:$N,0),1))","v":""},{"$f":"IF(W178=\"\",\"\",INDEX(referentes!J:K,MATCH(W178,referentes!K:K,0),1))","v":""},null,{"$f":"IF(Y178<>\"\",CONCATENATE($A$3,P178,DIGITADOR!$M$1,Y178,ROW()),\"\")","v":""},{"$f":"IF(Y178<>\"\",CONCATENATE(P178,INT(Q178*1440),DIGITADOR!$M$1,Y178),\"\")","v":""},null,{"$f":"IF(AO178<>\"\",INDEX(referentes!$Y:$Z,MATCH(DATOS!AO178,referentes!$Z:$Z,0),1),\"\")","v":""},"","",{"$f":"IF(R178=\"\",\"\",INDEX(referentes!D:E,MATCH(R178,referentes!E:E,0),1))","v":""},null,null,null,null,null,null,null,null,null,{"$f":"IF(X178=\"\",\"\",INDEX(referentes!$AT:$AX,MATCH(X178,referentes!$AX:$AX,0),1))","v":""},null,null,{"$f":"IF(AC178=\"\",\"\",INDEX(referentes!AZ:BA,MATCH(AC178,referentes!BA:BA,0),1))","v":""},null,null,null,null,null,null,null,null,null,null,null,null,null,null,{"$f":"IF(N178<>\"\",INDEX(referentes!$AK:$AM,MATCH(DATOS!M178,referentes!$AK:$AK,0),3),\"\")","v":""},null,null,{"$f":"IF(AS178=\"\",\"\",INDEX(referentes!P:Q,MATCH(AS178,referentes!Q:Q,0),1))","v":""},null,null,null,{"$f":"IF(AY178=\"\",\"\",INDEX(referentes!AB:AC,MATCH(AY178,referentes!AC:AC,0),1))","v":""},null,{"$f":"IF(BA178=\"\",\"\",INDEX(referentes!S:T,MATCH(BA178,referentes!T:T,0),1))","v":""},null,null,{"$f":"IF(AA178=\"\",\"\",INDEX(OtrasReferencias!$AM$7:$AN$9,MATCH(AA178,OtrasReferencias!$AM$7:$AM$9,0),2))","v":""}]
[null,null,"","",{"$f":"IF(T179=\"\",\"\",INDEX(referentes!G:H,MATCH(T179,referentes!H:H,0),1))","v":""},{"$f":"IF(V179=\"\",\"\",INDEX(referentes!$M:$N,MATCH(V179,referentes!$N:$N,0),1))","v":""},{"$f":"IF(W179=\"\",\"\",INDEX(referentes!J:K,MATCH(W179,referentes!K:K,0),1))","v":""},null,{"$f":"IF(Y179<>\"\",CONCATENATE($A$3,P179,DIGITADOR!$M$1,Y179,ROW()),\"\")","v":""},{"$f":"IF(Y179<>\"\",CONCATENATE(P179,INT(Q179*1440),DIGITADOR!$M$1,Y179),\"\")","v":""},null,{"$f":"IF(AO179<>\"\",INDEX(referentes!$Y:$Z,MATCH(DATOS!AO179,referentes!$Z:$Z,0),1),\"\")","v":""},"","",{"$f":"IF(R179=\"\",\"\",INDEX(referentes!D:E,MATCH(R179,referentes!E:E,0),1))","v":""},null,null,null,null,null,null,null,null,null,{"$f":"IF(X179=\"\",\"\",INDEX(referentes!$AT:$AX,MATCH(X179,referentes!$AX:$AX,0),1))","v":""},null,null,{"$f":"IF(AC179=\"\",\"\",INDEX(referentes!AZ:BA,MATCH(AC179,referentes!BA:BA,0),1))","v":""},null,null,null,null,null,null,null,null,null,null,null,null,null,null,{"$f":"IF(N179<>\"\",INDEX(referentes!$AK:$AM,MATCH(DATOS!M179,referentes!$AK:$AK,0),3),\"\")","v":""},null,null,{"$f":"IF(AS179=\"\",\"\",INDEX(referentes!P:Q,MATCH(AS179,referentes!Q:Q,0),1))","v":""},null,null,null,{"$f":"IF(AY179=\"\",\"\",INDEX(referentes!AB:AC,MATCH(AY179,referentes!AC:AC,0),1))","v":""},null,{"$f":"IF(BA179=\"\",\"\",INDEX(referentes!S:T,MATCH(BA179,referentes!T:T,0),1))","v":""},null,null,{"$f":"IF(AA179=\"\",\"\",INDEX(OtrasReferencias!$AM$7:$AN$9,MATCH(AA179,OtrasReferencias!$AM$7:$AM$9,0),2))","v":""}]
[null,null,"","",{"$f":"IF(T180=\"\",\"\",INDEX(referentes!G:H,MATCH(T180,referentes!H:H,0),1))","v":""},{"$f":"IF(V180=\"\",\"\",INDEX(referentes!$M:$N,MATCH(V180,referentes!$N:$N,0),1))","v":""},{"$f":"IF(W180=\"\",\"\",INDEX(referentes!J:K,MATCH(W180,referentes!K:K,0),1))","v":""},null,{"$f":"IF(Y180<>\"\",CONCATENATE($A$3,P180,DIGITADOR!$M$1,Y180,ROW()),\"\")","v":""},{"$f":"IF(Y180<>\"\",CONCATENATE(P180,INT(Q180*1440),DIGITADOR!$M$1,Y180),\"\")","v":""},null,{"$f":"IF(AO180<>\"\",INDEX(referentes!$Y:$Z,MATCH(DATOS!AO180,referentes!$Z:$Z,0),1),\"\")","v":""},"","",{"$f":"IF(R180=\"\",\"\",INDEX(referentes!D:E,MATCH(R180,referentes!E:E,0),1))","v":""},null,null,null,null,null,null,null,null,null,{"$f":"IF(X180=\"\",\"\",INDEX(referentes!$AT:$AX,MATCH(X180,referentes!$AX:$AX,0),1))","v":""},null,null,{"$f":"IF(AC180=\"\",\"\",INDEX(referentes!AZ:BA,MATCH(AC180,referentes!BA:BA,0),1))","v":""},null,null,null,null,null,null,null,null,null,null,null,null,null,null,{"$f":"IF(N180<>\"\",INDEX(referentes!$AK:$AM,MATCH(DATOS!M180,referentes!$AK:$AK,0),3),\"\")","v":""},null,null,{"$f":"IF(AS180=\"\",\"\",INDEX(referentes!P:Q,MATCH(AS180,referentes!Q:Q,0),1))","v":""},null,null,null,{"$f":"IF(AY180=\"\",\"\",INDEX(referentes!AB:AC,MATCH(AY180,referentes!AC:AC,0),1))","v":""},null,{"$f":"IF(BA180=\"\",\"\",INDEX(referentes!S:T,MATCH(BA180,referentes!T:T,0),1))","v":""},null,null,{"$f":"IF(AA180=\"\",\"\",INDEX(OtrasReferencias!$AM$7:$AN$9,MATCH(AA180,OtrasReferencias!$AM$7:$AM$9,0),2))","v":""}]
[null,null,"","",{"$f":"IF(T181=\"\",\"\",INDEX(referentes!G:H,MATCH(T181,referentes!H:H,0),1))","v":""},{"$f":"IF(V181=\"\",\"\",INDEX(referentes!$M:$N,MATCH(V181,referentes!$N:$N,0),1))","v":""},{"$f":"IF(W181=\"\",\"\",INDEX(referentes!J:K,MATCH(W181,referentes!K:K,0),1))","v":""},null,{"$f":"IF(Y181<>\"\",CONCATENATE($A$3,P181,DIGITADOR!$M$1,Y181,ROW()),\"\")","v":""},{"$f":"IF(Y181<>\"\",CONCATENATE(P181,INT(Q181*1440),DIGITADOR!$M$1,Y181),\"\")","v":""},null,{"$f":"IF(AO181<>\"\",INDEX(referentes!$Y:$Z,MATCH(DATOS!AO181,referentes!$Z:$Z,0),1),\"\")","v":""},"","",{"$f":"IF(R181=\"\",\"\",INDEX(referentes!D:E,MATCH(R181,referentes!E:E,0),1))","v":""},null,null,null,null,null,null,null,null,null,{"$f":"IF(X181=\"\",\"\",INDEX(referentes!$AT:$AX,MATCH(X181,referentes!$AX:$AX,0),1))","v":""},null,null,{"$f":"IF(AC181=\"\",\"\",INDEX(referentes!AZ:BA,MATCH(AC181,referentes!BA:BA,0),1))","v":""},null,null,null,null,null,null,null,null,null,null,null,null,null,null,{"$f":"IF(N181<>\"\",INDEX(referentes!$AK:$AM,MATCH(DATOS!M181,referentes!$AK:$AK,0),3),\"\")","v":""},null,null,{"$f":"IF(AS181=\"\",\"\",INDEX(referentes!P:Q,MATCH(AS181,referentes!Q:Q,0),1))","v":""},null,null,null,{"$f":"IF(AY181=\"\",\"\",INDEX(referentes!AB:AC,MATCH(AY181,referentes!AC:AC,0),1))","v":""},null,{"$f":"IF(BA181=\"\",\"\",INDEX(referentes!S:T,MATCH(BA181,referentes!T:T,0),1))","v":""},null,null,{"$f":"IF(AA181=\"\",\"\",INDEX(OtrasReferencias!$AM$7:$AN$9,MATCH(AA181,OtrasReferencias!$AM$7:$AM$9,0),2))","v":""}]
[null,null,"","",{"$f":"IF(T182=\"\",\"\",INDEX(referentes!G:H,MATCH(T182,referentes!H:H,0),1))","v":""},{"$f":"IF(V182=\"\",\"\",INDEX(referentes!$M:$N,MATCH(V182,referentes!$N:$N,0),1))","v":""},{"$f":"IF(W182=\"\",\"\",INDEX(referentes!J:K,MATCH(W182,referentes!K:K,0),1))","v":""},null,{"$f":"IF(Y182<>\"\",CONCATENATE($A$3,P182,DIGITADOR!$M$1,Y182,ROW()),\"\")","v":""},{"$f":"IF(Y182<>\"\",CONCATENATE(P182,INT(Q182*1440),DIGITADOR!$M$1,Y182),\"\")","v":""},null,{"$f":"IF(AO182<>\"\",INDEX(referentes!$Y:$Z,MATCH(DATOS!AO182,referentes!$Z:$Z,0),1),\"\")","v":""},"","",{"$f":"IF(R182=\"\",\"\",INDEX(referentes!D:E,MATCH(R182,referentes!E:E,0),1))","v":""},null,null,null,null,null,null,null,null,null,{"$f":"IF(X182=\"\",\"\",INDEX(referentes!$AT:$AX,MATCH(X182,referentes!$AX:$AX,0),1))","v":""},null,null,{"$f":"IF(AC182=\"\",\"\",INDEX(referentes!AZ:BA,MATCH(AC182,referentes!BA:BA,0),1))","v":""},null,null,null,null,null,null,null,null,null,null,null,null,null,null,{"$f":"IF(N182<>\"\",INDEX(referentes!$AK:$AM,MATCH(DATOS!M182,referentes!$AK:$AK,0),3),\"\")","v":""},null,null,{"$f":"IF(AS182=\"\",\"\",INDEX(referentes!P:Q,MATCH(AS182,referentes!Q:Q,0),1))","v":""},null,null,null,{"$f":"IF(AY182=\"\",\"\",INDEX(referentes!AB:AC,MATCH(AY182,referentes!AC:AC,0),1))","v":""},null,{"$f":"IF(BA182=\"\",\"\",INDEX(referentes!S:T,MATCH(BA182,referentes!T:T,0),1))","v":""},null,null,{"$f":"IF(AA182=\"\",\"\",INDEX(OtrasReferencias!$AM$7:$AN$9,MATCH(AA182,OtrasReferencias!$AM$7:$AM$9,0),2))","v":""}]
[null,null,"","",{"$f":"IF(T183=\"\",\"\",INDEX(referentes!G:H,MATCH(T183,referentes!H:H,0),1))","v":""},{"$f":"IF(V183=\"\",\"\",INDEX(referentes!$M:$N,MATCH(V183,referentes!$N:$N,0),1))","v":""},{"$f":"IF(W183=\"\",\"\",INDEX(referentes!J:K,MATCH(W183,referentes!K:K,0),1))","v":""},null,{"$f":"IF(Y183<>\"\",CONCATENATE($A$3,P183,DIGITADOR!$M$1,Y183,ROW()),\"\")","v":""},{"$f":"IF(Y183<>\"\",CONCATENATE(P183,INT(Q183*1440),DIGITADOR!$M$1,Y183),\"\")","v":""},null,{"$f":"IF(AO183<>\"\",INDEX(referentes!$Y:$Z,MATCH(DATOS!AO183,referentes!$Z:$Z,0),1),\"\")","v":""},"","",{"$f":"IF(R183=\"\",\"\",INDEX(referentes!D:E,MATCH(R183,referentes!E:E,0),1))","v":""},null,null,null,null,null,null,null,null,null,{"$f":"IF(X183=\"\",\"\",INDEX(referentes!$AT:$AX,MATCH(X183,referentes!$AX:$AX,0),1))","v":""},null,null,{"$f":"IF(AC183=\"\",\"\",INDEX(referentes!AZ:BA,MATCH(AC183,referentes!BA:BA,0),1))","v":""},null,null,null,null,null,null,null,null,null,null,null,null,null,null,{"$f":"IF(N183<>\"\",INDEX(referentes!$AK:$AM,MATCH(DATOS!M183,referentes!$AK:$AK,0),3),\"\")","v":""},null,null,{"$f":"IF(AS183=\"\",\"\",INDEX(referentes!P:Q,MATCH(AS183,referentes!Q:Q,0),1))","v":""},null,null,null,{"$f":"IF(AY183=\"\",\"\",INDEX(referentes!AB:AC,MATCH(AY183,referentes!AC:AC,0),1))","v":""},null,{"$f":"IF(BA183=\"\",\"\",INDEX(referentes!S:T,MATCH(BA183,referentes!T:T,0),1))","v":""},null,null,{"$f":"IF(AA183=\"\",\"\",INDEX(OtrasReferencias!$AM$7:$AN$9,MATCH(AA183,OtrasReferencias!$AM$7:$AM$9,0),2))","v":""}]
[null,null,"","",{"$f":"IF(T184=\"\",\"\",INDEX(referentes!G:H,MATCH(T184,referentes!H:H,0),1))","v":""},{"$f":"IF(V184=\"\",\"\",INDEX(referentes!$M:$N,MATCH(V184,referentes!$N:$N,0),1))","v":""},{"$f":"IF(W184=\"\",\"\",INDEX(referentes!J:K,MATCH(W184,referentes!K:K,0),1))","v":""},null,{"$f":"IF(Y184<>\"\",CONCATENATE($A$3,P184,DIGITADOR!$M$1,Y184,ROW()),\"\")","v":""},{"$f":"IF(Y184<>\"\",CONCATENATE(P184,INT(Q184*1440),DIGITADOR!$M$1,Y184),\"\")","v":""},null,{"$f":"IF(AO184<>\"\",INDEX(referentes!$Y:$Z,MATCH(DATOS!AO184,referentes!$Z:$Z,0),1),\"\")","v":""},"","",{"$f":"IF(R184=\"\",\"\",INDEX(referentes!D:E,MATCH(R184,referentes!E:E,0),1))","v":""},null,null,null,null,null,null,null,null,null,{"$f":"IF(X184=\"\",\"\",INDEX(referentes!$AT:$AX,MATCH(X184,referentes!$AX:$AX,0),1))","v":""},null,null,{"$f":"IF(AC184=\"\",\"\",INDEX(referentes!AZ:BA,MATCH(AC184,referentes!BA:BA,0),1))","v":""},null,null,null,null,null,null,null,null,null,null,null,null,null,null,{"$f":"IF(N184<>\"\",INDEX(referentes!$AK:$AM,MATCH(DATOS!M184,referentes!$AK:$AK,0),3),\"\")","v":""},null,null,{"$f":"IF(AS184=\"\",\"\",INDEX(referentes!P:Q,MATCH(AS184,referentes!Q:Q,0),1))","v":""},null,null,null,{"$f":"IF(AY184=\"\",\"\",INDEX(referentes!AB:AC,MATCH(AY184,referentes!AC:AC,0),1))","v":""},null,{"$f":"IF(BA184=\"\",\"\",INDEX(referentes!S:T,MATCH(BA184,referentes!T:T,0),1))","v":""},null,null,{"$f":"IF(AA184=\"\",\"\",INDEX(OtrasReferencias!$AM$7:$AN$9,MATCH(AA184,OtrasReferencias!$AM$7:$AM$9,0),2))","v":""}]
[null,null,"","",{"$f":"IF(T185=\"\",\"\",INDEX(referentes!G:H,MATCH(T185,referentes!H:H,0),1))","v":""},{"$f":"IF(V185=\"\",\"\",INDEX(referentes!$M:$N,MATCH(V185,referentes!$N:$N,0),1))","v":""},{"$f":"IF(W185=\"\",\"\",INDEX(referentes!J:K,MATCH(W185,referentes!K:K,0),1))","v":""},null,{"$f":"IF(Y185<>\"\",CONCATENATE($A$3,P185,DIGITADOR!$M$1,Y185,ROW()),\"\")","v":""},{"$f":"IF(Y185<>\"\",CONCATENATE(P185,INT(Q185*1440),DIGITADOR!$M$1,Y185),\"\")","v":""},null,{"$f":"IF(AO185<>\"\",INDEX(referentes!$Y:$Z,MATCH(DATOS!AO185,referentes!$Z:$Z,0),1),\"\")","v":""},"","",{"$f":"IF(R185=\"\",\"\",INDEX(referentes!D:E,MATCH(R185,referentes!E:E,0),1))","v":""},null,null,null,null,null,null,null,null,null,{"$f":"IF(X185=\"\",\"\",INDEX(referentes!$AT:$AX,MATCH(X185,referentes!$AX:$AX,0),1))","v":""},null,null,{"$f":"IF(AC185=\"\",\"\",INDEX(referentes!AZ:BA,MATCH(AC185,referentes!BA:BA,0),1))","v":""},null,null,null,null,null,null,null,null,null,null,null,null,null,null,{"$f":"IF(N185<>\"\",INDEX(referentes!$AK:$AM,MATCH(DATOS!M185,referentes!$AK:$AK,0),3),\"\")","v":""},null,null,{"$f":"IF(AS185=\"\",\"\",INDEX(referentes!P:Q,MATCH(AS185,referentes!Q:Q,0),1))","v":""},null,null,null,{"$f":"IF(AY185=\"\",\"\",INDEX(referentes!AB:AC,MATCH(AY185,referentes!AC:AC,0),1))","v":""},null,{"$f":"IF(BA185=\"\",\"\",INDEX(referentes!S:T,MATCH(BA185,referentes!T:T,0),1))","v":""},null,null,{"$f":"IF(AA185=\"\",\"\",INDEX(OtrasReferencias!$AM$7:$AN$9,MATCH(AA185,OtrasReferencias!$AM$7:$AM$9,0),2))","v":""}]
[null,null,"","",{"$f":"IF(T186=\"\",\"\",INDEX(referentes!G:H,MATCH(T186,referentes!H:H,0),1))","v":""},{"$f":"IF(V186=\"\",\"\",INDEX(referentes!$M:$N,MATCH(V186,referentes!$N:$N,0),1))","v":""},{"$f":"IF(W186=\"\",\"\",INDEX(referentes!J:K,MATCH(W186,referentes!K:K,0),1))","v":""},null,{"$f":"IF(Y186<>\"\",CONCATENATE($A$3,P186,DIGITADOR!$M$1,Y186,ROW()),\"\")","v":""},{"$f":"IF(Y186<>\"\",CONCATENATE(P186,INT(Q186*1440),DIGITADOR!$M$1,Y186),\"\")","v":""},null,{"$f":"IF(AO186<>\"\",INDEX(referentes!$Y:$Z,MATCH(DATOS!AO186,referentes!$Z:$Z,0),1),\"\")","v":""},"","",{"$f":"IF(R186=\"\",\"\",INDEX(referentes!D:E,MATCH(R186,referentes!E:E,0),1))","v":""},null,null,null,null,null,null,null,null,null,{"$f":"IF(X186=\"\",\"\",INDEX(referentes!$AT:$AX,MATCH(X186,referentes!$AX:$AX,0),1))","v":""},null,null,{"$f":"IF(AC186=\"\",\"\",INDEX(referentes!AZ:BA,MATCH(AC186,referentes!BA:BA,0),1))","v":""},null,null,null,null,null,null,null,null,null,null,null,null,null,null,{"$f":"IF(N186<>\"\",INDEX(referentes!$AK:$AM,MATCH(DATOS!M186,referentes!$AK:$AK,0),3),\"\")","v":""},null,null,{"$f":"IF(AS186=\"\",\"\",INDEX(referentes!P:Q,MATCH(AS186,referentes!Q:Q,0),1))","v":""},null,null,null,{"$f":"IF(AY186=\"\",\"\",INDEX(referentes!AB:AC,MATCH(AY186,referentes!AC:AC,0),1))","v":""},null,{"$f":"IF(BA186=\"\",\"\",INDEX(referentes!S:T,MATCH(BA186,referentes!T:T,0),1))","v":""},null,null,{"$f":"IF(AA186=\"\",\"\",INDEX(OtrasReferencias!$AM$7:$AN$9,MATCH(AA186,OtrasReferencias!$AM$7:$AM$9,0),2))","v":""}]
[null,null,"","",{"$f":"IF(T187=\"\",\"\",INDEX(referentes!G:H,MATCH(T187,referentes!H:H,0),1))","v":""},{"$f":"IF(V187=\"\",\"\",INDEX(referentes!$M:$N,MATCH(V187,referentes!$N:$N,0),1))","v":""},{"$f":"IF(W187=\"\",\"\",INDEX(referentes!J:K,MATCH(W187,referentes!K:K,0),1))","v":""},null,{"$f":"IF(Y187<>\"\",CONCATENATE($A$3,P187,DIGITADOR!$M$1,Y187,ROW()),\"\")","v":""},{"$f":"IF(Y187<>\"\",CONCATENATE(P187,INT(Q187*1440),DIGITADOR!$M$1,Y187),\"\")","v":""},null,{"$f":"IF(AO187<>\"\",INDEX(referentes!$Y:$Z,MATCH(DATOS!AO187,referentes!$Z:$Z,0),1),\"\")","v":""},"","",{"$f":"IF(R187=\"\",\"\",INDEX(referentes!D:E,MATCH(R187,referentes!E:E,0),1))","v":""},null,null,null,null,null,null,null,null,null,{"$f":"IF(X187=\"\",\"\",INDEX(referentes!$AT:$AX,MATCH(X187,referentes!$AX:$AX,0),1))","v":""},null,null,{"$f":"IF(AC187=\"\",\"\",INDEX(referentes!AZ:BA,MATCH(AC187,referentes!BA:BA,0),1))","v":""},null,null,null,null,null,null,null,null,null,null,null,null,null,null,{"$f":"IF(N187<>\"\",INDEX(referentes!$AK:$AM,MATCH(DATOS!M187,referentes!$AK:$AK,0),3),\"\")","v":""},null,null,{"$f":"IF(AS187=\"\",\"\",INDEX(referentes!P:Q,MATCH(AS187,referentes!Q:Q,0),1))","v":""},null,null,null,{"$f":"IF(AY187=\"\",\"\",INDEX(referentes!AB:AC,MATCH(AY187,referentes!AC:AC,0),1))","v":""},null,{"$f":"IF(BA187=\"\",\"\",INDEX(referentes!S:T,MATCH(BA187,referentes!T:T,0),1))","v":""},null,null,{"$f":"IF(AA187=\"\",\"\",INDEX(OtrasReferencias!$AM$7:$AN$9,MATCH(AA187,OtrasReferencias!$AM$7:$AM$9,0),2))","v":""}]
[null,null,"","",{"$f":"IF(T188=\"\",\"\",INDEX(referentes!G:H,MATCH(T188,referentes!H:H,0),1))","v":""},{"$f":"IF(V188=\"\",\"\",INDEX(referentes!$M:$N,MATCH(V188,referentes!$N:$N,0),1))","v":""},{"$f":"IF(W188=\"\",\"\",INDEX(referentes!J:K,MATCH(W188,referentes!K:K,0),1))","v":""},null,{"$f":"IF(Y188<>\"\",CONCATENATE($A$3,P188,DIGITADOR!$M$1,Y188,ROW()),\"\")","v":""},{"$f":"IF(Y188<>\"\",CONCATENATE(P188,INT(Q188*1440),DIGITADOR!$M$1,Y188),\"\")","v":""},null,{"$f":"IF(AO188<>\"\",INDEX(referentes!$Y:$Z,MATCH(DATOS!AO188,referentes!$Z:$Z,0),1),\"\")","v":""},"","",{"$f":"IF(R188=\"\",\"\",INDEX(referentes!D:E,MATCH(R188,referentes!E:E,0),1))","v":""},null,null,null,null,null,null,null,null,null,{"$f":"IF(X188=\"\",\"\",INDEX(referentes!$AT:$AX,MATCH(X188,referentes!$AX:$AX,0),1))","v":""},null,null,{"$f":"IF(AC188=\"\",\"\",INDEX(referentes!AZ:BA,MATCH(AC188,referentes!BA:BA,0),1))","v":""},null,null,null,null,null,null,null,null,null,null,null,null,null,null,{"$f":"IF(N188<>\"\",INDEX(referentes!$AK:$AM,MATCH(DATOS!M188,referentes!$AK:$AK,0),3),\"\")","v":""},null,null,{"$f":"IF(AS188=\"\",\"\",INDEX(referentes!P:Q,MATCH(AS188,referentes!Q:Q,0),1))","v":""},null,null,null,{"$f":"IF(AY188=\"\",\"\",INDEX(referentes!AB:AC,MATCH(AY188,referentes!AC:AC,0),1))","v":""},null,{"$f":"IF(BA188=\"\",\"\",INDEX(referentes!S:T,MATCH(BA188,referentes!T:T,0),1))","v":""},null,null,{"$f":"IF(AA188=\"\",\"\",INDEX(OtrasReferencias!$AM$7:$AN$9,MATCH(AA188,OtrasReferencias!$AM$7:$AM$9,0),2))","v":""}]
[null,null,"","",{"$f":"IF(T189=\"\",\"\",INDEX(referentes!G:H,MATCH(T189,referentes!H:H,0),1))","v":""},{"$f":"IF(V189=\"\",\"\",INDEX(referentes!$M:$N,MATCH(V189,referentes!$N:$N,0),1))","v":""},{"$f":"IF(W189=\"\",\"\",INDEX(referentes!J:K,MATCH(W189,referentes!K:K,0),1))","v":""},null,{"$f":"IF(Y189<>\"\",CONCATENATE($A$3,P189,DIGITADOR!$M$1,Y189,ROW()),\"\")","v":""},{"$f":"IF(Y189<>\"\",CONCATENATE(P189,INT(Q189*1440),DIGITADOR!$M$1,Y189),\"\")","v":""},null,{"$f":"IF(AO189<>\"\",INDEX(referentes!$Y:$Z,MATCH(DATOS!AO189,referentes!$Z:$Z,0),1),\"\")","v":""},"","",{"$f":"IF(R189=\"\",\"\",INDEX(referentes!D:E,MATCH(R189,referentes!E:E,0),1))","v":""},null,null,null,null,null,null,null,null,null,{"$f":"IF(X189=\"\",\"\",INDEX(referentes!$AT:$AX,MATCH(X189,referentes!$AX:$AX,0),1))","v":""},null,null,{"$f":"IF(AC189=\"\",\"\",INDEX(referentes!AZ:BA,MATCH(AC189,referentes!BA:BA,0),1))","v":""},null,null,null,null,null,null,null,null,null,null,null,null,null,null,{"$f":"IF(N189<>\"\",INDEX(referentes!$AK:$AM,MATCH(DATOS!M189,referentes!$AK:$AK,0),3),\"\")","v":""},null,null,{"$f":"IF(AS189=\"\",\"\",INDEX(referentes!P:Q,MATCH(AS189,referentes!Q:Q,0),1))","v":""},null,null,null,{"$f":"IF(AY189=\"\",\"\",INDEX(referentes!AB:AC,MATCH(AY189,referentes!AC:AC,0),1))","v":""},null,{"$f":"IF(BA189=\"\",\"\",INDEX(referentes!S:T,MATCH(BA189,referentes!T:T,0),1))","v":""},null,null,{"$f":"IF(AA189=\"\",\"\",INDEX(OtrasReferencias!$AM$7:$AN$9,MATCH(AA189,OtrasReferencias!$AM$7:$AM$9,0),2))","v":""}]
[null,null,"","",{"$f":"IF(T190=\"\",\"\",INDEX(referentes!G:H,MATCH(T190,referentes!H:H,0),1))","v":""},{"$f":"IF(V190=\"\",\"\",INDEX(referentes!$M:$N,MATCH(V190,referentes!$N:$N,0),1))","v":""},{"$f":"IF(W190=\"\",\"\",INDEX(referentes!J:K,MATCH(W190,referentes!K:K,0),1))","v":""},null,{"$f":"IF(Y190<>\"\",CONCATENATE($A$3,P190,DIGITADOR!$M$1,Y190,ROW()),\"\")","v":""},{"$f":"IF(Y190<>\"\",CONCATENATE(P190,INT(Q190*1440),DIGITADOR!$M$1,Y190),\"\")","v":""},null,{"$f":"IF(AO190<>\"\",INDEX(referentes!$Y:$Z,MATCH(DATOS!AO190,referentes!$Z:$Z,0),1),\"\")","v":""},"","",{"$f":"IF(R190=\"\",\"\",INDEX(referentes!D:E,MATCH(R190,referentes!E:E,0),1))","v":""},null,null,null,null,null,null,null,null,null,{"$f":"IF(X190=\"\",\"\",INDEX(referentes!$AT:$AX,MATCH(X190,referentes!$AX:$AX,0),1))","v":""},null,null,{"$f":"IF(AC190=\"\",\"\",INDEX(referentes!AZ:BA,MATCH(AC190,referentes!BA:BA,0),1))","v":""},null,null,null,null,null,null,null,null,null,null,null,null,null,null,{"$f":"IF(N190<>\"\",INDEX(referentes!$AK:$AM,MATCH(DATOS!M190,referentes!$AK:$AK,0),3),\"\")","v":""},null,null,{"$f":"IF(AS190=\"\",\"\",INDEX(referentes!P:Q,MATCH(AS190,referentes!Q:Q,0),1))","v":""},null,null,null,{"$f":"IF(AY190=\"\",\"\",INDEX(referentes!AB:AC,MATCH(AY190,referentes!AC:AC,0),1))","v":""},null,{"$f":"IF(BA190=\"\",\"\",INDEX(referentes!S:T,MATCH(BA190,referentes!T:T,0),1))","v":""},null,null,{"$f":"IF(AA190=\"\",\"\",INDEX(OtrasReferencias!$AM$7:$AN$9,MATCH(AA190,OtrasReferencias!$AM$7:$AM$9,0),2))","v":""}]
[null,null,"","",{"$f":"IF(T191=\"\",\"\",INDEX(referentes!G:H,MATCH(T191,referentes!H:H,0),1))","v":""},{"$f":"IF(V191=\"\",\"\",INDEX(referentes!$M:$N,MATCH(V191,referentes!$N:$N,0),1))","v":""},{"$f":"IF(W191=\"\",\"\",INDEX(referentes!J:K,MATCH(W191,referentes!K:K,0),1))","v":""},null,{"$f":"IF(Y191<>\"\",CONCATENATE($A$3,P191,DIGITADOR!$M$1,Y191,ROW()),\"\")","v":""},{"$f":"IF(Y191<>\"\",CONCATENATE(P191,INT(Q191*1440),DIGITADOR!$M$1,Y191),\"\")","v":""},null,{"$f":"IF(AO191<>\"\",INDEX(referentes!$Y:$Z,MATCH(DATOS!AO191,referentes!$Z:$Z,0),1),\"\")","v":""},"","",{"$f":"IF(R191=\"\",\"\",INDEX(referentes!D:E,MATCH(R191,referentes!E:E,0),1))","v":""},null,null,null,null,null,null,null,null,null,{"$f":"IF(X191=\"\",\"\",INDEX(referentes!$AT:$AX,MATCH(X191,referentes!$AX:$AX,0),1))","v":""},null,null,{"$f":"IF(AC191=\"\",\"\",INDEX(referentes!AZ:BA,MATCH(AC191,referentes!BA:BA,0),1))","v":""},null,null,null,null,null,null,null,null,null,null,null,null,null,null,{"$f":"IF(N191<>\"\",INDEX(referentes!$AK:$AM,MATCH(DATOS!M191,referentes!$AK:$AK,0),3),\"\")","v":""},null,null,{"$f":"IF(AS191=\"\",\"\",INDEX(referentes!P:Q,MATCH(AS191,referentes!Q:Q,0),1))","v":""},null,null,null,{"$f":"IF(AY191=\"\",\"\",INDEX(referentes!AB:AC,MATCH(AY191,referentes!AC:AC,0),1))","v":""},null,{"$f":"IF(BA191=\"\",\"\",INDEX(referentes!S:T,MATCH(BA191,referentes!T:T,0),1))","v":""},null,null,{"$f":"IF(AA191=\"\",\"\",INDEX(OtrasReferencias!$AM$7:$AN$9,MATCH(AA191,OtrasReferencias!$AM$7:$AM$9,0),2))","v":""}]
[null,null,"","",{"$f":"IF(T192=\"\",\"\",INDEX(referentes!G:H,MATCH(T192,referentes!H:H,0),1))","v":""},{"$f":"IF(V192=\"\",\"\",INDEX(referentes!$M:$N,MATCH(V192,referentes!$N:$N,0),1))","v":""},{"$f":"IF(W192=\"\",\"\",INDEX(referentes!J:K,MATCH(W192,referentes!K:K,0),1))","v":""},null,{"$f":"IF(Y192<>\"\",CONCATENATE($A$3,P192,DIGITADOR!$M$1,Y192,ROW()),\"\")","v":""},{"$f":"IF(Y192<>\"\",CONCATENATE(P192,INT(Q192*1440),DIGITADOR!$M$1,Y192),\"\")","v":""},null,{"$f":"IF(AO192<>\"\",INDEX(referentes!$Y:$Z,MATCH(DATOS!AO192,referentes!$Z:$Z,0),1),\"\")","v":""},"","",{"$f":"IF(R192=\"\",\"\",INDEX(referentes!D:E,MATCH(R192,referentes!E:E,0),1))","v":""},null,null,null,null,null,null,null,null,null,{"$f":"IF(X192=\"\",\"\",INDEX(referentes!$AT:$AX,MATCH(X192,referentes!$AX:$AX,0),1))","v":""},null,null,{"$f":"IF(AC192=\"\",\"\",INDEX(referentes!AZ:BA,MATCH(AC192,referentes!BA:BA,0),1))","v":""},null,null,null,null,null,null,null,null,null,null,null,null,null,null,{"$f":"IF(N192<>\"\",INDEX(referentes!$AK:$AM,MATCH(DATOS!M192,referentes!$AK:$AK,0),3),\"\")","v":""},null,null,{"$f":"IF(AS192=\"\",\"\",INDEX(referentes!P:Q,MATCH(AS192,referentes!Q:Q,0),1))","v":""},null,null,null,{"$f":"IF(AY192=\"\",\"\",INDEX(referentes!AB:AC,MATCH(AY192,referentes!AC:AC,0),1))","v":""},null,{"$f":"IF(BA192=\"\",\"\",INDEX(referentes!S:T,MATCH(BA192,referentes!T:T,0),1))","v":""},null,null,{"$f":"IF(AA192=\"\",\"\",INDEX(OtrasReferencias!$AM$7:$AN$9,MATCH(AA192,OtrasReferencias!$AM$7:$AM$9,0),2))","v":""}]
[null,null,"","",{"$f":"IF(T193=\"\",\"\",INDEX(referentes!G:H,MATCH(T193,referentes!H:H,0),1))","v":""},{"$f":"IF(V193=\"\",\"\",INDEX(referentes!$M:$N,MATCH(V193,referentes!$N:$N,0),1))","v":""},{"$f":"IF(W193=\"\",\"\",INDEX(referentes!J:K,MATCH(W193,referentes!K:K,0),1))","v":""},null,{"$f":"IF(Y193<>\"\",CONCATENATE($A$3,P193,DIGITADOR!$M$1,Y193,ROW()),\"\")","v":""},{"$f":"IF(Y193<>\"\",CONCATENATE(P193,INT(Q193*1440),DIGITADOR!$M$1,Y193),\"\")","v":""},null,{"$f":"IF(AO193<>\"\",INDEX(referentes!$Y:$Z,MATCH(DATOS!AO193,referentes!$Z:$Z,0),1),\"\")","v":""},"","",{"$f":"IF(R193=\"\",\"\",INDEX(referentes!D:E,MATCH(R193,referentes!E:E,0),1))","v":""},null,null,null,null,null,null,null,null,null,{"$f":"IF(X193=\"\",\"\",INDEX(referentes!$AT:$AX,MATCH(X193,referentes!$AX:$AX,0),1))","v":""},null,null,{"$f":"IF(AC193=\"\",\"\",INDEX(referentes!AZ:BA,MATCH(AC193,referentes!BA:BA,0),1))","v":""},null,null,null,null,null,null,null,null,null,null,null,null,null,null,{"$f":"IF(N193<>\"\",INDEX(referentes!$AK:$AM,MATCH(DATOS!M193,referentes!$AK:$AK,0),3),\"\")","v":""},null,null,{"$f":"IF(AS193=\"\",\"\",INDEX(referentes!P:Q,MATCH(AS193,referentes!Q:Q,0),1))","v":""},null,null,null,{"$f":"IF(AY193=\"\",\"\",INDEX(referentes!AB:AC,MATCH(AY193,referentes!AC:AC,0),1))","v":""},null,{"$f":"IF(BA193=\"\",\"\",INDEX(referentes!S:T,MATCH(BA193,referentes!T:T,0),1))","v":""},null,null,{"$f":"IF(AA193=\"\",\"\",INDEX(OtrasReferencias!$AM$7:$AN$9,MATCH(AA193,OtrasReferencias!$AM$7:$AM$9,0),2))","v":""}]
[null,null,"","",{"$f":"IF(T194=\"\",\"\",INDEX(referentes!G:H,MATCH(T194,referentes!H:H,0),1))","v":""},{"$f":"IF(V194=\"\",\"\",INDEX(referentes!$M:$N,MATCH(V194,referentes!$N:$N,0),1))","v":""},{"$f":"IF(W194=\"\",\"\",INDEX(referentes!J:K,MATCH(W194,referentes!K:K,0),1))","v":""},null,{"$f":"IF(Y194<>\"\",CONCATENATE($A$3,P194,DIGITADOR!$M$1,Y194,ROW()),\"\")","v":""},{"$f":"IF(Y194<>\"\",CONCATENATE(P194,INT(Q194*1440),DIGITADOR!$M$1,Y194),\"\")","v":""},null,{"$f":"IF(AO194<>\"\",INDEX(referentes!$Y:$Z,MATCH(DATOS!AO194,referentes!$Z:$Z,0),1),\"\")","v":""},"","",{"$f":"IF(R194=\"\",\"\",INDEX(referentes!D:E,MATCH(R194,referentes!E:E,0),1))","v":""},null,null,null,null,null,null,null,null,null,{"$f":"IF(X194=\"\",\"\",INDEX(referentes!$AT:$AX,MATCH(X194,referentes!$AX:$AX,0),1))","v":""},null,null,{"$f":"IF(AC194=\"\",\"\",INDEX(referentes!AZ:BA,MATCH(AC194,referentes!BA:BA,0),1))","v":""},null,null,null,null,null,null,null,null,null,null,null,null,null,null,{"$f":"IF(N194<>\"\",INDEX(referentes!$AK:$AM,MATCH(DATOS!M194,referentes!$AK:$AK,0),3),\"\")","v":""},null,null,{"$f":"IF(AS194=\"\",\"\",INDEX(referentes!P:Q,MATCH(AS194,referentes!Q:Q,0),1))","v":""},null,null,null,{"$f":"IF(AY194=\"\",\"\",INDEX(referentes!AB:AC,MATCH(AY194,referentes!AC:AC,0),1))","v":""},null,{"$f":"IF(BA194=\"\",\"\",INDEX(referentes!S:T,MATCH(BA194,referentes!T:T,0),1))","v":""},null,null,{"$f":"IF(AA194=\"\",\"\",INDEX(OtrasReferencias!$AM$7:$AN$9,MATCH(AA194,OtrasReferencias!$AM$7:$AM$9,0),2))","v":""}]
[null,null,"","",{"$f":"IF(T195=\"\",\"\",INDEX(referentes!G:H,MATCH(T195,referentes!H:H,0),1))","v":""},{"$f":"IF(V195=\"\",\"\",INDEX(referentes!$M:$N,MATCH(V195,referentes!$N:$N,0),1))","v":""},{"$f":"IF(W195=\"\",\"\",INDEX(referentes!J:K,MATCH(W195,referentes!K:K,0),1))","v":""},null,{"$f":"IF(Y195<>\"\",CONCATENATE($A$3,P195,DIGITADOR!$M$1,Y195,ROW()),\"\")","v":""},{"$f":"IF(Y195<>\"\",CONCATENATE(P195,INT(Q195*1440),DIGITADOR!$M$1,Y195),\"\")","v":""},null,{"$f":"IF(AO195<>\"\",INDEX(referentes!$Y:$Z,MATCH(DATOS!AO195,referentes!$Z:$Z,0),1),\"\")","v":""},"","",{"$f":"IF(R195=\"\",\"\",INDEX(referentes!D:E,MATCH(R195,referentes!E:E,0),1))","v":""},null,null,null,null,null,null,null,null,null,{"$f":"IF(X195=\"\",\"\",INDEX(referentes!$AT:$AX,MATCH(X195,referentes!$AX:$AX,0),1))","v":""},null,null,{"$f":"IF(AC195=\"\",\"\",INDEX(referentes!AZ:BA,MATCH(AC195,referentes!BA:BA,0),1))","v":""},null,null,null,null,null,null,null,null,null,null,null,null,null,null,{"$f":"IF(N195<>\"\",INDEX(referentes!$AK:$AM,MATCH(DATOS!M195,referentes!$AK:$AK,0),3),\"\")","v":""},null,null,{"$f":"IF(AS195=\"\",\"\",INDEX(referentes!P:Q,MATCH(AS195,referentes!Q:Q,0),1))","v":""},null,null,null,{"$f":"IF(AY195=\"\",\"\",INDEX(referentes!AB:AC,MATCH(AY195,referentes!AC:AC,0),1))","v":""},null,{"$f":"IF(BA195=\"\",\"\",INDEX(referentes!S:T,MATCH(BA195,referentes!T:T,0),1))","v":""},null,null,{"$f":"IF(AA195=\"\",\"\",INDEX(OtrasReferencias!$AM$7:$AN$9,MATCH(AA195,OtrasReferencias!$AM$7:$AM$9,0),2))","v":""}]
[null,null,"","",{"$f":"IF(T196=\"\",\"\",INDEX(referentes!G:H,MATCH(T196,referentes!H:H,0),1))","v":""},{"$f":"IF(V196=\"\",\"\",INDEX(referentes!$M:$N,MATCH(V196,referentes!$N:$N,0),1))","v":""},{"$f":"IF(W196=\"\",\"\",INDEX(referentes!J:K,MATCH(W196,referentes!K:K,0),1))","v":""},null,{"$f":"IF(Y196<>\"\",CONCATENATE($A$3,P196,DIGITADOR!$M$1,Y196,ROW()),\"\")","v":""},{"$f":"IF(Y196<>\"\",CONCATENATE(P196,INT(Q196*1440),DIGITADOR!$M$1,Y196),\"\")","v":""},null,{"$f":"IF(AO196<>\"\",INDEX(referentes!$Y:$Z,MATCH(DATOS!AO196,referentes!$Z:$Z,0),1),\"\")","v":""},"","",{"$f":"IF(R196=\"\",\"\",INDEX(referentes!D:E,MATCH(R196,referentes!E:E,0),1))","v":""},null,null,null,null,null,null,null,null,null,{"$f":"IF(X196=\"\",\"\",INDEX(referentes!$AT:$AX,MATCH(X196,referentes!$AX:$AX,0),1))","v":""},null,null,{"$f":"IF(AC196=\"\",\"\",INDEX(referentes!AZ:BA,MATCH(AC196,referentes!BA:BA,0),1))","v":""},null,null,null,null,null,null,null,null,null,null,null,null,null,null,{"$f":"IF(N196<>\"\",INDEX(referentes!$AK:$AM,MATCH(DATOS!M196,referentes!$AK:$AK,0),3),\"\")","v":""},null,null,{"$f":"IF(AS196=\"\",\"\",INDEX(referentes!P:Q,MATCH(AS196,referentes!Q:Q,0),1))","v":""},null,null,null,{"$f":"IF(AY196=\"\",\"\",INDEX(referentes!AB:AC,MATCH(AY196,referentes!AC:AC,0),1))","v":""},null,{"$f":"IF(BA196=\"\",\"\",INDEX(referentes!S:T,MATCH(BA196,referentes!T:T,0),1))","v":""},null,null,{"$f":"IF(AA196=\"\",\"\",INDEX(OtrasReferencias!$AM$7:$AN$9,MATCH(AA196,OtrasReferencias!$AM$7:$AM$9,0),2))","v":""}]
[null,null,"",{"$f":"IF(P197<>\"\",P197+Q197,\"\")","v":""},{"$f":"IF(T197=\"\",\"\",INDEX(referentes!G:H,MATCH(T197,referentes!H:H,0),1))","v":""},{"$f":"IF(V197=\"\",\"\",INDEX(referentes!$M:$N,MATCH(V197,referentes!$N:$N,0),1))","v":""},{"$f":"IF(W197=\"\",\"\",INDEX(referentes!J:K,MATCH(W197,referentes!K:K,0),1))","v":""},null,{"$f":"IF(Y197<>\"\",CONCATENATE($A$3,P197,DIGITADOR!$M$1,Y197,ROW()),\"\")","v":""},{"$f":"IF(Y197<>\"\",CONCATENATE(P197,INT(Q197*1440),DIGITADOR!$M$1,Y197),\"\")","v":""},null,{"$f":"IF(AO197<>\"\",INDEX(referentes!$Y:$Z,MATCH(DATOS!AO197,referentes!$Z:$Z,0),1),\"\")","v":""},{"$f":"TRIM(UPPER(IF(AL197<>\"\",AL197,IF(AK197<>\"\",AK197,(IF(AJ197<>\"\",AJ197,IF(AI197<>\"\",AI197,IF(AH197<>\"\",AH197,AG197))))))))","v":""},{"$f":"TRIM(UPPER(CONCATENATE(AG197,\" \",AH197,\" \",AI197,\" \",AJ197,\" \",AK197,\" \",AL197)))","v":""},{"$f":"IF(R197=\"\",\"\",INDEX(referentes!D:E,MATCH(R197,referentes!E:E,0),1))","v":""},null,null,null,null,null,null,null,null,null,{"$f":"IF(X197=\"\",\"\",INDEX(referentes!$AT:$AX,MATCH(X197,referentes!$AX:$AX,0),1))","v":""},null,null,{"$f":"IF(AC197=\"\",\"\",INDEX(referentes!AZ:BA,MATCH(AC197,referentes!BA:BA,0),1))","v":""},null,null,null,null,null,null,null,null,null,null,null,null,null,null,{"$f":"IF(N197<>\"\",INDEX(referentes!$AK:$AM,MATCH(DATOS!M197,referentes!$AK:$AK,0),3),\"\")","v":""},null,null,{"$f":"IF(AS197=\"\",\"\",INDEX(referentes!P:Q,MATCH(AS197,referentes!Q:Q,0),1))","v":""},null,null,null,{"$f":"IF(AY197=\"\",\"\",INDEX(referentes!AB:AC,MATCH(AY197,referentes!AC:AC,0),1))","v":""},null,{"$f":"IF(BA197=\"\",\"\",INDEX(referentes!S:T,MATCH(BA197,referentes!T:T,0),1))","v":""},null,null,{"$f":"IF(AA197=\"\",\"\",INDEX(OtrasReferencias!$AM$7:$AN$9,MATCH(AA197,OtrasReferencias!$AM$7:$AM$9,0),2))","v":""}]
[null,null,{"$f":"IF(J198=\"\",\"\",IF(J198=J197,\"\",J198))","v":""},"",{"$f":"IF(T198=\"\",\"\",INDEX(referentes!G:H,MATCH(T198,referentes!H:H,0),1))","v":""},{"$f":"IF(V198=\"\",\"\",INDEX(referentes!$M:$N,MATCH(V198,referentes!$N:$N,0),1))","v":""},{"$f":"IF(W198=\"\",\"\",INDEX(referentes!J:K,MATCH(W198,referentes!K:K,0),1))","v":""},null,{"$f":"IF(Y198<>\"\",CONCATENATE($A$3,P198,DIGITADOR!$M$1,Y198,ROW()),\"\")","v":""},{"$f":"IF(Y198<>\"\",CONCATENATE(P198,INT(Q198*1440),DIGITADOR!$M$1,Y198),\"\")","v":""},null,{"$f":"IF(AO198<>\"\",INDEX(referentes!$Y:$Z,MATCH(DATOS!AO198,referentes!$Z:$Z,0),1),\"\")","v":""},"","",{"$f":"IF(R198=\"\",\"\",INDEX(referentes!D:E,MATCH(R198,referentes!E:E,0),1))","v":""},null,null,null,null,null,null,null,null,null,{"$f":"IF(X198=\"\",\"\",INDEX(referentes!$AT:$AX,MATCH(X198,referentes!$AX:$AX,0),1))","v":""},null,null,{"$f":"IF(AC198=\"\",\"\",INDEX(referentes!AZ:BA,MATCH(AC198,referentes!BA:BA,0),1))","v":""},null,null,null,null,null,null,null,null,null,null,null,null,null,null,{"$f":"IF(N198<>\"\",INDEX(referentes!$AK:$AM,MATCH(DATOS!M198,referentes!$AK:$AK,0),3),\"\")","v":""},null,null,{"$f":"IF(AS198=\"\",\"\",INDEX(referentes!P:Q,MATCH(AS198,referentes!Q:Q,0),1))","v":""},null,null,null,{"$f":"IF(AY198=\"\",\"\",INDEX(referentes!AB:AC,MATCH(AY198,referentes!AC:AC,0),1))","v":""},null,{"$f":"IF(BA198=\"\",\"\",INDEX(referentes!S:T,MATCH(BA198,referentes!T:T,0),1))","v":""},null,null,{"$f":"IF(AA198=\"\",\"\",INDEX(OtrasReferencias!$AM$7:$AN$9,MATCH(AA198,OtrasReferencias!$AM$7:$AM$9,0),2))","v":""}]
[null,null,"","",{"$f":"IF(T199=\"\",\"\",INDEX(referentes!G:H,MATCH(T199,referentes!H:H,0),1))","v":""},{"$f":"IF(V199=\"\",\"\",INDEX(referentes!$M:$N,MATCH(V199,referentes!$N:$N,0),1))","v":""},{"$f":"IF(W199=\"\",\"\",INDEX(referentes!J:K,MATCH(W199,referentes!K:K,0),1))","v":""},null,{"$f":"IF(Y199<>\"\",CONCATENATE($A$3,P199,DIGITADOR!$M$1,Y199,ROW()),\"\")","v":""},{"$f":"IF(Y199<>\"\",CONCATENATE(P199,INT(Q199*1440),DIGITADOR!$M$1,Y199),\"\")","v":""},null,{"$f":"IF(AO199<>\"\",INDEX(referentes!$Y:$Z,MATCH(DATOS!AO199,referentes!$Z:$Z,0),1),\"\")","v":""},"","",{"$f":"IF(R199=\"\",\"\",INDEX(referentes!D:E,MATCH(R199,referentes!E:E,0),1))","v":""},null,null,null,null,null,null,null,null,null,{"$f":"IF(X199=\"\",\"\",INDEX(referentes!$AT:$AX,MATCH(X199,referentes!$AX:$AX,0),1))","v":""},null,null,{"$f":"IF(AC199=\"\",\"\",INDEX(referentes!AZ:BA,MATCH(AC199,referentes!BA:BA,0),1))","v":""},null,null,null,null,null,null,null,null,null,null,null,null,null,null,{"$f":"IF(N199<>\"\",INDEX(referentes!$AK:$AM,MATCH(DATOS!M199,referentes!$AK:$AK,0),3),\"\")","v":""},null,null,{"$f":"IF(AS199=\"\",\"\",INDEX(referentes!P:Q,MATCH(AS199,referentes!Q:Q,0),1))","v":""},null,null,null,{"$f":"IF(AY199=\"\",\"\",INDEX(referentes!AB:AC,MATCH(AY199,referentes!AC:AC,0),1))","v":""},null,{"$f":"IF(BA199=\"\",\"\",INDEX(referentes!S:T,MATCH(BA199,referentes!T:T,0),1))","v":""},null,null,{"$f":"IF(AA199=\"\",\"\",INDEX(OtrasReferencias!$AM$7:$AN$9,MATCH(AA199,OtrasReferencias!$AM$7:$AM$9,0),2))","v":""}]
[null,null,"","",{"$f":"IF(T200=\"\",\"\",INDEX(referentes!G:H,MATCH(T200,referentes!H:H,0),1))","v":""},{"$f":"IF(V200=\"\",\"\",INDEX(referentes!$M:$N,MATCH(V200,referentes!$N:$N,0),1))","v":""},{"$f":"IF(W200=\"\",\"\",INDEX(referentes!J:K,MATCH(W200,referentes!K:K,0),1))","v":""},null,{"$f":"IF(Y200<>\"\",CONCATENATE($A$3,P200,DIGITADOR!$M$1,Y200,ROW()),\"\")","v":""},{"$f":"IF(Y200<>\"\",CONCATENATE(P200,INT(Q200*1440),DIGITADOR!$M$1,Y200),\"\")","v":""},null,{"$f":"IF(AO200<>\"\",INDEX(referentes!$Y:$Z,MATCH(DATOS!AO200,referentes!$Z:$Z,0),1),\"\")","v":""},"","",{"$f":"IF(R200=\"\",\"\",INDEX(referentes!D:E,MATCH(R200,referentes!E:E,0),1))","v":""},null,null,null,null,null,null,null,null,null,{"$f":"IF(X200=\"\",\"\",INDEX(referentes!$AT:$AX,MATCH(X200,referentes!$AX:$AX,0),1))","v":""},null,null,{"$f":"IF(AC200=\"\",\"\",INDEX(referentes!AZ:BA,MATCH(AC200,referentes!BA:BA,0),1))","v":""},null,null,null,null,null,null,null,null,null,null,null,null,null,null,{"$f":"IF(N200<>\"\",INDEX(referentes!$AK:$AM,MATCH(DATOS!M200,referentes!$AK:$AK,0),3),\"\")","v":""},null,null,{"$f":"IF(AS200=\"\",\"\",INDEX(referentes!P:Q,MATCH(AS200,referentes!Q:Q,0),1))","v":""},null,null,null,{"$f":"IF(AY200=\"\",\"\",INDEX(referentes!AB:AC,MATCH(AY200,referentes!AC:AC,0),1))","v":""},null,{"$f":"IF(BA200=\"\",\"\",INDEX(referentes!S:T,MATCH(BA200,referentes!T:T,0),1))","v":""},null,null,{"$f":"IF(AA200=\"\",\"\",INDEX(OtrasReferencias!$AM$7:$AN$9,MATCH(AA200,OtrasReferencias!$AM$7:$AM$9,0),2))","v":""}]
[null,null,"","",{"$f":"IF(T201=\"\",\"\",INDEX(referentes!G:H,MATCH(T201,referentes!H:H,0),1))","v":""},{"$f":"IF(V201=\"\",\"\",INDEX(referentes!$M:$N,MATCH(V201,referentes!$N:$N,0),1))","v":""},{"$f":"IF(W201=\"\",\"\",INDEX(referentes!J:K,MATCH(W201,referentes!K:K,0),1))","v":""},null,{"$f":"IF(Y201<>\"\",CONCATENATE($A$3,P201,DIGITADOR!$M$1,Y201,ROW()),\"\")","v":""},{"$f":"IF(Y201<>\"\",CONCATENATE(P201,INT(Q201*1440),DIGITADOR!$M$1,Y201),\"\")","v":""},null,{"$f":"IF(AO201<>\"\",INDEX(referentes!$Y:$Z,MATCH(DATOS!AO201,referentes!$Z:$Z,0),1),\"\")","v":""},"","",{"$f":"IF(R201=\"\",\"\",INDEX(referentes!D:E,MATCH(R201,referentes!E:E,0),1))","v":""},null,null,null,null,null,null,null,null,null,{"$f":"IF(X201=\"\",\"\",INDEX(referentes!$AT:$AX,MATCH(X201,referentes!$AX:$AX,0),1))","v":""},null,null,{"$f":"IF(AC201=\"\",\"\",INDEX(referentes!AZ:BA,MATCH(AC201,referentes!BA:BA,0),1))","v":""},null,null,null,null,null,null,null,null,null,null,null,null,null,null,{"$f":"IF(N201<>\"\",INDEX(referentes!$AK:$AM,MATCH(DATOS!M201,referentes!$AK:$AK,0),3),\"\")","v":""},null,null,{"$f":"IF(AS201=\"\",\"\",INDEX(referentes!P:Q,MATCH(AS201,referentes!Q:Q,0),1))","v":""},null,null,null,{"$f":"IF(AY201=\"\",\"\",INDEX(referentes!AB:AC,MATCH(AY201,referentes!AC:AC,0),1))","v":""},null,{"$f":"IF(BA201=\"\",\"\",INDEX(referentes!S:T,MATCH(BA201,referentes!T:T,0),1))","v":""},null,null,{"$f":"IF(AA201=\"\",\"\",INDEX(OtrasReferencias!$AM$7:$AN$9,MATCH(AA201,OtrasReferencias!$AM$7:$AM$9,0),2))","v":""}]
[null,null,"","",{"$f":"IF(T202=\"\",\"\",INDEX(referentes!G:H,MATCH(T202,referentes!H:H,0),1))","v":""},{"$f":"IF(V202=\"\",\"\",INDEX(referentes!$M:$N,MATCH(V202,referentes!$N:$N,0),1))","v":""},{"$f":"IF(W202=\"\",\"\",INDEX(referentes!J:K,MATCH(W202,referentes!K:K,0),1))","v":""},null,{"$f":"IF(Y202<>\"\",CONCATENATE($A$3,P202,DIGITADOR!$M$1,Y202,ROW()),\"\")","v":""},{"$f":"IF(Y202<>\"\",CONCATENATE(P202,INT(Q202*1440),DIGITADOR!$M$1,Y202),\"\")","v":""},null,{"$f":"IF(AO202<>\"\",INDEX(referentes!$Y:$Z,MATCH(DATOS!AO202,referentes!$Z:$Z,0),1),\"\")","v":""},"","",{"$f":"IF(R202=\"\",\"\",INDEX(referentes!D:E,MATCH(R202,referentes!E:E,0),1))","v":""},null,null,null,null,null,null,null,null,null,{"$f":"IF(X202=\"\",\"\",INDEX(referentes!$AT:$AX,MATCH(X202,referentes!$AX:$AX,0),1))","v":""},null,null,{"$f":"IF(AC202=\"\",\"\",INDEX(referentes!AZ:BA,MATCH(AC202,referentes!BA:BA,0),1))","v":""},null,null,null,null,null,null,null,null,null,null,null,null,null,null,{"$f":"IF(N202<>\"\",INDEX(referentes!$AK:$AM,MATCH(DATOS!M202,referentes!$AK:$AK,0),3),\"\")","v":""},null,null,{"$f":"IF(AS202=\"\",\"\",INDEX(referentes!P:Q,MATCH(AS202,referentes!Q:Q,0),1))","v":""},null,null,null,{"$f":"IF(AY202=\"\",\"\",INDEX(referentes!AB:AC,MATCH(AY202,referentes!AC:AC,0),1))","v":""},null,{"$f":"IF(BA202=\"\",\"\",INDEX(referentes!S:T,MATCH(BA202,referentes!T:T,0),1))","v":""},null,null,{"$f":"IF(AA202=\"\",\"\",INDEX(OtrasReferencias!$AM$7:$AN$9,MATCH(AA202,OtrasReferencias!$AM$7:$AM$9,0),2))","v":""}]
[null,null,"","",{"$f":"IF(T203=\"\",\"\",INDEX(referentes!G:H,MATCH(T203,referentes!H:H,0),1))","v":""},{"$f":"IF(V203=\"\",\"\",INDEX(referentes!$M:$N,MATCH(V203,referentes!$N:$N,0),1))","v":""},{"$f":"IF(W203=\"\",\"\",INDEX(referentes!J:K,MATCH(W203,referentes!K:K,0),1))","v":""},null,{"$f":"IF(Y203<>\"\",CONCATENATE($A$3,P203,DIGITADOR!$M$1,Y203,ROW()),\"\")","v":""},{"$f":"IF(Y203<>\"\",CONCATENATE(P203,INT(Q203*1440),DIGITADOR!$M$1,Y203),\"\")","v":""},null,{"$f":"IF(AO203<>\"\",INDEX(referentes!$Y:$Z,MATCH(DATOS!AO203,referentes!$Z:$Z,0),1),\"\")","v":""},"","",{"$f":"IF(R203=\"\",\"\",INDEX(referentes!D:E,MATCH(R203,referentes!E:E,0),1))","v":""},null,null,null,null,null,null,null,null,null,{"$f":"IF(X203=\"\",\"\",INDEX(referentes!$AT:$AX,MATCH(X203,referentes!$AX:$AX,0),1))","v":""},null,null,{"$f":"IF(AC203=\"\",\"\",INDEX(referentes!AZ:BA,MATCH(AC203,referentes!BA:BA,0),1))","v":""},null,null,null,null,null,null,null,null,null,null,null,null,null,null,{"$f":"IF(N203<>\"\",INDEX(referentes!$AK:$AM,MATCH(DATOS!M203,referentes!$AK:$AK,0),3),\"\")","v":""},null,null,{"$f":"IF(AS203=\"\",\"\",INDEX(referentes!P:Q,MATCH(AS203,referentes!Q:Q,0),1))","v":""},null,null,null,{"$f":"IF(AY203=\"\",\"\",INDEX(referentes!AB:AC,MATCH(AY203,referentes!AC:AC,0),1))","v":""},null,{"$f":"IF(BA203=\"\",\"\",INDEX(referentes!S:T,MATCH(BA203,referentes!T:T,0),1))","v":""},null,null,{"$f":"IF(AA203=\"\",\"\",INDEX(OtrasReferencias!$AM$7:$AN$9,MATCH(AA203,OtrasReferencias!$AM$7:$AM$9,0),2))","v":""}]
[null,null,"","",{"$f":"IF(T204=\"\",\"\",INDEX(referentes!G:H,MATCH(T204,referentes!H:H,0),1))","v":""},{"$f":"IF(V204=\"\",\"\",INDEX(referentes!$M:$N,MATCH(V204,referentes!$N:$N,0),1))","v":""},{"$f":"IF(W204=\"\",\"\",INDEX(referentes!J:K,MATCH(W204,referentes!K:K,0),1))","v":""},null,{"$f":"IF(Y204<>\"\",CONCATENATE($A$3,P204,DIGITADOR!$M$1,Y204,ROW()),\"\")","v":""},{"$f":"IF(Y204<>\"\",CONCATENATE(P204,INT(Q204*1440),DIGITADOR!$M$1,Y204),\"\")","v":""},null,{"$f":"IF(AO204<>\"\",INDEX(referentes!$Y:$Z,MATCH(DATOS!AO204,referentes!$Z:$Z,0),1),\"\")","v":""},"","",{"$f":"IF(R204=\"\",\"\",INDEX(referentes!D:E,MATCH(R204,referentes!E:E,0),1))","v":""},null,null,null,null,null,null,null,null,null,{"$f":"IF(X204=\"\",\"\",INDEX(referentes!$AT:$AX,MATCH(X204,referentes!$AX:$AX,0),1))","v":""},null,null,{"$f":"IF(AC204=\"\",\"\",INDEX(referentes!AZ:BA,MATCH(AC204,referentes!BA:BA,0),1))","v":""},null,null,null,null,null,null,null,null,null,null,null,null,null,null,{"$f":"IF(N204<>\"\",INDEX(referentes!$AK:$AM,MATCH(DATOS!M204,referentes!$AK:$AK,0),3),\"\")","v":""},null,null,{"$f":"IF(AS204=\"\",\"\",INDEX(referentes!P:Q,MATCH(AS204,referentes!Q:Q,0),1))","v":""},null,null,null,{"$f":"IF(AY204=\"\",\"\",INDEX(referentes!AB:AC,MATCH(AY204,referentes!AC:AC,0),1))","v":""},null,{"$f":"IF(BA204=\"\",\"\",INDEX(referentes!S:T,MATCH(BA204,referentes!T:T,0),1))","v":""},null,null,{"$f":"IF(AA204=\"\",\"\",INDEX(OtrasReferencias!$AM$7:$AN$9,MATCH(AA204,OtrasReferencias!$AM$7:$AM$9,0),2))","v":""}]
[null,null,"","",{"$f":"IF(T205=\"\",\"\",INDEX(referentes!G:H,MATCH(T205,referentes!H:H,0),1))","v":""},{"$f":"IF(V205=\"\",\"\",INDEX(referentes!$M:$N,MATCH(V205,referentes!$N:$N,0),1))","v":""},{"$f":"IF(W205=\"\",\"\",INDEX(referentes!J:K,MATCH(W205,referentes!K:K,0),1))","v":""},null,{"$f":"IF(Y205<>\"\",CONCATENATE($A$3,P205,DIGITADOR!$M$1,Y205,ROW()),\"\")","v":""},{"$f":"IF(Y205<>\"\",CONCATENATE(P205,INT(Q205*1440),DIGITADOR!$M$1,Y205),\"\")","v":""},null,{"$f":"IF(AO205<>\"\",INDEX(referentes!$Y:$Z,MATCH(DATOS!AO205,referentes!$Z:$Z,0),1),\"\")","v":""},"","",{"$f":"IF(R205=\"\",\"\",INDEX(referentes!D:E,MATCH(R205,referentes!E:E,0),1))","v":""},null,null,null,null,null,null,null,null,null,{"$f":"IF(X205=\"\",\"\",INDEX(referentes!$AT:$AX,MATCH(X205,referentes!$AX:$AX,0),1))","v":""},null,null,{"$f":"IF(AC205=\"\",\"\",INDEX(referentes!AZ:BA,MATCH(AC205,referentes!BA:BA,0),1))","v":""},null,null,null,null,null,null,null,null,null,null,null,null,null,null,{"$f":"IF(N205<>\"\",INDEX(referentes!$AK:$AM,MATCH(DATOS!M205,referentes!$AK:$AK,0),3),\"\")","v":""},null,null,{"$f":"IF(AS205=\"\",\"\",INDEX(referentes!P:Q,MATCH(AS205,referentes!Q:Q,0),1))","v":""},null,null,null,{"$f":"IF(AY205=\"\",\"\",INDEX(referentes!AB:AC,MATCH(AY205,referentes!AC:AC,0),1))","v":""},null,{"$f":"IF(BA205=\"\",\"\",INDEX(referentes!S:T,MATCH(BA205,referentes!T:T,0),1))","v":""},null,null,{"$f":"IF(AA205=\"\",\"\",INDEX(OtrasReferencias!$AM$7:$AN$9,MATCH(AA205,OtrasReferencias!$AM$7:$AM$9,0),2))","v":""}]
[null,null,"","",{"$f":"IF(T206=\"\",\"\",INDEX(referentes!G:H,MATCH(T206,referentes!H:H,0),1))","v":""},{"$f":"IF(V206=\"\",\"\",INDEX(referentes!$M:$N,MATCH(V206,referentes!$N:$N,0),1))","v":""},{"$f":"IF(W206=\"\",\"\",INDEX(referentes!J:K,MATCH(W206,referentes!K:K,0),1))","v":""},null,{"$f":"IF(Y206<>\"\",CONCATENATE($A$3,P206,DIGITADOR!$M$1,Y206,ROW()),\"\")","v":""},{"$f":"IF(Y206<>\"\",CONCATENATE(P206,INT(Q206*1440),DIGITADOR!$M$1,Y206),\"\")","v":""},null,{"$f":"IF(AO206<>\"\",INDEX(referentes!$Y:$Z,MATCH(DATOS!AO206,referentes!$Z:$Z,0),1),\"\")","v":""},"","",{"$f":"IF(R206=\"\",\"\",INDEX(referentes!D:E,MATCH(R206,referentes!E:E,0),1))","v":""},null,null,null,null,null,null,null,null,null,{"$f":"IF(X206=\"\",\"\",INDEX(referentes!$AT:$AX,MATCH(X206,referentes!$AX:$AX,0),1))","v":""},null,null,{"$f":"IF(AC206=\"\",\"\",INDEX(referentes!AZ:BA,MATCH(AC206,referentes!BA:BA,0),1))","v":""},null,null,null,null,null,null,null,null,null,null,null,null,null,null,{"$f":"IF(N206<>\"\",INDEX(referentes!$AK:$AM,MATCH(DATOS!M206,referentes!$AK:$AK,0),3),\"\")","v":""},null,null,{"$f":"IF(AS206=\"\",\"\",INDEX(referentes!P:Q,MATCH(AS206,referentes!Q:Q,0),1))","v":""},null,null,null,{"$f":"IF(AY206=\"\",\"\",INDEX(referentes!AB:AC,MATCH(AY206,referentes!AC:AC,0),1))","v":""},null,{"$f":"IF(BA206=\"\",\"\",INDEX(referentes!S:T,MATCH(BA206,referentes!T:T,0),1))","v":""},null,null,{"$f":"IF(AA206=\"\",\"\",INDEX(OtrasReferencias!$AM$7:$AN$9,MATCH(AA206,OtrasReferencias!$AM$7:$AM$9,0),2))","v":""}]
[null,null,"","",{"$f":"IF(T207=\"\",\"\",INDEX(referentes!G:H,MATCH(T207,referentes!H:H,0),1))","v":""},{"$f":"IF(V207=\"\",\"\",INDEX(referentes!$M:$N,MATCH(V207,referentes!$N:$N,0),1))","v":""},{"$f":"IF(W207=\"\",\"\",INDEX(referentes!J:K,MATCH(W207,referentes!K:K,0),1))","v":""},null,{"$f":"IF(Y207<>\"\",CONCATENATE($A$3,P207,DIGITADOR!$M$1,Y207,ROW()),\"\")","v":""},{"$f":"IF(Y207<>\"\",CONCATENATE(P207,INT(Q207*1440),DIGITADOR!$M$1,Y207),\"\")","v":""},null,{"$f":"IF(AO207<>\"\",INDEX(referentes!$Y:$Z,MATCH(DATOS!AO207,referentes!$Z:$Z,0),1),\"\")","v":""},"","",{"$f":"IF(R207=\"\",\"\",INDEX(referentes!D:E,MATCH(R207,referentes!E:E,0),1))","v":""},null,null,null,null,null,null,null,null,null,{"$f":"IF(X207=\"\",\"\",INDEX(referentes!$AT:$AX,MATCH(X207,referentes!$AX:$AX,0),1))","v":""},null,null,{"$f":"IF(AC207=\"\",\"\",INDEX(referentes!AZ:BA,MATCH(AC207,referentes!BA:BA,0),1))","v":""},null,null,null,null,null,null,null,null,null,null,null,null,null,null,{"$f":"IF(N207<>\"\",INDEX(referentes!$AK:$AM,MATCH(DATOS!M207,referentes!$AK:$AK,0),3),\"\")","v":""},null,null,{"$f":"IF(AS207=\"\",\"\",INDEX(referentes!P:Q,MATCH(AS207,referentes!Q:Q,0),1))","v":""},null,null,null,{"$f":"IF(AY207=\"\",\"\",INDEX(referentes!AB:AC,MATCH(AY207,referentes!AC:AC,0),1))","v":""},null,{"$f":"IF(BA207=\"\",\"\",INDEX(referentes!S:T,MATCH(BA207,referentes!T:T,0),1))","v":""},null,null,{"$f":"IF(AA207=\"\",\"\",INDEX(OtrasReferencias!$AM$7:$AN$9,MATCH(AA207,OtrasReferencias!$AM$7:$AM$9,0),2))","v":""}]
[null,null,"","",{"$f":"IF(T208=\"\",\"\",INDEX(referentes!G:H,MATCH(T208,referentes!H:H,0),1))","v":""},{"$f":"IF(V208=\"\",\"\",INDEX(referentes!$M:$N,MATCH(V208,referentes!$N:$N,0),1))","v":""},{"$f":"IF(W208=\"\",\"\",INDEX(referentes!J:K,MATCH(W208,referentes!K:K,0),1))","v":""},null,{"$f":"IF(Y208<>\"\",CONCATENATE($A$3,P208,DIGITADOR!$M$1,Y208,ROW()),\"\")","v":""},{"$f":"IF(Y208<>\"\",CONCATENATE(P208,INT(Q208*1440),DIGITADOR!$M$1,Y208),\"\")","v":""},null,{"$f":"IF(AO208<>\"\",INDEX(referentes!$Y:$Z,MATCH(DATOS!AO208,referentes!$Z:$Z,0),1),\"\")","v":""},"","",{"$f":"IF(R208=\"\",\"\",INDEX(referentes!D:E,MATCH(R208,referentes!E:E,0),1))","v":""},null,null,null,null,null,null,null,null,null,{"$f":"IF(X208=\"\",\"\",INDEX(referentes!$AT:$AX,MATCH(X208,referentes!$AX:$AX,0),1))","v":""},null,null,{"$f":"IF(AC208=\"\",\"\",INDEX(referentes!AZ:BA,MATCH(AC208,referentes!BA:BA,0),1))","v":""},null,null,null,null,null,null,null,null,null,null,null,null,null,null,{"$f":"IF(N208<>\"\",INDEX(referentes!$AK:$AM,MATCH(DATOS!M208,referentes!$AK:$AK,0),3),\"\")","v":""},null,null,{"$f":"IF(AS208=\"\",\"\",INDEX(referentes!P:Q,MATCH(AS208,referentes!Q:Q,0),1))","v":""},null,null,null,{"$f":"IF(AY208=\"\",\"\",INDEX(referentes!AB:AC,MATCH(AY208,referentes!AC:AC,0),1))","v":""},null,{"$f":"IF(BA208=\"\",\"\",INDEX(referentes!S:T,MATCH(BA208,referentes!T:T,0),1))","v":""},null,null,{"$f":"IF(AA208=\"\",\"\",INDEX(OtrasReferencias!$AM$7:$AN$9,MATCH(AA208,OtrasReferencias!$AM$7:$AM$9,0),2))","v":""}]
[null,null,"","",{"$f":"IF(T209=\"\",\"\",INDEX(referentes!G:H,MATCH(T209,referentes!H:H,0),1))","v":""},{"$f":"IF(V209=\"\",\"\",INDEX(referentes!$M:$N,MATCH(V209,referentes!$N:$N,0),1))","v":""},{"$f":"IF(W209=\"\",\"\",INDEX(referentes!J:K,MATCH(W209,referentes!K:K,0),1))","v":""},null,{"$f":"IF(Y209<>\"\",CONCATENATE($A$3,P209,DIGITADOR!$M$1,Y209,ROW()),\"\")","v":""},{"$f":"IF(Y209<>\"\",CONCATENATE(P209,INT(Q209*1440),DIGITADOR!$M$1,Y209),\"\")","v":""},null,{"$f":"IF(AO209<>\"\",INDEX(referentes!$Y:$Z,MATCH(DATOS!AO209,referentes!$Z:$Z,0),1),\"\")","v":""},"","",{"$f":"IF(R209=\"\",\"\",INDEX(referentes!D:E,MATCH(R209,referentes!E:E,0),1))","v":""},null,null,null,null,null,null,null,null,null,{"$f":"IF(X209=\"\",\"\",INDEX(referentes!$AT:$AX,MATCH(X209,referentes!$AX:$AX,0),1))","v":""},null,null,{"$f":"IF(AC209=\"\",\"\",INDEX(referentes!AZ:BA,MATCH(AC209,referentes!BA:BA,0),1))","v":""},null,null,null,null,null,null,null,null,null,null,null,null,null,null,{"$f":"IF(N209<>\"\",INDEX(referentes!$AK:$AM,MATCH(DATOS!M209,referentes!$AK:$AK,0),3),\"\")","v":""},null,null,{"$f":"IF(AS209=\"\",\"\",INDEX(referentes!P:Q,MATCH(AS209,referentes!Q:Q,0),1))","v":""},null,null,null,{"$f":"IF(AY209=\"\",\"\",INDEX(referentes!AB:AC,MATCH(AY209,referentes!AC:AC,0),1))","v":""},null,{"$f":"IF(BA209=\"\",\"\",INDEX(referentes!S:T,MATCH(BA209,referentes!T:T,0),1))","v":""},null,null,{"$f":"IF(AA209=\"\",\"\",INDEX(OtrasReferencias!$AM$7:$AN$9,MATCH(AA209,OtrasReferencias!$AM$7:$AM$9,0),2))","v":""}]
[null,null,"","",{"$f":"IF(T210=\"\",\"\",INDEX(referentes!G:H,MATCH(T210,referentes!H:H,0),1))","v":""},{"$f":"IF(V210=\"\",\"\",INDEX(referentes!$M:$N,MATCH(V210,referentes!$N:$N,0),1))","v":""},{"$f":"IF(W210=\"\",\"\",INDEX(referentes!J:K,MATCH(W210,referentes!K:K,0),1))","v":""},null,{"$f":"IF(Y210<>\"\",CONCATENATE($A$3,P210,DIGITADOR!$M$1,Y210,ROW()),\"\")","v":""},{"$f":"IF(Y210<>\"\",CONCATENATE(P210,INT(Q210*1440),DIGITADOR!$M$1,Y210),\"\")","v":""},null,{"$f":"IF(AO210<>\"\",INDEX(referentes!$Y:$Z,MATCH(DATOS!AO210,referentes!$Z:$Z,0),1),\"\")","v":""},"","",{"$f":"IF(R210=\"\",\"\",INDEX(referentes!D:E,MATCH(R210,referentes!E:E,0),1))","v":""},null,null,null,null,null,null,null,null,null,{"$f":"IF(X210=\"\",\"\",INDEX(referentes!$AT:$AX,MATCH(X210,referentes!$AX:$AX,0),1))","v":""},null,null,{"$f":"IF(AC210=\"\",\"\",INDEX(referentes!AZ:BA,MATCH(AC210,referentes!BA:BA,0),1))","v":""},null,null,null,null,null,null,null,null,null,null,null,null,null,null,{"$f":"IF(N210<>\"\",INDEX(referentes!$AK:$AM,MATCH(DATOS!M210,referentes!$AK:$AK,0),3),\"\")","v":""},null,null,{"$f":"IF(AS210=\"\",\"\",INDEX(referentes!P:Q,MATCH(AS210,referentes!Q:Q,0),1))","v":""},null,null,null,{"$f":"IF(AY210=\"\",\"\",INDEX(referentes!AB:AC,MATCH(AY210,referentes!AC:AC,0),1))","v":""},null,{"$f":"IF(BA210=\"\",\"\",INDEX(referentes!S:T,MATCH(BA210,referentes!T:T,0),1))","v":""},null,null,{"$f":"IF(AA210=\"\",\"\",INDEX(OtrasReferencias!$AM$7:$AN$9,MATCH(AA210,OtrasReferencias!$AM$7:$AM$9,0),2))","v":""}]
[null,null,"","",{"$f":"IF(T211=\"\",\"\",INDEX(referentes!G:H,MATCH(T211,referentes!H:H,0),1))","v":""},{"$f":"IF(V211=\"\",\"\",INDEX(referentes!$M:$N,MATCH(V211,referentes!$N:$N,0),1))","v":""},{"$f":"IF(W211=\"\",\"\",INDEX(referentes!J:K,MATCH(W211,referentes!K:K,0),1))","v":""},null,{"$f":"IF(Y211<>\"\",CONCATENATE($A$3,P211,DIGITADOR!$M$1,Y211,ROW()),\"\")","v":""},{"$f":"IF(Y211<>\"\",CONCATENATE(P211,INT(Q211*1440),DIGITADOR!$M$1,Y211),\"\")","v":""},null,{"$f":"IF(AO211<>\"\",INDEX(referentes!$Y:$Z,MATCH(DATOS!AO211,referentes!$Z:$Z,0),1),\"\")","v":""},"","",{"$f":"IF(R211=\"\",\"\",INDEX(referentes!D:E,MATCH(R211,referentes!E:E,0),1))","v":""},null,null,null,null,null,null,null,null,null,{"$f":"IF(X211=\"\",\"\",INDEX(referentes!$AT:$AX,MATCH(X211,referentes!$AX:$AX,0),1))","v":""},null,null,{"$f":"IF(AC211=\"\",\"\",INDEX(referentes!AZ:BA,MATCH(AC211,referentes!BA:BA,0),1))","v":""},null,null,null,null,null,null,null,null,null,null,null,null,null,null,{"$f":"IF(N211<>\"\",INDEX(referentes!$AK:$AM,MATCH(DATOS!M211,referentes!$AK:$AK,0),3),\"\")","v":""},null,null,{"$f":"IF(AS211=\"\",\"\",INDEX(referentes!P:Q,MATCH(AS211,referentes!Q:Q,0),1))","v":""},null,null,null,{"$f":"IF(AY211=\"\",\"\",INDEX(referentes!AB:AC,MATCH(AY211,referentes!AC:AC,0),1))","v":""},null,{"$f":"IF(BA211=\"\",\"\",INDEX(referentes!S:T,MATCH(BA211,referentes!T:T,0),1))","v":""},null,null,{"$f":"IF(AA211=\"\",\"\",INDEX(OtrasReferencias!$AM$7:$AN$9,MATCH(AA211,OtrasReferencias!$AM$7:$AM$9,0),2))","v":""}]
[null,null,"","",{"$f":"IF(T212=\"\",\"\",INDEX(referentes!G:H,MATCH(T212,referentes!H:H,0),1))","v":""},{"$f":"IF(V212=\"\",\"\",INDEX(referentes!$M:$N,MATCH(V212,referentes!$N:$N,0),1))","v":""},{"$f":"IF(W212=\"\",\"\",INDEX(referentes!J:K,MATCH(W212,referentes!K:K,0),1))","v":""},null,{"$f":"IF(Y212<>\"\",CONCATENATE($A$3,P212,DIGITADOR!$M$1,Y212,ROW()),\"\")","v":""},{"$f":"IF(Y212<>\"\",CONCATENATE(P212,INT(Q212*1440),DIGITADOR!$M$1,Y212),\"\")","v":""},null,{"$f":"IF(AO212<>\"\",INDEX(referentes!$Y:$Z,MATCH(DATOS!AO212,referentes!$Z:$Z,0),1),\"\")","v":""},"","",{"$f":"IF(R212=\"\",\"\",INDEX(referentes!D:E,MATCH(R212,referentes!E:E,0),1))","v":""},null,null,null,null,null,null,null,null,null,{"$f":"IF(X212=\"\",\"\",INDEX(referentes!$AT:$AX,MATCH(X212,referentes!$AX:$AX,0),1))","v":""},null,null,{"$f":"IF(AC212=\"\",\"\",INDEX(referentes!AZ:BA,MATCH(AC212,referentes!BA:BA,0),1))","v":""},null,null,null,null,null,null,null,null,null,null,null,null,null,null,{"$f":"IF(N212<>\"\",INDEX(referentes!$AK:$AM,MATCH(DATOS!M212,referentes!$AK:$AK,0),3),\"\")","v":""},null,null,{"$f":"IF(AS212=\"\",\"\",INDEX(referentes!P:Q,MATCH(AS212,referentes!Q:Q,0),1))","v":""},null,null,null,{"$f":"IF(AY212=\"\",\"\",INDEX(referentes!AB:AC,MATCH(AY212,referentes!AC:AC,0),1))","v":""},null,{"$f":"IF(BA212=\"\",\"\",INDEX(referentes!S:T,MATCH(BA212,referentes!T:T,0),1))","v":""},null,null,{"$f":"IF(AA212=\"\",\"\",INDEX(OtrasReferencias!$AM$7:$AN$9,MATCH(AA212,OtrasReferencias!$AM$7:$AM$9,0),2))","v":""}]
[null,null,"","",{"$f":"IF(T213=\"\",\"\",INDEX(referentes!G:H,MATCH(T213,referentes!H:H,0),1))","v":""},{"$f":"IF(V213=\"\",\"\",INDEX(referentes!$M:$N,MATCH(V213,referentes!$N:$N,0),1))","v":""},{"$f":"IF(W213=\"\",\"\",INDEX(referentes!J:K,MATCH(W213,referentes!K:K,0),1))","v":""},null,{"$f":"IF(Y213<>\"\",CONCATENATE($A$3,P213,DIGITADOR!$M$1,Y213,ROW()),\"\")","v":""},{"$f":"IF(Y213<>\"\",CONCATENATE(P213,INT(Q213*1440),DIGITADOR!$M$1,Y213),\"\")","v":""},null,{"$f":"IF(AO213<>\"\",INDEX(referentes!$Y:$Z,MATCH(DATOS!AO213,referentes!$Z:$Z,0),1),\"\")","v":""},"","",{"$f":"IF(R213=\"\",\"\",INDEX(referentes!D:E,MATCH(R213,referentes!E:E,0),1))","v":""},null,null,null,null,null,null,null,null,null,{"$f":"IF(X213=\"\",\"\",INDEX(referentes!$AT:$AX,MATCH(X213,referentes!$AX:$AX,0),1))","v":""},null,null,{"$f":"IF(AC213=\"\",\"\",INDEX(referentes!AZ:BA,MATCH(AC213,referentes!BA:BA,0),1))","v":""},null,null,null,null,null,null,null,null,null,null,null,null,null,null,{"$f":"IF(N213<>\"\",INDEX(referentes!$AK:$AM,MATCH(DATOS!M213,referentes!$AK:$AK,0),3),\"\")","v":""},null,null,{"$f":"IF(AS213=\"\",\"\",INDEX(referentes!P:Q,MATCH(AS213,referentes!Q:Q,0),1))","v":""},null,null,null,{"$f":"IF(AY213=\"\",\"\",INDEX(referentes!AB:AC,MATCH(AY213,referentes!AC:AC,0),1))","v":""},null,{"$f":"IF(BA213=\"\",\"\",INDEX(referentes!S:T,MATCH(BA213,referentes!T:T,0),1))","v":""},null,null,{"$f":"IF(AA213=\"\",\"\",INDEX(OtrasReferencias!$AM$7:$AN$9,MATCH(AA213,OtrasReferencias!$AM$7:$AM$9,0),2))","v":""}]
[null,null,"","",{"$f":"IF(T214=\"\",\"\",INDEX(referentes!G:H,MATCH(T214,referentes!H:H,0),1))","v":""},{"$f":"IF(V214=\"\",\"\",INDEX(referentes!$M:$N,MATCH(V214,referentes!$N:$N,0),1))","v":""},{"$f":"IF(W214=\"\",\"\",INDEX(referentes!J:K,MATCH(W214,referentes!K:K,0),1))","v":""},null,{"$f":"IF(Y214<>\"\",CONCATENATE($A$3,P214,DIGITADOR!$M$1,Y214,ROW()),\"\")","v":""},{"$f":"IF(Y214<>\"\",CONCATENATE(P214,INT(Q214*1440),DIGITADOR!$M$1,Y214),\"\")","v":""},null,{"$f":"IF(AO214<>\"\",INDEX(referentes!$Y:$Z,MATCH(DATOS!AO214,referentes!$Z:$Z,0),1),\"\")","v":""},"","",{"$f":"IF(R214=\"\",\"\",INDEX(referentes!D:E,MATCH(R214,referentes!E:E,0),1))","v":""},null,null,null,null,null,null,null,null,null,{"$f":"IF(X214=\"\",\"\",INDEX(referentes!$AT:$AX,MATCH(X214,referentes!$AX:$AX,0),1))","v":""},null,null,{"$f":"IF(AC214=\"\",\"\",INDEX(referentes!AZ:BA,MATCH(AC214,referentes!BA:BA,0),1))","v":""},null,null,null,null,null,null,null,null,null,null,null,null,null,null,{"$f":"IF(N214<>\"\",INDEX(referentes!$AK:$AM,MATCH(DATOS!M214,referentes!$AK:$AK,0),3),\"\")","v":""},null,null,{"$f":"IF(AS214=\"\",\"\",INDEX(referentes!P:Q,MATCH(AS214,referentes!Q:Q,0),1))","v":""},null,null,null,{"$f":"IF(AY214=\"\",\"\",INDEX(referentes!AB:AC,MATCH(AY214,referentes!AC:AC,0),1))","v":""},null,{"$f":"IF(BA214=\"\",\"\",INDEX(referentes!S:T,MATCH(BA214,referentes!T:T,0),1))","v":""},null,null,{"$f":"IF(AA214=\"\",\"\",INDEX(OtrasReferencias!$AM$7:$AN$9,MATCH(AA214,OtrasReferencias!$AM$7:$AM$9,0),2))","v":""}]
[null,null,"","",{"$f":"IF(T215=\"\",\"\",INDEX(referentes!G:H,MATCH(T215,referentes!H:H,0),1))","v":""},{"$f":"IF(V215=\"\",\"\",INDEX(referentes!$M:$N,MATCH(V215,referentes!$N:$N,0),1))","v":""},{"$f":"IF(W215=\"\",\"\",INDEX(referentes!J:K,MATCH(W215,referentes!K:K,0),1))","v":""},null,{"$f":"IF(Y215<>\"\",CONCATENATE($A$3,P215,DIGITADOR!$M$1,Y215,ROW()),\"\")","v":""},{"$f":"IF(Y215<>\"\",CONCATENATE(P215,INT(Q215*1440),DIGITADOR!$M$1,Y215),\"\")","v":""},null,{"$f":"IF(AO215<>\"\",INDEX(referentes!$Y:$Z,MATCH(DATOS!AO215,referentes!$Z:$Z,0),1),\"\")","v":""},"","",{"$f":"IF(R215=\"\",\"\",INDEX(referentes!D:E,MATCH(R215,referentes!E:E,0),1))","v":""},null,null,null,null,null,null,null,null,null,{"$f":"IF(X215=\"\",\"\",INDEX(referentes!$AT:$AX,MATCH(X215,referentes!$AX:$AX,0),1))","v":""},null,null,{"$f":"IF(AC215=\"\",\"\",INDEX(referentes!AZ:BA,MATCH(AC215,referentes!BA:BA,0),1))","v":""},null,null,null,null,null,null,null,null,null,null,null,null,null,null,{"$f":"IF(N215<>\"\",INDEX(referentes!$AK:$AM,MATCH(DATOS!M215,referentes!$AK:$AK,0),3),\"\")","v":""},null,null,{"$f":"IF(AS215=\"\",\"\",INDEX(referentes!P:Q,MATCH(AS215,referentes!Q:Q,0),1))","v":""},null,null,null,{"$f":"IF(AY215=\"\",\"\",INDEX(referentes!AB:AC,MATCH(AY215,referentes!AC:AC,0),1))","v":""},null,{"$f":"IF(BA215=\"\",\"\",INDEX(referentes!S:T,MATCH(BA215,referentes!T:T,0),1))","v":""},null,null,{"$f":"IF(AA215=\"\",\"\",INDEX(OtrasReferencias!$AM$7:$AN$9,MATCH(AA215,OtrasReferencias!$AM$7:$AM$9,0),2))","v":""}]
[null,null,"","",{"$f":"IF(T216=\"\",\"\",INDEX(referentes!G:H,MATCH(T216,referentes!H:H,0),1))","v":""},{"$f":"IF(V216=\"\",\"\",INDEX(referentes!$M:$N,MATCH(V216,referentes!$N:$N,0),1))","v":""},{"$f":"IF(W216=\"\",\"\",INDEX(referentes!J:K,MATCH(W216,referentes!K:K,0),1))","v":""},null,{"$f":"IF(Y216<>\"\",CONCATENATE($A$3,P216,DIGITADOR!$M$1,Y216,ROW()),\"\")","v":""},{"$f":"IF(Y216<>\"\",CONCATENATE(P216,INT(Q216*1440),DIGITADOR!$M$1,Y216),\"\")","v":""},null,{"$f":"IF(AO216<>\"\",INDEX(referentes!$Y:$Z,MATCH(DATOS!AO216,referentes!$Z:$Z,0),1),\"\")","v":""},"","",{"$f":"IF(R216=\"\",\"\",INDEX(referentes!D:E,MATCH(R216,referentes!E:E,0),1))","v":""},null,null,null,null,null,null,null,null,null,{"$f":"IF(X216=\"\",\"\",INDEX(referentes!$AT:$AX,MATCH(X216,referentes!$AX:$AX,0),1))","v":""},null,null,{"$f":"IF(AC216=\"\",\"\",INDEX(referentes!AZ:BA,MATCH(AC216,referentes!BA:BA,0),1))","v":""},null,null,null,null,null,null,null,null,null,null,null,null,null,null,{"$f":"IF(N216<>\"\",INDEX(referentes!$AK:$AM,MATCH(DATOS!M216,referentes!$AK:$AK,0),3),\"\")","v":""},null,null,{"$f":"IF(AS216=\"\",\"\",INDEX(referentes!P:Q,MATCH(AS216,referentes!Q:Q,0),1))","v":""},null,null,null,{"$f":"IF(AY216=\"\",\"\",INDEX(referentes!AB:AC,MATCH(AY216,referentes!AC:AC,0),1))","v":""},null,{"$f":"IF(BA216=\"\",\"\",INDEX(referentes!S:T,MATCH(BA216,referentes!T:T,0),1))","v":""},null,null,{"$f":"IF(AA216=\"\",\"\",INDEX(OtrasReferencias!$AM$7:$AN$9,MATCH(AA216,OtrasReferencias!$AM$7:$AM$9,0),2))","v":""}]
[null,null,"","",{"$f":"IF(T217=\"\",\"\",INDEX(referentes!G:H,MATCH(T217,referentes!H:H,0),1))","v":""},{"$f":"IF(V217=\"\",\"\",INDEX(referentes!$M:$N,MATCH(V217,referentes!$N:$N,0),1))","v":""},{"$f":"IF(W217=\"\",\"\",INDEX(referentes!J:K,MATCH(W217,referentes!K:K,0),1))","v":""},null,{"$f":"IF(Y217<>\"\",CONCATENATE($A$3,P217,DIGITADOR!$M$1,Y217,ROW()),\"\")","v":""},{"$f":"IF(Y217<>\"\",CONCATENATE(P217,INT(Q217*1440),DIGITADOR!$M$1,Y217),\"\")","v":""},null,{"$f":"IF(AO217<>\"\",INDEX(referentes!$Y:$Z,MATCH(DATOS!AO217,referentes!$Z:$Z,0),1),\"\")","v":""},"","",{"$f":"IF(R217=\"\",\"\",INDEX(referentes!D:E,MATCH(R217,referentes!E:E,0),1))","v":""},null,null,null,null,null,null,null,null,null,{"$f":"IF(X217=\"\",\"\",INDEX(referentes!$AT:$AX,MATCH(X217,referentes!$AX:$AX,0),1))","v":""},null,null,{"$f":"IF(AC217=\"\",\"\",INDEX(referentes!AZ:BA,MATCH(AC217,referentes!BA:BA,0),1))","v":""},null,null,null,null,null,null,null,null,null,null,null,null,null,null,{"$f":"IF(N217<>\"\",INDEX(referentes!$AK:$AM,MATCH(DATOS!M217,referentes!$AK:$AK,0),3),\"\")","v":""},null,null,{"$f":"IF(AS217=\"\",\"\",INDEX(referentes!P:Q,MATCH(AS217,referentes!Q:Q,0),1))","v":""},null,null,null,{"$f":"IF(AY217=\"\",\"\",INDEX(referentes!AB:AC,MATCH(AY217,referentes!AC:AC,0),1))","v":""},null,{"$f":"IF(BA217=\"\",\"\",INDEX(referentes!S:T,MATCH(BA217,referentes!T:T,0),1))","v":""},null,null,{"$f":"IF(AA217=\"\",\"\",INDEX(OtrasReferencias!$AM$7:$AN$9,MATCH(AA217,OtrasReferencias!$AM$7:$AM$9,0),2))","v":""}]
[null,null,"","",{"$f":"IF(T218=\"\",\"\",INDEX(referentes!G:H,MATCH(T218,referentes!H:H,0),1))","v":""},{"$f":"IF(V218=\"\",\"\",INDEX(referentes!$M:$N,MATCH(V218,referentes!$N:$N,0),1))","v":""},{"$f":"IF(W218=\"\",\"\",INDEX(referentes!J:K,MATCH(W218,referentes!K:K,0),1))","v":""},null,{"$f":"IF(Y218<>\"\",CONCATENATE($A$3,P218,DIGITADOR!$M$1,Y218,ROW()),\"\")","v":""},{"$f":"IF(Y218<>\"\",CONCATENATE(P218,INT(Q218*1440),DIGITADOR!$M$1,Y218),\"\")","v":""},null,{"$f":"IF(AO218<>\"\",INDEX(referentes!$Y:$Z,MATCH(DATOS!AO218,referentes!$Z:$Z,0),1),\"\")","v":""},"","",{"$f":"IF(R218=\"\",\"\",INDEX(referentes!D:E,MATCH(R218,referentes!E:E,0),1))","v":""},null,null,null,null,null,null,null,null,null,{"$f":"IF(X218=\"\",\"\",INDEX(referentes!$AT:$AX,MATCH(X218,referentes!$AX:$AX,0),1))","v":""},null,null,{"$f":"IF(AC218=\"\",\"\",INDEX(referentes!AZ:BA,MATCH(AC218,referentes!BA:BA,0),1))","v":""},null,null,null,null,null,null,null,null,null,null,null,null,null,null,{"$f":"IF(N218<>\"\",INDEX(referentes!$AK:$AM,MATCH(DATOS!M218,referentes!$AK:$AK,0),3),\"\")","v":""},null,null,{"$f":"IF(AS218=\"\",\"\",INDEX(referentes!P:Q,MATCH(AS218,referentes!Q:Q,0),1))","v":""},null,null,null,{"$f":"IF(AY218=\"\",\"\",INDEX(referentes!AB:AC,MATCH(AY218,referentes!AC:AC,0),1))","v":""},null,{"$f":"IF(BA218=\"\",\"\",INDEX(referentes!S:T,MATCH(BA218,referentes!T:T,0),1))","v":""},null,null,{"$f":"IF(AA218=\"\",\"\",INDEX(OtrasReferencias!$AM$7:$AN$9,MATCH(AA218,OtrasReferencias!$AM$7:$AM$9,0),2))","v":""}]
[null,null,"","",{"$f":"IF(T219=\"\",\"\",INDEX(referentes!G:H,MATCH(T219,referentes!H:H,0),1))","v":""},{"$f":"IF(V219=\"\",\"\",INDEX(referentes!$M:$N,MATCH(V219,referentes!$N:$N,0),1))","v":""},{"$f":"IF(W219=\"\",\"\",INDEX(referentes!J:K,MATCH(W219,referentes!K:K,0),1))","v":""},null,{"$f":"IF(Y219<>\"\",CONCATENATE($A$3,P219,DIGITADOR!$M$1,Y219,ROW()),\"\")","v":""},{"$f":"IF(Y219<>\"\",CONCATENATE(P219,INT(Q219*1440),DIGITADOR!$M$1,Y219),\"\")","v":""},null,{"$f":"IF(AO219<>\"\",INDEX(referentes!$Y:$Z,MATCH(DATOS!AO219,referentes!$Z:$Z,0),1),\"\")","v":""},"","",{"$f":"IF(R219=\"\",\"\",INDEX(referentes!D:E,MATCH(R219,referentes!E:E,0),1))","v":""},null,null,null,null,null,null,null,null,null,{"$f":"IF(X219=\"\",\"\",INDEX(referentes!$AT:$AX,MATCH(X219,referentes!$AX:$AX,0),1))","v":""},null,null,{"$f":"IF(AC219=\"\",\"\",INDEX(referentes!AZ:BA,MATCH(AC219,referentes!BA:BA,0),1))","v":""},null,null,null,null,null,null,null,null,null,null,null,null,null,null,{"$f":"IF(N219<>\"\",INDEX(referentes!$AK:$AM,MATCH(DATOS!M219,referentes!$AK:$AK,0),3),\"\")","v":""},null,null,{"$f":"IF(AS219=\"\",\"\",INDEX(referentes!P:Q,MATCH(AS219,referentes!Q:Q,0),1))","v":""},null,null,null,{"$f":"IF(AY219=\"\",\"\",INDEX(referentes!AB:AC,MATCH(AY219,referentes!AC:AC,0),1))","v":""},null,{"$f":"IF(BA219=\"\",\"\",INDEX(referentes!S:T,MATCH(BA219,referentes!T:T,0),1))","v":""},null,null,{"$f":"IF(AA219=\"\",\"\",INDEX(OtrasReferencias!$AM$7:$AN$9,MATCH(AA219,OtrasReferencias!$AM$7:$AM$9,0),2))","v":""}]
[null,null,"","",{"$f":"IF(T220=\"\",\"\",INDEX(referentes!G:H,MATCH(T220,referentes!H:H,0),1))","v":""},{"$f":"IF(V220=\"\",\"\",INDEX(referentes!$M:$N,MATCH(V220,referentes!$N:$N,0),1))","v":""},{"$f":"IF(W220=\"\",\"\",INDEX(referentes!J:K,MATCH(W220,referentes!K:K,0),1))","v":""},null,{"$f":"IF(Y220<>\"\",CONCATENATE($A$3,P220,DIGITADOR!$M$1,Y220,ROW()),\"\")","v":""},{"$f":"IF(Y220<>\"\",CONCATENATE(P220,INT(Q220*1440),DIGITADOR!$M$1,Y220),\"\")","v":""},null,{"$f":"IF(AO220<>\"\",INDEX(referentes!$Y:$Z,MATCH(DATOS!AO220,referentes!$Z:$Z,0),1),\"\")","v":""},"","",{"$f":"IF(R220=\"\",\"\",INDEX(referentes!D:E,MATCH(R220,referentes!E:E,0),1))","v":""},null,null,null,null,null,null,null,null,null,{"$f":"IF(X220=\"\",\"\",INDEX(referentes!$AT:$AX,MATCH(X220,referentes!$AX:$AX,0),1))","v":""},null,null,{"$f":"IF(AC220=\"\",\"\",INDEX(referentes!AZ:BA,MATCH(AC220,referentes!BA:BA,0),1))","v":""},null,null,null,null,null,null,null,null,null,null,null,null,null,null,{"$f":"IF(N220<>\"\",INDEX(referentes!$AK:$AM,MATCH(DATOS!M220,referentes!$AK:$AK,0),3),\"\")","v":""},null,null,{"$f":"IF(AS220=\"\",\"\",INDEX(referentes!P:Q,MATCH(AS220,referentes!Q:Q,0),1))","v":""},null,null,null,{"$f":"IF(AY220=\"\",\"\",INDEX(referentes!AB:AC,MATCH(AY220,referentes!AC:AC,0),1))","v":""},null,{"$f":"IF(BA220=\"\",\"\",INDEX(referentes!S:T,MATCH(BA220,referentes!T:T,0),1))","v":""},null,null,{"$f":"IF(AA220=\"\",\"\",INDEX(OtrasReferencias!$AM$7:$AN$9,MATCH(AA220,OtrasReferencias!$AM$7:$AM$9,0),2))","v":""}]
[null,null,"","",{"$f":"IF(T221=\"\",\"\",INDEX(referentes!G:H,MATCH(T221,referentes!H:H,0),1))","v":""},{"$f":"IF(V221=\"\",\"\",INDEX(referentes!$M:$N,MATCH(V221,referentes!$N:$N,0),1))","v":""},{"$f":"IF(W221=\"\",\"\",INDEX(referentes!J:K,MATCH(W221,referentes!K:K,0),1))","v":""},null,{"$f":"IF(Y221<>\"\",CONCATENATE($A$3,P221,DIGITADOR!$M$1,Y221,ROW()),\"\")","v":""},{"$f":"IF(Y221<>\"\",CONCATENATE(P221,INT(Q221*1440),DIGITADOR!$M$1,Y221),\"\")","v":""},null,{"$f":"IF(AO221<>\"\",INDEX(referentes!$Y:$Z,MATCH(DATOS!AO221,referentes!$Z:$Z,0),1),\"\")","v":""},"","",{"$f":"IF(R221=\"\",\"\",INDEX(referentes!D:E,MATCH(R221,referentes!E:E,0),1))","v":""},null,null,null,null,null,null,null,null,null,{"$f":"IF(X221=\"\",\"\",INDEX(referentes!$AT:$AX,MATCH(X221,referentes!$AX:$AX,0),1))","v":""},null,null,{"$f":"IF(AC221=\"\",\"\",INDEX(referentes!AZ:BA,MATCH(AC221,referentes!BA:BA,0),1))","v":""},null,null,null,null,null,null,null,null,null,null,null,null,null,null,{"$f":"IF(N221<>\"\",INDEX(referentes!$AK:$AM,MATCH(DATOS!M221,referentes!$AK:$AK,0),3),\"\")","v":""},null,null,{"$f":"IF(AS221=\"\",\"\",INDEX(referentes!P:Q,MATCH(AS221,referentes!Q:Q,0),1))","v":""},null,null,null,{"$f":"IF(AY221=\"\",\"\",INDEX(referentes!AB:AC,MATCH(AY221,referentes!AC:AC,0),1))","v":""},null,{"$f":"IF(BA221=\"\",\"\",INDEX(referentes!S:T,MATCH(BA221,referentes!T:T,0),1))","v":""},null,null,{"$f":"IF(AA221=\"\",\"\",INDEX(OtrasReferencias!$AM$7:$AN$9,MATCH(AA221,OtrasReferencias!$AM$7:$AM$9,0),2))","v":""}]
[null,null,"","",{"$f":"IF(T222=\"\",\"\",INDEX(referentes!G:H,MATCH(T222,referentes!H:H,0),1))","v":""},{"$f":"IF(V222=\"\",\"\",INDEX(referentes!$M:$N,MATCH(V222,referentes!$N:$N,0),1))","v":""},{"$f":"IF(W222=\"\",\"\",INDEX(referentes!J:K,MATCH(W222,referentes!K:K,0),1))","v":""},null,{"$f":"IF(Y222<>\"\",CONCATENATE($A$3,P222,DIGITADOR!$M$1,Y222,ROW()),\"\")","v":""},{"$f":"IF(Y222<>\"\",CONCATENATE(P222,INT(Q222*1440),DIGITADOR!$M$1,Y222),\"\")","v":""},null,{"$f":"IF(AO222<>\"\",INDEX(referentes!$Y:$Z,MATCH(DATOS!AO222,referentes!$Z:$Z,0),1),\"\")","v":""},"","",{"$f":"IF(R222=\"\",\"\",INDEX(referentes!D:E,MATCH(R222,referentes!E:E,0),1))","v":""},null,null,null,null,null,null,null,null,null,{"$f":"IF(X222=\"\",\"\",INDEX(referentes!$AT:$AX,MATCH(X222,referentes!$AX:$AX,0),1))","v":""},null,null,{"$f":"IF(AC222=\"\",\"\",INDEX(referentes!AZ:BA,MATCH(AC222,referentes!BA:BA,0),1))","v":""},null,null,null,null,null,null,null,null,null,null,null,null,null,null,{"$f":"IF(N222<>\"\",INDEX(referentes!$AK:$AM,MATCH(DATOS!M222,referentes!$AK:$AK,0),3),\"\")","v":""},null,null,{"$f":"IF(AS222=\"\",\"\",INDEX(referentes!P:Q,MATCH(AS222,referentes!Q:Q,0),1))","v":""},null,null,null,{"$f":"IF(AY222=\"\",\"\",INDEX(referentes!AB:AC,MATCH(AY222,referentes!AC:AC,0),1))","v":""},null,{"$f":"IF(BA222=\"\",\"\",INDEX(referentes!S:T,MATCH(BA222,referentes!T:T,0),1))","v":""},null,null,{"$f":"IF(AA222=\"\",\"\",INDEX(OtrasReferencias!$AM$7:$AN$9,MATCH(AA222,OtrasReferencias!$AM$7:$AM$9,0),2))","v":""}]
[null,null,"","",{"$f":"IF(T223=\"\",\"\",INDEX(referentes!G:H,MATCH(T223,referentes!H:H,0),1))","v":""},{"$f":"IF(V223=\"\",\"\",INDEX(referentes!$M:$N,MATCH(V223,referentes!$N:$N,0),1))","v":""},{"$f":"IF(W223=\"\",\"\",INDEX(referentes!J:K,MATCH(W223,referentes!K:K,0),1))","v":""},null,{"$f":"IF(Y223<>\"\",CONCATENATE($A$3,P223,DIGITADOR!$M$1,Y223,ROW()),\"\")","v":""},{"$f":"IF(Y223<>\"\",CONCATENATE(P223,INT(Q223*1440),DIGITADOR!$M$1,Y223),\"\")","v":""},null,{"$f":"IF(AO223<>\"\",INDEX(referentes!$Y:$Z,MATCH(DATOS!AO223,referentes!$Z:$Z,0),1),\"\")","v":""},"","",{"$f":"IF(R223=\"\",\"\",INDEX(referentes!D:E,MATCH(R223,referentes!E:E,0),1))","v":""},null,null,null,null,null,null,null,null,null,{"$f":"IF(X223=\"\",\"\",INDEX(referentes!$AT:$AX,MATCH(X223,referentes!$AX:$AX,0),1))","v":""},null,null,{"$f":"IF(AC223=\"\",\"\",INDEX(referentes!AZ:BA,MATCH(AC223,referentes!BA:BA,0),1))","v":""},null,null,null,null,null,null,null,null,null,null,null,null,null,null,{"$f":"IF(N223<>\"\",INDEX(referentes!$AK:$AM,MATCH(DATOS!M223,referentes!$AK:$AK,0),3),\"\")","v":""},null,null,{"$f":"IF(AS223=\"\",\"\",INDEX(referentes!P:Q,MATCH(AS223,referentes!Q:Q,0),1))","v":""},null,null,null,{"$f":"IF(AY223=\"\",\"\",INDEX(referentes!AB:AC,MATCH(AY223,referentes!AC:AC,0),1))","v":""},null,{"$f":"IF(BA223=\"\",\"\",INDEX(referentes!S:T,MATCH(BA223,referentes!T:T,0),1))","v":""},null,null,{"$f":"IF(AA223=\"\",\"\",INDEX(OtrasReferencias!$AM$7:$AN$9,MATCH(AA223,OtrasReferencias!$AM$7:$AM$9,0),2))","v":""}]
[null,null,"","",{"$f":"IF(T224=\"\",\"\",INDEX(referentes!G:H,MATCH(T224,referentes!H:H,0),1))","v":""},{"$f":"IF(V224=\"\",\"\",INDEX(referentes!$M:$N,MATCH(V224,referentes!$N:$N,0),1))","v":""},{"$f":"IF(W224=\"\",\"\",INDEX(referentes!J:K,MATCH(W224,referentes!K:K,0),1))","v":""},null,{"$f":"IF(Y224<>\"\",CONCATENATE($A$3,P224,DIGITADOR!$M$1,Y224,ROW()),\"\")","v":""},{"$f":"IF(Y224<>\"\",CONCATENATE(P224,INT(Q224*1440),DIGITADOR!$M$1,Y224),\"\")","v":""},null,{"$f":"IF(AO224<>\"\",INDEX(referentes!$Y:$Z,MATCH(DATOS!AO224,referentes!$Z:$Z,0),1),\"\")","v":""},"","",{"$f":"IF(R224=\"\",\"\",INDEX(referentes!D:E,MATCH(R224,referentes!E:E,0),1))","v":""},null,null,null,null,null,null,null,null,null,{"$f":"IF(X224=\"\",\"\",INDEX(referentes!$AT:$AX,MATCH(X224,referentes!$AX:$AX,0),1))","v":""},null,null,{"$f":"IF(AC224=\"\",\"\",INDEX(referentes!AZ:BA,MATCH(AC224,referentes!BA:BA,0),1))","v":""},null,null,null,null,null,null,null,null,null,null,null,null,null,null,{"$f":"IF(N224<>\"\",INDEX(referentes!$AK:$AM,MATCH(DATOS!M224,referentes!$AK:$AK,0),3),\"\")","v":""},null,null,{"$f":"IF(AS224=\"\",\"\",INDEX(referentes!P:Q,MATCH(AS224,referentes!Q:Q,0),1))","v":""},null,null,null,{"$f":"IF(AY224=\"\",\"\",INDEX(referentes!AB:AC,MATCH(AY224,referentes!AC:AC,0),1))","v":""},null,{"$f":"IF(BA224=\"\",\"\",INDEX(referentes!S:T,MATCH(BA224,referentes!T:T,0),1))","v":""},null,null,{"$f":"IF(AA224=\"\",\"\",INDEX(OtrasReferencias!$AM$7:$AN$9,MATCH(AA224,OtrasReferencias!$AM$7:$AM$9,0),2))","v":""}]
[null,null,"","",{"$f":"IF(T225=\"\",\"\",INDEX(referentes!G:H,MATCH(T225,referentes!H:H,0),1))","v":""},{"$f":"IF(V225=\"\",\"\",INDEX(referentes!$M:$N,MATCH(V225,referentes!$N:$N,0),1))","v":""},{"$f":"IF(W225=\"\",\"\",INDEX(referentes!J:K,MATCH(W225,referentes!K:K,0),1))","v":""},null,{"$f":"IF(Y225<>\"\",CONCATENATE($A$3,P225,DIGITADOR!$M$1,Y225,ROW()),\"\")","v":""},{"$f":"IF(Y225<>\"\",CONCATENATE(P225,INT(Q225*1440),DIGITADOR!$M$1,Y225),\"\")","v":""},null,{"$f":"IF(AO225<>\"\",INDEX(referentes!$Y:$Z,MATCH(DATOS!AO225,referentes!$Z:$Z,0),1),\"\")","v":""},"","",{"$f":"IF(R225=\"\",\"\",INDEX(referentes!D:E,MATCH(R225,referentes!E:E,0),1))","v":""},null,null,null,null,null,null,null,null,null,{"$f":"IF(X225=\"\",\"\",INDEX(referentes!$AT:$AX,MATCH(X225,referentes!$AX:$AX,0),1))","v":""},null,null,{"$f":"IF(AC225=\"\",\"\",INDEX(referentes!AZ:BA,MATCH(AC225,referentes!BA:BA,0),1))","v":""},null,null,null,null,null,null,null,null,null,null,null,null,null,null,{"$f":"IF(N225<>\"\",INDEX(referentes!$AK:$AM,MATCH(DATOS!M225,referentes!$AK:$AK,0),3),\"\")","v":""},null,null,{"$f":"IF(AS225=\"\",\"\",INDEX(referentes!P:Q,MATCH(AS225,referentes!Q:Q,0),1))","v":""},null,null,null,{"$f":"IF(AY225=\"\",\"\",INDEX(referentes!AB:AC,MATCH(AY225,referentes!AC:AC,0),1))","v":""},null,{"$f":"IF(BA225=\"\",\"\",INDEX(referentes!S:T,MATCH(BA225,referentes!T:T,0),1))","v":""},null,null,{"$f":"IF(AA225=\"\",\"\",INDEX(OtrasReferencias!$AM$7:$AN$9,MATCH(AA225,OtrasReferencias!$AM$7:$AM$9,0),2))","v":""}]
[null,null,"","",{"$f":"IF(T226=\"\",\"\",INDEX(referentes!G:H,MATCH(T226,referentes!H:H,0),1))","v":""},{"$f":"IF(V226=\"\",\"\",INDEX(referentes!$M:$N,MATCH(V226,referentes!$N:$N,0),1))","v":""},{"$f":"IF(W226=\"\",\"\",INDEX(referentes!J:K,MATCH(W226,referentes!K:K,0),1))","v":""},null,{"$f":"IF(Y226<>\"\",CONCATENATE($A$3,P226,DIGITADOR!$M$1,Y226,ROW()),\"\")","v":""},{"$f":"IF(Y226<>\"\",CONCATENATE(P226,INT(Q226*1440),DIGITADOR!$M$1,Y226),\"\")","v":""},null,{"$f":"IF(AO226<>\"\",INDEX(referentes!$Y:$Z,MATCH(DATOS!AO226,referentes!$Z:$Z,0),1),\"\")","v":""},"","",{"$f":"IF(R226=\"\",\"\",INDEX(referentes!D:E,MATCH(R226,referentes!E:E,0),1))","v":""},null,null,null,null,null,null,null,null,null,{"$f":"IF(X226=\"\",\"\",INDEX(referentes!$AT:$AX,MATCH(X226,referentes!$AX:$AX,0),1))","v":""},null,null,{"$f":"IF(AC226=\"\",\"\",INDEX(referentes!AZ:BA,MATCH(AC226,referentes!BA:BA,0),1))","v":""},null,null,null,null,null,null,null,null,null,null,null,null,null,null,{"$f":"IF(N226<>\"\",INDEX(referentes!$AK:$AM,MATCH(DATOS!M226,referentes!$AK:$AK,0),3),\"\")","v":""},null,null,{"$f":"IF(AS226=\"\",\"\",INDEX(referentes!P:Q,MATCH(AS226,referentes!Q:Q,0),1))","v":""},null,null,null,{"$f":"IF(AY226=\"\",\"\",INDEX(referentes!AB:AC,MATCH(AY226,referentes!AC:AC,0),1))","v":""},null,{"$f":"IF(BA226=\"\",\"\",INDEX(referentes!S:T,MATCH(BA226,referentes!T:T,0),1))","v":""},null,null,{"$f":"IF(AA226=\"\",\"\",INDEX(OtrasReferencias!$AM$7:$AN$9,MATCH(AA226,OtrasReferencias!$AM$7:$AM$9,0),2))","v":""}]
[null,null,"","",{"$f":"IF(T227=\"\",\"\",INDEX(referentes!G:H,MATCH(T227,referentes!H:H,0),1))","v":""},{"$f":"IF(V227=\"\",\"\",INDEX(referentes!$M:$N,MATCH(V227,referentes!$N:$N,0),1))","v":""},{"$f":"IF(W227=\"\",\"\",INDEX(referentes!J:K,MATCH(W227,referentes!K:K,0),1))","v":""},null,{"$f":"IF(Y227<>\"\",CONCATENATE($A$3,P227,DIGITADOR!$M$1,Y227,ROW()),\"\")","v":""},{"$f":"IF(Y227<>\"\",CONCATENATE(P227,INT(Q227*1440),DIGITADOR!$M$1,Y227),\"\")","v":""},null,{"$f":"IF(AO227<>\"\",INDEX(referentes!$Y:$Z,MATCH(DATOS!AO227,referentes!$Z:$Z,0),1),\"\")","v":""},"","",{"$f":"IF(R227=\"\",\"\",INDEX(referentes!D:E,MATCH(R227,referentes!E:E,0),1))","v":""},null,null,null,null,null,null,null,null,null,{"$f":"IF(X227=\"\",\"\",INDEX(referentes!$AT:$AX,MATCH(X227,referentes!$AX:$AX,0),1))","v":""},null,null,{"$f":"IF(AC227=\"\",\"\",INDEX(referentes!AZ:BA,MATCH(AC227,referentes!BA:BA,0),1))","v":""},null,null,null,null,null,null,null,null,null,null,null,null,null,null,{"$f":"IF(N227<>\"\",INDEX(referentes!$AK:$AM,MATCH(DATOS!M227,referentes!$AK:$AK,0),3),\"\")","v":""},null,null,{"$f":"IF(AS227=\"\",\"\",INDEX(referentes!P:Q,MATCH(AS227,referentes!Q:Q,0),1))","v":""},null,null,null,{"$f":"IF(AY227=\"\",\"\",INDEX(referentes!AB:AC,MATCH(AY227,referentes!AC:AC,0),1))","v":""},null,{"$f":"IF(BA227=\"\",\"\",INDEX(referentes!S:T,MATCH(BA227,referentes!T:T,0),1))","v":""},null,null,{"$f":"IF(AA227=\"\",\"\",INDEX(OtrasReferencias!$AM$7:$AN$9,MATCH(AA227,OtrasReferencias!$AM$7:$AM$9,0),2))","v":""}]
[null,null,"","",{"$f":"IF(T228=\"\",\"\",INDEX(referentes!G:H,MATCH(T228,referentes!H:H,0),1))","v":""},{"$f":"IF(V228=\"\",\"\",INDEX(referentes!$M:$N,MATCH(V228,referentes!$N:$N,0),1))","v":""},{"$f":"IF(W228=\"\",\"\",INDEX(referentes!J:K,MATCH(W228,referentes!K:K,0),1))","v":""},null,{"$f":"IF(Y228<>\"\",CONCATENATE($A$3,P228,DIGITADOR!$M$1,Y228,ROW()),\"\")","v":""},{"$f":"IF(Y228<>\"\",CONCATENATE(P228,INT(Q228*1440),DIGITADOR!$M$1,Y228),\"\")","v":""},null,{"$f":"IF(AO228<>\"\",INDEX(referentes!$Y:$Z,MATCH(DATOS!AO228,referentes!$Z:$Z,0),1),\"\")","v":""},"","",{"$f":"IF(R228=\"\",\"\",INDEX(referentes!D:E,MATCH(R228,referentes!E:E,0),1))","v":""},null,null,null,null,null,null,null,null,null,{"$f":"IF(X228=\"\",\"\",INDEX(referentes!$AT:$AX,MATCH(X228,referentes!$AX:$AX,0),1))","v":""},null,null,{"$f":"IF(AC228=\"\",\"\",INDEX(referentes!AZ:BA,MATCH(AC228,referentes!BA:BA,0),1))","v":""},null,null,null,null,null,null,null,null,null,null,null,null,null,null,{"$f":"IF(N228<>\"\",INDEX(referentes!$AK:$AM,MATCH(DATOS!M228,referentes!$AK:$AK,0),3),\"\")","v":""},null,null,{"$f":"IF(AS228=\"\",\"\",INDEX(referentes!P:Q,MATCH(AS228,referentes!Q:Q,0),1))","v":""},null,null,null,{"$f":"IF(AY228=\"\",\"\",INDEX(referentes!AB:AC,MATCH(AY228,referentes!AC:AC,0),1))","v":""},null,{"$f":"IF(BA228=\"\",\"\",INDEX(referentes!S:T,MATCH(BA228,referentes!T:T,0),1))","v":""},null,null,{"$f":"IF(AA228=\"\",\"\",INDEX(OtrasReferencias!$AM$7:$AN$9,MATCH(AA228,OtrasReferencias!$AM$7:$AM$9,0),2))","v":""}]
[null,null,"","",{"$f":"IF(T229=\"\",\"\",INDEX(referentes!G:H,MATCH(T229,referentes!H:H,0),1))","v":""},{"$f":"IF(V229=\"\",\"\",INDEX(referentes!$M:$N,MATCH(V229,referentes!$N:$N,0),1))","v":""},{"$f":"IF(W229=\"\",\"\",INDEX(referentes!J:K,MATCH(W229,referentes!K:K,0),1))","v":""},null,{"$f":"IF(Y229<>\"\",CONCATENATE($A$3,P229,DIGITADOR!$M$1,Y229,ROW()),\"\")","v":""},{"$f":"IF(Y229<>\"\",CONCATENATE(P229,INT(Q229*1440),DIGITADOR!$M$1,Y229),\"\")","v":""},null,{"$f":"IF(AO229<>\"\",INDEX(referentes!$Y:$Z,MATCH(DATOS!AO229,referentes!$Z:$Z,0),1),\"\")","v":""},"","",{"$f":"IF(R229=\"\",\"\",INDEX(referentes!D:E,MATCH(R229,referentes!E:E,0),1))","v":""},null,null,null,null,null,null,null,null,null,{"$f":"IF(X229=\"\",\"\",INDEX(referentes!$AT:$AX,MATCH(X229,referentes!$AX:$AX,0),1))","v":""},null,null,{"$f":"IF(AC229=\"\",\"\",INDEX(referentes!AZ:BA,MATCH(AC229,referentes!BA:BA,0),1))","v":""},null,null,null,null,null,null,null,null,null,null,null,null,null,null,{"$f":"IF(N229<>\"\",INDEX(referentes!$AK:$AM,MATCH(DATOS!M229,referentes!$AK:$AK,0),3),\"\")","v":""},null,null,{"$f":"IF(AS229=\"\",\"\",INDEX(referentes!P:Q,MATCH(AS229,referentes!Q:Q,0),1))","v":""},null,null,null,{"$f":"IF(AY229=\"\",\"\",INDEX(referentes!AB:AC,MATCH(AY229,referentes!AC:AC,0),1))","v":""},null,{"$f":"IF(BA229=\"\",\"\",INDEX(referentes!S:T,MATCH(BA229,referentes!T:T,0),1))","v":""},null,null,{"$f":"IF(AA229=\"\",\"\",INDEX(OtrasReferencias!$AM$7:$AN$9,MATCH(AA229,OtrasReferencias!$AM$7:$AM$9,0),2))","v":""}]
[null,null,"","",{"$f":"IF(T230=\"\",\"\",INDEX(referentes!G:H,MATCH(T230,referentes!H:H,0),1))","v":""},{"$f":"IF(V230=\"\",\"\",INDEX(referentes!$M:$N,MATCH(V230,referentes!$N:$N,0),1))","v":""},{"$f":"IF(W230=\"\",\"\",INDEX(referentes!J:K,MATCH(W230,referentes!K:K,0),1))","v":""},null,{"$f":"IF(Y230<>\"\",CONCATENATE($A$3,P230,DIGITADOR!$M$1,Y230,ROW()),\"\")","v":""},{"$f":"IF(Y230<>\"\",CONCATENATE(P230,INT(Q230*1440),DIGITADOR!$M$1,Y230),\"\")","v":""},null,{"$f":"IF(AO230<>\"\",INDEX(referentes!$Y:$Z,MATCH(DATOS!AO230,referentes!$Z:$Z,0),1),\"\")","v":""},"","",{"$f":"IF(R230=\"\",\"\",INDEX(referentes!D:E,MATCH(R230,referentes!E:E,0),1))","v":""},null,null,null,null,null,null,null,null,null,{"$f":"IF(X230=\"\",\"\",INDEX(referentes!$AT:$AX,MATCH(X230,referentes!$AX:$AX,0),1))","v":""},null,null,{"$f":"IF(AC230=\"\",\"\",INDEX(referentes!AZ:BA,MATCH(AC230,referentes!BA:BA,0),1))","v":""},null,null,null,null,null,null,null,null,null,null,null,null,null,null,{"$f":"IF(N230<>\"\",INDEX(referentes!$AK:$AM,MATCH(DATOS!M230,referentes!$AK:$AK,0),3),\"\")","v":""},null,null,{"$f":"IF(AS230=\"\",\"\",INDEX(referentes!P:Q,MATCH(AS230,referentes!Q:Q,0),1))","v":""},null,null,null,{"$f":"IF(AY230=\"\",\"\",INDEX(referentes!AB:AC,MATCH(AY230,referentes!AC:AC,0),1))","v":""},null,{"$f":"IF(BA230=\"\",\"\",INDEX(referentes!S:T,MATCH(BA230,referentes!T:T,0),1))","v":""},null,null,{"$f":"IF(AA230=\"\",\"\",INDEX(OtrasReferencias!$AM$7:$AN$9,MATCH(AA230,OtrasReferencias!$AM$7:$AM$9,0),2))","v":""}]
[null,null,"","",{"$f":"IF(T231=\"\",\"\",INDEX(referentes!G:H,MATCH(T231,referentes!H:H,0),1))","v":""},{"$f":"IF(V231=\"\",\"\",INDEX(referentes!$M:$N,MATCH(V231,referentes!$N:$N,0),1))","v":""},{"$f":"IF(W231=\"\",\"\",INDEX(referentes!J:K,MATCH(W231,referentes!K:K,0),1))","v":""},null,{"$f":"IF(Y231<>\"\",CONCATENATE($A$3,P231,DIGITADOR!$M$1,Y231,ROW()),\"\")","v":""},{"$f":"IF(Y231<>\"\",CONCATENATE(P231,INT(Q231*1440),DIGITADOR!$M$1,Y231),\"\")","v":""},null,{"$f":"IF(AO231<>\"\",INDEX(referentes!$Y:$Z,MATCH(DATOS!AO231,referentes!$Z:$Z,0),1),\"\")","v":""},"","",{"$f":"IF(R231=\"\",\"\",INDEX(referentes!D:E,MATCH(R231,referentes!E:E,0),1))","v":""},null,null,null,null,null,null,null,null,null,{"$f":"IF(X231=\"\",\"\",INDEX(referentes!$AT:$AX,MATCH(X231,referentes!$AX:$AX,0),1))","v":""},null,null,{"$f":"IF(AC231=\"\",\"\",INDEX(referentes!AZ:BA,MATCH(AC231,referentes!BA:BA,0),1))","v":""},null,null,null,null,null,null,null,null,null,null,null,null,null,null,{"$f":"IF(N231<>\"\",INDEX(referentes!$AK:$AM,MATCH(DATOS!M231,referentes!$AK:$AK,0),3),\"\")","v":""},null,null,{"$f":"IF(AS231=\"\",\"\",INDEX(referentes!P:Q,MATCH(AS231,referentes!Q:Q,0),1))","v":""},null,null,null,{"$f":"IF(AY231=\"\",\"\",INDEX(referentes!AB:AC,MATCH(AY231,referentes!AC:AC,0),1))","v":""},null,{"$f":"IF(BA231=\"\",\"\",INDEX(referentes!S:T,MATCH(BA231,referentes!T:T,0),1))","v":""},null,null,{"$f":"IF(AA231=\"\",\"\",INDEX(OtrasReferencias!$AM$7:$AN$9,MATCH(AA231,OtrasReferencias!$AM$7:$AM$9,0),2))","v":""}]
[null,null,"","",{"$f":"IF(T232=\"\",\"\",INDEX(referentes!G:H,MATCH(T232,referentes!H:H,0),1))","v":""},{"$f":"IF(V232=\"\",\"\",INDEX(referentes!$M:$N,MATCH(V232,referentes!$N:$N,0),1))","v":""},{"$f":"IF(W232=\"\",\"\",INDEX(referentes!J:K,MATCH(W232,referentes!K:K,0),1))","v":""},null,{"$f":"IF(Y232<>\"\",CONCATENATE($A$3,P232,DIGITADOR!$M$1,Y232,ROW()),\"\")","v":""},{"$f":"IF(Y232<>\"\",CONCATENATE(P232,INT(Q232*1440),DIGITADOR!$M$1,Y232),\"\")","v":""},null,{"$f":"IF(AO232<>\"\",INDEX(referentes!$Y:$Z,MATCH(DATOS!AO232,referentes!$Z:$Z,0),1),\"\")","v":""},"","",{"$f":"IF(R232=\"\",\"\",INDEX(referentes!D:E,MATCH(R232,referentes!E:E,0),1))","v":""},null,null,null,null,null,null,null,null,null,{"$f":"IF(X232=\"\",\"\",INDEX(referentes!$AT:$AX,MATCH(X232,referentes!$AX:$AX,0),1))","v":""},null,null,{"$f":"IF(AC232=\"\",\"\",INDEX(referentes!AZ:BA,MATCH(AC232,referentes!BA:BA,0),1))","v":""},null,null,null,null,null,null,null,null,null,null,null,null,null,null,{"$f":"IF(N232<>\"\",INDEX(referentes!$AK:$AM,MATCH(DATOS!M232,referentes!$AK:$AK,0),3),\"\")","v":""},null,null,{"$f":"IF(AS232=\"\",\"\",INDEX(referentes!P:Q,MATCH(AS232,referentes!Q:Q,0),1))","v":""},null,null,null,{"$f":"IF(AY232=\"\",\"\",INDEX(referentes!AB:AC,MATCH(AY232,referentes!AC:AC,0),1))","v":""},null,{"$f":"IF(BA232=\"\",\"\",INDEX(referentes!S:T,MATCH(BA232,referentes!T:T,0),1))","v":""},null,null,{"$f":"IF(AA232=\"\",\"\",INDEX(OtrasReferencias!$AM$7:$AN$9,MATCH(AA232,OtrasReferencias!$AM$7:$AM$9,0),2))","v":""}]
[null,null,"","",{"$f":"IF(T233=\"\",\"\",INDEX(referentes!G:H,MATCH(T233,referentes!H:H,0),1))","v":""},{"$f":"IF(V233=\"\",\"\",INDEX(referentes!$M:$N,MATCH(V233,referentes!$N:$N,0),1))","v":""},{"$f":"IF(W233=\"\",\"\",INDEX(referentes!J:K,MATCH(W233,referentes!K:K,0),1))","v":""},null,{"$f":"IF(Y233<>\"\",CONCATENATE($A$3,P233,DIGITADOR!$M$1,Y233,ROW()),\"\")","v":""},{"$f":"IF(Y233<>\"\",CONCATENATE(P233,INT(Q233*1440),DIGITADOR!$M$1,Y233),\"\")","v":""},null,{"$f":"IF(AO233<>\"\",INDEX(referentes!$Y:$Z,MATCH(DATOS!AO233,referentes!$Z:$Z,0),1),\"\")","v":""},"","",{"$f":"IF(R233=\"\",\"\",INDEX(referentes!D:E,MATCH(R233,referentes!E:E,0),1))","v":""},null,null,null,null,null,null,null,null,null,{"$f":"IF(X233=\"\",\"\",INDEX(referentes!$AT:$AX,MATCH(X233,referentes!$AX:$AX,0),1))","v":""},null,null,{"$f":"IF(AC233=\"\",\"\",INDEX(referentes!AZ:BA,MATCH(AC233,referentes!BA:BA,0),1))","v":""},null,null,null,null,null,null,null,null,null,null,null,null,null,null,{"$f":"IF(N233<>\"\",INDEX(referentes!$AK:$AM,MATCH(DATOS!M233,referentes!$AK:$AK,0),3),\"\")","v":""},null,null,{"$f":"IF(AS233=\"\",\"\",INDEX(referentes!P:Q,MATCH(AS233,referentes!Q:Q,0),1))","v":""},null,null,null,{"$f":"IF(AY233=\"\",\"\",INDEX(referentes!AB:AC,MATCH(AY233,referentes!AC:AC,0),1))","v":""},null,{"$f":"IF(BA233=\"\",\"\",INDEX(referentes!S:T,MATCH(BA233,referentes!T:T,0),1))","v":""},null,null,{"$f":"IF(AA233=\"\",\"\",INDEX(OtrasReferencias!$AM$7:$AN$9,MATCH(AA233,OtrasReferencias!$AM$7:$AM$9,0),2))","v":""}]
[null,null,"","",{"$f":"IF(T234=\"\",\"\",INDEX(referentes!G:H,MATCH(T234,referentes!H:H,0),1))","v":""},{"$f":"IF(V234=\"\",\"\",INDEX(referentes!$M:$N,MATCH(V234,referentes!$N:$N,0),1))","v":""},{"$f":"IF(W234=\"\",\"\",INDEX(referentes!J:K,MATCH(W234,referentes!K:K,0),1))","v":""},null,{"$f":"IF(Y234<>\"\",CONCATENATE($A$3,P234,DIGITADOR!$M$1,Y234,ROW()),\"\")","v":""},{"$f":"IF(Y234<>\"\",CONCATENATE(P234,INT(Q234*1440),DIGITADOR!$M$1,Y234),\"\")","v":""},null,{"$f":"IF(AO234<>\"\",INDEX(referentes!$Y:$Z,MATCH(DATOS!AO234,referentes!$Z:$Z,0),1),\"\")","v":""},"","",{"$f":"IF(R234=\"\",\"\",INDEX(referentes!D:E,MATCH(R234,referentes!E:E,0),1))","v":""},null,null,null,null,null,null,null,null,null,{"$f":"IF(X234=\"\",\"\",INDEX(referentes!$AT:$AX,MATCH(X234,referentes!$AX:$AX,0),1))","v":""},null,null,{"$f":"IF(AC234=\"\",\"\",INDEX(referentes!AZ:BA,MATCH(AC234,referentes!BA:BA,0),1))","v":""},null,null,null,null,null,null,null,null,null,null,null,null,null,null,{"$f":"IF(N234<>\"\",INDEX(referentes!$AK:$AM,MATCH(DATOS!M234,referentes!$AK:$AK,0),3),\"\")","v":""},null,null,{"$f":"IF(AS234=\"\",\"\",INDEX(referentes!P:Q,MATCH(AS234,referentes!Q:Q,0),1))","v":""},null,null,null,{"$f":"IF(AY234=\"\",\"\",INDEX(referentes!AB:AC,MATCH(AY234,referentes!AC:AC,0),1))","v":""},null,{"$f":"IF(BA234=\"\",\"\",INDEX(referentes!S:T,MATCH(BA234,referentes!T:T,0),1))","v":""},null,null,{"$f":"IF(AA234=\"\",\"\",INDEX(OtrasReferencias!$AM$7:$AN$9,MATCH(AA234,OtrasReferencias!$AM$7:$AM$9,0),2))","v":""}]
[null,null,"","",{"$f":"IF(T235=\"\",\"\",INDEX(referentes!G:H,MATCH(T235,referentes!H:H,0),1))","v":""},{"$f":"IF(V235=\"\",\"\",INDEX(referentes!$M:$N,MATCH(V235,referentes!$N:$N,0),1))","v":""},{"$f":"IF(W235=\"\",\"\",INDEX(referentes!J:K,MATCH(W235,referentes!K:K,0),1))","v":""},null,{"$f":"IF(Y235<>\"\",CONCATENATE($A$3,P235,DIGITADOR!$M$1,Y235,ROW()),\"\")","v":""},{"$f":"IF(Y235<>\"\",CONCATENATE(P235,INT(Q235*1440),DIGITADOR!$M$1,Y235),\"\")","v":""},null,{"$f":"IF(AO235<>\"\",INDEX(referentes!$Y:$Z,MATCH(DATOS!AO235,referentes!$Z:$Z,0),1),\"\")","v":""},"","",{"$f":"IF(R235=\"\",\"\",INDEX(referentes!D:E,MATCH(R235,referentes!E:E,0),1))","v":""},null,null,null,null,null,null,null,null,null,{"$f":"IF(X235=\"\",\"\",INDEX(referentes!$AT:$AX,MATCH(X235,referentes!$AX:$AX,0),1))","v":""},null,null,{"$f":"IF(AC235=\"\",\"\",INDEX(referentes!AZ:BA,MATCH(AC235,referentes!BA:BA,0),1))","v":""},null,null,null,null,null,null,null,null,null,null,null,null,null,null,{"$f":"IF(N235<>\"\",INDEX(referentes!$AK:$AM,MATCH(DATOS!M235,referentes!$AK:$AK,0),3),\"\")","v":""},null,null,{"$f":"IF(AS235=\"\",\"\",INDEX(referentes!P:Q,MATCH(AS235,referentes!Q:Q,0),1))","v":""},null,null,null,{"$f":"IF(AY235=\"\",\"\",INDEX(referentes!AB:AC,MATCH(AY235,referentes!AC:AC,0),1))","v":""},null,{"$f":"IF(BA235=\"\",\"\",INDEX(referentes!S:T,MATCH(BA235,referentes!T:T,0),1))","v":""},null,null,{"$f":"IF(AA235=\"\",\"\",INDEX(OtrasReferencias!$AM$7:$AN$9,MATCH(AA235,OtrasReferencias!$AM$7:$AM$9,0),2))","v":""}]
[null,null,"","",{"$f":"IF(T236=\"\",\"\",INDEX(referentes!G:H,MATCH(T236,referentes!H:H,0),1))","v":""},{"$f":"IF(V236=\"\",\"\",INDEX(referentes!$M:$N,MATCH(V236,referentes!$N:$N,0),1))","v":""},{"$f":"IF(W236=\"\",\"\",INDEX(referentes!J:K,MATCH(W236,referentes!K:K,0),1))","v":""},null,{"$f":"IF(Y236<>\"\",CONCATENATE($A$3,P236,DIGITADOR!$M$1,Y236,ROW()),\"\")","v":""},{"$f":"IF(Y236<>\"\",CONCATENATE(P236,INT(Q236*1440),DIGITADOR!$M$1,Y236),\"\")","v":""},null,{"$f":"IF(AO236<>\"\",INDEX(referentes!$Y:$Z,MATCH(DATOS!AO236,referentes!$Z:$Z,0),1),\"\")","v":""},"","",{"$f":"IF(R236=\"\",\"\",INDEX(referentes!D:E,MATCH(R236,referentes!E:E,0),1))","v":""},null,null,null,null,null,null,null,null,null,{"$f":"IF(X236=\"\",\"\",INDEX(referentes!$AT:$AX,MATCH(X236,referentes!$AX:$AX,0),1))","v":""},null,null,{"$f":"IF(AC236=\"\",\"\",INDEX(referentes!AZ:BA,MATCH(AC236,referentes!BA:BA,0),1))","v":""},null,null,null,null,null,null,null,null,null,null,null,null,null,null,{"$f":"IF(N236<>\"\",INDEX(referentes!$AK:$AM,MATCH(DATOS!M236,referentes!$AK:$AK,0),3),\"\")","v":""},null,null,{"$f":"IF(AS236=\"\",\"\",INDEX(referentes!P:Q,MATCH(AS236,referentes!Q:Q,0),1))","v":""},null,null,null,{"$f":"IF(AY236=\"\",\"\",INDEX(referentes!AB:AC,MATCH(AY236,referentes!AC:AC,0),1))","v":""},null,{"$f":"IF(BA236=\"\",\"\",INDEX(referentes!S:T,MATCH(BA236,referentes!T:T,0),1))","v":""},null,null,{"$f":"IF(AA236=\"\",\"\",INDEX(OtrasReferencias!$AM$7:$AN$9,MATCH(AA236,OtrasReferencias!$AM$7:$AM$9,0),2))","v":""}]
[null,null,"","",{"$f":"IF(T237=\"\",\"\",INDEX(referentes!G:H,MATCH(T237,referentes!H:H,0),1))","v":""},{"$f":"IF(V237=\"\",\"\",INDEX(referentes!$M:$N,MATCH(V237,referentes!$N:$N,0),1))","v":""},{"$f":"IF(W237=\"\",\"\",INDEX(referentes!J:K,MATCH(W237,referentes!K:K,0),1))","v":""},null,{"$f":"IF(Y237<>\"\",CONCATENATE($A$3,P237,DIGITADOR!$M$1,Y237,ROW()),\"\")","v":""},{"$f":"IF(Y237<>\"\",CONCATENATE(P237,INT(Q237*1440),DIGITADOR!$M$1,Y237),\"\")","v":""},null,{"$f":"IF(AO237<>\"\",INDEX(referentes!$Y:$Z,MATCH(DATOS!AO237,referentes!$Z:$Z,0),1),\"\")","v":""},"","",{"$f":"IF(R237=\"\",\"\",INDEX(referentes!D:E,MATCH(R237,referentes!E:E,0),1))","v":""},null,null,null,null,null,null,null,null,null,{"$f":"IF(X237=\"\",\"\",INDEX(referentes!$AT:$AX,MATCH(X237,referentes!$AX:$AX,0),1))","v":""},null,null,{"$f":"IF(AC237=\"\",\"\",INDEX(referentes!AZ:BA,MATCH(AC237,referentes!BA:BA,0),1))","v":""},null,null,null,null,null,null,null,null,null,null,null,null,null,null,{"$f":"IF(N237<>\"\",INDEX(referentes!$AK:$AM,MATCH(DATOS!M237,referentes!$AK:$AK,0),3),\"\")","v":""},null,null,{"$f":"IF(AS237=\"\",\"\",INDEX(referentes!P:Q,MATCH(AS237,referentes!Q:Q,0),1))","v":""},null,null,null,{"$f":"IF(AY237=\"\",\"\",INDEX(referentes!AB:AC,MATCH(AY237,referentes!AC:AC,0),1))","v":""},null,{"$f":"IF(BA237=\"\",\"\",INDEX(referentes!S:T,MATCH(BA237,referentes!T:T,0),1))","v":""},null,null,{"$f":"IF(AA237=\"\",\"\",INDEX(OtrasReferencias!$AM$7:$AN$9,MATCH(AA237,OtrasReferencias!$AM$7:$AM$9,0),2))","v":""}]
[null,null,"","",{"$f":"IF(T238=\"\",\"\",INDEX(referentes!G:H,MATCH(T238,referentes!H:H,0),1))","v":""},{"$f":"IF(V238=\"\",\"\",INDEX(referentes!$M:$N,MATCH(V238,referentes!$N:$N,0),1))","v":""},{"$f":"IF(W238=\"\",\"\",INDEX(referentes!J:K,MATCH(W238,referentes!K:K,0),1))","v":""},null,{"$f":"IF(Y238<>\"\",CONCATENATE($A$3,P238,DIGITADOR!$M$1,Y238,ROW()),\"\")","v":""},{"$f":"IF(Y238<>\"\",CONCATENATE(P238,INT(Q238*1440),DIGITADOR!$M$1,Y238),\"\")","v":""},null,{"$f":"IF(AO238<>\"\",INDEX(referentes!$Y:$Z,MATCH(DATOS!AO238,referentes!$Z:$Z,0),1),\"\")","v":""},"","",{"$f":"IF(R238=\"\",\"\",INDEX(referentes!D:E,MATCH(R238,referentes!E:E,0),1))","v":""},null,null,null,null,null,null,null,null,null,{"$f":"IF(X238=\"\",\"\",INDEX(referentes!$AT:$AX,MATCH(X238,referentes!$AX:$AX,0),1))","v":""},null,null,{"$f":"IF(AC238=\"\",\"\",INDEX(referentes!AZ:BA,MATCH(AC238,referentes!BA:BA,0),1))","v":""},null,null,null,null,null,null,null,null,null,null,null,null,null,null,{"$f":"IF(N238<>\"\",INDEX(referentes!$AK:$AM,MATCH(DATOS!M238,referentes!$AK:$AK,0),3),\"\")","v":""},null,null,{"$f":"IF(AS238=\"\",\"\",INDEX(referentes!P:Q,MATCH(AS238,referentes!Q:Q,0),1))","v":""},null,null,null,{"$f":"IF(AY238=\"\",\"\",INDEX(referentes!AB:AC,MATCH(AY238,referentes!AC:AC,0),1))","v":""},null,{"$f":"IF(BA238=\"\",\"\",INDEX(referentes!S:T,MATCH(BA238,referentes!T:T,0),1))","v":""},null,null,{"$f":"IF(AA238=\"\",\"\",INDEX(OtrasReferencias!$AM$7:$AN$9,MATCH(AA238,OtrasReferencias!$AM$7:$AM$9,0),2))","v":""}]
[null,null,"","",{"$f":"IF(T239=\"\",\"\",INDEX(referentes!G:H,MATCH(T239,referentes!H:H,0),1))","v":""},{"$f":"IF(V239=\"\",\"\",INDEX(referentes!$M:$N,MATCH(V239,referentes!$N:$N,0),1))","v":""},{"$f":"IF(W239=\"\",\"\",INDEX(referentes!J:K,MATCH(W239,referentes!K:K,0),1))","v":""},null,{"$f":"IF(Y239<>\"\",CONCATENATE($A$3,P239,DIGITADOR!$M$1,Y239,ROW()),\"\")","v":""},{"$f":"IF(Y239<>\"\",CONCATENATE(P239,INT(Q239*1440),DIGITADOR!$M$1,Y239),\"\")","v":""},null,{"$f":"IF(AO239<>\"\",INDEX(referentes!$Y:$Z,MATCH(DATOS!AO239,referentes!$Z:$Z,0),1),\"\")","v":""},"","",{"$f":"IF(R239=\"\",\"\",INDEX(referentes!D:E,MATCH(R239,referentes!E:E,0),1))","v":""},null,null,null,null,null,null,null,null,null,{"$f":"IF(X239=\"\",\"\",INDEX(referentes!$AT:$AX,MATCH(X239,referentes!$AX:$AX,0),1))","v":""},null,null,{"$f":"IF(AC239=\"\",\"\",INDEX(referentes!AZ:BA,MATCH(AC239,referentes!BA:BA,0),1))","v":""},null,null,null,null,null,null,null,null,null,null,null,null,null,null,{"$f":"IF(N239<>\"\",INDEX(referentes!$AK:$AM,MATCH(DATOS!M239,referentes!$AK:$AK,0),3),\"\")","v":""},null,null,{"$f":"IF(AS239=\"\",\"\",INDEX(referentes!P:Q,MATCH(AS239,referentes!Q:Q,0),1))","v":""},null,null,null,{"$f":"IF(AY239=\"\",\"\",INDEX(referentes!AB:AC,MATCH(AY239,referentes!AC:AC,0),1))","v":""},null,{"$f":"IF(BA239=\"\",\"\",INDEX(referentes!S:T,MATCH(BA239,referentes!T:T,0),1))","v":""},null,null,{"$f":"IF(AA239=\"\",\"\",INDEX(OtrasReferencias!$AM$7:$AN$9,MATCH(AA239,OtrasReferencias!$AM$7:$AM$9,0),2))","v":""}]
[null,null,"","",{"$f":"IF(T240=\"\",\"\",INDEX(referentes!G:H,MATCH(T240,referentes!H:H,0),1))","v":""},{"$f":"IF(V240=\"\",\"\",INDEX(referentes!$M:$N,MATCH(V240,referentes!$N:$N,0),1))","v":""},{"$f":"IF(W240=\"\",\"\",INDEX(referentes!J:K,MATCH(W240,referentes!K:K,0),1))","v":""},null,{"$f":"IF(Y240<>\"\",CONCATENATE($A$3,P240,DIGITADOR!$M$1,Y240,ROW()),\"\")","v":""},{"$f":"IF(Y240<>\"\",CONCATENATE(P240,INT(Q240*1440),DIGITADOR!$M$1,Y240),\"\")","v":""},null,{"$f":"IF(AO240<>\"\",INDEX(referentes!$Y:$Z,MATCH(DATOS!AO240,referentes!$Z:$Z,0),1),\"\")","v":""},"","",{"$f":"IF(R240=\"\",\"\",INDEX(referentes!D:E,MATCH(R240,referentes!E:E,0),1))","v":""},null,null,null,null,null,null,null,null,null,{"$f":"IF(X240=\"\",\"\",INDEX(referentes!$AT:$AX,MATCH(X240,referentes!$AX:$AX,0),1))","v":""},null,null,{"$f":"IF(AC240=\"\",\"\",INDEX(referentes!AZ:BA,MATCH(AC240,referentes!BA:BA,0),1))","v":""},null,null,null,null,null,null,null,null,null,null,null,null,null,null,{"$f":"IF(N240<>\"\",INDEX(referentes!$AK:$AM,MATCH(DATOS!M240,referentes!$AK:$AK,0),3),\"\")","v":""},null,null,{"$f":"IF(AS240=\"\",\"\",INDEX(referentes!P:Q,MATCH(AS240,referentes!Q:Q,0),1))","v":""},null,null,null,{"$f":"IF(AY240=\"\",\"\",INDEX(referentes!AB:AC,MATCH(AY240,referentes!AC:AC,0),1))","v":""},null,{"$f":"IF(BA240=\"\",\"\",INDEX(referentes!S:T,MATCH(BA240,referentes!T:T,0),1))","v":""},null,null,{"$f":"IF(AA240=\"\",\"\",INDEX(OtrasReferencias!$AM$7:$AN$9,MATCH(AA240,OtrasReferencias!$AM$7:$AM$9,0),2))","v":""}]
[null,null,"","",{"$f":"IF(T241=\"\",\"\",INDEX(referentes!G:H,MATCH(T241,referentes!H:H,0),1))","v":""},{"$f":"IF(V241=\"\",\"\",INDEX(referentes!$M:$N,MATCH(V241,referentes!$N:$N,0),1))","v":""},{"$f":"IF(W241=\"\",\"\",INDEX(referentes!J:K,MATCH(W241,referentes!K:K,0),1))","v":""},null,{"$f":"IF(Y241<>\"\",CONCATENATE($A$3,P241,DIGITADOR!$M$1,Y241,ROW()),\"\")","v":""},{"$f":"IF(Y241<>\"\",CONCATENATE(P241,INT(Q241*1440),DIGITADOR!$M$1,Y241),\"\")","v":""},null,{"$f":"IF(AO241<>\"\",INDEX(referentes!$Y:$Z,MATCH(DATOS!AO241,referentes!$Z:$Z,0),1),\"\")","v":""},"","",{"$f":"IF(R241=\"\",\"\",INDEX(referentes!D:E,MATCH(R241,referentes!E:E,0),1))","v":""},null,null,null,null,null,null,null,null,null,{"$f":"IF(X241=\"\",\"\",INDEX(referentes!$AT:$AX,MATCH(X241,referentes!$AX:$AX,0),1))","v":""},null,null,{"$f":"IF(AC241=\"\",\"\",INDEX(referentes!AZ:BA,MATCH(AC241,referentes!BA:BA,0),1))","v":""},null,null,null,null,null,null,null,null,null,null,null,null,null,null,{"$f":"IF(N241<>\"\",INDEX(referentes!$AK:$AM,MATCH(DATOS!M241,referentes!$AK:$AK,0),3),\"\")","v":""},null,null,{"$f":"IF(AS241=\"\",\"\",INDEX(referentes!P:Q,MATCH(AS241,referentes!Q:Q,0),1))","v":""},null,null,null,{"$f":"IF(AY241=\"\",\"\",INDEX(referentes!AB:AC,MATCH(AY241,referentes!AC:AC,0),1))","v":""},null,{"$f":"IF(BA241=\"\",\"\",INDEX(referentes!S:T,MATCH(BA241,referentes!T:T,0),1))","v":""},null,null,{"$f":"IF(AA241=\"\",\"\",INDEX(OtrasReferencias!$AM$7:$AN$9,MATCH(AA241,OtrasReferencias!$AM$7:$AM$9,0),2))","v":""}]
[null,null,"","",{"$f":"IF(T242=\"\",\"\",INDEX(referentes!G:H,MATCH(T242,referentes!H:H,0),1))","v":""},{"$f":"IF(V242=\"\",\"\",INDEX(referentes!$M:$N,MATCH(V242,referentes!$N:$N,0),1))","v":""},{"$f":"IF(W242=\"\",\"\",INDEX(referentes!J:K,MATCH(W242,referentes!K:K,0),1))","v":""},null,{"$f":"IF(Y242<>\"\",CONCATENATE($A$3,P242,DIGITADOR!$M$1,Y242,ROW()),\"\")","v":""},{"$f":"IF(Y242<>\"\",CONCATENATE(P242,INT(Q242*1440),DIGITADOR!$M$1,Y242),\"\")","v":""},null,{"$f":"IF(AO242<>\"\",INDEX(referentes!$Y:$Z,MATCH(DATOS!AO242,referentes!$Z:$Z,0),1),\"\")","v":""},"","",{"$f":"IF(R242=\"\",\"\",INDEX(referentes!D:E,MATCH(R242,referentes!E:E,0),1))","v":""},null,null,null,null,null,null,null,null,null,{"$f":"IF(X242=\"\",\"\",INDEX(referentes!$AT:$AX,MATCH(X242,referentes!$AX:$AX,0),1))","v":""},null,null,{"$f":"IF(AC242=\"\",\"\",INDEX(referentes!AZ:BA,MATCH(AC242,referentes!BA:BA,0),1))","v":""},null,null,null,null,null,null,null,null,null,null,null,null,null,null,{"$f":"IF(N242<>\"\",INDEX(referentes!$AK:$AM,MATCH(DATOS!M242,referentes!$AK:$AK,0),3),\"\")","v":""},null,null,{"$f":"IF(AS242=\"\",\"\",INDEX(referentes!P:Q,MATCH(AS242,referentes!Q:Q,0),1))","v":""},null,null,null,{"$f":"IF(AY242=\"\",\"\",INDEX(referentes!AB:AC,MATCH(AY242,referentes!AC:AC,0),1))","v":""},null,{"$f":"IF(BA242=\"\",\"\",INDEX(referentes!S:T,MATCH(BA242,referentes!T:T,0),1))","v":""},null,null,{"$f":"IF(AA242=\"\",\"\",INDEX(OtrasReferencias!$AM$7:$AN$9,MATCH(AA242,OtrasReferencias!$AM$7:$AM$9,0),2))","v":""}]
[null,null,"","",{"$f":"IF(T243=\"\",\"\",INDEX(referentes!G:H,MATCH(T243,referentes!H:H,0),1))","v":""},{"$f":"IF(V243=\"\",\"\",INDEX(referentes!$M:$N,MATCH(V243,referentes!$N:$N,0),1))","v":""},{"$f":"IF(W243=\"\",\"\",INDEX(referentes!J:K,MATCH(W243,referentes!K:K,0),1))","v":""},null,{"$f":"IF(Y243<>\"\",CONCATENATE($A$3,P243,DIGITADOR!$M$1,Y243,ROW()),\"\")","v":""},{"$f":"IF(Y243<>\"\",CONCATENATE(P243,INT(Q243*1440),DIGITADOR!$M$1,Y243),\"\")","v":""},null,{"$f":"IF(AO243<>\"\",INDEX(referentes!$Y:$Z,MATCH(DATOS!AO243,referentes!$Z:$Z,0),1),\"\")","v":""},"","",{"$f":"IF(R243=\"\",\"\",INDEX(referentes!D:E,MATCH(R243,referentes!E:E,0),1))","v":""},null,null,null,null,null,null,null,null,null,{"$f":"IF(X243=\"\",\"\",INDEX(referentes!$AT:$AX,MATCH(X243,referentes!$AX:$AX,0),1))","v":""},null,null,{"$f":"IF(AC243=\"\",\"\",INDEX(referentes!AZ:BA,MATCH(AC243,referentes!BA:BA,0),1))","v":""},null,null,null,null,null,null,null,null,null,null,null,null,null,null,{"$f":"IF(N243<>\"\",INDEX(referentes!$AK:$AM,MATCH(DATOS!M243,referentes!$AK:$AK,0),3),\"\")","v":""},null,null,{"$f":"IF(AS243=\"\",\"\",INDEX(referentes!P:Q,MATCH(AS243,referentes!Q:Q,0),1))","v":""},null,null,null,{"$f":"IF(AY243=\"\",\"\",INDEX(referentes!AB:AC,MATCH(AY243,referentes!AC:AC,0),1))","v":""},null,{"$f":"IF(BA243=\"\",\"\",INDEX(referentes!S:T,MATCH(BA243,referentes!T:T,0),1))","v":""},null,null,{"$f":"IF(AA243=\"\",\"\",INDEX(OtrasReferencias!$AM$7:$AN$9,MATCH(AA243,OtrasReferencias!$AM$7:$AM$9,0),2))","v":""}]
[null,null,"","",{"$f":"IF(T244=\"\",\"\",INDEX(referentes!G:H,MATCH(T244,referentes!H:H,0),1))","v":""},{"$f":"IF(V244=\"\",\"\",INDEX(referentes!$M:$N,MATCH(V244,referentes!$N:$N,0),1))","v":""},{"$f":"IF(W244=\"\",\"\",INDEX(referentes!J:K,MATCH(W244,referentes!K:K,0),1))","v":""},null,{"$f":"IF(Y244<>\"\",CONCATENATE($A$3,P244,DIGITADOR!$M$1,Y244,ROW()),\"\")","v":""},{"$f":"IF(Y244<>\"\",CONCATENATE(P244,INT(Q244*1440),DIGITADOR!$M$1,Y244),\"\")","v":""},null,{"$f":"IF(AO244<>\"\",INDEX(referentes!$Y:$Z,MATCH(DATOS!AO244,referentes!$Z:$Z,0),1),\"\")","v":""},"","",{"$f":"IF(R244=\"\",\"\",INDEX(referentes!D:E,MATCH(R244,referentes!E:E,0),1))","v":""},null,null,null,null,null,null,null,null,null,{"$f":"IF(X244=\"\",\"\",INDEX(referentes!$AT:$AX,MATCH(X244,referentes!$AX:$AX,0),1))","v":""},null,null,{"$f":"IF(AC244=\"\",\"\",INDEX(referentes!AZ:BA,MATCH(AC244,referentes!BA:BA,0),1))","v":""},null,null,null,null,null,null,null,null,null,null,null,null,null,null,{"$f":"IF(N244<>\"\",INDEX(referentes!$AK:$AM,MATCH(DATOS!M244,referentes!$AK:$AK,0),3),\"\")","v":""},null,null,{"$f":"IF(AS244=\"\",\"\",INDEX(referentes!P:Q,MATCH(AS244,referentes!Q:Q,0),1))","v":""},null,null,null,{"$f":"IF(AY244=\"\",\"\",INDEX(referentes!AB:AC,MATCH(AY244,referentes!AC:AC,0),1))","v":""},null,{"$f":"IF(BA244=\"\",\"\",INDEX(referentes!S:T,MATCH(BA244,referentes!T:T,0),1))","v":""},null,null,{"$f":"IF(AA244=\"\",\"\",INDEX(OtrasReferencias!$AM$7:$AN$9,MATCH(AA244,OtrasReferencias!$AM$7:$AM$9,0),2))","v":""}]
[null,null,"","",{"$f":"IF(T245=\"\",\"\",INDEX(referentes!G:H,MATCH(T245,referentes!H:H,0),1))","v":""},{"$f":"IF(V245=\"\",\"\",INDEX(referentes!$M:$N,MATCH(V245,referentes!$N:$N,0),1))","v":""},{"$f":"IF(W245=\"\",\"\",INDEX(referentes!J:K,MATCH(W245,referentes!K:K,0),1))","v":""},null,{"$f":"IF(Y245<>\"\",CONCATENATE($A$3,P245,DIGITADOR!$M$1,Y245,ROW()),\"\")","v":""},{"$f":"IF(Y245<>\"\",CONCATENATE(P245,INT(Q245*1440),DIGITADOR!$M$1,Y245),\"\")","v":""},null,{"$f":"IF(AO245<>\"\",INDEX(referentes!$Y:$Z,MATCH(DATOS!AO245,referentes!$Z:$Z,0),1),\"\")","v":""},"","",{"$f":"IF(R245=\"\",\"\",INDEX(referentes!D:E,MATCH(R245,referentes!E:E,0),1))","v":""},null,null,null,null,null,null,null,null,null,{"$f":"IF(X245=\"\",\"\",INDEX(referentes!$AT:$AX,MATCH(X245,referentes!$AX:$AX,0),1))","v":""},null,null,{"$f":"IF(AC245=\"\",\"\",INDEX(referentes!AZ:BA,MATCH(AC245,referentes!BA:BA,0),1))","v":""},null,null,null,null,null,null,null,null,null,null,null,null,null,null,{"$f":"IF(N245<>\"\",INDEX(referentes!$AK:$AM,MATCH(DATOS!M245,referentes!$AK:$AK,0),3),\"\")","v":""},null,null,{"$f":"IF(AS245=\"\",\"\",INDEX(referentes!P:Q,MATCH(AS245,referentes!Q:Q,0),1))","v":""},null,null,null,{"$f":"IF(AY245=\"\",\"\",INDEX(referentes!AB:AC,MATCH(AY245,referentes!AC:AC,0),1))","v":""},null,{"$f":"IF(BA245=\"\",\"\",INDEX(referentes!S:T,MATCH(BA245,referentes!T:T,0),1))","v":""},null,null,{"$f":"IF(AA245=\"\",\"\",INDEX(OtrasReferencias!$AM$7:$AN$9,MATCH(AA245,OtrasReferencias!$AM$7:$AM$9,0),2))","v":""}]
[null,null,"","",{"$f":"IF(T246=\"\",\"\",INDEX(referentes!G:H,MATCH(T246,referentes!H:H,0),1))","v":""},{"$f":"IF(V246=\"\",\"\",INDEX(referentes!$M:$N,MATCH(V246,referentes!$N:$N,0),1))","v":""},{"$f":"IF(W246=\"\",\"\",INDEX(referentes!J:K,MATCH(W246,referentes!K:K,0),1))","v":""},null,{"$f":"IF(Y246<>\"\",CONCATENATE($A$3,P246,DIGITADOR!$M$1,Y246,ROW()),\"\")","v":""},{"$f":"IF(Y246<>\"\",CONCATENATE(P246,INT(Q246*1440),DIGITADOR!$M$1,Y246),\"\")","v":""},null,{"$f":"IF(AO246<>\"\",INDEX(referentes!$Y:$Z,MATCH(DATOS!AO246,referentes!$Z:$Z,0),1),\"\")","v":""},"","",{"$f":"IF(R246=\"\",\"\",INDEX(referentes!D:E,MATCH(R246,referentes!E:E,0),1))","v":""},null,null,null,null,null,null,null,null,null,{"$f":"IF(X246=\"\",\"\",INDEX(referentes!$AT:$AX,MATCH(X246,referentes!$AX:$AX,0),1))","v":""},null,null,{"$f":"IF(AC246=\"\",\"\",INDEX(referentes!AZ:BA,MATCH(AC246,referentes!BA:BA,0),1))","v":""},null,null,null,null,null,null,null,null,null,null,null,null,null,null,{"$f":"IF(N246<>\"\",INDEX(referentes!$AK:$AM,MATCH(DATOS!M246,referentes!$AK:$AK,0),3),\"\")","v":""},null,null,{"$f":"IF(AS246=\"\",\"\",INDEX(referentes!P:Q,MATCH(AS246,referentes!Q:Q,0),1))","v":""},null,null,null,{"$f":"IF(AY246=\"\",\"\",INDEX(referentes!AB:AC,MATCH(AY246,referentes!AC:AC,0),1))","v":""},null,{"$f":"IF(BA246=\"\",\"\",INDEX(referentes!S:T,MATCH(BA246,referentes!T:T,0),1))","v":""},null,null,{"$f":"IF(AA246=\"\",\"\",INDEX(OtrasReferencias!$AM$7:$AN$9,MATCH(AA246,OtrasReferencias!$AM$7:$AM$9,0),2))","v":""}]
[null,null,"","",{"$f":"IF(T247=\"\",\"\",INDEX(referentes!G:H,MATCH(T247,referentes!H:H,0),1))","v":""},{"$f":"IF(V247=\"\",\"\",INDEX(referentes!$M:$N,MATCH(V247,referentes!$N:$N,0),1))","v":""},{"$f":"IF(W247=\"\",\"\",INDEX(referentes!J:K,MATCH(W247,referentes!K:K,0),1))","v":""},null,{"$f":"IF(Y247<>\"\",CONCATENATE($A$3,P247,DIGITADOR!$M$1,Y247,ROW()),\"\")","v":""},{"$f":"IF(Y247<>\"\",CONCATENATE(P247,INT(Q247*1440),DIGITADOR!$M$1,Y247),\"\")","v":""},null,{"$f":"IF(AO247<>\"\",INDEX(referentes!$Y:$Z,MATCH(DATOS!AO247,referentes!$Z:$Z,0),1),\"\")","v":""},"","",{"$f":"IF(R247=\"\",\"\",INDEX(referentes!D:E,MATCH(R247,referentes!E:E,0),1))","v":""},null,null,null,null,null,null,null,null,null,{"$f":"IF(X247=\"\",\"\",INDEX(referentes!$AT:$AX,MATCH(X247,referentes!$AX:$AX,0),1))","v":""},null,null,{"$f":"IF(AC247=\"\",\"\",INDEX(referentes!AZ:BA,MATCH(AC247,referentes!BA:BA,0),1))","v":""},null,null,null,null,null,null,null,null,null,null,null,null,null,null,{"$f":"IF(N247<>\"\",INDEX(referentes!$AK:$AM,MATCH(DATOS!M247,referentes!$AK:$AK,0),3),\"\")","v":""},null,null,{"$f":"IF(AS247=\"\",\"\",INDEX(referentes!P:Q,MATCH(AS247,referentes!Q:Q,0),1))","v":""},null,null,null,{"$f":"IF(AY247=\"\",\"\",INDEX(referentes!AB:AC,MATCH(AY247,referentes!AC:AC,0),1))","v":""},null,{"$f":"IF(BA247=\"\",\"\",INDEX(referentes!S:T,MATCH(BA247,referentes!T:T,0),1))","v":""},null,null,{"$f":"IF(AA247=\"\",\"\",INDEX(OtrasReferencias!$AM$7:$AN$9,MATCH(AA247,OtrasReferencias!$AM$7:$AM$9,0),2))","v":""}]
[null,null,"","",{"$f":"IF(T248=\"\",\"\",INDEX(referentes!G:H,MATCH(T248,referentes!H:H,0),1))","v":""},{"$f":"IF(V248=\"\",\"\",INDEX(referentes!$M:$N,MATCH(V248,referentes!$N:$N,0),1))","v":""},{"$f":"IF(W248=\"\",\"\",INDEX(referentes!J:K,MATCH(W248,referentes!K:K,0),1))","v":""},null,{"$f":"IF(Y248<>\"\",CONCATENATE($A$3,P248,DIGITADOR!$M$1,Y248,ROW()),\"\")","v":""},{"$f":"IF(Y248<>\"\",CONCATENATE(P248,INT(Q248*1440),DIGITADOR!$M$1,Y248),\"\")","v":""},null,{"$f":"IF(AO248<>\"\",INDEX(referentes!$Y:$Z,MATCH(DATOS!AO248,referentes!$Z:$Z,0),1),\"\")","v":""},"","",{"$f":"IF(R248=\"\",\"\",INDEX(referentes!D:E,MATCH(R248,referentes!E:E,0),1))","v":""},null,null,null,null,null,null,null,null,null,{"$f":"IF(X248=\"\",\"\",INDEX(referentes!$AT:$AX,MATCH(X248,referentes!$AX:$AX,0),1))","v":""},null,null,{"$f":"IF(AC248=\"\",\"\",INDEX(referentes!AZ:BA,MATCH(AC248,referentes!BA:BA,0),1))","v":""},null,null,null,null,null,null,null,null,null,null,null,null,null,null,{"$f":"IF(N248<>\"\",INDEX(referentes!$AK:$AM,MATCH(DATOS!M248,referentes!$AK:$AK,0),3),\"\")","v":""},null,null,{"$f":"IF(AS248=\"\",\"\",INDEX(referentes!P:Q,MATCH(AS248,referentes!Q:Q,0),1))","v":""},null,null,null,{"$f":"IF(AY248=\"\",\"\",INDEX(referentes!AB:AC,MATCH(AY248,referentes!AC:AC,0),1))","v":""},null,{"$f":"IF(BA248=\"\",\"\",INDEX(referentes!S:T,MATCH(BA248,referentes!T:T,0),1))","v":""},null,null,{"$f":"IF(AA248=\"\",\"\",INDEX(OtrasReferencias!$AM$7:$AN$9,MATCH(AA248,OtrasReferencias!$AM$7:$AM$9,0),2))","v":""}]
[null,null,"","",{"$f":"IF(T249=\"\",\"\",INDEX(referentes!G:H,MATCH(T249,referentes!H:H,0),1))","v":""},{"$f":"IF(V249=\"\",\"\",INDEX(referentes!$M:$N,MATCH(V249,referentes!$N:$N,0),1))","v":""},{"$f":"IF(W249=\"\",\"\",INDEX(referentes!J:K,MATCH(W249,referentes!K:K,0),1))","v":""},null,{"$f":"IF(Y249<>\"\",CONCATENATE($A$3,P249,DIGITADOR!$M$1,Y249,ROW()),\"\")","v":""},{"$f":"IF(Y249<>\"\",CONCATENATE(P249,INT(Q249*1440),DIGITADOR!$M$1,Y249),\"\")","v":""},null,{"$f":"IF(AO249<>\"\",INDEX(referentes!$Y:$Z,MATCH(DATOS!AO249,referentes!$Z:$Z,0),1),\"\")","v":""},"","",{"$f":"IF(R249=\"\",\"\",INDEX(referentes!D:E,MATCH(R249,referentes!E:E,0),1))","v":""},null,null,null,null,null,null,null,null,null,{"$f":"IF(X249=\"\",\"\",INDEX(referentes!$AT:$AX,MATCH(X249,referentes!$AX:$AX,0),1))","v":""},null,null,{"$f":"IF(AC249=\"\",\"\",INDEX(referentes!AZ:BA,MATCH(AC249,referentes!BA:BA,0),1))","v":""},null,null,null,null,null,null,null,null,null,null,null,null,null,null,{"$f":"IF(N249<>\"\",INDEX(referentes!$AK:$AM,MATCH(DATOS!M249,referentes!$AK:$AK,0),3),\"\")","v":""},null,null,{"$f":"IF(AS249=\"\",\"\",INDEX(referentes!P:Q,MATCH(AS249,referentes!Q:Q,0),1))","v":""},null,null,null,{"$f":"IF(AY249=\"\",\"\",INDEX(referentes!AB:AC,MATCH(AY249,referentes!AC:AC,0),1))","v":""},null,{"$f":"IF(BA249=\"\",\"\",INDEX(referentes!S:T,MATCH(BA249,referentes!T:T,0),1))","v":""},null,null,{"$f":"IF(AA249=\"\",\"\",INDEX(OtrasReferencias!$AM$7:$AN$9,MATCH(AA249,OtrasReferencias!$AM$7:$AM$9,0),2))","v":""}]
[null,null,"","",{"$f":"IF(T250=\"\",\"\",INDEX(referentes!G:H,MATCH(T250,referentes!H:H,0),1))","v":""},{"$f":"IF(V250=\"\",\"\",INDEX(referentes!$M:$N,MATCH(V250,referentes!$N:$N,0),1))","v":""},{"$f":"IF(W250=\"\",\"\",INDEX(referentes!J:K,MATCH(W250,referentes!K:K,0),1))","v":""},null,{"$f":"IF(Y250<>\"\",CONCATENATE($A$3,P250,DIGITADOR!$M$1,Y250,ROW()),\"\")","v":""},{"$f":"IF(Y250<>\"\",CONCATENATE(P250,INT(Q250*1440),DIGITADOR!$M$1,Y250),\"\")","v":""},null,{"$f":"IF(AO250<>\"\",INDEX(referentes!$Y:$Z,MATCH(DATOS!AO250,referentes!$Z:$Z,0),1),\"\")","v":""},"","",{"$f":"IF(R250=\"\",\"\",INDEX(referentes!D:E,MATCH(R250,referentes!E:E,0),1))","v":""},null,null,null,null,null,null,null,null,null,{"$f":"IF(X250=\"\",\"\",INDEX(referentes!$AT:$AX,MATCH(X250,referentes!$AX:$AX,0),1))","v":""},null,null,{"$f":"IF(AC250=\"\",\"\",INDEX(referentes!AZ:BA,MATCH(AC250,referentes!BA:BA,0),1))","v":""},null,null,null,null,null,null,null,null,null,null,null,null,null,null,{"$f":"IF(N250<>\"\",INDEX(referentes!$AK:$AM,MATCH(DATOS!M250,referentes!$AK:$AK,0),3),\"\")","v":""},null,null,{"$f":"IF(AS250=\"\",\"\",INDEX(referentes!P:Q,MATCH(AS250,referentes!Q:Q,0),1))","v":""},null,null,null,{"$f":"IF(AY250=\"\",\"\",INDEX(referentes!AB:AC,MATCH(AY250,referentes!AC:AC,0),1))","v":""},null,{"$f":"IF(BA250=\"\",\"\",INDEX(referentes!S:T,MATCH(BA250,referentes!T:T,0),1))","v":""},null,null,{"$f":"IF(AA250=\"\",\"\",INDEX(OtrasReferencias!$AM$7:$AN$9,MATCH(AA250,OtrasReferencias!$AM$7:$AM$9,0),2))","v":""}]
[null,null,"","",{"$f":"IF(T251=\"\",\"\",INDEX(referentes!G:H,MATCH(T251,referentes!H:H,0),1))","v":""},{"$f":"IF(V251=\"\",\"\",INDEX(referentes!$M:$N,MATCH(V251,referentes!$N:$N,0),1))","v":""},{"$f":"IF(W251=\"\",\"\",INDEX(referentes!J:K,MATCH(W251,referentes!K:K,0),1))","v":""},null,{"$f":"IF(Y251<>\"\",CONCATENATE($A$3,P251,DIGITADOR!$M$1,Y251,ROW()),\"\")","v":""},{"$f":"IF(Y251<>\"\",CONCATENATE(P251,INT(Q251*1440),DIGITADOR!$M$1,Y251),\"\")","v":""},null,{"$f":"IF(AO251<>\"\",INDEX(referentes!$Y:$Z,MATCH(DATOS!AO251,referentes!$Z:$Z,0),1),\"\")","v":""},"","",{"$f":"IF(R251=\"\",\"\",INDEX(referentes!D:E,MATCH(R251,referentes!E:E,0),1))","v":""},null,null,null,null,null,null,null,null,null,{"$f":"IF(X251=\"\",\"\",INDEX(referentes!$AT:$AX,MATCH(X251,referentes!$AX:$AX,0),1))","v":""},null,null,{"$f":"IF(AC251=\"\",\"\",INDEX(referentes!AZ:BA,MATCH(AC251,referentes!BA:BA,0),1))","v":""},null,null,null,null,null,null,null,null,null,null,null,null,null,null,{"$f":"IF(N251<>\"\",INDEX(referentes!$AK:$AM,MATCH(DATOS!M251,referentes!$AK:$AK,0),3),\"\")","v":""},null,null,{"$f":"IF(AS251=\"\",\"\",INDEX(referentes!P:Q,MATCH(AS251,referentes!Q:Q,0),1))","v":""},null,null,null,{"$f":"IF(AY251=\"\",\"\",INDEX(referentes!AB:AC,MATCH(AY251,referentes!AC:AC,0),1))","v":""},null,{"$f":"IF(BA251=\"\",\"\",INDEX(referentes!S:T,MATCH(BA251,referentes!T:T,0),1))","v":""},null,null,{"$f":"IF(AA251=\"\",\"\",INDEX(OtrasReferencias!$AM$7:$AN$9,MATCH(AA251,OtrasReferencias!$AM$7:$AM$9,0),2))","v":""}]
[null,null,"","",{"$f":"IF(T252=\"\",\"\",INDEX(referentes!G:H,MATCH(T252,referentes!H:H,0),1))","v":""},{"$f":"IF(V252=\"\",\"\",INDEX(referentes!$M:$N,MATCH(V252,referentes!$N:$N,0),1))","v":""},{"$f":"IF(W252=\"\",\"\",INDEX(referentes!J:K,MATCH(W252,referentes!K:K,0),1))","v":""},null,{"$f":"IF(Y252<>\"\",CONCATENATE($A$3,P252,DIGITADOR!$M$1,Y252,ROW()),\"\")","v":""},{"$f":"IF(Y252<>\"\",CONCATENATE(P252,INT(Q252*1440),DIGITADOR!$M$1,Y252),\"\")","v":""},null,{"$f":"IF(AO252<>\"\",INDEX(referentes!$Y:$Z,MATCH(DATOS!AO252,referentes!$Z:$Z,0),1),\"\")","v":""},"","",{"$f":"IF(R252=\"\",\"\",INDEX(referentes!D:E,MATCH(R252,referentes!E:E,0),1))","v":""},null,null,null,null,null,null,null,null,null,{"$f":"IF(X252=\"\",\"\",INDEX(referentes!$AT:$AX,MATCH(X252,referentes!$AX:$AX,0),1))","v":""},null,null,{"$f":"IF(AC252=\"\",\"\",INDEX(referentes!AZ:BA,MATCH(AC252,referentes!BA:BA,0),1))","v":""},null,null,null,null,null,null,null,null,null,null,null,null,null,null,{"$f":"IF(N252<>\"\",INDEX(referentes!$AK:$AM,MATCH(DATOS!M252,referentes!$AK:$AK,0),3),\"\")","v":""},null,null,{"$f":"IF(AS252=\"\",\"\",INDEX(referentes!P:Q,MATCH(AS252,referentes!Q:Q,0),1))","v":""},null,null,null,{"$f":"IF(AY252=\"\",\"\",INDEX(referentes!AB:AC,MATCH(AY252,referentes!AC:AC,0),1))","v":""},null,{"$f":"IF(BA252=\"\",\"\",INDEX(referentes!S:T,MATCH(BA252,referentes!T:T,0),1))","v":""},null,null,{"$f":"IF(AA252=\"\",\"\",INDEX(OtrasReferencias!$AM$7:$AN$9,MATCH(AA252,OtrasReferencias!$AM$7:$AM$9,0),2))","v":""}]
[null,null,"","",{"$f":"IF(T253=\"\",\"\",INDEX(referentes!G:H,MATCH(T253,referentes!H:H,0),1))","v":""},{"$f":"IF(V253=\"\",\"\",INDEX(referentes!$M:$N,MATCH(V253,referentes!$N:$N,0),1))","v":""},{"$f":"IF(W253=\"\",\"\",INDEX(referentes!J:K,MATCH(W253,referentes!K:K,0),1))","v":""},null,{"$f":"IF(Y253<>\"\",CONCATENATE($A$3,P253,DIGITADOR!$M$1,Y253,ROW()),\"\")","v":""},{"$f":"IF(Y253<>\"\",CONCATENATE(P253,INT(Q253*1440),DIGITADOR!$M$1,Y253),\"\")","v":""},null,{"$f":"IF(AO253<>\"\",INDEX(referentes!$Y:$Z,MATCH(DATOS!AO253,referentes!$Z:$Z,0),1),\"\")","v":""},"","",{"$f":"IF(R253=\"\",\"\",INDEX(referentes!D:E,MATCH(R253,referentes!E:E,0),1))","v":""},null,null,null,null,null,null,null,null,null,{"$f":"IF(X253=\"\",\"\",INDEX(referentes!$AT:$AX,MATCH(X253,referentes!$AX:$AX,0),1))","v":""},null,null,{"$f":"IF(AC253=\"\",\"\",INDEX(referentes!AZ:BA,MATCH(AC253,referentes!BA:BA,0),1))","v":""},null,null,null,null,null,null,null,null,null,null,null,null,null,null,{"$f":"IF(N253<>\"\",INDEX(referentes!$AK:$AM,MATCH(DATOS!M253,referentes!$AK:$AK,0),3),\"\")","v":""},null,null,{"$f":"IF(AS253=\"\",\"\",INDEX(referentes!P:Q,MATCH(AS253,referentes!Q:Q,0),1))","v":""},null,null,null,{"$f":"IF(AY253=\"\",\"\",INDEX(referentes!AB:AC,MATCH(AY253,referentes!AC:AC,0),1))","v":""},null,{"$f":"IF(BA253=\"\",\"\",INDEX(referentes!S:T,MATCH(BA253,referentes!T:T,0),1))","v":""},null,null,{"$f":"IF(AA253=\"\",\"\",INDEX(OtrasReferencias!$AM$7:$AN$9,MATCH(AA253,OtrasReferencias!$AM$7:$AM$9,0),2))","v":""}]
[null,null,"","",{"$f":"IF(T254=\"\",\"\",INDEX(referentes!G:H,MATCH(T254,referentes!H:H,0),1))","v":""},{"$f":"IF(V254=\"\",\"\",INDEX(referentes!$M:$N,MATCH(V254,referentes!$N:$N,0),1))","v":""},{"$f":"IF(W254=\"\",\"\",INDEX(referentes!J:K,MATCH(W254,referentes!K:K,0),1))","v":""},null,{"$f":"IF(Y254<>\"\",CONCATENATE($A$3,P254,DIGITADOR!$M$1,Y254,ROW()),\"\")","v":""},{"$f":"IF(Y254<>\"\",CONCATENATE(P254,INT(Q254*1440),DIGITADOR!$M$1,Y254),\"\")","v":""},null,{"$f":"IF(AO254<>\"\",INDEX(referentes!$Y:$Z,MATCH(DATOS!AO254,referentes!$Z:$Z,0),1),\"\")","v":""},"","",{"$f":"IF(R254=\"\",\"\",INDEX(referentes!D:E,MATCH(R254,referentes!E:E,0),1))","v":""},null,null,null,null,null,null,null,null,null,{"$f":"IF(X254=\"\",\"\",INDEX(referentes!$AT:$AX,MATCH(X254,referentes!$AX:$AX,0),1))","v":""},null,null,{"$f":"IF(AC254=\"\",\"\",INDEX(referentes!AZ:BA,MATCH(AC254,referentes!BA:BA,0),1))","v":""},null,null,null,null,null,null,null,null,null,null,null,null,null,null,{"$f":"IF(N254<>\"\",INDEX(referentes!$AK:$AM,MATCH(DATOS!M254,referentes!$AK:$AK,0),3),\"\")","v":""},null,null,{"$f":"IF(AS254=\"\",\"\",INDEX(referentes!P:Q,MATCH(AS254,referentes!Q:Q,0),1))","v":""},null,null,null,{"$f":"IF(AY254=\"\",\"\",INDEX(referentes!AB:AC,MATCH(AY254,referentes!AC:AC,0),1))","v":""},null,{"$f":"IF(BA254=\"\",\"\",INDEX(referentes!S:T,MATCH(BA254,referentes!T:T,0),1))","v":""},null,null,{"$f":"IF(AA254=\"\",\"\",INDEX(OtrasReferencias!$AM$7:$AN$9,MATCH(AA254,OtrasReferencias!$AM$7:$AM$9,0),2))","v":""}]
[null,null,"","",{"$f":"IF(T255=\"\",\"\",INDEX(referentes!G:H,MATCH(T255,referentes!H:H,0),1))","v":""},{"$f":"IF(V255=\"\",\"\",INDEX(referentes!$M:$N,MATCH(V255,referentes!$N:$N,0),1))","v":""},{"$f":"IF(W255=\"\",\"\",INDEX(referentes!J:K,MATCH(W255,referentes!K:K,0),1))","v":""},null,{"$f":"IF(Y255<>\"\",CONCATENATE($A$3,P255,DIGITADOR!$M$1,Y255,ROW()),\"\")","v":""},{"$f":"IF(Y255<>\"\",CONCATENATE(P255,INT(Q255*1440),DIGITADOR!$M$1,Y255),\"\")","v":""},null,{"$f":"IF(AO255<>\"\",INDEX(referentes!$Y:$Z,MATCH(DATOS!AO255,referentes!$Z:$Z,0),1),\"\")","v":""},"","",{"$f":"IF(R255=\"\",\"\",INDEX(referentes!D:E,MATCH(R255,referentes!E:E,0),1))","v":""},null,null,null,null,null,null,null,null,null,{"$f":"IF(X255=\"\",\"\",INDEX(referentes!$AT:$AX,MATCH(X255,referentes!$AX:$AX,0),1))","v":""},null,null,{"$f":"IF(AC255=\"\",\"\",INDEX(referentes!AZ:BA,MATCH(AC255,referentes!BA:BA,0),1))","v":""},null,null,null,null,null,null,null,null,null,null,null,null,null,null,{"$f":"IF(N255<>\"\",INDEX(referentes!$AK:$AM,MATCH(DATOS!M255,referentes!$AK:$AK,0),3),\"\")","v":""},null,null,{"$f":"IF(AS255=\"\",\"\",INDEX(referentes!P:Q,MATCH(AS255,referentes!Q:Q,0),1))","v":""},null,null,null,{"$f":"IF(AY255=\"\",\"\",INDEX(referentes!AB:AC,MATCH(AY255,referentes!AC:AC,0),1))","v":""},null,{"$f":"IF(BA255=\"\",\"\",INDEX(referentes!S:T,MATCH(BA255,referentes!T:T,0),1))","v":""},null,null,{"$f":"IF(AA255=\"\",\"\",INDEX(OtrasReferencias!$AM$7:$AN$9,MATCH(AA255,OtrasReferencias!$AM$7:$AM$9,0),2))","v":""}]
[null,null,"","",{"$f":"IF(T256=\"\",\"\",INDEX(referentes!G:H,MATCH(T256,referentes!H:H,0),1))","v":""},{"$f":"IF(V256=\"\",\"\",INDEX(referentes!$M:$N,MATCH(V256,referentes!$N:$N,0),1))","v":""},{"$f":"IF(W256=\"\",\"\",INDEX(referentes!J:K,MATCH(W256,referentes!K:K,0),1))","v":""},null,{"$f":"IF(Y256<>\"\",CONCATENATE($A$3,P256,DIGITADOR!$M$1,Y256,ROW()),\"\")","v":""},{"$f":"IF(Y256<>\"\",CONCATENATE(P256,INT(Q256*1440),DIGITADOR!$M$1,Y256),\"\")","v":""},null,{"$f":"IF(AO256<>\"\",INDEX(referentes!$Y:$Z,MATCH(DATOS!AO256,referentes!$Z:$Z,0),1),\"\")","v":""},"","",{"$f":"IF(R256=\"\",\"\",INDEX(referentes!D:E,MATCH(R256,referentes!E:E,0),1))","v":""},null,null,null,null,null,null,null,null,null,{"$f":"IF(X256=\"\",\"\",INDEX(referentes!$AT:$AX,MATCH(X256,referentes!$AX:$AX,0),1))","v":""},null,null,{"$f":"IF(AC256=\"\",\"\",INDEX(referentes!AZ:BA,MATCH(AC256,referentes!BA:BA,0),1))","v":""},null,null,null,null,null,null,null,null,null,null,null,null,null,null,{"$f":"IF(N256<>\"\",INDEX(referentes!$AK:$AM,MATCH(DATOS!M256,referentes!$AK:$AK,0),3),\"\")","v":""},null,null,{"$f":"IF(AS256=\"\",\"\",INDEX(referentes!P:Q,MATCH(AS256,referentes!Q:Q,0),1))","v":""},null,null,null,{"$f":"IF(AY256=\"\",\"\",INDEX(referentes!AB:AC,MATCH(AY256,referentes!AC:AC,0),1))","v":""},null,{"$f":"IF(BA256=\"\",\"\",INDEX(referentes!S:T,MATCH(BA256,referentes!T:T,0),1))","v":""},null,null,{"$f":"IF(AA256=\"\",\"\",INDEX(OtrasReferencias!$AM$7:$AN$9,MATCH(AA256,OtrasReferencias!$AM$7:$AM$9,0),2))","v":""}]
[null,null,"","",{"$f":"IF(T257=\"\",\"\",INDEX(referentes!G:H,MATCH(T257,referentes!H:H,0),1))","v":""},{"$f":"IF(V257=\"\",\"\",INDEX(referentes!$M:$N,MATCH(V257,referentes!$N:$N,0),1))","v":""},{"$f":"IF(W257=\"\",\"\",INDEX(referentes!J:K,MATCH(W257,referentes!K:K,0),1))","v":""},null,{"$f":"IF(Y257<>\"\",CONCATENATE($A$3,P257,DIGITADOR!$M$1,Y257,ROW()),\"\")","v":""},{"$f":"IF(Y257<>\"\",CONCATENATE(P257,INT(Q257*1440),DIGITADOR!$M$1,Y257),\"\")","v":""},null,{"$f":"IF(AO257<>\"\",INDEX(referentes!$Y:$Z,MATCH(DATOS!AO257,referentes!$Z:$Z,0),1),\"\")","v":""},"","",{"$f":"IF(R257=\"\",\"\",INDEX(referentes!D:E,MATCH(R257,referentes!E:E,0),1))","v":""},null,null,null,null,null,null,null,null,null,{"$f":"IF(X257=\"\",\"\",INDEX(referentes!$AT:$AX,MATCH(X257,referentes!$AX:$AX,0),1))","v":""},null,null,{"$f":"IF(AC257=\"\",\"\",INDEX(referentes!AZ:BA,MATCH(AC257,referentes!BA:BA,0),1))","v":""},null,null,null,null,null,null,null,null,null,null,null,null,null,null,{"$f":"IF(N257<>\"\",INDEX(referentes!$AK:$AM,MATCH(DATOS!M257,referentes!$AK:$AK,0),3),\"\")","v":""},null,null,{"$f":"IF(AS257=\"\",\"\",INDEX(referentes!P:Q,MATCH(AS257,referentes!Q:Q,0),1))","v":""},null,null,null,{"$f":"IF(AY257=\"\",\"\",INDEX(referentes!AB:AC,MATCH(AY257,referentes!AC:AC,0),1))","v":""},null,{"$f":"IF(BA257=\"\",\"\",INDEX(referentes!S:T,MATCH(BA257,referentes!T:T,0),1))","v":""},null,null,{"$f":"IF(AA257=\"\",\"\",INDEX(OtrasReferencias!$AM$7:$AN$9,MATCH(AA257,OtrasReferencias!$AM$7:$AM$9,0),2))","v":""}]
[null,null,"","",{"$f":"IF(T258=\"\",\"\",INDEX(referentes!G:H,MATCH(T258,referentes!H:H,0),1))","v":""},{"$f":"IF(V258=\"\",\"\",INDEX(referentes!$M:$N,MATCH(V258,referentes!$N:$N,0),1))","v":""},{"$f":"IF(W258=\"\",\"\",INDEX(referentes!J:K,MATCH(W258,referentes!K:K,0),1))","v":""},null,{"$f":"IF(Y258<>\"\",CONCATENATE($A$3,P258,DIGITADOR!$M$1,Y258,ROW()),\"\")","v":""},{"$f":"IF(Y258<>\"\",CONCATENATE(P258,INT(Q258*1440),DIGITADOR!$M$1,Y258),\"\")","v":""},null,{"$f":"IF(AO258<>\"\",INDEX(referentes!$Y:$Z,MATCH(DATOS!AO258,referentes!$Z:$Z,0),1),\"\")","v":""},"","",{"$f":"IF(R258=\"\",\"\",INDEX(referentes!D:E,MATCH(R258,referentes!E:E,0),1))","v":""},null,null,null,null,null,null,null,null,null,{"$f":"IF(X258=\"\",\"\",INDEX(referentes!$AT:$AX,MATCH(X258,referentes!$AX:$AX,0),1))","v":""},null,null,{"$f":"IF(AC258=\"\",\"\",INDEX(referentes!AZ:BA,MATCH(AC258,referentes!BA:BA,0),1))","v":""},null,null,null,null,null,null,null,null,null,null,null,null,null,null,{"$f":"IF(N258<>\"\",INDEX(referentes!$AK:$AM,MATCH(DATOS!M258,referentes!$AK:$AK,0),3),\"\")","v":""},null,null,{"$f":"IF(AS258=\"\",\"\",INDEX(referentes!P:Q,MATCH(AS258,referentes!Q:Q,0),1))","v":""},null,null,null,{"$f":"IF(AY258=\"\",\"\",INDEX(referentes!AB:AC,MATCH(AY258,referentes!AC:AC,0),1))","v":""},null,{"$f":"IF(BA258=\"\",\"\",INDEX(referentes!S:T,MATCH(BA258,referentes!T:T,0),1))","v":""},null,null,{"$f":"IF(AA258=\"\",\"\",INDEX(OtrasReferencias!$AM$7:$AN$9,MATCH(AA258,OtrasReferencias!$AM$7:$AM$9,0),2))","v":""}]
[null,null,"","",{"$f":"IF(T259=\"\",\"\",INDEX(referentes!G:H,MATCH(T259,referentes!H:H,0),1))","v":""},{"$f":"IF(V259=\"\",\"\",INDEX(referentes!$M:$N,MATCH(V259,referentes!$N:$N,0),1))","v":""},{"$f":"IF(W259=\"\",\"\",INDEX(referentes!J:K,MATCH(W259,referentes!K:K,0),1))","v":""},null,{"$f":"IF(Y259<>\"\",CONCATENATE($A$3,P259,DIGITADOR!$M$1,Y259,ROW()),\"\")","v":""},{"$f":"IF(Y259<>\"\",CONCATENATE(P259,INT(Q259*1440),DIGITADOR!$M$1,Y259),\"\")","v":""},null,{"$f":"IF(AO259<>\"\",INDEX(referentes!$Y:$Z,MATCH(DATOS!AO259,referentes!$Z:$Z,0),1),\"\")","v":""},"","",{"$f":"IF(R259=\"\",\"\",INDEX(referentes!D:E,MATCH(R259,referentes!E:E,0),1))","v":""},null,null,null,null,null,null,null,null,null,{"$f":"IF(X259=\"\",\"\",INDEX(referentes!$AT:$AX,MATCH(X259,referentes!$AX:$AX,0),1))","v":""},null,null,{"$f":"IF(AC259=\"\",\"\",INDEX(referentes!AZ:BA,MATCH(AC259,referentes!BA:BA,0),1))","v":""},null,null,null,null,null,null,null,null,null,null,null,null,null,null,{"$f":"IF(N259<>\"\",INDEX(referentes!$AK:$AM,MATCH(DATOS!M259,referentes!$AK:$AK,0),3),\"\")","v":""},null,null,{"$f":"IF(AS259=\"\",\"\",INDEX(referentes!P:Q,MATCH(AS259,referentes!Q:Q,0),1))","v":""},null,null,null,{"$f":"IF(AY259=\"\",\"\",INDEX(referentes!AB:AC,MATCH(AY259,referentes!AC:AC,0),1))","v":""},null,{"$f":"IF(BA259=\"\",\"\",INDEX(referentes!S:T,MATCH(BA259,referentes!T:T,0),1))","v":""},null,null,{"$f":"IF(AA259=\"\",\"\",INDEX(OtrasReferencias!$AM$7:$AN$9,MATCH(AA259,OtrasReferencias!$AM$7:$AM$9,0),2))","v":""}]
[null,null,"","",{"$f":"IF(T260=\"\",\"\",INDEX(referentes!G:H,MATCH(T260,referentes!H:H,0),1))","v":""},{"$f":"IF(V260=\"\",\"\",INDEX(referentes!$M:$N,MATCH(V260,referentes!$N:$N,0),1))","v":""},{"$f":"IF(W260=\"\",\"\",INDEX(referentes!J:K,MATCH(W260,referentes!K:K,0),1))","v":""},null,{"$f":"IF(Y260<>\"\",CONCATENATE($A$3,P260,DIGITADOR!$M$1,Y260,ROW()),\"\")","v":""},{"$f":"IF(Y260<>\"\",CONCATENATE(P260,INT(Q260*1440),DIGITADOR!$M$1,Y260),\"\")","v":""},null,{"$f":"IF(AO260<>\"\",INDEX(referentes!$Y:$Z,MATCH(DATOS!AO260,referentes!$Z:$Z,0),1),\"\")","v":""},"","",{"$f":"IF(R260=\"\",\"\",INDEX(referentes!D:E,MATCH(R260,referentes!E:E,0),1))","v":""},null,null,null,null,null,null,null,null,null,{"$f":"IF(X260=\"\",\"\",INDEX(referentes!$AT:$AX,MATCH(X260,referentes!$AX:$AX,0),1))","v":""},null,null,{"$f":"IF(AC260=\"\",\"\",INDEX(referentes!AZ:BA,MATCH(AC260,referentes!BA:BA,0),1))","v":""},null,null,null,null,null,null,null,null,null,null,null,null,null,null,{"$f":"IF(N260<>\"\",INDEX(referentes!$AK:$AM,MATCH(DATOS!M260,referentes!$AK:$AK,0),3),\"\")","v":""},null,null,{"$f":"IF(AS260=\"\",\"\",INDEX(referentes!P:Q,MATCH(AS260,referentes!Q:Q,0),1))","v":""},null,null,null,{"$f":"IF(AY260=\"\",\"\",INDEX(referentes!AB:AC,MATCH(AY260,referentes!AC:AC,0),1))","v":""},null,{"$f":"IF(BA260=\"\",\"\",INDEX(referentes!S:T,MATCH(BA260,referentes!T:T,0),1))","v":""},null,null,{"$f":"IF(AA260=\"\",\"\",INDEX(OtrasReferencias!$AM$7:$AN$9,MATCH(AA260,OtrasReferencias!$AM$7:$AM$9,0),2))","v":""}]
[null,null,"",{"$f":"IF(P261<>\"\",P261+Q261,\"\")","v":""},{"$f":"IF(T261=\"\",\"\",INDEX(referentes!G:H,MATCH(T261,referentes!H:H,0),1))","v":""},{"$f":"IF(V261=\"\",\"\",INDEX(referentes!$M:$N,MATCH(V261,referentes!$N:$N,0),1))","v":""},{"$f":"IF(W261=\"\",\"\",INDEX(referentes!J:K,MATCH(W261,referentes!K:K,0),1))","v":""},null,{"$f":"IF(Y261<>\"\",CONCATENATE($A$3,P261,DIGITADOR!$M$1,Y261,ROW()),\"\")","v":""},{"$f":"IF(Y261<>\"\",CONCATENATE(P261,INT(Q261*1440),DIGITADOR!$M$1,Y261),\"\")","v":""},null,{"$f":"IF(AO261<>\"\",INDEX(referentes!$Y:$Z,MATCH(DATOS!AO261,referentes!$Z:$Z,0),1),\"\")","v":""},{"$f":"TRIM(UPPER(IF(AL261<>\"\",AL261,IF(AK261<>\"\",AK261,(IF(AJ261<>\"\",AJ261,IF(AI261<>\"\",AI261,IF(AH261<>\"\",AH261,AG261))))))))","v":""},{"$f":"TRIM(UPPER(CONCATENATE(AG261,\" \",AH261,\" \",AI261,\" \",AJ261,\" \",AK261,\" \",AL261)))","v":""},{"$f":"IF(R261=\"\",\"\",INDEX(referentes!D:E,MATCH(R261,referentes!E:E,0),1))","v":""},null,null,null,null,null,null,null,null,null,{"$f":"IF(X261=\"\",\"\",INDEX(referentes!$AT:$AX,MATCH(X261,referentes!$AX:$AX,0),1))","v":""},null,null,{"$f":"IF(AC261=\"\",\"\",INDEX(referentes!AZ:BA,MATCH(AC261,referentes!BA:BA,0),1))","v":""},null,null,null,null,null,null,null,null,null,null,null,null,null,null,{"$f":"IF(N261<>\"\",INDEX(referentes!$AK:$AM,MATCH(DATOS!M261,referentes!$AK:$AK,0),3),\"\")","v":""},null,null,{"$f":"IF(AS261=\"\",\"\",INDEX(referentes!P:Q,MATCH(AS261,referentes!Q:Q,0),1))","v":""},null,null,null,{"$f":"IF(AY261=\"\",\"\",INDEX(referentes!AB:AC,MATCH(AY261,referentes!AC:AC,0),1))","v":""},null,{"$f":"IF(BA261=\"\",\"\",INDEX(referentes!S:T,MATCH(BA261,referentes!T:T,0),1))","v":""},null,null,{"$f":"IF(AA261=\"\",\"\",INDEX(OtrasReferencias!$AM$7:$AN$9,MATCH(AA261,OtrasReferencias!$AM$7:$AM$9,0),2))","v":""}]
[null,null,{"$f":"IF(J262=\"\",\"\",IF(J262=J261,\"\",J262))","v":""},"",{"$f":"IF(T262=\"\",\"\",INDEX(referentes!G:H,MATCH(T262,referentes!H:H,0),1))","v":""},{"$f":"IF(V262=\"\",\"\",INDEX(referentes!$M:$N,MATCH(V262,referentes!$N:$N,0),1))","v":""},{"$f":"IF(W262=\"\",\"\",INDEX(referentes!J:K,MATCH(W262,referentes!K:K,0),1))","v":""},null,{"$f":"IF(Y262<>\"\",CONCATENATE($A$3,P262,DIGITADOR!$M$1,Y262,ROW()),\"\")","v":""},{"$f":"IF(Y262<>\"\",CONCATENATE(P262,INT(Q262*1440),DIGITADOR!$M$1,Y262),\"\")","v":""},null,{"$f":"IF(AO262<>\"\",INDEX(referentes!$Y:$Z,MATCH(DATOS!AO262,referentes!$Z:$Z,0),1),\"\")","v":""},"","",{"$f":"IF(R262=\"\",\"\",INDEX(referentes!D:E,MATCH(R262,referentes!E:E,0),1))","v":""},null,null,null,null,null,null,null,null,null,{"$f":"IF(X262=\"\",\"\",INDEX(referentes!$AT:$AX,MATCH(X262,referentes!$AX:$AX,0),1))","v":""},null,null,{"$f":"IF(AC262=\"\",\"\",INDEX(referentes!AZ:BA,MATCH(AC262,referentes!BA:BA,0),1))","v":""},null,null,null,null,null,null,null,null,null,null,null,null,null,null,{"$f":"IF(N262<>\"\",INDEX(referentes!$AK:$AM,MATCH(DATOS!M262,referentes!$AK:$AK,0),3),\"\")","v":""},null,null,{"$f":"IF(AS262=\"\",\"\",INDEX(referentes!P:Q,MATCH(AS262,referentes!Q:Q,0),1))","v":""},null,null,null,{"$f":"IF(AY262=\"\",\"\",INDEX(referentes!AB:AC,MATCH(AY262,referentes!AC:AC,0),1))","v":""},null,{"$f":"IF(BA262=\"\",\"\",INDEX(referentes!S:T,MATCH(BA262,referentes!T:T,0),1))","v":""},null,null,{"$f":"IF(AA262=\"\",\"\",INDEX(OtrasReferencias!$AM$7:$AN$9,MATCH(AA262,OtrasReferencias!$AM$7:$AM$9,0),2))","v":""}]
[null,null,"","",{"$f":"IF(T263=\"\",\"\",INDEX(referentes!G:H,MATCH(T263,referentes!H:H,0),1))","v":""},{"$f":"IF(V263=\"\",\"\",INDEX(referentes!$M:$N,MATCH(V263,referentes!$N:$N,0),1))","v":""},{"$f":"IF(W263=\"\",\"\",INDEX(referentes!J:K,MATCH(W263,referentes!K:K,0),1))","v":""},null,{"$f":"IF(Y263<>\"\",CONCATENATE($A$3,P263,DIGITADOR!$M$1,Y263,ROW()),\"\")","v":""},{"$f":"IF(Y263<>\"\",CONCATENATE(P263,INT(Q263*1440),DIGITADOR!$M$1,Y263),\"\")","v":""},null,{"$f":"IF(AO263<>\"\",INDEX(referentes!$Y:$Z,MATCH(DATOS!AO263,referentes!$Z:$Z,0),1),\"\")","v":""},"","",{"$f":"IF(R263=\"\",\"\",INDEX(referentes!D:E,MATCH(R263,referentes!E:E,0),1))","v":""},null,null,null,null,null,null,null,null,null,{"$f":"IF(X263=\"\",\"\",INDEX(referentes!$AT:$AX,MATCH(X263,referentes!$AX:$AX,0),1))","v":""},null,null,{"$f":"IF(AC263=\"\",\"\",INDEX(referentes!AZ:BA,MATCH(AC263,referentes!BA:BA,0),1))","v":""},null,null,null,null,null,null,null,null,null,null,null,null,null,null,{"$f":"IF(N263<>\"\",INDEX(referentes!$AK:$AM,MATCH(DATOS!M263,referentes!$AK:$AK,0),3),\"\")","v":""},null,null,{"$f":"IF(AS263=\"\",\"\",INDEX(referentes!P:Q,MATCH(AS263,referentes!Q:Q,0),1))","v":""},null,null,null,{"$f":"IF(AY263=\"\",\"\",INDEX(referentes!AB:AC,MATCH(AY263,referentes!AC:AC,0),1))","v":""},null,{"$f":"IF(BA263=\"\",\"\",INDEX(referentes!S:T,MATCH(BA263,referentes!T:T,0),1))","v":""},null,null,{"$f":"IF(AA263=\"\",\"\",INDEX(OtrasReferencias!$AM$7:$AN$9,MATCH(AA263,OtrasReferencias!$AM$7:$AM$9,0),2))","v":""}]
[null,null,"","",{"$f":"IF(T264=\"\",\"\",INDEX(referentes!G:H,MATCH(T264,referentes!H:H,0),1))","v":""},{"$f":"IF(V264=\"\",\"\",INDEX(referentes!$M:$N,MATCH(V264,referentes!$N:$N,0),1))","v":""},{"$f":"IF(W264=\"\",\"\",INDEX(referentes!J:K,MATCH(W264,referentes!K:K,0),1))","v":""},null,{"$f":"IF(Y264<>\"\",CONCATENATE($A$3,P264,DIGITADOR!$M$1,Y264,ROW()),\"\")","v":""},{"$f":"IF(Y264<>\"\",CONCATENATE(P264,INT(Q264*1440),DIGITADOR!$M$1,Y264),\"\")","v":""},null,{"$f":"IF(AO264<>\"\",INDEX(referentes!$Y:$Z,MATCH(DATOS!AO264,referentes!$Z:$Z,0),1),\"\")","v":""},"","",{"$f":"IF(R264=\"\",\"\",INDEX(referentes!D:E,MATCH(R264,referentes!E:E,0),1))","v":""},null,null,null,null,null,null,null,null,null,{"$f":"IF(X264=\"\",\"\",INDEX(referentes!$AT:$AX,MATCH(X264,referentes!$AX:$AX,0),1))","v":""},null,null,{"$f":"IF(AC264=\"\",\"\",INDEX(referentes!AZ:BA,MATCH(AC264,referentes!BA:BA,0),1))","v":""},null,null,null,null,null,null,null,null,null,null,null,null,null,null,{"$f":"IF(N264<>\"\",INDEX(referentes!$AK:$AM,MATCH(DATOS!M264,referentes!$AK:$AK,0),3),\"\")","v":""},null,null,{"$f":"IF(AS264=\"\",\"\",INDEX(referentes!P:Q,MATCH(AS264,referentes!Q:Q,0),1))","v":""},null,null,null,{"$f":"IF(AY264=\"\",\"\",INDEX(referentes!AB:AC,MATCH(AY264,referentes!AC:AC,0),1))","v":""},null,{"$f":"IF(BA264=\"\",\"\",INDEX(referentes!S:T,MATCH(BA264,referentes!T:T,0),1))","v":""},null,null,{"$f":"IF(AA264=\"\",\"\",INDEX(OtrasReferencias!$AM$7:$AN$9,MATCH(AA264,OtrasReferencias!$AM$7:$AM$9,0),2))","v":""}]
[null,null,"","",{"$f":"IF(T265=\"\",\"\",INDEX(referentes!G:H,MATCH(T265,referentes!H:H,0),1))","v":""},{"$f":"IF(V265=\"\",\"\",INDEX(referentes!$M:$N,MATCH(V265,referentes!$N:$N,0),1))","v":""},{"$f":"IF(W265=\"\",\"\",INDEX(referentes!J:K,MATCH(W265,referentes!K:K,0),1))","v":""},null,{"$f":"IF(Y265<>\"\",CONCATENATE($A$3,P265,DIGITADOR!$M$1,Y265,ROW()),\"\")","v":""},{"$f":"IF(Y265<>\"\",CONCATENATE(P265,INT(Q265*1440),DIGITADOR!$M$1,Y265),\"\")","v":""},null,{"$f":"IF(AO265<>\"\",INDEX(referentes!$Y:$Z,MATCH(DATOS!AO265,referentes!$Z:$Z,0),1),\"\")","v":""},"","",{"$f":"IF(R265=\"\",\"\",INDEX(referentes!D:E,MATCH(R265,referentes!E:E,0),1))","v":""},null,null,null,null,null,null,null,null,null,{"$f":"IF(X265=\"\",\"\",INDEX(referentes!$AT:$AX,MATCH(X265,referentes!$AX:$AX,0),1))","v":""},null,null,{"$f":"IF(AC265=\"\",\"\",INDEX(referentes!AZ:BA,MATCH(AC265,referentes!BA:BA,0),1))","v":""},null,null,null,null,null,null,null,null,null,null,null,null,null,null,{"$f":"IF(N265<>\"\",INDEX(referentes!$AK:$AM,MATCH(DATOS!M265,referentes!$AK:$AK,0),3),\"\")","v":""},null,null,{"$f":"IF(AS265=\"\",\"\",INDEX(referentes!P:Q,MATCH(AS265,referentes!Q:Q,0),1))","v":""},null,null,null,{"$f":"IF(AY265=\"\",\"\",INDEX(referentes!AB:AC,MATCH(AY265,referentes!AC:AC,0),1))","v":""},null,{"$f":"IF(BA265=\"\",\"\",INDEX(referentes!S:T,MATCH(BA265,referentes!T:T,0),1))","v":""},null,null,{"$f":"IF(AA265=\"\",\"\",INDEX(OtrasReferencias!$AM$7:$AN$9,MATCH(AA265,OtrasReferencias!$AM$7:$AM$9,0),2))","v":""}]
[null,null,"","",{"$f":"IF(T266=\"\",\"\",INDEX(referentes!G:H,MATCH(T266,referentes!H:H,0),1))","v":""},{"$f":"IF(V266=\"\",\"\",INDEX(referentes!$M:$N,MATCH(V266,referentes!$N:$N,0),1))","v":""},{"$f":"IF(W266=\"\",\"\",INDEX(referentes!J:K,MATCH(W266,referentes!K:K,0),1))","v":""},null,{"$f":"IF(Y266<>\"\",CONCATENATE($A$3,P266,DIGITADOR!$M$1,Y266,ROW()),\"\")","v":""},{"$f":"IF(Y266<>\"\",CONCATENATE(P266,INT(Q266*1440),DIGITADOR!$M$1,Y266),\"\")","v":""},null,{"$f":"IF(AO266<>\"\",INDEX(referentes!$Y:$Z,MATCH(DATOS!AO266,referentes!$Z:$Z,0),1),\"\")","v":""},"","",{"$f":"IF(R266=\"\",\"\",INDEX(referentes!D:E,MATCH(R266,referentes!E:E,0),1))","v":""},null,null,null,null,null,null,null,null,null,{"$f":"IF(X266=\"\",\"\",INDEX(referentes!$AT:$AX,MATCH(X266,referentes!$AX:$AX,0),1))","v":""},null,null,{"$f":"IF(AC266=\"\",\"\",INDEX(referentes!AZ:BA,MATCH(AC266,referentes!BA:BA,0),1))","v":""},null,null,null,null,null,null,null,null,null,null,null,null,null,null,{"$f":"IF(N266<>\"\",INDEX(referentes!$AK:$AM,MATCH(DATOS!M266,referentes!$AK:$AK,0),3),\"\")","v":""},null,null,{"$f":"IF(AS266=\"\",\"\",INDEX(referentes!P:Q,MATCH(AS266,referentes!Q:Q,0),1))","v":""},null,null,null,{"$f":"IF(AY266=\"\",\"\",INDEX(referentes!AB:AC,MATCH(AY266,referentes!AC:AC,0),1))","v":""},null,{"$f":"IF(BA266=\"\",\"\",INDEX(referentes!S:T,MATCH(BA266,referentes!T:T,0),1))","v":""},null,null,{"$f":"IF(AA266=\"\",\"\",INDEX(OtrasReferencias!$AM$7:$AN$9,MATCH(AA266,OtrasReferencias!$AM$7:$AM$9,0),2))","v":""}]
[null,null,"","",{"$f":"IF(T267=\"\",\"\",INDEX(referentes!G:H,MATCH(T267,referentes!H:H,0),1))","v":""},{"$f":"IF(V267=\"\",\"\",INDEX(referentes!$M:$N,MATCH(V267,referentes!$N:$N,0),1))","v":""},{"$f":"IF(W267=\"\",\"\",INDEX(referentes!J:K,MATCH(W267,referentes!K:K,0),1))","v":""},null,{"$f":"IF(Y267<>\"\",CONCATENATE($A$3,P267,DIGITADOR!$M$1,Y267,ROW()),\"\")","v":""},{"$f":"IF(Y267<>\"\",CONCATENATE(P267,INT(Q267*1440),DIGITADOR!$M$1,Y267),\"\")","v":""},null,{"$f":"IF(AO267<>\"\",INDEX(referentes!$Y:$Z,MATCH(DATOS!AO267,referentes!$Z:$Z,0),1),\"\")","v":""},"","",{"$f":"IF(R267=\"\",\"\",INDEX(referentes!D:E,MATCH(R267,referentes!E:E,0),1))","v":""},null,null,null,null,null,null,null,null,null,{"$f":"IF(X267=\"\",\"\",INDEX(referentes!$AT:$AX,MATCH(X267,referentes!$AX:$AX,0),1))","v":""},null,null,{"$f":"IF(AC267=\"\",\"\",INDEX(referentes!AZ:BA,MATCH(AC267,referentes!BA:BA,0),1))","v":""},null,null,null,null,null,null,null,null,null,null,null,null,null,null,{"$f":"IF(N267<>\"\",INDEX(referentes!$AK:$AM,MATCH(DATOS!M267,referentes!$AK:$AK,0),3),\"\")","v":""},null,null,{"$f":"IF(AS267=\"\",\"\",INDEX(referentes!P:Q,MATCH(AS267,referentes!Q:Q,0),1))","v":""},null,null,null,{"$f":"IF(AY267=\"\",\"\",INDEX(referentes!AB:AC,MATCH(AY267,referentes!AC:AC,0),1))","v":""},null,{"$f":"IF(BA267=\"\",\"\",INDEX(referentes!S:T,MATCH(BA267,referentes!T:T,0),1))","v":""},null,null,{"$f":"IF(AA267=\"\",\"\",INDEX(OtrasReferencias!$AM$7:$AN$9,MATCH(AA267,OtrasReferencias!$AM$7:$AM$9,0),2))","v":""}]
[null,null,"","",{"$f":"IF(T268=\"\",\"\",INDEX(referentes!G:H,MATCH(T268,referentes!H:H,0),1))","v":""},{"$f":"IF(V268=\"\",\"\",INDEX(referentes!$M:$N,MATCH(V268,referentes!$N:$N,0),1))","v":""},{"$f":"IF(W268=\"\",\"\",INDEX(referentes!J:K,MATCH(W268,referentes!K:K,0),1))","v":""},null,{"$f":"IF(Y268<>\"\",CONCATENATE($A$3,P268,DIGITADOR!$M$1,Y268,ROW()),\"\")","v":""},{"$f":"IF(Y268<>\"\",CONCATENATE(P268,INT(Q268*1440),DIGITADOR!$M$1,Y268),\"\")","v":""},null,{"$f":"IF(AO268<>\"\",INDEX(referentes!$Y:$Z,MATCH(DATOS!AO268,referentes!$Z:$Z,0),1),\"\")","v":""},"","",{"$f":"IF(R268=\"\",\"\",INDEX(referentes!D:E,MATCH(R268,referentes!E:E,0),1))","v":""},null,null,null,null,null,null,null,null,null,{"$f":"IF(X268=\"\",\"\",INDEX(referentes!$AT:$AX,MATCH(X268,referentes!$AX:$AX,0),1))","v":""},null,null,{"$f":"IF(AC268=\"\",\"\",INDEX(referentes!AZ:BA,MATCH(AC268,referentes!BA:BA,0),1))","v":""},null,null,null,null,null,null,null,null,null,null,null,null,null,null,{"$f":"IF(N268<>\"\",INDEX(referentes!$AK:$AM,MATCH(DATOS!M268,referentes!$AK:$AK,0),3),\"\")","v":""},null,null,{"$f":"IF(AS268=\"\",\"\",INDEX(referentes!P:Q,MATCH(AS268,referentes!Q:Q,0),1))","v":""},null,null,null,{"$f":"IF(AY268=\"\",\"\",INDEX(referentes!AB:AC,MATCH(AY268,referentes!AC:AC,0),1))","v":""},null,{"$f":"IF(BA268=\"\",\"\",INDEX(referentes!S:T,MATCH(BA268,referentes!T:T,0),1))","v":""},null,null,{"$f":"IF(AA268=\"\",\"\",INDEX(OtrasReferencias!$AM$7:$AN$9,MATCH(AA268,OtrasReferencias!$AM$7:$AM$9,0),2))","v":""}]
[null,null,"","",{"$f":"IF(T269=\"\",\"\",INDEX(referentes!G:H,MATCH(T269,referentes!H:H,0),1))","v":""},{"$f":"IF(V269=\"\",\"\",INDEX(referentes!$M:$N,MATCH(V269,referentes!$N:$N,0),1))","v":""},{"$f":"IF(W269=\"\",\"\",INDEX(referentes!J:K,MATCH(W269,referentes!K:K,0),1))","v":""},null,{"$f":"IF(Y269<>\"\",CONCATENATE($A$3,P269,DIGITADOR!$M$1,Y269,ROW()),\"\")","v":""},{"$f":"IF(Y269<>\"\",CONCATENATE(P269,INT(Q269*1440),DIGITADOR!$M$1,Y269),\"\")","v":""},null,{"$f":"IF(AO269<>\"\",INDEX(referentes!$Y:$Z,MATCH(DATOS!AO269,referentes!$Z:$Z,0),1),\"\")","v":""},"","",{"$f":"IF(R269=\"\",\"\",INDEX(referentes!D:E,MATCH(R269,referentes!E:E,0),1))","v":""},null,null,null,null,null,null,null,null,null,{"$f":"IF(X269=\"\",\"\",INDEX(referentes!$AT:$AX,MATCH(X269,referentes!$AX:$AX,0),1))","v":""},null,null,{"$f":"IF(AC269=\"\",\"\",INDEX(referentes!AZ:BA,MATCH(AC269,referentes!BA:BA,0),1))","v":""},null,null,null,null,null,null,null,null,null,null,null,null,null,null,{"$f":"IF(N269<>\"\",INDEX(referentes!$AK:$AM,MATCH(DATOS!M269,referentes!$AK:$AK,0),3),\"\")","v":""},null,null,{"$f":"IF(AS269=\"\",\"\",INDEX(referentes!P:Q,MATCH(AS269,referentes!Q:Q,0),1))","v":""},null,null,null,{"$f":"IF(AY269=\"\",\"\",INDEX(referentes!AB:AC,MATCH(AY269,referentes!AC:AC,0),1))","v":""},null,{"$f":"IF(BA269=\"\",\"\",INDEX(referentes!S:T,MATCH(BA269,referentes!T:T,0),1))","v":""},null,null,{"$f":"IF(AA269=\"\",\"\",INDEX(OtrasReferencias!$AM$7:$AN$9,MATCH(AA269,OtrasReferencias!$AM$7:$AM$9,0),2))","v":""}]
[null,null,"","",{"$f":"IF(T270=\"\",\"\",INDEX(referentes!G:H,MATCH(T270,referentes!H:H,0),1))","v":""},{"$f":"IF(V270=\"\",\"\",INDEX(referentes!$M:$N,MATCH(V270,referentes!$N:$N,0),1))","v":""},{"$f":"IF(W270=\"\",\"\",INDEX(referentes!J:K,MATCH(W270,referentes!K:K,0),1))","v":""},null,{"$f":"IF(Y270<>\"\",CONCATENATE($A$3,P270,DIGITADOR!$M$1,Y270,ROW()),\"\")","v":""},{"$f":"IF(Y270<>\"\",CONCATENATE(P270,INT(Q270*1440),DIGITADOR!$M$1,Y270),\"\")","v":""},null,{"$f":"IF(AO270<>\"\",INDEX(referentes!$Y:$Z,MATCH(DATOS!AO270,referentes!$Z:$Z,0),1),\"\")","v":""},"","",{"$f":"IF(R270=\"\",\"\",INDEX(referentes!D:E,MATCH(R270,referentes!E:E,0),1))","v":""},null,null,null,null,null,null,null,null,null,{"$f":"IF(X270=\"\",\"\",INDEX(referentes!$AT:$AX,MATCH(X270,referentes!$AX:$AX,0),1))","v":""},null,null,{"$f":"IF(AC270=\"\",\"\",INDEX(referentes!AZ:BA,MATCH(AC270,referentes!BA:BA,0),1))","v":""},null,null,null,null,null,null,null,null,null,null,null,null,null,null,{"$f":"IF(N270<>\"\",INDEX(referentes!$AK:$AM,MATCH(DATOS!M270,referentes!$AK:$AK,0),3),\"\")","v":""},null,null,{"$f":"IF(AS270=\"\",\"\",INDEX(referentes!P:Q,MATCH(AS270,referentes!Q:Q,0),1))","v":""},null,null,null,{"$f":"IF(AY270=\"\",\"\",INDEX(referentes!AB:AC,MATCH(AY270,referentes!AC:AC,0),1))","v":""},null,{"$f":"IF(BA270=\"\",\"\",INDEX(referentes!S:T,MATCH(BA270,referentes!T:T,0),1))","v":""},null,null,{"$f":"IF(AA270=\"\",\"\",INDEX(OtrasReferencias!$AM$7:$AN$9,MATCH(AA270,OtrasReferencias!$AM$7:$AM$9,0),2))","v":""}]
[null,null,"","",{"$f":"IF(T271=\"\",\"\",INDEX(referentes!G:H,MATCH(T271,referentes!H:H,0),1))","v":""},{"$f":"IF(V271=\"\",\"\",INDEX(referentes!$M:$N,MATCH(V271,referentes!$N:$N,0),1))","v":""},{"$f":"IF(W271=\"\",\"\",INDEX(referentes!J:K,MATCH(W271,referentes!K:K,0),1))","v":""},null,{"$f":"IF(Y271<>\"\",CONCATENATE($A$3,P271,DIGITADOR!$M$1,Y271,ROW()),\"\")","v":""},{"$f":"IF(Y271<>\"\",CONCATENATE(P271,INT(Q271*1440),DIGITADOR!$M$1,Y271),\"\")","v":""},null,{"$f":"IF(AO271<>\"\",INDEX(referentes!$Y:$Z,MATCH(DATOS!AO271,referentes!$Z:$Z,0),1),\"\")","v":""},"","",{"$f":"IF(R271=\"\",\"\",INDEX(referentes!D:E,MATCH(R271,referentes!E:E,0),1))","v":""},null,null,null,null,null,null,null,null,null,{"$f":"IF(X271=\"\",\"\",INDEX(referentes!$AT:$AX,MATCH(X271,referentes!$AX:$AX,0),1))","v":""},null,null,{"$f":"IF(AC271=\"\",\"\",INDEX(referentes!AZ:BA,MATCH(AC271,referentes!BA:BA,0),1))","v":""},null,null,null,null,null,null,null,null,null,null,null,null,null,null,{"$f":"IF(N271<>\"\",INDEX(referentes!$AK:$AM,MATCH(DATOS!M271,referentes!$AK:$AK,0),3),\"\")","v":""},null,null,{"$f":"IF(AS271=\"\",\"\",INDEX(referentes!P:Q,MATCH(AS271,referentes!Q:Q,0),1))","v":""},null,null,null,{"$f":"IF(AY271=\"\",\"\",INDEX(referentes!AB:AC,MATCH(AY271,referentes!AC:AC,0),1))","v":""},null,{"$f":"IF(BA271=\"\",\"\",INDEX(referentes!S:T,MATCH(BA271,referentes!T:T,0),1))","v":""},null,null,{"$f":"IF(AA271=\"\",\"\",INDEX(OtrasReferencias!$AM$7:$AN$9,MATCH(AA271,OtrasReferencias!$AM$7:$AM$9,0),2))","v":""}]
[null,null,"","",{"$f":"IF(T272=\"\",\"\",INDEX(referentes!G:H,MATCH(T272,referentes!H:H,0),1))","v":""},{"$f":"IF(V272=\"\",\"\",INDEX(referentes!$M:$N,MATCH(V272,referentes!$N:$N,0),1))","v":""},{"$f":"IF(W272=\"\",\"\",INDEX(referentes!J:K,MATCH(W272,referentes!K:K,0),1))","v":""},null,{"$f":"IF(Y272<>\"\",CONCATENATE($A$3,P272,DIGITADOR!$M$1,Y272,ROW()),\"\")","v":""},{"$f":"IF(Y272<>\"\",CONCATENATE(P272,INT(Q272*1440),DIGITADOR!$M$1,Y272),\"\")","v":""},null,{"$f":"IF(AO272<>\"\",INDEX(referentes!$Y:$Z,MATCH(DATOS!AO272,referentes!$Z:$Z,0),1),\"\")","v":""},"","",{"$f":"IF(R272=\"\",\"\",INDEX(referentes!D:E,MATCH(R272,referentes!E:E,0),1))","v":""},null,null,null,null,null,null,null,null,null,{"$f":"IF(X272=\"\",\"\",INDEX(referentes!$AT:$AX,MATCH(X272,referentes!$AX:$AX,0),1))","v":""},null,null,{"$f":"IF(AC272=\"\",\"\",INDEX(referentes!AZ:BA,MATCH(AC272,referentes!BA:BA,0),1))","v":""},null,null,null,null,null,null,null,null,null,null,null,null,null,null,{"$f":"IF(N272<>\"\",INDEX(referentes!$AK:$AM,MATCH(DATOS!M272,referentes!$AK:$AK,0),3),\"\")","v":""},null,null,{"$f":"IF(AS272=\"\",\"\",INDEX(referentes!P:Q,MATCH(AS272,referentes!Q:Q,0),1))","v":""},null,null,null,{"$f":"IF(AY272=\"\",\"\",INDEX(referentes!AB:AC,MATCH(AY272,referentes!AC:AC,0),1))","v":""},null,{"$f":"IF(BA272=\"\",\"\",INDEX(referentes!S:T,MATCH(BA272,referentes!T:T,0),1))","v":""},null,null,{"$f":"IF(AA272=\"\",\"\",INDEX(OtrasReferencias!$AM$7:$AN$9,MATCH(AA272,OtrasReferencias!$AM$7:$AM$9,0),2))","v":""}]
[null,null,"","",{"$f":"IF(T273=\"\",\"\",INDEX(referentes!G:H,MATCH(T273,referentes!H:H,0),1))","v":""},{"$f":"IF(V273=\"\",\"\",INDEX(referentes!$M:$N,MATCH(V273,referentes!$N:$N,0),1))","v":""},{"$f":"IF(W273=\"\",\"\",INDEX(referentes!J:K,MATCH(W273,referentes!K:K,0),1))","v":""},null,{"$f":"IF(Y273<>\"\",CONCATENATE($A$3,P273,DIGITADOR!$M$1,Y273,ROW()),\"\")","v":""},{"$f":"IF(Y273<>\"\",CONCATENATE(P273,INT(Q273*1440),DIGITADOR!$M$1,Y273),\"\")","v":""},null,{"$f":"IF(AO273<>\"\",INDEX(referentes!$Y:$Z,MATCH(DATOS!AO273,referentes!$Z:$Z,0),1),\"\")","v":""},"","",{"$f":"IF(R273=\"\",\"\",INDEX(referentes!D:E,MATCH(R273,referentes!E:E,0),1))","v":""},null,null,null,null,null,null,null,null,null,{"$f":"IF(X273=\"\",\"\",INDEX(referentes!$AT:$AX,MATCH(X273,referentes!$AX:$AX,0),1))","v":""},null,null,{"$f":"IF(AC273=\"\",\"\",INDEX(referentes!AZ:BA,MATCH(AC273,referentes!BA:BA,0),1))","v":""},null,null,null,null,null,null,null,null,null,null,null,null,null,null,{"$f":"IF(N273<>\"\",INDEX(referentes!$AK:$AM,MATCH(DATOS!M273,referentes!$AK:$AK,0),3),\"\")","v":""},null,null,{"$f":"IF(AS273=\"\",\"\",INDEX(referentes!P:Q,MATCH(AS273,referentes!Q:Q,0),1))","v":""},null,null,null,{"$f":"IF(AY273=\"\",\"\",INDEX(referentes!AB:AC,MATCH(AY273,referentes!AC:AC,0),1))","v":""},null,{"$f":"IF(BA273=\"\",\"\",INDEX(referentes!S:T,MATCH(BA273,referentes!T:T,0),1))","v":""},null,null,{"$f":"IF(AA273=\"\",\"\",INDEX(OtrasReferencias!$AM$7:$AN$9,MATCH(AA273,OtrasReferencias!$AM$7:$AM$9,0),2))","v":""}]
[null,null,"","",{"$f":"IF(T274=\"\",\"\",INDEX(referentes!G:H,MATCH(T274,referentes!H:H,0),1))","v":""},{"$f":"IF(V274=\"\",\"\",INDEX(referentes!$M:$N,MATCH(V274,referentes!$N:$N,0),1))","v":""},{"$f":"IF(W274=\"\",\"\",INDEX(referentes!J:K,MATCH(W274,referentes!K:K,0),1))","v":""},null,{"$f":"IF(Y274<>\"\",CONCATENATE($A$3,P274,DIGITADOR!$M$1,Y274,ROW()),\"\")","v":""},{"$f":"IF(Y274<>\"\",CONCATENATE(P274,INT(Q274*1440),DIGITADOR!$M$1,Y274),\"\")","v":""},null,{"$f":"IF(AO274<>\"\",INDEX(referentes!$Y:$Z,MATCH(DATOS!AO274,referentes!$Z:$Z,0),1),\"\")","v":""},"","",{"$f":"IF(R274=\"\",\"\",INDEX(referentes!D:E,MATCH(R274,referentes!E:E,0),1))","v":""},null,null,null,null,null,null,null,null,null,{"$f":"IF(X274=\"\",\"\",INDEX(referentes!$AT:$AX,MATCH(X274,referentes!$AX:$AX,0),1))","v":""},null,null,{"$f":"IF(AC274=\"\",\"\",INDEX(referentes!AZ:BA,MATCH(AC274,referentes!BA:BA,0),1))","v":""},null,null,null,null,null,null,null,null,null,null,null,null,null,null,{"$f":"IF(N274<>\"\",INDEX(referentes!$AK:$AM,MATCH(DATOS!M274,referentes!$AK:$AK,0),3),\"\")","v":""},null,null,{"$f":"IF(AS274=\"\",\"\",INDEX(referentes!P:Q,MATCH(AS274,referentes!Q:Q,0),1))","v":""},null,null,null,{"$f":"IF(AY274=\"\",\"\",INDEX(referentes!AB:AC,MATCH(AY274,referentes!AC:AC,0),1))","v":""},null,{"$f":"IF(BA274=\"\",\"\",INDEX(referentes!S:T,MATCH(BA274,referentes!T:T,0),1))","v":""},null,null,{"$f":"IF(AA274=\"\",\"\",INDEX(OtrasReferencias!$AM$7:$AN$9,MATCH(AA274,OtrasReferencias!$AM$7:$AM$9,0),2))","v":""}]
[null,null,"","",{"$f":"IF(T275=\"\",\"\",INDEX(referentes!G:H,MATCH(T275,referentes!H:H,0),1))","v":""},{"$f":"IF(V275=\"\",\"\",INDEX(referentes!$M:$N,MATCH(V275,referentes!$N:$N,0),1))","v":""},{"$f":"IF(W275=\"\",\"\",INDEX(referentes!J:K,MATCH(W275,referentes!K:K,0),1))","v":""},null,{"$f":"IF(Y275<>\"\",CONCATENATE($A$3,P275,DIGITADOR!$M$1,Y275,ROW()),\"\")","v":""},{"$f":"IF(Y275<>\"\",CONCATENATE(P275,INT(Q275*1440),DIGITADOR!$M$1,Y275),\"\")","v":""},null,{"$f":"IF(AO275<>\"\",INDEX(referentes!$Y:$Z,MATCH(DATOS!AO275,referentes!$Z:$Z,0),1),\"\")","v":""},"","",{"$f":"IF(R275=\"\",\"\",INDEX(referentes!D:E,MATCH(R275,referentes!E:E,0),1))","v":""},null,null,null,null,null,null,null,null,null,{"$f":"IF(X275=\"\",\"\",INDEX(referentes!$AT:$AX,MATCH(X275,referentes!$AX:$AX,0),1))","v":""},null,null,{"$f":"IF(AC275=\"\",\"\",INDEX(referentes!AZ:BA,MATCH(AC275,referentes!BA:BA,0),1))","v":""},null,null,null,null,null,null,null,null,null,null,null,null,null,null,{"$f":"IF(N275<>\"\",INDEX(referentes!$AK:$AM,MATCH(DATOS!M275,referentes!$AK:$AK,0),3),\"\")","v":""},null,null,{"$f":"IF(AS275=\"\",\"\",INDEX(referentes!P:Q,MATCH(AS275,referentes!Q:Q,0),1))","v":""},null,null,null,{"$f":"IF(AY275=\"\",\"\",INDEX(referentes!AB:AC,MATCH(AY275,referentes!AC:AC,0),1))","v":""},null,{"$f":"IF(BA275=\"\",\"\",INDEX(referentes!S:T,MATCH(BA275,referentes!T:T,0),1))","v":""},null,null,{"$f":"IF(AA275=\"\",\"\",INDEX(OtrasReferencias!$AM$7:$AN$9,MATCH(AA275,OtrasReferencias!$AM$7:$AM$9,0),2))","v":""}]
[null,null,"","",{"$f":"IF(T276=\"\",\"\",INDEX(referentes!G:H,MATCH(T276,referentes!H:H,0),1))","v":""},{"$f":"IF(V276=\"\",\"\",INDEX(referentes!$M:$N,MATCH(V276,referentes!$N:$N,0),1))","v":""},{"$f":"IF(W276=\"\",\"\",INDEX(referentes!J:K,MATCH(W276,referentes!K:K,0),1))","v":""},null,{"$f":"IF(Y276<>\"\",CONCATENATE($A$3,P276,DIGITADOR!$M$1,Y276,ROW()),\"\")","v":""},{"$f":"IF(Y276<>\"\",CONCATENATE(P276,INT(Q276*1440),DIGITADOR!$M$1,Y276),\"\")","v":""},null,{"$f":"IF(AO276<>\"\",INDEX(referentes!$Y:$Z,MATCH(DATOS!AO276,referentes!$Z:$Z,0),1),\"\")","v":""},"","",{"$f":"IF(R276=\"\",\"\",INDEX(referentes!D:E,MATCH(R276,referentes!E:E,0),1))","v":""},null,null,null,null,null,null,null,null,null,{"$f":"IF(X276=\"\",\"\",INDEX(referentes!$AT:$AX,MATCH(X276,referentes!$AX:$AX,0),1))","v":""},null,null,{"$f":"IF(AC276=\"\",\"\",INDEX(referentes!AZ:BA,MATCH(AC276,referentes!BA:BA,0),1))","v":""},null,null,null,null,null,null,null,null,null,null,null,null,null,null,{"$f":"IF(N276<>\"\",INDEX(referentes!$AK:$AM,MATCH(DATOS!M276,referentes!$AK:$AK,0),3),\"\")","v":""},null,null,{"$f":"IF(AS276=\"\",\"\",INDEX(referentes!P:Q,MATCH(AS276,referentes!Q:Q,0),1))","v":""},null,null,null,{"$f":"IF(AY276=\"\",\"\",INDEX(referentes!AB:AC,MATCH(AY276,referentes!AC:AC,0),1))","v":""},null,{"$f":"IF(BA276=\"\",\"\",INDEX(referentes!S:T,MATCH(BA276,referentes!T:T,0),1))","v":""},null,null,{"$f":"IF(AA276=\"\",\"\",INDEX(OtrasReferencias!$AM$7:$AN$9,MATCH(AA276,OtrasReferencias!$AM$7:$AM$9,0),2))","v":""}]
[null,null,"","",{"$f":"IF(T277=\"\",\"\",INDEX(referentes!G:H,MATCH(T277,referentes!H:H,0),1))","v":""},{"$f":"IF(V277=\"\",\"\",INDEX(referentes!$M:$N,MATCH(V277,referentes!$N:$N,0),1))","v":""},{"$f":"IF(W277=\"\",\"\",INDEX(referentes!J:K,MATCH(W277,referentes!K:K,0),1))","v":""},null,{"$f":"IF(Y277<>\"\",CONCATENATE($A$3,P277,DIGITADOR!$M$1,Y277,ROW()),\"\")","v":""},{"$f":"IF(Y277<>\"\",CONCATENATE(P277,INT(Q277*1440),DIGITADOR!$M$1,Y277),\"\")","v":""},null,{"$f":"IF(AO277<>\"\",INDEX(referentes!$Y:$Z,MATCH(DATOS!AO277,referentes!$Z:$Z,0),1),\"\")","v":""},"","",{"$f":"IF(R277=\"\",\"\",INDEX(referentes!D:E,MATCH(R277,referentes!E:E,0),1))","v":""},null,null,null,null,null,null,null,null,null,{"$f":"IF(X277=\"\",\"\",INDEX(referentes!$AT:$AX,MATCH(X277,referentes!$AX:$AX,0),1))","v":""},null,null,{"$f":"IF(AC277=\"\",\"\",INDEX(referentes!AZ:BA,MATCH(AC277,referentes!BA:BA,0),1))","v":""},null,null,null,null,null,null,null,null,null,null,null,null,null,null,{"$f":"IF(N277<>\"\",INDEX(referentes!$AK:$AM,MATCH(DATOS!M277,referentes!$AK:$AK,0),3),\"\")","v":""},null,null,{"$f":"IF(AS277=\"\",\"\",INDEX(referentes!P:Q,MATCH(AS277,referentes!Q:Q,0),1))","v":""},null,null,null,{"$f":"IF(AY277=\"\",\"\",INDEX(referentes!AB:AC,MATCH(AY277,referentes!AC:AC,0),1))","v":""},null,{"$f":"IF(BA277=\"\",\"\",INDEX(referentes!S:T,MATCH(BA277,referentes!T:T,0),1))","v":""},null,null,{"$f":"IF(AA277=\"\",\"\",INDEX(OtrasReferencias!$AM$7:$AN$9,MATCH(AA277,OtrasReferencias!$AM$7:$AM$9,0),2))","v":""}]
[null,null,"","",{"$f":"IF(T278=\"\",\"\",INDEX(referentes!G:H,MATCH(T278,referentes!H:H,0),1))","v":""},{"$f":"IF(V278=\"\",\"\",INDEX(referentes!$M:$N,MATCH(V278,referentes!$N:$N,0),1))","v":""},{"$f":"IF(W278=\"\",\"\",INDEX(referentes!J:K,MATCH(W278,referentes!K:K,0),1))","v":""},null,{"$f":"IF(Y278<>\"\",CONCATENATE($A$3,P278,DIGITADOR!$M$1,Y278,ROW()),\"\")","v":""},{"$f":"IF(Y278<>\"\",CONCATENATE(P278,INT(Q278*1440),DIGITADOR!$M$1,Y278),\"\")","v":""},null,{"$f":"IF(AO278<>\"\",INDEX(referentes!$Y:$Z,MATCH(DATOS!AO278,referentes!$Z:$Z,0),1),\"\")","v":""},"","",{"$f":"IF(R278=\"\",\"\",INDEX(referentes!D:E,MATCH(R278,referentes!E:E,0),1))","v":""},null,null,null,null,null,null,null,null,null,{"$f":"IF(X278=\"\",\"\",INDEX(referentes!$AT:$AX,MATCH(X278,referentes!$AX:$AX,0),1))","v":""},null,null,{"$f":"IF(AC278=\"\",\"\",INDEX(referentes!AZ:BA,MATCH(AC278,referentes!BA:BA,0),1))","v":""},null,null,null,null,null,null,null,null,null,null,null,null,null,null,{"$f":"IF(N278<>\"\",INDEX(referentes!$AK:$AM,MATCH(DATOS!M278,referentes!$AK:$AK,0),3),\"\")","v":""},null,null,{"$f":"IF(AS278=\"\",\"\",INDEX(referentes!P:Q,MATCH(AS278,referentes!Q:Q,0),1))","v":""},null,null,null,{"$f":"IF(AY278=\"\",\"\",INDEX(referentes!AB:AC,MATCH(AY278,referentes!AC:AC,0),1))","v":""},null,{"$f":"IF(BA278=\"\",\"\",INDEX(referentes!S:T,MATCH(BA278,referentes!T:T,0),1))","v":""},null,null,{"$f":"IF(AA278=\"\",\"\",INDEX(OtrasReferencias!$AM$7:$AN$9,MATCH(AA278,OtrasReferencias!$AM$7:$AM$9,0),2))","v":""}]
[null,null,"","",{"$f":"IF(T279=\"\",\"\",INDEX(referentes!G:H,MATCH(T279,referentes!H:H,0),1))","v":""},{"$f":"IF(V279=\"\",\"\",INDEX(referentes!$M:$N,MATCH(V279,referentes!$N:$N,0),1))","v":""},{"$f":"IF(W279=\"\",\"\",INDEX(referentes!J:K,MATCH(W279,referentes!K:K,0),1))","v":""},null,{"$f":"IF(Y279<>\"\",CONCATENATE($A$3,P279,DIGITADOR!$M$1,Y279,ROW()),\"\")","v":""},{"$f":"IF(Y279<>\"\",CONCATENATE(P279,INT(Q279*1440),DIGITADOR!$M$1,Y279),\"\")","v":""},null,{"$f":"IF(AO279<>\"\",INDEX(referentes!$Y:$Z,MATCH(DATOS!AO279,referentes!$Z:$Z,0),1),\"\")","v":""},"","",{"$f":"IF(R279=\"\",\"\",INDEX(referentes!D:E,MATCH(R279,referentes!E:E,0),1))","v":""},null,null,null,null,null,null,null,null,null,{"$f":"IF(X279=\"\",\"\",INDEX(referentes!$AT:$AX,MATCH(X279,referentes!$AX:$AX,0),1))","v":""},null,null,{"$f":"IF(AC279=\"\",\"\",INDEX(referentes!AZ:BA,MATCH(AC279,referentes!BA:BA,0),1))","v":""},null,null,null,null,null,null,null,null,null,null,null,null,null,null,{"$f":"IF(N279<>\"\",INDEX(referentes!$AK:$AM,MATCH(DATOS!M279,referentes!$AK:$AK,0),3),\"\")","v":""},null,null,{"$f":"IF(AS279=\"\",\"\",INDEX(referentes!P:Q,MATCH(AS279,referentes!Q:Q,0),1))","v":""},null,null,null,{"$f":"IF(AY279=\"\",\"\",INDEX(referentes!AB:AC,MATCH(AY279,referentes!AC:AC,0),1))","v":""},null,{"$f":"IF(BA279=\"\",\"\",INDEX(referentes!S:T,MATCH(BA279,referentes!T:T,0),1))","v":""},null,null,{"$f":"IF(AA279=\"\",\"\",INDEX(OtrasReferencias!$AM$7:$AN$9,MATCH(AA279,OtrasReferencias!$AM$7:$AM$9,0),2))","v":""}]
[null,null,"","",{"$f":"IF(T280=\"\",\"\",INDEX(referentes!G:H,MATCH(T280,referentes!H:H,0),1))","v":""},{"$f":"IF(V280=\"\",\"\",INDEX(referentes!$M:$N,MATCH(V280,referentes!$N:$N,0),1))","v":""},{"$f":"IF(W280=\"\",\"\",INDEX(referentes!J:K,MATCH(W280,referentes!K:K,0),1))","v":""},null,{"$f":"IF(Y280<>\"\",CONCATENATE($A$3,P280,DIGITADOR!$M$1,Y280,ROW()),\"\")","v":""},{"$f":"IF(Y280<>\"\",CONCATENATE(P280,INT(Q280*1440),DIGITADOR!$M$1,Y280),\"\")","v":""},null,{"$f":"IF(AO280<>\"\",INDEX(referentes!$Y:$Z,MATCH(DATOS!AO280,referentes!$Z:$Z,0),1),\"\")","v":""},"","",{"$f":"IF(R280=\"\",\"\",INDEX(referentes!D:E,MATCH(R280,referentes!E:E,0),1))","v":""},null,null,null,null,null,null,null,null,null,{"$f":"IF(X280=\"\",\"\",INDEX(referentes!$AT:$AX,MATCH(X280,referentes!$AX:$AX,0),1))","v":""},null,null,{"$f":"IF(AC280=\"\",\"\",INDEX(referentes!AZ:BA,MATCH(AC280,referentes!BA:BA,0),1))","v":""},null,null,null,null,null,null,null,null,null,null,null,null,null,null,{"$f":"IF(N280<>\"\",INDEX(referentes!$AK:$AM,MATCH(DATOS!M280,referentes!$AK:$AK,0),3),\"\")","v":""},null,null,{"$f":"IF(AS280=\"\",\"\",INDEX(referentes!P:Q,MATCH(AS280,referentes!Q:Q,0),1))","v":""},null,null,null,{"$f":"IF(AY280=\"\",\"\",INDEX(referentes!AB:AC,MATCH(AY280,referentes!AC:AC,0),1))","v":""},null,{"$f":"IF(BA280=\"\",\"\",INDEX(referentes!S:T,MATCH(BA280,referentes!T:T,0),1))","v":""},null,null,{"$f":"IF(AA280=\"\",\"\",INDEX(OtrasReferencias!$AM$7:$AN$9,MATCH(AA280,OtrasReferencias!$AM$7:$AM$9,0),2))","v":""}]
[null,null,"","",{"$f":"IF(T281=\"\",\"\",INDEX(referentes!G:H,MATCH(T281,referentes!H:H,0),1))","v":""},{"$f":"IF(V281=\"\",\"\",INDEX(referentes!$M:$N,MATCH(V281,referentes!$N:$N,0),1))","v":""},{"$f":"IF(W281=\"\",\"\",INDEX(referentes!J:K,MATCH(W281,referentes!K:K,0),1))","v":""},null,{"$f":"IF(Y281<>\"\",CONCATENATE($A$3,P281,DIGITADOR!$M$1,Y281,ROW()),\"\")","v":""},{"$f":"IF(Y281<>\"\",CONCATENATE(P281,INT(Q281*1440),DIGITADOR!$M$1,Y281),\"\")","v":""},null,{"$f":"IF(AO281<>\"\",INDEX(referentes!$Y:$Z,MATCH(DATOS!AO281,referentes!$Z:$Z,0),1),\"\")","v":""},"","",{"$f":"IF(R281=\"\",\"\",INDEX(referentes!D:E,MATCH(R281,referentes!E:E,0),1))","v":""},null,null,null,null,null,null,null,null,null,{"$f":"IF(X281=\"\",\"\",INDEX(referentes!$AT:$AX,MATCH(X281,referentes!$AX:$AX,0),1))","v":""},null,null,{"$f":"IF(AC281=\"\",\"\",INDEX(referentes!AZ:BA,MATCH(AC281,referentes!BA:BA,0),1))","v":""},null,null,null,null,null,null,null,null,null,null,null,null,null,null,{"$f":"IF(N281<>\"\",INDEX(referentes!$AK:$AM,MATCH(DATOS!M281,referentes!$AK:$AK,0),3),\"\")","v":""},null,null,{"$f":"IF(AS281=\"\",\"\",INDEX(referentes!P:Q,MATCH(AS281,referentes!Q:Q,0),1))","v":""},null,null,null,{"$f":"IF(AY281=\"\",\"\",INDEX(referentes!AB:AC,MATCH(AY281,referentes!AC:AC,0),1))","v":""},null,{"$f":"IF(BA281=\"\",\"\",INDEX(referentes!S:T,MATCH(BA281,referentes!T:T,0),1))","v":""},null,null,{"$f":"IF(AA281=\"\",\"\",INDEX(OtrasReferencias!$AM$7:$AN$9,MATCH(AA281,OtrasReferencias!$AM$7:$AM$9,0),2))","v":""}]
[null,null,"","",{"$f":"IF(T282=\"\",\"\",INDEX(referentes!G:H,MATCH(T282,referentes!H:H,0),1))","v":""},{"$f":"IF(V282=\"\",\"\",INDEX(referentes!$M:$N,MATCH(V282,referentes!$N:$N,0),1))","v":""},{"$f":"IF(W282=\"\",\"\",INDEX(referentes!J:K,MATCH(W282,referentes!K:K,0),1))","v":""},null,{"$f":"IF(Y282<>\"\",CONCATENATE($A$3,P282,DIGITADOR!$M$1,Y282,ROW()),\"\")","v":""},{"$f":"IF(Y282<>\"\",CONCATENATE(P282,INT(Q282*1440),DIGITADOR!$M$1,Y282),\"\")","v":""},null,{"$f":"IF(AO282<>\"\",INDEX(referentes!$Y:$Z,MATCH(DATOS!AO282,referentes!$Z:$Z,0),1),\"\")","v":""},"","",{"$f":"IF(R282=\"\",\"\",INDEX(referentes!D:E,MATCH(R282,referentes!E:E,0),1))","v":""},null,null,null,null,null,null,null,null,null,{"$f":"IF(X282=\"\",\"\",INDEX(referentes!$AT:$AX,MATCH(X282,referentes!$AX:$AX,0),1))","v":""},null,null,{"$f":"IF(AC282=\"\",\"\",INDEX(referentes!AZ:BA,MATCH(AC282,referentes!BA:BA,0),1))","v":""},null,null,null,null,null,null,null,null,null,null,null,null,null,null,{"$f":"IF(N282<>\"\",INDEX(referentes!$AK:$AM,MATCH(DATOS!M282,referentes!$AK:$AK,0),3),\"\")","v":""},null,null,{"$f":"IF(AS282=\"\",\"\",INDEX(referentes!P:Q,MATCH(AS282,referentes!Q:Q,0),1))","v":""},null,null,null,{"$f":"IF(AY282=\"\",\"\",INDEX(referentes!AB:AC,MATCH(AY282,referentes!AC:AC,0),1))","v":""},null,{"$f":"IF(BA282=\"\",\"\",INDEX(referentes!S:T,MATCH(BA282,referentes!T:T,0),1))","v":""},null,null,{"$f":"IF(AA282=\"\",\"\",INDEX(OtrasReferencias!$AM$7:$AN$9,MATCH(AA282,OtrasReferencias!$AM$7:$AM$9,0),2))","v":""}]
[null,null,"","",{"$f":"IF(T283=\"\",\"\",INDEX(referentes!G:H,MATCH(T283,referentes!H:H,0),1))","v":""},{"$f":"IF(V283=\"\",\"\",INDEX(referentes!$M:$N,MATCH(V283,referentes!$N:$N,0),1))","v":""},{"$f":"IF(W283=\"\",\"\",INDEX(referentes!J:K,MATCH(W283,referentes!K:K,0),1))","v":""},null,{"$f":"IF(Y283<>\"\",CONCATENATE($A$3,P283,DIGITADOR!$M$1,Y283,ROW()),\"\")","v":""},{"$f":"IF(Y283<>\"\",CONCATENATE(P283,INT(Q283*1440),DIGITADOR!$M$1,Y283),\"\")","v":""},null,{"$f":"IF(AO283<>\"\",INDEX(referentes!$Y:$Z,MATCH(DATOS!AO283,referentes!$Z:$Z,0),1),\"\")","v":""},"","",{"$f":"IF(R283=\"\",\"\",INDEX(referentes!D:E,MATCH(R283,referentes!E:E,0),1))","v":""},null,null,null,null,null,null,null,null,null,{"$f":"IF(X283=\"\",\"\",INDEX(referentes!$AT:$AX,MATCH(X283,referentes!$AX:$AX,0),1))","v":""},null,null,{"$f":"IF(AC283=\"\",\"\",INDEX(referentes!AZ:BA,MATCH(AC283,referentes!BA:BA,0),1))","v":""},null,null,null,null,null,null,null,null,null,null,null,null,null,null,{"$f":"IF(N283<>\"\",INDEX(referentes!$AK:$AM,MATCH(DATOS!M283,referentes!$AK:$AK,0),3),\"\")","v":""},null,null,{"$f":"IF(AS283=\"\",\"\",INDEX(referentes!P:Q,MATCH(AS283,referentes!Q:Q,0),1))","v":""},null,null,null,{"$f":"IF(AY283=\"\",\"\",INDEX(referentes!AB:AC,MATCH(AY283,referentes!AC:AC,0),1))","v":""},null,{"$f":"IF(BA283=\"\",\"\",INDEX(referentes!S:T,MATCH(BA283,referentes!T:T,0),1))","v":""},null,null,{"$f":"IF(AA283=\"\",\"\",INDEX(OtrasReferencias!$AM$7:$AN$9,MATCH(AA283,OtrasReferencias!$AM$7:$AM$9,0),2))","v":""}]
[null,null,"","",{"$f":"IF(T284=\"\",\"\",INDEX(referentes!G:H,MATCH(T284,referentes!H:H,0),1))","v":""},{"$f":"IF(V284=\"\",\"\",INDEX(referentes!$M:$N,MATCH(V284,referentes!$N:$N,0),1))","v":""},{"$f":"IF(W284=\"\",\"\",INDEX(referentes!J:K,MATCH(W284,referentes!K:K,0),1))","v":""},null,{"$f":"IF(Y284<>\"\",CONCATENATE($A$3,P284,DIGITADOR!$M$1,Y284,ROW()),\"\")","v":""},{"$f":"IF(Y284<>\"\",CONCATENATE(P284,INT(Q284*1440),DIGITADOR!$M$1,Y284),\"\")","v":""},null,{"$f":"IF(AO284<>\"\",INDEX(referentes!$Y:$Z,MATCH(DATOS!AO284,referentes!$Z:$Z,0),1),\"\")","v":""},"","",{"$f":"IF(R284=\"\",\"\",INDEX(referentes!D:E,MATCH(R284,referentes!E:E,0),1))","v":""},null,null,null,null,null,null,null,null,null,{"$f":"IF(X284=\"\",\"\",INDEX(referentes!$AT:$AX,MATCH(X284,referentes!$AX:$AX,0),1))","v":""},null,null,{"$f":"IF(AC284=\"\",\"\",INDEX(referentes!AZ:BA,MATCH(AC284,referentes!BA:BA,0),1))","v":""},null,null,null,null,null,null,null,null,null,null,null,null,null,null,{"$f":"IF(N284<>\"\",INDEX(referentes!$AK:$AM,MATCH(DATOS!M284,referentes!$AK:$AK,0),3),\"\")","v":""},null,null,{"$f":"IF(AS284=\"\",\"\",INDEX(referentes!P:Q,MATCH(AS284,referentes!Q:Q,0),1))","v":""},null,null,null,{"$f":"IF(AY284=\"\",\"\",INDEX(referentes!AB:AC,MATCH(AY284,referentes!AC:AC,0),1))","v":""},null,{"$f":"IF(BA284=\"\",\"\",INDEX(referentes!S:T,MATCH(BA284,referentes!T:T,0),1))","v":""},null,null,{"$f":"IF(AA284=\"\",\"\",INDEX(OtrasReferencias!$AM$7:$AN$9,MATCH(AA284,OtrasReferencias!$AM$7:$AM$9,0),2))","v":""}]
[null,null,"","",{"$f":"IF(T285=\"\",\"\",INDEX(referentes!G:H,MATCH(T285,referentes!H:H,0),1))","v":""},{"$f":"IF(V285=\"\",\"\",INDEX(referentes!$M:$N,MATCH(V285,referentes!$N:$N,0),1))","v":""},{"$f":"IF(W285=\"\",\"\",INDEX(referentes!J:K,MATCH(W285,referentes!K:K,0),1))","v":""},null,{"$f":"IF(Y285<>\"\",CONCATENATE($A$3,P285,DIGITADOR!$M$1,Y285,ROW()),\"\")","v":""},{"$f":"IF(Y285<>\"\",CONCATENATE(P285,INT(Q285*1440),DIGITADOR!$M$1,Y285),\"\")","v":""},null,{"$f":"IF(AO285<>\"\",INDEX(referentes!$Y:$Z,MATCH(DATOS!AO285,referentes!$Z:$Z,0),1),\"\")","v":""},"","",{"$f":"IF(R285=\"\",\"\",INDEX(referentes!D:E,MATCH(R285,referentes!E:E,0),1))","v":""},null,null,null,null,null,null,null,null,null,{"$f":"IF(X285=\"\",\"\",INDEX(referentes!$AT:$AX,MATCH(X285,referentes!$AX:$AX,0),1))","v":""},null,null,{"$f":"IF(AC285=\"\",\"\",INDEX(referentes!AZ:BA,MATCH(AC285,referentes!BA:BA,0),1))","v":""},null,null,null,null,null,null,null,null,null,null,null,null,null,null,{"$f":"IF(N285<>\"\",INDEX(referentes!$AK:$AM,MATCH(DATOS!M285,referentes!$AK:$AK,0),3),\"\")","v":""},null,null,{"$f":"IF(AS285=\"\",\"\",INDEX(referentes!P:Q,MATCH(AS285,referentes!Q:Q,0),1))","v":""},null,null,null,{"$f":"IF(AY285=\"\",\"\",INDEX(referentes!AB:AC,MATCH(AY285,referentes!AC:AC,0),1))","v":""},null,{"$f":"IF(BA285=\"\",\"\",INDEX(referentes!S:T,MATCH(BA285,referentes!T:T,0),1))","v":""},null,null,{"$f":"IF(AA285=\"\",\"\",INDEX(OtrasReferencias!$AM$7:$AN$9,MATCH(AA285,OtrasReferencias!$AM$7:$AM$9,0),2))","v":""}]
[null,null,"","",{"$f":"IF(T286=\"\",\"\",INDEX(referentes!G:H,MATCH(T286,referentes!H:H,0),1))","v":""},{"$f":"IF(V286=\"\",\"\",INDEX(referentes!$M:$N,MATCH(V286,referentes!$N:$N,0),1))","v":""},{"$f":"IF(W286=\"\",\"\",INDEX(referentes!J:K,MATCH(W286,referentes!K:K,0),1))","v":""},null,{"$f":"IF(Y286<>\"\",CONCATENATE($A$3,P286,DIGITADOR!$M$1,Y286,ROW()),\"\")","v":""},{"$f":"IF(Y286<>\"\",CONCATENATE(P286,INT(Q286*1440),DIGITADOR!$M$1,Y286),\"\")","v":""},null,{"$f":"IF(AO286<>\"\",INDEX(referentes!$Y:$Z,MATCH(DATOS!AO286,referentes!$Z:$Z,0),1),\"\")","v":""},"","",{"$f":"IF(R286=\"\",\"\",INDEX(referentes!D:E,MATCH(R286,referentes!E:E,0),1))","v":""},null,null,null,null,null,null,null,null,null,{"$f":"IF(X286=\"\",\"\",INDEX(referentes!$AT:$AX,MATCH(X286,referentes!$AX:$AX,0),1))","v":""},null,null,{"$f":"IF(AC286=\"\",\"\",INDEX(referentes!AZ:BA,MATCH(AC286,referentes!BA:BA,0),1))","v":""},null,null,null,null,null,null,null,null,null,null,null,null,null,null,{"$f":"IF(N286<>\"\",INDEX(referentes!$AK:$AM,MATCH(DATOS!M286,referentes!$AK:$AK,0),3),\"\")","v":""},null,null,{"$f":"IF(AS286=\"\",\"\",INDEX(referentes!P:Q,MATCH(AS286,referentes!Q:Q,0),1))","v":""},null,null,null,{"$f":"IF(AY286=\"\",\"\",INDEX(referentes!AB:AC,MATCH(AY286,referentes!AC:AC,0),1))","v":""},null,{"$f":"IF(BA286=\"\",\"\",INDEX(referentes!S:T,MATCH(BA286,referentes!T:T,0),1))","v":""},null,null,{"$f":"IF(AA286=\"\",\"\",INDEX(OtrasReferencias!$AM$7:$AN$9,MATCH(AA286,OtrasReferencias!$AM$7:$AM$9,0),2))","v":""}]
[null,null,"","",{"$f":"IF(T287=\"\",\"\",INDEX(referentes!G:H,MATCH(T287,referentes!H:H,0),1))","v":""},{"$f":"IF(V287=\"\",\"\",INDEX(referentes!$M:$N,MATCH(V287,referentes!$N:$N,0),1))","v":""},{"$f":"IF(W287=\"\",\"\",INDEX(referentes!J:K,MATCH(W287,referentes!K:K,0),1))","v":""},null,{"$f":"IF(Y287<>\"\",CONCATENATE($A$3,P287,DIGITADOR!$M$1,Y287,ROW()),\"\")","v":""},{"$f":"IF(Y287<>\"\",CONCATENATE(P287,INT(Q287*1440),DIGITADOR!$M$1,Y287),\"\")","v":""},null,{"$f":"IF(AO287<>\"\",INDEX(referentes!$Y:$Z,MATCH(DATOS!AO287,referentes!$Z:$Z,0),1),\"\")","v":""},"","",{"$f":"IF(R287=\"\",\"\",INDEX(referentes!D:E,MATCH(R287,referentes!E:E,0),1))","v":""},null,null,null,null,null,null,null,null,null,{"$f":"IF(X287=\"\",\"\",INDEX(referentes!$AT:$AX,MATCH(X287,referentes!$AX:$AX,0),1))","v":""},null,null,{"$f":"IF(AC287=\"\",\"\",INDEX(referentes!AZ:BA,MATCH(AC287,referentes!BA:BA,0),1))","v":""},null,null,null,null,null,null,null,null,null,null,null,null,null,null,{"$f":"IF(N287<>\"\",INDEX(referentes!$AK:$AM,MATCH(DATOS!M287,referentes!$AK:$AK,0),3),\"\")","v":""},null,null,{"$f":"IF(AS287=\"\",\"\",INDEX(referentes!P:Q,MATCH(AS287,referentes!Q:Q,0),1))","v":""},null,null,null,{"$f":"IF(AY287=\"\",\"\",INDEX(referentes!AB:AC,MATCH(AY287,referentes!AC:AC,0),1))","v":""},null,{"$f":"IF(BA287=\"\",\"\",INDEX(referentes!S:T,MATCH(BA287,referentes!T:T,0),1))","v":""},null,null,{"$f":"IF(AA287=\"\",\"\",INDEX(OtrasReferencias!$AM$7:$AN$9,MATCH(AA287,OtrasReferencias!$AM$7:$AM$9,0),2))","v":""}]
[null,null,"","",{"$f":"IF(T288=\"\",\"\",INDEX(referentes!G:H,MATCH(T288,referentes!H:H,0),1))","v":""},{"$f":"IF(V288=\"\",\"\",INDEX(referentes!$M:$N,MATCH(V288,referentes!$N:$N,0),1))","v":""},{"$f":"IF(W288=\"\",\"\",INDEX(referentes!J:K,MATCH(W288,referentes!K:K,0),1))","v":""},null,{"$f":"IF(Y288<>\"\",CONCATENATE($A$3,P288,DIGITADOR!$M$1,Y288,ROW()),\"\")","v":""},{"$f":"IF(Y288<>\"\",CONCATENATE(P288,INT(Q288*1440),DIGITADOR!$M$1,Y288),\"\")","v":""},null,{"$f":"IF(AO288<>\"\",INDEX(referentes!$Y:$Z,MATCH(DATOS!AO288,referentes!$Z:$Z,0),1),\"\")","v":""},"","",{"$f":"IF(R288=\"\",\"\",INDEX(referentes!D:E,MATCH(R288,referentes!E:E,0),1))","v":""},null,null,null,null,null,null,null,null,null,{"$f":"IF(X288=\"\",\"\",INDEX(referentes!$AT:$AX,MATCH(X288,referentes!$AX:$AX,0),1))","v":""},null,null,{"$f":"IF(AC288=\"\",\"\",INDEX(referentes!AZ:BA,MATCH(AC288,referentes!BA:BA,0),1))","v":""},null,null,null,null,null,null,null,null,null,null,null,null,null,null,{"$f":"IF(N288<>\"\",INDEX(referentes!$AK:$AM,MATCH(DATOS!M288,referentes!$AK:$AK,0),3),\"\")","v":""},null,null,{"$f":"IF(AS288=\"\",\"\",INDEX(referentes!P:Q,MATCH(AS288,referentes!Q:Q,0),1))","v":""},null,null,null,{"$f":"IF(AY288=\"\",\"\",INDEX(referentes!AB:AC,MATCH(AY288,referentes!AC:AC,0),1))","v":""},null,{"$f":"IF(BA288=\"\",\"\",INDEX(referentes!S:T,MATCH(BA288,referentes!T:T,0),1))","v":""},null,null,{"$f":"IF(AA288=\"\",\"\",INDEX(OtrasReferencias!$AM$7:$AN$9,MATCH(AA288,OtrasReferencias!$AM$7:$AM$9,0),2))","v":""}]
[null,null,"","",{"$f":"IF(T289=\"\",\"\",INDEX(referentes!G:H,MATCH(T289,referentes!H:H,0),1))","v":""},{"$f":"IF(V289=\"\",\"\",INDEX(referentes!$M:$N,MATCH(V289,referentes!$N:$N,0),1))","v":""},{"$f":"IF(W289=\"\",\"\",INDEX(referentes!J:K,MATCH(W289,referentes!K:K,0),1))","v":""},null,{"$f":"IF(Y289<>\"\",CONCATENATE($A$3,P289,DIGITADOR!$M$1,Y289,ROW()),\"\")","v":""},{"$f":"IF(Y289<>\"\",CONCATENATE(P289,INT(Q289*1440),DIGITADOR!$M$1,Y289),\"\")","v":""},null,{"$f":"IF(AO289<>\"\",INDEX(referentes!$Y:$Z,MATCH(DATOS!AO289,referentes!$Z:$Z,0),1),\"\")","v":""},"","",{"$f":"IF(R289=\"\",\"\",INDEX(referentes!D:E,MATCH(R289,referentes!E:E,0),1))","v":""},null,null,null,null,null,null,null,null,null,{"$f":"IF(X289=\"\",\"\",INDEX(referentes!$AT:$AX,MATCH(X289,referentes!$AX:$AX,0),1))","v":""},null,null,{"$f":"IF(AC289=\"\",\"\",INDEX(referentes!AZ:BA,MATCH(AC289,referentes!BA:BA,0),1))","v":""},null,null,null,null,null,null,null,null,null,null,null,null,null,null,{"$f":"IF(N289<>\"\",INDEX(referentes!$AK:$AM,MATCH(DATOS!M289,referentes!$AK:$AK,0),3),\"\")","v":""},null,null,{"$f":"IF(AS289=\"\",\"\",INDEX(referentes!P:Q,MATCH(AS289,referentes!Q:Q,0),1))","v":""},null,null,null,{"$f":"IF(AY289=\"\",\"\",INDEX(referentes!AB:AC,MATCH(AY289,referentes!AC:AC,0),1))","v":""},null,{"$f":"IF(BA289=\"\",\"\",INDEX(referentes!S:T,MATCH(BA289,referentes!T:T,0),1))","v":""},null,null,{"$f":"IF(AA289=\"\",\"\",INDEX(OtrasReferencias!$AM$7:$AN$9,MATCH(AA289,OtrasReferencias!$AM$7:$AM$9,0),2))","v":""}]
[null,null,"","",{"$f":"IF(T290=\"\",\"\",INDEX(referentes!G:H,MATCH(T290,referentes!H:H,0),1))","v":""},{"$f":"IF(V290=\"\",\"\",INDEX(referentes!$M:$N,MATCH(V290,referentes!$N:$N,0),1))","v":""},{"$f":"IF(W290=\"\",\"\",INDEX(referentes!J:K,MATCH(W290,referentes!K:K,0),1))","v":""},null,{"$f":"IF(Y290<>\"\",CONCATENATE($A$3,P290,DIGITADOR!$M$1,Y290,ROW()),\"\")","v":""},{"$f":"IF(Y290<>\"\",CONCATENATE(P290,INT(Q290*1440),DIGITADOR!$M$1,Y290),\"\")","v":""},null,{"$f":"IF(AO290<>\"\",INDEX(referentes!$Y:$Z,MATCH(DATOS!AO290,referentes!$Z:$Z,0),1),\"\")","v":""},"","",{"$f":"IF(R290=\"\",\"\",INDEX(referentes!D:E,MATCH(R290,referentes!E:E,0),1))","v":""},null,null,null,null,null,null,null,null,null,{"$f":"IF(X290=\"\",\"\",INDEX(referentes!$AT:$AX,MATCH(X290,referentes!$AX:$AX,0),1))","v":""},null,null,{"$f":"IF(AC290=\"\",\"\",INDEX(referentes!AZ:BA,MATCH(AC290,referentes!BA:BA,0),1))","v":""},null,null,null,null,null,null,null,null,null,null,null,null,null,null,{"$f":"IF(N290<>\"\",INDEX(referentes!$AK:$AM,MATCH(DATOS!M290,referentes!$AK:$AK,0),3),\"\")","v":""},null,null,{"$f":"IF(AS290=\"\",\"\",INDEX(referentes!P:Q,MATCH(AS290,referentes!Q:Q,0),1))","v":""},null,null,null,{"$f":"IF(AY290=\"\",\"\",INDEX(referentes!AB:AC,MATCH(AY290,referentes!AC:AC,0),1))","v":""},null,{"$f":"IF(BA290=\"\",\"\",INDEX(referentes!S:T,MATCH(BA290,referentes!T:T,0),1))","v":""},null,null,{"$f":"IF(AA290=\"\",\"\",INDEX(OtrasReferencias!$AM$7:$AN$9,MATCH(AA290,OtrasReferencias!$AM$7:$AM$9,0),2))","v":""}]
[null,null,"","",{"$f":"IF(T291=\"\",\"\",INDEX(referentes!G:H,MATCH(T291,referentes!H:H,0),1))","v":""},{"$f":"IF(V291=\"\",\"\",INDEX(referentes!$M:$N,MATCH(V291,referentes!$N:$N,0),1))","v":""},{"$f":"IF(W291=\"\",\"\",INDEX(referentes!J:K,MATCH(W291,referentes!K:K,0),1))","v":""},null,{"$f":"IF(Y291<>\"\",CONCATENATE($A$3,P291,DIGITADOR!$M$1,Y291,ROW()),\"\")","v":""},{"$f":"IF(Y291<>\"\",CONCATENATE(P291,INT(Q291*1440),DIGITADOR!$M$1,Y291),\"\")","v":""},null,{"$f":"IF(AO291<>\"\",INDEX(referentes!$Y:$Z,MATCH(DATOS!AO291,referentes!$Z:$Z,0),1),\"\")","v":""},"","",{"$f":"IF(R291=\"\",\"\",INDEX(referentes!D:E,MATCH(R291,referentes!E:E,0),1))","v":""},null,null,null,null,null,null,null,null,null,{"$f":"IF(X291=\"\",\"\",INDEX(referentes!$AT:$AX,MATCH(X291,referentes!$AX:$AX,0),1))","v":""},null,null,{"$f":"IF(AC291=\"\",\"\",INDEX(referentes!AZ:BA,MATCH(AC291,referentes!BA:BA,0),1))","v":""},null,null,null,null,null,null,null,null,null,null,null,null,null,null,{"$f":"IF(N291<>\"\",INDEX(referentes!$AK:$AM,MATCH(DATOS!M291,referentes!$AK:$AK,0),3),\"\")","v":""},null,null,{"$f":"IF(AS291=\"\",\"\",INDEX(referentes!P:Q,MATCH(AS291,referentes!Q:Q,0),1))","v":""},null,null,null,{"$f":"IF(AY291=\"\",\"\",INDEX(referentes!AB:AC,MATCH(AY291,referentes!AC:AC,0),1))","v":""},null,{"$f":"IF(BA291=\"\",\"\",INDEX(referentes!S:T,MATCH(BA291,referentes!T:T,0),1))","v":""},null,null,{"$f":"IF(AA291=\"\",\"\",INDEX(OtrasReferencias!$AM$7:$AN$9,MATCH(AA291,OtrasReferencias!$AM$7:$AM$9,0),2))","v":""}]
[null,null,"","",{"$f":"IF(T292=\"\",\"\",INDEX(referentes!G:H,MATCH(T292,referentes!H:H,0),1))","v":""},{"$f":"IF(V292=\"\",\"\",INDEX(referentes!$M:$N,MATCH(V292,referentes!$N:$N,0),1))","v":""},{"$f":"IF(W292=\"\",\"\",INDEX(referentes!J:K,MATCH(W292,referentes!K:K,0),1))","v":""},null,{"$f":"IF(Y292<>\"\",CONCATENATE($A$3,P292,DIGITADOR!$M$1,Y292,ROW()),\"\")","v":""},{"$f":"IF(Y292<>\"\",CONCATENATE(P292,INT(Q292*1440),DIGITADOR!$M$1,Y292),\"\")","v":""},null,{"$f":"IF(AO292<>\"\",INDEX(referentes!$Y:$Z,MATCH(DATOS!AO292,referentes!$Z:$Z,0),1),\"\")","v":""},"","",{"$f":"IF(R292=\"\",\"\",INDEX(referentes!D:E,MATCH(R292,referentes!E:E,0),1))","v":""},null,null,null,null,null,null,null,null,null,{"$f":"IF(X292=\"\",\"\",INDEX(referentes!$AT:$AX,MATCH(X292,referentes!$AX:$AX,0),1))","v":""},null,null,{"$f":"IF(AC292=\"\",\"\",INDEX(referentes!AZ:BA,MATCH(AC292,referentes!BA:BA,0),1))","v":""},null,null,null,null,null,null,null,null,null,null,null,null,null,null,{"$f":"IF(N292<>\"\",INDEX(referentes!$AK:$AM,MATCH(DATOS!M292,referentes!$AK:$AK,0),3),\"\")","v":""},null,null,{"$f":"IF(AS292=\"\",\"\",INDEX(referentes!P:Q,MATCH(AS292,referentes!Q:Q,0),1))","v":""},null,null,null,{"$f":"IF(AY292=\"\",\"\",INDEX(referentes!AB:AC,MATCH(AY292,referentes!AC:AC,0),1))","v":""},null,{"$f":"IF(BA292=\"\",\"\",INDEX(referentes!S:T,MATCH(BA292,referentes!T:T,0),1))","v":""},null,null,{"$f":"IF(AA292=\"\",\"\",INDEX(OtrasReferencias!$AM$7:$AN$9,MATCH(AA292,OtrasReferencias!$AM$7:$AM$9,0),2))","v":""}]
[null,null,"","",{"$f":"IF(T293=\"\",\"\",INDEX(referentes!G:H,MATCH(T293,referentes!H:H,0),1))","v":""},{"$f":"IF(V293=\"\",\"\",INDEX(referentes!$M:$N,MATCH(V293,referentes!$N:$N,0),1))","v":""},{"$f":"IF(W293=\"\",\"\",INDEX(referentes!J:K,MATCH(W293,referentes!K:K,0),1))","v":""},null,{"$f":"IF(Y293<>\"\",CONCATENATE($A$3,P293,DIGITADOR!$M$1,Y293,ROW()),\"\")","v":""},{"$f":"IF(Y293<>\"\",CONCATENATE(P293,INT(Q293*1440),DIGITADOR!$M$1,Y293),\"\")","v":""},null,{"$f":"IF(AO293<>\"\",INDEX(referentes!$Y:$Z,MATCH(DATOS!AO293,referentes!$Z:$Z,0),1),\"\")","v":""},"","",{"$f":"IF(R293=\"\",\"\",INDEX(referentes!D:E,MATCH(R293,referentes!E:E,0),1))","v":""},null,null,null,null,null,null,null,null,null,{"$f":"IF(X293=\"\",\"\",INDEX(referentes!$AT:$AX,MATCH(X293,referentes!$AX:$AX,0),1))","v":""},null,null,{"$f":"IF(AC293=\"\",\"\",INDEX(referentes!AZ:BA,MATCH(AC293,referentes!BA:BA,0),1))","v":""},null,null,null,null,null,null,null,null,null,null,null,null,null,null,{"$f":"IF(N293<>\"\",INDEX(referentes!$AK:$AM,MATCH(DATOS!M293,referentes!$AK:$AK,0),3),\"\")","v":""},null,null,{"$f":"IF(AS293=\"\",\"\",INDEX(referentes!P:Q,MATCH(AS293,referentes!Q:Q,0),1))","v":""},null,null,null,{"$f":"IF(AY293=\"\",\"\",INDEX(referentes!AB:AC,MATCH(AY293,referentes!AC:AC,0),1))","v":""},null,{"$f":"IF(BA293=\"\",\"\",INDEX(referentes!S:T,MATCH(BA293,referentes!T:T,0),1))","v":""},null,null,{"$f":"IF(AA293=\"\",\"\",INDEX(OtrasReferencias!$AM$7:$AN$9,MATCH(AA293,OtrasReferencias!$AM$7:$AM$9,0),2))","v":""}]
[null,null,"","",{"$f":"IF(T294=\"\",\"\",INDEX(referentes!G:H,MATCH(T294,referentes!H:H,0),1))","v":""},{"$f":"IF(V294=\"\",\"\",INDEX(referentes!$M:$N,MATCH(V294,referentes!$N:$N,0),1))","v":""},{"$f":"IF(W294=\"\",\"\",INDEX(referentes!J:K,MATCH(W294,referentes!K:K,0),1))","v":""},null,{"$f":"IF(Y294<>\"\",CONCATENATE($A$3,P294,DIGITADOR!$M$1,Y294,ROW()),\"\")","v":""},{"$f":"IF(Y294<>\"\",CONCATENATE(P294,INT(Q294*1440),DIGITADOR!$M$1,Y294),\"\")","v":""},null,{"$f":"IF(AO294<>\"\",INDEX(referentes!$Y:$Z,MATCH(DATOS!AO294,referentes!$Z:$Z,0),1),\"\")","v":""},"","",{"$f":"IF(R294=\"\",\"\",INDEX(referentes!D:E,MATCH(R294,referentes!E:E,0),1))","v":""},null,null,null,null,null,null,null,null,null,{"$f":"IF(X294=\"\",\"\",INDEX(referentes!$AT:$AX,MATCH(X294,referentes!$AX:$AX,0),1))","v":""},null,null,{"$f":"IF(AC294=\"\",\"\",INDEX(referentes!AZ:BA,MATCH(AC294,referentes!BA:BA,0),1))","v":""},null,null,null,null,null,null,null,null,null,null,null,null,null,null,{"$f":"IF(N294<>\"\",INDEX(referentes!$AK:$AM,MATCH(DATOS!M294,referentes!$AK:$AK,0),3),\"\")","v":""},null,null,{"$f":"IF(AS294=\"\",\"\",INDEX(referentes!P:Q,MATCH(AS294,referentes!Q:Q,0),1))","v":""},null,null,null,{"$f":"IF(AY294=\"\",\"\",INDEX(referentes!AB:AC,MATCH(AY294,referentes!AC:AC,0),1))","v":""},null,{"$f":"IF(BA294=\"\",\"\",INDEX(referentes!S:T,MATCH(BA294,referentes!T:T,0),1))","v":""},null,null,{"$f":"IF(AA294=\"\",\"\",INDEX(OtrasReferencias!$AM$7:$AN$9,MATCH(AA294,OtrasReferencias!$AM$7:$AM$9,0),2))","v":""}]
[null,null,"","",{"$f":"IF(T295=\"\",\"\",INDEX(referentes!G:H,MATCH(T295,referentes!H:H,0),1))","v":""},{"$f":"IF(V295=\"\",\"\",INDEX(referentes!$M:$N,MATCH(V295,referentes!$N:$N,0),1))","v":""},{"$f":"IF(W295=\"\",\"\",INDEX(referentes!J:K,MATCH(W295,referentes!K:K,0),1))","v":""},null,{"$f":"IF(Y295<>\"\",CONCATENATE($A$3,P295,DIGITADOR!$M$1,Y295,ROW()),\"\")","v":""},{"$f":"IF(Y295<>\"\",CONCATENATE(P295,INT(Q295*1440),DIGITADOR!$M$1,Y295),\"\")","v":""},null,{"$f":"IF(AO295<>\"\",INDEX(referentes!$Y:$Z,MATCH(DATOS!AO295,referentes!$Z:$Z,0),1),\"\")","v":""},"","",{"$f":"IF(R295=\"\",\"\",INDEX(referentes!D:E,MATCH(R295,referentes!E:E,0),1))","v":""},null,null,null,null,null,null,null,null,null,{"$f":"IF(X295=\"\",\"\",INDEX(referentes!$AT:$AX,MATCH(X295,referentes!$AX:$AX,0),1))","v":""},null,null,{"$f":"IF(AC295=\"\",\"\",INDEX(referentes!AZ:BA,MATCH(AC295,referentes!BA:BA,0),1))","v":""},null,null,null,null,null,null,null,null,null,null,null,null,null,null,{"$f":"IF(N295<>\"\",INDEX(referentes!$AK:$AM,MATCH(DATOS!M295,referentes!$AK:$AK,0),3),\"\")","v":""},null,null,{"$f":"IF(AS295=\"\",\"\",INDEX(referentes!P:Q,MATCH(AS295,referentes!Q:Q,0),1))","v":""},null,null,null,{"$f":"IF(AY295=\"\",\"\",INDEX(referentes!AB:AC,MATCH(AY295,referentes!AC:AC,0),1))","v":""},null,{"$f":"IF(BA295=\"\",\"\",INDEX(referentes!S:T,MATCH(BA295,referentes!T:T,0),1))","v":""},null,null,{"$f":"IF(AA295=\"\",\"\",INDEX(OtrasReferencias!$AM$7:$AN$9,MATCH(AA295,OtrasReferencias!$AM$7:$AM$9,0),2))","v":""}]
[null,null,"","",{"$f":"IF(T296=\"\",\"\",INDEX(referentes!G:H,MATCH(T296,referentes!H:H,0),1))","v":""},{"$f":"IF(V296=\"\",\"\",INDEX(referentes!$M:$N,MATCH(V296,referentes!$N:$N,0),1))","v":""},{"$f":"IF(W296=\"\",\"\",INDEX(referentes!J:K,MATCH(W296,referentes!K:K,0),1))","v":""},null,{"$f":"IF(Y296<>\"\",CONCATENATE($A$3,P296,DIGITADOR!$M$1,Y296,ROW()),\"\")","v":""},{"$f":"IF(Y296<>\"\",CONCATENATE(P296,INT(Q296*1440),DIGITADOR!$M$1,Y296),\"\")","v":""},null,{"$f":"IF(AO296<>\"\",INDEX(referentes!$Y:$Z,MATCH(DATOS!AO296,referentes!$Z:$Z,0),1),\"\")","v":""},"","",{"$f":"IF(R296=\"\",\"\",INDEX(referentes!D:E,MATCH(R296,referentes!E:E,0),1))","v":""},null,null,null,null,null,null,null,null,null,{"$f":"IF(X296=\"\",\"\",INDEX(referentes!$AT:$AX,MATCH(X296,referentes!$AX:$AX,0),1))","v":""},null,null,{"$f":"IF(AC296=\"\",\"\",INDEX(referentes!AZ:BA,MATCH(AC296,referentes!BA:BA,0),1))","v":""},null,null,null,null,null,null,null,null,null,null,null,null,null,null,{"$f":"IF(N296<>\"\",INDEX(referentes!$AK:$AM,MATCH(DATOS!M296,referentes!$AK:$AK,0),3),\"\")","v":""},null,null,{"$f":"IF(AS296=\"\",\"\",INDEX(referentes!P:Q,MATCH(AS296,referentes!Q:Q,0),1))","v":""},null,null,null,{"$f":"IF(AY296=\"\",\"\",INDEX(referentes!AB:AC,MATCH(AY296,referentes!AC:AC,0),1))","v":""},null,{"$f":"IF(BA296=\"\",\"\",INDEX(referentes!S:T,MATCH(BA296,referentes!T:T,0),1))","v":""},null,null,{"$f":"IF(AA296=\"\",\"\",INDEX(OtrasReferencias!$AM$7:$AN$9,MATCH(AA296,OtrasReferencias!$AM$7:$AM$9,0),2))","v":""}]
[null,null,"","",{"$f":"IF(T297=\"\",\"\",INDEX(referentes!G:H,MATCH(T297,referentes!H:H,0),1))","v":""},{"$f":"IF(V297=\"\",\"\",INDEX(referentes!$M:$N,MATCH(V297,referentes!$N:$N,0),1))","v":""},{"$f":"IF(W297=\"\",\"\",INDEX(referentes!J:K,MATCH(W297,referentes!K:K,0),1))","v":""},null,{"$f":"IF(Y297<>\"\",CONCATENATE($A$3,P297,DIGITADOR!$M$1,Y297,ROW()),\"\")","v":""},{"$f":"IF(Y297<>\"\",CONCATENATE(P297,INT(Q297*1440),DIGITADOR!$M$1,Y297),\"\")","v":""},null,{"$f":"IF(AO297<>\"\",INDEX(referentes!$Y:$Z,MATCH(DATOS!AO297,referentes!$Z:$Z,0),1),\"\")","v":""},"","",{"$f":"IF(R297=\"\",\"\",INDEX(referentes!D:E,MATCH(R297,referentes!E:E,0),1))","v":""},null,null,null,null,null,null,null,null,null,{"$f":"IF(X297=\"\",\"\",INDEX(referentes!$AT:$AX,MATCH(X297,referentes!$AX:$AX,0),1))","v":""},null,null,{"$f":"IF(AC297=\"\",\"\",INDEX(referentes!AZ:BA,MATCH(AC297,referentes!BA:BA,0),1))","v":""},null,null,null,null,null,null,null,null,null,null,null,null,null,null,{"$f":"IF(N297<>\"\",INDEX(referentes!$AK:$AM,MATCH(DATOS!M297,referentes!$AK:$AK,0),3),\"\")","v":""},null,null,{"$f":"IF(AS297=\"\",\"\",INDEX(referentes!P:Q,MATCH(AS297,referentes!Q:Q,0),1))","v":""},null,null,null,{"$f":"IF(AY297=\"\",\"\",INDEX(referentes!AB:AC,MATCH(AY297,referentes!AC:AC,0),1))","v":""},null,{"$f":"IF(BA297=\"\",\"\",INDEX(referentes!S:T,MATCH(BA297,referentes!T:T,0),1))","v":""},null,null,{"$f":"IF(AA297=\"\",\"\",INDEX(OtrasReferencias!$AM$7:$AN$9,MATCH(AA297,OtrasReferencias!$AM$7:$AM$9,0),2))","v":""}]
[null,null,"","",{"$f":"IF(T298=\"\",\"\",INDEX(referentes!G:H,MATCH(T298,referentes!H:H,0),1))","v":""},{"$f":"IF(V298=\"\",\"\",INDEX(referentes!$M:$N,MATCH(V298,referentes!$N:$N,0),1))","v":""},{"$f":"IF(W298=\"\",\"\",INDEX(referentes!J:K,MATCH(W298,referentes!K:K,0),1))","v":""},null,{"$f":"IF(Y298<>\"\",CONCATENATE($A$3,P298,DIGITADOR!$M$1,Y298,ROW()),\"\")","v":""},{"$f":"IF(Y298<>\"\",CONCATENATE(P298,INT(Q298*1440),DIGITADOR!$M$1,Y298),\"\")","v":""},null,{"$f":"IF(AO298<>\"\",INDEX(referentes!$Y:$Z,MATCH(DATOS!AO298,referentes!$Z:$Z,0),1),\"\")","v":""},"","",{"$f":"IF(R298=\"\",\"\",INDEX(referentes!D:E,MATCH(R298,referentes!E:E,0),1))","v":""},null,null,null,null,null,null,null,null,null,{"$f":"IF(X298=\"\",\"\",INDEX(referentes!$AT:$AX,MATCH(X298,referentes!$AX:$AX,0),1))","v":""},null,null,{"$f":"IF(AC298=\"\",\"\",INDEX(referentes!AZ:BA,MATCH(AC298,referentes!BA:BA,0),1))","v":""},null,null,null,null,null,null,null,null,null,null,null,null,null,null,{"$f":"IF(N298<>\"\",INDEX(referentes!$AK:$AM,MATCH(DATOS!M298,referentes!$AK:$AK,0),3),\"\")","v":""},null,null,{"$f":"IF(AS298=\"\",\"\",INDEX(referentes!P:Q,MATCH(AS298,referentes!Q:Q,0),1))","v":""},null,null,null,{"$f":"IF(AY298=\"\",\"\",INDEX(referentes!AB:AC,MATCH(AY298,referentes!AC:AC,0),1))","v":""},null,{"$f":"IF(BA298=\"\",\"\",INDEX(referentes!S:T,MATCH(BA298,referentes!T:T,0),1))","v":""},null,null,{"$f":"IF(AA298=\"\",\"\",INDEX(OtrasReferencias!$AM$7:$AN$9,MATCH(AA298,OtrasReferencias!$AM$7:$AM$9,0),2))","v":""}]
[null,null,"","",{"$f":"IF(T299=\"\",\"\",INDEX(referentes!G:H,MATCH(T299,referentes!H:H,0),1))","v":""},{"$f":"IF(V299=\"\",\"\",INDEX(referentes!$M:$N,MATCH(V299,referentes!$N:$N,0),1))","v":""},{"$f":"IF(W299=\"\",\"\",INDEX(referentes!J:K,MATCH(W299,referentes!K:K,0),1))","v":""},null,{"$f":"IF(Y299<>\"\",CONCATENATE($A$3,P299,DIGITADOR!$M$1,Y299,ROW()),\"\")","v":""},{"$f":"IF(Y299<>\"\",CONCATENATE(P299,INT(Q299*1440),DIGITADOR!$M$1,Y299),\"\")","v":""},null,{"$f":"IF(AO299<>\"\",INDEX(referentes!$Y:$Z,MATCH(DATOS!AO299,referentes!$Z:$Z,0),1),\"\")","v":""},"","",{"$f":"IF(R299=\"\",\"\",INDEX(referentes!D:E,MATCH(R299,referentes!E:E,0),1))","v":""},null,null,null,null,null,null,null,null,null,{"$f":"IF(X299=\"\",\"\",INDEX(referentes!$AT:$AX,MATCH(X299,referentes!$AX:$AX,0),1))","v":""},null,null,{"$f":"IF(AC299=\"\",\"\",INDEX(referentes!AZ:BA,MATCH(AC299,referentes!BA:BA,0),1))","v":""},null,null,null,null,null,null,null,null,null,null,null,null,null,null,{"$f":"IF(N299<>\"\",INDEX(referentes!$AK:$AM,MATCH(DATOS!M299,referentes!$AK:$AK,0),3),\"\")","v":""},null,null,{"$f":"IF(AS299=\"\",\"\",INDEX(referentes!P:Q,MATCH(AS299,referentes!Q:Q,0),1))","v":""},null,null,null,{"$f":"IF(AY299=\"\",\"\",INDEX(referentes!AB:AC,MATCH(AY299,referentes!AC:AC,0),1))","v":""},null,{"$f":"IF(BA299=\"\",\"\",INDEX(referentes!S:T,MATCH(BA299,referentes!T:T,0),1))","v":""},null,null,{"$f":"IF(AA299=\"\",\"\",INDEX(OtrasReferencias!$AM$7:$AN$9,MATCH(AA299,OtrasReferencias!$AM$7:$AM$9,0),2))","v":""}]
[null,null,"","",{"$f":"IF(T300=\"\",\"\",INDEX(referentes!G:H,MATCH(T300,referentes!H:H,0),1))","v":""},{"$f":"IF(V300=\"\",\"\",INDEX(referentes!$M:$N,MATCH(V300,referentes!$N:$N,0),1))","v":""},{"$f":"IF(W300=\"\",\"\",INDEX(referentes!J:K,MATCH(W300,referentes!K:K,0),1))","v":""},null,{"$f":"IF(Y300<>\"\",CONCATENATE($A$3,P300,DIGITADOR!$M$1,Y300,ROW()),\"\")","v":""},{"$f":"IF(Y300<>\"\",CONCATENATE(P300,INT(Q300*1440),DIGITADOR!$M$1,Y300),\"\")","v":""},null,{"$f":"IF(AO300<>\"\",INDEX(referentes!$Y:$Z,MATCH(DATOS!AO300,referentes!$Z:$Z,0),1),\"\")","v":""},"","",{"$f":"IF(R300=\"\",\"\",INDEX(referentes!D:E,MATCH(R300,referentes!E:E,0),1))","v":""},null,null,null,null,null,null,null,null,null,{"$f":"IF(X300=\"\",\"\",INDEX(referentes!$AT:$AX,MATCH(X300,referentes!$AX:$AX,0),1))","v":""},null,null,{"$f":"IF(AC300=\"\",\"\",INDEX(referentes!AZ:BA,MATCH(AC300,referentes!BA:BA,0),1))","v":""},null,null,null,null,null,null,null,null,null,null,null,null,null,null,{"$f":"IF(N300<>\"\",INDEX(referentes!$AK:$AM,MATCH(DATOS!M300,referentes!$AK:$AK,0),3),\"\")","v":""},null,null,{"$f":"IF(AS300=\"\",\"\",INDEX(referentes!P:Q,MATCH(AS300,referentes!Q:Q,0),1))","v":""},null,null,null,{"$f":"IF(AY300=\"\",\"\",INDEX(referentes!AB:AC,MATCH(AY300,referentes!AC:AC,0),1))","v":""},null,{"$f":"IF(BA300=\"\",\"\",INDEX(referentes!S:T,MATCH(BA300,referentes!T:T,0),1))","v":""},null,null,{"$f":"IF(AA300=\"\",\"\",INDEX(OtrasReferencias!$AM$7:$AN$9,MATCH(AA300,OtrasReferencias!$AM$7:$AM$9,0),2))","v":""}]
[null,null,"","",{"$f":"IF(T301=\"\",\"\",INDEX(referentes!G:H,MATCH(T301,referentes!H:H,0),1))","v":""},{"$f":"IF(V301=\"\",\"\",INDEX(referentes!$M:$N,MATCH(V301,referentes!$N:$N,0),1))","v":""},{"$f":"IF(W301=\"\",\"\",INDEX(referentes!J:K,MATCH(W301,referentes!K:K,0),1))","v":""},null,{"$f":"IF(Y301<>\"\",CONCATENATE($A$3,P301,DIGITADOR!$M$1,Y301,ROW()),\"\")","v":""},{"$f":"IF(Y301<>\"\",CONCATENATE(P301,INT(Q301*1440),DIGITADOR!$M$1,Y301),\"\")","v":""},null,{"$f":"IF(AO301<>\"\",INDEX(referentes!$Y:$Z,MATCH(DATOS!AO301,referentes!$Z:$Z,0),1),\"\")","v":""},"","",{"$f":"IF(R301=\"\",\"\",INDEX(referentes!D:E,MATCH(R301,referentes!E:E,0),1))","v":""},null,null,null,null,null,null,null,null,null,{"$f":"IF(X301=\"\",\"\",INDEX(referentes!$AT:$AX,MATCH(X301,referentes!$AX:$AX,0),1))","v":""},null,null,{"$f":"IF(AC301=\"\",\"\",INDEX(referentes!AZ:BA,MATCH(AC301,referentes!BA:BA,0),1))","v":""},null,null,null,null,null,null,null,null,null,null,null,null,null,null,{"$f":"IF(N301<>\"\",INDEX(referentes!$AK:$AM,MATCH(DATOS!M301,referentes!$AK:$AK,0),3),\"\")","v":""},null,null,{"$f":"IF(AS301=\"\",\"\",INDEX(referentes!P:Q,MATCH(AS301,referentes!Q:Q,0),1))","v":""},null,null,null,{"$f":"IF(AY301=\"\",\"\",INDEX(referentes!AB:AC,MATCH(AY301,referentes!AC:AC,0),1))","v":""},null,{"$f":"IF(BA301=\"\",\"\",INDEX(referentes!S:T,MATCH(BA301,referentes!T:T,0),1))","v":""},null,null,{"$f":"IF(AA301=\"\",\"\",INDEX(OtrasReferencias!$AM$7:$AN$9,MATCH(AA301,OtrasReferencias!$AM$7:$AM$9,0),2))","v":""}]
[null,null,"","",{"$f":"IF(T302=\"\",\"\",INDEX(referentes!G:H,MATCH(T302,referentes!H:H,0),1))","v":""},{"$f":"IF(V302=\"\",\"\",INDEX(referentes!$M:$N,MATCH(V302,referentes!$N:$N,0),1))","v":""},{"$f":"IF(W302=\"\",\"\",INDEX(referentes!J:K,MATCH(W302,referentes!K:K,0),1))","v":""},null,{"$f":"IF(Y302<>\"\",CONCATENATE($A$3,P302,DIGITADOR!$M$1,Y302,ROW()),\"\")","v":""},{"$f":"IF(Y302<>\"\",CONCATENATE(P302,INT(Q302*1440),DIGITADOR!$M$1,Y302),\"\")","v":""},null,{"$f":"IF(AO302<>\"\",INDEX(referentes!$Y:$Z,MATCH(DATOS!AO302,referentes!$Z:$Z,0),1),\"\")","v":""},"","",{"$f":"IF(R302=\"\",\"\",INDEX(referentes!D:E,MATCH(R302,referentes!E:E,0),1))","v":""},null,null,null,null,null,null,null,null,null,{"$f":"IF(X302=\"\",\"\",INDEX(referentes!$AT:$AX,MATCH(X302,referentes!$AX:$AX,0),1))","v":""},null,null,{"$f":"IF(AC302=\"\",\"\",INDEX(referentes!AZ:BA,MATCH(AC302,referentes!BA:BA,0),1))","v":""},null,null,null,null,null,null,null,null,null,null,null,null,null,null,{"$f":"IF(N302<>\"\",INDEX(referentes!$AK:$AM,MATCH(DATOS!M302,referentes!$AK:$AK,0),3),\"\")","v":""},null,null,{"$f":"IF(AS302=\"\",\"\",INDEX(referentes!P:Q,MATCH(AS302,referentes!Q:Q,0),1))","v":""},null,null,null,{"$f":"IF(AY302=\"\",\"\",INDEX(referentes!AB:AC,MATCH(AY302,referentes!AC:AC,0),1))","v":""},null,{"$f":"IF(BA302=\"\",\"\",INDEX(referentes!S:T,MATCH(BA302,referentes!T:T,0),1))","v":""},null,null,{"$f":"IF(AA302=\"\",\"\",INDEX(OtrasReferencias!$AM$7:$AN$9,MATCH(AA302,OtrasReferencias!$AM$7:$AM$9,0),2))","v":""}]
[null,null,"","",{"$f":"IF(T303=\"\",\"\",INDEX(referentes!G:H,MATCH(T303,referentes!H:H,0),1))","v":""},{"$f":"IF(V303=\"\",\"\",INDEX(referentes!$M:$N,MATCH(V303,referentes!$N:$N,0),1))","v":""},{"$f":"IF(W303=\"\",\"\",INDEX(referentes!J:K,MATCH(W303,referentes!K:K,0),1))","v":""},null,{"$f":"IF(Y303<>\"\",CONCATENATE($A$3,P303,DIGITADOR!$M$1,Y303,ROW()),\"\")","v":""},{"$f":"IF(Y303<>\"\",CONCATENATE(P303,INT(Q303*1440),DIGITADOR!$M$1,Y303),\"\")","v":""},null,{"$f":"IF(AO303<>\"\",INDEX(referentes!$Y:$Z,MATCH(DATOS!AO303,referentes!$Z:$Z,0),1),\"\")","v":""},"","",{"$f":"IF(R303=\"\",\"\",INDEX(referentes!D:E,MATCH(R303,referentes!E:E,0),1))","v":""},null,null,null,null,null,null,null,null,null,{"$f":"IF(X303=\"\",\"\",INDEX(referentes!$AT:$AX,MATCH(X303,referentes!$AX:$AX,0),1))","v":""},null,null,{"$f":"IF(AC303=\"\",\"\",INDEX(referentes!AZ:BA,MATCH(AC303,referentes!BA:BA,0),1))","v":""},null,null,null,null,null,null,null,null,null,null,null,null,null,null,{"$f":"IF(N303<>\"\",INDEX(referentes!$AK:$AM,MATCH(DATOS!M303,referentes!$AK:$AK,0),3),\"\")","v":""},null,null,{"$f":"IF(AS303=\"\",\"\",INDEX(referentes!P:Q,MATCH(AS303,referentes!Q:Q,0),1))","v":""},null,null,null,{"$f":"IF(AY303=\"\",\"\",INDEX(referentes!AB:AC,MATCH(AY303,referentes!AC:AC,0),1))","v":""},null,{"$f":"IF(BA303=\"\",\"\",INDEX(referentes!S:T,MATCH(BA303,referentes!T:T,0),1))","v":""},null,null,{"$f":"IF(AA303=\"\",\"\",INDEX(OtrasReferencias!$AM$7:$AN$9,MATCH(AA303,OtrasReferencias!$AM$7:$AM$9,0),2))","v":""}]
[null,null,"","",{"$f":"IF(T304=\"\",\"\",INDEX(referentes!G:H,MATCH(T304,referentes!H:H,0),1))","v":""},{"$f":"IF(V304=\"\",\"\",INDEX(referentes!$M:$N,MATCH(V304,referentes!$N:$N,0),1))","v":""},{"$f":"IF(W304=\"\",\"\",INDEX(referentes!J:K,MATCH(W304,referentes!K:K,0),1))","v":""},null,{"$f":"IF(Y304<>\"\",CONCATENATE($A$3,P304,DIGITADOR!$M$1,Y304,ROW()),\"\")","v":""},{"$f":"IF(Y304<>\"\",CONCATENATE(P304,INT(Q304*1440),DIGITADOR!$M$1,Y304),\"\")","v":""},null,{"$f":"IF(AO304<>\"\",INDEX(referentes!$Y:$Z,MATCH(DATOS!AO304,referentes!$Z:$Z,0),1),\"\")","v":""},"","",{"$f":"IF(R304=\"\",\"\",INDEX(referentes!D:E,MATCH(R304,referentes!E:E,0),1))","v":""},null,null,null,null,null,null,null,null,null,{"$f":"IF(X304=\"\",\"\",INDEX(referentes!$AT:$AX,MATCH(X304,referentes!$AX:$AX,0),1))","v":""},null,null,{"$f":"IF(AC304=\"\",\"\",INDEX(referentes!AZ:BA,MATCH(AC304,referentes!BA:BA,0),1))","v":""},null,null,null,null,null,null,null,null,null,null,null,null,null,null,{"$f":"IF(N304<>\"\",INDEX(referentes!$AK:$AM,MATCH(DATOS!M304,referentes!$AK:$AK,0),3),\"\")","v":""},null,null,{"$f":"IF(AS304=\"\",\"\",INDEX(referentes!P:Q,MATCH(AS304,referentes!Q:Q,0),1))","v":""},null,null,null,{"$f":"IF(AY304=\"\",\"\",INDEX(referentes!AB:AC,MATCH(AY304,referentes!AC:AC,0),1))","v":""},null,{"$f":"IF(BA304=\"\",\"\",INDEX(referentes!S:T,MATCH(BA304,referentes!T:T,0),1))","v":""},null,null,{"$f":"IF(AA304=\"\",\"\",INDEX(OtrasReferencias!$AM$7:$AN$9,MATCH(AA304,OtrasReferencias!$AM$7:$AM$9,0),2))","v":""}]
[null,null,"","",{"$f":"IF(T305=\"\",\"\",INDEX(referentes!G:H,MATCH(T305,referentes!H:H,0),1))","v":""},{"$f":"IF(V305=\"\",\"\",INDEX(referentes!$M:$N,MATCH(V305,referentes!$N:$N,0),1))","v":""},{"$f":"IF(W305=\"\",\"\",INDEX(referentes!J:K,MATCH(W305,referentes!K:K,0),1))","v":""},null,{"$f":"IF(Y305<>\"\",CONCATENATE($A$3,P305,DIGITADOR!$M$1,Y305,ROW()),\"\")","v":""},{"$f":"IF(Y305<>\"\",CONCATENATE(P305,INT(Q305*1440),DIGITADOR!$M$1,Y305),\"\")","v":""},null,{"$f":"IF(AO305<>\"\",INDEX(referentes!$Y:$Z,MATCH(DATOS!AO305,referentes!$Z:$Z,0),1),\"\")","v":""},"","",{"$f":"IF(R305=\"\",\"\",INDEX(referentes!D:E,MATCH(R305,referentes!E:E,0),1))","v":""},null,null,null,null,null,null,null,null,null,{"$f":"IF(X305=\"\",\"\",INDEX(referentes!$AT:$AX,MATCH(X305,referentes!$AX:$AX,0),1))","v":""},null,null,{"$f":"IF(AC305=\"\",\"\",INDEX(referentes!AZ:BA,MATCH(AC305,referentes!BA:BA,0),1))","v":""},null,null,null,null,null,null,null,null,null,null,null,null,null,null,{"$f":"IF(N305<>\"\",INDEX(referentes!$AK:$AM,MATCH(DATOS!M305,referentes!$AK:$AK,0),3),\"\")","v":""},null,null,{"$f":"IF(AS305=\"\",\"\",INDEX(referentes!P:Q,MATCH(AS305,referentes!Q:Q,0),1))","v":""},null,null,null,{"$f":"IF(AY305=\"\",\"\",INDEX(referentes!AB:AC,MATCH(AY305,referentes!AC:AC,0),1))","v":""},null,{"$f":"IF(BA305=\"\",\"\",INDEX(referentes!S:T,MATCH(BA305,referentes!T:T,0),1))","v":""},null,null,{"$f":"IF(AA305=\"\",\"\",INDEX(OtrasReferencias!$AM$7:$AN$9,MATCH(AA305,OtrasReferencias!$AM$7:$AM$9,0),2))","v":""}]
[null,null,"","",{"$f":"IF(T306=\"\",\"\",INDEX(referentes!G:H,MATCH(T306,referentes!H:H,0),1))","v":""},{"$f":"IF(V306=\"\",\"\",INDEX(referentes!$M:$N,MATCH(V306,referentes!$N:$N,0),1))","v":""},{"$f":"IF(W306=\"\",\"\",INDEX(referentes!J:K,MATCH(W306,referentes!K:K,0),1))","v":""},null,{"$f":"IF(Y306<>\"\",CONCATENATE($A$3,P306,DIGITADOR!$M$1,Y306,ROW()),\"\")","v":""},{"$f":"IF(Y306<>\"\",CONCATENATE(P306,INT(Q306*1440),DIGITADOR!$M$1,Y306),\"\")","v":""},null,{"$f":"IF(AO306<>\"\",INDEX(referentes!$Y:$Z,MATCH(DATOS!AO306,referentes!$Z:$Z,0),1),\"\")","v":""},"","",{"$f":"IF(R306=\"\",\"\",INDEX(referentes!D:E,MATCH(R306,referentes!E:E,0),1))","v":""},null,null,null,null,null,null,null,null,null,{"$f":"IF(X306=\"\",\"\",INDEX(referentes!$AT:$AX,MATCH(X306,referentes!$AX:$AX,0),1))","v":""},null,null,{"$f":"IF(AC306=\"\",\"\",INDEX(referentes!AZ:BA,MATCH(AC306,referentes!BA:BA,0),1))","v":""},null,null,null,null,null,null,null,null,null,null,null,null,null,null,{"$f":"IF(N306<>\"\",INDEX(referentes!$AK:$AM,MATCH(DATOS!M306,referentes!$AK:$AK,0),3),\"\")","v":""},null,null,{"$f":"IF(AS306=\"\",\"\",INDEX(referentes!P:Q,MATCH(AS306,referentes!Q:Q,0),1))","v":""},null,null,null,{"$f":"IF(AY306=\"\",\"\",INDEX(referentes!AB:AC,MATCH(AY306,referentes!AC:AC,0),1))","v":""},null,{"$f":"IF(BA306=\"\",\"\",INDEX(referentes!S:T,MATCH(BA306,referentes!T:T,0),1))","v":""},null,null,{"$f":"IF(AA306=\"\",\"\",INDEX(OtrasReferencias!$AM$7:$AN$9,MATCH(AA306,OtrasReferencias!$AM$7:$AM$9,0),2))","v":""}]
[null,null,"","",{"$f":"IF(T307=\"\",\"\",INDEX(referentes!G:H,MATCH(T307,referentes!H:H,0),1))","v":""},{"$f":"IF(V307=\"\",\"\",INDEX(referentes!$M:$N,MATCH(V307,referentes!$N:$N,0),1))","v":""},{"$f":"IF(W307=\"\",\"\",INDEX(referentes!J:K,MATCH(W307,referentes!K:K,0),1))","v":""},null,{"$f":"IF(Y307<>\"\",CONCATENATE($A$3,P307,DIGITADOR!$M$1,Y307,ROW()),\"\")","v":""},{"$f":"IF(Y307<>\"\",CONCATENATE(P307,INT(Q307*1440),DIGITADOR!$M$1,Y307),\"\")","v":""},null,{"$f":"IF(AO307<>\"\",INDEX(referentes!$Y:$Z,MATCH(DATOS!AO307,referentes!$Z:$Z,0),1),\"\")","v":""},"","",{"$f":"IF(R307=\"\",\"\",INDEX(referentes!D:E,MATCH(R307,referentes!E:E,0),1))","v":""},null,null,null,null,null,null,null,null,null,{"$f":"IF(X307=\"\",\"\",INDEX(referentes!$AT:$AX,MATCH(X307,referentes!$AX:$AX,0),1))","v":""},null,null,{"$f":"IF(AC307=\"\",\"\",INDEX(referentes!AZ:BA,MATCH(AC307,referentes!BA:BA,0),1))","v":""},null,null,null,null,null,null,null,null,null,null,null,null,null,null,{"$f":"IF(N307<>\"\",INDEX(referentes!$AK:$AM,MATCH(DATOS!M307,referentes!$AK:$AK,0),3),\"\")","v":""},null,null,{"$f":"IF(AS307=\"\",\"\",INDEX(referentes!P:Q,MATCH(AS307,referentes!Q:Q,0),1))","v":""},null,null,null,{"$f":"IF(AY307=\"\",\"\",INDEX(referentes!AB:AC,MATCH(AY307,referentes!AC:AC,0),1))","v":""},null,{"$f":"IF(BA307=\"\",\"\",INDEX(referentes!S:T,MATCH(BA307,referentes!T:T,0),1))","v":""},null,null,{"$f":"IF(AA307=\"\",\"\",INDEX(OtrasReferencias!$AM$7:$AN$9,MATCH(AA307,OtrasReferencias!$AM$7:$AM$9,0),2))","v":""}]
[null,null,"","",{"$f":"IF(T308=\"\",\"\",INDEX(referentes!G:H,MATCH(T308,referentes!H:H,0),1))","v":""},{"$f":"IF(V308=\"\",\"\",INDEX(referentes!$M:$N,MATCH(V308,referentes!$N:$N,0),1))","v":""},{"$f":"IF(W308=\"\",\"\",INDEX(referentes!J:K,MATCH(W308,referentes!K:K,0),1))","v":""},null,{"$f":"IF(Y308<>\"\",CONCATENATE($A$3,P308,DIGITADOR!$M$1,Y308,ROW()),\"\")","v":""},{"$f":"IF(Y308<>\"\",CONCATENATE(P308,INT(Q308*1440),DIGITADOR!$M$1,Y308),\"\")","v":""},null,{"$f":"IF(AO308<>\"\",INDEX(referentes!$Y:$Z,MATCH(DATOS!AO308,referentes!$Z:$Z,0),1),\"\")","v":""},"","",{"$f":"IF(R308=\"\",\"\",INDEX(referentes!D:E,MATCH(R308,referentes!E:E,0),1))","v":""},null,null,null,null,null,null,null,null,null,{"$f":"IF(X308=\"\",\"\",INDEX(referentes!$AT:$AX,MATCH(X308,referentes!$AX:$AX,0),1))","v":""},null,null,{"$f":"IF(AC308=\"\",\"\",INDEX(referentes!AZ:BA,MATCH(AC308,referentes!BA:BA,0),1))","v":""},null,null,null,null,null,null,null,null,null,null,null,null,null,null,{"$f":"IF(N308<>\"\",INDEX(referentes!$AK:$AM,MATCH(DATOS!M308,referentes!$AK:$AK,0),3),\"\")","v":""},null,null,{"$f":"IF(AS308=\"\",\"\",INDEX(referentes!P:Q,MATCH(AS308,referentes!Q:Q,0),1))","v":""},null,null,null,{"$f":"IF(AY308=\"\",\"\",INDEX(referentes!AB:AC,MATCH(AY308,referentes!AC:AC,0),1))","v":""},null,{"$f":"IF(BA308=\"\",\"\",INDEX(referentes!S:T,MATCH(BA308,referentes!T:T,0),1))","v":""},null,null,{"$f":"IF(AA308=\"\",\"\",INDEX(OtrasReferencias!$AM$7:$AN$9,MATCH(AA308,OtrasReferencias!$AM$7:$AM$9,0),2))","v":""}]
[null,null,"","",{"$f":"IF(T309=\"\",\"\",INDEX(referentes!G:H,MATCH(T309,referentes!H:H,0),1))","v":""},{"$f":"IF(V309=\"\",\"\",INDEX(referentes!$M:$N,MATCH(V309,referentes!$N:$N,0),1))","v":""},{"$f":"IF(W309=\"\",\"\",INDEX(referentes!J:K,MATCH(W309,referentes!K:K,0),1))","v":""},null,{"$f":"IF(Y309<>\"\",CONCATENATE($A$3,P309,DIGITADOR!$M$1,Y309,ROW()),\"\")","v":""},{"$f":"IF(Y309<>\"\",CONCATENATE(P309,INT(Q309*1440),DIGITADOR!$M$1,Y309),\"\")","v":""},null,{"$f":"IF(AO309<>\"\",INDEX(referentes!$Y:$Z,MATCH(DATOS!AO309,referentes!$Z:$Z,0),1),\"\")","v":""},"","",{"$f":"IF(R309=\"\",\"\",INDEX(referentes!D:E,MATCH(R309,referentes!E:E,0),1))","v":""},null,null,null,null,null,null,null,null,null,{"$f":"IF(X309=\"\",\"\",INDEX(referentes!$AT:$AX,MATCH(X309,referentes!$AX:$AX,0),1))","v":""},null,null,{"$f":"IF(AC309=\"\",\"\",INDEX(referentes!AZ:BA,MATCH(AC309,referentes!BA:BA,0),1))","v":""},null,null,null,null,null,null,null,null,null,null,null,null,null,null,{"$f":"IF(N309<>\"\",INDEX(referentes!$AK:$AM,MATCH(DATOS!M309,referentes!$AK:$AK,0),3),\"\")","v":""},null,null,{"$f":"IF(AS309=\"\",\"\",INDEX(referentes!P:Q,MATCH(AS309,referentes!Q:Q,0),1))","v":""},null,null,null,{"$f":"IF(AY309=\"\",\"\",INDEX(referentes!AB:AC,MATCH(AY309,referentes!AC:AC,0),1))","v":""},null,{"$f":"IF(BA309=\"\",\"\",INDEX(referentes!S:T,MATCH(BA309,referentes!T:T,0),1))","v":""},null,null,{"$f":"IF(AA309=\"\",\"\",INDEX(OtrasReferencias!$AM$7:$AN$9,MATCH(AA309,OtrasReferencias!$AM$7:$AM$9,0),2))","v":""}]
[null,null,"","",{"$f":"IF(T310=\"\",\"\",INDEX(referentes!G:H,MATCH(T310,referentes!H:H,0),1))","v":""},{"$f":"IF(V310=\"\",\"\",INDEX(referentes!$M:$N,MATCH(V310,referentes!$N:$N,0),1))","v":""},{"$f":"IF(W310=\"\",\"\",INDEX(referentes!J:K,MATCH(W310,referentes!K:K,0),1))","v":""},null,{"$f":"IF(Y310<>\"\",CONCATENATE($A$3,P310,DIGITADOR!$M$1,Y310,ROW()),\"\")","v":""},{"$f":"IF(Y310<>\"\",CONCATENATE(P310,INT(Q310*1440),DIGITADOR!$M$1,Y310),\"\")","v":""},null,{"$f":"IF(AO310<>\"\",INDEX(referentes!$Y:$Z,MATCH(DATOS!AO310,referentes!$Z:$Z,0),1),\"\")","v":""},"","",{"$f":"IF(R310=\"\",\"\",INDEX(referentes!D:E,MATCH(R310,referentes!E:E,0),1))","v":""},null,null,null,null,null,null,null,null,null,{"$f":"IF(X310=\"\",\"\",INDEX(referentes!$AT:$AX,MATCH(X310,referentes!$AX:$AX,0),1))","v":""},null,null,{"$f":"IF(AC310=\"\",\"\",INDEX(referentes!AZ:BA,MATCH(AC310,referentes!BA:BA,0),1))","v":""},null,null,null,null,null,null,null,null,null,null,null,null,null,null,{"$f":"IF(N310<>\"\",INDEX(referentes!$AK:$AM,MATCH(DATOS!M310,referentes!$AK:$AK,0),3),\"\")","v":""},null,null,{"$f":"IF(AS310=\"\",\"\",INDEX(referentes!P:Q,MATCH(AS310,referentes!Q:Q,0),1))","v":""},null,null,null,{"$f":"IF(AY310=\"\",\"\",INDEX(referentes!AB:AC,MATCH(AY310,referentes!AC:AC,0),1))","v":""},null,{"$f":"IF(BA310=\"\",\"\",INDEX(referentes!S:T,MATCH(BA310,referentes!T:T,0),1))","v":""},null,null,{"$f":"IF(AA310=\"\",\"\",INDEX(OtrasReferencias!$AM$7:$AN$9,MATCH(AA310,OtrasReferencias!$AM$7:$AM$9,0),2))","v":""}]
[null,null,"","",{"$f":"IF(T311=\"\",\"\",INDEX(referentes!G:H,MATCH(T311,referentes!H:H,0),1))","v":""},{"$f":"IF(V311=\"\",\"\",INDEX(referentes!$M:$N,MATCH(V311,referentes!$N:$N,0),1))","v":""},{"$f":"IF(W311=\"\",\"\",INDEX(referentes!J:K,MATCH(W311,referentes!K:K,0),1))","v":""},null,{"$f":"IF(Y311<>\"\",CONCATENATE($A$3,P311,DIGITADOR!$M$1,Y311,ROW()),\"\")","v":""},{"$f":"IF(Y311<>\"\",CONCATENATE(P311,INT(Q311*1440),DIGITADOR!$M$1,Y311),\"\")","v":""},null,{"$f":"IF(AO311<>\"\",INDEX(referentes!$Y:$Z,MATCH(DATOS!AO311,referentes!$Z:$Z,0),1),\"\")","v":""},"","",{"$f":"IF(R311=\"\",\"\",INDEX(referentes!D:E,MATCH(R311,referentes!E:E,0),1))","v":""},null,null,null,null,null,null,null,null,null,{"$f":"IF(X311=\"\",\"\",INDEX(referentes!$AT:$AX,MATCH(X311,referentes!$AX:$AX,0),1))","v":""},null,null,{"$f":"IF(AC311=\"\",\"\",INDEX(referentes!AZ:BA,MATCH(AC311,referentes!BA:BA,0),1))","v":""},null,null,null,null,null,null,null,null,null,null,null,null,null,null,{"$f":"IF(N311<>\"\",INDEX(referentes!$AK:$AM,MATCH(DATOS!M311,referentes!$AK:$AK,0),3),\"\")","v":""},null,null,{"$f":"IF(AS311=\"\",\"\",INDEX(referentes!P:Q,MATCH(AS311,referentes!Q:Q,0),1))","v":""},null,null,null,{"$f":"IF(AY311=\"\",\"\",INDEX(referentes!AB:AC,MATCH(AY311,referentes!AC:AC,0),1))","v":""},null,{"$f":"IF(BA311=\"\",\"\",INDEX(referentes!S:T,MATCH(BA311,referentes!T:T,0),1))","v":""},null,null,{"$f":"IF(AA311=\"\",\"\",INDEX(OtrasReferencias!$AM$7:$AN$9,MATCH(AA311,OtrasReferencias!$AM$7:$AM$9,0),2))","v":""}]
[null,null,"","",{"$f":"IF(T312=\"\",\"\",INDEX(referentes!G:H,MATCH(T312,referentes!H:H,0),1))","v":""},{"$f":"IF(V312=\"\",\"\",INDEX(referentes!$M:$N,MATCH(V312,referentes!$N:$N,0),1))","v":""},{"$f":"IF(W312=\"\",\"\",INDEX(referentes!J:K,MATCH(W312,referentes!K:K,0),1))","v":""},null,{"$f":"IF(Y312<>\"\",CONCATENATE($A$3,P312,DIGITADOR!$M$1,Y312,ROW()),\"\")","v":""},{"$f":"IF(Y312<>\"\",CONCATENATE(P312,INT(Q312*1440),DIGITADOR!$M$1,Y312),\"\")","v":""},null,{"$f":"IF(AO312<>\"\",INDEX(referentes!$Y:$Z,MATCH(DATOS!AO312,referentes!$Z:$Z,0),1),\"\")","v":""},"","",{"$f":"IF(R312=\"\",\"\",INDEX(referentes!D:E,MATCH(R312,referentes!E:E,0),1))","v":""},null,null,null,null,null,null,null,null,null,{"$f":"IF(X312=\"\",\"\",INDEX(referentes!$AT:$AX,MATCH(X312,referentes!$AX:$AX,0),1))","v":""},null,null,{"$f":"IF(AC312=\"\",\"\",INDEX(referentes!AZ:BA,MATCH(AC312,referentes!BA:BA,0),1))","v":""},null,null,null,null,null,null,null,null,null,null,null,null,null,null,{"$f":"IF(N312<>\"\",INDEX(referentes!$AK:$AM,MATCH(DATOS!M312,referentes!$AK:$AK,0),3),\"\")","v":""},null,null,{"$f":"IF(AS312=\"\",\"\",INDEX(referentes!P:Q,MATCH(AS312,referentes!Q:Q,0),1))","v":""},null,null,null,{"$f":"IF(AY312=\"\",\"\",INDEX(referentes!AB:AC,MATCH(AY312,referentes!AC:AC,0),1))","v":""},null,{"$f":"IF(BA312=\"\",\"\",INDEX(referentes!S:T,MATCH(BA312,referentes!T:T,0),1))","v":""},null,null,{"$f":"IF(AA312=\"\",\"\",INDEX(OtrasReferencias!$AM$7:$AN$9,MATCH(AA312,OtrasReferencias!$AM$7:$AM$9,0),2))","v":""}]
[null,null,"","",{"$f":"IF(T313=\"\",\"\",INDEX(referentes!G:H,MATCH(T313,referentes!H:H,0),1))","v":""},{"$f":"IF(V313=\"\",\"\",INDEX(referentes!$M:$N,MATCH(V313,referentes!$N:$N,0),1))","v":""},{"$f":"IF(W313=\"\",\"\",INDEX(referentes!J:K,MATCH(W313,referentes!K:K,0),1))","v":""},null,{"$f":"IF(Y313<>\"\",CONCATENATE($A$3,P313,DIGITADOR!$M$1,Y313,ROW()),\"\")","v":""},{"$f":"IF(Y313<>\"\",CONCATENATE(P313,INT(Q313*1440),DIGITADOR!$M$1,Y313),\"\")","v":""},null,{"$f":"IF(AO313<>\"\",INDEX(referentes!$Y:$Z,MATCH(DATOS!AO313,referentes!$Z:$Z,0),1),\"\")","v":""},"","",{"$f":"IF(R313=\"\",\"\",INDEX(referentes!D:E,MATCH(R313,referentes!E:E,0),1))","v":""},null,null,null,null,null,null,null,null,null,{"$f":"IF(X313=\"\",\"\",INDEX(referentes!$AT:$AX,MATCH(X313,referentes!$AX:$AX,0),1))","v":""},null,null,{"$f":"IF(AC313=\"\",\"\",INDEX(referentes!AZ:BA,MATCH(AC313,referentes!BA:BA,0),1))","v":""},null,null,null,null,null,null,null,null,null,null,null,null,null,null,{"$f":"IF(N313<>\"\",INDEX(referentes!$AK:$AM,MATCH(DATOS!M313,referentes!$AK:$AK,0),3),\"\")","v":""},null,null,{"$f":"IF(AS313=\"\",\"\",INDEX(referentes!P:Q,MATCH(AS313,referentes!Q:Q,0),1))","v":""},null,null,null,{"$f":"IF(AY313=\"\",\"\",INDEX(referentes!AB:AC,MATCH(AY313,referentes!AC:AC,0),1))","v":""},null,{"$f":"IF(BA313=\"\",\"\",INDEX(referentes!S:T,MATCH(BA313,referentes!T:T,0),1))","v":""},null,null,{"$f":"IF(AA313=\"\",\"\",INDEX(OtrasReferencias!$AM$7:$AN$9,MATCH(AA313,OtrasReferencias!$AM$7:$AM$9,0),2))","v":""}]
[null,null,"","",{"$f":"IF(T314=\"\",\"\",INDEX(referentes!G:H,MATCH(T314,referentes!H:H,0),1))","v":""},{"$f":"IF(V314=\"\",\"\",INDEX(referentes!$M:$N,MATCH(V314,referentes!$N:$N,0),1))","v":""},{"$f":"IF(W314=\"\",\"\",INDEX(referentes!J:K,MATCH(W314,referentes!K:K,0),1))","v":""},null,{"$f":"IF(Y314<>\"\",CONCATENATE($A$3,P314,DIGITADOR!$M$1,Y314,ROW()),\"\")","v":""},{"$f":"IF(Y314<>\"\",CONCATENATE(P314,INT(Q314*1440),DIGITADOR!$M$1,Y314),\"\")","v":""},null,{"$f":"IF(AO314<>\"\",INDEX(referentes!$Y:$Z,MATCH(DATOS!AO314,referentes!$Z:$Z,0),1),\"\")","v":""},"","",{"$f":"IF(R314=\"\",\"\",INDEX(referentes!D:E,MATCH(R314,referentes!E:E,0),1))","v":""},null,null,null,null,null,null,null,null,null,{"$f":"IF(X314=\"\",\"\",INDEX(referentes!$AT:$AX,MATCH(X314,referentes!$AX:$AX,0),1))","v":""},null,null,{"$f":"IF(AC314=\"\",\"\",INDEX(referentes!AZ:BA,MATCH(AC314,referentes!BA:BA,0),1))","v":""},null,null,null,null,null,null,null,null,null,null,null,null,null,null,{"$f":"IF(N314<>\"\",INDEX(referentes!$AK:$AM,MATCH(DATOS!M314,referentes!$AK:$AK,0),3),\"\")","v":""},null,null,{"$f":"IF(AS314=\"\",\"\",INDEX(referentes!P:Q,MATCH(AS314,referentes!Q:Q,0),1))","v":""},null,null,null,{"$f":"IF(AY314=\"\",\"\",INDEX(referentes!AB:AC,MATCH(AY314,referentes!AC:AC,0),1))","v":""},null,{"$f":"IF(BA314=\"\",\"\",INDEX(referentes!S:T,MATCH(BA314,referentes!T:T,0),1))","v":""},null,null,{"$f":"IF(AA314=\"\",\"\",INDEX(OtrasReferencias!$AM$7:$AN$9,MATCH(AA314,OtrasReferencias!$AM$7:$AM$9,0),2))","v":""}]
[null,null,"","",{"$f":"IF(T315=\"\",\"\",INDEX(referentes!G:H,MATCH(T315,referentes!H:H,0),1))","v":""},{"$f":"IF(V315=\"\",\"\",INDEX(referentes!$M:$N,MATCH(V315,referentes!$N:$N,0),1))","v":""},{"$f":"IF(W315=\"\",\"\",INDEX(referentes!J:K,MATCH(W315,referentes!K:K,0),1))","v":""},null,{"$f":"IF(Y315<>\"\",CONCATENATE($A$3,P315,DIGITADOR!$M$1,Y315,ROW()),\"\")","v":""},{"$f":"IF(Y315<>\"\",CONCATENATE(P315,INT(Q315*1440),DIGITADOR!$M$1,Y315),\"\")","v":""},null,{"$f":"IF(AO315<>\"\",INDEX(referentes!$Y:$Z,MATCH(DATOS!AO315,referentes!$Z:$Z,0),1),\"\")","v":""},"","",{"$f":"IF(R315=\"\",\"\",INDEX(referentes!D:E,MATCH(R315,referentes!E:E,0),1))","v":""},null,null,null,null,null,null,null,null,null,{"$f":"IF(X315=\"\",\"\",INDEX(referentes!$AT:$AX,MATCH(X315,referentes!$AX:$AX,0),1))","v":""},null,null,{"$f":"IF(AC315=\"\",\"\",INDEX(referentes!AZ:BA,MATCH(AC315,referentes!BA:BA,0),1))","v":""},null,null,null,null,null,null,null,null,null,null,null,null,null,null,{"$f":"IF(N315<>\"\",INDEX(referentes!$AK:$AM,MATCH(DATOS!M315,referentes!$AK:$AK,0),3),\"\")","v":""},null,null,{"$f":"IF(AS315=\"\",\"\",INDEX(referentes!P:Q,MATCH(AS315,referentes!Q:Q,0),1))","v":""},null,null,null,{"$f":"IF(AY315=\"\",\"\",INDEX(referentes!AB:AC,MATCH(AY315,referentes!AC:AC,0),1))","v":""},null,{"$f":"IF(BA315=\"\",\"\",INDEX(referentes!S:T,MATCH(BA315,referentes!T:T,0),1))","v":""},null,null,{"$f":"IF(AA315=\"\",\"\",INDEX(OtrasReferencias!$AM$7:$AN$9,MATCH(AA315,OtrasReferencias!$AM$7:$AM$9,0),2))","v":""}]
[null,null,"","",{"$f":"IF(T316=\"\",\"\",INDEX(referentes!G:H,MATCH(T316,referentes!H:H,0),1))","v":""},{"$f":"IF(V316=\"\",\"\",INDEX(referentes!$M:$N,MATCH(V316,referentes!$N:$N,0),1))","v":""},{"$f":"IF(W316=\"\",\"\",INDEX(referentes!J:K,MATCH(W316,referentes!K:K,0),1))","v":""},null,{"$f":"IF(Y316<>\"\",CONCATENATE($A$3,P316,DIGITADOR!$M$1,Y316,ROW()),\"\")","v":""},{"$f":"IF(Y316<>\"\",CONCATENATE(P316,INT(Q316*1440),DIGITADOR!$M$1,Y316),\"\")","v":""},null,{"$f":"IF(AO316<>\"\",INDEX(referentes!$Y:$Z,MATCH(DATOS!AO316,referentes!$Z:$Z,0),1),\"\")","v":""},"","",{"$f":"IF(R316=\"\",\"\",INDEX(referentes!D:E,MATCH(R316,referentes!E:E,0),1))","v":""},null,null,null,null,null,null,null,null,null,{"$f":"IF(X316=\"\",\"\",INDEX(referentes!$AT:$AX,MATCH(X316,referentes!$AX:$AX,0),1))","v":""},null,null,{"$f":"IF(AC316=\"\",\"\",INDEX(referentes!AZ:BA,MATCH(AC316,referentes!BA:BA,0),1))","v":""},null,null,null,null,null,null,null,null,null,null,null,null,null,null,{"$f":"IF(N316<>\"\",INDEX(referentes!$AK:$AM,MATCH(DATOS!M316,referentes!$AK:$AK,0),3),\"\")","v":""},null,null,{"$f":"IF(AS316=\"\",\"\",INDEX(referentes!P:Q,MATCH(AS316,referentes!Q:Q,0),1))","v":""},null,null,null,{"$f":"IF(AY316=\"\",\"\",INDEX(referentes!AB:AC,MATCH(AY316,referentes!AC:AC,0),1))","v":""},null,{"$f":"IF(BA316=\"\",\"\",INDEX(referentes!S:T,MATCH(BA316,referentes!T:T,0),1))","v":""},null,null,{"$f":"IF(AA316=\"\",\"\",INDEX(OtrasReferencias!$AM$7:$AN$9,MATCH(AA316,OtrasReferencias!$AM$7:$AM$9,0),2))","v":""}]
[null,null,"","",{"$f":"IF(T317=\"\",\"\",INDEX(referentes!G:H,MATCH(T317,referentes!H:H,0),1))","v":""},{"$f":"IF(V317=\"\",\"\",INDEX(referentes!$M:$N,MATCH(V317,referentes!$N:$N,0),1))","v":""},{"$f":"IF(W317=\"\",\"\",INDEX(referentes!J:K,MATCH(W317,referentes!K:K,0),1))","v":""},null,{"$f":"IF(Y317<>\"\",CONCATENATE($A$3,P317,DIGITADOR!$M$1,Y317,ROW()),\"\")","v":""},{"$f":"IF(Y317<>\"\",CONCATENATE(P317,INT(Q317*1440),DIGITADOR!$M$1,Y317),\"\")","v":""},null,{"$f":"IF(AO317<>\"\",INDEX(referentes!$Y:$Z,MATCH(DATOS!AO317,referentes!$Z:$Z,0),1),\"\")","v":""},"","",{"$f":"IF(R317=\"\",\"\",INDEX(referentes!D:E,MATCH(R317,referentes!E:E,0),1))","v":""},null,null,null,null,null,null,null,null,null,{"$f":"IF(X317=\"\",\"\",INDEX(referentes!$AT:$AX,MATCH(X317,referentes!$AX:$AX,0),1))","v":""},null,null,{"$f":"IF(AC317=\"\",\"\",INDEX(referentes!AZ:BA,MATCH(AC317,referentes!BA:BA,0),1))","v":""},null,null,null,null,null,null,null,null,null,null,null,null,null,null,{"$f":"IF(N317<>\"\",INDEX(referentes!$AK:$AM,MATCH(DATOS!M317,referentes!$AK:$AK,0),3),\"\")","v":""},null,null,{"$f":"IF(AS317=\"\",\"\",INDEX(referentes!P:Q,MATCH(AS317,referentes!Q:Q,0),1))","v":""},null,null,null,{"$f":"IF(AY317=\"\",\"\",INDEX(referentes!AB:AC,MATCH(AY317,referentes!AC:AC,0),1))","v":""},null,{"$f":"IF(BA317=\"\",\"\",INDEX(referentes!S:T,MATCH(BA317,referentes!T:T,0),1))","v":""},null,null,{"$f":"IF(AA317=\"\",\"\",INDEX(OtrasReferencias!$AM$7:$AN$9,MATCH(AA317,OtrasReferencias!$AM$7:$AM$9,0),2))","v":""}]
[null,null,"","",{"$f":"IF(T318=\"\",\"\",INDEX(referentes!G:H,MATCH(T318,referentes!H:H,0),1))","v":""},{"$f":"IF(V318=\"\",\"\",INDEX(referentes!$M:$N,MATCH(V318,referentes!$N:$N,0),1))","v":""},{"$f":"IF(W318=\"\",\"\",INDEX(referentes!J:K,MATCH(W318,referentes!K:K,0),1))","v":""},null,{"$f":"IF(Y318<>\"\",CONCATENATE($A$3,P318,DIGITADOR!$M$1,Y318,ROW()),\"\")","v":""},{"$f":"IF(Y318<>\"\",CONCATENATE(P318,INT(Q318*1440),DIGITADOR!$M$1,Y318),\"\")","v":""},null,{"$f":"IF(AO318<>\"\",INDEX(referentes!$Y:$Z,MATCH(DATOS!AO318,referentes!$Z:$Z,0),1),\"\")","v":""},"","",{"$f":"IF(R318=\"\",\"\",INDEX(referentes!D:E,MATCH(R318,referentes!E:E,0),1))","v":""},null,null,null,null,null,null,null,null,null,{"$f":"IF(X318=\"\",\"\",INDEX(referentes!$AT:$AX,MATCH(X318,referentes!$AX:$AX,0),1))","v":""},null,null,{"$f":"IF(AC318=\"\",\"\",INDEX(referentes!AZ:BA,MATCH(AC318,referentes!BA:BA,0),1))","v":""},null,null,null,null,null,null,null,null,null,null,null,null,null,null,{"$f":"IF(N318<>\"\",INDEX(referentes!$AK:$AM,MATCH(DATOS!M318,referentes!$AK:$AK,0),3),\"\")","v":""},null,null,{"$f":"IF(AS318=\"\",\"\",INDEX(referentes!P:Q,MATCH(AS318,referentes!Q:Q,0),1))","v":""},null,null,null,{"$f":"IF(AY318=\"\",\"\",INDEX(referentes!AB:AC,MATCH(AY318,referentes!AC:AC,0),1))","v":""},null,{"$f":"IF(BA318=\"\",\"\",INDEX(referentes!S:T,MATCH(BA318,referentes!T:T,0),1))","v":""},null,null,{"$f":"IF(AA318=\"\",\"\",INDEX(OtrasReferencias!$AM$7:$AN$9,MATCH(AA318,OtrasReferencias!$AM$7:$AM$9,0),2))","v":""}]
[null,null,"","",{"$f":"IF(T319=\"\",\"\",INDEX(referentes!G:H,MATCH(T319,referentes!H:H,0),1))","v":""},{"$f":"IF(V319=\"\",\"\",INDEX(referentes!$M:$N,MATCH(V319,referentes!$N:$N,0),1))","v":""},{"$f":"IF(W319=\"\",\"\",INDEX(referentes!J:K,MATCH(W319,referentes!K:K,0),1))","v":""},null,{"$f":"IF(Y319<>\"\",CONCATENATE($A$3,P319,DIGITADOR!$M$1,Y319,ROW()),\"\")","v":""},{"$f":"IF(Y319<>\"\",CONCATENATE(P319,INT(Q319*1440),DIGITADOR!$M$1,Y319),\"\")","v":""},null,{"$f":"IF(AO319<>\"\",INDEX(referentes!$Y:$Z,MATCH(DATOS!AO319,referentes!$Z:$Z,0),1),\"\")","v":""},"","",{"$f":"IF(R319=\"\",\"\",INDEX(referentes!D:E,MATCH(R319,referentes!E:E,0),1))","v":""},null,null,null,null,null,null,null,null,null,{"$f":"IF(X319=\"\",\"\",INDEX(referentes!$AT:$AX,MATCH(X319,referentes!$AX:$AX,0),1))","v":""},null,null,{"$f":"IF(AC319=\"\",\"\",INDEX(referentes!AZ:BA,MATCH(AC319,referentes!BA:BA,0),1))","v":""},null,null,null,null,null,null,null,null,null,null,null,null,null,null,{"$f":"IF(N319<>\"\",INDEX(referentes!$AK:$AM,MATCH(DATOS!M319,referentes!$AK:$AK,0),3),\"\")","v":""},null,null,{"$f":"IF(AS319=\"\",\"\",INDEX(referentes!P:Q,MATCH(AS319,referentes!Q:Q,0),1))","v":""},null,null,null,{"$f":"IF(AY319=\"\",\"\",INDEX(referentes!AB:AC,MATCH(AY319,referentes!AC:AC,0),1))","v":""},null,{"$f":"IF(BA319=\"\",\"\",INDEX(referentes!S:T,MATCH(BA319,referentes!T:T,0),1))","v":""},null,null,{"$f":"IF(AA319=\"\",\"\",INDEX(OtrasReferencias!$AM$7:$AN$9,MATCH(AA319,OtrasReferencias!$AM$7:$AM$9,0),2))","v":""}]
[null,null,"","",{"$f":"IF(T320=\"\",\"\",INDEX(referentes!G:H,MATCH(T320,referentes!H:H,0),1))","v":""},{"$f":"IF(V320=\"\",\"\",INDEX(referentes!$M:$N,MATCH(V320,referentes!$N:$N,0),1))","v":""},{"$f":"IF(W320=\"\",\"\",INDEX(referentes!J:K,MATCH(W320,referentes!K:K,0),1))","v":""},null,{"$f":"IF(Y320<>\"\",CONCATENATE($A$3,P320,DIGITADOR!$M$1,Y320,ROW()),\"\")","v":""},{"$f":"IF(Y320<>\"\",CONCATENATE(P320,INT(Q320*1440),DIGITADOR!$M$1,Y320),\"\")","v":""},null,{"$f":"IF(AO320<>\"\",INDEX(referentes!$Y:$Z,MATCH(DATOS!AO320,referentes!$Z:$Z,0),1),\"\")","v":""},"","",{"$f":"IF(R320=\"\",\"\",INDEX(referentes!D:E,MATCH(R320,referentes!E:E,0),1))","v":""},null,null,null,null,null,null,null,null,null,{"$f":"IF(X320=\"\",\"\",INDEX(referentes!$AT:$AX,MATCH(X320,referentes!$AX:$AX,0),1))","v":""},null,null,{"$f":"IF(AC320=\"\",\"\",INDEX(referentes!AZ:BA,MATCH(AC320,referentes!BA:BA,0),1))","v":""},null,null,null,null,null,null,null,null,null,null,null,null,null,null,{"$f":"IF(N320<>\"\",INDEX(referentes!$AK:$AM,MATCH(DATOS!M320,referentes!$AK:$AK,0),3),\"\")","v":""},null,null,{"$f":"IF(AS320=\"\",\"\",INDEX(referentes!P:Q,MATCH(AS320,referentes!Q:Q,0),1))","v":""},null,null,null,{"$f":"IF(AY320=\"\",\"\",INDEX(referentes!AB:AC,MATCH(AY320,referentes!AC:AC,0),1))","v":""},null,{"$f":"IF(BA320=\"\",\"\",INDEX(referentes!S:T,MATCH(BA320,referentes!T:T,0),1))","v":""},null,null,{"$f":"IF(AA320=\"\",\"\",INDEX(OtrasReferencias!$AM$7:$AN$9,MATCH(AA320,OtrasReferencias!$AM$7:$AM$9,0),2))","v":""}]
[null,null,"","",{"$f":"IF(T321=\"\",\"\",INDEX(referentes!G:H,MATCH(T321,referentes!H:H,0),1))","v":""},{"$f":"IF(V321=\"\",\"\",INDEX(referentes!$M:$N,MATCH(V321,referentes!$N:$N,0),1))","v":""},{"$f":"IF(W321=\"\",\"\",INDEX(referentes!J:K,MATCH(W321,referentes!K:K,0),1))","v":""},null,{"$f":"IF(Y321<>\"\",CONCATENATE($A$3,P321,DIGITADOR!$M$1,Y321,ROW()),\"\")","v":""},{"$f":"IF(Y321<>\"\",CONCATENATE(P321,INT(Q321*1440),DIGITADOR!$M$1,Y321),\"\")","v":""},null,{"$f":"IF(AO321<>\"\",INDEX(referentes!$Y:$Z,MATCH(DATOS!AO321,referentes!$Z:$Z,0),1),\"\")","v":""},"","",{"$f":"IF(R321=\"\",\"\",INDEX(referentes!D:E,MATCH(R321,referentes!E:E,0),1))","v":""},null,null,null,null,null,null,null,null,null,{"$f":"IF(X321=\"\",\"\",INDEX(referentes!$AT:$AX,MATCH(X321,referentes!$AX:$AX,0),1))","v":""},null,null,{"$f":"IF(AC321=\"\",\"\",INDEX(referentes!AZ:BA,MATCH(AC321,referentes!BA:BA,0),1))","v":""},null,null,null,null,null,null,null,null,null,null,null,null,null,null,{"$f":"IF(N321<>\"\",INDEX(referentes!$AK:$AM,MATCH(DATOS!M321,referentes!$AK:$AK,0),3),\"\")","v":""},null,null,{"$f":"IF(AS321=\"\",\"\",INDEX(referentes!P:Q,MATCH(AS321,referentes!Q:Q,0),1))","v":""},null,null,null,{"$f":"IF(AY321=\"\",\"\",INDEX(referentes!AB:AC,MATCH(AY321,referentes!AC:AC,0),1))","v":""},null,{"$f":"IF(BA321=\"\",\"\",INDEX(referentes!S:T,MATCH(BA321,referentes!T:T,0),1))","v":""},null,null,{"$f":"IF(AA321=\"\",\"\",INDEX(OtrasReferencias!$AM$7:$AN$9,MATCH(AA321,OtrasReferencias!$AM$7:$AM$9,0),2))","v":""}]
[null,null,"","",{"$f":"IF(T322=\"\",\"\",INDEX(referentes!G:H,MATCH(T322,referentes!H:H,0),1))","v":""},{"$f":"IF(V322=\"\",\"\",INDEX(referentes!$M:$N,MATCH(V322,referentes!$N:$N,0),1))","v":""},{"$f":"IF(W322=\"\",\"\",INDEX(referentes!J:K,MATCH(W322,referentes!K:K,0),1))","v":""},null,{"$f":"IF(Y322<>\"\",CONCATENATE($A$3,P322,DIGITADOR!$M$1,Y322,ROW()),\"\")","v":""},{"$f":"IF(Y322<>\"\",CONCATENATE(P322,INT(Q322*1440),DIGITADOR!$M$1,Y322),\"\")","v":""},null,{"$f":"IF(AO322<>\"\",INDEX(referentes!$Y:$Z,MATCH(DATOS!AO322,referentes!$Z:$Z,0),1),\"\")","v":""},"","",{"$f":"IF(R322=\"\",\"\",INDEX(referentes!D:E,MATCH(R322,referentes!E:E,0),1))","v":""},null,null,null,null,null,null,null,null,null,{"$f":"IF(X322=\"\",\"\",INDEX(referentes!$AT:$AX,MATCH(X322,referentes!$AX:$AX,0),1))","v":""},null,null,{"$f":"IF(AC322=\"\",\"\",INDEX(referentes!AZ:BA,MATCH(AC322,referentes!BA:BA,0),1))","v":""},null,null,null,null,null,null,null,null,null,null,null,null,null,null,{"$f":"IF(N322<>\"\",INDEX(referentes!$AK:$AM,MATCH(DATOS!M322,referentes!$AK:$AK,0),3),\"\")","v":""},null,null,{"$f":"IF(AS322=\"\",\"\",INDEX(referentes!P:Q,MATCH(AS322,referentes!Q:Q,0),1))","v":""},null,null,null,{"$f":"IF(AY322=\"\",\"\",INDEX(referentes!AB:AC,MATCH(AY322,referentes!AC:AC,0),1))","v":""},null,{"$f":"IF(BA322=\"\",\"\",INDEX(referentes!S:T,MATCH(BA322,referentes!T:T,0),1))","v":""},null,null,{"$f":"IF(AA322=\"\",\"\",INDEX(OtrasReferencias!$AM$7:$AN$9,MATCH(AA322,OtrasReferencias!$AM$7:$AM$9,0),2))","v":""}]
[null,null,"","",{"$f":"IF(T323=\"\",\"\",INDEX(referentes!G:H,MATCH(T323,referentes!H:H,0),1))","v":""},{"$f":"IF(V323=\"\",\"\",INDEX(referentes!$M:$N,MATCH(V323,referentes!$N:$N,0),1))","v":""},{"$f":"IF(W323=\"\",\"\",INDEX(referentes!J:K,MATCH(W323,referentes!K:K,0),1))","v":""},null,{"$f":"IF(Y323<>\"\",CONCATENATE($A$3,P323,DIGITADOR!$M$1,Y323,ROW()),\"\")","v":""},{"$f":"IF(Y323<>\"\",CONCATENATE(P323,INT(Q323*1440),DIGITADOR!$M$1,Y323),\"\")","v":""},null,{"$f":"IF(AO323<>\"\",INDEX(referentes!$Y:$Z,MATCH(DATOS!AO323,referentes!$Z:$Z,0),1),\"\")","v":""},"","",{"$f":"IF(R323=\"\",\"\",INDEX(referentes!D:E,MATCH(R323,referentes!E:E,0),1))","v":""},null,null,null,null,null,null,null,null,null,{"$f":"IF(X323=\"\",\"\",INDEX(referentes!$AT:$AX,MATCH(X323,referentes!$AX:$AX,0),1))","v":""},null,null,{"$f":"IF(AC323=\"\",\"\",INDEX(referentes!AZ:BA,MATCH(AC323,referentes!BA:BA,0),1))","v":""},null,null,null,null,null,null,null,null,null,null,null,null,null,null,{"$f":"IF(N323<>\"\",INDEX(referentes!$AK:$AM,MATCH(DATOS!M323,referentes!$AK:$AK,0),3),\"\")","v":""},null,null,{"$f":"IF(AS323=\"\",\"\",INDEX(referentes!P:Q,MATCH(AS323,referentes!Q:Q,0),1))","v":""},null,null,null,{"$f":"IF(AY323=\"\",\"\",INDEX(referentes!AB:AC,MATCH(AY323,referentes!AC:AC,0),1))","v":""},null,{"$f":"IF(BA323=\"\",\"\",INDEX(referentes!S:T,MATCH(BA323,referentes!T:T,0),1))","v":""},null,null,{"$f":"IF(AA323=\"\",\"\",INDEX(OtrasReferencias!$AM$7:$AN$9,MATCH(AA323,OtrasReferencias!$AM$7:$AM$9,0),2))","v":""}]
[null,null,"","",{"$f":"IF(T324=\"\",\"\",INDEX(referentes!G:H,MATCH(T324,referentes!H:H,0),1))","v":""},{"$f":"IF(V324=\"\",\"\",INDEX(referentes!$M:$N,MATCH(V324,referentes!$N:$N,0),1))","v":""},{"$f":"IF(W324=\"\",\"\",INDEX(referentes!J:K,MATCH(W324,referentes!K:K,0),1))","v":""},null,{"$f":"IF(Y324<>\"\",CONCATENATE($A$3,P324,DIGITADOR!$M$1,Y324,ROW()),\"\")","v":""},{"$f":"IF(Y324<>\"\",CONCATENATE(P324,INT(Q324*1440),DIGITADOR!$M$1,Y324),\"\")","v":""},null,{"$f":"IF(AO324<>\"\",INDEX(referentes!$Y:$Z,MATCH(DATOS!AO324,referentes!$Z:$Z,0),1),\"\")","v":""},"","",{"$f":"IF(R324=\"\",\"\",INDEX(referentes!D:E,MATCH(R324,referentes!E:E,0),1))","v":""},null,null,null,null,null,null,null,null,null,{"$f":"IF(X324=\"\",\"\",INDEX(referentes!$AT:$AX,MATCH(X324,referentes!$AX:$AX,0),1))","v":""},null,null,{"$f":"IF(AC324=\"\",\"\",INDEX(referentes!AZ:BA,MATCH(AC324,referentes!BA:BA,0),1))","v":""},null,null,null,null,null,null,null,null,null,null,null,null,null,null,{"$f":"IF(N324<>\"\",INDEX(referentes!$AK:$AM,MATCH(DATOS!M324,referentes!$AK:$AK,0),3),\"\")","v":""},null,null,{"$f":"IF(AS324=\"\",\"\",INDEX(referentes!P:Q,MATCH(AS324,referentes!Q:Q,0),1))","v":""},null,null,null,{"$f":"IF(AY324=\"\",\"\",INDEX(referentes!AB:AC,MATCH(AY324,referentes!AC:AC,0),1))","v":""},null,{"$f":"IF(BA324=\"\",\"\",INDEX(referentes!S:T,MATCH(BA324,referentes!T:T,0),1))","v":""},null,null,{"$f":"IF(AA324=\"\",\"\",INDEX(OtrasReferencias!$AM$7:$AN$9,MATCH(AA324,OtrasReferencias!$AM$7:$AM$9,0),2))","v":""}]
[null,null,"",{"$f":"IF(P325<>\"\",P325+Q325,\"\")","v":""},{"$f":"IF(T325=\"\",\"\",INDEX(referentes!G:H,MATCH(T325,referentes!H:H,0),1))","v":""},{"$f":"IF(V325=\"\",\"\",INDEX(referentes!$M:$N,MATCH(V325,referentes!$N:$N,0),1))","v":""},{"$f":"IF(W325=\"\",\"\",INDEX(referentes!J:K,MATCH(W325,referentes!K:K,0),1))","v":""},null,{"$f":"IF(Y325<>\"\",CONCATENATE($A$3,P325,DIGITADOR!$M$1,Y325,ROW()),\"\")","v":""},{"$f":"IF(Y325<>\"\",CONCATENATE(P325,INT(Q325*1440),DIGITADOR!$M$1,Y325),\"\")","v":""},null,{"$f":"IF(AO325<>\"\",INDEX(referentes!$Y:$Z,MATCH(DATOS!AO325,referentes!$Z:$Z,0),1),\"\")","v":""},{"$f":"TRIM(UPPER(IF(AL325<>\"\",AL325,IF(AK325<>\"\",AK325,(IF(AJ325<>\"\",AJ325,IF(AI325<>\"\",AI325,IF(AH325<>\"\",AH325,AG325))))))))","v":""},{"$f":"TRIM(UPPER(CONCATENATE(AG325,\" \",AH325,\" \",AI325,\" \",AJ325,\" \",AK325,\" \",AL325)))","v":""},{"$f":"IF(R325=\"\",\"\",INDEX(referentes!D:E,MATCH(R325,referentes!E:E,0),1))","v":""},null,null,null,null,null,null,null,null,null,{"$f":"IF(X325=\"\",\"\",INDEX(referentes!$AT:$AX,MATCH(X325,referentes!$AX:$AX,0),1))","v":""},null,null,{"$f":"IF(AC325=\"\",\"\",INDEX(referentes!AZ:BA,MATCH(AC325,referentes!BA:BA,0),1))","v":""},null,null,null,null,null,null,null,null,null,null,null,null,null,null,{"$f":"IF(N325<>\"\",INDEX(referentes!$AK:$AM,MATCH(DATOS!M325,referentes!$AK:$AK,0),3),\"\")","v":""},null,null,{"$f":"IF(AS325=\"\",\"\",INDEX(referentes!P:Q,MATCH(AS325,referentes!Q:Q,0),1))","v":""},null,null,null,{"$f":"IF(AY325=\"\",\"\",INDEX(referentes!AB:AC,MATCH(AY325,referentes!AC:AC,0),1))","v":""},null,{"$f":"IF(BA325=\"\",\"\",INDEX(referentes!S:T,MATCH(BA325,referentes!T:T,0),1))","v":""},null,null,{"$f":"IF(AA325=\"\",\"\",INDEX(OtrasReferencias!$AM$7:$AN$9,MATCH(AA325,OtrasReferencias!$AM$7:$AM$9,0),2))","v":""}]
[null,null,{"$f":"IF(J326=\"\",\"\",IF(J326=J325,\"\",J326))","v":""},"",{"$f":"IF(T326=\"\",\"\",INDEX(referentes!G:H,MATCH(T326,referentes!H:H,0),1))","v":""},{"$f":"IF(V326=\"\",\"\",INDEX(referentes!$M:$N,MATCH(V326,referentes!$N:$N,0),1))","v":""},{"$f":"IF(W326=\"\",\"\",INDEX(referentes!J:K,MATCH(W326,referentes!K:K,0),1))","v":""},null,{"$f":"IF(Y326<>\"\",CONCATENATE($A$3,P326,DIGITADOR!$M$1,Y326,ROW()),\"\")","v":""},{"$f":"IF(Y326<>\"\",CONCATENATE(P326,INT(Q326*1440),DIGITADOR!$M$1,Y326),\"\")","v":""},null,{"$f":"IF(AO326<>\"\",INDEX(referentes!$Y:$Z,MATCH(DATOS!AO326,referentes!$Z:$Z,0),1),\"\")","v":""},"","",{"$f":"IF(R326=\"\",\"\",INDEX(referentes!D:E,MATCH(R326,referentes!E:E,0),1))","v":""},null,null,null,null,null,null,null,null,null,{"$f":"IF(X326=\"\",\"\",INDEX(referentes!$AT:$AX,MATCH(X326,referentes!$AX:$AX,0),1))","v":""},null,null,{"$f":"IF(AC326=\"\",\"\",INDEX(referentes!AZ:BA,MATCH(AC326,referentes!BA:BA,0),1))","v":""},null,null,null,null,null,null,null,null,null,null,null,null,null,null,{"$f":"IF(N326<>\"\",INDEX(referentes!$AK:$AM,MATCH(DATOS!M326,referentes!$AK:$AK,0),3),\"\")","v":""},null,null,{"$f":"IF(AS326=\"\",\"\",INDEX(referentes!P:Q,MATCH(AS326,referentes!Q:Q,0),1))","v":""},null,null,null,{"$f":"IF(AY326=\"\",\"\",INDEX(referentes!AB:AC,MATCH(AY326,referentes!AC:AC,0),1))","v":""},null,{"$f":"IF(BA326=\"\",\"\",INDEX(referentes!S:T,MATCH(BA326,referentes!T:T,0),1))","v":""},null,null,{"$f":"IF(AA326=\"\",\"\",INDEX(OtrasReferencias!$AM$7:$AN$9,MATCH(AA326,OtrasReferencias!$AM$7:$AM$9,0),2))","v":""}]
[null,null,"","",{"$f":"IF(T327=\"\",\"\",INDEX(referentes!G:H,MATCH(T327,referentes!H:H,0),1))","v":""},{"$f":"IF(V327=\"\",\"\",INDEX(referentes!$M:$N,MATCH(V327,referentes!$N:$N,0),1))","v":""},{"$f":"IF(W327=\"\",\"\",INDEX(referentes!J:K,MATCH(W327,referentes!K:K,0),1))","v":""},null,{"$f":"IF(Y327<>\"\",CONCATENATE($A$3,P327,DIGITADOR!$M$1,Y327,ROW()),\"\")","v":""},{"$f":"IF(Y327<>\"\",CONCATENATE(P327,INT(Q327*1440),DIGITADOR!$M$1,Y327),\"\")","v":""},null,{"$f":"IF(AO327<>\"\",INDEX(referentes!$Y:$Z,MATCH(DATOS!AO327,referentes!$Z:$Z,0),1),\"\")","v":""},"","",{"$f":"IF(R327=\"\",\"\",INDEX(referentes!D:E,MATCH(R327,referentes!E:E,0),1))","v":""},null,null,null,null,null,null,null,null,null,{"$f":"IF(X327=\"\",\"\",INDEX(referentes!$AT:$AX,MATCH(X327,referentes!$AX:$AX,0),1))","v":""},null,null,{"$f":"IF(AC327=\"\",\"\",INDEX(referentes!AZ:BA,MATCH(AC327,referentes!BA:BA,0),1))","v":""},null,null,null,null,null,null,null,null,null,null,null,null,null,null,{"$f":"IF(N327<>\"\",INDEX(referentes!$AK:$AM,MATCH(DATOS!M327,referentes!$AK:$AK,0),3),\"\")","v":""},null,null,{"$f":"IF(AS327=\"\",\"\",INDEX(referentes!P:Q,MATCH(AS327,referentes!Q:Q,0),1))","v":""},null,null,null,{"$f":"IF(AY327=\"\",\"\",INDEX(referentes!AB:AC,MATCH(AY327,referentes!AC:AC,0),1))","v":""},null,{"$f":"IF(BA327=\"\",\"\",INDEX(referentes!S:T,MATCH(BA327,referentes!T:T,0),1))","v":""},null,null,{"$f":"IF(AA327=\"\",\"\",INDEX(OtrasReferencias!$AM$7:$AN$9,MATCH(AA327,OtrasReferencias!$AM$7:$AM$9,0),2))","v":""}]
[null,null,"","",{"$f":"IF(T328=\"\",\"\",INDEX(referentes!G:H,MATCH(T328,referentes!H:H,0),1))","v":""},{"$f":"IF(V328=\"\",\"\",INDEX(referentes!$M:$N,MATCH(V328,referentes!$N:$N,0),1))","v":""},{"$f":"IF(W328=\"\",\"\",INDEX(referentes!J:K,MATCH(W328,referentes!K:K,0),1))","v":""},null,{"$f":"IF(Y328<>\"\",CONCATENATE($A$3,P328,DIGITADOR!$M$1,Y328,ROW()),\"\")","v":""},{"$f":"IF(Y328<>\"\",CONCATENATE(P328,INT(Q328*1440),DIGITADOR!$M$1,Y328),\"\")","v":""},null,{"$f":"IF(AO328<>\"\",INDEX(referentes!$Y:$Z,MATCH(DATOS!AO328,referentes!$Z:$Z,0),1),\"\")","v":""},"","",{"$f":"IF(R328=\"\",\"\",INDEX(referentes!D:E,MATCH(R328,referentes!E:E,0),1))","v":""},null,null,null,null,null,null,null,null,null,{"$f":"IF(X328=\"\",\"\",INDEX(referentes!$AT:$AX,MATCH(X328,referentes!$AX:$AX,0),1))","v":""},null,null,{"$f":"IF(AC328=\"\",\"\",INDEX(referentes!AZ:BA,MATCH(AC328,referentes!BA:BA,0),1))","v":""},null,null,null,null,null,null,null,null,null,null,null,null,null,null,{"$f":"IF(N328<>\"\",INDEX(referentes!$AK:$AM,MATCH(DATOS!M328,referentes!$AK:$AK,0),3),\"\")","v":""},null,null,{"$f":"IF(AS328=\"\",\"\",INDEX(referentes!P:Q,MATCH(AS328,referentes!Q:Q,0),1))","v":""},null,null,null,{"$f":"IF(AY328=\"\",\"\",INDEX(referentes!AB:AC,MATCH(AY328,referentes!AC:AC,0),1))","v":""},null,{"$f":"IF(BA328=\"\",\"\",INDEX(referentes!S:T,MATCH(BA328,referentes!T:T,0),1))","v":""},null,null,{"$f":"IF(AA328=\"\",\"\",INDEX(OtrasReferencias!$AM$7:$AN$9,MATCH(AA328,OtrasReferencias!$AM$7:$AM$9,0),2))","v":""}]
[null,null,"","",{"$f":"IF(T329=\"\",\"\",INDEX(referentes!G:H,MATCH(T329,referentes!H:H,0),1))","v":""},{"$f":"IF(V329=\"\",\"\",INDEX(referentes!$M:$N,MATCH(V329,referentes!$N:$N,0),1))","v":""},{"$f":"IF(W329=\"\",\"\",INDEX(referentes!J:K,MATCH(W329,referentes!K:K,0),1))","v":""},null,{"$f":"IF(Y329<>\"\",CONCATENATE($A$3,P329,DIGITADOR!$M$1,Y329,ROW()),\"\")","v":""},{"$f":"IF(Y329<>\"\",CONCATENATE(P329,INT(Q329*1440),DIGITADOR!$M$1,Y329),\"\")","v":""},null,{"$f":"IF(AO329<>\"\",INDEX(referentes!$Y:$Z,MATCH(DATOS!AO329,referentes!$Z:$Z,0),1),\"\")","v":""},"","",{"$f":"IF(R329=\"\",\"\",INDEX(referentes!D:E,MATCH(R329,referentes!E:E,0),1))","v":""},null,null,null,null,null,null,null,null,null,{"$f":"IF(X329=\"\",\"\",INDEX(referentes!$AT:$AX,MATCH(X329,referentes!$AX:$AX,0),1))","v":""},null,null,{"$f":"IF(AC329=\"\",\"\",INDEX(referentes!AZ:BA,MATCH(AC329,referentes!BA:BA,0),1))","v":""},null,null,null,null,null,null,null,null,null,null,null,null,null,null,{"$f":"IF(N329<>\"\",INDEX(referentes!$AK:$AM,MATCH(DATOS!M329,referentes!$AK:$AK,0),3),\"\")","v":""},null,null,{"$f":"IF(AS329=\"\",\"\",INDEX(referentes!P:Q,MATCH(AS329,referentes!Q:Q,0),1))","v":""},null,null,null,{"$f":"IF(AY329=\"\",\"\",INDEX(referentes!AB:AC,MATCH(AY329,referentes!AC:AC,0),1))","v":""},null,{"$f":"IF(BA329=\"\",\"\",INDEX(referentes!S:T,MATCH(BA329,referentes!T:T,0),1))","v":""},null,null,{"$f":"IF(AA329=\"\",\"\",INDEX(OtrasReferencias!$AM$7:$AN$9,MATCH(AA329,OtrasReferencias!$AM$7:$AM$9,0),2))","v":""}]
[null,null,"","",{"$f":"IF(T330=\"\",\"\",INDEX(referentes!G:H,MATCH(T330,referentes!H:H,0),1))","v":""},{"$f":"IF(V330=\"\",\"\",INDEX(referentes!$M:$N,MATCH(V330,referentes!$N:$N,0),1))","v":""},{"$f":"IF(W330=\"\",\"\",INDEX(referentes!J:K,MATCH(W330,referentes!K:K,0),1))","v":""},null,{"$f":"IF(Y330<>\"\",CONCATENATE($A$3,P330,DIGITADOR!$M$1,Y330,ROW()),\"\")","v":""},{"$f":"IF(Y330<>\"\",CONCATENATE(P330,INT(Q330*1440),DIGITADOR!$M$1,Y330),\"\")","v":""},null,{"$f":"IF(AO330<>\"\",INDEX(referentes!$Y:$Z,MATCH(DATOS!AO330,referentes!$Z:$Z,0),1),\"\")","v":""},"","",{"$f":"IF(R330=\"\",\"\",INDEX(referentes!D:E,MATCH(R330,referentes!E:E,0),1))","v":""},null,null,null,null,null,null,null,null,null,{"$f":"IF(X330=\"\",\"\",INDEX(referentes!$AT:$AX,MATCH(X330,referentes!$AX:$AX,0),1))","v":""},null,null,{"$f":"IF(AC330=\"\",\"\",INDEX(referentes!AZ:BA,MATCH(AC330,referentes!BA:BA,0),1))","v":""},null,null,null,null,null,null,null,null,null,null,null,null,null,null,{"$f":"IF(N330<>\"\",INDEX(referentes!$AK:$AM,MATCH(DATOS!M330,referentes!$AK:$AK,0),3),\"\")","v":""},null,null,{"$f":"IF(AS330=\"\",\"\",INDEX(referentes!P:Q,MATCH(AS330,referentes!Q:Q,0),1))","v":""},null,null,null,{"$f":"IF(AY330=\"\",\"\",INDEX(referentes!AB:AC,MATCH(AY330,referentes!AC:AC,0),1))","v":""},null,{"$f":"IF(BA330=\"\",\"\",INDEX(referentes!S:T,MATCH(BA330,referentes!T:T,0),1))","v":""},null,null,{"$f":"IF(AA330=\"\",\"\",INDEX(OtrasReferencias!$AM$7:$AN$9,MATCH(AA330,OtrasReferencias!$AM$7:$AM$9,0),2))","v":""}]
[null,null,"","",{"$f":"IF(T331=\"\",\"\",INDEX(referentes!G:H,MATCH(T331,referentes!H:H,0),1))","v":""},{"$f":"IF(V331=\"\",\"\",INDEX(referentes!$M:$N,MATCH(V331,referentes!$N:$N,0),1))","v":""},{"$f":"IF(W331=\"\",\"\",INDEX(referentes!J:K,MATCH(W331,referentes!K:K,0),1))","v":""},null,{"$f":"IF(Y331<>\"\",CONCATENATE($A$3,P331,DIGITADOR!$M$1,Y331,ROW()),\"\")","v":""},{"$f":"IF(Y331<>\"\",CONCATENATE(P331,INT(Q331*1440),DIGITADOR!$M$1,Y331),\"\")","v":""},null,{"$f":"IF(AO331<>\"\",INDEX(referentes!$Y:$Z,MATCH(DATOS!AO331,referentes!$Z:$Z,0),1),\"\")","v":""},"","",{"$f":"IF(R331=\"\",\"\",INDEX(referentes!D:E,MATCH(R331,referentes!E:E,0),1))","v":""},null,null,null,null,null,null,null,null,null,{"$f":"IF(X331=\"\",\"\",INDEX(referentes!$AT:$AX,MATCH(X331,referentes!$AX:$AX,0),1))","v":""},null,null,{"$f":"IF(AC331=\"\",\"\",INDEX(referentes!AZ:BA,MATCH(AC331,referentes!BA:BA,0),1))","v":""},null,null,null,null,null,null,null,null,null,null,null,null,null,null,{"$f":"IF(N331<>\"\",INDEX(referentes!$AK:$AM,MATCH(DATOS!M331,referentes!$AK:$AK,0),3),\"\")","v":""},null,null,{"$f":"IF(AS331=\"\",\"\",INDEX(referentes!P:Q,MATCH(AS331,referentes!Q:Q,0),1))","v":""},null,null,null,{"$f":"IF(AY331=\"\",\"\",INDEX(referentes!AB:AC,MATCH(AY331,referentes!AC:AC,0),1))","v":""},null,{"$f":"IF(BA331=\"\",\"\",INDEX(referentes!S:T,MATCH(BA331,referentes!T:T,0),1))","v":""},null,null,{"$f":"IF(AA331=\"\",\"\",INDEX(OtrasReferencias!$AM$7:$AN$9,MATCH(AA331,OtrasReferencias!$AM$7:$AM$9,0),2))","v":""}]
[null,null,"","",{"$f":"IF(T332=\"\",\"\",INDEX(referentes!G:H,MATCH(T332,referentes!H:H,0),1))","v":""},{"$f":"IF(V332=\"\",\"\",INDEX(referentes!$M:$N,MATCH(V332,referentes!$N:$N,0),1))","v":""},{"$f":"IF(W332=\"\",\"\",INDEX(referentes!J:K,MATCH(W332,referentes!K:K,0),1))","v":""},null,{"$f":"IF(Y332<>\"\",CONCATENATE($A$3,P332,DIGITADOR!$M$1,Y332,ROW()),\"\")","v":""},{"$f":"IF(Y332<>\"\",CONCATENATE(P332,INT(Q332*1440),DIGITADOR!$M$1,Y332),\"\")","v":""},null,{"$f":"IF(AO332<>\"\",INDEX(referentes!$Y:$Z,MATCH(DATOS!AO332,referentes!$Z:$Z,0),1),\"\")","v":""},"","",{"$f":"IF(R332=\"\",\"\",INDEX(referentes!D:E,MATCH(R332,referentes!E:E,0),1))","v":""},null,null,null,null,null,null,null,null,null,{"$f":"IF(X332=\"\",\"\",INDEX(referentes!$AT:$AX,MATCH(X332,referentes!$AX:$AX,0),1))","v":""},null,null,{"$f":"IF(AC332=\"\",\"\",INDEX(referentes!AZ:BA,MATCH(AC332,referentes!BA:BA,0),1))","v":""},null,null,null,null,null,null,null,null,null,null,null,null,null,null,{"$f":"IF(N332<>\"\",INDEX(referentes!$AK:$AM,MATCH(DATOS!M332,referentes!$AK:$AK,0),3),\"\")","v":""},null,null,{"$f":"IF(AS332=\"\",\"\",INDEX(referentes!P:Q,MATCH(AS332,referentes!Q:Q,0),1))","v":""},null,null,null,{"$f":"IF(AY332=\"\",\"\",INDEX(referentes!AB:AC,MATCH(AY332,referentes!AC:AC,0),1))","v":""},null,{"$f":"IF(BA332=\"\",\"\",INDEX(referentes!S:T,MATCH(BA332,referentes!T:T,0),1))","v":""},null,null,{"$f":"IF(AA332=\"\",\"\",INDEX(OtrasReferencias!$AM$7:$AN$9,MATCH(AA332,OtrasReferencias!$AM$7:$AM$9,0),2))","v":""}]
[null,null,"","",{"$f":"IF(T333=\"\",\"\",INDEX(referentes!G:H,MATCH(T333,referentes!H:H,0),1))","v":""},{"$f":"IF(V333=\"\",\"\",INDEX(referentes!$M:$N,MATCH(V333,referentes!$N:$N,0),1))","v":""},{"$f":"IF(W333=\"\",\"\",INDEX(referentes!J:K,MATCH(W333,referentes!K:K,0),1))","v":""},null,{"$f":"IF(Y333<>\"\",CONCATENATE($A$3,P333,DIGITADOR!$M$1,Y333,ROW()),\"\")","v":""},{"$f":"IF(Y333<>\"\",CONCATENATE(P333,INT(Q333*1440),DIGITADOR!$M$1,Y333),\"\")","v":""},null,{"$f":"IF(AO333<>\"\",INDEX(referentes!$Y:$Z,MATCH(DATOS!AO333,referentes!$Z:$Z,0),1),\"\")","v":""},"","",{"$f":"IF(R333=\"\",\"\",INDEX(referentes!D:E,MATCH(R333,referentes!E:E,0),1))","v":""},null,null,null,null,null,null,null,null,null,{"$f":"IF(X333=\"\",\"\",INDEX(referentes!$AT:$AX,MATCH(X333,referentes!$AX:$AX,0),1))","v":""},null,null,{"$f":"IF(AC333=\"\",\"\",INDEX(referentes!AZ:BA,MATCH(AC333,referentes!BA:BA,0),1))","v":""},null,null,null,null,null,null,null,null,null,null,null,null,null,null,{"$f":"IF(N333<>\"\",INDEX(referentes!$AK:$AM,MATCH(DATOS!M333,referentes!$AK:$AK,0),3),\"\")","v":""},null,null,{"$f":"IF(AS333=\"\",\"\",INDEX(referentes!P:Q,MATCH(AS333,referentes!Q:Q,0),1))","v":""},null,null,null,{"$f":"IF(AY333=\"\",\"\",INDEX(referentes!AB:AC,MATCH(AY333,referentes!AC:AC,0),1))","v":""},null,{"$f":"IF(BA333=\"\",\"\",INDEX(referentes!S:T,MATCH(BA333,referentes!T:T,0),1))","v":""},null,null,{"$f":"IF(AA333=\"\",\"\",INDEX(OtrasReferencias!$AM$7:$AN$9,MATCH(AA333,OtrasReferencias!$AM$7:$AM$9,0),2))","v":""}]
[null,null,"","",{"$f":"IF(T334=\"\",\"\",INDEX(referentes!G:H,MATCH(T334,referentes!H:H,0),1))","v":""},{"$f":"IF(V334=\"\",\"\",INDEX(referentes!$M:$N,MATCH(V334,referentes!$N:$N,0),1))","v":""},{"$f":"IF(W334=\"\",\"\",INDEX(referentes!J:K,MATCH(W334,referentes!K:K,0),1))","v":""},null,{"$f":"IF(Y334<>\"\",CONCATENATE($A$3,P334,DIGITADOR!$M$1,Y334,ROW()),\"\")","v":""},{"$f":"IF(Y334<>\"\",CONCATENATE(P334,INT(Q334*1440),DIGITADOR!$M$1,Y334),\"\")","v":""},null,{"$f":"IF(AO334<>\"\",INDEX(referentes!$Y:$Z,MATCH(DATOS!AO334,referentes!$Z:$Z,0),1),\"\")","v":""},"","",{"$f":"IF(R334=\"\",\"\",INDEX(referentes!D:E,MATCH(R334,referentes!E:E,0),1))","v":""},null,null,null,null,null,null,null,null,null,{"$f":"IF(X334=\"\",\"\",INDEX(referentes!$AT:$AX,MATCH(X334,referentes!$AX:$AX,0),1))","v":""},null,null,{"$f":"IF(AC334=\"\",\"\",INDEX(referentes!AZ:BA,MATCH(AC334,referentes!BA:BA,0),1))","v":""},null,null,null,null,null,null,null,null,null,null,null,null,null,null,{"$f":"IF(N334<>\"\",INDEX(referentes!$AK:$AM,MATCH(DATOS!M334,referentes!$AK:$AK,0),3),\"\")","v":""},null,null,{"$f":"IF(AS334=\"\",\"\",INDEX(referentes!P:Q,MATCH(AS334,referentes!Q:Q,0),1))","v":""},null,null,null,{"$f":"IF(AY334=\"\",\"\",INDEX(referentes!AB:AC,MATCH(AY334,referentes!AC:AC,0),1))","v":""},null,{"$f":"IF(BA334=\"\",\"\",INDEX(referentes!S:T,MATCH(BA334,referentes!T:T,0),1))","v":""},null,null,{"$f":"IF(AA334=\"\",\"\",INDEX(OtrasReferencias!$AM$7:$AN$9,MATCH(AA334,OtrasReferencias!$AM$7:$AM$9,0),2))","v":""}]
[null,null,"","",{"$f":"IF(T335=\"\",\"\",INDEX(referentes!G:H,MATCH(T335,referentes!H:H,0),1))","v":""},{"$f":"IF(V335=\"\",\"\",INDEX(referentes!$M:$N,MATCH(V335,referentes!$N:$N,0),1))","v":""},{"$f":"IF(W335=\"\",\"\",INDEX(referentes!J:K,MATCH(W335,referentes!K:K,0),1))","v":""},null,{"$f":"IF(Y335<>\"\",CONCATENATE($A$3,P335,DIGITADOR!$M$1,Y335,ROW()),\"\")","v":""},{"$f":"IF(Y335<>\"\",CONCATENATE(P335,INT(Q335*1440),DIGITADOR!$M$1,Y335),\"\")","v":""},null,{"$f":"IF(AO335<>\"\",INDEX(referentes!$Y:$Z,MATCH(DATOS!AO335,referentes!$Z:$Z,0),1),\"\")","v":""},"","",{"$f":"IF(R335=\"\",\"\",INDEX(referentes!D:E,MATCH(R335,referentes!E:E,0),1))","v":""},null,null,null,null,null,null,null,null,null,{"$f":"IF(X335=\"\",\"\",INDEX(referentes!$AT:$AX,MATCH(X335,referentes!$AX:$AX,0),1))","v":""},null,null,{"$f":"IF(AC335=\"\",\"\",INDEX(referentes!AZ:BA,MATCH(AC335,referentes!BA:BA,0),1))","v":""},null,null,null,null,null,null,null,null,null,null,null,null,null,null,{"$f":"IF(N335<>\"\",INDEX(referentes!$AK:$AM,MATCH(DATOS!M335,referentes!$AK:$AK,0),3),\"\")","v":""},null,null,{"$f":"IF(AS335=\"\",\"\",INDEX(referentes!P:Q,MATCH(AS335,referentes!Q:Q,0),1))","v":""},null,null,null,{"$f":"IF(AY335=\"\",\"\",INDEX(referentes!AB:AC,MATCH(AY335,referentes!AC:AC,0),1))","v":""},null,{"$f":"IF(BA335=\"\",\"\",INDEX(referentes!S:T,MATCH(BA335,referentes!T:T,0),1))","v":""},null,null,{"$f":"IF(AA335=\"\",\"\",INDEX(OtrasReferencias!$AM$7:$AN$9,MATCH(AA335,OtrasReferencias!$AM$7:$AM$9,0),2))","v":""}]
[null,null,"","",{"$f":"IF(T336=\"\",\"\",INDEX(referentes!G:H,MATCH(T336,referentes!H:H,0),1))","v":""},{"$f":"IF(V336=\"\",\"\",INDEX(referentes!$M:$N,MATCH(V336,referentes!$N:$N,0),1))","v":""},{"$f":"IF(W336=\"\",\"\",INDEX(referentes!J:K,MATCH(W336,referentes!K:K,0),1))","v":""},null,{"$f":"IF(Y336<>\"\",CONCATENATE($A$3,P336,DIGITADOR!$M$1,Y336,ROW()),\"\")","v":""},{"$f":"IF(Y336<>\"\",CONCATENATE(P336,INT(Q336*1440),DIGITADOR!$M$1,Y336),\"\")","v":""},null,{"$f":"IF(AO336<>\"\",INDEX(referentes!$Y:$Z,MATCH(DATOS!AO336,referentes!$Z:$Z,0),1),\"\")","v":""},"","",{"$f":"IF(R336=\"\",\"\",INDEX(referentes!D:E,MATCH(R336,referentes!E:E,0),1))","v":""},null,null,null,null,null,null,null,null,null,{"$f":"IF(X336=\"\",\"\",INDEX(referentes!$AT:$AX,MATCH(X336,referentes!$AX:$AX,0),1))","v":""},null,null,{"$f":"IF(AC336=\"\",\"\",INDEX(referentes!AZ:BA,MATCH(AC336,referentes!BA:BA,0),1))","v":""},null,null,null,null,null,null,null,null,null,null,null,null,null,null,{"$f":"IF(N336<>\"\",INDEX(referentes!$AK:$AM,MATCH(DATOS!M336,referentes!$AK:$AK,0),3),\"\")","v":""},null,null,{"$f":"IF(AS336=\"\",\"\",INDEX(referentes!P:Q,MATCH(AS336,referentes!Q:Q,0),1))","v":""},null,null,null,{"$f":"IF(AY336=\"\",\"\",INDEX(referentes!AB:AC,MATCH(AY336,referentes!AC:AC,0),1))","v":""},null,{"$f":"IF(BA336=\"\",\"\",INDEX(referentes!S:T,MATCH(BA336,referentes!T:T,0),1))","v":""},null,null,{"$f":"IF(AA336=\"\",\"\",INDEX(OtrasReferencias!$AM$7:$AN$9,MATCH(AA336,OtrasReferencias!$AM$7:$AM$9,0),2))","v":""}]
[null,null,"","",{"$f":"IF(T337=\"\",\"\",INDEX(referentes!G:H,MATCH(T337,referentes!H:H,0),1))","v":""},{"$f":"IF(V337=\"\",\"\",INDEX(referentes!$M:$N,MATCH(V337,referentes!$N:$N,0),1))","v":""},{"$f":"IF(W337=\"\",\"\",INDEX(referentes!J:K,MATCH(W337,referentes!K:K,0),1))","v":""},null,{"$f":"IF(Y337<>\"\",CONCATENATE($A$3,P337,DIGITADOR!$M$1,Y337,ROW()),\"\")","v":""},{"$f":"IF(Y337<>\"\",CONCATENATE(P337,INT(Q337*1440),DIGITADOR!$M$1,Y337),\"\")","v":""},null,{"$f":"IF(AO337<>\"\",INDEX(referentes!$Y:$Z,MATCH(DATOS!AO337,referentes!$Z:$Z,0),1),\"\")","v":""},"","",{"$f":"IF(R337=\"\",\"\",INDEX(referentes!D:E,MATCH(R337,referentes!E:E,0),1))","v":""},null,null,null,null,null,null,null,null,null,{"$f":"IF(X337=\"\",\"\",INDEX(referentes!$AT:$AX,MATCH(X337,referentes!$AX:$AX,0),1))","v":""},null,null,{"$f":"IF(AC337=\"\",\"\",INDEX(referentes!AZ:BA,MATCH(AC337,referentes!BA:BA,0),1))","v":""},null,null,null,null,null,null,null,null,null,null,null,null,null,null,{"$f":"IF(N337<>\"\",INDEX(referentes!$AK:$AM,MATCH(DATOS!M337,referentes!$AK:$AK,0),3),\"\")","v":""},null,null,{"$f":"IF(AS337=\"\",\"\",INDEX(referentes!P:Q,MATCH(AS337,referentes!Q:Q,0),1))","v":""},null,null,null,{"$f":"IF(AY337=\"\",\"\",INDEX(referentes!AB:AC,MATCH(AY337,referentes!AC:AC,0),1))","v":""},null,{"$f":"IF(BA337=\"\",\"\",INDEX(referentes!S:T,MATCH(BA337,referentes!T:T,0),1))","v":""},null,null,{"$f":"IF(AA337=\"\",\"\",INDEX(OtrasReferencias!$AM$7:$AN$9,MATCH(AA337,OtrasReferencias!$AM$7:$AM$9,0),2))","v":""}]
[null,null,"","",{"$f":"IF(T338=\"\",\"\",INDEX(referentes!G:H,MATCH(T338,referentes!H:H,0),1))","v":""},{"$f":"IF(V338=\"\",\"\",INDEX(referentes!$M:$N,MATCH(V338,referentes!$N:$N,0),1))","v":""},{"$f":"IF(W338=\"\",\"\",INDEX(referentes!J:K,MATCH(W338,referentes!K:K,0),1))","v":""},null,{"$f":"IF(Y338<>\"\",CONCATENATE($A$3,P338,DIGITADOR!$M$1,Y338,ROW()),\"\")","v":""},{"$f":"IF(Y338<>\"\",CONCATENATE(P338,INT(Q338*1440),DIGITADOR!$M$1,Y338),\"\")","v":""},null,{"$f":"IF(AO338<>\"\",INDEX(referentes!$Y:$Z,MATCH(DATOS!AO338,referentes!$Z:$Z,0),1),\"\")","v":""},"","",{"$f":"IF(R338=\"\",\"\",INDEX(referentes!D:E,MATCH(R338,referentes!E:E,0),1))","v":""},null,null,null,null,null,null,null,null,null,{"$f":"IF(X338=\"\",\"\",INDEX(referentes!$AT:$AX,MATCH(X338,referentes!$AX:$AX,0),1))","v":""},null,null,{"$f":"IF(AC338=\"\",\"\",INDEX(referentes!AZ:BA,MATCH(AC338,referentes!BA:BA,0),1))","v":""},null,null,null,null,null,null,null,null,null,null,null,null,null,null,{"$f":"IF(N338<>\"\",INDEX(referentes!$AK:$AM,MATCH(DATOS!M338,referentes!$AK:$AK,0),3),\"\")","v":""},null,null,{"$f":"IF(AS338=\"\",\"\",INDEX(referentes!P:Q,MATCH(AS338,referentes!Q:Q,0),1))","v":""},null,null,null,{"$f":"IF(AY338=\"\",\"\",INDEX(referentes!AB:AC,MATCH(AY338,referentes!AC:AC,0),1))","v":""},null,{"$f":"IF(BA338=\"\",\"\",INDEX(referentes!S:T,MATCH(BA338,referentes!T:T,0),1))","v":""},null,null,{"$f":"IF(AA338=\"\",\"\",INDEX(OtrasReferencias!$AM$7:$AN$9,MATCH(AA338,OtrasReferencias!$AM$7:$AM$9,0),2))","v":""}]
[null,null,"","",{"$f":"IF(T339=\"\",\"\",INDEX(referentes!G:H,MATCH(T339,referentes!H:H,0),1))","v":""},{"$f":"IF(V339=\"\",\"\",INDEX(referentes!$M:$N,MATCH(V339,referentes!$N:$N,0),1))","v":""},{"$f":"IF(W339=\"\",\"\",INDEX(referentes!J:K,MATCH(W339,referentes!K:K,0),1))","v":""},null,{"$f":"IF(Y339<>\"\",CONCATENATE($A$3,P339,DIGITADOR!$M$1,Y339,ROW()),\"\")","v":""},{"$f":"IF(Y339<>\"\",CONCATENATE(P339,INT(Q339*1440),DIGITADOR!$M$1,Y339),\"\")","v":""},null,{"$f":"IF(AO339<>\"\",INDEX(referentes!$Y:$Z,MATCH(DATOS!AO339,referentes!$Z:$Z,0),1),\"\")","v":""},"","",{"$f":"IF(R339=\"\",\"\",INDEX(referentes!D:E,MATCH(R339,referentes!E:E,0),1))","v":""},null,null,null,null,null,null,null,null,null,{"$f":"IF(X339=\"\",\"\",INDEX(referentes!$AT:$AX,MATCH(X339,referentes!$AX:$AX,0),1))","v":""},null,null,{"$f":"IF(AC339=\"\",\"\",INDEX(referentes!AZ:BA,MATCH(AC339,referentes!BA:BA,0),1))","v":""},null,null,null,null,null,null,null,null,null,null,null,null,null,null,{"$f":"IF(N339<>\"\",INDEX(referentes!$AK:$AM,MATCH(DATOS!M339,referentes!$AK:$AK,0),3),\"\")","v":""},null,null,{"$f":"IF(AS339=\"\",\"\",INDEX(referentes!P:Q,MATCH(AS339,referentes!Q:Q,0),1))","v":""},null,null,null,{"$f":"IF(AY339=\"\",\"\",INDEX(referentes!AB:AC,MATCH(AY339,referentes!AC:AC,0),1))","v":""},null,{"$f":"IF(BA339=\"\",\"\",INDEX(referentes!S:T,MATCH(BA339,referentes!T:T,0),1))","v":""},null,null,{"$f":"IF(AA339=\"\",\"\",INDEX(OtrasReferencias!$AM$7:$AN$9,MATCH(AA339,OtrasReferencias!$AM$7:$AM$9,0),2))","v":""}]
[null,null,"","",{"$f":"IF(T340=\"\",\"\",INDEX(referentes!G:H,MATCH(T340,referentes!H:H,0),1))","v":""},{"$f":"IF(V340=\"\",\"\",INDEX(referentes!$M:$N,MATCH(V340,referentes!$N:$N,0),1))","v":""},{"$f":"IF(W340=\"\",\"\",INDEX(referentes!J:K,MATCH(W340,referentes!K:K,0),1))","v":""},null,{"$f":"IF(Y340<>\"\",CONCATENATE($A$3,P340,DIGITADOR!$M$1,Y340,ROW()),\"\")","v":""},{"$f":"IF(Y340<>\"\",CONCATENATE(P340,INT(Q340*1440),DIGITADOR!$M$1,Y340),\"\")","v":""},null,{"$f":"IF(AO340<>\"\",INDEX(referentes!$Y:$Z,MATCH(DATOS!AO340,referentes!$Z:$Z,0),1),\"\")","v":""},"","",{"$f":"IF(R340=\"\",\"\",INDEX(referentes!D:E,MATCH(R340,referentes!E:E,0),1))","v":""},null,null,null,null,null,null,null,null,null,{"$f":"IF(X340=\"\",\"\",INDEX(referentes!$AT:$AX,MATCH(X340,referentes!$AX:$AX,0),1))","v":""},null,null,{"$f":"IF(AC340=\"\",\"\",INDEX(referentes!AZ:BA,MATCH(AC340,referentes!BA:BA,0),1))","v":""},null,null,null,null,null,null,null,null,null,null,null,null,null,null,{"$f":"IF(N340<>\"\",INDEX(referentes!$AK:$AM,MATCH(DATOS!M340,referentes!$AK:$AK,0),3),\"\")","v":""},null,null,{"$f":"IF(AS340=\"\",\"\",INDEX(referentes!P:Q,MATCH(AS340,referentes!Q:Q,0),1))","v":""},null,null,null,{"$f":"IF(AY340=\"\",\"\",INDEX(referentes!AB:AC,MATCH(AY340,referentes!AC:AC,0),1))","v":""},null,{"$f":"IF(BA340=\"\",\"\",INDEX(referentes!S:T,MATCH(BA340,referentes!T:T,0),1))","v":""},null,null,{"$f":"IF(AA340=\"\",\"\",INDEX(OtrasReferencias!$AM$7:$AN$9,MATCH(AA340,OtrasReferencias!$AM$7:$AM$9,0),2))","v":""}]
[null,null,"","",{"$f":"IF(T341=\"\",\"\",INDEX(referentes!G:H,MATCH(T341,referentes!H:H,0),1))","v":""},{"$f":"IF(V341=\"\",\"\",INDEX(referentes!$M:$N,MATCH(V341,referentes!$N:$N,0),1))","v":""},{"$f":"IF(W341=\"\",\"\",INDEX(referentes!J:K,MATCH(W341,referentes!K:K,0),1))","v":""},null,{"$f":"IF(Y341<>\"\",CONCATENATE($A$3,P341,DIGITADOR!$M$1,Y341,ROW()),\"\")","v":""},{"$f":"IF(Y341<>\"\",CONCATENATE(P341,INT(Q341*1440),DIGITADOR!$M$1,Y341),\"\")","v":""},null,{"$f":"IF(AO341<>\"\",INDEX(referentes!$Y:$Z,MATCH(DATOS!AO341,referentes!$Z:$Z,0),1),\"\")","v":""},"","",{"$f":"IF(R341=\"\",\"\",INDEX(referentes!D:E,MATCH(R341,referentes!E:E,0),1))","v":""},null,null,null,null,null,null,null,null,null,{"$f":"IF(X341=\"\",\"\",INDEX(referentes!$AT:$AX,MATCH(X341,referentes!$AX:$AX,0),1))","v":""},null,null,{"$f":"IF(AC341=\"\",\"\",INDEX(referentes!AZ:BA,MATCH(AC341,referentes!BA:BA,0),1))","v":""},null,null,null,null,null,null,null,null,null,null,null,null,null,null,{"$f":"IF(N341<>\"\",INDEX(referentes!$AK:$AM,MATCH(DATOS!M341,referentes!$AK:$AK,0),3),\"\")","v":""},null,null,{"$f":"IF(AS341=\"\",\"\",INDEX(referentes!P:Q,MATCH(AS341,referentes!Q:Q,0),1))","v":""},null,null,null,{"$f":"IF(AY341=\"\",\"\",INDEX(referentes!AB:AC,MATCH(AY341,referentes!AC:AC,0),1))","v":""},null,{"$f":"IF(BA341=\"\",\"\",INDEX(referentes!S:T,MATCH(BA341,referentes!T:T,0),1))","v":""},null,null,{"$f":"IF(AA341=\"\",\"\",INDEX(OtrasReferencias!$AM$7:$AN$9,MATCH(AA341,OtrasReferencias!$AM$7:$AM$9,0),2))","v":""}]
[null,null,"","",{"$f":"IF(T342=\"\",\"\",INDEX(referentes!G:H,MATCH(T342,referentes!H:H,0),1))","v":""},{"$f":"IF(V342=\"\",\"\",INDEX(referentes!$M:$N,MATCH(V342,referentes!$N:$N,0),1))","v":""},{"$f":"IF(W342=\"\",\"\",INDEX(referentes!J:K,MATCH(W342,referentes!K:K,0),1))","v":""},null,{"$f":"IF(Y342<>\"\",CONCATENATE($A$3,P342,DIGITADOR!$M$1,Y342,ROW()),\"\")","v":""},{"$f":"IF(Y342<>\"\",CONCATENATE(P342,INT(Q342*1440),DIGITADOR!$M$1,Y342),\"\")","v":""},null,{"$f":"IF(AO342<>\"\",INDEX(referentes!$Y:$Z,MATCH(DATOS!AO342,referentes!$Z:$Z,0),1),\"\")","v":""},"","",{"$f":"IF(R342=\"\",\"\",INDEX(referentes!D:E,MATCH(R342,referentes!E:E,0),1))","v":""},null,null,null,null,null,null,null,null,null,{"$f":"IF(X342=\"\",\"\",INDEX(referentes!$AT:$AX,MATCH(X342,referentes!$AX:$AX,0),1))","v":""},null,null,{"$f":"IF(AC342=\"\",\"\",INDEX(referentes!AZ:BA,MATCH(AC342,referentes!BA:BA,0),1))","v":""},null,null,null,null,null,null,null,null,null,null,null,null,null,null,{"$f":"IF(N342<>\"\",INDEX(referentes!$AK:$AM,MATCH(DATOS!M342,referentes!$AK:$AK,0),3),\"\")","v":""},null,null,{"$f":"IF(AS342=\"\",\"\",INDEX(referentes!P:Q,MATCH(AS342,referentes!Q:Q,0),1))","v":""},null,null,null,{"$f":"IF(AY342=\"\",\"\",INDEX(referentes!AB:AC,MATCH(AY342,referentes!AC:AC,0),1))","v":""},null,{"$f":"IF(BA342=\"\",\"\",INDEX(referentes!S:T,MATCH(BA342,referentes!T:T,0),1))","v":""},null,null,{"$f":"IF(AA342=\"\",\"\",INDEX(OtrasReferencias!$AM$7:$AN$9,MATCH(AA342,OtrasReferencias!$AM$7:$AM$9,0),2))","v":""}]
[null,null,"","",{"$f":"IF(T343=\"\",\"\",INDEX(referentes!G:H,MATCH(T343,referentes!H:H,0),1))","v":""},{"$f":"IF(V343=\"\",\"\",INDEX(referentes!$M:$N,MATCH(V343,referentes!$N:$N,0),1))","v":""},{"$f":"IF(W343=\"\",\"\",INDEX(referentes!J:K,MATCH(W343,referentes!K:K,0),1))","v":""},null,{"$f":"IF(Y343<>\"\",CONCATENATE($A$3,P343,DIGITADOR!$M$1,Y343,ROW()),\"\")","v":""},{"$f":"IF(Y343<>\"\",CONCATENATE(P343,INT(Q343*1440),DIGITADOR!$M$1,Y343),\"\")","v":""},null,{"$f":"IF(AO343<>\"\",INDEX(referentes!$Y:$Z,MATCH(DATOS!AO343,referentes!$Z:$Z,0),1),\"\")","v":""},"","",{"$f":"IF(R343=\"\",\"\",INDEX(referentes!D:E,MATCH(R343,referentes!E:E,0),1))","v":""},null,null,null,null,null,null,null,null,null,{"$f":"IF(X343=\"\",\"\",INDEX(referentes!$AT:$AX,MATCH(X343,referentes!$AX:$AX,0),1))","v":""},null,null,{"$f":"IF(AC343=\"\",\"\",INDEX(referentes!AZ:BA,MATCH(AC343,referentes!BA:BA,0),1))","v":""},null,null,null,null,null,null,null,null,null,null,null,null,null,null,{"$f":"IF(N343<>\"\",INDEX(referentes!$AK:$AM,MATCH(DATOS!M343,referentes!$AK:$AK,0),3),\"\")","v":""},null,null,{"$f":"IF(AS343=\"\",\"\",INDEX(referentes!P:Q,MATCH(AS343,referentes!Q:Q,0),1))","v":""},null,null,null,{"$f":"IF(AY343=\"\",\"\",INDEX(referentes!AB:AC,MATCH(AY343,referentes!AC:AC,0),1))","v":""},null,{"$f":"IF(BA343=\"\",\"\",INDEX(referentes!S:T,MATCH(BA343,referentes!T:T,0),1))","v":""},null,null,{"$f":"IF(AA343=\"\",\"\",INDEX(OtrasReferencias!$AM$7:$AN$9,MATCH(AA343,OtrasReferencias!$AM$7:$AM$9,0),2))","v":""}]
[null,null,"","",{"$f":"IF(T344=\"\",\"\",INDEX(referentes!G:H,MATCH(T344,referentes!H:H,0),1))","v":""},{"$f":"IF(V344=\"\",\"\",INDEX(referentes!$M:$N,MATCH(V344,referentes!$N:$N,0),1))","v":""},{"$f":"IF(W344=\"\",\"\",INDEX(referentes!J:K,MATCH(W344,referentes!K:K,0),1))","v":""},null,{"$f":"IF(Y344<>\"\",CONCATENATE($A$3,P344,DIGITADOR!$M$1,Y344,ROW()),\"\")","v":""},{"$f":"IF(Y344<>\"\",CONCATENATE(P344,INT(Q344*1440),DIGITADOR!$M$1,Y344),\"\")","v":""},null,{"$f":"IF(AO344<>\"\",INDEX(referentes!$Y:$Z,MATCH(DATOS!AO344,referentes!$Z:$Z,0),1),\"\")","v":""},"","",{"$f":"IF(R344=\"\",\"\",INDEX(referentes!D:E,MATCH(R344,referentes!E:E,0),1))","v":""},null,null,null,null,null,null,null,null,null,{"$f":"IF(X344=\"\",\"\",INDEX(referentes!$AT:$AX,MATCH(X344,referentes!$AX:$AX,0),1))","v":""},null,null,{"$f":"IF(AC344=\"\",\"\",INDEX(referentes!AZ:BA,MATCH(AC344,referentes!BA:BA,0),1))","v":""},null,null,null,null,null,null,null,null,null,null,null,null,null,null,{"$f":"IF(N344<>\"\",INDEX(referentes!$AK:$AM,MATCH(DATOS!M344,referentes!$AK:$AK,0),3),\"\")","v":""},null,null,{"$f":"IF(AS344=\"\",\"\",INDEX(referentes!P:Q,MATCH(AS344,referentes!Q:Q,0),1))","v":""},null,null,null,{"$f":"IF(AY344=\"\",\"\",INDEX(referentes!AB:AC,MATCH(AY344,referentes!AC:AC,0),1))","v":""},null,{"$f":"IF(BA344=\"\",\"\",INDEX(referentes!S:T,MATCH(BA344,referentes!T:T,0),1))","v":""},null,null,{"$f":"IF(AA344=\"\",\"\",INDEX(OtrasReferencias!$AM$7:$AN$9,MATCH(AA344,OtrasReferencias!$AM$7:$AM$9,0),2))","v":""}]
[null,null,"","",{"$f":"IF(T345=\"\",\"\",INDEX(referentes!G:H,MATCH(T345,referentes!H:H,0),1))","v":""},{"$f":"IF(V345=\"\",\"\",INDEX(referentes!$M:$N,MATCH(V345,referentes!$N:$N,0),1))","v":""},{"$f":"IF(W345=\"\",\"\",INDEX(referentes!J:K,MATCH(W345,referentes!K:K,0),1))","v":""},null,{"$f":"IF(Y345<>\"\",CONCATENATE($A$3,P345,DIGITADOR!$M$1,Y345,ROW()),\"\")","v":""},{"$f":"IF(Y345<>\"\",CONCATENATE(P345,INT(Q345*1440),DIGITADOR!$M$1,Y345),\"\")","v":""},null,{"$f":"IF(AO345<>\"\",INDEX(referentes!$Y:$Z,MATCH(DATOS!AO345,referentes!$Z:$Z,0),1),\"\")","v":""},"","",{"$f":"IF(R345=\"\",\"\",INDEX(referentes!D:E,MATCH(R345,referentes!E:E,0),1))","v":""},null,null,null,null,null,null,null,null,null,{"$f":"IF(X345=\"\",\"\",INDEX(referentes!$AT:$AX,MATCH(X345,referentes!$AX:$AX,0),1))","v":""},null,null,{"$f":"IF(AC345=\"\",\"\",INDEX(referentes!AZ:BA,MATCH(AC345,referentes!BA:BA,0),1))","v":""},null,null,null,null,null,null,null,null,null,null,null,null,null,null,{"$f":"IF(N345<>\"\",INDEX(referentes!$AK:$AM,MATCH(DATOS!M345,referentes!$AK:$AK,0),3),\"\")","v":""},null,null,{"$f":"IF(AS345=\"\",\"\",INDEX(referentes!P:Q,MATCH(AS345,referentes!Q:Q,0),1))","v":""},null,null,null,{"$f":"IF(AY345=\"\",\"\",INDEX(referentes!AB:AC,MATCH(AY345,referentes!AC:AC,0),1))","v":""},null,{"$f":"IF(BA345=\"\",\"\",INDEX(referentes!S:T,MATCH(BA345,referentes!T:T,0),1))","v":""},null,null,{"$f":"IF(AA345=\"\",\"\",INDEX(OtrasReferencias!$AM$7:$AN$9,MATCH(AA345,OtrasReferencias!$AM$7:$AM$9,0),2))","v":""}]
[null,null,"","",{"$f":"IF(T346=\"\",\"\",INDEX(referentes!G:H,MATCH(T346,referentes!H:H,0),1))","v":""},{"$f":"IF(V346=\"\",\"\",INDEX(referentes!$M:$N,MATCH(V346,referentes!$N:$N,0),1))","v":""},{"$f":"IF(W346=\"\",\"\",INDEX(referentes!J:K,MATCH(W346,referentes!K:K,0),1))","v":""},null,{"$f":"IF(Y346<>\"\",CONCATENATE($A$3,P346,DIGITADOR!$M$1,Y346,ROW()),\"\")","v":""},{"$f":"IF(Y346<>\"\",CONCATENATE(P346,INT(Q346*1440),DIGITADOR!$M$1,Y346),\"\")","v":""},null,{"$f":"IF(AO346<>\"\",INDEX(referentes!$Y:$Z,MATCH(DATOS!AO346,referentes!$Z:$Z,0),1),\"\")","v":""},"","",{"$f":"IF(R346=\"\",\"\",INDEX(referentes!D:E,MATCH(R346,referentes!E:E,0),1))","v":""},null,null,null,null,null,null,null,null,null,{"$f":"IF(X346=\"\",\"\",INDEX(referentes!$AT:$AX,MATCH(X346,referentes!$AX:$AX,0),1))","v":""},null,null,{"$f":"IF(AC346=\"\",\"\",INDEX(referentes!AZ:BA,MATCH(AC346,referentes!BA:BA,0),1))","v":""},null,null,null,null,null,null,null,null,null,null,null,null,null,null,{"$f":"IF(N346<>\"\",INDEX(referentes!$AK:$AM,MATCH(DATOS!M346,referentes!$AK:$AK,0),3),\"\")","v":""},null,null,{"$f":"IF(AS346=\"\",\"\",INDEX(referentes!P:Q,MATCH(AS346,referentes!Q:Q,0),1))","v":""},null,null,null,{"$f":"IF(AY346=\"\",\"\",INDEX(referentes!AB:AC,MATCH(AY346,referentes!AC:AC,0),1))","v":""},null,{"$f":"IF(BA346=\"\",\"\",INDEX(referentes!S:T,MATCH(BA346,referentes!T:T,0),1))","v":""},null,null,{"$f":"IF(AA346=\"\",\"\",INDEX(OtrasReferencias!$AM$7:$AN$9,MATCH(AA346,OtrasReferencias!$AM$7:$AM$9,0),2))","v":""}]
[null,null,"","",{"$f":"IF(T347=\"\",\"\",INDEX(referentes!G:H,MATCH(T347,referentes!H:H,0),1))","v":""},{"$f":"IF(V347=\"\",\"\",INDEX(referentes!$M:$N,MATCH(V347,referentes!$N:$N,0),1))","v":""},{"$f":"IF(W347=\"\",\"\",INDEX(referentes!J:K,MATCH(W347,referentes!K:K,0),1))","v":""},null,{"$f":"IF(Y347<>\"\",CONCATENATE($A$3,P347,DIGITADOR!$M$1,Y347,ROW()),\"\")","v":""},{"$f":"IF(Y347<>\"\",CONCATENATE(P347,INT(Q347*1440),DIGITADOR!$M$1,Y347),\"\")","v":""},null,{"$f":"IF(AO347<>\"\",INDEX(referentes!$Y:$Z,MATCH(DATOS!AO347,referentes!$Z:$Z,0),1),\"\")","v":""},"","",{"$f":"IF(R347=\"\",\"\",INDEX(referentes!D:E,MATCH(R347,referentes!E:E,0),1))","v":""},null,null,null,null,null,null,null,null,null,{"$f":"IF(X347=\"\",\"\",INDEX(referentes!$AT:$AX,MATCH(X347,referentes!$AX:$AX,0),1))","v":""},null,null,{"$f":"IF(AC347=\"\",\"\",INDEX(referentes!AZ:BA,MATCH(AC347,referentes!BA:BA,0),1))","v":""},null,null,null,null,null,null,null,null,null,null,null,null,null,null,{"$f":"IF(N347<>\"\",INDEX(referentes!$AK:$AM,MATCH(DATOS!M347,referentes!$AK:$AK,0),3),\"\")","v":""},null,null,{"$f":"IF(AS347=\"\",\"\",INDEX(referentes!P:Q,MATCH(AS347,referentes!Q:Q,0),1))","v":""},null,null,null,{"$f":"IF(AY347=\"\",\"\",INDEX(referentes!AB:AC,MATCH(AY347,referentes!AC:AC,0),1))","v":""},null,{"$f":"IF(BA347=\"\",\"\",INDEX(referentes!S:T,MATCH(BA347,referentes!T:T,0),1))","v":""},null,null,{"$f":"IF(AA347=\"\",\"\",INDEX(OtrasReferencias!$AM$7:$AN$9,MATCH(AA347,OtrasReferencias!$AM$7:$AM$9,0),2))","v":""}]
[null,null,"","",{"$f":"IF(T348=\"\",\"\",INDEX(referentes!G:H,MATCH(T348,referentes!H:H,0),1))","v":""},{"$f":"IF(V348=\"\",\"\",INDEX(referentes!$M:$N,MATCH(V348,referentes!$N:$N,0),1))","v":""},{"$f":"IF(W348=\"\",\"\",INDEX(referentes!J:K,MATCH(W348,referentes!K:K,0),1))","v":""},null,{"$f":"IF(Y348<>\"\",CONCATENATE($A$3,P348,DIGITADOR!$M$1,Y348,ROW()),\"\")","v":""},{"$f":"IF(Y348<>\"\",CONCATENATE(P348,INT(Q348*1440),DIGITADOR!$M$1,Y348),\"\")","v":""},null,{"$f":"IF(AO348<>\"\",INDEX(referentes!$Y:$Z,MATCH(DATOS!AO348,referentes!$Z:$Z,0),1),\"\")","v":""},"","",{"$f":"IF(R348=\"\",\"\",INDEX(referentes!D:E,MATCH(R348,referentes!E:E,0),1))","v":""},null,null,null,null,null,null,null,null,null,{"$f":"IF(X348=\"\",\"\",INDEX(referentes!$AT:$AX,MATCH(X348,referentes!$AX:$AX,0),1))","v":""},null,null,{"$f":"IF(AC348=\"\",\"\",INDEX(referentes!AZ:BA,MATCH(AC348,referentes!BA:BA,0),1))","v":""},null,null,null,null,null,null,null,null,null,null,null,null,null,null,{"$f":"IF(N348<>\"\",INDEX(referentes!$AK:$AM,MATCH(DATOS!M348,referentes!$AK:$AK,0),3),\"\")","v":""},null,null,{"$f":"IF(AS348=\"\",\"\",INDEX(referentes!P:Q,MATCH(AS348,referentes!Q:Q,0),1))","v":""},null,null,null,{"$f":"IF(AY348=\"\",\"\",INDEX(referentes!AB:AC,MATCH(AY348,referentes!AC:AC,0),1))","v":""},null,{"$f":"IF(BA348=\"\",\"\",INDEX(referentes!S:T,MATCH(BA348,referentes!T:T,0),1))","v":""},null,null,{"$f":"IF(AA348=\"\",\"\",INDEX(OtrasReferencias!$AM$7:$AN$9,MATCH(AA348,OtrasReferencias!$AM$7:$AM$9,0),2))","v":""}]
[null,null,"","",{"$f":"IF(T349=\"\",\"\",INDEX(referentes!G:H,MATCH(T349,referentes!H:H,0),1))","v":""},{"$f":"IF(V349=\"\",\"\",INDEX(referentes!$M:$N,MATCH(V349,referentes!$N:$N,0),1))","v":""},{"$f":"IF(W349=\"\",\"\",INDEX(referentes!J:K,MATCH(W349,referentes!K:K,0),1))","v":""},null,{"$f":"IF(Y349<>\"\",CONCATENATE($A$3,P349,DIGITADOR!$M$1,Y349,ROW()),\"\")","v":""},{"$f":"IF(Y349<>\"\",CONCATENATE(P349,INT(Q349*1440),DIGITADOR!$M$1,Y349),\"\")","v":""},null,{"$f":"IF(AO349<>\"\",INDEX(referentes!$Y:$Z,MATCH(DATOS!AO349,referentes!$Z:$Z,0),1),\"\")","v":""},"","",{"$f":"IF(R349=\"\",\"\",INDEX(referentes!D:E,MATCH(R349,referentes!E:E,0),1))","v":""},null,null,null,null,null,null,null,null,null,{"$f":"IF(X349=\"\",\"\",INDEX(referentes!$AT:$AX,MATCH(X349,referentes!$AX:$AX,0),1))","v":""},null,null,{"$f":"IF(AC349=\"\",\"\",INDEX(referentes!AZ:BA,MATCH(AC349,referentes!BA:BA,0),1))","v":""},null,null,null,null,null,null,null,null,null,null,null,null,null,null,{"$f":"IF(N349<>\"\",INDEX(referentes!$AK:$AM,MATCH(DATOS!M349,referentes!$AK:$AK,0),3),\"\")","v":""},null,null,{"$f":"IF(AS349=\"\",\"\",INDEX(referentes!P:Q,MATCH(AS349,referentes!Q:Q,0),1))","v":""},null,null,null,{"$f":"IF(AY349=\"\",\"\",INDEX(referentes!AB:AC,MATCH(AY349,referentes!AC:AC,0),1))","v":""},null,{"$f":"IF(BA349=\"\",\"\",INDEX(referentes!S:T,MATCH(BA349,referentes!T:T,0),1))","v":""},null,null,{"$f":"IF(AA349=\"\",\"\",INDEX(OtrasReferencias!$AM$7:$AN$9,MATCH(AA349,OtrasReferencias!$AM$7:$AM$9,0),2))","v":""}]
[null,null,"","",{"$f":"IF(T350=\"\",\"\",INDEX(referentes!G:H,MATCH(T350,referentes!H:H,0),1))","v":""},{"$f":"IF(V350=\"\",\"\",INDEX(referentes!$M:$N,MATCH(V350,referentes!$N:$N,0),1))","v":""},{"$f":"IF(W350=\"\",\"\",INDEX(referentes!J:K,MATCH(W350,referentes!K:K,0),1))","v":""},null,{"$f":"IF(Y350<>\"\",CONCATENATE($A$3,P350,DIGITADOR!$M$1,Y350,ROW()),\"\")","v":""},{"$f":"IF(Y350<>\"\",CONCATENATE(P350,INT(Q350*1440),DIGITADOR!$M$1,Y350),\"\")","v":""},null,{"$f":"IF(AO350<>\"\",INDEX(referentes!$Y:$Z,MATCH(DATOS!AO350,referentes!$Z:$Z,0),1),\"\")","v":""},"","",{"$f":"IF(R350=\"\",\"\",INDEX(referentes!D:E,MATCH(R350,referentes!E:E,0),1))","v":""},null,null,null,null,null,null,null,null,null,{"$f":"IF(X350=\"\",\"\",INDEX(referentes!$AT:$AX,MATCH(X350,referentes!$AX:$AX,0),1))","v":""},null,null,{"$f":"IF(AC350=\"\",\"\",INDEX(referentes!AZ:BA,MATCH(AC350,referentes!BA:BA,0),1))","v":""},null,null,null,null,null,null,null,null,null,null,null,null,null,null,{"$f":"IF(N350<>\"\",INDEX(referentes!$AK:$AM,MATCH(DATOS!M350,referentes!$AK:$AK,0),3),\"\")","v":""},null,null,{"$f":"IF(AS350=\"\",\"\",INDEX(referentes!P:Q,MATCH(AS350,referentes!Q:Q,0),1))","v":""},null,null,null,{"$f":"IF(AY350=\"\",\"\",INDEX(referentes!AB:AC,MATCH(AY350,referentes!AC:AC,0),1))","v":""},null,{"$f":"IF(BA350=\"\",\"\",INDEX(referentes!S:T,MATCH(BA350,referentes!T:T,0),1))","v":""},null,null,{"$f":"IF(AA350=\"\",\"\",INDEX(OtrasReferencias!$AM$7:$AN$9,MATCH(AA350,OtrasReferencias!$AM$7:$AM$9,0),2))","v":""}]
[null,null,"","",{"$f":"IF(T351=\"\",\"\",INDEX(referentes!G:H,MATCH(T351,referentes!H:H,0),1))","v":""},{"$f":"IF(V351=\"\",\"\",INDEX(referentes!$M:$N,MATCH(V351,referentes!$N:$N,0),1))","v":""},{"$f":"IF(W351=\"\",\"\",INDEX(referentes!J:K,MATCH(W351,referentes!K:K,0),1))","v":""},null,{"$f":"IF(Y351<>\"\",CONCATENATE($A$3,P351,DIGITADOR!$M$1,Y351,ROW()),\"\")","v":""},{"$f":"IF(Y351<>\"\",CONCATENATE(P351,INT(Q351*1440),DIGITADOR!$M$1,Y351),\"\")","v":""},null,{"$f":"IF(AO351<>\"\",INDEX(referentes!$Y:$Z,MATCH(DATOS!AO351,referentes!$Z:$Z,0),1),\"\")","v":""},"","",{"$f":"IF(R351=\"\",\"\",INDEX(referentes!D:E,MATCH(R351,referentes!E:E,0),1))","v":""},null,null,null,null,null,null,null,null,null,{"$f":"IF(X351=\"\",\"\",INDEX(referentes!$AT:$AX,MATCH(X351,referentes!$AX:$AX,0),1))","v":""},null,null,{"$f":"IF(AC351=\"\",\"\",INDEX(referentes!AZ:BA,MATCH(AC351,referentes!BA:BA,0),1))","v":""},null,null,null,null,null,null,null,null,null,null,null,null,null,null,{"$f":"IF(N351<>\"\",INDEX(referentes!$AK:$AM,MATCH(DATOS!M351,referentes!$AK:$AK,0),3),\"\")","v":""},null,null,{"$f":"IF(AS351=\"\",\"\",INDEX(referentes!P:Q,MATCH(AS351,referentes!Q:Q,0),1))","v":""},null,null,null,{"$f":"IF(AY351=\"\",\"\",INDEX(referentes!AB:AC,MATCH(AY351,referentes!AC:AC,0),1))","v":""},null,{"$f":"IF(BA351=\"\",\"\",INDEX(referentes!S:T,MATCH(BA351,referentes!T:T,0),1))","v":""},null,null,{"$f":"IF(AA351=\"\",\"\",INDEX(OtrasReferencias!$AM$7:$AN$9,MATCH(AA351,OtrasReferencias!$AM$7:$AM$9,0),2))","v":""}]
[null,null,"","",{"$f":"IF(T352=\"\",\"\",INDEX(referentes!G:H,MATCH(T352,referentes!H:H,0),1))","v":""},{"$f":"IF(V352=\"\",\"\",INDEX(referentes!$M:$N,MATCH(V352,referentes!$N:$N,0),1))","v":""},{"$f":"IF(W352=\"\",\"\",INDEX(referentes!J:K,MATCH(W352,referentes!K:K,0),1))","v":""},null,{"$f":"IF(Y352<>\"\",CONCATENATE($A$3,P352,DIGITADOR!$M$1,Y352,ROW()),\"\")","v":""},{"$f":"IF(Y352<>\"\",CONCATENATE(P352,INT(Q352*1440),DIGITADOR!$M$1,Y352),\"\")","v":""},null,{"$f":"IF(AO352<>\"\",INDEX(referentes!$Y:$Z,MATCH(DATOS!AO352,referentes!$Z:$Z,0),1),\"\")","v":""},"","",{"$f":"IF(R352=\"\",\"\",INDEX(referentes!D:E,MATCH(R352,referentes!E:E,0),1))","v":""},null,null,null,null,null,null,null,null,null,{"$f":"IF(X352=\"\",\"\",INDEX(referentes!$AT:$AX,MATCH(X352,referentes!$AX:$AX,0),1))","v":""},null,null,{"$f":"IF(AC352=\"\",\"\",INDEX(referentes!AZ:BA,MATCH(AC352,referentes!BA:BA,0),1))","v":""},null,null,null,null,null,null,null,null,null,null,null,null,null,null,{"$f":"IF(N352<>\"\",INDEX(referentes!$AK:$AM,MATCH(DATOS!M352,referentes!$AK:$AK,0),3),\"\")","v":""},null,null,{"$f":"IF(AS352=\"\",\"\",INDEX(referentes!P:Q,MATCH(AS352,referentes!Q:Q,0),1))","v":""},null,null,null,{"$f":"IF(AY352=\"\",\"\",INDEX(referentes!AB:AC,MATCH(AY352,referentes!AC:AC,0),1))","v":""},null,{"$f":"IF(BA352=\"\",\"\",INDEX(referentes!S:T,MATCH(BA352,referentes!T:T,0),1))","v":""},null,null,{"$f":"IF(AA352=\"\",\"\",INDEX(OtrasReferencias!$AM$7:$AN$9,MATCH(AA352,OtrasReferencias!$AM$7:$AM$9,0),2))","v":""}]
[null,null,"","",{"$f":"IF(T353=\"\",\"\",INDEX(referentes!G:H,MATCH(T353,referentes!H:H,0),1))","v":""},{"$f":"IF(V353=\"\",\"\",INDEX(referentes!$M:$N,MATCH(V353,referentes!$N:$N,0),1))","v":""},{"$f":"IF(W353=\"\",\"\",INDEX(referentes!J:K,MATCH(W353,referentes!K:K,0),1))","v":""},null,{"$f":"IF(Y353<>\"\",CONCATENATE($A$3,P353,DIGITADOR!$M$1,Y353,ROW()),\"\")","v":""},{"$f":"IF(Y353<>\"\",CONCATENATE(P353,INT(Q353*1440),DIGITADOR!$M$1,Y353),\"\")","v":""},null,{"$f":"IF(AO353<>\"\",INDEX(referentes!$Y:$Z,MATCH(DATOS!AO353,referentes!$Z:$Z,0),1),\"\")","v":""},"","",{"$f":"IF(R353=\"\",\"\",INDEX(referentes!D:E,MATCH(R353,referentes!E:E,0),1))","v":""},null,null,null,null,null,null,null,null,null,{"$f":"IF(X353=\"\",\"\",INDEX(referentes!$AT:$AX,MATCH(X353,referentes!$AX:$AX,0),1))","v":""},null,null,{"$f":"IF(AC353=\"\",\"\",INDEX(referentes!AZ:BA,MATCH(AC353,referentes!BA:BA,0),1))","v":""},null,null,null,null,null,null,null,null,null,null,null,null,null,null,{"$f":"IF(N353<>\"\",INDEX(referentes!$AK:$AM,MATCH(DATOS!M353,referentes!$AK:$AK,0),3),\"\")","v":""},null,null,{"$f":"IF(AS353=\"\",\"\",INDEX(referentes!P:Q,MATCH(AS353,referentes!Q:Q,0),1))","v":""},null,null,null,{"$f":"IF(AY353=\"\",\"\",INDEX(referentes!AB:AC,MATCH(AY353,referentes!AC:AC,0),1))","v":""},null,{"$f":"IF(BA353=\"\",\"\",INDEX(referentes!S:T,MATCH(BA353,referentes!T:T,0),1))","v":""},null,null,{"$f":"IF(AA353=\"\",\"\",INDEX(OtrasReferencias!$AM$7:$AN$9,MATCH(AA353,OtrasReferencias!$AM$7:$AM$9,0),2))","v":""}]
[null,null,"","",{"$f":"IF(T354=\"\",\"\",INDEX(referentes!G:H,MATCH(T354,referentes!H:H,0),1))","v":""},{"$f":"IF(V354=\"\",\"\",INDEX(referentes!$M:$N,MATCH(V354,referentes!$N:$N,0),1))","v":""},{"$f":"IF(W354=\"\",\"\",INDEX(referentes!J:K,MATCH(W354,referentes!K:K,0),1))","v":""},null,{"$f":"IF(Y354<>\"\",CONCATENATE($A$3,P354,DIGITADOR!$M$1,Y354,ROW()),\"\")","v":""},{"$f":"IF(Y354<>\"\",CONCATENATE(P354,INT(Q354*1440),DIGITADOR!$M$1,Y354),\"\")","v":""},null,{"$f":"IF(AO354<>\"\",INDEX(referentes!$Y:$Z,MATCH(DATOS!AO354,referentes!$Z:$Z,0),1),\"\")","v":""},"","",{"$f":"IF(R354=\"\",\"\",INDEX(referentes!D:E,MATCH(R354,referentes!E:E,0),1))","v":""},null,null,null,null,null,null,null,null,null,{"$f":"IF(X354=\"\",\"\",INDEX(referentes!$AT:$AX,MATCH(X354,referentes!$AX:$AX,0),1))","v":""},null,null,{"$f":"IF(AC354=\"\",\"\",INDEX(referentes!AZ:BA,MATCH(AC354,referentes!BA:BA,0),1))","v":""},null,null,null,null,null,null,null,null,null,null,null,null,null,null,{"$f":"IF(N354<>\"\",INDEX(referentes!$AK:$AM,MATCH(DATOS!M354,referentes!$AK:$AK,0),3),\"\")","v":""},null,null,{"$f":"IF(AS354=\"\",\"\",INDEX(referentes!P:Q,MATCH(AS354,referentes!Q:Q,0),1))","v":""},null,null,null,{"$f":"IF(AY354=\"\",\"\",INDEX(referentes!AB:AC,MATCH(AY354,referentes!AC:AC,0),1))","v":""},null,{"$f":"IF(BA354=\"\",\"\",INDEX(referentes!S:T,MATCH(BA354,referentes!T:T,0),1))","v":""},null,null,{"$f":"IF(AA354=\"\",\"\",INDEX(OtrasReferencias!$AM$7:$AN$9,MATCH(AA354,OtrasReferencias!$AM$7:$AM$9,0),2))","v":""}]
[null,null,"","",{"$f":"IF(T355=\"\",\"\",INDEX(referentes!G:H,MATCH(T355,referentes!H:H,0),1))","v":""},{"$f":"IF(V355=\"\",\"\",INDEX(referentes!$M:$N,MATCH(V355,referentes!$N:$N,0),1))","v":""},{"$f":"IF(W355=\"\",\"\",INDEX(referentes!J:K,MATCH(W355,referentes!K:K,0),1))","v":""},null,{"$f":"IF(Y355<>\"\",CONCATENATE($A$3,P355,DIGITADOR!$M$1,Y355,ROW()),\"\")","v":""},{"$f":"IF(Y355<>\"\",CONCATENATE(P355,INT(Q355*1440),DIGITADOR!$M$1,Y355),\"\")","v":""},null,{"$f":"IF(AO355<>\"\",INDEX(referentes!$Y:$Z,MATCH(DATOS!AO355,referentes!$Z:$Z,0),1),\"\")","v":""},"","",{"$f":"IF(R355=\"\",\"\",INDEX(referentes!D:E,MATCH(R355,referentes!E:E,0),1))","v":""},null,null,null,null,null,null,null,null,null,{"$f":"IF(X355=\"\",\"\",INDEX(referentes!$AT:$AX,MATCH(X355,referentes!$AX:$AX,0),1))","v":""},null,null,{"$f":"IF(AC355=\"\",\"\",INDEX(referentes!AZ:BA,MATCH(AC355,referentes!BA:BA,0),1))","v":""},null,null,null,null,null,null,null,null,null,null,null,null,null,null,{"$f":"IF(N355<>\"\",INDEX(referentes!$AK:$AM,MATCH(DATOS!M355,referentes!$AK:$AK,0),3),\"\")","v":""},null,null,{"$f":"IF(AS355=\"\",\"\",INDEX(referentes!P:Q,MATCH(AS355,referentes!Q:Q,0),1))","v":""},null,null,null,{"$f":"IF(AY355=\"\",\"\",INDEX(referentes!AB:AC,MATCH(AY355,referentes!AC:AC,0),1))","v":""},null,{"$f":"IF(BA355=\"\",\"\",INDEX(referentes!S:T,MATCH(BA355,referentes!T:T,0),1))","v":""},null,null,{"$f":"IF(AA355=\"\",\"\",INDEX(OtrasReferencias!$AM$7:$AN$9,MATCH(AA355,OtrasReferencias!$AM$7:$AM$9,0),2))","v":""}]
[null,null,"","",{"$f":"IF(T356=\"\",\"\",INDEX(referentes!G:H,MATCH(T356,referentes!H:H,0),1))","v":""},{"$f":"IF(V356=\"\",\"\",INDEX(referentes!$M:$N,MATCH(V356,referentes!$N:$N,0),1))","v":""},{"$f":"IF(W356=\"\",\"\",INDEX(referentes!J:K,MATCH(W356,referentes!K:K,0),1))","v":""},null,{"$f":"IF(Y356<>\"\",CONCATENATE($A$3,P356,DIGITADOR!$M$1,Y356,ROW()),\"\")","v":""},{"$f":"IF(Y356<>\"\",CONCATENATE(P356,INT(Q356*1440),DIGITADOR!$M$1,Y356),\"\")","v":""},null,{"$f":"IF(AO356<>\"\",INDEX(referentes!$Y:$Z,MATCH(DATOS!AO356,referentes!$Z:$Z,0),1),\"\")","v":""},"","",{"$f":"IF(R356=\"\",\"\",INDEX(referentes!D:E,MATCH(R356,referentes!E:E,0),1))","v":""},null,null,null,null,null,null,null,null,null,{"$f":"IF(X356=\"\",\"\",INDEX(referentes!$AT:$AX,MATCH(X356,referentes!$AX:$AX,0),1))","v":""},null,null,{"$f":"IF(AC356=\"\",\"\",INDEX(referentes!AZ:BA,MATCH(AC356,referentes!BA:BA,0),1))","v":""},null,null,null,null,null,null,null,null,null,null,null,null,null,null,{"$f":"IF(N356<>\"\",INDEX(referentes!$AK:$AM,MATCH(DATOS!M356,referentes!$AK:$AK,0),3),\"\")","v":""},null,null,{"$f":"IF(AS356=\"\",\"\",INDEX(referentes!P:Q,MATCH(AS356,referentes!Q:Q,0),1))","v":""},null,null,null,{"$f":"IF(AY356=\"\",\"\",INDEX(referentes!AB:AC,MATCH(AY356,referentes!AC:AC,0),1))","v":""},null,{"$f":"IF(BA356=\"\",\"\",INDEX(referentes!S:T,MATCH(BA356,referentes!T:T,0),1))","v":""},null,null,{"$f":"IF(AA356=\"\",\"\",INDEX(OtrasReferencias!$AM$7:$AN$9,MATCH(AA356,OtrasReferencias!$AM$7:$AM$9,0),2))","v":""}]
[null,null,"","",{"$f":"IF(T357=\"\",\"\",INDEX(referentes!G:H,MATCH(T357,referentes!H:H,0),1))","v":""},{"$f":"IF(V357=\"\",\"\",INDEX(referentes!$M:$N,MATCH(V357,referentes!$N:$N,0),1))","v":""},{"$f":"IF(W357=\"\",\"\",INDEX(referentes!J:K,MATCH(W357,referentes!K:K,0),1))","v":""},null,{"$f":"IF(Y357<>\"\",CONCATENATE($A$3,P357,DIGITADOR!$M$1,Y357,ROW()),\"\")","v":""},{"$f":"IF(Y357<>\"\",CONCATENATE(P357,INT(Q357*1440),DIGITADOR!$M$1,Y357),\"\")","v":""},null,{"$f":"IF(AO357<>\"\",INDEX(referentes!$Y:$Z,MATCH(DATOS!AO357,referentes!$Z:$Z,0),1),\"\")","v":""},"","",{"$f":"IF(R357=\"\",\"\",INDEX(referentes!D:E,MATCH(R357,referentes!E:E,0),1))","v":""},null,null,null,null,null,null,null,null,null,{"$f":"IF(X357=\"\",\"\",INDEX(referentes!$AT:$AX,MATCH(X357,referentes!$AX:$AX,0),1))","v":""},null,null,{"$f":"IF(AC357=\"\",\"\",INDEX(referentes!AZ:BA,MATCH(AC357,referentes!BA:BA,0),1))","v":""},null,null,null,null,null,null,null,null,null,null,null,null,null,null,{"$f":"IF(N357<>\"\",INDEX(referentes!$AK:$AM,MATCH(DATOS!M357,referentes!$AK:$AK,0),3),\"\")","v":""},null,null,{"$f":"IF(AS357=\"\",\"\",INDEX(referentes!P:Q,MATCH(AS357,referentes!Q:Q,0),1))","v":""},null,null,null,{"$f":"IF(AY357=\"\",\"\",INDEX(referentes!AB:AC,MATCH(AY357,referentes!AC:AC,0),1))","v":""},null,{"$f":"IF(BA357=\"\",\"\",INDEX(referentes!S:T,MATCH(BA357,referentes!T:T,0),1))","v":""},null,null,{"$f":"IF(AA357=\"\",\"\",INDEX(OtrasReferencias!$AM$7:$AN$9,MATCH(AA357,OtrasReferencias!$AM$7:$AM$9,0),2))","v":""}]
[null,null,"","",{"$f":"IF(T358=\"\",\"\",INDEX(referentes!G:H,MATCH(T358,referentes!H:H,0),1))","v":""},{"$f":"IF(V358=\"\",\"\",INDEX(referentes!$M:$N,MATCH(V358,referentes!$N:$N,0),1))","v":""},{"$f":"IF(W358=\"\",\"\",INDEX(referentes!J:K,MATCH(W358,referentes!K:K,0),1))","v":""},null,{"$f":"IF(Y358<>\"\",CONCATENATE($A$3,P358,DIGITADOR!$M$1,Y358,ROW()),\"\")","v":""},{"$f":"IF(Y358<>\"\",CONCATENATE(P358,INT(Q358*1440),DIGITADOR!$M$1,Y358),\"\")","v":""},null,{"$f":"IF(AO358<>\"\",INDEX(referentes!$Y:$Z,MATCH(DATOS!AO358,referentes!$Z:$Z,0),1),\"\")","v":""},"","",{"$f":"IF(R358=\"\",\"\",INDEX(referentes!D:E,MATCH(R358,referentes!E:E,0),1))","v":""},null,null,null,null,null,null,null,null,null,{"$f":"IF(X358=\"\",\"\",INDEX(referentes!$AT:$AX,MATCH(X358,referentes!$AX:$AX,0),1))","v":""},null,null,{"$f":"IF(AC358=\"\",\"\",INDEX(referentes!AZ:BA,MATCH(AC358,referentes!BA:BA,0),1))","v":""},null,null,null,null,null,null,null,null,null,null,null,null,null,null,{"$f":"IF(N358<>\"\",INDEX(referentes!$AK:$AM,MATCH(DATOS!M358,referentes!$AK:$AK,0),3),\"\")","v":""},null,null,{"$f":"IF(AS358=\"\",\"\",INDEX(referentes!P:Q,MATCH(AS358,referentes!Q:Q,0),1))","v":""},null,null,null,{"$f":"IF(AY358=\"\",\"\",INDEX(referentes!AB:AC,MATCH(AY358,referentes!AC:AC,0),1))","v":""},null,{"$f":"IF(BA358=\"\",\"\",INDEX(referentes!S:T,MATCH(BA358,referentes!T:T,0),1))","v":""},null,null,{"$f":"IF(AA358=\"\",\"\",INDEX(OtrasReferencias!$AM$7:$AN$9,MATCH(AA358,OtrasReferencias!$AM$7:$AM$9,0),2))","v":""}]
[null,null,"","",{"$f":"IF(T359=\"\",\"\",INDEX(referentes!G:H,MATCH(T359,referentes!H:H,0),1))","v":""},{"$f":"IF(V359=\"\",\"\",INDEX(referentes!$M:$N,MATCH(V359,referentes!$N:$N,0),1))","v":""},{"$f":"IF(W359=\"\",\"\",INDEX(referentes!J:K,MATCH(W359,referentes!K:K,0),1))","v":""},null,{"$f":"IF(Y359<>\"\",CONCATENATE($A$3,P359,DIGITADOR!$M$1,Y359,ROW()),\"\")","v":""},{"$f":"IF(Y359<>\"\",CONCATENATE(P359,INT(Q359*1440),DIGITADOR!$M$1,Y359),\"\")","v":""},null,{"$f":"IF(AO359<>\"\",INDEX(referentes!$Y:$Z,MATCH(DATOS!AO359,referentes!$Z:$Z,0),1),\"\")","v":""},"","",{"$f":"IF(R359=\"\",\"\",INDEX(referentes!D:E,MATCH(R359,referentes!E:E,0),1))","v":""},null,null,null,null,null,null,null,null,null,{"$f":"IF(X359=\"\",\"\",INDEX(referentes!$AT:$AX,MATCH(X359,referentes!$AX:$AX,0),1))","v":""},null,null,{"$f":"IF(AC359=\"\",\"\",INDEX(referentes!AZ:BA,MATCH(AC359,referentes!BA:BA,0),1))","v":""},null,null,null,null,null,null,null,null,null,null,null,null,null,null,{"$f":"IF(N359<>\"\",INDEX(referentes!$AK:$AM,MATCH(DATOS!M359,referentes!$AK:$AK,0),3),\"\")","v":""},null,null,{"$f":"IF(AS359=\"\",\"\",INDEX(referentes!P:Q,MATCH(AS359,referentes!Q:Q,0),1))","v":""},null,null,null,{"$f":"IF(AY359=\"\",\"\",INDEX(referentes!AB:AC,MATCH(AY359,referentes!AC:AC,0),1))","v":""},null,{"$f":"IF(BA359=\"\",\"\",INDEX(referentes!S:T,MATCH(BA359,referentes!T:T,0),1))","v":""},null,null,{"$f":"IF(AA359=\"\",\"\",INDEX(OtrasReferencias!$AM$7:$AN$9,MATCH(AA359,OtrasReferencias!$AM$7:$AM$9,0),2))","v":""}]
[null,null,"","",{"$f":"IF(T360=\"\",\"\",INDEX(referentes!G:H,MATCH(T360,referentes!H:H,0),1))","v":""},{"$f":"IF(V360=\"\",\"\",INDEX(referentes!$M:$N,MATCH(V360,referentes!$N:$N,0),1))","v":""},{"$f":"IF(W360=\"\",\"\",INDEX(referentes!J:K,MATCH(W360,referentes!K:K,0),1))","v":""},null,{"$f":"IF(Y360<>\"\",CONCATENATE($A$3,P360,DIGITADOR!$M$1,Y360,ROW()),\"\")","v":""},{"$f":"IF(Y360<>\"\",CONCATENATE(P360,INT(Q360*1440),DIGITADOR!$M$1,Y360),\"\")","v":""},null,{"$f":"IF(AO360<>\"\",INDEX(referentes!$Y:$Z,MATCH(DATOS!AO360,referentes!$Z:$Z,0),1),\"\")","v":""},"","",{"$f":"IF(R360=\"\",\"\",INDEX(referentes!D:E,MATCH(R360,referentes!E:E,0),1))","v":""},null,null,null,null,null,null,null,null,null,{"$f":"IF(X360=\"\",\"\",INDEX(referentes!$AT:$AX,MATCH(X360,referentes!$AX:$AX,0),1))","v":""},null,null,{"$f":"IF(AC360=\"\",\"\",INDEX(referentes!AZ:BA,MATCH(AC360,referentes!BA:BA,0),1))","v":""},null,null,null,null,null,null,null,null,null,null,null,null,null,null,{"$f":"IF(N360<>\"\",INDEX(referentes!$AK:$AM,MATCH(DATOS!M360,referentes!$AK:$AK,0),3),\"\")","v":""},null,null,{"$f":"IF(AS360=\"\",\"\",INDEX(referentes!P:Q,MATCH(AS360,referentes!Q:Q,0),1))","v":""},null,null,null,{"$f":"IF(AY360=\"\",\"\",INDEX(referentes!AB:AC,MATCH(AY360,referentes!AC:AC,0),1))","v":""},null,{"$f":"IF(BA360=\"\",\"\",INDEX(referentes!S:T,MATCH(BA360,referentes!T:T,0),1))","v":""},null,null,{"$f":"IF(AA360=\"\",\"\",INDEX(OtrasReferencias!$AM$7:$AN$9,MATCH(AA360,OtrasReferencias!$AM$7:$AM$9,0),2))","v":""}]
[null,null,"","",{"$f":"IF(T361=\"\",\"\",INDEX(referentes!G:H,MATCH(T361,referentes!H:H,0),1))","v":""},{"$f":"IF(V361=\"\",\"\",INDEX(referentes!$M:$N,MATCH(V361,referentes!$N:$N,0),1))","v":""},{"$f":"IF(W361=\"\",\"\",INDEX(referentes!J:K,MATCH(W361,referentes!K:K,0),1))","v":""},null,{"$f":"IF(Y361<>\"\",CONCATENATE($A$3,P361,DIGITADOR!$M$1,Y361,ROW()),\"\")","v":""},{"$f":"IF(Y361<>\"\",CONCATENATE(P361,INT(Q361*1440),DIGITADOR!$M$1,Y361),\"\")","v":""},null,{"$f":"IF(AO361<>\"\",INDEX(referentes!$Y:$Z,MATCH(DATOS!AO361,referentes!$Z:$Z,0),1),\"\")","v":""},"","",{"$f":"IF(R361=\"\",\"\",INDEX(referentes!D:E,MATCH(R361,referentes!E:E,0),1))","v":""},null,null,null,null,null,null,null,null,null,{"$f":"IF(X361=\"\",\"\",INDEX(referentes!$AT:$AX,MATCH(X361,referentes!$AX:$AX,0),1))","v":""},null,null,{"$f":"IF(AC361=\"\",\"\",INDEX(referentes!AZ:BA,MATCH(AC361,referentes!BA:BA,0),1))","v":""},null,null,null,null,null,null,null,null,null,null,null,null,null,null,{"$f":"IF(N361<>\"\",INDEX(referentes!$AK:$AM,MATCH(DATOS!M361,referentes!$AK:$AK,0),3),\"\")","v":""},null,null,{"$f":"IF(AS361=\"\",\"\",INDEX(referentes!P:Q,MATCH(AS361,referentes!Q:Q,0),1))","v":""},null,null,null,{"$f":"IF(AY361=\"\",\"\",INDEX(referentes!AB:AC,MATCH(AY361,referentes!AC:AC,0),1))","v":""},null,{"$f":"IF(BA361=\"\",\"\",INDEX(referentes!S:T,MATCH(BA361,referentes!T:T,0),1))","v":""},null,null,{"$f":"IF(AA361=\"\",\"\",INDEX(OtrasReferencias!$AM$7:$AN$9,MATCH(AA361,OtrasReferencias!$AM$7:$AM$9,0),2))","v":""}]
[null,null,"","",{"$f":"IF(T362=\"\",\"\",INDEX(referentes!G:H,MATCH(T362,referentes!H:H,0),1))","v":""},{"$f":"IF(V362=\"\",\"\",INDEX(referentes!$M:$N,MATCH(V362,referentes!$N:$N,0),1))","v":""},{"$f":"IF(W362=\"\",\"\",INDEX(referentes!J:K,MATCH(W362,referentes!K:K,0),1))","v":""},null,{"$f":"IF(Y362<>\"\",CONCATENATE($A$3,P362,DIGITADOR!$M$1,Y362,ROW()),\"\")","v":""},{"$f":"IF(Y362<>\"\",CONCATENATE(P362,INT(Q362*1440),DIGITADOR!$M$1,Y362),\"\")","v":""},null,{"$f":"IF(AO362<>\"\",INDEX(referentes!$Y:$Z,MATCH(DATOS!AO362,referentes!$Z:$Z,0),1),\"\")","v":""},"","",{"$f":"IF(R362=\"\",\"\",INDEX(referentes!D:E,MATCH(R362,referentes!E:E,0),1))","v":""},null,null,null,null,null,null,null,null,null,{"$f":"IF(X362=\"\",\"\",INDEX(referentes!$AT:$AX,MATCH(X362,referentes!$AX:$AX,0),1))","v":""},null,null,{"$f":"IF(AC362=\"\",\"\",INDEX(referentes!AZ:BA,MATCH(AC362,referentes!BA:BA,0),1))","v":""},null,null,null,null,null,null,null,null,null,null,null,null,null,null,{"$f":"IF(N362<>\"\",INDEX(referentes!$AK:$AM,MATCH(DATOS!M362,referentes!$AK:$AK,0),3),\"\")","v":""},null,null,{"$f":"IF(AS362=\"\",\"\",INDEX(referentes!P:Q,MATCH(AS362,referentes!Q:Q,0),1))","v":""},null,null,null,{"$f":"IF(AY362=\"\",\"\",INDEX(referentes!AB:AC,MATCH(AY362,referentes!AC:AC,0),1))","v":""},null,{"$f":"IF(BA362=\"\",\"\",INDEX(referentes!S:T,MATCH(BA362,referentes!T:T,0),1))","v":""},null,null,{"$f":"IF(AA362=\"\",\"\",INDEX(OtrasReferencias!$AM$7:$AN$9,MATCH(AA362,OtrasReferencias!$AM$7:$AM$9,0),2))","v":""}]
[null,null,"","",{"$f":"IF(T363=\"\",\"\",INDEX(referentes!G:H,MATCH(T363,referentes!H:H,0),1))","v":""},{"$f":"IF(V363=\"\",\"\",INDEX(referentes!$M:$N,MATCH(V363,referentes!$N:$N,0),1))","v":""},{"$f":"IF(W363=\"\",\"\",INDEX(referentes!J:K,MATCH(W363,referentes!K:K,0),1))","v":""},null,{"$f":"IF(Y363<>\"\",CONCATENATE($A$3,P363,DIGITADOR!$M$1,Y363,ROW()),\"\")","v":""},{"$f":"IF(Y363<>\"\",CONCATENATE(P363,INT(Q363*1440),DIGITADOR!$M$1,Y363),\"\")","v":""},null,{"$f":"IF(AO363<>\"\",INDEX(referentes!$Y:$Z,MATCH(DATOS!AO363,referentes!$Z:$Z,0),1),\"\")","v":""},"","",{"$f":"IF(R363=\"\",\"\",INDEX(referentes!D:E,MATCH(R363,referentes!E:E,0),1))","v":""},null,null,null,null,null,null,null,null,null,{"$f":"IF(X363=\"\",\"\",INDEX(referentes!$AT:$AX,MATCH(X363,referentes!$AX:$AX,0),1))","v":""},null,null,{"$f":"IF(AC363=\"\",\"\",INDEX(referentes!AZ:BA,MATCH(AC363,referentes!BA:BA,0),1))","v":""},null,null,null,null,null,null,null,null,null,null,null,null,null,null,{"$f":"IF(N363<>\"\",INDEX(referentes!$AK:$AM,MATCH(DATOS!M363,referentes!$AK:$AK,0),3),\"\")","v":""},null,null,{"$f":"IF(AS363=\"\",\"\",INDEX(referentes!P:Q,MATCH(AS363,referentes!Q:Q,0),1))","v":""},null,null,null,{"$f":"IF(AY363=\"\",\"\",INDEX(referentes!AB:AC,MATCH(AY363,referentes!AC:AC,0),1))","v":""},null,{"$f":"IF(BA363=\"\",\"\",INDEX(referentes!S:T,MATCH(BA363,referentes!T:T,0),1))","v":""},null,null,{"$f":"IF(AA363=\"\",\"\",INDEX(OtrasReferencias!$AM$7:$AN$9,MATCH(AA363,OtrasReferencias!$AM$7:$AM$9,0),2))","v":""}]
[null,null,"","",{"$f":"IF(T364=\"\",\"\",INDEX(referentes!G:H,MATCH(T364,referentes!H:H,0),1))","v":""},{"$f":"IF(V364=\"\",\"\",INDEX(referentes!$M:$N,MATCH(V364,referentes!$N:$N,0),1))","v":""},{"$f":"IF(W364=\"\",\"\",INDEX(referentes!J:K,MATCH(W364,referentes!K:K,0),1))","v":""},null,{"$f":"IF(Y364<>\"\",CONCATENATE($A$3,P364,DIGITADOR!$M$1,Y364,ROW()),\"\")","v":""},{"$f":"IF(Y364<>\"\",CONCATENATE(P364,INT(Q364*1440),DIGITADOR!$M$1,Y364),\"\")","v":""},null,{"$f":"IF(AO364<>\"\",INDEX(referentes!$Y:$Z,MATCH(DATOS!AO364,referentes!$Z:$Z,0),1),\"\")","v":""},"","",{"$f":"IF(R364=\"\",\"\",INDEX(referentes!D:E,MATCH(R364,referentes!E:E,0),1))","v":""},null,null,null,null,null,null,null,null,null,{"$f":"IF(X364=\"\",\"\",INDEX(referentes!$AT:$AX,MATCH(X364,referentes!$AX:$AX,0),1))","v":""},null,null,{"$f":"IF(AC364=\"\",\"\",INDEX(referentes!AZ:BA,MATCH(AC364,referentes!BA:BA,0),1))","v":""},null,null,null,null,null,null,null,null,null,null,null,null,null,null,{"$f":"IF(N364<>\"\",INDEX(referentes!$AK:$AM,MATCH(DATOS!M364,referentes!$AK:$AK,0),3),\"\")","v":""},null,null,{"$f":"IF(AS364=\"\",\"\",INDEX(referentes!P:Q,MATCH(AS364,referentes!Q:Q,0),1))","v":""},null,null,null,{"$f":"IF(AY364=\"\",\"\",INDEX(referentes!AB:AC,MATCH(AY364,referentes!AC:AC,0),1))","v":""},null,{"$f":"IF(BA364=\"\",\"\",INDEX(referentes!S:T,MATCH(BA364,referentes!T:T,0),1))","v":""},null,null,{"$f":"IF(AA364=\"\",\"\",INDEX(OtrasReferencias!$AM$7:$AN$9,MATCH(AA364,OtrasReferencias!$AM$7:$AM$9,0),2))","v":""}]
[null,null,"","",{"$f":"IF(T365=\"\",\"\",INDEX(referentes!G:H,MATCH(T365,referentes!H:H,0),1))","v":""},{"$f":"IF(V365=\"\",\"\",INDEX(referentes!$M:$N,MATCH(V365,referentes!$N:$N,0),1))","v":""},{"$f":"IF(W365=\"\",\"\",INDEX(referentes!J:K,MATCH(W365,referentes!K:K,0),1))","v":""},null,{"$f":"IF(Y365<>\"\",CONCATENATE($A$3,P365,DIGITADOR!$M$1,Y365,ROW()),\"\")","v":""},{"$f":"IF(Y365<>\"\",CONCATENATE(P365,INT(Q365*1440),DIGITADOR!$M$1,Y365),\"\")","v":""},null,{"$f":"IF(AO365<>\"\",INDEX(referentes!$Y:$Z,MATCH(DATOS!AO365,referentes!$Z:$Z,0),1),\"\")","v":""},"","",{"$f":"IF(R365=\"\",\"\",INDEX(referentes!D:E,MATCH(R365,referentes!E:E,0),1))","v":""},null,null,null,null,null,null,null,null,null,{"$f":"IF(X365=\"\",\"\",INDEX(referentes!$AT:$AX,MATCH(X365,referentes!$AX:$AX,0),1))","v":""},null,null,{"$f":"IF(AC365=\"\",\"\",INDEX(referentes!AZ:BA,MATCH(AC365,referentes!BA:BA,0),1))","v":""},null,null,null,null,null,null,null,null,null,null,null,null,null,null,{"$f":"IF(N365<>\"\",INDEX(referentes!$AK:$AM,MATCH(DATOS!M365,referentes!$AK:$AK,0),3),\"\")","v":""},null,null,{"$f":"IF(AS365=\"\",\"\",INDEX(referentes!P:Q,MATCH(AS365,referentes!Q:Q,0),1))","v":""},null,null,null,{"$f":"IF(AY365=\"\",\"\",INDEX(referentes!AB:AC,MATCH(AY365,referentes!AC:AC,0),1))","v":""},null,{"$f":"IF(BA365=\"\",\"\",INDEX(referentes!S:T,MATCH(BA365,referentes!T:T,0),1))","v":""},null,null,{"$f":"IF(AA365=\"\",\"\",INDEX(OtrasReferencias!$AM$7:$AN$9,MATCH(AA365,OtrasReferencias!$AM$7:$AM$9,0),2))","v":""}]
[null,null,"","",{"$f":"IF(T366=\"\",\"\",INDEX(referentes!G:H,MATCH(T366,referentes!H:H,0),1))","v":""},{"$f":"IF(V366=\"\",\"\",INDEX(referentes!$M:$N,MATCH(V366,referentes!$N:$N,0),1))","v":""},{"$f":"IF(W366=\"\",\"\",INDEX(referentes!J:K,MATCH(W366,referentes!K:K,0),1))","v":""},null,{"$f":"IF(Y366<>\"\",CONCATENATE($A$3,P366,DIGITADOR!$M$1,Y366,ROW()),\"\")","v":""},{"$f":"IF(Y366<>\"\",CONCATENATE(P366,INT(Q366*1440),DIGITADOR!$M$1,Y366),\"\")","v":""},null,{"$f":"IF(AO366<>\"\",INDEX(referentes!$Y:$Z,MATCH(DATOS!AO366,referentes!$Z:$Z,0),1),\"\")","v":""},"","",{"$f":"IF(R366=\"\",\"\",INDEX(referentes!D:E,MATCH(R366,referentes!E:E,0),1))","v":""},null,null,null,null,null,null,null,null,null,{"$f":"IF(X366=\"\",\"\",INDEX(referentes!$AT:$AX,MATCH(X366,referentes!$AX:$AX,0),1))","v":""},null,null,{"$f":"IF(AC366=\"\",\"\",INDEX(referentes!AZ:BA,MATCH(AC366,referentes!BA:BA,0),1))","v":""},null,null,null,null,null,null,null,null,null,null,null,null,null,null,{"$f":"IF(N366<>\"\",INDEX(referentes!$AK:$AM,MATCH(DATOS!M366,referentes!$AK:$AK,0),3),\"\")","v":""},null,null,{"$f":"IF(AS366=\"\",\"\",INDEX(referentes!P:Q,MATCH(AS366,referentes!Q:Q,0),1))","v":""},null,null,null,{"$f":"IF(AY366=\"\",\"\",INDEX(referentes!AB:AC,MATCH(AY366,referentes!AC:AC,0),1))","v":""},null,{"$f":"IF(BA366=\"\",\"\",INDEX(referentes!S:T,MATCH(BA366,referentes!T:T,0),1))","v":""},null,null,{"$f":"IF(AA366=\"\",\"\",INDEX(OtrasReferencias!$AM$7:$AN$9,MATCH(AA366,OtrasReferencias!$AM$7:$AM$9,0),2))","v":""}]
[null,null,"","",{"$f":"IF(T367=\"\",\"\",INDEX(referentes!G:H,MATCH(T367,referentes!H:H,0),1))","v":""},{"$f":"IF(V367=\"\",\"\",INDEX(referentes!$M:$N,MATCH(V367,referentes!$N:$N,0),1))","v":""},{"$f":"IF(W367=\"\",\"\",INDEX(referentes!J:K,MATCH(W367,referentes!K:K,0),1))","v":""},null,{"$f":"IF(Y367<>\"\",CONCATENATE($A$3,P367,DIGITADOR!$M$1,Y367,ROW()),\"\")","v":""},{"$f":"IF(Y367<>\"\",CONCATENATE(P367,INT(Q367*1440),DIGITADOR!$M$1,Y367),\"\")","v":""},null,{"$f":"IF(AO367<>\"\",INDEX(referentes!$Y:$Z,MATCH(DATOS!AO367,referentes!$Z:$Z,0),1),\"\")","v":""},"","",{"$f":"IF(R367=\"\",\"\",INDEX(referentes!D:E,MATCH(R367,referentes!E:E,0),1))","v":""},null,null,null,null,null,null,null,null,null,{"$f":"IF(X367=\"\",\"\",INDEX(referentes!$AT:$AX,MATCH(X367,referentes!$AX:$AX,0),1))","v":""},null,null,{"$f":"IF(AC367=\"\",\"\",INDEX(referentes!AZ:BA,MATCH(AC367,referentes!BA:BA,0),1))","v":""},null,null,null,null,null,null,null,null,null,null,null,null,null,null,{"$f":"IF(N367<>\"\",INDEX(referentes!$AK:$AM,MATCH(DATOS!M367,referentes!$AK:$AK,0),3),\"\")","v":""},null,null,{"$f":"IF(AS367=\"\",\"\",INDEX(referentes!P:Q,MATCH(AS367,referentes!Q:Q,0),1))","v":""},null,null,null,{"$f":"IF(AY367=\"\",\"\",INDEX(referentes!AB:AC,MATCH(AY367,referentes!AC:AC,0),1))","v":""},null,{"$f":"IF(BA367=\"\",\"\",INDEX(referentes!S:T,MATCH(BA367,referentes!T:T,0),1))","v":""},null,null,{"$f":"IF(AA367=\"\",\"\",INDEX(OtrasReferencias!$AM$7:$AN$9,MATCH(AA367,OtrasReferencias!$AM$7:$AM$9,0),2))","v":""}]
[null,null,"","",{"$f":"IF(T368=\"\",\"\",INDEX(referentes!G:H,MATCH(T368,referentes!H:H,0),1))","v":""},{"$f":"IF(V368=\"\",\"\",INDEX(referentes!$M:$N,MATCH(V368,referentes!$N:$N,0),1))","v":""},{"$f":"IF(W368=\"\",\"\",INDEX(referentes!J:K,MATCH(W368,referentes!K:K,0),1))","v":""},null,{"$f":"IF(Y368<>\"\",CONCATENATE($A$3,P368,DIGITADOR!$M$1,Y368,ROW()),\"\")","v":""},{"$f":"IF(Y368<>\"\",CONCATENATE(P368,INT(Q368*1440),DIGITADOR!$M$1,Y368),\"\")","v":""},null,{"$f":"IF(AO368<>\"\",INDEX(referentes!$Y:$Z,MATCH(DATOS!AO368,referentes!$Z:$Z,0),1),\"\")","v":""},"","",{"$f":"IF(R368=\"\",\"\",INDEX(referentes!D:E,MATCH(R368,referentes!E:E,0),1))","v":""},null,null,null,null,null,null,null,null,null,{"$f":"IF(X368=\"\",\"\",INDEX(referentes!$AT:$AX,MATCH(X368,referentes!$AX:$AX,0),1))","v":""},null,null,{"$f":"IF(AC368=\"\",\"\",INDEX(referentes!AZ:BA,MATCH(AC368,referentes!BA:BA,0),1))","v":""},null,null,null,null,null,null,null,null,null,null,null,null,null,null,{"$f":"IF(N368<>\"\",INDEX(referentes!$AK:$AM,MATCH(DATOS!M368,referentes!$AK:$AK,0),3),\"\")","v":""},null,null,{"$f":"IF(AS368=\"\",\"\",INDEX(referentes!P:Q,MATCH(AS368,referentes!Q:Q,0),1))","v":""},null,null,null,{"$f":"IF(AY368=\"\",\"\",INDEX(referentes!AB:AC,MATCH(AY368,referentes!AC:AC,0),1))","v":""},null,{"$f":"IF(BA368=\"\",\"\",INDEX(referentes!S:T,MATCH(BA368,referentes!T:T,0),1))","v":""},null,null,{"$f":"IF(AA368=\"\",\"\",INDEX(OtrasReferencias!$AM$7:$AN$9,MATCH(AA368,OtrasReferencias!$AM$7:$AM$9,0),2))","v":""}]
[null,null,"","",{"$f":"IF(T369=\"\",\"\",INDEX(referentes!G:H,MATCH(T369,referentes!H:H,0),1))","v":""},{"$f":"IF(V369=\"\",\"\",INDEX(referentes!$M:$N,MATCH(V369,referentes!$N:$N,0),1))","v":""},{"$f":"IF(W369=\"\",\"\",INDEX(referentes!J:K,MATCH(W369,referentes!K:K,0),1))","v":""},null,{"$f":"IF(Y369<>\"\",CONCATENATE($A$3,P369,DIGITADOR!$M$1,Y369,ROW()),\"\")","v":""},{"$f":"IF(Y369<>\"\",CONCATENATE(P369,INT(Q369*1440),DIGITADOR!$M$1,Y369),\"\")","v":""},null,{"$f":"IF(AO369<>\"\",INDEX(referentes!$Y:$Z,MATCH(DATOS!AO369,referentes!$Z:$Z,0),1),\"\")","v":""},"","",{"$f":"IF(R369=\"\",\"\",INDEX(referentes!D:E,MATCH(R369,referentes!E:E,0),1))","v":""},null,null,null,null,null,null,null,null,null,{"$f":"IF(X369=\"\",\"\",INDEX(referentes!$AT:$AX,MATCH(X369,referentes!$AX:$AX,0),1))","v":""},null,null,{"$f":"IF(AC369=\"\",\"\",INDEX(referentes!AZ:BA,MATCH(AC369,referentes!BA:BA,0),1))","v":""},null,null,null,null,null,null,null,null,null,null,null,null,null,null,{"$f":"IF(N369<>\"\",INDEX(referentes!$AK:$AM,MATCH(DATOS!M369,referentes!$AK:$AK,0),3),\"\")","v":""},null,null,{"$f":"IF(AS369=\"\",\"\",INDEX(referentes!P:Q,MATCH(AS369,referentes!Q:Q,0),1))","v":""},null,null,null,{"$f":"IF(AY369=\"\",\"\",INDEX(referentes!AB:AC,MATCH(AY369,referentes!AC:AC,0),1))","v":""},null,{"$f":"IF(BA369=\"\",\"\",INDEX(referentes!S:T,MATCH(BA369,referentes!T:T,0),1))","v":""},null,null,{"$f":"IF(AA369=\"\",\"\",INDEX(OtrasReferencias!$AM$7:$AN$9,MATCH(AA369,OtrasReferencias!$AM$7:$AM$9,0),2))","v":""}]
[null,null,"","",{"$f":"IF(T370=\"\",\"\",INDEX(referentes!G:H,MATCH(T370,referentes!H:H,0),1))","v":""},{"$f":"IF(V370=\"\",\"\",INDEX(referentes!$M:$N,MATCH(V370,referentes!$N:$N,0),1))","v":""},{"$f":"IF(W370=\"\",\"\",INDEX(referentes!J:K,MATCH(W370,referentes!K:K,0),1))","v":""},null,{"$f":"IF(Y370<>\"\",CONCATENATE($A$3,P370,DIGITADOR!$M$1,Y370,ROW()),\"\")","v":""},{"$f":"IF(Y370<>\"\",CONCATENATE(P370,INT(Q370*1440),DIGITADOR!$M$1,Y370),\"\")","v":""},null,{"$f":"IF(AO370<>\"\",INDEX(referentes!$Y:$Z,MATCH(DATOS!AO370,referentes!$Z:$Z,0),1),\"\")","v":""},"","",{"$f":"IF(R370=\"\",\"\",INDEX(referentes!D:E,MATCH(R370,referentes!E:E,0),1))","v":""},null,null,null,null,null,null,null,null,null,{"$f":"IF(X370=\"\",\"\",INDEX(referentes!$AT:$AX,MATCH(X370,referentes!$AX:$AX,0),1))","v":""},null,null,{"$f":"IF(AC370=\"\",\"\",INDEX(referentes!AZ:BA,MATCH(AC370,referentes!BA:BA,0),1))","v":""},null,null,null,null,null,null,null,null,null,null,null,null,null,null,{"$f":"IF(N370<>\"\",INDEX(referentes!$AK:$AM,MATCH(DATOS!M370,referentes!$AK:$AK,0),3),\"\")","v":""},null,null,{"$f":"IF(AS370=\"\",\"\",INDEX(referentes!P:Q,MATCH(AS370,referentes!Q:Q,0),1))","v":""},null,null,null,{"$f":"IF(AY370=\"\",\"\",INDEX(referentes!AB:AC,MATCH(AY370,referentes!AC:AC,0),1))","v":""},null,{"$f":"IF(BA370=\"\",\"\",INDEX(referentes!S:T,MATCH(BA370,referentes!T:T,0),1))","v":""},null,null,{"$f":"IF(AA370=\"\",\"\",INDEX(OtrasReferencias!$AM$7:$AN$9,MATCH(AA370,OtrasReferencias!$AM$7:$AM$9,0),2))","v":""}]
[null,null,"","",{"$f":"IF(T371=\"\",\"\",INDEX(referentes!G:H,MATCH(T371,referentes!H:H,0),1))","v":""},{"$f":"IF(V371=\"\",\"\",INDEX(referentes!$M:$N,MATCH(V371,referentes!$N:$N,0),1))","v":""},{"$f":"IF(W371=\"\",\"\",INDEX(referentes!J:K,MATCH(W371,referentes!K:K,0),1))","v":""},null,{"$f":"IF(Y371<>\"\",CONCATENATE($A$3,P371,DIGITADOR!$M$1,Y371,ROW()),\"\")","v":""},{"$f":"IF(Y371<>\"\",CONCATENATE(P371,INT(Q371*1440),DIGITADOR!$M$1,Y371),\"\")","v":""},null,{"$f":"IF(AO371<>\"\",INDEX(referentes!$Y:$Z,MATCH(DATOS!AO371,referentes!$Z:$Z,0),1),\"\")","v":""},"","",{"$f":"IF(R371=\"\",\"\",INDEX(referentes!D:E,MATCH(R371,referentes!E:E,0),1))","v":""},null,null,null,null,null,null,null,null,null,{"$f":"IF(X371=\"\",\"\",INDEX(referentes!$AT:$AX,MATCH(X371,referentes!$AX:$AX,0),1))","v":""},null,null,{"$f":"IF(AC371=\"\",\"\",INDEX(referentes!AZ:BA,MATCH(AC371,referentes!BA:BA,0),1))","v":""},null,null,null,null,null,null,null,null,null,null,null,null,null,null,{"$f":"IF(N371<>\"\",INDEX(referentes!$AK:$AM,MATCH(DATOS!M371,referentes!$AK:$AK,0),3),\"\")","v":""},null,null,{"$f":"IF(AS371=\"\",\"\",INDEX(referentes!P:Q,MATCH(AS371,referentes!Q:Q,0),1))","v":""},null,null,null,{"$f":"IF(AY371=\"\",\"\",INDEX(referentes!AB:AC,MATCH(AY371,referentes!AC:AC,0),1))","v":""},null,{"$f":"IF(BA371=\"\",\"\",INDEX(referentes!S:T,MATCH(BA371,referentes!T:T,0),1))","v":""},null,null,{"$f":"IF(AA371=\"\",\"\",INDEX(OtrasReferencias!$AM$7:$AN$9,MATCH(AA371,OtrasReferencias!$AM$7:$AM$9,0),2))","v":""}]
[null,null,"","",{"$f":"IF(T372=\"\",\"\",INDEX(referentes!G:H,MATCH(T372,referentes!H:H,0),1))","v":""},{"$f":"IF(V372=\"\",\"\",INDEX(referentes!$M:$N,MATCH(V372,referentes!$N:$N,0),1))","v":""},{"$f":"IF(W372=\"\",\"\",INDEX(referentes!J:K,MATCH(W372,referentes!K:K,0),1))","v":""},null,{"$f":"IF(Y372<>\"\",CONCATENATE($A$3,P372,DIGITADOR!$M$1,Y372,ROW()),\"\")","v":""},{"$f":"IF(Y372<>\"\",CONCATENATE(P372,INT(Q372*1440),DIGITADOR!$M$1,Y372),\"\")","v":""},null,{"$f":"IF(AO372<>\"\",INDEX(referentes!$Y:$Z,MATCH(DATOS!AO372,referentes!$Z:$Z,0),1),\"\")","v":""},"","",{"$f":"IF(R372=\"\",\"\",INDEX(referentes!D:E,MATCH(R372,referentes!E:E,0),1))","v":""},null,null,null,null,null,null,null,null,null,{"$f":"IF(X372=\"\",\"\",INDEX(referentes!$AT:$AX,MATCH(X372,referentes!$AX:$AX,0),1))","v":""},null,null,{"$f":"IF(AC372=\"\",\"\",INDEX(referentes!AZ:BA,MATCH(AC372,referentes!BA:BA,0),1))","v":""},null,null,null,null,null,null,null,null,null,null,null,null,null,null,{"$f":"IF(N372<>\"\",INDEX(referentes!$AK:$AM,MATCH(DATOS!M372,referentes!$AK:$AK,0),3),\"\")","v":""},null,null,{"$f":"IF(AS372=\"\",\"\",INDEX(referentes!P:Q,MATCH(AS372,referentes!Q:Q,0),1))","v":""},null,null,null,{"$f":"IF(AY372=\"\",\"\",INDEX(referentes!AB:AC,MATCH(AY372,referentes!AC:AC,0),1))","v":""},null,{"$f":"IF(BA372=\"\",\"\",INDEX(referentes!S:T,MATCH(BA372,referentes!T:T,0),1))","v":""},null,null,{"$f":"IF(AA372=\"\",\"\",INDEX(OtrasReferencias!$AM$7:$AN$9,MATCH(AA372,OtrasReferencias!$AM$7:$AM$9,0),2))","v":""}]
[null,null,"","",{"$f":"IF(T373=\"\",\"\",INDEX(referentes!G:H,MATCH(T373,referentes!H:H,0),1))","v":""},{"$f":"IF(V373=\"\",\"\",INDEX(referentes!$M:$N,MATCH(V373,referentes!$N:$N,0),1))","v":""},{"$f":"IF(W373=\"\",\"\",INDEX(referentes!J:K,MATCH(W373,referentes!K:K,0),1))","v":""},null,{"$f":"IF(Y373<>\"\",CONCATENATE($A$3,P373,DIGITADOR!$M$1,Y373,ROW()),\"\")","v":""},{"$f":"IF(Y373<>\"\",CONCATENATE(P373,INT(Q373*1440),DIGITADOR!$M$1,Y373),\"\")","v":""},null,{"$f":"IF(AO373<>\"\",INDEX(referentes!$Y:$Z,MATCH(DATOS!AO373,referentes!$Z:$Z,0),1),\"\")","v":""},"","",{"$f":"IF(R373=\"\",\"\",INDEX(referentes!D:E,MATCH(R373,referentes!E:E,0),1))","v":""},null,null,null,null,null,null,null,null,null,{"$f":"IF(X373=\"\",\"\",INDEX(referentes!$AT:$AX,MATCH(X373,referentes!$AX:$AX,0),1))","v":""},null,null,{"$f":"IF(AC373=\"\",\"\",INDEX(referentes!AZ:BA,MATCH(AC373,referentes!BA:BA,0),1))","v":""},null,null,null,null,null,null,null,null,null,null,null,null,null,null,{"$f":"IF(N373<>\"\",INDEX(referentes!$AK:$AM,MATCH(DATOS!M373,referentes!$AK:$AK,0),3),\"\")","v":""},null,null,{"$f":"IF(AS373=\"\",\"\",INDEX(referentes!P:Q,MATCH(AS373,referentes!Q:Q,0),1))","v":""},null,null,null,{"$f":"IF(AY373=\"\",\"\",INDEX(referentes!AB:AC,MATCH(AY373,referentes!AC:AC,0),1))","v":""},null,{"$f":"IF(BA373=\"\",\"\",INDEX(referentes!S:T,MATCH(BA373,referentes!T:T,0),1))","v":""},null,null,{"$f":"IF(AA373=\"\",\"\",INDEX(OtrasReferencias!$AM$7:$AN$9,MATCH(AA373,OtrasReferencias!$AM$7:$AM$9,0),2))","v":""}]
[null,null,"","",{"$f":"IF(T374=\"\",\"\",INDEX(referentes!G:H,MATCH(T374,referentes!H:H,0),1))","v":""},{"$f":"IF(V374=\"\",\"\",INDEX(referentes!$M:$N,MATCH(V374,referentes!$N:$N,0),1))","v":""},{"$f":"IF(W374=\"\",\"\",INDEX(referentes!J:K,MATCH(W374,referentes!K:K,0),1))","v":""},null,{"$f":"IF(Y374<>\"\",CONCATENATE($A$3,P374,DIGITADOR!$M$1,Y374,ROW()),\"\")","v":""},{"$f":"IF(Y374<>\"\",CONCATENATE(P374,INT(Q374*1440),DIGITADOR!$M$1,Y374),\"\")","v":""},null,{"$f":"IF(AO374<>\"\",INDEX(referentes!$Y:$Z,MATCH(DATOS!AO374,referentes!$Z:$Z,0),1),\"\")","v":""},"","",{"$f":"IF(R374=\"\",\"\",INDEX(referentes!D:E,MATCH(R374,referentes!E:E,0),1))","v":""},null,null,null,null,null,null,null,null,null,{"$f":"IF(X374=\"\",\"\",INDEX(referentes!$AT:$AX,MATCH(X374,referentes!$AX:$AX,0),1))","v":""},null,null,{"$f":"IF(AC374=\"\",\"\",INDEX(referentes!AZ:BA,MATCH(AC374,referentes!BA:BA,0),1))","v":""},null,null,null,null,null,null,null,null,null,null,null,null,null,null,{"$f":"IF(N374<>\"\",INDEX(referentes!$AK:$AM,MATCH(DATOS!M374,referentes!$AK:$AK,0),3),\"\")","v":""},null,null,{"$f":"IF(AS374=\"\",\"\",INDEX(referentes!P:Q,MATCH(AS374,referentes!Q:Q,0),1))","v":""},null,null,null,{"$f":"IF(AY374=\"\",\"\",INDEX(referentes!AB:AC,MATCH(AY374,referentes!AC:AC,0),1))","v":""},null,{"$f":"IF(BA374=\"\",\"\",INDEX(referentes!S:T,MATCH(BA374,referentes!T:T,0),1))","v":""},null,null,{"$f":"IF(AA374=\"\",\"\",INDEX(OtrasReferencias!$AM$7:$AN$9,MATCH(AA374,OtrasReferencias!$AM$7:$AM$9,0),2))","v":""}]
[null,null,"","",{"$f":"IF(T375=\"\",\"\",INDEX(referentes!G:H,MATCH(T375,referentes!H:H,0),1))","v":""},{"$f":"IF(V375=\"\",\"\",INDEX(referentes!$M:$N,MATCH(V375,referentes!$N:$N,0),1))","v":""},{"$f":"IF(W375=\"\",\"\",INDEX(referentes!J:K,MATCH(W375,referentes!K:K,0),1))","v":""},null,{"$f":"IF(Y375<>\"\",CONCATENATE($A$3,P375,DIGITADOR!$M$1,Y375,ROW()),\"\")","v":""},{"$f":"IF(Y375<>\"\",CONCATENATE(P375,INT(Q375*1440),DIGITADOR!$M$1,Y375),\"\")","v":""},null,{"$f":"IF(AO375<>\"\",INDEX(referentes!$Y:$Z,MATCH(DATOS!AO375,referentes!$Z:$Z,0),1),\"\")","v":""},"","",{"$f":"IF(R375=\"\",\"\",INDEX(referentes!D:E,MATCH(R375,referentes!E:E,0),1))","v":""},null,null,null,null,null,null,null,null,null,{"$f":"IF(X375=\"\",\"\",INDEX(referentes!$AT:$AX,MATCH(X375,referentes!$AX:$AX,0),1))","v":""},null,null,{"$f":"IF(AC375=\"\",\"\",INDEX(referentes!AZ:BA,MATCH(AC375,referentes!BA:BA,0),1))","v":""},null,null,null,null,null,null,null,null,null,null,null,null,null,null,{"$f":"IF(N375<>\"\",INDEX(referentes!$AK:$AM,MATCH(DATOS!M375,referentes!$AK:$AK,0),3),\"\")","v":""},null,null,{"$f":"IF(AS375=\"\",\"\",INDEX(referentes!P:Q,MATCH(AS375,referentes!Q:Q,0),1))","v":""},null,null,null,{"$f":"IF(AY375=\"\",\"\",INDEX(referentes!AB:AC,MATCH(AY375,referentes!AC:AC,0),1))","v":""},null,{"$f":"IF(BA375=\"\",\"\",INDEX(referentes!S:T,MATCH(BA375,referentes!T:T,0),1))","v":""},null,null,{"$f":"IF(AA375=\"\",\"\",INDEX(OtrasReferencias!$AM$7:$AN$9,MATCH(AA375,OtrasReferencias!$AM$7:$AM$9,0),2))","v":""}]
[null,null,"","",{"$f":"IF(T376=\"\",\"\",INDEX(referentes!G:H,MATCH(T376,referentes!H:H,0),1))","v":""},{"$f":"IF(V376=\"\",\"\",INDEX(referentes!$M:$N,MATCH(V376,referentes!$N:$N,0),1))","v":""},{"$f":"IF(W376=\"\",\"\",INDEX(referentes!J:K,MATCH(W376,referentes!K:K,0),1))","v":""},null,{"$f":"IF(Y376<>\"\",CONCATENATE($A$3,P376,DIGITADOR!$M$1,Y376,ROW()),\"\")","v":""},{"$f":"IF(Y376<>\"\",CONCATENATE(P376,INT(Q376*1440),DIGITADOR!$M$1,Y376),\"\")","v":""},null,{"$f":"IF(AO376<>\"\",INDEX(referentes!$Y:$Z,MATCH(DATOS!AO376,referentes!$Z:$Z,0),1),\"\")","v":""},"","",{"$f":"IF(R376=\"\",\"\",INDEX(referentes!D:E,MATCH(R376,referentes!E:E,0),1))","v":""},null,null,null,null,null,null,null,null,null,{"$f":"IF(X376=\"\",\"\",INDEX(referentes!$AT:$AX,MATCH(X376,referentes!$AX:$AX,0),1))","v":""},null,null,{"$f":"IF(AC376=\"\",\"\",INDEX(referentes!AZ:BA,MATCH(AC376,referentes!BA:BA,0),1))","v":""},null,null,null,null,null,null,null,null,null,null,null,null,null,null,{"$f":"IF(N376<>\"\",INDEX(referentes!$AK:$AM,MATCH(DATOS!M376,referentes!$AK:$AK,0),3),\"\")","v":""},null,null,{"$f":"IF(AS376=\"\",\"\",INDEX(referentes!P:Q,MATCH(AS376,referentes!Q:Q,0),1))","v":""},null,null,null,{"$f":"IF(AY376=\"\",\"\",INDEX(referentes!AB:AC,MATCH(AY376,referentes!AC:AC,0),1))","v":""},null,{"$f":"IF(BA376=\"\",\"\",INDEX(referentes!S:T,MATCH(BA376,referentes!T:T,0),1))","v":""},null,null,{"$f":"IF(AA376=\"\",\"\",INDEX(OtrasReferencias!$AM$7:$AN$9,MATCH(AA376,OtrasReferencias!$AM$7:$AM$9,0),2))","v":""}]
[null,null,"","",{"$f":"IF(T377=\"\",\"\",INDEX(referentes!G:H,MATCH(T377,referentes!H:H,0),1))","v":""},{"$f":"IF(V377=\"\",\"\",INDEX(referentes!$M:$N,MATCH(V377,referentes!$N:$N,0),1))","v":""},{"$f":"IF(W377=\"\",\"\",INDEX(referentes!J:K,MATCH(W377,referentes!K:K,0),1))","v":""},null,{"$f":"IF(Y377<>\"\",CONCATENATE($A$3,P377,DIGITADOR!$M$1,Y377,ROW()),\"\")","v":""},{"$f":"IF(Y377<>\"\",CONCATENATE(P377,INT(Q377*1440),DIGITADOR!$M$1,Y377),\"\")","v":""},null,{"$f":"IF(AO377<>\"\",INDEX(referentes!$Y:$Z,MATCH(DATOS!AO377,referentes!$Z:$Z,0),1),\"\")","v":""},"","",{"$f":"IF(R377=\"\",\"\",INDEX(referentes!D:E,MATCH(R377,referentes!E:E,0),1))","v":""},null,null,null,null,null,null,null,null,null,{"$f":"IF(X377=\"\",\"\",INDEX(referentes!$AT:$AX,MATCH(X377,referentes!$AX:$AX,0),1))","v":""},null,null,{"$f":"IF(AC377=\"\",\"\",INDEX(referentes!AZ:BA,MATCH(AC377,referentes!BA:BA,0),1))","v":""},null,null,null,null,null,null,null,null,null,null,null,null,null,null,{"$f":"IF(N377<>\"\",INDEX(referentes!$AK:$AM,MATCH(DATOS!M377,referentes!$AK:$AK,0),3),\"\")","v":""},null,null,{"$f":"IF(AS377=\"\",\"\",INDEX(referentes!P:Q,MATCH(AS377,referentes!Q:Q,0),1))","v":""},null,null,null,{"$f":"IF(AY377=\"\",\"\",INDEX(referentes!AB:AC,MATCH(AY377,referentes!AC:AC,0),1))","v":""},null,{"$f":"IF(BA377=\"\",\"\",INDEX(referentes!S:T,MATCH(BA377,referentes!T:T,0),1))","v":""},null,null,{"$f":"IF(AA377=\"\",\"\",INDEX(OtrasReferencias!$AM$7:$AN$9,MATCH(AA377,OtrasReferencias!$AM$7:$AM$9,0),2))","v":""}]
[null,null,"","",{"$f":"IF(T378=\"\",\"\",INDEX(referentes!G:H,MATCH(T378,referentes!H:H,0),1))","v":""},{"$f":"IF(V378=\"\",\"\",INDEX(referentes!$M:$N,MATCH(V378,referentes!$N:$N,0),1))","v":""},{"$f":"IF(W378=\"\",\"\",INDEX(referentes!J:K,MATCH(W378,referentes!K:K,0),1))","v":""},null,{"$f":"IF(Y378<>\"\",CONCATENATE($A$3,P378,DIGITADOR!$M$1,Y378,ROW()),\"\")","v":""},{"$f":"IF(Y378<>\"\",CONCATENATE(P378,INT(Q378*1440),DIGITADOR!$M$1,Y378),\"\")","v":""},null,{"$f":"IF(AO378<>\"\",INDEX(referentes!$Y:$Z,MATCH(DATOS!AO378,referentes!$Z:$Z,0),1),\"\")","v":""},"","",{"$f":"IF(R378=\"\",\"\",INDEX(referentes!D:E,MATCH(R378,referentes!E:E,0),1))","v":""},null,null,null,null,null,null,null,null,null,{"$f":"IF(X378=\"\",\"\",INDEX(referentes!$AT:$AX,MATCH(X378,referentes!$AX:$AX,0),1))","v":""},null,null,{"$f":"IF(AC378=\"\",\"\",INDEX(referentes!AZ:BA,MATCH(AC378,referentes!BA:BA,0),1))","v":""},null,null,null,null,null,null,null,null,null,null,null,null,null,null,{"$f":"IF(N378<>\"\",INDEX(referentes!$AK:$AM,MATCH(DATOS!M378,referentes!$AK:$AK,0),3),\"\")","v":""},null,null,{"$f":"IF(AS378=\"\",\"\",INDEX(referentes!P:Q,MATCH(AS378,referentes!Q:Q,0),1))","v":""},null,null,null,{"$f":"IF(AY378=\"\",\"\",INDEX(referentes!AB:AC,MATCH(AY378,referentes!AC:AC,0),1))","v":""},null,{"$f":"IF(BA378=\"\",\"\",INDEX(referentes!S:T,MATCH(BA378,referentes!T:T,0),1))","v":""},null,null,{"$f":"IF(AA378=\"\",\"\",INDEX(OtrasReferencias!$AM$7:$AN$9,MATCH(AA378,OtrasReferencias!$AM$7:$AM$9,0),2))","v":""}]
[null,null,"","",{"$f":"IF(T379=\"\",\"\",INDEX(referentes!G:H,MATCH(T379,referentes!H:H,0),1))","v":""},{"$f":"IF(V379=\"\",\"\",INDEX(referentes!$M:$N,MATCH(V379,referentes!$N:$N,0),1))","v":""},{"$f":"IF(W379=\"\",\"\",INDEX(referentes!J:K,MATCH(W379,referentes!K:K,0),1))","v":""},null,{"$f":"IF(Y379<>\"\",CONCATENATE($A$3,P379,DIGITADOR!$M$1,Y379,ROW()),\"\")","v":""},{"$f":"IF(Y379<>\"\",CONCATENATE(P379,INT(Q379*1440),DIGITADOR!$M$1,Y379),\"\")","v":""},null,{"$f":"IF(AO379<>\"\",INDEX(referentes!$Y:$Z,MATCH(DATOS!AO379,referentes!$Z:$Z,0),1),\"\")","v":""},"","",{"$f":"IF(R379=\"\",\"\",INDEX(referentes!D:E,MATCH(R379,referentes!E:E,0),1))","v":""},null,null,null,null,null,null,null,null,null,{"$f":"IF(X379=\"\",\"\",INDEX(referentes!$AT:$AX,MATCH(X379,referentes!$AX:$AX,0),1))","v":""},null,null,{"$f":"IF(AC379=\"\",\"\",INDEX(referentes!AZ:BA,MATCH(AC379,referentes!BA:BA,0),1))","v":""},null,null,null,null,null,null,null,null,null,null,null,null,null,null,{"$f":"IF(N379<>\"\",INDEX(referentes!$AK:$AM,MATCH(DATOS!M379,referentes!$AK:$AK,0),3),\"\")","v":""},null,null,{"$f":"IF(AS379=\"\",\"\",INDEX(referentes!P:Q,MATCH(AS379,referentes!Q:Q,0),1))","v":""},null,null,null,{"$f":"IF(AY379=\"\",\"\",INDEX(referentes!AB:AC,MATCH(AY379,referentes!AC:AC,0),1))","v":""},null,{"$f":"IF(BA379=\"\",\"\",INDEX(referentes!S:T,MATCH(BA379,referentes!T:T,0),1))","v":""},null,null,{"$f":"IF(AA379=\"\",\"\",INDEX(OtrasReferencias!$AM$7:$AN$9,MATCH(AA379,OtrasReferencias!$AM$7:$AM$9,0),2))","v":""}]
[null,null,"","",{"$f":"IF(T380=\"\",\"\",INDEX(referentes!G:H,MATCH(T380,referentes!H:H,0),1))","v":""},{"$f":"IF(V380=\"\",\"\",INDEX(referentes!$M:$N,MATCH(V380,referentes!$N:$N,0),1))","v":""},{"$f":"IF(W380=\"\",\"\",INDEX(referentes!J:K,MATCH(W380,referentes!K:K,0),1))","v":""},null,{"$f":"IF(Y380<>\"\",CONCATENATE($A$3,P380,DIGITADOR!$M$1,Y380,ROW()),\"\")","v":""},{"$f":"IF(Y380<>\"\",CONCATENATE(P380,INT(Q380*1440),DIGITADOR!$M$1,Y380),\"\")","v":""},null,{"$f":"IF(AO380<>\"\",INDEX(referentes!$Y:$Z,MATCH(DATOS!AO380,referentes!$Z:$Z,0),1),\"\")","v":""},"","",{"$f":"IF(R380=\"\",\"\",INDEX(referentes!D:E,MATCH(R380,referentes!E:E,0),1))","v":""},null,null,null,null,null,null,null,null,null,{"$f":"IF(X380=\"\",\"\",INDEX(referentes!$AT:$AX,MATCH(X380,referentes!$AX:$AX,0),1))","v":""},null,null,{"$f":"IF(AC380=\"\",\"\",INDEX(referentes!AZ:BA,MATCH(AC380,referentes!BA:BA,0),1))","v":""},null,null,null,null,null,null,null,null,null,null,null,null,null,null,{"$f":"IF(N380<>\"\",INDEX(referentes!$AK:$AM,MATCH(DATOS!M380,referentes!$AK:$AK,0),3),\"\")","v":""},null,null,{"$f":"IF(AS380=\"\",\"\",INDEX(referentes!P:Q,MATCH(AS380,referentes!Q:Q,0),1))","v":""},null,null,null,{"$f":"IF(AY380=\"\",\"\",INDEX(referentes!AB:AC,MATCH(AY380,referentes!AC:AC,0),1))","v":""},null,{"$f":"IF(BA380=\"\",\"\",INDEX(referentes!S:T,MATCH(BA380,referentes!T:T,0),1))","v":""},null,null,{"$f":"IF(AA380=\"\",\"\",INDEX(OtrasReferencias!$AM$7:$AN$9,MATCH(AA380,OtrasReferencias!$AM$7:$AM$9,0),2))","v":""}]
[null,null,"","",{"$f":"IF(T381=\"\",\"\",INDEX(referentes!G:H,MATCH(T381,referentes!H:H,0),1))","v":""},{"$f":"IF(V381=\"\",\"\",INDEX(referentes!$M:$N,MATCH(V381,referentes!$N:$N,0),1))","v":""},{"$f":"IF(W381=\"\",\"\",INDEX(referentes!J:K,MATCH(W381,referentes!K:K,0),1))","v":""},null,{"$f":"IF(Y381<>\"\",CONCATENATE($A$3,P381,DIGITADOR!$M$1,Y381,ROW()),\"\")","v":""},{"$f":"IF(Y381<>\"\",CONCATENATE(P381,INT(Q381*1440),DIGITADOR!$M$1,Y381),\"\")","v":""},null,{"$f":"IF(AO381<>\"\",INDEX(referentes!$Y:$Z,MATCH(DATOS!AO381,referentes!$Z:$Z,0),1),\"\")","v":""},"","",{"$f":"IF(R381=\"\",\"\",INDEX(referentes!D:E,MATCH(R381,referentes!E:E,0),1))","v":""},null,null,null,null,null,null,null,null,null,{"$f":"IF(X381=\"\",\"\",INDEX(referentes!$AT:$AX,MATCH(X381,referentes!$AX:$AX,0),1))","v":""},null,null,{"$f":"IF(AC381=\"\",\"\",INDEX(referentes!AZ:BA,MATCH(AC381,referentes!BA:BA,0),1))","v":""},null,null,null,null,null,null,null,null,null,null,null,null,null,null,{"$f":"IF(N381<>\"\",INDEX(referentes!$AK:$AM,MATCH(DATOS!M381,referentes!$AK:$AK,0),3),\"\")","v":""},null,null,{"$f":"IF(AS381=\"\",\"\",INDEX(referentes!P:Q,MATCH(AS381,referentes!Q:Q,0),1))","v":""},null,null,null,{"$f":"IF(AY381=\"\",\"\",INDEX(referentes!AB:AC,MATCH(AY381,referentes!AC:AC,0),1))","v":""},null,{"$f":"IF(BA381=\"\",\"\",INDEX(referentes!S:T,MATCH(BA381,referentes!T:T,0),1))","v":""},null,null,{"$f":"IF(AA381=\"\",\"\",INDEX(OtrasReferencias!$AM$7:$AN$9,MATCH(AA381,OtrasReferencias!$AM$7:$AM$9,0),2))","v":""}]
[null,null,"","",{"$f":"IF(T382=\"\",\"\",INDEX(referentes!G:H,MATCH(T382,referentes!H:H,0),1))","v":""},{"$f":"IF(V382=\"\",\"\",INDEX(referentes!$M:$N,MATCH(V382,referentes!$N:$N,0),1))","v":""},{"$f":"IF(W382=\"\",\"\",INDEX(referentes!J:K,MATCH(W382,referentes!K:K,0),1))","v":""},null,{"$f":"IF(Y382<>\"\",CONCATENATE($A$3,P382,DIGITADOR!$M$1,Y382,ROW()),\"\")","v":""},{"$f":"IF(Y382<>\"\",CONCATENATE(P382,INT(Q382*1440),DIGITADOR!$M$1,Y382),\"\")","v":""},null,{"$f":"IF(AO382<>\"\",INDEX(referentes!$Y:$Z,MATCH(DATOS!AO382,referentes!$Z:$Z,0),1),\"\")","v":""},"","",{"$f":"IF(R382=\"\",\"\",INDEX(referentes!D:E,MATCH(R382,referentes!E:E,0),1))","v":""},null,null,null,null,null,null,null,null,null,{"$f":"IF(X382=\"\",\"\",INDEX(referentes!$AT:$AX,MATCH(X382,referentes!$AX:$AX,0),1))","v":""},null,null,{"$f":"IF(AC382=\"\",\"\",INDEX(referentes!AZ:BA,MATCH(AC382,referentes!BA:BA,0),1))","v":""},null,null,null,null,null,null,null,null,null,null,null,null,null,null,{"$f":"IF(N382<>\"\",INDEX(referentes!$AK:$AM,MATCH(DATOS!M382,referentes!$AK:$AK,0),3),\"\")","v":""},null,null,{"$f":"IF(AS382=\"\",\"\",INDEX(referentes!P:Q,MATCH(AS382,referentes!Q:Q,0),1))","v":""},null,null,null,{"$f":"IF(AY382=\"\",\"\",INDEX(referentes!AB:AC,MATCH(AY382,referentes!AC:AC,0),1))","v":""},null,{"$f":"IF(BA382=\"\",\"\",INDEX(referentes!S:T,MATCH(BA382,referentes!T:T,0),1))","v":""},null,null,{"$f":"IF(AA382=\"\",\"\",INDEX(OtrasReferencias!$AM$7:$AN$9,MATCH(AA382,OtrasReferencias!$AM$7:$AM$9,0),2))","v":""}]
[null,null,"","",{"$f":"IF(T383=\"\",\"\",INDEX(referentes!G:H,MATCH(T383,referentes!H:H,0),1))","v":""},{"$f":"IF(V383=\"\",\"\",INDEX(referentes!$M:$N,MATCH(V383,referentes!$N:$N,0),1))","v":""},{"$f":"IF(W383=\"\",\"\",INDEX(referentes!J:K,MATCH(W383,referentes!K:K,0),1))","v":""},null,{"$f":"IF(Y383<>\"\",CONCATENATE($A$3,P383,DIGITADOR!$M$1,Y383,ROW()),\"\")","v":""},{"$f":"IF(Y383<>\"\",CONCATENATE(P383,INT(Q383*1440),DIGITADOR!$M$1,Y383),\"\")","v":""},null,{"$f":"IF(AO383<>\"\",INDEX(referentes!$Y:$Z,MATCH(DATOS!AO383,referentes!$Z:$Z,0),1),\"\")","v":""},"","",{"$f":"IF(R383=\"\",\"\",INDEX(referentes!D:E,MATCH(R383,referentes!E:E,0),1))","v":""},null,null,null,null,null,null,null,null,null,{"$f":"IF(X383=\"\",\"\",INDEX(referentes!$AT:$AX,MATCH(X383,referentes!$AX:$AX,0),1))","v":""},null,null,{"$f":"IF(AC383=\"\",\"\",INDEX(referentes!AZ:BA,MATCH(AC383,referentes!BA:BA,0),1))","v":""},null,null,null,null,null,null,null,null,null,null,null,null,null,null,{"$f":"IF(N383<>\"\",INDEX(referentes!$AK:$AM,MATCH(DATOS!M383,referentes!$AK:$AK,0),3),\"\")","v":""},null,null,{"$f":"IF(AS383=\"\",\"\",INDEX(referentes!P:Q,MATCH(AS383,referentes!Q:Q,0),1))","v":""},null,null,null,{"$f":"IF(AY383=\"\",\"\",INDEX(referentes!AB:AC,MATCH(AY383,referentes!AC:AC,0),1))","v":""},null,{"$f":"IF(BA383=\"\",\"\",INDEX(referentes!S:T,MATCH(BA383,referentes!T:T,0),1))","v":""},null,null,{"$f":"IF(AA383=\"\",\"\",INDEX(OtrasReferencias!$AM$7:$AN$9,MATCH(AA383,OtrasReferencias!$AM$7:$AM$9,0),2))","v":""}]
[null,null,"","",{"$f":"IF(T384=\"\",\"\",INDEX(referentes!G:H,MATCH(T384,referentes!H:H,0),1))","v":""},{"$f":"IF(V384=\"\",\"\",INDEX(referentes!$M:$N,MATCH(V384,referentes!$N:$N,0),1))","v":""},{"$f":"IF(W384=\"\",\"\",INDEX(referentes!J:K,MATCH(W384,referentes!K:K,0),1))","v":""},null,{"$f":"IF(Y384<>\"\",CONCATENATE($A$3,P384,DIGITADOR!$M$1,Y384,ROW()),\"\")","v":""},{"$f":"IF(Y384<>\"\",CONCATENATE(P384,INT(Q384*1440),DIGITADOR!$M$1,Y384),\"\")","v":""},null,{"$f":"IF(AO384<>\"\",INDEX(referentes!$Y:$Z,MATCH(DATOS!AO384,referentes!$Z:$Z,0),1),\"\")","v":""},"","",{"$f":"IF(R384=\"\",\"\",INDEX(referentes!D:E,MATCH(R384,referentes!E:E,0),1))","v":""},null,null,null,null,null,null,null,null,null,{"$f":"IF(X384=\"\",\"\",INDEX(referentes!$AT:$AX,MATCH(X384,referentes!$AX:$AX,0),1))","v":""},null,null,{"$f":"IF(AC384=\"\",\"\",INDEX(referentes!AZ:BA,MATCH(AC384,referentes!BA:BA,0),1))","v":""},null,null,null,null,null,null,null,null,null,null,null,null,null,null,{"$f":"IF(N384<>\"\",INDEX(referentes!$AK:$AM,MATCH(DATOS!M384,referentes!$AK:$AK,0),3),\"\")","v":""},null,null,{"$f":"IF(AS384=\"\",\"\",INDEX(referentes!P:Q,MATCH(AS384,referentes!Q:Q,0),1))","v":""},null,null,null,{"$f":"IF(AY384=\"\",\"\",INDEX(referentes!AB:AC,MATCH(AY384,referentes!AC:AC,0),1))","v":""},null,{"$f":"IF(BA384=\"\",\"\",INDEX(referentes!S:T,MATCH(BA384,referentes!T:T,0),1))","v":""},null,null,{"$f":"IF(AA384=\"\",\"\",INDEX(OtrasReferencias!$AM$7:$AN$9,MATCH(AA384,OtrasReferencias!$AM$7:$AM$9,0),2))","v":""}]
[null,null,"","",{"$f":"IF(T385=\"\",\"\",INDEX(referentes!G:H,MATCH(T385,referentes!H:H,0),1))","v":""},{"$f":"IF(V385=\"\",\"\",INDEX(referentes!$M:$N,MATCH(V385,referentes!$N:$N,0),1))","v":""},{"$f":"IF(W385=\"\",\"\",INDEX(referentes!J:K,MATCH(W385,referentes!K:K,0),1))","v":""},null,{"$f":"IF(Y385<>\"\",CONCATENATE($A$3,P385,DIGITADOR!$M$1,Y385,ROW()),\"\")","v":""},{"$f":"IF(Y385<>\"\",CONCATENATE(P385,INT(Q385*1440),DIGITADOR!$M$1,Y385),\"\")","v":""},null,{"$f":"IF(AO385<>\"\",INDEX(referentes!$Y:$Z,MATCH(DATOS!AO385,referentes!$Z:$Z,0),1),\"\")","v":""},"","",{"$f":"IF(R385=\"\",\"\",INDEX(referentes!D:E,MATCH(R385,referentes!E:E,0),1))","v":""},null,null,null,null,null,null,null,null,null,{"$f":"IF(X385=\"\",\"\",INDEX(referentes!$AT:$AX,MATCH(X385,referentes!$AX:$AX,0),1))","v":""},null,null,{"$f":"IF(AC385=\"\",\"\",INDEX(referentes!AZ:BA,MATCH(AC385,referentes!BA:BA,0),1))","v":""},null,null,null,null,null,null,null,null,null,null,null,null,null,null,{"$f":"IF(N385<>\"\",INDEX(referentes!$AK:$AM,MATCH(DATOS!M385,referentes!$AK:$AK,0),3),\"\")","v":""},null,null,{"$f":"IF(AS385=\"\",\"\",INDEX(referentes!P:Q,MATCH(AS385,referentes!Q:Q,0),1))","v":""},null,null,null,{"$f":"IF(AY385=\"\",\"\",INDEX(referentes!AB:AC,MATCH(AY385,referentes!AC:AC,0),1))","v":""},null,{"$f":"IF(BA385=\"\",\"\",INDEX(referentes!S:T,MATCH(BA385,referentes!T:T,0),1))","v":""},null,null,{"$f":"IF(AA385=\"\",\"\",INDEX(OtrasReferencias!$AM$7:$AN$9,MATCH(AA385,OtrasReferencias!$AM$7:$AM$9,0),2))","v":""}]
[null,null,"","",{"$f":"IF(T386=\"\",\"\",INDEX(referentes!G:H,MATCH(T386,referentes!H:H,0),1))","v":""},{"$f":"IF(V386=\"\",\"\",INDEX(referentes!$M:$N,MATCH(V386,referentes!$N:$N,0),1))","v":""},{"$f":"IF(W386=\"\",\"\",INDEX(referentes!J:K,MATCH(W386,referentes!K:K,0),1))","v":""},null,{"$f":"IF(Y386<>\"\",CONCATENATE($A$3,P386,DIGITADOR!$M$1,Y386,ROW()),\"\")","v":""},{"$f":"IF(Y386<>\"\",CONCATENATE(P386,INT(Q386*1440),DIGITADOR!$M$1,Y386),\"\")","v":""},null,{"$f":"IF(AO386<>\"\",INDEX(referentes!$Y:$Z,MATCH(DATOS!AO386,referentes!$Z:$Z,0),1),\"\")","v":""},"","",{"$f":"IF(R386=\"\",\"\",INDEX(referentes!D:E,MATCH(R386,referentes!E:E,0),1))","v":""},null,null,null,null,null,null,null,null,null,{"$f":"IF(X386=\"\",\"\",INDEX(referentes!$AT:$AX,MATCH(X386,referentes!$AX:$AX,0),1))","v":""},null,null,{"$f":"IF(AC386=\"\",\"\",INDEX(referentes!AZ:BA,MATCH(AC386,referentes!BA:BA,0),1))","v":""},null,null,null,null,null,null,null,null,null,null,null,null,null,null,{"$f":"IF(N386<>\"\",INDEX(referentes!$AK:$AM,MATCH(DATOS!M386,referentes!$AK:$AK,0),3),\"\")","v":""},null,null,{"$f":"IF(AS386=\"\",\"\",INDEX(referentes!P:Q,MATCH(AS386,referentes!Q:Q,0),1))","v":""},null,null,null,{"$f":"IF(AY386=\"\",\"\",INDEX(referentes!AB:AC,MATCH(AY386,referentes!AC:AC,0),1))","v":""},null,{"$f":"IF(BA386=\"\",\"\",INDEX(referentes!S:T,MATCH(BA386,referentes!T:T,0),1))","v":""},null,null,{"$f":"IF(AA386=\"\",\"\",INDEX(OtrasReferencias!$AM$7:$AN$9,MATCH(AA386,OtrasReferencias!$AM$7:$AM$9,0),2))","v":""}]
[null,null,"","",{"$f":"IF(T387=\"\",\"\",INDEX(referentes!G:H,MATCH(T387,referentes!H:H,0),1))","v":""},{"$f":"IF(V387=\"\",\"\",INDEX(referentes!$M:$N,MATCH(V387,referentes!$N:$N,0),1))","v":""},{"$f":"IF(W387=\"\",\"\",INDEX(referentes!J:K,MATCH(W387,referentes!K:K,0),1))","v":""},null,{"$f":"IF(Y387<>\"\",CONCATENATE($A$3,P387,DIGITADOR!$M$1,Y387,ROW()),\"\")","v":""},{"$f":"IF(Y387<>\"\",CONCATENATE(P387,INT(Q387*1440),DIGITADOR!$M$1,Y387),\"\")","v":""},null,{"$f":"IF(AO387<>\"\",INDEX(referentes!$Y:$Z,MATCH(DATOS!AO387,referentes!$Z:$Z,0),1),\"\")","v":""},"","",{"$f":"IF(R387=\"\",\"\",INDEX(referentes!D:E,MATCH(R387,referentes!E:E,0),1))","v":""},null,null,null,null,null,null,null,null,null,{"$f":"IF(X387=\"\",\"\",INDEX(referentes!$AT:$AX,MATCH(X387,referentes!$AX:$AX,0),1))","v":""},null,null,{"$f":"IF(AC387=\"\",\"\",INDEX(referentes!AZ:BA,MATCH(AC387,referentes!BA:BA,0),1))","v":""},null,null,null,null,null,null,null,null,null,null,null,null,null,null,{"$f":"IF(N387<>\"\",INDEX(referentes!$AK:$AM,MATCH(DATOS!M387,referentes!$AK:$AK,0),3),\"\")","v":""},null,null,{"$f":"IF(AS387=\"\",\"\",INDEX(referentes!P:Q,MATCH(AS387,referentes!Q:Q,0),1))","v":""},null,null,null,{"$f":"IF(AY387=\"\",\"\",INDEX(referentes!AB:AC,MATCH(AY387,referentes!AC:AC,0),1))","v":""},null,{"$f":"IF(BA387=\"\",\"\",INDEX(referentes!S:T,MATCH(BA387,referentes!T:T,0),1))","v":""},null,null,{"$f":"IF(AA387=\"\",\"\",INDEX(OtrasReferencias!$AM$7:$AN$9,MATCH(AA387,OtrasReferencias!$AM$7:$AM$9,0),2))","v":""}]
[null,null,"","",{"$f":"IF(T388=\"\",\"\",INDEX(referentes!G:H,MATCH(T388,referentes!H:H,0),1))","v":""},{"$f":"IF(V388=\"\",\"\",INDEX(referentes!$M:$N,MATCH(V388,referentes!$N:$N,0),1))","v":""},{"$f":"IF(W388=\"\",\"\",INDEX(referentes!J:K,MATCH(W388,referentes!K:K,0),1))","v":""},null,{"$f":"IF(Y388<>\"\",CONCATENATE($A$3,P388,DIGITADOR!$M$1,Y388,ROW()),\"\")","v":""},{"$f":"IF(Y388<>\"\",CONCATENATE(P388,INT(Q388*1440),DIGITADOR!$M$1,Y388),\"\")","v":""},null,{"$f":"IF(AO388<>\"\",INDEX(referentes!$Y:$Z,MATCH(DATOS!AO388,referentes!$Z:$Z,0),1),\"\")","v":""},"","",{"$f":"IF(R388=\"\",\"\",INDEX(referentes!D:E,MATCH(R388,referentes!E:E,0),1))","v":""},null,null,null,null,null,null,null,null,null,{"$f":"IF(X388=\"\",\"\",INDEX(referentes!$AT:$AX,MATCH(X388,referentes!$AX:$AX,0),1))","v":""},null,null,{"$f":"IF(AC388=\"\",\"\",INDEX(referentes!AZ:BA,MATCH(AC388,referentes!BA:BA,0),1))","v":""},null,null,null,null,null,null,null,null,null,null,null,null,null,null,{"$f":"IF(N388<>\"\",INDEX(referentes!$AK:$AM,MATCH(DATOS!M388,referentes!$AK:$AK,0),3),\"\")","v":""},null,null,{"$f":"IF(AS388=\"\",\"\",INDEX(referentes!P:Q,MATCH(AS388,referentes!Q:Q,0),1))","v":""},null,null,null,{"$f":"IF(AY388=\"\",\"\",INDEX(referentes!AB:AC,MATCH(AY388,referentes!AC:AC,0),1))","v":""},null,{"$f":"IF(BA388=\"\",\"\",INDEX(referentes!S:T,MATCH(BA388,referentes!T:T,0),1))","v":""},null,null,{"$f":"IF(AA388=\"\",\"\",INDEX(OtrasReferencias!$AM$7:$AN$9,MATCH(AA388,OtrasReferencias!$AM$7:$AM$9,0),2))","v":""}]
[null,null,"",{"$f":"IF(P389<>\"\",P389+Q389,\"\")","v":""},{"$f":"IF(T389=\"\",\"\",INDEX(referentes!G:H,MATCH(T389,referentes!H:H,0),1))","v":""},{"$f":"IF(V389=\"\",\"\",INDEX(referentes!$M:$N,MATCH(V389,referentes!$N:$N,0),1))","v":""},{"$f":"IF(W389=\"\",\"\",INDEX(referentes!J:K,MATCH(W389,referentes!K:K,0),1))","v":""},null,{"$f":"IF(Y389<>\"\",CONCATENATE($A$3,P389,DIGITADOR!$M$1,Y389,ROW()),\"\")","v":""},{"$f":"IF(Y389<>\"\",CONCATENATE(P389,INT(Q389*1440),DIGITADOR!$M$1,Y389),\"\")","v":""},null,{"$f":"IF(AO389<>\"\",INDEX(referentes!$Y:$Z,MATCH(DATOS!AO389,referentes!$Z:$Z,0),1),\"\")","v":""},{"$f":"TRIM(UPPER(IF(AL389<>\"\",AL389,IF(AK389<>\"\",AK389,(IF(AJ389<>\"\",AJ389,IF(AI389<>\"\",AI389,IF(AH389<>\"\",AH389,AG389))))))))","v":""},{"$f":"TRIM(UPPER(CONCATENATE(AG389,\" \",AH389,\" \",AI389,\" \",AJ389,\" \",AK389,\" \",AL389)))","v":""},{"$f":"IF(R389=\"\",\"\",INDEX(referentes!D:E,MATCH(R389,referentes!E:E,0),1))","v":""},null,null,null,null,null,null,null,null,null,{"$f":"IF(X389=\"\",\"\",INDEX(referentes!$AT:$AX,MATCH(X389,referentes!$AX:$AX,0),1))","v":""},null,null,{"$f":"IF(AC389=\"\",\"\",INDEX(referentes!AZ:BA,MATCH(AC389,referentes!BA:BA,0),1))","v":""},null,null,null,null,null,null,null,null,null,null,null,null,null,null,{"$f":"IF(N389<>\"\",INDEX(referentes!$AK:$AM,MATCH(DATOS!M389,referentes!$AK:$AK,0),3),\"\")","v":""},null,null,{"$f":"IF(AS389=\"\",\"\",INDEX(referentes!P:Q,MATCH(AS389,referentes!Q:Q,0),1))","v":""},null,null,null,{"$f":"IF(AY389=\"\",\"\",INDEX(referentes!AB:AC,MATCH(AY389,referentes!AC:AC,0),1))","v":""},null,{"$f":"IF(BA389=\"\",\"\",INDEX(referentes!S:T,MATCH(BA389,referentes!T:T,0),1))","v":""},null,null,{"$f":"IF(AA389=\"\",\"\",INDEX(OtrasReferencias!$AM$7:$AN$9,MATCH(AA389,OtrasReferencias!$AM$7:$AM$9,0),2))","v":""}]
[null,null,{"$f":"IF(J390=\"\",\"\",IF(J390=J389,\"\",J390))","v":""},"",{"$f":"IF(T390=\"\",\"\",INDEX(referentes!G:H,MATCH(T390,referentes!H:H,0),1))","v":""},{"$f":"IF(V390=\"\",\"\",INDEX(referentes!$M:$N,MATCH(V390,referentes!$N:$N,0),1))","v":""},{"$f":"IF(W390=\"\",\"\",INDEX(referentes!J:K,MATCH(W390,referentes!K:K,0),1))","v":""},null,{"$f":"IF(Y390<>\"\",CONCATENATE($A$3,P390,DIGITADOR!$M$1,Y390,ROW()),\"\")","v":""},{"$f":"IF(Y390<>\"\",CONCATENATE(P390,INT(Q390*1440),DIGITADOR!$M$1,Y390),\"\")","v":""},null,{"$f":"IF(AO390<>\"\",INDEX(referentes!$Y:$Z,MATCH(DATOS!AO390,referentes!$Z:$Z,0),1),\"\")","v":""},"","",{"$f":"IF(R390=\"\",\"\",INDEX(referentes!D:E,MATCH(R390,referentes!E:E,0),1))","v":""},null,null,null,null,null,null,null,null,null,{"$f":"IF(X390=\"\",\"\",INDEX(referentes!$AT:$AX,MATCH(X390,referentes!$AX:$AX,0),1))","v":""},null,null,{"$f":"IF(AC390=\"\",\"\",INDEX(referentes!AZ:BA,MATCH(AC390,referentes!BA:BA,0),1))","v":""},null,null,null,null,null,null,null,null,null,null,null,null,null,null,{"$f":"IF(N390<>\"\",INDEX(referentes!$AK:$AM,MATCH(DATOS!M390,referentes!$AK:$AK,0),3),\"\")","v":""},null,null,{"$f":"IF(AS390=\"\",\"\",INDEX(referentes!P:Q,MATCH(AS390,referentes!Q:Q,0),1))","v":""},null,null,null,{"$f":"IF(AY390=\"\",\"\",INDEX(referentes!AB:AC,MATCH(AY390,referentes!AC:AC,0),1))","v":""},null,{"$f":"IF(BA390=\"\",\"\",INDEX(referentes!S:T,MATCH(BA390,referentes!T:T,0),1))","v":""},null,null,{"$f":"IF(AA390=\"\",\"\",INDEX(OtrasReferencias!$AM$7:$AN$9,MATCH(AA390,OtrasReferencias!$AM$7:$AM$9,0),2))","v":""}]
[null,null,"","",{"$f":"IF(T391=\"\",\"\",INDEX(referentes!G:H,MATCH(T391,referentes!H:H,0),1))","v":""},{"$f":"IF(V391=\"\",\"\",INDEX(referentes!$M:$N,MATCH(V391,referentes!$N:$N,0),1))","v":""},{"$f":"IF(W391=\"\",\"\",INDEX(referentes!J:K,MATCH(W391,referentes!K:K,0),1))","v":""},null,{"$f":"IF(Y391<>\"\",CONCATENATE($A$3,P391,DIGITADOR!$M$1,Y391,ROW()),\"\")","v":""},{"$f":"IF(Y391<>\"\",CONCATENATE(P391,INT(Q391*1440),DIGITADOR!$M$1,Y391),\"\")","v":""},null,{"$f":"IF(AO391<>\"\",INDEX(referentes!$Y:$Z,MATCH(DATOS!AO391,referentes!$Z:$Z,0),1),\"\")","v":""},"","",{"$f":"IF(R391=\"\",\"\",INDEX(referentes!D:E,MATCH(R391,referentes!E:E,0),1))","v":""},null,null,null,null,null,null,null,null,null,{"$f":"IF(X391=\"\",\"\",INDEX(referentes!$AT:$AX,MATCH(X391,referentes!$AX:$AX,0),1))","v":""},null,null,{"$f":"IF(AC391=\"\",\"\",INDEX(referentes!AZ:BA,MATCH(AC391,referentes!BA:BA,0),1))","v":""},null,null,null,null,null,null,null,null,null,null,null,null,null,null,{"$f":"IF(N391<>\"\",INDEX(referentes!$AK:$AM,MATCH(DATOS!M391,referentes!$AK:$AK,0),3),\"\")","v":""},null,null,{"$f":"IF(AS391=\"\",\"\",INDEX(referentes!P:Q,MATCH(AS391,referentes!Q:Q,0),1))","v":""},null,null,null,{"$f":"IF(AY391=\"\",\"\",INDEX(referentes!AB:AC,MATCH(AY391,referentes!AC:AC,0),1))","v":""},null,{"$f":"IF(BA391=\"\",\"\",INDEX(referentes!S:T,MATCH(BA391,referentes!T:T,0),1))","v":""},null,null,{"$f":"IF(AA391=\"\",\"\",INDEX(OtrasReferencias!$AM$7:$AN$9,MATCH(AA391,OtrasReferencias!$AM$7:$AM$9,0),2))","v":""}]
[null,null,"","",{"$f":"IF(T392=\"\",\"\",INDEX(referentes!G:H,MATCH(T392,referentes!H:H,0),1))","v":""},{"$f":"IF(V392=\"\",\"\",INDEX(referentes!$M:$N,MATCH(V392,referentes!$N:$N,0),1))","v":""},{"$f":"IF(W392=\"\",\"\",INDEX(referentes!J:K,MATCH(W392,referentes!K:K,0),1))","v":""},null,{"$f":"IF(Y392<>\"\",CONCATENATE($A$3,P392,DIGITADOR!$M$1,Y392,ROW()),\"\")","v":""},{"$f":"IF(Y392<>\"\",CONCATENATE(P392,INT(Q392*1440),DIGITADOR!$M$1,Y392),\"\")","v":""},null,{"$f":"IF(AO392<>\"\",INDEX(referentes!$Y:$Z,MATCH(DATOS!AO392,referentes!$Z:$Z,0),1),\"\")","v":""},"","",{"$f":"IF(R392=\"\",\"\",INDEX(referentes!D:E,MATCH(R392,referentes!E:E,0),1))","v":""},null,null,null,null,null,null,null,null,null,{"$f":"IF(X392=\"\",\"\",INDEX(referentes!$AT:$AX,MATCH(X392,referentes!$AX:$AX,0),1))","v":""},null,null,{"$f":"IF(AC392=\"\",\"\",INDEX(referentes!AZ:BA,MATCH(AC392,referentes!BA:BA,0),1))","v":""},null,null,null,null,null,null,null,null,null,null,null,null,null,null,{"$f":"IF(N392<>\"\",INDEX(referentes!$AK:$AM,MATCH(DATOS!M392,referentes!$AK:$AK,0),3),\"\")","v":""},null,null,{"$f":"IF(AS392=\"\",\"\",INDEX(referentes!P:Q,MATCH(AS392,referentes!Q:Q,0),1))","v":""},null,null,null,{"$f":"IF(AY392=\"\",\"\",INDEX(referentes!AB:AC,MATCH(AY392,referentes!AC:AC,0),1))","v":""},null,{"$f":"IF(BA392=\"\",\"\",INDEX(referentes!S:T,MATCH(BA392,referentes!T:T,0),1))","v":""},null,null,{"$f":"IF(AA392=\"\",\"\",INDEX(OtrasReferencias!$AM$7:$AN$9,MATCH(AA392,OtrasReferencias!$AM$7:$AM$9,0),2))","v":""}]
[null,null,"","",{"$f":"IF(T393=\"\",\"\",INDEX(referentes!G:H,MATCH(T393,referentes!H:H,0),1))","v":""},{"$f":"IF(V393=\"\",\"\",INDEX(referentes!$M:$N,MATCH(V393,referentes!$N:$N,0),1))","v":""},{"$f":"IF(W393=\"\",\"\",INDEX(referentes!J:K,MATCH(W393,referentes!K:K,0),1))","v":""},null,{"$f":"IF(Y393<>\"\",CONCATENATE($A$3,P393,DIGITADOR!$M$1,Y393,ROW()),\"\")","v":""},{"$f":"IF(Y393<>\"\",CONCATENATE(P393,INT(Q393*1440),DIGITADOR!$M$1,Y393),\"\")","v":""},null,{"$f":"IF(AO393<>\"\",INDEX(referentes!$Y:$Z,MATCH(DATOS!AO393,referentes!$Z:$Z,0),1),\"\")","v":""},"","",{"$f":"IF(R393=\"\",\"\",INDEX(referentes!D:E,MATCH(R393,referentes!E:E,0),1))","v":""},null,null,null,null,null,null,null,null,null,{"$f":"IF(X393=\"\",\"\",INDEX(referentes!$AT:$AX,MATCH(X393,referentes!$AX:$AX,0),1))","v":""},null,null,{"$f":"IF(AC393=\"\",\"\",INDEX(referentes!AZ:BA,MATCH(AC393,referentes!BA:BA,0),1))","v":""},null,null,null,null,null,null,null,null,null,null,null,null,null,null,{"$f":"IF(N393<>\"\",INDEX(referentes!$AK:$AM,MATCH(DATOS!M393,referentes!$AK:$AK,0),3),\"\")","v":""},null,null,{"$f":"IF(AS393=\"\",\"\",INDEX(referentes!P:Q,MATCH(AS393,referentes!Q:Q,0),1))","v":""},null,null,null,{"$f":"IF(AY393=\"\",\"\",INDEX(referentes!AB:AC,MATCH(AY393,referentes!AC:AC,0),1))","v":""},null,{"$f":"IF(BA393=\"\",\"\",INDEX(referentes!S:T,MATCH(BA393,referentes!T:T,0),1))","v":""},null,null,{"$f":"IF(AA393=\"\",\"\",INDEX(OtrasReferencias!$AM$7:$AN$9,MATCH(AA393,OtrasReferencias!$AM$7:$AM$9,0),2))","v":""}]
[null,null,"","",{"$f":"IF(T394=\"\",\"\",INDEX(referentes!G:H,MATCH(T394,referentes!H:H,0),1))","v":""},{"$f":"IF(V394=\"\",\"\",INDEX(referentes!$M:$N,MATCH(V394,referentes!$N:$N,0),1))","v":""},{"$f":"IF(W394=\"\",\"\",INDEX(referentes!J:K,MATCH(W394,referentes!K:K,0),1))","v":""},null,{"$f":"IF(Y394<>\"\",CONCATENATE($A$3,P394,DIGITADOR!$M$1,Y394,ROW()),\"\")","v":""},{"$f":"IF(Y394<>\"\",CONCATENATE(P394,INT(Q394*1440),DIGITADOR!$M$1,Y394),\"\")","v":""},null,{"$f":"IF(AO394<>\"\",INDEX(referentes!$Y:$Z,MATCH(DATOS!AO394,referentes!$Z:$Z,0),1),\"\")","v":""},"","",{"$f":"IF(R394=\"\",\"\",INDEX(referentes!D:E,MATCH(R394,referentes!E:E,0),1))","v":""},null,null,null,null,null,null,null,null,null,{"$f":"IF(X394=\"\",\"\",INDEX(referentes!$AT:$AX,MATCH(X394,referentes!$AX:$AX,0),1))","v":""},null,null,{"$f":"IF(AC394=\"\",\"\",INDEX(referentes!AZ:BA,MATCH(AC394,referentes!BA:BA,0),1))","v":""},null,null,null,null,null,null,null,null,null,null,null,null,null,null,{"$f":"IF(N394<>\"\",INDEX(referentes!$AK:$AM,MATCH(DATOS!M394,referentes!$AK:$AK,0),3),\"\")","v":""},null,null,{"$f":"IF(AS394=\"\",\"\",INDEX(referentes!P:Q,MATCH(AS394,referentes!Q:Q,0),1))","v":""},null,null,null,{"$f":"IF(AY394=\"\",\"\",INDEX(referentes!AB:AC,MATCH(AY394,referentes!AC:AC,0),1))","v":""},null,{"$f":"IF(BA394=\"\",\"\",INDEX(referentes!S:T,MATCH(BA394,referentes!T:T,0),1))","v":""},null,null,{"$f":"IF(AA394=\"\",\"\",INDEX(OtrasReferencias!$AM$7:$AN$9,MATCH(AA394,OtrasReferencias!$AM$7:$AM$9,0),2))","v":""}]
[null,null,"","",{"$f":"IF(T395=\"\",\"\",INDEX(referentes!G:H,MATCH(T395,referentes!H:H,0),1))","v":""},{"$f":"IF(V395=\"\",\"\",INDEX(referentes!$M:$N,MATCH(V395,referentes!$N:$N,0),1))","v":""},{"$f":"IF(W395=\"\",\"\",INDEX(referentes!J:K,MATCH(W395,referentes!K:K,0),1))","v":""},null,{"$f":"IF(Y395<>\"\",CONCATENATE($A$3,P395,DIGITADOR!$M$1,Y395,ROW()),\"\")","v":""},{"$f":"IF(Y395<>\"\",CONCATENATE(P395,INT(Q395*1440),DIGITADOR!$M$1,Y395),\"\")","v":""},null,{"$f":"IF(AO395<>\"\",INDEX(referentes!$Y:$Z,MATCH(DATOS!AO395,referentes!$Z:$Z,0),1),\"\")","v":""},"","",{"$f":"IF(R395=\"\",\"\",INDEX(referentes!D:E,MATCH(R395,referentes!E:E,0),1))","v":""},null,null,null,null,null,null,null,null,null,{"$f":"IF(X395=\"\",\"\",INDEX(referentes!$AT:$AX,MATCH(X395,referentes!$AX:$AX,0),1))","v":""},null,null,{"$f":"IF(AC395=\"\",\"\",INDEX(referentes!AZ:BA,MATCH(AC395,referentes!BA:BA,0),1))","v":""},null,null,null,null,null,null,null,null,null,null,null,null,null,null,{"$f":"IF(N395<>\"\",INDEX(referentes!$AK:$AM,MATCH(DATOS!M395,referentes!$AK:$AK,0),3),\"\")","v":""},null,null,{"$f":"IF(AS395=\"\",\"\",INDEX(referentes!P:Q,MATCH(AS395,referentes!Q:Q,0),1))","v":""},null,null,null,{"$f":"IF(AY395=\"\",\"\",INDEX(referentes!AB:AC,MATCH(AY395,referentes!AC:AC,0),1))","v":""},null,{"$f":"IF(BA395=\"\",\"\",INDEX(referentes!S:T,MATCH(BA395,referentes!T:T,0),1))","v":""},null,null,{"$f":"IF(AA395=\"\",\"\",INDEX(OtrasReferencias!$AM$7:$AN$9,MATCH(AA395,OtrasReferencias!$AM$7:$AM$9,0),2))","v":""}]
[null,null,"","",{"$f":"IF(T396=\"\",\"\",INDEX(referentes!G:H,MATCH(T396,referentes!H:H,0),1))","v":""},{"$f":"IF(V396=\"\",\"\",INDEX(referentes!$M:$N,MATCH(V396,referentes!$N:$N,0),1))","v":""},{"$f":"IF(W396=\"\",\"\",INDEX(referentes!J:K,MATCH(W396,referentes!K:K,0),1))","v":""},null,{"$f":"IF(Y396<>\"\",CONCATENATE($A$3,P396,DIGITADOR!$M$1,Y396,ROW()),\"\")","v":""},{"$f":"IF(Y396<>\"\",CONCATENATE(P396,INT(Q396*1440),DIGITADOR!$M$1,Y396),\"\")","v":""},null,{"$f":"IF(AO396<>\"\",INDEX(referentes!$Y:$Z,MATCH(DATOS!AO396,referentes!$Z:$Z,0),1),\"\")","v":""},"","",{"$f":"IF(R396=\"\",\"\",INDEX(referentes!D:E,MATCH(R396,referentes!E:E,0),1))","v":""},null,null,null,null,null,null,null,null,null,{"$f":"IF(X396=\"\",\"\",INDEX(referentes!$AT:$AX,MATCH(X396,referentes!$AX:$AX,0),1))","v":""},null,null,{"$f":"IF(AC396=\"\",\"\",INDEX(referentes!AZ:BA,MATCH(AC396,referentes!BA:BA,0),1))","v":""},null,null,null,null,null,null,null,null,null,null,null,null,null,null,{"$f":"IF(N396<>\"\",INDEX(referentes!$AK:$AM,MATCH(DATOS!M396,referentes!$AK:$AK,0),3),\"\")","v":""},null,null,{"$f":"IF(AS396=\"\",\"\",INDEX(referentes!P:Q,MATCH(AS396,referentes!Q:Q,0),1))","v":""},null,null,null,{"$f":"IF(AY396=\"\",\"\",INDEX(referentes!AB:AC,MATCH(AY396,referentes!AC:AC,0),1))","v":""},null,{"$f":"IF(BA396=\"\",\"\",INDEX(referentes!S:T,MATCH(BA396,referentes!T:T,0),1))","v":""},null,null,{"$f":"IF(AA396=\"\",\"\",INDEX(OtrasReferencias!$AM$7:$AN$9,MATCH(AA396,OtrasReferencias!$AM$7:$AM$9,0),2))","v":""}]
[null,null,"","",{"$f":"IF(T397=\"\",\"\",INDEX(referentes!G:H,MATCH(T397,referentes!H:H,0),1))","v":""},{"$f":"IF(V397=\"\",\"\",INDEX(referentes!$M:$N,MATCH(V397,referentes!$N:$N,0),1))","v":""},{"$f":"IF(W397=\"\",\"\",INDEX(referentes!J:K,MATCH(W397,referentes!K:K,0),1))","v":""},null,{"$f":"IF(Y397<>\"\",CONCATENATE($A$3,P397,DIGITADOR!$M$1,Y397,ROW()),\"\")","v":""},{"$f":"IF(Y397<>\"\",CONCATENATE(P397,INT(Q397*1440),DIGITADOR!$M$1,Y397),\"\")","v":""},null,{"$f":"IF(AO397<>\"\",INDEX(referentes!$Y:$Z,MATCH(DATOS!AO397,referentes!$Z:$Z,0),1),\"\")","v":""},"","",{"$f":"IF(R397=\"\",\"\",INDEX(referentes!D:E,MATCH(R397,referentes!E:E,0),1))","v":""},null,null,null,null,null,null,null,null,null,{"$f":"IF(X397=\"\",\"\",INDEX(referentes!$AT:$AX,MATCH(X397,referentes!$AX:$AX,0),1))","v":""},null,null,{"$f":"IF(AC397=\"\",\"\",INDEX(referentes!AZ:BA,MATCH(AC397,referentes!BA:BA,0),1))","v":""},null,null,null,null,null,null,null,null,null,null,null,null,null,null,{"$f":"IF(N397<>\"\",INDEX(referentes!$AK:$AM,MATCH(DATOS!M397,referentes!$AK:$AK,0),3),\"\")","v":""},null,null,{"$f":"IF(AS397=\"\",\"\",INDEX(referentes!P:Q,MATCH(AS397,referentes!Q:Q,0),1))","v":""},null,null,null,{"$f":"IF(AY397=\"\",\"\",INDEX(referentes!AB:AC,MATCH(AY397,referentes!AC:AC,0),1))","v":""},null,{"$f":"IF(BA397=\"\",\"\",INDEX(referentes!S:T,MATCH(BA397,referentes!T:T,0),1))","v":""},null,null,{"$f":"IF(AA397=\"\",\"\",INDEX(OtrasReferencias!$AM$7:$AN$9,MATCH(AA397,OtrasReferencias!$AM$7:$AM$9,0),2))","v":""}]
[null,null,"","",{"$f":"IF(T398=\"\",\"\",INDEX(referentes!G:H,MATCH(T398,referentes!H:H,0),1))","v":""},{"$f":"IF(V398=\"\",\"\",INDEX(referentes!$M:$N,MATCH(V398,referentes!$N:$N,0),1))","v":""},{"$f":"IF(W398=\"\",\"\",INDEX(referentes!J:K,MATCH(W398,referentes!K:K,0),1))","v":""},null,{"$f":"IF(Y398<>\"\",CONCATENATE($A$3,P398,DIGITADOR!$M$1,Y398,ROW()),\"\")","v":""},{"$f":"IF(Y398<>\"\",CONCATENATE(P398,INT(Q398*1440),DIGITADOR!$M$1,Y398),\"\")","v":""},null,{"$f":"IF(AO398<>\"\",INDEX(referentes!$Y:$Z,MATCH(DATOS!AO398,referentes!$Z:$Z,0),1),\"\")","v":""},"","",{"$f":"IF(R398=\"\",\"\",INDEX(referentes!D:E,MATCH(R398,referentes!E:E,0),1))","v":""},null,null,null,null,null,null,null,null,null,{"$f":"IF(X398=\"\",\"\",INDEX(referentes!$AT:$AX,MATCH(X398,referentes!$AX:$AX,0),1))","v":""},null,null,{"$f":"IF(AC398=\"\",\"\",INDEX(referentes!AZ:BA,MATCH(AC398,referentes!BA:BA,0),1))","v":""},null,null,null,null,null,null,null,null,null,null,null,null,null,null,{"$f":"IF(N398<>\"\",INDEX(referentes!$AK:$AM,MATCH(DATOS!M398,referentes!$AK:$AK,0),3),\"\")","v":""},null,null,{"$f":"IF(AS398=\"\",\"\",INDEX(referentes!P:Q,MATCH(AS398,referentes!Q:Q,0),1))","v":""},null,null,null,{"$f":"IF(AY398=\"\",\"\",INDEX(referentes!AB:AC,MATCH(AY398,referentes!AC:AC,0),1))","v":""},null,{"$f":"IF(BA398=\"\",\"\",INDEX(referentes!S:T,MATCH(BA398,referentes!T:T,0),1))","v":""},null,null,{"$f":"IF(AA398=\"\",\"\",INDEX(OtrasReferencias!$AM$7:$AN$9,MATCH(AA398,OtrasReferencias!$AM$7:$AM$9,0),2))","v":""}]
[null,null,"","",{"$f":"IF(T399=\"\",\"\",INDEX(referentes!G:H,MATCH(T399,referentes!H:H,0),1))","v":""},{"$f":"IF(V399=\"\",\"\",INDEX(referentes!$M:$N,MATCH(V399,referentes!$N:$N,0),1))","v":""},{"$f":"IF(W399=\"\",\"\",INDEX(referentes!J:K,MATCH(W399,referentes!K:K,0),1))","v":""},null,{"$f":"IF(Y399<>\"\",CONCATENATE($A$3,P399,DIGITADOR!$M$1,Y399,ROW()),\"\")","v":""},{"$f":"IF(Y399<>\"\",CONCATENATE(P399,INT(Q399*1440),DIGITADOR!$M$1,Y399),\"\")","v":""},null,{"$f":"IF(AO399<>\"\",INDEX(referentes!$Y:$Z,MATCH(DATOS!AO399,referentes!$Z:$Z,0),1),\"\")","v":""},"","",{"$f":"IF(R399=\"\",\"\",INDEX(referentes!D:E,MATCH(R399,referentes!E:E,0),1))","v":""},null,null,null,null,null,null,null,null,null,{"$f":"IF(X399=\"\",\"\",INDEX(referentes!$AT:$AX,MATCH(X399,referentes!$AX:$AX,0),1))","v":""},null,null,{"$f":"IF(AC399=\"\",\"\",INDEX(referentes!AZ:BA,MATCH(AC399,referentes!BA:BA,0),1))","v":""},null,null,null,null,null,null,null,null,null,null,null,null,null,null,{"$f":"IF(N399<>\"\",INDEX(referentes!$AK:$AM,MATCH(DATOS!M399,referentes!$AK:$AK,0),3),\"\")","v":""},null,null,{"$f":"IF(AS399=\"\",\"\",INDEX(referentes!P:Q,MATCH(AS399,referentes!Q:Q,0),1))","v":""},null,null,null,{"$f":"IF(AY399=\"\",\"\",INDEX(referentes!AB:AC,MATCH(AY399,referentes!AC:AC,0),1))","v":""},null,{"$f":"IF(BA399=\"\",\"\",INDEX(referentes!S:T,MATCH(BA399,referentes!T:T,0),1))","v":""},null,null,{"$f":"IF(AA399=\"\",\"\",INDEX(OtrasReferencias!$AM$7:$AN$9,MATCH(AA399,OtrasReferencias!$AM$7:$AM$9,0),2))","v":""}]
[null,null,"","",{"$f":"IF(T400=\"\",\"\",INDEX(referentes!G:H,MATCH(T400,referentes!H:H,0),1))","v":""},{"$f":"IF(V400=\"\",\"\",INDEX(referentes!$M:$N,MATCH(V400,referentes!$N:$N,0),1))","v":""},{"$f":"IF(W400=\"\",\"\",INDEX(referentes!J:K,MATCH(W400,referentes!K:K,0),1))","v":""},null,{"$f":"IF(Y400<>\"\",CONCATENATE($A$3,P400,DIGITADOR!$M$1,Y400,ROW()),\"\")","v":""},{"$f":"IF(Y400<>\"\",CONCATENATE(P400,INT(Q400*1440),DIGITADOR!$M$1,Y400),\"\")","v":""},null,{"$f":"IF(AO400<>\"\",INDEX(referentes!$Y:$Z,MATCH(DATOS!AO400,referentes!$Z:$Z,0),1),\"\")","v":""},"","",{"$f":"IF(R400=\"\",\"\",INDEX(referentes!D:E,MATCH(R400,referentes!E:E,0),1))","v":""},null,null,null,null,null,null,null,null,null,{"$f":"IF(X400=\"\",\"\",INDEX(referentes!$AT:$AX,MATCH(X400,referentes!$AX:$AX,0),1))","v":""},null,null,{"$f":"IF(AC400=\"\",\"\",INDEX(referentes!AZ:BA,MATCH(AC400,referentes!BA:BA,0),1))","v":""},null,null,null,null,null,null,null,null,null,null,null,null,null,null,{"$f":"IF(N400<>\"\",INDEX(referentes!$AK:$AM,MATCH(DATOS!M400,referentes!$AK:$AK,0),3),\"\")","v":""},null,null,{"$f":"IF(AS400=\"\",\"\",INDEX(referentes!P:Q,MATCH(AS400,referentes!Q:Q,0),1))","v":""},null,null,null,{"$f":"IF(AY400=\"\",\"\",INDEX(referentes!AB:AC,MATCH(AY400,referentes!AC:AC,0),1))","v":""},null,{"$f":"IF(BA400=\"\",\"\",INDEX(referentes!S:T,MATCH(BA400,referentes!T:T,0),1))","v":""},null,null,{"$f":"IF(AA400=\"\",\"\",INDEX(OtrasReferencias!$AM$7:$AN$9,MATCH(AA400,OtrasReferencias!$AM$7:$AM$9,0),2))","v":""}]
[null,null,"","",{"$f":"IF(T401=\"\",\"\",INDEX(referentes!G:H,MATCH(T401,referentes!H:H,0),1))","v":""},{"$f":"IF(V401=\"\",\"\",INDEX(referentes!$M:$N,MATCH(V401,referentes!$N:$N,0),1))","v":""},{"$f":"IF(W401=\"\",\"\",INDEX(referentes!J:K,MATCH(W401,referentes!K:K,0),1))","v":""},null,{"$f":"IF(Y401<>\"\",CONCATENATE($A$3,P401,DIGITADOR!$M$1,Y401,ROW()),\"\")","v":""},{"$f":"IF(Y401<>\"\",CONCATENATE(P401,INT(Q401*1440),DIGITADOR!$M$1,Y401),\"\")","v":""},null,{"$f":"IF(AO401<>\"\",INDEX(referentes!$Y:$Z,MATCH(DATOS!AO401,referentes!$Z:$Z,0),1),\"\")","v":""},"","",{"$f":"IF(R401=\"\",\"\",INDEX(referentes!D:E,MATCH(R401,referentes!E:E,0),1))","v":""},null,null,null,null,null,null,null,null,null,{"$f":"IF(X401=\"\",\"\",INDEX(referentes!$AT:$AX,MATCH(X401,referentes!$AX:$AX,0),1))","v":""},null,null,{"$f":"IF(AC401=\"\",\"\",INDEX(referentes!AZ:BA,MATCH(AC401,referentes!BA:BA,0),1))","v":""},null,null,null,null,null,null,null,null,null,null,null,null,null,null,{"$f":"IF(N401<>\"\",INDEX(referentes!$AK:$AM,MATCH(DATOS!M401,referentes!$AK:$AK,0),3),\"\")","v":""},null,null,{"$f":"IF(AS401=\"\",\"\",INDEX(referentes!P:Q,MATCH(AS401,referentes!Q:Q,0),1))","v":""},null,null,null,{"$f":"IF(AY401=\"\",\"\",INDEX(referentes!AB:AC,MATCH(AY401,referentes!AC:AC,0),1))","v":""},null,{"$f":"IF(BA401=\"\",\"\",INDEX(referentes!S:T,MATCH(BA401,referentes!T:T,0),1))","v":""},null,null,{"$f":"IF(AA401=\"\",\"\",INDEX(OtrasReferencias!$AM$7:$AN$9,MATCH(AA401,OtrasReferencias!$AM$7:$AM$9,0),2))","v":""}]
[null,null,"","",{"$f":"IF(T402=\"\",\"\",INDEX(referentes!G:H,MATCH(T402,referentes!H:H,0),1))","v":""},{"$f":"IF(V402=\"\",\"\",INDEX(referentes!$M:$N,MATCH(V402,referentes!$N:$N,0),1))","v":""},{"$f":"IF(W402=\"\",\"\",INDEX(referentes!J:K,MATCH(W402,referentes!K:K,0),1))","v":""},null,{"$f":"IF(Y402<>\"\",CONCATENATE($A$3,P402,DIGITADOR!$M$1,Y402,ROW()),\"\")","v":""},{"$f":"IF(Y402<>\"\",CONCATENATE(P402,INT(Q402*1440),DIGITADOR!$M$1,Y402),\"\")","v":""},null,{"$f":"IF(AO402<>\"\",INDEX(referentes!$Y:$Z,MATCH(DATOS!AO402,referentes!$Z:$Z,0),1),\"\")","v":""},"","",{"$f":"IF(R402=\"\",\"\",INDEX(referentes!D:E,MATCH(R402,referentes!E:E,0),1))","v":""},null,null,null,null,null,null,null,null,null,{"$f":"IF(X402=\"\",\"\",INDEX(referentes!$AT:$AX,MATCH(X402,referentes!$AX:$AX,0),1))","v":""},null,null,{"$f":"IF(AC402=\"\",\"\",INDEX(referentes!AZ:BA,MATCH(AC402,referentes!BA:BA,0),1))","v":""},null,null,null,null,null,null,null,null,null,null,null,null,null,null,{"$f":"IF(N402<>\"\",INDEX(referentes!$AK:$AM,MATCH(DATOS!M402,referentes!$AK:$AK,0),3),\"\")","v":""},null,null,{"$f":"IF(AS402=\"\",\"\",INDEX(referentes!P:Q,MATCH(AS402,referentes!Q:Q,0),1))","v":""},null,null,null,{"$f":"IF(AY402=\"\",\"\",INDEX(referentes!AB:AC,MATCH(AY402,referentes!AC:AC,0),1))","v":""},null,{"$f":"IF(BA402=\"\",\"\",INDEX(referentes!S:T,MATCH(BA402,referentes!T:T,0),1))","v":""},null,null,{"$f":"IF(AA402=\"\",\"\",INDEX(OtrasReferencias!$AM$7:$AN$9,MATCH(AA402,OtrasReferencias!$AM$7:$AM$9,0),2))","v":""}]
[null,null,"","",{"$f":"IF(T403=\"\",\"\",INDEX(referentes!G:H,MATCH(T403,referentes!H:H,0),1))","v":""},{"$f":"IF(V403=\"\",\"\",INDEX(referentes!$M:$N,MATCH(V403,referentes!$N:$N,0),1))","v":""},{"$f":"IF(W403=\"\",\"\",INDEX(referentes!J:K,MATCH(W403,referentes!K:K,0),1))","v":""},null,{"$f":"IF(Y403<>\"\",CONCATENATE($A$3,P403,DIGITADOR!$M$1,Y403,ROW()),\"\")","v":""},{"$f":"IF(Y403<>\"\",CONCATENATE(P403,INT(Q403*1440),DIGITADOR!$M$1,Y403),\"\")","v":""},null,{"$f":"IF(AO403<>\"\",INDEX(referentes!$Y:$Z,MATCH(DATOS!AO403,referentes!$Z:$Z,0),1),\"\")","v":""},"","",{"$f":"IF(R403=\"\",\"\",INDEX(referentes!D:E,MATCH(R403,referentes!E:E,0),1))","v":""},null,null,null,null,null,null,null,null,null,{"$f":"IF(X403=\"\",\"\",INDEX(referentes!$AT:$AX,MATCH(X403,referentes!$AX:$AX,0),1))","v":""},null,null,{"$f":"IF(AC403=\"\",\"\",INDEX(referentes!AZ:BA,MATCH(AC403,referentes!BA:BA,0),1))","v":""},null,null,null,null,null,null,null,null,null,null,null,null,null,null,{"$f":"IF(N403<>\"\",INDEX(referentes!$AK:$AM,MATCH(DATOS!M403,referentes!$AK:$AK,0),3),\"\")","v":""},null,null,{"$f":"IF(AS403=\"\",\"\",INDEX(referentes!P:Q,MATCH(AS403,referentes!Q:Q,0),1))","v":""},null,null,null,{"$f":"IF(AY403=\"\",\"\",INDEX(referentes!AB:AC,MATCH(AY403,referentes!AC:AC,0),1))","v":""},null,{"$f":"IF(BA403=\"\",\"\",INDEX(referentes!S:T,MATCH(BA403,referentes!T:T,0),1))","v":""},null,null,{"$f":"IF(AA403=\"\",\"\",INDEX(OtrasReferencias!$AM$7:$AN$9,MATCH(AA403,OtrasReferencias!$AM$7:$AM$9,0),2))","v":""}]
[null,null,"","",{"$f":"IF(T404=\"\",\"\",INDEX(referentes!G:H,MATCH(T404,referentes!H:H,0),1))","v":""},{"$f":"IF(V404=\"\",\"\",INDEX(referentes!$M:$N,MATCH(V404,referentes!$N:$N,0),1))","v":""},{"$f":"IF(W404=\"\",\"\",INDEX(referentes!J:K,MATCH(W404,referentes!K:K,0),1))","v":""},null,{"$f":"IF(Y404<>\"\",CONCATENATE($A$3,P404,DIGITADOR!$M$1,Y404,ROW()),\"\")","v":""},{"$f":"IF(Y404<>\"\",CONCATENATE(P404,INT(Q404*1440),DIGITADOR!$M$1,Y404),\"\")","v":""},null,{"$f":"IF(AO404<>\"\",INDEX(referentes!$Y:$Z,MATCH(DATOS!AO404,referentes!$Z:$Z,0),1),\"\")","v":""},"","",{"$f":"IF(R404=\"\",\"\",INDEX(referentes!D:E,MATCH(R404,referentes!E:E,0),1))","v":""},null,null,null,null,null,null,null,null,null,{"$f":"IF(X404=\"\",\"\",INDEX(referentes!$AT:$AX,MATCH(X404,referentes!$AX:$AX,0),1))","v":""},null,null,{"$f":"IF(AC404=\"\",\"\",INDEX(referentes!AZ:BA,MATCH(AC404,referentes!BA:BA,0),1))","v":""},null,null,null,null,null,null,null,null,null,null,null,null,null,null,{"$f":"IF(N404<>\"\",INDEX(referentes!$AK:$AM,MATCH(DATOS!M404,referentes!$AK:$AK,0),3),\"\")","v":""},null,null,{"$f":"IF(AS404=\"\",\"\",INDEX(referentes!P:Q,MATCH(AS404,referentes!Q:Q,0),1))","v":""},null,null,null,{"$f":"IF(AY404=\"\",\"\",INDEX(referentes!AB:AC,MATCH(AY404,referentes!AC:AC,0),1))","v":""},null,{"$f":"IF(BA404=\"\",\"\",INDEX(referentes!S:T,MATCH(BA404,referentes!T:T,0),1))","v":""},null,null,{"$f":"IF(AA404=\"\",\"\",INDEX(OtrasReferencias!$AM$7:$AN$9,MATCH(AA404,OtrasReferencias!$AM$7:$AM$9,0),2))","v":""}]
[null,null,"","",{"$f":"IF(T405=\"\",\"\",INDEX(referentes!G:H,MATCH(T405,referentes!H:H,0),1))","v":""},{"$f":"IF(V405=\"\",\"\",INDEX(referentes!$M:$N,MATCH(V405,referentes!$N:$N,0),1))","v":""},{"$f":"IF(W405=\"\",\"\",INDEX(referentes!J:K,MATCH(W405,referentes!K:K,0),1))","v":""},null,{"$f":"IF(Y405<>\"\",CONCATENATE($A$3,P405,DIGITADOR!$M$1,Y405,ROW()),\"\")","v":""},{"$f":"IF(Y405<>\"\",CONCATENATE(P405,INT(Q405*1440),DIGITADOR!$M$1,Y405),\"\")","v":""},null,{"$f":"IF(AO405<>\"\",INDEX(referentes!$Y:$Z,MATCH(DATOS!AO405,referentes!$Z:$Z,0),1),\"\")","v":""},"","",{"$f":"IF(R405=\"\",\"\",INDEX(referentes!D:E,MATCH(R405,referentes!E:E,0),1))","v":""},null,null,null,null,null,null,null,null,null,{"$f":"IF(X405=\"\",\"\",INDEX(referentes!$AT:$AX,MATCH(X405,referentes!$AX:$AX,0),1))","v":""},null,null,{"$f":"IF(AC405=\"\",\"\",INDEX(referentes!AZ:BA,MATCH(AC405,referentes!BA:BA,0),1))","v":""},null,null,null,null,null,null,null,null,null,null,null,null,null,null,{"$f":"IF(N405<>\"\",INDEX(referentes!$AK:$AM,MATCH(DATOS!M405,referentes!$AK:$AK,0),3),\"\")","v":""},null,null,{"$f":"IF(AS405=\"\",\"\",INDEX(referentes!P:Q,MATCH(AS405,referentes!Q:Q,0),1))","v":""},null,null,null,{"$f":"IF(AY405=\"\",\"\",INDEX(referentes!AB:AC,MATCH(AY405,referentes!AC:AC,0),1))","v":""},null,{"$f":"IF(BA405=\"\",\"\",INDEX(referentes!S:T,MATCH(BA405,referentes!T:T,0),1))","v":""},null,null,{"$f":"IF(AA405=\"\",\"\",INDEX(OtrasReferencias!$AM$7:$AN$9,MATCH(AA405,OtrasReferencias!$AM$7:$AM$9,0),2))","v":""}]
[null,null,"","",{"$f":"IF(T406=\"\",\"\",INDEX(referentes!G:H,MATCH(T406,referentes!H:H,0),1))","v":""},{"$f":"IF(V406=\"\",\"\",INDEX(referentes!$M:$N,MATCH(V406,referentes!$N:$N,0),1))","v":""},{"$f":"IF(W406=\"\",\"\",INDEX(referentes!J:K,MATCH(W406,referentes!K:K,0),1))","v":""},null,{"$f":"IF(Y406<>\"\",CONCATENATE($A$3,P406,DIGITADOR!$M$1,Y406,ROW()),\"\")","v":""},{"$f":"IF(Y406<>\"\",CONCATENATE(P406,INT(Q406*1440),DIGITADOR!$M$1,Y406),\"\")","v":""},null,{"$f":"IF(AO406<>\"\",INDEX(referentes!$Y:$Z,MATCH(DATOS!AO406,referentes!$Z:$Z,0),1),\"\")","v":""},"","",{"$f":"IF(R406=\"\",\"\",INDEX(referentes!D:E,MATCH(R406,referentes!E:E,0),1))","v":""},null,null,null,null,null,null,null,null,null,{"$f":"IF(X406=\"\",\"\",INDEX(referentes!$AT:$AX,MATCH(X406,referentes!$AX:$AX,0),1))","v":""},null,null,{"$f":"IF(AC406=\"\",\"\",INDEX(referentes!AZ:BA,MATCH(AC406,referentes!BA:BA,0),1))","v":""},null,null,null,null,null,null,null,null,null,null,null,null,null,null,{"$f":"IF(N406<>\"\",INDEX(referentes!$AK:$AM,MATCH(DATOS!M406,referentes!$AK:$AK,0),3),\"\")","v":""},null,null,{"$f":"IF(AS406=\"\",\"\",INDEX(referentes!P:Q,MATCH(AS406,referentes!Q:Q,0),1))","v":""},null,null,null,{"$f":"IF(AY406=\"\",\"\",INDEX(referentes!AB:AC,MATCH(AY406,referentes!AC:AC,0),1))","v":""},null,{"$f":"IF(BA406=\"\",\"\",INDEX(referentes!S:T,MATCH(BA406,referentes!T:T,0),1))","v":""},null,null,{"$f":"IF(AA406=\"\",\"\",INDEX(OtrasReferencias!$AM$7:$AN$9,MATCH(AA406,OtrasReferencias!$AM$7:$AM$9,0),2))","v":""}]
[null,null,"","",{"$f":"IF(T407=\"\",\"\",INDEX(referentes!G:H,MATCH(T407,referentes!H:H,0),1))","v":""},{"$f":"IF(V407=\"\",\"\",INDEX(referentes!$M:$N,MATCH(V407,referentes!$N:$N,0),1))","v":""},{"$f":"IF(W407=\"\",\"\",INDEX(referentes!J:K,MATCH(W407,referentes!K:K,0),1))","v":""},null,{"$f":"IF(Y407<>\"\",CONCATENATE($A$3,P407,DIGITADOR!$M$1,Y407,ROW()),\"\")","v":""},{"$f":"IF(Y407<>\"\",CONCATENATE(P407,INT(Q407*1440),DIGITADOR!$M$1,Y407),\"\")","v":""},null,{"$f":"IF(AO407<>\"\",INDEX(referentes!$Y:$Z,MATCH(DATOS!AO407,referentes!$Z:$Z,0),1),\"\")","v":""},"","",{"$f":"IF(R407=\"\",\"\",INDEX(referentes!D:E,MATCH(R407,referentes!E:E,0),1))","v":""},null,null,null,null,null,null,null,null,null,{"$f":"IF(X407=\"\",\"\",INDEX(referentes!$AT:$AX,MATCH(X407,referentes!$AX:$AX,0),1))","v":""},null,null,{"$f":"IF(AC407=\"\",\"\",INDEX(referentes!AZ:BA,MATCH(AC407,referentes!BA:BA,0),1))","v":""},null,null,null,null,null,null,null,null,null,null,null,null,null,null,{"$f":"IF(N407<>\"\",INDEX(referentes!$AK:$AM,MATCH(DATOS!M407,referentes!$AK:$AK,0),3),\"\")","v":""},null,null,{"$f":"IF(AS407=\"\",\"\",INDEX(referentes!P:Q,MATCH(AS407,referentes!Q:Q,0),1))","v":""},null,null,null,{"$f":"IF(AY407=\"\",\"\",INDEX(referentes!AB:AC,MATCH(AY407,referentes!AC:AC,0),1))","v":""},null,{"$f":"IF(BA407=\"\",\"\",INDEX(referentes!S:T,MATCH(BA407,referentes!T:T,0),1))","v":""},null,null,{"$f":"IF(AA407=\"\",\"\",INDEX(OtrasReferencias!$AM$7:$AN$9,MATCH(AA407,OtrasReferencias!$AM$7:$AM$9,0),2))","v":""}]
[null,null,"","",{"$f":"IF(T408=\"\",\"\",INDEX(referentes!G:H,MATCH(T408,referentes!H:H,0),1))","v":""},{"$f":"IF(V408=\"\",\"\",INDEX(referentes!$M:$N,MATCH(V408,referentes!$N:$N,0),1))","v":""},{"$f":"IF(W408=\"\",\"\",INDEX(referentes!J:K,MATCH(W408,referentes!K:K,0),1))","v":""},null,{"$f":"IF(Y408<>\"\",CONCATENATE($A$3,P408,DIGITADOR!$M$1,Y408,ROW()),\"\")","v":""},{"$f":"IF(Y408<>\"\",CONCATENATE(P408,INT(Q408*1440),DIGITADOR!$M$1,Y408),\"\")","v":""},null,{"$f":"IF(AO408<>\"\",INDEX(referentes!$Y:$Z,MATCH(DATOS!AO408,referentes!$Z:$Z,0),1),\"\")","v":""},"","",{"$f":"IF(R408=\"\",\"\",INDEX(referentes!D:E,MATCH(R408,referentes!E:E,0),1))","v":""},null,null,null,null,null,null,null,null,null,{"$f":"IF(X408=\"\",\"\",INDEX(referentes!$AT:$AX,MATCH(X408,referentes!$AX:$AX,0),1))","v":""},null,null,{"$f":"IF(AC408=\"\",\"\",INDEX(referentes!AZ:BA,MATCH(AC408,referentes!BA:BA,0),1))","v":""},null,null,null,null,null,null,null,null,null,null,null,null,null,null,{"$f":"IF(N408<>\"\",INDEX(referentes!$AK:$AM,MATCH(DATOS!M408,referentes!$AK:$AK,0),3),\"\")","v":""},null,null,{"$f":"IF(AS408=\"\",\"\",INDEX(referentes!P:Q,MATCH(AS408,referentes!Q:Q,0),1))","v":""},null,null,null,{"$f":"IF(AY408=\"\",\"\",INDEX(referentes!AB:AC,MATCH(AY408,referentes!AC:AC,0),1))","v":""},null,{"$f":"IF(BA408=\"\",\"\",INDEX(referentes!S:T,MATCH(BA408,referentes!T:T,0),1))","v":""},null,null,{"$f":"IF(AA408=\"\",\"\",INDEX(OtrasReferencias!$AM$7:$AN$9,MATCH(AA408,OtrasReferencias!$AM$7:$AM$9,0),2))","v":""}]
[null,null,"","",{"$f":"IF(T409=\"\",\"\",INDEX(referentes!G:H,MATCH(T409,referentes!H:H,0),1))","v":""},{"$f":"IF(V409=\"\",\"\",INDEX(referentes!$M:$N,MATCH(V409,referentes!$N:$N,0),1))","v":""},{"$f":"IF(W409=\"\",\"\",INDEX(referentes!J:K,MATCH(W409,referentes!K:K,0),1))","v":""},null,{"$f":"IF(Y409<>\"\",CONCATENATE($A$3,P409,DIGITADOR!$M$1,Y409,ROW()),\"\")","v":""},{"$f":"IF(Y409<>\"\",CONCATENATE(P409,INT(Q409*1440),DIGITADOR!$M$1,Y409),\"\")","v":""},null,{"$f":"IF(AO409<>\"\",INDEX(referentes!$Y:$Z,MATCH(DATOS!AO409,referentes!$Z:$Z,0),1),\"\")","v":""},"","",{"$f":"IF(R409=\"\",\"\",INDEX(referentes!D:E,MATCH(R409,referentes!E:E,0),1))","v":""},null,null,null,null,null,null,null,null,null,{"$f":"IF(X409=\"\",\"\",INDEX(referentes!$AT:$AX,MATCH(X409,referentes!$AX:$AX,0),1))","v":""},null,null,{"$f":"IF(AC409=\"\",\"\",INDEX(referentes!AZ:BA,MATCH(AC409,referentes!BA:BA,0),1))","v":""},null,null,null,null,null,null,null,null,null,null,null,null,null,null,{"$f":"IF(N409<>\"\",INDEX(referentes!$AK:$AM,MATCH(DATOS!M409,referentes!$AK:$AK,0),3),\"\")","v":""},null,null,{"$f":"IF(AS409=\"\",\"\",INDEX(referentes!P:Q,MATCH(AS409,referentes!Q:Q,0),1))","v":""},null,null,null,{"$f":"IF(AY409=\"\",\"\",INDEX(referentes!AB:AC,MATCH(AY409,referentes!AC:AC,0),1))","v":""},null,{"$f":"IF(BA409=\"\",\"\",INDEX(referentes!S:T,MATCH(BA409,referentes!T:T,0),1))","v":""},null,null,{"$f":"IF(AA409=\"\",\"\",INDEX(OtrasReferencias!$AM$7:$AN$9,MATCH(AA409,OtrasReferencias!$AM$7:$AM$9,0),2))","v":""}]
[null,null,"","",{"$f":"IF(T410=\"\",\"\",INDEX(referentes!G:H,MATCH(T410,referentes!H:H,0),1))","v":""},{"$f":"IF(V410=\"\",\"\",INDEX(referentes!$M:$N,MATCH(V410,referentes!$N:$N,0),1))","v":""},{"$f":"IF(W410=\"\",\"\",INDEX(referentes!J:K,MATCH(W410,referentes!K:K,0),1))","v":""},null,{"$f":"IF(Y410<>\"\",CONCATENATE($A$3,P410,DIGITADOR!$M$1,Y410,ROW()),\"\")","v":""},{"$f":"IF(Y410<>\"\",CONCATENATE(P410,INT(Q410*1440),DIGITADOR!$M$1,Y410),\"\")","v":""},null,{"$f":"IF(AO410<>\"\",INDEX(referentes!$Y:$Z,MATCH(DATOS!AO410,referentes!$Z:$Z,0),1),\"\")","v":""},"","",{"$f":"IF(R410=\"\",\"\",INDEX(referentes!D:E,MATCH(R410,referentes!E:E,0),1))","v":""},null,null,null,null,null,null,null,null,null,{"$f":"IF(X410=\"\",\"\",INDEX(referentes!$AT:$AX,MATCH(X410,referentes!$AX:$AX,0),1))","v":""},null,null,{"$f":"IF(AC410=\"\",\"\",INDEX(referentes!AZ:BA,MATCH(AC410,referentes!BA:BA,0),1))","v":""},null,null,null,null,null,null,null,null,null,null,null,null,null,null,{"$f":"IF(N410<>\"\",INDEX(referentes!$AK:$AM,MATCH(DATOS!M410,referentes!$AK:$AK,0),3),\"\")","v":""},null,null,{"$f":"IF(AS410=\"\",\"\",INDEX(referentes!P:Q,MATCH(AS410,referentes!Q:Q,0),1))","v":""},null,null,null,{"$f":"IF(AY410=\"\",\"\",INDEX(referentes!AB:AC,MATCH(AY410,referentes!AC:AC,0),1))","v":""},null,{"$f":"IF(BA410=\"\",\"\",INDEX(referentes!S:T,MATCH(BA410,referentes!T:T,0),1))","v":""},null,null,{"$f":"IF(AA410=\"\",\"\",INDEX(OtrasReferencias!$AM$7:$AN$9,MATCH(AA410,OtrasReferencias!$AM$7:$AM$9,0),2))","v":""}]
[null,null,"","",{"$f":"IF(T411=\"\",\"\",INDEX(referentes!G:H,MATCH(T411,referentes!H:H,0),1))","v":""},{"$f":"IF(V411=\"\",\"\",INDEX(referentes!$M:$N,MATCH(V411,referentes!$N:$N,0),1))","v":""},{"$f":"IF(W411=\"\",\"\",INDEX(referentes!J:K,MATCH(W411,referentes!K:K,0),1))","v":""},null,{"$f":"IF(Y411<>\"\",CONCATENATE($A$3,P411,DIGITADOR!$M$1,Y411,ROW()),\"\")","v":""},{"$f":"IF(Y411<>\"\",CONCATENATE(P411,INT(Q411*1440),DIGITADOR!$M$1,Y411),\"\")","v":""},null,{"$f":"IF(AO411<>\"\",INDEX(referentes!$Y:$Z,MATCH(DATOS!AO411,referentes!$Z:$Z,0),1),\"\")","v":""},"","",{"$f":"IF(R411=\"\",\"\",INDEX(referentes!D:E,MATCH(R411,referentes!E:E,0),1))","v":""},null,null,null,null,null,null,null,null,null,{"$f":"IF(X411=\"\",\"\",INDEX(referentes!$AT:$AX,MATCH(X411,referentes!$AX:$AX,0),1))","v":""},null,null,{"$f":"IF(AC411=\"\",\"\",INDEX(referentes!AZ:BA,MATCH(AC411,referentes!BA:BA,0),1))","v":""},null,null,null,null,null,null,null,null,null,null,null,null,null,null,{"$f":"IF(N411<>\"\",INDEX(referentes!$AK:$AM,MATCH(DATOS!M411,referentes!$AK:$AK,0),3),\"\")","v":""},null,null,{"$f":"IF(AS411=\"\",\"\",INDEX(referentes!P:Q,MATCH(AS411,referentes!Q:Q,0),1))","v":""},null,null,null,{"$f":"IF(AY411=\"\",\"\",INDEX(referentes!AB:AC,MATCH(AY411,referentes!AC:AC,0),1))","v":""},null,{"$f":"IF(BA411=\"\",\"\",INDEX(referentes!S:T,MATCH(BA411,referentes!T:T,0),1))","v":""},null,null,{"$f":"IF(AA411=\"\",\"\",INDEX(OtrasReferencias!$AM$7:$AN$9,MATCH(AA411,OtrasReferencias!$AM$7:$AM$9,0),2))","v":""}]
[null,null,"","",{"$f":"IF(T412=\"\",\"\",INDEX(referentes!G:H,MATCH(T412,referentes!H:H,0),1))","v":""},{"$f":"IF(V412=\"\",\"\",INDEX(referentes!$M:$N,MATCH(V412,referentes!$N:$N,0),1))","v":""},{"$f":"IF(W412=\"\",\"\",INDEX(referentes!J:K,MATCH(W412,referentes!K:K,0),1))","v":""},null,{"$f":"IF(Y412<>\"\",CONCATENATE($A$3,P412,DIGITADOR!$M$1,Y412,ROW()),\"\")","v":""},{"$f":"IF(Y412<>\"\",CONCATENATE(P412,INT(Q412*1440),DIGITADOR!$M$1,Y412),\"\")","v":""},null,{"$f":"IF(AO412<>\"\",INDEX(referentes!$Y:$Z,MATCH(DATOS!AO412,referentes!$Z:$Z,0),1),\"\")","v":""},"","",{"$f":"IF(R412=\"\",\"\",INDEX(referentes!D:E,MATCH(R412,referentes!E:E,0),1))","v":""},null,null,null,null,null,null,null,null,null,{"$f":"IF(X412=\"\",\"\",INDEX(referentes!$AT:$AX,MATCH(X412,referentes!$AX:$AX,0),1))","v":""},null,null,{"$f":"IF(AC412=\"\",\"\",INDEX(referentes!AZ:BA,MATCH(AC412,referentes!BA:BA,0),1))","v":""},null,null,null,null,null,null,null,null,null,null,null,null,null,null,{"$f":"IF(N412<>\"\",INDEX(referentes!$AK:$AM,MATCH(DATOS!M412,referentes!$AK:$AK,0),3),\"\")","v":""},null,null,{"$f":"IF(AS412=\"\",\"\",INDEX(referentes!P:Q,MATCH(AS412,referentes!Q:Q,0),1))","v":""},null,null,null,{"$f":"IF(AY412=\"\",\"\",INDEX(referentes!AB:AC,MATCH(AY412,referentes!AC:AC,0),1))","v":""},null,{"$f":"IF(BA412=\"\",\"\",INDEX(referentes!S:T,MATCH(BA412,referentes!T:T,0),1))","v":""},null,null,{"$f":"IF(AA412=\"\",\"\",INDEX(OtrasReferencias!$AM$7:$AN$9,MATCH(AA412,OtrasReferencias!$AM$7:$AM$9,0),2))","v":""}]
[null,null,"","",{"$f":"IF(T413=\"\",\"\",INDEX(referentes!G:H,MATCH(T413,referentes!H:H,0),1))","v":""},{"$f":"IF(V413=\"\",\"\",INDEX(referentes!$M:$N,MATCH(V413,referentes!$N:$N,0),1))","v":""},{"$f":"IF(W413=\"\",\"\",INDEX(referentes!J:K,MATCH(W413,referentes!K:K,0),1))","v":""},null,{"$f":"IF(Y413<>\"\",CONCATENATE($A$3,P413,DIGITADOR!$M$1,Y413,ROW()),\"\")","v":""},{"$f":"IF(Y413<>\"\",CONCATENATE(P413,INT(Q413*1440),DIGITADOR!$M$1,Y413),\"\")","v":""},null,{"$f":"IF(AO413<>\"\",INDEX(referentes!$Y:$Z,MATCH(DATOS!AO413,referentes!$Z:$Z,0),1),\"\")","v":""},"","",{"$f":"IF(R413=\"\",\"\",INDEX(referentes!D:E,MATCH(R413,referentes!E:E,0),1))","v":""},null,null,null,null,null,null,null,null,null,{"$f":"IF(X413=\"\",\"\",INDEX(referentes!$AT:$AX,MATCH(X413,referentes!$AX:$AX,0),1))","v":""},null,null,{"$f":"IF(AC413=\"\",\"\",INDEX(referentes!AZ:BA,MATCH(AC413,referentes!BA:BA,0),1))","v":""},null,null,null,null,null,null,null,null,null,null,null,null,null,null,{"$f":"IF(N413<>\"\",INDEX(referentes!$AK:$AM,MATCH(DATOS!M413,referentes!$AK:$AK,0),3),\"\")","v":""},null,null,{"$f":"IF(AS413=\"\",\"\",INDEX(referentes!P:Q,MATCH(AS413,referentes!Q:Q,0),1))","v":""},null,null,null,{"$f":"IF(AY413=\"\",\"\",INDEX(referentes!AB:AC,MATCH(AY413,referentes!AC:AC,0),1))","v":""},null,{"$f":"IF(BA413=\"\",\"\",INDEX(referentes!S:T,MATCH(BA413,referentes!T:T,0),1))","v":""},null,null,{"$f":"IF(AA413=\"\",\"\",INDEX(OtrasReferencias!$AM$7:$AN$9,MATCH(AA413,OtrasReferencias!$AM$7:$AM$9,0),2))","v":""}]
[null,null,"","",{"$f":"IF(T414=\"\",\"\",INDEX(referentes!G:H,MATCH(T414,referentes!H:H,0),1))","v":""},{"$f":"IF(V414=\"\",\"\",INDEX(referentes!$M:$N,MATCH(V414,referentes!$N:$N,0),1))","v":""},{"$f":"IF(W414=\"\",\"\",INDEX(referentes!J:K,MATCH(W414,referentes!K:K,0),1))","v":""},null,{"$f":"IF(Y414<>\"\",CONCATENATE($A$3,P414,DIGITADOR!$M$1,Y414,ROW()),\"\")","v":""},{"$f":"IF(Y414<>\"\",CONCATENATE(P414,INT(Q414*1440),DIGITADOR!$M$1,Y414),\"\")","v":""},null,{"$f":"IF(AO414<>\"\",INDEX(referentes!$Y:$Z,MATCH(DATOS!AO414,referentes!$Z:$Z,0),1),\"\")","v":""},"","",{"$f":"IF(R414=\"\",\"\",INDEX(referentes!D:E,MATCH(R414,referentes!E:E,0),1))","v":""},null,null,null,null,null,null,null,null,null,{"$f":"IF(X414=\"\",\"\",INDEX(referentes!$AT:$AX,MATCH(X414,referentes!$AX:$AX,0),1))","v":""},null,null,{"$f":"IF(AC414=\"\",\"\",INDEX(referentes!AZ:BA,MATCH(AC414,referentes!BA:BA,0),1))","v":""},null,null,null,null,null,null,null,null,null,null,null,null,null,null,{"$f":"IF(N414<>\"\",INDEX(referentes!$AK:$AM,MATCH(DATOS!M414,referentes!$AK:$AK,0),3),\"\")","v":""},null,null,{"$f":"IF(AS414=\"\",\"\",INDEX(referentes!P:Q,MATCH(AS414,referentes!Q:Q,0),1))","v":""},null,null,null,{"$f":"IF(AY414=\"\",\"\",INDEX(referentes!AB:AC,MATCH(AY414,referentes!AC:AC,0),1))","v":""},null,{"$f":"IF(BA414=\"\",\"\",INDEX(referentes!S:T,MATCH(BA414,referentes!T:T,0),1))","v":""},null,null,{"$f":"IF(AA414=\"\",\"\",INDEX(OtrasReferencias!$AM$7:$AN$9,MATCH(AA414,OtrasReferencias!$AM$7:$AM$9,0),2))","v":""}]
[null,null,"","",{"$f":"IF(T415=\"\",\"\",INDEX(referentes!G:H,MATCH(T415,referentes!H:H,0),1))","v":""},{"$f":"IF(V415=\"\",\"\",INDEX(referentes!$M:$N,MATCH(V415,referentes!$N:$N,0),1))","v":""},{"$f":"IF(W415=\"\",\"\",INDEX(referentes!J:K,MATCH(W415,referentes!K:K,0),1))","v":""},null,{"$f":"IF(Y415<>\"\",CONCATENATE($A$3,P415,DIGITADOR!$M$1,Y415,ROW()),\"\")","v":""},{"$f":"IF(Y415<>\"\",CONCATENATE(P415,INT(Q415*1440),DIGITADOR!$M$1,Y415),\"\")","v":""},null,{"$f":"IF(AO415<>\"\",INDEX(referentes!$Y:$Z,MATCH(DATOS!AO415,referentes!$Z:$Z,0),1),\"\")","v":""},"","",{"$f":"IF(R415=\"\",\"\",INDEX(referentes!D:E,MATCH(R415,referentes!E:E,0),1))","v":""},null,null,null,null,null,null,null,null,null,{"$f":"IF(X415=\"\",\"\",INDEX(referentes!$AT:$AX,MATCH(X415,referentes!$AX:$AX,0),1))","v":""},null,null,{"$f":"IF(AC415=\"\",\"\",INDEX(referentes!AZ:BA,MATCH(AC415,referentes!BA:BA,0),1))","v":""},null,null,null,null,null,null,null,null,null,null,null,null,null,null,{"$f":"IF(N415<>\"\",INDEX(referentes!$AK:$AM,MATCH(DATOS!M415,referentes!$AK:$AK,0),3),\"\")","v":""},null,null,{"$f":"IF(AS415=\"\",\"\",INDEX(referentes!P:Q,MATCH(AS415,referentes!Q:Q,0),1))","v":""},null,null,null,{"$f":"IF(AY415=\"\",\"\",INDEX(referentes!AB:AC,MATCH(AY415,referentes!AC:AC,0),1))","v":""},null,{"$f":"IF(BA415=\"\",\"\",INDEX(referentes!S:T,MATCH(BA415,referentes!T:T,0),1))","v":""},null,null,{"$f":"IF(AA415=\"\",\"\",INDEX(OtrasReferencias!$AM$7:$AN$9,MATCH(AA415,OtrasReferencias!$AM$7:$AM$9,0),2))","v":""}]
[null,null,"","",{"$f":"IF(T416=\"\",\"\",INDEX(referentes!G:H,MATCH(T416,referentes!H:H,0),1))","v":""},{"$f":"IF(V416=\"\",\"\",INDEX(referentes!$M:$N,MATCH(V416,referentes!$N:$N,0),1))","v":""},{"$f":"IF(W416=\"\",\"\",INDEX(referentes!J:K,MATCH(W416,referentes!K:K,0),1))","v":""},null,{"$f":"IF(Y416<>\"\",CONCATENATE($A$3,P416,DIGITADOR!$M$1,Y416,ROW()),\"\")","v":""},{"$f":"IF(Y416<>\"\",CONCATENATE(P416,INT(Q416*1440),DIGITADOR!$M$1,Y416),\"\")","v":""},null,{"$f":"IF(AO416<>\"\",INDEX(referentes!$Y:$Z,MATCH(DATOS!AO416,referentes!$Z:$Z,0),1),\"\")","v":""},"","",{"$f":"IF(R416=\"\",\"\",INDEX(referentes!D:E,MATCH(R416,referentes!E:E,0),1))","v":""},null,null,null,null,null,null,null,null,null,{"$f":"IF(X416=\"\",\"\",INDEX(referentes!$AT:$AX,MATCH(X416,referentes!$AX:$AX,0),1))","v":""},null,null,{"$f":"IF(AC416=\"\",\"\",INDEX(referentes!AZ:BA,MATCH(AC416,referentes!BA:BA,0),1))","v":""},null,null,null,null,null,null,null,null,null,null,null,null,null,null,{"$f":"IF(N416<>\"\",INDEX(referentes!$AK:$AM,MATCH(DATOS!M416,referentes!$AK:$AK,0),3),\"\")","v":""},null,null,{"$f":"IF(AS416=\"\",\"\",INDEX(referentes!P:Q,MATCH(AS416,referentes!Q:Q,0),1))","v":""},null,null,null,{"$f":"IF(AY416=\"\",\"\",INDEX(referentes!AB:AC,MATCH(AY416,referentes!AC:AC,0),1))","v":""},null,{"$f":"IF(BA416=\"\",\"\",INDEX(referentes!S:T,MATCH(BA416,referentes!T:T,0),1))","v":""},null,null,{"$f":"IF(AA416=\"\",\"\",INDEX(OtrasReferencias!$AM$7:$AN$9,MATCH(AA416,OtrasReferencias!$AM$7:$AM$9,0),2))","v":""}]
[null,null,"","",{"$f":"IF(T417=\"\",\"\",INDEX(referentes!G:H,MATCH(T417,referentes!H:H,0),1))","v":""},{"$f":"IF(V417=\"\",\"\",INDEX(referentes!$M:$N,MATCH(V417,referentes!$N:$N,0),1))","v":""},{"$f":"IF(W417=\"\",\"\",INDEX(referentes!J:K,MATCH(W417,referentes!K:K,0),1))","v":""},null,{"$f":"IF(Y417<>\"\",CONCATENATE($A$3,P417,DIGITADOR!$M$1,Y417,ROW()),\"\")","v":""},{"$f":"IF(Y417<>\"\",CONCATENATE(P417,INT(Q417*1440),DIGITADOR!$M$1,Y417),\"\")","v":""},null,{"$f":"IF(AO417<>\"\",INDEX(referentes!$Y:$Z,MATCH(DATOS!AO417,referentes!$Z:$Z,0),1),\"\")","v":""},"","",{"$f":"IF(R417=\"\",\"\",INDEX(referentes!D:E,MATCH(R417,referentes!E:E,0),1))","v":""},null,null,null,null,null,null,null,null,null,{"$f":"IF(X417=\"\",\"\",INDEX(referentes!$AT:$AX,MATCH(X417,referentes!$AX:$AX,0),1))","v":""},null,null,{"$f":"IF(AC417=\"\",\"\",INDEX(referentes!AZ:BA,MATCH(AC417,referentes!BA:BA,0),1))","v":""},null,null,null,null,null,null,null,null,null,null,null,null,null,null,{"$f":"IF(N417<>\"\",INDEX(referentes!$AK:$AM,MATCH(DATOS!M417,referentes!$AK:$AK,0),3),\"\")","v":""},null,null,{"$f":"IF(AS417=\"\",\"\",INDEX(referentes!P:Q,MATCH(AS417,referentes!Q:Q,0),1))","v":""},null,null,null,{"$f":"IF(AY417=\"\",\"\",INDEX(referentes!AB:AC,MATCH(AY417,referentes!AC:AC,0),1))","v":""},null,{"$f":"IF(BA417=\"\",\"\",INDEX(referentes!S:T,MATCH(BA417,referentes!T:T,0),1))","v":""},null,null,{"$f":"IF(AA417=\"\",\"\",INDEX(OtrasReferencias!$AM$7:$AN$9,MATCH(AA417,OtrasReferencias!$AM$7:$AM$9,0),2))","v":""}]
[null,null,"","",{"$f":"IF(T418=\"\",\"\",INDEX(referentes!G:H,MATCH(T418,referentes!H:H,0),1))","v":""},{"$f":"IF(V418=\"\",\"\",INDEX(referentes!$M:$N,MATCH(V418,referentes!$N:$N,0),1))","v":""},{"$f":"IF(W418=\"\",\"\",INDEX(referentes!J:K,MATCH(W418,referentes!K:K,0),1))","v":""},null,{"$f":"IF(Y418<>\"\",CONCATENATE($A$3,P418,DIGITADOR!$M$1,Y418,ROW()),\"\")","v":""},{"$f":"IF(Y418<>\"\",CONCATENATE(P418,INT(Q418*1440),DIGITADOR!$M$1,Y418),\"\")","v":""},null,{"$f":"IF(AO418<>\"\",INDEX(referentes!$Y:$Z,MATCH(DATOS!AO418,referentes!$Z:$Z,0),1),\"\")","v":""},"","",{"$f":"IF(R418=\"\",\"\",INDEX(referentes!D:E,MATCH(R418,referentes!E:E,0),1))","v":""},null,null,null,null,null,null,null,null,null,{"$f":"IF(X418=\"\",\"\",INDEX(referentes!$AT:$AX,MATCH(X418,referentes!$AX:$AX,0),1))","v":""},null,null,{"$f":"IF(AC418=\"\",\"\",INDEX(referentes!AZ:BA,MATCH(AC418,referentes!BA:BA,0),1))","v":""},null,null,null,null,null,null,null,null,null,null,null,null,null,null,{"$f":"IF(N418<>\"\",INDEX(referentes!$AK:$AM,MATCH(DATOS!M418,referentes!$AK:$AK,0),3),\"\")","v":""},null,null,{"$f":"IF(AS418=\"\",\"\",INDEX(referentes!P:Q,MATCH(AS418,referentes!Q:Q,0),1))","v":""},null,null,null,{"$f":"IF(AY418=\"\",\"\",INDEX(referentes!AB:AC,MATCH(AY418,referentes!AC:AC,0),1))","v":""},null,{"$f":"IF(BA418=\"\",\"\",INDEX(referentes!S:T,MATCH(BA418,referentes!T:T,0),1))","v":""},null,null,{"$f":"IF(AA418=\"\",\"\",INDEX(OtrasReferencias!$AM$7:$AN$9,MATCH(AA418,OtrasReferencias!$AM$7:$AM$9,0),2))","v":""}]
[null,null,"","",{"$f":"IF(T419=\"\",\"\",INDEX(referentes!G:H,MATCH(T419,referentes!H:H,0),1))","v":""},{"$f":"IF(V419=\"\",\"\",INDEX(referentes!$M:$N,MATCH(V419,referentes!$N:$N,0),1))","v":""},{"$f":"IF(W419=\"\",\"\",INDEX(referentes!J:K,MATCH(W419,referentes!K:K,0),1))","v":""},null,{"$f":"IF(Y419<>\"\",CONCATENATE($A$3,P419,DIGITADOR!$M$1,Y419,ROW()),\"\")","v":""},{"$f":"IF(Y419<>\"\",CONCATENATE(P419,INT(Q419*1440),DIGITADOR!$M$1,Y419),\"\")","v":""},null,{"$f":"IF(AO419<>\"\",INDEX(referentes!$Y:$Z,MATCH(DATOS!AO419,referentes!$Z:$Z,0),1),\"\")","v":""},"","",{"$f":"IF(R419=\"\",\"\",INDEX(referentes!D:E,MATCH(R419,referentes!E:E,0),1))","v":""},null,null,null,null,null,null,null,null,null,{"$f":"IF(X419=\"\",\"\",INDEX(referentes!$AT:$AX,MATCH(X419,referentes!$AX:$AX,0),1))","v":""},null,null,{"$f":"IF(AC419=\"\",\"\",INDEX(referentes!AZ:BA,MATCH(AC419,referentes!BA:BA,0),1))","v":""},null,null,null,null,null,null,null,null,null,null,null,null,null,null,{"$f":"IF(N419<>\"\",INDEX(referentes!$AK:$AM,MATCH(DATOS!M419,referentes!$AK:$AK,0),3),\"\")","v":""},null,null,{"$f":"IF(AS419=\"\",\"\",INDEX(referentes!P:Q,MATCH(AS419,referentes!Q:Q,0),1))","v":""},null,null,null,{"$f":"IF(AY419=\"\",\"\",INDEX(referentes!AB:AC,MATCH(AY419,referentes!AC:AC,0),1))","v":""},null,{"$f":"IF(BA419=\"\",\"\",INDEX(referentes!S:T,MATCH(BA419,referentes!T:T,0),1))","v":""},null,null,{"$f":"IF(AA419=\"\",\"\",INDEX(OtrasReferencias!$AM$7:$AN$9,MATCH(AA419,OtrasReferencias!$AM$7:$AM$9,0),2))","v":""}]
[null,null,"","",{"$f":"IF(T420=\"\",\"\",INDEX(referentes!G:H,MATCH(T420,referentes!H:H,0),1))","v":""},{"$f":"IF(V420=\"\",\"\",INDEX(referentes!$M:$N,MATCH(V420,referentes!$N:$N,0),1))","v":""},{"$f":"IF(W420=\"\",\"\",INDEX(referentes!J:K,MATCH(W420,referentes!K:K,0),1))","v":""},null,{"$f":"IF(Y420<>\"\",CONCATENATE($A$3,P420,DIGITADOR!$M$1,Y420,ROW()),\"\")","v":""},{"$f":"IF(Y420<>\"\",CONCATENATE(P420,INT(Q420*1440),DIGITADOR!$M$1,Y420),\"\")","v":""},null,{"$f":"IF(AO420<>\"\",INDEX(referentes!$Y:$Z,MATCH(DATOS!AO420,referentes!$Z:$Z,0),1),\"\")","v":""},"","",{"$f":"IF(R420=\"\",\"\",INDEX(referentes!D:E,MATCH(R420,referentes!E:E,0),1))","v":""},null,null,null,null,null,null,null,null,null,{"$f":"IF(X420=\"\",\"\",INDEX(referentes!$AT:$AX,MATCH(X420,referentes!$AX:$AX,0),1))","v":""},null,null,{"$f":"IF(AC420=\"\",\"\",INDEX(referentes!AZ:BA,MATCH(AC420,referentes!BA:BA,0),1))","v":""},null,null,null,null,null,null,null,null,null,null,null,null,null,null,{"$f":"IF(N420<>\"\",INDEX(referentes!$AK:$AM,MATCH(DATOS!M420,referentes!$AK:$AK,0),3),\"\")","v":""},null,null,{"$f":"IF(AS420=\"\",\"\",INDEX(referentes!P:Q,MATCH(AS420,referentes!Q:Q,0),1))","v":""},null,null,null,{"$f":"IF(AY420=\"\",\"\",INDEX(referentes!AB:AC,MATCH(AY420,referentes!AC:AC,0),1))","v":""},null,{"$f":"IF(BA420=\"\",\"\",INDEX(referentes!S:T,MATCH(BA420,referentes!T:T,0),1))","v":""},null,null,{"$f":"IF(AA420=\"\",\"\",INDEX(OtrasReferencias!$AM$7:$AN$9,MATCH(AA420,OtrasReferencias!$AM$7:$AM$9,0),2))","v":""}]
[null,null,"","",{"$f":"IF(T421=\"\",\"\",INDEX(referentes!G:H,MATCH(T421,referentes!H:H,0),1))","v":""},{"$f":"IF(V421=\"\",\"\",INDEX(referentes!$M:$N,MATCH(V421,referentes!$N:$N,0),1))","v":""},{"$f":"IF(W421=\"\",\"\",INDEX(referentes!J:K,MATCH(W421,referentes!K:K,0),1))","v":""},null,{"$f":"IF(Y421<>\"\",CONCATENATE($A$3,P421,DIGITADOR!$M$1,Y421,ROW()),\"\")","v":""},{"$f":"IF(Y421<>\"\",CONCATENATE(P421,INT(Q421*1440),DIGITADOR!$M$1,Y421),\"\")","v":""},null,{"$f":"IF(AO421<>\"\",INDEX(referentes!$Y:$Z,MATCH(DATOS!AO421,referentes!$Z:$Z,0),1),\"\")","v":""},"","",{"$f":"IF(R421=\"\",\"\",INDEX(referentes!D:E,MATCH(R421,referentes!E:E,0),1))","v":""},null,null,null,null,null,null,null,null,null,{"$f":"IF(X421=\"\",\"\",INDEX(referentes!$AT:$AX,MATCH(X421,referentes!$AX:$AX,0),1))","v":""},null,null,{"$f":"IF(AC421=\"\",\"\",INDEX(referentes!AZ:BA,MATCH(AC421,referentes!BA:BA,0),1))","v":""},null,null,null,null,null,null,null,null,null,null,null,null,null,null,{"$f":"IF(N421<>\"\",INDEX(referentes!$AK:$AM,MATCH(DATOS!M421,referentes!$AK:$AK,0),3),\"\")","v":""},null,null,{"$f":"IF(AS421=\"\",\"\",INDEX(referentes!P:Q,MATCH(AS421,referentes!Q:Q,0),1))","v":""},null,null,null,{"$f":"IF(AY421=\"\",\"\",INDEX(referentes!AB:AC,MATCH(AY421,referentes!AC:AC,0),1))","v":""},null,{"$f":"IF(BA421=\"\",\"\",INDEX(referentes!S:T,MATCH(BA421,referentes!T:T,0),1))","v":""},null,null,{"$f":"IF(AA421=\"\",\"\",INDEX(OtrasReferencias!$AM$7:$AN$9,MATCH(AA421,OtrasReferencias!$AM$7:$AM$9,0),2))","v":""}]
[null,null,"","",{"$f":"IF(T422=\"\",\"\",INDEX(referentes!G:H,MATCH(T422,referentes!H:H,0),1))","v":""},{"$f":"IF(V422=\"\",\"\",INDEX(referentes!$M:$N,MATCH(V422,referentes!$N:$N,0),1))","v":""},{"$f":"IF(W422=\"\",\"\",INDEX(referentes!J:K,MATCH(W422,referentes!K:K,0),1))","v":""},null,{"$f":"IF(Y422<>\"\",CONCATENATE($A$3,P422,DIGITADOR!$M$1,Y422,ROW()),\"\")","v":""},{"$f":"IF(Y422<>\"\",CONCATENATE(P422,INT(Q422*1440),DIGITADOR!$M$1,Y422),\"\")","v":""},null,{"$f":"IF(AO422<>\"\",INDEX(referentes!$Y:$Z,MATCH(DATOS!AO422,referentes!$Z:$Z,0),1),\"\")","v":""},"","",{"$f":"IF(R422=\"\",\"\",INDEX(referentes!D:E,MATCH(R422,referentes!E:E,0),1))","v":""},null,null,null,null,null,null,null,null,null,{"$f":"IF(X422=\"\",\"\",INDEX(referentes!$AT:$AX,MATCH(X422,referentes!$AX:$AX,0),1))","v":""},null,null,{"$f":"IF(AC422=\"\",\"\",INDEX(referentes!AZ:BA,MATCH(AC422,referentes!BA:BA,0),1))","v":""},null,null,null,null,null,null,null,null,null,null,null,null,null,null,{"$f":"IF(N422<>\"\",INDEX(referentes!$AK:$AM,MATCH(DATOS!M422,referentes!$AK:$AK,0),3),\"\")","v":""},null,null,{"$f":"IF(AS422=\"\",\"\",INDEX(referentes!P:Q,MATCH(AS422,referentes!Q:Q,0),1))","v":""},null,null,null,{"$f":"IF(AY422=\"\",\"\",INDEX(referentes!AB:AC,MATCH(AY422,referentes!AC:AC,0),1))","v":""},null,{"$f":"IF(BA422=\"\",\"\",INDEX(referentes!S:T,MATCH(BA422,referentes!T:T,0),1))","v":""},null,null,{"$f":"IF(AA422=\"\",\"\",INDEX(OtrasReferencias!$AM$7:$AN$9,MATCH(AA422,OtrasReferencias!$AM$7:$AM$9,0),2))","v":""}]
[null,null,"","",{"$f":"IF(T423=\"\",\"\",INDEX(referentes!G:H,MATCH(T423,referentes!H:H,0),1))","v":""},{"$f":"IF(V423=\"\",\"\",INDEX(referentes!$M:$N,MATCH(V423,referentes!$N:$N,0),1))","v":""},{"$f":"IF(W423=\"\",\"\",INDEX(referentes!J:K,MATCH(W423,referentes!K:K,0),1))","v":""},null,{"$f":"IF(Y423<>\"\",CONCATENATE($A$3,P423,DIGITADOR!$M$1,Y423,ROW()),\"\")","v":""},{"$f":"IF(Y423<>\"\",CONCATENATE(P423,INT(Q423*1440),DIGITADOR!$M$1,Y423),\"\")","v":""},null,{"$f":"IF(AO423<>\"\",INDEX(referentes!$Y:$Z,MATCH(DATOS!AO423,referentes!$Z:$Z,0),1),\"\")","v":""},"","",{"$f":"IF(R423=\"\",\"\",INDEX(referentes!D:E,MATCH(R423,referentes!E:E,0),1))","v":""},null,null,null,null,null,null,null,null,null,{"$f":"IF(X423=\"\",\"\",INDEX(referentes!$AT:$AX,MATCH(X423,referentes!$AX:$AX,0),1))","v":""},null,null,{"$f":"IF(AC423=\"\",\"\",INDEX(referentes!AZ:BA,MATCH(AC423,referentes!BA:BA,0),1))","v":""},null,null,null,null,null,null,null,null,null,null,null,null,null,null,{"$f":"IF(N423<>\"\",INDEX(referentes!$AK:$AM,MATCH(DATOS!M423,referentes!$AK:$AK,0),3),\"\")","v":""},null,null,{"$f":"IF(AS423=\"\",\"\",INDEX(referentes!P:Q,MATCH(AS423,referentes!Q:Q,0),1))","v":""},null,null,null,{"$f":"IF(AY423=\"\",\"\",INDEX(referentes!AB:AC,MATCH(AY423,referentes!AC:AC,0),1))","v":""},null,{"$f":"IF(BA423=\"\",\"\",INDEX(referentes!S:T,MATCH(BA423,referentes!T:T,0),1))","v":""},null,null,{"$f":"IF(AA423=\"\",\"\",INDEX(OtrasReferencias!$AM$7:$AN$9,MATCH(AA423,OtrasReferencias!$AM$7:$AM$9,0),2))","v":""}]
[null,null,"","",{"$f":"IF(T424=\"\",\"\",INDEX(referentes!G:H,MATCH(T424,referentes!H:H,0),1))","v":""},{"$f":"IF(V424=\"\",\"\",INDEX(referentes!$M:$N,MATCH(V424,referentes!$N:$N,0),1))","v":""},{"$f":"IF(W424=\"\",\"\",INDEX(referentes!J:K,MATCH(W424,referentes!K:K,0),1))","v":""},null,{"$f":"IF(Y424<>\"\",CONCATENATE($A$3,P424,DIGITADOR!$M$1,Y424,ROW()),\"\")","v":""},{"$f":"IF(Y424<>\"\",CONCATENATE(P424,INT(Q424*1440),DIGITADOR!$M$1,Y424),\"\")","v":""},null,{"$f":"IF(AO424<>\"\",INDEX(referentes!$Y:$Z,MATCH(DATOS!AO424,referentes!$Z:$Z,0),1),\"\")","v":""},"","",{"$f":"IF(R424=\"\",\"\",INDEX(referentes!D:E,MATCH(R424,referentes!E:E,0),1))","v":""},null,null,null,null,null,null,null,null,null,{"$f":"IF(X424=\"\",\"\",INDEX(referentes!$AT:$AX,MATCH(X424,referentes!$AX:$AX,0),1))","v":""},null,null,{"$f":"IF(AC424=\"\",\"\",INDEX(referentes!AZ:BA,MATCH(AC424,referentes!BA:BA,0),1))","v":""},null,null,null,null,null,null,null,null,null,null,null,null,null,null,{"$f":"IF(N424<>\"\",INDEX(referentes!$AK:$AM,MATCH(DATOS!M424,referentes!$AK:$AK,0),3),\"\")","v":""},null,null,{"$f":"IF(AS424=\"\",\"\",INDEX(referentes!P:Q,MATCH(AS424,referentes!Q:Q,0),1))","v":""},null,null,null,{"$f":"IF(AY424=\"\",\"\",INDEX(referentes!AB:AC,MATCH(AY424,referentes!AC:AC,0),1))","v":""},null,{"$f":"IF(BA424=\"\",\"\",INDEX(referentes!S:T,MATCH(BA424,referentes!T:T,0),1))","v":""},null,null,{"$f":"IF(AA424=\"\",\"\",INDEX(OtrasReferencias!$AM$7:$AN$9,MATCH(AA424,OtrasReferencias!$AM$7:$AM$9,0),2))","v":""}]
[null,null,"","",{"$f":"IF(T425=\"\",\"\",INDEX(referentes!G:H,MATCH(T425,referentes!H:H,0),1))","v":""},{"$f":"IF(V425=\"\",\"\",INDEX(referentes!$M:$N,MATCH(V425,referentes!$N:$N,0),1))","v":""},{"$f":"IF(W425=\"\",\"\",INDEX(referentes!J:K,MATCH(W425,referentes!K:K,0),1))","v":""},null,{"$f":"IF(Y425<>\"\",CONCATENATE($A$3,P425,DIGITADOR!$M$1,Y425,ROW()),\"\")","v":""},{"$f":"IF(Y425<>\"\",CONCATENATE(P425,INT(Q425*1440),DIGITADOR!$M$1,Y425),\"\")","v":""},null,{"$f":"IF(AO425<>\"\",INDEX(referentes!$Y:$Z,MATCH(DATOS!AO425,referentes!$Z:$Z,0),1),\"\")","v":""},"","",{"$f":"IF(R425=\"\",\"\",INDEX(referentes!D:E,MATCH(R425,referentes!E:E,0),1))","v":""},null,null,null,null,null,null,null,null,null,{"$f":"IF(X425=\"\",\"\",INDEX(referentes!$AT:$AX,MATCH(X425,referentes!$AX:$AX,0),1))","v":""},null,null,{"$f":"IF(AC425=\"\",\"\",INDEX(referentes!AZ:BA,MATCH(AC425,referentes!BA:BA,0),1))","v":""},null,null,null,null,null,null,null,null,null,null,null,null,null,null,{"$f":"IF(N425<>\"\",INDEX(referentes!$AK:$AM,MATCH(DATOS!M425,referentes!$AK:$AK,0),3),\"\")","v":""},null,null,{"$f":"IF(AS425=\"\",\"\",INDEX(referentes!P:Q,MATCH(AS425,referentes!Q:Q,0),1))","v":""},null,null,null,{"$f":"IF(AY425=\"\",\"\",INDEX(referentes!AB:AC,MATCH(AY425,referentes!AC:AC,0),1))","v":""},null,{"$f":"IF(BA425=\"\",\"\",INDEX(referentes!S:T,MATCH(BA425,referentes!T:T,0),1))","v":""},null,null,{"$f":"IF(AA425=\"\",\"\",INDEX(OtrasReferencias!$AM$7:$AN$9,MATCH(AA425,OtrasReferencias!$AM$7:$AM$9,0),2))","v":""}]
[null,null,"","",{"$f":"IF(T426=\"\",\"\",INDEX(referentes!G:H,MATCH(T426,referentes!H:H,0),1))","v":""},{"$f":"IF(V426=\"\",\"\",INDEX(referentes!$M:$N,MATCH(V426,referentes!$N:$N,0),1))","v":""},{"$f":"IF(W426=\"\",\"\",INDEX(referentes!J:K,MATCH(W426,referentes!K:K,0),1))","v":""},null,{"$f":"IF(Y426<>\"\",CONCATENATE($A$3,P426,DIGITADOR!$M$1,Y426,ROW()),\"\")","v":""},{"$f":"IF(Y426<>\"\",CONCATENATE(P426,INT(Q426*1440),DIGITADOR!$M$1,Y426),\"\")","v":""},null,{"$f":"IF(AO426<>\"\",INDEX(referentes!$Y:$Z,MATCH(DATOS!AO426,referentes!$Z:$Z,0),1),\"\")","v":""},"","",{"$f":"IF(R426=\"\",\"\",INDEX(referentes!D:E,MATCH(R426,referentes!E:E,0),1))","v":""},null,null,null,null,null,null,null,null,null,{"$f":"IF(X426=\"\",\"\",INDEX(referentes!$AT:$AX,MATCH(X426,referentes!$AX:$AX,0),1))","v":""},null,null,{"$f":"IF(AC426=\"\",\"\",INDEX(referentes!AZ:BA,MATCH(AC426,referentes!BA:BA,0),1))","v":""},null,null,null,null,null,null,null,null,null,null,null,null,null,null,{"$f":"IF(N426<>\"\",INDEX(referentes!$AK:$AM,MATCH(DATOS!M426,referentes!$AK:$AK,0),3),\"\")","v":""},null,null,{"$f":"IF(AS426=\"\",\"\",INDEX(referentes!P:Q,MATCH(AS426,referentes!Q:Q,0),1))","v":""},null,null,null,{"$f":"IF(AY426=\"\",\"\",INDEX(referentes!AB:AC,MATCH(AY426,referentes!AC:AC,0),1))","v":""},null,{"$f":"IF(BA426=\"\",\"\",INDEX(referentes!S:T,MATCH(BA426,referentes!T:T,0),1))","v":""},null,null,{"$f":"IF(AA426=\"\",\"\",INDEX(OtrasReferencias!$AM$7:$AN$9,MATCH(AA426,OtrasReferencias!$AM$7:$AM$9,0),2))","v":""}]
[null,null,"","",{"$f":"IF(T427=\"\",\"\",INDEX(referentes!G:H,MATCH(T427,referentes!H:H,0),1))","v":""},{"$f":"IF(V427=\"\",\"\",INDEX(referentes!$M:$N,MATCH(V427,referentes!$N:$N,0),1))","v":""},{"$f":"IF(W427=\"\",\"\",INDEX(referentes!J:K,MATCH(W427,referentes!K:K,0),1))","v":""},null,{"$f":"IF(Y427<>\"\",CONCATENATE($A$3,P427,DIGITADOR!$M$1,Y427,ROW()),\"\")","v":""},{"$f":"IF(Y427<>\"\",CONCATENATE(P427,INT(Q427*1440),DIGITADOR!$M$1,Y427),\"\")","v":""},null,{"$f":"IF(AO427<>\"\",INDEX(referentes!$Y:$Z,MATCH(DATOS!AO427,referentes!$Z:$Z,0),1),\"\")","v":""},"","",{"$f":"IF(R427=\"\",\"\",INDEX(referentes!D:E,MATCH(R427,referentes!E:E,0),1))","v":""},null,null,null,null,null,null,null,null,null,{"$f":"IF(X427=\"\",\"\",INDEX(referentes!$AT:$AX,MATCH(X427,referentes!$AX:$AX,0),1))","v":""},null,null,{"$f":"IF(AC427=\"\",\"\",INDEX(referentes!AZ:BA,MATCH(AC427,referentes!BA:BA,0),1))","v":""},null,null,null,null,null,null,null,null,null,null,null,null,null,null,{"$f":"IF(N427<>\"\",INDEX(referentes!$AK:$AM,MATCH(DATOS!M427,referentes!$AK:$AK,0),3),\"\")","v":""},null,null,{"$f":"IF(AS427=\"\",\"\",INDEX(referentes!P:Q,MATCH(AS427,referentes!Q:Q,0),1))","v":""},null,null,null,{"$f":"IF(AY427=\"\",\"\",INDEX(referentes!AB:AC,MATCH(AY427,referentes!AC:AC,0),1))","v":""},null,{"$f":"IF(BA427=\"\",\"\",INDEX(referentes!S:T,MATCH(BA427,referentes!T:T,0),1))","v":""},null,null,{"$f":"IF(AA427=\"\",\"\",INDEX(OtrasReferencias!$AM$7:$AN$9,MATCH(AA427,OtrasReferencias!$AM$7:$AM$9,0),2))","v":""}]
[null,null,"","",{"$f":"IF(T428=\"\",\"\",INDEX(referentes!G:H,MATCH(T428,referentes!H:H,0),1))","v":""},{"$f":"IF(V428=\"\",\"\",INDEX(referentes!$M:$N,MATCH(V428,referentes!$N:$N,0),1))","v":""},{"$f":"IF(W428=\"\",\"\",INDEX(referentes!J:K,MATCH(W428,referentes!K:K,0),1))","v":""},null,{"$f":"IF(Y428<>\"\",CONCATENATE($A$3,P428,DIGITADOR!$M$1,Y428,ROW()),\"\")","v":""},{"$f":"IF(Y428<>\"\",CONCATENATE(P428,INT(Q428*1440),DIGITADOR!$M$1,Y428),\"\")","v":""},null,{"$f":"IF(AO428<>\"\",INDEX(referentes!$Y:$Z,MATCH(DATOS!AO428,referentes!$Z:$Z,0),1),\"\")","v":""},"","",{"$f":"IF(R428=\"\",\"\",INDEX(referentes!D:E,MATCH(R428,referentes!E:E,0),1))","v":""},null,null,null,null,null,null,null,null,null,{"$f":"IF(X428=\"\",\"\",INDEX(referentes!$AT:$AX,MATCH(X428,referentes!$AX:$AX,0),1))","v":""},null,null,{"$f":"IF(AC428=\"\",\"\",INDEX(referentes!AZ:BA,MATCH(AC428,referentes!BA:BA,0),1))","v":""},null,null,null,null,null,null,null,null,null,null,null,null,null,null,{"$f":"IF(N428<>\"\",INDEX(referentes!$AK:$AM,MATCH(DATOS!M428,referentes!$AK:$AK,0),3),\"\")","v":""},null,null,{"$f":"IF(AS428=\"\",\"\",INDEX(referentes!P:Q,MATCH(AS428,referentes!Q:Q,0),1))","v":""},null,null,null,{"$f":"IF(AY428=\"\",\"\",INDEX(referentes!AB:AC,MATCH(AY428,referentes!AC:AC,0),1))","v":""},null,{"$f":"IF(BA428=\"\",\"\",INDEX(referentes!S:T,MATCH(BA428,referentes!T:T,0),1))","v":""},null,null,{"$f":"IF(AA428=\"\",\"\",INDEX(OtrasReferencias!$AM$7:$AN$9,MATCH(AA428,OtrasReferencias!$AM$7:$AM$9,0),2))","v":""}]
[null,null,"","",{"$f":"IF(T429=\"\",\"\",INDEX(referentes!G:H,MATCH(T429,referentes!H:H,0),1))","v":""},{"$f":"IF(V429=\"\",\"\",INDEX(referentes!$M:$N,MATCH(V429,referentes!$N:$N,0),1))","v":""},{"$f":"IF(W429=\"\",\"\",INDEX(referentes!J:K,MATCH(W429,referentes!K:K,0),1))","v":""},null,{"$f":"IF(Y429<>\"\",CONCATENATE($A$3,P429,DIGITADOR!$M$1,Y429,ROW()),\"\")","v":""},{"$f":"IF(Y429<>\"\",CONCATENATE(P429,INT(Q429*1440),DIGITADOR!$M$1,Y429),\"\")","v":""},null,{"$f":"IF(AO429<>\"\",INDEX(referentes!$Y:$Z,MATCH(DATOS!AO429,referentes!$Z:$Z,0),1),\"\")","v":""},"","",{"$f":"IF(R429=\"\",\"\",INDEX(referentes!D:E,MATCH(R429,referentes!E:E,0),1))","v":""},null,null,null,null,null,null,null,null,null,{"$f":"IF(X429=\"\",\"\",INDEX(referentes!$AT:$AX,MATCH(X429,referentes!$AX:$AX,0),1))","v":""},null,null,{"$f":"IF(AC429=\"\",\"\",INDEX(referentes!AZ:BA,MATCH(AC429,referentes!BA:BA,0),1))","v":""},null,null,null,null,null,null,null,null,null,null,null,null,null,null,{"$f":"IF(N429<>\"\",INDEX(referentes!$AK:$AM,MATCH(DATOS!M429,referentes!$AK:$AK,0),3),\"\")","v":""},null,null,{"$f":"IF(AS429=\"\",\"\",INDEX(referentes!P:Q,MATCH(AS429,referentes!Q:Q,0),1))","v":""},null,null,null,{"$f":"IF(AY429=\"\",\"\",INDEX(referentes!AB:AC,MATCH(AY429,referentes!AC:AC,0),1))","v":""},null,{"$f":"IF(BA429=\"\",\"\",INDEX(referentes!S:T,MATCH(BA429,referentes!T:T,0),1))","v":""},null,null,{"$f":"IF(AA429=\"\",\"\",INDEX(OtrasReferencias!$AM$7:$AN$9,MATCH(AA429,OtrasReferencias!$AM$7:$AM$9,0),2))","v":""}]
[null,null,"","",{"$f":"IF(T430=\"\",\"\",INDEX(referentes!G:H,MATCH(T430,referentes!H:H,0),1))","v":""},{"$f":"IF(V430=\"\",\"\",INDEX(referentes!$M:$N,MATCH(V430,referentes!$N:$N,0),1))","v":""},{"$f":"IF(W430=\"\",\"\",INDEX(referentes!J:K,MATCH(W430,referentes!K:K,0),1))","v":""},null,{"$f":"IF(Y430<>\"\",CONCATENATE($A$3,P430,DIGITADOR!$M$1,Y430,ROW()),\"\")","v":""},{"$f":"IF(Y430<>\"\",CONCATENATE(P430,INT(Q430*1440),DIGITADOR!$M$1,Y430),\"\")","v":""},null,{"$f":"IF(AO430<>\"\",INDEX(referentes!$Y:$Z,MATCH(DATOS!AO430,referentes!$Z:$Z,0),1),\"\")","v":""},"","",{"$f":"IF(R430=\"\",\"\",INDEX(referentes!D:E,MATCH(R430,referentes!E:E,0),1))","v":""},null,null,null,null,null,null,null,null,null,{"$f":"IF(X430=\"\",\"\",INDEX(referentes!$AT:$AX,MATCH(X430,referentes!$AX:$AX,0),1))","v":""},null,null,{"$f":"IF(AC430=\"\",\"\",INDEX(referentes!AZ:BA,MATCH(AC430,referentes!BA:BA,0),1))","v":""},null,null,null,null,null,null,null,null,null,null,null,null,null,null,{"$f":"IF(N430<>\"\",INDEX(referentes!$AK:$AM,MATCH(DATOS!M430,referentes!$AK:$AK,0),3),\"\")","v":""},null,null,{"$f":"IF(AS430=\"\",\"\",INDEX(referentes!P:Q,MATCH(AS430,referentes!Q:Q,0),1))","v":""},null,null,null,{"$f":"IF(AY430=\"\",\"\",INDEX(referentes!AB:AC,MATCH(AY430,referentes!AC:AC,0),1))","v":""},null,{"$f":"IF(BA430=\"\",\"\",INDEX(referentes!S:T,MATCH(BA430,referentes!T:T,0),1))","v":""},null,null,{"$f":"IF(AA430=\"\",\"\",INDEX(OtrasReferencias!$AM$7:$AN$9,MATCH(AA430,OtrasReferencias!$AM$7:$AM$9,0),2))","v":""}]
[null,null,"","",{"$f":"IF(T431=\"\",\"\",INDEX(referentes!G:H,MATCH(T431,referentes!H:H,0),1))","v":""},{"$f":"IF(V431=\"\",\"\",INDEX(referentes!$M:$N,MATCH(V431,referentes!$N:$N,0),1))","v":""},{"$f":"IF(W431=\"\",\"\",INDEX(referentes!J:K,MATCH(W431,referentes!K:K,0),1))","v":""},null,{"$f":"IF(Y431<>\"\",CONCATENATE($A$3,P431,DIGITADOR!$M$1,Y431,ROW()),\"\")","v":""},{"$f":"IF(Y431<>\"\",CONCATENATE(P431,INT(Q431*1440),DIGITADOR!$M$1,Y431),\"\")","v":""},null,{"$f":"IF(AO431<>\"\",INDEX(referentes!$Y:$Z,MATCH(DATOS!AO431,referentes!$Z:$Z,0),1),\"\")","v":""},"","",{"$f":"IF(R431=\"\",\"\",INDEX(referentes!D:E,MATCH(R431,referentes!E:E,0),1))","v":""},null,null,null,null,null,null,null,null,null,{"$f":"IF(X431=\"\",\"\",INDEX(referentes!$AT:$AX,MATCH(X431,referentes!$AX:$AX,0),1))","v":""},null,null,{"$f":"IF(AC431=\"\",\"\",INDEX(referentes!AZ:BA,MATCH(AC431,referentes!BA:BA,0),1))","v":""},null,null,null,null,null,null,null,null,null,null,null,null,null,null,{"$f":"IF(N431<>\"\",INDEX(referentes!$AK:$AM,MATCH(DATOS!M431,referentes!$AK:$AK,0),3),\"\")","v":""},null,null,{"$f":"IF(AS431=\"\",\"\",INDEX(referentes!P:Q,MATCH(AS431,referentes!Q:Q,0),1))","v":""},null,null,null,{"$f":"IF(AY431=\"\",\"\",INDEX(referentes!AB:AC,MATCH(AY431,referentes!AC:AC,0),1))","v":""},null,{"$f":"IF(BA431=\"\",\"\",INDEX(referentes!S:T,MATCH(BA431,referentes!T:T,0),1))","v":""},null,null,{"$f":"IF(AA431=\"\",\"\",INDEX(OtrasReferencias!$AM$7:$AN$9,MATCH(AA431,OtrasReferencias!$AM$7:$AM$9,0),2))","v":""}]
[null,null,"","",{"$f":"IF(T432=\"\",\"\",INDEX(referentes!G:H,MATCH(T432,referentes!H:H,0),1))","v":""},{"$f":"IF(V432=\"\",\"\",INDEX(referentes!$M:$N,MATCH(V432,referentes!$N:$N,0),1))","v":""},{"$f":"IF(W432=\"\",\"\",INDEX(referentes!J:K,MATCH(W432,referentes!K:K,0),1))","v":""},null,{"$f":"IF(Y432<>\"\",CONCATENATE($A$3,P432,DIGITADOR!$M$1,Y432,ROW()),\"\")","v":""},{"$f":"IF(Y432<>\"\",CONCATENATE(P432,INT(Q432*1440),DIGITADOR!$M$1,Y432),\"\")","v":""},null,{"$f":"IF(AO432<>\"\",INDEX(referentes!$Y:$Z,MATCH(DATOS!AO432,referentes!$Z:$Z,0),1),\"\")","v":""},"","",{"$f":"IF(R432=\"\",\"\",INDEX(referentes!D:E,MATCH(R432,referentes!E:E,0),1))","v":""},null,null,null,null,null,null,null,null,null,{"$f":"IF(X432=\"\",\"\",INDEX(referentes!$AT:$AX,MATCH(X432,referentes!$AX:$AX,0),1))","v":""},null,null,{"$f":"IF(AC432=\"\",\"\",INDEX(referentes!AZ:BA,MATCH(AC432,referentes!BA:BA,0),1))","v":""},null,null,null,null,null,null,null,null,null,null,null,null,null,null,{"$f":"IF(N432<>\"\",INDEX(referentes!$AK:$AM,MATCH(DATOS!M432,referentes!$AK:$AK,0),3),\"\")","v":""},null,null,{"$f":"IF(AS432=\"\",\"\",INDEX(referentes!P:Q,MATCH(AS432,referentes!Q:Q,0),1))","v":""},null,null,null,{"$f":"IF(AY432=\"\",\"\",INDEX(referentes!AB:AC,MATCH(AY432,referentes!AC:AC,0),1))","v":""},null,{"$f":"IF(BA432=\"\",\"\",INDEX(referentes!S:T,MATCH(BA432,referentes!T:T,0),1))","v":""},null,null,{"$f":"IF(AA432=\"\",\"\",INDEX(OtrasReferencias!$AM$7:$AN$9,MATCH(AA432,OtrasReferencias!$AM$7:$AM$9,0),2))","v":""}]
[null,null,"","",{"$f":"IF(T433=\"\",\"\",INDEX(referentes!G:H,MATCH(T433,referentes!H:H,0),1))","v":""},{"$f":"IF(V433=\"\",\"\",INDEX(referentes!$M:$N,MATCH(V433,referentes!$N:$N,0),1))","v":""},{"$f":"IF(W433=\"\",\"\",INDEX(referentes!J:K,MATCH(W433,referentes!K:K,0),1))","v":""},null,{"$f":"IF(Y433<>\"\",CONCATENATE($A$3,P433,DIGITADOR!$M$1,Y433,ROW()),\"\")","v":""},{"$f":"IF(Y433<>\"\",CONCATENATE(P433,INT(Q433*1440),DIGITADOR!$M$1,Y433),\"\")","v":""},null,{"$f":"IF(AO433<>\"\",INDEX(referentes!$Y:$Z,MATCH(DATOS!AO433,referentes!$Z:$Z,0),1),\"\")","v":""},"","",{"$f":"IF(R433=\"\",\"\",INDEX(referentes!D:E,MATCH(R433,referentes!E:E,0),1))","v":""},null,null,null,null,null,null,null,null,null,{"$f":"IF(X433=\"\",\"\",INDEX(referentes!$AT:$AX,MATCH(X433,referentes!$AX:$AX,0),1))","v":""},null,null,{"$f":"IF(AC433=\"\",\"\",INDEX(referentes!AZ:BA,MATCH(AC433,referentes!BA:BA,0),1))","v":""},null,null,null,null,null,null,null,null,null,null,null,null,null,null,{"$f":"IF(N433<>\"\",INDEX(referentes!$AK:$AM,MATCH(DATOS!M433,referentes!$AK:$AK,0),3),\"\")","v":""},null,null,{"$f":"IF(AS433=\"\",\"\",INDEX(referentes!P:Q,MATCH(AS433,referentes!Q:Q,0),1))","v":""},null,null,null,{"$f":"IF(AY433=\"\",\"\",INDEX(referentes!AB:AC,MATCH(AY433,referentes!AC:AC,0),1))","v":""},null,{"$f":"IF(BA433=\"\",\"\",INDEX(referentes!S:T,MATCH(BA433,referentes!T:T,0),1))","v":""},null,null,{"$f":"IF(AA433=\"\",\"\",INDEX(OtrasReferencias!$AM$7:$AN$9,MATCH(AA433,OtrasReferencias!$AM$7:$AM$9,0),2))","v":""}]
[null,null,"","",{"$f":"IF(T434=\"\",\"\",INDEX(referentes!G:H,MATCH(T434,referentes!H:H,0),1))","v":""},{"$f":"IF(V434=\"\",\"\",INDEX(referentes!$M:$N,MATCH(V434,referentes!$N:$N,0),1))","v":""},{"$f":"IF(W434=\"\",\"\",INDEX(referentes!J:K,MATCH(W434,referentes!K:K,0),1))","v":""},null,{"$f":"IF(Y434<>\"\",CONCATENATE($A$3,P434,DIGITADOR!$M$1,Y434,ROW()),\"\")","v":""},{"$f":"IF(Y434<>\"\",CONCATENATE(P434,INT(Q434*1440),DIGITADOR!$M$1,Y434),\"\")","v":""},null,{"$f":"IF(AO434<>\"\",INDEX(referentes!$Y:$Z,MATCH(DATOS!AO434,referentes!$Z:$Z,0),1),\"\")","v":""},"","",{"$f":"IF(R434=\"\",\"\",INDEX(referentes!D:E,MATCH(R434,referentes!E:E,0),1))","v":""},null,null,null,null,null,null,null,null,null,{"$f":"IF(X434=\"\",\"\",INDEX(referentes!$AT:$AX,MATCH(X434,referentes!$AX:$AX,0),1))","v":""},null,null,{"$f":"IF(AC434=\"\",\"\",INDEX(referentes!AZ:BA,MATCH(AC434,referentes!BA:BA,0),1))","v":""},null,null,null,null,null,null,null,null,null,null,null,null,null,null,{"$f":"IF(N434<>\"\",INDEX(referentes!$AK:$AM,MATCH(DATOS!M434,referentes!$AK:$AK,0),3),\"\")","v":""},null,null,{"$f":"IF(AS434=\"\",\"\",INDEX(referentes!P:Q,MATCH(AS434,referentes!Q:Q,0),1))","v":""},null,null,null,{"$f":"IF(AY434=\"\",\"\",INDEX(referentes!AB:AC,MATCH(AY434,referentes!AC:AC,0),1))","v":""},null,{"$f":"IF(BA434=\"\",\"\",INDEX(referentes!S:T,MATCH(BA434,referentes!T:T,0),1))","v":""},null,null,{"$f":"IF(AA434=\"\",\"\",INDEX(OtrasReferencias!$AM$7:$AN$9,MATCH(AA434,OtrasReferencias!$AM$7:$AM$9,0),2))","v":""}]
[null,null,"","",{"$f":"IF(T435=\"\",\"\",INDEX(referentes!G:H,MATCH(T435,referentes!H:H,0),1))","v":""},{"$f":"IF(V435=\"\",\"\",INDEX(referentes!$M:$N,MATCH(V435,referentes!$N:$N,0),1))","v":""},{"$f":"IF(W435=\"\",\"\",INDEX(referentes!J:K,MATCH(W435,referentes!K:K,0),1))","v":""},null,{"$f":"IF(Y435<>\"\",CONCATENATE($A$3,P435,DIGITADOR!$M$1,Y435,ROW()),\"\")","v":""},{"$f":"IF(Y435<>\"\",CONCATENATE(P435,INT(Q435*1440),DIGITADOR!$M$1,Y435),\"\")","v":""},null,{"$f":"IF(AO435<>\"\",INDEX(referentes!$Y:$Z,MATCH(DATOS!AO435,referentes!$Z:$Z,0),1),\"\")","v":""},"","",{"$f":"IF(R435=\"\",\"\",INDEX(referentes!D:E,MATCH(R435,referentes!E:E,0),1))","v":""},null,null,null,null,null,null,null,null,null,{"$f":"IF(X435=\"\",\"\",INDEX(referentes!$AT:$AX,MATCH(X435,referentes!$AX:$AX,0),1))","v":""},null,null,{"$f":"IF(AC435=\"\",\"\",INDEX(referentes!AZ:BA,MATCH(AC435,referentes!BA:BA,0),1))","v":""},null,null,null,null,null,null,null,null,null,null,null,null,null,null,{"$f":"IF(N435<>\"\",INDEX(referentes!$AK:$AM,MATCH(DATOS!M435,referentes!$AK:$AK,0),3),\"\")","v":""},null,null,{"$f":"IF(AS435=\"\",\"\",INDEX(referentes!P:Q,MATCH(AS435,referentes!Q:Q,0),1))","v":""},null,null,null,{"$f":"IF(AY435=\"\",\"\",INDEX(referentes!AB:AC,MATCH(AY435,referentes!AC:AC,0),1))","v":""},null,{"$f":"IF(BA435=\"\",\"\",INDEX(referentes!S:T,MATCH(BA435,referentes!T:T,0),1))","v":""},null,null,{"$f":"IF(AA435=\"\",\"\",INDEX(OtrasReferencias!$AM$7:$AN$9,MATCH(AA435,OtrasReferencias!$AM$7:$AM$9,0),2))","v":""}]
[null,null,"","",{"$f":"IF(T436=\"\",\"\",INDEX(referentes!G:H,MATCH(T436,referentes!H:H,0),1))","v":""},{"$f":"IF(V436=\"\",\"\",INDEX(referentes!$M:$N,MATCH(V436,referentes!$N:$N,0),1))","v":""},{"$f":"IF(W436=\"\",\"\",INDEX(referentes!J:K,MATCH(W436,referentes!K:K,0),1))","v":""},null,{"$f":"IF(Y436<>\"\",CONCATENATE($A$3,P436,DIGITADOR!$M$1,Y436,ROW()),\"\")","v":""},{"$f":"IF(Y436<>\"\",CONCATENATE(P436,INT(Q436*1440),DIGITADOR!$M$1,Y436),\"\")","v":""},null,{"$f":"IF(AO436<>\"\",INDEX(referentes!$Y:$Z,MATCH(DATOS!AO436,referentes!$Z:$Z,0),1),\"\")","v":""},"","",{"$f":"IF(R436=\"\",\"\",INDEX(referentes!D:E,MATCH(R436,referentes!E:E,0),1))","v":""},null,null,null,null,null,null,null,null,null,{"$f":"IF(X436=\"\",\"\",INDEX(referentes!$AT:$AX,MATCH(X436,referentes!$AX:$AX,0),1))","v":""},null,null,{"$f":"IF(AC436=\"\",\"\",INDEX(referentes!AZ:BA,MATCH(AC436,referentes!BA:BA,0),1))","v":""},null,null,null,null,null,null,null,null,null,null,null,null,null,null,{"$f":"IF(N436<>\"\",INDEX(referentes!$AK:$AM,MATCH(DATOS!M436,referentes!$AK:$AK,0),3),\"\")","v":""},null,null,{"$f":"IF(AS436=\"\",\"\",INDEX(referentes!P:Q,MATCH(AS436,referentes!Q:Q,0),1))","v":""},null,null,null,{"$f":"IF(AY436=\"\",\"\",INDEX(referentes!AB:AC,MATCH(AY436,referentes!AC:AC,0),1))","v":""},null,{"$f":"IF(BA436=\"\",\"\",INDEX(referentes!S:T,MATCH(BA436,referentes!T:T,0),1))","v":""},null,null,{"$f":"IF(AA436=\"\",\"\",INDEX(OtrasReferencias!$AM$7:$AN$9,MATCH(AA436,OtrasReferencias!$AM$7:$AM$9,0),2))","v":""}]
[null,null,"","",{"$f":"IF(T437=\"\",\"\",INDEX(referentes!G:H,MATCH(T437,referentes!H:H,0),1))","v":""},{"$f":"IF(V437=\"\",\"\",INDEX(referentes!$M:$N,MATCH(V437,referentes!$N:$N,0),1))","v":""},{"$f":"IF(W437=\"\",\"\",INDEX(referentes!J:K,MATCH(W437,referentes!K:K,0),1))","v":""},null,{"$f":"IF(Y437<>\"\",CONCATENATE($A$3,P437,DIGITADOR!$M$1,Y437,ROW()),\"\")","v":""},{"$f":"IF(Y437<>\"\",CONCATENATE(P437,INT(Q437*1440),DIGITADOR!$M$1,Y437),\"\")","v":""},null,{"$f":"IF(AO437<>\"\",INDEX(referentes!$Y:$Z,MATCH(DATOS!AO437,referentes!$Z:$Z,0),1),\"\")","v":""},"","",{"$f":"IF(R437=\"\",\"\",INDEX(referentes!D:E,MATCH(R437,referentes!E:E,0),1))","v":""},null,null,null,null,null,null,null,null,null,{"$f":"IF(X437=\"\",\"\",INDEX(referentes!$AT:$AX,MATCH(X437,referentes!$AX:$AX,0),1))","v":""},null,null,{"$f":"IF(AC437=\"\",\"\",INDEX(referentes!AZ:BA,MATCH(AC437,referentes!BA:BA,0),1))","v":""},null,null,null,null,null,null,null,null,null,null,null,null,null,null,{"$f":"IF(N437<>\"\",INDEX(referentes!$AK:$AM,MATCH(DATOS!M437,referentes!$AK:$AK,0),3),\"\")","v":""},null,null,{"$f":"IF(AS437=\"\",\"\",INDEX(referentes!P:Q,MATCH(AS437,referentes!Q:Q,0),1))","v":""},null,null,null,{"$f":"IF(AY437=\"\",\"\",INDEX(referentes!AB:AC,MATCH(AY437,referentes!AC:AC,0),1))","v":""},null,{"$f":"IF(BA437=\"\",\"\",INDEX(referentes!S:T,MATCH(BA437,referentes!T:T,0),1))","v":""},null,null,{"$f":"IF(AA437=\"\",\"\",INDEX(OtrasReferencias!$AM$7:$AN$9,MATCH(AA437,OtrasReferencias!$AM$7:$AM$9,0),2))","v":""}]
[null,null,"","",{"$f":"IF(T438=\"\",\"\",INDEX(referentes!G:H,MATCH(T438,referentes!H:H,0),1))","v":""},{"$f":"IF(V438=\"\",\"\",INDEX(referentes!$M:$N,MATCH(V438,referentes!$N:$N,0),1))","v":""},{"$f":"IF(W438=\"\",\"\",INDEX(referentes!J:K,MATCH(W438,referentes!K:K,0),1))","v":""},null,{"$f":"IF(Y438<>\"\",CONCATENATE($A$3,P438,DIGITADOR!$M$1,Y438,ROW()),\"\")","v":""},{"$f":"IF(Y438<>\"\",CONCATENATE(P438,INT(Q438*1440),DIGITADOR!$M$1,Y438),\"\")","v":""},null,{"$f":"IF(AO438<>\"\",INDEX(referentes!$Y:$Z,MATCH(DATOS!AO438,referentes!$Z:$Z,0),1),\"\")","v":""},"","",{"$f":"IF(R438=\"\",\"\",INDEX(referentes!D:E,MATCH(R438,referentes!E:E,0),1))","v":""},null,null,null,null,null,null,null,null,null,{"$f":"IF(X438=\"\",\"\",INDEX(referentes!$AT:$AX,MATCH(X438,referentes!$AX:$AX,0),1))","v":""},null,null,{"$f":"IF(AC438=\"\",\"\",INDEX(referentes!AZ:BA,MATCH(AC438,referentes!BA:BA,0),1))","v":""},null,null,null,null,null,null,null,null,null,null,null,null,null,null,{"$f":"IF(N438<>\"\",INDEX(referentes!$AK:$AM,MATCH(DATOS!M438,referentes!$AK:$AK,0),3),\"\")","v":""},null,null,{"$f":"IF(AS438=\"\",\"\",INDEX(referentes!P:Q,MATCH(AS438,referentes!Q:Q,0),1))","v":""},null,null,null,{"$f":"IF(AY438=\"\",\"\",INDEX(referentes!AB:AC,MATCH(AY438,referentes!AC:AC,0),1))","v":""},null,{"$f":"IF(BA438=\"\",\"\",INDEX(referentes!S:T,MATCH(BA438,referentes!T:T,0),1))","v":""},null,null,{"$f":"IF(AA438=\"\",\"\",INDEX(OtrasReferencias!$AM$7:$AN$9,MATCH(AA438,OtrasReferencias!$AM$7:$AM$9,0),2))","v":""}]
[null,null,"","",{"$f":"IF(T439=\"\",\"\",INDEX(referentes!G:H,MATCH(T439,referentes!H:H,0),1))","v":""},{"$f":"IF(V439=\"\",\"\",INDEX(referentes!$M:$N,MATCH(V439,referentes!$N:$N,0),1))","v":""},{"$f":"IF(W439=\"\",\"\",INDEX(referentes!J:K,MATCH(W439,referentes!K:K,0),1))","v":""},null,{"$f":"IF(Y439<>\"\",CONCATENATE($A$3,P439,DIGITADOR!$M$1,Y439,ROW()),\"\")","v":""},{"$f":"IF(Y439<>\"\",CONCATENATE(P439,INT(Q439*1440),DIGITADOR!$M$1,Y439),\"\")","v":""},null,{"$f":"IF(AO439<>\"\",INDEX(referentes!$Y:$Z,MATCH(DATOS!AO439,referentes!$Z:$Z,0),1),\"\")","v":""},"","",{"$f":"IF(R439=\"\",\"\",INDEX(referentes!D:E,MATCH(R439,referentes!E:E,0),1))","v":""},null,null,null,null,null,null,null,null,null,{"$f":"IF(X439=\"\",\"\",INDEX(referentes!$AT:$AX,MATCH(X439,referentes!$AX:$AX,0),1))","v":""},null,null,{"$f":"IF(AC439=\"\",\"\",INDEX(referentes!AZ:BA,MATCH(AC439,referentes!BA:BA,0),1))","v":""},null,null,null,null,null,null,null,null,null,null,null,null,null,null,{"$f":"IF(N439<>\"\",INDEX(referentes!$AK:$AM,MATCH(DATOS!M439,referentes!$AK:$AK,0),3),\"\")","v":""},null,null,{"$f":"IF(AS439=\"\",\"\",INDEX(referentes!P:Q,MATCH(AS439,referentes!Q:Q,0),1))","v":""},null,null,null,{"$f":"IF(AY439=\"\",\"\",INDEX(referentes!AB:AC,MATCH(AY439,referentes!AC:AC,0),1))","v":""},null,{"$f":"IF(BA439=\"\",\"\",INDEX(referentes!S:T,MATCH(BA439,referentes!T:T,0),1))","v":""},null,null,{"$f":"IF(AA439=\"\",\"\",INDEX(OtrasReferencias!$AM$7:$AN$9,MATCH(AA439,OtrasReferencias!$AM$7:$AM$9,0),2))","v":""}]
[null,null,"","",{"$f":"IF(T440=\"\",\"\",INDEX(referentes!G:H,MATCH(T440,referentes!H:H,0),1))","v":""},{"$f":"IF(V440=\"\",\"\",INDEX(referentes!$M:$N,MATCH(V440,referentes!$N:$N,0),1))","v":""},{"$f":"IF(W440=\"\",\"\",INDEX(referentes!J:K,MATCH(W440,referentes!K:K,0),1))","v":""},null,{"$f":"IF(Y440<>\"\",CONCATENATE($A$3,P440,DIGITADOR!$M$1,Y440,ROW()),\"\")","v":""},{"$f":"IF(Y440<>\"\",CONCATENATE(P440,INT(Q440*1440),DIGITADOR!$M$1,Y440),\"\")","v":""},null,{"$f":"IF(AO440<>\"\",INDEX(referentes!$Y:$Z,MATCH(DATOS!AO440,referentes!$Z:$Z,0),1),\"\")","v":""},"","",{"$f":"IF(R440=\"\",\"\",INDEX(referentes!D:E,MATCH(R440,referentes!E:E,0),1))","v":""},null,null,null,null,null,null,null,null,null,{"$f":"IF(X440=\"\",\"\",INDEX(referentes!$AT:$AX,MATCH(X440,referentes!$AX:$AX,0),1))","v":""},null,null,{"$f":"IF(AC440=\"\",\"\",INDEX(referentes!AZ:BA,MATCH(AC440,referentes!BA:BA,0),1))","v":""},null,null,null,null,null,null,null,null,null,null,null,null,null,null,{"$f":"IF(N440<>\"\",INDEX(referentes!$AK:$AM,MATCH(DATOS!M440,referentes!$AK:$AK,0),3),\"\")","v":""},null,null,{"$f":"IF(AS440=\"\",\"\",INDEX(referentes!P:Q,MATCH(AS440,referentes!Q:Q,0),1))","v":""},null,null,null,{"$f":"IF(AY440=\"\",\"\",INDEX(referentes!AB:AC,MATCH(AY440,referentes!AC:AC,0),1))","v":""},null,{"$f":"IF(BA440=\"\",\"\",INDEX(referentes!S:T,MATCH(BA440,referentes!T:T,0),1))","v":""},null,null,{"$f":"IF(AA440=\"\",\"\",INDEX(OtrasReferencias!$AM$7:$AN$9,MATCH(AA440,OtrasReferencias!$AM$7:$AM$9,0),2))","v":""}]
[null,null,"","",{"$f":"IF(T441=\"\",\"\",INDEX(referentes!G:H,MATCH(T441,referentes!H:H,0),1))","v":""},{"$f":"IF(V441=\"\",\"\",INDEX(referentes!$M:$N,MATCH(V441,referentes!$N:$N,0),1))","v":""},{"$f":"IF(W441=\"\",\"\",INDEX(referentes!J:K,MATCH(W441,referentes!K:K,0),1))","v":""},null,{"$f":"IF(Y441<>\"\",CONCATENATE($A$3,P441,DIGITADOR!$M$1,Y441,ROW()),\"\")","v":""},{"$f":"IF(Y441<>\"\",CONCATENATE(P441,INT(Q441*1440),DIGITADOR!$M$1,Y441),\"\")","v":""},null,{"$f":"IF(AO441<>\"\",INDEX(referentes!$Y:$Z,MATCH(DATOS!AO441,referentes!$Z:$Z,0),1),\"\")","v":""},"","",{"$f":"IF(R441=\"\",\"\",INDEX(referentes!D:E,MATCH(R441,referentes!E:E,0),1))","v":""},null,null,null,null,null,null,null,null,null,{"$f":"IF(X441=\"\",\"\",INDEX(referentes!$AT:$AX,MATCH(X441,referentes!$AX:$AX,0),1))","v":""},null,null,{"$f":"IF(AC441=\"\",\"\",INDEX(referentes!AZ:BA,MATCH(AC441,referentes!BA:BA,0),1))","v":""},null,null,null,null,null,null,null,null,null,null,null,null,null,null,{"$f":"IF(N441<>\"\",INDEX(referentes!$AK:$AM,MATCH(DATOS!M441,referentes!$AK:$AK,0),3),\"\")","v":""},null,null,{"$f":"IF(AS441=\"\",\"\",INDEX(referentes!P:Q,MATCH(AS441,referentes!Q:Q,0),1))","v":""},null,null,null,{"$f":"IF(AY441=\"\",\"\",INDEX(referentes!AB:AC,MATCH(AY441,referentes!AC:AC,0),1))","v":""},null,{"$f":"IF(BA441=\"\",\"\",INDEX(referentes!S:T,MATCH(BA441,referentes!T:T,0),1))","v":""},null,null,{"$f":"IF(AA441=\"\",\"\",INDEX(OtrasReferencias!$AM$7:$AN$9,MATCH(AA441,OtrasReferencias!$AM$7:$AM$9,0),2))","v":""}]
[null,null,"","",{"$f":"IF(T442=\"\",\"\",INDEX(referentes!G:H,MATCH(T442,referentes!H:H,0),1))","v":""},{"$f":"IF(V442=\"\",\"\",INDEX(referentes!$M:$N,MATCH(V442,referentes!$N:$N,0),1))","v":""},{"$f":"IF(W442=\"\",\"\",INDEX(referentes!J:K,MATCH(W442,referentes!K:K,0),1))","v":""},null,{"$f":"IF(Y442<>\"\",CONCATENATE($A$3,P442,DIGITADOR!$M$1,Y442,ROW()),\"\")","v":""},{"$f":"IF(Y442<>\"\",CONCATENATE(P442,INT(Q442*1440),DIGITADOR!$M$1,Y442),\"\")","v":""},null,{"$f":"IF(AO442<>\"\",INDEX(referentes!$Y:$Z,MATCH(DATOS!AO442,referentes!$Z:$Z,0),1),\"\")","v":""},"","",{"$f":"IF(R442=\"\",\"\",INDEX(referentes!D:E,MATCH(R442,referentes!E:E,0),1))","v":""},null,null,null,null,null,null,null,null,null,{"$f":"IF(X442=\"\",\"\",INDEX(referentes!$AT:$AX,MATCH(X442,referentes!$AX:$AX,0),1))","v":""},null,null,{"$f":"IF(AC442=\"\",\"\",INDEX(referentes!AZ:BA,MATCH(AC442,referentes!BA:BA,0),1))","v":""},null,null,null,null,null,null,null,null,null,null,null,null,null,null,{"$f":"IF(N442<>\"\",INDEX(referentes!$AK:$AM,MATCH(DATOS!M442,referentes!$AK:$AK,0),3),\"\")","v":""},null,null,{"$f":"IF(AS442=\"\",\"\",INDEX(referentes!P:Q,MATCH(AS442,referentes!Q:Q,0),1))","v":""},null,null,null,{"$f":"IF(AY442=\"\",\"\",INDEX(referentes!AB:AC,MATCH(AY442,referentes!AC:AC,0),1))","v":""},null,{"$f":"IF(BA442=\"\",\"\",INDEX(referentes!S:T,MATCH(BA442,referentes!T:T,0),1))","v":""},null,null,{"$f":"IF(AA442=\"\",\"\",INDEX(OtrasReferencias!$AM$7:$AN$9,MATCH(AA442,OtrasReferencias!$AM$7:$AM$9,0),2))","v":""}]
[null,null,"","",{"$f":"IF(T443=\"\",\"\",INDEX(referentes!G:H,MATCH(T443,referentes!H:H,0),1))","v":""},{"$f":"IF(V443=\"\",\"\",INDEX(referentes!$M:$N,MATCH(V443,referentes!$N:$N,0),1))","v":""},{"$f":"IF(W443=\"\",\"\",INDEX(referentes!J:K,MATCH(W443,referentes!K:K,0),1))","v":""},null,{"$f":"IF(Y443<>\"\",CONCATENATE($A$3,P443,DIGITADOR!$M$1,Y443,ROW()),\"\")","v":""},{"$f":"IF(Y443<>\"\",CONCATENATE(P443,INT(Q443*1440),DIGITADOR!$M$1,Y443),\"\")","v":""},null,{"$f":"IF(AO443<>\"\",INDEX(referentes!$Y:$Z,MATCH(DATOS!AO443,referentes!$Z:$Z,0),1),\"\")","v":""},"","",{"$f":"IF(R443=\"\",\"\",INDEX(referentes!D:E,MATCH(R443,referentes!E:E,0),1))","v":""},null,null,null,null,null,null,null,null,null,{"$f":"IF(X443=\"\",\"\",INDEX(referentes!$AT:$AX,MATCH(X443,referentes!$AX:$AX,0),1))","v":""},null,null,{"$f":"IF(AC443=\"\",\"\",INDEX(referentes!AZ:BA,MATCH(AC443,referentes!BA:BA,0),1))","v":""},null,null,null,null,null,null,null,null,null,null,null,null,null,null,{"$f":"IF(N443<>\"\",INDEX(referentes!$AK:$AM,MATCH(DATOS!M443,referentes!$AK:$AK,0),3),\"\")","v":""},null,null,{"$f":"IF(AS443=\"\",\"\",INDEX(referentes!P:Q,MATCH(AS443,referentes!Q:Q,0),1))","v":""},null,null,null,{"$f":"IF(AY443=\"\",\"\",INDEX(referentes!AB:AC,MATCH(AY443,referentes!AC:AC,0),1))","v":""},null,{"$f":"IF(BA443=\"\",\"\",INDEX(referentes!S:T,MATCH(BA443,referentes!T:T,0),1))","v":""},null,null,{"$f":"IF(AA443=\"\",\"\",INDEX(OtrasReferencias!$AM$7:$AN$9,MATCH(AA443,OtrasReferencias!$AM$7:$AM$9,0),2))","v":""}]
[null,null,"","",{"$f":"IF(T444=\"\",\"\",INDEX(referentes!G:H,MATCH(T444,referentes!H:H,0),1))","v":""},{"$f":"IF(V444=\"\",\"\",INDEX(referentes!$M:$N,MATCH(V444,referentes!$N:$N,0),1))","v":""},{"$f":"IF(W444=\"\",\"\",INDEX(referentes!J:K,MATCH(W444,referentes!K:K,0),1))","v":""},null,{"$f":"IF(Y444<>\"\",CONCATENATE($A$3,P444,DIGITADOR!$M$1,Y444,ROW()),\"\")","v":""},{"$f":"IF(Y444<>\"\",CONCATENATE(P444,INT(Q444*1440),DIGITADOR!$M$1,Y444),\"\")","v":""},null,{"$f":"IF(AO444<>\"\",INDEX(referentes!$Y:$Z,MATCH(DATOS!AO444,referentes!$Z:$Z,0),1),\"\")","v":""},"","",{"$f":"IF(R444=\"\",\"\",INDEX(referentes!D:E,MATCH(R444,referentes!E:E,0),1))","v":""},null,null,null,null,null,null,null,null,null,{"$f":"IF(X444=\"\",\"\",INDEX(referentes!$AT:$AX,MATCH(X444,referentes!$AX:$AX,0),1))","v":""},null,null,{"$f":"IF(AC444=\"\",\"\",INDEX(referentes!AZ:BA,MATCH(AC444,referentes!BA:BA,0),1))","v":""},null,null,null,null,null,null,null,null,null,null,null,null,null,null,{"$f":"IF(N444<>\"\",INDEX(referentes!$AK:$AM,MATCH(DATOS!M444,referentes!$AK:$AK,0),3),\"\")","v":""},null,null,{"$f":"IF(AS444=\"\",\"\",INDEX(referentes!P:Q,MATCH(AS444,referentes!Q:Q,0),1))","v":""},null,null,null,{"$f":"IF(AY444=\"\",\"\",INDEX(referentes!AB:AC,MATCH(AY444,referentes!AC:AC,0),1))","v":""},null,{"$f":"IF(BA444=\"\",\"\",INDEX(referentes!S:T,MATCH(BA444,referentes!T:T,0),1))","v":""},null,null,{"$f":"IF(AA444=\"\",\"\",INDEX(OtrasReferencias!$AM$7:$AN$9,MATCH(AA444,OtrasReferencias!$AM$7:$AM$9,0),2))","v":""}]
[null,null,"","",{"$f":"IF(T445=\"\",\"\",INDEX(referentes!G:H,MATCH(T445,referentes!H:H,0),1))","v":""},{"$f":"IF(V445=\"\",\"\",INDEX(referentes!$M:$N,MATCH(V445,referentes!$N:$N,0),1))","v":""},{"$f":"IF(W445=\"\",\"\",INDEX(referentes!J:K,MATCH(W445,referentes!K:K,0),1))","v":""},null,{"$f":"IF(Y445<>\"\",CONCATENATE($A$3,P445,DIGITADOR!$M$1,Y445,ROW()),\"\")","v":""},{"$f":"IF(Y445<>\"\",CONCATENATE(P445,INT(Q445*1440),DIGITADOR!$M$1,Y445),\"\")","v":""},null,{"$f":"IF(AO445<>\"\",INDEX(referentes!$Y:$Z,MATCH(DATOS!AO445,referentes!$Z:$Z,0),1),\"\")","v":""},"","",{"$f":"IF(R445=\"\",\"\",INDEX(referentes!D:E,MATCH(R445,referentes!E:E,0),1))","v":""},null,null,null,null,null,null,null,null,null,{"$f":"IF(X445=\"\",\"\",INDEX(referentes!$AT:$AX,MATCH(X445,referentes!$AX:$AX,0),1))","v":""},null,null,{"$f":"IF(AC445=\"\",\"\",INDEX(referentes!AZ:BA,MATCH(AC445,referentes!BA:BA,0),1))","v":""},null,null,null,null,null,null,null,null,null,null,null,null,null,null,{"$f":"IF(N445<>\"\",INDEX(referentes!$AK:$AM,MATCH(DATOS!M445,referentes!$AK:$AK,0),3),\"\")","v":""},null,null,{"$f":"IF(AS445=\"\",\"\",INDEX(referentes!P:Q,MATCH(AS445,referentes!Q:Q,0),1))","v":""},null,null,null,{"$f":"IF(AY445=\"\",\"\",INDEX(referentes!AB:AC,MATCH(AY445,referentes!AC:AC,0),1))","v":""},null,{"$f":"IF(BA445=\"\",\"\",INDEX(referentes!S:T,MATCH(BA445,referentes!T:T,0),1))","v":""},null,null,{"$f":"IF(AA445=\"\",\"\",INDEX(OtrasReferencias!$AM$7:$AN$9,MATCH(AA445,OtrasReferencias!$AM$7:$AM$9,0),2))","v":""}]
[null,null,"","",{"$f":"IF(T446=\"\",\"\",INDEX(referentes!G:H,MATCH(T446,referentes!H:H,0),1))","v":""},{"$f":"IF(V446=\"\",\"\",INDEX(referentes!$M:$N,MATCH(V446,referentes!$N:$N,0),1))","v":""},{"$f":"IF(W446=\"\",\"\",INDEX(referentes!J:K,MATCH(W446,referentes!K:K,0),1))","v":""},null,{"$f":"IF(Y446<>\"\",CONCATENATE($A$3,P446,DIGITADOR!$M$1,Y446,ROW()),\"\")","v":""},{"$f":"IF(Y446<>\"\",CONCATENATE(P446,INT(Q446*1440),DIGITADOR!$M$1,Y446),\"\")","v":""},null,{"$f":"IF(AO446<>\"\",INDEX(referentes!$Y:$Z,MATCH(DATOS!AO446,referentes!$Z:$Z,0),1),\"\")","v":""},"","",{"$f":"IF(R446=\"\",\"\",INDEX(referentes!D:E,MATCH(R446,referentes!E:E,0),1))","v":""},null,null,null,null,null,null,null,null,null,{"$f":"IF(X446=\"\",\"\",INDEX(referentes!$AT:$AX,MATCH(X446,referentes!$AX:$AX,0),1))","v":""},null,null,{"$f":"IF(AC446=\"\",\"\",INDEX(referentes!AZ:BA,MATCH(AC446,referentes!BA:BA,0),1))","v":""},null,null,null,null,null,null,null,null,null,null,null,null,null,null,{"$f":"IF(N446<>\"\",INDEX(referentes!$AK:$AM,MATCH(DATOS!M446,referentes!$AK:$AK,0),3),\"\")","v":""},null,null,{"$f":"IF(AS446=\"\",\"\",INDEX(referentes!P:Q,MATCH(AS446,referentes!Q:Q,0),1))","v":""},null,null,null,{"$f":"IF(AY446=\"\",\"\",INDEX(referentes!AB:AC,MATCH(AY446,referentes!AC:AC,0),1))","v":""},null,{"$f":"IF(BA446=\"\",\"\",INDEX(referentes!S:T,MATCH(BA446,referentes!T:T,0),1))","v":""},null,null,{"$f":"IF(AA446=\"\",\"\",INDEX(OtrasReferencias!$AM$7:$AN$9,MATCH(AA446,OtrasReferencias!$AM$7:$AM$9,0),2))","v":""}]
[null,null,"","",{"$f":"IF(T447=\"\",\"\",INDEX(referentes!G:H,MATCH(T447,referentes!H:H,0),1))","v":""},{"$f":"IF(V447=\"\",\"\",INDEX(referentes!$M:$N,MATCH(V447,referentes!$N:$N,0),1))","v":""},{"$f":"IF(W447=\"\",\"\",INDEX(referentes!J:K,MATCH(W447,referentes!K:K,0),1))","v":""},null,{"$f":"IF(Y447<>\"\",CONCATENATE($A$3,P447,DIGITADOR!$M$1,Y447,ROW()),\"\")","v":""},{"$f":"IF(Y447<>\"\",CONCATENATE(P447,INT(Q447*1440),DIGITADOR!$M$1,Y447),\"\")","v":""},null,{"$f":"IF(AO447<>\"\",INDEX(referentes!$Y:$Z,MATCH(DATOS!AO447,referentes!$Z:$Z,0),1),\"\")","v":""},"","",{"$f":"IF(R447=\"\",\"\",INDEX(referentes!D:E,MATCH(R447,referentes!E:E,0),1))","v":""},null,null,null,null,null,null,null,null,null,{"$f":"IF(X447=\"\",\"\",INDEX(referentes!$AT:$AX,MATCH(X447,referentes!$AX:$AX,0),1))","v":""},null,null,{"$f":"IF(AC447=\"\",\"\",INDEX(referentes!AZ:BA,MATCH(AC447,referentes!BA:BA,0),1))","v":""},null,null,null,null,null,null,null,null,null,null,null,null,null,null,{"$f":"IF(N447<>\"\",INDEX(referentes!$AK:$AM,MATCH(DATOS!M447,referentes!$AK:$AK,0),3),\"\")","v":""},null,null,{"$f":"IF(AS447=\"\",\"\",INDEX(referentes!P:Q,MATCH(AS447,referentes!Q:Q,0),1))","v":""},null,null,null,{"$f":"IF(AY447=\"\",\"\",INDEX(referentes!AB:AC,MATCH(AY447,referentes!AC:AC,0),1))","v":""},null,{"$f":"IF(BA447=\"\",\"\",INDEX(referentes!S:T,MATCH(BA447,referentes!T:T,0),1))","v":""},null,null,{"$f":"IF(AA447=\"\",\"\",INDEX(OtrasReferencias!$AM$7:$AN$9,MATCH(AA447,OtrasReferencias!$AM$7:$AM$9,0),2))","v":""}]
[null,null,"","",{"$f":"IF(T448=\"\",\"\",INDEX(referentes!G:H,MATCH(T448,referentes!H:H,0),1))","v":""},{"$f":"IF(V448=\"\",\"\",INDEX(referentes!$M:$N,MATCH(V448,referentes!$N:$N,0),1))","v":""},{"$f":"IF(W448=\"\",\"\",INDEX(referentes!J:K,MATCH(W448,referentes!K:K,0),1))","v":""},null,{"$f":"IF(Y448<>\"\",CONCATENATE($A$3,P448,DIGITADOR!$M$1,Y448,ROW()),\"\")","v":""},{"$f":"IF(Y448<>\"\",CONCATENATE(P448,INT(Q448*1440),DIGITADOR!$M$1,Y448),\"\")","v":""},null,{"$f":"IF(AO448<>\"\",INDEX(referentes!$Y:$Z,MATCH(DATOS!AO448,referentes!$Z:$Z,0),1),\"\")","v":""},"","",{"$f":"IF(R448=\"\",\"\",INDEX(referentes!D:E,MATCH(R448,referentes!E:E,0),1))","v":""},null,null,null,null,null,null,null,null,null,{"$f":"IF(X448=\"\",\"\",INDEX(referentes!$AT:$AX,MATCH(X448,referentes!$AX:$AX,0),1))","v":""},null,null,{"$f":"IF(AC448=\"\",\"\",INDEX(referentes!AZ:BA,MATCH(AC448,referentes!BA:BA,0),1))","v":""},null,null,null,null,null,null,null,null,null,null,null,null,null,null,{"$f":"IF(N448<>\"\",INDEX(referentes!$AK:$AM,MATCH(DATOS!M448,referentes!$AK:$AK,0),3),\"\")","v":""},null,null,{"$f":"IF(AS448=\"\",\"\",INDEX(referentes!P:Q,MATCH(AS448,referentes!Q:Q,0),1))","v":""},null,null,null,{"$f":"IF(AY448=\"\",\"\",INDEX(referentes!AB:AC,MATCH(AY448,referentes!AC:AC,0),1))","v":""},null,{"$f":"IF(BA448=\"\",\"\",INDEX(referentes!S:T,MATCH(BA448,referentes!T:T,0),1))","v":""},null,null,{"$f":"IF(AA448=\"\",\"\",INDEX(OtrasReferencias!$AM$7:$AN$9,MATCH(AA448,OtrasReferencias!$AM$7:$AM$9,0),2))","v":""}]
[null,null,"","",{"$f":"IF(T449=\"\",\"\",INDEX(referentes!G:H,MATCH(T449,referentes!H:H,0),1))","v":""},{"$f":"IF(V449=\"\",\"\",INDEX(referentes!$M:$N,MATCH(V449,referentes!$N:$N,0),1))","v":""},{"$f":"IF(W449=\"\",\"\",INDEX(referentes!J:K,MATCH(W449,referentes!K:K,0),1))","v":""},null,{"$f":"IF(Y449<>\"\",CONCATENATE($A$3,P449,DIGITADOR!$M$1,Y449,ROW()),\"\")","v":""},{"$f":"IF(Y449<>\"\",CONCATENATE(P449,INT(Q449*1440),DIGITADOR!$M$1,Y449),\"\")","v":""},null,{"$f":"IF(AO449<>\"\",INDEX(referentes!$Y:$Z,MATCH(DATOS!AO449,referentes!$Z:$Z,0),1),\"\")","v":""},"","",{"$f":"IF(R449=\"\",\"\",INDEX(referentes!D:E,MATCH(R449,referentes!E:E,0),1))","v":""},null,null,null,null,null,null,null,null,null,{"$f":"IF(X449=\"\",\"\",INDEX(referentes!$AT:$AX,MATCH(X449,referentes!$AX:$AX,0),1))","v":""},null,null,{"$f":"IF(AC449=\"\",\"\",INDEX(referentes!AZ:BA,MATCH(AC449,referentes!BA:BA,0),1))","v":""},null,null,null,null,null,null,null,null,null,null,null,null,null,null,{"$f":"IF(N449<>\"\",INDEX(referentes!$AK:$AM,MATCH(DATOS!M449,referentes!$AK:$AK,0),3),\"\")","v":""},null,null,{"$f":"IF(AS449=\"\",\"\",INDEX(referentes!P:Q,MATCH(AS449,referentes!Q:Q,0),1))","v":""},null,null,null,{"$f":"IF(AY449=\"\",\"\",INDEX(referentes!AB:AC,MATCH(AY449,referentes!AC:AC,0),1))","v":""},null,{"$f":"IF(BA449=\"\",\"\",INDEX(referentes!S:T,MATCH(BA449,referentes!T:T,0),1))","v":""},null,null,{"$f":"IF(AA449=\"\",\"\",INDEX(OtrasReferencias!$AM$7:$AN$9,MATCH(AA449,OtrasReferencias!$AM$7:$AM$9,0),2))","v":""}]
[null,null,"","",{"$f":"IF(T450=\"\",\"\",INDEX(referentes!G:H,MATCH(T450,referentes!H:H,0),1))","v":""},{"$f":"IF(V450=\"\",\"\",INDEX(referentes!$M:$N,MATCH(V450,referentes!$N:$N,0),1))","v":""},{"$f":"IF(W450=\"\",\"\",INDEX(referentes!J:K,MATCH(W450,referentes!K:K,0),1))","v":""},null,{"$f":"IF(Y450<>\"\",CONCATENATE($A$3,P450,DIGITADOR!$M$1,Y450,ROW()),\"\")","v":""},{"$f":"IF(Y450<>\"\",CONCATENATE(P450,INT(Q450*1440),DIGITADOR!$M$1,Y450),\"\")","v":""},null,{"$f":"IF(AO450<>\"\",INDEX(referentes!$Y:$Z,MATCH(DATOS!AO450,referentes!$Z:$Z,0),1),\"\")","v":""},"","",{"$f":"IF(R450=\"\",\"\",INDEX(referentes!D:E,MATCH(R450,referentes!E:E,0),1))","v":""},null,null,null,null,null,null,null,null,null,{"$f":"IF(X450=\"\",\"\",INDEX(referentes!$AT:$AX,MATCH(X450,referentes!$AX:$AX,0),1))","v":""},null,null,{"$f":"IF(AC450=\"\",\"\",INDEX(referentes!AZ:BA,MATCH(AC450,referentes!BA:BA,0),1))","v":""},null,null,null,null,null,null,null,null,null,null,null,null,null,null,{"$f":"IF(N450<>\"\",INDEX(referentes!$AK:$AM,MATCH(DATOS!M450,referentes!$AK:$AK,0),3),\"\")","v":""},null,null,{"$f":"IF(AS450=\"\",\"\",INDEX(referentes!P:Q,MATCH(AS450,referentes!Q:Q,0),1))","v":""},null,null,null,{"$f":"IF(AY450=\"\",\"\",INDEX(referentes!AB:AC,MATCH(AY450,referentes!AC:AC,0),1))","v":""},null,{"$f":"IF(BA450=\"\",\"\",INDEX(referentes!S:T,MATCH(BA450,referentes!T:T,0),1))","v":""},null,null,{"$f":"IF(AA450=\"\",\"\",INDEX(OtrasReferencias!$AM$7:$AN$9,MATCH(AA450,OtrasReferencias!$AM$7:$AM$9,0),2))","v":""}]
[null,null,"","",{"$f":"IF(T451=\"\",\"\",INDEX(referentes!G:H,MATCH(T451,referentes!H:H,0),1))","v":""},{"$f":"IF(V451=\"\",\"\",INDEX(referentes!$M:$N,MATCH(V451,referentes!$N:$N,0),1))","v":""},{"$f":"IF(W451=\"\",\"\",INDEX(referentes!J:K,MATCH(W451,referentes!K:K,0),1))","v":""},null,{"$f":"IF(Y451<>\"\",CONCATENATE($A$3,P451,DIGITADOR!$M$1,Y451,ROW()),\"\")","v":""},{"$f":"IF(Y451<>\"\",CONCATENATE(P451,INT(Q451*1440),DIGITADOR!$M$1,Y451),\"\")","v":""},null,{"$f":"IF(AO451<>\"\",INDEX(referentes!$Y:$Z,MATCH(DATOS!AO451,referentes!$Z:$Z,0),1),\"\")","v":""},"","",{"$f":"IF(R451=\"\",\"\",INDEX(referentes!D:E,MATCH(R451,referentes!E:E,0),1))","v":""},null,null,null,null,null,null,null,null,null,{"$f":"IF(X451=\"\",\"\",INDEX(referentes!$AT:$AX,MATCH(X451,referentes!$AX:$AX,0),1))","v":""},null,null,{"$f":"IF(AC451=\"\",\"\",INDEX(referentes!AZ:BA,MATCH(AC451,referentes!BA:BA,0),1))","v":""},null,null,null,null,null,null,null,null,null,null,null,null,null,null,{"$f":"IF(N451<>\"\",INDEX(referentes!$AK:$AM,MATCH(DATOS!M451,referentes!$AK:$AK,0),3),\"\")","v":""},null,null,{"$f":"IF(AS451=\"\",\"\",INDEX(referentes!P:Q,MATCH(AS451,referentes!Q:Q,0),1))","v":""},null,null,null,{"$f":"IF(AY451=\"\",\"\",INDEX(referentes!AB:AC,MATCH(AY451,referentes!AC:AC,0),1))","v":""},null,{"$f":"IF(BA451=\"\",\"\",INDEX(referentes!S:T,MATCH(BA451,referentes!T:T,0),1))","v":""},null,null,{"$f":"IF(AA451=\"\",\"\",INDEX(OtrasReferencias!$AM$7:$AN$9,MATCH(AA451,OtrasReferencias!$AM$7:$AM$9,0),2))","v":""}]
[null,null,"","",{"$f":"IF(T452=\"\",\"\",INDEX(referentes!G:H,MATCH(T452,referentes!H:H,0),1))","v":""},{"$f":"IF(V452=\"\",\"\",INDEX(referentes!$M:$N,MATCH(V452,referentes!$N:$N,0),1))","v":""},{"$f":"IF(W452=\"\",\"\",INDEX(referentes!J:K,MATCH(W452,referentes!K:K,0),1))","v":""},null,{"$f":"IF(Y452<>\"\",CONCATENATE($A$3,P452,DIGITADOR!$M$1,Y452,ROW()),\"\")","v":""},{"$f":"IF(Y452<>\"\",CONCATENATE(P452,INT(Q452*1440),DIGITADOR!$M$1,Y452),\"\")","v":""},null,{"$f":"IF(AO452<>\"\",INDEX(referentes!$Y:$Z,MATCH(DATOS!AO452,referentes!$Z:$Z,0),1),\"\")","v":""},"","",{"$f":"IF(R452=\"\",\"\",INDEX(referentes!D:E,MATCH(R452,referentes!E:E,0),1))","v":""},null,null,null,null,null,null,null,null,null,{"$f":"IF(X452=\"\",\"\",INDEX(referentes!$AT:$AX,MATCH(X452,referentes!$AX:$AX,0),1))","v":""},null,null,{"$f":"IF(AC452=\"\",\"\",INDEX(referentes!AZ:BA,MATCH(AC452,referentes!BA:BA,0),1))","v":""},null,null,null,null,null,null,null,null,null,null,null,null,null,null,{"$f":"IF(N452<>\"\",INDEX(referentes!$AK:$AM,MATCH(DATOS!M452,referentes!$AK:$AK,0),3),\"\")","v":""},null,null,{"$f":"IF(AS452=\"\",\"\",INDEX(referentes!P:Q,MATCH(AS452,referentes!Q:Q,0),1))","v":""},null,null,null,{"$f":"IF(AY452=\"\",\"\",INDEX(referentes!AB:AC,MATCH(AY452,referentes!AC:AC,0),1))","v":""},null,{"$f":"IF(BA452=\"\",\"\",INDEX(referentes!S:T,MATCH(BA452,referentes!T:T,0),1))","v":""},null,null,{"$f":"IF(AA452=\"\",\"\",INDEX(OtrasReferencias!$AM$7:$AN$9,MATCH(AA452,OtrasReferencias!$AM$7:$AM$9,0),2))","v":""}]
[null,null,"",{"$f":"IF(P453<>\"\",P453+Q453,\"\")","v":""},{"$f":"IF(T453=\"\",\"\",INDEX(referentes!G:H,MATCH(T453,referentes!H:H,0),1))","v":""},{"$f":"IF(V453=\"\",\"\",INDEX(referentes!$M:$N,MATCH(V453,referentes!$N:$N,0),1))","v":""},{"$f":"IF(W453=\"\",\"\",INDEX(referentes!J:K,MATCH(W453,referentes!K:K,0),1))","v":""},null,{"$f":"IF(Y453<>\"\",CONCATENATE($A$3,P453,DIGITADOR!$M$1,Y453,ROW()),\"\")","v":""},{"$f":"IF(Y453<>\"\",CONCATENATE(P453,INT(Q453*1440),DIGITADOR!$M$1,Y453),\"\")","v":""},null,{"$f":"IF(AO453<>\"\",INDEX(referentes!$Y:$Z,MATCH(DATOS!AO453,referentes!$Z:$Z,0),1),\"\")","v":""},{"$f":"TRIM(UPPER(IF(AL453<>\"\",AL453,IF(AK453<>\"\",AK453,(IF(AJ453<>\"\",AJ453,IF(AI453<>\"\",AI453,IF(AH453<>\"\",AH453,AG453))))))))","v":""},{"$f":"TRIM(UPPER(CONCATENATE(AG453,\" \",AH453,\" \",AI453,\" \",AJ453,\" \",AK453,\" \",AL453)))","v":""},{"$f":"IF(R453=\"\",\"\",INDEX(referentes!D:E,MATCH(R453,referentes!E:E,0),1))","v":""},null,null,null,null,null,null,null,null,null,{"$f":"IF(X453=\"\",\"\",INDEX(referentes!$AT:$AX,MATCH(X453,referentes!$AX:$AX,0),1))","v":""},null,null,{"$f":"IF(AC453=\"\",\"\",INDEX(referentes!AZ:BA,MATCH(AC453,referentes!BA:BA,0),1))","v":""},null,null,null,null,null,null,null,null,null,null,null,null,null,null,{"$f":"IF(N453<>\"\",INDEX(referentes!$AK:$AM,MATCH(DATOS!M453,referentes!$AK:$AK,0),3),\"\")","v":""},null,null,{"$f":"IF(AS453=\"\",\"\",INDEX(referentes!P:Q,MATCH(AS453,referentes!Q:Q,0),1))","v":""},null,null,null,{"$f":"IF(AY453=\"\",\"\",INDEX(referentes!AB:AC,MATCH(AY453,referentes!AC:AC,0),1))","v":""},null,{"$f":"IF(BA453=\"\",\"\",INDEX(referentes!S:T,MATCH(BA453,referentes!T:T,0),1))","v":""},null,null,{"$f":"IF(AA453=\"\",\"\",INDEX(OtrasReferencias!$AM$7:$AN$9,MATCH(AA453,OtrasReferencias!$AM$7:$AM$9,0),2))","v":""}]
[null,null,{"$f":"IF(J454=\"\",\"\",IF(J454=J453,\"\",J454))","v":""},"",{"$f":"IF(T454=\"\",\"\",INDEX(referentes!G:H,MATCH(T454,referentes!H:H,0),1))","v":""},{"$f":"IF(V454=\"\",\"\",INDEX(referentes!$M:$N,MATCH(V454,referentes!$N:$N,0),1))","v":""},{"$f":"IF(W454=\"\",\"\",INDEX(referentes!J:K,MATCH(W454,referentes!K:K,0),1))","v":""},null,{"$f":"IF(Y454<>\"\",CONCATENATE($A$3,P454,DIGITADOR!$M$1,Y454,ROW()),\"\")","v":""},{"$f":"IF(Y454<>\"\",CONCATENATE(P454,INT(Q454*1440),DIGITADOR!$M$1,Y454),\"\")","v":""},null,{"$f":"IF(AO454<>\"\",INDEX(referentes!$Y:$Z,MATCH(DATOS!AO454,referentes!$Z:$Z,0),1),\"\")","v":""},"","",{"$f":"IF(R454=\"\",\"\",INDEX(referentes!D:E,MATCH(R454,referentes!E:E,0),1))","v":""},null,null,null,null,null,null,null,null,null,{"$f":"IF(X454=\"\",\"\",INDEX(referentes!$AT:$AX,MATCH(X454,referentes!$AX:$AX,0),1))","v":""},null,null,{"$f":"IF(AC454=\"\",\"\",INDEX(referentes!AZ:BA,MATCH(AC454,referentes!BA:BA,0),1))","v":""},null,null,null,null,null,null,null,null,null,null,null,null,null,null,{"$f":"IF(N454<>\"\",INDEX(referentes!$AK:$AM,MATCH(DATOS!M454,referentes!$AK:$AK,0),3),\"\")","v":""},null,null,{"$f":"IF(AS454=\"\",\"\",INDEX(referentes!P:Q,MATCH(AS454,referentes!Q:Q,0),1))","v":""},null,null,null,{"$f":"IF(AY454=\"\",\"\",INDEX(referentes!AB:AC,MATCH(AY454,referentes!AC:AC,0),1))","v":""},null,{"$f":"IF(BA454=\"\",\"\",INDEX(referentes!S:T,MATCH(BA454,referentes!T:T,0),1))","v":""},null,null,{"$f":"IF(AA454=\"\",\"\",INDEX(OtrasReferencias!$AM$7:$AN$9,MATCH(AA454,OtrasReferencias!$AM$7:$AM$9,0),2))","v":""}]
[null,null,"","",{"$f":"IF(T455=\"\",\"\",INDEX(referentes!G:H,MATCH(T455,referentes!H:H,0),1))","v":""},{"$f":"IF(V455=\"\",\"\",INDEX(referentes!$M:$N,MATCH(V455,referentes!$N:$N,0),1))","v":""},{"$f":"IF(W455=\"\",\"\",INDEX(referentes!J:K,MATCH(W455,referentes!K:K,0),1))","v":""},null,{"$f":"IF(Y455<>\"\",CONCATENATE($A$3,P455,DIGITADOR!$M$1,Y455,ROW()),\"\")","v":""},{"$f":"IF(Y455<>\"\",CONCATENATE(P455,INT(Q455*1440),DIGITADOR!$M$1,Y455),\"\")","v":""},null,{"$f":"IF(AO455<>\"\",INDEX(referentes!$Y:$Z,MATCH(DATOS!AO455,referentes!$Z:$Z,0),1),\"\")","v":""},"","",{"$f":"IF(R455=\"\",\"\",INDEX(referentes!D:E,MATCH(R455,referentes!E:E,0),1))","v":""},null,null,null,null,null,null,null,null,null,{"$f":"IF(X455=\"\",\"\",INDEX(referentes!$AT:$AX,MATCH(X455,referentes!$AX:$AX,0),1))","v":""},null,null,{"$f":"IF(AC455=\"\",\"\",INDEX(referentes!AZ:BA,MATCH(AC455,referentes!BA:BA,0),1))","v":""},null,null,null,null,null,null,null,null,null,null,null,null,null,null,{"$f":"IF(N455<>\"\",INDEX(referentes!$AK:$AM,MATCH(DATOS!M455,referentes!$AK:$AK,0),3),\"\")","v":""},null,null,{"$f":"IF(AS455=\"\",\"\",INDEX(referentes!P:Q,MATCH(AS455,referentes!Q:Q,0),1))","v":""},null,null,null,{"$f":"IF(AY455=\"\",\"\",INDEX(referentes!AB:AC,MATCH(AY455,referentes!AC:AC,0),1))","v":""},null,{"$f":"IF(BA455=\"\",\"\",INDEX(referentes!S:T,MATCH(BA455,referentes!T:T,0),1))","v":""},null,null,{"$f":"IF(AA455=\"\",\"\",INDEX(OtrasReferencias!$AM$7:$AN$9,MATCH(AA455,OtrasReferencias!$AM$7:$AM$9,0),2))","v":""}]
[null,null,"","",{"$f":"IF(T456=\"\",\"\",INDEX(referentes!G:H,MATCH(T456,referentes!H:H,0),1))","v":""},{"$f":"IF(V456=\"\",\"\",INDEX(referentes!$M:$N,MATCH(V456,referentes!$N:$N,0),1))","v":""},{"$f":"IF(W456=\"\",\"\",INDEX(referentes!J:K,MATCH(W456,referentes!K:K,0),1))","v":""},null,{"$f":"IF(Y456<>\"\",CONCATENATE($A$3,P456,DIGITADOR!$M$1,Y456,ROW()),\"\")","v":""},{"$f":"IF(Y456<>\"\",CONCATENATE(P456,INT(Q456*1440),DIGITADOR!$M$1,Y456),\"\")","v":""},null,{"$f":"IF(AO456<>\"\",INDEX(referentes!$Y:$Z,MATCH(DATOS!AO456,referentes!$Z:$Z,0),1),\"\")","v":""},"","",{"$f":"IF(R456=\"\",\"\",INDEX(referentes!D:E,MATCH(R456,referentes!E:E,0),1))","v":""},null,null,null,null,null,null,null,null,null,{"$f":"IF(X456=\"\",\"\",INDEX(referentes!$AT:$AX,MATCH(X456,referentes!$AX:$AX,0),1))","v":""},null,null,{"$f":"IF(AC456=\"\",\"\",INDEX(referentes!AZ:BA,MATCH(AC456,referentes!BA:BA,0),1))","v":""},null,null,null,null,null,null,null,null,null,null,null,null,null,null,{"$f":"IF(N456<>\"\",INDEX(referentes!$AK:$AM,MATCH(DATOS!M456,referentes!$AK:$AK,0),3),\"\")","v":""},null,null,{"$f":"IF(AS456=\"\",\"\",INDEX(referentes!P:Q,MATCH(AS456,referentes!Q:Q,0),1))","v":""},null,null,null,{"$f":"IF(AY456=\"\",\"\",INDEX(referentes!AB:AC,MATCH(AY456,referentes!AC:AC,0),1))","v":""},null,{"$f":"IF(BA456=\"\",\"\",INDEX(referentes!S:T,MATCH(BA456,referentes!T:T,0),1))","v":""},null,null,{"$f":"IF(AA456=\"\",\"\",INDEX(OtrasReferencias!$AM$7:$AN$9,MATCH(AA456,OtrasReferencias!$AM$7:$AM$9,0),2))","v":""}]
[null,null,"","",{"$f":"IF(T457=\"\",\"\",INDEX(referentes!G:H,MATCH(T457,referentes!H:H,0),1))","v":""},{"$f":"IF(V457=\"\",\"\",INDEX(referentes!$M:$N,MATCH(V457,referentes!$N:$N,0),1))","v":""},{"$f":"IF(W457=\"\",\"\",INDEX(referentes!J:K,MATCH(W457,referentes!K:K,0),1))","v":""},null,{"$f":"IF(Y457<>\"\",CONCATENATE($A$3,P457,DIGITADOR!$M$1,Y457,ROW()),\"\")","v":""},{"$f":"IF(Y457<>\"\",CONCATENATE(P457,INT(Q457*1440),DIGITADOR!$M$1,Y457),\"\")","v":""},null,{"$f":"IF(AO457<>\"\",INDEX(referentes!$Y:$Z,MATCH(DATOS!AO457,referentes!$Z:$Z,0),1),\"\")","v":""},"","",{"$f":"IF(R457=\"\",\"\",INDEX(referentes!D:E,MATCH(R457,referentes!E:E,0),1))","v":""},null,null,null,null,null,null,null,null,null,{"$f":"IF(X457=\"\",\"\",INDEX(referentes!$AT:$AX,MATCH(X457,referentes!$AX:$AX,0),1))","v":""},null,null,{"$f":"IF(AC457=\"\",\"\",INDEX(referentes!AZ:BA,MATCH(AC457,referentes!BA:BA,0),1))","v":""},null,null,null,null,null,null,null,null,null,null,null,null,null,null,{"$f":"IF(N457<>\"\",INDEX(referentes!$AK:$AM,MATCH(DATOS!M457,referentes!$AK:$AK,0),3),\"\")","v":""},null,null,{"$f":"IF(AS457=\"\",\"\",INDEX(referentes!P:Q,MATCH(AS457,referentes!Q:Q,0),1))","v":""},null,null,null,{"$f":"IF(AY457=\"\",\"\",INDEX(referentes!AB:AC,MATCH(AY457,referentes!AC:AC,0),1))","v":""},null,{"$f":"IF(BA457=\"\",\"\",INDEX(referentes!S:T,MATCH(BA457,referentes!T:T,0),1))","v":""},null,null,{"$f":"IF(AA457=\"\",\"\",INDEX(OtrasReferencias!$AM$7:$AN$9,MATCH(AA457,OtrasReferencias!$AM$7:$AM$9,0),2))","v":""}]
[null,null,"","",{"$f":"IF(T458=\"\",\"\",INDEX(referentes!G:H,MATCH(T458,referentes!H:H,0),1))","v":""},{"$f":"IF(V458=\"\",\"\",INDEX(referentes!$M:$N,MATCH(V458,referentes!$N:$N,0),1))","v":""},{"$f":"IF(W458=\"\",\"\",INDEX(referentes!J:K,MATCH(W458,referentes!K:K,0),1))","v":""},null,{"$f":"IF(Y458<>\"\",CONCATENATE($A$3,P458,DIGITADOR!$M$1,Y458,ROW()),\"\")","v":""},{"$f":"IF(Y458<>\"\",CONCATENATE(P458,INT(Q458*1440),DIGITADOR!$M$1,Y458),\"\")","v":""},null,{"$f":"IF(AO458<>\"\",INDEX(referentes!$Y:$Z,MATCH(DATOS!AO458,referentes!$Z:$Z,0),1),\"\")","v":""},"","",{"$f":"IF(R458=\"\",\"\",INDEX(referentes!D:E,MATCH(R458,referentes!E:E,0),1))","v":""},null,null,null,null,null,null,null,null,null,{"$f":"IF(X458=\"\",\"\",INDEX(referentes!$AT:$AX,MATCH(X458,referentes!$AX:$AX,0),1))","v":""},null,null,{"$f":"IF(AC458=\"\",\"\",INDEX(referentes!AZ:BA,MATCH(AC458,referentes!BA:BA,0),1))","v":""},null,null,null,null,null,null,null,null,null,null,null,null,null,null,{"$f":"IF(N458<>\"\",INDEX(referentes!$AK:$AM,MATCH(DATOS!M458,referentes!$AK:$AK,0),3),\"\")","v":""},null,null,{"$f":"IF(AS458=\"\",\"\",INDEX(referentes!P:Q,MATCH(AS458,referentes!Q:Q,0),1))","v":""},null,null,null,{"$f":"IF(AY458=\"\",\"\",INDEX(referentes!AB:AC,MATCH(AY458,referentes!AC:AC,0),1))","v":""},null,{"$f":"IF(BA458=\"\",\"\",INDEX(referentes!S:T,MATCH(BA458,referentes!T:T,0),1))","v":""},null,null,{"$f":"IF(AA458=\"\",\"\",INDEX(OtrasReferencias!$AM$7:$AN$9,MATCH(AA458,OtrasReferencias!$AM$7:$AM$9,0),2))","v":""}]
[null,null,"","",{"$f":"IF(T459=\"\",\"\",INDEX(referentes!G:H,MATCH(T459,referentes!H:H,0),1))","v":""},{"$f":"IF(V459=\"\",\"\",INDEX(referentes!$M:$N,MATCH(V459,referentes!$N:$N,0),1))","v":""},{"$f":"IF(W459=\"\",\"\",INDEX(referentes!J:K,MATCH(W459,referentes!K:K,0),1))","v":""},null,{"$f":"IF(Y459<>\"\",CONCATENATE($A$3,P459,DIGITADOR!$M$1,Y459,ROW()),\"\")","v":""},{"$f":"IF(Y459<>\"\",CONCATENATE(P459,INT(Q459*1440),DIGITADOR!$M$1,Y459),\"\")","v":""},null,{"$f":"IF(AO459<>\"\",INDEX(referentes!$Y:$Z,MATCH(DATOS!AO459,referentes!$Z:$Z,0),1),\"\")","v":""},"","",{"$f":"IF(R459=\"\",\"\",INDEX(referentes!D:E,MATCH(R459,referentes!E:E,0),1))","v":""},null,null,null,null,null,null,null,null,null,{"$f":"IF(X459=\"\",\"\",INDEX(referentes!$AT:$AX,MATCH(X459,referentes!$AX:$AX,0),1))","v":""},null,null,{"$f":"IF(AC459=\"\",\"\",INDEX(referentes!AZ:BA,MATCH(AC459,referentes!BA:BA,0),1))","v":""},null,null,null,null,null,null,null,null,null,null,null,null,null,null,{"$f":"IF(N459<>\"\",INDEX(referentes!$AK:$AM,MATCH(DATOS!M459,referentes!$AK:$AK,0),3),\"\")","v":""},null,null,{"$f":"IF(AS459=\"\",\"\",INDEX(referentes!P:Q,MATCH(AS459,referentes!Q:Q,0),1))","v":""},null,null,null,{"$f":"IF(AY459=\"\",\"\",INDEX(referentes!AB:AC,MATCH(AY459,referentes!AC:AC,0),1))","v":""},null,{"$f":"IF(BA459=\"\",\"\",INDEX(referentes!S:T,MATCH(BA459,referentes!T:T,0),1))","v":""},null,null,{"$f":"IF(AA459=\"\",\"\",INDEX(OtrasReferencias!$AM$7:$AN$9,MATCH(AA459,OtrasReferencias!$AM$7:$AM$9,0),2))","v":""}]
[null,null,"","",{"$f":"IF(T460=\"\",\"\",INDEX(referentes!G:H,MATCH(T460,referentes!H:H,0),1))","v":""},{"$f":"IF(V460=\"\",\"\",INDEX(referentes!$M:$N,MATCH(V460,referentes!$N:$N,0),1))","v":""},{"$f":"IF(W460=\"\",\"\",INDEX(referentes!J:K,MATCH(W460,referentes!K:K,0),1))","v":""},null,{"$f":"IF(Y460<>\"\",CONCATENATE($A$3,P460,DIGITADOR!$M$1,Y460,ROW()),\"\")","v":""},{"$f":"IF(Y460<>\"\",CONCATENATE(P460,INT(Q460*1440),DIGITADOR!$M$1,Y460),\"\")","v":""},null,{"$f":"IF(AO460<>\"\",INDEX(referentes!$Y:$Z,MATCH(DATOS!AO460,referentes!$Z:$Z,0),1),\"\")","v":""},"","",{"$f":"IF(R460=\"\",\"\",INDEX(referentes!D:E,MATCH(R460,referentes!E:E,0),1))","v":""},null,null,null,null,null,null,null,null,null,{"$f":"IF(X460=\"\",\"\",INDEX(referentes!$AT:$AX,MATCH(X460,referentes!$AX:$AX,0),1))","v":""},null,null,{"$f":"IF(AC460=\"\",\"\",INDEX(referentes!AZ:BA,MATCH(AC460,referentes!BA:BA,0),1))","v":""},null,null,null,null,null,null,null,null,null,null,null,null,null,null,{"$f":"IF(N460<>\"\",INDEX(referentes!$AK:$AM,MATCH(DATOS!M460,referentes!$AK:$AK,0),3),\"\")","v":""},null,null,{"$f":"IF(AS460=\"\",\"\",INDEX(referentes!P:Q,MATCH(AS460,referentes!Q:Q,0),1))","v":""},null,null,null,{"$f":"IF(AY460=\"\",\"\",INDEX(referentes!AB:AC,MATCH(AY460,referentes!AC:AC,0),1))","v":""},null,{"$f":"IF(BA460=\"\",\"\",INDEX(referentes!S:T,MATCH(BA460,referentes!T:T,0),1))","v":""},null,null,{"$f":"IF(AA460=\"\",\"\",INDEX(OtrasReferencias!$AM$7:$AN$9,MATCH(AA460,OtrasReferencias!$AM$7:$AM$9,0),2))","v":""}]
[null,null,"","",{"$f":"IF(T461=\"\",\"\",INDEX(referentes!G:H,MATCH(T461,referentes!H:H,0),1))","v":""},{"$f":"IF(V461=\"\",\"\",INDEX(referentes!$M:$N,MATCH(V461,referentes!$N:$N,0),1))","v":""},{"$f":"IF(W461=\"\",\"\",INDEX(referentes!J:K,MATCH(W461,referentes!K:K,0),1))","v":""},null,{"$f":"IF(Y461<>\"\",CONCATENATE($A$3,P461,DIGITADOR!$M$1,Y461,ROW()),\"\")","v":""},{"$f":"IF(Y461<>\"\",CONCATENATE(P461,INT(Q461*1440),DIGITADOR!$M$1,Y461),\"\")","v":""},null,{"$f":"IF(AO461<>\"\",INDEX(referentes!$Y:$Z,MATCH(DATOS!AO461,referentes!$Z:$Z,0),1),\"\")","v":""},"","",{"$f":"IF(R461=\"\",\"\",INDEX(referentes!D:E,MATCH(R461,referentes!E:E,0),1))","v":""},null,null,null,null,null,null,null,null,null,{"$f":"IF(X461=\"\",\"\",INDEX(referentes!$AT:$AX,MATCH(X461,referentes!$AX:$AX,0),1))","v":""},null,null,{"$f":"IF(AC461=\"\",\"\",INDEX(referentes!AZ:BA,MATCH(AC461,referentes!BA:BA,0),1))","v":""},null,null,null,null,null,null,null,null,null,null,null,null,null,null,{"$f":"IF(N461<>\"\",INDEX(referentes!$AK:$AM,MATCH(DATOS!M461,referentes!$AK:$AK,0),3),\"\")","v":""},null,null,{"$f":"IF(AS461=\"\",\"\",INDEX(referentes!P:Q,MATCH(AS461,referentes!Q:Q,0),1))","v":""},null,null,null,{"$f":"IF(AY461=\"\",\"\",INDEX(referentes!AB:AC,MATCH(AY461,referentes!AC:AC,0),1))","v":""},null,{"$f":"IF(BA461=\"\",\"\",INDEX(referentes!S:T,MATCH(BA461,referentes!T:T,0),1))","v":""},null,null,{"$f":"IF(AA461=\"\",\"\",INDEX(OtrasReferencias!$AM$7:$AN$9,MATCH(AA461,OtrasReferencias!$AM$7:$AM$9,0),2))","v":""}]
[null,null,"","",{"$f":"IF(T462=\"\",\"\",INDEX(referentes!G:H,MATCH(T462,referentes!H:H,0),1))","v":""},{"$f":"IF(V462=\"\",\"\",INDEX(referentes!$M:$N,MATCH(V462,referentes!$N:$N,0),1))","v":""},{"$f":"IF(W462=\"\",\"\",INDEX(referentes!J:K,MATCH(W462,referentes!K:K,0),1))","v":""},null,{"$f":"IF(Y462<>\"\",CONCATENATE($A$3,P462,DIGITADOR!$M$1,Y462,ROW()),\"\")","v":""},{"$f":"IF(Y462<>\"\",CONCATENATE(P462,INT(Q462*1440),DIGITADOR!$M$1,Y462),\"\")","v":""},null,{"$f":"IF(AO462<>\"\",INDEX(referentes!$Y:$Z,MATCH(DATOS!AO462,referentes!$Z:$Z,0),1),\"\")","v":""},"","",{"$f":"IF(R462=\"\",\"\",INDEX(referentes!D:E,MATCH(R462,referentes!E:E,0),1))","v":""},null,null,null,null,null,null,null,null,null,{"$f":"IF(X462=\"\",\"\",INDEX(referentes!$AT:$AX,MATCH(X462,referentes!$AX:$AX,0),1))","v":""},null,null,{"$f":"IF(AC462=\"\",\"\",INDEX(referentes!AZ:BA,MATCH(AC462,referentes!BA:BA,0),1))","v":""},null,null,null,null,null,null,null,null,null,null,null,null,null,null,{"$f":"IF(N462<>\"\",INDEX(referentes!$AK:$AM,MATCH(DATOS!M462,referentes!$AK:$AK,0),3),\"\")","v":""},null,null,{"$f":"IF(AS462=\"\",\"\",INDEX(referentes!P:Q,MATCH(AS462,referentes!Q:Q,0),1))","v":""},null,null,null,{"$f":"IF(AY462=\"\",\"\",INDEX(referentes!AB:AC,MATCH(AY462,referentes!AC:AC,0),1))","v":""},null,{"$f":"IF(BA462=\"\",\"\",INDEX(referentes!S:T,MATCH(BA462,referentes!T:T,0),1))","v":""},null,null,{"$f":"IF(AA462=\"\",\"\",INDEX(OtrasReferencias!$AM$7:$AN$9,MATCH(AA462,OtrasReferencias!$AM$7:$AM$9,0),2))","v":""}]
[null,null,"","",{"$f":"IF(T463=\"\",\"\",INDEX(referentes!G:H,MATCH(T463,referentes!H:H,0),1))","v":""},{"$f":"IF(V463=\"\",\"\",INDEX(referentes!$M:$N,MATCH(V463,referentes!$N:$N,0),1))","v":""},{"$f":"IF(W463=\"\",\"\",INDEX(referentes!J:K,MATCH(W463,referentes!K:K,0),1))","v":""},null,{"$f":"IF(Y463<>\"\",CONCATENATE($A$3,P463,DIGITADOR!$M$1,Y463,ROW()),\"\")","v":""},{"$f":"IF(Y463<>\"\",CONCATENATE(P463,INT(Q463*1440),DIGITADOR!$M$1,Y463),\"\")","v":""},null,{"$f":"IF(AO463<>\"\",INDEX(referentes!$Y:$Z,MATCH(DATOS!AO463,referentes!$Z:$Z,0),1),\"\")","v":""},"","",{"$f":"IF(R463=\"\",\"\",INDEX(referentes!D:E,MATCH(R463,referentes!E:E,0),1))","v":""},null,null,null,null,null,null,null,null,null,{"$f":"IF(X463=\"\",\"\",INDEX(referentes!$AT:$AX,MATCH(X463,referentes!$AX:$AX,0),1))","v":""},null,null,{"$f":"IF(AC463=\"\",\"\",INDEX(referentes!AZ:BA,MATCH(AC463,referentes!BA:BA,0),1))","v":""},null,null,null,null,null,null,null,null,null,null,null,null,null,null,{"$f":"IF(N463<>\"\",INDEX(referentes!$AK:$AM,MATCH(DATOS!M463,referentes!$AK:$AK,0),3),\"\")","v":""},null,null,{"$f":"IF(AS463=\"\",\"\",INDEX(referentes!P:Q,MATCH(AS463,referentes!Q:Q,0),1))","v":""},null,null,null,{"$f":"IF(AY463=\"\",\"\",INDEX(referentes!AB:AC,MATCH(AY463,referentes!AC:AC,0),1))","v":""},null,{"$f":"IF(BA463=\"\",\"\",INDEX(referentes!S:T,MATCH(BA463,referentes!T:T,0),1))","v":""},null,null,{"$f":"IF(AA463=\"\",\"\",INDEX(OtrasReferencias!$AM$7:$AN$9,MATCH(AA463,OtrasReferencias!$AM$7:$AM$9,0),2))","v":""}]
[null,null,"","",{"$f":"IF(T464=\"\",\"\",INDEX(referentes!G:H,MATCH(T464,referentes!H:H,0),1))","v":""},{"$f":"IF(V464=\"\",\"\",INDEX(referentes!$M:$N,MATCH(V464,referentes!$N:$N,0),1))","v":""},{"$f":"IF(W464=\"\",\"\",INDEX(referentes!J:K,MATCH(W464,referentes!K:K,0),1))","v":""},null,{"$f":"IF(Y464<>\"\",CONCATENATE($A$3,P464,DIGITADOR!$M$1,Y464,ROW()),\"\")","v":""},{"$f":"IF(Y464<>\"\",CONCATENATE(P464,INT(Q464*1440),DIGITADOR!$M$1,Y464),\"\")","v":""},null,{"$f":"IF(AO464<>\"\",INDEX(referentes!$Y:$Z,MATCH(DATOS!AO464,referentes!$Z:$Z,0),1),\"\")","v":""},"","",{"$f":"IF(R464=\"\",\"\",INDEX(referentes!D:E,MATCH(R464,referentes!E:E,0),1))","v":""},null,null,null,null,null,null,null,null,null,{"$f":"IF(X464=\"\",\"\",INDEX(referentes!$AT:$AX,MATCH(X464,referentes!$AX:$AX,0),1))","v":""},null,null,{"$f":"IF(AC464=\"\",\"\",INDEX(referentes!AZ:BA,MATCH(AC464,referentes!BA:BA,0),1))","v":""},null,null,null,null,null,null,null,null,null,null,null,null,null,null,{"$f":"IF(N464<>\"\",INDEX(referentes!$AK:$AM,MATCH(DATOS!M464,referentes!$AK:$AK,0),3),\"\")","v":""},null,null,{"$f":"IF(AS464=\"\",\"\",INDEX(referentes!P:Q,MATCH(AS464,referentes!Q:Q,0),1))","v":""},null,null,null,{"$f":"IF(AY464=\"\",\"\",INDEX(referentes!AB:AC,MATCH(AY464,referentes!AC:AC,0),1))","v":""},null,{"$f":"IF(BA464=\"\",\"\",INDEX(referentes!S:T,MATCH(BA464,referentes!T:T,0),1))","v":""},null,null,{"$f":"IF(AA464=\"\",\"\",INDEX(OtrasReferencias!$AM$7:$AN$9,MATCH(AA464,OtrasReferencias!$AM$7:$AM$9,0),2))","v":""}]
[null,null,"","",{"$f":"IF(T465=\"\",\"\",INDEX(referentes!G:H,MATCH(T465,referentes!H:H,0),1))","v":""},{"$f":"IF(V465=\"\",\"\",INDEX(referentes!$M:$N,MATCH(V465,referentes!$N:$N,0),1))","v":""},{"$f":"IF(W465=\"\",\"\",INDEX(referentes!J:K,MATCH(W465,referentes!K:K,0),1))","v":""},null,{"$f":"IF(Y465<>\"\",CONCATENATE($A$3,P465,DIGITADOR!$M$1,Y465,ROW()),\"\")","v":""},{"$f":"IF(Y465<>\"\",CONCATENATE(P465,INT(Q465*1440),DIGITADOR!$M$1,Y465),\"\")","v":""},null,{"$f":"IF(AO465<>\"\",INDEX(referentes!$Y:$Z,MATCH(DATOS!AO465,referentes!$Z:$Z,0),1),\"\")","v":""},"","",{"$f":"IF(R465=\"\",\"\",INDEX(referentes!D:E,MATCH(R465,referentes!E:E,0),1))","v":""},null,null,null,null,null,null,null,null,null,{"$f":"IF(X465=\"\",\"\",INDEX(referentes!$AT:$AX,MATCH(X465,referentes!$AX:$AX,0),1))","v":""},null,null,{"$f":"IF(AC465=\"\",\"\",INDEX(referentes!AZ:BA,MATCH(AC465,referentes!BA:BA,0),1))","v":""},null,null,null,null,null,null,null,null,null,null,null,null,null,null,{"$f":"IF(N465<>\"\",INDEX(referentes!$AK:$AM,MATCH(DATOS!M465,referentes!$AK:$AK,0),3),\"\")","v":""},null,null,{"$f":"IF(AS465=\"\",\"\",INDEX(referentes!P:Q,MATCH(AS465,referentes!Q:Q,0),1))","v":""},null,null,null,{"$f":"IF(AY465=\"\",\"\",INDEX(referentes!AB:AC,MATCH(AY465,referentes!AC:AC,0),1))","v":""},null,{"$f":"IF(BA465=\"\",\"\",INDEX(referentes!S:T,MATCH(BA465,referentes!T:T,0),1))","v":""},null,null,{"$f":"IF(AA465=\"\",\"\",INDEX(OtrasReferencias!$AM$7:$AN$9,MATCH(AA465,OtrasReferencias!$AM$7:$AM$9,0),2))","v":""}]
[null,null,"","",{"$f":"IF(T466=\"\",\"\",INDEX(referentes!G:H,MATCH(T466,referentes!H:H,0),1))","v":""},{"$f":"IF(V466=\"\",\"\",INDEX(referentes!$M:$N,MATCH(V466,referentes!$N:$N,0),1))","v":""},{"$f":"IF(W466=\"\",\"\",INDEX(referentes!J:K,MATCH(W466,referentes!K:K,0),1))","v":""},null,{"$f":"IF(Y466<>\"\",CONCATENATE($A$3,P466,DIGITADOR!$M$1,Y466,ROW()),\"\")","v":""},{"$f":"IF(Y466<>\"\",CONCATENATE(P466,INT(Q466*1440),DIGITADOR!$M$1,Y466),\"\")","v":""},null,{"$f":"IF(AO466<>\"\",INDEX(referentes!$Y:$Z,MATCH(DATOS!AO466,referentes!$Z:$Z,0),1),\"\")","v":""},"","",{"$f":"IF(R466=\"\",\"\",INDEX(referentes!D:E,MATCH(R466,referentes!E:E,0),1))","v":""},null,null,null,null,null,null,null,null,null,{"$f":"IF(X466=\"\",\"\",INDEX(referentes!$AT:$AX,MATCH(X466,referentes!$AX:$AX,0),1))","v":""},null,null,{"$f":"IF(AC466=\"\",\"\",INDEX(referentes!AZ:BA,MATCH(AC466,referentes!BA:BA,0),1))","v":""},null,null,null,null,null,null,null,null,null,null,null,null,null,null,{"$f":"IF(N466<>\"\",INDEX(referentes!$AK:$AM,MATCH(DATOS!M466,referentes!$AK:$AK,0),3),\"\")","v":""},null,null,{"$f":"IF(AS466=\"\",\"\",INDEX(referentes!P:Q,MATCH(AS466,referentes!Q:Q,0),1))","v":""},null,null,null,{"$f":"IF(AY466=\"\",\"\",INDEX(referentes!AB:AC,MATCH(AY466,referentes!AC:AC,0),1))","v":""},null,{"$f":"IF(BA466=\"\",\"\",INDEX(referentes!S:T,MATCH(BA466,referentes!T:T,0),1))","v":""},null,null,{"$f":"IF(AA466=\"\",\"\",INDEX(OtrasReferencias!$AM$7:$AN$9,MATCH(AA466,OtrasReferencias!$AM$7:$AM$9,0),2))","v":""}]
[null,null,"","",{"$f":"IF(T467=\"\",\"\",INDEX(referentes!G:H,MATCH(T467,referentes!H:H,0),1))","v":""},{"$f":"IF(V467=\"\",\"\",INDEX(referentes!$M:$N,MATCH(V467,referentes!$N:$N,0),1))","v":""},{"$f":"IF(W467=\"\",\"\",INDEX(referentes!J:K,MATCH(W467,referentes!K:K,0),1))","v":""},null,{"$f":"IF(Y467<>\"\",CONCATENATE($A$3,P467,DIGITADOR!$M$1,Y467,ROW()),\"\")","v":""},{"$f":"IF(Y467<>\"\",CONCATENATE(P467,INT(Q467*1440),DIGITADOR!$M$1,Y467),\"\")","v":""},null,{"$f":"IF(AO467<>\"\",INDEX(referentes!$Y:$Z,MATCH(DATOS!AO467,referentes!$Z:$Z,0),1),\"\")","v":""},"","",{"$f":"IF(R467=\"\",\"\",INDEX(referentes!D:E,MATCH(R467,referentes!E:E,0),1))","v":""},null,null,null,null,null,null,null,null,null,{"$f":"IF(X467=\"\",\"\",INDEX(referentes!$AT:$AX,MATCH(X467,referentes!$AX:$AX,0),1))","v":""},null,null,{"$f":"IF(AC467=\"\",\"\",INDEX(referentes!AZ:BA,MATCH(AC467,referentes!BA:BA,0),1))","v":""},null,null,null,null,null,null,null,null,null,null,null,null,null,null,{"$f":"IF(N467<>\"\",INDEX(referentes!$AK:$AM,MATCH(DATOS!M467,referentes!$AK:$AK,0),3),\"\")","v":""},null,null,{"$f":"IF(AS467=\"\",\"\",INDEX(referentes!P:Q,MATCH(AS467,referentes!Q:Q,0),1))","v":""},null,null,null,{"$f":"IF(AY467=\"\",\"\",INDEX(referentes!AB:AC,MATCH(AY467,referentes!AC:AC,0),1))","v":""},null,{"$f":"IF(BA467=\"\",\"\",INDEX(referentes!S:T,MATCH(BA467,referentes!T:T,0),1))","v":""},null,null,{"$f":"IF(AA467=\"\",\"\",INDEX(OtrasReferencias!$AM$7:$AN$9,MATCH(AA467,OtrasReferencias!$AM$7:$AM$9,0),2))","v":""}]
[null,null,"","",{"$f":"IF(T468=\"\",\"\",INDEX(referentes!G:H,MATCH(T468,referentes!H:H,0),1))","v":""},{"$f":"IF(V468=\"\",\"\",INDEX(referentes!$M:$N,MATCH(V468,referentes!$N:$N,0),1))","v":""},{"$f":"IF(W468=\"\",\"\",INDEX(referentes!J:K,MATCH(W468,referentes!K:K,0),1))","v":""},null,{"$f":"IF(Y468<>\"\",CONCATENATE($A$3,P468,DIGITADOR!$M$1,Y468,ROW()),\"\")","v":""},{"$f":"IF(Y468<>\"\",CONCATENATE(P468,INT(Q468*1440),DIGITADOR!$M$1,Y468),\"\")","v":""},null,{"$f":"IF(AO468<>\"\",INDEX(referentes!$Y:$Z,MATCH(DATOS!AO468,referentes!$Z:$Z,0),1),\"\")","v":""},"","",{"$f":"IF(R468=\"\",\"\",INDEX(referentes!D:E,MATCH(R468,referentes!E:E,0),1))","v":""},null,null,null,null,null,null,null,null,null,{"$f":"IF(X468=\"\",\"\",INDEX(referentes!$AT:$AX,MATCH(X468,referentes!$AX:$AX,0),1))","v":""},null,null,{"$f":"IF(AC468=\"\",\"\",INDEX(referentes!AZ:BA,MATCH(AC468,referentes!BA:BA,0),1))","v":""},null,null,null,null,null,null,null,null,null,null,null,null,null,null,{"$f":"IF(N468<>\"\",INDEX(referentes!$AK:$AM,MATCH(DATOS!M468,referentes!$AK:$AK,0),3),\"\")","v":""},null,null,{"$f":"IF(AS468=\"\",\"\",INDEX(referentes!P:Q,MATCH(AS468,referentes!Q:Q,0),1))","v":""},null,null,null,{"$f":"IF(AY468=\"\",\"\",INDEX(referentes!AB:AC,MATCH(AY468,referentes!AC:AC,0),1))","v":""},null,{"$f":"IF(BA468=\"\",\"\",INDEX(referentes!S:T,MATCH(BA468,referentes!T:T,0),1))","v":""},null,null,{"$f":"IF(AA468=\"\",\"\",INDEX(OtrasReferencias!$AM$7:$AN$9,MATCH(AA468,OtrasReferencias!$AM$7:$AM$9,0),2))","v":""}]
[null,null,"","",{"$f":"IF(T469=\"\",\"\",INDEX(referentes!G:H,MATCH(T469,referentes!H:H,0),1))","v":""},{"$f":"IF(V469=\"\",\"\",INDEX(referentes!$M:$N,MATCH(V469,referentes!$N:$N,0),1))","v":""},{"$f":"IF(W469=\"\",\"\",INDEX(referentes!J:K,MATCH(W469,referentes!K:K,0),1))","v":""},null,{"$f":"IF(Y469<>\"\",CONCATENATE($A$3,P469,DIGITADOR!$M$1,Y469,ROW()),\"\")","v":""},{"$f":"IF(Y469<>\"\",CONCATENATE(P469,INT(Q469*1440),DIGITADOR!$M$1,Y469),\"\")","v":""},null,{"$f":"IF(AO469<>\"\",INDEX(referentes!$Y:$Z,MATCH(DATOS!AO469,referentes!$Z:$Z,0),1),\"\")","v":""},"","",{"$f":"IF(R469=\"\",\"\",INDEX(referentes!D:E,MATCH(R469,referentes!E:E,0),1))","v":""},null,null,null,null,null,null,null,null,null,{"$f":"IF(X469=\"\",\"\",INDEX(referentes!$AT:$AX,MATCH(X469,referentes!$AX:$AX,0),1))","v":""},null,null,{"$f":"IF(AC469=\"\",\"\",INDEX(referentes!AZ:BA,MATCH(AC469,referentes!BA:BA,0),1))","v":""},null,null,null,null,null,null,null,null,null,null,null,null,null,null,{"$f":"IF(N469<>\"\",INDEX(referentes!$AK:$AM,MATCH(DATOS!M469,referentes!$AK:$AK,0),3),\"\")","v":""},null,null,{"$f":"IF(AS469=\"\",\"\",INDEX(referentes!P:Q,MATCH(AS469,referentes!Q:Q,0),1))","v":""},null,null,null,{"$f":"IF(AY469=\"\",\"\",INDEX(referentes!AB:AC,MATCH(AY469,referentes!AC:AC,0),1))","v":""},null,{"$f":"IF(BA469=\"\",\"\",INDEX(referentes!S:T,MATCH(BA469,referentes!T:T,0),1))","v":""},null,null,{"$f":"IF(AA469=\"\",\"\",INDEX(OtrasReferencias!$AM$7:$AN$9,MATCH(AA469,OtrasReferencias!$AM$7:$AM$9,0),2))","v":""}]
[null,null,"","",{"$f":"IF(T470=\"\",\"\",INDEX(referentes!G:H,MATCH(T470,referentes!H:H,0),1))","v":""},{"$f":"IF(V470=\"\",\"\",INDEX(referentes!$M:$N,MATCH(V470,referentes!$N:$N,0),1))","v":""},{"$f":"IF(W470=\"\",\"\",INDEX(referentes!J:K,MATCH(W470,referentes!K:K,0),1))","v":""},null,{"$f":"IF(Y470<>\"\",CONCATENATE($A$3,P470,DIGITADOR!$M$1,Y470,ROW()),\"\")","v":""},{"$f":"IF(Y470<>\"\",CONCATENATE(P470,INT(Q470*1440),DIGITADOR!$M$1,Y470),\"\")","v":""},null,{"$f":"IF(AO470<>\"\",INDEX(referentes!$Y:$Z,MATCH(DATOS!AO470,referentes!$Z:$Z,0),1),\"\")","v":""},"","",{"$f":"IF(R470=\"\",\"\",INDEX(referentes!D:E,MATCH(R470,referentes!E:E,0),1))","v":""},null,null,null,null,null,null,null,null,null,{"$f":"IF(X470=\"\",\"\",INDEX(referentes!$AT:$AX,MATCH(X470,referentes!$AX:$AX,0),1))","v":""},null,null,{"$f":"IF(AC470=\"\",\"\",INDEX(referentes!AZ:BA,MATCH(AC470,referentes!BA:BA,0),1))","v":""},null,null,null,null,null,null,null,null,null,null,null,null,null,null,{"$f":"IF(N470<>\"\",INDEX(referentes!$AK:$AM,MATCH(DATOS!M470,referentes!$AK:$AK,0),3),\"\")","v":""},null,null,{"$f":"IF(AS470=\"\",\"\",INDEX(referentes!P:Q,MATCH(AS470,referentes!Q:Q,0),1))","v":""},null,null,null,{"$f":"IF(AY470=\"\",\"\",INDEX(referentes!AB:AC,MATCH(AY470,referentes!AC:AC,0),1))","v":""},null,{"$f":"IF(BA470=\"\",\"\",INDEX(referentes!S:T,MATCH(BA470,referentes!T:T,0),1))","v":""},null,null,{"$f":"IF(AA470=\"\",\"\",INDEX(OtrasReferencias!$AM$7:$AN$9,MATCH(AA470,OtrasReferencias!$AM$7:$AM$9,0),2))","v":""}]
[null,null,"","",{"$f":"IF(T471=\"\",\"\",INDEX(referentes!G:H,MATCH(T471,referentes!H:H,0),1))","v":""},{"$f":"IF(V471=\"\",\"\",INDEX(referentes!$M:$N,MATCH(V471,referentes!$N:$N,0),1))","v":""},{"$f":"IF(W471=\"\",\"\",INDEX(referentes!J:K,MATCH(W471,referentes!K:K,0),1))","v":""},null,{"$f":"IF(Y471<>\"\",CONCATENATE($A$3,P471,DIGITADOR!$M$1,Y471,ROW()),\"\")","v":""},{"$f":"IF(Y471<>\"\",CONCATENATE(P471,INT(Q471*1440),DIGITADOR!$M$1,Y471),\"\")","v":""},null,{"$f":"IF(AO471<>\"\",INDEX(referentes!$Y:$Z,MATCH(DATOS!AO471,referentes!$Z:$Z,0),1),\"\")","v":""},"","",{"$f":"IF(R471=\"\",\"\",INDEX(referentes!D:E,MATCH(R471,referentes!E:E,0),1))","v":""},null,null,null,null,null,null,null,null,null,{"$f":"IF(X471=\"\",\"\",INDEX(referentes!$AT:$AX,MATCH(X471,referentes!$AX:$AX,0),1))","v":""},null,null,{"$f":"IF(AC471=\"\",\"\",INDEX(referentes!AZ:BA,MATCH(AC471,referentes!BA:BA,0),1))","v":""},null,null,null,null,null,null,null,null,null,null,null,null,null,null,{"$f":"IF(N471<>\"\",INDEX(referentes!$AK:$AM,MATCH(DATOS!M471,referentes!$AK:$AK,0),3),\"\")","v":""},null,null,{"$f":"IF(AS471=\"\",\"\",INDEX(referentes!P:Q,MATCH(AS471,referentes!Q:Q,0),1))","v":""},null,null,null,{"$f":"IF(AY471=\"\",\"\",INDEX(referentes!AB:AC,MATCH(AY471,referentes!AC:AC,0),1))","v":""},null,{"$f":"IF(BA471=\"\",\"\",INDEX(referentes!S:T,MATCH(BA471,referentes!T:T,0),1))","v":""},null,null,{"$f":"IF(AA471=\"\",\"\",INDEX(OtrasReferencias!$AM$7:$AN$9,MATCH(AA471,OtrasReferencias!$AM$7:$AM$9,0),2))","v":""}]
[null,null,"","",{"$f":"IF(T472=\"\",\"\",INDEX(referentes!G:H,MATCH(T472,referentes!H:H,0),1))","v":""},{"$f":"IF(V472=\"\",\"\",INDEX(referentes!$M:$N,MATCH(V472,referentes!$N:$N,0),1))","v":""},{"$f":"IF(W472=\"\",\"\",INDEX(referentes!J:K,MATCH(W472,referentes!K:K,0),1))","v":""},null,{"$f":"IF(Y472<>\"\",CONCATENATE($A$3,P472,DIGITADOR!$M$1,Y472,ROW()),\"\")","v":""},{"$f":"IF(Y472<>\"\",CONCATENATE(P472,INT(Q472*1440),DIGITADOR!$M$1,Y472),\"\")","v":""},null,{"$f":"IF(AO472<>\"\",INDEX(referentes!$Y:$Z,MATCH(DATOS!AO472,referentes!$Z:$Z,0),1),\"\")","v":""},"","",{"$f":"IF(R472=\"\",\"\",INDEX(referentes!D:E,MATCH(R472,referentes!E:E,0),1))","v":""},null,null,null,null,null,null,null,null,null,{"$f":"IF(X472=\"\",\"\",INDEX(referentes!$AT:$AX,MATCH(X472,referentes!$AX:$AX,0),1))","v":""},null,null,{"$f":"IF(AC472=\"\",\"\",INDEX(referentes!AZ:BA,MATCH(AC472,referentes!BA:BA,0),1))","v":""},null,null,null,null,null,null,null,null,null,null,null,null,null,null,{"$f":"IF(N472<>\"\",INDEX(referentes!$AK:$AM,MATCH(DATOS!M472,referentes!$AK:$AK,0),3),\"\")","v":""},null,null,{"$f":"IF(AS472=\"\",\"\",INDEX(referentes!P:Q,MATCH(AS472,referentes!Q:Q,0),1))","v":""},null,null,null,{"$f":"IF(AY472=\"\",\"\",INDEX(referentes!AB:AC,MATCH(AY472,referentes!AC:AC,0),1))","v":""},null,{"$f":"IF(BA472=\"\",\"\",INDEX(referentes!S:T,MATCH(BA472,referentes!T:T,0),1))","v":""},null,null,{"$f":"IF(AA472=\"\",\"\",INDEX(OtrasReferencias!$AM$7:$AN$9,MATCH(AA472,OtrasReferencias!$AM$7:$AM$9,0),2))","v":""}]
[null,null,"","",{"$f":"IF(T473=\"\",\"\",INDEX(referentes!G:H,MATCH(T473,referentes!H:H,0),1))","v":""},{"$f":"IF(V473=\"\",\"\",INDEX(referentes!$M:$N,MATCH(V473,referentes!$N:$N,0),1))","v":""},{"$f":"IF(W473=\"\",\"\",INDEX(referentes!J:K,MATCH(W473,referentes!K:K,0),1))","v":""},null,{"$f":"IF(Y473<>\"\",CONCATENATE($A$3,P473,DIGITADOR!$M$1,Y473,ROW()),\"\")","v":""},{"$f":"IF(Y473<>\"\",CONCATENATE(P473,INT(Q473*1440),DIGITADOR!$M$1,Y473),\"\")","v":""},null,{"$f":"IF(AO473<>\"\",INDEX(referentes!$Y:$Z,MATCH(DATOS!AO473,referentes!$Z:$Z,0),1),\"\")","v":""},"","",{"$f":"IF(R473=\"\",\"\",INDEX(referentes!D:E,MATCH(R473,referentes!E:E,0),1))","v":""},null,null,null,null,null,null,null,null,null,{"$f":"IF(X473=\"\",\"\",INDEX(referentes!$AT:$AX,MATCH(X473,referentes!$AX:$AX,0),1))","v":""},null,null,{"$f":"IF(AC473=\"\",\"\",INDEX(referentes!AZ:BA,MATCH(AC473,referentes!BA:BA,0),1))","v":""},null,null,null,null,null,null,null,null,null,null,null,null,null,null,{"$f":"IF(N473<>\"\",INDEX(referentes!$AK:$AM,MATCH(DATOS!M473,referentes!$AK:$AK,0),3),\"\")","v":""},null,null,{"$f":"IF(AS473=\"\",\"\",INDEX(referentes!P:Q,MATCH(AS473,referentes!Q:Q,0),1))","v":""},null,null,null,{"$f":"IF(AY473=\"\",\"\",INDEX(referentes!AB:AC,MATCH(AY473,referentes!AC:AC,0),1))","v":""},null,{"$f":"IF(BA473=\"\",\"\",INDEX(referentes!S:T,MATCH(BA473,referentes!T:T,0),1))","v":""},null,null,{"$f":"IF(AA473=\"\",\"\",INDEX(OtrasReferencias!$AM$7:$AN$9,MATCH(AA473,OtrasReferencias!$AM$7:$AM$9,0),2))","v":""}]
[null,null,"","",{"$f":"IF(T474=\"\",\"\",INDEX(referentes!G:H,MATCH(T474,referentes!H:H,0),1))","v":""},{"$f":"IF(V474=\"\",\"\",INDEX(referentes!$M:$N,MATCH(V474,referentes!$N:$N,0),1))","v":""},{"$f":"IF(W474=\"\",\"\",INDEX(referentes!J:K,MATCH(W474,referentes!K:K,0),1))","v":""},null,{"$f":"IF(Y474<>\"\",CONCATENATE($A$3,P474,DIGITADOR!$M$1,Y474,ROW()),\"\")","v":""},{"$f":"IF(Y474<>\"\",CONCATENATE(P474,INT(Q474*1440),DIGITADOR!$M$1,Y474),\"\")","v":""},null,{"$f":"IF(AO474<>\"\",INDEX(referentes!$Y:$Z,MATCH(DATOS!AO474,referentes!$Z:$Z,0),1),\"\")","v":""},"","",{"$f":"IF(R474=\"\",\"\",INDEX(referentes!D:E,MATCH(R474,referentes!E:E,0),1))","v":""},null,null,null,null,null,null,null,null,null,{"$f":"IF(X474=\"\",\"\",INDEX(referentes!$AT:$AX,MATCH(X474,referentes!$AX:$AX,0),1))","v":""},null,null,{"$f":"IF(AC474=\"\",\"\",INDEX(referentes!AZ:BA,MATCH(AC474,referentes!BA:BA,0),1))","v":""},null,null,null,null,null,null,null,null,null,null,null,null,null,null,{"$f":"IF(N474<>\"\",INDEX(referentes!$AK:$AM,MATCH(DATOS!M474,referentes!$AK:$AK,0),3),\"\")","v":""},null,null,{"$f":"IF(AS474=\"\",\"\",INDEX(referentes!P:Q,MATCH(AS474,referentes!Q:Q,0),1))","v":""},null,null,null,{"$f":"IF(AY474=\"\",\"\",INDEX(referentes!AB:AC,MATCH(AY474,referentes!AC:AC,0),1))","v":""},null,{"$f":"IF(BA474=\"\",\"\",INDEX(referentes!S:T,MATCH(BA474,referentes!T:T,0),1))","v":""},null,null,{"$f":"IF(AA474=\"\",\"\",INDEX(OtrasReferencias!$AM$7:$AN$9,MATCH(AA474,OtrasReferencias!$AM$7:$AM$9,0),2))","v":""}]
[null,null,"","",{"$f":"IF(T475=\"\",\"\",INDEX(referentes!G:H,MATCH(T475,referentes!H:H,0),1))","v":""},{"$f":"IF(V475=\"\",\"\",INDEX(referentes!$M:$N,MATCH(V475,referentes!$N:$N,0),1))","v":""},{"$f":"IF(W475=\"\",\"\",INDEX(referentes!J:K,MATCH(W475,referentes!K:K,0),1))","v":""},null,{"$f":"IF(Y475<>\"\",CONCATENATE($A$3,P475,DIGITADOR!$M$1,Y475,ROW()),\"\")","v":""},{"$f":"IF(Y475<>\"\",CONCATENATE(P475,INT(Q475*1440),DIGITADOR!$M$1,Y475),\"\")","v":""},null,{"$f":"IF(AO475<>\"\",INDEX(referentes!$Y:$Z,MATCH(DATOS!AO475,referentes!$Z:$Z,0),1),\"\")","v":""},"","",{"$f":"IF(R475=\"\",\"\",INDEX(referentes!D:E,MATCH(R475,referentes!E:E,0),1))","v":""},null,null,null,null,null,null,null,null,null,{"$f":"IF(X475=\"\",\"\",INDEX(referentes!$AT:$AX,MATCH(X475,referentes!$AX:$AX,0),1))","v":""},null,null,{"$f":"IF(AC475=\"\",\"\",INDEX(referentes!AZ:BA,MATCH(AC475,referentes!BA:BA,0),1))","v":""},null,null,null,null,null,null,null,null,null,null,null,null,null,null,{"$f":"IF(N475<>\"\",INDEX(referentes!$AK:$AM,MATCH(DATOS!M475,referentes!$AK:$AK,0),3),\"\")","v":""},null,null,{"$f":"IF(AS475=\"\",\"\",INDEX(referentes!P:Q,MATCH(AS475,referentes!Q:Q,0),1))","v":""},null,null,null,{"$f":"IF(AY475=\"\",\"\",INDEX(referentes!AB:AC,MATCH(AY475,referentes!AC:AC,0),1))","v":""},null,{"$f":"IF(BA475=\"\",\"\",INDEX(referentes!S:T,MATCH(BA475,referentes!T:T,0),1))","v":""},null,null,{"$f":"IF(AA475=\"\",\"\",INDEX(OtrasReferencias!$AM$7:$AN$9,MATCH(AA475,OtrasReferencias!$AM$7:$AM$9,0),2))","v":""}]
[null,null,"","",{"$f":"IF(T476=\"\",\"\",INDEX(referentes!G:H,MATCH(T476,referentes!H:H,0),1))","v":""},{"$f":"IF(V476=\"\",\"\",INDEX(referentes!$M:$N,MATCH(V476,referentes!$N:$N,0),1))","v":""},{"$f":"IF(W476=\"\",\"\",INDEX(referentes!J:K,MATCH(W476,referentes!K:K,0),1))","v":""},null,{"$f":"IF(Y476<>\"\",CONCATENATE($A$3,P476,DIGITADOR!$M$1,Y476,ROW()),\"\")","v":""},{"$f":"IF(Y476<>\"\",CONCATENATE(P476,INT(Q476*1440),DIGITADOR!$M$1,Y476),\"\")","v":""},null,{"$f":"IF(AO476<>\"\",INDEX(referentes!$Y:$Z,MATCH(DATOS!AO476,referentes!$Z:$Z,0),1),\"\")","v":""},"","",{"$f":"IF(R476=\"\",\"\",INDEX(referentes!D:E,MATCH(R476,referentes!E:E,0),1))","v":""},null,null,null,null,null,null,null,null,null,{"$f":"IF(X476=\"\",\"\",INDEX(referentes!$AT:$AX,MATCH(X476,referentes!$AX:$AX,0),1))","v":""},null,null,{"$f":"IF(AC476=\"\",\"\",INDEX(referentes!AZ:BA,MATCH(AC476,referentes!BA:BA,0),1))","v":""},null,null,null,null,null,null,null,null,null,null,null,null,null,null,{"$f":"IF(N476<>\"\",INDEX(referentes!$AK:$AM,MATCH(DATOS!M476,referentes!$AK:$AK,0),3),\"\")","v":""},null,null,{"$f":"IF(AS476=\"\",\"\",INDEX(referentes!P:Q,MATCH(AS476,referentes!Q:Q,0),1))","v":""},null,null,null,{"$f":"IF(AY476=\"\",\"\",INDEX(referentes!AB:AC,MATCH(AY476,referentes!AC:AC,0),1))","v":""},null,{"$f":"IF(BA476=\"\",\"\",INDEX(referentes!S:T,MATCH(BA476,referentes!T:T,0),1))","v":""},null,null,{"$f":"IF(AA476=\"\",\"\",INDEX(OtrasReferencias!$AM$7:$AN$9,MATCH(AA476,OtrasReferencias!$AM$7:$AM$9,0),2))","v":""}]
[null,null,"","",{"$f":"IF(T477=\"\",\"\",INDEX(referentes!G:H,MATCH(T477,referentes!H:H,0),1))","v":""},{"$f":"IF(V477=\"\",\"\",INDEX(referentes!$M:$N,MATCH(V477,referentes!$N:$N,0),1))","v":""},{"$f":"IF(W477=\"\",\"\",INDEX(referentes!J:K,MATCH(W477,referentes!K:K,0),1))","v":""},null,{"$f":"IF(Y477<>\"\",CONCATENATE($A$3,P477,DIGITADOR!$M$1,Y477,ROW()),\"\")","v":""},{"$f":"IF(Y477<>\"\",CONCATENATE(P477,INT(Q477*1440),DIGITADOR!$M$1,Y477),\"\")","v":""},null,{"$f":"IF(AO477<>\"\",INDEX(referentes!$Y:$Z,MATCH(DATOS!AO477,referentes!$Z:$Z,0),1),\"\")","v":""},"","",{"$f":"IF(R477=\"\",\"\",INDEX(referentes!D:E,MATCH(R477,referentes!E:E,0),1))","v":""},null,null,null,null,null,null,null,null,null,{"$f":"IF(X477=\"\",\"\",INDEX(referentes!$AT:$AX,MATCH(X477,referentes!$AX:$AX,0),1))","v":""},null,null,{"$f":"IF(AC477=\"\",\"\",INDEX(referentes!AZ:BA,MATCH(AC477,referentes!BA:BA,0),1))","v":""},null,null,null,null,null,null,null,null,null,null,null,null,null,null,{"$f":"IF(N477<>\"\",INDEX(referentes!$AK:$AM,MATCH(DATOS!M477,referentes!$AK:$AK,0),3),\"\")","v":""},null,null,{"$f":"IF(AS477=\"\",\"\",INDEX(referentes!P:Q,MATCH(AS477,referentes!Q:Q,0),1))","v":""},null,null,null,{"$f":"IF(AY477=\"\",\"\",INDEX(referentes!AB:AC,MATCH(AY477,referentes!AC:AC,0),1))","v":""},null,{"$f":"IF(BA477=\"\",\"\",INDEX(referentes!S:T,MATCH(BA477,referentes!T:T,0),1))","v":""},null,null,{"$f":"IF(AA477=\"\",\"\",INDEX(OtrasReferencias!$AM$7:$AN$9,MATCH(AA477,OtrasReferencias!$AM$7:$AM$9,0),2))","v":""}]
[null,null,"","",{"$f":"IF(T478=\"\",\"\",INDEX(referentes!G:H,MATCH(T478,referentes!H:H,0),1))","v":""},{"$f":"IF(V478=\"\",\"\",INDEX(referentes!$M:$N,MATCH(V478,referentes!$N:$N,0),1))","v":""},{"$f":"IF(W478=\"\",\"\",INDEX(referentes!J:K,MATCH(W478,referentes!K:K,0),1))","v":""},null,{"$f":"IF(Y478<>\"\",CONCATENATE($A$3,P478,DIGITADOR!$M$1,Y478,ROW()),\"\")","v":""},{"$f":"IF(Y478<>\"\",CONCATENATE(P478,INT(Q478*1440),DIGITADOR!$M$1,Y478),\"\")","v":""},null,{"$f":"IF(AO478<>\"\",INDEX(referentes!$Y:$Z,MATCH(DATOS!AO478,referentes!$Z:$Z,0),1),\"\")","v":""},"","",{"$f":"IF(R478=\"\",\"\",INDEX(referentes!D:E,MATCH(R478,referentes!E:E,0),1))","v":""},null,null,null,null,null,null,null,null,null,{"$f":"IF(X478=\"\",\"\",INDEX(referentes!$AT:$AX,MATCH(X478,referentes!$AX:$AX,0),1))","v":""},null,null,{"$f":"IF(AC478=\"\",\"\",INDEX(referentes!AZ:BA,MATCH(AC478,referentes!BA:BA,0),1))","v":""},null,null,null,null,null,null,null,null,null,null,null,null,null,null,{"$f":"IF(N478<>\"\",INDEX(referentes!$AK:$AM,MATCH(DATOS!M478,referentes!$AK:$AK,0),3),\"\")","v":""},null,null,{"$f":"IF(AS478=\"\",\"\",INDEX(referentes!P:Q,MATCH(AS478,referentes!Q:Q,0),1))","v":""},null,null,null,{"$f":"IF(AY478=\"\",\"\",INDEX(referentes!AB:AC,MATCH(AY478,referentes!AC:AC,0),1))","v":""},null,{"$f":"IF(BA478=\"\",\"\",INDEX(referentes!S:T,MATCH(BA478,referentes!T:T,0),1))","v":""},null,null,{"$f":"IF(AA478=\"\",\"\",INDEX(OtrasReferencias!$AM$7:$AN$9,MATCH(AA478,OtrasReferencias!$AM$7:$AM$9,0),2))","v":""}]
[null,null,"","",{"$f":"IF(T479=\"\",\"\",INDEX(referentes!G:H,MATCH(T479,referentes!H:H,0),1))","v":""},{"$f":"IF(V479=\"\",\"\",INDEX(referentes!$M:$N,MATCH(V479,referentes!$N:$N,0),1))","v":""},{"$f":"IF(W479=\"\",\"\",INDEX(referentes!J:K,MATCH(W479,referentes!K:K,0),1))","v":""},null,{"$f":"IF(Y479<>\"\",CONCATENATE($A$3,P479,DIGITADOR!$M$1,Y479,ROW()),\"\")","v":""},{"$f":"IF(Y479<>\"\",CONCATENATE(P479,INT(Q479*1440),DIGITADOR!$M$1,Y479),\"\")","v":""},null,{"$f":"IF(AO479<>\"\",INDEX(referentes!$Y:$Z,MATCH(DATOS!AO479,referentes!$Z:$Z,0),1),\"\")","v":""},"","",{"$f":"IF(R479=\"\",\"\",INDEX(referentes!D:E,MATCH(R479,referentes!E:E,0),1))","v":""},null,null,null,null,null,null,null,null,null,{"$f":"IF(X479=\"\",\"\",INDEX(referentes!$AT:$AX,MATCH(X479,referentes!$AX:$AX,0),1))","v":""},null,null,{"$f":"IF(AC479=\"\",\"\",INDEX(referentes!AZ:BA,MATCH(AC479,referentes!BA:BA,0),1))","v":""},null,null,null,null,null,null,null,null,null,null,null,null,null,null,{"$f":"IF(N479<>\"\",INDEX(referentes!$AK:$AM,MATCH(DATOS!M479,referentes!$AK:$AK,0),3),\"\")","v":""},null,null,{"$f":"IF(AS479=\"\",\"\",INDEX(referentes!P:Q,MATCH(AS479,referentes!Q:Q,0),1))","v":""},null,null,null,{"$f":"IF(AY479=\"\",\"\",INDEX(referentes!AB:AC,MATCH(AY479,referentes!AC:AC,0),1))","v":""},null,{"$f":"IF(BA479=\"\",\"\",INDEX(referentes!S:T,MATCH(BA479,referentes!T:T,0),1))","v":""},null,null,{"$f":"IF(AA479=\"\",\"\",INDEX(OtrasReferencias!$AM$7:$AN$9,MATCH(AA479,OtrasReferencias!$AM$7:$AM$9,0),2))","v":""}]
[null,null,"","",{"$f":"IF(T480=\"\",\"\",INDEX(referentes!G:H,MATCH(T480,referentes!H:H,0),1))","v":""},{"$f":"IF(V480=\"\",\"\",INDEX(referentes!$M:$N,MATCH(V480,referentes!$N:$N,0),1))","v":""},{"$f":"IF(W480=\"\",\"\",INDEX(referentes!J:K,MATCH(W480,referentes!K:K,0),1))","v":""},null,{"$f":"IF(Y480<>\"\",CONCATENATE($A$3,P480,DIGITADOR!$M$1,Y480,ROW()),\"\")","v":""},{"$f":"IF(Y480<>\"\",CONCATENATE(P480,INT(Q480*1440),DIGITADOR!$M$1,Y480),\"\")","v":""},null,{"$f":"IF(AO480<>\"\",INDEX(referentes!$Y:$Z,MATCH(DATOS!AO480,referentes!$Z:$Z,0),1),\"\")","v":""},"","",{"$f":"IF(R480=\"\",\"\",INDEX(referentes!D:E,MATCH(R480,referentes!E:E,0),1))","v":""},null,null,null,null,null,null,null,null,null,{"$f":"IF(X480=\"\",\"\",INDEX(referentes!$AT:$AX,MATCH(X480,referentes!$AX:$AX,0),1))","v":""},null,null,{"$f":"IF(AC480=\"\",\"\",INDEX(referentes!AZ:BA,MATCH(AC480,referentes!BA:BA,0),1))","v":""},null,null,null,null,null,null,null,null,null,null,null,null,null,null,{"$f":"IF(N480<>\"\",INDEX(referentes!$AK:$AM,MATCH(DATOS!M480,referentes!$AK:$AK,0),3),\"\")","v":""},null,null,{"$f":"IF(AS480=\"\",\"\",INDEX(referentes!P:Q,MATCH(AS480,referentes!Q:Q,0),1))","v":""},null,null,null,{"$f":"IF(AY480=\"\",\"\",INDEX(referentes!AB:AC,MATCH(AY480,referentes!AC:AC,0),1))","v":""},null,{"$f":"IF(BA480=\"\",\"\",INDEX(referentes!S:T,MATCH(BA480,referentes!T:T,0),1))","v":""},null,null,{"$f":"IF(AA480=\"\",\"\",INDEX(OtrasReferencias!$AM$7:$AN$9,MATCH(AA480,OtrasReferencias!$AM$7:$AM$9,0),2))","v":""}]
[null,null,"","",{"$f":"IF(T481=\"\",\"\",INDEX(referentes!G:H,MATCH(T481,referentes!H:H,0),1))","v":""},{"$f":"IF(V481=\"\",\"\",INDEX(referentes!$M:$N,MATCH(V481,referentes!$N:$N,0),1))","v":""},{"$f":"IF(W481=\"\",\"\",INDEX(referentes!J:K,MATCH(W481,referentes!K:K,0),1))","v":""},null,{"$f":"IF(Y481<>\"\",CONCATENATE($A$3,P481,DIGITADOR!$M$1,Y481,ROW()),\"\")","v":""},{"$f":"IF(Y481<>\"\",CONCATENATE(P481,INT(Q481*1440),DIGITADOR!$M$1,Y481),\"\")","v":""},null,{"$f":"IF(AO481<>\"\",INDEX(referentes!$Y:$Z,MATCH(DATOS!AO481,referentes!$Z:$Z,0),1),\"\")","v":""},"","",{"$f":"IF(R481=\"\",\"\",INDEX(referentes!D:E,MATCH(R481,referentes!E:E,0),1))","v":""},null,null,null,null,null,null,null,null,null,{"$f":"IF(X481=\"\",\"\",INDEX(referentes!$AT:$AX,MATCH(X481,referentes!$AX:$AX,0),1))","v":""},null,null,{"$f":"IF(AC481=\"\",\"\",INDEX(referentes!AZ:BA,MATCH(AC481,referentes!BA:BA,0),1))","v":""},null,null,null,null,null,null,null,null,null,null,null,null,null,null,{"$f":"IF(N481<>\"\",INDEX(referentes!$AK:$AM,MATCH(DATOS!M481,referentes!$AK:$AK,0),3),\"\")","v":""},null,null,{"$f":"IF(AS481=\"\",\"\",INDEX(referentes!P:Q,MATCH(AS481,referentes!Q:Q,0),1))","v":""},null,null,null,{"$f":"IF(AY481=\"\",\"\",INDEX(referentes!AB:AC,MATCH(AY481,referentes!AC:AC,0),1))","v":""},null,{"$f":"IF(BA481=\"\",\"\",INDEX(referentes!S:T,MATCH(BA481,referentes!T:T,0),1))","v":""},null,null,{"$f":"IF(AA481=\"\",\"\",INDEX(OtrasReferencias!$AM$7:$AN$9,MATCH(AA481,OtrasReferencias!$AM$7:$AM$9,0),2))","v":""}]
[null,null,"","",{"$f":"IF(T482=\"\",\"\",INDEX(referentes!G:H,MATCH(T482,referentes!H:H,0),1))","v":""},{"$f":"IF(V482=\"\",\"\",INDEX(referentes!$M:$N,MATCH(V482,referentes!$N:$N,0),1))","v":""},{"$f":"IF(W482=\"\",\"\",INDEX(referentes!J:K,MATCH(W482,referentes!K:K,0),1))","v":""},null,{"$f":"IF(Y482<>\"\",CONCATENATE($A$3,P482,DIGITADOR!$M$1,Y482,ROW()),\"\")","v":""},{"$f":"IF(Y482<>\"\",CONCATENATE(P482,INT(Q482*1440),DIGITADOR!$M$1,Y482),\"\")","v":""},null,{"$f":"IF(AO482<>\"\",INDEX(referentes!$Y:$Z,MATCH(DATOS!AO482,referentes!$Z:$Z,0),1),\"\")","v":""},"","",{"$f":"IF(R482=\"\",\"\",INDEX(referentes!D:E,MATCH(R482,referentes!E:E,0),1))","v":""},null,null,null,null,null,null,null,null,null,{"$f":"IF(X482=\"\",\"\",INDEX(referentes!$AT:$AX,MATCH(X482,referentes!$AX:$AX,0),1))","v":""},null,null,{"$f":"IF(AC482=\"\",\"\",INDEX(referentes!AZ:BA,MATCH(AC482,referentes!BA:BA,0),1))","v":""},null,null,null,null,null,null,null,null,null,null,null,null,null,null,{"$f":"IF(N482<>\"\",INDEX(referentes!$AK:$AM,MATCH(DATOS!M482,referentes!$AK:$AK,0),3),\"\")","v":""},null,null,{"$f":"IF(AS482=\"\",\"\",INDEX(referentes!P:Q,MATCH(AS482,referentes!Q:Q,0),1))","v":""},null,null,null,{"$f":"IF(AY482=\"\",\"\",INDEX(referentes!AB:AC,MATCH(AY482,referentes!AC:AC,0),1))","v":""},null,{"$f":"IF(BA482=\"\",\"\",INDEX(referentes!S:T,MATCH(BA482,referentes!T:T,0),1))","v":""},null,null,{"$f":"IF(AA482=\"\",\"\",INDEX(OtrasReferencias!$AM$7:$AN$9,MATCH(AA482,OtrasReferencias!$AM$7:$AM$9,0),2))","v":""}]
[null,null,"","",{"$f":"IF(T483=\"\",\"\",INDEX(referentes!G:H,MATCH(T483,referentes!H:H,0),1))","v":""},{"$f":"IF(V483=\"\",\"\",INDEX(referentes!$M:$N,MATCH(V483,referentes!$N:$N,0),1))","v":""},{"$f":"IF(W483=\"\",\"\",INDEX(referentes!J:K,MATCH(W483,referentes!K:K,0),1))","v":""},null,{"$f":"IF(Y483<>\"\",CONCATENATE($A$3,P483,DIGITADOR!$M$1,Y483,ROW()),\"\")","v":""},{"$f":"IF(Y483<>\"\",CONCATENATE(P483,INT(Q483*1440),DIGITADOR!$M$1,Y483),\"\")","v":""},null,{"$f":"IF(AO483<>\"\",INDEX(referentes!$Y:$Z,MATCH(DATOS!AO483,referentes!$Z:$Z,0),1),\"\")","v":""},"","",{"$f":"IF(R483=\"\",\"\",INDEX(referentes!D:E,MATCH(R483,referentes!E:E,0),1))","v":""},null,null,null,null,null,null,null,null,null,{"$f":"IF(X483=\"\",\"\",INDEX(referentes!$AT:$AX,MATCH(X483,referentes!$AX:$AX,0),1))","v":""},null,null,{"$f":"IF(AC483=\"\",\"\",INDEX(referentes!AZ:BA,MATCH(AC483,referentes!BA:BA,0),1))","v":""},null,null,null,null,null,null,null,null,null,null,null,null,null,null,{"$f":"IF(N483<>\"\",INDEX(referentes!$AK:$AM,MATCH(DATOS!M483,referentes!$AK:$AK,0),3),\"\")","v":""},null,null,{"$f":"IF(AS483=\"\",\"\",INDEX(referentes!P:Q,MATCH(AS483,referentes!Q:Q,0),1))","v":""},null,null,null,{"$f":"IF(AY483=\"\",\"\",INDEX(referentes!AB:AC,MATCH(AY483,referentes!AC:AC,0),1))","v":""},null,{"$f":"IF(BA483=\"\",\"\",INDEX(referentes!S:T,MATCH(BA483,referentes!T:T,0),1))","v":""},null,null,{"$f":"IF(AA483=\"\",\"\",INDEX(OtrasReferencias!$AM$7:$AN$9,MATCH(AA483,OtrasReferencias!$AM$7:$AM$9,0),2))","v":""}]
[null,null,"","",{"$f":"IF(T484=\"\",\"\",INDEX(referentes!G:H,MATCH(T484,referentes!H:H,0),1))","v":""},{"$f":"IF(V484=\"\",\"\",INDEX(referentes!$M:$N,MATCH(V484,referentes!$N:$N,0),1))","v":""},{"$f":"IF(W484=\"\",\"\",INDEX(referentes!J:K,MATCH(W484,referentes!K:K,0),1))","v":""},null,{"$f":"IF(Y484<>\"\",CONCATENATE($A$3,P484,DIGITADOR!$M$1,Y484,ROW()),\"\")","v":""},{"$f":"IF(Y484<>\"\",CONCATENATE(P484,INT(Q484*1440),DIGITADOR!$M$1,Y484),\"\")","v":""},null,{"$f":"IF(AO484<>\"\",INDEX(referentes!$Y:$Z,MATCH(DATOS!AO484,referentes!$Z:$Z,0),1),\"\")","v":""},"","",{"$f":"IF(R484=\"\",\"\",INDEX(referentes!D:E,MATCH(R484,referentes!E:E,0),1))","v":""},null,null,null,null,null,null,null,null,null,{"$f":"IF(X484=\"\",\"\",INDEX(referentes!$AT:$AX,MATCH(X484,referentes!$AX:$AX,0),1))","v":""},null,null,{"$f":"IF(AC484=\"\",\"\",INDEX(referentes!AZ:BA,MATCH(AC484,referentes!BA:BA,0),1))","v":""},null,null,null,null,null,null,null,null,null,null,null,null,null,null,{"$f":"IF(N484<>\"\",INDEX(referentes!$AK:$AM,MATCH(DATOS!M484,referentes!$AK:$AK,0),3),\"\")","v":""},null,null,{"$f":"IF(AS484=\"\",\"\",INDEX(referentes!P:Q,MATCH(AS484,referentes!Q:Q,0),1))","v":""},null,null,null,{"$f":"IF(AY484=\"\",\"\",INDEX(referentes!AB:AC,MATCH(AY484,referentes!AC:AC,0),1))","v":""},null,{"$f":"IF(BA484=\"\",\"\",INDEX(referentes!S:T,MATCH(BA484,referentes!T:T,0),1))","v":""},null,null,{"$f":"IF(AA484=\"\",\"\",INDEX(OtrasReferencias!$AM$7:$AN$9,MATCH(AA484,OtrasReferencias!$AM$7:$AM$9,0),2))","v":""}]
[null,null,"","",{"$f":"IF(T485=\"\",\"\",INDEX(referentes!G:H,MATCH(T485,referentes!H:H,0),1))","v":""},{"$f":"IF(V485=\"\",\"\",INDEX(referentes!$M:$N,MATCH(V485,referentes!$N:$N,0),1))","v":""},{"$f":"IF(W485=\"\",\"\",INDEX(referentes!J:K,MATCH(W485,referentes!K:K,0),1))","v":""},null,{"$f":"IF(Y485<>\"\",CONCATENATE($A$3,P485,DIGITADOR!$M$1,Y485,ROW()),\"\")","v":""},{"$f":"IF(Y485<>\"\",CONCATENATE(P485,INT(Q485*1440),DIGITADOR!$M$1,Y485),\"\")","v":""},null,{"$f":"IF(AO485<>\"\",INDEX(referentes!$Y:$Z,MATCH(DATOS!AO485,referentes!$Z:$Z,0),1),\"\")","v":""},"","",{"$f":"IF(R485=\"\",\"\",INDEX(referentes!D:E,MATCH(R485,referentes!E:E,0),1))","v":""},null,null,null,null,null,null,null,null,null,{"$f":"IF(X485=\"\",\"\",INDEX(referentes!$AT:$AX,MATCH(X485,referentes!$AX:$AX,0),1))","v":""},null,null,{"$f":"IF(AC485=\"\",\"\",INDEX(referentes!AZ:BA,MATCH(AC485,referentes!BA:BA,0),1))","v":""},null,null,null,null,null,null,null,null,null,null,null,null,null,null,{"$f":"IF(N485<>\"\",INDEX(referentes!$AK:$AM,MATCH(DATOS!M485,referentes!$AK:$AK,0),3),\"\")","v":""},null,null,{"$f":"IF(AS485=\"\",\"\",INDEX(referentes!P:Q,MATCH(AS485,referentes!Q:Q,0),1))","v":""},null,null,null,{"$f":"IF(AY485=\"\",\"\",INDEX(referentes!AB:AC,MATCH(AY485,referentes!AC:AC,0),1))","v":""},null,{"$f":"IF(BA485=\"\",\"\",INDEX(referentes!S:T,MATCH(BA485,referentes!T:T,0),1))","v":""},null,null,{"$f":"IF(AA485=\"\",\"\",INDEX(OtrasReferencias!$AM$7:$AN$9,MATCH(AA485,OtrasReferencias!$AM$7:$AM$9,0),2))","v":""}]
[null,null,"","",{"$f":"IF(T486=\"\",\"\",INDEX(referentes!G:H,MATCH(T486,referentes!H:H,0),1))","v":""},{"$f":"IF(V486=\"\",\"\",INDEX(referentes!$M:$N,MATCH(V486,referentes!$N:$N,0),1))","v":""},{"$f":"IF(W486=\"\",\"\",INDEX(referentes!J:K,MATCH(W486,referentes!K:K,0),1))","v":""},null,{"$f":"IF(Y486<>\"\",CONCATENATE($A$3,P486,DIGITADOR!$M$1,Y486,ROW()),\"\")","v":""},{"$f":"IF(Y486<>\"\",CONCATENATE(P486,INT(Q486*1440),DIGITADOR!$M$1,Y486),\"\")","v":""},null,{"$f":"IF(AO486<>\"\",INDEX(referentes!$Y:$Z,MATCH(DATOS!AO486,referentes!$Z:$Z,0),1),\"\")","v":""},"","",{"$f":"IF(R486=\"\",\"\",INDEX(referentes!D:E,MATCH(R486,referentes!E:E,0),1))","v":""},null,null,null,null,null,null,null,null,null,{"$f":"IF(X486=\"\",\"\",INDEX(referentes!$AT:$AX,MATCH(X486,referentes!$AX:$AX,0),1))","v":""},null,null,{"$f":"IF(AC486=\"\",\"\",INDEX(referentes!AZ:BA,MATCH(AC486,referentes!BA:BA,0),1))","v":""},null,null,null,null,null,null,null,null,null,null,null,null,null,null,{"$f":"IF(N486<>\"\",INDEX(referentes!$AK:$AM,MATCH(DATOS!M486,referentes!$AK:$AK,0),3),\"\")","v":""},null,null,{"$f":"IF(AS486=\"\",\"\",INDEX(referentes!P:Q,MATCH(AS486,referentes!Q:Q,0),1))","v":""},null,null,null,{"$f":"IF(AY486=\"\",\"\",INDEX(referentes!AB:AC,MATCH(AY486,referentes!AC:AC,0),1))","v":""},null,{"$f":"IF(BA486=\"\",\"\",INDEX(referentes!S:T,MATCH(BA486,referentes!T:T,0),1))","v":""},null,null,{"$f":"IF(AA486=\"\",\"\",INDEX(OtrasReferencias!$AM$7:$AN$9,MATCH(AA486,OtrasReferencias!$AM$7:$AM$9,0),2))","v":""}]
[null,null,"","",{"$f":"IF(T487=\"\",\"\",INDEX(referentes!G:H,MATCH(T487,referentes!H:H,0),1))","v":""},{"$f":"IF(V487=\"\",\"\",INDEX(referentes!$M:$N,MATCH(V487,referentes!$N:$N,0),1))","v":""},{"$f":"IF(W487=\"\",\"\",INDEX(referentes!J:K,MATCH(W487,referentes!K:K,0),1))","v":""},null,{"$f":"IF(Y487<>\"\",CONCATENATE($A$3,P487,DIGITADOR!$M$1,Y487,ROW()),\"\")","v":""},{"$f":"IF(Y487<>\"\",CONCATENATE(P487,INT(Q487*1440),DIGITADOR!$M$1,Y487),\"\")","v":""},null,{"$f":"IF(AO487<>\"\",INDEX(referentes!$Y:$Z,MATCH(DATOS!AO487,referentes!$Z:$Z,0),1),\"\")","v":""},"","",{"$f":"IF(R487=\"\",\"\",INDEX(referentes!D:E,MATCH(R487,referentes!E:E,0),1))","v":""},null,null,null,null,null,null,null,null,null,{"$f":"IF(X487=\"\",\"\",INDEX(referentes!$AT:$AX,MATCH(X487,referentes!$AX:$AX,0),1))","v":""},null,null,{"$f":"IF(AC487=\"\",\"\",INDEX(referentes!AZ:BA,MATCH(AC487,referentes!BA:BA,0),1))","v":""},null,null,null,null,null,null,null,null,null,null,null,null,null,null,{"$f":"IF(N487<>\"\",INDEX(referentes!$AK:$AM,MATCH(DATOS!M487,referentes!$AK:$AK,0),3),\"\")","v":""},null,null,{"$f":"IF(AS487=\"\",\"\",INDEX(referentes!P:Q,MATCH(AS487,referentes!Q:Q,0),1))","v":""},null,null,null,{"$f":"IF(AY487=\"\",\"\",INDEX(referentes!AB:AC,MATCH(AY487,referentes!AC:AC,0),1))","v":""},null,{"$f":"IF(BA487=\"\",\"\",INDEX(referentes!S:T,MATCH(BA487,referentes!T:T,0),1))","v":""},null,null,{"$f":"IF(AA487=\"\",\"\",INDEX(OtrasReferencias!$AM$7:$AN$9,MATCH(AA487,OtrasReferencias!$AM$7:$AM$9,0),2))","v":""}]
[null,null,"","",{"$f":"IF(T488=\"\",\"\",INDEX(referentes!G:H,MATCH(T488,referentes!H:H,0),1))","v":""},{"$f":"IF(V488=\"\",\"\",INDEX(referentes!$M:$N,MATCH(V488,referentes!$N:$N,0),1))","v":""},{"$f":"IF(W488=\"\",\"\",INDEX(referentes!J:K,MATCH(W488,referentes!K:K,0),1))","v":""},null,{"$f":"IF(Y488<>\"\",CONCATENATE($A$3,P488,DIGITADOR!$M$1,Y488,ROW()),\"\")","v":""},{"$f":"IF(Y488<>\"\",CONCATENATE(P488,INT(Q488*1440),DIGITADOR!$M$1,Y488),\"\")","v":""},null,{"$f":"IF(AO488<>\"\",INDEX(referentes!$Y:$Z,MATCH(DATOS!AO488,referentes!$Z:$Z,0),1),\"\")","v":""},"","",{"$f":"IF(R488=\"\",\"\",INDEX(referentes!D:E,MATCH(R488,referentes!E:E,0),1))","v":""},null,null,null,null,null,null,null,null,null,{"$f":"IF(X488=\"\",\"\",INDEX(referentes!$AT:$AX,MATCH(X488,referentes!$AX:$AX,0),1))","v":""},null,null,{"$f":"IF(AC488=\"\",\"\",INDEX(referentes!AZ:BA,MATCH(AC488,referentes!BA:BA,0),1))","v":""},null,null,null,null,null,null,null,null,null,null,null,null,null,null,{"$f":"IF(N488<>\"\",INDEX(referentes!$AK:$AM,MATCH(DATOS!M488,referentes!$AK:$AK,0),3),\"\")","v":""},null,null,{"$f":"IF(AS488=\"\",\"\",INDEX(referentes!P:Q,MATCH(AS488,referentes!Q:Q,0),1))","v":""},null,null,null,{"$f":"IF(AY488=\"\",\"\",INDEX(referentes!AB:AC,MATCH(AY488,referentes!AC:AC,0),1))","v":""},null,{"$f":"IF(BA488=\"\",\"\",INDEX(referentes!S:T,MATCH(BA488,referentes!T:T,0),1))","v":""},null,null,{"$f":"IF(AA488=\"\",\"\",INDEX(OtrasReferencias!$AM$7:$AN$9,MATCH(AA488,OtrasReferencias!$AM$7:$AM$9,0),2))","v":""}]
[null,null,"","",{"$f":"IF(T489=\"\",\"\",INDEX(referentes!G:H,MATCH(T489,referentes!H:H,0),1))","v":""},{"$f":"IF(V489=\"\",\"\",INDEX(referentes!$M:$N,MATCH(V489,referentes!$N:$N,0),1))","v":""},{"$f":"IF(W489=\"\",\"\",INDEX(referentes!J:K,MATCH(W489,referentes!K:K,0),1))","v":""},null,{"$f":"IF(Y489<>\"\",CONCATENATE($A$3,P489,DIGITADOR!$M$1,Y489,ROW()),\"\")","v":""},{"$f":"IF(Y489<>\"\",CONCATENATE(P489,INT(Q489*1440),DIGITADOR!$M$1,Y489),\"\")","v":""},null,{"$f":"IF(AO489<>\"\",INDEX(referentes!$Y:$Z,MATCH(DATOS!AO489,referentes!$Z:$Z,0),1),\"\")","v":""},"","",{"$f":"IF(R489=\"\",\"\",INDEX(referentes!D:E,MATCH(R489,referentes!E:E,0),1))","v":""},null,null,null,null,null,null,null,null,null,{"$f":"IF(X489=\"\",\"\",INDEX(referentes!$AT:$AX,MATCH(X489,referentes!$AX:$AX,0),1))","v":""},null,null,{"$f":"IF(AC489=\"\",\"\",INDEX(referentes!AZ:BA,MATCH(AC489,referentes!BA:BA,0),1))","v":""},null,null,null,null,null,null,null,null,null,null,null,null,null,null,{"$f":"IF(N489<>\"\",INDEX(referentes!$AK:$AM,MATCH(DATOS!M489,referentes!$AK:$AK,0),3),\"\")","v":""},null,null,{"$f":"IF(AS489=\"\",\"\",INDEX(referentes!P:Q,MATCH(AS489,referentes!Q:Q,0),1))","v":""},null,null,null,{"$f":"IF(AY489=\"\",\"\",INDEX(referentes!AB:AC,MATCH(AY489,referentes!AC:AC,0),1))","v":""},null,{"$f":"IF(BA489=\"\",\"\",INDEX(referentes!S:T,MATCH(BA489,referentes!T:T,0),1))","v":""},null,null,{"$f":"IF(AA489=\"\",\"\",INDEX(OtrasReferencias!$AM$7:$AN$9,MATCH(AA489,OtrasReferencias!$AM$7:$AM$9,0),2))","v":""}]
[null,null,"","",{"$f":"IF(T490=\"\",\"\",INDEX(referentes!G:H,MATCH(T490,referentes!H:H,0),1))","v":""},{"$f":"IF(V490=\"\",\"\",INDEX(referentes!$M:$N,MATCH(V490,referentes!$N:$N,0),1))","v":""},{"$f":"IF(W490=\"\",\"\",INDEX(referentes!J:K,MATCH(W490,referentes!K:K,0),1))","v":""},null,{"$f":"IF(Y490<>\"\",CONCATENATE($A$3,P490,DIGITADOR!$M$1,Y490,ROW()),\"\")","v":""},{"$f":"IF(Y490<>\"\",CONCATENATE(P490,INT(Q490*1440),DIGITADOR!$M$1,Y490),\"\")","v":""},null,{"$f":"IF(AO490<>\"\",INDEX(referentes!$Y:$Z,MATCH(DATOS!AO490,referentes!$Z:$Z,0),1),\"\")","v":""},"","",{"$f":"IF(R490=\"\",\"\",INDEX(referentes!D:E,MATCH(R490,referentes!E:E,0),1))","v":""},null,null,null,null,null,null,null,null,null,{"$f":"IF(X490=\"\",\"\",INDEX(referentes!$AT:$AX,MATCH(X490,referentes!$AX:$AX,0),1))","v":""},null,null,{"$f":"IF(AC490=\"\",\"\",INDEX(referentes!AZ:BA,MATCH(AC490,referentes!BA:BA,0),1))","v":""},null,null,null,null,null,null,null,null,null,null,null,null,null,null,{"$f":"IF(N490<>\"\",INDEX(referentes!$AK:$AM,MATCH(DATOS!M490,referentes!$AK:$AK,0),3),\"\")","v":""},null,null,{"$f":"IF(AS490=\"\",\"\",INDEX(referentes!P:Q,MATCH(AS490,referentes!Q:Q,0),1))","v":""},null,null,null,{"$f":"IF(AY490=\"\",\"\",INDEX(referentes!AB:AC,MATCH(AY490,referentes!AC:AC,0),1))","v":""},null,{"$f":"IF(BA490=\"\",\"\",INDEX(referentes!S:T,MATCH(BA490,referentes!T:T,0),1))","v":""},null,null,{"$f":"IF(AA490=\"\",\"\",INDEX(OtrasReferencias!$AM$7:$AN$9,MATCH(AA490,OtrasReferencias!$AM$7:$AM$9,0),2))","v":""}]
[null,null,"","",{"$f":"IF(T491=\"\",\"\",INDEX(referentes!G:H,MATCH(T491,referentes!H:H,0),1))","v":""},{"$f":"IF(V491=\"\",\"\",INDEX(referentes!$M:$N,MATCH(V491,referentes!$N:$N,0),1))","v":""},{"$f":"IF(W491=\"\",\"\",INDEX(referentes!J:K,MATCH(W491,referentes!K:K,0),1))","v":""},null,{"$f":"IF(Y491<>\"\",CONCATENATE($A$3,P491,DIGITADOR!$M$1,Y491,ROW()),\"\")","v":""},{"$f":"IF(Y491<>\"\",CONCATENATE(P491,INT(Q491*1440),DIGITADOR!$M$1,Y491),\"\")","v":""},null,{"$f":"IF(AO491<>\"\",INDEX(referentes!$Y:$Z,MATCH(DATOS!AO491,referentes!$Z:$Z,0),1),\"\")","v":""},"","",{"$f":"IF(R491=\"\",\"\",INDEX(referentes!D:E,MATCH(R491,referentes!E:E,0),1))","v":""},null,null,null,null,null,null,null,null,null,{"$f":"IF(X491=\"\",\"\",INDEX(referentes!$AT:$AX,MATCH(X491,referentes!$AX:$AX,0),1))","v":""},null,null,{"$f":"IF(AC491=\"\",\"\",INDEX(referentes!AZ:BA,MATCH(AC491,referentes!BA:BA,0),1))","v":""},null,null,null,null,null,null,null,null,null,null,null,null,null,null,{"$f":"IF(N491<>\"\",INDEX(referentes!$AK:$AM,MATCH(DATOS!M491,referentes!$AK:$AK,0),3),\"\")","v":""},null,null,{"$f":"IF(AS491=\"\",\"\",INDEX(referentes!P:Q,MATCH(AS491,referentes!Q:Q,0),1))","v":""},null,null,null,{"$f":"IF(AY491=\"\",\"\",INDEX(referentes!AB:AC,MATCH(AY491,referentes!AC:AC,0),1))","v":""},null,{"$f":"IF(BA491=\"\",\"\",INDEX(referentes!S:T,MATCH(BA491,referentes!T:T,0),1))","v":""},null,null,{"$f":"IF(AA491=\"\",\"\",INDEX(OtrasReferencias!$AM$7:$AN$9,MATCH(AA491,OtrasReferencias!$AM$7:$AM$9,0),2))","v":""}]
[null,null,"","",{"$f":"IF(T492=\"\",\"\",INDEX(referentes!G:H,MATCH(T492,referentes!H:H,0),1))","v":""},{"$f":"IF(V492=\"\",\"\",INDEX(referentes!$M:$N,MATCH(V492,referentes!$N:$N,0),1))","v":""},{"$f":"IF(W492=\"\",\"\",INDEX(referentes!J:K,MATCH(W492,referentes!K:K,0),1))","v":""},null,{"$f":"IF(Y492<>\"\",CONCATENATE($A$3,P492,DIGITADOR!$M$1,Y492,ROW()),\"\")","v":""},{"$f":"IF(Y492<>\"\",CONCATENATE(P492,INT(Q492*1440),DIGITADOR!$M$1,Y492),\"\")","v":""},null,{"$f":"IF(AO492<>\"\",INDEX(referentes!$Y:$Z,MATCH(DATOS!AO492,referentes!$Z:$Z,0),1),\"\")","v":""},"","",{"$f":"IF(R492=\"\",\"\",INDEX(referentes!D:E,MATCH(R492,referentes!E:E,0),1))","v":""},null,null,null,null,null,null,null,null,null,{"$f":"IF(X492=\"\",\"\",INDEX(referentes!$AT:$AX,MATCH(X492,referentes!$AX:$AX,0),1))","v":""},null,null,{"$f":"IF(AC492=\"\",\"\",INDEX(referentes!AZ:BA,MATCH(AC492,referentes!BA:BA,0),1))","v":""},null,null,null,null,null,null,null,null,null,null,null,null,null,null,{"$f":"IF(N492<>\"\",INDEX(referentes!$AK:$AM,MATCH(DATOS!M492,referentes!$AK:$AK,0),3),\"\")","v":""},null,null,{"$f":"IF(AS492=\"\",\"\",INDEX(referentes!P:Q,MATCH(AS492,referentes!Q:Q,0),1))","v":""},null,null,null,{"$f":"IF(AY492=\"\",\"\",INDEX(referentes!AB:AC,MATCH(AY492,referentes!AC:AC,0),1))","v":""},null,{"$f":"IF(BA492=\"\",\"\",INDEX(referentes!S:T,MATCH(BA492,referentes!T:T,0),1))","v":""},null,null,{"$f":"IF(AA492=\"\",\"\",INDEX(OtrasReferencias!$AM$7:$AN$9,MATCH(AA492,OtrasReferencias!$AM$7:$AM$9,0),2))","v":""}]
[null,null,"","",{"$f":"IF(T493=\"\",\"\",INDEX(referentes!G:H,MATCH(T493,referentes!H:H,0),1))","v":""},{"$f":"IF(V493=\"\",\"\",INDEX(referentes!$M:$N,MATCH(V493,referentes!$N:$N,0),1))","v":""},{"$f":"IF(W493=\"\",\"\",INDEX(referentes!J:K,MATCH(W493,referentes!K:K,0),1))","v":""},null,{"$f":"IF(Y493<>\"\",CONCATENATE($A$3,P493,DIGITADOR!$M$1,Y493,ROW()),\"\")","v":""},{"$f":"IF(Y493<>\"\",CONCATENATE(P493,INT(Q493*1440),DIGITADOR!$M$1,Y493),\"\")","v":""},null,{"$f":"IF(AO493<>\"\",INDEX(referentes!$Y:$Z,MATCH(DATOS!AO493,referentes!$Z:$Z,0),1),\"\")","v":""},"","",{"$f":"IF(R493=\"\",\"\",INDEX(referentes!D:E,MATCH(R493,referentes!E:E,0),1))","v":""},null,null,null,null,null,null,null,null,null,{"$f":"IF(X493=\"\",\"\",INDEX(referentes!$AT:$AX,MATCH(X493,referentes!$AX:$AX,0),1))","v":""},null,null,{"$f":"IF(AC493=\"\",\"\",INDEX(referentes!AZ:BA,MATCH(AC493,referentes!BA:BA,0),1))","v":""},null,null,null,null,null,null,null,null,null,null,null,null,null,null,{"$f":"IF(N493<>\"\",INDEX(referentes!$AK:$AM,MATCH(DATOS!M493,referentes!$AK:$AK,0),3),\"\")","v":""},null,null,{"$f":"IF(AS493=\"\",\"\",INDEX(referentes!P:Q,MATCH(AS493,referentes!Q:Q,0),1))","v":""},null,null,null,{"$f":"IF(AY493=\"\",\"\",INDEX(referentes!AB:AC,MATCH(AY493,referentes!AC:AC,0),1))","v":""},null,{"$f":"IF(BA493=\"\",\"\",INDEX(referentes!S:T,MATCH(BA493,referentes!T:T,0),1))","v":""},null,null,{"$f":"IF(AA493=\"\",\"\",INDEX(OtrasReferencias!$AM$7:$AN$9,MATCH(AA493,OtrasReferencias!$AM$7:$AM$9,0),2))","v":""}]
[null,null,"","",{"$f":"IF(T494=\"\",\"\",INDEX(referentes!G:H,MATCH(T494,referentes!H:H,0),1))","v":""},{"$f":"IF(V494=\"\",\"\",INDEX(referentes!$M:$N,MATCH(V494,referentes!$N:$N,0),1))","v":""},{"$f":"IF(W494=\"\",\"\",INDEX(referentes!J:K,MATCH(W494,referentes!K:K,0),1))","v":""},null,{"$f":"IF(Y494<>\"\",CONCATENATE($A$3,P494,DIGITADOR!$M$1,Y494,ROW()),\"\")","v":""},{"$f":"IF(Y494<>\"\",CONCATENATE(P494,INT(Q494*1440),DIGITADOR!$M$1,Y494),\"\")","v":""},null,{"$f":"IF(AO494<>\"\",INDEX(referentes!$Y:$Z,MATCH(DATOS!AO494,referentes!$Z:$Z,0),1),\"\")","v":""},"","",{"$f":"IF(R494=\"\",\"\",INDEX(referentes!D:E,MATCH(R494,referentes!E:E,0),1))","v":""},null,null,null,null,null,null,null,null,null,{"$f":"IF(X494=\"\",\"\",INDEX(referentes!$AT:$AX,MATCH(X494,referentes!$AX:$AX,0),1))","v":""},null,null,{"$f":"IF(AC494=\"\",\"\",INDEX(referentes!AZ:BA,MATCH(AC494,referentes!BA:BA,0),1))","v":""},null,null,null,null,null,null,null,null,null,null,null,null,null,null,{"$f":"IF(N494<>\"\",INDEX(referentes!$AK:$AM,MATCH(DATOS!M494,referentes!$AK:$AK,0),3),\"\")","v":""},null,null,{"$f":"IF(AS494=\"\",\"\",INDEX(referentes!P:Q,MATCH(AS494,referentes!Q:Q,0),1))","v":""},null,null,null,{"$f":"IF(AY494=\"\",\"\",INDEX(referentes!AB:AC,MATCH(AY494,referentes!AC:AC,0),1))","v":""},null,{"$f":"IF(BA494=\"\",\"\",INDEX(referentes!S:T,MATCH(BA494,referentes!T:T,0),1))","v":""},null,null,{"$f":"IF(AA494=\"\",\"\",INDEX(OtrasReferencias!$AM$7:$AN$9,MATCH(AA494,OtrasReferencias!$AM$7:$AM$9,0),2))","v":""}]
[null,null,"","",{"$f":"IF(T495=\"\",\"\",INDEX(referentes!G:H,MATCH(T495,referentes!H:H,0),1))","v":""},{"$f":"IF(V495=\"\",\"\",INDEX(referentes!$M:$N,MATCH(V495,referentes!$N:$N,0),1))","v":""},{"$f":"IF(W495=\"\",\"\",INDEX(referentes!J:K,MATCH(W495,referentes!K:K,0),1))","v":""},null,{"$f":"IF(Y495<>\"\",CONCATENATE($A$3,P495,DIGITADOR!$M$1,Y495,ROW()),\"\")","v":""},{"$f":"IF(Y495<>\"\",CONCATENATE(P495,INT(Q495*1440),DIGITADOR!$M$1,Y495),\"\")","v":""},null,{"$f":"IF(AO495<>\"\",INDEX(referentes!$Y:$Z,MATCH(DATOS!AO495,referentes!$Z:$Z,0),1),\"\")","v":""},"","",{"$f":"IF(R495=\"\",\"\",INDEX(referentes!D:E,MATCH(R495,referentes!E:E,0),1))","v":""},null,null,null,null,null,null,null,null,null,{"$f":"IF(X495=\"\",\"\",INDEX(referentes!$AT:$AX,MATCH(X495,referentes!$AX:$AX,0),1))","v":""},null,null,{"$f":"IF(AC495=\"\",\"\",INDEX(referentes!AZ:BA,MATCH(AC495,referentes!BA:BA,0),1))","v":""},null,null,null,null,null,null,null,null,null,null,null,null,null,null,{"$f":"IF(N495<>\"\",INDEX(referentes!$AK:$AM,MATCH(DATOS!M495,referentes!$AK:$AK,0),3),\"\")","v":""},null,null,{"$f":"IF(AS495=\"\",\"\",INDEX(referentes!P:Q,MATCH(AS495,referentes!Q:Q,0),1))","v":""},null,null,null,{"$f":"IF(AY495=\"\",\"\",INDEX(referentes!AB:AC,MATCH(AY495,referentes!AC:AC,0),1))","v":""},null,{"$f":"IF(BA495=\"\",\"\",INDEX(referentes!S:T,MATCH(BA495,referentes!T:T,0),1))","v":""},null,null,{"$f":"IF(AA495=\"\",\"\",INDEX(OtrasReferencias!$AM$7:$AN$9,MATCH(AA495,OtrasReferencias!$AM$7:$AM$9,0),2))","v":""}]
[null,null,"","",{"$f":"IF(T496=\"\",\"\",INDEX(referentes!G:H,MATCH(T496,referentes!H:H,0),1))","v":""},{"$f":"IF(V496=\"\",\"\",INDEX(referentes!$M:$N,MATCH(V496,referentes!$N:$N,0),1))","v":""},{"$f":"IF(W496=\"\",\"\",INDEX(referentes!J:K,MATCH(W496,referentes!K:K,0),1))","v":""},null,{"$f":"IF(Y496<>\"\",CONCATENATE($A$3,P496,DIGITADOR!$M$1,Y496,ROW()),\"\")","v":""},{"$f":"IF(Y496<>\"\",CONCATENATE(P496,INT(Q496*1440),DIGITADOR!$M$1,Y496),\"\")","v":""},null,{"$f":"IF(AO496<>\"\",INDEX(referentes!$Y:$Z,MATCH(DATOS!AO496,referentes!$Z:$Z,0),1),\"\")","v":""},"","",{"$f":"IF(R496=\"\",\"\",INDEX(referentes!D:E,MATCH(R496,referentes!E:E,0),1))","v":""},null,null,null,null,null,null,null,null,null,{"$f":"IF(X496=\"\",\"\",INDEX(referentes!$AT:$AX,MATCH(X496,referentes!$AX:$AX,0),1))","v":""},null,null,{"$f":"IF(AC496=\"\",\"\",INDEX(referentes!AZ:BA,MATCH(AC496,referentes!BA:BA,0),1))","v":""},null,null,null,null,null,null,null,null,null,null,null,null,null,null,{"$f":"IF(N496<>\"\",INDEX(referentes!$AK:$AM,MATCH(DATOS!M496,referentes!$AK:$AK,0),3),\"\")","v":""},null,null,{"$f":"IF(AS496=\"\",\"\",INDEX(referentes!P:Q,MATCH(AS496,referentes!Q:Q,0),1))","v":""},null,null,null,{"$f":"IF(AY496=\"\",\"\",INDEX(referentes!AB:AC,MATCH(AY496,referentes!AC:AC,0),1))","v":""},null,{"$f":"IF(BA496=\"\",\"\",INDEX(referentes!S:T,MATCH(BA496,referentes!T:T,0),1))","v":""},null,null,{"$f":"IF(AA496=\"\",\"\",INDEX(OtrasReferencias!$AM$7:$AN$9,MATCH(AA496,OtrasReferencias!$AM$7:$AM$9,0),2))","v":""}]
[null,null,"","",{"$f":"IF(T497=\"\",\"\",INDEX(referentes!G:H,MATCH(T497,referentes!H:H,0),1))","v":""},{"$f":"IF(V497=\"\",\"\",INDEX(referentes!$M:$N,MATCH(V497,referentes!$N:$N,0),1))","v":""},{"$f":"IF(W497=\"\",\"\",INDEX(referentes!J:K,MATCH(W497,referentes!K:K,0),1))","v":""},null,{"$f":"IF(Y497<>\"\",CONCATENATE($A$3,P497,DIGITADOR!$M$1,Y497,ROW()),\"\")","v":""},{"$f":"IF(Y497<>\"\",CONCATENATE(P497,INT(Q497*1440),DIGITADOR!$M$1,Y497),\"\")","v":""},null,{"$f":"IF(AO497<>\"\",INDEX(referentes!$Y:$Z,MATCH(DATOS!AO497,referentes!$Z:$Z,0),1),\"\")","v":""},"","",{"$f":"IF(R497=\"\",\"\",INDEX(referentes!D:E,MATCH(R497,referentes!E:E,0),1))","v":""},null,null,null,null,null,null,null,null,null,{"$f":"IF(X497=\"\",\"\",INDEX(referentes!$AT:$AX,MATCH(X497,referentes!$AX:$AX,0),1))","v":""},null,null,{"$f":"IF(AC497=\"\",\"\",INDEX(referentes!AZ:BA,MATCH(AC497,referentes!BA:BA,0),1))","v":""},null,null,null,null,null,null,null,null,null,null,null,null,null,null,{"$f":"IF(N497<>\"\",INDEX(referentes!$AK:$AM,MATCH(DATOS!M497,referentes!$AK:$AK,0),3),\"\")","v":""},null,null,{"$f":"IF(AS497=\"\",\"\",INDEX(referentes!P:Q,MATCH(AS497,referentes!Q:Q,0),1))","v":""},null,null,null,{"$f":"IF(AY497=\"\",\"\",INDEX(referentes!AB:AC,MATCH(AY497,referentes!AC:AC,0),1))","v":""},null,{"$f":"IF(BA497=\"\",\"\",INDEX(referentes!S:T,MATCH(BA497,referentes!T:T,0),1))","v":""},null,null,{"$f":"IF(AA497=\"\",\"\",INDEX(OtrasReferencias!$AM$7:$AN$9,MATCH(AA497,OtrasReferencias!$AM$7:$AM$9,0),2))","v":""}]
[null,null,"","",{"$f":"IF(T498=\"\",\"\",INDEX(referentes!G:H,MATCH(T498,referentes!H:H,0),1))","v":""},{"$f":"IF(V498=\"\",\"\",INDEX(referentes!$M:$N,MATCH(V498,referentes!$N:$N,0),1))","v":""},{"$f":"IF(W498=\"\",\"\",INDEX(referentes!J:K,MATCH(W498,referentes!K:K,0),1))","v":""},null,{"$f":"IF(Y498<>\"\",CONCATENATE($A$3,P498,DIGITADOR!$M$1,Y498,ROW()),\"\")","v":""},{"$f":"IF(Y498<>\"\",CONCATENATE(P498,INT(Q498*1440),DIGITADOR!$M$1,Y498),\"\")","v":""},null,{"$f":"IF(AO498<>\"\",INDEX(referentes!$Y:$Z,MATCH(DATOS!AO498,referentes!$Z:$Z,0),1),\"\")","v":""},"","",{"$f":"IF(R498=\"\",\"\",INDEX(referentes!D:E,MATCH(R498,referentes!E:E,0),1))","v":""},null,null,null,null,null,null,null,null,null,{"$f":"IF(X498=\"\",\"\",INDEX(referentes!$AT:$AX,MATCH(X498,referentes!$AX:$AX,0),1))","v":""},null,null,{"$f":"IF(AC498=\"\",\"\",INDEX(referentes!AZ:BA,MATCH(AC498,referentes!BA:BA,0),1))","v":""},null,null,null,null,null,null,null,null,null,null,null,null,null,null,{"$f":"IF(N498<>\"\",INDEX(referentes!$AK:$AM,MATCH(DATOS!M498,referentes!$AK:$AK,0),3),\"\")","v":""},null,null,{"$f":"IF(AS498=\"\",\"\",INDEX(referentes!P:Q,MATCH(AS498,referentes!Q:Q,0),1))","v":""},null,null,null,{"$f":"IF(AY498=\"\",\"\",INDEX(referentes!AB:AC,MATCH(AY498,referentes!AC:AC,0),1))","v":""},null,{"$f":"IF(BA498=\"\",\"\",INDEX(referentes!S:T,MATCH(BA498,referentes!T:T,0),1))","v":""},null,null,{"$f":"IF(AA498=\"\",\"\",INDEX(OtrasReferencias!$AM$7:$AN$9,MATCH(AA498,OtrasReferencias!$AM$7:$AM$9,0),2))","v":""}]
[null,null,"","",{"$f":"IF(T499=\"\",\"\",INDEX(referentes!G:H,MATCH(T499,referentes!H:H,0),1))","v":""},{"$f":"IF(V499=\"\",\"\",INDEX(referentes!$M:$N,MATCH(V499,referentes!$N:$N,0),1))","v":""},{"$f":"IF(W499=\"\",\"\",INDEX(referentes!J:K,MATCH(W499,referentes!K:K,0),1))","v":""},null,{"$f":"IF(Y499<>\"\",CONCATENATE($A$3,P499,DIGITADOR!$M$1,Y499,ROW()),\"\")","v":""},{"$f":"IF(Y499<>\"\",CONCATENATE(P499,INT(Q499*1440),DIGITADOR!$M$1,Y499),\"\")","v":""},null,{"$f":"IF(AO499<>\"\",INDEX(referentes!$Y:$Z,MATCH(DATOS!AO499,referentes!$Z:$Z,0),1),\"\")","v":""},"","",{"$f":"IF(R499=\"\",\"\",INDEX(referentes!D:E,MATCH(R499,referentes!E:E,0),1))","v":""},null,null,null,null,null,null,null,null,null,{"$f":"IF(X499=\"\",\"\",INDEX(referentes!$AT:$AX,MATCH(X499,referentes!$AX:$AX,0),1))","v":""},null,null,{"$f":"IF(AC499=\"\",\"\",INDEX(referentes!AZ:BA,MATCH(AC499,referentes!BA:BA,0),1))","v":""},null,null,null,null,null,null,null,null,null,null,null,null,null,null,{"$f":"IF(N499<>\"\",INDEX(referentes!$AK:$AM,MATCH(DATOS!M499,referentes!$AK:$AK,0),3),\"\")","v":""},null,null,{"$f":"IF(AS499=\"\",\"\",INDEX(referentes!P:Q,MATCH(AS499,referentes!Q:Q,0),1))","v":""},null,null,null,{"$f":"IF(AY499=\"\",\"\",INDEX(referentes!AB:AC,MATCH(AY499,referentes!AC:AC,0),1))","v":""},null,{"$f":"IF(BA499=\"\",\"\",INDEX(referentes!S:T,MATCH(BA499,referentes!T:T,0),1))","v":""},null,null,{"$f":"IF(AA499=\"\",\"\",INDEX(OtrasReferencias!$AM$7:$AN$9,MATCH(AA499,OtrasReferencias!$AM$7:$AM$9,0),2))","v":""}]
[null,null,"","",{"$f":"IF(T500=\"\",\"\",INDEX(referentes!G:H,MATCH(T500,referentes!H:H,0),1))","v":""},{"$f":"IF(V500=\"\",\"\",INDEX(referentes!$M:$N,MATCH(V500,referentes!$N:$N,0),1))","v":""},{"$f":"IF(W500=\"\",\"\",INDEX(referentes!J:K,MATCH(W500,referentes!K:K,0),1))","v":""},null,{"$f":"IF(Y500<>\"\",CONCATENATE($A$3,P500,DIGITADOR!$M$1,Y500,ROW()),\"\")","v":""},{"$f":"IF(Y500<>\"\",CONCATENATE(P500,INT(Q500*1440),DIGITADOR!$M$1,Y500),\"\")","v":""},null,{"$f":"IF(AO500<>\"\",INDEX(referentes!$Y:$Z,MATCH(DATOS!AO500,referentes!$Z:$Z,0),1),\"\")","v":""},"","",{"$f":"IF(R500=\"\",\"\",INDEX(referentes!D:E,MATCH(R500,referentes!E:E,0),1))","v":""},null,null,null,null,null,null,null,null,null,{"$f":"IF(X500=\"\",\"\",INDEX(referentes!$AT:$AX,MATCH(X500,referentes!$AX:$AX,0),1))","v":""},null,null,{"$f":"IF(AC500=\"\",\"\",INDEX(referentes!AZ:BA,MATCH(AC500,referentes!BA:BA,0),1))","v":""},null,null,null,null,null,null,null,null,null,null,null,null,null,null,{"$f":"IF(N500<>\"\",INDEX(referentes!$AK:$AM,MATCH(DATOS!M500,referentes!$AK:$AK,0),3),\"\")","v":""},null,null,{"$f":"IF(AS500=\"\",\"\",INDEX(referentes!P:Q,MATCH(AS500,referentes!Q:Q,0),1))","v":""},null,null,null,{"$f":"IF(AY500=\"\",\"\",INDEX(referentes!AB:AC,MATCH(AY500,referentes!AC:AC,0),1))","v":""},null,{"$f":"IF(BA500=\"\",\"\",INDEX(referentes!S:T,MATCH(BA500,referentes!T:T,0),1))","v":""},null,null,{"$f":"IF(AA500=\"\",\"\",INDEX(OtrasReferencias!$AM$7:$AN$9,MATCH(AA500,OtrasReferencias!$AM$7:$AM$9,0),2))","v":""}]
[null,null,"","",{"$f":"IF(T501=\"\",\"\",INDEX(referentes!G:H,MATCH(T501,referentes!H:H,0),1))","v":""},{"$f":"IF(V501=\"\",\"\",INDEX(referentes!$M:$N,MATCH(V501,referentes!$N:$N,0),1))","v":""},{"$f":"IF(W501=\"\",\"\",INDEX(referentes!J:K,MATCH(W501,referentes!K:K,0),1))","v":""},null,{"$f":"IF(Y501<>\"\",CONCATENATE($A$3,P501,DIGITADOR!$M$1,Y501,ROW()),\"\")","v":""},{"$f":"IF(Y501<>\"\",CONCATENATE(P501,INT(Q501*1440),DIGITADOR!$M$1,Y501),\"\")","v":""},null,{"$f":"IF(AO501<>\"\",INDEX(referentes!$Y:$Z,MATCH(DATOS!AO501,referentes!$Z:$Z,0),1),\"\")","v":""},"","",{"$f":"IF(R501=\"\",\"\",INDEX(referentes!D:E,MATCH(R501,referentes!E:E,0),1))","v":""},null,null,null,null,null,null,null,null,null,{"$f":"IF(X501=\"\",\"\",INDEX(referentes!$AT:$AX,MATCH(X501,referentes!$AX:$AX,0),1))","v":""},null,null,{"$f":"IF(AC501=\"\",\"\",INDEX(referentes!AZ:BA,MATCH(AC501,referentes!BA:BA,0),1))","v":""},null,null,null,null,null,null,null,null,null,null,null,null,null,null,{"$f":"IF(N501<>\"\",INDEX(referentes!$AK:$AM,MATCH(DATOS!M501,referentes!$AK:$AK,0),3),\"\")","v":""},null,null,{"$f":"IF(AS501=\"\",\"\",INDEX(referentes!P:Q,MATCH(AS501,referentes!Q:Q,0),1))","v":""},null,null,null,{"$f":"IF(AY501=\"\",\"\",INDEX(referentes!AB:AC,MATCH(AY501,referentes!AC:AC,0),1))","v":""},null,{"$f":"IF(BA501=\"\",\"\",INDEX(referentes!S:T,MATCH(BA501,referentes!T:T,0),1))","v":""},null,null,{"$f":"IF(AA501=\"\",\"\",INDEX(OtrasReferencias!$AM$7:$AN$9,MATCH(AA501,OtrasReferencias!$AM$7:$AM$9,0),2))","v":""}]
[null,null,"","",{"$f":"IF(T502=\"\",\"\",INDEX(referentes!G:H,MATCH(T502,referentes!H:H,0),1))","v":""},{"$f":"IF(V502=\"\",\"\",INDEX(referentes!$M:$N,MATCH(V502,referentes!$N:$N,0),1))","v":""},{"$f":"IF(W502=\"\",\"\",INDEX(referentes!J:K,MATCH(W502,referentes!K:K,0),1))","v":""},null,{"$f":"IF(Y502<>\"\",CONCATENATE($A$3,P502,DIGITADOR!$M$1,Y502,ROW()),\"\")","v":""},{"$f":"IF(Y502<>\"\",CONCATENATE(P502,INT(Q502*1440),DIGITADOR!$M$1,Y502),\"\")","v":""},null,{"$f":"IF(AO502<>\"\",INDEX(referentes!$Y:$Z,MATCH(DATOS!AO502,referentes!$Z:$Z,0),1),\"\")","v":""},"","",{"$f":"IF(R502=\"\",\"\",INDEX(referentes!D:E,MATCH(R502,referentes!E:E,0),1))","v":""},null,null,null,null,null,null,null,null,null,{"$f":"IF(X502=\"\",\"\",INDEX(referentes!$AT:$AX,MATCH(X502,referentes!$AX:$AX,0),1))","v":""},null,null,{"$f":"IF(AC502=\"\",\"\",INDEX(referentes!AZ:BA,MATCH(AC502,referentes!BA:BA,0),1))","v":""},null,null,null,null,null,null,null,null,null,null,null,null,null,null,{"$f":"IF(N502<>\"\",INDEX(referentes!$AK:$AM,MATCH(DATOS!M502,referentes!$AK:$AK,0),3),\"\")","v":""},null,null,{"$f":"IF(AS502=\"\",\"\",INDEX(referentes!P:Q,MATCH(AS502,referentes!Q:Q,0),1))","v":""},null,null,null,{"$f":"IF(AY502=\"\",\"\",INDEX(referentes!AB:AC,MATCH(AY502,referentes!AC:AC,0),1))","v":""},null,{"$f":"IF(BA502=\"\",\"\",INDEX(referentes!S:T,MATCH(BA502,referentes!T:T,0),1))","v":""},null,null,{"$f":"IF(AA502=\"\",\"\",INDEX(OtrasReferencias!$AM$7:$AN$9,MATCH(AA502,OtrasReferencias!$AM$7:$AM$9,0),2))","v":""}]
[null,null,"","",{"$f":"IF(T503=\"\",\"\",INDEX(referentes!G:H,MATCH(T503,referentes!H:H,0),1))","v":""},{"$f":"IF(V503=\"\",\"\",INDEX(referentes!$M:$N,MATCH(V503,referentes!$N:$N,0),1))","v":""},{"$f":"IF(W503=\"\",\"\",INDEX(referentes!J:K,MATCH(W503,referentes!K:K,0),1))","v":""},null,{"$f":"IF(Y503<>\"\",CONCATENATE($A$3,P503,DIGITADOR!$M$1,Y503,ROW()),\"\")","v":""},{"$f":"IF(Y503<>\"\",CONCATENATE(P503,INT(Q503*1440),DIGITADOR!$M$1,Y503),\"\")","v":""},null,{"$f":"IF(AO503<>\"\",INDEX(referentes!$Y:$Z,MATCH(DATOS!AO503,referentes!$Z:$Z,0),1),\"\")","v":""},"","",{"$f":"IF(R503=\"\",\"\",INDEX(referentes!D:E,MATCH(R503,referentes!E:E,0),1))","v":""},null,null,null,null,null,null,null,null,null,{"$f":"IF(X503=\"\",\"\",INDEX(referentes!$AT:$AX,MATCH(X503,referentes!$AX:$AX,0),1))","v":""},null,null,{"$f":"IF(AC503=\"\",\"\",INDEX(referentes!AZ:BA,MATCH(AC503,referentes!BA:BA,0),1))","v":""},null,null,null,null,null,null,null,null,null,null,null,null,null,null,{"$f":"IF(N503<>\"\",INDEX(referentes!$AK:$AM,MATCH(DATOS!M503,referentes!$AK:$AK,0),3),\"\")","v":""},null,null,{"$f":"IF(AS503=\"\",\"\",INDEX(referentes!P:Q,MATCH(AS503,referentes!Q:Q,0),1))","v":""},null,null,null,{"$f":"IF(AY503=\"\",\"\",INDEX(referentes!AB:AC,MATCH(AY503,referentes!AC:AC,0),1))","v":""},null,{"$f":"IF(BA503=\"\",\"\",INDEX(referentes!S:T,MATCH(BA503,referentes!T:T,0),1))","v":""},null,null,{"$f":"IF(AA503=\"\",\"\",INDEX(OtrasReferencias!$AM$7:$AN$9,MATCH(AA503,OtrasReferencias!$AM$7:$AM$9,0),2))","v":""}]

{"sheet":"referentes","index":4,"n_rows":884,"n_cols":53,"rows_kept":884,"cut":false,"hidden":false,"merged":[]}
[]
["CORPAMAG","Corporación autónoma regional del Magdalena",null,"S","Seca",null,"N","Nocturna",null,1,"Estuarino",null,824,"Arrastre superficial",null,2,"Cuantitativo",null,819,"Observación de alicuotas",null,null,null,null,"ALGAEBASE0","AlgaeBase V 2020",null,50,"Cell/L",null,1,"1ml de Lugol/100ml de muestra",null,1,"Revisión de toda la camara Utermöhl",null,"ACHNANTHES","ACHNANTHES","7035.46.43669","BACILLARIOPHYTA","BACILLARIOPHYCEAE",null,"ACHNANTHACEAE",null,null,48678,"F",4,null,"BHCAR-Bocachica",null,3103,"Alex Baez Polo"]
["INVEMAR","Instituto de Investigaciones Marinas y Costeras",null,"L","Lluviosa",null,"D","Diurna",null,2,"Marino costero",null,868,"Arrastre mixto",null,1,"Cualitativo",null,692,"sedimentación en cámaras de Utermöhl",null,null,null,null,"WORMS","World Register Marine Species",null,110,"Col/L",null,3,"Formalina 4%",null,2,"Revisión de alicuotas acorde a curva de acumulación de especies",null,"ACHNANTHES BREVIPES","ACHNANTHES BREVIPES","7035.55.165915","BACILLARIOPHYTA","BACILLARIOPHYCEAE",null,"ACHNANTHACEAE","ACHNANTHES",null,48675,"F",1,null,"BHCAR-Centro B. Interna",null,4068,"Andres Malagon"]
["INVEMAR - CAM","Instituto de Investigaciones Marinas y Costeras (CAM)",null,null,null,null,null,null,null,3,"Oceánico",null,823,"Arrastre oblicuo",null,null,null,null,870,"Revisión completa de la muestra y estandarizada al volumen total filtrado",null,null,null,null,"ALGAEBASE7","AlgaeBase V 2017",null,106,"Fil/L",null,2,"Formalina 10%",null,5,"Revisión completa de la muestra",null,"ACHNANTHES MANIFERA","ACHNANTHES MANIFERA","7035.55.36955","BACILLARIOPHYTA","BACILLARIOPHYCEAE",null,"ACHNANTHACEAE","ACHNANTHES",null,48677,"F",3,null,"BHCAR-Frente Caño Loro",null,4996,"Darío Vega"]
["INVEMAR - BEM","Instituto de Investigaciones Marinas y Costeras (BEM)",null,null,null,null,null,null,null,8,"Batipelagica",null,822,"Arrastre vertical",null,null,null,null,731,"Camara Sedgewick  Rafter (S-R)",null,null,null,null,"SACC","South American Classification Committee - AVES",null,68,"Cel/g",null,null,null,null,4,"Revisión completa de la fracción",null,"ACHNANTHIDIUM","ACHNANTHIDIUM","7035.46.43670","BACILLARIOPHYTA",null,null,"ACHNANTHIDIACEAE",null,null,48676,"F",2,null,"BHCAR-Tierra Bomba (Mar afuera)",null,6004,"Diego Germán Ramírez Roa"]
["INVEMAR - CSC","Instituto de Investigaciones Marinas y Costeras (CSC)",null,null,null,null,null,null,null,5,"Pantallas",null,820,"Tubo muestreador",null,null,null,null,871,"Muestra fraccionada mediante Folsom y estandarizada al volumen total filtrado",null,null,null,null,"MYCOB","MycoBank",null,null,null,null,null,null,null,3,"Conteo total de células en cámara Sedgwick-Rafter",null,"ACTINASTRUM","ACTINASTRUM","4020.46.43466","CHLOROPHYTA","TREBOUXIOPHYCEAE",null,"CHLORELLACEAE",null,null,48670,"F",4,null,"CAL-Boca Caño Aguas Negras",null,3766,"Edgar Arteaga Sogamoso"]
["SPSM","Sociedad PSM",null,null,null,null,null,null,null,6,"Epipelagica",null,821,"Botella oceanografica",null,null,null,null,null,null,null,null,null,null,"ITIS","Integrated Taxonomic Information System",null,null,null,null,null,null,null,null,null,null,"ACTINOCYCLUS","ACTINOCYCLUS","7035.46.43722","BACILLARIOPHYTA","COSCINODISCOPHYCEAE",null,"HEMIDISCACEAE",null,null,48845,"F",7,null,"CAL-Boca Caño Grande",null,4918,"Edgar Fernando Dorado Roncancio"]
[null,null,null,null,null,null,null,null,null,7,"Mesopelagica",null,null,null,null,null,null,null,null,null,null,null,null,null,"VPA","Vascular Plants of the Americas",null,null,null,null,null,null,null,null,null,null,"ACTINOCYCLUS NORMANII","ACTINOCYCLUS NORMANII","7035.55.59713","BACILLARIOPHYTA","COSCINODISCOPHYCEAE",null,"HEMIDISCACEAE","ACTINOCYCLUS",null,48668,"F",2,null,"CAL-Ciénaga Alfandoque",null,4066,"Erika Acosta"]
[null,null,null,null,null,null,null,null,null,4,"Pastos marinos",null,null,null,null,null,null,null,null,null,null,null,null,null,"FishBase","Global Information System on Fishes",null,null,null,null,null,null,null,null,null,null,"ACTINOCYCLUS SUBTILIS","ACTINOCYCLUS SUBTILIS","7035.55.37220","BACILLARIOPHYTA","COSCINODISCOPHYCEAE",null,"HEMIDISCACEAE","ACTINOCYCLUS",null,48669,"F",3,null,"CAL-Ciénaga Conchal",null,1951,"José Manuel Gutiérrez Salcedo"]
[null,null,null,null,null,null,null,null,null,null,null,null,null,null,null,null,null,null,null,null,null,null,null,null,"TNRS","Taxonomic Name Resolution Service v5.0",null,null,null,null,null,null,null,null,null,null,"ACTINOPTYCHUS","ACTINOPTYCHUS","7035.46.43721","BACILLARIOPHYTA","COSCINODISCOPHYCEAE",null,"HELIOPELTACEAE",null,null,48667,"F",1,null,"CAL-Ciénaga Las Piedras",null,4914,"Julian Franco"]
[null,null,null,null,null,null,null,null,null,null,null,null,null,null,null,null,null,null,null,null,null,null,null,null,"SIBM","Taxa proveniente de listas administradas  SIBM",null,null,null,null,null,null,null,null,null,null,"ACTINOPTYCHUS OCTONARIUS","ACTINOPTYCHUS OCTONARIUS","7035.55.108483","BACILLARIOPHYTA","COSCINODISCOPHYCEAE",null,"HELIOPELTACEAE","ACTINOPTYCHUS",null,48671,"F",5,null,"CAL-Frente Nueva Venecia",null,4917,"Karen del Carmen Ayala Galván"]
[null,null,null,null,null,null,null,null,null,null,null,null,null,null,null,null,null,null,null,null,null,null,null,null,"LCVP","Leipzi Catalogue Vascular Plants 2021",null,null,null,null,null,null,null,null,null,null,"ACTINOPTYCHUS SPLENDENS","ACTINOPTYCHUS SPLENDENS","7035.55.120842","BACILLARIOPHYTA","COSCINODISCOPHYCEAE",null,"HELIOPELTACEAE","ACTINOPTYCHUS",null,48672,"F",6,null,"CAL-Sector Machete",null,4067,"Luis Castro"]
[null,null,null,null,null,null,null,null,null,null,null,null,null,null,null,null,null,null,null,null,null,null,null,null,"LPSN","List of Prokaryotic names with Standing in Nomenclature",null,null,null,null,null,null,null,null,null,null,"ALEXANDRIUM","ALEXANDRIUM","7030.46.44609","MIOZOA","DINOPHYCEAE",null,"OSTREOPSIDACEAE",null,null,47741,"F",5,null,"CORGAMA-Bahía de Santa Marta",null,3767,"Natalia Maria Arbelaez Merizalde"]
[null,null,null,null,null,null,null,null,null,null,null,null,null,null,null,null,null,null,null,null,null,null,null,null,null,null,null,null,null,null,null,null,null,null,null,null,"ALEXANDRIUM CATENELLA","ALEXANDRIUM CATENELLA","7030.55.40281","MIOZOA","DINOPHYCEAE",null,"GONYAULACACEAE","ALEXANDRIUM",null,47739,"F",3,null,"CORGAMA-Bello Horizonte",null,3103,"Alex Baez Polo"]
[null,null,null,null,null,null,null,null,null,null,null,null,null,null,null,null,null,null,null,null,null,null,null,null,null,null,null,null,null,null,null,null,null,null,null,null,"ALEXANDRIUM FRATERCULUS","ALEXANDRIUM FRATERCULUS","7030.55.40287","MIOZOA","DINOPHYCEAE",null,"GONYAULACACEAE","ALEXANDRIUM",null,47737,"F",1,null,"CORGAMA-Boca de la Barra",null,3444,"Alexandra Rodríguez"]
[null,null,null,null,null,null,null,null,null,null,null,null,null,null,null,null,null,null,null,null,null,null,null,null,null,null,null,null,null,null,null,null,null,null,null,null,"ALEXANDRIUM MINUTUM","ALEXANDRIUM MINUTUM","7030.55.52068","MIOZOA","DINOPHYCEAE",null,"GONYAULACACEAE","ALEXANDRIUM",null,48642,"F",6,null,"CORGAMA-Boya 2",null,3040,"Alianis Orjuela"]
[null,null,null,null,null,null,null,null,null,null,null,null,null,null,null,null,null,null,null,null,null,null,null,null,null,null,null,null,null,null,null,null,null,null,null,null,"ALEXANDRIUM MONILATUM","ALEXANDRIUM MONILATUM","7030.55.58333","MIOZOA","DINOPHYCEAE",null,"GONYAULACACEAE","ALEXANDRIUM",null,48646,"F",6,null,"CORGAMA-Boya 2",null,4068,"Andres Malagon"]
[null,null,null,null,null,null,null,null,null,null,null,null,null,null,null,null,null,null,null,null,null,null,null,null,null,null,null,null,null,null,null,null,null,null,null,null,"AMPHIDINIUM","AMPHIDINIUM","7030.46.44134","MIOZOA",null,null,"GYMNODINIACEAE",null,null,48644,"F",6,null,"CORGAMA-Boya 2",null,3411,"Claudia Milena Agudelo Palacio"]
[null,null,null,null,null,null,null,null,null,null,null,null,null,null,null,null,null,null,null,null,null,null,null,null,null,null,null,null,null,null,null,null,null,null,null,null,"AMPHISOLENIA","AMPHISOLENIA","7030.46.44613","MIOZOA",null,null,"AMPHISOLENIACEAE",null,null,47738,"F",2,null,"CORGAMA-Costa Verde",null,4996,"Darío Vega"]
[null,null,null,null,null,null,null,null,null,null,null,null,null,null,null,null,null,null,null,null,null,null,null,null,null,null,null,null,null,null,null,null,null,null,null,null,"AMPHISOLENIA BIDENTATA","AMPHISOLENIA BIDENTATA","7030.55.52110","MIOZOA",null,null,"AMPHISOLENIACEAE","AMPHISOLENIA",null,47740,"F",4,null,"CORGAMA-Playa Taganga",null,3766,"Edgar Arteaga Sogamoso"]
[null,null,null,null,null,null,null,null,null,null,null,null,null,null,null,null,null,null,null,null,null,null,null,null,null,null,null,null,null,null,null,null,null,null,null,null,"AMPHISOLENIA BIFURCATA","AMPHISOLENIA BIFURCATA","7030.55.69883","MIOZOA",null,null,"AMPHISOLENIACEAE","AMPHISOLENIA",null,50025,"F-E",6,null,"CORPAMAG-211-Emisario E6 (Boqueron)",null,4066,"Erika Acosta"]
[null,null,null,null,null,null,null,null,null,null,null,null,null,null,null,null,null,null,null,null,null,null,null,null,null,null,null,null,null,null,null,null,null,null,null,null,"AMPHISOLENIA BISPINOSA","AMPHISOLENIA BISPINOSA","7030.55.69886","MIOZOA",null,null,"AMPHISOLENIACEAE","AMPHISOLENIA",null,48673,"F-ELBa",1,null,"FCGSM-Boca de la Barra",null,3042,"Jesus Garay Tinoco"]
[null,null,null,null,null,null,null,null,null,null,null,null,null,null,null,null,null,null,null,null,null,null,null,null,null,null,null,null,null,null,null,null,null,null,null,null,"AMPHISOLENIA CLAVIPES","AMPHISOLENIA CLAVIPES","7030.55.69887","MIOZOA",null,null,"AMPHISOLENIACEAE","AMPHISOLENIA",null,48674,"F-ECLu",2,null,"FCGSM-Ciénaga de la Luna",null,6356,"Jose Francisco Campo Campo"]
[null,null,null,null,null,null,null,null,null,null,null,null,null,null,null,null,null,null,null,null,null,null,null,null,null,null,null,null,null,null,null,null,null,null,null,null,"AMPHISOLENIA GLOBIFERA","AMPHISOLENIA GLOBIFERA","7030.55.52113","MIOZOA",null,null,"AMPHISOLENIACEAE","AMPHISOLENIA",null,48651,"F-ECN",null,null,"MNCGSM-Boca Caño Aguas Negras",null,3505,"Juan Manuel Rodriguez Pineda"]
[null,null,null,null,null,null,null,null,null,null,null,null,null,null,null,null,null,null,null,null,null,null,null,null,null,null,null,null,null,null,null,null,null,null,null,null,"AMPHISOLENIA PALMATA","AMPHISOLENIA PALMATA","7030.55.52115","MIOZOA",null,null,"AMPHISOLENIACEAE","AMPHISOLENIA",null,48652,"F-ELBa",null,null,"MNCGSM-Boca de la Barra",null,4914,"Julian Franco"]
[null,null,null,null,null,null,null,null,null,null,null,null,null,null,null,null,null,null,null,null,null,null,null,null,null,null,null,null,null,null,null,null,null,null,null,null,"AMPHISOLENIA SCHAUINSLANDII","AMPHISOLENIA SCHAUINSLANDII","7030.55.69955","MIOZOA",null,null,"AMPHISOLENIACEAE","AMPHISOLENIA",null,48647,"F-ECen",null,null,"MNCGSM-Centro Ciénaga",null,4067,"Luis Castro"]
[null,null,null,null,null,null,null,null,null,null,null,null,null,null,null,null,null,null,null,null,null,null,null,null,null,null,null,null,null,null,null,null,null,null,null,null,"AMPHORA","AMPHORA","7035.46.51789","BACILLARIOPHYTA","BACILLARIOPHYCEAE",null,"CATENULACEAE",null,null,48653,"F-ECLu",null,null,"MNCGSM-Ciénaga de la Luna",null,3767,"Natalia Maria Arbelaez Merizalde"]
[null,null,null,null,null,null,null,null,null,null,null,null,null,null,null,null,null,null,null,null,null,null,null,null,null,null,null,null,null,null,null,null,null,null,null,null,"AMPHORA CLEVEI","AMPHORA CLEVEI","7035.55.83556","BACILLARIOPHYTA","BACILLARIOPHYCEAE",null,"CATENULACEAE","AMPHORA",null,48650,"F-EFRF",null,null,"MNCGSM-Frente desembocadura Rio Fundación"]
[null,null,null,null,null,null,null,null,null,null,null,null,null,null,null,null,null,null,null,null,null,null,null,null,null,null,null,null,null,null,null,null,null,null,null,null,"AMPHORA CRASSA","AMPHORA CRASSA","7035.55.85325","BACILLARIOPHYTA","BACILLARIOPHYCEAE",null,"CATENULACEAE","AMPHORA",null,48649,"F-ENVe",null,null,"MNCGSM-Nueva Venecia"]
[null,null,null,null,null,null,null,null,null,null,null,null,null,null,null,null,null,null,null,null,null,null,null,null,null,null,null,null,null,null,null,null,null,null,null,null,"AMPHORA DECUSSATA","AMPHORA DECUSSATA","7035.55.87338","BACILLARIOPHYTA","BACILLARIOPHYCEAE",null,"CATENULACEAE","AMPHORA",null,48648,"F-ERin",null,null,"MNCGSM-Rinconada"]
[null,null,null,null,null,null,null,null,null,null,null,null,null,null,null,null,null,null,null,null,null,null,null,null,null,null,null,null,null,null,null,null,null,null,null,null,"AMPHORA LINEOLATA","AMPHORA LINEOLATA","7035.55.102224","BACILLARIOPHYTA","BACILLARIOPHYCEAE",null,"CATENULACEAE","AMPHORA",null,48660,"F-BCH",null,null,"RLA7014-Bahía Chengue"]
[null,null,null,null,null,null,null,null,null,null,null,null,null,null,null,null,null,null,null,null,null,null,null,null,null,null,null,null,null,null,null,null,null,null,null,null,"AMPHORA MARINA","AMPHORA MARINA","7035.55.37123","BACILLARIOPHYTA","BACILLARIOPHYCEAE",null,"CATENULACEAE","AMPHORA",null,48661,"F-BCH-T",null,null,"RLA7014-Bahía Chengue"]
[null,null,null,null,null,null,null,null,null,null,null,null,null,null,null,null,null,null,null,null,null,null,null,null,null,null,null,null,null,null,null,null,null,null,null,null,"AMPHORA OBTUSA","AMPHORA OBTUSA","7035.55.37130","BACILLARIOPHYTA","BACILLARIOPHYCEAE",null,"CATENULACEAE","AMPHORA",null,48665,"F-ELBa",null,null,"RLA7014-Boca de la Barra"]
[null,null,null,null,null,null,null,null,null,null,null,null,null,null,null,null,null,null,null,null,null,null,null,null,null,null,null,null,null,null,null,null,null,null,null,null,"AMPHORA OSTREARIA","AMPHORA OSTREARIA","7035.55.37132","BACILLARIOPHYTA","BACILLARIOPHYCEAE",null,"CATENULACEAE","AMPHORA",null,48664,"F-BST",null,null,"RLA7014-Boya 2"]
[null,null,null,null,null,null,null,null,null,null,null,null,null,null,null,null,null,null,null,null,null,null,null,null,null,null,null,null,null,null,null,null,null,null,null,null,"AMPHORA RHOMBICA","AMPHORA RHOMBICA","7035.55.37141","BACILLARIOPHYTA","BACILLARIOPHYCEAE",null,"CATENULACEAE","AMPHORA",null,48666,"F-ECLu",null,null,"RLA7014-Ciénaga de la Luna"]
[null,null,null,null,null,null,null,null,null,null,null,null,null,null,null,null,null,null,null,null,null,null,null,null,null,null,null,null,null,null,null,null,null,null,null,null,"AMPHORA TERRORIS","AMPHORA TERRORIS","7035.55.33197","BACILLARIOPHYTA","BACILLARIOPHYCEAE",null,"CATENULACEAE","AMPHORA",null,48663,"F-LCH-T",null,null,"RLA7014-Laguna Chengue"]
[null,null,null,null,null,null,null,null,null,null,null,null,null,null,null,null,null,null,null,null,null,null,null,null,null,null,null,null,null,null,null,null,null,null,null,null,"ANABAENA","ANABAENA","5040.46.43086","CYANOBACTERIA",null,null,"NOSTOCACEAE",null,null,48662,"F-LCH-T",null,null,"RLA7014-Laguna Chengue"]
[null,null,null,null,null,null,null,null,null,null,null,null,null,null,null,null,null,null,null,null,null,null,null,null,null,null,null,null,null,null,null,null,null,null,null,null,"ANABAENOPSIS","ANABAENOPSIS","5040.46.43591","CYANOBACTERIA",null,null,"APHANIZOMENONACEAE",null,null,48654,"F-BCH",null,null,"RLA7020-Bahía Chengue"]
[null,null,null,null,null,null,null,null,null,null,null,null,null,null,null,null,null,null,null,null,null,null,null,null,null,null,null,null,null,null,null,null,null,null,null,null,"ANACYSTIS","ANACYSTIS","5040.46.43589","CYANOBACTERIA",null,null,"MICROCYSTACEAE",null,null,48655,"F-BCH-T",null,null,"RLA7020-Bahía Chengue"]
[null,null,null,null,null,null,null,null,null,null,null,null,null,null,null,null,null,null,null,null,null,null,null,null,null,null,null,null,null,null,null,null,null,null,null,null,"ANKISTRODESMUS","ANKISTRODESMUS","4020.46.44102","CHLOROPHYTA",null,null,"SELENASTRACEAE",null,null,48658,"F-ELBa",null,null,"RLA7020-Boca de la Barra"]
[null,null,null,null,null,null,null,null,null,null,null,null,null,null,null,null,null,null,null,null,null,null,null,null,null,null,null,null,null,null,null,null,null,null,null,null,"ANKISTRODESMUS SPIRALIS","ANKISTRODESMUS SPIRALIS","4020.55.27663","CHLOROPHYTA",null,null,"SELENASTRACEAE","ANKISTRODESMUS",null,48657,"F-BST",null,null,"RLA7020-Boya 2"]
[null,null,null,null,null,null,null,null,null,null,null,null,null,null,null,null,null,null,null,null,null,null,null,null,null,null,null,null,null,null,null,null,null,null,null,null,"APHANIZOMENON","APHANIZOMENON","5040.46.43592","CYANOBACTERIA","CYANOPHYCEAE",null,"APHANIZOMENONACEAE",null,null,48659,"F-ECLu",null,null,"RLA7020-Ciénaga de la Luna"]
[null,null,null,null,null,null,null,null,null,null,null,null,null,null,null,null,null,null,null,null,null,null,null,null,null,null,null,null,null,null,null,null,null,null,null,null,"APHANOCAPSA","APHANOCAPSA","5040.46.43069","CYANOBACTERIA",null,null,"MERISMOPEDIACEAE",null,null,48656,"F-LCH-T",null,null,"RLA7020-Laguna Chengue"]
[null,null,null,null,null,null,null,null,null,null,null,null,null,null,null,null,null,null,null,null,null,null,null,null,null,null,null,null,null,null,null,null,null,null,null,null,"APHANOTHECE","APHANOTHECE","5040.46.43072","CYANOBACTERIA","CYANOPHYCEAE",null,"APHANOTHECACEAE",null,null,15611,null,9,"C47005062","Aguas Negras"]
[null,null,null,null,null,null,null,null,null,null,null,null,null,null,null,null,null,null,null,null,null,null,null,null,null,null,null,null,null,null,null,null,null,null,null,null,"ARCHAEPERIDINIUM","ARCHAEPERIDINIUM","7030.46.46566","MIOZOA",null,null,"AMPHIDINIOPSIDACEAE",null,null,15613,null,11,"C47005072","Aguja"]
[null,null,null,null,null,null,null,null,null,null,null,null,null,null,null,null,null,null,null,null,null,null,null,null,null,null,null,null,null,null,null,null,null,null,null,null,"ARCHAEPERIDINIUM MINUTUM","ARCHAEPERIDINIUM MINUTUM","7030.55.139469","MIOZOA",null,null,"AMPHIDINIOPSIDACEAE","ARCHAEPERIDINIUM",null,41046,"ELBa",null,"C47005064","Boca de la Barra"]
[null,null,null,null,null,null,null,null,null,null,null,null,null,null,null,null,null,null,null,null,null,null,null,null,null,null,null,null,null,null,null,null,null,null,null,null,"ASTERIONELLA","ASTERIONELLA","7035.46.43706","BACILLARIOPHYTA",null,null,"FRAGILARIACEAE",null,null,15612,null,10,"C47005063","Bristol"]
[null,null,null,null,null,null,null,null,null,null,null,null,null,null,null,null,null,null,null,null,null,null,null,null,null,null,null,null,null,null,null,null,null,null,null,null,"ASTERIONELLA FORMOSA","ASTERIONELLA FORMOSA","7035.55.37187","BACILLARIOPHYTA",null,null,"FRAGILARIACEAE","ASTERIONELLA",null,15603,null,1,"C47005064","Buenavista"]
[null,null,null,null,null,null,null,null,null,null,null,null,null,null,null,null,null,null,null,null,null,null,null,null,null,null,null,null,null,null,null,null,null,null,null,null,"ASTERIONELLA MEDITERRANEA","ASTERIONELLA MEDITERRANEA","7035.55.104355","BACILLARIOPHYTA",null,null,"FRAGILARIACEAE","ASTERIONELLA",null,41052,"ECN",null,"C47005070","Caño Aguas Negras"]
[null,null,null,null,null,null,null,null,null,null,null,null,null,null,null,null,null,null,null,null,null,null,null,null,null,null,null,null,null,null,null,null,null,null,null,null,"ASTERIONELLA NOTATA","ASTERIONELLA NOTATA","7035.55.37200","BACILLARIOPHYTA",null,null,"FRAGILARIACEAE","ASTERIONELLA",null,15604,null,2,"C47005065","Caño Grande"]
[null,null,null,null,null,null,null,null,null,null,null,null,null,null,null,null,null,null,null,null,null,null,null,null,null,null,null,null,null,null,null,null,null,null,null,null,"ASTERIONELLOPSIS","ASTERIONELLOPSIS","7035.46.44352","BACILLARIOPHYTA","BACILLARIOPHYCEAE",null,"ASTERIONELLOPSIDACEAE",null,null,41049,"ECen",null,"C47005067","Centro Ciénaga"]
[null,null,null,null,null,null,null,null,null,null,null,null,null,null,null,null,null,null,null,null,null,null,null,null,null,null,null,null,null,null,null,null,null,null,null,null,"ASTERIONELLOPSIS GLACIALIS","ASTERIONELLOPSIS GLACIALIS","7035.55.37056","BACILLARIOPHYTA","BACILLARIOPHYCEAE",null,"FRAGILARIACEAE","ASTERIONELLOPSIS",null,41047,"ECLu",null,"C47005068","Ciénaga de la Luna"]
[null,null,null,null,null,null,null,null,null,null,null,null,null,null,null,null,null,null,null,null,null,null,null,null,null,null,null,null,null,null,null,null,null,null,null,null,"ASTERODINIUM","ASTERODINIUM","7030.46.47277","MIOZOA",null,null,"BRACHIDINIACEAE",null,null,15614,null,12,"C47005073","Conchal"]
[null,null,null,null,null,null,null,null,null,null,null,null,null,null,null,null,null,null,null,null,null,null,null,null,null,null,null,null,null,null,null,null,null,null,null,null,"ASTEROLAMPRA","ASTEROLAMPRA","7035.46.45141","BACILLARIOPHYTA","COSCINODISCOPHYCEAE",null,"ASTEROLAMPRACEAE",null,null,15605,null,3,"C47005066","Dragado"]
[null,null,null,null,null,null,null,null,null,null,null,null,null,null,null,null,null,null,null,null,null,null,null,null,null,null,null,null,null,null,null,null,null,null,null,null,"ASTEROLAMPRA MARYLANDICA","ASTEROLAMPRA MARYLANDICA","7035.55.59733","BACILLARIOPHYTA","COSCINODISCOPHYCEAE",null,"ASTEROLAMPRACEAE","ASTEROLAMPRA",null,41048,"EFRF",null,"C47005066","Frente desembocadura Rio Fundación"]
[null,null,null,null,null,null,null,null,null,null,null,null,null,null,null,null,null,null,null,null,null,null,null,null,null,null,null,null,null,null,null,null,null,null,null,null,"ASTEROMPHALUS","ASTEROMPHALUS","7035.46.44355","BACILLARIOPHYTA","COSCINODISCOPHYCEAE",null,"ASTEROLAMPRACEAE",null,null,15606,null,4,"C47005067","Km 22"]
[null,null,null,null,null,null,null,null,null,null,null,null,null,null,null,null,null,null,null,null,null,null,null,null,null,null,null,null,null,null,null,null,null,null,null,null,"ASTEROMPHALUS ARACHNE","ASTEROMPHALUS ARACHNE","7035.55.37182","BACILLARIOPHYTA","COSCINODISCOPHYCEAE",null,"ASTEROLAMPRACEAE","ASTEROMPHALUS",null,15607,null,5,"C47005068","Luna"]
[null,null,null,null,null,null,null,null,null,null,null,null,null,null,null,null,null,null,null,null,null,null,null,null,null,null,null,null,null,null,null,null,null,null,null,null,"ASTEROMPHALUS BROOKEI","ASTEROMPHALUS BROOKEI","7035.55.81189","BACILLARIOPHYTA","COSCINODISCOPHYCEAE",null,"ASTEROLAMPRACEAE","ASTEROMPHALUS",null,15608,null,6,"C47005069","New Venecia"]
[null,null,null,null,null,null,null,null,null,null,null,null,null,null,null,null,null,null,null,null,null,null,null,null,null,null,null,null,null,null,null,null,null,null,null,null,"ASTEROMPHALUS CLEVEANUS","ASTEROMPHALUS CLEVEANUS","7035.55.83547","BACILLARIOPHYTA","COSCINODISCOPHYCEAE",null,"ASTEROLAMPRACEAE","ASTEROMPHALUS",null,41051,"ENVe",null,"C47005069","Nueva Venecia"]
[null,null,null,null,null,null,null,null,null,null,null,null,null,null,null,null,null,null,null,null,null,null,null,null,null,null,null,null,null,null,null,null,null,null,null,null,"ASTEROMPHALUS ELEGANS","ASTEROMPHALUS ELEGANS","7035.55.59737","BACILLARIOPHYTA","COSCINODISCOPHYCEAE",null,"ASTEROLAMPRACEAE","ASTEROMPHALUS",null,41050,"ERin",null,"C47005070","Rinconada"]
[null,null,null,null,null,null,null,null,null,null,null,null,null,null,null,null,null,null,null,null,null,null,null,null,null,null,null,null,null,null,null,null,null,null,null,null,"ASTEROMPHALUS FLABELLATUS","ASTEROMPHALUS FLABELLATUS","7035.55.37183","BACILLARIOPHYTA","COSCINODISCOPHYCEAE",null,"ASTEROLAMPRACEAE","ASTEROMPHALUS",null,15609,null,7,"C47005070","Rinconada"]
[null,null,null,null,null,null,null,null,null,null,null,null,null,null,null,null,null,null,null,null,null,null,null,null,null,null,null,null,null,null,null,null,null,null,null,null,"ASTEROMPHALUS HEPTACTIS","ASTEROMPHALUS HEPTACTIS","7035.55.37184","BACILLARIOPHYTA","COSCINODISCOPHYCEAE",null,"ASTEROLAMPRACEAE","ASTEROMPHALUS",null,15610,null,8,"C47005071","Río Sevilla"]
[null,null,null,null,null,null,null,null,null,null,null,null,null,null,null,null,null,null,null,null,null,null,null,null,null,null,null,null,null,null,null,null,null,null,null,null,"ASTEROMPHALUS HOOKERI","ASTEROMPHALUS HOOKERI","7035.55.37185","BACILLARIOPHYTA","COSCINODISCOPHYCEAE",null,"ASTEROLAMPRACEAE","ASTEROMPHALUS",null,15615,null,13,"C47005074","Torno"]
[null,null,null,null,null,null,null,null,null,null,null,null,null,null,null,null,null,null,null,null,null,null,null,null,null,null,null,null,null,null,null,null,null,null,null,null,"ASTEROMPHALUS ROBUSTUS","ASTEROMPHALUS ROBUSTUS","7035.55.116818","BACILLARIOPHYTA","COSCINODISCOPHYCEAE",null,"ASTEROLAMPRACEAE","ASTEROMPHALUS"]
[null,null,null,null,null,null,null,null,null,null,null,null,null,null,null,null,null,null,null,null,null,null,null,null,null,null,null,null,null,null,null,null,null,null,null,null,"ASTEROMPHALUS ROPERIANUS","ASTEROMPHALUS ROPERIANUS","7035.55.59738","BACILLARIOPHYTA","COSCINODISCOPHYCEAE",null,"ASTEROLAMPRACEAE","ASTEROMPHALUS"]
[null,null,null,null,null,null,null,null,null,null,null,null,null,null,null,null,null,null,null,null,null,null,null,null,null,null,null,null,null,null,null,null,null,null,null,null,"ASTEROMPHALUS SARCOPHAGUS","ASTEROMPHALUS SARCOPHAGUS","7035.55.59736","BACILLARIOPHYTA","COSCINODISCOPHYCEAE",null,"ASTEROLAMPRACEAE","ASTEROMPHALUS"]
[null,null,null,null,null,null,null,null,null,null,null,null,null,null,null,null,null,null,null,null,null,null,null,null,null,null,null,null,null,null,null,null,null,null,null,null,"AULACOSEIRA","AULACOSEIRA","7035.46.43675","BACILLARIOPHYTA","COSCINODISCOPHYCEAE",null,"AULACOSEIRACEAE"]
[null,null,null,null,null,null,null,null,null,null,null,null,null,null,null,null,null,null,null,null,null,null,null,null,null,null,null,null,null,null,null,null,null,null,null,null,"AULACOSEIRA GRANULATA","AULACOSEIRA GRANULATA","7035.55.140150","BACILLARIOPHYTA","COSCINODISCOPHYCEAE",null,"AULACOSEIRACEAE","AULACOSEIRA"]
[null,null,null,null,null,null,null,null,null,null,null,null,null,null,null,null,null,null,null,null,null,null,null,null,null,null,null,null,null,null,null,null,null,null,null,null,"AULACOSEIRA ITALICA","AULACOSEIRA ITALICA","7035.55.37226","BACILLARIOPHYTA","COSCINODISCOPHYCEAE",null,"AULACOSEIRACEAE","AULACOSEIRA"]
[null,null,null,null,null,null,null,null,null,null,null,null,null,null,null,null,null,null,null,null,null,null,null,null,null,null,null,null,null,null,null,null,null,null,null,null,"AURICULA","AURICULA","7035.46.44357","BACILLARIOPHYTA",null,null,"AURICULACEAE"]
[null,null,null,null,null,null,null,null,null,null,null,null,null,null,null,null,null,null,null,null,null,null,null,null,null,null,null,null,null,null,null,null,null,null,null,null,"AURICULA COMPLEXA","AURICULA COMPLEXA","7035.55.37251","BACILLARIOPHYTA",null,null,"AURICULACEAE","AURICULA"]
[null,null,null,null,null,null,null,null,null,null,null,null,null,null,null,null,null,null,null,null,null,null,null,null,null,null,null,null,null,null,null,null,null,null,null,null,"AZPEITIA","AZPEITIA","7035.46.45157","BACILLARIOPHYTA",null,null,"HEMIDISCACEAE"]
[null,null,null,null,null,null,null,null,null,null,null,null,null,null,null,null,null,null,null,null,null,null,null,null,null,null,null,null,null,null,null,null,null,null,null,null,"AZPEITIA AFRICANA","AZPEITIA AFRICANA","7035.55.59723","BACILLARIOPHYTA",null,null,"HEMIDISCACEAE","AZPEITIA"]
[null,null,null,null,null,null,null,null,null,null,null,null,null,null,null,null,null,null,null,null,null,null,null,null,null,null,null,null,null,null,null,null,null,null,null,null,"AZPEITIA NODULIFERA","AZPEITIA NODULIFERA","7035.55.157979","BACILLARIOPHYTA",null,null,"HEMIDISCACEAE","AZPEITIA"]
[null,null,null,null,null,null,null,null,null,null,null,null,null,null,null,null,null,null,null,null,null,null,null,null,null,null,null,null,null,null,null,null,null,null,null,null,"BACILLARIA","BACILLARIA","7035.46.43676","BACILLARIOPHYTA","BACILLARIOPHYCEAE",null,"BACILLARIACEAE"]
[null,null,null,null,null,null,null,null,null,null,null,null,null,null,null,null,null,null,null,null,null,null,null,null,null,null,null,null,null,null,null,null,null,null,null,null,"BACILLARIA PAXILLIFERA","BACILLARIA PAXILLIFERA","7035.55.65802","BACILLARIOPHYTA","BACILLARIOPHYCEAE",null,"BACILLARIACEAE","BACILLARIA"]
[null,null,null,null,null,null,null,null,null,null,null,null,null,null,null,null,null,null,null,null,null,null,null,null,null,null,null,null,null,null,null,null,null,null,null,null,"BACILLARIOPHYCEAE","BACILLARIOPHYCEAE","7035.12.4337","BACILLARIOPHYTA","BACILLARIOPHYCEAE"]
[null,null,null,null,null,null,null,null,null,null,null,null,null,null,null,null,null,null,null,null,null,null,null,null,null,null,null,null,null,null,null,null,null,null,null,null,"BACTERIASTRUM","BACTERIASTRUM","7035.46.44359","BACILLARIOPHYTA","COSCINODISCOPHYCEAE",null,"CHAETOCEROTACEAE"]
[null,null,null,null,null,null,null,null,null,null,null,null,null,null,null,null,null,null,null,null,null,null,null,null,null,null,null,null,null,null,null,null,null,null,null,null,"BACTERIASTRUM COMOSUM","BACTERIASTRUM COMOSUM","7035.55.83981","BACILLARIOPHYTA","COSCINODISCOPHYCEAE",null,"CHAETOCEROTACEAE","BACTERIASTRUM"]
[null,null,null,null,null,null,null,null,null,null,null,null,null,null,null,null,null,null,null,null,null,null,null,null,null,null,null,null,null,null,null,null,null,null,null,null,"BACTERIASTRUM DELICATULUM","BACTERIASTRUM DELICATULUM","7035.55.37280","BACILLARIOPHYTA","COSCINODISCOPHYCEAE",null,"CHAETOCEROTACEAE","BACTERIASTRUM"]
[null,null,null,null,null,null,null,null,null,null,null,null,null,null,null,null,null,null,null,null,null,null,null,null,null,null,null,null,null,null,null,null,null,null,null,null,"BACTERIASTRUM ELEGANS","BACTERIASTRUM ELEGANS","7035.55.89878","BACILLARIOPHYTA","COSCINODISCOPHYCEAE",null,"CHAETOCEROTACEAE","BACTERIASTRUM"]
[null,null,null,null,null,null,null,null,null,null,null,null,null,null,null,null,null,null,null,null,null,null,null,null,null,null,null,null,null,null,null,null,null,null,null,null,"BACTERIASTRUM ELONGATUM","BACTERIASTRUM ELONGATUM","7035.55.149662","BACILLARIOPHYTA","COSCINODISCOPHYCEAE",null,"CHAETOCEROTACEAE","BACTERIASTRUM"]
[null,null,null,null,null,null,null,null,null,null,null,null,null,null,null,null,null,null,null,null,null,null,null,null,null,null,null,null,null,null,null,null,null,null,null,null,"BACTERIASTRUM FURCATUM","BACTERIASTRUM FURCATUM","7035.55.93202","BACILLARIOPHYTA","COSCINODISCOPHYCEAE",null,"CHAETOCEROTACEAE","BACTERIASTRUM"]
[null,null,null,null,null,null,null,null,null,null,null,null,null,null,null,null,null,null,null,null,null,null,null,null,null,null,null,null,null,null,null,null,null,null,null,null,"BACTERIASTRUM HYALINUM","BACTERIASTRUM HYALINUM","7035.55.37283","BACILLARIOPHYTA","COSCINODISCOPHYCEAE",null,"CHAETOCEROTACEAE","BACTERIASTRUM"]
[null,null,null,null,null,null,null,null,null,null,null,null,null,null,null,null,null,null,null,null,null,null,null,null,null,null,null,null,null,null,null,null,null,null,null,null,"BELLEROCHEA","BELLEROCHEA","7035.46.44361","BACILLARIOPHYTA","COSCINODISCOPHYCEAE",null,"BELLEROCHEACEAE"]
[null,null,null,null,null,null,null,null,null,null,null,null,null,null,null,null,null,null,null,null,null,null,null,null,null,null,null,null,null,null,null,null,null,null,null,null,"BELLEROCHEA HOROLOGICALIS","BELLEROCHEA HOROLOGICALIS","7035.55.131507","BACILLARIOPHYTA","COSCINODISCOPHYCEAE",null,"BELLEROCHEACEAE","BELLEROCHEA"]
[null,null,null,null,null,null,null,null,null,null,null,null,null,null,null,null,null,null,null,null,null,null,null,null,null,null,null,null,null,null,null,null,null,null,null,null,"BERKELEYA","BERKELEYA","7035.46.43683","BACILLARIOPHYTA","COSCINODISCOPHYCEAE",null,"BERKELEYACEAE"]
[null,null,null,null,null,null,null,null,null,null,null,null,null,null,null,null,null,null,null,null,null,null,null,null,null,null,null,null,null,null,null,null,null,null,null,null,"BERKELEYA SCOPULORUM","BERKELEYA SCOPULORUM","7035.55.37326","BACILLARIOPHYTA","COSCINODISCOPHYCEAE",null,"BERKELEYACEAE","BERKELEYA"]
[null,null,null,null,null,null,null,null,null,null,null,null,null,null,null,null,null,null,null,null,null,null,null,null,null,null,null,null,null,null,null,null,null,null,null,null,"BIDDULPHIA","BIDDULPHIA","7035.46.44312","BACILLARIOPHYTA",null,null,"BIDDULPHIACEAE"]
[null,null,null,null,null,null,null,null,null,null,null,null,null,null,null,null,null,null,null,null,null,null,null,null,null,null,null,null,null,null,null,null,null,null,null,null,"BIDDULPHIA ANTEDILUVIANA","BIDDULPHIA ANTEDILUVIANA","7035.55.55616","BACILLARIOPHYTA",null,null,"BIDDULPHIACEAE","BIDDULPHIA"]
[null,null,null,null,null,null,null,null,null,null,null,null,null,null,null,null,null,null,null,null,null,null,null,null,null,null,null,null,null,null,null,null,null,null,null,null,"BIDDULPHIA AZORICA","BIDDULPHIA AZORICA","7035.55.78533","BACILLARIOPHYTA",null,null,"BIDDULPHIACEAE","BIDDULPHIA"]
[null,null,null,null,null,null,null,null,null,null,null,null,null,null,null,null,null,null,null,null,null,null,null,null,null,null,null,null,null,null,null,null,null,null,null,null,"BIDDULPHIA BIDDULPHIANA","BIDDULPHIA BIDDULPHIANA","7035.55.37297","BACILLARIOPHYTA",null,null,"BIDDULPHIACEAE","BIDDULPHIA"]
[null,null,null,null,null,null,null,null,null,null,null,null,null,null,null,null,null,null,null,null,null,null,null,null,null,null,null,null,null,null,null,null,null,null,null,null,"BIDDULPHIA PELLUCIDA","BIDDULPHIA PELLUCIDA","7035.55.110980","BACILLARIOPHYTA",null,null,"BIDDULPHIACEAE","BIDDULPHIA"]
[null,null,null,null,null,null,null,null,null,null,null,null,null,null,null,null,null,null,null,null,null,null,null,null,null,null,null,null,null,null,null,null,null,null,null,null,"BIDDULPHIA RHOMBUS","BIDDULPHIA RHOMBUS","7035.55.55622","BACILLARIOPHYTA",null,null,"BIDDULPHIACEAE","BIDDULPHIA"]
[null,null,null,null,null,null,null,null,null,null,null,null,null,null,null,null,null,null,null,null,null,null,null,null,null,null,null,null,null,null,null,null,null,null,null,null,"BIDDULPHIA SCHROEDERIANA","BIDDULPHIA SCHROEDERIANA","7035.55.145422","BACILLARIOPHYTA",null,null,"BIDDULPHIACEAE","BIDDULPHIA"]
[null,null,null,null,null,null,null,null,null,null,null,null,null,null,null,null,null,null,null,null,null,null,null,null,null,null,null,null,null,null,null,null,null,null,null,null,"BIDDULPHIA TITIANA","BIDDULPHIA TITIANA","7035.55.124289","BACILLARIOPHYTA",null,null,"BIDDULPHIACEAE","BIDDULPHIA"]
[null,null,null,null,null,null,null,null,null,null,null,null,null,null,null,null,null,null,null,null,null,null,null,null,null,null,null,null,null,null,null,null,null,null,null,null,"BIDDULPHIA TUOMEYI","BIDDULPHIA TUOMEYI","7035.55.125561","BACILLARIOPHYTA",null,null,"BIDDULPHIACEAE","BIDDULPHIA"]
[null,null,null,null,null,null,null,null,null,null,null,null,null,null,null,null,null,null,null,null,null,null,null,null,null,null,null,null,null,null,null,null,null,null,null,null,"BIDDULPHIOPSIS","BIDDULPHIOPSIS","4024.46.45180","OCHROPHYTA",null,null,"BIDDULPHIACEAE"]
[null,null,null,null,null,null,null,null,null,null,null,null,null,null,null,null,null,null,null,null,null,null,null,null,null,null,null,null,null,null,null,null,null,null,null,null,"BIDDULPHIOPSIS MEMBRANACEA","BIDDULPHIOPSIS MEMBRANACEA","4024.55.104501","OCHROPHYTA",null,null,"BIDDULPHIACEAE","BIDDULPHIOPSIS"]
[null,null,null,null,null,null,null,null,null,null,null,null,null,null,null,null,null,null,null,null,null,null,null,null,null,null,null,null,null,null,null,null,null,null,null,null,"BLEAKELEYA","BLEAKELEYA","7035.46.44364","BACILLARIOPHYTA","BACILLARIOPHYCEAE",null,"ASTERIONELLOPSIDACEAE"]
[null,null,null,null,null,null,null,null,null,null,null,null,null,null,null,null,null,null,null,null,null,null,null,null,null,null,null,null,null,null,null,null,null,null,null,null,"BLEAKELEYA NOTATA","BLEAKELEYA NOTATA","7035.55.37341","BACILLARIOPHYTA","BACILLARIOPHYCEAE",null,"FRAGILARIACEAE","BLEAKELEYA"]
[null,null,null,null,null,null,null,null,null,null,null,null,null,null,null,null,null,null,null,null,null,null,null,null,null,null,null,null,null,null,null,null,null,null,null,null,"BLEPHAROCYSTA","BLEPHAROCYSTA","7030.46.44616","MIOZOA",null,null,"PODOLAMPADACEAE"]
[null,null,null,null,null,null,null,null,null,null,null,null,null,null,null,null,null,null,null,null,null,null,null,null,null,null,null,null,null,null,null,null,null,null,null,null,"BLEPHAROCYSTA LENDOR-MARIS","BLEPHAROCYSTA LENDOR-MARIS","7030.55.52123","MIOZOA",null,null,"PODOLAMPADACEAE","BLEPHAROCYSTA"]
[null,null,null,null,null,null,null,null,null,null,null,null,null,null,null,null,null,null,null,null,null,null,null,null,null,null,null,null,null,null,null,null,null,null,null,null,"BORZIA","BORZIA","5040.46.43575","CYANOBACTERIA","CYANOPHYCEAE",null,"BORZIACEAE"]
[null,null,null,null,null,null,null,null,null,null,null,null,null,null,null,null,null,null,null,null,null,null,null,null,null,null,null,null,null,null,null,null,null,null,null,null,"BRAARUDOSPHAERA","BRAARUDOSPHAERA","7040.46.45011","HAPTOPHYTA",null,null,"BRAARUDOSPHAERACEAE"]
[null,null,null,null,null,null,null,null,null,null,null,null,null,null,null,null,null,null,null,null,null,null,null,null,null,null,null,null,null,null,null,null,null,null,null,null,"BRAARUDOSPHAERA BIGELOWII","BRAARUDOSPHAERA BIGELOWII","7040.55.56425","HAPTOPHYTA",null,null,"BRAARUDOSPHAERACEAE","BRAARUDOSPHAERA"]
[null,null,null,null,null,null,null,null,null,null,null,null,null,null,null,null,null,null,null,null,null,null,null,null,null,null,null,null,null,null,null,null,null,null,null,null,"BRACHIDINIUM","BRACHIDINIUM","7030.46.44618","MIOZOA",null,null,"BRACHIDINIACEAE"]
[null,null,null,null,null,null,null,null,null,null,null,null,null,null,null,null,null,null,null,null,null,null,null,null,null,null,null,null,null,null,null,null,null,null,null,null,"BROCKMANNIELLA","BROCKMANNIELLA","7035.46.46450","BACILLARIOPHYTA","BACILLARIOPHYCEAE",null,"CYMATOSIRACEAE"]
[null,null,null,null,null,null,null,null,null,null,null,null,null,null,null,null,null,null,null,null,null,null,null,null,null,null,null,null,null,null,null,null,null,null,null,null,"CALCIOSOLENIA","CALCIOSOLENIA","7040.46.45212","HAPTOPHYTA","COCCOLITHOPHYCEAE",null,"CALCIOSOLENIACEAE"]
[null,null,null,null,null,null,null,null,null,null,null,null,null,null,null,null,null,null,null,null,null,null,null,null,null,null,null,null,null,null,null,null,null,null,null,null,"CALCIOSOLENIA BRASILIENSIS","CALCIOSOLENIA BRASILIENSIS","7040.55.66983","HAPTOPHYTA","COCCOLITHOPHYCEAE","SYRACOSPHAERALES","CALCIOSOLENIACEAE","CALCIOSOLENIA"]
[null,null,null,null,null,null,null,null,null,null,null,null,null,null,null,null,null,null,null,null,null,null,null,null,null,null,null,null,null,null,null,null,null,null,null,null,"CALCIOSOLENIA MURRAYI","CALCIOSOLENIA MURRAYI","7040.55.54905","HAPTOPHYTA","COCCOLITHOPHYCEAE","SYRACOSPHAERALES","CALCIOSOLENIACEAE","CALCIOSOLENIA"]
[null,null,null,null,null,null,null,null,null,null,null,null,null,null,null,null,null,null,null,null,null,null,null,null,null,null,null,null,null,null,null,null,null,null,null,null,"CALONEIS","CALONEIS","7035.46.43729","BACILLARIOPHYTA","BACILLARIOPHYCEAE",null,"NAVICULACEAE"]
[null,null,null,null,null,null,null,null,null,null,null,null,null,null,null,null,null,null,null,null,null,null,null,null,null,null,null,null,null,null,null,null,null,null,null,null,"CALONEIS LIBER","CALONEIS LIBER","7035.55.143663","BACILLARIOPHYTA","BACILLARIOPHYCEAE",null,"NAVICULACEAE","CALONEIS"]
[null,null,null,null,null,null,null,null,null,null,null,null,null,null,null,null,null,null,null,null,null,null,null,null,null,null,null,null,null,null,null,null,null,null,null,null,"CAMPYLODISCUS","CAMPYLODISCUS","7035.46.43762","BACILLARIOPHYTA","BACILLARIOPHYCEAE",null,"SURIRELLACEAE"]
[null,null,null,null,null,null,null,null,null,null,null,null,null,null,null,null,null,null,null,null,null,null,null,null,null,null,null,null,null,null,null,null,null,null,null,null,"CAMPYLODISCUS BIANGULATUS","CAMPYLODISCUS BIANGULATUS","7035.55.37640","BACILLARIOPHYTA","BACILLARIOPHYCEAE",null,"SURIRELLACEAE","CAMPYLODISCUS"]
[null,null,null,null,null,null,null,null,null,null,null,null,null,null,null,null,null,null,null,null,null,null,null,null,null,null,null,null,null,null,null,null,null,null,null,null,"CAMPYLODISCUS BICOSTATUS","CAMPYLODISCUS BICOSTATUS","7035.55.79439","BACILLARIOPHYTA","BACILLARIOPHYCEAE",null,"SURIRELLACEAE","CAMPYLODISCUS"]
[null,null,null,null,null,null,null,null,null,null,null,null,null,null,null,null,null,null,null,null,null,null,null,null,null,null,null,null,null,null,null,null,null,null,null,null,"CAMPYLODISCUS FASTUOSUS","CAMPYLODISCUS FASTUOSUS","7035.55.91658","BACILLARIOPHYTA","BACILLARIOPHYCEAE",null,"SURIRELLACEAE","CAMPYLODISCUS"]
[null,null,null,null,null,null,null,null,null,null,null,null,null,null,null,null,null,null,null,null,null,null,null,null,null,null,null,null,null,null,null,null,null,null,null,null,"CAMPYLODISCUS IMPERIALIS","CAMPYLODISCUS IMPERIALIS","7035.55.97594","BACILLARIOPHYTA","BACILLARIOPHYCEAE",null,"SURIRELLACEAE","CAMPYLODISCUS"]
[null,null,null,null,null,null,null,null,null,null,null,null,null,null,null,null,null,null,null,null,null,null,null,null,null,null,null,null,null,null,null,null,null,null,null,null,"CAMPYLODISCUS INCERTUS","CAMPYLODISCUS INCERTUS","7035.55.97737","BACILLARIOPHYTA","BACILLARIOPHYCEAE",null,"SURIRELLACEAE","CAMPYLODISCUS"]
[null,null,null,null,null,null,null,null,null,null,null,null,null,null,null,null,null,null,null,null,null,null,null,null,null,null,null,null,null,null,null,null,null,null,null,null,"CAMPYLODISCUS LIMBATUS","CAMPYLODISCUS LIMBATUS","7035.55.102015","BACILLARIOPHYTA","BACILLARIOPHYCEAE",null,"SURIRELLACEAE","CAMPYLODISCUS"]
[null,null,null,null,null,null,null,null,null,null,null,null,null,null,null,null,null,null,null,null,null,null,null,null,null,null,null,null,null,null,null,null,null,null,null,null,"CAMPYLODISCUS UNDULATUS","CAMPYLODISCUS UNDULATUS","7035.55.126118","BACILLARIOPHYTA","BACILLARIOPHYCEAE",null,"SURIRELLACEAE","CAMPYLODISCUS"]
[null,null,null,null,null,null,null,null,null,null,null,null,null,null,null,null,null,null,null,null,null,null,null,null,null,null,null,null,null,null,null,null,null,null,null,null,"CARINASIGMA","CARINASIGMA","7035.46.51296","BACILLARIOPHYTA",null,null,"PLEUROSIGMATACEAE"]
[null,null,null,null,null,null,null,null,null,null,null,null,null,null,null,null,null,null,null,null,null,null,null,null,null,null,null,null,null,null,null,null,null,null,null,null,"CARINASIGMA RECTUM","CARINASIGMA RECTUM","7035.55.142732","BACILLARIOPHYTA",null,null,"PLEUROSIGMATACEAE","CARINASIGMA"]
[null,null,null,null,null,null,null,null,null,null,null,null,null,null,null,null,null,null,null,null,null,null,null,null,null,null,null,null,null,null,null,null,null,null,null,null,"CENTRITRACTUS","CENTRITRACTUS","4024.46.43829","OCHROPHYTA","XANTHOPHYCEAE",null,"CENTRITRACTACEAE"]
[null,null,null,null,null,null,null,null,null,null,null,null,null,null,null,null,null,null,null,null,null,null,null,null,null,null,null,null,null,null,null,null,null,null,null,null,"CENTRODINIUM","CENTRODINIUM","7030.46.44622","MIOZOA",null,null,"GONIODOMATACEAE"]
[null,null,null,null,null,null,null,null,null,null,null,null,null,null,null,null,null,null,null,null,null,null,null,null,null,null,null,null,null,null,null,null,null,null,null,null,"CENTRODINIUM PUNCTATUM","CENTRODINIUM PUNCTATUM","7030.55.70851","MIOZOA",null,null,"GONIODOMATACEAE","CENTRODINIUM"]
[null,null,null,null,null,null,null,null,null,null,null,null,null,null,null,null,null,null,null,null,null,null,null,null,null,null,null,null,null,null,null,null,null,null,null,null,"CERATAULINA","CERATAULINA","7035.46.44365","BACILLARIOPHYTA","COSCINODISCOPHYCEAE",null,"HEMIAULACEAE"]
[null,null,null,null,null,null,null,null,null,null,null,null,null,null,null,null,null,null,null,null,null,null,null,null,null,null,null,null,null,null,null,null,null,null,null,null,"CERATAULINA PELAGICA","CERATAULINA PELAGICA","7035.55.37373","BACILLARIOPHYTA","COSCINODISCOPHYCEAE",null,"HEMIAULACEAE","CERATAULINA"]
[null,null,null,null,null,null,null,null,null,null,null,null,null,null,null,null,null,null,null,null,null,null,null,null,null,null,null,null,null,null,null,null,null,null,null,null,"CERATAULUS","CERATAULUS","7035.46.44366","BACILLARIOPHYTA","COSCINODISCOPHYCEAE",null,"TRICERATIACEAE"]
[null,null,null,null,null,null,null,null,null,null,null,null,null,null,null,null,null,null,null,null,null,null,null,null,null,null,null,null,null,null,null,null,null,null,null,null,"CERATAULUS SMITHII","CERATAULUS SMITHII","7035.55.37384","BACILLARIOPHYTA","COSCINODISCOPHYCEAE",null,"TRICERATIACEAE","CERATAULUS"]
[null,null,null,null,null,null,null,null,null,null,null,null,null,null,null,null,null,null,null,null,null,null,null,null,null,null,null,null,null,null,null,null,null,null,null,null,"CERATAULUS TURGIDUS","CERATAULUS TURGIDUS","7035.55.73481","BACILLARIOPHYTA","COSCINODISCOPHYCEAE",null,"TRICERATIACEAE","CERATAULUS"]
[null,null,null,null,null,null,null,null,null,null,null,null,null,null,null,null,null,null,null,null,null,null,null,null,null,null,null,null,null,null,null,null,null,null,null,null,"CERATOCORYS","CERATOCORYS","7030.46.44623","MIOZOA",null,null,"PROTOCERATIACEAE"]
[null,null,null,null,null,null,null,null,null,null,null,null,null,null,null,null,null,null,null,null,null,null,null,null,null,null,null,null,null,null,null,null,null,null,null,null,"CERATOCORYS ARMATA","CERATOCORYS ARMATA","7030.55.52181","MIOZOA",null,null,"PROTOCERATIACEAE","CERATOCORYS"]
[null,null,null,null,null,null,null,null,null,null,null,null,null,null,null,null,null,null,null,null,null,null,null,null,null,null,null,null,null,null,null,null,null,null,null,null,"CERATOCORYS BIPES","CERATOCORYS BIPES","7030.55.60238","MIOZOA",null,null,"PROTOCERATIACEAE","CERATOCORYS"]
[null,null,null,null,null,null,null,null,null,null,null,null,null,null,null,null,null,null,null,null,null,null,null,null,null,null,null,null,null,null,null,null,null,null,null,null,"CERATOCORYS HORRIDA","CERATOCORYS HORRIDA","7030.55.52183","MIOZOA",null,null,"PROTOCERATIACEAE","CERATOCORYS"]
[null,null,null,null,null,null,null,null,null,null,null,null,null,null,null,null,null,null,null,null,null,null,null,null,null,null,null,null,null,null,null,null,null,null,null,null,"CERATONEIS","CERATONEIS","7035.46.44313","BACILLARIOPHYTA",null,null,"FRAGILARIACEAE"]
[null,null,null,null,null,null,null,null,null,null,null,null,null,null,null,null,null,null,null,null,null,null,null,null,null,null,null,null,null,null,null,null,null,null,null,null,"CERATONEIS CLOSTERIUM","CERATONEIS CLOSTERIUM","7035.55.37376","BACILLARIOPHYTA",null,null,"FRAGILARIACEAE","CERATONEIS"]
[null,null,null,null,null,null,null,null,null,null,null,null,null,null,null,null,null,null,null,null,null,null,null,null,null,null,null,null,null,null,null,null,null,null,null,null,"CHAETOCEROS","CHAETOCEROS","7035.46.43689","BACILLARIOPHYTA","MEDIOPHYCEAE",null,"CHAETOCEROTACEAE"]
[null,null,null,null,null,null,null,null,null,null,null,null,null,null,null,null,null,null,null,null,null,null,null,null,null,null,null,null,null,null,null,null,null,null,null,null,"CHAETOCEROS AEQUATORIALIS","CHAETOCEROS AEQUATORIALIS","7035.55.70805","BACILLARIOPHYTA","MEDIOPHYCEAE",null,"CHAETOCEROTACEAE","CHAETOCEROS"]
[null,null,null,null,null,null,null,null,null,null,null,null,null,null,null,null,null,null,null,null,null,null,null,null,null,null,null,null,null,null,null,null,null,null,null,null,"CHAETOCEROS AFFINIS","CHAETOCEROS AFFINIS","7035.55.73483","BACILLARIOPHYTA","MEDIOPHYCEAE",null,"CHAETOCEROTACEAE","CHAETOCEROS"]
[null,null,null,null,null,null,null,null,null,null,null,null,null,null,null,null,null,null,null,null,null,null,null,null,null,null,null,null,null,null,null,null,null,null,null,null,"CHAETOCEROS ANASTOMOSANS","CHAETOCEROS ANASTOMOSANS","7035.55.62285","BACILLARIOPHYTA","MEDIOPHYCEAE",null,"CHAETOCEROTACEAE","CHAETOCEROS"]
[null,null,null,null,null,null,null,null,null,null,null,null,null,null,null,null,null,null,null,null,null,null,null,null,null,null,null,null,null,null,null,null,null,null,null,null,"CHAETOCEROS ATLANTICUS","CHAETOCEROS ATLANTICUS","7035.55.37394","BACILLARIOPHYTA","MEDIOPHYCEAE",null,"CHAETOCEROTACEAE","CHAETOCEROS"]
[null,null,null,null,null,null,null,null,null,null,null,null,null,null,null,null,null,null,null,null,null,null,null,null,null,null,null,null,null,null,null,null,null,null,null,null,"CHAETOCEROS BOREALIS","CHAETOCEROS BOREALIS","7035.55.37397","BACILLARIOPHYTA","MEDIOPHYCEAE",null,"CHAETOCEROTACEAE","CHAETOCEROS"]
[null,null,null,null,null,null,null,null,null,null,null,null,null,null,null,null,null,null,null,null,null,null,null,null,null,null,null,null,null,null,null,null,null,null,null,null,"CHAETOCEROS BREVIS","CHAETOCEROS BREVIS","7035.55.37400","BACILLARIOPHYTA","MEDIOPHYCEAE",null,"CHAETOCEROTACEAE","CHAETOCEROS"]
[null,null,null,null,null,null,null,null,null,null,null,null,null,null,null,null,null,null,null,null,null,null,null,null,null,null,null,null,null,null,null,null,null,null,null,null,"CHAETOCEROS COARCTATUS","CHAETOCEROS COARCTATUS","7035.55.37404","BACILLARIOPHYTA","MEDIOPHYCEAE",null,"CHAETOCEROTACEAE","CHAETOCEROS"]
[null,null,null,null,null,null,null,null,null,null,null,null,null,null,null,null,null,null,null,null,null,null,null,null,null,null,null,null,null,null,null,null,null,null,null,null,"CHAETOCEROS COMPRESSUS","CHAETOCEROS COMPRESSUS","7035.55.164883","BACILLARIOPHYTA","MEDIOPHYCEAE",null,"CHAETOCEROTACEAE","CHAETOCEROS"]
[null,null,null,null,null,null,null,null,null,null,null,null,null,null,null,null,null,null,null,null,null,null,null,null,null,null,null,null,null,null,null,null,null,null,null,null,"CHAETOCEROS CONCAVICORNIS","CHAETOCEROS CONCAVICORNIS","7035.55.37406","BACILLARIOPHYTA","MEDIOPHYCEAE",null,"CHAETOCEROTACEAE","CHAETOCEROS"]
[null,null,null,null,null,null,null,null,null,null,null,null,null,null,null,null,null,null,null,null,null,null,null,null,null,null,null,null,null,null,null,null,null,null,null,null,"CHAETOCEROS CONSTRICTUS","CHAETOCEROS CONSTRICTUS","7035.55.37407","BACILLARIOPHYTA","MEDIOPHYCEAE",null,"CHAETOCEROTACEAE","CHAETOCEROS"]
[null,null,null,null,null,null,null,null,null,null,null,null,null,null,null,null,null,null,null,null,null,null,null,null,null,null,null,null,null,null,null,null,null,null,null,null,"CHAETOCEROS CONVOLUTUS","CHAETOCEROS CONVOLUTUS","7035.55.56327","BACILLARIOPHYTA","MEDIOPHYCEAE",null,"CHAETOCEROTACEAE","CHAETOCEROS"]
[null,null,null,null,null,null,null,null,null,null,null,null,null,null,null,null,null,null,null,null,null,null,null,null,null,null,null,null,null,null,null,null,null,null,null,null,"CHAETOCEROS COSTATUS","CHAETOCEROS COSTATUS","7035.55.37412","BACILLARIOPHYTA","MEDIOPHYCEAE",null,"CHAETOCEROTACEAE","CHAETOCEROS"]
[null,null,null,null,null,null,null,null,null,null,null,null,null,null,null,null,null,null,null,null,null,null,null,null,null,null,null,null,null,null,null,null,null,null,null,null,"CHAETOCEROS CURVISETUS","CHAETOCEROS CURVISETUS","7035.55.37414","BACILLARIOPHYTA","MEDIOPHYCEAE",null,"CHAETOCEROTACEAE","CHAETOCEROS"]
[null,null,null,null,null,null,null,null,null,null,null,null,null,null,null,null,null,null,null,null,null,null,null,null,null,null,null,null,null,null,null,null,null,null,null,null,"CHAETOCEROS DADAYI","CHAETOCEROS DADAYI","7035.55.62286","BACILLARIOPHYTA","MEDIOPHYCEAE",null,"CHAETOCEROTACEAE","CHAETOCEROS"]
[null,null,null,null,null,null,null,null,null,null,null,null,null,null,null,null,null,null,null,null,null,null,null,null,null,null,null,null,null,null,null,null,null,null,null,null,"CHAETOCEROS DANICUS","CHAETOCEROS DANICUS","7035.55.37415","BACILLARIOPHYTA","MEDIOPHYCEAE",null,"CHAETOCEROTACEAE","CHAETOCEROS"]
[null,null,null,null,null,null,null,null,null,null,null,null,null,null,null,null,null,null,null,null,null,null,null,null,null,null,null,null,null,null,null,null,null,null,null,null,"CHAETOCEROS DEBILIS","CHAETOCEROS DEBILIS","7035.55.37416","BACILLARIOPHYTA","MEDIOPHYCEAE",null,"CHAETOCEROTACEAE","CHAETOCEROS"]
[null,null,null,null,null,null,null,null,null,null,null,null,null,null,null,null,null,null,null,null,null,null,null,null,null,null,null,null,null,null,null,null,null,null,null,null,"CHAETOCEROS DECIPIENS","CHAETOCEROS DECIPIENS","7035.55.37417","BACILLARIOPHYTA","MEDIOPHYCEAE",null,"CHAETOCEROTACEAE","CHAETOCEROS"]
[null,null,null,null,null,null,null,null,null,null,null,null,null,null,null,null,null,null,null,null,null,null,null,null,null,null,null,null,null,null,null,null,null,null,null,null,"CHAETOCEROS DENTICULATUS","CHAETOCEROS DENTICULATUS","7035.55.87808","BACILLARIOPHYTA","MEDIOPHYCEAE",null,"CHAETOCEROTACEAE","CHAETOCEROS"]
[null,null,null,null,null,null,null,null,null,null,null,null,null,null,null,null,null,null,null,null,null,null,null,null,null,null,null,null,null,null,null,null,null,null,null,null,"CHAETOCEROS DIADEMA","CHAETOCEROS DIADEMA","7035.55.37419","BACILLARIOPHYTA","MEDIOPHYCEAE",null,"CHAETOCEROTACEAE","CHAETOCEROS"]
[null,null,null,null,null,null,null,null,null,null,null,null,null,null,null,null,null,null,null,null,null,null,null,null,null,null,null,null,null,null,null,null,null,null,null,null,"CHAETOCEROS DICHAETA","CHAETOCEROS DICHAETA","7035.55.88098","BACILLARIOPHYTA","MEDIOPHYCEAE",null,"CHAETOCEROTACEAE","CHAETOCEROS"]
[null,null,null,null,null,null,null,null,null,null,null,null,null,null,null,null,null,null,null,null,null,null,null,null,null,null,null,null,null,null,null,null,null,null,null,null,"CHAETOCEROS DIDYMUS","CHAETOCEROS DIDYMUS","7035.55.88321","BACILLARIOPHYTA","MEDIOPHYCEAE",null,"CHAETOCEROTACEAE","CHAETOCEROS"]
[null,null,null,null,null,null,null,null,null,null,null,null,null,null,null,null,null,null,null,null,null,null,null,null,null,null,null,null,null,null,null,null,null,null,null,null,"CHAETOCEROS DIFFICILIS","CHAETOCEROS DIFFICILIS","7035.55.37422","BACILLARIOPHYTA","MEDIOPHYCEAE",null,"CHAETOCEROTACEAE","CHAETOCEROS"]
[null,null,null,null,null,null,null,null,null,null,null,null,null,null,null,null,null,null,null,null,null,null,null,null,null,null,null,null,null,null,null,null,null,null,null,null,"CHAETOCEROS DIVERSUS","CHAETOCEROS DIVERSUS","7035.55.143628","BACILLARIOPHYTA","MEDIOPHYCEAE",null,"CHAETOCEROTACEAE","CHAETOCEROS"]
[null,null,null,null,null,null,null,null,null,null,null,null,null,null,null,null,null,null,null,null,null,null,null,null,null,null,null,null,null,null,null,null,null,null,null,null,"CHAETOCEROS EIBENII","CHAETOCEROS EIBENII","7035.55.37425","BACILLARIOPHYTA","MEDIOPHYCEAE",null,"CHAETOCEROTACEAE","CHAETOCEROS"]
[null,null,null,null,null,null,null,null,null,null,null,null,null,null,null,null,null,null,null,null,null,null,null,null,null,null,null,null,null,null,null,null,null,null,null,null,"CHAETOCEROS FRAGILIS","CHAETOCEROS FRAGILIS","7035.55.37430","BACILLARIOPHYTA","MEDIOPHYCEAE",null,"CHAETOCEROTACEAE","CHAETOCEROS"]
[null,null,null,null,null,null,null,null,null,null,null,null,null,null,null,null,null,null,null,null,null,null,null,null,null,null,null,null,null,null,null,null,null,null,null,null,"CHAETOCEROS LACINIOSUS","CHAETOCEROS LACINIOSUS","7035.55.37441","BACILLARIOPHYTA","MEDIOPHYCEAE",null,"CHAETOCEROTACEAE","CHAETOCEROS"]
[null,null,null,null,null,null,null,null,null,null,null,null,null,null,null,null,null,null,null,null,null,null,null,null,null,null,null,null,null,null,null,null,null,null,null,null,"CHAETOCEROS LAEVIS","CHAETOCEROS LAEVIS","7035.55.100632","BACILLARIOPHYTA","MEDIOPHYCEAE",null,"CHAETOCEROTACEAE","CHAETOCEROS"]
[null,null,null,null,null,null,null,null,null,null,null,null,null,null,null,null,null,null,null,null,null,null,null,null,null,null,null,null,null,null,null,null,null,null,null,null,"CHAETOCEROS LAUDERI","CHAETOCEROS LAUDERI","7035.55.37442","BACILLARIOPHYTA","MEDIOPHYCEAE",null,"CHAETOCEROTACEAE","CHAETOCEROS"]
[null,null,null,null,null,null,null,null,null,null,null,null,null,null,null,null,null,null,null,null,null,null,null,null,null,null,null,null,null,null,null,null,null,null,null,null,"CHAETOCEROS LORENZIANUS","CHAETOCEROS LORENZIANUS","7035.55.73497","BACILLARIOPHYTA","MEDIOPHYCEAE",null,"CHAETOCEROTACEAE","CHAETOCEROS"]
[null,null,null,null,null,null,null,null,null,null,null,null,null,null,null,null,null,null,null,null,null,null,null,null,null,null,null,null,null,null,null,null,null,null,null,null,"CHAETOCEROS MESSANENSE","CHAETOCEROS MESSANENSE","7035.55.37445","BACILLARIOPHYTA","MEDIOPHYCEAE",null,"CHAETOCEROTACEAE","CHAETOCEROS"]
[null,null,null,null,null,null,null,null,null,null,null,null,null,null,null,null,null,null,null,null,null,null,null,null,null,null,null,null,null,null,null,null,null,null,null,null,"CHAETOCEROS NEOGRACILE","CHAETOCEROS NEOGRACILE","7035.55.37448","BACILLARIOPHYTA","MEDIOPHYCEAE",null,"CHAETOCEROTACEAE","CHAETOCEROS"]
[null,null,null,null,null,null,null,null,null,null,null,null,null,null,null,null,null,null,null,null,null,null,null,null,null,null,null,null,null,null,null,null,null,null,null,null,"CHAETOCEROS NEOGRACILIS","CHAETOCEROS NEOGRACILIS","7035.55.37448","BACILLARIOPHYTA","MEDIOPHYCEAE",null,"CHAETOCEROTACEAE","CHAETOCEROS"]
[null,null,null,null,null,null,null,null,null,null,null,null,null,null,null,null,null,null,null,null,null,null,null,null,null,null,null,null,null,null,null,null,null,null,null,null,"CHAETOCEROS PELAGICUS","CHAETOCEROS PELAGICUS","7035.55.62107","BACILLARIOPHYTA","MEDIOPHYCEAE",null,"CHAETOCEROTACEAE","CHAETOCEROS"]
[null,null,null,null,null,null,null,null,null,null,null,null,null,null,null,null,null,null,null,null,null,null,null,null,null,null,null,null,null,null,null,null,null,null,null,null,"CHAETOCEROS PENDULUS","CHAETOCEROS PENDULUS","7035.55.65745","BACILLARIOPHYTA","MEDIOPHYCEAE",null,"CHAETOCEROTACEAE","CHAETOCEROS"]
[null,null,null,null,null,null,null,null,null,null,null,null,null,null,null,null,null,null,null,null,null,null,null,null,null,null,null,null,null,null,null,null,null,null,null,null,"CHAETOCEROS PERPUSILLUS","CHAETOCEROS PERPUSILLUS","7035.55.37450","BACILLARIOPHYTA","MEDIOPHYCEAE",null,"CHAETOCEROTACEAE","CHAETOCEROS"]
[null,null,null,null,null,null,null,null,null,null,null,null,null,null,null,null,null,null,null,null,null,null,null,null,null,null,null,null,null,null,null,null,null,null,null,null,"CHAETOCEROS PERUVIANUS","CHAETOCEROS PERUVIANUS","7035.55.37451","BACILLARIOPHYTA","MEDIOPHYCEAE",null,"CHAETOCEROTACEAE","CHAETOCEROS"]
[null,null,null,null,null,null,null,null,null,null,null,null,null,null,null,null,null,null,null,null,null,null,null,null,null,null,null,null,null,null,null,null,null,null,null,null,"CHAETOCEROS PSEUDOCURVISETUS","CHAETOCEROS PSEUDOCURVISETUS","7035.55.37454","BACILLARIOPHYTA","MEDIOPHYCEAE",null,"CHAETOCEROTACEAE","CHAETOCEROS"]
[null,null,null,null,null,null,null,null,null,null,null,null,null,null,null,null,null,null,null,null,null,null,null,null,null,null,null,null,null,null,null,null,null,null,null,null,"CHAETOCEROS RADICANS","CHAETOCEROS RADICANS","7035.55.37456","BACILLARIOPHYTA","MEDIOPHYCEAE",null,"CHAETOCEROTACEAE","CHAETOCEROS"]
[null,null,null,null,null,null,null,null,null,null,null,null,null,null,null,null,null,null,null,null,null,null,null,null,null,null,null,null,null,null,null,null,null,null,null,null,"CHAETOCEROS SEIRACANTHUS","CHAETOCEROS SEIRACANTHUS","7035.55.37460","BACILLARIOPHYTA","MEDIOPHYCEAE",null,"CHAETOCEROTACEAE","CHAETOCEROS"]
[null,null,null,null,null,null,null,null,null,null,null,null,null,null,null,null,null,null,null,null,null,null,null,null,null,null,null,null,null,null,null,null,null,null,null,null,"CHAETOCEROS SIMPLEX","CHAETOCEROS SIMPLEX","7035.55.57907","BACILLARIOPHYTA","MEDIOPHYCEAE",null,"CHAETOCEROTACEAE","CHAETOCEROS"]
[null,null,null,null,null,null,null,null,null,null,null,null,null,null,null,null,null,null,null,null,null,null,null,null,null,null,null,null,null,null,null,null,null,null,null,null,"CHAETOCEROS SOCIALIS","CHAETOCEROS SOCIALIS","7035.55.73514","BACILLARIOPHYTA","MEDIOPHYCEAE",null,"CHAETOCEROTACEAE","CHAETOCEROS"]
[null,null,null,null,null,null,null,null,null,null,null,null,null,null,null,null,null,null,null,null,null,null,null,null,null,null,null,null,null,null,null,null,null,null,null,null,"CHAETOCEROS SUBTILIS","CHAETOCEROS SUBTILIS","7035.55.73519","BACILLARIOPHYTA","MEDIOPHYCEAE",null,"CHAETOCEROTACEAE","CHAETOCEROS"]
[null,null,null,null,null,null,null,null,null,null,null,null,null,null,null,null,null,null,null,null,null,null,null,null,null,null,null,null,null,null,null,null,null,null,null,null,"CHAETOCEROS TERES","CHAETOCEROS TERES","7035.55.37467","BACILLARIOPHYTA","MEDIOPHYCEAE",null,"CHAETOCEROTACEAE","CHAETOCEROS"]
[null,null,null,null,null,null,null,null,null,null,null,null,null,null,null,null,null,null,null,null,null,null,null,null,null,null,null,null,null,null,null,null,null,null,null,null,"CHAETOCEROS TETRASTICHON","CHAETOCEROS TETRASTICHON","7035.55.56277","BACILLARIOPHYTA","MEDIOPHYCEAE",null,"CHAETOCEROTACEAE","CHAETOCEROS"]
[null,null,null,null,null,null,null,null,null,null,null,null,null,null,null,null,null,null,null,null,null,null,null,null,null,null,null,null,null,null,null,null,null,null,null,null,"CHAETOCEROS TORTISSIMUS","CHAETOCEROS TORTISSIMUS","7035.55.37469","BACILLARIOPHYTA","MEDIOPHYCEAE",null,"CHAETOCEROTACEAE","CHAETOCEROS"]
[null,null,null,null,null,null,null,null,null,null,null,null,null,null,null,null,null,null,null,null,null,null,null,null,null,null,null,null,null,null,null,null,null,null,null,null,"CHAETOCEROS WIGHAMII","CHAETOCEROS WIGHAMII","7035.55.37471","BACILLARIOPHYTA","MEDIOPHYCEAE",null,"CHAETOCEROTACEAE","CHAETOCEROS"]
[null,null,null,null,null,null,null,null,null,null,null,null,null,null,null,null,null,null,null,null,null,null,null,null,null,null,null,null,null,null,null,null,null,null,null,null,"CHAETOCEROS WILLEI","CHAETOCEROS WILLEI","7035.55.37472","BACILLARIOPHYTA","MEDIOPHYCEAE",null,"CHAETOCEROTACEAE","CHAETOCEROS"]
[null,null,null,null,null,null,null,null,null,null,null,null,null,null,null,null,null,null,null,null,null,null,null,null,null,null,null,null,null,null,null,null,null,null,null,null,"CHILOMONAS","CHILOMONAS","4020.46.43569","CHLOROPHYTA",null,null,"CAMPYLOMONADACEAE"]
[null,null,null,null,null,null,null,null,null,null,null,null,null,null,null,null,null,null,null,null,null,null,null,null,null,null,null,null,null,null,null,null,null,null,null,null,"CHROOCOCCUS","CHROOCOCCUS","5040.46.43062","CYANOBACTERIA",null,null,"CHROOCOCCACEAE"]
[null,null,null,null,null,null,null,null,null,null,null,null,null,null,null,null,null,null,null,null,null,null,null,null,null,null,null,null,null,null,null,null,null,null,null,null,"CITHARISTES","CITHARISTES","7030.46.44625","MIOZOA",null,null,"DINOPHYSIACEAE"]
[null,null,null,null,null,null,null,null,null,null,null,null,null,null,null,null,null,null,null,null,null,null,null,null,null,null,null,null,null,null,null,null,null,null,null,null,"CITHARISTES APSTEINII","CITHARISTES APSTEINII","7030.55.62304","MIOZOA",null,null,"DINOPHYSIACEAE","CITHARISTES"]
[null,null,null,null,null,null,null,null,null,null,null,null,null,null,null,null,null,null,null,null,null,null,null,null,null,null,null,null,null,null,null,null,null,null,null,null,"CLADOPYXIS","CLADOPYXIS","7030.46.44626","MIOZOA",null,null,"CLADOPYXIDACEAE"]
[null,null,null,null,null,null,null,null,null,null,null,null,null,null,null,null,null,null,null,null,null,null,null,null,null,null,null,null,null,null,null,null,null,null,null,null,"CLADOPYXIS BRACHIOLATA","CLADOPYXIS BRACHIOLATA","7030.55.52187","MIOZOA",null,null,"CLADOPYXIDACEAE","CLADOPYXIS"]
[null,null,null,null,null,null,null,null,null,null,null,null,null,null,null,null,null,null,null,null,null,null,null,null,null,null,null,null,null,null,null,null,null,null,null,null,"CLIMACODIUM","CLIMACODIUM","7035.46.46449","BACILLARIOPHYTA",null,null,"HEMIAULACEAE"]
[null,null,null,null,null,null,null,null,null,null,null,null,null,null,null,null,null,null,null,null,null,null,null,null,null,null,null,null,null,null,null,null,null,null,null,null,"CLIMACODIUM BICONCAVUM","CLIMACODIUM BICONCAVUM","7035.55.140989","BACILLARIOPHYTA",null,null,"HEMIAULACEAE","CLIMACODIUM"]
[null,null,null,null,null,null,null,null,null,null,null,null,null,null,null,null,null,null,null,null,null,null,null,null,null,null,null,null,null,null,null,null,null,null,null,null,"CLIMACODIUM FRAUENFELDIANUM","CLIMACODIUM FRAUENFELDIANUM","7035.55.59771","BACILLARIOPHYTA",null,null,"HEMIAULACEAE","CLIMACODIUM"]
[null,null,null,null,null,null,null,null,null,null,null,null,null,null,null,null,null,null,null,null,null,null,null,null,null,null,null,null,null,null,null,null,null,null,null,null,"CLIMACONEIS","CLIMACONEIS","7035.46.44370","BACILLARIOPHYTA",null,null,"BERKELEYACEAE"]
[null,null,null,null,null,null,null,null,null,null,null,null,null,null,null,null,null,null,null,null,null,null,null,null,null,null,null,null,null,null,null,null,null,null,null,null,"CLIMACONEIS LORENZII","CLIMACONEIS LORENZII","7035.55.61632","BACILLARIOPHYTA",null,null,"BERKELEYACEAE","CLIMACONEIS"]
[null,null,null,null,null,null,null,null,null,null,null,null,null,null,null,null,null,null,null,null,null,null,null,null,null,null,null,null,null,null,null,null,null,null,null,null,"CLIMACOSPHENIA","CLIMACOSPHENIA","7035.46.46651","BACILLARIOPHYTA","MEDIOPHYCEAE",null,"CLIMACOSPHENIACEAE"]
[null,null,null,null,null,null,null,null,null,null,null,null,null,null,null,null,null,null,null,null,null,null,null,null,null,null,null,null,null,null,null,null,null,null,null,null,"CLIMACOSPHENIA MONILIGERA","CLIMACOSPHENIA MONILIGERA","7035.55.61606","BACILLARIOPHYTA","MEDIOPHYCEAE",null,"CLIMACOSPHENIACEAE","CLIMACOSPHENIA"]
[null,null,null,null,null,null,null,null,null,null,null,null,null,null,null,null,null,null,null,null,null,null,null,null,null,null,null,null,null,null,null,null,null,null,null,null,"CLOSTERIOPSIS","CLOSTERIOPSIS","4020.46.43429","CHLOROPHYTA","TREBOUXIOPHYCEAE",null,"CHLORELLACEAE"]
[null,null,null,null,null,null,null,null,null,null,null,null,null,null,null,null,null,null,null,null,null,null,null,null,null,null,null,null,null,null,null,null,null,null,null,null,"CLOSTERIUM","CLOSTERIUM","2024.46.43525","CHAROPHYTA",null,null,"CLOSTERIACEAE"]
[null,null,null,null,null,null,null,null,null,null,null,null,null,null,null,null,null,null,null,null,null,null,null,null,null,null,null,null,null,null,null,null,null,null,null,null,"COCCONEIS","COCCONEIS","7035.46.43691","BACILLARIOPHYTA","BACILLARIOPHYCEAE",null,"COCCONEIDACEAE"]
[null,null,null,null,null,null,null,null,null,null,null,null,null,null,null,null,null,null,null,null,null,null,null,null,null,null,null,null,null,null,null,null,null,null,null,null,"COCCONEIS SCUTELLUM","COCCONEIS SCUTELLUM","7035.55.155665","BACILLARIOPHYTA",null,null,"COCCONEIDACEAE","COCCONEIS"]
[null,null,null,null,null,null,null,null,null,null,null,null,null,null,null,null,null,null,null,null,null,null,null,null,null,null,null,null,null,null,null,null,null,null,null,null,"COCHLODINIUM","COCHLODINIUM","7030.46.44628","MIOZOA",null,null,"INCERTAE SEDIS (DINOPHYCEAE)"]
[null,null,null,null,null,null,null,null,null,null,null,null,null,null,null,null,null,null,null,null,null,null,null,null,null,null,null,null,null,null,null,null,null,null,null,null,"COELASTRUM","COELASTRUM","4020.46.43467","CHLOROPHYTA","CHLOROPHYCEAE",null,"SCENEDESMACEAE"]
[null,null,null,null,null,null,null,null,null,null,null,null,null,null,null,null,null,null,null,null,null,null,null,null,null,null,null,null,null,null,null,null,null,null,null,null,"COELOMORON","COELOMORON","5040.46.44882","CYANOBACTERIA","CYANOPHYCEAE",null,"COELOSPHAERIACEAE"]
[null,null,null,null,null,null,null,null,null,null,null,null,null,null,null,null,null,null,null,null,null,null,null,null,null,null,null,null,null,null,null,null,null,null,null,null,"COELOSPHAERIUM","COELOSPHAERIUM","5040.46.43586","CYANOBACTERIA","CYANOPHYCEAE",null,"COELOSPHAERIACEAE"]
[null,null,null,null,null,null,null,null,null,null,null,null,null,null,null,null,null,null,null,null,null,null,null,null,null,null,null,null,null,null,null,null,null,null,null,null,"COLLODICTYON","COLLODICTYON","4020.46.45305","CHLOROPHYTA","CHLOROPHYCEAE",null,"ASTEROMONADACEAE"]
[null,null,null,null,null,null,null,null,null,null,null,null,null,null,null,null,null,null,null,null,null,null,null,null,null,null,null,null,null,null,null,null,null,null,null,null,"CORETHRON","CORETHRON","7035.46.44372","BACILLARIOPHYTA","COSCINODISCOPHYCEA",null,"CORETHRACEAE"]
[null,null,null,null,null,null,null,null,null,null,null,null,null,null,null,null,null,null,null,null,null,null,null,null,null,null,null,null,null,null,null,null,null,null,null,null,"CORETHRON PENNATUM","CORETHRON PENNATUM","7035.55.41804","BACILLARIOPHYTA","COSCINODISCOPHYCEA",null,"CORETHRACEAE","CORETHRON"]
[null,null,null,null,null,null,null,null,null,null,null,null,null,null,null,null,null,null,null,null,null,null,null,null,null,null,null,null,null,null,null,null,null,null,null,null,"CORYTHODINIUM","CORYTHODINIUM","7030.46.44630","MIOZOA",null,null,"INCERTAE SEDIS (DINOPHYCEAE)"]
[null,null,null,null,null,null,null,null,null,null,null,null,null,null,null,null,null,null,null,null,null,null,null,null,null,null,null,null,null,null,null,null,null,null,null,null,"CORYTHODINIUM DIPLOCONUS","CORYTHODINIUM DIPLOCONUS","7030.55.52207","MIOZOA",null,null,"INCERTAE SEDIS (DINOPHYCEAE)","CORYTHODINIUM"]
[null,null,null,null,null,null,null,null,null,null,null,null,null,null,null,null,null,null,null,null,null,null,null,null,null,null,null,null,null,null,null,null,null,null,null,null,"CORYTHODINIUM TESSELATUM","CORYTHODINIUM TESSELATUM","7030.55.52211","MIOZOA",null,null,"INCERTAE SEDIS (DINOPHYCEAE)","CORYTHODINIUM"]
[null,null,null,null,null,null,null,null,null,null,null,null,null,null,null,null,null,null,null,null,null,null,null,null,null,null,null,null,null,null,null,null,null,null,null,null,"COSCINODISCOPHYCEAE","COSCINODISCOPHYCEAE","7035.12.120727","BACILLARIOPHYTA","COSCINODISCOPHYCEAE"]
[null,null,null,null,null,null,null,null,null,null,null,null,null,null,null,null,null,null,null,null,null,null,null,null,null,null,null,null,null,null,null,null,null,null,null,null,"COSCINODISCUS","COSCINODISCUS","7035.46.43692","BACILLARIOPHYTA","COSCINODISCOPHYCEAE",null,"COSCINODISCACEAE"]
[null,null,null,null,null,null,null,null,null,null,null,null,null,null,null,null,null,null,null,null,null,null,null,null,null,null,null,null,null,null,null,null,null,null,null,null,"COSCINODISCUS ARGUS","COSCINODISCUS ARGUS","7035.55.59697","BACILLARIOPHYTA","COSCINODISCOPHYCEAE",null,"COSCINODISCACEAE","COSCINODISCUS"]
[null,null,null,null,null,null,null,null,null,null,null,null,null,null,null,null,null,null,null,null,null,null,null,null,null,null,null,null,null,null,null,null,null,null,null,null,"COSCINODISCUS ASTEROMPHALUS","COSCINODISCUS ASTEROMPHALUS","7035.55.37671","BACILLARIOPHYTA","COSCINODISCOPHYCEAE",null,"COSCINODISCACEAE","COSCINODISCUS"]
[null,null,null,null,null,null,null,null,null,null,null,null,null,null,null,null,null,null,null,null,null,null,null,null,null,null,null,null,null,null,null,null,null,null,null,null,"COSCINODISCUS CENTRALIS","COSCINODISCUS CENTRALIS","7035.55.37676","BACILLARIOPHYTA","COSCINODISCOPHYCEAE",null,"COSCINODISCACEAE","COSCINODISCUS"]
[null,null,null,null,null,null,null,null,null,null,null,null,null,null,null,null,null,null,null,null,null,null,null,null,null,null,null,null,null,null,null,null,null,null,null,null,"COSCINODISCUS CONCINNUS","COSCINODISCUS CONCINNUS","7035.55.37678","BACILLARIOPHYTA","COSCINODISCOPHYCEAE",null,"COSCINODISCACEAE","COSCINODISCUS"]
[null,null,null,null,null,null,null,null,null,null,null,null,null,null,null,null,null,null,null,null,null,null,null,null,null,null,null,null,null,null,null,null,null,null,null,null,"COSCINODISCUS CURVATULUS","COSCINODISCUS CURVATULUS","7035.55.37679","BACILLARIOPHYTA","COSCINODISCOPHYCEAE",null,"COSCINODISCACEAE","COSCINODISCUS"]
[null,null,null,null,null,null,null,null,null,null,null,null,null,null,null,null,null,null,null,null,null,null,null,null,null,null,null,null,null,null,null,null,null,null,null,null,"COSCINODISCUS GIGAS","COSCINODISCUS GIGAS","7035.55.168494","BACILLARIOPHYTA","COSCINODISCOPHYCEAE",null,"COSCINODISCACEAE","COSCINODISCUS"]
[null,null,null,null,null,null,null,null,null,null,null,null,null,null,null,null,null,null,null,null,null,null,null,null,null,null,null,null,null,null,null,null,null,null,null,null,"COSCINODISCUS GRANII","COSCINODISCUS GRANII","7035.55.37690","BACILLARIOPHYTA","COSCINODISCOPHYCEAE",null,"COSCINODISCACEAE","COSCINODISCUS"]
[null,null,null,null,null,null,null,null,null,null,null,null,null,null,null,null,null,null,null,null,null,null,null,null,null,null,null,null,null,null,null,null,null,null,null,null,"COSCINODISCUS JONESIANUS","COSCINODISCUS JONESIANUS","7035.55.99590","BACILLARIOPHYTA","COSCINODISCOPHYCEAE",null,"COSCINODISCACEAE","COSCINODISCUS"]
[null,null,null,null,null,null,null,null,null,null,null,null,null,null,null,null,null,null,null,null,null,null,null,null,null,null,null,null,null,null,null,null,null,null,null,null,"COSCINODISCUS MARGINATUS","COSCINODISCUS MARGINATUS","7035.55.37700","BACILLARIOPHYTA","COSCINODISCOPHYCEAE",null,"COSCINODISCACEAE","COSCINODISCUS"]
[null,null,null,null,null,null,null,null,null,null,null,null,null,null,null,null,null,null,null,null,null,null,null,null,null,null,null,null,null,null,null,null,null,null,null,null,"COSCINODISCUS RADIATUS","COSCINODISCUS RADIATUS","7035.55.115456","BACILLARIOPHYTA","COSCINODISCOPHYCEAE",null,"COSCINODISCACEAE","COSCINODISCUS"]
[null,null,null,null,null,null,null,null,null,null,null,null,null,null,null,null,null,null,null,null,null,null,null,null,null,null,null,null,null,null,null,null,null,null,null,null,"COSCINODISCUS RENIFORMIS","COSCINODISCUS RENIFORMIS","7035.55.116107","BACILLARIOPHYTA","COSCINODISCOPHYCEAE",null,"COSCINODISCACEAE","COSCINODISCUS"]
[null,null,null,null,null,null,null,null,null,null,null,null,null,null,null,null,null,null,null,null,null,null,null,null,null,null,null,null,null,null,null,null,null,null,null,null,"COSCINODISCUS THORII","COSCINODISCUS THORII","7035.55.62282","BACILLARIOPHYTA","COSCINODISCOPHYCEAE",null,"COSCINODISCACEAE","COSCINODISCUS"]
[null,null,null,null,null,null,null,null,null,null,null,null,null,null,null,null,null,null,null,null,null,null,null,null,null,null,null,null,null,null,null,null,null,null,null,null,"COSMARIUM","COSMARIUM","2024.46.43526","CHAROPHYTA","CONJUGATOPHYCEAE",null,"DESMIDIACEAE"]
[null,null,null,null,null,null,null,null,null,null,null,null,null,null,null,null,null,null,null,null,null,null,null,null,null,null,null,null,null,null,null,null,null,null,null,null,"CRATICULA","CRATICULA","7035.46.43755","BACILLARIOPHYTA","BACILLARIOPHYCEAE",null,"STAURONEIDACEAE"]
[null,null,null,null,null,null,null,null,null,null,null,null,null,null,null,null,null,null,null,null,null,null,null,null,null,null,null,null,null,null,null,null,null,null,null,null,"CRUCIGENIA","CRUCIGENIA","4020.46.43468","CHLOROPHYTA","TREBOUXIOPHYCEAE",null,"TREBOUXIOPHYCEAE INCERTAE SEDIS"]
[null,null,null,null,null,null,null,null,null,null,null,null,null,null,null,null,null,null,null,null,null,null,null,null,null,null,null,null,null,null,null,null,null,null,null,null,"CRYPTOMONAS","CRYPTOMONAS","4020.46.43571","CHLOROPHYTA","CRYPTOPHYCEAE",null,"CRYPTOMONADACEAE"]
[null,null,null,null,null,null,null,null,null,null,null,null,null,null,null,null,null,null,null,null,null,null,null,null,null,null,null,null,null,null,null,null,null,null,null,null,"CYANOPHYCEAE","CYANOPHYCEAE","5040.12.4351","CYANOBACTERIA","CYANOPHYCEAE"]
[null,null,null,null,null,null,null,null,null,null,null,null,null,null,null,null,null,null,null,null,null,null,null,null,null,null,null,null,null,null,null,null,null,null,null,null,"CYANOSARCINA","CYANOSARCINA","5040.46.44896","CYANOBACTERIA",null,null,"CHROOCOCCACEAE"]
[null,null,null,null,null,null,null,null,null,null,null,null,null,null,null,null,null,null,null,null,null,null,null,null,null,null,null,null,null,null,null,null,null,null,null,null,"CYCLOTELLA","CYCLOTELLA","7035.46.43757","BACILLARIOPHYTA","MEDIOPHYCEAE",null,"STEPHANODISCACEAE"]
[null,null,null,null,null,null,null,null,null,null,null,null,null,null,null,null,null,null,null,null,null,null,null,null,null,null,null,null,null,null,null,null,null,null,null,null,"CYCLOTELLA PLANCTONICA","CYCLOTELLA PLANCTONICA","7035.55.32997","BACILLARIOPHYTA","MEDIOPHYCEAE",null,"STEPHANODISCACEAE","CYCLOTELLA"]
[null,null,null,null,null,null,null,null,null,null,null,null,null,null,null,null,null,null,null,null,null,null,null,null,null,null,null,null,null,null,null,null,null,null,null,null,"CYLINDROSPERMOPSIS","CYLINDROSPERMOPSIS","5040.46.43594","CYANOBACTERIA",null,null,"NOSTOCACEAE"]
[null,null,null,null,null,null,null,null,null,null,null,null,null,null,null,null,null,null,null,null,null,null,null,null,null,null,null,null,null,null,null,null,null,null,null,null,"CYLINDROSPERMUM","CYLINDROSPERMUM","5040.46.43595","CYANOBACTERIA",null,null,"NOSTOCACEAE"]
[null,null,null,null,null,null,null,null,null,null,null,null,null,null,null,null,null,null,null,null,null,null,null,null,null,null,null,null,null,null,null,null,null,null,null,null,"CYLINDROTHECA","CYLINDROTHECA","7035.46.43677","BACILLARIOPHYTA","BACILLARIOPHYCEAE",null,"BACILLARIACEAE"]
[null,null,null,null,null,null,null,null,null,null,null,null,null,null,null,null,null,null,null,null,null,null,null,null,null,null,null,null,null,null,null,null,null,null,null,null,"CYLINDROTHECA FUSIFORMIS","CYLINDROTHECA FUSIFORMIS","7035.55.33310","BACILLARIOPHYTA","BACILLARIOPHYCEAE",null,"BACILLARIACEAE","CYLINDROTHECA"]
[null,null,null,null,null,null,null,null,null,null,null,null,null,null,null,null,null,null,null,null,null,null,null,null,null,null,null,null,null,null,null,null,null,null,null,null,"CYMBELLA","CYMBELLA","7035.46.43694","BACILLARIOPHYTA","BACILLARIOPHYCEAE",null,"CYMBELLACEAE"]
[null,null,null,null,null,null,null,null,null,null,null,null,null,null,null,null,null,null,null,null,null,null,null,null,null,null,null,null,null,null,null,null,null,null,null,null,"DACTYLIOSOLEN","DACTYLIOSOLEN","7035.46.44382","BACILLARIOPHYTA","COSCINODISCOPHYCEAE",null,"RHIZOSOLENIACEAE"]
[null,null,null,null,null,null,null,null,null,null,null,null,null,null,null,null,null,null,null,null,null,null,null,null,null,null,null,null,null,null,null,null,null,null,null,null,"DACTYLIOSOLEN ANTARCTICUS","DACTYLIOSOLEN ANTARCTICUS","7035.55.37765","BACILLARIOPHYTA","COSCINODISCOPHYCEAE",null,"RHIZOSOLENIACEAE","DACTYLIOSOLEN"]
[null,null,null,null,null,null,null,null,null,null,null,null,null,null,null,null,null,null,null,null,null,null,null,null,null,null,null,null,null,null,null,null,null,null,null,null,"DACTYLIOSOLEN FRAGILISSIMUS","DACTYLIOSOLEN FRAGILISSIMUS","7035.55.42283","BACILLARIOPHYTA","COSCINODISCOPHYCEAE",null,"RHIZOSOLENIACEAE","DACTYLIOSOLEN"]
[null,null,null,null,null,null,null,null,null,null,null,null,null,null,null,null,null,null,null,null,null,null,null,null,null,null,null,null,null,null,null,null,null,null,null,null,"DELPHINEIS","DELPHINEIS","7035.46.44385","BACILLARIOPHYTA",null,null,"RHAPHONEIDACEAE"]
[null,null,null,null,null,null,null,null,null,null,null,null,null,null,null,null,null,null,null,null,null,null,null,null,null,null,null,null,null,null,null,null,null,null,null,null,"DELPHINEIS SURIRELLA","DELPHINEIS SURIRELLA","7035.55.143651","BACILLARIOPHYTA",null,null,"RHAPHONEIDACEAE","DELPHINEIS"]
[null,null,null,null,null,null,null,null,null,null,null,null,null,null,null,null,null,null,null,null,null,null,null,null,null,null,null,null,null,null,null,null,null,null,null,null,"DESMODESMUS","DESMODESMUS","4020.46.45397","CHLOROPHYTA",null,null,"SCENEDESMACEAE"]
[null,null,null,null,null,null,null,null,null,null,null,null,null,null,null,null,null,null,null,null,null,null,null,null,null,null,null,null,null,null,null,null,null,null,null,null,"DESMODESMUS COMMUNIS","DESMODESMUS COMMUNIS","4020.55.145205","CHLOROPHYTA",null,null,"SCENEDESMACEAE","DESMODESMUS"]
[null,null,null,null,null,null,null,null,null,null,null,null,null,null,null,null,null,null,null,null,null,null,null,null,null,null,null,null,null,null,null,null,null,null,null,null,"DESMODESMUS OPOLIENSIS","DESMODESMUS OPOLIENSIS","4020.55.162826","CHLOROPHYTA",null,null,"SCENEDESMACEAE","DESMODESMUS"]
[null,null,null,null,null,null,null,null,null,null,null,null,null,null,null,null,null,null,null,null,null,null,null,null,null,null,null,null,null,null,null,null,null,null,null,null,"DETONULA","DETONULA","7035.46.44387","BACILLARIOPHYTA","COSCINODISCOPHYCEAE",null,"SKELETONEMATACEAE"]
[null,null,null,null,null,null,null,null,null,null,null,null,null,null,null,null,null,null,null,null,null,null,null,null,null,null,null,null,null,null,null,null,null,null,null,null,"DETONULA CONFERVACEA","DETONULA CONFERVACEA","7035.55.37794","BACILLARIOPHYTA","COSCINODISCOPHYCEAE",null,"SKELETONEMACEAE","DETONULA"]
[null,null,null,null,null,null,null,null,null,null,null,null,null,null,null,null,null,null,null,null,null,null,null,null,null,null,null,null,null,null,null,null,null,null,null,null,"DETONULA MOSELEYANA","DETONULA MOSELEYANA","7035.55.106022","BACILLARIOPHYTA","COSCINODISCOPHYCEAE",null,"SKELETONEMACEAE","DETONULA"]
[null,null,null,null,null,null,null,null,null,null,null,null,null,null,null,null,null,null,null,null,null,null,null,null,null,null,null,null,null,null,null,null,null,null,null,null,"DETONULA PUMILA","DETONULA PUMILA","7035.55.59627","BACILLARIOPHYTA","COSCINODISCOPHYCEAE",null,"SKELETONEMACEAE","DETONULA"]
[null,null,null,null,null,null,null,null,null,null,null,null,null,null,null,null,null,null,null,null,null,null,null,null,null,null,null,null,null,null,null,null,null,null,null,null,"DIACRONEMA","DIACRONEMA","7040.46.44140","HAPTOPHYTA","PAVLOVOPHYCEAE",null,"PAVLOVACEAE"]
[null,null,null,null,null,null,null,null,null,null,null,null,null,null,null,null,null,null,null,null,null,null,null,null,null,null,null,null,null,null,null,null,null,null,null,null,"DICTYOCHA","DICTYOCHA","4024.46.44733","OCHROPHYTA",null,null,"DICTYOCHACEAE"]
[null,null,null,null,null,null,null,null,null,null,null,null,null,null,null,null,null,null,null,null,null,null,null,null,null,null,null,null,null,null,null,null,null,null,null,null,"DICTYOCHA CALIDA","DICTYOCHA CALIDA","4024.55.164524","OCHROPHYTA",null,null,"DICTYOCHACEAE","DICTYOCHA"]
[null,null,null,null,null,null,null,null,null,null,null,null,null,null,null,null,null,null,null,null,null,null,null,null,null,null,null,null,null,null,null,null,null,null,null,null,"DICTYOCHA FIBULA","DICTYOCHA FIBULA","4024.55.42514","OCHROPHYTA",null,null,"DICTYOCHACEAE","DICTYOCHA"]
[null,null,null,null,null,null,null,null,null,null,null,null,null,null,null,null,null,null,null,null,null,null,null,null,null,null,null,null,null,null,null,null,null,null,null,null,"DICTYOCHA NAVICULA","DICTYOCHA NAVICULA","4024.55.42542","OCHROPHYTA",null,null,"DICTYOCHACEAE","DICTYOCHA"]
[null,null,null,null,null,null,null,null,null,null,null,null,null,null,null,null,null,null,null,null,null,null,null,null,null,null,null,null,null,null,null,null,null,null,null,null,"DICTYOCHA POLYACTIS","DICTYOCHA POLYACTIS","4024.55.112534","OCHROPHYTA",null,null,"DICTYOCHACEAE","DICTYOCHA"]
[null,null,null,null,null,null,null,null,null,null,null,null,null,null,null,null,null,null,null,null,null,null,null,null,null,null,null,null,null,null,null,null,null,null,null,null,"DICTYOCHOPHYCEAE","DICTYOCHOPHYCEAE","4024.12.4330","OCHROPHYTA","DICTYOCHOPHYCEAE"]
[null,null,null,null,null,null,null,null,null,null,null,null,null,null,null,null,null,null,null,null,null,null,null,null,null,null,null,null,null,null,null,null,null,null,null,null,"DICTYOSPHAERIUM","DICTYOSPHAERIUM","4020.46.43503","CHLOROPHYTA",null,null,"CHLORELLACEAE"]
[null,null,null,null,null,null,null,null,null,null,null,null,null,null,null,null,null,null,null,null,null,null,null,null,null,null,null,null,null,null,null,null,null,null,null,null,"DIMEREGRAMMA","DIMEREGRAMMA","7035.46.44390","BACILLARIOPHYTA",null,null,"PLAGIOGRAMMACEAE"]
[null,null,null,null,null,null,null,null,null,null,null,null,null,null,null,null,null,null,null,null,null,null,null,null,null,null,null,null,null,null,null,null,null,null,null,null,"DINOBRYON","DINOBRYON","4024.46.43781","OCHROPHYTA","CHRYSOPHYCEAE","CHROMULINALES","DINOBRYACEAE"]
[null,null,null,null,null,null,null,null,null,null,null,null,null,null,null,null,null,null,null,null,null,null,null,null,null,null,null,null,null,null,null,null,null,null,null,null,"DINOPHYCEAE","DINOPHYCEAE","7030.12.4346","MIOZOA","DINOPHYCEAE"]
[null,null,null,null,null,null,null,null,null,null,null,null,null,null,null,null,null,null,null,null,null,null,null,null,null,null,null,null,null,null,null,null,null,null,null,null,"DINOPHYSIS","DINOPHYSIS","7030.46.44635","MIOZOA",null,null,"DINOPHYSIACEAE"]
[null,null,null,null,null,null,null,null,null,null,null,null,null,null,null,null,null,null,null,null,null,null,null,null,null,null,null,null,null,null,null,null,null,null,null,null,"DINOPHYSIS ACUMINATA","DINOPHYSIS ACUMINATA","7030.55.74599","MIOZOA",null,null,"DINOPHYSIACEAE","DINOPHYSIS"]
[null,null,null,null,null,null,null,null,null,null,null,null,null,null,null,null,null,null,null,null,null,null,null,null,null,null,null,null,null,null,null,null,null,null,null,null,"DINOPHYSIS AMANDULA","DINOPHYSIS AMANDULA","7030.55.52221","MIOZOA",null,null,"DINOPHYSIACEAE","DINOPHYSIS"]
[null,null,null,null,null,null,null,null,null,null,null,null,null,null,null,null,null,null,null,null,null,null,null,null,null,null,null,null,null,null,null,null,null,null,null,null,"DINOPHYSIS APICATA","DINOPHYSIS APICATA","7030.55.52222","MIOZOA",null,null,"DINOPHYSIACEAE","DINOPHYSIS"]
[null,null,null,null,null,null,null,null,null,null,null,null,null,null,null,null,null,null,null,null,null,null,null,null,null,null,null,null,null,null,null,null,null,null,null,null,"DINOPHYSIS CAUDATA","DINOPHYSIS CAUDATA","7030.55.52226","MIOZOA",null,null,"DINOPHYSIACEAE","DINOPHYSIS"]
[null,null,null,null,null,null,null,null,null,null,null,null,null,null,null,null,null,null,null,null,null,null,null,null,null,null,null,null,null,null,null,null,null,null,null,null,"DINOPHYSIS HASTATA","DINOPHYSIS HASTATA","7030.55.52241","MIOZOA",null,null,"DINOPHYSIACEAE","DINOPHYSIS"]
[null,null,null,null,null,null,null,null,null,null,null,null,null,null,null,null,null,null,null,null,null,null,null,null,null,null,null,null,null,null,null,null,null,null,null,null,"DINOPHYSIS OKAMURAE","DINOPHYSIS OKAMURAE","7030.55.70008","MIOZOA",null,null,"DINOPHYSIACEAE","DINOPHYSIS"]
[null,null,null,null,null,null,null,null,null,null,null,null,null,null,null,null,null,null,null,null,null,null,null,null,null,null,null,null,null,null,null,null,null,null,null,null,"DINOPHYSIS OPERCULOIDES","DINOPHYSIS OPERCULOIDES","7030.55.52254","MIOZOA",null,null,"DINOPHYSIACEAE","DINOPHYSIS"]
[null,null,null,null,null,null,null,null,null,null,null,null,null,null,null,null,null,null,null,null,null,null,null,null,null,null,null,null,null,null,null,null,null,null,null,null,"DINOPHYSIS RECURVA","DINOPHYSIS RECURVA","7030.55.52265","MIOZOA",null,null,"DINOPHYSIACEAE","DINOPHYSIS"]
[null,null,null,null,null,null,null,null,null,null,null,null,null,null,null,null,null,null,null,null,null,null,null,null,null,null,null,null,null,null,null,null,null,null,null,null,"DINOPHYSIS SCHUETTII","DINOPHYSIS SCHUETTII","7030.55.52268","MIOZOA",null,null,"DINOPHYSIACEAE","DINOPHYSIS"]
[null,null,null,null,null,null,null,null,null,null,null,null,null,null,null,null,null,null,null,null,null,null,null,null,null,null,null,null,null,null,null,null,null,null,null,null,"DINOPHYSIS TRIPOS","DINOPHYSIS TRIPOS","7030.55.52273","MIOZOA",null,null,"DINOPHYSIACEAE","DINOPHYSIS"]
[null,null,null,null,null,null,null,null,null,null,null,null,null,null,null,null,null,null,null,null,null,null,null,null,null,null,null,null,null,null,null,null,null,null,null,null,"DIPLONEIS","DIPLONEIS","7035.46.43699","BACILLARIOPHYTA","BACILLARIOPHYCEAE",null,"DIPLONEIDACEAE"]
[null,null,null,null,null,null,null,null,null,null,null,null,null,null,null,null,null,null,null,null,null,null,null,null,null,null,null,null,null,null,null,null,null,null,null,null,"DIPLONEIS BOMBUS","DIPLONEIS BOMBUS","7035.55.170793","BACILLARIOPHYTA","BACILLARIOPHYCEAE",null,"DIPLONEIDACEAE","DIPLONEIS"]
[null,null,null,null,null,null,null,null,null,null,null,null,null,null,null,null,null,null,null,null,null,null,null,null,null,null,null,null,null,null,null,null,null,null,null,null,"DIPLONEIS CHERSONENSIS","DIPLONEIS CHERSONENSIS","7035.55.31285","BACILLARIOPHYTA","BACILLARIOPHYCEAE",null,"DIPLONEIDACEAE","DIPLONEIS"]
[null,null,null,null,null,null,null,null,null,null,null,null,null,null,null,null,null,null,null,null,null,null,null,null,null,null,null,null,null,null,null,null,null,null,null,null,"DIPLONEIS CRABRO","DIPLONEIS CRABRO","7035.55.85288","BACILLARIOPHYTA","BACILLARIOPHYCEAE",null,"DIPLONEIDACEAE","DIPLONEIS"]
[null,null,null,null,null,null,null,null,null,null,null,null,null,null,null,null,null,null,null,null,null,null,null,null,null,null,null,null,null,null,null,null,null,null,null,null,"DIPLONEIS NOTABILIS","DIPLONEIS NOTABILIS","7035.55.31293","BACILLARIOPHYTA","BACILLARIOPHYCEAE",null,"DIPLONEIDACEAE","DIPLONEIS"]
[null,null,null,null,null,null,null,null,null,null,null,null,null,null,null,null,null,null,null,null,null,null,null,null,null,null,null,null,null,null,null,null,null,null,null,null,"DIPLONEIS SMITHII","DIPLONEIS SMITHII","7035.55.176923","BACILLARIOPHYTA","BACILLARIOPHYCEAE",null,"DIPLONEIDACEAE","DIPLONEIS"]
[null,null,null,null,null,null,null,null,null,null,null,null,null,null,null,null,null,null,null,null,null,null,null,null,null,null,null,null,null,null,null,null,null,null,null,null,"DIPLONEIS SUBADVENA","DIPLONEIS SUBADVENA","7035.55.31300","BACILLARIOPHYTA","BACILLARIOPHYCEAE",null,"DIPLONEIDACEAE","DIPLONEIS"]
[null,null,null,null,null,null,null,null,null,null,null,null,null,null,null,null,null,null,null,null,null,null,null,null,null,null,null,null,null,null,null,null,null,null,null,null,"DIPLOPELTA","DIPLOPELTA","7030.46.44636","MIOZOA",null,null,"DIPLOPSALIACEAE"]
[null,null,null,null,null,null,null,null,null,null,null,null,null,null,null,null,null,null,null,null,null,null,null,null,null,null,null,null,null,null,null,null,null,null,null,null,"DIPLOPELTA BOMBA","DIPLOPELTA BOMBA","7030.55.42669","MIOZOA",null,null,"DIPLOPSALIACEAE","DIPLOPELTA"]
[null,null,null,null,null,null,null,null,null,null,null,null,null,null,null,null,null,null,null,null,null,null,null,null,null,null,null,null,null,null,null,null,null,null,null,null,"DIPLOPELTA GLOBULA","DIPLOPELTA GLOBULA","7030.55.145509","MIOZOA",null,null,"DIPLOPSALIACEAE","DIPLOPELTA"]
[null,null,null,null,null,null,null,null,null,null,null,null,null,null,null,null,null,null,null,null,null,null,null,null,null,null,null,null,null,null,null,null,null,null,null,null,"DIPLOPSALIS","DIPLOPSALIS","7030.46.44637","MIOZOA",null,null,"DIPLOPSALIACEAE"]
[null,null,null,null,null,null,null,null,null,null,null,null,null,null,null,null,null,null,null,null,null,null,null,null,null,null,null,null,null,null,null,null,null,null,null,null,"DIPLOPSALIS ORBICULARIS","DIPLOPSALIS ORBICULARIS","7030.55.55390","MIOZOA",null,null,"DIPLOPSALIACEAE","DIPLOPSALIS"]
[null,null,null,null,null,null,null,null,null,null,null,null,null,null,null,null,null,null,null,null,null,null,null,null,null,null,null,null,null,null,null,null,null,null,null,null,"DISCOSTELLA","DISCOSTELLA","7035.46.50697","BACILLARIOPHYTA",null,null,"STEPHANODISCACEAE"]
[null,null,null,null,null,null,null,null,null,null,null,null,null,null,null,null,null,null,null,null,null,null,null,null,null,null,null,null,null,null,null,null,null,null,null,null,"DISCOSTELLA GLOMERATA","DISCOSTELLA GLOMERATA","7035.55.131398","BACILLARIOPHYTA",null,null,"STEPHANODISCACEAE","DISCOSTELLA"]
[null,null,null,null,null,null,null,null,null,null,null,null,null,null,null,null,null,null,null,null,null,null,null,null,null,null,null,null,null,null,null,null,null,null,null,null,"DISSODIUM","DISSODIUM","7030.46.44971","MIOZOA",null,null,"DIPLOPSALIACEAE"]
[null,null,null,null,null,null,null,null,null,null,null,null,null,null,null,null,null,null,null,null,null,null,null,null,null,null,null,null,null,null,null,null,null,null,null,null,"DISSODIUM ASYMMETRICUM","DISSODIUM ASYMMETRICUM","7030.55.54629","MIOZOA",null,null,"DIPLOPSALIACEAE","DISSODIUM"]
[null,null,null,null,null,null,null,null,null,null,null,null,null,null,null,null,null,null,null,null,null,null,null,null,null,null,null,null,null,null,null,null,null,null,null,null,"DITYLUM","DITYLUM","7035.46.44389","BACILLARIOPHYTA","COSCINODISCOPHYCEAE",null,"LITHODESMIACEAE"]
[null,null,null,null,null,null,null,null,null,null,null,null,null,null,null,null,null,null,null,null,null,null,null,null,null,null,null,null,null,null,null,null,null,null,null,null,"DITYLUM BRIGHTWELLII","DITYLUM BRIGHTWELLII","7035.55.37800","BACILLARIOPHYTA","COSCINODISCOPHYCEAE",null,"LITHODESMIACEAE","DITYLUM"]
[null,null,null,null,null,null,null,null,null,null,null,null,null,null,null,null,null,null,null,null,null,null,null,null,null,null,null,null,null,null,null,null,null,null,null,null,"DITYLUM SOL","DITYLUM SOL","7035.55.119922","BACILLARIOPHYTA","COSCINODISCOPHYCEAE",null,"LITHODESMIACEAE","DITYLUM"]
[null,null,null,null,null,null,null,null,null,null,null,null,null,null,null,null,null,null,null,null,null,null,null,null,null,null,null,null,null,null,null,null,null,null,null,null,"DONKINIA","DONKINIA","7035.46.44391","BACILLARIOPHYTA","BACILLARIOPHYCEAE",null,"PLEUROSIGMATACEAE"]
[null,null,null,null,null,null,null,null,null,null,null,null,null,null,null,null,null,null,null,null,null,null,null,null,null,null,null,null,null,null,null,null,null,null,null,null,"EBRIA","EBRIA","7110.46.45451","CERCOZOA",null,null,"EBRIACEAE"]
[null,null,null,null,null,null,null,null,null,null,null,null,null,null,null,null,null,null,null,null,null,null,null,null,null,null,null,null,null,null,null,null,null,null,null,null,"EMILIANIA","EMILIANIA","7040.46.44545","HAPTOPHYTA",null,null,"NOELAERHABDACEAE"]
[null,null,null,null,null,null,null,null,null,null,null,null,null,null,null,null,null,null,null,null,null,null,null,null,null,null,null,null,null,null,null,null,null,null,null,null,"EMILIANIA HUXLEYI","EMILIANIA HUXLEYI","7040.55.66851","HAPTOPHYTA",null,null,"NOELAERHABDACEAE","EMILIANIA"]
[null,null,null,null,null,null,null,null,null,null,null,null,null,null,null,null,null,null,null,null,null,null,null,null,null,null,null,null,null,null,null,null,null,null,null,null,"ENCYONEMA","ENCYONEMA","7035.46.43695","BACILLARIOPHYTA","BACILLARIOPHYCEAE",null,"GOMPHONEMATACEAE"]
[null,null,null,null,null,null,null,null,null,null,null,null,null,null,null,null,null,null,null,null,null,null,null,null,null,null,null,null,null,null,null,null,null,null,null,null,"ENDICTYA","ENDICTYA","7035.46.44395","BACILLARIOPHYTA",null,null,"ENDICTYACEAE"]
[null,null,null,null,null,null,null,null,null,null,null,null,null,null,null,null,null,null,null,null,null,null,null,null,null,null,null,null,null,null,null,null,null,null,null,null,"ENDICTYA OCEANICA","ENDICTYA OCEANICA","7035.55.37929","BACILLARIOPHYTA",null,null,"ENDICTYACEAE","ENDICTYA"]
[null,null,null,null,null,null,null,null,null,null,null,null,null,null,null,null,null,null,null,null,null,null,null,null,null,null,null,null,null,null,null,null,null,null,null,null,"ENTOMONEIS","ENTOMONEIS","7035.46.43700","BACILLARIOPHYTA","BACILLARIOPHYCEAE",null,"ENTOMONEIDACEAE"]
[null,null,null,null,null,null,null,null,null,null,null,null,null,null,null,null,null,null,null,null,null,null,null,null,null,null,null,null,null,null,null,null,null,null,null,null,"ENTOMONEIS ALATA","ENTOMONEIS ALATA","7035.55.31306","BACILLARIOPHYTA","BACILLARIOPHYCEAE",null,"ENTOMONEIDACEAE","ENTOMONEIS"]
[null,null,null,null,null,null,null,null,null,null,null,null,null,null,null,null,null,null,null,null,null,null,null,null,null,null,null,null,null,null,null,null,null,null,null,null,"ENTOMONEIS GIGANTEA","ENTOMONEIS GIGANTEA","7035.55.94066","BACILLARIOPHYTA","BACILLARIOPHYCEAE",null,"ENTOMONEIDACEAE","ENTOMONEIS"]
[null,null,null,null,null,null,null,null,null,null,null,null,null,null,null,null,null,null,null,null,null,null,null,null,null,null,null,null,null,null,null,null,null,null,null,null,"EUCAMPIA","EUCAMPIA","7035.46.44394","BACILLARIOPHYTA","MEDIOPHYCEAE",null,"BIDDULPHIACEAE"]
[null,null,null,null,null,null,null,null,null,null,null,null,null,null,null,null,null,null,null,null,null,null,null,null,null,null,null,null,null,null,null,null,null,null,null,null,"EUCAMPIA CORNUTA","EUCAMPIA CORNUTA","7035.55.62283","BACILLARIOPHYTA","MEDIOPHYCEAE",null,"HEMIAULACEAE","EUCAMPIA"]
[null,null,null,null,null,null,null,null,null,null,null,null,null,null,null,null,null,null,null,null,null,null,null,null,null,null,null,null,null,null,null,null,null,null,null,null,"EUCAMPIA GROENLANDICA","EUCAMPIA GROENLANDICA","7035.55.56186","BACILLARIOPHYTA","MEDIOPHYCEAE",null,"HEMIAULACEAE","EUCAMPIA"]
[null,null,null,null,null,null,null,null,null,null,null,null,null,null,null,null,null,null,null,null,null,null,null,null,null,null,null,null,null,null,null,null,null,null,null,null,"EUCAMPIA ZODIACUS","EUCAMPIA ZODIACUS","7035.55.37924","BACILLARIOPHYTA","MEDIOPHYCEAE",null,"HEMIAULACEAE","EUCAMPIA"]
[null,null,null,null,null,null,null,null,null,null,null,null,null,null,null,null,null,null,null,null,null,null,null,null,null,null,null,null,null,null,null,null,null,null,null,null,"EUCAPSIS","EUCAPSIS","5040.46.44123","CYANOBACTERIA","CYANOPHYCEAE",null,"MERISMOPEDIACEAE"]
[null,null,null,null,null,null,null,null,null,null,null,null,null,null,null,null,null,null,null,null,null,null,null,null,null,null,null,null,null,null,null,null,null,null,null,null,"EUDORINA","EUDORINA","4020.46.43492","CHLOROPHYTA","CHLOROPHYCEAE",null,"VOLVOCACEAE"]
[null,null,null,null,null,null,null,null,null,null,null,null,null,null,null,null,null,null,null,null,null,null,null,null,null,null,null,null,null,null,null,null,null,null,null,null,"EUGLENA","EUGLENA","4030.46.43651","EUGLENOZOA",null,null,"EUGLENACEAE"]
[null,null,null,null,null,null,null,null,null,null,null,null,null,null,null,null,null,null,null,null,null,null,null,null,null,null,null,null,null,null,null,null,null,null,null,null,"EUNOTIA","EUNOTIA","7035.46.43703","BACILLARIOPHYTA","BACILLARIOPHYCEAE",null,"EUNOTIACEAE"]
[null,null,null,null,null,null,null,null,null,null,null,null,null,null,null,null,null,null,null,null,null,null,null,null,null,null,null,null,null,null,null,null,null,null,null,null,"EUNOTOGRAMMA","EUNOTOGRAMMA","7035.46.43672","BACILLARIOPHYTA",null,null,"ANAULACEAE"]
[null,null,null,null,null,null,null,null,null,null,null,null,null,null,null,null,null,null,null,null,null,null,null,null,null,null,null,null,null,null,null,null,null,null,null,null,"EUNOTOGRAMMA MARINUM","EUNOTOGRAMMA MARINUM","7035.55.30947","BACILLARIOPHYTA",null,null,"ANAULACEAE","EUNOTOGRAMMA"]
[null,null,null,null,null,null,null,null,null,null,null,null,null,null,null,null,null,null,null,null,null,null,null,null,null,null,null,null,null,null,null,null,null,null,null,null,"EUPODISCUS","EUPODISCUS","7035.46.44396","BACILLARIOPHYTA","BACILLARIOPHYCEAE",null,"EUPODISCACEAE"]
[null,null,null,null,null,null,null,null,null,null,null,null,null,null,null,null,null,null,null,null,null,null,null,null,null,null,null,null,null,null,null,null,null,null,null,null,"EUPODISCUS RADIATUS","EUPODISCUS RADIATUS","7035.55.37960","BACILLARIOPHYTA","BACILLARIOPHYCEAE",null,"EUPODISCACEAE","EUPODISCUS"]
[null,null,null,null,null,null,null,null,null,null,null,null,null,null,null,null,null,null,null,null,null,null,null,null,null,null,null,null,null,null,null,null,null,null,null,null,"EUTETRAMORUS","EUTETRAMORUS","4020.46.45501","CHLOROPHYTA","BACILLARIOPHYCEAE",null,"RADIOCOCCACEAE"]
[null,null,null,null,null,null,null,null,null,null,null,null,null,null,null,null,null,null,null,null,null,null,null,null,null,null,null,null,null,null,null,null,null,null,null,null,"FALLACIA","FALLACIA","7035.46.43752","BACILLARIOPHYTA","BACILLARIOPHYCEAE",null,"SELLAPHORACEAE"]
[null,null,null,null,null,null,null,null,null,null,null,null,null,null,null,null,null,null,null,null,null,null,null,null,null,null,null,null,null,null,null,null,null,null,null,null,"FRAGILARIA","FRAGILARIA","7035.46.43710","BACILLARIOPHYTA","BACILLARIOPHYCEAE",null,"FRAGILARIACEAE"]
[null,null,null,null,null,null,null,null,null,null,null,null,null,null,null,null,null,null,null,null,null,null,null,null,null,null,null,null,null,null,null,null,null,null,null,null,"FRAGILARIA LONGISSIMA","FRAGILARIA LONGISSIMA","7035.55.149787","BACILLARIOPHYTA","BACILLARIOPHYCEAE",null,"FRAGILARIACEAE","FRAGILARIA"]
[null,null,null,null,null,null,null,null,null,null,null,null,null,null,null,null,null,null,null,null,null,null,null,null,null,null,null,null,null,null,null,null,null,null,null,null,"FRAGILARIOPSIS","FRAGILARIOPSIS","7035.46.44400","BACILLARIOPHYTA","BACILLARIOPHYCEAE",null,"BACILLARIACEAE"]
[null,null,null,null,null,null,null,null,null,null,null,null,null,null,null,null,null,null,null,null,null,null,null,null,null,null,null,null,null,null,null,null,null,null,null,null,"FRAGILARIOPSIS DOLIOLUS","FRAGILARIOPSIS DOLIOLUS","7035.55.43409","BACILLARIOPHYTA","BACILLARIOPHYCEAE",null,"BACILLARIACEAE","FRAGILARIOPSIS"]
[null,null,null,null,null,null,null,null,null,null,null,null,null,null,null,null,null,null,null,null,null,null,null,null,null,null,null,null,null,null,null,null,null,null,null,null,"GAMBIERDISCUS","GAMBIERDISCUS","7030.46.45535","MIOZOA","DINOPHYCEAE",null,"GONIODOMATACEAE"]
[null,null,null,null,null,null,null,null,null,null,null,null,null,null,null,null,null,null,null,null,null,null,null,null,null,null,null,null,null,null,null,null,null,null,null,null,"GLAUCOSPIRA","GLAUCOSPIRA","5040.46.46459","CYANOBACTERIA","CYANOPHYCEAE",null,"SPIRULINACEAE"]
[null,null,null,null,null,null,null,null,null,null,null,null,null,null,null,null,null,null,null,null,null,null,null,null,null,null,null,null,null,null,null,null,null,null,null,null,"GLEOCAPSA","GLEOCAPSA","5040.46.43590","CYANOBACTERIA","CYANOPHYCEAE",null,"MICROCYSTACEAE"]
[null,null,null,null,null,null,null,null,null,null,null,null,null,null,null,null,null,null,null,null,null,null,null,null,null,null,null,null,null,null,null,null,null,null,null,null,"GOMPHONEMA","GOMPHONEMA","7035.46.43720","BACILLARIOPHYTA","BACILLARIOPHYCEAE",null,"GOMPHONEMATACEAE"]
[null,null,null,null,null,null,null,null,null,null,null,null,null,null,null,null,null,null,null,null,null,null,null,null,null,null,null,null,null,null,null,null,null,null,null,null,"GOMPHOSPHAERIA","GOMPHOSPHAERIA","5040.46.43070","CYANOBACTERIA","CYANOPHYCEAE","CHROOCOCCALES","GOMPHOSPHAERIACEAE"]
[null,null,null,null,null,null,null,null,null,null,null,null,null,null,null,null,null,null,null,null,null,null,null,null,null,null,null,null,null,null,null,null,null,null,null,null,"GONATOZYGON","GONATOZYGON","2024.46.43555","CHAROPHYTA",null,null,"GONATOZYGACEAE"]
[null,null,null,null,null,null,null,null,null,null,null,null,null,null,null,null,null,null,null,null,null,null,null,null,null,null,null,null,null,null,null,null,null,null,null,null,"GONIODOMA","GONIODOMA","7030.46.44644","MIOZOA",null,null,"GONIODOMATACEAE"]
[null,null,null,null,null,null,null,null,null,null,null,null,null,null,null,null,null,null,null,null,null,null,null,null,null,null,null,null,null,null,null,null,null,null,null,null,"GONIODOMA POLYEDRICUM","GONIODOMA POLYEDRICUM","7030.55.55580","MIOZOA",null,null,"GONIODOMATACEAE","GONIODOMA"]
[null,null,null,null,null,null,null,null,null,null,null,null,null,null,null,null,null,null,null,null,null,null,null,null,null,null,null,null,null,null,null,null,null,null,null,null,"GONYAULAX","GONYAULAX","7030.46.44645","MIOZOA",null,null,"GONIODOMATACEAE"]
[null,null,null,null,null,null,null,null,null,null,null,null,null,null,null,null,null,null,null,null,null,null,null,null,null,null,null,null,null,null,null,null,null,null,null,null,"GONYAULAX BIROSTRIS","GONYAULAX BIROSTRIS","7030.55.52304","MIOZOA",null,null,"GONIODOMATACEAE","GONYAULAX"]
[null,null,null,null,null,null,null,null,null,null,null,null,null,null,null,null,null,null,null,null,null,null,null,null,null,null,null,null,null,null,null,null,null,null,null,null,"GONYAULAX DIEGENSIS","GONYAULAX DIEGENSIS","7030.55.52306","MIOZOA",null,null,"GONIODOMATACEAE","GONYAULAX"]
[null,null,null,null,null,null,null,null,null,null,null,null,null,null,null,null,null,null,null,null,null,null,null,null,null,null,null,null,null,null,null,null,null,null,null,null,"GONYAULAX DIGITALE","GONYAULAX DIGITALE","7030.55.52307","MIOZOA",null,null,"GONIODOMATACEAE","GONYAULAX"]
[null,null,null,null,null,null,null,null,null,null,null,null,null,null,null,null,null,null,null,null,null,null,null,null,null,null,null,null,null,null,null,null,null,null,null,null,"GONYAULAX FUSIFORMIS","GONYAULAX FUSIFORMIS","7030.55.52311","MIOZOA",null,null,"GONIODOMATACEAE","GONYAULAX"]
[null,null,null,null,null,null,null,null,null,null,null,null,null,null,null,null,null,null,null,null,null,null,null,null,null,null,null,null,null,null,null,null,null,null,null,null,"GONYAULAX KOFOIDII","GONYAULAX KOFOIDII","7030.55.70676","MIOZOA",null,null,"GONIODOMATACEAE","GONYAULAX"]
[null,null,null,null,null,null,null,null,null,null,null,null,null,null,null,null,null,null,null,null,null,null,null,null,null,null,null,null,null,null,null,null,null,null,null,null,"GONYAULAX MILNERI","GONYAULAX MILNERI","7030.55.62308","MIOZOA",null,null,"GONIODOMATACEAE","GONYAULAX"]
[null,null,null,null,null,null,null,null,null,null,null,null,null,null,null,null,null,null,null,null,null,null,null,null,null,null,null,null,null,null,null,null,null,null,null,null,"GONYAULAX POLYGRAMMA","GONYAULAX POLYGRAMMA","7030.55.52319","MIOZOA",null,null,"GONIODOMATACEAE","GONYAULAX"]
[null,null,null,null,null,null,null,null,null,null,null,null,null,null,null,null,null,null,null,null,null,null,null,null,null,null,null,null,null,null,null,null,null,null,null,null,"GONYAULAX SCRIPPSAE","GONYAULAX SCRIPPSAE","7030.55.52323","MIOZOA",null,null,"GONIODOMATACEAE","GONYAULAX"]
[null,null,null,null,null,null,null,null,null,null,null,null,null,null,null,null,null,null,null,null,null,null,null,null,null,null,null,null,null,null,null,null,null,null,null,null,"GONYAULAX SPHAEROIDEA","GONYAULAX SPHAEROIDEA","7030.55.52324","MIOZOA",null,null,"GONIODOMATACEAE","GONYAULAX"]
[null,null,null,null,null,null,null,null,null,null,null,null,null,null,null,null,null,null,null,null,null,null,null,null,null,null,null,null,null,null,null,null,null,null,null,null,"GONYAULAX SPINIFERA","GONYAULAX SPINIFERA","7030.55.60093","MIOZOA",null,null,"GONIODOMATACEAE","GONYAULAX"]
[null,null,null,null,null,null,null,null,null,null,null,null,null,null,null,null,null,null,null,null,null,null,null,null,null,null,null,null,null,null,null,null,null,null,null,null,"GONYAULAX TURBYNEI","GONYAULAX TURBYNEI","7030.55.52326","MIOZOA",null,null,"GONIODOMATACEAE","GONYAULAX"]
[null,null,null,null,null,null,null,null,null,null,null,null,null,null,null,null,null,null,null,null,null,null,null,null,null,null,null,null,null,null,null,null,null,null,null,null,"GONYAULAX VERIOR","GONYAULAX VERIOR","7030.55.52328","MIOZOA",null,null,"GONIODOMATACEAE","GONYAULAX"]
[null,null,null,null,null,null,null,null,null,null,null,null,null,null,null,null,null,null,null,null,null,null,null,null,null,null,null,null,null,null,null,null,null,null,null,null,"GOSSLERIELLA","GOSSLERIELLA","7035.46.46447","BACILLARIOPHYTA",null,null,"GOSSLERIELLACEAE"]
[null,null,null,null,null,null,null,null,null,null,null,null,null,null,null,null,null,null,null,null,null,null,null,null,null,null,null,null,null,null,null,null,null,null,null,null,"GOSSLERIELLA TROPICA","GOSSLERIELLA TROPICA","7035.55.59707","BACILLARIOPHYTA",null,null,"GOSSLERIELLACEAE","GOSSLERIELLA"]
[null,null,null,null,null,null,null,null,null,null,null,null,null,null,null,null,null,null,null,null,null,null,null,null,null,null,null,null,null,null,null,null,null,null,null,null,"GRAMMATOPHORA","GRAMMATOPHORA","7035.46.43760","BACILLARIOPHYTA","BACILLARIOPHYCEAE",null,"GRAMMATOPHORACEAE"]
[null,null,null,null,null,null,null,null,null,null,null,null,null,null,null,null,null,null,null,null,null,null,null,null,null,null,null,null,null,null,null,null,null,null,null,null,"GRAMMATOPHORA MARINA","GRAMMATOPHORA MARINA","7035.55.162358","BACILLARIOPHYTA","BACILLARIOPHYCEAE",null,"STRIATELLACEAE","GRAMMATOPHORA"]
[null,null,null,null,null,null,null,null,null,null,null,null,null,null,null,null,null,null,null,null,null,null,null,null,null,null,null,null,null,null,null,null,null,null,null,null,"GUINARDIA","GUINARDIA","7035.46.44404","BACILLARIOPHYTA","COSCINODISCOPHYCEAE",null,"RHIZOSOLENIACEAE"]
[null,null,null,null,null,null,null,null,null,null,null,null,null,null,null,null,null,null,null,null,null,null,null,null,null,null,null,null,null,null,null,null,null,null,null,null,"GUINARDIA CYLINDRUS","GUINARDIA CYLINDRUS","7035.55.43910","BACILLARIOPHYTA","COSCINODISCOPHYCEAE",null,"RHIZOSOLENIACEAE","GUINARDIA"]
[null,null,null,null,null,null,null,null,null,null,null,null,null,null,null,null,null,null,null,null,null,null,null,null,null,null,null,null,null,null,null,null,null,null,null,null,"GUINARDIA DELICATULA","GUINARDIA DELICATULA","7035.55.43911","BACILLARIOPHYTA","COSCINODISCOPHYCEAE",null,"RHIZOSOLENIACEAE","GUINARDIA"]
[null,null,null,null,null,null,null,null,null,null,null,null,null,null,null,null,null,null,null,null,null,null,null,null,null,null,null,null,null,null,null,null,null,null,null,null,"GUINARDIA FLACCIDA","GUINARDIA FLACCIDA","7035.55.38263","BACILLARIOPHYTA","COSCINODISCOPHYCEAE",null,"RHIZOSOLENIACEAE","GUINARDIA"]
[null,null,null,null,null,null,null,null,null,null,null,null,null,null,null,null,null,null,null,null,null,null,null,null,null,null,null,null,null,null,null,null,null,null,null,null,"GUINARDIA STRIATA","GUINARDIA STRIATA","7035.55.43912","BACILLARIOPHYTA","COSCINODISCOPHYCEAE",null,"RHIZOSOLENIACEAE","GUINARDIA"]
[null,null,null,null,null,null,null,null,null,null,null,null,null,null,null,null,null,null,null,null,null,null,null,null,null,null,null,null,null,null,null,null,null,null,null,null,"GYMNODINIUM","GYMNODINIUM","7030.46.43632","MIOZOA","DINOPHYCEA",null,"GYMNODINIACEAE"]
[null,null,null,null,null,null,null,null,null,null,null,null,null,null,null,null,null,null,null,null,null,null,null,null,null,null,null,null,null,null,null,null,null,null,null,null,"GYMNODINIUM FISSUM","GYMNODINIUM FISSUM","7030.55.55257","MIOZOA","DINOPHYCEA",null,"DINOTRICHACEAE","GYMNODINIUM"]
[null,null,null,null,null,null,null,null,null,null,null,null,null,null,null,null,null,null,null,null,null,null,null,null,null,null,null,null,null,null,null,null,null,null,null,null,"GYRODINIUM","GYRODINIUM","7030.46.44553","MIOZOA",null,null,"GYMNODINIACEAE"]
[null,null,null,null,null,null,null,null,null,null,null,null,null,null,null,null,null,null,null,null,null,null,null,null,null,null,null,null,null,null,null,null,null,null,null,null,"GYROSIGMA","GYROSIGMA","7035.46.43743","BACILLARIOPHYTA","BACILLARIOPHYCEAE",null,"PLEUROSIGMATACEAE"]
[null,null,null,null,null,null,null,null,null,null,null,null,null,null,null,null,null,null,null,null,null,null,null,null,null,null,null,null,null,null,null,null,null,null,null,null,"GYROSIGMA BALTICUM","GYROSIGMA BALTICUM","7035.55.32034","BACILLARIOPHYTA","BACILLARIOPHYCEAE",null,"PLEUROSIGMATACEAE","GYROSIGMA"]
[null,null,null,null,null,null,null,null,null,null,null,null,null,null,null,null,null,null,null,null,null,null,null,null,null,null,null,null,null,null,null,null,null,null,null,null,"GYROSIGMA SIMILE","GYROSIGMA SIMILE","7035.55.140117","BACILLARIOPHYTA","BACILLARIOPHYCEAE",null,"PLEUROSIGMATACEAE","GYROSIGMA"]
[null,null,null,null,null,null,null,null,null,null,null,null,null,null,null,null,null,null,null,null,null,null,null,null,null,null,null,null,null,null,null,null,null,null,null,null,"GYROSIGMA TENUISSIMUM","GYROSIGMA TENUISSIMUM","7035.55.38283","BACILLARIOPHYTA",null,null,"PLEUROSIGMATACEAE","GYROSIGMA"]
[null,null,null,null,null,null,null,null,null,null,null,null,null,null,null,null,null,null,null,null,null,null,null,null,null,null,null,null,null,null,null,null,null,null,null,null,"HALAMPHORA","HALAMPHORA","7035.46.51072","BACILLARIOPHYTA",null,null,"AMPHIPLEURACEAE"]
[null,null,null,null,null,null,null,null,null,null,null,null,null,null,null,null,null,null,null,null,null,null,null,null,null,null,null,null,null,null,null,null,null,null,null,null,"HALAMPHORA COFFEAEFORMIS","HALAMPHORA COFFEAEFORMIS","7035.55.137855","BACILLARIOPHYTA",null,null,"AMPHIPLEURACEAE","HALAMPHORA"]
[null,null,null,null,null,null,null,null,null,null,null,null,null,null,null,null,null,null,null,null,null,null,null,null,null,null,null,null,null,null,null,null,null,null,null,null,"HALAMPHORA EXIGUA","HALAMPHORA EXIGUA","7035.55.137941","BACILLARIOPHYTA",null,null,"AMPHIPLEURACEAE","HALAMPHORA"]
[null,null,null,null,null,null,null,null,null,null,null,null,null,null,null,null,null,null,null,null,null,null,null,null,null,null,null,null,null,null,null,null,null,null,null,null,"HANTZSCHIA","HANTZSCHIA","7035.46.43679","BACILLARIOPHYTA","BACILLARIOPHYCEAE",null,"BACILLARIACEAE"]
[null,null,null,null,null,null,null,null,null,null,null,null,null,null,null,null,null,null,null,null,null,null,null,null,null,null,null,null,null,null,null,null,null,null,null,null,"HANTZSCHIA AMPHIOXYS","HANTZSCHIA AMPHIOXYS","7035.55.30979","BACILLARIOPHYTA","BACILLARIOPHYCEAE",null,"BACILLARIACEAE","HANTZSCHIA"]
[null,null,null,null,null,null,null,null,null,null,null,null,null,null,null,null,null,null,null,null,null,null,null,null,null,null,null,null,null,null,null,null,null,null,null,null,"HASLEA","HASLEA","7035.46.44195","BACILLARIOPHYTA","BACILLARIOPHYCEAE",null,"NAVICULACEAE"]
[null,null,null,null,null,null,null,null,null,null,null,null,null,null,null,null,null,null,null,null,null,null,null,null,null,null,null,null,null,null,null,null,null,null,null,null,"HASLEA WAWRIKAE","HASLEA WAWRIKAE","7035.55.59884","BACILLARIOPHYTA","BACILLARIOPHYCEAE",null,"NAVICULACEAE","HASLEA"]
[null,null,null,null,null,null,null,null,null,null,null,null,null,null,null,null,null,null,null,null,null,null,null,null,null,null,null,null,null,null,null,null,null,null,null,null,"HELICOTHECA","HELICOTHECA","7035.46.46453","BACILLARIOPHYTA",null,null,"LITHODESMIACEAE"]
[null,null,null,null,null,null,null,null,null,null,null,null,null,null,null,null,null,null,null,null,null,null,null,null,null,null,null,null,null,null,null,null,null,null,null,null,"HELICOTHECA TAMESIS","HELICOTHECA TAMESIS","7035.55.59778","BACILLARIOPHYTA",null,null,"LITHODESMIACEAE","HELICOTHECA"]
[null,null,null,null,null,null,null,null,null,null,null,null,null,null,null,null,null,null,null,null,null,null,null,null,null,null,null,null,null,null,null,null,null,null,null,null,"HEMIAULUS","HEMIAULUS","7035.46.44405","BACILLARIOPHYTA",null,null,"HEMIAULACEAE"]
[null,null,null,null,null,null,null,null,null,null,null,null,null,null,null,null,null,null,null,null,null,null,null,null,null,null,null,null,null,null,null,null,null,null,null,null,"HEMIAULUS HAUCKII","HEMIAULUS HAUCKII","7035.55.38301","BACILLARIOPHYTA","COSCINODISCOPHYCEAE",null,"HEMIAULACEAE","HEMIAULUS"]
[null,null,null,null,null,null,null,null,null,null,null,null,null,null,null,null,null,null,null,null,null,null,null,null,null,null,null,null,null,null,null,null,null,null,null,null,"HEMIAULUS MEMBRANACEUS","HEMIAULUS MEMBRANACEUS","7035.55.104520","BACILLARIOPHYTA","COSCINODISCOPHYCEAE",null,"HEMIAULACEAE","HEMIAULUS"]
[null,null,null,null,null,null,null,null,null,null,null,null,null,null,null,null,null,null,null,null,null,null,null,null,null,null,null,null,null,null,null,null,null,null,null,null,"HEMIAULUS SINENSIS","HEMIAULUS SINENSIS","7035.55.62284","BACILLARIOPHYTA","COSCINODISCOPHYCEAE",null,"HEMIAULACEAE","HEMIAULUS"]
[null,null,null,null,null,null,null,null,null,null,null,null,null,null,null,null,null,null,null,null,null,null,null,null,null,null,null,null,null,null,null,null,null,null,null,null,"HEMISELMIS","HEMISELMIS","4020.46.44556","CHLOROPHYTA",null,null,"CHROOMONADACEAE"]
[null,null,null,null,null,null,null,null,null,null,null,null,null,null,null,null,null,null,null,null,null,null,null,null,null,null,null,null,null,null,null,null,null,null,null,null,"HERMESINUM","HERMESINUM","7110.46.45630","CERCOZOA","THECOFILOSEA","EBRIIDA","EBRIOPSIDACEAE"]
[null,null,null,null,null,null,null,null,null,null,null,null,null,null,null,null,null,null,null,null,null,null,null,null,null,null,null,null,null,null,null,null,null,null,null,null,"HERMESINUM ADRIATICUM","HERMESINUM ADRIATICUM","7110.55.65001","CERCOZOA","THECOFILOSEA","EBRIIDA","EBRIOPSIDACEAE","HERMESINUM"]
[null,null,null,null,null,null,null,null,null,null,null,null,null,null,null,null,null,null,null,null,null,null,null,null,null,null,null,null,null,null,null,null,null,null,null,null,"HETEROCAPSA","HETEROCAPSA","7030.46.43347","MIOZOA",null,null,"HETEROCAPSACEAE"]
[null,null,null,null,null,null,null,null,null,null,null,null,null,null,null,null,null,null,null,null,null,null,null,null,null,null,null,null,null,null,null,null,null,null,null,null,"HETERODINIUM","HETERODINIUM","7030.46.44648","MIOZOA",null,null,"HETERODINIACEAE"]
[null,null,null,null,null,null,null,null,null,null,null,null,null,null,null,null,null,null,null,null,null,null,null,null,null,null,null,null,null,null,null,null,null,null,null,null,"HETERODINIUM ANGULATUM","HETERODINIUM ANGULATUM","7030.55.70738","MIOZOA",null,null,"HETERODINIACEAE","HETERODINIUM"]
[null,null,null,null,null,null,null,null,null,null,null,null,null,null,null,null,null,null,null,null,null,null,null,null,null,null,null,null,null,null,null,null,null,null,null,null,"HILLEA","HILLEA","7045.46.46603","CRYPTOPHYTA","CRYPTOPHYCEAE","CRYPTOMONADALES","HILLEACEAE"]
[null,null,null,null,null,null,null,null,null,null,null,null,null,null,null,null,null,null,null,null,null,null,null,null,null,null,null,null,null,null,null,null,null,null,null,null,"HISTIONEIS","HISTIONEIS","7030.46.44649","MIOZOA",null,null,"DINOPHYSIACEAE"]
[null,null,null,null,null,null,null,null,null,null,null,null,null,null,null,null,null,null,null,null,null,null,null,null,null,null,null,null,null,null,null,null,null,null,null,null,"HISTIONEIS MEGALOCOPA","HISTIONEIS MEGALOCOPA","7030.55.70124","MIOZOA",null,null,"DINOPHYSIACEAE","HISTIONEIS"]
[null,null,null,null,null,null,null,null,null,null,null,null,null,null,null,null,null,null,null,null,null,null,null,null,null,null,null,null,null,null,null,null,null,null,null,null,"HISTIONEIS OXYPTERIS","HISTIONEIS OXYPTERIS","7030.55.52460","MIOZOA",null,null,"DINOPHYSIACEAE","HISTIONEIS"]
[null,null,null,null,null,null,null,null,null,null,null,null,null,null,null,null,null,null,null,null,null,null,null,null,null,null,null,null,null,null,null,null,null,null,null,null,"HISTIONEIS PANARIA","HISTIONEIS PANARIA","7030.55.70132","MIOZOA",null,null,"DINOPHYSIACEAE","HISTIONEIS"]
[null,null,null,null,null,null,null,null,null,null,null,null,null,null,null,null,null,null,null,null,null,null,null,null,null,null,null,null,null,null,null,null,null,null,null,null,"HISTIONEIS PARA","HISTIONEIS PARA","7030.46.44670","MIOZOA",null,null,"DINOPHYSIACEAE"]
[null,null,null,null,null,null,null,null,null,null,null,null,null,null,null,null,null,null,null,null,null,null,null,null,null,null,null,null,null,null,null,null,null,null,null,null,"HISTIONEIS ROTUNDATA","HISTIONEIS ROTUNDATA","7030.55.70142","MIOZOA",null,null,"DINOPHYSIACEAE","HISTIONEIS"]
[null,null,null,null,null,null,null,null,null,null,null,null,null,null,null,null,null,null,null,null,null,null,null,null,null,null,null,null,null,null,null,null,null,null,null,null,"HISTIONEIS VARIABILIS","HISTIONEIS VARIABILIS","7030.55.52467","MIOZOA",null,null,"DINOPHYSIACEAE","HISTIONEIS"]
[null,null,null,null,null,null,null,null,null,null,null,null,null,null,null,null,null,null,null,null,null,null,null,null,null,null,null,null,null,null,null,null,null,null,null,null,"HUTTONIELLA","HUTTONIELLA","7035.46.44411","BACILLARIOPHYTA","COSCINODISCOPHYCEAE",null,"HEMIAULACEAE"]
[null,null,null,null,null,null,null,null,null,null,null,null,null,null,null,null,null,null,null,null,null,null,null,null,null,null,null,null,null,null,null,null,null,null,null,null,"HYALODISCUS","HYALODISCUS","7035.46.43723","BACILLARIOPHYTA","COSCINODISCOPHYCEAE",null,"HYALODISCACEAE"]
[null,null,null,null,null,null,null,null,null,null,null,null,null,null,null,null,null,null,null,null,null,null,null,null,null,null,null,null,null,null,null,null,null,null,null,null,"HYALOSIRA","HYALOSIRA","7035.46.44412","BACILLARIOPHYTA",null,null,"RHABDONEMATACEAE"]
[null,null,null,null,null,null,null,null,null,null,null,null,null,null,null,null,null,null,null,null,null,null,null,null,null,null,null,null,null,null,null,null,null,null,null,null,"HYALOSIRA INTERRUPTA","HYALOSIRA INTERRUPTA","7035.55.162831","BACILLARIOPHYTA",null,null,"RHABDONEMATACEAE","HYALOSIRA"]
[null,null,null,null,null,null,null,null,null,null,null,null,null,null,null,null,null,null,null,null,null,null,null,null,null,null,null,null,null,null,null,null,null,null,null,null,"ISTHMIA","ISTHMIA","7035.46.44413","BACILLARIOPHYTA","COSCINODISCOPHYCEAE",null,"BIDDULPHIACEAE"]
[null,null,null,null,null,null,null,null,null,null,null,null,null,null,null,null,null,null,null,null,null,null,null,null,null,null,null,null,null,null,null,null,null,null,null,null,"ISTHMIA ENERVIS","ISTHMIA ENERVIS","7035.55.139592","BACILLARIOPHYTA","COSCINODISCOPHYCEAE",null,"BIDDULPHIACEAE","ISTHMIA"]
[null,null,null,null,null,null,null,null,null,null,null,null,null,null,null,null,null,null,null,null,null,null,null,null,null,null,null,null,null,null,null,null,null,null,null,null,"ISTHMIA MINIMA","ISTHMIA MINIMA","7035.55.105103","BACILLARIOPHYTA","COSCINODISCOPHYCEAE",null,"BIDDULPHIACEAE","ISTHMIA"]
[null,null,null,null,null,null,null,null,null,null,null,null,null,null,null,null,null,null,null,null,null,null,null,null,null,null,null,null,null,null,null,null,null,null,null,null,"KARENIA","KARENIA","7030.46.45696","MIOZOA",null,null,"BRACHIDINIACEAE"]
[null,null,null,null,null,null,null,null,null,null,null,null,null,null,null,null,null,null,null,null,null,null,null,null,null,null,null,null,null,null,null,null,null,null,null,null,"KATODINIUM","KATODINIUM","7030.46.43633","MIOZOA",null,null,"TOVELLIACEAE"]
[null,null,null,null,null,null,null,null,null,null,null,null,null,null,null,null,null,null,null,null,null,null,null,null,null,null,null,null,null,null,null,null,null,null,null,null,"KIRCHNERIELLA","KIRCHNERIELLA","4020.46.43436","CHLOROPHYTA","CHLOROPHYCEAE",null,"SELENASTRACEAE"]
[null,null,null,null,null,null,null,null,null,null,null,null,null,null,null,null,null,null,null,null,null,null,null,null,null,null,null,null,null,null,null,null,null,null,null,null,"KOFOIDINIUM","KOFOIDINIUM","7030.46.44650","MIOZOA",null,null,"KOFOIDINIACEAE"]
[null,null,null,null,null,null,null,null,null,null,null,null,null,null,null,null,null,null,null,null,null,null,null,null,null,null,null,null,null,null,null,null,null,null,null,null,"KOFOIDINIUM VELLELOIDES","KOFOIDINIUM VELLELOIDES","7030.55.70590","MIOZOA",null,null,"KOFOIDINIACEAE","KOFOIDINIUM"]
[null,null,null,null,null,null,null,null,null,null,null,null,null,null,null,null,null,null,null,null,null,null,null,null,null,null,null,null,null,null,null,null,null,null,null,null,"KOMVOPHORON","KOMVOPHORON","5040.46.44054","CYANOBACTERIA",null,null,"BORZIACEAE"]
[null,null,null,null,null,null,null,null,null,null,null,null,null,null,null,null,null,null,null,null,null,null,null,null,null,null,null,null,null,null,null,null,null,null,null,null,"KOMVOPHORON CRASSUM","KOMVOPHORON CRASSUM","5040.55.66711","CYANOBACTERIA",null,null,"BORZIACEAE","KOMVOPHORON"]
[null,null,null,null,null,null,null,null,null,null,null,null,null,null,null,null,null,null,null,null,null,null,null,null,null,null,null,null,null,null,null,null,null,null,null,null,"LAMPRISCUS","LAMPRISCUS","7035.46.46622","BACILLARIOPHYTA",null,null,"BIDDULPHIACEAE"]
[null,null,null,null,null,null,null,null,null,null,null,null,null,null,null,null,null,null,null,null,null,null,null,null,null,null,null,null,null,null,null,null,null,null,null,null,"LAUDERIA","LAUDERIA","7035.46.44416","BACILLARIOPHYTA","COSCINODISCOPHYCEAE",null,"LAUDERIACEAE"]
[null,null,null,null,null,null,null,null,null,null,null,null,null,null,null,null,null,null,null,null,null,null,null,null,null,null,null,null,null,null,null,null,null,null,null,null,"LAUDERIA ANNULATA","LAUDERIA ANNULATA","7035.55.59208","BACILLARIOPHYTA","COSCINODISCOPHYCEAE",null,"LAUDERIACEAE","LAUDERIA"]
[null,null,null,null,null,null,null,null,null,null,null,null,null,null,null,null,null,null,null,null,null,null,null,null,null,null,null,null,null,null,null,null,null,null,null,null,"LEPOCINCLIS","LEPOCINCLIS","4030.46.43653","EUGLENOZOA","EUGLENOPHYCEAE",null,"PHACACEAE"]
[null,null,null,null,null,null,null,null,null,null,null,null,null,null,null,null,null,null,null,null,null,null,null,null,null,null,null,null,null,null,null,null,null,null,null,null,"LEPTOCYLINDRUS","LEPTOCYLINDRUS","7035.46.44417","BACILLARIOPHYTA",null,null,"LEPTOCYLINDRACEAE"]
[null,null,null,null,null,null,null,null,null,null,null,null,null,null,null,null,null,null,null,null,null,null,null,null,null,null,null,null,null,null,null,null,null,null,null,null,"LEPTOCYLINDRUS DANICUS","LEPTOCYLINDRUS DANICUS","7035.55.169618","BACILLARIOPHYTA",null,null,"LEPTOCYLINDRACEAE","LEPTOCYLINDRUS"]
[null,null,null,null,null,null,null,null,null,null,null,null,null,null,null,null,null,null,null,null,null,null,null,null,null,null,null,null,null,null,null,null,null,null,null,null,"LEPTOCYLINDRUS MEDITERRANEUS","LEPTOCYLINDRUS MEDITERRANEUS","7035.55.56332","BACILLARIOPHYTA",null,null,"LEPTOCYLINDRACEAE","LEPTOCYLINDRUS"]
[null,null,null,null,null,null,null,null,null,null,null,null,null,null,null,null,null,null,null,null,null,null,null,null,null,null,null,null,null,null,null,null,null,null,null,null,"LEPTOCYLINDRUS MINIMUS","LEPTOCYLINDRUS MINIMUS","7035.55.38351","BACILLARIOPHYTA",null,null,"LEPTOCYLINDRACEAE","LEPTOCYLINDRUS"]
[null,null,null,null,null,null,null,null,null,null,null,null,null,null,null,null,null,null,null,null,null,null,null,null,null,null,null,null,null,null,null,null,null,null,null,null,"LEPTOLYNGBYA","LEPTOLYNGBYA","5040.46.43604","CYANOBACTERIA",null,null,"LEPTOLYNGBYACEAE"]
[null,null,null,null,null,null,null,null,null,null,null,null,null,null,null,null,null,null,null,null,null,null,null,null,null,null,null,null,null,null,null,null,null,null,null,null,"LICMOPHORA","LICMOPHORA","7035.46.43724","BACILLARIOPHYTA","BACILLARIOPHYCEAE",null,"LICMOPHORACEAE"]
[null,null,null,null,null,null,null,null,null,null,null,null,null,null,null,null,null,null,null,null,null,null,null,null,null,null,null,null,null,null,null,null,null,null,null,null,"LICMOPHORA FLABELLATA","LICMOPHORA FLABELLATA","7035.55.31614","BACILLARIOPHYTA","BACILLARIOPHYCEAE",null,"LICMOPHORACEAE","LICMOPHORA"]
[null,null,null,null,null,null,null,null,null,null,null,null,null,null,null,null,null,null,null,null,null,null,null,null,null,null,null,null,null,null,null,null,null,null,null,null,"LICMOPHORA HYALINA","LICMOPHORA HYALINA","7035.55.38363","BACILLARIOPHYTA","BACILLARIOPHYCEAE",null,"LICMOPHORACEAE","LICMOPHORA"]
[null,null,null,null,null,null,null,null,null,null,null,null,null,null,null,null,null,null,null,null,null,null,null,null,null,null,null,null,null,null,null,null,null,null,null,null,"LICMOPHORA LYNGBYEI","LICMOPHORA LYNGBYEI","7035.55.173781","BACILLARIOPHYTA","BACILLARIOPHYCEAE",null,"LICMOPHORACEAE","LICMOPHORA"]
[null,null,null,null,null,null,null,null,null,null,null,null,null,null,null,null,null,null,null,null,null,null,null,null,null,null,null,null,null,null,null,null,null,null,null,null,"LICMOPHORA PARADOXA","LICMOPHORA PARADOXA","7035.55.171305","BACILLARIOPHYTA","BACILLARIOPHYCEAE",null,"LICMOPHORACEAE","LICMOPHORA"]
[null,null,null,null,null,null,null,null,null,null,null,null,null,null,null,null,null,null,null,null,null,null,null,null,null,null,null,null,null,null,null,null,null,null,null,null,"LICMOPHORA REMULUS","LICMOPHORA REMULUS","7035.55.130165","BACILLARIOPHYTA","BACILLARIOPHYCEAE",null,"LICMOPHORACEAE","LICMOPHORA"]
[null,null,null,null,null,null,null,null,null,null,null,null,null,null,null,null,null,null,null,null,null,null,null,null,null,null,null,null,null,null,null,null,null,null,null,null,"LICMOSPHENIA","LICMOSPHENIA","7035.46.46645","BACILLARIOPHYTA",null,null,"LICMOPHORACEAE"]
[null,null,null,null,null,null,null,null,null,null,null,null,null,null,null,null,null,null,null,null,null,null,null,null,null,null,null,null,null,null,null,null,null,null,null,null,"LICMOSPHENIA CLEVEI","LICMOSPHENIA CLEVEI","7035.55.61591","BACILLARIOPHYTA",null,null,"LICMOPHORACEAE","LICMOSPHENIA"]
[null,null,null,null,null,null,null,null,null,null,null,null,null,null,null,null,null,null,null,null,null,null,null,null,null,null,null,null,null,null,null,null,null,null,null,null,"LICMOSPHENIA GRUNOWII","LICMOSPHENIA GRUNOWII","7035.55.133029","BACILLARIOPHYTA",null,null,"LICMOPHORACEAE","LICMOSPHENIA"]
[null,null,null,null,null,null,null,null,null,null,null,null,null,null,null,null,null,null,null,null,null,null,null,null,null,null,null,null,null,null,null,null,null,null,null,null,"LIMNOTHRIX","LIMNOTHRIX","5040.46.43606","CYANOBACTERIA",null,null,"PSEUDANABAENACEAE"]
[null,null,null,null,null,null,null,null,null,null,null,null,null,null,null,null,null,null,null,null,null,null,null,null,null,null,null,null,null,null,null,null,null,null,null,null,"LIMNOTHRIX PLANCTONICA","LIMNOTHRIX PLANCTONICA","5040.55.66726","CYANOBACTERIA",null,null,"PSEUDANABAENACEAE","LIMNOTHRIX"]
[null,null,null,null,null,null,null,null,null,null,null,null,null,null,null,null,null,null,null,null,null,null,null,null,null,null,null,null,null,null,null,null,null,null,null,null,"LINGULODINIUM","LINGULODINIUM","7030.46.45755","MIOZOA",null,null,"GONYAULACACEAE"]
[null,null,null,null,null,null,null,null,null,null,null,null,null,null,null,null,null,null,null,null,null,null,null,null,null,null,null,null,null,null,null,null,null,null,null,null,"LINGULODINIUM MILNERI","LINGULODINIUM MILNERI","7030.55.70724","MIOZOA",null,null,"GONYAULACACEAE","LINGULODINIUM"]
[null,null,null,null,null,null,null,null,null,null,null,null,null,null,null,null,null,null,null,null,null,null,null,null,null,null,null,null,null,null,null,null,null,null,null,null,"LINGULODINIUM POLYEDRUM","LINGULODINIUM POLYEDRUM","7030.55.44594","MIOZOA",null,null,"GONYAULACACEAE","LINGULODINIUM"]
[null,null,null,null,null,null,null,null,null,null,null,null,null,null,null,null,null,null,null,null,null,null,null,null,null,null,null,null,null,null,null,null,null,null,null,null,"LIOLOMA","LIOLOMA","7035.46.45756","BACILLARIOPHYTA","BACILLARIOPHYCEAE",null,"THALASSIONEMATACEAE"]
[null,null,null,null,null,null,null,null,null,null,null,null,null,null,null,null,null,null,null,null,null,null,null,null,null,null,null,null,null,null,null,null,null,null,null,null,"LIOLOMA ELONGATUM","LIOLOMA ELONGATUM","7035.55.44596","BACILLARIOPHYTA","BACILLARIOPHYCEAE",null,"THALASSIONEMATACEAE","LIOLOMA"]
[null,null,null,null,null,null,null,null,null,null,null,null,null,null,null,null,null,null,null,null,null,null,null,null,null,null,null,null,null,null,null,null,null,null,null,null,"LIOLOMA PACIFICUM","LIOLOMA PACIFICUM","7035.55.44597","BACILLARIOPHYTA","BACILLARIOPHYCEAE",null,"THALASSIONEMATACEAE","LIOLOMA"]
[null,null,null,null,null,null,null,null,null,null,null,null,null,null,null,null,null,null,null,null,null,null,null,null,null,null,null,null,null,null,null,null,null,null,null,null,"LITHODESMIUM","LITHODESMIUM","7035.46.44419","BACILLARIOPHYTA","COSCINODISCOPHYCEAE",null,"LITHODESMIACEAE"]
[null,null,null,null,null,null,null,null,null,null,null,null,null,null,null,null,null,null,null,null,null,null,null,null,null,null,null,null,null,null,null,null,null,null,null,null,"LITHODESMIUM UNDULATUM","LITHODESMIUM UNDULATUM","7035.55.38373","BACILLARIOPHYTA","COSCINODISCOPHYCEAE",null,"LITHODESMIACEAE","LITHODESMIUM"]
[null,null,null,null,null,null,null,null,null,null,null,null,null,null,null,null,null,null,null,null,null,null,null,null,null,null,null,null,null,null,null,null,null,null,null,null,"LYNGBYA","LYNGBYA","5040.46.42975","CYANOBACTERIA",null,null,"OSCILLATORIACEAE"]
[null,null,null,null,null,null,null,null,null,null,null,null,null,null,null,null,null,null,null,null,null,null,null,null,null,null,null,null,null,null,null,null,null,null,null,null,"LYRELLA","LYRELLA","7035.46.43725","BACILLARIOPHYTA","BACILLARIOPHYCEAE",null,"LYRELLACEAE"]
[null,null,null,null,null,null,null,null,null,null,null,null,null,null,null,null,null,null,null,null,null,null,null,null,null,null,null,null,null,null,null,null,null,null,null,null,"LYRELLA CLAVATA","LYRELLA CLAVATA","7035.55.162432","BACILLARIOPHYTA","BACILLARIOPHYCEAE",null,"LYRELLACEAE","LYRELLA"]
[null,null,null,null,null,null,null,null,null,null,null,null,null,null,null,null,null,null,null,null,null,null,null,null,null,null,null,null,null,null,null,null,null,null,null,null,"LYRELLA GENIFERA","LYRELLA GENIFERA","7035.55.44751","BACILLARIOPHYTA","BACILLARIOPHYCEAE",null,"LYRELLACEAE","LYRELLA"]
[null,null,null,null,null,null,null,null,null,null,null,null,null,null,null,null,null,null,null,null,null,null,null,null,null,null,null,null,null,null,null,null,null,null,null,null,"LYRELLA HENNEDYI","LYRELLA HENNEDYI","7035.55.173587","BACILLARIOPHYTA","BACILLARIOPHYCEAE",null,"LYRELLACEAE","LYRELLA"]
[null,null,null,null,null,null,null,null,null,null,null,null,null,null,null,null,null,null,null,null,null,null,null,null,null,null,null,null,null,null,null,null,null,null,null,null,"LYRELLA LYRA","LYRELLA LYRA","7035.55.143634","BACILLARIOPHYTA","BACILLARIOPHYCEAE",null,"LYRELLACEAE","LYRELLA"]
[null,null,null,null,null,null,null,null,null,null,null,null,null,null,null,null,null,null,null,null,null,null,null,null,null,null,null,null,null,null,null,null,null,null,null,null,"MASTOGLOIA","MASTOGLOIA","7035.46.43726","BACILLARIOPHYTA","BACILLARIOPHYCEAE",null,"MASTOGLOIACEAE"]
[null,null,null,null,null,null,null,null,null,null,null,null,null,null,null,null,null,null,null,null,null,null,null,null,null,null,null,null,null,null,null,null,null,null,null,null,"MASTOGLOIA ANGULATA","MASTOGLOIA ANGULATA","7035.55.38391","BACILLARIOPHYTA","BACILLARIOPHYCEAE",null,"MASTOGLOIACEAE","MASTOGLOIA"]
[null,null,null,null,null,null,null,null,null,null,null,null,null,null,null,null,null,null,null,null,null,null,null,null,null,null,null,null,null,null,null,null,null,null,null,null,"MASTOGLOIA APICULATA","MASTOGLOIA APICULATA","7035.55.38393","BACILLARIOPHYTA","BACILLARIOPHYCEAE",null,"MASTOGLOIACEAE","MASTOGLOIA"]
[null,null,null,null,null,null,null,null,null,null,null,null,null,null,null,null,null,null,null,null,null,null,null,null,null,null,null,null,null,null,null,null,null,null,null,null,"MASTOGLOIA CRIBROSA","MASTOGLOIA CRIBROSA","7035.55.143601","BACILLARIOPHYTA","BACILLARIOPHYCEAE",null,"MASTOGLOIACEAE","MASTOGLOIA"]
[null,null,null,null,null,null,null,null,null,null,null,null,null,null,null,null,null,null,null,null,null,null,null,null,null,null,null,null,null,null,null,null,null,null,null,null,"MASTOGLOIA ERYTHRAEA","MASTOGLOIA ERYTHRAEA","7035.55.44866","BACILLARIOPHYTA","BACILLARIOPHYCEAE",null,"MASTOGLOIACEAE","MASTOGLOIA"]
[null,null,null,null,null,null,null,null,null,null,null,null,null,null,null,null,null,null,null,null,null,null,null,null,null,null,null,null,null,null,null,null,null,null,null,null,"MASTOGLOIA FIMBRIATA","MASTOGLOIA FIMBRIATA","7035.55.130215","BACILLARIOPHYTA","BACILLARIOPHYCEAE",null,"MASTOGLOIACEAE","MASTOGLOIA"]
[null,null,null,null,null,null,null,null,null,null,null,null,null,null,null,null,null,null,null,null,null,null,null,null,null,null,null,null,null,null,null,null,null,null,null,null,"MASTOGLOIA PUNCTATISSIMA","MASTOGLOIA PUNCTATISSIMA","7035.55.143694","BACILLARIOPHYTA","BACILLARIOPHYCEAE",null,"MASTOGLOIACEAE","MASTOGLOIA"]
[null,null,null,null,null,null,null,null,null,null,null,null,null,null,null,null,null,null,null,null,null,null,null,null,null,null,null,null,null,null,null,null,null,null,null,null,"MASTOGLOIA PUSILLA","MASTOGLOIA PUSILLA","7035.55.143617","BACILLARIOPHYTA","BACILLARIOPHYCEAE",null,"MASTOGLOIACEAE","MASTOGLOIA"]
[null,null,null,null,null,null,null,null,null,null,null,null,null,null,null,null,null,null,null,null,null,null,null,null,null,null,null,null,null,null,null,null,null,null,null,null,"MASTOGLOIA SMITHII","MASTOGLOIA SMITHII","7035.55.165990","BACILLARIOPHYTA","BACILLARIOPHYCEAE",null,"MASTOGLOIACEAE","MASTOGLOIA"]
[null,null,null,null,null,null,null,null,null,null,null,null,null,null,null,null,null,null,null,null,null,null,null,null,null,null,null,null,null,null,null,null,null,null,null,null,"MEDIOPHYCEAE","MEDIOPHYCEAE","7035.12.139117","BACILLARIOPHYTA","MEDIOPHYCEAE"]
[null,null,null,null,null,null,null,null,null,null,null,null,null,null,null,null,null,null,null,null,null,null,null,null,null,null,null,null,null,null,null,null,null,null,null,null,"MELOSIRA","MELOSIRA","7035.46.43727","BACILLARIOPHYTA","COSCINODISCOPHYCEAE",null,"MELOSIRACEAE"]
[null,null,null,null,null,null,null,null,null,null,null,null,null,null,null,null,null,null,null,null,null,null,null,null,null,null,null,null,null,null,null,null,null,null,null,null,"MELOSIRA MONILIFORMIS","MELOSIRA MONILIFORMIS","7035.55.31647","BACILLARIOPHYTA","COSCINODISCOPHYCEAE",null,"MELOSIRACEAE","MELOSIRA"]
[null,null,null,null,null,null,null,null,null,null,null,null,null,null,null,null,null,null,null,null,null,null,null,null,null,null,null,null,null,null,null,null,null,null,null,null,"MELOSIRA NUMMULOIDES","MELOSIRA NUMMULOIDES","7035.55.107816","BACILLARIOPHYTA","COSCINODISCOPHYCEAE",null,"MELOSIRACEAE","MELOSIRA"]
[null,null,null,null,null,null,null,null,null,null,null,null,null,null,null,null,null,null,null,null,null,null,null,null,null,null,null,null,null,null,null,null,null,null,null,null,"MELOSIRA PSEUDOGRANULATA","MELOSIRA PSEUDOGRANULATA","7035.55.113898","BACILLARIOPHYTA","COSCINODISCOPHYCEAE",null,"MELOSIRACEAE","MELOSIRA"]
[null,null,null,null,null,null,null,null,null,null,null,null,null,null,null,null,null,null,null,null,null,null,null,null,null,null,null,null,null,null,null,null,null,null,null,null,"MEMBRANEIS","MEMBRANEIS","7035.46.45808","BACILLARIOPHYTA","BACILLARIOPHYCEAE",null,"NAVICULACEAE"]
[null,null,null,null,null,null,null,null,null,null,null,null,null,null,null,null,null,null,null,null,null,null,null,null,null,null,null,null,null,null,null,null,null,null,null,null,"MERISMOPEDIA","MERISMOPEDIA","5040.46.43071","CYANOBACTERIA",null,null,"MERISMOPEDIACEAE"]
[null,null,null,null,null,null,null,null,null,null,null,null,null,null,null,null,null,null,null,null,null,null,null,null,null,null,null,null,null,null,null,null,null,null,null,null,"MEUNIERA","MEUNIERA","7035.46.45822","BACILLARIOPHYTA","BACILLARIOPHYCEAE",null,"NAVICULACEAE"]
[null,null,null,null,null,null,null,null,null,null,null,null,null,null,null,null,null,null,null,null,null,null,null,null,null,null,null,null,null,null,null,null,null,null,null,null,"MEUNIERA MEMBRANACEA","MEUNIERA MEMBRANACEA","7035.55.45020","BACILLARIOPHYTA","BACILLARIOPHYCEAE",null,"NAVICULACEAE","MEUNIERA"]
[null,null,null,null,null,null,null,null,null,null,null,null,null,null,null,null,null,null,null,null,null,null,null,null,null,null,null,null,null,null,null,null,null,null,null,null,"MICROCYSTIS","MICROCYSTIS","5040.46.43294","CYANOBACTERIA","CYANOPHYCEAE",null,"MICROCYSTACEAE"]
[null,null,null,null,null,null,null,null,null,null,null,null,null,null,null,null,null,null,null,null,null,null,null,null,null,null,null,null,null,null,null,null,null,null,null,null,"MICROTABELLA","MICROTABELLA","7035.46.44420","BACILLARIOPHYTA","BACILLARIOPHYCEAE",null,"STRIATELLACEAE"]
[null,null,null,null,null,null,null,null,null,null,null,null,null,null,null,null,null,null,null,null,null,null,null,null,null,null,null,null,null,null,null,null,null,null,null,null,"MONOMORPHINA","MONOMORPHINA","4030.46.45850","EUGLENOZOA","EUGLENOPHYCEAE",null,"EUGLENACEAE"]
[null,null,null,null,null,null,null,null,null,null,null,null,null,null,null,null,null,null,null,null,null,null,null,null,null,null,null,null,null,null,null,null,null,null,null,null,"MONORAPHIDIUM","MONORAPHIDIUM","4020.46.43438","CHLOROPHYTA","CHLOROPHYCEAE",null,"SELENASTRACEAE"]
[null,null,null,null,null,null,null,null,null,null,null,null,null,null,null,null,null,null,null,null,null,null,null,null,null,null,null,null,null,null,null,null,null,null,null,null,"MOUGEOTIA","MOUGEOTIA","2024.46.51492","CHAROPHYTA","CONJUGATOPHYCEAE",null,"ZYGNEMATACEAE"]
[null,null,null,null,null,null,null,null,null,null,null,null,null,null,null,null,null,null,null,null,null,null,null,null,null,null,null,null,null,null,null,null,null,null,null,null,"NAVICULA","NAVICULA","7035.46.43698","BACILLARIOPHYTA","BACILLARIOPHYCEAE",null,"NAVICULACEAE"]
[null,null,null,null,null,null,null,null,null,null,null,null,null,null,null,null,null,null,null,null,null,null,null,null,null,null,null,null,null,null,null,null,null,null,null,null,"NAVICULA ABUNDA","NAVICULA ABUNDA","7035.55.74253","BACILLARIOPHYTA","BACILLARIOPHYCEAE",null,"NAVICULACEAE","NAVICULA"]
[null,null,null,null,null,null,null,null,null,null,null,null,null,null,null,null,null,null,null,null,null,null,null,null,null,null,null,null,null,null,null,null,null,null,null,null,"NAVICULA BRASILIENSIS","NAVICULA BRASILIENSIS","7035.55.80754","BACILLARIOPHYTA","BACILLARIOPHYCEAE",null,"NAVICULACEAE","NAVICULA"]
[null,null,null,null,null,null,null,null,null,null,null,null,null,null,null,null,null,null,null,null,null,null,null,null,null,null,null,null,null,null,null,null,null,null,null,null,"NAVICULA CANCELLATA","NAVICULA CANCELLATA","7035.55.38684","BACILLARIOPHYTA","BACILLARIOPHYCEAE",null,"NAVICULACEAE","NAVICULA"]
[null,null,null,null,null,null,null,null,null,null,null,null,null,null,null,null,null,null,null,null,null,null,null,null,null,null,null,null,null,null,null,null,null,null,null,null,"NAVICULA DELICATULA","NAVICULA DELICATULA","7035.55.87539","BACILLARIOPHYTA","BACILLARIOPHYCEAE",null,"NAVICULACEAE","NAVICULA"]
[null,null,null,null,null,null,null,null,null,null,null,null,null,null,null,null,null,null,null,null,null,null,null,null,null,null,null,null,null,null,null,null,null,null,null,null,"NAVICULA DIGITO-RADIATA","NAVICULA DIGITO-RADIATA","7035.55.88386","BACILLARIOPHYTA","BACILLARIOPHYCEAE",null,"NAVICULACEAE","NAVICULA"]
[null,null,null,null,null,null,null,null,null,null,null,null,null,null,null,null,null,null,null,null,null,null,null,null,null,null,null,null,null,null,null,null,null,null,null,null,"NAVICULA DIRECTA","NAVICULA DIRECTA","7035.55.88583","BACILLARIOPHYTA","BACILLARIOPHYCEAE",null,"NAVICULACEAE","NAVICULA"]
[null,null,null,null,null,null,null,null,null,null,null,null,null,null,null,null,null,null,null,null,null,null,null,null,null,null,null,null,null,null,null,null,null,null,null,null,"NAVICULA RADIOSA","NAVICULA RADIOSA","7035.55.115518","BACILLARIOPHYTA","BACILLARIOPHYCEAE",null,"NAVICULACEAE","NAVICULA"]
[null,null,null,null,null,null,null,null,null,null,null,null,null,null,null,null,null,null,null,null,null,null,null,null,null,null,null,null,null,null,null,null,null,null,null,null,"NAVICULA TERSA","NAVICULA TERSA","7035.55.45490","BACILLARIOPHYTA","BACILLARIOPHYCEAE",null,"NAVICULACEAE","NAVICULA"]
[null,null,null,null,null,null,null,null,null,null,null,null,null,null,null,null,null,null,null,null,null,null,null,null,null,null,null,null,null,null,null,null,null,null,null,null,"NAVICULA UNISERIATA","NAVICULA UNISERIATA","7035.55.126206","BACILLARIOPHYTA","BACILLARIOPHYCEAE",null,"NAVICULACEAE","NAVICULA"]
[null,null,null,null,null,null,null,null,null,null,null,null,null,null,null,null,null,null,null,null,null,null,null,null,null,null,null,null,null,null,null,null,null,null,null,null,"NEOCALYPTRELLA","NEOCALYPTRELLA","7035.46.45877","BACILLARIOPHYTA","COSCINODISCOPHYCEAE",null,"RHIZOSOLENIACEAE"]
[null,null,null,null,null,null,null,null,null,null,null,null,null,null,null,null,null,null,null,null,null,null,null,null,null,null,null,null,null,null,null,null,null,null,null,null,"NEOCALYPTRELLA ROBUSTA","NEOCALYPTRELLA ROBUSTA","7035.55.45601","BACILLARIOPHYTA","COSCINODISCOPHYCEAE",null,"RHIZOSOLENIACEAE","NEOCALYPTRELLA"]
[null,null,null,null,null,null,null,null,null,null,null,null,null,null,null,null,null,null,null,null,null,null,null,null,null,null,null,null,null,null,null,null,null,null,null,null,"NEOCERATIUM","NEOCERATIUM","7030.46.50884","MIOZOA","DINOPHYCEAE",null,"CERATIACEAE"]
[null,null,null,null,null,null,null,null,null,null,null,null,null,null,null,null,null,null,null,null,null,null,null,null,null,null,null,null,null,null,null,null,null,null,null,null,"NEOCERATIUM ARIETINUM","NEOCERATIUM ARIETINUM","7030.55.169684","MIOZOA","DINOPHYCEAE",null,"CERATIACEAE","NEOCERATIUM"]
[null,null,null,null,null,null,null,null,null,null,null,null,null,null,null,null,null,null,null,null,null,null,null,null,null,null,null,null,null,null,null,null,null,null,null,null,"NEOCERATIUM AZORICUM","NEOCERATIUM AZORICUM","7030.55.135167","MIOZOA","DINOPHYCEAE",null,"CERATIACEAE","NEOCERATIUM"]
[null,null,null,null,null,null,null,null,null,null,null,null,null,null,null,null,null,null,null,null,null,null,null,null,null,null,null,null,null,null,null,null,null,null,null,null,"NEOCERATIUM BELONE","NEOCERATIUM BELONE","7030.55.135169","MIOZOA","DINOPHYCEAE",null,"CERATIACEAE","NEOCERATIUM"]
[null,null,null,null,null,null,null,null,null,null,null,null,null,null,null,null,null,null,null,null,null,null,null,null,null,null,null,null,null,null,null,null,null,null,null,null,"NEOCERATIUM BIGELOWII","NEOCERATIUM BIGELOWII","7030.55.135171","MIOZOA","DINOPHYCEAE",null,"CERATIACEAE","NEOCERATIUM"]
[null,null,null,null,null,null,null,null,null,null,null,null,null,null,null,null,null,null,null,null,null,null,null,null,null,null,null,null,null,null,null,null,null,null,null,null,"NEOCERATIUM BREVE","NEOCERATIUM BREVE","7030.55.135172","MIOZOA","DINOPHYCEAE",null,"CERATIACEAE","NEOCERATIUM"]
[null,null,null,null,null,null,null,null,null,null,null,null,null,null,null,null,null,null,null,null,null,null,null,null,null,null,null,null,null,null,null,null,null,null,null,null,"NEOCERATIUM CANDELABRUM","NEOCERATIUM CANDELABRUM","7030.55.135174","MIOZOA","DINOPHYCEAE",null,"CERATIACEAE","NEOCERATIUM"]
[null,null,null,null,null,null,null,null,null,null,null,null,null,null,null,null,null,null,null,null,null,null,null,null,null,null,null,null,null,null,null,null,null,null,null,null,"NEOCERATIUM CARNEGIEI","NEOCERATIUM CARNEGIEI","7030.55.135175","MIOZOA","DINOPHYCEAE",null,"CERATIACEAE","NEOCERATIUM"]
[null,null,null,null,null,null,null,null,null,null,null,null,null,null,null,null,null,null,null,null,null,null,null,null,null,null,null,null,null,null,null,null,null,null,null,null,"NEOCERATIUM CARRIENSE","NEOCERATIUM CARRIENSE","7030.55.135176","MIOZOA","DINOPHYCEAE",null,"CERATIACEAE","NEOCERATIUM"]
[null,null,null,null,null,null,null,null,null,null,null,null,null,null,null,null,null,null,null,null,null,null,null,null,null,null,null,null,null,null,null,null,null,null,null,null,"NEOCERATIUM CONCILIANS","NEOCERATIUM CONCILIANS","7030.55.135179","MIOZOA","DINOPHYCEAE",null,"CERATIACEAE","NEOCERATIUM"]
[null,null,null,null,null,null,null,null,null,null,null,null,null,null,null,null,null,null,null,null,null,null,null,null,null,null,null,null,null,null,null,null,null,null,null,null,"NEOCERATIUM CONTORTUM","NEOCERATIUM CONTORTUM","7030.55.135180","MIOZOA","DINOPHYCEAE",null,"CERATIACEAE","NEOCERATIUM"]
[null,null,null,null,null,null,null,null,null,null,null,null,null,null,null,null,null,null,null,null,null,null,null,null,null,null,null,null,null,null,null,null,null,null,null,null,"NEOCERATIUM CONTRARIUM","NEOCERATIUM CONTRARIUM","7030.55.135181","MIOZOA","DINOPHYCEAE",null,"CERATIACEAE","NEOCERATIUM"]
[null,null,null,null,null,null,null,null,null,null,null,null,null,null,null,null,null,null,null,null,null,null,null,null,null,null,null,null,null,null,null,null,null,null,null,null,"NEOCERATIUM DECLINATUM","NEOCERATIUM DECLINATUM","7030.55.135182","MIOZOA","DINOPHYCEAE",null,"CERATIACEAE","NEOCERATIUM"]
[null,null,null,null,null,null,null,null,null,null,null,null,null,null,null,null,null,null,null,null,null,null,null,null,null,null,null,null,null,null,null,null,null,null,null,null,"NEOCERATIUM DEFLEXUM","NEOCERATIUM DEFLEXUM","7030.55.135183","MIOZOA","DINOPHYCEAE",null,"CERATIACEAE","NEOCERATIUM"]
[null,null,null,null,null,null,null,null,null,null,null,null,null,null,null,null,null,null,null,null,null,null,null,null,null,null,null,null,null,null,null,null,null,null,null,null,"NEOCERATIUM DENS","NEOCERATIUM DENS","7030.55.135184","MIOZOA","DINOPHYCEAE",null,"CERATIACEAE","NEOCERATIUM"]
[null,null,null,null,null,null,null,null,null,null,null,null,null,null,null,null,null,null,null,null,null,null,null,null,null,null,null,null,null,null,null,null,null,null,null,null,"NEOCERATIUM DIGITATUM","NEOCERATIUM DIGITATUM","7030.55.135185","MIOZOA","DINOPHYCEAE",null,"CERATIACEAE","NEOCERATIUM"]
[null,null,null,null,null,null,null,null,null,null,null,null,null,null,null,null,null,null,null,null,null,null,null,null,null,null,null,null,null,null,null,null,null,null,null,null,"NEOCERATIUM EUARCUATUM","NEOCERATIUM EUARCUATUM","7030.55.135188","MIOZOA","DINOPHYCEAE",null,"CERATIACEAE","NEOCERATIUM"]
[null,null,null,null,null,null,null,null,null,null,null,null,null,null,null,null,null,null,null,null,null,null,null,null,null,null,null,null,null,null,null,null,null,null,null,null,"NEOCERATIUM EXTENSUM","NEOCERATIUM EXTENSUM","7030.55.135189","MIOZOA","DINOPHYCEAE",null,"CERATIACEAE","NEOCERATIUM"]
[null,null,null,null,null,null,null,null,null,null,null,null,null,null,null,null,null,null,null,null,null,null,null,null,null,null,null,null,null,null,null,null,null,null,null,null,"NEOCERATIUM FALCATIFORME","NEOCERATIUM FALCATIFORME","7030.55.135190","MIOZOA","DINOPHYCEAE",null,"CERATIACEAE","NEOCERATIUM"]
[null,null,null,null,null,null,null,null,null,null,null,null,null,null,null,null,null,null,null,null,null,null,null,null,null,null,null,null,null,null,null,null,null,null,null,null,"NEOCERATIUM FALCATUM","NEOCERATIUM FALCATUM","7030.55.135191","MIOZOA","DINOPHYCEAE",null,"CERATIACEAE","NEOCERATIUM"]
[null,null,null,null,null,null,null,null,null,null,null,null,null,null,null,null,null,null,null,null,null,null,null,null,null,null,null,null,null,null,null,null,null,null,null,null,"NEOCERATIUM FURCA","NEOCERATIUM FURCA","7030.55.135193","MIOZOA","DINOPHYCEAE",null,"CERATIACEAE","NEOCERATIUM"]
[null,null,null,null,null,null,null,null,null,null,null,null,null,null,null,null,null,null,null,null,null,null,null,null,null,null,null,null,null,null,null,null,null,null,null,null,"NEOCERATIUM FUSUS","NEOCERATIUM FUSUS","7030.55.135194","MIOZOA","DINOPHYCEAE",null,"CERATIACEAE","NEOCERATIUM"]
[null,null,null,null,null,null,null,null,null,null,null,null,null,null,null,null,null,null,null,null,null,null,null,null,null,null,null,null,null,null,null,null,null,null,null,null,"NEOCERATIUM GENICULATUM","NEOCERATIUM GENICULATUM","7030.55.135195","MIOZOA","DINOPHYCEAE",null,"CERATIACEAE","NEOCERATIUM"]
[null,null,null,null,null,null,null,null,null,null,null,null,null,null,null,null,null,null,null,null,null,null,null,null,null,null,null,null,null,null,null,null,null,null,null,null,"NEOCERATIUM GIBBERUM","NEOCERATIUM GIBBERUM","7030.55.146233","MIOZOA","DINOPHYCEAE",null,"CERATIACEAE","NEOCERATIUM"]
[null,null,null,null,null,null,null,null,null,null,null,null,null,null,null,null,null,null,null,null,null,null,null,null,null,null,null,null,null,null,null,null,null,null,null,null,"NEOCERATIUM GRAVIDUM","NEOCERATIUM GRAVIDUM","7030.55.135197","MIOZOA","DINOPHYCEAE",null,"CERATIACEAE","NEOCERATIUM"]
[null,null,null,null,null,null,null,null,null,null,null,null,null,null,null,null,null,null,null,null,null,null,null,null,null,null,null,null,null,null,null,null,null,null,null,null,"NEOCERATIUM HEXACANTHUM","NEOCERATIUM HEXACANTHUM","7030.55.135198","MIOZOA","DINOPHYCEAE",null,"CERATIACEAE","NEOCERATIUM"]
[null,null,null,null,null,null,null,null,null,null,null,null,null,null,null,null,null,null,null,null,null,null,null,null,null,null,null,null,null,null,null,null,null,null,null,null,"NEOCERATIUM HIRCUS","NEOCERATIUM HIRCUS","7030.55.135199","MIOZOA","DINOPHYCEAE",null,"CERATIACEAE","NEOCERATIUM"]
[null,null,null,null,null,null,null,null,null,null,null,null,null,null,null,null,null,null,null,null,null,null,null,null,null,null,null,null,null,null,null,null,null,null,null,null,"NEOCERATIUM HORRIDUM","NEOCERATIUM HORRIDUM","7030.55.135200","MIOZOA","DINOPHYCEAE",null,"CERATIACEAE","NEOCERATIUM"]
[null,null,null,null,null,null,null,null,null,null,null,null,null,null,null,null,null,null,null,null,null,null,null,null,null,null,null,null,null,null,null,null,null,null,null,null,"NEOCERATIUM INCISUM","NEOCERATIUM INCISUM","7030.55.135202","MIOZOA","DINOPHYCEAE",null,"CERATIACEAE","NEOCERATIUM"]
[null,null,null,null,null,null,null,null,null,null,null,null,null,null,null,null,null,null,null,null,null,null,null,null,null,null,null,null,null,null,null,null,null,null,null,null,"NEOCERATIUM INFLATUM","NEOCERATIUM INFLATUM","7030.55.135203","MIOZOA","DINOPHYCEAE",null,"CERATIACEAE","NEOCERATIUM"]
[null,null,null,null,null,null,null,null,null,null,null,null,null,null,null,null,null,null,null,null,null,null,null,null,null,null,null,null,null,null,null,null,null,null,null,null,"NEOCERATIUM KARSTENII","NEOCERATIUM KARSTENII","7030.55.135204","MIOZOA","DINOPHYCEAE",null,"CERATIACEAE","NEOCERATIUM"]
[null,null,null,null,null,null,null,null,null,null,null,null,null,null,null,null,null,null,null,null,null,null,null,null,null,null,null,null,null,null,null,null,null,null,null,null,"NEOCERATIUM KOFOIDII","NEOCERATIUM KOFOIDII","7030.55.135205","MIOZOA","DINOPHYCEAE",null,"CERATIACEAE","NEOCERATIUM"]
[null,null,null,null,null,null,null,null,null,null,null,null,null,null,null,null,null,null,null,null,null,null,null,null,null,null,null,null,null,null,null,null,null,null,null,null,"NEOCERATIUM LIMULUS","NEOCERATIUM LIMULUS","7030.55.135207","MIOZOA","DINOPHYCEAE",null,"CERATIACEAE","NEOCERATIUM"]
[null,null,null,null,null,null,null,null,null,null,null,null,null,null,null,null,null,null,null,null,null,null,null,null,null,null,null,null,null,null,null,null,null,null,null,null,"NEOCERATIUM LINEATUM","NEOCERATIUM LINEATUM","7030.55.135208","MIOZOA","DINOPHYCEAE",null,"CERATIACEAE","NEOCERATIUM"]
[null,null,null,null,null,null,null,null,null,null,null,null,null,null,null,null,null,null,null,null,null,null,null,null,null,null,null,null,null,null,null,null,null,null,null,null,"NEOCERATIUM LONGIROSTRUM","NEOCERATIUM LONGIROSTRUM","7030.55.135210","MIOZOA","DINOPHYCEAE",null,"CERATIACEAE","NEOCERATIUM"]
[null,null,null,null,null,null,null,null,null,null,null,null,null,null,null,null,null,null,null,null,null,null,null,null,null,null,null,null,null,null,null,null,null,null,null,null,"NEOCERATIUM LUNULA","NEOCERATIUM LUNULA","7030.55.135211","MIOZOA","DINOPHYCEAE",null,"CERATIACEAE","NEOCERATIUM"]
[null,null,null,null,null,null,null,null,null,null,null,null,null,null,null,null,null,null,null,null,null,null,null,null,null,null,null,null,null,null,null,null,null,null,null,null,"NEOCERATIUM MACROCEROS","NEOCERATIUM MACROCEROS","7030.55.135212","MIOZOA","DINOPHYCEAE",null,"CERATIACEAE","NEOCERATIUM"]
[null,null,null,null,null,null,null,null,null,null,null,null,null,null,null,null,null,null,null,null,null,null,null,null,null,null,null,null,null,null,null,null,null,null,null,null,"NEOCERATIUM MASSILIENSE","NEOCERATIUM MASSILIENSE","7030.55.135213","MIOZOA","DINOPHYCEAE",null,"CERATIACEAE","NEOCERATIUM"]
[null,null,null,null,null,null,null,null,null,null,null,null,null,null,null,null,null,null,null,null,null,null,null,null,null,null,null,null,null,null,null,null,null,null,null,null,"NEOCERATIUM MINUTUM","NEOCERATIUM MINUTUM","7030.55.135214","MIOZOA","DINOPHYCEAE",null,"CERATIACEAE","NEOCERATIUM"]
[null,null,null,null,null,null,null,null,null,null,null,null,null,null,null,null,null,null,null,null,null,null,null,null,null,null,null,null,null,null,null,null,null,null,null,null,"NEOCERATIUM PARADOXIDES","NEOCERATIUM PARADOXIDES","7030.55.135217","MIOZOA","DINOPHYCEAE",null,"CERATIACEAE","NEOCERATIUM"]
[null,null,null,null,null,null,null,null,null,null,null,null,null,null,null,null,null,null,null,null,null,null,null,null,null,null,null,null,null,null,null,null,null,null,null,null,"NEOCERATIUM PAVILLARDII","NEOCERATIUM PAVILLARDII","7030.55.135218","MIOZOA","DINOPHYCEAE",null,"CERATIACEAE","NEOCERATIUM"]
[null,null,null,null,null,null,null,null,null,null,null,null,null,null,null,null,null,null,null,null,null,null,null,null,null,null,null,null,null,null,null,null,null,null,null,null,"NEOCERATIUM PENTAGONUM","NEOCERATIUM PENTAGONUM","7030.55.135219","MIOZOA","DINOPHYCEAE",null,"CERATIACEAE","NEOCERATIUM"]
[null,null,null,null,null,null,null,null,null,null,null,null,null,null,null,null,null,null,null,null,null,null,null,null,null,null,null,null,null,null,null,null,null,null,null,null,"NEOCERATIUM PLATYCORNE","NEOCERATIUM PLATYCORNE","7030.55.135221","MIOZOA","DINOPHYCEAE",null,"CERATIACEAE","NEOCERATIUM"]
[null,null,null,null,null,null,null,null,null,null,null,null,null,null,null,null,null,null,null,null,null,null,null,null,null,null,null,null,null,null,null,null,null,null,null,null,"NEOCERATIUM PRAEOLONGUM","NEOCERATIUM PRAEOLONGUM","7030.55.135223","MIOZOA","DINOPHYCEAE",null,"CERATIACEAE","NEOCERATIUM"]
[null,null,null,null,null,null,null,null,null,null,null,null,null,null,null,null,null,null,null,null,null,null,null,null,null,null,null,null,null,null,null,null,null,null,null,null,"NEOCERATIUM PULCHELLUM","NEOCERATIUM PULCHELLUM","7030.55.135224","MIOZOA","DINOPHYCEAE",null,"CERATIACEAE","NEOCERATIUM"]
[null,null,null,null,null,null,null,null,null,null,null,null,null,null,null,null,null,null,null,null,null,null,null,null,null,null,null,null,null,null,null,null,null,null,null,null,"NEOCERATIUM RANIPES","NEOCERATIUM RANIPES","7030.55.135225","MIOZOA","DINOPHYCEAE",null,"CERATIACEAE","NEOCERATIUM"]
[null,null,null,null,null,null,null,null,null,null,null,null,null,null,null,null,null,null,null,null,null,null,null,null,null,null,null,null,null,null,null,null,null,null,null,null,"NEOCERATIUM REFLEXUM","NEOCERATIUM REFLEXUM","7030.55.135227","MIOZOA","DINOPHYCEAE",null,"CERATIACEAE","NEOCERATIUM"]
[null,null,null,null,null,null,null,null,null,null,null,null,null,null,null,null,null,null,null,null,null,null,null,null,null,null,null,null,null,null,null,null,null,null,null,null,"NEOCERATIUM SCHRANKII","NEOCERATIUM SCHRANKII","7030.55.135228","MIOZOA","DINOPHYCEAE",null,"CERATIACEAE","NEOCERATIUM"]
[null,null,null,null,null,null,null,null,null,null,null,null,null,null,null,null,null,null,null,null,null,null,null,null,null,null,null,null,null,null,null,null,null,null,null,null,"NEOCERATIUM SETACEUM","NEOCERATIUM SETACEUM","7030.55.135230","MIOZOA","DINOPHYCEAE",null,"CERATIACEAE","NEOCERATIUM"]
[null,null,null,null,null,null,null,null,null,null,null,null,null,null,null,null,null,null,null,null,null,null,null,null,null,null,null,null,null,null,null,null,null,null,null,null,"NEOCERATIUM SYMMETRICUM","NEOCERATIUM SYMMETRICUM","7030.55.135231","MIOZOA","DINOPHYCEAE",null,"CERATIACEAE","NEOCERATIUM"]
[null,null,null,null,null,null,null,null,null,null,null,null,null,null,null,null,null,null,null,null,null,null,null,null,null,null,null,null,null,null,null,null,null,null,null,null,"NEOCERATIUM TENUE","NEOCERATIUM TENUE","7030.55.135233","MIOZOA","DINOPHYCEAE",null,"CERATIACEAE","NEOCERATIUM"]
[null,null,null,null,null,null,null,null,null,null,null,null,null,null,null,null,null,null,null,null,null,null,null,null,null,null,null,null,null,null,null,null,null,null,null,null,"NEOCERATIUM TERES","NEOCERATIUM TERES","7030.55.135234","MIOZOA","DINOPHYCEAE",null,"CERATIACEAE","NEOCERATIUM"]
[null,null,null,null,null,null,null,null,null,null,null,null,null,null,null,null,null,null,null,null,null,null,null,null,null,null,null,null,null,null,null,null,null,null,null,null,"NEOCERATIUM TRICHOCEROS","NEOCERATIUM TRICHOCEROS","7030.55.135235","MIOZOA","DINOPHYCEAE",null,"CERATIACEAE","NEOCERATIUM"]
[null,null,null,null,null,null,null,null,null,null,null,null,null,null,null,null,null,null,null,null,null,null,null,null,null,null,null,null,null,null,null,null,null,null,null,null,"NEOCERATIUM TRIPOS","NEOCERATIUM TRIPOS","7030.55.135236","MIOZOA","DINOPHYCEAE",null,"CERATIACEAE","NEOCERATIUM"]
[null,null,null,null,null,null,null,null,null,null,null,null,null,null,null,null,null,null,null,null,null,null,null,null,null,null,null,null,null,null,null,null,null,null,null,null,"NEOCERATIUM UNCINUS","NEOCERATIUM UNCINUS","7030.55.135237","MIOZOA","DINOPHYCEAE",null,"CERATIACEAE","NEOCERATIUM"]
[null,null,null,null,null,null,null,null,null,null,null,null,null,null,null,null,null,null,null,null,null,null,null,null,null,null,null,null,null,null,null,null,null,null,null,null,"NEOCERATIUM VULTUR","NEOCERATIUM VULTUR","7030.55.135238","MIOZOA","DINOPHYCEAE",null,"CERATIACEAE","NEOCERATIUM"]
[null,null,null,null,null,null,null,null,null,null,null,null,null,null,null,null,null,null,null,null,null,null,null,null,null,null,null,null,null,null,null,null,null,null,null,null,"NEODELPHINEIS","NEODELPHINEIS","7035.46.45882","BACILLARIOPHYTA","BACILLARIOPHYCEAE",null,"RHAPHONEIDACEAE"]
[null,null,null,null,null,null,null,null,null,null,null,null,null,null,null,null,null,null,null,null,null,null,null,null,null,null,null,null,null,null,null,null,null,null,null,null,"NEODELPHINEIS PELAGICA","NEODELPHINEIS PELAGICA","7035.55.59872","BACILLARIOPHYTA","BACILLARIOPHYCEAE",null,"RHAPHONEIDACEAE","NEODELPHINEIS"]
[null,null,null,null,null,null,null,null,null,null,null,null,null,null,null,null,null,null,null,null,null,null,null,null,null,null,null,null,null,null,null,null,null,null,null,null,"NEOSYNEDRA","NEOSYNEDRA","7035.46.44426","BACILLARIOPHYTA",null,null,"FRAGILARIACEAE"]
[null,null,null,null,null,null,null,null,null,null,null,null,null,null,null,null,null,null,null,null,null,null,null,null,null,null,null,null,null,null,null,null,null,null,null,null,"NITZSCHIA","NITZSCHIA","7035.46.43680","BACILLARIOPHYTA","BACILLARIOPHYCEAE",null,"BACILLARIACEAE"]
[null,null,null,null,null,null,null,null,null,null,null,null,null,null,null,null,null,null,null,null,null,null,null,null,null,null,null,null,null,null,null,null,null,null,null,null,"NITZSCHIA BICAPITATA","NITZSCHIA BICAPITATA","7035.55.59917","BACILLARIOPHYTA","BACILLARIOPHYCEAE",null,"BACILLARIACEAE","NITZSCHIA"]
[null,null,null,null,null,null,null,null,null,null,null,null,null,null,null,null,null,null,null,null,null,null,null,null,null,null,null,null,null,null,null,null,null,null,null,null,"NITZSCHIA BRAARUDII","NITZSCHIA BRAARUDII","7035.55.45718","BACILLARIOPHYTA","BACILLARIOPHYCEAE",null,"BACILLARIACEAE","NITZSCHIA"]
[null,null,null,null,null,null,null,null,null,null,null,null,null,null,null,null,null,null,null,null,null,null,null,null,null,null,null,null,null,null,null,null,null,null,null,null,"NITZSCHIA CONSTRICTA","NITZSCHIA CONSTRICTA","7035.55.31011","BACILLARIOPHYTA","BACILLARIOPHYCEAE",null,"BACILLARIACEAE","NITZSCHIA"]
[null,null,null,null,null,null,null,null,null,null,null,null,null,null,null,null,null,null,null,null,null,null,null,null,null,null,null,null,null,null,null,null,null,null,null,null,"NITZSCHIA DISTANS","NITZSCHIA DISTANS","7035.55.172826","BACILLARIOPHYTA","BACILLARIOPHYCEAE",null,"BACILLARIACEAE","NITZSCHIA"]
[null,null,null,null,null,null,null,null,null,null,null,null,null,null,null,null,null,null,null,null,null,null,null,null,null,null,null,null,null,null,null,null,null,null,null,null,"NITZSCHIA FLUMINENSIS","NITZSCHIA FLUMINENSIS","7035.55.50455","BACILLARIOPHYTA","BACILLARIOPHYCEAE",null,"BACILLARIACEAE","NITZSCHIA"]
[null,null,null,null,null,null,null,null,null,null,null,null,null,null,null,null,null,null,null,null,null,null,null,null,null,null,null,null,null,null,null,null,null,null,null,null,"NITZSCHIA HABIRSHAWII","NITZSCHIA HABIRSHAWII","7035.55.31030","BACILLARIOPHYTA","BACILLARIOPHYCEAE",null,"BACILLARIACEAE","NITZSCHIA"]
[null,null,null,null,null,null,null,null,null,null,null,null,null,null,null,null,null,null,null,null,null,null,null,null,null,null,null,null,null,null,null,null,null,null,null,null,"NITZSCHIA INTERRUPTESTRIATA","NITZSCHIA INTERRUPTESTRIATA","7035.55.149076","BACILLARIOPHYTA","BACILLARIOPHYCEAE",null,"BACILLARIACEAE","NITZSCHIA"]
[null,null,null,null,null,null,null,null,null,null,null,null,null,null,null,null,null,null,null,null,null,null,null,null,null,null,null,null,null,null,null,null,null,null,null,null,"NITZSCHIA LONGISSIMA","NITZSCHIA LONGISSIMA","7035.55.50465","BACILLARIOPHYTA","BACILLARIOPHYCEAE","BACILLARIALES","BACILLARIACEAE","NITZSCHIA"]
[null,null,null,null,null,null,null,null,null,null,null,null,null,null,null,null,null,null,null,null,null,null,null,null,null,null,null,null,null,null,null,null,null,null,null,null,"NITZSCHIA MARTIANA","NITZSCHIA MARTIANA","7035.55.34064","BACILLARIOPHYTA","BACILLARIOPHYCEAE",null,"BACILLARIACEAE","NITZSCHIA"]
[null,null,null,null,null,null,null,null,null,null,null,null,null,null,null,null,null,null,null,null,null,null,null,null,null,null,null,null,null,null,null,null,null,null,null,null,"NITZSCHIA OBTUSA","NITZSCHIA OBTUSA","7035.55.166883","BACILLARIOPHYTA","BACILLARIOPHYCEAE",null,"BACILLARIACEAE","NITZSCHIA"]
[null,null,null,null,null,null,null,null,null,null,null,null,null,null,null,null,null,null,null,null,null,null,null,null,null,null,null,null,null,null,null,null,null,null,null,null,"NITZSCHIA PULCHERRIMA","NITZSCHIA PULCHERRIMA","7035.55.145666","BACILLARIOPHYTA","BACILLARIOPHYCEAE",null,"BACILLARIACEAE","NITZSCHIA"]
[null,null,null,null,null,null,null,null,null,null,null,null,null,null,null,null,null,null,null,null,null,null,null,null,null,null,null,null,null,null,null,null,null,null,null,null,"NITZSCHIA RECTA","NITZSCHIA RECTA","7035.55.39182","BACILLARIOPHYTA","BACILLARIOPHYCEAE",null,"BACILLARIACEAE","NITZSCHIA"]
[null,null,null,null,null,null,null,null,null,null,null,null,null,null,null,null,null,null,null,null,null,null,null,null,null,null,null,null,null,null,null,null,null,null,null,null,"NITZSCHIA SCALPELLIFORMIS","NITZSCHIA SCALPELLIFORMIS","7035.55.31072","BACILLARIOPHYTA","BACILLARIOPHYCEAE",null,"BACILLARIACEAE","NITZSCHIA"]
[null,null,null,null,null,null,null,null,null,null,null,null,null,null,null,null,null,null,null,null,null,null,null,null,null,null,null,null,null,null,null,null,null,null,null,null,"NITZSCHIA SICULA","NITZSCHIA SICULA","7035.55.59913","BACILLARIOPHYTA","BACILLARIOPHYCEAE",null,"BACILLARIACEAE","NITZSCHIA"]
[null,null,null,null,null,null,null,null,null,null,null,null,null,null,null,null,null,null,null,null,null,null,null,null,null,null,null,null,null,null,null,null,null,null,null,null,"NITZSCHIA SIGMA","NITZSCHIA SIGMA","7035.55.39168","BACILLARIOPHYTA","BACILLARIOPHYCEAE",null,"BACILLARIACEAE","NITZSCHIA"]
[null,null,null,null,null,null,null,null,null,null,null,null,null,null,null,null,null,null,null,null,null,null,null,null,null,null,null,null,null,null,null,null,null,null,null,null,"NITZSCHIA SIGMOIDEA","NITZSCHIA SIGMOIDEA","7035.55.175655","BACILLARIOPHYTA","BACILLARIOPHYCEAE",null,"BACILLARIACEAE","NITZSCHIA"]
[null,null,null,null,null,null,null,null,null,null,null,null,null,null,null,null,null,null,null,null,null,null,null,null,null,null,null,null,null,null,null,null,null,null,null,null,"NITZSCHIA SOCIALIS","NITZSCHIA SOCIALIS","7035.55.34092","BACILLARIOPHYTA","BACILLARIOPHYCEAE",null,"BACILLARIACEAE","NITZSCHIA"]
[null,null,null,null,null,null,null,null,null,null,null,null,null,null,null,null,null,null,null,null,null,null,null,null,null,null,null,null,null,null,null,null,null,null,null,null,"NITZSCHIA VENTRICOSA","NITZSCHIA VENTRICOSA","7035.55.130765","BACILLARIOPHYTA","BACILLARIOPHYCEAE",null,"BACILLARIACEAE","NITZSCHIA"]
[null,null,null,null,null,null,null,null,null,null,null,null,null,null,null,null,null,null,null,null,null,null,null,null,null,null,null,null,null,null,null,null,null,null,null,null,"NOCTILUCA","NOCTILUCA","7030.46.44661","MIOZOA",null,null,"NOCTILUCACEAE"]
[null,null,null,null,null,null,null,null,null,null,null,null,null,null,null,null,null,null,null,null,null,null,null,null,null,null,null,null,null,null,null,null,null,null,null,null,"NOCTILUCA SCINTILLANS","NOCTILUCA SCINTILLANS","7030.55.52491","MIOZOA",null,null,"NOCTILUCACEAE","NOCTILUCA"]
[null,null,null,null,null,null,null,null,null,null,null,null,null,null,null,null,null,null,null,null,null,null,null,null,null,null,null,null,null,null,null,null,null,null,null,null,"NOSTOC","NOSTOC","5040.46.42976","CYANOBACTERIA",null,null,"NOSTOCACEAE"]
[null,null,null,null,null,null,null,null,null,null,null,null,null,null,null,null,null,null,null,null,null,null,null,null,null,null,null,null,null,null,null,null,null,null,null,null,"OBLEA","OBLEA","7030.46.44662","MIOZOA",null,null,"DIPLOPSALIACEAE"]
[null,null,null,null,null,null,null,null,null,null,null,null,null,null,null,null,null,null,null,null,null,null,null,null,null,null,null,null,null,null,null,null,null,null,null,null,"OBLEA BACULIFERA","OBLEA BACULIFERA","7030.55.55416","MIOZOA",null,null,"DIPLOPSALIACEAE","OBLEA"]
[null,null,null,null,null,null,null,null,null,null,null,null,null,null,null,null,null,null,null,null,null,null,null,null,null,null,null,null,null,null,null,null,null,null,null,null,"OCTACTIS","OCTACTIS","4024.46.44780","OCHROPHYTA",null,null,"DICTYOCHACEAE"]
[null,null,null,null,null,null,null,null,null,null,null,null,null,null,null,null,null,null,null,null,null,null,null,null,null,null,null,null,null,null,null,null,null,null,null,null,"OCTACTIS OCTONARIA","OCTACTIS OCTONARIA","4024.55.69787","OCHROPHYTA",null,null,"DICTYOCHACEAE","OCTACTIS"]
[null,null,null,null,null,null,null,null,null,null,null,null,null,null,null,null,null,null,null,null,null,null,null,null,null,null,null,null,null,null,null,null,null,null,null,null,"ODONTELLA","ODONTELLA","7035.46.44427","BACILLARIOPHYTA","COSCINODISCOPHYCEAE",null,"TRICERATIACEAE"]
[null,null,null,null,null,null,null,null,null,null,null,null,null,null,null,null,null,null,null,null,null,null,null,null,null,null,null,null,null,null,null,null,null,null,null,null,"ODONTELLA AURITA","ODONTELLA AURITA","7035.55.140290","BACILLARIOPHYTA","COSCINODISCOPHYCEAE",null,"TRICERATIACEAE","ODONTELLA"]
[null,null,null,null,null,null,null,null,null,null,null,null,null,null,null,null,null,null,null,null,null,null,null,null,null,null,null,null,null,null,null,null,null,null,null,null,"ODONTELLA LONGICRURIS","ODONTELLA LONGICRURIS","7035.55.60003","BACILLARIOPHYTA","COSCINODISCOPHYCEAE",null,"TRICERATIACEAE","ODONTELLA"]
[null,null,null,null,null,null,null,null,null,null,null,null,null,null,null,null,null,null,null,null,null,null,null,null,null,null,null,null,null,null,null,null,null,null,null,null,"ODONTELLA MOBILIENSIS","ODONTELLA MOBILIENSIS","7035.55.39272","BACILLARIOPHYTA","COSCINODISCOPHYCEAE",null,"TRICERATIACEAE","ODONTELLA"]
[null,null,null,null,null,null,null,null,null,null,null,null,null,null,null,null,null,null,null,null,null,null,null,null,null,null,null,null,null,null,null,null,null,null,null,null,"ODONTELLA REGIA","ODONTELLA REGIA","7035.55.39274","BACILLARIOPHYTA","COSCINODISCOPHYCEAE",null,"TRICERATIACEAE","ODONTELLA"]
[null,null,null,null,null,null,null,null,null,null,null,null,null,null,null,null,null,null,null,null,null,null,null,null,null,null,null,null,null,null,null,null,null,null,null,null,"ODONTELLA SINENSIS","ODONTELLA SINENSIS","7035.55.39277","BACILLARIOPHYTA","COSCINODISCOPHYCEAE",null,"TRICERATIACEAE","ODONTELLA"]
[null,null,null,null,null,null,null,null,null,null,null,null,null,null,null,null,null,null,null,null,null,null,null,null,null,null,null,null,null,null,null,null,null,null,null,null,"OEDOGONIUM","OEDOGONIUM","4020.46.43424","CHLOROPHYTA",null,null,"OEDOGONIACEAE"]
[null,null,null,null,null,null,null,null,null,null,null,null,null,null,null,null,null,null,null,null,null,null,null,null,null,null,null,null,null,null,null,null,null,null,null,null,"OOCYSTIS","OOCYSTIS","4020.46.43441","CHLOROPHYTA",null,null,"OOCYSTACEAE"]
[null,null,null,null,null,null,null,null,null,null,null,null,null,null,null,null,null,null,null,null,null,null,null,null,null,null,null,null,null,null,null,null,null,null,null,null,"OPEPHORA","OPEPHORA","7035.46.43713","BACILLARIOPHYTA","BACILLARIOPHYCEAE",null,"STAUROSIRACEAE"]
[null,null,null,null,null,null,null,null,null,null,null,null,null,null,null,null,null,null,null,null,null,null,null,null,null,null,null,null,null,null,null,null,null,null,null,null,"OPEPHORA SCHWARTZII","OPEPHORA SCHWARTZII","7035.55.34116","BACILLARIOPHYTA","BACILLARIOPHYCEAE",null,"FRAGILARIACEAE","OPEPHORA"]
[null,null,null,null,null,null,null,null,null,null,null,null,null,null,null,null,null,null,null,null,null,null,null,null,null,null,null,null,null,null,null,null,null,null,null,null,"ORNITHOCERCUS","ORNITHOCERCUS","7030.46.44663","MIOZOA",null,null,"DINOPHYSIACEAE"]
[null,null,null,null,null,null,null,null,null,null,null,null,null,null,null,null,null,null,null,null,null,null,null,null,null,null,null,null,null,null,null,null,null,null,null,null,"ORNITHOCERCUS HETEROPORUS","ORNITHOCERCUS HETEROPORUS","7030.55.52496","MIOZOA",null,null,"DINOPHYSIACEAE","ORNITHOCERCUS"]
[null,null,null,null,null,null,null,null,null,null,null,null,null,null,null,null,null,null,null,null,null,null,null,null,null,null,null,null,null,null,null,null,null,null,null,null,"ORNITHOCERCUS MAGNIFICUS","ORNITHOCERCUS MAGNIFICUS","7030.55.52497","MIOZOA",null,null,"DINOPHYSIACEAE","ORNITHOCERCUS"]
[null,null,null,null,null,null,null,null,null,null,null,null,null,null,null,null,null,null,null,null,null,null,null,null,null,null,null,null,null,null,null,null,null,null,null,null,"ORNITHOCERCUS QUADRATUS","ORNITHOCERCUS QUADRATUS","7030.55.140041","MIOZOA",null,null,"DINOPHYSIACEAE","ORNITHOCERCUS"]
[null,null,null,null,null,null,null,null,null,null,null,null,null,null,null,null,null,null,null,null,null,null,null,null,null,null,null,null,null,null,null,null,null,null,null,null,"ORNITHOCERCUS SPLENDIDUS","ORNITHOCERCUS SPLENDIDUS","7030.55.52499","MIOZOA",null,null,"DINOPHYSIACEAE","ORNITHOCERCUS"]
[null,null,null,null,null,null,null,null,null,null,null,null,null,null,null,null,null,null,null,null,null,null,null,null,null,null,null,null,null,null,null,null,null,null,null,null,"ORNITHOCERCUS STEINII","ORNITHOCERCUS STEINII","7030.55.52500","MIOZOA",null,null,"DINOPHYSIACEAE","ORNITHOCERCUS"]
[null,null,null,null,null,null,null,null,null,null,null,null,null,null,null,null,null,null,null,null,null,null,null,null,null,null,null,null,null,null,null,null,null,null,null,null,"ORNITHOCERCUS THUMII","ORNITHOCERCUS THUMII","7030.55.52501","MIOZOA",null,null,"DINOPHYSIACEAE","ORNITHOCERCUS"]
[null,null,null,null,null,null,null,null,null,null,null,null,null,null,null,null,null,null,null,null,null,null,null,null,null,null,null,null,null,null,null,null,null,null,null,null,"OSCILLATORIA","OSCILLATORIA","5040.46.43083","CYANOBACTERIA",null,null,"OSCILLATORIACEAE"]
[null,null,null,null,null,null,null,null,null,null,null,null,null,null,null,null,null,null,null,null,null,null,null,null,null,null,null,null,null,null,null,null,null,null,null,null,"OSCILLATORIA CONTEXTA","OSCILLATORIA CONTEXTA","5040.55.68292","CYANOBACTERIA",null,null,"OSCILLATORIACEAE","OSCILLATORIA"]
[null,null,null,null,null,null,null,null,null,null,null,null,null,null,null,null,null,null,null,null,null,null,null,null,null,null,null,null,null,null,null,null,null,null,null,null,"OSTREOPSIS","OSTREOPSIS","7030.46.44664","MIOZOA",null,null,"OSTREOPSIDACEAE"]
[null,null,null,null,null,null,null,null,null,null,null,null,null,null,null,null,null,null,null,null,null,null,null,null,null,null,null,null,null,null,null,null,null,null,null,null,"OSTREOPSIS OVATA","OSTREOPSIS OVATA","7030.55.52502","MIOZOA",null,null,"OSTREOPSIDACEAE","OSTREOPSIS"]
[null,null,null,null,null,null,null,null,null,null,null,null,null,null,null,null,null,null,null,null,null,null,null,null,null,null,null,null,null,null,null,null,null,null,null,null,"OXYPHYSIS","OXYPHYSIS","7030.46.44665","MIOZOA","DINOPHYCEAE","DINOPHYSALES","DINOPHYSACEAE"]
[null,null,null,null,null,null,null,null,null,null,null,null,null,null,null,null,null,null,null,null,null,null,null,null,null,null,null,null,null,null,null,null,null,null,null,null,"OXYTOXUM","OXYTOXUM","7030.46.44666","MIOZOA","DINOPHYCEAE",null,"OXYTOXACEAE"]
[null,null,null,null,null,null,null,null,null,null,null,null,null,null,null,null,null,null,null,null,null,null,null,null,null,null,null,null,null,null,null,null,null,null,null,null,"OXYTOXUM CONSTRICTUM","OXYTOXUM CONSTRICTUM","7030.55.52512","MIOZOA","DINOPHYCEAE",null,"OXYTOXACEAE","OXYTOXUM"]
[null,null,null,null,null,null,null,null,null,null,null,null,null,null,null,null,null,null,null,null,null,null,null,null,null,null,null,null,null,null,null,null,null,null,null,null,"OXYTOXUM ELEGANS","OXYTOXUM ELEGANS","7030.55.52521","MIOZOA","DINOPHYCEAE",null,"OXYTOXACEAE","OXYTOXUM"]
[null,null,null,null,null,null,null,null,null,null,null,null,null,null,null,null,null,null,null,null,null,null,null,null,null,null,null,null,null,null,null,null,null,null,null,null,"OXYTOXUM GRACILE","OXYTOXUM GRACILE","7030.55.54759","MIOZOA","DINOPHYCEAE",null,"OXYTOXACEAE","OXYTOXUM"]
[null,null,null,null,null,null,null,null,null,null,null,null,null,null,null,null,null,null,null,null,null,null,null,null,null,null,null,null,null,null,null,null,null,null,null,null,"OXYTOXUM LONGICEPS","OXYTOXUM LONGICEPS","7030.55.52526","MIOZOA","DINOPHYCEAE",null,"OXYTOXACEAE","OXYTOXUM"]
[null,null,null,null,null,null,null,null,null,null,null,null,null,null,null,null,null,null,null,null,null,null,null,null,null,null,null,null,null,null,null,null,null,null,null,null,"OXYTOXUM MEDITERRANEUM","OXYTOXUM MEDITERRANEUM","7030.55.52529","MIOZOA","DINOPHYCEAE",null,"OXYTOXACEAE","OXYTOXUM"]
[null,null,null,null,null,null,null,null,null,null,null,null,null,null,null,null,null,null,null,null,null,null,null,null,null,null,null,null,null,null,null,null,null,null,null,null,"OXYTOXUM MILNERI","OXYTOXUM MILNERI","7030.55.52530","MIOZOA","DINOPHYCEAE",null,"OXYTOXACEAE","OXYTOXUM"]
[null,null,null,null,null,null,null,null,null,null,null,null,null,null,null,null,null,null,null,null,null,null,null,null,null,null,null,null,null,null,null,null,null,null,null,null,"OXYTOXUM PARVUM","OXYTOXUM PARVUM","7030.55.52536","MIOZOA","DINOPHYCEAE",null,"OXYTOXACEAE","OXYTOXUM"]
[null,null,null,null,null,null,null,null,null,null,null,null,null,null,null,null,null,null,null,null,null,null,null,null,null,null,null,null,null,null,null,null,null,null,null,null,"OXYTOXUM SCOLOPAX","OXYTOXUM SCOLOPAX","7030.55.52542","MIOZOA","DINOPHYCEAE",null,"OXYTOXACEAE","OXYTOXUM"]
[null,null,null,null,null,null,null,null,null,null,null,null,null,null,null,null,null,null,null,null,null,null,null,null,null,null,null,null,null,null,null,null,null,null,null,null,"OXYTOXUM TESSELATUM","OXYTOXUM TESSELATUM","7030.55.62295","MIOZOA","DINOPHYCEAE",null,"OXYTOXACEAE","OXYTOXUM"]
[null,null,null,null,null,null,null,null,null,null,null,null,null,null,null,null,null,null,null,null,null,null,null,null,null,null,null,null,null,null,null,null,null,null,null,null,"OXYTOXUM TURBO","OXYTOXUM TURBO","7030.55.70870","MIOZOA","DINOPHYCEAE",null,"OXYTOXACEAE","OXYTOXUM"]
[null,null,null,null,null,null,null,null,null,null,null,null,null,null,null,null,null,null,null,null,null,null,null,null,null,null,null,null,null,null,null,null,null,null,null,null,"PALMERIA","PALMERIA","7035.46.45949","BACILLARIOPHYTA","COSCINODISCOPHYCEAE",null,"COSCINODISCACEAE"]
[null,null,null,null,null,null,null,null,null,null,null,null,null,null,null,null,null,null,null,null,null,null,null,null,null,null,null,null,null,null,null,null,null,null,null,null,"PALMERINA","PALMERINA","7035.46.45950","BACILLARIOPHYTA","COSCINODISCOPHYCEAE",null,"COSCINODISCACEAE"]
[null,null,null,null,null,null,null,null,null,null,null,null,null,null,null,null,null,null,null,null,null,null,null,null,null,null,null,null,null,null,null,null,null,null,null,null,"PALMERINA HARDMANIANA","PALMERINA HARDMANIANA","7035.55.46118","BACILLARIOPHYTA","COSCINODISCOPHYCEAE",null,"COSCINODISCACEAE","PALMERINA"]
[null,null,null,null,null,null,null,null,null,null,null,null,null,null,null,null,null,null,null,null,null,null,null,null,null,null,null,null,null,null,null,null,null,null,null,null,"PARALIA","PARALIA","7035.46.44184","BACILLARIOPHYTA",null,null,"PARALIACEAE"]
[null,null,null,null,null,null,null,null,null,null,null,null,null,null,null,null,null,null,null,null,null,null,null,null,null,null,null,null,null,null,null,null,null,null,null,null,"PARALIA SULCATA","PARALIA SULCATA","7035.55.33025","BACILLARIOPHYTA",null,null,"PARALIACEAE","PARALIA"]
[null,null,null,null,null,null,null,null,null,null,null,null,null,null,null,null,null,null,null,null,null,null,null,null,null,null,null,null,null,null,null,null,null,null,null,null,"PARLIBELLUS","PARLIBELLUS","7035.46.45968","BACILLARIOPHYTA",null,null,"BERKELEYACEAE"]
[null,null,null,null,null,null,null,null,null,null,null,null,null,null,null,null,null,null,null,null,null,null,null,null,null,null,null,null,null,null,null,null,null,null,null,null,"PARLIBELLUS CRUCICULUS","PARLIBELLUS CRUCICULUS","7035.55.64381","BACILLARIOPHYTA",null,null,"BERKELEYACEAE","PARLIBELLUS"]
[null,null,null,null,null,null,null,null,null,null,null,null,null,null,null,null,null,null,null,null,null,null,null,null,null,null,null,null,null,null,null,null,null,null,null,null,"PEDIASTRUM","PEDIASTRUM","4020.46.43414","CHLOROPHYTA",null,null,"HYDRODICTYACEAE"]
[null,null,null,null,null,null,null,null,null,null,null,null,null,null,null,null,null,null,null,null,null,null,null,null,null,null,null,null,null,null,null,null,null,null,null,null,"PEDIASTRUM DUPLEX","PEDIASTRUM DUPLEX","4020.55.132115","CHLOROPHYTA",null,null,"HYDRODICTYACEAE","PEDIASTRUM"]
[null,null,null,null,null,null,null,null,null,null,null,null,null,null,null,null,null,null,null,null,null,null,null,null,null,null,null,null,null,null,null,null,null,null,null,null,"PERIDINIUM","PERIDINIUM","7030.46.43636","MIOZOA",null,null,"PERIDINIACEAE"]
[null,null,null,null,null,null,null,null,null,null,null,null,null,null,null,null,null,null,null,null,null,null,null,null,null,null,null,null,null,null,null,null,null,null,null,null,"PERIDINIUM QUINQUECORNE","PERIDINIUM QUINQUECORNE","7030.55.144913","MIOZOA",null,null,"PERIDINIACEAE","PERIDINIUM"]
[null,null,null,null,null,null,null,null,null,null,null,null,null,null,null,null,null,null,null,null,null,null,null,null,null,null,null,null,null,null,null,null,null,null,null,null,"PETRODICTYON","PETRODICTYON","7035.46.44432","BACILLARIOPHYTA",null,null,"SURIRELLACEAE"]
[null,null,null,null,null,null,null,null,null,null,null,null,null,null,null,null,null,null,null,null,null,null,null,null,null,null,null,null,null,null,null,null,null,null,null,null,"PETRODICTYON GEMMA","PETRODICTYON GEMMA","7035.55.39313","BACILLARIOPHYTA",null,null,"SURIRELLACEAE","PETRODICTYON"]
[null,null,null,null,null,null,null,null,null,null,null,null,null,null,null,null,null,null,null,null,null,null,null,null,null,null,null,null,null,null,null,null,null,null,null,null,"PETRONEIS","PETRONEIS","7035.46.44200","BACILLARIOPHYTA","BACILLARIOPHYCEAE",null,"LYRELLACEAE"]
[null,null,null,null,null,null,null,null,null,null,null,null,null,null,null,null,null,null,null,null,null,null,null,null,null,null,null,null,null,null,null,null,null,null,null,null,"PETRONEIS GRANULATA","PETRONEIS GRANULATA","7035.55.39500","BACILLARIOPHYTA","BACILLARIOPHYCEAE",null,"LYRELLACEAE","PETRONEIS"]
[null,null,null,null,null,null,null,null,null,null,null,null,null,null,null,null,null,null,null,null,null,null,null,null,null,null,null,null,null,null,null,null,null,null,null,null,"PETRONEIS MARINA","PETRONEIS MARINA","7035.55.39502","BACILLARIOPHYTA","BACILLARIOPHYCEAE",null,"LYRELLACEAE","PETRONEIS"]
[null,null,null,null,null,null,null,null,null,null,null,null,null,null,null,null,null,null,null,null,null,null,null,null,null,null,null,null,null,null,null,null,null,null,null,null,"PETRONEIS PLAGIOSTOMA","PETRONEIS PLAGIOSTOMA","7035.55.46295","BACILLARIOPHYTA","BACILLARIOPHYCEAE",null,"LYRELLACEAE","PETRONEIS"]
[null,null,null,null,null,null,null,null,null,null,null,null,null,null,null,null,null,null,null,null,null,null,null,null,null,null,null,null,null,null,null,null,null,null,null,null,"PHACUS","PHACUS","4030.46.43655","EUGLENOZOA",null,null,"PHACACEAE"]
[null,null,null,null,null,null,null,null,null,null,null,null,null,null,null,null,null,null,null,null,null,null,null,null,null,null,null,null,null,null,null,null,null,null,null,null,"PHALACROMA","PHALACROMA","7030.46.44962","MIOZOA","DINOPHYCEAE",null,"PYROPHACACEAE"]
[null,null,null,null,null,null,null,null,null,null,null,null,null,null,null,null,null,null,null,null,null,null,null,null,null,null,null,null,null,null,null,null,null,null,null,null,"PHALACROMA CUNEUS","PHALACROMA CUNEUS","7030.55.60021","MIOZOA","DINOPHYCEAE",null,"PYROPHACACEAE","PHALACROMA"]
[null,null,null,null,null,null,null,null,null,null,null,null,null,null,null,null,null,null,null,null,null,null,null,null,null,null,null,null,null,null,null,null,null,null,null,null,"PHALACROMA DORYPHORUM","PHALACROMA DORYPHORUM","7030.55.60022","MIOZOA","DINOPHYCEAE",null,"PYROPHACACEAE","PHALACROMA"]
[null,null,null,null,null,null,null,null,null,null,null,null,null,null,null,null,null,null,null,null,null,null,null,null,null,null,null,null,null,null,null,null,null,null,null,null,"PHALACROMA FAVUS","PHALACROMA FAVUS","7030.55.60023","MIOZOA","DINOPHYCEAE",null,"PYROPHACACEAE","PHALACROMA"]
[null,null,null,null,null,null,null,null,null,null,null,null,null,null,null,null,null,null,null,null,null,null,null,null,null,null,null,null,null,null,null,null,null,null,null,null,"PHALACROMA HINDMARCHII","PHALACROMA HINDMARCHII","7030.55.70196","MIOZOA","DINOPHYCEAE",null,"PYROPHACACEAE","PHALACROMA"]
[null,null,null,null,null,null,null,null,null,null,null,null,null,null,null,null,null,null,null,null,null,null,null,null,null,null,null,null,null,null,null,null,null,null,null,null,"PHALACROMA MITRA","PHALACROMA MITRA","7030.55.58459","MIOZOA","DINOPHYCEAE",null,"PYROPHACACEAE","PHALACROMA"]
[null,null,null,null,null,null,null,null,null,null,null,null,null,null,null,null,null,null,null,null,null,null,null,null,null,null,null,null,null,null,null,null,null,null,null,null,"PHALACROMA OXYTOXOIDES","PHALACROMA OXYTOXOIDES","7030.55.138796","MIOZOA","DINOPHYCEAE",null,"PYROPHACACEAE","PHALACROMA"]
[null,null,null,null,null,null,null,null,null,null,null,null,null,null,null,null,null,null,null,null,null,null,null,null,null,null,null,null,null,null,null,null,null,null,null,null,"PHALACROMA RAPA","PHALACROMA RAPA","7030.55.58458","MIOZOA","DINOPHYCEAE",null,"PYROPHACACEAE","PHALACROMA"]
[null,null,null,null,null,null,null,null,null,null,null,null,null,null,null,null,null,null,null,null,null,null,null,null,null,null,null,null,null,null,null,null,null,null,null,null,"PHALACROMA ROTUNDATUM","PHALACROMA ROTUNDATUM","7030.55.117200","MIOZOA","DINOPHYCEAE",null,"PYROPHACACEAE","PHALACROMA"]
[null,null,null,null,null,null,null,null,null,null,null,null,null,null,null,null,null,null,null,null,null,null,null,null,null,null,null,null,null,null,null,null,null,null,null,null,"PHORMIDIUM","PHORMIDIUM","5040.46.43079","CYANOBACTERIA",null,null,"PHORMIDIACEAE"]
[null,null,null,null,null,null,null,null,null,null,null,null,null,null,null,null,null,null,null,null,null,null,null,null,null,null,null,null,null,null,null,null,null,null,null,null,"PINNULARIA","PINNULARIA","7035.46.43739","BACILLARIOPHYTA","BACILLARIOPHYCEAE",null,"PINNULARIACEAE"]
[null,null,null,null,null,null,null,null,null,null,null,null,null,null,null,null,null,null,null,null,null,null,null,null,null,null,null,null,null,null,null,null,null,null,null,null,"PINNULARIA GENTILIS","PINNULARIA GENTILIS","7035.55.169627","BACILLARIOPHYTA","BACILLARIOPHYCEAE",null,"PINNULARIACEAE","PINNULARIA"]
[null,null,null,null,null,null,null,null,null,null,null,null,null,null,null,null,null,null,null,null,null,null,null,null,null,null,null,null,null,null,null,null,null,null,null,null,"PINNULARIA NOBILIS","PINNULARIA NOBILIS","7035.55.51218","BACILLARIOPHYTA","BACILLARIOPHYCEAE",null,"PINNULARIACEAE","PINNULARIA"]
[null,null,null,null,null,null,null,null,null,null,null,null,null,null,null,null,null,null,null,null,null,null,null,null,null,null,null,null,null,null,null,null,null,null,null,null,"PLAGIOGRAMMA","PLAGIOGRAMMA","7035.46.43740","BACILLARIOPHYTA",null,null,"PLAGIOGRAMMACEAE"]
[null,null,null,null,null,null,null,null,null,null,null,null,null,null,null,null,null,null,null,null,null,null,null,null,null,null,null,null,null,null,null,null,null,null,null,null,"PLAGIOGRAMMA OBESUM","PLAGIOGRAMMA OBESUM","7035.55.140306","BACILLARIOPHYTA",null,null,"PLAGIOGRAMMACEAE","PLAGIOGRAMMA"]
[null,null,null,null,null,null,null,null,null,null,null,null,null,null,null,null,null,null,null,null,null,null,null,null,null,null,null,null,null,null,null,null,null,null,null,null,"PLAGIOGRAMMOPSIS","PLAGIOGRAMMOPSIS","7035.46.46027","BACILLARIOPHYTA",null,null,"CYMATOSIRACEAE"]
[null,null,null,null,null,null,null,null,null,null,null,null,null,null,null,null,null,null,null,null,null,null,null,null,null,null,null,null,null,null,null,null,null,null,null,null,"PLAGIOTROPIS","PLAGIOTROPIS","7035.46.43741","BACILLARIOPHYTA","BACILLARIOPHYCEAE",null,"PLAGIOTROPIDACEAE"]
[null,null,null,null,null,null,null,null,null,null,null,null,null,null,null,null,null,null,null,null,null,null,null,null,null,null,null,null,null,null,null,null,null,null,null,null,"PLAGIOTROPIS LEPIDOPTERA","PLAGIOTROPIS LEPIDOPTERA","7035.55.159495","BACILLARIOPHYTA","BACILLARIOPHYCEAE",null,"PLAGIOTROPIDACEAE","PLAGIOTROPIS"]
[null,null,null,null,null,null,null,null,null,null,null,null,null,null,null,null,null,null,null,null,null,null,null,null,null,null,null,null,null,null,null,null,null,null,null,null,"PLAGIOTROPIS LONGA","PLAGIOTROPIS LONGA","7035.55.56338","BACILLARIOPHYTA","BACILLARIOPHYCEAE",null,"PLAGIOTROPIDACEAE","PLAGIOTROPIS"]
[null,null,null,null,null,null,null,null,null,null,null,null,null,null,null,null,null,null,null,null,null,null,null,null,null,null,null,null,null,null,null,null,null,null,null,null,"PLAGIOTROPIS MAXIMA","PLAGIOTROPIS MAXIMA","7035.55.39321","BACILLARIOPHYTA","BACILLARIOPHYCEAE",null,"PLAGIOTROPIDACEAE","PLAGIOTROPIS"]
[null,null,null,null,null,null,null,null,null,null,null,null,null,null,null,null,null,null,null,null,null,null,null,null,null,null,null,null,null,null,null,null,null,null,null,null,"PLAGIOTROPIS SERIATA","PLAGIOTROPIS SERIATA","7035.55.149079","BACILLARIOPHYTA","BACILLARIOPHYCEAE",null,"PLAGIOTROPIDACEAE","PLAGIOTROPIS"]
[null,null,null,null,null,null,null,null,null,null,null,null,null,null,null,null,null,null,null,null,null,null,null,null,null,null,null,null,null,null,null,null,null,null,null,null,"PLANCTONEMA","PLANCTONEMA","4020.46.43490","CHLOROPHYTA","TREBOUXIOPHYCEAE",null,"OOCYSTACEAE"]
[null,null,null,null,null,null,null,null,null,null,null,null,null,null,null,null,null,null,null,null,null,null,null,null,null,null,null,null,null,null,null,null,null,null,null,null,"PLANKTOLYNGBYA","PLANKTOLYNGBYA","5040.46.43607","CYANOBACTERIA",null,null,"LEPTOLYNGBYACEAE"]
[null,null,null,null,null,null,null,null,null,null,null,null,null,null,null,null,null,null,null,null,null,null,null,null,null,null,null,null,null,null,null,null,null,null,null,null,"PLANKTONIELLA","PLANKTONIELLA","7035.46.44437","BACILLARIOPHYTA",null,null,"THALASSIOSIRACEAE"]
[null,null,null,null,null,null,null,null,null,null,null,null,null,null,null,null,null,null,null,null,null,null,null,null,null,null,null,null,null,null,null,null,null,null,null,null,"PLANKTONIELLA SOL","PLANKTONIELLA SOL","7035.55.39494","BACILLARIOPHYTA",null,null,"THALASSIOSIRACEAE","PLANKTONIELLA"]
[null,null,null,null,null,null,null,null,null,null,null,null,null,null,null,null,null,null,null,null,null,null,null,null,null,null,null,null,null,null,null,null,null,null,null,null,"PLANKTOTHRIX","PLANKTOTHRIX","5040.46.43608","CYANOBACTERIA",null,null,"MICROCOLEACEAE"]
[null,null,null,null,null,null,null,null,null,null,null,null,null,null,null,null,null,null,null,null,null,null,null,null,null,null,null,null,null,null,null,null,null,null,null,null,"PLANOTHIDIUM","PLANOTHIDIUM","7035.46.44202","BACILLARIOPHYTA",null,null,"ACHNANTHIDIACEAE"]
[null,null,null,null,null,null,null,null,null,null,null,null,null,null,null,null,null,null,null,null,null,null,null,null,null,null,null,null,null,null,null,null,null,null,null,null,"PLEUROSIGMA","PLEUROSIGMA","7035.46.43742","BACILLARIOPHYTA","BACILLARIOPHYCEAE",null,"PLEUROSIGMATACEAE"]
[null,null,null,null,null,null,null,null,null,null,null,null,null,null,null,null,null,null,null,null,null,null,null,null,null,null,null,null,null,null,null,null,null,null,null,null,"PLEUROSIGMA DECORUM","PLEUROSIGMA DECORUM","7035.55.87305","BACILLARIOPHYTA","BACILLARIOPHYCEAE",null,"PLEUROSIGMATACEAE","PLEUROSIGMA"]
[null,null,null,null,null,null,null,null,null,null,null,null,null,null,null,null,null,null,null,null,null,null,null,null,null,null,null,null,null,null,null,null,null,null,null,null,"PLEUROSIGMA DELICATULUM","PLEUROSIGMA DELICATULUM","7035.55.39442","BACILLARIOPHYTA","BACILLARIOPHYCEAE",null,"PLEUROSIGMATACEAE","PLEUROSIGMA"]
[null,null,null,null,null,null,null,null,null,null,null,null,null,null,null,null,null,null,null,null,null,null,null,null,null,null,null,null,null,null,null,null,null,null,null,null,"PLEUROSIGMA DIRECTUM","PLEUROSIGMA DIRECTUM","7035.55.59887","BACILLARIOPHYTA","BACILLARIOPHYCEAE",null,"PLEUROSIGMATACEAE","PLEUROSIGMA"]
[null,null,null,null,null,null,null,null,null,null,null,null,null,null,null,null,null,null,null,null,null,null,null,null,null,null,null,null,null,null,null,null,null,null,null,null,"PLEUROSIGMA ELONGATUM","PLEUROSIGMA ELONGATUM","7035.55.32024","BACILLARIOPHYTA","BACILLARIOPHYCEAE",null,"PLEUROSIGMATACEAE","PLEUROSIGMA"]
[null,null,null,null,null,null,null,null,null,null,null,null,null,null,null,null,null,null,null,null,null,null,null,null,null,null,null,null,null,null,null,null,null,null,null,null,"PLEUROSIGMA FORMOSUM","PLEUROSIGMA FORMOSUM","7035.55.32025","BACILLARIOPHYTA","BACILLARIOPHYCEAE",null,"PLEUROSIGMATACEAE","PLEUROSIGMA"]
[null,null,null,null,null,null,null,null,null,null,null,null,null,null,null,null,null,null,null,null,null,null,null,null,null,null,null,null,null,null,null,null,null,null,null,null,"PLEUROSIGMA HAMULIFERUM","PLEUROSIGMA HAMULIFERUM","7035.55.149080","BACILLARIOPHYTA","BACILLARIOPHYCEAE",null,"PLEUROSIGMATACEAE","PLEUROSIGMA"]
[null,null,null,null,null,null,null,null,null,null,null,null,null,null,null,null,null,null,null,null,null,null,null,null,null,null,null,null,null,null,null,null,null,null,null,null,"PLEUROSIGMA NICOBARICUM","PLEUROSIGMA NICOBARICUM","7035.55.170066","BACILLARIOPHYTA","BACILLARIOPHYCEAE",null,"PLEUROSIGMATACEAE","PLEUROSIGMA"]
[null,null,null,null,null,null,null,null,null,null,null,null,null,null,null,null,null,null,null,null,null,null,null,null,null,null,null,null,null,null,null,null,null,null,null,null,"PLEUROSIGMA NORMANII","PLEUROSIGMA NORMANII","7035.55.149845","BACILLARIOPHYTA","BACILLARIOPHYCEAE",null,"PLEUROSIGMATACEAE","PLEUROSIGMA"]
[null,null,null,null,null,null,null,null,null,null,null,null,null,null,null,null,null,null,null,null,null,null,null,null,null,null,null,null,null,null,null,null,null,null,null,null,"PLEUROSIGMA PORTORICENSE","PLEUROSIGMA PORTORICENSE","7035.55.148988","BACILLARIOPHYTA","BACILLARIOPHYCEAE",null,"PLEUROSIGMATACEAE","PLEUROSIGMA"]
[null,null,null,null,null,null,null,null,null,null,null,null,null,null,null,null,null,null,null,null,null,null,null,null,null,null,null,null,null,null,null,null,null,null,null,null,"PLEUROSIGMA RHOMBEUM","PLEUROSIGMA RHOMBEUM","7035.55.39479","BACILLARIOPHYTA","BACILLARIOPHYCEAE",null,"PLEUROSIGMATACEAE","PLEUROSIGMA"]
[null,null,null,null,null,null,null,null,null,null,null,null,null,null,null,null,null,null,null,null,null,null,null,null,null,null,null,null,null,null,null,null,null,null,null,null,"PLEUROSIGMA RIGIDUM","PLEUROSIGMA RIGIDUM","7035.55.39480","BACILLARIOPHYTA","BACILLARIOPHYCEAE",null,"PLEUROSIGMATACEAE","PLEUROSIGMA"]
[null,null,null,null,null,null,null,null,null,null,null,null,null,null,null,null,null,null,null,null,null,null,null,null,null,null,null,null,null,null,null,null,null,null,null,null,"PLEUROSIGMA ROSTRATUM","PLEUROSIGMA ROSTRATUM","7035.55.145742","BACILLARIOPHYTA","BACILLARIOPHYCEAE",null,"PLEUROSIGMATACEAE","PLEUROSIGMA"]
[null,null,null,null,null,null,null,null,null,null,null,null,null,null,null,null,null,null,null,null,null,null,null,null,null,null,null,null,null,null,null,null,null,null,null,null,"PLEUROSIGMA SPECIOSUM","PLEUROSIGMA SPECIOSUM","7035.55.32029","BACILLARIOPHYTA","BACILLARIOPHYCEAE",null,"PLEUROSIGMATACEAE","PLEUROSIGMA"]
[null,null,null,null,null,null,null,null,null,null,null,null,null,null,null,null,null,null,null,null,null,null,null,null,null,null,null,null,null,null,null,null,null,null,null,null,"PLEUROSIGMA STRIGOSUM","PLEUROSIGMA STRIGOSUM","7035.55.34286","BACILLARIOPHYTA","BACILLARIOPHYCEAE",null,"PLEUROSIGMATACEAE","PLEUROSIGMA"]
[null,null,null,null,null,null,null,null,null,null,null,null,null,null,null,null,null,null,null,null,null,null,null,null,null,null,null,null,null,null,null,null,null,null,null,null,"PLEUROSIRA","PLEUROSIRA","7035.46.44186","BACILLARIOPHYTA",null,null,"TRICERATIACEAE"]
[null,null,null,null,null,null,null,null,null,null,null,null,null,null,null,null,null,null,null,null,null,null,null,null,null,null,null,null,null,null,null,null,null,null,null,null,"PLEUROSIRA LAEVIS","PLEUROSIRA LAEVIS","7035.55.33029","BACILLARIOPHYTA",null,null,"TRICERATIACEAE","PLEUROSIRA"]
[null,null,null,null,null,null,null,null,null,null,null,null,null,null,null,null,null,null,null,null,null,null,null,null,null,null,null,null,null,null,null,null,null,null,null,null,"PODOCYSTIS","PODOCYSTIS","7035.46.43714","BACILLARIOPHYTA",null,null,"FRAGILARIACEAE"]
[null,null,null,null,null,null,null,null,null,null,null,null,null,null,null,null,null,null,null,null,null,null,null,null,null,null,null,null,null,null,null,null,null,null,null,null,"PODOCYSTIS ADRIATICA","PODOCYSTIS ADRIATICA","7035.55.39504","BACILLARIOPHYTA","BACILLARIOPHYCEAE",null,"FRAGILARIACEAE","PODOCYSTIS"]
[null,null,null,null,null,null,null,null,null,null,null,null,null,null,null,null,null,null,null,null,null,null,null,null,null,null,null,null,null,null,null,null,null,null,null,null,"PODOLAMPAS","PODOLAMPAS","7030.46.44678","MIOZOA",null,null,"PODOLAMPADACEAE"]
[null,null,null,null,null,null,null,null,null,null,null,null,null,null,null,null,null,null,null,null,null,null,null,null,null,null,null,null,null,null,null,null,null,null,null,null,"PODOLAMPAS BIPES","PODOLAMPAS BIPES","7030.55.169522","MIOZOA",null,null,"PODOLAMPADACEAE","PODOLAMPAS"]
[null,null,null,null,null,null,null,null,null,null,null,null,null,null,null,null,null,null,null,null,null,null,null,null,null,null,null,null,null,null,null,null,null,null,null,null,"PODOLAMPAS ELEGANS","PODOLAMPAS ELEGANS","7030.55.52586","MIOZOA",null,null,"PODOLAMPADACEAE","PODOLAMPAS"]
[null,null,null,null,null,null,null,null,null,null,null,null,null,null,null,null,null,null,null,null,null,null,null,null,null,null,null,null,null,null,null,null,null,null,null,null,"PODOLAMPAS PALMIPES","PODOLAMPAS PALMIPES","7030.55.52588","MIOZOA",null,null,"PODOLAMPADACEAE","PODOLAMPAS"]
[null,null,null,null,null,null,null,null,null,null,null,null,null,null,null,null,null,null,null,null,null,null,null,null,null,null,null,null,null,null,null,null,null,null,null,null,"PODOLAMPAS SPINIFERA","PODOLAMPAS SPINIFERA","7030.55.52587","MIOZOA",null,null,"PODOLAMPADACEAE","PODOLAMPAS"]
[null,null,null,null,null,null,null,null,null,null,null,null,null,null,null,null,null,null,null,null,null,null,null,null,null,null,null,null,null,null,null,null,null,null,null,null,"PODOSIRA","PODOSIRA","7035.46.44440","BACILLARIOPHYTA",null,null,"HYALODISCACEAE"]
[null,null,null,null,null,null,null,null,null,null,null,null,null,null,null,null,null,null,null,null,null,null,null,null,null,null,null,null,null,null,null,null,null,null,null,null,"PORPHYROSIPHON","PORPHYROSIPHON","5040.46.43297","CYANOBACTERIA",null,null,"PHORMIDIACEAE"]
[null,null,null,null,null,null,null,null,null,null,null,null,null,null,null,null,null,null,null,null,null,null,null,null,null,null,null,null,null,null,null,null,null,null,null,null,"PROBOSCIA","PROBOSCIA","7035.46.46075","BACILLARIOPHYTA","COSCINODISCOPHYCEAE",null,"RHIZOSOLENIACEAE"]
[null,null,null,null,null,null,null,null,null,null,null,null,null,null,null,null,null,null,null,null,null,null,null,null,null,null,null,null,null,null,null,null,null,null,null,null,"PROBOSCIA ALATA","PROBOSCIA ALATA","7035.55.149081","BACILLARIOPHYTA","COSCINODISCOPHYCEAE",null,"RHIZOSOLENIACEAE","PROBOSCIA"]
[null,null,null,null,null,null,null,null,null,null,null,null,null,null,null,null,null,null,null,null,null,null,null,null,null,null,null,null,null,null,null,null,null,null,null,null,"PROBOSCIA INDICA","PROBOSCIA INDICA","7035.55.46946","BACILLARIOPHYTA","COSCINODISCOPHYCEAE",null,"RHIZOSOLENIACEAE","PROBOSCIA"]
[null,null,null,null,null,null,null,null,null,null,null,null,null,null,null,null,null,null,null,null,null,null,null,null,null,null,null,null,null,null,null,null,null,null,null,null,"PRONOCTILUCA","PRONOCTILUCA","7030.46.44683","MIOZOA",null,null,"PROTODINIFERACEAE"]
[null,null,null,null,null,null,null,null,null,null,null,null,null,null,null,null,null,null,null,null,null,null,null,null,null,null,null,null,null,null,null,null,null,null,null,null,"PROROCENTRUM","PROROCENTRUM","7030.46.43640","MIOZOA","DINOPHYCEAE",null,"PROROCENTRACEAE"]
[null,null,null,null,null,null,null,null,null,null,null,null,null,null,null,null,null,null,null,null,null,null,null,null,null,null,null,null,null,null,null,null,null,null,null,null,"PROROCENTRUM CORDATUM","PROROCENTRUM CORDATUM","7030.55.71381","MIOZOA","DINOPHYCEAE",null,"PROROCENTRACEAE","PROROCENTRUM"]
[null,null,null,null,null,null,null,null,null,null,null,null,null,null,null,null,null,null,null,null,null,null,null,null,null,null,null,null,null,null,null,null,null,null,null,null,"PROROCENTRUM DENTATUM","PROROCENTRUM DENTATUM","7030.55.52606","MIOZOA","DINOPHYCEAE",null,"PROROCENTRACEAE","PROROCENTRUM"]
[null,null,null,null,null,null,null,null,null,null,null,null,null,null,null,null,null,null,null,null,null,null,null,null,null,null,null,null,null,null,null,null,null,null,null,null,"PROROCENTRUM GRACILE","PROROCENTRUM GRACILE","7030.55.52608","MIOZOA","DINOPHYCEAE",null,"PROROCENTRACEAE","PROROCENTRUM"]
[null,null,null,null,null,null,null,null,null,null,null,null,null,null,null,null,null,null,null,null,null,null,null,null,null,null,null,null,null,null,null,null,null,null,null,null,"PROROCENTRUM LENTICULATUM","PROROCENTRUM LENTICULATUM","7030.55.71382","MIOZOA","DINOPHYCEAE",null,"PROROCENTRACEAE","PROROCENTRUM"]
[null,null,null,null,null,null,null,null,null,null,null,null,null,null,null,null,null,null,null,null,null,null,null,null,null,null,null,null,null,null,null,null,null,null,null,null,"PROROCENTRUM LIMA","PROROCENTRUM LIMA","7030.55.52609","MIOZOA","DINOPHYCEAE",null,"PROROCENTRACEAE","PROROCENTRUM"]
[null,null,null,null,null,null,null,null,null,null,null,null,null,null,null,null,null,null,null,null,null,null,null,null,null,null,null,null,null,null,null,null,null,null,null,null,"PROROCENTRUM MAXIMUM","PROROCENTRUM MAXIMUM","7030.55.145771","MIOZOA","DINOPHYCEAE",null,"PROROCENTRACEAE","PROROCENTRUM"]
[null,null,null,null,null,null,null,null,null,null,null,null,null,null,null,null,null,null,null,null,null,null,null,null,null,null,null,null,null,null,null,null,null,null,null,null,"PROROCENTRUM MEXICANUM","PROROCENTRUM MEXICANUM","7030.55.58743","MIOZOA","DINOPHYCEAE",null,"PROROCENTRACEAE","PROROCENTRUM"]
[null,null,null,null,null,null,null,null,null,null,null,null,null,null,null,null,null,null,null,null,null,null,null,null,null,null,null,null,null,null,null,null,null,null,null,null,"PROROCENTRUM MICANS","PROROCENTRUM MICANS","7030.55.167945","MIOZOA","DINOPHYCEAE",null,"PROROCENTRACEAE","PROROCENTRUM"]
[null,null,null,null,null,null,null,null,null,null,null,null,null,null,null,null,null,null,null,null,null,null,null,null,null,null,null,null,null,null,null,null,null,null,null,null,"PROROCENTRUM MINIMUM","PROROCENTRUM MINIMUM","7030.55.51819","MIOZOA","DINOPHYCEAE",null,"PROROCENTRACEAE","PROROCENTRUM"]
[null,null,null,null,null,null,null,null,null,null,null,null,null,null,null,null,null,null,null,null,null,null,null,null,null,null,null,null,null,null,null,null,null,null,null,null,"PROROCENTRUM ROSTRATUM","PROROCENTRUM ROSTRATUM","7030.55.52616","MIOZOA","DINOPHYCEAE",null,"PROROCENTRACEAE","PROROCENTRUM"]
[null,null,null,null,null,null,null,null,null,null,null,null,null,null,null,null,null,null,null,null,null,null,null,null,null,null,null,null,null,null,null,null,null,null,null,null,"PROROCENTRUM TRIESTINUM","PROROCENTRUM TRIESTINUM","7030.55.51821","MIOZOA","DINOPHYCEAE",null,"PROROCENTRACEAE","PROROCENTRUM"]
[null,null,null,null,null,null,null,null,null,null,null,null,null,null,null,null,null,null,null,null,null,null,null,null,null,null,null,null,null,null,null,null,null,null,null,null,"PROTOCERATIUM","PROTOCERATIUM","7030.46.44684","MIOZOA",null,null,"PROTOCERATIACEAE"]
[null,null,null,null,null,null,null,null,null,null,null,null,null,null,null,null,null,null,null,null,null,null,null,null,null,null,null,null,null,null,null,null,null,null,null,null,"PROTOPERIDINIUM","PROTOPERIDINIUM","7030.46.44685","MIOZOA","DINOPHYCEAE",null,"PROTOPERIDINIACEAE"]
[null,null,null,null,null,null,null,null,null,null,null,null,null,null,null,null,null,null,null,null,null,null,null,null,null,null,null,null,null,null,null,null,null,null,null,null,"PROTOPERIDINIUM ABEI","PROTOPERIDINIUM ABEI","7030.55.70914","MIOZOA","DINOPHYCEAE",null,"PROTOPERIDINIACEAE","PROTOPERIDINIUM"]
[null,null,null,null,null,null,null,null,null,null,null,null,null,null,null,null,null,null,null,null,null,null,null,null,null,null,null,null,null,null,null,null,null,null,null,null,"PROTOPERIDINIUM ASPIDIOTUM","PROTOPERIDINIUM ASPIDIOTUM","7030.55.70937","MIOZOA","DINOPHYCEAE",null,"PROTOPERIDINIACEAE","PROTOPERIDINIUM"]
[null,null,null,null,null,null,null,null,null,null,null,null,null,null,null,null,null,null,null,null,null,null,null,null,null,null,null,null,null,null,null,null,null,null,null,null,"PROTOPERIDINIUM BALECHII","PROTOPERIDINIUM BALECHII","7030.55.46998","MIOZOA","DINOPHYCEAE",null,"PROTOPERIDINIACEAE","PROTOPERIDINIUM"]
[null,null,null,null,null,null,null,null,null,null,null,null,null,null,null,null,null,null,null,null,null,null,null,null,null,null,null,null,null,null,null,null,null,null,null,null,"PROTOPERIDINIUM BIPES","PROTOPERIDINIUM BIPES","7030.55.52632","MIOZOA","DINOPHYCEAE",null,"PROTOPERIDINIACEAE","PROTOPERIDINIUM"]
[null,null,null,null,null,null,null,null,null,null,null,null,null,null,null,null,null,null,null,null,null,null,null,null,null,null,null,null,null,null,null,null,null,null,null,null,"PROTOPERIDINIUM BROCHII","PROTOPERIDINIUM BROCHII","7030.55.52635","MIOZOA","DINOPHYCEAE",null,"PROTOPERIDINIACEAE","PROTOPERIDINIUM"]
[null,null,null,null,null,null,null,null,null,null,null,null,null,null,null,null,null,null,null,null,null,null,null,null,null,null,null,null,null,null,null,null,null,null,null,null,"PROTOPERIDINIUM CASSUM","PROTOPERIDINIUM CASSUM","7030.55.70952","MIOZOA","DINOPHYCEAE",null,"PROTOPERIDINIACEAE","PROTOPERIDINIUM"]
[null,null,null,null,null,null,null,null,null,null,null,null,null,null,null,null,null,null,null,null,null,null,null,null,null,null,null,null,null,null,null,null,null,null,null,null,"PROTOPERIDINIUM CLAUDICANS","PROTOPERIDINIUM CLAUDICANS","7030.55.54641","MIOZOA","DINOPHYCEAE",null,"PROTOPERIDINIACEAE","PROTOPERIDINIUM"]
[null,null,null,null,null,null,null,null,null,null,null,null,null,null,null,null,null,null,null,null,null,null,null,null,null,null,null,null,null,null,null,null,null,null,null,null,"PROTOPERIDINIUM CONICUM","PROTOPERIDINIUM CONICUM","7030.55.153890","MIOZOA","DINOPHYCEAE",null,"PROTOPERIDINIACEAE","PROTOPERIDINIUM"]
[null,null,null,null,null,null,null,null,null,null,null,null,null,null,null,null,null,null,null,null,null,null,null,null,null,null,null,null,null,null,null,null,null,null,null,null,"PROTOPERIDINIUM CORNICULUM","PROTOPERIDINIUM CORNICULUM","7030.55.47001","MIOZOA","DINOPHYCEAE",null,"PROTOPERIDINIACEAE","PROTOPERIDINIUM"]
[null,null,null,null,null,null,null,null,null,null,null,null,null,null,null,null,null,null,null,null,null,null,null,null,null,null,null,null,null,null,null,null,null,null,null,null,"PROTOPERIDINIUM CRASSIPES","PROTOPERIDINIUM CRASSIPES","7030.55.52638","MIOZOA","DINOPHYCEAE",null,"PROTOPERIDINIACEAE","PROTOPERIDINIUM"]
[null,null,null,null,null,null,null,null,null,null,null,null,null,null,null,null,null,null,null,null,null,null,null,null,null,null,null,null,null,null,null,null,null,null,null,null,"PROTOPERIDINIUM CRISTATUM","PROTOPERIDINIUM CRISTATUM","7030.55.71066","MIOZOA","DINOPHYCEAE",null,"PROTOPERIDINIACEAE","PROTOPERIDINIUM"]
[null,null,null,null,null,null,null,null,null,null,null,null,null,null,null,null,null,null,null,null,null,null,null,null,null,null,null,null,null,null,null,null,null,null,null,null,"PROTOPERIDINIUM CURTIPES","PROTOPERIDINIUM CURTIPES","7030.55.52639","MIOZOA","DINOPHYCEAE",null,"PROTOPERIDINIACEAE","PROTOPERIDINIUM"]
[null,null,null,null,null,null,null,null,null,null,null,null,null,null,null,null,null,null,null,null,null,null,null,null,null,null,null,null,null,null,null,null,null,null,null,null,"PROTOPERIDINIUM DEPRESSUM","PROTOPERIDINIUM DEPRESSUM","7030.55.52641","MIOZOA","DINOPHYCEAE",null,"PROTOPERIDINIACEAE","PROTOPERIDINIUM"]
[null,null,null,null,null,null,null,null,null,null,null,null,null,null,null,null,null,null,null,null,null,null,null,null,null,null,null,null,null,null,null,null,null,null,null,null,"PROTOPERIDINIUM DIVERGENS","PROTOPERIDINIUM DIVERGENS","7030.55.52643","MIOZOA","DINOPHYCEAE",null,"PROTOPERIDINIACEAE","PROTOPERIDINIUM"]
[null,null,null,null,null,null,null,null,null,null,null,null,null,null,null,null,null,null,null,null,null,null,null,null,null,null,null,null,null,null,null,null,null,null,null,null,"PROTOPERIDINIUM ELEGANS","PROTOPERIDINIUM ELEGANS","7030.55.169655","MIOZOA","DINOPHYCEAE",null,"PROTOPERIDINIACEAE","PROTOPERIDINIUM"]
[null,null,null,null,null,null,null,null,null,null,null,null,null,null,null,null,null,null,null,null,null,null,null,null,null,null,null,null,null,null,null,null,null,null,null,null,"PROTOPERIDINIUM EXAGERATUM","PROTOPERIDINIUM EXAGERATUM","7030.55.71078","MIOZOA","DINOPHYCEAE",null,"PROTOPERIDINIACEAE","PROTOPERIDINIUM"]
[null,null,null,null,null,null,null,null,null,null,null,null,null,null,null,null,null,null,null,null,null,null,null,null,null,null,null,null,null,null,null,null,null,null,null,null,"PROTOPERIDINIUM GLOBULUS","PROTOPERIDINIUM GLOBULUS","7030.55.155666","MIOZOA","DINOPHYCEAE",null,"PROTOPERIDINIACEAE","PROTOPERIDINIUM"]
[null,null,null,null,null,null,null,null,null,null,null,null,null,null,null,null,null,null,null,null,null,null,null,null,null,null,null,null,null,null,null,null,null,null,null,null,"PROTOPERIDINIUM GRANDE","PROTOPERIDINIUM GRANDE","7030.55.52645","MIOZOA","DINOPHYCEAE",null,"PROTOPERIDINIACEAE","PROTOPERIDINIUM"]
[null,null,null,null,null,null,null,null,null,null,null,null,null,null,null,null,null,null,null,null,null,null,null,null,null,null,null,null,null,null,null,null,null,null,null,null,"PROTOPERIDINIUM GRANII","PROTOPERIDINIUM GRANII","7030.55.52646","MIOZOA","DINOPHYCEAE",null,"PROTOPERIDINIACEAE","PROTOPERIDINIUM"]
[null,null,null,null,null,null,null,null,null,null,null,null,null,null,null,null,null,null,null,null,null,null,null,null,null,null,null,null,null,null,null,null,null,null,null,null,"PROTOPERIDINIUM HAMATUM","PROTOPERIDINIUM HAMATUM","7030.55.71093","MIOZOA","DINOPHYCEAE",null,"PROTOPERIDINIACEAE","PROTOPERIDINIUM"]
[null,null,null,null,null,null,null,null,null,null,null,null,null,null,null,null,null,null,null,null,null,null,null,null,null,null,null,null,null,null,null,null,null,null,null,null,"PROTOPERIDINIUM HETEROCANTHUM","PROTOPERIDINIUM HETEROCANTHUM","7030.55.71095","MIOZOA","DINOPHYCEAE",null,"PROTOPERIDINIACEAE","PROTOPERIDINIUM"]
[null,null,null,null,null,null,null,null,null,null,null,null,null,null,null,null,null,null,null,null,null,null,null,null,null,null,null,null,null,null,null,null,null,null,null,null,"PROTOPERIDINIUM HIROBIS","PROTOPERIDINIUM HIROBIS","7030.55.71099","MIOZOA","DINOPHYCEAE",null,"PROTOPERIDINIACEAE","PROTOPERIDINIUM"]
[null,null,null,null,null,null,null,null,null,null,null,null,null,null,null,null,null,null,null,null,null,null,null,null,null,null,null,null,null,null,null,null,null,null,null,null,"PROTOPERIDINIUM LATIDORSALE","PROTOPERIDINIUM LATIDORSALE","7030.55.71113","MIOZOA","DINOPHYCEAE",null,"PROTOPERIDINIACEAE","PROTOPERIDINIUM"]
[null,null,null,null,null,null,null,null,null,null,null,null,null,null,null,null,null,null,null,null,null,null,null,null,null,null,null,null,null,null,null,null,null,null,null,null,"PROTOPERIDINIUM LATISSIMUM","PROTOPERIDINIUM LATISSIMUM","7030.55.60328","MIOZOA","DINOPHYCEAE",null,"PROTOPERIDINIACEAE","PROTOPERIDINIUM"]
[null,null,null,null,null,null,null,null,null,null,null,null,null,null,null,null,null,null,null,null,null,null,null,null,null,null,null,null,null,null,null,null,null,null,null,null,"PROTOPERIDINIUM LONGIPES","PROTOPERIDINIUM LONGIPES","7030.55.71118","MIOZOA","DINOPHYCEAE",null,"PROTOPERIDINIACEAE","PROTOPERIDINIUM"]
[null,null,null,null,null,null,null,null,null,null,null,null,null,null,null,null,null,null,null,null,null,null,null,null,null,null,null,null,null,null,null,null,null,null,null,null,"PROTOPERIDINIUM MELO","PROTOPERIDINIUM MELO","7030.55.71128","MIOZOA","DINOPHYCEAE",null,"PROTOPERIDINIACEAE","PROTOPERIDINIUM"]
[null,null,null,null,null,null,null,null,null,null,null,null,null,null,null,null,null,null,null,null,null,null,null,null,null,null,null,null,null,null,null,null,null,null,null,null,"PROTOPERIDINIUM MITE","PROTOPERIDINIUM MITE","7030.55.52658","MIOZOA","DINOPHYCEAE",null,"PROTOPERIDINIACEAE","PROTOPERIDINIUM"]
[null,null,null,null,null,null,null,null,null,null,null,null,null,null,null,null,null,null,null,null,null,null,null,null,null,null,null,null,null,null,null,null,null,null,null,null,"PROTOPERIDINIUM NORPACENSE","PROTOPERIDINIUM NORPACENSE","7030.55.71202","MIOZOA","DINOPHYCEAE",null,"PROTOPERIDINIACEAE","PROTOPERIDINIUM"]
[null,null,null,null,null,null,null,null,null,null,null,null,null,null,null,null,null,null,null,null,null,null,null,null,null,null,null,null,null,null,null,null,null,null,null,null,"PROTOPERIDINIUM OBLONGUM","PROTOPERIDINIUM OBLONGUM","7030.55.52661","MIOZOA","DINOPHYCEAE",null,"PROTOPERIDINIACEAE","PROTOPERIDINIUM"]
[null,null,null,null,null,null,null,null,null,null,null,null,null,null,null,null,null,null,null,null,null,null,null,null,null,null,null,null,null,null,null,null,null,null,null,null,"PROTOPERIDINIUM OBTUSUM","PROTOPERIDINIUM OBTUSUM","7030.55.52662","MIOZOA","DINOPHYCEAE",null,"PROTOPERIDINIACEAE","PROTOPERIDINIUM"]
[null,null,null,null,null,null,null,null,null,null,null,null,null,null,null,null,null,null,null,null,null,null,null,null,null,null,null,null,null,null,null,null,null,null,null,null,"PROTOPERIDINIUM OCEANICUM","PROTOPERIDINIUM OCEANICUM","7030.55.165471","MIOZOA","DINOPHYCEAE",null,"PROTOPERIDINIACEAE","PROTOPERIDINIUM"]
[null,null,null,null,null,null,null,null,null,null,null,null,null,null,null,null,null,null,null,null,null,null,null,null,null,null,null,null,null,null,null,null,null,null,null,null,"PROTOPERIDINIUM OVATUM","PROTOPERIDINIUM OVATUM","7030.55.54654","MIOZOA","DINOPHYCEAE",null,"PROTOPERIDINIACEAE","PROTOPERIDINIUM"]
[null,null,null,null,null,null,null,null,null,null,null,null,null,null,null,null,null,null,null,null,null,null,null,null,null,null,null,null,null,null,null,null,null,null,null,null,"PROTOPERIDINIUM OVUM","PROTOPERIDINIUM OVUM","7030.55.52665","MIOZOA","DINOPHYCEAE",null,"PROTOPERIDINIACEAE","PROTOPERIDINIUM"]
[null,null,null,null,null,null,null,null,null,null,null,null,null,null,null,null,null,null,null,null,null,null,null,null,null,null,null,null,null,null,null,null,null,null,null,null,"PROTOPERIDINIUM PACIFICUM","PROTOPERIDINIUM PACIFICUM","7030.55.47010","MIOZOA","DINOPHYCEAE",null,"PROTOPERIDINIACEAE","PROTOPERIDINIUM"]
[null,null,null,null,null,null,null,null,null,null,null,null,null,null,null,null,null,null,null,null,null,null,null,null,null,null,null,null,null,null,null,null,null,null,null,null,"PROTOPERIDINIUM PELLUCIDUM","PROTOPERIDINIUM PELLUCIDUM","7030.55.52667","MIOZOA","DINOPHYCEAE",null,"PROTOPERIDINIACEAE","PROTOPERIDINIUM"]
[null,null,null,null,null,null,null,null,null,null,null,null,null,null,null,null,null,null,null,null,null,null,null,null,null,null,null,null,null,null,null,null,null,null,null,null,"PROTOPERIDINIUM PENTAGONUM","PROTOPERIDINIUM PENTAGONUM","7030.55.52669","MIOZOA","DINOPHYCEAE",null,"PROTOPERIDINIACEAE","PROTOPERIDINIUM"]
[null,null,null,null,null,null,null,null,null,null,null,null,null,null,null,null,null,null,null,null,null,null,null,null,null,null,null,null,null,null,null,null,null,null,null,null,"PROTOPERIDINIUM PUNCTULATUM","PROTOPERIDINIUM PUNCTULATUM","7030.55.52670","MIOZOA","DINOPHYCEAE",null,"PROTOPERIDINIACEAE","PROTOPERIDINIUM"]
[null,null,null,null,null,null,null,null,null,null,null,null,null,null,null,null,null,null,null,null,null,null,null,null,null,null,null,null,null,null,null,null,null,null,null,null,"PROTOPERIDINIUM PYRUM","PROTOPERIDINIUM PYRUM","7030.55.60333","MIOZOA","DINOPHYCEAE",null,"PROTOPERIDINIACEAE","PROTOPERIDINIUM"]
[null,null,null,null,null,null,null,null,null,null,null,null,null,null,null,null,null,null,null,null,null,null,null,null,null,null,null,null,null,null,null,null,null,null,null,null,"PROTOPERIDINIUM QUARNERENSE","PROTOPERIDINIUM QUARNERENSE","7030.55.52671","MIOZOA","DINOPHYCEAE",null,"PROTOPERIDINIACEAE","PROTOPERIDINIUM"]
[null,null,null,null,null,null,null,null,null,null,null,null,null,null,null,null,null,null,null,null,null,null,null,null,null,null,null,null,null,null,null,null,null,null,null,null,"PROTOPERIDINIUM RECTUM","PROTOPERIDINIUM RECTUM","7030.55.71236","MIOZOA","DINOPHYCEAE",null,"PROTOPERIDINIACEAE","PROTOPERIDINIUM"]
[null,null,null,null,null,null,null,null,null,null,null,null,null,null,null,null,null,null,null,null,null,null,null,null,null,null,null,null,null,null,null,null,null,null,null,null,"PROTOPERIDINIUM SIMULUM","PROTOPERIDINIUM SIMULUM","7030.55.52674","MIOZOA","DINOPHYCEAE",null,"PROTOPERIDINIACEAE","PROTOPERIDINIUM"]
[null,null,null,null,null,null,null,null,null,null,null,null,null,null,null,null,null,null,null,null,null,null,null,null,null,null,null,null,null,null,null,null,null,null,null,null,"PROTOPERIDINIUM SOLIDICORNE","PROTOPERIDINIUM SOLIDICORNE","7030.55.169657","MIOZOA","DINOPHYCEAE",null,"PROTOPERIDINIACEAE","PROTOPERIDINIUM"]
[null,null,null,null,null,null,null,null,null,null,null,null,null,null,null,null,null,null,null,null,null,null,null,null,null,null,null,null,null,null,null,null,null,null,null,null,"PROTOPERIDINIUM SPHAERICUM","PROTOPERIDINIUM SPHAERICUM","7030.55.52676","MIOZOA","DINOPHYCEAE",null,"PROTOPERIDINIACEAE","PROTOPERIDINIUM"]
[null,null,null,null,null,null,null,null,null,null,null,null,null,null,null,null,null,null,null,null,null,null,null,null,null,null,null,null,null,null,null,null,null,null,null,null,"PROTOPERIDINIUM STEIDINGERAE","PROTOPERIDINIUM STEIDINGERAE","7030.55.71282","MIOZOA","DINOPHYCEAE",null,"PROTOPERIDINIACEAE","PROTOPERIDINIUM"]
[null,null,null,null,null,null,null,null,null,null,null,null,null,null,null,null,null,null,null,null,null,null,null,null,null,null,null,null,null,null,null,null,null,null,null,null,"PROTOPERIDINIUM STEINII","PROTOPERIDINIUM STEINII","7030.55.52678","MIOZOA","DINOPHYCEAE",null,"PROTOPERIDINIACEAE","PROTOPERIDINIUM"]
[null,null,null,null,null,null,null,null,null,null,null,null,null,null,null,null,null,null,null,null,null,null,null,null,null,null,null,null,null,null,null,null,null,null,null,null,"PROTOPERIDINIUM SUBINERME","PROTOPERIDINIUM SUBINERME","7030.55.52680","MIOZOA","DINOPHYCEAE",null,"PROTOPERIDINIACEAE","PROTOPERIDINIUM"]
[null,null,null,null,null,null,null,null,null,null,null,null,null,null,null,null,null,null,null,null,null,null,null,null,null,null,null,null,null,null,null,null,null,null,null,null,"PROTOPERIDINIUM SUBPYRIFORME","PROTOPERIDINIUM SUBPYRIFORME","7030.55.71284","MIOZOA","DINOPHYCEAE",null,"PROTOPERIDINIACEAE","PROTOPERIDINIUM"]
[null,null,null,null,null,null,null,null,null,null,null,null,null,null,null,null,null,null,null,null,null,null,null,null,null,null,null,null,null,null,null,null,null,null,null,null,"PROTOPERIDINIUM SUBSPHAERICUM","PROTOPERIDINIUM SUBSPHAERICUM","7030.55.71285","MIOZOA","DINOPHYCEAE",null,"PROTOPERIDINIACEAE","PROTOPERIDINIUM"]
[null,null,null,null,null,null,null,null,null,null,null,null,null,null,null,null,null,null,null,null,null,null,null,null,null,null,null,null,null,null,null,null,null,null,null,null,"PROTOPERIDINIUM SYMMETRICUM","PROTOPERIDINIUM SYMMETRICUM","7030.55.60342","MIOZOA","DINOPHYCEAE",null,"PROTOPERIDINIACEAE","PROTOPERIDINIUM"]
[null,null,null,null,null,null,null,null,null,null,null,null,null,null,null,null,null,null,null,null,null,null,null,null,null,null,null,null,null,null,null,null,null,null,null,null,"PROTOPERIDINIUM UNIPES","PROTOPERIDINIUM UNIPES","7030.55.71294","MIOZOA","DINOPHYCEAE",null,"PROTOPERIDINIACEAE","PROTOPERIDINIUM"]
[null,null,null,null,null,null,null,null,null,null,null,null,null,null,null,null,null,null,null,null,null,null,null,null,null,null,null,null,null,null,null,null,null,null,null,null,"PROTOPERIDINIUM VENUSTUM","PROTOPERIDINIUM VENUSTUM","7030.55.71298","MIOZOA","DINOPHYCEAE",null,"PROTOPERIDINIACEAE","PROTOPERIDINIUM"]
[null,null,null,null,null,null,null,null,null,null,null,null,null,null,null,null,null,null,null,null,null,null,null,null,null,null,null,null,null,null,null,null,null,null,null,null,"PROTOPERIDINIUM VULGARE","PROTOPERIDINIUM VULGARE","7030.55.71300","MIOZOA","DINOPHYCEAE",null,"PROTOPERIDINIACEAE","PROTOPERIDINIUM"]
[null,null,null,null,null,null,null,null,null,null,null,null,null,null,null,null,null,null,null,null,null,null,null,null,null,null,null,null,null,null,null,null,null,null,null,null,"PROTOPERIDINIUM WIESNERI","PROTOPERIDINIUM WIESNERI","7030.55.52685","MIOZOA","DINOPHYCEAE",null,"PROTOPERIDINIACEAE","PROTOPERIDINIUM"]
[null,null,null,null,null,null,null,null,null,null,null,null,null,null,null,null,null,null,null,null,null,null,null,null,null,null,null,null,null,null,null,null,null,null,null,null,"PRYMNESIUM","PRYMNESIUM","7040.46.44142","HAPTOPHYTA","PRYMNESIOPHYCEAE",null,"PRYMNESIACEAE"]
[null,null,null,null,null,null,null,null,null,null,null,null,null,null,null,null,null,null,null,null,null,null,null,null,null,null,null,null,null,null,null,null,null,null,null,null,"PSAMMODICTYON","PSAMMODICTYON","7035.46.44205","BACILLARIOPHYTA","BACILLARIOPHYCEAE",null,"BACILLARIACEAE"]
[null,null,null,null,null,null,null,null,null,null,null,null,null,null,null,null,null,null,null,null,null,null,null,null,null,null,null,null,null,null,null,null,null,null,null,null,"PSAMMODICTYON PANDURIFORME","PSAMMODICTYON PANDURIFORME","7035.55.34322","BACILLARIOPHYTA","BACILLARIOPHYCEAE",null,"SURIRELLACEAE","PSAMMODICTYON"]
[null,null,null,null,null,null,null,null,null,null,null,null,null,null,null,null,null,null,null,null,null,null,null,null,null,null,null,null,null,null,null,null,null,null,null,null,"PSEUDANABAENA","PSEUDANABAENA","5040.46.44060","CYANOBACTERIA",null,null,"PSEUDANABAENACEAE"]
[null,null,null,null,null,null,null,null,null,null,null,null,null,null,null,null,null,null,null,null,null,null,null,null,null,null,null,null,null,null,null,null,null,null,null,null,"PSEUDANABAENA ACICULARIS","PSEUDANABAENA ACICULARIS","5040.55.66717","CYANOBACTERIA",null,null,"PSEUDANABAENACEAE","PSEUDANABAENA"]
[null,null,null,null,null,null,null,null,null,null,null,null,null,null,null,null,null,null,null,null,null,null,null,null,null,null,null,null,null,null,null,null,null,null,null,null,"PSEUDO-NITZSCHIA","PSEUDO-NITZSCHIA","7035.46.44450","BACILLARIOPHYTA",null,null,"BACILLARIACEAE"]
[null,null,null,null,null,null,null,null,null,null,null,null,null,null,null,null,null,null,null,null,null,null,null,null,null,null,null,null,null,null,null,null,null,null,null,null,"PSEUDO-NITZSCHIA PUNGENS","PSEUDO-NITZSCHIA PUNGENS","7035.55.138003","BACILLARIOPHYTA",null,null,"BACILLARIACEAE","PSEUDO-NITZSCHIA"]
[null,null,null,null,null,null,null,null,null,null,null,null,null,null,null,null,null,null,null,null,null,null,null,null,null,null,null,null,null,null,null,null,null,null,null,null,"PSEUDO-NITZSCHIA SERIATA","PSEUDO-NITZSCHIA SERIATA","7035.55.59906","BACILLARIOPHYTA",null,null,"BACILLARIACEAE","PSEUDO-NITZSCHIA"]
[null,null,null,null,null,null,null,null,null,null,null,null,null,null,null,null,null,null,null,null,null,null,null,null,null,null,null,null,null,null,null,null,null,null,null,null,"PSEUDOGUINARDIA","PSEUDOGUINARDIA","7035.46.46448","BACILLARIOPHYTA",null,null,"HEMIDISCACEAE"]
[null,null,null,null,null,null,null,null,null,null,null,null,null,null,null,null,null,null,null,null,null,null,null,null,null,null,null,null,null,null,null,null,null,null,null,null,"PSEUDOGUINARDIA RECTA","PSEUDOGUINARDIA RECTA","7035.55.59732","BACILLARIOPHYTA",null,null,"HEMIDISCACEAE","PSEUDOGUINARDIA"]
[null,null,null,null,null,null,null,null,null,null,null,null,null,null,null,null,null,null,null,null,null,null,null,null,null,null,null,null,null,null,null,null,null,null,null,null,"PSEUDONITZSCHIA","PSEUDONITZSCHIA","7035.46.44450","BACILLARIOPHYTA","BACILLARIOPHYCEAE",null,"BACILLARIACEAE"]
[null,null,null,null,null,null,null,null,null,null,null,null,null,null,null,null,null,null,null,null,null,null,null,null,null,null,null,null,null,null,null,null,null,null,null,null,"PSEUDOSOLENIA","PSEUDOSOLENIA","7035.46.44485","BACILLARIOPHYTA",null,null,"RHIZOSOLENIACEAE"]
[null,null,null,null,null,null,null,null,null,null,null,null,null,null,null,null,null,null,null,null,null,null,null,null,null,null,null,null,null,null,null,null,null,null,null,null,"PSEUDOSOLENIA CALCAR-AVIS","PSEUDOSOLENIA CALCAR-AVIS","7035.55.39974","BACILLARIOPHYTA",null,null,"RHIZOSOLENIACEAE","PSEUDOSOLENIA"]
[null,null,null,null,null,null,null,null,null,null,null,null,null,null,null,null,null,null,null,null,null,null,null,null,null,null,null,null,null,null,null,null,null,null,null,null,"PYRAMIMONAS","PYRAMIMONAS","4020.46.43516","CHLOROPHYTA",null,null,"PYRAMIMONADACEAE"]
[null,null,null,null,null,null,null,null,null,null,null,null,null,null,null,null,null,null,null,null,null,null,null,null,null,null,null,null,null,null,null,null,null,null,null,null,"PYROCYSTIS","PYROCYSTIS","7030.46.44589","MIOZOA",null,null,"PYROCYSTACEAE"]
[null,null,null,null,null,null,null,null,null,null,null,null,null,null,null,null,null,null,null,null,null,null,null,null,null,null,null,null,null,null,null,null,null,null,null,null,"PYROCYSTIS FUSIFORMIS","PYROCYSTIS FUSIFORMIS","7030.55.60344","MIOZOA",null,null,"PYROCYSTACEAE","PYROCYSTIS"]
[null,null,null,null,null,null,null,null,null,null,null,null,null,null,null,null,null,null,null,null,null,null,null,null,null,null,null,null,null,null,null,null,null,null,null,null,"PYROCYSTIS HAMULUS","PYROCYSTIS HAMULUS","7030.55.54579","MIOZOA",null,null,"PYROCYSTACEAE","PYROCYSTIS"]
[null,null,null,null,null,null,null,null,null,null,null,null,null,null,null,null,null,null,null,null,null,null,null,null,null,null,null,null,null,null,null,null,null,null,null,null,"PYROCYSTIS LUNULA","PYROCYSTIS LUNULA","7030.55.103038","MIOZOA",null,null,"PYROCYSTACEAE","PYROCYSTIS"]
[null,null,null,null,null,null,null,null,null,null,null,null,null,null,null,null,null,null,null,null,null,null,null,null,null,null,null,null,null,null,null,null,null,null,null,null,"PYROCYSTIS NOCTILUCA","PYROCYSTIS NOCTILUCA","7030.55.51852","MIOZOA",null,null,"PYROCYSTACEAE","PYROCYSTIS"]
[null,null,null,null,null,null,null,null,null,null,null,null,null,null,null,null,null,null,null,null,null,null,null,null,null,null,null,null,null,null,null,null,null,null,null,null,"PYROCYSTIS ROBUSTA","PYROCYSTIS ROBUSTA","7030.55.52694","MIOZOA",null,null,"PYROCYSTACEAE","PYROCYSTIS"]
[null,null,null,null,null,null,null,null,null,null,null,null,null,null,null,null,null,null,null,null,null,null,null,null,null,null,null,null,null,null,null,null,null,null,null,null,"PYRODINIUM","PYRODINIUM","7030.46.44929","MIOZOA",null,null,"GONIODOMATACEAE"]
[null,null,null,null,null,null,null,null,null,null,null,null,null,null,null,null,null,null,null,null,null,null,null,null,null,null,null,null,null,null,null,null,null,null,null,null,"PYRODINIUM BAHAMENSE","PYRODINIUM BAHAMENSE","7030.55.60092","MIOZOA",null,null,"GONIODOMATACEAE","PYRODINIUM"]
[null,null,null,null,null,null,null,null,null,null,null,null,null,null,null,null,null,null,null,null,null,null,null,null,null,null,null,null,null,null,null,null,null,null,null,null,"PYROPHACUS","PYROPHACUS","7030.46.44688","MIOZOA",null,null,"PYROPHACACEAE"]
[null,null,null,null,null,null,null,null,null,null,null,null,null,null,null,null,null,null,null,null,null,null,null,null,null,null,null,null,null,null,null,null,null,null,null,null,"PYROPHACUS HOROLOGIUM","PYROPHACUS HOROLOGIUM","7030.55.71331","MIOZOA",null,null,"PYROPHACACEAE","PYROPHACUS"]
[null,null,null,null,null,null,null,null,null,null,null,null,null,null,null,null,null,null,null,null,null,null,null,null,null,null,null,null,null,null,null,null,null,null,null,null,"PYROPHACUS STEINII","PYROPHACUS STEINII","7030.55.52696","MIOZOA",null,null,"PYROPHACACEAE","PYROPHACUS"]
[null,null,null,null,null,null,null,null,null,null,null,null,null,null,null,null,null,null,null,null,null,null,null,null,null,null,null,null,null,null,null,null,null,null,null,null,"RAPHIDIOPSIS","RAPHIDIOPSIS","5040.46.43597","CYANOBACTERIA",null,null,"APHANIZOMENONACEAE"]
[null,null,null,null,null,null,null,null,null,null,null,null,null,null,null,null,null,null,null,null,null,null,null,null,null,null,null,null,null,null,null,null,null,null,null,null,"RHABDONEMA","RHABDONEMA","7035.46.43744","BACILLARIOPHYTA","BACILLARIOPHYCEAE",null,"RHABDONEMATACEAE"]
[null,null,null,null,null,null,null,null,null,null,null,null,null,null,null,null,null,null,null,null,null,null,null,null,null,null,null,null,null,null,null,null,null,null,null,null,"RHABDONEMA ADRIATICUM","RHABDONEMA ADRIATICUM","7035.55.32051","BACILLARIOPHYTA","BACILLARIOPHYCEAE",null,"RHABDONEMATACEAE","RHABDONEMA"]
[null,null,null,null,null,null,null,null,null,null,null,null,null,null,null,null,null,null,null,null,null,null,null,null,null,null,null,null,null,null,null,null,null,null,null,null,"RHABDONEMA PUNCTATUM","RHABDONEMA PUNCTATUM","7035.55.149797","BACILLARIOPHYTA","BACILLARIOPHYCEAE",null,"RHABDONEMATACEAE","RHABDONEMA"]
[null,null,null,null,null,null,null,null,null,null,null,null,null,null,null,null,null,null,null,null,null,null,null,null,null,null,null,null,null,null,null,null,null,null,null,null,"RHIZOSOLENIA","RHIZOSOLENIA","7035.46.51358","BACILLARIOPHYTA","COSCINODISCOPHYCEAE",null,"RHIZOSOLENIACEAE"]
[null,null,null,null,null,null,null,null,null,null,null,null,null,null,null,null,null,null,null,null,null,null,null,null,null,null,null,null,null,null,null,null,null,null,null,null,"RHIZOSOLENIA ACUMINATA","RHIZOSOLENIA ACUMINATA","7035.55.74627","BACILLARIOPHYTA","COSCINODISCOPHYCEAE",null,"RHIZOSOLENIACEAE","RHIZOSOLENIA"]
[null,null,null,null,null,null,null,null,null,null,null,null,null,null,null,null,null,null,null,null,null,null,null,null,null,null,null,null,null,null,null,null,null,null,null,null,"RHIZOSOLENIA BERGONII","RHIZOSOLENIA BERGONII","7035.55.79192","BACILLARIOPHYTA","COSCINODISCOPHYCEAE",null,"RHIZOSOLENIACEAE","RHIZOSOLENIA"]
[null,null,null,null,null,null,null,null,null,null,null,null,null,null,null,null,null,null,null,null,null,null,null,null,null,null,null,null,null,null,null,null,null,null,null,null,"RHIZOSOLENIA CASTRACANEI","RHIZOSOLENIA CASTRACANEI","7035.55.59762","BACILLARIOPHYTA","COSCINODISCOPHYCEAE",null,"RHIZOSOLENIACEAE","RHIZOSOLENIA"]
[null,null,null,null,null,null,null,null,null,null,null,null,null,null,null,null,null,null,null,null,null,null,null,null,null,null,null,null,null,null,null,null,null,null,null,null,"RHIZOSOLENIA CLEVEI","RHIZOSOLENIA CLEVEI","7035.55.59758","BACILLARIOPHYTA","COSCINODISCOPHYCEAE",null,"RHIZOSOLENIACEAE","RHIZOSOLENIA"]
[null,null,null,null,null,null,null,null,null,null,null,null,null,null,null,null,null,null,null,null,null,null,null,null,null,null,null,null,null,null,null,null,null,null,null,null,"RHIZOSOLENIA FORMOSA","RHIZOSOLENIA FORMOSA","7035.55.59742","BACILLARIOPHYTA","COSCINODISCOPHYCEAE",null,"RHIZOSOLENIACEAE","RHIZOSOLENIA"]
[null,null,null,null,null,null,null,null,null,null,null,null,null,null,null,null,null,null,null,null,null,null,null,null,null,null,null,null,null,null,null,null,null,null,null,null,"RHIZOSOLENIA HEBETATA","RHIZOSOLENIA HEBETATA","7035.55.163372","BACILLARIOPHYTA","COSCINODISCOPHYCEAE",null,"RHIZOSOLENIACEAE","RHIZOSOLENIA"]
[null,null,null,null,null,null,null,null,null,null,null,null,null,null,null,null,null,null,null,null,null,null,null,null,null,null,null,null,null,null,null,null,null,null,null,null,"RHIZOSOLENIA HYALINA","RHIZOSOLENIA HYALINA","7035.55.59760","BACILLARIOPHYTA","COSCINODISCOPHYCEAE",null,"RHIZOSOLENIACEAE","RHIZOSOLENIA"]
[null,null,null,null,null,null,null,null,null,null,null,null,null,null,null,null,null,null,null,null,null,null,null,null,null,null,null,null,null,null,null,null,null,null,null,null,"RHIZOSOLENIA IMBRICATA","RHIZOSOLENIA IMBRICATA","7035.55.70967","BACILLARIOPHYTA","COSCINODISCOPHYCEAE",null,"RHIZOSOLENIACEAE","RHIZOSOLENIA"]
[null,null,null,null,null,null,null,null,null,null,null,null,null,null,null,null,null,null,null,null,null,null,null,null,null,null,null,null,null,null,null,null,null,null,null,null,"RHIZOSOLENIA POLYDACTYLA","RHIZOSOLENIA POLYDACTYLA","7035.55.59753","BACILLARIOPHYTA","COSCINODISCOPHYCEAE",null,"RHIZOSOLENIACEAE","RHIZOSOLENIA"]
[null,null,null,null,null,null,null,null,null,null,null,null,null,null,null,null,null,null,null,null,null,null,null,null,null,null,null,null,null,null,null,null,null,null,null,null,"RHIZOSOLENIA SETIGERA","RHIZOSOLENIA SETIGERA","7035.55.32058","BACILLARIOPHYTA","COSCINODISCOPHYCEAE",null,"RHIZOSOLENIACEAE","RHIZOSOLENIA"]
[null,null,null,null,null,null,null,null,null,null,null,null,null,null,null,null,null,null,null,null,null,null,null,null,null,null,null,null,null,null,null,null,null,null,null,null,"RHIZOSOLENIA STRIATA","RHIZOSOLENIA STRIATA","7035.55.56316","BACILLARIOPHYTA","COSCINODISCOPHYCEAE",null,"RHIZOSOLENIACEAE","RHIZOSOLENIA"]
[null,null,null,null,null,null,null,null,null,null,null,null,null,null,null,null,null,null,null,null,null,null,null,null,null,null,null,null,null,null,null,null,null,null,null,null,"RHIZOSOLENIA STYLIFORMIS","RHIZOSOLENIA STYLIFORMIS","7035.55.70966","BACILLARIOPHYTA","COSCINODISCOPHYCEAE",null,"RHIZOSOLENIACEAE","RHIZOSOLENIA"]
[null,null,null,null,null,null,null,null,null,null,null,null,null,null,null,null,null,null,null,null,null,null,null,null,null,null,null,null,null,null,null,null,null,null,null,null,"RHODOMONAS","RHODOMONAS","7045.46.43573","CRYPTOPHYTA",null,null,"PYRENOMONADACEAE"]
[null,null,null,null,null,null,null,null,null,null,null,null,null,null,null,null,null,null,null,null,null,null,null,null,null,null,null,null,null,null,null,null,null,null,null,null,"RICHELIA","RICHELIA","5040.46.46174","CYANOBACTERIA",null,null,"NOSTOCACEAE"]
[null,null,null,null,null,null,null,null,null,null,null,null,null,null,null,null,null,null,null,null,null,null,null,null,null,null,null,null,null,null,null,null,null,null,null,null,"RICHELIA INTRACELLULARIS","RICHELIA INTRACELLULARIS","5040.55.64928","CYANOBACTERIA",null,null,"NOSTOCACEAE","RICHELIA"]
[null,null,null,null,null,null,null,null,null,null,null,null,null,null,null,null,null,null,null,null,null,null,null,null,null,null,null,null,null,null,null,null,null,null,null,null,"ROMERIA","ROMERIA","5040.46.43610","CYANOBACTERIA",null,null,"ROMERIACEAE"]
[null,null,null,null,null,null,null,null,null,null,null,null,null,null,null,null,null,null,null,null,null,null,null,null,null,null,null,null,null,null,null,null,null,null,null,null,"ROPERIA","ROPERIA","7035.46.44454","BACILLARIOPHYTA",null,null,"HEMIDISCACEAE"]
[null,null,null,null,null,null,null,null,null,null,null,null,null,null,null,null,null,null,null,null,null,null,null,null,null,null,null,null,null,null,null,null,null,null,null,null,"ROPERIA TESSELATA","ROPERIA TESSELATA","7035.55.39580","BACILLARIOPHYTA",null,null,"HEMIDISCACEAE","ROPERIA"]
[null,null,null,null,null,null,null,null,null,null,null,null,null,null,null,null,null,null,null,null,null,null,null,null,null,null,null,null,null,null,null,null,null,null,null,null,"SCENEDESMUS","SCENEDESMUS","4020.46.43474","CHLOROPHYTA",null,null,"SCENEDESMACEAE"]
[null,null,null,null,null,null,null,null,null,null,null,null,null,null,null,null,null,null,null,null,null,null,null,null,null,null,null,null,null,null,null,null,null,null,null,null,"SCENEDESMUS BICAUDATUS","SCENEDESMUS BICAUDATUS","4020.55.61962","CHLOROPHYTA",null,null,"SCENEDESMACEAE","SCENEDESMUS"]
[null,null,null,null,null,null,null,null,null,null,null,null,null,null,null,null,null,null,null,null,null,null,null,null,null,null,null,null,null,null,null,null,null,null,null,null,"SCHROEDERIA","SCHROEDERIA","4020.46.43391","CHLOROPHYTA",null,null,"SCHROEDERIACEAE"]
[null,null,null,null,null,null,null,null,null,null,null,null,null,null,null,null,null,null,null,null,null,null,null,null,null,null,null,null,null,null,null,null,null,null,null,null,"SCHUETTIELLA","SCHUETTIELLA","7030.46.46202","MIOZOA",null,null,"PROTOCERATIACEAE"]
[null,null,null,null,null,null,null,null,null,null,null,null,null,null,null,null,null,null,null,null,null,null,null,null,null,null,null,null,null,null,null,null,null,null,null,null,"SCHUETTIELLA MITRA","SCHUETTIELLA MITRA","7030.55.47543","MIOZOA",null,null,"PROTOCERATIACEAE","SCHUETTIELLA"]
[null,null,null,null,null,null,null,null,null,null,null,null,null,null,null,null,null,null,null,null,null,null,null,null,null,null,null,null,null,null,null,null,null,null,null,null,"SCRIPPSIELLA","SCRIPPSIELLA","7030.46.44594","MIOZOA","DINOPHYCEA",null,"THORACOSPHAERACEAE"]
[null,null,null,null,null,null,null,null,null,null,null,null,null,null,null,null,null,null,null,null,null,null,null,null,null,null,null,null,null,null,null,null,null,null,null,null,"SCRIPPSIELLA SPINIFERA","SCRIPPSIELLA SPINIFERA","7030.55.47574","MIOZOA","DINOPHYCEA",null,"PERIDINIACEAE","SCRIPPSIELLA"]
[null,null,null,null,null,null,null,null,null,null,null,null,null,null,null,null,null,null,null,null,null,null,null,null,null,null,null,null,null,null,null,null,null,null,null,null,"SCRIPPSIELLA TROCHOIDEA","SCRIPPSIELLA TROCHOIDEA","7030.55.47576","MIOZOA","DINOPHYCEA",null,"PERIDINIACEAE","SCRIPPSIELLA"]
[null,null,null,null,null,null,null,null,null,null,null,null,null,null,null,null,null,null,null,null,null,null,null,null,null,null,null,null,null,null,null,null,null,null,null,null,"SCYPHOSPHAERA","SCYPHOSPHAERA","7040.46.46210","HAPTOPHYTA",null,null,"PONTOSPHAERACEAE"]
[null,null,null,null,null,null,null,null,null,null,null,null,null,null,null,null,null,null,null,null,null,null,null,null,null,null,null,null,null,null,null,null,null,null,null,null,"SCYPHOSPHAERA APSTEINII","SCYPHOSPHAERA APSTEINII","7040.55.161792","HAPTOPHYTA",null,null,"PONTOSPHAERACEAE","SCYPHOSPHAERA"]
[null,null,null,null,null,null,null,null,null,null,null,null,null,null,null,null,null,null,null,null,null,null,null,null,null,null,null,null,null,null,null,null,null,null,null,null,"SELENASTRUM","SELENASTRUM","4020.46.43450","CHLOROPHYTA","CHLOROPHYCEAE",null,"SELENASTRACEAE"]
[null,null,null,null,null,null,null,null,null,null,null,null,null,null,null,null,null,null,null,null,null,null,null,null,null,null,null,null,null,null,null,null,null,null,null,null,"SELLAPHORA","SELLAPHORA","7035.46.43753","BACILLARIOPHYTA",null,null,"SELLAPHORACEAE"]
[null,null,null,null,null,null,null,null,null,null,null,null,null,null,null,null,null,null,null,null,null,null,null,null,null,null,null,null,null,null,null,null,null,null,null,null,"SEMINAVIS","SEMINAVIS","7035.46.46218","BACILLARIOPHYTA",null,null,"NAVICULACEAE"]
[null,null,null,null,null,null,null,null,null,null,null,null,null,null,null,null,null,null,null,null,null,null,null,null,null,null,null,null,null,null,null,null,null,null,null,null,"SEMINAVIS VENTRICOSA","SEMINAVIS VENTRICOSA","7035.55.126965","BACILLARIOPHYTA",null,null,"NAVICULACEAE","SEMINAVIS"]
[null,null,null,null,null,null,null,null,null,null,null,null,null,null,null,null,null,null,null,null,null,null,null,null,null,null,null,null,null,null,null,null,null,null,null,null,"SKELETONEMA","SKELETONEMA","7035.46.43754","BACILLARIOPHYTA",null,null,"SKELETONEMATACEAE"]
[null,null,null,null,null,null,null,null,null,null,null,null,null,null,null,null,null,null,null,null,null,null,null,null,null,null,null,null,null,null,null,null,null,null,null,null,"SKELETONEMA COSTATUM","SKELETONEMA COSTATUM","7035.55.39687","BACILLARIOPHYTA",null,null,"SKELETONEMACEAE","SKELETONEMA"]
[null,null,null,null,null,null,null,null,null,null,null,null,null,null,null,null,null,null,null,null,null,null,null,null,null,null,null,null,null,null,null,null,null,null,null,null,"SKELETONEMA TROPICUM","SKELETONEMA TROPICUM","7035.55.62128","BACILLARIOPHYTA",null,null,"SKELETONEMACEAE","SKELETONEMA"]
[null,null,null,null,null,null,null,null,null,null,null,null,null,null,null,null,null,null,null,null,null,null,null,null,null,null,null,null,null,null,null,null,null,null,null,null,"SPHAEROCAVUM","SPHAEROCAVUM","5040.46.50674","CYANOBACTERIA",null,null,"MICROCYSTACEAE"]
[null,null,null,null,null,null,null,null,null,null,null,null,null,null,null,null,null,null,null,null,null,null,null,null,null,null,null,null,null,null,null,null,null,null,null,null,"SPIRAULAX","SPIRAULAX","7030.46.44693","MIOZOA",null,null,"GONYAULACACEAE"]
[null,null,null,null,null,null,null,null,null,null,null,null,null,null,null,null,null,null,null,null,null,null,null,null,null,null,null,null,null,null,null,null,null,null,null,null,"SPIROGYRA","SPIROGYRA","2024.46.43564","CHAROPHYTA","CONJUGATOPHYCEAE",null,"ZYGNEMATACEAE"]
[null,null,null,null,null,null,null,null,null,null,null,null,null,null,null,null,null,null,null,null,null,null,null,null,null,null,null,null,null,null,null,null,null,null,null,null,"SPIRULINA","SPIRULINA","5040.46.43080","CYANOBACTERIA",null,null,"SPIRULINACEAE"]
[null,null,null,null,null,null,null,null,null,null,null,null,null,null,null,null,null,null,null,null,null,null,null,null,null,null,null,null,null,null,null,null,null,null,null,null,"STAURASTRUM","STAURASTRUM","2024.46.43546","CHAROPHYTA","ZYGNEMATOPHYCEAE",null,"DESMIDIACEAE"]
[null,null,null,null,null,null,null,null,null,null,null,null,null,null,null,null,null,null,null,null,null,null,null,null,null,null,null,null,null,null,null,null,null,null,null,null,"STAURASTRUM SETIGERUM","STAURASTRUM SETIGERUM","2024.55.119048","CHAROPHYTA","ZYGNEMATOPHYCEAE","DESMIDIALES","DESMIDIACEAE","STAURASTRUM"]
[null,null,null,null,null,null,null,null,null,null,null,null,null,null,null,null,null,null,null,null,null,null,null,null,null,null,null,null,null,null,null,null,null,null,null,null,"STAURIDIUM","STAURIDIUM","4020.46.50346","CHLOROPHYTA",null,null,"HYDRODICTYACEAE"]
[null,null,null,null,null,null,null,null,null,null,null,null,null,null,null,null,null,null,null,null,null,null,null,null,null,null,null,null,null,null,null,null,null,null,null,null,"STAURIDIUM TETRAS","STAURIDIUM TETRAS","4020.55.170797","CHLOROPHYTA",null,null,"HYDRODICTYACEAE","STAURIDIUM"]
[null,null,null,null,null,null,null,null,null,null,null,null,null,null,null,null,null,null,null,null,null,null,null,null,null,null,null,null,null,null,null,null,null,null,null,null,"STAURODESMUS","STAURODESMUS","2024.46.43547","CHAROPHYTA",null,null,"DESMIDIACEAE"]
[null,null,null,null,null,null,null,null,null,null,null,null,null,null,null,null,null,null,null,null,null,null,null,null,null,null,null,null,null,null,null,null,null,null,null,null,"STAURONEIS","STAURONEIS","7035.46.43756","BACILLARIOPHYTA","BACILLARIOPHYCEAE",null,"STAURONEIDACEAE"]
[null,null,null,null,null,null,null,null,null,null,null,null,null,null,null,null,null,null,null,null,null,null,null,null,null,null,null,null,null,null,null,null,null,null,null,null,"STEPHANOPYXIS","STEPHANOPYXIS","7035.46.43759","BACILLARIOPHYTA",null,null,"STEPHANOPYXIDACEAE"]
[null,null,null,null,null,null,null,null,null,null,null,null,null,null,null,null,null,null,null,null,null,null,null,null,null,null,null,null,null,null,null,null,null,null,null,null,"STEPHANOPYXIS PALMERIANA","STEPHANOPYXIS PALMERIANA","7035.55.109865","BACILLARIOPHYTA",null,null,"STEPHANOPYXIDACEAE","STEPHANOPYXIS"]
[null,null,null,null,null,null,null,null,null,null,null,null,null,null,null,null,null,null,null,null,null,null,null,null,null,null,null,null,null,null,null,null,null,null,null,null,"STEPHANOPYXIS TURRIS","STEPHANOPYXIS TURRIS","7035.55.39724","BACILLARIOPHYTA",null,null,"STEPHANOPYXIDACEAE","STEPHANOPYXIS"]
[null,null,null,null,null,null,null,null,null,null,null,null,null,null,null,null,null,null,null,null,null,null,null,null,null,null,null,null,null,null,null,null,null,null,null,null,"STRIATELLA","STRIATELLA","7035.46.43761","BACILLARIOPHYTA","BACILLARIOPHYCEAE",null,"STRIATELLACEAE"]
[null,null,null,null,null,null,null,null,null,null,null,null,null,null,null,null,null,null,null,null,null,null,null,null,null,null,null,null,null,null,null,null,null,null,null,null,"STRIATELLA UNIPUNCTATA","STRIATELLA UNIPUNCTATA","7035.55.164773","BACILLARIOPHYTA","BACILLARIOPHYCEAE",null,"STRIATELLACEAE","STRIATELLA"]
[null,null,null,null,null,null,null,null,null,null,null,null,null,null,null,null,null,null,null,null,null,null,null,null,null,null,null,null,null,null,null,null,null,null,null,null,"STROMBOMONAS","STROMBOMONAS","4030.46.43656","EUGLENOZOA",null,null,"EUGLENACEAE"]
[null,null,null,null,null,null,null,null,null,null,null,null,null,null,null,null,null,null,null,null,null,null,null,null,null,null,null,null,null,null,null,null,null,null,null,null,"SURIRELLA","SURIRELLA","7035.46.43765","BACILLARIOPHYTA","BACILLARIOPHYCEAE",null,"SURIRELLACEAE"]
[null,null,null,null,null,null,null,null,null,null,null,null,null,null,null,null,null,null,null,null,null,null,null,null,null,null,null,null,null,null,null,null,null,null,null,null,"SURIRELLA BISERIATA","SURIRELLA BISERIATA","7035.55.168489","BACILLARIOPHYTA","BACILLARIOPHYCEAE",null,"SURIRELLACEAE","SURIRELLA"]
[null,null,null,null,null,null,null,null,null,null,null,null,null,null,null,null,null,null,null,null,null,null,null,null,null,null,null,null,null,null,null,null,null,null,null,null,"SURIRELLA FASTUOSA","SURIRELLA FASTUOSA","7035.55.91648","BACILLARIOPHYTA","BACILLARIOPHYCEAE",null,"SURIRELLACEAE","SURIRELLA"]
[null,null,null,null,null,null,null,null,null,null,null,null,null,null,null,null,null,null,null,null,null,null,null,null,null,null,null,null,null,null,null,null,null,null,null,null,"SURIRELLA GUATIMALENSIS","SURIRELLA GUATIMALENSIS","7035.55.39771","BACILLARIOPHYTA","BACILLARIOPHYCEAE",null,"SURIRELLACEAE","SURIRELLA"]
[null,null,null,null,null,null,null,null,null,null,null,null,null,null,null,null,null,null,null,null,null,null,null,null,null,null,null,null,null,null,null,null,null,null,null,null,"SURIRELLA KATTRAYI","SURIRELLA KATTRAYI","7035.55.99841","BACILLARIOPHYTA","BACILLARIOPHYCEAE",null,"SURIRELLACEAE","SURIRELLA"]
[null,null,null,null,null,null,null,null,null,null,null,null,null,null,null,null,null,null,null,null,null,null,null,null,null,null,null,null,null,null,null,null,null,null,null,null,"SURIRELLA LINEARIS","SURIRELLA LINEARIS","7035.55.102144","BACILLARIOPHYTA","BACILLARIOPHYCEAE",null,"SURIRELLACEAE","SURIRELLA"]
[null,null,null,null,null,null,null,null,null,null,null,null,null,null,null,null,null,null,null,null,null,null,null,null,null,null,null,null,null,null,null,null,null,null,null,null,"SURIRELLA ROBUSTA","SURIRELLA ROBUSTA","7035.55.116768","BACILLARIOPHYTA","BACILLARIOPHYCEAE",null,"SURIRELLACEAE","SURIRELLA"]
[null,null,null,null,null,null,null,null,null,null,null,null,null,null,null,null,null,null,null,null,null,null,null,null,null,null,null,null,null,null,null,null,null,null,null,null,"SURIRELLA SMITHII","SURIRELLA SMITHII","7035.55.119827","BACILLARIOPHYTA","BACILLARIOPHYCEAE",null,"SURIRELLACEAE","SURIRELLA"]
[null,null,null,null,null,null,null,null,null,null,null,null,null,null,null,null,null,null,null,null,null,null,null,null,null,null,null,null,null,null,null,null,null,null,null,null,"SYNECHOCOCCUS","SYNECHOCOCCUS","5040.46.43582","CYANOBACTERIA","CYANOPHYCEAE",null,"SYNECHOCOCCACEAE"]
[null,null,null,null,null,null,null,null,null,null,null,null,null,null,null,null,null,null,null,null,null,null,null,null,null,null,null,null,null,null,null,null,null,null,null,null,"SYNECHOCOCCUS CARCERARIUS","SYNECHOCOCCUS CARCERARIUS","5040.55.53371","CYANOBACTERIA","CYANOPHYCEAE",null,"SYNECHOCOCCACEAE","SYNECHOCOCCUS"]
[null,null,null,null,null,null,null,null,null,null,null,null,null,null,null,null,null,null,null,null,null,null,null,null,null,null,null,null,null,null,null,null,null,null,null,null,"SYNECHOCYSTIS","SYNECHOCYSTIS","5040.46.44599","CYANOBACTERIA","CYANOPHYCEAE",null,"MERISMOPEDIACEAE"]
[null,null,null,null,null,null,null,null,null,null,null,null,null,null,null,null,null,null,null,null,null,null,null,null,null,null,null,null,null,null,null,null,null,null,null,null,"SYNEDRA","SYNEDRA","7035.46.43716","BACILLARIOPHYTA","BACILLARIOPHYCEAE",null,"FRAGILARIACEAE"]
[null,null,null,null,null,null,null,null,null,null,null,null,null,null,null,null,null,null,null,null,null,null,null,null,null,null,null,null,null,null,null,null,null,null,null,null,"SYNEDRA CRYSTALLINA","SYNEDRA CRYSTALLINA","7035.55.39817","BACILLARIOPHYTA","BACILLARIOPHYCEAE",null,"FRAGILARIACEAE","SYNEDRA"]
[null,null,null,null,null,null,null,null,null,null,null,null,null,null,null,null,null,null,null,null,null,null,null,null,null,null,null,null,null,null,null,null,null,null,null,null,"SYNEDRA GOULARDI","SYNEDRA GOULARDI","7035.55.134001","BACILLARIOPHYTA","BACILLARIOPHYCEAE",null,"FRAGILARIACEAE","SYNEDRA"]
[null,null,null,null,null,null,null,null,null,null,null,null,null,null,null,null,null,null,null,null,null,null,null,null,null,null,null,null,null,null,null,null,null,null,null,null,"SYNEDRA HANTZSCHIANA","SYNEDRA HANTZSCHIANA","7035.55.149083","BACILLARIOPHYTA","BACILLARIOPHYCEAE",null,"FRAGILARIACEAE","SYNEDRA"]
[null,null,null,null,null,null,null,null,null,null,null,null,null,null,null,null,null,null,null,null,null,null,null,null,null,null,null,null,null,null,null,null,null,null,null,null,"SYNEDRA ULNA","SYNEDRA ULNA","7035.55.133888","BACILLARIOPHYTA","BACILLARIOPHYCEAE",null,"FRAGILARIACEAE","SYNEDRA"]
[null,null,null,null,null,null,null,null,null,null,null,null,null,null,null,null,null,null,null,null,null,null,null,null,null,null,null,null,null,null,null,null,null,null,null,null,"TERPSINOE","TERPSINOE","7035.46.46539","BACILLARIOPHYTA",null,null,"ANAULACEAE"]
[null,null,null,null,null,null,null,null,null,null,null,null,null,null,null,null,null,null,null,null,null,null,null,null,null,null,null,null,null,null,null,null,null,null,null,null,"TETRASELMIS","TETRASELMIS","4020.46.44099","CHLOROPHYTA","CHLORODENDROPHYCEAE","CHLORODENDRALES","CHLORODENDRACEAE"]
[null,null,null,null,null,null,null,null,null,null,null,null,null,null,null,null,null,null,null,null,null,null,null,null,null,null,null,null,null,null,null,null,null,null,null,null,"TETRAËDRON","TETRAËDRON","4020.46.43394","CHLOROPHYTA",null,null,"HYDRODICTYACEAE"]
[null,null,null,null,null,null,null,null,null,null,null,null,null,null,null,null,null,null,null,null,null,null,null,null,null,null,null,null,null,null,null,null,null,null,null,null,"THALASSIONEMA","THALASSIONEMA","7035.46.43767","BACILLARIOPHYTA",null,null,"THALASSIONEMATACEAE"]
[null,null,null,null,null,null,null,null,null,null,null,null,null,null,null,null,null,null,null,null,null,null,null,null,null,null,null,null,null,null,null,null,null,null,null,null,"THALASSIONEMA BACILLARE","THALASSIONEMA BACILLARE","7035.55.39937","BACILLARIOPHYTA",null,null,"THALASSIONEMATACEAE","THALASSIONEMA"]
[null,null,null,null,null,null,null,null,null,null,null,null,null,null,null,null,null,null,null,null,null,null,null,null,null,null,null,null,null,null,null,null,null,null,null,null,"THALASSIONEMA FRAUENFELDII","THALASSIONEMA FRAUENFELDII","7035.55.60013","BACILLARIOPHYTA",null,null,"THALASSIONEMATACEAE","THALASSIONEMA"]
[null,null,null,null,null,null,null,null,null,null,null,null,null,null,null,null,null,null,null,null,null,null,null,null,null,null,null,null,null,null,null,null,null,null,null,null,"THALASSIONEMA NITZSCHIOIDES","THALASSIONEMA NITZSCHIOIDES","7035.55.39936","BACILLARIOPHYTA",null,null,"THALASSIONEMATACEAE","THALASSIONEMA"]
[null,null,null,null,null,null,null,null,null,null,null,null,null,null,null,null,null,null,null,null,null,null,null,null,null,null,null,null,null,null,null,null,null,null,null,null,"THALASSIONEMA SYNEDRIFORME","THALASSIONEMA SYNEDRIFORME","7035.55.48429","BACILLARIOPHYTA",null,null,"THALASSIONEMATACEAE","THALASSIONEMA"]
[null,null,null,null,null,null,null,null,null,null,null,null,null,null,null,null,null,null,null,null,null,null,null,null,null,null,null,null,null,null,null,null,null,null,null,null,"THALASSIOPHYSA","THALASSIOPHYSA","7035.46.44476","BACILLARIOPHYTA",null,null,"THALASSIOPHYSACEAE"]
[null,null,null,null,null,null,null,null,null,null,null,null,null,null,null,null,null,null,null,null,null,null,null,null,null,null,null,null,null,null,null,null,null,null,null,null,"THALASSIOPHYSA HYALINA","THALASSIOPHYSA HYALINA","7035.55.39940","BACILLARIOPHYTA",null,null,"THALASSIOPHYSACEAE","THALASSIOPHYSA"]
[null,null,null,null,null,null,null,null,null,null,null,null,null,null,null,null,null,null,null,null,null,null,null,null,null,null,null,null,null,null,null,null,null,null,null,null,"THALASSIOSIRA","THALASSIOSIRA","7035.46.43768","BACILLARIOPHYTA","MEDIOPHYCEAE",null,"THALASSIOSIRACEAE"]
[null,null,null,null,null,null,null,null,null,null,null,null,null,null,null,null,null,null,null,null,null,null,null,null,null,null,null,null,null,null,null,null,null,null,null,null,"THALASSIOSIRA AESTIVALIS","THALASSIOSIRA AESTIVALIS","7035.55.62115","BACILLARIOPHYTA","MEDIOPHYCEAE",null,"THALASSIOSIRACEAE","THALASSIOSIRA"]
[null,null,null,null,null,null,null,null,null,null,null,null,null,null,null,null,null,null,null,null,null,null,null,null,null,null,null,null,null,null,null,null,null,null,null,null,"THALASSIOSIRA ALLENII","THALASSIOSIRA ALLENII","7035.55.59629","BACILLARIOPHYTA","MEDIOPHYCEAE",null,"THALASSIOSIRACEAE","THALASSIOSIRA"]
[null,null,null,null,null,null,null,null,null,null,null,null,null,null,null,null,null,null,null,null,null,null,null,null,null,null,null,null,null,null,null,null,null,null,null,null,"THALASSIOSIRA ANGULATA","THALASSIOSIRA ANGULATA","7035.55.39919","BACILLARIOPHYTA","MEDIOPHYCEAE",null,"THALASSIOSIRACEAE","THALASSIOSIRA"]
[null,null,null,null,null,null,null,null,null,null,null,null,null,null,null,null,null,null,null,null,null,null,null,null,null,null,null,null,null,null,null,null,null,null,null,null,"THALASSIOSIRA ANGUSTE-LINEATA","THALASSIOSIRA ANGUSTE-LINEATA","7035.55.33058","BACILLARIOPHYTA","MEDIOPHYCEAE",null,"THALASSIOSIRACEAE","THALASSIOSIRA"]
[null,null,null,null,null,null,null,null,null,null,null,null,null,null,null,null,null,null,null,null,null,null,null,null,null,null,null,null,null,null,null,null,null,null,null,null,"THALASSIOSIRA ECCENTRICA","THALASSIOSIRA ECCENTRICA","7035.55.140321","BACILLARIOPHYTA","MEDIOPHYCEAE",null,"THALASSIOSIRACEAE","THALASSIOSIRA"]
[null,null,null,null,null,null,null,null,null,null,null,null,null,null,null,null,null,null,null,null,null,null,null,null,null,null,null,null,null,null,null,null,null,null,null,null,"THALASSIOSIRA LEPTOPUS","THALASSIOSIRA LEPTOPUS","7035.55.48470","BACILLARIOPHYTA","MEDIOPHYCEAE",null,"THALASSIOSIRACEAE","THALASSIOSIRA"]
[null,null,null,null,null,null,null,null,null,null,null,null,null,null,null,null,null,null,null,null,null,null,null,null,null,null,null,null,null,null,null,null,null,null,null,null,"THALASSIOSIRA LINEATA","THALASSIOSIRA LINEATA","7035.55.59685","BACILLARIOPHYTA","MEDIOPHYCEAE",null,"THALASSIOSIRACEAE","THALASSIOSIRA"]
[null,null,null,null,null,null,null,null,null,null,null,null,null,null,null,null,null,null,null,null,null,null,null,null,null,null,null,null,null,null,null,null,null,null,null,null,"THALASSIOSIRA MEDITERRANEA","THALASSIOSIRA MEDITERRANEA","7035.55.59680","BACILLARIOPHYTA","MEDIOPHYCEAE",null,"THALASSIOSIRACEAE","THALASSIOSIRA"]
[null,null,null,null,null,null,null,null,null,null,null,null,null,null,null,null,null,null,null,null,null,null,null,null,null,null,null,null,null,null,null,null,null,null,null,null,"THALASSIOSIRA PUNCTIGERA","THALASSIOSIRA PUNCTIGERA","7035.55.59631","BACILLARIOPHYTA","MEDIOPHYCEAE",null,"THALASSIOSIRACEAE","THALASSIOSIRA"]
[null,null,null,null,null,null,null,null,null,null,null,null,null,null,null,null,null,null,null,null,null,null,null,null,null,null,null,null,null,null,null,null,null,null,null,null,"THALASSIOSIRA SUBTILIS","THALASSIOSIRA SUBTILIS","7035.55.122567","BACILLARIOPHYTA","MEDIOPHYCEAE",null,"THALASSIOSIRACEAE","THALASSIOSIRA"]
[null,null,null,null,null,null,null,null,null,null,null,null,null,null,null,null,null,null,null,null,null,null,null,null,null,null,null,null,null,null,null,null,null,null,null,null,"THALASSIOSIRA SYMMETRICA","THALASSIOSIRA SYMMETRICA","7035.55.71019","BACILLARIOPHYTA","MEDIOPHYCEAE",null,"THALASSIOSIRACEAE","THALASSIOSIRA"]
[null,null,null,null,null,null,null,null,null,null,null,null,null,null,null,null,null,null,null,null,null,null,null,null,null,null,null,null,null,null,null,null,null,null,null,null,"THALASSIOTHRIX","THALASSIOTHRIX","7035.46.44475","BACILLARIOPHYTA",null,null,"THALASSIONEMATACEAE"]
[null,null,null,null,null,null,null,null,null,null,null,null,null,null,null,null,null,null,null,null,null,null,null,null,null,null,null,null,null,null,null,null,null,null,null,null,"THALASSIOTHRIX LONGISSIMA","THALASSIOTHRIX LONGISSIMA","7035.55.39939","BACILLARIOPHYTA","BACILLARIOPHYCEAE",null,"THALASSIONEMATACEAE","THALASSIOTHRIX"]
[null,null,null,null,null,null,null,null,null,null,null,null,null,null,null,null,null,null,null,null,null,null,null,null,null,null,null,null,null,null,null,null,null,null,null,null,"THALASSIOTHRIX MEDITERRANEA","THALASSIOTHRIX MEDITERRANEA","7035.55.129121","BACILLARIOPHYTA","BACILLARIOPHYCEAE",null,"THALASSIONEMATACEAE","THALASSIOTHRIX"]
[null,null,null,null,null,null,null,null,null,null,null,null,null,null,null,null,null,null,null,null,null,null,null,null,null,null,null,null,null,null,null,null,null,null,null,null,"TORODINIUM","TORODINIUM","7030.46.44698","MIOZOA",null,null,"BRACHIDINIACEAE"]
[null,null,null,null,null,null,null,null,null,null,null,null,null,null,null,null,null,null,null,null,null,null,null,null,null,null,null,null,null,null,null,null,null,null,null,null,"TORODINIUM TEREDO","TORODINIUM TEREDO","7030.55.52713","MIOZOA",null,null,"BRACHIDINIACEAE","TORODINIUM"]
[null,null,null,null,null,null,null,null,null,null,null,null,null,null,null,null,null,null,null,null,null,null,null,null,null,null,null,null,null,null,null,null,null,null,null,null,"TOXARIUM","TOXARIUM","7035.46.44480","BACILLARIOPHYTA",null,null,"TOXARIACEAE"]
[null,null,null,null,null,null,null,null,null,null,null,null,null,null,null,null,null,null,null,null,null,null,null,null,null,null,null,null,null,null,null,null,null,null,null,null,"TOXARIUM HENNEDYANUM","TOXARIUM HENNEDYANUM","7035.55.60014","BACILLARIOPHYTA",null,null,"TOXARIACEAE","TOXARIUM"]
[null,null,null,null,null,null,null,null,null,null,null,null,null,null,null,null,null,null,null,null,null,null,null,null,null,null,null,null,null,null,null,null,null,null,null,null,"TOXARIUM UNDULATUM","TOXARIUM UNDULATUM","7035.55.39960","BACILLARIOPHYTA",null,null,"TOXARIACEAE","TOXARIUM"]
[null,null,null,null,null,null,null,null,null,null,null,null,null,null,null,null,null,null,null,null,null,null,null,null,null,null,null,null,null,null,null,null,null,null,null,null,"TRACHELOMONAS","TRACHELOMONAS","4030.46.43657","EUGLENOZOA","EUGLENOPHYCEAE","EUGLENIDA","EUGLENACEAE"]
[null,null,null,null,null,null,null,null,null,null,null,null,null,null,null,null,null,null,null,null,null,null,null,null,null,null,null,null,null,null,null,null,null,null,null,null,"TRACHYNEIS","TRACHYNEIS","7035.46.43734","BACILLARIOPHYTA",null,null,"NAVICULACEAE"]
[null,null,null,null,null,null,null,null,null,null,null,null,null,null,null,null,null,null,null,null,null,null,null,null,null,null,null,null,null,null,null,null,null,null,null,null,"TRACHYNEIS ASPERA","TRACHYNEIS ASPERA","7035.55.31911","BACILLARIOPHYTA",null,null,"NAVICULACEAE","TRACHYNEIS"]
[null,null,null,null,null,null,null,null,null,null,null,null,null,null,null,null,null,null,null,null,null,null,null,null,null,null,null,null,null,null,null,null,null,null,null,null,"TREBOUXIA","TREBOUXIA","4020.46.43395","CHLOROPHYTA","TREBOUXIOPHYCEAE",null,"TREBOUXIACEAE"]
[null,null,null,null,null,null,null,null,null,null,null,null,null,null,null,null,null,null,null,null,null,null,null,null,null,null,null,null,null,null,null,null,null,null,null,null,"TRICERATIUM","TRICERATIUM","7035.46.43770","BACILLARIOPHYTA",null,null,"TRICERATIACEAE"]
[null,null,null,null,null,null,null,null,null,null,null,null,null,null,null,null,null,null,null,null,null,null,null,null,null,null,null,null,null,null,null,null,null,null,null,null,"TRICERATIUM DUBIUM","TRICERATIUM DUBIUM","7035.55.89287","BACILLARIOPHYTA",null,null,"TRICERATIACEAE","TRICERATIUM"]
[null,null,null,null,null,null,null,null,null,null,null,null,null,null,null,null,null,null,null,null,null,null,null,null,null,null,null,null,null,null,null,null,null,null,null,null,"TRICERATIUM FAVUS","TRICERATIUM FAVUS","7035.55.91678","BACILLARIOPHYTA",null,null,"TRICERATIACEAE","TRICERATIUM"]
[null,null,null,null,null,null,null,null,null,null,null,null,null,null,null,null,null,null,null,null,null,null,null,null,null,null,null,null,null,null,null,null,null,null,null,null,"TRICERATIUM FORMOSUM","TRICERATIUM FORMOSUM","7035.55.92701","BACILLARIOPHYTA",null,null,"TRICERATIACEAE","TRICERATIUM"]
[null,null,null,null,null,null,null,null,null,null,null,null,null,null,null,null,null,null,null,null,null,null,null,null,null,null,null,null,null,null,null,null,null,null,null,null,"TRICERATIUM GIBBOSUM","TRICERATIUM GIBBOSUM","7035.55.94022","BACILLARIOPHYTA",null,null,"TRICERATIACEAE","TRICERATIUM"]
[null,null,null,null,null,null,null,null,null,null,null,null,null,null,null,null,null,null,null,null,null,null,null,null,null,null,null,null,null,null,null,null,null,null,null,null,"TRICERATIUM PELAGICUM","TRICERATIUM PELAGICUM","7035.55.110955","BACILLARIOPHYTA",null,null,"TRICERATIACEAE","TRICERATIUM"]
[null,null,null,null,null,null,null,null,null,null,null,null,null,null,null,null,null,null,null,null,null,null,null,null,null,null,null,null,null,null,null,null,null,null,null,null,"TRICERATIUM PENTACRINUS","TRICERATIUM PENTACRINUS","7035.55.111112","BACILLARIOPHYTA",null,null,"TRICERATIACEAE","TRICERATIUM"]
[null,null,null,null,null,null,null,null,null,null,null,null,null,null,null,null,null,null,null,null,null,null,null,null,null,null,null,null,null,null,null,null,null,null,null,null,"TRICERATIUM ROBERTSIANUM","TRICERATIUM ROBERTSIANUM","7035.55.116701","BACILLARIOPHYTA",null,null,"TRICERATIACEAE","TRICERATIUM"]
[null,null,null,null,null,null,null,null,null,null,null,null,null,null,null,null,null,null,null,null,null,null,null,null,null,null,null,null,null,null,null,null,null,null,null,null,"TRICERATIUM SHADBOLTIANUM","TRICERATIUM SHADBOLTIANUM","7035.55.149085","BACILLARIOPHYTA",null,null,"TRICERATIACEAE","TRICERATIUM"]
[null,null,null,null,null,null,null,null,null,null,null,null,null,null,null,null,null,null,null,null,null,null,null,null,null,null,null,null,null,null,null,null,null,null,null,null,"TRICHODESMIUM","TRICHODESMIUM","5040.46.43303","CYANOBACTERIA",null,null,"PHORMIDIACEAE"]
[null,null,null,null,null,null,null,null,null,null,null,null,null,null,null,null,null,null,null,null,null,null,null,null,null,null,null,null,null,null,null,null,null,null,null,null,"TRICHODESMIUM CONTORTUM","TRICHODESMIUM CONTORTUM","5040.55.67327","CYANOBACTERIA",null,null,"PHORMIDIACEAE","TRICHODESMIUM"]
[null,null,null,null,null,null,null,null,null,null,null,null,null,null,null,null,null,null,null,null,null,null,null,null,null,null,null,null,null,null,null,null,null,null,null,null,"TRICHODESMIUM ERYTHRAEUM","TRICHODESMIUM ERYTHRAEUM","5040.55.24714","CYANOBACTERIA",null,null,"PHORMIDIACEAE","TRICHODESMIUM"]
[null,null,null,null,null,null,null,null,null,null,null,null,null,null,null,null,null,null,null,null,null,null,null,null,null,null,null,null,null,null,null,null,null,null,null,null,"TRICHODESMIUM HILDEBRANDTII","TRICHODESMIUM HILDEBRANDTII","5040.55.96610","CYANOBACTERIA",null,null,"PHORMIDIACEAE","TRICHODESMIUM"]
[null,null,null,null,null,null,null,null,null,null,null,null,null,null,null,null,null,null,null,null,null,null,null,null,null,null,null,null,null,null,null,null,null,null,null,null,"TRICHODESMIUM THIEBAUTII","TRICHODESMIUM THIEBAUTII","5040.55.24835","CYANOBACTERIA",null,null,"PHORMIDIACEAE","TRICHODESMIUM"]
[null,null,null,null,null,null,null,null,null,null,null,null,null,null,null,null,null,null,null,null,null,null,null,null,null,null,null,null,null,null,null,null,null,null,null,null,"TRIGONIUM","TRIGONIUM","7035.46.44473","BACILLARIOPHYTA","COSCINODISCOPHYCEAE",null,"TRIGONIACEAE"]
[null,null,null,null,null,null,null,null,null,null,null,null,null,null,null,null,null,null,null,null,null,null,null,null,null,null,null,null,null,null,null,null,null,null,null,null,"TRIGONIUM DIAPHANUM","TRIGONIUM DIAPHANUM","7035.55.88064","BACILLARIOPHYTA","COSCINODISCOPHYCEAE",null,"BIDDULPHIACEAE","TRIGONIUM"]
[null,null,null,null,null,null,null,null,null,null,null,null,null,null,null,null,null,null,null,null,null,null,null,null,null,null,null,null,null,null,null,null,null,null,null,null,"TRIGONIUM FORMOSUM","TRIGONIUM FORMOSUM","7035.55.155677","BACILLARIOPHYTA","COSCINODISCOPHYCEAE",null,"BIDDULPHIACEAE","TRIGONIUM"]
[null,null,null,null,null,null,null,null,null,null,null,null,null,null,null,null,null,null,null,null,null,null,null,null,null,null,null,null,null,null,null,null,null,null,null,null,"TRIPOS","TRIPOS","7030.46.47318","MIOZOA","DINOPHYCEAE",null,"CERATIACEAE"]
[null,null,null,null,null,null,null,null,null,null,null,null,null,null,null,null,null,null,null,null,null,null,null,null,null,null,null,null,null,null,null,null,null,null,null,null,"TRYBLIONELLA","TRYBLIONELLA","7035.46.43682","BACILLARIOPHYTA","BACILLARIOPHYCEAE",null,"BACILLARIACEAE"]
[null,null,null,null,null,null,null,null,null,null,null,null,null,null,null,null,null,null,null,null,null,null,null,null,null,null,null,null,null,null,null,null,null,null,null,null,"TRYBLIONELLA ACUMINATA","TRYBLIONELLA ACUMINATA","7035.55.34495","BACILLARIOPHYTA","BACILLARIOPHYCEAE",null,"BACILLARIACEAE","TRYBLIONELLA"]
[null,null,null,null,null,null,null,null,null,null,null,null,null,null,null,null,null,null,null,null,null,null,null,null,null,null,null,null,null,null,null,null,null,null,null,null,"TRYBLIONELLA AEROPHILA","TRYBLIONELLA AEROPHILA","7035.55.34498","BACILLARIOPHYTA","BACILLARIOPHYCEAE",null,"BACILLARIACEAE","TRYBLIONELLA"]
[null,null,null,null,null,null,null,null,null,null,null,null,null,null,null,null,null,null,null,null,null,null,null,null,null,null,null,null,null,null,null,null,null,null,null,null,"TRYBLIONELLA COMPRESSA","TRYBLIONELLA COMPRESSA","7035.55.84144","BACILLARIOPHYTA","BACILLARIOPHYCEAE",null,"BACILLARIACEAE","TRYBLIONELLA"]
[null,null,null,null,null,null,null,null,null,null,null,null,null,null,null,null,null,null,null,null,null,null,null,null,null,null,null,null,null,null,null,null,null,null,null,null,"TRYBLIONELLA LEVIDENSIS","TRYBLIONELLA LEVIDENSIS","7035.55.39906","BACILLARIOPHYTA","BACILLARIOPHYCEAE",null,"BACILLARIACEAE","TRYBLIONELLA"]
[null,null,null,null,null,null,null,null,null,null,null,null,null,null,null,null,null,null,null,null,null,null,null,null,null,null,null,null,null,null,null,null,null,null,null,null,"TRYBLIONELLA PLANA","TRYBLIONELLA PLANA","7035.55.149453","BACILLARIOPHYTA","BACILLARIOPHYCEAE",null,"BACILLARIACEAE","TRYBLIONELLA"]
[null,null,null,null,null,null,null,null,null,null,null,null,null,null,null,null,null,null,null,null,null,null,null,null,null,null,null,null,null,null,null,null,null,null,null,null,"TYCHONEMA","TYCHONEMA","5040.46.43611","CYANOBACTERIA","CYANOPHYCEAE",null,"MICROCOLEACEAE"]
[null,null,null,null,null,null,null,null,null,null,null,null,null,null,null,null,null,null,null,null,null,null,null,null,null,null,null,null,null,null,null,null,null,null,null,null,"ULOTHRIX","ULOTHRIX","4020.46.32816","CHLOROPHYTA","ULVOPHYCEAE",null,"ULOTRICHACEAE"]

{"sheet":"OtrasReferencias","index":5,"n_rows":1600,"n_cols":40,"rows_kept":1600,"cut":false,"hidden":false,"merged":[[4,3,4,4],[0,0,2,8],[4,38,4,39],[26,0,26,2]]}
["Estas son listas para variables con valores que no se encuentran codificados, pero que deben manejarse de manera estandarizada. \nSi se requiere agregar un valor nuevo hagalo debajo de la lista correspondiente",null,null,null,null,null,null,null,null,null,null,null,null,null,null,null,null,null,null,null,null,null,null,null,null,null,null,null,null,{"$f":"COLUMN()","v":30}]
[null,null,null,null,null,null,null,null,null,null,null,null,null,null,null,{"$f":"IF(referentes!AC2=\"\",\"\",IF(referentes!AC2=referentes!AH2,CONCATENATE(referentes!AC2,\" \",\" \",\" \",\" \"),IF(referentes!AC2=referentes!AI2,CONCATENATE(referentes!AH2,\" \",referentes!AI2,\" \",\" \"),CONCATENATE(referentes!AH2,\" \",referentes!AI2,\" \",referentes!AC2))))","v":"1 Revisión de toda la camara Utermöhl Cell/L"},{"$f":"IF(referentes!AB2=\"\",\"\",referentes!AB2)","v":50}]
[null,null,null,null,null,null,null,null,null,null,null,null,null,null,null,{"$f":"IF(referentes!AC3=\"\",\"\",IF(referentes!AC3=referentes!AH3,CONCATENATE(referentes!AC3,\" \",\" \",\" \",\" \"),IF(referentes!AC3=referentes!AI3,CONCATENATE(referentes!AH3,\" \",referentes!AI3,\" \",\" \"),CONCATENATE(referentes!AH3,\" \",referentes!AI3,\" \",referentes!AC3))))","v":"2 Revisión de alicuotas acorde a curva de acumulación de especies Col/L"},{"$f":"IF(referentes!AB3=\"\",\"\",referentes!AB3)","v":110}]
[null,null,null,null,null,null,null,null,null,null,null,null,null,null,null,{"$f":"IF(referentes!AC4=\"\",\"\",IF(referentes!AC4=referentes!AH4,CONCATENATE(referentes!AC4,\" \",\" \",\" \",\" \"),IF(referentes!AC4=referentes!AI4,CONCATENATE(referentes!AH4,\" \",referentes!AI4,\" \",\" \"),CONCATENATE(referentes!AH4,\" \",referentes!AI4,\" \",referentes!AC4))))","v":"5 Revisión completa de la muestra Fil/L"},{"$f":"IF(referentes!AB4=\"\",\"\",referentes!AB4)","v":106}]
[null,null,null,"PROFUNDIDAD",null,null,null,null,null,null,null,null,"PROYECTOS",null,null,{"$f":"IF(referentes!AC5=\"\",\"\",IF(referentes!AC5=referentes!AH5,CONCATENATE(referentes!AC5,\" \",\" \",\" \",\" \"),IF(referentes!AC5=referentes!AI5,CONCATENATE(referentes!AH5,\" \",referentes!AI5,\" \",\" \"),CONCATENATE(referentes!AH5,\" \",referentes!AI5,\" \",referentes!AC5))))","v":"4 Revisión completa de la fracción Cel/g"},{"$f":"IF(referentes!AB5=\"\",\"\",referentes!AB5)","v":68},null,null,null,"CADENA_SP","CLAVE",null,"PHYLUM",null,null,"CLASE","ORDEN",null,"FAMILIA",null,null,"GENERO",null,null,"ESPECIE",null,"VALIDAR ESPECIE A PARTIR DE CONCATENAR TAXONOMIA SI(N4<>\"\";INDICE(OtrasReferencias!$U:$V;COINCIDIR(DATOS!N4;OtrasReferencias!$U:$U;0);2);\"\")","Profundidad"]
[null,null,null,"Descripcion","Codigo",null,null,null,null,null,null,null,"NOMBRE","COD",null,{"$f":"IF(referentes!AC6=\"\",\"\",IF(referentes!AC6=referentes!AH6,CONCATENATE(referentes!AC6,\" \",\" \",\" \",\" \"),IF(referentes!AC6=referentes!AI6,CONCATENATE(referentes!AH6,\" \",referentes!AI6,\" \",\" \"),CONCATENATE(referentes!AH6,\" \",referentes!AI6,\" \",referentes!AC6))))","v":""},{"$f":"IF(referentes!AB6=\"\",\"\",referentes!AB6)","v":""},null,12,"CLASE",{"$f":"TRIM(UPPER(CONCATENATE(referentes!AH2,\" \",referentes!AI2,\" \",referentes!AJ2,\" \",referentes!AK2,\" \",referentes!AF2)))","v":"1 REVISIÓN DE TODA LA CAMARA UTERMÖHL ACHNANTHES 1ML DE LUGOL/100ML DE MUESTRA"},{"$f":"referentes!AG2","v":0},null,"NOMBRE",null,null,"NOMBRE","NOMBRE",null,"NOMBRE",null,null,"NOMBRE",null,null,null,null,null,"Descripcion","Codigo"]
[null,null,null,"Somero","S",null,null,null,null,null,null,null,"Algas nocivas - Acidificación RLA 7020",3264,null,{"$f":"IF(referentes!AC7=\"\",\"\",IF(referentes!AC7=referentes!AH7,CONCATENATE(referentes!AC7,\" \",\" \",\" \",\" \"),IF(referentes!AC7=referentes!AI7,CONCATENATE(referentes!AH7,\" \",referentes!AI7,\" \",\" \"),CONCATENATE(referentes!AH7,\" \",referentes!AI7,\" \",referentes!AC7))))","v":""},{"$f":"IF(referentes!AB7=\"\",\"\",referentes!AB7)","v":""},null,18,"ORDEN",{"$f":"TRIM(UPPER(CONCATENATE(referentes!AH3,\" \",referentes!AI3,\" \",referentes!AJ3,\" \",referentes!AK3,\" \",referentes!AF3)))","v":"2 REVISIÓN DE ALICUOTAS ACORDE A CURVA DE ACUMULACIÓN DE ESPECIES ACHNANTHES BREVIPES FORMALINA 4%"},{"$f":"referentes!AG3","v":0},null,"Bacillariophyta",null,null,"Mediophyceae",null,null,"ACHNANTHACEAE",null,null,"ACHNANTHIDIUM",null,null,"ACTINOCYCLUS NORMANII",null,null,"Somero","S"]
[null,null,null,"Medio","M",null,null,null,null,null,null,null,"Algas toxicas RLA 7014",2306,null,{"$f":"IF(referentes!AC8=\"\",\"\",IF(referentes!AC8=referentes!AH8,CONCATENATE(referentes!AC8,\" \",\" \",\" \",\" \"),IF(referentes!AC8=referentes!AI8,CONCATENATE(referentes!AH8,\" \",referentes!AI8,\" \",\" \"),CONCATENATE(referentes!AH8,\" \",referentes!AI8,\" \",referentes!AC8))))","v":""},{"$f":"IF(referentes!AB8=\"\",\"\",referentes!AB8)","v":""},null,23,"SUBORDEN",{"$f":"TRIM(UPPER(CONCATENATE(referentes!AH4,\" \",referentes!AI4,\" \",referentes!AJ4,\" \",referentes!AK4,\" \",referentes!AF4)))","v":"5 REVISIÓN COMPLETA DE LA MUESTRA ACHNANTHES MANIFERA FORMALINA 10%"},{"$f":"referentes!AG4","v":0},null,"Miozoa",null,null,"Bacillariophyceae",null,null,"ACHNANTHIDIACEAE",null,null,"ACTINASTRUM",null,null,"ACTINOCYCLUS SUBTILIS",null,null,"Medio","M"]
[null,null,null,"Profundo","P",null,null,null,null,null,null,null,"CORPAMAG 2017",3357,null,{"$f":"IF(referentes!AC9=\"\",\"\",IF(referentes!AC9=referentes!AH9,CONCATENATE(referentes!AC9,\" \",\" \",\" \",\" \"),IF(referentes!AC9=referentes!AI9,CONCATENATE(referentes!AH9,\" \",referentes!AI9,\" \",\" \"),CONCATENATE(referentes!AH9,\" \",referentes!AI9,\" \",referentes!AC9))))","v":""},{"$f":"IF(referentes!AB9=\"\",\"\",referentes!AB9)","v":""},null,40,"FAMILIA",{"$f":"TRIM(UPPER(CONCATENATE(referentes!AH5,\" \",referentes!AI5,\" \",referentes!AJ5,\" \",referentes!AK5,\" \",referentes!AF5)))","v":"4 REVISIÓN COMPLETA DE LA FRACCIÓN ACHNANTHIDIUM"},{"$f":"referentes!AG5","v":0},null,"Ochrophyta",null,null,"Coscinodiscophyceae",null,null,"CHLORELLACEAE",null,null,"ACTINOCYCLUS",null,null,"ACTINOPTYCHUS OCTONARIUS",null,null,"Profundo","P"]
[null,null,null,null,null,null,null,null,null,null,null,null,"CORPAMAG GAMA I",3277,null,{"$f":"IF(referentes!AC10=\"\",\"\",IF(referentes!AC10=referentes!AH10,CONCATENATE(referentes!AC10,\" \",\" \",\" \",\" \"),IF(referentes!AC10=referentes!AI10,CONCATENATE(referentes!AH10,\" \",referentes!AI10,\" \",\" \"),CONCATENATE(referentes!AH10,\" \",referentes!AI10,\" \",referentes!AC10))))","v":""},{"$f":"IF(referentes!AB10=\"\",\"\",referentes!AB10)","v":""},null,43,"SUBFAMILIA",{"$f":"TRIM(UPPER(CONCATENATE(referentes!AH6,\" \",referentes!AI6,\" \",referentes!AJ6,\" \",referentes!AK6,\" \",referentes!AF6)))","v":"3 CONTEO TOTAL DE CÉLULAS EN CÁMARA SEDGWICK-RAFTER ACTINASTRUM"},{"$f":"referentes!AG6","v":0},null,"Cyanobacteria ",null,null,"Dinophyceae ",null,null,"HEMIDISCACEAE",null,null,"ACTINOPTYCHUS",null,null,"ACTINOPTYCHUS SPLENDENS"]
[null,null,null,null,null,null,null,null,null,null,null,null,"Fortalecimiento monitoreo CGSM",3281,null,{"$f":"IF(referentes!AC11=\"\",\"\",IF(referentes!AC11=referentes!AH11,CONCATENATE(referentes!AC11,\" \",\" \",\" \",\" \"),IF(referentes!AC11=referentes!AI11,CONCATENATE(referentes!AH11,\" \",referentes!AI11,\" \",\" \"),CONCATENATE(referentes!AH11,\" \",referentes!AI11,\" \",referentes!AC11))))","v":""},{"$f":"IF(referentes!AB11=\"\",\"\",referentes!AB11)","v":""},null,46,"GÉNERO",{"$f":"TRIM(UPPER(CONCATENATE(referentes!AH7,\" \",referentes!AI7,\" \",referentes!AJ7,\" \",referentes!AK7,\" \",referentes!AF7)))","v":"ACTINOCYCLUS"},{"$f":"referentes!AG7","v":0},null,null,null,null,"Dictyochophyceae",null,null,"HELIOPELTACEAE",null,null,"ALEXANDRIUM",null,null,"ALEXANDRIUM CATENELLA"]
[null,null,null,null,null,null,null,null,null,null,null,null,"Geocol - RC9",3408,null,{"$f":"IF(referentes!AC12=\"\",\"\",IF(referentes!AC12=referentes!AH12,CONCATENATE(referentes!AC12,\" \",\" \",\" \",\" \"),IF(referentes!AC12=referentes!AI12,CONCATENATE(referentes!AH12,\" \",referentes!AI12,\" \",\" \"),CONCATENATE(referentes!AH12,\" \",referentes!AI12,\" \",referentes!AC12))))","v":""},{"$f":"IF(referentes!AB12=\"\",\"\",referentes!AB12)","v":""},null,49,"SUBGÉNERO",{"$f":"TRIM(UPPER(CONCATENATE(referentes!AH8,\" \",referentes!AI8,\" \",referentes!AJ8,\" \",referentes!AK8,\" \",referentes!AF8)))","v":"ACTINOCYCLUS NORMANII"},{"$f":"referentes!AG8","v":0},null,null,null,null,"Cyanophyceae ",null,null,"OSTREOPSIDACEAE",null,null,"AMPHIDINIUM",null,null,"ALEXANDRIUM FRATERCULUS"]
[null,null,null,null,null,null,null,null,null,null,null,null,"Geocol Diamante",3328,null,{"$f":"IF(referentes!AC13=\"\",\"\",IF(referentes!AC13=referentes!AH13,CONCATENATE(referentes!AC13,\" \",\" \",\" \",\" \"),IF(referentes!AC13=referentes!AI13,CONCATENATE(referentes!AH13,\" \",referentes!AI13,\" \",\" \"),CONCATENATE(referentes!AH13,\" \",referentes!AI13,\" \",referentes!AC13))))","v":""},{"$f":"IF(referentes!AB13=\"\",\"\",referentes!AB13)","v":""},null,55,"ESPECIE",{"$f":"TRIM(UPPER(CONCATENATE(referentes!AH9,\" \",referentes!AI9,\" \",referentes!AJ9,\" \",referentes!AK9,\" \",referentes!AF9)))","v":"ACTINOCYCLUS SUBTILIS"},{"$f":"referentes!AG9","v":0},null,null,null,null,null,null,null,"GONYAULACACEAE",null,null,"AMPHISOLENIA",null,null,"ALEXANDRIUM MINUTUM"]
[null,null,null,null,null,null,null,null,null,null,null,null,"Monitoreo CGSM",1513,null,{"$f":"IF(referentes!AC14=\"\",\"\",IF(referentes!AC14=referentes!AH14,CONCATENATE(referentes!AC14,\" \",\" \",\" \",\" \"),IF(referentes!AC14=referentes!AI14,CONCATENATE(referentes!AH14,\" \",referentes!AI14,\" \",\" \"),CONCATENATE(referentes!AH14,\" \",referentes!AI14,\" \",referentes!AC14))))","v":""},{"$f":"IF(referentes!AB14=\"\",\"\",referentes!AB14)","v":""},null,58,"SUBESPECIE",{"$f":"TRIM(UPPER(CONCATENATE(referentes!AH10,\" \",referentes!AI10,\" \",referentes!AJ10,\" \",referentes!AK10,\" \",referentes!AF10)))","v":"ACTINOPTYCHUS"},{"$f":"referentes!AG10","v":0},null,null,null,null,null,null,null,"GYMNODINIACEAE",null,null,"AMPHORA",null,null,"ALEXANDRIUM MONILATUM"]
[null,null,null,null,null,null,null,null,null,null,null,null,"Petrobras IX",3409,null,{"$f":"IF(referentes!AC15=\"\",\"\",IF(referentes!AC15=referentes!AH15,CONCATENATE(referentes!AC15,\" \",\" \",\" \",\" \"),IF(referentes!AC15=referentes!AI15,CONCATENATE(referentes!AH15,\" \",referentes!AI15,\" \",\" \"),CONCATENATE(referentes!AH15,\" \",referentes!AI15,\" \",referentes!AC15))))","v":""},{"$f":"IF(referentes!AB15=\"\",\"\",referentes!AB15)","v":""},null,60,"VARIEDAD",{"$f":"TRIM(UPPER(CONCATENATE(referentes!AH11,\" \",referentes!AI11,\" \",referentes!AJ11,\" \",referentes!AK11,\" \",referentes!AF11)))","v":"ACTINOPTYCHUS OCTONARIUS"},{"$f":"referentes!AG11","v":0},null,null,null,null,null,null,null,"AMPHISOLENIACEAE",null,null,"ANABAENA",null,null,"AMPHISOLENIA BIDENTATA"]
[null,null,null,null,null,null,null,null,null,null,null,null,"Resolución 646",3413,null,{"$f":"IF(referentes!AC16=\"\",\"\",IF(referentes!AC16=referentes!AH16,CONCATENATE(referentes!AC16,\" \",\" \",\" \",\" \"),IF(referentes!AC16=referentes!AI16,CONCATENATE(referentes!AH16,\" \",referentes!AI16,\" \",\" \"),CONCATENATE(referentes!AH16,\" \",referentes!AI16,\" \",referentes!AC16))))","v":""},{"$f":"IF(referentes!AB16=\"\",\"\",referentes!AB16)","v":""},null,62,"FORMA",{"$f":"TRIM(UPPER(CONCATENATE(referentes!AH12,\" \",referentes!AI12,\" \",referentes!AJ12,\" \",referentes!AK12,\" \",referentes!AF12)))","v":"ACTINOPTYCHUS SPLENDENS"},{"$f":"referentes!AG12","v":0},null,null,null,null,null,null,null,"CATENULACEAE",null,null,"ANABAENOPSIS",null,null,"AMPHISOLENIA BIFURCATA"]
[null,null,null,null,null,null,null,null,null,null,null,null,"RLA 7012 MIZC Caribe",2024,null,{"$f":"IF(referentes!AC17=\"\",\"\",IF(referentes!AC17=referentes!AH17,CONCATENATE(referentes!AC17,\" \",\" \",\" \",\" \"),IF(referentes!AC17=referentes!AI17,CONCATENATE(referentes!AH17,\" \",referentes!AI17,\" \",\" \"),CONCATENATE(referentes!AH17,\" \",referentes!AI17,\" \",referentes!AC17))))","v":""},{"$f":"IF(referentes!AB17=\"\",\"\",referentes!AB17)","v":""},null,null,null,{"$f":"TRIM(UPPER(CONCATENATE(referentes!AH13,\" \",referentes!AI13,\" \",referentes!AJ13,\" \",referentes!AK13,\" \",referentes!AF13)))","v":"ALEXANDRIUM"},{"$f":"referentes!AG13","v":0},null,null,null,null,null,null,null,"NOSTOCACEAE",null,null,"ANACYSTIS",null,null,"AMPHISOLENIA BISPINOSA"]
[null,null,null,null,null,null,null,null,null,null,null,null,"SHELL VII SIN7",3339,null,{"$f":"IF(referentes!AC18=\"\",\"\",IF(referentes!AC18=referentes!AH18,CONCATENATE(referentes!AC18,\" \",\" \",\" \",\" \"),IF(referentes!AC18=referentes!AI18,CONCATENATE(referentes!AH18,\" \",referentes!AI18,\" \",\" \"),CONCATENATE(referentes!AH18,\" \",referentes!AI18,\" \",referentes!AC18))))","v":""},{"$f":"IF(referentes!AB18=\"\",\"\",referentes!AB18)","v":""},null,null,null,{"$f":"TRIM(UPPER(CONCATENATE(referentes!AH14,\" \",referentes!AI14,\" \",referentes!AJ14,\" \",referentes!AK14,\" \",referentes!AF14)))","v":"ALEXANDRIUM CATENELLA"},{"$f":"referentes!AG14","v":0},null,null,null,null,null,null,null,"APHANIZOMENONACEAE",null,null,"ANKISTRODESMUS",null,null,"AMPHISOLENIA CLAVIPES"]
[null,null,null,null,null,null,null,null,null,null,null,null,null,null,null,{"$f":"IF(referentes!AC19=\"\",\"\",IF(referentes!AC19=referentes!AH19,CONCATENATE(referentes!AC19,\" \",\" \",\" \",\" \"),IF(referentes!AC19=referentes!AI19,CONCATENATE(referentes!AH19,\" \",referentes!AI19,\" \",\" \"),CONCATENATE(referentes!AH19,\" \",referentes!AI19,\" \",referentes!AC19))))","v":""},{"$f":"IF(referentes!AB19=\"\",\"\",referentes!AB19)","v":""},null,null,null,{"$f":"TRIM(UPPER(CONCATENATE(referentes!AH15,\" \",referentes!AI15,\" \",referentes!AJ15,\" \",referentes!AK15,\" \",referentes!AF15)))","v":"ALEXANDRIUM FRATERCULUS"},{"$f":"referentes!AG15","v":0},null,null,null,null,null,null,null,"MICROCYSTACEAE",null,null,"APHANIZOMENON",null,null,"AMPHISOLENIA GLOBIFERA"]
[null,null,null,null,null,null,null,null,null,null,null,null,null,null,null,{"$f":"IF(referentes!AC20=\"\",\"\",IF(referentes!AC20=referentes!AH20,CONCATENATE(referentes!AC20,\" \",\" \",\" \",\" \"),IF(referentes!AC20=referentes!AI20,CONCATENATE(referentes!AH20,\" \",referentes!AI20,\" \",\" \"),CONCATENATE(referentes!AH20,\" \",referentes!AI20,\" \",referentes!AC20))))","v":""},{"$f":"IF(referentes!AB20=\"\",\"\",referentes!AB20)","v":""},null,null,null,{"$f":"TRIM(UPPER(CONCATENATE(referentes!AH16,\" \",referentes!AI16,\" \",referentes!AJ16,\" \",referentes!AK16,\" \",referentes!AF16)))","v":"ALEXANDRIUM MINUTUM"},{"$f":"referentes!AG16","v":0},null,null,null,null,null,null,null,"SELENASTRACEAE",null,null,"APHANOCAPSA",null,null,"AMPHISOLENIA PALMATA"]
[null,null,null,null,null,null,null,null,null,null,null,null,null,null,null,{"$f":"IF(referentes!AC21=\"\",\"\",IF(referentes!AC21=referentes!AH21,CONCATENATE(referentes!AC21,\" \",\" \",\" \",\" \"),IF(referentes!AC21=referentes!AI21,CONCATENATE(referentes!AH21,\" \",referentes!AI21,\" \",\" \"),CONCATENATE(referentes!AH21,\" \",referentes!AI21,\" \",referentes!AC21))))","v":""},{"$f":"IF(referentes!AB21=\"\",\"\",referentes!AB21)","v":""},null,null,null,{"$f":"TRIM(UPPER(CONCATENATE(referentes!AH17,\" \",referentes!AI17,\" \",referentes!AJ17,\" \",referentes!AK17,\" \",referentes!AF17)))","v":"ALEXANDRIUM MONILATUM"},{"$f":"referentes!AG17","v":0},null,null,null,null,null,null,null,"MERISMOPEDIACEAE",null,null,"APHANOTHECE",null,null,"AMPHISOLENIA SCHAUINSLANDII"]
[null,null,null,null,null,null,null,null,null,null,null,null,null,null,null,{"$f":"IF(referentes!AC22=\"\",\"\",IF(referentes!AC22=referentes!AH22,CONCATENATE(referentes!AC22,\" \",\" \",\" \",\" \"),IF(referentes!AC22=referentes!AI22,CONCATENATE(referentes!AH22,\" \",referentes!AI22,\" \",\" \"),CONCATENATE(referentes!AH22,\" \",referentes!AI22,\" \",referentes!AC22))))","v":""},{"$f":"IF(referentes!AB22=\"\",\"\",referentes!AB22)","v":""},null,null,null,{"$f":"TRIM(UPPER(CONCATENATE(referentes!AH18,\" \",referentes!AI18,\" \",referentes!AJ18,\" \",referentes!AK18,\" \",referentes!AF18)))","v":"AMPHIDINIUM"},{"$f":"referentes!AG18","v":0},null,null,null,null,null,null,null,"APHANOTHECACEAE",null,null,"ARCHAEPERIDINIUM",null,null,"AMPHORA CLEVEI"]
[null,null,null,null,null,null,null,null,null,null,null,null,null,null,null,{"$f":"IF(referentes!AC23=\"\",\"\",IF(referentes!AC23=referentes!AH23,CONCATENATE(referentes!AC23,\" \",\" \",\" \",\" \"),IF(referentes!AC23=referentes!AI23,CONCATENATE(referentes!AH23,\" \",referentes!AI23,\" \",\" \"),CONCATENATE(referentes!AH23,\" \",referentes!AI23,\" \",referentes!AC23))))","v":""},{"$f":"IF(referentes!AB23=\"\",\"\",referentes!AB23)","v":""},null,null,null,{"$f":"TRIM(UPPER(CONCATENATE(referentes!AH19,\" \",referentes!AI19,\" \",referentes!AJ19,\" \",referentes!AK19,\" \",referentes!AF19)))","v":"AMPHISOLENIA"},{"$f":"referentes!AG19","v":0},null,null,null,null,null,null,null,"AMPHIDINIOPSIDACEAE",null,null,"ASTERIONELLA",null,null,"AMPHORA CRASSA"]
[null,null,null,null,null,null,null,null,null,null,null,null,null,null,null,{"$f":"IF(referentes!AC24=\"\",\"\",IF(referentes!AC24=referentes!AH24,CONCATENATE(referentes!AC24,\" \",\" \",\" \",\" \"),IF(referentes!AC24=referentes!AI24,CONCATENATE(referentes!AH24,\" \",referentes!AI24,\" \",\" \"),CONCATENATE(referentes!AH24,\" \",referentes!AI24,\" \",referentes!AC24))))","v":""},{"$f":"IF(referentes!AB24=\"\",\"\",referentes!AB24)","v":""},null,null,null,{"$f":"TRIM(UPPER(CONCATENATE(referentes!AH20,\" \",referentes!AI20,\" \",referentes!AJ20,\" \",referentes!AK20,\" \",referentes!AF20)))","v":"AMPHISOLENIA BIDENTATA"},{"$f":"referentes!AG20","v":0},null,null,null,null,null,null,null,"FRAGILARIACEAE",null,null,"ASTERIONELLOPSIS",null,null,"AMPHORA DECUSSATA"]
[null,null,null,null,null,null,null,null,null,null,null,null,null,null,null,{"$f":"IF(referentes!AC25=\"\",\"\",IF(referentes!AC25=referentes!AH25,CONCATENATE(referentes!AC25,\" \",\" \",\" \",\" \"),IF(referentes!AC25=referentes!AI25,CONCATENATE(referentes!AH25,\" \",referentes!AI25,\" \",\" \"),CONCATENATE(referentes!AH25,\" \",referentes!AI25,\" \",referentes!AC25))))","v":""},{"$f":"IF(referentes!AB25=\"\",\"\",referentes!AB25)","v":""},null,null,null,{"$f":"TRIM(UPPER(CONCATENATE(referentes!AH21,\" \",referentes!AI21,\" \",referentes!AJ21,\" \",referentes!AK21,\" \",referentes!AF21)))","v":"AMPHISOLENIA BIFURCATA"},{"$f":"referentes!AG21","v":0},null,null,null,null,null,null,null,"ASTERIONELLOPSIDACEAE",null,null,"ASTERODINIUM",null,null,"AMPHORA LINEOLATA"]
[null,null,null,null,null,null,null,null,null,null,null,null,null,null,null,{"$f":"IF(referentes!AC26=\"\",\"\",IF(referentes!AC26=referentes!AH26,CONCATENATE(referentes!AC26,\" \",\" \",\" \",\" \"),IF(referentes!AC26=referentes!AI26,CONCATENATE(referentes!AH26,\" \",referentes!AI26,\" \",\" \"),CONCATENATE(referentes!AH26,\" \",referentes!AI26,\" \",referentes!AC26))))","v":""},{"$f":"IF(referentes!AB26=\"\",\"\",referentes!AB26)","v":""},null,null,null,{"$f":"TRIM(UPPER(CONCATENATE(referentes!AH22,\" \",referentes!AI22,\" \",referentes!AJ22,\" \",referentes!AK22,\" \",referentes!AF22)))","v":"AMPHISOLENIA BISPINOSA"},{"$f":"referentes!AG22","v":0},null,null,null,null,null,null,null,"BRACHIDINIACEAE",null,null,"ASTEROLAMPRA",null,null,"AMPHORA MARINA"]
["CODIGOS LOV",null,null,null,null,null,null,null,null,null,null,null,null,null,null,{"$f":"IF(referentes!AC27=\"\",\"\",IF(referentes!AC27=referentes!AH27,CONCATENATE(referentes!AC27,\" \",\" \",\" \",\" \"),IF(referentes!AC27=referentes!AI27,CONCATENATE(referentes!AH27,\" \",referentes!AI27,\" \",\" \"),CONCATENATE(referentes!AH27,\" \",referentes!AI27,\" \",referentes!AC27))))","v":""},{"$f":"IF(referentes!AB27=\"\",\"\",referentes!AB27)","v":""},null,null,null,{"$f":"TRIM(UPPER(CONCATENATE(referentes!AH23,\" \",referentes!AI23,\" \",referentes!AJ23,\" \",referentes!AK23,\" \",referentes!AF23)))","v":"AMPHISOLENIA CLAVIPES"},{"$f":"referentes!AG23","v":0},null,null,null,null,null,null,null,"ASTEROLAMPRACEAE",null,null,"ASTEROMPHALUS",null,null,"AMPHORA OBTUSA"]
["DESCRIPCIÓN","CÓDIGO","GRUPO",null,null,null,null,null,null,null,null,null,null,null,null,{"$f":"IF(referentes!AC28=\"\",\"\",IF(referentes!AC28=referentes!AH28,CONCATENATE(referentes!AC28,\" \",\" \",\" \",\" \"),IF(referentes!AC28=referentes!AI28,CONCATENATE(referentes!AH28,\" \",referentes!AI28,\" \",\" \"),CONCATENATE(referentes!AH28,\" \",referentes!AI28,\" \",referentes!AC28))))","v":""},{"$f":"IF(referentes!AB28=\"\",\"\",referentes!AB28)","v":""},null,null,null,{"$f":"TRIM(UPPER(CONCATENATE(referentes!AH24,\" \",referentes!AI24,\" \",referentes!AJ24,\" \",referentes!AK24,\" \",referentes!AF24)))","v":"AMPHISOLENIA GLOBIFERA"},{"$f":"referentes!AG24","v":0},null,null,null,null,null,null,null,"AULACOSEIRACEAE",null,null,"AULACOSEIRA",null,null,"AMPHORA OSTREARIA"]
["Departamento",10,2,null,null,null,null,null,null,null,null,null,null,null,null,{"$f":"IF(referentes!AC29=\"\",\"\",IF(referentes!AC29=referentes!AH29,CONCATENATE(referentes!AC29,\" \",\" \",\" \",\" \"),IF(referentes!AC29=referentes!AI29,CONCATENATE(referentes!AH29,\" \",referentes!AI29,\" \",\" \"),CONCATENATE(referentes!AH29,\" \",referentes!AI29,\" \",referentes!AC29))))","v":""},{"$f":"IF(referentes!AB29=\"\",\"\",referentes!AB29)","v":""},null,null,null,{"$f":"TRIM(UPPER(CONCATENATE(referentes!AH25,\" \",referentes!AI25,\" \",referentes!AJ25,\" \",referentes!AK25,\" \",referentes!AF25)))","v":"AMPHISOLENIA PALMATA"},{"$f":"referentes!AG25","v":0},null,null,null,null,null,null,null,"AURICULACEAE",null,null,"AURICULA",null,null,"AMPHORA RHOMBICA"]
["Sector",20,2,null,null,null,null,null,null,null,null,null,null,null,null,{"$f":"IF(referentes!AC30=\"\",\"\",IF(referentes!AC30=referentes!AH30,CONCATENATE(referentes!AC30,\" \",\" \",\" \",\" \"),IF(referentes!AC30=referentes!AI30,CONCATENATE(referentes!AH30,\" \",referentes!AI30,\" \",\" \"),CONCATENATE(referentes!AH30,\" \",referentes!AI30,\" \",referentes!AC30))))","v":""},{"$f":"IF(referentes!AB30=\"\",\"\",referentes!AB30)","v":""},null,null,null,{"$f":"TRIM(UPPER(CONCATENATE(referentes!AH26,\" \",referentes!AI26,\" \",referentes!AJ26,\" \",referentes!AK26,\" \",referentes!AF26)))","v":"AMPHISOLENIA SCHAUINSLANDII"},{"$f":"referentes!AG26","v":0},null,null,null,null,null,null,null,"BACILLARIACEAE",null,null,"AZPEITIA",null,null,"AMPHORA TERRORIS"]
["Punto",30,2,null,null,null,null,null,null,null,null,null,null,null,null,{"$f":"IF(referentes!AC31=\"\",\"\",IF(referentes!AC31=referentes!AH31,CONCATENATE(referentes!AC31,\" \",\" \",\" \",\" \"),IF(referentes!AC31=referentes!AI31,CONCATENATE(referentes!AH31,\" \",referentes!AI31,\" \",\" \"),CONCATENATE(referentes!AH31,\" \",referentes!AI31,\" \",referentes!AC31))))","v":""},{"$f":"IF(referentes!AB31=\"\",\"\",referentes!AB31)","v":""},null,null,null,{"$f":"TRIM(UPPER(CONCATENATE(referentes!AH27,\" \",referentes!AI27,\" \",referentes!AJ27,\" \",referentes!AK27,\" \",referentes!AF27)))","v":"AMPHORA"},{"$f":"referentes!AG27","v":0},null,null,null,null,null,null,null,"CHAETOCEROTACEAE",null,null,"BACILLARIA",null,null,"ANKISTRODESMUS SPIRALIS"]
["Parcela",35,2,null,null,null,null,null,null,null,null,null,null,null,null,{"$f":"IF(referentes!AC32=\"\",\"\",IF(referentes!AC32=referentes!AH32,CONCATENATE(referentes!AC32,\" \",\" \",\" \",\" \"),IF(referentes!AC32=referentes!AI32,CONCATENATE(referentes!AH32,\" \",referentes!AI32,\" \",\" \"),CONCATENATE(referentes!AH32,\" \",referentes!AI32,\" \",referentes!AC32))))","v":""},{"$f":"IF(referentes!AB32=\"\",\"\",referentes!AB32)","v":""},null,null,null,{"$f":"TRIM(UPPER(CONCATENATE(referentes!AH28,\" \",referentes!AI28,\" \",referentes!AJ28,\" \",referentes!AK28,\" \",referentes!AF28)))","v":"AMPHORA CLEVEI"},{"$f":"referentes!AG28","v":0},null,null,null,null,null,null,null,"BELLEROCHEACEAE",null,null,"BACTERIASTRUM",null,null,"ARCHAEPERIDINIUM MINUTUM"]
["Estaciones",40,2,null,null,null,null,null,null,null,null,null,null,null,null,{"$f":"IF(referentes!AC33=\"\",\"\",IF(referentes!AC33=referentes!AH33,CONCATENATE(referentes!AC33,\" \",\" \",\" \",\" \"),IF(referentes!AC33=referentes!AI33,CONCATENATE(referentes!AH33,\" \",referentes!AI33,\" \",\" \"),CONCATENATE(referentes!AH33,\" \",referentes!AI33,\" \",referentes!AC33))))","v":""},{"$f":"IF(referentes!AB33=\"\",\"\",referentes!AB33)","v":""},null,null,null,{"$f":"TRIM(UPPER(CONCATENATE(referentes!AH29,\" \",referentes!AI29,\" \",referentes!AJ29,\" \",referentes!AK29,\" \",referentes!AF29)))","v":"AMPHORA CRASSA"},{"$f":"referentes!AG29","v":0},null,null,null,null,null,null,null,"BERKELEYACEAE",null,null,"BELLEROCHEA",null,null,"ASTERIONELLA FORMOSA"]
["Region",50,2,null,null,null,null,null,null,null,null,null,null,null,null,{"$f":"IF(referentes!AC34=\"\",\"\",IF(referentes!AC34=referentes!AH34,CONCATENATE(referentes!AC34,\" \",\" \",\" \",\" \"),IF(referentes!AC34=referentes!AI34,CONCATENATE(referentes!AH34,\" \",referentes!AI34,\" \",\" \"),CONCATENATE(referentes!AH34,\" \",referentes!AI34,\" \",referentes!AC34))))","v":""},{"$f":"IF(referentes!AB34=\"\",\"\",referentes!AB34)","v":""},null,null,null,{"$f":"TRIM(UPPER(CONCATENATE(referentes!AH30,\" \",referentes!AI30,\" \",referentes!AJ30,\" \",referentes!AK30,\" \",referentes!AF30)))","v":"AMPHORA DECUSSATA"},{"$f":"referentes!AG30","v":0},null,null,null,null,null,null,null,"BIDDULPHIACEAE",null,null,"BERKELEYA",null,null,"ASTERIONELLA MEDITERRANEA"]
["Unidad_de_Manejo",60,2,null,null,null,null,null,null,null,null,null,null,null,null,{"$f":"IF(referentes!AC35=\"\",\"\",IF(referentes!AC35=referentes!AH35,CONCATENATE(referentes!AC35,\" \",\" \",\" \",\" \"),IF(referentes!AC35=referentes!AI35,CONCATENATE(referentes!AH35,\" \",referentes!AI35,\" \",\" \"),CONCATENATE(referentes!AH35,\" \",referentes!AI35,\" \",referentes!AC35))))","v":""},{"$f":"IF(referentes!AB35=\"\",\"\",referentes!AB35)","v":""},null,null,null,{"$f":"TRIM(UPPER(CONCATENATE(referentes!AH31,\" \",referentes!AI31,\" \",referentes!AJ31,\" \",referentes!AK31,\" \",referentes!AF31)))","v":"AMPHORA LINEOLATA"},{"$f":"referentes!AG31","v":0},null,null,null,null,null,null,null,"PODOLAMPADACEAE",null,null,"BIDDULPHIA",null,null,"ASTERIONELLA NOTATA"]
["Unidad_Ambiental_Costera",70,2,null,null,null,null,null,null,null,null,null,null,null,null,{"$f":"IF(referentes!AC36=\"\",\"\",IF(referentes!AC36=referentes!AH36,CONCATENATE(referentes!AC36,\" \",\" \",\" \",\" \"),IF(referentes!AC36=referentes!AI36,CONCATENATE(referentes!AH36,\" \",referentes!AI36,\" \",\" \"),CONCATENATE(referentes!AH36,\" \",referentes!AI36,\" \",referentes!AC36))))","v":""},{"$f":"IF(referentes!AB36=\"\",\"\",referentes!AB36)","v":""},null,null,null,{"$f":"TRIM(UPPER(CONCATENATE(referentes!AH32,\" \",referentes!AI32,\" \",referentes!AJ32,\" \",referentes!AK32,\" \",referentes!AF32)))","v":"AMPHORA MARINA"},{"$f":"referentes!AG32","v":0},null,null,null,null,null,null,null,"BORZIACEAE",null,null,"BIDDULPHIOPSIS",null,null,"ASTERIONELLOPSIS GLACIALIS"]
["Localidad",80,2,null,null,null,null,null,null,null,null,null,null,null,null,{"$f":"IF(referentes!AC37=\"\",\"\",IF(referentes!AC37=referentes!AH37,CONCATENATE(referentes!AC37,\" \",\" \",\" \",\" \"),IF(referentes!AC37=referentes!AI37,CONCATENATE(referentes!AH37,\" \",referentes!AI37,\" \",\" \"),CONCATENATE(referentes!AH37,\" \",referentes!AI37,\" \",referentes!AC37))))","v":""},{"$f":"IF(referentes!AB37=\"\",\"\",referentes!AB37)","v":""},null,null,null,{"$f":"TRIM(UPPER(CONCATENATE(referentes!AH33,\" \",referentes!AI33,\" \",referentes!AJ33,\" \",referentes!AK33,\" \",referentes!AF33)))","v":"AMPHORA OBTUSA"},{"$f":"referentes!AG33","v":0},null,null,null,null,null,null,null,"BRAARUDOSPHAERACEAE",null,null,"BLEAKELEYA",null,null,"ASTEROLAMPRA MARYLANDICA"]
["Bloque_Exploracion",85,2,null,null,null,null,null,null,null,null,null,null,null,null,{"$f":"IF(referentes!AC38=\"\",\"\",IF(referentes!AC38=referentes!AH38,CONCATENATE(referentes!AC38,\" \",\" \",\" \",\" \"),IF(referentes!AC38=referentes!AI38,CONCATENATE(referentes!AH38,\" \",referentes!AI38,\" \",\" \"),CONCATENATE(referentes!AH38,\" \",referentes!AI38,\" \",referentes!AC38))))","v":""},{"$f":"IF(referentes!AB38=\"\",\"\",referentes!AB38)","v":""},null,null,null,{"$f":"TRIM(UPPER(CONCATENATE(referentes!AH34,\" \",referentes!AI34,\" \",referentes!AJ34,\" \",referentes!AK34,\" \",referentes!AF34)))","v":"AMPHORA OSTREARIA"},{"$f":"referentes!AG34","v":0},null,null,null,null,null,null,null,"CYMATOSIRACEAE",null,null,"BLEPHAROCYSTA",null,null,"ASTEROMPHALUS ARACHNE"]
["Area",90,2,null,null,null,null,null,null,null,null,null,null,null,null,{"$f":"IF(referentes!AC39=\"\",\"\",IF(referentes!AC39=referentes!AH39,CONCATENATE(referentes!AC39,\" \",\" \",\" \",\" \"),IF(referentes!AC39=referentes!AI39,CONCATENATE(referentes!AH39,\" \",referentes!AI39,\" \",\" \"),CONCATENATE(referentes!AH39,\" \",referentes!AI39,\" \",referentes!AC39))))","v":""},{"$f":"IF(referentes!AB39=\"\",\"\",referentes!AB39)","v":""},null,null,null,{"$f":"TRIM(UPPER(CONCATENATE(referentes!AH35,\" \",referentes!AI35,\" \",referentes!AJ35,\" \",referentes!AK35,\" \",referentes!AF35)))","v":"AMPHORA RHOMBICA"},{"$f":"referentes!AG35","v":0},null,null,null,null,null,null,null,"CALCIOSOLENIACEAE",null,null,"BORZIA",null,null,"ASTEROMPHALUS BROOKEI"]
[null,null,null,null,null,null,null,null,null,null,null,null,null,null,null,{"$f":"IF(referentes!AC40=\"\",\"\",IF(referentes!AC40=referentes!AH40,CONCATENATE(referentes!AC40,\" \",\" \",\" \",\" \"),IF(referentes!AC40=referentes!AI40,CONCATENATE(referentes!AH40,\" \",referentes!AI40,\" \",\" \"),CONCATENATE(referentes!AH40,\" \",referentes!AI40,\" \",referentes!AC40))))","v":""},{"$f":"IF(referentes!AB40=\"\",\"\",referentes!AB40)","v":""},null,null,null,{"$f":"TRIM(UPPER(CONCATENATE(referentes!AH36,\" \",referentes!AI36,\" \",referentes!AJ36,\" \",referentes!AK36,\" \",referentes!AF36)))","v":"AMPHORA TERRORIS"},{"$f":"referentes!AG36","v":0},null,null,null,null,null,null,null,"NAVICULACEAE",null,null,"BRAARUDOSPHAERA",null,null,"ASTEROMPHALUS CLEVEANUS"]
[null,null,null,null,null,null,null,null,null,null,null,null,null,null,null,{"$f":"IF(referentes!AC41=\"\",\"\",IF(referentes!AC41=referentes!AH41,CONCATENATE(referentes!AC41,\" \",\" \",\" \",\" \"),IF(referentes!AC41=referentes!AI41,CONCATENATE(referentes!AH41,\" \",referentes!AI41,\" \",\" \"),CONCATENATE(referentes!AH41,\" \",referentes!AI41,\" \",referentes!AC41))))","v":""},{"$f":"IF(referentes!AB41=\"\",\"\",referentes!AB41)","v":""},null,null,null,{"$f":"TRIM(UPPER(CONCATENATE(referentes!AH37,\" \",referentes!AI37,\" \",referentes!AJ37,\" \",referentes!AK37,\" \",referentes!AF37)))","v":"ANABAENA"},{"$f":"referentes!AG37","v":0},null,null,null,null,null,null,null,"SURIRELLACEAE",null,null,"BRACHIDINIUM",null,null,"ASTEROMPHALUS ELEGANS"]
[null,null,null,null,null,null,null,null,null,null,null,null,null,null,null,{"$f":"IF(referentes!AC42=\"\",\"\",IF(referentes!AC42=referentes!AH42,CONCATENATE(referentes!AC42,\" \",\" \",\" \",\" \"),IF(referentes!AC42=referentes!AI42,CONCATENATE(referentes!AH42,\" \",referentes!AI42,\" \",\" \"),CONCATENATE(referentes!AH42,\" \",referentes!AI42,\" \",referentes!AC42))))","v":""},{"$f":"IF(referentes!AB42=\"\",\"\",referentes!AB42)","v":""},null,null,null,{"$f":"TRIM(UPPER(CONCATENATE(referentes!AH38,\" \",referentes!AI38,\" \",referentes!AJ38,\" \",referentes!AK38,\" \",referentes!AF38)))","v":"ANABAENOPSIS"},{"$f":"referentes!AG38","v":0},null,null,null,null,null,null,null,"PLEUROSIGMATACEAE",null,null,"BROCKMANNIELLA",null,null,"ASTEROMPHALUS FLABELLATUS"]
[null,null,null,null,null,null,null,null,null,null,null,null,null,null,null,{"$f":"IF(referentes!AC43=\"\",\"\",IF(referentes!AC43=referentes!AH43,CONCATENATE(referentes!AC43,\" \",\" \",\" \",\" \"),IF(referentes!AC43=referentes!AI43,CONCATENATE(referentes!AH43,\" \",referentes!AI43,\" \",\" \"),CONCATENATE(referentes!AH43,\" \",referentes!AI43,\" \",referentes!AC43))))","v":""},{"$f":"IF(referentes!AB43=\"\",\"\",referentes!AB43)","v":""},null,null,null,{"$f":"TRIM(UPPER(CONCATENATE(referentes!AH39,\" \",referentes!AI39,\" \",referentes!AJ39,\" \",referentes!AK39,\" \",referentes!AF39)))","v":"ANACYSTIS"},{"$f":"referentes!AG39","v":0},null,null,null,null,null,null,null,"CENTRITRACTACEAE",null,null,"CALCIOSOLENIA",null,null,"ASTEROMPHALUS HEPTACTIS"]
[null,null,null,null,null,null,null,null,null,null,null,null,null,null,null,{"$f":"IF(referentes!AC44=\"\",\"\",IF(referentes!AC44=referentes!AH44,CONCATENATE(referentes!AC44,\" \",\" \",\" \",\" \"),IF(referentes!AC44=referentes!AI44,CONCATENATE(referentes!AH44,\" \",referentes!AI44,\" \",\" \"),CONCATENATE(referentes!AH44,\" \",referentes!AI44,\" \",referentes!AC44))))","v":""},{"$f":"IF(referentes!AB44=\"\",\"\",referentes!AB44)","v":""},null,null,null,{"$f":"TRIM(UPPER(CONCATENATE(referentes!AH40,\" \",referentes!AI40,\" \",referentes!AJ40,\" \",referentes!AK40,\" \",referentes!AF40)))","v":"ANKISTRODESMUS"},{"$f":"referentes!AG40","v":0},null,null,null,null,null,null,null,"GONIODOMATACEAE",null,null,"CALONEIS",null,null,"ASTEROMPHALUS HOOKERI"]
[null,null,null,null,null,null,null,null,null,null,null,null,null,null,null,{"$f":"IF(referentes!AC45=\"\",\"\",IF(referentes!AC45=referentes!AH45,CONCATENATE(referentes!AC45,\" \",\" \",\" \",\" \"),IF(referentes!AC45=referentes!AI45,CONCATENATE(referentes!AH45,\" \",referentes!AI45,\" \",\" \"),CONCATENATE(referentes!AH45,\" \",referentes!AI45,\" \",referentes!AC45))))","v":""},{"$f":"IF(referentes!AB45=\"\",\"\",referentes!AB45)","v":""},null,null,null,{"$f":"TRIM(UPPER(CONCATENATE(referentes!AH41,\" \",referentes!AI41,\" \",referentes!AJ41,\" \",referentes!AK41,\" \",referentes!AF41)))","v":"ANKISTRODESMUS SPIRALIS"},{"$f":"referentes!AG41","v":0},null,null,null,null,null,null,null,"HEMIAULACEAE",null,null,"CAMPYLODISCUS",null,null,"ASTEROMPHALUS ROBUSTUS"]
[null,null,null,null,null,null,null,null,null,null,null,null,null,null,null,{"$f":"IF(referentes!AC46=\"\",\"\",IF(referentes!AC46=referentes!AH46,CONCATENATE(referentes!AC46,\" \",\" \",\" \",\" \"),IF(referentes!AC46=referentes!AI46,CONCATENATE(referentes!AH46,\" \",referentes!AI46,\" \",\" \"),CONCATENATE(referentes!AH46,\" \",referentes!AI46,\" \",referentes!AC46))))","v":""},{"$f":"IF(referentes!AB46=\"\",\"\",referentes!AB46)","v":""},null,null,null,{"$f":"TRIM(UPPER(CONCATENATE(referentes!AH42,\" \",referentes!AI42,\" \",referentes!AJ42,\" \",referentes!AK42,\" \",referentes!AF42)))","v":"APHANIZOMENON"},{"$f":"referentes!AG42","v":0},null,null,null,null,null,null,null,"TRICERATIACEAE",null,null,"CARINASIGMA",null,null,"ASTEROMPHALUS ROPERIANUS"]
[null,null,null,null,null,null,null,null,null,null,null,null,null,null,null,{"$f":"IF(referentes!AC47=\"\",\"\",IF(referentes!AC47=referentes!AH47,CONCATENATE(referentes!AC47,\" \",\" \",\" \",\" \"),IF(referentes!AC47=referentes!AI47,CONCATENATE(referentes!AH47,\" \",referentes!AI47,\" \",\" \"),CONCATENATE(referentes!AH47,\" \",referentes!AI47,\" \",referentes!AC47))))","v":""},{"$f":"IF(referentes!AB47=\"\",\"\",referentes!AB47)","v":""},null,null,null,{"$f":"TRIM(UPPER(CONCATENATE(referentes!AH43,\" \",referentes!AI43,\" \",referentes!AJ43,\" \",referentes!AK43,\" \",referentes!AF43)))","v":"APHANOCAPSA"},{"$f":"referentes!AG43","v":0},null,null,null,null,null,null,null,"PROTOCERATIACEAE",null,null,"CENTRITRACTUS",null,null,"ASTEROMPHALUS SARCOPHAGUS"]
[null,null,null,null,null,null,null,null,null,null,null,null,null,null,null,{"$f":"IF(referentes!AC48=\"\",\"\",IF(referentes!AC48=referentes!AH48,CONCATENATE(referentes!AC48,\" \",\" \",\" \",\" \"),IF(referentes!AC48=referentes!AI48,CONCATENATE(referentes!AH48,\" \",referentes!AI48,\" \",\" \"),CONCATENATE(referentes!AH48,\" \",referentes!AI48,\" \",referentes!AC48))))","v":""},{"$f":"IF(referentes!AB48=\"\",\"\",referentes!AB48)","v":""},null,null,null,{"$f":"TRIM(UPPER(CONCATENATE(referentes!AH44,\" \",referentes!AI44,\" \",referentes!AJ44,\" \",referentes!AK44,\" \",referentes!AF44)))","v":"APHANOTHECE"},{"$f":"referentes!AG44","v":0},null,null,null,null,null,null,null,"CAMPYLOMONADACEAE",null,null,"CENTRODINIUM",null,null,"AULACOSEIRA GRANULATA"]
[null,null,null,null,null,null,null,null,null,null,null,null,null,null,null,{"$f":"IF(referentes!AC49=\"\",\"\",IF(referentes!AC49=referentes!AH49,CONCATENATE(referentes!AC49,\" \",\" \",\" \",\" \"),IF(referentes!AC49=referentes!AI49,CONCATENATE(referentes!AH49,\" \",referentes!AI49,\" \",\" \"),CONCATENATE(referentes!AH49,\" \",referentes!AI49,\" \",referentes!AC49))))","v":""},{"$f":"IF(referentes!AB49=\"\",\"\",referentes!AB49)","v":""},null,null,null,{"$f":"TRIM(UPPER(CONCATENATE(referentes!AH45,\" \",referentes!AI45,\" \",referentes!AJ45,\" \",referentes!AK45,\" \",referentes!AF45)))","v":"ARCHAEPERIDINIUM"},{"$f":"referentes!AG45","v":0},null,null,null,null,null,null,null,"CHROOCOCCACEAE",null,null,"CERATAULINA",null,null,"AULACOSEIRA ITALICA"]
[null,null,null,null,null,null,null,null,null,null,null,null,null,null,null,{"$f":"IF(referentes!AC50=\"\",\"\",IF(referentes!AC50=referentes!AH50,CONCATENATE(referentes!AC50,\" \",\" \",\" \",\" \"),IF(referentes!AC50=referentes!AI50,CONCATENATE(referentes!AH50,\" \",referentes!AI50,\" \",\" \"),CONCATENATE(referentes!AH50,\" \",referentes!AI50,\" \",referentes!AC50))))","v":""},{"$f":"IF(referentes!AB50=\"\",\"\",referentes!AB50)","v":""},null,null,null,{"$f":"TRIM(UPPER(CONCATENATE(referentes!AH46,\" \",referentes!AI46,\" \",referentes!AJ46,\" \",referentes!AK46,\" \",referentes!AF46)))","v":"ARCHAEPERIDINIUM MINUTUM"},{"$f":"referentes!AG46","v":0},null,null,null,null,null,null,null,"DINOPHYSIACEAE",null,null,"CERATAULUS",null,null,"AURICULA COMPLEXA"]
[null,null,null,null,null,null,null,null,null,null,null,null,null,null,null,{"$f":"IF(referentes!AC51=\"\",\"\",IF(referentes!AC51=referentes!AH51,CONCATENATE(referentes!AC51,\" \",\" \",\" \",\" \"),IF(referentes!AC51=referentes!AI51,CONCATENATE(referentes!AH51,\" \",referentes!AI51,\" \",\" \"),CONCATENATE(referentes!AH51,\" \",referentes!AI51,\" \",referentes!AC51))))","v":""},{"$f":"IF(referentes!AB51=\"\",\"\",referentes!AB51)","v":""},null,null,null,{"$f":"TRIM(UPPER(CONCATENATE(referentes!AH47,\" \",referentes!AI47,\" \",referentes!AJ47,\" \",referentes!AK47,\" \",referentes!AF47)))","v":"ASTERIONELLA"},{"$f":"referentes!AG47","v":0},null,null,null,null,null,null,null,"CLADOPYXIDACEAE",null,null,"CERATOCORYS",null,null,"AZPEITIA AFRICANA"]
[null,null,null,null,null,null,null,null,null,null,null,null,null,null,null,{"$f":"IF(referentes!AC52=\"\",\"\",IF(referentes!AC52=referentes!AH52,CONCATENATE(referentes!AC52,\" \",\" \",\" \",\" \"),IF(referentes!AC52=referentes!AI52,CONCATENATE(referentes!AH52,\" \",referentes!AI52,\" \",\" \"),CONCATENATE(referentes!AH52,\" \",referentes!AI52,\" \",referentes!AC52))))","v":""},{"$f":"IF(referentes!AB52=\"\",\"\",referentes!AB52)","v":""},null,null,null,{"$f":"TRIM(UPPER(CONCATENATE(referentes!AH48,\" \",referentes!AI48,\" \",referentes!AJ48,\" \",referentes!AK48,\" \",referentes!AF48)))","v":"ASTERIONELLA FORMOSA"},{"$f":"referentes!AG48","v":0},null,null,null,null,null,null,null,"CLIMACOSPHENIACEAE",null,null,"CERATONEIS",null,null,"AZPEITIA NODULIFERA"]
[null,null,null,null,null,null,null,null,null,null,null,null,null,null,null,{"$f":"IF(referentes!AC53=\"\",\"\",IF(referentes!AC53=referentes!AH53,CONCATENATE(referentes!AC53,\" \",\" \",\" \",\" \"),IF(referentes!AC53=referentes!AI53,CONCATENATE(referentes!AH53,\" \",referentes!AI53,\" \",\" \"),CONCATENATE(referentes!AH53,\" \",referentes!AI53,\" \",referentes!AC53))))","v":""},{"$f":"IF(referentes!AB53=\"\",\"\",referentes!AB53)","v":""},null,null,null,{"$f":"TRIM(UPPER(CONCATENATE(referentes!AH49,\" \",referentes!AI49,\" \",referentes!AJ49,\" \",referentes!AK49,\" \",referentes!AF49)))","v":"ASTERIONELLA MEDITERRANEA"},{"$f":"referentes!AG49","v":0},null,null,null,null,null,null,null,"CLOSTERIACEAE",null,null,"CHAETOCEROS",null,null,"BACILLARIA PAXILLIFERA"]
[null,null,null,null,null,null,null,null,null,null,null,null,null,null,null,{"$f":"IF(referentes!AC54=\"\",\"\",IF(referentes!AC54=referentes!AH54,CONCATENATE(referentes!AC54,\" \",\" \",\" \",\" \"),IF(referentes!AC54=referentes!AI54,CONCATENATE(referentes!AH54,\" \",referentes!AI54,\" \",\" \"),CONCATENATE(referentes!AH54,\" \",referentes!AI54,\" \",referentes!AC54))))","v":""},{"$f":"IF(referentes!AB54=\"\",\"\",referentes!AB54)","v":""},null,null,null,{"$f":"TRIM(UPPER(CONCATENATE(referentes!AH50,\" \",referentes!AI50,\" \",referentes!AJ50,\" \",referentes!AK50,\" \",referentes!AF50)))","v":"ASTERIONELLA NOTATA"},{"$f":"referentes!AG50","v":0},null,null,null,null,null,null,null,"COCCONEIDACEAE",null,null,"CHILOMONAS",null,null,"BACTERIASTRUM COMOSUM"]
[null,null,null,null,null,null,null,null,null,null,null,null,null,null,null,{"$f":"IF(referentes!AC55=\"\",\"\",IF(referentes!AC55=referentes!AH55,CONCATENATE(referentes!AC55,\" \",\" \",\" \",\" \"),IF(referentes!AC55=referentes!AI55,CONCATENATE(referentes!AH55,\" \",referentes!AI55,\" \",\" \"),CONCATENATE(referentes!AH55,\" \",referentes!AI55,\" \",referentes!AC55))))","v":""},{"$f":"IF(referentes!AB55=\"\",\"\",referentes!AB55)","v":""},null,null,null,{"$f":"TRIM(UPPER(CONCATENATE(referentes!AH51,\" \",referentes!AI51,\" \",referentes!AJ51,\" \",referentes!AK51,\" \",referentes!AF51)))","v":"ASTERIONELLOPSIS"},{"$f":"referentes!AG51","v":0},null,null,null,null,null,null,null,"INCERTAE SEDIS (DINOPHYCEAE)",null,null,"CHROOCOCCUS",null,null,"BACTERIASTRUM DELICATULUM"]
[null,null,null,null,null,null,null,null,null,null,null,null,null,null,null,{"$f":"IF(referentes!AC56=\"\",\"\",IF(referentes!AC56=referentes!AH56,CONCATENATE(referentes!AC56,\" \",\" \",\" \",\" \"),IF(referentes!AC56=referentes!AI56,CONCATENATE(referentes!AH56,\" \",referentes!AI56,\" \",\" \"),CONCATENATE(referentes!AH56,\" \",referentes!AI56,\" \",referentes!AC56))))","v":""},{"$f":"IF(referentes!AB56=\"\",\"\",referentes!AB56)","v":""},null,null,null,{"$f":"TRIM(UPPER(CONCATENATE(referentes!AH52,\" \",referentes!AI52,\" \",referentes!AJ52,\" \",referentes!AK52,\" \",referentes!AF52)))","v":"ASTERIONELLOPSIS GLACIALIS"},{"$f":"referentes!AG52","v":0},null,null,null,null,null,null,null,"SCENEDESMACEAE",null,null,"CITHARISTES",null,null,"BACTERIASTRUM ELEGANS"]
[null,null,null,null,null,null,null,null,null,null,null,null,null,null,null,{"$f":"IF(referentes!AC57=\"\",\"\",IF(referentes!AC57=referentes!AH57,CONCATENATE(referentes!AC57,\" \",\" \",\" \",\" \"),IF(referentes!AC57=referentes!AI57,CONCATENATE(referentes!AH57,\" \",referentes!AI57,\" \",\" \"),CONCATENATE(referentes!AH57,\" \",referentes!AI57,\" \",referentes!AC57))))","v":""},{"$f":"IF(referentes!AB57=\"\",\"\",referentes!AB57)","v":""},null,null,null,{"$f":"TRIM(UPPER(CONCATENATE(referentes!AH53,\" \",referentes!AI53,\" \",referentes!AJ53,\" \",referentes!AK53,\" \",referentes!AF53)))","v":"ASTERODINIUM"},{"$f":"referentes!AG53","v":0},null,null,null,null,null,null,null,"COELOSPHAERIACEAE",null,null,"CLADOPYXIS",null,null,"BACTERIASTRUM ELONGATUM"]
[null,null,null,null,null,null,null,null,null,null,null,null,null,null,null,{"$f":"IF(referentes!AC58=\"\",\"\",IF(referentes!AC58=referentes!AH58,CONCATENATE(referentes!AC58,\" \",\" \",\" \",\" \"),IF(referentes!AC58=referentes!AI58,CONCATENATE(referentes!AH58,\" \",referentes!AI58,\" \",\" \"),CONCATENATE(referentes!AH58,\" \",referentes!AI58,\" \",referentes!AC58))))","v":""},{"$f":"IF(referentes!AB58=\"\",\"\",referentes!AB58)","v":""},null,null,null,{"$f":"TRIM(UPPER(CONCATENATE(referentes!AH54,\" \",referentes!AI54,\" \",referentes!AJ54,\" \",referentes!AK54,\" \",referentes!AF54)))","v":"ASTEROLAMPRA"},{"$f":"referentes!AG54","v":0},null,null,null,null,null,null,null,"ASTEROMONADACEAE",null,null,"CLIMACODIUM",null,null,"BACTERIASTRUM FURCATUM"]
[null,null,null,null,null,null,null,null,null,null,null,null,null,null,null,{"$f":"IF(referentes!AC59=\"\",\"\",IF(referentes!AC59=referentes!AH59,CONCATENATE(referentes!AC59,\" \",\" \",\" \",\" \"),IF(referentes!AC59=referentes!AI59,CONCATENATE(referentes!AH59,\" \",referentes!AI59,\" \",\" \"),CONCATENATE(referentes!AH59,\" \",referentes!AI59,\" \",referentes!AC59))))","v":""},{"$f":"IF(referentes!AB59=\"\",\"\",referentes!AB59)","v":""},null,null,null,{"$f":"TRIM(UPPER(CONCATENATE(referentes!AH55,\" \",referentes!AI55,\" \",referentes!AJ55,\" \",referentes!AK55,\" \",referentes!AF55)))","v":"ASTEROLAMPRA MARYLANDICA"},{"$f":"referentes!AG55","v":0},null,null,null,null,null,null,null,"CORETHRACEAE",null,null,"CLIMACONEIS",null,null,"BACTERIASTRUM HYALINUM"]
[null,null,null,null,null,null,null,null,null,null,null,null,null,null,null,{"$f":"IF(referentes!AC60=\"\",\"\",IF(referentes!AC60=referentes!AH60,CONCATENATE(referentes!AC60,\" \",\" \",\" \",\" \"),IF(referentes!AC60=referentes!AI60,CONCATENATE(referentes!AH60,\" \",referentes!AI60,\" \",\" \"),CONCATENATE(referentes!AH60,\" \",referentes!AI60,\" \",referentes!AC60))))","v":""},{"$f":"IF(referentes!AB60=\"\",\"\",referentes!AB60)","v":""},null,null,null,{"$f":"TRIM(UPPER(CONCATENATE(referentes!AH56,\" \",referentes!AI56,\" \",referentes!AJ56,\" \",referentes!AK56,\" \",referentes!AF56)))","v":"ASTEROMPHALUS"},{"$f":"referentes!AG56","v":0},null,null,null,null,null,null,null,"COSCINODISCACEAE",null,null,"CLIMACOSPHENIA",null,null,"BELLEROCHEA HOROLOGICALIS"]
[null,null,null,null,null,null,null,null,null,null,null,null,null,null,null,{"$f":"IF(referentes!AC61=\"\",\"\",IF(referentes!AC61=referentes!AH61,CONCATENATE(referentes!AC61,\" \",\" \",\" \",\" \"),IF(referentes!AC61=referentes!AI61,CONCATENATE(referentes!AH61,\" \",referentes!AI61,\" \",\" \"),CONCATENATE(referentes!AH61,\" \",referentes!AI61,\" \",referentes!AC61))))","v":""},{"$f":"IF(referentes!AB61=\"\",\"\",referentes!AB61)","v":""},null,null,null,{"$f":"TRIM(UPPER(CONCATENATE(referentes!AH57,\" \",referentes!AI57,\" \",referentes!AJ57,\" \",referentes!AK57,\" \",referentes!AF57)))","v":"ASTEROMPHALUS ARACHNE"},{"$f":"referentes!AG57","v":0},null,null,null,null,null,null,null,"DESMIDIACEAE",null,null,"CLOSTERIOPSIS",null,null,"BERKELEYA SCOPULORUM"]
[null,null,null,null,null,null,null,null,null,null,null,null,null,null,null,{"$f":"IF(referentes!AC62=\"\",\"\",IF(referentes!AC62=referentes!AH62,CONCATENATE(referentes!AC62,\" \",\" \",\" \",\" \"),IF(referentes!AC62=referentes!AI62,CONCATENATE(referentes!AH62,\" \",referentes!AI62,\" \",\" \"),CONCATENATE(referentes!AH62,\" \",referentes!AI62,\" \",referentes!AC62))))","v":""},{"$f":"IF(referentes!AB62=\"\",\"\",referentes!AB62)","v":""},null,null,null,{"$f":"TRIM(UPPER(CONCATENATE(referentes!AH58,\" \",referentes!AI58,\" \",referentes!AJ58,\" \",referentes!AK58,\" \",referentes!AF58)))","v":"ASTEROMPHALUS BROOKEI"},{"$f":"referentes!AG58","v":0},null,null,null,null,null,null,null,"STAURONEIDACEAE",null,null,"CLOSTERIUM",null,null,"BIDDULPHIA ANTEDILUVIANA"]
[null,null,null,null,null,null,null,null,null,null,null,null,null,null,null,{"$f":"IF(referentes!AC63=\"\",\"\",IF(referentes!AC63=referentes!AH63,CONCATENATE(referentes!AC63,\" \",\" \",\" \",\" \"),IF(referentes!AC63=referentes!AI63,CONCATENATE(referentes!AH63,\" \",referentes!AI63,\" \",\" \"),CONCATENATE(referentes!AH63,\" \",referentes!AI63,\" \",referentes!AC63))))","v":""},{"$f":"IF(referentes!AB63=\"\",\"\",referentes!AB63)","v":""},null,null,null,{"$f":"TRIM(UPPER(CONCATENATE(referentes!AH59,\" \",referentes!AI59,\" \",referentes!AJ59,\" \",referentes!AK59,\" \",referentes!AF59)))","v":"ASTEROMPHALUS CLEVEANUS"},{"$f":"referentes!AG59","v":0},null,null,null,null,null,null,null,"TREBOUXIOPHYCEAE INCERTAE SEDIS",null,null,"COCCONEIS",null,null,"BIDDULPHIA AZORICA"]
[null,null,null,null,null,null,null,null,null,null,null,null,null,null,null,{"$f":"IF(referentes!AC64=\"\",\"\",IF(referentes!AC64=referentes!AH64,CONCATENATE(referentes!AC64,\" \",\" \",\" \",\" \"),IF(referentes!AC64=referentes!AI64,CONCATENATE(referentes!AH64,\" \",referentes!AI64,\" \",\" \"),CONCATENATE(referentes!AH64,\" \",referentes!AI64,\" \",referentes!AC64))))","v":""},{"$f":"IF(referentes!AB64=\"\",\"\",referentes!AB64)","v":""},null,null,null,{"$f":"TRIM(UPPER(CONCATENATE(referentes!AH60,\" \",referentes!AI60,\" \",referentes!AJ60,\" \",referentes!AK60,\" \",referentes!AF60)))","v":"ASTEROMPHALUS ELEGANS"},{"$f":"referentes!AG60","v":0},null,null,null,null,null,null,null,"CRYPTOMONADACEAE",null,null,"COCHLODINIUM",null,null,"BIDDULPHIA BIDDULPHIANA"]
[null,null,null,null,null,null,null,null,null,null,null,null,null,null,null,{"$f":"IF(referentes!AC65=\"\",\"\",IF(referentes!AC65=referentes!AH65,CONCATENATE(referentes!AC65,\" \",\" \",\" \",\" \"),IF(referentes!AC65=referentes!AI65,CONCATENATE(referentes!AH65,\" \",referentes!AI65,\" \",\" \"),CONCATENATE(referentes!AH65,\" \",referentes!AI65,\" \",referentes!AC65))))","v":""},{"$f":"IF(referentes!AB65=\"\",\"\",referentes!AB65)","v":""},null,null,null,{"$f":"TRIM(UPPER(CONCATENATE(referentes!AH61,\" \",referentes!AI61,\" \",referentes!AJ61,\" \",referentes!AK61,\" \",referentes!AF61)))","v":"ASTEROMPHALUS FLABELLATUS"},{"$f":"referentes!AG61","v":0},null,null,null,null,null,null,null,"STEPHANODISCACEAE",null,null,"COELASTRUM",null,null,"BIDDULPHIA PELLUCIDA"]
[null,null,null,null,null,null,null,null,null,null,null,null,null,null,null,{"$f":"IF(referentes!AC66=\"\",\"\",IF(referentes!AC66=referentes!AH66,CONCATENATE(referentes!AC66,\" \",\" \",\" \",\" \"),IF(referentes!AC66=referentes!AI66,CONCATENATE(referentes!AH66,\" \",referentes!AI66,\" \",\" \"),CONCATENATE(referentes!AH66,\" \",referentes!AI66,\" \",referentes!AC66))))","v":""},{"$f":"IF(referentes!AB66=\"\",\"\",referentes!AB66)","v":""},null,null,null,{"$f":"TRIM(UPPER(CONCATENATE(referentes!AH62,\" \",referentes!AI62,\" \",referentes!AJ62,\" \",referentes!AK62,\" \",referentes!AF62)))","v":"ASTEROMPHALUS HEPTACTIS"},{"$f":"referentes!AG62","v":0},null,null,null,null,null,null,null,"CYMBELLACEAE",null,null,"COELOMORON",null,null,"BIDDULPHIA RHOMBUS"]
[null,null,null,null,null,null,null,null,null,null,null,null,null,null,null,{"$f":"IF(referentes!AC67=\"\",\"\",IF(referentes!AC67=referentes!AH67,CONCATENATE(referentes!AC67,\" \",\" \",\" \",\" \"),IF(referentes!AC67=referentes!AI67,CONCATENATE(referentes!AH67,\" \",referentes!AI67,\" \",\" \"),CONCATENATE(referentes!AH67,\" \",referentes!AI67,\" \",referentes!AC67))))","v":""},{"$f":"IF(referentes!AB67=\"\",\"\",referentes!AB67)","v":""},null,null,null,{"$f":"TRIM(UPPER(CONCATENATE(referentes!AH63,\" \",referentes!AI63,\" \",referentes!AJ63,\" \",referentes!AK63,\" \",referentes!AF63)))","v":"ASTEROMPHALUS HOOKERI"},{"$f":"referentes!AG63","v":0},null,null,null,null,null,null,null,"RHIZOSOLENIACEAE",null,null,"COELOSPHAERIUM",null,null,"BIDDULPHIA SCHROEDERIANA"]
[null,null,null,null,null,null,null,null,null,null,null,null,null,null,null,{"$f":"IF(referentes!AC68=\"\",\"\",IF(referentes!AC68=referentes!AH68,CONCATENATE(referentes!AC68,\" \",\" \",\" \",\" \"),IF(referentes!AC68=referentes!AI68,CONCATENATE(referentes!AH68,\" \",referentes!AI68,\" \",\" \"),CONCATENATE(referentes!AH68,\" \",referentes!AI68,\" \",referentes!AC68))))","v":""},{"$f":"IF(referentes!AB68=\"\",\"\",referentes!AB68)","v":""},null,null,null,{"$f":"TRIM(UPPER(CONCATENATE(referentes!AH64,\" \",referentes!AI64,\" \",referentes!AJ64,\" \",referentes!AK64,\" \",referentes!AF64)))","v":"ASTEROMPHALUS ROBUSTUS"},{"$f":"referentes!AG64","v":0},null,null,null,null,null,null,null,"RHAPHONEIDACEAE",null,null,"COLLODICTYON",null,null,"BIDDULPHIA TITIANA"]
[null,null,null,null,null,null,null,null,null,null,null,null,null,null,null,{"$f":"IF(referentes!AC69=\"\",\"\",IF(referentes!AC69=referentes!AH69,CONCATENATE(referentes!AC69,\" \",\" \",\" \",\" \"),IF(referentes!AC69=referentes!AI69,CONCATENATE(referentes!AH69,\" \",referentes!AI69,\" \",\" \"),CONCATENATE(referentes!AH69,\" \",referentes!AI69,\" \",referentes!AC69))))","v":""},{"$f":"IF(referentes!AB69=\"\",\"\",referentes!AB69)","v":""},null,null,null,{"$f":"TRIM(UPPER(CONCATENATE(referentes!AH65,\" \",referentes!AI65,\" \",referentes!AJ65,\" \",referentes!AK65,\" \",referentes!AF65)))","v":"ASTEROMPHALUS ROPERIANUS"},{"$f":"referentes!AG65","v":0},null,null,null,null,null,null,null,"SKELETONEMATACEAE",null,null,"CORETHRON",null,null,"BIDDULPHIA TUOMEYI"]
[null,null,null,null,null,null,null,null,null,null,null,null,null,null,null,{"$f":"IF(referentes!AC70=\"\",\"\",IF(referentes!AC70=referentes!AH70,CONCATENATE(referentes!AC70,\" \",\" \",\" \",\" \"),IF(referentes!AC70=referentes!AI70,CONCATENATE(referentes!AH70,\" \",referentes!AI70,\" \",\" \"),CONCATENATE(referentes!AH70,\" \",referentes!AI70,\" \",referentes!AC70))))","v":""},{"$f":"IF(referentes!AB70=\"\",\"\",referentes!AB70)","v":""},null,null,null,{"$f":"TRIM(UPPER(CONCATENATE(referentes!AH66,\" \",referentes!AI66,\" \",referentes!AJ66,\" \",referentes!AK66,\" \",referentes!AF66)))","v":"ASTEROMPHALUS SARCOPHAGUS"},{"$f":"referentes!AG66","v":0},null,null,null,null,null,null,null,"SKELETONEMACEAE",null,null,"CORYTHODINIUM",null,null,"BIDDULPHIOPSIS MEMBRANACEA"]
[null,null,null,null,null,null,null,null,null,null,null,null,null,null,null,{"$f":"IF(referentes!AC71=\"\",\"\",IF(referentes!AC71=referentes!AH71,CONCATENATE(referentes!AC71,\" \",\" \",\" \",\" \"),IF(referentes!AC71=referentes!AI71,CONCATENATE(referentes!AH71,\" \",referentes!AI71,\" \",\" \"),CONCATENATE(referentes!AH71,\" \",referentes!AI71,\" \",referentes!AC71))))","v":""},{"$f":"IF(referentes!AB71=\"\",\"\",referentes!AB71)","v":""},null,null,null,{"$f":"TRIM(UPPER(CONCATENATE(referentes!AH67,\" \",referentes!AI67,\" \",referentes!AJ67,\" \",referentes!AK67,\" \",referentes!AF67)))","v":"AULACOSEIRA"},{"$f":"referentes!AG67","v":0},null,null,null,null,null,null,null,"PAVLOVACEAE",null,null,"COSCINODISCUS",null,null,"BLEAKELEYA NOTATA"]
[null,null,null,null,null,null,null,null,null,null,null,null,null,null,null,{"$f":"IF(referentes!AC72=\"\",\"\",IF(referentes!AC72=referentes!AH72,CONCATENATE(referentes!AC72,\" \",\" \",\" \",\" \"),IF(referentes!AC72=referentes!AI72,CONCATENATE(referentes!AH72,\" \",referentes!AI72,\" \",\" \"),CONCATENATE(referentes!AH72,\" \",referentes!AI72,\" \",referentes!AC72))))","v":""},{"$f":"IF(referentes!AB72=\"\",\"\",referentes!AB72)","v":""},null,null,null,{"$f":"TRIM(UPPER(CONCATENATE(referentes!AH68,\" \",referentes!AI68,\" \",referentes!AJ68,\" \",referentes!AK68,\" \",referentes!AF68)))","v":"AULACOSEIRA GRANULATA"},{"$f":"referentes!AG68","v":0},null,null,null,null,null,null,null,"DICTYOCHACEAE",null,null,"COSMARIUM",null,null,"BLEPHAROCYSTA LENDOR-MARIS"]
[null,null,null,null,null,null,null,null,null,null,null,null,null,null,null,{"$f":"IF(referentes!AC73=\"\",\"\",IF(referentes!AC73=referentes!AH73,CONCATENATE(referentes!AC73,\" \",\" \",\" \",\" \"),IF(referentes!AC73=referentes!AI73,CONCATENATE(referentes!AH73,\" \",referentes!AI73,\" \",\" \"),CONCATENATE(referentes!AH73,\" \",referentes!AI73,\" \",referentes!AC73))))","v":""},{"$f":"IF(referentes!AB73=\"\",\"\",referentes!AB73)","v":""},null,null,null,{"$f":"TRIM(UPPER(CONCATENATE(referentes!AH69,\" \",referentes!AI69,\" \",referentes!AJ69,\" \",referentes!AK69,\" \",referentes!AF69)))","v":"AULACOSEIRA ITALICA"},{"$f":"referentes!AG69","v":0},null,null,null,null,null,null,null,"PLAGIOGRAMMACEAE",null,null,"CRATICULA",null,null,"BRAARUDOSPHAERA BIGELOWII"]
[null,null,null,null,null,null,null,null,null,null,null,null,null,null,null,{"$f":"IF(referentes!AC74=\"\",\"\",IF(referentes!AC74=referentes!AH74,CONCATENATE(referentes!AC74,\" \",\" \",\" \",\" \"),IF(referentes!AC74=referentes!AI74,CONCATENATE(referentes!AH74,\" \",referentes!AI74,\" \",\" \"),CONCATENATE(referentes!AH74,\" \",referentes!AI74,\" \",referentes!AC74))))","v":""},{"$f":"IF(referentes!AB74=\"\",\"\",referentes!AB74)","v":""},null,null,null,{"$f":"TRIM(UPPER(CONCATENATE(referentes!AH70,\" \",referentes!AI70,\" \",referentes!AJ70,\" \",referentes!AK70,\" \",referentes!AF70)))","v":"AURICULA"},{"$f":"referentes!AG70","v":0},null,null,null,null,null,null,null,"DINOBRYACEAE",null,null,"CRUCIGENIA",null,null,"CALCIOSOLENIA BRASILIENSIS"]
[null,null,null,null,null,null,null,null,null,null,null,null,null,null,null,{"$f":"IF(referentes!AC75=\"\",\"\",IF(referentes!AC75=referentes!AH75,CONCATENATE(referentes!AC75,\" \",\" \",\" \",\" \"),IF(referentes!AC75=referentes!AI75,CONCATENATE(referentes!AH75,\" \",referentes!AI75,\" \",\" \"),CONCATENATE(referentes!AH75,\" \",referentes!AI75,\" \",referentes!AC75))))","v":""},{"$f":"IF(referentes!AB75=\"\",\"\",referentes!AB75)","v":""},null,null,null,{"$f":"TRIM(UPPER(CONCATENATE(referentes!AH71,\" \",referentes!AI71,\" \",referentes!AJ71,\" \",referentes!AK71,\" \",referentes!AF71)))","v":"AURICULA COMPLEXA"},{"$f":"referentes!AG71","v":0},null,null,null,null,null,null,null,"DIPLONEIDACEAE",null,null,"CRYPTOMONAS",null,null,"CALCIOSOLENIA MURRAYI"]
[null,null,null,null,null,null,null,null,null,null,null,null,null,null,null,{"$f":"IF(referentes!AC76=\"\",\"\",IF(referentes!AC76=referentes!AH76,CONCATENATE(referentes!AC76,\" \",\" \",\" \",\" \"),IF(referentes!AC76=referentes!AI76,CONCATENATE(referentes!AH76,\" \",referentes!AI76,\" \",\" \"),CONCATENATE(referentes!AH76,\" \",referentes!AI76,\" \",referentes!AC76))))","v":""},{"$f":"IF(referentes!AB76=\"\",\"\",referentes!AB76)","v":""},null,null,null,{"$f":"TRIM(UPPER(CONCATENATE(referentes!AH72,\" \",referentes!AI72,\" \",referentes!AJ72,\" \",referentes!AK72,\" \",referentes!AF72)))","v":"AZPEITIA"},{"$f":"referentes!AG72","v":0},null,null,null,null,null,null,null,"DIPLOPSALIACEAE",null,null,"CYANOSARCINA",null,null,"CALONEIS LIBER"]
[null,null,null,null,null,null,null,null,null,null,null,null,null,null,null,{"$f":"IF(referentes!AC77=\"\",\"\",IF(referentes!AC77=referentes!AH77,CONCATENATE(referentes!AC77,\" \",\" \",\" \",\" \"),IF(referentes!AC77=referentes!AI77,CONCATENATE(referentes!AH77,\" \",referentes!AI77,\" \",\" \"),CONCATENATE(referentes!AH77,\" \",referentes!AI77,\" \",referentes!AC77))))","v":""},{"$f":"IF(referentes!AB77=\"\",\"\",referentes!AB77)","v":""},null,null,null,{"$f":"TRIM(UPPER(CONCATENATE(referentes!AH73,\" \",referentes!AI73,\" \",referentes!AJ73,\" \",referentes!AK73,\" \",referentes!AF73)))","v":"AZPEITIA AFRICANA"},{"$f":"referentes!AG73","v":0},null,null,null,null,null,null,null,"LITHODESMIACEAE",null,null,"CYCLOTELLA",null,null,"CAMPYLODISCUS BIANGULATUS"]
[null,null,null,null,null,null,null,null,null,null,null,null,null,null,null,{"$f":"IF(referentes!AC78=\"\",\"\",IF(referentes!AC78=referentes!AH78,CONCATENATE(referentes!AC78,\" \",\" \",\" \",\" \"),IF(referentes!AC78=referentes!AI78,CONCATENATE(referentes!AH78,\" \",referentes!AI78,\" \",\" \"),CONCATENATE(referentes!AH78,\" \",referentes!AI78,\" \",referentes!AC78))))","v":""},{"$f":"IF(referentes!AB78=\"\",\"\",referentes!AB78)","v":""},null,null,null,{"$f":"TRIM(UPPER(CONCATENATE(referentes!AH74,\" \",referentes!AI74,\" \",referentes!AJ74,\" \",referentes!AK74,\" \",referentes!AF74)))","v":"AZPEITIA NODULIFERA"},{"$f":"referentes!AG74","v":0},null,null,null,null,null,null,null,"EBRIACEAE",null,null,"CYLINDROSPERMOPSIS",null,null,"CAMPYLODISCUS BICOSTATUS"]
[null,null,null,null,null,null,null,null,null,null,null,null,null,null,null,{"$f":"IF(referentes!AC79=\"\",\"\",IF(referentes!AC79=referentes!AH79,CONCATENATE(referentes!AC79,\" \",\" \",\" \",\" \"),IF(referentes!AC79=referentes!AI79,CONCATENATE(referentes!AH79,\" \",referentes!AI79,\" \",\" \"),CONCATENATE(referentes!AH79,\" \",referentes!AI79,\" \",referentes!AC79))))","v":""},{"$f":"IF(referentes!AB79=\"\",\"\",referentes!AB79)","v":""},null,null,null,{"$f":"TRIM(UPPER(CONCATENATE(referentes!AH75,\" \",referentes!AI75,\" \",referentes!AJ75,\" \",referentes!AK75,\" \",referentes!AF75)))","v":"BACILLARIA"},{"$f":"referentes!AG75","v":0},null,null,null,null,null,null,null,"NOELAERHABDACEAE",null,null,"CYLINDROSPERMUM",null,null,"CAMPYLODISCUS FASTUOSUS"]
[null,null,null,null,null,null,null,null,null,null,null,null,null,null,null,{"$f":"IF(referentes!AC80=\"\",\"\",IF(referentes!AC80=referentes!AH80,CONCATENATE(referentes!AC80,\" \",\" \",\" \",\" \"),IF(referentes!AC80=referentes!AI80,CONCATENATE(referentes!AH80,\" \",referentes!AI80,\" \",\" \"),CONCATENATE(referentes!AH80,\" \",referentes!AI80,\" \",referentes!AC80))))","v":""},{"$f":"IF(referentes!AB80=\"\",\"\",referentes!AB80)","v":""},null,null,null,{"$f":"TRIM(UPPER(CONCATENATE(referentes!AH76,\" \",referentes!AI76,\" \",referentes!AJ76,\" \",referentes!AK76,\" \",referentes!AF76)))","v":"BACILLARIA PAXILLIFERA"},{"$f":"referentes!AG76","v":0},null,null,null,null,null,null,null,"GOMPHONEMATACEAE",null,null,"CYLINDROTHECA",null,null,"CAMPYLODISCUS IMPERIALIS"]
[null,null,null,null,null,null,null,null,null,null,null,null,null,null,null,{"$f":"IF(referentes!AC81=\"\",\"\",IF(referentes!AC81=referentes!AH81,CONCATENATE(referentes!AC81,\" \",\" \",\" \",\" \"),IF(referentes!AC81=referentes!AI81,CONCATENATE(referentes!AH81,\" \",referentes!AI81,\" \",\" \"),CONCATENATE(referentes!AH81,\" \",referentes!AI81,\" \",referentes!AC81))))","v":""},{"$f":"IF(referentes!AB81=\"\",\"\",referentes!AB81)","v":""},null,null,null,{"$f":"TRIM(UPPER(CONCATENATE(referentes!AH77,\" \",referentes!AI77,\" \",referentes!AJ77,\" \",referentes!AK77,\" \",referentes!AF77)))","v":"BACILLARIOPHYCEAE"},{"$f":"referentes!AG77","v":0},null,null,null,null,null,null,null,"ENDICTYACEAE",null,null,"CYMBELLA",null,null,"CAMPYLODISCUS INCERTUS"]
[null,null,null,null,null,null,null,null,null,null,null,null,null,null,null,{"$f":"IF(referentes!AC82=\"\",\"\",IF(referentes!AC82=referentes!AH82,CONCATENATE(referentes!AC82,\" \",\" \",\" \",\" \"),IF(referentes!AC82=referentes!AI82,CONCATENATE(referentes!AH82,\" \",referentes!AI82,\" \",\" \"),CONCATENATE(referentes!AH82,\" \",referentes!AI82,\" \",referentes!AC82))))","v":""},{"$f":"IF(referentes!AB82=\"\",\"\",referentes!AB82)","v":""},null,null,null,{"$f":"TRIM(UPPER(CONCATENATE(referentes!AH78,\" \",referentes!AI78,\" \",referentes!AJ78,\" \",referentes!AK78,\" \",referentes!AF78)))","v":"BACTERIASTRUM"},{"$f":"referentes!AG78","v":0},null,null,null,null,null,null,null,"ENTOMONEIDACEAE",null,null,"DACTYLIOSOLEN",null,null,"CAMPYLODISCUS LIMBATUS"]
[null,null,null,null,null,null,null,null,null,null,null,null,null,null,null,{"$f":"IF(referentes!AC83=\"\",\"\",IF(referentes!AC83=referentes!AH83,CONCATENATE(referentes!AC83,\" \",\" \",\" \",\" \"),IF(referentes!AC83=referentes!AI83,CONCATENATE(referentes!AH83,\" \",referentes!AI83,\" \",\" \"),CONCATENATE(referentes!AH83,\" \",referentes!AI83,\" \",referentes!AC83))))","v":""},{"$f":"IF(referentes!AB83=\"\",\"\",referentes!AB83)","v":""},null,null,null,{"$f":"TRIM(UPPER(CONCATENATE(referentes!AH79,\" \",referentes!AI79,\" \",referentes!AJ79,\" \",referentes!AK79,\" \",referentes!AF79)))","v":"BACTERIASTRUM COMOSUM"},{"$f":"referentes!AG79","v":0},null,null,null,null,null,null,null,"VOLVOCACEAE",null,null,"DELPHINEIS",null,null,"CAMPYLODISCUS UNDULATUS"]
[null,null,null,null,null,null,null,null,null,null,null,null,null,null,null,{"$f":"IF(referentes!AC84=\"\",\"\",IF(referentes!AC84=referentes!AH84,CONCATENATE(referentes!AC84,\" \",\" \",\" \",\" \"),IF(referentes!AC84=referentes!AI84,CONCATENATE(referentes!AH84,\" \",referentes!AI84,\" \",\" \"),CONCATENATE(referentes!AH84,\" \",referentes!AI84,\" \",referentes!AC84))))","v":""},{"$f":"IF(referentes!AB84=\"\",\"\",referentes!AB84)","v":""},null,null,null,{"$f":"TRIM(UPPER(CONCATENATE(referentes!AH80,\" \",referentes!AI80,\" \",referentes!AJ80,\" \",referentes!AK80,\" \",referentes!AF80)))","v":"BACTERIASTRUM DELICATULUM"},{"$f":"referentes!AG80","v":0},null,null,null,null,null,null,null,"EUGLENACEAE",null,null,"DESMODESMUS",null,null,"CARINASIGMA RECTUM"]
[null,null,null,null,null,null,null,null,null,null,null,null,null,null,null,{"$f":"IF(referentes!AC85=\"\",\"\",IF(referentes!AC85=referentes!AH85,CONCATENATE(referentes!AC85,\" \",\" \",\" \",\" \"),IF(referentes!AC85=referentes!AI85,CONCATENATE(referentes!AH85,\" \",referentes!AI85,\" \",\" \"),CONCATENATE(referentes!AH85,\" \",referentes!AI85,\" \",referentes!AC85))))","v":""},{"$f":"IF(referentes!AB85=\"\",\"\",referentes!AB85)","v":""},null,null,null,{"$f":"TRIM(UPPER(CONCATENATE(referentes!AH81,\" \",referentes!AI81,\" \",referentes!AJ81,\" \",referentes!AK81,\" \",referentes!AF81)))","v":"BACTERIASTRUM ELEGANS"},{"$f":"referentes!AG81","v":0},null,null,null,null,null,null,null,"EUNOTIACEAE",null,null,"DETONULA",null,null,"CENTRODINIUM PUNCTATUM"]
[null,null,null,null,null,null,null,null,null,null,null,null,null,null,null,{"$f":"IF(referentes!AC86=\"\",\"\",IF(referentes!AC86=referentes!AH86,CONCATENATE(referentes!AC86,\" \",\" \",\" \",\" \"),IF(referentes!AC86=referentes!AI86,CONCATENATE(referentes!AH86,\" \",referentes!AI86,\" \",\" \"),CONCATENATE(referentes!AH86,\" \",referentes!AI86,\" \",referentes!AC86))))","v":""},{"$f":"IF(referentes!AB86=\"\",\"\",referentes!AB86)","v":""},null,null,null,{"$f":"TRIM(UPPER(CONCATENATE(referentes!AH82,\" \",referentes!AI82,\" \",referentes!AJ82,\" \",referentes!AK82,\" \",referentes!AF82)))","v":"BACTERIASTRUM ELONGATUM"},{"$f":"referentes!AG82","v":0},null,null,null,null,null,null,null,"ANAULACEAE",null,null,"DIACRONEMA",null,null,"CERATAULINA PELAGICA"]
[null,null,null,null,null,null,null,null,null,null,null,null,null,null,null,{"$f":"IF(referentes!AC87=\"\",\"\",IF(referentes!AC87=referentes!AH87,CONCATENATE(referentes!AC87,\" \",\" \",\" \",\" \"),IF(referentes!AC87=referentes!AI87,CONCATENATE(referentes!AH87,\" \",referentes!AI87,\" \",\" \"),CONCATENATE(referentes!AH87,\" \",referentes!AI87,\" \",referentes!AC87))))","v":""},{"$f":"IF(referentes!AB87=\"\",\"\",referentes!AB87)","v":""},null,null,null,{"$f":"TRIM(UPPER(CONCATENATE(referentes!AH83,\" \",referentes!AI83,\" \",referentes!AJ83,\" \",referentes!AK83,\" \",referentes!AF83)))","v":"BACTERIASTRUM FURCATUM"},{"$f":"referentes!AG83","v":0},null,null,null,null,null,null,null,"EUPODISCACEAE",null,null,"DICTYOCHA",null,null,"CERATAULUS SMITHII"]
[null,null,null,null,null,null,null,null,null,null,null,null,null,null,null,{"$f":"IF(referentes!AC88=\"\",\"\",IF(referentes!AC88=referentes!AH88,CONCATENATE(referentes!AC88,\" \",\" \",\" \",\" \"),IF(referentes!AC88=referentes!AI88,CONCATENATE(referentes!AH88,\" \",referentes!AI88,\" \",\" \"),CONCATENATE(referentes!AH88,\" \",referentes!AI88,\" \",referentes!AC88))))","v":""},{"$f":"IF(referentes!AB88=\"\",\"\",referentes!AB88)","v":""},null,null,null,{"$f":"TRIM(UPPER(CONCATENATE(referentes!AH84,\" \",referentes!AI84,\" \",referentes!AJ84,\" \",referentes!AK84,\" \",referentes!AF84)))","v":"BACTERIASTRUM HYALINUM"},{"$f":"referentes!AG84","v":0},null,null,null,null,null,null,null,"RADIOCOCCACEAE",null,null,"DICTYOSPHAERIUM",null,null,"CERATAULUS TURGIDUS"]
[null,null,null,null,null,null,null,null,null,null,null,null,null,null,null,{"$f":"IF(referentes!AC89=\"\",\"\",IF(referentes!AC89=referentes!AH89,CONCATENATE(referentes!AC89,\" \",\" \",\" \",\" \"),IF(referentes!AC89=referentes!AI89,CONCATENATE(referentes!AH89,\" \",referentes!AI89,\" \",\" \"),CONCATENATE(referentes!AH89,\" \",referentes!AI89,\" \",referentes!AC89))))","v":""},{"$f":"IF(referentes!AB89=\"\",\"\",referentes!AB89)","v":""},null,null,null,{"$f":"TRIM(UPPER(CONCATENATE(referentes!AH85,\" \",referentes!AI85,\" \",referentes!AJ85,\" \",referentes!AK85,\" \",referentes!AF85)))","v":"BELLEROCHEA"},{"$f":"referentes!AG85","v":0},null,null,null,null,null,null,null,"SELLAPHORACEAE",null,null,"DIMEREGRAMMA",null,null,"CERATOCORYS ARMATA"]
[null,null,null,null,null,null,null,null,null,null,null,null,null,null,null,{"$f":"IF(referentes!AC90=\"\",\"\",IF(referentes!AC90=referentes!AH90,CONCATENATE(referentes!AC90,\" \",\" \",\" \",\" \"),IF(referentes!AC90=referentes!AI90,CONCATENATE(referentes!AH90,\" \",referentes!AI90,\" \",\" \"),CONCATENATE(referentes!AH90,\" \",referentes!AI90,\" \",referentes!AC90))))","v":""},{"$f":"IF(referentes!AB90=\"\",\"\",referentes!AB90)","v":""},null,null,null,{"$f":"TRIM(UPPER(CONCATENATE(referentes!AH86,\" \",referentes!AI86,\" \",referentes!AJ86,\" \",referentes!AK86,\" \",referentes!AF86)))","v":"BELLEROCHEA HOROLOGICALIS"},{"$f":"referentes!AG86","v":0},null,null,null,null,null,null,null,"SPIRULINACEAE",null,null,"DINOBRYON",null,null,"CERATOCORYS BIPES"]
[null,null,null,null,null,null,null,null,null,null,null,null,null,null,null,{"$f":"IF(referentes!AC91=\"\",\"\",IF(referentes!AC91=referentes!AH91,CONCATENATE(referentes!AC91,\" \",\" \",\" \",\" \"),IF(referentes!AC91=referentes!AI91,CONCATENATE(referentes!AH91,\" \",referentes!AI91,\" \",\" \"),CONCATENATE(referentes!AH91,\" \",referentes!AI91,\" \",referentes!AC91))))","v":""},{"$f":"IF(referentes!AB91=\"\",\"\",referentes!AB91)","v":""},null,null,null,{"$f":"TRIM(UPPER(CONCATENATE(referentes!AH87,\" \",referentes!AI87,\" \",referentes!AJ87,\" \",referentes!AK87,\" \",referentes!AF87)))","v":"BERKELEYA"},{"$f":"referentes!AG87","v":0},null,null,null,null,null,null,null,"GOMPHOSPHAERIACEAE",null,null,"DINOPHYSIS",null,null,"CERATOCORYS HORRIDA"]
[null,null,null,null,null,null,null,null,null,null,null,null,null,null,null,{"$f":"IF(referentes!AC92=\"\",\"\",IF(referentes!AC92=referentes!AH92,CONCATENATE(referentes!AC92,\" \",\" \",\" \",\" \"),IF(referentes!AC92=referentes!AI92,CONCATENATE(referentes!AH92,\" \",referentes!AI92,\" \",\" \"),CONCATENATE(referentes!AH92,\" \",referentes!AI92,\" \",referentes!AC92))))","v":""},{"$f":"IF(referentes!AB92=\"\",\"\",referentes!AB92)","v":""},null,null,null,{"$f":"TRIM(UPPER(CONCATENATE(referentes!AH88,\" \",referentes!AI88,\" \",referentes!AJ88,\" \",referentes!AK88,\" \",referentes!AF88)))","v":"BERKELEYA SCOPULORUM"},{"$f":"referentes!AG88","v":0},null,null,null,null,null,null,null,"GONATOZYGACEAE",null,null,"DIPLONEIS",null,null,"CERATONEIS CLOSTERIUM"]
[null,null,null,null,null,null,null,null,null,null,null,null,null,null,null,{"$f":"IF(referentes!AC93=\"\",\"\",IF(referentes!AC93=referentes!AH93,CONCATENATE(referentes!AC93,\" \",\" \",\" \",\" \"),IF(referentes!AC93=referentes!AI93,CONCATENATE(referentes!AH93,\" \",referentes!AI93,\" \",\" \"),CONCATENATE(referentes!AH93,\" \",referentes!AI93,\" \",referentes!AC93))))","v":""},{"$f":"IF(referentes!AB93=\"\",\"\",referentes!AB93)","v":""},null,null,null,{"$f":"TRIM(UPPER(CONCATENATE(referentes!AH89,\" \",referentes!AI89,\" \",referentes!AJ89,\" \",referentes!AK89,\" \",referentes!AF89)))","v":"BIDDULPHIA"},{"$f":"referentes!AG89","v":0},null,null,null,null,null,null,null,"GOSSLERIELLACEAE",null,null,"DIPLOPELTA",null,null,"CHAETOCEROS AEQUATORIALIS"]
[null,null,null,null,null,null,null,null,null,null,null,null,null,null,null,{"$f":"IF(referentes!AC94=\"\",\"\",IF(referentes!AC94=referentes!AH94,CONCATENATE(referentes!AC94,\" \",\" \",\" \",\" \"),IF(referentes!AC94=referentes!AI94,CONCATENATE(referentes!AH94,\" \",referentes!AI94,\" \",\" \"),CONCATENATE(referentes!AH94,\" \",referentes!AI94,\" \",referentes!AC94))))","v":""},{"$f":"IF(referentes!AB94=\"\",\"\",referentes!AB94)","v":""},null,null,null,{"$f":"TRIM(UPPER(CONCATENATE(referentes!AH90,\" \",referentes!AI90,\" \",referentes!AJ90,\" \",referentes!AK90,\" \",referentes!AF90)))","v":"BIDDULPHIA ANTEDILUVIANA"},{"$f":"referentes!AG90","v":0},null,null,null,null,null,null,null,"GRAMMATOPHORACEAE",null,null,"DIPLOPSALIS",null,null,"CHAETOCEROS AFFINIS"]
[null,null,null,null,null,null,null,null,null,null,null,null,null,null,null,{"$f":"IF(referentes!AC95=\"\",\"\",IF(referentes!AC95=referentes!AH95,CONCATENATE(referentes!AC95,\" \",\" \",\" \",\" \"),IF(referentes!AC95=referentes!AI95,CONCATENATE(referentes!AH95,\" \",referentes!AI95,\" \",\" \"),CONCATENATE(referentes!AH95,\" \",referentes!AI95,\" \",referentes!AC95))))","v":""},{"$f":"IF(referentes!AB95=\"\",\"\",referentes!AB95)","v":""},null,null,null,{"$f":"TRIM(UPPER(CONCATENATE(referentes!AH91,\" \",referentes!AI91,\" \",referentes!AJ91,\" \",referentes!AK91,\" \",referentes!AF91)))","v":"BIDDULPHIA AZORICA"},{"$f":"referentes!AG91","v":0},null,null,null,null,null,null,null,"STRIATELLACEAE",null,null,"DISCOSTELLA",null,null,"CHAETOCEROS ANASTOMOSANS"]
[null,null,null,null,null,null,null,null,null,null,null,null,null,null,null,{"$f":"IF(referentes!AC96=\"\",\"\",IF(referentes!AC96=referentes!AH96,CONCATENATE(referentes!AC96,\" \",\" \",\" \",\" \"),IF(referentes!AC96=referentes!AI96,CONCATENATE(referentes!AH96,\" \",referentes!AI96,\" \",\" \"),CONCATENATE(referentes!AH96,\" \",referentes!AI96,\" \",referentes!AC96))))","v":""},{"$f":"IF(referentes!AB96=\"\",\"\",referentes!AB96)","v":""},null,null,null,{"$f":"TRIM(UPPER(CONCATENATE(referentes!AH92,\" \",referentes!AI92,\" \",referentes!AJ92,\" \",referentes!AK92,\" \",referentes!AF92)))","v":"BIDDULPHIA BIDDULPHIANA"},{"$f":"referentes!AG92","v":0},null,null,null,null,null,null,null,"DINOTRICHACEAE",null,null,"DISSODIUM",null,null,"CHAETOCEROS ATLANTICUS"]
[null,null,null,null,null,null,null,null,null,null,null,null,null,null,null,{"$f":"IF(referentes!AC97=\"\",\"\",IF(referentes!AC97=referentes!AH97,CONCATENATE(referentes!AC97,\" \",\" \",\" \",\" \"),IF(referentes!AC97=referentes!AI97,CONCATENATE(referentes!AH97,\" \",referentes!AI97,\" \",\" \"),CONCATENATE(referentes!AH97,\" \",referentes!AI97,\" \",referentes!AC97))))","v":""},{"$f":"IF(referentes!AB97=\"\",\"\",referentes!AB97)","v":""},null,null,null,{"$f":"TRIM(UPPER(CONCATENATE(referentes!AH93,\" \",referentes!AI93,\" \",referentes!AJ93,\" \",referentes!AK93,\" \",referentes!AF93)))","v":"BIDDULPHIA PELLUCIDA"},{"$f":"referentes!AG93","v":0},null,null,null,null,null,null,null,"AMPHIPLEURACEAE",null,null,"DITYLUM",null,null,"CHAETOCEROS BOREALIS"]
[null,null,null,null,null,null,null,null,null,null,null,null,null,null,null,{"$f":"IF(referentes!AC98=\"\",\"\",IF(referentes!AC98=referentes!AH98,CONCATENATE(referentes!AC98,\" \",\" \",\" \",\" \"),IF(referentes!AC98=referentes!AI98,CONCATENATE(referentes!AH98,\" \",referentes!AI98,\" \",\" \"),CONCATENATE(referentes!AH98,\" \",referentes!AI98,\" \",referentes!AC98))))","v":""},{"$f":"IF(referentes!AB98=\"\",\"\",referentes!AB98)","v":""},null,null,null,{"$f":"TRIM(UPPER(CONCATENATE(referentes!AH94,\" \",referentes!AI94,\" \",referentes!AJ94,\" \",referentes!AK94,\" \",referentes!AF94)))","v":"BIDDULPHIA RHOMBUS"},{"$f":"referentes!AG94","v":0},null,null,null,null,null,null,null,"CHROOMONADACEAE",null,null,"DONKINIA",null,null,"CHAETOCEROS BREVIS"]
[null,null,null,null,null,null,null,null,null,null,null,null,null,null,null,{"$f":"IF(referentes!AC99=\"\",\"\",IF(referentes!AC99=referentes!AH99,CONCATENATE(referentes!AC99,\" \",\" \",\" \",\" \"),IF(referentes!AC99=referentes!AI99,CONCATENATE(referentes!AH99,\" \",referentes!AI99,\" \",\" \"),CONCATENATE(referentes!AH99,\" \",referentes!AI99,\" \",referentes!AC99))))","v":""},{"$f":"IF(referentes!AB99=\"\",\"\",referentes!AB99)","v":""},null,null,null,{"$f":"TRIM(UPPER(CONCATENATE(referentes!AH95,\" \",referentes!AI95,\" \",referentes!AJ95,\" \",referentes!AK95,\" \",referentes!AF95)))","v":"BIDDULPHIA SCHROEDERIANA"},{"$f":"referentes!AG95","v":0},null,null,null,null,null,null,null,"EBRIOPSIDACEAE",null,null,"EBRIA",null,null,"CHAETOCEROS COARCTATUS"]
[null,null,null,null,null,null,null,null,null,null,null,null,null,null,null,{"$f":"IF(referentes!AC100=\"\",\"\",IF(referentes!AC100=referentes!AH100,CONCATENATE(referentes!AC100,\" \",\" \",\" \",\" \"),IF(referentes!AC100=referentes!AI100,CONCATENATE(referentes!AH100,\" \",referentes!AI100,\" \",\" \"),CONCATENATE(referentes!AH100,\" \",referentes!AI100,\" \",referentes!AC100))))","v":""},{"$f":"IF(referentes!AB100=\"\",\"\",referentes!AB100)","v":""},null,null,null,{"$f":"TRIM(UPPER(CONCATENATE(referentes!AH96,\" \",referentes!AI96,\" \",referentes!AJ96,\" \",referentes!AK96,\" \",referentes!AF96)))","v":"BIDDULPHIA TITIANA"},{"$f":"referentes!AG96","v":0},null,null,null,null,null,null,null,"HETEROCAPSACEAE",null,null,"EMILIANIA",null,null,"CHAETOCEROS COMPRESSUS"]
[null,null,null,null,null,null,null,null,null,null,null,null,null,null,null,{"$f":"IF(referentes!AC101=\"\",\"\",IF(referentes!AC101=referentes!AH101,CONCATENATE(referentes!AC101,\" \",\" \",\" \",\" \"),IF(referentes!AC101=referentes!AI101,CONCATENATE(referentes!AH101,\" \",referentes!AI101,\" \",\" \"),CONCATENATE(referentes!AH101,\" \",referentes!AI101,\" \",referentes!AC101))))","v":""},{"$f":"IF(referentes!AB101=\"\",\"\",referentes!AB101)","v":""},null,null,null,{"$f":"TRIM(UPPER(CONCATENATE(referentes!AH97,\" \",referentes!AI97,\" \",referentes!AJ97,\" \",referentes!AK97,\" \",referentes!AF97)))","v":"BIDDULPHIA TUOMEYI"},{"$f":"referentes!AG97","v":0},null,null,null,null,null,null,null,"HETERODINIACEAE",null,null,"ENCYONEMA",null,null,"CHAETOCEROS CONCAVICORNIS"]
[null,null,null,null,null,null,null,null,null,null,null,null,null,null,null,{"$f":"IF(referentes!AC102=\"\",\"\",IF(referentes!AC102=referentes!AH102,CONCATENATE(referentes!AC102,\" \",\" \",\" \",\" \"),IF(referentes!AC102=referentes!AI102,CONCATENATE(referentes!AH102,\" \",referentes!AI102,\" \",\" \"),CONCATENATE(referentes!AH102,\" \",referentes!AI102,\" \",referentes!AC102))))","v":""},{"$f":"IF(referentes!AB102=\"\",\"\",referentes!AB102)","v":""},null,null,null,{"$f":"TRIM(UPPER(CONCATENATE(referentes!AH98,\" \",referentes!AI98,\" \",referentes!AJ98,\" \",referentes!AK98,\" \",referentes!AF98)))","v":"BIDDULPHIOPSIS"},{"$f":"referentes!AG98","v":0},null,null,null,null,null,null,null,"HILLEACEAE",null,null,"ENDICTYA",null,null,"CHAETOCEROS CONSTRICTUS"]
[null,null,null,null,null,null,null,null,null,null,null,null,null,null,null,{"$f":"IF(referentes!AC103=\"\",\"\",IF(referentes!AC103=referentes!AH103,CONCATENATE(referentes!AC103,\" \",\" \",\" \",\" \"),IF(referentes!AC103=referentes!AI103,CONCATENATE(referentes!AH103,\" \",referentes!AI103,\" \",\" \"),CONCATENATE(referentes!AH103,\" \",referentes!AI103,\" \",referentes!AC103))))","v":""},{"$f":"IF(referentes!AB103=\"\",\"\",referentes!AB103)","v":""},null,null,null,{"$f":"TRIM(UPPER(CONCATENATE(referentes!AH99,\" \",referentes!AI99,\" \",referentes!AJ99,\" \",referentes!AK99,\" \",referentes!AF99)))","v":"BIDDULPHIOPSIS MEMBRANACEA"},{"$f":"referentes!AG99","v":0},null,null,null,null,null,null,null,"HYALODISCACEAE",null,null,"ENTOMONEIS",null,null,"CHAETOCEROS CONVOLUTUS"]
[null,null,null,null,null,null,null,null,null,null,null,null,null,null,null,{"$f":"IF(referentes!AC104=\"\",\"\",IF(referentes!AC104=referentes!AH104,CONCATENATE(referentes!AC104,\" \",\" \",\" \",\" \"),IF(referentes!AC104=referentes!AI104,CONCATENATE(referentes!AH104,\" \",referentes!AI104,\" \",\" \"),CONCATENATE(referentes!AH104,\" \",referentes!AI104,\" \",referentes!AC104))))","v":""},{"$f":"IF(referentes!AB104=\"\",\"\",referentes!AB104)","v":""},null,null,null,{"$f":"TRIM(UPPER(CONCATENATE(referentes!AH100,\" \",referentes!AI100,\" \",referentes!AJ100,\" \",referentes!AK100,\" \",referentes!AF100)))","v":"BLEAKELEYA"},{"$f":"referentes!AG100","v":0},null,null,null,null,null,null,null,"RHABDONEMATACEAE",null,null,"EUCAMPIA",null,null,"CHAETOCEROS COSTATUS"]
[null,null,null,null,null,null,null,null,null,null,null,null,null,null,null,{"$f":"IF(referentes!AC105=\"\",\"\",IF(referentes!AC105=referentes!AH105,CONCATENATE(referentes!AC105,\" \",\" \",\" \",\" \"),IF(referentes!AC105=referentes!AI105,CONCATENATE(referentes!AH105,\" \",referentes!AI105,\" \",\" \"),CONCATENATE(referentes!AH105,\" \",referentes!AI105,\" \",referentes!AC105))))","v":""},{"$f":"IF(referentes!AB105=\"\",\"\",referentes!AB105)","v":""},null,null,null,{"$f":"TRIM(UPPER(CONCATENATE(referentes!AH101,\" \",referentes!AI101,\" \",referentes!AJ101,\" \",referentes!AK101,\" \",referentes!AF101)))","v":"BLEAKELEYA NOTATA"},{"$f":"referentes!AG101","v":0},null,null,null,null,null,null,null,"TOVELLIACEAE",null,null,"EUCAPSIS",null,null,"CHAETOCEROS CURVISETUS"]
[null,null,null,null,null,null,null,null,null,null,null,null,null,null,null,{"$f":"IF(referentes!AC106=\"\",\"\",IF(referentes!AC106=referentes!AH106,CONCATENATE(referentes!AC106,\" \",\" \",\" \",\" \"),IF(referentes!AC106=referentes!AI106,CONCATENATE(referentes!AH106,\" \",referentes!AI106,\" \",\" \"),CONCATENATE(referentes!AH106,\" \",referentes!AI106,\" \",referentes!AC106))))","v":""},{"$f":"IF(referentes!AB106=\"\",\"\",referentes!AB106)","v":""},null,null,null,{"$f":"TRIM(UPPER(CONCATENATE(referentes!AH102,\" \",referentes!AI102,\" \",referentes!AJ102,\" \",referentes!AK102,\" \",referentes!AF102)))","v":"BLEPHAROCYSTA"},{"$f":"referentes!AG102","v":0},null,null,null,null,null,null,null,"KOFOIDINIACEAE",null,null,"EUDORINA",null,null,"CHAETOCEROS DADAYI"]
[null,null,null,null,null,null,null,null,null,null,null,null,null,null,null,{"$f":"IF(referentes!AC107=\"\",\"\",IF(referentes!AC107=referentes!AH107,CONCATENATE(referentes!AC107,\" \",\" \",\" \",\" \"),IF(referentes!AC107=referentes!AI107,CONCATENATE(referentes!AH107,\" \",referentes!AI107,\" \",\" \"),CONCATENATE(referentes!AH107,\" \",referentes!AI107,\" \",referentes!AC107))))","v":""},{"$f":"IF(referentes!AB107=\"\",\"\",referentes!AB107)","v":""},null,null,null,{"$f":"TRIM(UPPER(CONCATENATE(referentes!AH103,\" \",referentes!AI103,\" \",referentes!AJ103,\" \",referentes!AK103,\" \",referentes!AF103)))","v":"BLEPHAROCYSTA LENDOR-MARIS"},{"$f":"referentes!AG103","v":0},null,null,null,null,null,null,null,"LAUDERIACEAE",null,null,"EUGLENA",null,null,"CHAETOCEROS DANICUS"]
[null,null,null,null,null,null,null,null,null,null,null,null,null,null,null,{"$f":"IF(referentes!AC108=\"\",\"\",IF(referentes!AC108=referentes!AH108,CONCATENATE(referentes!AC108,\" \",\" \",\" \",\" \"),IF(referentes!AC108=referentes!AI108,CONCATENATE(referentes!AH108,\" \",referentes!AI108,\" \",\" \"),CONCATENATE(referentes!AH108,\" \",referentes!AI108,\" \",referentes!AC108))))","v":""},{"$f":"IF(referentes!AB108=\"\",\"\",referentes!AB108)","v":""},null,null,null,{"$f":"TRIM(UPPER(CONCATENATE(referentes!AH104,\" \",referentes!AI104,\" \",referentes!AJ104,\" \",referentes!AK104,\" \",referentes!AF104)))","v":"BORZIA"},{"$f":"referentes!AG104","v":0},null,null,null,null,null,null,null,"PHACACEAE",null,null,"EUNOTIA",null,null,"CHAETOCEROS DEBILIS"]
[null,null,null,null,null,null,null,null,null,null,null,null,null,null,null,{"$f":"IF(referentes!AC109=\"\",\"\",IF(referentes!AC109=referentes!AH109,CONCATENATE(referentes!AC109,\" \",\" \",\" \",\" \"),IF(referentes!AC109=referentes!AI109,CONCATENATE(referentes!AH109,\" \",referentes!AI109,\" \",\" \"),CONCATENATE(referentes!AH109,\" \",referentes!AI109,\" \",referentes!AC109))))","v":""},{"$f":"IF(referentes!AB109=\"\",\"\",referentes!AB109)","v":""},null,null,null,{"$f":"TRIM(UPPER(CONCATENATE(referentes!AH105,\" \",referentes!AI105,\" \",referentes!AJ105,\" \",referentes!AK105,\" \",referentes!AF105)))","v":"BRAARUDOSPHAERA"},{"$f":"referentes!AG105","v":0},null,null,null,null,null,null,null,"LEPTOCYLINDRACEAE",null,null,"EUNOTOGRAMMA",null,null,"CHAETOCEROS DECIPIENS"]
[null,null,null,null,null,null,null,null,null,null,null,null,null,null,null,{"$f":"IF(referentes!AC110=\"\",\"\",IF(referentes!AC110=referentes!AH110,CONCATENATE(referentes!AC110,\" \",\" \",\" \",\" \"),IF(referentes!AC110=referentes!AI110,CONCATENATE(referentes!AH110,\" \",referentes!AI110,\" \",\" \"),CONCATENATE(referentes!AH110,\" \",referentes!AI110,\" \",referentes!AC110))))","v":""},{"$f":"IF(referentes!AB110=\"\",\"\",referentes!AB110)","v":""},null,null,null,{"$f":"TRIM(UPPER(CONCATENATE(referentes!AH106,\" \",referentes!AI106,\" \",referentes!AJ106,\" \",referentes!AK106,\" \",referentes!AF106)))","v":"BRAARUDOSPHAERA BIGELOWII"},{"$f":"referentes!AG106","v":0},null,null,null,null,null,null,null,"LEPTOLYNGBYACEAE",null,null,"EUPODISCUS",null,null,"CHAETOCEROS DENTICULATUS"]
[null,null,null,null,null,null,null,null,null,null,null,null,null,null,null,{"$f":"IF(referentes!AC111=\"\",\"\",IF(referentes!AC111=referentes!AH111,CONCATENATE(referentes!AC111,\" \",\" \",\" \",\" \"),IF(referentes!AC111=referentes!AI111,CONCATENATE(referentes!AH111,\" \",referentes!AI111,\" \",\" \"),CONCATENATE(referentes!AH111,\" \",referentes!AI111,\" \",referentes!AC111))))","v":""},{"$f":"IF(referentes!AB111=\"\",\"\",referentes!AB111)","v":""},null,null,null,{"$f":"TRIM(UPPER(CONCATENATE(referentes!AH107,\" \",referentes!AI107,\" \",referentes!AJ107,\" \",referentes!AK107,\" \",referentes!AF107)))","v":"BRACHIDINIUM"},{"$f":"referentes!AG107","v":0},null,null,null,null,null,null,null,"LICMOPHORACEAE",null,null,"EUTETRAMORUS",null,null,"CHAETOCEROS DIADEMA"]
[null,null,null,null,null,null,null,null,null,null,null,null,null,null,null,{"$f":"IF(referentes!AC112=\"\",\"\",IF(referentes!AC112=referentes!AH112,CONCATENATE(referentes!AC112,\" \",\" \",\" \",\" \"),IF(referentes!AC112=referentes!AI112,CONCATENATE(referentes!AH112,\" \",referentes!AI112,\" \",\" \"),CONCATENATE(referentes!AH112,\" \",referentes!AI112,\" \",referentes!AC112))))","v":""},{"$f":"IF(referentes!AB112=\"\",\"\",referentes!AB112)","v":""},null,null,null,{"$f":"TRIM(UPPER(CONCATENATE(referentes!AH108,\" \",referentes!AI108,\" \",referentes!AJ108,\" \",referentes!AK108,\" \",referentes!AF108)))","v":"BROCKMANNIELLA"},{"$f":"referentes!AG108","v":0},null,null,null,null,null,null,null,"PSEUDANABAENACEAE",null,null,"FALLACIA",null,null,"CHAETOCEROS DICHAETA"]
[null,null,null,null,null,null,null,null,null,null,null,null,null,null,null,{"$f":"IF(referentes!AC113=\"\",\"\",IF(referentes!AC113=referentes!AH113,CONCATENATE(referentes!AC113,\" \",\" \",\" \",\" \"),IF(referentes!AC113=referentes!AI113,CONCATENATE(referentes!AH113,\" \",referentes!AI113,\" \",\" \"),CONCATENATE(referentes!AH113,\" \",referentes!AI113,\" \",referentes!AC113))))","v":""},{"$f":"IF(referentes!AB113=\"\",\"\",referentes!AB113)","v":""},null,null,null,{"$f":"TRIM(UPPER(CONCATENATE(referentes!AH109,\" \",referentes!AI109,\" \",referentes!AJ109,\" \",referentes!AK109,\" \",referentes!AF109)))","v":"CALCIOSOLENIA"},{"$f":"referentes!AG109","v":0},null,null,null,null,null,null,null,"THALASSIONEMATACEAE",null,null,"FRAGILARIA",null,null,"CHAETOCEROS DIDYMUS"]
[null,null,null,null,null,null,null,null,null,null,null,null,null,null,null,{"$f":"IF(referentes!AC114=\"\",\"\",IF(referentes!AC114=referentes!AH114,CONCATENATE(referentes!AC114,\" \",\" \",\" \",\" \"),IF(referentes!AC114=referentes!AI114,CONCATENATE(referentes!AH114,\" \",referentes!AI114,\" \",\" \"),CONCATENATE(referentes!AH114,\" \",referentes!AI114,\" \",referentes!AC114))))","v":""},{"$f":"IF(referentes!AB114=\"\",\"\",referentes!AB114)","v":""},null,null,null,{"$f":"TRIM(UPPER(CONCATENATE(referentes!AH110,\" \",referentes!AI110,\" \",referentes!AJ110,\" \",referentes!AK110,\" \",referentes!AF110)))","v":"CALCIOSOLENIA BRASILIENSIS"},{"$f":"referentes!AG110","v":0},null,null,null,null,null,null,null,"OSCILLATORIACEAE",null,null,"FRAGILARIOPSIS",null,null,"CHAETOCEROS DIFFICILIS"]
[null,null,null,null,null,null,null,null,null,null,null,null,null,null,null,{"$f":"IF(referentes!AC115=\"\",\"\",IF(referentes!AC115=referentes!AH115,CONCATENATE(referentes!AC115,\" \",\" \",\" \",\" \"),IF(referentes!AC115=referentes!AI115,CONCATENATE(referentes!AH115,\" \",referentes!AI115,\" \",\" \"),CONCATENATE(referentes!AH115,\" \",referentes!AI115,\" \",referentes!AC115))))","v":""},{"$f":"IF(referentes!AB115=\"\",\"\",referentes!AB115)","v":""},null,null,null,{"$f":"TRIM(UPPER(CONCATENATE(referentes!AH111,\" \",referentes!AI111,\" \",referentes!AJ111,\" \",referentes!AK111,\" \",referentes!AF111)))","v":"CALCIOSOLENIA MURRAYI"},{"$f":"referentes!AG111","v":0},null,null,null,null,null,null,null,"LYRELLACEAE",null,null,"GAMBIERDISCUS",null,null,"CHAETOCEROS DIVERSUS"]
[null,null,null,null,null,null,null,null,null,null,null,null,null,null,null,{"$f":"IF(referentes!AC116=\"\",\"\",IF(referentes!AC116=referentes!AH116,CONCATENATE(referentes!AC116,\" \",\" \",\" \",\" \"),IF(referentes!AC116=referentes!AI116,CONCATENATE(referentes!AH116,\" \",referentes!AI116,\" \",\" \"),CONCATENATE(referentes!AH116,\" \",referentes!AI116,\" \",referentes!AC116))))","v":""},{"$f":"IF(referentes!AB116=\"\",\"\",referentes!AB116)","v":""},null,null,null,{"$f":"TRIM(UPPER(CONCATENATE(referentes!AH112,\" \",referentes!AI112,\" \",referentes!AJ112,\" \",referentes!AK112,\" \",referentes!AF112)))","v":"CALONEIS"},{"$f":"referentes!AG112","v":0},null,null,null,null,null,null,null,"MASTOGLOIACEAE",null,null,"GLAUCOSPIRA",null,null,"CHAETOCEROS EIBENII"]
[null,null,null,null,null,null,null,null,null,null,null,null,null,null,null,{"$f":"IF(referentes!AC117=\"\",\"\",IF(referentes!AC117=referentes!AH117,CONCATENATE(referentes!AC117,\" \",\" \",\" \",\" \"),IF(referentes!AC117=referentes!AI117,CONCATENATE(referentes!AH117,\" \",referentes!AI117,\" \",\" \"),CONCATENATE(referentes!AH117,\" \",referentes!AI117,\" \",referentes!AC117))))","v":""},{"$f":"IF(referentes!AB117=\"\",\"\",referentes!AB117)","v":""},null,null,null,{"$f":"TRIM(UPPER(CONCATENATE(referentes!AH113,\" \",referentes!AI113,\" \",referentes!AJ113,\" \",referentes!AK113,\" \",referentes!AF113)))","v":"CALONEIS LIBER"},{"$f":"referentes!AG113","v":0},null,null,null,null,null,null,null,"MELOSIRACEAE",null,null,"GLEOCAPSA",null,null,"CHAETOCEROS FRAGILIS"]
[null,null,null,null,null,null,null,null,null,null,null,null,null,null,null,{"$f":"IF(referentes!AC118=\"\",\"\",IF(referentes!AC118=referentes!AH118,CONCATENATE(referentes!AC118,\" \",\" \",\" \",\" \"),IF(referentes!AC118=referentes!AI118,CONCATENATE(referentes!AH118,\" \",referentes!AI118,\" \",\" \"),CONCATENATE(referentes!AH118,\" \",referentes!AI118,\" \",referentes!AC118))))","v":""},{"$f":"IF(referentes!AB118=\"\",\"\",referentes!AB118)","v":""},null,null,null,{"$f":"TRIM(UPPER(CONCATENATE(referentes!AH114,\" \",referentes!AI114,\" \",referentes!AJ114,\" \",referentes!AK114,\" \",referentes!AF114)))","v":"CAMPYLODISCUS"},{"$f":"referentes!AG114","v":0},null,null,null,null,null,null,null,"ZYGNEMATACEAE",null,null,"GOMPHONEMA",null,null,"CHAETOCEROS LACINIOSUS"]
[null,null,null,null,null,null,null,null,null,null,null,null,null,null,null,{"$f":"IF(referentes!AC119=\"\",\"\",IF(referentes!AC119=referentes!AH119,CONCATENATE(referentes!AC119,\" \",\" \",\" \",\" \"),IF(referentes!AC119=referentes!AI119,CONCATENATE(referentes!AH119,\" \",referentes!AI119,\" \",\" \"),CONCATENATE(referentes!AH119,\" \",referentes!AI119,\" \",referentes!AC119))))","v":""},{"$f":"IF(referentes!AB119=\"\",\"\",referentes!AB119)","v":""},null,null,null,{"$f":"TRIM(UPPER(CONCATENATE(referentes!AH115,\" \",referentes!AI115,\" \",referentes!AJ115,\" \",referentes!AK115,\" \",referentes!AF115)))","v":"CAMPYLODISCUS BIANGULATUS"},{"$f":"referentes!AG115","v":0},null,null,null,null,null,null,null,"CERATIACEAE",null,null,"GOMPHOSPHAERIA",null,null,"CHAETOCEROS LAEVIS"]
[null,null,null,null,null,null,null,null,null,null,null,null,null,null,null,{"$f":"IF(referentes!AC120=\"\",\"\",IF(referentes!AC120=referentes!AH120,CONCATENATE(referentes!AC120,\" \",\" \",\" \",\" \"),IF(referentes!AC120=referentes!AI120,CONCATENATE(referentes!AH120,\" \",referentes!AI120,\" \",\" \"),CONCATENATE(referentes!AH120,\" \",referentes!AI120,\" \",referentes!AC120))))","v":""},{"$f":"IF(referentes!AB120=\"\",\"\",referentes!AB120)","v":""},null,null,null,{"$f":"TRIM(UPPER(CONCATENATE(referentes!AH116,\" \",referentes!AI116,\" \",referentes!AJ116,\" \",referentes!AK116,\" \",referentes!AF116)))","v":"CAMPYLODISCUS BICOSTATUS"},{"$f":"referentes!AG116","v":0},null,null,null,null,null,null,null,"NOCTILUCACEAE",null,null,"GONATOZYGON",null,null,"CHAETOCEROS LAUDERI"]
[null,null,null,null,null,null,null,null,null,null,null,null,null,null,null,{"$f":"IF(referentes!AC121=\"\",\"\",IF(referentes!AC121=referentes!AH121,CONCATENATE(referentes!AC121,\" \",\" \",\" \",\" \"),IF(referentes!AC121=referentes!AI121,CONCATENATE(referentes!AH121,\" \",referentes!AI121,\" \",\" \"),CONCATENATE(referentes!AH121,\" \",referentes!AI121,\" \",referentes!AC121))))","v":""},{"$f":"IF(referentes!AB121=\"\",\"\",referentes!AB121)","v":""},null,null,null,{"$f":"TRIM(UPPER(CONCATENATE(referentes!AH117,\" \",referentes!AI117,\" \",referentes!AJ117,\" \",referentes!AK117,\" \",referentes!AF117)))","v":"CAMPYLODISCUS FASTUOSUS"},{"$f":"referentes!AG117","v":0},null,null,null,null,null,null,null,"OEDOGONIACEAE",null,null,"GONIODOMA",null,null,"CHAETOCEROS LORENZIANUS"]
[null,null,null,null,null,null,null,null,null,null,null,null,null,null,null,{"$f":"IF(referentes!AC122=\"\",\"\",IF(referentes!AC122=referentes!AH122,CONCATENATE(referentes!AC122,\" \",\" \",\" \",\" \"),IF(referentes!AC122=referentes!AI122,CONCATENATE(referentes!AH122,\" \",referentes!AI122,\" \",\" \"),CONCATENATE(referentes!AH122,\" \",referentes!AI122,\" \",referentes!AC122))))","v":""},{"$f":"IF(referentes!AB122=\"\",\"\",referentes!AB122)","v":""},null,null,null,{"$f":"TRIM(UPPER(CONCATENATE(referentes!AH118,\" \",referentes!AI118,\" \",referentes!AJ118,\" \",referentes!AK118,\" \",referentes!AF118)))","v":"CAMPYLODISCUS IMPERIALIS"},{"$f":"referentes!AG118","v":0},null,null,null,null,null,null,null,"OOCYSTACEAE",null,null,"GONYAULAX",null,null,"CHAETOCEROS MESSANENSE"]
[null,null,null,null,null,null,null,null,null,null,null,null,null,null,null,{"$f":"IF(referentes!AC123=\"\",\"\",IF(referentes!AC123=referentes!AH123,CONCATENATE(referentes!AC123,\" \",\" \",\" \",\" \"),IF(referentes!AC123=referentes!AI123,CONCATENATE(referentes!AH123,\" \",referentes!AI123,\" \",\" \"),CONCATENATE(referentes!AH123,\" \",referentes!AI123,\" \",referentes!AC123))))","v":""},{"$f":"IF(referentes!AB123=\"\",\"\",referentes!AB123)","v":""},null,null,null,{"$f":"TRIM(UPPER(CONCATENATE(referentes!AH119,\" \",referentes!AI119,\" \",referentes!AJ119,\" \",referentes!AK119,\" \",referentes!AF119)))","v":"CAMPYLODISCUS INCERTUS"},{"$f":"referentes!AG119","v":0},null,null,null,null,null,null,null,"STAUROSIRACEAE",null,null,"GOSSLERIELLA",null,null,"CHAETOCEROS NEOGRACILE"]
[null,null,null,null,null,null,null,null,null,null,null,null,null,null,null,{"$f":"IF(referentes!AC124=\"\",\"\",IF(referentes!AC124=referentes!AH124,CONCATENATE(referentes!AC124,\" \",\" \",\" \",\" \"),IF(referentes!AC124=referentes!AI124,CONCATENATE(referentes!AH124,\" \",referentes!AI124,\" \",\" \"),CONCATENATE(referentes!AH124,\" \",referentes!AI124,\" \",referentes!AC124))))","v":""},{"$f":"IF(referentes!AB124=\"\",\"\",referentes!AB124)","v":""},null,null,null,{"$f":"TRIM(UPPER(CONCATENATE(referentes!AH120,\" \",referentes!AI120,\" \",referentes!AJ120,\" \",referentes!AK120,\" \",referentes!AF120)))","v":"CAMPYLODISCUS LIMBATUS"},{"$f":"referentes!AG120","v":0},null,null,null,null,null,null,null,"DINOPHYSACEAE",null,null,"GRAMMATOPHORA",null,null,"CHAETOCEROS NEOGRACILIS"]
[null,null,null,null,null,null,null,null,null,null,null,null,null,null,null,{"$f":"IF(referentes!AC125=\"\",\"\",IF(referentes!AC125=referentes!AH125,CONCATENATE(referentes!AC125,\" \",\" \",\" \",\" \"),IF(referentes!AC125=referentes!AI125,CONCATENATE(referentes!AH125,\" \",referentes!AI125,\" \",\" \"),CONCATENATE(referentes!AH125,\" \",referentes!AI125,\" \",referentes!AC125))))","v":""},{"$f":"IF(referentes!AB125=\"\",\"\",referentes!AB125)","v":""},null,null,null,{"$f":"TRIM(UPPER(CONCATENATE(referentes!AH121,\" \",referentes!AI121,\" \",referentes!AJ121,\" \",referentes!AK121,\" \",referentes!AF121)))","v":"CAMPYLODISCUS UNDULATUS"},{"$f":"referentes!AG121","v":0},null,null,null,null,null,null,null,"OXYTOXACEAE",null,null,"GUINARDIA",null,null,"CHAETOCEROS PELAGICUS"]
[null,null,null,null,null,null,null,null,null,null,null,null,null,null,null,{"$f":"IF(referentes!AC126=\"\",\"\",IF(referentes!AC126=referentes!AH126,CONCATENATE(referentes!AC126,\" \",\" \",\" \",\" \"),IF(referentes!AC126=referentes!AI126,CONCATENATE(referentes!AH126,\" \",referentes!AI126,\" \",\" \"),CONCATENATE(referentes!AH126,\" \",referentes!AI126,\" \",referentes!AC126))))","v":""},{"$f":"IF(referentes!AB126=\"\",\"\",referentes!AB126)","v":""},null,null,null,{"$f":"TRIM(UPPER(CONCATENATE(referentes!AH122,\" \",referentes!AI122,\" \",referentes!AJ122,\" \",referentes!AK122,\" \",referentes!AF122)))","v":"CARINASIGMA"},{"$f":"referentes!AG122","v":0},null,null,null,null,null,null,null,"PARALIACEAE",null,null,"GYMNODINIUM",null,null,"CHAETOCEROS PENDULUS"]
[null,null,null,null,null,null,null,null,null,null,null,null,null,null,null,{"$f":"IF(referentes!AC127=\"\",\"\",IF(referentes!AC127=referentes!AH127,CONCATENATE(referentes!AC127,\" \",\" \",\" \",\" \"),IF(referentes!AC127=referentes!AI127,CONCATENATE(referentes!AH127,\" \",referentes!AI127,\" \",\" \"),CONCATENATE(referentes!AH127,\" \",referentes!AI127,\" \",referentes!AC127))))","v":""},{"$f":"IF(referentes!AB127=\"\",\"\",referentes!AB127)","v":""},null,null,null,{"$f":"TRIM(UPPER(CONCATENATE(referentes!AH123,\" \",referentes!AI123,\" \",referentes!AJ123,\" \",referentes!AK123,\" \",referentes!AF123)))","v":"CARINASIGMA RECTUM"},{"$f":"referentes!AG123","v":0},null,null,null,null,null,null,null,"HYDRODICTYACEAE",null,null,"GYRODINIUM",null,null,"CHAETOCEROS PERPUSILLUS"]
[null,null,null,null,null,null,null,null,null,null,null,null,null,null,null,{"$f":"IF(referentes!AC128=\"\",\"\",IF(referentes!AC128=referentes!AH128,CONCATENATE(referentes!AC128,\" \",\" \",\" \",\" \"),IF(referentes!AC128=referentes!AI128,CONCATENATE(referentes!AH128,\" \",referentes!AI128,\" \",\" \"),CONCATENATE(referentes!AH128,\" \",referentes!AI128,\" \",referentes!AC128))))","v":""},{"$f":"IF(referentes!AB128=\"\",\"\",referentes!AB128)","v":""},null,null,null,{"$f":"TRIM(UPPER(CONCATENATE(referentes!AH124,\" \",referentes!AI124,\" \",referentes!AJ124,\" \",referentes!AK124,\" \",referentes!AF124)))","v":"CENTRITRACTUS"},{"$f":"referentes!AG124","v":0},null,null,null,null,null,null,null,"PERIDINIACEAE",null,null,"GYROSIGMA",null,null,"CHAETOCEROS PERUVIANUS"]
[null,null,null,null,null,null,null,null,null,null,null,null,null,null,null,{"$f":"IF(referentes!AC129=\"\",\"\",IF(referentes!AC129=referentes!AH129,CONCATENATE(referentes!AC129,\" \",\" \",\" \",\" \"),IF(referentes!AC129=referentes!AI129,CONCATENATE(referentes!AH129,\" \",referentes!AI129,\" \",\" \"),CONCATENATE(referentes!AH129,\" \",referentes!AI129,\" \",referentes!AC129))))","v":""},{"$f":"IF(referentes!AB129=\"\",\"\",referentes!AB129)","v":""},null,null,null,{"$f":"TRIM(UPPER(CONCATENATE(referentes!AH125,\" \",referentes!AI125,\" \",referentes!AJ125,\" \",referentes!AK125,\" \",referentes!AF125)))","v":"CENTRODINIUM"},{"$f":"referentes!AG125","v":0},null,null,null,null,null,null,null,"PYROPHACACEAE",null,null,"HALAMPHORA",null,null,"CHAETOCEROS PSEUDOCURVISETUS"]
[null,null,null,null,null,null,null,null,null,null,null,null,null,null,null,{"$f":"IF(referentes!AC130=\"\",\"\",IF(referentes!AC130=referentes!AH130,CONCATENATE(referentes!AC130,\" \",\" \",\" \",\" \"),IF(referentes!AC130=referentes!AI130,CONCATENATE(referentes!AH130,\" \",referentes!AI130,\" \",\" \"),CONCATENATE(referentes!AH130,\" \",referentes!AI130,\" \",referentes!AC130))))","v":""},{"$f":"IF(referentes!AB130=\"\",\"\",referentes!AB130)","v":""},null,null,null,{"$f":"TRIM(UPPER(CONCATENATE(referentes!AH126,\" \",referentes!AI126,\" \",referentes!AJ126,\" \",referentes!AK126,\" \",referentes!AF126)))","v":"CENTRODINIUM PUNCTATUM"},{"$f":"referentes!AG126","v":0},null,null,null,null,null,null,null,"PHORMIDIACEAE",null,null,"HANTZSCHIA",null,null,"CHAETOCEROS RADICANS"]
[null,null,null,null,null,null,null,null,null,null,null,null,null,null,null,{"$f":"IF(referentes!AC131=\"\",\"\",IF(referentes!AC131=referentes!AH131,CONCATENATE(referentes!AC131,\" \",\" \",\" \",\" \"),IF(referentes!AC131=referentes!AI131,CONCATENATE(referentes!AH131,\" \",referentes!AI131,\" \",\" \"),CONCATENATE(referentes!AH131,\" \",referentes!AI131,\" \",referentes!AC131))))","v":""},{"$f":"IF(referentes!AB131=\"\",\"\",referentes!AB131)","v":""},null,null,null,{"$f":"TRIM(UPPER(CONCATENATE(referentes!AH127,\" \",referentes!AI127,\" \",referentes!AJ127,\" \",referentes!AK127,\" \",referentes!AF127)))","v":"CERATAULINA"},{"$f":"referentes!AG127","v":0},null,null,null,null,null,null,null,"PINNULARIACEAE",null,null,"HASLEA",null,null,"CHAETOCEROS SEIRACANTHUS"]
[null,null,null,null,null,null,null,null,null,null,null,null,null,null,null,{"$f":"IF(referentes!AC132=\"\",\"\",IF(referentes!AC132=referentes!AH132,CONCATENATE(referentes!AC132,\" \",\" \",\" \",\" \"),IF(referentes!AC132=referentes!AI132,CONCATENATE(referentes!AH132,\" \",referentes!AI132,\" \",\" \"),CONCATENATE(referentes!AH132,\" \",referentes!AI132,\" \",referentes!AC132))))","v":""},{"$f":"IF(referentes!AB132=\"\",\"\",referentes!AB132)","v":""},null,null,null,{"$f":"TRIM(UPPER(CONCATENATE(referentes!AH128,\" \",referentes!AI128,\" \",referentes!AJ128,\" \",referentes!AK128,\" \",referentes!AF128)))","v":"CERATAULINA PELAGICA"},{"$f":"referentes!AG128","v":0},null,null,null,null,null,null,null,"PLAGIOTROPIDACEAE",null,null,"HELICOTHECA",null,null,"CHAETOCEROS SIMPLEX"]
[null,null,null,null,null,null,null,null,null,null,null,null,null,null,null,{"$f":"IF(referentes!AC133=\"\",\"\",IF(referentes!AC133=referentes!AH133,CONCATENATE(referentes!AC133,\" \",\" \",\" \",\" \"),IF(referentes!AC133=referentes!AI133,CONCATENATE(referentes!AH133,\" \",referentes!AI133,\" \",\" \"),CONCATENATE(referentes!AH133,\" \",referentes!AI133,\" \",referentes!AC133))))","v":""},{"$f":"IF(referentes!AB133=\"\",\"\",referentes!AB133)","v":""},null,null,null,{"$f":"TRIM(UPPER(CONCATENATE(referentes!AH129,\" \",referentes!AI129,\" \",referentes!AJ129,\" \",referentes!AK129,\" \",referentes!AF129)))","v":"CERATAULUS"},{"$f":"referentes!AG129","v":0},null,null,null,null,null,null,null,"THALASSIOSIRACEAE",null,null,"HEMIAULUS",null,null,"CHAETOCEROS SOCIALIS"]
[null,null,null,null,null,null,null,null,null,null,null,null,null,null,null,{"$f":"IF(referentes!AC134=\"\",\"\",IF(referentes!AC134=referentes!AH134,CONCATENATE(referentes!AC134,\" \",\" \",\" \",\" \"),IF(referentes!AC134=referentes!AI134,CONCATENATE(referentes!AH134,\" \",referentes!AI134,\" \",\" \"),CONCATENATE(referentes!AH134,\" \",referentes!AI134,\" \",referentes!AC134))))","v":""},{"$f":"IF(referentes!AB134=\"\",\"\",referentes!AB134)","v":""},null,null,null,{"$f":"TRIM(UPPER(CONCATENATE(referentes!AH130,\" \",referentes!AI130,\" \",referentes!AJ130,\" \",referentes!AK130,\" \",referentes!AF130)))","v":"CERATAULUS SMITHII"},{"$f":"referentes!AG130","v":0},null,null,null,null,null,null,null,"MICROCOLEACEAE",null,null,"HEMISELMIS",null,null,"CHAETOCEROS SUBTILIS"]
[null,null,null,null,null,null,null,null,null,null,null,null,null,null,null,{"$f":"IF(referentes!AC135=\"\",\"\",IF(referentes!AC135=referentes!AH135,CONCATENATE(referentes!AC135,\" \",\" \",\" \",\" \"),IF(referentes!AC135=referentes!AI135,CONCATENATE(referentes!AH135,\" \",referentes!AI135,\" \",\" \"),CONCATENATE(referentes!AH135,\" \",referentes!AI135,\" \",referentes!AC135))))","v":""},{"$f":"IF(referentes!AB135=\"\",\"\",referentes!AB135)","v":""},null,null,null,{"$f":"TRIM(UPPER(CONCATENATE(referentes!AH131,\" \",referentes!AI131,\" \",referentes!AJ131,\" \",referentes!AK131,\" \",referentes!AF131)))","v":"CERATAULUS TURGIDUS"},{"$f":"referentes!AG131","v":0},null,null,null,null,null,null,null,"PROTODINIFERACEAE",null,null,"HERMESINUM",null,null,"CHAETOCEROS TERES"]
[null,null,null,null,null,null,null,null,null,null,null,null,null,null,null,{"$f":"IF(referentes!AC136=\"\",\"\",IF(referentes!AC136=referentes!AH136,CONCATENATE(referentes!AC136,\" \",\" \",\" \",\" \"),IF(referentes!AC136=referentes!AI136,CONCATENATE(referentes!AH136,\" \",referentes!AI136,\" \",\" \"),CONCATENATE(referentes!AH136,\" \",referentes!AI136,\" \",referentes!AC136))))","v":""},{"$f":"IF(referentes!AB136=\"\",\"\",referentes!AB136)","v":""},null,null,null,{"$f":"TRIM(UPPER(CONCATENATE(referentes!AH132,\" \",referentes!AI132,\" \",referentes!AJ132,\" \",referentes!AK132,\" \",referentes!AF132)))","v":"CERATOCORYS"},{"$f":"referentes!AG132","v":0},null,null,null,null,null,null,null,"PROROCENTRACEAE",null,null,"HETEROCAPSA",null,null,"CHAETOCEROS TETRASTICHON"]
[null,null,null,null,null,null,null,null,null,null,null,null,null,null,null,{"$f":"IF(referentes!AC137=\"\",\"\",IF(referentes!AC137=referentes!AH137,CONCATENATE(referentes!AC137,\" \",\" \",\" \",\" \"),IF(referentes!AC137=referentes!AI137,CONCATENATE(referentes!AH137,\" \",referentes!AI137,\" \",\" \"),CONCATENATE(referentes!AH137,\" \",referentes!AI137,\" \",referentes!AC137))))","v":""},{"$f":"IF(referentes!AB137=\"\",\"\",referentes!AB137)","v":""},null,null,null,{"$f":"TRIM(UPPER(CONCATENATE(referentes!AH133,\" \",referentes!AI133,\" \",referentes!AJ133,\" \",referentes!AK133,\" \",referentes!AF133)))","v":"CERATOCORYS ARMATA"},{"$f":"referentes!AG133","v":0},null,null,null,null,null,null,null,"PROTOPERIDINIACEAE",null,null,"HETERODINIUM",null,null,"CHAETOCEROS TORTISSIMUS"]
[null,null,null,null,null,null,null,null,null,null,null,null,null,null,null,{"$f":"IF(referentes!AC138=\"\",\"\",IF(referentes!AC138=referentes!AH138,CONCATENATE(referentes!AC138,\" \",\" \",\" \",\" \"),IF(referentes!AC138=referentes!AI138,CONCATENATE(referentes!AH138,\" \",referentes!AI138,\" \",\" \"),CONCATENATE(referentes!AH138,\" \",referentes!AI138,\" \",referentes!AC138))))","v":""},{"$f":"IF(referentes!AB138=\"\",\"\",referentes!AB138)","v":""},null,null,null,{"$f":"TRIM(UPPER(CONCATENATE(referentes!AH134,\" \",referentes!AI134,\" \",referentes!AJ134,\" \",referentes!AK134,\" \",referentes!AF134)))","v":"CERATOCORYS BIPES"},{"$f":"referentes!AG134","v":0},null,null,null,null,null,null,null,"PRYMNESIACEAE",null,null,"HILLEA",null,null,"CHAETOCEROS WIGHAMII"]
[null,null,null,null,null,null,null,null,null,null,null,null,null,null,null,{"$f":"IF(referentes!AC139=\"\",\"\",IF(referentes!AC139=referentes!AH139,CONCATENATE(referentes!AC139,\" \",\" \",\" \",\" \"),IF(referentes!AC139=referentes!AI139,CONCATENATE(referentes!AH139,\" \",referentes!AI139,\" \",\" \"),CONCATENATE(referentes!AH139,\" \",referentes!AI139,\" \",referentes!AC139))))","v":""},{"$f":"IF(referentes!AB139=\"\",\"\",referentes!AB139)","v":""},null,null,null,{"$f":"TRIM(UPPER(CONCATENATE(referentes!AH135,\" \",referentes!AI135,\" \",referentes!AJ135,\" \",referentes!AK135,\" \",referentes!AF135)))","v":"CERATOCORYS HORRIDA"},{"$f":"referentes!AG135","v":0},null,null,null,null,null,null,null,"PYRAMIMONADACEAE",null,null,"HISTIONEIS",null,null,"CHAETOCEROS WILLEI"]
[null,null,null,null,null,null,null,null,null,null,null,null,null,null,null,{"$f":"IF(referentes!AC140=\"\",\"\",IF(referentes!AC140=referentes!AH140,CONCATENATE(referentes!AC140,\" \",\" \",\" \",\" \"),IF(referentes!AC140=referentes!AI140,CONCATENATE(referentes!AH140,\" \",referentes!AI140,\" \",\" \"),CONCATENATE(referentes!AH140,\" \",referentes!AI140,\" \",referentes!AC140))))","v":""},{"$f":"IF(referentes!AB140=\"\",\"\",referentes!AB140)","v":""},null,null,null,{"$f":"TRIM(UPPER(CONCATENATE(referentes!AH136,\" \",referentes!AI136,\" \",referentes!AJ136,\" \",referentes!AK136,\" \",referentes!AF136)))","v":"CERATONEIS"},{"$f":"referentes!AG136","v":0},null,null,null,null,null,null,null,"PYROCYSTACEAE",null,null,"HISTIONEIS PARA",null,null,"CITHARISTES APSTEINII"]
[null,null,null,null,null,null,null,null,null,null,null,null,null,null,null,{"$f":"IF(referentes!AC141=\"\",\"\",IF(referentes!AC141=referentes!AH141,CONCATENATE(referentes!AC141,\" \",\" \",\" \",\" \"),IF(referentes!AC141=referentes!AI141,CONCATENATE(referentes!AH141,\" \",referentes!AI141,\" \",\" \"),CONCATENATE(referentes!AH141,\" \",referentes!AI141,\" \",referentes!AC141))))","v":""},{"$f":"IF(referentes!AB141=\"\",\"\",referentes!AB141)","v":""},null,null,null,{"$f":"TRIM(UPPER(CONCATENATE(referentes!AH137,\" \",referentes!AI137,\" \",referentes!AJ137,\" \",referentes!AK137,\" \",referentes!AF137)))","v":"CERATONEIS CLOSTERIUM"},{"$f":"referentes!AG137","v":0},null,null,null,null,null,null,null,"PYRENOMONADACEAE",null,null,"HUTTONIELLA",null,null,"CLADOPYXIS BRACHIOLATA"]
[null,null,null,null,null,null,null,null,null,null,null,null,null,null,null,{"$f":"IF(referentes!AC142=\"\",\"\",IF(referentes!AC142=referentes!AH142,CONCATENATE(referentes!AC142,\" \",\" \",\" \",\" \"),IF(referentes!AC142=referentes!AI142,CONCATENATE(referentes!AH142,\" \",referentes!AI142,\" \",\" \"),CONCATENATE(referentes!AH142,\" \",referentes!AI142,\" \",referentes!AC142))))","v":""},{"$f":"IF(referentes!AB142=\"\",\"\",referentes!AB142)","v":""},null,null,null,{"$f":"TRIM(UPPER(CONCATENATE(referentes!AH138,\" \",referentes!AI138,\" \",referentes!AJ138,\" \",referentes!AK138,\" \",referentes!AF138)))","v":"CHAETOCEROS"},{"$f":"referentes!AG138","v":0},null,null,null,null,null,null,null,"ROMERIACEAE",null,null,"HYALODISCUS",null,null,"CLIMACODIUM BICONCAVUM"]
[null,null,null,null,null,null,null,null,null,null,null,null,null,null,null,{"$f":"IF(referentes!AC143=\"\",\"\",IF(referentes!AC143=referentes!AH143,CONCATENATE(referentes!AC143,\" \",\" \",\" \",\" \"),IF(referentes!AC143=referentes!AI143,CONCATENATE(referentes!AH143,\" \",referentes!AI143,\" \",\" \"),CONCATENATE(referentes!AH143,\" \",referentes!AI143,\" \",referentes!AC143))))","v":""},{"$f":"IF(referentes!AB143=\"\",\"\",referentes!AB143)","v":""},null,null,null,{"$f":"TRIM(UPPER(CONCATENATE(referentes!AH139,\" \",referentes!AI139,\" \",referentes!AJ139,\" \",referentes!AK139,\" \",referentes!AF139)))","v":"CHAETOCEROS AEQUATORIALIS"},{"$f":"referentes!AG139","v":0},null,null,null,null,null,null,null,"SCHROEDERIACEAE",null,null,"HYALOSIRA",null,null,"CLIMACODIUM FRAUENFELDIANUM"]
[null,null,null,null,null,null,null,null,null,null,null,null,null,null,null,{"$f":"IF(referentes!AC144=\"\",\"\",IF(referentes!AC144=referentes!AH144,CONCATENATE(referentes!AC144,\" \",\" \",\" \",\" \"),IF(referentes!AC144=referentes!AI144,CONCATENATE(referentes!AH144,\" \",referentes!AI144,\" \",\" \"),CONCATENATE(referentes!AH144,\" \",referentes!AI144,\" \",referentes!AC144))))","v":""},{"$f":"IF(referentes!AB144=\"\",\"\",referentes!AB144)","v":""},null,null,null,{"$f":"TRIM(UPPER(CONCATENATE(referentes!AH140,\" \",referentes!AI140,\" \",referentes!AJ140,\" \",referentes!AK140,\" \",referentes!AF140)))","v":"CHAETOCEROS AFFINIS"},{"$f":"referentes!AG140","v":0},null,null,null,null,null,null,null,"THORACOSPHAERACEAE",null,null,"ISTHMIA",null,null,"CLIMACONEIS LORENZII"]
[null,null,null,null,null,null,null,null,null,null,null,null,null,null,null,{"$f":"IF(referentes!AC145=\"\",\"\",IF(referentes!AC145=referentes!AH145,CONCATENATE(referentes!AC145,\" \",\" \",\" \",\" \"),IF(referentes!AC145=referentes!AI145,CONCATENATE(referentes!AH145,\" \",referentes!AI145,\" \",\" \"),CONCATENATE(referentes!AH145,\" \",referentes!AI145,\" \",referentes!AC145))))","v":""},{"$f":"IF(referentes!AB145=\"\",\"\",referentes!AB145)","v":""},null,null,null,{"$f":"TRIM(UPPER(CONCATENATE(referentes!AH141,\" \",referentes!AI141,\" \",referentes!AJ141,\" \",referentes!AK141,\" \",referentes!AF141)))","v":"CHAETOCEROS ANASTOMOSANS"},{"$f":"referentes!AG141","v":0},null,null,null,null,null,null,null,"PONTOSPHAERACEAE",null,null,"KARENIA",null,null,"CLIMACOSPHENIA MONILIGERA"]
[null,null,null,null,null,null,null,null,null,null,null,null,null,null,null,{"$f":"IF(referentes!AC146=\"\",\"\",IF(referentes!AC146=referentes!AH146,CONCATENATE(referentes!AC146,\" \",\" \",\" \",\" \"),IF(referentes!AC146=referentes!AI146,CONCATENATE(referentes!AH146,\" \",referentes!AI146,\" \",\" \"),CONCATENATE(referentes!AH146,\" \",referentes!AI146,\" \",referentes!AC146))))","v":""},{"$f":"IF(referentes!AB146=\"\",\"\",referentes!AB146)","v":""},null,null,null,{"$f":"TRIM(UPPER(CONCATENATE(referentes!AH142,\" \",referentes!AI142,\" \",referentes!AJ142,\" \",referentes!AK142,\" \",referentes!AF142)))","v":"CHAETOCEROS ATLANTICUS"},{"$f":"referentes!AG142","v":0},null,null,null,null,null,null,null,"STEPHANOPYXIDACEAE",null,null,"KATODINIUM",null,null,"COCCONEIS SCUTELLUM"]
[null,null,null,null,null,null,null,null,null,null,null,null,null,null,null,{"$f":"IF(referentes!AC147=\"\",\"\",IF(referentes!AC147=referentes!AH147,CONCATENATE(referentes!AC147,\" \",\" \",\" \",\" \"),IF(referentes!AC147=referentes!AI147,CONCATENATE(referentes!AH147,\" \",referentes!AI147,\" \",\" \"),CONCATENATE(referentes!AH147,\" \",referentes!AI147,\" \",referentes!AC147))))","v":""},{"$f":"IF(referentes!AB147=\"\",\"\",referentes!AB147)","v":""},null,null,null,{"$f":"TRIM(UPPER(CONCATENATE(referentes!AH143,\" \",referentes!AI143,\" \",referentes!AJ143,\" \",referentes!AK143,\" \",referentes!AF143)))","v":"CHAETOCEROS BOREALIS"},{"$f":"referentes!AG143","v":0},null,null,null,null,null,null,null,"SYNECHOCOCCACEAE",null,null,"KIRCHNERIELLA",null,null,"CORETHRON PENNATUM"]
[null,null,null,null,null,null,null,null,null,null,null,null,null,null,null,{"$f":"IF(referentes!AC148=\"\",\"\",IF(referentes!AC148=referentes!AH148,CONCATENATE(referentes!AC148,\" \",\" \",\" \",\" \"),IF(referentes!AC148=referentes!AI148,CONCATENATE(referentes!AH148,\" \",referentes!AI148,\" \",\" \"),CONCATENATE(referentes!AH148,\" \",referentes!AI148,\" \",referentes!AC148))))","v":""},{"$f":"IF(referentes!AB148=\"\",\"\",referentes!AB148)","v":""},null,null,null,{"$f":"TRIM(UPPER(CONCATENATE(referentes!AH144,\" \",referentes!AI144,\" \",referentes!AJ144,\" \",referentes!AK144,\" \",referentes!AF144)))","v":"CHAETOCEROS BREVIS"},{"$f":"referentes!AG144","v":0},null,null,null,null,null,null,null,"CHLORODENDRACEAE",null,null,"KOFOIDINIUM",null,null,"CORYTHODINIUM DIPLOCONUS"]
[null,null,null,null,null,null,null,null,null,null,null,null,null,null,null,{"$f":"IF(referentes!AC149=\"\",\"\",IF(referentes!AC149=referentes!AH149,CONCATENATE(referentes!AC149,\" \",\" \",\" \",\" \"),IF(referentes!AC149=referentes!AI149,CONCATENATE(referentes!AH149,\" \",referentes!AI149,\" \",\" \"),CONCATENATE(referentes!AH149,\" \",referentes!AI149,\" \",referentes!AC149))))","v":""},{"$f":"IF(referentes!AB149=\"\",\"\",referentes!AB149)","v":""},null,null,null,{"$f":"TRIM(UPPER(CONCATENATE(referentes!AH145,\" \",referentes!AI145,\" \",referentes!AJ145,\" \",referentes!AK145,\" \",referentes!AF145)))","v":"CHAETOCEROS COARCTATUS"},{"$f":"referentes!AG145","v":0},null,null,null,null,null,null,null,"THALASSIOPHYSACEAE",null,null,"KOMVOPHORON",null,null,"CORYTHODINIUM TESSELATUM"]
[null,null,null,null,null,null,null,null,null,null,null,null,null,null,null,{"$f":"IF(referentes!AC150=\"\",\"\",IF(referentes!AC150=referentes!AH150,CONCATENATE(referentes!AC150,\" \",\" \",\" \",\" \"),IF(referentes!AC150=referentes!AI150,CONCATENATE(referentes!AH150,\" \",referentes!AI150,\" \",\" \"),CONCATENATE(referentes!AH150,\" \",referentes!AI150,\" \",referentes!AC150))))","v":""},{"$f":"IF(referentes!AB150=\"\",\"\",referentes!AB150)","v":""},null,null,null,{"$f":"TRIM(UPPER(CONCATENATE(referentes!AH146,\" \",referentes!AI146,\" \",referentes!AJ146,\" \",referentes!AK146,\" \",referentes!AF146)))","v":"CHAETOCEROS COMPRESSUS"},{"$f":"referentes!AG146","v":0},null,null,null,null,null,null,null,"TOXARIACEAE",null,null,"LAMPRISCUS",null,null,"COSCINODISCUS ARGUS"]
[null,null,null,null,null,null,null,null,null,null,null,null,null,null,null,{"$f":"IF(referentes!AC151=\"\",\"\",IF(referentes!AC151=referentes!AH151,CONCATENATE(referentes!AC151,\" \",\" \",\" \",\" \"),IF(referentes!AC151=referentes!AI151,CONCATENATE(referentes!AH151,\" \",referentes!AI151,\" \",\" \"),CONCATENATE(referentes!AH151,\" \",referentes!AI151,\" \",referentes!AC151))))","v":""},{"$f":"IF(referentes!AB151=\"\",\"\",referentes!AB151)","v":""},null,null,null,{"$f":"TRIM(UPPER(CONCATENATE(referentes!AH147,\" \",referentes!AI147,\" \",referentes!AJ147,\" \",referentes!AK147,\" \",referentes!AF147)))","v":"CHAETOCEROS CONCAVICORNIS"},{"$f":"referentes!AG147","v":0},null,null,null,null,null,null,null,"TREBOUXIACEAE",null,null,"LAUDERIA",null,null,"COSCINODISCUS ASTEROMPHALUS"]
[null,null,null,null,null,null,null,null,null,null,null,null,null,null,null,{"$f":"IF(referentes!AC152=\"\",\"\",IF(referentes!AC152=referentes!AH152,CONCATENATE(referentes!AC152,\" \",\" \",\" \",\" \"),IF(referentes!AC152=referentes!AI152,CONCATENATE(referentes!AH152,\" \",referentes!AI152,\" \",\" \"),CONCATENATE(referentes!AH152,\" \",referentes!AI152,\" \",referentes!AC152))))","v":""},{"$f":"IF(referentes!AB152=\"\",\"\",referentes!AB152)","v":""},null,null,null,{"$f":"TRIM(UPPER(CONCATENATE(referentes!AH148,\" \",referentes!AI148,\" \",referentes!AJ148,\" \",referentes!AK148,\" \",referentes!AF148)))","v":"CHAETOCEROS CONSTRICTUS"},{"$f":"referentes!AG148","v":0},null,null,null,null,null,null,null,"TRIGONIACEAE",null,null,"LEPOCINCLIS",null,null,"COSCINODISCUS CENTRALIS"]
[null,null,null,null,null,null,null,null,null,null,null,null,null,null,null,{"$f":"IF(referentes!AC153=\"\",\"\",IF(referentes!AC153=referentes!AH153,CONCATENATE(referentes!AC153,\" \",\" \",\" \",\" \"),IF(referentes!AC153=referentes!AI153,CONCATENATE(referentes!AH153,\" \",referentes!AI153,\" \",\" \"),CONCATENATE(referentes!AH153,\" \",referentes!AI153,\" \",referentes!AC153))))","v":""},{"$f":"IF(referentes!AB153=\"\",\"\",referentes!AB153)","v":""},null,null,null,{"$f":"TRIM(UPPER(CONCATENATE(referentes!AH149,\" \",referentes!AI149,\" \",referentes!AJ149,\" \",referentes!AK149,\" \",referentes!AF149)))","v":"CHAETOCEROS CONVOLUTUS"},{"$f":"referentes!AG149","v":0},null,null,null,null,null,null,null,"ULOTRICHACEAE",null,null,"LEPTOCYLINDRUS",null,null,"COSCINODISCUS CONCINNUS"]
[null,null,null,null,null,null,null,null,null,null,null,null,null,null,null,{"$f":"IF(referentes!AC154=\"\",\"\",IF(referentes!AC154=referentes!AH154,CONCATENATE(referentes!AC154,\" \",\" \",\" \",\" \"),IF(referentes!AC154=referentes!AI154,CONCATENATE(referentes!AH154,\" \",referentes!AI154,\" \",\" \"),CONCATENATE(referentes!AH154,\" \",referentes!AI154,\" \",referentes!AC154))))","v":""},{"$f":"IF(referentes!AB154=\"\",\"\",referentes!AB154)","v":""},null,null,null,{"$f":"TRIM(UPPER(CONCATENATE(referentes!AH150,\" \",referentes!AI150,\" \",referentes!AJ150,\" \",referentes!AK150,\" \",referentes!AF150)))","v":"CHAETOCEROS COSTATUS"},{"$f":"referentes!AG150","v":0},null,null,null,null,null,null,null,null,null,null,"LEPTOLYNGBYA",null,null,"COSCINODISCUS CURVATULUS"]
[null,null,null,null,null,null,null,null,null,null,null,null,null,null,null,{"$f":"IF(referentes!AC155=\"\",\"\",IF(referentes!AC155=referentes!AH155,CONCATENATE(referentes!AC155,\" \",\" \",\" \",\" \"),IF(referentes!AC155=referentes!AI155,CONCATENATE(referentes!AH155,\" \",referentes!AI155,\" \",\" \"),CONCATENATE(referentes!AH155,\" \",referentes!AI155,\" \",referentes!AC155))))","v":""},{"$f":"IF(referentes!AB155=\"\",\"\",referentes!AB155)","v":""},null,null,null,{"$f":"TRIM(UPPER(CONCATENATE(referentes!AH151,\" \",referentes!AI151,\" \",referentes!AJ151,\" \",referentes!AK151,\" \",referentes!AF151)))","v":"CHAETOCEROS CURVISETUS"},{"$f":"referentes!AG151","v":0},null,null,null,null,null,null,null,null,null,null,"LICMOPHORA",null,null,"COSCINODISCUS GIGAS"]
[null,null,null,null,null,null,null,null,null,null,null,null,null,null,null,{"$f":"IF(referentes!AC156=\"\",\"\",IF(referentes!AC156=referentes!AH156,CONCATENATE(referentes!AC156,\" \",\" \",\" \",\" \"),IF(referentes!AC156=referentes!AI156,CONCATENATE(referentes!AH156,\" \",referentes!AI156,\" \",\" \"),CONCATENATE(referentes!AH156,\" \",referentes!AI156,\" \",referentes!AC156))))","v":""},{"$f":"IF(referentes!AB156=\"\",\"\",referentes!AB156)","v":""},null,null,null,{"$f":"TRIM(UPPER(CONCATENATE(referentes!AH152,\" \",referentes!AI152,\" \",referentes!AJ152,\" \",referentes!AK152,\" \",referentes!AF152)))","v":"CHAETOCEROS DADAYI"},{"$f":"referentes!AG152","v":0},null,null,null,null,null,null,null,null,null,null,"LICMOSPHENIA",null,null,"COSCINODISCUS GRANII"]
[null,null,null,null,null,null,null,null,null,null,null,null,null,null,null,{"$f":"IF(referentes!AC157=\"\",\"\",IF(referentes!AC157=referentes!AH157,CONCATENATE(referentes!AC157,\" \",\" \",\" \",\" \"),IF(referentes!AC157=referentes!AI157,CONCATENATE(referentes!AH157,\" \",referentes!AI157,\" \",\" \"),CONCATENATE(referentes!AH157,\" \",referentes!AI157,\" \",referentes!AC157))))","v":""},{"$f":"IF(referentes!AB157=\"\",\"\",referentes!AB157)","v":""},null,null,null,{"$f":"TRIM(UPPER(CONCATENATE(referentes!AH153,\" \",referentes!AI153,\" \",referentes!AJ153,\" \",referentes!AK153,\" \",referentes!AF153)))","v":"CHAETOCEROS DANICUS"},{"$f":"referentes!AG153","v":0},null,null,null,null,null,null,null,null,null,null,"LIMNOTHRIX",null,null,"COSCINODISCUS JONESIANUS"]
[null,null,null,null,null,null,null,null,null,null,null,null,null,null,null,{"$f":"IF(referentes!AC158=\"\",\"\",IF(referentes!AC158=referentes!AH158,CONCATENATE(referentes!AC158,\" \",\" \",\" \",\" \"),IF(referentes!AC158=referentes!AI158,CONCATENATE(referentes!AH158,\" \",referentes!AI158,\" \",\" \"),CONCATENATE(referentes!AH158,\" \",referentes!AI158,\" \",referentes!AC158))))","v":""},{"$f":"IF(referentes!AB158=\"\",\"\",referentes!AB158)","v":""},null,null,null,{"$f":"TRIM(UPPER(CONCATENATE(referentes!AH154,\" \",referentes!AI154,\" \",referentes!AJ154,\" \",referentes!AK154,\" \",referentes!AF154)))","v":"CHAETOCEROS DEBILIS"},{"$f":"referentes!AG154","v":0},null,null,null,null,null,null,null,null,null,null,"LINGULODINIUM",null,null,"COSCINODISCUS MARGINATUS"]
[null,null,null,null,null,null,null,null,null,null,null,null,null,null,null,{"$f":"IF(referentes!AC159=\"\",\"\",IF(referentes!AC159=referentes!AH159,CONCATENATE(referentes!AC159,\" \",\" \",\" \",\" \"),IF(referentes!AC159=referentes!AI159,CONCATENATE(referentes!AH159,\" \",referentes!AI159,\" \",\" \"),CONCATENATE(referentes!AH159,\" \",referentes!AI159,\" \",referentes!AC159))))","v":""},{"$f":"IF(referentes!AB159=\"\",\"\",referentes!AB159)","v":""},null,null,null,{"$f":"TRIM(UPPER(CONCATENATE(referentes!AH155,\" \",referentes!AI155,\" \",referentes!AJ155,\" \",referentes!AK155,\" \",referentes!AF155)))","v":"CHAETOCEROS DECIPIENS"},{"$f":"referentes!AG155","v":0},null,null,null,null,null,null,null,null,null,null,"LIOLOMA",null,null,"COSCINODISCUS RADIATUS"]
[null,null,null,null,null,null,null,null,null,null,null,null,null,null,null,{"$f":"IF(referentes!AC160=\"\",\"\",IF(referentes!AC160=referentes!AH160,CONCATENATE(referentes!AC160,\" \",\" \",\" \",\" \"),IF(referentes!AC160=referentes!AI160,CONCATENATE(referentes!AH160,\" \",referentes!AI160,\" \",\" \"),CONCATENATE(referentes!AH160,\" \",referentes!AI160,\" \",referentes!AC160))))","v":""},{"$f":"IF(referentes!AB160=\"\",\"\",referentes!AB160)","v":""},null,null,null,{"$f":"TRIM(UPPER(CONCATENATE(referentes!AH156,\" \",referentes!AI156,\" \",referentes!AJ156,\" \",referentes!AK156,\" \",referentes!AF156)))","v":"CHAETOCEROS DENTICULATUS"},{"$f":"referentes!AG156","v":0},null,null,null,null,null,null,null,null,null,null,"LITHODESMIUM",null,null,"COSCINODISCUS RENIFORMIS"]
[null,null,null,null,null,null,null,null,null,null,null,null,null,null,null,{"$f":"IF(referentes!AC161=\"\",\"\",IF(referentes!AC161=referentes!AH161,CONCATENATE(referentes!AC161,\" \",\" \",\" \",\" \"),IF(referentes!AC161=referentes!AI161,CONCATENATE(referentes!AH161,\" \",referentes!AI161,\" \",\" \"),CONCATENATE(referentes!AH161,\" \",referentes!AI161,\" \",referentes!AC161))))","v":""},{"$f":"IF(referentes!AB161=\"\",\"\",referentes!AB161)","v":""},null,null,null,{"$f":"TRIM(UPPER(CONCATENATE(referentes!AH157,\" \",referentes!AI157,\" \",referentes!AJ157,\" \",referentes!AK157,\" \",referentes!AF157)))","v":"CHAETOCEROS DIADEMA"},{"$f":"referentes!AG157","v":0},null,null,null,null,null,null,null,null,null,null,"LYNGBYA",null,null,"COSCINODISCUS THORII"]
[null,null,null,null,null,null,null,null,null,null,null,null,null,null,null,{"$f":"IF(referentes!AC162=\"\",\"\",IF(referentes!AC162=referentes!AH162,CONCATENATE(referentes!AC162,\" \",\" \",\" \",\" \"),IF(referentes!AC162=referentes!AI162,CONCATENATE(referentes!AH162,\" \",referentes!AI162,\" \",\" \"),CONCATENATE(referentes!AH162,\" \",referentes!AI162,\" \",referentes!AC162))))","v":""},{"$f":"IF(referentes!AB162=\"\",\"\",referentes!AB162)","v":""},null,null,null,{"$f":"TRIM(UPPER(CONCATENATE(referentes!AH158,\" \",referentes!AI158,\" \",referentes!AJ158,\" \",referentes!AK158,\" \",referentes!AF158)))","v":"CHAETOCEROS DICHAETA"},{"$f":"referentes!AG158","v":0},null,null,null,null,null,null,null,null,null,null,"LYRELLA",null,null,"CYCLOTELLA PLANCTONICA"]
[null,null,null,null,null,null,null,null,null,null,null,null,null,null,null,{"$f":"IF(referentes!AC163=\"\",\"\",IF(referentes!AC163=referentes!AH163,CONCATENATE(referentes!AC163,\" \",\" \",\" \",\" \"),IF(referentes!AC163=referentes!AI163,CONCATENATE(referentes!AH163,\" \",referentes!AI163,\" \",\" \"),CONCATENATE(referentes!AH163,\" \",referentes!AI163,\" \",referentes!AC163))))","v":""},{"$f":"IF(referentes!AB163=\"\",\"\",referentes!AB163)","v":""},null,null,null,{"$f":"TRIM(UPPER(CONCATENATE(referentes!AH159,\" \",referentes!AI159,\" \",referentes!AJ159,\" \",referentes!AK159,\" \",referentes!AF159)))","v":"CHAETOCEROS DIDYMUS"},{"$f":"referentes!AG159","v":0},null,null,null,null,null,null,null,null,null,null,"MASTOGLOIA",null,null,"CYLINDROTHECA FUSIFORMIS"]
[null,null,null,null,null,null,null,null,null,null,null,null,null,null,null,{"$f":"IF(referentes!AC164=\"\",\"\",IF(referentes!AC164=referentes!AH164,CONCATENATE(referentes!AC164,\" \",\" \",\" \",\" \"),IF(referentes!AC164=referentes!AI164,CONCATENATE(referentes!AH164,\" \",referentes!AI164,\" \",\" \"),CONCATENATE(referentes!AH164,\" \",referentes!AI164,\" \",referentes!AC164))))","v":""},{"$f":"IF(referentes!AB164=\"\",\"\",referentes!AB164)","v":""},null,null,null,{"$f":"TRIM(UPPER(CONCATENATE(referentes!AH160,\" \",referentes!AI160,\" \",referentes!AJ160,\" \",referentes!AK160,\" \",referentes!AF160)))","v":"CHAETOCEROS DIFFICILIS"},{"$f":"referentes!AG160","v":0},null,null,null,null,null,null,null,null,null,null,"MELOSIRA",null,null,"DACTYLIOSOLEN ANTARCTICUS"]
[null,null,null,null,null,null,null,null,null,null,null,null,null,null,null,{"$f":"IF(referentes!AC165=\"\",\"\",IF(referentes!AC165=referentes!AH165,CONCATENATE(referentes!AC165,\" \",\" \",\" \",\" \"),IF(referentes!AC165=referentes!AI165,CONCATENATE(referentes!AH165,\" \",referentes!AI165,\" \",\" \"),CONCATENATE(referentes!AH165,\" \",referentes!AI165,\" \",referentes!AC165))))","v":""},{"$f":"IF(referentes!AB165=\"\",\"\",referentes!AB165)","v":""},null,null,null,{"$f":"TRIM(UPPER(CONCATENATE(referentes!AH161,\" \",referentes!AI161,\" \",referentes!AJ161,\" \",referentes!AK161,\" \",referentes!AF161)))","v":"CHAETOCEROS DIVERSUS"},{"$f":"referentes!AG161","v":0},null,null,null,null,null,null,null,null,null,null,"MEMBRANEIS",null,null,"DACTYLIOSOLEN FRAGILISSIMUS"]
[null,null,null,null,null,null,null,null,null,null,null,null,null,null,null,{"$f":"IF(referentes!AC166=\"\",\"\",IF(referentes!AC166=referentes!AH166,CONCATENATE(referentes!AC166,\" \",\" \",\" \",\" \"),IF(referentes!AC166=referentes!AI166,CONCATENATE(referentes!AH166,\" \",referentes!AI166,\" \",\" \"),CONCATENATE(referentes!AH166,\" \",referentes!AI166,\" \",referentes!AC166))))","v":""},{"$f":"IF(referentes!AB166=\"\",\"\",referentes!AB166)","v":""},null,null,null,{"$f":"TRIM(UPPER(CONCATENATE(referentes!AH162,\" \",referentes!AI162,\" \",referentes!AJ162,\" \",referentes!AK162,\" \",referentes!AF162)))","v":"CHAETOCEROS EIBENII"},{"$f":"referentes!AG162","v":0},null,null,null,null,null,null,null,null,null,null,"MERISMOPEDIA",null,null,"DELPHINEIS SURIRELLA"]
[null,null,null,null,null,null,null,null,null,null,null,null,null,null,null,{"$f":"IF(referentes!AC167=\"\",\"\",IF(referentes!AC167=referentes!AH167,CONCATENATE(referentes!AC167,\" \",\" \",\" \",\" \"),IF(referentes!AC167=referentes!AI167,CONCATENATE(referentes!AH167,\" \",referentes!AI167,\" \",\" \"),CONCATENATE(referentes!AH167,\" \",referentes!AI167,\" \",referentes!AC167))))","v":""},{"$f":"IF(referentes!AB167=\"\",\"\",referentes!AB167)","v":""},null,null,null,{"$f":"TRIM(UPPER(CONCATENATE(referentes!AH163,\" \",referentes!AI163,\" \",referentes!AJ163,\" \",referentes!AK163,\" \",referentes!AF163)))","v":"CHAETOCEROS FRAGILIS"},{"$f":"referentes!AG163","v":0},null,null,null,null,null,null,null,null,null,null,"MEUNIERA",null,null,"DESMODESMUS COMMUNIS"]
[null,null,null,null,null,null,null,null,null,null,null,null,null,null,null,{"$f":"IF(referentes!AC168=\"\",\"\",IF(referentes!AC168=referentes!AH168,CONCATENATE(referentes!AC168,\" \",\" \",\" \",\" \"),IF(referentes!AC168=referentes!AI168,CONCATENATE(referentes!AH168,\" \",referentes!AI168,\" \",\" \"),CONCATENATE(referentes!AH168,\" \",referentes!AI168,\" \",referentes!AC168))))","v":""},{"$f":"IF(referentes!AB168=\"\",\"\",referentes!AB168)","v":""},null,null,null,{"$f":"TRIM(UPPER(CONCATENATE(referentes!AH164,\" \",referentes!AI164,\" \",referentes!AJ164,\" \",referentes!AK164,\" \",referentes!AF164)))","v":"CHAETOCEROS LACINIOSUS"},{"$f":"referentes!AG164","v":0},null,null,null,null,null,null,null,null,null,null,"MICROCYSTIS",null,null,"DESMODESMUS OPOLIENSIS"]
[null,null,null,null,null,null,null,null,null,null,null,null,null,null,null,{"$f":"IF(referentes!AC169=\"\",\"\",IF(referentes!AC169=referentes!AH169,CONCATENATE(referentes!AC169,\" \",\" \",\" \",\" \"),IF(referentes!AC169=referentes!AI169,CONCATENATE(referentes!AH169,\" \",referentes!AI169,\" \",\" \"),CONCATENATE(referentes!AH169,\" \",referentes!AI169,\" \",referentes!AC169))))","v":""},{"$f":"IF(referentes!AB169=\"\",\"\",referentes!AB169)","v":""},null,null,null,{"$f":"TRIM(UPPER(CONCATENATE(referentes!AH165,\" \",referentes!AI165,\" \",referentes!AJ165,\" \",referentes!AK165,\" \",referentes!AF165)))","v":"CHAETOCEROS LAEVIS"},{"$f":"referentes!AG165","v":0},null,null,null,null,null,null,null,null,null,null,"MICROTABELLA",null,null,"DETONULA CONFERVACEA"]
[null,null,null,null,null,null,null,null,null,null,null,null,null,null,null,{"$f":"IF(referentes!AC170=\"\",\"\",IF(referentes!AC170=referentes!AH170,CONCATENATE(referentes!AC170,\" \",\" \",\" \",\" \"),IF(referentes!AC170=referentes!AI170,CONCATENATE(referentes!AH170,\" \",referentes!AI170,\" \",\" \"),CONCATENATE(referentes!AH170,\" \",referentes!AI170,\" \",referentes!AC170))))","v":""},{"$f":"IF(referentes!AB170=\"\",\"\",referentes!AB170)","v":""},null,null,null,{"$f":"TRIM(UPPER(CONCATENATE(referentes!AH166,\" \",referentes!AI166,\" \",referentes!AJ166,\" \",referentes!AK166,\" \",referentes!AF166)))","v":"CHAETOCEROS LAUDERI"},{"$f":"referentes!AG166","v":0},null,null,null,null,null,null,null,null,null,null,"MONOMORPHINA",null,null,"DETONULA MOSELEYANA"]
[null,null,null,null,null,null,null,null,null,null,null,null,null,null,null,{"$f":"IF(referentes!AC171=\"\",\"\",IF(referentes!AC171=referentes!AH171,CONCATENATE(referentes!AC171,\" \",\" \",\" \",\" \"),IF(referentes!AC171=referentes!AI171,CONCATENATE(referentes!AH171,\" \",referentes!AI171,\" \",\" \"),CONCATENATE(referentes!AH171,\" \",referentes!AI171,\" \",referentes!AC171))))","v":""},{"$f":"IF(referentes!AB171=\"\",\"\",referentes!AB171)","v":""},null,null,null,{"$f":"TRIM(UPPER(CONCATENATE(referentes!AH167,\" \",referentes!AI167,\" \",referentes!AJ167,\" \",referentes!AK167,\" \",referentes!AF167)))","v":"CHAETOCEROS LORENZIANUS"},{"$f":"referentes!AG167","v":0},null,null,null,null,null,null,null,null,null,null,"MONORAPHIDIUM",null,null,"DETONULA PUMILA"]
[null,null,null,null,null,null,null,null,null,null,null,null,null,null,null,{"$f":"IF(referentes!AC172=\"\",\"\",IF(referentes!AC172=referentes!AH172,CONCATENATE(referentes!AC172,\" \",\" \",\" \",\" \"),IF(referentes!AC172=referentes!AI172,CONCATENATE(referentes!AH172,\" \",referentes!AI172,\" \",\" \"),CONCATENATE(referentes!AH172,\" \",referentes!AI172,\" \",referentes!AC172))))","v":""},{"$f":"IF(referentes!AB172=\"\",\"\",referentes!AB172)","v":""},null,null,null,{"$f":"TRIM(UPPER(CONCATENATE(referentes!AH168,\" \",referentes!AI168,\" \",referentes!AJ168,\" \",referentes!AK168,\" \",referentes!AF168)))","v":"CHAETOCEROS MESSANENSE"},{"$f":"referentes!AG168","v":0},null,null,null,null,null,null,null,null,null,null,"MOUGEOTIA",null,null,"DICTYOCHA CALIDA"]
[null,null,null,null,null,null,null,null,null,null,null,null,null,null,null,{"$f":"IF(referentes!AC173=\"\",\"\",IF(referentes!AC173=referentes!AH173,CONCATENATE(referentes!AC173,\" \",\" \",\" \",\" \"),IF(referentes!AC173=referentes!AI173,CONCATENATE(referentes!AH173,\" \",referentes!AI173,\" \",\" \"),CONCATENATE(referentes!AH173,\" \",referentes!AI173,\" \",referentes!AC173))))","v":""},{"$f":"IF(referentes!AB173=\"\",\"\",referentes!AB173)","v":""},null,null,null,{"$f":"TRIM(UPPER(CONCATENATE(referentes!AH169,\" \",referentes!AI169,\" \",referentes!AJ169,\" \",referentes!AK169,\" \",referentes!AF169)))","v":"CHAETOCEROS NEOGRACILE"},{"$f":"referentes!AG169","v":0},null,null,null,null,null,null,null,null,null,null,"NAVICULA",null,null,"DICTYOCHA FIBULA"]
[null,null,null,null,null,null,null,null,null,null,null,null,null,null,null,{"$f":"IF(referentes!AC174=\"\",\"\",IF(referentes!AC174=referentes!AH174,CONCATENATE(referentes!AC174,\" \",\" \",\" \",\" \"),IF(referentes!AC174=referentes!AI174,CONCATENATE(referentes!AH174,\" \",referentes!AI174,\" \",\" \"),CONCATENATE(referentes!AH174,\" \",referentes!AI174,\" \",referentes!AC174))))","v":""},{"$f":"IF(referentes!AB174=\"\",\"\",referentes!AB174)","v":""},null,null,null,{"$f":"TRIM(UPPER(CONCATENATE(referentes!AH170,\" \",referentes!AI170,\" \",referentes!AJ170,\" \",referentes!AK170,\" \",referentes!AF170)))","v":"CHAETOCEROS NEOGRACILIS"},{"$f":"referentes!AG170","v":0},null,null,null,null,null,null,null,null,null,null,"NEOCALYPTRELLA",null,null,"DICTYOCHA NAVICULA"]
[null,null,null,null,null,null,null,null,null,null,null,null,null,null,null,{"$f":"IF(referentes!AC175=\"\",\"\",IF(referentes!AC175=referentes!AH175,CONCATENATE(referentes!AC175,\" \",\" \",\" \",\" \"),IF(referentes!AC175=referentes!AI175,CONCATENATE(referentes!AH175,\" \",referentes!AI175,\" \",\" \"),CONCATENATE(referentes!AH175,\" \",referentes!AI175,\" \",referentes!AC175))))","v":""},{"$f":"IF(referentes!AB175=\"\",\"\",referentes!AB175)","v":""},null,null,null,{"$f":"TRIM(UPPER(CONCATENATE(referentes!AH171,\" \",referentes!AI171,\" \",referentes!AJ171,\" \",referentes!AK171,\" \",referentes!AF171)))","v":"CHAETOCEROS PELAGICUS"},{"$f":"referentes!AG171","v":0},null,null,null,null,null,null,null,null,null,null,"NEOCERATIUM",null,null,"DICTYOCHA POLYACTIS"]
[null,null,null,null,null,null,null,null,null,null,null,null,null,null,null,{"$f":"IF(referentes!AC176=\"\",\"\",IF(referentes!AC176=referentes!AH176,CONCATENATE(referentes!AC176,\" \",\" \",\" \",\" \"),IF(referentes!AC176=referentes!AI176,CONCATENATE(referentes!AH176,\" \",referentes!AI176,\" \",\" \"),CONCATENATE(referentes!AH176,\" \",referentes!AI176,\" \",referentes!AC176))))","v":""},{"$f":"IF(referentes!AB176=\"\",\"\",referentes!AB176)","v":""},null,null,null,{"$f":"TRIM(UPPER(CONCATENATE(referentes!AH172,\" \",referentes!AI172,\" \",referentes!AJ172,\" \",referentes!AK172,\" \",referentes!AF172)))","v":"CHAETOCEROS PENDULUS"},{"$f":"referentes!AG172","v":0},null,null,null,null,null,null,null,null,null,null,"NEODELPHINEIS",null,null,"DINOPHYSIS ACUMINATA"]
[null,null,null,null,null,null,null,null,null,null,null,null,null,null,null,{"$f":"IF(referentes!AC177=\"\",\"\",IF(referentes!AC177=referentes!AH177,CONCATENATE(referentes!AC177,\" \",\" \",\" \",\" \"),IF(referentes!AC177=referentes!AI177,CONCATENATE(referentes!AH177,\" \",referentes!AI177,\" \",\" \"),CONCATENATE(referentes!AH177,\" \",referentes!AI177,\" \",referentes!AC177))))","v":""},{"$f":"IF(referentes!AB177=\"\",\"\",referentes!AB177)","v":""},null,null,null,{"$f":"TRIM(UPPER(CONCATENATE(referentes!AH173,\" \",referentes!AI173,\" \",referentes!AJ173,\" \",referentes!AK173,\" \",referentes!AF173)))","v":"CHAETOCEROS PERPUSILLUS"},{"$f":"referentes!AG173","v":0},null,null,null,null,null,null,null,null,null,null,"NEOSYNEDRA",null,null,"DINOPHYSIS AMANDULA"]
[null,null,null,null,null,null,null,null,null,null,null,null,null,null,null,{"$f":"IF(referentes!AC178=\"\",\"\",IF(referentes!AC178=referentes!AH178,CONCATENATE(referentes!AC178,\" \",\" \",\" \",\" \"),IF(referentes!AC178=referentes!AI178,CONCATENATE(referentes!AH178,\" \",referentes!AI178,\" \",\" \"),CONCATENATE(referentes!AH178,\" \",referentes!AI178,\" \",referentes!AC178))))","v":""},{"$f":"IF(referentes!AB178=\"\",\"\",referentes!AB178)","v":""},null,null,null,{"$f":"TRIM(UPPER(CONCATENATE(referentes!AH174,\" \",referentes!AI174,\" \",referentes!AJ174,\" \",referentes!AK174,\" \",referentes!AF174)))","v":"CHAETOCEROS PERUVIANUS"},{"$f":"referentes!AG174","v":0},null,null,null,null,null,null,null,null,null,null,"NITZSCHIA",null,null,"DINOPHYSIS APICATA"]
[null,null,null,null,null,null,null,null,null,null,null,null,null,null,null,{"$f":"IF(referentes!AC179=\"\",\"\",IF(referentes!AC179=referentes!AH179,CONCATENATE(referentes!AC179,\" \",\" \",\" \",\" \"),IF(referentes!AC179=referentes!AI179,CONCATENATE(referentes!AH179,\" \",referentes!AI179,\" \",\" \"),CONCATENATE(referentes!AH179,\" \",referentes!AI179,\" \",referentes!AC179))))","v":""},{"$f":"IF(referentes!AB179=\"\",\"\",referentes!AB179)","v":""},null,null,null,{"$f":"TRIM(UPPER(CONCATENATE(referentes!AH175,\" \",referentes!AI175,\" \",referentes!AJ175,\" \",referentes!AK175,\" \",referentes!AF175)))","v":"CHAETOCEROS PSEUDOCURVISETUS"},{"$f":"referentes!AG175","v":0},null,null,null,null,null,null,null,null,null,null,"NOCTILUCA",null,null,"DINOPHYSIS CAUDATA"]
[null,null,null,null,null,null,null,null,null,null,null,null,null,null,null,{"$f":"IF(referentes!AC180=\"\",\"\",IF(referentes!AC180=referentes!AH180,CONCATENATE(referentes!AC180,\" \",\" \",\" \",\" \"),IF(referentes!AC180=referentes!AI180,CONCATENATE(referentes!AH180,\" \",referentes!AI180,\" \",\" \"),CONCATENATE(referentes!AH180,\" \",referentes!AI180,\" \",referentes!AC180))))","v":""},{"$f":"IF(referentes!AB180=\"\",\"\",referentes!AB180)","v":""},null,null,null,{"$f":"TRIM(UPPER(CONCATENATE(referentes!AH176,\" \",referentes!AI176,\" \",referentes!AJ176,\" \",referentes!AK176,\" \",referentes!AF176)))","v":"CHAETOCEROS RADICANS"},{"$f":"referentes!AG176","v":0},null,null,null,null,null,null,null,null,null,null,"NOSTOC",null,null,"DINOPHYSIS HASTATA"]
[null,null,null,null,null,null,null,null,null,null,null,null,null,null,null,{"$f":"IF(referentes!AC181=\"\",\"\",IF(referentes!AC181=referentes!AH181,CONCATENATE(referentes!AC181,\" \",\" \",\" \",\" \"),IF(referentes!AC181=referentes!AI181,CONCATENATE(referentes!AH181,\" \",referentes!AI181,\" \",\" \"),CONCATENATE(referentes!AH181,\" \",referentes!AI181,\" \",referentes!AC181))))","v":""},{"$f":"IF(referentes!AB181=\"\",\"\",referentes!AB181)","v":""},null,null,null,{"$f":"TRIM(UPPER(CONCATENATE(referentes!AH177,\" \",referentes!AI177,\" \",referentes!AJ177,\" \",referentes!AK177,\" \",referentes!AF177)))","v":"CHAETOCEROS SEIRACANTHUS"},{"$f":"referentes!AG177","v":0},null,null,null,null,null,null,null,null,null,null,"OBLEA",null,null,"DINOPHYSIS OKAMURAE"]
[null,null,null,null,null,null,null,null,null,null,null,null,null,null,null,{"$f":"IF(referentes!AC182=\"\",\"\",IF(referentes!AC182=referentes!AH182,CONCATENATE(referentes!AC182,\" \",\" \",\" \",\" \"),IF(referentes!AC182=referentes!AI182,CONCATENATE(referentes!AH182,\" \",referentes!AI182,\" \",\" \"),CONCATENATE(referentes!AH182,\" \",referentes!AI182,\" \",referentes!AC182))))","v":""},{"$f":"IF(referentes!AB182=\"\",\"\",referentes!AB182)","v":""},null,null,null,{"$f":"TRIM(UPPER(CONCATENATE(referentes!AH178,\" \",referentes!AI178,\" \",referentes!AJ178,\" \",referentes!AK178,\" \",referentes!AF178)))","v":"CHAETOCEROS SIMPLEX"},{"$f":"referentes!AG178","v":0},null,null,null,null,null,null,null,null,null,null,"OCTACTIS",null,null,"DINOPHYSIS OPERCULOIDES"]
[null,null,null,null,null,null,null,null,null,null,null,null,null,null,null,{"$f":"IF(referentes!AC183=\"\",\"\",IF(referentes!AC183=referentes!AH183,CONCATENATE(referentes!AC183,\" \",\" \",\" \",\" \"),IF(referentes!AC183=referentes!AI183,CONCATENATE(referentes!AH183,\" \",referentes!AI183,\" \",\" \"),CONCATENATE(referentes!AH183,\" \",referentes!AI183,\" \",referentes!AC183))))","v":""},{"$f":"IF(referentes!AB183=\"\",\"\",referentes!AB183)","v":""},null,null,null,{"$f":"TRIM(UPPER(CONCATENATE(referentes!AH179,\" \",referentes!AI179,\" \",referentes!AJ179,\" \",referentes!AK179,\" \",referentes!AF179)))","v":"CHAETOCEROS SOCIALIS"},{"$f":"referentes!AG179","v":0},null,null,null,null,null,null,null,null,null,null,"ODONTELLA",null,null,"DINOPHYSIS RECURVA"]
[null,null,null,null,null,null,null,null,null,null,null,null,null,null,null,{"$f":"IF(referentes!AC184=\"\",\"\",IF(referentes!AC184=referentes!AH184,CONCATENATE(referentes!AC184,\" \",\" \",\" \",\" \"),IF(referentes!AC184=referentes!AI184,CONCATENATE(referentes!AH184,\" \",referentes!AI184,\" \",\" \"),CONCATENATE(referentes!AH184,\" \",referentes!AI184,\" \",referentes!AC184))))","v":""},{"$f":"IF(referentes!AB184=\"\",\"\",referentes!AB184)","v":""},null,null,null,{"$f":"TRIM(UPPER(CONCATENATE(referentes!AH180,\" \",referentes!AI180,\" \",referentes!AJ180,\" \",referentes!AK180,\" \",referentes!AF180)))","v":"CHAETOCEROS SUBTILIS"},{"$f":"referentes!AG180","v":0},null,null,null,null,null,null,null,null,null,null,"OEDOGONIUM",null,null,"DINOPHYSIS SCHUETTII"]
[null,null,null,null,null,null,null,null,null,null,null,null,null,null,null,{"$f":"IF(referentes!AC185=\"\",\"\",IF(referentes!AC185=referentes!AH185,CONCATENATE(referentes!AC185,\" \",\" \",\" \",\" \"),IF(referentes!AC185=referentes!AI185,CONCATENATE(referentes!AH185,\" \",referentes!AI185,\" \",\" \"),CONCATENATE(referentes!AH185,\" \",referentes!AI185,\" \",referentes!AC185))))","v":""},{"$f":"IF(referentes!AB185=\"\",\"\",referentes!AB185)","v":""},null,null,null,{"$f":"TRIM(UPPER(CONCATENATE(referentes!AH181,\" \",referentes!AI181,\" \",referentes!AJ181,\" \",referentes!AK181,\" \",referentes!AF181)))","v":"CHAETOCEROS TERES"},{"$f":"referentes!AG181","v":0},null,null,null,null,null,null,null,null,null,null,"OOCYSTIS",null,null,"DINOPHYSIS TRIPOS"]
[null,null,null,null,null,null,null,null,null,null,null,null,null,null,null,{"$f":"IF(referentes!AC186=\"\",\"\",IF(referentes!AC186=referentes!AH186,CONCATENATE(referentes!AC186,\" \",\" \",\" \",\" \"),IF(referentes!AC186=referentes!AI186,CONCATENATE(referentes!AH186,\" \",referentes!AI186,\" \",\" \"),CONCATENATE(referentes!AH186,\" \",referentes!AI186,\" \",referentes!AC186))))","v":""},{"$f":"IF(referentes!AB186=\"\",\"\",referentes!AB186)","v":""},null,null,null,{"$f":"TRIM(UPPER(CONCATENATE(referentes!AH182,\" \",referentes!AI182,\" \",referentes!AJ182,\" \",referentes!AK182,\" \",referentes!AF182)))","v":"CHAETOCEROS TETRASTICHON"},{"$f":"referentes!AG182","v":0},null,null,null,null,null,null,null,null,null,null,"OPEPHORA",null,null,"DIPLONEIS BOMBUS"]
[null,null,null,null,null,null,null,null,null,null,null,null,null,null,null,{"$f":"IF(referentes!AC187=\"\",\"\",IF(referentes!AC187=referentes!AH187,CONCATENATE(referentes!AC187,\" \",\" \",\" \",\" \"),IF(referentes!AC187=referentes!AI187,CONCATENATE(referentes!AH187,\" \",referentes!AI187,\" \",\" \"),CONCATENATE(referentes!AH187,\" \",referentes!AI187,\" \",referentes!AC187))))","v":""},{"$f":"IF(referentes!AB187=\"\",\"\",referentes!AB187)","v":""},null,null,null,{"$f":"TRIM(UPPER(CONCATENATE(referentes!AH183,\" \",referentes!AI183,\" \",referentes!AJ183,\" \",referentes!AK183,\" \",referentes!AF183)))","v":"CHAETOCEROS TORTISSIMUS"},{"$f":"referentes!AG183","v":0},null,null,null,null,null,null,null,null,null,null,"ORNITHOCERCUS",null,null,"DIPLONEIS CHERSONENSIS"]
[null,null,null,null,null,null,null,null,null,null,null,null,null,null,null,{"$f":"IF(referentes!AC188=\"\",\"\",IF(referentes!AC188=referentes!AH188,CONCATENATE(referentes!AC188,\" \",\" \",\" \",\" \"),IF(referentes!AC188=referentes!AI188,CONCATENATE(referentes!AH188,\" \",referentes!AI188,\" \",\" \"),CONCATENATE(referentes!AH188,\" \",referentes!AI188,\" \",referentes!AC188))))","v":""},{"$f":"IF(referentes!AB188=\"\",\"\",referentes!AB188)","v":""},null,null,null,{"$f":"TRIM(UPPER(CONCATENATE(referentes!AH184,\" \",referentes!AI184,\" \",referentes!AJ184,\" \",referentes!AK184,\" \",referentes!AF184)))","v":"CHAETOCEROS WIGHAMII"},{"$f":"referentes!AG184","v":0},null,null,null,null,null,null,null,null,null,null,"OSCILLATORIA",null,null,"DIPLONEIS CRABRO"]
[null,null,null,null,null,null,null,null,null,null,null,null,null,null,null,{"$f":"IF(referentes!AC189=\"\",\"\",IF(referentes!AC189=referentes!AH189,CONCATENATE(referentes!AC189,\" \",\" \",\" \",\" \"),IF(referentes!AC189=referentes!AI189,CONCATENATE(referentes!AH189,\" \",referentes!AI189,\" \",\" \"),CONCATENATE(referentes!AH189,\" \",referentes!AI189,\" \",referentes!AC189))))","v":""},{"$f":"IF(referentes!AB189=\"\",\"\",referentes!AB189)","v":""},null,null,null,{"$f":"TRIM(UPPER(CONCATENATE(referentes!AH185,\" \",referentes!AI185,\" \",referentes!AJ185,\" \",referentes!AK185,\" \",referentes!AF185)))","v":"CHAETOCEROS WILLEI"},{"$f":"referentes!AG185","v":0},null,null,null,null,null,null,null,null,null,null,"OSTREOPSIS",null,null,"DIPLONEIS NOTABILIS"]
[null,null,null,null,null,null,null,null,null,null,null,null,null,null,null,{"$f":"IF(referentes!AC190=\"\",\"\",IF(referentes!AC190=referentes!AH190,CONCATENATE(referentes!AC190,\" \",\" \",\" \",\" \"),IF(referentes!AC190=referentes!AI190,CONCATENATE(referentes!AH190,\" \",referentes!AI190,\" \",\" \"),CONCATENATE(referentes!AH190,\" \",referentes!AI190,\" \",referentes!AC190))))","v":""},{"$f":"IF(referentes!AB190=\"\",\"\",referentes!AB190)","v":""},null,null,null,{"$f":"TRIM(UPPER(CONCATENATE(referentes!AH186,\" \",referentes!AI186,\" \",referentes!AJ186,\" \",referentes!AK186,\" \",referentes!AF186)))","v":"CHILOMONAS"},{"$f":"referentes!AG186","v":0},null,null,null,null,null,null,null,null,null,null,"OXYPHYSIS",null,null,"DIPLONEIS SMITHII"]
[null,null,null,null,null,null,null,null,null,null,null,null,null,null,null,{"$f":"IF(referentes!AC191=\"\",\"\",IF(referentes!AC191=referentes!AH191,CONCATENATE(referentes!AC191,\" \",\" \",\" \",\" \"),IF(referentes!AC191=referentes!AI191,CONCATENATE(referentes!AH191,\" \",referentes!AI191,\" \",\" \"),CONCATENATE(referentes!AH191,\" \",referentes!AI191,\" \",referentes!AC191))))","v":""},{"$f":"IF(referentes!AB191=\"\",\"\",referentes!AB191)","v":""},null,null,null,{"$f":"TRIM(UPPER(CONCATENATE(referentes!AH187,\" \",referentes!AI187,\" \",referentes!AJ187,\" \",referentes!AK187,\" \",referentes!AF187)))","v":"CHROOCOCCUS"},{"$f":"referentes!AG187","v":0},null,null,null,null,null,null,null,null,null,null,"OXYTOXUM",null,null,"DIPLONEIS SUBADVENA"]
[null,null,null,null,null,null,null,null,null,null,null,null,null,null,null,{"$f":"IF(referentes!AC192=\"\",\"\",IF(referentes!AC192=referentes!AH192,CONCATENATE(referentes!AC192,\" \",\" \",\" \",\" \"),IF(referentes!AC192=referentes!AI192,CONCATENATE(referentes!AH192,\" \",referentes!AI192,\" \",\" \"),CONCATENATE(referentes!AH192,\" \",referentes!AI192,\" \",referentes!AC192))))","v":""},{"$f":"IF(referentes!AB192=\"\",\"\",referentes!AB192)","v":""},null,null,null,{"$f":"TRIM(UPPER(CONCATENATE(referentes!AH188,\" \",referentes!AI188,\" \",referentes!AJ188,\" \",referentes!AK188,\" \",referentes!AF188)))","v":"CITHARISTES"},{"$f":"referentes!AG188","v":0},null,null,null,null,null,null,null,null,null,null,"PALMERIA",null,null,"DIPLOPELTA BOMBA"]
[null,null,null,null,null,null,null,null,null,null,null,null,null,null,null,{"$f":"IF(referentes!AC193=\"\",\"\",IF(referentes!AC193=referentes!AH193,CONCATENATE(referentes!AC193,\" \",\" \",\" \",\" \"),IF(referentes!AC193=referentes!AI193,CONCATENATE(referentes!AH193,\" \",referentes!AI193,\" \",\" \"),CONCATENATE(referentes!AH193,\" \",referentes!AI193,\" \",referentes!AC193))))","v":""},{"$f":"IF(referentes!AB193=\"\",\"\",referentes!AB193)","v":""},null,null,null,{"$f":"TRIM(UPPER(CONCATENATE(referentes!AH189,\" \",referentes!AI189,\" \",referentes!AJ189,\" \",referentes!AK189,\" \",referentes!AF189)))","v":"CITHARISTES APSTEINII"},{"$f":"referentes!AG189","v":0},null,null,null,null,null,null,null,null,null,null,"PALMERINA",null,null,"DIPLOPELTA GLOBULA"]
[null,null,null,null,null,null,null,null,null,null,null,null,null,null,null,{"$f":"IF(referentes!AC194=\"\",\"\",IF(referentes!AC194=referentes!AH194,CONCATENATE(referentes!AC194,\" \",\" \",\" \",\" \"),IF(referentes!AC194=referentes!AI194,CONCATENATE(referentes!AH194,\" \",referentes!AI194,\" \",\" \"),CONCATENATE(referentes!AH194,\" \",referentes!AI194,\" \",referentes!AC194))))","v":""},{"$f":"IF(referentes!AB194=\"\",\"\",referentes!AB194)","v":""},null,null,null,{"$f":"TRIM(UPPER(CONCATENATE(referentes!AH190,\" \",referentes!AI190,\" \",referentes!AJ190,\" \",referentes!AK190,\" \",referentes!AF190)))","v":"CLADOPYXIS"},{"$f":"referentes!AG190","v":0},null,null,null,null,null,null,null,null,null,null,"PARALIA",null,null,"DIPLOPSALIS ORBICULARIS"]
[null,null,null,null,null,null,null,null,null,null,null,null,null,null,null,{"$f":"IF(referentes!AC195=\"\",\"\",IF(referentes!AC195=referentes!AH195,CONCATENATE(referentes!AC195,\" \",\" \",\" \",\" \"),IF(referentes!AC195=referentes!AI195,CONCATENATE(referentes!AH195,\" \",referentes!AI195,\" \",\" \"),CONCATENATE(referentes!AH195,\" \",referentes!AI195,\" \",referentes!AC195))))","v":""},{"$f":"IF(referentes!AB195=\"\",\"\",referentes!AB195)","v":""},null,null,null,{"$f":"TRIM(UPPER(CONCATENATE(referentes!AH191,\" \",referentes!AI191,\" \",referentes!AJ191,\" \",referentes!AK191,\" \",referentes!AF191)))","v":"CLADOPYXIS BRACHIOLATA"},{"$f":"referentes!AG191","v":0},null,null,null,null,null,null,null,null,null,null,"PARLIBELLUS",null,null,"DISCOSTELLA GLOMERATA"]
[null,null,null,null,null,null,null,null,null,null,null,null,null,null,null,{"$f":"IF(referentes!AC196=\"\",\"\",IF(referentes!AC196=referentes!AH196,CONCATENATE(referentes!AC196,\" \",\" \",\" \",\" \"),IF(referentes!AC196=referentes!AI196,CONCATENATE(referentes!AH196,\" \",referentes!AI196,\" \",\" \"),CONCATENATE(referentes!AH196,\" \",referentes!AI196,\" \",referentes!AC196))))","v":""},{"$f":"IF(referentes!AB196=\"\",\"\",referentes!AB196)","v":""},null,null,null,{"$f":"TRIM(UPPER(CONCATENATE(referentes!AH192,\" \",referentes!AI192,\" \",referentes!AJ192,\" \",referentes!AK192,\" \",referentes!AF192)))","v":"CLIMACODIUM"},{"$f":"referentes!AG192","v":0},null,null,null,null,null,null,null,null,null,null,"PEDIASTRUM",null,null,"DISSODIUM ASYMMETRICUM"]
[null,null,null,null,null,null,null,null,null,null,null,null,null,null,null,{"$f":"IF(referentes!AC197=\"\",\"\",IF(referentes!AC197=referentes!AH197,CONCATENATE(referentes!AC197,\" \",\" \",\" \",\" \"),IF(referentes!AC197=referentes!AI197,CONCATENATE(referentes!AH197,\" \",referentes!AI197,\" \",\" \"),CONCATENATE(referentes!AH197,\" \",referentes!AI197,\" \",referentes!AC197))))","v":""},{"$f":"IF(referentes!AB197=\"\",\"\",referentes!AB197)","v":""},null,null,null,{"$f":"TRIM(UPPER(CONCATENATE(referentes!AH193,\" \",referentes!AI193,\" \",referentes!AJ193,\" \",referentes!AK193,\" \",referentes!AF193)))","v":"CLIMACODIUM BICONCAVUM"},{"$f":"referentes!AG193","v":0},null,null,null,null,null,null,null,null,null,null,"PERIDINIUM",null,null,"DITYLUM BRIGHTWELLII"]
[null,null,null,null,null,null,null,null,null,null,null,null,null,null,null,{"$f":"IF(referentes!AC198=\"\",\"\",IF(referentes!AC198=referentes!AH198,CONCATENATE(referentes!AC198,\" \",\" \",\" \",\" \"),IF(referentes!AC198=referentes!AI198,CONCATENATE(referentes!AH198,\" \",referentes!AI198,\" \",\" \"),CONCATENATE(referentes!AH198,\" \",referentes!AI198,\" \",referentes!AC198))))","v":""},{"$f":"IF(referentes!AB198=\"\",\"\",referentes!AB198)","v":""},null,null,null,{"$f":"TRIM(UPPER(CONCATENATE(referentes!AH194,\" \",referentes!AI194,\" \",referentes!AJ194,\" \",referentes!AK194,\" \",referentes!AF194)))","v":"CLIMACODIUM FRAUENFELDIANUM"},{"$f":"referentes!AG194","v":0},null,null,null,null,null,null,null,null,null,null,"PETRODICTYON",null,null,"DITYLUM SOL"]
[null,null,null,null,null,null,null,null,null,null,null,null,null,null,null,{"$f":"IF(referentes!AC199=\"\",\"\",IF(referentes!AC199=referentes!AH199,CONCATENATE(referentes!AC199,\" \",\" \",\" \",\" \"),IF(referentes!AC199=referentes!AI199,CONCATENATE(referentes!AH199,\" \",referentes!AI199,\" \",\" \"),CONCATENATE(referentes!AH199,\" \",referentes!AI199,\" \",referentes!AC199))))","v":""},{"$f":"IF(referentes!AB199=\"\",\"\",referentes!AB199)","v":""},null,null,null,{"$f":"TRIM(UPPER(CONCATENATE(referentes!AH195,\" \",referentes!AI195,\" \",referentes!AJ195,\" \",referentes!AK195,\" \",referentes!AF195)))","v":"CLIMACONEIS"},{"$f":"referentes!AG195","v":0},null,null,null,null,null,null,null,null,null,null,"PETRONEIS",null,null,"EMILIANIA HUXLEYI"]
[null,null,null,null,null,null,null,null,null,null,null,null,null,null,null,{"$f":"IF(referentes!AC200=\"\",\"\",IF(referentes!AC200=referentes!AH200,CONCATENATE(referentes!AC200,\" \",\" \",\" \",\" \"),IF(referentes!AC200=referentes!AI200,CONCATENATE(referentes!AH200,\" \",referentes!AI200,\" \",\" \"),CONCATENATE(referentes!AH200,\" \",referentes!AI200,\" \",referentes!AC200))))","v":""},{"$f":"IF(referentes!AB200=\"\",\"\",referentes!AB200)","v":""},null,null,null,{"$f":"TRIM(UPPER(CONCATENATE(referentes!AH196,\" \",referentes!AI196,\" \",referentes!AJ196,\" \",referentes!AK196,\" \",referentes!AF196)))","v":"CLIMACONEIS LORENZII"},{"$f":"referentes!AG196","v":0},null,null,null,null,null,null,null,null,null,null,"PHACUS",null,null,"ENDICTYA OCEANICA"]
[null,null,null,null,null,null,null,null,null,null,null,null,null,null,null,{"$f":"IF(referentes!AC201=\"\",\"\",IF(referentes!AC201=referentes!AH201,CONCATENATE(referentes!AC201,\" \",\" \",\" \",\" \"),IF(referentes!AC201=referentes!AI201,CONCATENATE(referentes!AH201,\" \",referentes!AI201,\" \",\" \"),CONCATENATE(referentes!AH201,\" \",referentes!AI201,\" \",referentes!AC201))))","v":""},{"$f":"IF(referentes!AB201=\"\",\"\",referentes!AB201)","v":""},null,null,null,{"$f":"TRIM(UPPER(CONCATENATE(referentes!AH197,\" \",referentes!AI197,\" \",referentes!AJ197,\" \",referentes!AK197,\" \",referentes!AF197)))","v":"CLIMACOSPHENIA"},{"$f":"referentes!AG197","v":0},null,null,null,null,null,null,null,null,null,null,"PHALACROMA",null,null,"ENTOMONEIS ALATA"]
[null,null,null,null,null,null,null,null,null,null,null,null,null,null,null,{"$f":"IF(referentes!AC202=\"\",\"\",IF(referentes!AC202=referentes!AH202,CONCATENATE(referentes!AC202,\" \",\" \",\" \",\" \"),IF(referentes!AC202=referentes!AI202,CONCATENATE(referentes!AH202,\" \",referentes!AI202,\" \",\" \"),CONCATENATE(referentes!AH202,\" \",referentes!AI202,\" \",referentes!AC202))))","v":""},{"$f":"IF(referentes!AB202=\"\",\"\",referentes!AB202)","v":""},null,null,null,{"$f":"TRIM(UPPER(CONCATENATE(referentes!AH198,\" \",referentes!AI198,\" \",referentes!AJ198,\" \",referentes!AK198,\" \",referentes!AF198)))","v":"CLIMACOSPHENIA MONILIGERA"},{"$f":"referentes!AG198","v":0},null,null,null,null,null,null,null,null,null,null,"PHORMIDIUM",null,null,"ENTOMONEIS GIGANTEA"]
[null,null,null,null,null,null,null,null,null,null,null,null,null,null,null,{"$f":"IF(referentes!AC203=\"\",\"\",IF(referentes!AC203=referentes!AH203,CONCATENATE(referentes!AC203,\" \",\" \",\" \",\" \"),IF(referentes!AC203=referentes!AI203,CONCATENATE(referentes!AH203,\" \",referentes!AI203,\" \",\" \"),CONCATENATE(referentes!AH203,\" \",referentes!AI203,\" \",referentes!AC203))))","v":""},{"$f":"IF(referentes!AB203=\"\",\"\",referentes!AB203)","v":""},null,null,null,{"$f":"TRIM(UPPER(CONCATENATE(referentes!AH199,\" \",referentes!AI199,\" \",referentes!AJ199,\" \",referentes!AK199,\" \",referentes!AF199)))","v":"CLOSTERIOPSIS"},{"$f":"referentes!AG199","v":0},null,null,null,null,null,null,null,null,null,null,"PINNULARIA",null,null,"EUCAMPIA CORNUTA"]
[null,null,null,null,null,null,null,null,null,null,null,null,null,null,null,{"$f":"IF(referentes!AC204=\"\",\"\",IF(referentes!AC204=referentes!AH204,CONCATENATE(referentes!AC204,\" \",\" \",\" \",\" \"),IF(referentes!AC204=referentes!AI204,CONCATENATE(referentes!AH204,\" \",referentes!AI204,\" \",\" \"),CONCATENATE(referentes!AH204,\" \",referentes!AI204,\" \",referentes!AC204))))","v":""},{"$f":"IF(referentes!AB204=\"\",\"\",referentes!AB204)","v":""},null,null,null,{"$f":"TRIM(UPPER(CONCATENATE(referentes!AH200,\" \",referentes!AI200,\" \",referentes!AJ200,\" \",referentes!AK200,\" \",referentes!AF200)))","v":"CLOSTERIUM"},{"$f":"referentes!AG200","v":0},null,null,null,null,null,null,null,null,null,null,"PLAGIOGRAMMA",null,null,"EUCAMPIA GROENLANDICA"]
[null,null,null,null,null,null,null,null,null,null,null,null,null,null,null,{"$f":"IF(referentes!AC205=\"\",\"\",IF(referentes!AC205=referentes!AH205,CONCATENATE(referentes!AC205,\" \",\" \",\" \",\" \"),IF(referentes!AC205=referentes!AI205,CONCATENATE(referentes!AH205,\" \",referentes!AI205,\" \",\" \"),CONCATENATE(referentes!AH205,\" \",referentes!AI205,\" \",referentes!AC205))))","v":""},{"$f":"IF(referentes!AB205=\"\",\"\",referentes!AB205)","v":""},null,null,null,{"$f":"TRIM(UPPER(CONCATENATE(referentes!AH201,\" \",referentes!AI201,\" \",referentes!AJ201,\" \",referentes!AK201,\" \",referentes!AF201)))","v":"COCCONEIS"},{"$f":"referentes!AG201","v":0},null,null,null,null,null,null,null,null,null,null,"PLAGIOGRAMMOPSIS",null,null,"EUCAMPIA ZODIACUS"]
[null,null,null,null,null,null,null,null,null,null,null,null,null,null,null,{"$f":"IF(referentes!AC206=\"\",\"\",IF(referentes!AC206=referentes!AH206,CONCATENATE(referentes!AC206,\" \",\" \",\" \",\" \"),IF(referentes!AC206=referentes!AI206,CONCATENATE(referentes!AH206,\" \",referentes!AI206,\" \",\" \"),CONCATENATE(referentes!AH206,\" \",referentes!AI206,\" \",referentes!AC206))))","v":""},{"$f":"IF(referentes!AB206=\"\",\"\",referentes!AB206)","v":""},null,null,null,{"$f":"TRIM(UPPER(CONCATENATE(referentes!AH202,\" \",referentes!AI202,\" \",referentes!AJ202,\" \",referentes!AK202,\" \",referentes!AF202)))","v":"COCCONEIS SCUTELLUM"},{"$f":"referentes!AG202","v":0},null,null,null,null,null,null,null,null,null,null,"PLAGIOTROPIS",null,null,"EUNOTOGRAMMA MARINUM"]
[null,null,null,null,null,null,null,null,null,null,null,null,null,null,null,{"$f":"IF(referentes!AC207=\"\",\"\",IF(referentes!AC207=referentes!AH207,CONCATENATE(referentes!AC207,\" \",\" \",\" \",\" \"),IF(referentes!AC207=referentes!AI207,CONCATENATE(referentes!AH207,\" \",referentes!AI207,\" \",\" \"),CONCATENATE(referentes!AH207,\" \",referentes!AI207,\" \",referentes!AC207))))","v":""},{"$f":"IF(referentes!AB207=\"\",\"\",referentes!AB207)","v":""},null,null,null,{"$f":"TRIM(UPPER(CONCATENATE(referentes!AH203,\" \",referentes!AI203,\" \",referentes!AJ203,\" \",referentes!AK203,\" \",referentes!AF203)))","v":"COCHLODINIUM"},{"$f":"referentes!AG203","v":0},null,null,null,null,null,null,null,null,null,null,"PLANCTONEMA",null,null,"EUPODISCUS RADIATUS"]
[null,null,null,null,null,null,null,null,null,null,null,null,null,null,null,{"$f":"IF(referentes!AC208=\"\",\"\",IF(referentes!AC208=referentes!AH208,CONCATENATE(referentes!AC208,\" \",\" \",\" \",\" \"),IF(referentes!AC208=referentes!AI208,CONCATENATE(referentes!AH208,\" \",referentes!AI208,\" \",\" \"),CONCATENATE(referentes!AH208,\" \",referentes!AI208,\" \",referentes!AC208))))","v":""},{"$f":"IF(referentes!AB208=\"\",\"\",referentes!AB208)","v":""},null,null,null,{"$f":"TRIM(UPPER(CONCATENATE(referentes!AH204,\" \",referentes!AI204,\" \",referentes!AJ204,\" \",referentes!AK204,\" \",referentes!AF204)))","v":"COELASTRUM"},{"$f":"referentes!AG204","v":0},null,null,null,null,null,null,null,null,null,null,"PLANKTOLYNGBYA",null,null,"FRAGILARIA LONGISSIMA"]
[null,null,null,null,null,null,null,null,null,null,null,null,null,null,null,{"$f":"IF(referentes!AC209=\"\",\"\",IF(referentes!AC209=referentes!AH209,CONCATENATE(referentes!AC209,\" \",\" \",\" \",\" \"),IF(referentes!AC209=referentes!AI209,CONCATENATE(referentes!AH209,\" \",referentes!AI209,\" \",\" \"),CONCATENATE(referentes!AH209,\" \",referentes!AI209,\" \",referentes!AC209))))","v":""},{"$f":"IF(referentes!AB209=\"\",\"\",referentes!AB209)","v":""},null,null,null,{"$f":"TRIM(UPPER(CONCATENATE(referentes!AH205,\" \",referentes!AI205,\" \",referentes!AJ205,\" \",referentes!AK205,\" \",referentes!AF205)))","v":"COELOMORON"},{"$f":"referentes!AG205","v":0},null,null,null,null,null,null,null,null,null,null,"PLANKTONIELLA",null,null,"FRAGILARIOPSIS DOLIOLUS"]
[null,null,null,null,null,null,null,null,null,null,null,null,null,null,null,{"$f":"IF(referentes!AC210=\"\",\"\",IF(referentes!AC210=referentes!AH210,CONCATENATE(referentes!AC210,\" \",\" \",\" \",\" \"),IF(referentes!AC210=referentes!AI210,CONCATENATE(referentes!AH210,\" \",referentes!AI210,\" \",\" \"),CONCATENATE(referentes!AH210,\" \",referentes!AI210,\" \",referentes!AC210))))","v":""},{"$f":"IF(referentes!AB210=\"\",\"\",referentes!AB210)","v":""},null,null,null,{"$f":"TRIM(UPPER(CONCATENATE(referentes!AH206,\" \",referentes!AI206,\" \",referentes!AJ206,\" \",referentes!AK206,\" \",referentes!AF206)))","v":"COELOSPHAERIUM"},{"$f":"referentes!AG206","v":0},null,null,null,null,null,null,null,null,null,null,"PLANKTOTHRIX",null,null,"GONIODOMA POLYEDRICUM"]
[null,null,null,null,null,null,null,null,null,null,null,null,null,null,null,{"$f":"IF(referentes!AC211=\"\",\"\",IF(referentes!AC211=referentes!AH211,CONCATENATE(referentes!AC211,\" \",\" \",\" \",\" \"),IF(referentes!AC211=referentes!AI211,CONCATENATE(referentes!AH211,\" \",referentes!AI211,\" \",\" \"),CONCATENATE(referentes!AH211,\" \",referentes!AI211,\" \",referentes!AC211))))","v":""},{"$f":"IF(referentes!AB211=\"\",\"\",referentes!AB211)","v":""},null,null,null,{"$f":"TRIM(UPPER(CONCATENATE(referentes!AH207,\" \",referentes!AI207,\" \",referentes!AJ207,\" \",referentes!AK207,\" \",referentes!AF207)))","v":"COLLODICTYON"},{"$f":"referentes!AG207","v":0},null,null,null,null,null,null,null,null,null,null,"PLANOTHIDIUM",null,null,"GONYAULAX BIROSTRIS"]
[null,null,null,null,null,null,null,null,null,null,null,null,null,null,null,{"$f":"IF(referentes!AC212=\"\",\"\",IF(referentes!AC212=referentes!AH212,CONCATENATE(referentes!AC212,\" \",\" \",\" \",\" \"),IF(referentes!AC212=referentes!AI212,CONCATENATE(referentes!AH212,\" \",referentes!AI212,\" \",\" \"),CONCATENATE(referentes!AH212,\" \",referentes!AI212,\" \",referentes!AC212))))","v":""},{"$f":"IF(referentes!AB212=\"\",\"\",referentes!AB212)","v":""},null,null,null,{"$f":"TRIM(UPPER(CONCATENATE(referentes!AH208,\" \",referentes!AI208,\" \",referentes!AJ208,\" \",referentes!AK208,\" \",referentes!AF208)))","v":"CORETHRON"},{"$f":"referentes!AG208","v":0},null,null,null,null,null,null,null,null,null,null,"PLEUROSIGMA",null,null,"GONYAULAX DIEGENSIS"]
[null,null,null,null,null,null,null,null,null,null,null,null,null,null,null,{"$f":"IF(referentes!AC213=\"\",\"\",IF(referentes!AC213=referentes!AH213,CONCATENATE(referentes!AC213,\" \",\" \",\" \",\" \"),IF(referentes!AC213=referentes!AI213,CONCATENATE(referentes!AH213,\" \",referentes!AI213,\" \",\" \"),CONCATENATE(referentes!AH213,\" \",referentes!AI213,\" \",referentes!AC213))))","v":""},{"$f":"IF(referentes!AB213=\"\",\"\",referentes!AB213)","v":""},null,null,null,{"$f":"TRIM(UPPER(CONCATENATE(referentes!AH209,\" \",referentes!AI209,\" \",referentes!AJ209,\" \",referentes!AK209,\" \",referentes!AF209)))","v":"CORETHRON PENNATUM"},{"$f":"referentes!AG209","v":0},null,null,null,null,null,null,null,null,null,null,"PLEUROSIRA",null,null,"GONYAULAX DIGITALE"]
[null,null,null,null,null,null,null,null,null,null,null,null,null,null,null,{"$f":"IF(referentes!AC214=\"\",\"\",IF(referentes!AC214=referentes!AH214,CONCATENATE(referentes!AC214,\" \",\" \",\" \",\" \"),IF(referentes!AC214=referentes!AI214,CONCATENATE(referentes!AH214,\" \",referentes!AI214,\" \",\" \"),CONCATENATE(referentes!AH214,\" \",referentes!AI214,\" \",referentes!AC214))))","v":""},{"$f":"IF(referentes!AB214=\"\",\"\",referentes!AB214)","v":""},null,null,null,{"$f":"TRIM(UPPER(CONCATENATE(referentes!AH210,\" \",referentes!AI210,\" \",referentes!AJ210,\" \",referentes!AK210,\" \",referentes!AF210)))","v":"CORYTHODINIUM"},{"$f":"referentes!AG210","v":0},null,null,null,null,null,null,null,null,null,null,"PODOCYSTIS",null,null,"GONYAULAX FUSIFORMIS"]
[null,null,null,null,null,null,null,null,null,null,null,null,null,null,null,{"$f":"IF(referentes!AC215=\"\",\"\",IF(referentes!AC215=referentes!AH215,CONCATENATE(referentes!AC215,\" \",\" \",\" \",\" \"),IF(referentes!AC215=referentes!AI215,CONCATENATE(referentes!AH215,\" \",referentes!AI215,\" \",\" \"),CONCATENATE(referentes!AH215,\" \",referentes!AI215,\" \",referentes!AC215))))","v":""},{"$f":"IF(referentes!AB215=\"\",\"\",referentes!AB215)","v":""},null,null,null,{"$f":"TRIM(UPPER(CONCATENATE(referentes!AH211,\" \",referentes!AI211,\" \",referentes!AJ211,\" \",referentes!AK211,\" \",referentes!AF211)))","v":"CORYTHODINIUM DIPLOCONUS"},{"$f":"referentes!AG211","v":0},null,null,null,null,null,null,null,null,null,null,"PODOLAMPAS",null,null,"GONYAULAX KOFOIDII"]
[null,null,null,null,null,null,null,null,null,null,null,null,null,null,null,{"$f":"IF(referentes!AC216=\"\",\"\",IF(referentes!AC216=referentes!AH216,CONCATENATE(referentes!AC216,\" \",\" \",\" \",\" \"),IF(referentes!AC216=referentes!AI216,CONCATENATE(referentes!AH216,\" \",referentes!AI216,\" \",\" \"),CONCATENATE(referentes!AH216,\" \",referentes!AI216,\" \",referentes!AC216))))","v":""},{"$f":"IF(referentes!AB216=\"\",\"\",referentes!AB216)","v":""},null,null,null,{"$f":"TRIM(UPPER(CONCATENATE(referentes!AH212,\" \",referentes!AI212,\" \",referentes!AJ212,\" \",referentes!AK212,\" \",referentes!AF212)))","v":"CORYTHODINIUM TESSELATUM"},{"$f":"referentes!AG212","v":0},null,null,null,null,null,null,null,null,null,null,"PODOSIRA",null,null,"GONYAULAX MILNERI"]
[null,null,null,null,null,null,null,null,null,null,null,null,null,null,null,{"$f":"IF(referentes!AC217=\"\",\"\",IF(referentes!AC217=referentes!AH217,CONCATENATE(referentes!AC217,\" \",\" \",\" \",\" \"),IF(referentes!AC217=referentes!AI217,CONCATENATE(referentes!AH217,\" \",referentes!AI217,\" \",\" \"),CONCATENATE(referentes!AH217,\" \",referentes!AI217,\" \",referentes!AC217))))","v":""},{"$f":"IF(referentes!AB217=\"\",\"\",referentes!AB217)","v":""},null,null,null,{"$f":"TRIM(UPPER(CONCATENATE(referentes!AH213,\" \",referentes!AI213,\" \",referentes!AJ213,\" \",referentes!AK213,\" \",referentes!AF213)))","v":"COSCINODISCOPHYCEAE"},{"$f":"referentes!AG213","v":0},null,null,null,null,null,null,null,null,null,null,"PORPHYROSIPHON",null,null,"GONYAULAX POLYGRAMMA"]
[null,null,null,null,null,null,null,null,null,null,null,null,null,null,null,{"$f":"IF(referentes!AC218=\"\",\"\",IF(referentes!AC218=referentes!AH218,CONCATENATE(referentes!AC218,\" \",\" \",\" \",\" \"),IF(referentes!AC218=referentes!AI218,CONCATENATE(referentes!AH218,\" \",referentes!AI218,\" \",\" \"),CONCATENATE(referentes!AH218,\" \",referentes!AI218,\" \",referentes!AC218))))","v":""},{"$f":"IF(referentes!AB218=\"\",\"\",referentes!AB218)","v":""},null,null,null,{"$f":"TRIM(UPPER(CONCATENATE(referentes!AH214,\" \",referentes!AI214,\" \",referentes!AJ214,\" \",referentes!AK214,\" \",referentes!AF214)))","v":"COSCINODISCUS"},{"$f":"referentes!AG214","v":0},null,null,null,null,null,null,null,null,null,null,"PROBOSCIA",null,null,"GONYAULAX SCRIPPSAE"]
[null,null,null,null,null,null,null,null,null,null,null,null,null,null,null,{"$f":"IF(referentes!AC219=\"\",\"\",IF(referentes!AC219=referentes!AH219,CONCATENATE(referentes!AC219,\" \",\" \",\" \",\" \"),IF(referentes!AC219=referentes!AI219,CONCATENATE(referentes!AH219,\" \",referentes!AI219,\" \",\" \"),CONCATENATE(referentes!AH219,\" \",referentes!AI219,\" \",referentes!AC219))))","v":""},{"$f":"IF(referentes!AB219=\"\",\"\",referentes!AB219)","v":""},null,null,null,{"$f":"TRIM(UPPER(CONCATENATE(referentes!AH215,\" \",referentes!AI215,\" \",referentes!AJ215,\" \",referentes!AK215,\" \",referentes!AF215)))","v":"COSCINODISCUS ARGUS"},{"$f":"referentes!AG215","v":0},null,null,null,null,null,null,null,null,null,null,"PRONOCTILUCA",null,null,"GONYAULAX SPHAEROIDEA"]
[null,null,null,null,null,null,null,null,null,null,null,null,null,null,null,{"$f":"IF(referentes!AC220=\"\",\"\",IF(referentes!AC220=referentes!AH220,CONCATENATE(referentes!AC220,\" \",\" \",\" \",\" \"),IF(referentes!AC220=referentes!AI220,CONCATENATE(referentes!AH220,\" \",referentes!AI220,\" \",\" \"),CONCATENATE(referentes!AH220,\" \",referentes!AI220,\" \",referentes!AC220))))","v":""},{"$f":"IF(referentes!AB220=\"\",\"\",referentes!AB220)","v":""},null,null,null,{"$f":"TRIM(UPPER(CONCATENATE(referentes!AH216,\" \",referentes!AI216,\" \",referentes!AJ216,\" \",referentes!AK216,\" \",referentes!AF216)))","v":"COSCINODISCUS ASTEROMPHALUS"},{"$f":"referentes!AG216","v":0},null,null,null,null,null,null,null,null,null,null,"PROROCENTRUM",null,null,"GONYAULAX SPINIFERA"]
[null,null,null,null,null,null,null,null,null,null,null,null,null,null,null,{"$f":"IF(referentes!AC221=\"\",\"\",IF(referentes!AC221=referentes!AH221,CONCATENATE(referentes!AC221,\" \",\" \",\" \",\" \"),IF(referentes!AC221=referentes!AI221,CONCATENATE(referentes!AH221,\" \",referentes!AI221,\" \",\" \"),CONCATENATE(referentes!AH221,\" \",referentes!AI221,\" \",referentes!AC221))))","v":""},{"$f":"IF(referentes!AB221=\"\",\"\",referentes!AB221)","v":""},null,null,null,{"$f":"TRIM(UPPER(CONCATENATE(referentes!AH217,\" \",referentes!AI217,\" \",referentes!AJ217,\" \",referentes!AK217,\" \",referentes!AF217)))","v":"COSCINODISCUS CENTRALIS"},{"$f":"referentes!AG217","v":0},null,null,null,null,null,null,null,null,null,null,"PROTOCERATIUM",null,null,"GONYAULAX TURBYNEI"]
[null,null,null,null,null,null,null,null,null,null,null,null,null,null,null,{"$f":"IF(referentes!AC222=\"\",\"\",IF(referentes!AC222=referentes!AH222,CONCATENATE(referentes!AC222,\" \",\" \",\" \",\" \"),IF(referentes!AC222=referentes!AI222,CONCATENATE(referentes!AH222,\" \",referentes!AI222,\" \",\" \"),CONCATENATE(referentes!AH222,\" \",referentes!AI222,\" \",referentes!AC222))))","v":""},{"$f":"IF(referentes!AB222=\"\",\"\",referentes!AB222)","v":""},null,null,null,{"$f":"TRIM(UPPER(CONCATENATE(referentes!AH218,\" \",referentes!AI218,\" \",referentes!AJ218,\" \",referentes!AK218,\" \",referentes!AF218)))","v":"COSCINODISCUS CONCINNUS"},{"$f":"referentes!AG218","v":0},null,null,null,null,null,null,null,null,null,null,"PROTOPERIDINIUM",null,null,"GONYAULAX VERIOR"]
[null,null,null,null,null,null,null,null,null,null,null,null,null,null,null,{"$f":"IF(referentes!AC223=\"\",\"\",IF(referentes!AC223=referentes!AH223,CONCATENATE(referentes!AC223,\" \",\" \",\" \",\" \"),IF(referentes!AC223=referentes!AI223,CONCATENATE(referentes!AH223,\" \",referentes!AI223,\" \",\" \"),CONCATENATE(referentes!AH223,\" \",referentes!AI223,\" \",referentes!AC223))))","v":""},{"$f":"IF(referentes!AB223=\"\",\"\",referentes!AB223)","v":""},null,null,null,{"$f":"TRIM(UPPER(CONCATENATE(referentes!AH219,\" \",referentes!AI219,\" \",referentes!AJ219,\" \",referentes!AK219,\" \",referentes!AF219)))","v":"COSCINODISCUS CURVATULUS"},{"$f":"referentes!AG219","v":0},null,null,null,null,null,null,null,null,null,null,"PRYMNESIUM",null,null,"GOSSLERIELLA TROPICA"]
[null,null,null,null,null,null,null,null,null,null,null,null,null,null,null,{"$f":"IF(referentes!AC224=\"\",\"\",IF(referentes!AC224=referentes!AH224,CONCATENATE(referentes!AC224,\" \",\" \",\" \",\" \"),IF(referentes!AC224=referentes!AI224,CONCATENATE(referentes!AH224,\" \",referentes!AI224,\" \",\" \"),CONCATENATE(referentes!AH224,\" \",referentes!AI224,\" \",referentes!AC224))))","v":""},{"$f":"IF(referentes!AB224=\"\",\"\",referentes!AB224)","v":""},null,null,null,{"$f":"TRIM(UPPER(CONCATENATE(referentes!AH220,\" \",referentes!AI220,\" \",referentes!AJ220,\" \",referentes!AK220,\" \",referentes!AF220)))","v":"COSCINODISCUS GIGAS"},{"$f":"referentes!AG220","v":0},null,null,null,null,null,null,null,null,null,null,"PSAMMODICTYON",null,null,"GRAMMATOPHORA MARINA"]
[null,null,null,null,null,null,null,null,null,null,null,null,null,null,null,{"$f":"IF(referentes!AC225=\"\",\"\",IF(referentes!AC225=referentes!AH225,CONCATENATE(referentes!AC225,\" \",\" \",\" \",\" \"),IF(referentes!AC225=referentes!AI225,CONCATENATE(referentes!AH225,\" \",referentes!AI225,\" \",\" \"),CONCATENATE(referentes!AH225,\" \",referentes!AI225,\" \",referentes!AC225))))","v":""},{"$f":"IF(referentes!AB225=\"\",\"\",referentes!AB225)","v":""},null,null,null,{"$f":"TRIM(UPPER(CONCATENATE(referentes!AH221,\" \",referentes!AI221,\" \",referentes!AJ221,\" \",referentes!AK221,\" \",referentes!AF221)))","v":"COSCINODISCUS GRANII"},{"$f":"referentes!AG221","v":0},null,null,null,null,null,null,null,null,null,null,"PSEUDANABAENA",null,null,"GUINARDIA CYLINDRUS"]
[null,null,null,null,null,null,null,null,null,null,null,null,null,null,null,{"$f":"IF(referentes!AC226=\"\",\"\",IF(referentes!AC226=referentes!AH226,CONCATENATE(referentes!AC226,\" \",\" \",\" \",\" \"),IF(referentes!AC226=referentes!AI226,CONCATENATE(referentes!AH226,\" \",referentes!AI226,\" \",\" \"),CONCATENATE(referentes!AH226,\" \",referentes!AI226,\" \",referentes!AC226))))","v":""},{"$f":"IF(referentes!AB226=\"\",\"\",referentes!AB226)","v":""},null,null,null,{"$f":"TRIM(UPPER(CONCATENATE(referentes!AH222,\" \",referentes!AI222,\" \",referentes!AJ222,\" \",referentes!AK222,\" \",referentes!AF222)))","v":"COSCINODISCUS JONESIANUS"},{"$f":"referentes!AG222","v":0},null,null,null,null,null,null,null,null,null,null,"PSEUDO-NITZSCHIA",null,null,"GUINARDIA DELICATULA"]
[null,null,null,null,null,null,null,null,null,null,null,null,null,null,null,{"$f":"IF(referentes!AC227=\"\",\"\",IF(referentes!AC227=referentes!AH227,CONCATENATE(referentes!AC227,\" \",\" \",\" \",\" \"),IF(referentes!AC227=referentes!AI227,CONCATENATE(referentes!AH227,\" \",referentes!AI227,\" \",\" \"),CONCATENATE(referentes!AH227,\" \",referentes!AI227,\" \",referentes!AC227))))","v":""},{"$f":"IF(referentes!AB227=\"\",\"\",referentes!AB227)","v":""},null,null,null,{"$f":"TRIM(UPPER(CONCATENATE(referentes!AH223,\" \",referentes!AI223,\" \",referentes!AJ223,\" \",referentes!AK223,\" \",referentes!AF223)))","v":"COSCINODISCUS MARGINATUS"},{"$f":"referentes!AG223","v":0},null,null,null,null,null,null,null,null,null,null,"PSEUDOGUINARDIA",null,null,"GUINARDIA FLACCIDA"]
[null,null,null,null,null,null,null,null,null,null,null,null,null,null,null,{"$f":"IF(referentes!AC228=\"\",\"\",IF(referentes!AC228=referentes!AH228,CONCATENATE(referentes!AC228,\" \",\" \",\" \",\" \"),IF(referentes!AC228=referentes!AI228,CONCATENATE(referentes!AH228,\" \",referentes!AI228,\" \",\" \"),CONCATENATE(referentes!AH228,\" \",referentes!AI228,\" \",referentes!AC228))))","v":""},{"$f":"IF(referentes!AB228=\"\",\"\",referentes!AB228)","v":""},null,null,null,{"$f":"TRIM(UPPER(CONCATENATE(referentes!AH224,\" \",referentes!AI224,\" \",referentes!AJ224,\" \",referentes!AK224,\" \",referentes!AF224)))","v":"COSCINODISCUS RADIATUS"},{"$f":"referentes!AG224","v":0},null,null,null,null,null,null,null,null,null,null,"PSEUDONITZSCHIA",null,null,"GUINARDIA STRIATA"]
[null,null,null,null,null,null,null,null,null,null,null,null,null,null,null,{"$f":"IF(referentes!AC229=\"\",\"\",IF(referentes!AC229=referentes!AH229,CONCATENATE(referentes!AC229,\" \",\" \",\" \",\" \"),IF(referentes!AC229=referentes!AI229,CONCATENATE(referentes!AH229,\" \",referentes!AI229,\" \",\" \"),CONCATENATE(referentes!AH229,\" \",referentes!AI229,\" \",referentes!AC229))))","v":""},{"$f":"IF(referentes!AB229=\"\",\"\",referentes!AB229)","v":""},null,null,null,{"$f":"TRIM(UPPER(CONCATENATE(referentes!AH225,\" \",referentes!AI225,\" \",referentes!AJ225,\" \",referentes!AK225,\" \",referentes!AF225)))","v":"COSCINODISCUS RENIFORMIS"},{"$f":"referentes!AG225","v":0},null,null,null,null,null,null,null,null,null,null,"PSEUDOSOLENIA",null,null,"GYMNODINIUM FISSUM"]
[null,null,null,null,null,null,null,null,null,null,null,null,null,null,null,{"$f":"IF(referentes!AC230=\"\",\"\",IF(referentes!AC230=referentes!AH230,CONCATENATE(referentes!AC230,\" \",\" \",\" \",\" \"),IF(referentes!AC230=referentes!AI230,CONCATENATE(referentes!AH230,\" \",referentes!AI230,\" \",\" \"),CONCATENATE(referentes!AH230,\" \",referentes!AI230,\" \",referentes!AC230))))","v":""},{"$f":"IF(referentes!AB230=\"\",\"\",referentes!AB230)","v":""},null,null,null,{"$f":"TRIM(UPPER(CONCATENATE(referentes!AH226,\" \",referentes!AI226,\" \",referentes!AJ226,\" \",referentes!AK226,\" \",referentes!AF226)))","v":"COSCINODISCUS THORII"},{"$f":"referentes!AG226","v":0},null,null,null,null,null,null,null,null,null,null,"PYRAMIMONAS",null,null,"GYROSIGMA BALTICUM"]
[null,null,null,null,null,null,null,null,null,null,null,null,null,null,null,{"$f":"IF(referentes!AC231=\"\",\"\",IF(referentes!AC231=referentes!AH231,CONCATENATE(referentes!AC231,\" \",\" \",\" \",\" \"),IF(referentes!AC231=referentes!AI231,CONCATENATE(referentes!AH231,\" \",referentes!AI231,\" \",\" \"),CONCATENATE(referentes!AH231,\" \",referentes!AI231,\" \",referentes!AC231))))","v":""},{"$f":"IF(referentes!AB231=\"\",\"\",referentes!AB231)","v":""},null,null,null,{"$f":"TRIM(UPPER(CONCATENATE(referentes!AH227,\" \",referentes!AI227,\" \",referentes!AJ227,\" \",referentes!AK227,\" \",referentes!AF227)))","v":"COSMARIUM"},{"$f":"referentes!AG227","v":0},null,null,null,null,null,null,null,null,null,null,"PYROCYSTIS",null,null,"GYROSIGMA SIMILE"]
[null,null,null,null,null,null,null,null,null,null,null,null,null,null,null,{"$f":"IF(referentes!AC232=\"\",\"\",IF(referentes!AC232=referentes!AH232,CONCATENATE(referentes!AC232,\" \",\" \",\" \",\" \"),IF(referentes!AC232=referentes!AI232,CONCATENATE(referentes!AH232,\" \",referentes!AI232,\" \",\" \"),CONCATENATE(referentes!AH232,\" \",referentes!AI232,\" \",referentes!AC232))))","v":""},{"$f":"IF(referentes!AB232=\"\",\"\",referentes!AB232)","v":""},null,null,null,{"$f":"TRIM(UPPER(CONCATENATE(referentes!AH228,\" \",referentes!AI228,\" \",referentes!AJ228,\" \",referentes!AK228,\" \",referentes!AF228)))","v":"CRATICULA"},{"$f":"referentes!AG228","v":0},null,null,null,null,null,null,null,null,null,null,"PYRODINIUM",null,null,"GYROSIGMA TENUISSIMUM"]
[null,null,null,null,null,null,null,null,null,null,null,null,null,null,null,{"$f":"IF(referentes!AC233=\"\",\"\",IF(referentes!AC233=referentes!AH233,CONCATENATE(referentes!AC233,\" \",\" \",\" \",\" \"),IF(referentes!AC233=referentes!AI233,CONCATENATE(referentes!AH233,\" \",referentes!AI233,\" \",\" \"),CONCATENATE(referentes!AH233,\" \",referentes!AI233,\" \",referentes!AC233))))","v":""},{"$f":"IF(referentes!AB233=\"\",\"\",referentes!AB233)","v":""},null,null,null,{"$f":"TRIM(UPPER(CONCATENATE(referentes!AH229,\" \",referentes!AI229,\" \",referentes!AJ229,\" \",referentes!AK229,\" \",referentes!AF229)))","v":"CRUCIGENIA"},{"$f":"referentes!AG229","v":0},null,null,null,null,null,null,null,null,null,null,"PYROPHACUS",null,null,"HALAMPHORA COFFEAEFORMIS"]
[null,null,null,null,null,null,null,null,null,null,null,null,null,null,null,{"$f":"IF(referentes!AC234=\"\",\"\",IF(referentes!AC234=referentes!AH234,CONCATENATE(referentes!AC234,\" \",\" \",\" \",\" \"),IF(referentes!AC234=referentes!AI234,CONCATENATE(referentes!AH234,\" \",referentes!AI234,\" \",\" \"),CONCATENATE(referentes!AH234,\" \",referentes!AI234,\" \",referentes!AC234))))","v":""},{"$f":"IF(referentes!AB234=\"\",\"\",referentes!AB234)","v":""},null,null,null,{"$f":"TRIM(UPPER(CONCATENATE(referentes!AH230,\" \",referentes!AI230,\" \",referentes!AJ230,\" \",referentes!AK230,\" \",referentes!AF230)))","v":"CRYPTOMONAS"},{"$f":"referentes!AG230","v":0},null,null,null,null,null,null,null,null,null,null,"RAPHIDIOPSIS",null,null,"HALAMPHORA EXIGUA"]
[null,null,null,null,null,null,null,null,null,null,null,null,null,null,null,{"$f":"IF(referentes!AC235=\"\",\"\",IF(referentes!AC235=referentes!AH235,CONCATENATE(referentes!AC235,\" \",\" \",\" \",\" \"),IF(referentes!AC235=referentes!AI235,CONCATENATE(referentes!AH235,\" \",referentes!AI235,\" \",\" \"),CONCATENATE(referentes!AH235,\" \",referentes!AI235,\" \",referentes!AC235))))","v":""},{"$f":"IF(referentes!AB235=\"\",\"\",referentes!AB235)","v":""},null,null,null,{"$f":"TRIM(UPPER(CONCATENATE(referentes!AH231,\" \",referentes!AI231,\" \",referentes!AJ231,\" \",referentes!AK231,\" \",referentes!AF231)))","v":"CYANOPHYCEAE"},{"$f":"referentes!AG231","v":0},null,null,null,null,null,null,null,null,null,null,"RHABDONEMA",null,null,"HANTZSCHIA AMPHIOXYS"]
[null,null,null,null,null,null,null,null,null,null,null,null,null,null,null,{"$f":"IF(referentes!AC236=\"\",\"\",IF(referentes!AC236=referentes!AH236,CONCATENATE(referentes!AC236,\" \",\" \",\" \",\" \"),IF(referentes!AC236=referentes!AI236,CONCATENATE(referentes!AH236,\" \",referentes!AI236,\" \",\" \"),CONCATENATE(referentes!AH236,\" \",referentes!AI236,\" \",referentes!AC236))))","v":""},{"$f":"IF(referentes!AB236=\"\",\"\",referentes!AB236)","v":""},null,null,null,{"$f":"TRIM(UPPER(CONCATENATE(referentes!AH232,\" \",referentes!AI232,\" \",referentes!AJ232,\" \",referentes!AK232,\" \",referentes!AF232)))","v":"CYANOSARCINA"},{"$f":"referentes!AG232","v":0},null,null,null,null,null,null,null,null,null,null,"RHIZOSOLENIA",null,null,"HASLEA WAWRIKAE"]
[null,null,null,null,null,null,null,null,null,null,null,null,null,null,null,{"$f":"IF(referentes!AC237=\"\",\"\",IF(referentes!AC237=referentes!AH237,CONCATENATE(referentes!AC237,\" \",\" \",\" \",\" \"),IF(referentes!AC237=referentes!AI237,CONCATENATE(referentes!AH237,\" \",referentes!AI237,\" \",\" \"),CONCATENATE(referentes!AH237,\" \",referentes!AI237,\" \",referentes!AC237))))","v":""},{"$f":"IF(referentes!AB237=\"\",\"\",referentes!AB237)","v":""},null,null,null,{"$f":"TRIM(UPPER(CONCATENATE(referentes!AH233,\" \",referentes!AI233,\" \",referentes!AJ233,\" \",referentes!AK233,\" \",referentes!AF233)))","v":"CYCLOTELLA"},{"$f":"referentes!AG233","v":0},null,null,null,null,null,null,null,null,null,null,"RHODOMONAS",null,null,"HELICOTHECA TAMESIS"]
[null,null,null,null,null,null,null,null,null,null,null,null,null,null,null,{"$f":"IF(referentes!AC238=\"\",\"\",IF(referentes!AC238=referentes!AH238,CONCATENATE(referentes!AC238,\" \",\" \",\" \",\" \"),IF(referentes!AC238=referentes!AI238,CONCATENATE(referentes!AH238,\" \",referentes!AI238,\" \",\" \"),CONCATENATE(referentes!AH238,\" \",referentes!AI238,\" \",referentes!AC238))))","v":""},{"$f":"IF(referentes!AB238=\"\",\"\",referentes!AB238)","v":""},null,null,null,{"$f":"TRIM(UPPER(CONCATENATE(referentes!AH234,\" \",referentes!AI234,\" \",referentes!AJ234,\" \",referentes!AK234,\" \",referentes!AF234)))","v":"CYCLOTELLA PLANCTONICA"},{"$f":"referentes!AG234","v":0},null,null,null,null,null,null,null,null,null,null,"RICHELIA",null,null,"HEMIAULUS HAUCKII"]
[null,null,null,null,null,null,null,null,null,null,null,null,null,null,null,{"$f":"IF(referentes!AC239=\"\",\"\",IF(referentes!AC239=referentes!AH239,CONCATENATE(referentes!AC239,\" \",\" \",\" \",\" \"),IF(referentes!AC239=referentes!AI239,CONCATENATE(referentes!AH239,\" \",referentes!AI239,\" \",\" \"),CONCATENATE(referentes!AH239,\" \",referentes!AI239,\" \",referentes!AC239))))","v":""},{"$f":"IF(referentes!AB239=\"\",\"\",referentes!AB239)","v":""},null,null,null,{"$f":"TRIM(UPPER(CONCATENATE(referentes!AH235,\" \",referentes!AI235,\" \",referentes!AJ235,\" \",referentes!AK235,\" \",referentes!AF235)))","v":"CYLINDROSPERMOPSIS"},{"$f":"referentes!AG235","v":0},null,null,null,null,null,null,null,null,null,null,"ROMERIA",null,null,"HEMIAULUS MEMBRANACEUS"]
[null,null,null,null,null,null,null,null,null,null,null,null,null,null,null,{"$f":"IF(referentes!AC240=\"\",\"\",IF(referentes!AC240=referentes!AH240,CONCATENATE(referentes!AC240,\" \",\" \",\" \",\" \"),IF(referentes!AC240=referentes!AI240,CONCATENATE(referentes!AH240,\" \",referentes!AI240,\" \",\" \"),CONCATENATE(referentes!AH240,\" \",referentes!AI240,\" \",referentes!AC240))))","v":""},{"$f":"IF(referentes!AB240=\"\",\"\",referentes!AB240)","v":""},null,null,null,{"$f":"TRIM(UPPER(CONCATENATE(referentes!AH236,\" \",referentes!AI236,\" \",referentes!AJ236,\" \",referentes!AK236,\" \",referentes!AF236)))","v":"CYLINDROSPERMUM"},{"$f":"referentes!AG236","v":0},null,null,null,null,null,null,null,null,null,null,"ROPERIA",null,null,"HEMIAULUS SINENSIS"]
[null,null,null,null,null,null,null,null,null,null,null,null,null,null,null,{"$f":"IF(referentes!AC241=\"\",\"\",IF(referentes!AC241=referentes!AH241,CONCATENATE(referentes!AC241,\" \",\" \",\" \",\" \"),IF(referentes!AC241=referentes!AI241,CONCATENATE(referentes!AH241,\" \",referentes!AI241,\" \",\" \"),CONCATENATE(referentes!AH241,\" \",referentes!AI241,\" \",referentes!AC241))))","v":""},{"$f":"IF(referentes!AB241=\"\",\"\",referentes!AB241)","v":""},null,null,null,{"$f":"TRIM(UPPER(CONCATENATE(referentes!AH237,\" \",referentes!AI237,\" \",referentes!AJ237,\" \",referentes!AK237,\" \",referentes!AF237)))","v":"CYLINDROTHECA"},{"$f":"referentes!AG237","v":0},null,null,null,null,null,null,null,null,null,null,"SCENEDESMUS",null,null,"HERMESINUM ADRIATICUM"]
[null,null,null,null,null,null,null,null,null,null,null,null,null,null,null,{"$f":"IF(referentes!AC242=\"\",\"\",IF(referentes!AC242=referentes!AH242,CONCATENATE(referentes!AC242,\" \",\" \",\" \",\" \"),IF(referentes!AC242=referentes!AI242,CONCATENATE(referentes!AH242,\" \",referentes!AI242,\" \",\" \"),CONCATENATE(referentes!AH242,\" \",referentes!AI242,\" \",referentes!AC242))))","v":""},{"$f":"IF(referentes!AB242=\"\",\"\",referentes!AB242)","v":""},null,null,null,{"$f":"TRIM(UPPER(CONCATENATE(referentes!AH238,\" \",referentes!AI238,\" \",referentes!AJ238,\" \",referentes!AK238,\" \",referentes!AF238)))","v":"CYLINDROTHECA FUSIFORMIS"},{"$f":"referentes!AG238","v":0},null,null,null,null,null,null,null,null,null,null,"SCHROEDERIA",null,null,"HETERODINIUM ANGULATUM"]
[null,null,null,null,null,null,null,null,null,null,null,null,null,null,null,{"$f":"IF(referentes!AC243=\"\",\"\",IF(referentes!AC243=referentes!AH243,CONCATENATE(referentes!AC243,\" \",\" \",\" \",\" \"),IF(referentes!AC243=referentes!AI243,CONCATENATE(referentes!AH243,\" \",referentes!AI243,\" \",\" \"),CONCATENATE(referentes!AH243,\" \",referentes!AI243,\" \",referentes!AC243))))","v":""},{"$f":"IF(referentes!AB243=\"\",\"\",referentes!AB243)","v":""},null,null,null,{"$f":"TRIM(UPPER(CONCATENATE(referentes!AH239,\" \",referentes!AI239,\" \",referentes!AJ239,\" \",referentes!AK239,\" \",referentes!AF239)))","v":"CYMBELLA"},{"$f":"referentes!AG239","v":0},null,null,null,null,null,null,null,null,null,null,"SCHUETTIELLA",null,null,"HISTIONEIS MEGALOCOPA"]
[null,null,null,null,null,null,null,null,null,null,null,null,null,null,null,{"$f":"IF(referentes!AC244=\"\",\"\",IF(referentes!AC244=referentes!AH244,CONCATENATE(referentes!AC244,\" \",\" \",\" \",\" \"),IF(referentes!AC244=referentes!AI244,CONCATENATE(referentes!AH244,\" \",referentes!AI244,\" \",\" \"),CONCATENATE(referentes!AH244,\" \",referentes!AI244,\" \",referentes!AC244))))","v":""},{"$f":"IF(referentes!AB244=\"\",\"\",referentes!AB244)","v":""},null,null,null,{"$f":"TRIM(UPPER(CONCATENATE(referentes!AH240,\" \",referentes!AI240,\" \",referentes!AJ240,\" \",referentes!AK240,\" \",referentes!AF240)))","v":"DACTYLIOSOLEN"},{"$f":"referentes!AG240","v":0},null,null,null,null,null,null,null,null,null,null,"SCRIPPSIELLA",null,null,"HISTIONEIS OXYPTERIS"]
[null,null,null,null,null,null,null,null,null,null,null,null,null,null,null,{"$f":"IF(referentes!AC245=\"\",\"\",IF(referentes!AC245=referentes!AH245,CONCATENATE(referentes!AC245,\" \",\" \",\" \",\" \"),IF(referentes!AC245=referentes!AI245,CONCATENATE(referentes!AH245,\" \",referentes!AI245,\" \",\" \"),CONCATENATE(referentes!AH245,\" \",referentes!AI245,\" \",referentes!AC245))))","v":""},{"$f":"IF(referentes!AB245=\"\",\"\",referentes!AB245)","v":""},null,null,null,{"$f":"TRIM(UPPER(CONCATENATE(referentes!AH241,\" \",referentes!AI241,\" \",referentes!AJ241,\" \",referentes!AK241,\" \",referentes!AF241)))","v":"DACTYLIOSOLEN ANTARCTICUS"},{"$f":"referentes!AG241","v":0},null,null,null,null,null,null,null,null,null,null,"SCYPHOSPHAERA",null,null,"HISTIONEIS PANARIA"]
[null,null,null,null,null,null,null,null,null,null,null,null,null,null,null,{"$f":"IF(referentes!AC246=\"\",\"\",IF(referentes!AC246=referentes!AH246,CONCATENATE(referentes!AC246,\" \",\" \",\" \",\" \"),IF(referentes!AC246=referentes!AI246,CONCATENATE(referentes!AH246,\" \",referentes!AI246,\" \",\" \"),CONCATENATE(referentes!AH246,\" \",referentes!AI246,\" \",referentes!AC246))))","v":""},{"$f":"IF(referentes!AB246=\"\",\"\",referentes!AB246)","v":""},null,null,null,{"$f":"TRIM(UPPER(CONCATENATE(referentes!AH242,\" \",referentes!AI242,\" \",referentes!AJ242,\" \",referentes!AK242,\" \",referentes!AF242)))","v":"DACTYLIOSOLEN FRAGILISSIMUS"},{"$f":"referentes!AG242","v":0},null,null,null,null,null,null,null,null,null,null,"SELENASTRUM",null,null,"HISTIONEIS ROTUNDATA"]
[null,null,null,null,null,null,null,null,null,null,null,null,null,null,null,{"$f":"IF(referentes!AC247=\"\",\"\",IF(referentes!AC247=referentes!AH247,CONCATENATE(referentes!AC247,\" \",\" \",\" \",\" \"),IF(referentes!AC247=referentes!AI247,CONCATENATE(referentes!AH247,\" \",referentes!AI247,\" \",\" \"),CONCATENATE(referentes!AH247,\" \",referentes!AI247,\" \",referentes!AC247))))","v":""},{"$f":"IF(referentes!AB247=\"\",\"\",referentes!AB247)","v":""},null,null,null,{"$f":"TRIM(UPPER(CONCATENATE(referentes!AH243,\" \",referentes!AI243,\" \",referentes!AJ243,\" \",referentes!AK243,\" \",referentes!AF243)))","v":"DELPHINEIS"},{"$f":"referentes!AG243","v":0},null,null,null,null,null,null,null,null,null,null,"SELLAPHORA",null,null,"HISTIONEIS VARIABILIS"]
[null,null,null,null,null,null,null,null,null,null,null,null,null,null,null,{"$f":"IF(referentes!AC248=\"\",\"\",IF(referentes!AC248=referentes!AH248,CONCATENATE(referentes!AC248,\" \",\" \",\" \",\" \"),IF(referentes!AC248=referentes!AI248,CONCATENATE(referentes!AH248,\" \",referentes!AI248,\" \",\" \"),CONCATENATE(referentes!AH248,\" \",referentes!AI248,\" \",referentes!AC248))))","v":""},{"$f":"IF(referentes!AB248=\"\",\"\",referentes!AB248)","v":""},null,null,null,{"$f":"TRIM(UPPER(CONCATENATE(referentes!AH244,\" \",referentes!AI244,\" \",referentes!AJ244,\" \",referentes!AK244,\" \",referentes!AF244)))","v":"DELPHINEIS SURIRELLA"},{"$f":"referentes!AG244","v":0},null,null,null,null,null,null,null,null,null,null,"SEMINAVIS",null,null,"HYALOSIRA INTERRUPTA"]
[null,null,null,null,null,null,null,null,null,null,null,null,null,null,null,{"$f":"IF(referentes!AC249=\"\",\"\",IF(referentes!AC249=referentes!AH249,CONCATENATE(referentes!AC249,\" \",\" \",\" \",\" \"),IF(referentes!AC249=referentes!AI249,CONCATENATE(referentes!AH249,\" \",referentes!AI249,\" \",\" \"),CONCATENATE(referentes!AH249,\" \",referentes!AI249,\" \",referentes!AC249))))","v":""},{"$f":"IF(referentes!AB249=\"\",\"\",referentes!AB249)","v":""},null,null,null,{"$f":"TRIM(UPPER(CONCATENATE(referentes!AH245,\" \",referentes!AI245,\" \",referentes!AJ245,\" \",referentes!AK245,\" \",referentes!AF245)))","v":"DESMODESMUS"},{"$f":"referentes!AG245","v":0},null,null,null,null,null,null,null,null,null,null,"SKELETONEMA",null,null,"ISTHMIA ENERVIS"]
[null,null,null,null,null,null,null,null,null,null,null,null,null,null,null,{"$f":"IF(referentes!AC250=\"\",\"\",IF(referentes!AC250=referentes!AH250,CONCATENATE(referentes!AC250,\" \",\" \",\" \",\" \"),IF(referentes!AC250=referentes!AI250,CONCATENATE(referentes!AH250,\" \",referentes!AI250,\" \",\" \"),CONCATENATE(referentes!AH250,\" \",referentes!AI250,\" \",referentes!AC250))))","v":""},{"$f":"IF(referentes!AB250=\"\",\"\",referentes!AB250)","v":""},null,null,null,{"$f":"TRIM(UPPER(CONCATENATE(referentes!AH246,\" \",referentes!AI246,\" \",referentes!AJ246,\" \",referentes!AK246,\" \",referentes!AF246)))","v":"DESMODESMUS COMMUNIS"},{"$f":"referentes!AG246","v":0},null,null,null,null,null,null,null,null,null,null,"SPHAEROCAVUM",null,null,"ISTHMIA MINIMA"]
[null,null,null,null,null,null,null,null,null,null,null,null,null,null,null,{"$f":"IF(referentes!AC251=\"\",\"\",IF(referentes!AC251=referentes!AH251,CONCATENATE(referentes!AC251,\" \",\" \",\" \",\" \"),IF(referentes!AC251=referentes!AI251,CONCATENATE(referentes!AH251,\" \",referentes!AI251,\" \",\" \"),CONCATENATE(referentes!AH251,\" \",referentes!AI251,\" \",referentes!AC251))))","v":""},{"$f":"IF(referentes!AB251=\"\",\"\",referentes!AB251)","v":""},null,null,null,{"$f":"TRIM(UPPER(CONCATENATE(referentes!AH247,\" \",referentes!AI247,\" \",referentes!AJ247,\" \",referentes!AK247,\" \",referentes!AF247)))","v":"DESMODESMUS OPOLIENSIS"},{"$f":"referentes!AG247","v":0},null,null,null,null,null,null,null,null,null,null,"SPIRAULAX",null,null,"KOFOIDINIUM VELLELOIDES"]
[null,null,null,null,null,null,null,null,null,null,null,null,null,null,null,{"$f":"IF(referentes!AC252=\"\",\"\",IF(referentes!AC252=referentes!AH252,CONCATENATE(referentes!AC252,\" \",\" \",\" \",\" \"),IF(referentes!AC252=referentes!AI252,CONCATENATE(referentes!AH252,\" \",referentes!AI252,\" \",\" \"),CONCATENATE(referentes!AH252,\" \",referentes!AI252,\" \",referentes!AC252))))","v":""},{"$f":"IF(referentes!AB252=\"\",\"\",referentes!AB252)","v":""},null,null,null,{"$f":"TRIM(UPPER(CONCATENATE(referentes!AH248,\" \",referentes!AI248,\" \",referentes!AJ248,\" \",referentes!AK248,\" \",referentes!AF248)))","v":"DETONULA"},{"$f":"referentes!AG248","v":0},null,null,null,null,null,null,null,null,null,null,"SPIROGYRA",null,null,"KOMVOPHORON CRASSUM"]
[null,null,null,null,null,null,null,null,null,null,null,null,null,null,null,{"$f":"IF(referentes!AC253=\"\",\"\",IF(referentes!AC253=referentes!AH253,CONCATENATE(referentes!AC253,\" \",\" \",\" \",\" \"),IF(referentes!AC253=referentes!AI253,CONCATENATE(referentes!AH253,\" \",referentes!AI253,\" \",\" \"),CONCATENATE(referentes!AH253,\" \",referentes!AI253,\" \",referentes!AC253))))","v":""},{"$f":"IF(referentes!AB253=\"\",\"\",referentes!AB253)","v":""},null,null,null,{"$f":"TRIM(UPPER(CONCATENATE(referentes!AH249,\" \",referentes!AI249,\" \",referentes!AJ249,\" \",referentes!AK249,\" \",referentes!AF249)))","v":"DETONULA CONFERVACEA"},{"$f":"referentes!AG249","v":0},null,null,null,null,null,null,null,null,null,null,"SPIRULINA",null,null,"LAUDERIA ANNULATA"]
[null,null,null,null,null,null,null,null,null,null,null,null,null,null,null,{"$f":"IF(referentes!AC254=\"\",\"\",IF(referentes!AC254=referentes!AH254,CONCATENATE(referentes!AC254,\" \",\" \",\" \",\" \"),IF(referentes!AC254=referentes!AI254,CONCATENATE(referentes!AH254,\" \",referentes!AI254,\" \",\" \"),CONCATENATE(referentes!AH254,\" \",referentes!AI254,\" \",referentes!AC254))))","v":""},{"$f":"IF(referentes!AB254=\"\",\"\",referentes!AB254)","v":""},null,null,null,{"$f":"TRIM(UPPER(CONCATENATE(referentes!AH250,\" \",referentes!AI250,\" \",referentes!AJ250,\" \",referentes!AK250,\" \",referentes!AF250)))","v":"DETONULA MOSELEYANA"},{"$f":"referentes!AG250","v":0},null,null,null,null,null,null,null,null,null,null,"STAURASTRUM",null,null,"LEPTOCYLINDRUS DANICUS"]
[null,null,null,null,null,null,null,null,null,null,null,null,null,null,null,{"$f":"IF(referentes!AC255=\"\",\"\",IF(referentes!AC255=referentes!AH255,CONCATENATE(referentes!AC255,\" \",\" \",\" \",\" \"),IF(referentes!AC255=referentes!AI255,CONCATENATE(referentes!AH255,\" \",referentes!AI255,\" \",\" \"),CONCATENATE(referentes!AH255,\" \",referentes!AI255,\" \",referentes!AC255))))","v":""},{"$f":"IF(referentes!AB255=\"\",\"\",referentes!AB255)","v":""},null,null,null,{"$f":"TRIM(UPPER(CONCATENATE(referentes!AH251,\" \",referentes!AI251,\" \",referentes!AJ251,\" \",referentes!AK251,\" \",referentes!AF251)))","v":"DETONULA PUMILA"},{"$f":"referentes!AG251","v":0},null,null,null,null,null,null,null,null,null,null,"STAURIDIUM",null,null,"LEPTOCYLINDRUS MEDITERRANEUS"]
[null,null,null,null,null,null,null,null,null,null,null,null,null,null,null,{"$f":"IF(referentes!AC256=\"\",\"\",IF(referentes!AC256=referentes!AH256,CONCATENATE(referentes!AC256,\" \",\" \",\" \",\" \"),IF(referentes!AC256=referentes!AI256,CONCATENATE(referentes!AH256,\" \",referentes!AI256,\" \",\" \"),CONCATENATE(referentes!AH256,\" \",referentes!AI256,\" \",referentes!AC256))))","v":""},{"$f":"IF(referentes!AB256=\"\",\"\",referentes!AB256)","v":""},null,null,null,{"$f":"TRIM(UPPER(CONCATENATE(referentes!AH252,\" \",referentes!AI252,\" \",referentes!AJ252,\" \",referentes!AK252,\" \",referentes!AF252)))","v":"DIACRONEMA"},{"$f":"referentes!AG252","v":0},null,null,null,null,null,null,null,null,null,null,"STAURODESMUS",null,null,"LEPTOCYLINDRUS MINIMUS"]
[null,null,null,null,null,null,null,null,null,null,null,null,null,null,null,{"$f":"IF(referentes!AC257=\"\",\"\",IF(referentes!AC257=referentes!AH257,CONCATENATE(referentes!AC257,\" \",\" \",\" \",\" \"),IF(referentes!AC257=referentes!AI257,CONCATENATE(referentes!AH257,\" \",referentes!AI257,\" \",\" \"),CONCATENATE(referentes!AH257,\" \",referentes!AI257,\" \",referentes!AC257))))","v":""},{"$f":"IF(referentes!AB257=\"\",\"\",referentes!AB257)","v":""},null,null,null,{"$f":"TRIM(UPPER(CONCATENATE(referentes!AH253,\" \",referentes!AI253,\" \",referentes!AJ253,\" \",referentes!AK253,\" \",referentes!AF253)))","v":"DICTYOCHA"},{"$f":"referentes!AG253","v":0},null,null,null,null,null,null,null,null,null,null,"STAURONEIS",null,null,"LICMOPHORA FLABELLATA"]
[null,null,null,null,null,null,null,null,null,null,null,null,null,null,null,{"$f":"IF(referentes!AC258=\"\",\"\",IF(referentes!AC258=referentes!AH258,CONCATENATE(referentes!AC258,\" \",\" \",\" \",\" \"),IF(referentes!AC258=referentes!AI258,CONCATENATE(referentes!AH258,\" \",referentes!AI258,\" \",\" \"),CONCATENATE(referentes!AH258,\" \",referentes!AI258,\" \",referentes!AC258))))","v":""},{"$f":"IF(referentes!AB258=\"\",\"\",referentes!AB258)","v":""},null,null,null,{"$f":"TRIM(UPPER(CONCATENATE(referentes!AH254,\" \",referentes!AI254,\" \",referentes!AJ254,\" \",referentes!AK254,\" \",referentes!AF254)))","v":"DICTYOCHA CALIDA"},{"$f":"referentes!AG254","v":0},null,null,null,null,null,null,null,null,null,null,"STEPHANOPYXIS",null,null,"LICMOPHORA HYALINA"]
[null,null,null,null,null,null,null,null,null,null,null,null,null,null,null,{"$f":"IF(referentes!AC259=\"\",\"\",IF(referentes!AC259=referentes!AH259,CONCATENATE(referentes!AC259,\" \",\" \",\" \",\" \"),IF(referentes!AC259=referentes!AI259,CONCATENATE(referentes!AH259,\" \",referentes!AI259,\" \",\" \"),CONCATENATE(referentes!AH259,\" \",referentes!AI259,\" \",referentes!AC259))))","v":""},{"$f":"IF(referentes!AB259=\"\",\"\",referentes!AB259)","v":""},null,null,null,{"$f":"TRIM(UPPER(CONCATENATE(referentes!AH255,\" \",referentes!AI255,\" \",referentes!AJ255,\" \",referentes!AK255,\" \",referentes!AF255)))","v":"DICTYOCHA FIBULA"},{"$f":"referentes!AG255","v":0},null,null,null,null,null,null,null,null,null,null,"STRIATELLA",null,null,"LICMOPHORA LYNGBYEI"]
[null,null,null,null,null,null,null,null,null,null,null,null,null,null,null,{"$f":"IF(referentes!AC260=\"\",\"\",IF(referentes!AC260=referentes!AH260,CONCATENATE(referentes!AC260,\" \",\" \",\" \",\" \"),IF(referentes!AC260=referentes!AI260,CONCATENATE(referentes!AH260,\" \",referentes!AI260,\" \",\" \"),CONCATENATE(referentes!AH260,\" \",referentes!AI260,\" \",referentes!AC260))))","v":""},{"$f":"IF(referentes!AB260=\"\",\"\",referentes!AB260)","v":""},null,null,null,{"$f":"TRIM(UPPER(CONCATENATE(referentes!AH256,\" \",referentes!AI256,\" \",referentes!AJ256,\" \",referentes!AK256,\" \",referentes!AF256)))","v":"DICTYOCHA NAVICULA"},{"$f":"referentes!AG256","v":0},null,null,null,null,null,null,null,null,null,null,"STROMBOMONAS",null,null,"LICMOPHORA PARADOXA"]
[null,null,null,null,null,null,null,null,null,null,null,null,null,null,null,{"$f":"IF(referentes!AC261=\"\",\"\",IF(referentes!AC261=referentes!AH261,CONCATENATE(referentes!AC261,\" \",\" \",\" \",\" \"),IF(referentes!AC261=referentes!AI261,CONCATENATE(referentes!AH261,\" \",referentes!AI261,\" \",\" \"),CONCATENATE(referentes!AH261,\" \",referentes!AI261,\" \",referentes!AC261))))","v":""},{"$f":"IF(referentes!AB261=\"\",\"\",referentes!AB261)","v":""},null,null,null,{"$f":"TRIM(UPPER(CONCATENATE(referentes!AH257,\" \",referentes!AI257,\" \",referentes!AJ257,\" \",referentes!AK257,\" \",referentes!AF257)))","v":"DICTYOCHA POLYACTIS"},{"$f":"referentes!AG257","v":0},null,null,null,null,null,null,null,null,null,null,"SURIRELLA",null,null,"LICMOPHORA REMULUS"]
[null,null,null,null,null,null,null,null,null,null,null,null,null,null,null,{"$f":"IF(referentes!AC262=\"\",\"\",IF(referentes!AC262=referentes!AH262,CONCATENATE(referentes!AC262,\" \",\" \",\" \",\" \"),IF(referentes!AC262=referentes!AI262,CONCATENATE(referentes!AH262,\" \",referentes!AI262,\" \",\" \"),CONCATENATE(referentes!AH262,\" \",referentes!AI262,\" \",referentes!AC262))))","v":""},{"$f":"IF(referentes!AB262=\"\",\"\",referentes!AB262)","v":""},null,null,null,{"$f":"TRIM(UPPER(CONCATENATE(referentes!AH258,\" \",referentes!AI258,\" \",referentes!AJ258,\" \",referentes!AK258,\" \",referentes!AF258)))","v":"DICTYOCHOPHYCEAE"},{"$f":"referentes!AG258","v":0},null,null,null,null,null,null,null,null,null,null,"SYNECHOCOCCUS",null,null,"LICMOSPHENIA CLEVEI"]
[null,null,null,null,null,null,null,null,null,null,null,null,null,null,null,{"$f":"IF(referentes!AC263=\"\",\"\",IF(referentes!AC263=referentes!AH263,CONCATENATE(referentes!AC263,\" \",\" \",\" \",\" \"),IF(referentes!AC263=referentes!AI263,CONCATENATE(referentes!AH263,\" \",referentes!AI263,\" \",\" \"),CONCATENATE(referentes!AH263,\" \",referentes!AI263,\" \",referentes!AC263))))","v":""},{"$f":"IF(referentes!AB263=\"\",\"\",referentes!AB263)","v":""},null,null,null,{"$f":"TRIM(UPPER(CONCATENATE(referentes!AH259,\" \",referentes!AI259,\" \",referentes!AJ259,\" \",referentes!AK259,\" \",referentes!AF259)))","v":"DICTYOSPHAERIUM"},{"$f":"referentes!AG259","v":0},null,null,null,null,null,null,null,null,null,null,"SYNECHOCYSTIS",null,null,"LICMOSPHENIA GRUNOWII"]
[null,null,null,null,null,null,null,null,null,null,null,null,null,null,null,{"$f":"IF(referentes!AC264=\"\",\"\",IF(referentes!AC264=referentes!AH264,CONCATENATE(referentes!AC264,\" \",\" \",\" \",\" \"),IF(referentes!AC264=referentes!AI264,CONCATENATE(referentes!AH264,\" \",referentes!AI264,\" \",\" \"),CONCATENATE(referentes!AH264,\" \",referentes!AI264,\" \",referentes!AC264))))","v":""},{"$f":"IF(referentes!AB264=\"\",\"\",referentes!AB264)","v":""},null,null,null,{"$f":"TRIM(UPPER(CONCATENATE(referentes!AH260,\" \",referentes!AI260,\" \",referentes!AJ260,\" \",referentes!AK260,\" \",referentes!AF260)))","v":"DIMEREGRAMMA"},{"$f":"referentes!AG260","v":0},null,null,null,null,null,null,null,null,null,null,"SYNEDRA",null,null,"LIMNOTHRIX PLANCTONICA"]
[null,null,null,null,null,null,null,null,null,null,null,null,null,null,null,{"$f":"IF(referentes!AC265=\"\",\"\",IF(referentes!AC265=referentes!AH265,CONCATENATE(referentes!AC265,\" \",\" \",\" \",\" \"),IF(referentes!AC265=referentes!AI265,CONCATENATE(referentes!AH265,\" \",referentes!AI265,\" \",\" \"),CONCATENATE(referentes!AH265,\" \",referentes!AI265,\" \",referentes!AC265))))","v":""},{"$f":"IF(referentes!AB265=\"\",\"\",referentes!AB265)","v":""},null,null,null,{"$f":"TRIM(UPPER(CONCATENATE(referentes!AH261,\" \",referentes!AI261,\" \",referentes!AJ261,\" \",referentes!AK261,\" \",referentes!AF261)))","v":"DINOBRYON"},{"$f":"referentes!AG261","v":0},null,null,null,null,null,null,null,null,null,null,"TERPSINOE",null,null,"LINGULODINIUM MILNERI"]
[null,null,null,null,null,null,null,null,null,null,null,null,null,null,null,{"$f":"IF(referentes!AC266=\"\",\"\",IF(referentes!AC266=referentes!AH266,CONCATENATE(referentes!AC266,\" \",\" \",\" \",\" \"),IF(referentes!AC266=referentes!AI266,CONCATENATE(referentes!AH266,\" \",referentes!AI266,\" \",\" \"),CONCATENATE(referentes!AH266,\" \",referentes!AI266,\" \",referentes!AC266))))","v":""},{"$f":"IF(referentes!AB266=\"\",\"\",referentes!AB266)","v":""},null,null,null,{"$f":"TRIM(UPPER(CONCATENATE(referentes!AH262,\" \",referentes!AI262,\" \",referentes!AJ262,\" \",referentes!AK262,\" \",referentes!AF262)))","v":"DINOPHYCEAE"},{"$f":"referentes!AG262","v":0},null,null,null,null,null,null,null,null,null,null,"TETRASELMIS",null,null,"LINGULODINIUM POLYEDRUM"]
[null,null,null,null,null,null,null,null,null,null,null,null,null,null,null,{"$f":"IF(referentes!AC267=\"\",\"\",IF(referentes!AC267=referentes!AH267,CONCATENATE(referentes!AC267,\" \",\" \",\" \",\" \"),IF(referentes!AC267=referentes!AI267,CONCATENATE(referentes!AH267,\" \",referentes!AI267,\" \",\" \"),CONCATENATE(referentes!AH267,\" \",referentes!AI267,\" \",referentes!AC267))))","v":""},{"$f":"IF(referentes!AB267=\"\",\"\",referentes!AB267)","v":""},null,null,null,{"$f":"TRIM(UPPER(CONCATENATE(referentes!AH263,\" \",referentes!AI263,\" \",referentes!AJ263,\" \",referentes!AK263,\" \",referentes!AF263)))","v":"DINOPHYSIS"},{"$f":"referentes!AG263","v":0},null,null,null,null,null,null,null,null,null,null,"TETRAËDRON",null,null,"LIOLOMA ELONGATUM"]
[null,null,null,null,null,null,null,null,null,null,null,null,null,null,null,{"$f":"IF(referentes!AC268=\"\",\"\",IF(referentes!AC268=referentes!AH268,CONCATENATE(referentes!AC268,\" \",\" \",\" \",\" \"),IF(referentes!AC268=referentes!AI268,CONCATENATE(referentes!AH268,\" \",referentes!AI268,\" \",\" \"),CONCATENATE(referentes!AH268,\" \",referentes!AI268,\" \",referentes!AC268))))","v":""},{"$f":"IF(referentes!AB268=\"\",\"\",referentes!AB268)","v":""},null,null,null,{"$f":"TRIM(UPPER(CONCATENATE(referentes!AH264,\" \",referentes!AI264,\" \",referentes!AJ264,\" \",referentes!AK264,\" \",referentes!AF264)))","v":"DINOPHYSIS ACUMINATA"},{"$f":"referentes!AG264","v":0},null,null,null,null,null,null,null,null,null,null,"THALASSIONEMA",null,null,"LIOLOMA PACIFICUM"]
[null,null,null,null,null,null,null,null,null,null,null,null,null,null,null,{"$f":"IF(referentes!AC269=\"\",\"\",IF(referentes!AC269=referentes!AH269,CONCATENATE(referentes!AC269,\" \",\" \",\" \",\" \"),IF(referentes!AC269=referentes!AI269,CONCATENATE(referentes!AH269,\" \",referentes!AI269,\" \",\" \"),CONCATENATE(referentes!AH269,\" \",referentes!AI269,\" \",referentes!AC269))))","v":""},{"$f":"IF(referentes!AB269=\"\",\"\",referentes!AB269)","v":""},null,null,null,{"$f":"TRIM(UPPER(CONCATENATE(referentes!AH265,\" \",referentes!AI265,\" \",referentes!AJ265,\" \",referentes!AK265,\" \",referentes!AF265)))","v":"DINOPHYSIS AMANDULA"},{"$f":"referentes!AG265","v":0},null,null,null,null,null,null,null,null,null,null,"THALASSIOPHYSA",null,null,"LITHODESMIUM UNDULATUM"]
[null,null,null,null,null,null,null,null,null,null,null,null,null,null,null,{"$f":"IF(referentes!AC270=\"\",\"\",IF(referentes!AC270=referentes!AH270,CONCATENATE(referentes!AC270,\" \",\" \",\" \",\" \"),IF(referentes!AC270=referentes!AI270,CONCATENATE(referentes!AH270,\" \",referentes!AI270,\" \",\" \"),CONCATENATE(referentes!AH270,\" \",referentes!AI270,\" \",referentes!AC270))))","v":""},{"$f":"IF(referentes!AB270=\"\",\"\",referentes!AB270)","v":""},null,null,null,{"$f":"TRIM(UPPER(CONCATENATE(referentes!AH266,\" \",referentes!AI266,\" \",referentes!AJ266,\" \",referentes!AK266,\" \",referentes!AF266)))","v":"DINOPHYSIS APICATA"},{"$f":"referentes!AG266","v":0},null,null,null,null,null,null,null,null,null,null,"THALASSIOSIRA",null,null,"LYRELLA CLAVATA"]
[null,null,null,null,null,null,null,null,null,null,null,null,null,null,null,{"$f":"IF(referentes!AC271=\"\",\"\",IF(referentes!AC271=referentes!AH271,CONCATENATE(referentes!AC271,\" \",\" \",\" \",\" \"),IF(referentes!AC271=referentes!AI271,CONCATENATE(referentes!AH271,\" \",referentes!AI271,\" \",\" \"),CONCATENATE(referentes!AH271,\" \",referentes!AI271,\" \",referentes!AC271))))","v":""},{"$f":"IF(referentes!AB271=\"\",\"\",referentes!AB271)","v":""},null,null,null,{"$f":"TRIM(UPPER(CONCATENATE(referentes!AH267,\" \",referentes!AI267,\" \",referentes!AJ267,\" \",referentes!AK267,\" \",referentes!AF267)))","v":"DINOPHYSIS CAUDATA"},{"$f":"referentes!AG267","v":0},null,null,null,null,null,null,null,null,null,null,"THALASSIOTHRIX",null,null,"LYRELLA GENIFERA"]
[null,null,null,null,null,null,null,null,null,null,null,null,null,null,null,{"$f":"IF(referentes!AC272=\"\",\"\",IF(referentes!AC272=referentes!AH272,CONCATENATE(referentes!AC272,\" \",\" \",\" \",\" \"),IF(referentes!AC272=referentes!AI272,CONCATENATE(referentes!AH272,\" \",referentes!AI272,\" \",\" \"),CONCATENATE(referentes!AH272,\" \",referentes!AI272,\" \",referentes!AC272))))","v":""},{"$f":"IF(referentes!AB272=\"\",\"\",referentes!AB272)","v":""},null,null,null,{"$f":"TRIM(UPPER(CONCATENATE(referentes!AH268,\" \",referentes!AI268,\" \",referentes!AJ268,\" \",referentes!AK268,\" \",referentes!AF268)))","v":"DINOPHYSIS HASTATA"},{"$f":"referentes!AG268","v":0},null,null,null,null,null,null,null,null,null,null,"TORODINIUM",null,null,"LYRELLA HENNEDYI"]
[null,null,null,null,null,null,null,null,null,null,null,null,null,null,null,{"$f":"IF(referentes!AC273=\"\",\"\",IF(referentes!AC273=referentes!AH273,CONCATENATE(referentes!AC273,\" \",\" \",\" \",\" \"),IF(referentes!AC273=referentes!AI273,CONCATENATE(referentes!AH273,\" \",referentes!AI273,\" \",\" \"),CONCATENATE(referentes!AH273,\" \",referentes!AI273,\" \",referentes!AC273))))","v":""},{"$f":"IF(referentes!AB273=\"\",\"\",referentes!AB273)","v":""},null,null,null,{"$f":"TRIM(UPPER(CONCATENATE(referentes!AH269,\" \",referentes!AI269,\" \",referentes!AJ269,\" \",referentes!AK269,\" \",referentes!AF269)))","v":"DINOPHYSIS OKAMURAE"},{"$f":"referentes!AG269","v":0},null,null,null,null,null,null,null,null,null,null,"TOXARIUM",null,null,"LYRELLA LYRA"]
[null,null,null,null,null,null,null,null,null,null,null,null,null,null,null,{"$f":"IF(referentes!AC274=\"\",\"\",IF(referentes!AC274=referentes!AH274,CONCATENATE(referentes!AC274,\" \",\" \",\" \",\" \"),IF(referentes!AC274=referentes!AI274,CONCATENATE(referentes!AH274,\" \",referentes!AI274,\" \",\" \"),CONCATENATE(referentes!AH274,\" \",referentes!AI274,\" \",referentes!AC274))))","v":""},{"$f":"IF(referentes!AB274=\"\",\"\",referentes!AB274)","v":""},null,null,null,{"$f":"TRIM(UPPER(CONCATENATE(referentes!AH270,\" \",referentes!AI270,\" \",referentes!AJ270,\" \",referentes!AK270,\" \",referentes!AF270)))","v":"DINOPHYSIS OPERCULOIDES"},{"$f":"referentes!AG270","v":0},null,null,null,null,null,null,null,null,null,null,"TRACHELOMONAS",null,null,"MASTOGLOIA ANGULATA"]
[null,null,null,null,null,null,null,null,null,null,null,null,null,null,null,{"$f":"IF(referentes!AC275=\"\",\"\",IF(referentes!AC275=referentes!AH275,CONCATENATE(referentes!AC275,\" \",\" \",\" \",\" \"),IF(referentes!AC275=referentes!AI275,CONCATENATE(referentes!AH275,\" \",referentes!AI275,\" \",\" \"),CONCATENATE(referentes!AH275,\" \",referentes!AI275,\" \",referentes!AC275))))","v":""},{"$f":"IF(referentes!AB275=\"\",\"\",referentes!AB275)","v":""},null,null,null,{"$f":"TRIM(UPPER(CONCATENATE(referentes!AH271,\" \",referentes!AI271,\" \",referentes!AJ271,\" \",referentes!AK271,\" \",referentes!AF271)))","v":"DINOPHYSIS RECURVA"},{"$f":"referentes!AG271","v":0},null,null,null,null,null,null,null,null,null,null,"TRACHYNEIS",null,null,"MASTOGLOIA APICULATA"]
[null,null,null,null,null,null,null,null,null,null,null,null,null,null,null,{"$f":"IF(referentes!AC276=\"\",\"\",IF(referentes!AC276=referentes!AH276,CONCATENATE(referentes!AC276,\" \",\" \",\" \",\" \"),IF(referentes!AC276=referentes!AI276,CONCATENATE(referentes!AH276,\" \",referentes!AI276,\" \",\" \"),CONCATENATE(referentes!AH276,\" \",referentes!AI276,\" \",referentes!AC276))))","v":""},{"$f":"IF(referentes!AB276=\"\",\"\",referentes!AB276)","v":""},null,null,null,{"$f":"TRIM(UPPER(CONCATENATE(referentes!AH272,\" \",referentes!AI272,\" \",referentes!AJ272,\" \",referentes!AK272,\" \",referentes!AF272)))","v":"DINOPHYSIS SCHUETTII"},{"$f":"referentes!AG272","v":0},null,null,null,null,null,null,null,null,null,null,"TREBOUXIA",null,null,"MASTOGLOIA CRIBROSA"]
[null,null,null,null,null,null,null,null,null,null,null,null,null,null,null,{"$f":"IF(referentes!AC277=\"\",\"\",IF(referentes!AC277=referentes!AH277,CONCATENATE(referentes!AC277,\" \",\" \",\" \",\" \"),IF(referentes!AC277=referentes!AI277,CONCATENATE(referentes!AH277,\" \",referentes!AI277,\" \",\" \"),CONCATENATE(referentes!AH277,\" \",referentes!AI277,\" \",referentes!AC277))))","v":""},{"$f":"IF(referentes!AB277=\"\",\"\",referentes!AB277)","v":""},null,null,null,{"$f":"TRIM(UPPER(CONCATENATE(referentes!AH273,\" \",referentes!AI273,\" \",referentes!AJ273,\" \",referentes!AK273,\" \",referentes!AF273)))","v":"DINOPHYSIS TRIPOS"},{"$f":"referentes!AG273","v":0},null,null,null,null,null,null,null,null,null,null,"TRICERATIUM",null,null,"MASTOGLOIA ERYTHRAEA"]
[null,null,null,null,null,null,null,null,null,null,null,null,null,null,null,{"$f":"IF(referentes!AC278=\"\",\"\",IF(referentes!AC278=referentes!AH278,CONCATENATE(referentes!AC278,\" \",\" \",\" \",\" \"),IF(referentes!AC278=referentes!AI278,CONCATENATE(referentes!AH278,\" \",referentes!AI278,\" \",\" \"),CONCATENATE(referentes!AH278,\" \",referentes!AI278,\" \",referentes!AC278))))","v":""},{"$f":"IF(referentes!AB278=\"\",\"\",referentes!AB278)","v":""},null,null,null,{"$f":"TRIM(UPPER(CONCATENATE(referentes!AH274,\" \",referentes!AI274,\" \",referentes!AJ274,\" \",referentes!AK274,\" \",referentes!AF274)))","v":"DIPLONEIS"},{"$f":"referentes!AG274","v":0},null,null,null,null,null,null,null,null,null,null,"TRICHODESMIUM",null,null,"MASTOGLOIA FIMBRIATA"]
[null,null,null,null,null,null,null,null,null,null,null,null,null,null,null,{"$f":"IF(referentes!AC279=\"\",\"\",IF(referentes!AC279=referentes!AH279,CONCATENATE(referentes!AC279,\" \",\" \",\" \",\" \"),IF(referentes!AC279=referentes!AI279,CONCATENATE(referentes!AH279,\" \",referentes!AI279,\" \",\" \"),CONCATENATE(referentes!AH279,\" \",referentes!AI279,\" \",referentes!AC279))))","v":""},{"$f":"IF(referentes!AB279=\"\",\"\",referentes!AB279)","v":""},null,null,null,{"$f":"TRIM(UPPER(CONCATENATE(referentes!AH275,\" \",referentes!AI275,\" \",referentes!AJ275,\" \",referentes!AK275,\" \",referentes!AF275)))","v":"DIPLONEIS BOMBUS"},{"$f":"referentes!AG275","v":0},null,null,null,null,null,null,null,null,null,null,"TRIGONIUM",null,null,"MASTOGLOIA PUNCTATISSIMA"]
[null,null,null,null,null,null,null,null,null,null,null,null,null,null,null,{"$f":"IF(referentes!AC280=\"\",\"\",IF(referentes!AC280=referentes!AH280,CONCATENATE(referentes!AC280,\" \",\" \",\" \",\" \"),IF(referentes!AC280=referentes!AI280,CONCATENATE(referentes!AH280,\" \",referentes!AI280,\" \",\" \"),CONCATENATE(referentes!AH280,\" \",referentes!AI280,\" \",referentes!AC280))))","v":""},{"$f":"IF(referentes!AB280=\"\",\"\",referentes!AB280)","v":""},null,null,null,{"$f":"TRIM(UPPER(CONCATENATE(referentes!AH276,\" \",referentes!AI276,\" \",referentes!AJ276,\" \",referentes!AK276,\" \",referentes!AF276)))","v":"DIPLONEIS CHERSONENSIS"},{"$f":"referentes!AG276","v":0},null,null,null,null,null,null,null,null,null,null,"TRIPOS",null,null,"MASTOGLOIA PUSILLA"]
[null,null,null,null,null,null,null,null,null,null,null,null,null,null,null,{"$f":"IF(referentes!AC281=\"\",\"\",IF(referentes!AC281=referentes!AH281,CONCATENATE(referentes!AC281,\" \",\" \",\" \",\" \"),IF(referentes!AC281=referentes!AI281,CONCATENATE(referentes!AH281,\" \",referentes!AI281,\" \",\" \"),CONCATENATE(referentes!AH281,\" \",referentes!AI281,\" \",referentes!AC281))))","v":""},{"$f":"IF(referentes!AB281=\"\",\"\",referentes!AB281)","v":""},null,null,null,{"$f":"TRIM(UPPER(CONCATENATE(referentes!AH277,\" \",referentes!AI277,\" \",referentes!AJ277,\" \",referentes!AK277,\" \",referentes!AF277)))","v":"DIPLONEIS CRABRO"},{"$f":"referentes!AG277","v":0},null,null,null,null,null,null,null,null,null,null,"TRYBLIONELLA",null,null,"MASTOGLOIA SMITHII"]
[null,null,null,null,null,null,null,null,null,null,null,null,null,null,null,{"$f":"IF(referentes!AC282=\"\",\"\",IF(referentes!AC282=referentes!AH282,CONCATENATE(referentes!AC282,\" \",\" \",\" \",\" \"),IF(referentes!AC282=referentes!AI282,CONCATENATE(referentes!AH282,\" \",referentes!AI282,\" \",\" \"),CONCATENATE(referentes!AH282,\" \",referentes!AI282,\" \",referentes!AC282))))","v":""},{"$f":"IF(referentes!AB282=\"\",\"\",referentes!AB282)","v":""},null,null,null,{"$f":"TRIM(UPPER(CONCATENATE(referentes!AH278,\" \",referentes!AI278,\" \",referentes!AJ278,\" \",referentes!AK278,\" \",referentes!AF278)))","v":"DIPLONEIS NOTABILIS"},{"$f":"referentes!AG278","v":0},null,null,null,null,null,null,null,null,null,null,"TYCHONEMA",null,null,"MELOSIRA MONILIFORMIS"]
[null,null,null,null,null,null,null,null,null,null,null,null,null,null,null,{"$f":"IF(referentes!AC283=\"\",\"\",IF(referentes!AC283=referentes!AH283,CONCATENATE(referentes!AC283,\" \",\" \",\" \",\" \"),IF(referentes!AC283=referentes!AI283,CONCATENATE(referentes!AH283,\" \",referentes!AI283,\" \",\" \"),CONCATENATE(referentes!AH283,\" \",referentes!AI283,\" \",referentes!AC283))))","v":""},{"$f":"IF(referentes!AB283=\"\",\"\",referentes!AB283)","v":""},null,null,null,{"$f":"TRIM(UPPER(CONCATENATE(referentes!AH279,\" \",referentes!AI279,\" \",referentes!AJ279,\" \",referentes!AK279,\" \",referentes!AF279)))","v":"DIPLONEIS SMITHII"},{"$f":"referentes!AG279","v":0},null,null,null,null,null,null,null,null,null,null,"ULOTHRIX",null,null,"MELOSIRA NUMMULOIDES"]
[null,null,null,null,null,null,null,null,null,null,null,null,null,null,null,{"$f":"IF(referentes!AC284=\"\",\"\",IF(referentes!AC284=referentes!AH284,CONCATENATE(referentes!AC284,\" \",\" \",\" \",\" \"),IF(referentes!AC284=referentes!AI284,CONCATENATE(referentes!AH284,\" \",referentes!AI284,\" \",\" \"),CONCATENATE(referentes!AH284,\" \",referentes!AI284,\" \",referentes!AC284))))","v":""},{"$f":"IF(referentes!AB284=\"\",\"\",referentes!AB284)","v":""},null,null,null,{"$f":"TRIM(UPPER(CONCATENATE(referentes!AH280,\" \",referentes!AI280,\" \",referentes!AJ280,\" \",referentes!AK280,\" \",referentes!AF280)))","v":"DIPLONEIS SUBADVENA"},{"$f":"referentes!AG280","v":0},null,null,null,null,null,null,null,null,null,null,null,null,null,"MELOSIRA PSEUDOGRANULATA"]
[null,null,null,null,null,null,null,null,null,null,null,null,null,null,null,{"$f":"IF(referentes!AC285=\"\",\"\",IF(referentes!AC285=referentes!AH285,CONCATENATE(referentes!AC285,\" \",\" \",\" \",\" \"),IF(referentes!AC285=referentes!AI285,CONCATENATE(referentes!AH285,\" \",referentes!AI285,\" \",\" \"),CONCATENATE(referentes!AH285,\" \",referentes!AI285,\" \",referentes!AC285))))","v":""},{"$f":"IF(referentes!AB285=\"\",\"\",referentes!AB285)","v":""},null,null,null,{"$f":"TRIM(UPPER(CONCATENATE(referentes!AH281,\" \",referentes!AI281,\" \",referentes!AJ281,\" \",referentes!AK281,\" \",referentes!AF281)))","v":"DIPLOPELTA"},{"$f":"referentes!AG281","v":0},null,null,null,null,null,null,null,null,null,null,null,null,null,"MEUNIERA MEMBRANACEA"]
[null,null,null,null,null,null,null,null,null,null,null,null,null,null,null,{"$f":"IF(referentes!AC286=\"\",\"\",IF(referentes!AC286=referentes!AH286,CONCATENATE(referentes!AC286,\" \",\" \",\" \",\" \"),IF(referentes!AC286=referentes!AI286,CONCATENATE(referentes!AH286,\" \",referentes!AI286,\" \",\" \"),CONCATENATE(referentes!AH286,\" \",referentes!AI286,\" \",referentes!AC286))))","v":""},{"$f":"IF(referentes!AB286=\"\",\"\",referentes!AB286)","v":""},null,null,null,{"$f":"TRIM(UPPER(CONCATENATE(referentes!AH282,\" \",referentes!AI282,\" \",referentes!AJ282,\" \",referentes!AK282,\" \",referentes!AF282)))","v":"DIPLOPELTA BOMBA"},{"$f":"referentes!AG282","v":0},null,null,null,null,null,null,null,null,null,null,null,null,null,"NAVICULA ABUNDA"]
[null,null,null,null,null,null,null,null,null,null,null,null,null,null,null,{"$f":"IF(referentes!AC287=\"\",\"\",IF(referentes!AC287=referentes!AH287,CONCATENATE(referentes!AC287,\" \",\" \",\" \",\" \"),IF(referentes!AC287=referentes!AI287,CONCATENATE(referentes!AH287,\" \",referentes!AI287,\" \",\" \"),CONCATENATE(referentes!AH287,\" \",referentes!AI287,\" \",referentes!AC287))))","v":""},{"$f":"IF(referentes!AB287=\"\",\"\",referentes!AB287)","v":""},null,null,null,{"$f":"TRIM(UPPER(CONCATENATE(referentes!AH283,\" \",referentes!AI283,\" \",referentes!AJ283,\" \",referentes!AK283,\" \",referentes!AF283)))","v":"DIPLOPELTA GLOBULA"},{"$f":"referentes!AG283","v":0},null,null,null,null,null,null,null,null,null,null,null,null,null,"NAVICULA BRASILIENSIS"]
[null,null,null,null,null,null,null,null,null,null,null,null,null,null,null,{"$f":"IF(referentes!AC288=\"\",\"\",IF(referentes!AC288=referentes!AH288,CONCATENATE(referentes!AC288,\" \",\" \",\" \",\" \"),IF(referentes!AC288=referentes!AI288,CONCATENATE(referentes!AH288,\" \",referentes!AI288,\" \",\" \"),CONCATENATE(referentes!AH288,\" \",referentes!AI288,\" \",referentes!AC288))))","v":""},{"$f":"IF(referentes!AB288=\"\",\"\",referentes!AB288)","v":""},null,null,null,{"$f":"TRIM(UPPER(CONCATENATE(referentes!AH284,\" \",referentes!AI284,\" \",referentes!AJ284,\" \",referentes!AK284,\" \",referentes!AF284)))","v":"DIPLOPSALIS"},{"$f":"referentes!AG284","v":0},null,null,null,null,null,null,null,null,null,null,null,null,null,"NAVICULA CANCELLATA"]
[null,null,null,null,null,null,null,null,null,null,null,null,null,null,null,{"$f":"IF(referentes!AC289=\"\",\"\",IF(referentes!AC289=referentes!AH289,CONCATENATE(referentes!AC289,\" \",\" \",\" \",\" \"),IF(referentes!AC289=referentes!AI289,CONCATENATE(referentes!AH289,\" \",referentes!AI289,\" \",\" \"),CONCATENATE(referentes!AH289,\" \",referentes!AI289,\" \",referentes!AC289))))","v":""},{"$f":"IF(referentes!AB289=\"\",\"\",referentes!AB289)","v":""},null,null,null,{"$f":"TRIM(UPPER(CONCATENATE(referentes!AH285,\" \",referentes!AI285,\" \",referentes!AJ285,\" \",referentes!AK285,\" \",referentes!AF285)))","v":"DIPLOPSALIS ORBICULARIS"},{"$f":"referentes!AG285","v":0},null,null,null,null,null,null,null,null,null,null,null,null,null,"NAVICULA DELICATULA"]
[null,null,null,null,null,null,null,null,null,null,null,null,null,null,null,{"$f":"IF(referentes!AC290=\"\",\"\",IF(referentes!AC290=referentes!AH290,CONCATENATE(referentes!AC290,\" \",\" \",\" \",\" \"),IF(referentes!AC290=referentes!AI290,CONCATENATE(referentes!AH290,\" \",referentes!AI290,\" \",\" \"),CONCATENATE(referentes!AH290,\" \",referentes!AI290,\" \",referentes!AC290))))","v":""},{"$f":"IF(referentes!AB290=\"\",\"\",referentes!AB290)","v":""},null,null,null,{"$f":"TRIM(UPPER(CONCATENATE(referentes!AH286,\" \",referentes!AI286,\" \",referentes!AJ286,\" \",referentes!AK286,\" \",referentes!AF286)))","v":"DISCOSTELLA"},{"$f":"referentes!AG286","v":0},null,null,null,null,null,null,null,null,null,null,null,null,null,"NAVICULA DIGITO-RADIATA"]
[null,null,null,null,null,null,null,null,null,null,null,null,null,null,null,{"$f":"IF(referentes!AC291=\"\",\"\",IF(referentes!AC291=referentes!AH291,CONCATENATE(referentes!AC291,\" \",\" \",\" \",\" \"),IF(referentes!AC291=referentes!AI291,CONCATENATE(referentes!AH291,\" \",referentes!AI291,\" \",\" \"),CONCATENATE(referentes!AH291,\" \",referentes!AI291,\" \",referentes!AC291))))","v":""},{"$f":"IF(referentes!AB291=\"\",\"\",referentes!AB291)","v":""},null,null,null,{"$f":"TRIM(UPPER(CONCATENATE(referentes!AH287,\" \",referentes!AI287,\" \",referentes!AJ287,\" \",referentes!AK287,\" \",referentes!AF287)))","v":"DISCOSTELLA GLOMERATA"},{"$f":"referentes!AG287","v":0},null,null,null,null,null,null,null,null,null,null,null,null,null,"NAVICULA DIRECTA"]
[null,null,null,null,null,null,null,null,null,null,null,null,null,null,null,{"$f":"IF(referentes!AC292=\"\",\"\",IF(referentes!AC292=referentes!AH292,CONCATENATE(referentes!AC292,\" \",\" \",\" \",\" \"),IF(referentes!AC292=referentes!AI292,CONCATENATE(referentes!AH292,\" \",referentes!AI292,\" \",\" \"),CONCATENATE(referentes!AH292,\" \",referentes!AI292,\" \",referentes!AC292))))","v":""},{"$f":"IF(referentes!AB292=\"\",\"\",referentes!AB292)","v":""},null,null,null,{"$f":"TRIM(UPPER(CONCATENATE(referentes!AH288,\" \",referentes!AI288,\" \",referentes!AJ288,\" \",referentes!AK288,\" \",referentes!AF288)))","v":"DISSODIUM"},{"$f":"referentes!AG288","v":0},null,null,null,null,null,null,null,null,null,null,null,null,null,"NAVICULA RADIOSA"]
[null,null,null,null,null,null,null,null,null,null,null,null,null,null,null,{"$f":"IF(referentes!AC293=\"\",\"\",IF(referentes!AC293=referentes!AH293,CONCATENATE(referentes!AC293,\" \",\" \",\" \",\" \"),IF(referentes!AC293=referentes!AI293,CONCATENATE(referentes!AH293,\" \",referentes!AI293,\" \",\" \"),CONCATENATE(referentes!AH293,\" \",referentes!AI293,\" \",referentes!AC293))))","v":""},{"$f":"IF(referentes!AB293=\"\",\"\",referentes!AB293)","v":""},null,null,null,{"$f":"TRIM(UPPER(CONCATENATE(referentes!AH289,\" \",referentes!AI289,\" \",referentes!AJ289,\" \",referentes!AK289,\" \",referentes!AF289)))","v":"DISSODIUM ASYMMETRICUM"},{"$f":"referentes!AG289","v":0},null,null,null,null,null,null,null,null,null,null,null,null,null,"NAVICULA TERSA"]
[null,null,null,null,null,null,null,null,null,null,null,null,null,null,null,{"$f":"IF(referentes!AC294=\"\",\"\",IF(referentes!AC294=referentes!AH294,CONCATENATE(referentes!AC294,\" \",\" \",\" \",\" \"),IF(referentes!AC294=referentes!AI294,CONCATENATE(referentes!AH294,\" \",referentes!AI294,\" \",\" \"),CONCATENATE(referentes!AH294,\" \",referentes!AI294,\" \",referentes!AC294))))","v":""},{"$f":"IF(referentes!AB294=\"\",\"\",referentes!AB294)","v":""},null,null,null,{"$f":"TRIM(UPPER(CONCATENATE(referentes!AH290,\" \",referentes!AI290,\" \",referentes!AJ290,\" \",referentes!AK290,\" \",referentes!AF290)))","v":"DITYLUM"},{"$f":"referentes!AG290","v":0},null,null,null,null,null,null,null,null,null,null,null,null,null,"NAVICULA UNISERIATA"]
[null,null,null,null,null,null,null,null,null,null,null,null,null,null,null,{"$f":"IF(referentes!AC295=\"\",\"\",IF(referentes!AC295=referentes!AH295,CONCATENATE(referentes!AC295,\" \",\" \",\" \",\" \"),IF(referentes!AC295=referentes!AI295,CONCATENATE(referentes!AH295,\" \",referentes!AI295,\" \",\" \"),CONCATENATE(referentes!AH295,\" \",referentes!AI295,\" \",referentes!AC295))))","v":""},{"$f":"IF(referentes!AB295=\"\",\"\",referentes!AB295)","v":""},null,null,null,{"$f":"TRIM(UPPER(CONCATENATE(referentes!AH291,\" \",referentes!AI291,\" \",referentes!AJ291,\" \",referentes!AK291,\" \",referentes!AF291)))","v":"DITYLUM BRIGHTWELLII"},{"$f":"referentes!AG291","v":0},null,null,null,null,null,null,null,null,null,null,null,null,null,"NEOCALYPTRELLA ROBUSTA"]
[null,null,null,null,null,null,null,null,null,null,null,null,null,null,null,{"$f":"IF(referentes!AC296=\"\",\"\",IF(referentes!AC296=referentes!AH296,CONCATENATE(referentes!AC296,\" \",\" \",\" \",\" \"),IF(referentes!AC296=referentes!AI296,CONCATENATE(referentes!AH296,\" \",referentes!AI296,\" \",\" \"),CONCATENATE(referentes!AH296,\" \",referentes!AI296,\" \",referentes!AC296))))","v":""},{"$f":"IF(referentes!AB296=\"\",\"\",referentes!AB296)","v":""},null,null,null,{"$f":"TRIM(UPPER(CONCATENATE(referentes!AH292,\" \",referentes!AI292,\" \",referentes!AJ292,\" \",referentes!AK292,\" \",referentes!AF292)))","v":"DITYLUM SOL"},{"$f":"referentes!AG292","v":0},null,null,null,null,null,null,null,null,null,null,null,null,null,"NEOCERATIUM ARIETINUM"]
[null,null,null,null,null,null,null,null,null,null,null,null,null,null,null,{"$f":"IF(referentes!AC297=\"\",\"\",IF(referentes!AC297=referentes!AH297,CONCATENATE(referentes!AC297,\" \",\" \",\" \",\" \"),IF(referentes!AC297=referentes!AI297,CONCATENATE(referentes!AH297,\" \",referentes!AI297,\" \",\" \"),CONCATENATE(referentes!AH297,\" \",referentes!AI297,\" \",referentes!AC297))))","v":""},{"$f":"IF(referentes!AB297=\"\",\"\",referentes!AB297)","v":""},null,null,null,{"$f":"TRIM(UPPER(CONCATENATE(referentes!AH293,\" \",referentes!AI293,\" \",referentes!AJ293,\" \",referentes!AK293,\" \",referentes!AF293)))","v":"DONKINIA"},{"$f":"referentes!AG293","v":0},null,null,null,null,null,null,null,null,null,null,null,null,null,"NEOCERATIUM AZORICUM"]
[null,null,null,null,null,null,null,null,null,null,null,null,null,null,null,{"$f":"IF(referentes!AC298=\"\",\"\",IF(referentes!AC298=referentes!AH298,CONCATENATE(referentes!AC298,\" \",\" \",\" \",\" \"),IF(referentes!AC298=referentes!AI298,CONCATENATE(referentes!AH298,\" \",referentes!AI298,\" \",\" \"),CONCATENATE(referentes!AH298,\" \",referentes!AI298,\" \",referentes!AC298))))","v":""},{"$f":"IF(referentes!AB298=\"\",\"\",referentes!AB298)","v":""},null,null,null,{"$f":"TRIM(UPPER(CONCATENATE(referentes!AH294,\" \",referentes!AI294,\" \",referentes!AJ294,\" \",referentes!AK294,\" \",referentes!AF294)))","v":"EBRIA"},{"$f":"referentes!AG294","v":0},null,null,null,null,null,null,null,null,null,null,null,null,null,"NEOCERATIUM BELONE"]
[null,null,null,null,null,null,null,null,null,null,null,null,null,null,null,{"$f":"IF(referentes!AC299=\"\",\"\",IF(referentes!AC299=referentes!AH299,CONCATENATE(referentes!AC299,\" \",\" \",\" \",\" \"),IF(referentes!AC299=referentes!AI299,CONCATENATE(referentes!AH299,\" \",referentes!AI299,\" \",\" \"),CONCATENATE(referentes!AH299,\" \",referentes!AI299,\" \",referentes!AC299))))","v":""},{"$f":"IF(referentes!AB299=\"\",\"\",referentes!AB299)","v":""},null,null,null,{"$f":"TRIM(UPPER(CONCATENATE(referentes!AH295,\" \",referentes!AI295,\" \",referentes!AJ295,\" \",referentes!AK295,\" \",referentes!AF295)))","v":"EMILIANIA"},{"$f":"referentes!AG295","v":0},null,null,null,null,null,null,null,null,null,null,null,null,null,"NEOCERATIUM BIGELOWII"]
[null,null,null,null,null,null,null,null,null,null,null,null,null,null,null,{"$f":"IF(referentes!AC300=\"\",\"\",IF(referentes!AC300=referentes!AH300,CONCATENATE(referentes!AC300,\" \",\" \",\" \",\" \"),IF(referentes!AC300=referentes!AI300,CONCATENATE(referentes!AH300,\" \",referentes!AI300,\" \",\" \"),CONCATENATE(referentes!AH300,\" \",referentes!AI300,\" \",referentes!AC300))))","v":""},{"$f":"IF(referentes!AB300=\"\",\"\",referentes!AB300)","v":""},null,null,null,{"$f":"TRIM(UPPER(CONCATENATE(referentes!AH296,\" \",referentes!AI296,\" \",referentes!AJ296,\" \",referentes!AK296,\" \",referentes!AF296)))","v":"EMILIANIA HUXLEYI"},{"$f":"referentes!AG296","v":0},null,null,null,null,null,null,null,null,null,null,null,null,null,"NEOCERATIUM BREVE"]
[null,null,null,null,null,null,null,null,null,null,null,null,null,null,null,{"$f":"IF(referentes!AC301=\"\",\"\",IF(referentes!AC301=referentes!AH301,CONCATENATE(referentes!AC301,\" \",\" \",\" \",\" \"),IF(referentes!AC301=referentes!AI301,CONCATENATE(referentes!AH301,\" \",referentes!AI301,\" \",\" \"),CONCATENATE(referentes!AH301,\" \",referentes!AI301,\" \",referentes!AC301))))","v":""},{"$f":"IF(referentes!AB301=\"\",\"\",referentes!AB301)","v":""},null,null,null,{"$f":"TRIM(UPPER(CONCATENATE(referentes!AH297,\" \",referentes!AI297,\" \",referentes!AJ297,\" \",referentes!AK297,\" \",referentes!AF297)))","v":"ENCYONEMA"},{"$f":"referentes!AG297","v":0},null,null,null,null,null,null,null,null,null,null,null,null,null,"NEOCERATIUM CANDELABRUM"]
[null,null,null,null,null,null,null,null,null,null,null,null,null,null,null,{"$f":"IF(referentes!AC302=\"\",\"\",IF(referentes!AC302=referentes!AH302,CONCATENATE(referentes!AC302,\" \",\" \",\" \",\" \"),IF(referentes!AC302=referentes!AI302,CONCATENATE(referentes!AH302,\" \",referentes!AI302,\" \",\" \"),CONCATENATE(referentes!AH302,\" \",referentes!AI302,\" \",referentes!AC302))))","v":""},{"$f":"IF(referentes!AB302=\"\",\"\",referentes!AB302)","v":""},null,null,null,{"$f":"TRIM(UPPER(CONCATENATE(referentes!AH298,\" \",referentes!AI298,\" \",referentes!AJ298,\" \",referentes!AK298,\" \",referentes!AF298)))","v":"ENDICTYA"},{"$f":"referentes!AG298","v":0},null,null,null,null,null,null,null,null,null,null,null,null,null,"NEOCERATIUM CARNEGIEI"]
[null,null,null,null,null,null,null,null,null,null,null,null,null,null,null,{"$f":"IF(referentes!AC303=\"\",\"\",IF(referentes!AC303=referentes!AH303,CONCATENATE(referentes!AC303,\" \",\" \",\" \",\" \"),IF(referentes!AC303=referentes!AI303,CONCATENATE(referentes!AH303,\" \",referentes!AI303,\" \",\" \"),CONCATENATE(referentes!AH303,\" \",referentes!AI303,\" \",referentes!AC303))))","v":""},{"$f":"IF(referentes!AB303=\"\",\"\",referentes!AB303)","v":""},null,null,null,{"$f":"TRIM(UPPER(CONCATENATE(referentes!AH299,\" \",referentes!AI299,\" \",referentes!AJ299,\" \",referentes!AK299,\" \",referentes!AF299)))","v":"ENDICTYA OCEANICA"},{"$f":"referentes!AG299","v":0},null,null,null,null,null,null,null,null,null,null,null,null,null,"NEOCERATIUM CARRIENSE"]
[null,null,null,null,null,null,null,null,null,null,null,null,null,null,null,{"$f":"IF(referentes!AC304=\"\",\"\",IF(referentes!AC304=referentes!AH304,CONCATENATE(referentes!AC304,\" \",\" \",\" \",\" \"),IF(referentes!AC304=referentes!AI304,CONCATENATE(referentes!AH304,\" \",referentes!AI304,\" \",\" \"),CONCATENATE(referentes!AH304,\" \",referentes!AI304,\" \",referentes!AC304))))","v":""},{"$f":"IF(referentes!AB304=\"\",\"\",referentes!AB304)","v":""},null,null,null,{"$f":"TRIM(UPPER(CONCATENATE(referentes!AH300,\" \",referentes!AI300,\" \",referentes!AJ300,\" \",referentes!AK300,\" \",referentes!AF300)))","v":"ENTOMONEIS"},{"$f":"referentes!AG300","v":0},null,null,null,null,null,null,null,null,null,null,null,null,null,"NEOCERATIUM CONCILIANS"]
[null,null,null,null,null,null,null,null,null,null,null,null,null,null,null,{"$f":"IF(referentes!AC305=\"\",\"\",IF(referentes!AC305=referentes!AH305,CONCATENATE(referentes!AC305,\" \",\" \",\" \",\" \"),IF(referentes!AC305=referentes!AI305,CONCATENATE(referentes!AH305,\" \",referentes!AI305,\" \",\" \"),CONCATENATE(referentes!AH305,\" \",referentes!AI305,\" \",referentes!AC305))))","v":""},{"$f":"IF(referentes!AB305=\"\",\"\",referentes!AB305)","v":""},null,null,null,{"$f":"TRIM(UPPER(CONCATENATE(referentes!AH301,\" \",referentes!AI301,\" \",referentes!AJ301,\" \",referentes!AK301,\" \",referentes!AF301)))","v":"ENTOMONEIS ALATA"},{"$f":"referentes!AG301","v":0},null,null,null,null,null,null,null,null,null,null,null,null,null,"NEOCERATIUM CONTORTUM"]
[null,null,null,null,null,null,null,null,null,null,null,null,null,null,null,{"$f":"IF(referentes!AC306=\"\",\"\",IF(referentes!AC306=referentes!AH306,CONCATENATE(referentes!AC306,\" \",\" \",\" \",\" \"),IF(referentes!AC306=referentes!AI306,CONCATENATE(referentes!AH306,\" \",referentes!AI306,\" \",\" \"),CONCATENATE(referentes!AH306,\" \",referentes!AI306,\" \",referentes!AC306))))","v":""},{"$f":"IF(referentes!AB306=\"\",\"\",referentes!AB306)","v":""},null,null,null,{"$f":"TRIM(UPPER(CONCATENATE(referentes!AH302,\" \",referentes!AI302,\" \",referentes!AJ302,\" \",referentes!AK302,\" \",referentes!AF302)))","v":"ENTOMONEIS GIGANTEA"},{"$f":"referentes!AG302","v":0},null,null,null,null,null,null,null,null,null,null,null,null,null,"NEOCERATIUM CONTRARIUM"]
[null,null,null,null,null,null,null,null,null,null,null,null,null,null,null,{"$f":"IF(referentes!AC307=\"\",\"\",IF(referentes!AC307=referentes!AH307,CONCATENATE(referentes!AC307,\" \",\" \",\" \",\" \"),IF(referentes!AC307=referentes!AI307,CONCATENATE(referentes!AH307,\" \",referentes!AI307,\" \",\" \"),CONCATENATE(referentes!AH307,\" \",referentes!AI307,\" \",referentes!AC307))))","v":""},{"$f":"IF(referentes!AB307=\"\",\"\",referentes!AB307)","v":""},null,null,null,{"$f":"TRIM(UPPER(CONCATENATE(referentes!AH303,\" \",referentes!AI303,\" \",referentes!AJ303,\" \",referentes!AK303,\" \",referentes!AF303)))","v":"EUCAMPIA"},{"$f":"referentes!AG303","v":0},null,null,null,null,null,null,null,null,null,null,null,null,null,"NEOCERATIUM DECLINATUM"]
[null,null,null,null,null,null,null,null,null,null,null,null,null,null,null,{"$f":"IF(referentes!AC308=\"\",\"\",IF(referentes!AC308=referentes!AH308,CONCATENATE(referentes!AC308,\" \",\" \",\" \",\" \"),IF(referentes!AC308=referentes!AI308,CONCATENATE(referentes!AH308,\" \",referentes!AI308,\" \",\" \"),CONCATENATE(referentes!AH308,\" \",referentes!AI308,\" \",referentes!AC308))))","v":""},{"$f":"IF(referentes!AB308=\"\",\"\",referentes!AB308)","v":""},null,null,null,{"$f":"TRIM(UPPER(CONCATENATE(referentes!AH304,\" \",referentes!AI304,\" \",referentes!AJ304,\" \",referentes!AK304,\" \",referentes!AF304)))","v":"EUCAMPIA CORNUTA"},{"$f":"referentes!AG304","v":0},null,null,null,null,null,null,null,null,null,null,null,null,null,"NEOCERATIUM DEFLEXUM"]
[null,null,null,null,null,null,null,null,null,null,null,null,null,null,null,{"$f":"IF(referentes!AC309=\"\",\"\",IF(referentes!AC309=referentes!AH309,CONCATENATE(referentes!AC309,\" \",\" \",\" \",\" \"),IF(referentes!AC309=referentes!AI309,CONCATENATE(referentes!AH309,\" \",referentes!AI309,\" \",\" \"),CONCATENATE(referentes!AH309,\" \",referentes!AI309,\" \",referentes!AC309))))","v":""},{"$f":"IF(referentes!AB309=\"\",\"\",referentes!AB309)","v":""},null,null,null,{"$f":"TRIM(UPPER(CONCATENATE(referentes!AH305,\" \",referentes!AI305,\" \",referentes!AJ305,\" \",referentes!AK305,\" \",referentes!AF305)))","v":"EUCAMPIA GROENLANDICA"},{"$f":"referentes!AG305","v":0},null,null,null,null,null,null,null,null,null,null,null,null,null,"NEOCERATIUM DENS"]
[null,null,null,null,null,null,null,null,null,null,null,null,null,null,null,{"$f":"IF(referentes!AC310=\"\",\"\",IF(referentes!AC310=referentes!AH310,CONCATENATE(referentes!AC310,\" \",\" \",\" \",\" \"),IF(referentes!AC310=referentes!AI310,CONCATENATE(referentes!AH310,\" \",referentes!AI310,\" \",\" \"),CONCATENATE(referentes!AH310,\" \",referentes!AI310,\" \",referentes!AC310))))","v":""},{"$f":"IF(referentes!AB310=\"\",\"\",referentes!AB310)","v":""},null,null,null,{"$f":"TRIM(UPPER(CONCATENATE(referentes!AH306,\" \",referentes!AI306,\" \",referentes!AJ306,\" \",referentes!AK306,\" \",referentes!AF306)))","v":"EUCAMPIA ZODIACUS"},{"$f":"referentes!AG306","v":0},null,null,null,null,null,null,null,null,null,null,null,null,null,"NEOCERATIUM DIGITATUM"]
[null,null,null,null,null,null,null,null,null,null,null,null,null,null,null,{"$f":"IF(referentes!AC311=\"\",\"\",IF(referentes!AC311=referentes!AH311,CONCATENATE(referentes!AC311,\" \",\" \",\" \",\" \"),IF(referentes!AC311=referentes!AI311,CONCATENATE(referentes!AH311,\" \",referentes!AI311,\" \",\" \"),CONCATENATE(referentes!AH311,\" \",referentes!AI311,\" \",referentes!AC311))))","v":""},{"$f":"IF(referentes!AB311=\"\",\"\",referentes!AB311)","v":""},null,null,null,{"$f":"TRIM(UPPER(CONCATENATE(referentes!AH307,\" \",referentes!AI307,\" \",referentes!AJ307,\" \",referentes!AK307,\" \",referentes!AF307)))","v":"EUCAPSIS"},{"$f":"referentes!AG307","v":0},null,null,null,null,null,null,null,null,null,null,null,null,null,"NEOCERATIUM EUARCUATUM"]
[null,null,null,null,null,null,null,null,null,null,null,null,null,null,null,{"$f":"IF(referentes!AC312=\"\",\"\",IF(referentes!AC312=referentes!AH312,CONCATENATE(referentes!AC312,\" \",\" \",\" \",\" \"),IF(referentes!AC312=referentes!AI312,CONCATENATE(referentes!AH312,\" \",referentes!AI312,\" \",\" \"),CONCATENATE(referentes!AH312,\" \",referentes!AI312,\" \",referentes!AC312))))","v":""},{"$f":"IF(referentes!AB312=\"\",\"\",referentes!AB312)","v":""},null,null,null,{"$f":"TRIM(UPPER(CONCATENATE(referentes!AH308,\" \",referentes!AI308,\" \",referentes!AJ308,\" \",referentes!AK308,\" \",referentes!AF308)))","v":"EUDORINA"},{"$f":"referentes!AG308","v":0},null,null,null,null,null,null,null,null,null,null,null,null,null,"NEOCERATIUM EXTENSUM"]
[null,null,null,null,null,null,null,null,null,null,null,null,null,null,null,{"$f":"IF(referentes!AC313=\"\",\"\",IF(referentes!AC313=referentes!AH313,CONCATENATE(referentes!AC313,\" \",\" \",\" \",\" \"),IF(referentes!AC313=referentes!AI313,CONCATENATE(referentes!AH313,\" \",referentes!AI313,\" \",\" \"),CONCATENATE(referentes!AH313,\" \",referentes!AI313,\" \",referentes!AC313))))","v":""},{"$f":"IF(referentes!AB313=\"\",\"\",referentes!AB313)","v":""},null,null,null,{"$f":"TRIM(UPPER(CONCATENATE(referentes!AH309,\" \",referentes!AI309,\" \",referentes!AJ309,\" \",referentes!AK309,\" \",referentes!AF309)))","v":"EUGLENA"},{"$f":"referentes!AG309","v":0},null,null,null,null,null,null,null,null,null,null,null,null,null,"NEOCERATIUM FALCATIFORME"]
[null,null,null,null,null,null,null,null,null,null,null,null,null,null,null,{"$f":"IF(referentes!AC314=\"\",\"\",IF(referentes!AC314=referentes!AH314,CONCATENATE(referentes!AC314,\" \",\" \",\" \",\" \"),IF(referentes!AC314=referentes!AI314,CONCATENATE(referentes!AH314,\" \",referentes!AI314,\" \",\" \"),CONCATENATE(referentes!AH314,\" \",referentes!AI314,\" \",referentes!AC314))))","v":""},{"$f":"IF(referentes!AB314=\"\",\"\",referentes!AB314)","v":""},null,null,null,{"$f":"TRIM(UPPER(CONCATENATE(referentes!AH310,\" \",referentes!AI310,\" \",referentes!AJ310,\" \",referentes!AK310,\" \",referentes!AF310)))","v":"EUNOTIA"},{"$f":"referentes!AG310","v":0},null,null,null,null,null,null,null,null,null,null,null,null,null,"NEOCERATIUM FALCATUM"]
[null,null,null,null,null,null,null,null,null,null,null,null,null,null,null,{"$f":"IF(referentes!AC315=\"\",\"\",IF(referentes!AC315=referentes!AH315,CONCATENATE(referentes!AC315,\" \",\" \",\" \",\" \"),IF(referentes!AC315=referentes!AI315,CONCATENATE(referentes!AH315,\" \",referentes!AI315,\" \",\" \"),CONCATENATE(referentes!AH315,\" \",referentes!AI315,\" \",referentes!AC315))))","v":""},{"$f":"IF(referentes!AB315=\"\",\"\",referentes!AB315)","v":""},null,null,null,{"$f":"TRIM(UPPER(CONCATENATE(referentes!AH311,\" \",referentes!AI311,\" \",referentes!AJ311,\" \",referentes!AK311,\" \",referentes!AF311)))","v":"EUNOTOGRAMMA"},{"$f":"referentes!AG311","v":0},null,null,null,null,null,null,null,null,null,null,null,null,null,"NEOCERATIUM FURCA"]
[null,null,null,null,null,null,null,null,null,null,null,null,null,null,null,{"$f":"IF(referentes!AC316=\"\",\"\",IF(referentes!AC316=referentes!AH316,CONCATENATE(referentes!AC316,\" \",\" \",\" \",\" \"),IF(referentes!AC316=referentes!AI316,CONCATENATE(referentes!AH316,\" \",referentes!AI316,\" \",\" \"),CONCATENATE(referentes!AH316,\" \",referentes!AI316,\" \",referentes!AC316))))","v":""},{"$f":"IF(referentes!AB316=\"\",\"\",referentes!AB316)","v":""},null,null,null,{"$f":"TRIM(UPPER(CONCATENATE(referentes!AH312,\" \",referentes!AI312,\" \",referentes!AJ312,\" \",referentes!AK312,\" \",referentes!AF312)))","v":"EUNOTOGRAMMA MARINUM"},{"$f":"referentes!AG312","v":0},null,null,null,null,null,null,null,null,null,null,null,null,null,"NEOCERATIUM FUSUS"]
[null,null,null,null,null,null,null,null,null,null,null,null,null,null,null,{"$f":"IF(referentes!AC317=\"\",\"\",IF(referentes!AC317=referentes!AH317,CONCATENATE(referentes!AC317,\" \",\" \",\" \",\" \"),IF(referentes!AC317=referentes!AI317,CONCATENATE(referentes!AH317,\" \",referentes!AI317,\" \",\" \"),CONCATENATE(referentes!AH317,\" \",referentes!AI317,\" \",referentes!AC317))))","v":""},{"$f":"IF(referentes!AB317=\"\",\"\",referentes!AB317)","v":""},null,null,null,{"$f":"TRIM(UPPER(CONCATENATE(referentes!AH313,\" \",referentes!AI313,\" \",referentes!AJ313,\" \",referentes!AK313,\" \",referentes!AF313)))","v":"EUPODISCUS"},{"$f":"referentes!AG313","v":0},null,null,null,null,null,null,null,null,null,null,null,null,null,"NEOCERATIUM GENICULATUM"]
[null,null,null,null,null,null,null,null,null,null,null,null,null,null,null,{"$f":"IF(referentes!AC318=\"\",\"\",IF(referentes!AC318=referentes!AH318,CONCATENATE(referentes!AC318,\" \",\" \",\" \",\" \"),IF(referentes!AC318=referentes!AI318,CONCATENATE(referentes!AH318,\" \",referentes!AI318,\" \",\" \"),CONCATENATE(referentes!AH318,\" \",referentes!AI318,\" \",referentes!AC318))))","v":""},{"$f":"IF(referentes!AB318=\"\",\"\",referentes!AB318)","v":""},null,null,null,{"$f":"TRIM(UPPER(CONCATENATE(referentes!AH314,\" \",referentes!AI314,\" \",referentes!AJ314,\" \",referentes!AK314,\" \",referentes!AF314)))","v":"EUPODISCUS RADIATUS"},{"$f":"referentes!AG314","v":0},null,null,null,null,null,null,null,null,null,null,null,null,null,"NEOCERATIUM GIBBERUM"]
[null,null,null,null,null,null,null,null,null,null,null,null,null,null,null,{"$f":"IF(referentes!AC319=\"\",\"\",IF(referentes!AC319=referentes!AH319,CONCATENATE(referentes!AC319,\" \",\" \",\" \",\" \"),IF(referentes!AC319=referentes!AI319,CONCATENATE(referentes!AH319,\" \",referentes!AI319,\" \",\" \"),CONCATENATE(referentes!AH319,\" \",referentes!AI319,\" \",referentes!AC319))))","v":""},{"$f":"IF(referentes!AB319=\"\",\"\",referentes!AB319)","v":""},null,null,null,{"$f":"TRIM(UPPER(CONCATENATE(referentes!AH315,\" \",referentes!AI315,\" \",referentes!AJ315,\" \",referentes!AK315,\" \",referentes!AF315)))","v":"EUTETRAMORUS"},{"$f":"referentes!AG315","v":0},null,null,null,null,null,null,null,null,null,null,null,null,null,"NEOCERATIUM GRAVIDUM"]
[null,null,null,null,null,null,null,null,null,null,null,null,null,null,null,{"$f":"IF(referentes!AC320=\"\",\"\",IF(referentes!AC320=referentes!AH320,CONCATENATE(referentes!AC320,\" \",\" \",\" \",\" \"),IF(referentes!AC320=referentes!AI320,CONCATENATE(referentes!AH320,\" \",referentes!AI320,\" \",\" \"),CONCATENATE(referentes!AH320,\" \",referentes!AI320,\" \",referentes!AC320))))","v":""},{"$f":"IF(referentes!AB320=\"\",\"\",referentes!AB320)","v":""},null,null,null,{"$f":"TRIM(UPPER(CONCATENATE(referentes!AH316,\" \",referentes!AI316,\" \",referentes!AJ316,\" \",referentes!AK316,\" \",referentes!AF316)))","v":"FALLACIA"},{"$f":"referentes!AG316","v":0},null,null,null,null,null,null,null,null,null,null,null,null,null,"NEOCERATIUM HEXACANTHUM"]
[null,null,null,null,null,null,null,null,null,null,null,null,null,null,null,{"$f":"IF(referentes!AC321=\"\",\"\",IF(referentes!AC321=referentes!AH321,CONCATENATE(referentes!AC321,\" \",\" \",\" \",\" \"),IF(referentes!AC321=referentes!AI321,CONCATENATE(referentes!AH321,\" \",referentes!AI321,\" \",\" \"),CONCATENATE(referentes!AH321,\" \",referentes!AI321,\" \",referentes!AC321))))","v":""},{"$f":"IF(referentes!AB321=\"\",\"\",referentes!AB321)","v":""},null,null,null,{"$f":"TRIM(UPPER(CONCATENATE(referentes!AH317,\" \",referentes!AI317,\" \",referentes!AJ317,\" \",referentes!AK317,\" \",referentes!AF317)))","v":"FRAGILARIA"},{"$f":"referentes!AG317","v":0},null,null,null,null,null,null,null,null,null,null,null,null,null,"NEOCERATIUM HIRCUS"]
[null,null,null,null,null,null,null,null,null,null,null,null,null,null,null,{"$f":"IF(referentes!AC322=\"\",\"\",IF(referentes!AC322=referentes!AH322,CONCATENATE(referentes!AC322,\" \",\" \",\" \",\" \"),IF(referentes!AC322=referentes!AI322,CONCATENATE(referentes!AH322,\" \",referentes!AI322,\" \",\" \"),CONCATENATE(referentes!AH322,\" \",referentes!AI322,\" \",referentes!AC322))))","v":""},{"$f":"IF(referentes!AB322=\"\",\"\",referentes!AB322)","v":""},null,null,null,{"$f":"TRIM(UPPER(CONCATENATE(referentes!AH318,\" \",referentes!AI318,\" \",referentes!AJ318,\" \",referentes!AK318,\" \",referentes!AF318)))","v":"FRAGILARIA LONGISSIMA"},{"$f":"referentes!AG318","v":0},null,null,null,null,null,null,null,null,null,null,null,null,null,"NEOCERATIUM HORRIDUM"]
[null,null,null,null,null,null,null,null,null,null,null,null,null,null,null,{"$f":"IF(referentes!AC323=\"\",\"\",IF(referentes!AC323=referentes!AH323,CONCATENATE(referentes!AC323,\" \",\" \",\" \",\" \"),IF(referentes!AC323=referentes!AI323,CONCATENATE(referentes!AH323,\" \",referentes!AI323,\" \",\" \"),CONCATENATE(referentes!AH323,\" \",referentes!AI323,\" \",referentes!AC323))))","v":""},{"$f":"IF(referentes!AB323=\"\",\"\",referentes!AB323)","v":""},null,null,null,{"$f":"TRIM(UPPER(CONCATENATE(referentes!AH319,\" \",referentes!AI319,\" \",referentes!AJ319,\" \",referentes!AK319,\" \",referentes!AF319)))","v":"FRAGILARIOPSIS"},{"$f":"referentes!AG319","v":0},null,null,null,null,null,null,null,null,null,null,null,null,null,"NEOCERATIUM INCISUM"]
[null,null,null,null,null,null,null,null,null,null,null,null,null,null,null,{"$f":"IF(referentes!AC324=\"\",\"\",IF(referentes!AC324=referentes!AH324,CONCATENATE(referentes!AC324,\" \",\" \",\" \",\" \"),IF(referentes!AC324=referentes!AI324,CONCATENATE(referentes!AH324,\" \",referentes!AI324,\" \",\" \"),CONCATENATE(referentes!AH324,\" \",referentes!AI324,\" \",referentes!AC324))))","v":""},{"$f":"IF(referentes!AB324=\"\",\"\",referentes!AB324)","v":""},null,null,null,{"$f":"TRIM(UPPER(CONCATENATE(referentes!AH320,\" \",referentes!AI320,\" \",referentes!AJ320,\" \",referentes!AK320,\" \",referentes!AF320)))","v":"FRAGILARIOPSIS DOLIOLUS"},{"$f":"referentes!AG320","v":0},null,null,null,null,null,null,null,null,null,null,null,null,null,"NEOCERATIUM INFLATUM"]
[null,null,null,null,null,null,null,null,null,null,null,null,null,null,null,{"$f":"IF(referentes!AC325=\"\",\"\",IF(referentes!AC325=referentes!AH325,CONCATENATE(referentes!AC325,\" \",\" \",\" \",\" \"),IF(referentes!AC325=referentes!AI325,CONCATENATE(referentes!AH325,\" \",referentes!AI325,\" \",\" \"),CONCATENATE(referentes!AH325,\" \",referentes!AI325,\" \",referentes!AC325))))","v":""},{"$f":"IF(referentes!AB325=\"\",\"\",referentes!AB325)","v":""},null,null,null,{"$f":"TRIM(UPPER(CONCATENATE(referentes!AH321,\" \",referentes!AI321,\" \",referentes!AJ321,\" \",referentes!AK321,\" \",referentes!AF321)))","v":"GAMBIERDISCUS"},{"$f":"referentes!AG321","v":0},null,null,null,null,null,null,null,null,null,null,null,null,null,"NEOCERATIUM KARSTENII"]
[null,null,null,null,null,null,null,null,null,null,null,null,null,null,null,{"$f":"IF(referentes!AC326=\"\",\"\",IF(referentes!AC326=referentes!AH326,CONCATENATE(referentes!AC326,\" \",\" \",\" \",\" \"),IF(referentes!AC326=referentes!AI326,CONCATENATE(referentes!AH326,\" \",referentes!AI326,\" \",\" \"),CONCATENATE(referentes!AH326,\" \",referentes!AI326,\" \",referentes!AC326))))","v":""},{"$f":"IF(referentes!AB326=\"\",\"\",referentes!AB326)","v":""},null,null,null,{"$f":"TRIM(UPPER(CONCATENATE(referentes!AH322,\" \",referentes!AI322,\" \",referentes!AJ322,\" \",referentes!AK322,\" \",referentes!AF322)))","v":"GLAUCOSPIRA"},{"$f":"referentes!AG322","v":0},null,null,null,null,null,null,null,null,null,null,null,null,null,"NEOCERATIUM KOFOIDII"]
[null,null,null,null,null,null,null,null,null,null,null,null,null,null,null,{"$f":"IF(referentes!AC327=\"\",\"\",IF(referentes!AC327=referentes!AH327,CONCATENATE(referentes!AC327,\" \",\" \",\" \",\" \"),IF(referentes!AC327=referentes!AI327,CONCATENATE(referentes!AH327,\" \",referentes!AI327,\" \",\" \"),CONCATENATE(referentes!AH327,\" \",referentes!AI327,\" \",referentes!AC327))))","v":""},{"$f":"IF(referentes!AB327=\"\",\"\",referentes!AB327)","v":""},null,null,null,{"$f":"TRIM(UPPER(CONCATENATE(referentes!AH323,\" \",referentes!AI323,\" \",referentes!AJ323,\" \",referentes!AK323,\" \",referentes!AF323)))","v":"GLEOCAPSA"},{"$f":"referentes!AG323","v":0},null,null,null,null,null,null,null,null,null,null,null,null,null,"NEOCERATIUM LIMULUS"]
[null,null,null,null,null,null,null,null,null,null,null,null,null,null,null,{"$f":"IF(referentes!AC328=\"\",\"\",IF(referentes!AC328=referentes!AH328,CONCATENATE(referentes!AC328,\" \",\" \",\" \",\" \"),IF(referentes!AC328=referentes!AI328,CONCATENATE(referentes!AH328,\" \",referentes!AI328,\" \",\" \"),CONCATENATE(referentes!AH328,\" \",referentes!AI328,\" \",referentes!AC328))))","v":""},{"$f":"IF(referentes!AB328=\"\",\"\",referentes!AB328)","v":""},null,null,null,{"$f":"TRIM(UPPER(CONCATENATE(referentes!AH324,\" \",referentes!AI324,\" \",referentes!AJ324,\" \",referentes!AK324,\" \",referentes!AF324)))","v":"GOMPHONEMA"},{"$f":"referentes!AG324","v":0},null,null,null,null,null,null,null,null,null,null,null,null,null,"NEOCERATIUM LINEATUM"]
[null,null,null,null,null,null,null,null,null,null,null,null,null,null,null,{"$f":"IF(referentes!AC329=\"\",\"\",IF(referentes!AC329=referentes!AH329,CONCATENATE(referentes!AC329,\" \",\" \",\" \",\" \"),IF(referentes!AC329=referentes!AI329,CONCATENATE(referentes!AH329,\" \",referentes!AI329,\" \",\" \"),CONCATENATE(referentes!AH329,\" \",referentes!AI329,\" \",referentes!AC329))))","v":""},{"$f":"IF(referentes!AB329=\"\",\"\",referentes!AB329)","v":""},null,null,null,{"$f":"TRIM(UPPER(CONCATENATE(referentes!AH325,\" \",referentes!AI325,\" \",referentes!AJ325,\" \",referentes!AK325,\" \",referentes!AF325)))","v":"GOMPHOSPHAERIA"},{"$f":"referentes!AG325","v":0},null,null,null,null,null,null,null,null,null,null,null,null,null,"NEOCERATIUM LONGIROSTRUM"]
[null,null,null,null,null,null,null,null,null,null,null,null,null,null,null,{"$f":"IF(referentes!AC330=\"\",\"\",IF(referentes!AC330=referentes!AH330,CONCATENATE(referentes!AC330,\" \",\" \",\" \",\" \"),IF(referentes!AC330=referentes!AI330,CONCATENATE(referentes!AH330,\" \",referentes!AI330,\" \",\" \"),CONCATENATE(referentes!AH330,\" \",referentes!AI330,\" \",referentes!AC330))))","v":""},{"$f":"IF(referentes!AB330=\"\",\"\",referentes!AB330)","v":""},null,null,null,{"$f":"TRIM(UPPER(CONCATENATE(referentes!AH326,\" \",referentes!AI326,\" \",referentes!AJ326,\" \",referentes!AK326,\" \",referentes!AF326)))","v":"GONATOZYGON"},{"$f":"referentes!AG326","v":0},null,null,null,null,null,null,null,null,null,null,null,null,null,"NEOCERATIUM LUNULA"]
[null,null,null,null,null,null,null,null,null,null,null,null,null,null,null,{"$f":"IF(referentes!AC331=\"\",\"\",IF(referentes!AC331=referentes!AH331,CONCATENATE(referentes!AC331,\" \",\" \",\" \",\" \"),IF(referentes!AC331=referentes!AI331,CONCATENATE(referentes!AH331,\" \",referentes!AI331,\" \",\" \"),CONCATENATE(referentes!AH331,\" \",referentes!AI331,\" \",referentes!AC331))))","v":""},{"$f":"IF(referentes!AB331=\"\",\"\",referentes!AB331)","v":""},null,null,null,{"$f":"TRIM(UPPER(CONCATENATE(referentes!AH327,\" \",referentes!AI327,\" \",referentes!AJ327,\" \",referentes!AK327,\" \",referentes!AF327)))","v":"GONIODOMA"},{"$f":"referentes!AG327","v":0},null,null,null,null,null,null,null,null,null,null,null,null,null,"NEOCERATIUM MACROCEROS"]
[null,null,null,null,null,null,null,null,null,null,null,null,null,null,null,{"$f":"IF(referentes!AC332=\"\",\"\",IF(referentes!AC332=referentes!AH332,CONCATENATE(referentes!AC332,\" \",\" \",\" \",\" \"),IF(referentes!AC332=referentes!AI332,CONCATENATE(referentes!AH332,\" \",referentes!AI332,\" \",\" \"),CONCATENATE(referentes!AH332,\" \",referentes!AI332,\" \",referentes!AC332))))","v":""},{"$f":"IF(referentes!AB332=\"\",\"\",referentes!AB332)","v":""},null,null,null,{"$f":"TRIM(UPPER(CONCATENATE(referentes!AH328,\" \",referentes!AI328,\" \",referentes!AJ328,\" \",referentes!AK328,\" \",referentes!AF328)))","v":"GONIODOMA POLYEDRICUM"},{"$f":"referentes!AG328","v":0},null,null,null,null,null,null,null,null,null,null,null,null,null,"NEOCERATIUM MASSILIENSE"]
[null,null,null,null,null,null,null,null,null,null,null,null,null,null,null,{"$f":"IF(referentes!AC333=\"\",\"\",IF(referentes!AC333=referentes!AH333,CONCATENATE(referentes!AC333,\" \",\" \",\" \",\" \"),IF(referentes!AC333=referentes!AI333,CONCATENATE(referentes!AH333,\" \",referentes!AI333,\" \",\" \"),CONCATENATE(referentes!AH333,\" \",referentes!AI333,\" \",referentes!AC333))))","v":""},{"$f":"IF(referentes!AB333=\"\",\"\",referentes!AB333)","v":""},null,null,null,{"$f":"TRIM(UPPER(CONCATENATE(referentes!AH329,\" \",referentes!AI329,\" \",referentes!AJ329,\" \",referentes!AK329,\" \",referentes!AF329)))","v":"GONYAULAX"},{"$f":"referentes!AG329","v":0},null,null,null,null,null,null,null,null,null,null,null,null,null,"NEOCERATIUM MINUTUM"]
[null,null,null,null,null,null,null,null,null,null,null,null,null,null,null,{"$f":"IF(referentes!AC334=\"\",\"\",IF(referentes!AC334=referentes!AH334,CONCATENATE(referentes!AC334,\" \",\" \",\" \",\" \"),IF(referentes!AC334=referentes!AI334,CONCATENATE(referentes!AH334,\" \",referentes!AI334,\" \",\" \"),CONCATENATE(referentes!AH334,\" \",referentes!AI334,\" \",referentes!AC334))))","v":""},{"$f":"IF(referentes!AB334=\"\",\"\",referentes!AB334)","v":""},null,null,null,{"$f":"TRIM(UPPER(CONCATENATE(referentes!AH330,\" \",referentes!AI330,\" \",referentes!AJ330,\" \",referentes!AK330,\" \",referentes!AF330)))","v":"GONYAULAX BIROSTRIS"},{"$f":"referentes!AG330","v":0},null,null,null,null,null,null,null,null,null,null,null,null,null,"NEOCERATIUM PARADOXIDES"]
[null,null,null,null,null,null,null,null,null,null,null,null,null,null,null,{"$f":"IF(referentes!AC335=\"\",\"\",IF(referentes!AC335=referentes!AH335,CONCATENATE(referentes!AC335,\" \",\" \",\" \",\" \"),IF(referentes!AC335=referentes!AI335,CONCATENATE(referentes!AH335,\" \",referentes!AI335,\" \",\" \"),CONCATENATE(referentes!AH335,\" \",referentes!AI335,\" \",referentes!AC335))))","v":""},{"$f":"IF(referentes!AB335=\"\",\"\",referentes!AB335)","v":""},null,null,null,{"$f":"TRIM(UPPER(CONCATENATE(referentes!AH331,\" \",referentes!AI331,\" \",referentes!AJ331,\" \",referentes!AK331,\" \",referentes!AF331)))","v":"GONYAULAX DIEGENSIS"},{"$f":"referentes!AG331","v":0},null,null,null,null,null,null,null,null,null,null,null,null,null,"NEOCERATIUM PAVILLARDII"]
[null,null,null,null,null,null,null,null,null,null,null,null,null,null,null,{"$f":"IF(referentes!AC336=\"\",\"\",IF(referentes!AC336=referentes!AH336,CONCATENATE(referentes!AC336,\" \",\" \",\" \",\" \"),IF(referentes!AC336=referentes!AI336,CONCATENATE(referentes!AH336,\" \",referentes!AI336,\" \",\" \"),CONCATENATE(referentes!AH336,\" \",referentes!AI336,\" \",referentes!AC336))))","v":""},{"$f":"IF(referentes!AB336=\"\",\"\",referentes!AB336)","v":""},null,null,null,{"$f":"TRIM(UPPER(CONCATENATE(referentes!AH332,\" \",referentes!AI332,\" \",referentes!AJ332,\" \",referentes!AK332,\" \",referentes!AF332)))","v":"GONYAULAX DIGITALE"},{"$f":"referentes!AG332","v":0},null,null,null,null,null,null,null,null,null,null,null,null,null,"NEOCERATIUM PENTAGONUM"]
[null,null,null,null,null,null,null,null,null,null,null,null,null,null,null,{"$f":"IF(referentes!AC337=\"\",\"\",IF(referentes!AC337=referentes!AH337,CONCATENATE(referentes!AC337,\" \",\" \",\" \",\" \"),IF(referentes!AC337=referentes!AI337,CONCATENATE(referentes!AH337,\" \",referentes!AI337,\" \",\" \"),CONCATENATE(referentes!AH337,\" \",referentes!AI337,\" \",referentes!AC337))))","v":""},{"$f":"IF(referentes!AB337=\"\",\"\",referentes!AB337)","v":""},null,null,null,{"$f":"TRIM(UPPER(CONCATENATE(referentes!AH333,\" \",referentes!AI333,\" \",referentes!AJ333,\" \",referentes!AK333,\" \",referentes!AF333)))","v":"GONYAULAX FUSIFORMIS"},{"$f":"referentes!AG333","v":0},null,null,null,null,null,null,null,null,null,null,null,null,null,"NEOCERATIUM PLATYCORNE"]
[null,null,null,null,null,null,null,null,null,null,null,null,null,null,null,{"$f":"IF(referentes!AC338=\"\",\"\",IF(referentes!AC338=referentes!AH338,CONCATENATE(referentes!AC338,\" \",\" \",\" \",\" \"),IF(referentes!AC338=referentes!AI338,CONCATENATE(referentes!AH338,\" \",referentes!AI338,\" \",\" \"),CONCATENATE(referentes!AH338,\" \",referentes!AI338,\" \",referentes!AC338))))","v":""},{"$f":"IF(referentes!AB338=\"\",\"\",referentes!AB338)","v":""},null,null,null,{"$f":"TRIM(UPPER(CONCATENATE(referentes!AH334,\" \",referentes!AI334,\" \",referentes!AJ334,\" \",referentes!AK334,\" \",referentes!AF334)))","v":"GONYAULAX KOFOIDII"},{"$f":"referentes!AG334","v":0},null,null,null,null,null,null,null,null,null,null,null,null,null,"NEOCERATIUM PRAEOLONGUM"]
[null,null,null,null,null,null,null,null,null,null,null,null,null,null,null,{"$f":"IF(referentes!AC339=\"\",\"\",IF(referentes!AC339=referentes!AH339,CONCATENATE(referentes!AC339,\" \",\" \",\" \",\" \"),IF(referentes!AC339=referentes!AI339,CONCATENATE(referentes!AH339,\" \",referentes!AI339,\" \",\" \"),CONCATENATE(referentes!AH339,\" \",referentes!AI339,\" \",referentes!AC339))))","v":""},{"$f":"IF(referentes!AB339=\"\",\"\",referentes!AB339)","v":""},null,null,null,{"$f":"TRIM(UPPER(CONCATENATE(referentes!AH335,\" \",referentes!AI335,\" \",referentes!AJ335,\" \",referentes!AK335,\" \",referentes!AF335)))","v":"GONYAULAX MILNERI"},{"$f":"referentes!AG335","v":0},null,null,null,null,null,null,null,null,null,null,null,null,null,"NEOCERATIUM PULCHELLUM"]
[null,null,null,null,null,null,null,null,null,null,null,null,null,null,null,{"$f":"IF(referentes!AC340=\"\",\"\",IF(referentes!AC340=referentes!AH340,CONCATENATE(referentes!AC340,\" \",\" \",\" \",\" \"),IF(referentes!AC340=referentes!AI340,CONCATENATE(referentes!AH340,\" \",referentes!AI340,\" \",\" \"),CONCATENATE(referentes!AH340,\" \",referentes!AI340,\" \",referentes!AC340))))","v":""},{"$f":"IF(referentes!AB340=\"\",\"\",referentes!AB340)","v":""},null,null,null,{"$f":"TRIM(UPPER(CONCATENATE(referentes!AH336,\" \",referentes!AI336,\" \",referentes!AJ336,\" \",referentes!AK336,\" \",referentes!AF336)))","v":"GONYAULAX POLYGRAMMA"},{"$f":"referentes!AG336","v":0},null,null,null,null,null,null,null,null,null,null,null,null,null,"NEOCERATIUM RANIPES"]
[null,null,null,null,null,null,null,null,null,null,null,null,null,null,null,{"$f":"IF(referentes!AC341=\"\",\"\",IF(referentes!AC341=referentes!AH341,CONCATENATE(referentes!AC341,\" \",\" \",\" \",\" \"),IF(referentes!AC341=referentes!AI341,CONCATENATE(referentes!AH341,\" \",referentes!AI341,\" \",\" \"),CONCATENATE(referentes!AH341,\" \",referentes!AI341,\" \",referentes!AC341))))","v":""},{"$f":"IF(referentes!AB341=\"\",\"\",referentes!AB341)","v":""},null,null,null,{"$f":"TRIM(UPPER(CONCATENATE(referentes!AH337,\" \",referentes!AI337,\" \",referentes!AJ337,\" \",referentes!AK337,\" \",referentes!AF337)))","v":"GONYAULAX SCRIPPSAE"},{"$f":"referentes!AG337","v":0},null,null,null,null,null,null,null,null,null,null,null,null,null,"NEOCERATIUM REFLEXUM"]
[null,null,null,null,null,null,null,null,null,null,null,null,null,null,null,{"$f":"IF(referentes!AC342=\"\",\"\",IF(referentes!AC342=referentes!AH342,CONCATENATE(referentes!AC342,\" \",\" \",\" \",\" \"),IF(referentes!AC342=referentes!AI342,CONCATENATE(referentes!AH342,\" \",referentes!AI342,\" \",\" \"),CONCATENATE(referentes!AH342,\" \",referentes!AI342,\" \",referentes!AC342))))","v":""},{"$f":"IF(referentes!AB342=\"\",\"\",referentes!AB342)","v":""},null,null,null,{"$f":"TRIM(UPPER(CONCATENATE(referentes!AH338,\" \",referentes!AI338,\" \",referentes!AJ338,\" \",referentes!AK338,\" \",referentes!AF338)))","v":"GONYAULAX SPHAEROIDEA"},{"$f":"referentes!AG338","v":0},null,null,null,null,null,null,null,null,null,null,null,null,null,"NEOCERATIUM SCHRANKII"]
[null,null,null,null,null,null,null,null,null,null,null,null,null,null,null,{"$f":"IF(referentes!AC343=\"\",\"\",IF(referentes!AC343=referentes!AH343,CONCATENATE(referentes!AC343,\" \",\" \",\" \",\" \"),IF(referentes!AC343=referentes!AI343,CONCATENATE(referentes!AH343,\" \",referentes!AI343,\" \",\" \"),CONCATENATE(referentes!AH343,\" \",referentes!AI343,\" \",referentes!AC343))))","v":""},{"$f":"IF(referentes!AB343=\"\",\"\",referentes!AB343)","v":""},null,null,null,{"$f":"TRIM(UPPER(CONCATENATE(referentes!AH339,\" \",referentes!AI339,\" \",referentes!AJ339,\" \",referentes!AK339,\" \",referentes!AF339)))","v":"GONYAULAX SPINIFERA"},{"$f":"referentes!AG339","v":0},null,null,null,null,null,null,null,null,null,null,null,null,null,"NEOCERATIUM SETACEUM"]
[null,null,null,null,null,null,null,null,null,null,null,null,null,null,null,{"$f":"IF(referentes!AC344=\"\",\"\",IF(referentes!AC344=referentes!AH344,CONCATENATE(referentes!AC344,\" \",\" \",\" \",\" \"),IF(referentes!AC344=referentes!AI344,CONCATENATE(referentes!AH344,\" \",referentes!AI344,\" \",\" \"),CONCATENATE(referentes!AH344,\" \",referentes!AI344,\" \",referentes!AC344))))","v":""},{"$f":"IF(referentes!AB344=\"\",\"\",referentes!AB344)","v":""},null,null,null,{"$f":"TRIM(UPPER(CONCATENATE(referentes!AH340,\" \",referentes!AI340,\" \",referentes!AJ340,\" \",referentes!AK340,\" \",referentes!AF340)))","v":"GONYAULAX TURBYNEI"},{"$f":"referentes!AG340","v":0},null,null,null,null,null,null,null,null,null,null,null,null,null,"NEOCERATIUM SYMMETRICUM"]
[null,null,null,null,null,null,null,null,null,null,null,null,null,null,null,{"$f":"IF(referentes!AC345=\"\",\"\",IF(referentes!AC345=referentes!AH345,CONCATENATE(referentes!AC345,\" \",\" \",\" \",\" \"),IF(referentes!AC345=referentes!AI345,CONCATENATE(referentes!AH345,\" \",referentes!AI345,\" \",\" \"),CONCATENATE(referentes!AH345,\" \",referentes!AI345,\" \",referentes!AC345))))","v":""},{"$f":"IF(referentes!AB345=\"\",\"\",referentes!AB345)","v":""},null,null,null,{"$f":"TRIM(UPPER(CONCATENATE(referentes!AH341,\" \",referentes!AI341,\" \",referentes!AJ341,\" \",referentes!AK341,\" \",referentes!AF341)))","v":"GONYAULAX VERIOR"},{"$f":"referentes!AG341","v":0},null,null,null,null,null,null,null,null,null,null,null,null,null,"NEOCERATIUM TENUE"]
[null,null,null,null,null,null,null,null,null,null,null,null,null,null,null,{"$f":"IF(referentes!AC346=\"\",\"\",IF(referentes!AC346=referentes!AH346,CONCATENATE(referentes!AC346,\" \",\" \",\" \",\" \"),IF(referentes!AC346=referentes!AI346,CONCATENATE(referentes!AH346,\" \",referentes!AI346,\" \",\" \"),CONCATENATE(referentes!AH346,\" \",referentes!AI346,\" \",referentes!AC346))))","v":""},{"$f":"IF(referentes!AB346=\"\",\"\",referentes!AB346)","v":""},null,null,null,{"$f":"TRIM(UPPER(CONCATENATE(referentes!AH342,\" \",referentes!AI342,\" \",referentes!AJ342,\" \",referentes!AK342,\" \",referentes!AF342)))","v":"GOSSLERIELLA"},{"$f":"referentes!AG342","v":0},null,null,null,null,null,null,null,null,null,null,null,null,null,"NEOCERATIUM TERES"]
[null,null,null,null,null,null,null,null,null,null,null,null,null,null,null,{"$f":"IF(referentes!AC347=\"\",\"\",IF(referentes!AC347=referentes!AH347,CONCATENATE(referentes!AC347,\" \",\" \",\" \",\" \"),IF(referentes!AC347=referentes!AI347,CONCATENATE(referentes!AH347,\" \",referentes!AI347,\" \",\" \"),CONCATENATE(referentes!AH347,\" \",referentes!AI347,\" \",referentes!AC347))))","v":""},{"$f":"IF(referentes!AB347=\"\",\"\",referentes!AB347)","v":""},null,null,null,{"$f":"TRIM(UPPER(CONCATENATE(referentes!AH343,\" \",referentes!AI343,\" \",referentes!AJ343,\" \",referentes!AK343,\" \",referentes!AF343)))","v":"GOSSLERIELLA TROPICA"},{"$f":"referentes!AG343","v":0},null,null,null,null,null,null,null,null,null,null,null,null,null,"NEOCERATIUM TRICHOCEROS"]
[null,null,null,null,null,null,null,null,null,null,null,null,null,null,null,{"$f":"IF(referentes!AC348=\"\",\"\",IF(referentes!AC348=referentes!AH348,CONCATENATE(referentes!AC348,\" \",\" \",\" \",\" \"),IF(referentes!AC348=referentes!AI348,CONCATENATE(referentes!AH348,\" \",referentes!AI348,\" \",\" \"),CONCATENATE(referentes!AH348,\" \",referentes!AI348,\" \",referentes!AC348))))","v":""},{"$f":"IF(referentes!AB348=\"\",\"\",referentes!AB348)","v":""},null,null,null,{"$f":"TRIM(UPPER(CONCATENATE(referentes!AH344,\" \",referentes!AI344,\" \",referentes!AJ344,\" \",referentes!AK344,\" \",referentes!AF344)))","v":"GRAMMATOPHORA"},{"$f":"referentes!AG344","v":0},null,null,null,null,null,null,null,null,null,null,null,null,null,"NEOCERATIUM TRIPOS"]
[null,null,null,null,null,null,null,null,null,null,null,null,null,null,null,{"$f":"IF(referentes!AC349=\"\",\"\",IF(referentes!AC349=referentes!AH349,CONCATENATE(referentes!AC349,\" \",\" \",\" \",\" \"),IF(referentes!AC349=referentes!AI349,CONCATENATE(referentes!AH349,\" \",referentes!AI349,\" \",\" \"),CONCATENATE(referentes!AH349,\" \",referentes!AI349,\" \",referentes!AC349))))","v":""},{"$f":"IF(referentes!AB349=\"\",\"\",referentes!AB349)","v":""},null,null,null,{"$f":"TRIM(UPPER(CONCATENATE(referentes!AH345,\" \",referentes!AI345,\" \",referentes!AJ345,\" \",referentes!AK345,\" \",referentes!AF345)))","v":"GRAMMATOPHORA MARINA"},{"$f":"referentes!AG345","v":0},null,null,null,null,null,null,null,null,null,null,null,null,null,"NEOCERATIUM UNCINUS"]
[null,null,null,null,null,null,null,null,null,null,null,null,null,null,null,{"$f":"IF(referentes!AC350=\"\",\"\",IF(referentes!AC350=referentes!AH350,CONCATENATE(referentes!AC350,\" \",\" \",\" \",\" \"),IF(referentes!AC350=referentes!AI350,CONCATENATE(referentes!AH350,\" \",referentes!AI350,\" \",\" \"),CONCATENATE(referentes!AH350,\" \",referentes!AI350,\" \",referentes!AC350))))","v":""},{"$f":"IF(referentes!AB350=\"\",\"\",referentes!AB350)","v":""},null,null,null,{"$f":"TRIM(UPPER(CONCATENATE(referentes!AH346,\" \",referentes!AI346,\" \",referentes!AJ346,\" \",referentes!AK346,\" \",referentes!AF346)))","v":"GUINARDIA"},{"$f":"referentes!AG346","v":0},null,null,null,null,null,null,null,null,null,null,null,null,null,"NEOCERATIUM VULTUR"]
[null,null,null,null,null,null,null,null,null,null,null,null,null,null,null,{"$f":"IF(referentes!AC351=\"\",\"\",IF(referentes!AC351=referentes!AH351,CONCATENATE(referentes!AC351,\" \",\" \",\" \",\" \"),IF(referentes!AC351=referentes!AI351,CONCATENATE(referentes!AH351,\" \",referentes!AI351,\" \",\" \"),CONCATENATE(referentes!AH351,\" \",referentes!AI351,\" \",referentes!AC351))))","v":""},{"$f":"IF(referentes!AB351=\"\",\"\",referentes!AB351)","v":""},null,null,null,{"$f":"TRIM(UPPER(CONCATENATE(referentes!AH347,\" \",referentes!AI347,\" \",referentes!AJ347,\" \",referentes!AK347,\" \",referentes!AF347)))","v":"GUINARDIA CYLINDRUS"},{"$f":"referentes!AG347","v":0},null,null,null,null,null,null,null,null,null,null,null,null,null,"NEODELPHINEIS PELAGICA"]
[null,null,null,null,null,null,null,null,null,null,null,null,null,null,null,{"$f":"IF(referentes!AC352=\"\",\"\",IF(referentes!AC352=referentes!AH352,CONCATENATE(referentes!AC352,\" \",\" \",\" \",\" \"),IF(referentes!AC352=referentes!AI352,CONCATENATE(referentes!AH352,\" \",referentes!AI352,\" \",\" \"),CONCATENATE(referentes!AH352,\" \",referentes!AI352,\" \",referentes!AC352))))","v":""},{"$f":"IF(referentes!AB352=\"\",\"\",referentes!AB352)","v":""},null,null,null,{"$f":"TRIM(UPPER(CONCATENATE(referentes!AH348,\" \",referentes!AI348,\" \",referentes!AJ348,\" \",referentes!AK348,\" \",referentes!AF348)))","v":"GUINARDIA DELICATULA"},{"$f":"referentes!AG348","v":0},null,null,null,null,null,null,null,null,null,null,null,null,null,"NITZSCHIA BICAPITATA"]
[null,null,null,null,null,null,null,null,null,null,null,null,null,null,null,{"$f":"IF(referentes!AC353=\"\",\"\",IF(referentes!AC353=referentes!AH353,CONCATENATE(referentes!AC353,\" \",\" \",\" \",\" \"),IF(referentes!AC353=referentes!AI353,CONCATENATE(referentes!AH353,\" \",referentes!AI353,\" \",\" \"),CONCATENATE(referentes!AH353,\" \",referentes!AI353,\" \",referentes!AC353))))","v":""},{"$f":"IF(referentes!AB353=\"\",\"\",referentes!AB353)","v":""},null,null,null,{"$f":"TRIM(UPPER(CONCATENATE(referentes!AH349,\" \",referentes!AI349,\" \",referentes!AJ349,\" \",referentes!AK349,\" \",referentes!AF349)))","v":"GUINARDIA FLACCIDA"},{"$f":"referentes!AG349","v":0},null,null,null,null,null,null,null,null,null,null,null,null,null,"NITZSCHIA BRAARUDII"]
[null,null,null,null,null,null,null,null,null,null,null,null,null,null,null,{"$f":"IF(referentes!AC354=\"\",\"\",IF(referentes!AC354=referentes!AH354,CONCATENATE(referentes!AC354,\" \",\" \",\" \",\" \"),IF(referentes!AC354=referentes!AI354,CONCATENATE(referentes!AH354,\" \",referentes!AI354,\" \",\" \"),CONCATENATE(referentes!AH354,\" \",referentes!AI354,\" \",referentes!AC354))))","v":""},{"$f":"IF(referentes!AB354=\"\",\"\",referentes!AB354)","v":""},null,null,null,{"$f":"TRIM(UPPER(CONCATENATE(referentes!AH350,\" \",referentes!AI350,\" \",referentes!AJ350,\" \",referentes!AK350,\" \",referentes!AF350)))","v":"GUINARDIA STRIATA"},{"$f":"referentes!AG350","v":0},null,null,null,null,null,null,null,null,null,null,null,null,null,"NITZSCHIA CONSTRICTA"]
[null,null,null,null,null,null,null,null,null,null,null,null,null,null,null,{"$f":"IF(referentes!AC355=\"\",\"\",IF(referentes!AC355=referentes!AH355,CONCATENATE(referentes!AC355,\" \",\" \",\" \",\" \"),IF(referentes!AC355=referentes!AI355,CONCATENATE(referentes!AH355,\" \",referentes!AI355,\" \",\" \"),CONCATENATE(referentes!AH355,\" \",referentes!AI355,\" \",referentes!AC355))))","v":""},{"$f":"IF(referentes!AB355=\"\",\"\",referentes!AB355)","v":""},null,null,null,{"$f":"TRIM(UPPER(CONCATENATE(referentes!AH351,\" \",referentes!AI351,\" \",referentes!AJ351,\" \",referentes!AK351,\" \",referentes!AF351)))","v":"GYMNODINIUM"},{"$f":"referentes!AG351","v":0},null,null,null,null,null,null,null,null,null,null,null,null,null,"NITZSCHIA DISTANS"]
[null,null,null,null,null,null,null,null,null,null,null,null,null,null,null,{"$f":"IF(referentes!AC356=\"\",\"\",IF(referentes!AC356=referentes!AH356,CONCATENATE(referentes!AC356,\" \",\" \",\" \",\" \"),IF(referentes!AC356=referentes!AI356,CONCATENATE(referentes!AH356,\" \",referentes!AI356,\" \",\" \"),CONCATENATE(referentes!AH356,\" \",referentes!AI356,\" \",referentes!AC356))))","v":""},{"$f":"IF(referentes!AB356=\"\",\"\",referentes!AB356)","v":""},null,null,null,{"$f":"TRIM(UPPER(CONCATENATE(referentes!AH352,\" \",referentes!AI352,\" \",referentes!AJ352,\" \",referentes!AK352,\" \",referentes!AF352)))","v":"GYMNODINIUM FISSUM"},{"$f":"referentes!AG352","v":0},null,null,null,null,null,null,null,null,null,null,null,null,null,"NITZSCHIA FLUMINENSIS"]
[null,null,null,null,null,null,null,null,null,null,null,null,null,null,null,{"$f":"IF(referentes!AC357=\"\",\"\",IF(referentes!AC357=referentes!AH357,CONCATENATE(referentes!AC357,\" \",\" \",\" \",\" \"),IF(referentes!AC357=referentes!AI357,CONCATENATE(referentes!AH357,\" \",referentes!AI357,\" \",\" \"),CONCATENATE(referentes!AH357,\" \",referentes!AI357,\" \",referentes!AC357))))","v":""},{"$f":"IF(referentes!AB357=\"\",\"\",referentes!AB357)","v":""},null,null,null,{"$f":"TRIM(UPPER(CONCATENATE(referentes!AH353,\" \",referentes!AI353,\" \",referentes!AJ353,\" \",referentes!AK353,\" \",referentes!AF353)))","v":"GYRODINIUM"},{"$f":"referentes!AG353","v":0},null,null,null,null,null,null,null,null,null,null,null,null,null,"NITZSCHIA HABIRSHAWII"]
[null,null,null,null,null,null,null,null,null,null,null,null,null,null,null,{"$f":"IF(referentes!AC358=\"\",\"\",IF(referentes!AC358=referentes!AH358,CONCATENATE(referentes!AC358,\" \",\" \",\" \",\" \"),IF(referentes!AC358=referentes!AI358,CONCATENATE(referentes!AH358,\" \",referentes!AI358,\" \",\" \"),CONCATENATE(referentes!AH358,\" \",referentes!AI358,\" \",referentes!AC358))))","v":""},{"$f":"IF(referentes!AB358=\"\",\"\",referentes!AB358)","v":""},null,null,null,{"$f":"TRIM(UPPER(CONCATENATE(referentes!AH354,\" \",referentes!AI354,\" \",referentes!AJ354,\" \",referentes!AK354,\" \",referentes!AF354)))","v":"GYROSIGMA"},{"$f":"referentes!AG354","v":0},null,null,null,null,null,null,null,null,null,null,null,null,null,"NITZSCHIA INTERRUPTESTRIATA"]
[null,null,null,null,null,null,null,null,null,null,null,null,null,null,null,{"$f":"IF(referentes!AC359=\"\",\"\",IF(referentes!AC359=referentes!AH359,CONCATENATE(referentes!AC359,\" \",\" \",\" \",\" \"),IF(referentes!AC359=referentes!AI359,CONCATENATE(referentes!AH359,\" \",referentes!AI359,\" \",\" \"),CONCATENATE(referentes!AH359,\" \",referentes!AI359,\" \",referentes!AC359))))","v":""},{"$f":"IF(referentes!AB359=\"\",\"\",referentes!AB359)","v":""},null,null,null,{"$f":"TRIM(UPPER(CONCATENATE(referentes!AH355,\" \",referentes!AI355,\" \",referentes!AJ355,\" \",referentes!AK355,\" \",referentes!AF355)))","v":"GYROSIGMA BALTICUM"},{"$f":"referentes!AG355","v":0},null,null,null,null,null,null,null,null,null,null,null,null,null,"NITZSCHIA LONGISSIMA"]
[null,null,null,null,null,null,null,null,null,null,null,null,null,null,null,{"$f":"IF(referentes!AC360=\"\",\"\",IF(referentes!AC360=referentes!AH360,CONCATENATE(referentes!AC360,\" \",\" \",\" \",\" \"),IF(referentes!AC360=referentes!AI360,CONCATENATE(referentes!AH360,\" \",referentes!AI360,\" \",\" \"),CONCATENATE(referentes!AH360,\" \",referentes!AI360,\" \",referentes!AC360))))","v":""},{"$f":"IF(referentes!AB360=\"\",\"\",referentes!AB360)","v":""},null,null,null,{"$f":"TRIM(UPPER(CONCATENATE(referentes!AH356,\" \",referentes!AI356,\" \",referentes!AJ356,\" \",referentes!AK356,\" \",referentes!AF356)))","v":"GYROSIGMA SIMILE"},{"$f":"referentes!AG356","v":0},null,null,null,null,null,null,null,null,null,null,null,null,null,"NITZSCHIA MARTIANA"]
[null,null,null,null,null,null,null,null,null,null,null,null,null,null,null,{"$f":"IF(referentes!AC361=\"\",\"\",IF(referentes!AC361=referentes!AH361,CONCATENATE(referentes!AC361,\" \",\" \",\" \",\" \"),IF(referentes!AC361=referentes!AI361,CONCATENATE(referentes!AH361,\" \",referentes!AI361,\" \",\" \"),CONCATENATE(referentes!AH361,\" \",referentes!AI361,\" \",referentes!AC361))))","v":""},{"$f":"IF(referentes!AB361=\"\",\"\",referentes!AB361)","v":""},null,null,null,{"$f":"TRIM(UPPER(CONCATENATE(referentes!AH357,\" \",referentes!AI357,\" \",referentes!AJ357,\" \",referentes!AK357,\" \",referentes!AF357)))","v":"GYROSIGMA TENUISSIMUM"},{"$f":"referentes!AG357","v":0},null,null,null,null,null,null,null,null,null,null,null,null,null,"NITZSCHIA OBTUSA"]
[null,null,null,null,null,null,null,null,null,null,null,null,null,null,null,{"$f":"IF(referentes!AC362=\"\",\"\",IF(referentes!AC362=referentes!AH362,CONCATENATE(referentes!AC362,\" \",\" \",\" \",\" \"),IF(referentes!AC362=referentes!AI362,CONCATENATE(referentes!AH362,\" \",referentes!AI362,\" \",\" \"),CONCATENATE(referentes!AH362,\" \",referentes!AI362,\" \",referentes!AC362))))","v":""},{"$f":"IF(referentes!AB362=\"\",\"\",referentes!AB362)","v":""},null,null,null,{"$f":"TRIM(UPPER(CONCATENATE(referentes!AH358,\" \",referentes!AI358,\" \",referentes!AJ358,\" \",referentes!AK358,\" \",referentes!AF358)))","v":"HALAMPHORA"},{"$f":"referentes!AG358","v":0},null,null,null,null,null,null,null,null,null,null,null,null,null,"NITZSCHIA PULCHERRIMA"]
[null,null,null,null,null,null,null,null,null,null,null,null,null,null,null,{"$f":"IF(referentes!AC363=\"\",\"\",IF(referentes!AC363=referentes!AH363,CONCATENATE(referentes!AC363,\" \",\" \",\" \",\" \"),IF(referentes!AC363=referentes!AI363,CONCATENATE(referentes!AH363,\" \",referentes!AI363,\" \",\" \"),CONCATENATE(referentes!AH363,\" \",referentes!AI363,\" \",referentes!AC363))))","v":""},{"$f":"IF(referentes!AB363=\"\",\"\",referentes!AB363)","v":""},null,null,null,{"$f":"TRIM(UPPER(CONCATENATE(referentes!AH359,\" \",referentes!AI359,\" \",referentes!AJ359,\" \",referentes!AK359,\" \",referentes!AF359)))","v":"HALAMPHORA COFFEAEFORMIS"},{"$f":"referentes!AG359","v":0},null,null,null,null,null,null,null,null,null,null,null,null,null,"NITZSCHIA RECTA"]
[null,null,null,null,null,null,null,null,null,null,null,null,null,null,null,{"$f":"IF(referentes!AC364=\"\",\"\",IF(referentes!AC364=referentes!AH364,CONCATENATE(referentes!AC364,\" \",\" \",\" \",\" \"),IF(referentes!AC364=referentes!AI364,CONCATENATE(referentes!AH364,\" \",referentes!AI364,\" \",\" \"),CONCATENATE(referentes!AH364,\" \",referentes!AI364,\" \",referentes!AC364))))","v":""},{"$f":"IF(referentes!AB364=\"\",\"\",referentes!AB364)","v":""},null,null,null,{"$f":"TRIM(UPPER(CONCATENATE(referentes!AH360,\" \",referentes!AI360,\" \",referentes!AJ360,\" \",referentes!AK360,\" \",referentes!AF360)))","v":"HALAMPHORA EXIGUA"},{"$f":"referentes!AG360","v":0},null,null,null,null,null,null,null,null,null,null,null,null,null,"NITZSCHIA SCALPELLIFORMIS"]
[null,null,null,null,null,null,null,null,null,null,null,null,null,null,null,{"$f":"IF(referentes!AC365=\"\",\"\",IF(referentes!AC365=referentes!AH365,CONCATENATE(referentes!AC365,\" \",\" \",\" \",\" \"),IF(referentes!AC365=referentes!AI365,CONCATENATE(referentes!AH365,\" \",referentes!AI365,\" \",\" \"),CONCATENATE(referentes!AH365,\" \",referentes!AI365,\" \",referentes!AC365))))","v":""},{"$f":"IF(referentes!AB365=\"\",\"\",referentes!AB365)","v":""},null,null,null,{"$f":"TRIM(UPPER(CONCATENATE(referentes!AH361,\" \",referentes!AI361,\" \",referentes!AJ361,\" \",referentes!AK361,\" \",referentes!AF361)))","v":"HANTZSCHIA"},{"$f":"referentes!AG361","v":0},null,null,null,null,null,null,null,null,null,null,null,null,null,"NITZSCHIA SICULA"]
[null,null,null,null,null,null,null,null,null,null,null,null,null,null,null,{"$f":"IF(referentes!AC366=\"\",\"\",IF(referentes!AC366=referentes!AH366,CONCATENATE(referentes!AC366,\" \",\" \",\" \",\" \"),IF(referentes!AC366=referentes!AI366,CONCATENATE(referentes!AH366,\" \",referentes!AI366,\" \",\" \"),CONCATENATE(referentes!AH366,\" \",referentes!AI366,\" \",referentes!AC366))))","v":""},{"$f":"IF(referentes!AB366=\"\",\"\",referentes!AB366)","v":""},null,null,null,{"$f":"TRIM(UPPER(CONCATENATE(referentes!AH362,\" \",referentes!AI362,\" \",referentes!AJ362,\" \",referentes!AK362,\" \",referentes!AF362)))","v":"HANTZSCHIA AMPHIOXYS"},{"$f":"referentes!AG362","v":0},null,null,null,null,null,null,null,null,null,null,null,null,null,"NITZSCHIA SIGMA"]
[null,null,null,null,null,null,null,null,null,null,null,null,null,null,null,{"$f":"IF(referentes!AC367=\"\",\"\",IF(referentes!AC367=referentes!AH367,CONCATENATE(referentes!AC367,\" \",\" \",\" \",\" \"),IF(referentes!AC367=referentes!AI367,CONCATENATE(referentes!AH367,\" \",referentes!AI367,\" \",\" \"),CONCATENATE(referentes!AH367,\" \",referentes!AI367,\" \",referentes!AC367))))","v":""},{"$f":"IF(referentes!AB367=\"\",\"\",referentes!AB367)","v":""},null,null,null,{"$f":"TRIM(UPPER(CONCATENATE(referentes!AH363,\" \",referentes!AI363,\" \",referentes!AJ363,\" \",referentes!AK363,\" \",referentes!AF363)))","v":"HASLEA"},{"$f":"referentes!AG363","v":0},null,null,null,null,null,null,null,null,null,null,null,null,null,"NITZSCHIA SIGMOIDEA"]
[null,null,null,null,null,null,null,null,null,null,null,null,null,null,null,{"$f":"IF(referentes!AC368=\"\",\"\",IF(referentes!AC368=referentes!AH368,CONCATENATE(referentes!AC368,\" \",\" \",\" \",\" \"),IF(referentes!AC368=referentes!AI368,CONCATENATE(referentes!AH368,\" \",referentes!AI368,\" \",\" \"),CONCATENATE(referentes!AH368,\" \",referentes!AI368,\" \",referentes!AC368))))","v":""},{"$f":"IF(referentes!AB368=\"\",\"\",referentes!AB368)","v":""},null,null,null,{"$f":"TRIM(UPPER(CONCATENATE(referentes!AH364,\" \",referentes!AI364,\" \",referentes!AJ364,\" \",referentes!AK364,\" \",referentes!AF364)))","v":"HASLEA WAWRIKAE"},{"$f":"referentes!AG364","v":0},null,null,null,null,null,null,null,null,null,null,null,null,null,"NITZSCHIA SOCIALIS"]
[null,null,null,null,null,null,null,null,null,null,null,null,null,null,null,{"$f":"IF(referentes!AC369=\"\",\"\",IF(referentes!AC369=referentes!AH369,CONCATENATE(referentes!AC369,\" \",\" \",\" \",\" \"),IF(referentes!AC369=referentes!AI369,CONCATENATE(referentes!AH369,\" \",referentes!AI369,\" \",\" \"),CONCATENATE(referentes!AH369,\" \",referentes!AI369,\" \",referentes!AC369))))","v":""},{"$f":"IF(referentes!AB369=\"\",\"\",referentes!AB369)","v":""},null,null,null,{"$f":"TRIM(UPPER(CONCATENATE(referentes!AH365,\" \",referentes!AI365,\" \",referentes!AJ365,\" \",referentes!AK365,\" \",referentes!AF365)))","v":"HELICOTHECA"},{"$f":"referentes!AG365","v":0},null,null,null,null,null,null,null,null,null,null,null,null,null,"NITZSCHIA VENTRICOSA"]
[null,null,null,null,null,null,null,null,null,null,null,null,null,null,null,{"$f":"IF(referentes!AC370=\"\",\"\",IF(referentes!AC370=referentes!AH370,CONCATENATE(referentes!AC370,\" \",\" \",\" \",\" \"),IF(referentes!AC370=referentes!AI370,CONCATENATE(referentes!AH370,\" \",referentes!AI370,\" \",\" \"),CONCATENATE(referentes!AH370,\" \",referentes!AI370,\" \",referentes!AC370))))","v":""},{"$f":"IF(referentes!AB370=\"\",\"\",referentes!AB370)","v":""},null,null,null,{"$f":"TRIM(UPPER(CONCATENATE(referentes!AH366,\" \",referentes!AI366,\" \",referentes!AJ366,\" \",referentes!AK366,\" \",referentes!AF366)))","v":"HELICOTHECA TAMESIS"},{"$f":"referentes!AG366","v":0},null,null,null,null,null,null,null,null,null,null,null,null,null,"NOCTILUCA SCINTILLANS"]
[null,null,null,null,null,null,null,null,null,null,null,null,null,null,null,{"$f":"IF(referentes!AC371=\"\",\"\",IF(referentes!AC371=referentes!AH371,CONCATENATE(referentes!AC371,\" \",\" \",\" \",\" \"),IF(referentes!AC371=referentes!AI371,CONCATENATE(referentes!AH371,\" \",referentes!AI371,\" \",\" \"),CONCATENATE(referentes!AH371,\" \",referentes!AI371,\" \",referentes!AC371))))","v":""},{"$f":"IF(referentes!AB371=\"\",\"\",referentes!AB371)","v":""},null,null,null,{"$f":"TRIM(UPPER(CONCATENATE(referentes!AH367,\" \",referentes!AI367,\" \",referentes!AJ367,\" \",referentes!AK367,\" \",referentes!AF367)))","v":"HEMIAULUS"},{"$f":"referentes!AG367","v":0},null,null,null,null,null,null,null,null,null,null,null,null,null,"OBLEA BACULIFERA"]
[null,null,null,null,null,null,null,null,null,null,null,null,null,null,null,{"$f":"IF(referentes!AC372=\"\",\"\",IF(referentes!AC372=referentes!AH372,CONCATENATE(referentes!AC372,\" \",\" \",\" \",\" \"),IF(referentes!AC372=referentes!AI372,CONCATENATE(referentes!AH372,\" \",referentes!AI372,\" \",\" \"),CONCATENATE(referentes!AH372,\" \",referentes!AI372,\" \",referentes!AC372))))","v":""},{"$f":"IF(referentes!AB372=\"\",\"\",referentes!AB372)","v":""},null,null,null,{"$f":"TRIM(UPPER(CONCATENATE(referentes!AH368,\" \",referentes!AI368,\" \",referentes!AJ368,\" \",referentes!AK368,\" \",referentes!AF368)))","v":"HEMIAULUS HAUCKII"},{"$f":"referentes!AG368","v":0},null,null,null,null,null,null,null,null,null,null,null,null,null,"OCTACTIS OCTONARIA"]
[null,null,null,null,null,null,null,null,null,null,null,null,null,null,null,{"$f":"IF(referentes!AC373=\"\",\"\",IF(referentes!AC373=referentes!AH373,CONCATENATE(referentes!AC373,\" \",\" \",\" \",\" \"),IF(referentes!AC373=referentes!AI373,CONCATENATE(referentes!AH373,\" \",referentes!AI373,\" \",\" \"),CONCATENATE(referentes!AH373,\" \",referentes!AI373,\" \",referentes!AC373))))","v":""},{"$f":"IF(referentes!AB373=\"\",\"\",referentes!AB373)","v":""},null,null,null,{"$f":"TRIM(UPPER(CONCATENATE(referentes!AH369,\" \",referentes!AI369,\" \",referentes!AJ369,\" \",referentes!AK369,\" \",referentes!AF369)))","v":"HEMIAULUS MEMBRANACEUS"},{"$f":"referentes!AG369","v":0},null,null,null,null,null,null,null,null,null,null,null,null,null,"ODONTELLA AURITA"]
[null,null,null,null,null,null,null,null,null,null,null,null,null,null,null,{"$f":"IF(referentes!AC374=\"\",\"\",IF(referentes!AC374=referentes!AH374,CONCATENATE(referentes!AC374,\" \",\" \",\" \",\" \"),IF(referentes!AC374=referentes!AI374,CONCATENATE(referentes!AH374,\" \",referentes!AI374,\" \",\" \"),CONCATENATE(referentes!AH374,\" \",referentes!AI374,\" \",referentes!AC374))))","v":""},{"$f":"IF(referentes!AB374=\"\",\"\",referentes!AB374)","v":""},null,null,null,{"$f":"TRIM(UPPER(CONCATENATE(referentes!AH370,\" \",referentes!AI370,\" \",referentes!AJ370,\" \",referentes!AK370,\" \",referentes!AF370)))","v":"HEMIAULUS SINENSIS"},{"$f":"referentes!AG370","v":0},null,null,null,null,null,null,null,null,null,null,null,null,null,"ODONTELLA LONGICRURIS"]
[null,null,null,null,null,null,null,null,null,null,null,null,null,null,null,{"$f":"IF(referentes!AC375=\"\",\"\",IF(referentes!AC375=referentes!AH375,CONCATENATE(referentes!AC375,\" \",\" \",\" \",\" \"),IF(referentes!AC375=referentes!AI375,CONCATENATE(referentes!AH375,\" \",referentes!AI375,\" \",\" \"),CONCATENATE(referentes!AH375,\" \",referentes!AI375,\" \",referentes!AC375))))","v":""},{"$f":"IF(referentes!AB375=\"\",\"\",referentes!AB375)","v":""},null,null,null,{"$f":"TRIM(UPPER(CONCATENATE(referentes!AH371,\" \",referentes!AI371,\" \",referentes!AJ371,\" \",referentes!AK371,\" \",referentes!AF371)))","v":"HEMISELMIS"},{"$f":"referentes!AG371","v":0},null,null,null,null,null,null,null,null,null,null,null,null,null,"ODONTELLA MOBILIENSIS"]
[null,null,null,null,null,null,null,null,null,null,null,null,null,null,null,{"$f":"IF(referentes!AC376=\"\",\"\",IF(referentes!AC376=referentes!AH376,CONCATENATE(referentes!AC376,\" \",\" \",\" \",\" \"),IF(referentes!AC376=referentes!AI376,CONCATENATE(referentes!AH376,\" \",referentes!AI376,\" \",\" \"),CONCATENATE(referentes!AH376,\" \",referentes!AI376,\" \",referentes!AC376))))","v":""},{"$f":"IF(referentes!AB376=\"\",\"\",referentes!AB376)","v":""},null,null,null,{"$f":"TRIM(UPPER(CONCATENATE(referentes!AH372,\" \",referentes!AI372,\" \",referentes!AJ372,\" \",referentes!AK372,\" \",referentes!AF372)))","v":"HERMESINUM"},{"$f":"referentes!AG372","v":0},null,null,null,null,null,null,null,null,null,null,null,null,null,"ODONTELLA REGIA"]
[null,null,null,null,null,null,null,null,null,null,null,null,null,null,null,{"$f":"IF(referentes!AC377=\"\",\"\",IF(referentes!AC377=referentes!AH377,CONCATENATE(referentes!AC377,\" \",\" \",\" \",\" \"),IF(referentes!AC377=referentes!AI377,CONCATENATE(referentes!AH377,\" \",referentes!AI377,\" \",\" \"),CONCATENATE(referentes!AH377,\" \",referentes!AI377,\" \",referentes!AC377))))","v":""},{"$f":"IF(referentes!AB377=\"\",\"\",referentes!AB377)","v":""},null,null,null,{"$f":"TRIM(UPPER(CONCATENATE(referentes!AH373,\" \",referentes!AI373,\" \",referentes!AJ373,\" \",referentes!AK373,\" \",referentes!AF373)))","v":"HERMESINUM ADRIATICUM"},{"$f":"referentes!AG373","v":0},null,null,null,null,null,null,null,null,null,null,null,null,null,"ODONTELLA SINENSIS"]
[null,null,null,null,null,null,null,null,null,null,null,null,null,null,null,{"$f":"IF(referentes!AC378=\"\",\"\",IF(referentes!AC378=referentes!AH378,CONCATENATE(referentes!AC378,\" \",\" \",\" \",\" \"),IF(referentes!AC378=referentes!AI378,CONCATENATE(referentes!AH378,\" \",referentes!AI378,\" \",\" \"),CONCATENATE(referentes!AH378,\" \",referentes!AI378,\" \",referentes!AC378))))","v":""},{"$f":"IF(referentes!AB378=\"\",\"\",referentes!AB378)","v":""},null,null,null,{"$f":"TRIM(UPPER(CONCATENATE(referentes!AH374,\" \",referentes!AI374,\" \",referentes!AJ374,\" \",referentes!AK374,\" \",referentes!AF374)))","v":"HETEROCAPSA"},{"$f":"referentes!AG374","v":0},null,null,null,null,null,null,null,null,null,null,null,null,null,"OPEPHORA SCHWARTZII"]
[null,null,null,null,null,null,null,null,null,null,null,null,null,null,null,{"$f":"IF(referentes!AC379=\"\",\"\",IF(referentes!AC379=referentes!AH379,CONCATENATE(referentes!AC379,\" \",\" \",\" \",\" \"),IF(referentes!AC379=referentes!AI379,CONCATENATE(referentes!AH379,\" \",referentes!AI379,\" \",\" \"),CONCATENATE(referentes!AH379,\" \",referentes!AI379,\" \",referentes!AC379))))","v":""},{"$f":"IF(referentes!AB379=\"\",\"\",referentes!AB379)","v":""},null,null,null,{"$f":"TRIM(UPPER(CONCATENATE(referentes!AH375,\" \",referentes!AI375,\" \",referentes!AJ375,\" \",referentes!AK375,\" \",referentes!AF375)))","v":"HETERODINIUM"},{"$f":"referentes!AG375","v":0},null,null,null,null,null,null,null,null,null,null,null,null,null,"ORNITHOCERCUS HETEROPORUS"]
[null,null,null,null,null,null,null,null,null,null,null,null,null,null,null,{"$f":"IF(referentes!AC380=\"\",\"\",IF(referentes!AC380=referentes!AH380,CONCATENATE(referentes!AC380,\" \",\" \",\" \",\" \"),IF(referentes!AC380=referentes!AI380,CONCATENATE(referentes!AH380,\" \",referentes!AI380,\" \",\" \"),CONCATENATE(referentes!AH380,\" \",referentes!AI380,\" \",referentes!AC380))))","v":""},{"$f":"IF(referentes!AB380=\"\",\"\",referentes!AB380)","v":""},null,null,null,{"$f":"TRIM(UPPER(CONCATENATE(referentes!AH376,\" \",referentes!AI376,\" \",referentes!AJ376,\" \",referentes!AK376,\" \",referentes!AF376)))","v":"HETERODINIUM ANGULATUM"},{"$f":"referentes!AG376","v":0},null,null,null,null,null,null,null,null,null,null,null,null,null,"ORNITHOCERCUS MAGNIFICUS"]
[null,null,null,null,null,null,null,null,null,null,null,null,null,null,null,{"$f":"IF(referentes!AC381=\"\",\"\",IF(referentes!AC381=referentes!AH381,CONCATENATE(referentes!AC381,\" \",\" \",\" \",\" \"),IF(referentes!AC381=referentes!AI381,CONCATENATE(referentes!AH381,\" \",referentes!AI381,\" \",\" \"),CONCATENATE(referentes!AH381,\" \",referentes!AI381,\" \",referentes!AC381))))","v":""},{"$f":"IF(referentes!AB381=\"\",\"\",referentes!AB381)","v":""},null,null,null,{"$f":"TRIM(UPPER(CONCATENATE(referentes!AH377,\" \",referentes!AI377,\" \",referentes!AJ377,\" \",referentes!AK377,\" \",referentes!AF377)))","v":"HILLEA"},{"$f":"referentes!AG377","v":0},null,null,null,null,null,null,null,null,null,null,null,null,null,"ORNITHOCERCUS QUADRATUS"]
[null,null,null,null,null,null,null,null,null,null,null,null,null,null,null,{"$f":"IF(referentes!AC382=\"\",\"\",IF(referentes!AC382=referentes!AH382,CONCATENATE(referentes!AC382,\" \",\" \",\" \",\" \"),IF(referentes!AC382=referentes!AI382,CONCATENATE(referentes!AH382,\" \",referentes!AI382,\" \",\" \"),CONCATENATE(referentes!AH382,\" \",referentes!AI382,\" \",referentes!AC382))))","v":""},{"$f":"IF(referentes!AB382=\"\",\"\",referentes!AB382)","v":""},null,null,null,{"$f":"TRIM(UPPER(CONCATENATE(referentes!AH378,\" \",referentes!AI378,\" \",referentes!AJ378,\" \",referentes!AK378,\" \",referentes!AF378)))","v":"HISTIONEIS"},{"$f":"referentes!AG378","v":0},null,null,null,null,null,null,null,null,null,null,null,null,null,"ORNITHOCERCUS SPLENDIDUS"]
[null,null,null,null,null,null,null,null,null,null,null,null,null,null,null,{"$f":"IF(referentes!AC383=\"\",\"\",IF(referentes!AC383=referentes!AH383,CONCATENATE(referentes!AC383,\" \",\" \",\" \",\" \"),IF(referentes!AC383=referentes!AI383,CONCATENATE(referentes!AH383,\" \",referentes!AI383,\" \",\" \"),CONCATENATE(referentes!AH383,\" \",referentes!AI383,\" \",referentes!AC383))))","v":""},{"$f":"IF(referentes!AB383=\"\",\"\",referentes!AB383)","v":""},null,null,null,{"$f":"TRIM(UPPER(CONCATENATE(referentes!AH379,\" \",referentes!AI379,\" \",referentes!AJ379,\" \",referentes!AK379,\" \",referentes!AF379)))","v":"HISTIONEIS MEGALOCOPA"},{"$f":"referentes!AG379","v":0},null,null,null,null,null,null,null,null,null,null,null,null,null,"ORNITHOCERCUS STEINII"]
[null,null,null,null,null,null,null,null,null,null,null,null,null,null,null,{"$f":"IF(referentes!AC384=\"\",\"\",IF(referentes!AC384=referentes!AH384,CONCATENATE(referentes!AC384,\" \",\" \",\" \",\" \"),IF(referentes!AC384=referentes!AI384,CONCATENATE(referentes!AH384,\" \",referentes!AI384,\" \",\" \"),CONCATENATE(referentes!AH384,\" \",referentes!AI384,\" \",referentes!AC384))))","v":""},{"$f":"IF(referentes!AB384=\"\",\"\",referentes!AB384)","v":""},null,null,null,{"$f":"TRIM(UPPER(CONCATENATE(referentes!AH380,\" \",referentes!AI380,\" \",referentes!AJ380,\" \",referentes!AK380,\" \",referentes!AF380)))","v":"HISTIONEIS OXYPTERIS"},{"$f":"referentes!AG380","v":0},null,null,null,null,null,null,null,null,null,null,null,null,null,"ORNITHOCERCUS THUMII"]
[null,null,null,null,null,null,null,null,null,null,null,null,null,null,null,{"$f":"IF(referentes!AC385=\"\",\"\",IF(referentes!AC385=referentes!AH385,CONCATENATE(referentes!AC385,\" \",\" \",\" \",\" \"),IF(referentes!AC385=referentes!AI385,CONCATENATE(referentes!AH385,\" \",referentes!AI385,\" \",\" \"),CONCATENATE(referentes!AH385,\" \",referentes!AI385,\" \",referentes!AC385))))","v":""},{"$f":"IF(referentes!AB385=\"\",\"\",referentes!AB385)","v":""},null,null,null,{"$f":"TRIM(UPPER(CONCATENATE(referentes!AH381,\" \",referentes!AI381,\" \",referentes!AJ381,\" \",referentes!AK381,\" \",referentes!AF381)))","v":"HISTIONEIS PANARIA"},{"$f":"referentes!AG381","v":0},null,null,null,null,null,null,null,null,null,null,null,null,null,"OSCILLATORIA CONTEXTA"]
[null,null,null,null,null,null,null,null,null,null,null,null,null,null,null,{"$f":"IF(referentes!AC386=\"\",\"\",IF(referentes!AC386=referentes!AH386,CONCATENATE(referentes!AC386,\" \",\" \",\" \",\" \"),IF(referentes!AC386=referentes!AI386,CONCATENATE(referentes!AH386,\" \",referentes!AI386,\" \",\" \"),CONCATENATE(referentes!AH386,\" \",referentes!AI386,\" \",referentes!AC386))))","v":""},{"$f":"IF(referentes!AB386=\"\",\"\",referentes!AB386)","v":""},null,null,null,{"$f":"TRIM(UPPER(CONCATENATE(referentes!AH382,\" \",referentes!AI382,\" \",referentes!AJ382,\" \",referentes!AK382,\" \",referentes!AF382)))","v":"HISTIONEIS PARA"},{"$f":"referentes!AG382","v":0},null,null,null,null,null,null,null,null,null,null,null,null,null,"OSTREOPSIS OVATA"]
[null,null,null,null,null,null,null,null,null,null,null,null,null,null,null,{"$f":"IF(referentes!AC387=\"\",\"\",IF(referentes!AC387=referentes!AH387,CONCATENATE(referentes!AC387,\" \",\" \",\" \",\" \"),IF(referentes!AC387=referentes!AI387,CONCATENATE(referentes!AH387,\" \",referentes!AI387,\" \",\" \"),CONCATENATE(referentes!AH387,\" \",referentes!AI387,\" \",referentes!AC387))))","v":""},{"$f":"IF(referentes!AB387=\"\",\"\",referentes!AB387)","v":""},null,null,null,{"$f":"TRIM(UPPER(CONCATENATE(referentes!AH383,\" \",referentes!AI383,\" \",referentes!AJ383,\" \",referentes!AK383,\" \",referentes!AF383)))","v":"HISTIONEIS ROTUNDATA"},{"$f":"referentes!AG383","v":0},null,null,null,null,null,null,null,null,null,null,null,null,null,"OXYTOXUM CONSTRICTUM"]
[null,null,null,null,null,null,null,null,null,null,null,null,null,null,null,{"$f":"IF(referentes!AC388=\"\",\"\",IF(referentes!AC388=referentes!AH388,CONCATENATE(referentes!AC388,\" \",\" \",\" \",\" \"),IF(referentes!AC388=referentes!AI388,CONCATENATE(referentes!AH388,\" \",referentes!AI388,\" \",\" \"),CONCATENATE(referentes!AH388,\" \",referentes!AI388,\" \",referentes!AC388))))","v":""},{"$f":"IF(referentes!AB388=\"\",\"\",referentes!AB388)","v":""},null,null,null,{"$f":"TRIM(UPPER(CONCATENATE(referentes!AH384,\" \",referentes!AI384,\" \",referentes!AJ384,\" \",referentes!AK384,\" \",referentes!AF384)))","v":"HISTIONEIS VARIABILIS"},{"$f":"referentes!AG384","v":0},null,null,null,null,null,null,null,null,null,null,null,null,null,"OXYTOXUM ELEGANS"]
[null,null,null,null,null,null,null,null,null,null,null,null,null,null,null,{"$f":"IF(referentes!AC389=\"\",\"\",IF(referentes!AC389=referentes!AH389,CONCATENATE(referentes!AC389,\" \",\" \",\" \",\" \"),IF(referentes!AC389=referentes!AI389,CONCATENATE(referentes!AH389,\" \",referentes!AI389,\" \",\" \"),CONCATENATE(referentes!AH389,\" \",referentes!AI389,\" \",referentes!AC389))))","v":""},{"$f":"IF(referentes!AB389=\"\",\"\",referentes!AB389)","v":""},null,null,null,{"$f":"TRIM(UPPER(CONCATENATE(referentes!AH385,\" \",referentes!AI385,\" \",referentes!AJ385,\" \",referentes!AK385,\" \",referentes!AF385)))","v":"HUTTONIELLA"},{"$f":"referentes!AG385","v":0},null,null,null,null,null,null,null,null,null,null,null,null,null,"OXYTOXUM GRACILE"]
[null,null,null,null,null,null,null,null,null,null,null,null,null,null,null,{"$f":"IF(referentes!AC390=\"\",\"\",IF(referentes!AC390=referentes!AH390,CONCATENATE(referentes!AC390,\" \",\" \",\" \",\" \"),IF(referentes!AC390=referentes!AI390,CONCATENATE(referentes!AH390,\" \",referentes!AI390,\" \",\" \"),CONCATENATE(referentes!AH390,\" \",referentes!AI390,\" \",referentes!AC390))))","v":""},{"$f":"IF(referentes!AB390=\"\",\"\",referentes!AB390)","v":""},null,null,null,{"$f":"TRIM(UPPER(CONCATENATE(referentes!AH386,\" \",referentes!AI386,\" \",referentes!AJ386,\" \",referentes!AK386,\" \",referentes!AF386)))","v":"HYALODISCUS"},{"$f":"referentes!AG386","v":0},null,null,null,null,null,null,null,null,null,null,null,null,null,"OXYTOXUM LONGICEPS"]
[null,null,null,null,null,null,null,null,null,null,null,null,null,null,null,{"$f":"IF(referentes!AC391=\"\",\"\",IF(referentes!AC391=referentes!AH391,CONCATENATE(referentes!AC391,\" \",\" \",\" \",\" \"),IF(referentes!AC391=referentes!AI391,CONCATENATE(referentes!AH391,\" \",referentes!AI391,\" \",\" \"),CONCATENATE(referentes!AH391,\" \",referentes!AI391,\" \",referentes!AC391))))","v":""},{"$f":"IF(referentes!AB391=\"\",\"\",referentes!AB391)","v":""},null,null,null,{"$f":"TRIM(UPPER(CONCATENATE(referentes!AH387,\" \",referentes!AI387,\" \",referentes!AJ387,\" \",referentes!AK387,\" \",referentes!AF387)))","v":"HYALOSIRA"},{"$f":"referentes!AG387","v":0},null,null,null,null,null,null,null,null,null,null,null,null,null,"OXYTOXUM MEDITERRANEUM"]
[null,null,null,null,null,null,null,null,null,null,null,null,null,null,null,{"$f":"IF(referentes!AC392=\"\",\"\",IF(referentes!AC392=referentes!AH392,CONCATENATE(referentes!AC392,\" \",\" \",\" \",\" \"),IF(referentes!AC392=referentes!AI392,CONCATENATE(referentes!AH392,\" \",referentes!AI392,\" \",\" \"),CONCATENATE(referentes!AH392,\" \",referentes!AI392,\" \",referentes!AC392))))","v":""},{"$f":"IF(referentes!AB392=\"\",\"\",referentes!AB392)","v":""},null,null,null,{"$f":"TRIM(UPPER(CONCATENATE(referentes!AH388,\" \",referentes!AI388,\" \",referentes!AJ388,\" \",referentes!AK388,\" \",referentes!AF388)))","v":"HYALOSIRA INTERRUPTA"},{"$f":"referentes!AG388","v":0},null,null,null,null,null,null,null,null,null,null,null,null,null,"OXYTOXUM MILNERI"]
[null,null,null,null,null,null,null,null,null,null,null,null,null,null,null,{"$f":"IF(referentes!AC393=\"\",\"\",IF(referentes!AC393=referentes!AH393,CONCATENATE(referentes!AC393,\" \",\" \",\" \",\" \"),IF(referentes!AC393=referentes!AI393,CONCATENATE(referentes!AH393,\" \",referentes!AI393,\" \",\" \"),CONCATENATE(referentes!AH393,\" \",referentes!AI393,\" \",referentes!AC393))))","v":""},{"$f":"IF(referentes!AB393=\"\",\"\",referentes!AB393)","v":""},null,null,null,{"$f":"TRIM(UPPER(CONCATENATE(referentes!AH389,\" \",referentes!AI389,\" \",referentes!AJ389,\" \",referentes!AK389,\" \",referentes!AF389)))","v":"ISTHMIA"},{"$f":"referentes!AG389","v":0},null,null,null,null,null,null,null,null,null,null,null,null,null,"OXYTOXUM PARVUM"]
[null,null,null,null,null,null,null,null,null,null,null,null,null,null,null,{"$f":"IF(referentes!AC394=\"\",\"\",IF(referentes!AC394=referentes!AH394,CONCATENATE(referentes!AC394,\" \",\" \",\" \",\" \"),IF(referentes!AC394=referentes!AI394,CONCATENATE(referentes!AH394,\" \",referentes!AI394,\" \",\" \"),CONCATENATE(referentes!AH394,\" \",referentes!AI394,\" \",referentes!AC394))))","v":""},{"$f":"IF(referentes!AB394=\"\",\"\",referentes!AB394)","v":""},null,null,null,{"$f":"TRIM(UPPER(CONCATENATE(referentes!AH390,\" \",referentes!AI390,\" \",referentes!AJ390,\" \",referentes!AK390,\" \",referentes!AF390)))","v":"ISTHMIA ENERVIS"},{"$f":"referentes!AG390","v":0},null,null,null,null,null,null,null,null,null,null,null,null,null,"OXYTOXUM SCOLOPAX"]
[null,null,null,null,null,null,null,null,null,null,null,null,null,null,null,{"$f":"IF(referentes!AC395=\"\",\"\",IF(referentes!AC395=referentes!AH395,CONCATENATE(referentes!AC395,\" \",\" \",\" \",\" \"),IF(referentes!AC395=referentes!AI395,CONCATENATE(referentes!AH395,\" \",referentes!AI395,\" \",\" \"),CONCATENATE(referentes!AH395,\" \",referentes!AI395,\" \",referentes!AC395))))","v":""},{"$f":"IF(referentes!AB395=\"\",\"\",referentes!AB395)","v":""},null,null,null,{"$f":"TRIM(UPPER(CONCATENATE(referentes!AH391,\" \",referentes!AI391,\" \",referentes!AJ391,\" \",referentes!AK391,\" \",referentes!AF391)))","v":"ISTHMIA MINIMA"},{"$f":"referentes!AG391","v":0},null,null,null,null,null,null,null,null,null,null,null,null,null,"OXYTOXUM TESSELATUM"]
[null,null,null,null,null,null,null,null,null,null,null,null,null,null,null,{"$f":"IF(referentes!AC396=\"\",\"\",IF(referentes!AC396=referentes!AH396,CONCATENATE(referentes!AC396,\" \",\" \",\" \",\" \"),IF(referentes!AC396=referentes!AI396,CONCATENATE(referentes!AH396,\" \",referentes!AI396,\" \",\" \"),CONCATENATE(referentes!AH396,\" \",referentes!AI396,\" \",referentes!AC396))))","v":""},{"$f":"IF(referentes!AB396=\"\",\"\",referentes!AB396)","v":""},null,null,null,{"$f":"TRIM(UPPER(CONCATENATE(referentes!AH392,\" \",referentes!AI392,\" \",referentes!AJ392,\" \",referentes!AK392,\" \",referentes!AF392)))","v":"KARENIA"},{"$f":"referentes!AG392","v":0},null,null,null,null,null,null,null,null,null,null,null,null,null,"OXYTOXUM TURBO"]
[null,null,null,null,null,null,null,null,null,null,null,null,null,null,null,{"$f":"IF(referentes!AC397=\"\",\"\",IF(referentes!AC397=referentes!AH397,CONCATENATE(referentes!AC397,\" \",\" \",\" \",\" \"),IF(referentes!AC397=referentes!AI397,CONCATENATE(referentes!AH397,\" \",referentes!AI397,\" \",\" \"),CONCATENATE(referentes!AH397,\" \",referentes!AI397,\" \",referentes!AC397))))","v":""},{"$f":"IF(referentes!AB397=\"\",\"\",referentes!AB397)","v":""},null,null,null,{"$f":"TRIM(UPPER(CONCATENATE(referentes!AH393,\" \",referentes!AI393,\" \",referentes!AJ393,\" \",referentes!AK393,\" \",referentes!AF393)))","v":"KATODINIUM"},{"$f":"referentes!AG393","v":0},null,null,null,null,null,null,null,null,null,null,null,null,null,"PALMERINA HARDMANIANA"]
[null,null,null,null,null,null,null,null,null,null,null,null,null,null,null,{"$f":"IF(referentes!AC398=\"\",\"\",IF(referentes!AC398=referentes!AH398,CONCATENATE(referentes!AC398,\" \",\" \",\" \",\" \"),IF(referentes!AC398=referentes!AI398,CONCATENATE(referentes!AH398,\" \",referentes!AI398,\" \",\" \"),CONCATENATE(referentes!AH398,\" \",referentes!AI398,\" \",referentes!AC398))))","v":""},{"$f":"IF(referentes!AB398=\"\",\"\",referentes!AB398)","v":""},null,null,null,{"$f":"TRIM(UPPER(CONCATENATE(referentes!AH394,\" \",referentes!AI394,\" \",referentes!AJ394,\" \",referentes!AK394,\" \",referentes!AF394)))","v":"KIRCHNERIELLA"},{"$f":"referentes!AG394","v":0},null,null,null,null,null,null,null,null,null,null,null,null,null,"PARALIA SULCATA"]
[null,null,null,null,null,null,null,null,null,null,null,null,null,null,null,{"$f":"IF(referentes!AC399=\"\",\"\",IF(referentes!AC399=referentes!AH399,CONCATENATE(referentes!AC399,\" \",\" \",\" \",\" \"),IF(referentes!AC399=referentes!AI399,CONCATENATE(referentes!AH399,\" \",referentes!AI399,\" \",\" \"),CONCATENATE(referentes!AH399,\" \",referentes!AI399,\" \",referentes!AC399))))","v":""},{"$f":"IF(referentes!AB399=\"\",\"\",referentes!AB399)","v":""},null,null,null,{"$f":"TRIM(UPPER(CONCATENATE(referentes!AH395,\" \",referentes!AI395,\" \",referentes!AJ395,\" \",referentes!AK395,\" \",referentes!AF395)))","v":"KOFOIDINIUM"},{"$f":"referentes!AG395","v":0},null,null,null,null,null,null,null,null,null,null,null,null,null,"PARLIBELLUS CRUCICULUS"]
[null,null,null,null,null,null,null,null,null,null,null,null,null,null,null,{"$f":"IF(referentes!AC400=\"\",\"\",IF(referentes!AC400=referentes!AH400,CONCATENATE(referentes!AC400,\" \",\" \",\" \",\" \"),IF(referentes!AC400=referentes!AI400,CONCATENATE(referentes!AH400,\" \",referentes!AI400,\" \",\" \"),CONCATENATE(referentes!AH400,\" \",referentes!AI400,\" \",referentes!AC400))))","v":""},{"$f":"IF(referentes!AB400=\"\",\"\",referentes!AB400)","v":""},null,null,null,{"$f":"TRIM(UPPER(CONCATENATE(referentes!AH396,\" \",referentes!AI396,\" \",referentes!AJ396,\" \",referentes!AK396,\" \",referentes!AF396)))","v":"KOFOIDINIUM VELLELOIDES"},{"$f":"referentes!AG396","v":0},null,null,null,null,null,null,null,null,null,null,null,null,null,"PEDIASTRUM DUPLEX"]
[null,null,null,null,null,null,null,null,null,null,null,null,null,null,null,{"$f":"IF(referentes!AC401=\"\",\"\",IF(referentes!AC401=referentes!AH401,CONCATENATE(referentes!AC401,\" \",\" \",\" \",\" \"),IF(referentes!AC401=referentes!AI401,CONCATENATE(referentes!AH401,\" \",referentes!AI401,\" \",\" \"),CONCATENATE(referentes!AH401,\" \",referentes!AI401,\" \",referentes!AC401))))","v":""},{"$f":"IF(referentes!AB401=\"\",\"\",referentes!AB401)","v":""},null,null,null,{"$f":"TRIM(UPPER(CONCATENATE(referentes!AH397,\" \",referentes!AI397,\" \",referentes!AJ397,\" \",referentes!AK397,\" \",referentes!AF397)))","v":"KOMVOPHORON"},{"$f":"referentes!AG397","v":0},null,null,null,null,null,null,null,null,null,null,null,null,null,"PERIDINIUM QUINQUECORNE"]
[null,null,null,null,null,null,null,null,null,null,null,null,null,null,null,{"$f":"IF(referentes!AC402=\"\",\"\",IF(referentes!AC402=referentes!AH402,CONCATENATE(referentes!AC402,\" \",\" \",\" \",\" \"),IF(referentes!AC402=referentes!AI402,CONCATENATE(referentes!AH402,\" \",referentes!AI402,\" \",\" \"),CONCATENATE(referentes!AH402,\" \",referentes!AI402,\" \",referentes!AC402))))","v":""},{"$f":"IF(referentes!AB402=\"\",\"\",referentes!AB402)","v":""},null,null,null,{"$f":"TRIM(UPPER(CONCATENATE(referentes!AH398,\" \",referentes!AI398,\" \",referentes!AJ398,\" \",referentes!AK398,\" \",referentes!AF398)))","v":"KOMVOPHORON CRASSUM"},{"$f":"referentes!AG398","v":0},null,null,null,null,null,null,null,null,null,null,null,null,null,"PETRODICTYON GEMMA"]
[null,null,null,null,null,null,null,null,null,null,null,null,null,null,null,{"$f":"IF(referentes!AC403=\"\",\"\",IF(referentes!AC403=referentes!AH403,CONCATENATE(referentes!AC403,\" \",\" \",\" \",\" \"),IF(referentes!AC403=referentes!AI403,CONCATENATE(referentes!AH403,\" \",referentes!AI403,\" \",\" \"),CONCATENATE(referentes!AH403,\" \",referentes!AI403,\" \",referentes!AC403))))","v":""},{"$f":"IF(referentes!AB403=\"\",\"\",referentes!AB403)","v":""},null,null,null,{"$f":"TRIM(UPPER(CONCATENATE(referentes!AH399,\" \",referentes!AI399,\" \",referentes!AJ399,\" \",referentes!AK399,\" \",referentes!AF399)))","v":"LAMPRISCUS"},{"$f":"referentes!AG399","v":0},null,null,null,null,null,null,null,null,null,null,null,null,null,"PETRONEIS GRANULATA"]
[null,null,null,null,null,null,null,null,null,null,null,null,null,null,null,{"$f":"IF(referentes!AC404=\"\",\"\",IF(referentes!AC404=referentes!AH404,CONCATENATE(referentes!AC404,\" \",\" \",\" \",\" \"),IF(referentes!AC404=referentes!AI404,CONCATENATE(referentes!AH404,\" \",referentes!AI404,\" \",\" \"),CONCATENATE(referentes!AH404,\" \",referentes!AI404,\" \",referentes!AC404))))","v":""},{"$f":"IF(referentes!AB404=\"\",\"\",referentes!AB404)","v":""},null,null,null,{"$f":"TRIM(UPPER(CONCATENATE(referentes!AH400,\" \",referentes!AI400,\" \",referentes!AJ400,\" \",referentes!AK400,\" \",referentes!AF400)))","v":"LAUDERIA"},{"$f":"referentes!AG400","v":0},null,null,null,null,null,null,null,null,null,null,null,null,null,"PETRONEIS MARINA"]
[null,null,null,null,null,null,null,null,null,null,null,null,null,null,null,{"$f":"IF(referentes!AC405=\"\",\"\",IF(referentes!AC405=referentes!AH405,CONCATENATE(referentes!AC405,\" \",\" \",\" \",\" \"),IF(referentes!AC405=referentes!AI405,CONCATENATE(referentes!AH405,\" \",referentes!AI405,\" \",\" \"),CONCATENATE(referentes!AH405,\" \",referentes!AI405,\" \",referentes!AC405))))","v":""},{"$f":"IF(referentes!AB405=\"\",\"\",referentes!AB405)","v":""},null,null,null,{"$f":"TRIM(UPPER(CONCATENATE(referentes!AH401,\" \",referentes!AI401,\" \",referentes!AJ401,\" \",referentes!AK401,\" \",referentes!AF401)))","v":"LAUDERIA ANNULATA"},{"$f":"referentes!AG401","v":0},null,null,null,null,null,null,null,null,null,null,null,null,null,"PETRONEIS PLAGIOSTOMA"]
[null,null,null,null,null,null,null,null,null,null,null,null,null,null,null,{"$f":"IF(referentes!AC406=\"\",\"\",IF(referentes!AC406=referentes!AH406,CONCATENATE(referentes!AC406,\" \",\" \",\" \",\" \"),IF(referentes!AC406=referentes!AI406,CONCATENATE(referentes!AH406,\" \",referentes!AI406,\" \",\" \"),CONCATENATE(referentes!AH406,\" \",referentes!AI406,\" \",referentes!AC406))))","v":""},{"$f":"IF(referentes!AB406=\"\",\"\",referentes!AB406)","v":""},null,null,null,{"$f":"TRIM(UPPER(CONCATENATE(referentes!AH402,\" \",referentes!AI402,\" \",referentes!AJ402,\" \",referentes!AK402,\" \",referentes!AF402)))","v":"LEPOCINCLIS"},{"$f":"referentes!AG402","v":0},null,null,null,null,null,null,null,null,null,null,null,null,null,"PHALACROMA CUNEUS"]
[null,null,null,null,null,null,null,null,null,null,null,null,null,null,null,{"$f":"IF(referentes!AC407=\"\",\"\",IF(referentes!AC407=referentes!AH407,CONCATENATE(referentes!AC407,\" \",\" \",\" \",\" \"),IF(referentes!AC407=referentes!AI407,CONCATENATE(referentes!AH407,\" \",referentes!AI407,\" \",\" \"),CONCATENATE(referentes!AH407,\" \",referentes!AI407,\" \",referentes!AC407))))","v":""},{"$f":"IF(referentes!AB407=\"\",\"\",referentes!AB407)","v":""},null,null,null,{"$f":"TRIM(UPPER(CONCATENATE(referentes!AH403,\" \",referentes!AI403,\" \",referentes!AJ403,\" \",referentes!AK403,\" \",referentes!AF403)))","v":"LEPTOCYLINDRUS"},{"$f":"referentes!AG403","v":0},null,null,null,null,null,null,null,null,null,null,null,null,null,"PHALACROMA DORYPHORUM"]
[null,null,null,null,null,null,null,null,null,null,null,null,null,null,null,{"$f":"IF(referentes!AC408=\"\",\"\",IF(referentes!AC408=referentes!AH408,CONCATENATE(referentes!AC408,\" \",\" \",\" \",\" \"),IF(referentes!AC408=referentes!AI408,CONCATENATE(referentes!AH408,\" \",referentes!AI408,\" \",\" \"),CONCATENATE(referentes!AH408,\" \",referentes!AI408,\" \",referentes!AC408))))","v":""},{"$f":"IF(referentes!AB408=\"\",\"\",referentes!AB408)","v":""},null,null,null,{"$f":"TRIM(UPPER(CONCATENATE(referentes!AH404,\" \",referentes!AI404,\" \",referentes!AJ404,\" \",referentes!AK404,\" \",referentes!AF404)))","v":"LEPTOCYLINDRUS DANICUS"},{"$f":"referentes!AG404","v":0},null,null,null,null,null,null,null,null,null,null,null,null,null,"PHALACROMA FAVUS"]
[null,null,null,null,null,null,null,null,null,null,null,null,null,null,null,{"$f":"IF(referentes!AC409=\"\",\"\",IF(referentes!AC409=referentes!AH409,CONCATENATE(referentes!AC409,\" \",\" \",\" \",\" \"),IF(referentes!AC409=referentes!AI409,CONCATENATE(referentes!AH409,\" \",referentes!AI409,\" \",\" \"),CONCATENATE(referentes!AH409,\" \",referentes!AI409,\" \",referentes!AC409))))","v":""},{"$f":"IF(referentes!AB409=\"\",\"\",referentes!AB409)","v":""},null,null,null,{"$f":"TRIM(UPPER(CONCATENATE(referentes!AH405,\" \",referentes!AI405,\" \",referentes!AJ405,\" \",referentes!AK405,\" \",referentes!AF405)))","v":"LEPTOCYLINDRUS MEDITERRANEUS"},{"$f":"referentes!AG405","v":0},null,null,null,null,null,null,null,null,null,null,null,null,null,"PHALACROMA HINDMARCHII"]
[null,null,null,null,null,null,null,null,null,null,null,null,null,null,null,{"$f":"IF(referentes!AC410=\"\",\"\",IF(referentes!AC410=referentes!AH410,CONCATENATE(referentes!AC410,\" \",\" \",\" \",\" \"),IF(referentes!AC410=referentes!AI410,CONCATENATE(referentes!AH410,\" \",referentes!AI410,\" \",\" \"),CONCATENATE(referentes!AH410,\" \",referentes!AI410,\" \",referentes!AC410))))","v":""},{"$f":"IF(referentes!AB410=\"\",\"\",referentes!AB410)","v":""},null,null,null,{"$f":"TRIM(UPPER(CONCATENATE(referentes!AH406,\" \",referentes!AI406,\" \",referentes!AJ406,\" \",referentes!AK406,\" \",referentes!AF406)))","v":"LEPTOCYLINDRUS MINIMUS"},{"$f":"referentes!AG406","v":0},null,null,null,null,null,null,null,null,null,null,null,null,null,"PHALACROMA MITRA"]
[null,null,null,null,null,null,null,null,null,null,null,null,null,null,null,{"$f":"IF(referentes!AC411=\"\",\"\",IF(referentes!AC411=referentes!AH411,CONCATENATE(referentes!AC411,\" \",\" \",\" \",\" \"),IF(referentes!AC411=referentes!AI411,CONCATENATE(referentes!AH411,\" \",referentes!AI411,\" \",\" \"),CONCATENATE(referentes!AH411,\" \",referentes!AI411,\" \",referentes!AC411))))","v":""},{"$f":"IF(referentes!AB411=\"\",\"\",referentes!AB411)","v":""},null,null,null,{"$f":"TRIM(UPPER(CONCATENATE(referentes!AH407,\" \",referentes!AI407,\" \",referentes!AJ407,\" \",referentes!AK407,\" \",referentes!AF407)))","v":"LEPTOLYNGBYA"},{"$f":"referentes!AG407","v":0},null,null,null,null,null,null,null,null,null,null,null,null,null,"PHALACROMA OXYTOXOIDES"]
[null,null,null,null,null,null,null,null,null,null,null,null,null,null,null,{"$f":"IF(referentes!AC412=\"\",\"\",IF(referentes!AC412=referentes!AH412,CONCATENATE(referentes!AC412,\" \",\" \",\" \",\" \"),IF(referentes!AC412=referentes!AI412,CONCATENATE(referentes!AH412,\" \",referentes!AI412,\" \",\" \"),CONCATENATE(referentes!AH412,\" \",referentes!AI412,\" \",referentes!AC412))))","v":""},{"$f":"IF(referentes!AB412=\"\",\"\",referentes!AB412)","v":""},null,null,null,{"$f":"TRIM(UPPER(CONCATENATE(referentes!AH408,\" \",referentes!AI408,\" \",referentes!AJ408,\" \",referentes!AK408,\" \",referentes!AF408)))","v":"LICMOPHORA"},{"$f":"referentes!AG408","v":0},null,null,null,null,null,null,null,null,null,null,null,null,null,"PHALACROMA RAPA"]
[null,null,null,null,null,null,null,null,null,null,null,null,null,null,null,{"$f":"IF(referentes!AC413=\"\",\"\",IF(referentes!AC413=referentes!AH413,CONCATENATE(referentes!AC413,\" \",\" \",\" \",\" \"),IF(referentes!AC413=referentes!AI413,CONCATENATE(referentes!AH413,\" \",referentes!AI413,\" \",\" \"),CONCATENATE(referentes!AH413,\" \",referentes!AI413,\" \",referentes!AC413))))","v":""},{"$f":"IF(referentes!AB413=\"\",\"\",referentes!AB413)","v":""},null,null,null,{"$f":"TRIM(UPPER(CONCATENATE(referentes!AH409,\" \",referentes!AI409,\" \",referentes!AJ409,\" \",referentes!AK409,\" \",referentes!AF409)))","v":"LICMOPHORA FLABELLATA"},{"$f":"referentes!AG409","v":0},null,null,null,null,null,null,null,null,null,null,null,null,null,"PHALACROMA ROTUNDATUM"]
[null,null,null,null,null,null,null,null,null,null,null,null,null,null,null,{"$f":"IF(referentes!AC414=\"\",\"\",IF(referentes!AC414=referentes!AH414,CONCATENATE(referentes!AC414,\" \",\" \",\" \",\" \"),IF(referentes!AC414=referentes!AI414,CONCATENATE(referentes!AH414,\" \",referentes!AI414,\" \",\" \"),CONCATENATE(referentes!AH414,\" \",referentes!AI414,\" \",referentes!AC414))))","v":""},{"$f":"IF(referentes!AB414=\"\",\"\",referentes!AB414)","v":""},null,null,null,{"$f":"TRIM(UPPER(CONCATENATE(referentes!AH410,\" \",referentes!AI410,\" \",referentes!AJ410,\" \",referentes!AK410,\" \",referentes!AF410)))","v":"LICMOPHORA HYALINA"},{"$f":"referentes!AG410","v":0},null,null,null,null,null,null,null,null,null,null,null,null,null,"PINNULARIA GENTILIS"]
[null,null,null,null,null,null,null,null,null,null,null,null,null,null,null,{"$f":"IF(referentes!AC415=\"\",\"\",IF(referentes!AC415=referentes!AH415,CONCATENATE(referentes!AC415,\" \",\" \",\" \",\" \"),IF(referentes!AC415=referentes!AI415,CONCATENATE(referentes!AH415,\" \",referentes!AI415,\" \",\" \"),CONCATENATE(referentes!AH415,\" \",referentes!AI415,\" \",referentes!AC415))))","v":""},{"$f":"IF(referentes!AB415=\"\",\"\",referentes!AB415)","v":""},null,null,null,{"$f":"TRIM(UPPER(CONCATENATE(referentes!AH411,\" \",referentes!AI411,\" \",referentes!AJ411,\" \",referentes!AK411,\" \",referentes!AF411)))","v":"LICMOPHORA LYNGBYEI"},{"$f":"referentes!AG411","v":0},null,null,null,null,null,null,null,null,null,null,null,null,null,"PINNULARIA NOBILIS"]
[null,null,null,null,null,null,null,null,null,null,null,null,null,null,null,{"$f":"IF(referentes!AC416=\"\",\"\",IF(referentes!AC416=referentes!AH416,CONCATENATE(referentes!AC416,\" \",\" \",\" \",\" \"),IF(referentes!AC416=referentes!AI416,CONCATENATE(referentes!AH416,\" \",referentes!AI416,\" \",\" \"),CONCATENATE(referentes!AH416,\" \",referentes!AI416,\" \",referentes!AC416))))","v":""},{"$f":"IF(referentes!AB416=\"\",\"\",referentes!AB416)","v":""},null,null,null,{"$f":"TRIM(UPPER(CONCATENATE(referentes!AH412,\" \",referentes!AI412,\" \",referentes!AJ412,\" \",referentes!AK412,\" \",referentes!AF412)))","v":"LICMOPHORA PARADOXA"},{"$f":"referentes!AG412","v":0},null,null,null,null,null,null,null,null,null,null,null,null,null,"PLAGIOGRAMMA OBESUM"]
[null,null,null,null,null,null,null,null,null,null,null,null,null,null,null,{"$f":"IF(referentes!AC417=\"\",\"\",IF(referentes!AC417=referentes!AH417,CONCATENATE(referentes!AC417,\" \",\" \",\" \",\" \"),IF(referentes!AC417=referentes!AI417,CONCATENATE(referentes!AH417,\" \",referentes!AI417,\" \",\" \"),CONCATENATE(referentes!AH417,\" \",referentes!AI417,\" \",referentes!AC417))))","v":""},{"$f":"IF(referentes!AB417=\"\",\"\",referentes!AB417)","v":""},null,null,null,{"$f":"TRIM(UPPER(CONCATENATE(referentes!AH413,\" \",referentes!AI413,\" \",referentes!AJ413,\" \",referentes!AK413,\" \",referentes!AF413)))","v":"LICMOPHORA REMULUS"},{"$f":"referentes!AG413","v":0},null,null,null,null,null,null,null,null,null,null,null,null,null,"PLAGIOTROPIS LEPIDOPTERA"]
[null,null,null,null,null,null,null,null,null,null,null,null,null,null,null,{"$f":"IF(referentes!AC418=\"\",\"\",IF(referentes!AC418=referentes!AH418,CONCATENATE(referentes!AC418,\" \",\" \",\" \",\" \"),IF(referentes!AC418=referentes!AI418,CONCATENATE(referentes!AH418,\" \",referentes!AI418,\" \",\" \"),CONCATENATE(referentes!AH418,\" \",referentes!AI418,\" \",referentes!AC418))))","v":""},{"$f":"IF(referentes!AB418=\"\",\"\",referentes!AB418)","v":""},null,null,null,{"$f":"TRIM(UPPER(CONCATENATE(referentes!AH414,\" \",referentes!AI414,\" \",referentes!AJ414,\" \",referentes!AK414,\" \",referentes!AF414)))","v":"LICMOSPHENIA"},{"$f":"referentes!AG414","v":0},null,null,null,null,null,null,null,null,null,null,null,null,null,"PLAGIOTROPIS LONGA"]
[null,null,null,null,null,null,null,null,null,null,null,null,null,null,null,{"$f":"IF(referentes!AC419=\"\",\"\",IF(referentes!AC419=referentes!AH419,CONCATENATE(referentes!AC419,\" \",\" \",\" \",\" \"),IF(referentes!AC419=referentes!AI419,CONCATENATE(referentes!AH419,\" \",referentes!AI419,\" \",\" \"),CONCATENATE(referentes!AH419,\" \",referentes!AI419,\" \",referentes!AC419))))","v":""},{"$f":"IF(referentes!AB419=\"\",\"\",referentes!AB419)","v":""},null,null,null,{"$f":"TRIM(UPPER(CONCATENATE(referentes!AH415,\" \",referentes!AI415,\" \",referentes!AJ415,\" \",referentes!AK415,\" \",referentes!AF415)))","v":"LICMOSPHENIA CLEVEI"},{"$f":"referentes!AG415","v":0},null,null,null,null,null,null,null,null,null,null,null,null,null,"PLAGIOTROPIS MAXIMA"]
[null,null,null,null,null,null,null,null,null,null,null,null,null,null,null,{"$f":"IF(referentes!AC420=\"\",\"\",IF(referentes!AC420=referentes!AH420,CONCATENATE(referentes!AC420,\" \",\" \",\" \",\" \"),IF(referentes!AC420=referentes!AI420,CONCATENATE(referentes!AH420,\" \",referentes!AI420,\" \",\" \"),CONCATENATE(referentes!AH420,\" \",referentes!AI420,\" \",referentes!AC420))))","v":""},{"$f":"IF(referentes!AB420=\"\",\"\",referentes!AB420)","v":""},null,null,null,{"$f":"TRIM(UPPER(CONCATENATE(referentes!AH416,\" \",referentes!AI416,\" \",referentes!AJ416,\" \",referentes!AK416,\" \",referentes!AF416)))","v":"LICMOSPHENIA GRUNOWII"},{"$f":"referentes!AG416","v":0},null,null,null,null,null,null,null,null,null,null,null,null,null,"PLAGIOTROPIS SERIATA"]
[null,null,null,null,null,null,null,null,null,null,null,null,null,null,null,{"$f":"IF(referentes!AC421=\"\",\"\",IF(referentes!AC421=referentes!AH421,CONCATENATE(referentes!AC421,\" \",\" \",\" \",\" \"),IF(referentes!AC421=referentes!AI421,CONCATENATE(referentes!AH421,\" \",referentes!AI421,\" \",\" \"),CONCATENATE(referentes!AH421,\" \",referentes!AI421,\" \",referentes!AC421))))","v":""},{"$f":"IF(referentes!AB421=\"\",\"\",referentes!AB421)","v":""},null,null,null,{"$f":"TRIM(UPPER(CONCATENATE(referentes!AH417,\" \",referentes!AI417,\" \",referentes!AJ417,\" \",referentes!AK417,\" \",referentes!AF417)))","v":"LIMNOTHRIX"},{"$f":"referentes!AG417","v":0},null,null,null,null,null,null,null,null,null,null,null,null,null,"PLANKTONIELLA SOL"]
[null,null,null,null,null,null,null,null,null,null,null,null,null,null,null,{"$f":"IF(referentes!AC422=\"\",\"\",IF(referentes!AC422=referentes!AH422,CONCATENATE(referentes!AC422,\" \",\" \",\" \",\" \"),IF(referentes!AC422=referentes!AI422,CONCATENATE(referentes!AH422,\" \",referentes!AI422,\" \",\" \"),CONCATENATE(referentes!AH422,\" \",referentes!AI422,\" \",referentes!AC422))))","v":""},{"$f":"IF(referentes!AB422=\"\",\"\",referentes!AB422)","v":""},null,null,null,{"$f":"TRIM(UPPER(CONCATENATE(referentes!AH418,\" \",referentes!AI418,\" \",referentes!AJ418,\" \",referentes!AK418,\" \",referentes!AF418)))","v":"LIMNOTHRIX PLANCTONICA"},{"$f":"referentes!AG418","v":0},null,null,null,null,null,null,null,null,null,null,null,null,null,"PLEUROSIGMA DECORUM"]
[null,null,null,null,null,null,null,null,null,null,null,null,null,null,null,{"$f":"IF(referentes!AC423=\"\",\"\",IF(referentes!AC423=referentes!AH423,CONCATENATE(referentes!AC423,\" \",\" \",\" \",\" \"),IF(referentes!AC423=referentes!AI423,CONCATENATE(referentes!AH423,\" \",referentes!AI423,\" \",\" \"),CONCATENATE(referentes!AH423,\" \",referentes!AI423,\" \",referentes!AC423))))","v":""},{"$f":"IF(referentes!AB423=\"\",\"\",referentes!AB423)","v":""},null,null,null,{"$f":"TRIM(UPPER(CONCATENATE(referentes!AH419,\" \",referentes!AI419,\" \",referentes!AJ419,\" \",referentes!AK419,\" \",referentes!AF419)))","v":"LINGULODINIUM"},{"$f":"referentes!AG419","v":0},null,null,null,null,null,null,null,null,null,null,null,null,null,"PLEUROSIGMA DELICATULUM"]
[null,null,null,null,null,null,null,null,null,null,null,null,null,null,null,{"$f":"IF(referentes!AC424=\"\",\"\",IF(referentes!AC424=referentes!AH424,CONCATENATE(referentes!AC424,\" \",\" \",\" \",\" \"),IF(referentes!AC424=referentes!AI424,CONCATENATE(referentes!AH424,\" \",referentes!AI424,\" \",\" \"),CONCATENATE(referentes!AH424,\" \",referentes!AI424,\" \",referentes!AC424))))","v":""},{"$f":"IF(referentes!AB424=\"\",\"\",referentes!AB424)","v":""},null,null,null,{"$f":"TRIM(UPPER(CONCATENATE(referentes!AH420,\" \",referentes!AI420,\" \",referentes!AJ420,\" \",referentes!AK420,\" \",referentes!AF420)))","v":"LINGULODINIUM MILNERI"},{"$f":"referentes!AG420","v":0},null,null,null,null,null,null,null,null,null,null,null,null,null,"PLEUROSIGMA DIRECTUM"]
[null,null,null,null,null,null,null,null,null,null,null,null,null,null,null,{"$f":"IF(referentes!AC425=\"\",\"\",IF(referentes!AC425=referentes!AH425,CONCATENATE(referentes!AC425,\" \",\" \",\" \",\" \"),IF(referentes!AC425=referentes!AI425,CONCATENATE(referentes!AH425,\" \",referentes!AI425,\" \",\" \"),CONCATENATE(referentes!AH425,\" \",referentes!AI425,\" \",referentes!AC425))))","v":""},{"$f":"IF(referentes!AB425=\"\",\"\",referentes!AB425)","v":""},null,null,null,{"$f":"TRIM(UPPER(CONCATENATE(referentes!AH421,\" \",referentes!AI421,\" \",referentes!AJ421,\" \",referentes!AK421,\" \",referentes!AF421)))","v":"LINGULODINIUM POLYEDRUM"},{"$f":"referentes!AG421","v":0},null,null,null,null,null,null,null,null,null,null,null,null,null,"PLEUROSIGMA ELONGATUM"]
[null,null,null,null,null,null,null,null,null,null,null,null,null,null,null,{"$f":"IF(referentes!AC426=\"\",\"\",IF(referentes!AC426=referentes!AH426,CONCATENATE(referentes!AC426,\" \",\" \",\" \",\" \"),IF(referentes!AC426=referentes!AI426,CONCATENATE(referentes!AH426,\" \",referentes!AI426,\" \",\" \"),CONCATENATE(referentes!AH426,\" \",referentes!AI426,\" \",referentes!AC426))))","v":""},{"$f":"IF(referentes!AB426=\"\",\"\",referentes!AB426)","v":""},null,null,null,{"$f":"TRIM(UPPER(CONCATENATE(referentes!AH422,\" \",referentes!AI422,\" \",referentes!AJ422,\" \",referentes!AK422,\" \",referentes!AF422)))","v":"LIOLOMA"},{"$f":"referentes!AG422","v":0},null,null,null,null,null,null,null,null,null,null,null,null,null,"PLEUROSIGMA FORMOSUM"]
[null,null,null,null,null,null,null,null,null,null,null,null,null,null,null,{"$f":"IF(referentes!AC427=\"\",\"\",IF(referentes!AC427=referentes!AH427,CONCATENATE(referentes!AC427,\" \",\" \",\" \",\" \"),IF(referentes!AC427=referentes!AI427,CONCATENATE(referentes!AH427,\" \",referentes!AI427,\" \",\" \"),CONCATENATE(referentes!AH427,\" \",referentes!AI427,\" \",referentes!AC427))))","v":""},{"$f":"IF(referentes!AB427=\"\",\"\",referentes!AB427)","v":""},null,null,null,{"$f":"TRIM(UPPER(CONCATENATE(referentes!AH423,\" \",referentes!AI423,\" \",referentes!AJ423,\" \",referentes!AK423,\" \",referentes!AF423)))","v":"LIOLOMA ELONGATUM"},{"$f":"referentes!AG423","v":0},null,null,null,null,null,null,null,null,null,null,null,null,null,"PLEUROSIGMA HAMULIFERUM"]
[null,null,null,null,null,null,null,null,null,null,null,null,null,null,null,{"$f":"IF(referentes!AC428=\"\",\"\",IF(referentes!AC428=referentes!AH428,CONCATENATE(referentes!AC428,\" \",\" \",\" \",\" \"),IF(referentes!AC428=referentes!AI428,CONCATENATE(referentes!AH428,\" \",referentes!AI428,\" \",\" \"),CONCATENATE(referentes!AH428,\" \",referentes!AI428,\" \",referentes!AC428))))","v":""},{"$f":"IF(referentes!AB428=\"\",\"\",referentes!AB428)","v":""},null,null,null,{"$f":"TRIM(UPPER(CONCATENATE(referentes!AH424,\" \",referentes!AI424,\" \",referentes!AJ424,\" \",referentes!AK424,\" \",referentes!AF424)))","v":"LIOLOMA PACIFICUM"},{"$f":"referentes!AG424","v":0},null,null,null,null,null,null,null,null,null,null,null,null,null,"PLEUROSIGMA NICOBARICUM"]
[null,null,null,null,null,null,null,null,null,null,null,null,null,null,null,{"$f":"IF(referentes!AC429=\"\",\"\",IF(referentes!AC429=referentes!AH429,CONCATENATE(referentes!AC429,\" \",\" \",\" \",\" \"),IF(referentes!AC429=referentes!AI429,CONCATENATE(referentes!AH429,\" \",referentes!AI429,\" \",\" \"),CONCATENATE(referentes!AH429,\" \",referentes!AI429,\" \",referentes!AC429))))","v":""},{"$f":"IF(referentes!AB429=\"\",\"\",referentes!AB429)","v":""},null,null,null,{"$f":"TRIM(UPPER(CONCATENATE(referentes!AH425,\" \",referentes!AI425,\" \",referentes!AJ425,\" \",referentes!AK425,\" \",referentes!AF425)))","v":"LITHODESMIUM"},{"$f":"referentes!AG425","v":0},null,null,null,null,null,null,null,null,null,null,null,null,null,"PLEUROSIGMA NORMANII"]
[null,null,null,null,null,null,null,null,null,null,null,null,null,null,null,{"$f":"IF(referentes!AC430=\"\",\"\",IF(referentes!AC430=referentes!AH430,CONCATENATE(referentes!AC430,\" \",\" \",\" \",\" \"),IF(referentes!AC430=referentes!AI430,CONCATENATE(referentes!AH430,\" \",referentes!AI430,\" \",\" \"),CONCATENATE(referentes!AH430,\" \",referentes!AI430,\" \",referentes!AC430))))","v":""},{"$f":"IF(referentes!AB430=\"\",\"\",referentes!AB430)","v":""},null,null,null,{"$f":"TRIM(UPPER(CONCATENATE(referentes!AH426,\" \",referentes!AI426,\" \",referentes!AJ426,\" \",referentes!AK426,\" \",referentes!AF426)))","v":"LITHODESMIUM UNDULATUM"},{"$f":"referentes!AG426","v":0},null,null,null,null,null,null,null,null,null,null,null,null,null,"PLEUROSIGMA PORTORICENSE"]
[null,null,null,null,null,null,null,null,null,null,null,null,null,null,null,{"$f":"IF(referentes!AC431=\"\",\"\",IF(referentes!AC431=referentes!AH431,CONCATENATE(referentes!AC431,\" \",\" \",\" \",\" \"),IF(referentes!AC431=referentes!AI431,CONCATENATE(referentes!AH431,\" \",referentes!AI431,\" \",\" \"),CONCATENATE(referentes!AH431,\" \",referentes!AI431,\" \",referentes!AC431))))","v":""},{"$f":"IF(referentes!AB431=\"\",\"\",referentes!AB431)","v":""},null,null,null,{"$f":"TRIM(UPPER(CONCATENATE(referentes!AH427,\" \",referentes!AI427,\" \",referentes!AJ427,\" \",referentes!AK427,\" \",referentes!AF427)))","v":"LYNGBYA"},{"$f":"referentes!AG427","v":0},null,null,null,null,null,null,null,null,null,null,null,null,null,"PLEUROSIGMA RHOMBEUM"]
[null,null,null,null,null,null,null,null,null,null,null,null,null,null,null,{"$f":"IF(referentes!AC432=\"\",\"\",IF(referentes!AC432=referentes!AH432,CONCATENATE(referentes!AC432,\" \",\" \",\" \",\" \"),IF(referentes!AC432=referentes!AI432,CONCATENATE(referentes!AH432,\" \",referentes!AI432,\" \",\" \"),CONCATENATE(referentes!AH432,\" \",referentes!AI432,\" \",referentes!AC432))))","v":""},{"$f":"IF(referentes!AB432=\"\",\"\",referentes!AB432)","v":""},null,null,null,{"$f":"TRIM(UPPER(CONCATENATE(referentes!AH428,\" \",referentes!AI428,\" \",referentes!AJ428,\" \",referentes!AK428,\" \",referentes!AF428)))","v":"LYRELLA"},{"$f":"referentes!AG428","v":0},null,null,null,null,null,null,null,null,null,null,null,null,null,"PLEUROSIGMA RIGIDUM"]
[null,null,null,null,null,null,null,null,null,null,null,null,null,null,null,{"$f":"IF(referentes!AC433=\"\",\"\",IF(referentes!AC433=referentes!AH433,CONCATENATE(referentes!AC433,\" \",\" \",\" \",\" \"),IF(referentes!AC433=referentes!AI433,CONCATENATE(referentes!AH433,\" \",referentes!AI433,\" \",\" \"),CONCATENATE(referentes!AH433,\" \",referentes!AI433,\" \",referentes!AC433))))","v":""},{"$f":"IF(referentes!AB433=\"\",\"\",referentes!AB433)","v":""},null,null,null,{"$f":"TRIM(UPPER(CONCATENATE(referentes!AH429,\" \",referentes!AI429,\" \",referentes!AJ429,\" \",referentes!AK429,\" \",referentes!AF429)))","v":"LYRELLA CLAVATA"},{"$f":"referentes!AG429","v":0},null,null,null,null,null,null,null,null,null,null,null,null,null,"PLEUROSIGMA ROSTRATUM"]
[null,null,null,null,null,null,null,null,null,null,null,null,null,null,null,{"$f":"IF(referentes!AC434=\"\",\"\",IF(referentes!AC434=referentes!AH434,CONCATENATE(referentes!AC434,\" \",\" \",\" \",\" \"),IF(referentes!AC434=referentes!AI434,CONCATENATE(referentes!AH434,\" \",referentes!AI434,\" \",\" \"),CONCATENATE(referentes!AH434,\" \",referentes!AI434,\" \",referentes!AC434))))","v":""},{"$f":"IF(referentes!AB434=\"\",\"\",referentes!AB434)","v":""},null,null,null,{"$f":"TRIM(UPPER(CONCATENATE(referentes!AH430,\" \",referentes!AI430,\" \",referentes!AJ430,\" \",referentes!AK430,\" \",referentes!AF430)))","v":"LYRELLA GENIFERA"},{"$f":"referentes!AG430","v":0},null,null,null,null,null,null,null,null,null,null,null,null,null,"PLEUROSIGMA SPECIOSUM"]
[null,null,null,null,null,null,null,null,null,null,null,null,null,null,null,{"$f":"IF(referentes!AC435=\"\",\"\",IF(referentes!AC435=referentes!AH435,CONCATENATE(referentes!AC435,\" \",\" \",\" \",\" \"),IF(referentes!AC435=referentes!AI435,CONCATENATE(referentes!AH435,\" \",referentes!AI435,\" \",\" \"),CONCATENATE(referentes!AH435,\" \",referentes!AI435,\" \",referentes!AC435))))","v":""},{"$f":"IF(referentes!AB435=\"\",\"\",referentes!AB435)","v":""},null,null,null,{"$f":"TRIM(UPPER(CONCATENATE(referentes!AH431,\" \",referentes!AI431,\" \",referentes!AJ431,\" \",referentes!AK431,\" \",referentes!AF431)))","v":"LYRELLA HENNEDYI"},{"$f":"referentes!AG431","v":0},null,null,null,null,null,null,null,null,null,null,null,null,null,"PLEUROSIGMA STRIGOSUM"]
[null,null,null,null,null,null,null,null,null,null,null,null,null,null,null,{"$f":"IF(referentes!AC436=\"\",\"\",IF(referentes!AC436=referentes!AH436,CONCATENATE(referentes!AC436,\" \",\" \",\" \",\" \"),IF(referentes!AC436=referentes!AI436,CONCATENATE(referentes!AH436,\" \",referentes!AI436,\" \",\" \"),CONCATENATE(referentes!AH436,\" \",referentes!AI436,\" \",referentes!AC436))))","v":""},{"$f":"IF(referentes!AB436=\"\",\"\",referentes!AB436)","v":""},null,null,null,{"$f":"TRIM(UPPER(CONCATENATE(referentes!AH432,\" \",referentes!AI432,\" \",referentes!AJ432,\" \",referentes!AK432,\" \",referentes!AF432)))","v":"LYRELLA LYRA"},{"$f":"referentes!AG432","v":0},null,null,null,null,null,null,null,null,null,null,null,null,null,"PLEUROSIRA LAEVIS"]
[null,null,null,null,null,null,null,null,null,null,null,null,null,null,null,{"$f":"IF(referentes!AC437=\"\",\"\",IF(referentes!AC437=referentes!AH437,CONCATENATE(referentes!AC437,\" \",\" \",\" \",\" \"),IF(referentes!AC437=referentes!AI437,CONCATENATE(referentes!AH437,\" \",referentes!AI437,\" \",\" \"),CONCATENATE(referentes!AH437,\" \",referentes!AI437,\" \",referentes!AC437))))","v":""},{"$f":"IF(referentes!AB437=\"\",\"\",referentes!AB437)","v":""},null,null,null,{"$f":"TRIM(UPPER(CONCATENATE(referentes!AH433,\" \",referentes!AI433,\" \",referentes!AJ433,\" \",referentes!AK433,\" \",referentes!AF433)))","v":"MASTOGLOIA"},{"$f":"referentes!AG433","v":0},null,null,null,null,null,null,null,null,null,null,null,null,null,"PODOCYSTIS ADRIATICA"]
[null,null,null,null,null,null,null,null,null,null,null,null,null,null,null,{"$f":"IF(referentes!AC438=\"\",\"\",IF(referentes!AC438=referentes!AH438,CONCATENATE(referentes!AC438,\" \",\" \",\" \",\" \"),IF(referentes!AC438=referentes!AI438,CONCATENATE(referentes!AH438,\" \",referentes!AI438,\" \",\" \"),CONCATENATE(referentes!AH438,\" \",referentes!AI438,\" \",referentes!AC438))))","v":""},{"$f":"IF(referentes!AB438=\"\",\"\",referentes!AB438)","v":""},null,null,null,{"$f":"TRIM(UPPER(CONCATENATE(referentes!AH434,\" \",referentes!AI434,\" \",referentes!AJ434,\" \",referentes!AK434,\" \",referentes!AF434)))","v":"MASTOGLOIA ANGULATA"},{"$f":"referentes!AG434","v":0},null,null,null,null,null,null,null,null,null,null,null,null,null,"PODOLAMPAS BIPES"]
[null,null,null,null,null,null,null,null,null,null,null,null,null,null,null,{"$f":"IF(referentes!AC439=\"\",\"\",IF(referentes!AC439=referentes!AH439,CONCATENATE(referentes!AC439,\" \",\" \",\" \",\" \"),IF(referentes!AC439=referentes!AI439,CONCATENATE(referentes!AH439,\" \",referentes!AI439,\" \",\" \"),CONCATENATE(referentes!AH439,\" \",referentes!AI439,\" \",referentes!AC439))))","v":""},{"$f":"IF(referentes!AB439=\"\",\"\",referentes!AB439)","v":""},null,null,null,{"$f":"TRIM(UPPER(CONCATENATE(referentes!AH435,\" \",referentes!AI435,\" \",referentes!AJ435,\" \",referentes!AK435,\" \",referentes!AF435)))","v":"MASTOGLOIA APICULATA"},{"$f":"referentes!AG435","v":0},null,null,null,null,null,null,null,null,null,null,null,null,null,"PODOLAMPAS ELEGANS"]
[null,null,null,null,null,null,null,null,null,null,null,null,null,null,null,{"$f":"IF(referentes!AC440=\"\",\"\",IF(referentes!AC440=referentes!AH440,CONCATENATE(referentes!AC440,\" \",\" \",\" \",\" \"),IF(referentes!AC440=referentes!AI440,CONCATENATE(referentes!AH440,\" \",referentes!AI440,\" \",\" \"),CONCATENATE(referentes!AH440,\" \",referentes!AI440,\" \",referentes!AC440))))","v":""},{"$f":"IF(referentes!AB440=\"\",\"\",referentes!AB440)","v":""},null,null,null,{"$f":"TRIM(UPPER(CONCATENATE(referentes!AH436,\" \",referentes!AI436,\" \",referentes!AJ436,\" \",referentes!AK436,\" \",referentes!AF436)))","v":"MASTOGLOIA CRIBROSA"},{"$f":"referentes!AG436","v":0},null,null,null,null,null,null,null,null,null,null,null,null,null,"PODOLAMPAS PALMIPES"]
[null,null,null,null,null,null,null,null,null,null,null,null,null,null,null,{"$f":"IF(referentes!AC441=\"\",\"\",IF(referentes!AC441=referentes!AH441,CONCATENATE(referentes!AC441,\" \",\" \",\" \",\" \"),IF(referentes!AC441=referentes!AI441,CONCATENATE(referentes!AH441,\" \",referentes!AI441,\" \",\" \"),CONCATENATE(referentes!AH441,\" \",referentes!AI441,\" \",referentes!AC441))))","v":""},{"$f":"IF(referentes!AB441=\"\",\"\",referentes!AB441)","v":""},null,null,null,{"$f":"TRIM(UPPER(CONCATENATE(referentes!AH437,\" \",referentes!AI437,\" \",referentes!AJ437,\" \",referentes!AK437,\" \",referentes!AF437)))","v":"MASTOGLOIA ERYTHRAEA"},{"$f":"referentes!AG437","v":0},null,null,null,null,null,null,null,null,null,null,null,null,null,"PODOLAMPAS SPINIFERA"]
[null,null,null,null,null,null,null,null,null,null,null,null,null,null,null,{"$f":"IF(referentes!AC442=\"\",\"\",IF(referentes!AC442=referentes!AH442,CONCATENATE(referentes!AC442,\" \",\" \",\" \",\" \"),IF(referentes!AC442=referentes!AI442,CONCATENATE(referentes!AH442,\" \",referentes!AI442,\" \",\" \"),CONCATENATE(referentes!AH442,\" \",referentes!AI442,\" \",referentes!AC442))))","v":""},{"$f":"IF(referentes!AB442=\"\",\"\",referentes!AB442)","v":""},null,null,null,{"$f":"TRIM(UPPER(CONCATENATE(referentes!AH438,\" \",referentes!AI438,\" \",referentes!AJ438,\" \",referentes!AK438,\" \",referentes!AF438)))","v":"MASTOGLOIA FIMBRIATA"},{"$f":"referentes!AG438","v":0},null,null,null,null,null,null,null,null,null,null,null,null,null,"PROBOSCIA ALATA"]
[null,null,null,null,null,null,null,null,null,null,null,null,null,null,null,{"$f":"IF(referentes!AC443=\"\",\"\",IF(referentes!AC443=referentes!AH443,CONCATENATE(referentes!AC443,\" \",\" \",\" \",\" \"),IF(referentes!AC443=referentes!AI443,CONCATENATE(referentes!AH443,\" \",referentes!AI443,\" \",\" \"),CONCATENATE(referentes!AH443,\" \",referentes!AI443,\" \",referentes!AC443))))","v":""},{"$f":"IF(referentes!AB443=\"\",\"\",referentes!AB443)","v":""},null,null,null,{"$f":"TRIM(UPPER(CONCATENATE(referentes!AH439,\" \",referentes!AI439,\" \",referentes!AJ439,\" \",referentes!AK439,\" \",referentes!AF439)))","v":"MASTOGLOIA PUNCTATISSIMA"},{"$f":"referentes!AG439","v":0},null,null,null,null,null,null,null,null,null,null,null,null,null,"PROBOSCIA INDICA"]
[null,null,null,null,null,null,null,null,null,null,null,null,null,null,null,{"$f":"IF(referentes!AC444=\"\",\"\",IF(referentes!AC444=referentes!AH444,CONCATENATE(referentes!AC444,\" \",\" \",\" \",\" \"),IF(referentes!AC444=referentes!AI444,CONCATENATE(referentes!AH444,\" \",referentes!AI444,\" \",\" \"),CONCATENATE(referentes!AH444,\" \",referentes!AI444,\" \",referentes!AC444))))","v":""},{"$f":"IF(referentes!AB444=\"\",\"\",referentes!AB444)","v":""},null,null,null,{"$f":"TRIM(UPPER(CONCATENATE(referentes!AH440,\" \",referentes!AI440,\" \",referentes!AJ440,\" \",referentes!AK440,\" \",referentes!AF440)))","v":"MASTOGLOIA PUSILLA"},{"$f":"referentes!AG440","v":0},null,null,null,null,null,null,null,null,null,null,null,null,null,"PROROCENTRUM CORDATUM"]
[null,null,null,null,null,null,null,null,null,null,null,null,null,null,null,{"$f":"IF(referentes!AC445=\"\",\"\",IF(referentes!AC445=referentes!AH445,CONCATENATE(referentes!AC445,\" \",\" \",\" \",\" \"),IF(referentes!AC445=referentes!AI445,CONCATENATE(referentes!AH445,\" \",referentes!AI445,\" \",\" \"),CONCATENATE(referentes!AH445,\" \",referentes!AI445,\" \",referentes!AC445))))","v":""},{"$f":"IF(referentes!AB445=\"\",\"\",referentes!AB445)","v":""},null,null,null,{"$f":"TRIM(UPPER(CONCATENATE(referentes!AH441,\" \",referentes!AI441,\" \",referentes!AJ441,\" \",referentes!AK441,\" \",referentes!AF441)))","v":"MASTOGLOIA SMITHII"},{"$f":"referentes!AG441","v":0},null,null,null,null,null,null,null,null,null,null,null,null,null,"PROROCENTRUM DENTATUM"]
[null,null,null,null,null,null,null,null,null,null,null,null,null,null,null,{"$f":"IF(referentes!AC446=\"\",\"\",IF(referentes!AC446=referentes!AH446,CONCATENATE(referentes!AC446,\" \",\" \",\" \",\" \"),IF(referentes!AC446=referentes!AI446,CONCATENATE(referentes!AH446,\" \",referentes!AI446,\" \",\" \"),CONCATENATE(referentes!AH446,\" \",referentes!AI446,\" \",referentes!AC446))))","v":""},{"$f":"IF(referentes!AB446=\"\",\"\",referentes!AB446)","v":""},null,null,null,{"$f":"TRIM(UPPER(CONCATENATE(referentes!AH442,\" \",referentes!AI442,\" \",referentes!AJ442,\" \",referentes!AK442,\" \",referentes!AF442)))","v":"MEDIOPHYCEAE"},{"$f":"referentes!AG442","v":0},null,null,null,null,null,null,null,null,null,null,null,null,null,"PROROCENTRUM GRACILE"]
[null,null,null,null,null,null,null,null,null,null,null,null,null,null,null,{"$f":"IF(referentes!AC447=\"\",\"\",IF(referentes!AC447=referentes!AH447,CONCATENATE(referentes!AC447,\" \",\" \",\" \",\" \"),IF(referentes!AC447=referentes!AI447,CONCATENATE(referentes!AH447,\" \",referentes!AI447,\" \",\" \"),CONCATENATE(referentes!AH447,\" \",referentes!AI447,\" \",referentes!AC447))))","v":""},{"$f":"IF(referentes!AB447=\"\",\"\",referentes!AB447)","v":""},null,null,null,{"$f":"TRIM(UPPER(CONCATENATE(referentes!AH443,\" \",referentes!AI443,\" \",referentes!AJ443,\" \",referentes!AK443,\" \",referentes!AF443)))","v":"MELOSIRA"},{"$f":"referentes!AG443","v":0},null,null,null,null,null,null,null,null,null,null,null,null,null,"PROROCENTRUM LENTICULATUM"]
[null,null,null,null,null,null,null,null,null,null,null,null,null,null,null,{"$f":"IF(referentes!AC448=\"\",\"\",IF(referentes!AC448=referentes!AH448,CONCATENATE(referentes!AC448,\" \",\" \",\" \",\" \"),IF(referentes!AC448=referentes!AI448,CONCATENATE(referentes!AH448,\" \",referentes!AI448,\" \",\" \"),CONCATENATE(referentes!AH448,\" \",referentes!AI448,\" \",referentes!AC448))))","v":""},{"$f":"IF(referentes!AB448=\"\",\"\",referentes!AB448)","v":""},null,null,null,{"$f":"TRIM(UPPER(CONCATENATE(referentes!AH444,\" \",referentes!AI444,\" \",referentes!AJ444,\" \",referentes!AK444,\" \",referentes!AF444)))","v":"MELOSIRA MONILIFORMIS"},{"$f":"referentes!AG444","v":0},null,null,null,null,null,null,null,null,null,null,null,null,null,"PROROCENTRUM LIMA"]
[null,null,null,null,null,null,null,null,null,null,null,null,null,null,null,{"$f":"IF(referentes!AC449=\"\",\"\",IF(referentes!AC449=referentes!AH449,CONCATENATE(referentes!AC449,\" \",\" \",\" \",\" \"),IF(referentes!AC449=referentes!AI449,CONCATENATE(referentes!AH449,\" \",referentes!AI449,\" \",\" \"),CONCATENATE(referentes!AH449,\" \",referentes!AI449,\" \",referentes!AC449))))","v":""},{"$f":"IF(referentes!AB449=\"\",\"\",referentes!AB449)","v":""},null,null,null,{"$f":"TRIM(UPPER(CONCATENATE(referentes!AH445,\" \",referentes!AI445,\" \",referentes!AJ445,\" \",referentes!AK445,\" \",referentes!AF445)))","v":"MELOSIRA NUMMULOIDES"},{"$f":"referentes!AG445","v":0},null,null,null,null,null,null,null,null,null,null,null,null,null,"PROROCENTRUM MAXIMUM"]
[null,null,null,null,null,null,null,null,null,null,null,null,null,null,null,{"$f":"IF(referentes!AC450=\"\",\"\",IF(referentes!AC450=referentes!AH450,CONCATENATE(referentes!AC450,\" \",\" \",\" \",\" \"),IF(referentes!AC450=referentes!AI450,CONCATENATE(referentes!AH450,\" \",referentes!AI450,\" \",\" \"),CONCATENATE(referentes!AH450,\" \",referentes!AI450,\" \",referentes!AC450))))","v":""},{"$f":"IF(referentes!AB450=\"\",\"\",referentes!AB450)","v":""},null,null,null,{"$f":"TRIM(UPPER(CONCATENATE(referentes!AH446,\" \",referentes!AI446,\" \",referentes!AJ446,\" \",referentes!AK446,\" \",referentes!AF446)))","v":"MELOSIRA PSEUDOGRANULATA"},{"$f":"referentes!AG446","v":0},null,null,null,null,null,null,null,null,null,null,null,null,null,"PROROCENTRUM MEXICANUM"]
[null,null,null,null,null,null,null,null,null,null,null,null,null,null,null,{"$f":"IF(referentes!AC451=\"\",\"\",IF(referentes!AC451=referentes!AH451,CONCATENATE(referentes!AC451,\" \",\" \",\" \",\" \"),IF(referentes!AC451=referentes!AI451,CONCATENATE(referentes!AH451,\" \",referentes!AI451,\" \",\" \"),CONCATENATE(referentes!AH451,\" \",referentes!AI451,\" \",referentes!AC451))))","v":""},{"$f":"IF(referentes!AB451=\"\",\"\",referentes!AB451)","v":""},null,null,null,{"$f":"TRIM(UPPER(CONCATENATE(referentes!AH447,\" \",referentes!AI447,\" \",referentes!AJ447,\" \",referentes!AK447,\" \",referentes!AF447)))","v":"MEMBRANEIS"},{"$f":"referentes!AG447","v":0},null,null,null,null,null,null,null,null,null,null,null,null,null,"PROROCENTRUM MICANS"]
[null,null,null,null,null,null,null,null,null,null,null,null,null,null,null,{"$f":"IF(referentes!AC452=\"\",\"\",IF(referentes!AC452=referentes!AH452,CONCATENATE(referentes!AC452,\" \",\" \",\" \",\" \"),IF(referentes!AC452=referentes!AI452,CONCATENATE(referentes!AH452,\" \",referentes!AI452,\" \",\" \"),CONCATENATE(referentes!AH452,\" \",referentes!AI452,\" \",referentes!AC452))))","v":""},{"$f":"IF(referentes!AB452=\"\",\"\",referentes!AB452)","v":""},null,null,null,{"$f":"TRIM(UPPER(CONCATENATE(referentes!AH448,\" \",referentes!AI448,\" \",referentes!AJ448,\" \",referentes!AK448,\" \",referentes!AF448)))","v":"MERISMOPEDIA"},{"$f":"referentes!AG448","v":0},null,null,null,null,null,null,null,null,null,null,null,null,null,"PROROCENTRUM MINIMUM"]
[null,null,null,null,null,null,null,null,null,null,null,null,null,null,null,{"$f":"IF(referentes!AC453=\"\",\"\",IF(referentes!AC453=referentes!AH453,CONCATENATE(referentes!AC453,\" \",\" \",\" \",\" \"),IF(referentes!AC453=referentes!AI453,CONCATENATE(referentes!AH453,\" \",referentes!AI453,\" \",\" \"),CONCATENATE(referentes!AH453,\" \",referentes!AI453,\" \",referentes!AC453))))","v":""},{"$f":"IF(referentes!AB453=\"\",\"\",referentes!AB453)","v":""},null,null,null,{"$f":"TRIM(UPPER(CONCATENATE(referentes!AH449,\" \",referentes!AI449,\" \",referentes!AJ449,\" \",referentes!AK449,\" \",referentes!AF449)))","v":"MEUNIERA"},{"$f":"referentes!AG449","v":0},null,null,null,null,null,null,null,null,null,null,null,null,null,"PROROCENTRUM ROSTRATUM"]
[null,null,null,null,null,null,null,null,null,null,null,null,null,null,null,{"$f":"IF(referentes!AC454=\"\",\"\",IF(referentes!AC454=referentes!AH454,CONCATENATE(referentes!AC454,\" \",\" \",\" \",\" \"),IF(referentes!AC454=referentes!AI454,CONCATENATE(referentes!AH454,\" \",referentes!AI454,\" \",\" \"),CONCATENATE(referentes!AH454,\" \",referentes!AI454,\" \",referentes!AC454))))","v":""},{"$f":"IF(referentes!AB454=\"\",\"\",referentes!AB454)","v":""},null,null,null,{"$f":"TRIM(UPPER(CONCATENATE(referentes!AH450,\" \",referentes!AI450,\" \",referentes!AJ450,\" \",referentes!AK450,\" \",referentes!AF450)))","v":"MEUNIERA MEMBRANACEA"},{"$f":"referentes!AG450","v":0},null,null,null,null,null,null,null,null,null,null,null,null,null,"PROROCENTRUM TRIESTINUM"]
[null,null,null,null,null,null,null,null,null,null,null,null,null,null,null,{"$f":"IF(referentes!AC455=\"\",\"\",IF(referentes!AC455=referentes!AH455,CONCATENATE(referentes!AC455,\" \",\" \",\" \",\" \"),IF(referentes!AC455=referentes!AI455,CONCATENATE(referentes!AH455,\" \",referentes!AI455,\" \",\" \"),CONCATENATE(referentes!AH455,\" \",referentes!AI455,\" \",referentes!AC455))))","v":""},{"$f":"IF(referentes!AB455=\"\",\"\",referentes!AB455)","v":""},null,null,null,{"$f":"TRIM(UPPER(CONCATENATE(referentes!AH451,\" \",referentes!AI451,\" \",referentes!AJ451,\" \",referentes!AK451,\" \",referentes!AF451)))","v":"MICROCYSTIS"},{"$f":"referentes!AG451","v":0},null,null,null,null,null,null,null,null,null,null,null,null,null,"PROTOPERIDINIUM ABEI"]
[null,null,null,null,null,null,null,null,null,null,null,null,null,null,null,{"$f":"IF(referentes!AC456=\"\",\"\",IF(referentes!AC456=referentes!AH456,CONCATENATE(referentes!AC456,\" \",\" \",\" \",\" \"),IF(referentes!AC456=referentes!AI456,CONCATENATE(referentes!AH456,\" \",referentes!AI456,\" \",\" \"),CONCATENATE(referentes!AH456,\" \",referentes!AI456,\" \",referentes!AC456))))","v":""},{"$f":"IF(referentes!AB456=\"\",\"\",referentes!AB456)","v":""},null,null,null,{"$f":"TRIM(UPPER(CONCATENATE(referentes!AH452,\" \",referentes!AI452,\" \",referentes!AJ452,\" \",referentes!AK452,\" \",referentes!AF452)))","v":"MICROTABELLA"},{"$f":"referentes!AG452","v":0},null,null,null,null,null,null,null,null,null,null,null,null,null,"PROTOPERIDINIUM ASPIDIOTUM"]
[null,null,null,null,null,null,null,null,null,null,null,null,null,null,null,{"$f":"IF(referentes!AC457=\"\",\"\",IF(referentes!AC457=referentes!AH457,CONCATENATE(referentes!AC457,\" \",\" \",\" \",\" \"),IF(referentes!AC457=referentes!AI457,CONCATENATE(referentes!AH457,\" \",referentes!AI457,\" \",\" \"),CONCATENATE(referentes!AH457,\" \",referentes!AI457,\" \",referentes!AC457))))","v":""},{"$f":"IF(referentes!AB457=\"\",\"\",referentes!AB457)","v":""},null,null,null,{"$f":"TRIM(UPPER(CONCATENATE(referentes!AH453,\" \",referentes!AI453,\" \",referentes!AJ453,\" \",referentes!AK453,\" \",referentes!AF453)))","v":"MONOMORPHINA"},{"$f":"referentes!AG453","v":0},null,null,null,null,null,null,null,null,null,null,null,null,null,"PROTOPERIDINIUM BALECHII"]
[null,null,null,null,null,null,null,null,null,null,null,null,null,null,null,{"$f":"IF(referentes!AC458=\"\",\"\",IF(referentes!AC458=referentes!AH458,CONCATENATE(referentes!AC458,\" \",\" \",\" \",\" \"),IF(referentes!AC458=referentes!AI458,CONCATENATE(referentes!AH458,\" \",referentes!AI458,\" \",\" \"),CONCATENATE(referentes!AH458,\" \",referentes!AI458,\" \",referentes!AC458))))","v":""},{"$f":"IF(referentes!AB458=\"\",\"\",referentes!AB458)","v":""},null,null,null,{"$f":"TRIM(UPPER(CONCATENATE(referentes!AH454,\" \",referentes!AI454,\" \",referentes!AJ454,\" \",referentes!AK454,\" \",referentes!AF454)))","v":"MONORAPHIDIUM"},{"$f":"referentes!AG454","v":0},null,null,null,null,null,null,null,null,null,null,null,null,null,"PROTOPERIDINIUM BIPES"]
[null,null,null,null,null,null,null,null,null,null,null,null,null,null,null,{"$f":"IF(referentes!AC459=\"\",\"\",IF(referentes!AC459=referentes!AH459,CONCATENATE(referentes!AC459,\" \",\" \",\" \",\" \"),IF(referentes!AC459=referentes!AI459,CONCATENATE(referentes!AH459,\" \",referentes!AI459,\" \",\" \"),CONCATENATE(referentes!AH459,\" \",referentes!AI459,\" \",referentes!AC459))))","v":""},{"$f":"IF(referentes!AB459=\"\",\"\",referentes!AB459)","v":""},null,null,null,{"$f":"TRIM(UPPER(CONCATENATE(referentes!AH455,\" \",referentes!AI455,\" \",referentes!AJ455,\" \",referentes!AK455,\" \",referentes!AF455)))","v":"MOUGEOTIA"},{"$f":"referentes!AG455","v":0},null,null,null,null,null,null,null,null,null,null,null,null,null,"PROTOPERIDINIUM BROCHII"]
[null,null,null,null,null,null,null,null,null,null,null,null,null,null,null,{"$f":"IF(referentes!AC460=\"\",\"\",IF(referentes!AC460=referentes!AH460,CONCATENATE(referentes!AC460,\" \",\" \",\" \",\" \"),IF(referentes!AC460=referentes!AI460,CONCATENATE(referentes!AH460,\" \",referentes!AI460,\" \",\" \"),CONCATENATE(referentes!AH460,\" \",referentes!AI460,\" \",referentes!AC460))))","v":""},{"$f":"IF(referentes!AB460=\"\",\"\",referentes!AB460)","v":""},null,null,null,{"$f":"TRIM(UPPER(CONCATENATE(referentes!AH456,\" \",referentes!AI456,\" \",referentes!AJ456,\" \",referentes!AK456,\" \",referentes!AF456)))","v":"NAVICULA"},{"$f":"referentes!AG456","v":0},null,null,null,null,null,null,null,null,null,null,null,null,null,"PROTOPERIDINIUM CASSUM"]
[null,null,null,null,null,null,null,null,null,null,null,null,null,null,null,{"$f":"IF(referentes!AC461=\"\",\"\",IF(referentes!AC461=referentes!AH461,CONCATENATE(referentes!AC461,\" \",\" \",\" \",\" \"),IF(referentes!AC461=referentes!AI461,CONCATENATE(referentes!AH461,\" \",referentes!AI461,\" \",\" \"),CONCATENATE(referentes!AH461,\" \",referentes!AI461,\" \",referentes!AC461))))","v":""},{"$f":"IF(referentes!AB461=\"\",\"\",referentes!AB461)","v":""},null,null,null,{"$f":"TRIM(UPPER(CONCATENATE(referentes!AH457,\" \",referentes!AI457,\" \",referentes!AJ457,\" \",referentes!AK457,\" \",referentes!AF457)))","v":"NAVICULA ABUNDA"},{"$f":"referentes!AG457","v":0},null,null,null,null,null,null,null,null,null,null,null,null,null,"PROTOPERIDINIUM CLAUDICANS"]
[null,null,null,null,null,null,null,null,null,null,null,null,null,null,null,{"$f":"IF(referentes!AC462=\"\",\"\",IF(referentes!AC462=referentes!AH462,CONCATENATE(referentes!AC462,\" \",\" \",\" \",\" \"),IF(referentes!AC462=referentes!AI462,CONCATENATE(referentes!AH462,\" \",referentes!AI462,\" \",\" \"),CONCATENATE(referentes!AH462,\" \",referentes!AI462,\" \",referentes!AC462))))","v":""},{"$f":"IF(referentes!AB462=\"\",\"\",referentes!AB462)","v":""},null,null,null,{"$f":"TRIM(UPPER(CONCATENATE(referentes!AH458,\" \",referentes!AI458,\" \",referentes!AJ458,\" \",referentes!AK458,\" \",referentes!AF458)))","v":"NAVICULA BRASILIENSIS"},{"$f":"referentes!AG458","v":0},null,null,null,null,null,null,null,null,null,null,null,null,null,"PROTOPERIDINIUM CONICUM"]
[null,null,null,null,null,null,null,null,null,null,null,null,null,null,null,{"$f":"IF(referentes!AC463=\"\",\"\",IF(referentes!AC463=referentes!AH463,CONCATENATE(referentes!AC463,\" \",\" \",\" \",\" \"),IF(referentes!AC463=referentes!AI463,CONCATENATE(referentes!AH463,\" \",referentes!AI463,\" \",\" \"),CONCATENATE(referentes!AH463,\" \",referentes!AI463,\" \",referentes!AC463))))","v":""},{"$f":"IF(referentes!AB463=\"\",\"\",referentes!AB463)","v":""},null,null,null,{"$f":"TRIM(UPPER(CONCATENATE(referentes!AH459,\" \",referentes!AI459,\" \",referentes!AJ459,\" \",referentes!AK459,\" \",referentes!AF459)))","v":"NAVICULA CANCELLATA"},{"$f":"referentes!AG459","v":0},null,null,null,null,null,null,null,null,null,null,null,null,null,"PROTOPERIDINIUM CORNICULUM"]
[null,null,null,null,null,null,null,null,null,null,null,null,null,null,null,{"$f":"IF(referentes!AC464=\"\",\"\",IF(referentes!AC464=referentes!AH464,CONCATENATE(referentes!AC464,\" \",\" \",\" \",\" \"),IF(referentes!AC464=referentes!AI464,CONCATENATE(referentes!AH464,\" \",referentes!AI464,\" \",\" \"),CONCATENATE(referentes!AH464,\" \",referentes!AI464,\" \",referentes!AC464))))","v":""},{"$f":"IF(referentes!AB464=\"\",\"\",referentes!AB464)","v":""},null,null,null,{"$f":"TRIM(UPPER(CONCATENATE(referentes!AH460,\" \",referentes!AI460,\" \",referentes!AJ460,\" \",referentes!AK460,\" \",referentes!AF460)))","v":"NAVICULA DELICATULA"},{"$f":"referentes!AG460","v":0},null,null,null,null,null,null,null,null,null,null,null,null,null,"PROTOPERIDINIUM CRASSIPES"]
[null,null,null,null,null,null,null,null,null,null,null,null,null,null,null,{"$f":"IF(referentes!AC465=\"\",\"\",IF(referentes!AC465=referentes!AH465,CONCATENATE(referentes!AC465,\" \",\" \",\" \",\" \"),IF(referentes!AC465=referentes!AI465,CONCATENATE(referentes!AH465,\" \",referentes!AI465,\" \",\" \"),CONCATENATE(referentes!AH465,\" \",referentes!AI465,\" \",referentes!AC465))))","v":""},{"$f":"IF(referentes!AB465=\"\",\"\",referentes!AB465)","v":""},null,null,null,{"$f":"TRIM(UPPER(CONCATENATE(referentes!AH461,\" \",referentes!AI461,\" \",referentes!AJ461,\" \",referentes!AK461,\" \",referentes!AF461)))","v":"NAVICULA DIGITO-RADIATA"},{"$f":"referentes!AG461","v":0},null,null,null,null,null,null,null,null,null,null,null,null,null,"PROTOPERIDINIUM CRISTATUM"]
[null,null,null,null,null,null,null,null,null,null,null,null,null,null,null,{"$f":"IF(referentes!AC466=\"\",\"\",IF(referentes!AC466=referentes!AH466,CONCATENATE(referentes!AC466,\" \",\" \",\" \",\" \"),IF(referentes!AC466=referentes!AI466,CONCATENATE(referentes!AH466,\" \",referentes!AI466,\" \",\" \"),CONCATENATE(referentes!AH466,\" \",referentes!AI466,\" \",referentes!AC466))))","v":""},{"$f":"IF(referentes!AB466=\"\",\"\",referentes!AB466)","v":""},null,null,null,{"$f":"TRIM(UPPER(CONCATENATE(referentes!AH462,\" \",referentes!AI462,\" \",referentes!AJ462,\" \",referentes!AK462,\" \",referentes!AF462)))","v":"NAVICULA DIRECTA"},{"$f":"referentes!AG462","v":0},null,null,null,null,null,null,null,null,null,null,null,null,null,"PROTOPERIDINIUM CURTIPES"]
[null,null,null,null,null,null,null,null,null,null,null,null,null,null,null,{"$f":"IF(referentes!AC467=\"\",\"\",IF(referentes!AC467=referentes!AH467,CONCATENATE(referentes!AC467,\" \",\" \",\" \",\" \"),IF(referentes!AC467=referentes!AI467,CONCATENATE(referentes!AH467,\" \",referentes!AI467,\" \",\" \"),CONCATENATE(referentes!AH467,\" \",referentes!AI467,\" \",referentes!AC467))))","v":""},{"$f":"IF(referentes!AB467=\"\",\"\",referentes!AB467)","v":""},null,null,null,{"$f":"TRIM(UPPER(CONCATENATE(referentes!AH463,\" \",referentes!AI463,\" \",referentes!AJ463,\" \",referentes!AK463,\" \",referentes!AF463)))","v":"NAVICULA RADIOSA"},{"$f":"referentes!AG463","v":0},null,null,null,null,null,null,null,null,null,null,null,null,null,"PROTOPERIDINIUM DEPRESSUM"]
[null,null,null,null,null,null,null,null,null,null,null,null,null,null,null,{"$f":"IF(referentes!AC468=\"\",\"\",IF(referentes!AC468=referentes!AH468,CONCATENATE(referentes!AC468,\" \",\" \",\" \",\" \"),IF(referentes!AC468=referentes!AI468,CONCATENATE(referentes!AH468,\" \",referentes!AI468,\" \",\" \"),CONCATENATE(referentes!AH468,\" \",referentes!AI468,\" \",referentes!AC468))))","v":""},{"$f":"IF(referentes!AB468=\"\",\"\",referentes!AB468)","v":""},null,null,null,{"$f":"TRIM(UPPER(CONCATENATE(referentes!AH464,\" \",referentes!AI464,\" \",referentes!AJ464,\" \",referentes!AK464,\" \",referentes!AF464)))","v":"NAVICULA TERSA"},{"$f":"referentes!AG464","v":0},null,null,null,null,null,null,null,null,null,null,null,null,null,"PROTOPERIDINIUM DIVERGENS"]
[null,null,null,null,null,null,null,null,null,null,null,null,null,null,null,{"$f":"IF(referentes!AC469=\"\",\"\",IF(referentes!AC469=referentes!AH469,CONCATENATE(referentes!AC469,\" \",\" \",\" \",\" \"),IF(referentes!AC469=referentes!AI469,CONCATENATE(referentes!AH469,\" \",referentes!AI469,\" \",\" \"),CONCATENATE(referentes!AH469,\" \",referentes!AI469,\" \",referentes!AC469))))","v":""},{"$f":"IF(referentes!AB469=\"\",\"\",referentes!AB469)","v":""},null,null,null,{"$f":"TRIM(UPPER(CONCATENATE(referentes!AH465,\" \",referentes!AI465,\" \",referentes!AJ465,\" \",referentes!AK465,\" \",referentes!AF465)))","v":"NAVICULA UNISERIATA"},{"$f":"referentes!AG465","v":0},null,null,null,null,null,null,null,null,null,null,null,null,null,"PROTOPERIDINIUM ELEGANS"]
[null,null,null,null,null,null,null,null,null,null,null,null,null,null,null,{"$f":"IF(referentes!AC470=\"\",\"\",IF(referentes!AC470=referentes!AH470,CONCATENATE(referentes!AC470,\" \",\" \",\" \",\" \"),IF(referentes!AC470=referentes!AI470,CONCATENATE(referentes!AH470,\" \",referentes!AI470,\" \",\" \"),CONCATENATE(referentes!AH470,\" \",referentes!AI470,\" \",referentes!AC470))))","v":""},{"$f":"IF(referentes!AB470=\"\",\"\",referentes!AB470)","v":""},null,null,null,{"$f":"TRIM(UPPER(CONCATENATE(referentes!AH466,\" \",referentes!AI466,\" \",referentes!AJ466,\" \",referentes!AK466,\" \",referentes!AF466)))","v":"NEOCALYPTRELLA"},{"$f":"referentes!AG466","v":0},null,null,null,null,null,null,null,null,null,null,null,null,null,"PROTOPERIDINIUM EXAGERATUM"]
[null,null,null,null,null,null,null,null,null,null,null,null,null,null,null,{"$f":"IF(referentes!AC471=\"\",\"\",IF(referentes!AC471=referentes!AH471,CONCATENATE(referentes!AC471,\" \",\" \",\" \",\" \"),IF(referentes!AC471=referentes!AI471,CONCATENATE(referentes!AH471,\" \",referentes!AI471,\" \",\" \"),CONCATENATE(referentes!AH471,\" \",referentes!AI471,\" \",referentes!AC471))))","v":""},{"$f":"IF(referentes!AB471=\"\",\"\",referentes!AB471)","v":""},null,null,null,{"$f":"TRIM(UPPER(CONCATENATE(referentes!AH467,\" \",referentes!AI467,\" \",referentes!AJ467,\" \",referentes!AK467,\" \",referentes!AF467)))","v":"NEOCALYPTRELLA ROBUSTA"},{"$f":"referentes!AG467","v":0},null,null,null,null,null,null,null,null,null,null,null,null,null,"PROTOPERIDINIUM GLOBULUS"]
[null,null,null,null,null,null,null,null,null,null,null,null,null,null,null,{"$f":"IF(referentes!AC472=\"\",\"\",IF(referentes!AC472=referentes!AH472,CONCATENATE(referentes!AC472,\" \",\" \",\" \",\" \"),IF(referentes!AC472=referentes!AI472,CONCATENATE(referentes!AH472,\" \",referentes!AI472,\" \",\" \"),CONCATENATE(referentes!AH472,\" \",referentes!AI472,\" \",referentes!AC472))))","v":""},{"$f":"IF(referentes!AB472=\"\",\"\",referentes!AB472)","v":""},null,null,null,{"$f":"TRIM(UPPER(CONCATENATE(referentes!AH468,\" \",referentes!AI468,\" \",referentes!AJ468,\" \",referentes!AK468,\" \",referentes!AF468)))","v":"NEOCERATIUM"},{"$f":"referentes!AG468","v":0},null,null,null,null,null,null,null,null,null,null,null,null,null,"PROTOPERIDINIUM GRANDE"]
[null,null,null,null,null,null,null,null,null,null,null,null,null,null,null,{"$f":"IF(referentes!AC473=\"\",\"\",IF(referentes!AC473=referentes!AH473,CONCATENATE(referentes!AC473,\" \",\" \",\" \",\" \"),IF(referentes!AC473=referentes!AI473,CONCATENATE(referentes!AH473,\" \",referentes!AI473,\" \",\" \"),CONCATENATE(referentes!AH473,\" \",referentes!AI473,\" \",referentes!AC473))))","v":""},{"$f":"IF(referentes!AB473=\"\",\"\",referentes!AB473)","v":""},null,null,null,{"$f":"TRIM(UPPER(CONCATENATE(referentes!AH469,\" \",referentes!AI469,\" \",referentes!AJ469,\" \",referentes!AK469,\" \",referentes!AF469)))","v":"NEOCERATIUM ARIETINUM"},{"$f":"referentes!AG469","v":0},null,null,null,null,null,null,null,null,null,null,null,null,null,"PROTOPERIDINIUM GRANII"]
[null,null,null,null,null,null,null,null,null,null,null,null,null,null,null,{"$f":"IF(referentes!AC474=\"\",\"\",IF(referentes!AC474=referentes!AH474,CONCATENATE(referentes!AC474,\" \",\" \",\" \",\" \"),IF(referentes!AC474=referentes!AI474,CONCATENATE(referentes!AH474,\" \",referentes!AI474,\" \",\" \"),CONCATENATE(referentes!AH474,\" \",referentes!AI474,\" \",referentes!AC474))))","v":""},{"$f":"IF(referentes!AB474=\"\",\"\",referentes!AB474)","v":""},null,null,null,{"$f":"TRIM(UPPER(CONCATENATE(referentes!AH470,\" \",referentes!AI470,\" \",referentes!AJ470,\" \",referentes!AK470,\" \",referentes!AF470)))","v":"NEOCERATIUM AZORICUM"},{"$f":"referentes!AG470","v":0},null,null,null,null,null,null,null,null,null,null,null,null,null,"PROTOPERIDINIUM HAMATUM"]
[null,null,null,null,null,null,null,null,null,null,null,null,null,null,null,{"$f":"IF(referentes!AC475=\"\",\"\",IF(referentes!AC475=referentes!AH475,CONCATENATE(referentes!AC475,\" \",\" \",\" \",\" \"),IF(referentes!AC475=referentes!AI475,CONCATENATE(referentes!AH475,\" \",referentes!AI475,\" \",\" \"),CONCATENATE(referentes!AH475,\" \",referentes!AI475,\" \",referentes!AC475))))","v":""},{"$f":"IF(referentes!AB475=\"\",\"\",referentes!AB475)","v":""},null,null,null,{"$f":"TRIM(UPPER(CONCATENATE(referentes!AH471,\" \",referentes!AI471,\" \",referentes!AJ471,\" \",referentes!AK471,\" \",referentes!AF471)))","v":"NEOCERATIUM BELONE"},{"$f":"referentes!AG471","v":0},null,null,null,null,null,null,null,null,null,null,null,null,null,"PROTOPERIDINIUM HETEROCANTHUM"]
[null,null,null,null,null,null,null,null,null,null,null,null,null,null,null,{"$f":"IF(referentes!AC476=\"\",\"\",IF(referentes!AC476=referentes!AH476,CONCATENATE(referentes!AC476,\" \",\" \",\" \",\" \"),IF(referentes!AC476=referentes!AI476,CONCATENATE(referentes!AH476,\" \",referentes!AI476,\" \",\" \"),CONCATENATE(referentes!AH476,\" \",referentes!AI476,\" \",referentes!AC476))))","v":""},{"$f":"IF(referentes!AB476=\"\",\"\",referentes!AB476)","v":""},null,null,null,{"$f":"TRIM(UPPER(CONCATENATE(referentes!AH472,\" \",referentes!AI472,\" \",referentes!AJ472,\" \",referentes!AK472,\" \",referentes!AF472)))","v":"NEOCERATIUM BIGELOWII"},{"$f":"referentes!AG472","v":0},null,null,null,null,null,null,null,null,null,null,null,null,null,"PROTOPERIDINIUM HIROBIS"]
[null,null,null,null,null,null,null,null,null,null,null,null,null,null,null,{"$f":"IF(referentes!AC477=\"\",\"\",IF(referentes!AC477=referentes!AH477,CONCATENATE(referentes!AC477,\" \",\" \",\" \",\" \"),IF(referentes!AC477=referentes!AI477,CONCATENATE(referentes!AH477,\" \",referentes!AI477,\" \",\" \"),CONCATENATE(referentes!AH477,\" \",referentes!AI477,\" \",referentes!AC477))))","v":""},{"$f":"IF(referentes!AB477=\"\",\"\",referentes!AB477)","v":""},null,null,null,{"$f":"TRIM(UPPER(CONCATENATE(referentes!AH473,\" \",referentes!AI473,\" \",referentes!AJ473,\" \",referentes!AK473,\" \",referentes!AF473)))","v":"NEOCERATIUM BREVE"},{"$f":"referentes!AG473","v":0},null,null,null,null,null,null,null,null,null,null,null,null,null,"PROTOPERIDINIUM LATIDORSALE"]
[null,null,null,null,null,null,null,null,null,null,null,null,null,null,null,{"$f":"IF(referentes!AC478=\"\",\"\",IF(referentes!AC478=referentes!AH478,CONCATENATE(referentes!AC478,\" \",\" \",\" \",\" \"),IF(referentes!AC478=referentes!AI478,CONCATENATE(referentes!AH478,\" \",referentes!AI478,\" \",\" \"),CONCATENATE(referentes!AH478,\" \",referentes!AI478,\" \",referentes!AC478))))","v":""},{"$f":"IF(referentes!AB478=\"\",\"\",referentes!AB478)","v":""},null,null,null,{"$f":"TRIM(UPPER(CONCATENATE(referentes!AH474,\" \",referentes!AI474,\" \",referentes!AJ474,\" \",referentes!AK474,\" \",referentes!AF474)))","v":"NEOCERATIUM CANDELABRUM"},{"$f":"referentes!AG474","v":0},null,null,null,null,null,null,null,null,null,null,null,null,null,"PROTOPERIDINIUM LATISSIMUM"]
[null,null,null,null,null,null,null,null,null,null,null,null,null,null,null,{"$f":"IF(referentes!AC479=\"\",\"\",IF(referentes!AC479=referentes!AH479,CONCATENATE(referentes!AC479,\" \",\" \",\" \",\" \"),IF(referentes!AC479=referentes!AI479,CONCATENATE(referentes!AH479,\" \",referentes!AI479,\" \",\" \"),CONCATENATE(referentes!AH479,\" \",referentes!AI479,\" \",referentes!AC479))))","v":""},{"$f":"IF(referentes!AB479=\"\",\"\",referentes!AB479)","v":""},null,null,null,{"$f":"TRIM(UPPER(CONCATENATE(referentes!AH475,\" \",referentes!AI475,\" \",referentes!AJ475,\" \",referentes!AK475,\" \",referentes!AF475)))","v":"NEOCERATIUM CARNEGIEI"},{"$f":"referentes!AG475","v":0},null,null,null,null,null,null,null,null,null,null,null,null,null,"PROTOPERIDINIUM LONGIPES"]
[null,null,null,null,null,null,null,null,null,null,null,null,null,null,null,{"$f":"IF(referentes!AC480=\"\",\"\",IF(referentes!AC480=referentes!AH480,CONCATENATE(referentes!AC480,\" \",\" \",\" \",\" \"),IF(referentes!AC480=referentes!AI480,CONCATENATE(referentes!AH480,\" \",referentes!AI480,\" \",\" \"),CONCATENATE(referentes!AH480,\" \",referentes!AI480,\" \",referentes!AC480))))","v":""},{"$f":"IF(referentes!AB480=\"\",\"\",referentes!AB480)","v":""},null,null,null,{"$f":"TRIM(UPPER(CONCATENATE(referentes!AH476,\" \",referentes!AI476,\" \",referentes!AJ476,\" \",referentes!AK476,\" \",referentes!AF476)))","v":"NEOCERATIUM CARRIENSE"},{"$f":"referentes!AG476","v":0},null,null,null,null,null,null,null,null,null,null,null,null,null,"PROTOPERIDINIUM MELO"]
[null,null,null,null,null,null,null,null,null,null,null,null,null,null,null,{"$f":"IF(referentes!AC481=\"\",\"\",IF(referentes!AC481=referentes!AH481,CONCATENATE(referentes!AC481,\" \",\" \",\" \",\" \"),IF(referentes!AC481=referentes!AI481,CONCATENATE(referentes!AH481,\" \",referentes!AI481,\" \",\" \"),CONCATENATE(referentes!AH481,\" \",referentes!AI481,\" \",referentes!AC481))))","v":""},{"$f":"IF(referentes!AB481=\"\",\"\",referentes!AB481)","v":""},null,null,null,{"$f":"TRIM(UPPER(CONCATENATE(referentes!AH477,\" \",referentes!AI477,\" \",referentes!AJ477,\" \",referentes!AK477,\" \",referentes!AF477)))","v":"NEOCERATIUM CONCILIANS"},{"$f":"referentes!AG477","v":0},null,null,null,null,null,null,null,null,null,null,null,null,null,"PROTOPERIDINIUM MITE"]
[null,null,null,null,null,null,null,null,null,null,null,null,null,null,null,{"$f":"IF(referentes!AC482=\"\",\"\",IF(referentes!AC482=referentes!AH482,CONCATENATE(referentes!AC482,\" \",\" \",\" \",\" \"),IF(referentes!AC482=referentes!AI482,CONCATENATE(referentes!AH482,\" \",referentes!AI482,\" \",\" \"),CONCATENATE(referentes!AH482,\" \",referentes!AI482,\" \",referentes!AC482))))","v":""},{"$f":"IF(referentes!AB482=\"\",\"\",referentes!AB482)","v":""},null,null,null,{"$f":"TRIM(UPPER(CONCATENATE(referentes!AH478,\" \",referentes!AI478,\" \",referentes!AJ478,\" \",referentes!AK478,\" \",referentes!AF478)))","v":"NEOCERATIUM CONTORTUM"},{"$f":"referentes!AG478","v":0},null,null,null,null,null,null,null,null,null,null,null,null,null,"PROTOPERIDINIUM NORPACENSE"]
[null,null,null,null,null,null,null,null,null,null,null,null,null,null,null,{"$f":"IF(referentes!AC483=\"\",\"\",IF(referentes!AC483=referentes!AH483,CONCATENATE(referentes!AC483,\" \",\" \",\" \",\" \"),IF(referentes!AC483=referentes!AI483,CONCATENATE(referentes!AH483,\" \",referentes!AI483,\" \",\" \"),CONCATENATE(referentes!AH483,\" \",referentes!AI483,\" \",referentes!AC483))))","v":""},{"$f":"IF(referentes!AB483=\"\",\"\",referentes!AB483)","v":""},null,null,null,{"$f":"TRIM(UPPER(CONCATENATE(referentes!AH479,\" \",referentes!AI479,\" \",referentes!AJ479,\" \",referentes!AK479,\" \",referentes!AF479)))","v":"NEOCERATIUM CONTRARIUM"},{"$f":"referentes!AG479","v":0},null,null,null,null,null,null,null,null,null,null,null,null,null,"PROTOPERIDINIUM OBLONGUM"]
[null,null,null,null,null,null,null,null,null,null,null,null,null,null,null,{"$f":"IF(referentes!AC484=\"\",\"\",IF(referentes!AC484=referentes!AH484,CONCATENATE(referentes!AC484,\" \",\" \",\" \",\" \"),IF(referentes!AC484=referentes!AI484,CONCATENATE(referentes!AH484,\" \",referentes!AI484,\" \",\" \"),CONCATENATE(referentes!AH484,\" \",referentes!AI484,\" \",referentes!AC484))))","v":""},{"$f":"IF(referentes!AB484=\"\",\"\",referentes!AB484)","v":""},null,null,null,{"$f":"TRIM(UPPER(CONCATENATE(referentes!AH480,\" \",referentes!AI480,\" \",referentes!AJ480,\" \",referentes!AK480,\" \",referentes!AF480)))","v":"NEOCERATIUM DECLINATUM"},{"$f":"referentes!AG480","v":0},null,null,null,null,null,null,null,null,null,null,null,null,null,"PROTOPERIDINIUM OBTUSUM"]
[null,null,null,null,null,null,null,null,null,null,null,null,null,null,null,{"$f":"IF(referentes!AC485=\"\",\"\",IF(referentes!AC485=referentes!AH485,CONCATENATE(referentes!AC485,\" \",\" \",\" \",\" \"),IF(referentes!AC485=referentes!AI485,CONCATENATE(referentes!AH485,\" \",referentes!AI485,\" \",\" \"),CONCATENATE(referentes!AH485,\" \",referentes!AI485,\" \",referentes!AC485))))","v":""},{"$f":"IF(referentes!AB485=\"\",\"\",referentes!AB485)","v":""},null,null,null,{"$f":"TRIM(UPPER(CONCATENATE(referentes!AH481,\" \",referentes!AI481,\" \",referentes!AJ481,\" \",referentes!AK481,\" \",referentes!AF481)))","v":"NEOCERATIUM DEFLEXUM"},{"$f":"referentes!AG481","v":0},null,null,null,null,null,null,null,null,null,null,null,null,null,"PROTOPERIDINIUM OCEANICUM"]
[null,null,null,null,null,null,null,null,null,null,null,null,null,null,null,{"$f":"IF(referentes!AC486=\"\",\"\",IF(referentes!AC486=referentes!AH486,CONCATENATE(referentes!AC486,\" \",\" \",\" \",\" \"),IF(referentes!AC486=referentes!AI486,CONCATENATE(referentes!AH486,\" \",referentes!AI486,\" \",\" \"),CONCATENATE(referentes!AH486,\" \",referentes!AI486,\" \",referentes!AC486))))","v":""},{"$f":"IF(referentes!AB486=\"\",\"\",referentes!AB486)","v":""},null,null,null,{"$f":"TRIM(UPPER(CONCATENATE(referentes!AH482,\" \",referentes!AI482,\" \",referentes!AJ482,\" \",referentes!AK482,\" \",referentes!AF482)))","v":"NEOCERATIUM DENS"},{"$f":"referentes!AG482","v":0},null,null,null,null,null,null,null,null,null,null,null,null,null,"PROTOPERIDINIUM OVATUM"]
[null,null,null,null,null,null,null,null,null,null,null,null,null,null,null,{"$f":"IF(referentes!AC487=\"\",\"\",IF(referentes!AC487=referentes!AH487,CONCATENATE(referentes!AC487,\" \",\" \",\" \",\" \"),IF(referentes!AC487=referentes!AI487,CONCATENATE(referentes!AH487,\" \",referentes!AI487,\" \",\" \"),CONCATENATE(referentes!AH487,\" \",referentes!AI487,\" \",referentes!AC487))))","v":""},{"$f":"IF(referentes!AB487=\"\",\"\",referentes!AB487)","v":""},null,null,null,{"$f":"TRIM(UPPER(CONCATENATE(referentes!AH483,\" \",referentes!AI483,\" \",referentes!AJ483,\" \",referentes!AK483,\" \",referentes!AF483)))","v":"NEOCERATIUM DIGITATUM"},{"$f":"referentes!AG483","v":0},null,null,null,null,null,null,null,null,null,null,null,null,null,"PROTOPERIDINIUM OVUM"]
[null,null,null,null,null,null,null,null,null,null,null,null,null,null,null,{"$f":"IF(referentes!AC488=\"\",\"\",IF(referentes!AC488=referentes!AH488,CONCATENATE(referentes!AC488,\" \",\" \",\" \",\" \"),IF(referentes!AC488=referentes!AI488,CONCATENATE(referentes!AH488,\" \",referentes!AI488,\" \",\" \"),CONCATENATE(referentes!AH488,\" \",referentes!AI488,\" \",referentes!AC488))))","v":""},{"$f":"IF(referentes!AB488=\"\",\"\",referentes!AB488)","v":""},null,null,null,{"$f":"TRIM(UPPER(CONCATENATE(referentes!AH484,\" \",referentes!AI484,\" \",referentes!AJ484,\" \",referentes!AK484,\" \",referentes!AF484)))","v":"NEOCERATIUM EUARCUATUM"},{"$f":"referentes!AG484","v":0},null,null,null,null,null,null,null,null,null,null,null,null,null,"PROTOPERIDINIUM PACIFICUM"]
[null,null,null,null,null,null,null,null,null,null,null,null,null,null,null,{"$f":"IF(referentes!AC489=\"\",\"\",IF(referentes!AC489=referentes!AH489,CONCATENATE(referentes!AC489,\" \",\" \",\" \",\" \"),IF(referentes!AC489=referentes!AI489,CONCATENATE(referentes!AH489,\" \",referentes!AI489,\" \",\" \"),CONCATENATE(referentes!AH489,\" \",referentes!AI489,\" \",referentes!AC489))))","v":""},{"$f":"IF(referentes!AB489=\"\",\"\",referentes!AB489)","v":""},null,null,null,{"$f":"TRIM(UPPER(CONCATENATE(referentes!AH485,\" \",referentes!AI485,\" \",referentes!AJ485,\" \",referentes!AK485,\" \",referentes!AF485)))","v":"NEOCERATIUM EXTENSUM"},{"$f":"referentes!AG485","v":0},null,null,null,null,null,null,null,null,null,null,null,null,null,"PROTOPERIDINIUM PELLUCIDUM"]
[null,null,null,null,null,null,null,null,null,null,null,null,null,null,null,{"$f":"IF(referentes!AC490=\"\",\"\",IF(referentes!AC490=referentes!AH490,CONCATENATE(referentes!AC490,\" \",\" \",\" \",\" \"),IF(referentes!AC490=referentes!AI490,CONCATENATE(referentes!AH490,\" \",referentes!AI490,\" \",\" \"),CONCATENATE(referentes!AH490,\" \",referentes!AI490,\" \",referentes!AC490))))","v":""},{"$f":"IF(referentes!AB490=\"\",\"\",referentes!AB490)","v":""},null,null,null,{"$f":"TRIM(UPPER(CONCATENATE(referentes!AH486,\" \",referentes!AI486,\" \",referentes!AJ486,\" \",referentes!AK486,\" \",referentes!AF486)))","v":"NEOCERATIUM FALCATIFORME"},{"$f":"referentes!AG486","v":0},null,null,null,null,null,null,null,null,null,null,null,null,null,"PROTOPERIDINIUM PENTAGONUM"]
[null,null,null,null,null,null,null,null,null,null,null,null,null,null,null,{"$f":"IF(referentes!AC491=\"\",\"\",IF(referentes!AC491=referentes!AH491,CONCATENATE(referentes!AC491,\" \",\" \",\" \",\" \"),IF(referentes!AC491=referentes!AI491,CONCATENATE(referentes!AH491,\" \",referentes!AI491,\" \",\" \"),CONCATENATE(referentes!AH491,\" \",referentes!AI491,\" \",referentes!AC491))))","v":""},{"$f":"IF(referentes!AB491=\"\",\"\",referentes!AB491)","v":""},null,null,null,{"$f":"TRIM(UPPER(CONCATENATE(referentes!AH487,\" \",referentes!AI487,\" \",referentes!AJ487,\" \",referentes!AK487,\" \",referentes!AF487)))","v":"NEOCERATIUM FALCATUM"},{"$f":"referentes!AG487","v":0},null,null,null,null,null,null,null,null,null,null,null,null,null,"PROTOPERIDINIUM PUNCTULATUM"]
[null,null,null,null,null,null,null,null,null,null,null,null,null,null,null,{"$f":"IF(referentes!AC492=\"\",\"\",IF(referentes!AC492=referentes!AH492,CONCATENATE(referentes!AC492,\" \",\" \",\" \",\" \"),IF(referentes!AC492=referentes!AI492,CONCATENATE(referentes!AH492,\" \",referentes!AI492,\" \",\" \"),CONCATENATE(referentes!AH492,\" \",referentes!AI492,\" \",referentes!AC492))))","v":""},{"$f":"IF(referentes!AB492=\"\",\"\",referentes!AB492)","v":""},null,null,null,{"$f":"TRIM(UPPER(CONCATENATE(referentes!AH488,\" \",referentes!AI488,\" \",referentes!AJ488,\" \",referentes!AK488,\" \",referentes!AF488)))","v":"NEOCERATIUM FURCA"},{"$f":"referentes!AG488","v":0},null,null,null,null,null,null,null,null,null,null,null,null,null,"PROTOPERIDINIUM PYRUM"]
[null,null,null,null,null,null,null,null,null,null,null,null,null,null,null,{"$f":"IF(referentes!AC493=\"\",\"\",IF(referentes!AC493=referentes!AH493,CONCATENATE(referentes!AC493,\" \",\" \",\" \",\" \"),IF(referentes!AC493=referentes!AI493,CONCATENATE(referentes!AH493,\" \",referentes!AI493,\" \",\" \"),CONCATENATE(referentes!AH493,\" \",referentes!AI493,\" \",referentes!AC493))))","v":""},{"$f":"IF(referentes!AB493=\"\",\"\",referentes!AB493)","v":""},null,null,null,{"$f":"TRIM(UPPER(CONCATENATE(referentes!AH489,\" \",referentes!AI489,\" \",referentes!AJ489,\" \",referentes!AK489,\" \",referentes!AF489)))","v":"NEOCERATIUM FUSUS"},{"$f":"referentes!AG489","v":0},null,null,null,null,null,null,null,null,null,null,null,null,null,"PROTOPERIDINIUM QUARNERENSE"]
[null,null,null,null,null,null,null,null,null,null,null,null,null,null,null,{"$f":"IF(referentes!AC494=\"\",\"\",IF(referentes!AC494=referentes!AH494,CONCATENATE(referentes!AC494,\" \",\" \",\" \",\" \"),IF(referentes!AC494=referentes!AI494,CONCATENATE(referentes!AH494,\" \",referentes!AI494,\" \",\" \"),CONCATENATE(referentes!AH494,\" \",referentes!AI494,\" \",referentes!AC494))))","v":""},{"$f":"IF(referentes!AB494=\"\",\"\",referentes!AB494)","v":""},null,null,null,{"$f":"TRIM(UPPER(CONCATENATE(referentes!AH490,\" \",referentes!AI490,\" \",referentes!AJ490,\" \",referentes!AK490,\" \",referentes!AF490)))","v":"NEOCERATIUM GENICULATUM"},{"$f":"referentes!AG490","v":0},null,null,null,null,null,null,null,null,null,null,null,null,null,"PROTOPERIDINIUM RECTUM"]
[null,null,null,null,null,null,null,null,null,null,null,null,null,null,null,{"$f":"IF(referentes!AC495=\"\",\"\",IF(referentes!AC495=referentes!AH495,CONCATENATE(referentes!AC495,\" \",\" \",\" \",\" \"),IF(referentes!AC495=referentes!AI495,CONCATENATE(referentes!AH495,\" \",referentes!AI495,\" \",\" \"),CONCATENATE(referentes!AH495,\" \",referentes!AI495,\" \",referentes!AC495))))","v":""},{"$f":"IF(referentes!AB495=\"\",\"\",referentes!AB495)","v":""},null,null,null,{"$f":"TRIM(UPPER(CONCATENATE(referentes!AH491,\" \",referentes!AI491,\" \",referentes!AJ491,\" \",referentes!AK491,\" \",referentes!AF491)))","v":"NEOCERATIUM GIBBERUM"},{"$f":"referentes!AG491","v":0},null,null,null,null,null,null,null,null,null,null,null,null,null,"PROTOPERIDINIUM SIMULUM"]
[null,null,null,null,null,null,null,null,null,null,null,null,null,null,null,{"$f":"IF(referentes!AC496=\"\",\"\",IF(referentes!AC496=referentes!AH496,CONCATENATE(referentes!AC496,\" \",\" \",\" \",\" \"),IF(referentes!AC496=referentes!AI496,CONCATENATE(referentes!AH496,\" \",referentes!AI496,\" \",\" \"),CONCATENATE(referentes!AH496,\" \",referentes!AI496,\" \",referentes!AC496))))","v":""},{"$f":"IF(referentes!AB496=\"\",\"\",referentes!AB496)","v":""},null,null,null,{"$f":"TRIM(UPPER(CONCATENATE(referentes!AH492,\" \",referentes!AI492,\" \",referentes!AJ492,\" \",referentes!AK492,\" \",referentes!AF492)))","v":"NEOCERATIUM GRAVIDUM"},{"$f":"referentes!AG492","v":0},null,null,null,null,null,null,null,null,null,null,null,null,null,"PROTOPERIDINIUM SOLIDICORNE"]
[null,null,null,null,null,null,null,null,null,null,null,null,null,null,null,{"$f":"IF(referentes!AC497=\"\",\"\",IF(referentes!AC497=referentes!AH497,CONCATENATE(referentes!AC497,\" \",\" \",\" \",\" \"),IF(referentes!AC497=referentes!AI497,CONCATENATE(referentes!AH497,\" \",referentes!AI497,\" \",\" \"),CONCATENATE(referentes!AH497,\" \",referentes!AI497,\" \",referentes!AC497))))","v":""},{"$f":"IF(referentes!AB497=\"\",\"\",referentes!AB497)","v":""},null,null,null,{"$f":"TRIM(UPPER(CONCATENATE(referentes!AH493,\" \",referentes!AI493,\" \",referentes!AJ493,\" \",referentes!AK493,\" \",referentes!AF493)))","v":"NEOCERATIUM HEXACANTHUM"},{"$f":"referentes!AG493","v":0},null,null,null,null,null,null,null,null,null,null,null,null,null,"PROTOPERIDINIUM SPHAERICUM"]
[null,null,null,null,null,null,null,null,null,null,null,null,null,null,null,{"$f":"IF(referentes!AC498=\"\",\"\",IF(referentes!AC498=referentes!AH498,CONCATENATE(referentes!AC498,\" \",\" \",\" \",\" \"),IF(referentes!AC498=referentes!AI498,CONCATENATE(referentes!AH498,\" \",referentes!AI498,\" \",\" \"),CONCATENATE(referentes!AH498,\" \",referentes!AI498,\" \",referentes!AC498))))","v":""},{"$f":"IF(referentes!AB498=\"\",\"\",referentes!AB498)","v":""},null,null,null,{"$f":"TRIM(UPPER(CONCATENATE(referentes!AH494,\" \",referentes!AI494,\" \",referentes!AJ494,\" \",referentes!AK494,\" \",referentes!AF494)))","v":"NEOCERATIUM HIRCUS"},{"$f":"referentes!AG494","v":0},null,null,null,null,null,null,null,null,null,null,null,null,null,"PROTOPERIDINIUM STEIDINGERAE"]
[null,null,null,null,null,null,null,null,null,null,null,null,null,null,null,{"$f":"IF(referentes!AC499=\"\",\"\",IF(referentes!AC499=referentes!AH499,CONCATENATE(referentes!AC499,\" \",\" \",\" \",\" \"),IF(referentes!AC499=referentes!AI499,CONCATENATE(referentes!AH499,\" \",referentes!AI499,\" \",\" \"),CONCATENATE(referentes!AH499,\" \",referentes!AI499,\" \",referentes!AC499))))","v":""},{"$f":"IF(referentes!AB499=\"\",\"\",referentes!AB499)","v":""},null,null,null,{"$f":"TRIM(UPPER(CONCATENATE(referentes!AH495,\" \",referentes!AI495,\" \",referentes!AJ495,\" \",referentes!AK495,\" \",referentes!AF495)))","v":"NEOCERATIUM HORRIDUM"},{"$f":"referentes!AG495","v":0},null,null,null,null,null,null,null,null,null,null,null,null,null,"PROTOPERIDINIUM STEINII"]
[null,null,null,null,null,null,null,null,null,null,null,null,null,null,null,{"$f":"IF(referentes!AC500=\"\",\"\",IF(referentes!AC500=referentes!AH500,CONCATENATE(referentes!AC500,\" \",\" \",\" \",\" \"),IF(referentes!AC500=referentes!AI500,CONCATENATE(referentes!AH500,\" \",referentes!AI500,\" \",\" \"),CONCATENATE(referentes!AH500,\" \",referentes!AI500,\" \",referentes!AC500))))","v":""},{"$f":"IF(referentes!AB500=\"\",\"\",referentes!AB500)","v":""},null,null,null,{"$f":"TRIM(UPPER(CONCATENATE(referentes!AH496,\" \",referentes!AI496,\" \",referentes!AJ496,\" \",referentes!AK496,\" \",referentes!AF496)))","v":"NEOCERATIUM INCISUM"},{"$f":"referentes!AG496","v":0},null,null,null,null,null,null,null,null,null,null,null,null,null,"PROTOPERIDINIUM SUBINERME"]
[null,null,null,null,null,null,null,null,null,null,null,null,null,null,null,{"$f":"IF(referentes!AC501=\"\",\"\",IF(referentes!AC501=referentes!AH501,CONCATENATE(referentes!AC501,\" \",\" \",\" \",\" \"),IF(referentes!AC501=referentes!AI501,CONCATENATE(referentes!AH501,\" \",referentes!AI501,\" \",\" \"),CONCATENATE(referentes!AH501,\" \",referentes!AI501,\" \",referentes!AC501))))","v":""},{"$f":"IF(referentes!AB501=\"\",\"\",referentes!AB501)","v":""},null,null,null,{"$f":"TRIM(UPPER(CONCATENATE(referentes!AH497,\" \",referentes!AI497,\" \",referentes!AJ497,\" \",referentes!AK497,\" \",referentes!AF497)))","v":"NEOCERATIUM INFLATUM"},{"$f":"referentes!AG497","v":0},null,null,null,null,null,null,null,null,null,null,null,null,null,"PROTOPERIDINIUM SUBPYRIFORME"]
[null,null,null,null,null,null,null,null,null,null,null,null,null,null,null,{"$f":"IF(referentes!AC502=\"\",\"\",IF(referentes!AC502=referentes!AH502,CONCATENATE(referentes!AC502,\" \",\" \",\" \",\" \"),IF(referentes!AC502=referentes!AI502,CONCATENATE(referentes!AH502,\" \",referentes!AI502,\" \",\" \"),CONCATENATE(referentes!AH502,\" \",referentes!AI502,\" \",referentes!AC502))))","v":""},{"$f":"IF(referentes!AB502=\"\",\"\",referentes!AB502)","v":""},null,null,null,{"$f":"TRIM(UPPER(CONCATENATE(referentes!AH498,\" \",referentes!AI498,\" \",referentes!AJ498,\" \",referentes!AK498,\" \",referentes!AF498)))","v":"NEOCERATIUM KARSTENII"},{"$f":"referentes!AG498","v":0},null,null,null,null,null,null,null,null,null,null,null,null,null,"PROTOPERIDINIUM SUBSPHAERICUM"]
[null,null,null,null,null,null,null,null,null,null,null,null,null,null,null,{"$f":"IF(referentes!AC503=\"\",\"\",IF(referentes!AC503=referentes!AH503,CONCATENATE(referentes!AC503,\" \",\" \",\" \",\" \"),IF(referentes!AC503=referentes!AI503,CONCATENATE(referentes!AH503,\" \",referentes!AI503,\" \",\" \"),CONCATENATE(referentes!AH503,\" \",referentes!AI503,\" \",referentes!AC503))))","v":""},{"$f":"IF(referentes!AB503=\"\",\"\",referentes!AB503)","v":""},null,null,null,{"$f":"TRIM(UPPER(CONCATENATE(referentes!AH499,\" \",referentes!AI499,\" \",referentes!AJ499,\" \",referentes!AK499,\" \",referentes!AF499)))","v":"NEOCERATIUM KOFOIDII"},{"$f":"referentes!AG499","v":0},null,null,null,null,null,null,null,null,null,null,null,null,null,"PROTOPERIDINIUM SYMMETRICUM"]
[null,null,null,null,null,null,null,null,null,null,null,null,null,null,null,{"$f":"IF(referentes!AC504=\"\",\"\",IF(referentes!AC504=referentes!AH504,CONCATENATE(referentes!AC504,\" \",\" \",\" \",\" \"),IF(referentes!AC504=referentes!AI504,CONCATENATE(referentes!AH504,\" \",referentes!AI504,\" \",\" \"),CONCATENATE(referentes!AH504,\" \",referentes!AI504,\" \",referentes!AC504))))","v":""},{"$f":"IF(referentes!AB504=\"\",\"\",referentes!AB504)","v":""},null,null,null,{"$f":"TRIM(UPPER(CONCATENATE(referentes!AH500,\" \",referentes!AI500,\" \",referentes!AJ500,\" \",referentes!AK500,\" \",referentes!AF500)))","v":"NEOCERATIUM LIMULUS"},{"$f":"referentes!AG500","v":0},null,null,null,null,null,null,null,null,null,null,null,null,null,"PROTOPERIDINIUM UNIPES"]
[null,null,null,null,null,null,null,null,null,null,null,null,null,null,null,{"$f":"IF(referentes!AC505=\"\",\"\",IF(referentes!AC505=referentes!AH505,CONCATENATE(referentes!AC505,\" \",\" \",\" \",\" \"),IF(referentes!AC505=referentes!AI505,CONCATENATE(referentes!AH505,\" \",referentes!AI505,\" \",\" \"),CONCATENATE(referentes!AH505,\" \",referentes!AI505,\" \",referentes!AC505))))","v":""},{"$f":"IF(referentes!AB505=\"\",\"\",referentes!AB505)","v":""},null,null,null,{"$f":"TRIM(UPPER(CONCATENATE(referentes!AH501,\" \",referentes!AI501,\" \",referentes!AJ501,\" \",referentes!AK501,\" \",referentes!AF501)))","v":"NEOCERATIUM LINEATUM"},{"$f":"referentes!AG501","v":0},null,null,null,null,null,null,null,null,null,null,null,null,null,"PROTOPERIDINIUM VENUSTUM"]
[null,null,null,null,null,null,null,null,null,null,null,null,null,null,null,{"$f":"IF(referentes!AC506=\"\",\"\",IF(referentes!AC506=referentes!AH506,CONCATENATE(referentes!AC506,\" \",\" \",\" \",\" \"),IF(referentes!AC506=referentes!AI506,CONCATENATE(referentes!AH506,\" \",referentes!AI506,\" \",\" \"),CONCATENATE(referentes!AH506,\" \",referentes!AI506,\" \",referentes!AC506))))","v":""},{"$f":"IF(referentes!AB506=\"\",\"\",referentes!AB506)","v":""},null,null,null,{"$f":"TRIM(UPPER(CONCATENATE(referentes!AH502,\" \",referentes!AI502,\" \",referentes!AJ502,\" \",referentes!AK502,\" \",referentes!AF502)))","v":"NEOCERATIUM LONGIROSTRUM"},{"$f":"referentes!AG502","v":0},null,null,null,null,null,null,null,null,null,null,null,null,null,"PROTOPERIDINIUM VULGARE"]
[null,null,null,null,null,null,null,null,null,null,null,null,null,null,null,{"$f":"IF(referentes!AC507=\"\",\"\",IF(referentes!AC507=referentes!AH507,CONCATENATE(referentes!AC507,\" \",\" \",\" \",\" \"),IF(referentes!AC507=referentes!AI507,CONCATENATE(referentes!AH507,\" \",referentes!AI507,\" \",\" \"),CONCATENATE(referentes!AH507,\" \",referentes!AI507,\" \",referentes!AC507))))","v":""},{"$f":"IF(referentes!AB507=\"\",\"\",referentes!AB507)","v":""},null,null,null,{"$f":"TRIM(UPPER(CONCATENATE(referentes!AH503,\" \",referentes!AI503,\" \",referentes!AJ503,\" \",referentes!AK503,\" \",referentes!AF503)))","v":"NEOCERATIUM LUNULA"},{"$f":"referentes!AG503","v":0},null,null,null,null,null,null,null,null,null,null,null,null,null,"PROTOPERIDINIUM WIESNERI"]
[null,null,null,null,null,null,null,null,null,null,null,null,null,null,null,{"$f":"IF(referentes!AC508=\"\",\"\",IF(referentes!AC508=referentes!AH508,CONCATENATE(referentes!AC508,\" \",\" \",\" \",\" \"),IF(referentes!AC508=referentes!AI508,CONCATENATE(referentes!AH508,\" \",referentes!AI508,\" \",\" \"),CONCATENATE(referentes!AH508,\" \",referentes!AI508,\" \",referentes!AC508))))","v":""},{"$f":"IF(referentes!AB508=\"\",\"\",referentes!AB508)","v":""},null,null,null,{"$f":"TRIM(UPPER(CONCATENATE(referentes!AH504,\" \",referentes!AI504,\" \",referentes!AJ504,\" \",referentes!AK504,\" \",referentes!AF504)))","v":"NEOCERATIUM MACROCEROS"},{"$f":"referentes!AG504","v":0},null,null,null,null,null,null,null,null,null,null,null,null,null,"PSAMMODICTYON PANDURIFORME"]
[null,null,null,null,null,null,null,null,null,null,null,null,null,null,null,{"$f":"IF(referentes!AC509=\"\",\"\",IF(referentes!AC509=referentes!AH509,CONCATENATE(referentes!AC509,\" \",\" \",\" \",\" \"),IF(referentes!AC509=referentes!AI509,CONCATENATE(referentes!AH509,\" \",referentes!AI509,\" \",\" \"),CONCATENATE(referentes!AH509,\" \",referentes!AI509,\" \",referentes!AC509))))","v":""},{"$f":"IF(referentes!AB509=\"\",\"\",referentes!AB509)","v":""},null,null,null,{"$f":"TRIM(UPPER(CONCATENATE(referentes!AH505,\" \",referentes!AI505,\" \",referentes!AJ505,\" \",referentes!AK505,\" \",referentes!AF505)))","v":"NEOCERATIUM MASSILIENSE"},{"$f":"referentes!AG505","v":0},null,null,null,null,null,null,null,null,null,null,null,null,null,"PSEUDANABAENA ACICULARIS"]
[null,null,null,null,null,null,null,null,null,null,null,null,null,null,null,{"$f":"IF(referentes!AC510=\"\",\"\",IF(referentes!AC510=referentes!AH510,CONCATENATE(referentes!AC510,\" \",\" \",\" \",\" \"),IF(referentes!AC510=referentes!AI510,CONCATENATE(referentes!AH510,\" \",referentes!AI510,\" \",\" \"),CONCATENATE(referentes!AH510,\" \",referentes!AI510,\" \",referentes!AC510))))","v":""},{"$f":"IF(referentes!AB510=\"\",\"\",referentes!AB510)","v":""},null,null,null,{"$f":"TRIM(UPPER(CONCATENATE(referentes!AH506,\" \",referentes!AI506,\" \",referentes!AJ506,\" \",referentes!AK506,\" \",referentes!AF506)))","v":"NEOCERATIUM MINUTUM"},{"$f":"referentes!AG506","v":0},null,null,null,null,null,null,null,null,null,null,null,null,null,"PSEUDO-NITZSCHIA PUNGENS"]
[null,null,null,null,null,null,null,null,null,null,null,null,null,null,null,{"$f":"IF(referentes!AC511=\"\",\"\",IF(referentes!AC511=referentes!AH511,CONCATENATE(referentes!AC511,\" \",\" \",\" \",\" \"),IF(referentes!AC511=referentes!AI511,CONCATENATE(referentes!AH511,\" \",referentes!AI511,\" \",\" \"),CONCATENATE(referentes!AH511,\" \",referentes!AI511,\" \",referentes!AC511))))","v":""},{"$f":"IF(referentes!AB511=\"\",\"\",referentes!AB511)","v":""},null,null,null,{"$f":"TRIM(UPPER(CONCATENATE(referentes!AH507,\" \",referentes!AI507,\" \",referentes!AJ507,\" \",referentes!AK507,\" \",referentes!AF507)))","v":"NEOCERATIUM PARADOXIDES"},{"$f":"referentes!AG507","v":0},null,null,null,null,null,null,null,null,null,null,null,null,null,"PSEUDO-NITZSCHIA SERIATA"]
[null,null,null,null,null,null,null,null,null,null,null,null,null,null,null,{"$f":"IF(referentes!AC512=\"\",\"\",IF(referentes!AC512=referentes!AH512,CONCATENATE(referentes!AC512,\" \",\" \",\" \",\" \"),IF(referentes!AC512=referentes!AI512,CONCATENATE(referentes!AH512,\" \",referentes!AI512,\" \",\" \"),CONCATENATE(referentes!AH512,\" \",referentes!AI512,\" \",referentes!AC512))))","v":""},{"$f":"IF(referentes!AB512=\"\",\"\",referentes!AB512)","v":""},null,null,null,{"$f":"TRIM(UPPER(CONCATENATE(referentes!AH508,\" \",referentes!AI508,\" \",referentes!AJ508,\" \",referentes!AK508,\" \",referentes!AF508)))","v":"NEOCERATIUM PAVILLARDII"},{"$f":"referentes!AG508","v":0},null,null,null,null,null,null,null,null,null,null,null,null,null,"PSEUDOGUINARDIA RECTA"]
[null,null,null,null,null,null,null,null,null,null,null,null,null,null,null,{"$f":"IF(referentes!AC513=\"\",\"\",IF(referentes!AC513=referentes!AH513,CONCATENATE(referentes!AC513,\" \",\" \",\" \",\" \"),IF(referentes!AC513=referentes!AI513,CONCATENATE(referentes!AH513,\" \",referentes!AI513,\" \",\" \"),CONCATENATE(referentes!AH513,\" \",referentes!AI513,\" \",referentes!AC513))))","v":""},{"$f":"IF(referentes!AB513=\"\",\"\",referentes!AB513)","v":""},null,null,null,{"$f":"TRIM(UPPER(CONCATENATE(referentes!AH509,\" \",referentes!AI509,\" \",referentes!AJ509,\" \",referentes!AK509,\" \",referentes!AF509)))","v":"NEOCERATIUM PENTAGONUM"},{"$f":"referentes!AG509","v":0},null,null,null,null,null,null,null,null,null,null,null,null,null,"PSEUDOSOLENIA CALCAR-AVIS"]
[null,null,null,null,null,null,null,null,null,null,null,null,null,null,null,{"$f":"IF(referentes!AC514=\"\",\"\",IF(referentes!AC514=referentes!AH514,CONCATENATE(referentes!AC514,\" \",\" \",\" \",\" \"),IF(referentes!AC514=referentes!AI514,CONCATENATE(referentes!AH514,\" \",referentes!AI514,\" \",\" \"),CONCATENATE(referentes!AH514,\" \",referentes!AI514,\" \",referentes!AC514))))","v":""},{"$f":"IF(referentes!AB514=\"\",\"\",referentes!AB514)","v":""},null,null,null,{"$f":"TRIM(UPPER(CONCATENATE(referentes!AH510,\" \",referentes!AI510,\" \",referentes!AJ510,\" \",referentes!AK510,\" \",referentes!AF510)))","v":"NEOCERATIUM PLATYCORNE"},{"$f":"referentes!AG510","v":0},null,null,null,null,null,null,null,null,null,null,null,null,null,"PYROCYSTIS FUSIFORMIS"]
[null,null,null,null,null,null,null,null,null,null,null,null,null,null,null,{"$f":"IF(referentes!AC515=\"\",\"\",IF(referentes!AC515=referentes!AH515,CONCATENATE(referentes!AC515,\" \",\" \",\" \",\" \"),IF(referentes!AC515=referentes!AI515,CONCATENATE(referentes!AH515,\" \",referentes!AI515,\" \",\" \"),CONCATENATE(referentes!AH515,\" \",referentes!AI515,\" \",referentes!AC515))))","v":""},{"$f":"IF(referentes!AB515=\"\",\"\",referentes!AB515)","v":""},null,null,null,{"$f":"TRIM(UPPER(CONCATENATE(referentes!AH511,\" \",referentes!AI511,\" \",referentes!AJ511,\" \",referentes!AK511,\" \",referentes!AF511)))","v":"NEOCERATIUM PRAEOLONGUM"},{"$f":"referentes!AG511","v":0},null,null,null,null,null,null,null,null,null,null,null,null,null,"PYROCYSTIS HAMULUS"]
[null,null,null,null,null,null,null,null,null,null,null,null,null,null,null,{"$f":"IF(referentes!AC516=\"\",\"\",IF(referentes!AC516=referentes!AH516,CONCATENATE(referentes!AC516,\" \",\" \",\" \",\" \"),IF(referentes!AC516=referentes!AI516,CONCATENATE(referentes!AH516,\" \",referentes!AI516,\" \",\" \"),CONCATENATE(referentes!AH516,\" \",referentes!AI516,\" \",referentes!AC516))))","v":""},{"$f":"IF(referentes!AB516=\"\",\"\",referentes!AB516)","v":""},null,null,null,{"$f":"TRIM(UPPER(CONCATENATE(referentes!AH512,\" \",referentes!AI512,\" \",referentes!AJ512,\" \",referentes!AK512,\" \",referentes!AF512)))","v":"NEOCERATIUM PULCHELLUM"},{"$f":"referentes!AG512","v":0},null,null,null,null,null,null,null,null,null,null,null,null,null,"PYROCYSTIS LUNULA"]
[null,null,null,null,null,null,null,null,null,null,null,null,null,null,null,{"$f":"IF(referentes!AC517=\"\",\"\",IF(referentes!AC517=referentes!AH517,CONCATENATE(referentes!AC517,\" \",\" \",\" \",\" \"),IF(referentes!AC517=referentes!AI517,CONCATENATE(referentes!AH517,\" \",referentes!AI517,\" \",\" \"),CONCATENATE(referentes!AH517,\" \",referentes!AI517,\" \",referentes!AC517))))","v":""},{"$f":"IF(referentes!AB517=\"\",\"\",referentes!AB517)","v":""},null,null,null,{"$f":"TRIM(UPPER(CONCATENATE(referentes!AH513,\" \",referentes!AI513,\" \",referentes!AJ513,\" \",referentes!AK513,\" \",referentes!AF513)))","v":"NEOCERATIUM RANIPES"},{"$f":"referentes!AG513","v":0},null,null,null,null,null,null,null,null,null,null,null,null,null,"PYROCYSTIS NOCTILUCA"]
[null,null,null,null,null,null,null,null,null,null,null,null,null,null,null,{"$f":"IF(referentes!AC518=\"\",\"\",IF(referentes!AC518=referentes!AH518,CONCATENATE(referentes!AC518,\" \",\" \",\" \",\" \"),IF(referentes!AC518=referentes!AI518,CONCATENATE(referentes!AH518,\" \",referentes!AI518,\" \",\" \"),CONCATENATE(referentes!AH518,\" \",referentes!AI518,\" \",referentes!AC518))))","v":""},{"$f":"IF(referentes!AB518=\"\",\"\",referentes!AB518)","v":""},null,null,null,{"$f":"TRIM(UPPER(CONCATENATE(referentes!AH514,\" \",referentes!AI514,\" \",referentes!AJ514,\" \",referentes!AK514,\" \",referentes!AF514)))","v":"NEOCERATIUM REFLEXUM"},{"$f":"referentes!AG514","v":0},null,null,null,null,null,null,null,null,null,null,null,null,null,"PYROCYSTIS ROBUSTA"]
[null,null,null,null,null,null,null,null,null,null,null,null,null,null,null,{"$f":"IF(referentes!AC519=\"\",\"\",IF(referentes!AC519=referentes!AH519,CONCATENATE(referentes!AC519,\" \",\" \",\" \",\" \"),IF(referentes!AC519=referentes!AI519,CONCATENATE(referentes!AH519,\" \",referentes!AI519,\" \",\" \"),CONCATENATE(referentes!AH519,\" \",referentes!AI519,\" \",referentes!AC519))))","v":""},{"$f":"IF(referentes!AB519=\"\",\"\",referentes!AB519)","v":""},null,null,null,{"$f":"TRIM(UPPER(CONCATENATE(referentes!AH515,\" \",referentes!AI515,\" \",referentes!AJ515,\" \",referentes!AK515,\" \",referentes!AF515)))","v":"NEOCERATIUM SCHRANKII"},{"$f":"referentes!AG515","v":0},null,null,null,null,null,null,null,null,null,null,null,null,null,"PYRODINIUM BAHAMENSE"]
[null,null,null,null,null,null,null,null,null,null,null,null,null,null,null,{"$f":"IF(referentes!AC520=\"\",\"\",IF(referentes!AC520=referentes!AH520,CONCATENATE(referentes!AC520,\" \",\" \",\" \",\" \"),IF(referentes!AC520=referentes!AI520,CONCATENATE(referentes!AH520,\" \",referentes!AI520,\" \",\" \"),CONCATENATE(referentes!AH520,\" \",referentes!AI520,\" \",referentes!AC520))))","v":""},{"$f":"IF(referentes!AB520=\"\",\"\",referentes!AB520)","v":""},null,null,null,{"$f":"TRIM(UPPER(CONCATENATE(referentes!AH516,\" \",referentes!AI516,\" \",referentes!AJ516,\" \",referentes!AK516,\" \",referentes!AF516)))","v":"NEOCERATIUM SETACEUM"},{"$f":"referentes!AG516","v":0},null,null,null,null,null,null,null,null,null,null,null,null,null,"PYROPHACUS HOROLOGIUM"]
[null,null,null,null,null,null,null,null,null,null,null,null,null,null,null,{"$f":"IF(referentes!AC521=\"\",\"\",IF(referentes!AC521=referentes!AH521,CONCATENATE(referentes!AC521,\" \",\" \",\" \",\" \"),IF(referentes!AC521=referentes!AI521,CONCATENATE(referentes!AH521,\" \",referentes!AI521,\" \",\" \"),CONCATENATE(referentes!AH521,\" \",referentes!AI521,\" \",referentes!AC521))))","v":""},{"$f":"IF(referentes!AB521=\"\",\"\",referentes!AB521)","v":""},null,null,null,{"$f":"TRIM(UPPER(CONCATENATE(referentes!AH517,\" \",referentes!AI517,\" \",referentes!AJ517,\" \",referentes!AK517,\" \",referentes!AF517)))","v":"NEOCERATIUM SYMMETRICUM"},{"$f":"referentes!AG517","v":0},null,null,null,null,null,null,null,null,null,null,null,null,null,"PYROPHACUS STEINII"]
[null,null,null,null,null,null,null,null,null,null,null,null,null,null,null,{"$f":"IF(referentes!AC522=\"\",\"\",IF(referentes!AC522=referentes!AH522,CONCATENATE(referentes!AC522,\" \",\" \",\" \",\" \"),IF(referentes!AC522=referentes!AI522,CONCATENATE(referentes!AH522,\" \",referentes!AI522,\" \",\" \"),CONCATENATE(referentes!AH522,\" \",referentes!AI522,\" \",referentes!AC522))))","v":""},{"$f":"IF(referentes!AB522=\"\",\"\",referentes!AB522)","v":""},null,null,null,{"$f":"TRIM(UPPER(CONCATENATE(referentes!AH518,\" \",referentes!AI518,\" \",referentes!AJ518,\" \",referentes!AK518,\" \",referentes!AF518)))","v":"NEOCERATIUM TENUE"},{"$f":"referentes!AG518","v":0},null,null,null,null,null,null,null,null,null,null,null,null,null,"RHABDONEMA ADRIATICUM"]
[null,null,null,null,null,null,null,null,null,null,null,null,null,null,null,{"$f":"IF(referentes!AC523=\"\",\"\",IF(referentes!AC523=referentes!AH523,CONCATENATE(referentes!AC523,\" \",\" \",\" \",\" \"),IF(referentes!AC523=referentes!AI523,CONCATENATE(referentes!AH523,\" \",referentes!AI523,\" \",\" \"),CONCATENATE(referentes!AH523,\" \",referentes!AI523,\" \",referentes!AC523))))","v":""},{"$f":"IF(referentes!AB523=\"\",\"\",referentes!AB523)","v":""},null,null,null,{"$f":"TRIM(UPPER(CONCATENATE(referentes!AH519,\" \",referentes!AI519,\" \",referentes!AJ519,\" \",referentes!AK519,\" \",referentes!AF519)))","v":"NEOCERATIUM TERES"},{"$f":"referentes!AG519","v":0},null,null,null,null,null,null,null,null,null,null,null,null,null,"RHABDONEMA PUNCTATUM"]
[null,null,null,null,null,null,null,null,null,null,null,null,null,null,null,{"$f":"IF(referentes!AC524=\"\",\"\",IF(referentes!AC524=referentes!AH524,CONCATENATE(referentes!AC524,\" \",\" \",\" \",\" \"),IF(referentes!AC524=referentes!AI524,CONCATENATE(referentes!AH524,\" \",referentes!AI524,\" \",\" \"),CONCATENATE(referentes!AH524,\" \",referentes!AI524,\" \",referentes!AC524))))","v":""},{"$f":"IF(referentes!AB524=\"\",\"\",referentes!AB524)","v":""},null,null,null,{"$f":"TRIM(UPPER(CONCATENATE(referentes!AH520,\" \",referentes!AI520,\" \",referentes!AJ520,\" \",referentes!AK520,\" \",referentes!AF520)))","v":"NEOCERATIUM TRICHOCEROS"},{"$f":"referentes!AG520","v":0},null,null,null,null,null,null,null,null,null,null,null,null,null,"RHIZOSOLENIA ACUMINATA"]
[null,null,null,null,null,null,null,null,null,null,null,null,null,null,null,{"$f":"IF(referentes!AC525=\"\",\"\",IF(referentes!AC525=referentes!AH525,CONCATENATE(referentes!AC525,\" \",\" \",\" \",\" \"),IF(referentes!AC525=referentes!AI525,CONCATENATE(referentes!AH525,\" \",referentes!AI525,\" \",\" \"),CONCATENATE(referentes!AH525,\" \",referentes!AI525,\" \",referentes!AC525))))","v":""},{"$f":"IF(referentes!AB525=\"\",\"\",referentes!AB525)","v":""},null,null,null,{"$f":"TRIM(UPPER(CONCATENATE(referentes!AH521,\" \",referentes!AI521,\" \",referentes!AJ521,\" \",referentes!AK521,\" \",referentes!AF521)))","v":"NEOCERATIUM TRIPOS"},{"$f":"referentes!AG521","v":0},null,null,null,null,null,null,null,null,null,null,null,null,null,"RHIZOSOLENIA BERGONII"]
[null,null,null,null,null,null,null,null,null,null,null,null,null,null,null,{"$f":"IF(referentes!AC526=\"\",\"\",IF(referentes!AC526=referentes!AH526,CONCATENATE(referentes!AC526,\" \",\" \",\" \",\" \"),IF(referentes!AC526=referentes!AI526,CONCATENATE(referentes!AH526,\" \",referentes!AI526,\" \",\" \"),CONCATENATE(referentes!AH526,\" \",referentes!AI526,\" \",referentes!AC526))))","v":""},{"$f":"IF(referentes!AB526=\"\",\"\",referentes!AB526)","v":""},null,null,null,{"$f":"TRIM(UPPER(CONCATENATE(referentes!AH522,\" \",referentes!AI522,\" \",referentes!AJ522,\" \",referentes!AK522,\" \",referentes!AF522)))","v":"NEOCERATIUM UNCINUS"},{"$f":"referentes!AG522","v":0},null,null,null,null,null,null,null,null,null,null,null,null,null,"RHIZOSOLENIA CASTRACANEI"]
[null,null,null,null,null,null,null,null,null,null,null,null,null,null,null,{"$f":"IF(referentes!AC527=\"\",\"\",IF(referentes!AC527=referentes!AH527,CONCATENATE(referentes!AC527,\" \",\" \",\" \",\" \"),IF(referentes!AC527=referentes!AI527,CONCATENATE(referentes!AH527,\" \",referentes!AI527,\" \",\" \"),CONCATENATE(referentes!AH527,\" \",referentes!AI527,\" \",referentes!AC527))))","v":""},{"$f":"IF(referentes!AB527=\"\",\"\",referentes!AB527)","v":""},null,null,null,{"$f":"TRIM(UPPER(CONCATENATE(referentes!AH523,\" \",referentes!AI523,\" \",referentes!AJ523,\" \",referentes!AK523,\" \",referentes!AF523)))","v":"NEOCERATIUM VULTUR"},{"$f":"referentes!AG523","v":0},null,null,null,null,null,null,null,null,null,null,null,null,null,"RHIZOSOLENIA CLEVEI"]
[null,null,null,null,null,null,null,null,null,null,null,null,null,null,null,{"$f":"IF(referentes!AC528=\"\",\"\",IF(referentes!AC528=referentes!AH528,CONCATENATE(referentes!AC528,\" \",\" \",\" \",\" \"),IF(referentes!AC528=referentes!AI528,CONCATENATE(referentes!AH528,\" \",referentes!AI528,\" \",\" \"),CONCATENATE(referentes!AH528,\" \",referentes!AI528,\" \",referentes!AC528))))","v":""},{"$f":"IF(referentes!AB528=\"\",\"\",referentes!AB528)","v":""},null,null,null,{"$f":"TRIM(UPPER(CONCATENATE(referentes!AH524,\" \",referentes!AI524,\" \",referentes!AJ524,\" \",referentes!AK524,\" \",referentes!AF524)))","v":"NEODELPHINEIS"},{"$f":"referentes!AG524","v":0},null,null,null,null,null,null,null,null,null,null,null,null,null,"RHIZOSOLENIA FORMOSA"]
[null,null,null,null,null,null,null,null,null,null,null,null,null,null,null,{"$f":"IF(referentes!AC529=\"\",\"\",IF(referentes!AC529=referentes!AH529,CONCATENATE(referentes!AC529,\" \",\" \",\" \",\" \"),IF(referentes!AC529=referentes!AI529,CONCATENATE(referentes!AH529,\" \",referentes!AI529,\" \",\" \"),CONCATENATE(referentes!AH529,\" \",referentes!AI529,\" \",referentes!AC529))))","v":""},{"$f":"IF(referentes!AB529=\"\",\"\",referentes!AB529)","v":""},null,null,null,{"$f":"TRIM(UPPER(CONCATENATE(referentes!AH525,\" \",referentes!AI525,\" \",referentes!AJ525,\" \",referentes!AK525,\" \",referentes!AF525)))","v":"NEODELPHINEIS PELAGICA"},{"$f":"referentes!AG525","v":0},null,null,null,null,null,null,null,null,null,null,null,null,null,"RHIZOSOLENIA HEBETATA"]
[null,null,null,null,null,null,null,null,null,null,null,null,null,null,null,{"$f":"IF(referentes!AC530=\"\",\"\",IF(referentes!AC530=referentes!AH530,CONCATENATE(referentes!AC530,\" \",\" \",\" \",\" \"),IF(referentes!AC530=referentes!AI530,CONCATENATE(referentes!AH530,\" \",referentes!AI530,\" \",\" \"),CONCATENATE(referentes!AH530,\" \",referentes!AI530,\" \",referentes!AC530))))","v":""},{"$f":"IF(referentes!AB530=\"\",\"\",referentes!AB530)","v":""},null,null,null,{"$f":"TRIM(UPPER(CONCATENATE(referentes!AH526,\" \",referentes!AI526,\" \",referentes!AJ526,\" \",referentes!AK526,\" \",referentes!AF526)))","v":"NEOSYNEDRA"},{"$f":"referentes!AG526","v":0},null,null,null,null,null,null,null,null,null,null,null,null,null,"RHIZOSOLENIA HYALINA"]
[null,null,null,null,null,null,null,null,null,null,null,null,null,null,null,{"$f":"IF(referentes!AC531=\"\",\"\",IF(referentes!AC531=referentes!AH531,CONCATENATE(referentes!AC531,\" \",\" \",\" \",\" \"),IF(referentes!AC531=referentes!AI531,CONCATENATE(referentes!AH531,\" \",referentes!AI531,\" \",\" \"),CONCATENATE(referentes!AH531,\" \",referentes!AI531,\" \",referentes!AC531))))","v":""},{"$f":"IF(referentes!AB531=\"\",\"\",referentes!AB531)","v":""},null,null,null,{"$f":"TRIM(UPPER(CONCATENATE(referentes!AH527,\" \",referentes!AI527,\" \",referentes!AJ527,\" \",referentes!AK527,\" \",referentes!AF527)))","v":"NITZSCHIA"},{"$f":"referentes!AG527","v":0},null,null,null,null,null,null,null,null,null,null,null,null,null,"RHIZOSOLENIA IMBRICATA"]
[null,null,null,null,null,null,null,null,null,null,null,null,null,null,null,{"$f":"IF(referentes!AC532=\"\",\"\",IF(referentes!AC532=referentes!AH532,CONCATENATE(referentes!AC532,\" \",\" \",\" \",\" \"),IF(referentes!AC532=referentes!AI532,CONCATENATE(referentes!AH532,\" \",referentes!AI532,\" \",\" \"),CONCATENATE(referentes!AH532,\" \",referentes!AI532,\" \",referentes!AC532))))","v":""},{"$f":"IF(referentes!AB532=\"\",\"\",referentes!AB532)","v":""},null,null,null,{"$f":"TRIM(UPPER(CONCATENATE(referentes!AH528,\" \",referentes!AI528,\" \",referentes!AJ528,\" \",referentes!AK528,\" \",referentes!AF528)))","v":"NITZSCHIA BICAPITATA"},{"$f":"referentes!AG528","v":0},null,null,null,null,null,null,null,null,null,null,null,null,null,"RHIZOSOLENIA POLYDACTYLA"]
[null,null,null,null,null,null,null,null,null,null,null,null,null,null,null,{"$f":"IF(referentes!AC533=\"\",\"\",IF(referentes!AC533=referentes!AH533,CONCATENATE(referentes!AC533,\" \",\" \",\" \",\" \"),IF(referentes!AC533=referentes!AI533,CONCATENATE(referentes!AH533,\" \",referentes!AI533,\" \",\" \"),CONCATENATE(referentes!AH533,\" \",referentes!AI533,\" \",referentes!AC533))))","v":""},{"$f":"IF(referentes!AB533=\"\",\"\",referentes!AB533)","v":""},null,null,null,{"$f":"TRIM(UPPER(CONCATENATE(referentes!AH529,\" \",referentes!AI529,\" \",referentes!AJ529,\" \",referentes!AK529,\" \",referentes!AF529)))","v":"NITZSCHIA BRAARUDII"},{"$f":"referentes!AG529","v":0},null,null,null,null,null,null,null,null,null,null,null,null,null,"RHIZOSOLENIA SETIGERA"]
[null,null,null,null,null,null,null,null,null,null,null,null,null,null,null,{"$f":"IF(referentes!AC534=\"\",\"\",IF(referentes!AC534=referentes!AH534,CONCATENATE(referentes!AC534,\" \",\" \",\" \",\" \"),IF(referentes!AC534=referentes!AI534,CONCATENATE(referentes!AH534,\" \",referentes!AI534,\" \",\" \"),CONCATENATE(referentes!AH534,\" \",referentes!AI534,\" \",referentes!AC534))))","v":""},{"$f":"IF(referentes!AB534=\"\",\"\",referentes!AB534)","v":""},null,null,null,{"$f":"TRIM(UPPER(CONCATENATE(referentes!AH530,\" \",referentes!AI530,\" \",referentes!AJ530,\" \",referentes!AK530,\" \",referentes!AF530)))","v":"NITZSCHIA CONSTRICTA"},{"$f":"referentes!AG530","v":0},null,null,null,null,null,null,null,null,null,null,null,null,null,"RHIZOSOLENIA STRIATA"]
[null,null,null,null,null,null,null,null,null,null,null,null,null,null,null,{"$f":"IF(referentes!AC535=\"\",\"\",IF(referentes!AC535=referentes!AH535,CONCATENATE(referentes!AC535,\" \",\" \",\" \",\" \"),IF(referentes!AC535=referentes!AI535,CONCATENATE(referentes!AH535,\" \",referentes!AI535,\" \",\" \"),CONCATENATE(referentes!AH535,\" \",referentes!AI535,\" \",referentes!AC535))))","v":""},{"$f":"IF(referentes!AB535=\"\",\"\",referentes!AB535)","v":""},null,null,null,{"$f":"TRIM(UPPER(CONCATENATE(referentes!AH531,\" \",referentes!AI531,\" \",referentes!AJ531,\" \",referentes!AK531,\" \",referentes!AF531)))","v":"NITZSCHIA DISTANS"},{"$f":"referentes!AG531","v":0},null,null,null,null,null,null,null,null,null,null,null,null,null,"RHIZOSOLENIA STYLIFORMIS"]
[null,null,null,null,null,null,null,null,null,null,null,null,null,null,null,{"$f":"IF(referentes!AC536=\"\",\"\",IF(referentes!AC536=referentes!AH536,CONCATENATE(referentes!AC536,\" \",\" \",\" \",\" \"),IF(referentes!AC536=referentes!AI536,CONCATENATE(referentes!AH536,\" \",referentes!AI536,\" \",\" \"),CONCATENATE(referentes!AH536,\" \",referentes!AI536,\" \",referentes!AC536))))","v":""},{"$f":"IF(referentes!AB536=\"\",\"\",referentes!AB536)","v":""},null,null,null,{"$f":"TRIM(UPPER(CONCATENATE(referentes!AH532,\" \",referentes!AI532,\" \",referentes!AJ532,\" \",referentes!AK532,\" \",referentes!AF532)))","v":"NITZSCHIA FLUMINENSIS"},{"$f":"referentes!AG532","v":0},null,null,null,null,null,null,null,null,null,null,null,null,null,"RICHELIA INTRACELLULARIS"]
[null,null,null,null,null,null,null,null,null,null,null,null,null,null,null,{"$f":"IF(referentes!AC537=\"\",\"\",IF(referentes!AC537=referentes!AH537,CONCATENATE(referentes!AC537,\" \",\" \",\" \",\" \"),IF(referentes!AC537=referentes!AI537,CONCATENATE(referentes!AH537,\" \",referentes!AI537,\" \",\" \"),CONCATENATE(referentes!AH537,\" \",referentes!AI537,\" \",referentes!AC537))))","v":""},{"$f":"IF(referentes!AB537=\"\",\"\",referentes!AB537)","v":""},null,null,null,{"$f":"TRIM(UPPER(CONCATENATE(referentes!AH533,\" \",referentes!AI533,\" \",referentes!AJ533,\" \",referentes!AK533,\" \",referentes!AF533)))","v":"NITZSCHIA HABIRSHAWII"},{"$f":"referentes!AG533","v":0},null,null,null,null,null,null,null,null,null,null,null,null,null,"ROPERIA TESSELATA"]
[null,null,null,null,null,null,null,null,null,null,null,null,null,null,null,{"$f":"IF(referentes!AC538=\"\",\"\",IF(referentes!AC538=referentes!AH538,CONCATENATE(referentes!AC538,\" \",\" \",\" \",\" \"),IF(referentes!AC538=referentes!AI538,CONCATENATE(referentes!AH538,\" \",referentes!AI538,\" \",\" \"),CONCATENATE(referentes!AH538,\" \",referentes!AI538,\" \",referentes!AC538))))","v":""},{"$f":"IF(referentes!AB538=\"\",\"\",referentes!AB538)","v":""},null,null,null,{"$f":"TRIM(UPPER(CONCATENATE(referentes!AH534,\" \",referentes!AI534,\" \",referentes!AJ534,\" \",referentes!AK534,\" \",referentes!AF534)))","v":"NITZSCHIA INTERRUPTESTRIATA"},{"$f":"referentes!AG534","v":0},null,null,null,null,null,null,null,null,null,null,null,null,null,"SCENEDESMUS BICAUDATUS"]
[null,null,null,null,null,null,null,null,null,null,null,null,null,null,null,{"$f":"IF(referentes!AC539=\"\",\"\",IF(referentes!AC539=referentes!AH539,CONCATENATE(referentes!AC539,\" \",\" \",\" \",\" \"),IF(referentes!AC539=referentes!AI539,CONCATENATE(referentes!AH539,\" \",referentes!AI539,\" \",\" \"),CONCATENATE(referentes!AH539,\" \",referentes!AI539,\" \",referentes!AC539))))","v":""},{"$f":"IF(referentes!AB539=\"\",\"\",referentes!AB539)","v":""},null,null,null,{"$f":"TRIM(UPPER(CONCATENATE(referentes!AH535,\" \",referentes!AI535,\" \",referentes!AJ535,\" \",referentes!AK535,\" \",referentes!AF535)))","v":"NITZSCHIA LONGISSIMA"},{"$f":"referentes!AG535","v":0},null,null,null,null,null,null,null,null,null,null,null,null,null,"SCHUETTIELLA MITRA"]
[null,null,null,null,null,null,null,null,null,null,null,null,null,null,null,{"$f":"IF(referentes!AC540=\"\",\"\",IF(referentes!AC540=referentes!AH540,CONCATENATE(referentes!AC540,\" \",\" \",\" \",\" \"),IF(referentes!AC540=referentes!AI540,CONCATENATE(referentes!AH540,\" \",referentes!AI540,\" \",\" \"),CONCATENATE(referentes!AH540,\" \",referentes!AI540,\" \",referentes!AC540))))","v":""},{"$f":"IF(referentes!AB540=\"\",\"\",referentes!AB540)","v":""},null,null,null,{"$f":"TRIM(UPPER(CONCATENATE(referentes!AH536,\" \",referentes!AI536,\" \",referentes!AJ536,\" \",referentes!AK536,\" \",referentes!AF536)))","v":"NITZSCHIA MARTIANA"},{"$f":"referentes!AG536","v":0},null,null,null,null,null,null,null,null,null,null,null,null,null,"SCRIPPSIELLA SPINIFERA"]
[null,null,null,null,null,null,null,null,null,null,null,null,null,null,null,{"$f":"IF(referentes!AC541=\"\",\"\",IF(referentes!AC541=referentes!AH541,CONCATENATE(referentes!AC541,\" \",\" \",\" \",\" \"),IF(referentes!AC541=referentes!AI541,CONCATENATE(referentes!AH541,\" \",referentes!AI541,\" \",\" \"),CONCATENATE(referentes!AH541,\" \",referentes!AI541,\" \",referentes!AC541))))","v":""},{"$f":"IF(referentes!AB541=\"\",\"\",referentes!AB541)","v":""},null,null,null,{"$f":"TRIM(UPPER(CONCATENATE(referentes!AH537,\" \",referentes!AI537,\" \",referentes!AJ537,\" \",referentes!AK537,\" \",referentes!AF537)))","v":"NITZSCHIA OBTUSA"},{"$f":"referentes!AG537","v":0},null,null,null,null,null,null,null,null,null,null,null,null,null,"SCRIPPSIELLA TROCHOIDEA"]
[null,null,null,null,null,null,null,null,null,null,null,null,null,null,null,{"$f":"IF(referentes!AC542=\"\",\"\",IF(referentes!AC542=referentes!AH542,CONCATENATE(referentes!AC542,\" \",\" \",\" \",\" \"),IF(referentes!AC542=referentes!AI542,CONCATENATE(referentes!AH542,\" \",referentes!AI542,\" \",\" \"),CONCATENATE(referentes!AH542,\" \",referentes!AI542,\" \",referentes!AC542))))","v":""},{"$f":"IF(referentes!AB542=\"\",\"\",referentes!AB542)","v":""},null,null,null,{"$f":"TRIM(UPPER(CONCATENATE(referentes!AH538,\" \",referentes!AI538,\" \",referentes!AJ538,\" \",referentes!AK538,\" \",referentes!AF538)))","v":"NITZSCHIA PULCHERRIMA"},{"$f":"referentes!AG538","v":0},null,null,null,null,null,null,null,null,null,null,null,null,null,"SCYPHOSPHAERA APSTEINII"]
[null,null,null,null,null,null,null,null,null,null,null,null,null,null,null,{"$f":"IF(referentes!AC543=\"\",\"\",IF(referentes!AC543=referentes!AH543,CONCATENATE(referentes!AC543,\" \",\" \",\" \",\" \"),IF(referentes!AC543=referentes!AI543,CONCATENATE(referentes!AH543,\" \",referentes!AI543,\" \",\" \"),CONCATENATE(referentes!AH543,\" \",referentes!AI543,\" \",referentes!AC543))))","v":""},{"$f":"IF(referentes!AB543=\"\",\"\",referentes!AB543)","v":""},null,null,null,{"$f":"TRIM(UPPER(CONCATENATE(referentes!AH539,\" \",referentes!AI539,\" \",referentes!AJ539,\" \",referentes!AK539,\" \",referentes!AF539)))","v":"NITZSCHIA RECTA"},{"$f":"referentes!AG539","v":0},null,null,null,null,null,null,null,null,null,null,null,null,null,"SEMINAVIS VENTRICOSA"]
[null,null,null,null,null,null,null,null,null,null,null,null,null,null,null,{"$f":"IF(referentes!AC544=\"\",\"\",IF(referentes!AC544=referentes!AH544,CONCATENATE(referentes!AC544,\" \",\" \",\" \",\" \"),IF(referentes!AC544=referentes!AI544,CONCATENATE(referentes!AH544,\" \",referentes!AI544,\" \",\" \"),CONCATENATE(referentes!AH544,\" \",referentes!AI544,\" \",referentes!AC544))))","v":""},{"$f":"IF(referentes!AB544=\"\",\"\",referentes!AB544)","v":""},null,null,null,{"$f":"TRIM(UPPER(CONCATENATE(referentes!AH540,\" \",referentes!AI540,\" \",referentes!AJ540,\" \",referentes!AK540,\" \",referentes!AF540)))","v":"NITZSCHIA SCALPELLIFORMIS"},{"$f":"referentes!AG540","v":0},null,null,null,null,null,null,null,null,null,null,null,null,null,"SKELETONEMA COSTATUM"]
[null,null,null,null,null,null,null,null,null,null,null,null,null,null,null,{"$f":"IF(referentes!AC545=\"\",\"\",IF(referentes!AC545=referentes!AH545,CONCATENATE(referentes!AC545,\" \",\" \",\" \",\" \"),IF(referentes!AC545=referentes!AI545,CONCATENATE(referentes!AH545,\" \",referentes!AI545,\" \",\" \"),CONCATENATE(referentes!AH545,\" \",referentes!AI545,\" \",referentes!AC545))))","v":""},{"$f":"IF(referentes!AB545=\"\",\"\",referentes!AB545)","v":""},null,null,null,{"$f":"TRIM(UPPER(CONCATENATE(referentes!AH541,\" \",referentes!AI541,\" \",referentes!AJ541,\" \",referentes!AK541,\" \",referentes!AF541)))","v":"NITZSCHIA SICULA"},{"$f":"referentes!AG541","v":0},null,null,null,null,null,null,null,null,null,null,null,null,null,"SKELETONEMA TROPICUM"]
[null,null,null,null,null,null,null,null,null,null,null,null,null,null,null,{"$f":"IF(referentes!AC546=\"\",\"\",IF(referentes!AC546=referentes!AH546,CONCATENATE(referentes!AC546,\" \",\" \",\" \",\" \"),IF(referentes!AC546=referentes!AI546,CONCATENATE(referentes!AH546,\" \",referentes!AI546,\" \",\" \"),CONCATENATE(referentes!AH546,\" \",referentes!AI546,\" \",referentes!AC546))))","v":""},{"$f":"IF(referentes!AB546=\"\",\"\",referentes!AB546)","v":""},null,null,null,{"$f":"TRIM(UPPER(CONCATENATE(referentes!AH542,\" \",referentes!AI542,\" \",referentes!AJ542,\" \",referentes!AK542,\" \",referentes!AF542)))","v":"NITZSCHIA SIGMA"},{"$f":"referentes!AG542","v":0},null,null,null,null,null,null,null,null,null,null,null,null,null,"STAURASTRUM SETIGERUM"]
[null,null,null,null,null,null,null,null,null,null,null,null,null,null,null,{"$f":"IF(referentes!AC547=\"\",\"\",IF(referentes!AC547=referentes!AH547,CONCATENATE(referentes!AC547,\" \",\" \",\" \",\" \"),IF(referentes!AC547=referentes!AI547,CONCATENATE(referentes!AH547,\" \",referentes!AI547,\" \",\" \"),CONCATENATE(referentes!AH547,\" \",referentes!AI547,\" \",referentes!AC547))))","v":""},{"$f":"IF(referentes!AB547=\"\",\"\",referentes!AB547)","v":""},null,null,null,{"$f":"TRIM(UPPER(CONCATENATE(referentes!AH543,\" \",referentes!AI543,\" \",referentes!AJ543,\" \",referentes!AK543,\" \",referentes!AF543)))","v":"NITZSCHIA SIGMOIDEA"},{"$f":"referentes!AG543","v":0},null,null,null,null,null,null,null,null,null,null,null,null,null,"STAURIDIUM TETRAS"]
[null,null,null,null,null,null,null,null,null,null,null,null,null,null,null,{"$f":"IF(referentes!AC548=\"\",\"\",IF(referentes!AC548=referentes!AH548,CONCATENATE(referentes!AC548,\" \",\" \",\" \",\" \"),IF(referentes!AC548=referentes!AI548,CONCATENATE(referentes!AH548,\" \",referentes!AI548,\" \",\" \"),CONCATENATE(referentes!AH548,\" \",referentes!AI548,\" \",referentes!AC548))))","v":""},{"$f":"IF(referentes!AB548=\"\",\"\",referentes!AB548)","v":""},null,null,null,{"$f":"TRIM(UPPER(CONCATENATE(referentes!AH544,\" \",referentes!AI544,\" \",referentes!AJ544,\" \",referentes!AK544,\" \",referentes!AF544)))","v":"NITZSCHIA SOCIALIS"},{"$f":"referentes!AG544","v":0},null,null,null,null,null,null,null,null,null,null,null,null,null,"STEPHANOPYXIS PALMERIANA"]
[null,null,null,null,null,null,null,null,null,null,null,null,null,null,null,{"$f":"IF(referentes!AC549=\"\",\"\",IF(referentes!AC549=referentes!AH549,CONCATENATE(referentes!AC549,\" \",\" \",\" \",\" \"),IF(referentes!AC549=referentes!AI549,CONCATENATE(referentes!AH549,\" \",referentes!AI549,\" \",\" \"),CONCATENATE(referentes!AH549,\" \",referentes!AI549,\" \",referentes!AC549))))","v":""},{"$f":"IF(referentes!AB549=\"\",\"\",referentes!AB549)","v":""},null,null,null,{"$f":"TRIM(UPPER(CONCATENATE(referentes!AH545,\" \",referentes!AI545,\" \",referentes!AJ545,\" \",referentes!AK545,\" \",referentes!AF545)))","v":"NITZSCHIA VENTRICOSA"},{"$f":"referentes!AG545","v":0},null,null,null,null,null,null,null,null,null,null,null,null,null,"STEPHANOPYXIS TURRIS"]
[null,null,null,null,null,null,null,null,null,null,null,null,null,null,null,{"$f":"IF(referentes!AC550=\"\",\"\",IF(referentes!AC550=referentes!AH550,CONCATENATE(referentes!AC550,\" \",\" \",\" \",\" \"),IF(referentes!AC550=referentes!AI550,CONCATENATE(referentes!AH550,\" \",referentes!AI550,\" \",\" \"),CONCATENATE(referentes!AH550,\" \",referentes!AI550,\" \",referentes!AC550))))","v":""},{"$f":"IF(referentes!AB550=\"\",\"\",referentes!AB550)","v":""},null,null,null,{"$f":"TRIM(UPPER(CONCATENATE(referentes!AH546,\" \",referentes!AI546,\" \",referentes!AJ546,\" \",referentes!AK546,\" \",referentes!AF546)))","v":"NOCTILUCA"},{"$f":"referentes!AG546","v":0},null,null,null,null,null,null,null,null,null,null,null,null,null,"STRIATELLA UNIPUNCTATA"]
[null,null,null,null,null,null,null,null,null,null,null,null,null,null,null,{"$f":"IF(referentes!AC551=\"\",\"\",IF(referentes!AC551=referentes!AH551,CONCATENATE(referentes!AC551,\" \",\" \",\" \",\" \"),IF(referentes!AC551=referentes!AI551,CONCATENATE(referentes!AH551,\" \",referentes!AI551,\" \",\" \"),CONCATENATE(referentes!AH551,\" \",referentes!AI551,\" \",referentes!AC551))))","v":""},{"$f":"IF(referentes!AB551=\"\",\"\",referentes!AB551)","v":""},null,null,null,{"$f":"TRIM(UPPER(CONCATENATE(referentes!AH547,\" \",referentes!AI547,\" \",referentes!AJ547,\" \",referentes!AK547,\" \",referentes!AF547)))","v":"NOCTILUCA SCINTILLANS"},{"$f":"referentes!AG547","v":0},null,null,null,null,null,null,null,null,null,null,null,null,null,"SURIRELLA BISERIATA"]
[null,null,null,null,null,null,null,null,null,null,null,null,null,null,null,{"$f":"IF(referentes!AC552=\"\",\"\",IF(referentes!AC552=referentes!AH552,CONCATENATE(referentes!AC552,\" \",\" \",\" \",\" \"),IF(referentes!AC552=referentes!AI552,CONCATENATE(referentes!AH552,\" \",referentes!AI552,\" \",\" \"),CONCATENATE(referentes!AH552,\" \",referentes!AI552,\" \",referentes!AC552))))","v":""},{"$f":"IF(referentes!AB552=\"\",\"\",referentes!AB552)","v":""},null,null,null,{"$f":"TRIM(UPPER(CONCATENATE(referentes!AH548,\" \",referentes!AI548,\" \",referentes!AJ548,\" \",referentes!AK548,\" \",referentes!AF548)))","v":"NOSTOC"},{"$f":"referentes!AG548","v":0},null,null,null,null,null,null,null,null,null,null,null,null,null,"SURIRELLA FASTUOSA"]
[null,null,null,null,null,null,null,null,null,null,null,null,null,null,null,{"$f":"IF(referentes!AC553=\"\",\"\",IF(referentes!AC553=referentes!AH553,CONCATENATE(referentes!AC553,\" \",\" \",\" \",\" \"),IF(referentes!AC553=referentes!AI553,CONCATENATE(referentes!AH553,\" \",referentes!AI553,\" \",\" \"),CONCATENATE(referentes!AH553,\" \",referentes!AI553,\" \",referentes!AC553))))","v":""},{"$f":"IF(referentes!AB553=\"\",\"\",referentes!AB553)","v":""},null,null,null,{"$f":"TRIM(UPPER(CONCATENATE(referentes!AH549,\" \",referentes!AI549,\" \",referentes!AJ549,\" \",referentes!AK549,\" \",referentes!AF549)))","v":"OBLEA"},{"$f":"referentes!AG549","v":0},null,null,null,null,null,null,null,null,null,null,null,null,null,"SURIRELLA GUATIMALENSIS"]
[null,null,null,null,null,null,null,null,null,null,null,null,null,null,null,{"$f":"IF(referentes!AC554=\"\",\"\",IF(referentes!AC554=referentes!AH554,CONCATENATE(referentes!AC554,\" \",\" \",\" \",\" \"),IF(referentes!AC554=referentes!AI554,CONCATENATE(referentes!AH554,\" \",referentes!AI554,\" \",\" \"),CONCATENATE(referentes!AH554,\" \",referentes!AI554,\" \",referentes!AC554))))","v":""},{"$f":"IF(referentes!AB554=\"\",\"\",referentes!AB554)","v":""},null,null,null,{"$f":"TRIM(UPPER(CONCATENATE(referentes!AH550,\" \",referentes!AI550,\" \",referentes!AJ550,\" \",referentes!AK550,\" \",referentes!AF550)))","v":"OBLEA BACULIFERA"},{"$f":"referentes!AG550","v":0},null,null,null,null,null,null,null,null,null,null,null,null,null,"SURIRELLA KATTRAYI"]
[null,null,null,null,null,null,null,null,null,null,null,null,null,null,null,{"$f":"IF(referentes!AC555=\"\",\"\",IF(referentes!AC555=referentes!AH555,CONCATENATE(referentes!AC555,\" \",\" \",\" \",\" \"),IF(referentes!AC555=referentes!AI555,CONCATENATE(referentes!AH555,\" \",referentes!AI555,\" \",\" \"),CONCATENATE(referentes!AH555,\" \",referentes!AI555,\" \",referentes!AC555))))","v":""},{"$f":"IF(referentes!AB555=\"\",\"\",referentes!AB555)","v":""},null,null,null,{"$f":"TRIM(UPPER(CONCATENATE(referentes!AH551,\" \",referentes!AI551,\" \",referentes!AJ551,\" \",referentes!AK551,\" \",referentes!AF551)))","v":"OCTACTIS"},{"$f":"referentes!AG551","v":0},null,null,null,null,null,null,null,null,null,null,null,null,null,"SURIRELLA LINEARIS"]
[null,null,null,null,null,null,null,null,null,null,null,null,null,null,null,{"$f":"IF(referentes!AC556=\"\",\"\",IF(referentes!AC556=referentes!AH556,CONCATENATE(referentes!AC556,\" \",\" \",\" \",\" \"),IF(referentes!AC556=referentes!AI556,CONCATENATE(referentes!AH556,\" \",referentes!AI556,\" \",\" \"),CONCATENATE(referentes!AH556,\" \",referentes!AI556,\" \",referentes!AC556))))","v":""},{"$f":"IF(referentes!AB556=\"\",\"\",referentes!AB556)","v":""},null,null,null,{"$f":"TRIM(UPPER(CONCATENATE(referentes!AH552,\" \",referentes!AI552,\" \",referentes!AJ552,\" \",referentes!AK552,\" \",referentes!AF552)))","v":"OCTACTIS OCTONARIA"},{"$f":"referentes!AG552","v":0},null,null,null,null,null,null,null,null,null,null,null,null,null,"SURIRELLA ROBUSTA"]
[null,null,null,null,null,null,null,null,null,null,null,null,null,null,null,{"$f":"IF(referentes!AC557=\"\",\"\",IF(referentes!AC557=referentes!AH557,CONCATENATE(referentes!AC557,\" \",\" \",\" \",\" \"),IF(referentes!AC557=referentes!AI557,CONCATENATE(referentes!AH557,\" \",referentes!AI557,\" \",\" \"),CONCATENATE(referentes!AH557,\" \",referentes!AI557,\" \",referentes!AC557))))","v":""},{"$f":"IF(referentes!AB557=\"\",\"\",referentes!AB557)","v":""},null,null,null,{"$f":"TRIM(UPPER(CONCATENATE(referentes!AH553,\" \",referentes!AI553,\" \",referentes!AJ553,\" \",referentes!AK553,\" \",referentes!AF553)))","v":"ODONTELLA"},{"$f":"referentes!AG553","v":0},null,null,null,null,null,null,null,null,null,null,null,null,null,"SURIRELLA SMITHII"]
[null,null,null,null,null,null,null,null,null,null,null,null,null,null,null,{"$f":"IF(referentes!AC558=\"\",\"\",IF(referentes!AC558=referentes!AH558,CONCATENATE(referentes!AC558,\" \",\" \",\" \",\" \"),IF(referentes!AC558=referentes!AI558,CONCATENATE(referentes!AH558,\" \",referentes!AI558,\" \",\" \"),CONCATENATE(referentes!AH558,\" \",referentes!AI558,\" \",referentes!AC558))))","v":""},{"$f":"IF(referentes!AB558=\"\",\"\",referentes!AB558)","v":""},null,null,null,{"$f":"TRIM(UPPER(CONCATENATE(referentes!AH554,\" \",referentes!AI554,\" \",referentes!AJ554,\" \",referentes!AK554,\" \",referentes!AF554)))","v":"ODONTELLA AURITA"},{"$f":"referentes!AG554","v":0},null,null,null,null,null,null,null,null,null,null,null,null,null,"SYNECHOCOCCUS CARCERARIUS"]
[null,null,null,null,null,null,null,null,null,null,null,null,null,null,null,{"$f":"IF(referentes!AC559=\"\",\"\",IF(referentes!AC559=referentes!AH559,CONCATENATE(referentes!AC559,\" \",\" \",\" \",\" \"),IF(referentes!AC559=referentes!AI559,CONCATENATE(referentes!AH559,\" \",referentes!AI559,\" \",\" \"),CONCATENATE(referentes!AH559,\" \",referentes!AI559,\" \",referentes!AC559))))","v":""},{"$f":"IF(referentes!AB559=\"\",\"\",referentes!AB559)","v":""},null,null,null,{"$f":"TRIM(UPPER(CONCATENATE(referentes!AH555,\" \",referentes!AI555,\" \",referentes!AJ555,\" \",referentes!AK555,\" \",referentes!AF555)))","v":"ODONTELLA LONGICRURIS"},{"$f":"referentes!AG555","v":0},null,null,null,null,null,null,null,null,null,null,null,null,null,"SYNEDRA CRYSTALLINA"]
[null,null,null,null,null,null,null,null,null,null,null,null,null,null,null,{"$f":"IF(referentes!AC560=\"\",\"\",IF(referentes!AC560=referentes!AH560,CONCATENATE(referentes!AC560,\" \",\" \",\" \",\" \"),IF(referentes!AC560=referentes!AI560,CONCATENATE(referentes!AH560,\" \",referentes!AI560,\" \",\" \"),CONCATENATE(referentes!AH560,\" \",referentes!AI560,\" \",referentes!AC560))))","v":""},{"$f":"IF(referentes!AB560=\"\",\"\",referentes!AB560)","v":""},null,null,null,{"$f":"TRIM(UPPER(CONCATENATE(referentes!AH556,\" \",referentes!AI556,\" \",referentes!AJ556,\" \",referentes!AK556,\" \",referentes!AF556)))","v":"ODONTELLA MOBILIENSIS"},{"$f":"referentes!AG556","v":0},null,null,null,null,null,null,null,null,null,null,null,null,null,"SYNEDRA GOULARDI"]
[null,null,null,null,null,null,null,null,null,null,null,null,null,null,null,{"$f":"IF(referentes!AC561=\"\",\"\",IF(referentes!AC561=referentes!AH561,CONCATENATE(referentes!AC561,\" \",\" \",\" \",\" \"),IF(referentes!AC561=referentes!AI561,CONCATENATE(referentes!AH561,\" \",referentes!AI561,\" \",\" \"),CONCATENATE(referentes!AH561,\" \",referentes!AI561,\" \",referentes!AC561))))","v":""},{"$f":"IF(referentes!AB561=\"\",\"\",referentes!AB561)","v":""},null,null,null,{"$f":"TRIM(UPPER(CONCATENATE(referentes!AH557,\" \",referentes!AI557,\" \",referentes!AJ557,\" \",referentes!AK557,\" \",referentes!AF557)))","v":"ODONTELLA REGIA"},{"$f":"referentes!AG557","v":0},null,null,null,null,null,null,null,null,null,null,null,null,null,"SYNEDRA HANTZSCHIANA"]
[null,null,null,null,null,null,null,null,null,null,null,null,null,null,null,{"$f":"IF(referentes!AC562=\"\",\"\",IF(referentes!AC562=referentes!AH562,CONCATENATE(referentes!AC562,\" \",\" \",\" \",\" \"),IF(referentes!AC562=referentes!AI562,CONCATENATE(referentes!AH562,\" \",referentes!AI562,\" \",\" \"),CONCATENATE(referentes!AH562,\" \",referentes!AI562,\" \",referentes!AC562))))","v":""},{"$f":"IF(referentes!AB562=\"\",\"\",referentes!AB562)","v":""},null,null,null,{"$f":"TRIM(UPPER(CONCATENATE(referentes!AH558,\" \",referentes!AI558,\" \",referentes!AJ558,\" \",referentes!AK558,\" \",referentes!AF558)))","v":"ODONTELLA SINENSIS"},{"$f":"referentes!AG558","v":0},null,null,null,null,null,null,null,null,null,null,null,null,null,"SYNEDRA ULNA"]
[null,null,null,null,null,null,null,null,null,null,null,null,null,null,null,{"$f":"IF(referentes!AC563=\"\",\"\",IF(referentes!AC563=referentes!AH563,CONCATENATE(referentes!AC563,\" \",\" \",\" \",\" \"),IF(referentes!AC563=referentes!AI563,CONCATENATE(referentes!AH563,\" \",referentes!AI563,\" \",\" \"),CONCATENATE(referentes!AH563,\" \",referentes!AI563,\" \",referentes!AC563))))","v":""},{"$f":"IF(referentes!AB563=\"\",\"\",referentes!AB563)","v":""},null,null,null,{"$f":"TRIM(UPPER(CONCATENATE(referentes!AH559,\" \",referentes!AI559,\" \",referentes!AJ559,\" \",referentes!AK559,\" \",referentes!AF559)))","v":"OEDOGONIUM"},{"$f":"referentes!AG559","v":0},null,null,null,null,null,null,null,null,null,null,null,null,null,"THALASSIONEMA BACILLARE"]
[null,null,null,null,null,null,null,null,null,null,null,null,null,null,null,{"$f":"IF(referentes!AC564=\"\",\"\",IF(referentes!AC564=referentes!AH564,CONCATENATE(referentes!AC564,\" \",\" \",\" \",\" \"),IF(referentes!AC564=referentes!AI564,CONCATENATE(referentes!AH564,\" \",referentes!AI564,\" \",\" \"),CONCATENATE(referentes!AH564,\" \",referentes!AI564,\" \",referentes!AC564))))","v":""},{"$f":"IF(referentes!AB564=\"\",\"\",referentes!AB564)","v":""},null,null,null,{"$f":"TRIM(UPPER(CONCATENATE(referentes!AH560,\" \",referentes!AI560,\" \",referentes!AJ560,\" \",referentes!AK560,\" \",referentes!AF560)))","v":"OOCYSTIS"},{"$f":"referentes!AG560","v":0},null,null,null,null,null,null,null,null,null,null,null,null,null,"THALASSIONEMA FRAUENFELDII"]
[null,null,null,null,null,null,null,null,null,null,null,null,null,null,null,{"$f":"IF(referentes!AC565=\"\",\"\",IF(referentes!AC565=referentes!AH565,CONCATENATE(referentes!AC565,\" \",\" \",\" \",\" \"),IF(referentes!AC565=referentes!AI565,CONCATENATE(referentes!AH565,\" \",referentes!AI565,\" \",\" \"),CONCATENATE(referentes!AH565,\" \",referentes!AI565,\" \",referentes!AC565))))","v":""},{"$f":"IF(referentes!AB565=\"\",\"\",referentes!AB565)","v":""},null,null,null,{"$f":"TRIM(UPPER(CONCATENATE(referentes!AH561,\" \",referentes!AI561,\" \",referentes!AJ561,\" \",referentes!AK561,\" \",referentes!AF561)))","v":"OPEPHORA"},{"$f":"referentes!AG561","v":0},null,null,null,null,null,null,null,null,null,null,null,null,null,"THALASSIONEMA NITZSCHIOIDES"]
[null,null,null,null,null,null,null,null,null,null,null,null,null,null,null,{"$f":"IF(referentes!AC566=\"\",\"\",IF(referentes!AC566=referentes!AH566,CONCATENATE(referentes!AC566,\" \",\" \",\" \",\" \"),IF(referentes!AC566=referentes!AI566,CONCATENATE(referentes!AH566,\" \",referentes!AI566,\" \",\" \"),CONCATENATE(referentes!AH566,\" \",referentes!AI566,\" \",referentes!AC566))))","v":""},{"$f":"IF(referentes!AB566=\"\",\"\",referentes!AB566)","v":""},null,null,null,{"$f":"TRIM(UPPER(CONCATENATE(referentes!AH562,\" \",referentes!AI562,\" \",referentes!AJ562,\" \",referentes!AK562,\" \",referentes!AF562)))","v":"OPEPHORA SCHWARTZII"},{"$f":"referentes!AG562","v":0},null,null,null,null,null,null,null,null,null,null,null,null,null,"THALASSIONEMA SYNEDRIFORME"]
[null,null,null,null,null,null,null,null,null,null,null,null,null,null,null,{"$f":"IF(referentes!AC567=\"\",\"\",IF(referentes!AC567=referentes!AH567,CONCATENATE(referentes!AC567,\" \",\" \",\" \",\" \"),IF(referentes!AC567=referentes!AI567,CONCATENATE(referentes!AH567,\" \",referentes!AI567,\" \",\" \"),CONCATENATE(referentes!AH567,\" \",referentes!AI567,\" \",referentes!AC567))))","v":""},{"$f":"IF(referentes!AB567=\"\",\"\",referentes!AB567)","v":""},null,null,null,{"$f":"TRIM(UPPER(CONCATENATE(referentes!AH563,\" \",referentes!AI563,\" \",referentes!AJ563,\" \",referentes!AK563,\" \",referentes!AF563)))","v":"ORNITHOCERCUS"},{"$f":"referentes!AG563","v":0},null,null,null,null,null,null,null,null,null,null,null,null,null,"THALASSIOPHYSA HYALINA"]
[null,null,null,null,null,null,null,null,null,null,null,null,null,null,null,{"$f":"IF(referentes!AC568=\"\",\"\",IF(referentes!AC568=referentes!AH568,CONCATENATE(referentes!AC568,\" \",\" \",\" \",\" \"),IF(referentes!AC568=referentes!AI568,CONCATENATE(referentes!AH568,\" \",referentes!AI568,\" \",\" \"),CONCATENATE(referentes!AH568,\" \",referentes!AI568,\" \",referentes!AC568))))","v":""},{"$f":"IF(referentes!AB568=\"\",\"\",referentes!AB568)","v":""},null,null,null,{"$f":"TRIM(UPPER(CONCATENATE(referentes!AH564,\" \",referentes!AI564,\" \",referentes!AJ564,\" \",referentes!AK564,\" \",referentes!AF564)))","v":"ORNITHOCERCUS HETEROPORUS"},{"$f":"referentes!AG564","v":0},null,null,null,null,null,null,null,null,null,null,null,null,null,"THALASSIOSIRA AESTIVALIS"]
[null,null,null,null,null,null,null,null,null,null,null,null,null,null,null,{"$f":"IF(referentes!AC569=\"\",\"\",IF(referentes!AC569=referentes!AH569,CONCATENATE(referentes!AC569,\" \",\" \",\" \",\" \"),IF(referentes!AC569=referentes!AI569,CONCATENATE(referentes!AH569,\" \",referentes!AI569,\" \",\" \"),CONCATENATE(referentes!AH569,\" \",referentes!AI569,\" \",referentes!AC569))))","v":""},{"$f":"IF(referentes!AB569=\"\",\"\",referentes!AB569)","v":""},null,null,null,{"$f":"TRIM(UPPER(CONCATENATE(referentes!AH565,\" \",referentes!AI565,\" \",referentes!AJ565,\" \",referentes!AK565,\" \",referentes!AF565)))","v":"ORNITHOCERCUS MAGNIFICUS"},{"$f":"referentes!AG565","v":0},null,null,null,null,null,null,null,null,null,null,null,null,null,"THALASSIOSIRA ALLENII"]
[null,null,null,null,null,null,null,null,null,null,null,null,null,null,null,{"$f":"IF(referentes!AC570=\"\",\"\",IF(referentes!AC570=referentes!AH570,CONCATENATE(referentes!AC570,\" \",\" \",\" \",\" \"),IF(referentes!AC570=referentes!AI570,CONCATENATE(referentes!AH570,\" \",referentes!AI570,\" \",\" \"),CONCATENATE(referentes!AH570,\" \",referentes!AI570,\" \",referentes!AC570))))","v":""},{"$f":"IF(referentes!AB570=\"\",\"\",referentes!AB570)","v":""},null,null,null,{"$f":"TRIM(UPPER(CONCATENATE(referentes!AH566,\" \",referentes!AI566,\" \",referentes!AJ566,\" \",referentes!AK566,\" \",referentes!AF566)))","v":"ORNITHOCERCUS QUADRATUS"},{"$f":"referentes!AG566","v":0},null,null,null,null,null,null,null,null,null,null,null,null,null,"THALASSIOSIRA ANGULATA"]
[null,null,null,null,null,null,null,null,null,null,null,null,null,null,null,{"$f":"IF(referentes!AC571=\"\",\"\",IF(referentes!AC571=referentes!AH571,CONCATENATE(referentes!AC571,\" \",\" \",\" \",\" \"),IF(referentes!AC571=referentes!AI571,CONCATENATE(referentes!AH571,\" \",referentes!AI571,\" \",\" \"),CONCATENATE(referentes!AH571,\" \",referentes!AI571,\" \",referentes!AC571))))","v":""},{"$f":"IF(referentes!AB571=\"\",\"\",referentes!AB571)","v":""},null,null,null,{"$f":"TRIM(UPPER(CONCATENATE(referentes!AH567,\" \",referentes!AI567,\" \",referentes!AJ567,\" \",referentes!AK567,\" \",referentes!AF567)))","v":"ORNITHOCERCUS SPLENDIDUS"},{"$f":"referentes!AG567","v":0},null,null,null,null,null,null,null,null,null,null,null,null,null,"THALASSIOSIRA ANGUSTE-LINEATA"]
[null,null,null,null,null,null,null,null,null,null,null,null,null,null,null,{"$f":"IF(referentes!AC572=\"\",\"\",IF(referentes!AC572=referentes!AH572,CONCATENATE(referentes!AC572,\" \",\" \",\" \",\" \"),IF(referentes!AC572=referentes!AI572,CONCATENATE(referentes!AH572,\" \",referentes!AI572,\" \",\" \"),CONCATENATE(referentes!AH572,\" \",referentes!AI572,\" \",referentes!AC572))))","v":""},{"$f":"IF(referentes!AB572=\"\",\"\",referentes!AB572)","v":""},null,null,null,{"$f":"TRIM(UPPER(CONCATENATE(referentes!AH568,\" \",referentes!AI568,\" \",referentes!AJ568,\" \",referentes!AK568,\" \",referentes!AF568)))","v":"ORNITHOCERCUS STEINII"},{"$f":"referentes!AG568","v":0},null,null,null,null,null,null,null,null,null,null,null,null,null,"THALASSIOSIRA ECCENTRICA"]
[null,null,null,null,null,null,null,null,null,null,null,null,null,null,null,{"$f":"IF(referentes!AC573=\"\",\"\",IF(referentes!AC573=referentes!AH573,CONCATENATE(referentes!AC573,\" \",\" \",\" \",\" \"),IF(referentes!AC573=referentes!AI573,CONCATENATE(referentes!AH573,\" \",referentes!AI573,\" \",\" \"),CONCATENATE(referentes!AH573,\" \",referentes!AI573,\" \",referentes!AC573))))","v":""},{"$f":"IF(referentes!AB573=\"\",\"\",referentes!AB573)","v":""},null,null,null,{"$f":"TRIM(UPPER(CONCATENATE(referentes!AH569,\" \",referentes!AI569,\" \",referentes!AJ569,\" \",referentes!AK569,\" \",referentes!AF569)))","v":"ORNITHOCERCUS THUMII"},{"$f":"referentes!AG569","v":0},null,null,null,null,null,null,null,null,null,null,null,null,null,"THALASSIOSIRA LEPTOPUS"]
[null,null,null,null,null,null,null,null,null,null,null,null,null,null,null,{"$f":"IF(referentes!AC574=\"\",\"\",IF(referentes!AC574=referentes!AH574,CONCATENATE(referentes!AC574,\" \",\" \",\" \",\" \"),IF(referentes!AC574=referentes!AI574,CONCATENATE(referentes!AH574,\" \",referentes!AI574,\" \",\" \"),CONCATENATE(referentes!AH574,\" \",referentes!AI574,\" \",referentes!AC574))))","v":""},{"$f":"IF(referentes!AB574=\"\",\"\",referentes!AB574)","v":""},null,null,null,{"$f":"TRIM(UPPER(CONCATENATE(referentes!AH570,\" \",referentes!AI570,\" \",referentes!AJ570,\" \",referentes!AK570,\" \",referentes!AF570)))","v":"OSCILLATORIA"},{"$f":"referentes!AG570","v":0},null,null,null,null,null,null,null,null,null,null,null,null,null,"THALASSIOSIRA LINEATA"]
[null,null,null,null,null,null,null,null,null,null,null,null,null,null,null,{"$f":"IF(referentes!AC575=\"\",\"\",IF(referentes!AC575=referentes!AH575,CONCATENATE(referentes!AC575,\" \",\" \",\" \",\" \"),IF(referentes!AC575=referentes!AI575,CONCATENATE(referentes!AH575,\" \",referentes!AI575,\" \",\" \"),CONCATENATE(referentes!AH575,\" \",referentes!AI575,\" \",referentes!AC575))))","v":""},{"$f":"IF(referentes!AB575=\"\",\"\",referentes!AB575)","v":""},null,null,null,{"$f":"TRIM(UPPER(CONCATENATE(referentes!AH571,\" \",referentes!AI571,\" \",referentes!AJ571,\" \",referentes!AK571,\" \",referentes!AF571)))","v":"OSCILLATORIA CONTEXTA"},{"$f":"referentes!AG571","v":0},null,null,null,null,null,null,null,null,null,null,null,null,null,"THALASSIOSIRA MEDITERRANEA"]
[null,null,null,null,null,null,null,null,null,null,null,null,null,null,null,{"$f":"IF(referentes!AC576=\"\",\"\",IF(referentes!AC576=referentes!AH576,CONCATENATE(referentes!AC576,\" \",\" \",\" \",\" \"),IF(referentes!AC576=referentes!AI576,CONCATENATE(referentes!AH576,\" \",referentes!AI576,\" \",\" \"),CONCATENATE(referentes!AH576,\" \",referentes!AI576,\" \",referentes!AC576))))","v":""},{"$f":"IF(referentes!AB576=\"\",\"\",referentes!AB576)","v":""},null,null,null,{"$f":"TRIM(UPPER(CONCATENATE(referentes!AH572,\" \",referentes!AI572,\" \",referentes!AJ572,\" \",referentes!AK572,\" \",referentes!AF572)))","v":"OSTREOPSIS"},{"$f":"referentes!AG572","v":0},null,null,null,null,null,null,null,null,null,null,null,null,null,"THALASSIOSIRA PUNCTIGERA"]
[null,null,null,null,null,null,null,null,null,null,null,null,null,null,null,{"$f":"IF(referentes!AC577=\"\",\"\",IF(referentes!AC577=referentes!AH577,CONCATENATE(referentes!AC577,\" \",\" \",\" \",\" \"),IF(referentes!AC577=referentes!AI577,CONCATENATE(referentes!AH577,\" \",referentes!AI577,\" \",\" \"),CONCATENATE(referentes!AH577,\" \",referentes!AI577,\" \",referentes!AC577))))","v":""},{"$f":"IF(referentes!AB577=\"\",\"\",referentes!AB577)","v":""},null,null,null,{"$f":"TRIM(UPPER(CONCATENATE(referentes!AH573,\" \",referentes!AI573,\" \",referentes!AJ573,\" \",referentes!AK573,\" \",referentes!AF573)))","v":"OSTREOPSIS OVATA"},{"$f":"referentes!AG573","v":0},null,null,null,null,null,null,null,null,null,null,null,null,null,"THALASSIOSIRA SUBTILIS"]
[null,null,null,null,null,null,null,null,null,null,null,null,null,null,null,{"$f":"IF(referentes!AC578=\"\",\"\",IF(referentes!AC578=referentes!AH578,CONCATENATE(referentes!AC578,\" \",\" \",\" \",\" \"),IF(referentes!AC578=referentes!AI578,CONCATENATE(referentes!AH578,\" \",referentes!AI578,\" \",\" \"),CONCATENATE(referentes!AH578,\" \",referentes!AI578,\" \",referentes!AC578))))","v":""},{"$f":"IF(referentes!AB578=\"\",\"\",referentes!AB578)","v":""},null,null,null,{"$f":"TRIM(UPPER(CONCATENATE(referentes!AH574,\" \",referentes!AI574,\" \",referentes!AJ574,\" \",referentes!AK574,\" \",referentes!AF574)))","v":"OXYPHYSIS"},{"$f":"referentes!AG574","v":0},null,null,null,null,null,null,null,null,null,null,null,null,null,"THALASSIOSIRA SYMMETRICA"]
[null,null,null,null,null,null,null,null,null,null,null,null,null,null,null,{"$f":"IF(referentes!AC579=\"\",\"\",IF(referentes!AC579=referentes!AH579,CONCATENATE(referentes!AC579,\" \",\" \",\" \",\" \"),IF(referentes!AC579=referentes!AI579,CONCATENATE(referentes!AH579,\" \",referentes!AI579,\" \",\" \"),CONCATENATE(referentes!AH579,\" \",referentes!AI579,\" \",referentes!AC579))))","v":""},{"$f":"IF(referentes!AB579=\"\",\"\",referentes!AB579)","v":""},null,null,null,{"$f":"TRIM(UPPER(CONCATENATE(referentes!AH575,\" \",referentes!AI575,\" \",referentes!AJ575,\" \",referentes!AK575,\" \",referentes!AF575)))","v":"OXYTOXUM"},{"$f":"referentes!AG575","v":0},null,null,null,null,null,null,null,null,null,null,null,null,null,"THALASSIOTHRIX LONGISSIMA"]
[null,null,null,null,null,null,null,null,null,null,null,null,null,null,null,{"$f":"IF(referentes!AC580=\"\",\"\",IF(referentes!AC580=referentes!AH580,CONCATENATE(referentes!AC580,\" \",\" \",\" \",\" \"),IF(referentes!AC580=referentes!AI580,CONCATENATE(referentes!AH580,\" \",referentes!AI580,\" \",\" \"),CONCATENATE(referentes!AH580,\" \",referentes!AI580,\" \",referentes!AC580))))","v":""},{"$f":"IF(referentes!AB580=\"\",\"\",referentes!AB580)","v":""},null,null,null,{"$f":"TRIM(UPPER(CONCATENATE(referentes!AH576,\" \",referentes!AI576,\" \",referentes!AJ576,\" \",referentes!AK576,\" \",referentes!AF576)))","v":"OXYTOXUM CONSTRICTUM"},{"$f":"referentes!AG576","v":0},null,null,null,null,null,null,null,null,null,null,null,null,null,"THALASSIOTHRIX MEDITERRANEA"]
[null,null,null,null,null,null,null,null,null,null,null,null,null,null,null,{"$f":"IF(referentes!AC581=\"\",\"\",IF(referentes!AC581=referentes!AH581,CONCATENATE(referentes!AC581,\" \",\" \",\" \",\" \"),IF(referentes!AC581=referentes!AI581,CONCATENATE(referentes!AH581,\" \",referentes!AI581,\" \",\" \"),CONCATENATE(referentes!AH581,\" \",referentes!AI581,\" \",referentes!AC581))))","v":""},{"$f":"IF(referentes!AB581=\"\",\"\",referentes!AB581)","v":""},null,null,null,{"$f":"TRIM(UPPER(CONCATENATE(referentes!AH577,\" \",referentes!AI577,\" \",referentes!AJ577,\" \",referentes!AK577,\" \",referentes!AF577)))","v":"OXYTOXUM ELEGANS"},{"$f":"referentes!AG577","v":0},null,null,null,null,null,null,null,null,null,null,null,null,null,"TORODINIUM TEREDO"]
[null,null,null,null,null,null,null,null,null,null,null,null,null,null,null,{"$f":"IF(referentes!AC582=\"\",\"\",IF(referentes!AC582=referentes!AH582,CONCATENATE(referentes!AC582,\" \",\" \",\" \",\" \"),IF(referentes!AC582=referentes!AI582,CONCATENATE(referentes!AH582,\" \",referentes!AI582,\" \",\" \"),CONCATENATE(referentes!AH582,\" \",referentes!AI582,\" \",referentes!AC582))))","v":""},{"$f":"IF(referentes!AB582=\"\",\"\",referentes!AB582)","v":""},null,null,null,{"$f":"TRIM(UPPER(CONCATENATE(referentes!AH578,\" \",referentes!AI578,\" \",referentes!AJ578,\" \",referentes!AK578,\" \",referentes!AF578)))","v":"OXYTOXUM GRACILE"},{"$f":"referentes!AG578","v":0},null,null,null,null,null,null,null,null,null,null,null,null,null,"TOXARIUM HENNEDYANUM"]
[null,null,null,null,null,null,null,null,null,null,null,null,null,null,null,{"$f":"IF(referentes!AC583=\"\",\"\",IF(referentes!AC583=referentes!AH583,CONCATENATE(referentes!AC583,\" \",\" \",\" \",\" \"),IF(referentes!AC583=referentes!AI583,CONCATENATE(referentes!AH583,\" \",referentes!AI583,\" \",\" \"),CONCATENATE(referentes!AH583,\" \",referentes!AI583,\" \",referentes!AC583))))","v":""},{"$f":"IF(referentes!AB583=\"\",\"\",referentes!AB583)","v":""},null,null,null,{"$f":"TRIM(UPPER(CONCATENATE(referentes!AH579,\" \",referentes!AI579,\" \",referentes!AJ579,\" \",referentes!AK579,\" \",referentes!AF579)))","v":"OXYTOXUM LONGICEPS"},{"$f":"referentes!AG579","v":0},null,null,null,null,null,null,null,null,null,null,null,null,null,"TOXARIUM UNDULATUM"]
[null,null,null,null,null,null,null,null,null,null,null,null,null,null,null,{"$f":"IF(referentes!AC584=\"\",\"\",IF(referentes!AC584=referentes!AH584,CONCATENATE(referentes!AC584,\" \",\" \",\" \",\" \"),IF(referentes!AC584=referentes!AI584,CONCATENATE(referentes!AH584,\" \",referentes!AI584,\" \",\" \"),CONCATENATE(referentes!AH584,\" \",referentes!AI584,\" \",referentes!AC584))))","v":""},{"$f":"IF(referentes!AB584=\"\",\"\",referentes!AB584)","v":""},null,null,null,{"$f":"TRIM(UPPER(CONCATENATE(referentes!AH580,\" \",referentes!AI580,\" \",referentes!AJ580,\" \",referentes!AK580,\" \",referentes!AF580)))","v":"OXYTOXUM MEDITERRANEUM"},{"$f":"referentes!AG580","v":0},null,null,null,null,null,null,null,null,null,null,null,null,null,"TRACHYNEIS ASPERA"]
[null,null,null,null,null,null,null,null,null,null,null,null,null,null,null,{"$f":"IF(referentes!AC585=\"\",\"\",IF(referentes!AC585=referentes!AH585,CONCATENATE(referentes!AC585,\" \",\" \",\" \",\" \"),IF(referentes!AC585=referentes!AI585,CONCATENATE(referentes!AH585,\" \",referentes!AI585,\" \",\" \"),CONCATENATE(referentes!AH585,\" \",referentes!AI585,\" \",referentes!AC585))))","v":""},{"$f":"IF(referentes!AB585=\"\",\"\",referentes!AB585)","v":""},null,null,null,{"$f":"TRIM(UPPER(CONCATENATE(referentes!AH581,\" \",referentes!AI581,\" \",referentes!AJ581,\" \",referentes!AK581,\" \",referentes!AF581)))","v":"OXYTOXUM MILNERI"},{"$f":"referentes!AG581","v":0},null,null,null,null,null,null,null,null,null,null,null,null,null,"TRICERATIUM DUBIUM"]
[null,null,null,null,null,null,null,null,null,null,null,null,null,null,null,{"$f":"IF(referentes!AC586=\"\",\"\",IF(referentes!AC586=referentes!AH586,CONCATENATE(referentes!AC586,\" \",\" \",\" \",\" \"),IF(referentes!AC586=referentes!AI586,CONCATENATE(referentes!AH586,\" \",referentes!AI586,\" \",\" \"),CONCATENATE(referentes!AH586,\" \",referentes!AI586,\" \",referentes!AC586))))","v":""},{"$f":"IF(referentes!AB586=\"\",\"\",referentes!AB586)","v":""},null,null,null,{"$f":"TRIM(UPPER(CONCATENATE(referentes!AH582,\" \",referentes!AI582,\" \",referentes!AJ582,\" \",referentes!AK582,\" \",referentes!AF582)))","v":"OXYTOXUM PARVUM"},{"$f":"referentes!AG582","v":0},null,null,null,null,null,null,null,null,null,null,null,null,null,"TRICERATIUM FAVUS"]
[null,null,null,null,null,null,null,null,null,null,null,null,null,null,null,{"$f":"IF(referentes!AC587=\"\",\"\",IF(referentes!AC587=referentes!AH587,CONCATENATE(referentes!AC587,\" \",\" \",\" \",\" \"),IF(referentes!AC587=referentes!AI587,CONCATENATE(referentes!AH587,\" \",referentes!AI587,\" \",\" \"),CONCATENATE(referentes!AH587,\" \",referentes!AI587,\" \",referentes!AC587))))","v":""},{"$f":"IF(referentes!AB587=\"\",\"\",referentes!AB587)","v":""},null,null,null,{"$f":"TRIM(UPPER(CONCATENATE(referentes!AH583,\" \",referentes!AI583,\" \",referentes!AJ583,\" \",referentes!AK583,\" \",referentes!AF583)))","v":"OXYTOXUM SCOLOPAX"},{"$f":"referentes!AG583","v":0},null,null,null,null,null,null,null,null,null,null,null,null,null,"TRICERATIUM FORMOSUM"]
[null,null,null,null,null,null,null,null,null,null,null,null,null,null,null,{"$f":"IF(referentes!AC588=\"\",\"\",IF(referentes!AC588=referentes!AH588,CONCATENATE(referentes!AC588,\" \",\" \",\" \",\" \"),IF(referentes!AC588=referentes!AI588,CONCATENATE(referentes!AH588,\" \",referentes!AI588,\" \",\" \"),CONCATENATE(referentes!AH588,\" \",referentes!AI588,\" \",referentes!AC588))))","v":""},{"$f":"IF(referentes!AB588=\"\",\"\",referentes!AB588)","v":""},null,null,null,{"$f":"TRIM(UPPER(CONCATENATE(referentes!AH584,\" \",referentes!AI584,\" \",referentes!AJ584,\" \",referentes!AK584,\" \",referentes!AF584)))","v":"OXYTOXUM TESSELATUM"},{"$f":"referentes!AG584","v":0},null,null,null,null,null,null,null,null,null,null,null,null,null,"TRICERATIUM GIBBOSUM"]
[null,null,null,null,null,null,null,null,null,null,null,null,null,null,null,{"$f":"IF(referentes!AC589=\"\",\"\",IF(referentes!AC589=referentes!AH589,CONCATENATE(referentes!AC589,\" \",\" \",\" \",\" \"),IF(referentes!AC589=referentes!AI589,CONCATENATE(referentes!AH589,\" \",referentes!AI589,\" \",\" \"),CONCATENATE(referentes!AH589,\" \",referentes!AI589,\" \",referentes!AC589))))","v":""},{"$f":"IF(referentes!AB589=\"\",\"\",referentes!AB589)","v":""},null,null,null,{"$f":"TRIM(UPPER(CONCATENATE(referentes!AH585,\" \",referentes!AI585,\" \",referentes!AJ585,\" \",referentes!AK585,\" \",referentes!AF585)))","v":"OXYTOXUM TURBO"},{"$f":"referentes!AG585","v":0},null,null,null,null,null,null,null,null,null,null,null,null,null,"TRICERATIUM PELAGICUM"]
[null,null,null,null,null,null,null,null,null,null,null,null,null,null,null,{"$f":"IF(referentes!AC590=\"\",\"\",IF(referentes!AC590=referentes!AH590,CONCATENATE(referentes!AC590,\" \",\" \",\" \",\" \"),IF(referentes!AC590=referentes!AI590,CONCATENATE(referentes!AH590,\" \",referentes!AI590,\" \",\" \"),CONCATENATE(referentes!AH590,\" \",referentes!AI590,\" \",referentes!AC590))))","v":""},{"$f":"IF(referentes!AB590=\"\",\"\",referentes!AB590)","v":""},null,null,null,{"$f":"TRIM(UPPER(CONCATENATE(referentes!AH586,\" \",referentes!AI586,\" \",referentes!AJ586,\" \",referentes!AK586,\" \",referentes!AF586)))","v":"PALMERIA"},{"$f":"referentes!AG586","v":0},null,null,null,null,null,null,null,null,null,null,null,null,null,"TRICERATIUM PENTACRINUS"]
[null,null,null,null,null,null,null,null,null,null,null,null,null,null,null,{"$f":"IF(referentes!AC591=\"\",\"\",IF(referentes!AC591=referentes!AH591,CONCATENATE(referentes!AC591,\" \",\" \",\" \",\" \"),IF(referentes!AC591=referentes!AI591,CONCATENATE(referentes!AH591,\" \",referentes!AI591,\" \",\" \"),CONCATENATE(referentes!AH591,\" \",referentes!AI591,\" \",referentes!AC591))))","v":""},{"$f":"IF(referentes!AB591=\"\",\"\",referentes!AB591)","v":""},null,null,null,{"$f":"TRIM(UPPER(CONCATENATE(referentes!AH587,\" \",referentes!AI587,\" \",referentes!AJ587,\" \",referentes!AK587,\" \",referentes!AF587)))","v":"PALMERINA"},{"$f":"referentes!AG587","v":0},null,null,null,null,null,null,null,null,null,null,null,null,null,"TRICERATIUM ROBERTSIANUM"]
[null,null,null,null,null,null,null,null,null,null,null,null,null,null,null,{"$f":"IF(referentes!AC592=\"\",\"\",IF(referentes!AC592=referentes!AH592,CONCATENATE(referentes!AC592,\" \",\" \",\" \",\" \"),IF(referentes!AC592=referentes!AI592,CONCATENATE(referentes!AH592,\" \",referentes!AI592,\" \",\" \"),CONCATENATE(referentes!AH592,\" \",referentes!AI592,\" \",referentes!AC592))))","v":""},{"$f":"IF(referentes!AB592=\"\",\"\",referentes!AB592)","v":""},null,null,null,{"$f":"TRIM(UPPER(CONCATENATE(referentes!AH588,\" \",referentes!AI588,\" \",referentes!AJ588,\" \",referentes!AK588,\" \",referentes!AF588)))","v":"PALMERINA HARDMANIANA"},{"$f":"referentes!AG588","v":0},null,null,null,null,null,null,null,null,null,null,null,null,null,"TRICERATIUM SHADBOLTIANUM"]
[null,null,null,null,null,null,null,null,null,null,null,null,null,null,null,{"$f":"IF(referentes!AC593=\"\",\"\",IF(referentes!AC593=referentes!AH593,CONCATENATE(referentes!AC593,\" \",\" \",\" \",\" \"),IF(referentes!AC593=referentes!AI593,CONCATENATE(referentes!AH593,\" \",referentes!AI593,\" \",\" \"),CONCATENATE(referentes!AH593,\" \",referentes!AI593,\" \",referentes!AC593))))","v":""},{"$f":"IF(referentes!AB593=\"\",\"\",referentes!AB593)","v":""},null,null,null,{"$f":"TRIM(UPPER(CONCATENATE(referentes!AH589,\" \",referentes!AI589,\" \",referentes!AJ589,\" \",referentes!AK589,\" \",referentes!AF589)))","v":"PARALIA"},{"$f":"referentes!AG589","v":0},null,null,null,null,null,null,null,null,null,null,null,null,null,"TRICHODESMIUM CONTORTUM"]
[null,null,null,null,null,null,null,null,null,null,null,null,null,null,null,{"$f":"IF(referentes!AC594=\"\",\"\",IF(referentes!AC594=referentes!AH594,CONCATENATE(referentes!AC594,\" \",\" \",\" \",\" \"),IF(referentes!AC594=referentes!AI594,CONCATENATE(referentes!AH594,\" \",referentes!AI594,\" \",\" \"),CONCATENATE(referentes!AH594,\" \",referentes!AI594,\" \",referentes!AC594))))","v":""},{"$f":"IF(referentes!AB594=\"\",\"\",referentes!AB594)","v":""},null,null,null,{"$f":"TRIM(UPPER(CONCATENATE(referentes!AH590,\" \",referentes!AI590,\" \",referentes!AJ590,\" \",referentes!AK590,\" \",referentes!AF590)))","v":"PARALIA SULCATA"},{"$f":"referentes!AG590","v":0},null,null,null,null,null,null,null,null,null,null,null,null,null,"TRICHODESMIUM ERYTHRAEUM"]
[null,null,null,null,null,null,null,null,null,null,null,null,null,null,null,{"$f":"IF(referentes!AC595=\"\",\"\",IF(referentes!AC595=referentes!AH595,CONCATENATE(referentes!AC595,\" \",\" \",\" \",\" \"),IF(referentes!AC595=referentes!AI595,CONCATENATE(referentes!AH595,\" \",referentes!AI595,\" \",\" \"),CONCATENATE(referentes!AH595,\" \",referentes!AI595,\" \",referentes!AC595))))","v":""},{"$f":"IF(referentes!AB595=\"\",\"\",referentes!AB595)","v":""},null,null,null,{"$f":"TRIM(UPPER(CONCATENATE(referentes!AH591,\" \",referentes!AI591,\" \",referentes!AJ591,\" \",referentes!AK591,\" \",referentes!AF591)))","v":"PARLIBELLUS"},{"$f":"referentes!AG591","v":0},null,null,null,null,null,null,null,null,null,null,null,null,null,"TRICHODESMIUM HILDEBRANDTII"]
[null,null,null,null,null,null,null,null,null,null,null,null,null,null,null,{"$f":"IF(referentes!AC596=\"\",\"\",IF(referentes!AC596=referentes!AH596,CONCATENATE(referentes!AC596,\" \",\" \",\" \",\" \"),IF(referentes!AC596=referentes!AI596,CONCATENATE(referentes!AH596,\" \",referentes!AI596,\" \",\" \"),CONCATENATE(referentes!AH596,\" \",referentes!AI596,\" \",referentes!AC596))))","v":""},{"$f":"IF(referentes!AB596=\"\",\"\",referentes!AB596)","v":""},null,null,null,{"$f":"TRIM(UPPER(CONCATENATE(referentes!AH592,\" \",referentes!AI592,\" \",referentes!AJ592,\" \",referentes!AK592,\" \",referentes!AF592)))","v":"PARLIBELLUS CRUCICULUS"},{"$f":"referentes!AG592","v":0},null,null,null,null,null,null,null,null,null,null,null,null,null,"TRICHODESMIUM THIEBAUTII"]
[null,null,null,null,null,null,null,null,null,null,null,null,null,null,null,{"$f":"IF(referentes!AC597=\"\",\"\",IF(referentes!AC597=referentes!AH597,CONCATENATE(referentes!AC597,\" \",\" \",\" \",\" \"),IF(referentes!AC597=referentes!AI597,CONCATENATE(referentes!AH597,\" \",referentes!AI597,\" \",\" \"),CONCATENATE(referentes!AH597,\" \",referentes!AI597,\" \",referentes!AC597))))","v":""},{"$f":"IF(referentes!AB597=\"\",\"\",referentes!AB597)","v":""},null,null,null,{"$f":"TRIM(UPPER(CONCATENATE(referentes!AH593,\" \",referentes!AI593,\" \",referentes!AJ593,\" \",referentes!AK593,\" \",referentes!AF593)))","v":"PEDIASTRUM"},{"$f":"referentes!AG593","v":0},null,null,null,null,null,null,null,null,null,null,null,null,null,"TRIGONIUM DIAPHANUM"]
[null,null,null,null,null,null,null,null,null,null,null,null,null,null,null,{"$f":"IF(referentes!AC598=\"\",\"\",IF(referentes!AC598=referentes!AH598,CONCATENATE(referentes!AC598,\" \",\" \",\" \",\" \"),IF(referentes!AC598=referentes!AI598,CONCATENATE(referentes!AH598,\" \",referentes!AI598,\" \",\" \"),CONCATENATE(referentes!AH598,\" \",referentes!AI598,\" \",referentes!AC598))))","v":""},{"$f":"IF(referentes!AB598=\"\",\"\",referentes!AB598)","v":""},null,null,null,{"$f":"TRIM(UPPER(CONCATENATE(referentes!AH594,\" \",referentes!AI594,\" \",referentes!AJ594,\" \",referentes!AK594,\" \",referentes!AF594)))","v":"PEDIASTRUM DUPLEX"},{"$f":"referentes!AG594","v":0},null,null,null,null,null,null,null,null,null,null,null,null,null,"TRIGONIUM FORMOSUM"]
[null,null,null,null,null,null,null,null,null,null,null,null,null,null,null,{"$f":"IF(referentes!AC599=\"\",\"\",IF(referentes!AC599=referentes!AH599,CONCATENATE(referentes!AC599,\" \",\" \",\" \",\" \"),IF(referentes!AC599=referentes!AI599,CONCATENATE(referentes!AH599,\" \",referentes!AI599,\" \",\" \"),CONCATENATE(referentes!AH599,\" \",referentes!AI599,\" \",referentes!AC599))))","v":""},{"$f":"IF(referentes!AB599=\"\",\"\",referentes!AB599)","v":""},null,null,null,{"$f":"TRIM(UPPER(CONCATENATE(referentes!AH595,\" \",referentes!AI595,\" \",referentes!AJ595,\" \",referentes!AK595,\" \",referentes!AF595)))","v":"PERIDINIUM"},{"$f":"referentes!AG595","v":0},null,null,null,null,null,null,null,null,null,null,null,null,null,"TRYBLIONELLA ACUMINATA"]
[null,null,null,null,null,null,null,null,null,null,null,null,null,null,null,{"$f":"IF(referentes!AC600=\"\",\"\",IF(referentes!AC600=referentes!AH600,CONCATENATE(referentes!AC600,\" \",\" \",\" \",\" \"),IF(referentes!AC600=referentes!AI600,CONCATENATE(referentes!AH600,\" \",referentes!AI600,\" \",\" \"),CONCATENATE(referentes!AH600,\" \",referentes!AI600,\" \",referentes!AC600))))","v":""},{"$f":"IF(referentes!AB600=\"\",\"\",referentes!AB600)","v":""},null,null,null,{"$f":"TRIM(UPPER(CONCATENATE(referentes!AH596,\" \",referentes!AI596,\" \",referentes!AJ596,\" \",referentes!AK596,\" \",referentes!AF596)))","v":"PERIDINIUM QUINQUECORNE"},{"$f":"referentes!AG596","v":0},null,null,null,null,null,null,null,null,null,null,null,null,null,"TRYBLIONELLA AEROPHILA"]
[null,null,null,null,null,null,null,null,null,null,null,null,null,null,null,{"$f":"IF(referentes!AC601=\"\",\"\",IF(referentes!AC601=referentes!AH601,CONCATENATE(referentes!AC601,\" \",\" \",\" \",\" \"),IF(referentes!AC601=referentes!AI601,CONCATENATE(referentes!AH601,\" \",referentes!AI601,\" \",\" \"),CONCATENATE(referentes!AH601,\" \",referentes!AI601,\" \",referentes!AC601))))","v":""},{"$f":"IF(referentes!AB601=\"\",\"\",referentes!AB601)","v":""},null,null,null,{"$f":"TRIM(UPPER(CONCATENATE(referentes!AH597,\" \",referentes!AI597,\" \",referentes!AJ597,\" \",referentes!AK597,\" \",referentes!AF597)))","v":"PETRODICTYON"},{"$f":"referentes!AG597","v":0},null,null,null,null,null,null,null,null,null,null,null,null,null,"TRYBLIONELLA COMPRESSA"]
[null,null,null,null,null,null,null,null,null,null,null,null,null,null,null,{"$f":"IF(referentes!AC602=\"\",\"\",IF(referentes!AC602=referentes!AH602,CONCATENATE(referentes!AC602,\" \",\" \",\" \",\" \"),IF(referentes!AC602=referentes!AI602,CONCATENATE(referentes!AH602,\" \",referentes!AI602,\" \",\" \"),CONCATENATE(referentes!AH602,\" \",referentes!AI602,\" \",referentes!AC602))))","v":""},{"$f":"IF(referentes!AB602=\"\",\"\",referentes!AB602)","v":""},null,null,null,{"$f":"TRIM(UPPER(CONCATENATE(referentes!AH598,\" \",referentes!AI598,\" \",referentes!AJ598,\" \",referentes!AK598,\" \",referentes!AF598)))","v":"PETRODICTYON GEMMA"},{"$f":"referentes!AG598","v":0},null,null,null,null,null,null,null,null,null,null,null,null,null,"TRYBLIONELLA LEVIDENSIS"]
[null,null,null,null,null,null,null,null,null,null,null,null,null,null,null,{"$f":"IF(referentes!AC603=\"\",\"\",IF(referentes!AC603=referentes!AH603,CONCATENATE(referentes!AC603,\" \",\" \",\" \",\" \"),IF(referentes!AC603=referentes!AI603,CONCATENATE(referentes!AH603,\" \",referentes!AI603,\" \",\" \"),CONCATENATE(referentes!AH603,\" \",referentes!AI603,\" \",referentes!AC603))))","v":""},{"$f":"IF(referentes!AB603=\"\",\"\",referentes!AB603)","v":""},null,null,null,{"$f":"TRIM(UPPER(CONCATENATE(referentes!AH599,\" \",referentes!AI599,\" \",referentes!AJ599,\" \",referentes!AK599,\" \",referentes!AF599)))","v":"PETRONEIS"},{"$f":"referentes!AG599","v":0},null,null,null,null,null,null,null,null,null,null,null,null,null,"TRYBLIONELLA PLANA"]
[null,null,null,null,null,null,null,null,null,null,null,null,null,null,null,{"$f":"IF(referentes!AC604=\"\",\"\",IF(referentes!AC604=referentes!AH604,CONCATENATE(referentes!AC604,\" \",\" \",\" \",\" \"),IF(referentes!AC604=referentes!AI604,CONCATENATE(referentes!AH604,\" \",referentes!AI604,\" \",\" \"),CONCATENATE(referentes!AH604,\" \",referentes!AI604,\" \",referentes!AC604))))","v":""},{"$f":"IF(referentes!AB604=\"\",\"\",referentes!AB604)","v":""},null,null,null,{"$f":"TRIM(UPPER(CONCATENATE(referentes!AH600,\" \",referentes!AI600,\" \",referentes!AJ600,\" \",referentes!AK600,\" \",referentes!AF600)))","v":"PETRONEIS GRANULATA"},{"$f":"referentes!AG600","v":0}]
[null,null,null,null,null,null,null,null,null,null,null,null,null,null,null,{"$f":"IF(referentes!AC605=\"\",\"\",IF(referentes!AC605=referentes!AH605,CONCATENATE(referentes!AC605,\" \",\" \",\" \",\" \"),IF(referentes!AC605=referentes!AI605,CONCATENATE(referentes!AH605,\" \",referentes!AI605,\" \",\" \"),CONCATENATE(referentes!AH605,\" \",referentes!AI605,\" \",referentes!AC605))))","v":""},{"$f":"IF(referentes!AB605=\"\",\"\",referentes!AB605)","v":""},null,null,null,{"$f":"TRIM(UPPER(CONCATENATE(referentes!AH601,\" \",referentes!AI601,\" \",referentes!AJ601,\" \",referentes!AK601,\" \",referentes!AF601)))","v":"PETRONEIS MARINA"},{"$f":"referentes!AG601","v":0}]
[null,null,null,null,null,null,null,null,null,null,null,null,null,null,null,{"$f":"IF(referentes!AC606=\"\",\"\",IF(referentes!AC606=referentes!AH606,CONCATENATE(referentes!AC606,\" \",\" \",\" \",\" \"),IF(referentes!AC606=referentes!AI606,CONCATENATE(referentes!AH606,\" \",referentes!AI606,\" \",\" \"),CONCATENATE(referentes!AH606,\" \",referentes!AI606,\" \",referentes!AC606))))","v":""},{"$f":"IF(referentes!AB606=\"\",\"\",referentes!AB606)","v":""},null,null,null,{"$f":"TRIM(UPPER(CONCATENATE(referentes!AH602,\" \",referentes!AI602,\" \",referentes!AJ602,\" \",referentes!AK602,\" \",referentes!AF602)))","v":"PETRONEIS PLAGIOSTOMA"},{"$f":"referentes!AG602","v":0}]
[null,null,null,null,null,null,null,null,null,null,null,null,null,null,null,{"$f":"IF(referentes!AC607=\"\",\"\",IF(referentes!AC607=referentes!AH607,CONCATENATE(referentes!AC607,\" \",\" \",\" \",\" \"),IF(referentes!AC607=referentes!AI607,CONCATENATE(referentes!AH607,\" \",referentes!AI607,\" \",\" \"),CONCATENATE(referentes!AH607,\" \",referentes!AI607,\" \",referentes!AC607))))","v":""},{"$f":"IF(referentes!AB607=\"\",\"\",referentes!AB607)","v":""},null,null,null,{"$f":"TRIM(UPPER(CONCATENATE(referentes!AH603,\" \",referentes!AI603,\" \",referentes!AJ603,\" \",referentes!AK603,\" \",referentes!AF603)))","v":"PHACUS"},{"$f":"referentes!AG603","v":0}]
[null,null,null,null,null,null,null,null,null,null,null,null,null,null,null,{"$f":"IF(referentes!AC608=\"\",\"\",IF(referentes!AC608=referentes!AH608,CONCATENATE(referentes!AC608,\" \",\" \",\" \",\" \"),IF(referentes!AC608=referentes!AI608,CONCATENATE(referentes!AH608,\" \",referentes!AI608,\" \",\" \"),CONCATENATE(referentes!AH608,\" \",referentes!AI608,\" \",referentes!AC608))))","v":""},{"$f":"IF(referentes!AB608=\"\",\"\",referentes!AB608)","v":""},null,null,null,{"$f":"TRIM(UPPER(CONCATENATE(referentes!AH604,\" \",referentes!AI604,\" \",referentes!AJ604,\" \",referentes!AK604,\" \",referentes!AF604)))","v":"PHALACROMA"},{"$f":"referentes!AG604","v":0}]
[null,null,null,null,null,null,null,null,null,null,null,null,null,null,null,{"$f":"IF(referentes!AC609=\"\",\"\",IF(referentes!AC609=referentes!AH609,CONCATENATE(referentes!AC609,\" \",\" \",\" \",\" \"),IF(referentes!AC609=referentes!AI609,CONCATENATE(referentes!AH609,\" \",referentes!AI609,\" \",\" \"),CONCATENATE(referentes!AH609,\" \",referentes!AI609,\" \",referentes!AC609))))","v":""},{"$f":"IF(referentes!AB609=\"\",\"\",referentes!AB609)","v":""},null,null,null,{"$f":"TRIM(UPPER(CONCATENATE(referentes!AH605,\" \",referentes!AI605,\" \",referentes!AJ605,\" \",referentes!AK605,\" \",referentes!AF605)))","v":"PHALACROMA CUNEUS"},{"$f":"referentes!AG605","v":0}]
[null,null,null,null,null,null,null,null,null,null,null,null,null,null,null,{"$f":"IF(referentes!AC610=\"\",\"\",IF(referentes!AC610=referentes!AH610,CONCATENATE(referentes!AC610,\" \",\" \",\" \",\" \"),IF(referentes!AC610=referentes!AI610,CONCATENATE(referentes!AH610,\" \",referentes!AI610,\" \",\" \"),CONCATENATE(referentes!AH610,\" \",referentes!AI610,\" \",referentes!AC610))))","v":""},{"$f":"IF(referentes!AB610=\"\",\"\",referentes!AB610)","v":""},null,null,null,{"$f":"TRIM(UPPER(CONCATENATE(referentes!AH606,\" \",referentes!AI606,\" \",referentes!AJ606,\" \",referentes!AK606,\" \",referentes!AF606)))","v":"PHALACROMA DORYPHORUM"},{"$f":"referentes!AG606","v":0}]
[null,null,null,null,null,null,null,null,null,null,null,null,null,null,null,{"$f":"IF(referentes!AC611=\"\",\"\",IF(referentes!AC611=referentes!AH611,CONCATENATE(referentes!AC611,\" \",\" \",\" \",\" \"),IF(referentes!AC611=referentes!AI611,CONCATENATE(referentes!AH611,\" \",referentes!AI611,\" \",\" \"),CONCATENATE(referentes!AH611,\" \",referentes!AI611,\" \",referentes!AC611))))","v":""},{"$f":"IF(referentes!AB611=\"\",\"\",referentes!AB611)","v":""},null,null,null,{"$f":"TRIM(UPPER(CONCATENATE(referentes!AH607,\" \",referentes!AI607,\" \",referentes!AJ607,\" \",referentes!AK607,\" \",referentes!AF607)))","v":"PHALACROMA FAVUS"},{"$f":"referentes!AG607","v":0}]
[null,null,null,null,null,null,null,null,null,null,null,null,null,null,null,{"$f":"IF(referentes!AC612=\"\",\"\",IF(referentes!AC612=referentes!AH612,CONCATENATE(referentes!AC612,\" \",\" \",\" \",\" \"),IF(referentes!AC612=referentes!AI612,CONCATENATE(referentes!AH612,\" \",referentes!AI612,\" \",\" \"),CONCATENATE(referentes!AH612,\" \",referentes!AI612,\" \",referentes!AC612))))","v":""},{"$f":"IF(referentes!AB612=\"\",\"\",referentes!AB612)","v":""},null,null,null,{"$f":"TRIM(UPPER(CONCATENATE(referentes!AH608,\" \",referentes!AI608,\" \",referentes!AJ608,\" \",referentes!AK608,\" \",referentes!AF608)))","v":"PHALACROMA HINDMARCHII"},{"$f":"referentes!AG608","v":0}]
[null,null,null,null,null,null,null,null,null,null,null,null,null,null,null,{"$f":"IF(referentes!AC613=\"\",\"\",IF(referentes!AC613=referentes!AH613,CONCATENATE(referentes!AC613,\" \",\" \",\" \",\" \"),IF(referentes!AC613=referentes!AI613,CONCATENATE(referentes!AH613,\" \",referentes!AI613,\" \",\" \"),CONCATENATE(referentes!AH613,\" \",referentes!AI613,\" \",referentes!AC613))))","v":""},{"$f":"IF(referentes!AB613=\"\",\"\",referentes!AB613)","v":""},null,null,null,{"$f":"TRIM(UPPER(CONCATENATE(referentes!AH609,\" \",referentes!AI609,\" \",referentes!AJ609,\" \",referentes!AK609,\" \",referentes!AF609)))","v":"PHALACROMA MITRA"},{"$f":"referentes!AG609","v":0}]
[null,null,null,null,null,null,null,null,null,null,null,null,null,null,null,{"$f":"IF(referentes!AC614=\"\",\"\",IF(referentes!AC614=referentes!AH614,CONCATENATE(referentes!AC614,\" \",\" \",\" \",\" \"),IF(referentes!AC614=referentes!AI614,CONCATENATE(referentes!AH614,\" \",referentes!AI614,\" \",\" \"),CONCATENATE(referentes!AH614,\" \",referentes!AI614,\" \",referentes!AC614))))","v":""},{"$f":"IF(referentes!AB614=\"\",\"\",referentes!AB614)","v":""},null,null,null,{"$f":"TRIM(UPPER(CONCATENATE(referentes!AH610,\" \",referentes!AI610,\" \",referentes!AJ610,\" \",referentes!AK610,\" \",referentes!AF610)))","v":"PHALACROMA OXYTOXOIDES"},{"$f":"referentes!AG610","v":0}]
[null,null,null,null,null,null,null,null,null,null,null,null,null,null,null,{"$f":"IF(referentes!AC615=\"\",\"\",IF(referentes!AC615=referentes!AH615,CONCATENATE(referentes!AC615,\" \",\" \",\" \",\" \"),IF(referentes!AC615=referentes!AI615,CONCATENATE(referentes!AH615,\" \",referentes!AI615,\" \",\" \"),CONCATENATE(referentes!AH615,\" \",referentes!AI615,\" \",referentes!AC615))))","v":""},{"$f":"IF(referentes!AB615=\"\",\"\",referentes!AB615)","v":""},null,null,null,{"$f":"TRIM(UPPER(CONCATENATE(referentes!AH611,\" \",referentes!AI611,\" \",referentes!AJ611,\" \",referentes!AK611,\" \",referentes!AF611)))","v":"PHALACROMA RAPA"},{"$f":"referentes!AG611","v":0}]
[null,null,null,null,null,null,null,null,null,null,null,null,null,null,null,{"$f":"IF(referentes!AC616=\"\",\"\",IF(referentes!AC616=referentes!AH616,CONCATENATE(referentes!AC616,\" \",\" \",\" \",\" \"),IF(referentes!AC616=referentes!AI616,CONCATENATE(referentes!AH616,\" \",referentes!AI616,\" \",\" \"),CONCATENATE(referentes!AH616,\" \",referentes!AI616,\" \",referentes!AC616))))","v":""},{"$f":"IF(referentes!AB616=\"\",\"\",referentes!AB616)","v":""},null,null,null,{"$f":"TRIM(UPPER(CONCATENATE(referentes!AH612,\" \",referentes!AI612,\" \",referentes!AJ612,\" \",referentes!AK612,\" \",referentes!AF612)))","v":"PHALACROMA ROTUNDATUM"},{"$f":"referentes!AG612","v":0}]
[null,null,null,null,null,null,null,null,null,null,null,null,null,null,null,{"$f":"IF(referentes!AC617=\"\",\"\",IF(referentes!AC617=referentes!AH617,CONCATENATE(referentes!AC617,\" \",\" \",\" \",\" \"),IF(referentes!AC617=referentes!AI617,CONCATENATE(referentes!AH617,\" \",referentes!AI617,\" \",\" \"),CONCATENATE(referentes!AH617,\" \",referentes!AI617,\" \",referentes!AC617))))","v":""},{"$f":"IF(referentes!AB617=\"\",\"\",referentes!AB617)","v":""},null,null,null,{"$f":"TRIM(UPPER(CONCATENATE(referentes!AH613,\" \",referentes!AI613,\" \",referentes!AJ613,\" \",referentes!AK613,\" \",referentes!AF613)))","v":"PHORMIDIUM"},{"$f":"referentes!AG613","v":0}]
[null,null,null,null,null,null,null,null,null,null,null,null,null,null,null,{"$f":"IF(referentes!AC618=\"\",\"\",IF(referentes!AC618=referentes!AH618,CONCATENATE(referentes!AC618,\" \",\" \",\" \",\" \"),IF(referentes!AC618=referentes!AI618,CONCATENATE(referentes!AH618,\" \",referentes!AI618,\" \",\" \"),CONCATENATE(referentes!AH618,\" \",referentes!AI618,\" \",referentes!AC618))))","v":""},{"$f":"IF(referentes!AB618=\"\",\"\",referentes!AB618)","v":""},null,null,null,{"$f":"TRIM(UPPER(CONCATENATE(referentes!AH614,\" \",referentes!AI614,\" \",referentes!AJ614,\" \",referentes!AK614,\" \",referentes!AF614)))","v":"PINNULARIA"},{"$f":"referentes!AG614","v":0}]
[null,null,null,null,null,null,null,null,null,null,null,null,null,null,null,{"$f":"IF(referentes!AC619=\"\",\"\",IF(referentes!AC619=referentes!AH619,CONCATENATE(referentes!AC619,\" \",\" \",\" \",\" \"),IF(referentes!AC619=referentes!AI619,CONCATENATE(referentes!AH619,\" \",referentes!AI619,\" \",\" \"),CONCATENATE(referentes!AH619,\" \",referentes!AI619,\" \",referentes!AC619))))","v":""},{"$f":"IF(referentes!AB619=\"\",\"\",referentes!AB619)","v":""},null,null,null,{"$f":"TRIM(UPPER(CONCATENATE(referentes!AH615,\" \",referentes!AI615,\" \",referentes!AJ615,\" \",referentes!AK615,\" \",referentes!AF615)))","v":"PINNULARIA GENTILIS"},{"$f":"referentes!AG615","v":0}]
[null,null,null,null,null,null,null,null,null,null,null,null,null,null,null,{"$f":"IF(referentes!AC620=\"\",\"\",IF(referentes!AC620=referentes!AH620,CONCATENATE(referentes!AC620,\" \",\" \",\" \",\" \"),IF(referentes!AC620=referentes!AI620,CONCATENATE(referentes!AH620,\" \",referentes!AI620,\" \",\" \"),CONCATENATE(referentes!AH620,\" \",referentes!AI620,\" \",referentes!AC620))))","v":""},{"$f":"IF(referentes!AB620=\"\",\"\",referentes!AB620)","v":""},null,null,null,{"$f":"TRIM(UPPER(CONCATENATE(referentes!AH616,\" \",referentes!AI616,\" \",referentes!AJ616,\" \",referentes!AK616,\" \",referentes!AF616)))","v":"PINNULARIA NOBILIS"},{"$f":"referentes!AG616","v":0}]
[null,null,null,null,null,null,null,null,null,null,null,null,null,null,null,{"$f":"IF(referentes!AC621=\"\",\"\",IF(referentes!AC621=referentes!AH621,CONCATENATE(referentes!AC621,\" \",\" \",\" \",\" \"),IF(referentes!AC621=referentes!AI621,CONCATENATE(referentes!AH621,\" \",referentes!AI621,\" \",\" \"),CONCATENATE(referentes!AH621,\" \",referentes!AI621,\" \",referentes!AC621))))","v":""},{"$f":"IF(referentes!AB621=\"\",\"\",referentes!AB621)","v":""},null,null,null,{"$f":"TRIM(UPPER(CONCATENATE(referentes!AH617,\" \",referentes!AI617,\" \",referentes!AJ617,\" \",referentes!AK617,\" \",referentes!AF617)))","v":"PLAGIOGRAMMA"},{"$f":"referentes!AG617","v":0}]
[null,null,null,null,null,null,null,null,null,null,null,null,null,null,null,{"$f":"IF(referentes!AC622=\"\",\"\",IF(referentes!AC622=referentes!AH622,CONCATENATE(referentes!AC622,\" \",\" \",\" \",\" \"),IF(referentes!AC622=referentes!AI622,CONCATENATE(referentes!AH622,\" \",referentes!AI622,\" \",\" \"),CONCATENATE(referentes!AH622,\" \",referentes!AI622,\" \",referentes!AC622))))","v":""},{"$f":"IF(referentes!AB622=\"\",\"\",referentes!AB622)","v":""},null,null,null,{"$f":"TRIM(UPPER(CONCATENATE(referentes!AH618,\" \",referentes!AI618,\" \",referentes!AJ618,\" \",referentes!AK618,\" \",referentes!AF618)))","v":"PLAGIOGRAMMA OBESUM"},{"$f":"referentes!AG618","v":0}]
[null,null,null,null,null,null,null,null,null,null,null,null,null,null,null,{"$f":"IF(referentes!AC623=\"\",\"\",IF(referentes!AC623=referentes!AH623,CONCATENATE(referentes!AC623,\" \",\" \",\" \",\" \"),IF(referentes!AC623=referentes!AI623,CONCATENATE(referentes!AH623,\" \",referentes!AI623,\" \",\" \"),CONCATENATE(referentes!AH623,\" \",referentes!AI623,\" \",referentes!AC623))))","v":""},{"$f":"IF(referentes!AB623=\"\",\"\",referentes!AB623)","v":""},null,null,null,{"$f":"TRIM(UPPER(CONCATENATE(referentes!AH619,\" \",referentes!AI619,\" \",referentes!AJ619,\" \",referentes!AK619,\" \",referentes!AF619)))","v":"PLAGIOGRAMMOPSIS"},{"$f":"referentes!AG619","v":0}]
[null,null,null,null,null,null,null,null,null,null,null,null,null,null,null,{"$f":"IF(referentes!AC624=\"\",\"\",IF(referentes!AC624=referentes!AH624,CONCATENATE(referentes!AC624,\" \",\" \",\" \",\" \"),IF(referentes!AC624=referentes!AI624,CONCATENATE(referentes!AH624,\" \",referentes!AI624,\" \",\" \"),CONCATENATE(referentes!AH624,\" \",referentes!AI624,\" \",referentes!AC624))))","v":""},{"$f":"IF(referentes!AB624=\"\",\"\",referentes!AB624)","v":""},null,null,null,{"$f":"TRIM(UPPER(CONCATENATE(referentes!AH620,\" \",referentes!AI620,\" \",referentes!AJ620,\" \",referentes!AK620,\" \",referentes!AF620)))","v":"PLAGIOTROPIS"},{"$f":"referentes!AG620","v":0}]
[null,null,null,null,null,null,null,null,null,null,null,null,null,null,null,{"$f":"IF(referentes!AC625=\"\",\"\",IF(referentes!AC625=referentes!AH625,CONCATENATE(referentes!AC625,\" \",\" \",\" \",\" \"),IF(referentes!AC625=referentes!AI625,CONCATENATE(referentes!AH625,\" \",referentes!AI625,\" \",\" \"),CONCATENATE(referentes!AH625,\" \",referentes!AI625,\" \",referentes!AC625))))","v":""},{"$f":"IF(referentes!AB625=\"\",\"\",referentes!AB625)","v":""},null,null,null,{"$f":"TRIM(UPPER(CONCATENATE(referentes!AH621,\" \",referentes!AI621,\" \",referentes!AJ621,\" \",referentes!AK621,\" \",referentes!AF621)))","v":"PLAGIOTROPIS LEPIDOPTERA"},{"$f":"referentes!AG621","v":0}]
[null,null,null,null,null,null,null,null,null,null,null,null,null,null,null,{"$f":"IF(referentes!AC626=\"\",\"\",IF(referentes!AC626=referentes!AH626,CONCATENATE(referentes!AC626,\" \",\" \",\" \",\" \"),IF(referentes!AC626=referentes!AI626,CONCATENATE(referentes!AH626,\" \",referentes!AI626,\" \",\" \"),CONCATENATE(referentes!AH626,\" \",referentes!AI626,\" \",referentes!AC626))))","v":""},{"$f":"IF(referentes!AB626=\"\",\"\",referentes!AB626)","v":""},null,null,null,{"$f":"TRIM(UPPER(CONCATENATE(referentes!AH622,\" \",referentes!AI622,\" \",referentes!AJ622,\" \",referentes!AK622,\" \",referentes!AF622)))","v":"PLAGIOTROPIS LONGA"},{"$f":"referentes!AG622","v":0}]
[null,null,null,null,null,null,null,null,null,null,null,null,null,null,null,{"$f":"IF(referentes!AC627=\"\",\"\",IF(referentes!AC627=referentes!AH627,CONCATENATE(referentes!AC627,\" \",\" \",\" \",\" \"),IF(referentes!AC627=referentes!AI627,CONCATENATE(referentes!AH627,\" \",referentes!AI627,\" \",\" \"),CONCATENATE(referentes!AH627,\" \",referentes!AI627,\" \",referentes!AC627))))","v":""},{"$f":"IF(referentes!AB627=\"\",\"\",referentes!AB627)","v":""},null,null,null,{"$f":"TRIM(UPPER(CONCATENATE(referentes!AH623,\" \",referentes!AI623,\" \",referentes!AJ623,\" \",referentes!AK623,\" \",referentes!AF623)))","v":"PLAGIOTROPIS MAXIMA"},{"$f":"referentes!AG623","v":0}]
[null,null,null,null,null,null,null,null,null,null,null,null,null,null,null,{"$f":"IF(referentes!AC628=\"\",\"\",IF(referentes!AC628=referentes!AH628,CONCATENATE(referentes!AC628,\" \",\" \",\" \",\" \"),IF(referentes!AC628=referentes!AI628,CONCATENATE(referentes!AH628,\" \",referentes!AI628,\" \",\" \"),CONCATENATE(referentes!AH628,\" \",referentes!AI628,\" \",referentes!AC628))))","v":""},{"$f":"IF(referentes!AB628=\"\",\"\",referentes!AB628)","v":""},null,null,null,{"$f":"TRIM(UPPER(CONCATENATE(referentes!AH624,\" \",referentes!AI624,\" \",referentes!AJ624,\" \",referentes!AK624,\" \",referentes!AF624)))","v":"PLAGIOTROPIS SERIATA"},{"$f":"referentes!AG624","v":0}]
[null,null,null,null,null,null,null,null,null,null,null,null,null,null,null,{"$f":"IF(referentes!AC629=\"\",\"\",IF(referentes!AC629=referentes!AH629,CONCATENATE(referentes!AC629,\" \",\" \",\" \",\" \"),IF(referentes!AC629=referentes!AI629,CONCATENATE(referentes!AH629,\" \",referentes!AI629,\" \",\" \"),CONCATENATE(referentes!AH629,\" \",referentes!AI629,\" \",referentes!AC629))))","v":""},{"$f":"IF(referentes!AB629=\"\",\"\",referentes!AB629)","v":""},null,null,null,{"$f":"TRIM(UPPER(CONCATENATE(referentes!AH625,\" \",referentes!AI625,\" \",referentes!AJ625,\" \",referentes!AK625,\" \",referentes!AF625)))","v":"PLANCTONEMA"},{"$f":"referentes!AG625","v":0}]
[null,null,null,null,null,null,null,null,null,null,null,null,null,null,null,{"$f":"IF(referentes!AC630=\"\",\"\",IF(referentes!AC630=referentes!AH630,CONCATENATE(referentes!AC630,\" \",\" \",\" \",\" \"),IF(referentes!AC630=referentes!AI630,CONCATENATE(referentes!AH630,\" \",referentes!AI630,\" \",\" \"),CONCATENATE(referentes!AH630,\" \",referentes!AI630,\" \",referentes!AC630))))","v":""},{"$f":"IF(referentes!AB630=\"\",\"\",referentes!AB630)","v":""},null,null,null,{"$f":"TRIM(UPPER(CONCATENATE(referentes!AH626,\" \",referentes!AI626,\" \",referentes!AJ626,\" \",referentes!AK626,\" \",referentes!AF626)))","v":"PLANKTOLYNGBYA"},{"$f":"referentes!AG626","v":0}]
[null,null,null,null,null,null,null,null,null,null,null,null,null,null,null,{"$f":"IF(referentes!AC631=\"\",\"\",IF(referentes!AC631=referentes!AH631,CONCATENATE(referentes!AC631,\" \",\" \",\" \",\" \"),IF(referentes!AC631=referentes!AI631,CONCATENATE(referentes!AH631,\" \",referentes!AI631,\" \",\" \"),CONCATENATE(referentes!AH631,\" \",referentes!AI631,\" \",referentes!AC631))))","v":""},{"$f":"IF(referentes!AB631=\"\",\"\",referentes!AB631)","v":""},null,null,null,{"$f":"TRIM(UPPER(CONCATENATE(referentes!AH627,\" \",referentes!AI627,\" \",referentes!AJ627,\" \",referentes!AK627,\" \",referentes!AF627)))","v":"PLANKTONIELLA"},{"$f":"referentes!AG627","v":0}]
[null,null,null,null,null,null,null,null,null,null,null,null,null,null,null,{"$f":"IF(referentes!AC632=\"\",\"\",IF(referentes!AC632=referentes!AH632,CONCATENATE(referentes!AC632,\" \",\" \",\" \",\" \"),IF(referentes!AC632=referentes!AI632,CONCATENATE(referentes!AH632,\" \",referentes!AI632,\" \",\" \"),CONCATENATE(referentes!AH632,\" \",referentes!AI632,\" \",referentes!AC632))))","v":""},{"$f":"IF(referentes!AB632=\"\",\"\",referentes!AB632)","v":""},null,null,null,{"$f":"TRIM(UPPER(CONCATENATE(referentes!AH628,\" \",referentes!AI628,\" \",referentes!AJ628,\" \",referentes!AK628,\" \",referentes!AF628)))","v":"PLANKTONIELLA SOL"},{"$f":"referentes!AG628","v":0}]
[null,null,null,null,null,null,null,null,null,null,null,null,null,null,null,{"$f":"IF(referentes!AC633=\"\",\"\",IF(referentes!AC633=referentes!AH633,CONCATENATE(referentes!AC633,\" \",\" \",\" \",\" \"),IF(referentes!AC633=referentes!AI633,CONCATENATE(referentes!AH633,\" \",referentes!AI633,\" \",\" \"),CONCATENATE(referentes!AH633,\" \",referentes!AI633,\" \",referentes!AC633))))","v":""},{"$f":"IF(referentes!AB633=\"\",\"\",referentes!AB633)","v":""},null,null,null,{"$f":"TRIM(UPPER(CONCATENATE(referentes!AH629,\" \",referentes!AI629,\" \",referentes!AJ629,\" \",referentes!AK629,\" \",referentes!AF629)))","v":"PLANKTOTHRIX"},{"$f":"referentes!AG629","v":0}]
[null,null,null,null,null,null,null,null,null,null,null,null,null,null,null,{"$f":"IF(referentes!AC634=\"\",\"\",IF(referentes!AC634=referentes!AH634,CONCATENATE(referentes!AC634,\" \",\" \",\" \",\" \"),IF(referentes!AC634=referentes!AI634,CONCATENATE(referentes!AH634,\" \",referentes!AI634,\" \",\" \"),CONCATENATE(referentes!AH634,\" \",referentes!AI634,\" \",referentes!AC634))))","v":""},{"$f":"IF(referentes!AB634=\"\",\"\",referentes!AB634)","v":""},null,null,null,{"$f":"TRIM(UPPER(CONCATENATE(referentes!AH630,\" \",referentes!AI630,\" \",referentes!AJ630,\" \",referentes!AK630,\" \",referentes!AF630)))","v":"PLANOTHIDIUM"},{"$f":"referentes!AG630","v":0}]
[null,null,null,null,null,null,null,null,null,null,null,null,null,null,null,{"$f":"IF(referentes!AC635=\"\",\"\",IF(referentes!AC635=referentes!AH635,CONCATENATE(referentes!AC635,\" \",\" \",\" \",\" \"),IF(referentes!AC635=referentes!AI635,CONCATENATE(referentes!AH635,\" \",referentes!AI635,\" \",\" \"),CONCATENATE(referentes!AH635,\" \",referentes!AI635,\" \",referentes!AC635))))","v":""},{"$f":"IF(referentes!AB635=\"\",\"\",referentes!AB635)","v":""},null,null,null,{"$f":"TRIM(UPPER(CONCATENATE(referentes!AH631,\" \",referentes!AI631,\" \",referentes!AJ631,\" \",referentes!AK631,\" \",referentes!AF631)))","v":"PLEUROSIGMA"},{"$f":"referentes!AG631","v":0}]
[null,null,null,null,null,null,null,null,null,null,null,null,null,null,null,{"$f":"IF(referentes!AC636=\"\",\"\",IF(referentes!AC636=referentes!AH636,CONCATENATE(referentes!AC636,\" \",\" \",\" \",\" \"),IF(referentes!AC636=referentes!AI636,CONCATENATE(referentes!AH636,\" \",referentes!AI636,\" \",\" \"),CONCATENATE(referentes!AH636,\" \",referentes!AI636,\" \",referentes!AC636))))","v":""},{"$f":"IF(referentes!AB636=\"\",\"\",referentes!AB636)","v":""},null,null,null,{"$f":"TRIM(UPPER(CONCATENATE(referentes!AH632,\" \",referentes!AI632,\" \",referentes!AJ632,\" \",referentes!AK632,\" \",referentes!AF632)))","v":"PLEUROSIGMA DECORUM"},{"$f":"referentes!AG632","v":0}]
[null,null,null,null,null,null,null,null,null,null,null,null,null,null,null,{"$f":"IF(referentes!AC637=\"\",\"\",IF(referentes!AC637=referentes!AH637,CONCATENATE(referentes!AC637,\" \",\" \",\" \",\" \"),IF(referentes!AC637=referentes!AI637,CONCATENATE(referentes!AH637,\" \",referentes!AI637,\" \",\" \"),CONCATENATE(referentes!AH637,\" \",referentes!AI637,\" \",referentes!AC637))))","v":""},{"$f":"IF(referentes!AB637=\"\",\"\",referentes!AB637)","v":""},null,null,null,{"$f":"TRIM(UPPER(CONCATENATE(referentes!AH633,\" \",referentes!AI633,\" \",referentes!AJ633,\" \",referentes!AK633,\" \",referentes!AF633)))","v":"PLEUROSIGMA DELICATULUM"},{"$f":"referentes!AG633","v":0}]
[null,null,null,null,null,null,null,null,null,null,null,null,null,null,null,{"$f":"IF(referentes!AC638=\"\",\"\",IF(referentes!AC638=referentes!AH638,CONCATENATE(referentes!AC638,\" \",\" \",\" \",\" \"),IF(referentes!AC638=referentes!AI638,CONCATENATE(referentes!AH638,\" \",referentes!AI638,\" \",\" \"),CONCATENATE(referentes!AH638,\" \",referentes!AI638,\" \",referentes!AC638))))","v":""},{"$f":"IF(referentes!AB638=\"\",\"\",referentes!AB638)","v":""},null,null,null,{"$f":"TRIM(UPPER(CONCATENATE(referentes!AH634,\" \",referentes!AI634,\" \",referentes!AJ634,\" \",referentes!AK634,\" \",referentes!AF634)))","v":"PLEUROSIGMA DIRECTUM"},{"$f":"referentes!AG634","v":0}]
[null,null,null,null,null,null,null,null,null,null,null,null,null,null,null,{"$f":"IF(referentes!AC639=\"\",\"\",IF(referentes!AC639=referentes!AH639,CONCATENATE(referentes!AC639,\" \",\" \",\" \",\" \"),IF(referentes!AC639=referentes!AI639,CONCATENATE(referentes!AH639,\" \",referentes!AI639,\" \",\" \"),CONCATENATE(referentes!AH639,\" \",referentes!AI639,\" \",referentes!AC639))))","v":""},{"$f":"IF(referentes!AB639=\"\",\"\",referentes!AB639)","v":""},null,null,null,{"$f":"TRIM(UPPER(CONCATENATE(referentes!AH635,\" \",referentes!AI635,\" \",referentes!AJ635,\" \",referentes!AK635,\" \",referentes!AF635)))","v":"PLEUROSIGMA ELONGATUM"},{"$f":"referentes!AG635","v":0}]
[null,null,null,null,null,null,null,null,null,null,null,null,null,null,null,{"$f":"IF(referentes!AC640=\"\",\"\",IF(referentes!AC640=referentes!AH640,CONCATENATE(referentes!AC640,\" \",\" \",\" \",\" \"),IF(referentes!AC640=referentes!AI640,CONCATENATE(referentes!AH640,\" \",referentes!AI640,\" \",\" \"),CONCATENATE(referentes!AH640,\" \",referentes!AI640,\" \",referentes!AC640))))","v":""},{"$f":"IF(referentes!AB640=\"\",\"\",referentes!AB640)","v":""},null,null,null,{"$f":"TRIM(UPPER(CONCATENATE(referentes!AH636,\" \",referentes!AI636,\" \",referentes!AJ636,\" \",referentes!AK636,\" \",referentes!AF636)))","v":"PLEUROSIGMA FORMOSUM"},{"$f":"referentes!AG636","v":0}]
[null,null,null,null,null,null,null,null,null,null,null,null,null,null,null,{"$f":"IF(referentes!AC641=\"\",\"\",IF(referentes!AC641=referentes!AH641,CONCATENATE(referentes!AC641,\" \",\" \",\" \",\" \"),IF(referentes!AC641=referentes!AI641,CONCATENATE(referentes!AH641,\" \",referentes!AI641,\" \",\" \"),CONCATENATE(referentes!AH641,\" \",referentes!AI641,\" \",referentes!AC641))))","v":""},{"$f":"IF(referentes!AB641=\"\",\"\",referentes!AB641)","v":""},null,null,null,{"$f":"TRIM(UPPER(CONCATENATE(referentes!AH637,\" \",referentes!AI637,\" \",referentes!AJ637,\" \",referentes!AK637,\" \",referentes!AF637)))","v":"PLEUROSIGMA HAMULIFERUM"},{"$f":"referentes!AG637","v":0}]
[null,null,null,null,null,null,null,null,null,null,null,null,null,null,null,{"$f":"IF(referentes!AC642=\"\",\"\",IF(referentes!AC642=referentes!AH642,CONCATENATE(referentes!AC642,\" \",\" \",\" \",\" \"),IF(referentes!AC642=referentes!AI642,CONCATENATE(referentes!AH642,\" \",referentes!AI642,\" \",\" \"),CONCATENATE(referentes!AH642,\" \",referentes!AI642,\" \",referentes!AC642))))","v":""},{"$f":"IF(referentes!AB642=\"\",\"\",referentes!AB642)","v":""},null,null,null,{"$f":"TRIM(UPPER(CONCATENATE(referentes!AH638,\" \",referentes!AI638,\" \",referentes!AJ638,\" \",referentes!AK638,\" \",referentes!AF638)))","v":"PLEUROSIGMA NICOBARICUM"},{"$f":"referentes!AG638","v":0}]
[null,null,null,null,null,null,null,null,null,null,null,null,null,null,null,{"$f":"IF(referentes!AC643=\"\",\"\",IF(referentes!AC643=referentes!AH643,CONCATENATE(referentes!AC643,\" \",\" \",\" \",\" \"),IF(referentes!AC643=referentes!AI643,CONCATENATE(referentes!AH643,\" \",referentes!AI643,\" \",\" \"),CONCATENATE(referentes!AH643,\" \",referentes!AI643,\" \",referentes!AC643))))","v":""},{"$f":"IF(referentes!AB643=\"\",\"\",referentes!AB643)","v":""},null,null,null,{"$f":"TRIM(UPPER(CONCATENATE(referentes!AH639,\" \",referentes!AI639,\" \",referentes!AJ639,\" \",referentes!AK639,\" \",referentes!AF639)))","v":"PLEUROSIGMA NORMANII"},{"$f":"referentes!AG639","v":0}]
[null,null,null,null,null,null,null,null,null,null,null,null,null,null,null,{"$f":"IF(referentes!AC644=\"\",\"\",IF(referentes!AC644=referentes!AH644,CONCATENATE(referentes!AC644,\" \",\" \",\" \",\" \"),IF(referentes!AC644=referentes!AI644,CONCATENATE(referentes!AH644,\" \",referentes!AI644,\" \",\" \"),CONCATENATE(referentes!AH644,\" \",referentes!AI644,\" \",referentes!AC644))))","v":""},{"$f":"IF(referentes!AB644=\"\",\"\",referentes!AB644)","v":""},null,null,null,{"$f":"TRIM(UPPER(CONCATENATE(referentes!AH640,\" \",referentes!AI640,\" \",referentes!AJ640,\" \",referentes!AK640,\" \",referentes!AF640)))","v":"PLEUROSIGMA PORTORICENSE"},{"$f":"referentes!AG640","v":0}]
[null,null,null,null,null,null,null,null,null,null,null,null,null,null,null,{"$f":"IF(referentes!AC645=\"\",\"\",IF(referentes!AC645=referentes!AH645,CONCATENATE(referentes!AC645,\" \",\" \",\" \",\" \"),IF(referentes!AC645=referentes!AI645,CONCATENATE(referentes!AH645,\" \",referentes!AI645,\" \",\" \"),CONCATENATE(referentes!AH645,\" \",referentes!AI645,\" \",referentes!AC645))))","v":""},{"$f":"IF(referentes!AB645=\"\",\"\",referentes!AB645)","v":""},null,null,null,{"$f":"TRIM(UPPER(CONCATENATE(referentes!AH641,\" \",referentes!AI641,\" \",referentes!AJ641,\" \",referentes!AK641,\" \",referentes!AF641)))","v":"PLEUROSIGMA RHOMBEUM"},{"$f":"referentes!AG641","v":0}]
[null,null,null,null,null,null,null,null,null,null,null,null,null,null,null,{"$f":"IF(referentes!AC646=\"\",\"\",IF(referentes!AC646=referentes!AH646,CONCATENATE(referentes!AC646,\" \",\" \",\" \",\" \"),IF(referentes!AC646=referentes!AI646,CONCATENATE(referentes!AH646,\" \",referentes!AI646,\" \",\" \"),CONCATENATE(referentes!AH646,\" \",referentes!AI646,\" \",referentes!AC646))))","v":""},{"$f":"IF(referentes!AB646=\"\",\"\",referentes!AB646)","v":""},null,null,null,{"$f":"TRIM(UPPER(CONCATENATE(referentes!AH642,\" \",referentes!AI642,\" \",referentes!AJ642,\" \",referentes!AK642,\" \",referentes!AF642)))","v":"PLEUROSIGMA RIGIDUM"},{"$f":"referentes!AG642","v":0}]
[null,null,null,null,null,null,null,null,null,null,null,null,null,null,null,{"$f":"IF(referentes!AC647=\"\",\"\",IF(referentes!AC647=referentes!AH647,CONCATENATE(referentes!AC647,\" \",\" \",\" \",\" \"),IF(referentes!AC647=referentes!AI647,CONCATENATE(referentes!AH647,\" \",referentes!AI647,\" \",\" \"),CONCATENATE(referentes!AH647,\" \",referentes!AI647,\" \",referentes!AC647))))","v":""},{"$f":"IF(referentes!AB647=\"\",\"\",referentes!AB647)","v":""},null,null,null,{"$f":"TRIM(UPPER(CONCATENATE(referentes!AH643,\" \",referentes!AI643,\" \",referentes!AJ643,\" \",referentes!AK643,\" \",referentes!AF643)))","v":"PLEUROSIGMA ROSTRATUM"},{"$f":"referentes!AG643","v":0}]
[null,null,null,null,null,null,null,null,null,null,null,null,null,null,null,{"$f":"IF(referentes!AC648=\"\",\"\",IF(referentes!AC648=referentes!AH648,CONCATENATE(referentes!AC648,\" \",\" \",\" \",\" \"),IF(referentes!AC648=referentes!AI648,CONCATENATE(referentes!AH648,\" \",referentes!AI648,\" \",\" \"),CONCATENATE(referentes!AH648,\" \",referentes!AI648,\" \",referentes!AC648))))","v":""},{"$f":"IF(referentes!AB648=\"\",\"\",referentes!AB648)","v":""},null,null,null,{"$f":"TRIM(UPPER(CONCATENATE(referentes!AH644,\" \",referentes!AI644,\" \",referentes!AJ644,\" \",referentes!AK644,\" \",referentes!AF644)))","v":"PLEUROSIGMA SPECIOSUM"},{"$f":"referentes!AG644","v":0}]
[null,null,null,null,null,null,null,null,null,null,null,null,null,null,null,{"$f":"IF(referentes!AC649=\"\",\"\",IF(referentes!AC649=referentes!AH649,CONCATENATE(referentes!AC649,\" \",\" \",\" \",\" \"),IF(referentes!AC649=referentes!AI649,CONCATENATE(referentes!AH649,\" \",referentes!AI649,\" \",\" \"),CONCATENATE(referentes!AH649,\" \",referentes!AI649,\" \",referentes!AC649))))","v":""},{"$f":"IF(referentes!AB649=\"\",\"\",referentes!AB649)","v":""},null,null,null,{"$f":"TRIM(UPPER(CONCATENATE(referentes!AH645,\" \",referentes!AI645,\" \",referentes!AJ645,\" \",referentes!AK645,\" \",referentes!AF645)))","v":"PLEUROSIGMA STRIGOSUM"},{"$f":"referentes!AG645","v":0}]
[null,null,null,null,null,null,null,null,null,null,null,null,null,null,null,{"$f":"IF(referentes!AC650=\"\",\"\",IF(referentes!AC650=referentes!AH650,CONCATENATE(referentes!AC650,\" \",\" \",\" \",\" \"),IF(referentes!AC650=referentes!AI650,CONCATENATE(referentes!AH650,\" \",referentes!AI650,\" \",\" \"),CONCATENATE(referentes!AH650,\" \",referentes!AI650,\" \",referentes!AC650))))","v":""},{"$f":"IF(referentes!AB650=\"\",\"\",referentes!AB650)","v":""},null,null,null,{"$f":"TRIM(UPPER(CONCATENATE(referentes!AH646,\" \",referentes!AI646,\" \",referentes!AJ646,\" \",referentes!AK646,\" \",referentes!AF646)))","v":"PLEUROSIRA"},{"$f":"referentes!AG646","v":0}]
[null,null,null,null,null,null,null,null,null,null,null,null,null,null,null,{"$f":"IF(referentes!AC651=\"\",\"\",IF(referentes!AC651=referentes!AH651,CONCATENATE(referentes!AC651,\" \",\" \",\" \",\" \"),IF(referentes!AC651=referentes!AI651,CONCATENATE(referentes!AH651,\" \",referentes!AI651,\" \",\" \"),CONCATENATE(referentes!AH651,\" \",referentes!AI651,\" \",referentes!AC651))))","v":""},{"$f":"IF(referentes!AB651=\"\",\"\",referentes!AB651)","v":""},null,null,null,{"$f":"TRIM(UPPER(CONCATENATE(referentes!AH647,\" \",referentes!AI647,\" \",referentes!AJ647,\" \",referentes!AK647,\" \",referentes!AF647)))","v":"PLEUROSIRA LAEVIS"},{"$f":"referentes!AG647","v":0}]
[null,null,null,null,null,null,null,null,null,null,null,null,null,null,null,{"$f":"IF(referentes!AC652=\"\",\"\",IF(referentes!AC652=referentes!AH652,CONCATENATE(referentes!AC652,\" \",\" \",\" \",\" \"),IF(referentes!AC652=referentes!AI652,CONCATENATE(referentes!AH652,\" \",referentes!AI652,\" \",\" \"),CONCATENATE(referentes!AH652,\" \",referentes!AI652,\" \",referentes!AC652))))","v":""},{"$f":"IF(referentes!AB652=\"\",\"\",referentes!AB652)","v":""},null,null,null,{"$f":"TRIM(UPPER(CONCATENATE(referentes!AH648,\" \",referentes!AI648,\" \",referentes!AJ648,\" \",referentes!AK648,\" \",referentes!AF648)))","v":"PODOCYSTIS"},{"$f":"referentes!AG648","v":0}]
[null,null,null,null,null,null,null,null,null,null,null,null,null,null,null,{"$f":"IF(referentes!AC653=\"\",\"\",IF(referentes!AC653=referentes!AH653,CONCATENATE(referentes!AC653,\" \",\" \",\" \",\" \"),IF(referentes!AC653=referentes!AI653,CONCATENATE(referentes!AH653,\" \",referentes!AI653,\" \",\" \"),CONCATENATE(referentes!AH653,\" \",referentes!AI653,\" \",referentes!AC653))))","v":""},{"$f":"IF(referentes!AB653=\"\",\"\",referentes!AB653)","v":""},null,null,null,{"$f":"TRIM(UPPER(CONCATENATE(referentes!AH649,\" \",referentes!AI649,\" \",referentes!AJ649,\" \",referentes!AK649,\" \",referentes!AF649)))","v":"PODOCYSTIS ADRIATICA"},{"$f":"referentes!AG649","v":0}]
[null,null,null,null,null,null,null,null,null,null,null,null,null,null,null,{"$f":"IF(referentes!AC654=\"\",\"\",IF(referentes!AC654=referentes!AH654,CONCATENATE(referentes!AC654,\" \",\" \",\" \",\" \"),IF(referentes!AC654=referentes!AI654,CONCATENATE(referentes!AH654,\" \",referentes!AI654,\" \",\" \"),CONCATENATE(referentes!AH654,\" \",referentes!AI654,\" \",referentes!AC654))))","v":""},{"$f":"IF(referentes!AB654=\"\",\"\",referentes!AB654)","v":""},null,null,null,{"$f":"TRIM(UPPER(CONCATENATE(referentes!AH650,\" \",referentes!AI650,\" \",referentes!AJ650,\" \",referentes!AK650,\" \",referentes!AF650)))","v":"PODOLAMPAS"},{"$f":"referentes!AG650","v":0}]
[null,null,null,null,null,null,null,null,null,null,null,null,null,null,null,{"$f":"IF(referentes!AC655=\"\",\"\",IF(referentes!AC655=referentes!AH655,CONCATENATE(referentes!AC655,\" \",\" \",\" \",\" \"),IF(referentes!AC655=referentes!AI655,CONCATENATE(referentes!AH655,\" \",referentes!AI655,\" \",\" \"),CONCATENATE(referentes!AH655,\" \",referentes!AI655,\" \",referentes!AC655))))","v":""},{"$f":"IF(referentes!AB655=\"\",\"\",referentes!AB655)","v":""},null,null,null,{"$f":"TRIM(UPPER(CONCATENATE(referentes!AH651,\" \",referentes!AI651,\" \",referentes!AJ651,\" \",referentes!AK651,\" \",referentes!AF651)))","v":"PODOLAMPAS BIPES"},{"$f":"referentes!AG651","v":0}]
[null,null,null,null,null,null,null,null,null,null,null,null,null,null,null,{"$f":"IF(referentes!AC656=\"\",\"\",IF(referentes!AC656=referentes!AH656,CONCATENATE(referentes!AC656,\" \",\" \",\" \",\" \"),IF(referentes!AC656=referentes!AI656,CONCATENATE(referentes!AH656,\" \",referentes!AI656,\" \",\" \"),CONCATENATE(referentes!AH656,\" \",referentes!AI656,\" \",referentes!AC656))))","v":""},{"$f":"IF(referentes!AB656=\"\",\"\",referentes!AB656)","v":""},null,null,null,{"$f":"TRIM(UPPER(CONCATENATE(referentes!AH652,\" \",referentes!AI652,\" \",referentes!AJ652,\" \",referentes!AK652,\" \",referentes!AF652)))","v":"PODOLAMPAS ELEGANS"},{"$f":"referentes!AG652","v":0}]
[null,null,null,null,null,null,null,null,null,null,null,null,null,null,null,{"$f":"IF(referentes!AC657=\"\",\"\",IF(referentes!AC657=referentes!AH657,CONCATENATE(referentes!AC657,\" \",\" \",\" \",\" \"),IF(referentes!AC657=referentes!AI657,CONCATENATE(referentes!AH657,\" \",referentes!AI657,\" \",\" \"),CONCATENATE(referentes!AH657,\" \",referentes!AI657,\" \",referentes!AC657))))","v":""},{"$f":"IF(referentes!AB657=\"\",\"\",referentes!AB657)","v":""},null,null,null,{"$f":"TRIM(UPPER(CONCATENATE(referentes!AH653,\" \",referentes!AI653,\" \",referentes!AJ653,\" \",referentes!AK653,\" \",referentes!AF653)))","v":"PODOLAMPAS PALMIPES"},{"$f":"referentes!AG653","v":0}]
[null,null,null,null,null,null,null,null,null,null,null,null,null,null,null,{"$f":"IF(referentes!AC658=\"\",\"\",IF(referentes!AC658=referentes!AH658,CONCATENATE(referentes!AC658,\" \",\" \",\" \",\" \"),IF(referentes!AC658=referentes!AI658,CONCATENATE(referentes!AH658,\" \",referentes!AI658,\" \",\" \"),CONCATENATE(referentes!AH658,\" \",referentes!AI658,\" \",referentes!AC658))))","v":""},{"$f":"IF(referentes!AB658=\"\",\"\",referentes!AB658)","v":""},null,null,null,{"$f":"TRIM(UPPER(CONCATENATE(referentes!AH654,\" \",referentes!AI654,\" \",referentes!AJ654,\" \",referentes!AK654,\" \",referentes!AF654)))","v":"PODOLAMPAS SPINIFERA"},{"$f":"referentes!AG654","v":0}]
[null,null,null,null,null,null,null,null,null,null,null,null,null,null,null,{"$f":"IF(referentes!AC659=\"\",\"\",IF(referentes!AC659=referentes!AH659,CONCATENATE(referentes!AC659,\" \",\" \",\" \",\" \"),IF(referentes!AC659=referentes!AI659,CONCATENATE(referentes!AH659,\" \",referentes!AI659,\" \",\" \"),CONCATENATE(referentes!AH659,\" \",referentes!AI659,\" \",referentes!AC659))))","v":""},{"$f":"IF(referentes!AB659=\"\",\"\",referentes!AB659)","v":""},null,null,null,{"$f":"TRIM(UPPER(CONCATENATE(referentes!AH655,\" \",referentes!AI655,\" \",referentes!AJ655,\" \",referentes!AK655,\" \",referentes!AF655)))","v":"PODOSIRA"},{"$f":"referentes!AG655","v":0}]
[null,null,null,null,null,null,null,null,null,null,null,null,null,null,null,{"$f":"IF(referentes!AC660=\"\",\"\",IF(referentes!AC660=referentes!AH660,CONCATENATE(referentes!AC660,\" \",\" \",\" \",\" \"),IF(referentes!AC660=referentes!AI660,CONCATENATE(referentes!AH660,\" \",referentes!AI660,\" \",\" \"),CONCATENATE(referentes!AH660,\" \",referentes!AI660,\" \",referentes!AC660))))","v":""},{"$f":"IF(referentes!AB660=\"\",\"\",referentes!AB660)","v":""},null,null,null,{"$f":"TRIM(UPPER(CONCATENATE(referentes!AH656,\" \",referentes!AI656,\" \",referentes!AJ656,\" \",referentes!AK656,\" \",referentes!AF656)))","v":"PORPHYROSIPHON"},{"$f":"referentes!AG656","v":0}]
[null,null,null,null,null,null,null,null,null,null,null,null,null,null,null,{"$f":"IF(referentes!AC661=\"\",\"\",IF(referentes!AC661=referentes!AH661,CONCATENATE(referentes!AC661,\" \",\" \",\" \",\" \"),IF(referentes!AC661=referentes!AI661,CONCATENATE(referentes!AH661,\" \",referentes!AI661,\" \",\" \"),CONCATENATE(referentes!AH661,\" \",referentes!AI661,\" \",referentes!AC661))))","v":""},{"$f":"IF(referentes!AB661=\"\",\"\",referentes!AB661)","v":""},null,null,null,{"$f":"TRIM(UPPER(CONCATENATE(referentes!AH657,\" \",referentes!AI657,\" \",referentes!AJ657,\" \",referentes!AK657,\" \",referentes!AF657)))","v":"PROBOSCIA"},{"$f":"referentes!AG657","v":0}]
[null,null,null,null,null,null,null,null,null,null,null,null,null,null,null,{"$f":"IF(referentes!AC662=\"\",\"\",IF(referentes!AC662=referentes!AH662,CONCATENATE(referentes!AC662,\" \",\" \",\" \",\" \"),IF(referentes!AC662=referentes!AI662,CONCATENATE(referentes!AH662,\" \",referentes!AI662,\" \",\" \"),CONCATENATE(referentes!AH662,\" \",referentes!AI662,\" \",referentes!AC662))))","v":""},{"$f":"IF(referentes!AB662=\"\",\"\",referentes!AB662)","v":""},null,null,null,{"$f":"TRIM(UPPER(CONCATENATE(referentes!AH658,\" \",referentes!AI658,\" \",referentes!AJ658,\" \",referentes!AK658,\" \",referentes!AF658)))","v":"PROBOSCIA ALATA"},{"$f":"referentes!AG658","v":0}]
[null,null,null,null,null,null,null,null,null,null,null,null,null,null,null,{"$f":"IF(referentes!AC663=\"\",\"\",IF(referentes!AC663=referentes!AH663,CONCATENATE(referentes!AC663,\" \",\" \",\" \",\" \"),IF(referentes!AC663=referentes!AI663,CONCATENATE(referentes!AH663,\" \",referentes!AI663,\" \",\" \"),CONCATENATE(referentes!AH663,\" \",referentes!AI663,\" \",referentes!AC663))))","v":""},{"$f":"IF(referentes!AB663=\"\",\"\",referentes!AB663)","v":""},null,null,null,{"$f":"TRIM(UPPER(CONCATENATE(referentes!AH659,\" \",referentes!AI659,\" \",referentes!AJ659,\" \",referentes!AK659,\" \",referentes!AF659)))","v":"PROBOSCIA INDICA"},{"$f":"referentes!AG659","v":0}]
[null,null,null,null,null,null,null,null,null,null,null,null,null,null,null,{"$f":"IF(referentes!AC664=\"\",\"\",IF(referentes!AC664=referentes!AH664,CONCATENATE(referentes!AC664,\" \",\" \",\" \",\" \"),IF(referentes!AC664=referentes!AI664,CONCATENATE(referentes!AH664,\" \",referentes!AI664,\" \",\" \"),CONCATENATE(referentes!AH664,\" \",referentes!AI664,\" \",referentes!AC664))))","v":""},{"$f":"IF(referentes!AB664=\"\",\"\",referentes!AB664)","v":""},null,null,null,{"$f":"TRIM(UPPER(CONCATENATE(referentes!AH660,\" \",referentes!AI660,\" \",referentes!AJ660,\" \",referentes!AK660,\" \",referentes!AF660)))","v":"PRONOCTILUCA"},{"$f":"referentes!AG660","v":0}]
[null,null,null,null,null,null,null,null,null,null,null,null,null,null,null,{"$f":"IF(referentes!AC665=\"\",\"\",IF(referentes!AC665=referentes!AH665,CONCATENATE(referentes!AC665,\" \",\" \",\" \",\" \"),IF(referentes!AC665=referentes!AI665,CONCATENATE(referentes!AH665,\" \",referentes!AI665,\" \",\" \"),CONCATENATE(referentes!AH665,\" \",referentes!AI665,\" \",referentes!AC665))))","v":""},{"$f":"IF(referentes!AB665=\"\",\"\",referentes!AB665)","v":""},null,null,null,{"$f":"TRIM(UPPER(CONCATENATE(referentes!AH661,\" \",referentes!AI661,\" \",referentes!AJ661,\" \",referentes!AK661,\" \",referentes!AF661)))","v":"PROROCENTRUM"},{"$f":"referentes!AG661","v":0}]
[null,null,null,null,null,null,null,null,null,null,null,null,null,null,null,{"$f":"IF(referentes!AC666=\"\",\"\",IF(referentes!AC666=referentes!AH666,CONCATENATE(referentes!AC666,\" \",\" \",\" \",\" \"),IF(referentes!AC666=referentes!AI666,CONCATENATE(referentes!AH666,\" \",referentes!AI666,\" \",\" \"),CONCATENATE(referentes!AH666,\" \",referentes!AI666,\" \",referentes!AC666))))","v":""},{"$f":"IF(referentes!AB666=\"\",\"\",referentes!AB666)","v":""},null,null,null,{"$f":"TRIM(UPPER(CONCATENATE(referentes!AH662,\" \",referentes!AI662,\" \",referentes!AJ662,\" \",referentes!AK662,\" \",referentes!AF662)))","v":"PROROCENTRUM CORDATUM"},{"$f":"referentes!AG662","v":0}]
[null,null,null,null,null,null,null,null,null,null,null,null,null,null,null,{"$f":"IF(referentes!AC667=\"\",\"\",IF(referentes!AC667=referentes!AH667,CONCATENATE(referentes!AC667,\" \",\" \",\" \",\" \"),IF(referentes!AC667=referentes!AI667,CONCATENATE(referentes!AH667,\" \",referentes!AI667,\" \",\" \"),CONCATENATE(referentes!AH667,\" \",referentes!AI667,\" \",referentes!AC667))))","v":""},{"$f":"IF(referentes!AB667=\"\",\"\",referentes!AB667)","v":""},null,null,null,{"$f":"TRIM(UPPER(CONCATENATE(referentes!AH663,\" \",referentes!AI663,\" \",referentes!AJ663,\" \",referentes!AK663,\" \",referentes!AF663)))","v":"PROROCENTRUM DENTATUM"},{"$f":"referentes!AG663","v":0}]
[null,null,null,null,null,null,null,null,null,null,null,null,null,null,null,{"$f":"IF(referentes!AC668=\"\",\"\",IF(referentes!AC668=referentes!AH668,CONCATENATE(referentes!AC668,\" \",\" \",\" \",\" \"),IF(referentes!AC668=referentes!AI668,CONCATENATE(referentes!AH668,\" \",referentes!AI668,\" \",\" \"),CONCATENATE(referentes!AH668,\" \",referentes!AI668,\" \",referentes!AC668))))","v":""},{"$f":"IF(referentes!AB668=\"\",\"\",referentes!AB668)","v":""},null,null,null,{"$f":"TRIM(UPPER(CONCATENATE(referentes!AH664,\" \",referentes!AI664,\" \",referentes!AJ664,\" \",referentes!AK664,\" \",referentes!AF664)))","v":"PROROCENTRUM GRACILE"},{"$f":"referentes!AG664","v":0}]
[null,null,null,null,null,null,null,null,null,null,null,null,null,null,null,{"$f":"IF(referentes!AC669=\"\",\"\",IF(referentes!AC669=referentes!AH669,CONCATENATE(referentes!AC669,\" \",\" \",\" \",\" \"),IF(referentes!AC669=referentes!AI669,CONCATENATE(referentes!AH669,\" \",referentes!AI669,\" \",\" \"),CONCATENATE(referentes!AH669,\" \",referentes!AI669,\" \",referentes!AC669))))","v":""},{"$f":"IF(referentes!AB669=\"\",\"\",referentes!AB669)","v":""},null,null,null,{"$f":"TRIM(UPPER(CONCATENATE(referentes!AH665,\" \",referentes!AI665,\" \",referentes!AJ665,\" \",referentes!AK665,\" \",referentes!AF665)))","v":"PROROCENTRUM LENTICULATUM"},{"$f":"referentes!AG665","v":0}]
[null,null,null,null,null,null,null,null,null,null,null,null,null,null,null,{"$f":"IF(referentes!AC670=\"\",\"\",IF(referentes!AC670=referentes!AH670,CONCATENATE(referentes!AC670,\" \",\" \",\" \",\" \"),IF(referentes!AC670=referentes!AI670,CONCATENATE(referentes!AH670,\" \",referentes!AI670,\" \",\" \"),CONCATENATE(referentes!AH670,\" \",referentes!AI670,\" \",referentes!AC670))))","v":""},{"$f":"IF(referentes!AB670=\"\",\"\",referentes!AB670)","v":""},null,null,null,{"$f":"TRIM(UPPER(CONCATENATE(referentes!AH666,\" \",referentes!AI666,\" \",referentes!AJ666,\" \",referentes!AK666,\" \",referentes!AF666)))","v":"PROROCENTRUM LIMA"},{"$f":"referentes!AG666","v":0}]
[null,null,null,null,null,null,null,null,null,null,null,null,null,null,null,{"$f":"IF(referentes!AC671=\"\",\"\",IF(referentes!AC671=referentes!AH671,CONCATENATE(referentes!AC671,\" \",\" \",\" \",\" \"),IF(referentes!AC671=referentes!AI671,CONCATENATE(referentes!AH671,\" \",referentes!AI671,\" \",\" \"),CONCATENATE(referentes!AH671,\" \",referentes!AI671,\" \",referentes!AC671))))","v":""},{"$f":"IF(referentes!AB671=\"\",\"\",referentes!AB671)","v":""},null,null,null,{"$f":"TRIM(UPPER(CONCATENATE(referentes!AH667,\" \",referentes!AI667,\" \",referentes!AJ667,\" \",referentes!AK667,\" \",referentes!AF667)))","v":"PROROCENTRUM MAXIMUM"},{"$f":"referentes!AG667","v":0}]
[null,null,null,null,null,null,null,null,null,null,null,null,null,null,null,{"$f":"IF(referentes!AC672=\"\",\"\",IF(referentes!AC672=referentes!AH672,CONCATENATE(referentes!AC672,\" \",\" \",\" \",\" \"),IF(referentes!AC672=referentes!AI672,CONCATENATE(referentes!AH672,\" \",referentes!AI672,\" \",\" \"),CONCATENATE(referentes!AH672,\" \",referentes!AI672,\" \",referentes!AC672))))","v":""},{"$f":"IF(referentes!AB672=\"\",\"\",referentes!AB672)","v":""},null,null,null,{"$f":"TRIM(UPPER(CONCATENATE(referentes!AH668,\" \",referentes!AI668,\" \",referentes!AJ668,\" \",referentes!AK668,\" \",referentes!AF668)))","v":"PROROCENTRUM MEXICANUM"},{"$f":"referentes!AG668","v":0}]
[null,null,null,null,null,null,null,null,null,null,null,null,null,null,null,{"$f":"IF(referentes!AC673=\"\",\"\",IF(referentes!AC673=referentes!AH673,CONCATENATE(referentes!AC673,\" \",\" \",\" \",\" \"),IF(referentes!AC673=referentes!AI673,CONCATENATE(referentes!AH673,\" \",referentes!AI673,\" \",\" \"),CONCATENATE(referentes!AH673,\" \",referentes!AI673,\" \",referentes!AC673))))","v":""},{"$f":"IF(referentes!AB673=\"\",\"\",referentes!AB673)","v":""},null,null,null,{"$f":"TRIM(UPPER(CONCATENATE(referentes!AH669,\" \",referentes!AI669,\" \",referentes!AJ669,\" \",referentes!AK669,\" \",referentes!AF669)))","v":"PROROCENTRUM MICANS"},{"$f":"referentes!AG669","v":0}]
[null,null,null,null,null,null,null,null,null,null,null,null,null,null,null,{"$f":"IF(referentes!AC674=\"\",\"\",IF(referentes!AC674=referentes!AH674,CONCATENATE(referentes!AC674,\" \",\" \",\" \",\" \"),IF(referentes!AC674=referentes!AI674,CONCATENATE(referentes!AH674,\" \",referentes!AI674,\" \",\" \"),CONCATENATE(referentes!AH674,\" \",referentes!AI674,\" \",referentes!AC674))))","v":""},{"$f":"IF(referentes!AB674=\"\",\"\",referentes!AB674)","v":""},null,null,null,{"$f":"TRIM(UPPER(CONCATENATE(referentes!AH670,\" \",referentes!AI670,\" \",referentes!AJ670,\" \",referentes!AK670,\" \",referentes!AF670)))","v":"PROROCENTRUM MINIMUM"},{"$f":"referentes!AG670","v":0}]
[null,null,null,null,null,null,null,null,null,null,null,null,null,null,null,{"$f":"IF(referentes!AC675=\"\",\"\",IF(referentes!AC675=referentes!AH675,CONCATENATE(referentes!AC675,\" \",\" \",\" \",\" \"),IF(referentes!AC675=referentes!AI675,CONCATENATE(referentes!AH675,\" \",referentes!AI675,\" \",\" \"),CONCATENATE(referentes!AH675,\" \",referentes!AI675,\" \",referentes!AC675))))","v":""},{"$f":"IF(referentes!AB675=\"\",\"\",referentes!AB675)","v":""},null,null,null,{"$f":"TRIM(UPPER(CONCATENATE(referentes!AH671,\" \",referentes!AI671,\" \",referentes!AJ671,\" \",referentes!AK671,\" \",referentes!AF671)))","v":"PROROCENTRUM ROSTRATUM"},{"$f":"referentes!AG671","v":0}]
[null,null,null,null,null,null,null,null,null,null,null,null,null,null,null,{"$f":"IF(referentes!AC676=\"\",\"\",IF(referentes!AC676=referentes!AH676,CONCATENATE(referentes!AC676,\" \",\" \",\" \",\" \"),IF(referentes!AC676=referentes!AI676,CONCATENATE(referentes!AH676,\" \",referentes!AI676,\" \",\" \"),CONCATENATE(referentes!AH676,\" \",referentes!AI676,\" \",referentes!AC676))))","v":""},{"$f":"IF(referentes!AB676=\"\",\"\",referentes!AB676)","v":""},null,null,null,{"$f":"TRIM(UPPER(CONCATENATE(referentes!AH672,\" \",referentes!AI672,\" \",referentes!AJ672,\" \",referentes!AK672,\" \",referentes!AF672)))","v":"PROROCENTRUM TRIESTINUM"},{"$f":"referentes!AG672","v":0}]
[null,null,null,null,null,null,null,null,null,null,null,null,null,null,null,{"$f":"IF(referentes!AC677=\"\",\"\",IF(referentes!AC677=referentes!AH677,CONCATENATE(referentes!AC677,\" \",\" \",\" \",\" \"),IF(referentes!AC677=referentes!AI677,CONCATENATE(referentes!AH677,\" \",referentes!AI677,\" \",\" \"),CONCATENATE(referentes!AH677,\" \",referentes!AI677,\" \",referentes!AC677))))","v":""},{"$f":"IF(referentes!AB677=\"\",\"\",referentes!AB677)","v":""},null,null,null,{"$f":"TRIM(UPPER(CONCATENATE(referentes!AH673,\" \",referentes!AI673,\" \",referentes!AJ673,\" \",referentes!AK673,\" \",referentes!AF673)))","v":"PROTOCERATIUM"},{"$f":"referentes!AG673","v":0}]
[null,null,null,null,null,null,null,null,null,null,null,null,null,null,null,{"$f":"IF(referentes!AC678=\"\",\"\",IF(referentes!AC678=referentes!AH678,CONCATENATE(referentes!AC678,\" \",\" \",\" \",\" \"),IF(referentes!AC678=referentes!AI678,CONCATENATE(referentes!AH678,\" \",referentes!AI678,\" \",\" \"),CONCATENATE(referentes!AH678,\" \",referentes!AI678,\" \",referentes!AC678))))","v":""},{"$f":"IF(referentes!AB678=\"\",\"\",referentes!AB678)","v":""},null,null,null,{"$f":"TRIM(UPPER(CONCATENATE(referentes!AH674,\" \",referentes!AI674,\" \",referentes!AJ674,\" \",referentes!AK674,\" \",referentes!AF674)))","v":"PROTOPERIDINIUM"},{"$f":"referentes!AG674","v":0}]
[null,null,null,null,null,null,null,null,null,null,null,null,null,null,null,{"$f":"IF(referentes!AC679=\"\",\"\",IF(referentes!AC679=referentes!AH679,CONCATENATE(referentes!AC679,\" \",\" \",\" \",\" \"),IF(referentes!AC679=referentes!AI679,CONCATENATE(referentes!AH679,\" \",referentes!AI679,\" \",\" \"),CONCATENATE(referentes!AH679,\" \",referentes!AI679,\" \",referentes!AC679))))","v":""},{"$f":"IF(referentes!AB679=\"\",\"\",referentes!AB679)","v":""},null,null,null,{"$f":"TRIM(UPPER(CONCATENATE(referentes!AH675,\" \",referentes!AI675,\" \",referentes!AJ675,\" \",referentes!AK675,\" \",referentes!AF675)))","v":"PROTOPERIDINIUM ABEI"},{"$f":"referentes!AG675","v":0}]
[null,null,null,null,null,null,null,null,null,null,null,null,null,null,null,{"$f":"IF(referentes!AC680=\"\",\"\",IF(referentes!AC680=referentes!AH680,CONCATENATE(referentes!AC680,\" \",\" \",\" \",\" \"),IF(referentes!AC680=referentes!AI680,CONCATENATE(referentes!AH680,\" \",referentes!AI680,\" \",\" \"),CONCATENATE(referentes!AH680,\" \",referentes!AI680,\" \",referentes!AC680))))","v":""},{"$f":"IF(referentes!AB680=\"\",\"\",referentes!AB680)","v":""},null,null,null,{"$f":"TRIM(UPPER(CONCATENATE(referentes!AH676,\" \",referentes!AI676,\" \",referentes!AJ676,\" \",referentes!AK676,\" \",referentes!AF676)))","v":"PROTOPERIDINIUM ASPIDIOTUM"},{"$f":"referentes!AG676","v":0}]
[null,null,null,null,null,null,null,null,null,null,null,null,null,null,null,{"$f":"IF(referentes!AC681=\"\",\"\",IF(referentes!AC681=referentes!AH681,CONCATENATE(referentes!AC681,\" \",\" \",\" \",\" \"),IF(referentes!AC681=referentes!AI681,CONCATENATE(referentes!AH681,\" \",referentes!AI681,\" \",\" \"),CONCATENATE(referentes!AH681,\" \",referentes!AI681,\" \",referentes!AC681))))","v":""},{"$f":"IF(referentes!AB681=\"\",\"\",referentes!AB681)","v":""},null,null,null,{"$f":"TRIM(UPPER(CONCATENATE(referentes!AH677,\" \",referentes!AI677,\" \",referentes!AJ677,\" \",referentes!AK677,\" \",referentes!AF677)))","v":"PROTOPERIDINIUM BALECHII"},{"$f":"referentes!AG677","v":0}]
[null,null,null,null,null,null,null,null,null,null,null,null,null,null,null,{"$f":"IF(referentes!AC682=\"\",\"\",IF(referentes!AC682=referentes!AH682,CONCATENATE(referentes!AC682,\" \",\" \",\" \",\" \"),IF(referentes!AC682=referentes!AI682,CONCATENATE(referentes!AH682,\" \",referentes!AI682,\" \",\" \"),CONCATENATE(referentes!AH682,\" \",referentes!AI682,\" \",referentes!AC682))))","v":""},{"$f":"IF(referentes!AB682=\"\",\"\",referentes!AB682)","v":""},null,null,null,{"$f":"TRIM(UPPER(CONCATENATE(referentes!AH678,\" \",referentes!AI678,\" \",referentes!AJ678,\" \",referentes!AK678,\" \",referentes!AF678)))","v":"PROTOPERIDINIUM BIPES"},{"$f":"referentes!AG678","v":0}]
[null,null,null,null,null,null,null,null,null,null,null,null,null,null,null,{"$f":"IF(referentes!AC683=\"\",\"\",IF(referentes!AC683=referentes!AH683,CONCATENATE(referentes!AC683,\" \",\" \",\" \",\" \"),IF(referentes!AC683=referentes!AI683,CONCATENATE(referentes!AH683,\" \",referentes!AI683,\" \",\" \"),CONCATENATE(referentes!AH683,\" \",referentes!AI683,\" \",referentes!AC683))))","v":""},{"$f":"IF(referentes!AB683=\"\",\"\",referentes!AB683)","v":""},null,null,null,{"$f":"TRIM(UPPER(CONCATENATE(referentes!AH679,\" \",referentes!AI679,\" \",referentes!AJ679,\" \",referentes!AK679,\" \",referentes!AF679)))","v":"PROTOPERIDINIUM BROCHII"},{"$f":"referentes!AG679","v":0}]
[null,null,null,null,null,null,null,null,null,null,null,null,null,null,null,{"$f":"IF(referentes!AC684=\"\",\"\",IF(referentes!AC684=referentes!AH684,CONCATENATE(referentes!AC684,\" \",\" \",\" \",\" \"),IF(referentes!AC684=referentes!AI684,CONCATENATE(referentes!AH684,\" \",referentes!AI684,\" \",\" \"),CONCATENATE(referentes!AH684,\" \",referentes!AI684,\" \",referentes!AC684))))","v":""},{"$f":"IF(referentes!AB684=\"\",\"\",referentes!AB684)","v":""},null,null,null,{"$f":"TRIM(UPPER(CONCATENATE(referentes!AH680,\" \",referentes!AI680,\" \",referentes!AJ680,\" \",referentes!AK680,\" \",referentes!AF680)))","v":"PROTOPERIDINIUM CASSUM"},{"$f":"referentes!AG680","v":0}]
[null,null,null,null,null,null,null,null,null,null,null,null,null,null,null,{"$f":"IF(referentes!AC685=\"\",\"\",IF(referentes!AC685=referentes!AH685,CONCATENATE(referentes!AC685,\" \",\" \",\" \",\" \"),IF(referentes!AC685=referentes!AI685,CONCATENATE(referentes!AH685,\" \",referentes!AI685,\" \",\" \"),CONCATENATE(referentes!AH685,\" \",referentes!AI685,\" \",referentes!AC685))))","v":""},{"$f":"IF(referentes!AB685=\"\",\"\",referentes!AB685)","v":""},null,null,null,{"$f":"TRIM(UPPER(CONCATENATE(referentes!AH681,\" \",referentes!AI681,\" \",referentes!AJ681,\" \",referentes!AK681,\" \",referentes!AF681)))","v":"PROTOPERIDINIUM CLAUDICANS"},{"$f":"referentes!AG681","v":0}]
[null,null,null,null,null,null,null,null,null,null,null,null,null,null,null,{"$f":"IF(referentes!AC686=\"\",\"\",IF(referentes!AC686=referentes!AH686,CONCATENATE(referentes!AC686,\" \",\" \",\" \",\" \"),IF(referentes!AC686=referentes!AI686,CONCATENATE(referentes!AH686,\" \",referentes!AI686,\" \",\" \"),CONCATENATE(referentes!AH686,\" \",referentes!AI686,\" \",referentes!AC686))))","v":""},{"$f":"IF(referentes!AB686=\"\",\"\",referentes!AB686)","v":""},null,null,null,{"$f":"TRIM(UPPER(CONCATENATE(referentes!AH682,\" \",referentes!AI682,\" \",referentes!AJ682,\" \",referentes!AK682,\" \",referentes!AF682)))","v":"PROTOPERIDINIUM CONICUM"},{"$f":"referentes!AG682","v":0}]
[null,null,null,null,null,null,null,null,null,null,null,null,null,null,null,{"$f":"IF(referentes!AC687=\"\",\"\",IF(referentes!AC687=referentes!AH687,CONCATENATE(referentes!AC687,\" \",\" \",\" \",\" \"),IF(referentes!AC687=referentes!AI687,CONCATENATE(referentes!AH687,\" \",referentes!AI687,\" \",\" \"),CONCATENATE(referentes!AH687,\" \",referentes!AI687,\" \",referentes!AC687))))","v":""},{"$f":"IF(referentes!AB687=\"\",\"\",referentes!AB687)","v":""},null,null,null,{"$f":"TRIM(UPPER(CONCATENATE(referentes!AH683,\" \",referentes!AI683,\" \",referentes!AJ683,\" \",referentes!AK683,\" \",referentes!AF683)))","v":"PROTOPERIDINIUM CORNICULUM"},{"$f":"referentes!AG683","v":0}]
[null,null,null,null,null,null,null,null,null,null,null,null,null,null,null,{"$f":"IF(referentes!AC688=\"\",\"\",IF(referentes!AC688=referentes!AH688,CONCATENATE(referentes!AC688,\" \",\" \",\" \",\" \"),IF(referentes!AC688=referentes!AI688,CONCATENATE(referentes!AH688,\" \",referentes!AI688,\" \",\" \"),CONCATENATE(referentes!AH688,\" \",referentes!AI688,\" \",referentes!AC688))))","v":""},{"$f":"IF(referentes!AB688=\"\",\"\",referentes!AB688)","v":""},null,null,null,{"$f":"TRIM(UPPER(CONCATENATE(referentes!AH684,\" \",referentes!AI684,\" \",referentes!AJ684,\" \",referentes!AK684,\" \",referentes!AF684)))","v":"PROTOPERIDINIUM CRASSIPES"},{"$f":"referentes!AG684","v":0}]
[null,null,null,null,null,null,null,null,null,null,null,null,null,null,null,{"$f":"IF(referentes!AC689=\"\",\"\",IF(referentes!AC689=referentes!AH689,CONCATENATE(referentes!AC689,\" \",\" \",\" \",\" \"),IF(referentes!AC689=referentes!AI689,CONCATENATE(referentes!AH689,\" \",referentes!AI689,\" \",\" \"),CONCATENATE(referentes!AH689,\" \",referentes!AI689,\" \",referentes!AC689))))","v":""},{"$f":"IF(referentes!AB689=\"\",\"\",referentes!AB689)","v":""},null,null,null,{"$f":"TRIM(UPPER(CONCATENATE(referentes!AH685,\" \",referentes!AI685,\" \",referentes!AJ685,\" \",referentes!AK685,\" \",referentes!AF685)))","v":"PROTOPERIDINIUM CRISTATUM"},{"$f":"referentes!AG685","v":0}]
[null,null,null,null,null,null,null,null,null,null,null,null,null,null,null,{"$f":"IF(referentes!AC690=\"\",\"\",IF(referentes!AC690=referentes!AH690,CONCATENATE(referentes!AC690,\" \",\" \",\" \",\" \"),IF(referentes!AC690=referentes!AI690,CONCATENATE(referentes!AH690,\" \",referentes!AI690,\" \",\" \"),CONCATENATE(referentes!AH690,\" \",referentes!AI690,\" \",referentes!AC690))))","v":""},{"$f":"IF(referentes!AB690=\"\",\"\",referentes!AB690)","v":""},null,null,null,{"$f":"TRIM(UPPER(CONCATENATE(referentes!AH686,\" \",referentes!AI686,\" \",referentes!AJ686,\" \",referentes!AK686,\" \",referentes!AF686)))","v":"PROTOPERIDINIUM CURTIPES"},{"$f":"referentes!AG686","v":0}]
[null,null,null,null,null,null,null,null,null,null,null,null,null,null,null,{"$f":"IF(referentes!AC691=\"\",\"\",IF(referentes!AC691=referentes!AH691,CONCATENATE(referentes!AC691,\" \",\" \",\" \",\" \"),IF(referentes!AC691=referentes!AI691,CONCATENATE(referentes!AH691,\" \",referentes!AI691,\" \",\" \"),CONCATENATE(referentes!AH691,\" \",referentes!AI691,\" \",referentes!AC691))))","v":""},{"$f":"IF(referentes!AB691=\"\",\"\",referentes!AB691)","v":""},null,null,null,{"$f":"TRIM(UPPER(CONCATENATE(referentes!AH687,\" \",referentes!AI687,\" \",referentes!AJ687,\" \",referentes!AK687,\" \",referentes!AF687)))","v":"PROTOPERIDINIUM DEPRESSUM"},{"$f":"referentes!AG687","v":0}]
[null,null,null,null,null,null,null,null,null,null,null,null,null,null,null,{"$f":"IF(referentes!AC692=\"\",\"\",IF(referentes!AC692=referentes!AH692,CONCATENATE(referentes!AC692,\" \",\" \",\" \",\" \"),IF(referentes!AC692=referentes!AI692,CONCATENATE(referentes!AH692,\" \",referentes!AI692,\" \",\" \"),CONCATENATE(referentes!AH692,\" \",referentes!AI692,\" \",referentes!AC692))))","v":""},{"$f":"IF(referentes!AB692=\"\",\"\",referentes!AB692)","v":""},null,null,null,{"$f":"TRIM(UPPER(CONCATENATE(referentes!AH688,\" \",referentes!AI688,\" \",referentes!AJ688,\" \",referentes!AK688,\" \",referentes!AF688)))","v":"PROTOPERIDINIUM DIVERGENS"},{"$f":"referentes!AG688","v":0}]
[null,null,null,null,null,null,null,null,null,null,null,null,null,null,null,{"$f":"IF(referentes!AC693=\"\",\"\",IF(referentes!AC693=referentes!AH693,CONCATENATE(referentes!AC693,\" \",\" \",\" \",\" \"),IF(referentes!AC693=referentes!AI693,CONCATENATE(referentes!AH693,\" \",referentes!AI693,\" \",\" \"),CONCATENATE(referentes!AH693,\" \",referentes!AI693,\" \",referentes!AC693))))","v":""},{"$f":"IF(referentes!AB693=\"\",\"\",referentes!AB693)","v":""},null,null,null,{"$f":"TRIM(UPPER(CONCATENATE(referentes!AH689,\" \",referentes!AI689,\" \",referentes!AJ689,\" \",referentes!AK689,\" \",referentes!AF689)))","v":"PROTOPERIDINIUM ELEGANS"},{"$f":"referentes!AG689","v":0}]
[null,null,null,null,null,null,null,null,null,null,null,null,null,null,null,{"$f":"IF(referentes!AC694=\"\",\"\",IF(referentes!AC694=referentes!AH694,CONCATENATE(referentes!AC694,\" \",\" \",\" \",\" \"),IF(referentes!AC694=referentes!AI694,CONCATENATE(referentes!AH694,\" \",referentes!AI694,\" \",\" \"),CONCATENATE(referentes!AH694,\" \",referentes!AI694,\" \",referentes!AC694))))","v":""},{"$f":"IF(referentes!AB694=\"\",\"\",referentes!AB694)","v":""},null,null,null,{"$f":"TRIM(UPPER(CONCATENATE(referentes!AH690,\" \",referentes!AI690,\" \",referentes!AJ690,\" \",referentes!AK690,\" \",referentes!AF690)))","v":"PROTOPERIDINIUM EXAGERATUM"},{"$f":"referentes!AG690","v":0}]
[null,null,null,null,null,null,null,null,null,null,null,null,null,null,null,{"$f":"IF(referentes!AC695=\"\",\"\",IF(referentes!AC695=referentes!AH695,CONCATENATE(referentes!AC695,\" \",\" \",\" \",\" \"),IF(referentes!AC695=referentes!AI695,CONCATENATE(referentes!AH695,\" \",referentes!AI695,\" \",\" \"),CONCATENATE(referentes!AH695,\" \",referentes!AI695,\" \",referentes!AC695))))","v":""},{"$f":"IF(referentes!AB695=\"\",\"\",referentes!AB695)","v":""},null,null,null,{"$f":"TRIM(UPPER(CONCATENATE(referentes!AH691,\" \",referentes!AI691,\" \",referentes!AJ691,\" \",referentes!AK691,\" \",referentes!AF691)))","v":"PROTOPERIDINIUM GLOBULUS"},{"$f":"referentes!AG691","v":0}]
[null,null,null,null,null,null,null,null,null,null,null,null,null,null,null,{"$f":"IF(referentes!AC696=\"\",\"\",IF(referentes!AC696=referentes!AH696,CONCATENATE(referentes!AC696,\" \",\" \",\" \",\" \"),IF(referentes!AC696=referentes!AI696,CONCATENATE(referentes!AH696,\" \",referentes!AI696,\" \",\" \"),CONCATENATE(referentes!AH696,\" \",referentes!AI696,\" \",referentes!AC696))))","v":""},{"$f":"IF(referentes!AB696=\"\",\"\",referentes!AB696)","v":""},null,null,null,{"$f":"TRIM(UPPER(CONCATENATE(referentes!AH692,\" \",referentes!AI692,\" \",referentes!AJ692,\" \",referentes!AK692,\" \",referentes!AF692)))","v":"PROTOPERIDINIUM GRANDE"},{"$f":"referentes!AG692","v":0}]
[null,null,null,null,null,null,null,null,null,null,null,null,null,null,null,{"$f":"IF(referentes!AC697=\"\",\"\",IF(referentes!AC697=referentes!AH697,CONCATENATE(referentes!AC697,\" \",\" \",\" \",\" \"),IF(referentes!AC697=referentes!AI697,CONCATENATE(referentes!AH697,\" \",referentes!AI697,\" \",\" \"),CONCATENATE(referentes!AH697,\" \",referentes!AI697,\" \",referentes!AC697))))","v":""},{"$f":"IF(referentes!AB697=\"\",\"\",referentes!AB697)","v":""},null,null,null,{"$f":"TRIM(UPPER(CONCATENATE(referentes!AH693,\" \",referentes!AI693,\" \",referentes!AJ693,\" \",referentes!AK693,\" \",referentes!AF693)))","v":"PROTOPERIDINIUM GRANII"},{"$f":"referentes!AG693","v":0}]
[null,null,null,null,null,null,null,null,null,null,null,null,null,null,null,{"$f":"IF(referentes!AC698=\"\",\"\",IF(referentes!AC698=referentes!AH698,CONCATENATE(referentes!AC698,\" \",\" \",\" \",\" \"),IF(referentes!AC698=referentes!AI698,CONCATENATE(referentes!AH698,\" \",referentes!AI698,\" \",\" \"),CONCATENATE(referentes!AH698,\" \",referentes!AI698,\" \",referentes!AC698))))","v":""},{"$f":"IF(referentes!AB698=\"\",\"\",referentes!AB698)","v":""},null,null,null,{"$f":"TRIM(UPPER(CONCATENATE(referentes!AH694,\" \",referentes!AI694,\" \",referentes!AJ694,\" \",referentes!AK694,\" \",referentes!AF694)))","v":"PROTOPERIDINIUM HAMATUM"},{"$f":"referentes!AG694","v":0}]
[null,null,null,null,null,null,null,null,null,null,null,null,null,null,null,{"$f":"IF(referentes!AC699=\"\",\"\",IF(referentes!AC699=referentes!AH699,CONCATENATE(referentes!AC699,\" \",\" \",\" \",\" \"),IF(referentes!AC699=referentes!AI699,CONCATENATE(referentes!AH699,\" \",referentes!AI699,\" \",\" \"),CONCATENATE(referentes!AH699,\" \",referentes!AI699,\" \",referentes!AC699))))","v":""},{"$f":"IF(referentes!AB699=\"\",\"\",referentes!AB699)","v":""},null,null,null,{"$f":"TRIM(UPPER(CONCATENATE(referentes!AH695,\" \",referentes!AI695,\" \",referentes!AJ695,\" \",referentes!AK695,\" \",referentes!AF695)))","v":"PROTOPERIDINIUM HETEROCANTHUM"},{"$f":"referentes!AG695","v":0}]
[null,null,null,null,null,null,null,null,null,null,null,null,null,null,null,{"$f":"IF(referentes!AC700=\"\",\"\",IF(referentes!AC700=referentes!AH700,CONCATENATE(referentes!AC700,\" \",\" \",\" \",\" \"),IF(referentes!AC700=referentes!AI700,CONCATENATE(referentes!AH700,\" \",referentes!AI700,\" \",\" \"),CONCATENATE(referentes!AH700,\" \",referentes!AI700,\" \",referentes!AC700))))","v":""},{"$f":"IF(referentes!AB700=\"\",\"\",referentes!AB700)","v":""},null,null,null,{"$f":"TRIM(UPPER(CONCATENATE(referentes!AH696,\" \",referentes!AI696,\" \",referentes!AJ696,\" \",referentes!AK696,\" \",referentes!AF696)))","v":"PROTOPERIDINIUM HIROBIS"},{"$f":"referentes!AG696","v":0}]
[null,null,null,null,null,null,null,null,null,null,null,null,null,null,null,{"$f":"IF(referentes!AC701=\"\",\"\",IF(referentes!AC701=referentes!AH701,CONCATENATE(referentes!AC701,\" \",\" \",\" \",\" \"),IF(referentes!AC701=referentes!AI701,CONCATENATE(referentes!AH701,\" \",referentes!AI701,\" \",\" \"),CONCATENATE(referentes!AH701,\" \",referentes!AI701,\" \",referentes!AC701))))","v":""},{"$f":"IF(referentes!AB701=\"\",\"\",referentes!AB701)","v":""},null,null,null,{"$f":"TRIM(UPPER(CONCATENATE(referentes!AH697,\" \",referentes!AI697,\" \",referentes!AJ697,\" \",referentes!AK697,\" \",referentes!AF697)))","v":"PROTOPERIDINIUM LATIDORSALE"},{"$f":"referentes!AG697","v":0}]
[null,null,null,null,null,null,null,null,null,null,null,null,null,null,null,{"$f":"IF(referentes!AC702=\"\",\"\",IF(referentes!AC702=referentes!AH702,CONCATENATE(referentes!AC702,\" \",\" \",\" \",\" \"),IF(referentes!AC702=referentes!AI702,CONCATENATE(referentes!AH702,\" \",referentes!AI702,\" \",\" \"),CONCATENATE(referentes!AH702,\" \",referentes!AI702,\" \",referentes!AC702))))","v":""},{"$f":"IF(referentes!AB702=\"\",\"\",referentes!AB702)","v":""},null,null,null,{"$f":"TRIM(UPPER(CONCATENATE(referentes!AH698,\" \",referentes!AI698,\" \",referentes!AJ698,\" \",referentes!AK698,\" \",referentes!AF698)))","v":"PROTOPERIDINIUM LATISSIMUM"},{"$f":"referentes!AG698","v":0}]
[null,null,null,null,null,null,null,null,null,null,null,null,null,null,null,{"$f":"IF(referentes!AC703=\"\",\"\",IF(referentes!AC703=referentes!AH703,CONCATENATE(referentes!AC703,\" \",\" \",\" \",\" \"),IF(referentes!AC703=referentes!AI703,CONCATENATE(referentes!AH703,\" \",referentes!AI703,\" \",\" \"),CONCATENATE(referentes!AH703,\" \",referentes!AI703,\" \",referentes!AC703))))","v":""},{"$f":"IF(referentes!AB703=\"\",\"\",referentes!AB703)","v":""},null,null,null,{"$f":"TRIM(UPPER(CONCATENATE(referentes!AH699,\" \",referentes!AI699,\" \",referentes!AJ699,\" \",referentes!AK699,\" \",referentes!AF699)))","v":"PROTOPERIDINIUM LONGIPES"},{"$f":"referentes!AG699","v":0}]
[null,null,null,null,null,null,null,null,null,null,null,null,null,null,null,{"$f":"IF(referentes!AC704=\"\",\"\",IF(referentes!AC704=referentes!AH704,CONCATENATE(referentes!AC704,\" \",\" \",\" \",\" \"),IF(referentes!AC704=referentes!AI704,CONCATENATE(referentes!AH704,\" \",referentes!AI704,\" \",\" \"),CONCATENATE(referentes!AH704,\" \",referentes!AI704,\" \",referentes!AC704))))","v":""},{"$f":"IF(referentes!AB704=\"\",\"\",referentes!AB704)","v":""},null,null,null,{"$f":"TRIM(UPPER(CONCATENATE(referentes!AH700,\" \",referentes!AI700,\" \",referentes!AJ700,\" \",referentes!AK700,\" \",referentes!AF700)))","v":"PROTOPERIDINIUM MELO"},{"$f":"referentes!AG700","v":0}]
[null,null,null,null,null,null,null,null,null,null,null,null,null,null,null,{"$f":"IF(referentes!AC705=\"\",\"\",IF(referentes!AC705=referentes!AH705,CONCATENATE(referentes!AC705,\" \",\" \",\" \",\" \"),IF(referentes!AC705=referentes!AI705,CONCATENATE(referentes!AH705,\" \",referentes!AI705,\" \",\" \"),CONCATENATE(referentes!AH705,\" \",referentes!AI705,\" \",referentes!AC705))))","v":""},{"$f":"IF(referentes!AB705=\"\",\"\",referentes!AB705)","v":""},null,null,null,{"$f":"TRIM(UPPER(CONCATENATE(referentes!AH701,\" \",referentes!AI701,\" \",referentes!AJ701,\" \",referentes!AK701,\" \",referentes!AF701)))","v":"PROTOPERIDINIUM MITE"},{"$f":"referentes!AG701","v":0}]
[null,null,null,null,null,null,null,null,null,null,null,null,null,null,null,{"$f":"IF(referentes!AC706=\"\",\"\",IF(referentes!AC706=referentes!AH706,CONCATENATE(referentes!AC706,\" \",\" \",\" \",\" \"),IF(referentes!AC706=referentes!AI706,CONCATENATE(referentes!AH706,\" \",referentes!AI706,\" \",\" \"),CONCATENATE(referentes!AH706,\" \",referentes!AI706,\" \",referentes!AC706))))","v":""},{"$f":"IF(referentes!AB706=\"\",\"\",referentes!AB706)","v":""},null,null,null,{"$f":"TRIM(UPPER(CONCATENATE(referentes!AH702,\" \",referentes!AI702,\" \",referentes!AJ702,\" \",referentes!AK702,\" \",referentes!AF702)))","v":"PROTOPERIDINIUM NORPACENSE"},{"$f":"referentes!AG702","v":0}]
[null,null,null,null,null,null,null,null,null,null,null,null,null,null,null,{"$f":"IF(referentes!AC707=\"\",\"\",IF(referentes!AC707=referentes!AH707,CONCATENATE(referentes!AC707,\" \",\" \",\" \",\" \"),IF(referentes!AC707=referentes!AI707,CONCATENATE(referentes!AH707,\" \",referentes!AI707,\" \",\" \"),CONCATENATE(referentes!AH707,\" \",referentes!AI707,\" \",referentes!AC707))))","v":""},{"$f":"IF(referentes!AB707=\"\",\"\",referentes!AB707)","v":""},null,null,null,{"$f":"TRIM(UPPER(CONCATENATE(referentes!AH703,\" \",referentes!AI703,\" \",referentes!AJ703,\" \",referentes!AK703,\" \",referentes!AF703)))","v":"PROTOPERIDINIUM OBLONGUM"},{"$f":"referentes!AG703","v":0}]
[null,null,null,null,null,null,null,null,null,null,null,null,null,null,null,{"$f":"IF(referentes!AC708=\"\",\"\",IF(referentes!AC708=referentes!AH708,CONCATENATE(referentes!AC708,\" \",\" \",\" \",\" \"),IF(referentes!AC708=referentes!AI708,CONCATENATE(referentes!AH708,\" \",referentes!AI708,\" \",\" \"),CONCATENATE(referentes!AH708,\" \",referentes!AI708,\" \",referentes!AC708))))","v":""},{"$f":"IF(referentes!AB708=\"\",\"\",referentes!AB708)","v":""},null,null,null,{"$f":"TRIM(UPPER(CONCATENATE(referentes!AH704,\" \",referentes!AI704,\" \",referentes!AJ704,\" \",referentes!AK704,\" \",referentes!AF704)))","v":"PROTOPERIDINIUM OBTUSUM"},{"$f":"referentes!AG704","v":0}]
[null,null,null,null,null,null,null,null,null,null,null,null,null,null,null,{"$f":"IF(referentes!AC709=\"\",\"\",IF(referentes!AC709=referentes!AH709,CONCATENATE(referentes!AC709,\" \",\" \",\" \",\" \"),IF(referentes!AC709=referentes!AI709,CONCATENATE(referentes!AH709,\" \",referentes!AI709,\" \",\" \"),CONCATENATE(referentes!AH709,\" \",referentes!AI709,\" \",referentes!AC709))))","v":""},{"$f":"IF(referentes!AB709=\"\",\"\",referentes!AB709)","v":""},null,null,null,{"$f":"TRIM(UPPER(CONCATENATE(referentes!AH705,\" \",referentes!AI705,\" \",referentes!AJ705,\" \",referentes!AK705,\" \",referentes!AF705)))","v":"PROTOPERIDINIUM OCEANICUM"},{"$f":"referentes!AG705","v":0}]
[null,null,null,null,null,null,null,null,null,null,null,null,null,null,null,{"$f":"IF(referentes!AC710=\"\",\"\",IF(referentes!AC710=referentes!AH710,CONCATENATE(referentes!AC710,\" \",\" \",\" \",\" \"),IF(referentes!AC710=referentes!AI710,CONCATENATE(referentes!AH710,\" \",referentes!AI710,\" \",\" \"),CONCATENATE(referentes!AH710,\" \",referentes!AI710,\" \",referentes!AC710))))","v":""},{"$f":"IF(referentes!AB710=\"\",\"\",referentes!AB710)","v":""},null,null,null,{"$f":"TRIM(UPPER(CONCATENATE(referentes!AH706,\" \",referentes!AI706,\" \",referentes!AJ706,\" \",referentes!AK706,\" \",referentes!AF706)))","v":"PROTOPERIDINIUM OVATUM"},{"$f":"referentes!AG706","v":0}]
[null,null,null,null,null,null,null,null,null,null,null,null,null,null,null,{"$f":"IF(referentes!AC711=\"\",\"\",IF(referentes!AC711=referentes!AH711,CONCATENATE(referentes!AC711,\" \",\" \",\" \",\" \"),IF(referentes!AC711=referentes!AI711,CONCATENATE(referentes!AH711,\" \",referentes!AI711,\" \",\" \"),CONCATENATE(referentes!AH711,\" \",referentes!AI711,\" \",referentes!AC711))))","v":""},{"$f":"IF(referentes!AB711=\"\",\"\",referentes!AB711)","v":""},null,null,null,{"$f":"TRIM(UPPER(CONCATENATE(referentes!AH707,\" \",referentes!AI707,\" \",referentes!AJ707,\" \",referentes!AK707,\" \",referentes!AF707)))","v":"PROTOPERIDINIUM OVUM"},{"$f":"referentes!AG707","v":0}]
[null,null,null,null,null,null,null,null,null,null,null,null,null,null,null,{"$f":"IF(referentes!AC712=\"\",\"\",IF(referentes!AC712=referentes!AH712,CONCATENATE(referentes!AC712,\" \",\" \",\" \",\" \"),IF(referentes!AC712=referentes!AI712,CONCATENATE(referentes!AH712,\" \",referentes!AI712,\" \",\" \"),CONCATENATE(referentes!AH712,\" \",referentes!AI712,\" \",referentes!AC712))))","v":""},{"$f":"IF(referentes!AB712=\"\",\"\",referentes!AB712)","v":""},null,null,null,{"$f":"TRIM(UPPER(CONCATENATE(referentes!AH708,\" \",referentes!AI708,\" \",referentes!AJ708,\" \",referentes!AK708,\" \",referentes!AF708)))","v":"PROTOPERIDINIUM PACIFICUM"},{"$f":"referentes!AG708","v":0}]
[null,null,null,null,null,null,null,null,null,null,null,null,null,null,null,{"$f":"IF(referentes!AC713=\"\",\"\",IF(referentes!AC713=referentes!AH713,CONCATENATE(referentes!AC713,\" \",\" \",\" \",\" \"),IF(referentes!AC713=referentes!AI713,CONCATENATE(referentes!AH713,\" \",referentes!AI713,\" \",\" \"),CONCATENATE(referentes!AH713,\" \",referentes!AI713,\" \",referentes!AC713))))","v":""},{"$f":"IF(referentes!AB713=\"\",\"\",referentes!AB713)","v":""},null,null,null,{"$f":"TRIM(UPPER(CONCATENATE(referentes!AH709,\" \",referentes!AI709,\" \",referentes!AJ709,\" \",referentes!AK709,\" \",referentes!AF709)))","v":"PROTOPERIDINIUM PELLUCIDUM"},{"$f":"referentes!AG709","v":0}]
[null,null,null,null,null,null,null,null,null,null,null,null,null,null,null,{"$f":"IF(referentes!AC714=\"\",\"\",IF(referentes!AC714=referentes!AH714,CONCATENATE(referentes!AC714,\" \",\" \",\" \",\" \"),IF(referentes!AC714=referentes!AI714,CONCATENATE(referentes!AH714,\" \",referentes!AI714,\" \",\" \"),CONCATENATE(referentes!AH714,\" \",referentes!AI714,\" \",referentes!AC714))))","v":""},{"$f":"IF(referentes!AB714=\"\",\"\",referentes!AB714)","v":""},null,null,null,{"$f":"TRIM(UPPER(CONCATENATE(referentes!AH710,\" \",referentes!AI710,\" \",referentes!AJ710,\" \",referentes!AK710,\" \",referentes!AF710)))","v":"PROTOPERIDINIUM PENTAGONUM"},{"$f":"referentes!AG710","v":0}]
[null,null,null,null,null,null,null,null,null,null,null,null,null,null,null,{"$f":"IF(referentes!AC715=\"\",\"\",IF(referentes!AC715=referentes!AH715,CONCATENATE(referentes!AC715,\" \",\" \",\" \",\" \"),IF(referentes!AC715=referentes!AI715,CONCATENATE(referentes!AH715,\" \",referentes!AI715,\" \",\" \"),CONCATENATE(referentes!AH715,\" \",referentes!AI715,\" \",referentes!AC715))))","v":""},{"$f":"IF(referentes!AB715=\"\",\"\",referentes!AB715)","v":""},null,null,null,{"$f":"TRIM(UPPER(CONCATENATE(referentes!AH711,\" \",referentes!AI711,\" \",referentes!AJ711,\" \",referentes!AK711,\" \",referentes!AF711)))","v":"PROTOPERIDINIUM PUNCTULATUM"},{"$f":"referentes!AG711","v":0}]
[null,null,null,null,null,null,null,null,null,null,null,null,null,null,null,{"$f":"IF(referentes!AC716=\"\",\"\",IF(referentes!AC716=referentes!AH716,CONCATENATE(referentes!AC716,\" \",\" \",\" \",\" \"),IF(referentes!AC716=referentes!AI716,CONCATENATE(referentes!AH716,\" \",referentes!AI716,\" \",\" \"),CONCATENATE(referentes!AH716,\" \",referentes!AI716,\" \",referentes!AC716))))","v":""},{"$f":"IF(referentes!AB716=\"\",\"\",referentes!AB716)","v":""},null,null,null,{"$f":"TRIM(UPPER(CONCATENATE(referentes!AH712,\" \",referentes!AI712,\" \",referentes!AJ712,\" \",referentes!AK712,\" \",referentes!AF712)))","v":"PROTOPERIDINIUM PYRUM"},{"$f":"referentes!AG712","v":0}]
[null,null,null,null,null,null,null,null,null,null,null,null,null,null,null,{"$f":"IF(referentes!AC717=\"\",\"\",IF(referentes!AC717=referentes!AH717,CONCATENATE(referentes!AC717,\" \",\" \",\" \",\" \"),IF(referentes!AC717=referentes!AI717,CONCATENATE(referentes!AH717,\" \",referentes!AI717,\" \",\" \"),CONCATENATE(referentes!AH717,\" \",referentes!AI717,\" \",referentes!AC717))))","v":""},{"$f":"IF(referentes!AB717=\"\",\"\",referentes!AB717)","v":""},null,null,null,{"$f":"TRIM(UPPER(CONCATENATE(referentes!AH713,\" \",referentes!AI713,\" \",referentes!AJ713,\" \",referentes!AK713,\" \",referentes!AF713)))","v":"PROTOPERIDINIUM QUARNERENSE"},{"$f":"referentes!AG713","v":0}]
[null,null,null,null,null,null,null,null,null,null,null,null,null,null,null,{"$f":"IF(referentes!AC718=\"\",\"\",IF(referentes!AC718=referentes!AH718,CONCATENATE(referentes!AC718,\" \",\" \",\" \",\" \"),IF(referentes!AC718=referentes!AI718,CONCATENATE(referentes!AH718,\" \",referentes!AI718,\" \",\" \"),CONCATENATE(referentes!AH718,\" \",referentes!AI718,\" \",referentes!AC718))))","v":""},{"$f":"IF(referentes!AB718=\"\",\"\",referentes!AB718)","v":""},null,null,null,{"$f":"TRIM(UPPER(CONCATENATE(referentes!AH714,\" \",referentes!AI714,\" \",referentes!AJ714,\" \",referentes!AK714,\" \",referentes!AF714)))","v":"PROTOPERIDINIUM RECTUM"},{"$f":"referentes!AG714","v":0}]
[null,null,null,null,null,null,null,null,null,null,null,null,null,null,null,{"$f":"IF(referentes!AC719=\"\",\"\",IF(referentes!AC719=referentes!AH719,CONCATENATE(referentes!AC719,\" \",\" \",\" \",\" \"),IF(referentes!AC719=referentes!AI719,CONCATENATE(referentes!AH719,\" \",referentes!AI719,\" \",\" \"),CONCATENATE(referentes!AH719,\" \",referentes!AI719,\" \",referentes!AC719))))","v":""},{"$f":"IF(referentes!AB719=\"\",\"\",referentes!AB719)","v":""},null,null,null,{"$f":"TRIM(UPPER(CONCATENATE(referentes!AH715,\" \",referentes!AI715,\" \",referentes!AJ715,\" \",referentes!AK715,\" \",referentes!AF715)))","v":"PROTOPERIDINIUM SIMULUM"},{"$f":"referentes!AG715","v":0}]
[null,null,null,null,null,null,null,null,null,null,null,null,null,null,null,{"$f":"IF(referentes!AC720=\"\",\"\",IF(referentes!AC720=referentes!AH720,CONCATENATE(referentes!AC720,\" \",\" \",\" \",\" \"),IF(referentes!AC720=referentes!AI720,CONCATENATE(referentes!AH720,\" \",referentes!AI720,\" \",\" \"),CONCATENATE(referentes!AH720,\" \",referentes!AI720,\" \",referentes!AC720))))","v":""},{"$f":"IF(referentes!AB720=\"\",\"\",referentes!AB720)","v":""},null,null,null,{"$f":"TRIM(UPPER(CONCATENATE(referentes!AH716,\" \",referentes!AI716,\" \",referentes!AJ716,\" \",referentes!AK716,\" \",referentes!AF716)))","v":"PROTOPERIDINIUM SOLIDICORNE"},{"$f":"referentes!AG716","v":0}]
[null,null,null,null,null,null,null,null,null,null,null,null,null,null,null,{"$f":"IF(referentes!AC721=\"\",\"\",IF(referentes!AC721=referentes!AH721,CONCATENATE(referentes!AC721,\" \",\" \",\" \",\" \"),IF(referentes!AC721=referentes!AI721,CONCATENATE(referentes!AH721,\" \",referentes!AI721,\" \",\" \"),CONCATENATE(referentes!AH721,\" \",referentes!AI721,\" \",referentes!AC721))))","v":""},{"$f":"IF(referentes!AB721=\"\",\"\",referentes!AB721)","v":""},null,null,null,{"$f":"TRIM(UPPER(CONCATENATE(referentes!AH717,\" \",referentes!AI717,\" \",referentes!AJ717,\" \",referentes!AK717,\" \",referentes!AF717)))","v":"PROTOPERIDINIUM SPHAERICUM"},{"$f":"referentes!AG717","v":0}]
[null,null,null,null,null,null,null,null,null,null,null,null,null,null,null,{"$f":"IF(referentes!AC722=\"\",\"\",IF(referentes!AC722=referentes!AH722,CONCATENATE(referentes!AC722,\" \",\" \",\" \",\" \"),IF(referentes!AC722=referentes!AI722,CONCATENATE(referentes!AH722,\" \",referentes!AI722,\" \",\" \"),CONCATENATE(referentes!AH722,\" \",referentes!AI722,\" \",referentes!AC722))))","v":""},{"$f":"IF(referentes!AB722=\"\",\"\",referentes!AB722)","v":""},null,null,null,{"$f":"TRIM(UPPER(CONCATENATE(referentes!AH718,\" \",referentes!AI718,\" \",referentes!AJ718,\" \",referentes!AK718,\" \",referentes!AF718)))","v":"PROTOPERIDINIUM STEIDINGERAE"},{"$f":"referentes!AG718","v":0}]
[null,null,null,null,null,null,null,null,null,null,null,null,null,null,null,{"$f":"IF(referentes!AC723=\"\",\"\",IF(referentes!AC723=referentes!AH723,CONCATENATE(referentes!AC723,\" \",\" \",\" \",\" \"),IF(referentes!AC723=referentes!AI723,CONCATENATE(referentes!AH723,\" \",referentes!AI723,\" \",\" \"),CONCATENATE(referentes!AH723,\" \",referentes!AI723,\" \",referentes!AC723))))","v":""},{"$f":"IF(referentes!AB723=\"\",\"\",referentes!AB723)","v":""},null,null,null,{"$f":"TRIM(UPPER(CONCATENATE(referentes!AH719,\" \",referentes!AI719,\" \",referentes!AJ719,\" \",referentes!AK719,\" \",referentes!AF719)))","v":"PROTOPERIDINIUM STEINII"},{"$f":"referentes!AG719","v":0}]
[null,null,null,null,null,null,null,null,null,null,null,null,null,null,null,{"$f":"IF(referentes!AC724=\"\",\"\",IF(referentes!AC724=referentes!AH724,CONCATENATE(referentes!AC724,\" \",\" \",\" \",\" \"),IF(referentes!AC724=referentes!AI724,CONCATENATE(referentes!AH724,\" \",referentes!AI724,\" \",\" \"),CONCATENATE(referentes!AH724,\" \",referentes!AI724,\" \",referentes!AC724))))","v":""},{"$f":"IF(referentes!AB724=\"\",\"\",referentes!AB724)","v":""},null,null,null,{"$f":"TRIM(UPPER(CONCATENATE(referentes!AH720,\" \",referentes!AI720,\" \",referentes!AJ720,\" \",referentes!AK720,\" \",referentes!AF720)))","v":"PROTOPERIDINIUM SUBINERME"},{"$f":"referentes!AG720","v":0}]
[null,null,null,null,null,null,null,null,null,null,null,null,null,null,null,{"$f":"IF(referentes!AC725=\"\",\"\",IF(referentes!AC725=referentes!AH725,CONCATENATE(referentes!AC725,\" \",\" \",\" \",\" \"),IF(referentes!AC725=referentes!AI725,CONCATENATE(referentes!AH725,\" \",referentes!AI725,\" \",\" \"),CONCATENATE(referentes!AH725,\" \",referentes!AI725,\" \",referentes!AC725))))","v":""},{"$f":"IF(referentes!AB725=\"\",\"\",referentes!AB725)","v":""},null,null,null,{"$f":"TRIM(UPPER(CONCATENATE(referentes!AH721,\" \",referentes!AI721,\" \",referentes!AJ721,\" \",referentes!AK721,\" \",referentes!AF721)))","v":"PROTOPERIDINIUM SUBPYRIFORME"},{"$f":"referentes!AG721","v":0}]
[null,null,null,null,null,null,null,null,null,null,null,null,null,null,null,{"$f":"IF(referentes!AC726=\"\",\"\",IF(referentes!AC726=referentes!AH726,CONCATENATE(referentes!AC726,\" \",\" \",\" \",\" \"),IF(referentes!AC726=referentes!AI726,CONCATENATE(referentes!AH726,\" \",referentes!AI726,\" \",\" \"),CONCATENATE(referentes!AH726,\" \",referentes!AI726,\" \",referentes!AC726))))","v":""},{"$f":"IF(referentes!AB726=\"\",\"\",referentes!AB726)","v":""},null,null,null,{"$f":"TRIM(UPPER(CONCATENATE(referentes!AH722,\" \",referentes!AI722,\" \",referentes!AJ722,\" \",referentes!AK722,\" \",referentes!AF722)))","v":"PROTOPERIDINIUM SUBSPHAERICUM"},{"$f":"referentes!AG722","v":0}]
[null,null,null,null,null,null,null,null,null,null,null,null,null,null,null,{"$f":"IF(referentes!AC727=\"\",\"\",IF(referentes!AC727=referentes!AH727,CONCATENATE(referentes!AC727,\" \",\" \",\" \",\" \"),IF(referentes!AC727=referentes!AI727,CONCATENATE(referentes!AH727,\" \",referentes!AI727,\" \",\" \"),CONCATENATE(referentes!AH727,\" \",referentes!AI727,\" \",referentes!AC727))))","v":""},{"$f":"IF(referentes!AB727=\"\",\"\",referentes!AB727)","v":""},null,null,null,{"$f":"TRIM(UPPER(CONCATENATE(referentes!AH723,\" \",referentes!AI723,\" \",referentes!AJ723,\" \",referentes!AK723,\" \",referentes!AF723)))","v":"PROTOPERIDINIUM SYMMETRICUM"},{"$f":"referentes!AG723","v":0}]
[null,null,null,null,null,null,null,null,null,null,null,null,null,null,null,{"$f":"IF(referentes!AC728=\"\",\"\",IF(referentes!AC728=referentes!AH728,CONCATENATE(referentes!AC728,\" \",\" \",\" \",\" \"),IF(referentes!AC728=referentes!AI728,CONCATENATE(referentes!AH728,\" \",referentes!AI728,\" \",\" \"),CONCATENATE(referentes!AH728,\" \",referentes!AI728,\" \",referentes!AC728))))","v":""},{"$f":"IF(referentes!AB728=\"\",\"\",referentes!AB728)","v":""},null,null,null,{"$f":"TRIM(UPPER(CONCATENATE(referentes!AH724,\" \",referentes!AI724,\" \",referentes!AJ724,\" \",referentes!AK724,\" \",referentes!AF724)))","v":"PROTOPERIDINIUM UNIPES"},{"$f":"referentes!AG724","v":0}]
[null,null,null,null,null,null,null,null,null,null,null,null,null,null,null,{"$f":"IF(referentes!AC729=\"\",\"\",IF(referentes!AC729=referentes!AH729,CONCATENATE(referentes!AC729,\" \",\" \",\" \",\" \"),IF(referentes!AC729=referentes!AI729,CONCATENATE(referentes!AH729,\" \",referentes!AI729,\" \",\" \"),CONCATENATE(referentes!AH729,\" \",referentes!AI729,\" \",referentes!AC729))))","v":""},{"$f":"IF(referentes!AB729=\"\",\"\",referentes!AB729)","v":""},null,null,null,{"$f":"TRIM(UPPER(CONCATENATE(referentes!AH725,\" \",referentes!AI725,\" \",referentes!AJ725,\" \",referentes!AK725,\" \",referentes!AF725)))","v":"PROTOPERIDINIUM VENUSTUM"},{"$f":"referentes!AG725","v":0}]
[null,null,null,null,null,null,null,null,null,null,null,null,null,null,null,{"$f":"IF(referentes!AC730=\"\",\"\",IF(referentes!AC730=referentes!AH730,CONCATENATE(referentes!AC730,\" \",\" \",\" \",\" \"),IF(referentes!AC730=referentes!AI730,CONCATENATE(referentes!AH730,\" \",referentes!AI730,\" \",\" \"),CONCATENATE(referentes!AH730,\" \",referentes!AI730,\" \",referentes!AC730))))","v":""},{"$f":"IF(referentes!AB730=\"\",\"\",referentes!AB730)","v":""},null,null,null,{"$f":"TRIM(UPPER(CONCATENATE(referentes!AH726,\" \",referentes!AI726,\" \",referentes!AJ726,\" \",referentes!AK726,\" \",referentes!AF726)))","v":"PROTOPERIDINIUM VULGARE"},{"$f":"referentes!AG726","v":0}]
[null,null,null,null,null,null,null,null,null,null,null,null,null,null,null,{"$f":"IF(referentes!AC731=\"\",\"\",IF(referentes!AC731=referentes!AH731,CONCATENATE(referentes!AC731,\" \",\" \",\" \",\" \"),IF(referentes!AC731=referentes!AI731,CONCATENATE(referentes!AH731,\" \",referentes!AI731,\" \",\" \"),CONCATENATE(referentes!AH731,\" \",referentes!AI731,\" \",referentes!AC731))))","v":""},{"$f":"IF(referentes!AB731=\"\",\"\",referentes!AB731)","v":""},null,null,null,{"$f":"TRIM(UPPER(CONCATENATE(referentes!AH727,\" \",referentes!AI727,\" \",referentes!AJ727,\" \",referentes!AK727,\" \",referentes!AF727)))","v":"PROTOPERIDINIUM WIESNERI"},{"$f":"referentes!AG727","v":0}]
[null,null,null,null,null,null,null,null,null,null,null,null,null,null,null,{"$f":"IF(referentes!AC732=\"\",\"\",IF(referentes!AC732=referentes!AH732,CONCATENATE(referentes!AC732,\" \",\" \",\" \",\" \"),IF(referentes!AC732=referentes!AI732,CONCATENATE(referentes!AH732,\" \",referentes!AI732,\" \",\" \"),CONCATENATE(referentes!AH732,\" \",referentes!AI732,\" \",referentes!AC732))))","v":""},{"$f":"IF(referentes!AB732=\"\",\"\",referentes!AB732)","v":""},null,null,null,{"$f":"TRIM(UPPER(CONCATENATE(referentes!AH728,\" \",referentes!AI728,\" \",referentes!AJ728,\" \",referentes!AK728,\" \",referentes!AF728)))","v":"PRYMNESIUM"},{"$f":"referentes!AG728","v":0}]
[null,null,null,null,null,null,null,null,null,null,null,null,null,null,null,{"$f":"IF(referentes!AC733=\"\",\"\",IF(referentes!AC733=referentes!AH733,CONCATENATE(referentes!AC733,\" \",\" \",\" \",\" \"),IF(referentes!AC733=referentes!AI733,CONCATENATE(referentes!AH733,\" \",referentes!AI733,\" \",\" \"),CONCATENATE(referentes!AH733,\" \",referentes!AI733,\" \",referentes!AC733))))","v":""},{"$f":"IF(referentes!AB733=\"\",\"\",referentes!AB733)","v":""},null,null,null,{"$f":"TRIM(UPPER(CONCATENATE(referentes!AH729,\" \",referentes!AI729,\" \",referentes!AJ729,\" \",referentes!AK729,\" \",referentes!AF729)))","v":"PSAMMODICTYON"},{"$f":"referentes!AG729","v":0}]
[null,null,null,null,null,null,null,null,null,null,null,null,null,null,null,{"$f":"IF(referentes!AC734=\"\",\"\",IF(referentes!AC734=referentes!AH734,CONCATENATE(referentes!AC734,\" \",\" \",\" \",\" \"),IF(referentes!AC734=referentes!AI734,CONCATENATE(referentes!AH734,\" \",referentes!AI734,\" \",\" \"),CONCATENATE(referentes!AH734,\" \",referentes!AI734,\" \",referentes!AC734))))","v":""},{"$f":"IF(referentes!AB734=\"\",\"\",referentes!AB734)","v":""},null,null,null,{"$f":"TRIM(UPPER(CONCATENATE(referentes!AH730,\" \",referentes!AI730,\" \",referentes!AJ730,\" \",referentes!AK730,\" \",referentes!AF730)))","v":"PSAMMODICTYON PANDURIFORME"},{"$f":"referentes!AG730","v":0}]
[null,null,null,null,null,null,null,null,null,null,null,null,null,null,null,{"$f":"IF(referentes!AC735=\"\",\"\",IF(referentes!AC735=referentes!AH735,CONCATENATE(referentes!AC735,\" \",\" \",\" \",\" \"),IF(referentes!AC735=referentes!AI735,CONCATENATE(referentes!AH735,\" \",referentes!AI735,\" \",\" \"),CONCATENATE(referentes!AH735,\" \",referentes!AI735,\" \",referentes!AC735))))","v":""},{"$f":"IF(referentes!AB735=\"\",\"\",referentes!AB735)","v":""},null,null,null,{"$f":"TRIM(UPPER(CONCATENATE(referentes!AH731,\" \",referentes!AI731,\" \",referentes!AJ731,\" \",referentes!AK731,\" \",referentes!AF731)))","v":"PSEUDANABAENA"},{"$f":"referentes!AG731","v":0}]
[null,null,null,null,null,null,null,null,null,null,null,null,null,null,null,{"$f":"IF(referentes!AC736=\"\",\"\",IF(referentes!AC736=referentes!AH736,CONCATENATE(referentes!AC736,\" \",\" \",\" \",\" \"),IF(referentes!AC736=referentes!AI736,CONCATENATE(referentes!AH736,\" \",referentes!AI736,\" \",\" \"),CONCATENATE(referentes!AH736,\" \",referentes!AI736,\" \",referentes!AC736))))","v":""},{"$f":"IF(referentes!AB736=\"\",\"\",referentes!AB736)","v":""},null,null,null,{"$f":"TRIM(UPPER(CONCATENATE(referentes!AH732,\" \",referentes!AI732,\" \",referentes!AJ732,\" \",referentes!AK732,\" \",referentes!AF732)))","v":"PSEUDANABAENA ACICULARIS"},{"$f":"referentes!AG732","v":0}]
[null,null,null,null,null,null,null,null,null,null,null,null,null,null,null,{"$f":"IF(referentes!AC737=\"\",\"\",IF(referentes!AC737=referentes!AH737,CONCATENATE(referentes!AC737,\" \",\" \",\" \",\" \"),IF(referentes!AC737=referentes!AI737,CONCATENATE(referentes!AH737,\" \",referentes!AI737,\" \",\" \"),CONCATENATE(referentes!AH737,\" \",referentes!AI737,\" \",referentes!AC737))))","v":""},{"$f":"IF(referentes!AB737=\"\",\"\",referentes!AB737)","v":""},null,null,null,{"$f":"TRIM(UPPER(CONCATENATE(referentes!AH733,\" \",referentes!AI733,\" \",referentes!AJ733,\" \",referentes!AK733,\" \",referentes!AF733)))","v":"PSEUDO-NITZSCHIA"},{"$f":"referentes!AG733","v":0}]
[null,null,null,null,null,null,null,null,null,null,null,null,null,null,null,{"$f":"IF(referentes!AC738=\"\",\"\",IF(referentes!AC738=referentes!AH738,CONCATENATE(referentes!AC738,\" \",\" \",\" \",\" \"),IF(referentes!AC738=referentes!AI738,CONCATENATE(referentes!AH738,\" \",referentes!AI738,\" \",\" \"),CONCATENATE(referentes!AH738,\" \",referentes!AI738,\" \",referentes!AC738))))","v":""},{"$f":"IF(referentes!AB738=\"\",\"\",referentes!AB738)","v":""},null,null,null,{"$f":"TRIM(UPPER(CONCATENATE(referentes!AH734,\" \",referentes!AI734,\" \",referentes!AJ734,\" \",referentes!AK734,\" \",referentes!AF734)))","v":"PSEUDO-NITZSCHIA PUNGENS"},{"$f":"referentes!AG734","v":0}]
[null,null,null,null,null,null,null,null,null,null,null,null,null,null,null,{"$f":"IF(referentes!AC739=\"\",\"\",IF(referentes!AC739=referentes!AH739,CONCATENATE(referentes!AC739,\" \",\" \",\" \",\" \"),IF(referentes!AC739=referentes!AI739,CONCATENATE(referentes!AH739,\" \",referentes!AI739,\" \",\" \"),CONCATENATE(referentes!AH739,\" \",referentes!AI739,\" \",referentes!AC739))))","v":""},{"$f":"IF(referentes!AB739=\"\",\"\",referentes!AB739)","v":""},null,null,null,{"$f":"TRIM(UPPER(CONCATENATE(referentes!AH735,\" \",referentes!AI735,\" \",referentes!AJ735,\" \",referentes!AK735,\" \",referentes!AF735)))","v":"PSEUDO-NITZSCHIA SERIATA"},{"$f":"referentes!AG735","v":0}]
[null,null,null,null,null,null,null,null,null,null,null,null,null,null,null,{"$f":"IF(referentes!AC740=\"\",\"\",IF(referentes!AC740=referentes!AH740,CONCATENATE(referentes!AC740,\" \",\" \",\" \",\" \"),IF(referentes!AC740=referentes!AI740,CONCATENATE(referentes!AH740,\" \",referentes!AI740,\" \",\" \"),CONCATENATE(referentes!AH740,\" \",referentes!AI740,\" \",referentes!AC740))))","v":""},{"$f":"IF(referentes!AB740=\"\",\"\",referentes!AB740)","v":""},null,null,null,{"$f":"TRIM(UPPER(CONCATENATE(referentes!AH736,\" \",referentes!AI736,\" \",referentes!AJ736,\" \",referentes!AK736,\" \",referentes!AF736)))","v":"PSEUDOGUINARDIA"},{"$f":"referentes!AG736","v":0}]
[null,null,null,null,null,null,null,null,null,null,null,null,null,null,null,{"$f":"IF(referentes!AC741=\"\",\"\",IF(referentes!AC741=referentes!AH741,CONCATENATE(referentes!AC741,\" \",\" \",\" \",\" \"),IF(referentes!AC741=referentes!AI741,CONCATENATE(referentes!AH741,\" \",referentes!AI741,\" \",\" \"),CONCATENATE(referentes!AH741,\" \",referentes!AI741,\" \",referentes!AC741))))","v":""},{"$f":"IF(referentes!AB741=\"\",\"\",referentes!AB741)","v":""},null,null,null,{"$f":"TRIM(UPPER(CONCATENATE(referentes!AH737,\" \",referentes!AI737,\" \",referentes!AJ737,\" \",referentes!AK737,\" \",referentes!AF737)))","v":"PSEUDOGUINARDIA RECTA"},{"$f":"referentes!AG737","v":0}]
[null,null,null,null,null,null,null,null,null,null,null,null,null,null,null,{"$f":"IF(referentes!AC742=\"\",\"\",IF(referentes!AC742=referentes!AH742,CONCATENATE(referentes!AC742,\" \",\" \",\" \",\" \"),IF(referentes!AC742=referentes!AI742,CONCATENATE(referentes!AH742,\" \",referentes!AI742,\" \",\" \"),CONCATENATE(referentes!AH742,\" \",referentes!AI742,\" \",referentes!AC742))))","v":""},{"$f":"IF(referentes!AB742=\"\",\"\",referentes!AB742)","v":""},null,null,null,{"$f":"TRIM(UPPER(CONCATENATE(referentes!AH738,\" \",referentes!AI738,\" \",referentes!AJ738,\" \",referentes!AK738,\" \",referentes!AF738)))","v":"PSEUDONITZSCHIA"},{"$f":"referentes!AG738","v":0}]
[null,null,null,null,null,null,null,null,null,null,null,null,null,null,null,{"$f":"IF(referentes!AC743=\"\",\"\",IF(referentes!AC743=referentes!AH743,CONCATENATE(referentes!AC743,\" \",\" \",\" \",\" \"),IF(referentes!AC743=referentes!AI743,CONCATENATE(referentes!AH743,\" \",referentes!AI743,\" \",\" \"),CONCATENATE(referentes!AH743,\" \",referentes!AI743,\" \",referentes!AC743))))","v":""},{"$f":"IF(referentes!AB743=\"\",\"\",referentes!AB743)","v":""},null,null,null,{"$f":"TRIM(UPPER(CONCATENATE(referentes!AH739,\" \",referentes!AI739,\" \",referentes!AJ739,\" \",referentes!AK739,\" \",referentes!AF739)))","v":"PSEUDOSOLENIA"},{"$f":"referentes!AG739","v":0}]
[null,null,null,null,null,null,null,null,null,null,null,null,null,null,null,{"$f":"IF(referentes!AC744=\"\",\"\",IF(referentes!AC744=referentes!AH744,CONCATENATE(referentes!AC744,\" \",\" \",\" \",\" \"),IF(referentes!AC744=referentes!AI744,CONCATENATE(referentes!AH744,\" \",referentes!AI744,\" \",\" \"),CONCATENATE(referentes!AH744,\" \",referentes!AI744,\" \",referentes!AC744))))","v":""},{"$f":"IF(referentes!AB744=\"\",\"\",referentes!AB744)","v":""},null,null,null,{"$f":"TRIM(UPPER(CONCATENATE(referentes!AH740,\" \",referentes!AI740,\" \",referentes!AJ740,\" \",referentes!AK740,\" \",referentes!AF740)))","v":"PSEUDOSOLENIA CALCAR-AVIS"},{"$f":"referentes!AG740","v":0}]
[null,null,null,null,null,null,null,null,null,null,null,null,null,null,null,{"$f":"IF(referentes!AC745=\"\",\"\",IF(referentes!AC745=referentes!AH745,CONCATENATE(referentes!AC745,\" \",\" \",\" \",\" \"),IF(referentes!AC745=referentes!AI745,CONCATENATE(referentes!AH745,\" \",referentes!AI745,\" \",\" \"),CONCATENATE(referentes!AH745,\" \",referentes!AI745,\" \",referentes!AC745))))","v":""},{"$f":"IF(referentes!AB745=\"\",\"\",referentes!AB745)","v":""},null,null,null,{"$f":"TRIM(UPPER(CONCATENATE(referentes!AH741,\" \",referentes!AI741,\" \",referentes!AJ741,\" \",referentes!AK741,\" \",referentes!AF741)))","v":"PYRAMIMONAS"},{"$f":"referentes!AG741","v":0}]
[null,null,null,null,null,null,null,null,null,null,null,null,null,null,null,{"$f":"IF(referentes!AC746=\"\",\"\",IF(referentes!AC746=referentes!AH746,CONCATENATE(referentes!AC746,\" \",\" \",\" \",\" \"),IF(referentes!AC746=referentes!AI746,CONCATENATE(referentes!AH746,\" \",referentes!AI746,\" \",\" \"),CONCATENATE(referentes!AH746,\" \",referentes!AI746,\" \",referentes!AC746))))","v":""},{"$f":"IF(referentes!AB746=\"\",\"\",referentes!AB746)","v":""},null,null,null,{"$f":"TRIM(UPPER(CONCATENATE(referentes!AH742,\" \",referentes!AI742,\" \",referentes!AJ742,\" \",referentes!AK742,\" \",referentes!AF742)))","v":"PYROCYSTIS"},{"$f":"referentes!AG742","v":0}]
[null,null,null,null,null,null,null,null,null,null,null,null,null,null,null,{"$f":"IF(referentes!AC747=\"\",\"\",IF(referentes!AC747=referentes!AH747,CONCATENATE(referentes!AC747,\" \",\" \",\" \",\" \"),IF(referentes!AC747=referentes!AI747,CONCATENATE(referentes!AH747,\" \",referentes!AI747,\" \",\" \"),CONCATENATE(referentes!AH747,\" \",referentes!AI747,\" \",referentes!AC747))))","v":""},{"$f":"IF(referentes!AB747=\"\",\"\",referentes!AB747)","v":""},null,null,null,{"$f":"TRIM(UPPER(CONCATENATE(referentes!AH743,\" \",referentes!AI743,\" \",referentes!AJ743,\" \",referentes!AK743,\" \",referentes!AF743)))","v":"PYROCYSTIS FUSIFORMIS"},{"$f":"referentes!AG743","v":0}]
[null,null,null,null,null,null,null,null,null,null,null,null,null,null,null,{"$f":"IF(referentes!AC748=\"\",\"\",IF(referentes!AC748=referentes!AH748,CONCATENATE(referentes!AC748,\" \",\" \",\" \",\" \"),IF(referentes!AC748=referentes!AI748,CONCATENATE(referentes!AH748,\" \",referentes!AI748,\" \",\" \"),CONCATENATE(referentes!AH748,\" \",referentes!AI748,\" \",referentes!AC748))))","v":""},{"$f":"IF(referentes!AB748=\"\",\"\",referentes!AB748)","v":""},null,null,null,{"$f":"TRIM(UPPER(CONCATENATE(referentes!AH744,\" \",referentes!AI744,\" \",referentes!AJ744,\" \",referentes!AK744,\" \",referentes!AF744)))","v":"PYROCYSTIS HAMULUS"},{"$f":"referentes!AG744","v":0}]
[null,null,null,null,null,null,null,null,null,null,null,null,null,null,null,{"$f":"IF(referentes!AC749=\"\",\"\",IF(referentes!AC749=referentes!AH749,CONCATENATE(referentes!AC749,\" \",\" \",\" \",\" \"),IF(referentes!AC749=referentes!AI749,CONCATENATE(referentes!AH749,\" \",referentes!AI749,\" \",\" \"),CONCATENATE(referentes!AH749,\" \",referentes!AI749,\" \",referentes!AC749))))","v":""},{"$f":"IF(referentes!AB749=\"\",\"\",referentes!AB749)","v":""},null,null,null,{"$f":"TRIM(UPPER(CONCATENATE(referentes!AH745,\" \",referentes!AI745,\" \",referentes!AJ745,\" \",referentes!AK745,\" \",referentes!AF745)))","v":"PYROCYSTIS LUNULA"},{"$f":"referentes!AG745","v":0}]
[null,null,null,null,null,null,null,null,null,null,null,null,null,null,null,{"$f":"IF(referentes!AC750=\"\",\"\",IF(referentes!AC750=referentes!AH750,CONCATENATE(referentes!AC750,\" \",\" \",\" \",\" \"),IF(referentes!AC750=referentes!AI750,CONCATENATE(referentes!AH750,\" \",referentes!AI750,\" \",\" \"),CONCATENATE(referentes!AH750,\" \",referentes!AI750,\" \",referentes!AC750))))","v":""},{"$f":"IF(referentes!AB750=\"\",\"\",referentes!AB750)","v":""},null,null,null,{"$f":"TRIM(UPPER(CONCATENATE(referentes!AH746,\" \",referentes!AI746,\" \",referentes!AJ746,\" \",referentes!AK746,\" \",referentes!AF746)))","v":"PYROCYSTIS NOCTILUCA"},{"$f":"referentes!AG746","v":0}]
[null,null,null,null,null,null,null,null,null,null,null,null,null,null,null,{"$f":"IF(referentes!AC751=\"\",\"\",IF(referentes!AC751=referentes!AH751,CONCATENATE(referentes!AC751,\" \",\" \",\" \",\" \"),IF(referentes!AC751=referentes!AI751,CONCATENATE(referentes!AH751,\" \",referentes!AI751,\" \",\" \"),CONCATENATE(referentes!AH751,\" \",referentes!AI751,\" \",referentes!AC751))))","v":""},{"$f":"IF(referentes!AB751=\"\",\"\",referentes!AB751)","v":""},null,null,null,{"$f":"TRIM(UPPER(CONCATENATE(referentes!AH747,\" \",referentes!AI747,\" \",referentes!AJ747,\" \",referentes!AK747,\" \",referentes!AF747)))","v":"PYROCYSTIS ROBUSTA"},{"$f":"referentes!AG747","v":0}]
[null,null,null,null,null,null,null,null,null,null,null,null,null,null,null,{"$f":"IF(referentes!AC752=\"\",\"\",IF(referentes!AC752=referentes!AH752,CONCATENATE(referentes!AC752,\" \",\" \",\" \",\" \"),IF(referentes!AC752=referentes!AI752,CONCATENATE(referentes!AH752,\" \",referentes!AI752,\" \",\" \"),CONCATENATE(referentes!AH752,\" \",referentes!AI752,\" \",referentes!AC752))))","v":""},{"$f":"IF(referentes!AB752=\"\",\"\",referentes!AB752)","v":""},null,null,null,{"$f":"TRIM(UPPER(CONCATENATE(referentes!AH748,\" \",referentes!AI748,\" \",referentes!AJ748,\" \",referentes!AK748,\" \",referentes!AF748)))","v":"PYRODINIUM"},{"$f":"referentes!AG748","v":0}]
[null,null,null,null,null,null,null,null,null,null,null,null,null,null,null,{"$f":"IF(referentes!AC753=\"\",\"\",IF(referentes!AC753=referentes!AH753,CONCATENATE(referentes!AC753,\" \",\" \",\" \",\" \"),IF(referentes!AC753=referentes!AI753,CONCATENATE(referentes!AH753,\" \",referentes!AI753,\" \",\" \"),CONCATENATE(referentes!AH753,\" \",referentes!AI753,\" \",referentes!AC753))))","v":""},{"$f":"IF(referentes!AB753=\"\",\"\",referentes!AB753)","v":""},null,null,null,{"$f":"TRIM(UPPER(CONCATENATE(referentes!AH749,\" \",referentes!AI749,\" \",referentes!AJ749,\" \",referentes!AK749,\" \",referentes!AF749)))","v":"PYRODINIUM BAHAMENSE"},{"$f":"referentes!AG749","v":0}]
[null,null,null,null,null,null,null,null,null,null,null,null,null,null,null,{"$f":"IF(referentes!AC754=\"\",\"\",IF(referentes!AC754=referentes!AH754,CONCATENATE(referentes!AC754,\" \",\" \",\" \",\" \"),IF(referentes!AC754=referentes!AI754,CONCATENATE(referentes!AH754,\" \",referentes!AI754,\" \",\" \"),CONCATENATE(referentes!AH754,\" \",referentes!AI754,\" \",referentes!AC754))))","v":""},{"$f":"IF(referentes!AB754=\"\",\"\",referentes!AB754)","v":""},null,null,null,{"$f":"TRIM(UPPER(CONCATENATE(referentes!AH750,\" \",referentes!AI750,\" \",referentes!AJ750,\" \",referentes!AK750,\" \",referentes!AF750)))","v":"PYROPHACUS"},{"$f":"referentes!AG750","v":0}]
[null,null,null,null,null,null,null,null,null,null,null,null,null,null,null,{"$f":"IF(referentes!AC755=\"\",\"\",IF(referentes!AC755=referentes!AH755,CONCATENATE(referentes!AC755,\" \",\" \",\" \",\" \"),IF(referentes!AC755=referentes!AI755,CONCATENATE(referentes!AH755,\" \",referentes!AI755,\" \",\" \"),CONCATENATE(referentes!AH755,\" \",referentes!AI755,\" \",referentes!AC755))))","v":""},{"$f":"IF(referentes!AB755=\"\",\"\",referentes!AB755)","v":""},null,null,null,{"$f":"TRIM(UPPER(CONCATENATE(referentes!AH751,\" \",referentes!AI751,\" \",referentes!AJ751,\" \",referentes!AK751,\" \",referentes!AF751)))","v":"PYROPHACUS HOROLOGIUM"},{"$f":"referentes!AG751","v":0}]
[null,null,null,null,null,null,null,null,null,null,null,null,null,null,null,{"$f":"IF(referentes!AC756=\"\",\"\",IF(referentes!AC756=referentes!AH756,CONCATENATE(referentes!AC756,\" \",\" \",\" \",\" \"),IF(referentes!AC756=referentes!AI756,CONCATENATE(referentes!AH756,\" \",referentes!AI756,\" \",\" \"),CONCATENATE(referentes!AH756,\" \",referentes!AI756,\" \",referentes!AC756))))","v":""},{"$f":"IF(referentes!AB756=\"\",\"\",referentes!AB756)","v":""},null,null,null,{"$f":"TRIM(UPPER(CONCATENATE(referentes!AH752,\" \",referentes!AI752,\" \",referentes!AJ752,\" \",referentes!AK752,\" \",referentes!AF752)))","v":"PYROPHACUS STEINII"},{"$f":"referentes!AG752","v":0}]
[null,null,null,null,null,null,null,null,null,null,null,null,null,null,null,{"$f":"IF(referentes!AC757=\"\",\"\",IF(referentes!AC757=referentes!AH757,CONCATENATE(referentes!AC757,\" \",\" \",\" \",\" \"),IF(referentes!AC757=referentes!AI757,CONCATENATE(referentes!AH757,\" \",referentes!AI757,\" \",\" \"),CONCATENATE(referentes!AH757,\" \",referentes!AI757,\" \",referentes!AC757))))","v":""},{"$f":"IF(referentes!AB757=\"\",\"\",referentes!AB757)","v":""},null,null,null,{"$f":"TRIM(UPPER(CONCATENATE(referentes!AH753,\" \",referentes!AI753,\" \",referentes!AJ753,\" \",referentes!AK753,\" \",referentes!AF753)))","v":"RAPHIDIOPSIS"},{"$f":"referentes!AG753","v":0}]
[null,null,null,null,null,null,null,null,null,null,null,null,null,null,null,{"$f":"IF(referentes!AC758=\"\",\"\",IF(referentes!AC758=referentes!AH758,CONCATENATE(referentes!AC758,\" \",\" \",\" \",\" \"),IF(referentes!AC758=referentes!AI758,CONCATENATE(referentes!AH758,\" \",referentes!AI758,\" \",\" \"),CONCATENATE(referentes!AH758,\" \",referentes!AI758,\" \",referentes!AC758))))","v":""},{"$f":"IF(referentes!AB758=\"\",\"\",referentes!AB758)","v":""},null,null,null,{"$f":"TRIM(UPPER(CONCATENATE(referentes!AH754,\" \",referentes!AI754,\" \",referentes!AJ754,\" \",referentes!AK754,\" \",referentes!AF754)))","v":"RHABDONEMA"},{"$f":"referentes!AG754","v":0}]
[null,null,null,null,null,null,null,null,null,null,null,null,null,null,null,{"$f":"IF(referentes!AC759=\"\",\"\",IF(referentes!AC759=referentes!AH759,CONCATENATE(referentes!AC759,\" \",\" \",\" \",\" \"),IF(referentes!AC759=referentes!AI759,CONCATENATE(referentes!AH759,\" \",referentes!AI759,\" \",\" \"),CONCATENATE(referentes!AH759,\" \",referentes!AI759,\" \",referentes!AC759))))","v":""},{"$f":"IF(referentes!AB759=\"\",\"\",referentes!AB759)","v":""},null,null,null,{"$f":"TRIM(UPPER(CONCATENATE(referentes!AH755,\" \",referentes!AI755,\" \",referentes!AJ755,\" \",referentes!AK755,\" \",referentes!AF755)))","v":"RHABDONEMA ADRIATICUM"},{"$f":"referentes!AG755","v":0}]
[null,null,null,null,null,null,null,null,null,null,null,null,null,null,null,{"$f":"IF(referentes!AC760=\"\",\"\",IF(referentes!AC760=referentes!AH760,CONCATENATE(referentes!AC760,\" \",\" \",\" \",\" \"),IF(referentes!AC760=referentes!AI760,CONCATENATE(referentes!AH760,\" \",referentes!AI760,\" \",\" \"),CONCATENATE(referentes!AH760,\" \",referentes!AI760,\" \",referentes!AC760))))","v":""},{"$f":"IF(referentes!AB760=\"\",\"\",referentes!AB760)","v":""},null,null,null,{"$f":"TRIM(UPPER(CONCATENATE(referentes!AH756,\" \",referentes!AI756,\" \",referentes!AJ756,\" \",referentes!AK756,\" \",referentes!AF756)))","v":"RHABDONEMA PUNCTATUM"},{"$f":"referentes!AG756","v":0}]
[null,null,null,null,null,null,null,null,null,null,null,null,null,null,null,{"$f":"IF(referentes!AC761=\"\",\"\",IF(referentes!AC761=referentes!AH761,CONCATENATE(referentes!AC761,\" \",\" \",\" \",\" \"),IF(referentes!AC761=referentes!AI761,CONCATENATE(referentes!AH761,\" \",referentes!AI761,\" \",\" \"),CONCATENATE(referentes!AH761,\" \",referentes!AI761,\" \",referentes!AC761))))","v":""},{"$f":"IF(referentes!AB761=\"\",\"\",referentes!AB761)","v":""},null,null,null,{"$f":"TRIM(UPPER(CONCATENATE(referentes!AH757,\" \",referentes!AI757,\" \",referentes!AJ757,\" \",referentes!AK757,\" \",referentes!AF757)))","v":"RHIZOSOLENIA"},{"$f":"referentes!AG757","v":0}]
[null,null,null,null,null,null,null,null,null,null,null,null,null,null,null,{"$f":"IF(referentes!AC762=\"\",\"\",IF(referentes!AC762=referentes!AH762,CONCATENATE(referentes!AC762,\" \",\" \",\" \",\" \"),IF(referentes!AC762=referentes!AI762,CONCATENATE(referentes!AH762,\" \",referentes!AI762,\" \",\" \"),CONCATENATE(referentes!AH762,\" \",referentes!AI762,\" \",referentes!AC762))))","v":""},{"$f":"IF(referentes!AB762=\"\",\"\",referentes!AB762)","v":""},null,null,null,{"$f":"TRIM(UPPER(CONCATENATE(referentes!AH758,\" \",referentes!AI758,\" \",referentes!AJ758,\" \",referentes!AK758,\" \",referentes!AF758)))","v":"RHIZOSOLENIA ACUMINATA"},{"$f":"referentes!AG758","v":0}]
[null,null,null,null,null,null,null,null,null,null,null,null,null,null,null,{"$f":"IF(referentes!AC763=\"\",\"\",IF(referentes!AC763=referentes!AH763,CONCATENATE(referentes!AC763,\" \",\" \",\" \",\" \"),IF(referentes!AC763=referentes!AI763,CONCATENATE(referentes!AH763,\" \",referentes!AI763,\" \",\" \"),CONCATENATE(referentes!AH763,\" \",referentes!AI763,\" \",referentes!AC763))))","v":""},{"$f":"IF(referentes!AB763=\"\",\"\",referentes!AB763)","v":""},null,null,null,{"$f":"TRIM(UPPER(CONCATENATE(referentes!AH759,\" \",referentes!AI759,\" \",referentes!AJ759,\" \",referentes!AK759,\" \",referentes!AF759)))","v":"RHIZOSOLENIA BERGONII"},{"$f":"referentes!AG759","v":0}]
[null,null,null,null,null,null,null,null,null,null,null,null,null,null,null,{"$f":"IF(referentes!AC764=\"\",\"\",IF(referentes!AC764=referentes!AH764,CONCATENATE(referentes!AC764,\" \",\" \",\" \",\" \"),IF(referentes!AC764=referentes!AI764,CONCATENATE(referentes!AH764,\" \",referentes!AI764,\" \",\" \"),CONCATENATE(referentes!AH764,\" \",referentes!AI764,\" \",referentes!AC764))))","v":""},{"$f":"IF(referentes!AB764=\"\",\"\",referentes!AB764)","v":""},null,null,null,{"$f":"TRIM(UPPER(CONCATENATE(referentes!AH760,\" \",referentes!AI760,\" \",referentes!AJ760,\" \",referentes!AK760,\" \",referentes!AF760)))","v":"RHIZOSOLENIA CASTRACANEI"},{"$f":"referentes!AG760","v":0}]
[null,null,null,null,null,null,null,null,null,null,null,null,null,null,null,{"$f":"IF(referentes!AC765=\"\",\"\",IF(referentes!AC765=referentes!AH765,CONCATENATE(referentes!AC765,\" \",\" \",\" \",\" \"),IF(referentes!AC765=referentes!AI765,CONCATENATE(referentes!AH765,\" \",referentes!AI765,\" \",\" \"),CONCATENATE(referentes!AH765,\" \",referentes!AI765,\" \",referentes!AC765))))","v":""},{"$f":"IF(referentes!AB765=\"\",\"\",referentes!AB765)","v":""},null,null,null,{"$f":"TRIM(UPPER(CONCATENATE(referentes!AH761,\" \",referentes!AI761,\" \",referentes!AJ761,\" \",referentes!AK761,\" \",referentes!AF761)))","v":"RHIZOSOLENIA CLEVEI"},{"$f":"referentes!AG761","v":0}]
[null,null,null,null,null,null,null,null,null,null,null,null,null,null,null,{"$f":"IF(referentes!AC766=\"\",\"\",IF(referentes!AC766=referentes!AH766,CONCATENATE(referentes!AC766,\" \",\" \",\" \",\" \"),IF(referentes!AC766=referentes!AI766,CONCATENATE(referentes!AH766,\" \",referentes!AI766,\" \",\" \"),CONCATENATE(referentes!AH766,\" \",referentes!AI766,\" \",referentes!AC766))))","v":""},{"$f":"IF(referentes!AB766=\"\",\"\",referentes!AB766)","v":""},null,null,null,{"$f":"TRIM(UPPER(CONCATENATE(referentes!AH762,\" \",referentes!AI762,\" \",referentes!AJ762,\" \",referentes!AK762,\" \",referentes!AF762)))","v":"RHIZOSOLENIA FORMOSA"},{"$f":"referentes!AG762","v":0}]
[null,null,null,null,null,null,null,null,null,null,null,null,null,null,null,{"$f":"IF(referentes!AC767=\"\",\"\",IF(referentes!AC767=referentes!AH767,CONCATENATE(referentes!AC767,\" \",\" \",\" \",\" \"),IF(referentes!AC767=referentes!AI767,CONCATENATE(referentes!AH767,\" \",referentes!AI767,\" \",\" \"),CONCATENATE(referentes!AH767,\" \",referentes!AI767,\" \",referentes!AC767))))","v":""},{"$f":"IF(referentes!AB767=\"\",\"\",referentes!AB767)","v":""},null,null,null,{"$f":"TRIM(UPPER(CONCATENATE(referentes!AH763,\" \",referentes!AI763,\" \",referentes!AJ763,\" \",referentes!AK763,\" \",referentes!AF763)))","v":"RHIZOSOLENIA HEBETATA"},{"$f":"referentes!AG763","v":0}]
[null,null,null,null,null,null,null,null,null,null,null,null,null,null,null,{"$f":"IF(referentes!AC768=\"\",\"\",IF(referentes!AC768=referentes!AH768,CONCATENATE(referentes!AC768,\" \",\" \",\" \",\" \"),IF(referentes!AC768=referentes!AI768,CONCATENATE(referentes!AH768,\" \",referentes!AI768,\" \",\" \"),CONCATENATE(referentes!AH768,\" \",referentes!AI768,\" \",referentes!AC768))))","v":""},{"$f":"IF(referentes!AB768=\"\",\"\",referentes!AB768)","v":""},null,null,null,{"$f":"TRIM(UPPER(CONCATENATE(referentes!AH764,\" \",referentes!AI764,\" \",referentes!AJ764,\" \",referentes!AK764,\" \",referentes!AF764)))","v":"RHIZOSOLENIA HYALINA"},{"$f":"referentes!AG764","v":0}]
[null,null,null,null,null,null,null,null,null,null,null,null,null,null,null,{"$f":"IF(referentes!AC769=\"\",\"\",IF(referentes!AC769=referentes!AH769,CONCATENATE(referentes!AC769,\" \",\" \",\" \",\" \"),IF(referentes!AC769=referentes!AI769,CONCATENATE(referentes!AH769,\" \",referentes!AI769,\" \",\" \"),CONCATENATE(referentes!AH769,\" \",referentes!AI769,\" \",referentes!AC769))))","v":""},{"$f":"IF(referentes!AB769=\"\",\"\",referentes!AB769)","v":""},null,null,null,{"$f":"TRIM(UPPER(CONCATENATE(referentes!AH765,\" \",referentes!AI765,\" \",referentes!AJ765,\" \",referentes!AK765,\" \",referentes!AF765)))","v":"RHIZOSOLENIA IMBRICATA"},{"$f":"referentes!AG765","v":0}]
[null,null,null,null,null,null,null,null,null,null,null,null,null,null,null,{"$f":"IF(referentes!AC770=\"\",\"\",IF(referentes!AC770=referentes!AH770,CONCATENATE(referentes!AC770,\" \",\" \",\" \",\" \"),IF(referentes!AC770=referentes!AI770,CONCATENATE(referentes!AH770,\" \",referentes!AI770,\" \",\" \"),CONCATENATE(referentes!AH770,\" \",referentes!AI770,\" \",referentes!AC770))))","v":""},{"$f":"IF(referentes!AB770=\"\",\"\",referentes!AB770)","v":""},null,null,null,{"$f":"TRIM(UPPER(CONCATENATE(referentes!AH766,\" \",referentes!AI766,\" \",referentes!AJ766,\" \",referentes!AK766,\" \",referentes!AF766)))","v":"RHIZOSOLENIA POLYDACTYLA"},{"$f":"referentes!AG766","v":0}]
[null,null,null,null,null,null,null,null,null,null,null,null,null,null,null,{"$f":"IF(referentes!AC771=\"\",\"\",IF(referentes!AC771=referentes!AH771,CONCATENATE(referentes!AC771,\" \",\" \",\" \",\" \"),IF(referentes!AC771=referentes!AI771,CONCATENATE(referentes!AH771,\" \",referentes!AI771,\" \",\" \"),CONCATENATE(referentes!AH771,\" \",referentes!AI771,\" \",referentes!AC771))))","v":""},{"$f":"IF(referentes!AB771=\"\",\"\",referentes!AB771)","v":""},null,null,null,{"$f":"TRIM(UPPER(CONCATENATE(referentes!AH767,\" \",referentes!AI767,\" \",referentes!AJ767,\" \",referentes!AK767,\" \",referentes!AF767)))","v":"RHIZOSOLENIA SETIGERA"},{"$f":"referentes!AG767","v":0}]
[null,null,null,null,null,null,null,null,null,null,null,null,null,null,null,{"$f":"IF(referentes!AC772=\"\",\"\",IF(referentes!AC772=referentes!AH772,CONCATENATE(referentes!AC772,\" \",\" \",\" \",\" \"),IF(referentes!AC772=referentes!AI772,CONCATENATE(referentes!AH772,\" \",referentes!AI772,\" \",\" \"),CONCATENATE(referentes!AH772,\" \",referentes!AI772,\" \",referentes!AC772))))","v":""},{"$f":"IF(referentes!AB772=\"\",\"\",referentes!AB772)","v":""},null,null,null,{"$f":"TRIM(UPPER(CONCATENATE(referentes!AH768,\" \",referentes!AI768,\" \",referentes!AJ768,\" \",referentes!AK768,\" \",referentes!AF768)))","v":"RHIZOSOLENIA STRIATA"},{"$f":"referentes!AG768","v":0}]
[null,null,null,null,null,null,null,null,null,null,null,null,null,null,null,{"$f":"IF(referentes!AC773=\"\",\"\",IF(referentes!AC773=referentes!AH773,CONCATENATE(referentes!AC773,\" \",\" \",\" \",\" \"),IF(referentes!AC773=referentes!AI773,CONCATENATE(referentes!AH773,\" \",referentes!AI773,\" \",\" \"),CONCATENATE(referentes!AH773,\" \",referentes!AI773,\" \",referentes!AC773))))","v":""},{"$f":"IF(referentes!AB773=\"\",\"\",referentes!AB773)","v":""},null,null,null,{"$f":"TRIM(UPPER(CONCATENATE(referentes!AH769,\" \",referentes!AI769,\" \",referentes!AJ769,\" \",referentes!AK769,\" \",referentes!AF769)))","v":"RHIZOSOLENIA STYLIFORMIS"},{"$f":"referentes!AG769","v":0}]
[null,null,null,null,null,null,null,null,null,null,null,null,null,null,null,{"$f":"IF(referentes!AC774=\"\",\"\",IF(referentes!AC774=referentes!AH774,CONCATENATE(referentes!AC774,\" \",\" \",\" \",\" \"),IF(referentes!AC774=referentes!AI774,CONCATENATE(referentes!AH774,\" \",referentes!AI774,\" \",\" \"),CONCATENATE(referentes!AH774,\" \",referentes!AI774,\" \",referentes!AC774))))","v":""},{"$f":"IF(referentes!AB774=\"\",\"\",referentes!AB774)","v":""},null,null,null,{"$f":"TRIM(UPPER(CONCATENATE(referentes!AH770,\" \",referentes!AI770,\" \",referentes!AJ770,\" \",referentes!AK770,\" \",referentes!AF770)))","v":"RHODOMONAS"},{"$f":"referentes!AG770","v":0}]
[null,null,null,null,null,null,null,null,null,null,null,null,null,null,null,{"$f":"IF(referentes!AC775=\"\",\"\",IF(referentes!AC775=referentes!AH775,CONCATENATE(referentes!AC775,\" \",\" \",\" \",\" \"),IF(referentes!AC775=referentes!AI775,CONCATENATE(referentes!AH775,\" \",referentes!AI775,\" \",\" \"),CONCATENATE(referentes!AH775,\" \",referentes!AI775,\" \",referentes!AC775))))","v":""},{"$f":"IF(referentes!AB775=\"\",\"\",referentes!AB775)","v":""},null,null,null,{"$f":"TRIM(UPPER(CONCATENATE(referentes!AH771,\" \",referentes!AI771,\" \",referentes!AJ771,\" \",referentes!AK771,\" \",referentes!AF771)))","v":"RICHELIA"},{"$f":"referentes!AG771","v":0}]
[null,null,null,null,null,null,null,null,null,null,null,null,null,null,null,{"$f":"IF(referentes!AC776=\"\",\"\",IF(referentes!AC776=referentes!AH776,CONCATENATE(referentes!AC776,\" \",\" \",\" \",\" \"),IF(referentes!AC776=referentes!AI776,CONCATENATE(referentes!AH776,\" \",referentes!AI776,\" \",\" \"),CONCATENATE(referentes!AH776,\" \",referentes!AI776,\" \",referentes!AC776))))","v":""},{"$f":"IF(referentes!AB776=\"\",\"\",referentes!AB776)","v":""},null,null,null,{"$f":"TRIM(UPPER(CONCATENATE(referentes!AH772,\" \",referentes!AI772,\" \",referentes!AJ772,\" \",referentes!AK772,\" \",referentes!AF772)))","v":"RICHELIA INTRACELLULARIS"},{"$f":"referentes!AG772","v":0}]
[null,null,null,null,null,null,null,null,null,null,null,null,null,null,null,{"$f":"IF(referentes!AC777=\"\",\"\",IF(referentes!AC777=referentes!AH777,CONCATENATE(referentes!AC777,\" \",\" \",\" \",\" \"),IF(referentes!AC777=referentes!AI777,CONCATENATE(referentes!AH777,\" \",referentes!AI777,\" \",\" \"),CONCATENATE(referentes!AH777,\" \",referentes!AI777,\" \",referentes!AC777))))","v":""},{"$f":"IF(referentes!AB777=\"\",\"\",referentes!AB777)","v":""},null,null,null,{"$f":"TRIM(UPPER(CONCATENATE(referentes!AH773,\" \",referentes!AI773,\" \",referentes!AJ773,\" \",referentes!AK773,\" \",referentes!AF773)))","v":"ROMERIA"},{"$f":"referentes!AG773","v":0}]
[null,null,null,null,null,null,null,null,null,null,null,null,null,null,null,{"$f":"IF(referentes!AC778=\"\",\"\",IF(referentes!AC778=referentes!AH778,CONCATENATE(referentes!AC778,\" \",\" \",\" \",\" \"),IF(referentes!AC778=referentes!AI778,CONCATENATE(referentes!AH778,\" \",referentes!AI778,\" \",\" \"),CONCATENATE(referentes!AH778,\" \",referentes!AI778,\" \",referentes!AC778))))","v":""},{"$f":"IF(referentes!AB778=\"\",\"\",referentes!AB778)","v":""},null,null,null,{"$f":"TRIM(UPPER(CONCATENATE(referentes!AH774,\" \",referentes!AI774,\" \",referentes!AJ774,\" \",referentes!AK774,\" \",referentes!AF774)))","v":"ROPERIA"},{"$f":"referentes!AG774","v":0}]
[null,null,null,null,null,null,null,null,null,null,null,null,null,null,null,{"$f":"IF(referentes!AC779=\"\",\"\",IF(referentes!AC779=referentes!AH779,CONCATENATE(referentes!AC779,\" \",\" \",\" \",\" \"),IF(referentes!AC779=referentes!AI779,CONCATENATE(referentes!AH779,\" \",referentes!AI779,\" \",\" \"),CONCATENATE(referentes!AH779,\" \",referentes!AI779,\" \",referentes!AC779))))","v":""},{"$f":"IF(referentes!AB779=\"\",\"\",referentes!AB779)","v":""},null,null,null,{"$f":"TRIM(UPPER(CONCATENATE(referentes!AH775,\" \",referentes!AI775,\" \",referentes!AJ775,\" \",referentes!AK775,\" \",referentes!AF775)))","v":"ROPERIA TESSELATA"},{"$f":"referentes!AG775","v":0}]
[null,null,null,null,null,null,null,null,null,null,null,null,null,null,null,{"$f":"IF(referentes!AC780=\"\",\"\",IF(referentes!AC780=referentes!AH780,CONCATENATE(referentes!AC780,\" \",\" \",\" \",\" \"),IF(referentes!AC780=referentes!AI780,CONCATENATE(referentes!AH780,\" \",referentes!AI780,\" \",\" \"),CONCATENATE(referentes!AH780,\" \",referentes!AI780,\" \",referentes!AC780))))","v":""},{"$f":"IF(referentes!AB780=\"\",\"\",referentes!AB780)","v":""},null,null,null,{"$f":"TRIM(UPPER(CONCATENATE(referentes!AH776,\" \",referentes!AI776,\" \",referentes!AJ776,\" \",referentes!AK776,\" \",referentes!AF776)))","v":"SCENEDESMUS"},{"$f":"referentes!AG776","v":0}]
[null,null,null,null,null,null,null,null,null,null,null,null,null,null,null,{"$f":"IF(referentes!AC781=\"\",\"\",IF(referentes!AC781=referentes!AH781,CONCATENATE(referentes!AC781,\" \",\" \",\" \",\" \"),IF(referentes!AC781=referentes!AI781,CONCATENATE(referentes!AH781,\" \",referentes!AI781,\" \",\" \"),CONCATENATE(referentes!AH781,\" \",referentes!AI781,\" \",referentes!AC781))))","v":""},{"$f":"IF(referentes!AB781=\"\",\"\",referentes!AB781)","v":""},null,null,null,{"$f":"TRIM(UPPER(CONCATENATE(referentes!AH777,\" \",referentes!AI777,\" \",referentes!AJ777,\" \",referentes!AK777,\" \",referentes!AF777)))","v":"SCENEDESMUS BICAUDATUS"},{"$f":"referentes!AG777","v":0}]
[null,null,null,null,null,null,null,null,null,null,null,null,null,null,null,{"$f":"IF(referentes!AC782=\"\",\"\",IF(referentes!AC782=referentes!AH782,CONCATENATE(referentes!AC782,\" \",\" \",\" \",\" \"),IF(referentes!AC782=referentes!AI782,CONCATENATE(referentes!AH782,\" \",referentes!AI782,\" \",\" \"),CONCATENATE(referentes!AH782,\" \",referentes!AI782,\" \",referentes!AC782))))","v":""},{"$f":"IF(referentes!AB782=\"\",\"\",referentes!AB782)","v":""},null,null,null,{"$f":"TRIM(UPPER(CONCATENATE(referentes!AH778,\" \",referentes!AI778,\" \",referentes!AJ778,\" \",referentes!AK778,\" \",referentes!AF778)))","v":"SCHROEDERIA"},{"$f":"referentes!AG778","v":0}]
[null,null,null,null,null,null,null,null,null,null,null,null,null,null,null,{"$f":"IF(referentes!AC783=\"\",\"\",IF(referentes!AC783=referentes!AH783,CONCATENATE(referentes!AC783,\" \",\" \",\" \",\" \"),IF(referentes!AC783=referentes!AI783,CONCATENATE(referentes!AH783,\" \",referentes!AI783,\" \",\" \"),CONCATENATE(referentes!AH783,\" \",referentes!AI783,\" \",referentes!AC783))))","v":""},{"$f":"IF(referentes!AB783=\"\",\"\",referentes!AB783)","v":""},null,null,null,{"$f":"TRIM(UPPER(CONCATENATE(referentes!AH779,\" \",referentes!AI779,\" \",referentes!AJ779,\" \",referentes!AK779,\" \",referentes!AF779)))","v":"SCHUETTIELLA"},{"$f":"referentes!AG779","v":0}]
[null,null,null,null,null,null,null,null,null,null,null,null,null,null,null,{"$f":"IF(referentes!AC784=\"\",\"\",IF(referentes!AC784=referentes!AH784,CONCATENATE(referentes!AC784,\" \",\" \",\" \",\" \"),IF(referentes!AC784=referentes!AI784,CONCATENATE(referentes!AH784,\" \",referentes!AI784,\" \",\" \"),CONCATENATE(referentes!AH784,\" \",referentes!AI784,\" \",referentes!AC784))))","v":""},{"$f":"IF(referentes!AB784=\"\",\"\",referentes!AB784)","v":""},null,null,null,{"$f":"TRIM(UPPER(CONCATENATE(referentes!AH780,\" \",referentes!AI780,\" \",referentes!AJ780,\" \",referentes!AK780,\" \",referentes!AF780)))","v":"SCHUETTIELLA MITRA"},{"$f":"referentes!AG780","v":0}]
[null,null,null,null,null,null,null,null,null,null,null,null,null,null,null,{"$f":"IF(referentes!AC785=\"\",\"\",IF(referentes!AC785=referentes!AH785,CONCATENATE(referentes!AC785,\" \",\" \",\" \",\" \"),IF(referentes!AC785=referentes!AI785,CONCATENATE(referentes!AH785,\" \",referentes!AI785,\" \",\" \"),CONCATENATE(referentes!AH785,\" \",referentes!AI785,\" \",referentes!AC785))))","v":""},{"$f":"IF(referentes!AB785=\"\",\"\",referentes!AB785)","v":""},null,null,null,{"$f":"TRIM(UPPER(CONCATENATE(referentes!AH781,\" \",referentes!AI781,\" \",referentes!AJ781,\" \",referentes!AK781,\" \",referentes!AF781)))","v":"SCRIPPSIELLA"},{"$f":"referentes!AG781","v":0}]
[null,null,null,null,null,null,null,null,null,null,null,null,null,null,null,{"$f":"IF(referentes!AC786=\"\",\"\",IF(referentes!AC786=referentes!AH786,CONCATENATE(referentes!AC786,\" \",\" \",\" \",\" \"),IF(referentes!AC786=referentes!AI786,CONCATENATE(referentes!AH786,\" \",referentes!AI786,\" \",\" \"),CONCATENATE(referentes!AH786,\" \",referentes!AI786,\" \",referentes!AC786))))","v":""},{"$f":"IF(referentes!AB786=\"\",\"\",referentes!AB786)","v":""},null,null,null,{"$f":"TRIM(UPPER(CONCATENATE(referentes!AH782,\" \",referentes!AI782,\" \",referentes!AJ782,\" \",referentes!AK782,\" \",referentes!AF782)))","v":"SCRIPPSIELLA SPINIFERA"},{"$f":"referentes!AG782","v":0}]
[null,null,null,null,null,null,null,null,null,null,null,null,null,null,null,{"$f":"IF(referentes!AC787=\"\",\"\",IF(referentes!AC787=referentes!AH787,CONCATENATE(referentes!AC787,\" \",\" \",\" \",\" \"),IF(referentes!AC787=referentes!AI787,CONCATENATE(referentes!AH787,\" \",referentes!AI787,\" \",\" \"),CONCATENATE(referentes!AH787,\" \",referentes!AI787,\" \",referentes!AC787))))","v":""},{"$f":"IF(referentes!AB787=\"\",\"\",referentes!AB787)","v":""},null,null,null,{"$f":"TRIM(UPPER(CONCATENATE(referentes!AH783,\" \",referentes!AI783,\" \",referentes!AJ783,\" \",referentes!AK783,\" \",referentes!AF783)))","v":"SCRIPPSIELLA TROCHOIDEA"},{"$f":"referentes!AG783","v":0}]
[null,null,null,null,null,null,null,null,null,null,null,null,null,null,null,{"$f":"IF(referentes!AC788=\"\",\"\",IF(referentes!AC788=referentes!AH788,CONCATENATE(referentes!AC788,\" \",\" \",\" \",\" \"),IF(referentes!AC788=referentes!AI788,CONCATENATE(referentes!AH788,\" \",referentes!AI788,\" \",\" \"),CONCATENATE(referentes!AH788,\" \",referentes!AI788,\" \",referentes!AC788))))","v":""},{"$f":"IF(referentes!AB788=\"\",\"\",referentes!AB788)","v":""},null,null,null,{"$f":"TRIM(UPPER(CONCATENATE(referentes!AH784,\" \",referentes!AI784,\" \",referentes!AJ784,\" \",referentes!AK784,\" \",referentes!AF784)))","v":"SCYPHOSPHAERA"},{"$f":"referentes!AG784","v":0}]
[null,null,null,null,null,null,null,null,null,null,null,null,null,null,null,{"$f":"IF(referentes!AC789=\"\",\"\",IF(referentes!AC789=referentes!AH789,CONCATENATE(referentes!AC789,\" \",\" \",\" \",\" \"),IF(referentes!AC789=referentes!AI789,CONCATENATE(referentes!AH789,\" \",referentes!AI789,\" \",\" \"),CONCATENATE(referentes!AH789,\" \",referentes!AI789,\" \",referentes!AC789))))","v":""},{"$f":"IF(referentes!AB789=\"\",\"\",referentes!AB789)","v":""},null,null,null,{"$f":"TRIM(UPPER(CONCATENATE(referentes!AH785,\" \",referentes!AI785,\" \",referentes!AJ785,\" \",referentes!AK785,\" \",referentes!AF785)))","v":"SCYPHOSPHAERA APSTEINII"},{"$f":"referentes!AG785","v":0}]
[null,null,null,null,null,null,null,null,null,null,null,null,null,null,null,{"$f":"IF(referentes!AC790=\"\",\"\",IF(referentes!AC790=referentes!AH790,CONCATENATE(referentes!AC790,\" \",\" \",\" \",\" \"),IF(referentes!AC790=referentes!AI790,CONCATENATE(referentes!AH790,\" \",referentes!AI790,\" \",\" \"),CONCATENATE(referentes!AH790,\" \",referentes!AI790,\" \",referentes!AC790))))","v":""},{"$f":"IF(referentes!AB790=\"\",\"\",referentes!AB790)","v":""},null,null,null,{"$f":"TRIM(UPPER(CONCATENATE(referentes!AH786,\" \",referentes!AI786,\" \",referentes!AJ786,\" \",referentes!AK786,\" \",referentes!AF786)))","v":"SELENASTRUM"},{"$f":"referentes!AG786","v":0}]
[null,null,null,null,null,null,null,null,null,null,null,null,null,null,null,{"$f":"IF(referentes!AC791=\"\",\"\",IF(referentes!AC791=referentes!AH791,CONCATENATE(referentes!AC791,\" \",\" \",\" \",\" \"),IF(referentes!AC791=referentes!AI791,CONCATENATE(referentes!AH791,\" \",referentes!AI791,\" \",\" \"),CONCATENATE(referentes!AH791,\" \",referentes!AI791,\" \",referentes!AC791))))","v":""},{"$f":"IF(referentes!AB791=\"\",\"\",referentes!AB791)","v":""},null,null,null,{"$f":"TRIM(UPPER(CONCATENATE(referentes!AH787,\" \",referentes!AI787,\" \",referentes!AJ787,\" \",referentes!AK787,\" \",referentes!AF787)))","v":"SELLAPHORA"},{"$f":"referentes!AG787","v":0}]
[null,null,null,null,null,null,null,null,null,null,null,null,null,null,null,{"$f":"IF(referentes!AC792=\"\",\"\",IF(referentes!AC792=referentes!AH792,CONCATENATE(referentes!AC792,\" \",\" \",\" \",\" \"),IF(referentes!AC792=referentes!AI792,CONCATENATE(referentes!AH792,\" \",referentes!AI792,\" \",\" \"),CONCATENATE(referentes!AH792,\" \",referentes!AI792,\" \",referentes!AC792))))","v":""},{"$f":"IF(referentes!AB792=\"\",\"\",referentes!AB792)","v":""},null,null,null,{"$f":"TRIM(UPPER(CONCATENATE(referentes!AH788,\" \",referentes!AI788,\" \",referentes!AJ788,\" \",referentes!AK788,\" \",referentes!AF788)))","v":"SEMINAVIS"},{"$f":"referentes!AG788","v":0}]
[null,null,null,null,null,null,null,null,null,null,null,null,null,null,null,{"$f":"IF(referentes!AC793=\"\",\"\",IF(referentes!AC793=referentes!AH793,CONCATENATE(referentes!AC793,\" \",\" \",\" \",\" \"),IF(referentes!AC793=referentes!AI793,CONCATENATE(referentes!AH793,\" \",referentes!AI793,\" \",\" \"),CONCATENATE(referentes!AH793,\" \",referentes!AI793,\" \",referentes!AC793))))","v":""},{"$f":"IF(referentes!AB793=\"\",\"\",referentes!AB793)","v":""},null,null,null,{"$f":"TRIM(UPPER(CONCATENATE(referentes!AH789,\" \",referentes!AI789,\" \",referentes!AJ789,\" \",referentes!AK789,\" \",referentes!AF789)))","v":"SEMINAVIS VENTRICOSA"},{"$f":"referentes!AG789","v":0}]
[null,null,null,null,null,null,null,null,null,null,null,null,null,null,null,{"$f":"IF(referentes!AC794=\"\",\"\",IF(referentes!AC794=referentes!AH794,CONCATENATE(referentes!AC794,\" \",\" \",\" \",\" \"),IF(referentes!AC794=referentes!AI794,CONCATENATE(referentes!AH794,\" \",referentes!AI794,\" \",\" \"),CONCATENATE(referentes!AH794,\" \",referentes!AI794,\" \",referentes!AC794))))","v":""},{"$f":"IF(referentes!AB794=\"\",\"\",referentes!AB794)","v":""},null,null,null,{"$f":"TRIM(UPPER(CONCATENATE(referentes!AH790,\" \",referentes!AI790,\" \",referentes!AJ790,\" \",referentes!AK790,\" \",referentes!AF790)))","v":"SKELETONEMA"},{"$f":"referentes!AG790","v":0}]
[null,null,null,null,null,null,null,null,null,null,null,null,null,null,null,{"$f":"IF(referentes!AC795=\"\",\"\",IF(referentes!AC795=referentes!AH795,CONCATENATE(referentes!AC795,\" \",\" \",\" \",\" \"),IF(referentes!AC795=referentes!AI795,CONCATENATE(referentes!AH795,\" \",referentes!AI795,\" \",\" \"),CONCATENATE(referentes!AH795,\" \",referentes!AI795,\" \",referentes!AC795))))","v":""},{"$f":"IF(referentes!AB795=\"\",\"\",referentes!AB795)","v":""},null,null,null,{"$f":"TRIM(UPPER(CONCATENATE(referentes!AH791,\" \",referentes!AI791,\" \",referentes!AJ791,\" \",referentes!AK791,\" \",referentes!AF791)))","v":"SKELETONEMA COSTATUM"},{"$f":"referentes!AG791","v":0}]
[null,null,null,null,null,null,null,null,null,null,null,null,null,null,null,{"$f":"IF(referentes!AC796=\"\",\"\",IF(referentes!AC796=referentes!AH796,CONCATENATE(referentes!AC796,\" \",\" \",\" \",\" \"),IF(referentes!AC796=referentes!AI796,CONCATENATE(referentes!AH796,\" \",referentes!AI796,\" \",\" \"),CONCATENATE(referentes!AH796,\" \",referentes!AI796,\" \",referentes!AC796))))","v":""},{"$f":"IF(referentes!AB796=\"\",\"\",referentes!AB796)","v":""},null,null,null,{"$f":"TRIM(UPPER(CONCATENATE(referentes!AH792,\" \",referentes!AI792,\" \",referentes!AJ792,\" \",referentes!AK792,\" \",referentes!AF792)))","v":"SKELETONEMA TROPICUM"},{"$f":"referentes!AG792","v":0}]
[null,null,null,null,null,null,null,null,null,null,null,null,null,null,null,{"$f":"IF(referentes!AC797=\"\",\"\",IF(referentes!AC797=referentes!AH797,CONCATENATE(referentes!AC797,\" \",\" \",\" \",\" \"),IF(referentes!AC797=referentes!AI797,CONCATENATE(referentes!AH797,\" \",referentes!AI797,\" \",\" \"),CONCATENATE(referentes!AH797,\" \",referentes!AI797,\" \",referentes!AC797))))","v":""},{"$f":"IF(referentes!AB797=\"\",\"\",referentes!AB797)","v":""},null,null,null,{"$f":"TRIM(UPPER(CONCATENATE(referentes!AH793,\" \",referentes!AI793,\" \",referentes!AJ793,\" \",referentes!AK793,\" \",referentes!AF793)))","v":"SPHAEROCAVUM"},{"$f":"referentes!AG793","v":0}]
[null,null,null,null,null,null,null,null,null,null,null,null,null,null,null,{"$f":"IF(referentes!AC798=\"\",\"\",IF(referentes!AC798=referentes!AH798,CONCATENATE(referentes!AC798,\" \",\" \",\" \",\" \"),IF(referentes!AC798=referentes!AI798,CONCATENATE(referentes!AH798,\" \",referentes!AI798,\" \",\" \"),CONCATENATE(referentes!AH798,\" \",referentes!AI798,\" \",referentes!AC798))))","v":""},{"$f":"IF(referentes!AB798=\"\",\"\",referentes!AB798)","v":""},null,null,null,{"$f":"TRIM(UPPER(CONCATENATE(referentes!AH794,\" \",referentes!AI794,\" \",referentes!AJ794,\" \",referentes!AK794,\" \",referentes!AF794)))","v":"SPIRAULAX"},{"$f":"referentes!AG794","v":0}]
[null,null,null,null,null,null,null,null,null,null,null,null,null,null,null,{"$f":"IF(referentes!AC799=\"\",\"\",IF(referentes!AC799=referentes!AH799,CONCATENATE(referentes!AC799,\" \",\" \",\" \",\" \"),IF(referentes!AC799=referentes!AI799,CONCATENATE(referentes!AH799,\" \",referentes!AI799,\" \",\" \"),CONCATENATE(referentes!AH799,\" \",referentes!AI799,\" \",referentes!AC799))))","v":""},{"$f":"IF(referentes!AB799=\"\",\"\",referentes!AB799)","v":""},null,null,null,{"$f":"TRIM(UPPER(CONCATENATE(referentes!AH795,\" \",referentes!AI795,\" \",referentes!AJ795,\" \",referentes!AK795,\" \",referentes!AF795)))","v":"SPIROGYRA"},{"$f":"referentes!AG795","v":0}]
[null,null,null,null,null,null,null,null,null,null,null,null,null,null,null,{"$f":"IF(referentes!AC800=\"\",\"\",IF(referentes!AC800=referentes!AH800,CONCATENATE(referentes!AC800,\" \",\" \",\" \",\" \"),IF(referentes!AC800=referentes!AI800,CONCATENATE(referentes!AH800,\" \",referentes!AI800,\" \",\" \"),CONCATENATE(referentes!AH800,\" \",referentes!AI800,\" \",referentes!AC800))))","v":""},{"$f":"IF(referentes!AB800=\"\",\"\",referentes!AB800)","v":""},null,null,null,{"$f":"TRIM(UPPER(CONCATENATE(referentes!AH796,\" \",referentes!AI796,\" \",referentes!AJ796,\" \",referentes!AK796,\" \",referentes!AF796)))","v":"SPIRULINA"},{"$f":"referentes!AG796","v":0}]
[null,null,null,null,null,null,null,null,null,null,null,null,null,null,null,{"$f":"IF(referentes!AC801=\"\",\"\",IF(referentes!AC801=referentes!AH801,CONCATENATE(referentes!AC801,\" \",\" \",\" \",\" \"),IF(referentes!AC801=referentes!AI801,CONCATENATE(referentes!AH801,\" \",referentes!AI801,\" \",\" \"),CONCATENATE(referentes!AH801,\" \",referentes!AI801,\" \",referentes!AC801))))","v":""},{"$f":"IF(referentes!AB801=\"\",\"\",referentes!AB801)","v":""},null,null,null,{"$f":"TRIM(UPPER(CONCATENATE(referentes!AH797,\" \",referentes!AI797,\" \",referentes!AJ797,\" \",referentes!AK797,\" \",referentes!AF797)))","v":"STAURASTRUM"},{"$f":"referentes!AG797","v":0}]
[null,null,null,null,null,null,null,null,null,null,null,null,null,null,null,{"$f":"IF(referentes!AC802=\"\",\"\",IF(referentes!AC802=referentes!AH802,CONCATENATE(referentes!AC802,\" \",\" \",\" \",\" \"),IF(referentes!AC802=referentes!AI802,CONCATENATE(referentes!AH802,\" \",referentes!AI802,\" \",\" \"),CONCATENATE(referentes!AH802,\" \",referentes!AI802,\" \",referentes!AC802))))","v":""},{"$f":"IF(referentes!AB802=\"\",\"\",referentes!AB802)","v":""},null,null,null,{"$f":"TRIM(UPPER(CONCATENATE(referentes!AH798,\" \",referentes!AI798,\" \",referentes!AJ798,\" \",referentes!AK798,\" \",referentes!AF798)))","v":"STAURASTRUM SETIGERUM"},{"$f":"referentes!AG798","v":0}]
[null,null,null,null,null,null,null,null,null,null,null,null,null,null,null,{"$f":"IF(referentes!AC803=\"\",\"\",IF(referentes!AC803=referentes!AH803,CONCATENATE(referentes!AC803,\" \",\" \",\" \",\" \"),IF(referentes!AC803=referentes!AI803,CONCATENATE(referentes!AH803,\" \",referentes!AI803,\" \",\" \"),CONCATENATE(referentes!AH803,\" \",referentes!AI803,\" \",referentes!AC803))))","v":""},{"$f":"IF(referentes!AB803=\"\",\"\",referentes!AB803)","v":""},null,null,null,{"$f":"TRIM(UPPER(CONCATENATE(referentes!AH799,\" \",referentes!AI799,\" \",referentes!AJ799,\" \",referentes!AK799,\" \",referentes!AF799)))","v":"STAURIDIUM"},{"$f":"referentes!AG799","v":0}]
[null,null,null,null,null,null,null,null,null,null,null,null,null,null,null,{"$f":"IF(referentes!AC804=\"\",\"\",IF(referentes!AC804=referentes!AH804,CONCATENATE(referentes!AC804,\" \",\" \",\" \",\" \"),IF(referentes!AC804=referentes!AI804,CONCATENATE(referentes!AH804,\" \",referentes!AI804,\" \",\" \"),CONCATENATE(referentes!AH804,\" \",referentes!AI804,\" \",referentes!AC804))))","v":""},{"$f":"IF(referentes!AB804=\"\",\"\",referentes!AB804)","v":""},null,null,null,{"$f":"TRIM(UPPER(CONCATENATE(referentes!AH800,\" \",referentes!AI800,\" \",referentes!AJ800,\" \",referentes!AK800,\" \",referentes!AF800)))","v":"STAURIDIUM TETRAS"},{"$f":"referentes!AG800","v":0}]
[null,null,null,null,null,null,null,null,null,null,null,null,null,null,null,{"$f":"IF(referentes!AC805=\"\",\"\",IF(referentes!AC805=referentes!AH805,CONCATENATE(referentes!AC805,\" \",\" \",\" \",\" \"),IF(referentes!AC805=referentes!AI805,CONCATENATE(referentes!AH805,\" \",referentes!AI805,\" \",\" \"),CONCATENATE(referentes!AH805,\" \",referentes!AI805,\" \",referentes!AC805))))","v":""},{"$f":"IF(referentes!AB805=\"\",\"\",referentes!AB805)","v":""},null,null,null,{"$f":"TRIM(UPPER(CONCATENATE(referentes!AH801,\" \",referentes!AI801,\" \",referentes!AJ801,\" \",referentes!AK801,\" \",referentes!AF801)))","v":"STAURODESMUS"},{"$f":"referentes!AG801","v":0}]
[null,null,null,null,null,null,null,null,null,null,null,null,null,null,null,{"$f":"IF(referentes!AC806=\"\",\"\",IF(referentes!AC806=referentes!AH806,CONCATENATE(referentes!AC806,\" \",\" \",\" \",\" \"),IF(referentes!AC806=referentes!AI806,CONCATENATE(referentes!AH806,\" \",referentes!AI806,\" \",\" \"),CONCATENATE(referentes!AH806,\" \",referentes!AI806,\" \",referentes!AC806))))","v":""},{"$f":"IF(referentes!AB806=\"\",\"\",referentes!AB806)","v":""},null,null,null,{"$f":"TRIM(UPPER(CONCATENATE(referentes!AH802,\" \",referentes!AI802,\" \",referentes!AJ802,\" \",referentes!AK802,\" \",referentes!AF802)))","v":"STAURONEIS"},{"$f":"referentes!AG802","v":0}]
[null,null,null,null,null,null,null,null,null,null,null,null,null,null,null,{"$f":"IF(referentes!AC807=\"\",\"\",IF(referentes!AC807=referentes!AH807,CONCATENATE(referentes!AC807,\" \",\" \",\" \",\" \"),IF(referentes!AC807=referentes!AI807,CONCATENATE(referentes!AH807,\" \",referentes!AI807,\" \",\" \"),CONCATENATE(referentes!AH807,\" \",referentes!AI807,\" \",referentes!AC807))))","v":""},{"$f":"IF(referentes!AB807=\"\",\"\",referentes!AB807)","v":""},null,null,null,{"$f":"TRIM(UPPER(CONCATENATE(referentes!AH803,\" \",referentes!AI803,\" \",referentes!AJ803,\" \",referentes!AK803,\" \",referentes!AF803)))","v":"STEPHANOPYXIS"},{"$f":"referentes!AG803","v":0}]
[null,null,null,null,null,null,null,null,null,null,null,null,null,null,null,{"$f":"IF(referentes!AC808=\"\",\"\",IF(referentes!AC808=referentes!AH808,CONCATENATE(referentes!AC808,\" \",\" \",\" \",\" \"),IF(referentes!AC808=referentes!AI808,CONCATENATE(referentes!AH808,\" \",referentes!AI808,\" \",\" \"),CONCATENATE(referentes!AH808,\" \",referentes!AI808,\" \",referentes!AC808))))","v":""},{"$f":"IF(referentes!AB808=\"\",\"\",referentes!AB808)","v":""},null,null,null,{"$f":"TRIM(UPPER(CONCATENATE(referentes!AH804,\" \",referentes!AI804,\" \",referentes!AJ804,\" \",referentes!AK804,\" \",referentes!AF804)))","v":"STEPHANOPYXIS PALMERIANA"},{"$f":"referentes!AG804","v":0}]
[null,null,null,null,null,null,null,null,null,null,null,null,null,null,null,{"$f":"IF(referentes!AC809=\"\",\"\",IF(referentes!AC809=referentes!AH809,CONCATENATE(referentes!AC809,\" \",\" \",\" \",\" \"),IF(referentes!AC809=referentes!AI809,CONCATENATE(referentes!AH809,\" \",referentes!AI809,\" \",\" \"),CONCATENATE(referentes!AH809,\" \",referentes!AI809,\" \",referentes!AC809))))","v":""},{"$f":"IF(referentes!AB809=\"\",\"\",referentes!AB809)","v":""},null,null,null,{"$f":"TRIM(UPPER(CONCATENATE(referentes!AH805,\" \",referentes!AI805,\" \",referentes!AJ805,\" \",referentes!AK805,\" \",referentes!AF805)))","v":"STEPHANOPYXIS TURRIS"},{"$f":"referentes!AG805","v":0}]
[null,null,null,null,null,null,null,null,null,null,null,null,null,null,null,{"$f":"IF(referentes!AC810=\"\",\"\",IF(referentes!AC810=referentes!AH810,CONCATENATE(referentes!AC810,\" \",\" \",\" \",\" \"),IF(referentes!AC810=referentes!AI810,CONCATENATE(referentes!AH810,\" \",referentes!AI810,\" \",\" \"),CONCATENATE(referentes!AH810,\" \",referentes!AI810,\" \",referentes!AC810))))","v":""},{"$f":"IF(referentes!AB810=\"\",\"\",referentes!AB810)","v":""},null,null,null,{"$f":"TRIM(UPPER(CONCATENATE(referentes!AH806,\" \",referentes!AI806,\" \",referentes!AJ806,\" \",referentes!AK806,\" \",referentes!AF806)))","v":"STRIATELLA"},{"$f":"referentes!AG806","v":0}]
[null,null,null,null,null,null,null,null,null,null,null,null,null,null,null,{"$f":"IF(referentes!AC811=\"\",\"\",IF(referentes!AC811=referentes!AH811,CONCATENATE(referentes!AC811,\" \",\" \",\" \",\" \"),IF(referentes!AC811=referentes!AI811,CONCATENATE(referentes!AH811,\" \",referentes!AI811,\" \",\" \"),CONCATENATE(referentes!AH811,\" \",referentes!AI811,\" \",referentes!AC811))))","v":""},{"$f":"IF(referentes!AB811=\"\",\"\",referentes!AB811)","v":""},null,null,null,{"$f":"TRIM(UPPER(CONCATENATE(referentes!AH807,\" \",referentes!AI807,\" \",referentes!AJ807,\" \",referentes!AK807,\" \",referentes!AF807)))","v":"STRIATELLA UNIPUNCTATA"},{"$f":"referentes!AG807","v":0}]
[null,null,null,null,null,null,null,null,null,null,null,null,null,null,null,{"$f":"IF(referentes!AC812=\"\",\"\",IF(referentes!AC812=referentes!AH812,CONCATENATE(referentes!AC812,\" \",\" \",\" \",\" \"),IF(referentes!AC812=referentes!AI812,CONCATENATE(referentes!AH812,\" \",referentes!AI812,\" \",\" \"),CONCATENATE(referentes!AH812,\" \",referentes!AI812,\" \",referentes!AC812))))","v":""},{"$f":"IF(referentes!AB812=\"\",\"\",referentes!AB812)","v":""},null,null,null,{"$f":"TRIM(UPPER(CONCATENATE(referentes!AH808,\" \",referentes!AI808,\" \",referentes!AJ808,\" \",referentes!AK808,\" \",referentes!AF808)))","v":"STROMBOMONAS"},{"$f":"referentes!AG808","v":0}]
[null,null,null,null,null,null,null,null,null,null,null,null,null,null,null,{"$f":"IF(referentes!AC813=\"\",\"\",IF(referentes!AC813=referentes!AH813,CONCATENATE(referentes!AC813,\" \",\" \",\" \",\" \"),IF(referentes!AC813=referentes!AI813,CONCATENATE(referentes!AH813,\" \",referentes!AI813,\" \",\" \"),CONCATENATE(referentes!AH813,\" \",referentes!AI813,\" \",referentes!AC813))))","v":""},{"$f":"IF(referentes!AB813=\"\",\"\",referentes!AB813)","v":""},null,null,null,{"$f":"TRIM(UPPER(CONCATENATE(referentes!AH809,\" \",referentes!AI809,\" \",referentes!AJ809,\" \",referentes!AK809,\" \",referentes!AF809)))","v":"SURIRELLA"},{"$f":"referentes!AG809","v":0}]
[null,null,null,null,null,null,null,null,null,null,null,null,null,null,null,{"$f":"IF(referentes!AC814=\"\",\"\",IF(referentes!AC814=referentes!AH814,CONCATENATE(referentes!AC814,\" \",\" \",\" \",\" \"),IF(referentes!AC814=referentes!AI814,CONCATENATE(referentes!AH814,\" \",referentes!AI814,\" \",\" \"),CONCATENATE(referentes!AH814,\" \",referentes!AI814,\" \",referentes!AC814))))","v":""},{"$f":"IF(referentes!AB814=\"\",\"\",referentes!AB814)","v":""},null,null,null,{"$f":"TRIM(UPPER(CONCATENATE(referentes!AH810,\" \",referentes!AI810,\" \",referentes!AJ810,\" \",referentes!AK810,\" \",referentes!AF810)))","v":"SURIRELLA BISERIATA"},{"$f":"referentes!AG810","v":0}]
[null,null,null,null,null,null,null,null,null,null,null,null,null,null,null,{"$f":"IF(referentes!AC815=\"\",\"\",IF(referentes!AC815=referentes!AH815,CONCATENATE(referentes!AC815,\" \",\" \",\" \",\" \"),IF(referentes!AC815=referentes!AI815,CONCATENATE(referentes!AH815,\" \",referentes!AI815,\" \",\" \"),CONCATENATE(referentes!AH815,\" \",referentes!AI815,\" \",referentes!AC815))))","v":""},{"$f":"IF(referentes!AB815=\"\",\"\",referentes!AB815)","v":""},null,null,null,{"$f":"TRIM(UPPER(CONCATENATE(referentes!AH811,\" \",referentes!AI811,\" \",referentes!AJ811,\" \",referentes!AK811,\" \",referentes!AF811)))","v":"SURIRELLA FASTUOSA"},{"$f":"referentes!AG811","v":0}]
[null,null,null,null,null,null,null,null,null,null,null,null,null,null,null,{"$f":"IF(referentes!AC816=\"\",\"\",IF(referentes!AC816=referentes!AH816,CONCATENATE(referentes!AC816,\" \",\" \",\" \",\" \"),IF(referentes!AC816=referentes!AI816,CONCATENATE(referentes!AH816,\" \",referentes!AI816,\" \",\" \"),CONCATENATE(referentes!AH816,\" \",referentes!AI816,\" \",referentes!AC816))))","v":""},{"$f":"IF(referentes!AB816=\"\",\"\",referentes!AB816)","v":""},null,null,null,{"$f":"TRIM(UPPER(CONCATENATE(referentes!AH812,\" \",referentes!AI812,\" \",referentes!AJ812,\" \",referentes!AK812,\" \",referentes!AF812)))","v":"SURIRELLA GUATIMALENSIS"},{"$f":"referentes!AG812","v":0}]
[null,null,null,null,null,null,null,null,null,null,null,null,null,null,null,{"$f":"IF(referentes!AC817=\"\",\"\",IF(referentes!AC817=referentes!AH817,CONCATENATE(referentes!AC817,\" \",\" \",\" \",\" \"),IF(referentes!AC817=referentes!AI817,CONCATENATE(referentes!AH817,\" \",referentes!AI817,\" \",\" \"),CONCATENATE(referentes!AH817,\" \",referentes!AI817,\" \",referentes!AC817))))","v":""},{"$f":"IF(referentes!AB817=\"\",\"\",referentes!AB817)","v":""},null,null,null,{"$f":"TRIM(UPPER(CONCATENATE(referentes!AH813,\" \",referentes!AI813,\" \",referentes!AJ813,\" \",referentes!AK813,\" \",referentes!AF813)))","v":"SURIRELLA KATTRAYI"},{"$f":"referentes!AG813","v":0}]
[null,null,null,null,null,null,null,null,null,null,null,null,null,null,null,{"$f":"IF(referentes!AC818=\"\",\"\",IF(referentes!AC818=referentes!AH818,CONCATENATE(referentes!AC818,\" \",\" \",\" \",\" \"),IF(referentes!AC818=referentes!AI818,CONCATENATE(referentes!AH818,\" \",referentes!AI818,\" \",\" \"),CONCATENATE(referentes!AH818,\" \",referentes!AI818,\" \",referentes!AC818))))","v":""},{"$f":"IF(referentes!AB818=\"\",\"\",referentes!AB818)","v":""},null,null,null,{"$f":"TRIM(UPPER(CONCATENATE(referentes!AH814,\" \",referentes!AI814,\" \",referentes!AJ814,\" \",referentes!AK814,\" \",referentes!AF814)))","v":"SURIRELLA LINEARIS"},{"$f":"referentes!AG814","v":0}]
[null,null,null,null,null,null,null,null,null,null,null,null,null,null,null,{"$f":"IF(referentes!AC819=\"\",\"\",IF(referentes!AC819=referentes!AH819,CONCATENATE(referentes!AC819,\" \",\" \",\" \",\" \"),IF(referentes!AC819=referentes!AI819,CONCATENATE(referentes!AH819,\" \",referentes!AI819,\" \",\" \"),CONCATENATE(referentes!AH819,\" \",referentes!AI819,\" \",referentes!AC819))))","v":""},{"$f":"IF(referentes!AB819=\"\",\"\",referentes!AB819)","v":""},null,null,null,{"$f":"TRIM(UPPER(CONCATENATE(referentes!AH815,\" \",referentes!AI815,\" \",referentes!AJ815,\" \",referentes!AK815,\" \",referentes!AF815)))","v":"SURIRELLA ROBUSTA"},{"$f":"referentes!AG815","v":0}]
[null,null,null,null,null,null,null,null,null,null,null,null,null,null,null,{"$f":"IF(referentes!AC820=\"\",\"\",IF(referentes!AC820=referentes!AH820,CONCATENATE(referentes!AC820,\" \",\" \",\" \",\" \"),IF(referentes!AC820=referentes!AI820,CONCATENATE(referentes!AH820,\" \",referentes!AI820,\" \",\" \"),CONCATENATE(referentes!AH820,\" \",referentes!AI820,\" \",referentes!AC820))))","v":""},{"$f":"IF(referentes!AB820=\"\",\"\",referentes!AB820)","v":""},null,null,null,{"$f":"TRIM(UPPER(CONCATENATE(referentes!AH816,\" \",referentes!AI816,\" \",referentes!AJ816,\" \",referentes!AK816,\" \",referentes!AF816)))","v":"SURIRELLA SMITHII"},{"$f":"referentes!AG816","v":0}]
[null,null,null,null,null,null,null,null,null,null,null,null,null,null,null,{"$f":"IF(referentes!AC821=\"\",\"\",IF(referentes!AC821=referentes!AH821,CONCATENATE(referentes!AC821,\" \",\" \",\" \",\" \"),IF(referentes!AC821=referentes!AI821,CONCATENATE(referentes!AH821,\" \",referentes!AI821,\" \",\" \"),CONCATENATE(referentes!AH821,\" \",referentes!AI821,\" \",referentes!AC821))))","v":""},{"$f":"IF(referentes!AB821=\"\",\"\",referentes!AB821)","v":""},null,null,null,{"$f":"TRIM(UPPER(CONCATENATE(referentes!AH817,\" \",referentes!AI817,\" \",referentes!AJ817,\" \",referentes!AK817,\" \",referentes!AF817)))","v":"SYNECHOCOCCUS"},{"$f":"referentes!AG817","v":0}]
[null,null,null,null,null,null,null,null,null,null,null,null,null,null,null,{"$f":"IF(referentes!AC822=\"\",\"\",IF(referentes!AC822=referentes!AH822,CONCATENATE(referentes!AC822,\" \",\" \",\" \",\" \"),IF(referentes!AC822=referentes!AI822,CONCATENATE(referentes!AH822,\" \",referentes!AI822,\" \",\" \"),CONCATENATE(referentes!AH822,\" \",referentes!AI822,\" \",referentes!AC822))))","v":""},{"$f":"IF(referentes!AB822=\"\",\"\",referentes!AB822)","v":""},null,null,null,{"$f":"TRIM(UPPER(CONCATENATE(referentes!AH818,\" \",referentes!AI818,\" \",referentes!AJ818,\" \",referentes!AK818,\" \",referentes!AF818)))","v":"SYNECHOCOCCUS CARCERARIUS"},{"$f":"referentes!AG818","v":0}]
[null,null,null,null,null,null,null,null,null,null,null,null,null,null,null,{"$f":"IF(referentes!AC823=\"\",\"\",IF(referentes!AC823=referentes!AH823,CONCATENATE(referentes!AC823,\" \",\" \",\" \",\" \"),IF(referentes!AC823=referentes!AI823,CONCATENATE(referentes!AH823,\" \",referentes!AI823,\" \",\" \"),CONCATENATE(referentes!AH823,\" \",referentes!AI823,\" \",referentes!AC823))))","v":""},{"$f":"IF(referentes!AB823=\"\",\"\",referentes!AB823)","v":""},null,null,null,{"$f":"TRIM(UPPER(CONCATENATE(referentes!AH819,\" \",referentes!AI819,\" \",referentes!AJ819,\" \",referentes!AK819,\" \",referentes!AF819)))","v":"SYNECHOCYSTIS"},{"$f":"referentes!AG819","v":0}]
[null,null,null,null,null,null,null,null,null,null,null,null,null,null,null,{"$f":"IF(referentes!AC824=\"\",\"\",IF(referentes!AC824=referentes!AH824,CONCATENATE(referentes!AC824,\" \",\" \",\" \",\" \"),IF(referentes!AC824=referentes!AI824,CONCATENATE(referentes!AH824,\" \",referentes!AI824,\" \",\" \"),CONCATENATE(referentes!AH824,\" \",referentes!AI824,\" \",referentes!AC824))))","v":""},{"$f":"IF(referentes!AB824=\"\",\"\",referentes!AB824)","v":""},null,null,null,{"$f":"TRIM(UPPER(CONCATENATE(referentes!AH820,\" \",referentes!AI820,\" \",referentes!AJ820,\" \",referentes!AK820,\" \",referentes!AF820)))","v":"SYNEDRA"},{"$f":"referentes!AG820","v":0}]
[null,null,null,null,null,null,null,null,null,null,null,null,null,null,null,{"$f":"IF(referentes!AC825=\"\",\"\",IF(referentes!AC825=referentes!AH825,CONCATENATE(referentes!AC825,\" \",\" \",\" \",\" \"),IF(referentes!AC825=referentes!AI825,CONCATENATE(referentes!AH825,\" \",referentes!AI825,\" \",\" \"),CONCATENATE(referentes!AH825,\" \",referentes!AI825,\" \",referentes!AC825))))","v":""},{"$f":"IF(referentes!AB825=\"\",\"\",referentes!AB825)","v":""},null,null,null,{"$f":"TRIM(UPPER(CONCATENATE(referentes!AH821,\" \",referentes!AI821,\" \",referentes!AJ821,\" \",referentes!AK821,\" \",referentes!AF821)))","v":"SYNEDRA CRYSTALLINA"},{"$f":"referentes!AG821","v":0}]
[null,null,null,null,null,null,null,null,null,null,null,null,null,null,null,{"$f":"IF(referentes!AC826=\"\",\"\",IF(referentes!AC826=referentes!AH826,CONCATENATE(referentes!AC826,\" \",\" \",\" \",\" \"),IF(referentes!AC826=referentes!AI826,CONCATENATE(referentes!AH826,\" \",referentes!AI826,\" \",\" \"),CONCATENATE(referentes!AH826,\" \",referentes!AI826,\" \",referentes!AC826))))","v":""},{"$f":"IF(referentes!AB826=\"\",\"\",referentes!AB826)","v":""},null,null,null,{"$f":"TRIM(UPPER(CONCATENATE(referentes!AH822,\" \",referentes!AI822,\" \",referentes!AJ822,\" \",referentes!AK822,\" \",referentes!AF822)))","v":"SYNEDRA GOULARDI"},{"$f":"referentes!AG822","v":0}]
[null,null,null,null,null,null,null,null,null,null,null,null,null,null,null,{"$f":"IF(referentes!AC827=\"\",\"\",IF(referentes!AC827=referentes!AH827,CONCATENATE(referentes!AC827,\" \",\" \",\" \",\" \"),IF(referentes!AC827=referentes!AI827,CONCATENATE(referentes!AH827,\" \",referentes!AI827,\" \",\" \"),CONCATENATE(referentes!AH827,\" \",referentes!AI827,\" \",referentes!AC827))))","v":""},{"$f":"IF(referentes!AB827=\"\",\"\",referentes!AB827)","v":""},null,null,null,{"$f":"TRIM(UPPER(CONCATENATE(referentes!AH823,\" \",referentes!AI823,\" \",referentes!AJ823,\" \",referentes!AK823,\" \",referentes!AF823)))","v":"SYNEDRA HANTZSCHIANA"},{"$f":"referentes!AG823","v":0}]
[null,null,null,null,null,null,null,null,null,null,null,null,null,null,null,{"$f":"IF(referentes!AC828=\"\",\"\",IF(referentes!AC828=referentes!AH828,CONCATENATE(referentes!AC828,\" \",\" \",\" \",\" \"),IF(referentes!AC828=referentes!AI828,CONCATENATE(referentes!AH828,\" \",referentes!AI828,\" \",\" \"),CONCATENATE(referentes!AH828,\" \",referentes!AI828,\" \",referentes!AC828))))","v":""},{"$f":"IF(referentes!AB828=\"\",\"\",referentes!AB828)","v":""},null,null,null,{"$f":"TRIM(UPPER(CONCATENATE(referentes!AH824,\" \",referentes!AI824,\" \",referentes!AJ824,\" \",referentes!AK824,\" \",referentes!AF824)))","v":"SYNEDRA ULNA"},{"$f":"referentes!AG824","v":0}]
[null,null,null,null,null,null,null,null,null,null,null,null,null,null,null,{"$f":"IF(referentes!AC829=\"\",\"\",IF(referentes!AC829=referentes!AH829,CONCATENATE(referentes!AC829,\" \",\" \",\" \",\" \"),IF(referentes!AC829=referentes!AI829,CONCATENATE(referentes!AH829,\" \",referentes!AI829,\" \",\" \"),CONCATENATE(referentes!AH829,\" \",referentes!AI829,\" \",referentes!AC829))))","v":""},{"$f":"IF(referentes!AB829=\"\",\"\",referentes!AB829)","v":""},null,null,null,{"$f":"TRIM(UPPER(CONCATENATE(referentes!AH825,\" \",referentes!AI825,\" \",referentes!AJ825,\" \",referentes!AK825,\" \",referentes!AF825)))","v":"TERPSINOE"},{"$f":"referentes!AG825","v":0}]
[null,null,null,null,null,null,null,null,null,null,null,null,null,null,null,{"$f":"IF(referentes!AC830=\"\",\"\",IF(referentes!AC830=referentes!AH830,CONCATENATE(referentes!AC830,\" \",\" \",\" \",\" \"),IF(referentes!AC830=referentes!AI830,CONCATENATE(referentes!AH830,\" \",referentes!AI830,\" \",\" \"),CONCATENATE(referentes!AH830,\" \",referentes!AI830,\" \",referentes!AC830))))","v":""},{"$f":"IF(referentes!AB830=\"\",\"\",referentes!AB830)","v":""},null,null,null,{"$f":"TRIM(UPPER(CONCATENATE(referentes!AH826,\" \",referentes!AI826,\" \",referentes!AJ826,\" \",referentes!AK826,\" \",referentes!AF826)))","v":"TETRASELMIS"},{"$f":"referentes!AG826","v":0}]
[null,null,null,null,null,null,null,null,null,null,null,null,null,null,null,{"$f":"IF(referentes!AC831=\"\",\"\",IF(referentes!AC831=referentes!AH831,CONCATENATE(referentes!AC831,\" \",\" \",\" \",\" \"),IF(referentes!AC831=referentes!AI831,CONCATENATE(referentes!AH831,\" \",referentes!AI831,\" \",\" \"),CONCATENATE(referentes!AH831,\" \",referentes!AI831,\" \",referentes!AC831))))","v":""},{"$f":"IF(referentes!AB831=\"\",\"\",referentes!AB831)","v":""},null,null,null,{"$f":"TRIM(UPPER(CONCATENATE(referentes!AH827,\" \",referentes!AI827,\" \",referentes!AJ827,\" \",referentes!AK827,\" \",referentes!AF827)))","v":"TETRAËDRON"},{"$f":"referentes!AG827","v":0}]
[null,null,null,null,null,null,null,null,null,null,null,null,null,null,null,{"$f":"IF(referentes!AC832=\"\",\"\",IF(referentes!AC832=referentes!AH832,CONCATENATE(referentes!AC832,\" \",\" \",\" \",\" \"),IF(referentes!AC832=referentes!AI832,CONCATENATE(referentes!AH832,\" \",referentes!AI832,\" \",\" \"),CONCATENATE(referentes!AH832,\" \",referentes!AI832,\" \",referentes!AC832))))","v":""},{"$f":"IF(referentes!AB832=\"\",\"\",referentes!AB832)","v":""},null,null,null,{"$f":"TRIM(UPPER(CONCATENATE(referentes!AH828,\" \",referentes!AI828,\" \",referentes!AJ828,\" \",referentes!AK828,\" \",referentes!AF828)))","v":"THALASSIONEMA"},{"$f":"referentes!AG828","v":0}]
[null,null,null,null,null,null,null,null,null,null,null,null,null,null,null,{"$f":"IF(referentes!AC833=\"\",\"\",IF(referentes!AC833=referentes!AH833,CONCATENATE(referentes!AC833,\" \",\" \",\" \",\" \"),IF(referentes!AC833=referentes!AI833,CONCATENATE(referentes!AH833,\" \",referentes!AI833,\" \",\" \"),CONCATENATE(referentes!AH833,\" \",referentes!AI833,\" \",referentes!AC833))))","v":""},{"$f":"IF(referentes!AB833=\"\",\"\",referentes!AB833)","v":""},null,null,null,{"$f":"TRIM(UPPER(CONCATENATE(referentes!AH829,\" \",referentes!AI829,\" \",referentes!AJ829,\" \",referentes!AK829,\" \",referentes!AF829)))","v":"THALASSIONEMA BACILLARE"},{"$f":"referentes!AG829","v":0}]
[null,null,null,null,null,null,null,null,null,null,null,null,null,null,null,{"$f":"IF(referentes!AC834=\"\",\"\",IF(referentes!AC834=referentes!AH834,CONCATENATE(referentes!AC834,\" \",\" \",\" \",\" \"),IF(referentes!AC834=referentes!AI834,CONCATENATE(referentes!AH834,\" \",referentes!AI834,\" \",\" \"),CONCATENATE(referentes!AH834,\" \",referentes!AI834,\" \",referentes!AC834))))","v":""},{"$f":"IF(referentes!AB834=\"\",\"\",referentes!AB834)","v":""},null,null,null,{"$f":"TRIM(UPPER(CONCATENATE(referentes!AH830,\" \",referentes!AI830,\" \",referentes!AJ830,\" \",referentes!AK830,\" \",referentes!AF830)))","v":"THALASSIONEMA FRAUENFELDII"},{"$f":"referentes!AG830","v":0}]
[null,null,null,null,null,null,null,null,null,null,null,null,null,null,null,{"$f":"IF(referentes!AC835=\"\",\"\",IF(referentes!AC835=referentes!AH835,CONCATENATE(referentes!AC835,\" \",\" \",\" \",\" \"),IF(referentes!AC835=referentes!AI835,CONCATENATE(referentes!AH835,\" \",referentes!AI835,\" \",\" \"),CONCATENATE(referentes!AH835,\" \",referentes!AI835,\" \",referentes!AC835))))","v":""},{"$f":"IF(referentes!AB835=\"\",\"\",referentes!AB835)","v":""},null,null,null,{"$f":"TRIM(UPPER(CONCATENATE(referentes!AH831,\" \",referentes!AI831,\" \",referentes!AJ831,\" \",referentes!AK831,\" \",referentes!AF831)))","v":"THALASSIONEMA NITZSCHIOIDES"},{"$f":"referentes!AG831","v":0}]
[null,null,null,null,null,null,null,null,null,null,null,null,null,null,null,{"$f":"IF(referentes!AC836=\"\",\"\",IF(referentes!AC836=referentes!AH836,CONCATENATE(referentes!AC836,\" \",\" \",\" \",\" \"),IF(referentes!AC836=referentes!AI836,CONCATENATE(referentes!AH836,\" \",referentes!AI836,\" \",\" \"),CONCATENATE(referentes!AH836,\" \",referentes!AI836,\" \",referentes!AC836))))","v":""},{"$f":"IF(referentes!AB836=\"\",\"\",referentes!AB836)","v":""},null,null,null,{"$f":"TRIM(UPPER(CONCATENATE(referentes!AH832,\" \",referentes!AI832,\" \",referentes!AJ832,\" \",referentes!AK832,\" \",referentes!AF832)))","v":"THALASSIONEMA SYNEDRIFORME"},{"$f":"referentes!AG832","v":0}]
[null,null,null,null,null,null,null,null,null,null,null,null,null,null,null,{"$f":"IF(referentes!AC837=\"\",\"\",IF(referentes!AC837=referentes!AH837,CONCATENATE(referentes!AC837,\" \",\" \",\" \",\" \"),IF(referentes!AC837=referentes!AI837,CONCATENATE(referentes!AH837,\" \",referentes!AI837,\" \",\" \"),CONCATENATE(referentes!AH837,\" \",referentes!AI837,\" \",referentes!AC837))))","v":""},{"$f":"IF(referentes!AB837=\"\",\"\",referentes!AB837)","v":""},null,null,null,{"$f":"TRIM(UPPER(CONCATENATE(referentes!AH833,\" \",referentes!AI833,\" \",referentes!AJ833,\" \",referentes!AK833,\" \",referentes!AF833)))","v":"THALASSIOPHYSA"},{"$f":"referentes!AG833","v":0}]
[null,null,null,null,null,null,null,null,null,null,null,null,null,null,null,{"$f":"IF(referentes!AC838=\"\",\"\",IF(referentes!AC838=referentes!AH838,CONCATENATE(referentes!AC838,\" \",\" \",\" \",\" \"),IF(referentes!AC838=referentes!AI838,CONCATENATE(referentes!AH838,\" \",referentes!AI838,\" \",\" \"),CONCATENATE(referentes!AH838,\" \",referentes!AI838,\" \",referentes!AC838))))","v":""},{"$f":"IF(referentes!AB838=\"\",\"\",referentes!AB838)","v":""},null,null,null,{"$f":"TRIM(UPPER(CONCATENATE(referentes!AH834,\" \",referentes!AI834,\" \",referentes!AJ834,\" \",referentes!AK834,\" \",referentes!AF834)))","v":"THALASSIOPHYSA HYALINA"},{"$f":"referentes!AG834","v":0}]
[null,null,null,null,null,null,null,null,null,null,null,null,null,null,null,{"$f":"IF(referentes!AC839=\"\",\"\",IF(referentes!AC839=referentes!AH839,CONCATENATE(referentes!AC839,\" \",\" \",\" \",\" \"),IF(referentes!AC839=referentes!AI839,CONCATENATE(referentes!AH839,\" \",referentes!AI839,\" \",\" \"),CONCATENATE(referentes!AH839,\" \",referentes!AI839,\" \",referentes!AC839))))","v":""},{"$f":"IF(referentes!AB839=\"\",\"\",referentes!AB839)","v":""},null,null,null,{"$f":"TRIM(UPPER(CONCATENATE(referentes!AH835,\" \",referentes!AI835,\" \",referentes!AJ835,\" \",referentes!AK835,\" \",referentes!AF835)))","v":"THALASSIOSIRA"},{"$f":"referentes!AG835","v":0}]
[null,null,null,null,null,null,null,null,null,null,null,null,null,null,null,{"$f":"IF(referentes!AC840=\"\",\"\",IF(referentes!AC840=referentes!AH840,CONCATENATE(referentes!AC840,\" \",\" \",\" \",\" \"),IF(referentes!AC840=referentes!AI840,CONCATENATE(referentes!AH840,\" \",referentes!AI840,\" \",\" \"),CONCATENATE(referentes!AH840,\" \",referentes!AI840,\" \",referentes!AC840))))","v":""},{"$f":"IF(referentes!AB840=\"\",\"\",referentes!AB840)","v":""},null,null,null,{"$f":"TRIM(UPPER(CONCATENATE(referentes!AH836,\" \",referentes!AI836,\" \",referentes!AJ836,\" \",referentes!AK836,\" \",referentes!AF836)))","v":"THALASSIOSIRA AESTIVALIS"},{"$f":"referentes!AG836","v":0}]
[null,null,null,null,null,null,null,null,null,null,null,null,null,null,null,{"$f":"IF(referentes!AC841=\"\",\"\",IF(referentes!AC841=referentes!AH841,CONCATENATE(referentes!AC841,\" \",\" \",\" \",\" \"),IF(referentes!AC841=referentes!AI841,CONCATENATE(referentes!AH841,\" \",referentes!AI841,\" \",\" \"),CONCATENATE(referentes!AH841,\" \",referentes!AI841,\" \",referentes!AC841))))","v":""},{"$f":"IF(referentes!AB841=\"\",\"\",referentes!AB841)","v":""},null,null,null,{"$f":"TRIM(UPPER(CONCATENATE(referentes!AH837,\" \",referentes!AI837,\" \",referentes!AJ837,\" \",referentes!AK837,\" \",referentes!AF837)))","v":"THALASSIOSIRA ALLENII"},{"$f":"referentes!AG837","v":0}]
[null,null,null,null,null,null,null,null,null,null,null,null,null,null,null,{"$f":"IF(referentes!AC842=\"\",\"\",IF(referentes!AC842=referentes!AH842,CONCATENATE(referentes!AC842,\" \",\" \",\" \",\" \"),IF(referentes!AC842=referentes!AI842,CONCATENATE(referentes!AH842,\" \",referentes!AI842,\" \",\" \"),CONCATENATE(referentes!AH842,\" \",referentes!AI842,\" \",referentes!AC842))))","v":""},{"$f":"IF(referentes!AB842=\"\",\"\",referentes!AB842)","v":""},null,null,null,{"$f":"TRIM(UPPER(CONCATENATE(referentes!AH838,\" \",referentes!AI838,\" \",referentes!AJ838,\" \",referentes!AK838,\" \",referentes!AF838)))","v":"THALASSIOSIRA ANGULATA"},{"$f":"referentes!AG838","v":0}]
[null,null,null,null,null,null,null,null,null,null,null,null,null,null,null,{"$f":"IF(referentes!AC843=\"\",\"\",IF(referentes!AC843=referentes!AH843,CONCATENATE(referentes!AC843,\" \",\" \",\" \",\" \"),IF(referentes!AC843=referentes!AI843,CONCATENATE(referentes!AH843,\" \",referentes!AI843,\" \",\" \"),CONCATENATE(referentes!AH843,\" \",referentes!AI843,\" \",referentes!AC843))))","v":""},{"$f":"IF(referentes!AB843=\"\",\"\",referentes!AB843)","v":""},null,null,null,{"$f":"TRIM(UPPER(CONCATENATE(referentes!AH839,\" \",referentes!AI839,\" \",referentes!AJ839,\" \",referentes!AK839,\" \",referentes!AF839)))","v":"THALASSIOSIRA ANGUSTE-LINEATA"},{"$f":"referentes!AG839","v":0}]
[null,null,null,null,null,null,null,null,null,null,null,null,null,null,null,{"$f":"IF(referentes!AC844=\"\",\"\",IF(referentes!AC844=referentes!AH844,CONCATENATE(referentes!AC844,\" \",\" \",\" \",\" \"),IF(referentes!AC844=referentes!AI844,CONCATENATE(referentes!AH844,\" \",referentes!AI844,\" \",\" \"),CONCATENATE(referentes!AH844,\" \",referentes!AI844,\" \",referentes!AC844))))","v":""},{"$f":"IF(referentes!AB844=\"\",\"\",referentes!AB844)","v":""},null,null,null,{"$f":"TRIM(UPPER(CONCATENATE(referentes!AH840,\" \",referentes!AI840,\" \",referentes!AJ840,\" \",referentes!AK840,\" \",referentes!AF840)))","v":"THALASSIOSIRA ECCENTRICA"},{"$f":"referentes!AG840","v":0}]
[null,null,null,null,null,null,null,null,null,null,null,null,null,null,null,{"$f":"IF(referentes!AC845=\"\",\"\",IF(referentes!AC845=referentes!AH845,CONCATENATE(referentes!AC845,\" \",\" \",\" \",\" \"),IF(referentes!AC845=referentes!AI845,CONCATENATE(referentes!AH845,\" \",referentes!AI845,\" \",\" \"),CONCATENATE(referentes!AH845,\" \",referentes!AI845,\" \",referentes!AC845))))","v":""},{"$f":"IF(referentes!AB845=\"\",\"\",referentes!AB845)","v":""},null,null,null,{"$f":"TRIM(UPPER(CONCATENATE(referentes!AH841,\" \",referentes!AI841,\" \",referentes!AJ841,\" \",referentes!AK841,\" \",referentes!AF841)))","v":"THALASSIOSIRA LEPTOPUS"},{"$f":"referentes!AG841","v":0}]
[null,null,null,null,null,null,null,null,null,null,null,null,null,null,null,{"$f":"IF(referentes!AC846=\"\",\"\",IF(referentes!AC846=referentes!AH846,CONCATENATE(referentes!AC846,\" \",\" \",\" \",\" \"),IF(referentes!AC846=referentes!AI846,CONCATENATE(referentes!AH846,\" \",referentes!AI846,\" \",\" \"),CONCATENATE(referentes!AH846,\" \",referentes!AI846,\" \",referentes!AC846))))","v":""},{"$f":"IF(referentes!AB846=\"\",\"\",referentes!AB846)","v":""},null,null,null,{"$f":"TRIM(UPPER(CONCATENATE(referentes!AH842,\" \",referentes!AI842,\" \",referentes!AJ842,\" \",referentes!AK842,\" \",referentes!AF842)))","v":"THALASSIOSIRA LINEATA"},{"$f":"referentes!AG842","v":0}]
[null,null,null,null,null,null,null,null,null,null,null,null,null,null,null,{"$f":"IF(referentes!AC847=\"\",\"\",IF(referentes!AC847=referentes!AH847,CONCATENATE(referentes!AC847,\" \",\" \",\" \",\" \"),IF(referentes!AC847=referentes!AI847,CONCATENATE(referentes!AH847,\" \",referentes!AI847,\" \",\" \"),CONCATENATE(referentes!AH847,\" \",referentes!AI847,\" \",referentes!AC847))))","v":""},{"$f":"IF(referentes!AB847=\"\",\"\",referentes!AB847)","v":""},null,null,null,{"$f":"TRIM(UPPER(CONCATENATE(referentes!AH843,\" \",referentes!AI843,\" \",referentes!AJ843,\" \",referentes!AK843,\" \",referentes!AF843)))","v":"THALASSIOSIRA MEDITERRANEA"},{"$f":"referentes!AG843","v":0}]
[null,null,null,null,null,null,null,null,null,null,null,null,null,null,null,{"$f":"IF(referentes!AC848=\"\",\"\",IF(referentes!AC848=referentes!AH848,CONCATENATE(referentes!AC848,\" \",\" \",\" \",\" \"),IF(referentes!AC848=referentes!AI848,CONCATENATE(referentes!AH848,\" \",referentes!AI848,\" \",\" \"),CONCATENATE(referentes!AH848,\" \",referentes!AI848,\" \",referentes!AC848))))","v":""},{"$f":"IF(referentes!AB848=\"\",\"\",referentes!AB848)","v":""},null,null,null,{"$f":"TRIM(UPPER(CONCATENATE(referentes!AH844,\" \",referentes!AI844,\" \",referentes!AJ844,\" \",referentes!AK844,\" \",referentes!AF844)))","v":"THALASSIOSIRA PUNCTIGERA"},{"$f":"referentes!AG844","v":0}]
[null,null,null,null,null,null,null,null,null,null,null,null,null,null,null,{"$f":"IF(referentes!AC849=\"\",\"\",IF(referentes!AC849=referentes!AH849,CONCATENATE(referentes!AC849,\" \",\" \",\" \",\" \"),IF(referentes!AC849=referentes!AI849,CONCATENATE(referentes!AH849,\" \",referentes!AI849,\" \",\" \"),CONCATENATE(referentes!AH849,\" \",referentes!AI849,\" \",referentes!AC849))))","v":""},{"$f":"IF(referentes!AB849=\"\",\"\",referentes!AB849)","v":""},null,null,null,{"$f":"TRIM(UPPER(CONCATENATE(referentes!AH845,\" \",referentes!AI845,\" \",referentes!AJ845,\" \",referentes!AK845,\" \",referentes!AF845)))","v":"THALASSIOSIRA SUBTILIS"},{"$f":"referentes!AG845","v":0}]
[null,null,null,null,null,null,null,null,null,null,null,null,null,null,null,{"$f":"IF(referentes!AC850=\"\",\"\",IF(referentes!AC850=referentes!AH850,CONCATENATE(referentes!AC850,\" \",\" \",\" \",\" \"),IF(referentes!AC850=referentes!AI850,CONCATENATE(referentes!AH850,\" \",referentes!AI850,\" \",\" \"),CONCATENATE(referentes!AH850,\" \",referentes!AI850,\" \",referentes!AC850))))","v":""},{"$f":"IF(referentes!AB850=\"\",\"\",referentes!AB850)","v":""},null,null,null,{"$f":"TRIM(UPPER(CONCATENATE(referentes!AH846,\" \",referentes!AI846,\" \",referentes!AJ846,\" \",referentes!AK846,\" \",referentes!AF846)))","v":"THALASSIOSIRA SYMMETRICA"},{"$f":"referentes!AG846","v":0}]
[null,null,null,null,null,null,null,null,null,null,null,null,null,null,null,{"$f":"IF(referentes!AC851=\"\",\"\",IF(referentes!AC851=referentes!AH851,CONCATENATE(referentes!AC851,\" \",\" \",\" \",\" \"),IF(referentes!AC851=referentes!AI851,CONCATENATE(referentes!AH851,\" \",referentes!AI851,\" \",\" \"),CONCATENATE(referentes!AH851,\" \",referentes!AI851,\" \",referentes!AC851))))","v":""},{"$f":"IF(referentes!AB851=\"\",\"\",referentes!AB851)","v":""},null,null,null,{"$f":"TRIM(UPPER(CONCATENATE(referentes!AH847,\" \",referentes!AI847,\" \",referentes!AJ847,\" \",referentes!AK847,\" \",referentes!AF847)))","v":"THALASSIOTHRIX"},{"$f":"referentes!AG847","v":0}]
[null,null,null,null,null,null,null,null,null,null,null,null,null,null,null,{"$f":"IF(referentes!AC852=\"\",\"\",IF(referentes!AC852=referentes!AH852,CONCATENATE(referentes!AC852,\" \",\" \",\" \",\" \"),IF(referentes!AC852=referentes!AI852,CONCATENATE(referentes!AH852,\" \",referentes!AI852,\" \",\" \"),CONCATENATE(referentes!AH852,\" \",referentes!AI852,\" \",referentes!AC852))))","v":""},{"$f":"IF(referentes!AB852=\"\",\"\",referentes!AB852)","v":""},null,null,null,{"$f":"TRIM(UPPER(CONCATENATE(referentes!AH848,\" \",referentes!AI848,\" \",referentes!AJ848,\" \",referentes!AK848,\" \",referentes!AF848)))","v":"THALASSIOTHRIX LONGISSIMA"},{"$f":"referentes!AG848","v":0}]
[null,null,null,null,null,null,null,null,null,null,null,null,null,null,null,{"$f":"IF(referentes!AC853=\"\",\"\",IF(referentes!AC853=referentes!AH853,CONCATENATE(referentes!AC853,\" \",\" \",\" \",\" \"),IF(referentes!AC853=referentes!AI853,CONCATENATE(referentes!AH853,\" \",referentes!AI853,\" \",\" \"),CONCATENATE(referentes!AH853,\" \",referentes!AI853,\" \",referentes!AC853))))","v":""},{"$f":"IF(referentes!AB853=\"\",\"\",referentes!AB853)","v":""},null,null,null,{"$f":"TRIM(UPPER(CONCATENATE(referentes!AH849,\" \",referentes!AI849,\" \",referentes!AJ849,\" \",referentes!AK849,\" \",referentes!AF849)))","v":"THALASSIOTHRIX MEDITERRANEA"},{"$f":"referentes!AG849","v":0}]
[null,null,null,null,null,null,null,null,null,null,null,null,null,null,null,{"$f":"IF(referentes!AC854=\"\",\"\",IF(referentes!AC854=referentes!AH854,CONCATENATE(referentes!AC854,\" \",\" \",\" \",\" \"),IF(referentes!AC854=referentes!AI854,CONCATENATE(referentes!AH854,\" \",referentes!AI854,\" \",\" \"),CONCATENATE(referentes!AH854,\" \",referentes!AI854,\" \",referentes!AC854))))","v":""},{"$f":"IF(referentes!AB854=\"\",\"\",referentes!AB854)","v":""},null,null,null,{"$f":"TRIM(UPPER(CONCATENATE(referentes!AH850,\" \",referentes!AI850,\" \",referentes!AJ850,\" \",referentes!AK850,\" \",referentes!AF850)))","v":"TORODINIUM"},{"$f":"referentes!AG850","v":0}]
[null,null,null,null,null,null,null,null,null,null,null,null,null,null,null,{"$f":"IF(referentes!AC855=\"\",\"\",IF(referentes!AC855=referentes!AH855,CONCATENATE(referentes!AC855,\" \",\" \",\" \",\" \"),IF(referentes!AC855=referentes!AI855,CONCATENATE(referentes!AH855,\" \",referentes!AI855,\" \",\" \"),CONCATENATE(referentes!AH855,\" \",referentes!AI855,\" \",referentes!AC855))))","v":""},{"$f":"IF(referentes!AB855=\"\",\"\",referentes!AB855)","v":""},null,null,null,{"$f":"TRIM(UPPER(CONCATENATE(referentes!AH851,\" \",referentes!AI851,\" \",referentes!AJ851,\" \",referentes!AK851,\" \",referentes!AF851)))","v":"TORODINIUM TEREDO"},{"$f":"referentes!AG851","v":0}]
[null,null,null,null,null,null,null,null,null,null,null,null,null,null,null,{"$f":"IF(referentes!AC856=\"\",\"\",IF(referentes!AC856=referentes!AH856,CONCATENATE(referentes!AC856,\" \",\" \",\" \",\" \"),IF(referentes!AC856=referentes!AI856,CONCATENATE(referentes!AH856,\" \",referentes!AI856,\" \",\" \"),CONCATENATE(referentes!AH856,\" \",referentes!AI856,\" \",referentes!AC856))))","v":""},{"$f":"IF(referentes!AB856=\"\",\"\",referentes!AB856)","v":""},null,null,null,{"$f":"TRIM(UPPER(CONCATENATE(referentes!AH852,\" \",referentes!AI852,\" \",referentes!AJ852,\" \",referentes!AK852,\" \",referentes!AF852)))","v":"TOXARIUM"},{"$f":"referentes!AG852","v":0}]
[null,null,null,null,null,null,null,null,null,null,null,null,null,null,null,{"$f":"IF(referentes!AC857=\"\",\"\",IF(referentes!AC857=referentes!AH857,CONCATENATE(referentes!AC857,\" \",\" \",\" \",\" \"),IF(referentes!AC857=referentes!AI857,CONCATENATE(referentes!AH857,\" \",referentes!AI857,\" \",\" \"),CONCATENATE(referentes!AH857,\" \",referentes!AI857,\" \",referentes!AC857))))","v":""},{"$f":"IF(referentes!AB857=\"\",\"\",referentes!AB857)","v":""},null,null,null,{"$f":"TRIM(UPPER(CONCATENATE(referentes!AH853,\" \",referentes!AI853,\" \",referentes!AJ853,\" \",referentes!AK853,\" \",referentes!AF853)))","v":"TOXARIUM HENNEDYANUM"},{"$f":"referentes!AG853","v":0}]
[null,null,null,null,null,null,null,null,null,null,null,null,null,null,null,{"$f":"IF(referentes!AC858=\"\",\"\",IF(referentes!AC858=referentes!AH858,CONCATENATE(referentes!AC858,\" \",\" \",\" \",\" \"),IF(referentes!AC858=referentes!AI858,CONCATENATE(referentes!AH858,\" \",referentes!AI858,\" \",\" \"),CONCATENATE(referentes!AH858,\" \",referentes!AI858,\" \",referentes!AC858))))","v":""},{"$f":"IF(referentes!AB858=\"\",\"\",referentes!AB858)","v":""},null,null,null,{"$f":"TRIM(UPPER(CONCATENATE(referentes!AH854,\" \",referentes!AI854,\" \",referentes!AJ854,\" \",referentes!AK854,\" \",referentes!AF854)))","v":"TOXARIUM UNDULATUM"},{"$f":"referentes!AG854","v":0}]
[null,null,null,null,null,null,null,null,null,null,null,null,null,null,null,{"$f":"IF(referentes!AC859=\"\",\"\",IF(referentes!AC859=referentes!AH859,CONCATENATE(referentes!AC859,\" \",\" \",\" \",\" \"),IF(referentes!AC859=referentes!AI859,CONCATENATE(referentes!AH859,\" \",referentes!AI859,\" \",\" \"),CONCATENATE(referentes!AH859,\" \",referentes!AI859,\" \",referentes!AC859))))","v":""},{"$f":"IF(referentes!AB859=\"\",\"\",referentes!AB859)","v":""},null,null,null,{"$f":"TRIM(UPPER(CONCATENATE(referentes!AH855,\" \",referentes!AI855,\" \",referentes!AJ855,\" \",referentes!AK855,\" \",referentes!AF855)))","v":"TRACHELOMONAS"},{"$f":"referentes!AG855","v":0}]
[null,null,null,null,null,null,null,null,null,null,null,null,null,null,null,{"$f":"IF(referentes!AC860=\"\",\"\",IF(referentes!AC860=referentes!AH860,CONCATENATE(referentes!AC860,\" \",\" \",\" \",\" \"),IF(referentes!AC860=referentes!AI860,CONCATENATE(referentes!AH860,\" \",referentes!AI860,\" \",\" \"),CONCATENATE(referentes!AH860,\" \",referentes!AI860,\" \",referentes!AC860))))","v":""},{"$f":"IF(referentes!AB860=\"\",\"\",referentes!AB860)","v":""},null,null,null,{"$f":"TRIM(UPPER(CONCATENATE(referentes!AH856,\" \",referentes!AI856,\" \",referentes!AJ856,\" \",referentes!AK856,\" \",referentes!AF856)))","v":"TRACHYNEIS"},{"$f":"referentes!AG856","v":0}]
[null,null,null,null,null,null,null,null,null,null,null,null,null,null,null,{"$f":"IF(referentes!AC861=\"\",\"\",IF(referentes!AC861=referentes!AH861,CONCATENATE(referentes!AC861,\" \",\" \",\" \",\" \"),IF(referentes!AC861=referentes!AI861,CONCATENATE(referentes!AH861,\" \",referentes!AI861,\" \",\" \"),CONCATENATE(referentes!AH861,\" \",referentes!AI861,\" \",referentes!AC861))))","v":""},{"$f":"IF(referentes!AB861=\"\",\"\",referentes!AB861)","v":""},null,null,null,{"$f":"TRIM(UPPER(CONCATENATE(referentes!AH857,\" \",referentes!AI857,\" \",referentes!AJ857,\" \",referentes!AK857,\" \",referentes!AF857)))","v":"TRACHYNEIS ASPERA"},{"$f":"referentes!AG857","v":0}]
[null,null,null,null,null,null,null,null,null,null,null,null,null,null,null,{"$f":"IF(referentes!AC862=\"\",\"\",IF(referentes!AC862=referentes!AH862,CONCATENATE(referentes!AC862,\" \",\" \",\" \",\" \"),IF(referentes!AC862=referentes!AI862,CONCATENATE(referentes!AH862,\" \",referentes!AI862,\" \",\" \"),CONCATENATE(referentes!AH862,\" \",referentes!AI862,\" \",referentes!AC862))))","v":""},{"$f":"IF(referentes!AB862=\"\",\"\",referentes!AB862)","v":""},null,null,null,{"$f":"TRIM(UPPER(CONCATENATE(referentes!AH858,\" \",referentes!AI858,\" \",referentes!AJ858,\" \",referentes!AK858,\" \",referentes!AF858)))","v":"TREBOUXIA"},{"$f":"referentes!AG858","v":0}]
[null,null,null,null,null,null,null,null,null,null,null,null,null,null,null,{"$f":"IF(referentes!AC863=\"\",\"\",IF(referentes!AC863=referentes!AH863,CONCATENATE(referentes!AC863,\" \",\" \",\" \",\" \"),IF(referentes!AC863=referentes!AI863,CONCATENATE(referentes!AH863,\" \",referentes!AI863,\" \",\" \"),CONCATENATE(referentes!AH863,\" \",referentes!AI863,\" \",referentes!AC863))))","v":""},{"$f":"IF(referentes!AB863=\"\",\"\",referentes!AB863)","v":""},null,null,null,{"$f":"TRIM(UPPER(CONCATENATE(referentes!AH859,\" \",referentes!AI859,\" \",referentes!AJ859,\" \",referentes!AK859,\" \",referentes!AF859)))","v":"TRICERATIUM"},{"$f":"referentes!AG859","v":0}]
[null,null,null,null,null,null,null,null,null,null,null,null,null,null,null,{"$f":"IF(referentes!AC864=\"\",\"\",IF(referentes!AC864=referentes!AH864,CONCATENATE(referentes!AC864,\" \",\" \",\" \",\" \"),IF(referentes!AC864=referentes!AI864,CONCATENATE(referentes!AH864,\" \",referentes!AI864,\" \",\" \"),CONCATENATE(referentes!AH864,\" \",referentes!AI864,\" \",referentes!AC864))))","v":""},{"$f":"IF(referentes!AB864=\"\",\"\",referentes!AB864)","v":""},null,null,null,{"$f":"TRIM(UPPER(CONCATENATE(referentes!AH860,\" \",referentes!AI860,\" \",referentes!AJ860,\" \",referentes!AK860,\" \",referentes!AF860)))","v":"TRICERATIUM DUBIUM"},{"$f":"referentes!AG860","v":0}]
[null,null,null,null,null,null,null,null,null,null,null,null,null,null,null,{"$f":"IF(referentes!AC865=\"\",\"\",IF(referentes!AC865=referentes!AH865,CONCATENATE(referentes!AC865,\" \",\" \",\" \",\" \"),IF(referentes!AC865=referentes!AI865,CONCATENATE(referentes!AH865,\" \",referentes!AI865,\" \",\" \"),CONCATENATE(referentes!AH865,\" \",referentes!AI865,\" \",referentes!AC865))))","v":""},{"$f":"IF(referentes!AB865=\"\",\"\",referentes!AB865)","v":""},null,null,null,{"$f":"TRIM(UPPER(CONCATENATE(referentes!AH861,\" \",referentes!AI861,\" \",referentes!AJ861,\" \",referentes!AK861,\" \",referentes!AF861)))","v":"TRICERATIUM FAVUS"},{"$f":"referentes!AG861","v":0}]
[null,null,null,null,null,null,null,null,null,null,null,null,null,null,null,{"$f":"IF(referentes!AC866=\"\",\"\",IF(referentes!AC866=referentes!AH866,CONCATENATE(referentes!AC866,\" \",\" \",\" \",\" \"),IF(referentes!AC866=referentes!AI866,CONCATENATE(referentes!AH866,\" \",referentes!AI866,\" \",\" \"),CONCATENATE(referentes!AH866,\" \",referentes!AI866,\" \",referentes!AC866))))","v":""},{"$f":"IF(referentes!AB866=\"\",\"\",referentes!AB866)","v":""},null,null,null,{"$f":"TRIM(UPPER(CONCATENATE(referentes!AH862,\" \",referentes!AI862,\" \",referentes!AJ862,\" \",referentes!AK862,\" \",referentes!AF862)))","v":"TRICERATIUM FORMOSUM"},{"$f":"referentes!AG862","v":0}]
[null,null,null,null,null,null,null,null,null,null,null,null,null,null,null,{"$f":"IF(referentes!AC867=\"\",\"\",IF(referentes!AC867=referentes!AH867,CONCATENATE(referentes!AC867,\" \",\" \",\" \",\" \"),IF(referentes!AC867=referentes!AI867,CONCATENATE(referentes!AH867,\" \",referentes!AI867,\" \",\" \"),CONCATENATE(referentes!AH867,\" \",referentes!AI867,\" \",referentes!AC867))))","v":""},{"$f":"IF(referentes!AB867=\"\",\"\",referentes!AB867)","v":""},null,null,null,{"$f":"TRIM(UPPER(CONCATENATE(referentes!AH863,\" \",referentes!AI863,\" \",referentes!AJ863,\" \",referentes!AK863,\" \",referentes!AF863)))","v":"TRICERATIUM GIBBOSUM"},{"$f":"referentes!AG863","v":0}]
[null,null,null,null,null,null,null,null,null,null,null,null,null,null,null,{"$f":"IF(referentes!AC868=\"\",\"\",IF(referentes!AC868=referentes!AH868,CONCATENATE(referentes!AC868,\" \",\" \",\" \",\" \"),IF(referentes!AC868=referentes!AI868,CONCATENATE(referentes!AH868,\" \",referentes!AI868,\" \",\" \"),CONCATENATE(referentes!AH868,\" \",referentes!AI868,\" \",referentes!AC868))))","v":""},{"$f":"IF(referentes!AB868=\"\",\"\",referentes!AB868)","v":""},null,null,null,{"$f":"TRIM(UPPER(CONCATENATE(referentes!AH864,\" \",referentes!AI864,\" \",referentes!AJ864,\" \",referentes!AK864,\" \",referentes!AF864)))","v":"TRICERATIUM PELAGICUM"},{"$f":"referentes!AG864","v":0}]
[null,null,null,null,null,null,null,null,null,null,null,null,null,null,null,{"$f":"IF(referentes!AC869=\"\",\"\",IF(referentes!AC869=referentes!AH869,CONCATENATE(referentes!AC869,\" \",\" \",\" \",\" \"),IF(referentes!AC869=referentes!AI869,CONCATENATE(referentes!AH869,\" \",referentes!AI869,\" \",\" \"),CONCATENATE(referentes!AH869,\" \",referentes!AI869,\" \",referentes!AC869))))","v":""},{"$f":"IF(referentes!AB869=\"\",\"\",referentes!AB869)","v":""},null,null,null,{"$f":"TRIM(UPPER(CONCATENATE(referentes!AH865,\" \",referentes!AI865,\" \",referentes!AJ865,\" \",referentes!AK865,\" \",referentes!AF865)))","v":"TRICERATIUM PENTACRINUS"},{"$f":"referentes!AG865","v":0}]
[null,null,null,null,null,null,null,null,null,null,null,null,null,null,null,{"$f":"IF(referentes!AC870=\"\",\"\",IF(referentes!AC870=referentes!AH870,CONCATENATE(referentes!AC870,\" \",\" \",\" \",\" \"),IF(referentes!AC870=referentes!AI870,CONCATENATE(referentes!AH870,\" \",referentes!AI870,\" \",\" \"),CONCATENATE(referentes!AH870,\" \",referentes!AI870,\" \",referentes!AC870))))","v":""},{"$f":"IF(referentes!AB870=\"\",\"\",referentes!AB870)","v":""},null,null,null,{"$f":"TRIM(UPPER(CONCATENATE(referentes!AH866,\" \",referentes!AI866,\" \",referentes!AJ866,\" \",referentes!AK866,\" \",referentes!AF866)))","v":"TRICERATIUM ROBERTSIANUM"},{"$f":"referentes!AG866","v":0}]
[null,null,null,null,null,null,null,null,null,null,null,null,null,null,null,{"$f":"IF(referentes!AC871=\"\",\"\",IF(referentes!AC871=referentes!AH871,CONCATENATE(referentes!AC871,\" \",\" \",\" \",\" \"),IF(referentes!AC871=referentes!AI871,CONCATENATE(referentes!AH871,\" \",referentes!AI871,\" \",\" \"),CONCATENATE(referentes!AH871,\" \",referentes!AI871,\" \",referentes!AC871))))","v":""},{"$f":"IF(referentes!AB871=\"\",\"\",referentes!AB871)","v":""},null,null,null,{"$f":"TRIM(UPPER(CONCATENATE(referentes!AH867,\" \",referentes!AI867,\" \",referentes!AJ867,\" \",referentes!AK867,\" \",referentes!AF867)))","v":"TRICERATIUM SHADBOLTIANUM"},{"$f":"referentes!AG867","v":0}]
[null,null,null,null,null,null,null,null,null,null,null,null,null,null,null,{"$f":"IF(referentes!AC872=\"\",\"\",IF(referentes!AC872=referentes!AH872,CONCATENATE(referentes!AC872,\" \",\" \",\" \",\" \"),IF(referentes!AC872=referentes!AI872,CONCATENATE(referentes!AH872,\" \",referentes!AI872,\" \",\" \"),CONCATENATE(referentes!AH872,\" \",referentes!AI872,\" \",referentes!AC872))))","v":""},{"$f":"IF(referentes!AB872=\"\",\"\",referentes!AB872)","v":""},null,null,null,{"$f":"TRIM(UPPER(CONCATENATE(referentes!AH868,\" \",referentes!AI868,\" \",referentes!AJ868,\" \",referentes!AK868,\" \",referentes!AF868)))","v":"TRICHODESMIUM"},{"$f":"referentes!AG868","v":0}]
[null,null,null,null,null,null,null,null,null,null,null,null,null,null,null,{"$f":"IF(referentes!AC873=\"\",\"\",IF(referentes!AC873=referentes!AH873,CONCATENATE(referentes!AC873,\" \",\" \",\" \",\" \"),IF(referentes!AC873=referentes!AI873,CONCATENATE(referentes!AH873,\" \",referentes!AI873,\" \",\" \"),CONCATENATE(referentes!AH873,\" \",referentes!AI873,\" \",referentes!AC873))))","v":""},{"$f":"IF(referentes!AB873=\"\",\"\",referentes!AB873)","v":""},null,null,null,{"$f":"TRIM(UPPER(CONCATENATE(referentes!AH869,\" \",referentes!AI869,\" \",referentes!AJ869,\" \",referentes!AK869,\" \",referentes!AF869)))","v":"TRICHODESMIUM CONTORTUM"},{"$f":"referentes!AG869","v":0}]
[null,null,null,null,null,null,null,null,null,null,null,null,null,null,null,{"$f":"IF(referentes!AC874=\"\",\"\",IF(referentes!AC874=referentes!AH874,CONCATENATE(referentes!AC874,\" \",\" \",\" \",\" \"),IF(referentes!AC874=referentes!AI874,CONCATENATE(referentes!AH874,\" \",referentes!AI874,\" \",\" \"),CONCATENATE(referentes!AH874,\" \",referentes!AI874,\" \",referentes!AC874))))","v":""},{"$f":"IF(referentes!AB874=\"\",\"\",referentes!AB874)","v":""},null,null,null,{"$f":"TRIM(UPPER(CONCATENATE(referentes!AH870,\" \",referentes!AI870,\" \",referentes!AJ870,\" \",referentes!AK870,\" \",referentes!AF870)))","v":"TRICHODESMIUM ERYTHRAEUM"},{"$f":"referentes!AG870","v":0}]
[null,null,null,null,null,null,null,null,null,null,null,null,null,null,null,{"$f":"IF(referentes!AC875=\"\",\"\",IF(referentes!AC875=referentes!AH875,CONCATENATE(referentes!AC875,\" \",\" \",\" \",\" \"),IF(referentes!AC875=referentes!AI875,CONCATENATE(referentes!AH875,\" \",referentes!AI875,\" \",\" \"),CONCATENATE(referentes!AH875,\" \",referentes!AI875,\" \",referentes!AC875))))","v":""},{"$f":"IF(referentes!AB875=\"\",\"\",referentes!AB875)","v":""},null,null,null,{"$f":"TRIM(UPPER(CONCATENATE(referentes!AH871,\" \",referentes!AI871,\" \",referentes!AJ871,\" \",referentes!AK871,\" \",referentes!AF871)))","v":"TRICHODESMIUM HILDEBRANDTII"},{"$f":"referentes!AG871","v":0}]
[null,null,null,null,null,null,null,null,null,null,null,null,null,null,null,{"$f":"IF(referentes!AC876=\"\",\"\",IF(referentes!AC876=referentes!AH876,CONCATENATE(referentes!AC876,\" \",\" \",\" \",\" \"),IF(referentes!AC876=referentes!AI876,CONCATENATE(referentes!AH876,\" \",referentes!AI876,\" \",\" \"),CONCATENATE(referentes!AH876,\" \",referentes!AI876,\" \",referentes!AC876))))","v":""},{"$f":"IF(referentes!AB876=\"\",\"\",referentes!AB876)","v":""},null,null,null,{"$f":"TRIM(UPPER(CONCATENATE(referentes!AH872,\" \",referentes!AI872,\" \",referentes!AJ872,\" \",referentes!AK872,\" \",referentes!AF872)))","v":"TRICHODESMIUM THIEBAUTII"},{"$f":"referentes!AG872","v":0}]
[null,null,null,null,null,null,null,null,null,null,null,null,null,null,null,{"$f":"IF(referentes!AC877=\"\",\"\",IF(referentes!AC877=referentes!AH877,CONCATENATE(referentes!AC877,\" \",\" \",\" \",\" \"),IF(referentes!AC877=referentes!AI877,CONCATENATE(referentes!AH877,\" \",referentes!AI877,\" \",\" \"),CONCATENATE(referentes!AH877,\" \",referentes!AI877,\" \",referentes!AC877))))","v":""},{"$f":"IF(referentes!AB877=\"\",\"\",referentes!AB877)","v":""},null,null,null,{"$f":"TRIM(UPPER(CONCATENATE(referentes!AH873,\" \",referentes!AI873,\" \",referentes!AJ873,\" \",referentes!AK873,\" \",referentes!AF873)))","v":"TRIGONIUM"},{"$f":"referentes!AG873","v":0}]
[null,null,null,null,null,null,null,null,null,null,null,null,null,null,null,{"$f":"IF(referentes!AC878=\"\",\"\",IF(referentes!AC878=referentes!AH878,CONCATENATE(referentes!AC878,\" \",\" \",\" \",\" \"),IF(referentes!AC878=referentes!AI878,CONCATENATE(referentes!AH878,\" \",referentes!AI878,\" \",\" \"),CONCATENATE(referentes!AH878,\" \",referentes!AI878,\" \",referentes!AC878))))","v":""},{"$f":"IF(referentes!AB878=\"\",\"\",referentes!AB878)","v":""},null,null,null,{"$f":"TRIM(UPPER(CONCATENATE(referentes!AH874,\" \",referentes!AI874,\" \",referentes!AJ874,\" \",referentes!AK874,\" \",referentes!AF874)))","v":"TRIGONIUM DIAPHANUM"},{"$f":"referentes!AG874","v":0}]
[null,null,null,null,null,null,null,null,null,null,null,null,null,null,null,{"$f":"IF(referentes!AC879=\"\",\"\",IF(referentes!AC879=referentes!AH879,CONCATENATE(referentes!AC879,\" \",\" \",\" \",\" \"),IF(referentes!AC879=referentes!AI879,CONCATENATE(referentes!AH879,\" \",referentes!AI879,\" \",\" \"),CONCATENATE(referentes!AH879,\" \",referentes!AI879,\" \",referentes!AC879))))","v":""},{"$f":"IF(referentes!AB879=\"\",\"\",referentes!AB879)","v":""},null,null,null,{"$f":"TRIM(UPPER(CONCATENATE(referentes!AH875,\" \",referentes!AI875,\" \",referentes!AJ875,\" \",referentes!AK875,\" \",referentes!AF875)))","v":"TRIGONIUM FORMOSUM"},{"$f":"referentes!AG875","v":0}]
[null,null,null,null,null,null,null,null,null,null,null,null,null,null,null,{"$f":"IF(referentes!AC880=\"\",\"\",IF(referentes!AC880=referentes!AH880,CONCATENATE(referentes!AC880,\" \",\" \",\" \",\" \"),IF(referentes!AC880=referentes!AI880,CONCATENATE(referentes!AH880,\" \",referentes!AI880,\" \",\" \"),CONCATENATE(referentes!AH880,\" \",referentes!AI880,\" \",referentes!AC880))))","v":""},{"$f":"IF(referentes!AB880=\"\",\"\",referentes!AB880)","v":""},null,null,null,{"$f":"TRIM(UPPER(CONCATENATE(referentes!AH876,\" \",referentes!AI876,\" \",referentes!AJ876,\" \",referentes!AK876,\" \",referentes!AF876)))","v":"TRIPOS"},{"$f":"referentes!AG876","v":0}]
[null,null,null,null,null,null,null,null,null,null,null,null,null,null,null,{"$f":"IF(referentes!AC881=\"\",\"\",IF(referentes!AC881=referentes!AH881,CONCATENATE(referentes!AC881,\" \",\" \",\" \",\" \"),IF(referentes!AC881=referentes!AI881,CONCATENATE(referentes!AH881,\" \",referentes!AI881,\" \",\" \"),CONCATENATE(referentes!AH881,\" \",referentes!AI881,\" \",referentes!AC881))))","v":""},{"$f":"IF(referentes!AB881=\"\",\"\",referentes!AB881)","v":""},null,null,null,{"$f":"TRIM(UPPER(CONCATENATE(referentes!AH877,\" \",referentes!AI877,\" \",referentes!AJ877,\" \",referentes!AK877,\" \",referentes!AF877)))","v":"TRYBLIONELLA"},{"$f":"referentes!AG877","v":0}]
[null,null,null,null,null,null,null,null,null,null,null,null,null,null,null,{"$f":"IF(referentes!AC882=\"\",\"\",IF(referentes!AC882=referentes!AH882,CONCATENATE(referentes!AC882,\" \",\" \",\" \",\" \"),IF(referentes!AC882=referentes!AI882,CONCATENATE(referentes!AH882,\" \",referentes!AI882,\" \",\" \"),CONCATENATE(referentes!AH882,\" \",referentes!AI882,\" \",referentes!AC882))))","v":""},{"$f":"IF(referentes!AB882=\"\",\"\",referentes!AB882)","v":""},null,null,null,{"$f":"TRIM(UPPER(CONCATENATE(referentes!AH878,\" \",referentes!AI878,\" \",referentes!AJ878,\" \",referentes!AK878,\" \",referentes!AF878)))","v":"TRYBLIONELLA ACUMINATA"},{"$f":"referentes!AG878","v":0}]
[null,null,null,null,null,null,null,null,null,null,null,null,null,null,null,{"$f":"IF(referentes!AC883=\"\",\"\",IF(referentes!AC883=referentes!AH883,CONCATENATE(referentes!AC883,\" \",\" \",\" \",\" \"),IF(referentes!AC883=referentes!AI883,CONCATENATE(referentes!AH883,\" \",referentes!AI883,\" \",\" \"),CONCATENATE(referentes!AH883,\" \",referentes!AI883,\" \",referentes!AC883))))","v":""},{"$f":"IF(referentes!AB883=\"\",\"\",referentes!AB883)","v":""},null,null,null,{"$f":"TRIM(UPPER(CONCATENATE(referentes!AH879,\" \",referentes!AI879,\" \",referentes!AJ879,\" \",referentes!AK879,\" \",referentes!AF879)))","v":"TRYBLIONELLA AEROPHILA"},{"$f":"referentes!AG879","v":0}]
[null,null,null,null,null,null,null,null,null,null,null,null,null,null,null,{"$f":"IF(referentes!AC884=\"\",\"\",IF(referentes!AC884=referentes!AH884,CONCATENATE(referentes!AC884,\" \",\" \",\" \",\" \"),IF(referentes!AC884=referentes!AI884,CONCATENATE(referentes!AH884,\" \",referentes!AI884,\" \",\" \"),CONCATENATE(referentes!AH884,\" \",referentes!AI884,\" \",referentes!AC884))))","v":""},{"$f":"IF(referentes!AB884=\"\",\"\",referentes!AB884)","v":""},null,null,null,{"$f":"TRIM(UPPER(CONCATENATE(referentes!AH880,\" \",referentes!AI880,\" \",referentes!AJ880,\" \",referentes!AK880,\" \",referentes!AF880)))","v":"TRYBLIONELLA COMPRESSA"},{"$f":"referentes!AG880","v":0}]
[null,null,null,null,null,null,null,null,null,null,null,null,null,null,null,{"$f":"IF(referentes!AC885=\"\",\"\",IF(referentes!AC885=referentes!AH885,CONCATENATE(referentes!AC885,\" \",\" \",\" \",\" \"),IF(referentes!AC885=referentes!AI885,CONCATENATE(referentes!AH885,\" \",referentes!AI885,\" \",\" \"),CONCATENATE(referentes!AH885,\" \",referentes!AI885,\" \",referentes!AC885))))","v":""},{"$f":"IF(referentes!AB885=\"\",\"\",referentes!AB885)","v":""},null,null,null,{"$f":"TRIM(UPPER(CONCATENATE(referentes!AH881,\" \",referentes!AI881,\" \",referentes!AJ881,\" \",referentes!AK881,\" \",referentes!AF881)))","v":"TRYBLIONELLA LEVIDENSIS"},{"$f":"referentes!AG881","v":0}]
[null,null,null,null,null,null,null,null,null,null,null,null,null,null,null,{"$f":"IF(referentes!AC886=\"\",\"\",IF(referentes!AC886=referentes!AH886,CONCATENATE(referentes!AC886,\" \",\" \",\" \",\" \"),IF(referentes!AC886=referentes!AI886,CONCATENATE(referentes!AH886,\" \",referentes!AI886,\" \",\" \"),CONCATENATE(referentes!AH886,\" \",referentes!AI886,\" \",referentes!AC886))))","v":""},{"$f":"IF(referentes!AB886=\"\",\"\",referentes!AB886)","v":""},null,null,null,{"$f":"TRIM(UPPER(CONCATENATE(referentes!AH882,\" \",referentes!AI882,\" \",referentes!AJ882,\" \",referentes!AK882,\" \",referentes!AF882)))","v":"TRYBLIONELLA PLANA"},{"$f":"referentes!AG882","v":0}]
[null,null,null,null,null,null,null,null,null,null,null,null,null,null,null,{"$f":"IF(referentes!AC887=\"\",\"\",IF(referentes!AC887=referentes!AH887,CONCATENATE(referentes!AC887,\" \",\" \",\" \",\" \"),IF(referentes!AC887=referentes!AI887,CONCATENATE(referentes!AH887,\" \",referentes!AI887,\" \",\" \"),CONCATENATE(referentes!AH887,\" \",referentes!AI887,\" \",referentes!AC887))))","v":""},{"$f":"IF(referentes!AB887=\"\",\"\",referentes!AB887)","v":""},null,null,null,{"$f":"TRIM(UPPER(CONCATENATE(referentes!AH883,\" \",referentes!AI883,\" \",referentes!AJ883,\" \",referentes!AK883,\" \",referentes!AF883)))","v":"TYCHONEMA"},{"$f":"referentes!AG883","v":0}]
[null,null,null,null,null,null,null,null,null,null,null,null,null,null,null,{"$f":"IF(referentes!AC888=\"\",\"\",IF(referentes!AC888=referentes!AH888,CONCATENATE(referentes!AC888,\" \",\" \",\" \",\" \"),IF(referentes!AC888=referentes!AI888,CONCATENATE(referentes!AH888,\" \",referentes!AI888,\" \",\" \"),CONCATENATE(referentes!AH888,\" \",referentes!AI888,\" \",referentes!AC888))))","v":""},{"$f":"IF(referentes!AB888=\"\",\"\",referentes!AB888)","v":""},null,null,null,{"$f":"TRIM(UPPER(CONCATENATE(referentes!AH884,\" \",referentes!AI884,\" \",referentes!AJ884,\" \",referentes!AK884,\" \",referentes!AF884)))","v":"ULOTHRIX"},{"$f":"referentes!AG884","v":0}]
[null,null,null,null,null,null,null,null,null,null,null,null,null,null,null,{"$f":"IF(referentes!AC889=\"\",\"\",IF(referentes!AC889=referentes!AH889,CONCATENATE(referentes!AC889,\" \",\" \",\" \",\" \"),IF(referentes!AC889=referentes!AI889,CONCATENATE(referentes!AH889,\" \",referentes!AI889,\" \",\" \"),CONCATENATE(referentes!AH889,\" \",referentes!AI889,\" \",referentes!AC889))))","v":""},{"$f":"IF(referentes!AB889=\"\",\"\",referentes!AB889)","v":""},null,null,null,{"$f":"TRIM(UPPER(CONCATENATE(referentes!AH885,\" \",referentes!AI885,\" \",referentes!AJ885,\" \",referentes!AK885,\" \",referentes!AF885)))","v":""},{"$f":"referentes!AG885","v":0}]
[null,null,null,null,null,null,null,null,null,null,null,null,null,null,null,{"$f":"IF(referentes!AC890=\"\",\"\",IF(referentes!AC890=referentes!AH890,CONCATENATE(referentes!AC890,\" \",\" \",\" \",\" \"),IF(referentes!AC890=referentes!AI890,CONCATENATE(referentes!AH890,\" \",referentes!AI890,\" \",\" \"),CONCATENATE(referentes!AH890,\" \",referentes!AI890,\" \",referentes!AC890))))","v":""},{"$f":"IF(referentes!AB890=\"\",\"\",referentes!AB890)","v":""},null,null,null,{"$f":"TRIM(UPPER(CONCATENATE(referentes!AH886,\" \",referentes!AI886,\" \",referentes!AJ886,\" \",referentes!AK886,\" \",referentes!AF886)))","v":""},{"$f":"referentes!AG886","v":0}]
[null,null,null,null,null,null,null,null,null,null,null,null,null,null,null,{"$f":"IF(referentes!AC891=\"\",\"\",IF(referentes!AC891=referentes!AH891,CONCATENATE(referentes!AC891,\" \",\" \",\" \",\" \"),IF(referentes!AC891=referentes!AI891,CONCATENATE(referentes!AH891,\" \",referentes!AI891,\" \",\" \"),CONCATENATE(referentes!AH891,\" \",referentes!AI891,\" \",referentes!AC891))))","v":""},{"$f":"IF(referentes!AB891=\"\",\"\",referentes!AB891)","v":""},null,null,null,{"$f":"TRIM(UPPER(CONCATENATE(referentes!AH887,\" \",referentes!AI887,\" \",referentes!AJ887,\" \",referentes!AK887,\" \",referentes!AF887)))","v":""},{"$f":"referentes!AG887","v":0}]
[null,null,null,null,null,null,null,null,null,null,null,null,null,null,null,{"$f":"IF(referentes!AC892=\"\",\"\",IF(referentes!AC892=referentes!AH892,CONCATENATE(referentes!AC892,\" \",\" \",\" \",\" \"),IF(referentes!AC892=referentes!AI892,CONCATENATE(referentes!AH892,\" \",referentes!AI892,\" \",\" \"),CONCATENATE(referentes!AH892,\" \",referentes!AI892,\" \",referentes!AC892))))","v":""},{"$f":"IF(referentes!AB892=\"\",\"\",referentes!AB892)","v":""},null,null,null,{"$f":"TRIM(UPPER(CONCATENATE(referentes!AH888,\" \",referentes!AI888,\" \",referentes!AJ888,\" \",referentes!AK888,\" \",referentes!AF888)))","v":""},{"$f":"referentes!AG888","v":0}]
[null,null,null,null,null,null,null,null,null,null,null,null,null,null,null,{"$f":"IF(referentes!AC893=\"\",\"\",IF(referentes!AC893=referentes!AH893,CONCATENATE(referentes!AC893,\" \",\" \",\" \",\" \"),IF(referentes!AC893=referentes!AI893,CONCATENATE(referentes!AH893,\" \",referentes!AI893,\" \",\" \"),CONCATENATE(referentes!AH893,\" \",referentes!AI893,\" \",referentes!AC893))))","v":""},{"$f":"IF(referentes!AB893=\"\",\"\",referentes!AB893)","v":""},null,null,null,{"$f":"TRIM(UPPER(CONCATENATE(referentes!AH889,\" \",referentes!AI889,\" \",referentes!AJ889,\" \",referentes!AK889,\" \",referentes!AF889)))","v":""},{"$f":"referentes!AG889","v":0}]
[null,null,null,null,null,null,null,null,null,null,null,null,null,null,null,{"$f":"IF(referentes!AC894=\"\",\"\",IF(referentes!AC894=referentes!AH894,CONCATENATE(referentes!AC894,\" \",\" \",\" \",\" \"),IF(referentes!AC894=referentes!AI894,CONCATENATE(referentes!AH894,\" \",referentes!AI894,\" \",\" \"),CONCATENATE(referentes!AH894,\" \",referentes!AI894,\" \",referentes!AC894))))","v":""},{"$f":"IF(referentes!AB894=\"\",\"\",referentes!AB894)","v":""},null,null,null,{"$f":"TRIM(UPPER(CONCATENATE(referentes!AH890,\" \",referentes!AI890,\" \",referentes!AJ890,\" \",referentes!AK890,\" \",referentes!AF890)))","v":""},{"$f":"referentes!AG890","v":0}]
[null,null,null,null,null,null,null,null,null,null,null,null,null,null,null,{"$f":"IF(referentes!AC895=\"\",\"\",IF(referentes!AC895=referentes!AH895,CONCATENATE(referentes!AC895,\" \",\" \",\" \",\" \"),IF(referentes!AC895=referentes!AI895,CONCATENATE(referentes!AH895,\" \",referentes!AI895,\" \",\" \"),CONCATENATE(referentes!AH895,\" \",referentes!AI895,\" \",referentes!AC895))))","v":""},{"$f":"IF(referentes!AB895=\"\",\"\",referentes!AB895)","v":""},null,null,null,{"$f":"TRIM(UPPER(CONCATENATE(referentes!AH891,\" \",referentes!AI891,\" \",referentes!AJ891,\" \",referentes!AK891,\" \",referentes!AF891)))","v":""},{"$f":"referentes!AG891","v":0}]
[null,null,null,null,null,null,null,null,null,null,null,null,null,null,null,{"$f":"IF(referentes!AC896=\"\",\"\",IF(referentes!AC896=referentes!AH896,CONCATENATE(referentes!AC896,\" \",\" \",\" \",\" \"),IF(referentes!AC896=referentes!AI896,CONCATENATE(referentes!AH896,\" \",referentes!AI896,\" \",\" \"),CONCATENATE(referentes!AH896,\" \",referentes!AI896,\" \",referentes!AC896))))","v":""},{"$f":"IF(referentes!AB896=\"\",\"\",referentes!AB896)","v":""},null,null,null,{"$f":"TRIM(UPPER(CONCATENATE(referentes!AH892,\" \",referentes!AI892,\" \",referentes!AJ892,\" \",referentes!AK892,\" \",referentes!AF892)))","v":""},{"$f":"referentes!AG892","v":0}]
[null,null,null,null,null,null,null,null,null,null,null,null,null,null,null,{"$f":"IF(referentes!AC897=\"\",\"\",IF(referentes!AC897=referentes!AH897,CONCATENATE(referentes!AC897,\" \",\" \",\" \",\" \"),IF(referentes!AC897=referentes!AI897,CONCATENATE(referentes!AH897,\" \",referentes!AI897,\" \",\" \"),CONCATENATE(referentes!AH897,\" \",referentes!AI897,\" \",referentes!AC897))))","v":""},{"$f":"IF(referentes!AB897=\"\",\"\",referentes!AB897)","v":""},null,null,null,{"$f":"TRIM(UPPER(CONCATENATE(referentes!AH893,\" \",referentes!AI893,\" \",referentes!AJ893,\" \",referentes!AK893,\" \",referentes!AF893)))","v":""},{"$f":"referentes!AG893","v":0}]
[null,null,null,null,null,null,null,null,null,null,null,null,null,null,null,{"$f":"IF(referentes!AC898=\"\",\"\",IF(referentes!AC898=referentes!AH898,CONCATENATE(referentes!AC898,\" \",\" \",\" \",\" \"),IF(referentes!AC898=referentes!AI898,CONCATENATE(referentes!AH898,\" \",referentes!AI898,\" \",\" \"),CONCATENATE(referentes!AH898,\" \",referentes!AI898,\" \",referentes!AC898))))","v":""},{"$f":"IF(referentes!AB898=\"\",\"\",referentes!AB898)","v":""},null,null,null,{"$f":"TRIM(UPPER(CONCATENATE(referentes!AH894,\" \",referentes!AI894,\" \",referentes!AJ894,\" \",referentes!AK894,\" \",referentes!AF894)))","v":""},{"$f":"referentes!AG894","v":0}]
[null,null,null,null,null,null,null,null,null,null,null,null,null,null,null,{"$f":"IF(referentes!AC899=\"\",\"\",IF(referentes!AC899=referentes!AH899,CONCATENATE(referentes!AC899,\" \",\" \",\" \",\" \"),IF(referentes!AC899=referentes!AI899,CONCATENATE(referentes!AH899,\" \",referentes!AI899,\" \",\" \"),CONCATENATE(referentes!AH899,\" \",referentes!AI899,\" \",referentes!AC899))))","v":""},{"$f":"IF(referentes!AB899=\"\",\"\",referentes!AB899)","v":""},null,null,null,{"$f":"TRIM(UPPER(CONCATENATE(referentes!AH895,\" \",referentes!AI895,\" \",referentes!AJ895,\" \",referentes!AK895,\" \",referentes!AF895)))","v":""},{"$f":"referentes!AG895","v":0}]
[null,null,null,null,null,null,null,null,null,null,null,null,null,null,null,{"$f":"IF(referentes!AC900=\"\",\"\",IF(referentes!AC900=referentes!AH900,CONCATENATE(referentes!AC900,\" \",\" \",\" \",\" \"),IF(referentes!AC900=referentes!AI900,CONCATENATE(referentes!AH900,\" \",referentes!AI900,\" \",\" \"),CONCATENATE(referentes!AH900,\" \",referentes!AI900,\" \",referentes!AC900))))","v":""},{"$f":"IF(referentes!AB900=\"\",\"\",referentes!AB900)","v":""},null,null,null,{"$f":"TRIM(UPPER(CONCATENATE(referentes!AH896,\" \",referentes!AI896,\" \",referentes!AJ896,\" \",referentes!AK896,\" \",referentes!AF896)))","v":""},{"$f":"referentes!AG896","v":0}]
[null,null,null,null,null,null,null,null,null,null,null,null,null,null,null,{"$f":"IF(referentes!AC901=\"\",\"\",IF(referentes!AC901=referentes!AH901,CONCATENATE(referentes!AC901,\" \",\" \",\" \",\" \"),IF(referentes!AC901=referentes!AI901,CONCATENATE(referentes!AH901,\" \",referentes!AI901,\" \",\" \"),CONCATENATE(referentes!AH901,\" \",referentes!AI901,\" \",referentes!AC901))))","v":""},{"$f":"IF(referentes!AB901=\"\",\"\",referentes!AB901)","v":""}]
[null,null,null,null,null,null,null,null,null,null,null,null,null,null,null,{"$f":"IF(referentes!AC902=\"\",\"\",IF(referentes!AC902=referentes!AH902,CONCATENATE(referentes!AC902,\" \",\" \",\" \",\" \"),IF(referentes!AC902=referentes!AI902,CONCATENATE(referentes!AH902,\" \",referentes!AI902,\" \",\" \"),CONCATENATE(referentes!AH902,\" \",referentes!AI902,\" \",referentes!AC902))))","v":""},{"$f":"IF(referentes!AB902=\"\",\"\",referentes!AB902)","v":""}]
[null,null,null,null,null,null,null,null,null,null,null,null,null,null,null,{"$f":"IF(referentes!AC903=\"\",\"\",IF(referentes!AC903=referentes!AH903,CONCATENATE(referentes!AC903,\" \",\" \",\" \",\" \"),IF(referentes!AC903=referentes!AI903,CONCATENATE(referentes!AH903,\" \",referentes!AI903,\" \",\" \"),CONCATENATE(referentes!AH903,\" \",referentes!AI903,\" \",referentes!AC903))))","v":""},{"$f":"IF(referentes!AB903=\"\",\"\",referentes!AB903)","v":""}]
[null,null,null,null,null,null,null,null,null,null,null,null,null,null,null,{"$f":"IF(referentes!AC904=\"\",\"\",IF(referentes!AC904=referentes!AH904,CONCATENATE(referentes!AC904,\" \",\" \",\" \",\" \"),IF(referentes!AC904=referentes!AI904,CONCATENATE(referentes!AH904,\" \",referentes!AI904,\" \",\" \"),CONCATENATE(referentes!AH904,\" \",referentes!AI904,\" \",referentes!AC904))))","v":""},{"$f":"IF(referentes!AB904=\"\",\"\",referentes!AB904)","v":""}]
[null,null,null,null,null,null,null,null,null,null,null,null,null,null,null,{"$f":"IF(referentes!AC905=\"\",\"\",IF(referentes!AC905=referentes!AH905,CONCATENATE(referentes!AC905,\" \",\" \",\" \",\" \"),IF(referentes!AC905=referentes!AI905,CONCATENATE(referentes!AH905,\" \",referentes!AI905,\" \",\" \"),CONCATENATE(referentes!AH905,\" \",referentes!AI905,\" \",referentes!AC905))))","v":""},{"$f":"IF(referentes!AB905=\"\",\"\",referentes!AB905)","v":""}]
[null,null,null,null,null,null,null,null,null,null,null,null,null,null,null,{"$f":"IF(referentes!AC906=\"\",\"\",IF(referentes!AC906=referentes!AH906,CONCATENATE(referentes!AC906,\" \",\" \",\" \",\" \"),IF(referentes!AC906=referentes!AI906,CONCATENATE(referentes!AH906,\" \",referentes!AI906,\" \",\" \"),CONCATENATE(referentes!AH906,\" \",referentes!AI906,\" \",referentes!AC906))))","v":""},{"$f":"IF(referentes!AB906=\"\",\"\",referentes!AB906)","v":""}]
[null,null,null,null,null,null,null,null,null,null,null,null,null,null,null,{"$f":"IF(referentes!AC907=\"\",\"\",IF(referentes!AC907=referentes!AH907,CONCATENATE(referentes!AC907,\" \",\" \",\" \",\" \"),IF(referentes!AC907=referentes!AI907,CONCATENATE(referentes!AH907,\" \",referentes!AI907,\" \",\" \"),CONCATENATE(referentes!AH907,\" \",referentes!AI907,\" \",referentes!AC907))))","v":""},{"$f":"IF(referentes!AB907=\"\",\"\",referentes!AB907)","v":""}]
[null,null,null,null,null,null,null,null,null,null,null,null,null,null,null,{"$f":"IF(referentes!AC908=\"\",\"\",IF(referentes!AC908=referentes!AH908,CONCATENATE(referentes!AC908,\" \",\" \",\" \",\" \"),IF(referentes!AC908=referentes!AI908,CONCATENATE(referentes!AH908,\" \",referentes!AI908,\" \",\" \"),CONCATENATE(referentes!AH908,\" \",referentes!AI908,\" \",referentes!AC908))))","v":""},{"$f":"IF(referentes!AB908=\"\",\"\",referentes!AB908)","v":""}]
[null,null,null,null,null,null,null,null,null,null,null,null,null,null,null,{"$f":"IF(referentes!AC909=\"\",\"\",IF(referentes!AC909=referentes!AH909,CONCATENATE(referentes!AC909,\" \",\" \",\" \",\" \"),IF(referentes!AC909=referentes!AI909,CONCATENATE(referentes!AH909,\" \",referentes!AI909,\" \",\" \"),CONCATENATE(referentes!AH909,\" \",referentes!AI909,\" \",referentes!AC909))))","v":""},{"$f":"IF(referentes!AB909=\"\",\"\",referentes!AB909)","v":""}]
[null,null,null,null,null,null,null,null,null,null,null,null,null,null,null,{"$f":"IF(referentes!AC910=\"\",\"\",IF(referentes!AC910=referentes!AH910,CONCATENATE(referentes!AC910,\" \",\" \",\" \",\" \"),IF(referentes!AC910=referentes!AI910,CONCATENATE(referentes!AH910,\" \",referentes!AI910,\" \",\" \"),CONCATENATE(referentes!AH910,\" \",referentes!AI910,\" \",referentes!AC910))))","v":""},{"$f":"IF(referentes!AB910=\"\",\"\",referentes!AB910)","v":""}]
[null,null,null,null,null,null,null,null,null,null,null,null,null,null,null,{"$f":"IF(referentes!AC911=\"\",\"\",IF(referentes!AC911=referentes!AH911,CONCATENATE(referentes!AC911,\" \",\" \",\" \",\" \"),IF(referentes!AC911=referentes!AI911,CONCATENATE(referentes!AH911,\" \",referentes!AI911,\" \",\" \"),CONCATENATE(referentes!AH911,\" \",referentes!AI911,\" \",referentes!AC911))))","v":""},{"$f":"IF(referentes!AB911=\"\",\"\",referentes!AB911)","v":""}]
[null,null,null,null,null,null,null,null,null,null,null,null,null,null,null,{"$f":"IF(referentes!AC912=\"\",\"\",IF(referentes!AC912=referentes!AH912,CONCATENATE(referentes!AC912,\" \",\" \",\" \",\" \"),IF(referentes!AC912=referentes!AI912,CONCATENATE(referentes!AH912,\" \",referentes!AI912,\" \",\" \"),CONCATENATE(referentes!AH912,\" \",referentes!AI912,\" \",referentes!AC912))))","v":""},{"$f":"IF(referentes!AB912=\"\",\"\",referentes!AB912)","v":""}]
[null,null,null,null,null,null,null,null,null,null,null,null,null,null,null,{"$f":"IF(referentes!AC913=\"\",\"\",IF(referentes!AC913=referentes!AH913,CONCATENATE(referentes!AC913,\" \",\" \",\" \",\" \"),IF(referentes!AC913=referentes!AI913,CONCATENATE(referentes!AH913,\" \",referentes!AI913,\" \",\" \"),CONCATENATE(referentes!AH913,\" \",referentes!AI913,\" \",referentes!AC913))))","v":""},{"$f":"IF(referentes!AB913=\"\",\"\",referentes!AB913)","v":""}]
[null,null,null,null,null,null,null,null,null,null,null,null,null,null,null,{"$f":"IF(referentes!AC914=\"\",\"\",IF(referentes!AC914=referentes!AH914,CONCATENATE(referentes!AC914,\" \",\" \",\" \",\" \"),IF(referentes!AC914=referentes!AI914,CONCATENATE(referentes!AH914,\" \",referentes!AI914,\" \",\" \"),CONCATENATE(referentes!AH914,\" \",referentes!AI914,\" \",referentes!AC914))))","v":""},{"$f":"IF(referentes!AB914=\"\",\"\",referentes!AB914)","v":""}]
[null,null,null,null,null,null,null,null,null,null,null,null,null,null,null,{"$f":"IF(referentes!AC915=\"\",\"\",IF(referentes!AC915=referentes!AH915,CONCATENATE(referentes!AC915,\" \",\" \",\" \",\" \"),IF(referentes!AC915=referentes!AI915,CONCATENATE(referentes!AH915,\" \",referentes!AI915,\" \",\" \"),CONCATENATE(referentes!AH915,\" \",referentes!AI915,\" \",referentes!AC915))))","v":""},{"$f":"IF(referentes!AB915=\"\",\"\",referentes!AB915)","v":""}]
[null,null,null,null,null,null,null,null,null,null,null,null,null,null,null,{"$f":"IF(referentes!AC916=\"\",\"\",IF(referentes!AC916=referentes!AH916,CONCATENATE(referentes!AC916,\" \",\" \",\" \",\" \"),IF(referentes!AC916=referentes!AI916,CONCATENATE(referentes!AH916,\" \",referentes!AI916,\" \",\" \"),CONCATENATE(referentes!AH916,\" \",referentes!AI916,\" \",referentes!AC916))))","v":""},{"$f":"IF(referentes!AB916=\"\",\"\",referentes!AB916)","v":""}]
[null,null,null,null,null,null,null,null,null,null,null,null,null,null,null,{"$f":"IF(referentes!AC917=\"\",\"\",IF(referentes!AC917=referentes!AH917,CONCATENATE(referentes!AC917,\" \",\" \",\" \",\" \"),IF(referentes!AC917=referentes!AI917,CONCATENATE(referentes!AH917,\" \",referentes!AI917,\" \",\" \"),CONCATENATE(referentes!AH917,\" \",referentes!AI917,\" \",referentes!AC917))))","v":""},{"$f":"IF(referentes!AB917=\"\",\"\",referentes!AB917)","v":""}]
[null,null,null,null,null,null,null,null,null,null,null,null,null,null,null,{"$f":"IF(referentes!AC918=\"\",\"\",IF(referentes!AC918=referentes!AH918,CONCATENATE(referentes!AC918,\" \",\" \",\" \",\" \"),IF(referentes!AC918=referentes!AI918,CONCATENATE(referentes!AH918,\" \",referentes!AI918,\" \",\" \"),CONCATENATE(referentes!AH918,\" \",referentes!AI918,\" \",referentes!AC918))))","v":""},{"$f":"IF(referentes!AB918=\"\",\"\",referentes!AB918)","v":""}]
[null,null,null,null,null,null,null,null,null,null,null,null,null,null,null,{"$f":"IF(referentes!AC919=\"\",\"\",IF(referentes!AC919=referentes!AH919,CONCATENATE(referentes!AC919,\" \",\" \",\" \",\" \"),IF(referentes!AC919=referentes!AI919,CONCATENATE(referentes!AH919,\" \",referentes!AI919,\" \",\" \"),CONCATENATE(referentes!AH919,\" \",referentes!AI919,\" \",referentes!AC919))))","v":""},{"$f":"IF(referentes!AB919=\"\",\"\",referentes!AB919)","v":""}]
[null,null,null,null,null,null,null,null,null,null,null,null,null,null,null,{"$f":"IF(referentes!AC920=\"\",\"\",IF(referentes!AC920=referentes!AH920,CONCATENATE(referentes!AC920,\" \",\" \",\" \",\" \"),IF(referentes!AC920=referentes!AI920,CONCATENATE(referentes!AH920,\" \",referentes!AI920,\" \",\" \"),CONCATENATE(referentes!AH920,\" \",referentes!AI920,\" \",referentes!AC920))))","v":""},{"$f":"IF(referentes!AB920=\"\",\"\",referentes!AB920)","v":""}]
[null,null,null,null,null,null,null,null,null,null,null,null,null,null,null,{"$f":"IF(referentes!AC921=\"\",\"\",IF(referentes!AC921=referentes!AH921,CONCATENATE(referentes!AC921,\" \",\" \",\" \",\" \"),IF(referentes!AC921=referentes!AI921,CONCATENATE(referentes!AH921,\" \",referentes!AI921,\" \",\" \"),CONCATENATE(referentes!AH921,\" \",referentes!AI921,\" \",referentes!AC921))))","v":""},{"$f":"IF(referentes!AB921=\"\",\"\",referentes!AB921)","v":""}]
[null,null,null,null,null,null,null,null,null,null,null,null,null,null,null,{"$f":"IF(referentes!AC922=\"\",\"\",IF(referentes!AC922=referentes!AH922,CONCATENATE(referentes!AC922,\" \",\" \",\" \",\" \"),IF(referentes!AC922=referentes!AI922,CONCATENATE(referentes!AH922,\" \",referentes!AI922,\" \",\" \"),CONCATENATE(referentes!AH922,\" \",referentes!AI922,\" \",referentes!AC922))))","v":""},{"$f":"IF(referentes!AB922=\"\",\"\",referentes!AB922)","v":""}]
[null,null,null,null,null,null,null,null,null,null,null,null,null,null,null,{"$f":"IF(referentes!AC923=\"\",\"\",IF(referentes!AC923=referentes!AH923,CONCATENATE(referentes!AC923,\" \",\" \",\" \",\" \"),IF(referentes!AC923=referentes!AI923,CONCATENATE(referentes!AH923,\" \",referentes!AI923,\" \",\" \"),CONCATENATE(referentes!AH923,\" \",referentes!AI923,\" \",referentes!AC923))))","v":""},{"$f":"IF(referentes!AB923=\"\",\"\",referentes!AB923)","v":""}]
[null,null,null,null,null,null,null,null,null,null,null,null,null,null,null,{"$f":"IF(referentes!AC924=\"\",\"\",IF(referentes!AC924=referentes!AH924,CONCATENATE(referentes!AC924,\" \",\" \",\" \",\" \"),IF(referentes!AC924=referentes!AI924,CONCATENATE(referentes!AH924,\" \",referentes!AI924,\" \",\" \"),CONCATENATE(referentes!AH924,\" \",referentes!AI924,\" \",referentes!AC924))))","v":""},{"$f":"IF(referentes!AB924=\"\",\"\",referentes!AB924)","v":""}]
[null,null,null,null,null,null,null,null,null,null,null,null,null,null,null,{"$f":"IF(referentes!AC925=\"\",\"\",IF(referentes!AC925=referentes!AH925,CONCATENATE(referentes!AC925,\" \",\" \",\" \",\" \"),IF(referentes!AC925=referentes!AI925,CONCATENATE(referentes!AH925,\" \",referentes!AI925,\" \",\" \"),CONCATENATE(referentes!AH925,\" \",referentes!AI925,\" \",referentes!AC925))))","v":""},{"$f":"IF(referentes!AB925=\"\",\"\",referentes!AB925)","v":""}]
[null,null,null,null,null,null,null,null,null,null,null,null,null,null,null,{"$f":"IF(referentes!AC926=\"\",\"\",IF(referentes!AC926=referentes!AH926,CONCATENATE(referentes!AC926,\" \",\" \",\" \",\" \"),IF(referentes!AC926=referentes!AI926,CONCATENATE(referentes!AH926,\" \",referentes!AI926,\" \",\" \"),CONCATENATE(referentes!AH926,\" \",referentes!AI926,\" \",referentes!AC926))))","v":""},{"$f":"IF(referentes!AB926=\"\",\"\",referentes!AB926)","v":""}]
[null,null,null,null,null,null,null,null,null,null,null,null,null,null,null,{"$f":"IF(referentes!AC927=\"\",\"\",IF(referentes!AC927=referentes!AH927,CONCATENATE(referentes!AC927,\" \",\" \",\" \",\" \"),IF(referentes!AC927=referentes!AI927,CONCATENATE(referentes!AH927,\" \",referentes!AI927,\" \",\" \"),CONCATENATE(referentes!AH927,\" \",referentes!AI927,\" \",referentes!AC927))))","v":""},{"$f":"IF(referentes!AB927=\"\",\"\",referentes!AB927)","v":""}]
[null,null,null,null,null,null,null,null,null,null,null,null,null,null,null,{"$f":"IF(referentes!AC928=\"\",\"\",IF(referentes!AC928=referentes!AH928,CONCATENATE(referentes!AC928,\" \",\" \",\" \",\" \"),IF(referentes!AC928=referentes!AI928,CONCATENATE(referentes!AH928,\" \",referentes!AI928,\" \",\" \"),CONCATENATE(referentes!AH928,\" \",referentes!AI928,\" \",referentes!AC928))))","v":""},{"$f":"IF(referentes!AB928=\"\",\"\",referentes!AB928)","v":""}]
[null,null,null,null,null,null,null,null,null,null,null,null,null,null,null,{"$f":"IF(referentes!AC929=\"\",\"\",IF(referentes!AC929=referentes!AH929,CONCATENATE(referentes!AC929,\" \",\" \",\" \",\" \"),IF(referentes!AC929=referentes!AI929,CONCATENATE(referentes!AH929,\" \",referentes!AI929,\" \",\" \"),CONCATENATE(referentes!AH929,\" \",referentes!AI929,\" \",referentes!AC929))))","v":""},{"$f":"IF(referentes!AB929=\"\",\"\",referentes!AB929)","v":""}]
[null,null,null,null,null,null,null,null,null,null,null,null,null,null,null,{"$f":"IF(referentes!AC930=\"\",\"\",IF(referentes!AC930=referentes!AH930,CONCATENATE(referentes!AC930,\" \",\" \",\" \",\" \"),IF(referentes!AC930=referentes!AI930,CONCATENATE(referentes!AH930,\" \",referentes!AI930,\" \",\" \"),CONCATENATE(referentes!AH930,\" \",referentes!AI930,\" \",referentes!AC930))))","v":""},{"$f":"IF(referentes!AB930=\"\",\"\",referentes!AB930)","v":""}]
[null,null,null,null,null,null,null,null,null,null,null,null,null,null,null,{"$f":"IF(referentes!AC931=\"\",\"\",IF(referentes!AC931=referentes!AH931,CONCATENATE(referentes!AC931,\" \",\" \",\" \",\" \"),IF(referentes!AC931=referentes!AI931,CONCATENATE(referentes!AH931,\" \",referentes!AI931,\" \",\" \"),CONCATENATE(referentes!AH931,\" \",referentes!AI931,\" \",referentes!AC931))))","v":""},{"$f":"IF(referentes!AB931=\"\",\"\",referentes!AB931)","v":""}]
[null,null,null,null,null,null,null,null,null,null,null,null,null,null,null,{"$f":"IF(referentes!AC932=\"\",\"\",IF(referentes!AC932=referentes!AH932,CONCATENATE(referentes!AC932,\" \",\" \",\" \",\" \"),IF(referentes!AC932=referentes!AI932,CONCATENATE(referentes!AH932,\" \",referentes!AI932,\" \",\" \"),CONCATENATE(referentes!AH932,\" \",referentes!AI932,\" \",referentes!AC932))))","v":""},{"$f":"IF(referentes!AB932=\"\",\"\",referentes!AB932)","v":""}]
[null,null,null,null,null,null,null,null,null,null,null,null,null,null,null,{"$f":"IF(referentes!AC933=\"\",\"\",IF(referentes!AC933=referentes!AH933,CONCATENATE(referentes!AC933,\" \",\" \",\" \",\" \"),IF(referentes!AC933=referentes!AI933,CONCATENATE(referentes!AH933,\" \",referentes!AI933,\" \",\" \"),CONCATENATE(referentes!AH933,\" \",referentes!AI933,\" \",referentes!AC933))))","v":""},{"$f":"IF(referentes!AB933=\"\",\"\",referentes!AB933)","v":""}]
[null,null,null,null,null,null,null,null,null,null,null,null,null,null,null,{"$f":"IF(referentes!AC934=\"\",\"\",IF(referentes!AC934=referentes!AH934,CONCATENATE(referentes!AC934,\" \",\" \",\" \",\" \"),IF(referentes!AC934=referentes!AI934,CONCATENATE(referentes!AH934,\" \",referentes!AI934,\" \",\" \"),CONCATENATE(referentes!AH934,\" \",referentes!AI934,\" \",referentes!AC934))))","v":""},{"$f":"IF(referentes!AB934=\"\",\"\",referentes!AB934)","v":""}]
[null,null,null,null,null,null,null,null,null,null,null,null,null,null,null,{"$f":"IF(referentes!AC935=\"\",\"\",IF(referentes!AC935=referentes!AH935,CONCATENATE(referentes!AC935,\" \",\" \",\" \",\" \"),IF(referentes!AC935=referentes!AI935,CONCATENATE(referentes!AH935,\" \",referentes!AI935,\" \",\" \"),CONCATENATE(referentes!AH935,\" \",referentes!AI935,\" \",referentes!AC935))))","v":""},{"$f":"IF(referentes!AB935=\"\",\"\",referentes!AB935)","v":""}]
[null,null,null,null,null,null,null,null,null,null,null,null,null,null,null,{"$f":"IF(referentes!AC936=\"\",\"\",IF(referentes!AC936=referentes!AH936,CONCATENATE(referentes!AC936,\" \",\" \",\" \",\" \"),IF(referentes!AC936=referentes!AI936,CONCATENATE(referentes!AH936,\" \",referentes!AI936,\" \",\" \"),CONCATENATE(referentes!AH936,\" \",referentes!AI936,\" \",referentes!AC936))))","v":""},{"$f":"IF(referentes!AB936=\"\",\"\",referentes!AB936)","v":""}]
[null,null,null,null,null,null,null,null,null,null,null,null,null,null,null,{"$f":"IF(referentes!AC937=\"\",\"\",IF(referentes!AC937=referentes!AH937,CONCATENATE(referentes!AC937,\" \",\" \",\" \",\" \"),IF(referentes!AC937=referentes!AI937,CONCATENATE(referentes!AH937,\" \",referentes!AI937,\" \",\" \"),CONCATENATE(referentes!AH937,\" \",referentes!AI937,\" \",referentes!AC937))))","v":""},{"$f":"IF(referentes!AB937=\"\",\"\",referentes!AB937)","v":""}]
[null,null,null,null,null,null,null,null,null,null,null,null,null,null,null,{"$f":"IF(referentes!AC938=\"\",\"\",IF(referentes!AC938=referentes!AH938,CONCATENATE(referentes!AC938,\" \",\" \",\" \",\" \"),IF(referentes!AC938=referentes!AI938,CONCATENATE(referentes!AH938,\" \",referentes!AI938,\" \",\" \"),CONCATENATE(referentes!AH938,\" \",referentes!AI938,\" \",referentes!AC938))))","v":""},{"$f":"IF(referentes!AB938=\"\",\"\",referentes!AB938)","v":""}]
[null,null,null,null,null,null,null,null,null,null,null,null,null,null,null,{"$f":"IF(referentes!AC939=\"\",\"\",IF(referentes!AC939=referentes!AH939,CONCATENATE(referentes!AC939,\" \",\" \",\" \",\" \"),IF(referentes!AC939=referentes!AI939,CONCATENATE(referentes!AH939,\" \",referentes!AI939,\" \",\" \"),CONCATENATE(referentes!AH939,\" \",referentes!AI939,\" \",referentes!AC939))))","v":""},{"$f":"IF(referentes!AB939=\"\",\"\",referentes!AB939)","v":""}]
[null,null,null,null,null,null,null,null,null,null,null,null,null,null,null,{"$f":"IF(referentes!AC940=\"\",\"\",IF(referentes!AC940=referentes!AH940,CONCATENATE(referentes!AC940,\" \",\" \",\" \",\" \"),IF(referentes!AC940=referentes!AI940,CONCATENATE(referentes!AH940,\" \",referentes!AI940,\" \",\" \"),CONCATENATE(referentes!AH940,\" \",referentes!AI940,\" \",referentes!AC940))))","v":""},{"$f":"IF(referentes!AB940=\"\",\"\",referentes!AB940)","v":""}]
[null,null,null,null,null,null,null,null,null,null,null,null,null,null,null,{"$f":"IF(referentes!AC941=\"\",\"\",IF(referentes!AC941=referentes!AH941,CONCATENATE(referentes!AC941,\" \",\" \",\" \",\" \"),IF(referentes!AC941=referentes!AI941,CONCATENATE(referentes!AH941,\" \",referentes!AI941,\" \",\" \"),CONCATENATE(referentes!AH941,\" \",referentes!AI941,\" \",referentes!AC941))))","v":""},{"$f":"IF(referentes!AB941=\"\",\"\",referentes!AB941)","v":""}]
[null,null,null,null,null,null,null,null,null,null,null,null,null,null,null,{"$f":"IF(referentes!AC942=\"\",\"\",IF(referentes!AC942=referentes!AH942,CONCATENATE(referentes!AC942,\" \",\" \",\" \",\" \"),IF(referentes!AC942=referentes!AI942,CONCATENATE(referentes!AH942,\" \",referentes!AI942,\" \",\" \"),CONCATENATE(referentes!AH942,\" \",referentes!AI942,\" \",referentes!AC942))))","v":""},{"$f":"IF(referentes!AB942=\"\",\"\",referentes!AB942)","v":""}]
[null,null,null,null,null,null,null,null,null,null,null,null,null,null,null,{"$f":"IF(referentes!AC943=\"\",\"\",IF(referentes!AC943=referentes!AH943,CONCATENATE(referentes!AC943,\" \",\" \",\" \",\" \"),IF(referentes!AC943=referentes!AI943,CONCATENATE(referentes!AH943,\" \",referentes!AI943,\" \",\" \"),CONCATENATE(referentes!AH943,\" \",referentes!AI943,\" \",referentes!AC943))))","v":""},{"$f":"IF(referentes!AB943=\"\",\"\",referentes!AB943)","v":""}]
[null,null,null,null,null,null,null,null,null,null,null,null,null,null,null,{"$f":"IF(referentes!AC944=\"\",\"\",IF(referentes!AC944=referentes!AH944,CONCATENATE(referentes!AC944,\" \",\" \",\" \",\" \"),IF(referentes!AC944=referentes!AI944,CONCATENATE(referentes!AH944,\" \",referentes!AI944,\" \",\" \"),CONCATENATE(referentes!AH944,\" \",referentes!AI944,\" \",referentes!AC944))))","v":""},{"$f":"IF(referentes!AB944=\"\",\"\",referentes!AB944)","v":""}]
[null,null,null,null,null,null,null,null,null,null,null,null,null,null,null,{"$f":"IF(referentes!AC945=\"\",\"\",IF(referentes!AC945=referentes!AH945,CONCATENATE(referentes!AC945,\" \",\" \",\" \",\" \"),IF(referentes!AC945=referentes!AI945,CONCATENATE(referentes!AH945,\" \",referentes!AI945,\" \",\" \"),CONCATENATE(referentes!AH945,\" \",referentes!AI945,\" \",referentes!AC945))))","v":""},{"$f":"IF(referentes!AB945=\"\",\"\",referentes!AB945)","v":""}]
[null,null,null,null,null,null,null,null,null,null,null,null,null,null,null,{"$f":"IF(referentes!AC946=\"\",\"\",IF(referentes!AC946=referentes!AH946,CONCATENATE(referentes!AC946,\" \",\" \",\" \",\" \"),IF(referentes!AC946=referentes!AI946,CONCATENATE(referentes!AH946,\" \",referentes!AI946,\" \",\" \"),CONCATENATE(referentes!AH946,\" \",referentes!AI946,\" \",referentes!AC946))))","v":""},{"$f":"IF(referentes!AB946=\"\",\"\",referentes!AB946)","v":""}]
[null,null,null,null,null,null,null,null,null,null,null,null,null,null,null,{"$f":"IF(referentes!AC947=\"\",\"\",IF(referentes!AC947=referentes!AH947,CONCATENATE(referentes!AC947,\" \",\" \",\" \",\" \"),IF(referentes!AC947=referentes!AI947,CONCATENATE(referentes!AH947,\" \",referentes!AI947,\" \",\" \"),CONCATENATE(referentes!AH947,\" \",referentes!AI947,\" \",referentes!AC947))))","v":""},{"$f":"IF(referentes!AB947=\"\",\"\",referentes!AB947)","v":""}]
[null,null,null,null,null,null,null,null,null,null,null,null,null,null,null,{"$f":"IF(referentes!AC948=\"\",\"\",IF(referentes!AC948=referentes!AH948,CONCATENATE(referentes!AC948,\" \",\" \",\" \",\" \"),IF(referentes!AC948=referentes!AI948,CONCATENATE(referentes!AH948,\" \",referentes!AI948,\" \",\" \"),CONCATENATE(referentes!AH948,\" \",referentes!AI948,\" \",referentes!AC948))))","v":""},{"$f":"IF(referentes!AB948=\"\",\"\",referentes!AB948)","v":""}]
[null,null,null,null,null,null,null,null,null,null,null,null,null,null,null,{"$f":"IF(referentes!AC949=\"\",\"\",IF(referentes!AC949=referentes!AH949,CONCATENATE(referentes!AC949,\" \",\" \",\" \",\" \"),IF(referentes!AC949=referentes!AI949,CONCATENATE(referentes!AH949,\" \",referentes!AI949,\" \",\" \"),CONCATENATE(referentes!AH949,\" \",referentes!AI949,\" \",referentes!AC949))))","v":""},{"$f":"IF(referentes!AB949=\"\",\"\",referentes!AB949)","v":""}]
[null,null,null,null,null,null,null,null,null,null,null,null,null,null,null,{"$f":"IF(referentes!AC950=\"\",\"\",IF(referentes!AC950=referentes!AH950,CONCATENATE(referentes!AC950,\" \",\" \",\" \",\" \"),IF(referentes!AC950=referentes!AI950,CONCATENATE(referentes!AH950,\" \",referentes!AI950,\" \",\" \"),CONCATENATE(referentes!AH950,\" \",referentes!AI950,\" \",referentes!AC950))))","v":""},{"$f":"IF(referentes!AB950=\"\",\"\",referentes!AB950)","v":""}]
[null,null,null,null,null,null,null,null,null,null,null,null,null,null,null,{"$f":"IF(referentes!AC951=\"\",\"\",IF(referentes!AC951=referentes!AH951,CONCATENATE(referentes!AC951,\" \",\" \",\" \",\" \"),IF(referentes!AC951=referentes!AI951,CONCATENATE(referentes!AH951,\" \",referentes!AI951,\" \",\" \"),CONCATENATE(referentes!AH951,\" \",referentes!AI951,\" \",referentes!AC951))))","v":""},{"$f":"IF(referentes!AB951=\"\",\"\",referentes!AB951)","v":""}]
[null,null,null,null,null,null,null,null,null,null,null,null,null,null,null,{"$f":"IF(referentes!AC952=\"\",\"\",IF(referentes!AC952=referentes!AH952,CONCATENATE(referentes!AC952,\" \",\" \",\" \",\" \"),IF(referentes!AC952=referentes!AI952,CONCATENATE(referentes!AH952,\" \",referentes!AI952,\" \",\" \"),CONCATENATE(referentes!AH952,\" \",referentes!AI952,\" \",referentes!AC952))))","v":""},{"$f":"IF(referentes!AB952=\"\",\"\",referentes!AB952)","v":""}]
[null,null,null,null,null,null,null,null,null,null,null,null,null,null,null,{"$f":"IF(referentes!AC953=\"\",\"\",IF(referentes!AC953=referentes!AH953,CONCATENATE(referentes!AC953,\" \",\" \",\" \",\" \"),IF(referentes!AC953=referentes!AI953,CONCATENATE(referentes!AH953,\" \",referentes!AI953,\" \",\" \"),CONCATENATE(referentes!AH953,\" \",referentes!AI953,\" \",referentes!AC953))))","v":""},{"$f":"IF(referentes!AB953=\"\",\"\",referentes!AB953)","v":""}]
[null,null,null,null,null,null,null,null,null,null,null,null,null,null,null,{"$f":"IF(referentes!AC954=\"\",\"\",IF(referentes!AC954=referentes!AH954,CONCATENATE(referentes!AC954,\" \",\" \",\" \",\" \"),IF(referentes!AC954=referentes!AI954,CONCATENATE(referentes!AH954,\" \",referentes!AI954,\" \",\" \"),CONCATENATE(referentes!AH954,\" \",referentes!AI954,\" \",referentes!AC954))))","v":""},{"$f":"IF(referentes!AB954=\"\",\"\",referentes!AB954)","v":""}]
[null,null,null,null,null,null,null,null,null,null,null,null,null,null,null,{"$f":"IF(referentes!AC955=\"\",\"\",IF(referentes!AC955=referentes!AH955,CONCATENATE(referentes!AC955,\" \",\" \",\" \",\" \"),IF(referentes!AC955=referentes!AI955,CONCATENATE(referentes!AH955,\" \",referentes!AI955,\" \",\" \"),CONCATENATE(referentes!AH955,\" \",referentes!AI955,\" \",referentes!AC955))))","v":""},{"$f":"IF(referentes!AB955=\"\",\"\",referentes!AB955)","v":""}]
[null,null,null,null,null,null,null,null,null,null,null,null,null,null,null,{"$f":"IF(referentes!AC956=\"\",\"\",IF(referentes!AC956=referentes!AH956,CONCATENATE(referentes!AC956,\" \",\" \",\" \",\" \"),IF(referentes!AC956=referentes!AI956,CONCATENATE(referentes!AH956,\" \",referentes!AI956,\" \",\" \"),CONCATENATE(referentes!AH956,\" \",referentes!AI956,\" \",referentes!AC956))))","v":""},{"$f":"IF(referentes!AB956=\"\",\"\",referentes!AB956)","v":""}]
[null,null,null,null,null,null,null,null,null,null,null,null,null,null,null,{"$f":"IF(referentes!AC957=\"\",\"\",IF(referentes!AC957=referentes!AH957,CONCATENATE(referentes!AC957,\" \",\" \",\" \",\" \"),IF(referentes!AC957=referentes!AI957,CONCATENATE(referentes!AH957,\" \",referentes!AI957,\" \",\" \"),CONCATENATE(referentes!AH957,\" \",referentes!AI957,\" \",referentes!AC957))))","v":""},{"$f":"IF(referentes!AB957=\"\",\"\",referentes!AB957)","v":""}]
[null,null,null,null,null,null,null,null,null,null,null,null,null,null,null,{"$f":"IF(referentes!AC958=\"\",\"\",IF(referentes!AC958=referentes!AH958,CONCATENATE(referentes!AC958,\" \",\" \",\" \",\" \"),IF(referentes!AC958=referentes!AI958,CONCATENATE(referentes!AH958,\" \",referentes!AI958,\" \",\" \"),CONCATENATE(referentes!AH958,\" \",referentes!AI958,\" \",referentes!AC958))))","v":""},{"$f":"IF(referentes!AB958=\"\",\"\",referentes!AB958)","v":""}]
[null,null,null,null,null,null,null,null,null,null,null,null,null,null,null,{"$f":"IF(referentes!AC959=\"\",\"\",IF(referentes!AC959=referentes!AH959,CONCATENATE(referentes!AC959,\" \",\" \",\" \",\" \"),IF(referentes!AC959=referentes!AI959,CONCATENATE(referentes!AH959,\" \",referentes!AI959,\" \",\" \"),CONCATENATE(referentes!AH959,\" \",referentes!AI959,\" \",referentes!AC959))))","v":""},{"$f":"IF(referentes!AB959=\"\",\"\",referentes!AB959)","v":""}]
[null,null,null,null,null,null,null,null,null,null,null,null,null,null,null,{"$f":"IF(referentes!AC960=\"\",\"\",IF(referentes!AC960=referentes!AH960,CONCATENATE(referentes!AC960,\" \",\" \",\" \",\" \"),IF(referentes!AC960=referentes!AI960,CONCATENATE(referentes!AH960,\" \",referentes!AI960,\" \",\" \"),CONCATENATE(referentes!AH960,\" \",referentes!AI960,\" \",referentes!AC960))))","v":""},{"$f":"IF(referentes!AB960=\"\",\"\",referentes!AB960)","v":""}]
[null,null,null,null,null,null,null,null,null,null,null,null,null,null,null,{"$f":"IF(referentes!AC961=\"\",\"\",IF(referentes!AC961=referentes!AH961,CONCATENATE(referentes!AC961,\" \",\" \",\" \",\" \"),IF(referentes!AC961=referentes!AI961,CONCATENATE(referentes!AH961,\" \",referentes!AI961,\" \",\" \"),CONCATENATE(referentes!AH961,\" \",referentes!AI961,\" \",referentes!AC961))))","v":""},{"$f":"IF(referentes!AB961=\"\",\"\",referentes!AB961)","v":""}]
[null,null,null,null,null,null,null,null,null,null,null,null,null,null,null,{"$f":"IF(referentes!AC962=\"\",\"\",IF(referentes!AC962=referentes!AH962,CONCATENATE(referentes!AC962,\" \",\" \",\" \",\" \"),IF(referentes!AC962=referentes!AI962,CONCATENATE(referentes!AH962,\" \",referentes!AI962,\" \",\" \"),CONCATENATE(referentes!AH962,\" \",referentes!AI962,\" \",referentes!AC962))))","v":""},{"$f":"IF(referentes!AB962=\"\",\"\",referentes!AB962)","v":""}]
[null,null,null,null,null,null,null,null,null,null,null,null,null,null,null,{"$f":"IF(referentes!AC963=\"\",\"\",IF(referentes!AC963=referentes!AH963,CONCATENATE(referentes!AC963,\" \",\" \",\" \",\" \"),IF(referentes!AC963=referentes!AI963,CONCATENATE(referentes!AH963,\" \",referentes!AI963,\" \",\" \"),CONCATENATE(referentes!AH963,\" \",referentes!AI963,\" \",referentes!AC963))))","v":""},{"$f":"IF(referentes!AB963=\"\",\"\",referentes!AB963)","v":""}]
[null,null,null,null,null,null,null,null,null,null,null,null,null,null,null,{"$f":"IF(referentes!AC964=\"\",\"\",IF(referentes!AC964=referentes!AH964,CONCATENATE(referentes!AC964,\" \",\" \",\" \",\" \"),IF(referentes!AC964=referentes!AI964,CONCATENATE(referentes!AH964,\" \",referentes!AI964,\" \",\" \"),CONCATENATE(referentes!AH964,\" \",referentes!AI964,\" \",referentes!AC964))))","v":""},{"$f":"IF(referentes!AB964=\"\",\"\",referentes!AB964)","v":""}]
[null,null,null,null,null,null,null,null,null,null,null,null,null,null,null,{"$f":"IF(referentes!AC965=\"\",\"\",IF(referentes!AC965=referentes!AH965,CONCATENATE(referentes!AC965,\" \",\" \",\" \",\" \"),IF(referentes!AC965=referentes!AI965,CONCATENATE(referentes!AH965,\" \",referentes!AI965,\" \",\" \"),CONCATENATE(referentes!AH965,\" \",referentes!AI965,\" \",referentes!AC965))))","v":""},{"$f":"IF(referentes!AB965=\"\",\"\",referentes!AB965)","v":""}]
[null,null,null,null,null,null,null,null,null,null,null,null,null,null,null,{"$f":"IF(referentes!AC966=\"\",\"\",IF(referentes!AC966=referentes!AH966,CONCATENATE(referentes!AC966,\" \",\" \",\" \",\" \"),IF(referentes!AC966=referentes!AI966,CONCATENATE(referentes!AH966,\" \",referentes!AI966,\" \",\" \"),CONCATENATE(referentes!AH966,\" \",referentes!AI966,\" \",referentes!AC966))))","v":""},{"$f":"IF(referentes!AB966=\"\",\"\",referentes!AB966)","v":""}]
[null,null,null,null,null,null,null,null,null,null,null,null,null,null,null,{"$f":"IF(referentes!AC967=\"\",\"\",IF(referentes!AC967=referentes!AH967,CONCATENATE(referentes!AC967,\" \",\" \",\" \",\" \"),IF(referentes!AC967=referentes!AI967,CONCATENATE(referentes!AH967,\" \",referentes!AI967,\" \",\" \"),CONCATENATE(referentes!AH967,\" \",referentes!AI967,\" \",referentes!AC967))))","v":""},{"$f":"IF(referentes!AB967=\"\",\"\",referentes!AB967)","v":""}]
[null,null,null,null,null,null,null,null,null,null,null,null,null,null,null,{"$f":"IF(referentes!AC968=\"\",\"\",IF(referentes!AC968=referentes!AH968,CONCATENATE(referentes!AC968,\" \",\" \",\" \",\" \"),IF(referentes!AC968=referentes!AI968,CONCATENATE(referentes!AH968,\" \",referentes!AI968,\" \",\" \"),CONCATENATE(referentes!AH968,\" \",referentes!AI968,\" \",referentes!AC968))))","v":""},{"$f":"IF(referentes!AB968=\"\",\"\",referentes!AB968)","v":""}]
[null,null,null,null,null,null,null,null,null,null,null,null,null,null,null,{"$f":"IF(referentes!AC969=\"\",\"\",IF(referentes!AC969=referentes!AH969,CONCATENATE(referentes!AC969,\" \",\" \",\" \",\" \"),IF(referentes!AC969=referentes!AI969,CONCATENATE(referentes!AH969,\" \",referentes!AI969,\" \",\" \"),CONCATENATE(referentes!AH969,\" \",referentes!AI969,\" \",referentes!AC969))))","v":""},{"$f":"IF(referentes!AB969=\"\",\"\",referentes!AB969)","v":""}]
[null,null,null,null,null,null,null,null,null,null,null,null,null,null,null,{"$f":"IF(referentes!AC970=\"\",\"\",IF(referentes!AC970=referentes!AH970,CONCATENATE(referentes!AC970,\" \",\" \",\" \",\" \"),IF(referentes!AC970=referentes!AI970,CONCATENATE(referentes!AH970,\" \",referentes!AI970,\" \",\" \"),CONCATENATE(referentes!AH970,\" \",referentes!AI970,\" \",referentes!AC970))))","v":""},{"$f":"IF(referentes!AB970=\"\",\"\",referentes!AB970)","v":""}]
[null,null,null,null,null,null,null,null,null,null,null,null,null,null,null,{"$f":"IF(referentes!AC971=\"\",\"\",IF(referentes!AC971=referentes!AH971,CONCATENATE(referentes!AC971,\" \",\" \",\" \",\" \"),IF(referentes!AC971=referentes!AI971,CONCATENATE(referentes!AH971,\" \",referentes!AI971,\" \",\" \"),CONCATENATE(referentes!AH971,\" \",referentes!AI971,\" \",referentes!AC971))))","v":""},{"$f":"IF(referentes!AB971=\"\",\"\",referentes!AB971)","v":""}]
[null,null,null,null,null,null,null,null,null,null,null,null,null,null,null,{"$f":"IF(referentes!AC972=\"\",\"\",IF(referentes!AC972=referentes!AH972,CONCATENATE(referentes!AC972,\" \",\" \",\" \",\" \"),IF(referentes!AC972=referentes!AI972,CONCATENATE(referentes!AH972,\" \",referentes!AI972,\" \",\" \"),CONCATENATE(referentes!AH972,\" \",referentes!AI972,\" \",referentes!AC972))))","v":""},{"$f":"IF(referentes!AB972=\"\",\"\",referentes!AB972)","v":""}]
[null,null,null,null,null,null,null,null,null,null,null,null,null,null,null,{"$f":"IF(referentes!AC973=\"\",\"\",IF(referentes!AC973=referentes!AH973,CONCATENATE(referentes!AC973,\" \",\" \",\" \",\" \"),IF(referentes!AC973=referentes!AI973,CONCATENATE(referentes!AH973,\" \",referentes!AI973,\" \",\" \"),CONCATENATE(referentes!AH973,\" \",referentes!AI973,\" \",referentes!AC973))))","v":""},{"$f":"IF(referentes!AB973=\"\",\"\",referentes!AB973)","v":""}]
[null,null,null,null,null,null,null,null,null,null,null,null,null,null,null,{"$f":"IF(referentes!AC974=\"\",\"\",IF(referentes!AC974=referentes!AH974,CONCATENATE(referentes!AC974,\" \",\" \",\" \",\" \"),IF(referentes!AC974=referentes!AI974,CONCATENATE(referentes!AH974,\" \",referentes!AI974,\" \",\" \"),CONCATENATE(referentes!AH974,\" \",referentes!AI974,\" \",referentes!AC974))))","v":""},{"$f":"IF(referentes!AB974=\"\",\"\",referentes!AB974)","v":""}]
[null,null,null,null,null,null,null,null,null,null,null,null,null,null,null,{"$f":"IF(referentes!AC975=\"\",\"\",IF(referentes!AC975=referentes!AH975,CONCATENATE(referentes!AC975,\" \",\" \",\" \",\" \"),IF(referentes!AC975=referentes!AI975,CONCATENATE(referentes!AH975,\" \",referentes!AI975,\" \",\" \"),CONCATENATE(referentes!AH975,\" \",referentes!AI975,\" \",referentes!AC975))))","v":""},{"$f":"IF(referentes!AB975=\"\",\"\",referentes!AB975)","v":""}]
[null,null,null,null,null,null,null,null,null,null,null,null,null,null,null,{"$f":"IF(referentes!AC976=\"\",\"\",IF(referentes!AC976=referentes!AH976,CONCATENATE(referentes!AC976,\" \",\" \",\" \",\" \"),IF(referentes!AC976=referentes!AI976,CONCATENATE(referentes!AH976,\" \",referentes!AI976,\" \",\" \"),CONCATENATE(referentes!AH976,\" \",referentes!AI976,\" \",referentes!AC976))))","v":""},{"$f":"IF(referentes!AB976=\"\",\"\",referentes!AB976)","v":""}]
[null,null,null,null,null,null,null,null,null,null,null,null,null,null,null,{"$f":"IF(referentes!AC977=\"\",\"\",IF(referentes!AC977=referentes!AH977,CONCATENATE(referentes!AC977,\" \",\" \",\" \",\" \"),IF(referentes!AC977=referentes!AI977,CONCATENATE(referentes!AH977,\" \",referentes!AI977,\" \",\" \"),CONCATENATE(referentes!AH977,\" \",referentes!AI977,\" \",referentes!AC977))))","v":""},{"$f":"IF(referentes!AB977=\"\",\"\",referentes!AB977)","v":""}]
[null,null,null,null,null,null,null,null,null,null,null,null,null,null,null,{"$f":"IF(referentes!AC978=\"\",\"\",IF(referentes!AC978=referentes!AH978,CONCATENATE(referentes!AC978,\" \",\" \",\" \",\" \"),IF(referentes!AC978=referentes!AI978,CONCATENATE(referentes!AH978,\" \",referentes!AI978,\" \",\" \"),CONCATENATE(referentes!AH978,\" \",referentes!AI978,\" \",referentes!AC978))))","v":""},{"$f":"IF(referentes!AB978=\"\",\"\",referentes!AB978)","v":""}]
[null,null,null,null,null,null,null,null,null,null,null,null,null,null,null,{"$f":"IF(referentes!AC979=\"\",\"\",IF(referentes!AC979=referentes!AH979,CONCATENATE(referentes!AC979,\" \",\" \",\" \",\" \"),IF(referentes!AC979=referentes!AI979,CONCATENATE(referentes!AH979,\" \",referentes!AI979,\" \",\" \"),CONCATENATE(referentes!AH979,\" \",referentes!AI979,\" \",referentes!AC979))))","v":""},{"$f":"IF(referentes!AB979=\"\",\"\",referentes!AB979)","v":""}]
[null,null,null,null,null,null,null,null,null,null,null,null,null,null,null,{"$f":"IF(referentes!AC980=\"\",\"\",IF(referentes!AC980=referentes!AH980,CONCATENATE(referentes!AC980,\" \",\" \",\" \",\" \"),IF(referentes!AC980=referentes!AI980,CONCATENATE(referentes!AH980,\" \",referentes!AI980,\" \",\" \"),CONCATENATE(referentes!AH980,\" \",referentes!AI980,\" \",referentes!AC980))))","v":""},{"$f":"IF(referentes!AB980=\"\",\"\",referentes!AB980)","v":""}]
[null,null,null,null,null,null,null,null,null,null,null,null,null,null,null,{"$f":"IF(referentes!AC981=\"\",\"\",IF(referentes!AC981=referentes!AH981,CONCATENATE(referentes!AC981,\" \",\" \",\" \",\" \"),IF(referentes!AC981=referentes!AI981,CONCATENATE(referentes!AH981,\" \",referentes!AI981,\" \",\" \"),CONCATENATE(referentes!AH981,\" \",referentes!AI981,\" \",referentes!AC981))))","v":""},{"$f":"IF(referentes!AB981=\"\",\"\",referentes!AB981)","v":""}]
[null,null,null,null,null,null,null,null,null,null,null,null,null,null,null,{"$f":"IF(referentes!AC982=\"\",\"\",IF(referentes!AC982=referentes!AH982,CONCATENATE(referentes!AC982,\" \",\" \",\" \",\" \"),IF(referentes!AC982=referentes!AI982,CONCATENATE(referentes!AH982,\" \",referentes!AI982,\" \",\" \"),CONCATENATE(referentes!AH982,\" \",referentes!AI982,\" \",referentes!AC982))))","v":""},{"$f":"IF(referentes!AB982=\"\",\"\",referentes!AB982)","v":""}]
[null,null,null,null,null,null,null,null,null,null,null,null,null,null,null,{"$f":"IF(referentes!AC983=\"\",\"\",IF(referentes!AC983=referentes!AH983,CONCATENATE(referentes!AC983,\" \",\" \",\" \",\" \"),IF(referentes!AC983=referentes!AI983,CONCATENATE(referentes!AH983,\" \",referentes!AI983,\" \",\" \"),CONCATENATE(referentes!AH983,\" \",referentes!AI983,\" \",referentes!AC983))))","v":""},{"$f":"IF(referentes!AB983=\"\",\"\",referentes!AB983)","v":""}]
[null,null,null,null,null,null,null,null,null,null,null,null,null,null,null,{"$f":"IF(referentes!AC984=\"\",\"\",IF(referentes!AC984=referentes!AH984,CONCATENATE(referentes!AC984,\" \",\" \",\" \",\" \"),IF(referentes!AC984=referentes!AI984,CONCATENATE(referentes!AH984,\" \",referentes!AI984,\" \",\" \"),CONCATENATE(referentes!AH984,\" \",referentes!AI984,\" \",referentes!AC984))))","v":""},{"$f":"IF(referentes!AB984=\"\",\"\",referentes!AB984)","v":""}]
[null,null,null,null,null,null,null,null,null,null,null,null,null,null,null,{"$f":"IF(referentes!AC985=\"\",\"\",IF(referentes!AC985=referentes!AH985,CONCATENATE(referentes!AC985,\" \",\" \",\" \",\" \"),IF(referentes!AC985=referentes!AI985,CONCATENATE(referentes!AH985,\" \",referentes!AI985,\" \",\" \"),CONCATENATE(referentes!AH985,\" \",referentes!AI985,\" \",referentes!AC985))))","v":""},{"$f":"IF(referentes!AB985=\"\",\"\",referentes!AB985)","v":""}]
[null,null,null,null,null,null,null,null,null,null,null,null,null,null,null,{"$f":"IF(referentes!AC986=\"\",\"\",IF(referentes!AC986=referentes!AH986,CONCATENATE(referentes!AC986,\" \",\" \",\" \",\" \"),IF(referentes!AC986=referentes!AI986,CONCATENATE(referentes!AH986,\" \",referentes!AI986,\" \",\" \"),CONCATENATE(referentes!AH986,\" \",referentes!AI986,\" \",referentes!AC986))))","v":""},{"$f":"IF(referentes!AB986=\"\",\"\",referentes!AB986)","v":""}]
[null,null,null,null,null,null,null,null,null,null,null,null,null,null,null,{"$f":"IF(referentes!AC987=\"\",\"\",IF(referentes!AC987=referentes!AH987,CONCATENATE(referentes!AC987,\" \",\" \",\" \",\" \"),IF(referentes!AC987=referentes!AI987,CONCATENATE(referentes!AH987,\" \",referentes!AI987,\" \",\" \"),CONCATENATE(referentes!AH987,\" \",referentes!AI987,\" \",referentes!AC987))))","v":""},{"$f":"IF(referentes!AB987=\"\",\"\",referentes!AB987)","v":""}]
[null,null,null,null,null,null,null,null,null,null,null,null,null,null,null,{"$f":"IF(referentes!AC988=\"\",\"\",IF(referentes!AC988=referentes!AH988,CONCATENATE(referentes!AC988,\" \",\" \",\" \",\" \"),IF(referentes!AC988=referentes!AI988,CONCATENATE(referentes!AH988,\" \",referentes!AI988,\" \",\" \"),CONCATENATE(referentes!AH988,\" \",referentes!AI988,\" \",referentes!AC988))))","v":""},{"$f":"IF(referentes!AB988=\"\",\"\",referentes!AB988)","v":""}]
[null,null,null,null,null,null,null,null,null,null,null,null,null,null,null,{"$f":"IF(referentes!AC989=\"\",\"\",IF(referentes!AC989=referentes!AH989,CONCATENATE(referentes!AC989,\" \",\" \",\" \",\" \"),IF(referentes!AC989=referentes!AI989,CONCATENATE(referentes!AH989,\" \",referentes!AI989,\" \",\" \"),CONCATENATE(referentes!AH989,\" \",referentes!AI989,\" \",referentes!AC989))))","v":""},{"$f":"IF(referentes!AB989=\"\",\"\",referentes!AB989)","v":""}]
[null,null,null,null,null,null,null,null,null,null,null,null,null,null,null,{"$f":"IF(referentes!AC990=\"\",\"\",IF(referentes!AC990=referentes!AH990,CONCATENATE(referentes!AC990,\" \",\" \",\" \",\" \"),IF(referentes!AC990=referentes!AI990,CONCATENATE(referentes!AH990,\" \",referentes!AI990,\" \",\" \"),CONCATENATE(referentes!AH990,\" \",referentes!AI990,\" \",referentes!AC990))))","v":""},{"$f":"IF(referentes!AB990=\"\",\"\",referentes!AB990)","v":""}]
[null,null,null,null,null,null,null,null,null,null,null,null,null,null,null,{"$f":"IF(referentes!AC991=\"\",\"\",IF(referentes!AC991=referentes!AH991,CONCATENATE(referentes!AC991,\" \",\" \",\" \",\" \"),IF(referentes!AC991=referentes!AI991,CONCATENATE(referentes!AH991,\" \",referentes!AI991,\" \",\" \"),CONCATENATE(referentes!AH991,\" \",referentes!AI991,\" \",referentes!AC991))))","v":""},{"$f":"IF(referentes!AB991=\"\",\"\",referentes!AB991)","v":""}]
[null,null,null,null,null,null,null,null,null,null,null,null,null,null,null,{"$f":"IF(referentes!AC992=\"\",\"\",IF(referentes!AC992=referentes!AH992,CONCATENATE(referentes!AC992,\" \",\" \",\" \",\" \"),IF(referentes!AC992=referentes!AI992,CONCATENATE(referentes!AH992,\" \",referentes!AI992,\" \",\" \"),CONCATENATE(referentes!AH992,\" \",referentes!AI992,\" \",referentes!AC992))))","v":""},{"$f":"IF(referentes!AB992=\"\",\"\",referentes!AB992)","v":""}]
[null,null,null,null,null,null,null,null,null,null,null,null,null,null,null,{"$f":"IF(referentes!AC993=\"\",\"\",IF(referentes!AC993=referentes!AH993,CONCATENATE(referentes!AC993,\" \",\" \",\" \",\" \"),IF(referentes!AC993=referentes!AI993,CONCATENATE(referentes!AH993,\" \",referentes!AI993,\" \",\" \"),CONCATENATE(referentes!AH993,\" \",referentes!AI993,\" \",referentes!AC993))))","v":""},{"$f":"IF(referentes!AB993=\"\",\"\",referentes!AB993)","v":""}]
[null,null,null,null,null,null,null,null,null,null,null,null,null,null,null,{"$f":"IF(referentes!AC994=\"\",\"\",IF(referentes!AC994=referentes!AH994,CONCATENATE(referentes!AC994,\" \",\" \",\" \",\" \"),IF(referentes!AC994=referentes!AI994,CONCATENATE(referentes!AH994,\" \",referentes!AI994,\" \",\" \"),CONCATENATE(referentes!AH994,\" \",referentes!AI994,\" \",referentes!AC994))))","v":""},{"$f":"IF(referentes!AB994=\"\",\"\",referentes!AB994)","v":""}]
[null,null,null,null,null,null,null,null,null,null,null,null,null,null,null,{"$f":"IF(referentes!AC995=\"\",\"\",IF(referentes!AC995=referentes!AH995,CONCATENATE(referentes!AC995,\" \",\" \",\" \",\" \"),IF(referentes!AC995=referentes!AI995,CONCATENATE(referentes!AH995,\" \",referentes!AI995,\" \",\" \"),CONCATENATE(referentes!AH995,\" \",referentes!AI995,\" \",referentes!AC995))))","v":""},{"$f":"IF(referentes!AB995=\"\",\"\",referentes!AB995)","v":""}]
[null,null,null,null,null,null,null,null,null,null,null,null,null,null,null,{"$f":"IF(referentes!AC996=\"\",\"\",IF(referentes!AC996=referentes!AH996,CONCATENATE(referentes!AC996,\" \",\" \",\" \",\" \"),IF(referentes!AC996=referentes!AI996,CONCATENATE(referentes!AH996,\" \",referentes!AI996,\" \",\" \"),CONCATENATE(referentes!AH996,\" \",referentes!AI996,\" \",referentes!AC996))))","v":""},{"$f":"IF(referentes!AB996=\"\",\"\",referentes!AB996)","v":""}]
[null,null,null,null,null,null,null,null,null,null,null,null,null,null,null,{"$f":"IF(referentes!AC997=\"\",\"\",IF(referentes!AC997=referentes!AH997,CONCATENATE(referentes!AC997,\" \",\" \",\" \",\" \"),IF(referentes!AC997=referentes!AI997,CONCATENATE(referentes!AH997,\" \",referentes!AI997,\" \",\" \"),CONCATENATE(referentes!AH997,\" \",referentes!AI997,\" \",referentes!AC997))))","v":""},{"$f":"IF(referentes!AB997=\"\",\"\",referentes!AB997)","v":""}]
[null,null,null,null,null,null,null,null,null,null,null,null,null,null,null,{"$f":"IF(referentes!AC998=\"\",\"\",IF(referentes!AC998=referentes!AH998,CONCATENATE(referentes!AC998,\" \",\" \",\" \",\" \"),IF(referentes!AC998=referentes!AI998,CONCATENATE(referentes!AH998,\" \",referentes!AI998,\" \",\" \"),CONCATENATE(referentes!AH998,\" \",referentes!AI998,\" \",referentes!AC998))))","v":""},{"$f":"IF(referentes!AB998=\"\",\"\",referentes!AB998)","v":""}]
[null,null,null,null,null,null,null,null,null,null,null,null,null,null,null,{"$f":"IF(referentes!AC999=\"\",\"\",IF(referentes!AC999=referentes!AH999,CONCATENATE(referentes!AC999,\" \",\" \",\" \",\" \"),IF(referentes!AC999=referentes!AI999,CONCATENATE(referentes!AH999,\" \",referentes!AI999,\" \",\" \"),CONCATENATE(referentes!AH999,\" \",referentes!AI999,\" \",referentes!AC999))))","v":""},{"$f":"IF(referentes!AB999=\"\",\"\",referentes!AB999)","v":""}]
[null,null,null,null,null,null,null,null,null,null,null,null,null,null,null,{"$f":"IF(referentes!AC1000=\"\",\"\",IF(referentes!AC1000=referentes!AH1000,CONCATENATE(referentes!AC1000,\" \",\" \",\" \",\" \"),IF(referentes!AC1000=referentes!AI1000,CONCATENATE(referentes!AH1000,\" \",referentes!AI1000,\" \",\" \"),CONCATENATE(referentes!AH1000,\" \",referentes!AI1000,\" \",referentes!AC1000))))","v":""},{"$f":"IF(referentes!AB1000=\"\",\"\",referentes!AB1000)","v":""}]
[null,null,null,null,null,null,null,null,null,null,null,null,null,null,null,{"$f":"IF(referentes!AC1001=\"\",\"\",IF(referentes!AC1001=referentes!AH1001,CONCATENATE(referentes!AC1001,\" \",\" \",\" \",\" \"),IF(referentes!AC1001=referentes!AI1001,CONCATENATE(referentes!AH1001,\" \",referentes!AI1001,\" \",\" \"),CONCATENATE(referentes!AH1001,\" \",referentes!AI1001,\" \",referentes!AC1001))))","v":""},{"$f":"IF(referentes!AB1001=\"\",\"\",referentes!AB1001)","v":""}]
[null,null,null,null,null,null,null,null,null,null,null,null,null,null,null,{"$f":"IF(referentes!AC1002=\"\",\"\",IF(referentes!AC1002=referentes!AH1002,CONCATENATE(referentes!AC1002,\" \",\" \",\" \",\" \"),IF(referentes!AC1002=referentes!AI1002,CONCATENATE(referentes!AH1002,\" \",referentes!AI1002,\" \",\" \"),CONCATENATE(referentes!AH1002,\" \",referentes!AI1002,\" \",referentes!AC1002))))","v":""},{"$f":"IF(referentes!AB1002=\"\",\"\",referentes!AB1002)","v":""}]
[null,null,null,null,null,null,null,null,null,null,null,null,null,null,null,{"$f":"IF(referentes!AC1003=\"\",\"\",IF(referentes!AC1003=referentes!AH1003,CONCATENATE(referentes!AC1003,\" \",\" \",\" \",\" \"),IF(referentes!AC1003=referentes!AI1003,CONCATENATE(referentes!AH1003,\" \",referentes!AI1003,\" \",\" \"),CONCATENATE(referentes!AH1003,\" \",referentes!AI1003,\" \",referentes!AC1003))))","v":""},{"$f":"IF(referentes!AB1003=\"\",\"\",referentes!AB1003)","v":""}]
[null,null,null,null,null,null,null,null,null,null,null,null,null,null,null,{"$f":"IF(referentes!AC1004=\"\",\"\",IF(referentes!AC1004=referentes!AH1004,CONCATENATE(referentes!AC1004,\" \",\" \",\" \",\" \"),IF(referentes!AC1004=referentes!AI1004,CONCATENATE(referentes!AH1004,\" \",referentes!AI1004,\" \",\" \"),CONCATENATE(referentes!AH1004,\" \",referentes!AI1004,\" \",referentes!AC1004))))","v":""},{"$f":"IF(referentes!AB1004=\"\",\"\",referentes!AB1004)","v":""}]
[null,null,null,null,null,null,null,null,null,null,null,null,null,null,null,{"$f":"IF(referentes!AC1005=\"\",\"\",IF(referentes!AC1005=referentes!AH1005,CONCATENATE(referentes!AC1005,\" \",\" \",\" \",\" \"),IF(referentes!AC1005=referentes!AI1005,CONCATENATE(referentes!AH1005,\" \",referentes!AI1005,\" \",\" \"),CONCATENATE(referentes!AH1005,\" \",referentes!AI1005,\" \",referentes!AC1005))))","v":""},{"$f":"IF(referentes!AB1005=\"\",\"\",referentes!AB1005)","v":""}]
[null,null,null,null,null,null,null,null,null,null,null,null,null,null,null,{"$f":"IF(referentes!AC1006=\"\",\"\",IF(referentes!AC1006=referentes!AH1006,CONCATENATE(referentes!AC1006,\" \",\" \",\" \",\" \"),IF(referentes!AC1006=referentes!AI1006,CONCATENATE(referentes!AH1006,\" \",referentes!AI1006,\" \",\" \"),CONCATENATE(referentes!AH1006,\" \",referentes!AI1006,\" \",referentes!AC1006))))","v":""},{"$f":"IF(referentes!AB1006=\"\",\"\",referentes!AB1006)","v":""}]
[null,null,null,null,null,null,null,null,null,null,null,null,null,null,null,{"$f":"IF(referentes!AC1007=\"\",\"\",IF(referentes!AC1007=referentes!AH1007,CONCATENATE(referentes!AC1007,\" \",\" \",\" \",\" \"),IF(referentes!AC1007=referentes!AI1007,CONCATENATE(referentes!AH1007,\" \",referentes!AI1007,\" \",\" \"),CONCATENATE(referentes!AH1007,\" \",referentes!AI1007,\" \",referentes!AC1007))))","v":""},{"$f":"IF(referentes!AB1007=\"\",\"\",referentes!AB1007)","v":""}]
[null,null,null,null,null,null,null,null,null,null,null,null,null,null,null,{"$f":"IF(referentes!AC1008=\"\",\"\",IF(referentes!AC1008=referentes!AH1008,CONCATENATE(referentes!AC1008,\" \",\" \",\" \",\" \"),IF(referentes!AC1008=referentes!AI1008,CONCATENATE(referentes!AH1008,\" \",referentes!AI1008,\" \",\" \"),CONCATENATE(referentes!AH1008,\" \",referentes!AI1008,\" \",referentes!AC1008))))","v":""},{"$f":"IF(referentes!AB1008=\"\",\"\",referentes!AB1008)","v":""}]
[null,null,null,null,null,null,null,null,null,null,null,null,null,null,null,{"$f":"IF(referentes!AC1009=\"\",\"\",IF(referentes!AC1009=referentes!AH1009,CONCATENATE(referentes!AC1009,\" \",\" \",\" \",\" \"),IF(referentes!AC1009=referentes!AI1009,CONCATENATE(referentes!AH1009,\" \",referentes!AI1009,\" \",\" \"),CONCATENATE(referentes!AH1009,\" \",referentes!AI1009,\" \",referentes!AC1009))))","v":""},{"$f":"IF(referentes!AB1009=\"\",\"\",referentes!AB1009)","v":""}]
[null,null,null,null,null,null,null,null,null,null,null,null,null,null,null,{"$f":"IF(referentes!AC1010=\"\",\"\",IF(referentes!AC1010=referentes!AH1010,CONCATENATE(referentes!AC1010,\" \",\" \",\" \",\" \"),IF(referentes!AC1010=referentes!AI1010,CONCATENATE(referentes!AH1010,\" \",referentes!AI1010,\" \",\" \"),CONCATENATE(referentes!AH1010,\" \",referentes!AI1010,\" \",referentes!AC1010))))","v":""},{"$f":"IF(referentes!AB1010=\"\",\"\",referentes!AB1010)","v":""}]
[null,null,null,null,null,null,null,null,null,null,null,null,null,null,null,{"$f":"IF(referentes!AC1011=\"\",\"\",IF(referentes!AC1011=referentes!AH1011,CONCATENATE(referentes!AC1011,\" \",\" \",\" \",\" \"),IF(referentes!AC1011=referentes!AI1011,CONCATENATE(referentes!AH1011,\" \",referentes!AI1011,\" \",\" \"),CONCATENATE(referentes!AH1011,\" \",referentes!AI1011,\" \",referentes!AC1011))))","v":""},{"$f":"IF(referentes!AB1011=\"\",\"\",referentes!AB1011)","v":""}]
[null,null,null,null,null,null,null,null,null,null,null,null,null,null,null,{"$f":"IF(referentes!AC1012=\"\",\"\",IF(referentes!AC1012=referentes!AH1012,CONCATENATE(referentes!AC1012,\" \",\" \",\" \",\" \"),IF(referentes!AC1012=referentes!AI1012,CONCATENATE(referentes!AH1012,\" \",referentes!AI1012,\" \",\" \"),CONCATENATE(referentes!AH1012,\" \",referentes!AI1012,\" \",referentes!AC1012))))","v":""},{"$f":"IF(referentes!AB1012=\"\",\"\",referentes!AB1012)","v":""}]
[null,null,null,null,null,null,null,null,null,null,null,null,null,null,null,{"$f":"IF(referentes!AC1013=\"\",\"\",IF(referentes!AC1013=referentes!AH1013,CONCATENATE(referentes!AC1013,\" \",\" \",\" \",\" \"),IF(referentes!AC1013=referentes!AI1013,CONCATENATE(referentes!AH1013,\" \",referentes!AI1013,\" \",\" \"),CONCATENATE(referentes!AH1013,\" \",referentes!AI1013,\" \",referentes!AC1013))))","v":""},{"$f":"IF(referentes!AB1013=\"\",\"\",referentes!AB1013)","v":""}]
[null,null,null,null,null,null,null,null,null,null,null,null,null,null,null,{"$f":"IF(referentes!AC1014=\"\",\"\",IF(referentes!AC1014=referentes!AH1014,CONCATENATE(referentes!AC1014,\" \",\" \",\" \",\" \"),IF(referentes!AC1014=referentes!AI1014,CONCATENATE(referentes!AH1014,\" \",referentes!AI1014,\" \",\" \"),CONCATENATE(referentes!AH1014,\" \",referentes!AI1014,\" \",referentes!AC1014))))","v":""},{"$f":"IF(referentes!AB1014=\"\",\"\",referentes!AB1014)","v":""}]
[null,null,null,null,null,null,null,null,null,null,null,null,null,null,null,{"$f":"IF(referentes!AC1015=\"\",\"\",IF(referentes!AC1015=referentes!AH1015,CONCATENATE(referentes!AC1015,\" \",\" \",\" \",\" \"),IF(referentes!AC1015=referentes!AI1015,CONCATENATE(referentes!AH1015,\" \",referentes!AI1015,\" \",\" \"),CONCATENATE(referentes!AH1015,\" \",referentes!AI1015,\" \",referentes!AC1015))))","v":""},{"$f":"IF(referentes!AB1015=\"\",\"\",referentes!AB1015)","v":""}]
[null,null,null,null,null,null,null,null,null,null,null,null,null,null,null,{"$f":"IF(referentes!AC1016=\"\",\"\",IF(referentes!AC1016=referentes!AH1016,CONCATENATE(referentes!AC1016,\" \",\" \",\" \",\" \"),IF(referentes!AC1016=referentes!AI1016,CONCATENATE(referentes!AH1016,\" \",referentes!AI1016,\" \",\" \"),CONCATENATE(referentes!AH1016,\" \",referentes!AI1016,\" \",referentes!AC1016))))","v":""},{"$f":"IF(referentes!AB1016=\"\",\"\",referentes!AB1016)","v":""}]
[null,null,null,null,null,null,null,null,null,null,null,null,null,null,null,{"$f":"IF(referentes!AC1017=\"\",\"\",IF(referentes!AC1017=referentes!AH1017,CONCATENATE(referentes!AC1017,\" \",\" \",\" \",\" \"),IF(referentes!AC1017=referentes!AI1017,CONCATENATE(referentes!AH1017,\" \",referentes!AI1017,\" \",\" \"),CONCATENATE(referentes!AH1017,\" \",referentes!AI1017,\" \",referentes!AC1017))))","v":""},{"$f":"IF(referentes!AB1017=\"\",\"\",referentes!AB1017)","v":""}]
[null,null,null,null,null,null,null,null,null,null,null,null,null,null,null,{"$f":"IF(referentes!AC1018=\"\",\"\",IF(referentes!AC1018=referentes!AH1018,CONCATENATE(referentes!AC1018,\" \",\" \",\" \",\" \"),IF(referentes!AC1018=referentes!AI1018,CONCATENATE(referentes!AH1018,\" \",referentes!AI1018,\" \",\" \"),CONCATENATE(referentes!AH1018,\" \",referentes!AI1018,\" \",referentes!AC1018))))","v":""},{"$f":"IF(referentes!AB1018=\"\",\"\",referentes!AB1018)","v":""}]
[null,null,null,null,null,null,null,null,null,null,null,null,null,null,null,{"$f":"IF(referentes!AC1019=\"\",\"\",IF(referentes!AC1019=referentes!AH1019,CONCATENATE(referentes!AC1019,\" \",\" \",\" \",\" \"),IF(referentes!AC1019=referentes!AI1019,CONCATENATE(referentes!AH1019,\" \",referentes!AI1019,\" \",\" \"),CONCATENATE(referentes!AH1019,\" \",referentes!AI1019,\" \",referentes!AC1019))))","v":""},{"$f":"IF(referentes!AB1019=\"\",\"\",referentes!AB1019)","v":""}]
[null,null,null,null,null,null,null,null,null,null,null,null,null,null,null,{"$f":"IF(referentes!AC1020=\"\",\"\",IF(referentes!AC1020=referentes!AH1020,CONCATENATE(referentes!AC1020,\" \",\" \",\" \",\" \"),IF(referentes!AC1020=referentes!AI1020,CONCATENATE(referentes!AH1020,\" \",referentes!AI1020,\" \",\" \"),CONCATENATE(referentes!AH1020,\" \",referentes!AI1020,\" \",referentes!AC1020))))","v":""},{"$f":"IF(referentes!AB1020=\"\",\"\",referentes!AB1020)","v":""}]
[null,null,null,null,null,null,null,null,null,null,null,null,null,null,null,{"$f":"IF(referentes!AC1021=\"\",\"\",IF(referentes!AC1021=referentes!AH1021,CONCATENATE(referentes!AC1021,\" \",\" \",\" \",\" \"),IF(referentes!AC1021=referentes!AI1021,CONCATENATE(referentes!AH1021,\" \",referentes!AI1021,\" \",\" \"),CONCATENATE(referentes!AH1021,\" \",referentes!AI1021,\" \",referentes!AC1021))))","v":""},{"$f":"IF(referentes!AB1021=\"\",\"\",referentes!AB1021)","v":""}]
[null,null,null,null,null,null,null,null,null,null,null,null,null,null,null,{"$f":"IF(referentes!AC1022=\"\",\"\",IF(referentes!AC1022=referentes!AH1022,CONCATENATE(referentes!AC1022,\" \",\" \",\" \",\" \"),IF(referentes!AC1022=referentes!AI1022,CONCATENATE(referentes!AH1022,\" \",referentes!AI1022,\" \",\" \"),CONCATENATE(referentes!AH1022,\" \",referentes!AI1022,\" \",referentes!AC1022))))","v":""},{"$f":"IF(referentes!AB1022=\"\",\"\",referentes!AB1022)","v":""}]
[null,null,null,null,null,null,null,null,null,null,null,null,null,null,null,{"$f":"IF(referentes!AC1023=\"\",\"\",IF(referentes!AC1023=referentes!AH1023,CONCATENATE(referentes!AC1023,\" \",\" \",\" \",\" \"),IF(referentes!AC1023=referentes!AI1023,CONCATENATE(referentes!AH1023,\" \",referentes!AI1023,\" \",\" \"),CONCATENATE(referentes!AH1023,\" \",referentes!AI1023,\" \",referentes!AC1023))))","v":""},{"$f":"IF(referentes!AB1023=\"\",\"\",referentes!AB1023)","v":""}]
[null,null,null,null,null,null,null,null,null,null,null,null,null,null,null,{"$f":"IF(referentes!AC1024=\"\",\"\",IF(referentes!AC1024=referentes!AH1024,CONCATENATE(referentes!AC1024,\" \",\" \",\" \",\" \"),IF(referentes!AC1024=referentes!AI1024,CONCATENATE(referentes!AH1024,\" \",referentes!AI1024,\" \",\" \"),CONCATENATE(referentes!AH1024,\" \",referentes!AI1024,\" \",referentes!AC1024))))","v":""},{"$f":"IF(referentes!AB1024=\"\",\"\",referentes!AB1024)","v":""}]
[null,null,null,null,null,null,null,null,null,null,null,null,null,null,null,{"$f":"IF(referentes!AC1025=\"\",\"\",IF(referentes!AC1025=referentes!AH1025,CONCATENATE(referentes!AC1025,\" \",\" \",\" \",\" \"),IF(referentes!AC1025=referentes!AI1025,CONCATENATE(referentes!AH1025,\" \",referentes!AI1025,\" \",\" \"),CONCATENATE(referentes!AH1025,\" \",referentes!AI1025,\" \",referentes!AC1025))))","v":""},{"$f":"IF(referentes!AB1025=\"\",\"\",referentes!AB1025)","v":""}]
[null,null,null,null,null,null,null,null,null,null,null,null,null,null,null,{"$f":"IF(referentes!AC1026=\"\",\"\",IF(referentes!AC1026=referentes!AH1026,CONCATENATE(referentes!AC1026,\" \",\" \",\" \",\" \"),IF(referentes!AC1026=referentes!AI1026,CONCATENATE(referentes!AH1026,\" \",referentes!AI1026,\" \",\" \"),CONCATENATE(referentes!AH1026,\" \",referentes!AI1026,\" \",referentes!AC1026))))","v":""},{"$f":"IF(referentes!AB1026=\"\",\"\",referentes!AB1026)","v":""}]
[null,null,null,null,null,null,null,null,null,null,null,null,null,null,null,{"$f":"IF(referentes!AC1027=\"\",\"\",IF(referentes!AC1027=referentes!AH1027,CONCATENATE(referentes!AC1027,\" \",\" \",\" \",\" \"),IF(referentes!AC1027=referentes!AI1027,CONCATENATE(referentes!AH1027,\" \",referentes!AI1027,\" \",\" \"),CONCATENATE(referentes!AH1027,\" \",referentes!AI1027,\" \",referentes!AC1027))))","v":""},{"$f":"IF(referentes!AB1027=\"\",\"\",referentes!AB1027)","v":""}]
[null,null,null,null,null,null,null,null,null,null,null,null,null,null,null,{"$f":"IF(referentes!AC1028=\"\",\"\",IF(referentes!AC1028=referentes!AH1028,CONCATENATE(referentes!AC1028,\" \",\" \",\" \",\" \"),IF(referentes!AC1028=referentes!AI1028,CONCATENATE(referentes!AH1028,\" \",referentes!AI1028,\" \",\" \"),CONCATENATE(referentes!AH1028,\" \",referentes!AI1028,\" \",referentes!AC1028))))","v":""},{"$f":"IF(referentes!AB1028=\"\",\"\",referentes!AB1028)","v":""}]
[null,null,null,null,null,null,null,null,null,null,null,null,null,null,null,{"$f":"IF(referentes!AC1029=\"\",\"\",IF(referentes!AC1029=referentes!AH1029,CONCATENATE(referentes!AC1029,\" \",\" \",\" \",\" \"),IF(referentes!AC1029=referentes!AI1029,CONCATENATE(referentes!AH1029,\" \",referentes!AI1029,\" \",\" \"),CONCATENATE(referentes!AH1029,\" \",referentes!AI1029,\" \",referentes!AC1029))))","v":""},{"$f":"IF(referentes!AB1029=\"\",\"\",referentes!AB1029)","v":""}]
[null,null,null,null,null,null,null,null,null,null,null,null,null,null,null,{"$f":"IF(referentes!AC1030=\"\",\"\",IF(referentes!AC1030=referentes!AH1030,CONCATENATE(referentes!AC1030,\" \",\" \",\" \",\" \"),IF(referentes!AC1030=referentes!AI1030,CONCATENATE(referentes!AH1030,\" \",referentes!AI1030,\" \",\" \"),CONCATENATE(referentes!AH1030,\" \",referentes!AI1030,\" \",referentes!AC1030))))","v":""},{"$f":"IF(referentes!AB1030=\"\",\"\",referentes!AB1030)","v":""}]
[null,null,null,null,null,null,null,null,null,null,null,null,null,null,null,{"$f":"IF(referentes!AC1031=\"\",\"\",IF(referentes!AC1031=referentes!AH1031,CONCATENATE(referentes!AC1031,\" \",\" \",\" \",\" \"),IF(referentes!AC1031=referentes!AI1031,CONCATENATE(referentes!AH1031,\" \",referentes!AI1031,\" \",\" \"),CONCATENATE(referentes!AH1031,\" \",referentes!AI1031,\" \",referentes!AC1031))))","v":""},{"$f":"IF(referentes!AB1031=\"\",\"\",referentes!AB1031)","v":""}]
[null,null,null,null,null,null,null,null,null,null,null,null,null,null,null,{"$f":"IF(referentes!AC1032=\"\",\"\",IF(referentes!AC1032=referentes!AH1032,CONCATENATE(referentes!AC1032,\" \",\" \",\" \",\" \"),IF(referentes!AC1032=referentes!AI1032,CONCATENATE(referentes!AH1032,\" \",referentes!AI1032,\" \",\" \"),CONCATENATE(referentes!AH1032,\" \",referentes!AI1032,\" \",referentes!AC1032))))","v":""},{"$f":"IF(referentes!AB1032=\"\",\"\",referentes!AB1032)","v":""}]
[null,null,null,null,null,null,null,null,null,null,null,null,null,null,null,{"$f":"IF(referentes!AC1033=\"\",\"\",IF(referentes!AC1033=referentes!AH1033,CONCATENATE(referentes!AC1033,\" \",\" \",\" \",\" \"),IF(referentes!AC1033=referentes!AI1033,CONCATENATE(referentes!AH1033,\" \",referentes!AI1033,\" \",\" \"),CONCATENATE(referentes!AH1033,\" \",referentes!AI1033,\" \",referentes!AC1033))))","v":""},{"$f":"IF(referentes!AB1033=\"\",\"\",referentes!AB1033)","v":""}]
[null,null,null,null,null,null,null,null,null,null,null,null,null,null,null,{"$f":"IF(referentes!AC1034=\"\",\"\",IF(referentes!AC1034=referentes!AH1034,CONCATENATE(referentes!AC1034,\" \",\" \",\" \",\" \"),IF(referentes!AC1034=referentes!AI1034,CONCATENATE(referentes!AH1034,\" \",referentes!AI1034,\" \",\" \"),CONCATENATE(referentes!AH1034,\" \",referentes!AI1034,\" \",referentes!AC1034))))","v":""},{"$f":"IF(referentes!AB1034=\"\",\"\",referentes!AB1034)","v":""}]
[null,null,null,null,null,null,null,null,null,null,null,null,null,null,null,{"$f":"IF(referentes!AC1035=\"\",\"\",IF(referentes!AC1035=referentes!AH1035,CONCATENATE(referentes!AC1035,\" \",\" \",\" \",\" \"),IF(referentes!AC1035=referentes!AI1035,CONCATENATE(referentes!AH1035,\" \",referentes!AI1035,\" \",\" \"),CONCATENATE(referentes!AH1035,\" \",referentes!AI1035,\" \",referentes!AC1035))))","v":""},{"$f":"IF(referentes!AB1035=\"\",\"\",referentes!AB1035)","v":""}]
[null,null,null,null,null,null,null,null,null,null,null,null,null,null,null,{"$f":"IF(referentes!AC1036=\"\",\"\",IF(referentes!AC1036=referentes!AH1036,CONCATENATE(referentes!AC1036,\" \",\" \",\" \",\" \"),IF(referentes!AC1036=referentes!AI1036,CONCATENATE(referentes!AH1036,\" \",referentes!AI1036,\" \",\" \"),CONCATENATE(referentes!AH1036,\" \",referentes!AI1036,\" \",referentes!AC1036))))","v":""},{"$f":"IF(referentes!AB1036=\"\",\"\",referentes!AB1036)","v":""}]
[null,null,null,null,null,null,null,null,null,null,null,null,null,null,null,{"$f":"IF(referentes!AC1037=\"\",\"\",IF(referentes!AC1037=referentes!AH1037,CONCATENATE(referentes!AC1037,\" \",\" \",\" \",\" \"),IF(referentes!AC1037=referentes!AI1037,CONCATENATE(referentes!AH1037,\" \",referentes!AI1037,\" \",\" \"),CONCATENATE(referentes!AH1037,\" \",referentes!AI1037,\" \",referentes!AC1037))))","v":""},{"$f":"IF(referentes!AB1037=\"\",\"\",referentes!AB1037)","v":""}]
[null,null,null,null,null,null,null,null,null,null,null,null,null,null,null,{"$f":"IF(referentes!AC1038=\"\",\"\",IF(referentes!AC1038=referentes!AH1038,CONCATENATE(referentes!AC1038,\" \",\" \",\" \",\" \"),IF(referentes!AC1038=referentes!AI1038,CONCATENATE(referentes!AH1038,\" \",referentes!AI1038,\" \",\" \"),CONCATENATE(referentes!AH1038,\" \",referentes!AI1038,\" \",referentes!AC1038))))","v":""},{"$f":"IF(referentes!AB1038=\"\",\"\",referentes!AB1038)","v":""}]
[null,null,null,null,null,null,null,null,null,null,null,null,null,null,null,{"$f":"IF(referentes!AC1039=\"\",\"\",IF(referentes!AC1039=referentes!AH1039,CONCATENATE(referentes!AC1039,\" \",\" \",\" \",\" \"),IF(referentes!AC1039=referentes!AI1039,CONCATENATE(referentes!AH1039,\" \",referentes!AI1039,\" \",\" \"),CONCATENATE(referentes!AH1039,\" \",referentes!AI1039,\" \",referentes!AC1039))))","v":""},{"$f":"IF(referentes!AB1039=\"\",\"\",referentes!AB1039)","v":""}]
[null,null,null,null,null,null,null,null,null,null,null,null,null,null,null,{"$f":"IF(referentes!AC1040=\"\",\"\",IF(referentes!AC1040=referentes!AH1040,CONCATENATE(referentes!AC1040,\" \",\" \",\" \",\" \"),IF(referentes!AC1040=referentes!AI1040,CONCATENATE(referentes!AH1040,\" \",referentes!AI1040,\" \",\" \"),CONCATENATE(referentes!AH1040,\" \",referentes!AI1040,\" \",referentes!AC1040))))","v":""},{"$f":"IF(referentes!AB1040=\"\",\"\",referentes!AB1040)","v":""}]
[null,null,null,null,null,null,null,null,null,null,null,null,null,null,null,{"$f":"IF(referentes!AC1041=\"\",\"\",IF(referentes!AC1041=referentes!AH1041,CONCATENATE(referentes!AC1041,\" \",\" \",\" \",\" \"),IF(referentes!AC1041=referentes!AI1041,CONCATENATE(referentes!AH1041,\" \",referentes!AI1041,\" \",\" \"),CONCATENATE(referentes!AH1041,\" \",referentes!AI1041,\" \",referentes!AC1041))))","v":""},{"$f":"IF(referentes!AB1041=\"\",\"\",referentes!AB1041)","v":""}]
[null,null,null,null,null,null,null,null,null,null,null,null,null,null,null,{"$f":"IF(referentes!AC1042=\"\",\"\",IF(referentes!AC1042=referentes!AH1042,CONCATENATE(referentes!AC1042,\" \",\" \",\" \",\" \"),IF(referentes!AC1042=referentes!AI1042,CONCATENATE(referentes!AH1042,\" \",referentes!AI1042,\" \",\" \"),CONCATENATE(referentes!AH1042,\" \",referentes!AI1042,\" \",referentes!AC1042))))","v":""},{"$f":"IF(referentes!AB1042=\"\",\"\",referentes!AB1042)","v":""}]
[null,null,null,null,null,null,null,null,null,null,null,null,null,null,null,{"$f":"IF(referentes!AC1043=\"\",\"\",IF(referentes!AC1043=referentes!AH1043,CONCATENATE(referentes!AC1043,\" \",\" \",\" \",\" \"),IF(referentes!AC1043=referentes!AI1043,CONCATENATE(referentes!AH1043,\" \",referentes!AI1043,\" \",\" \"),CONCATENATE(referentes!AH1043,\" \",referentes!AI1043,\" \",referentes!AC1043))))","v":""},{"$f":"IF(referentes!AB1043=\"\",\"\",referentes!AB1043)","v":""}]
[null,null,null,null,null,null,null,null,null,null,null,null,null,null,null,{"$f":"IF(referentes!AC1044=\"\",\"\",IF(referentes!AC1044=referentes!AH1044,CONCATENATE(referentes!AC1044,\" \",\" \",\" \",\" \"),IF(referentes!AC1044=referentes!AI1044,CONCATENATE(referentes!AH1044,\" \",referentes!AI1044,\" \",\" \"),CONCATENATE(referentes!AH1044,\" \",referentes!AI1044,\" \",referentes!AC1044))))","v":""},{"$f":"IF(referentes!AB1044=\"\",\"\",referentes!AB1044)","v":""}]
[null,null,null,null,null,null,null,null,null,null,null,null,null,null,null,{"$f":"IF(referentes!AC1045=\"\",\"\",IF(referentes!AC1045=referentes!AH1045,CONCATENATE(referentes!AC1045,\" \",\" \",\" \",\" \"),IF(referentes!AC1045=referentes!AI1045,CONCATENATE(referentes!AH1045,\" \",referentes!AI1045,\" \",\" \"),CONCATENATE(referentes!AH1045,\" \",referentes!AI1045,\" \",referentes!AC1045))))","v":""},{"$f":"IF(referentes!AB1045=\"\",\"\",referentes!AB1045)","v":""}]
[null,null,null,null,null,null,null,null,null,null,null,null,null,null,null,{"$f":"IF(referentes!AC1046=\"\",\"\",IF(referentes!AC1046=referentes!AH1046,CONCATENATE(referentes!AC1046,\" \",\" \",\" \",\" \"),IF(referentes!AC1046=referentes!AI1046,CONCATENATE(referentes!AH1046,\" \",referentes!AI1046,\" \",\" \"),CONCATENATE(referentes!AH1046,\" \",referentes!AI1046,\" \",referentes!AC1046))))","v":""},{"$f":"IF(referentes!AB1046=\"\",\"\",referentes!AB1046)","v":""}]
[null,null,null,null,null,null,null,null,null,null,null,null,null,null,null,{"$f":"IF(referentes!AC1047=\"\",\"\",IF(referentes!AC1047=referentes!AH1047,CONCATENATE(referentes!AC1047,\" \",\" \",\" \",\" \"),IF(referentes!AC1047=referentes!AI1047,CONCATENATE(referentes!AH1047,\" \",referentes!AI1047,\" \",\" \"),CONCATENATE(referentes!AH1047,\" \",referentes!AI1047,\" \",referentes!AC1047))))","v":""},{"$f":"IF(referentes!AB1047=\"\",\"\",referentes!AB1047)","v":""}]
[null,null,null,null,null,null,null,null,null,null,null,null,null,null,null,{"$f":"IF(referentes!AC1048=\"\",\"\",IF(referentes!AC1048=referentes!AH1048,CONCATENATE(referentes!AC1048,\" \",\" \",\" \",\" \"),IF(referentes!AC1048=referentes!AI1048,CONCATENATE(referentes!AH1048,\" \",referentes!AI1048,\" \",\" \"),CONCATENATE(referentes!AH1048,\" \",referentes!AI1048,\" \",referentes!AC1048))))","v":""},{"$f":"IF(referentes!AB1048=\"\",\"\",referentes!AB1048)","v":""}]
[null,null,null,null,null,null,null,null,null,null,null,null,null,null,null,{"$f":"IF(referentes!AC1049=\"\",\"\",IF(referentes!AC1049=referentes!AH1049,CONCATENATE(referentes!AC1049,\" \",\" \",\" \",\" \"),IF(referentes!AC1049=referentes!AI1049,CONCATENATE(referentes!AH1049,\" \",referentes!AI1049,\" \",\" \"),CONCATENATE(referentes!AH1049,\" \",referentes!AI1049,\" \",referentes!AC1049))))","v":""},{"$f":"IF(referentes!AB1049=\"\",\"\",referentes!AB1049)","v":""}]
[null,null,null,null,null,null,null,null,null,null,null,null,null,null,null,{"$f":"IF(referentes!AC1050=\"\",\"\",IF(referentes!AC1050=referentes!AH1050,CONCATENATE(referentes!AC1050,\" \",\" \",\" \",\" \"),IF(referentes!AC1050=referentes!AI1050,CONCATENATE(referentes!AH1050,\" \",referentes!AI1050,\" \",\" \"),CONCATENATE(referentes!AH1050,\" \",referentes!AI1050,\" \",referentes!AC1050))))","v":""},{"$f":"IF(referentes!AB1050=\"\",\"\",referentes!AB1050)","v":""}]
[null,null,null,null,null,null,null,null,null,null,null,null,null,null,null,{"$f":"IF(referentes!AC1051=\"\",\"\",IF(referentes!AC1051=referentes!AH1051,CONCATENATE(referentes!AC1051,\" \",\" \",\" \",\" \"),IF(referentes!AC1051=referentes!AI1051,CONCATENATE(referentes!AH1051,\" \",referentes!AI1051,\" \",\" \"),CONCATENATE(referentes!AH1051,\" \",referentes!AI1051,\" \",referentes!AC1051))))","v":""},{"$f":"IF(referentes!AB1051=\"\",\"\",referentes!AB1051)","v":""}]
[null,null,null,null,null,null,null,null,null,null,null,null,null,null,null,{"$f":"IF(referentes!AC1052=\"\",\"\",IF(referentes!AC1052=referentes!AH1052,CONCATENATE(referentes!AC1052,\" \",\" \",\" \",\" \"),IF(referentes!AC1052=referentes!AI1052,CONCATENATE(referentes!AH1052,\" \",referentes!AI1052,\" \",\" \"),CONCATENATE(referentes!AH1052,\" \",referentes!AI1052,\" \",referentes!AC1052))))","v":""},{"$f":"IF(referentes!AB1052=\"\",\"\",referentes!AB1052)","v":""}]
[null,null,null,null,null,null,null,null,null,null,null,null,null,null,null,{"$f":"IF(referentes!AC1053=\"\",\"\",IF(referentes!AC1053=referentes!AH1053,CONCATENATE(referentes!AC1053,\" \",\" \",\" \",\" \"),IF(referentes!AC1053=referentes!AI1053,CONCATENATE(referentes!AH1053,\" \",referentes!AI1053,\" \",\" \"),CONCATENATE(referentes!AH1053,\" \",referentes!AI1053,\" \",referentes!AC1053))))","v":""},{"$f":"IF(referentes!AB1053=\"\",\"\",referentes!AB1053)","v":""}]
[null,null,null,null,null,null,null,null,null,null,null,null,null,null,null,{"$f":"IF(referentes!AC1054=\"\",\"\",IF(referentes!AC1054=referentes!AH1054,CONCATENATE(referentes!AC1054,\" \",\" \",\" \",\" \"),IF(referentes!AC1054=referentes!AI1054,CONCATENATE(referentes!AH1054,\" \",referentes!AI1054,\" \",\" \"),CONCATENATE(referentes!AH1054,\" \",referentes!AI1054,\" \",referentes!AC1054))))","v":""},{"$f":"IF(referentes!AB1054=\"\",\"\",referentes!AB1054)","v":""}]
[null,null,null,null,null,null,null,null,null,null,null,null,null,null,null,{"$f":"IF(referentes!AC1055=\"\",\"\",IF(referentes!AC1055=referentes!AH1055,CONCATENATE(referentes!AC1055,\" \",\" \",\" \",\" \"),IF(referentes!AC1055=referentes!AI1055,CONCATENATE(referentes!AH1055,\" \",referentes!AI1055,\" \",\" \"),CONCATENATE(referentes!AH1055,\" \",referentes!AI1055,\" \",referentes!AC1055))))","v":""},{"$f":"IF(referentes!AB1055=\"\",\"\",referentes!AB1055)","v":""}]
[null,null,null,null,null,null,null,null,null,null,null,null,null,null,null,{"$f":"IF(referentes!AC1056=\"\",\"\",IF(referentes!AC1056=referentes!AH1056,CONCATENATE(referentes!AC1056,\" \",\" \",\" \",\" \"),IF(referentes!AC1056=referentes!AI1056,CONCATENATE(referentes!AH1056,\" \",referentes!AI1056,\" \",\" \"),CONCATENATE(referentes!AH1056,\" \",referentes!AI1056,\" \",referentes!AC1056))))","v":""},{"$f":"IF(referentes!AB1056=\"\",\"\",referentes!AB1056)","v":""}]
[null,null,null,null,null,null,null,null,null,null,null,null,null,null,null,{"$f":"IF(referentes!AC1057=\"\",\"\",IF(referentes!AC1057=referentes!AH1057,CONCATENATE(referentes!AC1057,\" \",\" \",\" \",\" \"),IF(referentes!AC1057=referentes!AI1057,CONCATENATE(referentes!AH1057,\" \",referentes!AI1057,\" \",\" \"),CONCATENATE(referentes!AH1057,\" \",referentes!AI1057,\" \",referentes!AC1057))))","v":""},{"$f":"IF(referentes!AB1057=\"\",\"\",referentes!AB1057)","v":""}]
[null,null,null,null,null,null,null,null,null,null,null,null,null,null,null,{"$f":"IF(referentes!AC1058=\"\",\"\",IF(referentes!AC1058=referentes!AH1058,CONCATENATE(referentes!AC1058,\" \",\" \",\" \",\" \"),IF(referentes!AC1058=referentes!AI1058,CONCATENATE(referentes!AH1058,\" \",referentes!AI1058,\" \",\" \"),CONCATENATE(referentes!AH1058,\" \",referentes!AI1058,\" \",referentes!AC1058))))","v":""},{"$f":"IF(referentes!AB1058=\"\",\"\",referentes!AB1058)","v":""}]
[null,null,null,null,null,null,null,null,null,null,null,null,null,null,null,{"$f":"IF(referentes!AC1059=\"\",\"\",IF(referentes!AC1059=referentes!AH1059,CONCATENATE(referentes!AC1059,\" \",\" \",\" \",\" \"),IF(referentes!AC1059=referentes!AI1059,CONCATENATE(referentes!AH1059,\" \",referentes!AI1059,\" \",\" \"),CONCATENATE(referentes!AH1059,\" \",referentes!AI1059,\" \",referentes!AC1059))))","v":""},{"$f":"IF(referentes!AB1059=\"\",\"\",referentes!AB1059)","v":""}]
[null,null,null,null,null,null,null,null,null,null,null,null,null,null,null,{"$f":"IF(referentes!AC1060=\"\",\"\",IF(referentes!AC1060=referentes!AH1060,CONCATENATE(referentes!AC1060,\" \",\" \",\" \",\" \"),IF(referentes!AC1060=referentes!AI1060,CONCATENATE(referentes!AH1060,\" \",referentes!AI1060,\" \",\" \"),CONCATENATE(referentes!AH1060,\" \",referentes!AI1060,\" \",referentes!AC1060))))","v":""},{"$f":"IF(referentes!AB1060=\"\",\"\",referentes!AB1060)","v":""}]
[null,null,null,null,null,null,null,null,null,null,null,null,null,null,null,{"$f":"IF(referentes!AC1061=\"\",\"\",IF(referentes!AC1061=referentes!AH1061,CONCATENATE(referentes!AC1061,\" \",\" \",\" \",\" \"),IF(referentes!AC1061=referentes!AI1061,CONCATENATE(referentes!AH1061,\" \",referentes!AI1061,\" \",\" \"),CONCATENATE(referentes!AH1061,\" \",referentes!AI1061,\" \",referentes!AC1061))))","v":""},{"$f":"IF(referentes!AB1061=\"\",\"\",referentes!AB1061)","v":""}]
[null,null,null,null,null,null,null,null,null,null,null,null,null,null,null,{"$f":"IF(referentes!AC1062=\"\",\"\",IF(referentes!AC1062=referentes!AH1062,CONCATENATE(referentes!AC1062,\" \",\" \",\" \",\" \"),IF(referentes!AC1062=referentes!AI1062,CONCATENATE(referentes!AH1062,\" \",referentes!AI1062,\" \",\" \"),CONCATENATE(referentes!AH1062,\" \",referentes!AI1062,\" \",referentes!AC1062))))","v":""},{"$f":"IF(referentes!AB1062=\"\",\"\",referentes!AB1062)","v":""}]
[null,null,null,null,null,null,null,null,null,null,null,null,null,null,null,{"$f":"IF(referentes!AC1063=\"\",\"\",IF(referentes!AC1063=referentes!AH1063,CONCATENATE(referentes!AC1063,\" \",\" \",\" \",\" \"),IF(referentes!AC1063=referentes!AI1063,CONCATENATE(referentes!AH1063,\" \",referentes!AI1063,\" \",\" \"),CONCATENATE(referentes!AH1063,\" \",referentes!AI1063,\" \",referentes!AC1063))))","v":""},{"$f":"IF(referentes!AB1063=\"\",\"\",referentes!AB1063)","v":""}]
[null,null,null,null,null,null,null,null,null,null,null,null,null,null,null,{"$f":"IF(referentes!AC1064=\"\",\"\",IF(referentes!AC1064=referentes!AH1064,CONCATENATE(referentes!AC1064,\" \",\" \",\" \",\" \"),IF(referentes!AC1064=referentes!AI1064,CONCATENATE(referentes!AH1064,\" \",referentes!AI1064,\" \",\" \"),CONCATENATE(referentes!AH1064,\" \",referentes!AI1064,\" \",referentes!AC1064))))","v":""},{"$f":"IF(referentes!AB1064=\"\",\"\",referentes!AB1064)","v":""}]
[null,null,null,null,null,null,null,null,null,null,null,null,null,null,null,{"$f":"IF(referentes!AC1065=\"\",\"\",IF(referentes!AC1065=referentes!AH1065,CONCATENATE(referentes!AC1065,\" \",\" \",\" \",\" \"),IF(referentes!AC1065=referentes!AI1065,CONCATENATE(referentes!AH1065,\" \",referentes!AI1065,\" \",\" \"),CONCATENATE(referentes!AH1065,\" \",referentes!AI1065,\" \",referentes!AC1065))))","v":""},{"$f":"IF(referentes!AB1065=\"\",\"\",referentes!AB1065)","v":""}]
[null,null,null,null,null,null,null,null,null,null,null,null,null,null,null,{"$f":"IF(referentes!AC1066=\"\",\"\",IF(referentes!AC1066=referentes!AH1066,CONCATENATE(referentes!AC1066,\" \",\" \",\" \",\" \"),IF(referentes!AC1066=referentes!AI1066,CONCATENATE(referentes!AH1066,\" \",referentes!AI1066,\" \",\" \"),CONCATENATE(referentes!AH1066,\" \",referentes!AI1066,\" \",referentes!AC1066))))","v":""},{"$f":"IF(referentes!AB1066=\"\",\"\",referentes!AB1066)","v":""}]
[null,null,null,null,null,null,null,null,null,null,null,null,null,null,null,{"$f":"IF(referentes!AC1067=\"\",\"\",IF(referentes!AC1067=referentes!AH1067,CONCATENATE(referentes!AC1067,\" \",\" \",\" \",\" \"),IF(referentes!AC1067=referentes!AI1067,CONCATENATE(referentes!AH1067,\" \",referentes!AI1067,\" \",\" \"),CONCATENATE(referentes!AH1067,\" \",referentes!AI1067,\" \",referentes!AC1067))))","v":""},{"$f":"IF(referentes!AB1067=\"\",\"\",referentes!AB1067)","v":""}]
[null,null,null,null,null,null,null,null,null,null,null,null,null,null,null,{"$f":"IF(referentes!AC1068=\"\",\"\",IF(referentes!AC1068=referentes!AH1068,CONCATENATE(referentes!AC1068,\" \",\" \",\" \",\" \"),IF(referentes!AC1068=referentes!AI1068,CONCATENATE(referentes!AH1068,\" \",referentes!AI1068,\" \",\" \"),CONCATENATE(referentes!AH1068,\" \",referentes!AI1068,\" \",referentes!AC1068))))","v":""},{"$f":"IF(referentes!AB1068=\"\",\"\",referentes!AB1068)","v":""}]
[null,null,null,null,null,null,null,null,null,null,null,null,null,null,null,{"$f":"IF(referentes!AC1069=\"\",\"\",IF(referentes!AC1069=referentes!AH1069,CONCATENATE(referentes!AC1069,\" \",\" \",\" \",\" \"),IF(referentes!AC1069=referentes!AI1069,CONCATENATE(referentes!AH1069,\" \",referentes!AI1069,\" \",\" \"),CONCATENATE(referentes!AH1069,\" \",referentes!AI1069,\" \",referentes!AC1069))))","v":""},{"$f":"IF(referentes!AB1069=\"\",\"\",referentes!AB1069)","v":""}]
[null,null,null,null,null,null,null,null,null,null,null,null,null,null,null,{"$f":"IF(referentes!AC1070=\"\",\"\",IF(referentes!AC1070=referentes!AH1070,CONCATENATE(referentes!AC1070,\" \",\" \",\" \",\" \"),IF(referentes!AC1070=referentes!AI1070,CONCATENATE(referentes!AH1070,\" \",referentes!AI1070,\" \",\" \"),CONCATENATE(referentes!AH1070,\" \",referentes!AI1070,\" \",referentes!AC1070))))","v":""},{"$f":"IF(referentes!AB1070=\"\",\"\",referentes!AB1070)","v":""}]
[null,null,null,null,null,null,null,null,null,null,null,null,null,null,null,{"$f":"IF(referentes!AC1071=\"\",\"\",IF(referentes!AC1071=referentes!AH1071,CONCATENATE(referentes!AC1071,\" \",\" \",\" \",\" \"),IF(referentes!AC1071=referentes!AI1071,CONCATENATE(referentes!AH1071,\" \",referentes!AI1071,\" \",\" \"),CONCATENATE(referentes!AH1071,\" \",referentes!AI1071,\" \",referentes!AC1071))))","v":""},{"$f":"IF(referentes!AB1071=\"\",\"\",referentes!AB1071)","v":""}]
[null,null,null,null,null,null,null,null,null,null,null,null,null,null,null,{"$f":"IF(referentes!AC1072=\"\",\"\",IF(referentes!AC1072=referentes!AH1072,CONCATENATE(referentes!AC1072,\" \",\" \",\" \",\" \"),IF(referentes!AC1072=referentes!AI1072,CONCATENATE(referentes!AH1072,\" \",referentes!AI1072,\" \",\" \"),CONCATENATE(referentes!AH1072,\" \",referentes!AI1072,\" \",referentes!AC1072))))","v":""},{"$f":"IF(referentes!AB1072=\"\",\"\",referentes!AB1072)","v":""}]
[null,null,null,null,null,null,null,null,null,null,null,null,null,null,null,{"$f":"IF(referentes!AC1073=\"\",\"\",IF(referentes!AC1073=referentes!AH1073,CONCATENATE(referentes!AC1073,\" \",\" \",\" \",\" \"),IF(referentes!AC1073=referentes!AI1073,CONCATENATE(referentes!AH1073,\" \",referentes!AI1073,\" \",\" \"),CONCATENATE(referentes!AH1073,\" \",referentes!AI1073,\" \",referentes!AC1073))))","v":""},{"$f":"IF(referentes!AB1073=\"\",\"\",referentes!AB1073)","v":""}]
[null,null,null,null,null,null,null,null,null,null,null,null,null,null,null,{"$f":"IF(referentes!AC1074=\"\",\"\",IF(referentes!AC1074=referentes!AH1074,CONCATENATE(referentes!AC1074,\" \",\" \",\" \",\" \"),IF(referentes!AC1074=referentes!AI1074,CONCATENATE(referentes!AH1074,\" \",referentes!AI1074,\" \",\" \"),CONCATENATE(referentes!AH1074,\" \",referentes!AI1074,\" \",referentes!AC1074))))","v":""},{"$f":"IF(referentes!AB1074=\"\",\"\",referentes!AB1074)","v":""}]
[null,null,null,null,null,null,null,null,null,null,null,null,null,null,null,{"$f":"IF(referentes!AC1075=\"\",\"\",IF(referentes!AC1075=referentes!AH1075,CONCATENATE(referentes!AC1075,\" \",\" \",\" \",\" \"),IF(referentes!AC1075=referentes!AI1075,CONCATENATE(referentes!AH1075,\" \",referentes!AI1075,\" \",\" \"),CONCATENATE(referentes!AH1075,\" \",referentes!AI1075,\" \",referentes!AC1075))))","v":""},{"$f":"IF(referentes!AB1075=\"\",\"\",referentes!AB1075)","v":""}]
[null,null,null,null,null,null,null,null,null,null,null,null,null,null,null,{"$f":"IF(referentes!AC1076=\"\",\"\",IF(referentes!AC1076=referentes!AH1076,CONCATENATE(referentes!AC1076,\" \",\" \",\" \",\" \"),IF(referentes!AC1076=referentes!AI1076,CONCATENATE(referentes!AH1076,\" \",referentes!AI1076,\" \",\" \"),CONCATENATE(referentes!AH1076,\" \",referentes!AI1076,\" \",referentes!AC1076))))","v":""},{"$f":"IF(referentes!AB1076=\"\",\"\",referentes!AB1076)","v":""}]
[null,null,null,null,null,null,null,null,null,null,null,null,null,null,null,{"$f":"IF(referentes!AC1077=\"\",\"\",IF(referentes!AC1077=referentes!AH1077,CONCATENATE(referentes!AC1077,\" \",\" \",\" \",\" \"),IF(referentes!AC1077=referentes!AI1077,CONCATENATE(referentes!AH1077,\" \",referentes!AI1077,\" \",\" \"),CONCATENATE(referentes!AH1077,\" \",referentes!AI1077,\" \",referentes!AC1077))))","v":""},{"$f":"IF(referentes!AB1077=\"\",\"\",referentes!AB1077)","v":""}]
[null,null,null,null,null,null,null,null,null,null,null,null,null,null,null,{"$f":"IF(referentes!AC1078=\"\",\"\",IF(referentes!AC1078=referentes!AH1078,CONCATENATE(referentes!AC1078,\" \",\" \",\" \",\" \"),IF(referentes!AC1078=referentes!AI1078,CONCATENATE(referentes!AH1078,\" \",referentes!AI1078,\" \",\" \"),CONCATENATE(referentes!AH1078,\" \",referentes!AI1078,\" \",referentes!AC1078))))","v":""},{"$f":"IF(referentes!AB1078=\"\",\"\",referentes!AB1078)","v":""}]
[null,null,null,null,null,null,null,null,null,null,null,null,null,null,null,{"$f":"IF(referentes!AC1079=\"\",\"\",IF(referentes!AC1079=referentes!AH1079,CONCATENATE(referentes!AC1079,\" \",\" \",\" \",\" \"),IF(referentes!AC1079=referentes!AI1079,CONCATENATE(referentes!AH1079,\" \",referentes!AI1079,\" \",\" \"),CONCATENATE(referentes!AH1079,\" \",referentes!AI1079,\" \",referentes!AC1079))))","v":""},{"$f":"IF(referentes!AB1079=\"\",\"\",referentes!AB1079)","v":""}]
[null,null,null,null,null,null,null,null,null,null,null,null,null,null,null,{"$f":"IF(referentes!AC1080=\"\",\"\",IF(referentes!AC1080=referentes!AH1080,CONCATENATE(referentes!AC1080,\" \",\" \",\" \",\" \"),IF(referentes!AC1080=referentes!AI1080,CONCATENATE(referentes!AH1080,\" \",referentes!AI1080,\" \",\" \"),CONCATENATE(referentes!AH1080,\" \",referentes!AI1080,\" \",referentes!AC1080))))","v":""},{"$f":"IF(referentes!AB1080=\"\",\"\",referentes!AB1080)","v":""}]
[null,null,null,null,null,null,null,null,null,null,null,null,null,null,null,{"$f":"IF(referentes!AC1081=\"\",\"\",IF(referentes!AC1081=referentes!AH1081,CONCATENATE(referentes!AC1081,\" \",\" \",\" \",\" \"),IF(referentes!AC1081=referentes!AI1081,CONCATENATE(referentes!AH1081,\" \",referentes!AI1081,\" \",\" \"),CONCATENATE(referentes!AH1081,\" \",referentes!AI1081,\" \",referentes!AC1081))))","v":""},{"$f":"IF(referentes!AB1081=\"\",\"\",referentes!AB1081)","v":""}]
[null,null,null,null,null,null,null,null,null,null,null,null,null,null,null,{"$f":"IF(referentes!AC1082=\"\",\"\",IF(referentes!AC1082=referentes!AH1082,CONCATENATE(referentes!AC1082,\" \",\" \",\" \",\" \"),IF(referentes!AC1082=referentes!AI1082,CONCATENATE(referentes!AH1082,\" \",referentes!AI1082,\" \",\" \"),CONCATENATE(referentes!AH1082,\" \",referentes!AI1082,\" \",referentes!AC1082))))","v":""},{"$f":"IF(referentes!AB1082=\"\",\"\",referentes!AB1082)","v":""}]
[null,null,null,null,null,null,null,null,null,null,null,null,null,null,null,{"$f":"IF(referentes!AC1083=\"\",\"\",IF(referentes!AC1083=referentes!AH1083,CONCATENATE(referentes!AC1083,\" \",\" \",\" \",\" \"),IF(referentes!AC1083=referentes!AI1083,CONCATENATE(referentes!AH1083,\" \",referentes!AI1083,\" \",\" \"),CONCATENATE(referentes!AH1083,\" \",referentes!AI1083,\" \",referentes!AC1083))))","v":""},{"$f":"IF(referentes!AB1083=\"\",\"\",referentes!AB1083)","v":""}]
[null,null,null,null,null,null,null,null,null,null,null,null,null,null,null,{"$f":"IF(referentes!AC1084=\"\",\"\",IF(referentes!AC1084=referentes!AH1084,CONCATENATE(referentes!AC1084,\" \",\" \",\" \",\" \"),IF(referentes!AC1084=referentes!AI1084,CONCATENATE(referentes!AH1084,\" \",referentes!AI1084,\" \",\" \"),CONCATENATE(referentes!AH1084,\" \",referentes!AI1084,\" \",referentes!AC1084))))","v":""},{"$f":"IF(referentes!AB1084=\"\",\"\",referentes!AB1084)","v":""}]
[null,null,null,null,null,null,null,null,null,null,null,null,null,null,null,{"$f":"IF(referentes!AC1085=\"\",\"\",IF(referentes!AC1085=referentes!AH1085,CONCATENATE(referentes!AC1085,\" \",\" \",\" \",\" \"),IF(referentes!AC1085=referentes!AI1085,CONCATENATE(referentes!AH1085,\" \",referentes!AI1085,\" \",\" \"),CONCATENATE(referentes!AH1085,\" \",referentes!AI1085,\" \",referentes!AC1085))))","v":""},{"$f":"IF(referentes!AB1085=\"\",\"\",referentes!AB1085)","v":""}]
[null,null,null,null,null,null,null,null,null,null,null,null,null,null,null,{"$f":"IF(referentes!AC1086=\"\",\"\",IF(referentes!AC1086=referentes!AH1086,CONCATENATE(referentes!AC1086,\" \",\" \",\" \",\" \"),IF(referentes!AC1086=referentes!AI1086,CONCATENATE(referentes!AH1086,\" \",referentes!AI1086,\" \",\" \"),CONCATENATE(referentes!AH1086,\" \",referentes!AI1086,\" \",referentes!AC1086))))","v":""},{"$f":"IF(referentes!AB1086=\"\",\"\",referentes!AB1086)","v":""}]
[null,null,null,null,null,null,null,null,null,null,null,null,null,null,null,{"$f":"IF(referentes!AC1087=\"\",\"\",IF(referentes!AC1087=referentes!AH1087,CONCATENATE(referentes!AC1087,\" \",\" \",\" \",\" \"),IF(referentes!AC1087=referentes!AI1087,CONCATENATE(referentes!AH1087,\" \",referentes!AI1087,\" \",\" \"),CONCATENATE(referentes!AH1087,\" \",referentes!AI1087,\" \",referentes!AC1087))))","v":""},{"$f":"IF(referentes!AB1087=\"\",\"\",referentes!AB1087)","v":""}]
[null,null,null,null,null,null,null,null,null,null,null,null,null,null,null,{"$f":"IF(referentes!AC1088=\"\",\"\",IF(referentes!AC1088=referentes!AH1088,CONCATENATE(referentes!AC1088,\" \",\" \",\" \",\" \"),IF(referentes!AC1088=referentes!AI1088,CONCATENATE(referentes!AH1088,\" \",referentes!AI1088,\" \",\" \"),CONCATENATE(referentes!AH1088,\" \",referentes!AI1088,\" \",referentes!AC1088))))","v":""},{"$f":"IF(referentes!AB1088=\"\",\"\",referentes!AB1088)","v":""}]
[null,null,null,null,null,null,null,null,null,null,null,null,null,null,null,{"$f":"IF(referentes!AC1089=\"\",\"\",IF(referentes!AC1089=referentes!AH1089,CONCATENATE(referentes!AC1089,\" \",\" \",\" \",\" \"),IF(referentes!AC1089=referentes!AI1089,CONCATENATE(referentes!AH1089,\" \",referentes!AI1089,\" \",\" \"),CONCATENATE(referentes!AH1089,\" \",referentes!AI1089,\" \",referentes!AC1089))))","v":""},{"$f":"IF(referentes!AB1089=\"\",\"\",referentes!AB1089)","v":""}]
[null,null,null,null,null,null,null,null,null,null,null,null,null,null,null,{"$f":"IF(referentes!AC1090=\"\",\"\",IF(referentes!AC1090=referentes!AH1090,CONCATENATE(referentes!AC1090,\" \",\" \",\" \",\" \"),IF(referentes!AC1090=referentes!AI1090,CONCATENATE(referentes!AH1090,\" \",referentes!AI1090,\" \",\" \"),CONCATENATE(referentes!AH1090,\" \",referentes!AI1090,\" \",referentes!AC1090))))","v":""},{"$f":"IF(referentes!AB1090=\"\",\"\",referentes!AB1090)","v":""}]
[null,null,null,null,null,null,null,null,null,null,null,null,null,null,null,{"$f":"IF(referentes!AC1091=\"\",\"\",IF(referentes!AC1091=referentes!AH1091,CONCATENATE(referentes!AC1091,\" \",\" \",\" \",\" \"),IF(referentes!AC1091=referentes!AI1091,CONCATENATE(referentes!AH1091,\" \",referentes!AI1091,\" \",\" \"),CONCATENATE(referentes!AH1091,\" \",referentes!AI1091,\" \",referentes!AC1091))))","v":""},{"$f":"IF(referentes!AB1091=\"\",\"\",referentes!AB1091)","v":""}]
[null,null,null,null,null,null,null,null,null,null,null,null,null,null,null,{"$f":"IF(referentes!AC1092=\"\",\"\",IF(referentes!AC1092=referentes!AH1092,CONCATENATE(referentes!AC1092,\" \",\" \",\" \",\" \"),IF(referentes!AC1092=referentes!AI1092,CONCATENATE(referentes!AH1092,\" \",referentes!AI1092,\" \",\" \"),CONCATENATE(referentes!AH1092,\" \",referentes!AI1092,\" \",referentes!AC1092))))","v":""},{"$f":"IF(referentes!AB1092=\"\",\"\",referentes!AB1092)","v":""}]
[null,null,null,null,null,null,null,null,null,null,null,null,null,null,null,{"$f":"IF(referentes!AC1093=\"\",\"\",IF(referentes!AC1093=referentes!AH1093,CONCATENATE(referentes!AC1093,\" \",\" \",\" \",\" \"),IF(referentes!AC1093=referentes!AI1093,CONCATENATE(referentes!AH1093,\" \",referentes!AI1093,\" \",\" \"),CONCATENATE(referentes!AH1093,\" \",referentes!AI1093,\" \",referentes!AC1093))))","v":""},{"$f":"IF(referentes!AB1093=\"\",\"\",referentes!AB1093)","v":""}]
[null,null,null,null,null,null,null,null,null,null,null,null,null,null,null,{"$f":"IF(referentes!AC1094=\"\",\"\",IF(referentes!AC1094=referentes!AH1094,CONCATENATE(referentes!AC1094,\" \",\" \",\" \",\" \"),IF(referentes!AC1094=referentes!AI1094,CONCATENATE(referentes!AH1094,\" \",referentes!AI1094,\" \",\" \"),CONCATENATE(referentes!AH1094,\" \",referentes!AI1094,\" \",referentes!AC1094))))","v":""},{"$f":"IF(referentes!AB1094=\"\",\"\",referentes!AB1094)","v":""}]
[null,null,null,null,null,null,null,null,null,null,null,null,null,null,null,{"$f":"IF(referentes!AC1095=\"\",\"\",IF(referentes!AC1095=referentes!AH1095,CONCATENATE(referentes!AC1095,\" \",\" \",\" \",\" \"),IF(referentes!AC1095=referentes!AI1095,CONCATENATE(referentes!AH1095,\" \",referentes!AI1095,\" \",\" \"),CONCATENATE(referentes!AH1095,\" \",referentes!AI1095,\" \",referentes!AC1095))))","v":""},{"$f":"IF(referentes!AB1095=\"\",\"\",referentes!AB1095)","v":""}]
[null,null,null,null,null,null,null,null,null,null,null,null,null,null,null,{"$f":"IF(referentes!AC1096=\"\",\"\",IF(referentes!AC1096=referentes!AH1096,CONCATENATE(referentes!AC1096,\" \",\" \",\" \",\" \"),IF(referentes!AC1096=referentes!AI1096,CONCATENATE(referentes!AH1096,\" \",referentes!AI1096,\" \",\" \"),CONCATENATE(referentes!AH1096,\" \",referentes!AI1096,\" \",referentes!AC1096))))","v":""},{"$f":"IF(referentes!AB1096=\"\",\"\",referentes!AB1096)","v":""}]
[null,null,null,null,null,null,null,null,null,null,null,null,null,null,null,{"$f":"IF(referentes!AC1097=\"\",\"\",IF(referentes!AC1097=referentes!AH1097,CONCATENATE(referentes!AC1097,\" \",\" \",\" \",\" \"),IF(referentes!AC1097=referentes!AI1097,CONCATENATE(referentes!AH1097,\" \",referentes!AI1097,\" \",\" \"),CONCATENATE(referentes!AH1097,\" \",referentes!AI1097,\" \",referentes!AC1097))))","v":""},{"$f":"IF(referentes!AB1097=\"\",\"\",referentes!AB1097)","v":""}]
[null,null,null,null,null,null,null,null,null,null,null,null,null,null,null,{"$f":"IF(referentes!AC1098=\"\",\"\",IF(referentes!AC1098=referentes!AH1098,CONCATENATE(referentes!AC1098,\" \",\" \",\" \",\" \"),IF(referentes!AC1098=referentes!AI1098,CONCATENATE(referentes!AH1098,\" \",referentes!AI1098,\" \",\" \"),CONCATENATE(referentes!AH1098,\" \",referentes!AI1098,\" \",referentes!AC1098))))","v":""},{"$f":"IF(referentes!AB1098=\"\",\"\",referentes!AB1098)","v":""}]
[null,null,null,null,null,null,null,null,null,null,null,null,null,null,null,{"$f":"IF(referentes!AC1099=\"\",\"\",IF(referentes!AC1099=referentes!AH1099,CONCATENATE(referentes!AC1099,\" \",\" \",\" \",\" \"),IF(referentes!AC1099=referentes!AI1099,CONCATENATE(referentes!AH1099,\" \",referentes!AI1099,\" \",\" \"),CONCATENATE(referentes!AH1099,\" \",referentes!AI1099,\" \",referentes!AC1099))))","v":""},{"$f":"IF(referentes!AB1099=\"\",\"\",referentes!AB1099)","v":""}]
[null,null,null,null,null,null,null,null,null,null,null,null,null,null,null,{"$f":"IF(referentes!AC1100=\"\",\"\",IF(referentes!AC1100=referentes!AH1100,CONCATENATE(referentes!AC1100,\" \",\" \",\" \",\" \"),IF(referentes!AC1100=referentes!AI1100,CONCATENATE(referentes!AH1100,\" \",referentes!AI1100,\" \",\" \"),CONCATENATE(referentes!AH1100,\" \",referentes!AI1100,\" \",referentes!AC1100))))","v":""},{"$f":"IF(referentes!AB1100=\"\",\"\",referentes!AB1100)","v":""}]
[null,null,null,null,null,null,null,null,null,null,null,null,null,null,null,{"$f":"IF(referentes!AC1101=\"\",\"\",IF(referentes!AC1101=referentes!AH1101,CONCATENATE(referentes!AC1101,\" \",\" \",\" \",\" \"),IF(referentes!AC1101=referentes!AI1101,CONCATENATE(referentes!AH1101,\" \",referentes!AI1101,\" \",\" \"),CONCATENATE(referentes!AH1101,\" \",referentes!AI1101,\" \",referentes!AC1101))))","v":""},{"$f":"IF(referentes!AB1101=\"\",\"\",referentes!AB1101)","v":""}]
[null,null,null,null,null,null,null,null,null,null,null,null,null,null,null,{"$f":"IF(referentes!AC1102=\"\",\"\",IF(referentes!AC1102=referentes!AH1102,CONCATENATE(referentes!AC1102,\" \",\" \",\" \",\" \"),IF(referentes!AC1102=referentes!AI1102,CONCATENATE(referentes!AH1102,\" \",referentes!AI1102,\" \",\" \"),CONCATENATE(referentes!AH1102,\" \",referentes!AI1102,\" \",referentes!AC1102))))","v":""},{"$f":"IF(referentes!AB1102=\"\",\"\",referentes!AB1102)","v":""}]
[null,null,null,null,null,null,null,null,null,null,null,null,null,null,null,{"$f":"IF(referentes!AC1103=\"\",\"\",IF(referentes!AC1103=referentes!AH1103,CONCATENATE(referentes!AC1103,\" \",\" \",\" \",\" \"),IF(referentes!AC1103=referentes!AI1103,CONCATENATE(referentes!AH1103,\" \",referentes!AI1103,\" \",\" \"),CONCATENATE(referentes!AH1103,\" \",referentes!AI1103,\" \",referentes!AC1103))))","v":""},{"$f":"IF(referentes!AB1103=\"\",\"\",referentes!AB1103)","v":""}]
[null,null,null,null,null,null,null,null,null,null,null,null,null,null,null,{"$f":"IF(referentes!AC1104=\"\",\"\",IF(referentes!AC1104=referentes!AH1104,CONCATENATE(referentes!AC1104,\" \",\" \",\" \",\" \"),IF(referentes!AC1104=referentes!AI1104,CONCATENATE(referentes!AH1104,\" \",referentes!AI1104,\" \",\" \"),CONCATENATE(referentes!AH1104,\" \",referentes!AI1104,\" \",referentes!AC1104))))","v":""},{"$f":"IF(referentes!AB1104=\"\",\"\",referentes!AB1104)","v":""}]
[null,null,null,null,null,null,null,null,null,null,null,null,null,null,null,{"$f":"IF(referentes!AC1105=\"\",\"\",IF(referentes!AC1105=referentes!AH1105,CONCATENATE(referentes!AC1105,\" \",\" \",\" \",\" \"),IF(referentes!AC1105=referentes!AI1105,CONCATENATE(referentes!AH1105,\" \",referentes!AI1105,\" \",\" \"),CONCATENATE(referentes!AH1105,\" \",referentes!AI1105,\" \",referentes!AC1105))))","v":""},{"$f":"IF(referentes!AB1105=\"\",\"\",referentes!AB1105)","v":""}]
[null,null,null,null,null,null,null,null,null,null,null,null,null,null,null,{"$f":"IF(referentes!AC1106=\"\",\"\",IF(referentes!AC1106=referentes!AH1106,CONCATENATE(referentes!AC1106,\" \",\" \",\" \",\" \"),IF(referentes!AC1106=referentes!AI1106,CONCATENATE(referentes!AH1106,\" \",referentes!AI1106,\" \",\" \"),CONCATENATE(referentes!AH1106,\" \",referentes!AI1106,\" \",referentes!AC1106))))","v":""},{"$f":"IF(referentes!AB1106=\"\",\"\",referentes!AB1106)","v":""}]
[null,null,null,null,null,null,null,null,null,null,null,null,null,null,null,{"$f":"IF(referentes!AC1107=\"\",\"\",IF(referentes!AC1107=referentes!AH1107,CONCATENATE(referentes!AC1107,\" \",\" \",\" \",\" \"),IF(referentes!AC1107=referentes!AI1107,CONCATENATE(referentes!AH1107,\" \",referentes!AI1107,\" \",\" \"),CONCATENATE(referentes!AH1107,\" \",referentes!AI1107,\" \",referentes!AC1107))))","v":""},{"$f":"IF(referentes!AB1107=\"\",\"\",referentes!AB1107)","v":""}]
[null,null,null,null,null,null,null,null,null,null,null,null,null,null,null,{"$f":"IF(referentes!AC1108=\"\",\"\",IF(referentes!AC1108=referentes!AH1108,CONCATENATE(referentes!AC1108,\" \",\" \",\" \",\" \"),IF(referentes!AC1108=referentes!AI1108,CONCATENATE(referentes!AH1108,\" \",referentes!AI1108,\" \",\" \"),CONCATENATE(referentes!AH1108,\" \",referentes!AI1108,\" \",referentes!AC1108))))","v":""},{"$f":"IF(referentes!AB1108=\"\",\"\",referentes!AB1108)","v":""}]
[null,null,null,null,null,null,null,null,null,null,null,null,null,null,null,{"$f":"IF(referentes!AC1109=\"\",\"\",IF(referentes!AC1109=referentes!AH1109,CONCATENATE(referentes!AC1109,\" \",\" \",\" \",\" \"),IF(referentes!AC1109=referentes!AI1109,CONCATENATE(referentes!AH1109,\" \",referentes!AI1109,\" \",\" \"),CONCATENATE(referentes!AH1109,\" \",referentes!AI1109,\" \",referentes!AC1109))))","v":""},{"$f":"IF(referentes!AB1109=\"\",\"\",referentes!AB1109)","v":""}]
[null,null,null,null,null,null,null,null,null,null,null,null,null,null,null,{"$f":"IF(referentes!AC1110=\"\",\"\",IF(referentes!AC1110=referentes!AH1110,CONCATENATE(referentes!AC1110,\" \",\" \",\" \",\" \"),IF(referentes!AC1110=referentes!AI1110,CONCATENATE(referentes!AH1110,\" \",referentes!AI1110,\" \",\" \"),CONCATENATE(referentes!AH1110,\" \",referentes!AI1110,\" \",referentes!AC1110))))","v":""},{"$f":"IF(referentes!AB1110=\"\",\"\",referentes!AB1110)","v":""}]
[null,null,null,null,null,null,null,null,null,null,null,null,null,null,null,{"$f":"IF(referentes!AC1111=\"\",\"\",IF(referentes!AC1111=referentes!AH1111,CONCATENATE(referentes!AC1111,\" \",\" \",\" \",\" \"),IF(referentes!AC1111=referentes!AI1111,CONCATENATE(referentes!AH1111,\" \",referentes!AI1111,\" \",\" \"),CONCATENATE(referentes!AH1111,\" \",referentes!AI1111,\" \",referentes!AC1111))))","v":""},{"$f":"IF(referentes!AB1111=\"\",\"\",referentes!AB1111)","v":""}]
[null,null,null,null,null,null,null,null,null,null,null,null,null,null,null,{"$f":"IF(referentes!AC1112=\"\",\"\",IF(referentes!AC1112=referentes!AH1112,CONCATENATE(referentes!AC1112,\" \",\" \",\" \",\" \"),IF(referentes!AC1112=referentes!AI1112,CONCATENATE(referentes!AH1112,\" \",referentes!AI1112,\" \",\" \"),CONCATENATE(referentes!AH1112,\" \",referentes!AI1112,\" \",referentes!AC1112))))","v":""},{"$f":"IF(referentes!AB1112=\"\",\"\",referentes!AB1112)","v":""}]
[null,null,null,null,null,null,null,null,null,null,null,null,null,null,null,{"$f":"IF(referentes!AC1113=\"\",\"\",IF(referentes!AC1113=referentes!AH1113,CONCATENATE(referentes!AC1113,\" \",\" \",\" \",\" \"),IF(referentes!AC1113=referentes!AI1113,CONCATENATE(referentes!AH1113,\" \",referentes!AI1113,\" \",\" \"),CONCATENATE(referentes!AH1113,\" \",referentes!AI1113,\" \",referentes!AC1113))))","v":""},{"$f":"IF(referentes!AB1113=\"\",\"\",referentes!AB1113)","v":""}]
[null,null,null,null,null,null,null,null,null,null,null,null,null,null,null,{"$f":"IF(referentes!AC1114=\"\",\"\",IF(referentes!AC1114=referentes!AH1114,CONCATENATE(referentes!AC1114,\" \",\" \",\" \",\" \"),IF(referentes!AC1114=referentes!AI1114,CONCATENATE(referentes!AH1114,\" \",referentes!AI1114,\" \",\" \"),CONCATENATE(referentes!AH1114,\" \",referentes!AI1114,\" \",referentes!AC1114))))","v":""},{"$f":"IF(referentes!AB1114=\"\",\"\",referentes!AB1114)","v":""}]
[null,null,null,null,null,null,null,null,null,null,null,null,null,null,null,{"$f":"IF(referentes!AC1115=\"\",\"\",IF(referentes!AC1115=referentes!AH1115,CONCATENATE(referentes!AC1115,\" \",\" \",\" \",\" \"),IF(referentes!AC1115=referentes!AI1115,CONCATENATE(referentes!AH1115,\" \",referentes!AI1115,\" \",\" \"),CONCATENATE(referentes!AH1115,\" \",referentes!AI1115,\" \",referentes!AC1115))))","v":""},{"$f":"IF(referentes!AB1115=\"\",\"\",referentes!AB1115)","v":""}]
[null,null,null,null,null,null,null,null,null,null,null,null,null,null,null,{"$f":"IF(referentes!AC1116=\"\",\"\",IF(referentes!AC1116=referentes!AH1116,CONCATENATE(referentes!AC1116,\" \",\" \",\" \",\" \"),IF(referentes!AC1116=referentes!AI1116,CONCATENATE(referentes!AH1116,\" \",referentes!AI1116,\" \",\" \"),CONCATENATE(referentes!AH1116,\" \",referentes!AI1116,\" \",referentes!AC1116))))","v":""},{"$f":"IF(referentes!AB1116=\"\",\"\",referentes!AB1116)","v":""}]
[null,null,null,null,null,null,null,null,null,null,null,null,null,null,null,{"$f":"IF(referentes!AC1117=\"\",\"\",IF(referentes!AC1117=referentes!AH1117,CONCATENATE(referentes!AC1117,\" \",\" \",\" \",\" \"),IF(referentes!AC1117=referentes!AI1117,CONCATENATE(referentes!AH1117,\" \",referentes!AI1117,\" \",\" \"),CONCATENATE(referentes!AH1117,\" \",referentes!AI1117,\" \",referentes!AC1117))))","v":""},{"$f":"IF(referentes!AB1117=\"\",\"\",referentes!AB1117)","v":""}]
[null,null,null,null,null,null,null,null,null,null,null,null,null,null,null,{"$f":"IF(referentes!AC1118=\"\",\"\",IF(referentes!AC1118=referentes!AH1118,CONCATENATE(referentes!AC1118,\" \",\" \",\" \",\" \"),IF(referentes!AC1118=referentes!AI1118,CONCATENATE(referentes!AH1118,\" \",referentes!AI1118,\" \",\" \"),CONCATENATE(referentes!AH1118,\" \",referentes!AI1118,\" \",referentes!AC1118))))","v":""},{"$f":"IF(referentes!AB1118=\"\",\"\",referentes!AB1118)","v":""}]
[null,null,null,null,null,null,null,null,null,null,null,null,null,null,null,{"$f":"IF(referentes!AC1119=\"\",\"\",IF(referentes!AC1119=referentes!AH1119,CONCATENATE(referentes!AC1119,\" \",\" \",\" \",\" \"),IF(referentes!AC1119=referentes!AI1119,CONCATENATE(referentes!AH1119,\" \",referentes!AI1119,\" \",\" \"),CONCATENATE(referentes!AH1119,\" \",referentes!AI1119,\" \",referentes!AC1119))))","v":""},{"$f":"IF(referentes!AB1119=\"\",\"\",referentes!AB1119)","v":""}]
[null,null,null,null,null,null,null,null,null,null,null,null,null,null,null,{"$f":"IF(referentes!AC1120=\"\",\"\",IF(referentes!AC1120=referentes!AH1120,CONCATENATE(referentes!AC1120,\" \",\" \",\" \",\" \"),IF(referentes!AC1120=referentes!AI1120,CONCATENATE(referentes!AH1120,\" \",referentes!AI1120,\" \",\" \"),CONCATENATE(referentes!AH1120,\" \",referentes!AI1120,\" \",referentes!AC1120))))","v":""},{"$f":"IF(referentes!AB1120=\"\",\"\",referentes!AB1120)","v":""}]
[null,null,null,null,null,null,null,null,null,null,null,null,null,null,null,{"$f":"IF(referentes!AC1121=\"\",\"\",IF(referentes!AC1121=referentes!AH1121,CONCATENATE(referentes!AC1121,\" \",\" \",\" \",\" \"),IF(referentes!AC1121=referentes!AI1121,CONCATENATE(referentes!AH1121,\" \",referentes!AI1121,\" \",\" \"),CONCATENATE(referentes!AH1121,\" \",referentes!AI1121,\" \",referentes!AC1121))))","v":""},{"$f":"IF(referentes!AB1121=\"\",\"\",referentes!AB1121)","v":""}]
[null,null,null,null,null,null,null,null,null,null,null,null,null,null,null,{"$f":"IF(referentes!AC1122=\"\",\"\",IF(referentes!AC1122=referentes!AH1122,CONCATENATE(referentes!AC1122,\" \",\" \",\" \",\" \"),IF(referentes!AC1122=referentes!AI1122,CONCATENATE(referentes!AH1122,\" \",referentes!AI1122,\" \",\" \"),CONCATENATE(referentes!AH1122,\" \",referentes!AI1122,\" \",referentes!AC1122))))","v":""},{"$f":"IF(referentes!AB1122=\"\",\"\",referentes!AB1122)","v":""}]
[null,null,null,null,null,null,null,null,null,null,null,null,null,null,null,{"$f":"IF(referentes!AC1123=\"\",\"\",IF(referentes!AC1123=referentes!AH1123,CONCATENATE(referentes!AC1123,\" \",\" \",\" \",\" \"),IF(referentes!AC1123=referentes!AI1123,CONCATENATE(referentes!AH1123,\" \",referentes!AI1123,\" \",\" \"),CONCATENATE(referentes!AH1123,\" \",referentes!AI1123,\" \",referentes!AC1123))))","v":""},{"$f":"IF(referentes!AB1123=\"\",\"\",referentes!AB1123)","v":""}]
[null,null,null,null,null,null,null,null,null,null,null,null,null,null,null,{"$f":"IF(referentes!AC1124=\"\",\"\",IF(referentes!AC1124=referentes!AH1124,CONCATENATE(referentes!AC1124,\" \",\" \",\" \",\" \"),IF(referentes!AC1124=referentes!AI1124,CONCATENATE(referentes!AH1124,\" \",referentes!AI1124,\" \",\" \"),CONCATENATE(referentes!AH1124,\" \",referentes!AI1124,\" \",referentes!AC1124))))","v":""},{"$f":"IF(referentes!AB1124=\"\",\"\",referentes!AB1124)","v":""}]
[null,null,null,null,null,null,null,null,null,null,null,null,null,null,null,{"$f":"IF(referentes!AC1125=\"\",\"\",IF(referentes!AC1125=referentes!AH1125,CONCATENATE(referentes!AC1125,\" \",\" \",\" \",\" \"),IF(referentes!AC1125=referentes!AI1125,CONCATENATE(referentes!AH1125,\" \",referentes!AI1125,\" \",\" \"),CONCATENATE(referentes!AH1125,\" \",referentes!AI1125,\" \",referentes!AC1125))))","v":""},{"$f":"IF(referentes!AB1125=\"\",\"\",referentes!AB1125)","v":""}]
[null,null,null,null,null,null,null,null,null,null,null,null,null,null,null,{"$f":"IF(referentes!AC1126=\"\",\"\",IF(referentes!AC1126=referentes!AH1126,CONCATENATE(referentes!AC1126,\" \",\" \",\" \",\" \"),IF(referentes!AC1126=referentes!AI1126,CONCATENATE(referentes!AH1126,\" \",referentes!AI1126,\" \",\" \"),CONCATENATE(referentes!AH1126,\" \",referentes!AI1126,\" \",referentes!AC1126))))","v":""},{"$f":"IF(referentes!AB1126=\"\",\"\",referentes!AB1126)","v":""}]
[null,null,null,null,null,null,null,null,null,null,null,null,null,null,null,{"$f":"IF(referentes!AC1127=\"\",\"\",IF(referentes!AC1127=referentes!AH1127,CONCATENATE(referentes!AC1127,\" \",\" \",\" \",\" \"),IF(referentes!AC1127=referentes!AI1127,CONCATENATE(referentes!AH1127,\" \",referentes!AI1127,\" \",\" \"),CONCATENATE(referentes!AH1127,\" \",referentes!AI1127,\" \",referentes!AC1127))))","v":""},{"$f":"IF(referentes!AB1127=\"\",\"\",referentes!AB1127)","v":""}]
[null,null,null,null,null,null,null,null,null,null,null,null,null,null,null,{"$f":"IF(referentes!AC1128=\"\",\"\",IF(referentes!AC1128=referentes!AH1128,CONCATENATE(referentes!AC1128,\" \",\" \",\" \",\" \"),IF(referentes!AC1128=referentes!AI1128,CONCATENATE(referentes!AH1128,\" \",referentes!AI1128,\" \",\" \"),CONCATENATE(referentes!AH1128,\" \",referentes!AI1128,\" \",referentes!AC1128))))","v":""},{"$f":"IF(referentes!AB1128=\"\",\"\",referentes!AB1128)","v":""}]
[null,null,null,null,null,null,null,null,null,null,null,null,null,null,null,{"$f":"IF(referentes!AC1129=\"\",\"\",IF(referentes!AC1129=referentes!AH1129,CONCATENATE(referentes!AC1129,\" \",\" \",\" \",\" \"),IF(referentes!AC1129=referentes!AI1129,CONCATENATE(referentes!AH1129,\" \",referentes!AI1129,\" \",\" \"),CONCATENATE(referentes!AH1129,\" \",referentes!AI1129,\" \",referentes!AC1129))))","v":""},{"$f":"IF(referentes!AB1129=\"\",\"\",referentes!AB1129)","v":""}]
[null,null,null,null,null,null,null,null,null,null,null,null,null,null,null,{"$f":"IF(referentes!AC1130=\"\",\"\",IF(referentes!AC1130=referentes!AH1130,CONCATENATE(referentes!AC1130,\" \",\" \",\" \",\" \"),IF(referentes!AC1130=referentes!AI1130,CONCATENATE(referentes!AH1130,\" \",referentes!AI1130,\" \",\" \"),CONCATENATE(referentes!AH1130,\" \",referentes!AI1130,\" \",referentes!AC1130))))","v":""},{"$f":"IF(referentes!AB1130=\"\",\"\",referentes!AB1130)","v":""}]
[null,null,null,null,null,null,null,null,null,null,null,null,null,null,null,{"$f":"IF(referentes!AC1131=\"\",\"\",IF(referentes!AC1131=referentes!AH1131,CONCATENATE(referentes!AC1131,\" \",\" \",\" \",\" \"),IF(referentes!AC1131=referentes!AI1131,CONCATENATE(referentes!AH1131,\" \",referentes!AI1131,\" \",\" \"),CONCATENATE(referentes!AH1131,\" \",referentes!AI1131,\" \",referentes!AC1131))))","v":""},{"$f":"IF(referentes!AB1131=\"\",\"\",referentes!AB1131)","v":""}]
[null,null,null,null,null,null,null,null,null,null,null,null,null,null,null,{"$f":"IF(referentes!AC1132=\"\",\"\",IF(referentes!AC1132=referentes!AH1132,CONCATENATE(referentes!AC1132,\" \",\" \",\" \",\" \"),IF(referentes!AC1132=referentes!AI1132,CONCATENATE(referentes!AH1132,\" \",referentes!AI1132,\" \",\" \"),CONCATENATE(referentes!AH1132,\" \",referentes!AI1132,\" \",referentes!AC1132))))","v":""},{"$f":"IF(referentes!AB1132=\"\",\"\",referentes!AB1132)","v":""}]
[null,null,null,null,null,null,null,null,null,null,null,null,null,null,null,{"$f":"IF(referentes!AC1133=\"\",\"\",IF(referentes!AC1133=referentes!AH1133,CONCATENATE(referentes!AC1133,\" \",\" \",\" \",\" \"),IF(referentes!AC1133=referentes!AI1133,CONCATENATE(referentes!AH1133,\" \",referentes!AI1133,\" \",\" \"),CONCATENATE(referentes!AH1133,\" \",referentes!AI1133,\" \",referentes!AC1133))))","v":""},{"$f":"IF(referentes!AB1133=\"\",\"\",referentes!AB1133)","v":""}]
[null,null,null,null,null,null,null,null,null,null,null,null,null,null,null,{"$f":"IF(referentes!AC1134=\"\",\"\",IF(referentes!AC1134=referentes!AH1134,CONCATENATE(referentes!AC1134,\" \",\" \",\" \",\" \"),IF(referentes!AC1134=referentes!AI1134,CONCATENATE(referentes!AH1134,\" \",referentes!AI1134,\" \",\" \"),CONCATENATE(referentes!AH1134,\" \",referentes!AI1134,\" \",referentes!AC1134))))","v":""},{"$f":"IF(referentes!AB1134=\"\",\"\",referentes!AB1134)","v":""}]
[null,null,null,null,null,null,null,null,null,null,null,null,null,null,null,{"$f":"IF(referentes!AC1135=\"\",\"\",IF(referentes!AC1135=referentes!AH1135,CONCATENATE(referentes!AC1135,\" \",\" \",\" \",\" \"),IF(referentes!AC1135=referentes!AI1135,CONCATENATE(referentes!AH1135,\" \",referentes!AI1135,\" \",\" \"),CONCATENATE(referentes!AH1135,\" \",referentes!AI1135,\" \",referentes!AC1135))))","v":""},{"$f":"IF(referentes!AB1135=\"\",\"\",referentes!AB1135)","v":""}]
[null,null,null,null,null,null,null,null,null,null,null,null,null,null,null,{"$f":"IF(referentes!AC1136=\"\",\"\",IF(referentes!AC1136=referentes!AH1136,CONCATENATE(referentes!AC1136,\" \",\" \",\" \",\" \"),IF(referentes!AC1136=referentes!AI1136,CONCATENATE(referentes!AH1136,\" \",referentes!AI1136,\" \",\" \"),CONCATENATE(referentes!AH1136,\" \",referentes!AI1136,\" \",referentes!AC1136))))","v":""},{"$f":"IF(referentes!AB1136=\"\",\"\",referentes!AB1136)","v":""}]
[null,null,null,null,null,null,null,null,null,null,null,null,null,null,null,{"$f":"IF(referentes!AC1137=\"\",\"\",IF(referentes!AC1137=referentes!AH1137,CONCATENATE(referentes!AC1137,\" \",\" \",\" \",\" \"),IF(referentes!AC1137=referentes!AI1137,CONCATENATE(referentes!AH1137,\" \",referentes!AI1137,\" \",\" \"),CONCATENATE(referentes!AH1137,\" \",referentes!AI1137,\" \",referentes!AC1137))))","v":""},{"$f":"IF(referentes!AB1137=\"\",\"\",referentes!AB1137)","v":""}]
[null,null,null,null,null,null,null,null,null,null,null,null,null,null,null,{"$f":"IF(referentes!AC1138=\"\",\"\",IF(referentes!AC1138=referentes!AH1138,CONCATENATE(referentes!AC1138,\" \",\" \",\" \",\" \"),IF(referentes!AC1138=referentes!AI1138,CONCATENATE(referentes!AH1138,\" \",referentes!AI1138,\" \",\" \"),CONCATENATE(referentes!AH1138,\" \",referentes!AI1138,\" \",referentes!AC1138))))","v":""},{"$f":"IF(referentes!AB1138=\"\",\"\",referentes!AB1138)","v":""}]
[null,null,null,null,null,null,null,null,null,null,null,null,null,null,null,{"$f":"IF(referentes!AC1139=\"\",\"\",IF(referentes!AC1139=referentes!AH1139,CONCATENATE(referentes!AC1139,\" \",\" \",\" \",\" \"),IF(referentes!AC1139=referentes!AI1139,CONCATENATE(referentes!AH1139,\" \",referentes!AI1139,\" \",\" \"),CONCATENATE(referentes!AH1139,\" \",referentes!AI1139,\" \",referentes!AC1139))))","v":""},{"$f":"IF(referentes!AB1139=\"\",\"\",referentes!AB1139)","v":""}]
[null,null,null,null,null,null,null,null,null,null,null,null,null,null,null,{"$f":"IF(referentes!AC1140=\"\",\"\",IF(referentes!AC1140=referentes!AH1140,CONCATENATE(referentes!AC1140,\" \",\" \",\" \",\" \"),IF(referentes!AC1140=referentes!AI1140,CONCATENATE(referentes!AH1140,\" \",referentes!AI1140,\" \",\" \"),CONCATENATE(referentes!AH1140,\" \",referentes!AI1140,\" \",referentes!AC1140))))","v":""},{"$f":"IF(referentes!AB1140=\"\",\"\",referentes!AB1140)","v":""}]
[null,null,null,null,null,null,null,null,null,null,null,null,null,null,null,{"$f":"IF(referentes!AC1141=\"\",\"\",IF(referentes!AC1141=referentes!AH1141,CONCATENATE(referentes!AC1141,\" \",\" \",\" \",\" \"),IF(referentes!AC1141=referentes!AI1141,CONCATENATE(referentes!AH1141,\" \",referentes!AI1141,\" \",\" \"),CONCATENATE(referentes!AH1141,\" \",referentes!AI1141,\" \",referentes!AC1141))))","v":""},{"$f":"IF(referentes!AB1141=\"\",\"\",referentes!AB1141)","v":""}]
[null,null,null,null,null,null,null,null,null,null,null,null,null,null,null,{"$f":"IF(referentes!AC1142=\"\",\"\",IF(referentes!AC1142=referentes!AH1142,CONCATENATE(referentes!AC1142,\" \",\" \",\" \",\" \"),IF(referentes!AC1142=referentes!AI1142,CONCATENATE(referentes!AH1142,\" \",referentes!AI1142,\" \",\" \"),CONCATENATE(referentes!AH1142,\" \",referentes!AI1142,\" \",referentes!AC1142))))","v":""},{"$f":"IF(referentes!AB1142=\"\",\"\",referentes!AB1142)","v":""}]
[null,null,null,null,null,null,null,null,null,null,null,null,null,null,null,{"$f":"IF(referentes!AC1143=\"\",\"\",IF(referentes!AC1143=referentes!AH1143,CONCATENATE(referentes!AC1143,\" \",\" \",\" \",\" \"),IF(referentes!AC1143=referentes!AI1143,CONCATENATE(referentes!AH1143,\" \",referentes!AI1143,\" \",\" \"),CONCATENATE(referentes!AH1143,\" \",referentes!AI1143,\" \",referentes!AC1143))))","v":""},{"$f":"IF(referentes!AB1143=\"\",\"\",referentes!AB1143)","v":""}]
[null,null,null,null,null,null,null,null,null,null,null,null,null,null,null,{"$f":"IF(referentes!AC1144=\"\",\"\",IF(referentes!AC1144=referentes!AH1144,CONCATENATE(referentes!AC1144,\" \",\" \",\" \",\" \"),IF(referentes!AC1144=referentes!AI1144,CONCATENATE(referentes!AH1144,\" \",referentes!AI1144,\" \",\" \"),CONCATENATE(referentes!AH1144,\" \",referentes!AI1144,\" \",referentes!AC1144))))","v":""},{"$f":"IF(referentes!AB1144=\"\",\"\",referentes!AB1144)","v":""}]
[null,null,null,null,null,null,null,null,null,null,null,null,null,null,null,{"$f":"IF(referentes!AC1145=\"\",\"\",IF(referentes!AC1145=referentes!AH1145,CONCATENATE(referentes!AC1145,\" \",\" \",\" \",\" \"),IF(referentes!AC1145=referentes!AI1145,CONCATENATE(referentes!AH1145,\" \",referentes!AI1145,\" \",\" \"),CONCATENATE(referentes!AH1145,\" \",referentes!AI1145,\" \",referentes!AC1145))))","v":""},{"$f":"IF(referentes!AB1145=\"\",\"\",referentes!AB1145)","v":""}]
[null,null,null,null,null,null,null,null,null,null,null,null,null,null,null,{"$f":"IF(referentes!AC1146=\"\",\"\",IF(referentes!AC1146=referentes!AH1146,CONCATENATE(referentes!AC1146,\" \",\" \",\" \",\" \"),IF(referentes!AC1146=referentes!AI1146,CONCATENATE(referentes!AH1146,\" \",referentes!AI1146,\" \",\" \"),CONCATENATE(referentes!AH1146,\" \",referentes!AI1146,\" \",referentes!AC1146))))","v":""},{"$f":"IF(referentes!AB1146=\"\",\"\",referentes!AB1146)","v":""}]
[null,null,null,null,null,null,null,null,null,null,null,null,null,null,null,{"$f":"IF(referentes!AC1147=\"\",\"\",IF(referentes!AC1147=referentes!AH1147,CONCATENATE(referentes!AC1147,\" \",\" \",\" \",\" \"),IF(referentes!AC1147=referentes!AI1147,CONCATENATE(referentes!AH1147,\" \",referentes!AI1147,\" \",\" \"),CONCATENATE(referentes!AH1147,\" \",referentes!AI1147,\" \",referentes!AC1147))))","v":""},{"$f":"IF(referentes!AB1147=\"\",\"\",referentes!AB1147)","v":""}]
[null,null,null,null,null,null,null,null,null,null,null,null,null,null,null,{"$f":"IF(referentes!AC1148=\"\",\"\",IF(referentes!AC1148=referentes!AH1148,CONCATENATE(referentes!AC1148,\" \",\" \",\" \",\" \"),IF(referentes!AC1148=referentes!AI1148,CONCATENATE(referentes!AH1148,\" \",referentes!AI1148,\" \",\" \"),CONCATENATE(referentes!AH1148,\" \",referentes!AI1148,\" \",referentes!AC1148))))","v":""},{"$f":"IF(referentes!AB1148=\"\",\"\",referentes!AB1148)","v":""}]
[null,null,null,null,null,null,null,null,null,null,null,null,null,null,null,{"$f":"IF(referentes!AC1149=\"\",\"\",IF(referentes!AC1149=referentes!AH1149,CONCATENATE(referentes!AC1149,\" \",\" \",\" \",\" \"),IF(referentes!AC1149=referentes!AI1149,CONCATENATE(referentes!AH1149,\" \",referentes!AI1149,\" \",\" \"),CONCATENATE(referentes!AH1149,\" \",referentes!AI1149,\" \",referentes!AC1149))))","v":""},{"$f":"IF(referentes!AB1149=\"\",\"\",referentes!AB1149)","v":""}]
[null,null,null,null,null,null,null,null,null,null,null,null,null,null,null,{"$f":"IF(referentes!AC1150=\"\",\"\",IF(referentes!AC1150=referentes!AH1150,CONCATENATE(referentes!AC1150,\" \",\" \",\" \",\" \"),IF(referentes!AC1150=referentes!AI1150,CONCATENATE(referentes!AH1150,\" \",referentes!AI1150,\" \",\" \"),CONCATENATE(referentes!AH1150,\" \",referentes!AI1150,\" \",referentes!AC1150))))","v":""},{"$f":"IF(referentes!AB1150=\"\",\"\",referentes!AB1150)","v":""}]
[null,null,null,null,null,null,null,null,null,null,null,null,null,null,null,{"$f":"IF(referentes!AC1151=\"\",\"\",IF(referentes!AC1151=referentes!AH1151,CONCATENATE(referentes!AC1151,\" \",\" \",\" \",\" \"),IF(referentes!AC1151=referentes!AI1151,CONCATENATE(referentes!AH1151,\" \",referentes!AI1151,\" \",\" \"),CONCATENATE(referentes!AH1151,\" \",referentes!AI1151,\" \",referentes!AC1151))))","v":""},{"$f":"IF(referentes!AB1151=\"\",\"\",referentes!AB1151)","v":""}]
[null,null,null,null,null,null,null,null,null,null,null,null,null,null,null,{"$f":"IF(referentes!AC1152=\"\",\"\",IF(referentes!AC1152=referentes!AH1152,CONCATENATE(referentes!AC1152,\" \",\" \",\" \",\" \"),IF(referentes!AC1152=referentes!AI1152,CONCATENATE(referentes!AH1152,\" \",referentes!AI1152,\" \",\" \"),CONCATENATE(referentes!AH1152,\" \",referentes!AI1152,\" \",referentes!AC1152))))","v":""},{"$f":"IF(referentes!AB1152=\"\",\"\",referentes!AB1152)","v":""}]
[null,null,null,null,null,null,null,null,null,null,null,null,null,null,null,{"$f":"IF(referentes!AC1153=\"\",\"\",IF(referentes!AC1153=referentes!AH1153,CONCATENATE(referentes!AC1153,\" \",\" \",\" \",\" \"),IF(referentes!AC1153=referentes!AI1153,CONCATENATE(referentes!AH1153,\" \",referentes!AI1153,\" \",\" \"),CONCATENATE(referentes!AH1153,\" \",referentes!AI1153,\" \",referentes!AC1153))))","v":""},{"$f":"IF(referentes!AB1153=\"\",\"\",referentes!AB1153)","v":""}]
[null,null,null,null,null,null,null,null,null,null,null,null,null,null,null,{"$f":"IF(referentes!AC1154=\"\",\"\",IF(referentes!AC1154=referentes!AH1154,CONCATENATE(referentes!AC1154,\" \",\" \",\" \",\" \"),IF(referentes!AC1154=referentes!AI1154,CONCATENATE(referentes!AH1154,\" \",referentes!AI1154,\" \",\" \"),CONCATENATE(referentes!AH1154,\" \",referentes!AI1154,\" \",referentes!AC1154))))","v":""},{"$f":"IF(referentes!AB1154=\"\",\"\",referentes!AB1154)","v":""}]
[null,null,null,null,null,null,null,null,null,null,null,null,null,null,null,{"$f":"IF(referentes!AC1155=\"\",\"\",IF(referentes!AC1155=referentes!AH1155,CONCATENATE(referentes!AC1155,\" \",\" \",\" \",\" \"),IF(referentes!AC1155=referentes!AI1155,CONCATENATE(referentes!AH1155,\" \",referentes!AI1155,\" \",\" \"),CONCATENATE(referentes!AH1155,\" \",referentes!AI1155,\" \",referentes!AC1155))))","v":""},{"$f":"IF(referentes!AB1155=\"\",\"\",referentes!AB1155)","v":""}]
[null,null,null,null,null,null,null,null,null,null,null,null,null,null,null,{"$f":"IF(referentes!AC1156=\"\",\"\",IF(referentes!AC1156=referentes!AH1156,CONCATENATE(referentes!AC1156,\" \",\" \",\" \",\" \"),IF(referentes!AC1156=referentes!AI1156,CONCATENATE(referentes!AH1156,\" \",referentes!AI1156,\" \",\" \"),CONCATENATE(referentes!AH1156,\" \",referentes!AI1156,\" \",referentes!AC1156))))","v":""},{"$f":"IF(referentes!AB1156=\"\",\"\",referentes!AB1156)","v":""}]
[null,null,null,null,null,null,null,null,null,null,null,null,null,null,null,{"$f":"IF(referentes!AC1157=\"\",\"\",IF(referentes!AC1157=referentes!AH1157,CONCATENATE(referentes!AC1157,\" \",\" \",\" \",\" \"),IF(referentes!AC1157=referentes!AI1157,CONCATENATE(referentes!AH1157,\" \",referentes!AI1157,\" \",\" \"),CONCATENATE(referentes!AH1157,\" \",referentes!AI1157,\" \",referentes!AC1157))))","v":""},{"$f":"IF(referentes!AB1157=\"\",\"\",referentes!AB1157)","v":""}]
[null,null,null,null,null,null,null,null,null,null,null,null,null,null,null,{"$f":"IF(referentes!AC1158=\"\",\"\",IF(referentes!AC1158=referentes!AH1158,CONCATENATE(referentes!AC1158,\" \",\" \",\" \",\" \"),IF(referentes!AC1158=referentes!AI1158,CONCATENATE(referentes!AH1158,\" \",referentes!AI1158,\" \",\" \"),CONCATENATE(referentes!AH1158,\" \",referentes!AI1158,\" \",referentes!AC1158))))","v":""},{"$f":"IF(referentes!AB1158=\"\",\"\",referentes!AB1158)","v":""}]
[null,null,null,null,null,null,null,null,null,null,null,null,null,null,null,{"$f":"IF(referentes!AC1159=\"\",\"\",IF(referentes!AC1159=referentes!AH1159,CONCATENATE(referentes!AC1159,\" \",\" \",\" \",\" \"),IF(referentes!AC1159=referentes!AI1159,CONCATENATE(referentes!AH1159,\" \",referentes!AI1159,\" \",\" \"),CONCATENATE(referentes!AH1159,\" \",referentes!AI1159,\" \",referentes!AC1159))))","v":""},{"$f":"IF(referentes!AB1159=\"\",\"\",referentes!AB1159)","v":""}]
[null,null,null,null,null,null,null,null,null,null,null,null,null,null,null,{"$f":"IF(referentes!AC1160=\"\",\"\",IF(referentes!AC1160=referentes!AH1160,CONCATENATE(referentes!AC1160,\" \",\" \",\" \",\" \"),IF(referentes!AC1160=referentes!AI1160,CONCATENATE(referentes!AH1160,\" \",referentes!AI1160,\" \",\" \"),CONCATENATE(referentes!AH1160,\" \",referentes!AI1160,\" \",referentes!AC1160))))","v":""},{"$f":"IF(referentes!AB1160=\"\",\"\",referentes!AB1160)","v":""}]
[null,null,null,null,null,null,null,null,null,null,null,null,null,null,null,{"$f":"IF(referentes!AC1161=\"\",\"\",IF(referentes!AC1161=referentes!AH1161,CONCATENATE(referentes!AC1161,\" \",\" \",\" \",\" \"),IF(referentes!AC1161=referentes!AI1161,CONCATENATE(referentes!AH1161,\" \",referentes!AI1161,\" \",\" \"),CONCATENATE(referentes!AH1161,\" \",referentes!AI1161,\" \",referentes!AC1161))))","v":""},{"$f":"IF(referentes!AB1161=\"\",\"\",referentes!AB1161)","v":""}]
[null,null,null,null,null,null,null,null,null,null,null,null,null,null,null,{"$f":"IF(referentes!AC1162=\"\",\"\",IF(referentes!AC1162=referentes!AH1162,CONCATENATE(referentes!AC1162,\" \",\" \",\" \",\" \"),IF(referentes!AC1162=referentes!AI1162,CONCATENATE(referentes!AH1162,\" \",referentes!AI1162,\" \",\" \"),CONCATENATE(referentes!AH1162,\" \",referentes!AI1162,\" \",referentes!AC1162))))","v":""},{"$f":"IF(referentes!AB1162=\"\",\"\",referentes!AB1162)","v":""}]
[null,null,null,null,null,null,null,null,null,null,null,null,null,null,null,{"$f":"IF(referentes!AC1163=\"\",\"\",IF(referentes!AC1163=referentes!AH1163,CONCATENATE(referentes!AC1163,\" \",\" \",\" \",\" \"),IF(referentes!AC1163=referentes!AI1163,CONCATENATE(referentes!AH1163,\" \",referentes!AI1163,\" \",\" \"),CONCATENATE(referentes!AH1163,\" \",referentes!AI1163,\" \",referentes!AC1163))))","v":""},{"$f":"IF(referentes!AB1163=\"\",\"\",referentes!AB1163)","v":""}]
[null,null,null,null,null,null,null,null,null,null,null,null,null,null,null,{"$f":"IF(referentes!AC1164=\"\",\"\",IF(referentes!AC1164=referentes!AH1164,CONCATENATE(referentes!AC1164,\" \",\" \",\" \",\" \"),IF(referentes!AC1164=referentes!AI1164,CONCATENATE(referentes!AH1164,\" \",referentes!AI1164,\" \",\" \"),CONCATENATE(referentes!AH1164,\" \",referentes!AI1164,\" \",referentes!AC1164))))","v":""},{"$f":"IF(referentes!AB1164=\"\",\"\",referentes!AB1164)","v":""}]
[null,null,null,null,null,null,null,null,null,null,null,null,null,null,null,{"$f":"IF(referentes!AC1165=\"\",\"\",IF(referentes!AC1165=referentes!AH1165,CONCATENATE(referentes!AC1165,\" \",\" \",\" \",\" \"),IF(referentes!AC1165=referentes!AI1165,CONCATENATE(referentes!AH1165,\" \",referentes!AI1165,\" \",\" \"),CONCATENATE(referentes!AH1165,\" \",referentes!AI1165,\" \",referentes!AC1165))))","v":""},{"$f":"IF(referentes!AB1165=\"\",\"\",referentes!AB1165)","v":""}]
[null,null,null,null,null,null,null,null,null,null,null,null,null,null,null,{"$f":"IF(referentes!AC1166=\"\",\"\",IF(referentes!AC1166=referentes!AH1166,CONCATENATE(referentes!AC1166,\" \",\" \",\" \",\" \"),IF(referentes!AC1166=referentes!AI1166,CONCATENATE(referentes!AH1166,\" \",referentes!AI1166,\" \",\" \"),CONCATENATE(referentes!AH1166,\" \",referentes!AI1166,\" \",referentes!AC1166))))","v":""},{"$f":"IF(referentes!AB1166=\"\",\"\",referentes!AB1166)","v":""}]
[null,null,null,null,null,null,null,null,null,null,null,null,null,null,null,{"$f":"IF(referentes!AC1167=\"\",\"\",IF(referentes!AC1167=referentes!AH1167,CONCATENATE(referentes!AC1167,\" \",\" \",\" \",\" \"),IF(referentes!AC1167=referentes!AI1167,CONCATENATE(referentes!AH1167,\" \",referentes!AI1167,\" \",\" \"),CONCATENATE(referentes!AH1167,\" \",referentes!AI1167,\" \",referentes!AC1167))))","v":""},{"$f":"IF(referentes!AB1167=\"\",\"\",referentes!AB1167)","v":""}]
[null,null,null,null,null,null,null,null,null,null,null,null,null,null,null,{"$f":"IF(referentes!AC1168=\"\",\"\",IF(referentes!AC1168=referentes!AH1168,CONCATENATE(referentes!AC1168,\" \",\" \",\" \",\" \"),IF(referentes!AC1168=referentes!AI1168,CONCATENATE(referentes!AH1168,\" \",referentes!AI1168,\" \",\" \"),CONCATENATE(referentes!AH1168,\" \",referentes!AI1168,\" \",referentes!AC1168))))","v":""},{"$f":"IF(referentes!AB1168=\"\",\"\",referentes!AB1168)","v":""}]
[null,null,null,null,null,null,null,null,null,null,null,null,null,null,null,{"$f":"IF(referentes!AC1169=\"\",\"\",IF(referentes!AC1169=referentes!AH1169,CONCATENATE(referentes!AC1169,\" \",\" \",\" \",\" \"),IF(referentes!AC1169=referentes!AI1169,CONCATENATE(referentes!AH1169,\" \",referentes!AI1169,\" \",\" \"),CONCATENATE(referentes!AH1169,\" \",referentes!AI1169,\" \",referentes!AC1169))))","v":""},{"$f":"IF(referentes!AB1169=\"\",\"\",referentes!AB1169)","v":""}]
[null,null,null,null,null,null,null,null,null,null,null,null,null,null,null,{"$f":"IF(referentes!AC1170=\"\",\"\",IF(referentes!AC1170=referentes!AH1170,CONCATENATE(referentes!AC1170,\" \",\" \",\" \",\" \"),IF(referentes!AC1170=referentes!AI1170,CONCATENATE(referentes!AH1170,\" \",referentes!AI1170,\" \",\" \"),CONCATENATE(referentes!AH1170,\" \",referentes!AI1170,\" \",referentes!AC1170))))","v":""},{"$f":"IF(referentes!AB1170=\"\",\"\",referentes!AB1170)","v":""}]
[null,null,null,null,null,null,null,null,null,null,null,null,null,null,null,{"$f":"IF(referentes!AC1171=\"\",\"\",IF(referentes!AC1171=referentes!AH1171,CONCATENATE(referentes!AC1171,\" \",\" \",\" \",\" \"),IF(referentes!AC1171=referentes!AI1171,CONCATENATE(referentes!AH1171,\" \",referentes!AI1171,\" \",\" \"),CONCATENATE(referentes!AH1171,\" \",referentes!AI1171,\" \",referentes!AC1171))))","v":""},{"$f":"IF(referentes!AB1171=\"\",\"\",referentes!AB1171)","v":""}]
[null,null,null,null,null,null,null,null,null,null,null,null,null,null,null,{"$f":"IF(referentes!AC1172=\"\",\"\",IF(referentes!AC1172=referentes!AH1172,CONCATENATE(referentes!AC1172,\" \",\" \",\" \",\" \"),IF(referentes!AC1172=referentes!AI1172,CONCATENATE(referentes!AH1172,\" \",referentes!AI1172,\" \",\" \"),CONCATENATE(referentes!AH1172,\" \",referentes!AI1172,\" \",referentes!AC1172))))","v":""},{"$f":"IF(referentes!AB1172=\"\",\"\",referentes!AB1172)","v":""}]
[null,null,null,null,null,null,null,null,null,null,null,null,null,null,null,{"$f":"IF(referentes!AC1173=\"\",\"\",IF(referentes!AC1173=referentes!AH1173,CONCATENATE(referentes!AC1173,\" \",\" \",\" \",\" \"),IF(referentes!AC1173=referentes!AI1173,CONCATENATE(referentes!AH1173,\" \",referentes!AI1173,\" \",\" \"),CONCATENATE(referentes!AH1173,\" \",referentes!AI1173,\" \",referentes!AC1173))))","v":""},{"$f":"IF(referentes!AB1173=\"\",\"\",referentes!AB1173)","v":""}]
[null,null,null,null,null,null,null,null,null,null,null,null,null,null,null,{"$f":"IF(referentes!AC1174=\"\",\"\",IF(referentes!AC1174=referentes!AH1174,CONCATENATE(referentes!AC1174,\" \",\" \",\" \",\" \"),IF(referentes!AC1174=referentes!AI1174,CONCATENATE(referentes!AH1174,\" \",referentes!AI1174,\" \",\" \"),CONCATENATE(referentes!AH1174,\" \",referentes!AI1174,\" \",referentes!AC1174))))","v":""},{"$f":"IF(referentes!AB1174=\"\",\"\",referentes!AB1174)","v":""}]
[null,null,null,null,null,null,null,null,null,null,null,null,null,null,null,{"$f":"IF(referentes!AC1175=\"\",\"\",IF(referentes!AC1175=referentes!AH1175,CONCATENATE(referentes!AC1175,\" \",\" \",\" \",\" \"),IF(referentes!AC1175=referentes!AI1175,CONCATENATE(referentes!AH1175,\" \",referentes!AI1175,\" \",\" \"),CONCATENATE(referentes!AH1175,\" \",referentes!AI1175,\" \",referentes!AC1175))))","v":""},{"$f":"IF(referentes!AB1175=\"\",\"\",referentes!AB1175)","v":""}]
[null,null,null,null,null,null,null,null,null,null,null,null,null,null,null,{"$f":"IF(referentes!AC1176=\"\",\"\",IF(referentes!AC1176=referentes!AH1176,CONCATENATE(referentes!AC1176,\" \",\" \",\" \",\" \"),IF(referentes!AC1176=referentes!AI1176,CONCATENATE(referentes!AH1176,\" \",referentes!AI1176,\" \",\" \"),CONCATENATE(referentes!AH1176,\" \",referentes!AI1176,\" \",referentes!AC1176))))","v":""},{"$f":"IF(referentes!AB1176=\"\",\"\",referentes!AB1176)","v":""}]
[null,null,null,null,null,null,null,null,null,null,null,null,null,null,null,{"$f":"IF(referentes!AC1177=\"\",\"\",IF(referentes!AC1177=referentes!AH1177,CONCATENATE(referentes!AC1177,\" \",\" \",\" \",\" \"),IF(referentes!AC1177=referentes!AI1177,CONCATENATE(referentes!AH1177,\" \",referentes!AI1177,\" \",\" \"),CONCATENATE(referentes!AH1177,\" \",referentes!AI1177,\" \",referentes!AC1177))))","v":""},{"$f":"IF(referentes!AB1177=\"\",\"\",referentes!AB1177)","v":""}]
[null,null,null,null,null,null,null,null,null,null,null,null,null,null,null,{"$f":"IF(referentes!AC1178=\"\",\"\",IF(referentes!AC1178=referentes!AH1178,CONCATENATE(referentes!AC1178,\" \",\" \",\" \",\" \"),IF(referentes!AC1178=referentes!AI1178,CONCATENATE(referentes!AH1178,\" \",referentes!AI1178,\" \",\" \"),CONCATENATE(referentes!AH1178,\" \",referentes!AI1178,\" \",referentes!AC1178))))","v":""},{"$f":"IF(referentes!AB1178=\"\",\"\",referentes!AB1178)","v":""}]
[null,null,null,null,null,null,null,null,null,null,null,null,null,null,null,{"$f":"IF(referentes!AC1179=\"\",\"\",IF(referentes!AC1179=referentes!AH1179,CONCATENATE(referentes!AC1179,\" \",\" \",\" \",\" \"),IF(referentes!AC1179=referentes!AI1179,CONCATENATE(referentes!AH1179,\" \",referentes!AI1179,\" \",\" \"),CONCATENATE(referentes!AH1179,\" \",referentes!AI1179,\" \",referentes!AC1179))))","v":""},{"$f":"IF(referentes!AB1179=\"\",\"\",referentes!AB1179)","v":""}]
[null,null,null,null,null,null,null,null,null,null,null,null,null,null,null,{"$f":"IF(referentes!AC1180=\"\",\"\",IF(referentes!AC1180=referentes!AH1180,CONCATENATE(referentes!AC1180,\" \",\" \",\" \",\" \"),IF(referentes!AC1180=referentes!AI1180,CONCATENATE(referentes!AH1180,\" \",referentes!AI1180,\" \",\" \"),CONCATENATE(referentes!AH1180,\" \",referentes!AI1180,\" \",referentes!AC1180))))","v":""},{"$f":"IF(referentes!AB1180=\"\",\"\",referentes!AB1180)","v":""}]
[null,null,null,null,null,null,null,null,null,null,null,null,null,null,null,{"$f":"IF(referentes!AC1181=\"\",\"\",IF(referentes!AC1181=referentes!AH1181,CONCATENATE(referentes!AC1181,\" \",\" \",\" \",\" \"),IF(referentes!AC1181=referentes!AI1181,CONCATENATE(referentes!AH1181,\" \",referentes!AI1181,\" \",\" \"),CONCATENATE(referentes!AH1181,\" \",referentes!AI1181,\" \",referentes!AC1181))))","v":""},{"$f":"IF(referentes!AB1181=\"\",\"\",referentes!AB1181)","v":""}]
[null,null,null,null,null,null,null,null,null,null,null,null,null,null,null,{"$f":"IF(referentes!AC1182=\"\",\"\",IF(referentes!AC1182=referentes!AH1182,CONCATENATE(referentes!AC1182,\" \",\" \",\" \",\" \"),IF(referentes!AC1182=referentes!AI1182,CONCATENATE(referentes!AH1182,\" \",referentes!AI1182,\" \",\" \"),CONCATENATE(referentes!AH1182,\" \",referentes!AI1182,\" \",referentes!AC1182))))","v":""},{"$f":"IF(referentes!AB1182=\"\",\"\",referentes!AB1182)","v":""}]
[null,null,null,null,null,null,null,null,null,null,null,null,null,null,null,{"$f":"IF(referentes!AC1183=\"\",\"\",IF(referentes!AC1183=referentes!AH1183,CONCATENATE(referentes!AC1183,\" \",\" \",\" \",\" \"),IF(referentes!AC1183=referentes!AI1183,CONCATENATE(referentes!AH1183,\" \",referentes!AI1183,\" \",\" \"),CONCATENATE(referentes!AH1183,\" \",referentes!AI1183,\" \",referentes!AC1183))))","v":""},{"$f":"IF(referentes!AB1183=\"\",\"\",referentes!AB1183)","v":""}]
[null,null,null,null,null,null,null,null,null,null,null,null,null,null,null,{"$f":"IF(referentes!AC1184=\"\",\"\",IF(referentes!AC1184=referentes!AH1184,CONCATENATE(referentes!AC1184,\" \",\" \",\" \",\" \"),IF(referentes!AC1184=referentes!AI1184,CONCATENATE(referentes!AH1184,\" \",referentes!AI1184,\" \",\" \"),CONCATENATE(referentes!AH1184,\" \",referentes!AI1184,\" \",referentes!AC1184))))","v":""},{"$f":"IF(referentes!AB1184=\"\",\"\",referentes!AB1184)","v":""}]
[null,null,null,null,null,null,null,null,null,null,null,null,null,null,null,{"$f":"IF(referentes!AC1185=\"\",\"\",IF(referentes!AC1185=referentes!AH1185,CONCATENATE(referentes!AC1185,\" \",\" \",\" \",\" \"),IF(referentes!AC1185=referentes!AI1185,CONCATENATE(referentes!AH1185,\" \",referentes!AI1185,\" \",\" \"),CONCATENATE(referentes!AH1185,\" \",referentes!AI1185,\" \",referentes!AC1185))))","v":""},{"$f":"IF(referentes!AB1185=\"\",\"\",referentes!AB1185)","v":""}]
[null,null,null,null,null,null,null,null,null,null,null,null,null,null,null,{"$f":"IF(referentes!AC1186=\"\",\"\",IF(referentes!AC1186=referentes!AH1186,CONCATENATE(referentes!AC1186,\" \",\" \",\" \",\" \"),IF(referentes!AC1186=referentes!AI1186,CONCATENATE(referentes!AH1186,\" \",referentes!AI1186,\" \",\" \"),CONCATENATE(referentes!AH1186,\" \",referentes!AI1186,\" \",referentes!AC1186))))","v":""},{"$f":"IF(referentes!AB1186=\"\",\"\",referentes!AB1186)","v":""}]
[null,null,null,null,null,null,null,null,null,null,null,null,null,null,null,{"$f":"IF(referentes!AC1187=\"\",\"\",IF(referentes!AC1187=referentes!AH1187,CONCATENATE(referentes!AC1187,\" \",\" \",\" \",\" \"),IF(referentes!AC1187=referentes!AI1187,CONCATENATE(referentes!AH1187,\" \",referentes!AI1187,\" \",\" \"),CONCATENATE(referentes!AH1187,\" \",referentes!AI1187,\" \",referentes!AC1187))))","v":""},{"$f":"IF(referentes!AB1187=\"\",\"\",referentes!AB1187)","v":""}]
[null,null,null,null,null,null,null,null,null,null,null,null,null,null,null,{"$f":"IF(referentes!AC1188=\"\",\"\",IF(referentes!AC1188=referentes!AH1188,CONCATENATE(referentes!AC1188,\" \",\" \",\" \",\" \"),IF(referentes!AC1188=referentes!AI1188,CONCATENATE(referentes!AH1188,\" \",referentes!AI1188,\" \",\" \"),CONCATENATE(referentes!AH1188,\" \",referentes!AI1188,\" \",referentes!AC1188))))","v":""},{"$f":"IF(referentes!AB1188=\"\",\"\",referentes!AB1188)","v":""}]
[null,null,null,null,null,null,null,null,null,null,null,null,null,null,null,{"$f":"IF(referentes!AC1189=\"\",\"\",IF(referentes!AC1189=referentes!AH1189,CONCATENATE(referentes!AC1189,\" \",\" \",\" \",\" \"),IF(referentes!AC1189=referentes!AI1189,CONCATENATE(referentes!AH1189,\" \",referentes!AI1189,\" \",\" \"),CONCATENATE(referentes!AH1189,\" \",referentes!AI1189,\" \",referentes!AC1189))))","v":""},{"$f":"IF(referentes!AB1189=\"\",\"\",referentes!AB1189)","v":""}]
[null,null,null,null,null,null,null,null,null,null,null,null,null,null,null,{"$f":"IF(referentes!AC1190=\"\",\"\",IF(referentes!AC1190=referentes!AH1190,CONCATENATE(referentes!AC1190,\" \",\" \",\" \",\" \"),IF(referentes!AC1190=referentes!AI1190,CONCATENATE(referentes!AH1190,\" \",referentes!AI1190,\" \",\" \"),CONCATENATE(referentes!AH1190,\" \",referentes!AI1190,\" \",referentes!AC1190))))","v":""},{"$f":"IF(referentes!AB1190=\"\",\"\",referentes!AB1190)","v":""}]
[null,null,null,null,null,null,null,null,null,null,null,null,null,null,null,{"$f":"IF(referentes!AC1191=\"\",\"\",IF(referentes!AC1191=referentes!AH1191,CONCATENATE(referentes!AC1191,\" \",\" \",\" \",\" \"),IF(referentes!AC1191=referentes!AI1191,CONCATENATE(referentes!AH1191,\" \",referentes!AI1191,\" \",\" \"),CONCATENATE(referentes!AH1191,\" \",referentes!AI1191,\" \",referentes!AC1191))))","v":""},{"$f":"IF(referentes!AB1191=\"\",\"\",referentes!AB1191)","v":""}]
[null,null,null,null,null,null,null,null,null,null,null,null,null,null,null,{"$f":"IF(referentes!AC1192=\"\",\"\",IF(referentes!AC1192=referentes!AH1192,CONCATENATE(referentes!AC1192,\" \",\" \",\" \",\" \"),IF(referentes!AC1192=referentes!AI1192,CONCATENATE(referentes!AH1192,\" \",referentes!AI1192,\" \",\" \"),CONCATENATE(referentes!AH1192,\" \",referentes!AI1192,\" \",referentes!AC1192))))","v":""},{"$f":"IF(referentes!AB1192=\"\",\"\",referentes!AB1192)","v":""}]
[null,null,null,null,null,null,null,null,null,null,null,null,null,null,null,{"$f":"IF(referentes!AC1193=\"\",\"\",IF(referentes!AC1193=referentes!AH1193,CONCATENATE(referentes!AC1193,\" \",\" \",\" \",\" \"),IF(referentes!AC1193=referentes!AI1193,CONCATENATE(referentes!AH1193,\" \",referentes!AI1193,\" \",\" \"),CONCATENATE(referentes!AH1193,\" \",referentes!AI1193,\" \",referentes!AC1193))))","v":""},{"$f":"IF(referentes!AB1193=\"\",\"\",referentes!AB1193)","v":""}]
[null,null,null,null,null,null,null,null,null,null,null,null,null,null,null,{"$f":"IF(referentes!AC1194=\"\",\"\",IF(referentes!AC1194=referentes!AH1194,CONCATENATE(referentes!AC1194,\" \",\" \",\" \",\" \"),IF(referentes!AC1194=referentes!AI1194,CONCATENATE(referentes!AH1194,\" \",referentes!AI1194,\" \",\" \"),CONCATENATE(referentes!AH1194,\" \",referentes!AI1194,\" \",referentes!AC1194))))","v":""},{"$f":"IF(referentes!AB1194=\"\",\"\",referentes!AB1194)","v":""}]
[null,null,null,null,null,null,null,null,null,null,null,null,null,null,null,{"$f":"IF(referentes!AC1195=\"\",\"\",IF(referentes!AC1195=referentes!AH1195,CONCATENATE(referentes!AC1195,\" \",\" \",\" \",\" \"),IF(referentes!AC1195=referentes!AI1195,CONCATENATE(referentes!AH1195,\" \",referentes!AI1195,\" \",\" \"),CONCATENATE(referentes!AH1195,\" \",referentes!AI1195,\" \",referentes!AC1195))))","v":""},{"$f":"IF(referentes!AB1195=\"\",\"\",referentes!AB1195)","v":""}]
[null,null,null,null,null,null,null,null,null,null,null,null,null,null,null,{"$f":"IF(referentes!AC1196=\"\",\"\",IF(referentes!AC1196=referentes!AH1196,CONCATENATE(referentes!AC1196,\" \",\" \",\" \",\" \"),IF(referentes!AC1196=referentes!AI1196,CONCATENATE(referentes!AH1196,\" \",referentes!AI1196,\" \",\" \"),CONCATENATE(referentes!AH1196,\" \",referentes!AI1196,\" \",referentes!AC1196))))","v":""},{"$f":"IF(referentes!AB1196=\"\",\"\",referentes!AB1196)","v":""}]
[null,null,null,null,null,null,null,null,null,null,null,null,null,null,null,{"$f":"IF(referentes!AC1197=\"\",\"\",IF(referentes!AC1197=referentes!AH1197,CONCATENATE(referentes!AC1197,\" \",\" \",\" \",\" \"),IF(referentes!AC1197=referentes!AI1197,CONCATENATE(referentes!AH1197,\" \",referentes!AI1197,\" \",\" \"),CONCATENATE(referentes!AH1197,\" \",referentes!AI1197,\" \",referentes!AC1197))))","v":""},{"$f":"IF(referentes!AB1197=\"\",\"\",referentes!AB1197)","v":""}]
[null,null,null,null,null,null,null,null,null,null,null,null,null,null,null,{"$f":"IF(referentes!AC1198=\"\",\"\",IF(referentes!AC1198=referentes!AH1198,CONCATENATE(referentes!AC1198,\" \",\" \",\" \",\" \"),IF(referentes!AC1198=referentes!AI1198,CONCATENATE(referentes!AH1198,\" \",referentes!AI1198,\" \",\" \"),CONCATENATE(referentes!AH1198,\" \",referentes!AI1198,\" \",referentes!AC1198))))","v":""},{"$f":"IF(referentes!AB1198=\"\",\"\",referentes!AB1198)","v":""}]
[null,null,null,null,null,null,null,null,null,null,null,null,null,null,null,{"$f":"IF(referentes!AC1199=\"\",\"\",IF(referentes!AC1199=referentes!AH1199,CONCATENATE(referentes!AC1199,\" \",\" \",\" \",\" \"),IF(referentes!AC1199=referentes!AI1199,CONCATENATE(referentes!AH1199,\" \",referentes!AI1199,\" \",\" \"),CONCATENATE(referentes!AH1199,\" \",referentes!AI1199,\" \",referentes!AC1199))))","v":""},{"$f":"IF(referentes!AB1199=\"\",\"\",referentes!AB1199)","v":""}]
[null,null,null,null,null,null,null,null,null,null,null,null,null,null,null,{"$f":"IF(referentes!AC1200=\"\",\"\",IF(referentes!AC1200=referentes!AH1200,CONCATENATE(referentes!AC1200,\" \",\" \",\" \",\" \"),IF(referentes!AC1200=referentes!AI1200,CONCATENATE(referentes!AH1200,\" \",referentes!AI1200,\" \",\" \"),CONCATENATE(referentes!AH1200,\" \",referentes!AI1200,\" \",referentes!AC1200))))","v":""},{"$f":"IF(referentes!AB1200=\"\",\"\",referentes!AB1200)","v":""}]
[null,null,null,null,null,null,null,null,null,null,null,null,null,null,null,{"$f":"IF(referentes!AC1201=\"\",\"\",IF(referentes!AC1201=referentes!AH1201,CONCATENATE(referentes!AC1201,\" \",\" \",\" \",\" \"),IF(referentes!AC1201=referentes!AI1201,CONCATENATE(referentes!AH1201,\" \",referentes!AI1201,\" \",\" \"),CONCATENATE(referentes!AH1201,\" \",referentes!AI1201,\" \",referentes!AC1201))))","v":""},{"$f":"IF(referentes!AB1201=\"\",\"\",referentes!AB1201)","v":""}]
[null,null,null,null,null,null,null,null,null,null,null,null,null,null,null,{"$f":"IF(referentes!AC1202=\"\",\"\",IF(referentes!AC1202=referentes!AH1202,CONCATENATE(referentes!AC1202,\" \",\" \",\" \",\" \"),IF(referentes!AC1202=referentes!AI1202,CONCATENATE(referentes!AH1202,\" \",referentes!AI1202,\" \",\" \"),CONCATENATE(referentes!AH1202,\" \",referentes!AI1202,\" \",referentes!AC1202))))","v":""},{"$f":"IF(referentes!AB1202=\"\",\"\",referentes!AB1202)","v":""}]
[null,null,null,null,null,null,null,null,null,null,null,null,null,null,null,{"$f":"IF(referentes!AC1203=\"\",\"\",IF(referentes!AC1203=referentes!AH1203,CONCATENATE(referentes!AC1203,\" \",\" \",\" \",\" \"),IF(referentes!AC1203=referentes!AI1203,CONCATENATE(referentes!AH1203,\" \",referentes!AI1203,\" \",\" \"),CONCATENATE(referentes!AH1203,\" \",referentes!AI1203,\" \",referentes!AC1203))))","v":""},{"$f":"IF(referentes!AB1203=\"\",\"\",referentes!AB1203)","v":""}]
[null,null,null,null,null,null,null,null,null,null,null,null,null,null,null,{"$f":"IF(referentes!AC1204=\"\",\"\",IF(referentes!AC1204=referentes!AH1204,CONCATENATE(referentes!AC1204,\" \",\" \",\" \",\" \"),IF(referentes!AC1204=referentes!AI1204,CONCATENATE(referentes!AH1204,\" \",referentes!AI1204,\" \",\" \"),CONCATENATE(referentes!AH1204,\" \",referentes!AI1204,\" \",referentes!AC1204))))","v":""},{"$f":"IF(referentes!AB1204=\"\",\"\",referentes!AB1204)","v":""}]
[null,null,null,null,null,null,null,null,null,null,null,null,null,null,null,{"$f":"IF(referentes!AC1205=\"\",\"\",IF(referentes!AC1205=referentes!AH1205,CONCATENATE(referentes!AC1205,\" \",\" \",\" \",\" \"),IF(referentes!AC1205=referentes!AI1205,CONCATENATE(referentes!AH1205,\" \",referentes!AI1205,\" \",\" \"),CONCATENATE(referentes!AH1205,\" \",referentes!AI1205,\" \",referentes!AC1205))))","v":""},{"$f":"IF(referentes!AB1205=\"\",\"\",referentes!AB1205)","v":""}]
[null,null,null,null,null,null,null,null,null,null,null,null,null,null,null,{"$f":"IF(referentes!AC1206=\"\",\"\",IF(referentes!AC1206=referentes!AH1206,CONCATENATE(referentes!AC1206,\" \",\" \",\" \",\" \"),IF(referentes!AC1206=referentes!AI1206,CONCATENATE(referentes!AH1206,\" \",referentes!AI1206,\" \",\" \"),CONCATENATE(referentes!AH1206,\" \",referentes!AI1206,\" \",referentes!AC1206))))","v":""},{"$f":"IF(referentes!AB1206=\"\",\"\",referentes!AB1206)","v":""}]
[null,null,null,null,null,null,null,null,null,null,null,null,null,null,null,{"$f":"IF(referentes!AC1207=\"\",\"\",IF(referentes!AC1207=referentes!AH1207,CONCATENATE(referentes!AC1207,\" \",\" \",\" \",\" \"),IF(referentes!AC1207=referentes!AI1207,CONCATENATE(referentes!AH1207,\" \",referentes!AI1207,\" \",\" \"),CONCATENATE(referentes!AH1207,\" \",referentes!AI1207,\" \",referentes!AC1207))))","v":""},{"$f":"IF(referentes!AB1207=\"\",\"\",referentes!AB1207)","v":""}]
[null,null,null,null,null,null,null,null,null,null,null,null,null,null,null,{"$f":"IF(referentes!AC1208=\"\",\"\",IF(referentes!AC1208=referentes!AH1208,CONCATENATE(referentes!AC1208,\" \",\" \",\" \",\" \"),IF(referentes!AC1208=referentes!AI1208,CONCATENATE(referentes!AH1208,\" \",referentes!AI1208,\" \",\" \"),CONCATENATE(referentes!AH1208,\" \",referentes!AI1208,\" \",referentes!AC1208))))","v":""},{"$f":"IF(referentes!AB1208=\"\",\"\",referentes!AB1208)","v":""}]
[null,null,null,null,null,null,null,null,null,null,null,null,null,null,null,{"$f":"IF(referentes!AC1209=\"\",\"\",IF(referentes!AC1209=referentes!AH1209,CONCATENATE(referentes!AC1209,\" \",\" \",\" \",\" \"),IF(referentes!AC1209=referentes!AI1209,CONCATENATE(referentes!AH1209,\" \",referentes!AI1209,\" \",\" \"),CONCATENATE(referentes!AH1209,\" \",referentes!AI1209,\" \",referentes!AC1209))))","v":""},{"$f":"IF(referentes!AB1209=\"\",\"\",referentes!AB1209)","v":""}]
[null,null,null,null,null,null,null,null,null,null,null,null,null,null,null,{"$f":"IF(referentes!AC1210=\"\",\"\",IF(referentes!AC1210=referentes!AH1210,CONCATENATE(referentes!AC1210,\" \",\" \",\" \",\" \"),IF(referentes!AC1210=referentes!AI1210,CONCATENATE(referentes!AH1210,\" \",referentes!AI1210,\" \",\" \"),CONCATENATE(referentes!AH1210,\" \",referentes!AI1210,\" \",referentes!AC1210))))","v":""},{"$f":"IF(referentes!AB1210=\"\",\"\",referentes!AB1210)","v":""}]
[null,null,null,null,null,null,null,null,null,null,null,null,null,null,null,{"$f":"IF(referentes!AC1211=\"\",\"\",IF(referentes!AC1211=referentes!AH1211,CONCATENATE(referentes!AC1211,\" \",\" \",\" \",\" \"),IF(referentes!AC1211=referentes!AI1211,CONCATENATE(referentes!AH1211,\" \",referentes!AI1211,\" \",\" \"),CONCATENATE(referentes!AH1211,\" \",referentes!AI1211,\" \",referentes!AC1211))))","v":""},{"$f":"IF(referentes!AB1211=\"\",\"\",referentes!AB1211)","v":""}]
[null,null,null,null,null,null,null,null,null,null,null,null,null,null,null,{"$f":"IF(referentes!AC1212=\"\",\"\",IF(referentes!AC1212=referentes!AH1212,CONCATENATE(referentes!AC1212,\" \",\" \",\" \",\" \"),IF(referentes!AC1212=referentes!AI1212,CONCATENATE(referentes!AH1212,\" \",referentes!AI1212,\" \",\" \"),CONCATENATE(referentes!AH1212,\" \",referentes!AI1212,\" \",referentes!AC1212))))","v":""},{"$f":"IF(referentes!AB1212=\"\",\"\",referentes!AB1212)","v":""}]
[null,null,null,null,null,null,null,null,null,null,null,null,null,null,null,{"$f":"IF(referentes!AC1213=\"\",\"\",IF(referentes!AC1213=referentes!AH1213,CONCATENATE(referentes!AC1213,\" \",\" \",\" \",\" \"),IF(referentes!AC1213=referentes!AI1213,CONCATENATE(referentes!AH1213,\" \",referentes!AI1213,\" \",\" \"),CONCATENATE(referentes!AH1213,\" \",referentes!AI1213,\" \",referentes!AC1213))))","v":""},{"$f":"IF(referentes!AB1213=\"\",\"\",referentes!AB1213)","v":""}]
[null,null,null,null,null,null,null,null,null,null,null,null,null,null,null,{"$f":"IF(referentes!AC1214=\"\",\"\",IF(referentes!AC1214=referentes!AH1214,CONCATENATE(referentes!AC1214,\" \",\" \",\" \",\" \"),IF(referentes!AC1214=referentes!AI1214,CONCATENATE(referentes!AH1214,\" \",referentes!AI1214,\" \",\" \"),CONCATENATE(referentes!AH1214,\" \",referentes!AI1214,\" \",referentes!AC1214))))","v":""},{"$f":"IF(referentes!AB1214=\"\",\"\",referentes!AB1214)","v":""}]
[null,null,null,null,null,null,null,null,null,null,null,null,null,null,null,{"$f":"IF(referentes!AC1215=\"\",\"\",IF(referentes!AC1215=referentes!AH1215,CONCATENATE(referentes!AC1215,\" \",\" \",\" \",\" \"),IF(referentes!AC1215=referentes!AI1215,CONCATENATE(referentes!AH1215,\" \",referentes!AI1215,\" \",\" \"),CONCATENATE(referentes!AH1215,\" \",referentes!AI1215,\" \",referentes!AC1215))))","v":""},{"$f":"IF(referentes!AB1215=\"\",\"\",referentes!AB1215)","v":""}]
[null,null,null,null,null,null,null,null,null,null,null,null,null,null,null,{"$f":"IF(referentes!AC1216=\"\",\"\",IF(referentes!AC1216=referentes!AH1216,CONCATENATE(referentes!AC1216,\" \",\" \",\" \",\" \"),IF(referentes!AC1216=referentes!AI1216,CONCATENATE(referentes!AH1216,\" \",referentes!AI1216,\" \",\" \"),CONCATENATE(referentes!AH1216,\" \",referentes!AI1216,\" \",referentes!AC1216))))","v":""},{"$f":"IF(referentes!AB1216=\"\",\"\",referentes!AB1216)","v":""}]
[null,null,null,null,null,null,null,null,null,null,null,null,null,null,null,{"$f":"IF(referentes!AC1217=\"\",\"\",IF(referentes!AC1217=referentes!AH1217,CONCATENATE(referentes!AC1217,\" \",\" \",\" \",\" \"),IF(referentes!AC1217=referentes!AI1217,CONCATENATE(referentes!AH1217,\" \",referentes!AI1217,\" \",\" \"),CONCATENATE(referentes!AH1217,\" \",referentes!AI1217,\" \",referentes!AC1217))))","v":""},{"$f":"IF(referentes!AB1217=\"\",\"\",referentes!AB1217)","v":""}]
[null,null,null,null,null,null,null,null,null,null,null,null,null,null,null,{"$f":"IF(referentes!AC1218=\"\",\"\",IF(referentes!AC1218=referentes!AH1218,CONCATENATE(referentes!AC1218,\" \",\" \",\" \",\" \"),IF(referentes!AC1218=referentes!AI1218,CONCATENATE(referentes!AH1218,\" \",referentes!AI1218,\" \",\" \"),CONCATENATE(referentes!AH1218,\" \",referentes!AI1218,\" \",referentes!AC1218))))","v":""},{"$f":"IF(referentes!AB1218=\"\",\"\",referentes!AB1218)","v":""}]
[null,null,null,null,null,null,null,null,null,null,null,null,null,null,null,{"$f":"IF(referentes!AC1219=\"\",\"\",IF(referentes!AC1219=referentes!AH1219,CONCATENATE(referentes!AC1219,\" \",\" \",\" \",\" \"),IF(referentes!AC1219=referentes!AI1219,CONCATENATE(referentes!AH1219,\" \",referentes!AI1219,\" \",\" \"),CONCATENATE(referentes!AH1219,\" \",referentes!AI1219,\" \",referentes!AC1219))))","v":""},{"$f":"IF(referentes!AB1219=\"\",\"\",referentes!AB1219)","v":""}]
[null,null,null,null,null,null,null,null,null,null,null,null,null,null,null,{"$f":"IF(referentes!AC1220=\"\",\"\",IF(referentes!AC1220=referentes!AH1220,CONCATENATE(referentes!AC1220,\" \",\" \",\" \",\" \"),IF(referentes!AC1220=referentes!AI1220,CONCATENATE(referentes!AH1220,\" \",referentes!AI1220,\" \",\" \"),CONCATENATE(referentes!AH1220,\" \",referentes!AI1220,\" \",referentes!AC1220))))","v":""},{"$f":"IF(referentes!AB1220=\"\",\"\",referentes!AB1220)","v":""}]
[null,null,null,null,null,null,null,null,null,null,null,null,null,null,null,{"$f":"IF(referentes!AC1221=\"\",\"\",IF(referentes!AC1221=referentes!AH1221,CONCATENATE(referentes!AC1221,\" \",\" \",\" \",\" \"),IF(referentes!AC1221=referentes!AI1221,CONCATENATE(referentes!AH1221,\" \",referentes!AI1221,\" \",\" \"),CONCATENATE(referentes!AH1221,\" \",referentes!AI1221,\" \",referentes!AC1221))))","v":""},{"$f":"IF(referentes!AB1221=\"\",\"\",referentes!AB1221)","v":""}]
[null,null,null,null,null,null,null,null,null,null,null,null,null,null,null,{"$f":"IF(referentes!AC1222=\"\",\"\",IF(referentes!AC1222=referentes!AH1222,CONCATENATE(referentes!AC1222,\" \",\" \",\" \",\" \"),IF(referentes!AC1222=referentes!AI1222,CONCATENATE(referentes!AH1222,\" \",referentes!AI1222,\" \",\" \"),CONCATENATE(referentes!AH1222,\" \",referentes!AI1222,\" \",referentes!AC1222))))","v":""},{"$f":"IF(referentes!AB1222=\"\",\"\",referentes!AB1222)","v":""}]
[null,null,null,null,null,null,null,null,null,null,null,null,null,null,null,{"$f":"IF(referentes!AC1223=\"\",\"\",IF(referentes!AC1223=referentes!AH1223,CONCATENATE(referentes!AC1223,\" \",\" \",\" \",\" \"),IF(referentes!AC1223=referentes!AI1223,CONCATENATE(referentes!AH1223,\" \",referentes!AI1223,\" \",\" \"),CONCATENATE(referentes!AH1223,\" \",referentes!AI1223,\" \",referentes!AC1223))))","v":""},{"$f":"IF(referentes!AB1223=\"\",\"\",referentes!AB1223)","v":""}]
[null,null,null,null,null,null,null,null,null,null,null,null,null,null,null,{"$f":"IF(referentes!AC1224=\"\",\"\",IF(referentes!AC1224=referentes!AH1224,CONCATENATE(referentes!AC1224,\" \",\" \",\" \",\" \"),IF(referentes!AC1224=referentes!AI1224,CONCATENATE(referentes!AH1224,\" \",referentes!AI1224,\" \",\" \"),CONCATENATE(referentes!AH1224,\" \",referentes!AI1224,\" \",referentes!AC1224))))","v":""},{"$f":"IF(referentes!AB1224=\"\",\"\",referentes!AB1224)","v":""}]
[null,null,null,null,null,null,null,null,null,null,null,null,null,null,null,{"$f":"IF(referentes!AC1225=\"\",\"\",IF(referentes!AC1225=referentes!AH1225,CONCATENATE(referentes!AC1225,\" \",\" \",\" \",\" \"),IF(referentes!AC1225=referentes!AI1225,CONCATENATE(referentes!AH1225,\" \",referentes!AI1225,\" \",\" \"),CONCATENATE(referentes!AH1225,\" \",referentes!AI1225,\" \",referentes!AC1225))))","v":""},{"$f":"IF(referentes!AB1225=\"\",\"\",referentes!AB1225)","v":""}]
[null,null,null,null,null,null,null,null,null,null,null,null,null,null,null,{"$f":"IF(referentes!AC1226=\"\",\"\",IF(referentes!AC1226=referentes!AH1226,CONCATENATE(referentes!AC1226,\" \",\" \",\" \",\" \"),IF(referentes!AC1226=referentes!AI1226,CONCATENATE(referentes!AH1226,\" \",referentes!AI1226,\" \",\" \"),CONCATENATE(referentes!AH1226,\" \",referentes!AI1226,\" \",referentes!AC1226))))","v":""},{"$f":"IF(referentes!AB1226=\"\",\"\",referentes!AB1226)","v":""}]
[null,null,null,null,null,null,null,null,null,null,null,null,null,null,null,{"$f":"IF(referentes!AC1227=\"\",\"\",IF(referentes!AC1227=referentes!AH1227,CONCATENATE(referentes!AC1227,\" \",\" \",\" \",\" \"),IF(referentes!AC1227=referentes!AI1227,CONCATENATE(referentes!AH1227,\" \",referentes!AI1227,\" \",\" \"),CONCATENATE(referentes!AH1227,\" \",referentes!AI1227,\" \",referentes!AC1227))))","v":""},{"$f":"IF(referentes!AB1227=\"\",\"\",referentes!AB1227)","v":""}]
[null,null,null,null,null,null,null,null,null,null,null,null,null,null,null,{"$f":"IF(referentes!AC1228=\"\",\"\",IF(referentes!AC1228=referentes!AH1228,CONCATENATE(referentes!AC1228,\" \",\" \",\" \",\" \"),IF(referentes!AC1228=referentes!AI1228,CONCATENATE(referentes!AH1228,\" \",referentes!AI1228,\" \",\" \"),CONCATENATE(referentes!AH1228,\" \",referentes!AI1228,\" \",referentes!AC1228))))","v":""},{"$f":"IF(referentes!AB1228=\"\",\"\",referentes!AB1228)","v":""}]
[null,null,null,null,null,null,null,null,null,null,null,null,null,null,null,{"$f":"IF(referentes!AC1229=\"\",\"\",IF(referentes!AC1229=referentes!AH1229,CONCATENATE(referentes!AC1229,\" \",\" \",\" \",\" \"),IF(referentes!AC1229=referentes!AI1229,CONCATENATE(referentes!AH1229,\" \",referentes!AI1229,\" \",\" \"),CONCATENATE(referentes!AH1229,\" \",referentes!AI1229,\" \",referentes!AC1229))))","v":""},{"$f":"IF(referentes!AB1229=\"\",\"\",referentes!AB1229)","v":""}]
[null,null,null,null,null,null,null,null,null,null,null,null,null,null,null,{"$f":"IF(referentes!AC1230=\"\",\"\",IF(referentes!AC1230=referentes!AH1230,CONCATENATE(referentes!AC1230,\" \",\" \",\" \",\" \"),IF(referentes!AC1230=referentes!AI1230,CONCATENATE(referentes!AH1230,\" \",referentes!AI1230,\" \",\" \"),CONCATENATE(referentes!AH1230,\" \",referentes!AI1230,\" \",referentes!AC1230))))","v":""},{"$f":"IF(referentes!AB1230=\"\",\"\",referentes!AB1230)","v":""}]
[null,null,null,null,null,null,null,null,null,null,null,null,null,null,null,{"$f":"IF(referentes!AC1231=\"\",\"\",IF(referentes!AC1231=referentes!AH1231,CONCATENATE(referentes!AC1231,\" \",\" \",\" \",\" \"),IF(referentes!AC1231=referentes!AI1231,CONCATENATE(referentes!AH1231,\" \",referentes!AI1231,\" \",\" \"),CONCATENATE(referentes!AH1231,\" \",referentes!AI1231,\" \",referentes!AC1231))))","v":""},{"$f":"IF(referentes!AB1231=\"\",\"\",referentes!AB1231)","v":""}]
[null,null,null,null,null,null,null,null,null,null,null,null,null,null,null,{"$f":"IF(referentes!AC1232=\"\",\"\",IF(referentes!AC1232=referentes!AH1232,CONCATENATE(referentes!AC1232,\" \",\" \",\" \",\" \"),IF(referentes!AC1232=referentes!AI1232,CONCATENATE(referentes!AH1232,\" \",referentes!AI1232,\" \",\" \"),CONCATENATE(referentes!AH1232,\" \",referentes!AI1232,\" \",referentes!AC1232))))","v":""},{"$f":"IF(referentes!AB1232=\"\",\"\",referentes!AB1232)","v":""}]
[null,null,null,null,null,null,null,null,null,null,null,null,null,null,null,{"$f":"IF(referentes!AC1233=\"\",\"\",IF(referentes!AC1233=referentes!AH1233,CONCATENATE(referentes!AC1233,\" \",\" \",\" \",\" \"),IF(referentes!AC1233=referentes!AI1233,CONCATENATE(referentes!AH1233,\" \",referentes!AI1233,\" \",\" \"),CONCATENATE(referentes!AH1233,\" \",referentes!AI1233,\" \",referentes!AC1233))))","v":""},{"$f":"IF(referentes!AB1233=\"\",\"\",referentes!AB1233)","v":""}]
[null,null,null,null,null,null,null,null,null,null,null,null,null,null,null,{"$f":"IF(referentes!AC1234=\"\",\"\",IF(referentes!AC1234=referentes!AH1234,CONCATENATE(referentes!AC1234,\" \",\" \",\" \",\" \"),IF(referentes!AC1234=referentes!AI1234,CONCATENATE(referentes!AH1234,\" \",referentes!AI1234,\" \",\" \"),CONCATENATE(referentes!AH1234,\" \",referentes!AI1234,\" \",referentes!AC1234))))","v":""},{"$f":"IF(referentes!AB1234=\"\",\"\",referentes!AB1234)","v":""}]
[null,null,null,null,null,null,null,null,null,null,null,null,null,null,null,{"$f":"IF(referentes!AC1235=\"\",\"\",IF(referentes!AC1235=referentes!AH1235,CONCATENATE(referentes!AC1235,\" \",\" \",\" \",\" \"),IF(referentes!AC1235=referentes!AI1235,CONCATENATE(referentes!AH1235,\" \",referentes!AI1235,\" \",\" \"),CONCATENATE(referentes!AH1235,\" \",referentes!AI1235,\" \",referentes!AC1235))))","v":""},{"$f":"IF(referentes!AB1235=\"\",\"\",referentes!AB1235)","v":""}]
[null,null,null,null,null,null,null,null,null,null,null,null,null,null,null,{"$f":"IF(referentes!AC1236=\"\",\"\",IF(referentes!AC1236=referentes!AH1236,CONCATENATE(referentes!AC1236,\" \",\" \",\" \",\" \"),IF(referentes!AC1236=referentes!AI1236,CONCATENATE(referentes!AH1236,\" \",referentes!AI1236,\" \",\" \"),CONCATENATE(referentes!AH1236,\" \",referentes!AI1236,\" \",referentes!AC1236))))","v":""},{"$f":"IF(referentes!AB1236=\"\",\"\",referentes!AB1236)","v":""}]
[null,null,null,null,null,null,null,null,null,null,null,null,null,null,null,{"$f":"IF(referentes!AC1237=\"\",\"\",IF(referentes!AC1237=referentes!AH1237,CONCATENATE(referentes!AC1237,\" \",\" \",\" \",\" \"),IF(referentes!AC1237=referentes!AI1237,CONCATENATE(referentes!AH1237,\" \",referentes!AI1237,\" \",\" \"),CONCATENATE(referentes!AH1237,\" \",referentes!AI1237,\" \",referentes!AC1237))))","v":""},{"$f":"IF(referentes!AB1237=\"\",\"\",referentes!AB1237)","v":""}]
[null,null,null,null,null,null,null,null,null,null,null,null,null,null,null,{"$f":"IF(referentes!AC1238=\"\",\"\",IF(referentes!AC1238=referentes!AH1238,CONCATENATE(referentes!AC1238,\" \",\" \",\" \",\" \"),IF(referentes!AC1238=referentes!AI1238,CONCATENATE(referentes!AH1238,\" \",referentes!AI1238,\" \",\" \"),CONCATENATE(referentes!AH1238,\" \",referentes!AI1238,\" \",referentes!AC1238))))","v":""},{"$f":"IF(referentes!AB1238=\"\",\"\",referentes!AB1238)","v":""}]
[null,null,null,null,null,null,null,null,null,null,null,null,null,null,null,{"$f":"IF(referentes!AC1239=\"\",\"\",IF(referentes!AC1239=referentes!AH1239,CONCATENATE(referentes!AC1239,\" \",\" \",\" \",\" \"),IF(referentes!AC1239=referentes!AI1239,CONCATENATE(referentes!AH1239,\" \",referentes!AI1239,\" \",\" \"),CONCATENATE(referentes!AH1239,\" \",referentes!AI1239,\" \",referentes!AC1239))))","v":""},{"$f":"IF(referentes!AB1239=\"\",\"\",referentes!AB1239)","v":""}]
[null,null,null,null,null,null,null,null,null,null,null,null,null,null,null,{"$f":"IF(referentes!AC1240=\"\",\"\",IF(referentes!AC1240=referentes!AH1240,CONCATENATE(referentes!AC1240,\" \",\" \",\" \",\" \"),IF(referentes!AC1240=referentes!AI1240,CONCATENATE(referentes!AH1240,\" \",referentes!AI1240,\" \",\" \"),CONCATENATE(referentes!AH1240,\" \",referentes!AI1240,\" \",referentes!AC1240))))","v":""},{"$f":"IF(referentes!AB1240=\"\",\"\",referentes!AB1240)","v":""}]
[null,null,null,null,null,null,null,null,null,null,null,null,null,null,null,{"$f":"IF(referentes!AC1241=\"\",\"\",IF(referentes!AC1241=referentes!AH1241,CONCATENATE(referentes!AC1241,\" \",\" \",\" \",\" \"),IF(referentes!AC1241=referentes!AI1241,CONCATENATE(referentes!AH1241,\" \",referentes!AI1241,\" \",\" \"),CONCATENATE(referentes!AH1241,\" \",referentes!AI1241,\" \",referentes!AC1241))))","v":""},{"$f":"IF(referentes!AB1241=\"\",\"\",referentes!AB1241)","v":""}]
[null,null,null,null,null,null,null,null,null,null,null,null,null,null,null,{"$f":"IF(referentes!AC1242=\"\",\"\",IF(referentes!AC1242=referentes!AH1242,CONCATENATE(referentes!AC1242,\" \",\" \",\" \",\" \"),IF(referentes!AC1242=referentes!AI1242,CONCATENATE(referentes!AH1242,\" \",referentes!AI1242,\" \",\" \"),CONCATENATE(referentes!AH1242,\" \",referentes!AI1242,\" \",referentes!AC1242))))","v":""},{"$f":"IF(referentes!AB1242=\"\",\"\",referentes!AB1242)","v":""}]
[null,null,null,null,null,null,null,null,null,null,null,null,null,null,null,{"$f":"IF(referentes!AC1243=\"\",\"\",IF(referentes!AC1243=referentes!AH1243,CONCATENATE(referentes!AC1243,\" \",\" \",\" \",\" \"),IF(referentes!AC1243=referentes!AI1243,CONCATENATE(referentes!AH1243,\" \",referentes!AI1243,\" \",\" \"),CONCATENATE(referentes!AH1243,\" \",referentes!AI1243,\" \",referentes!AC1243))))","v":""},{"$f":"IF(referentes!AB1243=\"\",\"\",referentes!AB1243)","v":""}]
[null,null,null,null,null,null,null,null,null,null,null,null,null,null,null,{"$f":"IF(referentes!AC1244=\"\",\"\",IF(referentes!AC1244=referentes!AH1244,CONCATENATE(referentes!AC1244,\" \",\" \",\" \",\" \"),IF(referentes!AC1244=referentes!AI1244,CONCATENATE(referentes!AH1244,\" \",referentes!AI1244,\" \",\" \"),CONCATENATE(referentes!AH1244,\" \",referentes!AI1244,\" \",referentes!AC1244))))","v":""},{"$f":"IF(referentes!AB1244=\"\",\"\",referentes!AB1244)","v":""}]
[null,null,null,null,null,null,null,null,null,null,null,null,null,null,null,{"$f":"IF(referentes!AC1245=\"\",\"\",IF(referentes!AC1245=referentes!AH1245,CONCATENATE(referentes!AC1245,\" \",\" \",\" \",\" \"),IF(referentes!AC1245=referentes!AI1245,CONCATENATE(referentes!AH1245,\" \",referentes!AI1245,\" \",\" \"),CONCATENATE(referentes!AH1245,\" \",referentes!AI1245,\" \",referentes!AC1245))))","v":""},{"$f":"IF(referentes!AB1245=\"\",\"\",referentes!AB1245)","v":""}]
[null,null,null,null,null,null,null,null,null,null,null,null,null,null,null,{"$f":"IF(referentes!AC1246=\"\",\"\",IF(referentes!AC1246=referentes!AH1246,CONCATENATE(referentes!AC1246,\" \",\" \",\" \",\" \"),IF(referentes!AC1246=referentes!AI1246,CONCATENATE(referentes!AH1246,\" \",referentes!AI1246,\" \",\" \"),CONCATENATE(referentes!AH1246,\" \",referentes!AI1246,\" \",referentes!AC1246))))","v":""},{"$f":"IF(referentes!AB1246=\"\",\"\",referentes!AB1246)","v":""}]
[null,null,null,null,null,null,null,null,null,null,null,null,null,null,null,{"$f":"IF(referentes!AC1247=\"\",\"\",IF(referentes!AC1247=referentes!AH1247,CONCATENATE(referentes!AC1247,\" \",\" \",\" \",\" \"),IF(referentes!AC1247=referentes!AI1247,CONCATENATE(referentes!AH1247,\" \",referentes!AI1247,\" \",\" \"),CONCATENATE(referentes!AH1247,\" \",referentes!AI1247,\" \",referentes!AC1247))))","v":""},{"$f":"IF(referentes!AB1247=\"\",\"\",referentes!AB1247)","v":""}]
[null,null,null,null,null,null,null,null,null,null,null,null,null,null,null,{"$f":"IF(referentes!AC1248=\"\",\"\",IF(referentes!AC1248=referentes!AH1248,CONCATENATE(referentes!AC1248,\" \",\" \",\" \",\" \"),IF(referentes!AC1248=referentes!AI1248,CONCATENATE(referentes!AH1248,\" \",referentes!AI1248,\" \",\" \"),CONCATENATE(referentes!AH1248,\" \",referentes!AI1248,\" \",referentes!AC1248))))","v":""},{"$f":"IF(referentes!AB1248=\"\",\"\",referentes!AB1248)","v":""}]
[null,null,null,null,null,null,null,null,null,null,null,null,null,null,null,{"$f":"IF(referentes!AC1249=\"\",\"\",IF(referentes!AC1249=referentes!AH1249,CONCATENATE(referentes!AC1249,\" \",\" \",\" \",\" \"),IF(referentes!AC1249=referentes!AI1249,CONCATENATE(referentes!AH1249,\" \",referentes!AI1249,\" \",\" \"),CONCATENATE(referentes!AH1249,\" \",referentes!AI1249,\" \",referentes!AC1249))))","v":""},{"$f":"IF(referentes!AB1249=\"\",\"\",referentes!AB1249)","v":""}]
[null,null,null,null,null,null,null,null,null,null,null,null,null,null,null,{"$f":"IF(referentes!AC1250=\"\",\"\",IF(referentes!AC1250=referentes!AH1250,CONCATENATE(referentes!AC1250,\" \",\" \",\" \",\" \"),IF(referentes!AC1250=referentes!AI1250,CONCATENATE(referentes!AH1250,\" \",referentes!AI1250,\" \",\" \"),CONCATENATE(referentes!AH1250,\" \",referentes!AI1250,\" \",referentes!AC1250))))","v":""},{"$f":"IF(referentes!AB1250=\"\",\"\",referentes!AB1250)","v":""}]
[null,null,null,null,null,null,null,null,null,null,null,null,null,null,null,{"$f":"IF(referentes!AC1251=\"\",\"\",IF(referentes!AC1251=referentes!AH1251,CONCATENATE(referentes!AC1251,\" \",\" \",\" \",\" \"),IF(referentes!AC1251=referentes!AI1251,CONCATENATE(referentes!AH1251,\" \",referentes!AI1251,\" \",\" \"),CONCATENATE(referentes!AH1251,\" \",referentes!AI1251,\" \",referentes!AC1251))))","v":""},{"$f":"IF(referentes!AB1251=\"\",\"\",referentes!AB1251)","v":""}]
[null,null,null,null,null,null,null,null,null,null,null,null,null,null,null,{"$f":"IF(referentes!AC1252=\"\",\"\",IF(referentes!AC1252=referentes!AH1252,CONCATENATE(referentes!AC1252,\" \",\" \",\" \",\" \"),IF(referentes!AC1252=referentes!AI1252,CONCATENATE(referentes!AH1252,\" \",referentes!AI1252,\" \",\" \"),CONCATENATE(referentes!AH1252,\" \",referentes!AI1252,\" \",referentes!AC1252))))","v":""},{"$f":"IF(referentes!AB1252=\"\",\"\",referentes!AB1252)","v":""}]
[null,null,null,null,null,null,null,null,null,null,null,null,null,null,null,{"$f":"IF(referentes!AC1253=\"\",\"\",IF(referentes!AC1253=referentes!AH1253,CONCATENATE(referentes!AC1253,\" \",\" \",\" \",\" \"),IF(referentes!AC1253=referentes!AI1253,CONCATENATE(referentes!AH1253,\" \",referentes!AI1253,\" \",\" \"),CONCATENATE(referentes!AH1253,\" \",referentes!AI1253,\" \",referentes!AC1253))))","v":""},{"$f":"IF(referentes!AB1253=\"\",\"\",referentes!AB1253)","v":""}]
[null,null,null,null,null,null,null,null,null,null,null,null,null,null,null,{"$f":"IF(referentes!AC1254=\"\",\"\",IF(referentes!AC1254=referentes!AH1254,CONCATENATE(referentes!AC1254,\" \",\" \",\" \",\" \"),IF(referentes!AC1254=referentes!AI1254,CONCATENATE(referentes!AH1254,\" \",referentes!AI1254,\" \",\" \"),CONCATENATE(referentes!AH1254,\" \",referentes!AI1254,\" \",referentes!AC1254))))","v":""},{"$f":"IF(referentes!AB1254=\"\",\"\",referentes!AB1254)","v":""}]
[null,null,null,null,null,null,null,null,null,null,null,null,null,null,null,{"$f":"IF(referentes!AC1255=\"\",\"\",IF(referentes!AC1255=referentes!AH1255,CONCATENATE(referentes!AC1255,\" \",\" \",\" \",\" \"),IF(referentes!AC1255=referentes!AI1255,CONCATENATE(referentes!AH1255,\" \",referentes!AI1255,\" \",\" \"),CONCATENATE(referentes!AH1255,\" \",referentes!AI1255,\" \",referentes!AC1255))))","v":""},{"$f":"IF(referentes!AB1255=\"\",\"\",referentes!AB1255)","v":""}]
[null,null,null,null,null,null,null,null,null,null,null,null,null,null,null,{"$f":"IF(referentes!AC1256=\"\",\"\",IF(referentes!AC1256=referentes!AH1256,CONCATENATE(referentes!AC1256,\" \",\" \",\" \",\" \"),IF(referentes!AC1256=referentes!AI1256,CONCATENATE(referentes!AH1256,\" \",referentes!AI1256,\" \",\" \"),CONCATENATE(referentes!AH1256,\" \",referentes!AI1256,\" \",referentes!AC1256))))","v":""},{"$f":"IF(referentes!AB1256=\"\",\"\",referentes!AB1256)","v":""}]
[null,null,null,null,null,null,null,null,null,null,null,null,null,null,null,{"$f":"IF(referentes!AC1257=\"\",\"\",IF(referentes!AC1257=referentes!AH1257,CONCATENATE(referentes!AC1257,\" \",\" \",\" \",\" \"),IF(referentes!AC1257=referentes!AI1257,CONCATENATE(referentes!AH1257,\" \",referentes!AI1257,\" \",\" \"),CONCATENATE(referentes!AH1257,\" \",referentes!AI1257,\" \",referentes!AC1257))))","v":""},{"$f":"IF(referentes!AB1257=\"\",\"\",referentes!AB1257)","v":""}]
[null,null,null,null,null,null,null,null,null,null,null,null,null,null,null,{"$f":"IF(referentes!AC1258=\"\",\"\",IF(referentes!AC1258=referentes!AH1258,CONCATENATE(referentes!AC1258,\" \",\" \",\" \",\" \"),IF(referentes!AC1258=referentes!AI1258,CONCATENATE(referentes!AH1258,\" \",referentes!AI1258,\" \",\" \"),CONCATENATE(referentes!AH1258,\" \",referentes!AI1258,\" \",referentes!AC1258))))","v":""},{"$f":"IF(referentes!AB1258=\"\",\"\",referentes!AB1258)","v":""}]
[null,null,null,null,null,null,null,null,null,null,null,null,null,null,null,{"$f":"IF(referentes!AC1259=\"\",\"\",IF(referentes!AC1259=referentes!AH1259,CONCATENATE(referentes!AC1259,\" \",\" \",\" \",\" \"),IF(referentes!AC1259=referentes!AI1259,CONCATENATE(referentes!AH1259,\" \",referentes!AI1259,\" \",\" \"),CONCATENATE(referentes!AH1259,\" \",referentes!AI1259,\" \",referentes!AC1259))))","v":""},{"$f":"IF(referentes!AB1259=\"\",\"\",referentes!AB1259)","v":""}]
[null,null,null,null,null,null,null,null,null,null,null,null,null,null,null,{"$f":"IF(referentes!AC1260=\"\",\"\",IF(referentes!AC1260=referentes!AH1260,CONCATENATE(referentes!AC1260,\" \",\" \",\" \",\" \"),IF(referentes!AC1260=referentes!AI1260,CONCATENATE(referentes!AH1260,\" \",referentes!AI1260,\" \",\" \"),CONCATENATE(referentes!AH1260,\" \",referentes!AI1260,\" \",referentes!AC1260))))","v":""},{"$f":"IF(referentes!AB1260=\"\",\"\",referentes!AB1260)","v":""}]
[null,null,null,null,null,null,null,null,null,null,null,null,null,null,null,{"$f":"IF(referentes!AC1261=\"\",\"\",IF(referentes!AC1261=referentes!AH1261,CONCATENATE(referentes!AC1261,\" \",\" \",\" \",\" \"),IF(referentes!AC1261=referentes!AI1261,CONCATENATE(referentes!AH1261,\" \",referentes!AI1261,\" \",\" \"),CONCATENATE(referentes!AH1261,\" \",referentes!AI1261,\" \",referentes!AC1261))))","v":""},{"$f":"IF(referentes!AB1261=\"\",\"\",referentes!AB1261)","v":""}]
[null,null,null,null,null,null,null,null,null,null,null,null,null,null,null,{"$f":"IF(referentes!AC1262=\"\",\"\",IF(referentes!AC1262=referentes!AH1262,CONCATENATE(referentes!AC1262,\" \",\" \",\" \",\" \"),IF(referentes!AC1262=referentes!AI1262,CONCATENATE(referentes!AH1262,\" \",referentes!AI1262,\" \",\" \"),CONCATENATE(referentes!AH1262,\" \",referentes!AI1262,\" \",referentes!AC1262))))","v":""},{"$f":"IF(referentes!AB1262=\"\",\"\",referentes!AB1262)","v":""}]
[null,null,null,null,null,null,null,null,null,null,null,null,null,null,null,{"$f":"IF(referentes!AC1263=\"\",\"\",IF(referentes!AC1263=referentes!AH1263,CONCATENATE(referentes!AC1263,\" \",\" \",\" \",\" \"),IF(referentes!AC1263=referentes!AI1263,CONCATENATE(referentes!AH1263,\" \",referentes!AI1263,\" \",\" \"),CONCATENATE(referentes!AH1263,\" \",referentes!AI1263,\" \",referentes!AC1263))))","v":""},{"$f":"IF(referentes!AB1263=\"\",\"\",referentes!AB1263)","v":""}]
[null,null,null,null,null,null,null,null,null,null,null,null,null,null,null,{"$f":"IF(referentes!AC1264=\"\",\"\",IF(referentes!AC1264=referentes!AH1264,CONCATENATE(referentes!AC1264,\" \",\" \",\" \",\" \"),IF(referentes!AC1264=referentes!AI1264,CONCATENATE(referentes!AH1264,\" \",referentes!AI1264,\" \",\" \"),CONCATENATE(referentes!AH1264,\" \",referentes!AI1264,\" \",referentes!AC1264))))","v":""},{"$f":"IF(referentes!AB1264=\"\",\"\",referentes!AB1264)","v":""}]
[null,null,null,null,null,null,null,null,null,null,null,null,null,null,null,{"$f":"IF(referentes!AC1265=\"\",\"\",IF(referentes!AC1265=referentes!AH1265,CONCATENATE(referentes!AC1265,\" \",\" \",\" \",\" \"),IF(referentes!AC1265=referentes!AI1265,CONCATENATE(referentes!AH1265,\" \",referentes!AI1265,\" \",\" \"),CONCATENATE(referentes!AH1265,\" \",referentes!AI1265,\" \",referentes!AC1265))))","v":""},{"$f":"IF(referentes!AB1265=\"\",\"\",referentes!AB1265)","v":""}]
[null,null,null,null,null,null,null,null,null,null,null,null,null,null,null,{"$f":"IF(referentes!AC1266=\"\",\"\",IF(referentes!AC1266=referentes!AH1266,CONCATENATE(referentes!AC1266,\" \",\" \",\" \",\" \"),IF(referentes!AC1266=referentes!AI1266,CONCATENATE(referentes!AH1266,\" \",referentes!AI1266,\" \",\" \"),CONCATENATE(referentes!AH1266,\" \",referentes!AI1266,\" \",referentes!AC1266))))","v":""},{"$f":"IF(referentes!AB1266=\"\",\"\",referentes!AB1266)","v":""}]
[null,null,null,null,null,null,null,null,null,null,null,null,null,null,null,{"$f":"IF(referentes!AC1267=\"\",\"\",IF(referentes!AC1267=referentes!AH1267,CONCATENATE(referentes!AC1267,\" \",\" \",\" \",\" \"),IF(referentes!AC1267=referentes!AI1267,CONCATENATE(referentes!AH1267,\" \",referentes!AI1267,\" \",\" \"),CONCATENATE(referentes!AH1267,\" \",referentes!AI1267,\" \",referentes!AC1267))))","v":""},{"$f":"IF(referentes!AB1267=\"\",\"\",referentes!AB1267)","v":""}]
[null,null,null,null,null,null,null,null,null,null,null,null,null,null,null,{"$f":"IF(referentes!AC1268=\"\",\"\",IF(referentes!AC1268=referentes!AH1268,CONCATENATE(referentes!AC1268,\" \",\" \",\" \",\" \"),IF(referentes!AC1268=referentes!AI1268,CONCATENATE(referentes!AH1268,\" \",referentes!AI1268,\" \",\" \"),CONCATENATE(referentes!AH1268,\" \",referentes!AI1268,\" \",referentes!AC1268))))","v":""},{"$f":"IF(referentes!AB1268=\"\",\"\",referentes!AB1268)","v":""}]
[null,null,null,null,null,null,null,null,null,null,null,null,null,null,null,{"$f":"IF(referentes!AC1269=\"\",\"\",IF(referentes!AC1269=referentes!AH1269,CONCATENATE(referentes!AC1269,\" \",\" \",\" \",\" \"),IF(referentes!AC1269=referentes!AI1269,CONCATENATE(referentes!AH1269,\" \",referentes!AI1269,\" \",\" \"),CONCATENATE(referentes!AH1269,\" \",referentes!AI1269,\" \",referentes!AC1269))))","v":""},{"$f":"IF(referentes!AB1269=\"\",\"\",referentes!AB1269)","v":""}]
[null,null,null,null,null,null,null,null,null,null,null,null,null,null,null,{"$f":"IF(referentes!AC1270=\"\",\"\",IF(referentes!AC1270=referentes!AH1270,CONCATENATE(referentes!AC1270,\" \",\" \",\" \",\" \"),IF(referentes!AC1270=referentes!AI1270,CONCATENATE(referentes!AH1270,\" \",referentes!AI1270,\" \",\" \"),CONCATENATE(referentes!AH1270,\" \",referentes!AI1270,\" \",referentes!AC1270))))","v":""},{"$f":"IF(referentes!AB1270=\"\",\"\",referentes!AB1270)","v":""}]
[null,null,null,null,null,null,null,null,null,null,null,null,null,null,null,{"$f":"IF(referentes!AC1271=\"\",\"\",IF(referentes!AC1271=referentes!AH1271,CONCATENATE(referentes!AC1271,\" \",\" \",\" \",\" \"),IF(referentes!AC1271=referentes!AI1271,CONCATENATE(referentes!AH1271,\" \",referentes!AI1271,\" \",\" \"),CONCATENATE(referentes!AH1271,\" \",referentes!AI1271,\" \",referentes!AC1271))))","v":""},{"$f":"IF(referentes!AB1271=\"\",\"\",referentes!AB1271)","v":""}]
[null,null,null,null,null,null,null,null,null,null,null,null,null,null,null,{"$f":"IF(referentes!AC1272=\"\",\"\",IF(referentes!AC1272=referentes!AH1272,CONCATENATE(referentes!AC1272,\" \",\" \",\" \",\" \"),IF(referentes!AC1272=referentes!AI1272,CONCATENATE(referentes!AH1272,\" \",referentes!AI1272,\" \",\" \"),CONCATENATE(referentes!AH1272,\" \",referentes!AI1272,\" \",referentes!AC1272))))","v":""},{"$f":"IF(referentes!AB1272=\"\",\"\",referentes!AB1272)","v":""}]
[null,null,null,null,null,null,null,null,null,null,null,null,null,null,null,{"$f":"IF(referentes!AC1273=\"\",\"\",IF(referentes!AC1273=referentes!AH1273,CONCATENATE(referentes!AC1273,\" \",\" \",\" \",\" \"),IF(referentes!AC1273=referentes!AI1273,CONCATENATE(referentes!AH1273,\" \",referentes!AI1273,\" \",\" \"),CONCATENATE(referentes!AH1273,\" \",referentes!AI1273,\" \",referentes!AC1273))))","v":""},{"$f":"IF(referentes!AB1273=\"\",\"\",referentes!AB1273)","v":""}]
[null,null,null,null,null,null,null,null,null,null,null,null,null,null,null,{"$f":"IF(referentes!AC1274=\"\",\"\",IF(referentes!AC1274=referentes!AH1274,CONCATENATE(referentes!AC1274,\" \",\" \",\" \",\" \"),IF(referentes!AC1274=referentes!AI1274,CONCATENATE(referentes!AH1274,\" \",referentes!AI1274,\" \",\" \"),CONCATENATE(referentes!AH1274,\" \",referentes!AI1274,\" \",referentes!AC1274))))","v":""},{"$f":"IF(referentes!AB1274=\"\",\"\",referentes!AB1274)","v":""}]
[null,null,null,null,null,null,null,null,null,null,null,null,null,null,null,{"$f":"IF(referentes!AC1275=\"\",\"\",IF(referentes!AC1275=referentes!AH1275,CONCATENATE(referentes!AC1275,\" \",\" \",\" \",\" \"),IF(referentes!AC1275=referentes!AI1275,CONCATENATE(referentes!AH1275,\" \",referentes!AI1275,\" \",\" \"),CONCATENATE(referentes!AH1275,\" \",referentes!AI1275,\" \",referentes!AC1275))))","v":""},{"$f":"IF(referentes!AB1275=\"\",\"\",referentes!AB1275)","v":""}]
[null,null,null,null,null,null,null,null,null,null,null,null,null,null,null,{"$f":"IF(referentes!AC1276=\"\",\"\",IF(referentes!AC1276=referentes!AH1276,CONCATENATE(referentes!AC1276,\" \",\" \",\" \",\" \"),IF(referentes!AC1276=referentes!AI1276,CONCATENATE(referentes!AH1276,\" \",referentes!AI1276,\" \",\" \"),CONCATENATE(referentes!AH1276,\" \",referentes!AI1276,\" \",referentes!AC1276))))","v":""},{"$f":"IF(referentes!AB1276=\"\",\"\",referentes!AB1276)","v":""}]
[null,null,null,null,null,null,null,null,null,null,null,null,null,null,null,{"$f":"IF(referentes!AC1277=\"\",\"\",IF(referentes!AC1277=referentes!AH1277,CONCATENATE(referentes!AC1277,\" \",\" \",\" \",\" \"),IF(referentes!AC1277=referentes!AI1277,CONCATENATE(referentes!AH1277,\" \",referentes!AI1277,\" \",\" \"),CONCATENATE(referentes!AH1277,\" \",referentes!AI1277,\" \",referentes!AC1277))))","v":""},{"$f":"IF(referentes!AB1277=\"\",\"\",referentes!AB1277)","v":""}]
[null,null,null,null,null,null,null,null,null,null,null,null,null,null,null,{"$f":"IF(referentes!AC1278=\"\",\"\",IF(referentes!AC1278=referentes!AH1278,CONCATENATE(referentes!AC1278,\" \",\" \",\" \",\" \"),IF(referentes!AC1278=referentes!AI1278,CONCATENATE(referentes!AH1278,\" \",referentes!AI1278,\" \",\" \"),CONCATENATE(referentes!AH1278,\" \",referentes!AI1278,\" \",referentes!AC1278))))","v":""},{"$f":"IF(referentes!AB1278=\"\",\"\",referentes!AB1278)","v":""}]
[null,null,null,null,null,null,null,null,null,null,null,null,null,null,null,{"$f":"IF(referentes!AC1279=\"\",\"\",IF(referentes!AC1279=referentes!AH1279,CONCATENATE(referentes!AC1279,\" \",\" \",\" \",\" \"),IF(referentes!AC1279=referentes!AI1279,CONCATENATE(referentes!AH1279,\" \",referentes!AI1279,\" \",\" \"),CONCATENATE(referentes!AH1279,\" \",referentes!AI1279,\" \",referentes!AC1279))))","v":""},{"$f":"IF(referentes!AB1279=\"\",\"\",referentes!AB1279)","v":""}]
[null,null,null,null,null,null,null,null,null,null,null,null,null,null,null,{"$f":"IF(referentes!AC1280=\"\",\"\",IF(referentes!AC1280=referentes!AH1280,CONCATENATE(referentes!AC1280,\" \",\" \",\" \",\" \"),IF(referentes!AC1280=referentes!AI1280,CONCATENATE(referentes!AH1280,\" \",referentes!AI1280,\" \",\" \"),CONCATENATE(referentes!AH1280,\" \",referentes!AI1280,\" \",referentes!AC1280))))","v":""},{"$f":"IF(referentes!AB1280=\"\",\"\",referentes!AB1280)","v":""}]
[null,null,null,null,null,null,null,null,null,null,null,null,null,null,null,{"$f":"IF(referentes!AC1281=\"\",\"\",IF(referentes!AC1281=referentes!AH1281,CONCATENATE(referentes!AC1281,\" \",\" \",\" \",\" \"),IF(referentes!AC1281=referentes!AI1281,CONCATENATE(referentes!AH1281,\" \",referentes!AI1281,\" \",\" \"),CONCATENATE(referentes!AH1281,\" \",referentes!AI1281,\" \",referentes!AC1281))))","v":""},{"$f":"IF(referentes!AB1281=\"\",\"\",referentes!AB1281)","v":""}]
[null,null,null,null,null,null,null,null,null,null,null,null,null,null,null,{"$f":"IF(referentes!AC1282=\"\",\"\",IF(referentes!AC1282=referentes!AH1282,CONCATENATE(referentes!AC1282,\" \",\" \",\" \",\" \"),IF(referentes!AC1282=referentes!AI1282,CONCATENATE(referentes!AH1282,\" \",referentes!AI1282,\" \",\" \"),CONCATENATE(referentes!AH1282,\" \",referentes!AI1282,\" \",referentes!AC1282))))","v":""},{"$f":"IF(referentes!AB1282=\"\",\"\",referentes!AB1282)","v":""}]
[null,null,null,null,null,null,null,null,null,null,null,null,null,null,null,{"$f":"IF(referentes!AC1283=\"\",\"\",IF(referentes!AC1283=referentes!AH1283,CONCATENATE(referentes!AC1283,\" \",\" \",\" \",\" \"),IF(referentes!AC1283=referentes!AI1283,CONCATENATE(referentes!AH1283,\" \",referentes!AI1283,\" \",\" \"),CONCATENATE(referentes!AH1283,\" \",referentes!AI1283,\" \",referentes!AC1283))))","v":""},{"$f":"IF(referentes!AB1283=\"\",\"\",referentes!AB1283)","v":""}]
[null,null,null,null,null,null,null,null,null,null,null,null,null,null,null,{"$f":"IF(referentes!AC1284=\"\",\"\",IF(referentes!AC1284=referentes!AH1284,CONCATENATE(referentes!AC1284,\" \",\" \",\" \",\" \"),IF(referentes!AC1284=referentes!AI1284,CONCATENATE(referentes!AH1284,\" \",referentes!AI1284,\" \",\" \"),CONCATENATE(referentes!AH1284,\" \",referentes!AI1284,\" \",referentes!AC1284))))","v":""},{"$f":"IF(referentes!AB1284=\"\",\"\",referentes!AB1284)","v":""}]
[null,null,null,null,null,null,null,null,null,null,null,null,null,null,null,{"$f":"IF(referentes!AC1285=\"\",\"\",IF(referentes!AC1285=referentes!AH1285,CONCATENATE(referentes!AC1285,\" \",\" \",\" \",\" \"),IF(referentes!AC1285=referentes!AI1285,CONCATENATE(referentes!AH1285,\" \",referentes!AI1285,\" \",\" \"),CONCATENATE(referentes!AH1285,\" \",referentes!AI1285,\" \",referentes!AC1285))))","v":""},{"$f":"IF(referentes!AB1285=\"\",\"\",referentes!AB1285)","v":""}]
[null,null,null,null,null,null,null,null,null,null,null,null,null,null,null,{"$f":"IF(referentes!AC1286=\"\",\"\",IF(referentes!AC1286=referentes!AH1286,CONCATENATE(referentes!AC1286,\" \",\" \",\" \",\" \"),IF(referentes!AC1286=referentes!AI1286,CONCATENATE(referentes!AH1286,\" \",referentes!AI1286,\" \",\" \"),CONCATENATE(referentes!AH1286,\" \",referentes!AI1286,\" \",referentes!AC1286))))","v":""},{"$f":"IF(referentes!AB1286=\"\",\"\",referentes!AB1286)","v":""}]
[null,null,null,null,null,null,null,null,null,null,null,null,null,null,null,{"$f":"IF(referentes!AC1287=\"\",\"\",IF(referentes!AC1287=referentes!AH1287,CONCATENATE(referentes!AC1287,\" \",\" \",\" \",\" \"),IF(referentes!AC1287=referentes!AI1287,CONCATENATE(referentes!AH1287,\" \",referentes!AI1287,\" \",\" \"),CONCATENATE(referentes!AH1287,\" \",referentes!AI1287,\" \",referentes!AC1287))))","v":""},{"$f":"IF(referentes!AB1287=\"\",\"\",referentes!AB1287)","v":""}]
[null,null,null,null,null,null,null,null,null,null,null,null,null,null,null,{"$f":"IF(referentes!AC1288=\"\",\"\",IF(referentes!AC1288=referentes!AH1288,CONCATENATE(referentes!AC1288,\" \",\" \",\" \",\" \"),IF(referentes!AC1288=referentes!AI1288,CONCATENATE(referentes!AH1288,\" \",referentes!AI1288,\" \",\" \"),CONCATENATE(referentes!AH1288,\" \",referentes!AI1288,\" \",referentes!AC1288))))","v":""},{"$f":"IF(referentes!AB1288=\"\",\"\",referentes!AB1288)","v":""}]
[null,null,null,null,null,null,null,null,null,null,null,null,null,null,null,{"$f":"IF(referentes!AC1289=\"\",\"\",IF(referentes!AC1289=referentes!AH1289,CONCATENATE(referentes!AC1289,\" \",\" \",\" \",\" \"),IF(referentes!AC1289=referentes!AI1289,CONCATENATE(referentes!AH1289,\" \",referentes!AI1289,\" \",\" \"),CONCATENATE(referentes!AH1289,\" \",referentes!AI1289,\" \",referentes!AC1289))))","v":""},{"$f":"IF(referentes!AB1289=\"\",\"\",referentes!AB1289)","v":""}]
[null,null,null,null,null,null,null,null,null,null,null,null,null,null,null,{"$f":"IF(referentes!AC1290=\"\",\"\",IF(referentes!AC1290=referentes!AH1290,CONCATENATE(referentes!AC1290,\" \",\" \",\" \",\" \"),IF(referentes!AC1290=referentes!AI1290,CONCATENATE(referentes!AH1290,\" \",referentes!AI1290,\" \",\" \"),CONCATENATE(referentes!AH1290,\" \",referentes!AI1290,\" \",referentes!AC1290))))","v":""},{"$f":"IF(referentes!AB1290=\"\",\"\",referentes!AB1290)","v":""}]
[null,null,null,null,null,null,null,null,null,null,null,null,null,null,null,{"$f":"IF(referentes!AC1291=\"\",\"\",IF(referentes!AC1291=referentes!AH1291,CONCATENATE(referentes!AC1291,\" \",\" \",\" \",\" \"),IF(referentes!AC1291=referentes!AI1291,CONCATENATE(referentes!AH1291,\" \",referentes!AI1291,\" \",\" \"),CONCATENATE(referentes!AH1291,\" \",referentes!AI1291,\" \",referentes!AC1291))))","v":""},{"$f":"IF(referentes!AB1291=\"\",\"\",referentes!AB1291)","v":""}]
[null,null,null,null,null,null,null,null,null,null,null,null,null,null,null,{"$f":"IF(referentes!AC1292=\"\",\"\",IF(referentes!AC1292=referentes!AH1292,CONCATENATE(referentes!AC1292,\" \",\" \",\" \",\" \"),IF(referentes!AC1292=referentes!AI1292,CONCATENATE(referentes!AH1292,\" \",referentes!AI1292,\" \",\" \"),CONCATENATE(referentes!AH1292,\" \",referentes!AI1292,\" \",referentes!AC1292))))","v":""},{"$f":"IF(referentes!AB1292=\"\",\"\",referentes!AB1292)","v":""}]
[null,null,null,null,null,null,null,null,null,null,null,null,null,null,null,{"$f":"IF(referentes!AC1293=\"\",\"\",IF(referentes!AC1293=referentes!AH1293,CONCATENATE(referentes!AC1293,\" \",\" \",\" \",\" \"),IF(referentes!AC1293=referentes!AI1293,CONCATENATE(referentes!AH1293,\" \",referentes!AI1293,\" \",\" \"),CONCATENATE(referentes!AH1293,\" \",referentes!AI1293,\" \",referentes!AC1293))))","v":""},{"$f":"IF(referentes!AB1293=\"\",\"\",referentes!AB1293)","v":""}]
[null,null,null,null,null,null,null,null,null,null,null,null,null,null,null,{"$f":"IF(referentes!AC1294=\"\",\"\",IF(referentes!AC1294=referentes!AH1294,CONCATENATE(referentes!AC1294,\" \",\" \",\" \",\" \"),IF(referentes!AC1294=referentes!AI1294,CONCATENATE(referentes!AH1294,\" \",referentes!AI1294,\" \",\" \"),CONCATENATE(referentes!AH1294,\" \",referentes!AI1294,\" \",referentes!AC1294))))","v":""},{"$f":"IF(referentes!AB1294=\"\",\"\",referentes!AB1294)","v":""}]
[null,null,null,null,null,null,null,null,null,null,null,null,null,null,null,{"$f":"IF(referentes!AC1295=\"\",\"\",IF(referentes!AC1295=referentes!AH1295,CONCATENATE(referentes!AC1295,\" \",\" \",\" \",\" \"),IF(referentes!AC1295=referentes!AI1295,CONCATENATE(referentes!AH1295,\" \",referentes!AI1295,\" \",\" \"),CONCATENATE(referentes!AH1295,\" \",referentes!AI1295,\" \",referentes!AC1295))))","v":""},{"$f":"IF(referentes!AB1295=\"\",\"\",referentes!AB1295)","v":""}]
[null,null,null,null,null,null,null,null,null,null,null,null,null,null,null,{"$f":"IF(referentes!AC1296=\"\",\"\",IF(referentes!AC1296=referentes!AH1296,CONCATENATE(referentes!AC1296,\" \",\" \",\" \",\" \"),IF(referentes!AC1296=referentes!AI1296,CONCATENATE(referentes!AH1296,\" \",referentes!AI1296,\" \",\" \"),CONCATENATE(referentes!AH1296,\" \",referentes!AI1296,\" \",referentes!AC1296))))","v":""},{"$f":"IF(referentes!AB1296=\"\",\"\",referentes!AB1296)","v":""}]
[null,null,null,null,null,null,null,null,null,null,null,null,null,null,null,{"$f":"IF(referentes!AC1297=\"\",\"\",IF(referentes!AC1297=referentes!AH1297,CONCATENATE(referentes!AC1297,\" \",\" \",\" \",\" \"),IF(referentes!AC1297=referentes!AI1297,CONCATENATE(referentes!AH1297,\" \",referentes!AI1297,\" \",\" \"),CONCATENATE(referentes!AH1297,\" \",referentes!AI1297,\" \",referentes!AC1297))))","v":""},{"$f":"IF(referentes!AB1297=\"\",\"\",referentes!AB1297)","v":""}]
[null,null,null,null,null,null,null,null,null,null,null,null,null,null,null,{"$f":"IF(referentes!AC1298=\"\",\"\",IF(referentes!AC1298=referentes!AH1298,CONCATENATE(referentes!AC1298,\" \",\" \",\" \",\" \"),IF(referentes!AC1298=referentes!AI1298,CONCATENATE(referentes!AH1298,\" \",referentes!AI1298,\" \",\" \"),CONCATENATE(referentes!AH1298,\" \",referentes!AI1298,\" \",referentes!AC1298))))","v":""},{"$f":"IF(referentes!AB1298=\"\",\"\",referentes!AB1298)","v":""}]
[null,null,null,null,null,null,null,null,null,null,null,null,null,null,null,{"$f":"IF(referentes!AC1299=\"\",\"\",IF(referentes!AC1299=referentes!AH1299,CONCATENATE(referentes!AC1299,\" \",\" \",\" \",\" \"),IF(referentes!AC1299=referentes!AI1299,CONCATENATE(referentes!AH1299,\" \",referentes!AI1299,\" \",\" \"),CONCATENATE(referentes!AH1299,\" \",referentes!AI1299,\" \",referentes!AC1299))))","v":""},{"$f":"IF(referentes!AB1299=\"\",\"\",referentes!AB1299)","v":""}]
[null,null,null,null,null,null,null,null,null,null,null,null,null,null,null,{"$f":"IF(referentes!AC1300=\"\",\"\",IF(referentes!AC1300=referentes!AH1300,CONCATENATE(referentes!AC1300,\" \",\" \",\" \",\" \"),IF(referentes!AC1300=referentes!AI1300,CONCATENATE(referentes!AH1300,\" \",referentes!AI1300,\" \",\" \"),CONCATENATE(referentes!AH1300,\" \",referentes!AI1300,\" \",referentes!AC1300))))","v":""},{"$f":"IF(referentes!AB1300=\"\",\"\",referentes!AB1300)","v":""}]
[null,null,null,null,null,null,null,null,null,null,null,null,null,null,null,{"$f":"IF(referentes!AC1301=\"\",\"\",IF(referentes!AC1301=referentes!AH1301,CONCATENATE(referentes!AC1301,\" \",\" \",\" \",\" \"),IF(referentes!AC1301=referentes!AI1301,CONCATENATE(referentes!AH1301,\" \",referentes!AI1301,\" \",\" \"),CONCATENATE(referentes!AH1301,\" \",referentes!AI1301,\" \",referentes!AC1301))))","v":""},{"$f":"IF(referentes!AB1301=\"\",\"\",referentes!AB1301)","v":""}]
[null,null,null,null,null,null,null,null,null,null,null,null,null,null,null,{"$f":"IF(referentes!AC1302=\"\",\"\",IF(referentes!AC1302=referentes!AH1302,CONCATENATE(referentes!AC1302,\" \",\" \",\" \",\" \"),IF(referentes!AC1302=referentes!AI1302,CONCATENATE(referentes!AH1302,\" \",referentes!AI1302,\" \",\" \"),CONCATENATE(referentes!AH1302,\" \",referentes!AI1302,\" \",referentes!AC1302))))","v":""},{"$f":"IF(referentes!AB1302=\"\",\"\",referentes!AB1302)","v":""}]
[null,null,null,null,null,null,null,null,null,null,null,null,null,null,null,{"$f":"IF(referentes!AC1303=\"\",\"\",IF(referentes!AC1303=referentes!AH1303,CONCATENATE(referentes!AC1303,\" \",\" \",\" \",\" \"),IF(referentes!AC1303=referentes!AI1303,CONCATENATE(referentes!AH1303,\" \",referentes!AI1303,\" \",\" \"),CONCATENATE(referentes!AH1303,\" \",referentes!AI1303,\" \",referentes!AC1303))))","v":""},{"$f":"IF(referentes!AB1303=\"\",\"\",referentes!AB1303)","v":""}]
[null,null,null,null,null,null,null,null,null,null,null,null,null,null,null,{"$f":"IF(referentes!AC1304=\"\",\"\",IF(referentes!AC1304=referentes!AH1304,CONCATENATE(referentes!AC1304,\" \",\" \",\" \",\" \"),IF(referentes!AC1304=referentes!AI1304,CONCATENATE(referentes!AH1304,\" \",referentes!AI1304,\" \",\" \"),CONCATENATE(referentes!AH1304,\" \",referentes!AI1304,\" \",referentes!AC1304))))","v":""},{"$f":"IF(referentes!AB1304=\"\",\"\",referentes!AB1304)","v":""}]
[null,null,null,null,null,null,null,null,null,null,null,null,null,null,null,{"$f":"IF(referentes!AC1305=\"\",\"\",IF(referentes!AC1305=referentes!AH1305,CONCATENATE(referentes!AC1305,\" \",\" \",\" \",\" \"),IF(referentes!AC1305=referentes!AI1305,CONCATENATE(referentes!AH1305,\" \",referentes!AI1305,\" \",\" \"),CONCATENATE(referentes!AH1305,\" \",referentes!AI1305,\" \",referentes!AC1305))))","v":""},{"$f":"IF(referentes!AB1305=\"\",\"\",referentes!AB1305)","v":""}]
[null,null,null,null,null,null,null,null,null,null,null,null,null,null,null,{"$f":"IF(referentes!AC1306=\"\",\"\",IF(referentes!AC1306=referentes!AH1306,CONCATENATE(referentes!AC1306,\" \",\" \",\" \",\" \"),IF(referentes!AC1306=referentes!AI1306,CONCATENATE(referentes!AH1306,\" \",referentes!AI1306,\" \",\" \"),CONCATENATE(referentes!AH1306,\" \",referentes!AI1306,\" \",referentes!AC1306))))","v":""},{"$f":"IF(referentes!AB1306=\"\",\"\",referentes!AB1306)","v":""}]
[null,null,null,null,null,null,null,null,null,null,null,null,null,null,null,{"$f":"IF(referentes!AC1307=\"\",\"\",IF(referentes!AC1307=referentes!AH1307,CONCATENATE(referentes!AC1307,\" \",\" \",\" \",\" \"),IF(referentes!AC1307=referentes!AI1307,CONCATENATE(referentes!AH1307,\" \",referentes!AI1307,\" \",\" \"),CONCATENATE(referentes!AH1307,\" \",referentes!AI1307,\" \",referentes!AC1307))))","v":""},{"$f":"IF(referentes!AB1307=\"\",\"\",referentes!AB1307)","v":""}]
[null,null,null,null,null,null,null,null,null,null,null,null,null,null,null,{"$f":"IF(referentes!AC1308=\"\",\"\",IF(referentes!AC1308=referentes!AH1308,CONCATENATE(referentes!AC1308,\" \",\" \",\" \",\" \"),IF(referentes!AC1308=referentes!AI1308,CONCATENATE(referentes!AH1308,\" \",referentes!AI1308,\" \",\" \"),CONCATENATE(referentes!AH1308,\" \",referentes!AI1308,\" \",referentes!AC1308))))","v":""},{"$f":"IF(referentes!AB1308=\"\",\"\",referentes!AB1308)","v":""}]
[null,null,null,null,null,null,null,null,null,null,null,null,null,null,null,{"$f":"IF(referentes!AC1309=\"\",\"\",IF(referentes!AC1309=referentes!AH1309,CONCATENATE(referentes!AC1309,\" \",\" \",\" \",\" \"),IF(referentes!AC1309=referentes!AI1309,CONCATENATE(referentes!AH1309,\" \",referentes!AI1309,\" \",\" \"),CONCATENATE(referentes!AH1309,\" \",referentes!AI1309,\" \",referentes!AC1309))))","v":""},{"$f":"IF(referentes!AB1309=\"\",\"\",referentes!AB1309)","v":""}]
[null,null,null,null,null,null,null,null,null,null,null,null,null,null,null,{"$f":"IF(referentes!AC1310=\"\",\"\",IF(referentes!AC1310=referentes!AH1310,CONCATENATE(referentes!AC1310,\" \",\" \",\" \",\" \"),IF(referentes!AC1310=referentes!AI1310,CONCATENATE(referentes!AH1310,\" \",referentes!AI1310,\" \",\" \"),CONCATENATE(referentes!AH1310,\" \",referentes!AI1310,\" \",referentes!AC1310))))","v":""},{"$f":"IF(referentes!AB1310=\"\",\"\",referentes!AB1310)","v":""}]
[null,null,null,null,null,null,null,null,null,null,null,null,null,null,null,{"$f":"IF(referentes!AC1311=\"\",\"\",IF(referentes!AC1311=referentes!AH1311,CONCATENATE(referentes!AC1311,\" \",\" \",\" \",\" \"),IF(referentes!AC1311=referentes!AI1311,CONCATENATE(referentes!AH1311,\" \",referentes!AI1311,\" \",\" \"),CONCATENATE(referentes!AH1311,\" \",referentes!AI1311,\" \",referentes!AC1311))))","v":""},{"$f":"IF(referentes!AB1311=\"\",\"\",referentes!AB1311)","v":""}]
[null,null,null,null,null,null,null,null,null,null,null,null,null,null,null,{"$f":"IF(referentes!AC1312=\"\",\"\",IF(referentes!AC1312=referentes!AH1312,CONCATENATE(referentes!AC1312,\" \",\" \",\" \",\" \"),IF(referentes!AC1312=referentes!AI1312,CONCATENATE(referentes!AH1312,\" \",referentes!AI1312,\" \",\" \"),CONCATENATE(referentes!AH1312,\" \",referentes!AI1312,\" \",referentes!AC1312))))","v":""},{"$f":"IF(referentes!AB1312=\"\",\"\",referentes!AB1312)","v":""}]
[null,null,null,null,null,null,null,null,null,null,null,null,null,null,null,{"$f":"IF(referentes!AC1313=\"\",\"\",IF(referentes!AC1313=referentes!AH1313,CONCATENATE(referentes!AC1313,\" \",\" \",\" \",\" \"),IF(referentes!AC1313=referentes!AI1313,CONCATENATE(referentes!AH1313,\" \",referentes!AI1313,\" \",\" \"),CONCATENATE(referentes!AH1313,\" \",referentes!AI1313,\" \",referentes!AC1313))))","v":""},{"$f":"IF(referentes!AB1313=\"\",\"\",referentes!AB1313)","v":""}]
[null,null,null,null,null,null,null,null,null,null,null,null,null,null,null,{"$f":"IF(referentes!AC1314=\"\",\"\",IF(referentes!AC1314=referentes!AH1314,CONCATENATE(referentes!AC1314,\" \",\" \",\" \",\" \"),IF(referentes!AC1314=referentes!AI1314,CONCATENATE(referentes!AH1314,\" \",referentes!AI1314,\" \",\" \"),CONCATENATE(referentes!AH1314,\" \",referentes!AI1314,\" \",referentes!AC1314))))","v":""},{"$f":"IF(referentes!AB1314=\"\",\"\",referentes!AB1314)","v":""}]
[null,null,null,null,null,null,null,null,null,null,null,null,null,null,null,{"$f":"IF(referentes!AC1315=\"\",\"\",IF(referentes!AC1315=referentes!AH1315,CONCATENATE(referentes!AC1315,\" \",\" \",\" \",\" \"),IF(referentes!AC1315=referentes!AI1315,CONCATENATE(referentes!AH1315,\" \",referentes!AI1315,\" \",\" \"),CONCATENATE(referentes!AH1315,\" \",referentes!AI1315,\" \",referentes!AC1315))))","v":""},{"$f":"IF(referentes!AB1315=\"\",\"\",referentes!AB1315)","v":""}]
[null,null,null,null,null,null,null,null,null,null,null,null,null,null,null,{"$f":"IF(referentes!AC1316=\"\",\"\",IF(referentes!AC1316=referentes!AH1316,CONCATENATE(referentes!AC1316,\" \",\" \",\" \",\" \"),IF(referentes!AC1316=referentes!AI1316,CONCATENATE(referentes!AH1316,\" \",referentes!AI1316,\" \",\" \"),CONCATENATE(referentes!AH1316,\" \",referentes!AI1316,\" \",referentes!AC1316))))","v":""},{"$f":"IF(referentes!AB1316=\"\",\"\",referentes!AB1316)","v":""}]
[null,null,null,null,null,null,null,null,null,null,null,null,null,null,null,{"$f":"IF(referentes!AC1317=\"\",\"\",IF(referentes!AC1317=referentes!AH1317,CONCATENATE(referentes!AC1317,\" \",\" \",\" \",\" \"),IF(referentes!AC1317=referentes!AI1317,CONCATENATE(referentes!AH1317,\" \",referentes!AI1317,\" \",\" \"),CONCATENATE(referentes!AH1317,\" \",referentes!AI1317,\" \",referentes!AC1317))))","v":""},{"$f":"IF(referentes!AB1317=\"\",\"\",referentes!AB1317)","v":""}]
[null,null,null,null,null,null,null,null,null,null,null,null,null,null,null,{"$f":"IF(referentes!AC1318=\"\",\"\",IF(referentes!AC1318=referentes!AH1318,CONCATENATE(referentes!AC1318,\" \",\" \",\" \",\" \"),IF(referentes!AC1318=referentes!AI1318,CONCATENATE(referentes!AH1318,\" \",referentes!AI1318,\" \",\" \"),CONCATENATE(referentes!AH1318,\" \",referentes!AI1318,\" \",referentes!AC1318))))","v":""},{"$f":"IF(referentes!AB1318=\"\",\"\",referentes!AB1318)","v":""}]
[null,null,null,null,null,null,null,null,null,null,null,null,null,null,null,{"$f":"IF(referentes!AC1319=\"\",\"\",IF(referentes!AC1319=referentes!AH1319,CONCATENATE(referentes!AC1319,\" \",\" \",\" \",\" \"),IF(referentes!AC1319=referentes!AI1319,CONCATENATE(referentes!AH1319,\" \",referentes!AI1319,\" \",\" \"),CONCATENATE(referentes!AH1319,\" \",referentes!AI1319,\" \",referentes!AC1319))))","v":""},{"$f":"IF(referentes!AB1319=\"\",\"\",referentes!AB1319)","v":""}]
[null,null,null,null,null,null,null,null,null,null,null,null,null,null,null,{"$f":"IF(referentes!AC1320=\"\",\"\",IF(referentes!AC1320=referentes!AH1320,CONCATENATE(referentes!AC1320,\" \",\" \",\" \",\" \"),IF(referentes!AC1320=referentes!AI1320,CONCATENATE(referentes!AH1320,\" \",referentes!AI1320,\" \",\" \"),CONCATENATE(referentes!AH1320,\" \",referentes!AI1320,\" \",referentes!AC1320))))","v":""},{"$f":"IF(referentes!AB1320=\"\",\"\",referentes!AB1320)","v":""}]
[null,null,null,null,null,null,null,null,null,null,null,null,null,null,null,{"$f":"IF(referentes!AC1321=\"\",\"\",IF(referentes!AC1321=referentes!AH1321,CONCATENATE(referentes!AC1321,\" \",\" \",\" \",\" \"),IF(referentes!AC1321=referentes!AI1321,CONCATENATE(referentes!AH1321,\" \",referentes!AI1321,\" \",\" \"),CONCATENATE(referentes!AH1321,\" \",referentes!AI1321,\" \",referentes!AC1321))))","v":""},{"$f":"IF(referentes!AB1321=\"\",\"\",referentes!AB1321)","v":""}]
[null,null,null,null,null,null,null,null,null,null,null,null,null,null,null,{"$f":"IF(referentes!AC1322=\"\",\"\",IF(referentes!AC1322=referentes!AH1322,CONCATENATE(referentes!AC1322,\" \",\" \",\" \",\" \"),IF(referentes!AC1322=referentes!AI1322,CONCATENATE(referentes!AH1322,\" \",referentes!AI1322,\" \",\" \"),CONCATENATE(referentes!AH1322,\" \",referentes!AI1322,\" \",referentes!AC1322))))","v":""},{"$f":"IF(referentes!AB1322=\"\",\"\",referentes!AB1322)","v":""}]
[null,null,null,null,null,null,null,null,null,null,null,null,null,null,null,{"$f":"IF(referentes!AC1323=\"\",\"\",IF(referentes!AC1323=referentes!AH1323,CONCATENATE(referentes!AC1323,\" \",\" \",\" \",\" \"),IF(referentes!AC1323=referentes!AI1323,CONCATENATE(referentes!AH1323,\" \",referentes!AI1323,\" \",\" \"),CONCATENATE(referentes!AH1323,\" \",referentes!AI1323,\" \",referentes!AC1323))))","v":""},{"$f":"IF(referentes!AB1323=\"\",\"\",referentes!AB1323)","v":""}]
[null,null,null,null,null,null,null,null,null,null,null,null,null,null,null,{"$f":"IF(referentes!AC1324=\"\",\"\",IF(referentes!AC1324=referentes!AH1324,CONCATENATE(referentes!AC1324,\" \",\" \",\" \",\" \"),IF(referentes!AC1324=referentes!AI1324,CONCATENATE(referentes!AH1324,\" \",referentes!AI1324,\" \",\" \"),CONCATENATE(referentes!AH1324,\" \",referentes!AI1324,\" \",referentes!AC1324))))","v":""},{"$f":"IF(referentes!AB1324=\"\",\"\",referentes!AB1324)","v":""}]
[null,null,null,null,null,null,null,null,null,null,null,null,null,null,null,{"$f":"IF(referentes!AC1325=\"\",\"\",IF(referentes!AC1325=referentes!AH1325,CONCATENATE(referentes!AC1325,\" \",\" \",\" \",\" \"),IF(referentes!AC1325=referentes!AI1325,CONCATENATE(referentes!AH1325,\" \",referentes!AI1325,\" \",\" \"),CONCATENATE(referentes!AH1325,\" \",referentes!AI1325,\" \",referentes!AC1325))))","v":""},{"$f":"IF(referentes!AB1325=\"\",\"\",referentes!AB1325)","v":""}]
[null,null,null,null,null,null,null,null,null,null,null,null,null,null,null,{"$f":"IF(referentes!AC1326=\"\",\"\",IF(referentes!AC1326=referentes!AH1326,CONCATENATE(referentes!AC1326,\" \",\" \",\" \",\" \"),IF(referentes!AC1326=referentes!AI1326,CONCATENATE(referentes!AH1326,\" \",referentes!AI1326,\" \",\" \"),CONCATENATE(referentes!AH1326,\" \",referentes!AI1326,\" \",referentes!AC1326))))","v":""},{"$f":"IF(referentes!AB1326=\"\",\"\",referentes!AB1326)","v":""}]
[null,null,null,null,null,null,null,null,null,null,null,null,null,null,null,{"$f":"IF(referentes!AC1327=\"\",\"\",IF(referentes!AC1327=referentes!AH1327,CONCATENATE(referentes!AC1327,\" \",\" \",\" \",\" \"),IF(referentes!AC1327=referentes!AI1327,CONCATENATE(referentes!AH1327,\" \",referentes!AI1327,\" \",\" \"),CONCATENATE(referentes!AH1327,\" \",referentes!AI1327,\" \",referentes!AC1327))))","v":""},{"$f":"IF(referentes!AB1327=\"\",\"\",referentes!AB1327)","v":""}]
[null,null,null,null,null,null,null,null,null,null,null,null,null,null,null,{"$f":"IF(referentes!AC1328=\"\",\"\",IF(referentes!AC1328=referentes!AH1328,CONCATENATE(referentes!AC1328,\" \",\" \",\" \",\" \"),IF(referentes!AC1328=referentes!AI1328,CONCATENATE(referentes!AH1328,\" \",referentes!AI1328,\" \",\" \"),CONCATENATE(referentes!AH1328,\" \",referentes!AI1328,\" \",referentes!AC1328))))","v":""},{"$f":"IF(referentes!AB1328=\"\",\"\",referentes!AB1328)","v":""}]
[null,null,null,null,null,null,null,null,null,null,null,null,null,null,null,{"$f":"IF(referentes!AC1329=\"\",\"\",IF(referentes!AC1329=referentes!AH1329,CONCATENATE(referentes!AC1329,\" \",\" \",\" \",\" \"),IF(referentes!AC1329=referentes!AI1329,CONCATENATE(referentes!AH1329,\" \",referentes!AI1329,\" \",\" \"),CONCATENATE(referentes!AH1329,\" \",referentes!AI1329,\" \",referentes!AC1329))))","v":""},{"$f":"IF(referentes!AB1329=\"\",\"\",referentes!AB1329)","v":""}]
[null,null,null,null,null,null,null,null,null,null,null,null,null,null,null,{"$f":"IF(referentes!AC1330=\"\",\"\",IF(referentes!AC1330=referentes!AH1330,CONCATENATE(referentes!AC1330,\" \",\" \",\" \",\" \"),IF(referentes!AC1330=referentes!AI1330,CONCATENATE(referentes!AH1330,\" \",referentes!AI1330,\" \",\" \"),CONCATENATE(referentes!AH1330,\" \",referentes!AI1330,\" \",referentes!AC1330))))","v":""},{"$f":"IF(referentes!AB1330=\"\",\"\",referentes!AB1330)","v":""}]
[null,null,null,null,null,null,null,null,null,null,null,null,null,null,null,{"$f":"IF(referentes!AC1331=\"\",\"\",IF(referentes!AC1331=referentes!AH1331,CONCATENATE(referentes!AC1331,\" \",\" \",\" \",\" \"),IF(referentes!AC1331=referentes!AI1331,CONCATENATE(referentes!AH1331,\" \",referentes!AI1331,\" \",\" \"),CONCATENATE(referentes!AH1331,\" \",referentes!AI1331,\" \",referentes!AC1331))))","v":""},{"$f":"IF(referentes!AB1331=\"\",\"\",referentes!AB1331)","v":""}]
[null,null,null,null,null,null,null,null,null,null,null,null,null,null,null,{"$f":"IF(referentes!AC1332=\"\",\"\",IF(referentes!AC1332=referentes!AH1332,CONCATENATE(referentes!AC1332,\" \",\" \",\" \",\" \"),IF(referentes!AC1332=referentes!AI1332,CONCATENATE(referentes!AH1332,\" \",referentes!AI1332,\" \",\" \"),CONCATENATE(referentes!AH1332,\" \",referentes!AI1332,\" \",referentes!AC1332))))","v":""},{"$f":"IF(referentes!AB1332=\"\",\"\",referentes!AB1332)","v":""}]
[null,null,null,null,null,null,null,null,null,null,null,null,null,null,null,{"$f":"IF(referentes!AC1333=\"\",\"\",IF(referentes!AC1333=referentes!AH1333,CONCATENATE(referentes!AC1333,\" \",\" \",\" \",\" \"),IF(referentes!AC1333=referentes!AI1333,CONCATENATE(referentes!AH1333,\" \",referentes!AI1333,\" \",\" \"),CONCATENATE(referentes!AH1333,\" \",referentes!AI1333,\" \",referentes!AC1333))))","v":""},{"$f":"IF(referentes!AB1333=\"\",\"\",referentes!AB1333)","v":""}]
[null,null,null,null,null,null,null,null,null,null,null,null,null,null,null,{"$f":"IF(referentes!AC1334=\"\",\"\",IF(referentes!AC1334=referentes!AH1334,CONCATENATE(referentes!AC1334,\" \",\" \",\" \",\" \"),IF(referentes!AC1334=referentes!AI1334,CONCATENATE(referentes!AH1334,\" \",referentes!AI1334,\" \",\" \"),CONCATENATE(referentes!AH1334,\" \",referentes!AI1334,\" \",referentes!AC1334))))","v":""},{"$f":"IF(referentes!AB1334=\"\",\"\",referentes!AB1334)","v":""}]
[null,null,null,null,null,null,null,null,null,null,null,null,null,null,null,{"$f":"IF(referentes!AC1335=\"\",\"\",IF(referentes!AC1335=referentes!AH1335,CONCATENATE(referentes!AC1335,\" \",\" \",\" \",\" \"),IF(referentes!AC1335=referentes!AI1335,CONCATENATE(referentes!AH1335,\" \",referentes!AI1335,\" \",\" \"),CONCATENATE(referentes!AH1335,\" \",referentes!AI1335,\" \",referentes!AC1335))))","v":""},{"$f":"IF(referentes!AB1335=\"\",\"\",referentes!AB1335)","v":""}]
[null,null,null,null,null,null,null,null,null,null,null,null,null,null,null,{"$f":"IF(referentes!AC1336=\"\",\"\",IF(referentes!AC1336=referentes!AH1336,CONCATENATE(referentes!AC1336,\" \",\" \",\" \",\" \"),IF(referentes!AC1336=referentes!AI1336,CONCATENATE(referentes!AH1336,\" \",referentes!AI1336,\" \",\" \"),CONCATENATE(referentes!AH1336,\" \",referentes!AI1336,\" \",referentes!AC1336))))","v":""},{"$f":"IF(referentes!AB1336=\"\",\"\",referentes!AB1336)","v":""}]
[null,null,null,null,null,null,null,null,null,null,null,null,null,null,null,{"$f":"IF(referentes!AC1337=\"\",\"\",IF(referentes!AC1337=referentes!AH1337,CONCATENATE(referentes!AC1337,\" \",\" \",\" \",\" \"),IF(referentes!AC1337=referentes!AI1337,CONCATENATE(referentes!AH1337,\" \",referentes!AI1337,\" \",\" \"),CONCATENATE(referentes!AH1337,\" \",referentes!AI1337,\" \",referentes!AC1337))))","v":""},{"$f":"IF(referentes!AB1337=\"\",\"\",referentes!AB1337)","v":""}]
[null,null,null,null,null,null,null,null,null,null,null,null,null,null,null,{"$f":"IF(referentes!AC1338=\"\",\"\",IF(referentes!AC1338=referentes!AH1338,CONCATENATE(referentes!AC1338,\" \",\" \",\" \",\" \"),IF(referentes!AC1338=referentes!AI1338,CONCATENATE(referentes!AH1338,\" \",referentes!AI1338,\" \",\" \"),CONCATENATE(referentes!AH1338,\" \",referentes!AI1338,\" \",referentes!AC1338))))","v":""},{"$f":"IF(referentes!AB1338=\"\",\"\",referentes!AB1338)","v":""}]
[null,null,null,null,null,null,null,null,null,null,null,null,null,null,null,{"$f":"IF(referentes!AC1339=\"\",\"\",IF(referentes!AC1339=referentes!AH1339,CONCATENATE(referentes!AC1339,\" \",\" \",\" \",\" \"),IF(referentes!AC1339=referentes!AI1339,CONCATENATE(referentes!AH1339,\" \",referentes!AI1339,\" \",\" \"),CONCATENATE(referentes!AH1339,\" \",referentes!AI1339,\" \",referentes!AC1339))))","v":""},{"$f":"IF(referentes!AB1339=\"\",\"\",referentes!AB1339)","v":""}]
[null,null,null,null,null,null,null,null,null,null,null,null,null,null,null,{"$f":"IF(referentes!AC1340=\"\",\"\",IF(referentes!AC1340=referentes!AH1340,CONCATENATE(referentes!AC1340,\" \",\" \",\" \",\" \"),IF(referentes!AC1340=referentes!AI1340,CONCATENATE(referentes!AH1340,\" \",referentes!AI1340,\" \",\" \"),CONCATENATE(referentes!AH1340,\" \",referentes!AI1340,\" \",referentes!AC1340))))","v":""},{"$f":"IF(referentes!AB1340=\"\",\"\",referentes!AB1340)","v":""}]
[null,null,null,null,null,null,null,null,null,null,null,null,null,null,null,{"$f":"IF(referentes!AC1341=\"\",\"\",IF(referentes!AC1341=referentes!AH1341,CONCATENATE(referentes!AC1341,\" \",\" \",\" \",\" \"),IF(referentes!AC1341=referentes!AI1341,CONCATENATE(referentes!AH1341,\" \",referentes!AI1341,\" \",\" \"),CONCATENATE(referentes!AH1341,\" \",referentes!AI1341,\" \",referentes!AC1341))))","v":""},{"$f":"IF(referentes!AB1341=\"\",\"\",referentes!AB1341)","v":""}]
[null,null,null,null,null,null,null,null,null,null,null,null,null,null,null,{"$f":"IF(referentes!AC1342=\"\",\"\",IF(referentes!AC1342=referentes!AH1342,CONCATENATE(referentes!AC1342,\" \",\" \",\" \",\" \"),IF(referentes!AC1342=referentes!AI1342,CONCATENATE(referentes!AH1342,\" \",referentes!AI1342,\" \",\" \"),CONCATENATE(referentes!AH1342,\" \",referentes!AI1342,\" \",referentes!AC1342))))","v":""},{"$f":"IF(referentes!AB1342=\"\",\"\",referentes!AB1342)","v":""}]
[null,null,null,null,null,null,null,null,null,null,null,null,null,null,null,{"$f":"IF(referentes!AC1343=\"\",\"\",IF(referentes!AC1343=referentes!AH1343,CONCATENATE(referentes!AC1343,\" \",\" \",\" \",\" \"),IF(referentes!AC1343=referentes!AI1343,CONCATENATE(referentes!AH1343,\" \",referentes!AI1343,\" \",\" \"),CONCATENATE(referentes!AH1343,\" \",referentes!AI1343,\" \",referentes!AC1343))))","v":""},{"$f":"IF(referentes!AB1343=\"\",\"\",referentes!AB1343)","v":""}]
[null,null,null,null,null,null,null,null,null,null,null,null,null,null,null,{"$f":"IF(referentes!AC1344=\"\",\"\",IF(referentes!AC1344=referentes!AH1344,CONCATENATE(referentes!AC1344,\" \",\" \",\" \",\" \"),IF(referentes!AC1344=referentes!AI1344,CONCATENATE(referentes!AH1344,\" \",referentes!AI1344,\" \",\" \"),CONCATENATE(referentes!AH1344,\" \",referentes!AI1344,\" \",referentes!AC1344))))","v":""},{"$f":"IF(referentes!AB1344=\"\",\"\",referentes!AB1344)","v":""}]
[null,null,null,null,null,null,null,null,null,null,null,null,null,null,null,{"$f":"IF(referentes!AC1345=\"\",\"\",IF(referentes!AC1345=referentes!AH1345,CONCATENATE(referentes!AC1345,\" \",\" \",\" \",\" \"),IF(referentes!AC1345=referentes!AI1345,CONCATENATE(referentes!AH1345,\" \",referentes!AI1345,\" \",\" \"),CONCATENATE(referentes!AH1345,\" \",referentes!AI1345,\" \",referentes!AC1345))))","v":""},{"$f":"IF(referentes!AB1345=\"\",\"\",referentes!AB1345)","v":""}]
[null,null,null,null,null,null,null,null,null,null,null,null,null,null,null,{"$f":"IF(referentes!AC1346=\"\",\"\",IF(referentes!AC1346=referentes!AH1346,CONCATENATE(referentes!AC1346,\" \",\" \",\" \",\" \"),IF(referentes!AC1346=referentes!AI1346,CONCATENATE(referentes!AH1346,\" \",referentes!AI1346,\" \",\" \"),CONCATENATE(referentes!AH1346,\" \",referentes!AI1346,\" \",referentes!AC1346))))","v":""},{"$f":"IF(referentes!AB1346=\"\",\"\",referentes!AB1346)","v":""}]
[null,null,null,null,null,null,null,null,null,null,null,null,null,null,null,{"$f":"IF(referentes!AC1347=\"\",\"\",IF(referentes!AC1347=referentes!AH1347,CONCATENATE(referentes!AC1347,\" \",\" \",\" \",\" \"),IF(referentes!AC1347=referentes!AI1347,CONCATENATE(referentes!AH1347,\" \",referentes!AI1347,\" \",\" \"),CONCATENATE(referentes!AH1347,\" \",referentes!AI1347,\" \",referentes!AC1347))))","v":""},{"$f":"IF(referentes!AB1347=\"\",\"\",referentes!AB1347)","v":""}]
[null,null,null,null,null,null,null,null,null,null,null,null,null,null,null,{"$f":"IF(referentes!AC1348=\"\",\"\",IF(referentes!AC1348=referentes!AH1348,CONCATENATE(referentes!AC1348,\" \",\" \",\" \",\" \"),IF(referentes!AC1348=referentes!AI1348,CONCATENATE(referentes!AH1348,\" \",referentes!AI1348,\" \",\" \"),CONCATENATE(referentes!AH1348,\" \",referentes!AI1348,\" \",referentes!AC1348))))","v":""},{"$f":"IF(referentes!AB1348=\"\",\"\",referentes!AB1348)","v":""}]
[null,null,null,null,null,null,null,null,null,null,null,null,null,null,null,{"$f":"IF(referentes!AC1349=\"\",\"\",IF(referentes!AC1349=referentes!AH1349,CONCATENATE(referentes!AC1349,\" \",\" \",\" \",\" \"),IF(referentes!AC1349=referentes!AI1349,CONCATENATE(referentes!AH1349,\" \",referentes!AI1349,\" \",\" \"),CONCATENATE(referentes!AH1349,\" \",referentes!AI1349,\" \",referentes!AC1349))))","v":""},{"$f":"IF(referentes!AB1349=\"\",\"\",referentes!AB1349)","v":""}]
[null,null,null,null,null,null,null,null,null,null,null,null,null,null,null,{"$f":"IF(referentes!AC1350=\"\",\"\",IF(referentes!AC1350=referentes!AH1350,CONCATENATE(referentes!AC1350,\" \",\" \",\" \",\" \"),IF(referentes!AC1350=referentes!AI1350,CONCATENATE(referentes!AH1350,\" \",referentes!AI1350,\" \",\" \"),CONCATENATE(referentes!AH1350,\" \",referentes!AI1350,\" \",referentes!AC1350))))","v":""},{"$f":"IF(referentes!AB1350=\"\",\"\",referentes!AB1350)","v":""}]
[null,null,null,null,null,null,null,null,null,null,null,null,null,null,null,{"$f":"IF(referentes!AC1351=\"\",\"\",IF(referentes!AC1351=referentes!AH1351,CONCATENATE(referentes!AC1351,\" \",\" \",\" \",\" \"),IF(referentes!AC1351=referentes!AI1351,CONCATENATE(referentes!AH1351,\" \",referentes!AI1351,\" \",\" \"),CONCATENATE(referentes!AH1351,\" \",referentes!AI1351,\" \",referentes!AC1351))))","v":""},{"$f":"IF(referentes!AB1351=\"\",\"\",referentes!AB1351)","v":""}]
[null,null,null,null,null,null,null,null,null,null,null,null,null,null,null,{"$f":"IF(referentes!AC1352=\"\",\"\",IF(referentes!AC1352=referentes!AH1352,CONCATENATE(referentes!AC1352,\" \",\" \",\" \",\" \"),IF(referentes!AC1352=referentes!AI1352,CONCATENATE(referentes!AH1352,\" \",referentes!AI1352,\" \",\" \"),CONCATENATE(referentes!AH1352,\" \",referentes!AI1352,\" \",referentes!AC1352))))","v":""},{"$f":"IF(referentes!AB1352=\"\",\"\",referentes!AB1352)","v":""}]
[null,null,null,null,null,null,null,null,null,null,null,null,null,null,null,{"$f":"IF(referentes!AC1353=\"\",\"\",IF(referentes!AC1353=referentes!AH1353,CONCATENATE(referentes!AC1353,\" \",\" \",\" \",\" \"),IF(referentes!AC1353=referentes!AI1353,CONCATENATE(referentes!AH1353,\" \",referentes!AI1353,\" \",\" \"),CONCATENATE(referentes!AH1353,\" \",referentes!AI1353,\" \",referentes!AC1353))))","v":""},{"$f":"IF(referentes!AB1353=\"\",\"\",referentes!AB1353)","v":""}]
[null,null,null,null,null,null,null,null,null,null,null,null,null,null,null,{"$f":"IF(referentes!AC1354=\"\",\"\",IF(referentes!AC1354=referentes!AH1354,CONCATENATE(referentes!AC1354,\" \",\" \",\" \",\" \"),IF(referentes!AC1354=referentes!AI1354,CONCATENATE(referentes!AH1354,\" \",referentes!AI1354,\" \",\" \"),CONCATENATE(referentes!AH1354,\" \",referentes!AI1354,\" \",referentes!AC1354))))","v":""},{"$f":"IF(referentes!AB1354=\"\",\"\",referentes!AB1354)","v":""}]
[null,null,null,null,null,null,null,null,null,null,null,null,null,null,null,{"$f":"IF(referentes!AC1355=\"\",\"\",IF(referentes!AC1355=referentes!AH1355,CONCATENATE(referentes!AC1355,\" \",\" \",\" \",\" \"),IF(referentes!AC1355=referentes!AI1355,CONCATENATE(referentes!AH1355,\" \",referentes!AI1355,\" \",\" \"),CONCATENATE(referentes!AH1355,\" \",referentes!AI1355,\" \",referentes!AC1355))))","v":""},{"$f":"IF(referentes!AB1355=\"\",\"\",referentes!AB1355)","v":""}]
[null,null,null,null,null,null,null,null,null,null,null,null,null,null,null,{"$f":"IF(referentes!AC1356=\"\",\"\",IF(referentes!AC1356=referentes!AH1356,CONCATENATE(referentes!AC1356,\" \",\" \",\" \",\" \"),IF(referentes!AC1356=referentes!AI1356,CONCATENATE(referentes!AH1356,\" \",referentes!AI1356,\" \",\" \"),CONCATENATE(referentes!AH1356,\" \",referentes!AI1356,\" \",referentes!AC1356))))","v":""},{"$f":"IF(referentes!AB1356=\"\",\"\",referentes!AB1356)","v":""}]
[null,null,null,null,null,null,null,null,null,null,null,null,null,null,null,{"$f":"IF(referentes!AC1357=\"\",\"\",IF(referentes!AC1357=referentes!AH1357,CONCATENATE(referentes!AC1357,\" \",\" \",\" \",\" \"),IF(referentes!AC1357=referentes!AI1357,CONCATENATE(referentes!AH1357,\" \",referentes!AI1357,\" \",\" \"),CONCATENATE(referentes!AH1357,\" \",referentes!AI1357,\" \",referentes!AC1357))))","v":""},{"$f":"IF(referentes!AB1357=\"\",\"\",referentes!AB1357)","v":""}]
[null,null,null,null,null,null,null,null,null,null,null,null,null,null,null,{"$f":"IF(referentes!AC1358=\"\",\"\",IF(referentes!AC1358=referentes!AH1358,CONCATENATE(referentes!AC1358,\" \",\" \",\" \",\" \"),IF(referentes!AC1358=referentes!AI1358,CONCATENATE(referentes!AH1358,\" \",referentes!AI1358,\" \",\" \"),CONCATENATE(referentes!AH1358,\" \",referentes!AI1358,\" \",referentes!AC1358))))","v":""},{"$f":"IF(referentes!AB1358=\"\",\"\",referentes!AB1358)","v":""}]
[null,null,null,null,null,null,null,null,null,null,null,null,null,null,null,{"$f":"IF(referentes!AC1359=\"\",\"\",IF(referentes!AC1359=referentes!AH1359,CONCATENATE(referentes!AC1359,\" \",\" \",\" \",\" \"),IF(referentes!AC1359=referentes!AI1359,CONCATENATE(referentes!AH1359,\" \",referentes!AI1359,\" \",\" \"),CONCATENATE(referentes!AH1359,\" \",referentes!AI1359,\" \",referentes!AC1359))))","v":""},{"$f":"IF(referentes!AB1359=\"\",\"\",referentes!AB1359)","v":""}]
[null,null,null,null,null,null,null,null,null,null,null,null,null,null,null,{"$f":"IF(referentes!AC1360=\"\",\"\",IF(referentes!AC1360=referentes!AH1360,CONCATENATE(referentes!AC1360,\" \",\" \",\" \",\" \"),IF(referentes!AC1360=referentes!AI1360,CONCATENATE(referentes!AH1360,\" \",referentes!AI1360,\" \",\" \"),CONCATENATE(referentes!AH1360,\" \",referentes!AI1360,\" \",referentes!AC1360))))","v":""},{"$f":"IF(referentes!AB1360=\"\",\"\",referentes!AB1360)","v":""}]
[null,null,null,null,null,null,null,null,null,null,null,null,null,null,null,{"$f":"IF(referentes!AC1361=\"\",\"\",IF(referentes!AC1361=referentes!AH1361,CONCATENATE(referentes!AC1361,\" \",\" \",\" \",\" \"),IF(referentes!AC1361=referentes!AI1361,CONCATENATE(referentes!AH1361,\" \",referentes!AI1361,\" \",\" \"),CONCATENATE(referentes!AH1361,\" \",referentes!AI1361,\" \",referentes!AC1361))))","v":""},{"$f":"IF(referentes!AB1361=\"\",\"\",referentes!AB1361)","v":""}]
[null,null,null,null,null,null,null,null,null,null,null,null,null,null,null,{"$f":"IF(referentes!AC1362=\"\",\"\",IF(referentes!AC1362=referentes!AH1362,CONCATENATE(referentes!AC1362,\" \",\" \",\" \",\" \"),IF(referentes!AC1362=referentes!AI1362,CONCATENATE(referentes!AH1362,\" \",referentes!AI1362,\" \",\" \"),CONCATENATE(referentes!AH1362,\" \",referentes!AI1362,\" \",referentes!AC1362))))","v":""},{"$f":"IF(referentes!AB1362=\"\",\"\",referentes!AB1362)","v":""}]
[null,null,null,null,null,null,null,null,null,null,null,null,null,null,null,{"$f":"IF(referentes!AC1363=\"\",\"\",IF(referentes!AC1363=referentes!AH1363,CONCATENATE(referentes!AC1363,\" \",\" \",\" \",\" \"),IF(referentes!AC1363=referentes!AI1363,CONCATENATE(referentes!AH1363,\" \",referentes!AI1363,\" \",\" \"),CONCATENATE(referentes!AH1363,\" \",referentes!AI1363,\" \",referentes!AC1363))))","v":""},{"$f":"IF(referentes!AB1363=\"\",\"\",referentes!AB1363)","v":""}]
[null,null,null,null,null,null,null,null,null,null,null,null,null,null,null,{"$f":"IF(referentes!AC1364=\"\",\"\",IF(referentes!AC1364=referentes!AH1364,CONCATENATE(referentes!AC1364,\" \",\" \",\" \",\" \"),IF(referentes!AC1364=referentes!AI1364,CONCATENATE(referentes!AH1364,\" \",referentes!AI1364,\" \",\" \"),CONCATENATE(referentes!AH1364,\" \",referentes!AI1364,\" \",referentes!AC1364))))","v":""},{"$f":"IF(referentes!AB1364=\"\",\"\",referentes!AB1364)","v":""}]
[null,null,null,null,null,null,null,null,null,null,null,null,null,null,null,{"$f":"IF(referentes!AC1365=\"\",\"\",IF(referentes!AC1365=referentes!AH1365,CONCATENATE(referentes!AC1365,\" \",\" \",\" \",\" \"),IF(referentes!AC1365=referentes!AI1365,CONCATENATE(referentes!AH1365,\" \",referentes!AI1365,\" \",\" \"),CONCATENATE(referentes!AH1365,\" \",referentes!AI1365,\" \",referentes!AC1365))))","v":""},{"$f":"IF(referentes!AB1365=\"\",\"\",referentes!AB1365)","v":""}]
[null,null,null,null,null,null,null,null,null,null,null,null,null,null,null,{"$f":"IF(referentes!AC1366=\"\",\"\",IF(referentes!AC1366=referentes!AH1366,CONCATENATE(referentes!AC1366,\" \",\" \",\" \",\" \"),IF(referentes!AC1366=referentes!AI1366,CONCATENATE(referentes!AH1366,\" \",referentes!AI1366,\" \",\" \"),CONCATENATE(referentes!AH1366,\" \",referentes!AI1366,\" \",referentes!AC1366))))","v":""},{"$f":"IF(referentes!AB1366=\"\",\"\",referentes!AB1366)","v":""}]
[null,null,null,null,null,null,null,null,null,null,null,null,null,null,null,{"$f":"IF(referentes!AC1367=\"\",\"\",IF(referentes!AC1367=referentes!AH1367,CONCATENATE(referentes!AC1367,\" \",\" \",\" \",\" \"),IF(referentes!AC1367=referentes!AI1367,CONCATENATE(referentes!AH1367,\" \",referentes!AI1367,\" \",\" \"),CONCATENATE(referentes!AH1367,\" \",referentes!AI1367,\" \",referentes!AC1367))))","v":""},{"$f":"IF(referentes!AB1367=\"\",\"\",referentes!AB1367)","v":""}]
[null,null,null,null,null,null,null,null,null,null,null,null,null,null,null,{"$f":"IF(referentes!AC1368=\"\",\"\",IF(referentes!AC1368=referentes!AH1368,CONCATENATE(referentes!AC1368,\" \",\" \",\" \",\" \"),IF(referentes!AC1368=referentes!AI1368,CONCATENATE(referentes!AH1368,\" \",referentes!AI1368,\" \",\" \"),CONCATENATE(referentes!AH1368,\" \",referentes!AI1368,\" \",referentes!AC1368))))","v":""},{"$f":"IF(referentes!AB1368=\"\",\"\",referentes!AB1368)","v":""}]
[null,null,null,null,null,null,null,null,null,null,null,null,null,null,null,{"$f":"IF(referentes!AC1369=\"\",\"\",IF(referentes!AC1369=referentes!AH1369,CONCATENATE(referentes!AC1369,\" \",\" \",\" \",\" \"),IF(referentes!AC1369=referentes!AI1369,CONCATENATE(referentes!AH1369,\" \",referentes!AI1369,\" \",\" \"),CONCATENATE(referentes!AH1369,\" \",referentes!AI1369,\" \",referentes!AC1369))))","v":""},{"$f":"IF(referentes!AB1369=\"\",\"\",referentes!AB1369)","v":""}]
[null,null,null,null,null,null,null,null,null,null,null,null,null,null,null,{"$f":"IF(referentes!AC1370=\"\",\"\",IF(referentes!AC1370=referentes!AH1370,CONCATENATE(referentes!AC1370,\" \",\" \",\" \",\" \"),IF(referentes!AC1370=referentes!AI1370,CONCATENATE(referentes!AH1370,\" \",referentes!AI1370,\" \",\" \"),CONCATENATE(referentes!AH1370,\" \",referentes!AI1370,\" \",referentes!AC1370))))","v":""},{"$f":"IF(referentes!AB1370=\"\",\"\",referentes!AB1370)","v":""}]
[null,null,null,null,null,null,null,null,null,null,null,null,null,null,null,{"$f":"IF(referentes!AC1371=\"\",\"\",IF(referentes!AC1371=referentes!AH1371,CONCATENATE(referentes!AC1371,\" \",\" \",\" \",\" \"),IF(referentes!AC1371=referentes!AI1371,CONCATENATE(referentes!AH1371,\" \",referentes!AI1371,\" \",\" \"),CONCATENATE(referentes!AH1371,\" \",referentes!AI1371,\" \",referentes!AC1371))))","v":""},{"$f":"IF(referentes!AB1371=\"\",\"\",referentes!AB1371)","v":""}]
[null,null,null,null,null,null,null,null,null,null,null,null,null,null,null,{"$f":"IF(referentes!AC1372=\"\",\"\",IF(referentes!AC1372=referentes!AH1372,CONCATENATE(referentes!AC1372,\" \",\" \",\" \",\" \"),IF(referentes!AC1372=referentes!AI1372,CONCATENATE(referentes!AH1372,\" \",referentes!AI1372,\" \",\" \"),CONCATENATE(referentes!AH1372,\" \",referentes!AI1372,\" \",referentes!AC1372))))","v":""},{"$f":"IF(referentes!AB1372=\"\",\"\",referentes!AB1372)","v":""}]
[null,null,null,null,null,null,null,null,null,null,null,null,null,null,null,{"$f":"IF(referentes!AC1373=\"\",\"\",IF(referentes!AC1373=referentes!AH1373,CONCATENATE(referentes!AC1373,\" \",\" \",\" \",\" \"),IF(referentes!AC1373=referentes!AI1373,CONCATENATE(referentes!AH1373,\" \",referentes!AI1373,\" \",\" \"),CONCATENATE(referentes!AH1373,\" \",referentes!AI1373,\" \",referentes!AC1373))))","v":""},{"$f":"IF(referentes!AB1373=\"\",\"\",referentes!AB1373)","v":""}]
[null,null,null,null,null,null,null,null,null,null,null,null,null,null,null,{"$f":"IF(referentes!AC1374=\"\",\"\",IF(referentes!AC1374=referentes!AH1374,CONCATENATE(referentes!AC1374,\" \",\" \",\" \",\" \"),IF(referentes!AC1374=referentes!AI1374,CONCATENATE(referentes!AH1374,\" \",referentes!AI1374,\" \",\" \"),CONCATENATE(referentes!AH1374,\" \",referentes!AI1374,\" \",referentes!AC1374))))","v":""},{"$f":"IF(referentes!AB1374=\"\",\"\",referentes!AB1374)","v":""}]
[null,null,null,null,null,null,null,null,null,null,null,null,null,null,null,{"$f":"IF(referentes!AC1375=\"\",\"\",IF(referentes!AC1375=referentes!AH1375,CONCATENATE(referentes!AC1375,\" \",\" \",\" \",\" \"),IF(referentes!AC1375=referentes!AI1375,CONCATENATE(referentes!AH1375,\" \",referentes!AI1375,\" \",\" \"),CONCATENATE(referentes!AH1375,\" \",referentes!AI1375,\" \",referentes!AC1375))))","v":""},{"$f":"IF(referentes!AB1375=\"\",\"\",referentes!AB1375)","v":""}]
[null,null,null,null,null,null,null,null,null,null,null,null,null,null,null,{"$f":"IF(referentes!AC1376=\"\",\"\",IF(referentes!AC1376=referentes!AH1376,CONCATENATE(referentes!AC1376,\" \",\" \",\" \",\" \"),IF(referentes!AC1376=referentes!AI1376,CONCATENATE(referentes!AH1376,\" \",referentes!AI1376,\" \",\" \"),CONCATENATE(referentes!AH1376,\" \",referentes!AI1376,\" \",referentes!AC1376))))","v":""},{"$f":"IF(referentes!AB1376=\"\",\"\",referentes!AB1376)","v":""}]
[null,null,null,null,null,null,null,null,null,null,null,null,null,null,null,{"$f":"IF(referentes!AC1377=\"\",\"\",IF(referentes!AC1377=referentes!AH1377,CONCATENATE(referentes!AC1377,\" \",\" \",\" \",\" \"),IF(referentes!AC1377=referentes!AI1377,CONCATENATE(referentes!AH1377,\" \",referentes!AI1377,\" \",\" \"),CONCATENATE(referentes!AH1377,\" \",referentes!AI1377,\" \",referentes!AC1377))))","v":""},{"$f":"IF(referentes!AB1377=\"\",\"\",referentes!AB1377)","v":""}]
[null,null,null,null,null,null,null,null,null,null,null,null,null,null,null,{"$f":"IF(referentes!AC1378=\"\",\"\",IF(referentes!AC1378=referentes!AH1378,CONCATENATE(referentes!AC1378,\" \",\" \",\" \",\" \"),IF(referentes!AC1378=referentes!AI1378,CONCATENATE(referentes!AH1378,\" \",referentes!AI1378,\" \",\" \"),CONCATENATE(referentes!AH1378,\" \",referentes!AI1378,\" \",referentes!AC1378))))","v":""},{"$f":"IF(referentes!AB1378=\"\",\"\",referentes!AB1378)","v":""}]
[null,null,null,null,null,null,null,null,null,null,null,null,null,null,null,{"$f":"IF(referentes!AC1379=\"\",\"\",IF(referentes!AC1379=referentes!AH1379,CONCATENATE(referentes!AC1379,\" \",\" \",\" \",\" \"),IF(referentes!AC1379=referentes!AI1379,CONCATENATE(referentes!AH1379,\" \",referentes!AI1379,\" \",\" \"),CONCATENATE(referentes!AH1379,\" \",referentes!AI1379,\" \",referentes!AC1379))))","v":""},{"$f":"IF(referentes!AB1379=\"\",\"\",referentes!AB1379)","v":""}]
[null,null,null,null,null,null,null,null,null,null,null,null,null,null,null,{"$f":"IF(referentes!AC1380=\"\",\"\",IF(referentes!AC1380=referentes!AH1380,CONCATENATE(referentes!AC1380,\" \",\" \",\" \",\" \"),IF(referentes!AC1380=referentes!AI1380,CONCATENATE(referentes!AH1380,\" \",referentes!AI1380,\" \",\" \"),CONCATENATE(referentes!AH1380,\" \",referentes!AI1380,\" \",referentes!AC1380))))","v":""},{"$f":"IF(referentes!AB1380=\"\",\"\",referentes!AB1380)","v":""}]
[null,null,null,null,null,null,null,null,null,null,null,null,null,null,null,{"$f":"IF(referentes!AC1381=\"\",\"\",IF(referentes!AC1381=referentes!AH1381,CONCATENATE(referentes!AC1381,\" \",\" \",\" \",\" \"),IF(referentes!AC1381=referentes!AI1381,CONCATENATE(referentes!AH1381,\" \",referentes!AI1381,\" \",\" \"),CONCATENATE(referentes!AH1381,\" \",referentes!AI1381,\" \",referentes!AC1381))))","v":""},{"$f":"IF(referentes!AB1381=\"\",\"\",referentes!AB1381)","v":""}]
[null,null,null,null,null,null,null,null,null,null,null,null,null,null,null,{"$f":"IF(referentes!AC1382=\"\",\"\",IF(referentes!AC1382=referentes!AH1382,CONCATENATE(referentes!AC1382,\" \",\" \",\" \",\" \"),IF(referentes!AC1382=referentes!AI1382,CONCATENATE(referentes!AH1382,\" \",referentes!AI1382,\" \",\" \"),CONCATENATE(referentes!AH1382,\" \",referentes!AI1382,\" \",referentes!AC1382))))","v":""},{"$f":"IF(referentes!AB1382=\"\",\"\",referentes!AB1382)","v":""}]
[null,null,null,null,null,null,null,null,null,null,null,null,null,null,null,{"$f":"IF(referentes!AC1383=\"\",\"\",IF(referentes!AC1383=referentes!AH1383,CONCATENATE(referentes!AC1383,\" \",\" \",\" \",\" \"),IF(referentes!AC1383=referentes!AI1383,CONCATENATE(referentes!AH1383,\" \",referentes!AI1383,\" \",\" \"),CONCATENATE(referentes!AH1383,\" \",referentes!AI1383,\" \",referentes!AC1383))))","v":""},{"$f":"IF(referentes!AB1383=\"\",\"\",referentes!AB1383)","v":""}]
[null,null,null,null,null,null,null,null,null,null,null,null,null,null,null,{"$f":"IF(referentes!AC1384=\"\",\"\",IF(referentes!AC1384=referentes!AH1384,CONCATENATE(referentes!AC1384,\" \",\" \",\" \",\" \"),IF(referentes!AC1384=referentes!AI1384,CONCATENATE(referentes!AH1384,\" \",referentes!AI1384,\" \",\" \"),CONCATENATE(referentes!AH1384,\" \",referentes!AI1384,\" \",referentes!AC1384))))","v":""},{"$f":"IF(referentes!AB1384=\"\",\"\",referentes!AB1384)","v":""}]
[null,null,null,null,null,null,null,null,null,null,null,null,null,null,null,{"$f":"IF(referentes!AC1385=\"\",\"\",IF(referentes!AC1385=referentes!AH1385,CONCATENATE(referentes!AC1385,\" \",\" \",\" \",\" \"),IF(referentes!AC1385=referentes!AI1385,CONCATENATE(referentes!AH1385,\" \",referentes!AI1385,\" \",\" \"),CONCATENATE(referentes!AH1385,\" \",referentes!AI1385,\" \",referentes!AC1385))))","v":""},{"$f":"IF(referentes!AB1385=\"\",\"\",referentes!AB1385)","v":""}]
[null,null,null,null,null,null,null,null,null,null,null,null,null,null,null,{"$f":"IF(referentes!AC1386=\"\",\"\",IF(referentes!AC1386=referentes!AH1386,CONCATENATE(referentes!AC1386,\" \",\" \",\" \",\" \"),IF(referentes!AC1386=referentes!AI1386,CONCATENATE(referentes!AH1386,\" \",referentes!AI1386,\" \",\" \"),CONCATENATE(referentes!AH1386,\" \",referentes!AI1386,\" \",referentes!AC1386))))","v":""},{"$f":"IF(referentes!AB1386=\"\",\"\",referentes!AB1386)","v":""}]
[null,null,null,null,null,null,null,null,null,null,null,null,null,null,null,{"$f":"IF(referentes!AC1387=\"\",\"\",IF(referentes!AC1387=referentes!AH1387,CONCATENATE(referentes!AC1387,\" \",\" \",\" \",\" \"),IF(referentes!AC1387=referentes!AI1387,CONCATENATE(referentes!AH1387,\" \",referentes!AI1387,\" \",\" \"),CONCATENATE(referentes!AH1387,\" \",referentes!AI1387,\" \",referentes!AC1387))))","v":""},{"$f":"IF(referentes!AB1387=\"\",\"\",referentes!AB1387)","v":""}]
[null,null,null,null,null,null,null,null,null,null,null,null,null,null,null,{"$f":"IF(referentes!AC1388=\"\",\"\",IF(referentes!AC1388=referentes!AH1388,CONCATENATE(referentes!AC1388,\" \",\" \",\" \",\" \"),IF(referentes!AC1388=referentes!AI1388,CONCATENATE(referentes!AH1388,\" \",referentes!AI1388,\" \",\" \"),CONCATENATE(referentes!AH1388,\" \",referentes!AI1388,\" \",referentes!AC1388))))","v":""},{"$f":"IF(referentes!AB1388=\"\",\"\",referentes!AB1388)","v":""}]
[null,null,null,null,null,null,null,null,null,null,null,null,null,null,null,{"$f":"IF(referentes!AC1389=\"\",\"\",IF(referentes!AC1389=referentes!AH1389,CONCATENATE(referentes!AC1389,\" \",\" \",\" \",\" \"),IF(referentes!AC1389=referentes!AI1389,CONCATENATE(referentes!AH1389,\" \",referentes!AI1389,\" \",\" \"),CONCATENATE(referentes!AH1389,\" \",referentes!AI1389,\" \",referentes!AC1389))))","v":""},{"$f":"IF(referentes!AB1389=\"\",\"\",referentes!AB1389)","v":""}]
[null,null,null,null,null,null,null,null,null,null,null,null,null,null,null,{"$f":"IF(referentes!AC1390=\"\",\"\",IF(referentes!AC1390=referentes!AH1390,CONCATENATE(referentes!AC1390,\" \",\" \",\" \",\" \"),IF(referentes!AC1390=referentes!AI1390,CONCATENATE(referentes!AH1390,\" \",referentes!AI1390,\" \",\" \"),CONCATENATE(referentes!AH1390,\" \",referentes!AI1390,\" \",referentes!AC1390))))","v":""},{"$f":"IF(referentes!AB1390=\"\",\"\",referentes!AB1390)","v":""}]
[null,null,null,null,null,null,null,null,null,null,null,null,null,null,null,{"$f":"IF(referentes!AC1391=\"\",\"\",IF(referentes!AC1391=referentes!AH1391,CONCATENATE(referentes!AC1391,\" \",\" \",\" \",\" \"),IF(referentes!AC1391=referentes!AI1391,CONCATENATE(referentes!AH1391,\" \",referentes!AI1391,\" \",\" \"),CONCATENATE(referentes!AH1391,\" \",referentes!AI1391,\" \",referentes!AC1391))))","v":""},{"$f":"IF(referentes!AB1391=\"\",\"\",referentes!AB1391)","v":""}]
[null,null,null,null,null,null,null,null,null,null,null,null,null,null,null,{"$f":"IF(referentes!AC1392=\"\",\"\",IF(referentes!AC1392=referentes!AH1392,CONCATENATE(referentes!AC1392,\" \",\" \",\" \",\" \"),IF(referentes!AC1392=referentes!AI1392,CONCATENATE(referentes!AH1392,\" \",referentes!AI1392,\" \",\" \"),CONCATENATE(referentes!AH1392,\" \",referentes!AI1392,\" \",referentes!AC1392))))","v":""},{"$f":"IF(referentes!AB1392=\"\",\"\",referentes!AB1392)","v":""}]
[null,null,null,null,null,null,null,null,null,null,null,null,null,null,null,{"$f":"IF(referentes!AC1393=\"\",\"\",IF(referentes!AC1393=referentes!AH1393,CONCATENATE(referentes!AC1393,\" \",\" \",\" \",\" \"),IF(referentes!AC1393=referentes!AI1393,CONCATENATE(referentes!AH1393,\" \",referentes!AI1393,\" \",\" \"),CONCATENATE(referentes!AH1393,\" \",referentes!AI1393,\" \",referentes!AC1393))))","v":""},{"$f":"IF(referentes!AB1393=\"\",\"\",referentes!AB1393)","v":""}]
[null,null,null,null,null,null,null,null,null,null,null,null,null,null,null,{"$f":"IF(referentes!AC1394=\"\",\"\",IF(referentes!AC1394=referentes!AH1394,CONCATENATE(referentes!AC1394,\" \",\" \",\" \",\" \"),IF(referentes!AC1394=referentes!AI1394,CONCATENATE(referentes!AH1394,\" \",referentes!AI1394,\" \",\" \"),CONCATENATE(referentes!AH1394,\" \",referentes!AI1394,\" \",referentes!AC1394))))","v":""},{"$f":"IF(referentes!AB1394=\"\",\"\",referentes!AB1394)","v":""}]
[null,null,null,null,null,null,null,null,null,null,null,null,null,null,null,{"$f":"IF(referentes!AC1395=\"\",\"\",IF(referentes!AC1395=referentes!AH1395,CONCATENATE(referentes!AC1395,\" \",\" \",\" \",\" \"),IF(referentes!AC1395=referentes!AI1395,CONCATENATE(referentes!AH1395,\" \",referentes!AI1395,\" \",\" \"),CONCATENATE(referentes!AH1395,\" \",referentes!AI1395,\" \",referentes!AC1395))))","v":""},{"$f":"IF(referentes!AB1395=\"\",\"\",referentes!AB1395)","v":""}]
[null,null,null,null,null,null,null,null,null,null,null,null,null,null,null,{"$f":"IF(referentes!AC1396=\"\",\"\",IF(referentes!AC1396=referentes!AH1396,CONCATENATE(referentes!AC1396,\" \",\" \",\" \",\" \"),IF(referentes!AC1396=referentes!AI1396,CONCATENATE(referentes!AH1396,\" \",referentes!AI1396,\" \",\" \"),CONCATENATE(referentes!AH1396,\" \",referentes!AI1396,\" \",referentes!AC1396))))","v":""},{"$f":"IF(referentes!AB1396=\"\",\"\",referentes!AB1396)","v":""}]
[null,null,null,null,null,null,null,null,null,null,null,null,null,null,null,{"$f":"IF(referentes!AC1397=\"\",\"\",IF(referentes!AC1397=referentes!AH1397,CONCATENATE(referentes!AC1397,\" \",\" \",\" \",\" \"),IF(referentes!AC1397=referentes!AI1397,CONCATENATE(referentes!AH1397,\" \",referentes!AI1397,\" \",\" \"),CONCATENATE(referentes!AH1397,\" \",referentes!AI1397,\" \",referentes!AC1397))))","v":""},{"$f":"IF(referentes!AB1397=\"\",\"\",referentes!AB1397)","v":""}]
[null,null,null,null,null,null,null,null,null,null,null,null,null,null,null,{"$f":"IF(referentes!AC1398=\"\",\"\",IF(referentes!AC1398=referentes!AH1398,CONCATENATE(referentes!AC1398,\" \",\" \",\" \",\" \"),IF(referentes!AC1398=referentes!AI1398,CONCATENATE(referentes!AH1398,\" \",referentes!AI1398,\" \",\" \"),CONCATENATE(referentes!AH1398,\" \",referentes!AI1398,\" \",referentes!AC1398))))","v":""},{"$f":"IF(referentes!AB1398=\"\",\"\",referentes!AB1398)","v":""}]
[null,null,null,null,null,null,null,null,null,null,null,null,null,null,null,{"$f":"IF(referentes!AC1399=\"\",\"\",IF(referentes!AC1399=referentes!AH1399,CONCATENATE(referentes!AC1399,\" \",\" \",\" \",\" \"),IF(referentes!AC1399=referentes!AI1399,CONCATENATE(referentes!AH1399,\" \",referentes!AI1399,\" \",\" \"),CONCATENATE(referentes!AH1399,\" \",referentes!AI1399,\" \",referentes!AC1399))))","v":""},{"$f":"IF(referentes!AB1399=\"\",\"\",referentes!AB1399)","v":""}]
[null,null,null,null,null,null,null,null,null,null,null,null,null,null,null,{"$f":"IF(referentes!AC1400=\"\",\"\",IF(referentes!AC1400=referentes!AH1400,CONCATENATE(referentes!AC1400,\" \",\" \",\" \",\" \"),IF(referentes!AC1400=referentes!AI1400,CONCATENATE(referentes!AH1400,\" \",referentes!AI1400,\" \",\" \"),CONCATENATE(referentes!AH1400,\" \",referentes!AI1400,\" \",referentes!AC1400))))","v":""},{"$f":"IF(referentes!AB1400=\"\",\"\",referentes!AB1400)","v":""}]
[null,null,null,null,null,null,null,null,null,null,null,null,null,null,null,{"$f":"IF(referentes!AC1401=\"\",\"\",IF(referentes!AC1401=referentes!AH1401,CONCATENATE(referentes!AC1401,\" \",\" \",\" \",\" \"),IF(referentes!AC1401=referentes!AI1401,CONCATENATE(referentes!AH1401,\" \",referentes!AI1401,\" \",\" \"),CONCATENATE(referentes!AH1401,\" \",referentes!AI1401,\" \",referentes!AC1401))))","v":""},{"$f":"IF(referentes!AB1401=\"\",\"\",referentes!AB1401)","v":""}]
[null,null,null,null,null,null,null,null,null,null,null,null,null,null,null,{"$f":"IF(referentes!AC1402=\"\",\"\",IF(referentes!AC1402=referentes!AH1402,CONCATENATE(referentes!AC1402,\" \",\" \",\" \",\" \"),IF(referentes!AC1402=referentes!AI1402,CONCATENATE(referentes!AH1402,\" \",referentes!AI1402,\" \",\" \"),CONCATENATE(referentes!AH1402,\" \",referentes!AI1402,\" \",referentes!AC1402))))","v":""},{"$f":"IF(referentes!AB1402=\"\",\"\",referentes!AB1402)","v":""}]
[null,null,null,null,null,null,null,null,null,null,null,null,null,null,null,{"$f":"IF(referentes!AC1403=\"\",\"\",IF(referentes!AC1403=referentes!AH1403,CONCATENATE(referentes!AC1403,\" \",\" \",\" \",\" \"),IF(referentes!AC1403=referentes!AI1403,CONCATENATE(referentes!AH1403,\" \",referentes!AI1403,\" \",\" \"),CONCATENATE(referentes!AH1403,\" \",referentes!AI1403,\" \",referentes!AC1403))))","v":""},{"$f":"IF(referentes!AB1403=\"\",\"\",referentes!AB1403)","v":""}]
[null,null,null,null,null,null,null,null,null,null,null,null,null,null,null,{"$f":"IF(referentes!AC1404=\"\",\"\",IF(referentes!AC1404=referentes!AH1404,CONCATENATE(referentes!AC1404,\" \",\" \",\" \",\" \"),IF(referentes!AC1404=referentes!AI1404,CONCATENATE(referentes!AH1404,\" \",referentes!AI1404,\" \",\" \"),CONCATENATE(referentes!AH1404,\" \",referentes!AI1404,\" \",referentes!AC1404))))","v":""},{"$f":"IF(referentes!AB1404=\"\",\"\",referentes!AB1404)","v":""}]
[null,null,null,null,null,null,null,null,null,null,null,null,null,null,null,{"$f":"IF(referentes!AC1405=\"\",\"\",IF(referentes!AC1405=referentes!AH1405,CONCATENATE(referentes!AC1405,\" \",\" \",\" \",\" \"),IF(referentes!AC1405=referentes!AI1405,CONCATENATE(referentes!AH1405,\" \",referentes!AI1405,\" \",\" \"),CONCATENATE(referentes!AH1405,\" \",referentes!AI1405,\" \",referentes!AC1405))))","v":""},{"$f":"IF(referentes!AB1405=\"\",\"\",referentes!AB1405)","v":""}]
[null,null,null,null,null,null,null,null,null,null,null,null,null,null,null,{"$f":"IF(referentes!AC1406=\"\",\"\",IF(referentes!AC1406=referentes!AH1406,CONCATENATE(referentes!AC1406,\" \",\" \",\" \",\" \"),IF(referentes!AC1406=referentes!AI1406,CONCATENATE(referentes!AH1406,\" \",referentes!AI1406,\" \",\" \"),CONCATENATE(referentes!AH1406,\" \",referentes!AI1406,\" \",referentes!AC1406))))","v":""},{"$f":"IF(referentes!AB1406=\"\",\"\",referentes!AB1406)","v":""}]
[null,null,null,null,null,null,null,null,null,null,null,null,null,null,null,{"$f":"IF(referentes!AC1407=\"\",\"\",IF(referentes!AC1407=referentes!AH1407,CONCATENATE(referentes!AC1407,\" \",\" \",\" \",\" \"),IF(referentes!AC1407=referentes!AI1407,CONCATENATE(referentes!AH1407,\" \",referentes!AI1407,\" \",\" \"),CONCATENATE(referentes!AH1407,\" \",referentes!AI1407,\" \",referentes!AC1407))))","v":""},{"$f":"IF(referentes!AB1407=\"\",\"\",referentes!AB1407)","v":""}]
[null,null,null,null,null,null,null,null,null,null,null,null,null,null,null,{"$f":"IF(referentes!AC1408=\"\",\"\",IF(referentes!AC1408=referentes!AH1408,CONCATENATE(referentes!AC1408,\" \",\" \",\" \",\" \"),IF(referentes!AC1408=referentes!AI1408,CONCATENATE(referentes!AH1408,\" \",referentes!AI1408,\" \",\" \"),CONCATENATE(referentes!AH1408,\" \",referentes!AI1408,\" \",referentes!AC1408))))","v":""},{"$f":"IF(referentes!AB1408=\"\",\"\",referentes!AB1408)","v":""}]
[null,null,null,null,null,null,null,null,null,null,null,null,null,null,null,{"$f":"IF(referentes!AC1409=\"\",\"\",IF(referentes!AC1409=referentes!AH1409,CONCATENATE(referentes!AC1409,\" \",\" \",\" \",\" \"),IF(referentes!AC1409=referentes!AI1409,CONCATENATE(referentes!AH1409,\" \",referentes!AI1409,\" \",\" \"),CONCATENATE(referentes!AH1409,\" \",referentes!AI1409,\" \",referentes!AC1409))))","v":""},{"$f":"IF(referentes!AB1409=\"\",\"\",referentes!AB1409)","v":""}]
[null,null,null,null,null,null,null,null,null,null,null,null,null,null,null,{"$f":"IF(referentes!AC1410=\"\",\"\",IF(referentes!AC1410=referentes!AH1410,CONCATENATE(referentes!AC1410,\" \",\" \",\" \",\" \"),IF(referentes!AC1410=referentes!AI1410,CONCATENATE(referentes!AH1410,\" \",referentes!AI1410,\" \",\" \"),CONCATENATE(referentes!AH1410,\" \",referentes!AI1410,\" \",referentes!AC1410))))","v":""},{"$f":"IF(referentes!AB1410=\"\",\"\",referentes!AB1410)","v":""}]
[null,null,null,null,null,null,null,null,null,null,null,null,null,null,null,{"$f":"IF(referentes!AC1411=\"\",\"\",IF(referentes!AC1411=referentes!AH1411,CONCATENATE(referentes!AC1411,\" \",\" \",\" \",\" \"),IF(referentes!AC1411=referentes!AI1411,CONCATENATE(referentes!AH1411,\" \",referentes!AI1411,\" \",\" \"),CONCATENATE(referentes!AH1411,\" \",referentes!AI1411,\" \",referentes!AC1411))))","v":""},{"$f":"IF(referentes!AB1411=\"\",\"\",referentes!AB1411)","v":""}]
[null,null,null,null,null,null,null,null,null,null,null,null,null,null,null,{"$f":"IF(referentes!AC1412=\"\",\"\",IF(referentes!AC1412=referentes!AH1412,CONCATENATE(referentes!AC1412,\" \",\" \",\" \",\" \"),IF(referentes!AC1412=referentes!AI1412,CONCATENATE(referentes!AH1412,\" \",referentes!AI1412,\" \",\" \"),CONCATENATE(referentes!AH1412,\" \",referentes!AI1412,\" \",referentes!AC1412))))","v":""},{"$f":"IF(referentes!AB1412=\"\",\"\",referentes!AB1412)","v":""}]
[null,null,null,null,null,null,null,null,null,null,null,null,null,null,null,{"$f":"IF(referentes!AC1413=\"\",\"\",IF(referentes!AC1413=referentes!AH1413,CONCATENATE(referentes!AC1413,\" \",\" \",\" \",\" \"),IF(referentes!AC1413=referentes!AI1413,CONCATENATE(referentes!AH1413,\" \",referentes!AI1413,\" \",\" \"),CONCATENATE(referentes!AH1413,\" \",referentes!AI1413,\" \",referentes!AC1413))))","v":""},{"$f":"IF(referentes!AB1413=\"\",\"\",referentes!AB1413)","v":""}]
[null,null,null,null,null,null,null,null,null,null,null,null,null,null,null,{"$f":"IF(referentes!AC1414=\"\",\"\",IF(referentes!AC1414=referentes!AH1414,CONCATENATE(referentes!AC1414,\" \",\" \",\" \",\" \"),IF(referentes!AC1414=referentes!AI1414,CONCATENATE(referentes!AH1414,\" \",referentes!AI1414,\" \",\" \"),CONCATENATE(referentes!AH1414,\" \",referentes!AI1414,\" \",referentes!AC1414))))","v":""},{"$f":"IF(referentes!AB1414=\"\",\"\",referentes!AB1414)","v":""}]
[null,null,null,null,null,null,null,null,null,null,null,null,null,null,null,{"$f":"IF(referentes!AC1415=\"\",\"\",IF(referentes!AC1415=referentes!AH1415,CONCATENATE(referentes!AC1415,\" \",\" \",\" \",\" \"),IF(referentes!AC1415=referentes!AI1415,CONCATENATE(referentes!AH1415,\" \",referentes!AI1415,\" \",\" \"),CONCATENATE(referentes!AH1415,\" \",referentes!AI1415,\" \",referentes!AC1415))))","v":""},{"$f":"IF(referentes!AB1415=\"\",\"\",referentes!AB1415)","v":""}]
[null,null,null,null,null,null,null,null,null,null,null,null,null,null,null,{"$f":"IF(referentes!AC1416=\"\",\"\",IF(referentes!AC1416=referentes!AH1416,CONCATENATE(referentes!AC1416,\" \",\" \",\" \",\" \"),IF(referentes!AC1416=referentes!AI1416,CONCATENATE(referentes!AH1416,\" \",referentes!AI1416,\" \",\" \"),CONCATENATE(referentes!AH1416,\" \",referentes!AI1416,\" \",referentes!AC1416))))","v":""},{"$f":"IF(referentes!AB1416=\"\",\"\",referentes!AB1416)","v":""}]
[null,null,null,null,null,null,null,null,null,null,null,null,null,null,null,{"$f":"IF(referentes!AC1417=\"\",\"\",IF(referentes!AC1417=referentes!AH1417,CONCATENATE(referentes!AC1417,\" \",\" \",\" \",\" \"),IF(referentes!AC1417=referentes!AI1417,CONCATENATE(referentes!AH1417,\" \",referentes!AI1417,\" \",\" \"),CONCATENATE(referentes!AH1417,\" \",referentes!AI1417,\" \",referentes!AC1417))))","v":""},{"$f":"IF(referentes!AB1417=\"\",\"\",referentes!AB1417)","v":""}]
[null,null,null,null,null,null,null,null,null,null,null,null,null,null,null,{"$f":"IF(referentes!AC1418=\"\",\"\",IF(referentes!AC1418=referentes!AH1418,CONCATENATE(referentes!AC1418,\" \",\" \",\" \",\" \"),IF(referentes!AC1418=referentes!AI1418,CONCATENATE(referentes!AH1418,\" \",referentes!AI1418,\" \",\" \"),CONCATENATE(referentes!AH1418,\" \",referentes!AI1418,\" \",referentes!AC1418))))","v":""},{"$f":"IF(referentes!AB1418=\"\",\"\",referentes!AB1418)","v":""}]
[null,null,null,null,null,null,null,null,null,null,null,null,null,null,null,{"$f":"IF(referentes!AC1419=\"\",\"\",IF(referentes!AC1419=referentes!AH1419,CONCATENATE(referentes!AC1419,\" \",\" \",\" \",\" \"),IF(referentes!AC1419=referentes!AI1419,CONCATENATE(referentes!AH1419,\" \",referentes!AI1419,\" \",\" \"),CONCATENATE(referentes!AH1419,\" \",referentes!AI1419,\" \",referentes!AC1419))))","v":""},{"$f":"IF(referentes!AB1419=\"\",\"\",referentes!AB1419)","v":""}]
[null,null,null,null,null,null,null,null,null,null,null,null,null,null,null,{"$f":"IF(referentes!AC1420=\"\",\"\",IF(referentes!AC1420=referentes!AH1420,CONCATENATE(referentes!AC1420,\" \",\" \",\" \",\" \"),IF(referentes!AC1420=referentes!AI1420,CONCATENATE(referentes!AH1420,\" \",referentes!AI1420,\" \",\" \"),CONCATENATE(referentes!AH1420,\" \",referentes!AI1420,\" \",referentes!AC1420))))","v":""},{"$f":"IF(referentes!AB1420=\"\",\"\",referentes!AB1420)","v":""}]
[null,null,null,null,null,null,null,null,null,null,null,null,null,null,null,{"$f":"IF(referentes!AC1421=\"\",\"\",IF(referentes!AC1421=referentes!AH1421,CONCATENATE(referentes!AC1421,\" \",\" \",\" \",\" \"),IF(referentes!AC1421=referentes!AI1421,CONCATENATE(referentes!AH1421,\" \",referentes!AI1421,\" \",\" \"),CONCATENATE(referentes!AH1421,\" \",referentes!AI1421,\" \",referentes!AC1421))))","v":""},{"$f":"IF(referentes!AB1421=\"\",\"\",referentes!AB1421)","v":""}]
[null,null,null,null,null,null,null,null,null,null,null,null,null,null,null,{"$f":"IF(referentes!AC1422=\"\",\"\",IF(referentes!AC1422=referentes!AH1422,CONCATENATE(referentes!AC1422,\" \",\" \",\" \",\" \"),IF(referentes!AC1422=referentes!AI1422,CONCATENATE(referentes!AH1422,\" \",referentes!AI1422,\" \",\" \"),CONCATENATE(referentes!AH1422,\" \",referentes!AI1422,\" \",referentes!AC1422))))","v":""},{"$f":"IF(referentes!AB1422=\"\",\"\",referentes!AB1422)","v":""}]
[null,null,null,null,null,null,null,null,null,null,null,null,null,null,null,{"$f":"IF(referentes!AC1423=\"\",\"\",IF(referentes!AC1423=referentes!AH1423,CONCATENATE(referentes!AC1423,\" \",\" \",\" \",\" \"),IF(referentes!AC1423=referentes!AI1423,CONCATENATE(referentes!AH1423,\" \",referentes!AI1423,\" \",\" \"),CONCATENATE(referentes!AH1423,\" \",referentes!AI1423,\" \",referentes!AC1423))))","v":""},{"$f":"IF(referentes!AB1423=\"\",\"\",referentes!AB1423)","v":""}]
[null,null,null,null,null,null,null,null,null,null,null,null,null,null,null,{"$f":"IF(referentes!AC1424=\"\",\"\",IF(referentes!AC1424=referentes!AH1424,CONCATENATE(referentes!AC1424,\" \",\" \",\" \",\" \"),IF(referentes!AC1424=referentes!AI1424,CONCATENATE(referentes!AH1424,\" \",referentes!AI1424,\" \",\" \"),CONCATENATE(referentes!AH1424,\" \",referentes!AI1424,\" \",referentes!AC1424))))","v":""},{"$f":"IF(referentes!AB1424=\"\",\"\",referentes!AB1424)","v":""}]
[null,null,null,null,null,null,null,null,null,null,null,null,null,null,null,{"$f":"IF(referentes!AC1425=\"\",\"\",IF(referentes!AC1425=referentes!AH1425,CONCATENATE(referentes!AC1425,\" \",\" \",\" \",\" \"),IF(referentes!AC1425=referentes!AI1425,CONCATENATE(referentes!AH1425,\" \",referentes!AI1425,\" \",\" \"),CONCATENATE(referentes!AH1425,\" \",referentes!AI1425,\" \",referentes!AC1425))))","v":""},{"$f":"IF(referentes!AB1425=\"\",\"\",referentes!AB1425)","v":""}]
[null,null,null,null,null,null,null,null,null,null,null,null,null,null,null,{"$f":"IF(referentes!AC1426=\"\",\"\",IF(referentes!AC1426=referentes!AH1426,CONCATENATE(referentes!AC1426,\" \",\" \",\" \",\" \"),IF(referentes!AC1426=referentes!AI1426,CONCATENATE(referentes!AH1426,\" \",referentes!AI1426,\" \",\" \"),CONCATENATE(referentes!AH1426,\" \",referentes!AI1426,\" \",referentes!AC1426))))","v":""},{"$f":"IF(referentes!AB1426=\"\",\"\",referentes!AB1426)","v":""}]
[null,null,null,null,null,null,null,null,null,null,null,null,null,null,null,{"$f":"IF(referentes!AC1427=\"\",\"\",IF(referentes!AC1427=referentes!AH1427,CONCATENATE(referentes!AC1427,\" \",\" \",\" \",\" \"),IF(referentes!AC1427=referentes!AI1427,CONCATENATE(referentes!AH1427,\" \",referentes!AI1427,\" \",\" \"),CONCATENATE(referentes!AH1427,\" \",referentes!AI1427,\" \",referentes!AC1427))))","v":""},{"$f":"IF(referentes!AB1427=\"\",\"\",referentes!AB1427)","v":""}]
[null,null,null,null,null,null,null,null,null,null,null,null,null,null,null,{"$f":"IF(referentes!AC1428=\"\",\"\",IF(referentes!AC1428=referentes!AH1428,CONCATENATE(referentes!AC1428,\" \",\" \",\" \",\" \"),IF(referentes!AC1428=referentes!AI1428,CONCATENATE(referentes!AH1428,\" \",referentes!AI1428,\" \",\" \"),CONCATENATE(referentes!AH1428,\" \",referentes!AI1428,\" \",referentes!AC1428))))","v":""},{"$f":"IF(referentes!AB1428=\"\",\"\",referentes!AB1428)","v":""}]
[null,null,null,null,null,null,null,null,null,null,null,null,null,null,null,{"$f":"IF(referentes!AC1429=\"\",\"\",IF(referentes!AC1429=referentes!AH1429,CONCATENATE(referentes!AC1429,\" \",\" \",\" \",\" \"),IF(referentes!AC1429=referentes!AI1429,CONCATENATE(referentes!AH1429,\" \",referentes!AI1429,\" \",\" \"),CONCATENATE(referentes!AH1429,\" \",referentes!AI1429,\" \",referentes!AC1429))))","v":""},{"$f":"IF(referentes!AB1429=\"\",\"\",referentes!AB1429)","v":""}]
[null,null,null,null,null,null,null,null,null,null,null,null,null,null,null,{"$f":"IF(referentes!AC1430=\"\",\"\",IF(referentes!AC1430=referentes!AH1430,CONCATENATE(referentes!AC1430,\" \",\" \",\" \",\" \"),IF(referentes!AC1430=referentes!AI1430,CONCATENATE(referentes!AH1430,\" \",referentes!AI1430,\" \",\" \"),CONCATENATE(referentes!AH1430,\" \",referentes!AI1430,\" \",referentes!AC1430))))","v":""},{"$f":"IF(referentes!AB1430=\"\",\"\",referentes!AB1430)","v":""}]
[null,null,null,null,null,null,null,null,null,null,null,null,null,null,null,{"$f":"IF(referentes!AC1431=\"\",\"\",IF(referentes!AC1431=referentes!AH1431,CONCATENATE(referentes!AC1431,\" \",\" \",\" \",\" \"),IF(referentes!AC1431=referentes!AI1431,CONCATENATE(referentes!AH1431,\" \",referentes!AI1431,\" \",\" \"),CONCATENATE(referentes!AH1431,\" \",referentes!AI1431,\" \",referentes!AC1431))))","v":""},{"$f":"IF(referentes!AB1431=\"\",\"\",referentes!AB1431)","v":""}]
[null,null,null,null,null,null,null,null,null,null,null,null,null,null,null,{"$f":"IF(referentes!AC1432=\"\",\"\",IF(referentes!AC1432=referentes!AH1432,CONCATENATE(referentes!AC1432,\" \",\" \",\" \",\" \"),IF(referentes!AC1432=referentes!AI1432,CONCATENATE(referentes!AH1432,\" \",referentes!AI1432,\" \",\" \"),CONCATENATE(referentes!AH1432,\" \",referentes!AI1432,\" \",referentes!AC1432))))","v":""},{"$f":"IF(referentes!AB1432=\"\",\"\",referentes!AB1432)","v":""}]
[null,null,null,null,null,null,null,null,null,null,null,null,null,null,null,{"$f":"IF(referentes!AC1433=\"\",\"\",IF(referentes!AC1433=referentes!AH1433,CONCATENATE(referentes!AC1433,\" \",\" \",\" \",\" \"),IF(referentes!AC1433=referentes!AI1433,CONCATENATE(referentes!AH1433,\" \",referentes!AI1433,\" \",\" \"),CONCATENATE(referentes!AH1433,\" \",referentes!AI1433,\" \",referentes!AC1433))))","v":""},{"$f":"IF(referentes!AB1433=\"\",\"\",referentes!AB1433)","v":""}]
[null,null,null,null,null,null,null,null,null,null,null,null,null,null,null,{"$f":"IF(referentes!AC1434=\"\",\"\",IF(referentes!AC1434=referentes!AH1434,CONCATENATE(referentes!AC1434,\" \",\" \",\" \",\" \"),IF(referentes!AC1434=referentes!AI1434,CONCATENATE(referentes!AH1434,\" \",referentes!AI1434,\" \",\" \"),CONCATENATE(referentes!AH1434,\" \",referentes!AI1434,\" \",referentes!AC1434))))","v":""},{"$f":"IF(referentes!AB1434=\"\",\"\",referentes!AB1434)","v":""}]
[null,null,null,null,null,null,null,null,null,null,null,null,null,null,null,{"$f":"IF(referentes!AC1435=\"\",\"\",IF(referentes!AC1435=referentes!AH1435,CONCATENATE(referentes!AC1435,\" \",\" \",\" \",\" \"),IF(referentes!AC1435=referentes!AI1435,CONCATENATE(referentes!AH1435,\" \",referentes!AI1435,\" \",\" \"),CONCATENATE(referentes!AH1435,\" \",referentes!AI1435,\" \",referentes!AC1435))))","v":""},{"$f":"IF(referentes!AB1435=\"\",\"\",referentes!AB1435)","v":""}]
[null,null,null,null,null,null,null,null,null,null,null,null,null,null,null,{"$f":"IF(referentes!AC1436=\"\",\"\",IF(referentes!AC1436=referentes!AH1436,CONCATENATE(referentes!AC1436,\" \",\" \",\" \",\" \"),IF(referentes!AC1436=referentes!AI1436,CONCATENATE(referentes!AH1436,\" \",referentes!AI1436,\" \",\" \"),CONCATENATE(referentes!AH1436,\" \",referentes!AI1436,\" \",referentes!AC1436))))","v":""},{"$f":"IF(referentes!AB1436=\"\",\"\",referentes!AB1436)","v":""}]
[null,null,null,null,null,null,null,null,null,null,null,null,null,null,null,{"$f":"IF(referentes!AC1437=\"\",\"\",IF(referentes!AC1437=referentes!AH1437,CONCATENATE(referentes!AC1437,\" \",\" \",\" \",\" \"),IF(referentes!AC1437=referentes!AI1437,CONCATENATE(referentes!AH1437,\" \",referentes!AI1437,\" \",\" \"),CONCATENATE(referentes!AH1437,\" \",referentes!AI1437,\" \",referentes!AC1437))))","v":""},{"$f":"IF(referentes!AB1437=\"\",\"\",referentes!AB1437)","v":""}]
[null,null,null,null,null,null,null,null,null,null,null,null,null,null,null,{"$f":"IF(referentes!AC1438=\"\",\"\",IF(referentes!AC1438=referentes!AH1438,CONCATENATE(referentes!AC1438,\" \",\" \",\" \",\" \"),IF(referentes!AC1438=referentes!AI1438,CONCATENATE(referentes!AH1438,\" \",referentes!AI1438,\" \",\" \"),CONCATENATE(referentes!AH1438,\" \",referentes!AI1438,\" \",referentes!AC1438))))","v":""},{"$f":"IF(referentes!AB1438=\"\",\"\",referentes!AB1438)","v":""}]
[null,null,null,null,null,null,null,null,null,null,null,null,null,null,null,{"$f":"IF(referentes!AC1439=\"\",\"\",IF(referentes!AC1439=referentes!AH1439,CONCATENATE(referentes!AC1439,\" \",\" \",\" \",\" \"),IF(referentes!AC1439=referentes!AI1439,CONCATENATE(referentes!AH1439,\" \",referentes!AI1439,\" \",\" \"),CONCATENATE(referentes!AH1439,\" \",referentes!AI1439,\" \",referentes!AC1439))))","v":""},{"$f":"IF(referentes!AB1439=\"\",\"\",referentes!AB1439)","v":""}]
[null,null,null,null,null,null,null,null,null,null,null,null,null,null,null,{"$f":"IF(referentes!AC1440=\"\",\"\",IF(referentes!AC1440=referentes!AH1440,CONCATENATE(referentes!AC1440,\" \",\" \",\" \",\" \"),IF(referentes!AC1440=referentes!AI1440,CONCATENATE(referentes!AH1440,\" \",referentes!AI1440,\" \",\" \"),CONCATENATE(referentes!AH1440,\" \",referentes!AI1440,\" \",referentes!AC1440))))","v":""},{"$f":"IF(referentes!AB1440=\"\",\"\",referentes!AB1440)","v":""}]
[null,null,null,null,null,null,null,null,null,null,null,null,null,null,null,{"$f":"IF(referentes!AC1441=\"\",\"\",IF(referentes!AC1441=referentes!AH1441,CONCATENATE(referentes!AC1441,\" \",\" \",\" \",\" \"),IF(referentes!AC1441=referentes!AI1441,CONCATENATE(referentes!AH1441,\" \",referentes!AI1441,\" \",\" \"),CONCATENATE(referentes!AH1441,\" \",referentes!AI1441,\" \",referentes!AC1441))))","v":""},{"$f":"IF(referentes!AB1441=\"\",\"\",referentes!AB1441)","v":""}]
[null,null,null,null,null,null,null,null,null,null,null,null,null,null,null,{"$f":"IF(referentes!AC1442=\"\",\"\",IF(referentes!AC1442=referentes!AH1442,CONCATENATE(referentes!AC1442,\" \",\" \",\" \",\" \"),IF(referentes!AC1442=referentes!AI1442,CONCATENATE(referentes!AH1442,\" \",referentes!AI1442,\" \",\" \"),CONCATENATE(referentes!AH1442,\" \",referentes!AI1442,\" \",referentes!AC1442))))","v":""},{"$f":"IF(referentes!AB1442=\"\",\"\",referentes!AB1442)","v":""}]
[null,null,null,null,null,null,null,null,null,null,null,null,null,null,null,{"$f":"IF(referentes!AC1443=\"\",\"\",IF(referentes!AC1443=referentes!AH1443,CONCATENATE(referentes!AC1443,\" \",\" \",\" \",\" \"),IF(referentes!AC1443=referentes!AI1443,CONCATENATE(referentes!AH1443,\" \",referentes!AI1443,\" \",\" \"),CONCATENATE(referentes!AH1443,\" \",referentes!AI1443,\" \",referentes!AC1443))))","v":""},{"$f":"IF(referentes!AB1443=\"\",\"\",referentes!AB1443)","v":""}]
[null,null,null,null,null,null,null,null,null,null,null,null,null,null,null,{"$f":"IF(referentes!AC1444=\"\",\"\",IF(referentes!AC1444=referentes!AH1444,CONCATENATE(referentes!AC1444,\" \",\" \",\" \",\" \"),IF(referentes!AC1444=referentes!AI1444,CONCATENATE(referentes!AH1444,\" \",referentes!AI1444,\" \",\" \"),CONCATENATE(referentes!AH1444,\" \",referentes!AI1444,\" \",referentes!AC1444))))","v":""},{"$f":"IF(referentes!AB1444=\"\",\"\",referentes!AB1444)","v":""}]
[null,null,null,null,null,null,null,null,null,null,null,null,null,null,null,{"$f":"IF(referentes!AC1445=\"\",\"\",IF(referentes!AC1445=referentes!AH1445,CONCATENATE(referentes!AC1445,\" \",\" \",\" \",\" \"),IF(referentes!AC1445=referentes!AI1445,CONCATENATE(referentes!AH1445,\" \",referentes!AI1445,\" \",\" \"),CONCATENATE(referentes!AH1445,\" \",referentes!AI1445,\" \",referentes!AC1445))))","v":""},{"$f":"IF(referentes!AB1445=\"\",\"\",referentes!AB1445)","v":""}]
[null,null,null,null,null,null,null,null,null,null,null,null,null,null,null,{"$f":"IF(referentes!AC1446=\"\",\"\",IF(referentes!AC1446=referentes!AH1446,CONCATENATE(referentes!AC1446,\" \",\" \",\" \",\" \"),IF(referentes!AC1446=referentes!AI1446,CONCATENATE(referentes!AH1446,\" \",referentes!AI1446,\" \",\" \"),CONCATENATE(referentes!AH1446,\" \",referentes!AI1446,\" \",referentes!AC1446))))","v":""},{"$f":"IF(referentes!AB1446=\"\",\"\",referentes!AB1446)","v":""}]
[null,null,null,null,null,null,null,null,null,null,null,null,null,null,null,{"$f":"IF(referentes!AC1447=\"\",\"\",IF(referentes!AC1447=referentes!AH1447,CONCATENATE(referentes!AC1447,\" \",\" \",\" \",\" \"),IF(referentes!AC1447=referentes!AI1447,CONCATENATE(referentes!AH1447,\" \",referentes!AI1447,\" \",\" \"),CONCATENATE(referentes!AH1447,\" \",referentes!AI1447,\" \",referentes!AC1447))))","v":""},{"$f":"IF(referentes!AB1447=\"\",\"\",referentes!AB1447)","v":""}]
[null,null,null,null,null,null,null,null,null,null,null,null,null,null,null,{"$f":"IF(referentes!AC1448=\"\",\"\",IF(referentes!AC1448=referentes!AH1448,CONCATENATE(referentes!AC1448,\" \",\" \",\" \",\" \"),IF(referentes!AC1448=referentes!AI1448,CONCATENATE(referentes!AH1448,\" \",referentes!AI1448,\" \",\" \"),CONCATENATE(referentes!AH1448,\" \",referentes!AI1448,\" \",referentes!AC1448))))","v":""},{"$f":"IF(referentes!AB1448=\"\",\"\",referentes!AB1448)","v":""}]
[null,null,null,null,null,null,null,null,null,null,null,null,null,null,null,{"$f":"IF(referentes!AC1449=\"\",\"\",IF(referentes!AC1449=referentes!AH1449,CONCATENATE(referentes!AC1449,\" \",\" \",\" \",\" \"),IF(referentes!AC1449=referentes!AI1449,CONCATENATE(referentes!AH1449,\" \",referentes!AI1449,\" \",\" \"),CONCATENATE(referentes!AH1449,\" \",referentes!AI1449,\" \",referentes!AC1449))))","v":""},{"$f":"IF(referentes!AB1449=\"\",\"\",referentes!AB1449)","v":""}]
[null,null,null,null,null,null,null,null,null,null,null,null,null,null,null,{"$f":"IF(referentes!AC1450=\"\",\"\",IF(referentes!AC1450=referentes!AH1450,CONCATENATE(referentes!AC1450,\" \",\" \",\" \",\" \"),IF(referentes!AC1450=referentes!AI1450,CONCATENATE(referentes!AH1450,\" \",referentes!AI1450,\" \",\" \"),CONCATENATE(referentes!AH1450,\" \",referentes!AI1450,\" \",referentes!AC1450))))","v":""},{"$f":"IF(referentes!AB1450=\"\",\"\",referentes!AB1450)","v":""}]
[null,null,null,null,null,null,null,null,null,null,null,null,null,null,null,{"$f":"IF(referentes!AC1451=\"\",\"\",IF(referentes!AC1451=referentes!AH1451,CONCATENATE(referentes!AC1451,\" \",\" \",\" \",\" \"),IF(referentes!AC1451=referentes!AI1451,CONCATENATE(referentes!AH1451,\" \",referentes!AI1451,\" \",\" \"),CONCATENATE(referentes!AH1451,\" \",referentes!AI1451,\" \",referentes!AC1451))))","v":""},{"$f":"IF(referentes!AB1451=\"\",\"\",referentes!AB1451)","v":""}]
[null,null,null,null,null,null,null,null,null,null,null,null,null,null,null,{"$f":"IF(referentes!AC1452=\"\",\"\",IF(referentes!AC1452=referentes!AH1452,CONCATENATE(referentes!AC1452,\" \",\" \",\" \",\" \"),IF(referentes!AC1452=referentes!AI1452,CONCATENATE(referentes!AH1452,\" \",referentes!AI1452,\" \",\" \"),CONCATENATE(referentes!AH1452,\" \",referentes!AI1452,\" \",referentes!AC1452))))","v":""},{"$f":"IF(referentes!AB1452=\"\",\"\",referentes!AB1452)","v":""}]
[null,null,null,null,null,null,null,null,null,null,null,null,null,null,null,{"$f":"IF(referentes!AC1453=\"\",\"\",IF(referentes!AC1453=referentes!AH1453,CONCATENATE(referentes!AC1453,\" \",\" \",\" \",\" \"),IF(referentes!AC1453=referentes!AI1453,CONCATENATE(referentes!AH1453,\" \",referentes!AI1453,\" \",\" \"),CONCATENATE(referentes!AH1453,\" \",referentes!AI1453,\" \",referentes!AC1453))))","v":""},{"$f":"IF(referentes!AB1453=\"\",\"\",referentes!AB1453)","v":""}]
[null,null,null,null,null,null,null,null,null,null,null,null,null,null,null,{"$f":"IF(referentes!AC1454=\"\",\"\",IF(referentes!AC1454=referentes!AH1454,CONCATENATE(referentes!AC1454,\" \",\" \",\" \",\" \"),IF(referentes!AC1454=referentes!AI1454,CONCATENATE(referentes!AH1454,\" \",referentes!AI1454,\" \",\" \"),CONCATENATE(referentes!AH1454,\" \",referentes!AI1454,\" \",referentes!AC1454))))","v":""},{"$f":"IF(referentes!AB1454=\"\",\"\",referentes!AB1454)","v":""}]
[null,null,null,null,null,null,null,null,null,null,null,null,null,null,null,{"$f":"IF(referentes!AC1455=\"\",\"\",IF(referentes!AC1455=referentes!AH1455,CONCATENATE(referentes!AC1455,\" \",\" \",\" \",\" \"),IF(referentes!AC1455=referentes!AI1455,CONCATENATE(referentes!AH1455,\" \",referentes!AI1455,\" \",\" \"),CONCATENATE(referentes!AH1455,\" \",referentes!AI1455,\" \",referentes!AC1455))))","v":""},{"$f":"IF(referentes!AB1455=\"\",\"\",referentes!AB1455)","v":""}]
[null,null,null,null,null,null,null,null,null,null,null,null,null,null,null,{"$f":"IF(referentes!AC1456=\"\",\"\",IF(referentes!AC1456=referentes!AH1456,CONCATENATE(referentes!AC1456,\" \",\" \",\" \",\" \"),IF(referentes!AC1456=referentes!AI1456,CONCATENATE(referentes!AH1456,\" \",referentes!AI1456,\" \",\" \"),CONCATENATE(referentes!AH1456,\" \",referentes!AI1456,\" \",referentes!AC1456))))","v":""},{"$f":"IF(referentes!AB1456=\"\",\"\",referentes!AB1456)","v":""}]
[null,null,null,null,null,null,null,null,null,null,null,null,null,null,null,{"$f":"IF(referentes!AC1457=\"\",\"\",IF(referentes!AC1457=referentes!AH1457,CONCATENATE(referentes!AC1457,\" \",\" \",\" \",\" \"),IF(referentes!AC1457=referentes!AI1457,CONCATENATE(referentes!AH1457,\" \",referentes!AI1457,\" \",\" \"),CONCATENATE(referentes!AH1457,\" \",referentes!AI1457,\" \",referentes!AC1457))))","v":""},{"$f":"IF(referentes!AB1457=\"\",\"\",referentes!AB1457)","v":""}]
[null,null,null,null,null,null,null,null,null,null,null,null,null,null,null,{"$f":"IF(referentes!AC1458=\"\",\"\",IF(referentes!AC1458=referentes!AH1458,CONCATENATE(referentes!AC1458,\" \",\" \",\" \",\" \"),IF(referentes!AC1458=referentes!AI1458,CONCATENATE(referentes!AH1458,\" \",referentes!AI1458,\" \",\" \"),CONCATENATE(referentes!AH1458,\" \",referentes!AI1458,\" \",referentes!AC1458))))","v":""},{"$f":"IF(referentes!AB1458=\"\",\"\",referentes!AB1458)","v":""}]
[null,null,null,null,null,null,null,null,null,null,null,null,null,null,null,{"$f":"IF(referentes!AC1459=\"\",\"\",IF(referentes!AC1459=referentes!AH1459,CONCATENATE(referentes!AC1459,\" \",\" \",\" \",\" \"),IF(referentes!AC1459=referentes!AI1459,CONCATENATE(referentes!AH1459,\" \",referentes!AI1459,\" \",\" \"),CONCATENATE(referentes!AH1459,\" \",referentes!AI1459,\" \",referentes!AC1459))))","v":""},{"$f":"IF(referentes!AB1459=\"\",\"\",referentes!AB1459)","v":""}]
[null,null,null,null,null,null,null,null,null,null,null,null,null,null,null,{"$f":"IF(referentes!AC1460=\"\",\"\",IF(referentes!AC1460=referentes!AH1460,CONCATENATE(referentes!AC1460,\" \",\" \",\" \",\" \"),IF(referentes!AC1460=referentes!AI1460,CONCATENATE(referentes!AH1460,\" \",referentes!AI1460,\" \",\" \"),CONCATENATE(referentes!AH1460,\" \",referentes!AI1460,\" \",referentes!AC1460))))","v":""},{"$f":"IF(referentes!AB1460=\"\",\"\",referentes!AB1460)","v":""}]
[null,null,null,null,null,null,null,null,null,null,null,null,null,null,null,{"$f":"IF(referentes!AC1461=\"\",\"\",IF(referentes!AC1461=referentes!AH1461,CONCATENATE(referentes!AC1461,\" \",\" \",\" \",\" \"),IF(referentes!AC1461=referentes!AI1461,CONCATENATE(referentes!AH1461,\" \",referentes!AI1461,\" \",\" \"),CONCATENATE(referentes!AH1461,\" \",referentes!AI1461,\" \",referentes!AC1461))))","v":""},{"$f":"IF(referentes!AB1461=\"\",\"\",referentes!AB1461)","v":""}]
[null,null,null,null,null,null,null,null,null,null,null,null,null,null,null,{"$f":"IF(referentes!AC1462=\"\",\"\",IF(referentes!AC1462=referentes!AH1462,CONCATENATE(referentes!AC1462,\" \",\" \",\" \",\" \"),IF(referentes!AC1462=referentes!AI1462,CONCATENATE(referentes!AH1462,\" \",referentes!AI1462,\" \",\" \"),CONCATENATE(referentes!AH1462,\" \",referentes!AI1462,\" \",referentes!AC1462))))","v":""},{"$f":"IF(referentes!AB1462=\"\",\"\",referentes!AB1462)","v":""}]
[null,null,null,null,null,null,null,null,null,null,null,null,null,null,null,{"$f":"IF(referentes!AC1463=\"\",\"\",IF(referentes!AC1463=referentes!AH1463,CONCATENATE(referentes!AC1463,\" \",\" \",\" \",\" \"),IF(referentes!AC1463=referentes!AI1463,CONCATENATE(referentes!AH1463,\" \",referentes!AI1463,\" \",\" \"),CONCATENATE(referentes!AH1463,\" \",referentes!AI1463,\" \",referentes!AC1463))))","v":""},{"$f":"IF(referentes!AB1463=\"\",\"\",referentes!AB1463)","v":""}]
[null,null,null,null,null,null,null,null,null,null,null,null,null,null,null,{"$f":"IF(referentes!AC1464=\"\",\"\",IF(referentes!AC1464=referentes!AH1464,CONCATENATE(referentes!AC1464,\" \",\" \",\" \",\" \"),IF(referentes!AC1464=referentes!AI1464,CONCATENATE(referentes!AH1464,\" \",referentes!AI1464,\" \",\" \"),CONCATENATE(referentes!AH1464,\" \",referentes!AI1464,\" \",referentes!AC1464))))","v":""},{"$f":"IF(referentes!AB1464=\"\",\"\",referentes!AB1464)","v":""}]
[null,null,null,null,null,null,null,null,null,null,null,null,null,null,null,{"$f":"IF(referentes!AC1465=\"\",\"\",IF(referentes!AC1465=referentes!AH1465,CONCATENATE(referentes!AC1465,\" \",\" \",\" \",\" \"),IF(referentes!AC1465=referentes!AI1465,CONCATENATE(referentes!AH1465,\" \",referentes!AI1465,\" \",\" \"),CONCATENATE(referentes!AH1465,\" \",referentes!AI1465,\" \",referentes!AC1465))))","v":""},{"$f":"IF(referentes!AB1465=\"\",\"\",referentes!AB1465)","v":""}]
[null,null,null,null,null,null,null,null,null,null,null,null,null,null,null,{"$f":"IF(referentes!AC1466=\"\",\"\",IF(referentes!AC1466=referentes!AH1466,CONCATENATE(referentes!AC1466,\" \",\" \",\" \",\" \"),IF(referentes!AC1466=referentes!AI1466,CONCATENATE(referentes!AH1466,\" \",referentes!AI1466,\" \",\" \"),CONCATENATE(referentes!AH1466,\" \",referentes!AI1466,\" \",referentes!AC1466))))","v":""},{"$f":"IF(referentes!AB1466=\"\",\"\",referentes!AB1466)","v":""}]
[null,null,null,null,null,null,null,null,null,null,null,null,null,null,null,{"$f":"IF(referentes!AC1467=\"\",\"\",IF(referentes!AC1467=referentes!AH1467,CONCATENATE(referentes!AC1467,\" \",\" \",\" \",\" \"),IF(referentes!AC1467=referentes!AI1467,CONCATENATE(referentes!AH1467,\" \",referentes!AI1467,\" \",\" \"),CONCATENATE(referentes!AH1467,\" \",referentes!AI1467,\" \",referentes!AC1467))))","v":""},{"$f":"IF(referentes!AB1467=\"\",\"\",referentes!AB1467)","v":""}]
[null,null,null,null,null,null,null,null,null,null,null,null,null,null,null,{"$f":"IF(referentes!AC1468=\"\",\"\",IF(referentes!AC1468=referentes!AH1468,CONCATENATE(referentes!AC1468,\" \",\" \",\" \",\" \"),IF(referentes!AC1468=referentes!AI1468,CONCATENATE(referentes!AH1468,\" \",referentes!AI1468,\" \",\" \"),CONCATENATE(referentes!AH1468,\" \",referentes!AI1468,\" \",referentes!AC1468))))","v":""},{"$f":"IF(referentes!AB1468=\"\",\"\",referentes!AB1468)","v":""}]
[null,null,null,null,null,null,null,null,null,null,null,null,null,null,null,{"$f":"IF(referentes!AC1469=\"\",\"\",IF(referentes!AC1469=referentes!AH1469,CONCATENATE(referentes!AC1469,\" \",\" \",\" \",\" \"),IF(referentes!AC1469=referentes!AI1469,CONCATENATE(referentes!AH1469,\" \",referentes!AI1469,\" \",\" \"),CONCATENATE(referentes!AH1469,\" \",referentes!AI1469,\" \",referentes!AC1469))))","v":""},{"$f":"IF(referentes!AB1469=\"\",\"\",referentes!AB1469)","v":""}]
[null,null,null,null,null,null,null,null,null,null,null,null,null,null,null,{"$f":"IF(referentes!AC1470=\"\",\"\",IF(referentes!AC1470=referentes!AH1470,CONCATENATE(referentes!AC1470,\" \",\" \",\" \",\" \"),IF(referentes!AC1470=referentes!AI1470,CONCATENATE(referentes!AH1470,\" \",referentes!AI1470,\" \",\" \"),CONCATENATE(referentes!AH1470,\" \",referentes!AI1470,\" \",referentes!AC1470))))","v":""},{"$f":"IF(referentes!AB1470=\"\",\"\",referentes!AB1470)","v":""}]
[null,null,null,null,null,null,null,null,null,null,null,null,null,null,null,{"$f":"IF(referentes!AC1471=\"\",\"\",IF(referentes!AC1471=referentes!AH1471,CONCATENATE(referentes!AC1471,\" \",\" \",\" \",\" \"),IF(referentes!AC1471=referentes!AI1471,CONCATENATE(referentes!AH1471,\" \",referentes!AI1471,\" \",\" \"),CONCATENATE(referentes!AH1471,\" \",referentes!AI1471,\" \",referentes!AC1471))))","v":""},{"$f":"IF(referentes!AB1471=\"\",\"\",referentes!AB1471)","v":""}]
[null,null,null,null,null,null,null,null,null,null,null,null,null,null,null,{"$f":"IF(referentes!AC1472=\"\",\"\",IF(referentes!AC1472=referentes!AH1472,CONCATENATE(referentes!AC1472,\" \",\" \",\" \",\" \"),IF(referentes!AC1472=referentes!AI1472,CONCATENATE(referentes!AH1472,\" \",referentes!AI1472,\" \",\" \"),CONCATENATE(referentes!AH1472,\" \",referentes!AI1472,\" \",referentes!AC1472))))","v":""},{"$f":"IF(referentes!AB1472=\"\",\"\",referentes!AB1472)","v":""}]
[null,null,null,null,null,null,null,null,null,null,null,null,null,null,null,{"$f":"IF(referentes!AC1473=\"\",\"\",IF(referentes!AC1473=referentes!AH1473,CONCATENATE(referentes!AC1473,\" \",\" \",\" \",\" \"),IF(referentes!AC1473=referentes!AI1473,CONCATENATE(referentes!AH1473,\" \",referentes!AI1473,\" \",\" \"),CONCATENATE(referentes!AH1473,\" \",referentes!AI1473,\" \",referentes!AC1473))))","v":""},{"$f":"IF(referentes!AB1473=\"\",\"\",referentes!AB1473)","v":""}]
[null,null,null,null,null,null,null,null,null,null,null,null,null,null,null,{"$f":"IF(referentes!AC1474=\"\",\"\",IF(referentes!AC1474=referentes!AH1474,CONCATENATE(referentes!AC1474,\" \",\" \",\" \",\" \"),IF(referentes!AC1474=referentes!AI1474,CONCATENATE(referentes!AH1474,\" \",referentes!AI1474,\" \",\" \"),CONCATENATE(referentes!AH1474,\" \",referentes!AI1474,\" \",referentes!AC1474))))","v":""},{"$f":"IF(referentes!AB1474=\"\",\"\",referentes!AB1474)","v":""}]
[null,null,null,null,null,null,null,null,null,null,null,null,null,null,null,{"$f":"IF(referentes!AC1475=\"\",\"\",IF(referentes!AC1475=referentes!AH1475,CONCATENATE(referentes!AC1475,\" \",\" \",\" \",\" \"),IF(referentes!AC1475=referentes!AI1475,CONCATENATE(referentes!AH1475,\" \",referentes!AI1475,\" \",\" \"),CONCATENATE(referentes!AH1475,\" \",referentes!AI1475,\" \",referentes!AC1475))))","v":""},{"$f":"IF(referentes!AB1475=\"\",\"\",referentes!AB1475)","v":""}]
[null,null,null,null,null,null,null,null,null,null,null,null,null,null,null,{"$f":"IF(referentes!AC1476=\"\",\"\",IF(referentes!AC1476=referentes!AH1476,CONCATENATE(referentes!AC1476,\" \",\" \",\" \",\" \"),IF(referentes!AC1476=referentes!AI1476,CONCATENATE(referentes!AH1476,\" \",referentes!AI1476,\" \",\" \"),CONCATENATE(referentes!AH1476,\" \",referentes!AI1476,\" \",referentes!AC1476))))","v":""},{"$f":"IF(referentes!AB1476=\"\",\"\",referentes!AB1476)","v":""}]
[null,null,null,null,null,null,null,null,null,null,null,null,null,null,null,{"$f":"IF(referentes!AC1477=\"\",\"\",IF(referentes!AC1477=referentes!AH1477,CONCATENATE(referentes!AC1477,\" \",\" \",\" \",\" \"),IF(referentes!AC1477=referentes!AI1477,CONCATENATE(referentes!AH1477,\" \",referentes!AI1477,\" \",\" \"),CONCATENATE(referentes!AH1477,\" \",referentes!AI1477,\" \",referentes!AC1477))))","v":""},{"$f":"IF(referentes!AB1477=\"\",\"\",referentes!AB1477)","v":""}]
[null,null,null,null,null,null,null,null,null,null,null,null,null,null,null,{"$f":"IF(referentes!AC1478=\"\",\"\",IF(referentes!AC1478=referentes!AH1478,CONCATENATE(referentes!AC1478,\" \",\" \",\" \",\" \"),IF(referentes!AC1478=referentes!AI1478,CONCATENATE(referentes!AH1478,\" \",referentes!AI1478,\" \",\" \"),CONCATENATE(referentes!AH1478,\" \",referentes!AI1478,\" \",referentes!AC1478))))","v":""},{"$f":"IF(referentes!AB1478=\"\",\"\",referentes!AB1478)","v":""}]
[null,null,null,null,null,null,null,null,null,null,null,null,null,null,null,{"$f":"IF(referentes!AC1479=\"\",\"\",IF(referentes!AC1479=referentes!AH1479,CONCATENATE(referentes!AC1479,\" \",\" \",\" \",\" \"),IF(referentes!AC1479=referentes!AI1479,CONCATENATE(referentes!AH1479,\" \",referentes!AI1479,\" \",\" \"),CONCATENATE(referentes!AH1479,\" \",referentes!AI1479,\" \",referentes!AC1479))))","v":""},{"$f":"IF(referentes!AB1479=\"\",\"\",referentes!AB1479)","v":""}]
[null,null,null,null,null,null,null,null,null,null,null,null,null,null,null,{"$f":"IF(referentes!AC1480=\"\",\"\",IF(referentes!AC1480=referentes!AH1480,CONCATENATE(referentes!AC1480,\" \",\" \",\" \",\" \"),IF(referentes!AC1480=referentes!AI1480,CONCATENATE(referentes!AH1480,\" \",referentes!AI1480,\" \",\" \"),CONCATENATE(referentes!AH1480,\" \",referentes!AI1480,\" \",referentes!AC1480))))","v":""},{"$f":"IF(referentes!AB1480=\"\",\"\",referentes!AB1480)","v":""}]
[null,null,null,null,null,null,null,null,null,null,null,null,null,null,null,{"$f":"IF(referentes!AC1481=\"\",\"\",IF(referentes!AC1481=referentes!AH1481,CONCATENATE(referentes!AC1481,\" \",\" \",\" \",\" \"),IF(referentes!AC1481=referentes!AI1481,CONCATENATE(referentes!AH1481,\" \",referentes!AI1481,\" \",\" \"),CONCATENATE(referentes!AH1481,\" \",referentes!AI1481,\" \",referentes!AC1481))))","v":""},{"$f":"IF(referentes!AB1481=\"\",\"\",referentes!AB1481)","v":""}]
[null,null,null,null,null,null,null,null,null,null,null,null,null,null,null,{"$f":"IF(referentes!AC1482=\"\",\"\",IF(referentes!AC1482=referentes!AH1482,CONCATENATE(referentes!AC1482,\" \",\" \",\" \",\" \"),IF(referentes!AC1482=referentes!AI1482,CONCATENATE(referentes!AH1482,\" \",referentes!AI1482,\" \",\" \"),CONCATENATE(referentes!AH1482,\" \",referentes!AI1482,\" \",referentes!AC1482))))","v":""},{"$f":"IF(referentes!AB1482=\"\",\"\",referentes!AB1482)","v":""}]
[null,null,null,null,null,null,null,null,null,null,null,null,null,null,null,{"$f":"IF(referentes!AC1483=\"\",\"\",IF(referentes!AC1483=referentes!AH1483,CONCATENATE(referentes!AC1483,\" \",\" \",\" \",\" \"),IF(referentes!AC1483=referentes!AI1483,CONCATENATE(referentes!AH1483,\" \",referentes!AI1483,\" \",\" \"),CONCATENATE(referentes!AH1483,\" \",referentes!AI1483,\" \",referentes!AC1483))))","v":""},{"$f":"IF(referentes!AB1483=\"\",\"\",referentes!AB1483)","v":""}]
[null,null,null,null,null,null,null,null,null,null,null,null,null,null,null,{"$f":"IF(referentes!AC1484=\"\",\"\",IF(referentes!AC1484=referentes!AH1484,CONCATENATE(referentes!AC1484,\" \",\" \",\" \",\" \"),IF(referentes!AC1484=referentes!AI1484,CONCATENATE(referentes!AH1484,\" \",referentes!AI1484,\" \",\" \"),CONCATENATE(referentes!AH1484,\" \",referentes!AI1484,\" \",referentes!AC1484))))","v":""},{"$f":"IF(referentes!AB1484=\"\",\"\",referentes!AB1484)","v":""}]
[null,null,null,null,null,null,null,null,null,null,null,null,null,null,null,{"$f":"IF(referentes!AC1485=\"\",\"\",IF(referentes!AC1485=referentes!AH1485,CONCATENATE(referentes!AC1485,\" \",\" \",\" \",\" \"),IF(referentes!AC1485=referentes!AI1485,CONCATENATE(referentes!AH1485,\" \",referentes!AI1485,\" \",\" \"),CONCATENATE(referentes!AH1485,\" \",referentes!AI1485,\" \",referentes!AC1485))))","v":""},{"$f":"IF(referentes!AB1485=\"\",\"\",referentes!AB1485)","v":""}]
[null,null,null,null,null,null,null,null,null,null,null,null,null,null,null,{"$f":"IF(referentes!AC1486=\"\",\"\",IF(referentes!AC1486=referentes!AH1486,CONCATENATE(referentes!AC1486,\" \",\" \",\" \",\" \"),IF(referentes!AC1486=referentes!AI1486,CONCATENATE(referentes!AH1486,\" \",referentes!AI1486,\" \",\" \"),CONCATENATE(referentes!AH1486,\" \",referentes!AI1486,\" \",referentes!AC1486))))","v":""},{"$f":"IF(referentes!AB1486=\"\",\"\",referentes!AB1486)","v":""}]
[null,null,null,null,null,null,null,null,null,null,null,null,null,null,null,{"$f":"IF(referentes!AC1487=\"\",\"\",IF(referentes!AC1487=referentes!AH1487,CONCATENATE(referentes!AC1487,\" \",\" \",\" \",\" \"),IF(referentes!AC1487=referentes!AI1487,CONCATENATE(referentes!AH1487,\" \",referentes!AI1487,\" \",\" \"),CONCATENATE(referentes!AH1487,\" \",referentes!AI1487,\" \",referentes!AC1487))))","v":""},{"$f":"IF(referentes!AB1487=\"\",\"\",referentes!AB1487)","v":""}]
[null,null,null,null,null,null,null,null,null,null,null,null,null,null,null,{"$f":"IF(referentes!AC1488=\"\",\"\",IF(referentes!AC1488=referentes!AH1488,CONCATENATE(referentes!AC1488,\" \",\" \",\" \",\" \"),IF(referentes!AC1488=referentes!AI1488,CONCATENATE(referentes!AH1488,\" \",referentes!AI1488,\" \",\" \"),CONCATENATE(referentes!AH1488,\" \",referentes!AI1488,\" \",referentes!AC1488))))","v":""},{"$f":"IF(referentes!AB1488=\"\",\"\",referentes!AB1488)","v":""}]
[null,null,null,null,null,null,null,null,null,null,null,null,null,null,null,{"$f":"IF(referentes!AC1489=\"\",\"\",IF(referentes!AC1489=referentes!AH1489,CONCATENATE(referentes!AC1489,\" \",\" \",\" \",\" \"),IF(referentes!AC1489=referentes!AI1489,CONCATENATE(referentes!AH1489,\" \",referentes!AI1489,\" \",\" \"),CONCATENATE(referentes!AH1489,\" \",referentes!AI1489,\" \",referentes!AC1489))))","v":""},{"$f":"IF(referentes!AB1489=\"\",\"\",referentes!AB1489)","v":""}]
[null,null,null,null,null,null,null,null,null,null,null,null,null,null,null,{"$f":"IF(referentes!AC1490=\"\",\"\",IF(referentes!AC1490=referentes!AH1490,CONCATENATE(referentes!AC1490,\" \",\" \",\" \",\" \"),IF(referentes!AC1490=referentes!AI1490,CONCATENATE(referentes!AH1490,\" \",referentes!AI1490,\" \",\" \"),CONCATENATE(referentes!AH1490,\" \",referentes!AI1490,\" \",referentes!AC1490))))","v":""},{"$f":"IF(referentes!AB1490=\"\",\"\",referentes!AB1490)","v":""}]
[null,null,null,null,null,null,null,null,null,null,null,null,null,null,null,{"$f":"IF(referentes!AC1491=\"\",\"\",IF(referentes!AC1491=referentes!AH1491,CONCATENATE(referentes!AC1491,\" \",\" \",\" \",\" \"),IF(referentes!AC1491=referentes!AI1491,CONCATENATE(referentes!AH1491,\" \",referentes!AI1491,\" \",\" \"),CONCATENATE(referentes!AH1491,\" \",referentes!AI1491,\" \",referentes!AC1491))))","v":""},{"$f":"IF(referentes!AB1491=\"\",\"\",referentes!AB1491)","v":""}]
[null,null,null,null,null,null,null,null,null,null,null,null,null,null,null,{"$f":"IF(referentes!AC1492=\"\",\"\",IF(referentes!AC1492=referentes!AH1492,CONCATENATE(referentes!AC1492,\" \",\" \",\" \",\" \"),IF(referentes!AC1492=referentes!AI1492,CONCATENATE(referentes!AH1492,\" \",referentes!AI1492,\" \",\" \"),CONCATENATE(referentes!AH1492,\" \",referentes!AI1492,\" \",referentes!AC1492))))","v":""},{"$f":"IF(referentes!AB1492=\"\",\"\",referentes!AB1492)","v":""}]
[null,null,null,null,null,null,null,null,null,null,null,null,null,null,null,{"$f":"IF(referentes!AC1493=\"\",\"\",IF(referentes!AC1493=referentes!AH1493,CONCATENATE(referentes!AC1493,\" \",\" \",\" \",\" \"),IF(referentes!AC1493=referentes!AI1493,CONCATENATE(referentes!AH1493,\" \",referentes!AI1493,\" \",\" \"),CONCATENATE(referentes!AH1493,\" \",referentes!AI1493,\" \",referentes!AC1493))))","v":""},{"$f":"IF(referentes!AB1493=\"\",\"\",referentes!AB1493)","v":""}]
[null,null,null,null,null,null,null,null,null,null,null,null,null,null,null,{"$f":"IF(referentes!AC1494=\"\",\"\",IF(referentes!AC1494=referentes!AH1494,CONCATENATE(referentes!AC1494,\" \",\" \",\" \",\" \"),IF(referentes!AC1494=referentes!AI1494,CONCATENATE(referentes!AH1494,\" \",referentes!AI1494,\" \",\" \"),CONCATENATE(referentes!AH1494,\" \",referentes!AI1494,\" \",referentes!AC1494))))","v":""},{"$f":"IF(referentes!AB1494=\"\",\"\",referentes!AB1494)","v":""}]
[null,null,null,null,null,null,null,null,null,null,null,null,null,null,null,{"$f":"IF(referentes!AC1495=\"\",\"\",IF(referentes!AC1495=referentes!AH1495,CONCATENATE(referentes!AC1495,\" \",\" \",\" \",\" \"),IF(referentes!AC1495=referentes!AI1495,CONCATENATE(referentes!AH1495,\" \",referentes!AI1495,\" \",\" \"),CONCATENATE(referentes!AH1495,\" \",referentes!AI1495,\" \",referentes!AC1495))))","v":""},{"$f":"IF(referentes!AB1495=\"\",\"\",referentes!AB1495)","v":""}]
[null,null,null,null,null,null,null,null,null,null,null,null,null,null,null,{"$f":"IF(referentes!AC1496=\"\",\"\",IF(referentes!AC1496=referentes!AH1496,CONCATENATE(referentes!AC1496,\" \",\" \",\" \",\" \"),IF(referentes!AC1496=referentes!AI1496,CONCATENATE(referentes!AH1496,\" \",referentes!AI1496,\" \",\" \"),CONCATENATE(referentes!AH1496,\" \",referentes!AI1496,\" \",referentes!AC1496))))","v":""},{"$f":"IF(referentes!AB1496=\"\",\"\",referentes!AB1496)","v":""}]
[null,null,null,null,null,null,null,null,null,null,null,null,null,null,null,{"$f":"IF(referentes!AC1497=\"\",\"\",IF(referentes!AC1497=referentes!AH1497,CONCATENATE(referentes!AC1497,\" \",\" \",\" \",\" \"),IF(referentes!AC1497=referentes!AI1497,CONCATENATE(referentes!AH1497,\" \",referentes!AI1497,\" \",\" \"),CONCATENATE(referentes!AH1497,\" \",referentes!AI1497,\" \",referentes!AC1497))))","v":""},{"$f":"IF(referentes!AB1497=\"\",\"\",referentes!AB1497)","v":""}]
[null,null,null,null,null,null,null,null,null,null,null,null,null,null,null,{"$f":"IF(referentes!AC1498=\"\",\"\",IF(referentes!AC1498=referentes!AH1498,CONCATENATE(referentes!AC1498,\" \",\" \",\" \",\" \"),IF(referentes!AC1498=referentes!AI1498,CONCATENATE(referentes!AH1498,\" \",referentes!AI1498,\" \",\" \"),CONCATENATE(referentes!AH1498,\" \",referentes!AI1498,\" \",referentes!AC1498))))","v":""},{"$f":"IF(referentes!AB1498=\"\",\"\",referentes!AB1498)","v":""}]
[null,null,null,null,null,null,null,null,null,null,null,null,null,null,null,{"$f":"IF(referentes!AC1499=\"\",\"\",IF(referentes!AC1499=referentes!AH1499,CONCATENATE(referentes!AC1499,\" \",\" \",\" \",\" \"),IF(referentes!AC1499=referentes!AI1499,CONCATENATE(referentes!AH1499,\" \",referentes!AI1499,\" \",\" \"),CONCATENATE(referentes!AH1499,\" \",referentes!AI1499,\" \",referentes!AC1499))))","v":""},{"$f":"IF(referentes!AB1499=\"\",\"\",referentes!AB1499)","v":""}]
[null,null,null,null,null,null,null,null,null,null,null,null,null,null,null,{"$f":"IF(referentes!AC1500=\"\",\"\",IF(referentes!AC1500=referentes!AH1500,CONCATENATE(referentes!AC1500,\" \",\" \",\" \",\" \"),IF(referentes!AC1500=referentes!AI1500,CONCATENATE(referentes!AH1500,\" \",referentes!AI1500,\" \",\" \"),CONCATENATE(referentes!AH1500,\" \",referentes!AI1500,\" \",referentes!AC1500))))","v":""},{"$f":"IF(referentes!AB1500=\"\",\"\",referentes!AB1500)","v":""}]
[null,null,null,null,null,null,null,null,null,null,null,null,null,null,null,{"$f":"IF(referentes!AC1501=\"\",\"\",IF(referentes!AC1501=referentes!AH1501,CONCATENATE(referentes!AC1501,\" \",\" \",\" \",\" \"),IF(referentes!AC1501=referentes!AI1501,CONCATENATE(referentes!AH1501,\" \",referentes!AI1501,\" \",\" \"),CONCATENATE(referentes!AH1501,\" \",referentes!AI1501,\" \",referentes!AC1501))))","v":""},{"$f":"IF(referentes!AB1501=\"\",\"\",referentes!AB1501)","v":""}]
[null,null,null,null,null,null,null,null,null,null,null,null,null,null,null,{"$f":"IF(referentes!AC1502=\"\",\"\",IF(referentes!AC1502=referentes!AH1502,CONCATENATE(referentes!AC1502,\" \",\" \",\" \",\" \"),IF(referentes!AC1502=referentes!AI1502,CONCATENATE(referentes!AH1502,\" \",referentes!AI1502,\" \",\" \"),CONCATENATE(referentes!AH1502,\" \",referentes!AI1502,\" \",referentes!AC1502))))","v":""},{"$f":"IF(referentes!AB1502=\"\",\"\",referentes!AB1502)","v":""}]
[null,null,null,null,null,null,null,null,null,null,null,null,null,null,null,{"$f":"IF(referentes!AC1503=\"\",\"\",IF(referentes!AC1503=referentes!AH1503,CONCATENATE(referentes!AC1503,\" \",\" \",\" \",\" \"),IF(referentes!AC1503=referentes!AI1503,CONCATENATE(referentes!AH1503,\" \",referentes!AI1503,\" \",\" \"),CONCATENATE(referentes!AH1503,\" \",referentes!AI1503,\" \",referentes!AC1503))))","v":""},{"$f":"IF(referentes!AB1503=\"\",\"\",referentes!AB1503)","v":""}]
[null,null,null,null,null,null,null,null,null,null,null,null,null,null,null,{"$f":"IF(referentes!AC1504=\"\",\"\",IF(referentes!AC1504=referentes!AH1504,CONCATENATE(referentes!AC1504,\" \",\" \",\" \",\" \"),IF(referentes!AC1504=referentes!AI1504,CONCATENATE(referentes!AH1504,\" \",referentes!AI1504,\" \",\" \"),CONCATENATE(referentes!AH1504,\" \",referentes!AI1504,\" \",referentes!AC1504))))","v":""},{"$f":"IF(referentes!AB1504=\"\",\"\",referentes!AB1504)","v":""}]
[null,null,null,null,null,null,null,null,null,null,null,null,null,null,null,{"$f":"IF(referentes!AC1505=\"\",\"\",IF(referentes!AC1505=referentes!AH1505,CONCATENATE(referentes!AC1505,\" \",\" \",\" \",\" \"),IF(referentes!AC1505=referentes!AI1505,CONCATENATE(referentes!AH1505,\" \",referentes!AI1505,\" \",\" \"),CONCATENATE(referentes!AH1505,\" \",referentes!AI1505,\" \",referentes!AC1505))))","v":""},{"$f":"IF(referentes!AB1505=\"\",\"\",referentes!AB1505)","v":""}]
[null,null,null,null,null,null,null,null,null,null,null,null,null,null,null,{"$f":"IF(referentes!AC1506=\"\",\"\",IF(referentes!AC1506=referentes!AH1506,CONCATENATE(referentes!AC1506,\" \",\" \",\" \",\" \"),IF(referentes!AC1506=referentes!AI1506,CONCATENATE(referentes!AH1506,\" \",referentes!AI1506,\" \",\" \"),CONCATENATE(referentes!AH1506,\" \",referentes!AI1506,\" \",referentes!AC1506))))","v":""},{"$f":"IF(referentes!AB1506=\"\",\"\",referentes!AB1506)","v":""}]
[null,null,null,null,null,null,null,null,null,null,null,null,null,null,null,{"$f":"IF(referentes!AC1507=\"\",\"\",IF(referentes!AC1507=referentes!AH1507,CONCATENATE(referentes!AC1507,\" \",\" \",\" \",\" \"),IF(referentes!AC1507=referentes!AI1507,CONCATENATE(referentes!AH1507,\" \",referentes!AI1507,\" \",\" \"),CONCATENATE(referentes!AH1507,\" \",referentes!AI1507,\" \",referentes!AC1507))))","v":""},{"$f":"IF(referentes!AB1507=\"\",\"\",referentes!AB1507)","v":""}]
[null,null,null,null,null,null,null,null,null,null,null,null,null,null,null,{"$f":"IF(referentes!AC1508=\"\",\"\",IF(referentes!AC1508=referentes!AH1508,CONCATENATE(referentes!AC1508,\" \",\" \",\" \",\" \"),IF(referentes!AC1508=referentes!AI1508,CONCATENATE(referentes!AH1508,\" \",referentes!AI1508,\" \",\" \"),CONCATENATE(referentes!AH1508,\" \",referentes!AI1508,\" \",referentes!AC1508))))","v":""},{"$f":"IF(referentes!AB1508=\"\",\"\",referentes!AB1508)","v":""}]
[null,null,null,null,null,null,null,null,null,null,null,null,null,null,null,{"$f":"IF(referentes!AC1509=\"\",\"\",IF(referentes!AC1509=referentes!AH1509,CONCATENATE(referentes!AC1509,\" \",\" \",\" \",\" \"),IF(referentes!AC1509=referentes!AI1509,CONCATENATE(referentes!AH1509,\" \",referentes!AI1509,\" \",\" \"),CONCATENATE(referentes!AH1509,\" \",referentes!AI1509,\" \",referentes!AC1509))))","v":""},{"$f":"IF(referentes!AB1509=\"\",\"\",referentes!AB1509)","v":""}]
[null,null,null,null,null,null,null,null,null,null,null,null,null,null,null,{"$f":"IF(referentes!AC1510=\"\",\"\",IF(referentes!AC1510=referentes!AH1510,CONCATENATE(referentes!AC1510,\" \",\" \",\" \",\" \"),IF(referentes!AC1510=referentes!AI1510,CONCATENATE(referentes!AH1510,\" \",referentes!AI1510,\" \",\" \"),CONCATENATE(referentes!AH1510,\" \",referentes!AI1510,\" \",referentes!AC1510))))","v":""},{"$f":"IF(referentes!AB1510=\"\",\"\",referentes!AB1510)","v":""}]
[null,null,null,null,null,null,null,null,null,null,null,null,null,null,null,{"$f":"IF(referentes!AC1511=\"\",\"\",IF(referentes!AC1511=referentes!AH1511,CONCATENATE(referentes!AC1511,\" \",\" \",\" \",\" \"),IF(referentes!AC1511=referentes!AI1511,CONCATENATE(referentes!AH1511,\" \",referentes!AI1511,\" \",\" \"),CONCATENATE(referentes!AH1511,\" \",referentes!AI1511,\" \",referentes!AC1511))))","v":""},{"$f":"IF(referentes!AB1511=\"\",\"\",referentes!AB1511)","v":""}]
[null,null,null,null,null,null,null,null,null,null,null,null,null,null,null,{"$f":"IF(referentes!AC1512=\"\",\"\",IF(referentes!AC1512=referentes!AH1512,CONCATENATE(referentes!AC1512,\" \",\" \",\" \",\" \"),IF(referentes!AC1512=referentes!AI1512,CONCATENATE(referentes!AH1512,\" \",referentes!AI1512,\" \",\" \"),CONCATENATE(referentes!AH1512,\" \",referentes!AI1512,\" \",referentes!AC1512))))","v":""},{"$f":"IF(referentes!AB1512=\"\",\"\",referentes!AB1512)","v":""}]
[null,null,null,null,null,null,null,null,null,null,null,null,null,null,null,{"$f":"IF(referentes!AC1513=\"\",\"\",IF(referentes!AC1513=referentes!AH1513,CONCATENATE(referentes!AC1513,\" \",\" \",\" \",\" \"),IF(referentes!AC1513=referentes!AI1513,CONCATENATE(referentes!AH1513,\" \",referentes!AI1513,\" \",\" \"),CONCATENATE(referentes!AH1513,\" \",referentes!AI1513,\" \",referentes!AC1513))))","v":""},{"$f":"IF(referentes!AB1513=\"\",\"\",referentes!AB1513)","v":""}]
[null,null,null,null,null,null,null,null,null,null,null,null,null,null,null,{"$f":"IF(referentes!AC1514=\"\",\"\",IF(referentes!AC1514=referentes!AH1514,CONCATENATE(referentes!AC1514,\" \",\" \",\" \",\" \"),IF(referentes!AC1514=referentes!AI1514,CONCATENATE(referentes!AH1514,\" \",referentes!AI1514,\" \",\" \"),CONCATENATE(referentes!AH1514,\" \",referentes!AI1514,\" \",referentes!AC1514))))","v":""},{"$f":"IF(referentes!AB1514=\"\",\"\",referentes!AB1514)","v":""}]
[null,null,null,null,null,null,null,null,null,null,null,null,null,null,null,{"$f":"IF(referentes!AC1515=\"\",\"\",IF(referentes!AC1515=referentes!AH1515,CONCATENATE(referentes!AC1515,\" \",\" \",\" \",\" \"),IF(referentes!AC1515=referentes!AI1515,CONCATENATE(referentes!AH1515,\" \",referentes!AI1515,\" \",\" \"),CONCATENATE(referentes!AH1515,\" \",referentes!AI1515,\" \",referentes!AC1515))))","v":""},{"$f":"IF(referentes!AB1515=\"\",\"\",referentes!AB1515)","v":""}]
[null,null,null,null,null,null,null,null,null,null,null,null,null,null,null,{"$f":"IF(referentes!AC1516=\"\",\"\",IF(referentes!AC1516=referentes!AH1516,CONCATENATE(referentes!AC1516,\" \",\" \",\" \",\" \"),IF(referentes!AC1516=referentes!AI1516,CONCATENATE(referentes!AH1516,\" \",referentes!AI1516,\" \",\" \"),CONCATENATE(referentes!AH1516,\" \",referentes!AI1516,\" \",referentes!AC1516))))","v":""},{"$f":"IF(referentes!AB1516=\"\",\"\",referentes!AB1516)","v":""}]
[null,null,null,null,null,null,null,null,null,null,null,null,null,null,null,{"$f":"IF(referentes!AC1517=\"\",\"\",IF(referentes!AC1517=referentes!AH1517,CONCATENATE(referentes!AC1517,\" \",\" \",\" \",\" \"),IF(referentes!AC1517=referentes!AI1517,CONCATENATE(referentes!AH1517,\" \",referentes!AI1517,\" \",\" \"),CONCATENATE(referentes!AH1517,\" \",referentes!AI1517,\" \",referentes!AC1517))))","v":""},{"$f":"IF(referentes!AB1517=\"\",\"\",referentes!AB1517)","v":""}]
[null,null,null,null,null,null,null,null,null,null,null,null,null,null,null,{"$f":"IF(referentes!AC1518=\"\",\"\",IF(referentes!AC1518=referentes!AH1518,CONCATENATE(referentes!AC1518,\" \",\" \",\" \",\" \"),IF(referentes!AC1518=referentes!AI1518,CONCATENATE(referentes!AH1518,\" \",referentes!AI1518,\" \",\" \"),CONCATENATE(referentes!AH1518,\" \",referentes!AI1518,\" \",referentes!AC1518))))","v":""},{"$f":"IF(referentes!AB1518=\"\",\"\",referentes!AB1518)","v":""}]
[null,null,null,null,null,null,null,null,null,null,null,null,null,null,null,{"$f":"IF(referentes!AC1519=\"\",\"\",IF(referentes!AC1519=referentes!AH1519,CONCATENATE(referentes!AC1519,\" \",\" \",\" \",\" \"),IF(referentes!AC1519=referentes!AI1519,CONCATENATE(referentes!AH1519,\" \",referentes!AI1519,\" \",\" \"),CONCATENATE(referentes!AH1519,\" \",referentes!AI1519,\" \",referentes!AC1519))))","v":""},{"$f":"IF(referentes!AB1519=\"\",\"\",referentes!AB1519)","v":""}]
[null,null,null,null,null,null,null,null,null,null,null,null,null,null,null,{"$f":"IF(referentes!AC1520=\"\",\"\",IF(referentes!AC1520=referentes!AH1520,CONCATENATE(referentes!AC1520,\" \",\" \",\" \",\" \"),IF(referentes!AC1520=referentes!AI1520,CONCATENATE(referentes!AH1520,\" \",referentes!AI1520,\" \",\" \"),CONCATENATE(referentes!AH1520,\" \",referentes!AI1520,\" \",referentes!AC1520))))","v":""},{"$f":"IF(referentes!AB1520=\"\",\"\",referentes!AB1520)","v":""}]
[null,null,null,null,null,null,null,null,null,null,null,null,null,null,null,{"$f":"IF(referentes!AC1521=\"\",\"\",IF(referentes!AC1521=referentes!AH1521,CONCATENATE(referentes!AC1521,\" \",\" \",\" \",\" \"),IF(referentes!AC1521=referentes!AI1521,CONCATENATE(referentes!AH1521,\" \",referentes!AI1521,\" \",\" \"),CONCATENATE(referentes!AH1521,\" \",referentes!AI1521,\" \",referentes!AC1521))))","v":""},{"$f":"IF(referentes!AB1521=\"\",\"\",referentes!AB1521)","v":""}]
[null,null,null,null,null,null,null,null,null,null,null,null,null,null,null,{"$f":"IF(referentes!AC1522=\"\",\"\",IF(referentes!AC1522=referentes!AH1522,CONCATENATE(referentes!AC1522,\" \",\" \",\" \",\" \"),IF(referentes!AC1522=referentes!AI1522,CONCATENATE(referentes!AH1522,\" \",referentes!AI1522,\" \",\" \"),CONCATENATE(referentes!AH1522,\" \",referentes!AI1522,\" \",referentes!AC1522))))","v":""},{"$f":"IF(referentes!AB1522=\"\",\"\",referentes!AB1522)","v":""}]
[null,null,null,null,null,null,null,null,null,null,null,null,null,null,null,{"$f":"IF(referentes!AC1523=\"\",\"\",IF(referentes!AC1523=referentes!AH1523,CONCATENATE(referentes!AC1523,\" \",\" \",\" \",\" \"),IF(referentes!AC1523=referentes!AI1523,CONCATENATE(referentes!AH1523,\" \",referentes!AI1523,\" \",\" \"),CONCATENATE(referentes!AH1523,\" \",referentes!AI1523,\" \",referentes!AC1523))))","v":""},{"$f":"IF(referentes!AB1523=\"\",\"\",referentes!AB1523)","v":""}]
[null,null,null,null,null,null,null,null,null,null,null,null,null,null,null,{"$f":"IF(referentes!AC1524=\"\",\"\",IF(referentes!AC1524=referentes!AH1524,CONCATENATE(referentes!AC1524,\" \",\" \",\" \",\" \"),IF(referentes!AC1524=referentes!AI1524,CONCATENATE(referentes!AH1524,\" \",referentes!AI1524,\" \",\" \"),CONCATENATE(referentes!AH1524,\" \",referentes!AI1524,\" \",referentes!AC1524))))","v":""},{"$f":"IF(referentes!AB1524=\"\",\"\",referentes!AB1524)","v":""}]
[null,null,null,null,null,null,null,null,null,null,null,null,null,null,null,{"$f":"IF(referentes!AC1525=\"\",\"\",IF(referentes!AC1525=referentes!AH1525,CONCATENATE(referentes!AC1525,\" \",\" \",\" \",\" \"),IF(referentes!AC1525=referentes!AI1525,CONCATENATE(referentes!AH1525,\" \",referentes!AI1525,\" \",\" \"),CONCATENATE(referentes!AH1525,\" \",referentes!AI1525,\" \",referentes!AC1525))))","v":""},{"$f":"IF(referentes!AB1525=\"\",\"\",referentes!AB1525)","v":""}]
[null,null,null,null,null,null,null,null,null,null,null,null,null,null,null,{"$f":"IF(referentes!AC1526=\"\",\"\",IF(referentes!AC1526=referentes!AH1526,CONCATENATE(referentes!AC1526,\" \",\" \",\" \",\" \"),IF(referentes!AC1526=referentes!AI1526,CONCATENATE(referentes!AH1526,\" \",referentes!AI1526,\" \",\" \"),CONCATENATE(referentes!AH1526,\" \",referentes!AI1526,\" \",referentes!AC1526))))","v":""},{"$f":"IF(referentes!AB1526=\"\",\"\",referentes!AB1526)","v":""}]
[null,null,null,null,null,null,null,null,null,null,null,null,null,null,null,{"$f":"IF(referentes!AC1527=\"\",\"\",IF(referentes!AC1527=referentes!AH1527,CONCATENATE(referentes!AC1527,\" \",\" \",\" \",\" \"),IF(referentes!AC1527=referentes!AI1527,CONCATENATE(referentes!AH1527,\" \",referentes!AI1527,\" \",\" \"),CONCATENATE(referentes!AH1527,\" \",referentes!AI1527,\" \",referentes!AC1527))))","v":""},{"$f":"IF(referentes!AB1527=\"\",\"\",referentes!AB1527)","v":""}]
[null,null,null,null,null,null,null,null,null,null,null,null,null,null,null,{"$f":"IF(referentes!AC1528=\"\",\"\",IF(referentes!AC1528=referentes!AH1528,CONCATENATE(referentes!AC1528,\" \",\" \",\" \",\" \"),IF(referentes!AC1528=referentes!AI1528,CONCATENATE(referentes!AH1528,\" \",referentes!AI1528,\" \",\" \"),CONCATENATE(referentes!AH1528,\" \",referentes!AI1528,\" \",referentes!AC1528))))","v":""},{"$f":"IF(referentes!AB1528=\"\",\"\",referentes!AB1528)","v":""}]
[null,null,null,null,null,null,null,null,null,null,null,null,null,null,null,{"$f":"IF(referentes!AC1529=\"\",\"\",IF(referentes!AC1529=referentes!AH1529,CONCATENATE(referentes!AC1529,\" \",\" \",\" \",\" \"),IF(referentes!AC1529=referentes!AI1529,CONCATENATE(referentes!AH1529,\" \",referentes!AI1529,\" \",\" \"),CONCATENATE(referentes!AH1529,\" \",referentes!AI1529,\" \",referentes!AC1529))))","v":""},{"$f":"IF(referentes!AB1529=\"\",\"\",referentes!AB1529)","v":""}]
[null,null,null,null,null,null,null,null,null,null,null,null,null,null,null,{"$f":"IF(referentes!AC1530=\"\",\"\",IF(referentes!AC1530=referentes!AH1530,CONCATENATE(referentes!AC1530,\" \",\" \",\" \",\" \"),IF(referentes!AC1530=referentes!AI1530,CONCATENATE(referentes!AH1530,\" \",referentes!AI1530,\" \",\" \"),CONCATENATE(referentes!AH1530,\" \",referentes!AI1530,\" \",referentes!AC1530))))","v":""},{"$f":"IF(referentes!AB1530=\"\",\"\",referentes!AB1530)","v":""}]
[null,null,null,null,null,null,null,null,null,null,null,null,null,null,null,{"$f":"IF(referentes!AC1531=\"\",\"\",IF(referentes!AC1531=referentes!AH1531,CONCATENATE(referentes!AC1531,\" \",\" \",\" \",\" \"),IF(referentes!AC1531=referentes!AI1531,CONCATENATE(referentes!AH1531,\" \",referentes!AI1531,\" \",\" \"),CONCATENATE(referentes!AH1531,\" \",referentes!AI1531,\" \",referentes!AC1531))))","v":""},{"$f":"IF(referentes!AB1531=\"\",\"\",referentes!AB1531)","v":""}]
[null,null,null,null,null,null,null,null,null,null,null,null,null,null,null,{"$f":"IF(referentes!AC1532=\"\",\"\",IF(referentes!AC1532=referentes!AH1532,CONCATENATE(referentes!AC1532,\" \",\" \",\" \",\" \"),IF(referentes!AC1532=referentes!AI1532,CONCATENATE(referentes!AH1532,\" \",referentes!AI1532,\" \",\" \"),CONCATENATE(referentes!AH1532,\" \",referentes!AI1532,\" \",referentes!AC1532))))","v":""},{"$f":"IF(referentes!AB1532=\"\",\"\",referentes!AB1532)","v":""}]
[null,null,null,null,null,null,null,null,null,null,null,null,null,null,null,{"$f":"IF(referentes!AC1533=\"\",\"\",IF(referentes!AC1533=referentes!AH1533,CONCATENATE(referentes!AC1533,\" \",\" \",\" \",\" \"),IF(referentes!AC1533=referentes!AI1533,CONCATENATE(referentes!AH1533,\" \",referentes!AI1533,\" \",\" \"),CONCATENATE(referentes!AH1533,\" \",referentes!AI1533,\" \",referentes!AC1533))))","v":""},{"$f":"IF(referentes!AB1533=\"\",\"\",referentes!AB1533)","v":""}]
[null,null,null,null,null,null,null,null,null,null,null,null,null,null,null,{"$f":"IF(referentes!AC1534=\"\",\"\",IF(referentes!AC1534=referentes!AH1534,CONCATENATE(referentes!AC1534,\" \",\" \",\" \",\" \"),IF(referentes!AC1534=referentes!AI1534,CONCATENATE(referentes!AH1534,\" \",referentes!AI1534,\" \",\" \"),CONCATENATE(referentes!AH1534,\" \",referentes!AI1534,\" \",referentes!AC1534))))","v":""},{"$f":"IF(referentes!AB1534=\"\",\"\",referentes!AB1534)","v":""}]
[null,null,null,null,null,null,null,null,null,null,null,null,null,null,null,{"$f":"IF(referentes!AC1535=\"\",\"\",IF(referentes!AC1535=referentes!AH1535,CONCATENATE(referentes!AC1535,\" \",\" \",\" \",\" \"),IF(referentes!AC1535=referentes!AI1535,CONCATENATE(referentes!AH1535,\" \",referentes!AI1535,\" \",\" \"),CONCATENATE(referentes!AH1535,\" \",referentes!AI1535,\" \",referentes!AC1535))))","v":""},{"$f":"IF(referentes!AB1535=\"\",\"\",referentes!AB1535)","v":""}]
[null,null,null,null,null,null,null,null,null,null,null,null,null,null,null,{"$f":"IF(referentes!AC1536=\"\",\"\",IF(referentes!AC1536=referentes!AH1536,CONCATENATE(referentes!AC1536,\" \",\" \",\" \",\" \"),IF(referentes!AC1536=referentes!AI1536,CONCATENATE(referentes!AH1536,\" \",referentes!AI1536,\" \",\" \"),CONCATENATE(referentes!AH1536,\" \",referentes!AI1536,\" \",referentes!AC1536))))","v":""},{"$f":"IF(referentes!AB1536=\"\",\"\",referentes!AB1536)","v":""}]
[null,null,null,null,null,null,null,null,null,null,null,null,null,null,null,{"$f":"IF(referentes!AC1537=\"\",\"\",IF(referentes!AC1537=referentes!AH1537,CONCATENATE(referentes!AC1537,\" \",\" \",\" \",\" \"),IF(referentes!AC1537=referentes!AI1537,CONCATENATE(referentes!AH1537,\" \",referentes!AI1537,\" \",\" \"),CONCATENATE(referentes!AH1537,\" \",referentes!AI1537,\" \",referentes!AC1537))))","v":""},{"$f":"IF(referentes!AB1537=\"\",\"\",referentes!AB1537)","v":""}]
[null,null,null,null,null,null,null,null,null,null,null,null,null,null,null,{"$f":"IF(referentes!AC1538=\"\",\"\",IF(referentes!AC1538=referentes!AH1538,CONCATENATE(referentes!AC1538,\" \",\" \",\" \",\" \"),IF(referentes!AC1538=referentes!AI1538,CONCATENATE(referentes!AH1538,\" \",referentes!AI1538,\" \",\" \"),CONCATENATE(referentes!AH1538,\" \",referentes!AI1538,\" \",referentes!AC1538))))","v":""},{"$f":"IF(referentes!AB1538=\"\",\"\",referentes!AB1538)","v":""}]
[null,null,null,null,null,null,null,null,null,null,null,null,null,null,null,{"$f":"IF(referentes!AC1539=\"\",\"\",IF(referentes!AC1539=referentes!AH1539,CONCATENATE(referentes!AC1539,\" \",\" \",\" \",\" \"),IF(referentes!AC1539=referentes!AI1539,CONCATENATE(referentes!AH1539,\" \",referentes!AI1539,\" \",\" \"),CONCATENATE(referentes!AH1539,\" \",referentes!AI1539,\" \",referentes!AC1539))))","v":""},{"$f":"IF(referentes!AB1539=\"\",\"\",referentes!AB1539)","v":""}]
[null,null,null,null,null,null,null,null,null,null,null,null,null,null,null,{"$f":"IF(referentes!AC1540=\"\",\"\",IF(referentes!AC1540=referentes!AH1540,CONCATENATE(referentes!AC1540,\" \",\" \",\" \",\" \"),IF(referentes!AC1540=referentes!AI1540,CONCATENATE(referentes!AH1540,\" \",referentes!AI1540,\" \",\" \"),CONCATENATE(referentes!AH1540,\" \",referentes!AI1540,\" \",referentes!AC1540))))","v":""},{"$f":"IF(referentes!AB1540=\"\",\"\",referentes!AB1540)","v":""}]
[null,null,null,null,null,null,null,null,null,null,null,null,null,null,null,{"$f":"IF(referentes!AC1541=\"\",\"\",IF(referentes!AC1541=referentes!AH1541,CONCATENATE(referentes!AC1541,\" \",\" \",\" \",\" \"),IF(referentes!AC1541=referentes!AI1541,CONCATENATE(referentes!AH1541,\" \",referentes!AI1541,\" \",\" \"),CONCATENATE(referentes!AH1541,\" \",referentes!AI1541,\" \",referentes!AC1541))))","v":""},{"$f":"IF(referentes!AB1541=\"\",\"\",referentes!AB1541)","v":""}]
[null,null,null,null,null,null,null,null,null,null,null,null,null,null,null,{"$f":"IF(referentes!AC1542=\"\",\"\",IF(referentes!AC1542=referentes!AH1542,CONCATENATE(referentes!AC1542,\" \",\" \",\" \",\" \"),IF(referentes!AC1542=referentes!AI1542,CONCATENATE(referentes!AH1542,\" \",referentes!AI1542,\" \",\" \"),CONCATENATE(referentes!AH1542,\" \",referentes!AI1542,\" \",referentes!AC1542))))","v":""},{"$f":"IF(referentes!AB1542=\"\",\"\",referentes!AB1542)","v":""}]
[null,null,null,null,null,null,null,null,null,null,null,null,null,null,null,{"$f":"IF(referentes!AC1543=\"\",\"\",IF(referentes!AC1543=referentes!AH1543,CONCATENATE(referentes!AC1543,\" \",\" \",\" \",\" \"),IF(referentes!AC1543=referentes!AI1543,CONCATENATE(referentes!AH1543,\" \",referentes!AI1543,\" \",\" \"),CONCATENATE(referentes!AH1543,\" \",referentes!AI1543,\" \",referentes!AC1543))))","v":""},{"$f":"IF(referentes!AB1543=\"\",\"\",referentes!AB1543)","v":""}]
[null,null,null,null,null,null,null,null,null,null,null,null,null,null,null,{"$f":"IF(referentes!AC1544=\"\",\"\",IF(referentes!AC1544=referentes!AH1544,CONCATENATE(referentes!AC1544,\" \",\" \",\" \",\" \"),IF(referentes!AC1544=referentes!AI1544,CONCATENATE(referentes!AH1544,\" \",referentes!AI1544,\" \",\" \"),CONCATENATE(referentes!AH1544,\" \",referentes!AI1544,\" \",referentes!AC1544))))","v":""},{"$f":"IF(referentes!AB1544=\"\",\"\",referentes!AB1544)","v":""}]
[null,null,null,null,null,null,null,null,null,null,null,null,null,null,null,{"$f":"IF(referentes!AC1545=\"\",\"\",IF(referentes!AC1545=referentes!AH1545,CONCATENATE(referentes!AC1545,\" \",\" \",\" \",\" \"),IF(referentes!AC1545=referentes!AI1545,CONCATENATE(referentes!AH1545,\" \",referentes!AI1545,\" \",\" \"),CONCATENATE(referentes!AH1545,\" \",referentes!AI1545,\" \",referentes!AC1545))))","v":""},{"$f":"IF(referentes!AB1545=\"\",\"\",referentes!AB1545)","v":""}]
[null,null,null,null,null,null,null,null,null,null,null,null,null,null,null,{"$f":"IF(referentes!AC1546=\"\",\"\",IF(referentes!AC1546=referentes!AH1546,CONCATENATE(referentes!AC1546,\" \",\" \",\" \",\" \"),IF(referentes!AC1546=referentes!AI1546,CONCATENATE(referentes!AH1546,\" \",referentes!AI1546,\" \",\" \"),CONCATENATE(referentes!AH1546,\" \",referentes!AI1546,\" \",referentes!AC1546))))","v":""},{"$f":"IF(referentes!AB1546=\"\",\"\",referentes!AB1546)","v":""}]
[null,null,null,null,null,null,null,null,null,null,null,null,null,null,null,{"$f":"IF(referentes!AC1547=\"\",\"\",IF(referentes!AC1547=referentes!AH1547,CONCATENATE(referentes!AC1547,\" \",\" \",\" \",\" \"),IF(referentes!AC1547=referentes!AI1547,CONCATENATE(referentes!AH1547,\" \",referentes!AI1547,\" \",\" \"),CONCATENATE(referentes!AH1547,\" \",referentes!AI1547,\" \",referentes!AC1547))))","v":""},{"$f":"IF(referentes!AB1547=\"\",\"\",referentes!AB1547)","v":""}]
[null,null,null,null,null,null,null,null,null,null,null,null,null,null,null,{"$f":"IF(referentes!AC1548=\"\",\"\",IF(referentes!AC1548=referentes!AH1548,CONCATENATE(referentes!AC1548,\" \",\" \",\" \",\" \"),IF(referentes!AC1548=referentes!AI1548,CONCATENATE(referentes!AH1548,\" \",referentes!AI1548,\" \",\" \"),CONCATENATE(referentes!AH1548,\" \",referentes!AI1548,\" \",referentes!AC1548))))","v":""},{"$f":"IF(referentes!AB1548=\"\",\"\",referentes!AB1548)","v":""}]
[null,null,null,null,null,null,null,null,null,null,null,null,null,null,null,{"$f":"IF(referentes!AC1549=\"\",\"\",IF(referentes!AC1549=referentes!AH1549,CONCATENATE(referentes!AC1549,\" \",\" \",\" \",\" \"),IF(referentes!AC1549=referentes!AI1549,CONCATENATE(referentes!AH1549,\" \",referentes!AI1549,\" \",\" \"),CONCATENATE(referentes!AH1549,\" \",referentes!AI1549,\" \",referentes!AC1549))))","v":""},{"$f":"IF(referentes!AB1549=\"\",\"\",referentes!AB1549)","v":""}]
[null,null,null,null,null,null,null,null,null,null,null,null,null,null,null,{"$f":"IF(referentes!AC1550=\"\",\"\",IF(referentes!AC1550=referentes!AH1550,CONCATENATE(referentes!AC1550,\" \",\" \",\" \",\" \"),IF(referentes!AC1550=referentes!AI1550,CONCATENATE(referentes!AH1550,\" \",referentes!AI1550,\" \",\" \"),CONCATENATE(referentes!AH1550,\" \",referentes!AI1550,\" \",referentes!AC1550))))","v":""},{"$f":"IF(referentes!AB1550=\"\",\"\",referentes!AB1550)","v":""}]
[null,null,null,null,null,null,null,null,null,null,null,null,null,null,null,{"$f":"IF(referentes!AC1551=\"\",\"\",IF(referentes!AC1551=referentes!AH1551,CONCATENATE(referentes!AC1551,\" \",\" \",\" \",\" \"),IF(referentes!AC1551=referentes!AI1551,CONCATENATE(referentes!AH1551,\" \",referentes!AI1551,\" \",\" \"),CONCATENATE(referentes!AH1551,\" \",referentes!AI1551,\" \",referentes!AC1551))))","v":""},{"$f":"IF(referentes!AB1551=\"\",\"\",referentes!AB1551)","v":""}]
[null,null,null,null,null,null,null,null,null,null,null,null,null,null,null,{"$f":"IF(referentes!AC1552=\"\",\"\",IF(referentes!AC1552=referentes!AH1552,CONCATENATE(referentes!AC1552,\" \",\" \",\" \",\" \"),IF(referentes!AC1552=referentes!AI1552,CONCATENATE(referentes!AH1552,\" \",referentes!AI1552,\" \",\" \"),CONCATENATE(referentes!AH1552,\" \",referentes!AI1552,\" \",referentes!AC1552))))","v":""},{"$f":"IF(referentes!AB1552=\"\",\"\",referentes!AB1552)","v":""}]
[null,null,null,null,null,null,null,null,null,null,null,null,null,null,null,{"$f":"IF(referentes!AC1553=\"\",\"\",IF(referentes!AC1553=referentes!AH1553,CONCATENATE(referentes!AC1553,\" \",\" \",\" \",\" \"),IF(referentes!AC1553=referentes!AI1553,CONCATENATE(referentes!AH1553,\" \",referentes!AI1553,\" \",\" \"),CONCATENATE(referentes!AH1553,\" \",referentes!AI1553,\" \",referentes!AC1553))))","v":""},{"$f":"IF(referentes!AB1553=\"\",\"\",referentes!AB1553)","v":""}]
[null,null,null,null,null,null,null,null,null,null,null,null,null,null,null,{"$f":"IF(referentes!AC1554=\"\",\"\",IF(referentes!AC1554=referentes!AH1554,CONCATENATE(referentes!AC1554,\" \",\" \",\" \",\" \"),IF(referentes!AC1554=referentes!AI1554,CONCATENATE(referentes!AH1554,\" \",referentes!AI1554,\" \",\" \"),CONCATENATE(referentes!AH1554,\" \",referentes!AI1554,\" \",referentes!AC1554))))","v":""},{"$f":"IF(referentes!AB1554=\"\",\"\",referentes!AB1554)","v":""}]
[null,null,null,null,null,null,null,null,null,null,null,null,null,null,null,{"$f":"IF(referentes!AC1555=\"\",\"\",IF(referentes!AC1555=referentes!AH1555,CONCATENATE(referentes!AC1555,\" \",\" \",\" \",\" \"),IF(referentes!AC1555=referentes!AI1555,CONCATENATE(referentes!AH1555,\" \",referentes!AI1555,\" \",\" \"),CONCATENATE(referentes!AH1555,\" \",referentes!AI1555,\" \",referentes!AC1555))))","v":""},{"$f":"IF(referentes!AB1555=\"\",\"\",referentes!AB1555)","v":""}]
[null,null,null,null,null,null,null,null,null,null,null,null,null,null,null,{"$f":"IF(referentes!AC1556=\"\",\"\",IF(referentes!AC1556=referentes!AH1556,CONCATENATE(referentes!AC1556,\" \",\" \",\" \",\" \"),IF(referentes!AC1556=referentes!AI1556,CONCATENATE(referentes!AH1556,\" \",referentes!AI1556,\" \",\" \"),CONCATENATE(referentes!AH1556,\" \",referentes!AI1556,\" \",referentes!AC1556))))","v":""},{"$f":"IF(referentes!AB1556=\"\",\"\",referentes!AB1556)","v":""}]
[null,null,null,null,null,null,null,null,null,null,null,null,null,null,null,{"$f":"IF(referentes!AC1557=\"\",\"\",IF(referentes!AC1557=referentes!AH1557,CONCATENATE(referentes!AC1557,\" \",\" \",\" \",\" \"),IF(referentes!AC1557=referentes!AI1557,CONCATENATE(referentes!AH1557,\" \",referentes!AI1557,\" \",\" \"),CONCATENATE(referentes!AH1557,\" \",referentes!AI1557,\" \",referentes!AC1557))))","v":""},{"$f":"IF(referentes!AB1557=\"\",\"\",referentes!AB1557)","v":""}]
[null,null,null,null,null,null,null,null,null,null,null,null,null,null,null,{"$f":"IF(referentes!AC1558=\"\",\"\",IF(referentes!AC1558=referentes!AH1558,CONCATENATE(referentes!AC1558,\" \",\" \",\" \",\" \"),IF(referentes!AC1558=referentes!AI1558,CONCATENATE(referentes!AH1558,\" \",referentes!AI1558,\" \",\" \"),CONCATENATE(referentes!AH1558,\" \",referentes!AI1558,\" \",referentes!AC1558))))","v":""},{"$f":"IF(referentes!AB1558=\"\",\"\",referentes!AB1558)","v":""}]
[null,null,null,null,null,null,null,null,null,null,null,null,null,null,null,{"$f":"IF(referentes!AC1559=\"\",\"\",IF(referentes!AC1559=referentes!AH1559,CONCATENATE(referentes!AC1559,\" \",\" \",\" \",\" \"),IF(referentes!AC1559=referentes!AI1559,CONCATENATE(referentes!AH1559,\" \",referentes!AI1559,\" \",\" \"),CONCATENATE(referentes!AH1559,\" \",referentes!AI1559,\" \",referentes!AC1559))))","v":""},{"$f":"IF(referentes!AB1559=\"\",\"\",referentes!AB1559)","v":""}]
[null,null,null,null,null,null,null,null,null,null,null,null,null,null,null,{"$f":"IF(referentes!AC1560=\"\",\"\",IF(referentes!AC1560=referentes!AH1560,CONCATENATE(referentes!AC1560,\" \",\" \",\" \",\" \"),IF(referentes!AC1560=referentes!AI1560,CONCATENATE(referentes!AH1560,\" \",referentes!AI1560,\" \",\" \"),CONCATENATE(referentes!AH1560,\" \",referentes!AI1560,\" \",referentes!AC1560))))","v":""},{"$f":"IF(referentes!AB1560=\"\",\"\",referentes!AB1560)","v":""}]
[null,null,null,null,null,null,null,null,null,null,null,null,null,null,null,{"$f":"IF(referentes!AC1561=\"\",\"\",IF(referentes!AC1561=referentes!AH1561,CONCATENATE(referentes!AC1561,\" \",\" \",\" \",\" \"),IF(referentes!AC1561=referentes!AI1561,CONCATENATE(referentes!AH1561,\" \",referentes!AI1561,\" \",\" \"),CONCATENATE(referentes!AH1561,\" \",referentes!AI1561,\" \",referentes!AC1561))))","v":""},{"$f":"IF(referentes!AB1561=\"\",\"\",referentes!AB1561)","v":""}]
[null,null,null,null,null,null,null,null,null,null,null,null,null,null,null,{"$f":"IF(referentes!AC1562=\"\",\"\",IF(referentes!AC1562=referentes!AH1562,CONCATENATE(referentes!AC1562,\" \",\" \",\" \",\" \"),IF(referentes!AC1562=referentes!AI1562,CONCATENATE(referentes!AH1562,\" \",referentes!AI1562,\" \",\" \"),CONCATENATE(referentes!AH1562,\" \",referentes!AI1562,\" \",referentes!AC1562))))","v":""},{"$f":"IF(referentes!AB1562=\"\",\"\",referentes!AB1562)","v":""}]
[null,null,null,null,null,null,null,null,null,null,null,null,null,null,null,{"$f":"IF(referentes!AC1563=\"\",\"\",IF(referentes!AC1563=referentes!AH1563,CONCATENATE(referentes!AC1563,\" \",\" \",\" \",\" \"),IF(referentes!AC1563=referentes!AI1563,CONCATENATE(referentes!AH1563,\" \",referentes!AI1563,\" \",\" \"),CONCATENATE(referentes!AH1563,\" \",referentes!AI1563,\" \",referentes!AC1563))))","v":""},{"$f":"IF(referentes!AB1563=\"\",\"\",referentes!AB1563)","v":""}]
[null,null,null,null,null,null,null,null,null,null,null,null,null,null,null,{"$f":"IF(referentes!AC1564=\"\",\"\",IF(referentes!AC1564=referentes!AH1564,CONCATENATE(referentes!AC1564,\" \",\" \",\" \",\" \"),IF(referentes!AC1564=referentes!AI1564,CONCATENATE(referentes!AH1564,\" \",referentes!AI1564,\" \",\" \"),CONCATENATE(referentes!AH1564,\" \",referentes!AI1564,\" \",referentes!AC1564))))","v":""},{"$f":"IF(referentes!AB1564=\"\",\"\",referentes!AB1564)","v":""}]
[null,null,null,null,null,null,null,null,null,null,null,null,null,null,null,{"$f":"IF(referentes!AC1565=\"\",\"\",IF(referentes!AC1565=referentes!AH1565,CONCATENATE(referentes!AC1565,\" \",\" \",\" \",\" \"),IF(referentes!AC1565=referentes!AI1565,CONCATENATE(referentes!AH1565,\" \",referentes!AI1565,\" \",\" \"),CONCATENATE(referentes!AH1565,\" \",referentes!AI1565,\" \",referentes!AC1565))))","v":""},{"$f":"IF(referentes!AB1565=\"\",\"\",referentes!AB1565)","v":""}]
[null,null,null,null,null,null,null,null,null,null,null,null,null,null,null,{"$f":"IF(referentes!AC1566=\"\",\"\",IF(referentes!AC1566=referentes!AH1566,CONCATENATE(referentes!AC1566,\" \",\" \",\" \",\" \"),IF(referentes!AC1566=referentes!AI1566,CONCATENATE(referentes!AH1566,\" \",referentes!AI1566,\" \",\" \"),CONCATENATE(referentes!AH1566,\" \",referentes!AI1566,\" \",referentes!AC1566))))","v":""},{"$f":"IF(referentes!AB1566=\"\",\"\",referentes!AB1566)","v":""}]
[null,null,null,null,null,null,null,null,null,null,null,null,null,null,null,{"$f":"IF(referentes!AC1567=\"\",\"\",IF(referentes!AC1567=referentes!AH1567,CONCATENATE(referentes!AC1567,\" \",\" \",\" \",\" \"),IF(referentes!AC1567=referentes!AI1567,CONCATENATE(referentes!AH1567,\" \",referentes!AI1567,\" \",\" \"),CONCATENATE(referentes!AH1567,\" \",referentes!AI1567,\" \",referentes!AC1567))))","v":""},{"$f":"IF(referentes!AB1567=\"\",\"\",referentes!AB1567)","v":""}]
[null,null,null,null,null,null,null,null,null,null,null,null,null,null,null,{"$f":"IF(referentes!AC1568=\"\",\"\",IF(referentes!AC1568=referentes!AH1568,CONCATENATE(referentes!AC1568,\" \",\" \",\" \",\" \"),IF(referentes!AC1568=referentes!AI1568,CONCATENATE(referentes!AH1568,\" \",referentes!AI1568,\" \",\" \"),CONCATENATE(referentes!AH1568,\" \",referentes!AI1568,\" \",referentes!AC1568))))","v":""},{"$f":"IF(referentes!AB1568=\"\",\"\",referentes!AB1568)","v":""}]
[null,null,null,null,null,null,null,null,null,null,null,null,null,null,null,{"$f":"IF(referentes!AC1569=\"\",\"\",IF(referentes!AC1569=referentes!AH1569,CONCATENATE(referentes!AC1569,\" \",\" \",\" \",\" \"),IF(referentes!AC1569=referentes!AI1569,CONCATENATE(referentes!AH1569,\" \",referentes!AI1569,\" \",\" \"),CONCATENATE(referentes!AH1569,\" \",referentes!AI1569,\" \",referentes!AC1569))))","v":""},{"$f":"IF(referentes!AB1569=\"\",\"\",referentes!AB1569)","v":""}]
[null,null,null,null,null,null,null,null,null,null,null,null,null,null,null,{"$f":"IF(referentes!AC1570=\"\",\"\",IF(referentes!AC1570=referentes!AH1570,CONCATENATE(referentes!AC1570,\" \",\" \",\" \",\" \"),IF(referentes!AC1570=referentes!AI1570,CONCATENATE(referentes!AH1570,\" \",referentes!AI1570,\" \",\" \"),CONCATENATE(referentes!AH1570,\" \",referentes!AI1570,\" \",referentes!AC1570))))","v":""},{"$f":"IF(referentes!AB1570=\"\",\"\",referentes!AB1570)","v":""}]
[null,null,null,null,null,null,null,null,null,null,null,null,null,null,null,{"$f":"IF(referentes!AC1571=\"\",\"\",IF(referentes!AC1571=referentes!AH1571,CONCATENATE(referentes!AC1571,\" \",\" \",\" \",\" \"),IF(referentes!AC1571=referentes!AI1571,CONCATENATE(referentes!AH1571,\" \",referentes!AI1571,\" \",\" \"),CONCATENATE(referentes!AH1571,\" \",referentes!AI1571,\" \",referentes!AC1571))))","v":""},{"$f":"IF(referentes!AB1571=\"\",\"\",referentes!AB1571)","v":""}]
[null,null,null,null,null,null,null,null,null,null,null,null,null,null,null,{"$f":"IF(referentes!AC1572=\"\",\"\",IF(referentes!AC1572=referentes!AH1572,CONCATENATE(referentes!AC1572,\" \",\" \",\" \",\" \"),IF(referentes!AC1572=referentes!AI1572,CONCATENATE(referentes!AH1572,\" \",referentes!AI1572,\" \",\" \"),CONCATENATE(referentes!AH1572,\" \",referentes!AI1572,\" \",referentes!AC1572))))","v":""},{"$f":"IF(referentes!AB1572=\"\",\"\",referentes!AB1572)","v":""}]
[null,null,null,null,null,null,null,null,null,null,null,null,null,null,null,{"$f":"IF(referentes!AC1573=\"\",\"\",IF(referentes!AC1573=referentes!AH1573,CONCATENATE(referentes!AC1573,\" \",\" \",\" \",\" \"),IF(referentes!AC1573=referentes!AI1573,CONCATENATE(referentes!AH1573,\" \",referentes!AI1573,\" \",\" \"),CONCATENATE(referentes!AH1573,\" \",referentes!AI1573,\" \",referentes!AC1573))))","v":""},{"$f":"IF(referentes!AB1573=\"\",\"\",referentes!AB1573)","v":""}]
[null,null,null,null,null,null,null,null,null,null,null,null,null,null,null,{"$f":"IF(referentes!AC1574=\"\",\"\",IF(referentes!AC1574=referentes!AH1574,CONCATENATE(referentes!AC1574,\" \",\" \",\" \",\" \"),IF(referentes!AC1574=referentes!AI1574,CONCATENATE(referentes!AH1574,\" \",referentes!AI1574,\" \",\" \"),CONCATENATE(referentes!AH1574,\" \",referentes!AI1574,\" \",referentes!AC1574))))","v":""},{"$f":"IF(referentes!AB1574=\"\",\"\",referentes!AB1574)","v":""}]
[null,null,null,null,null,null,null,null,null,null,null,null,null,null,null,{"$f":"IF(referentes!AC1575=\"\",\"\",IF(referentes!AC1575=referentes!AH1575,CONCATENATE(referentes!AC1575,\" \",\" \",\" \",\" \"),IF(referentes!AC1575=referentes!AI1575,CONCATENATE(referentes!AH1575,\" \",referentes!AI1575,\" \",\" \"),CONCATENATE(referentes!AH1575,\" \",referentes!AI1575,\" \",referentes!AC1575))))","v":""},{"$f":"IF(referentes!AB1575=\"\",\"\",referentes!AB1575)","v":""}]
[null,null,null,null,null,null,null,null,null,null,null,null,null,null,null,{"$f":"IF(referentes!AC1576=\"\",\"\",IF(referentes!AC1576=referentes!AH1576,CONCATENATE(referentes!AC1576,\" \",\" \",\" \",\" \"),IF(referentes!AC1576=referentes!AI1576,CONCATENATE(referentes!AH1576,\" \",referentes!AI1576,\" \",\" \"),CONCATENATE(referentes!AH1576,\" \",referentes!AI1576,\" \",referentes!AC1576))))","v":""},{"$f":"IF(referentes!AB1576=\"\",\"\",referentes!AB1576)","v":""}]
[null,null,null,null,null,null,null,null,null,null,null,null,null,null,null,{"$f":"IF(referentes!AC1577=\"\",\"\",IF(referentes!AC1577=referentes!AH1577,CONCATENATE(referentes!AC1577,\" \",\" \",\" \",\" \"),IF(referentes!AC1577=referentes!AI1577,CONCATENATE(referentes!AH1577,\" \",referentes!AI1577,\" \",\" \"),CONCATENATE(referentes!AH1577,\" \",referentes!AI1577,\" \",referentes!AC1577))))","v":""},{"$f":"IF(referentes!AB1577=\"\",\"\",referentes!AB1577)","v":""}]
[null,null,null,null,null,null,null,null,null,null,null,null,null,null,null,{"$f":"IF(referentes!AC1578=\"\",\"\",IF(referentes!AC1578=referentes!AH1578,CONCATENATE(referentes!AC1578,\" \",\" \",\" \",\" \"),IF(referentes!AC1578=referentes!AI1578,CONCATENATE(referentes!AH1578,\" \",referentes!AI1578,\" \",\" \"),CONCATENATE(referentes!AH1578,\" \",referentes!AI1578,\" \",referentes!AC1578))))","v":""},{"$f":"IF(referentes!AB1578=\"\",\"\",referentes!AB1578)","v":""}]
[null,null,null,null,null,null,null,null,null,null,null,null,null,null,null,{"$f":"IF(referentes!AC1579=\"\",\"\",IF(referentes!AC1579=referentes!AH1579,CONCATENATE(referentes!AC1579,\" \",\" \",\" \",\" \"),IF(referentes!AC1579=referentes!AI1579,CONCATENATE(referentes!AH1579,\" \",referentes!AI1579,\" \",\" \"),CONCATENATE(referentes!AH1579,\" \",referentes!AI1579,\" \",referentes!AC1579))))","v":""},{"$f":"IF(referentes!AB1579=\"\",\"\",referentes!AB1579)","v":""}]
[null,null,null,null,null,null,null,null,null,null,null,null,null,null,null,{"$f":"IF(referentes!AC1580=\"\",\"\",IF(referentes!AC1580=referentes!AH1580,CONCATENATE(referentes!AC1580,\" \",\" \",\" \",\" \"),IF(referentes!AC1580=referentes!AI1580,CONCATENATE(referentes!AH1580,\" \",referentes!AI1580,\" \",\" \"),CONCATENATE(referentes!AH1580,\" \",referentes!AI1580,\" \",referentes!AC1580))))","v":""},{"$f":"IF(referentes!AB1580=\"\",\"\",referentes!AB1580)","v":""}]
[null,null,null,null,null,null,null,null,null,null,null,null,null,null,null,{"$f":"IF(referentes!AC1581=\"\",\"\",IF(referentes!AC1581=referentes!AH1581,CONCATENATE(referentes!AC1581,\" \",\" \",\" \",\" \"),IF(referentes!AC1581=referentes!AI1581,CONCATENATE(referentes!AH1581,\" \",referentes!AI1581,\" \",\" \"),CONCATENATE(referentes!AH1581,\" \",referentes!AI1581,\" \",referentes!AC1581))))","v":""},{"$f":"IF(referentes!AB1581=\"\",\"\",referentes!AB1581)","v":""}]
[null,null,null,null,null,null,null,null,null,null,null,null,null,null,null,{"$f":"IF(referentes!AC1582=\"\",\"\",IF(referentes!AC1582=referentes!AH1582,CONCATENATE(referentes!AC1582,\" \",\" \",\" \",\" \"),IF(referentes!AC1582=referentes!AI1582,CONCATENATE(referentes!AH1582,\" \",referentes!AI1582,\" \",\" \"),CONCATENATE(referentes!AH1582,\" \",referentes!AI1582,\" \",referentes!AC1582))))","v":""},{"$f":"IF(referentes!AB1582=\"\",\"\",referentes!AB1582)","v":""}]
[null,null,null,null,null,null,null,null,null,null,null,null,null,null,null,{"$f":"IF(referentes!AC1583=\"\",\"\",IF(referentes!AC1583=referentes!AH1583,CONCATENATE(referentes!AC1583,\" \",\" \",\" \",\" \"),IF(referentes!AC1583=referentes!AI1583,CONCATENATE(referentes!AH1583,\" \",referentes!AI1583,\" \",\" \"),CONCATENATE(referentes!AH1583,\" \",referentes!AI1583,\" \",referentes!AC1583))))","v":""},{"$f":"IF(referentes!AB1583=\"\",\"\",referentes!AB1583)","v":""}]
[null,null,null,null,null,null,null,null,null,null,null,null,null,null,null,{"$f":"IF(referentes!AC1584=\"\",\"\",IF(referentes!AC1584=referentes!AH1584,CONCATENATE(referentes!AC1584,\" \",\" \",\" \",\" \"),IF(referentes!AC1584=referentes!AI1584,CONCATENATE(referentes!AH1584,\" \",referentes!AI1584,\" \",\" \"),CONCATENATE(referentes!AH1584,\" \",referentes!AI1584,\" \",referentes!AC1584))))","v":""},{"$f":"IF(referentes!AB1584=\"\",\"\",referentes!AB1584)","v":""}]
[null,null,null,null,null,null,null,null,null,null,null,null,null,null,null,{"$f":"IF(referentes!AC1585=\"\",\"\",IF(referentes!AC1585=referentes!AH1585,CONCATENATE(referentes!AC1585,\" \",\" \",\" \",\" \"),IF(referentes!AC1585=referentes!AI1585,CONCATENATE(referentes!AH1585,\" \",referentes!AI1585,\" \",\" \"),CONCATENATE(referentes!AH1585,\" \",referentes!AI1585,\" \",referentes!AC1585))))","v":""},{"$f":"IF(referentes!AB1585=\"\",\"\",referentes!AB1585)","v":""}]
[null,null,null,null,null,null,null,null,null,null,null,null,null,null,null,{"$f":"IF(referentes!AC1586=\"\",\"\",IF(referentes!AC1586=referentes!AH1586,CONCATENATE(referentes!AC1586,\" \",\" \",\" \",\" \"),IF(referentes!AC1586=referentes!AI1586,CONCATENATE(referentes!AH1586,\" \",referentes!AI1586,\" \",\" \"),CONCATENATE(referentes!AH1586,\" \",referentes!AI1586,\" \",referentes!AC1586))))","v":""},{"$f":"IF(referentes!AB1586=\"\",\"\",referentes!AB1586)","v":""}]
[null,null,null,null,null,null,null,null,null,null,null,null,null,null,null,{"$f":"IF(referentes!AC1587=\"\",\"\",IF(referentes!AC1587=referentes!AH1587,CONCATENATE(referentes!AC1587,\" \",\" \",\" \",\" \"),IF(referentes!AC1587=referentes!AI1587,CONCATENATE(referentes!AH1587,\" \",referentes!AI1587,\" \",\" \"),CONCATENATE(referentes!AH1587,\" \",referentes!AI1587,\" \",referentes!AC1587))))","v":""},{"$f":"IF(referentes!AB1587=\"\",\"\",referentes!AB1587)","v":""}]
[null,null,null,null,null,null,null,null,null,null,null,null,null,null,null,{"$f":"IF(referentes!AC1588=\"\",\"\",IF(referentes!AC1588=referentes!AH1588,CONCATENATE(referentes!AC1588,\" \",\" \",\" \",\" \"),IF(referentes!AC1588=referentes!AI1588,CONCATENATE(referentes!AH1588,\" \",referentes!AI1588,\" \",\" \"),CONCATENATE(referentes!AH1588,\" \",referentes!AI1588,\" \",referentes!AC1588))))","v":""},{"$f":"IF(referentes!AB1588=\"\",\"\",referentes!AB1588)","v":""}]
[null,null,null,null,null,null,null,null,null,null,null,null,null,null,null,{"$f":"IF(referentes!AC1589=\"\",\"\",IF(referentes!AC1589=referentes!AH1589,CONCATENATE(referentes!AC1589,\" \",\" \",\" \",\" \"),IF(referentes!AC1589=referentes!AI1589,CONCATENATE(referentes!AH1589,\" \",referentes!AI1589,\" \",\" \"),CONCATENATE(referentes!AH1589,\" \",referentes!AI1589,\" \",referentes!AC1589))))","v":""},{"$f":"IF(referentes!AB1589=\"\",\"\",referentes!AB1589)","v":""}]
[null,null,null,null,null,null,null,null,null,null,null,null,null,null,null,{"$f":"IF(referentes!AC1590=\"\",\"\",IF(referentes!AC1590=referentes!AH1590,CONCATENATE(referentes!AC1590,\" \",\" \",\" \",\" \"),IF(referentes!AC1590=referentes!AI1590,CONCATENATE(referentes!AH1590,\" \",referentes!AI1590,\" \",\" \"),CONCATENATE(referentes!AH1590,\" \",referentes!AI1590,\" \",referentes!AC1590))))","v":""},{"$f":"IF(referentes!AB1590=\"\",\"\",referentes!AB1590)","v":""}]
[null,null,null,null,null,null,null,null,null,null,null,null,null,null,null,{"$f":"IF(referentes!AC1591=\"\",\"\",IF(referentes!AC1591=referentes!AH1591,CONCATENATE(referentes!AC1591,\" \",\" \",\" \",\" \"),IF(referentes!AC1591=referentes!AI1591,CONCATENATE(referentes!AH1591,\" \",referentes!AI1591,\" \",\" \"),CONCATENATE(referentes!AH1591,\" \",referentes!AI1591,\" \",referentes!AC1591))))","v":""},{"$f":"IF(referentes!AB1591=\"\",\"\",referentes!AB1591)","v":""}]
[null,null,null,null,null,null,null,null,null,null,null,null,null,null,null,{"$f":"IF(referentes!AC1592=\"\",\"\",IF(referentes!AC1592=referentes!AH1592,CONCATENATE(referentes!AC1592,\" \",\" \",\" \",\" \"),IF(referentes!AC1592=referentes!AI1592,CONCATENATE(referentes!AH1592,\" \",referentes!AI1592,\" \",\" \"),CONCATENATE(referentes!AH1592,\" \",referentes!AI1592,\" \",referentes!AC1592))))","v":""},{"$f":"IF(referentes!AB1592=\"\",\"\",referentes!AB1592)","v":""}]
[null,null,null,null,null,null,null,null,null,null,null,null,null,null,null,{"$f":"IF(referentes!AC1593=\"\",\"\",IF(referentes!AC1593=referentes!AH1593,CONCATENATE(referentes!AC1593,\" \",\" \",\" \",\" \"),IF(referentes!AC1593=referentes!AI1593,CONCATENATE(referentes!AH1593,\" \",referentes!AI1593,\" \",\" \"),CONCATENATE(referentes!AH1593,\" \",referentes!AI1593,\" \",referentes!AC1593))))","v":""},{"$f":"IF(referentes!AB1593=\"\",\"\",referentes!AB1593)","v":""}]
[null,null,null,null,null,null,null,null,null,null,null,null,null,null,null,{"$f":"IF(referentes!AC1594=\"\",\"\",IF(referentes!AC1594=referentes!AH1594,CONCATENATE(referentes!AC1594,\" \",\" \",\" \",\" \"),IF(referentes!AC1594=referentes!AI1594,CONCATENATE(referentes!AH1594,\" \",referentes!AI1594,\" \",\" \"),CONCATENATE(referentes!AH1594,\" \",referentes!AI1594,\" \",referentes!AC1594))))","v":""},{"$f":"IF(referentes!AB1594=\"\",\"\",referentes!AB1594)","v":""}]
[null,null,null,null,null,null,null,null,null,null,null,null,null,null,null,{"$f":"IF(referentes!AC1595=\"\",\"\",IF(referentes!AC1595=referentes!AH1595,CONCATENATE(referentes!AC1595,\" \",\" \",\" \",\" \"),IF(referentes!AC1595=referentes!AI1595,CONCATENATE(referentes!AH1595,\" \",referentes!AI1595,\" \",\" \"),CONCATENATE(referentes!AH1595,\" \",referentes!AI1595,\" \",referentes!AC1595))))","v":""},{"$f":"IF(referentes!AB1595=\"\",\"\",referentes!AB1595)","v":""}]
[null,null,null,null,null,null,null,null,null,null,null,null,null,null,null,{"$f":"IF(referentes!AC1596=\"\",\"\",IF(referentes!AC1596=referentes!AH1596,CONCATENATE(referentes!AC1596,\" \",\" \",\" \",\" \"),IF(referentes!AC1596=referentes!AI1596,CONCATENATE(referentes!AH1596,\" \",referentes!AI1596,\" \",\" \"),CONCATENATE(referentes!AH1596,\" \",referentes!AI1596,\" \",referentes!AC1596))))","v":""},{"$f":"IF(referentes!AB1596=\"\",\"\",referentes!AB1596)","v":""}]
[null,null,null,null,null,null,null,null,null,null,null,null,null,null,null,{"$f":"IF(referentes!AC1597=\"\",\"\",IF(referentes!AC1597=referentes!AH1597,CONCATENATE(referentes!AC1597,\" \",\" \",\" \",\" \"),IF(referentes!AC1597=referentes!AI1597,CONCATENATE(referentes!AH1597,\" \",referentes!AI1597,\" \",\" \"),CONCATENATE(referentes!AH1597,\" \",referentes!AI1597,\" \",referentes!AC1597))))","v":""},{"$f":"IF(referentes!AB1597=\"\",\"\",referentes!AB1597)","v":""}]
[null,null,null,null,null,null,null,null,null,null,null,null,null,null,null,{"$f":"IF(referentes!AC1598=\"\",\"\",IF(referentes!AC1598=referentes!AH1598,CONCATENATE(referentes!AC1598,\" \",\" \",\" \",\" \"),IF(referentes!AC1598=referentes!AI1598,CONCATENATE(referentes!AH1598,\" \",referentes!AI1598,\" \",\" \"),CONCATENATE(referentes!AH1598,\" \",referentes!AI1598,\" \",referentes!AC1598))))","v":""},{"$f":"IF(referentes!AB1598=\"\",\"\",referentes!AB1598)","v":""}]
[null,null,null,null,null,null,null,null,null,null,null,null,null,null,null,{"$f":"IF(referentes!AC1599=\"\",\"\",IF(referentes!AC1599=referentes!AH1599,CONCATENATE(referentes!AC1599,\" \",\" \",\" \",\" \"),IF(referentes!AC1599=referentes!AI1599,CONCATENATE(referentes!AH1599,\" \",referentes!AI1599,\" \",\" \"),CONCATENATE(referentes!AH1599,\" \",referentes!AI1599,\" \",referentes!AC1599))))","v":""},{"$f":"IF(referentes!AB1599=\"\",\"\",referentes!AB1599)","v":""}]
[null,null,null,null,null,null,null,null,null,null,null,null,null,null,null,{"$f":"IF(referentes!AC1600=\"\",\"\",IF(referentes!AC1600=referentes!AH1600,CONCATENATE(referentes!AC1600,\" \",\" \",\" \",\" \"),IF(referentes!AC1600=referentes!AI1600,CONCATENATE(referentes!AH1600,\" \",referentes!AI1600,\" \",\" \"),CONCATENATE(referentes!AH1600,\" \",referentes!AI1600,\" \",referentes!AC1600))))","v":""},{"$f":"IF(referentes!AB1600=\"\",\"\",referentes!AB1600)","v":""}]

{"sheet":"AGD_MUESTREOS","index":6,"n_rows":0,"n_cols":0,"rows_kept":0,"cut":false,"hidden":true,"merged":[]}

{"sheet":"AGD_PARAMETRO","index":7,"n_rows":0,"n_cols":0,"rows_kept":0,"cut":false,"hidden":true,"merged":[]}

{"sheet":"AGD_MUESTRAS","index":8,"n_rows":0,"n_cols":0,"rows_kept":0,"cut":false,"hidden":true,"merged":[]}

{"sheet":"AGD_MUESTRAS_VARIABLES","index":9,"n_rows":0,"n_cols":0,"rows_kept":0,"cut":false,"hidden":true,"merged":[]}

{"sheet":"AGD_AUTORIAS","index":10,"n_rows":0,"n_cols":0,"rows_kept":0,"cut":false,"hidden":true,"merged":[]}